{"text_format":"3","workbook":"xlsx","n_sheets":8,"sheets":["VETS-700 Planned Goals","VETS-701 Tech Perf Report","VETS-701A Demographics Summary","VETS-701B Participant Info","VETS-701C Enter Exiter Info Q1","VETS-701D Enter Exiter Info Q2","VETS-701E Enter Exiter Info Q3","VETS-701F Enter Exiter Info Q4"],"not_rendered":{"images":1,"macros":1,"defined_names":7,"comments":3},"read":"whole","date_system":"1900"}

{"sheet":"VETS-700 Planned Goals","index":0,"n_rows":69,"n_cols":18,"rows_kept":69,"merged":[[3,1,7,10],[10,1,10,10],[11,1,11,10],[12,1,12,4],[13,2,13,3],[13,6,13,7],[14,6,14,7],[15,2,15,3],[17,2,17,5],[70,1,70,4]]}
[{"$nulls":10},"OMB Approval 1293-NEW"]
[{"$nulls":10},"Expires xx/xx/20xx"]
[]
[null,"Public Burden Statement - According to the Paperwork Reduction Act of 1995, no persons are required to respond to a collection of information unless such collection displays a valid OMB control number.  The valid OMB control number for this information collection is 1293-NEW.  The time required to complete this information collection is 1 hour per response, including the time to review instructions, search existing data sources, gather the data needed, and complete and review the information collection.  The obligation to respond is required to obtain or retain a benefit (38 U.S.C. 2021 and 2023). If you have any comments concerning the accuracy of the time estimate(s) or suggestions for improving this form, please write to:  U.S. Department of Labor, Veterans' Employment and Training Service, 200 Constitution Avenue, N.W., Washington D.C. 20210.  "]
[]
[]
[]
[]
[]
[null,null,"            United States Department of Labor"]
[null,"Veterans' Employment and Training Service"]
[null,"Competitive Grants Planned Goals by Quarter"]
[null,"PLEASE NOTE:  Use the \"Tab\" key to navigate.  Incorrect entries appear in a red font.\n"]
[null,"Grantee Name:","Enter name here",null,"Period of Performance:",null," "]
[{"$nulls":4},"Grant Request Amount:",null," "]
[null,"Grant #:","Enter grant # here"]
[{"$nulls":3},"All Data entered NON-Cumulative",{"$nulls":13}," "]
[null,null,"                   Quarterly Goals (Not Cumulative)",{"$nulls":3},"90 day F/U","180 day F/U","270 day F/U","365 day Final"]
["1.","Planned Performance","1st ","2nd","3rd","4th","5th","6th","7th","8th","Total"]
["a.","# of Assessments",0,0,0,0,{"$nulls":4},{"$f":"SUM(C20:F20)","v":0},{"$nulls":6}," "]
["b.","# of Participants Enrolled",0,0,0,0,{"$nulls":4},{"$f":"SUM(C21:F21)","v":0},{"$nulls":6},{"$f":"IF('VETS-701 Tech Perf Report'!$I$7=\"Q1 July 1 - September 30\",C21,IF('VETS-701 Tech Perf Report'!$I$7=\"Q2 October 1 - December 31\",C21+D21,IF('VETS-701 Tech Perf Report'!$I$7=\"Q3 January 1 - March 31\",C21+D21+E21,IF('VETS-701 Tech Perf Report'!$I$7>=\"Q4 April 1 - June 30\",C21+D21+E21+F21,0))))","v":0}]
["c.","# Placed in Trans.or Perm Housing",0,0,0,0,{"$nulls":4},0]
["d.","# Referred to VA for Benefits",0,0,0,0,{"$nulls":4},0]
["e.","# Placed into Employment",0,0,0,0,{"$nulls":4},0,{"$nulls":6},{"$f":"IF('VETS-701 Tech Perf Report'!$I$7=\"Q1 July 1 - September 30\",C24,IF('VETS-701 Tech Perf Report'!$I$7=\"Q2 October 1 - December 31\",C24+D24,IF('VETS-701 Tech Perf Report'!$I$7=\"Q3 January 1 - March 31\",C24+D24+E24,IF('VETS-701 Tech Perf Report'!$I$7>=\"Q4 April 1 - June 30\",C24+D24+E24+F24,0))))","v":0}]
["f.","Average Hourly Wage at Placement",{"v":0,"d":"$0.00"},{"v":0,"d":"$0.00"},{"v":0,"d":"$0.00"},{"v":0,"d":"$0.00"},{"$nulls":4},{"$f":"IF(SUM(C24:F24)>0,((C24*C25)+(D24*D25)+(E24*E25)+(F24*F25))/SUM(C24:F24),0)","v":{"v":0,"d":"$0.00"}},{"$nulls":6},{"$f":"IF('VETS-701 Tech Perf Report'!$I$7=\"Q1 July 1 - September 30\",C25,IF('VETS-701 Tech Perf Report'!$I$7=\"Q2 October 1 - December 31\",((C25*C24)+(D25*D24))/(C24+D24),IF('VETS-701 Tech Perf Report'!$I$7=\"Q3 January 1 - March 31\",((C25*C24)+(D25*D24)+(E25*E24))/(C24+D24+E24),IF('VETS-701 Tech Perf Report'!$I$7>=\"Q4 April 1 - June 30\",((C25*C24)+(D25*D24)+(E25*E24)+(F25*F24))/(C24+D24+E24+F24),0))))","v":{"v":0,"d":"$0.00"}}]
["g.","Placement Rate (Calculated)",{"$f":"C24/C21","v":{"$error":"#DIV/0!"}},{"$f":"D24/D21","v":{"$error":"#DIV/0!"}},{"$error":"#DIV/0!"},{"$error":"#DIV/0!"},{"$nulls":4},{"$f":"IF(K21>0,SUM(K24/K21),0)","v":{"v":0,"d":"0%"}},{"$nulls":6},{"$f":"IF('VETS-701 Tech Perf Report'!$I$7=\"Q1 July 1 - September 30\",(C24/C21),IF('VETS-701 Tech Perf Report'!$I$7=\"Q2 October 1 - December 31\",(C24+D24)/(C21+D21),IF('VETS-701 Tech Perf Report'!$I$7=\"Q3 January 1 - March 31\",(C24+D24+E24)/(C21+D21+E21),IF('VETS-701 Tech Perf Report'!$I$7>=\"Q4 April 1 - June 30\",(C24+D24+E24+F24)/(C21+D21+E21+F21),0))))","v":{"$error":"#DIV/0!"}}]
["h.","Cost Per Placement (Calculated)",{"$f":"C65/C24","v":{"$error":"#DIV/0!"}},{"$f":"D65/D24","v":{"$error":"#DIV/0!"}},{"$error":"#DIV/0!"},{"$error":"#DIV/0!"},{"$nulls":4},{"$f":"IF(K24>0,SUM(K65/K24),0)","v":{"v":0,"d":"$0.00"}},{"$nulls":6},{"$f":"IF('VETS-701 Tech Perf Report'!$I$7=\"Q1 July 1 - September 30\",(C65/C24),IF('VETS-701 Tech Perf Report'!$I$7=\"Q2 October 1 - December 31\",(C65+D65)/(C24+D24),IF('VETS-701 Tech Perf Report'!$I$7=\"Q3 January 1 - March 31\",(C65+D65+E65)/(C24+D24+E24),IF('VETS-701 Tech Perf Report'!$I$7=\"Q4 April 1 - June 30\",(C65+D65+E65+F65)/(C24+D24+E24+F24),IF('VETS-701 Tech Perf Report'!$I$7=\"Q5 July 1 - September 30\",(C65+D65+E65+F65+G65)/(C24+D24+E24+F24+G24),IF('VETS-701 Tech Perf Report'!$I$7=\"Q6 October 1 - December 31\",(C65+D65+E65+F65+G65+H65)/(C24+D24+E24+F24+G24+G65),IF('VETS-701 Tech Perf Report'!$I$7=\"Q7 January 1 - March 31\",(C65+D65+E65+F65+G65+H65+I65)/(C24+D24+E24+F24+G24+H24+I24),IF('VETS-701 Tech Perf Report'!$I$7=\"Q8 April 1 - June 30\",(C65+D65+E65+F65+G65+H65+I65+J65)/(C24+D24+E24+F24+G24+H24+I24+J24),0))))))))","v":{"$error":"#DIV/0!"}}]
["i.","# of Exiters",0,0,0,0,{"$nulls":4},{"$f":"SUM(C28:F28)","v":0}]
["j.","# Earned Wages in 1st Quarter After Exit",null,0,0,0,0,{"$nulls":3},{"$f":"SUM(D29:G29)","v":0}]
["k.","Entered Employment Rate (Calculated)",null,{"$f":"IF(C28>0,SUM(D29/C28),0)","v":{"v":0,"d":"0.0%"}},{"$f":"IF(D28>0,SUM(E29/D28),0)","v":{"v":0,"d":"0.0%"}},{"$f":"IF(E28>0,SUM(F29/E28),0)","v":{"v":0,"d":"0.0%"}},{"$f":"IF(F28>0,SUM(G29/F28),0)","v":{"v":0,"d":"0.0%"}},{"$nulls":3},{"$f":"IF(K28>0,SUM(K29/K28),0)","v":{"v":0,"d":"0%"}},{"$nulls":6},{"$f":"IF('VETS-701 Tech Perf Report'!$I$7=\"Q2 October 1 - December 31\",(D29/C28),IF('VETS-701 Tech Perf Report'!$I$7=\"Q3 January 1 - March 31\",(E29+D29)/(C28+D28),IF('VETS-701 Tech Perf Report'!$I$7=\"Q4 April 1 - June 30\",(D29+E29+F29)/(C28+D28+E28),IF('VETS-701 Tech Perf Report'!$I$7>=\"Q5 July 1 - September 30\",(D29+E29+F29+G29)/(C28+D28+E28+F28),0))))","v":{"v":0,"d":"0.0%"}}]
["l.","# Earned Wages in 1st and 2nd Quarters After Exit",null,null,0,0,0,0,null,null,{"$f":"SUM(E31:H31)","v":0},{"$nulls":6}," "]
["m.","# Earned Wages in 1st, 2nd and 3rd Quarters After Exit",{"$nulls":3},0,0,0,0,null,{"$f":"SUM(F32:I32)","v":0}]
["n.","WIA Employment Retention Rate (Calculated)",{"$nulls":3},{"$f":"SUM(F32/D29)","v":{"$error":"#DIV/0!"}},{"$f":"SUM(G32/E29)","v":{"$error":"#DIV/0!"}},{"$error":"#DIV/0!"},{"$error":"#DIV/0!"},null,{"$f":"IF(K29>0,SUM(K32/K29),0)","v":{"v":0,"d":"0%"}},{"$nulls":6},{"$f":"IF('VETS-701 Tech Perf Report'!$I$7=\"Q4 April 1 - June 30\",(F32/D29),IF('VETS-701 Tech Perf Report'!$I$7=\"Q5 July 1 - September 30\",(F32+G32)/(D29+E29),IF('VETS-701 Tech Perf Report'!$I$7=\"Q6 October 1 - December 31\",(D32+G32+H32)/(D29+E29+F29),IF('VETS-701 Tech Perf Report'!$I$7>=\"Q7 January 1 - March 31\",(F32+G32+H32+I32)/(D29+E29+F29+G29),0))))","v":{"v":0,"d":"0.0%"}}]
["p.","WIA Average 6-Month Earnings at Retention",{"$nulls":3},{"v":0,"d":"$0.00"},{"v":0,"d":"$0.00"},{"v":0,"d":"$0.00"},{"v":0,"d":"$0.00"},null,{"$f":"IF(K$32>0,SUM(F34*F$32,G34*G$32,H34*H$32,I34*I$32)/K$32,0)","v":{"v":0,"d":"$0.00"}},{"$nulls":6},{"$f":"IF('VETS-701 Tech Perf Report'!$I$7=\"Q4 April 1 - June 30\",(F34),IF('VETS-701 Tech Perf Report'!$I$7=\"Q5 July 1 - September 30\",((F34*F32)+(G34*G32))/(F32+G32),IF('VETS-701 Tech Perf Report'!$I$7=\"Q6 October 1 - December 31\",((F34*F32)+(G34*G32)+(H34*H32))/(F32+G32+H32),IF('VETS-701 Tech Perf Report'!$I$7>=\"Q7 January 1 - March 31\",((I34*I32)+(F34*F32)+(G34*G32)+(H34*H32))/(F32+G32+H32+I32),0))))","v":{"v":0,"d":"$0.00"}}]
["q.","Average Hourly Wage at Retention",{"$nulls":3},{"v":0,"d":"$0.00"},{"v":0,"d":"$0.00"},{"v":0,"d":"$0.00"},{"v":0,"d":"$0.00"},null,{"$f":"IF(K$32>0,SUM(F35*F$32,G35*G$32,H35*H$32,I35*I$32)/K$32,0)","v":{"v":0,"d":"$0.00"}}]
["r.","# Earned Wages in the 2nd Quarter After Exit",null,null,0,0,0,0,null,null,{"$f":"SUM(E36:H36)","v":{"v":0,"d":"0 "}}]
["s.","WIOA 2nd Qtr. Employment Rate (Calculated)"," ",null,{"$f":"SUM(E36/C28)","v":{"$error":"#DIV/0!"}},{"$f":"SUM(F36/D28)","v":{"$error":"#DIV/0!"}},{"$error":"#DIV/0!"},{"$error":"#DIV/0!"},null,null,{"$f":"K36/K28","v":{"$error":"#DIV/0!"}},{"$nulls":6},{"$f":"IF('VETS-701 Tech Perf Report'!$I$7=\"Q3 January 1 - March 31\",(F43)/(D34),IF('VETS-701 Tech Perf Report'!$I$7=\"Q4 April 1 - June 30\",(F43+G43)/(D34+E34),IF('VETS-701 Tech Perf Report'!$I$7=\"Q5 July 1 - September 30\",(F43+G43+H43)/(D34+E34+F34),IF('VETS-701 Tech Perf Report'!$I$7>=\"Q6 October 1 - December 31\",(F43+G43+H43+I43)/(D34+E34+F34+G34),0))))","v":{"v":0,"d":"0.0%"}}]
["t.","# Earned Wages in the 4th Quarter After Exit",{"$nulls":4},{"v":0,"d":"0 "},{"v":0,"d":"0 "},{"v":0,"d":"0 "},{"v":0,"d":"0 "},{"$f":"SUM(G38:J38)","v":{"v":0,"d":"0 "}},{"$nulls":6}," "]
["u.","WIOA 4th Qtr. Emp. Rate (Calculated)",{"$nulls":4},{"$f":"(G38)/(C28)","v":{"$error":"#DIV/0!"}},{"$f":"(H38)/(D28)","v":{"$error":"#DIV/0!"}},{"$error":"#DIV/0!"},{"$error":"#DIV/0!"},{"$f":"(K38/K28)","v":{"$error":"#DIV/0!"}},{"$nulls":6},{"$f":"IF('VETS-701 Tech Perf Report'!$I$7=\"Q5 July 1 - September 30\",(H45)/(D34),IF('VETS-701 Tech Perf Report'!$I$7=\"Q6 October 1 - December 31\",(H45+I45)/(D34+E34),IF('VETS-701 Tech Perf Report'!$I$7=\"Q7 January 1 - March 31\",(H45+I45+J45)/(D34+E34+F34),IF('VETS-701 Tech Perf Report'!$I$7>=\"Q8 April 1 - June 30\",(H45+I45+J45+K45)/(D34+E34+F34+G34),0))))","v":{"v":0,"d":"0.0%"}}]
["v.","WIOA Median Earnings in the 2nd Qtr. After Exit",null,null,{"v":0,"d":"$0.00"},{"v":0,"d":"$0.00"},{"v":0,"d":"$0.00"},{"v":0,"d":"$0.00"},null,null,{"v":0,"d":"$0.00"},{"$nulls":6},{"$f":"IF('VETS-701 Tech Perf Report'!$I$7=\"Q3 January 1 - March 31\",(F47),IF('VETS-701 Tech Perf Report'!$I$7=\"Q4 April 1 - June 30\",(G47),IF('VETS-701 Tech Perf Report'!$I$7=\"Q5 July 1 - September 30\",(H47),IF('VETS-701 Tech Perf Report'!$I$7>=\"Q6 October 1 - December 31\",(I47),0))))","v":{"v":0,"d":"$0.00"}}]
[{"$nulls":17}," "]
[null,"Planned Training Activities",null,"All Data entered NON-Cumulative",{"$nulls":13}," "]
[null,"Unduplicated Count of All Participants Trained",{"$nulls":8},0]
[null,"% of Participants Trained (Calculated)",{"$f":"C43/C21","v":{"$error":"#DIV/0!"}},{"$f":"D43/D21","v":{"$error":"#DIV/0!"}},{"$error":"#DIV/0!"},{"$error":"#DIV/0!"},{"$nulls":4},{"$f":"IF(K21>0,K43/K21,0)","v":{"v":0,"d":"0%"}}]
[null,"Class-Room-Training",{"$nulls":8},0]
[null,"On-the-Job Training",{"$nulls":8},0,null,"Yes",7000]
[null,"Occupational Skills Training",{"$nulls":8},0,null,"No",10000]
[null,"Apprenticeship Training",{"$nulls":8},0]
[null,"Upgrading and Retraining",{"$nulls":8},0]
[null,"Life Skills and Money Management",{"$nulls":8},0]
[null,"Other Training ",{"$nulls":8},0]
[]
[null,"Planned Supportive Services",null,"All Data entered NON-Cumulative"]
[null,"Job Search Assistance",{"$nulls":8},0]
[null,"Counseling/Vocational Guidance",{"$nulls":8},0]
[null,"Job Club Workshops",{"$nulls":8},0]
[null,"Compensated Work Therapy",{"$nulls":8},0]
[null,"Tools/Fees/Specific Work Clothing/Boots",{"$nulls":8},0]
[null,"Other Supportive Services",{"$nulls":8},0]
[]
[null,"Planned Expenditures",null,"All Data entered NON-Cumulative",{"$nulls":13}," "]
[null,"Participant Services ",{"$nulls":8},{"$f":"SUM(C62:J62)","v":{"v":0,"d":"$0.00"}},{"$nulls":6},{"$f":"IF('VETS-701 Tech Perf Report'!$I$7=\"Q1 July 1 - September 30\",C62,IF('VETS-701 Tech Perf Report'!$I$7=\"Q2 October 1 - December 31\",C62+D62,IF('VETS-701 Tech Perf Report'!$I$7=\"Q3 January 1 - March 31\",C62+D62+E62,IF('VETS-701 Tech Perf Report'!$I$7=\"Q4 April 1 - June 30\",C62+D62+E62+F62,IF('VETS-701 Tech Perf Report'!$I$7=\"Q5 July 1 - September 30\",C62+D62+E62+F62+G62,IF('VETS-701 Tech Perf Report'!$I$7=\"Q6 October 1 - December 31\",C62+D62+E62+F62+G62+H62,IF('VETS-701 Tech Perf Report'!$I$7=\"Q7 January 1 - March 31\",C62+D62+E62+F62+G62+H62+I62,0)))))))","v":{"v":0,"d":"$0.00"}}]
[null,"Admin Costs ",{"$nulls":8},{"$f":"SUM(C63:J63)","v":{"v":0,"d":"$0.00"}},{"$nulls":6},{"$f":"IF('VETS-701 Tech Perf Report'!$I$7=\"Q1 July 1 - September 30\",C63,IF('VETS-701 Tech Perf Report'!$I$7=\"Q2 October 1 - December 31\",C63+D63,IF('VETS-701 Tech Perf Report'!$I$7=\"Q3 January 1 - March 31\",C63+D63+E63,IF('VETS-701 Tech Perf Report'!$I$7=\"Q4 April 1 - June 30\",C63+D63+E63+F63,IF('VETS-701 Tech Perf Report'!$I$7=\"Q5 July 1 - September 30\",C63+D63+E63+F63+G63,IF('VETS-701 Tech Perf Report'!$I$7=\"Q6 October 1 - December 31\",C63+D63+E63+F63+G63+H63,IF('VETS-701 Tech Perf Report'!$I$7=\"Q7 January 1 - March 31\",C63+D63+E63+F63+G63+H63+I63,0)))))))","v":{"v":0,"d":"$0.00"}}]
[null,"Stand Down (NTE $10K per year)*",{"$nulls":8},{"v":0,"d":"$0.00"},{"$nulls":6},{"$f":"IF('VETS-701 Tech Perf Report'!$I$7=\"Q1 July 1 - September 30\",C64,IF('VETS-701 Tech Perf Report'!$I$7=\"Q2 October 1 - December 31\",C64+D64,IF('VETS-701 Tech Perf Report'!$I$7=\"Q3 January 1 - March 31\",C64+D64+E64,IF('VETS-701 Tech Perf Report'!$I$7=\"Q4 April 1 - June 30\",C64+D64+E64+F64,0))))","v":{"v":0,"d":"$0.00"}}]
[null,"Total Expenditures (Calculated)",{"$f":"SUM(C62:C64)","v":{"v":0,"d":"$0.00"}},{"v":0,"d":"$0.00"},{"v":0,"d":"$0.00"},{"v":0,"d":"$0.00"},{"v":0,"d":"$0.00"},{"v":0,"d":"$0.00"},{"v":0,"d":"$0.00"},{"v":0,"d":"$0.00"},{"v":0,"d":"$0.00"},{"$nulls":6},{"$f":"IF('VETS-701 Tech Perf Report'!$I$7=\"Q1 July 1 - September 30\",C65,IF('VETS-701 Tech Perf Report'!$I$7=\"Q2 October 1 - December 31\",C65+D65,IF('VETS-701 Tech Perf Report'!$I$7=\"Q3 January 1 - March 31\",C65+D65+E65,IF('VETS-701 Tech Perf Report'!$I$7=\"Q4 April 1 - June 30\",C65+D65+E65+F65,IF('VETS-701 Tech Perf Report'!$I$7=\"Q5 July 1 - September 30\",C65+D65+E65+F65+G65,IF('VETS-701 Tech Perf Report'!$I$7=\"Q6 October 1 - December 31\",C65+D65+E65+F65+G65+H65,IF('VETS-701 Tech Perf Report'!$I$7=\"Q7 January 1 - March 31\",C65+D65+E65+F65+G65+H65+I65,0)))))))","v":{"v":0,"d":"$0.00"}}]
[]
[]
[{"$nulls":10},"VETS-700"]
[{"$nulls":10},"revised October 2015"]

{"sheet":"VETS-701 Tech Perf Report","index":1,"n_rows":78,"n_cols":66,"rows_kept":78,"merged":[[0,1,0,9],[0,11,0,12],[1,1,1,9],[1,11,1,12],[2,1,2,9],[5,4,9,5],[6,1,6,3],[6,6,6,7],[6,8,6,9],[9,6,9,7],[9,8,9,9],[11,1,11,3],[11,7,11,11],[12,1,12,11],[14,1,14,11],[15,1,15,8],[20,1,20,2],[77,1,82,11]]}
[null,"United State Department of Labor",{"$nulls":9},"OMB Approval 1293-NEW"]
[null,"Veterans' Employment and Training Service",{"$nulls":9},"Expiration Date: xx/xx/20xx"]
[null,"Competitive Grants Quarterly Technical Performance Report"]
[null," "]
[null,"Section 1"]
[null,"Grantee Name",null,null,"\nYou must provide correct information for the stop-light indicators to work properly."]
[null,"Enter the name of the grantee here",{"$nulls":4},"Period Covered by this Report:",null,"Q1 July 1 - September 30"]
[{"$nulls":60},"Select from List"]
[null,"Grant #",{"$nulls":58},"Q1 July 1 - September 30"]
[null,"Enter the grant number here",{"$nulls":4},"Total Grant Award Amount:",null,"Enter Value",{"$nulls":51},"Q2 October 1 - December 31"]
[{"$nulls":60},"Q3 January 1 - March 31"]
[null," ",{"$nulls":5}," ",{"$nulls":52},"Q4 April 1 - June 30"]
[null,"                                          Notes for Completing this Form",{"$nulls":58},"Q5 July 1 - September 30"]
[{"$nulls":60},"Q6 October 1 - December 31"]
[null,"                                                               1.  Enter information into unlocked header fields and enter data for each separate quarter in unshaded cells below.  Use the \"Tab\" key to navigate.",{"$nulls":52}," ",{"$nulls":5},"Q7 January 1 - March 31"]
[null,"                                                               2.  Please note that entries that appear in a red font are incorrect.  Please refer to directions or contact the DVET/GOTR with questions.",{"$nulls":58},"Q8 April 1 - June 30"]
[null,"                                                              3.  Please ensure you select the appropriate \"Period Covered  by this Report\" and enter the \"Total Grant Award Amount\" in Section 1 before completing Section 2."]
[]
[null,"Section 2"]
[]
[null,"Items with red and yellow indicators must be addressed \nin the Technical Performance Narrative",null," ","   Quarterly (NON-Cumulative)Data Only",null,null,"90 day F/U","180 day F/U","270 day F/U","365 day Final",{"$nulls":50},{"$f":"IF((BJ25+BJ29+BJ31+BJ32)<=4,1,0)","v":{"$error":"#DIV/0!"}},{"$nulls":3},"CORRECTIVE ACTION REQUIRED"]
["1.","Actual Performance:",null,"1st Quarter","2nd Quarter","3rd Quarter","4th Quarter","5th Quarter","6th Quarter","7th Quarter","8th Quarter","Total",{"$nulls":49},"2 green","1 yellow","0 red"]
[]
["a.","# of Assessments (Enter the number of assessments completed during each qtr.)",null,"Enter Value","Enter Value","Enter Value","Enter Value",{"$nulls":4},{"$f":"SUM(D24:G24)","v":0},{"$nulls":42},{"$f":"ROUND(78.2,0)","v":78},{"$nulls":5}," "]
["b.","# of Participants Enrolled (Calculated from Participants tab; performance included in CAP determination)",{"$f":"BI25","v":2},{"$f":"SUM(('VETS-701B Participant Info'!$C$2:'VETS-701B Participant Info'!$C$1001=1)*1)","v":0},{"$f":"SUM(('VETS-701B Participant Info'!$C$2:'VETS-701B Participant Info'!$C$1001=2)*1)","v":0},{"$f":"SUM(('VETS-701B Participant Info'!$C$2:'VETS-701B Participant Info'!$C$1001=3)*1)","v":0},{"$f":"SUM(('VETS-701B Participant Info'!$C$2:'VETS-701B Participant Info'!$C$1001=4)*1)","v":0},{"$nulls":4},0,{"$nulls":48},{"$f":"IF(('VETS-700 Planned Goals'!$R21<=$L25),2,IF(('VETS-700 Planned Goals'!$R21*0.85>$L25),0,1))","v":2},{"$f":"IF(BI16=0,1,0)","v":0}]
["c.","# of Participants Co-Enrolled in AJC Services (Calculated from Participants tab)",{"$f":"BI26","v":1},{"$f":"SUM(('VETS-701B Participant Info'!$D$2:'VETS-701B Participant Info'!$D$1001=1)*1)","v":0},{"$f":"SUM(('VETS-701B Participant Info'!$D$2:'VETS-701B Participant Info'!$D$1001=2)*1)","v":0},{"$f":"SUM(('VETS-701B Participant Info'!$D$2:'VETS-701B Participant Info'!$D$1001=3)*1)","v":0},{"$f":"SUM(('VETS-701B Participant Info'!$D$2:'VETS-701B Participant Info'!$D$1001=4)*1)","v":0},{"$nulls":4},0,{"$nulls":48},{"$f":"IF(L26=L25,1,IF((L26/L25)<=0.85,0,1))","v":1}]
["d.","# Placed in Trans.or Perm Housing (Calculated from Participants tab)",null,{"$f":"SUM(('VETS-701B Participant Info'!$AE$2:'VETS-701B Participant Info'!$AE$1001=1)*1)","v":0},{"$f":"SUM(('VETS-701B Participant Info'!$AE$2:'VETS-701B Participant Info'!$AE$1001=2)*1)","v":0},{"$f":"SUM(('VETS-701B Participant Info'!$AE$2:'VETS-701B Participant Info'!$AE$1001=3)*1)","v":0},{"$f":"SUM(('VETS-701B Participant Info'!$AE$2:'VETS-701B Participant Info'!$AE$1001=4)*1)","v":0},{"$nulls":4},0]
["e.","# Referred to VA for Benefits (Calculated from Participants tab)",null,{"$f":"SUM(('VETS-701B Participant Info'!$AF$2:'VETS-701B Participant Info'!$AF$1001=1)*1)","v":0},{"$f":"SUM(('VETS-701B Participant Info'!$AF$2:'VETS-701B Participant Info'!$AF$1001=2)*1)","v":0},{"$f":"SUM(('VETS-701B Participant Info'!$AF$2:'VETS-701B Participant Info'!$AF$1001=3)*1)","v":0},{"$f":"SUM(('VETS-701B Participant Info'!$AF$2:'VETS-701B Participant Info'!$AF$1001=4)*1)","v":0},{"$nulls":4},0]
["f.","# Placed into Employment (Calculated from Participants tab; performance included in CAP determination)",{"$f":"BI29","v":2},{"$f":"SUM(('VETS-701B Participant Info'!$E$2:'VETS-701B Participant Info'!$E$1001=1)*1)","v":0},{"$f":"SUM(('VETS-701B Participant Info'!$E$2:'VETS-701B Participant Info'!$E$1001=2)*1)","v":0},{"$f":"SUM(('VETS-701B Participant Info'!$E$2:'VETS-701B Participant Info'!$E$1001=3)*1)","v":0},{"$f":"SUM(('VETS-701B Participant Info'!$E$2:'VETS-701B Participant Info'!$E$1001=4)*1)","v":0},{"$nulls":4},0,{"$nulls":48},{"$f":"IF(('VETS-700 Planned Goals'!$R24<=$L29),2,IF(('VETS-700 Planned Goals'!$R24*0.85>$L29),0,1))","v":2},{"$f":"IF(BI29=0,1,0)","v":0}]
["g.","Average Hourly Wage at Placement (Calculated from Participants tab; performance not included in CAP determination)",2,{"$f":"IF(ISERROR(AVERAGE(IF('VETS-701B Participant Info'!$E$2:'VETS-701B Participant Info'!$E$1001=1,'VETS-701B Participant Info'!$G$2:'VETS-701B Participant Info'!$G$1001))),0,ROUND(AVERAGE(IF('VETS-701B Participant Info'!$E$2:'VETS-701B Participant Info'!$E$1001=1,'VETS-701B Participant Info'!$G$2:'VETS-701B Participant Info'!$G$1001)),2))","v":{"v":0,"d":"$0.00"}},{"$f":"IF(ISERROR(AVERAGE(IF('VETS-701B Participant Info'!$E$2:'VETS-701B Participant Info'!$E$1001=2,'VETS-701B Participant Info'!$G$2:'VETS-701B Participant Info'!$G$1001))),0,ROUND(AVERAGE(IF('VETS-701B Participant Info'!$E$2:'VETS-701B Participant Info'!$E$1001=2,'VETS-701B Participant Info'!$G$2:'VETS-701B Participant Info'!$G$1001)),2))","v":{"v":0,"d":"$0.00"}},{"$f":"IF(ISERROR(AVERAGE(IF('VETS-701B Participant Info'!$E$2:'VETS-701B Participant Info'!$E$1001=3,'VETS-701B Participant Info'!$G$2:'VETS-701B Participant Info'!$G$1001))),0,ROUND(AVERAGE(IF('VETS-701B Participant Info'!$E$2:'VETS-701B Participant Info'!$E$1001=3,'VETS-701B Participant Info'!$G$2:'VETS-701B Participant Info'!$G$1001)),2))","v":{"v":0,"d":"$0.00"}},{"$f":"IF(ISERROR(AVERAGE(IF('VETS-701B Participant Info'!$E$2:'VETS-701B Participant Info'!$E$1001=4,'VETS-701B Participant Info'!$G$2:'VETS-701B Participant Info'!$G$1001))),0,ROUND(AVERAGE(IF('VETS-701B Participant Info'!$E$2:'VETS-701B Participant Info'!$E$1001=4,'VETS-701B Participant Info'!$G$2:'VETS-701B Participant Info'!$G$1001)),2))","v":{"v":0,"d":"$0.00"}},{"$nulls":4},{"$f":"IF(L29>0,(SUMPRODUCT(D30:G30,D29:G29)/L29),0)","v":{"v":0,"d":"$0.00"}},{"$nulls":48},{"$f":"IF(('VETS-700 Planned Goals'!$R25<=$L30),2,IF(('VETS-700 Planned Goals'!$R25*0.85>$L30),0,1))","v":2}]
["h.","Placement Rate (Calculated; performance included in CAP determination)",{"$error":"#DIV/0!"},{"$nulls":8},{"$f":"IF(L25>0,L29/L25,0)","v":{"v":0,"d":"0%"}},{"$nulls":48},{"$f":"IF(('VETS-700 Planned Goals'!$R26<=$L31),2,IF(('VETS-700 Planned Goals'!$R26*0.85>L31),0,1))","v":{"$error":"#DIV/0!"}},{"$f":"IF(BI31=0,1,0)","v":{"$error":"#DIV/0!"}}]
["i.","Cost Per Placement (Calculated; performance included in CAP determination)",{"$error":"#DIV/0!"},null," "," "," ",{"$nulls":4},{"$f":"IF(L29>0,L75/L29,0)","v":{"v":0,"d":"$0.00"}},{"$nulls":48},{"$f":"IF(('VETS-700 Planned Goals'!$R27>=L32),2,IF(('VETS-700 Planned Goals'!$R27*1.2<$L32),0,1))","v":{"$error":"#DIV/0!"}},{"$f":"IF(BI32=0,1,0)","v":{"$error":"#DIV/0!"}}]
["j.","# of Veterans Served in 1 or More Special Population Groups (Calculated)",{"$nulls":9},{"$f":"SUM('VETS-701B Participant Info'!$BF$2:'VETS-701B Participant Info'!$BF$1001)","v":0}]
["k.","# of Exiters ",null,{"$f":"SUM(('VETS-701B Participant Info'!$F$2:'VETS-701B Participant Info'!$F$1001=1)*1)","v":0},{"$f":"SUM(('VETS-701B Participant Info'!$F$2:'VETS-701B Participant Info'!$F$1001=2)*1)","v":0},{"$f":"SUM(('VETS-701B Participant Info'!$F$2:'VETS-701B Participant Info'!$F$1001=3)*1)","v":0},{"$f":"SUM(('VETS-701B Participant Info'!$F$2:'VETS-701B Participant Info'!$F$1001=4)*1)","v":0},{"$f":"SUM(D34:G34)","v":0},{"$nulls":3},{"$f":"SUM(D34:G34)","v":0}]
[null,"Post-Program Outcomes"]
["l.","# Earned Wages in 1st Quarter After Exit (Calculated from Exit tabs)",null,null,{"$f":"'VETS-701C Enter Exiter Info Q1'!C205","v":0},{"$f":"'VETS-701D Enter Exiter Info Q2'!C205","v":0},{"$f":"'VETS-701E Enter Exiter Info Q3'!C205","v":0},{"$f":"'VETS-701F Enter Exiter Info Q4'!C405","v":0},{"$nulls":3},{"$f":"SUM(E36:H36)","v":0}]
["m.","WIA Entered Employment Rate (Calculated from Exit tabs)",{"$f":"BI37","v":2},null,{"$f":"IF(D34>0,E36/D34,0)","v":{"v":0,"d":"0%"}},{"$f":"IF(E34>0,F36/E34,0)","v":{"v":0,"d":"0%"}},{"$f":"IF(F34>0,G36/F34,0)","v":{"v":0,"d":"0%"}},{"$f":"IF(G34>0,H36/G34,0)","v":{"v":0,"d":"0%"}},{"$nulls":3},{"$f":"IF(L34>0,L36/L34,0)","v":{"v":0,"d":"0%"}},{"$nulls":48},{"$f":"IF(('VETS-700 Planned Goals'!$R30<=$L37),2,IF(('VETS-700 Planned Goals'!$R30*0.85>$L37),0,1))","v":2}]
["n.","# Earned Wages in 1st and 2nd Quarters After Exit (Calculated from Exit tabs)",{"$nulls":3},{"$f":"'VETS-701C Enter Exiter Info Q1'!D205","v":0},{"$f":"'VETS-701D Enter Exiter Info Q2'!D205","v":0},{"$f":"'VETS-701E Enter Exiter Info Q3'!D205","v":0},{"$f":"'VETS-701F Enter Exiter Info Q4'!D405","v":0},null,null,{"$f":"SUM(F38:I38)","v":0}]
["o.","# Earned Wages in 1st, 2nd and 3rd Quarters After Exit (Calculated from Exit tabs)",{"$nulls":4},{"$f":"'VETS-701C Enter Exiter Info Q1'!H205","v":0},{"$f":"'VETS-701D Enter Exiter Info Q2'!H205","v":0},{"$f":"'VETS-701E Enter Exiter Info Q3'!H205","v":0},{"$f":"'VETS-701F Enter Exiter Info Q4'!H405","v":0},null,{"$f":"SUM(G39:J39)","v":0}]
["p.","WIA Employment Retention Rate (Calculated from Exit tabs)",{"$f":"BI40","v":2},{"$nulls":3},{"$f":"IF(E36>0,SUM(G39/E36),0)","v":{"v":0,"d":"0%"}},{"$f":"IF(F36>0,SUM(H39/F36),0)","v":{"v":0,"d":"0%"}},{"$f":"IF(G36>0,SUM(I39/G36),0)","v":{"v":0,"d":"0%"}},{"$f":"IF(H36>0,SUM(J39/H36),0)","v":{"v":0,"d":"0%"}},null,{"$f":"IF(L36>0,SUM(L39/L36),0)","v":{"v":0,"d":"0%"}},{"$nulls":48},{"$f":"IF(('VETS-700 Planned Goals'!$R33<=$L40),2,IF(('VETS-700 Planned Goals'!$R33*0.85>$L40),0,1))","v":2}]
["q.","WIA Average Earnings at Employment Retention (Calculated from tabs)",2,{"$nulls":3},{"$f":"IF('VETS-701C Enter Exiter Info Q1'!M206>0,'VETS-701C Enter Exiter Info Q1'!M206,0)","v":{"v":0,"d":"$0.00"}},{"$f":"IF('VETS-701D Enter Exiter Info Q2'!M206>0,'VETS-701D Enter Exiter Info Q2'!M206,0)","v":{"v":0,"d":"$0.00"}},{"$f":"IF('VETS-701E Enter Exiter Info Q3'!M206>0,'VETS-701E Enter Exiter Info Q3'!M206,0)","v":{"v":0,"d":"$0.00"}},{"$f":"IF('VETS-701F Enter Exiter Info Q4'!M406>0,'VETS-701F Enter Exiter Info Q4'!M406,0)","v":{"v":0,"d":"$0.00"}},null,{"$f":"IF(L$39>0,SUM(G41*G$39,H41*H$39,I41*I$39,J41*J$39)/L$39,0)","v":{"v":0,"d":"$0.00"}},{"$nulls":48},{"$f":"IF(('VETS-700 Planned Goals'!$R34<=$L41),2,IF(('VETS-700 Planned Goals'!$R34*0.85>$L41),0,1))","v":2}]
["r.","Average Hourly Wage at Retention (Calculated from Exit tabs)",{"$nulls":4},{"$f":"'VETS-701C Enter Exiter Info Q1'!J206","v":{"v":0,"d":"$0.00"}},{"$f":"'VETS-701D Enter Exiter Info Q2'!J206","v":{"v":0,"d":"$0.00"}},{"$f":"'VETS-701E Enter Exiter Info Q3'!J206","v":{"v":0,"d":"$0.00"}},{"$f":"'VETS-701F Enter Exiter Info Q4'!J406","v":{"v":0,"d":"$0.00"}},null,{"$f":"IF(L$39>0,SUM(G42*G$39,H42*H$39,I42*I$39,J42*J$39)/L$39,0)","v":{"v":0,"d":"$0.00"}}]
["s.","# Earned Wages in the 2nd Quarter After Exit",{"$nulls":3},{"$f":"'VETS-701C Enter Exiter Info Q1'!D205","v":0},{"$f":"'VETS-701D Enter Exiter Info Q2'!D205","v":0},{"$f":"'VETS-701E Enter Exiter Info Q3'!D205","v":0},{"$f":"'VETS-701F Enter Exiter Info Q4'!D405","v":0},null,null,{"$f":"SUM(F43:I43)","v":{"v":0,"d":"0 "}}]
["t.","WIOA 2nd Quarter Employment Rate (Calculated)",{"$f":"BI44","v":2},null,null,{"$f":"IF(D34>0,F43/D34,0)","v":{"v":0,"d":"0%"}},{"$f":"IF(E34>0,G43/E34,0)","v":{"v":0,"d":"0%"}},{"$f":"IF(F34>0,H43/F34,0)","v":{"v":0,"d":"0%"}},{"$f":"IF(G34>0,I43/G34,0)","v":{"v":0,"d":"0%"}},null,null,{"$f":"IF(L43>0,L43/L34,0)","v":{"v":0,"d":"0.0%"}},{"$nulls":46},"WIOA 2nd Quarter Employment Rate (Calculated)",null,{"$f":"IF(('VETS-700 Planned Goals'!$R37<=$L44),2,IF(('VETS-700 Planned Goals'!$R37*0.85>$L44),0,1))","v":2}]
["u.","# Earned Wages in the 4th Quarter After Exit",{"$nulls":5},{"$f":"'VETS-701C Enter Exiter Info Q1'!N205","v":0},{"$f":"'VETS-701D Enter Exiter Info Q2'!N205","v":0},{"$f":"'VETS-701E Enter Exiter Info Q3'!N205","v":0},{"$f":"'VETS-701F Enter Exiter Info Q4'!N405","v":0},{"$f":"SUM(H45:K45)","v":{"v":0,"d":"0 "}},{"$nulls":46}," "]
["v.","WIOA 4th Quarter Employment Rate (Calculated)",{"$f":"BI46","v":2},{"$nulls":4},{"$f":"IF(D34>0,H45/D34,0)","v":{"v":0,"d":"0%"}},{"$f":"IF(E34>0,I45/E34,0)","v":{"v":0,"d":"0%"}},{"v":0,"d":"0%"},{"v":0,"d":"0%"},{"$f":"IF(L45>0,L45/L34,0)","v":{"v":0,"d":"0.0%"}},{"$nulls":46},"WIOA 4th Quarter Employment Rate (Calculated)",null,{"$f":"IF(('VETS-700 Planned Goals'!$R39<=$L46),2,IF(('VETS-700 Planned Goals'!$R39*0.85>$L46),0,1))","v":2}]
["w.","WIOA Median Earnings in the 2nd Quarter After Exit (Calc.)",2,null,null,{"$f":"IF('VETS-701C Enter Exiter Info Q1'!L212>0,'VETS-701C Enter Exiter Info Q1'!G206,0)","v":{"v":0,"d":"$0.00"}},{"$f":"IF('VETS-701D Enter Exiter Info Q2'!D205>0,'VETS-701D Enter Exiter Info Q2'!G206,0)","v":{"v":0,"d":"$0.00"}},{"$f":"IF('VETS-701E Enter Exiter Info Q3'!D205>0,'VETS-701E Enter Exiter Info Q3'!G206,0)","v":{"v":0,"d":"$0.00"}},{"$f":"IF('VETS-701F Enter Exiter Info Q4'!D405>0,'VETS-701F Enter Exiter Info Q4'!G406,0)","v":{"v":0,"d":"$0.00"}},null,null,{"$f":"IF(L43>0,'VETS-701F Enter Exiter Info Q4'!G498,0)","v":{"v":0,"d":"$0.00"}},{"$nulls":46},"WIOA Median Earnings in the 2nd Quarter After Exit (Calc.)",null,{"$f":"IF(('VETS-700 Planned Goals'!$R40<=$L47),2,IF(('VETS-700 Planned Goals'!$R40*0.85>$L47),0,1))","v":2}]
[]
["2.","Actual Training Activities (From Worksheet Tabs. No Entries Necessary.)",null,"Enter Quarterly (NON-Cumulative)Data Only"]
[]
["a.","Unduplicated Count of All Participants Trained (Calculated from Participants tab; performance is not included in the determination of a CAP)",{"$f":"BI51","v":2},{"$f":"SUM(('VETS-701B Participant Info'!$AG$2:'VETS-701B Participant Info'!$AG$1001=1)*1)","v":0},{"$f":"SUM(('VETS-701B Participant Info'!$AG$2:'VETS-701B Participant Info'!$AG$1001=2)*1)","v":0},{"$f":"SUM(('VETS-701B Participant Info'!$AG$2:'VETS-701B Participant Info'!$AG$1001=3)*1)","v":0},{"$f":"SUM(('VETS-701B Participant Info'!$AG$2:'VETS-701B Participant Info'!$AG$1001=4)*1)","v":0},{"$nulls":4},{"$f":"SUM(D51:G51)","v":0},{"$nulls":48},{"$f":"IF(('VETS-700 Planned Goals'!$R46<=$L51),2,IF(('VETS-700 Planned Goals'!$R46*0.85>$L51),0,1))","v":2}]
["b.","% of Participants Trained (Calculated)",2,{"$nulls":8},{"$f":"IF(L25>0,L51/L25,0)","v":{"v":0,"d":"0%"}},{"$nulls":48},{"$f":"IF(('VETS-700 Planned Goals'!$K44<=$L52),2,IF(('VETS-700 Planned Goals'!$K44*0.85>$L52),0,1))","v":2}]
["c.","Classroom Training",null,{"$f":"SUM(('VETS-701B Participant Info'!$AH$2:'VETS-701B Participant Info'!$AH$1001=1)*1)","v":0},{"$f":"SUM(('VETS-701B Participant Info'!$AH$2:'VETS-701B Participant Info'!$AH$1001=2)*1)","v":0},{"$f":"SUM(('VETS-701B Participant Info'!$AH$2:'VETS-701B Participant Info'!$AH$1001=3)*1)","v":0},{"$f":"SUM(('VETS-701B Participant Info'!$AH$2:'VETS-701B Participant Info'!$AH$1001=4)*1)","v":0},{"$nulls":4},{"$f":"SUM(D53:G53)","v":0}]
["d.","On-the-Job Training",null,{"$f":"SUM(('VETS-701B Participant Info'!$AI$2:'VETS-701B Participant Info'!$AI$1001=1)*1)","v":0},{"$f":"SUM(('VETS-701B Participant Info'!$AI$2:'VETS-701B Participant Info'!$AI$1001=2)*1)","v":0},{"$f":"SUM(('VETS-701B Participant Info'!$AI$2:'VETS-701B Participant Info'!$AI$1001=3)*1)","v":0},{"$f":"SUM(('VETS-701B Participant Info'!$AI$2:'VETS-701B Participant Info'!$AI$1001=4)*1)","v":0},{"$nulls":4},0]
["e.","Occupational Skills Training",null,{"$f":"SUM(('VETS-701B Participant Info'!$AJ$2:'VETS-701B Participant Info'!$AJ$1001=1)*1)","v":0},{"$f":"SUM(('VETS-701B Participant Info'!$AJ$2:'VETS-701B Participant Info'!$AJ$1001=2)*1)","v":0},{"$f":"SUM(('VETS-701B Participant Info'!$AJ$2:'VETS-701B Participant Info'!$AJ$1001=3)*1)","v":0},{"$f":"SUM(('VETS-701B Participant Info'!$AJ$2:'VETS-701B Participant Info'!$AJ$1001=4)*1)","v":0},{"$nulls":4},0]
["f.","Apprenticeship Training",null,{"$f":"SUM(('VETS-701B Participant Info'!$AK$2:'VETS-701B Participant Info'!$AK$1001=1)*1)","v":0},{"$f":"SUM(('VETS-701B Participant Info'!$AK$2:'VETS-701B Participant Info'!$AK$1001=2)*1)","v":0},{"$f":"SUM(('VETS-701B Participant Info'!$AK$2:'VETS-701B Participant Info'!$AK$1001=3)*1)","v":0},{"$f":"SUM(('VETS-701B Participant Info'!$AK$2:'VETS-701B Participant Info'!$AK$1001=4)*1)","v":0},{"$nulls":4},0]
["g.","Skill Upgrading and Retraining",null,{"$f":"SUM(('VETS-701B Participant Info'!$AL$2:'VETS-701B Participant Info'!$AL$1001=1)*1)","v":0},{"$f":"SUM(('VETS-701B Participant Info'!$AL$2:'VETS-701B Participant Info'!$AL$1001=2)*1)","v":0},{"$f":"SUM(('VETS-701B Participant Info'!$AL$2:'VETS-701B Participant Info'!$AL$1001=3)*1)","v":0},{"$f":"SUM(('VETS-701B Participant Info'!$AL$2:'VETS-701B Participant Info'!$AL$1001=4)*1)","v":0},{"$nulls":4},0]
["h.","Other Training ",null,{"$f":"SUM(('VETS-701B Participant Info'!$AM$2:'VETS-701B Participant Info'!$AM$1001=1)*1)","v":0},{"$f":"SUM(('VETS-701B Participant Info'!$AM$2:'VETS-701B Participant Info'!$AM$1001=2)*1)","v":0},{"$f":"SUM(('VETS-701B Participant Info'!$AM$2:'VETS-701B Participant Info'!$AM$1001=3)*1)","v":0},{"$f":"SUM(('VETS-701B Participant Info'!$AM$2:'VETS-701B Participant Info'!$AM$1001=4)*1)","v":0},{"$nulls":4},0]
[]
["3.","Actual Supportive Services (From Worksheet Tabs. No Entries Necessary)"]
[]
["a.","Job Search Assistance (Calculated from Participants tab)",null,{"$f":"SUM(('VETS-701B Participant Info'!$AO$2:'VETS-701B Participant Info'!$AO$1001=1)*1)","v":0},{"$f":"SUM(('VETS-701B Participant Info'!$AO$2:'VETS-701B Participant Info'!$AO$1001=2)*1)","v":0},{"$f":"SUM(('VETS-701B Participant Info'!$AO$2:'VETS-701B Participant Info'!$AO$1001=3)*1)","v":0},{"$f":"SUM(('VETS-701B Participant Info'!$AO$2:'VETS-701B Participant Info'!$AO$1001=4)*1)","v":0},{"$nulls":4},{"$f":"SUM(D62:G62)","v":0}]
["b.","Life Skills and Money Management",null,{"$f":"SUM(('VETS-701B Participant Info'!$AO$2:'VETS-701B Participant Info'!$AO$1001=1)*1)","v":0},{"$f":"SUM(('VETS-701B Participant Info'!$AO$2:'VETS-701B Participant Info'!$AO$1001=2)*1)","v":0},{"$f":"SUM(('VETS-701B Participant Info'!$AO$2:'VETS-701B Participant Info'!$AO$1001=3)*1)","v":0},{"$f":"SUM(('VETS-701B Participant Info'!$AO$2:'VETS-701B Participant Info'!$AO$1001=4)*1)","v":0}]
["c.","Counseling/Vocational Guidance (Calculated from Participants tab)",null,{"$f":"SUM(('VETS-701B Participant Info'!$AP$2:'VETS-701B Participant Info'!$AP$1001=1)*1)","v":0},{"$f":"SUM(('VETS-701B Participant Info'!$AP$2:'VETS-701B Participant Info'!$AP$1001=2)*1)","v":0},{"$f":"SUM(('VETS-701B Participant Info'!$AP$2:'VETS-701B Participant Info'!$AP$1001=3)*1)","v":0},{"$f":"SUM(('VETS-701B Participant Info'!$AP$2:'VETS-701B Participant Info'!$AP$1001=4)*1)","v":0},{"$nulls":4},0]
["d.","Job Club Workshops (Calculated from Participants tab)",null,{"$f":"SUM(('VETS-701B Participant Info'!$AQ$2:'VETS-701B Participant Info'!$AQ$1001=1)*1)","v":0},{"$f":"SUM(('VETS-701B Participant Info'!$AQ$2:'VETS-701B Participant Info'!$AQ$1001=2)*1)","v":0},{"$f":"SUM(('VETS-701B Participant Info'!$AQ$2:'VETS-701B Participant Info'!$AQ$1001=3)*1)","v":0},{"$f":"SUM(('VETS-701B Participant Info'!$AQ$2:'VETS-701B Participant Info'!$AQ$1001=4)*1)","v":0},{"$nulls":4},0]
["e.","Compensated Work Therapy (Calculated from Participants tab)",null,{"$f":"SUM(('VETS-701B Participant Info'!$AR$2:'VETS-701B Participant Info'!$AR$1001=1)*1)","v":0},{"$f":"SUM(('VETS-701B Participant Info'!$AR$2:'VETS-701B Participant Info'!$AR$1001=2)*1)","v":0},{"$f":"SUM(('VETS-701B Participant Info'!$AR$2:'VETS-701B Participant Info'!$AR$1001=3)*1)","v":0},{"$f":"SUM(('VETS-701B Participant Info'!$AR$2:'VETS-701B Participant Info'!$AR$1001=4)*1)","v":0},{"$nulls":4},0]
["f.","Tools/Fees/Specific Work Clothing/Boots (Calculated from Participants tab)",null,{"$f":"SUM(('VETS-701B Participant Info'!$AS$2:'VETS-701B Participant Info'!$AS$1001=1)*1)","v":0},{"$f":"SUM(('VETS-701B Participant Info'!$AS$2:'VETS-701B Participant Info'!$AS$1001=2)*1)","v":0},{"$f":"SUM(('VETS-701B Participant Info'!$AS$2:'VETS-701B Participant Info'!$AS$1001=3)*1)","v":0},{"$f":"SUM(('VETS-701B Participant Info'!$AS$2:'VETS-701B Participant Info'!$AS$1001=4)*1)","v":0},{"$nulls":4},0]
["g.","Other Supportive Services (Calculated from Participants tab)",null,{"$f":"SUM(('VETS-701B Participant Info'!$AT$2:'VETS-701B Participant Info'!$AT$1001=1)*1)","v":0},{"$f":"SUM(('VETS-701B Participant Info'!$AT$2:'VETS-701B Participant Info'!$AT$1001=2)*1)","v":0},{"$f":"SUM(('VETS-701B Participant Info'!$AT$2:'VETS-701B Participant Info'!$AT$1001=3)*1)","v":0},{"$f":"SUM(('VETS-701B Participant Info'!$AT$2:'VETS-701B Participant Info'!$AT$1001=4)*1)","v":0},{"$nulls":4},0]
[]
["4.","Actual Expenditures:",null,"Enter Quarterly (NON-Cumulative) Data Only"]
[]
["a.","Participant Services (Performance is included in the determination of a CAP)",{"$f":"BI72","v":2},"Enter Value","Enter Value","Enter Value","Enter Value","Enter Value","Enter Value","Enter Value","Enter Value",{"$f":"SUM(D72:K72)","v":{"v":0,"d":"$0.00"}},{"$nulls":48},{"$f":"IF(('VETS-700 Planned Goals'!$R62<=L72),2,IF(('VETS-700 Planned Goals'!$R62*0.85>$L72),0,1))","v":2}]
["b.","Admin Costs (Performance is included in the determination of a CAP)",2,"Enter Value","Enter Value","Enter Value","Enter Value","Enter Value","Enter Value","Enter Value","Enter Value",{"$f":"SUM(D73:K73)","v":{"v":0,"d":"$0.00"}},{"$nulls":48},{"$f":"IF(('VETS-700 Planned Goals'!$R63<=L73),2,IF(('VETS-700 Planned Goals'!$R63*0.85>$L73),0,1))","v":2}]
["c.","Stand Down (NTE $10K per year)",null,{"v":0,"d":"$0.00"},{"v":0,"d":"$0.00"},{"v":0,"d":"$0.00"},{"v":0,"d":"$0.00"},{"$nulls":4},{"$f":"SUM(D74:G74)","v":{"v":0,"d":"$0.00"}},{"$nulls":48}," "]
["c.","Total Expenditures (Calculated; performance is included in the determination of a CAP)",{"$f":"BI75","v":2},{"$f":"SUM(D72:D74)","v":{"v":0,"d":"$0.00"}},{"$f":"SUM(E72:E74)","v":{"v":0,"d":"$0.00"}},{"$f":"SUM(F72:F74)","v":{"v":0,"d":"$0.00"}},{"$f":"SUM(G72:G74)","v":{"v":0,"d":"$0.00"}},{"$f":"SUM(H72:H73)","v":{"v":0,"d":"$0.00"}},{"$f":"SUM(I72:I73)","v":{"v":0,"d":"$0.00"}},{"$f":"SUM(J72:J73)","v":{"v":0,"d":"$0.00"}},{"$f":"SUM(K72:K73)","v":{"v":0,"d":"$0.00"}},{"$f":"SUM(D75:K75)","v":{"v":0,"d":"$0.00"}},{"$nulls":48},{"$f":"IF(('VETS-700 Planned Goals'!$R65<=L75),2,IF(('VETS-700 Planned Goals'!$R65*0.85>$L75),0,1))","v":2}]
[]
[null," ",{"$nulls":9},"VETS-701"]
[null,"Public Burden Statement - According to the Paperwork Reduction Act of 1995, no persons are required to respond to a collection of information unless such collection displays a valid OMB control number.  The valid OMB control number for this information collection is 1293-NEW.  The time required to complete this information collection is 3 hours per response, including the time to review instructions, search existing data sources, gather the data needed, and complete and review the information collection.  The obligation to respond is required to obtain or retain a benefit (38 U.S.C. 2021 and 2023). If you have any comments concerning the accuracy of the time estimate(s) or suggestions for improving this form, please write to:  U.S. Department of Labor, Veterans' Employment and Training Service, 200 Constitution Avenue, N.W., Washington D.C. 20210.  "]

{"sheet":"VETS-701A Demographics Summary","index":2,"n_rows":75,"n_cols":15,"rows_kept":75,"merged":[[2,1,2,2],[2,4,2,5],[2,7,2,8],[2,10,2,11],[2,13,2,14]]}
["Instructions: Enter the demographic information on the \"VETS-701B Participant Information\" tab provided and the #s will automatically calculate on this tab and the VETS-701 TPR tabs."]
[]
["Demographics","Quarter 1",null,null,"Quarter 2",null,null,"Quarter 3",null,null,"Quarter 4",null,null,"Total"]
[null,"Enrollments","Placements",null,"Enrollments","Placements",null,"Enrollments","Placements",null,"Enrollments","Placements",null,"Enrollments","Placements"]
["GENDER"]
["Male",{"$f":"SUM(('VETS-701B Participant Info'!C$2:'VETS-701B Participant Info'!C$1001=1)*('VETS-701B Participant Info'!$H$2:'VETS-701B Participant Info'!$H$1001=$A6))","v":0},{"$f":"SUM(('VETS-701B Participant Info'!E$2:'VETS-701B Participant Info'!E$1001=1)*('VETS-701B Participant Info'!$H$2:'VETS-701B Participant Info'!$H$1001=$A6))","v":0},null,{"$f":"SUM(('VETS-701B Participant Info'!C$2:'VETS-701B Participant Info'!C$1001=2)*('VETS-701B Participant Info'!$H$2:'VETS-701B Participant Info'!$H$1001=$A6))","v":0},{"$f":"SUM(('VETS-701B Participant Info'!E$2:'VETS-701B Participant Info'!E$1001=2)*('VETS-701B Participant Info'!$H$2:'VETS-701B Participant Info'!$H$1001=$A6))","v":0},null,{"$f":"SUM(('VETS-701B Participant Info'!C$2:'VETS-701B Participant Info'!C$1001=3)*('VETS-701B Participant Info'!$H$2:'VETS-701B Participant Info'!$H$1001=$A6))","v":0},{"$f":"SUM(('VETS-701B Participant Info'!E$2:'VETS-701B Participant Info'!E$1001=3)*('VETS-701B Participant Info'!$H$2:'VETS-701B Participant Info'!$H$1001=$A6))","v":0},null,{"$f":"SUM(('VETS-701B Participant Info'!C$2:'VETS-701B Participant Info'!C$1001=4)*('VETS-701B Participant Info'!$H$2:'VETS-701B Participant Info'!$H$1001=$A6))","v":0},{"$f":"SUM(('VETS-701B Participant Info'!E$2:'VETS-701B Participant Info'!E$1001=4)*('VETS-701B Participant Info'!$H$2:'VETS-701B Participant Info'!$H$1001=$A6))","v":0},null,{"$f":"B6+E6+H6+K6","v":0},{"$f":"C6+F6+I6+L6","v":0}]
["Female",{"$f":"SUM(('VETS-701B Participant Info'!C$2:'VETS-701B Participant Info'!C$1001=1)*('VETS-701B Participant Info'!$H$2:'VETS-701B Participant Info'!$H$1001=$A7))","v":0},{"$f":"SUM(('VETS-701B Participant Info'!E$2:'VETS-701B Participant Info'!E$1001=1)*('VETS-701B Participant Info'!$H$2:'VETS-701B Participant Info'!$H$1001=$A7))","v":0},null,{"$f":"SUM(('VETS-701B Participant Info'!C$2:'VETS-701B Participant Info'!C$1001=2)*('VETS-701B Participant Info'!$H$2:'VETS-701B Participant Info'!$H$1001=$A7))","v":0},{"$f":"SUM(('VETS-701B Participant Info'!E$2:'VETS-701B Participant Info'!E$1001=2)*('VETS-701B Participant Info'!$H$2:'VETS-701B Participant Info'!$H$1001=$A7))","v":0},null,{"$f":"SUM(('VETS-701B Participant Info'!C$2:'VETS-701B Participant Info'!C$1001=3)*('VETS-701B Participant Info'!$H$2:'VETS-701B Participant Info'!$H$1001=$A7))","v":0},{"$f":"SUM(('VETS-701B Participant Info'!E$2:'VETS-701B Participant Info'!E$1001=3)*('VETS-701B Participant Info'!$H$2:'VETS-701B Participant Info'!$H$1001=$A7))","v":0},null,{"$f":"SUM(('VETS-701B Participant Info'!C$2:'VETS-701B Participant Info'!C$1001=4)*('VETS-701B Participant Info'!$H$2:'VETS-701B Participant Info'!$H$1001=$A7))","v":0},{"$f":"SUM(('VETS-701B Participant Info'!E$2:'VETS-701B Participant Info'!E$1001=4)*('VETS-701B Participant Info'!$H$2:'VETS-701B Participant Info'!$H$1001=$A7))","v":0},null,{"$f":"B7+E7+H7+K7","v":0},{"$f":"C7+F7+I7+L7","v":0}]
["Totals:",{"$f":"SUM(B6:B7)","v":0},{"$f":"SUM(C6:C7)","v":0},null,{"$f":"SUM(E6:E7)","v":0},{"$f":"SUM(F6:F7)","v":0},null,{"$f":"SUM(H6:H7)","v":0},{"$f":"SUM(I6:I7)","v":0},null,{"$f":"SUM(K6:K7)","v":0},{"$f":"SUM(L6:L7)","v":0},null,{"$f":"SUM(N6:N7)","v":0},{"$f":"SUM(O6:O7)","v":0}]
["ETHINICITY"]
["Hispanic or Latino",{"$f":"SUM(('VETS-701B Participant Info'!C$2:'VETS-701B Participant Info'!C$1001=1)*('VETS-701B Participant Info'!$I$2:'VETS-701B Participant Info'!$I$1001=$A10))","v":0},{"$f":"SUM(('VETS-701B Participant Info'!E$2:'VETS-701B Participant Info'!E$1001=1)*('VETS-701B Participant Info'!$I$2:'VETS-701B Participant Info'!$I$1001=$A10))","v":0},null,{"$f":"SUM(('VETS-701B Participant Info'!C$2:'VETS-701B Participant Info'!C$1001=2)*('VETS-701B Participant Info'!$I$2:'VETS-701B Participant Info'!$I$1001=$A10))","v":0},{"$f":"SUM(('VETS-701B Participant Info'!E$2:'VETS-701B Participant Info'!E$1001=2)*('VETS-701B Participant Info'!$I$2:'VETS-701B Participant Info'!$I$1001=$A10))","v":0},null,{"$f":"SUM(('VETS-701B Participant Info'!C$2:'VETS-701B Participant Info'!C$1001=3)*('VETS-701B Participant Info'!$I$2:'VETS-701B Participant Info'!$I$1001=$A10))","v":0},{"$f":"SUM(('VETS-701B Participant Info'!E$2:'VETS-701B Participant Info'!E$1001=3)*('VETS-701B Participant Info'!$I$2:'VETS-701B Participant Info'!$I$1001=$A10))","v":0},null,{"$f":"SUM(('VETS-701B Participant Info'!C$2:'VETS-701B Participant Info'!C$1001=4)*('VETS-701B Participant Info'!$I$2:'VETS-701B Participant Info'!$I$1001=$A10))","v":0},{"$f":"SUM(('VETS-701B Participant Info'!E$2:'VETS-701B Participant Info'!E$1001=4)*('VETS-701B Participant Info'!$I$2:'VETS-701B Participant Info'!$I$1001=$A10))","v":0},null,{"$f":"B10+E10+H10+K10","v":0},{"$f":"C10+F10+I10+L10","v":0}]
["Not Hispanic or Latino",{"$f":"SUM(('VETS-701B Participant Info'!C$2:'VETS-701B Participant Info'!C$1001=1)*('VETS-701B Participant Info'!$I$2:'VETS-701B Participant Info'!$I$1001=$A11))","v":0},{"$f":"SUM(('VETS-701B Participant Info'!E$2:'VETS-701B Participant Info'!E$1001=1)*('VETS-701B Participant Info'!$I$2:'VETS-701B Participant Info'!$I$1001=$A11))","v":0},null,{"$f":"SUM(('VETS-701B Participant Info'!C$2:'VETS-701B Participant Info'!C$1001=2)*('VETS-701B Participant Info'!$I$2:'VETS-701B Participant Info'!$I$1001=$A11))","v":0},{"$f":"SUM(('VETS-701B Participant Info'!E$2:'VETS-701B Participant Info'!E$1001=2)*('VETS-701B Participant Info'!$I$2:'VETS-701B Participant Info'!$I$1001=$A11))","v":0},null,{"$f":"SUM(('VETS-701B Participant Info'!C$2:'VETS-701B Participant Info'!C$1001=3)*('VETS-701B Participant Info'!$I$2:'VETS-701B Participant Info'!$I$1001=$A11))","v":0},{"$f":"SUM(('VETS-701B Participant Info'!E$2:'VETS-701B Participant Info'!E$1001=3)*('VETS-701B Participant Info'!$I$2:'VETS-701B Participant Info'!$I$1001=$A11))","v":0},null,{"$f":"SUM(('VETS-701B Participant Info'!C$2:'VETS-701B Participant Info'!C$1001=4)*('VETS-701B Participant Info'!$I$2:'VETS-701B Participant Info'!$I$1001=$A11))","v":0},{"$f":"SUM(('VETS-701B Participant Info'!E$2:'VETS-701B Participant Info'!E$1001=4)*('VETS-701B Participant Info'!$I$2:'VETS-701B Participant Info'!$I$1001=$A11))","v":0},null,0,0]
["Totals:",{"$f":"SUM(B10:B11)","v":0},{"$f":"SUM(C10:C11)","v":0}," ",{"$f":"SUM(E10:E11)","v":0},0," ",{"$f":"SUM(H10:H11)","v":0},0," ",{"$f":"SUM(K10:K11)","v":0},0," ",{"$f":"SUM(N10:N11)","v":0},0]
["RACE (NOT AN UNDUPLICATED COUNT as participants may select more than one racial category for those who are multiracial.)"]
["American Indian or Alaska Native",{"$f":"SUM(('VETS-701B Participant Info'!C$2:'VETS-701B Participant Info'!C$1001=1)*('VETS-701B Participant Info'!$J$2:'VETS-701B Participant Info'!$J$1001=\"Yes\"))","v":0},{"$f":"SUM(('VETS-701B Participant Info'!E$2:'VETS-701B Participant Info'!E$1001=1)*('VETS-701B Participant Info'!$J$2:'VETS-701B Participant Info'!$J$1001=\"Yes\"))","v":0},null,{"$f":"SUM(('VETS-701B Participant Info'!C$2:'VETS-701B Participant Info'!C$1001=2)*('VETS-701B Participant Info'!$J$2:'VETS-701B Participant Info'!$J$1001=\"Yes\"))","v":0},{"$f":"SUM(('VETS-701B Participant Info'!E$2:'VETS-701B Participant Info'!E$1001=2)*('VETS-701B Participant Info'!$J$2:'VETS-701B Participant Info'!$J$1001=\"Yes\"))","v":0},null,{"$f":"SUM(('VETS-701B Participant Info'!C$2:'VETS-701B Participant Info'!C$1001=3)*('VETS-701B Participant Info'!$J$2:'VETS-701B Participant Info'!$J$1001=\"Yes\"))","v":0},{"$f":"SUM(('VETS-701B Participant Info'!E$2:'VETS-701B Participant Info'!E$1001=3)*('VETS-701B Participant Info'!$J$2:'VETS-701B Participant Info'!$J$1001=\"Yes\"))","v":0},null,{"$f":"SUM(('VETS-701B Participant Info'!C$2:'VETS-701B Participant Info'!C$1001=4)*('VETS-701B Participant Info'!$J$2:'VETS-701B Participant Info'!$J$1001=\"Yes\"))","v":0},{"$f":"SUM(('VETS-701B Participant Info'!E$2:'VETS-701B Participant Info'!E$1001=4)*('VETS-701B Participant Info'!$J$2:'VETS-701B Participant Info'!$J$1001=\"Yes\"))","v":0},null,{"$f":"B14+E14+H14+K14","v":0},0]
["Asian",{"$f":"SUM(('VETS-701B Participant Info'!C$2:'VETS-701B Participant Info'!C$1001=1)*('VETS-701B Participant Info'!$K$2:'VETS-701B Participant Info'!$K$1001=\"Yes\"))","v":0},{"$f":"SUM(('VETS-701B Participant Info'!E$2:'VETS-701B Participant Info'!E$1001=1)*('VETS-701B Participant Info'!$K$2:'VETS-701B Participant Info'!$K$1001=\"Yes\"))","v":0},null,{"$f":"SUM(('VETS-701B Participant Info'!C$2:'VETS-701B Participant Info'!C$1001=2)*('VETS-701B Participant Info'!$K$2:'VETS-701B Participant Info'!$K$1001=\"Yes\"))","v":0},{"$f":"SUM(('VETS-701B Participant Info'!E$2:'VETS-701B Participant Info'!E$1001=2)*('VETS-701B Participant Info'!$K$2:'VETS-701B Participant Info'!$K$1001=\"Yes\"))","v":0},null,{"$f":"SUM(('VETS-701B Participant Info'!C$2:'VETS-701B Participant Info'!C$1001=3)*('VETS-701B Participant Info'!$K$2:'VETS-701B Participant Info'!$K$1001=\"Yes\"))","v":0},{"$f":"SUM(('VETS-701B Participant Info'!E$2:'VETS-701B Participant Info'!E$1001=3)*('VETS-701B Participant Info'!$K$2:'VETS-701B Participant Info'!$K$1001=\"Yes\"))","v":0},null,{"$f":"SUM(('VETS-701B Participant Info'!C$2:'VETS-701B Participant Info'!C$1001=4)*('VETS-701B Participant Info'!$K$2:'VETS-701B Participant Info'!$K$1001=\"Yes\"))","v":0},{"$f":"SUM(('VETS-701B Participant Info'!E$2:'VETS-701B Participant Info'!E$1001=4)*('VETS-701B Participant Info'!$K$2:'VETS-701B Participant Info'!$K$1001=\"Yes\"))","v":0},null,0,0]
["Black or African American",{"$f":"SUM(('VETS-701B Participant Info'!C$2:'VETS-701B Participant Info'!C$1001=1)*('VETS-701B Participant Info'!$L$2:'VETS-701B Participant Info'!$L$1001=\"Yes\"))","v":0},{"$f":"SUM(('VETS-701B Participant Info'!E$2:'VETS-701B Participant Info'!E$1001=1)*('VETS-701B Participant Info'!$L$2:'VETS-701B Participant Info'!$L$1001=\"Yes\"))","v":0},null,{"$f":"SUM(('VETS-701B Participant Info'!C$2:'VETS-701B Participant Info'!C$1001=2)*('VETS-701B Participant Info'!$L$2:'VETS-701B Participant Info'!$L$1001=\"Yes\"))","v":0},{"$f":"SUM(('VETS-701B Participant Info'!E$2:'VETS-701B Participant Info'!E$1001=2)*('VETS-701B Participant Info'!$L$2:'VETS-701B Participant Info'!$L$1001=\"Yes\"))","v":0},null,{"$f":"SUM(('VETS-701B Participant Info'!C$2:'VETS-701B Participant Info'!C$1001=3)*('VETS-701B Participant Info'!$L$2:'VETS-701B Participant Info'!$L$1001=\"Yes\"))","v":0},{"$f":"SUM(('VETS-701B Participant Info'!E$2:'VETS-701B Participant Info'!E$1001=3)*('VETS-701B Participant Info'!$L$2:'VETS-701B Participant Info'!$L$1001=\"Yes\"))","v":0},null,{"$f":"SUM(('VETS-701B Participant Info'!C$2:'VETS-701B Participant Info'!C$1001=4)*('VETS-701B Participant Info'!$L$2:'VETS-701B Participant Info'!$L$1001=\"Yes\"))","v":0},{"$f":"SUM(('VETS-701B Participant Info'!E$2:'VETS-701B Participant Info'!E$1001=4)*('VETS-701B Participant Info'!$L$2:'VETS-701B Participant Info'!$L$1001=\"Yes\"))","v":0},null,0,0]
["Native Hawaiian or Other Pacific Islander",{"$f":"SUM(('VETS-701B Participant Info'!C$2:'VETS-701B Participant Info'!C$1001=1)*('VETS-701B Participant Info'!$M$2:'VETS-701B Participant Info'!$M$1001=\"Yes\"))","v":0},{"$f":"SUM(('VETS-701B Participant Info'!E$2:'VETS-701B Participant Info'!E$1001=1)*('VETS-701B Participant Info'!$M$2:'VETS-701B Participant Info'!$M$1001=\"Yes\"))","v":0},null,{"$f":"SUM(('VETS-701B Participant Info'!C$2:'VETS-701B Participant Info'!C$1001=2)*('VETS-701B Participant Info'!$M$2:'VETS-701B Participant Info'!$M$1001=\"Yes\"))","v":0},{"$f":"SUM(('VETS-701B Participant Info'!E$2:'VETS-701B Participant Info'!E$1001=2)*('VETS-701B Participant Info'!$M$2:'VETS-701B Participant Info'!$M$1001=\"Yes\"))","v":0},null,{"$f":"SUM(('VETS-701B Participant Info'!C$2:'VETS-701B Participant Info'!C$1001=3)*('VETS-701B Participant Info'!$M$2:'VETS-701B Participant Info'!$M$1001=\"Yes\"))","v":0},{"$f":"SUM(('VETS-701B Participant Info'!E$2:'VETS-701B Participant Info'!E$1001=3)*('VETS-701B Participant Info'!$M$2:'VETS-701B Participant Info'!$M$1001=\"Yes\"))","v":0},null,{"$f":"SUM(('VETS-701B Participant Info'!C$2:'VETS-701B Participant Info'!C$1001=4)*('VETS-701B Participant Info'!$M$2:'VETS-701B Participant Info'!$M$1001=\"Yes\"))","v":0},{"$f":"SUM(('VETS-701B Participant Info'!E$2:'VETS-701B Participant Info'!E$1001=4)*('VETS-701B Participant Info'!$M$2:'VETS-701B Participant Info'!$M$1001=\"Yes\"))","v":0},null,0,0]
["White",{"$f":"SUM(('VETS-701B Participant Info'!C$2:'VETS-701B Participant Info'!C$1001=1)*('VETS-701B Participant Info'!$N$2:'VETS-701B Participant Info'!$N$1001=\"Yes\"))","v":0},{"$f":"SUM(('VETS-701B Participant Info'!E$2:'VETS-701B Participant Info'!E$1001=1)*('VETS-701B Participant Info'!$N$2:'VETS-701B Participant Info'!$N$1001=\"Yes\"))","v":0},null,{"$f":"SUM(('VETS-701B Participant Info'!C$2:'VETS-701B Participant Info'!C$1001=2)*('VETS-701B Participant Info'!$N$2:'VETS-701B Participant Info'!$N$1001=\"Yes\"))","v":0},{"$f":"SUM(('VETS-701B Participant Info'!E$2:'VETS-701B Participant Info'!E$1001=2)*('VETS-701B Participant Info'!$N$2:'VETS-701B Participant Info'!$N$1001=\"Yes\"))","v":0},null,{"$f":"SUM(('VETS-701B Participant Info'!C$2:'VETS-701B Participant Info'!C$1001=3)*('VETS-701B Participant Info'!$N$2:'VETS-701B Participant Info'!$N$1001=\"Yes\"))","v":0},{"$f":"SUM(('VETS-701B Participant Info'!E$2:'VETS-701B Participant Info'!E$1001=3)*('VETS-701B Participant Info'!$N$2:'VETS-701B Participant Info'!$N$1001=\"Yes\"))","v":0},null,{"$f":"SUM(('VETS-701B Participant Info'!C$2:'VETS-701B Participant Info'!C$1001=4)*('VETS-701B Participant Info'!$N$2:'VETS-701B Participant Info'!$N$1001=\"Yes\"))","v":0},{"$f":"SUM(('VETS-701B Participant Info'!E$2:'VETS-701B Participant Info'!E$1001=4)*('VETS-701B Participant Info'!$N$2:'VETS-701B Participant Info'!$N$1001=\"Yes\"))","v":0},null,{"$f":"B18+E18+H18+K18","v":0},{"$f":"C18+F18+I18+L18","v":0}]
["Totals:",{"$f":"SUM(B14:B18)","v":0},{"$f":"SUM(C14:C18)","v":0}," ",0,0," ",0,0," ",0,0," ",0,0]
["RACE (UNDUPLICATED COUNT.  Multiracial appears as a separate category.)"]
["American Indian or Alaska Native",{"$f":"SUM(('VETS-701B Participant Info'!$BV$2:'VETS-701B Participant Info'!$BV$1001=0)*('VETS-701B Participant Info'!C$2:'VETS-701B Participant Info'!C$1001=1)*('VETS-701B Participant Info'!$J$2:'VETS-701B Participant Info'!$J$1001=\"Yes\"))","v":0},{"$f":"SUM(('VETS-701B Participant Info'!$BV$2:'VETS-701B Participant Info'!$BV$1001=0)*('VETS-701B Participant Info'!E$2:'VETS-701B Participant Info'!E$1001=1)*('VETS-701B Participant Info'!$J$2:'VETS-701B Participant Info'!$J$1001=\"Yes\"))","v":0},null,{"$f":"SUM(('VETS-701B Participant Info'!$BV$2:'VETS-701B Participant Info'!$BV$1001=0)*('VETS-701B Participant Info'!C$2:'VETS-701B Participant Info'!C$1001=2)*('VETS-701B Participant Info'!$J$2:'VETS-701B Participant Info'!$J$1001=\"Yes\"))","v":0},{"$f":"SUM(('VETS-701B Participant Info'!$BV$2:'VETS-701B Participant Info'!$BV$1001=0)*('VETS-701B Participant Info'!E$2:'VETS-701B Participant Info'!E$1001=2)*('VETS-701B Participant Info'!$J$2:'VETS-701B Participant Info'!$J$1001=\"Yes\"))","v":0},null,{"$f":"SUM(('VETS-701B Participant Info'!$BV$2:'VETS-701B Participant Info'!$BV$1001=0)*('VETS-701B Participant Info'!C$2:'VETS-701B Participant Info'!C$1001=3)*('VETS-701B Participant Info'!$J$2:'VETS-701B Participant Info'!$J$1001=\"Yes\"))","v":0},{"$f":"SUM(('VETS-701B Participant Info'!$BV$2:'VETS-701B Participant Info'!$BV$1001=0)*('VETS-701B Participant Info'!E$2:'VETS-701B Participant Info'!E$1001=3)*('VETS-701B Participant Info'!$J$2:'VETS-701B Participant Info'!$J$1001=\"Yes\"))","v":0},null,{"$f":"SUM(('VETS-701B Participant Info'!$BV$2:'VETS-701B Participant Info'!$BV$1001=0)*('VETS-701B Participant Info'!C$2:'VETS-701B Participant Info'!C$1001=4)*('VETS-701B Participant Info'!$J$2:'VETS-701B Participant Info'!$J$1001=\"Yes\"))","v":0},{"$f":"SUM(('VETS-701B Participant Info'!$BV$2:'VETS-701B Participant Info'!$BV$1001=0)*('VETS-701B Participant Info'!E$2:'VETS-701B Participant Info'!E$1001=4)*('VETS-701B Participant Info'!$J$2:'VETS-701B Participant Info'!$J$1001=\"Yes\"))","v":0},null,{"$f":"B21+E21+H21+K21","v":0},{"$f":"C21+F21+I21+L21","v":0}]
["Asian",{"$f":"SUM(('VETS-701B Participant Info'!$BV$2:'VETS-701B Participant Info'!$BV$1001=0)*('VETS-701B Participant Info'!C$2:'VETS-701B Participant Info'!C$1001=1)*('VETS-701B Participant Info'!$K$2:'VETS-701B Participant Info'!$K$1001=\"Yes\"))","v":0},{"$f":"SUM(('VETS-701B Participant Info'!$BV$2:'VETS-701B Participant Info'!$BV$1001=0)*('VETS-701B Participant Info'!E$2:'VETS-701B Participant Info'!E$1001=1)*('VETS-701B Participant Info'!$K$2:'VETS-701B Participant Info'!$K$1001=\"Yes\"))","v":0},null,{"$f":"SUM(('VETS-701B Participant Info'!$BV$2:'VETS-701B Participant Info'!$BV$1001=0)*('VETS-701B Participant Info'!C$2:'VETS-701B Participant Info'!C$1001=2)*('VETS-701B Participant Info'!$K$2:'VETS-701B Participant Info'!$K$1001=\"Yes\"))","v":0},{"$f":"SUM(('VETS-701B Participant Info'!$BV$2:'VETS-701B Participant Info'!$BV$1001=0)*('VETS-701B Participant Info'!E$2:'VETS-701B Participant Info'!E$1001=2)*('VETS-701B Participant Info'!$K$2:'VETS-701B Participant Info'!$K$1001=\"Yes\"))","v":0},null,{"$f":"SUM(('VETS-701B Participant Info'!$BV$2:'VETS-701B Participant Info'!$BV$1001=0)*('VETS-701B Participant Info'!C$2:'VETS-701B Participant Info'!C$1001=3)*('VETS-701B Participant Info'!$K$2:'VETS-701B Participant Info'!$K$1001=\"Yes\"))","v":0},{"$f":"SUM(('VETS-701B Participant Info'!$BV$2:'VETS-701B Participant Info'!$BV$1001=0)*('VETS-701B Participant Info'!E$2:'VETS-701B Participant Info'!E$1001=3)*('VETS-701B Participant Info'!$K$2:'VETS-701B Participant Info'!$K$1001=\"Yes\"))","v":0},null,{"$f":"SUM(('VETS-701B Participant Info'!$BV$2:'VETS-701B Participant Info'!$BV$1001=0)*('VETS-701B Participant Info'!C$2:'VETS-701B Participant Info'!C$1001=4)*('VETS-701B Participant Info'!$K$2:'VETS-701B Participant Info'!$K$1001=\"Yes\"))","v":0},{"$f":"SUM(('VETS-701B Participant Info'!$BV$2:'VETS-701B Participant Info'!$BV$1001=0)*('VETS-701B Participant Info'!E$2:'VETS-701B Participant Info'!E$1001=4)*('VETS-701B Participant Info'!$K$2:'VETS-701B Participant Info'!$K$1001=\"Yes\"))","v":0},null,0,0]
["Black or African American",{"$f":"SUM(('VETS-701B Participant Info'!$BV$2:'VETS-701B Participant Info'!$BV$1001=0)*('VETS-701B Participant Info'!C$2:'VETS-701B Participant Info'!C$1001=1)*('VETS-701B Participant Info'!$L$2:'VETS-701B Participant Info'!$L$1001=\"Yes\"))","v":0},{"$f":"SUM(('VETS-701B Participant Info'!$BV$2:'VETS-701B Participant Info'!$BV$1001=0)*('VETS-701B Participant Info'!E$2:'VETS-701B Participant Info'!E$1001=1)*('VETS-701B Participant Info'!$L$2:'VETS-701B Participant Info'!$L$1001=\"Yes\"))","v":0},null,{"$f":"SUM(('VETS-701B Participant Info'!$BV$2:'VETS-701B Participant Info'!$BV$1001=0)*('VETS-701B Participant Info'!C$2:'VETS-701B Participant Info'!C$1001=2)*('VETS-701B Participant Info'!$L$2:'VETS-701B Participant Info'!$L$1001=\"Yes\"))","v":0},{"$f":"SUM(('VETS-701B Participant Info'!$BV$2:'VETS-701B Participant Info'!$BV$1001=0)*('VETS-701B Participant Info'!E$2:'VETS-701B Participant Info'!E$1001=2)*('VETS-701B Participant Info'!$L$2:'VETS-701B Participant Info'!$L$1001=\"Yes\"))","v":0},null,{"$f":"SUM(('VETS-701B Participant Info'!$BV$2:'VETS-701B Participant Info'!$BV$1001=0)*('VETS-701B Participant Info'!C$2:'VETS-701B Participant Info'!C$1001=3)*('VETS-701B Participant Info'!$L$2:'VETS-701B Participant Info'!$L$1001=\"Yes\"))","v":0},{"$f":"SUM(('VETS-701B Participant Info'!$BV$2:'VETS-701B Participant Info'!$BV$1001=0)*('VETS-701B Participant Info'!E$2:'VETS-701B Participant Info'!E$1001=3)*('VETS-701B Participant Info'!$L$2:'VETS-701B Participant Info'!$L$1001=\"Yes\"))","v":0},null,{"$f":"SUM(('VETS-701B Participant Info'!$BV$2:'VETS-701B Participant Info'!$BV$1001=0)*('VETS-701B Participant Info'!C$2:'VETS-701B Participant Info'!C$1001=4)*('VETS-701B Participant Info'!$L$2:'VETS-701B Participant Info'!$L$1001=\"Yes\"))","v":0},{"$f":"SUM(('VETS-701B Participant Info'!$BV$2:'VETS-701B Participant Info'!$BV$1001=0)*('VETS-701B Participant Info'!E$2:'VETS-701B Participant Info'!E$1001=4)*('VETS-701B Participant Info'!$L$2:'VETS-701B Participant Info'!$L$1001=\"Yes\"))","v":0},null,0,0]
["Native Hawaiian or Other Pacific Islander",{"$f":"SUM(('VETS-701B Participant Info'!$BV$2:'VETS-701B Participant Info'!$BV$1001=0)*('VETS-701B Participant Info'!C$2:'VETS-701B Participant Info'!C$1001=1)*('VETS-701B Participant Info'!$M$2:'VETS-701B Participant Info'!$M$1001=\"Yes\"))","v":0},{"$f":"SUM(('VETS-701B Participant Info'!$BV$2:'VETS-701B Participant Info'!$BV$1001=0)*('VETS-701B Participant Info'!E$2:'VETS-701B Participant Info'!E$1001=1)*('VETS-701B Participant Info'!$M$2:'VETS-701B Participant Info'!$M$1001=\"Yes\"))","v":0},null,{"$f":"SUM(('VETS-701B Participant Info'!$BV$2:'VETS-701B Participant Info'!$BV$1001=0)*('VETS-701B Participant Info'!C$2:'VETS-701B Participant Info'!C$1001=2)*('VETS-701B Participant Info'!$M$2:'VETS-701B Participant Info'!$M$1001=\"Yes\"))","v":0},{"$f":"SUM(('VETS-701B Participant Info'!$BV$2:'VETS-701B Participant Info'!$BV$1001=0)*('VETS-701B Participant Info'!E$2:'VETS-701B Participant Info'!E$1001=2)*('VETS-701B Participant Info'!$M$2:'VETS-701B Participant Info'!$M$1001=\"Yes\"))","v":0},null,{"$f":"SUM(('VETS-701B Participant Info'!$BV$2:'VETS-701B Participant Info'!$BV$1001=0)*('VETS-701B Participant Info'!C$2:'VETS-701B Participant Info'!C$1001=3)*('VETS-701B Participant Info'!$M$2:'VETS-701B Participant Info'!$M$1001=\"Yes\"))","v":0},{"$f":"SUM(('VETS-701B Participant Info'!$BV$2:'VETS-701B Participant Info'!$BV$1001=0)*('VETS-701B Participant Info'!E$2:'VETS-701B Participant Info'!E$1001=3)*('VETS-701B Participant Info'!$M$2:'VETS-701B Participant Info'!$M$1001=\"Yes\"))","v":0},null,{"$f":"SUM(('VETS-701B Participant Info'!$BV$2:'VETS-701B Participant Info'!$BV$1001=0)*('VETS-701B Participant Info'!C$2:'VETS-701B Participant Info'!C$1001=4)*('VETS-701B Participant Info'!$M$2:'VETS-701B Participant Info'!$M$1001=\"Yes\"))","v":0},{"$f":"SUM(('VETS-701B Participant Info'!$BV$2:'VETS-701B Participant Info'!$BV$1001=0)*('VETS-701B Participant Info'!E$2:'VETS-701B Participant Info'!E$1001=4)*('VETS-701B Participant Info'!$M$2:'VETS-701B Participant Info'!$M$1001=\"Yes\"))","v":0},null,0,0]
["White",{"$f":"SUM(('VETS-701B Participant Info'!$BV$2:'VETS-701B Participant Info'!$BV$1001=0)*('VETS-701B Participant Info'!C$2:'VETS-701B Participant Info'!C$1001=1)*('VETS-701B Participant Info'!$N$2:'VETS-701B Participant Info'!$N$1001=\"Yes\"))","v":0},{"$f":"SUM(('VETS-701B Participant Info'!$BV$2:'VETS-701B Participant Info'!$BV$1001=0)*('VETS-701B Participant Info'!E$2:'VETS-701B Participant Info'!E$1001=1)*('VETS-701B Participant Info'!$N$2:'VETS-701B Participant Info'!$N$1001=\"Yes\"))","v":0},null,{"$f":"SUM(('VETS-701B Participant Info'!$BV$2:'VETS-701B Participant Info'!$BV$1001=0)*('VETS-701B Participant Info'!C$2:'VETS-701B Participant Info'!C$1001=2)*('VETS-701B Participant Info'!$N$2:'VETS-701B Participant Info'!$N$1001=\"Yes\"))","v":0},{"$f":"SUM(('VETS-701B Participant Info'!$BV$2:'VETS-701B Participant Info'!$BV$1001=0)*('VETS-701B Participant Info'!E$2:'VETS-701B Participant Info'!E$1001=2)*('VETS-701B Participant Info'!$N$2:'VETS-701B Participant Info'!$N$1001=\"Yes\"))","v":0},null,{"$f":"SUM(('VETS-701B Participant Info'!$BV$2:'VETS-701B Participant Info'!$BV$1001=0)*('VETS-701B Participant Info'!C$2:'VETS-701B Participant Info'!C$1001=3)*('VETS-701B Participant Info'!$N$2:'VETS-701B Participant Info'!$N$1001=\"Yes\"))","v":0},{"$f":"SUM(('VETS-701B Participant Info'!$BV$2:'VETS-701B Participant Info'!$BV$1001=0)*('VETS-701B Participant Info'!E$2:'VETS-701B Participant Info'!E$1001=3)*('VETS-701B Participant Info'!$N$2:'VETS-701B Participant Info'!$N$1001=\"Yes\"))","v":0},null,{"$f":"SUM(('VETS-701B Participant Info'!$BV$2:'VETS-701B Participant Info'!$BV$1001=0)*('VETS-701B Participant Info'!C$2:'VETS-701B Participant Info'!C$1001=4)*('VETS-701B Participant Info'!$N$2:'VETS-701B Participant Info'!$N$1001=\"Yes\"))","v":0},{"$f":"SUM(('VETS-701B Participant Info'!$BV$2:'VETS-701B Participant Info'!$BV$1001=0)*('VETS-701B Participant Info'!E$2:'VETS-701B Participant Info'!E$1001=4)*('VETS-701B Participant Info'!$N$2:'VETS-701B Participant Info'!$N$1001=\"Yes\"))","v":0},null,0,0]
["Multiracial",{"$f":"SUM(('VETS-701B Participant Info'!$BV$2:'VETS-701B Participant Info'!$BV$1001=1)*('VETS-701B Participant Info'!C$2:'VETS-701B Participant Info'!C$1001=1))","v":0},{"$f":"SUM(('VETS-701B Participant Info'!$BV$2:'VETS-701B Participant Info'!$BV$1001=1)*('VETS-701B Participant Info'!E$2:'VETS-701B Participant Info'!E$1001=1))","v":0},null,{"$f":"SUM(('VETS-701B Participant Info'!$BV$2:'VETS-701B Participant Info'!$BV$1001=1)*('VETS-701B Participant Info'!C$2:'VETS-701B Participant Info'!C$1001=2))","v":0},{"$f":"SUM(('VETS-701B Participant Info'!$BV$2:'VETS-701B Participant Info'!$BV$1001=1)*('VETS-701B Participant Info'!E$2:'VETS-701B Participant Info'!E$1001=2))","v":0},null,{"$f":"SUM(('VETS-701B Participant Info'!$BV$2:'VETS-701B Participant Info'!$BV$1001=1)*('VETS-701B Participant Info'!C$2:'VETS-701B Participant Info'!C$1001=3))","v":0},{"$f":"SUM(('VETS-701B Participant Info'!$BV$2:'VETS-701B Participant Info'!$BV$1001=1)*('VETS-701B Participant Info'!E$2:'VETS-701B Participant Info'!E$1001=3))","v":0},null,{"$f":"SUM(('VETS-701B Participant Info'!$BV$2:'VETS-701B Participant Info'!$BV$1001=1)*('VETS-701B Participant Info'!C$2:'VETS-701B Participant Info'!C$1001=4))","v":0},{"$f":"SUM(('VETS-701B Participant Info'!$BV$2:'VETS-701B Participant Info'!$BV$1001=1)*('VETS-701B Participant Info'!E$2:'VETS-701B Participant Info'!E$1001=4))","v":0},null,{"$f":"B26+E26+H26+K26","v":0},{"$f":"C26+F26+I26+L26","v":0}]
["Totals:",{"$f":"SUM(B21:B26)","v":0},{"$f":"SUM(C21:C26)","v":0}," ",0,0," ",0,0," ",0,0," ",0,0]
["AGE"]
["18-19",{"$f":"SUM(('VETS-701B Participant Info'!C$2:'VETS-701B Participant Info'!C$1001=1)*('VETS-701B Participant Info'!$P$2:'VETS-701B Participant Info'!$P$1001=$A29))","v":0},{"$f":"SUM(('VETS-701B Participant Info'!E$2:'VETS-701B Participant Info'!E$1001=1)*('VETS-701B Participant Info'!$P$2:'VETS-701B Participant Info'!$P$1001=$A29))","v":0},null,{"$f":"SUM(('VETS-701B Participant Info'!C$2:'VETS-701B Participant Info'!C$1001=2)*('VETS-701B Participant Info'!$P$2:'VETS-701B Participant Info'!$P$1001=$A29))","v":0},{"$f":"SUM(('VETS-701B Participant Info'!E$2:'VETS-701B Participant Info'!E$1001=2)*('VETS-701B Participant Info'!$P$2:'VETS-701B Participant Info'!$P$1001=$A29))","v":0},null,{"$f":"SUM(('VETS-701B Participant Info'!C$2:'VETS-701B Participant Info'!C$1001=3)*('VETS-701B Participant Info'!$P$2:'VETS-701B Participant Info'!$P$1001=$A29))","v":0},{"$f":"SUM(('VETS-701B Participant Info'!E$2:'VETS-701B Participant Info'!E$1001=3)*('VETS-701B Participant Info'!$P$2:'VETS-701B Participant Info'!$P$1001=$A29))","v":0},null,{"$f":"SUM(('VETS-701B Participant Info'!C$2:'VETS-701B Participant Info'!C$1001=4)*('VETS-701B Participant Info'!$P$2:'VETS-701B Participant Info'!$P$1001=$A29))","v":0},{"$f":"SUM(('VETS-701B Participant Info'!E$2:'VETS-701B Participant Info'!E$1001=4)*('VETS-701B Participant Info'!$P$2:'VETS-701B Participant Info'!$P$1001=$A29))","v":0},null,{"$f":"B29+E29+H29+K29","v":0},0]
["20-24",{"$f":"SUM(('VETS-701B Participant Info'!C$2:'VETS-701B Participant Info'!C$1001=1)*('VETS-701B Participant Info'!$P$2:'VETS-701B Participant Info'!$P$1001=$A30))","v":0},{"$f":"SUM(('VETS-701B Participant Info'!E$2:'VETS-701B Participant Info'!E$1001=1)*('VETS-701B Participant Info'!$P$2:'VETS-701B Participant Info'!$P$1001=$A30))","v":0},null,{"$f":"SUM(('VETS-701B Participant Info'!C$2:'VETS-701B Participant Info'!C$1001=2)*('VETS-701B Participant Info'!$P$2:'VETS-701B Participant Info'!$P$1001=$A30))","v":0},{"$f":"SUM(('VETS-701B Participant Info'!E$2:'VETS-701B Participant Info'!E$1001=2)*('VETS-701B Participant Info'!$P$2:'VETS-701B Participant Info'!$P$1001=$A30))","v":0},null,{"$f":"SUM(('VETS-701B Participant Info'!C$2:'VETS-701B Participant Info'!C$1001=3)*('VETS-701B Participant Info'!$P$2:'VETS-701B Participant Info'!$P$1001=$A30))","v":0},{"$f":"SUM(('VETS-701B Participant Info'!E$2:'VETS-701B Participant Info'!E$1001=3)*('VETS-701B Participant Info'!$P$2:'VETS-701B Participant Info'!$P$1001=$A30))","v":0},null,{"$f":"SUM(('VETS-701B Participant Info'!C$2:'VETS-701B Participant Info'!C$1001=4)*('VETS-701B Participant Info'!$P$2:'VETS-701B Participant Info'!$P$1001=$A30))","v":0},{"$f":"SUM(('VETS-701B Participant Info'!E$2:'VETS-701B Participant Info'!E$1001=4)*('VETS-701B Participant Info'!$P$2:'VETS-701B Participant Info'!$P$1001=$A30))","v":0},null,0,0]
["25-29",{"$f":"SUM(('VETS-701B Participant Info'!C$2:'VETS-701B Participant Info'!C$1001=1)*('VETS-701B Participant Info'!$P$2:'VETS-701B Participant Info'!$P$1001=$A31))","v":0},{"$f":"SUM(('VETS-701B Participant Info'!E$2:'VETS-701B Participant Info'!E$1001=1)*('VETS-701B Participant Info'!$P$2:'VETS-701B Participant Info'!$P$1001=$A31))","v":0},null,{"$f":"SUM(('VETS-701B Participant Info'!C$2:'VETS-701B Participant Info'!C$1001=2)*('VETS-701B Participant Info'!$P$2:'VETS-701B Participant Info'!$P$1001=$A31))","v":0},{"$f":"SUM(('VETS-701B Participant Info'!E$2:'VETS-701B Participant Info'!E$1001=2)*('VETS-701B Participant Info'!$P$2:'VETS-701B Participant Info'!$P$1001=$A31))","v":0},null,{"$f":"SUM(('VETS-701B Participant Info'!C$2:'VETS-701B Participant Info'!C$1001=3)*('VETS-701B Participant Info'!$P$2:'VETS-701B Participant Info'!$P$1001=$A31))","v":0},{"$f":"SUM(('VETS-701B Participant Info'!E$2:'VETS-701B Participant Info'!E$1001=3)*('VETS-701B Participant Info'!$P$2:'VETS-701B Participant Info'!$P$1001=$A31))","v":0},null,{"$f":"SUM(('VETS-701B Participant Info'!C$2:'VETS-701B Participant Info'!C$1001=4)*('VETS-701B Participant Info'!$P$2:'VETS-701B Participant Info'!$P$1001=$A31))","v":0},{"$f":"SUM(('VETS-701B Participant Info'!E$2:'VETS-701B Participant Info'!E$1001=4)*('VETS-701B Participant Info'!$P$2:'VETS-701B Participant Info'!$P$1001=$A31))","v":0},null,0,0]
["30-34",{"$f":"SUM(('VETS-701B Participant Info'!C$2:'VETS-701B Participant Info'!C$1001=1)*('VETS-701B Participant Info'!$P$2:'VETS-701B Participant Info'!$P$1001=$A32))","v":0},{"$f":"SUM(('VETS-701B Participant Info'!E$2:'VETS-701B Participant Info'!E$1001=1)*('VETS-701B Participant Info'!$P$2:'VETS-701B Participant Info'!$P$1001=$A32))","v":0},null,{"$f":"SUM(('VETS-701B Participant Info'!C$2:'VETS-701B Participant Info'!C$1001=2)*('VETS-701B Participant Info'!$P$2:'VETS-701B Participant Info'!$P$1001=$A32))","v":0},{"$f":"SUM(('VETS-701B Participant Info'!E$2:'VETS-701B Participant Info'!E$1001=2)*('VETS-701B Participant Info'!$P$2:'VETS-701B Participant Info'!$P$1001=$A32))","v":0},null,{"$f":"SUM(('VETS-701B Participant Info'!C$2:'VETS-701B Participant Info'!C$1001=3)*('VETS-701B Participant Info'!$P$2:'VETS-701B Participant Info'!$P$1001=$A32))","v":0},{"$f":"SUM(('VETS-701B Participant Info'!E$2:'VETS-701B Participant Info'!E$1001=3)*('VETS-701B Participant Info'!$P$2:'VETS-701B Participant Info'!$P$1001=$A32))","v":0},null,{"$f":"SUM(('VETS-701B Participant Info'!C$2:'VETS-701B Participant Info'!C$1001=4)*('VETS-701B Participant Info'!$P$2:'VETS-701B Participant Info'!$P$1001=$A32))","v":0},{"$f":"SUM(('VETS-701B Participant Info'!E$2:'VETS-701B Participant Info'!E$1001=4)*('VETS-701B Participant Info'!$P$2:'VETS-701B Participant Info'!$P$1001=$A32))","v":0},null,0,0]
["35-44",{"$f":"SUM(('VETS-701B Participant Info'!C$2:'VETS-701B Participant Info'!C$1001=1)*('VETS-701B Participant Info'!$P$2:'VETS-701B Participant Info'!$P$1001=$A33))","v":0},{"$f":"SUM(('VETS-701B Participant Info'!E$2:'VETS-701B Participant Info'!E$1001=1)*('VETS-701B Participant Info'!$P$2:'VETS-701B Participant Info'!$P$1001=$A33))","v":0},null,{"$f":"SUM(('VETS-701B Participant Info'!C$2:'VETS-701B Participant Info'!C$1001=2)*('VETS-701B Participant Info'!$P$2:'VETS-701B Participant Info'!$P$1001=$A33))","v":0},{"$f":"SUM(('VETS-701B Participant Info'!E$2:'VETS-701B Participant Info'!E$1001=2)*('VETS-701B Participant Info'!$P$2:'VETS-701B Participant Info'!$P$1001=$A33))","v":0},null,{"$f":"SUM(('VETS-701B Participant Info'!C$2:'VETS-701B Participant Info'!C$1001=3)*('VETS-701B Participant Info'!$P$2:'VETS-701B Participant Info'!$P$1001=$A33))","v":0},{"$f":"SUM(('VETS-701B Participant Info'!E$2:'VETS-701B Participant Info'!E$1001=3)*('VETS-701B Participant Info'!$P$2:'VETS-701B Participant Info'!$P$1001=$A33))","v":0},null,{"$f":"SUM(('VETS-701B Participant Info'!C$2:'VETS-701B Participant Info'!C$1001=4)*('VETS-701B Participant Info'!$P$2:'VETS-701B Participant Info'!$P$1001=$A33))","v":0},{"$f":"SUM(('VETS-701B Participant Info'!E$2:'VETS-701B Participant Info'!E$1001=4)*('VETS-701B Participant Info'!$P$2:'VETS-701B Participant Info'!$P$1001=$A33))","v":0},null,0,0]
["45-54",{"$f":"SUM(('VETS-701B Participant Info'!C$2:'VETS-701B Participant Info'!C$1001=1)*('VETS-701B Participant Info'!$P$2:'VETS-701B Participant Info'!$P$1001=$A34))","v":0},{"$f":"SUM(('VETS-701B Participant Info'!E$2:'VETS-701B Participant Info'!E$1001=1)*('VETS-701B Participant Info'!$P$2:'VETS-701B Participant Info'!$P$1001=$A34))","v":0},null,{"$f":"SUM(('VETS-701B Participant Info'!C$2:'VETS-701B Participant Info'!C$1001=2)*('VETS-701B Participant Info'!$P$2:'VETS-701B Participant Info'!$P$1001=$A34))","v":0},{"$f":"SUM(('VETS-701B Participant Info'!E$2:'VETS-701B Participant Info'!E$1001=2)*('VETS-701B Participant Info'!$P$2:'VETS-701B Participant Info'!$P$1001=$A34))","v":0},null,{"$f":"SUM(('VETS-701B Participant Info'!C$2:'VETS-701B Participant Info'!C$1001=3)*('VETS-701B Participant Info'!$P$2:'VETS-701B Participant Info'!$P$1001=$A34))","v":0},{"$f":"SUM(('VETS-701B Participant Info'!E$2:'VETS-701B Participant Info'!E$1001=3)*('VETS-701B Participant Info'!$P$2:'VETS-701B Participant Info'!$P$1001=$A34))","v":0},null,{"$f":"SUM(('VETS-701B Participant Info'!C$2:'VETS-701B Participant Info'!C$1001=4)*('VETS-701B Participant Info'!$P$2:'VETS-701B Participant Info'!$P$1001=$A34))","v":0},{"$f":"SUM(('VETS-701B Participant Info'!E$2:'VETS-701B Participant Info'!E$1001=4)*('VETS-701B Participant Info'!$P$2:'VETS-701B Participant Info'!$P$1001=$A34))","v":0},null,0,0]
["55-64",{"$f":"SUM(('VETS-701B Participant Info'!C$2:'VETS-701B Participant Info'!C$1001=1)*('VETS-701B Participant Info'!$P$2:'VETS-701B Participant Info'!$P$1001=$A35))","v":0},{"$f":"SUM(('VETS-701B Participant Info'!E$2:'VETS-701B Participant Info'!E$1001=1)*('VETS-701B Participant Info'!$P$2:'VETS-701B Participant Info'!$P$1001=$A35))","v":0},null,{"$f":"SUM(('VETS-701B Participant Info'!C$2:'VETS-701B Participant Info'!C$1001=2)*('VETS-701B Participant Info'!$P$2:'VETS-701B Participant Info'!$P$1001=$A35))","v":0},{"$f":"SUM(('VETS-701B Participant Info'!E$2:'VETS-701B Participant Info'!E$1001=2)*('VETS-701B Participant Info'!$P$2:'VETS-701B Participant Info'!$P$1001=$A35))","v":0},null,{"$f":"SUM(('VETS-701B Participant Info'!C$2:'VETS-701B Participant Info'!C$1001=3)*('VETS-701B Participant Info'!$P$2:'VETS-701B Participant Info'!$P$1001=$A35))","v":0},{"$f":"SUM(('VETS-701B Participant Info'!E$2:'VETS-701B Participant Info'!E$1001=3)*('VETS-701B Participant Info'!$P$2:'VETS-701B Participant Info'!$P$1001=$A35))","v":0},null,{"$f":"SUM(('VETS-701B Participant Info'!C$2:'VETS-701B Participant Info'!C$1001=4)*('VETS-701B Participant Info'!$P$2:'VETS-701B Participant Info'!$P$1001=$A35))","v":0},{"$f":"SUM(('VETS-701B Participant Info'!E$2:'VETS-701B Participant Info'!E$1001=4)*('VETS-701B Participant Info'!$P$2:'VETS-701B Participant Info'!$P$1001=$A35))","v":0},null,0,0]
["65+",{"$f":"SUM(('VETS-701B Participant Info'!C$2:'VETS-701B Participant Info'!C$1001=1)*('VETS-701B Participant Info'!$P$2:'VETS-701B Participant Info'!$P$1001=$A36))","v":0},{"$f":"SUM(('VETS-701B Participant Info'!E$2:'VETS-701B Participant Info'!E$1001=1)*('VETS-701B Participant Info'!$P$2:'VETS-701B Participant Info'!$P$1001=$A36))","v":0},null,{"$f":"SUM(('VETS-701B Participant Info'!C$2:'VETS-701B Participant Info'!C$1001=2)*('VETS-701B Participant Info'!$P$2:'VETS-701B Participant Info'!$P$1001=$A36))","v":0},{"$f":"SUM(('VETS-701B Participant Info'!E$2:'VETS-701B Participant Info'!E$1001=2)*('VETS-701B Participant Info'!$P$2:'VETS-701B Participant Info'!$P$1001=$A36))","v":0},null,{"$f":"SUM(('VETS-701B Participant Info'!C$2:'VETS-701B Participant Info'!C$1001=3)*('VETS-701B Participant Info'!$P$2:'VETS-701B Participant Info'!$P$1001=$A36))","v":0},{"$f":"SUM(('VETS-701B Participant Info'!E$2:'VETS-701B Participant Info'!E$1001=3)*('VETS-701B Participant Info'!$P$2:'VETS-701B Participant Info'!$P$1001=$A36))","v":0},null,{"$f":"SUM(('VETS-701B Participant Info'!C$2:'VETS-701B Participant Info'!C$1001=4)*('VETS-701B Participant Info'!$P$2:'VETS-701B Participant Info'!$P$1001=$A36))","v":0},{"$f":"SUM(('VETS-701B Participant Info'!E$2:'VETS-701B Participant Info'!E$1001=4)*('VETS-701B Participant Info'!$P$2:'VETS-701B Participant Info'!$P$1001=$A36))","v":0},null,0,0]
["Totals:",{"$f":"SUM(B29:B36)","v":0},{"$f":"SUM(C29:C36)","v":0},null,{"$f":"SUM(E29:E36)","v":0},{"$f":"SUM(F29:F36)","v":0},null,{"$f":"SUM(H29:H36)","v":0},{"$f":"SUM(I29:I36)","v":0},null,{"$f":"SUM(K29:K36)","v":0},{"$f":"SUM(L29:L36)","v":0},null,{"$f":"SUM(N29:N36)","v":0},{"$f":"SUM(O29:O36)","v":0}]
["LAST MILITARY SERVICE"]
["0-3 Years Ago",{"$f":"SUM(('VETS-701B Participant Info'!C$2:'VETS-701B Participant Info'!C$1001=1)*('VETS-701B Participant Info'!$Q$2:'VETS-701B Participant Info'!$Q$1001=$A39))","v":0},{"$f":"SUM(('VETS-701B Participant Info'!E$2:'VETS-701B Participant Info'!E$1001=1)*('VETS-701B Participant Info'!$Q$2:'VETS-701B Participant Info'!$Q$1001=$A39))","v":0},null,{"$f":"SUM(('VETS-701B Participant Info'!C$2:'VETS-701B Participant Info'!C$1001=2)*('VETS-701B Participant Info'!$Q$2:'VETS-701B Participant Info'!$Q$1001=$A39))","v":0},{"$f":"SUM(('VETS-701B Participant Info'!E$2:'VETS-701B Participant Info'!E$1001=2)*('VETS-701B Participant Info'!$Q$2:'VETS-701B Participant Info'!$Q$1001=$A39))","v":0},null,{"$f":"SUM(('VETS-701B Participant Info'!C$2:'VETS-701B Participant Info'!C$1001=3)*('VETS-701B Participant Info'!$Q$2:'VETS-701B Participant Info'!$Q$1001=$A39))","v":0},{"$f":"SUM(('VETS-701B Participant Info'!E$2:'VETS-701B Participant Info'!E$1001=3)*('VETS-701B Participant Info'!$Q$2:'VETS-701B Participant Info'!$Q$1001=$A39))","v":0},null,{"$f":"SUM(('VETS-701B Participant Info'!C$2:'VETS-701B Participant Info'!C$1001=4)*('VETS-701B Participant Info'!$Q$2:'VETS-701B Participant Info'!$Q$1001=$A39))","v":0},{"$f":"SUM(('VETS-701B Participant Info'!E$2:'VETS-701B Participant Info'!E$1001=4)*('VETS-701B Participant Info'!$Q$2:'VETS-701B Participant Info'!$Q$1001=$A39))","v":0},null,{"$f":"B39+E39+H39+K39","v":0},0]
["4-7 Years Ago",{"$f":"SUM(('VETS-701B Participant Info'!C$2:'VETS-701B Participant Info'!C$1001=1)*('VETS-701B Participant Info'!$Q$2:'VETS-701B Participant Info'!$Q$1001=$A40))","v":0},{"$f":"SUM(('VETS-701B Participant Info'!E$2:'VETS-701B Participant Info'!E$1001=1)*('VETS-701B Participant Info'!$Q$2:'VETS-701B Participant Info'!$Q$1001=$A40))","v":0},null,{"$f":"SUM(('VETS-701B Participant Info'!C$2:'VETS-701B Participant Info'!C$1001=2)*('VETS-701B Participant Info'!$Q$2:'VETS-701B Participant Info'!$Q$1001=$A40))","v":0},{"$f":"SUM(('VETS-701B Participant Info'!E$2:'VETS-701B Participant Info'!E$1001=2)*('VETS-701B Participant Info'!$Q$2:'VETS-701B Participant Info'!$Q$1001=$A40))","v":0},null,{"$f":"SUM(('VETS-701B Participant Info'!C$2:'VETS-701B Participant Info'!C$1001=3)*('VETS-701B Participant Info'!$Q$2:'VETS-701B Participant Info'!$Q$1001=$A40))","v":0},{"$f":"SUM(('VETS-701B Participant Info'!E$2:'VETS-701B Participant Info'!E$1001=3)*('VETS-701B Participant Info'!$Q$2:'VETS-701B Participant Info'!$Q$1001=$A40))","v":0},null,{"$f":"SUM(('VETS-701B Participant Info'!C$2:'VETS-701B Participant Info'!C$1001=4)*('VETS-701B Participant Info'!$Q$2:'VETS-701B Participant Info'!$Q$1001=$A40))","v":0},{"$f":"SUM(('VETS-701B Participant Info'!E$2:'VETS-701B Participant Info'!E$1001=4)*('VETS-701B Participant Info'!$Q$2:'VETS-701B Participant Info'!$Q$1001=$A40))","v":0},null,0,0]
["8-11 Years Ago",{"$f":"SUM(('VETS-701B Participant Info'!C$2:'VETS-701B Participant Info'!C$1001=1)*('VETS-701B Participant Info'!$Q$2:'VETS-701B Participant Info'!$Q$1001=$A41))","v":0},{"$f":"SUM(('VETS-701B Participant Info'!E$2:'VETS-701B Participant Info'!E$1001=1)*('VETS-701B Participant Info'!$Q$2:'VETS-701B Participant Info'!$Q$1001=$A41))","v":0},null,{"$f":"SUM(('VETS-701B Participant Info'!C$2:'VETS-701B Participant Info'!C$1001=2)*('VETS-701B Participant Info'!$Q$2:'VETS-701B Participant Info'!$Q$1001=$A41))","v":0},{"$f":"SUM(('VETS-701B Participant Info'!E$2:'VETS-701B Participant Info'!E$1001=2)*('VETS-701B Participant Info'!$Q$2:'VETS-701B Participant Info'!$Q$1001=$A41))","v":0},null,{"$f":"SUM(('VETS-701B Participant Info'!C$2:'VETS-701B Participant Info'!C$1001=3)*('VETS-701B Participant Info'!$Q$2:'VETS-701B Participant Info'!$Q$1001=$A41))","v":0},{"$f":"SUM(('VETS-701B Participant Info'!E$2:'VETS-701B Participant Info'!E$1001=3)*('VETS-701B Participant Info'!$Q$2:'VETS-701B Participant Info'!$Q$1001=$A41))","v":0},null,{"$f":"SUM(('VETS-701B Participant Info'!C$2:'VETS-701B Participant Info'!C$1001=4)*('VETS-701B Participant Info'!$Q$2:'VETS-701B Participant Info'!$Q$1001=$A41))","v":0},{"$f":"SUM(('VETS-701B Participant Info'!E$2:'VETS-701B Participant Info'!E$1001=4)*('VETS-701B Participant Info'!$Q$2:'VETS-701B Participant Info'!$Q$1001=$A41))","v":0},null,0,0]
["12-15 Years Ago",{"$f":"SUM(('VETS-701B Participant Info'!C$2:'VETS-701B Participant Info'!C$1001=1)*('VETS-701B Participant Info'!$Q$2:'VETS-701B Participant Info'!$Q$1001=$A42))","v":0},{"$f":"SUM(('VETS-701B Participant Info'!E$2:'VETS-701B Participant Info'!E$1001=1)*('VETS-701B Participant Info'!$Q$2:'VETS-701B Participant Info'!$Q$1001=$A42))","v":0},null,{"$f":"SUM(('VETS-701B Participant Info'!C$2:'VETS-701B Participant Info'!C$1001=2)*('VETS-701B Participant Info'!$Q$2:'VETS-701B Participant Info'!$Q$1001=$A42))","v":0},{"$f":"SUM(('VETS-701B Participant Info'!E$2:'VETS-701B Participant Info'!E$1001=2)*('VETS-701B Participant Info'!$Q$2:'VETS-701B Participant Info'!$Q$1001=$A42))","v":0},null,{"$f":"SUM(('VETS-701B Participant Info'!C$2:'VETS-701B Participant Info'!C$1001=3)*('VETS-701B Participant Info'!$Q$2:'VETS-701B Participant Info'!$Q$1001=$A42))","v":0},{"$f":"SUM(('VETS-701B Participant Info'!E$2:'VETS-701B Participant Info'!E$1001=3)*('VETS-701B Participant Info'!$Q$2:'VETS-701B Participant Info'!$Q$1001=$A42))","v":0},null,{"$f":"SUM(('VETS-701B Participant Info'!C$2:'VETS-701B Participant Info'!C$1001=4)*('VETS-701B Participant Info'!$Q$2:'VETS-701B Participant Info'!$Q$1001=$A42))","v":0},{"$f":"SUM(('VETS-701B Participant Info'!E$2:'VETS-701B Participant Info'!E$1001=4)*('VETS-701B Participant Info'!$Q$2:'VETS-701B Participant Info'!$Q$1001=$A42))","v":0},null,0,0]
["16-19 Years Ago",{"$f":"SUM(('VETS-701B Participant Info'!C$2:'VETS-701B Participant Info'!C$1001=1)*('VETS-701B Participant Info'!$Q$2:'VETS-701B Participant Info'!$Q$1001=$A43))","v":0},{"$f":"SUM(('VETS-701B Participant Info'!E$2:'VETS-701B Participant Info'!E$1001=1)*('VETS-701B Participant Info'!$Q$2:'VETS-701B Participant Info'!$Q$1001=$A43))","v":0},null,{"$f":"SUM(('VETS-701B Participant Info'!C$2:'VETS-701B Participant Info'!C$1001=2)*('VETS-701B Participant Info'!$Q$2:'VETS-701B Participant Info'!$Q$1001=$A43))","v":0},{"$f":"SUM(('VETS-701B Participant Info'!E$2:'VETS-701B Participant Info'!E$1001=2)*('VETS-701B Participant Info'!$Q$2:'VETS-701B Participant Info'!$Q$1001=$A43))","v":0},null,{"$f":"SUM(('VETS-701B Participant Info'!C$2:'VETS-701B Participant Info'!C$1001=3)*('VETS-701B Participant Info'!$Q$2:'VETS-701B Participant Info'!$Q$1001=$A43))","v":0},{"$f":"SUM(('VETS-701B Participant Info'!E$2:'VETS-701B Participant Info'!E$1001=3)*('VETS-701B Participant Info'!$Q$2:'VETS-701B Participant Info'!$Q$1001=$A43))","v":0},null,{"$f":"SUM(('VETS-701B Participant Info'!C$2:'VETS-701B Participant Info'!C$1001=4)*('VETS-701B Participant Info'!$Q$2:'VETS-701B Participant Info'!$Q$1001=$A43))","v":0},{"$f":"SUM(('VETS-701B Participant Info'!E$2:'VETS-701B Participant Info'!E$1001=4)*('VETS-701B Participant Info'!$Q$2:'VETS-701B Participant Info'!$Q$1001=$A43))","v":0},null,0,0]
["20+ Years Ago",{"$f":"SUM(('VETS-701B Participant Info'!C$2:'VETS-701B Participant Info'!C$1001=1)*('VETS-701B Participant Info'!$Q$2:'VETS-701B Participant Info'!$Q$1001=$A44))","v":0},{"$f":"SUM(('VETS-701B Participant Info'!E$2:'VETS-701B Participant Info'!E$1001=1)*('VETS-701B Participant Info'!$Q$2:'VETS-701B Participant Info'!$Q$1001=$A44))","v":0},null,{"$f":"SUM(('VETS-701B Participant Info'!C$2:'VETS-701B Participant Info'!C$1001=2)*('VETS-701B Participant Info'!$Q$2:'VETS-701B Participant Info'!$Q$1001=$A44))","v":0},{"$f":"SUM(('VETS-701B Participant Info'!E$2:'VETS-701B Participant Info'!E$1001=2)*('VETS-701B Participant Info'!$Q$2:'VETS-701B Participant Info'!$Q$1001=$A44))","v":0},null,{"$f":"SUM(('VETS-701B Participant Info'!C$2:'VETS-701B Participant Info'!C$1001=3)*('VETS-701B Participant Info'!$Q$2:'VETS-701B Participant Info'!$Q$1001=$A44))","v":0},{"$f":"SUM(('VETS-701B Participant Info'!E$2:'VETS-701B Participant Info'!E$1001=3)*('VETS-701B Participant Info'!$Q$2:'VETS-701B Participant Info'!$Q$1001=$A44))","v":0},null,{"$f":"SUM(('VETS-701B Participant Info'!C$2:'VETS-701B Participant Info'!C$1001=4)*('VETS-701B Participant Info'!$Q$2:'VETS-701B Participant Info'!$Q$1001=$A44))","v":0},{"$f":"SUM(('VETS-701B Participant Info'!E$2:'VETS-701B Participant Info'!E$1001=4)*('VETS-701B Participant Info'!$Q$2:'VETS-701B Participant Info'!$Q$1001=$A44))","v":0},null,0,0]
["Totals:",{"$f":"SUM(B39:B44)","v":0},{"$f":"SUM(C39:C44)","v":0},null,{"$f":"SUM(E39:E44)","v":0},{"$f":"SUM(F39:F44)","v":0},null,{"$f":"SUM(H39:H44)","v":0},{"$f":"SUM(I39:I44)","v":0},null,{"$f":"SUM(K39:K44)","v":0},{"$f":"SUM(L39:L44)","v":0},null,{"$f":"SUM(N39:N44)","v":0},{"$f":"SUM(O39:O44)","v":0}]
["OTHER SUBGROUPS"]
["Economically Disadvantaged",{"$f":"SUM(('VETS-701B Participant Info'!C$2:'VETS-701B Participant Info'!C$1001=1)*('VETS-701B Participant Info'!$R$2:'VETS-701B Participant Info'!$R$1001=\"Yes\"))","v":0},{"$f":"SUM(('VETS-701B Participant Info'!E$2:'VETS-701B Participant Info'!E$1001=1)*('VETS-701B Participant Info'!$R$2:'VETS-701B Participant Info'!$R$1001=\"Yes\"))","v":0},null,{"$f":"SUM(('VETS-701B Participant Info'!C$2:'VETS-701B Participant Info'!C$1001=2)*('VETS-701B Participant Info'!$R$2:'VETS-701B Participant Info'!$R$1001=\"Yes\"))","v":0},{"$f":"SUM(('VETS-701B Participant Info'!E$2:'VETS-701B Participant Info'!E$1001=2)*('VETS-701B Participant Info'!$R$2:'VETS-701B Participant Info'!$R$1001=\"Yes\"))","v":0},null,{"$f":"SUM(('VETS-701B Participant Info'!C$2:'VETS-701B Participant Info'!C$1001=3)*('VETS-701B Participant Info'!$R$2:'VETS-701B Participant Info'!$R$1001=\"Yes\"))","v":0},{"$f":"SUM(('VETS-701B Participant Info'!E$2:'VETS-701B Participant Info'!E$1001=3)*('VETS-701B Participant Info'!$R$2:'VETS-701B Participant Info'!$R$1001=\"Yes\"))","v":0},null,{"$f":"SUM(('VETS-701B Participant Info'!C$2:'VETS-701B Participant Info'!C$1001=4)*('VETS-701B Participant Info'!$R$2:'VETS-701B Participant Info'!$R$1001=\"Yes\"))","v":0},{"$f":"SUM(('VETS-701B Participant Info'!E$2:'VETS-701B Participant Info'!E$1001=4)*('VETS-701B Participant Info'!$R$2:'VETS-701B Participant Info'!$R$1001=\"Yes\"))","v":0},null,{"$f":"B47+E47+H47+K47","v":0},0]
["Welfare/Public Assistance Recipient",{"$f":"SUM(('VETS-701B Participant Info'!C$2:'VETS-701B Participant Info'!C$1001=1)*('VETS-701B Participant Info'!$S$2:'VETS-701B Participant Info'!$S$1001=\"Yes\"))","v":0},{"$f":"SUM(('VETS-701B Participant Info'!E$2:'VETS-701B Participant Info'!E$1001=1)*('VETS-701B Participant Info'!$S$2:'VETS-701B Participant Info'!$S$1001=\"Yes\"))","v":0},null,{"$f":"SUM(('VETS-701B Participant Info'!C$2:'VETS-701B Participant Info'!C$1001=2)*('VETS-701B Participant Info'!$S$2:'VETS-701B Participant Info'!$S$1001=\"Yes\"))","v":0},{"$f":"SUM(('VETS-701B Participant Info'!E$2:'VETS-701B Participant Info'!E$1001=2)*('VETS-701B Participant Info'!$S$2:'VETS-701B Participant Info'!$S$1001=\"Yes\"))","v":0},null,{"$f":"SUM(('VETS-701B Participant Info'!C$2:'VETS-701B Participant Info'!C$1001=3)*('VETS-701B Participant Info'!$S$2:'VETS-701B Participant Info'!$S$1001=\"Yes\"))","v":0},{"$f":"SUM(('VETS-701B Participant Info'!E$2:'VETS-701B Participant Info'!E$1001=3)*('VETS-701B Participant Info'!$S$2:'VETS-701B Participant Info'!$S$1001=\"Yes\"))","v":0},null,{"$f":"SUM(('VETS-701B Participant Info'!C$2:'VETS-701B Participant Info'!C$1001=4)*('VETS-701B Participant Info'!$S$2:'VETS-701B Participant Info'!$S$1001=\"Yes\"))","v":0},{"$f":"SUM(('VETS-701B Participant Info'!E$2:'VETS-701B Participant Info'!E$1001=4)*('VETS-701B Participant Info'!$S$2:'VETS-701B Participant Info'!$S$1001=\"Yes\"))","v":0},null,0,0]
["Homeless",{"$f":"SUM(('VETS-701B Participant Info'!C$2:'VETS-701B Participant Info'!C$1001=1)*('VETS-701B Participant Info'!$T$2:'VETS-701B Participant Info'!$T$1001=\"Yes\"))","v":0},{"$f":"SUM(('VETS-701B Participant Info'!E$2:'VETS-701B Participant Info'!E$1001=1)*('VETS-701B Participant Info'!$T$2:'VETS-701B Participant Info'!$T$1001=\"Yes\"))","v":0},null,{"$f":"SUM(('VETS-701B Participant Info'!C$2:'VETS-701B Participant Info'!C$1001=2)*('VETS-701B Participant Info'!$T$2:'VETS-701B Participant Info'!$T$1001=\"Yes\"))","v":0},{"$f":"SUM(('VETS-701B Participant Info'!E$2:'VETS-701B Participant Info'!E$1001=2)*('VETS-701B Participant Info'!$T$2:'VETS-701B Participant Info'!$T$1001=\"Yes\"))","v":0},null,{"$f":"SUM(('VETS-701B Participant Info'!C$2:'VETS-701B Participant Info'!C$1001=3)*('VETS-701B Participant Info'!$T$2:'VETS-701B Participant Info'!$T$1001=\"Yes\"))","v":0},{"$f":"SUM(('VETS-701B Participant Info'!E$2:'VETS-701B Participant Info'!E$1001=3)*('VETS-701B Participant Info'!$T$2:'VETS-701B Participant Info'!$T$1001=\"Yes\"))","v":0},null,{"$f":"SUM(('VETS-701B Participant Info'!C$2:'VETS-701B Participant Info'!C$1001=4)*('VETS-701B Participant Info'!$T$2:'VETS-701B Participant Info'!$T$1001=\"Yes\"))","v":0},{"$f":"SUM(('VETS-701B Participant Info'!E$2:'VETS-701B Participant Info'!E$1001=4)*('VETS-701B Participant Info'!$T$2:'VETS-701B Participant Info'!$T$1001=\"Yes\"))","v":0},null,0,0]
["Homeless with Family",{"$f":"SUM(('VETS-701B Participant Info'!C$2:'VETS-701B Participant Info'!C$1001=1)*('VETS-701B Participant Info'!$U$2:'VETS-701B Participant Info'!$U$1001=\"Yes\"))","v":0},{"$f":"SUM(('VETS-701B Participant Info'!E$2:'VETS-701B Participant Info'!E$1001=1)*('VETS-701B Participant Info'!$U$2:'VETS-701B Participant Info'!$U$1001=\"Yes\"))","v":0},null,{"$f":"SUM(('VETS-701B Participant Info'!C$2:'VETS-701B Participant Info'!C$1001=2)*('VETS-701B Participant Info'!$U$2:'VETS-701B Participant Info'!$U$1001=\"Yes\"))","v":0},{"$f":"SUM(('VETS-701B Participant Info'!E$2:'VETS-701B Participant Info'!E$1001=2)*('VETS-701B Participant Info'!$U$2:'VETS-701B Participant Info'!$U$1001=\"Yes\"))","v":0},null,{"$f":"SUM(('VETS-701B Participant Info'!C$2:'VETS-701B Participant Info'!C$1001=3)*('VETS-701B Participant Info'!$U$2:'VETS-701B Participant Info'!$U$1001=\"Yes\"))","v":0},{"$f":"SUM(('VETS-701B Participant Info'!E$2:'VETS-701B Participant Info'!E$1001=3)*('VETS-701B Participant Info'!$U$2:'VETS-701B Participant Info'!$U$1001=\"Yes\"))","v":0},null,{"$f":"SUM(('VETS-701B Participant Info'!C$2:'VETS-701B Participant Info'!C$1001=4)*('VETS-701B Participant Info'!$U$2:'VETS-701B Participant Info'!$U$1001=\"Yes\"))","v":0},{"$f":"SUM(('VETS-701B Participant Info'!E$2:'VETS-701B Participant Info'!E$1001=4)*('VETS-701B Participant Info'!$U$2:'VETS-701B Participant Info'!$U$1001=\"Yes\"))","v":0},null,{"$f":"B50+E50+H50+K50","v":0},{"$f":"C50+F50+I50+L50","v":0}]
["Incarcerated or Recently Incarcerated at Risk of Homelessness",{"$f":"SUM(('VETS-701B Participant Info'!C$2:'VETS-701B Participant Info'!C$1001=1)*('VETS-701B Participant Info'!$V$2:'VETS-701B Participant Info'!$V$1001=\"Yes\"))","v":0},{"$f":"SUM(('VETS-701B Participant Info'!E$2:'VETS-701B Participant Info'!E$1001=1)*('VETS-701B Participant Info'!$V$2:'VETS-701B Participant Info'!$V$1001=\"Yes\"))","v":0},null,{"$f":"SUM(('VETS-701B Participant Info'!C$2:'VETS-701B Participant Info'!C$1001=2)*('VETS-701B Participant Info'!$V$2:'VETS-701B Participant Info'!$V$1001=\"Yes\"))","v":0},{"$f":"SUM(('VETS-701B Participant Info'!E$2:'VETS-701B Participant Info'!E$1001=2)*('VETS-701B Participant Info'!$V$2:'VETS-701B Participant Info'!$V$1001=\"Yes\"))","v":0},null,{"$f":"SUM(('VETS-701B Participant Info'!C$2:'VETS-701B Participant Info'!C$1001=3)*('VETS-701B Participant Info'!$V$2:'VETS-701B Participant Info'!$V$1001=\"Yes\"))","v":0},{"$f":"SUM(('VETS-701B Participant Info'!E$2:'VETS-701B Participant Info'!E$1001=3)*('VETS-701B Participant Info'!$V$2:'VETS-701B Participant Info'!$V$1001=\"Yes\"))","v":0},null,{"$f":"SUM(('VETS-701B Participant Info'!C$2:'VETS-701B Participant Info'!C$1001=4)*('VETS-701B Participant Info'!$V$2:'VETS-701B Participant Info'!$V$1001=\"Yes\"))","v":0},{"$f":"SUM(('VETS-701B Participant Info'!E$2:'VETS-701B Participant Info'!E$1001=4)*('VETS-701B Participant Info'!$V$2:'VETS-701B Participant Info'!$V$1001=\"Yes\"))","v":0},null,0,0]
["Homeless Female",{"$f":"SUM(('VETS-701B Participant Info'!$C$2:'VETS-701B Participant Info'!$C$1001=1)*('VETS-701B Participant Info'!$T$2:'VETS-701B Participant Info'!$T$1001=\"Yes\")*('VETS-701B Participant Info'!$H$2:'VETS-701B Participant Info'!$H$1001=\"Female\"))","v":0},{"$f":"SUM(('VETS-701B Participant Info'!$E$2:'VETS-701B Participant Info'!$E$1001=1)*('VETS-701B Participant Info'!$T$2:'VETS-701B Participant Info'!$T$1001=\"Yes\")*('VETS-701B Participant Info'!$H$2:'VETS-701B Participant Info'!$H$1001=\"Female\"))","v":0},null,{"$f":"SUM(('VETS-701B Participant Info'!$C$2:'VETS-701B Participant Info'!$C$1001=2)*('VETS-701B Participant Info'!$T$2:'VETS-701B Participant Info'!$T$1001=\"Yes\")*('VETS-701B Participant Info'!$H$2:'VETS-701B Participant Info'!$H$1001=\"Female\"))","v":0},{"$f":"SUM(('VETS-701B Participant Info'!$E$2:'VETS-701B Participant Info'!$E$1001=2)*('VETS-701B Participant Info'!$T$2:'VETS-701B Participant Info'!$T$1001=\"Yes\")*('VETS-701B Participant Info'!$H$2:'VETS-701B Participant Info'!$H$1001=\"Female\"))","v":0},null,{"$f":"SUM(('VETS-701B Participant Info'!$C$2:'VETS-701B Participant Info'!$C$1001=3)*('VETS-701B Participant Info'!$T$2:'VETS-701B Participant Info'!$T$1001=\"Yes\")*('VETS-701B Participant Info'!$H$2:'VETS-701B Participant Info'!$H$1001=\"Female\"))","v":0},{"$f":"SUM(('VETS-701B Participant Info'!$E$2:'VETS-701B Participant Info'!$E$1001=3)*('VETS-701B Participant Info'!$T$2:'VETS-701B Participant Info'!$T$1001=\"Yes\")*('VETS-701B Participant Info'!$H$2:'VETS-701B Participant Info'!$H$1001=\"Female\"))","v":0},null,{"$f":"SUM(('VETS-701B Participant Info'!$C$2:'VETS-701B Participant Info'!$C$1001=4)*('VETS-701B Participant Info'!$T$2:'VETS-701B Participant Info'!$T$1001=\"Yes\")*('VETS-701B Participant Info'!$H$2:'VETS-701B Participant Info'!$H$1001=\"Female\"))","v":0},{"$f":"SUM(('VETS-701B Participant Info'!$E$2:'VETS-701B Participant Info'!$E$1001=4)*('VETS-701B Participant Info'!$T$2:'VETS-701B Participant Info'!$T$1001=\"Yes\")*('VETS-701B Participant Info'!$H$2:'VETS-701B Participant Info'!$H$1001=\"Female\"))","v":0},null,0,0]
["Disabled",{"$f":"SUM(('VETS-701B Participant Info'!C$2:'VETS-701B Participant Info'!C$1001=1)*('VETS-701B Participant Info'!$W$2:'VETS-701B Participant Info'!$W$1001=\"Yes\"))","v":0},{"$f":"SUM(('VETS-701B Participant Info'!E$2:'VETS-701B Participant Info'!E$1001=1)*('VETS-701B Participant Info'!$W$2:'VETS-701B Participant Info'!$W$1001=\"Yes\"))","v":0},null,{"$f":"SUM(('VETS-701B Participant Info'!C$2:'VETS-701B Participant Info'!C$1001=2)*('VETS-701B Participant Info'!$W$2:'VETS-701B Participant Info'!$W$1001=\"Yes\"))","v":0},{"$f":"SUM(('VETS-701B Participant Info'!E$2:'VETS-701B Participant Info'!E$1001=2)*('VETS-701B Participant Info'!$W$2:'VETS-701B Participant Info'!$W$1001=\"Yes\"))","v":0},null,{"$f":"SUM(('VETS-701B Participant Info'!C$2:'VETS-701B Participant Info'!C$1001=3)*('VETS-701B Participant Info'!$W$2:'VETS-701B Participant Info'!$W$1001=\"Yes\"))","v":0},{"$f":"SUM(('VETS-701B Participant Info'!E$2:'VETS-701B Participant Info'!E$1001=3)*('VETS-701B Participant Info'!$W$2:'VETS-701B Participant Info'!$W$1001=\"Yes\"))","v":0},null,{"$f":"SUM(('VETS-701B Participant Info'!C$2:'VETS-701B Participant Info'!C$1001=4)*('VETS-701B Participant Info'!$W$2:'VETS-701B Participant Info'!$W$1001=\"Yes\"))","v":0},{"$f":"SUM(('VETS-701B Participant Info'!E$2:'VETS-701B Participant Info'!E$1001=4)*('VETS-701B Participant Info'!$W$2:'VETS-701B Participant Info'!$W$1001=\"Yes\"))","v":0},null,0,0]
["Special Disabled",{"$f":"SUM(('VETS-701B Participant Info'!C$2:'VETS-701B Participant Info'!C$1001=1)*('VETS-701B Participant Info'!$X$2:'VETS-701B Participant Info'!$X$1001=\"Yes\"))","v":0},{"$f":"SUM(('VETS-701B Participant Info'!E$2:'VETS-701B Participant Info'!E$1001=1)*('VETS-701B Participant Info'!$X$2:'VETS-701B Participant Info'!$X$1001=\"Yes\"))","v":0},null,{"$f":"SUM(('VETS-701B Participant Info'!C$2:'VETS-701B Participant Info'!C$1001=2)*('VETS-701B Participant Info'!$X$2:'VETS-701B Participant Info'!$X$1001=\"Yes\"))","v":0},{"$f":"SUM(('VETS-701B Participant Info'!E$2:'VETS-701B Participant Info'!E$1001=2)*('VETS-701B Participant Info'!$X$2:'VETS-701B Participant Info'!$X$1001=\"Yes\"))","v":0},null,{"$f":"SUM(('VETS-701B Participant Info'!C$2:'VETS-701B Participant Info'!C$1001=3)*('VETS-701B Participant Info'!$X$2:'VETS-701B Participant Info'!$X$1001=\"Yes\"))","v":0},{"$f":"SUM(('VETS-701B Participant Info'!E$2:'VETS-701B Participant Info'!E$1001=3)*('VETS-701B Participant Info'!$X$2:'VETS-701B Participant Info'!$X$1001=\"Yes\"))","v":0},null,{"$f":"SUM(('VETS-701B Participant Info'!C$2:'VETS-701B Participant Info'!C$1001=4)*('VETS-701B Participant Info'!$X$2:'VETS-701B Participant Info'!$X$1001=\"Yes\"))","v":0},{"$f":"SUM(('VETS-701B Participant Info'!E$2:'VETS-701B Participant Info'!E$1001=4)*('VETS-701B Participant Info'!$X$2:'VETS-701B Participant Info'!$X$1001=\"Yes\"))","v":0},null,0,0]
["Campaign Badge",{"$f":"SUM(('VETS-701B Participant Info'!C$2:'VETS-701B Participant Info'!C$1001=1)*('VETS-701B Participant Info'!$Y$2:'VETS-701B Participant Info'!$Y$1001=\"Yes\"))","v":0},{"$f":"SUM(('VETS-701B Participant Info'!E$2:'VETS-701B Participant Info'!E$1001=1)*('VETS-701B Participant Info'!$Y$2:'VETS-701B Participant Info'!$Y$1001=\"Yes\"))","v":0},null,{"$f":"SUM(('VETS-701B Participant Info'!C$2:'VETS-701B Participant Info'!C$1001=2)*('VETS-701B Participant Info'!$Y$2:'VETS-701B Participant Info'!$Y$1001=\"Yes\"))","v":0},{"$f":"SUM(('VETS-701B Participant Info'!E$2:'VETS-701B Participant Info'!E$1001=2)*('VETS-701B Participant Info'!$Y$2:'VETS-701B Participant Info'!$Y$1001=\"Yes\"))","v":0},null,{"$f":"SUM(('VETS-701B Participant Info'!C$2:'VETS-701B Participant Info'!C$1001=3)*('VETS-701B Participant Info'!$Y$2:'VETS-701B Participant Info'!$Y$1001=\"Yes\"))","v":0},{"$f":"SUM(('VETS-701B Participant Info'!E$2:'VETS-701B Participant Info'!E$1001=3)*('VETS-701B Participant Info'!$Y$2:'VETS-701B Participant Info'!$Y$1001=\"Yes\"))","v":0},null,{"$f":"SUM(('VETS-701B Participant Info'!C$2:'VETS-701B Participant Info'!C$1001=4)*('VETS-701B Participant Info'!$Y$2:'VETS-701B Participant Info'!$Y$1001=\"Yes\"))","v":0},{"$f":"SUM(('VETS-701B Participant Info'!E$2:'VETS-701B Participant Info'!E$1001=4)*('VETS-701B Participant Info'!$Y$2:'VETS-701B Participant Info'!$Y$1001=\"Yes\"))","v":0},null,0,0]
["Recently Separtated/Newly Separated",{"$f":"SUM(('VETS-701B Participant Info'!C$2:'VETS-701B Participant Info'!C$1001=1)*('VETS-701B Participant Info'!$Z$2:'VETS-701B Participant Info'!$Z$1001=\"Yes\"))","v":0},{"$f":"SUM(('VETS-701B Participant Info'!E$2:'VETS-701B Participant Info'!E$1001=1)*('VETS-701B Participant Info'!$Z$2:'VETS-701B Participant Info'!$Z$1001=\"Yes\"))","v":0},null,{"$f":"SUM(('VETS-701B Participant Info'!C$2:'VETS-701B Participant Info'!C$1001=2)*('VETS-701B Participant Info'!$Z$2:'VETS-701B Participant Info'!$Z$1001=\"Yes\"))","v":0},{"$f":"SUM(('VETS-701B Participant Info'!E$2:'VETS-701B Participant Info'!E$1001=2)*('VETS-701B Participant Info'!$Z$2:'VETS-701B Participant Info'!$Z$1001=\"Yes\"))","v":0},null,{"$f":"SUM(('VETS-701B Participant Info'!C$2:'VETS-701B Participant Info'!C$1001=3)*('VETS-701B Participant Info'!$Z$2:'VETS-701B Participant Info'!$Z$1001=\"Yes\"))","v":0},{"$f":"SUM(('VETS-701B Participant Info'!E$2:'VETS-701B Participant Info'!E$1001=3)*('VETS-701B Participant Info'!$Z$2:'VETS-701B Participant Info'!$Z$1001=\"Yes\"))","v":0},null,{"$f":"SUM(('VETS-701B Participant Info'!C$2:'VETS-701B Participant Info'!C$1001=4)*('VETS-701B Participant Info'!$Z$2:'VETS-701B Participant Info'!$Z$1001=\"Yes\"))","v":0},{"$f":"SUM(('VETS-701B Participant Info'!E$2:'VETS-701B Participant Info'!E$1001=4)*('VETS-701B Participant Info'!$Z$2:'VETS-701B Participant Info'!$Z$1001=\"Yes\"))","v":0},null,0,0]
["Stand-Down",{"$f":"SUM(('VETS-701B Participant Info'!C$2:'VETS-701B Participant Info'!C$1001=1)*('VETS-701B Participant Info'!$AA$2:'VETS-701B Participant Info'!$AA$1001=\"Yes\"))","v":0},{"$f":"SUM(('VETS-701B Participant Info'!E$2:'VETS-701B Participant Info'!E$1001=1)*('VETS-701B Participant Info'!$AA$2:'VETS-701B Participant Info'!$AA$1001=\"Yes\"))","v":0},null,{"$f":"SUM(('VETS-701B Participant Info'!C$2:'VETS-701B Participant Info'!C$1001=2)*('VETS-701B Participant Info'!$AA$2:'VETS-701B Participant Info'!$AA$1001=\"Yes\"))","v":0},{"$f":"SUM(('VETS-701B Participant Info'!E$2:'VETS-701B Participant Info'!E$1001=2)*('VETS-701B Participant Info'!$AA$2:'VETS-701B Participant Info'!$AA$1001=\"Yes\"))","v":0},null,{"$f":"SUM(('VETS-701B Participant Info'!C$2:'VETS-701B Participant Info'!C$1001=3)*('VETS-701B Participant Info'!$AA$2:'VETS-701B Participant Info'!$AA$1001=\"Yes\"))","v":0},{"$f":"SUM(('VETS-701B Participant Info'!E$2:'VETS-701B Participant Info'!E$1001=3)*('VETS-701B Participant Info'!$AA$2:'VETS-701B Participant Info'!$AA$1001=\"Yes\"))","v":0},null,{"$f":"SUM(('VETS-701B Participant Info'!C$2:'VETS-701B Participant Info'!C$1001=4)*('VETS-701B Participant Info'!$AA$2:'VETS-701B Participant Info'!$AA$1001=\"Yes\"))","v":0},{"$f":"SUM(('VETS-701B Participant Info'!E$2:'VETS-701B Participant Info'!E$1001=4)*('VETS-701B Participant Info'!$AA$2:'VETS-701B Participant Info'!$AA$1001=\"Yes\"))","v":0},null,0,0]
["Chronically Homeless",{"$f":"SUM(('VETS-701B Participant Info'!C$2:'VETS-701B Participant Info'!C$1001=1)*('VETS-701B Participant Info'!$AB$2:'VETS-701B Participant Info'!$AB$1001=\"Yes\"))","v":0},{"$f":"SUM(('VETS-701B Participant Info'!E$2:'VETS-701B Participant Info'!E$1001=1)*('VETS-701B Participant Info'!$AB$2:'VETS-701B Participant Info'!$AB$1001=\"Yes\"))","v":0},null,{"$f":"SUM(('VETS-701B Participant Info'!C$2:'VETS-701B Participant Info'!C$1001=2)*('VETS-701B Participant Info'!$AB$2:'VETS-701B Participant Info'!$AB$1001=\"Yes\"))","v":0},{"$f":"SUM(('VETS-701B Participant Info'!E$2:'VETS-701B Participant Info'!E$1001=2)*('VETS-701B Participant Info'!$AB$2:'VETS-701B Participant Info'!$AB$1001=\"Yes\"))","v":0},null,{"$f":"SUM(('VETS-701B Participant Info'!C$2:'VETS-701B Participant Info'!C$1001=3)*('VETS-701B Participant Info'!$AB$2:'VETS-701B Participant Info'!$AB$1001=\"Yes\"))","v":0},{"$f":"SUM(('VETS-701B Participant Info'!E$2:'VETS-701B Participant Info'!E$1001=3)*('VETS-701B Participant Info'!$AB$2:'VETS-701B Participant Info'!$AB$1001=\"Yes\"))","v":0},null,{"$f":"SUM(('VETS-701B Participant Info'!C$2:'VETS-701B Participant Info'!C$1001=4)*('VETS-701B Participant Info'!$AB$2:'VETS-701B Participant Info'!$AB$1001=\"Yes\"))","v":0},{"$f":"SUM(('VETS-701B Participant Info'!E$2:'VETS-701B Participant Info'!E$1001=4)*('VETS-701B Participant Info'!$AB$2:'VETS-701B Participant Info'!$AB$1001=\"Yes\"))","v":0},null,0,0]
["Operation Iraqi Freedom",{"$f":"SUM(('VETS-701B Participant Info'!C$2:'VETS-701B Participant Info'!C$1001=1)*('VETS-701B Participant Info'!$AC$2:'VETS-701B Participant Info'!$AC$1001=\"Yes\"))","v":0},{"$f":"SUM(('VETS-701B Participant Info'!E$2:'VETS-701B Participant Info'!E$1001=1)*('VETS-701B Participant Info'!$AC$2:'VETS-701B Participant Info'!$AC$1001=\"Yes\"))","v":0},null,{"$f":"SUM(('VETS-701B Participant Info'!C$2:'VETS-701B Participant Info'!C$1001=2)*('VETS-701B Participant Info'!$AC$2:'VETS-701B Participant Info'!$AC$1001=\"Yes\"))","v":0},{"$f":"SUM(('VETS-701B Participant Info'!E$2:'VETS-701B Participant Info'!E$1001=2)*('VETS-701B Participant Info'!$AC$2:'VETS-701B Participant Info'!$AC$1001=\"Yes\"))","v":0},null,{"$f":"SUM(('VETS-701B Participant Info'!C$2:'VETS-701B Participant Info'!C$1001=3)*('VETS-701B Participant Info'!$AC$2:'VETS-701B Participant Info'!$AC$1001=\"Yes\"))","v":0},{"$f":"SUM(('VETS-701B Participant Info'!E$2:'VETS-701B Participant Info'!E$1001=3)*('VETS-701B Participant Info'!$AC$2:'VETS-701B Participant Info'!$AC$1001=\"Yes\"))","v":0},null,{"$f":"SUM(('VETS-701B Participant Info'!C$2:'VETS-701B Participant Info'!C$1001=4)*('VETS-701B Participant Info'!$AC$2:'VETS-701B Participant Info'!$AC$1001=\"Yes\"))","v":0},{"$f":"SUM(('VETS-701B Participant Info'!E$2:'VETS-701B Participant Info'!E$1001=4)*('VETS-701B Participant Info'!$AC$2:'VETS-701B Participant Info'!$AC$1001=\"Yes\"))","v":0},null,0,0]
["Operation Enduring Freedom",{"$f":"SUM(('VETS-701B Participant Info'!C$2:'VETS-701B Participant Info'!C$1001=1)*('VETS-701B Participant Info'!$AD$2:'VETS-701B Participant Info'!$AD$1001=\"Yes\"))","v":0},{"$f":"SUM(('VETS-701B Participant Info'!E$2:'VETS-701B Participant Info'!E$1001=1)*('VETS-701B Participant Info'!$AD$2:'VETS-701B Participant Info'!$AD$1001=\"Yes\"))","v":0},null,{"$f":"SUM(('VETS-701B Participant Info'!C$2:'VETS-701B Participant Info'!C$1001=2)*('VETS-701B Participant Info'!$AD$2:'VETS-701B Participant Info'!$AD$1001=\"Yes\"))","v":0},{"$f":"SUM(('VETS-701B Participant Info'!E$2:'VETS-701B Participant Info'!E$1001=2)*('VETS-701B Participant Info'!$AD$2:'VETS-701B Participant Info'!$AD$1001=\"Yes\"))","v":0},null,{"$f":"SUM(('VETS-701B Participant Info'!C$2:'VETS-701B Participant Info'!C$1001=3)*('VETS-701B Participant Info'!$AD$2:'VETS-701B Participant Info'!$AD$1001=\"Yes\"))","v":0},{"$f":"SUM(('VETS-701B Participant Info'!E$2:'VETS-701B Participant Info'!E$1001=3)*('VETS-701B Participant Info'!$AD$2:'VETS-701B Participant Info'!$AD$1001=\"Yes\"))","v":0},null,{"$f":"SUM(('VETS-701B Participant Info'!C$2:'VETS-701B Participant Info'!C$1001=4)*('VETS-701B Participant Info'!$AD$2:'VETS-701B Participant Info'!$AD$1001=\"Yes\"))","v":0},{"$f":"SUM(('VETS-701B Participant Info'!E$2:'VETS-701B Participant Info'!E$1001=4)*('VETS-701B Participant Info'!$AD$2:'VETS-701B Participant Info'!$AD$1001=\"Yes\"))","v":0},null,0,0]
{"$rows_empty":12}
[{"$nulls":14},"VETS-701 A"]
[{"$nulls":14},"Demographics Summary"]
[{"$nulls":14},"(Revised April 2016)"]

{"sheet":"VETS-701B Participant Info","index":3,"n_rows":1541,"n_cols":74,"rows_kept":1541,"merged":[[1002,46,1002,47],[1003,46,1003,47],[1004,46,1004,47]]}
["Participant ID\n(DO NOT USE SSN)","Participant Name - (Do not use Actual Full Names) First four Letters last name, followed by First/Middle Initials (e.g. Robert B. Johnson = JOHNRB)","Quarter Enrolled","Quarter Co-Enrolled in AJC","Quarter Placed","Quarter of Exit ","Hourly Wage at Placement","Gender","Ethnicity","American Indian or Alaska Native","Asian","Black or African American","Native Hawaiian or Other Pacific Islander","White","Multiracial (Automatically Calculated)","Age","Last Military Service","Economically Disadvantaged","Welfare Recipient","Homeless","Homeless with Family","Incarcerated or Recently Incarcerated at Risk of Homelessness","Disabled","Special Disabled","Campaign Badge","Recently/Newly Separated","Stand-Down","Chronically Homeless","Operation Iraqi Freedom","Operation Enduring Freedom","Quarter Placed in Transitional or Permanent Housing","Quarter Referred to VA for Benefits","Quarter First Provided\nTraining (Auto Calculated)","Quarter First Provided Classroom Training","Quarter First Provided On-The-Job Training","Quarter First Provided Occup. Skills Training","Quarter First Provided Apprenticeship Training","Quarter First Provided Skill Upgrading and Retraining","Quarter First Provided Other Training","Quarter First Provided\nJob Search Assistance","Quarter First Provided\nLife Skills and Money Management","Quarter First Provided\nCounseling/Vocational Guidance","Quarter First Provided\nJob Club Workshop","Quarter First Provided Compensated Work Therapy","Quarter First Provided\nTools/Fees/Specific Work Clothing/Boots","Quarter First Provided Other Supportive Services",{"$nulls":12},"female homeless",{"$nulls":3},"homeless with family",null,"incareracted vets",null,"chronically homeless",null,"American Indian or Alaska Native","Asian","Black or African American","Native Hawaiian or Other Pacific Islander","White","multi"]
[{"$nulls":14},{"$f":"IF($BV2=1,\"Yes\",\"No\")","v":"No"},{"$nulls":17},{"$f":"MIN(AH2:AM2)","v":0},{"$nulls":14},{"$f":"F2","v":0},{"$nulls":9},{"$f":"IF($BG2+$BK2+$BM2+$BO2 > 0,1,0)","v":0},{"$f":"IF(BH2+BI2=2,1,0)","v":0},{"$f":"IF($T2=\"Yes\",1,0)","v":0},{"$f":"IF($H2 = \"Female\",1,0)","v":0},null,{"$f":"IF($U2=\"Yes\",1,0)","v":0},null,{"$f":"IF($V2=\"Yes\",1,0)","v":0},null,{"$f":"IF($AB2=\"Yes\",1,0)","v":0},null,{"$f":"IF($J2=\"Yes\",1,0)","v":0},{"$f":"IF($K2=\"Yes\",1,0)","v":0},{"$f":"IF($L2=\"Yes\",1,0)","v":0},{"$f":"IF($M2=\"Yes\",1,0)","v":0},{"$f":"IF($N2=\"Yes\",1,0)","v":0},{"$f":"IF(BQ2+BR2+BS2+BT2+BU2>1,1,0)","v":0}]
[{"$nulls":14},{"$f":"IF($BV3=1,\"Yes\",\"No\")","v":"No"},{"$nulls":17},{"$f":"MIN(AH3:AM3)","v":0},{"$nulls":14},{"$f":"F3","v":0},{"$nulls":9},0,{"$f":"IF(BH3+BI3=2,1,0)","v":0},0,0,null,0,null,0,null,0,null,{"$f":"IF($J3=\"Yes\",1,0)","v":0},{"$f":"IF($K3=\"Yes\",1,0)","v":0},{"$f":"IF($L3=\"Yes\",1,0)","v":0},{"$f":"IF($M3=\"Yes\",1,0)","v":0},{"$f":"IF($N3=\"Yes\",1,0)","v":0},{"$f":"IF(BQ3+BR3+BS3+BT3+BU3>1,1,0)","v":0}]
[{"$nulls":14},"No",{"$nulls":17},0,{"$nulls":14},0,{"$nulls":9},0,0,0,0,null,0,null,0,null,0,null,0,0,0,0,0,0]
[{"$nulls":14},"No",{"$nulls":17},0,{"$nulls":14},0,{"$nulls":9},0,0,0,0,null,0,null,0,null,0,null,0,0,0,0,0,0]
[{"$nulls":14},"No",{"$nulls":17},0,{"$nulls":14},0,{"$nulls":9},0,0,0,0,null,0,null,0,null,0,null,0,0,0,0,0,0]
[{"$nulls":14},"No",{"$nulls":17},0,{"$nulls":14},0,{"$nulls":9},0,0,0,0,null,0,null,0,null,0,null,0,0,0,0,0,0]
[{"$nulls":14},"No",{"$nulls":17},0,{"$nulls":14},0,{"$nulls":9},0,0,0,0,null,0,null,0,null,0,null,0,0,0,0,0,0]
[{"$nulls":14},"No",{"$nulls":17},0,{"$nulls":14},0,{"$nulls":9},0,0,0,0,null,0,null,0,null,0,null,0,0,0,0,0,0]
[{"$nulls":14},"No",{"$nulls":17},0,{"$nulls":14},0,{"$nulls":9},0,0,0,0,null,0,null,0,null,0,null,0,0,0,0,0,0]
[{"$nulls":14},"No",{"$nulls":17},0,{"$nulls":14},0,{"$nulls":9},0,0,0,0,null,0,null,0,null,0,null,0,0,0,0,0,0]
[{"$nulls":14},"No",{"$nulls":17},0,{"$nulls":14},0,{"$nulls":9},0,0,0,0,null,0,null,0,null,0,null,0,0,0,0,0,0]
[{"$nulls":14},"No",{"$nulls":17},0,{"$nulls":14},0,{"$nulls":9},0,0,0,0,null,0,null,0,null,0,null,0,0,0,0,0,0]
[{"$nulls":14},"No",{"$nulls":17},0,{"$nulls":14},0,{"$nulls":9},0,0,0,0,null,0,null,0,null,0,null,0,0,0,0,0,0]
[{"$nulls":14},"No",{"$nulls":17},0,{"$nulls":14},0,{"$nulls":9},0,0,0,0,null,0,null,0,null,0,null,0,0,0,0,0,0]
[{"$nulls":14},"No",{"$nulls":17},0,{"$nulls":14},0,{"$nulls":9},0,0,0,0,null,0,null,0,null,0,null,0,0,0,0,0,0]
[{"$nulls":14},"No",{"$nulls":17},0,{"$nulls":14},0,{"$nulls":9},0,0,0,0,null,0,null,0,null,0,null,0,0,0,0,0,0]
[{"$nulls":14},"No",{"$nulls":17},0,{"$nulls":14},0,{"$nulls":9},0,0,0,0,null,0,null,0,null,0,null,0,0,0,0,0,0]
[{"$nulls":14},"No",{"$nulls":17},0,{"$nulls":14},0,{"$nulls":9},0,0,0,0,null,0,null,0,null,0,null,0,0,0,0,0,0]
[{"$nulls":14},"No",{"$nulls":17},0,{"$nulls":14},0,{"$nulls":9},0,0,0,0,null,0,null,0,null,0,null,0,0,0,0,0,0]
[{"$nulls":14},"No",{"$nulls":17},0,{"$nulls":14},0,{"$nulls":9},0,0,0,0,null,0,null,0,null,0,null,0,0,0,0,0,0]
[{"$nulls":14},"No",{"$nulls":17},0,{"$nulls":14},0,{"$nulls":9},0,0,0,0,null,0,null,0,null,0,null,0,0,0,0,0,0]
[{"$nulls":14},"No",{"$nulls":17},0,{"$nulls":14},0,{"$nulls":9},0,0,0,0,null,0,null,0,null,0,null,0,0,0,0,0,0]
[{"$nulls":14},"No",{"$nulls":17},0,{"$nulls":14},0,{"$nulls":9},0,0,0,0,null,0,null,0,null,0,null,0,0,0,0,0,0]
[{"$nulls":14},"No",{"$nulls":17},0,{"$nulls":14},0,{"$nulls":9},0,0,0,0,null,0,null,0,null,0,null,0,0,0,0,0,0]
[{"$nulls":14},"No",{"$nulls":17},0,{"$nulls":14},0,{"$nulls":9},0,0,0,0,null,0,null,0,null,0,null,0,0,0,0,0,0]
[{"$nulls":14},"No",{"$nulls":17},0,{"$nulls":14},0,{"$nulls":9},0,0,0,0,null,0,null,0,null,0,null,0,0,0,0,0,0]
[{"$nulls":14},"No",{"$nulls":17},0,{"$nulls":14},0,{"$nulls":9},0,0,0,0,null,0,null,0,null,0,null,0,0,0,0,0,0]
[{"$nulls":14},"No",{"$nulls":17},0,{"$nulls":14},0,{"$nulls":9},0,0,0,0,null,0,null,0,null,0,null,0,0,0,0,0,0]
[{"$nulls":14},"No",{"$nulls":17},0,{"$nulls":14},0,{"$nulls":9},0,0,0,0,null,0,null,0,null,0,null,0,0,0,0,0,0]
[{"$nulls":14},"No",{"$nulls":17},0,{"$nulls":14},0,{"$nulls":9},0,0,0,0,null,0,null,0,null,0,null,0,0,0,0,0,0]
[{"$nulls":14},"No",{"$nulls":17},0,{"$nulls":14},0,{"$nulls":9},0,0,0,0,null,0,null,0,null,0,null,0,0,0,0,0,0]
[{"$nulls":14},"No",{"$nulls":17},0,{"$nulls":14},0,{"$nulls":9},0,0,0,0,null,0,null,0,null,0,null,0,0,0,0,0,0]
[{"$nulls":14},"No",{"$nulls":17},0,{"$nulls":14},0,{"$nulls":9},0,0,0,0,null,0,null,0,null,0,null,0,0,0,0,0,0]
[{"$nulls":14},"No",{"$nulls":17},0,{"$nulls":14},0,{"$nulls":9},0,0,0,0,null,0,null,0,null,0,null,0,0,0,0,0,0]
[{"$nulls":14},"No",{"$nulls":17},0,{"$nulls":14},0,{"$nulls":9},0,0,0,0,null,0,null,0,null,0,null,0,0,0,0,0,0]
[{"$nulls":14},"No",{"$nulls":17},0,{"$nulls":14},0,{"$nulls":9},0,0,0,0,null,0,null,0,null,0,null,0,0,0,0,0,0]
[{"$nulls":14},"No",{"$nulls":17},0,{"$nulls":14},0,{"$nulls":9},0,0,0,0,null,0,null,0,null,0,null,0,0,0,0,0,0]
[{"$nulls":14},"No",{"$nulls":17},0,{"$nulls":14},0,{"$nulls":9},0,0,0,0,null,0,null,0,null,0,null,0,0,0,0,0,0]
[{"$nulls":14},"No",{"$nulls":17},0,{"$nulls":14},0,{"$nulls":9},0,0,0,0,null,0,null,0,null,0,null,0,0,0,0,0,0]
[{"$nulls":14},"No",{"$nulls":17},0,{"$nulls":14},0,{"$nulls":9},0,0,0,0,null,0,null,0,null,0,null,0,0,0,0,0,0]
[{"$nulls":14},"No",{"$nulls":17},0,{"$nulls":14},0,{"$nulls":9},0,0,0,0,null,0,null,0,null,0,null,0,0,0,0,0,0]
[{"$nulls":14},"No",{"$nulls":17},0,{"$nulls":14},0,{"$nulls":9},0,0,0,0,null,0,null,0,null,0,null,0,0,0,0,0,0]
[{"$nulls":14},"No",{"$nulls":17},0,{"$nulls":14},0,{"$nulls":9},0,0,0,0,null,0,null,0,null,0,null,0,0,0,0,0,0]
[{"$nulls":14},"No",{"$nulls":17},0,{"$nulls":14},0,{"$nulls":9},0,0,0,0,null,0,null,0,null,0,null,0,0,0,0,0,0]
[{"$nulls":14},"No",{"$nulls":17},0,{"$nulls":14},0,{"$nulls":9},0,0,0,0,null,0,null,0,null,0,null,0,0,0,0,0,0]
[{"$nulls":14},"No",{"$nulls":17},0,{"$nulls":14},0,{"$nulls":9},0,0,0,0,null,0,null,0,null,0,null,0,0,0,0,0,0]
[{"$nulls":14},"No",{"$nulls":17},0,{"$nulls":14},0,{"$nulls":9},0,0,0,0,null,0,null,0,null,0,null,0,0,0,0,0,0]
[{"$nulls":14},"No",{"$nulls":17},0,{"$nulls":14},0,{"$nulls":9},0,0,0,0,null,0,null,0,null,0,null,0,0,0,0,0,0]
[{"$nulls":14},"No",{"$nulls":17},0,{"$nulls":14},0,{"$nulls":9},0,0,0,0,null,0,null,0,null,0,null,0,0,0,0,0,0]
[{"$nulls":14},"No",{"$nulls":17},0,{"$nulls":14},0,{"$nulls":9},0,0,0,0,null,0,null,0,null,0,null,0,0,0,0,0,0]
[{"$nulls":14},"No",{"$nulls":17},0,{"$nulls":14},0,{"$nulls":9},0,0,0,0,null,0,null,0,null,0,null,0,0,0,0,0,0]
[{"$nulls":14},"No",{"$nulls":17},0,{"$nulls":14},0,{"$nulls":9},0,0,0,0,null,0,null,0,null,0,null,0,0,0,0,0,0]
[{"$nulls":14},"No",{"$nulls":17},0,{"$nulls":14},0,{"$nulls":9},0,0,0,0,null,0,null,0,null,0,null,0,0,0,0,0,0]
[{"$nulls":14},"No",{"$nulls":17},0,{"$nulls":14},0,{"$nulls":9},0,0,0,0,null,0,null,0,null,0,null,0,0,0,0,0,0]
[{"$nulls":14},"No",{"$nulls":17},0,{"$nulls":14},0,{"$nulls":9},0,0,0,0,null,0,null,0,null,0,null,0,0,0,0,0,0]
[{"$nulls":14},"No",{"$nulls":17},0,{"$nulls":14},0,{"$nulls":9},0,0,0,0,null,0,null,0,null,0,null,0,0,0,0,0,0]
[{"$nulls":14},"No",{"$nulls":17},0,{"$nulls":14},0,{"$nulls":9},0,0,0,0,null,0,null,0,null,0,null,0,0,0,0,0,0]
[{"$nulls":14},"No",{"$nulls":17},0,{"$nulls":14},0,{"$nulls":9},0,0,0,0,null,0,null,0,null,0,null,0,0,0,0,0,0]
[{"$nulls":14},"No",{"$nulls":17},0,{"$nulls":14},0,{"$nulls":9},0,0,0,0,null,0,null,0,null,0,null,0,0,0,0,0,0]
[{"$nulls":14},"No",{"$nulls":17},0,{"$nulls":14},0,{"$nulls":9},0,0,0,0,null,0,null,0,null,0,null,0,0,0,0,0,0]
[{"$nulls":14},"No",{"$nulls":17},0,{"$nulls":14},0,{"$nulls":9},0,0,0,0,null,0,null,0,null,0,null,0,0,0,0,0,0]
[{"$nulls":14},"No",{"$nulls":17},0,{"$nulls":14},0,{"$nulls":9},0,0,0,0,null,0,null,0,null,0,null,0,0,0,0,0,0]
[{"$nulls":14},"No",{"$nulls":17},0,{"$nulls":14},0,{"$nulls":9},0,0,0,0,null,0,null,0,null,0,null,0,0,0,0,0,0]
[{"$nulls":14},"No",{"$nulls":17},0,{"$nulls":14},0,{"$nulls":9},0,0,0,0,null,0,null,0,null,0,null,0,0,0,0,0,0]
[{"$nulls":14},"No",{"$nulls":17},0,{"$nulls":14},0,{"$nulls":9},0,0,0,0,null,0,null,0,null,0,null,0,0,0,0,0,0]
[{"$nulls":14},{"$f":"IF($BV67=1,\"Yes\",\"No\")","v":"No"},{"$nulls":17},{"$f":"MIN(AH67:AM67)","v":0},{"$nulls":14},{"$f":"F67","v":0},{"$nulls":9},{"$f":"IF($BG67+$BK67+$BM67+$BO67 > 0,1,0)","v":0},{"$f":"IF(BH67+BI67=2,1,0)","v":0},{"$f":"IF($T67=\"Yes\",1,0)","v":0},{"$f":"IF($H67 = \"Female\",1,0)","v":0},null,{"$f":"IF($U67=\"Yes\",1,0)","v":0},null,{"$f":"IF($V67=\"Yes\",1,0)","v":0},null,{"$f":"IF($AB67=\"Yes\",1,0)","v":0},null,{"$f":"IF($J67=\"Yes\",1,0)","v":0},{"$f":"IF($K67=\"Yes\",1,0)","v":0},{"$f":"IF($L67=\"Yes\",1,0)","v":0},{"$f":"IF($M67=\"Yes\",1,0)","v":0},{"$f":"IF($N67=\"Yes\",1,0)","v":0},{"$f":"IF(BQ67+BR67+BS67+BT67+BU67>1,1,0)","v":0}]
[{"$nulls":14},"No",{"$nulls":17},0,{"$nulls":14},0,{"$nulls":9},0,0,0,0,null,0,null,0,null,0,null,0,0,0,0,0,0]
[{"$nulls":14},"No",{"$nulls":17},0,{"$nulls":14},0,{"$nulls":9},0,0,0,0,null,0,null,0,null,0,null,0,0,0,0,0,0]
[{"$nulls":14},"No",{"$nulls":17},0,{"$nulls":14},0,{"$nulls":9},0,0,0,0,null,0,null,0,null,0,null,0,0,0,0,0,0]
[{"$nulls":14},"No",{"$nulls":17},0,{"$nulls":14},0,{"$nulls":9},0,0,0,0,null,0,null,0,null,0,null,0,0,0,0,0,0]
[{"$nulls":14},"No",{"$nulls":17},0,{"$nulls":14},0,{"$nulls":9},0,0,0,0,null,0,null,0,null,0,null,0,0,0,0,0,0]
[{"$nulls":14},"No",{"$nulls":17},0,{"$nulls":14},0,{"$nulls":9},0,0,0,0,null,0,null,0,null,0,null,0,0,0,0,0,0]
[{"$nulls":14},"No",{"$nulls":17},0,{"$nulls":14},0,{"$nulls":9},0,0,0,0,null,0,null,0,null,0,null,0,0,0,0,0,0]
[{"$nulls":14},"No",{"$nulls":17},0,{"$nulls":14},0,{"$nulls":9},0,0,0,0,null,0,null,0,null,0,null,0,0,0,0,0,0]
[{"$nulls":14},"No",{"$nulls":17},0,{"$nulls":14},0,{"$nulls":9},0,0,0,0,null,0,null,0,null,0,null,0,0,0,0,0,0]
[{"$nulls":14},"No",{"$nulls":17},0,{"$nulls":14},0,{"$nulls":9},0,0,0,0,null,0,null,0,null,0,null,0,0,0,0,0,0]
[{"$nulls":14},"No",{"$nulls":17},0,{"$nulls":14},0,{"$nulls":9},0,0,0,0,null,0,null,0,null,0,null,0,0,0,0,0,0]
[{"$nulls":14},"No",{"$nulls":17},0,{"$nulls":14},0,{"$nulls":9},0,0,0,0,null,0,null,0,null,0,null,0,0,0,0,0,0]
[{"$nulls":14},"No",{"$nulls":17},0,{"$nulls":14},0,{"$nulls":9},0,0,0,0,null,0,null,0,null,0,null,0,0,0,0,0,0]
[{"$nulls":14},"No",{"$nulls":17},0,{"$nulls":14},0,{"$nulls":9},0,0,0,0,null,0,null,0,null,0,null,0,0,0,0,0,0]
[{"$nulls":14},"No",{"$nulls":17},0,{"$nulls":14},0,{"$nulls":9},0,0,0,0,null,0,null,0,null,0,null,0,0,0,0,0,0]
[{"$nulls":14},"No",{"$nulls":17},0,{"$nulls":14},0,{"$nulls":9},0,0,0,0,null,0,null,0,null,0,null,0,0,0,0,0,0]
[{"$nulls":14},"No",{"$nulls":17},0,{"$nulls":14},0,{"$nulls":9},0,0,0,0,null,0,null,0,null,0,null,0,0,0,0,0,0]
[{"$nulls":14},"No",{"$nulls":17},0,{"$nulls":14},0,{"$nulls":9},0,0,0,0,null,0,null,0,null,0,null,0,0,0,0,0,0]
[{"$nulls":14},"No",{"$nulls":17},0,{"$nulls":14},0,{"$nulls":9},0,0,0,0,null,0,null,0,null,0,null,0,0,0,0,0,0]
[{"$nulls":14},"No",{"$nulls":17},0,{"$nulls":14},0,{"$nulls":9},0,0,0,0,null,0,null,0,null,0,null,0,0,0,0,0,0]
[{"$nulls":14},"No",{"$nulls":17},0,{"$nulls":14},0,{"$nulls":9},0,0,0,0,null,0,null,0,null,0,null,0,0,0,0,0,0]
[{"$nulls":14},"No",{"$nulls":17},0,{"$nulls":14},0,{"$nulls":9},0,0,0,0,null,0,null,0,null,0,null,0,0,0,0,0,0]
[{"$nulls":14},"No",{"$nulls":17},0,{"$nulls":14},0,{"$nulls":9},0,0,0,0,null,0,null,0,null,0,null,0,0,0,0,0,0]
[{"$nulls":14},"No",{"$nulls":17},0,{"$nulls":14},0,{"$nulls":9},0,0,0,0,null,0,null,0,null,0,null,0,0,0,0,0,0]
[{"$nulls":14},"No",{"$nulls":17},0,{"$nulls":14},0,{"$nulls":9},0,0,0,0,null,0,null,0,null,0,null,0,0,0,0,0,0]
[{"$nulls":14},"No",{"$nulls":17},0,{"$nulls":14},0,{"$nulls":9},0,0,0,0,null,0,null,0,null,0,null,0,0,0,0,0,0]
[{"$nulls":14},"No",{"$nulls":17},0,{"$nulls":14},0,{"$nulls":9},0,0,0,0,null,0,null,0,null,0,null,0,0,0,0,0,0]
[{"$nulls":14},"No",{"$nulls":17},0,{"$nulls":14},0,{"$nulls":9},0,0,0,0,null,0,null,0,null,0,null,0,0,0,0,0,0]
[{"$nulls":14},"No",{"$nulls":17},0,{"$nulls":14},0,{"$nulls":9},0,0,0,0,null,0,null,0,null,0,null,0,0,0,0,0,0]
[{"$nulls":14},"No",{"$nulls":17},0,{"$nulls":14},0,{"$nulls":9},0,0,0,0,null,0,null,0,null,0,null,0,0,0,0,0,0]
[{"$nulls":14},"No",{"$nulls":17},0,{"$nulls":14},0,{"$nulls":9},0,0,0,0,null,0,null,0,null,0,null,0,0,0,0,0,0]
[{"$nulls":14},"No",{"$nulls":17},0,{"$nulls":14},0,{"$nulls":9},0,0,0,0,null,0,null,0,null,0,null,0,0,0,0,0,0]
[{"$nulls":14},"No",{"$nulls":17},0,{"$nulls":14},0,{"$nulls":9},0,0,0,0,null,0,null,0,null,0,null,0,0,0,0,0,0]
[{"$nulls":14},"No",{"$nulls":17},0,{"$nulls":14},0,{"$nulls":9},0,0,0,0,null,0,null,0,null,0,null,0,0,0,0,0,0]
[{"$nulls":14},"No",{"$nulls":17},0,{"$nulls":14},0,{"$nulls":9},0,0,0,0,null,0,null,0,null,0,null,0,0,0,0,0,0]
[{"$nulls":14},"No",{"$nulls":17},0,{"$nulls":14},0,{"$nulls":9},0,0,0,0,null,0,null,0,null,0,null,0,0,0,0,0,0]
[{"$nulls":14},"No",{"$nulls":17},0,{"$nulls":14},0,{"$nulls":9},0,0,0,0,null,0,null,0,null,0,null,0,0,0,0,0,0]
[{"$nulls":14},"No",{"$nulls":17},0,{"$nulls":14},0,{"$nulls":9},0,0,0,0,null,0,null,0,null,0,null,0,0,0,0,0,0]
[{"$nulls":14},"No",{"$nulls":17},0,{"$nulls":14},0,{"$nulls":9},0,0,0,0,null,0,null,0,null,0,null,0,0,0,0,0,0]
[{"$nulls":14},"No",{"$nulls":17},0,{"$nulls":14},0,{"$nulls":9},0,0,0,0,null,0,null,0,null,0,null,0,0,0,0,0,0]
[{"$nulls":14},"No",{"$nulls":17},0,{"$nulls":14},0,{"$nulls":9},0,0,0,0,null,0,null,0,null,0,null,0,0,0,0,0,0]
[{"$nulls":14},"No",{"$nulls":17},0,{"$nulls":14},0,{"$nulls":9},0,0,0,0,null,0,null,0,null,0,null,0,0,0,0,0,0]
[{"$nulls":14},"No",{"$nulls":17},0,{"$nulls":14},0,{"$nulls":9},0,0,0,0,null,0,null,0,null,0,null,0,0,0,0,0,0]
[{"$nulls":14},"No",{"$nulls":17},0,{"$nulls":14},0,{"$nulls":9},0,0,0,0,null,0,null,0,null,0,null,0,0,0,0,0,0]
[{"$nulls":14},"No",{"$nulls":17},0,{"$nulls":14},0,{"$nulls":9},0,0,0,0,null,0,null,0,null,0,null,0,0,0,0,0,0]
[{"$nulls":14},"No",{"$nulls":17},0,{"$nulls":14},0,{"$nulls":9},0,0,0,0,null,0,null,0,null,0,null,0,0,0,0,0,0]
[{"$nulls":14},"No",{"$nulls":17},0,{"$nulls":14},0,{"$nulls":9},0,0,0,0,null,0,null,0,null,0,null,0,0,0,0,0,0]
[{"$nulls":14},"No",{"$nulls":17},0,{"$nulls":14},0,{"$nulls":9},0,0,0,0,null,0,null,0,null,0,null,0,0,0,0,0,0]
[{"$nulls":14},"No",{"$nulls":17},0,{"$nulls":14},0,{"$nulls":9},0,0,0,0,null,0,null,0,null,0,null,0,0,0,0,0,0]
[{"$nulls":14},"No",{"$nulls":17},0,{"$nulls":14},0,{"$nulls":9},0,0,0,0,null,0,null,0,null,0,null,0,0,0,0,0,0]
[{"$nulls":14},"No",{"$nulls":17},0,{"$nulls":14},0,{"$nulls":9},0,0,0,0,null,0,null,0,null,0,null,0,0,0,0,0,0]
[{"$nulls":14},"No",{"$nulls":17},0,{"$nulls":14},0,{"$nulls":9},0,0,0,0,null,0,null,0,null,0,null,0,0,0,0,0,0]
[{"$nulls":14},"No",{"$nulls":17},0,{"$nulls":14},0,{"$nulls":9},0,0,0,0,null,0,null,0,null,0,null,0,0,0,0,0,0]
[{"$nulls":14},"No",{"$nulls":17},0,{"$nulls":14},0,{"$nulls":9},0,0,0,0,null,0,null,0,null,0,null,0,0,0,0,0,0]
[{"$nulls":14},"No",{"$nulls":17},0,{"$nulls":14},0,{"$nulls":9},0,0,0,0,null,0,null,0,null,0,null,0,0,0,0,0,0]
[{"$nulls":14},"No",{"$nulls":17},0,{"$nulls":14},0,{"$nulls":9},0,0,0,0,null,0,null,0,null,0,null,0,0,0,0,0,0]
[{"$nulls":14},"No",{"$nulls":17},0,{"$nulls":14},0,{"$nulls":9},0,0,0,0,null,0,null,0,null,0,null,0,0,0,0,0,0]
[{"$nulls":14},"No",{"$nulls":17},0,{"$nulls":14},0,{"$nulls":9},0,0,0,0,null,0,null,0,null,0,null,0,0,0,0,0,0]
[{"$nulls":14},"No",{"$nulls":17},0,{"$nulls":14},0,{"$nulls":9},0,0,0,0,null,0,null,0,null,0,null,0,0,0,0,0,0]
[{"$nulls":14},"No",{"$nulls":17},0,{"$nulls":14},0,{"$nulls":9},0,0,0,0,null,0,null,0,null,0,null,0,0,0,0,0,0]
[{"$nulls":14},"No",{"$nulls":17},0,{"$nulls":14},0,{"$nulls":9},0,0,0,0,null,0,null,0,null,0,null,0,0,0,0,0,0]
[{"$nulls":14},"No",{"$nulls":17},0,{"$nulls":14},0,{"$nulls":9},0,0,0,0,null,0,null,0,null,0,null,0,0,0,0,0,0]
[{"$nulls":14},"No",{"$nulls":17},0,{"$nulls":14},0,{"$nulls":9},0,0,0,0,null,0,null,0,null,0,null,0,0,0,0,0,0]
[{"$nulls":14},{"$f":"IF($BV131=1,\"Yes\",\"No\")","v":"No"},{"$nulls":17},{"$f":"MIN(AH131:AM131)","v":0},{"$nulls":14},{"$f":"F131","v":0},{"$nulls":9},{"$f":"IF($BG131+$BK131+$BM131+$BO131 > 0,1,0)","v":0},{"$f":"IF(BH131+BI131=2,1,0)","v":0},{"$f":"IF($T131=\"Yes\",1,0)","v":0},{"$f":"IF($H131 = \"Female\",1,0)","v":0},null,{"$f":"IF($U131=\"Yes\",1,0)","v":0},null,{"$f":"IF($V131=\"Yes\",1,0)","v":0},null,{"$f":"IF($AB131=\"Yes\",1,0)","v":0},null,{"$f":"IF($J131=\"Yes\",1,0)","v":0},{"$f":"IF($K131=\"Yes\",1,0)","v":0},{"$f":"IF($L131=\"Yes\",1,0)","v":0},{"$f":"IF($M131=\"Yes\",1,0)","v":0},{"$f":"IF($N131=\"Yes\",1,0)","v":0},{"$f":"IF(BQ131+BR131+BS131+BT131+BU131>1,1,0)","v":0}]
[{"$nulls":14},"No",{"$nulls":17},0,{"$nulls":14},0,{"$nulls":9},0,0,0,0,null,0,null,0,null,0,null,0,0,0,0,0,0]
[{"$nulls":14},"No",{"$nulls":17},0,{"$nulls":14},0,{"$nulls":9},0,0,0,0,null,0,null,0,null,0,null,0,0,0,0,0,0]
[{"$nulls":14},"No",{"$nulls":17},0,{"$nulls":14},0,{"$nulls":9},0,0,0,0,null,0,null,0,null,0,null,0,0,0,0,0,0]
[{"$nulls":14},"No",{"$nulls":17},0,{"$nulls":14},0,{"$nulls":9},0,0,0,0,null,0,null,0,null,0,null,0,0,0,0,0,0]
[{"$nulls":14},"No",{"$nulls":17},0,{"$nulls":14},0,{"$nulls":9},0,0,0,0,null,0,null,0,null,0,null,0,0,0,0,0,0]
[{"$nulls":14},"No",{"$nulls":17},0,{"$nulls":14},0,{"$nulls":9},0,0,0,0,null,0,null,0,null,0,null,0,0,0,0,0,0]
[{"$nulls":14},"No",{"$nulls":17},0,{"$nulls":14},0,{"$nulls":9},0,0,0,0,null,0,null,0,null,0,null,0,0,0,0,0,0]
[{"$nulls":14},"No",{"$nulls":17},0,{"$nulls":14},0,{"$nulls":9},0,0,0,0,null,0,null,0,null,0,null,0,0,0,0,0,0]
[{"$nulls":14},"No",{"$nulls":17},0,{"$nulls":14},0,{"$nulls":9},0,0,0,0,null,0,null,0,null,0,null,0,0,0,0,0,0]
[{"$nulls":14},"No",{"$nulls":17},0,{"$nulls":14},0,{"$nulls":9},0,0,0,0,null,0,null,0,null,0,null,0,0,0,0,0,0]
[{"$nulls":14},"No",{"$nulls":17},0,{"$nulls":14},0,{"$nulls":9},0,0,0,0,null,0,null,0,null,0,null,0,0,0,0,0,0]
[{"$nulls":14},"No",{"$nulls":17},0,{"$nulls":14},0,{"$nulls":9},0,0,0,0,null,0,null,0,null,0,null,0,0,0,0,0,0]
[{"$nulls":14},"No",{"$nulls":17},0,{"$nulls":14},0,{"$nulls":9},0,0,0,0,null,0,null,0,null,0,null,0,0,0,0,0,0]
[{"$nulls":14},"No",{"$nulls":17},0,{"$nulls":14},0,{"$nulls":9},0,0,0,0,null,0,null,0,null,0,null,0,0,0,0,0,0]
[{"$nulls":14},"No",{"$nulls":17},0,{"$nulls":14},0,{"$nulls":9},0,0,0,0,null,0,null,0,null,0,null,0,0,0,0,0,0]
[{"$nulls":14},"No",{"$nulls":17},0,{"$nulls":14},0,{"$nulls":9},0,0,0,0,null,0,null,0,null,0,null,0,0,0,0,0,0]
[{"$nulls":14},"No",{"$nulls":17},0,{"$nulls":14},0,{"$nulls":9},0,0,0,0,null,0,null,0,null,0,null,0,0,0,0,0,0]
[{"$nulls":14},"No",{"$nulls":17},0,{"$nulls":14},0,{"$nulls":9},0,0,0,0,null,0,null,0,null,0,null,0,0,0,0,0,0]
[{"$nulls":14},"No",{"$nulls":17},0,{"$nulls":14},0,{"$nulls":9},0,0,0,0,null,0,null,0,null,0,null,0,0,0,0,0,0]
[{"$nulls":14},"No",{"$nulls":17},0,{"$nulls":14},0,{"$nulls":9},0,0,0,0,null,0,null,0,null,0,null,0,0,0,0,0,0]
[{"$nulls":14},"No",{"$nulls":17},0,{"$nulls":14},0,{"$nulls":9},0,0,0,0,null,0,null,0,null,0,null,0,0,0,0,0,0]
[{"$nulls":14},"No",{"$nulls":17},0,{"$nulls":14},0,{"$nulls":9},0,0,0,0,null,0,null,0,null,0,null,0,0,0,0,0,0]
[{"$nulls":14},"No",{"$nulls":17},0,{"$nulls":14},0,{"$nulls":9},0,0,0,0,null,0,null,0,null,0,null,0,0,0,0,0,0]
[{"$nulls":14},"No",{"$nulls":17},0,{"$nulls":14},0,{"$nulls":9},0,0,0,0,null,0,null,0,null,0,null,0,0,0,0,0,0]
[{"$nulls":14},"No",{"$nulls":17},0,{"$nulls":14},0,{"$nulls":9},0,0,0,0,null,0,null,0,null,0,null,0,0,0,0,0,0]
[{"$nulls":14},"No",{"$nulls":17},0,{"$nulls":14},0,{"$nulls":9},0,0,0,0,null,0,null,0,null,0,null,0,0,0,0,0,0]
[{"$nulls":14},"No",{"$nulls":17},0,{"$nulls":14},0,{"$nulls":9},0,0,0,0,null,0,null,0,null,0,null,0,0,0,0,0,0]
[{"$nulls":14},"No",{"$nulls":17},0,{"$nulls":14},0,{"$nulls":9},0,0,0,0,null,0,null,0,null,0,null,0,0,0,0,0,0]
[{"$nulls":14},"No",{"$nulls":17},0,{"$nulls":14},0,{"$nulls":9},0,0,0,0,null,0,null,0,null,0,null,0,0,0,0,0,0]
[{"$nulls":14},"No",{"$nulls":17},0,{"$nulls":14},0,{"$nulls":9},0,0,0,0,null,0,null,0,null,0,null,0,0,0,0,0,0]
[{"$nulls":14},"No",{"$nulls":17},0,{"$nulls":14},0,{"$nulls":9},0,0,0,0,null,0,null,0,null,0,null,0,0,0,0,0,0]
[{"$nulls":14},"No",{"$nulls":17},0,{"$nulls":14},0,{"$nulls":9},0,0,0,0,null,0,null,0,null,0,null,0,0,0,0,0,0]
[{"$nulls":14},"No",{"$nulls":17},0,{"$nulls":14},0,{"$nulls":9},0,0,0,0,null,0,null,0,null,0,null,0,0,0,0,0,0]
[{"$nulls":14},"No",{"$nulls":17},0,{"$nulls":14},0,{"$nulls":9},0,0,0,0,null,0,null,0,null,0,null,0,0,0,0,0,0]
[{"$nulls":14},"No",{"$nulls":17},0,{"$nulls":14},0,{"$nulls":9},0,0,0,0,null,0,null,0,null,0,null,0,0,0,0,0,0]
[{"$nulls":14},"No",{"$nulls":17},0,{"$nulls":14},0,{"$nulls":9},0,0,0,0,null,0,null,0,null,0,null,0,0,0,0,0,0]
[{"$nulls":14},"No",{"$nulls":17},0,{"$nulls":14},0,{"$nulls":9},0,0,0,0,null,0,null,0,null,0,null,0,0,0,0,0,0]
[{"$nulls":14},"No",{"$nulls":17},0,{"$nulls":14},0,{"$nulls":9},0,0,0,0,null,0,null,0,null,0,null,0,0,0,0,0,0]
[{"$nulls":14},"No",{"$nulls":17},0,{"$nulls":14},0,{"$nulls":9},0,0,0,0,null,0,null,0,null,0,null,0,0,0,0,0,0]
[{"$nulls":14},"No",{"$nulls":17},0,{"$nulls":14},0,{"$nulls":9},0,0,0,0,null,0,null,0,null,0,null,0,0,0,0,0,0]
[{"$nulls":14},"No",{"$nulls":17},0,{"$nulls":14},0,{"$nulls":9},0,0,0,0,null,0,null,0,null,0,null,0,0,0,0,0,0]
[{"$nulls":14},"No",{"$nulls":17},0,{"$nulls":14},0,{"$nulls":9},0,0,0,0,null,0,null,0,null,0,null,0,0,0,0,0,0]
[{"$nulls":14},"No",{"$nulls":17},0,{"$nulls":14},0,{"$nulls":9},0,0,0,0,null,0,null,0,null,0,null,0,0,0,0,0,0]
[{"$nulls":14},"No",{"$nulls":17},0,{"$nulls":14},0,{"$nulls":9},0,0,0,0,null,0,null,0,null,0,null,0,0,0,0,0,0]
[{"$nulls":14},"No",{"$nulls":17},0,{"$nulls":14},0,{"$nulls":9},0,0,0,0,null,0,null,0,null,0,null,0,0,0,0,0,0]
[{"$nulls":14},"No",{"$nulls":17},0,{"$nulls":14},0,{"$nulls":9},0,0,0,0,null,0,null,0,null,0,null,0,0,0,0,0,0]
[{"$nulls":14},"No",{"$nulls":17},0,{"$nulls":14},0,{"$nulls":9},0,0,0,0,null,0,null,0,null,0,null,0,0,0,0,0,0]
[{"$nulls":14},"No",{"$nulls":17},0,{"$nulls":14},0,{"$nulls":9},0,0,0,0,null,0,null,0,null,0,null,0,0,0,0,0,0]
[{"$nulls":14},"No",{"$nulls":17},0,{"$nulls":14},0,{"$nulls":9},0,0,0,0,null,0,null,0,null,0,null,0,0,0,0,0,0]
[{"$nulls":14},"No",{"$nulls":17},0,{"$nulls":14},0,{"$nulls":9},0,0,0,0,null,0,null,0,null,0,null,0,0,0,0,0,0]
[{"$nulls":14},"No",{"$nulls":17},0,{"$nulls":14},0,{"$nulls":9},0,0,0,0,null,0,null,0,null,0,null,0,0,0,0,0,0]
[{"$nulls":14},"No",{"$nulls":17},0,{"$nulls":14},0,{"$nulls":9},0,0,0,0,null,0,null,0,null,0,null,0,0,0,0,0,0]
[{"$nulls":14},"No",{"$nulls":17},0,{"$nulls":14},0,{"$nulls":9},0,0,0,0,null,0,null,0,null,0,null,0,0,0,0,0,0]
[{"$nulls":14},"No",{"$nulls":17},0,{"$nulls":14},0,{"$nulls":9},0,0,0,0,null,0,null,0,null,0,null,0,0,0,0,0,0]
[{"$nulls":14},"No",{"$nulls":17},0,{"$nulls":14},0,{"$nulls":9},0,0,0,0,null,0,null,0,null,0,null,0,0,0,0,0,0]
[{"$nulls":14},"No",{"$nulls":17},0,{"$nulls":14},0,{"$nulls":9},0,0,0,0,null,0,null,0,null,0,null,0,0,0,0,0,0]
[{"$nulls":14},"No",{"$nulls":17},0,{"$nulls":14},0,{"$nulls":9},0,0,0,0,null,0,null,0,null,0,null,0,0,0,0,0,0]
[{"$nulls":14},"No",{"$nulls":17},0,{"$nulls":14},0,{"$nulls":9},0,0,0,0,null,0,null,0,null,0,null,0,0,0,0,0,0]
[{"$nulls":14},"No",{"$nulls":17},0,{"$nulls":14},0,{"$nulls":9},0,0,0,0,null,0,null,0,null,0,null,0,0,0,0,0,0]
[{"$nulls":14},"No",{"$nulls":17},0,{"$nulls":14},0,{"$nulls":9},0,0,0,0,null,0,null,0,null,0,null,0,0,0,0,0,0]
[{"$nulls":14},"No",{"$nulls":17},0,{"$nulls":14},0,{"$nulls":9},0,0,0,0,null,0,null,0,null,0,null,0,0,0,0,0,0]
[{"$nulls":14},"No",{"$nulls":17},0,{"$nulls":14},0,{"$nulls":9},0,0,0,0,null,0,null,0,null,0,null,0,0,0,0,0,0]
[{"$nulls":14},"No",{"$nulls":17},0,{"$nulls":14},0,{"$nulls":9},0,0,0,0,null,0,null,0,null,0,null,0,0,0,0,0,0]
[{"$nulls":14},{"$f":"IF($BV195=1,\"Yes\",\"No\")","v":"No"},{"$nulls":17},{"$f":"MIN(AH195:AM195)","v":0},{"$nulls":14},{"$f":"F195","v":0},{"$nulls":9},{"$f":"IF($BG195+$BK195+$BM195+$BO195 > 0,1,0)","v":0},{"$f":"IF(BH195+BI195=2,1,0)","v":0},{"$f":"IF($T195=\"Yes\",1,0)","v":0},{"$f":"IF($H195 = \"Female\",1,0)","v":0},null,{"$f":"IF($U195=\"Yes\",1,0)","v":0},null,{"$f":"IF($V195=\"Yes\",1,0)","v":0},null,{"$f":"IF($AB195=\"Yes\",1,0)","v":0},null,{"$f":"IF($J195=\"Yes\",1,0)","v":0},{"$f":"IF($K195=\"Yes\",1,0)","v":0},{"$f":"IF($L195=\"Yes\",1,0)","v":0},{"$f":"IF($M195=\"Yes\",1,0)","v":0},{"$f":"IF($N195=\"Yes\",1,0)","v":0},{"$f":"IF(BQ195+BR195+BS195+BT195+BU195>1,1,0)","v":0}]
[{"$nulls":14},"No",{"$nulls":17},0,{"$nulls":14},0,{"$nulls":9},0,0,0,0,null,0,null,0,null,0,null,0,0,0,0,0,0]
[{"$nulls":14},"No",{"$nulls":17},0,{"$nulls":14},0,{"$nulls":9},0,0,0,0,null,0,null,0,null,0,null,0,0,0,0,0,0]
[{"$nulls":14},"No",{"$nulls":17},0,{"$nulls":14},0,{"$nulls":9},0,0,0,0,null,0,null,0,null,0,null,0,0,0,0,0,0]
[{"$nulls":14},"No",{"$nulls":17},0,{"$nulls":14},0,{"$nulls":9},0,0,0,0,null,0,null,0,null,0,null,0,0,0,0,0,0]
[{"$nulls":14},"No",{"$nulls":17},0,{"$nulls":14},0,{"$nulls":9},0,0,0,0,null,0,null,0,null,0,null,0,0,0,0,0,0]
[{"$nulls":14},"No",{"$nulls":17},0,{"$nulls":14},0,{"$nulls":9},0,0,0,0,null,0,null,0,null,0,null,0,0,0,0,0,0]
[{"$nulls":14},"No",{"$nulls":17},0,{"$nulls":14},0,{"$nulls":9},0,0,0,0,null,0,null,0,null,0,null,0,0,0,0,0,0]
[{"$nulls":14},"No",{"$nulls":17},0,{"$nulls":14},0,{"$nulls":9},0,0,0,0,null,0,null,0,null,0,null,0,0,0,0,0,0]
[{"$nulls":14},"No",{"$nulls":17},0,{"$nulls":14},0,{"$nulls":9},0,0,0,0,null,0,null,0,null,0,null,0,0,0,0,0,0]
[{"$nulls":14},"No",{"$nulls":17},0,{"$nulls":14},0,{"$nulls":9},0,0,0,0,null,0,null,0,null,0,null,0,0,0,0,0,0]
[{"$nulls":14},"No",{"$nulls":17},0,{"$nulls":14},0,{"$nulls":9},0,0,0,0,null,0,null,0,null,0,null,0,0,0,0,0,0]
[{"$nulls":14},"No",{"$nulls":17},0,{"$nulls":14},0,{"$nulls":9},0,0,0,0,null,0,null,0,null,0,null,0,0,0,0,0,0]
[{"$nulls":14},"No",{"$nulls":17},0,{"$nulls":14},0,{"$nulls":9},0,0,0,0,null,0,null,0,null,0,null,0,0,0,0,0,0]
[{"$nulls":14},"No",{"$nulls":17},0,{"$nulls":14},0,{"$nulls":9},0,0,0,0,null,0,null,0,null,0,null,0,0,0,0,0,0]
[{"$nulls":14},"No",{"$nulls":17},0,{"$nulls":14},0,{"$nulls":9},0,0,0,0,null,0,null,0,null,0,null,0,0,0,0,0,0]
[{"$nulls":14},"No",{"$nulls":17},0,{"$nulls":14},0,{"$nulls":9},0,0,0,0,null,0,null,0,null,0,null,0,0,0,0,0,0]
[{"$nulls":14},"No",{"$nulls":17},0,{"$nulls":14},0,{"$nulls":9},0,0,0,0,null,0,null,0,null,0,null,0,0,0,0,0,0]
[{"$nulls":14},"No",{"$nulls":17},0,{"$nulls":14},0,{"$nulls":9},0,0,0,0,null,0,null,0,null,0,null,0,0,0,0,0,0]
[{"$nulls":14},"No",{"$nulls":17},0,{"$nulls":14},0,{"$nulls":9},0,0,0,0,null,0,null,0,null,0,null,0,0,0,0,0,0]
[{"$nulls":14},"No",{"$nulls":17},0,{"$nulls":14},0,{"$nulls":9},0,0,0,0,null,0,null,0,null,0,null,0,0,0,0,0,0]
[{"$nulls":14},"No",{"$nulls":17},0,{"$nulls":14},0,{"$nulls":9},0,0,0,0,null,0,null,0,null,0,null,0,0,0,0,0,0]
[{"$nulls":14},"No",{"$nulls":17},0,{"$nulls":14},0,{"$nulls":9},0,0,0,0,null,0,null,0,null,0,null,0,0,0,0,0,0]
[{"$nulls":14},"No",{"$nulls":17},0,{"$nulls":14},0,{"$nulls":9},0,0,0,0,null,0,null,0,null,0,null,0,0,0,0,0,0]
[{"$nulls":14},"No",{"$nulls":17},0,{"$nulls":14},0,{"$nulls":9},0,0,0,0,null,0,null,0,null,0,null,0,0,0,0,0,0]
[{"$nulls":14},"No",{"$nulls":17},0,{"$nulls":14},0,{"$nulls":9},0,0,0,0,null,0,null,0,null,0,null,0,0,0,0,0,0]
[{"$nulls":14},"No",{"$nulls":17},0,{"$nulls":14},0,{"$nulls":9},0,0,0,0,null,0,null,0,null,0,null,0,0,0,0,0,0]
[{"$nulls":14},"No",{"$nulls":17},0,{"$nulls":14},0,{"$nulls":9},0,0,0,0,null,0,null,0,null,0,null,0,0,0,0,0,0]
[{"$nulls":14},"No",{"$nulls":17},0,{"$nulls":14},0,{"$nulls":9},0,0,0,0,null,0,null,0,null,0,null,0,0,0,0,0,0]
[{"$nulls":14},"No",{"$nulls":17},0,{"$nulls":14},0,{"$nulls":9},0,0,0,0,null,0,null,0,null,0,null,0,0,0,0,0,0]
[{"$nulls":14},"No",{"$nulls":17},0,{"$nulls":14},0,{"$nulls":9},0,0,0,0,null,0,null,0,null,0,null,0,0,0,0,0,0]
[{"$nulls":14},"No",{"$nulls":17},0,{"$nulls":14},0,{"$nulls":9},0,0,0,0,null,0,null,0,null,0,null,0,0,0,0,0,0]
[{"$nulls":14},"No",{"$nulls":17},0,{"$nulls":14},0,{"$nulls":9},0,0,0,0,null,0,null,0,null,0,null,0,0,0,0,0,0]
[{"$nulls":14},"No",{"$nulls":17},0,{"$nulls":14},0,{"$nulls":9},0,0,0,0,null,0,null,0,null,0,null,0,0,0,0,0,0]
[{"$nulls":14},"No",{"$nulls":17},0,{"$nulls":14},0,{"$nulls":9},0,0,0,0,null,0,null,0,null,0,null,0,0,0,0,0,0]
[{"$nulls":14},"No",{"$nulls":17},0,{"$nulls":14},0,{"$nulls":9},0,0,0,0,null,0,null,0,null,0,null,0,0,0,0,0,0]
[{"$nulls":14},"No",{"$nulls":17},0,{"$nulls":14},0,{"$nulls":9},0,0,0,0,null,0,null,0,null,0,null,0,0,0,0,0,0]
[{"$nulls":14},"No",{"$nulls":17},0,{"$nulls":14},0,{"$nulls":9},0,0,0,0,null,0,null,0,null,0,null,0,0,0,0,0,0]
[{"$nulls":14},"No",{"$nulls":17},0,{"$nulls":14},0,{"$nulls":9},0,0,0,0,null,0,null,0,null,0,null,0,0,0,0,0,0]
[{"$nulls":14},"No",{"$nulls":17},0,{"$nulls":14},0,{"$nulls":9},0,0,0,0,null,0,null,0,null,0,null,0,0,0,0,0,0]
[{"$nulls":14},"No",{"$nulls":17},0,{"$nulls":14},0,{"$nulls":9},0,0,0,0,null,0,null,0,null,0,null,0,0,0,0,0,0]
[{"$nulls":14},"No",{"$nulls":17},0,{"$nulls":14},0,{"$nulls":9},0,0,0,0,null,0,null,0,null,0,null,0,0,0,0,0,0]
[{"$nulls":14},"No",{"$nulls":17},0,{"$nulls":14},0,{"$nulls":9},0,0,0,0,null,0,null,0,null,0,null,0,0,0,0,0,0]
[{"$nulls":14},"No",{"$nulls":17},0,{"$nulls":14},0,{"$nulls":9},0,0,0,0,null,0,null,0,null,0,null,0,0,0,0,0,0]
[{"$nulls":14},"No",{"$nulls":17},0,{"$nulls":14},0,{"$nulls":9},0,0,0,0,null,0,null,0,null,0,null,0,0,0,0,0,0]
[{"$nulls":14},"No",{"$nulls":17},0,{"$nulls":14},0,{"$nulls":9},0,0,0,0,null,0,null,0,null,0,null,0,0,0,0,0,0]
[{"$nulls":14},"No",{"$nulls":17},0,{"$nulls":14},0,{"$nulls":9},0,0,0,0,null,0,null,0,null,0,null,0,0,0,0,0,0]
[{"$nulls":14},"No",{"$nulls":17},0,{"$nulls":14},0,{"$nulls":9},0,0,0,0,null,0,null,0,null,0,null,0,0,0,0,0,0]
[{"$nulls":14},"No",{"$nulls":17},0,{"$nulls":14},0,{"$nulls":9},0,0,0,0,null,0,null,0,null,0,null,0,0,0,0,0,0]
[{"$nulls":14},"No",{"$nulls":17},0,{"$nulls":14},0,{"$nulls":9},0,0,0,0,null,0,null,0,null,0,null,0,0,0,0,0,0]
[{"$nulls":14},"No",{"$nulls":17},0,{"$nulls":14},0,{"$nulls":9},0,0,0,0,null,0,null,0,null,0,null,0,0,0,0,0,0]
[{"$nulls":14},"No",{"$nulls":17},0,{"$nulls":14},0,{"$nulls":9},0,0,0,0,null,0,null,0,null,0,null,0,0,0,0,0,0]
[{"$nulls":14},"No",{"$nulls":17},0,{"$nulls":14},0,{"$nulls":9},0,0,0,0,null,0,null,0,null,0,null,0,0,0,0,0,0]
[{"$nulls":14},"No",{"$nulls":17},0,{"$nulls":14},0,{"$nulls":9},0,0,0,0,null,0,null,0,null,0,null,0,0,0,0,0,0]
[{"$nulls":14},"No",{"$nulls":17},0,{"$nulls":14},0,{"$nulls":9},0,0,0,0,null,0,null,0,null,0,null,0,0,0,0,0,0]
[{"$nulls":14},"No",{"$nulls":17},0,{"$nulls":14},0,{"$nulls":9},0,0,0,0,null,0,null,0,null,0,null,0,0,0,0,0,0]
[{"$nulls":14},"No",{"$nulls":17},0,{"$nulls":14},0,{"$nulls":9},0,0,0,0,null,0,null,0,null,0,null,0,0,0,0,0,0]
[{"$nulls":14},"No",{"$nulls":17},0,{"$nulls":14},0,{"$nulls":9},0,0,0,0,null,0,null,0,null,0,null,0,0,0,0,0,0]
[{"$nulls":14},"No",{"$nulls":17},0,{"$nulls":14},0,{"$nulls":9},0,0,0,0,null,0,null,0,null,0,null,0,0,0,0,0,0]
[{"$nulls":14},"No",{"$nulls":17},0,{"$nulls":14},0,{"$nulls":9},0,0,0,0,null,0,null,0,null,0,null,0,0,0,0,0,0]
[{"$nulls":14},"No",{"$nulls":17},0,{"$nulls":14},0,{"$nulls":9},0,0,0,0,null,0,null,0,null,0,null,0,0,0,0,0,0]
[{"$nulls":14},"No",{"$nulls":17},0,{"$nulls":14},0,{"$nulls":9},0,0,0,0,null,0,null,0,null,0,null,0,0,0,0,0,0]
[{"$nulls":14},"No",{"$nulls":17},0,{"$nulls":14},0,{"$nulls":9},0,0,0,0,null,0,null,0,null,0,null,0,0,0,0,0,0]
[{"$nulls":14},"No",{"$nulls":17},0,{"$nulls":14},0,{"$nulls":9},0,0,0,0,null,0,null,0,null,0,null,0,0,0,0,0,0]
[{"$nulls":14},{"$f":"IF($BV259=1,\"Yes\",\"No\")","v":"No"},{"$nulls":17},{"$f":"MIN(AH259:AM259)","v":0},{"$nulls":14},{"$f":"F259","v":0},{"$nulls":9},{"$f":"IF($BG259+$BK259+$BM259+$BO259 > 0,1,0)","v":0},{"$f":"IF(BH259+BI259=2,1,0)","v":0},{"$f":"IF($T259=\"Yes\",1,0)","v":0},{"$f":"IF($H259 = \"Female\",1,0)","v":0},null,{"$f":"IF($U259=\"Yes\",1,0)","v":0},null,{"$f":"IF($V259=\"Yes\",1,0)","v":0},null,{"$f":"IF($AB259=\"Yes\",1,0)","v":0},null,{"$f":"IF($J259=\"Yes\",1,0)","v":0},{"$f":"IF($K259=\"Yes\",1,0)","v":0},{"$f":"IF($L259=\"Yes\",1,0)","v":0},{"$f":"IF($M259=\"Yes\",1,0)","v":0},{"$f":"IF($N259=\"Yes\",1,0)","v":0},{"$f":"IF(BQ259+BR259+BS259+BT259+BU259>1,1,0)","v":0}]
[{"$nulls":14},"No",{"$nulls":17},0,{"$nulls":14},0,{"$nulls":9},0,0,0,0,null,0,null,0,null,0,null,0,0,0,0,0,0]
[{"$nulls":14},"No",{"$nulls":17},0,{"$nulls":14},0,{"$nulls":9},0,0,0,0,null,0,null,0,null,0,null,0,0,0,0,0,0]
[{"$nulls":14},"No",{"$nulls":17},0,{"$nulls":14},0,{"$nulls":9},0,0,0,0,null,0,null,0,null,0,null,0,0,0,0,0,0]
[{"$nulls":14},"No",{"$nulls":17},0,{"$nulls":14},0,{"$nulls":9},0,0,0,0,null,0,null,0,null,0,null,0,0,0,0,0,0]
[{"$nulls":14},"No",{"$nulls":17},0,{"$nulls":14},0,{"$nulls":9},0,0,0,0,null,0,null,0,null,0,null,0,0,0,0,0,0]
[{"$nulls":14},"No",{"$nulls":17},0,{"$nulls":14},0,{"$nulls":9},0,0,0,0,null,0,null,0,null,0,null,0,0,0,0,0,0]
[{"$nulls":14},"No",{"$nulls":17},0,{"$nulls":14},0,{"$nulls":9},0,0,0,0,null,0,null,0,null,0,null,0,0,0,0,0,0]
[{"$nulls":14},"No",{"$nulls":17},0,{"$nulls":14},0,{"$nulls":9},0,0,0,0,null,0,null,0,null,0,null,0,0,0,0,0,0]
[{"$nulls":14},"No",{"$nulls":17},0,{"$nulls":14},0,{"$nulls":9},0,0,0,0,null,0,null,0,null,0,null,0,0,0,0,0,0]
[{"$nulls":14},"No",{"$nulls":17},0,{"$nulls":14},0,{"$nulls":9},0,0,0,0,null,0,null,0,null,0,null,0,0,0,0,0,0]
[{"$nulls":14},"No",{"$nulls":17},0,{"$nulls":14},0,{"$nulls":9},0,0,0,0,null,0,null,0,null,0,null,0,0,0,0,0,0]
[{"$nulls":14},"No",{"$nulls":17},0,{"$nulls":14},0,{"$nulls":9},0,0,0,0,null,0,null,0,null,0,null,0,0,0,0,0,0]
[{"$nulls":14},"No",{"$nulls":17},0,{"$nulls":14},0,{"$nulls":9},0,0,0,0,null,0,null,0,null,0,null,0,0,0,0,0,0]
[{"$nulls":14},"No",{"$nulls":17},0,{"$nulls":14},0,{"$nulls":9},0,0,0,0,null,0,null,0,null,0,null,0,0,0,0,0,0]
[{"$nulls":14},"No",{"$nulls":17},0,{"$nulls":14},0,{"$nulls":9},0,0,0,0,null,0,null,0,null,0,null,0,0,0,0,0,0]
[{"$nulls":14},"No",{"$nulls":17},0,{"$nulls":14},0,{"$nulls":9},0,0,0,0,null,0,null,0,null,0,null,0,0,0,0,0,0]
[{"$nulls":14},"No",{"$nulls":17},0,{"$nulls":14},0,{"$nulls":9},0,0,0,0,null,0,null,0,null,0,null,0,0,0,0,0,0]
[{"$nulls":14},"No",{"$nulls":17},0,{"$nulls":14},0,{"$nulls":9},0,0,0,0,null,0,null,0,null,0,null,0,0,0,0,0,0]
[{"$nulls":14},"No",{"$nulls":17},0,{"$nulls":14},0,{"$nulls":9},0,0,0,0,null,0,null,0,null,0,null,0,0,0,0,0,0]
[{"$nulls":14},"No",{"$nulls":17},0,{"$nulls":14},0,{"$nulls":9},0,0,0,0,null,0,null,0,null,0,null,0,0,0,0,0,0]
[{"$nulls":14},"No",{"$nulls":17},0,{"$nulls":14},0,{"$nulls":9},0,0,0,0,null,0,null,0,null,0,null,0,0,0,0,0,0]
[{"$nulls":14},"No",{"$nulls":17},0,{"$nulls":14},0,{"$nulls":9},0,0,0,0,null,0,null,0,null,0,null,0,0,0,0,0,0]
[{"$nulls":14},"No",{"$nulls":17},0,{"$nulls":14},0,{"$nulls":9},0,0,0,0,null,0,null,0,null,0,null,0,0,0,0,0,0]
[{"$nulls":14},"No",{"$nulls":17},0,{"$nulls":14},0,{"$nulls":9},0,0,0,0,null,0,null,0,null,0,null,0,0,0,0,0,0]
[{"$nulls":14},"No",{"$nulls":17},0,{"$nulls":14},0,{"$nulls":9},0,0,0,0,null,0,null,0,null,0,null,0,0,0,0,0,0]
[{"$nulls":14},"No",{"$nulls":17},0,{"$nulls":14},0,{"$nulls":9},0,0,0,0,null,0,null,0,null,0,null,0,0,0,0,0,0]
[{"$nulls":14},"No",{"$nulls":17},0,{"$nulls":14},0,{"$nulls":9},0,0,0,0,null,0,null,0,null,0,null,0,0,0,0,0,0]
[{"$nulls":14},"No",{"$nulls":17},0,{"$nulls":14},0,{"$nulls":9},0,0,0,0,null,0,null,0,null,0,null,0,0,0,0,0,0]
[{"$nulls":14},"No",{"$nulls":17},0,{"$nulls":14},0,{"$nulls":9},0,0,0,0,null,0,null,0,null,0,null,0,0,0,0,0,0]
[{"$nulls":14},"No",{"$nulls":17},0,{"$nulls":14},0,{"$nulls":9},0,0,0,0,null,0,null,0,null,0,null,0,0,0,0,0,0]
[{"$nulls":14},"No",{"$nulls":17},0,{"$nulls":14},0,{"$nulls":9},0,0,0,0,null,0,null,0,null,0,null,0,0,0,0,0,0]
[{"$nulls":14},"No",{"$nulls":17},0,{"$nulls":14},0,{"$nulls":9},0,0,0,0,null,0,null,0,null,0,null,0,0,0,0,0,0]
[{"$nulls":14},"No",{"$nulls":17},0,{"$nulls":14},0,{"$nulls":9},0,0,0,0,null,0,null,0,null,0,null,0,0,0,0,0,0]
[{"$nulls":14},"No",{"$nulls":17},0,{"$nulls":14},0,{"$nulls":9},0,0,0,0,null,0,null,0,null,0,null,0,0,0,0,0,0]
[{"$nulls":14},"No",{"$nulls":17},0,{"$nulls":14},0,{"$nulls":9},0,0,0,0,null,0,null,0,null,0,null,0,0,0,0,0,0]
[{"$nulls":14},"No",{"$nulls":17},0,{"$nulls":14},0,{"$nulls":9},0,0,0,0,null,0,null,0,null,0,null,0,0,0,0,0,0]
[{"$nulls":14},"No",{"$nulls":17},0,{"$nulls":14},0,{"$nulls":9},0,0,0,0,null,0,null,0,null,0,null,0,0,0,0,0,0]
[{"$nulls":14},"No",{"$nulls":17},0,{"$nulls":14},0,{"$nulls":9},0,0,0,0,null,0,null,0,null,0,null,0,0,0,0,0,0]
[{"$nulls":14},"No",{"$nulls":17},0,{"$nulls":14},0,{"$nulls":9},0,0,0,0,null,0,null,0,null,0,null,0,0,0,0,0,0]
[{"$nulls":14},"No",{"$nulls":17},0,{"$nulls":14},0,{"$nulls":9},0,0,0,0,null,0,null,0,null,0,null,0,0,0,0,0,0]
[{"$nulls":14},"No",{"$nulls":17},0,{"$nulls":14},0,{"$nulls":9},0,0,0,0,null,0,null,0,null,0,null,0,0,0,0,0,0]
[{"$nulls":14},"No",{"$nulls":17},0,{"$nulls":14},0,{"$nulls":9},0,0,0,0,null,0,null,0,null,0,null,0,0,0,0,0,0]
[{"$nulls":14},"No",{"$nulls":17},0,{"$nulls":14},0,{"$nulls":9},0,0,0,0,null,0,null,0,null,0,null,0,0,0,0,0,0]
[{"$nulls":14},"No",{"$nulls":17},0,{"$nulls":14},0,{"$nulls":9},0,0,0,0,null,0,null,0,null,0,null,0,0,0,0,0,0]
[{"$nulls":14},"No",{"$nulls":17},0,{"$nulls":14},0,{"$nulls":9},0,0,0,0,null,0,null,0,null,0,null,0,0,0,0,0,0]
[{"$nulls":14},"No",{"$nulls":17},0,{"$nulls":14},0,{"$nulls":9},0,0,0,0,null,0,null,0,null,0,null,0,0,0,0,0,0]
[{"$nulls":14},"No",{"$nulls":17},0,{"$nulls":14},0,{"$nulls":9},0,0,0,0,null,0,null,0,null,0,null,0,0,0,0,0,0]
[{"$nulls":14},"No",{"$nulls":17},0,{"$nulls":14},0,{"$nulls":9},0,0,0,0,null,0,null,0,null,0,null,0,0,0,0,0,0]
[{"$nulls":14},"No",{"$nulls":17},0,{"$nulls":14},0,{"$nulls":9},0,0,0,0,null,0,null,0,null,0,null,0,0,0,0,0,0]
[{"$nulls":14},"No",{"$nulls":17},0,{"$nulls":14},0,{"$nulls":9},0,0,0,0,null,0,null,0,null,0,null,0,0,0,0,0,0]
[{"$nulls":14},"No",{"$nulls":17},0,{"$nulls":14},0,{"$nulls":9},0,0,0,0,null,0,null,0,null,0,null,0,0,0,0,0,0]
[{"$nulls":14},"No",{"$nulls":17},0,{"$nulls":14},0,{"$nulls":9},0,0,0,0,null,0,null,0,null,0,null,0,0,0,0,0,0]
[{"$nulls":14},"No",{"$nulls":17},0,{"$nulls":14},0,{"$nulls":9},0,0,0,0,null,0,null,0,null,0,null,0,0,0,0,0,0]
[{"$nulls":14},"No",{"$nulls":17},0,{"$nulls":14},0,{"$nulls":9},0,0,0,0,null,0,null,0,null,0,null,0,0,0,0,0,0]
[{"$nulls":14},"No",{"$nulls":17},0,{"$nulls":14},0,{"$nulls":9},0,0,0,0,null,0,null,0,null,0,null,0,0,0,0,0,0]
[{"$nulls":14},"No",{"$nulls":17},0,{"$nulls":14},0,{"$nulls":9},0,0,0,0,null,0,null,0,null,0,null,0,0,0,0,0,0]
[{"$nulls":14},"No",{"$nulls":17},0,{"$nulls":14},0,{"$nulls":9},0,0,0,0,null,0,null,0,null,0,null,0,0,0,0,0,0]
[{"$nulls":14},"No",{"$nulls":17},0,{"$nulls":14},0,{"$nulls":9},0,0,0,0,null,0,null,0,null,0,null,0,0,0,0,0,0]
[{"$nulls":14},"No",{"$nulls":17},0,{"$nulls":14},0,{"$nulls":9},0,0,0,0,null,0,null,0,null,0,null,0,0,0,0,0,0]
[{"$nulls":14},"No",{"$nulls":17},0,{"$nulls":14},0,{"$nulls":9},0,0,0,0,null,0,null,0,null,0,null,0,0,0,0,0,0]
[{"$nulls":14},"No",{"$nulls":17},0,{"$nulls":14},0,{"$nulls":9},0,0,0,0,null,0,null,0,null,0,null,0,0,0,0,0,0]
[{"$nulls":14},"No",{"$nulls":17},0,{"$nulls":14},0,{"$nulls":9},0,0,0,0,null,0,null,0,null,0,null,0,0,0,0,0,0]
[{"$nulls":14},"No",{"$nulls":17},0,{"$nulls":14},0,{"$nulls":9},0,0,0,0,null,0,null,0,null,0,null,0,0,0,0,0,0]
[{"$nulls":14},{"$f":"IF($BV323=1,\"Yes\",\"No\")","v":"No"},{"$nulls":17},{"$f":"MIN(AH323:AM323)","v":0},{"$nulls":14},{"$f":"F323","v":0},{"$nulls":9},{"$f":"IF($BG323+$BK323+$BM323+$BO323 > 0,1,0)","v":0},{"$f":"IF(BH323+BI323=2,1,0)","v":0},{"$f":"IF($T323=\"Yes\",1,0)","v":0},{"$f":"IF($H323 = \"Female\",1,0)","v":0},null,{"$f":"IF($U323=\"Yes\",1,0)","v":0},null,{"$f":"IF($V323=\"Yes\",1,0)","v":0},null,{"$f":"IF($AB323=\"Yes\",1,0)","v":0},null,{"$f":"IF($J323=\"Yes\",1,0)","v":0},{"$f":"IF($K323=\"Yes\",1,0)","v":0},{"$f":"IF($L323=\"Yes\",1,0)","v":0},{"$f":"IF($M323=\"Yes\",1,0)","v":0},{"$f":"IF($N323=\"Yes\",1,0)","v":0},{"$f":"IF(BQ323+BR323+BS323+BT323+BU323>1,1,0)","v":0}]
[{"$nulls":14},"No",{"$nulls":17},0,{"$nulls":14},0,{"$nulls":9},0,0,0,0,null,0,null,0,null,0,null,0,0,0,0,0,0]
[{"$nulls":14},"No",{"$nulls":17},0,{"$nulls":14},0,{"$nulls":9},0,0,0,0,null,0,null,0,null,0,null,0,0,0,0,0,0]
[{"$nulls":14},"No",{"$nulls":17},0,{"$nulls":14},0,{"$nulls":9},0,0,0,0,null,0,null,0,null,0,null,0,0,0,0,0,0]
[{"$nulls":14},"No",{"$nulls":17},0,{"$nulls":14},0,{"$nulls":9},0,0,0,0,null,0,null,0,null,0,null,0,0,0,0,0,0]
[{"$nulls":14},"No",{"$nulls":17},0,{"$nulls":14},0,{"$nulls":9},0,0,0,0,null,0,null,0,null,0,null,0,0,0,0,0,0]
[{"$nulls":14},"No",{"$nulls":17},0,{"$nulls":14},0,{"$nulls":9},0,0,0,0,null,0,null,0,null,0,null,0,0,0,0,0,0]
[{"$nulls":14},"No",{"$nulls":17},0,{"$nulls":14},0,{"$nulls":9},0,0,0,0,null,0,null,0,null,0,null,0,0,0,0,0,0]
[{"$nulls":14},"No",{"$nulls":17},0,{"$nulls":14},0,{"$nulls":9},0,0,0,0,null,0,null,0,null,0,null,0,0,0,0,0,0]
[{"$nulls":14},"No",{"$nulls":17},0,{"$nulls":14},0,{"$nulls":9},0,0,0,0,null,0,null,0,null,0,null,0,0,0,0,0,0]
[{"$nulls":14},"No",{"$nulls":17},0,{"$nulls":14},0,{"$nulls":9},0,0,0,0,null,0,null,0,null,0,null,0,0,0,0,0,0]
[{"$nulls":14},"No",{"$nulls":17},0,{"$nulls":14},0,{"$nulls":9},0,0,0,0,null,0,null,0,null,0,null,0,0,0,0,0,0]
[{"$nulls":14},"No",{"$nulls":17},0,{"$nulls":14},0,{"$nulls":9},0,0,0,0,null,0,null,0,null,0,null,0,0,0,0,0,0]
[{"$nulls":14},"No",{"$nulls":17},0,{"$nulls":14},0,{"$nulls":9},0,0,0,0,null,0,null,0,null,0,null,0,0,0,0,0,0]
[{"$nulls":14},"No",{"$nulls":17},0,{"$nulls":14},0,{"$nulls":9},0,0,0,0,null,0,null,0,null,0,null,0,0,0,0,0,0]
[{"$nulls":14},"No",{"$nulls":17},0,{"$nulls":14},0,{"$nulls":9},0,0,0,0,null,0,null,0,null,0,null,0,0,0,0,0,0]
[{"$nulls":14},"No",{"$nulls":17},0,{"$nulls":14},0,{"$nulls":9},0,0,0,0,null,0,null,0,null,0,null,0,0,0,0,0,0]
[{"$nulls":14},"No",{"$nulls":17},0,{"$nulls":14},0,{"$nulls":9},0,0,0,0,null,0,null,0,null,0,null,0,0,0,0,0,0]
[{"$nulls":14},"No",{"$nulls":17},0,{"$nulls":14},0,{"$nulls":9},0,0,0,0,null,0,null,0,null,0,null,0,0,0,0,0,0]
[{"$nulls":14},"No",{"$nulls":17},0,{"$nulls":14},0,{"$nulls":9},0,0,0,0,null,0,null,0,null,0,null,0,0,0,0,0,0]
[{"$nulls":14},"No",{"$nulls":17},0,{"$nulls":14},0,{"$nulls":9},0,0,0,0,null,0,null,0,null,0,null,0,0,0,0,0,0]
[{"$nulls":14},"No",{"$nulls":17},0,{"$nulls":14},0,{"$nulls":9},0,0,0,0,null,0,null,0,null,0,null,0,0,0,0,0,0]
[{"$nulls":14},"No",{"$nulls":17},0,{"$nulls":14},0,{"$nulls":9},0,0,0,0,null,0,null,0,null,0,null,0,0,0,0,0,0]
[{"$nulls":14},"No",{"$nulls":17},0,{"$nulls":14},0,{"$nulls":9},0,0,0,0,null,0,null,0,null,0,null,0,0,0,0,0,0]
[{"$nulls":14},"No",{"$nulls":17},0,{"$nulls":14},0,{"$nulls":9},0,0,0,0,null,0,null,0,null,0,null,0,0,0,0,0,0]
[{"$nulls":14},"No",{"$nulls":17},0,{"$nulls":14},0,{"$nulls":9},0,0,0,0,null,0,null,0,null,0,null,0,0,0,0,0,0]
[{"$nulls":14},"No",{"$nulls":17},0,{"$nulls":14},0,{"$nulls":9},0,0,0,0,null,0,null,0,null,0,null,0,0,0,0,0,0]
[{"$nulls":14},"No",{"$nulls":17},0,{"$nulls":14},0,{"$nulls":9},0,0,0,0,null,0,null,0,null,0,null,0,0,0,0,0,0]
[{"$nulls":14},"No",{"$nulls":17},0,{"$nulls":14},0,{"$nulls":9},0,0,0,0,null,0,null,0,null,0,null,0,0,0,0,0,0]
[{"$nulls":14},"No",{"$nulls":17},0,{"$nulls":14},0,{"$nulls":9},0,0,0,0,null,0,null,0,null,0,null,0,0,0,0,0,0]
[{"$nulls":14},"No",{"$nulls":17},0,{"$nulls":14},0,{"$nulls":9},0,0,0,0,null,0,null,0,null,0,null,0,0,0,0,0,0]
[{"$nulls":14},"No",{"$nulls":17},0,{"$nulls":14},0,{"$nulls":9},0,0,0,0,null,0,null,0,null,0,null,0,0,0,0,0,0]
[{"$nulls":14},"No",{"$nulls":17},0,{"$nulls":14},0,{"$nulls":9},0,0,0,0,null,0,null,0,null,0,null,0,0,0,0,0,0]
[{"$nulls":14},"No",{"$nulls":17},0,{"$nulls":14},0,{"$nulls":9},0,0,0,0,null,0,null,0,null,0,null,0,0,0,0,0,0]
[{"$nulls":14},"No",{"$nulls":17},0,{"$nulls":14},0,{"$nulls":9},0,0,0,0,null,0,null,0,null,0,null,0,0,0,0,0,0]
[{"$nulls":14},"No",{"$nulls":17},0,{"$nulls":14},0,{"$nulls":9},0,0,0,0,null,0,null,0,null,0,null,0,0,0,0,0,0]
[{"$nulls":14},"No",{"$nulls":17},0,{"$nulls":14},0,{"$nulls":9},0,0,0,0,null,0,null,0,null,0,null,0,0,0,0,0,0]
[{"$nulls":14},"No",{"$nulls":17},0,{"$nulls":14},0,{"$nulls":9},0,0,0,0,null,0,null,0,null,0,null,0,0,0,0,0,0]
[{"$nulls":14},"No",{"$nulls":17},0,{"$nulls":14},0,{"$nulls":9},0,0,0,0,null,0,null,0,null,0,null,0,0,0,0,0,0]
[{"$nulls":14},"No",{"$nulls":17},0,{"$nulls":14},0,{"$nulls":9},0,0,0,0,null,0,null,0,null,0,null,0,0,0,0,0,0]
[{"$nulls":14},"No",{"$nulls":17},0,{"$nulls":14},0,{"$nulls":9},0,0,0,0,null,0,null,0,null,0,null,0,0,0,0,0,0]
[{"$nulls":14},"No",{"$nulls":17},0,{"$nulls":14},0,{"$nulls":9},0,0,0,0,null,0,null,0,null,0,null,0,0,0,0,0,0]
[{"$nulls":14},"No",{"$nulls":17},0,{"$nulls":14},0,{"$nulls":9},0,0,0,0,null,0,null,0,null,0,null,0,0,0,0,0,0]
[{"$nulls":14},"No",{"$nulls":17},0,{"$nulls":14},0,{"$nulls":9},0,0,0,0,null,0,null,0,null,0,null,0,0,0,0,0,0]
[{"$nulls":14},"No",{"$nulls":17},0,{"$nulls":14},0,{"$nulls":9},0,0,0,0,null,0,null,0,null,0,null,0,0,0,0,0,0]
[{"$nulls":14},"No",{"$nulls":17},0,{"$nulls":14},0,{"$nulls":9},0,0,0,0,null,0,null,0,null,0,null,0,0,0,0,0,0]
[{"$nulls":14},"No",{"$nulls":17},0,{"$nulls":14},0,{"$nulls":9},0,0,0,0,null,0,null,0,null,0,null,0,0,0,0,0,0]
[{"$nulls":14},"No",{"$nulls":17},0,{"$nulls":14},0,{"$nulls":9},0,0,0,0,null,0,null,0,null,0,null,0,0,0,0,0,0]
[{"$nulls":14},"No",{"$nulls":17},0,{"$nulls":14},0,{"$nulls":9},0,0,0,0,null,0,null,0,null,0,null,0,0,0,0,0,0]
[{"$nulls":14},"No",{"$nulls":17},0,{"$nulls":14},0,{"$nulls":9},0,0,0,0,null,0,null,0,null,0,null,0,0,0,0,0,0]
[{"$nulls":14},"No",{"$nulls":17},0,{"$nulls":14},0,{"$nulls":9},0,0,0,0,null,0,null,0,null,0,null,0,0,0,0,0,0]
[{"$nulls":14},"No",{"$nulls":17},0,{"$nulls":14},0,{"$nulls":9},0,0,0,0,null,0,null,0,null,0,null,0,0,0,0,0,0]
[{"$nulls":14},"No",{"$nulls":17},0,{"$nulls":14},0,{"$nulls":9},0,0,0,0,null,0,null,0,null,0,null,0,0,0,0,0,0]
[{"$nulls":14},"No",{"$nulls":17},0,{"$nulls":14},0,{"$nulls":9},0,0,0,0,null,0,null,0,null,0,null,0,0,0,0,0,0]
[{"$nulls":14},"No",{"$nulls":17},0,{"$nulls":14},0,{"$nulls":9},0,0,0,0,null,0,null,0,null,0,null,0,0,0,0,0,0]
[{"$nulls":14},"No",{"$nulls":17},0,{"$nulls":14},0,{"$nulls":9},0,0,0,0,null,0,null,0,null,0,null,0,0,0,0,0,0]
[{"$nulls":14},"No",{"$nulls":17},0,{"$nulls":14},0,{"$nulls":9},0,0,0,0,null,0,null,0,null,0,null,0,0,0,0,0,0]
[{"$nulls":14},"No",{"$nulls":17},0,{"$nulls":14},0,{"$nulls":9},0,0,0,0,null,0,null,0,null,0,null,0,0,0,0,0,0]
[{"$nulls":14},"No",{"$nulls":17},0,{"$nulls":14},0,{"$nulls":9},0,0,0,0,null,0,null,0,null,0,null,0,0,0,0,0,0]
[{"$nulls":14},"No",{"$nulls":17},0,{"$nulls":14},0,{"$nulls":9},0,0,0,0,null,0,null,0,null,0,null,0,0,0,0,0,0]
[{"$nulls":14},"No",{"$nulls":17},0,{"$nulls":14},0,{"$nulls":9},0,0,0,0,null,0,null,0,null,0,null,0,0,0,0,0,0]
[{"$nulls":14},"No",{"$nulls":17},0,{"$nulls":14},0,{"$nulls":9},0,0,0,0,null,0,null,0,null,0,null,0,0,0,0,0,0]
[{"$nulls":14},"No",{"$nulls":17},0,{"$nulls":14},0,{"$nulls":9},0,0,0,0,null,0,null,0,null,0,null,0,0,0,0,0,0]
[{"$nulls":14},"No",{"$nulls":17},0,{"$nulls":14},0,{"$nulls":9},0,0,0,0,null,0,null,0,null,0,null,0,0,0,0,0,0]
[{"$nulls":14},{"$f":"IF($BV387=1,\"Yes\",\"No\")","v":"No"},{"$nulls":17},{"$f":"MIN(AH387:AM387)","v":0},{"$nulls":14},{"$f":"F387","v":0},{"$nulls":9},{"$f":"IF($BG387+$BK387+$BM387+$BO387 > 0,1,0)","v":0},{"$f":"IF(BH387+BI387=2,1,0)","v":0},{"$f":"IF($T387=\"Yes\",1,0)","v":0},{"$f":"IF($H387 = \"Female\",1,0)","v":0},null,{"$f":"IF($U387=\"Yes\",1,0)","v":0},null,{"$f":"IF($V387=\"Yes\",1,0)","v":0},null,{"$f":"IF($AB387=\"Yes\",1,0)","v":0},null,{"$f":"IF($J387=\"Yes\",1,0)","v":0},{"$f":"IF($K387=\"Yes\",1,0)","v":0},{"$f":"IF($L387=\"Yes\",1,0)","v":0},{"$f":"IF($M387=\"Yes\",1,0)","v":0},{"$f":"IF($N387=\"Yes\",1,0)","v":0},{"$f":"IF(BQ387+BR387+BS387+BT387+BU387>1,1,0)","v":0}]
[{"$nulls":14},"No",{"$nulls":17},0,{"$nulls":14},0,{"$nulls":9},0,0,0,0,null,0,null,0,null,0,null,0,0,0,0,0,0]
[{"$nulls":14},"No",{"$nulls":17},0,{"$nulls":14},0,{"$nulls":9},0,0,0,0,null,0,null,0,null,0,null,0,0,0,0,0,0]
[{"$nulls":14},"No",{"$nulls":17},0,{"$nulls":14},0,{"$nulls":9},0,0,0,0,null,0,null,0,null,0,null,0,0,0,0,0,0]
[{"$nulls":14},"No",{"$nulls":17},0,{"$nulls":14},0,{"$nulls":9},0,0,0,0,null,0,null,0,null,0,null,0,0,0,0,0,0]
[{"$nulls":14},"No",{"$nulls":17},0,{"$nulls":14},0,{"$nulls":9},0,0,0,0,null,0,null,0,null,0,null,0,0,0,0,0,0]
[{"$nulls":14},"No",{"$nulls":17},0,{"$nulls":14},0,{"$nulls":9},0,0,0,0,null,0,null,0,null,0,null,0,0,0,0,0,0]
[{"$nulls":14},"No",{"$nulls":17},0,{"$nulls":14},0,{"$nulls":9},0,0,0,0,null,0,null,0,null,0,null,0,0,0,0,0,0]
[{"$nulls":14},"No",{"$nulls":17},0,{"$nulls":14},0,{"$nulls":9},0,0,0,0,null,0,null,0,null,0,null,0,0,0,0,0,0]
[{"$nulls":14},"No",{"$nulls":17},0,{"$nulls":14},0,{"$nulls":9},0,0,0,0,null,0,null,0,null,0,null,0,0,0,0,0,0]
[{"$nulls":14},"No",{"$nulls":17},0,{"$nulls":14},0,{"$nulls":9},0,0,0,0,null,0,null,0,null,0,null,0,0,0,0,0,0]
[{"$nulls":14},"No",{"$nulls":17},0,{"$nulls":14},0,{"$nulls":9},0,0,0,0,null,0,null,0,null,0,null,0,0,0,0,0,0]
[{"$nulls":14},"No",{"$nulls":17},0,{"$nulls":14},0,{"$nulls":9},0,0,0,0,null,0,null,0,null,0,null,0,0,0,0,0,0]
[{"$nulls":14},"No",{"$nulls":17},0,{"$nulls":14},0,{"$nulls":9},0,0,0,0,null,0,null,0,null,0,null,0,0,0,0,0,0]
[{"$nulls":14},"No",{"$nulls":17},0,{"$nulls":14},0,{"$nulls":9},0,0,0,0,null,0,null,0,null,0,null,0,0,0,0,0,0]
[{"$nulls":14},"No",{"$nulls":17},0,{"$nulls":14},0,{"$nulls":9},0,0,0,0,null,0,null,0,null,0,null,0,0,0,0,0,0]
[{"$nulls":14},"No",{"$nulls":17},0,{"$nulls":14},0,{"$nulls":9},0,0,0,0,null,0,null,0,null,0,null,0,0,0,0,0,0]
[{"$nulls":14},"No",{"$nulls":17},0,{"$nulls":14},0,{"$nulls":9},0,0,0,0,null,0,null,0,null,0,null,0,0,0,0,0,0]
[{"$nulls":14},"No",{"$nulls":17},0,{"$nulls":14},0,{"$nulls":9},0,0,0,0,null,0,null,0,null,0,null,0,0,0,0,0,0]
[{"$nulls":14},"No",{"$nulls":17},0,{"$nulls":14},0,{"$nulls":9},0,0,0,0,null,0,null,0,null,0,null,0,0,0,0,0,0]
[{"$nulls":14},"No",{"$nulls":17},0,{"$nulls":14},0,{"$nulls":9},0,0,0,0,null,0,null,0,null,0,null,0,0,0,0,0,0]
[{"$nulls":14},"No",{"$nulls":17},0,{"$nulls":14},0,{"$nulls":9},0,0,0,0,null,0,null,0,null,0,null,0,0,0,0,0,0]
[{"$nulls":14},"No",{"$nulls":17},0,{"$nulls":14},0,{"$nulls":9},0,0,0,0,null,0,null,0,null,0,null,0,0,0,0,0,0]
[{"$nulls":14},"No",{"$nulls":17},0,{"$nulls":14},0,{"$nulls":9},0,0,0,0,null,0,null,0,null,0,null,0,0,0,0,0,0]
[{"$nulls":14},"No",{"$nulls":17},0,{"$nulls":14},0,{"$nulls":9},0,0,0,0,null,0,null,0,null,0,null,0,0,0,0,0,0]
[{"$nulls":14},"No",{"$nulls":17},0,{"$nulls":14},0,{"$nulls":9},0,0,0,0,null,0,null,0,null,0,null,0,0,0,0,0,0]
[{"$nulls":14},"No",{"$nulls":17},0,{"$nulls":14},0,{"$nulls":9},0,0,0,0,null,0,null,0,null,0,null,0,0,0,0,0,0]
[{"$nulls":14},"No",{"$nulls":17},0,{"$nulls":14},0,{"$nulls":9},0,0,0,0,null,0,null,0,null,0,null,0,0,0,0,0,0]
[{"$nulls":14},"No",{"$nulls":17},0,{"$nulls":14},0,{"$nulls":9},0,0,0,0,null,0,null,0,null,0,null,0,0,0,0,0,0]
[{"$nulls":14},"No",{"$nulls":17},0,{"$nulls":14},0,{"$nulls":9},0,0,0,0,null,0,null,0,null,0,null,0,0,0,0,0,0]
[{"$nulls":14},"No",{"$nulls":17},0,{"$nulls":14},0,{"$nulls":9},0,0,0,0,null,0,null,0,null,0,null,0,0,0,0,0,0]
[{"$nulls":14},"No",{"$nulls":17},0,{"$nulls":14},0,{"$nulls":9},0,0,0,0,null,0,null,0,null,0,null,0,0,0,0,0,0]
[{"$nulls":14},"No",{"$nulls":17},0,{"$nulls":14},0,{"$nulls":9},0,0,0,0,null,0,null,0,null,0,null,0,0,0,0,0,0]
[{"$nulls":14},"No",{"$nulls":17},0,{"$nulls":14},0,{"$nulls":9},0,0,0,0,null,0,null,0,null,0,null,0,0,0,0,0,0]
[{"$nulls":14},"No",{"$nulls":17},0,{"$nulls":14},0,{"$nulls":9},0,0,0,0,null,0,null,0,null,0,null,0,0,0,0,0,0]
[{"$nulls":14},"No",{"$nulls":17},0,{"$nulls":14},0,{"$nulls":9},0,0,0,0,null,0,null,0,null,0,null,0,0,0,0,0,0]
[{"$nulls":14},"No",{"$nulls":17},0,{"$nulls":14},0,{"$nulls":9},0,0,0,0,null,0,null,0,null,0,null,0,0,0,0,0,0]
[{"$nulls":14},"No",{"$nulls":17},0,{"$nulls":14},0,{"$nulls":9},0,0,0,0,null,0,null,0,null,0,null,0,0,0,0,0,0]
[{"$nulls":14},"No",{"$nulls":17},0,{"$nulls":14},0,{"$nulls":9},0,0,0,0,null,0,null,0,null,0,null,0,0,0,0,0,0]
[{"$nulls":14},"No",{"$nulls":17},0,{"$nulls":14},0,{"$nulls":9},0,0,0,0,null,0,null,0,null,0,null,0,0,0,0,0,0]
[{"$nulls":14},"No",{"$nulls":17},0,{"$nulls":14},0,{"$nulls":9},0,0,0,0,null,0,null,0,null,0,null,0,0,0,0,0,0]
[{"$nulls":14},"No",{"$nulls":17},0,{"$nulls":14},0,{"$nulls":9},0,0,0,0,null,0,null,0,null,0,null,0,0,0,0,0,0]
[{"$nulls":14},"No",{"$nulls":17},0,{"$nulls":14},0,{"$nulls":9},0,0,0,0,null,0,null,0,null,0,null,0,0,0,0,0,0]
[{"$nulls":14},"No",{"$nulls":17},0,{"$nulls":14},0,{"$nulls":9},0,0,0,0,null,0,null,0,null,0,null,0,0,0,0,0,0]
[{"$nulls":14},"No",{"$nulls":17},0,{"$nulls":14},0,{"$nulls":9},0,0,0,0,null,0,null,0,null,0,null,0,0,0,0,0,0]
[{"$nulls":14},"No",{"$nulls":17},0,{"$nulls":14},0,{"$nulls":9},0,0,0,0,null,0,null,0,null,0,null,0,0,0,0,0,0]
[{"$nulls":14},"No",{"$nulls":17},0,{"$nulls":14},0,{"$nulls":9},0,0,0,0,null,0,null,0,null,0,null,0,0,0,0,0,0]
[{"$nulls":14},"No",{"$nulls":17},0,{"$nulls":14},0,{"$nulls":9},0,0,0,0,null,0,null,0,null,0,null,0,0,0,0,0,0]
[{"$nulls":14},"No",{"$nulls":17},0,{"$nulls":14},0,{"$nulls":9},0,0,0,0,null,0,null,0,null,0,null,0,0,0,0,0,0]
[{"$nulls":14},"No",{"$nulls":17},0,{"$nulls":14},0,{"$nulls":9},0,0,0,0,null,0,null,0,null,0,null,0,0,0,0,0,0]
[{"$nulls":14},"No",{"$nulls":17},0,{"$nulls":14},0,{"$nulls":9},0,0,0,0,null,0,null,0,null,0,null,0,0,0,0,0,0]
[{"$nulls":14},"No",{"$nulls":17},0,{"$nulls":14},0,{"$nulls":9},0,0,0,0,null,0,null,0,null,0,null,0,0,0,0,0,0]
[{"$nulls":14},"No",{"$nulls":17},0,{"$nulls":14},0,{"$nulls":9},0,0,0,0,null,0,null,0,null,0,null,0,0,0,0,0,0]
[{"$nulls":14},"No",{"$nulls":17},0,{"$nulls":14},0,{"$nulls":9},0,0,0,0,null,0,null,0,null,0,null,0,0,0,0,0,0]
[{"$nulls":14},"No",{"$nulls":17},0,{"$nulls":14},0,{"$nulls":9},0,0,0,0,null,0,null,0,null,0,null,0,0,0,0,0,0]
[{"$nulls":14},"No",{"$nulls":17},0,{"$nulls":14},0,{"$nulls":9},0,0,0,0,null,0,null,0,null,0,null,0,0,0,0,0,0]
[{"$nulls":14},"No",{"$nulls":17},0,{"$nulls":14},0,{"$nulls":9},0,0,0,0,null,0,null,0,null,0,null,0,0,0,0,0,0]
[{"$nulls":14},"No",{"$nulls":17},0,{"$nulls":14},0,{"$nulls":9},0,0,0,0,null,0,null,0,null,0,null,0,0,0,0,0,0]
[{"$nulls":14},"No",{"$nulls":17},0,{"$nulls":14},0,{"$nulls":9},0,0,0,0,null,0,null,0,null,0,null,0,0,0,0,0,0]
[{"$nulls":14},"No",{"$nulls":17},0,{"$nulls":14},0,{"$nulls":9},0,0,0,0,null,0,null,0,null,0,null,0,0,0,0,0,0]
[{"$nulls":14},"No",{"$nulls":17},0,{"$nulls":14},0,{"$nulls":9},0,0,0,0,null,0,null,0,null,0,null,0,0,0,0,0,0]
[{"$nulls":14},"No",{"$nulls":17},0,{"$nulls":14},0,{"$nulls":9},0,0,0,0,null,0,null,0,null,0,null,0,0,0,0,0,0]
[{"$nulls":14},"No",{"$nulls":17},0,{"$nulls":14},0,{"$nulls":9},0,0,0,0,null,0,null,0,null,0,null,0,0,0,0,0,0]
[{"$nulls":14},"No",{"$nulls":17},0,{"$nulls":14},0,{"$nulls":9},0,0,0,0,null,0,null,0,null,0,null,0,0,0,0,0,0]
[{"$nulls":14},{"$f":"IF($BV451=1,\"Yes\",\"No\")","v":"No"},{"$nulls":17},{"$f":"MIN(AH451:AM451)","v":0},{"$nulls":14},{"$f":"F451","v":0},{"$nulls":9},{"$f":"IF($BG451+$BK451+$BM451+$BO451 > 0,1,0)","v":0},{"$f":"IF(BH451+BI451=2,1,0)","v":0},{"$f":"IF($T451=\"Yes\",1,0)","v":0},{"$f":"IF($H451 = \"Female\",1,0)","v":0},null,{"$f":"IF($U451=\"Yes\",1,0)","v":0},null,{"$f":"IF($V451=\"Yes\",1,0)","v":0},null,{"$f":"IF($AB451=\"Yes\",1,0)","v":0},null,{"$f":"IF($J451=\"Yes\",1,0)","v":0},{"$f":"IF($K451=\"Yes\",1,0)","v":0},{"$f":"IF($L451=\"Yes\",1,0)","v":0},{"$f":"IF($M451=\"Yes\",1,0)","v":0},{"$f":"IF($N451=\"Yes\",1,0)","v":0},{"$f":"IF(BQ451+BR451+BS451+BT451+BU451>1,1,0)","v":0}]
[{"$nulls":14},"No",{"$nulls":17},0,{"$nulls":14},0,{"$nulls":9},0,0,0,0,null,0,null,0,null,0,null,0,0,0,0,0,0]
[{"$nulls":14},"No",{"$nulls":17},0,{"$nulls":14},0,{"$nulls":9},0,0,0,0,null,0,null,0,null,0,null,0,0,0,0,0,0]
[{"$nulls":14},"No",{"$nulls":17},0,{"$nulls":14},0,{"$nulls":9},0,0,0,0,null,0,null,0,null,0,null,0,0,0,0,0,0]
[{"$nulls":14},"No",{"$nulls":17},0,{"$nulls":14},0,{"$nulls":9},0,0,0,0,null,0,null,0,null,0,null,0,0,0,0,0,0]
[{"$nulls":14},"No",{"$nulls":17},0,{"$nulls":14},0,{"$nulls":9},0,0,0,0,null,0,null,0,null,0,null,0,0,0,0,0,0]
[{"$nulls":14},"No",{"$nulls":17},0,{"$nulls":14},0,{"$nulls":9},0,0,0,0,null,0,null,0,null,0,null,0,0,0,0,0,0]
[{"$nulls":14},"No",{"$nulls":17},0,{"$nulls":14},0,{"$nulls":9},0,0,0,0,null,0,null,0,null,0,null,0,0,0,0,0,0]
[{"$nulls":14},"No",{"$nulls":17},0,{"$nulls":14},0,{"$nulls":9},0,0,0,0,null,0,null,0,null,0,null,0,0,0,0,0,0]
[{"$nulls":14},"No",{"$nulls":17},0,{"$nulls":14},0,{"$nulls":9},0,0,0,0,null,0,null,0,null,0,null,0,0,0,0,0,0]
[{"$nulls":14},"No",{"$nulls":17},0,{"$nulls":14},0,{"$nulls":9},0,0,0,0,null,0,null,0,null,0,null,0,0,0,0,0,0]
[{"$nulls":14},"No",{"$nulls":17},0,{"$nulls":14},0,{"$nulls":9},0,0,0,0,null,0,null,0,null,0,null,0,0,0,0,0,0]
[{"$nulls":14},"No",{"$nulls":17},0,{"$nulls":14},0,{"$nulls":9},0,0,0,0,null,0,null,0,null,0,null,0,0,0,0,0,0]
[{"$nulls":14},"No",{"$nulls":17},0,{"$nulls":14},0,{"$nulls":9},0,0,0,0,null,0,null,0,null,0,null,0,0,0,0,0,0]
[{"$nulls":14},"No",{"$nulls":17},0,{"$nulls":14},0,{"$nulls":9},0,0,0,0,null,0,null,0,null,0,null,0,0,0,0,0,0]
[{"$nulls":14},"No",{"$nulls":17},0,{"$nulls":14},0,{"$nulls":9},0,0,0,0,null,0,null,0,null,0,null,0,0,0,0,0,0]
[{"$nulls":14},"No",{"$nulls":17},0,{"$nulls":14},0,{"$nulls":9},0,0,0,0,null,0,null,0,null,0,null,0,0,0,0,0,0]
[{"$nulls":14},"No",{"$nulls":17},0,{"$nulls":14},0,{"$nulls":9},0,0,0,0,null,0,null,0,null,0,null,0,0,0,0,0,0]
[{"$nulls":14},"No",{"$nulls":17},0,{"$nulls":14},0,{"$nulls":9},0,0,0,0,null,0,null,0,null,0,null,0,0,0,0,0,0]
[{"$nulls":14},"No",{"$nulls":17},0,{"$nulls":14},0,{"$nulls":9},0,0,0,0,null,0,null,0,null,0,null,0,0,0,0,0,0]
[{"$nulls":14},"No",{"$nulls":17},0,{"$nulls":14},0,{"$nulls":9},0,0,0,0,null,0,null,0,null,0,null,0,0,0,0,0,0]
[{"$nulls":14},"No",{"$nulls":17},0,{"$nulls":14},0,{"$nulls":9},0,0,0,0,null,0,null,0,null,0,null,0,0,0,0,0,0]
[{"$nulls":14},"No",{"$nulls":17},0,{"$nulls":14},0,{"$nulls":9},0,0,0,0,null,0,null,0,null,0,null,0,0,0,0,0,0]
[{"$nulls":14},"No",{"$nulls":17},0,{"$nulls":14},0,{"$nulls":9},0,0,0,0,null,0,null,0,null,0,null,0,0,0,0,0,0]
[{"$nulls":14},"No",{"$nulls":17},0,{"$nulls":14},0,{"$nulls":9},0,0,0,0,null,0,null,0,null,0,null,0,0,0,0,0,0]
[{"$nulls":14},"No",{"$nulls":17},0,{"$nulls":14},0,{"$nulls":9},0,0,0,0,null,0,null,0,null,0,null,0,0,0,0,0,0]
[{"$nulls":14},"No",{"$nulls":17},0,{"$nulls":14},0,{"$nulls":9},0,0,0,0,null,0,null,0,null,0,null,0,0,0,0,0,0]
[{"$nulls":14},"No",{"$nulls":17},0,{"$nulls":14},0,{"$nulls":9},0,0,0,0,null,0,null,0,null,0,null,0,0,0,0,0,0]
[{"$nulls":14},"No",{"$nulls":17},0,{"$nulls":14},0,{"$nulls":9},0,0,0,0,null,0,null,0,null,0,null,0,0,0,0,0,0]
[{"$nulls":14},"No",{"$nulls":17},0,{"$nulls":14},0,{"$nulls":9},0,0,0,0,null,0,null,0,null,0,null,0,0,0,0,0,0]
[{"$nulls":14},"No",{"$nulls":17},0,{"$nulls":14},0,{"$nulls":9},0,0,0,0,null,0,null,0,null,0,null,0,0,0,0,0,0]
[{"$nulls":14},"No",{"$nulls":17},0,{"$nulls":14},0,{"$nulls":9},0,0,0,0,null,0,null,0,null,0,null,0,0,0,0,0,0]
[{"$nulls":14},"No",{"$nulls":17},0,{"$nulls":14},0,{"$nulls":9},0,0,0,0,null,0,null,0,null,0,null,0,0,0,0,0,0]
[{"$nulls":14},"No",{"$nulls":17},0,{"$nulls":14},0,{"$nulls":9},0,0,0,0,null,0,null,0,null,0,null,0,0,0,0,0,0]
[{"$nulls":14},"No",{"$nulls":17},0,{"$nulls":14},0,{"$nulls":9},0,0,0,0,null,0,null,0,null,0,null,0,0,0,0,0,0]
[{"$nulls":14},"No",{"$nulls":17},0,{"$nulls":14},0,{"$nulls":9},0,0,0,0,null,0,null,0,null,0,null,0,0,0,0,0,0]
[{"$nulls":14},"No",{"$nulls":17},0,{"$nulls":14},0,{"$nulls":9},0,0,0,0,null,0,null,0,null,0,null,0,0,0,0,0,0]
[{"$nulls":14},"No",{"$nulls":17},0,{"$nulls":14},0,{"$nulls":9},0,0,0,0,null,0,null,0,null,0,null,0,0,0,0,0,0]
[{"$nulls":14},"No",{"$nulls":17},0,{"$nulls":14},0,{"$nulls":9},0,0,0,0,null,0,null,0,null,0,null,0,0,0,0,0,0]
[{"$nulls":14},"No",{"$nulls":17},0,{"$nulls":14},0,{"$nulls":9},0,0,0,0,null,0,null,0,null,0,null,0,0,0,0,0,0]
[{"$nulls":14},"No",{"$nulls":17},0,{"$nulls":14},0,{"$nulls":9},0,0,0,0,null,0,null,0,null,0,null,0,0,0,0,0,0]
[{"$nulls":14},"No",{"$nulls":17},0,{"$nulls":14},0,{"$nulls":9},0,0,0,0,null,0,null,0,null,0,null,0,0,0,0,0,0]
[{"$nulls":14},"No",{"$nulls":17},0,{"$nulls":14},0,{"$nulls":9},0,0,0,0,null,0,null,0,null,0,null,0,0,0,0,0,0]
[{"$nulls":14},"No",{"$nulls":17},0,{"$nulls":14},0,{"$nulls":9},0,0,0,0,null,0,null,0,null,0,null,0,0,0,0,0,0]
[{"$nulls":14},"No",{"$nulls":17},0,{"$nulls":14},0,{"$nulls":9},0,0,0,0,null,0,null,0,null,0,null,0,0,0,0,0,0]
[{"$nulls":14},"No",{"$nulls":17},0,{"$nulls":14},0,{"$nulls":9},0,0,0,0,null,0,null,0,null,0,null,0,0,0,0,0,0]
[{"$nulls":14},"No",{"$nulls":17},0,{"$nulls":14},0,{"$nulls":9},0,0,0,0,null,0,null,0,null,0,null,0,0,0,0,0,0]
[{"$nulls":14},"No",{"$nulls":17},0,{"$nulls":14},0,{"$nulls":9},0,0,0,0,null,0,null,0,null,0,null,0,0,0,0,0,0]
[{"$nulls":14},"No",{"$nulls":17},0,{"$nulls":14},0,{"$nulls":9},0,0,0,0,null,0,null,0,null,0,null,0,0,0,0,0,0]
[{"$nulls":14},"No",{"$nulls":17},0,{"$nulls":14},0,{"$nulls":9},0,0,0,0,null,0,null,0,null,0,null,0,0,0,0,0,0]
[{"$nulls":14},"No",{"$nulls":17},0,{"$nulls":14},0,{"$nulls":9},0,0,0,0,null,0,null,0,null,0,null,0,0,0,0,0,0]
[{"$nulls":14},"No",{"$nulls":17},0,{"$nulls":14},0,{"$nulls":9},0,0,0,0,null,0,null,0,null,0,null,0,0,0,0,0,0]
[{"$nulls":14},"No",{"$nulls":17},0,{"$nulls":14},0,{"$nulls":9},0,0,0,0,null,0,null,0,null,0,null,0,0,0,0,0,0]
[{"$nulls":14},"No",{"$nulls":17},0,{"$nulls":14},0,{"$nulls":9},0,0,0,0,null,0,null,0,null,0,null,0,0,0,0,0,0]
[{"$nulls":14},"No",{"$nulls":17},0,{"$nulls":14},0,{"$nulls":9},0,0,0,0,null,0,null,0,null,0,null,0,0,0,0,0,0]
[{"$nulls":14},"No",{"$nulls":17},0,{"$nulls":14},0,{"$nulls":9},0,0,0,0,null,0,null,0,null,0,null,0,0,0,0,0,0]
[{"$nulls":14},"No",{"$nulls":17},0,{"$nulls":14},0,{"$nulls":9},0,0,0,0,null,0,null,0,null,0,null,0,0,0,0,0,0]
[{"$nulls":14},"No",{"$nulls":17},0,{"$nulls":14},0,{"$nulls":9},0,0,0,0,null,0,null,0,null,0,null,0,0,0,0,0,0]
[{"$nulls":14},"No",{"$nulls":17},0,{"$nulls":14},0,{"$nulls":9},0,0,0,0,null,0,null,0,null,0,null,0,0,0,0,0,0]
[{"$nulls":14},"No",{"$nulls":17},0,{"$nulls":14},0,{"$nulls":9},0,0,0,0,null,0,null,0,null,0,null,0,0,0,0,0,0]
[{"$nulls":14},"No",{"$nulls":17},0,{"$nulls":14},0,{"$nulls":9},0,0,0,0,null,0,null,0,null,0,null,0,0,0,0,0,0]
[{"$nulls":14},"No",{"$nulls":17},0,{"$nulls":14},0,{"$nulls":9},0,0,0,0,null,0,null,0,null,0,null,0,0,0,0,0,0]
[{"$nulls":14},"No",{"$nulls":17},0,{"$nulls":14},0,{"$nulls":9},0,0,0,0,null,0,null,0,null,0,null,0,0,0,0,0,0]
[{"$nulls":14},"No",{"$nulls":17},0,{"$nulls":14},0,{"$nulls":9},0,0,0,0,null,0,null,0,null,0,null,0,0,0,0,0,0]
[{"$nulls":14},{"$f":"IF($BV515=1,\"Yes\",\"No\")","v":"No"},{"$nulls":17},{"$f":"MIN(AH515:AM515)","v":0},{"$nulls":14},{"$f":"F515","v":0},{"$nulls":9},{"$f":"IF($BG515+$BK515+$BM515+$BO515 > 0,1,0)","v":0},{"$f":"IF(BH515+BI515=2,1,0)","v":0},{"$f":"IF($T515=\"Yes\",1,0)","v":0},{"$f":"IF($H515 = \"Female\",1,0)","v":0},null,{"$f":"IF($U515=\"Yes\",1,0)","v":0},null,{"$f":"IF($V515=\"Yes\",1,0)","v":0},null,{"$f":"IF($AB515=\"Yes\",1,0)","v":0},null,{"$f":"IF($J515=\"Yes\",1,0)","v":0},{"$f":"IF($K515=\"Yes\",1,0)","v":0},{"$f":"IF($L515=\"Yes\",1,0)","v":0},{"$f":"IF($M515=\"Yes\",1,0)","v":0},{"$f":"IF($N515=\"Yes\",1,0)","v":0},{"$f":"IF(BQ515+BR515+BS515+BT515+BU515>1,1,0)","v":0}]
[{"$nulls":14},"No",{"$nulls":17},0,{"$nulls":14},0,{"$nulls":9},0,0,0,0,null,0,null,0,null,0,null,0,0,0,0,0,0]
[{"$nulls":14},"No",{"$nulls":17},0,{"$nulls":14},0,{"$nulls":9},0,0,0,0,null,0,null,0,null,0,null,0,0,0,0,0,0]
[{"$nulls":14},"No",{"$nulls":17},0,{"$nulls":14},0,{"$nulls":9},0,0,0,0,null,0,null,0,null,0,null,0,0,0,0,0,0]
[{"$nulls":14},"No",{"$nulls":17},0,{"$nulls":14},0,{"$nulls":9},0,0,0,0,null,0,null,0,null,0,null,0,0,0,0,0,0]
[{"$nulls":14},"No",{"$nulls":17},0,{"$nulls":14},0,{"$nulls":9},0,0,0,0,null,0,null,0,null,0,null,0,0,0,0,0,0]
[{"$nulls":14},"No",{"$nulls":17},0,{"$nulls":14},0,{"$nulls":9},0,0,0,0,null,0,null,0,null,0,null,0,0,0,0,0,0]
[{"$nulls":14},"No",{"$nulls":17},0,{"$nulls":14},0,{"$nulls":9},0,0,0,0,null,0,null,0,null,0,null,0,0,0,0,0,0]
[{"$nulls":14},"No",{"$nulls":17},0,{"$nulls":14},0,{"$nulls":9},0,0,0,0,null,0,null,0,null,0,null,0,0,0,0,0,0]
[{"$nulls":14},"No",{"$nulls":17},0,{"$nulls":14},0,{"$nulls":9},0,0,0,0,null,0,null,0,null,0,null,0,0,0,0,0,0]
[{"$nulls":14},"No",{"$nulls":17},0,{"$nulls":14},0,{"$nulls":9},0,0,0,0,null,0,null,0,null,0,null,0,0,0,0,0,0]
[{"$nulls":14},"No",{"$nulls":17},0,{"$nulls":14},0,{"$nulls":9},0,0,0,0,null,0,null,0,null,0,null,0,0,0,0,0,0]
[{"$nulls":14},"No",{"$nulls":17},0,{"$nulls":14},0,{"$nulls":9},0,0,0,0,null,0,null,0,null,0,null,0,0,0,0,0,0]
[{"$nulls":14},"No",{"$nulls":17},0,{"$nulls":14},0,{"$nulls":9},0,0,0,0,null,0,null,0,null,0,null,0,0,0,0,0,0]
[{"$nulls":14},"No",{"$nulls":17},0,{"$nulls":14},0,{"$nulls":9},0,0,0,0,null,0,null,0,null,0,null,0,0,0,0,0,0]
[{"$nulls":14},"No",{"$nulls":17},0,{"$nulls":14},0,{"$nulls":9},0,0,0,0,null,0,null,0,null,0,null,0,0,0,0,0,0]
[{"$nulls":14},"No",{"$nulls":17},0,{"$nulls":14},0,{"$nulls":9},0,0,0,0,null,0,null,0,null,0,null,0,0,0,0,0,0]
[{"$nulls":14},"No",{"$nulls":17},0,{"$nulls":14},0,{"$nulls":9},0,0,0,0,null,0,null,0,null,0,null,0,0,0,0,0,0]
[{"$nulls":14},"No",{"$nulls":17},0,{"$nulls":14},0,{"$nulls":9},0,0,0,0,null,0,null,0,null,0,null,0,0,0,0,0,0]
[{"$nulls":14},"No",{"$nulls":17},0,{"$nulls":14},0,{"$nulls":9},0,0,0,0,null,0,null,0,null,0,null,0,0,0,0,0,0]
[{"$nulls":14},"No",{"$nulls":17},0,{"$nulls":14},0,{"$nulls":9},0,0,0,0,null,0,null,0,null,0,null,0,0,0,0,0,0]
[{"$nulls":14},"No",{"$nulls":17},0,{"$nulls":14},0,{"$nulls":9},0,0,0,0,null,0,null,0,null,0,null,0,0,0,0,0,0]
[{"$nulls":14},"No",{"$nulls":17},0,{"$nulls":14},0,{"$nulls":9},0,0,0,0,null,0,null,0,null,0,null,0,0,0,0,0,0]
[{"$nulls":14},"No",{"$nulls":17},0,{"$nulls":14},0,{"$nulls":9},0,0,0,0,null,0,null,0,null,0,null,0,0,0,0,0,0]
[{"$nulls":14},"No",{"$nulls":17},0,{"$nulls":14},0,{"$nulls":9},0,0,0,0,null,0,null,0,null,0,null,0,0,0,0,0,0]
[{"$nulls":14},"No",{"$nulls":17},0,{"$nulls":14},0,{"$nulls":9},0,0,0,0,null,0,null,0,null,0,null,0,0,0,0,0,0]
[{"$nulls":14},"No",{"$nulls":17},0,{"$nulls":14},0,{"$nulls":9},0,0,0,0,null,0,null,0,null,0,null,0,0,0,0,0,0]
[{"$nulls":14},"No",{"$nulls":17},0,{"$nulls":14},0,{"$nulls":9},0,0,0,0,null,0,null,0,null,0,null,0,0,0,0,0,0]
[{"$nulls":14},"No",{"$nulls":17},0,{"$nulls":14},0,{"$nulls":9},0,0,0,0,null,0,null,0,null,0,null,0,0,0,0,0,0]
[{"$nulls":14},"No",{"$nulls":17},0,{"$nulls":14},0,{"$nulls":9},0,0,0,0,null,0,null,0,null,0,null,0,0,0,0,0,0]
[{"$nulls":14},"No",{"$nulls":17},0,{"$nulls":14},0,{"$nulls":9},0,0,0,0,null,0,null,0,null,0,null,0,0,0,0,0,0]
[{"$nulls":14},"No",{"$nulls":17},0,{"$nulls":14},0,{"$nulls":9},0,0,0,0,null,0,null,0,null,0,null,0,0,0,0,0,0]
[{"$nulls":14},"No",{"$nulls":17},0,{"$nulls":14},0,{"$nulls":9},0,0,0,0,null,0,null,0,null,0,null,0,0,0,0,0,0]
[{"$nulls":14},"No",{"$nulls":17},0,{"$nulls":14},0,{"$nulls":9},0,0,0,0,null,0,null,0,null,0,null,0,0,0,0,0,0]
[{"$nulls":14},"No",{"$nulls":17},0,{"$nulls":14},0,{"$nulls":9},0,0,0,0,null,0,null,0,null,0,null,0,0,0,0,0,0]
[{"$nulls":14},"No",{"$nulls":17},0,{"$nulls":14},0,{"$nulls":9},0,0,0,0,null,0,null,0,null,0,null,0,0,0,0,0,0]
[{"$nulls":14},"No",{"$nulls":17},0,{"$nulls":14},0,{"$nulls":9},0,0,0,0,null,0,null,0,null,0,null,0,0,0,0,0,0]
[{"$nulls":14},"No",{"$nulls":17},0,{"$nulls":14},0,{"$nulls":9},0,0,0,0,null,0,null,0,null,0,null,0,0,0,0,0,0]
[{"$nulls":14},"No",{"$nulls":17},0,{"$nulls":14},0,{"$nulls":9},0,0,0,0,null,0,null,0,null,0,null,0,0,0,0,0,0]
[{"$nulls":14},"No",{"$nulls":17},0,{"$nulls":14},0,{"$nulls":9},0,0,0,0,null,0,null,0,null,0,null,0,0,0,0,0,0]
[{"$nulls":14},"No",{"$nulls":17},0,{"$nulls":14},0,{"$nulls":9},0,0,0,0,null,0,null,0,null,0,null,0,0,0,0,0,0]
[{"$nulls":14},"No",{"$nulls":17},0,{"$nulls":14},0,{"$nulls":9},0,0,0,0,null,0,null,0,null,0,null,0,0,0,0,0,0]
[{"$nulls":14},"No",{"$nulls":17},0,{"$nulls":14},0,{"$nulls":9},0,0,0,0,null,0,null,0,null,0,null,0,0,0,0,0,0]
[{"$nulls":14},"No",{"$nulls":17},0,{"$nulls":14},0,{"$nulls":9},0,0,0,0,null,0,null,0,null,0,null,0,0,0,0,0,0]
[{"$nulls":14},"No",{"$nulls":17},0,{"$nulls":14},0,{"$nulls":9},0,0,0,0,null,0,null,0,null,0,null,0,0,0,0,0,0]
[{"$nulls":14},"No",{"$nulls":17},0,{"$nulls":14},0,{"$nulls":9},0,0,0,0,null,0,null,0,null,0,null,0,0,0,0,0,0]
[{"$nulls":14},"No",{"$nulls":17},0,{"$nulls":14},0,{"$nulls":9},0,0,0,0,null,0,null,0,null,0,null,0,0,0,0,0,0]
[{"$nulls":14},"No",{"$nulls":17},0,{"$nulls":14},0,{"$nulls":9},0,0,0,0,null,0,null,0,null,0,null,0,0,0,0,0,0]
[{"$nulls":14},"No",{"$nulls":17},0,{"$nulls":14},0,{"$nulls":9},0,0,0,0,null,0,null,0,null,0,null,0,0,0,0,0,0]
[{"$nulls":14},"No",{"$nulls":17},0,{"$nulls":14},0,{"$nulls":9},0,0,0,0,null,0,null,0,null,0,null,0,0,0,0,0,0]
[{"$nulls":14},"No",{"$nulls":17},0,{"$nulls":14},0,{"$nulls":9},0,0,0,0,null,0,null,0,null,0,null,0,0,0,0,0,0]
[{"$nulls":14},"No",{"$nulls":17},0,{"$nulls":14},0,{"$nulls":9},0,0,0,0,null,0,null,0,null,0,null,0,0,0,0,0,0]
[{"$nulls":14},"No",{"$nulls":17},0,{"$nulls":14},0,{"$nulls":9},0,0,0,0,null,0,null,0,null,0,null,0,0,0,0,0,0]
[{"$nulls":14},"No",{"$nulls":17},0,{"$nulls":14},0,{"$nulls":9},0,0,0,0,null,0,null,0,null,0,null,0,0,0,0,0,0]
[{"$nulls":14},"No",{"$nulls":17},0,{"$nulls":14},0,{"$nulls":9},0,0,0,0,null,0,null,0,null,0,null,0,0,0,0,0,0]
[{"$nulls":14},"No",{"$nulls":17},0,{"$nulls":14},0,{"$nulls":9},0,0,0,0,null,0,null,0,null,0,null,0,0,0,0,0,0]
[{"$nulls":14},"No",{"$nulls":17},0,{"$nulls":14},0,{"$nulls":9},0,0,0,0,null,0,null,0,null,0,null,0,0,0,0,0,0]
[{"$nulls":14},"No",{"$nulls":17},0,{"$nulls":14},0,{"$nulls":9},0,0,0,0,null,0,null,0,null,0,null,0,0,0,0,0,0]
[{"$nulls":14},"No",{"$nulls":17},0,{"$nulls":14},0,{"$nulls":9},0,0,0,0,null,0,null,0,null,0,null,0,0,0,0,0,0]
[{"$nulls":14},"No",{"$nulls":17},0,{"$nulls":14},0,{"$nulls":9},0,0,0,0,null,0,null,0,null,0,null,0,0,0,0,0,0]
[{"$nulls":14},"No",{"$nulls":17},0,{"$nulls":14},0,{"$nulls":9},0,0,0,0,null,0,null,0,null,0,null,0,0,0,0,0,0]
[{"$nulls":14},"No",{"$nulls":17},0,{"$nulls":14},0,{"$nulls":9},0,0,0,0,null,0,null,0,null,0,null,0,0,0,0,0,0]
[{"$nulls":14},"No",{"$nulls":17},0,{"$nulls":14},0,{"$nulls":9},0,0,0,0,null,0,null,0,null,0,null,0,0,0,0,0,0]
[{"$nulls":14},"No",{"$nulls":17},0,{"$nulls":14},0,{"$nulls":9},0,0,0,0,null,0,null,0,null,0,null,0,0,0,0,0,0]
[{"$nulls":14},{"$f":"IF($BV579=1,\"Yes\",\"No\")","v":"No"},{"$nulls":17},{"$f":"MIN(AH579:AM579)","v":0},{"$nulls":14},{"$f":"F579","v":0},{"$nulls":9},{"$f":"IF($BG579+$BK579+$BM579+$BO579 > 0,1,0)","v":0},{"$f":"IF(BH579+BI579=2,1,0)","v":0},{"$f":"IF($T579=\"Yes\",1,0)","v":0},{"$f":"IF($H579 = \"Female\",1,0)","v":0},null,{"$f":"IF($U579=\"Yes\",1,0)","v":0},null,{"$f":"IF($V579=\"Yes\",1,0)","v":0},null,{"$f":"IF($AB579=\"Yes\",1,0)","v":0},null,{"$f":"IF($J579=\"Yes\",1,0)","v":0},{"$f":"IF($K579=\"Yes\",1,0)","v":0},{"$f":"IF($L579=\"Yes\",1,0)","v":0},{"$f":"IF($M579=\"Yes\",1,0)","v":0},{"$f":"IF($N579=\"Yes\",1,0)","v":0},{"$f":"IF(BQ579+BR579+BS579+BT579+BU579>1,1,0)","v":0}]
[{"$nulls":14},"No",{"$nulls":17},0,{"$nulls":14},0,{"$nulls":9},0,0,0,0,null,0,null,0,null,0,null,0,0,0,0,0,0]
[{"$nulls":14},"No",{"$nulls":17},0,{"$nulls":14},0,{"$nulls":9},0,0,0,0,null,0,null,0,null,0,null,0,0,0,0,0,0]
[{"$nulls":14},"No",{"$nulls":17},0,{"$nulls":14},0,{"$nulls":9},0,0,0,0,null,0,null,0,null,0,null,0,0,0,0,0,0]
[{"$nulls":14},"No",{"$nulls":17},0,{"$nulls":14},0,{"$nulls":9},0,0,0,0,null,0,null,0,null,0,null,0,0,0,0,0,0]
[{"$nulls":14},"No",{"$nulls":17},0,{"$nulls":14},0,{"$nulls":9},0,0,0,0,null,0,null,0,null,0,null,0,0,0,0,0,0]
[{"$nulls":14},"No",{"$nulls":17},0,{"$nulls":14},0,{"$nulls":9},0,0,0,0,null,0,null,0,null,0,null,0,0,0,0,0,0]
[{"$nulls":14},"No",{"$nulls":17},0,{"$nulls":14},0,{"$nulls":9},0,0,0,0,null,0,null,0,null,0,null,0,0,0,0,0,0]
[{"$nulls":14},"No",{"$nulls":17},0,{"$nulls":14},0,{"$nulls":9},0,0,0,0,null,0,null,0,null,0,null,0,0,0,0,0,0]
[{"$nulls":14},"No",{"$nulls":17},0,{"$nulls":14},0,{"$nulls":9},0,0,0,0,null,0,null,0,null,0,null,0,0,0,0,0,0]
[{"$nulls":14},"No",{"$nulls":17},0,{"$nulls":14},0,{"$nulls":9},0,0,0,0,null,0,null,0,null,0,null,0,0,0,0,0,0]
[{"$nulls":14},"No",{"$nulls":17},0,{"$nulls":14},0,{"$nulls":9},0,0,0,0,null,0,null,0,null,0,null,0,0,0,0,0,0]
[{"$nulls":14},"No",{"$nulls":17},0,{"$nulls":14},0,{"$nulls":9},0,0,0,0,null,0,null,0,null,0,null,0,0,0,0,0,0]
[{"$nulls":14},"No",{"$nulls":17},0,{"$nulls":14},0,{"$nulls":9},0,0,0,0,null,0,null,0,null,0,null,0,0,0,0,0,0]
[{"$nulls":14},"No",{"$nulls":17},0,{"$nulls":14},0,{"$nulls":9},0,0,0,0,null,0,null,0,null,0,null,0,0,0,0,0,0]
[{"$nulls":14},"No",{"$nulls":17},0,{"$nulls":14},0,{"$nulls":9},0,0,0,0,null,0,null,0,null,0,null,0,0,0,0,0,0]
[{"$nulls":14},"No",{"$nulls":17},0,{"$nulls":14},0,{"$nulls":9},0,0,0,0,null,0,null,0,null,0,null,0,0,0,0,0,0]
[{"$nulls":14},"No",{"$nulls":17},0,{"$nulls":14},0,{"$nulls":9},0,0,0,0,null,0,null,0,null,0,null,0,0,0,0,0,0]
[{"$nulls":14},"No",{"$nulls":17},0,{"$nulls":14},0,{"$nulls":9},0,0,0,0,null,0,null,0,null,0,null,0,0,0,0,0,0]
[{"$nulls":14},"No",{"$nulls":17},0,{"$nulls":14},0,{"$nulls":9},0,0,0,0,null,0,null,0,null,0,null,0,0,0,0,0,0]
[{"$nulls":14},"No",{"$nulls":17},0,{"$nulls":14},0,{"$nulls":9},0,0,0,0,null,0,null,0,null,0,null,0,0,0,0,0,0]
[{"$nulls":14},"No",{"$nulls":17},0,{"$nulls":14},0,{"$nulls":9},0,0,0,0,null,0,null,0,null,0,null,0,0,0,0,0,0]
[{"$nulls":14},"No",{"$nulls":17},0,{"$nulls":14},0,{"$nulls":9},0,0,0,0,null,0,null,0,null,0,null,0,0,0,0,0,0]
[{"$nulls":14},"No",{"$nulls":17},0,{"$nulls":14},0,{"$nulls":9},0,0,0,0,null,0,null,0,null,0,null,0,0,0,0,0,0]
[{"$nulls":14},"No",{"$nulls":17},0,{"$nulls":14},0,{"$nulls":9},0,0,0,0,null,0,null,0,null,0,null,0,0,0,0,0,0]
[{"$nulls":14},"No",{"$nulls":17},0,{"$nulls":14},0,{"$nulls":9},0,0,0,0,null,0,null,0,null,0,null,0,0,0,0,0,0]
[{"$nulls":14},"No",{"$nulls":17},0,{"$nulls":14},0,{"$nulls":9},0,0,0,0,null,0,null,0,null,0,null,0,0,0,0,0,0]
[{"$nulls":14},"No",{"$nulls":17},0,{"$nulls":14},0,{"$nulls":9},0,0,0,0,null,0,null,0,null,0,null,0,0,0,0,0,0]
[{"$nulls":14},"No",{"$nulls":17},0,{"$nulls":14},0,{"$nulls":9},0,0,0,0,null,0,null,0,null,0,null,0,0,0,0,0,0]
[{"$nulls":14},"No",{"$nulls":17},0,{"$nulls":14},0,{"$nulls":9},0,0,0,0,null,0,null,0,null,0,null,0,0,0,0,0,0]
[{"$nulls":14},"No",{"$nulls":17},0,{"$nulls":14},0,{"$nulls":9},0,0,0,0,null,0,null,0,null,0,null,0,0,0,0,0,0]
[{"$nulls":14},"No",{"$nulls":17},0,{"$nulls":14},0,{"$nulls":9},0,0,0,0,null,0,null,0,null,0,null,0,0,0,0,0,0]
[{"$nulls":14},"No",{"$nulls":17},0,{"$nulls":14},0,{"$nulls":9},0,0,0,0,null,0,null,0,null,0,null,0,0,0,0,0,0]
[{"$nulls":14},"No",{"$nulls":17},0,{"$nulls":14},0,{"$nulls":9},0,0,0,0,null,0,null,0,null,0,null,0,0,0,0,0,0]
[{"$nulls":14},"No",{"$nulls":17},0,{"$nulls":14},0,{"$nulls":9},0,0,0,0,null,0,null,0,null,0,null,0,0,0,0,0,0]
[{"$nulls":14},"No",{"$nulls":17},0,{"$nulls":14},0,{"$nulls":9},0,0,0,0,null,0,null,0,null,0,null,0,0,0,0,0,0]
[{"$nulls":14},"No",{"$nulls":17},0,{"$nulls":14},0,{"$nulls":9},0,0,0,0,null,0,null,0,null,0,null,0,0,0,0,0,0]
[{"$nulls":14},"No",{"$nulls":17},0,{"$nulls":14},0,{"$nulls":9},0,0,0,0,null,0,null,0,null,0,null,0,0,0,0,0,0]
[{"$nulls":14},"No",{"$nulls":17},0,{"$nulls":14},0,{"$nulls":9},0,0,0,0,null,0,null,0,null,0,null,0,0,0,0,0,0]
[{"$nulls":14},"No",{"$nulls":17},0,{"$nulls":14},0,{"$nulls":9},0,0,0,0,null,0,null,0,null,0,null,0,0,0,0,0,0]
[{"$nulls":14},"No",{"$nulls":17},0,{"$nulls":14},0,{"$nulls":9},0,0,0,0,null,0,null,0,null,0,null,0,0,0,0,0,0]
[{"$nulls":14},"No",{"$nulls":17},0,{"$nulls":14},0,{"$nulls":9},0,0,0,0,null,0,null,0,null,0,null,0,0,0,0,0,0]
[{"$nulls":14},"No",{"$nulls":17},0,{"$nulls":14},0,{"$nulls":9},0,0,0,0,null,0,null,0,null,0,null,0,0,0,0,0,0]
[{"$nulls":14},"No",{"$nulls":17},0,{"$nulls":14},0,{"$nulls":9},0,0,0,0,null,0,null,0,null,0,null,0,0,0,0,0,0]
[{"$nulls":14},"No",{"$nulls":17},0,{"$nulls":14},0,{"$nulls":9},0,0,0,0,null,0,null,0,null,0,null,0,0,0,0,0,0]
[{"$nulls":14},"No",{"$nulls":17},0,{"$nulls":14},0,{"$nulls":9},0,0,0,0,null,0,null,0,null,0,null,0,0,0,0,0,0]
[{"$nulls":14},"No",{"$nulls":17},0,{"$nulls":14},0,{"$nulls":9},0,0,0,0,null,0,null,0,null,0,null,0,0,0,0,0,0]
[{"$nulls":14},"No",{"$nulls":17},0,{"$nulls":14},0,{"$nulls":9},0,0,0,0,null,0,null,0,null,0,null,0,0,0,0,0,0]
[{"$nulls":14},"No",{"$nulls":17},0,{"$nulls":14},0,{"$nulls":9},0,0,0,0,null,0,null,0,null,0,null,0,0,0,0,0,0]
[{"$nulls":14},"No",{"$nulls":17},0,{"$nulls":14},0,{"$nulls":9},0,0,0,0,null,0,null,0,null,0,null,0,0,0,0,0,0]
[{"$nulls":14},"No",{"$nulls":17},0,{"$nulls":14},0,{"$nulls":9},0,0,0,0,null,0,null,0,null,0,null,0,0,0,0,0,0]
[{"$nulls":14},"No",{"$nulls":17},0,{"$nulls":14},0,{"$nulls":9},0,0,0,0,null,0,null,0,null,0,null,0,0,0,0,0,0]
[{"$nulls":14},"No",{"$nulls":17},0,{"$nulls":14},0,{"$nulls":9},0,0,0,0,null,0,null,0,null,0,null,0,0,0,0,0,0]
[{"$nulls":14},"No",{"$nulls":17},0,{"$nulls":14},0,{"$nulls":9},0,0,0,0,null,0,null,0,null,0,null,0,0,0,0,0,0]
[{"$nulls":14},"No",{"$nulls":17},0,{"$nulls":14},0,{"$nulls":9},0,0,0,0,null,0,null,0,null,0,null,0,0,0,0,0,0]
[{"$nulls":14},"No",{"$nulls":17},0,{"$nulls":14},0,{"$nulls":9},0,0,0,0,null,0,null,0,null,0,null,0,0,0,0,0,0]
[{"$nulls":14},"No",{"$nulls":17},0,{"$nulls":14},0,{"$nulls":9},0,0,0,0,null,0,null,0,null,0,null,0,0,0,0,0,0]
[{"$nulls":14},"No",{"$nulls":17},0,{"$nulls":14},0,{"$nulls":9},0,0,0,0,null,0,null,0,null,0,null,0,0,0,0,0,0]
[{"$nulls":14},"No",{"$nulls":17},0,{"$nulls":14},0,{"$nulls":9},0,0,0,0,null,0,null,0,null,0,null,0,0,0,0,0,0]
[{"$nulls":14},"No",{"$nulls":17},0,{"$nulls":14},0,{"$nulls":9},0,0,0,0,null,0,null,0,null,0,null,0,0,0,0,0,0]
[{"$nulls":14},"No",{"$nulls":17},0,{"$nulls":14},0,{"$nulls":9},0,0,0,0,null,0,null,0,null,0,null,0,0,0,0,0,0]
[{"$nulls":14},"No",{"$nulls":17},0,{"$nulls":14},0,{"$nulls":9},0,0,0,0,null,0,null,0,null,0,null,0,0,0,0,0,0]
[{"$nulls":14},"No",{"$nulls":17},0,{"$nulls":14},0,{"$nulls":9},0,0,0,0,null,0,null,0,null,0,null,0,0,0,0,0,0]
[{"$nulls":14},"No",{"$nulls":17},0,{"$nulls":14},0,{"$nulls":9},0,0,0,0,null,0,null,0,null,0,null,0,0,0,0,0,0]
[{"$nulls":14},{"$f":"IF($BV643=1,\"Yes\",\"No\")","v":"No"},{"$nulls":17},{"$f":"MIN(AH643:AM643)","v":0},{"$nulls":14},{"$f":"F643","v":0},{"$nulls":9},{"$f":"IF($BG643+$BK643+$BM643+$BO643 > 0,1,0)","v":0},{"$f":"IF(BH643+BI643=2,1,0)","v":0},{"$f":"IF($T643=\"Yes\",1,0)","v":0},{"$f":"IF($H643 = \"Female\",1,0)","v":0},null,{"$f":"IF($U643=\"Yes\",1,0)","v":0},null,{"$f":"IF($V643=\"Yes\",1,0)","v":0},null,{"$f":"IF($AB643=\"Yes\",1,0)","v":0},null,{"$f":"IF($J643=\"Yes\",1,0)","v":0},{"$f":"IF($K643=\"Yes\",1,0)","v":0},{"$f":"IF($L643=\"Yes\",1,0)","v":0},{"$f":"IF($M643=\"Yes\",1,0)","v":0},{"$f":"IF($N643=\"Yes\",1,0)","v":0},{"$f":"IF(BQ643+BR643+BS643+BT643+BU643>1,1,0)","v":0}]
[{"$nulls":14},"No",{"$nulls":17},0,{"$nulls":14},0,{"$nulls":9},0,0,0,0,null,0,null,0,null,0,null,0,0,0,0,0,0]
[{"$nulls":14},"No",{"$nulls":17},0,{"$nulls":14},0,{"$nulls":9},0,0,0,0,null,0,null,0,null,0,null,0,0,0,0,0,0]
[{"$nulls":14},"No",{"$nulls":17},0,{"$nulls":14},0,{"$nulls":9},0,0,0,0,null,0,null,0,null,0,null,0,0,0,0,0,0]
[{"$nulls":14},"No",{"$nulls":17},0,{"$nulls":14},0,{"$nulls":9},0,0,0,0,null,0,null,0,null,0,null,0,0,0,0,0,0]
[{"$nulls":14},"No",{"$nulls":17},0,{"$nulls":14},0,{"$nulls":9},0,0,0,0,null,0,null,0,null,0,null,0,0,0,0,0,0]
[{"$nulls":14},"No",{"$nulls":17},0,{"$nulls":14},0,{"$nulls":9},0,0,0,0,null,0,null,0,null,0,null,0,0,0,0,0,0]
[{"$nulls":14},"No",{"$nulls":17},0,{"$nulls":14},0,{"$nulls":9},0,0,0,0,null,0,null,0,null,0,null,0,0,0,0,0,0]
[{"$nulls":14},"No",{"$nulls":17},0,{"$nulls":14},0,{"$nulls":9},0,0,0,0,null,0,null,0,null,0,null,0,0,0,0,0,0]
[{"$nulls":14},"No",{"$nulls":17},0,{"$nulls":14},0,{"$nulls":9},0,0,0,0,null,0,null,0,null,0,null,0,0,0,0,0,0]
[{"$nulls":14},"No",{"$nulls":17},0,{"$nulls":14},0,{"$nulls":9},0,0,0,0,null,0,null,0,null,0,null,0,0,0,0,0,0]
[{"$nulls":14},"No",{"$nulls":17},0,{"$nulls":14},0,{"$nulls":9},0,0,0,0,null,0,null,0,null,0,null,0,0,0,0,0,0]
[{"$nulls":14},"No",{"$nulls":17},0,{"$nulls":14},0,{"$nulls":9},0,0,0,0,null,0,null,0,null,0,null,0,0,0,0,0,0]
[{"$nulls":14},"No",{"$nulls":17},0,{"$nulls":14},0,{"$nulls":9},0,0,0,0,null,0,null,0,null,0,null,0,0,0,0,0,0]
[{"$nulls":14},"No",{"$nulls":17},0,{"$nulls":14},0,{"$nulls":9},0,0,0,0,null,0,null,0,null,0,null,0,0,0,0,0,0]
[{"$nulls":14},"No",{"$nulls":17},0,{"$nulls":14},0,{"$nulls":9},0,0,0,0,null,0,null,0,null,0,null,0,0,0,0,0,0]
[{"$nulls":14},"No",{"$nulls":17},0,{"$nulls":14},0,{"$nulls":9},0,0,0,0,null,0,null,0,null,0,null,0,0,0,0,0,0]
[{"$nulls":14},"No",{"$nulls":17},0,{"$nulls":14},0,{"$nulls":9},0,0,0,0,null,0,null,0,null,0,null,0,0,0,0,0,0]
[{"$nulls":14},"No",{"$nulls":17},0,{"$nulls":14},0,{"$nulls":9},0,0,0,0,null,0,null,0,null,0,null,0,0,0,0,0,0]
[{"$nulls":14},"No",{"$nulls":17},0,{"$nulls":14},0,{"$nulls":9},0,0,0,0,null,0,null,0,null,0,null,0,0,0,0,0,0]
[{"$nulls":14},"No",{"$nulls":17},0,{"$nulls":14},0,{"$nulls":9},0,0,0,0,null,0,null,0,null,0,null,0,0,0,0,0,0]
[{"$nulls":14},"No",{"$nulls":17},0,{"$nulls":14},0,{"$nulls":9},0,0,0,0,null,0,null,0,null,0,null,0,0,0,0,0,0]
[{"$nulls":14},"No",{"$nulls":17},0,{"$nulls":14},0,{"$nulls":9},0,0,0,0,null,0,null,0,null,0,null,0,0,0,0,0,0]
[{"$nulls":14},"No",{"$nulls":17},0,{"$nulls":14},0,{"$nulls":9},0,0,0,0,null,0,null,0,null,0,null,0,0,0,0,0,0]
[{"$nulls":14},"No",{"$nulls":17},0,{"$nulls":14},0,{"$nulls":9},0,0,0,0,null,0,null,0,null,0,null,0,0,0,0,0,0]
[{"$nulls":14},"No",{"$nulls":17},0,{"$nulls":14},0,{"$nulls":9},0,0,0,0,null,0,null,0,null,0,null,0,0,0,0,0,0]
[{"$nulls":14},"No",{"$nulls":17},0,{"$nulls":14},0,{"$nulls":9},0,0,0,0,null,0,null,0,null,0,null,0,0,0,0,0,0]
[{"$nulls":14},"No",{"$nulls":17},0,{"$nulls":14},0,{"$nulls":9},0,0,0,0,null,0,null,0,null,0,null,0,0,0,0,0,0]
[{"$nulls":14},"No",{"$nulls":17},0,{"$nulls":14},0,{"$nulls":9},0,0,0,0,null,0,null,0,null,0,null,0,0,0,0,0,0]
[{"$nulls":14},"No",{"$nulls":17},0,{"$nulls":14},0,{"$nulls":9},0,0,0,0,null,0,null,0,null,0,null,0,0,0,0,0,0]
[{"$nulls":14},"No",{"$nulls":17},0,{"$nulls":14},0,{"$nulls":9},0,0,0,0,null,0,null,0,null,0,null,0,0,0,0,0,0]
[{"$nulls":14},"No",{"$nulls":17},0,{"$nulls":14},0,{"$nulls":9},0,0,0,0,null,0,null,0,null,0,null,0,0,0,0,0,0]
[{"$nulls":14},"No",{"$nulls":17},0,{"$nulls":14},0,{"$nulls":9},0,0,0,0,null,0,null,0,null,0,null,0,0,0,0,0,0]
[{"$nulls":14},"No",{"$nulls":17},0,{"$nulls":14},0,{"$nulls":9},0,0,0,0,null,0,null,0,null,0,null,0,0,0,0,0,0]
[{"$nulls":14},"No",{"$nulls":17},0,{"$nulls":14},0,{"$nulls":9},0,0,0,0,null,0,null,0,null,0,null,0,0,0,0,0,0]
[{"$nulls":14},"No",{"$nulls":17},0,{"$nulls":14},0,{"$nulls":9},0,0,0,0,null,0,null,0,null,0,null,0,0,0,0,0,0]
[{"$nulls":14},"No",{"$nulls":17},0,{"$nulls":14},0,{"$nulls":9},0,0,0,0,null,0,null,0,null,0,null,0,0,0,0,0,0]
[{"$nulls":14},"No",{"$nulls":17},0,{"$nulls":14},0,{"$nulls":9},0,0,0,0,null,0,null,0,null,0,null,0,0,0,0,0,0]
[{"$nulls":14},"No",{"$nulls":17},0,{"$nulls":14},0,{"$nulls":9},0,0,0,0,null,0,null,0,null,0,null,0,0,0,0,0,0]
[{"$nulls":14},"No",{"$nulls":17},0,{"$nulls":14},0,{"$nulls":9},0,0,0,0,null,0,null,0,null,0,null,0,0,0,0,0,0]
[{"$nulls":14},"No",{"$nulls":17},0,{"$nulls":14},0,{"$nulls":9},0,0,0,0,null,0,null,0,null,0,null,0,0,0,0,0,0]
[{"$nulls":14},"No",{"$nulls":17},0,{"$nulls":14},0,{"$nulls":9},0,0,0,0,null,0,null,0,null,0,null,0,0,0,0,0,0]
[{"$nulls":14},"No",{"$nulls":17},0,{"$nulls":14},0,{"$nulls":9},0,0,0,0,null,0,null,0,null,0,null,0,0,0,0,0,0]
[{"$nulls":14},"No",{"$nulls":17},0,{"$nulls":14},0,{"$nulls":9},0,0,0,0,null,0,null,0,null,0,null,0,0,0,0,0,0]
[{"$nulls":14},"No",{"$nulls":17},0,{"$nulls":14},0,{"$nulls":9},0,0,0,0,null,0,null,0,null,0,null,0,0,0,0,0,0]
[{"$nulls":14},"No",{"$nulls":17},0,{"$nulls":14},0,{"$nulls":9},0,0,0,0,null,0,null,0,null,0,null,0,0,0,0,0,0]
[{"$nulls":14},"No",{"$nulls":17},0,{"$nulls":14},0,{"$nulls":9},0,0,0,0,null,0,null,0,null,0,null,0,0,0,0,0,0]
[{"$nulls":14},"No",{"$nulls":17},0,{"$nulls":14},0,{"$nulls":9},0,0,0,0,null,0,null,0,null,0,null,0,0,0,0,0,0]
[{"$nulls":14},"No",{"$nulls":17},0,{"$nulls":14},0,{"$nulls":9},0,0,0,0,null,0,null,0,null,0,null,0,0,0,0,0,0]
[{"$nulls":14},"No",{"$nulls":17},0,{"$nulls":14},0,{"$nulls":9},0,0,0,0,null,0,null,0,null,0,null,0,0,0,0,0,0]
[{"$nulls":14},"No",{"$nulls":17},0,{"$nulls":14},0,{"$nulls":9},0,0,0,0,null,0,null,0,null,0,null,0,0,0,0,0,0]
[{"$nulls":14},"No",{"$nulls":17},0,{"$nulls":14},0,{"$nulls":9},0,0,0,0,null,0,null,0,null,0,null,0,0,0,0,0,0]
[{"$nulls":14},"No",{"$nulls":17},0,{"$nulls":14},0,{"$nulls":9},0,0,0,0,null,0,null,0,null,0,null,0,0,0,0,0,0]
[{"$nulls":14},"No",{"$nulls":17},0,{"$nulls":14},0,{"$nulls":9},0,0,0,0,null,0,null,0,null,0,null,0,0,0,0,0,0]
[{"$nulls":14},"No",{"$nulls":17},0,{"$nulls":14},0,{"$nulls":9},0,0,0,0,null,0,null,0,null,0,null,0,0,0,0,0,0]
[{"$nulls":14},"No",{"$nulls":17},0,{"$nulls":14},0,{"$nulls":9},0,0,0,0,null,0,null,0,null,0,null,0,0,0,0,0,0]
[{"$nulls":14},"No",{"$nulls":17},0,{"$nulls":14},0,{"$nulls":9},0,0,0,0,null,0,null,0,null,0,null,0,0,0,0,0,0]
[{"$nulls":14},"No",{"$nulls":17},0,{"$nulls":14},0,{"$nulls":9},0,0,0,0,null,0,null,0,null,0,null,0,0,0,0,0,0]
[{"$nulls":14},"No",{"$nulls":17},0,{"$nulls":14},0,{"$nulls":9},0,0,0,0,null,0,null,0,null,0,null,0,0,0,0,0,0]
[{"$nulls":14},"No",{"$nulls":17},0,{"$nulls":14},0,{"$nulls":9},0,0,0,0,null,0,null,0,null,0,null,0,0,0,0,0,0]
[{"$nulls":14},"No",{"$nulls":17},0,{"$nulls":14},0,{"$nulls":9},0,0,0,0,null,0,null,0,null,0,null,0,0,0,0,0,0]
[{"$nulls":14},"No",{"$nulls":17},0,{"$nulls":14},0,{"$nulls":9},0,0,0,0,null,0,null,0,null,0,null,0,0,0,0,0,0]
[{"$nulls":14},"No",{"$nulls":17},0,{"$nulls":14},0,{"$nulls":9},0,0,0,0,null,0,null,0,null,0,null,0,0,0,0,0,0]
[{"$nulls":14},"No",{"$nulls":17},0,{"$nulls":14},0,{"$nulls":9},0,0,0,0,null,0,null,0,null,0,null,0,0,0,0,0,0]
[{"$nulls":14},{"$f":"IF($BV707=1,\"Yes\",\"No\")","v":"No"},{"$nulls":17},{"$f":"MIN(AH707:AM707)","v":0},{"$nulls":14},{"$f":"F707","v":0},{"$nulls":9},{"$f":"IF($BG707+$BK707+$BM707+$BO707 > 0,1,0)","v":0},{"$f":"IF(BH707+BI707=2,1,0)","v":0},{"$f":"IF($T707=\"Yes\",1,0)","v":0},{"$f":"IF($H707 = \"Female\",1,0)","v":0},null,{"$f":"IF($U707=\"Yes\",1,0)","v":0},null,{"$f":"IF($V707=\"Yes\",1,0)","v":0},null,{"$f":"IF($AB707=\"Yes\",1,0)","v":0},null,{"$f":"IF($J707=\"Yes\",1,0)","v":0},{"$f":"IF($K707=\"Yes\",1,0)","v":0},{"$f":"IF($L707=\"Yes\",1,0)","v":0},{"$f":"IF($M707=\"Yes\",1,0)","v":0},{"$f":"IF($N707=\"Yes\",1,0)","v":0},{"$f":"IF(BQ707+BR707+BS707+BT707+BU707>1,1,0)","v":0}]
[{"$nulls":14},"No",{"$nulls":17},0,{"$nulls":14},0,{"$nulls":9},0,0,0,0,null,0,null,0,null,0,null,0,0,0,0,0,0]
[{"$nulls":14},"No",{"$nulls":17},0,{"$nulls":14},0,{"$nulls":9},0,0,0,0,null,0,null,0,null,0,null,0,0,0,0,0,0]
[{"$nulls":14},"No",{"$nulls":17},0,{"$nulls":14},0,{"$nulls":9},0,0,0,0,null,0,null,0,null,0,null,0,0,0,0,0,0]
[{"$nulls":14},"No",{"$nulls":17},0,{"$nulls":14},0,{"$nulls":9},0,0,0,0,null,0,null,0,null,0,null,0,0,0,0,0,0]
[{"$nulls":14},"No",{"$nulls":17},0,{"$nulls":14},0,{"$nulls":9},0,0,0,0,null,0,null,0,null,0,null,0,0,0,0,0,0]
[{"$nulls":14},"No",{"$nulls":17},0,{"$nulls":14},0,{"$nulls":9},0,0,0,0,null,0,null,0,null,0,null,0,0,0,0,0,0]
[{"$nulls":14},"No",{"$nulls":17},0,{"$nulls":14},0,{"$nulls":9},0,0,0,0,null,0,null,0,null,0,null,0,0,0,0,0,0]
[{"$nulls":14},"No",{"$nulls":17},0,{"$nulls":14},0,{"$nulls":9},0,0,0,0,null,0,null,0,null,0,null,0,0,0,0,0,0]
[{"$nulls":14},"No",{"$nulls":17},0,{"$nulls":14},0,{"$nulls":9},0,0,0,0,null,0,null,0,null,0,null,0,0,0,0,0,0]
[{"$nulls":14},"No",{"$nulls":17},0,{"$nulls":14},0,{"$nulls":9},0,0,0,0,null,0,null,0,null,0,null,0,0,0,0,0,0]
[{"$nulls":14},"No",{"$nulls":17},0,{"$nulls":14},0,{"$nulls":9},0,0,0,0,null,0,null,0,null,0,null,0,0,0,0,0,0]
[{"$nulls":14},"No",{"$nulls":17},0,{"$nulls":14},0,{"$nulls":9},0,0,0,0,null,0,null,0,null,0,null,0,0,0,0,0,0]
[{"$nulls":14},"No",{"$nulls":17},0,{"$nulls":14},0,{"$nulls":9},0,0,0,0,null,0,null,0,null,0,null,0,0,0,0,0,0]
[{"$nulls":14},"No",{"$nulls":17},0,{"$nulls":14},0,{"$nulls":9},0,0,0,0,null,0,null,0,null,0,null,0,0,0,0,0,0]
[{"$nulls":14},"No",{"$nulls":17},0,{"$nulls":14},0,{"$nulls":9},0,0,0,0,null,0,null,0,null,0,null,0,0,0,0,0,0]
[{"$nulls":14},"No",{"$nulls":17},0,{"$nulls":14},0,{"$nulls":9},0,0,0,0,null,0,null,0,null,0,null,0,0,0,0,0,0]
[{"$nulls":14},"No",{"$nulls":17},0,{"$nulls":14},0,{"$nulls":9},0,0,0,0,null,0,null,0,null,0,null,0,0,0,0,0,0]
[{"$nulls":14},"No",{"$nulls":17},0,{"$nulls":14},0,{"$nulls":9},0,0,0,0,null,0,null,0,null,0,null,0,0,0,0,0,0]
[{"$nulls":14},"No",{"$nulls":17},0,{"$nulls":14},0,{"$nulls":9},0,0,0,0,null,0,null,0,null,0,null,0,0,0,0,0,0]
[{"$nulls":14},"No",{"$nulls":17},0,{"$nulls":14},0,{"$nulls":9},0,0,0,0,null,0,null,0,null,0,null,0,0,0,0,0,0]
[{"$nulls":14},"No",{"$nulls":17},0,{"$nulls":14},0,{"$nulls":9},0,0,0,0,null,0,null,0,null,0,null,0,0,0,0,0,0]
[{"$nulls":14},"No",{"$nulls":17},0,{"$nulls":14},0,{"$nulls":9},0,0,0,0,null,0,null,0,null,0,null,0,0,0,0,0,0]
[{"$nulls":14},"No",{"$nulls":17},0,{"$nulls":14},0,{"$nulls":9},0,0,0,0,null,0,null,0,null,0,null,0,0,0,0,0,0]
[{"$nulls":14},"No",{"$nulls":17},0,{"$nulls":14},0,{"$nulls":9},0,0,0,0,null,0,null,0,null,0,null,0,0,0,0,0,0]
[{"$nulls":14},"No",{"$nulls":17},0,{"$nulls":14},0,{"$nulls":9},0,0,0,0,null,0,null,0,null,0,null,0,0,0,0,0,0]
[{"$nulls":14},"No",{"$nulls":17},0,{"$nulls":14},0,{"$nulls":9},0,0,0,0,null,0,null,0,null,0,null,0,0,0,0,0,0]
[{"$nulls":14},"No",{"$nulls":17},0,{"$nulls":14},0,{"$nulls":9},0,0,0,0,null,0,null,0,null,0,null,0,0,0,0,0,0]
[{"$nulls":14},"No",{"$nulls":17},0,{"$nulls":14},0,{"$nulls":9},0,0,0,0,null,0,null,0,null,0,null,0,0,0,0,0,0]
[{"$nulls":14},"No",{"$nulls":17},0,{"$nulls":14},0,{"$nulls":9},0,0,0,0,null,0,null,0,null,0,null,0,0,0,0,0,0]
[{"$nulls":14},"No",{"$nulls":17},0,{"$nulls":14},0,{"$nulls":9},0,0,0,0,null,0,null,0,null,0,null,0,0,0,0,0,0]
[{"$nulls":14},"No",{"$nulls":17},0,{"$nulls":14},0,{"$nulls":9},0,0,0,0,null,0,null,0,null,0,null,0,0,0,0,0,0]
[{"$nulls":14},"No",{"$nulls":17},0,{"$nulls":14},0,{"$nulls":9},0,0,0,0,null,0,null,0,null,0,null,0,0,0,0,0,0]
[{"$nulls":14},"No",{"$nulls":17},0,{"$nulls":14},0,{"$nulls":9},0,0,0,0,null,0,null,0,null,0,null,0,0,0,0,0,0]
[{"$nulls":14},"No",{"$nulls":17},0,{"$nulls":14},0,{"$nulls":9},0,0,0,0,null,0,null,0,null,0,null,0,0,0,0,0,0]
[{"$nulls":14},"No",{"$nulls":17},0,{"$nulls":14},0,{"$nulls":9},0,0,0,0,null,0,null,0,null,0,null,0,0,0,0,0,0]
[{"$nulls":14},"No",{"$nulls":17},0,{"$nulls":14},0,{"$nulls":9},0,0,0,0,null,0,null,0,null,0,null,0,0,0,0,0,0]
[{"$nulls":14},"No",{"$nulls":17},0,{"$nulls":14},0,{"$nulls":9},0,0,0,0,null,0,null,0,null,0,null,0,0,0,0,0,0]
[{"$nulls":14},"No",{"$nulls":17},0,{"$nulls":14},0,{"$nulls":9},0,0,0,0,null,0,null,0,null,0,null,0,0,0,0,0,0]
[{"$nulls":14},"No",{"$nulls":17},0,{"$nulls":14},0,{"$nulls":9},0,0,0,0,null,0,null,0,null,0,null,0,0,0,0,0,0]
[{"$nulls":14},"No",{"$nulls":17},0,{"$nulls":14},0,{"$nulls":9},0,0,0,0,null,0,null,0,null,0,null,0,0,0,0,0,0]
[{"$nulls":14},"No",{"$nulls":17},0,{"$nulls":14},0,{"$nulls":9},0,0,0,0,null,0,null,0,null,0,null,0,0,0,0,0,0]
[{"$nulls":14},"No",{"$nulls":17},0,{"$nulls":14},0,{"$nulls":9},0,0,0,0,null,0,null,0,null,0,null,0,0,0,0,0,0]
[{"$nulls":14},"No",{"$nulls":17},0,{"$nulls":14},0,{"$nulls":9},0,0,0,0,null,0,null,0,null,0,null,0,0,0,0,0,0]
[{"$nulls":14},"No",{"$nulls":17},0,{"$nulls":14},0,{"$nulls":9},0,0,0,0,null,0,null,0,null,0,null,0,0,0,0,0,0]
[{"$nulls":14},"No",{"$nulls":17},0,{"$nulls":14},0,{"$nulls":9},0,0,0,0,null,0,null,0,null,0,null,0,0,0,0,0,0]
[{"$nulls":14},"No",{"$nulls":17},0,{"$nulls":14},0,{"$nulls":9},0,0,0,0,null,0,null,0,null,0,null,0,0,0,0,0,0]
[{"$nulls":14},"No",{"$nulls":17},0,{"$nulls":14},0,{"$nulls":9},0,0,0,0,null,0,null,0,null,0,null,0,0,0,0,0,0]
[{"$nulls":14},"No",{"$nulls":17},0,{"$nulls":14},0,{"$nulls":9},0,0,0,0,null,0,null,0,null,0,null,0,0,0,0,0,0]
[{"$nulls":14},"No",{"$nulls":17},0,{"$nulls":14},0,{"$nulls":9},0,0,0,0,null,0,null,0,null,0,null,0,0,0,0,0,0]
[{"$nulls":14},"No",{"$nulls":17},0,{"$nulls":14},0,{"$nulls":9},0,0,0,0,null,0,null,0,null,0,null,0,0,0,0,0,0]
[{"$nulls":14},"No",{"$nulls":17},0,{"$nulls":14},0,{"$nulls":9},0,0,0,0,null,0,null,0,null,0,null,0,0,0,0,0,0]
[{"$nulls":14},"No",{"$nulls":17},0,{"$nulls":14},0,{"$nulls":9},0,0,0,0,null,0,null,0,null,0,null,0,0,0,0,0,0]
[{"$nulls":14},"No",{"$nulls":17},0,{"$nulls":14},0,{"$nulls":9},0,0,0,0,null,0,null,0,null,0,null,0,0,0,0,0,0]
[{"$nulls":14},"No",{"$nulls":17},0,{"$nulls":14},0,{"$nulls":9},0,0,0,0,null,0,null,0,null,0,null,0,0,0,0,0,0]
[{"$nulls":14},"No",{"$nulls":17},0,{"$nulls":14},0,{"$nulls":9},0,0,0,0,null,0,null,0,null,0,null,0,0,0,0,0,0]
[{"$nulls":14},"No",{"$nulls":17},0,{"$nulls":14},0,{"$nulls":9},0,0,0,0,null,0,null,0,null,0,null,0,0,0,0,0,0]
[{"$nulls":14},"No",{"$nulls":17},0,{"$nulls":14},0,{"$nulls":9},0,0,0,0,null,0,null,0,null,0,null,0,0,0,0,0,0]
[{"$nulls":14},"No",{"$nulls":17},0,{"$nulls":14},0,{"$nulls":9},0,0,0,0,null,0,null,0,null,0,null,0,0,0,0,0,0]
[{"$nulls":14},"No",{"$nulls":17},0,{"$nulls":14},0,{"$nulls":9},0,0,0,0,null,0,null,0,null,0,null,0,0,0,0,0,0]
[{"$nulls":14},"No",{"$nulls":17},0,{"$nulls":14},0,{"$nulls":9},0,0,0,0,null,0,null,0,null,0,null,0,0,0,0,0,0]
[{"$nulls":14},"No",{"$nulls":17},0,{"$nulls":14},0,{"$nulls":9},0,0,0,0,null,0,null,0,null,0,null,0,0,0,0,0,0]
[{"$nulls":14},"No",{"$nulls":17},0,{"$nulls":14},0,{"$nulls":9},0,0,0,0,null,0,null,0,null,0,null,0,0,0,0,0,0]
[{"$nulls":14},"No",{"$nulls":17},0,{"$nulls":14},0,{"$nulls":9},0,0,0,0,null,0,null,0,null,0,null,0,0,0,0,0,0]
[{"$nulls":14},{"$f":"IF($BV771=1,\"Yes\",\"No\")","v":"No"},{"$nulls":17},{"$f":"MIN(AH771:AM771)","v":0},{"$nulls":14},{"$f":"F771","v":0},{"$nulls":9},{"$f":"IF($BG771+$BK771+$BM771+$BO771 > 0,1,0)","v":0},{"$f":"IF(BH771+BI771=2,1,0)","v":0},{"$f":"IF($T771=\"Yes\",1,0)","v":0},{"$f":"IF($H771 = \"Female\",1,0)","v":0},null,{"$f":"IF($U771=\"Yes\",1,0)","v":0},null,{"$f":"IF($V771=\"Yes\",1,0)","v":0},null,{"$f":"IF($AB771=\"Yes\",1,0)","v":0},null,{"$f":"IF($J771=\"Yes\",1,0)","v":0},{"$f":"IF($K771=\"Yes\",1,0)","v":0},{"$f":"IF($L771=\"Yes\",1,0)","v":0},{"$f":"IF($M771=\"Yes\",1,0)","v":0},{"$f":"IF($N771=\"Yes\",1,0)","v":0},{"$f":"IF(BQ771+BR771+BS771+BT771+BU771>1,1,0)","v":0}]
[{"$nulls":14},"No",{"$nulls":17},0,{"$nulls":14},0,{"$nulls":9},0,0,0,0,null,0,null,0,null,0,null,0,0,0,0,0,0]
[{"$nulls":14},"No",{"$nulls":17},0,{"$nulls":14},0,{"$nulls":9},0,0,0,0,null,0,null,0,null,0,null,0,0,0,0,0,0]
[{"$nulls":14},"No",{"$nulls":17},0,{"$nulls":14},0,{"$nulls":9},0,0,0,0,null,0,null,0,null,0,null,0,0,0,0,0,0]
[{"$nulls":14},"No",{"$nulls":17},0,{"$nulls":14},0,{"$nulls":9},0,0,0,0,null,0,null,0,null,0,null,0,0,0,0,0,0]
[{"$nulls":14},"No",{"$nulls":17},0,{"$nulls":14},0,{"$nulls":9},0,0,0,0,null,0,null,0,null,0,null,0,0,0,0,0,0]
[{"$nulls":14},"No",{"$nulls":17},0,{"$nulls":14},0,{"$nulls":9},0,0,0,0,null,0,null,0,null,0,null,0,0,0,0,0,0]
[{"$nulls":14},"No",{"$nulls":17},0,{"$nulls":14},0,{"$nulls":9},0,0,0,0,null,0,null,0,null,0,null,0,0,0,0,0,0]
[{"$nulls":14},"No",{"$nulls":17},0,{"$nulls":14},0,{"$nulls":9},0,0,0,0,null,0,null,0,null,0,null,0,0,0,0,0,0]
[{"$nulls":14},"No",{"$nulls":17},0,{"$nulls":14},0,{"$nulls":9},0,0,0,0,null,0,null,0,null,0,null,0,0,0,0,0,0]
[{"$nulls":14},"No",{"$nulls":17},0,{"$nulls":14},0,{"$nulls":9},0,0,0,0,null,0,null,0,null,0,null,0,0,0,0,0,0]
[{"$nulls":14},"No",{"$nulls":17},0,{"$nulls":14},0,{"$nulls":9},0,0,0,0,null,0,null,0,null,0,null,0,0,0,0,0,0]
[{"$nulls":14},"No",{"$nulls":17},0,{"$nulls":14},0,{"$nulls":9},0,0,0,0,null,0,null,0,null,0,null,0,0,0,0,0,0]
[{"$nulls":14},"No",{"$nulls":17},0,{"$nulls":14},0,{"$nulls":9},0,0,0,0,null,0,null,0,null,0,null,0,0,0,0,0,0]
[{"$nulls":14},"No",{"$nulls":17},0,{"$nulls":14},0,{"$nulls":9},0,0,0,0,null,0,null,0,null,0,null,0,0,0,0,0,0]
[{"$nulls":14},"No",{"$nulls":17},0,{"$nulls":14},0,{"$nulls":9},0,0,0,0,null,0,null,0,null,0,null,0,0,0,0,0,0]
[{"$nulls":14},"No",{"$nulls":17},0,{"$nulls":14},0,{"$nulls":9},0,0,0,0,null,0,null,0,null,0,null,0,0,0,0,0,0]
[{"$nulls":14},"No",{"$nulls":17},0,{"$nulls":14},0,{"$nulls":9},0,0,0,0,null,0,null,0,null,0,null,0,0,0,0,0,0]
[{"$nulls":14},"No",{"$nulls":17},0,{"$nulls":14},0,{"$nulls":9},0,0,0,0,null,0,null,0,null,0,null,0,0,0,0,0,0]
[{"$nulls":14},"No",{"$nulls":17},0,{"$nulls":14},0,{"$nulls":9},0,0,0,0,null,0,null,0,null,0,null,0,0,0,0,0,0]
[{"$nulls":14},"No",{"$nulls":17},0,{"$nulls":14},0,{"$nulls":9},0,0,0,0,null,0,null,0,null,0,null,0,0,0,0,0,0]
[{"$nulls":14},"No",{"$nulls":17},0,{"$nulls":14},0,{"$nulls":9},0,0,0,0,null,0,null,0,null,0,null,0,0,0,0,0,0]
[{"$nulls":14},"No",{"$nulls":17},0,{"$nulls":14},0,{"$nulls":9},0,0,0,0,null,0,null,0,null,0,null,0,0,0,0,0,0]
[{"$nulls":14},"No",{"$nulls":17},0,{"$nulls":14},0,{"$nulls":9},0,0,0,0,null,0,null,0,null,0,null,0,0,0,0,0,0]
[{"$nulls":14},"No",{"$nulls":17},0,{"$nulls":14},0,{"$nulls":9},0,0,0,0,null,0,null,0,null,0,null,0,0,0,0,0,0]
[{"$nulls":14},"No",{"$nulls":17},0,{"$nulls":14},0,{"$nulls":9},0,0,0,0,null,0,null,0,null,0,null,0,0,0,0,0,0]
[{"$nulls":14},"No",{"$nulls":17},0,{"$nulls":14},0,{"$nulls":9},0,0,0,0,null,0,null,0,null,0,null,0,0,0,0,0,0]
[{"$nulls":14},"No",{"$nulls":17},0,{"$nulls":14},0,{"$nulls":9},0,0,0,0,null,0,null,0,null,0,null,0,0,0,0,0,0]
[{"$nulls":14},"No",{"$nulls":17},0,{"$nulls":14},0,{"$nulls":9},0,0,0,0,null,0,null,0,null,0,null,0,0,0,0,0,0]
[{"$nulls":14},"No",{"$nulls":17},0,{"$nulls":14},0,{"$nulls":9},0,0,0,0,null,0,null,0,null,0,null,0,0,0,0,0,0]
[{"$nulls":14},"No",{"$nulls":17},0,{"$nulls":14},0,{"$nulls":9},0,0,0,0,null,0,null,0,null,0,null,0,0,0,0,0,0]
[{"$nulls":14},"No",{"$nulls":17},0,{"$nulls":14},0,{"$nulls":9},0,0,0,0,null,0,null,0,null,0,null,0,0,0,0,0,0]
[{"$nulls":14},"No",{"$nulls":17},0,{"$nulls":14},0,{"$nulls":9},0,0,0,0,null,0,null,0,null,0,null,0,0,0,0,0,0]
[{"$nulls":14},"No",{"$nulls":17},0,{"$nulls":14},0,{"$nulls":9},0,0,0,0,null,0,null,0,null,0,null,0,0,0,0,0,0]
[{"$nulls":14},"No",{"$nulls":17},0,{"$nulls":14},0,{"$nulls":9},0,0,0,0,null,0,null,0,null,0,null,0,0,0,0,0,0]
[{"$nulls":14},"No",{"$nulls":17},0,{"$nulls":14},0,{"$nulls":9},0,0,0,0,null,0,null,0,null,0,null,0,0,0,0,0,0]
[{"$nulls":14},"No",{"$nulls":17},0,{"$nulls":14},0,{"$nulls":9},0,0,0,0,null,0,null,0,null,0,null,0,0,0,0,0,0]
[{"$nulls":14},"No",{"$nulls":17},0,{"$nulls":14},0,{"$nulls":9},0,0,0,0,null,0,null,0,null,0,null,0,0,0,0,0,0]
[{"$nulls":14},"No",{"$nulls":17},0,{"$nulls":14},0,{"$nulls":9},0,0,0,0,null,0,null,0,null,0,null,0,0,0,0,0,0]
[{"$nulls":14},"No",{"$nulls":17},0,{"$nulls":14},0,{"$nulls":9},0,0,0,0,null,0,null,0,null,0,null,0,0,0,0,0,0]
[{"$nulls":14},"No",{"$nulls":17},0,{"$nulls":14},0,{"$nulls":9},0,0,0,0,null,0,null,0,null,0,null,0,0,0,0,0,0]
[{"$nulls":14},"No",{"$nulls":17},0,{"$nulls":14},0,{"$nulls":9},0,0,0,0,null,0,null,0,null,0,null,0,0,0,0,0,0]
[{"$nulls":14},"No",{"$nulls":17},0,{"$nulls":14},0,{"$nulls":9},0,0,0,0,null,0,null,0,null,0,null,0,0,0,0,0,0]
[{"$nulls":14},"No",{"$nulls":17},0,{"$nulls":14},0,{"$nulls":9},0,0,0,0,null,0,null,0,null,0,null,0,0,0,0,0,0]
[{"$nulls":14},"No",{"$nulls":17},0,{"$nulls":14},0,{"$nulls":9},0,0,0,0,null,0,null,0,null,0,null,0,0,0,0,0,0]
[{"$nulls":14},"No",{"$nulls":17},0,{"$nulls":14},0,{"$nulls":9},0,0,0,0,null,0,null,0,null,0,null,0,0,0,0,0,0]
[{"$nulls":14},"No",{"$nulls":17},0,{"$nulls":14},0,{"$nulls":9},0,0,0,0,null,0,null,0,null,0,null,0,0,0,0,0,0]
[{"$nulls":14},"No",{"$nulls":17},0,{"$nulls":14},0,{"$nulls":9},0,0,0,0,null,0,null,0,null,0,null,0,0,0,0,0,0]
[{"$nulls":14},"No",{"$nulls":17},0,{"$nulls":14},0,{"$nulls":9},0,0,0,0,null,0,null,0,null,0,null,0,0,0,0,0,0]
[{"$nulls":14},"No",{"$nulls":17},0,{"$nulls":14},0,{"$nulls":9},0,0,0,0,null,0,null,0,null,0,null,0,0,0,0,0,0]
[{"$nulls":14},"No",{"$nulls":17},0,{"$nulls":14},0,{"$nulls":9},0,0,0,0,null,0,null,0,null,0,null,0,0,0,0,0,0]
[{"$nulls":14},"No",{"$nulls":17},0,{"$nulls":14},0,{"$nulls":9},0,0,0,0,null,0,null,0,null,0,null,0,0,0,0,0,0]
[{"$nulls":14},"No",{"$nulls":17},0,{"$nulls":14},0,{"$nulls":9},0,0,0,0,null,0,null,0,null,0,null,0,0,0,0,0,0]
[{"$nulls":14},"No",{"$nulls":17},0,{"$nulls":14},0,{"$nulls":9},0,0,0,0,null,0,null,0,null,0,null,0,0,0,0,0,0]
[{"$nulls":14},"No",{"$nulls":17},0,{"$nulls":14},0,{"$nulls":9},0,0,0,0,null,0,null,0,null,0,null,0,0,0,0,0,0]
[{"$nulls":14},"No",{"$nulls":17},0,{"$nulls":14},0,{"$nulls":9},0,0,0,0,null,0,null,0,null,0,null,0,0,0,0,0,0]
[{"$nulls":14},"No",{"$nulls":17},0,{"$nulls":14},0,{"$nulls":9},0,0,0,0,null,0,null,0,null,0,null,0,0,0,0,0,0]
[{"$nulls":14},"No",{"$nulls":17},0,{"$nulls":14},0,{"$nulls":9},0,0,0,0,null,0,null,0,null,0,null,0,0,0,0,0,0]
[{"$nulls":14},"No",{"$nulls":17},0,{"$nulls":14},0,{"$nulls":9},0,0,0,0,null,0,null,0,null,0,null,0,0,0,0,0,0]
[{"$nulls":14},"No",{"$nulls":17},0,{"$nulls":14},0,{"$nulls":9},0,0,0,0,null,0,null,0,null,0,null,0,0,0,0,0,0]
[{"$nulls":14},"No",{"$nulls":17},0,{"$nulls":14},0,{"$nulls":9},0,0,0,0,null,0,null,0,null,0,null,0,0,0,0,0,0]
[{"$nulls":14},"No",{"$nulls":17},0,{"$nulls":14},0,{"$nulls":9},0,0,0,0,null,0,null,0,null,0,null,0,0,0,0,0,0]
[{"$nulls":14},"No",{"$nulls":17},0,{"$nulls":14},0,{"$nulls":9},0,0,0,0,null,0,null,0,null,0,null,0,0,0,0,0,0]
[{"$nulls":14},"No",{"$nulls":17},0,{"$nulls":14},0,{"$nulls":9},0,0,0,0,null,0,null,0,null,0,null,0,0,0,0,0,0]
[{"$nulls":14},{"$f":"IF($BV835=1,\"Yes\",\"No\")","v":"No"},{"$nulls":17},{"$f":"MIN(AH835:AM835)","v":0},{"$nulls":14},{"$f":"F835","v":0},{"$nulls":9},{"$f":"IF($BG835+$BK835+$BM835+$BO835 > 0,1,0)","v":0},{"$f":"IF(BH835+BI835=2,1,0)","v":0},{"$f":"IF($T835=\"Yes\",1,0)","v":0},{"$f":"IF($H835 = \"Female\",1,0)","v":0},null,{"$f":"IF($U835=\"Yes\",1,0)","v":0},null,{"$f":"IF($V835=\"Yes\",1,0)","v":0},null,{"$f":"IF($AB835=\"Yes\",1,0)","v":0},null,{"$f":"IF($J835=\"Yes\",1,0)","v":0},{"$f":"IF($K835=\"Yes\",1,0)","v":0},{"$f":"IF($L835=\"Yes\",1,0)","v":0},{"$f":"IF($M835=\"Yes\",1,0)","v":0},{"$f":"IF($N835=\"Yes\",1,0)","v":0},{"$f":"IF(BQ835+BR835+BS835+BT835+BU835>1,1,0)","v":0}]
[{"$nulls":14},"No",{"$nulls":17},0,{"$nulls":14},0,{"$nulls":9},0,0,0,0,null,0,null,0,null,0,null,0,0,0,0,0,0]
[{"$nulls":14},"No",{"$nulls":17},0,{"$nulls":14},0,{"$nulls":9},0,0,0,0,null,0,null,0,null,0,null,0,0,0,0,0,0]
[{"$nulls":14},"No",{"$nulls":17},0,{"$nulls":14},0,{"$nulls":9},0,0,0,0,null,0,null,0,null,0,null,0,0,0,0,0,0]
[{"$nulls":14},"No",{"$nulls":17},0,{"$nulls":14},0,{"$nulls":9},0,0,0,0,null,0,null,0,null,0,null,0,0,0,0,0,0]
[{"$nulls":14},"No",{"$nulls":17},0,{"$nulls":14},0,{"$nulls":9},0,0,0,0,null,0,null,0,null,0,null,0,0,0,0,0,0]
[{"$nulls":14},"No",{"$nulls":17},0,{"$nulls":14},0,{"$nulls":9},0,0,0,0,null,0,null,0,null,0,null,0,0,0,0,0,0]
[{"$nulls":14},"No",{"$nulls":17},0,{"$nulls":14},0,{"$nulls":9},0,0,0,0,null,0,null,0,null,0,null,0,0,0,0,0,0]
[{"$nulls":14},"No",{"$nulls":17},0,{"$nulls":14},0,{"$nulls":9},0,0,0,0,null,0,null,0,null,0,null,0,0,0,0,0,0]
[{"$nulls":14},"No",{"$nulls":17},0,{"$nulls":14},0,{"$nulls":9},0,0,0,0,null,0,null,0,null,0,null,0,0,0,0,0,0]
[{"$nulls":14},"No",{"$nulls":17},0,{"$nulls":14},0,{"$nulls":9},0,0,0,0,null,0,null,0,null,0,null,0,0,0,0,0,0]
[{"$nulls":14},"No",{"$nulls":17},0,{"$nulls":14},0,{"$nulls":9},0,0,0,0,null,0,null,0,null,0,null,0,0,0,0,0,0]
[{"$nulls":14},"No",{"$nulls":17},0,{"$nulls":14},0,{"$nulls":9},0,0,0,0,null,0,null,0,null,0,null,0,0,0,0,0,0]
[{"$nulls":14},"No",{"$nulls":17},0,{"$nulls":14},0,{"$nulls":9},0,0,0,0,null,0,null,0,null,0,null,0,0,0,0,0,0]
[{"$nulls":14},"No",{"$nulls":17},0,{"$nulls":14},0,{"$nulls":9},0,0,0,0,null,0,null,0,null,0,null,0,0,0,0,0,0]
[{"$nulls":14},"No",{"$nulls":17},0,{"$nulls":14},0,{"$nulls":9},0,0,0,0,null,0,null,0,null,0,null,0,0,0,0,0,0]
[{"$nulls":14},"No",{"$nulls":17},0,{"$nulls":14},0,{"$nulls":9},0,0,0,0,null,0,null,0,null,0,null,0,0,0,0,0,0]
[{"$nulls":14},"No",{"$nulls":17},0,{"$nulls":14},0,{"$nulls":9},0,0,0,0,null,0,null,0,null,0,null,0,0,0,0,0,0]
[{"$nulls":14},"No",{"$nulls":17},0,{"$nulls":14},0,{"$nulls":9},0,0,0,0,null,0,null,0,null,0,null,0,0,0,0,0,0]
[{"$nulls":14},"No",{"$nulls":17},0,{"$nulls":14},0,{"$nulls":9},0,0,0,0,null,0,null,0,null,0,null,0,0,0,0,0,0]
[{"$nulls":14},"No",{"$nulls":17},0,{"$nulls":14},0,{"$nulls":9},0,0,0,0,null,0,null,0,null,0,null,0,0,0,0,0,0]
[{"$nulls":14},"No",{"$nulls":17},0,{"$nulls":14},0,{"$nulls":9},0,0,0,0,null,0,null,0,null,0,null,0,0,0,0,0,0]
[{"$nulls":14},"No",{"$nulls":17},0,{"$nulls":14},0,{"$nulls":9},0,0,0,0,null,0,null,0,null,0,null,0,0,0,0,0,0]
[{"$nulls":14},"No",{"$nulls":17},0,{"$nulls":14},0,{"$nulls":9},0,0,0,0,null,0,null,0,null,0,null,0,0,0,0,0,0]
[{"$nulls":14},"No",{"$nulls":17},0,{"$nulls":14},0,{"$nulls":9},0,0,0,0,null,0,null,0,null,0,null,0,0,0,0,0,0]
[{"$nulls":14},"No",{"$nulls":17},0,{"$nulls":14},0,{"$nulls":9},0,0,0,0,null,0,null,0,null,0,null,0,0,0,0,0,0]
[{"$nulls":14},"No",{"$nulls":17},0,{"$nulls":14},0,{"$nulls":9},0,0,0,0,null,0,null,0,null,0,null,0,0,0,0,0,0]
[{"$nulls":14},"No",{"$nulls":17},0,{"$nulls":14},0,{"$nulls":9},0,0,0,0,null,0,null,0,null,0,null,0,0,0,0,0,0]
[{"$nulls":14},"No",{"$nulls":17},0,{"$nulls":14},0,{"$nulls":9},0,0,0,0,null,0,null,0,null,0,null,0,0,0,0,0,0]
[{"$nulls":14},"No",{"$nulls":17},0,{"$nulls":14},0,{"$nulls":9},0,0,0,0,null,0,null,0,null,0,null,0,0,0,0,0,0]
[{"$nulls":14},"No",{"$nulls":17},0,{"$nulls":14},0,{"$nulls":9},0,0,0,0,null,0,null,0,null,0,null,0,0,0,0,0,0]
[{"$nulls":14},"No",{"$nulls":17},0,{"$nulls":14},0,{"$nulls":9},0,0,0,0,null,0,null,0,null,0,null,0,0,0,0,0,0]
[{"$nulls":14},"No",{"$nulls":17},0,{"$nulls":14},0,{"$nulls":9},0,0,0,0,null,0,null,0,null,0,null,0,0,0,0,0,0]
[{"$nulls":14},"No",{"$nulls":17},0,{"$nulls":14},0,{"$nulls":9},0,0,0,0,null,0,null,0,null,0,null,0,0,0,0,0,0]
[{"$nulls":14},"No",{"$nulls":17},0,{"$nulls":14},0,{"$nulls":9},0,0,0,0,null,0,null,0,null,0,null,0,0,0,0,0,0]
[{"$nulls":14},"No",{"$nulls":17},0,{"$nulls":14},0,{"$nulls":9},0,0,0,0,null,0,null,0,null,0,null,0,0,0,0,0,0]
[{"$nulls":14},"No",{"$nulls":17},0,{"$nulls":14},0,{"$nulls":9},0,0,0,0,null,0,null,0,null,0,null,0,0,0,0,0,0]
[{"$nulls":14},"No",{"$nulls":17},0,{"$nulls":14},0,{"$nulls":9},0,0,0,0,null,0,null,0,null,0,null,0,0,0,0,0,0]
[{"$nulls":14},"No",{"$nulls":17},0,{"$nulls":14},0,{"$nulls":9},0,0,0,0,null,0,null,0,null,0,null,0,0,0,0,0,0]
[{"$nulls":14},"No",{"$nulls":17},0,{"$nulls":14},0,{"$nulls":9},0,0,0,0,null,0,null,0,null,0,null,0,0,0,0,0,0]
[" ",{"$nulls":13},"No",{"$nulls":17},0,{"$nulls":14},0,{"$nulls":9},0,0,0,0,null,0,null,0,null,0,null,0,0,0,0,0,0]
[{"$nulls":14},"No",{"$nulls":17},0,{"$nulls":14},0,{"$nulls":9},0,0,0,0,null,0,null,0,null,0,null,0,0,0,0,0,0]
[{"$nulls":14},"No",{"$nulls":17},0,{"$nulls":14},0,{"$nulls":9},0,0,0,0,null,0,null,0,null,0,null,0,0,0,0,0,0]
[{"$nulls":14},"No",{"$nulls":17},0,{"$nulls":14},0,{"$nulls":9},0,0,0,0,null,0,null,0,null,0,null,0,0,0,0,0,0]
[{"$nulls":14},"No",{"$nulls":17},0,{"$nulls":14},0,{"$nulls":9},0,0,0,0,null,0,null,0,null,0,null,0,0,0,0,0,0]
[{"$nulls":14},"No",{"$nulls":17},0,{"$nulls":14},0,{"$nulls":9},0,0,0,0,null,0,null,0,null,0,null,0,0,0,0,0,0]
[{"$nulls":14},"No",{"$nulls":17},0,{"$nulls":14},0,{"$nulls":9},0,0,0,0,null,0,null,0,null,0,null,0,0,0,0,0,0]
[{"$nulls":14},"No",{"$nulls":17},0,{"$nulls":14},0,{"$nulls":9},0,0,0,0,null,0,null,0,null,0,null,0,0,0,0,0,0]
[{"$nulls":14},"No",{"$nulls":17},0,{"$nulls":14},0,{"$nulls":9},0,0,0,0,null,0,null,0,null,0,null,0,0,0,0,0,0]
[{"$nulls":14},"No",{"$nulls":17},0,{"$nulls":14},0,{"$nulls":9},0,0,0,0,null,0,null,0,null,0,null,0,0,0,0,0,0]
[{"$nulls":14},"No",{"$nulls":17},0,{"$nulls":14},0,{"$nulls":9},0,0,0,0,null,0,null,0,null,0,null,0,0,0,0,0,0]
[{"$nulls":14},"No",{"$nulls":17},0,{"$nulls":14},0,{"$nulls":9},0,0,0,0,null,0,null,0,null,0,null,0,0,0,0,0,0]
[{"$nulls":14},"No",{"$nulls":17},0,{"$nulls":14},0,{"$nulls":9},0,0,0,0,null,0,null,0,null,0,null,0,0,0,0,0,0]
[{"$nulls":14},"No",{"$nulls":17},0,{"$nulls":14},0,{"$nulls":9},0,0,0,0,null,0,null,0,null,0,null,0,0,0,0,0,0]
[{"$nulls":14},"No",{"$nulls":17},0,{"$nulls":14},0,{"$nulls":9},0,0,0,0,null,0,null,0,null,0,null,0,0,0,0,0,0]
[{"$nulls":14},"No",{"$nulls":17},0,{"$nulls":14},0,{"$nulls":9},0,0,0,0,null,0,null,0,null,0,null,0,0,0,0,0,0]
[{"$nulls":14},"No",{"$nulls":17},0,{"$nulls":14},0,{"$nulls":9},0,0,0,0,null,0,null,0,null,0,null,0,0,0,0,0,0]
[{"$nulls":14},"No",{"$nulls":17},0,{"$nulls":14},0,{"$nulls":9},0,0,0,0,null,0,null,0,null,0,null,0,0,0,0,0,0]
[{"$nulls":14},"No",{"$nulls":17},0,{"$nulls":14},0,{"$nulls":9},0,0,0,0,null,0,null,0,null,0,null,0,0,0,0,0,0]
[{"$nulls":14},"No",{"$nulls":17},0,{"$nulls":14},0,{"$nulls":9},0,0,0,0,null,0,null,0,null,0,null,0,0,0,0,0,0]
[{"$nulls":14},"No",{"$nulls":17},0,{"$nulls":14},0,{"$nulls":9},0,0,0,0,null,0,null,0,null,0,null,0,0,0,0,0,0]
[{"$nulls":14},"No",{"$nulls":17},0,{"$nulls":14},0,{"$nulls":9},0,0,0,0,null,0,null,0,null,0,null,0,0,0,0,0,0]
[{"$nulls":14},"No",{"$nulls":17},0,{"$nulls":14},0,{"$nulls":9},0,0,0,0,null,0,null,0,null,0,null,0,0,0,0,0,0]
[{"$nulls":14},"No",{"$nulls":17},0,{"$nulls":14},0,{"$nulls":9},0,0,0,0,null,0,null,0,null,0,null,0,0,0,0,0,0]
[{"$nulls":14},{"$f":"IF($BV899=1,\"Yes\",\"No\")","v":"No"},{"$nulls":17},{"$f":"MIN(AH899:AM899)","v":0},{"$nulls":14},{"$f":"F899","v":0},{"$nulls":9},{"$f":"IF($BG899+$BK899+$BM899+$BO899 > 0,1,0)","v":0},{"$f":"IF(BH899+BI899=2,1,0)","v":0},{"$f":"IF($T899=\"Yes\",1,0)","v":0},{"$f":"IF($H899 = \"Female\",1,0)","v":0},null,{"$f":"IF($U899=\"Yes\",1,0)","v":0},null,{"$f":"IF($V899=\"Yes\",1,0)","v":0},null,{"$f":"IF($AB899=\"Yes\",1,0)","v":0},null,{"$f":"IF($J899=\"Yes\",1,0)","v":0},{"$f":"IF($K899=\"Yes\",1,0)","v":0},{"$f":"IF($L899=\"Yes\",1,0)","v":0},{"$f":"IF($M899=\"Yes\",1,0)","v":0},{"$f":"IF($N899=\"Yes\",1,0)","v":0},{"$f":"IF(BQ899+BR899+BS899+BT899+BU899>1,1,0)","v":0}]
[{"$nulls":14},"No",{"$nulls":17},0,{"$nulls":14},0,{"$nulls":9},0,0,0,0,null,0,null,0,null,0,null,0,0,0,0,0,0]
[{"$nulls":14},"No",{"$nulls":17},0,{"$nulls":14},0,{"$nulls":9},0,0,0,0,null,0,null,0,null,0,null,0,0,0,0,0,0]
[{"$nulls":14},"No",{"$nulls":17},0,{"$nulls":14},0,{"$nulls":9},0,0,0,0,null,0,null,0,null,0,null,0,0,0,0,0,0]
[{"$nulls":14},"No",{"$nulls":17},0,{"$nulls":14},0,{"$nulls":9},0,0,0,0,null,0,null,0,null,0,null,0,0,0,0,0,0]
[{"$nulls":14},"No",{"$nulls":17},0,{"$nulls":14},0,{"$nulls":9},0,0,0,0,null,0,null,0,null,0,null,0,0,0,0,0,0]
[{"$nulls":14},"No",{"$nulls":17},0,{"$nulls":14},0,{"$nulls":9},0,0,0,0,null,0,null,0,null,0,null,0,0,0,0,0,0]
[{"$nulls":14},"No",{"$nulls":17},0,{"$nulls":14},0,{"$nulls":9},0,0,0,0,null,0,null,0,null,0,null,0,0,0,0,0,0]
[{"$nulls":14},"No",{"$nulls":17},0,{"$nulls":14},0,{"$nulls":9},0,0,0,0,null,0,null,0,null,0,null,0,0,0,0,0,0]
[{"$nulls":14},"No",{"$nulls":17},0,{"$nulls":14},0,{"$nulls":9},0,0,0,0,null,0,null,0,null,0,null,0,0,0,0,0,0]
[{"$nulls":14},"No",{"$nulls":17},0,{"$nulls":14},0,{"$nulls":9},0,0,0,0,null,0,null,0,null,0,null,0,0,0,0,0,0]
[{"$nulls":14},"No",{"$nulls":17},0,{"$nulls":14},0,{"$nulls":9},0,0,0,0,null,0,null,0,null,0,null,0,0,0,0,0,0]
[{"$nulls":14},"No",{"$nulls":17},0,{"$nulls":14},0,{"$nulls":9},0,0,0,0,null,0,null,0,null,0,null,0,0,0,0,0,0]
[{"$nulls":14},"No",{"$nulls":17},0,{"$nulls":14},0,{"$nulls":9},0,0,0,0,null,0,null,0,null,0,null,0,0,0,0,0,0]
[{"$nulls":14},"No",{"$nulls":17},0,{"$nulls":14},0,{"$nulls":9},0,0,0,0,null,0,null,0,null,0,null,0,0,0,0,0,0]
[{"$nulls":14},"No",{"$nulls":17},0,{"$nulls":14},0,{"$nulls":9},0,0,0,0,null,0,null,0,null,0,null,0,0,0,0,0,0]
[{"$nulls":14},"No",{"$nulls":17},0,{"$nulls":14},0,{"$nulls":9},0,0,0,0,null,0,null,0,null,0,null,0,0,0,0,0,0]
[{"$nulls":14},"No",{"$nulls":17},0,{"$nulls":14},0,{"$nulls":9},0,0,0,0,null,0,null,0,null,0,null,0,0,0,0,0,0]
[{"$nulls":14},"No",{"$nulls":17},0,{"$nulls":14},0,{"$nulls":9},0,0,0,0,null,0,null,0,null,0,null,0,0,0,0,0,0]
[{"$nulls":14},"No",{"$nulls":17},0,{"$nulls":14},0,{"$nulls":9},0,0,0,0,null,0,null,0,null,0,null,0,0,0,0,0,0]
[{"$nulls":14},"No",{"$nulls":17},0,{"$nulls":14},0,{"$nulls":9},0,0,0,0,null,0,null,0,null,0,null,0,0,0,0,0,0]
[{"$nulls":14},"No",{"$nulls":17},0,{"$nulls":14},0,{"$nulls":9},0,0,0,0,null,0,null,0,null,0,null,0,0,0,0,0,0]
[{"$nulls":14},"No",{"$nulls":17},0,{"$nulls":14},0,{"$nulls":9},0,0,0,0,null,0,null,0,null,0,null,0,0,0,0,0,0]
[{"$nulls":14},"No",{"$nulls":17},0,{"$nulls":14},0,{"$nulls":9},0,0,0,0,null,0,null,0,null,0,null,0,0,0,0,0,0]
[{"$nulls":14},"No",{"$nulls":17},0,{"$nulls":14},0,{"$nulls":9},0,0,0,0,null,0,null,0,null,0,null,0,0,0,0,0,0]
[{"$nulls":14},"No",{"$nulls":17},0,{"$nulls":14},0,{"$nulls":9},0,0,0,0,null,0,null,0,null,0,null,0,0,0,0,0,0]
[{"$nulls":14},"No",{"$nulls":17},0,{"$nulls":14},0,{"$nulls":9},0,0,0,0,null,0,null,0,null,0,null,0,0,0,0,0,0]
[{"$nulls":14},"No",{"$nulls":17},0,{"$nulls":14},0,{"$nulls":9},0,0,0,0,null,0,null,0,null,0,null,0,0,0,0,0,0]
[{"$nulls":14},"No",{"$nulls":17},0,{"$nulls":14},0,{"$nulls":9},0,0,0,0,null,0,null,0,null,0,null,0,0,0,0,0,0]
[{"$nulls":14},"No",{"$nulls":17},0,{"$nulls":14},0,{"$nulls":9},0,0,0,0,null,0,null,0,null,0,null,0,0,0,0,0,0]
[{"$nulls":14},"No",{"$nulls":17},0,{"$nulls":14},0,{"$nulls":9},0,0,0,0,null,0,null,0,null,0,null,0,0,0,0,0,0]
[{"$nulls":14},"No",{"$nulls":17},0,{"$nulls":14},0,{"$nulls":9},0,0,0,0,null,0,null,0,null,0,null,0,0,0,0,0,0]
[{"$nulls":14},"No",{"$nulls":17},0,{"$nulls":14},0,{"$nulls":9},0,0,0,0,null,0,null,0,null,0,null,0,0,0,0,0,0]
[{"$nulls":14},"No",{"$nulls":17},0,{"$nulls":14},0,{"$nulls":9},0,0,0,0,null,0,null,0,null,0,null,0,0,0,0,0,0]
[{"$nulls":14},"No",{"$nulls":17},0,{"$nulls":14},0,{"$nulls":9},0,0,0,0,null,0,null,0,null,0,null,0,0,0,0,0,0]
[{"$nulls":14},"No",{"$nulls":17},0,{"$nulls":14},0,{"$nulls":9},0,0,0,0,null,0,null,0,null,0,null,0,0,0,0,0,0]
[{"$nulls":14},"No",{"$nulls":17},0,{"$nulls":14},0,{"$nulls":9},0,0,0,0,null,0,null,0,null,0,null,0,0,0,0,0,0]
[{"$nulls":14},"No",{"$nulls":17},0,{"$nulls":14},0,{"$nulls":9},0,0,0,0,null,0,null,0,null,0,null,0,0,0,0,0,0]
[{"$nulls":14},"No",{"$nulls":17},0,{"$nulls":14},0,{"$nulls":9},0,0,0,0,null,0,null,0,null,0,null,0,0,0,0,0,0]
[{"$nulls":14},"No",{"$nulls":17},0,{"$nulls":14},0,{"$nulls":9},0,0,0,0,null,0,null,0,null,0,null,0,0,0,0,0,0]
[{"$nulls":14},"No",{"$nulls":17},0,{"$nulls":14},0,{"$nulls":9},0,0,0,0,null,0,null,0,null,0,null,0,0,0,0,0,0]
[{"$nulls":14},"No",{"$nulls":17},0,{"$nulls":14},0,{"$nulls":9},0,0,0,0,null,0,null,0,null,0,null,0,0,0,0,0,0]
[{"$nulls":14},"No",{"$nulls":17},0,{"$nulls":14},0,{"$nulls":9},0,0,0,0,null,0,null,0,null,0,null,0,0,0,0,0,0]
[{"$nulls":14},"No",{"$nulls":17},0,{"$nulls":14},0,{"$nulls":9},0,0,0,0,null,0,null,0,null,0,null,0,0,0,0,0,0]
[{"$nulls":14},"No",{"$nulls":17},0,{"$nulls":14},0,{"$nulls":9},0,0,0,0,null,0,null,0,null,0,null,0,0,0,0,0,0]
[{"$nulls":14},"No",{"$nulls":17},0,{"$nulls":14},0,{"$nulls":9},0,0,0,0,null,0,null,0,null,0,null,0,0,0,0,0,0]
[{"$nulls":14},"No",{"$nulls":17},0,{"$nulls":14},0,{"$nulls":9},0,0,0,0,null,0,null,0,null,0,null,0,0,0,0,0,0]
[{"$nulls":14},"No",{"$nulls":17},0,{"$nulls":14},0,{"$nulls":9},0,0,0,0,null,0,null,0,null,0,null,0,0,0,0,0,0]
[{"$nulls":14},"No",{"$nulls":17},0,{"$nulls":14},0,{"$nulls":9},0,0,0,0,null,0,null,0,null,0,null,0,0,0,0,0,0]
[{"$nulls":14},"No",{"$nulls":17},0,{"$nulls":14},0,{"$nulls":9},0,0,0,0,null,0,null,0,null,0,null,0,0,0,0,0,0]
[{"$nulls":14},"No",{"$nulls":17},0,{"$nulls":14},0,{"$nulls":9},0,0,0,0,null,0,null,0,null,0,null,0,0,0,0,0,0]
[{"$nulls":14},"No",{"$nulls":17},0,{"$nulls":14},0,{"$nulls":9},0,0,0,0,null,0,null,0,null,0,null,0,0,0,0,0,0]
[{"$nulls":14},"No",{"$nulls":17},0,{"$nulls":14},0,{"$nulls":9},0,0,0,0,null,0,null,0,null,0,null,0,0,0,0,0,0]
[{"$nulls":14},"No",{"$nulls":17},0,{"$nulls":14},0,{"$nulls":9},0,0,0,0,null,0,null,0,null,0,null,0,0,0,0,0,0]
[{"$nulls":14},"No",{"$nulls":17},0,{"$nulls":14},0,{"$nulls":9},0,0,0,0,null,0,null,0,null,0,null,0,0,0,0,0,0]
[{"$nulls":14},"No",{"$nulls":17},0,{"$nulls":14},0,{"$nulls":9},0,0,0,0,null,0,null,0,null,0,null,0,0,0,0,0,0]
[{"$nulls":14},"No",{"$nulls":17},0,{"$nulls":14},0,{"$nulls":9},0,0,0,0,null,0,null,0,null,0,null,0,0,0,0,0,0]
[{"$nulls":14},"No",{"$nulls":17},0,{"$nulls":14},0,{"$nulls":9},0,0,0,0,null,0,null,0,null,0,null,0,0,0,0,0,0]
[{"$nulls":14},"No",{"$nulls":17},0,{"$nulls":14},0,{"$nulls":9},0,0,0,0,null,0,null,0,null,0,null,0,0,0,0,0,0]
[{"$nulls":14},"No",{"$nulls":17},0,{"$nulls":14},0,{"$nulls":9},0,0,0,0,null,0,null,0,null,0,null,0,0,0,0,0,0]
[{"$nulls":14},"No",{"$nulls":17},0,{"$nulls":14},0,{"$nulls":9},0,0,0,0,null,0,null,0,null,0,null,0,0,0,0,0,0]
[{"$nulls":14},"No",{"$nulls":17},0,{"$nulls":14},0,{"$nulls":9},0,0,0,0,null,0,null,0,null,0,null,0,0,0,0,0,0]
[{"$nulls":14},"No",{"$nulls":17},0,{"$nulls":14},0,{"$nulls":9},0,0,0,0,null,0,null,0,null,0,null,0,0,0,0,0,0]
[{"$nulls":14},"No",{"$nulls":17},0,{"$nulls":14},0,{"$nulls":9},0,0,0,0,null,0,null,0,null,0,null,0,0,0,0,0,0]
[{"$nulls":14},{"$f":"IF($BV963=1,\"Yes\",\"No\")","v":"No"},{"$nulls":17},{"$f":"MIN(AH963:AM963)","v":0},{"$nulls":14},{"$f":"F963","v":0},{"$nulls":9},{"$f":"IF($BG963+$BK963+$BM963+$BO963 > 0,1,0)","v":0},{"$f":"IF(BH963+BI963=2,1,0)","v":0},{"$f":"IF($T963=\"Yes\",1,0)","v":0},{"$f":"IF($H963 = \"Female\",1,0)","v":0},null,{"$f":"IF($U963=\"Yes\",1,0)","v":0},null,{"$f":"IF($V963=\"Yes\",1,0)","v":0},null,{"$f":"IF($AB963=\"Yes\",1,0)","v":0},null,{"$f":"IF($J963=\"Yes\",1,0)","v":0},{"$f":"IF($K963=\"Yes\",1,0)","v":0},{"$f":"IF($L963=\"Yes\",1,0)","v":0},{"$f":"IF($M963=\"Yes\",1,0)","v":0},{"$f":"IF($N963=\"Yes\",1,0)","v":0},{"$f":"IF(BQ963+BR963+BS963+BT963+BU963>1,1,0)","v":0}]
[{"$nulls":14},"No",{"$nulls":17},0,{"$nulls":14},0,{"$nulls":9},0,0,0,0,null,0,null,0,null,0,null,0,0,0,0,0,0]
[{"$nulls":14},"No",{"$nulls":17},0,{"$nulls":14},0,{"$nulls":9},0,0,0,0,null,0,null,0,null,0,null,0,0,0,0,0,0]
[{"$nulls":14},"No",{"$nulls":17},0,{"$nulls":14},0,{"$nulls":9},0,0,0,0,null,0,null,0,null,0,null,0,0,0,0,0,0]
[{"$nulls":14},"No",{"$nulls":17},0,{"$nulls":14},0,{"$nulls":9},0,0,0,0,null,0,null,0,null,0,null,0,0,0,0,0,0]
[{"$nulls":14},"No",{"$nulls":17},0,{"$nulls":14},0,{"$nulls":9},0,0,0,0,null,0,null,0,null,0,null,0,0,0,0,0,0]
[{"$nulls":14},"No",{"$nulls":17},0,{"$nulls":14},0,{"$nulls":9},0,0,0,0,null,0,null,0,null,0,null,0,0,0,0,0,0]
[{"$nulls":14},"No",{"$nulls":17},0,{"$nulls":14},0,{"$nulls":9},0,0,0,0,null,0,null,0,null,0,null,0,0,0,0,0,0]
[{"$nulls":14},"No",{"$nulls":17},0,{"$nulls":14},0,{"$nulls":9},0,0,0,0,null,0,null,0,null,0,null,0,0,0,0,0,0]
[{"$nulls":14},"No",{"$nulls":17},0,{"$nulls":14},0,{"$nulls":9},0,0,0,0,null,0,null,0,null,0,null,0,0,0,0,0,0]
[{"$nulls":14},"No",{"$nulls":17},0,{"$nulls":14},0,{"$nulls":9},0,0,0,0,null,0,null,0,null,0,null,0,0,0,0,0,0]
[{"$nulls":14},"No",{"$nulls":17},0,{"$nulls":14},0,{"$nulls":9},0,0,0,0,null,0,null,0,null,0,null,0,0,0,0,0,0]
[{"$nulls":14},"No",{"$nulls":17},0,{"$nulls":14},0,{"$nulls":9},0,0,0,0,null,0,null,0,null,0,null,0,0,0,0,0,0]
[{"$nulls":14},"No",{"$nulls":17},0,{"$nulls":14},0,{"$nulls":9},0,0,0,0,null,0,null,0,null,0,null,0,0,0,0,0,0]
[{"$nulls":14},"No",{"$nulls":17},0,{"$nulls":14},0,{"$nulls":9},0,0,0,0,null,0,null,0,null,0,null,0,0,0,0,0,0]
[{"$nulls":14},"No",{"$nulls":17},0,{"$nulls":14},0,{"$nulls":9},0,0,0,0,null,0,null,0,null,0,null,0,0,0,0,0,0]
[{"$nulls":14},"No",{"$nulls":17},0,{"$nulls":14},0,{"$nulls":9},0,0,0,0,null,0,null,0,null,0,null,0,0,0,0,0,0]
[{"$nulls":14},"No",{"$nulls":17},0,{"$nulls":14},0,{"$nulls":9},0,0,0,0,null,0,null,0,null,0,null,0,0,0,0,0,0]
[{"$nulls":14},"No",{"$nulls":17},0,{"$nulls":14},0,{"$nulls":9},0,0,0,0,null,0,null,0,null,0,null,0,0,0,0,0,0]
[{"$nulls":14},"No",{"$nulls":17},0,{"$nulls":14},0,{"$nulls":9},0,0,0,0,null,0,null,0,null,0,null,0,0,0,0,0,0]
[{"$nulls":14},"No",{"$nulls":17},0,{"$nulls":14},0,{"$nulls":9},0,0,0,0,null,0,null,0,null,0,null,0,0,0,0,0,0]
[{"$nulls":14},"No",{"$nulls":17},0,{"$nulls":14},0,{"$nulls":9},0,0,0,0,null,0,null,0,null,0,null,0,0,0,0,0,0]
[{"$nulls":14},"No",{"$nulls":17},0,{"$nulls":14},0,{"$nulls":9},0,0,0,0,null,0,null,0,null,0,null,0,0,0,0,0,0]
[{"$nulls":14},"No",{"$nulls":17},0,{"$nulls":14},0,{"$nulls":9},0,0,0,0,null,0,null,0,null,0,null,0,0,0,0,0,0]
[{"$nulls":14},"No",{"$nulls":17},0,{"$nulls":14},0,{"$nulls":9},0,0,0,0,null,0,null,0,null,0,null,0,0,0,0,0,0]
[{"$nulls":14},"No",{"$nulls":17},0,{"$nulls":14},0,{"$nulls":9},0,0,0,0,null,0,null,0,null,0,null,0,0,0,0,0,0]
[{"$nulls":14},"No",{"$nulls":17},0,{"$nulls":14},0,{"$nulls":9},0,0,0,0,null,0,null,0,null,0,null,0,0,0,0,0,0]
[{"$nulls":14},"No",{"$nulls":17},0,{"$nulls":14},0,{"$nulls":9},0,0,0,0,null,0,null,0,null,0,null,0,0,0,0,0,0]
[{"$nulls":14},"No",{"$nulls":17},0,{"$nulls":14},0,{"$nulls":9},0,0,0,0,null,0,null,0,null,0,null,0,0,0,0,0,0]
[{"$nulls":14},"No",{"$nulls":17},0,{"$nulls":14},0,{"$nulls":9},0,0,0,0,null,0,null,0,null,0,null,0,0,0,0,0,0]
[{"$nulls":14},"No",{"$nulls":17},0,{"$nulls":14},0,{"$nulls":9},0,0,0,0,null,0,null,0,null,0,null,0,0,0,0,0,0]
[{"$nulls":14},"No",{"$nulls":17},0,{"$nulls":14},0,{"$nulls":9},0,0,0,0,null,0,null,0,null,0,null,0,0,0,0,0,0]
[{"$nulls":14},"No",{"$nulls":17},0,{"$nulls":14},0,{"$nulls":9},0,0,0,0,null,0,null,0,null,0,null,0,0,0,0,0,0]
[{"$nulls":14},"No",{"$nulls":17},0,{"$nulls":14},0,{"$nulls":9},0,0,0,0,null,0,null,0,null,0,null,0,0,0,0,0,0]
[{"$nulls":14},"No",{"$nulls":17},0,{"$nulls":14},0,{"$nulls":9},0,0,0,0,null,0,null,0,null,0,null,0,0,0,0,0,0]
[{"$nulls":14},"No",{"$nulls":17},0,{"$nulls":14},0,{"$nulls":9},0,0,0,0,null,0,null,0,null,0,null,0,0,0,0,0,0]
[{"$nulls":14},"No",{"$nulls":17},0,{"$nulls":14},0,{"$nulls":9},0,0,0,0,null,0,null,0,null,0,null,0,0,0,0,0,0]
[{"$nulls":14},"No",{"$nulls":17},0,{"$nulls":14},0,{"$nulls":9},0,0,0,0,null,0,null,0,null,0,null,0,0,0,0,0,0]
[{"$nulls":14},"No",{"$nulls":17},0,{"$nulls":14},0,{"$nulls":9},0,0,0,0,null,0,null,0,null,0,null,0,0,0,0,0,0]
[]
[{"$nulls":46},"VETS-701B"]
[{"$nulls":46},"Participant Information"]
[{"$nulls":46},"(Revised April 2016)"]
{"$rows_empty":491}
["Hispanic or Latino"]
["Not Hispanic or Latino"]
[]
["Male"]
["Female"]
[]
["Yes"]
["No "]
[" "]
[" "]
[" "]
[]
["18-19"]
["20-24"]
["25-29"]
["30-34"]
["35-44"]
["45-54"]
["55-64"]
["65+"]
[]
["0-3 Years Ago"]
["4-7 Years Ago"]
["8-11 Years Ago"]
["12-15 Years Ago"]
["16-19 Years Ago"]
["20+ Years Ago"]
[]
["Yes"]
["No"]
[]
[1]
[2]
[3]
[4]
[5]
[]
["Energy-efficient building, construction, and retrofits industries"]
["Renewable electric power industry"]
["Energy efficient and advanced drive train vehicle industry"]
["Bio-fuels industry"]
["Deconstruction and materials use industries"]
["Energy efficiency assessment industry serving the residential, commercial, or industrial sectors"]
["Manufacturers that produce sustainable products using environmentally sustainable processes and materials"]
["Other (Describe in quarterly TPN)"]

{"sheet":"VETS-701C Enter Exiter Info Q1","index":4,"n_rows":206,"n_cols":105,"rows_kept":206}
[{"$f":"SUM(('VETS-701B Participant Info'!AV$2:AV$1001=1)*1)","v":0},"Exited 1st quarter (Participants tab)"]
[]
["For Those who EXIT during 1st Qtr",null,"Yes=1; No=0","Yes=1; No=0",{"$nulls":3},"Yes=1; No=0",{"$nulls":5},"Yes=1; No=0"]
["Participant ID\n(COMPUTED)","Participant Name - (Do not use Actual Full Names)                                                                                         First four Letters last name; First/Middle Initials                       (COMPUTED)","Earned Wages in 2nd quarter","Earned Wages in 3rd quarter","Hours worked per week in 3rd quarter (e.g., 20, 40)","Hourly wage  in 3rd quarter (e.g., $9.00)","Earnings for 2nd qtr after exit qtr","Earned Wages in 4th quarter","Hours worked per week in 4th quarter (e.g., 20, 40)","Hourly wage  in 4th quarter (e.g., $9.00)","Earnings for 3rd qtr after exit qtr","Employed ALL 3 qtrs after exit","2nd & 3rd qtr Earnings for those Employed all 3 qtrs after exit","Earned Wages in 5th quarter","Hours worked per week in 5th quarter (e.g., 20, 40)","Hourly wage  in 5th quarter (e.g., $9.00)"]
[{"$f":"IF('VETS-701B Participant Info'!$F2=1,'VETS-701B Participant Info'!$A2,\"  \")","v":"  "},{"$f":"IF('VETS-701B Participant Info'!$F2=1,'VETS-701B Participant Info'!$B2,\"  \")","v":"  "},{"$nulls":4},{"$f":"SUM(E5*F5*13)","v":{"v":0,"d":"$0.00"}},{"$nulls":3},{"$f":"SUM(I5*J5*13)","v":{"v":0,"d":"$0.00"}},{"$f":"SUM(H5+D5+C5)","v":0},{"$f":"IF(L5=3,K5+G5,0)","v":{"v":0,"d":"$0.00"}},{"$nulls":91},{"$f":"IF($B5> \"             \",1,2)","v":2}]
[{"$f":"IF('VETS-701B Participant Info'!$F3=1,'VETS-701B Participant Info'!$A3,\"  \")","v":"  "},{"$f":"IF('VETS-701B Participant Info'!$F3=1,'VETS-701B Participant Info'!$B3,\"  \")","v":"  "},{"$nulls":4},{"v":0,"d":"$0.00"},{"$nulls":3},{"v":0,"d":"$0.00"},0,{"v":0,"d":"$0.00"},{"$nulls":17},1,{"$nulls":69},{"$f":"IF($B6> \"             \",1,2)","v":2},{"$nulls":3},{"$f":"IF($B6> \"             \",1,2)","v":2}]
[{"$f":"IF('VETS-701B Participant Info'!$F4=1,'VETS-701B Participant Info'!$A4,\"  \")","v":"  "},{"$f":"IF('VETS-701B Participant Info'!$F4=1,'VETS-701B Participant Info'!$B4,\"  \")","v":"  "},{"$nulls":4},{"v":0,"d":"$0.00"},{"$nulls":3},{"v":0,"d":"$0.00"},0,{"v":0,"d":"$0.00"},{"$nulls":17},0,{"$nulls":73},2]
[{"$f":"IF('VETS-701B Participant Info'!$F5=1,'VETS-701B Participant Info'!$A5,\"  \")","v":"  "},{"$f":"IF('VETS-701B Participant Info'!$F5=1,'VETS-701B Participant Info'!$B5,\"  \")","v":"  "},{"$nulls":4},{"v":0,"d":"$0.00"},{"$nulls":3},{"v":0,"d":"$0.00"},0,{"v":0,"d":"$0.00"},{"$nulls":91},2]
[{"$f":"IF('VETS-701B Participant Info'!$F6=1,'VETS-701B Participant Info'!$A6,\"  \")","v":"  "},{"$f":"IF('VETS-701B Participant Info'!$F6=1,'VETS-701B Participant Info'!$B6,\"  \")","v":"  "},{"$nulls":4},{"v":0,"d":"$0.00"},{"$nulls":3},{"v":0,"d":"$0.00"},0,{"v":0,"d":"$0.00"},{"$nulls":91},2]
[{"$f":"IF('VETS-701B Participant Info'!$F7=1,'VETS-701B Participant Info'!$A7,\"  \")","v":"  "},{"$f":"IF('VETS-701B Participant Info'!$F7=1,'VETS-701B Participant Info'!$B7,\"  \")","v":"  "},{"$nulls":4},{"v":0,"d":"$0.00"},{"$nulls":3},{"v":0,"d":"$0.00"},0,{"v":0,"d":"$0.00"},{"$nulls":91},2]
[{"$f":"IF('VETS-701B Participant Info'!$F8=1,'VETS-701B Participant Info'!$A8,\"  \")","v":"  "},{"$f":"IF('VETS-701B Participant Info'!$F8=1,'VETS-701B Participant Info'!$B8,\"  \")","v":"  "},{"$nulls":4},{"v":0,"d":"$0.00"},{"$nulls":3},{"v":0,"d":"$0.00"},0,{"v":0,"d":"$0.00"},{"$nulls":91},2]
[{"$f":"IF('VETS-701B Participant Info'!$F9=1,'VETS-701B Participant Info'!$A9,\"  \")","v":"  "},{"$f":"IF('VETS-701B Participant Info'!$F9=1,'VETS-701B Participant Info'!$B9,\"  \")","v":"  "},{"$nulls":4},{"v":0,"d":"$0.00"},{"$nulls":3},{"v":0,"d":"$0.00"},0,{"v":0,"d":"$0.00"},{"$nulls":91},2]
[{"$f":"IF('VETS-701B Participant Info'!$F10=1,'VETS-701B Participant Info'!$A10,\"  \")","v":"  "},{"$f":"IF('VETS-701B Participant Info'!$F10=1,'VETS-701B Participant Info'!$B10,\"  \")","v":"  "},{"$nulls":4},{"v":0,"d":"$0.00"},{"$nulls":3},{"v":0,"d":"$0.00"},0,{"v":0,"d":"$0.00"},{"$nulls":91},2]
[{"$f":"IF('VETS-701B Participant Info'!$F11=1,'VETS-701B Participant Info'!$A11,\"  \")","v":"  "},{"$f":"IF('VETS-701B Participant Info'!$F11=1,'VETS-701B Participant Info'!$B11,\"  \")","v":"  "},{"$nulls":4},{"v":0,"d":"$0.00"},{"$nulls":3},{"v":0,"d":"$0.00"},0,{"v":0,"d":"$0.00"},{"$nulls":91},2]
[{"$f":"IF('VETS-701B Participant Info'!$F12=1,'VETS-701B Participant Info'!$A12,\"  \")","v":"  "},{"$f":"IF('VETS-701B Participant Info'!$F12=1,'VETS-701B Participant Info'!$B12,\"  \")","v":"  "},{"$nulls":4},{"v":0,"d":"$0.00"},{"$nulls":3},{"v":0,"d":"$0.00"},0,{"v":0,"d":"$0.00"},{"$nulls":91},2]
[{"$f":"IF('VETS-701B Participant Info'!$F13=1,'VETS-701B Participant Info'!$A13,\"  \")","v":"  "},{"$f":"IF('VETS-701B Participant Info'!$F13=1,'VETS-701B Participant Info'!$B13,\"  \")","v":"  "},{"$nulls":4},{"v":0,"d":"$0.00"},{"$nulls":3},{"v":0,"d":"$0.00"},0,{"v":0,"d":"$0.00"},{"$nulls":91},2]
[{"$f":"IF('VETS-701B Participant Info'!$F14=1,'VETS-701B Participant Info'!$A14,\"  \")","v":"  "},{"$f":"IF('VETS-701B Participant Info'!$F14=1,'VETS-701B Participant Info'!$B14,\"  \")","v":"  "},{"$nulls":4},{"v":0,"d":"$0.00"},{"$nulls":3},{"v":0,"d":"$0.00"},0,{"v":0,"d":"$0.00"},{"$nulls":91},2]
[{"$f":"IF('VETS-701B Participant Info'!$F15=1,'VETS-701B Participant Info'!$A15,\"  \")","v":"  "},{"$f":"IF('VETS-701B Participant Info'!$F15=1,'VETS-701B Participant Info'!$B15,\"  \")","v":"  "},{"$nulls":4},{"v":0,"d":"$0.00"},{"$nulls":3},{"v":0,"d":"$0.00"},0,{"v":0,"d":"$0.00"},{"$nulls":91},2]
[{"$f":"IF('VETS-701B Participant Info'!$F16=1,'VETS-701B Participant Info'!$A16,\"  \")","v":"  "},{"$f":"IF('VETS-701B Participant Info'!$F16=1,'VETS-701B Participant Info'!$B16,\"  \")","v":"  "},{"$nulls":4},{"v":0,"d":"$0.00"},{"$nulls":3},{"v":0,"d":"$0.00"},0,{"v":0,"d":"$0.00"},{"$nulls":91},2]
[{"$f":"IF('VETS-701B Participant Info'!$F17=1,'VETS-701B Participant Info'!$A17,\"  \")","v":"  "},{"$f":"IF('VETS-701B Participant Info'!$F17=1,'VETS-701B Participant Info'!$B17,\"  \")","v":"  "},{"$nulls":4},{"v":0,"d":"$0.00"},{"$nulls":3},{"v":0,"d":"$0.00"},0,{"v":0,"d":"$0.00"},{"$nulls":91},2]
[{"$f":"IF('VETS-701B Participant Info'!$F18=1,'VETS-701B Participant Info'!$A18,\"  \")","v":"  "},{"$f":"IF('VETS-701B Participant Info'!$F18=1,'VETS-701B Participant Info'!$B18,\"  \")","v":"  "},{"$nulls":4},{"v":0,"d":"$0.00"},{"$nulls":3},{"v":0,"d":"$0.00"},0,{"v":0,"d":"$0.00"},{"$nulls":91},2]
[{"$f":"IF('VETS-701B Participant Info'!$F19=1,'VETS-701B Participant Info'!$A19,\"  \")","v":"  "},{"$f":"IF('VETS-701B Participant Info'!$F19=1,'VETS-701B Participant Info'!$B19,\"  \")","v":"  "},{"$nulls":4},{"v":0,"d":"$0.00"},{"$nulls":3},{"v":0,"d":"$0.00"},0,{"v":0,"d":"$0.00"},{"$nulls":91},2]
[{"$f":"IF('VETS-701B Participant Info'!$F20=1,'VETS-701B Participant Info'!$A20,\"  \")","v":"  "},{"$f":"IF('VETS-701B Participant Info'!$F20=1,'VETS-701B Participant Info'!$B20,\"  \")","v":"  "},{"$nulls":4},{"v":0,"d":"$0.00"},{"$nulls":3},{"v":0,"d":"$0.00"},0,{"v":0,"d":"$0.00"},{"$nulls":91},2]
[{"$f":"IF('VETS-701B Participant Info'!$F21=1,'VETS-701B Participant Info'!$A21,\"  \")","v":"  "},{"$f":"IF('VETS-701B Participant Info'!$F21=1,'VETS-701B Participant Info'!$B21,\"  \")","v":"  "},{"$nulls":4},{"v":0,"d":"$0.00"},{"$nulls":3},{"v":0,"d":"$0.00"},0,{"v":0,"d":"$0.00"},{"$nulls":91},2]
[{"$f":"IF('VETS-701B Participant Info'!$F22=1,'VETS-701B Participant Info'!$A22,\"  \")","v":"  "},{"$f":"IF('VETS-701B Participant Info'!$F22=1,'VETS-701B Participant Info'!$B22,\"  \")","v":"  "},{"$nulls":4},{"v":0,"d":"$0.00"},{"$nulls":3},{"v":0,"d":"$0.00"},0,{"v":0,"d":"$0.00"},{"$nulls":91},2]
[{"$f":"IF('VETS-701B Participant Info'!$F23=1,'VETS-701B Participant Info'!$A23,\"  \")","v":"  "},{"$f":"IF('VETS-701B Participant Info'!$F23=1,'VETS-701B Participant Info'!$B23,\"  \")","v":"  "},{"$nulls":4},{"v":0,"d":"$0.00"},{"$nulls":3},{"v":0,"d":"$0.00"},0,{"v":0,"d":"$0.00"},{"$nulls":91},2]
[{"$f":"IF('VETS-701B Participant Info'!$F24=1,'VETS-701B Participant Info'!$A24,\"  \")","v":"  "},{"$f":"IF('VETS-701B Participant Info'!$F24=1,'VETS-701B Participant Info'!$B24,\"  \")","v":"  "},{"$nulls":4},{"v":0,"d":"$0.00"},{"$nulls":3},{"v":0,"d":"$0.00"},0,{"v":0,"d":"$0.00"},{"$nulls":91},2]
[{"$f":"IF('VETS-701B Participant Info'!$F25=1,'VETS-701B Participant Info'!$A25,\"  \")","v":"  "},{"$f":"IF('VETS-701B Participant Info'!$F25=1,'VETS-701B Participant Info'!$B25,\"  \")","v":"  "},{"$nulls":4},{"v":0,"d":"$0.00"},{"$nulls":3},{"v":0,"d":"$0.00"},0,{"v":0,"d":"$0.00"},{"$nulls":91},2]
[{"$f":"IF('VETS-701B Participant Info'!$F26=1,'VETS-701B Participant Info'!$A26,\"  \")","v":"  "},{"$f":"IF('VETS-701B Participant Info'!$F26=1,'VETS-701B Participant Info'!$B26,\"  \")","v":"  "},{"$nulls":4},{"v":0,"d":"$0.00"},{"$nulls":3},{"v":0,"d":"$0.00"},0,{"v":0,"d":"$0.00"},{"$nulls":91},2]
[{"$f":"IF('VETS-701B Participant Info'!$F27=1,'VETS-701B Participant Info'!$A27,\"  \")","v":"  "},{"$f":"IF('VETS-701B Participant Info'!$F27=1,'VETS-701B Participant Info'!$B27,\"  \")","v":"  "},{"$nulls":4},{"v":0,"d":"$0.00"},{"$nulls":3},{"v":0,"d":"$0.00"},0,{"v":0,"d":"$0.00"},{"$nulls":91},2]
[{"$f":"IF('VETS-701B Participant Info'!$F28=1,'VETS-701B Participant Info'!$A28,\"  \")","v":"  "},{"$f":"IF('VETS-701B Participant Info'!$F28=1,'VETS-701B Participant Info'!$B28,\"  \")","v":"  "},{"$nulls":4},{"v":0,"d":"$0.00"},{"$nulls":3},{"v":0,"d":"$0.00"},0,{"v":0,"d":"$0.00"},{"$nulls":91},2]
[{"$f":"IF('VETS-701B Participant Info'!$F29=1,'VETS-701B Participant Info'!$A29,\"  \")","v":"  "},{"$f":"IF('VETS-701B Participant Info'!$F29=1,'VETS-701B Participant Info'!$B29,\"  \")","v":"  "},{"$nulls":4},{"v":0,"d":"$0.00"},{"$nulls":3},{"v":0,"d":"$0.00"},0,{"v":0,"d":"$0.00"},{"$nulls":91},2]
[{"$f":"IF('VETS-701B Participant Info'!$F30=1,'VETS-701B Participant Info'!$A30,\"  \")","v":"  "},{"$f":"IF('VETS-701B Participant Info'!$F30=1,'VETS-701B Participant Info'!$B30,\"  \")","v":"  "},{"$nulls":4},{"v":0,"d":"$0.00"},{"$nulls":3},{"v":0,"d":"$0.00"},0,{"v":0,"d":"$0.00"},{"$nulls":91},2]
[{"$f":"IF('VETS-701B Participant Info'!$F31=1,'VETS-701B Participant Info'!$A31,\"  \")","v":"  "},{"$f":"IF('VETS-701B Participant Info'!$F31=1,'VETS-701B Participant Info'!$B31,\"  \")","v":"  "},{"$nulls":4},{"v":0,"d":"$0.00"},{"$nulls":3},{"v":0,"d":"$0.00"},0,{"v":0,"d":"$0.00"},{"$nulls":91},2]
[{"$f":"IF('VETS-701B Participant Info'!$F32=1,'VETS-701B Participant Info'!$A32,\"  \")","v":"  "},{"$f":"IF('VETS-701B Participant Info'!$F32=1,'VETS-701B Participant Info'!$B32,\"  \")","v":"  "},{"$nulls":4},{"v":0,"d":"$0.00"},{"$nulls":3},{"v":0,"d":"$0.00"},0,{"v":0,"d":"$0.00"},{"$nulls":91},2]
[{"$f":"IF('VETS-701B Participant Info'!$F33=1,'VETS-701B Participant Info'!$A33,\"  \")","v":"  "},{"$f":"IF('VETS-701B Participant Info'!$F33=1,'VETS-701B Participant Info'!$B33,\"  \")","v":"  "},{"$nulls":4},{"v":0,"d":"$0.00"},{"$nulls":3},{"v":0,"d":"$0.00"},0,{"v":0,"d":"$0.00"},{"$nulls":91},2]
[{"$f":"IF('VETS-701B Participant Info'!$F34=1,'VETS-701B Participant Info'!$A34,\"  \")","v":"  "},{"$f":"IF('VETS-701B Participant Info'!$F34=1,'VETS-701B Participant Info'!$B34,\"  \")","v":"  "},{"$nulls":4},{"$f":"SUM(E37*F37*13)","v":{"v":0,"d":"$0.00"}},{"$nulls":3},{"$f":"SUM(I37*J37*13)","v":{"v":0,"d":"$0.00"}},{"$f":"SUM(H37+D37+C37)","v":0},{"$f":"IF(L37=3,K37+G37,0)","v":{"v":0,"d":"$0.00"}},{"$nulls":91},2]
[{"$f":"IF('VETS-701B Participant Info'!$F35=1,'VETS-701B Participant Info'!$A35,\"  \")","v":"  "},{"$f":"IF('VETS-701B Participant Info'!$F35=1,'VETS-701B Participant Info'!$B35,\"  \")","v":"  "},{"$nulls":4},{"v":0,"d":"$0.00"},{"$nulls":3},{"v":0,"d":"$0.00"},0,{"v":0,"d":"$0.00"},{"$nulls":91},2]
[{"$f":"IF('VETS-701B Participant Info'!$F36=1,'VETS-701B Participant Info'!$A36,\"  \")","v":"  "},{"$f":"IF('VETS-701B Participant Info'!$F36=1,'VETS-701B Participant Info'!$B36,\"  \")","v":"  "},{"$nulls":4},{"v":0,"d":"$0.00"},{"$nulls":3},{"v":0,"d":"$0.00"},0,{"v":0,"d":"$0.00"},{"$nulls":91},2]
[{"$f":"IF('VETS-701B Participant Info'!$F37=1,'VETS-701B Participant Info'!$A37,\"  \")","v":"  "},{"$f":"IF('VETS-701B Participant Info'!$F37=1,'VETS-701B Participant Info'!$B37,\"  \")","v":"  "},{"$nulls":4},{"v":0,"d":"$0.00"},{"$nulls":3},{"v":0,"d":"$0.00"},0,{"v":0,"d":"$0.00"},{"$nulls":91},2]
[{"$f":"IF('VETS-701B Participant Info'!$F38=1,'VETS-701B Participant Info'!$A38,\"  \")","v":"  "},{"$f":"IF('VETS-701B Participant Info'!$F38=1,'VETS-701B Participant Info'!$B38,\"  \")","v":"  "},{"$nulls":4},{"v":0,"d":"$0.00"},{"$nulls":3},{"v":0,"d":"$0.00"},0,{"v":0,"d":"$0.00"},{"$nulls":91},2]
[{"$f":"IF('VETS-701B Participant Info'!$F39=1,'VETS-701B Participant Info'!$A39,\"  \")","v":"  "},{"$f":"IF('VETS-701B Participant Info'!$F39=1,'VETS-701B Participant Info'!$B39,\"  \")","v":"  "},{"$nulls":4},{"v":0,"d":"$0.00"},{"$nulls":3},{"v":0,"d":"$0.00"},0,{"v":0,"d":"$0.00"},{"$nulls":91},2]
[{"$f":"IF('VETS-701B Participant Info'!$F40=1,'VETS-701B Participant Info'!$A40,\"  \")","v":"  "},{"$f":"IF('VETS-701B Participant Info'!$F40=1,'VETS-701B Participant Info'!$B40,\"  \")","v":"  "},{"$nulls":4},{"v":0,"d":"$0.00"},{"$nulls":3},{"v":0,"d":"$0.00"},0,{"v":0,"d":"$0.00"},{"$nulls":91},2]
[{"$f":"IF('VETS-701B Participant Info'!$F41=1,'VETS-701B Participant Info'!$A41,\"  \")","v":"  "},{"$f":"IF('VETS-701B Participant Info'!$F41=1,'VETS-701B Participant Info'!$B41,\"  \")","v":"  "},{"$nulls":4},{"v":0,"d":"$0.00"},{"$nulls":3},{"v":0,"d":"$0.00"},0,{"v":0,"d":"$0.00"},{"$nulls":91},2]
[{"$f":"IF('VETS-701B Participant Info'!$F42=1,'VETS-701B Participant Info'!$A42,\"  \")","v":"  "},{"$f":"IF('VETS-701B Participant Info'!$F42=1,'VETS-701B Participant Info'!$B42,\"  \")","v":"  "},{"$nulls":4},{"v":0,"d":"$0.00"},{"$nulls":3},{"v":0,"d":"$0.00"},0,{"v":0,"d":"$0.00"},{"$nulls":91},2]
[{"$f":"IF('VETS-701B Participant Info'!$F43=1,'VETS-701B Participant Info'!$A43,\"  \")","v":"  "},{"$f":"IF('VETS-701B Participant Info'!$F43=1,'VETS-701B Participant Info'!$B43,\"  \")","v":"  "},{"$nulls":4},{"v":0,"d":"$0.00"},{"$nulls":3},{"v":0,"d":"$0.00"},0,{"v":0,"d":"$0.00"},{"$nulls":91},2]
[{"$f":"IF('VETS-701B Participant Info'!$F44=1,'VETS-701B Participant Info'!$A44,\"  \")","v":"  "},{"$f":"IF('VETS-701B Participant Info'!$F44=1,'VETS-701B Participant Info'!$B44,\"  \")","v":"  "},{"$nulls":4},{"v":0,"d":"$0.00"},{"$nulls":3},{"v":0,"d":"$0.00"},0,{"v":0,"d":"$0.00"},{"$nulls":91},2]
[{"$f":"IF('VETS-701B Participant Info'!$F45=1,'VETS-701B Participant Info'!$A45,\"  \")","v":"  "},{"$f":"IF('VETS-701B Participant Info'!$F45=1,'VETS-701B Participant Info'!$B45,\"  \")","v":"  "},{"$nulls":4},{"v":0,"d":"$0.00"},{"$nulls":3},{"v":0,"d":"$0.00"},0,{"v":0,"d":"$0.00"},{"$nulls":91},2]
[{"$f":"IF('VETS-701B Participant Info'!$F46=1,'VETS-701B Participant Info'!$A46,\"  \")","v":"  "},{"$f":"IF('VETS-701B Participant Info'!$F46=1,'VETS-701B Participant Info'!$B46,\"  \")","v":"  "},{"$nulls":4},{"v":0,"d":"$0.00"},{"$nulls":3},{"v":0,"d":"$0.00"},0,{"v":0,"d":"$0.00"},{"$nulls":91},2]
[{"$f":"IF('VETS-701B Participant Info'!$F47=1,'VETS-701B Participant Info'!$A47,\"  \")","v":"  "},{"$f":"IF('VETS-701B Participant Info'!$F47=1,'VETS-701B Participant Info'!$B47,\"  \")","v":"  "},{"$nulls":4},{"v":0,"d":"$0.00"},{"$nulls":3},{"v":0,"d":"$0.00"},0,{"v":0,"d":"$0.00"},{"$nulls":91},2]
[{"$f":"IF('VETS-701B Participant Info'!$F48=1,'VETS-701B Participant Info'!$A48,\"  \")","v":"  "},{"$f":"IF('VETS-701B Participant Info'!$F48=1,'VETS-701B Participant Info'!$B48,\"  \")","v":"  "},{"$nulls":4},{"v":0,"d":"$0.00"},{"$nulls":3},{"v":0,"d":"$0.00"},0,{"v":0,"d":"$0.00"},{"$nulls":91},2]
[{"$f":"IF('VETS-701B Participant Info'!$F49=1,'VETS-701B Participant Info'!$A49,\"  \")","v":"  "},{"$f":"IF('VETS-701B Participant Info'!$F49=1,'VETS-701B Participant Info'!$B49,\"  \")","v":"  "},{"$nulls":4},{"v":0,"d":"$0.00"},{"$nulls":3},{"v":0,"d":"$0.00"},0,{"v":0,"d":"$0.00"},{"$nulls":91},2]
[{"$f":"IF('VETS-701B Participant Info'!$F50=1,'VETS-701B Participant Info'!$A50,\"  \")","v":"  "},{"$f":"IF('VETS-701B Participant Info'!$F50=1,'VETS-701B Participant Info'!$B50,\"  \")","v":"  "},{"$nulls":4},{"v":0,"d":"$0.00"},{"$nulls":3},{"v":0,"d":"$0.00"},0,{"v":0,"d":"$0.00"},{"$nulls":91},2]
[{"$f":"IF('VETS-701B Participant Info'!$F51=1,'VETS-701B Participant Info'!$A51,\"  \")","v":"  "},{"$f":"IF('VETS-701B Participant Info'!$F51=1,'VETS-701B Participant Info'!$B51,\"  \")","v":"  "},{"$nulls":4},{"v":0,"d":"$0.00"},{"$nulls":3},{"v":0,"d":"$0.00"},0,{"v":0,"d":"$0.00"},{"$nulls":91},2]
[{"$f":"IF('VETS-701B Participant Info'!$F52=1,'VETS-701B Participant Info'!$A52,\"  \")","v":"  "},{"$f":"IF('VETS-701B Participant Info'!$F52=1,'VETS-701B Participant Info'!$B52,\"  \")","v":"  "},{"$nulls":4},{"v":0,"d":"$0.00"},{"$nulls":3},{"v":0,"d":"$0.00"},0,{"v":0,"d":"$0.00"},{"$nulls":91},2]
[{"$f":"IF('VETS-701B Participant Info'!$F53=1,'VETS-701B Participant Info'!$A53,\"  \")","v":"  "},{"$f":"IF('VETS-701B Participant Info'!$F53=1,'VETS-701B Participant Info'!$B53,\"  \")","v":"  "},{"$nulls":4},{"v":0,"d":"$0.00"},{"$nulls":3},{"v":0,"d":"$0.00"},0,{"v":0,"d":"$0.00"},{"$nulls":91},2]
[{"$f":"IF('VETS-701B Participant Info'!$F54=1,'VETS-701B Participant Info'!$A54,\"  \")","v":"  "},{"$f":"IF('VETS-701B Participant Info'!$F54=1,'VETS-701B Participant Info'!$B54,\"  \")","v":"  "},{"$nulls":4},{"v":0,"d":"$0.00"},{"$nulls":3},{"v":0,"d":"$0.00"},0,{"v":0,"d":"$0.00"},{"$nulls":91},2]
[{"$f":"IF('VETS-701B Participant Info'!$F55=1,'VETS-701B Participant Info'!$A55,\"  \")","v":"  "},{"$f":"IF('VETS-701B Participant Info'!$F55=1,'VETS-701B Participant Info'!$B55,\"  \")","v":"  "},{"$nulls":4},{"v":0,"d":"$0.00"},{"$nulls":3},{"v":0,"d":"$0.00"},0,{"v":0,"d":"$0.00"},{"$nulls":91},2]
[{"$f":"IF('VETS-701B Participant Info'!$F56=1,'VETS-701B Participant Info'!$A56,\"  \")","v":"  "},{"$f":"IF('VETS-701B Participant Info'!$F56=1,'VETS-701B Participant Info'!$B56,\"  \")","v":"  "},{"$nulls":4},{"v":0,"d":"$0.00"},{"$nulls":3},{"v":0,"d":"$0.00"},0,{"v":0,"d":"$0.00"},{"$nulls":91},2]
[{"$f":"IF('VETS-701B Participant Info'!$F57=1,'VETS-701B Participant Info'!$A57,\"  \")","v":"  "},{"$f":"IF('VETS-701B Participant Info'!$F57=1,'VETS-701B Participant Info'!$B57,\"  \")","v":"  "},{"$nulls":4},{"v":0,"d":"$0.00"},{"$nulls":3},{"v":0,"d":"$0.00"},0,{"v":0,"d":"$0.00"},{"$nulls":91},2]
[{"$f":"IF('VETS-701B Participant Info'!$F58=1,'VETS-701B Participant Info'!$A58,\"  \")","v":"  "},{"$f":"IF('VETS-701B Participant Info'!$F58=1,'VETS-701B Participant Info'!$B58,\"  \")","v":"  "},{"$nulls":4},{"v":0,"d":"$0.00"},{"$nulls":3},{"v":0,"d":"$0.00"},0,{"v":0,"d":"$0.00"},{"$nulls":91},2]
[{"$f":"IF('VETS-701B Participant Info'!$F59=1,'VETS-701B Participant Info'!$A59,\"  \")","v":"  "},{"$f":"IF('VETS-701B Participant Info'!$F59=1,'VETS-701B Participant Info'!$B59,\"  \")","v":"  "},{"$nulls":4},{"v":0,"d":"$0.00"},{"$nulls":3},{"v":0,"d":"$0.00"},0,{"v":0,"d":"$0.00"},{"$nulls":91},2]
[{"$f":"IF('VETS-701B Participant Info'!$F60=1,'VETS-701B Participant Info'!$A60,\"  \")","v":"  "},{"$f":"IF('VETS-701B Participant Info'!$F60=1,'VETS-701B Participant Info'!$B60,\"  \")","v":"  "},{"$nulls":4},{"v":0,"d":"$0.00"},{"$nulls":3},{"v":0,"d":"$0.00"},0,{"v":0,"d":"$0.00"},{"$nulls":91},2]
[{"$f":"IF('VETS-701B Participant Info'!$F61=1,'VETS-701B Participant Info'!$A61,\"  \")","v":"  "},{"$f":"IF('VETS-701B Participant Info'!$F61=1,'VETS-701B Participant Info'!$B61,\"  \")","v":"  "},{"$nulls":4},{"v":0,"d":"$0.00"},{"$nulls":3},{"v":0,"d":"$0.00"},0,{"v":0,"d":"$0.00"},{"$nulls":91},2]
[{"$f":"IF('VETS-701B Participant Info'!$F62=1,'VETS-701B Participant Info'!$A62,\"  \")","v":"  "},{"$f":"IF('VETS-701B Participant Info'!$F62=1,'VETS-701B Participant Info'!$B62,\"  \")","v":"  "},{"$nulls":4},{"v":0,"d":"$0.00"},{"$nulls":3},{"v":0,"d":"$0.00"},0,{"v":0,"d":"$0.00"},{"$nulls":91},2]
[{"$f":"IF('VETS-701B Participant Info'!$F63=1,'VETS-701B Participant Info'!$A63,\"  \")","v":"  "},{"$f":"IF('VETS-701B Participant Info'!$F63=1,'VETS-701B Participant Info'!$B63,\"  \")","v":"  "},{"$nulls":4},{"v":0,"d":"$0.00"},{"$nulls":3},{"v":0,"d":"$0.00"},0,{"v":0,"d":"$0.00"},{"$nulls":91},2]
[{"$f":"IF('VETS-701B Participant Info'!$F64=1,'VETS-701B Participant Info'!$A64,\"  \")","v":"  "},{"$f":"IF('VETS-701B Participant Info'!$F64=1,'VETS-701B Participant Info'!$B64,\"  \")","v":"  "},{"$nulls":4},{"v":0,"d":"$0.00"},{"$nulls":3},{"v":0,"d":"$0.00"},0,{"v":0,"d":"$0.00"},{"$nulls":91},2]
[{"$f":"IF('VETS-701B Participant Info'!$F65=1,'VETS-701B Participant Info'!$A65,\"  \")","v":"  "},{"$f":"IF('VETS-701B Participant Info'!$F65=1,'VETS-701B Participant Info'!$B65,\"  \")","v":"  "},{"$nulls":4},{"v":0,"d":"$0.00"},{"$nulls":3},{"v":0,"d":"$0.00"},0,{"v":0,"d":"$0.00"},{"$nulls":91},2]
[{"$f":"IF('VETS-701B Participant Info'!$F66=1,'VETS-701B Participant Info'!$A66,\"  \")","v":"  "},{"$f":"IF('VETS-701B Participant Info'!$F66=1,'VETS-701B Participant Info'!$B66,\"  \")","v":"  "},{"$nulls":4},{"$f":"SUM(E69*F69*13)","v":{"v":0,"d":"$0.00"}},{"$nulls":3},{"$f":"SUM(I69*J69*13)","v":{"v":0,"d":"$0.00"}},{"$f":"SUM(H69+D69+C69)","v":0},{"$f":"IF(L69=3,K69+G69,0)","v":{"v":0,"d":"$0.00"}},{"$nulls":91},2]
[{"$f":"IF('VETS-701B Participant Info'!$F67=1,'VETS-701B Participant Info'!$A67,\"  \")","v":"  "},{"$f":"IF('VETS-701B Participant Info'!$F67=1,'VETS-701B Participant Info'!$B67,\"  \")","v":"  "},{"$nulls":4},{"v":0,"d":"$0.00"},{"$nulls":3},{"v":0,"d":"$0.00"},0,{"v":0,"d":"$0.00"},{"$nulls":91},{"$f":"IF($B70> \"             \",1,2)","v":2}]
[{"$f":"IF('VETS-701B Participant Info'!$F68=1,'VETS-701B Participant Info'!$A68,\"  \")","v":"  "},{"$f":"IF('VETS-701B Participant Info'!$F68=1,'VETS-701B Participant Info'!$B68,\"  \")","v":"  "},{"$nulls":4},{"v":0,"d":"$0.00"},{"$nulls":3},{"v":0,"d":"$0.00"},0,{"v":0,"d":"$0.00"},{"$nulls":91},2]
[{"$f":"IF('VETS-701B Participant Info'!$F69=1,'VETS-701B Participant Info'!$A69,\"  \")","v":"  "},{"$f":"IF('VETS-701B Participant Info'!$F69=1,'VETS-701B Participant Info'!$B69,\"  \")","v":"  "},{"$nulls":4},{"v":0,"d":"$0.00"},{"$nulls":3},{"v":0,"d":"$0.00"},0,{"v":0,"d":"$0.00"},{"$nulls":91},2]
[{"$f":"IF('VETS-701B Participant Info'!$F70=1,'VETS-701B Participant Info'!$A70,\"  \")","v":"  "},{"$f":"IF('VETS-701B Participant Info'!$F70=1,'VETS-701B Participant Info'!$B70,\"  \")","v":"  "},{"$nulls":4},{"v":0,"d":"$0.00"},{"$nulls":3},{"v":0,"d":"$0.00"},0,{"v":0,"d":"$0.00"},{"$nulls":91},2]
[{"$f":"IF('VETS-701B Participant Info'!$F71=1,'VETS-701B Participant Info'!$A71,\"  \")","v":"  "},{"$f":"IF('VETS-701B Participant Info'!$F71=1,'VETS-701B Participant Info'!$B71,\"  \")","v":"  "},{"$nulls":4},{"v":0,"d":"$0.00"},{"$nulls":3},{"v":0,"d":"$0.00"},0,{"v":0,"d":"$0.00"},{"$nulls":91},2]
[{"$f":"IF('VETS-701B Participant Info'!$F72=1,'VETS-701B Participant Info'!$A72,\"  \")","v":"  "},{"$f":"IF('VETS-701B Participant Info'!$F72=1,'VETS-701B Participant Info'!$B72,\"  \")","v":"  "},{"$nulls":4},{"v":0,"d":"$0.00"},{"$nulls":3},{"v":0,"d":"$0.00"},0,{"v":0,"d":"$0.00"},{"$nulls":91},2]
[{"$f":"IF('VETS-701B Participant Info'!$F73=1,'VETS-701B Participant Info'!$A73,\"  \")","v":"  "},{"$f":"IF('VETS-701B Participant Info'!$F73=1,'VETS-701B Participant Info'!$B73,\"  \")","v":"  "},{"$nulls":4},{"v":0,"d":"$0.00"},{"$nulls":3},{"v":0,"d":"$0.00"},0,{"v":0,"d":"$0.00"},{"$nulls":91},2]
[{"$f":"IF('VETS-701B Participant Info'!$F74=1,'VETS-701B Participant Info'!$A74,\"  \")","v":"  "},{"$f":"IF('VETS-701B Participant Info'!$F74=1,'VETS-701B Participant Info'!$B74,\"  \")","v":"  "},{"$nulls":4},{"v":0,"d":"$0.00"},{"$nulls":3},{"v":0,"d":"$0.00"},0,{"v":0,"d":"$0.00"},{"$nulls":91},2]
[{"$f":"IF('VETS-701B Participant Info'!$F75=1,'VETS-701B Participant Info'!$A75,\"  \")","v":"  "},{"$f":"IF('VETS-701B Participant Info'!$F75=1,'VETS-701B Participant Info'!$B75,\"  \")","v":"  "},{"$nulls":4},{"v":0,"d":"$0.00"},{"$nulls":3},{"v":0,"d":"$0.00"},0,{"v":0,"d":"$0.00"},{"$nulls":91},2]
[{"$f":"IF('VETS-701B Participant Info'!$F76=1,'VETS-701B Participant Info'!$A76,\"  \")","v":"  "},{"$f":"IF('VETS-701B Participant Info'!$F76=1,'VETS-701B Participant Info'!$B76,\"  \")","v":"  "},{"$nulls":4},{"v":0,"d":"$0.00"},{"$nulls":3},{"v":0,"d":"$0.00"},0,{"v":0,"d":"$0.00"},{"$nulls":91},2]
[{"$f":"IF('VETS-701B Participant Info'!$F77=1,'VETS-701B Participant Info'!$A77,\"  \")","v":"  "},{"$f":"IF('VETS-701B Participant Info'!$F77=1,'VETS-701B Participant Info'!$B77,\"  \")","v":"  "},{"$nulls":4},{"v":0,"d":"$0.00"},{"$nulls":3},{"v":0,"d":"$0.00"},0,{"v":0,"d":"$0.00"},{"$nulls":91},2]
[{"$f":"IF('VETS-701B Participant Info'!$F78=1,'VETS-701B Participant Info'!$A78,\"  \")","v":"  "},{"$f":"IF('VETS-701B Participant Info'!$F78=1,'VETS-701B Participant Info'!$B78,\"  \")","v":"  "},{"$nulls":4},{"v":0,"d":"$0.00"},{"$nulls":3},{"v":0,"d":"$0.00"},0,{"v":0,"d":"$0.00"},{"$nulls":91},2]
[{"$f":"IF('VETS-701B Participant Info'!$F79=1,'VETS-701B Participant Info'!$A79,\"  \")","v":"  "},{"$f":"IF('VETS-701B Participant Info'!$F79=1,'VETS-701B Participant Info'!$B79,\"  \")","v":"  "},{"$nulls":4},{"v":0,"d":"$0.00"},{"$nulls":3},{"v":0,"d":"$0.00"},0,{"v":0,"d":"$0.00"},{"$nulls":91},2]
[{"$f":"IF('VETS-701B Participant Info'!$F80=1,'VETS-701B Participant Info'!$A80,\"  \")","v":"  "},{"$f":"IF('VETS-701B Participant Info'!$F80=1,'VETS-701B Participant Info'!$B80,\"  \")","v":"  "},{"$nulls":4},{"v":0,"d":"$0.00"},{"$nulls":3},{"v":0,"d":"$0.00"},0,{"v":0,"d":"$0.00"},{"$nulls":91},2]
[{"$f":"IF('VETS-701B Participant Info'!$F81=1,'VETS-701B Participant Info'!$A81,\"  \")","v":"  "},{"$f":"IF('VETS-701B Participant Info'!$F81=1,'VETS-701B Participant Info'!$B81,\"  \")","v":"  "},{"$nulls":4},{"v":0,"d":"$0.00"},{"$nulls":3},{"v":0,"d":"$0.00"},0,{"v":0,"d":"$0.00"},{"$nulls":91},2]
[{"$f":"IF('VETS-701B Participant Info'!$F82=1,'VETS-701B Participant Info'!$A82,\"  \")","v":"  "},{"$f":"IF('VETS-701B Participant Info'!$F82=1,'VETS-701B Participant Info'!$B82,\"  \")","v":"  "},{"$nulls":4},{"v":0,"d":"$0.00"},{"$nulls":3},{"v":0,"d":"$0.00"},0,{"v":0,"d":"$0.00"},{"$nulls":91},2]
[{"$f":"IF('VETS-701B Participant Info'!$F83=1,'VETS-701B Participant Info'!$A83,\"  \")","v":"  "},{"$f":"IF('VETS-701B Participant Info'!$F83=1,'VETS-701B Participant Info'!$B83,\"  \")","v":"  "},{"$nulls":4},{"v":0,"d":"$0.00"},{"$nulls":3},{"v":0,"d":"$0.00"},0,{"v":0,"d":"$0.00"},{"$nulls":91},2]
[{"$f":"IF('VETS-701B Participant Info'!$F84=1,'VETS-701B Participant Info'!$A84,\"  \")","v":"  "},{"$f":"IF('VETS-701B Participant Info'!$F84=1,'VETS-701B Participant Info'!$B84,\"  \")","v":"  "},{"$nulls":4},{"v":0,"d":"$0.00"},{"$nulls":3},{"v":0,"d":"$0.00"},0,{"v":0,"d":"$0.00"},{"$nulls":91},2]
[{"$f":"IF('VETS-701B Participant Info'!$F85=1,'VETS-701B Participant Info'!$A85,\"  \")","v":"  "},{"$f":"IF('VETS-701B Participant Info'!$F85=1,'VETS-701B Participant Info'!$B85,\"  \")","v":"  "},{"$nulls":4},{"v":0,"d":"$0.00"},{"$nulls":3},{"v":0,"d":"$0.00"},0,{"v":0,"d":"$0.00"},{"$nulls":91},2]
[{"$f":"IF('VETS-701B Participant Info'!$F86=1,'VETS-701B Participant Info'!$A86,\"  \")","v":"  "},{"$f":"IF('VETS-701B Participant Info'!$F86=1,'VETS-701B Participant Info'!$B86,\"  \")","v":"  "},{"$nulls":4},{"v":0,"d":"$0.00"},{"$nulls":3},{"v":0,"d":"$0.00"},0,{"v":0,"d":"$0.00"},{"$nulls":91},2]
[{"$f":"IF('VETS-701B Participant Info'!$F87=1,'VETS-701B Participant Info'!$A87,\"  \")","v":"  "},{"$f":"IF('VETS-701B Participant Info'!$F87=1,'VETS-701B Participant Info'!$B87,\"  \")","v":"  "},{"$nulls":4},{"v":0,"d":"$0.00"},{"$nulls":3},{"v":0,"d":"$0.00"},0,{"v":0,"d":"$0.00"},{"$nulls":91},2]
[{"$f":"IF('VETS-701B Participant Info'!$F88=1,'VETS-701B Participant Info'!$A88,\"  \")","v":"  "},{"$f":"IF('VETS-701B Participant Info'!$F88=1,'VETS-701B Participant Info'!$B88,\"  \")","v":"  "},{"$nulls":4},{"v":0,"d":"$0.00"},{"$nulls":3},{"v":0,"d":"$0.00"},0,{"v":0,"d":"$0.00"},{"$nulls":91},2]
[{"$f":"IF('VETS-701B Participant Info'!$F89=1,'VETS-701B Participant Info'!$A89,\"  \")","v":"  "},{"$f":"IF('VETS-701B Participant Info'!$F89=1,'VETS-701B Participant Info'!$B89,\"  \")","v":"  "},{"$nulls":4},{"v":0,"d":"$0.00"},{"$nulls":3},{"v":0,"d":"$0.00"},0,{"v":0,"d":"$0.00"},{"$nulls":91},2]
[{"$f":"IF('VETS-701B Participant Info'!$F90=1,'VETS-701B Participant Info'!$A90,\"  \")","v":"  "},{"$f":"IF('VETS-701B Participant Info'!$F90=1,'VETS-701B Participant Info'!$B90,\"  \")","v":"  "},{"$nulls":4},{"v":0,"d":"$0.00"},{"$nulls":3},{"v":0,"d":"$0.00"},0,{"v":0,"d":"$0.00"},{"$nulls":91},2]
[{"$f":"IF('VETS-701B Participant Info'!$F91=1,'VETS-701B Participant Info'!$A91,\"  \")","v":"  "},{"$f":"IF('VETS-701B Participant Info'!$F91=1,'VETS-701B Participant Info'!$B91,\"  \")","v":"  "},{"$nulls":4},{"v":0,"d":"$0.00"},{"$nulls":3},{"v":0,"d":"$0.00"},0,{"v":0,"d":"$0.00"},{"$nulls":91},2]
[{"$f":"IF('VETS-701B Participant Info'!$F92=1,'VETS-701B Participant Info'!$A92,\"  \")","v":"  "},{"$f":"IF('VETS-701B Participant Info'!$F92=1,'VETS-701B Participant Info'!$B92,\"  \")","v":"  "},{"$nulls":4},{"v":0,"d":"$0.00"},{"$nulls":3},{"v":0,"d":"$0.00"},0,{"v":0,"d":"$0.00"},{"$nulls":91},2]
[{"$f":"IF('VETS-701B Participant Info'!$F93=1,'VETS-701B Participant Info'!$A93,\"  \")","v":"  "},{"$f":"IF('VETS-701B Participant Info'!$F93=1,'VETS-701B Participant Info'!$B93,\"  \")","v":"  "},{"$nulls":4},{"v":0,"d":"$0.00"},{"$nulls":3},{"v":0,"d":"$0.00"},0,{"v":0,"d":"$0.00"},{"$nulls":91},2]
[{"$f":"IF('VETS-701B Participant Info'!$F94=1,'VETS-701B Participant Info'!$A94,\"  \")","v":"  "},{"$f":"IF('VETS-701B Participant Info'!$F94=1,'VETS-701B Participant Info'!$B94,\"  \")","v":"  "},{"$nulls":4},{"v":0,"d":"$0.00"},{"$nulls":3},{"v":0,"d":"$0.00"},0,{"v":0,"d":"$0.00"},{"$nulls":91},2]
[{"$f":"IF('VETS-701B Participant Info'!$F95=1,'VETS-701B Participant Info'!$A95,\"  \")","v":"  "},{"$f":"IF('VETS-701B Participant Info'!$F95=1,'VETS-701B Participant Info'!$B95,\"  \")","v":"  "},{"$nulls":4},{"v":0,"d":"$0.00"},{"$nulls":3},{"v":0,"d":"$0.00"},0,{"v":0,"d":"$0.00"},{"$nulls":91},2]
[{"$f":"IF('VETS-701B Participant Info'!$F96=1,'VETS-701B Participant Info'!$A96,\"  \")","v":"  "},{"$f":"IF('VETS-701B Participant Info'!$F96=1,'VETS-701B Participant Info'!$B96,\"  \")","v":"  "},{"$nulls":4},{"v":0,"d":"$0.00"},{"$nulls":3},{"v":0,"d":"$0.00"},0,{"v":0,"d":"$0.00"},{"$nulls":91},2]
[{"$f":"IF('VETS-701B Participant Info'!$F97=1,'VETS-701B Participant Info'!$A97,\"  \")","v":"  "},{"$f":"IF('VETS-701B Participant Info'!$F97=1,'VETS-701B Participant Info'!$B97,\"  \")","v":"  "},{"$nulls":4},{"v":0,"d":"$0.00"},{"$nulls":3},{"v":0,"d":"$0.00"},0,{"v":0,"d":"$0.00"},{"$nulls":91},2]
[{"$f":"IF('VETS-701B Participant Info'!$F98=1,'VETS-701B Participant Info'!$A98,\"  \")","v":"  "},{"$f":"IF('VETS-701B Participant Info'!$F98=1,'VETS-701B Participant Info'!$B98,\"  \")","v":"  "},{"$nulls":4},{"$f":"SUM(E101*F101*13)","v":{"v":0,"d":"$0.00"}},{"$nulls":3},{"$f":"SUM(I101*J101*13)","v":{"v":0,"d":"$0.00"}},{"$f":"SUM(H101+D101+C101)","v":0},{"$f":"IF(L101=3,K101+G101,0)","v":{"v":0,"d":"$0.00"}},{"$nulls":91},2]
[{"$f":"IF('VETS-701B Participant Info'!$F99=1,'VETS-701B Participant Info'!$A99,\"  \")","v":"  "},{"$f":"IF('VETS-701B Participant Info'!$F99=1,'VETS-701B Participant Info'!$B99,\"  \")","v":"  "},{"$nulls":4},{"v":0,"d":"$0.00"},{"$nulls":3},{"v":0,"d":"$0.00"},0,{"v":0,"d":"$0.00"},{"$nulls":91},2]
[{"$f":"IF('VETS-701B Participant Info'!$F100=1,'VETS-701B Participant Info'!$A100,\"  \")","v":"  "},{"$f":"IF('VETS-701B Participant Info'!$F100=1,'VETS-701B Participant Info'!$B100,\"  \")","v":"  "},{"$nulls":4},{"v":0,"d":"$0.00"},{"$nulls":3},{"v":0,"d":"$0.00"},0,{"v":0,"d":"$0.00"},{"$nulls":91},2]
[{"$f":"IF('VETS-701B Participant Info'!$F101=1,'VETS-701B Participant Info'!$A101,\"  \")","v":"  "},{"$f":"IF('VETS-701B Participant Info'!$F101=1,'VETS-701B Participant Info'!$B101,\"  \")","v":"  "},{"$nulls":4},{"v":0,"d":"$0.00"},{"$nulls":3},{"v":0,"d":"$0.00"},0,{"v":0,"d":"$0.00"},{"$nulls":91},2]
[{"$f":"IF('VETS-701B Participant Info'!$F102=1,'VETS-701B Participant Info'!$A102,\"  \")","v":"  "},{"$f":"IF('VETS-701B Participant Info'!$F102=1,'VETS-701B Participant Info'!$B102,\"  \")","v":"  "},{"$nulls":4},{"v":0,"d":"$0.00"},{"$nulls":3},{"v":0,"d":"$0.00"},0,{"v":0,"d":"$0.00"},{"$nulls":91},2]
[{"$f":"IF('VETS-701B Participant Info'!$F103=1,'VETS-701B Participant Info'!$A103,\"  \")","v":"  "},{"$f":"IF('VETS-701B Participant Info'!$F103=1,'VETS-701B Participant Info'!$B103,\"  \")","v":"  "},{"$nulls":4},{"v":0,"d":"$0.00"},{"$nulls":3},{"v":0,"d":"$0.00"},0,{"v":0,"d":"$0.00"},{"$nulls":91},2]
[{"$f":"IF('VETS-701B Participant Info'!$F104=1,'VETS-701B Participant Info'!$A104,\"  \")","v":"  "},{"$f":"IF('VETS-701B Participant Info'!$F104=1,'VETS-701B Participant Info'!$B104,\"  \")","v":"  "},{"$nulls":4},{"v":0,"d":"$0.00"},{"$nulls":3},{"v":0,"d":"$0.00"},0,{"v":0,"d":"$0.00"},{"$nulls":91},2]
[{"$f":"IF('VETS-701B Participant Info'!$F105=1,'VETS-701B Participant Info'!$A105,\"  \")","v":"  "},{"$f":"IF('VETS-701B Participant Info'!$F105=1,'VETS-701B Participant Info'!$B105,\"  \")","v":"  "},{"$nulls":4},{"v":0,"d":"$0.00"},{"$nulls":3},{"v":0,"d":"$0.00"},0,{"v":0,"d":"$0.00"},{"$nulls":91},2]
[{"$f":"IF('VETS-701B Participant Info'!$F106=1,'VETS-701B Participant Info'!$A106,\"  \")","v":"  "},{"$f":"IF('VETS-701B Participant Info'!$F106=1,'VETS-701B Participant Info'!$B106,\"  \")","v":"  "},{"$nulls":4},{"v":0,"d":"$0.00"},{"$nulls":3},{"v":0,"d":"$0.00"},0,{"v":0,"d":"$0.00"},{"$nulls":91},2]
[{"$f":"IF('VETS-701B Participant Info'!$F107=1,'VETS-701B Participant Info'!$A107,\"  \")","v":"  "},{"$f":"IF('VETS-701B Participant Info'!$F107=1,'VETS-701B Participant Info'!$B107,\"  \")","v":"  "},{"$nulls":4},{"v":0,"d":"$0.00"},{"$nulls":3},{"v":0,"d":"$0.00"},0,{"v":0,"d":"$0.00"},{"$nulls":91},2]
[{"$f":"IF('VETS-701B Participant Info'!$F108=1,'VETS-701B Participant Info'!$A108,\"  \")","v":"  "},{"$f":"IF('VETS-701B Participant Info'!$F108=1,'VETS-701B Participant Info'!$B108,\"  \")","v":"  "},{"$nulls":4},{"v":0,"d":"$0.00"},{"$nulls":3},{"v":0,"d":"$0.00"},0,{"v":0,"d":"$0.00"},{"$nulls":91},2]
[{"$f":"IF('VETS-701B Participant Info'!$F109=1,'VETS-701B Participant Info'!$A109,\"  \")","v":"  "},{"$f":"IF('VETS-701B Participant Info'!$F109=1,'VETS-701B Participant Info'!$B109,\"  \")","v":"  "},{"$nulls":4},{"v":0,"d":"$0.00"},{"$nulls":3},{"v":0,"d":"$0.00"},0,{"v":0,"d":"$0.00"},{"$nulls":91},2]
[{"$f":"IF('VETS-701B Participant Info'!$F110=1,'VETS-701B Participant Info'!$A110,\"  \")","v":"  "},{"$f":"IF('VETS-701B Participant Info'!$F110=1,'VETS-701B Participant Info'!$B110,\"  \")","v":"  "},{"$nulls":4},{"v":0,"d":"$0.00"},{"$nulls":3},{"v":0,"d":"$0.00"},0,{"v":0,"d":"$0.00"},{"$nulls":91},2]
[{"$f":"IF('VETS-701B Participant Info'!$F111=1,'VETS-701B Participant Info'!$A111,\"  \")","v":"  "},{"$f":"IF('VETS-701B Participant Info'!$F111=1,'VETS-701B Participant Info'!$B111,\"  \")","v":"  "},{"$nulls":4},{"v":0,"d":"$0.00"},{"$nulls":3},{"v":0,"d":"$0.00"},0,{"v":0,"d":"$0.00"},{"$nulls":91},2]
[{"$f":"IF('VETS-701B Participant Info'!$F112=1,'VETS-701B Participant Info'!$A112,\"  \")","v":"  "},{"$f":"IF('VETS-701B Participant Info'!$F112=1,'VETS-701B Participant Info'!$B112,\"  \")","v":"  "},{"$nulls":4},{"v":0,"d":"$0.00"},{"$nulls":3},{"v":0,"d":"$0.00"},0,{"v":0,"d":"$0.00"},{"$nulls":91},2]
[{"$f":"IF('VETS-701B Participant Info'!$F113=1,'VETS-701B Participant Info'!$A113,\"  \")","v":"  "},{"$f":"IF('VETS-701B Participant Info'!$F113=1,'VETS-701B Participant Info'!$B113,\"  \")","v":"  "},{"$nulls":4},{"v":0,"d":"$0.00"},{"$nulls":3},{"v":0,"d":"$0.00"},0,{"v":0,"d":"$0.00"},{"$nulls":91},2]
[{"$f":"IF('VETS-701B Participant Info'!$F114=1,'VETS-701B Participant Info'!$A114,\"  \")","v":"  "},{"$f":"IF('VETS-701B Participant Info'!$F114=1,'VETS-701B Participant Info'!$B114,\"  \")","v":"  "},{"$nulls":4},{"v":0,"d":"$0.00"},{"$nulls":3},{"v":0,"d":"$0.00"},0,{"v":0,"d":"$0.00"},{"$nulls":91},2]
[{"$f":"IF('VETS-701B Participant Info'!$F115=1,'VETS-701B Participant Info'!$A115,\"  \")","v":"  "},{"$f":"IF('VETS-701B Participant Info'!$F115=1,'VETS-701B Participant Info'!$B115,\"  \")","v":"  "},{"$nulls":4},{"v":0,"d":"$0.00"},{"$nulls":3},{"v":0,"d":"$0.00"},0,{"v":0,"d":"$0.00"},{"$nulls":91},2]
[{"$f":"IF('VETS-701B Participant Info'!$F116=1,'VETS-701B Participant Info'!$A116,\"  \")","v":"  "},{"$f":"IF('VETS-701B Participant Info'!$F116=1,'VETS-701B Participant Info'!$B116,\"  \")","v":"  "},{"$nulls":4},{"v":0,"d":"$0.00"},{"$nulls":3},{"v":0,"d":"$0.00"},0,{"v":0,"d":"$0.00"},{"$nulls":91},2]
[{"$f":"IF('VETS-701B Participant Info'!$F117=1,'VETS-701B Participant Info'!$A117,\"  \")","v":"  "},{"$f":"IF('VETS-701B Participant Info'!$F117=1,'VETS-701B Participant Info'!$B117,\"  \")","v":"  "},{"$nulls":4},{"v":0,"d":"$0.00"},{"$nulls":3},{"v":0,"d":"$0.00"},0,{"v":0,"d":"$0.00"},{"$nulls":91},2]
[{"$f":"IF('VETS-701B Participant Info'!$F118=1,'VETS-701B Participant Info'!$A118,\"  \")","v":"  "},{"$f":"IF('VETS-701B Participant Info'!$F118=1,'VETS-701B Participant Info'!$B118,\"  \")","v":"  "},{"$nulls":4},{"v":0,"d":"$0.00"},{"$nulls":3},{"v":0,"d":"$0.00"},0,{"v":0,"d":"$0.00"},{"$nulls":91},2]
[{"$f":"IF('VETS-701B Participant Info'!$F119=1,'VETS-701B Participant Info'!$A119,\"  \")","v":"  "},{"$f":"IF('VETS-701B Participant Info'!$F119=1,'VETS-701B Participant Info'!$B119,\"  \")","v":"  "},{"$nulls":4},{"v":0,"d":"$0.00"},{"$nulls":3},{"v":0,"d":"$0.00"},0,{"v":0,"d":"$0.00"},{"$nulls":91},2]
[{"$f":"IF('VETS-701B Participant Info'!$F120=1,'VETS-701B Participant Info'!$A120,\"  \")","v":"  "},{"$f":"IF('VETS-701B Participant Info'!$F120=1,'VETS-701B Participant Info'!$B120,\"  \")","v":"  "},{"$nulls":4},{"v":0,"d":"$0.00"},{"$nulls":3},{"v":0,"d":"$0.00"},0,{"v":0,"d":"$0.00"},{"$nulls":91},2]
[{"$f":"IF('VETS-701B Participant Info'!$F121=1,'VETS-701B Participant Info'!$A121,\"  \")","v":"  "},{"$f":"IF('VETS-701B Participant Info'!$F121=1,'VETS-701B Participant Info'!$B121,\"  \")","v":"  "},{"$nulls":4},{"v":0,"d":"$0.00"},{"$nulls":3},{"v":0,"d":"$0.00"},0,{"v":0,"d":"$0.00"},{"$nulls":91},2]
[{"$f":"IF('VETS-701B Participant Info'!$F122=1,'VETS-701B Participant Info'!$A122,\"  \")","v":"  "},{"$f":"IF('VETS-701B Participant Info'!$F122=1,'VETS-701B Participant Info'!$B122,\"  \")","v":"  "},{"$nulls":4},{"v":0,"d":"$0.00"},{"$nulls":3},{"v":0,"d":"$0.00"},0,{"v":0,"d":"$0.00"},{"$nulls":91},2]
[{"$f":"IF('VETS-701B Participant Info'!$F123=1,'VETS-701B Participant Info'!$A123,\"  \")","v":"  "},{"$f":"IF('VETS-701B Participant Info'!$F123=1,'VETS-701B Participant Info'!$B123,\"  \")","v":"  "},{"$nulls":4},{"v":0,"d":"$0.00"},{"$nulls":3},{"v":0,"d":"$0.00"},0,{"v":0,"d":"$0.00"},{"$nulls":91},2]
[{"$f":"IF('VETS-701B Participant Info'!$F124=1,'VETS-701B Participant Info'!$A124,\"  \")","v":"  "},{"$f":"IF('VETS-701B Participant Info'!$F124=1,'VETS-701B Participant Info'!$B124,\"  \")","v":"  "},{"$nulls":4},{"v":0,"d":"$0.00"},{"$nulls":3},{"v":0,"d":"$0.00"},0,{"v":0,"d":"$0.00"},{"$nulls":91},2]
[{"$f":"IF('VETS-701B Participant Info'!$F125=1,'VETS-701B Participant Info'!$A125,\"  \")","v":"  "},{"$f":"IF('VETS-701B Participant Info'!$F125=1,'VETS-701B Participant Info'!$B125,\"  \")","v":"  "},{"$nulls":4},{"v":0,"d":"$0.00"},{"$nulls":3},{"v":0,"d":"$0.00"},0,{"v":0,"d":"$0.00"},{"$nulls":91},2]
[{"$f":"IF('VETS-701B Participant Info'!$F126=1,'VETS-701B Participant Info'!$A126,\"  \")","v":"  "},{"$f":"IF('VETS-701B Participant Info'!$F126=1,'VETS-701B Participant Info'!$B126,\"  \")","v":"  "},{"$nulls":4},{"v":0,"d":"$0.00"},{"$nulls":3},{"v":0,"d":"$0.00"},0,{"v":0,"d":"$0.00"},{"$nulls":91},2]
[{"$f":"IF('VETS-701B Participant Info'!$F127=1,'VETS-701B Participant Info'!$A127,\"  \")","v":"  "},{"$f":"IF('VETS-701B Participant Info'!$F127=1,'VETS-701B Participant Info'!$B127,\"  \")","v":"  "},{"$nulls":4},{"v":0,"d":"$0.00"},{"$nulls":3},{"v":0,"d":"$0.00"},0,{"v":0,"d":"$0.00"},{"$nulls":91},2]
[{"$f":"IF('VETS-701B Participant Info'!$F128=1,'VETS-701B Participant Info'!$A128,\"  \")","v":"  "},{"$f":"IF('VETS-701B Participant Info'!$F128=1,'VETS-701B Participant Info'!$B128,\"  \")","v":"  "},{"$nulls":4},{"v":0,"d":"$0.00"},{"$nulls":3},{"v":0,"d":"$0.00"},0,{"v":0,"d":"$0.00"},{"$nulls":91},2]
[{"$f":"IF('VETS-701B Participant Info'!$F129=1,'VETS-701B Participant Info'!$A129,\"  \")","v":"  "},{"$f":"IF('VETS-701B Participant Info'!$F129=1,'VETS-701B Participant Info'!$B129,\"  \")","v":"  "},{"$nulls":4},{"v":0,"d":"$0.00"},{"$nulls":3},{"v":0,"d":"$0.00"},0,{"v":0,"d":"$0.00"},{"$nulls":91},2]
[{"$f":"IF('VETS-701B Participant Info'!$F130=1,'VETS-701B Participant Info'!$A130,\"  \")","v":"  "},{"$f":"IF('VETS-701B Participant Info'!$F130=1,'VETS-701B Participant Info'!$B130,\"  \")","v":"  "},{"$nulls":4},{"$f":"SUM(E133*F133*13)","v":{"v":0,"d":"$0.00"}},{"$nulls":3},{"$f":"SUM(I133*J133*13)","v":{"v":0,"d":"$0.00"}},{"$f":"SUM(H133+D133+C133)","v":0},{"$f":"IF(L133=3,K133+G133,0)","v":{"v":0,"d":"$0.00"}},{"$nulls":91},2]
[{"$f":"IF('VETS-701B Participant Info'!$F131=1,'VETS-701B Participant Info'!$A131,\"  \")","v":"  "},{"$f":"IF('VETS-701B Participant Info'!$F131=1,'VETS-701B Participant Info'!$B131,\"  \")","v":"  "},{"$nulls":4},{"v":0,"d":"$0.00"},{"$nulls":3},{"v":0,"d":"$0.00"},0,{"v":0,"d":"$0.00"},{"$nulls":91},{"$f":"IF($B134> \"             \",1,2)","v":2}]
[{"$f":"IF('VETS-701B Participant Info'!$F132=1,'VETS-701B Participant Info'!$A132,\"  \")","v":"  "},{"$f":"IF('VETS-701B Participant Info'!$F132=1,'VETS-701B Participant Info'!$B132,\"  \")","v":"  "},{"$nulls":4},{"v":0,"d":"$0.00"},{"$nulls":3},{"v":0,"d":"$0.00"},0,{"v":0,"d":"$0.00"},{"$nulls":91},2]
[{"$f":"IF('VETS-701B Participant Info'!$F133=1,'VETS-701B Participant Info'!$A133,\"  \")","v":"  "},{"$f":"IF('VETS-701B Participant Info'!$F133=1,'VETS-701B Participant Info'!$B133,\"  \")","v":"  "},{"$nulls":4},{"v":0,"d":"$0.00"},{"$nulls":3},{"v":0,"d":"$0.00"},0,{"v":0,"d":"$0.00"},{"$nulls":91},2]
[{"$f":"IF('VETS-701B Participant Info'!$F134=1,'VETS-701B Participant Info'!$A134,\"  \")","v":"  "},{"$f":"IF('VETS-701B Participant Info'!$F134=1,'VETS-701B Participant Info'!$B134,\"  \")","v":"  "},{"$nulls":4},{"v":0,"d":"$0.00"},{"$nulls":3},{"v":0,"d":"$0.00"},0,{"v":0,"d":"$0.00"},{"$nulls":91},2]
[{"$f":"IF('VETS-701B Participant Info'!$F135=1,'VETS-701B Participant Info'!$A135,\"  \")","v":"  "},{"$f":"IF('VETS-701B Participant Info'!$F135=1,'VETS-701B Participant Info'!$B135,\"  \")","v":"  "},{"$nulls":4},{"v":0,"d":"$0.00"},{"$nulls":3},{"v":0,"d":"$0.00"},0,{"v":0,"d":"$0.00"},{"$nulls":91},2]
[{"$f":"IF('VETS-701B Participant Info'!$F136=1,'VETS-701B Participant Info'!$A136,\"  \")","v":"  "},{"$f":"IF('VETS-701B Participant Info'!$F136=1,'VETS-701B Participant Info'!$B136,\"  \")","v":"  "},{"$nulls":4},{"v":0,"d":"$0.00"},{"$nulls":3},{"v":0,"d":"$0.00"},0,{"v":0,"d":"$0.00"},{"$nulls":91},2]
[{"$f":"IF('VETS-701B Participant Info'!$F137=1,'VETS-701B Participant Info'!$A137,\"  \")","v":"  "},{"$f":"IF('VETS-701B Participant Info'!$F137=1,'VETS-701B Participant Info'!$B137,\"  \")","v":"  "},{"$nulls":4},{"v":0,"d":"$0.00"},{"$nulls":3},{"v":0,"d":"$0.00"},0,{"v":0,"d":"$0.00"},{"$nulls":91},2]
[{"$f":"IF('VETS-701B Participant Info'!$F138=1,'VETS-701B Participant Info'!$A138,\"  \")","v":"  "},{"$f":"IF('VETS-701B Participant Info'!$F138=1,'VETS-701B Participant Info'!$B138,\"  \")","v":"  "},{"$nulls":4},{"v":0,"d":"$0.00"},{"$nulls":3},{"v":0,"d":"$0.00"},0,{"v":0,"d":"$0.00"},{"$nulls":91},2]
[{"$f":"IF('VETS-701B Participant Info'!$F139=1,'VETS-701B Participant Info'!$A139,\"  \")","v":"  "},{"$f":"IF('VETS-701B Participant Info'!$F139=1,'VETS-701B Participant Info'!$B139,\"  \")","v":"  "},{"$nulls":4},{"v":0,"d":"$0.00"},{"$nulls":3},{"v":0,"d":"$0.00"},0,{"v":0,"d":"$0.00"},{"$nulls":91},2]
[{"$f":"IF('VETS-701B Participant Info'!$F140=1,'VETS-701B Participant Info'!$A140,\"  \")","v":"  "},{"$f":"IF('VETS-701B Participant Info'!$F140=1,'VETS-701B Participant Info'!$B140,\"  \")","v":"  "},{"$nulls":4},{"v":0,"d":"$0.00"},{"$nulls":3},{"v":0,"d":"$0.00"},0,{"v":0,"d":"$0.00"},{"$nulls":91},2]
[{"$f":"IF('VETS-701B Participant Info'!$F141=1,'VETS-701B Participant Info'!$A141,\"  \")","v":"  "},{"$f":"IF('VETS-701B Participant Info'!$F141=1,'VETS-701B Participant Info'!$B141,\"  \")","v":"  "},{"$nulls":4},{"v":0,"d":"$0.00"},{"$nulls":3},{"v":0,"d":"$0.00"},0,{"v":0,"d":"$0.00"},{"$nulls":91},2]
[{"$f":"IF('VETS-701B Participant Info'!$F142=1,'VETS-701B Participant Info'!$A142,\"  \")","v":"  "},{"$f":"IF('VETS-701B Participant Info'!$F142=1,'VETS-701B Participant Info'!$B142,\"  \")","v":"  "},{"$nulls":4},{"v":0,"d":"$0.00"},{"$nulls":3},{"v":0,"d":"$0.00"},0,{"v":0,"d":"$0.00"},{"$nulls":91},2]
[{"$f":"IF('VETS-701B Participant Info'!$F143=1,'VETS-701B Participant Info'!$A143,\"  \")","v":"  "},{"$f":"IF('VETS-701B Participant Info'!$F143=1,'VETS-701B Participant Info'!$B143,\"  \")","v":"  "},{"$nulls":4},{"v":0,"d":"$0.00"},{"$nulls":3},{"v":0,"d":"$0.00"},0,{"v":0,"d":"$0.00"},{"$nulls":91},2]
[{"$f":"IF('VETS-701B Participant Info'!$F144=1,'VETS-701B Participant Info'!$A144,\"  \")","v":"  "},{"$f":"IF('VETS-701B Participant Info'!$F144=1,'VETS-701B Participant Info'!$B144,\"  \")","v":"  "},{"$nulls":4},{"v":0,"d":"$0.00"},{"$nulls":3},{"v":0,"d":"$0.00"},0,{"v":0,"d":"$0.00"},{"$nulls":91},2]
[{"$f":"IF('VETS-701B Participant Info'!$F145=1,'VETS-701B Participant Info'!$A145,\"  \")","v":"  "},{"$f":"IF('VETS-701B Participant Info'!$F145=1,'VETS-701B Participant Info'!$B145,\"  \")","v":"  "},{"$nulls":4},{"v":0,"d":"$0.00"},{"$nulls":3},{"v":0,"d":"$0.00"},0,{"v":0,"d":"$0.00"},{"$nulls":91},2]
[{"$f":"IF('VETS-701B Participant Info'!$F146=1,'VETS-701B Participant Info'!$A146,\"  \")","v":"  "},{"$f":"IF('VETS-701B Participant Info'!$F146=1,'VETS-701B Participant Info'!$B146,\"  \")","v":"  "},{"$nulls":4},{"v":0,"d":"$0.00"},{"$nulls":3},{"v":0,"d":"$0.00"},0,{"v":0,"d":"$0.00"},{"$nulls":91},2]
[{"$f":"IF('VETS-701B Participant Info'!$F147=1,'VETS-701B Participant Info'!$A147,\"  \")","v":"  "},{"$f":"IF('VETS-701B Participant Info'!$F147=1,'VETS-701B Participant Info'!$B147,\"  \")","v":"  "},{"$nulls":4},{"v":0,"d":"$0.00"},{"$nulls":3},{"v":0,"d":"$0.00"},0,{"v":0,"d":"$0.00"},{"$nulls":91},2]
[{"$f":"IF('VETS-701B Participant Info'!$F148=1,'VETS-701B Participant Info'!$A148,\"  \")","v":"  "},{"$f":"IF('VETS-701B Participant Info'!$F148=1,'VETS-701B Participant Info'!$B148,\"  \")","v":"  "},{"$nulls":4},{"v":0,"d":"$0.00"},{"$nulls":3},{"v":0,"d":"$0.00"},0,{"v":0,"d":"$0.00"},{"$nulls":91},2]
[{"$f":"IF('VETS-701B Participant Info'!$F149=1,'VETS-701B Participant Info'!$A149,\"  \")","v":"  "},{"$f":"IF('VETS-701B Participant Info'!$F149=1,'VETS-701B Participant Info'!$B149,\"  \")","v":"  "},{"$nulls":4},{"v":0,"d":"$0.00"},{"$nulls":3},{"v":0,"d":"$0.00"},0,{"v":0,"d":"$0.00"},{"$nulls":91},2]
[{"$f":"IF('VETS-701B Participant Info'!$F150=1,'VETS-701B Participant Info'!$A150,\"  \")","v":"  "},{"$f":"IF('VETS-701B Participant Info'!$F150=1,'VETS-701B Participant Info'!$B150,\"  \")","v":"  "},{"$nulls":4},{"v":0,"d":"$0.00"},{"$nulls":3},{"v":0,"d":"$0.00"},0,{"v":0,"d":"$0.00"},{"$nulls":91},2]
[{"$f":"IF('VETS-701B Participant Info'!$F151=1,'VETS-701B Participant Info'!$A151,\"  \")","v":"  "},{"$f":"IF('VETS-701B Participant Info'!$F151=1,'VETS-701B Participant Info'!$B151,\"  \")","v":"  "},{"$nulls":4},{"v":0,"d":"$0.00"},{"$nulls":3},{"v":0,"d":"$0.00"},0,{"v":0,"d":"$0.00"},{"$nulls":91},2]
[{"$f":"IF('VETS-701B Participant Info'!$F152=1,'VETS-701B Participant Info'!$A152,\"  \")","v":"  "},{"$f":"IF('VETS-701B Participant Info'!$F152=1,'VETS-701B Participant Info'!$B152,\"  \")","v":"  "},{"$nulls":4},{"v":0,"d":"$0.00"},{"$nulls":3},{"v":0,"d":"$0.00"},0,{"v":0,"d":"$0.00"},{"$nulls":91},2]
[{"$f":"IF('VETS-701B Participant Info'!$F153=1,'VETS-701B Participant Info'!$A153,\"  \")","v":"  "},{"$f":"IF('VETS-701B Participant Info'!$F153=1,'VETS-701B Participant Info'!$B153,\"  \")","v":"  "},{"$nulls":4},{"v":0,"d":"$0.00"},{"$nulls":3},{"v":0,"d":"$0.00"},0,{"v":0,"d":"$0.00"},{"$nulls":91},2]
[{"$f":"IF('VETS-701B Participant Info'!$F154=1,'VETS-701B Participant Info'!$A154,\"  \")","v":"  "},{"$f":"IF('VETS-701B Participant Info'!$F154=1,'VETS-701B Participant Info'!$B154,\"  \")","v":"  "},{"$nulls":4},{"v":0,"d":"$0.00"},{"$nulls":3},{"v":0,"d":"$0.00"},0,{"v":0,"d":"$0.00"},{"$nulls":91},2]
[{"$f":"IF('VETS-701B Participant Info'!$F155=1,'VETS-701B Participant Info'!$A155,\"  \")","v":"  "},{"$f":"IF('VETS-701B Participant Info'!$F155=1,'VETS-701B Participant Info'!$B155,\"  \")","v":"  "},{"$nulls":4},{"v":0,"d":"$0.00"},{"$nulls":3},{"v":0,"d":"$0.00"},0,{"v":0,"d":"$0.00"},{"$nulls":91},2]
[{"$f":"IF('VETS-701B Participant Info'!$F156=1,'VETS-701B Participant Info'!$A156,\"  \")","v":"  "},{"$f":"IF('VETS-701B Participant Info'!$F156=1,'VETS-701B Participant Info'!$B156,\"  \")","v":"  "},{"$nulls":4},{"v":0,"d":"$0.00"},{"$nulls":3},{"v":0,"d":"$0.00"},0,{"v":0,"d":"$0.00"},{"$nulls":91},2]
[{"$f":"IF('VETS-701B Participant Info'!$F157=1,'VETS-701B Participant Info'!$A157,\"  \")","v":"  "},{"$f":"IF('VETS-701B Participant Info'!$F157=1,'VETS-701B Participant Info'!$B157,\"  \")","v":"  "},{"$nulls":4},{"v":0,"d":"$0.00"},{"$nulls":3},{"v":0,"d":"$0.00"},0,{"v":0,"d":"$0.00"},{"$nulls":91},2]
[{"$f":"IF('VETS-701B Participant Info'!$F158=1,'VETS-701B Participant Info'!$A158,\"  \")","v":"  "},{"$f":"IF('VETS-701B Participant Info'!$F158=1,'VETS-701B Participant Info'!$B158,\"  \")","v":"  "},{"$nulls":4},{"v":0,"d":"$0.00"},{"$nulls":3},{"v":0,"d":"$0.00"},0,{"v":0,"d":"$0.00"},{"$nulls":91},2]
[{"$f":"IF('VETS-701B Participant Info'!$F159=1,'VETS-701B Participant Info'!$A159,\"  \")","v":"  "},{"$f":"IF('VETS-701B Participant Info'!$F159=1,'VETS-701B Participant Info'!$B159,\"  \")","v":"  "},{"$nulls":4},{"v":0,"d":"$0.00"},{"$nulls":3},{"v":0,"d":"$0.00"},0,{"v":0,"d":"$0.00"},{"$nulls":91},2]
[{"$f":"IF('VETS-701B Participant Info'!$F160=1,'VETS-701B Participant Info'!$A160,\"  \")","v":"  "},{"$f":"IF('VETS-701B Participant Info'!$F160=1,'VETS-701B Participant Info'!$B160,\"  \")","v":"  "},{"$nulls":4},{"v":0,"d":"$0.00"},{"$nulls":3},{"v":0,"d":"$0.00"},0,{"v":0,"d":"$0.00"},{"$nulls":91},2]
[{"$f":"IF('VETS-701B Participant Info'!$F161=1,'VETS-701B Participant Info'!$A161,\"  \")","v":"  "},{"$f":"IF('VETS-701B Participant Info'!$F161=1,'VETS-701B Participant Info'!$B161,\"  \")","v":"  "},{"$nulls":4},{"v":0,"d":"$0.00"},{"$nulls":3},{"v":0,"d":"$0.00"},0,{"v":0,"d":"$0.00"},{"$nulls":91},2]
[{"$f":"IF('VETS-701B Participant Info'!$F162=1,'VETS-701B Participant Info'!$A162,\"  \")","v":"  "},{"$f":"IF('VETS-701B Participant Info'!$F162=1,'VETS-701B Participant Info'!$B162,\"  \")","v":"  "},{"$nulls":4},{"$f":"SUM(E165*F165*13)","v":{"v":0,"d":"$0.00"}},{"$nulls":3},{"$f":"SUM(I165*J165*13)","v":{"v":0,"d":"$0.00"}},{"$f":"SUM(H165+D165+C165)","v":0},{"$f":"IF(L165=3,K165+G165,0)","v":{"v":0,"d":"$0.00"}},{"$nulls":91},2]
[{"$f":"IF('VETS-701B Participant Info'!$F163=1,'VETS-701B Participant Info'!$A163,\"  \")","v":"  "},{"$f":"IF('VETS-701B Participant Info'!$F163=1,'VETS-701B Participant Info'!$B163,\"  \")","v":"  "},{"$nulls":4},{"v":0,"d":"$0.00"},{"$nulls":3},{"v":0,"d":"$0.00"},0,{"v":0,"d":"$0.00"},{"$nulls":91},2]
[{"$f":"IF('VETS-701B Participant Info'!$F164=1,'VETS-701B Participant Info'!$A164,\"  \")","v":"  "},{"$f":"IF('VETS-701B Participant Info'!$F164=1,'VETS-701B Participant Info'!$B164,\"  \")","v":"  "},{"$nulls":4},{"v":0,"d":"$0.00"},{"$nulls":3},{"v":0,"d":"$0.00"},0,{"v":0,"d":"$0.00"},{"$nulls":91},2]
[{"$f":"IF('VETS-701B Participant Info'!$F165=1,'VETS-701B Participant Info'!$A165,\"  \")","v":"  "},{"$f":"IF('VETS-701B Participant Info'!$F165=1,'VETS-701B Participant Info'!$B165,\"  \")","v":"  "},{"$nulls":4},{"v":0,"d":"$0.00"},{"$nulls":3},{"v":0,"d":"$0.00"},0,{"v":0,"d":"$0.00"},{"$nulls":91},2]
[{"$f":"IF('VETS-701B Participant Info'!$F166=1,'VETS-701B Participant Info'!$A166,\"  \")","v":"  "},{"$f":"IF('VETS-701B Participant Info'!$F166=1,'VETS-701B Participant Info'!$B166,\"  \")","v":"  "},{"$nulls":4},{"v":0,"d":"$0.00"},{"$nulls":3},{"v":0,"d":"$0.00"},0,{"v":0,"d":"$0.00"},{"$nulls":91},2]
[{"$f":"IF('VETS-701B Participant Info'!$F167=1,'VETS-701B Participant Info'!$A167,\"  \")","v":"  "},{"$f":"IF('VETS-701B Participant Info'!$F167=1,'VETS-701B Participant Info'!$B167,\"  \")","v":"  "},{"$nulls":4},{"v":0,"d":"$0.00"},{"$nulls":3},{"v":0,"d":"$0.00"},0,{"v":0,"d":"$0.00"},{"$nulls":91},2]
[{"$f":"IF('VETS-701B Participant Info'!$F168=1,'VETS-701B Participant Info'!$A168,\"  \")","v":"  "},{"$f":"IF('VETS-701B Participant Info'!$F168=1,'VETS-701B Participant Info'!$B168,\"  \")","v":"  "},{"$nulls":4},{"v":0,"d":"$0.00"},{"$nulls":3},{"v":0,"d":"$0.00"},0,{"v":0,"d":"$0.00"},{"$nulls":91},2]
[{"$f":"IF('VETS-701B Participant Info'!$F169=1,'VETS-701B Participant Info'!$A169,\"  \")","v":"  "},{"$f":"IF('VETS-701B Participant Info'!$F169=1,'VETS-701B Participant Info'!$B169,\"  \")","v":"  "},{"$nulls":4},{"v":0,"d":"$0.00"},{"$nulls":3},{"v":0,"d":"$0.00"},0,{"v":0,"d":"$0.00"},{"$nulls":91},2]
[{"$f":"IF('VETS-701B Participant Info'!$F170=1,'VETS-701B Participant Info'!$A170,\"  \")","v":"  "},{"$f":"IF('VETS-701B Participant Info'!$F170=1,'VETS-701B Participant Info'!$B170,\"  \")","v":"  "},{"$nulls":4},{"v":0,"d":"$0.00"},{"$nulls":3},{"v":0,"d":"$0.00"},0,{"v":0,"d":"$0.00"},{"$nulls":91},2]
[{"$f":"IF('VETS-701B Participant Info'!$F171=1,'VETS-701B Participant Info'!$A171,\"  \")","v":"  "},{"$f":"IF('VETS-701B Participant Info'!$F171=1,'VETS-701B Participant Info'!$B171,\"  \")","v":"  "},{"$nulls":4},{"v":0,"d":"$0.00"},{"$nulls":3},{"v":0,"d":"$0.00"},0,{"v":0,"d":"$0.00"},{"$nulls":91},2]
[{"$f":"IF('VETS-701B Participant Info'!$F172=1,'VETS-701B Participant Info'!$A172,\"  \")","v":"  "},{"$f":"IF('VETS-701B Participant Info'!$F172=1,'VETS-701B Participant Info'!$B172,\"  \")","v":"  "},{"$nulls":4},{"v":0,"d":"$0.00"},{"$nulls":3},{"v":0,"d":"$0.00"},0,{"v":0,"d":"$0.00"},{"$nulls":91},2]
[{"$f":"IF('VETS-701B Participant Info'!$F173=1,'VETS-701B Participant Info'!$A173,\"  \")","v":"  "},{"$f":"IF('VETS-701B Participant Info'!$F173=1,'VETS-701B Participant Info'!$B173,\"  \")","v":"  "},{"$nulls":4},{"v":0,"d":"$0.00"},{"$nulls":3},{"v":0,"d":"$0.00"},0,{"v":0,"d":"$0.00"},{"$nulls":91},2]
[{"$f":"IF('VETS-701B Participant Info'!$F174=1,'VETS-701B Participant Info'!$A174,\"  \")","v":"  "},{"$f":"IF('VETS-701B Participant Info'!$F174=1,'VETS-701B Participant Info'!$B174,\"  \")","v":"  "},{"$nulls":4},{"v":0,"d":"$0.00"},{"$nulls":3},{"v":0,"d":"$0.00"},0,{"v":0,"d":"$0.00"},{"$nulls":91},2]
[{"$f":"IF('VETS-701B Participant Info'!$F175=1,'VETS-701B Participant Info'!$A175,\"  \")","v":"  "},{"$f":"IF('VETS-701B Participant Info'!$F175=1,'VETS-701B Participant Info'!$B175,\"  \")","v":"  "},{"$nulls":4},{"v":0,"d":"$0.00"},{"$nulls":3},{"v":0,"d":"$0.00"},0,{"v":0,"d":"$0.00"},{"$nulls":91},2]
[{"$f":"IF('VETS-701B Participant Info'!$F176=1,'VETS-701B Participant Info'!$A176,\"  \")","v":"  "},{"$f":"IF('VETS-701B Participant Info'!$F176=1,'VETS-701B Participant Info'!$B176,\"  \")","v":"  "},{"$nulls":4},{"v":0,"d":"$0.00"},{"$nulls":3},{"v":0,"d":"$0.00"},0,{"v":0,"d":"$0.00"},{"$nulls":91},2]
[{"$f":"IF('VETS-701B Participant Info'!$F177=1,'VETS-701B Participant Info'!$A177,\"  \")","v":"  "},{"$f":"IF('VETS-701B Participant Info'!$F177=1,'VETS-701B Participant Info'!$B177,\"  \")","v":"  "},{"$nulls":4},{"v":0,"d":"$0.00"},{"$nulls":3},{"v":0,"d":"$0.00"},0,{"v":0,"d":"$0.00"},{"$nulls":91},2]
[{"$f":"IF('VETS-701B Participant Info'!$F178=1,'VETS-701B Participant Info'!$A178,\"  \")","v":"  "},{"$f":"IF('VETS-701B Participant Info'!$F178=1,'VETS-701B Participant Info'!$B178,\"  \")","v":"  "},{"$nulls":4},{"v":0,"d":"$0.00"},{"$nulls":3},{"v":0,"d":"$0.00"},0,{"v":0,"d":"$0.00"},{"$nulls":91},2]
[{"$f":"IF('VETS-701B Participant Info'!$F179=1,'VETS-701B Participant Info'!$A179,\"  \")","v":"  "},{"$f":"IF('VETS-701B Participant Info'!$F179=1,'VETS-701B Participant Info'!$B179,\"  \")","v":"  "},{"$nulls":4},{"v":0,"d":"$0.00"},{"$nulls":3},{"v":0,"d":"$0.00"},0,{"v":0,"d":"$0.00"},{"$nulls":91},2]
[{"$f":"IF('VETS-701B Participant Info'!$F180=1,'VETS-701B Participant Info'!$A180,\"  \")","v":"  "},{"$f":"IF('VETS-701B Participant Info'!$F180=1,'VETS-701B Participant Info'!$B180,\"  \")","v":"  "},{"$nulls":4},{"v":0,"d":"$0.00"},{"$nulls":3},{"v":0,"d":"$0.00"},0,{"v":0,"d":"$0.00"},{"$nulls":91},2]
[{"$f":"IF('VETS-701B Participant Info'!$F181=1,'VETS-701B Participant Info'!$A181,\"  \")","v":"  "},{"$f":"IF('VETS-701B Participant Info'!$F181=1,'VETS-701B Participant Info'!$B181,\"  \")","v":"  "},{"$nulls":4},{"v":0,"d":"$0.00"},{"$nulls":3},{"v":0,"d":"$0.00"},0,{"v":0,"d":"$0.00"},{"$nulls":91},2]
[{"$f":"IF('VETS-701B Participant Info'!$F182=1,'VETS-701B Participant Info'!$A182,\"  \")","v":"  "},{"$f":"IF('VETS-701B Participant Info'!$F182=1,'VETS-701B Participant Info'!$B182,\"  \")","v":"  "},{"$nulls":4},{"v":0,"d":"$0.00"},{"$nulls":3},{"v":0,"d":"$0.00"},0,{"v":0,"d":"$0.00"},{"$nulls":91},2]
[{"$f":"IF('VETS-701B Participant Info'!$F183=1,'VETS-701B Participant Info'!$A183,\"  \")","v":"  "},{"$f":"IF('VETS-701B Participant Info'!$F183=1,'VETS-701B Participant Info'!$B183,\"  \")","v":"  "},{"$nulls":4},{"v":0,"d":"$0.00"},{"$nulls":3},{"v":0,"d":"$0.00"},0,{"v":0,"d":"$0.00"},{"$nulls":91},2]
[{"$f":"IF('VETS-701B Participant Info'!$F184=1,'VETS-701B Participant Info'!$A184,\"  \")","v":"  "},{"$f":"IF('VETS-701B Participant Info'!$F184=1,'VETS-701B Participant Info'!$B184,\"  \")","v":"  "},{"$nulls":4},{"v":0,"d":"$0.00"},{"$nulls":3},{"v":0,"d":"$0.00"},0,{"v":0,"d":"$0.00"},{"$nulls":91},2]
[{"$f":"IF('VETS-701B Participant Info'!$F185=1,'VETS-701B Participant Info'!$A185,\"  \")","v":"  "},{"$f":"IF('VETS-701B Participant Info'!$F185=1,'VETS-701B Participant Info'!$B185,\"  \")","v":"  "},{"$nulls":4},{"v":0,"d":"$0.00"},{"$nulls":3},{"v":0,"d":"$0.00"},0,{"v":0,"d":"$0.00"},{"$nulls":91},2]
[{"$f":"IF('VETS-701B Participant Info'!$F186=1,'VETS-701B Participant Info'!$A186,\"  \")","v":"  "},{"$f":"IF('VETS-701B Participant Info'!$F186=1,'VETS-701B Participant Info'!$B186,\"  \")","v":"  "},{"$nulls":4},{"v":0,"d":"$0.00"},{"$nulls":3},{"v":0,"d":"$0.00"},0,{"v":0,"d":"$0.00"},{"$nulls":91},2]
[{"$f":"IF('VETS-701B Participant Info'!$F187=1,'VETS-701B Participant Info'!$A187,\"  \")","v":"  "},{"$f":"IF('VETS-701B Participant Info'!$F187=1,'VETS-701B Participant Info'!$B187,\"  \")","v":"  "},{"$nulls":4},{"v":0,"d":"$0.00"},{"$nulls":3},{"v":0,"d":"$0.00"},0,{"v":0,"d":"$0.00"},{"$nulls":91},2]
[{"$f":"IF('VETS-701B Participant Info'!$F188=1,'VETS-701B Participant Info'!$A188,\"  \")","v":"  "},{"$f":"IF('VETS-701B Participant Info'!$F188=1,'VETS-701B Participant Info'!$B188,\"  \")","v":"  "},{"$nulls":4},{"v":0,"d":"$0.00"},{"$nulls":3},{"v":0,"d":"$0.00"},0,{"v":0,"d":"$0.00"},{"$nulls":91},2]
[{"$f":"IF('VETS-701B Participant Info'!$F189=1,'VETS-701B Participant Info'!$A189,\"  \")","v":"  "},{"$f":"IF('VETS-701B Participant Info'!$F189=1,'VETS-701B Participant Info'!$B189,\"  \")","v":"  "},{"$nulls":4},{"v":0,"d":"$0.00"},{"$nulls":3},{"v":0,"d":"$0.00"},0,{"v":0,"d":"$0.00"},{"$nulls":91},2]
[{"$f":"IF('VETS-701B Participant Info'!$F190=1,'VETS-701B Participant Info'!$A190,\"  \")","v":"  "},{"$f":"IF('VETS-701B Participant Info'!$F190=1,'VETS-701B Participant Info'!$B190,\"  \")","v":"  "},{"$nulls":4},{"v":0,"d":"$0.00"},{"$nulls":3},{"v":0,"d":"$0.00"},0,{"v":0,"d":"$0.00"},{"$nulls":91},2]
[{"$f":"IF('VETS-701B Participant Info'!$F191=1,'VETS-701B Participant Info'!$A191,\"  \")","v":"  "},{"$f":"IF('VETS-701B Participant Info'!$F191=1,'VETS-701B Participant Info'!$B191,\"  \")","v":"  "},{"$nulls":4},{"v":0,"d":"$0.00"},{"$nulls":3},{"v":0,"d":"$0.00"},0,{"v":0,"d":"$0.00"},{"$nulls":91},2]
[{"$f":"IF('VETS-701B Participant Info'!$F192=1,'VETS-701B Participant Info'!$A192,\"  \")","v":"  "},{"$f":"IF('VETS-701B Participant Info'!$F192=1,'VETS-701B Participant Info'!$B192,\"  \")","v":"  "},{"$nulls":4},{"v":0,"d":"$0.00"},{"$nulls":3},{"v":0,"d":"$0.00"},0,{"v":0,"d":"$0.00"},{"$nulls":91},2]
[{"$f":"IF('VETS-701B Participant Info'!$F193=1,'VETS-701B Participant Info'!$A193,\"  \")","v":"  "},{"$f":"IF('VETS-701B Participant Info'!$F193=1,'VETS-701B Participant Info'!$B193,\"  \")","v":"  "},{"$nulls":4},{"v":0,"d":"$0.00"},{"$nulls":3},{"v":0,"d":"$0.00"},0,{"v":0,"d":"$0.00"},{"$nulls":91},2]
[{"$f":"IF('VETS-701B Participant Info'!$F194=1,'VETS-701B Participant Info'!$A194,\"  \")","v":"  "},{"$f":"IF('VETS-701B Participant Info'!$F194=1,'VETS-701B Participant Info'!$B194,\"  \")","v":"  "},{"$nulls":4},{"$f":"SUM(E197*F197*13)","v":{"v":0,"d":"$0.00"}},{"$nulls":3},{"$f":"SUM(I197*J197*13)","v":{"v":0,"d":"$0.00"}},{"$f":"SUM(H197+D197+C197)","v":0},{"$f":"IF(L197=3,K197+G197,0)","v":{"v":0,"d":"$0.00"}},{"$nulls":91},2]
[{"$f":"IF('VETS-701B Participant Info'!$F195=1,'VETS-701B Participant Info'!$A195,\"  \")","v":"  "},{"$f":"IF('VETS-701B Participant Info'!$F195=1,'VETS-701B Participant Info'!$B195,\"  \")","v":"  "},{"$nulls":4},{"v":0,"d":"$0.00"},{"$nulls":3},{"v":0,"d":"$0.00"},0,{"v":0,"d":"$0.00"},{"$nulls":91},{"$f":"IF($B198> \"             \",1,2)","v":2}]
[{"$f":"IF('VETS-701B Participant Info'!$F196=1,'VETS-701B Participant Info'!$A196,\"  \")","v":"  "},{"$f":"IF('VETS-701B Participant Info'!$F196=1,'VETS-701B Participant Info'!$B196,\"  \")","v":"  "},{"$nulls":4},{"v":0,"d":"$0.00"},{"$nulls":3},{"v":0,"d":"$0.00"},0,{"v":0,"d":"$0.00"},{"$nulls":91},2]
[{"$f":"IF('VETS-701B Participant Info'!$F197=1,'VETS-701B Participant Info'!$A197,\"  \")","v":"  "},{"$f":"IF('VETS-701B Participant Info'!$F197=1,'VETS-701B Participant Info'!$B197,\"  \")","v":"  "},{"$nulls":4},{"v":0,"d":"$0.00"},{"$nulls":3},{"v":0,"d":"$0.00"},0,{"v":0,"d":"$0.00"},{"$nulls":91},2]
[{"$f":"IF('VETS-701B Participant Info'!$F198=1,'VETS-701B Participant Info'!$A198,\"  \")","v":"  "},{"$f":"IF('VETS-701B Participant Info'!$F198=1,'VETS-701B Participant Info'!$B198,\"  \")","v":"  "},{"$nulls":4},{"v":0,"d":"$0.00"},{"$nulls":3},{"v":0,"d":"$0.00"},0,{"v":0,"d":"$0.00"},{"$nulls":91},2]
[{"$f":"IF('VETS-701B Participant Info'!$F199=1,'VETS-701B Participant Info'!$A199,\"  \")","v":"  "},{"$f":"IF('VETS-701B Participant Info'!$F199=1,'VETS-701B Participant Info'!$B199,\"  \")","v":"  "},{"$nulls":4},{"v":0,"d":"$0.00"},{"$nulls":3},{"v":0,"d":"$0.00"},0,{"v":0,"d":"$0.00"},{"$nulls":91},2]
[{"$f":"IF('VETS-701B Participant Info'!$F200=1,'VETS-701B Participant Info'!$A200,\"  \")","v":"  "},{"$f":"IF('VETS-701B Participant Info'!$F200=1,'VETS-701B Participant Info'!$B200,\"  \")","v":"  "},{"$nulls":4},{"v":0,"d":"$0.00"},{"$nulls":3},{"v":0,"d":"$0.00"},0,{"v":0,"d":"$0.00"},{"$nulls":91},2]
[{"$f":"IF('VETS-701B Participant Info'!$F201=1,'VETS-701B Participant Info'!$A201,\"  \")","v":"  "},{"$f":"IF('VETS-701B Participant Info'!$F201=1,'VETS-701B Participant Info'!$B201,\"  \")","v":"  "},{"$nulls":4},{"v":0,"d":"$0.00"},{"$nulls":3},{"v":0,"d":"$0.00"},0,{"v":0,"d":"$0.00"},{"$nulls":91},2]
[null,{"$f":"COUNT(C5:C204)","v":0},{"$f":"SUM(C5:C204)","v":0},{"$f":"SUM(D5:D204)","v":0},{"$nulls":3},{"$f":"COUNTIF(L5:L204,3)","v":0},{"$f":"SUM(I5:I204)","v":0},null,{"$f":"SUM(K5:K204)","v":{"v":0,"d":"$0.00"}},"Total Earnings",{"$f":"SUM(M5:M204)","v":{"v":0,"d":"$0.00"}},{"$f":"SUM(N5:N204)","v":0},{"$f":"SUM(O5:O204)","v":0}]
[{"$nulls":5},"Median Earnings",{"$f":"('VETS-701F Enter Exiter Info Q4'!H1300)","v":{"$error":"#NUM!"}},null,"Average Hourly Wage",{"$f":"IF(I205>0,ROUND(SUM(K205/I205)/13,2),0)","v":{"v":0,"d":"$0.00"}},null,"Avg Earnings",{"$f":"IF(H205>0,ROUND(SUM(M205/H205),2),0)","v":{"v":0,"d":"$0.00"}},null,"Average Hourly Wage",{"$f":"IF(O205>0,ROUND(SUM(Q205/O205)/13,2),0)","v":{"v":0,"d":"$0.00"}}]

{"sheet":"VETS-701D Enter Exiter Info Q2","index":5,"n_rows":301,"n_cols":105,"rows_kept":301}
[{"$f":"SUM(('VETS-701B Participant Info'!AV$2:'VETS-701B Participant Info'!AV$1001=2)*1)","v":0},"Exited 2nd quarter (Participants tab)"]
[]
["For Those who EXIT during the 2nd Quarter (Qtr)",null,"Yes=1; No=0","Yes=1; No=0",{"$nulls":3},"Yes=1; No=0",{"$nulls":5},"Yes=1; No=0"]
["Participant ID\n(COMPUTED)","Participant Name - (Do not use Actual Full Names)                                                                                         First four Letters last name; First/Middle Initials                       (COMPUTED)","Earned Wages in 3rd quarter","Earned Wages in 4th quarter","Hours worked per week in 4th quarter (e.g., 20, 40)","Hourly wage  in 4th quarter (e.g., $9.00)","Earnings for 2nd qtr after exit qtr","Earned Wages in 5th quarter","Hours worked per week in 5th quarter (e.g., 20, 40)","Hourly wage  in 5th quarter (e.g., $9.00)","Earnings for 3rd qtr after exit qtr","Employed ALL 3 qtrs after exit","2nd & 3rd qtr Earnings for those Employed all 3 qtrs after exit","Earned Wages in 6th quarter","Hours worked per week in 6th quarter (e.g., 20, 40)","Hourly wage  in 6th quarter (e.g., $9.00)"]
[{"$f":"IF('VETS-701B Participant Info'!$F2=2,'VETS-701B Participant Info'!$A2,\"  \")","v":"  "},{"$f":"IF('VETS-701B Participant Info'!$F2=2,'VETS-701B Participant Info'!$B2,\"  \")","v":"  "},{"$nulls":4},{"$f":"SUM(E5*F5*13)","v":{"v":0,"d":"$0.00"}},{"$nulls":3},{"$f":"SUM(I5*J5*13)","v":{"v":0,"d":"$0.00"}},{"$f":"SUM(H5+D5+C5)","v":0},{"$f":"IF(L5=3,K5+G5,0)","v":{"v":0,"d":"$0.00"}}," ",{"$nulls":90},{"$f":"IF($B5> \"             \",1,2)","v":2}]
[{"$f":"IF('VETS-701B Participant Info'!$F3=2,'VETS-701B Participant Info'!$A3,\"  \")","v":"  "},{"$f":"IF('VETS-701B Participant Info'!$F3=2,'VETS-701B Participant Info'!$B3,\"  \")","v":"  "},{"$nulls":4},{"v":0,"d":"$0.00"},{"$nulls":3},{"v":0,"d":"$0.00"},0,{"v":0,"d":"$0.00"},{"$nulls":91},{"$f":"IF($B6> \"             \",1,2)","v":2}]
[{"$f":"IF('VETS-701B Participant Info'!$F4=2,'VETS-701B Participant Info'!$A4,\"  \")","v":"  "},{"$f":"IF('VETS-701B Participant Info'!$F4=2,'VETS-701B Participant Info'!$B4,\"  \")","v":"  "},{"$nulls":4},{"v":0,"d":"$0.00"},{"$nulls":3},{"v":0,"d":"$0.00"},0,{"v":0,"d":"$0.00"},{"$nulls":91},2]
[{"$f":"IF('VETS-701B Participant Info'!$F5=2,'VETS-701B Participant Info'!$A5,\"  \")","v":"  "},{"$f":"IF('VETS-701B Participant Info'!$F5=2,'VETS-701B Participant Info'!$B5,\"  \")","v":"  "},{"$nulls":4},{"v":0,"d":"$0.00"},{"$nulls":3},{"v":0,"d":"$0.00"},0,{"v":0,"d":"$0.00"},{"$nulls":91},2]
[{"$f":"IF('VETS-701B Participant Info'!$F6=2,'VETS-701B Participant Info'!$A6,\"  \")","v":"  "},{"$f":"IF('VETS-701B Participant Info'!$F6=2,'VETS-701B Participant Info'!$B6,\"  \")","v":"  "},{"$nulls":4},{"v":0,"d":"$0.00"},{"$nulls":3},{"v":0,"d":"$0.00"},0,{"v":0,"d":"$0.00"},{"$nulls":91},2]
[{"$f":"IF('VETS-701B Participant Info'!$F7=2,'VETS-701B Participant Info'!$A7,\"  \")","v":"  "},{"$f":"IF('VETS-701B Participant Info'!$F7=2,'VETS-701B Participant Info'!$B7,\"  \")","v":"  "},{"$nulls":4},{"v":0,"d":"$0.00"},{"$nulls":3},{"v":0,"d":"$0.00"},0,{"v":0,"d":"$0.00"},{"$nulls":91},2]
[{"$f":"IF('VETS-701B Participant Info'!$F8=2,'VETS-701B Participant Info'!$A8,\"  \")","v":"  "},{"$f":"IF('VETS-701B Participant Info'!$F8=2,'VETS-701B Participant Info'!$B8,\"  \")","v":"  "},{"$nulls":4},{"v":0,"d":"$0.00"},{"$nulls":3},{"v":0,"d":"$0.00"},0,{"v":0,"d":"$0.00"},{"$nulls":91},2]
[{"$f":"IF('VETS-701B Participant Info'!$F9=2,'VETS-701B Participant Info'!$A9,\"  \")","v":"  "},{"$f":"IF('VETS-701B Participant Info'!$F9=2,'VETS-701B Participant Info'!$B9,\"  \")","v":"  "},{"$nulls":4},{"v":0,"d":"$0.00"},{"$nulls":3},{"v":0,"d":"$0.00"},0,{"v":0,"d":"$0.00"},{"$nulls":91},2]
[{"$f":"IF('VETS-701B Participant Info'!$F10=2,'VETS-701B Participant Info'!$A10,\"  \")","v":"  "},{"$f":"IF('VETS-701B Participant Info'!$F10=2,'VETS-701B Participant Info'!$B10,\"  \")","v":"  "},{"$nulls":4},{"v":0,"d":"$0.00"},{"$nulls":3},{"v":0,"d":"$0.00"},0,{"v":0,"d":"$0.00"},{"$nulls":91},2]
[{"$f":"IF('VETS-701B Participant Info'!$F11=2,'VETS-701B Participant Info'!$A11,\"  \")","v":"  "},{"$f":"IF('VETS-701B Participant Info'!$F11=2,'VETS-701B Participant Info'!$B11,\"  \")","v":"  "},{"$nulls":4},{"v":0,"d":"$0.00"},{"$nulls":3},{"v":0,"d":"$0.00"},0,{"v":0,"d":"$0.00"},{"$nulls":91},2]
[{"$f":"IF('VETS-701B Participant Info'!$F12=2,'VETS-701B Participant Info'!$A12,\"  \")","v":"  "},{"$f":"IF('VETS-701B Participant Info'!$F12=2,'VETS-701B Participant Info'!$B12,\"  \")","v":"  "},{"$nulls":4},{"v":0,"d":"$0.00"},{"$nulls":3},{"v":0,"d":"$0.00"},0,{"v":0,"d":"$0.00"},{"$nulls":91},2]
[{"$f":"IF('VETS-701B Participant Info'!$F13=2,'VETS-701B Participant Info'!$A13,\"  \")","v":"  "},{"$f":"IF('VETS-701B Participant Info'!$F13=2,'VETS-701B Participant Info'!$B13,\"  \")","v":"  "},{"$nulls":4},{"v":0,"d":"$0.00"},{"$nulls":3},{"v":0,"d":"$0.00"},0,{"v":0,"d":"$0.00"},{"$nulls":91},2]
[{"$f":"IF('VETS-701B Participant Info'!$F14=2,'VETS-701B Participant Info'!$A14,\"  \")","v":"  "},{"$f":"IF('VETS-701B Participant Info'!$F14=2,'VETS-701B Participant Info'!$B14,\"  \")","v":"  "},{"$nulls":4},{"v":0,"d":"$0.00"},{"$nulls":3},{"v":0,"d":"$0.00"},0,{"v":0,"d":"$0.00"},{"$nulls":91},2]
[{"$f":"IF('VETS-701B Participant Info'!$F15=2,'VETS-701B Participant Info'!$A15,\"  \")","v":"  "},{"$f":"IF('VETS-701B Participant Info'!$F15=2,'VETS-701B Participant Info'!$B15,\"  \")","v":"  "},{"$nulls":4},{"v":0,"d":"$0.00"},{"$nulls":3},{"v":0,"d":"$0.00"},0,{"v":0,"d":"$0.00"},{"$nulls":91},2]
[{"$f":"IF('VETS-701B Participant Info'!$F16=2,'VETS-701B Participant Info'!$A16,\"  \")","v":"  "},{"$f":"IF('VETS-701B Participant Info'!$F16=2,'VETS-701B Participant Info'!$B16,\"  \")","v":"  "},{"$nulls":4},{"v":0,"d":"$0.00"},{"$nulls":3},{"v":0,"d":"$0.00"},0,{"v":0,"d":"$0.00"},{"$nulls":91},2]
[{"$f":"IF('VETS-701B Participant Info'!$F17=2,'VETS-701B Participant Info'!$A17,\"  \")","v":"  "},{"$f":"IF('VETS-701B Participant Info'!$F17=2,'VETS-701B Participant Info'!$B17,\"  \")","v":"  "},{"$nulls":4},{"v":0,"d":"$0.00"},{"$nulls":3},{"v":0,"d":"$0.00"},0,{"v":0,"d":"$0.00"},{"$nulls":91},2]
[{"$f":"IF('VETS-701B Participant Info'!$F18=2,'VETS-701B Participant Info'!$A18,\"  \")","v":"  "},{"$f":"IF('VETS-701B Participant Info'!$F18=2,'VETS-701B Participant Info'!$B18,\"  \")","v":"  "},{"$nulls":4},{"v":0,"d":"$0.00"},{"$nulls":3},{"v":0,"d":"$0.00"},0,{"v":0,"d":"$0.00"},{"$nulls":91},2]
[{"$f":"IF('VETS-701B Participant Info'!$F19=2,'VETS-701B Participant Info'!$A19,\"  \")","v":"  "},{"$f":"IF('VETS-701B Participant Info'!$F19=2,'VETS-701B Participant Info'!$B19,\"  \")","v":"  "},{"$nulls":4},{"v":0,"d":"$0.00"},{"$nulls":3},{"v":0,"d":"$0.00"},0,{"v":0,"d":"$0.00"},{"$nulls":91},2]
[{"$f":"IF('VETS-701B Participant Info'!$F20=2,'VETS-701B Participant Info'!$A20,\"  \")","v":"  "},{"$f":"IF('VETS-701B Participant Info'!$F20=2,'VETS-701B Participant Info'!$B20,\"  \")","v":"  "},{"$nulls":4},{"v":0,"d":"$0.00"},{"$nulls":3},{"v":0,"d":"$0.00"},0,{"v":0,"d":"$0.00"},{"$nulls":91},2]
[{"$f":"IF('VETS-701B Participant Info'!$F21=2,'VETS-701B Participant Info'!$A21,\"  \")","v":"  "},{"$f":"IF('VETS-701B Participant Info'!$F21=2,'VETS-701B Participant Info'!$B21,\"  \")","v":"  "},{"$nulls":4},{"v":0,"d":"$0.00"},{"$nulls":3},{"v":0,"d":"$0.00"},0,{"v":0,"d":"$0.00"},{"$nulls":91},2]
[{"$f":"IF('VETS-701B Participant Info'!$F22=2,'VETS-701B Participant Info'!$A22,\"  \")","v":"  "},{"$f":"IF('VETS-701B Participant Info'!$F22=2,'VETS-701B Participant Info'!$B22,\"  \")","v":"  "},{"$nulls":4},{"v":0,"d":"$0.00"},{"$nulls":3},{"v":0,"d":"$0.00"},0,{"v":0,"d":"$0.00"},{"$nulls":91},2]
[{"$f":"IF('VETS-701B Participant Info'!$F23=2,'VETS-701B Participant Info'!$A23,\"  \")","v":"  "},{"$f":"IF('VETS-701B Participant Info'!$F23=2,'VETS-701B Participant Info'!$B23,\"  \")","v":"  "},{"$nulls":4},{"v":0,"d":"$0.00"},{"$nulls":3},{"v":0,"d":"$0.00"},0,{"v":0,"d":"$0.00"},{"$nulls":91},2]
[{"$f":"IF('VETS-701B Participant Info'!$F24=2,'VETS-701B Participant Info'!$A24,\"  \")","v":"  "},{"$f":"IF('VETS-701B Participant Info'!$F24=2,'VETS-701B Participant Info'!$B24,\"  \")","v":"  "},{"$nulls":4},{"v":0,"d":"$0.00"},{"$nulls":3},{"v":0,"d":"$0.00"},0,{"v":0,"d":"$0.00"},{"$nulls":91},2]
[{"$f":"IF('VETS-701B Participant Info'!$F25=2,'VETS-701B Participant Info'!$A25,\"  \")","v":"  "},{"$f":"IF('VETS-701B Participant Info'!$F25=2,'VETS-701B Participant Info'!$B25,\"  \")","v":"  "},{"$nulls":4},{"v":0,"d":"$0.00"},{"$nulls":3},{"v":0,"d":"$0.00"},0,{"v":0,"d":"$0.00"},{"$nulls":91},2]
[{"$f":"IF('VETS-701B Participant Info'!$F26=2,'VETS-701B Participant Info'!$A26,\"  \")","v":"  "},{"$f":"IF('VETS-701B Participant Info'!$F26=2,'VETS-701B Participant Info'!$B26,\"  \")","v":"  "},{"$nulls":4},{"v":0,"d":"$0.00"},{"$nulls":3},{"v":0,"d":"$0.00"},0,{"v":0,"d":"$0.00"},{"$nulls":91},2]
[{"$f":"IF('VETS-701B Participant Info'!$F27=2,'VETS-701B Participant Info'!$A27,\"  \")","v":"  "},{"$f":"IF('VETS-701B Participant Info'!$F27=2,'VETS-701B Participant Info'!$B27,\"  \")","v":"  "},{"$nulls":4},{"v":0,"d":"$0.00"},{"$nulls":3},{"v":0,"d":"$0.00"},0,{"v":0,"d":"$0.00"},{"$nulls":91},2]
[{"$f":"IF('VETS-701B Participant Info'!$F28=2,'VETS-701B Participant Info'!$A28,\"  \")","v":"  "},{"$f":"IF('VETS-701B Participant Info'!$F28=2,'VETS-701B Participant Info'!$B28,\"  \")","v":"  "},{"$nulls":4},{"v":0,"d":"$0.00"},{"$nulls":3},{"v":0,"d":"$0.00"},0,{"v":0,"d":"$0.00"},{"$nulls":91},2]
[{"$f":"IF('VETS-701B Participant Info'!$F29=2,'VETS-701B Participant Info'!$A29,\"  \")","v":"  "},{"$f":"IF('VETS-701B Participant Info'!$F29=2,'VETS-701B Participant Info'!$B29,\"  \")","v":"  "},{"$nulls":4},{"v":0,"d":"$0.00"},{"$nulls":3},{"v":0,"d":"$0.00"},0,{"v":0,"d":"$0.00"},{"$nulls":91},2]
[{"$f":"IF('VETS-701B Participant Info'!$F30=2,'VETS-701B Participant Info'!$A30,\"  \")","v":"  "},{"$f":"IF('VETS-701B Participant Info'!$F30=2,'VETS-701B Participant Info'!$B30,\"  \")","v":"  "},{"$nulls":4},{"v":0,"d":"$0.00"},{"$nulls":3},{"v":0,"d":"$0.00"},0,{"v":0,"d":"$0.00"},{"$nulls":91},2]
[{"$f":"IF('VETS-701B Participant Info'!$F31=2,'VETS-701B Participant Info'!$A31,\"  \")","v":"  "},{"$f":"IF('VETS-701B Participant Info'!$F31=2,'VETS-701B Participant Info'!$B31,\"  \")","v":"  "},{"$nulls":4},{"v":0,"d":"$0.00"},{"$nulls":3},{"v":0,"d":"$0.00"},0,{"v":0,"d":"$0.00"},{"$nulls":91},2]
[{"$f":"IF('VETS-701B Participant Info'!$F32=2,'VETS-701B Participant Info'!$A32,\"  \")","v":"  "},{"$f":"IF('VETS-701B Participant Info'!$F32=2,'VETS-701B Participant Info'!$B32,\"  \")","v":"  "},{"$nulls":4},{"v":0,"d":"$0.00"},{"$nulls":3},{"v":0,"d":"$0.00"},0,{"v":0,"d":"$0.00"},{"$nulls":91},2]
[{"$f":"IF('VETS-701B Participant Info'!$F33=2,'VETS-701B Participant Info'!$A33,\"  \")","v":"  "},{"$f":"IF('VETS-701B Participant Info'!$F33=2,'VETS-701B Participant Info'!$B33,\"  \")","v":"  "},{"$nulls":4},{"v":0,"d":"$0.00"},{"$nulls":3},{"v":0,"d":"$0.00"},0,{"v":0,"d":"$0.00"},{"$nulls":91},2]
[{"$f":"IF('VETS-701B Participant Info'!$F34=2,'VETS-701B Participant Info'!$A34,\"  \")","v":"  "},{"$f":"IF('VETS-701B Participant Info'!$F34=2,'VETS-701B Participant Info'!$B34,\"  \")","v":"  "},{"$nulls":4},{"v":0,"d":"$0.00"},{"$nulls":3},{"v":0,"d":"$0.00"},0,{"v":0,"d":"$0.00"},{"$nulls":91},2]
[{"$f":"IF('VETS-701B Participant Info'!$F35=2,'VETS-701B Participant Info'!$A35,\"  \")","v":"  "},{"$f":"IF('VETS-701B Participant Info'!$F35=2,'VETS-701B Participant Info'!$B35,\"  \")","v":"  "},{"$nulls":4},{"v":0,"d":"$0.00"},{"$nulls":3},{"v":0,"d":"$0.00"},0,{"v":0,"d":"$0.00"},{"$nulls":91},2]
[{"$f":"IF('VETS-701B Participant Info'!$F36=2,'VETS-701B Participant Info'!$A36,\"  \")","v":"  "},{"$f":"IF('VETS-701B Participant Info'!$F36=2,'VETS-701B Participant Info'!$B36,\"  \")","v":"  "},{"$nulls":4},{"v":0,"d":"$0.00"},{"$nulls":3},{"v":0,"d":"$0.00"},0,{"v":0,"d":"$0.00"},{"$nulls":91},2]
[{"$f":"IF('VETS-701B Participant Info'!$F37=2,'VETS-701B Participant Info'!$A37,\"  \")","v":"  "},{"$f":"IF('VETS-701B Participant Info'!$F37=2,'VETS-701B Participant Info'!$B37,\"  \")","v":"  "},{"$nulls":4},{"v":0,"d":"$0.00"},{"$nulls":3},{"v":0,"d":"$0.00"},0,{"v":0,"d":"$0.00"},{"$nulls":91},2]
[{"$f":"IF('VETS-701B Participant Info'!$F38=2,'VETS-701B Participant Info'!$A38,\"  \")","v":"  "},{"$f":"IF('VETS-701B Participant Info'!$F38=2,'VETS-701B Participant Info'!$B38,\"  \")","v":"  "},{"$nulls":4},{"v":0,"d":"$0.00"},{"$nulls":3},{"v":0,"d":"$0.00"},0,{"v":0,"d":"$0.00"},{"$nulls":91},2]
[{"$f":"IF('VETS-701B Participant Info'!$F39=2,'VETS-701B Participant Info'!$A39,\"  \")","v":"  "},{"$f":"IF('VETS-701B Participant Info'!$F39=2,'VETS-701B Participant Info'!$B39,\"  \")","v":"  "},{"$nulls":4},{"v":0,"d":"$0.00"},{"$nulls":3},{"v":0,"d":"$0.00"},0,{"v":0,"d":"$0.00"},{"$nulls":91},2]
[{"$f":"IF('VETS-701B Participant Info'!$F40=2,'VETS-701B Participant Info'!$A40,\"  \")","v":"  "},{"$f":"IF('VETS-701B Participant Info'!$F40=2,'VETS-701B Participant Info'!$B40,\"  \")","v":"  "},{"$nulls":4},{"v":0,"d":"$0.00"},{"$nulls":3},{"v":0,"d":"$0.00"},0,{"v":0,"d":"$0.00"},{"$nulls":91},2]
[{"$f":"IF('VETS-701B Participant Info'!$F41=2,'VETS-701B Participant Info'!$A41,\"  \")","v":"  "},{"$f":"IF('VETS-701B Participant Info'!$F41=2,'VETS-701B Participant Info'!$B41,\"  \")","v":"  "},{"$nulls":4},{"v":0,"d":"$0.00"},{"$nulls":3},{"v":0,"d":"$0.00"},0,{"v":0,"d":"$0.00"},{"$nulls":91},2]
[{"$f":"IF('VETS-701B Participant Info'!$F42=2,'VETS-701B Participant Info'!$A42,\"  \")","v":"  "},{"$f":"IF('VETS-701B Participant Info'!$F42=2,'VETS-701B Participant Info'!$B42,\"  \")","v":"  "},{"$nulls":4},{"v":0,"d":"$0.00"},{"$nulls":3},{"v":0,"d":"$0.00"},0,{"v":0,"d":"$0.00"},{"$nulls":91},2]
[{"$f":"IF('VETS-701B Participant Info'!$F43=2,'VETS-701B Participant Info'!$A43,\"  \")","v":"  "},{"$f":"IF('VETS-701B Participant Info'!$F43=2,'VETS-701B Participant Info'!$B43,\"  \")","v":"  "},{"$nulls":4},{"v":0,"d":"$0.00"},{"$nulls":3},{"v":0,"d":"$0.00"},0,{"v":0,"d":"$0.00"},{"$nulls":91},2]
[{"$f":"IF('VETS-701B Participant Info'!$F44=2,'VETS-701B Participant Info'!$A44,\"  \")","v":"  "},{"$f":"IF('VETS-701B Participant Info'!$F44=2,'VETS-701B Participant Info'!$B44,\"  \")","v":"  "},{"$nulls":4},{"v":0,"d":"$0.00"},{"$nulls":3},{"v":0,"d":"$0.00"},0,{"v":0,"d":"$0.00"},{"$nulls":91},2]
[{"$f":"IF('VETS-701B Participant Info'!$F45=2,'VETS-701B Participant Info'!$A45,\"  \")","v":"  "},{"$f":"IF('VETS-701B Participant Info'!$F45=2,'VETS-701B Participant Info'!$B45,\"  \")","v":"  "},{"$nulls":4},{"v":0,"d":"$0.00"},{"$nulls":3},{"v":0,"d":"$0.00"},0,{"v":0,"d":"$0.00"},{"$nulls":91},2]
[{"$f":"IF('VETS-701B Participant Info'!$F46=2,'VETS-701B Participant Info'!$A46,\"  \")","v":"  "},{"$f":"IF('VETS-701B Participant Info'!$F46=2,'VETS-701B Participant Info'!$B46,\"  \")","v":"  "},{"$nulls":4},{"v":0,"d":"$0.00"},{"$nulls":3},{"v":0,"d":"$0.00"},0,{"v":0,"d":"$0.00"},{"$nulls":91},2]
[{"$f":"IF('VETS-701B Participant Info'!$F47=2,'VETS-701B Participant Info'!$A47,\"  \")","v":"  "},{"$f":"IF('VETS-701B Participant Info'!$F47=2,'VETS-701B Participant Info'!$B47,\"  \")","v":"  "},{"$nulls":4},{"v":0,"d":"$0.00"},{"$nulls":3},{"v":0,"d":"$0.00"},0,{"v":0,"d":"$0.00"},{"$nulls":91},2]
[{"$f":"IF('VETS-701B Participant Info'!$F48=2,'VETS-701B Participant Info'!$A48,\"  \")","v":"  "},{"$f":"IF('VETS-701B Participant Info'!$F48=2,'VETS-701B Participant Info'!$B48,\"  \")","v":"  "},{"$nulls":4},{"v":0,"d":"$0.00"},{"$nulls":3},{"v":0,"d":"$0.00"},0,{"v":0,"d":"$0.00"},{"$nulls":91},2]
[{"$f":"IF('VETS-701B Participant Info'!$F49=2,'VETS-701B Participant Info'!$A49,\"  \")","v":"  "},{"$f":"IF('VETS-701B Participant Info'!$F49=2,'VETS-701B Participant Info'!$B49,\"  \")","v":"  "},{"$nulls":4},{"v":0,"d":"$0.00"},{"$nulls":3},{"v":0,"d":"$0.00"},0,{"v":0,"d":"$0.00"},{"$nulls":91},2]
[{"$f":"IF('VETS-701B Participant Info'!$F50=2,'VETS-701B Participant Info'!$A50,\"  \")","v":"  "},{"$f":"IF('VETS-701B Participant Info'!$F50=2,'VETS-701B Participant Info'!$B50,\"  \")","v":"  "},{"$nulls":4},{"v":0,"d":"$0.00"},{"$nulls":3},{"v":0,"d":"$0.00"},0,{"v":0,"d":"$0.00"},{"$nulls":91},2]
[{"$f":"IF('VETS-701B Participant Info'!$F51=2,'VETS-701B Participant Info'!$A51,\"  \")","v":"  "},{"$f":"IF('VETS-701B Participant Info'!$F51=2,'VETS-701B Participant Info'!$B51,\"  \")","v":"  "},{"$nulls":4},{"v":0,"d":"$0.00"},{"$nulls":3},{"v":0,"d":"$0.00"},0,{"v":0,"d":"$0.00"},{"$nulls":91},2]
[{"$f":"IF('VETS-701B Participant Info'!$F52=2,'VETS-701B Participant Info'!$A52,\"  \")","v":"  "},{"$f":"IF('VETS-701B Participant Info'!$F52=2,'VETS-701B Participant Info'!$B52,\"  \")","v":"  "},{"$nulls":4},{"v":0,"d":"$0.00"},{"$nulls":3},{"v":0,"d":"$0.00"},0,{"v":0,"d":"$0.00"},{"$nulls":91},2]
[{"$f":"IF('VETS-701B Participant Info'!$F53=2,'VETS-701B Participant Info'!$A53,\"  \")","v":"  "},{"$f":"IF('VETS-701B Participant Info'!$F53=2,'VETS-701B Participant Info'!$B53,\"  \")","v":"  "},{"$nulls":4},{"v":0,"d":"$0.00"},{"$nulls":3},{"v":0,"d":"$0.00"},0,{"v":0,"d":"$0.00"},{"$nulls":91},2]
[{"$f":"IF('VETS-701B Participant Info'!$F54=2,'VETS-701B Participant Info'!$A54,\"  \")","v":"  "},{"$f":"IF('VETS-701B Participant Info'!$F54=2,'VETS-701B Participant Info'!$B54,\"  \")","v":"  "},{"$nulls":4},{"v":0,"d":"$0.00"},{"$nulls":3},{"v":0,"d":"$0.00"},0,{"v":0,"d":"$0.00"},{"$nulls":91},2]
[{"$f":"IF('VETS-701B Participant Info'!$F55=2,'VETS-701B Participant Info'!$A55,\"  \")","v":"  "},{"$f":"IF('VETS-701B Participant Info'!$F55=2,'VETS-701B Participant Info'!$B55,\"  \")","v":"  "},{"$nulls":4},{"v":0,"d":"$0.00"},{"$nulls":3},{"v":0,"d":"$0.00"},0,{"v":0,"d":"$0.00"},{"$nulls":91},2]
[{"$f":"IF('VETS-701B Participant Info'!$F56=2,'VETS-701B Participant Info'!$A56,\"  \")","v":"  "},{"$f":"IF('VETS-701B Participant Info'!$F56=2,'VETS-701B Participant Info'!$B56,\"  \")","v":"  "},{"$nulls":4},{"v":0,"d":"$0.00"},{"$nulls":3},{"v":0,"d":"$0.00"},0,{"v":0,"d":"$0.00"},{"$nulls":91},2]
[{"$f":"IF('VETS-701B Participant Info'!$F57=2,'VETS-701B Participant Info'!$A57,\"  \")","v":"  "},{"$f":"IF('VETS-701B Participant Info'!$F57=2,'VETS-701B Participant Info'!$B57,\"  \")","v":"  "},{"$nulls":4},{"v":0,"d":"$0.00"},{"$nulls":3},{"v":0,"d":"$0.00"},0,{"v":0,"d":"$0.00"},{"$nulls":91},2]
[{"$f":"IF('VETS-701B Participant Info'!$F58=2,'VETS-701B Participant Info'!$A58,\"  \")","v":"  "},{"$f":"IF('VETS-701B Participant Info'!$F58=2,'VETS-701B Participant Info'!$B58,\"  \")","v":"  "},{"$nulls":4},{"v":0,"d":"$0.00"},{"$nulls":3},{"v":0,"d":"$0.00"},0,{"v":0,"d":"$0.00"},{"$nulls":91},2]
[{"$f":"IF('VETS-701B Participant Info'!$F59=2,'VETS-701B Participant Info'!$A59,\"  \")","v":"  "},{"$f":"IF('VETS-701B Participant Info'!$F59=2,'VETS-701B Participant Info'!$B59,\"  \")","v":"  "},{"$nulls":4},{"v":0,"d":"$0.00"},{"$nulls":3},{"v":0,"d":"$0.00"},0,{"v":0,"d":"$0.00"},{"$nulls":91},2]
[{"$f":"IF('VETS-701B Participant Info'!$F60=2,'VETS-701B Participant Info'!$A60,\"  \")","v":"  "},{"$f":"IF('VETS-701B Participant Info'!$F60=2,'VETS-701B Participant Info'!$B60,\"  \")","v":"  "},{"$nulls":4},{"v":0,"d":"$0.00"},{"$nulls":3},{"v":0,"d":"$0.00"},0,{"v":0,"d":"$0.00"},{"$nulls":91},2]
[{"$f":"IF('VETS-701B Participant Info'!$F61=2,'VETS-701B Participant Info'!$A61,\"  \")","v":"  "},{"$f":"IF('VETS-701B Participant Info'!$F61=2,'VETS-701B Participant Info'!$B61,\"  \")","v":"  "},{"$nulls":4},{"v":0,"d":"$0.00"},{"$nulls":3},{"v":0,"d":"$0.00"},0,{"v":0,"d":"$0.00"},{"$nulls":91},2]
[{"$f":"IF('VETS-701B Participant Info'!$F62=2,'VETS-701B Participant Info'!$A62,\"  \")","v":"  "},{"$f":"IF('VETS-701B Participant Info'!$F62=2,'VETS-701B Participant Info'!$B62,\"  \")","v":"  "},{"$nulls":4},{"v":0,"d":"$0.00"},{"$nulls":3},{"v":0,"d":"$0.00"},0,{"v":0,"d":"$0.00"},{"$nulls":91},2]
[{"$f":"IF('VETS-701B Participant Info'!$F63=2,'VETS-701B Participant Info'!$A63,\"  \")","v":"  "},{"$f":"IF('VETS-701B Participant Info'!$F63=2,'VETS-701B Participant Info'!$B63,\"  \")","v":"  "},{"$nulls":4},{"v":0,"d":"$0.00"},{"$nulls":3},{"v":0,"d":"$0.00"},0,{"v":0,"d":"$0.00"},{"$nulls":91},2]
[{"$f":"IF('VETS-701B Participant Info'!$F64=2,'VETS-701B Participant Info'!$A64,\"  \")","v":"  "},{"$f":"IF('VETS-701B Participant Info'!$F64=2,'VETS-701B Participant Info'!$B64,\"  \")","v":"  "},{"$nulls":4},{"v":0,"d":"$0.00"},{"$nulls":3},{"v":0,"d":"$0.00"},0,{"v":0,"d":"$0.00"},{"$nulls":91},2]
[{"$f":"IF('VETS-701B Participant Info'!$F65=2,'VETS-701B Participant Info'!$A65,\"  \")","v":"  "},{"$f":"IF('VETS-701B Participant Info'!$F65=2,'VETS-701B Participant Info'!$B65,\"  \")","v":"  "},{"$nulls":4},{"v":0,"d":"$0.00"},{"$nulls":3},{"v":0,"d":"$0.00"},0,{"v":0,"d":"$0.00"},{"$nulls":91},2]
[{"$f":"IF('VETS-701B Participant Info'!$F66=2,'VETS-701B Participant Info'!$A66,\"  \")","v":"  "},{"$f":"IF('VETS-701B Participant Info'!$F66=2,'VETS-701B Participant Info'!$B66,\"  \")","v":"  "},{"$nulls":4},{"$f":"SUM(E69*F69*13)","v":{"v":0,"d":"$0.00"}},{"$nulls":3},{"$f":"SUM(I69*J69*13)","v":{"v":0,"d":"$0.00"}},{"$f":"SUM(H69+D69+C69)","v":0},{"$f":"IF(L69=3,K69+G69,0)","v":{"v":0,"d":"$0.00"}},{"$nulls":91},2]
[{"$f":"IF('VETS-701B Participant Info'!$F67=2,'VETS-701B Participant Info'!$A67,\"  \")","v":"  "},{"$f":"IF('VETS-701B Participant Info'!$F67=2,'VETS-701B Participant Info'!$B67,\"  \")","v":"  "},{"$nulls":4},{"v":0,"d":"$0.00"},{"$nulls":3},{"v":0,"d":"$0.00"},0,{"v":0,"d":"$0.00"},{"$nulls":91},{"$f":"IF($B70> \"             \",1,2)","v":2}]
[{"$f":"IF('VETS-701B Participant Info'!$F68=2,'VETS-701B Participant Info'!$A68,\"  \")","v":"  "},{"$f":"IF('VETS-701B Participant Info'!$F68=2,'VETS-701B Participant Info'!$B68,\"  \")","v":"  "},{"$nulls":4},{"v":0,"d":"$0.00"},{"$nulls":3},{"v":0,"d":"$0.00"},0,{"v":0,"d":"$0.00"},{"$nulls":91},2]
[{"$f":"IF('VETS-701B Participant Info'!$F69=2,'VETS-701B Participant Info'!$A69,\"  \")","v":"  "},{"$f":"IF('VETS-701B Participant Info'!$F69=2,'VETS-701B Participant Info'!$B69,\"  \")","v":"  "},{"$nulls":4},{"v":0,"d":"$0.00"},{"$nulls":3},{"v":0,"d":"$0.00"},0,{"v":0,"d":"$0.00"},{"$nulls":91},2]
[{"$f":"IF('VETS-701B Participant Info'!$F70=2,'VETS-701B Participant Info'!$A70,\"  \")","v":"  "},{"$f":"IF('VETS-701B Participant Info'!$F70=2,'VETS-701B Participant Info'!$B70,\"  \")","v":"  "},{"$nulls":4},{"v":0,"d":"$0.00"},{"$nulls":3},{"v":0,"d":"$0.00"},0,{"v":0,"d":"$0.00"},{"$nulls":91},2]
[{"$f":"IF('VETS-701B Participant Info'!$F71=2,'VETS-701B Participant Info'!$A71,\"  \")","v":"  "},{"$f":"IF('VETS-701B Participant Info'!$F71=2,'VETS-701B Participant Info'!$B71,\"  \")","v":"  "},{"$nulls":4},{"v":0,"d":"$0.00"},{"$nulls":3},{"v":0,"d":"$0.00"},0,{"v":0,"d":"$0.00"},{"$nulls":91},2]
[{"$f":"IF('VETS-701B Participant Info'!$F72=2,'VETS-701B Participant Info'!$A72,\"  \")","v":"  "},{"$f":"IF('VETS-701B Participant Info'!$F72=2,'VETS-701B Participant Info'!$B72,\"  \")","v":"  "},{"$nulls":4},{"v":0,"d":"$0.00"},{"$nulls":3},{"v":0,"d":"$0.00"},0,{"v":0,"d":"$0.00"},{"$nulls":91},2]
[{"$f":"IF('VETS-701B Participant Info'!$F73=2,'VETS-701B Participant Info'!$A73,\"  \")","v":"  "},{"$f":"IF('VETS-701B Participant Info'!$F73=2,'VETS-701B Participant Info'!$B73,\"  \")","v":"  "},{"$nulls":4},{"v":0,"d":"$0.00"},{"$nulls":3},{"v":0,"d":"$0.00"},0,{"v":0,"d":"$0.00"},{"$nulls":91},2]
[{"$f":"IF('VETS-701B Participant Info'!$F74=2,'VETS-701B Participant Info'!$A74,\"  \")","v":"  "},{"$f":"IF('VETS-701B Participant Info'!$F74=2,'VETS-701B Participant Info'!$B74,\"  \")","v":"  "},{"$nulls":4},{"v":0,"d":"$0.00"},{"$nulls":3},{"v":0,"d":"$0.00"},0,{"v":0,"d":"$0.00"},{"$nulls":91},2]
[{"$f":"IF('VETS-701B Participant Info'!$F75=2,'VETS-701B Participant Info'!$A75,\"  \")","v":"  "},{"$f":"IF('VETS-701B Participant Info'!$F75=2,'VETS-701B Participant Info'!$B75,\"  \")","v":"  "},{"$nulls":4},{"v":0,"d":"$0.00"},{"$nulls":3},{"v":0,"d":"$0.00"},0,{"v":0,"d":"$0.00"},{"$nulls":91},2]
[{"$f":"IF('VETS-701B Participant Info'!$F76=2,'VETS-701B Participant Info'!$A76,\"  \")","v":"  "},{"$f":"IF('VETS-701B Participant Info'!$F76=2,'VETS-701B Participant Info'!$B76,\"  \")","v":"  "},{"$nulls":4},{"v":0,"d":"$0.00"},{"$nulls":3},{"v":0,"d":"$0.00"},0,{"v":0,"d":"$0.00"},{"$nulls":91},2]
[{"$f":"IF('VETS-701B Participant Info'!$F77=2,'VETS-701B Participant Info'!$A77,\"  \")","v":"  "},{"$f":"IF('VETS-701B Participant Info'!$F77=2,'VETS-701B Participant Info'!$B77,\"  \")","v":"  "},{"$nulls":4},{"v":0,"d":"$0.00"},{"$nulls":3},{"v":0,"d":"$0.00"},0,{"v":0,"d":"$0.00"},{"$nulls":91},2]
[{"$f":"IF('VETS-701B Participant Info'!$F78=2,'VETS-701B Participant Info'!$A78,\"  \")","v":"  "},{"$f":"IF('VETS-701B Participant Info'!$F78=2,'VETS-701B Participant Info'!$B78,\"  \")","v":"  "},{"$nulls":4},{"v":0,"d":"$0.00"},{"$nulls":3},{"v":0,"d":"$0.00"},0,{"v":0,"d":"$0.00"},{"$nulls":91},2]
[{"$f":"IF('VETS-701B Participant Info'!$F79=2,'VETS-701B Participant Info'!$A79,\"  \")","v":"  "},{"$f":"IF('VETS-701B Participant Info'!$F79=2,'VETS-701B Participant Info'!$B79,\"  \")","v":"  "},{"$nulls":4},{"v":0,"d":"$0.00"},{"$nulls":3},{"v":0,"d":"$0.00"},0,{"v":0,"d":"$0.00"},{"$nulls":91},2]
[{"$f":"IF('VETS-701B Participant Info'!$F80=2,'VETS-701B Participant Info'!$A80,\"  \")","v":"  "},{"$f":"IF('VETS-701B Participant Info'!$F80=2,'VETS-701B Participant Info'!$B80,\"  \")","v":"  "},{"$nulls":4},{"v":0,"d":"$0.00"},{"$nulls":3},{"v":0,"d":"$0.00"},0,{"v":0,"d":"$0.00"},{"$nulls":91},2]
[{"$f":"IF('VETS-701B Participant Info'!$F81=2,'VETS-701B Participant Info'!$A81,\"  \")","v":"  "},{"$f":"IF('VETS-701B Participant Info'!$F81=2,'VETS-701B Participant Info'!$B81,\"  \")","v":"  "},{"$nulls":4},{"v":0,"d":"$0.00"},{"$nulls":3},{"v":0,"d":"$0.00"},0,{"v":0,"d":"$0.00"},{"$nulls":91},2]
[{"$f":"IF('VETS-701B Participant Info'!$F82=2,'VETS-701B Participant Info'!$A82,\"  \")","v":"  "},{"$f":"IF('VETS-701B Participant Info'!$F82=2,'VETS-701B Participant Info'!$B82,\"  \")","v":"  "},{"$nulls":4},{"v":0,"d":"$0.00"},{"$nulls":3},{"v":0,"d":"$0.00"},0,{"v":0,"d":"$0.00"},{"$nulls":91},2]
[{"$f":"IF('VETS-701B Participant Info'!$F83=2,'VETS-701B Participant Info'!$A83,\"  \")","v":"  "},{"$f":"IF('VETS-701B Participant Info'!$F83=2,'VETS-701B Participant Info'!$B83,\"  \")","v":"  "},{"$nulls":4},{"v":0,"d":"$0.00"},{"$nulls":3},{"v":0,"d":"$0.00"},0,{"v":0,"d":"$0.00"},{"$nulls":91},2]
[{"$f":"IF('VETS-701B Participant Info'!$F84=2,'VETS-701B Participant Info'!$A84,\"  \")","v":"  "},{"$f":"IF('VETS-701B Participant Info'!$F84=2,'VETS-701B Participant Info'!$B84,\"  \")","v":"  "},{"$nulls":4},{"v":0,"d":"$0.00"},{"$nulls":3},{"v":0,"d":"$0.00"},0,{"v":0,"d":"$0.00"},{"$nulls":91},2]
[{"$f":"IF('VETS-701B Participant Info'!$F85=2,'VETS-701B Participant Info'!$A85,\"  \")","v":"  "},{"$f":"IF('VETS-701B Participant Info'!$F85=2,'VETS-701B Participant Info'!$B85,\"  \")","v":"  "},{"$nulls":4},{"v":0,"d":"$0.00"},{"$nulls":3},{"v":0,"d":"$0.00"},0,{"v":0,"d":"$0.00"},{"$nulls":91},2]
[{"$f":"IF('VETS-701B Participant Info'!$F86=2,'VETS-701B Participant Info'!$A86,\"  \")","v":"  "},{"$f":"IF('VETS-701B Participant Info'!$F86=2,'VETS-701B Participant Info'!$B86,\"  \")","v":"  "},{"$nulls":4},{"v":0,"d":"$0.00"},{"$nulls":3},{"v":0,"d":"$0.00"},0,{"v":0,"d":"$0.00"},{"$nulls":91},2]
[{"$f":"IF('VETS-701B Participant Info'!$F87=2,'VETS-701B Participant Info'!$A87,\"  \")","v":"  "},{"$f":"IF('VETS-701B Participant Info'!$F87=2,'VETS-701B Participant Info'!$B87,\"  \")","v":"  "},{"$nulls":4},{"v":0,"d":"$0.00"},{"$nulls":3},{"v":0,"d":"$0.00"},0,{"v":0,"d":"$0.00"},{"$nulls":91},2]
[{"$f":"IF('VETS-701B Participant Info'!$F88=2,'VETS-701B Participant Info'!$A88,\"  \")","v":"  "},{"$f":"IF('VETS-701B Participant Info'!$F88=2,'VETS-701B Participant Info'!$B88,\"  \")","v":"  "},{"$nulls":4},{"v":0,"d":"$0.00"},{"$nulls":3},{"v":0,"d":"$0.00"},0,{"v":0,"d":"$0.00"},{"$nulls":91},2]
[{"$f":"IF('VETS-701B Participant Info'!$F89=2,'VETS-701B Participant Info'!$A89,\"  \")","v":"  "},{"$f":"IF('VETS-701B Participant Info'!$F89=2,'VETS-701B Participant Info'!$B89,\"  \")","v":"  "},{"$nulls":4},{"v":0,"d":"$0.00"},{"$nulls":3},{"v":0,"d":"$0.00"},0,{"v":0,"d":"$0.00"},{"$nulls":91},2]
[{"$f":"IF('VETS-701B Participant Info'!$F90=2,'VETS-701B Participant Info'!$A90,\"  \")","v":"  "},{"$f":"IF('VETS-701B Participant Info'!$F90=2,'VETS-701B Participant Info'!$B90,\"  \")","v":"  "},{"$nulls":4},{"v":0,"d":"$0.00"},{"$nulls":3},{"v":0,"d":"$0.00"},0,{"v":0,"d":"$0.00"},{"$nulls":91},2]
[{"$f":"IF('VETS-701B Participant Info'!$F91=2,'VETS-701B Participant Info'!$A91,\"  \")","v":"  "},{"$f":"IF('VETS-701B Participant Info'!$F91=2,'VETS-701B Participant Info'!$B91,\"  \")","v":"  "},{"$nulls":4},{"v":0,"d":"$0.00"},{"$nulls":3},{"v":0,"d":"$0.00"},0,{"v":0,"d":"$0.00"},{"$nulls":91},2]
[{"$f":"IF('VETS-701B Participant Info'!$F92=2,'VETS-701B Participant Info'!$A92,\"  \")","v":"  "},{"$f":"IF('VETS-701B Participant Info'!$F92=2,'VETS-701B Participant Info'!$B92,\"  \")","v":"  "},{"$nulls":4},{"v":0,"d":"$0.00"},{"$nulls":3},{"v":0,"d":"$0.00"},0,{"v":0,"d":"$0.00"},{"$nulls":91},2]
[{"$f":"IF('VETS-701B Participant Info'!$F93=2,'VETS-701B Participant Info'!$A93,\"  \")","v":"  "},{"$f":"IF('VETS-701B Participant Info'!$F93=2,'VETS-701B Participant Info'!$B93,\"  \")","v":"  "},{"$nulls":4},{"v":0,"d":"$0.00"},{"$nulls":3},{"v":0,"d":"$0.00"},0,{"v":0,"d":"$0.00"},{"$nulls":91},2]
[{"$f":"IF('VETS-701B Participant Info'!$F94=2,'VETS-701B Participant Info'!$A94,\"  \")","v":"  "},{"$f":"IF('VETS-701B Participant Info'!$F94=2,'VETS-701B Participant Info'!$B94,\"  \")","v":"  "},{"$nulls":4},{"v":0,"d":"$0.00"},{"$nulls":3},{"v":0,"d":"$0.00"},0,{"v":0,"d":"$0.00"},{"$nulls":91},2]
[{"$f":"IF('VETS-701B Participant Info'!$F95=2,'VETS-701B Participant Info'!$A95,\"  \")","v":"  "},{"$f":"IF('VETS-701B Participant Info'!$F95=2,'VETS-701B Participant Info'!$B95,\"  \")","v":"  "},{"$nulls":4},{"v":0,"d":"$0.00"},{"$nulls":3},{"v":0,"d":"$0.00"},0,{"v":0,"d":"$0.00"},{"$nulls":91},2]
[{"$f":"IF('VETS-701B Participant Info'!$F96=2,'VETS-701B Participant Info'!$A96,\"  \")","v":"  "},{"$f":"IF('VETS-701B Participant Info'!$F96=2,'VETS-701B Participant Info'!$B96,\"  \")","v":"  "},{"$nulls":4},{"v":0,"d":"$0.00"},{"$nulls":3},{"v":0,"d":"$0.00"},0,{"v":0,"d":"$0.00"},{"$nulls":91},2]
[{"$f":"IF('VETS-701B Participant Info'!$F97=2,'VETS-701B Participant Info'!$A97,\"  \")","v":"  "},{"$f":"IF('VETS-701B Participant Info'!$F97=2,'VETS-701B Participant Info'!$B97,\"  \")","v":"  "},{"$nulls":4},{"v":0,"d":"$0.00"},{"$nulls":3},{"v":0,"d":"$0.00"},0,{"v":0,"d":"$0.00"},{"$nulls":91},2]
[{"$f":"IF('VETS-701B Participant Info'!$F98=2,'VETS-701B Participant Info'!$A98,\"  \")","v":"  "},{"$f":"IF('VETS-701B Participant Info'!$F98=2,'VETS-701B Participant Info'!$B98,\"  \")","v":"  "},{"$nulls":4},{"$f":"SUM(E101*F101*13)","v":{"v":0,"d":"$0.00"}},{"$nulls":3},{"$f":"SUM(I101*J101*13)","v":{"v":0,"d":"$0.00"}},0,{"$f":"IF(L101=3,K101+G101,0)","v":{"v":0,"d":"$0.00"}},{"$nulls":91},2]
[{"$f":"IF('VETS-701B Participant Info'!$F99=2,'VETS-701B Participant Info'!$A99,\"  \")","v":"  "},{"$f":"IF('VETS-701B Participant Info'!$F99=2,'VETS-701B Participant Info'!$B99,\"  \")","v":"  "},{"$nulls":4},{"$f":"SUM(E102*F102*13)","v":{"v":0,"d":"$0.00"}},{"$nulls":3},{"$f":"SUM(I102*J102*13)","v":{"v":0,"d":"$0.00"}},0,{"$f":"IF(L102=3,K102+G102,0)","v":{"v":0,"d":"$0.00"}},{"$nulls":91},2]
[{"$f":"IF('VETS-701B Participant Info'!$F100=2,'VETS-701B Participant Info'!$A100,\"  \")","v":"  "},{"$f":"IF('VETS-701B Participant Info'!$F100=2,'VETS-701B Participant Info'!$B100,\"  \")","v":"  "},{"$nulls":4},{"$f":"SUM(E103*F103*13)","v":{"v":0,"d":"$0.00"}},{"$nulls":3},{"$f":"SUM(I103*J103*13)","v":{"v":0,"d":"$0.00"}},0,{"$f":"IF(L103=3,K103+G103,0)","v":{"v":0,"d":"$0.00"}},{"$nulls":91},2]
[{"$f":"IF('VETS-701B Participant Info'!$F101=2,'VETS-701B Participant Info'!$A101,\"  \")","v":"  "},{"$f":"IF('VETS-701B Participant Info'!$F101=2,'VETS-701B Participant Info'!$B101,\"  \")","v":"  "},{"$nulls":4},{"$f":"SUM(E104*F104*13)","v":{"v":0,"d":"$0.00"}},{"$nulls":3},{"$f":"SUM(I104*J104*13)","v":{"v":0,"d":"$0.00"}},0,{"$f":"IF(L104=3,K104+G104,0)","v":{"v":0,"d":"$0.00"}},{"$nulls":91},2]
[{"$f":"IF('VETS-701B Participant Info'!$F102=2,'VETS-701B Participant Info'!$A102,\"  \")","v":"  "},{"$f":"IF('VETS-701B Participant Info'!$F102=2,'VETS-701B Participant Info'!$B102,\"  \")","v":"  "},{"$nulls":4},{"$f":"SUM(E105*F105*13)","v":{"v":0,"d":"$0.00"}},{"$nulls":3},{"$f":"SUM(I105*J105*13)","v":{"v":0,"d":"$0.00"}},0,{"$f":"IF(L105=3,K105+G105,0)","v":{"v":0,"d":"$0.00"}},{"$nulls":91},2]
[{"$f":"IF('VETS-701B Participant Info'!$F103=2,'VETS-701B Participant Info'!$A103,\"  \")","v":"  "},{"$f":"IF('VETS-701B Participant Info'!$F103=2,'VETS-701B Participant Info'!$B103,\"  \")","v":"  "},{"$nulls":4},{"v":0,"d":"$0.00"},{"$nulls":3},{"v":0,"d":"$0.00"},0,{"v":0,"d":"$0.00"},{"$nulls":91},2]
[{"$f":"IF('VETS-701B Participant Info'!$F104=2,'VETS-701B Participant Info'!$A104,\"  \")","v":"  "},{"$f":"IF('VETS-701B Participant Info'!$F104=2,'VETS-701B Participant Info'!$B104,\"  \")","v":"  "},{"$nulls":4},{"v":0,"d":"$0.00"},{"$nulls":3},{"v":0,"d":"$0.00"},0,{"v":0,"d":"$0.00"},{"$nulls":91},2]
[{"$f":"IF('VETS-701B Participant Info'!$F105=2,'VETS-701B Participant Info'!$A105,\"  \")","v":"  "},{"$f":"IF('VETS-701B Participant Info'!$F105=2,'VETS-701B Participant Info'!$B105,\"  \")","v":"  "},{"$nulls":4},{"v":0,"d":"$0.00"},{"$nulls":3},{"v":0,"d":"$0.00"},0,{"v":0,"d":"$0.00"},{"$nulls":91},2]
[{"$f":"IF('VETS-701B Participant Info'!$F106=2,'VETS-701B Participant Info'!$A106,\"  \")","v":"  "},{"$f":"IF('VETS-701B Participant Info'!$F106=2,'VETS-701B Participant Info'!$B106,\"  \")","v":"  "},{"$nulls":4},{"v":0,"d":"$0.00"},{"$nulls":3},{"v":0,"d":"$0.00"},0,{"v":0,"d":"$0.00"},{"$nulls":91},2]
[{"$f":"IF('VETS-701B Participant Info'!$F107=2,'VETS-701B Participant Info'!$A107,\"  \")","v":"  "},{"$f":"IF('VETS-701B Participant Info'!$F107=2,'VETS-701B Participant Info'!$B107,\"  \")","v":"  "},{"$nulls":4},{"v":0,"d":"$0.00"},{"$nulls":3},{"v":0,"d":"$0.00"},0,{"v":0,"d":"$0.00"},{"$nulls":91},2]
[{"$f":"IF('VETS-701B Participant Info'!$F108=2,'VETS-701B Participant Info'!$A108,\"  \")","v":"  "},{"$f":"IF('VETS-701B Participant Info'!$F108=2,'VETS-701B Participant Info'!$B108,\"  \")","v":"  "},{"$nulls":4},{"v":0,"d":"$0.00"},{"$nulls":3},{"v":0,"d":"$0.00"},0,{"v":0,"d":"$0.00"},{"$nulls":91},2]
[{"$f":"IF('VETS-701B Participant Info'!$F109=2,'VETS-701B Participant Info'!$A109,\"  \")","v":"  "},{"$f":"IF('VETS-701B Participant Info'!$F109=2,'VETS-701B Participant Info'!$B109,\"  \")","v":"  "},{"$nulls":4},{"v":0,"d":"$0.00"},{"$nulls":3},{"v":0,"d":"$0.00"},0,{"v":0,"d":"$0.00"},{"$nulls":91},2]
[{"$f":"IF('VETS-701B Participant Info'!$F110=2,'VETS-701B Participant Info'!$A110,\"  \")","v":"  "},{"$f":"IF('VETS-701B Participant Info'!$F110=2,'VETS-701B Participant Info'!$B110,\"  \")","v":"  "},{"$nulls":4},{"v":0,"d":"$0.00"},{"$nulls":3},{"v":0,"d":"$0.00"},0,{"v":0,"d":"$0.00"},{"$nulls":91},2]
[{"$f":"IF('VETS-701B Participant Info'!$F111=2,'VETS-701B Participant Info'!$A111,\"  \")","v":"  "},{"$f":"IF('VETS-701B Participant Info'!$F111=2,'VETS-701B Participant Info'!$B111,\"  \")","v":"  "},{"$nulls":4},{"v":0,"d":"$0.00"},{"$nulls":3},{"v":0,"d":"$0.00"},0,{"v":0,"d":"$0.00"},{"$nulls":91},2]
[{"$f":"IF('VETS-701B Participant Info'!$F112=2,'VETS-701B Participant Info'!$A112,\"  \")","v":"  "},{"$f":"IF('VETS-701B Participant Info'!$F112=2,'VETS-701B Participant Info'!$B112,\"  \")","v":"  "},{"$nulls":4},{"v":0,"d":"$0.00"},{"$nulls":3},{"v":0,"d":"$0.00"},0,{"v":0,"d":"$0.00"},{"$nulls":91},2]
[{"$f":"IF('VETS-701B Participant Info'!$F113=2,'VETS-701B Participant Info'!$A113,\"  \")","v":"  "},{"$f":"IF('VETS-701B Participant Info'!$F113=2,'VETS-701B Participant Info'!$B113,\"  \")","v":"  "},{"$nulls":4},{"v":0,"d":"$0.00"},{"$nulls":3},{"v":0,"d":"$0.00"},0,{"v":0,"d":"$0.00"},{"$nulls":91},2]
[{"$f":"IF('VETS-701B Participant Info'!$F114=2,'VETS-701B Participant Info'!$A114,\"  \")","v":"  "},{"$f":"IF('VETS-701B Participant Info'!$F114=2,'VETS-701B Participant Info'!$B114,\"  \")","v":"  "},{"$nulls":4},{"v":0,"d":"$0.00"},{"$nulls":3},{"v":0,"d":"$0.00"},0,{"v":0,"d":"$0.00"},{"$nulls":91},2]
[{"$f":"IF('VETS-701B Participant Info'!$F115=2,'VETS-701B Participant Info'!$A115,\"  \")","v":"  "},{"$f":"IF('VETS-701B Participant Info'!$F115=2,'VETS-701B Participant Info'!$B115,\"  \")","v":"  "},{"$nulls":4},{"v":0,"d":"$0.00"},{"$nulls":3},{"v":0,"d":"$0.00"},0,{"v":0,"d":"$0.00"},{"$nulls":91},2]
[{"$f":"IF('VETS-701B Participant Info'!$F116=2,'VETS-701B Participant Info'!$A116,\"  \")","v":"  "},{"$f":"IF('VETS-701B Participant Info'!$F116=2,'VETS-701B Participant Info'!$B116,\"  \")","v":"  "},{"$nulls":4},{"v":0,"d":"$0.00"},{"$nulls":3},{"v":0,"d":"$0.00"},0,{"v":0,"d":"$0.00"},{"$nulls":91},2]
[{"$f":"IF('VETS-701B Participant Info'!$F117=2,'VETS-701B Participant Info'!$A117,\"  \")","v":"  "},{"$f":"IF('VETS-701B Participant Info'!$F117=2,'VETS-701B Participant Info'!$B117,\"  \")","v":"  "},{"$nulls":4},{"v":0,"d":"$0.00"},{"$nulls":3},{"v":0,"d":"$0.00"},0,{"v":0,"d":"$0.00"},{"$nulls":91},2]
[{"$f":"IF('VETS-701B Participant Info'!$F118=2,'VETS-701B Participant Info'!$A118,\"  \")","v":"  "},{"$f":"IF('VETS-701B Participant Info'!$F118=2,'VETS-701B Participant Info'!$B118,\"  \")","v":"  "},{"$nulls":4},{"v":0,"d":"$0.00"},{"$nulls":3},{"v":0,"d":"$0.00"},0,{"v":0,"d":"$0.00"},{"$nulls":91},2]
[{"$f":"IF('VETS-701B Participant Info'!$F119=2,'VETS-701B Participant Info'!$A119,\"  \")","v":"  "},{"$f":"IF('VETS-701B Participant Info'!$F119=2,'VETS-701B Participant Info'!$B119,\"  \")","v":"  "},{"$nulls":4},{"v":0,"d":"$0.00"},{"$nulls":3},{"v":0,"d":"$0.00"},0,{"v":0,"d":"$0.00"},{"$nulls":91},2]
[{"$f":"IF('VETS-701B Participant Info'!$F120=2,'VETS-701B Participant Info'!$A120,\"  \")","v":"  "},{"$f":"IF('VETS-701B Participant Info'!$F120=2,'VETS-701B Participant Info'!$B120,\"  \")","v":"  "},{"$nulls":4},{"v":0,"d":"$0.00"},{"$nulls":3},{"v":0,"d":"$0.00"},0,{"v":0,"d":"$0.00"},{"$nulls":91},2]
[{"$f":"IF('VETS-701B Participant Info'!$F121=2,'VETS-701B Participant Info'!$A121,\"  \")","v":"  "},{"$f":"IF('VETS-701B Participant Info'!$F121=2,'VETS-701B Participant Info'!$B121,\"  \")","v":"  "},{"$nulls":4},{"v":0,"d":"$0.00"},{"$nulls":3},{"v":0,"d":"$0.00"},0,{"v":0,"d":"$0.00"},{"$nulls":91},2]
[{"$f":"IF('VETS-701B Participant Info'!$F122=2,'VETS-701B Participant Info'!$A122,\"  \")","v":"  "},{"$f":"IF('VETS-701B Participant Info'!$F122=2,'VETS-701B Participant Info'!$B122,\"  \")","v":"  "},{"$nulls":4},{"v":0,"d":"$0.00"},{"$nulls":3},{"v":0,"d":"$0.00"},0,{"v":0,"d":"$0.00"},{"$nulls":91},2]
[{"$f":"IF('VETS-701B Participant Info'!$F123=2,'VETS-701B Participant Info'!$A123,\"  \")","v":"  "},{"$f":"IF('VETS-701B Participant Info'!$F123=2,'VETS-701B Participant Info'!$B123,\"  \")","v":"  "},{"$nulls":4},{"v":0,"d":"$0.00"},{"$nulls":3},{"v":0,"d":"$0.00"},0,{"v":0,"d":"$0.00"},{"$nulls":91},2]
[{"$f":"IF('VETS-701B Participant Info'!$F124=2,'VETS-701B Participant Info'!$A124,\"  \")","v":"  "},{"$f":"IF('VETS-701B Participant Info'!$F124=2,'VETS-701B Participant Info'!$B124,\"  \")","v":"  "},{"$nulls":4},{"v":0,"d":"$0.00"},{"$nulls":3},{"v":0,"d":"$0.00"},0,{"v":0,"d":"$0.00"},{"$nulls":91},2]
[{"$f":"IF('VETS-701B Participant Info'!$F125=2,'VETS-701B Participant Info'!$A125,\"  \")","v":"  "},{"$f":"IF('VETS-701B Participant Info'!$F125=2,'VETS-701B Participant Info'!$B125,\"  \")","v":"  "},{"$nulls":4},{"v":0,"d":"$0.00"},{"$nulls":3},{"v":0,"d":"$0.00"},0,{"v":0,"d":"$0.00"},{"$nulls":91},2]
[{"$f":"IF('VETS-701B Participant Info'!$F126=2,'VETS-701B Participant Info'!$A126,\"  \")","v":"  "},{"$f":"IF('VETS-701B Participant Info'!$F126=2,'VETS-701B Participant Info'!$B126,\"  \")","v":"  "},{"$nulls":4},{"v":0,"d":"$0.00"},{"$nulls":3},{"v":0,"d":"$0.00"},0,{"v":0,"d":"$0.00"},{"$nulls":91},2]
[{"$f":"IF('VETS-701B Participant Info'!$F127=2,'VETS-701B Participant Info'!$A127,\"  \")","v":"  "},{"$f":"IF('VETS-701B Participant Info'!$F127=2,'VETS-701B Participant Info'!$B127,\"  \")","v":"  "},{"$nulls":4},{"v":0,"d":"$0.00"},{"$nulls":3},{"v":0,"d":"$0.00"},0,{"v":0,"d":"$0.00"},{"$nulls":91},2]
[{"$f":"IF('VETS-701B Participant Info'!$F128=2,'VETS-701B Participant Info'!$A128,\"  \")","v":"  "},{"$f":"IF('VETS-701B Participant Info'!$F128=2,'VETS-701B Participant Info'!$B128,\"  \")","v":"  "},{"$nulls":4},{"v":0,"d":"$0.00"},{"$nulls":3},{"v":0,"d":"$0.00"},0,{"v":0,"d":"$0.00"},{"$nulls":91},2]
[{"$f":"IF('VETS-701B Participant Info'!$F129=2,'VETS-701B Participant Info'!$A129,\"  \")","v":"  "},{"$f":"IF('VETS-701B Participant Info'!$F129=2,'VETS-701B Participant Info'!$B129,\"  \")","v":"  "},{"$nulls":4},{"v":0,"d":"$0.00"},{"$nulls":3},{"v":0,"d":"$0.00"},0,{"v":0,"d":"$0.00"},{"$nulls":91},2]
[{"$f":"IF('VETS-701B Participant Info'!$F130=2,'VETS-701B Participant Info'!$A130,\"  \")","v":"  "},{"$f":"IF('VETS-701B Participant Info'!$F130=2,'VETS-701B Participant Info'!$B130,\"  \")","v":"  "},{"$nulls":4},{"v":0,"d":"$0.00"},{"$nulls":3},{"v":0,"d":"$0.00"},{"$f":"SUM(H133+D133+C133)","v":0},{"v":0,"d":"$0.00"},{"$nulls":91},2]
[{"$f":"IF('VETS-701B Participant Info'!$F131=2,'VETS-701B Participant Info'!$A131,\"  \")","v":"  "},{"$f":"IF('VETS-701B Participant Info'!$F131=2,'VETS-701B Participant Info'!$B131,\"  \")","v":"  "},{"$nulls":4},{"v":0,"d":"$0.00"},{"$nulls":3},{"v":0,"d":"$0.00"},0,{"v":0,"d":"$0.00"},{"$nulls":91},{"$f":"IF($B134> \"             \",1,2)","v":2}]
[{"$f":"IF('VETS-701B Participant Info'!$F132=2,'VETS-701B Participant Info'!$A132,\"  \")","v":"  "},{"$f":"IF('VETS-701B Participant Info'!$F132=2,'VETS-701B Participant Info'!$B132,\"  \")","v":"  "},{"$nulls":4},{"v":0,"d":"$0.00"},{"$nulls":3},{"v":0,"d":"$0.00"},0,{"v":0,"d":"$0.00"},{"$nulls":91},2]
[{"$f":"IF('VETS-701B Participant Info'!$F133=2,'VETS-701B Participant Info'!$A133,\"  \")","v":"  "},{"$f":"IF('VETS-701B Participant Info'!$F133=2,'VETS-701B Participant Info'!$B133,\"  \")","v":"  "},{"$nulls":4},{"v":0,"d":"$0.00"},{"$nulls":3},{"v":0,"d":"$0.00"},0,{"v":0,"d":"$0.00"},{"$nulls":91},2]
[{"$f":"IF('VETS-701B Participant Info'!$F134=2,'VETS-701B Participant Info'!$A134,\"  \")","v":"  "},{"$f":"IF('VETS-701B Participant Info'!$F134=2,'VETS-701B Participant Info'!$B134,\"  \")","v":"  "},{"$nulls":4},{"v":0,"d":"$0.00"},{"$nulls":3},{"v":0,"d":"$0.00"},0,{"v":0,"d":"$0.00"},{"$nulls":91},2]
[{"$f":"IF('VETS-701B Participant Info'!$F135=2,'VETS-701B Participant Info'!$A135,\"  \")","v":"  "},{"$f":"IF('VETS-701B Participant Info'!$F135=2,'VETS-701B Participant Info'!$B135,\"  \")","v":"  "},{"$nulls":4},{"v":0,"d":"$0.00"},{"$nulls":3},{"v":0,"d":"$0.00"},0,{"v":0,"d":"$0.00"},{"$nulls":91},2]
[{"$f":"IF('VETS-701B Participant Info'!$F136=2,'VETS-701B Participant Info'!$A136,\"  \")","v":"  "},{"$f":"IF('VETS-701B Participant Info'!$F136=2,'VETS-701B Participant Info'!$B136,\"  \")","v":"  "},{"$nulls":4},{"v":0,"d":"$0.00"},{"$nulls":3},{"v":0,"d":"$0.00"},0,{"v":0,"d":"$0.00"},{"$nulls":91},2]
[{"$f":"IF('VETS-701B Participant Info'!$F137=2,'VETS-701B Participant Info'!$A137,\"  \")","v":"  "},{"$f":"IF('VETS-701B Participant Info'!$F137=2,'VETS-701B Participant Info'!$B137,\"  \")","v":"  "},{"$nulls":4},{"v":0,"d":"$0.00"},{"$nulls":3},{"v":0,"d":"$0.00"},0,{"v":0,"d":"$0.00"},{"$nulls":91},2]
[{"$f":"IF('VETS-701B Participant Info'!$F138=2,'VETS-701B Participant Info'!$A138,\"  \")","v":"  "},{"$f":"IF('VETS-701B Participant Info'!$F138=2,'VETS-701B Participant Info'!$B138,\"  \")","v":"  "},{"$nulls":4},{"v":0,"d":"$0.00"},{"$nulls":3},{"v":0,"d":"$0.00"},0,{"v":0,"d":"$0.00"},{"$nulls":91},2]
[{"$f":"IF('VETS-701B Participant Info'!$F139=2,'VETS-701B Participant Info'!$A139,\"  \")","v":"  "},{"$f":"IF('VETS-701B Participant Info'!$F139=2,'VETS-701B Participant Info'!$B139,\"  \")","v":"  "},{"$nulls":4},{"v":0,"d":"$0.00"},{"$nulls":3},{"v":0,"d":"$0.00"},0,{"v":0,"d":"$0.00"},{"$nulls":91},2]
[{"$f":"IF('VETS-701B Participant Info'!$F140=2,'VETS-701B Participant Info'!$A140,\"  \")","v":"  "},{"$f":"IF('VETS-701B Participant Info'!$F140=2,'VETS-701B Participant Info'!$B140,\"  \")","v":"  "},{"$nulls":4},{"v":0,"d":"$0.00"},{"$nulls":3},{"v":0,"d":"$0.00"},0,{"v":0,"d":"$0.00"},{"$nulls":91},2]
[{"$f":"IF('VETS-701B Participant Info'!$F141=2,'VETS-701B Participant Info'!$A141,\"  \")","v":"  "},{"$f":"IF('VETS-701B Participant Info'!$F141=2,'VETS-701B Participant Info'!$B141,\"  \")","v":"  "},{"$nulls":4},{"v":0,"d":"$0.00"},{"$nulls":3},{"v":0,"d":"$0.00"},0,{"v":0,"d":"$0.00"},{"$nulls":91},2]
[{"$f":"IF('VETS-701B Participant Info'!$F142=2,'VETS-701B Participant Info'!$A142,\"  \")","v":"  "},{"$f":"IF('VETS-701B Participant Info'!$F142=2,'VETS-701B Participant Info'!$B142,\"  \")","v":"  "},{"$nulls":4},{"v":0,"d":"$0.00"},{"$nulls":3},{"v":0,"d":"$0.00"},0,{"v":0,"d":"$0.00"},{"$nulls":91},2]
[{"$f":"IF('VETS-701B Participant Info'!$F143=2,'VETS-701B Participant Info'!$A143,\"  \")","v":"  "},{"$f":"IF('VETS-701B Participant Info'!$F143=2,'VETS-701B Participant Info'!$B143,\"  \")","v":"  "},{"$nulls":4},{"v":0,"d":"$0.00"},{"$nulls":3},{"v":0,"d":"$0.00"},0,{"v":0,"d":"$0.00"},{"$nulls":91},2]
[{"$f":"IF('VETS-701B Participant Info'!$F144=2,'VETS-701B Participant Info'!$A144,\"  \")","v":"  "},{"$f":"IF('VETS-701B Participant Info'!$F144=2,'VETS-701B Participant Info'!$B144,\"  \")","v":"  "},{"$nulls":4},{"v":0,"d":"$0.00"},{"$nulls":3},{"v":0,"d":"$0.00"},0,{"v":0,"d":"$0.00"},{"$nulls":91},2]
[{"$f":"IF('VETS-701B Participant Info'!$F145=2,'VETS-701B Participant Info'!$A145,\"  \")","v":"  "},{"$f":"IF('VETS-701B Participant Info'!$F145=2,'VETS-701B Participant Info'!$B145,\"  \")","v":"  "},{"$nulls":4},{"v":0,"d":"$0.00"},{"$nulls":3},{"v":0,"d":"$0.00"},0,{"v":0,"d":"$0.00"},{"$nulls":91},2]
[{"$f":"IF('VETS-701B Participant Info'!$F146=2,'VETS-701B Participant Info'!$A146,\"  \")","v":"  "},{"$f":"IF('VETS-701B Participant Info'!$F146=2,'VETS-701B Participant Info'!$B146,\"  \")","v":"  "},{"$nulls":4},{"v":0,"d":"$0.00"},{"$nulls":3},{"v":0,"d":"$0.00"},0,{"v":0,"d":"$0.00"},{"$nulls":91},2]
[{"$f":"IF('VETS-701B Participant Info'!$F147=2,'VETS-701B Participant Info'!$A147,\"  \")","v":"  "},{"$f":"IF('VETS-701B Participant Info'!$F147=2,'VETS-701B Participant Info'!$B147,\"  \")","v":"  "},{"$nulls":4},{"v":0,"d":"$0.00"},{"$nulls":3},{"v":0,"d":"$0.00"},0,{"v":0,"d":"$0.00"},{"$nulls":91},2]
[{"$f":"IF('VETS-701B Participant Info'!$F148=2,'VETS-701B Participant Info'!$A148,\"  \")","v":"  "},{"$f":"IF('VETS-701B Participant Info'!$F148=2,'VETS-701B Participant Info'!$B148,\"  \")","v":"  "},{"$nulls":4},{"v":0,"d":"$0.00"},{"$nulls":3},{"v":0,"d":"$0.00"},0,{"v":0,"d":"$0.00"},{"$nulls":91},2]
[{"$f":"IF('VETS-701B Participant Info'!$F149=2,'VETS-701B Participant Info'!$A149,\"  \")","v":"  "},{"$f":"IF('VETS-701B Participant Info'!$F149=2,'VETS-701B Participant Info'!$B149,\"  \")","v":"  "},{"$nulls":4},{"v":0,"d":"$0.00"},{"$nulls":3},{"v":0,"d":"$0.00"},0,{"v":0,"d":"$0.00"},{"$nulls":91},2]
[{"$f":"IF('VETS-701B Participant Info'!$F150=2,'VETS-701B Participant Info'!$A150,\"  \")","v":"  "},{"$f":"IF('VETS-701B Participant Info'!$F150=2,'VETS-701B Participant Info'!$B150,\"  \")","v":"  "},{"$nulls":4},{"v":0,"d":"$0.00"},{"$nulls":3},{"v":0,"d":"$0.00"},0,{"v":0,"d":"$0.00"},{"$nulls":91},2]
[{"$f":"IF('VETS-701B Participant Info'!$F151=2,'VETS-701B Participant Info'!$A151,\"  \")","v":"  "},{"$f":"IF('VETS-701B Participant Info'!$F151=2,'VETS-701B Participant Info'!$B151,\"  \")","v":"  "},{"$nulls":4},{"v":0,"d":"$0.00"},{"$nulls":3},{"v":0,"d":"$0.00"},0,{"v":0,"d":"$0.00"},{"$nulls":91},2]
[{"$f":"IF('VETS-701B Participant Info'!$F152=2,'VETS-701B Participant Info'!$A152,\"  \")","v":"  "},{"$f":"IF('VETS-701B Participant Info'!$F152=2,'VETS-701B Participant Info'!$B152,\"  \")","v":"  "},{"$nulls":4},{"v":0,"d":"$0.00"},{"$nulls":3},{"v":0,"d":"$0.00"},0,{"v":0,"d":"$0.00"},{"$nulls":91},2]
[{"$f":"IF('VETS-701B Participant Info'!$F153=2,'VETS-701B Participant Info'!$A153,\"  \")","v":"  "},{"$f":"IF('VETS-701B Participant Info'!$F153=2,'VETS-701B Participant Info'!$B153,\"  \")","v":"  "},{"$nulls":4},{"v":0,"d":"$0.00"},{"$nulls":3},{"v":0,"d":"$0.00"},0,{"v":0,"d":"$0.00"},{"$nulls":91},2]
[{"$f":"IF('VETS-701B Participant Info'!$F154=2,'VETS-701B Participant Info'!$A154,\"  \")","v":"  "},{"$f":"IF('VETS-701B Participant Info'!$F154=2,'VETS-701B Participant Info'!$B154,\"  \")","v":"  "},{"$nulls":4},{"v":0,"d":"$0.00"},{"$nulls":3},{"v":0,"d":"$0.00"},0,{"v":0,"d":"$0.00"},{"$nulls":91},2]
[{"$f":"IF('VETS-701B Participant Info'!$F155=2,'VETS-701B Participant Info'!$A155,\"  \")","v":"  "},{"$f":"IF('VETS-701B Participant Info'!$F155=2,'VETS-701B Participant Info'!$B155,\"  \")","v":"  "},{"$nulls":4},{"v":0,"d":"$0.00"},{"$nulls":3},{"v":0,"d":"$0.00"},0,{"v":0,"d":"$0.00"},{"$nulls":91},2]
[{"$f":"IF('VETS-701B Participant Info'!$F156=2,'VETS-701B Participant Info'!$A156,\"  \")","v":"  "},{"$f":"IF('VETS-701B Participant Info'!$F156=2,'VETS-701B Participant Info'!$B156,\"  \")","v":"  "},{"$nulls":4},{"v":0,"d":"$0.00"},{"$nulls":3},{"v":0,"d":"$0.00"},0,{"v":0,"d":"$0.00"},{"$nulls":91},2]
[{"$f":"IF('VETS-701B Participant Info'!$F157=2,'VETS-701B Participant Info'!$A157,\"  \")","v":"  "},{"$f":"IF('VETS-701B Participant Info'!$F157=2,'VETS-701B Participant Info'!$B157,\"  \")","v":"  "},{"$nulls":4},{"v":0,"d":"$0.00"},{"$nulls":3},{"v":0,"d":"$0.00"},0,{"v":0,"d":"$0.00"},{"$nulls":91},2]
[{"$f":"IF('VETS-701B Participant Info'!$F158=2,'VETS-701B Participant Info'!$A158,\"  \")","v":"  "},{"$f":"IF('VETS-701B Participant Info'!$F158=2,'VETS-701B Participant Info'!$B158,\"  \")","v":"  "},{"$nulls":4},{"v":0,"d":"$0.00"},{"$nulls":3},{"v":0,"d":"$0.00"},0,{"v":0,"d":"$0.00"},{"$nulls":91},2]
[{"$f":"IF('VETS-701B Participant Info'!$F159=2,'VETS-701B Participant Info'!$A159,\"  \")","v":"  "},{"$f":"IF('VETS-701B Participant Info'!$F159=2,'VETS-701B Participant Info'!$B159,\"  \")","v":"  "},{"$nulls":4},{"v":0,"d":"$0.00"},{"$nulls":3},{"v":0,"d":"$0.00"},0,{"v":0,"d":"$0.00"},{"$nulls":91},2]
[{"$f":"IF('VETS-701B Participant Info'!$F160=2,'VETS-701B Participant Info'!$A160,\"  \")","v":"  "},{"$f":"IF('VETS-701B Participant Info'!$F160=2,'VETS-701B Participant Info'!$B160,\"  \")","v":"  "},{"$nulls":4},{"v":0,"d":"$0.00"},{"$nulls":3},{"v":0,"d":"$0.00"},0,{"v":0,"d":"$0.00"},{"$nulls":91},2]
[{"$f":"IF('VETS-701B Participant Info'!$F161=2,'VETS-701B Participant Info'!$A161,\"  \")","v":"  "},{"$f":"IF('VETS-701B Participant Info'!$F161=2,'VETS-701B Participant Info'!$B161,\"  \")","v":"  "},{"$nulls":4},{"v":0,"d":"$0.00"},{"$nulls":3},{"v":0,"d":"$0.00"},0,{"v":0,"d":"$0.00"},{"$nulls":91},2]
[{"$f":"IF('VETS-701B Participant Info'!$F162=2,'VETS-701B Participant Info'!$A162,\"  \")","v":"  "},{"$f":"IF('VETS-701B Participant Info'!$F162=2,'VETS-701B Participant Info'!$B162,\"  \")","v":"  "},{"$nulls":4},{"v":0,"d":"$0.00"},{"$nulls":3},{"v":0,"d":"$0.00"},0,{"v":0,"d":"$0.00"},{"$nulls":91},2]
[{"$f":"IF('VETS-701B Participant Info'!$F163=2,'VETS-701B Participant Info'!$A163,\"  \")","v":"  "},{"$f":"IF('VETS-701B Participant Info'!$F163=2,'VETS-701B Participant Info'!$B163,\"  \")","v":"  "},{"$nulls":4},{"v":0,"d":"$0.00"},{"$nulls":3},{"v":0,"d":"$0.00"},0,{"v":0,"d":"$0.00"},{"$nulls":91},2]
[{"$f":"IF('VETS-701B Participant Info'!$F164=2,'VETS-701B Participant Info'!$A164,\"  \")","v":"  "},{"$f":"IF('VETS-701B Participant Info'!$F164=2,'VETS-701B Participant Info'!$B164,\"  \")","v":"  "},{"$nulls":4},{"v":0,"d":"$0.00"},{"$nulls":3},{"v":0,"d":"$0.00"},0,{"v":0,"d":"$0.00"},{"$nulls":91},2]
[{"$f":"IF('VETS-701B Participant Info'!$F165=2,'VETS-701B Participant Info'!$A165,\"  \")","v":"  "},{"$f":"IF('VETS-701B Participant Info'!$F165=2,'VETS-701B Participant Info'!$B165,\"  \")","v":"  "},{"$nulls":4},{"v":0,"d":"$0.00"},{"$nulls":3},{"v":0,"d":"$0.00"},0,{"v":0,"d":"$0.00"},{"$nulls":91},2]
[{"$f":"IF('VETS-701B Participant Info'!$F166=2,'VETS-701B Participant Info'!$A166,\"  \")","v":"  "},{"$f":"IF('VETS-701B Participant Info'!$F166=2,'VETS-701B Participant Info'!$B166,\"  \")","v":"  "},{"$nulls":4},{"$f":"SUM(E169*F169*13)","v":{"v":0,"d":"$0.00"}},{"$nulls":3},{"$f":"SUM(I169*J169*13)","v":{"v":0,"d":"$0.00"}},0,{"$f":"IF(L169=3,K169+G169,0)","v":{"v":0,"d":"$0.00"}},{"$nulls":91},2]
[{"$f":"IF('VETS-701B Participant Info'!$F167=2,'VETS-701B Participant Info'!$A167,\"  \")","v":"  "},{"$f":"IF('VETS-701B Participant Info'!$F167=2,'VETS-701B Participant Info'!$B167,\"  \")","v":"  "},{"$nulls":4},{"v":0,"d":"$0.00"},{"$nulls":3},{"v":0,"d":"$0.00"},0,{"v":0,"d":"$0.00"},{"$nulls":91},2]
[{"$f":"IF('VETS-701B Participant Info'!$F168=2,'VETS-701B Participant Info'!$A168,\"  \")","v":"  "},{"$f":"IF('VETS-701B Participant Info'!$F168=2,'VETS-701B Participant Info'!$B168,\"  \")","v":"  "},{"$nulls":4},{"v":0,"d":"$0.00"},{"$nulls":3},{"v":0,"d":"$0.00"},0,{"v":0,"d":"$0.00"},{"$nulls":91},2]
[{"$f":"IF('VETS-701B Participant Info'!$F169=2,'VETS-701B Participant Info'!$A169,\"  \")","v":"  "},{"$f":"IF('VETS-701B Participant Info'!$F169=2,'VETS-701B Participant Info'!$B169,\"  \")","v":"  "},{"$nulls":4},{"v":0,"d":"$0.00"},{"$nulls":3},{"v":0,"d":"$0.00"},0,{"v":0,"d":"$0.00"},{"$nulls":91},2]
[{"$f":"IF('VETS-701B Participant Info'!$F170=2,'VETS-701B Participant Info'!$A170,\"  \")","v":"  "},{"$f":"IF('VETS-701B Participant Info'!$F170=2,'VETS-701B Participant Info'!$B170,\"  \")","v":"  "},{"$nulls":4},{"v":0,"d":"$0.00"},{"$nulls":3},{"v":0,"d":"$0.00"},0,{"v":0,"d":"$0.00"},{"$nulls":91},2]
[{"$f":"IF('VETS-701B Participant Info'!$F171=2,'VETS-701B Participant Info'!$A171,\"  \")","v":"  "},{"$f":"IF('VETS-701B Participant Info'!$F171=2,'VETS-701B Participant Info'!$B171,\"  \")","v":"  "},{"$nulls":4},{"v":0,"d":"$0.00"},{"$nulls":3},{"v":0,"d":"$0.00"},0,{"v":0,"d":"$0.00"},{"$nulls":91},2]
[{"$f":"IF('VETS-701B Participant Info'!$F172=2,'VETS-701B Participant Info'!$A172,\"  \")","v":"  "},{"$f":"IF('VETS-701B Participant Info'!$F172=2,'VETS-701B Participant Info'!$B172,\"  \")","v":"  "},{"$nulls":4},{"v":0,"d":"$0.00"},{"$nulls":3},{"v":0,"d":"$0.00"},0,{"v":0,"d":"$0.00"},{"$nulls":91},2]
[{"$f":"IF('VETS-701B Participant Info'!$F173=2,'VETS-701B Participant Info'!$A173,\"  \")","v":"  "},{"$f":"IF('VETS-701B Participant Info'!$F173=2,'VETS-701B Participant Info'!$B173,\"  \")","v":"  "},{"$nulls":4},{"v":0,"d":"$0.00"},{"$nulls":3},{"v":0,"d":"$0.00"},0,{"v":0,"d":"$0.00"},{"$nulls":91},2]
[{"$f":"IF('VETS-701B Participant Info'!$F174=2,'VETS-701B Participant Info'!$A174,\"  \")","v":"  "},{"$f":"IF('VETS-701B Participant Info'!$F174=2,'VETS-701B Participant Info'!$B174,\"  \")","v":"  "},{"$nulls":4},{"v":0,"d":"$0.00"},{"$nulls":3},{"v":0,"d":"$0.00"},0,{"v":0,"d":"$0.00"},{"$nulls":91},2]
[{"$f":"IF('VETS-701B Participant Info'!$F175=2,'VETS-701B Participant Info'!$A175,\"  \")","v":"  "},{"$f":"IF('VETS-701B Participant Info'!$F175=2,'VETS-701B Participant Info'!$B175,\"  \")","v":"  "},{"$nulls":4},{"v":0,"d":"$0.00"},{"$nulls":3},{"v":0,"d":"$0.00"},0,{"v":0,"d":"$0.00"},{"$nulls":91},2]
[{"$f":"IF('VETS-701B Participant Info'!$F176=2,'VETS-701B Participant Info'!$A176,\"  \")","v":"  "},{"$f":"IF('VETS-701B Participant Info'!$F176=2,'VETS-701B Participant Info'!$B176,\"  \")","v":"  "},{"$nulls":4},{"v":0,"d":"$0.00"},{"$nulls":3},{"v":0,"d":"$0.00"},0,{"v":0,"d":"$0.00"},{"$nulls":91},2]
[{"$f":"IF('VETS-701B Participant Info'!$F177=2,'VETS-701B Participant Info'!$A177,\"  \")","v":"  "},{"$f":"IF('VETS-701B Participant Info'!$F177=2,'VETS-701B Participant Info'!$B177,\"  \")","v":"  "},{"$nulls":4},{"v":0,"d":"$0.00"},{"$nulls":3},{"v":0,"d":"$0.00"},0,{"v":0,"d":"$0.00"},{"$nulls":91},2]
[{"$f":"IF('VETS-701B Participant Info'!$F178=2,'VETS-701B Participant Info'!$A178,\"  \")","v":"  "},{"$f":"IF('VETS-701B Participant Info'!$F178=2,'VETS-701B Participant Info'!$B178,\"  \")","v":"  "},{"$nulls":4},{"v":0,"d":"$0.00"},{"$nulls":3},{"v":0,"d":"$0.00"},0,{"v":0,"d":"$0.00"},{"$nulls":91},2]
[{"$f":"IF('VETS-701B Participant Info'!$F179=2,'VETS-701B Participant Info'!$A179,\"  \")","v":"  "},{"$f":"IF('VETS-701B Participant Info'!$F179=2,'VETS-701B Participant Info'!$B179,\"  \")","v":"  "},{"$nulls":4},{"v":0,"d":"$0.00"},{"$nulls":3},{"v":0,"d":"$0.00"},0,{"v":0,"d":"$0.00"},{"$nulls":91},2]
[{"$f":"IF('VETS-701B Participant Info'!$F180=2,'VETS-701B Participant Info'!$A180,\"  \")","v":"  "},{"$f":"IF('VETS-701B Participant Info'!$F180=2,'VETS-701B Participant Info'!$B180,\"  \")","v":"  "},{"$nulls":4},{"v":0,"d":"$0.00"},{"$nulls":3},{"v":0,"d":"$0.00"},0,{"v":0,"d":"$0.00"},{"$nulls":91},2]
[{"$f":"IF('VETS-701B Participant Info'!$F181=2,'VETS-701B Participant Info'!$A181,\"  \")","v":"  "},{"$f":"IF('VETS-701B Participant Info'!$F181=2,'VETS-701B Participant Info'!$B181,\"  \")","v":"  "},{"$nulls":4},{"v":0,"d":"$0.00"},{"$nulls":3},{"v":0,"d":"$0.00"},0,{"v":0,"d":"$0.00"},{"$nulls":91},2]
[{"$f":"IF('VETS-701B Participant Info'!$F182=2,'VETS-701B Participant Info'!$A182,\"  \")","v":"  "},{"$f":"IF('VETS-701B Participant Info'!$F182=2,'VETS-701B Participant Info'!$B182,\"  \")","v":"  "},{"$nulls":4},{"v":0,"d":"$0.00"},{"$nulls":3},{"v":0,"d":"$0.00"},0,{"v":0,"d":"$0.00"},{"$nulls":91},2]
[{"$f":"IF('VETS-701B Participant Info'!$F183=2,'VETS-701B Participant Info'!$A183,\"  \")","v":"  "},{"$f":"IF('VETS-701B Participant Info'!$F183=2,'VETS-701B Participant Info'!$B183,\"  \")","v":"  "},{"$nulls":4},{"v":0,"d":"$0.00"},{"$nulls":3},{"v":0,"d":"$0.00"},0,{"v":0,"d":"$0.00"},{"$nulls":91},2]
[{"$f":"IF('VETS-701B Participant Info'!$F184=2,'VETS-701B Participant Info'!$A184,\"  \")","v":"  "},{"$f":"IF('VETS-701B Participant Info'!$F184=2,'VETS-701B Participant Info'!$B184,\"  \")","v":"  "},{"$nulls":4},{"v":0,"d":"$0.00"},{"$nulls":3},{"v":0,"d":"$0.00"},0,{"v":0,"d":"$0.00"},{"$nulls":91},2]
[{"$f":"IF('VETS-701B Participant Info'!$F185=2,'VETS-701B Participant Info'!$A185,\"  \")","v":"  "},{"$f":"IF('VETS-701B Participant Info'!$F185=2,'VETS-701B Participant Info'!$B185,\"  \")","v":"  "},{"$nulls":4},{"v":0,"d":"$0.00"},{"$nulls":3},{"v":0,"d":"$0.00"},0,{"v":0,"d":"$0.00"},{"$nulls":91},2]
[{"$f":"IF('VETS-701B Participant Info'!$F186=2,'VETS-701B Participant Info'!$A186,\"  \")","v":"  "},{"$f":"IF('VETS-701B Participant Info'!$F186=2,'VETS-701B Participant Info'!$B186,\"  \")","v":"  "},{"$nulls":4},{"v":0,"d":"$0.00"},{"$nulls":3},{"v":0,"d":"$0.00"},0,{"v":0,"d":"$0.00"},{"$nulls":91},2]
[{"$f":"IF('VETS-701B Participant Info'!$F187=2,'VETS-701B Participant Info'!$A187,\"  \")","v":"  "},{"$f":"IF('VETS-701B Participant Info'!$F187=2,'VETS-701B Participant Info'!$B187,\"  \")","v":"  "},{"$nulls":4},{"v":0,"d":"$0.00"},{"$nulls":3},{"v":0,"d":"$0.00"},0,{"v":0,"d":"$0.00"},{"$nulls":91},2]
[{"$f":"IF('VETS-701B Participant Info'!$F188=2,'VETS-701B Participant Info'!$A188,\"  \")","v":"  "},{"$f":"IF('VETS-701B Participant Info'!$F188=2,'VETS-701B Participant Info'!$B188,\"  \")","v":"  "},{"$nulls":4},{"v":0,"d":"$0.00"},{"$nulls":3},{"v":0,"d":"$0.00"},0,{"v":0,"d":"$0.00"},{"$nulls":91},2]
[{"$f":"IF('VETS-701B Participant Info'!$F189=2,'VETS-701B Participant Info'!$A189,\"  \")","v":"  "},{"$f":"IF('VETS-701B Participant Info'!$F189=2,'VETS-701B Participant Info'!$B189,\"  \")","v":"  "},{"$nulls":4},{"v":0,"d":"$0.00"},{"$nulls":3},{"v":0,"d":"$0.00"},0,{"v":0,"d":"$0.00"},{"$nulls":91},2]
[{"$f":"IF('VETS-701B Participant Info'!$F190=2,'VETS-701B Participant Info'!$A190,\"  \")","v":"  "},{"$f":"IF('VETS-701B Participant Info'!$F190=2,'VETS-701B Participant Info'!$B190,\"  \")","v":"  "},{"$nulls":4},{"v":0,"d":"$0.00"},{"$nulls":3},{"v":0,"d":"$0.00"},0,{"v":0,"d":"$0.00"},{"$nulls":91},2]
[{"$f":"IF('VETS-701B Participant Info'!$F191=2,'VETS-701B Participant Info'!$A191,\"  \")","v":"  "},{"$f":"IF('VETS-701B Participant Info'!$F191=2,'VETS-701B Participant Info'!$B191,\"  \")","v":"  "},{"$nulls":4},{"v":0,"d":"$0.00"},{"$nulls":3},{"v":0,"d":"$0.00"},0,{"v":0,"d":"$0.00"},{"$nulls":91},2]
[{"$f":"IF('VETS-701B Participant Info'!$F192=2,'VETS-701B Participant Info'!$A192,\"  \")","v":"  "},{"$f":"IF('VETS-701B Participant Info'!$F192=2,'VETS-701B Participant Info'!$B192,\"  \")","v":"  "},{"$nulls":4},{"v":0,"d":"$0.00"},{"$nulls":3},{"v":0,"d":"$0.00"},0,{"v":0,"d":"$0.00"},{"$nulls":91},2]
[{"$f":"IF('VETS-701B Participant Info'!$F193=2,'VETS-701B Participant Info'!$A193,\"  \")","v":"  "},{"$f":"IF('VETS-701B Participant Info'!$F193=2,'VETS-701B Participant Info'!$B193,\"  \")","v":"  "},{"$nulls":4},{"v":0,"d":"$0.00"},{"$nulls":3},{"v":0,"d":"$0.00"},0,{"v":0,"d":"$0.00"},{"$nulls":91},2]
[{"$f":"IF('VETS-701B Participant Info'!$F194=2,'VETS-701B Participant Info'!$A194,\"  \")","v":"  "},{"$f":"IF('VETS-701B Participant Info'!$F194=2,'VETS-701B Participant Info'!$B194,\"  \")","v":"  "},{"$nulls":4},{"v":0,"d":"$0.00"},{"$nulls":3},{"v":0,"d":"$0.00"},{"$f":"SUM(H197+D197+C197)","v":0},{"v":0,"d":"$0.00"},{"$nulls":91},2]
[{"$f":"IF('VETS-701B Participant Info'!$F195=2,'VETS-701B Participant Info'!$A195,\"  \")","v":"  "},{"$f":"IF('VETS-701B Participant Info'!$F195=2,'VETS-701B Participant Info'!$B195,\"  \")","v":"  "},{"$nulls":4},{"v":0,"d":"$0.00"},{"$nulls":3},{"v":0,"d":"$0.00"},0,{"v":0,"d":"$0.00"},{"$nulls":91},{"$f":"IF($B198> \"             \",1,2)","v":2}]
[{"$f":"IF('VETS-701B Participant Info'!$F196=2,'VETS-701B Participant Info'!$A196,\"  \")","v":"  "},{"$f":"IF('VETS-701B Participant Info'!$F196=2,'VETS-701B Participant Info'!$B196,\"  \")","v":"  "},{"$nulls":4},{"v":0,"d":"$0.00"},{"$nulls":3},{"v":0,"d":"$0.00"},0,{"v":0,"d":"$0.00"},{"$nulls":91},2]
[{"$f":"IF('VETS-701B Participant Info'!$F197=2,'VETS-701B Participant Info'!$A197,\"  \")","v":"  "},{"$f":"IF('VETS-701B Participant Info'!$F197=2,'VETS-701B Participant Info'!$B197,\"  \")","v":"  "},{"$nulls":4},{"v":0,"d":"$0.00"},{"$nulls":3},{"v":0,"d":"$0.00"},0,{"v":0,"d":"$0.00"},{"$nulls":91},2]
[{"$f":"IF('VETS-701B Participant Info'!$F198=2,'VETS-701B Participant Info'!$A198,\"  \")","v":"  "},{"$f":"IF('VETS-701B Participant Info'!$F198=2,'VETS-701B Participant Info'!$B198,\"  \")","v":"  "},{"$nulls":4},{"$f":"SUM(E201*F201*13)","v":{"v":0,"d":"$0.00"}},{"$nulls":3},{"$f":"SUM(I201*J201*13)","v":{"v":0,"d":"$0.00"}},0,{"$f":"IF(L201=3,K201+G201,0)","v":{"v":0,"d":"$0.00"}},{"$nulls":91},2]
[{"$f":"IF('VETS-701B Participant Info'!$F199=2,'VETS-701B Participant Info'!$A199,\"  \")","v":"  "},{"$f":"IF('VETS-701B Participant Info'!$F199=2,'VETS-701B Participant Info'!$B199,\"  \")","v":"  "},{"$nulls":4},{"$f":"SUM(E202*F202*13)","v":{"v":0,"d":"$0.00"}},{"$nulls":3},{"$f":"SUM(I202*J202*13)","v":{"v":0,"d":"$0.00"}},0,{"$f":"IF(L202=3,K202+G202,0)","v":{"v":0,"d":"$0.00"}},{"$nulls":91},2]
[{"$f":"IF('VETS-701B Participant Info'!$F200=2,'VETS-701B Participant Info'!$A200,\"  \")","v":"  "},{"$f":"IF('VETS-701B Participant Info'!$F200=2,'VETS-701B Participant Info'!$B200,\"  \")","v":"  "},{"$nulls":4},{"$f":"SUM(E203*F203*13)","v":{"v":0,"d":"$0.00"}},{"$nulls":3},{"$f":"SUM(I203*J203*13)","v":{"v":0,"d":"$0.00"}},0,{"$f":"IF(L203=3,K203+G203,0)","v":{"v":0,"d":"$0.00"}},{"$nulls":91},2]
[{"$f":"IF('VETS-701B Participant Info'!$F201=2,'VETS-701B Participant Info'!$A201,\"  \")","v":"  "},{"$f":"IF('VETS-701B Participant Info'!$F201=2,'VETS-701B Participant Info'!$B201,\"  \")","v":"  "},{"$nulls":4},{"$f":"SUM(E204*F204*13)","v":{"v":0,"d":"$0.00"}},{"$nulls":3},{"$f":"SUM(I204*J204*13)","v":{"v":0,"d":"$0.00"}},0,{"$f":"IF(L204=3,K204+G204,0)","v":{"v":0,"d":"$0.00"}},{"$nulls":91},2]
[null,{"$f":"COUNT(C5:C204)","v":0},{"$f":"SUM(C5:C204)","v":0},{"$f":"SUM(D5:D204)","v":0},{"$nulls":3},{"$f":"COUNTIF(L5:L204,3)","v":0},{"$f":"SUM(I5:I204)","v":0},null,{"$f":"SUM(K5:K204)","v":{"v":0,"d":"$0.00"}},"Total Earnings",{"$f":"SUM(M5:M204)","v":{"v":0,"d":"$0.00"}},{"$f":"SUM(N5:N204)","v":0},{"$f":"SUM(O5:O204)","v":0}]
[{"$nulls":5},"Median Earnings",{"$f":"('VETS-701F Enter Exiter Info Q4'!H1100)","v":{"$error":"#NUM!"}},null,"Average Hourly Wage",{"$f":"IF(I205>0,ROUND(SUM(K205/I205)/13,2),0)","v":{"v":0,"d":"$0.00"}},null,"Avg Earnings",{"$f":"IF(H205>0,ROUND(SUM(M205/H205),2),0)","v":{"v":0,"d":"$0.00"}},null,"Average Hourly Wage",{"$f":"IF(O205>0,ROUND(SUM(Q205/O205)/13,2),0)","v":{"v":0,"d":"$0.00"}}]
{"$rows_empty":93}
[0]
[1]

{"sheet":"VETS-701E Enter Exiter Info Q3","index":6,"n_rows":301,"n_cols":105,"rows_kept":301}
[{"$f":"SUM(('VETS-701B Participant Info'!AV$2:'VETS-701B Participant Info'!AV$1001=3)*1)","v":0},"Exited 3rd quarter (Participants tab)"]
[]
["For Those who EXIT during 3rd Qtr",null,"Yes=1; No=0","Yes=1; No=0",{"$nulls":3},"Yes=1; No=0",{"$nulls":5},"Yes=1; No=0"]
["Participant ID\n(COMPUTED)","Participant Name - (Do not use Actual Full Names)                                                                                         First four Letters last name; First/Middle Initials                       (COMPUTED)","Earned Wages in 4th quarter","Earned Wages in 5th quarter","Hours worked per week in 5th quarter (e.g., 20, 40)","Hourly wage  in 5th quarter (e.g., $9.00)","Earnings for 2nd qtr after exit qtr","Earned Wages in 6th quarter","Hours worked per week in 6th quarter (e.g., 20, 40)","Hourly wage  in 6th quarter (e.g., $9.00)","Earnings for 3rd qtr after exit qtr","Employed ALL 3 qtrs after exit","2nd & 3rd qtr Earnings for those Employed all 3 qtrs after exit","Earned Wages 7th quarter","Hours worked per week in 7th quarter (e.g., 20, 40)","Hourly wage  in 7th quarter (e.g., $9.00)"]
[{"$f":"IF('VETS-701B Participant Info'!$F2=3,'VETS-701B Participant Info'!$A2,\"  \")","v":"  "},{"$f":"IF('VETS-701B Participant Info'!$F2=3,'VETS-701B Participant Info'!$B2,\"  \")","v":"  "},{"$nulls":4},{"$f":"SUM(E5*F5*13)","v":{"v":0,"d":"$0.00"}},{"$nulls":3},{"$f":"SUM(I5*J5*13)","v":{"v":0,"d":"$0.00"}},{"$f":"SUM(H5+D5+C5)","v":0},{"$f":"IF(L5=3,K5+G5,0)","v":{"v":0,"d":"$0.00"}},{"$nulls":91},{"$f":"IF($B5> \"             \",1,2)","v":2}]
[{"$f":"IF('VETS-701B Participant Info'!$F3=3,'VETS-701B Participant Info'!$A3,\"  \")","v":"  "},{"$f":"IF('VETS-701B Participant Info'!$F3=3,'VETS-701B Participant Info'!$B3,\"  \")","v":"  "},{"$nulls":4},{"v":0,"d":"$0.00"},{"$nulls":3},{"v":0,"d":"$0.00"},0,{"v":0,"d":"$0.00"},{"$nulls":91},{"$f":"IF($B6> \"             \",1,2)","v":2}]
[{"$f":"IF('VETS-701B Participant Info'!$F4=3,'VETS-701B Participant Info'!$A4,\"  \")","v":"  "},{"$f":"IF('VETS-701B Participant Info'!$F4=3,'VETS-701B Participant Info'!$B4,\"  \")","v":"  "},{"$nulls":4},{"v":0,"d":"$0.00"},{"$nulls":3},{"v":0,"d":"$0.00"},0,{"v":0,"d":"$0.00"},{"$nulls":91},2]
[{"$f":"IF('VETS-701B Participant Info'!$F5=3,'VETS-701B Participant Info'!$A5,\"  \")","v":"  "},{"$f":"IF('VETS-701B Participant Info'!$F5=3,'VETS-701B Participant Info'!$B5,\"  \")","v":"  "},{"$nulls":4},{"v":0,"d":"$0.00"},{"$nulls":3},{"v":0,"d":"$0.00"},0,{"v":0,"d":"$0.00"},{"$nulls":91},2]
[{"$f":"IF('VETS-701B Participant Info'!$F6=3,'VETS-701B Participant Info'!$A6,\"  \")","v":"  "},{"$f":"IF('VETS-701B Participant Info'!$F6=3,'VETS-701B Participant Info'!$B6,\"  \")","v":"  "},{"$nulls":4},{"v":0,"d":"$0.00"},{"$nulls":3},{"v":0,"d":"$0.00"},0,{"v":0,"d":"$0.00"},{"$nulls":91},2]
[{"$f":"IF('VETS-701B Participant Info'!$F7=3,'VETS-701B Participant Info'!$A7,\"  \")","v":"  "},{"$f":"IF('VETS-701B Participant Info'!$F7=3,'VETS-701B Participant Info'!$B7,\"  \")","v":"  "},{"$nulls":4},{"v":0,"d":"$0.00"},{"$nulls":3},{"v":0,"d":"$0.00"},0,{"v":0,"d":"$0.00"},{"$nulls":91},2]
[{"$f":"IF('VETS-701B Participant Info'!$F8=3,'VETS-701B Participant Info'!$A8,\"  \")","v":"  "},{"$f":"IF('VETS-701B Participant Info'!$F8=3,'VETS-701B Participant Info'!$B8,\"  \")","v":"  "},{"$nulls":4},{"v":0,"d":"$0.00"},{"$nulls":3},{"v":0,"d":"$0.00"},0,{"v":0,"d":"$0.00"},{"$nulls":91},2]
[{"$f":"IF('VETS-701B Participant Info'!$F9=3,'VETS-701B Participant Info'!$A9,\"  \")","v":"  "},{"$f":"IF('VETS-701B Participant Info'!$F9=3,'VETS-701B Participant Info'!$B9,\"  \")","v":"  "},{"$nulls":4},{"v":0,"d":"$0.00"},{"$nulls":3},{"v":0,"d":"$0.00"},0,{"v":0,"d":"$0.00"},{"$nulls":91},2]
[{"$f":"IF('VETS-701B Participant Info'!$F10=3,'VETS-701B Participant Info'!$A10,\"  \")","v":"  "},{"$f":"IF('VETS-701B Participant Info'!$F10=3,'VETS-701B Participant Info'!$B10,\"  \")","v":"  "},{"$nulls":4},{"v":0,"d":"$0.00"},{"$nulls":3},{"v":0,"d":"$0.00"},0,{"v":0,"d":"$0.00"},{"$nulls":91},2]
[{"$f":"IF('VETS-701B Participant Info'!$F11=3,'VETS-701B Participant Info'!$A11,\"  \")","v":"  "},{"$f":"IF('VETS-701B Participant Info'!$F11=3,'VETS-701B Participant Info'!$B11,\"  \")","v":"  "},{"$nulls":4},{"v":0,"d":"$0.00"},{"$nulls":3},{"v":0,"d":"$0.00"},0,{"v":0,"d":"$0.00"},{"$nulls":91},2]
[{"$f":"IF('VETS-701B Participant Info'!$F12=3,'VETS-701B Participant Info'!$A12,\"  \")","v":"  "},{"$f":"IF('VETS-701B Participant Info'!$F12=3,'VETS-701B Participant Info'!$B12,\"  \")","v":"  "},{"$nulls":4},{"v":0,"d":"$0.00"},{"$nulls":3},{"v":0,"d":"$0.00"},0,{"v":0,"d":"$0.00"},{"$nulls":91},2]
[{"$f":"IF('VETS-701B Participant Info'!$F13=3,'VETS-701B Participant Info'!$A13,\"  \")","v":"  "},{"$f":"IF('VETS-701B Participant Info'!$F13=3,'VETS-701B Participant Info'!$B13,\"  \")","v":"  "},{"$nulls":4},{"v":0,"d":"$0.00"},{"$nulls":3},{"v":0,"d":"$0.00"},0,{"v":0,"d":"$0.00"},{"$nulls":91},2]
[{"$f":"IF('VETS-701B Participant Info'!$F14=3,'VETS-701B Participant Info'!$A14,\"  \")","v":"  "},{"$f":"IF('VETS-701B Participant Info'!$F14=3,'VETS-701B Participant Info'!$B14,\"  \")","v":"  "},{"$nulls":4},{"v":0,"d":"$0.00"},{"$nulls":3},{"v":0,"d":"$0.00"},0,{"v":0,"d":"$0.00"},{"$nulls":91},2]
[{"$f":"IF('VETS-701B Participant Info'!$F15=3,'VETS-701B Participant Info'!$A15,\"  \")","v":"  "},{"$f":"IF('VETS-701B Participant Info'!$F15=3,'VETS-701B Participant Info'!$B15,\"  \")","v":"  "},{"$nulls":4},{"v":0,"d":"$0.00"},{"$nulls":3},{"v":0,"d":"$0.00"},0,{"v":0,"d":"$0.00"},{"$nulls":91},2]
[{"$f":"IF('VETS-701B Participant Info'!$F16=3,'VETS-701B Participant Info'!$A16,\"  \")","v":"  "},{"$f":"IF('VETS-701B Participant Info'!$F16=3,'VETS-701B Participant Info'!$B16,\"  \")","v":"  "},{"$nulls":4},{"v":0,"d":"$0.00"},{"$nulls":3},{"v":0,"d":"$0.00"},0,{"v":0,"d":"$0.00"},{"$nulls":91},2]
[{"$f":"IF('VETS-701B Participant Info'!$F17=3,'VETS-701B Participant Info'!$A17,\"  \")","v":"  "},{"$f":"IF('VETS-701B Participant Info'!$F17=3,'VETS-701B Participant Info'!$B17,\"  \")","v":"  "},{"$nulls":4},{"v":0,"d":"$0.00"},{"$nulls":3},{"v":0,"d":"$0.00"},0,{"v":0,"d":"$0.00"},{"$nulls":91},2]
[{"$f":"IF('VETS-701B Participant Info'!$F18=3,'VETS-701B Participant Info'!$A18,\"  \")","v":"  "},{"$f":"IF('VETS-701B Participant Info'!$F18=3,'VETS-701B Participant Info'!$B18,\"  \")","v":"  "},{"$nulls":4},{"v":0,"d":"$0.00"},{"$nulls":3},{"v":0,"d":"$0.00"},0,{"v":0,"d":"$0.00"},{"$nulls":91},2]
[{"$f":"IF('VETS-701B Participant Info'!$F19=3,'VETS-701B Participant Info'!$A19,\"  \")","v":"  "},{"$f":"IF('VETS-701B Participant Info'!$F19=3,'VETS-701B Participant Info'!$B19,\"  \")","v":"  "},{"$nulls":4},{"v":0,"d":"$0.00"},{"$nulls":3},{"v":0,"d":"$0.00"},0,{"v":0,"d":"$0.00"},{"$nulls":91},2]
[{"$f":"IF('VETS-701B Participant Info'!$F20=3,'VETS-701B Participant Info'!$A20,\"  \")","v":"  "},{"$f":"IF('VETS-701B Participant Info'!$F20=3,'VETS-701B Participant Info'!$B20,\"  \")","v":"  "},{"$nulls":4},{"v":0,"d":"$0.00"},{"$nulls":3},{"v":0,"d":"$0.00"},0,{"v":0,"d":"$0.00"},{"$nulls":91},2]
[{"$f":"IF('VETS-701B Participant Info'!$F21=3,'VETS-701B Participant Info'!$A21,\"  \")","v":"  "},{"$f":"IF('VETS-701B Participant Info'!$F21=3,'VETS-701B Participant Info'!$B21,\"  \")","v":"  "},{"$nulls":4},{"v":0,"d":"$0.00"},{"$nulls":3},{"v":0,"d":"$0.00"},0,{"v":0,"d":"$0.00"},{"$nulls":91},2]
[{"$f":"IF('VETS-701B Participant Info'!$F22=3,'VETS-701B Participant Info'!$A22,\"  \")","v":"  "},{"$f":"IF('VETS-701B Participant Info'!$F22=3,'VETS-701B Participant Info'!$B22,\"  \")","v":"  "},{"$nulls":4},{"v":0,"d":"$0.00"},{"$nulls":3},{"v":0,"d":"$0.00"},0,{"v":0,"d":"$0.00"},{"$nulls":91},2]
[{"$f":"IF('VETS-701B Participant Info'!$F23=3,'VETS-701B Participant Info'!$A23,\"  \")","v":"  "},{"$f":"IF('VETS-701B Participant Info'!$F23=3,'VETS-701B Participant Info'!$B23,\"  \")","v":"  "},{"$nulls":4},{"v":0,"d":"$0.00"},{"$nulls":3},{"v":0,"d":"$0.00"},0,{"v":0,"d":"$0.00"},{"$nulls":91},2]
[{"$f":"IF('VETS-701B Participant Info'!$F24=3,'VETS-701B Participant Info'!$A24,\"  \")","v":"  "},{"$f":"IF('VETS-701B Participant Info'!$F24=3,'VETS-701B Participant Info'!$B24,\"  \")","v":"  "},{"$nulls":4},{"v":0,"d":"$0.00"},{"$nulls":3},{"v":0,"d":"$0.00"},0,{"v":0,"d":"$0.00"},{"$nulls":91},2]
[{"$f":"IF('VETS-701B Participant Info'!$F25=3,'VETS-701B Participant Info'!$A25,\"  \")","v":"  "},{"$f":"IF('VETS-701B Participant Info'!$F25=3,'VETS-701B Participant Info'!$B25,\"  \")","v":"  "},{"$nulls":4},{"v":0,"d":"$0.00"},{"$nulls":3},{"v":0,"d":"$0.00"},0,{"v":0,"d":"$0.00"},{"$nulls":91},2]
[{"$f":"IF('VETS-701B Participant Info'!$F26=3,'VETS-701B Participant Info'!$A26,\"  \")","v":"  "},{"$f":"IF('VETS-701B Participant Info'!$F26=3,'VETS-701B Participant Info'!$B26,\"  \")","v":"  "},{"$nulls":4},{"v":0,"d":"$0.00"},{"$nulls":3},{"v":0,"d":"$0.00"},0,{"v":0,"d":"$0.00"},{"$nulls":91},2]
[{"$f":"IF('VETS-701B Participant Info'!$F27=3,'VETS-701B Participant Info'!$A27,\"  \")","v":"  "},{"$f":"IF('VETS-701B Participant Info'!$F27=3,'VETS-701B Participant Info'!$B27,\"  \")","v":"  "},{"$nulls":4},{"v":0,"d":"$0.00"},{"$nulls":3},{"v":0,"d":"$0.00"},0,{"v":0,"d":"$0.00"},{"$nulls":91},2]
[{"$f":"IF('VETS-701B Participant Info'!$F28=3,'VETS-701B Participant Info'!$A28,\"  \")","v":"  "},{"$f":"IF('VETS-701B Participant Info'!$F28=3,'VETS-701B Participant Info'!$B28,\"  \")","v":"  "},{"$nulls":4},{"v":0,"d":"$0.00"},{"$nulls":3},{"v":0,"d":"$0.00"},0,{"v":0,"d":"$0.00"},{"$nulls":91},2]
[{"$f":"IF('VETS-701B Participant Info'!$F29=3,'VETS-701B Participant Info'!$A29,\"  \")","v":"  "},{"$f":"IF('VETS-701B Participant Info'!$F29=3,'VETS-701B Participant Info'!$B29,\"  \")","v":"  "},{"$nulls":4},{"v":0,"d":"$0.00"},{"$nulls":3},{"v":0,"d":"$0.00"},0,{"v":0,"d":"$0.00"},{"$nulls":91},2]
[{"$f":"IF('VETS-701B Participant Info'!$F30=3,'VETS-701B Participant Info'!$A30,\"  \")","v":"  "},{"$f":"IF('VETS-701B Participant Info'!$F30=3,'VETS-701B Participant Info'!$B30,\"  \")","v":"  "},{"$nulls":4},{"v":0,"d":"$0.00"},{"$nulls":3},{"v":0,"d":"$0.00"},0,{"v":0,"d":"$0.00"},{"$nulls":91},2]
[{"$f":"IF('VETS-701B Participant Info'!$F31=3,'VETS-701B Participant Info'!$A31,\"  \")","v":"  "},{"$f":"IF('VETS-701B Participant Info'!$F31=3,'VETS-701B Participant Info'!$B31,\"  \")","v":"  "},{"$nulls":4},{"v":0,"d":"$0.00"},{"$nulls":3},{"v":0,"d":"$0.00"},0,{"v":0,"d":"$0.00"},{"$nulls":91},2]
[{"$f":"IF('VETS-701B Participant Info'!$F32=3,'VETS-701B Participant Info'!$A32,\"  \")","v":"  "},{"$f":"IF('VETS-701B Participant Info'!$F32=3,'VETS-701B Participant Info'!$B32,\"  \")","v":"  "},{"$nulls":4},{"v":0,"d":"$0.00"},{"$nulls":3},{"v":0,"d":"$0.00"},0,{"v":0,"d":"$0.00"},{"$nulls":91},2]
[{"$f":"IF('VETS-701B Participant Info'!$F33=3,'VETS-701B Participant Info'!$A33,\"  \")","v":"  "},{"$f":"IF('VETS-701B Participant Info'!$F33=3,'VETS-701B Participant Info'!$B33,\"  \")","v":"  "},{"$nulls":4},{"v":0,"d":"$0.00"},{"$nulls":3},{"v":0,"d":"$0.00"},0,{"v":0,"d":"$0.00"},{"$nulls":91},2]
[{"$f":"IF('VETS-701B Participant Info'!$F34=3,'VETS-701B Participant Info'!$A34,\"  \")","v":"  "},{"$f":"IF('VETS-701B Participant Info'!$F34=3,'VETS-701B Participant Info'!$B34,\"  \")","v":"  "},{"$nulls":4},{"v":0,"d":"$0.00"},{"$nulls":3},{"v":0,"d":"$0.00"},0,{"v":0,"d":"$0.00"},{"$nulls":91},2]
[{"$f":"IF('VETS-701B Participant Info'!$F35=3,'VETS-701B Participant Info'!$A35,\"  \")","v":"  "},{"$f":"IF('VETS-701B Participant Info'!$F35=3,'VETS-701B Participant Info'!$B35,\"  \")","v":"  "},{"$nulls":4},{"v":0,"d":"$0.00"},{"$nulls":3},{"v":0,"d":"$0.00"},0,{"v":0,"d":"$0.00"},{"$nulls":91},2]
[{"$f":"IF('VETS-701B Participant Info'!$F36=3,'VETS-701B Participant Info'!$A36,\"  \")","v":"  "},{"$f":"IF('VETS-701B Participant Info'!$F36=3,'VETS-701B Participant Info'!$B36,\"  \")","v":"  "},{"$nulls":4},{"v":0,"d":"$0.00"},{"$nulls":3},{"v":0,"d":"$0.00"},0,{"v":0,"d":"$0.00"},{"$nulls":91},2]
[{"$f":"IF('VETS-701B Participant Info'!$F37=3,'VETS-701B Participant Info'!$A37,\"  \")","v":"  "},{"$f":"IF('VETS-701B Participant Info'!$F37=3,'VETS-701B Participant Info'!$B37,\"  \")","v":"  "},{"$nulls":4},{"v":0,"d":"$0.00"},{"$nulls":3},{"v":0,"d":"$0.00"},0,{"v":0,"d":"$0.00"},{"$nulls":91},2]
[{"$f":"IF('VETS-701B Participant Info'!$F38=3,'VETS-701B Participant Info'!$A38,\"  \")","v":"  "},{"$f":"IF('VETS-701B Participant Info'!$F38=3,'VETS-701B Participant Info'!$B38,\"  \")","v":"  "},{"$nulls":4},{"v":0,"d":"$0.00"},{"$nulls":3},{"v":0,"d":"$0.00"},0,{"v":0,"d":"$0.00"},{"$nulls":91},2]
[{"$f":"IF('VETS-701B Participant Info'!$F39=3,'VETS-701B Participant Info'!$A39,\"  \")","v":"  "},{"$f":"IF('VETS-701B Participant Info'!$F39=3,'VETS-701B Participant Info'!$B39,\"  \")","v":"  "},{"$nulls":4},{"v":0,"d":"$0.00"},{"$nulls":3},{"v":0,"d":"$0.00"},0,{"v":0,"d":"$0.00"},{"$nulls":91},2]
[{"$f":"IF('VETS-701B Participant Info'!$F40=3,'VETS-701B Participant Info'!$A40,\"  \")","v":"  "},{"$f":"IF('VETS-701B Participant Info'!$F40=3,'VETS-701B Participant Info'!$B40,\"  \")","v":"  "},{"$nulls":4},{"v":0,"d":"$0.00"},{"$nulls":3},{"v":0,"d":"$0.00"},0,{"v":0,"d":"$0.00"},{"$nulls":91},2]
[{"$f":"IF('VETS-701B Participant Info'!$F41=3,'VETS-701B Participant Info'!$A41,\"  \")","v":"  "},{"$f":"IF('VETS-701B Participant Info'!$F41=3,'VETS-701B Participant Info'!$B41,\"  \")","v":"  "},{"$nulls":4},{"v":0,"d":"$0.00"},{"$nulls":3},{"v":0,"d":"$0.00"},0,{"v":0,"d":"$0.00"},{"$nulls":91},2]
[{"$f":"IF('VETS-701B Participant Info'!$F42=3,'VETS-701B Participant Info'!$A42,\"  \")","v":"  "},{"$f":"IF('VETS-701B Participant Info'!$F42=3,'VETS-701B Participant Info'!$B42,\"  \")","v":"  "},{"$nulls":4},{"v":0,"d":"$0.00"},{"$nulls":3},{"v":0,"d":"$0.00"},0,{"v":0,"d":"$0.00"},{"$nulls":91},2]
[{"$f":"IF('VETS-701B Participant Info'!$F43=3,'VETS-701B Participant Info'!$A43,\"  \")","v":"  "},{"$f":"IF('VETS-701B Participant Info'!$F43=3,'VETS-701B Participant Info'!$B43,\"  \")","v":"  "},{"$nulls":4},{"v":0,"d":"$0.00"},{"$nulls":3},{"v":0,"d":"$0.00"},0,{"v":0,"d":"$0.00"},{"$nulls":91},2]
[{"$f":"IF('VETS-701B Participant Info'!$F44=3,'VETS-701B Participant Info'!$A44,\"  \")","v":"  "},{"$f":"IF('VETS-701B Participant Info'!$F44=3,'VETS-701B Participant Info'!$B44,\"  \")","v":"  "},{"$nulls":4},{"v":0,"d":"$0.00"},{"$nulls":3},{"v":0,"d":"$0.00"},0,{"v":0,"d":"$0.00"},{"$nulls":91},2]
[{"$f":"IF('VETS-701B Participant Info'!$F45=3,'VETS-701B Participant Info'!$A45,\"  \")","v":"  "},{"$f":"IF('VETS-701B Participant Info'!$F45=3,'VETS-701B Participant Info'!$B45,\"  \")","v":"  "},{"$nulls":4},{"v":0,"d":"$0.00"},{"$nulls":3},{"v":0,"d":"$0.00"},0,{"v":0,"d":"$0.00"},{"$nulls":91},2]
[{"$f":"IF('VETS-701B Participant Info'!$F46=3,'VETS-701B Participant Info'!$A46,\"  \")","v":"  "},{"$f":"IF('VETS-701B Participant Info'!$F46=3,'VETS-701B Participant Info'!$B46,\"  \")","v":"  "},{"$nulls":4},{"v":0,"d":"$0.00"},{"$nulls":3},{"v":0,"d":"$0.00"},0,{"v":0,"d":"$0.00"},{"$nulls":91},2]
[{"$f":"IF('VETS-701B Participant Info'!$F47=3,'VETS-701B Participant Info'!$A47,\"  \")","v":"  "},{"$f":"IF('VETS-701B Participant Info'!$F47=3,'VETS-701B Participant Info'!$B47,\"  \")","v":"  "},{"$nulls":4},{"v":0,"d":"$0.00"},{"$nulls":3},{"v":0,"d":"$0.00"},0,{"v":0,"d":"$0.00"},{"$nulls":91},2]
[{"$f":"IF('VETS-701B Participant Info'!$F48=3,'VETS-701B Participant Info'!$A48,\"  \")","v":"  "},{"$f":"IF('VETS-701B Participant Info'!$F48=3,'VETS-701B Participant Info'!$B48,\"  \")","v":"  "},{"$nulls":4},{"v":0,"d":"$0.00"},{"$nulls":3},{"v":0,"d":"$0.00"},0,{"v":0,"d":"$0.00"},{"$nulls":91},2]
[{"$f":"IF('VETS-701B Participant Info'!$F49=3,'VETS-701B Participant Info'!$A49,\"  \")","v":"  "},{"$f":"IF('VETS-701B Participant Info'!$F49=3,'VETS-701B Participant Info'!$B49,\"  \")","v":"  "},{"$nulls":4},{"v":0,"d":"$0.00"},{"$nulls":3},{"v":0,"d":"$0.00"},0,{"v":0,"d":"$0.00"},{"$nulls":91},2]
[{"$f":"IF('VETS-701B Participant Info'!$F50=3,'VETS-701B Participant Info'!$A50,\"  \")","v":"  "},{"$f":"IF('VETS-701B Participant Info'!$F50=3,'VETS-701B Participant Info'!$B50,\"  \")","v":"  "},{"$nulls":4},{"v":0,"d":"$0.00"},{"$nulls":3},{"v":0,"d":"$0.00"},0,{"v":0,"d":"$0.00"},{"$nulls":91},2]
[{"$f":"IF('VETS-701B Participant Info'!$F51=3,'VETS-701B Participant Info'!$A51,\"  \")","v":"  "},{"$f":"IF('VETS-701B Participant Info'!$F51=3,'VETS-701B Participant Info'!$B51,\"  \")","v":"  "},{"$nulls":4},{"v":0,"d":"$0.00"},{"$nulls":3},{"v":0,"d":"$0.00"},0,{"v":0,"d":"$0.00"},{"$nulls":91},2]
[{"$f":"IF('VETS-701B Participant Info'!$F52=3,'VETS-701B Participant Info'!$A52,\"  \")","v":"  "},{"$f":"IF('VETS-701B Participant Info'!$F52=3,'VETS-701B Participant Info'!$B52,\"  \")","v":"  "},{"$nulls":4},{"v":0,"d":"$0.00"},{"$nulls":3},{"v":0,"d":"$0.00"},0,{"v":0,"d":"$0.00"},{"$nulls":91},2]
[{"$f":"IF('VETS-701B Participant Info'!$F53=3,'VETS-701B Participant Info'!$A53,\"  \")","v":"  "},{"$f":"IF('VETS-701B Participant Info'!$F53=3,'VETS-701B Participant Info'!$B53,\"  \")","v":"  "},{"$nulls":4},{"v":0,"d":"$0.00"},{"$nulls":3},{"v":0,"d":"$0.00"},0,{"v":0,"d":"$0.00"},{"$nulls":91},2]
[{"$f":"IF('VETS-701B Participant Info'!$F54=3,'VETS-701B Participant Info'!$A54,\"  \")","v":"  "},{"$f":"IF('VETS-701B Participant Info'!$F54=3,'VETS-701B Participant Info'!$B54,\"  \")","v":"  "},{"$nulls":4},{"v":0,"d":"$0.00"},{"$nulls":3},{"v":0,"d":"$0.00"},0,{"v":0,"d":"$0.00"},{"$nulls":91},2]
[{"$f":"IF('VETS-701B Participant Info'!$F55=3,'VETS-701B Participant Info'!$A55,\"  \")","v":"  "},{"$f":"IF('VETS-701B Participant Info'!$F55=3,'VETS-701B Participant Info'!$B55,\"  \")","v":"  "},{"$nulls":4},{"v":0,"d":"$0.00"},{"$nulls":3},{"v":0,"d":"$0.00"},0,{"v":0,"d":"$0.00"},{"$nulls":91},2]
[{"$f":"IF('VETS-701B Participant Info'!$F56=3,'VETS-701B Participant Info'!$A56,\"  \")","v":"  "},{"$f":"IF('VETS-701B Participant Info'!$F56=3,'VETS-701B Participant Info'!$B56,\"  \")","v":"  "},{"$nulls":4},{"v":0,"d":"$0.00"},{"$nulls":3},{"v":0,"d":"$0.00"},0,{"v":0,"d":"$0.00"},{"$nulls":91},2]
[{"$f":"IF('VETS-701B Participant Info'!$F57=3,'VETS-701B Participant Info'!$A57,\"  \")","v":"  "},{"$f":"IF('VETS-701B Participant Info'!$F57=3,'VETS-701B Participant Info'!$B57,\"  \")","v":"  "},{"$nulls":4},{"v":0,"d":"$0.00"},{"$nulls":3},{"v":0,"d":"$0.00"},0,{"v":0,"d":"$0.00"},{"$nulls":91},2]
[{"$f":"IF('VETS-701B Participant Info'!$F58=3,'VETS-701B Participant Info'!$A58,\"  \")","v":"  "},{"$f":"IF('VETS-701B Participant Info'!$F58=3,'VETS-701B Participant Info'!$B58,\"  \")","v":"  "},{"$nulls":4},{"v":0,"d":"$0.00"},{"$nulls":3},{"v":0,"d":"$0.00"},0,{"v":0,"d":"$0.00"},{"$nulls":91},2]
[{"$f":"IF('VETS-701B Participant Info'!$F59=3,'VETS-701B Participant Info'!$A59,\"  \")","v":"  "},{"$f":"IF('VETS-701B Participant Info'!$F59=3,'VETS-701B Participant Info'!$B59,\"  \")","v":"  "},{"$nulls":4},{"v":0,"d":"$0.00"},{"$nulls":3},{"v":0,"d":"$0.00"},0,{"v":0,"d":"$0.00"},{"$nulls":91},2]
[{"$f":"IF('VETS-701B Participant Info'!$F60=3,'VETS-701B Participant Info'!$A60,\"  \")","v":"  "},{"$f":"IF('VETS-701B Participant Info'!$F60=3,'VETS-701B Participant Info'!$B60,\"  \")","v":"  "},{"$nulls":4},{"v":0,"d":"$0.00"},{"$nulls":3},{"v":0,"d":"$0.00"},0,{"v":0,"d":"$0.00"},{"$nulls":91},2]
[{"$f":"IF('VETS-701B Participant Info'!$F61=3,'VETS-701B Participant Info'!$A61,\"  \")","v":"  "},{"$f":"IF('VETS-701B Participant Info'!$F61=3,'VETS-701B Participant Info'!$B61,\"  \")","v":"  "},{"$nulls":4},{"v":0,"d":"$0.00"},{"$nulls":3},{"v":0,"d":"$0.00"},0,{"v":0,"d":"$0.00"},{"$nulls":91},2]
[{"$f":"IF('VETS-701B Participant Info'!$F62=3,'VETS-701B Participant Info'!$A62,\"  \")","v":"  "},{"$f":"IF('VETS-701B Participant Info'!$F62=3,'VETS-701B Participant Info'!$B62,\"  \")","v":"  "},{"$nulls":4},{"v":0,"d":"$0.00"},{"$nulls":3},{"v":0,"d":"$0.00"},0,{"v":0,"d":"$0.00"},{"$nulls":91},2]
[{"$f":"IF('VETS-701B Participant Info'!$F63=3,'VETS-701B Participant Info'!$A63,\"  \")","v":"  "},{"$f":"IF('VETS-701B Participant Info'!$F63=3,'VETS-701B Participant Info'!$B63,\"  \")","v":"  "},{"$nulls":4},{"v":0,"d":"$0.00"},{"$nulls":3},{"v":0,"d":"$0.00"},0,{"v":0,"d":"$0.00"},{"$nulls":91},2]
[{"$f":"IF('VETS-701B Participant Info'!$F64=3,'VETS-701B Participant Info'!$A64,\"  \")","v":"  "},{"$f":"IF('VETS-701B Participant Info'!$F64=3,'VETS-701B Participant Info'!$B64,\"  \")","v":"  "},{"$nulls":4},{"v":0,"d":"$0.00"},{"$nulls":3},{"v":0,"d":"$0.00"},0,{"v":0,"d":"$0.00"},{"$nulls":91},2]
[{"$f":"IF('VETS-701B Participant Info'!$F65=3,'VETS-701B Participant Info'!$A65,\"  \")","v":"  "},{"$f":"IF('VETS-701B Participant Info'!$F65=3,'VETS-701B Participant Info'!$B65,\"  \")","v":"  "},{"$nulls":4},{"v":0,"d":"$0.00"},{"$nulls":3},{"v":0,"d":"$0.00"},0,{"v":0,"d":"$0.00"},{"$nulls":91},2]
[{"$f":"IF('VETS-701B Participant Info'!$F66=3,'VETS-701B Participant Info'!$A66,\"  \")","v":"  "},{"$f":"IF('VETS-701B Participant Info'!$F66=3,'VETS-701B Participant Info'!$B66,\"  \")","v":"  "},{"$nulls":4},{"$f":"SUM(E69*F69*13)","v":{"v":0,"d":"$0.00"}},{"$nulls":3},{"$f":"SUM(I69*J69*13)","v":{"v":0,"d":"$0.00"}},{"$f":"SUM(H69+D69+C69)","v":0},{"$f":"IF(L69=3,K69+G69,0)","v":{"v":0,"d":"$0.00"}},{"$nulls":91},2]
[{"$f":"IF('VETS-701B Participant Info'!$F67=3,'VETS-701B Participant Info'!$A67,\"  \")","v":"  "},{"$f":"IF('VETS-701B Participant Info'!$F67=3,'VETS-701B Participant Info'!$B67,\"  \")","v":"  "},{"$nulls":4},{"v":0,"d":"$0.00"},{"$nulls":3},{"v":0,"d":"$0.00"},0,{"v":0,"d":"$0.00"},{"$nulls":91},{"$f":"IF($B70> \"             \",1,2)","v":2}]
[{"$f":"IF('VETS-701B Participant Info'!$F68=3,'VETS-701B Participant Info'!$A68,\"  \")","v":"  "},{"$f":"IF('VETS-701B Participant Info'!$F68=3,'VETS-701B Participant Info'!$B68,\"  \")","v":"  "},{"$nulls":4},{"v":0,"d":"$0.00"},{"$nulls":3},{"v":0,"d":"$0.00"},0,{"v":0,"d":"$0.00"},{"$nulls":91},2]
[{"$f":"IF('VETS-701B Participant Info'!$F69=3,'VETS-701B Participant Info'!$A69,\"  \")","v":"  "},{"$f":"IF('VETS-701B Participant Info'!$F69=3,'VETS-701B Participant Info'!$B69,\"  \")","v":"  "},{"$nulls":4},{"v":0,"d":"$0.00"},{"$nulls":3},{"v":0,"d":"$0.00"},0,{"v":0,"d":"$0.00"},{"$nulls":91},2]
[{"$f":"IF('VETS-701B Participant Info'!$F70=3,'VETS-701B Participant Info'!$A70,\"  \")","v":"  "},{"$f":"IF('VETS-701B Participant Info'!$F70=3,'VETS-701B Participant Info'!$B70,\"  \")","v":"  "},{"$nulls":4},{"v":0,"d":"$0.00"},{"$nulls":3},{"v":0,"d":"$0.00"},0,{"v":0,"d":"$0.00"},{"$nulls":91},2]
[{"$f":"IF('VETS-701B Participant Info'!$F71=3,'VETS-701B Participant Info'!$A71,\"  \")","v":"  "},{"$f":"IF('VETS-701B Participant Info'!$F71=3,'VETS-701B Participant Info'!$B71,\"  \")","v":"  "},{"$nulls":4},{"v":0,"d":"$0.00"},{"$nulls":3},{"v":0,"d":"$0.00"},0,{"v":0,"d":"$0.00"},{"$nulls":91},2]
[{"$f":"IF('VETS-701B Participant Info'!$F72=3,'VETS-701B Participant Info'!$A72,\"  \")","v":"  "},{"$f":"IF('VETS-701B Participant Info'!$F72=3,'VETS-701B Participant Info'!$B72,\"  \")","v":"  "},{"$nulls":4},{"v":0,"d":"$0.00"},{"$nulls":3},{"v":0,"d":"$0.00"},0,{"v":0,"d":"$0.00"},{"$nulls":91},2]
[{"$f":"IF('VETS-701B Participant Info'!$F73=3,'VETS-701B Participant Info'!$A73,\"  \")","v":"  "},{"$f":"IF('VETS-701B Participant Info'!$F73=3,'VETS-701B Participant Info'!$B73,\"  \")","v":"  "},{"$nulls":4},{"v":0,"d":"$0.00"},{"$nulls":3},{"v":0,"d":"$0.00"},0,{"v":0,"d":"$0.00"},{"$nulls":91},2]
[{"$f":"IF('VETS-701B Participant Info'!$F74=3,'VETS-701B Participant Info'!$A74,\"  \")","v":"  "},{"$f":"IF('VETS-701B Participant Info'!$F74=3,'VETS-701B Participant Info'!$B74,\"  \")","v":"  "},{"$nulls":4},{"v":0,"d":"$0.00"},{"$nulls":3},{"v":0,"d":"$0.00"},0,{"v":0,"d":"$0.00"},{"$nulls":91},2]
[{"$f":"IF('VETS-701B Participant Info'!$F75=3,'VETS-701B Participant Info'!$A75,\"  \")","v":"  "},{"$f":"IF('VETS-701B Participant Info'!$F75=3,'VETS-701B Participant Info'!$B75,\"  \")","v":"  "},{"$nulls":4},{"v":0,"d":"$0.00"},{"$nulls":3},{"v":0,"d":"$0.00"},0,{"v":0,"d":"$0.00"},{"$nulls":91},2]
[{"$f":"IF('VETS-701B Participant Info'!$F76=3,'VETS-701B Participant Info'!$A76,\"  \")","v":"  "},{"$f":"IF('VETS-701B Participant Info'!$F76=3,'VETS-701B Participant Info'!$B76,\"  \")","v":"  "},{"$nulls":4},{"v":0,"d":"$0.00"},{"$nulls":3},{"v":0,"d":"$0.00"},0,{"v":0,"d":"$0.00"},{"$nulls":91},2]
[{"$f":"IF('VETS-701B Participant Info'!$F77=3,'VETS-701B Participant Info'!$A77,\"  \")","v":"  "},{"$f":"IF('VETS-701B Participant Info'!$F77=3,'VETS-701B Participant Info'!$B77,\"  \")","v":"  "},{"$nulls":4},{"v":0,"d":"$0.00"},{"$nulls":3},{"v":0,"d":"$0.00"},0,{"v":0,"d":"$0.00"},{"$nulls":91},2]
[{"$f":"IF('VETS-701B Participant Info'!$F78=3,'VETS-701B Participant Info'!$A78,\"  \")","v":"  "},{"$f":"IF('VETS-701B Participant Info'!$F78=3,'VETS-701B Participant Info'!$B78,\"  \")","v":"  "},{"$nulls":4},{"v":0,"d":"$0.00"},{"$nulls":3},{"v":0,"d":"$0.00"},0,{"v":0,"d":"$0.00"},{"$nulls":91},2]
[{"$f":"IF('VETS-701B Participant Info'!$F79=3,'VETS-701B Participant Info'!$A79,\"  \")","v":"  "},{"$f":"IF('VETS-701B Participant Info'!$F79=3,'VETS-701B Participant Info'!$B79,\"  \")","v":"  "},{"$nulls":4},{"v":0,"d":"$0.00"},{"$nulls":3},{"v":0,"d":"$0.00"},0,{"v":0,"d":"$0.00"},{"$nulls":91},2]
[{"$f":"IF('VETS-701B Participant Info'!$F80=3,'VETS-701B Participant Info'!$A80,\"  \")","v":"  "},{"$f":"IF('VETS-701B Participant Info'!$F80=3,'VETS-701B Participant Info'!$B80,\"  \")","v":"  "},{"$nulls":4},{"v":0,"d":"$0.00"},{"$nulls":3},{"v":0,"d":"$0.00"},0,{"v":0,"d":"$0.00"},{"$nulls":91},2]
[{"$f":"IF('VETS-701B Participant Info'!$F81=3,'VETS-701B Participant Info'!$A81,\"  \")","v":"  "},{"$f":"IF('VETS-701B Participant Info'!$F81=3,'VETS-701B Participant Info'!$B81,\"  \")","v":"  "},{"$nulls":4},{"v":0,"d":"$0.00"},{"$nulls":3},{"v":0,"d":"$0.00"},0,{"v":0,"d":"$0.00"},{"$nulls":91},2]
[{"$f":"IF('VETS-701B Participant Info'!$F82=3,'VETS-701B Participant Info'!$A82,\"  \")","v":"  "},{"$f":"IF('VETS-701B Participant Info'!$F82=3,'VETS-701B Participant Info'!$B82,\"  \")","v":"  "},{"$nulls":4},{"v":0,"d":"$0.00"},{"$nulls":3},{"v":0,"d":"$0.00"},0,{"v":0,"d":"$0.00"},{"$nulls":91},2]
[{"$f":"IF('VETS-701B Participant Info'!$F83=3,'VETS-701B Participant Info'!$A83,\"  \")","v":"  "},{"$f":"IF('VETS-701B Participant Info'!$F83=3,'VETS-701B Participant Info'!$B83,\"  \")","v":"  "},{"$nulls":4},{"v":0,"d":"$0.00"},{"$nulls":3},{"v":0,"d":"$0.00"},0,{"v":0,"d":"$0.00"},{"$nulls":91},2]
[{"$f":"IF('VETS-701B Participant Info'!$F84=3,'VETS-701B Participant Info'!$A84,\"  \")","v":"  "},{"$f":"IF('VETS-701B Participant Info'!$F84=3,'VETS-701B Participant Info'!$B84,\"  \")","v":"  "},{"$nulls":4},{"v":0,"d":"$0.00"},{"$nulls":3},{"v":0,"d":"$0.00"},0,{"v":0,"d":"$0.00"},{"$nulls":91},2]
[{"$f":"IF('VETS-701B Participant Info'!$F85=3,'VETS-701B Participant Info'!$A85,\"  \")","v":"  "},{"$f":"IF('VETS-701B Participant Info'!$F85=3,'VETS-701B Participant Info'!$B85,\"  \")","v":"  "},{"$nulls":4},{"v":0,"d":"$0.00"},{"$nulls":3},{"v":0,"d":"$0.00"},0,{"v":0,"d":"$0.00"},{"$nulls":91},2]
[{"$f":"IF('VETS-701B Participant Info'!$F86=3,'VETS-701B Participant Info'!$A86,\"  \")","v":"  "},{"$f":"IF('VETS-701B Participant Info'!$F86=3,'VETS-701B Participant Info'!$B86,\"  \")","v":"  "},{"$nulls":4},{"v":0,"d":"$0.00"},{"$nulls":3},{"v":0,"d":"$0.00"},0,{"v":0,"d":"$0.00"},{"$nulls":91},2]
[{"$f":"IF('VETS-701B Participant Info'!$F87=3,'VETS-701B Participant Info'!$A87,\"  \")","v":"  "},{"$f":"IF('VETS-701B Participant Info'!$F87=3,'VETS-701B Participant Info'!$B87,\"  \")","v":"  "},{"$nulls":4},{"v":0,"d":"$0.00"},{"$nulls":3},{"v":0,"d":"$0.00"},0,{"v":0,"d":"$0.00"},{"$nulls":91},2]
[{"$f":"IF('VETS-701B Participant Info'!$F88=3,'VETS-701B Participant Info'!$A88,\"  \")","v":"  "},{"$f":"IF('VETS-701B Participant Info'!$F88=3,'VETS-701B Participant Info'!$B88,\"  \")","v":"  "},{"$nulls":4},{"v":0,"d":"$0.00"},{"$nulls":3},{"v":0,"d":"$0.00"},0,{"v":0,"d":"$0.00"},{"$nulls":91},2]
[{"$f":"IF('VETS-701B Participant Info'!$F89=3,'VETS-701B Participant Info'!$A89,\"  \")","v":"  "},{"$f":"IF('VETS-701B Participant Info'!$F89=3,'VETS-701B Participant Info'!$B89,\"  \")","v":"  "},{"$nulls":4},{"v":0,"d":"$0.00"},{"$nulls":3},{"v":0,"d":"$0.00"},0,{"v":0,"d":"$0.00"},{"$nulls":91},2]
[{"$f":"IF('VETS-701B Participant Info'!$F90=3,'VETS-701B Participant Info'!$A90,\"  \")","v":"  "},{"$f":"IF('VETS-701B Participant Info'!$F90=3,'VETS-701B Participant Info'!$B90,\"  \")","v":"  "},{"$nulls":4},{"v":0,"d":"$0.00"},{"$nulls":3},{"v":0,"d":"$0.00"},0,{"v":0,"d":"$0.00"},{"$nulls":91},2]
[{"$f":"IF('VETS-701B Participant Info'!$F91=3,'VETS-701B Participant Info'!$A91,\"  \")","v":"  "},{"$f":"IF('VETS-701B Participant Info'!$F91=3,'VETS-701B Participant Info'!$B91,\"  \")","v":"  "},{"$nulls":4},{"v":0,"d":"$0.00"},{"$nulls":3},{"v":0,"d":"$0.00"},0,{"v":0,"d":"$0.00"},{"$nulls":91},2]
[{"$f":"IF('VETS-701B Participant Info'!$F92=3,'VETS-701B Participant Info'!$A92,\"  \")","v":"  "},{"$f":"IF('VETS-701B Participant Info'!$F92=3,'VETS-701B Participant Info'!$B92,\"  \")","v":"  "},{"$nulls":4},{"v":0,"d":"$0.00"},{"$nulls":3},{"v":0,"d":"$0.00"},0,{"v":0,"d":"$0.00"},{"$nulls":91},2]
[{"$f":"IF('VETS-701B Participant Info'!$F93=3,'VETS-701B Participant Info'!$A93,\"  \")","v":"  "},{"$f":"IF('VETS-701B Participant Info'!$F93=3,'VETS-701B Participant Info'!$B93,\"  \")","v":"  "},{"$nulls":4},{"v":0,"d":"$0.00"},{"$nulls":3},{"v":0,"d":"$0.00"},0,{"v":0,"d":"$0.00"},{"$nulls":91},2]
[{"$f":"IF('VETS-701B Participant Info'!$F94=3,'VETS-701B Participant Info'!$A94,\"  \")","v":"  "},{"$f":"IF('VETS-701B Participant Info'!$F94=3,'VETS-701B Participant Info'!$B94,\"  \")","v":"  "},{"$nulls":4},{"v":0,"d":"$0.00"},{"$nulls":3},{"v":0,"d":"$0.00"},0,{"v":0,"d":"$0.00"},{"$nulls":91},2]
[{"$f":"IF('VETS-701B Participant Info'!$F95=3,'VETS-701B Participant Info'!$A95,\"  \")","v":"  "},{"$f":"IF('VETS-701B Participant Info'!$F95=3,'VETS-701B Participant Info'!$B95,\"  \")","v":"  "},{"$nulls":4},{"v":0,"d":"$0.00"},{"$nulls":3},{"v":0,"d":"$0.00"},0,{"v":0,"d":"$0.00"},{"$nulls":91},2]
[{"$f":"IF('VETS-701B Participant Info'!$F96=3,'VETS-701B Participant Info'!$A96,\"  \")","v":"  "},{"$f":"IF('VETS-701B Participant Info'!$F96=3,'VETS-701B Participant Info'!$B96,\"  \")","v":"  "},{"$nulls":4},{"v":0,"d":"$0.00"},{"$nulls":3},{"v":0,"d":"$0.00"},0,{"v":0,"d":"$0.00"},{"$nulls":91},2]
[{"$f":"IF('VETS-701B Participant Info'!$F97=3,'VETS-701B Participant Info'!$A97,\"  \")","v":"  "},{"$f":"IF('VETS-701B Participant Info'!$F97=3,'VETS-701B Participant Info'!$B97,\"  \")","v":"  "},{"$nulls":4},{"v":0,"d":"$0.00"},{"$nulls":3},{"v":0,"d":"$0.00"},0,{"v":0,"d":"$0.00"},{"$nulls":91},2]
[{"$f":"IF('VETS-701B Participant Info'!$F98=3,'VETS-701B Participant Info'!$A98,\"  \")","v":"  "},{"$f":"IF('VETS-701B Participant Info'!$F98=3,'VETS-701B Participant Info'!$B98,\"  \")","v":"  "},{"$nulls":4},{"$f":"SUM(E101*F101*13)","v":{"v":0,"d":"$0.00"}},{"$nulls":3},{"$f":"SUM(I101*J101*13)","v":{"v":0,"d":"$0.00"}},0,{"$f":"IF(L101=3,K101+G101,0)","v":{"v":0,"d":"$0.00"}},{"$nulls":91},2]
[{"$f":"IF('VETS-701B Participant Info'!$F99=3,'VETS-701B Participant Info'!$A99,\"  \")","v":"  "},{"$f":"IF('VETS-701B Participant Info'!$F99=3,'VETS-701B Participant Info'!$B99,\"  \")","v":"  "},{"$nulls":4},{"$f":"SUM(E102*F102*13)","v":{"v":0,"d":"$0.00"}},{"$nulls":3},{"$f":"SUM(I102*J102*13)","v":{"v":0,"d":"$0.00"}},0,{"$f":"IF(L102=3,K102+G102,0)","v":{"v":0,"d":"$0.00"}},{"$nulls":91},2]
[{"$f":"IF('VETS-701B Participant Info'!$F100=3,'VETS-701B Participant Info'!$A100,\"  \")","v":"  "},{"$f":"IF('VETS-701B Participant Info'!$F100=3,'VETS-701B Participant Info'!$B100,\"  \")","v":"  "},{"$nulls":4},{"$f":"SUM(E103*F103*13)","v":{"v":0,"d":"$0.00"}},{"$nulls":3},{"$f":"SUM(I103*J103*13)","v":{"v":0,"d":"$0.00"}},0,{"$f":"IF(L103=3,K103+G103,0)","v":{"v":0,"d":"$0.00"}},{"$nulls":91},2]
[{"$f":"IF('VETS-701B Participant Info'!$F101=3,'VETS-701B Participant Info'!$A101,\"  \")","v":"  "},{"$f":"IF('VETS-701B Participant Info'!$F101=3,'VETS-701B Participant Info'!$B101,\"  \")","v":"  "},{"$nulls":4},{"$f":"SUM(E104*F104*13)","v":{"v":0,"d":"$0.00"}},{"$nulls":3},{"$f":"SUM(I104*J104*13)","v":{"v":0,"d":"$0.00"}},0,{"$f":"IF(L104=3,K104+G104,0)","v":{"v":0,"d":"$0.00"}},{"$nulls":91},2]
[{"$f":"IF('VETS-701B Participant Info'!$F102=3,'VETS-701B Participant Info'!$A102,\"  \")","v":"  "},{"$f":"IF('VETS-701B Participant Info'!$F102=3,'VETS-701B Participant Info'!$B102,\"  \")","v":"  "},{"$nulls":4},{"$f":"SUM(E105*F105*13)","v":{"v":0,"d":"$0.00"}},{"$nulls":3},{"$f":"SUM(I105*J105*13)","v":{"v":0,"d":"$0.00"}},0,{"$f":"IF(L105=3,K105+G105,0)","v":{"v":0,"d":"$0.00"}},{"$nulls":91},2]
[{"$f":"IF('VETS-701B Participant Info'!$F103=3,'VETS-701B Participant Info'!$A103,\"  \")","v":"  "},{"$f":"IF('VETS-701B Participant Info'!$F103=3,'VETS-701B Participant Info'!$B103,\"  \")","v":"  "},{"$nulls":4},{"v":0,"d":"$0.00"},{"$nulls":3},{"v":0,"d":"$0.00"},0,{"v":0,"d":"$0.00"},{"$nulls":91},2]
[{"$f":"IF('VETS-701B Participant Info'!$F104=3,'VETS-701B Participant Info'!$A104,\"  \")","v":"  "},{"$f":"IF('VETS-701B Participant Info'!$F104=3,'VETS-701B Participant Info'!$B104,\"  \")","v":"  "},{"$nulls":4},{"v":0,"d":"$0.00"},{"$nulls":3},{"v":0,"d":"$0.00"},0,{"v":0,"d":"$0.00"},{"$nulls":91},2]
[{"$f":"IF('VETS-701B Participant Info'!$F105=3,'VETS-701B Participant Info'!$A105,\"  \")","v":"  "},{"$f":"IF('VETS-701B Participant Info'!$F105=3,'VETS-701B Participant Info'!$B105,\"  \")","v":"  "},{"$nulls":4},{"v":0,"d":"$0.00"},{"$nulls":3},{"v":0,"d":"$0.00"},0,{"v":0,"d":"$0.00"},{"$nulls":91},2]
[{"$f":"IF('VETS-701B Participant Info'!$F106=3,'VETS-701B Participant Info'!$A106,\"  \")","v":"  "},{"$f":"IF('VETS-701B Participant Info'!$F106=3,'VETS-701B Participant Info'!$B106,\"  \")","v":"  "},{"$nulls":4},{"v":0,"d":"$0.00"},{"$nulls":3},{"v":0,"d":"$0.00"},0,{"v":0,"d":"$0.00"},{"$nulls":91},2]
[{"$f":"IF('VETS-701B Participant Info'!$F107=3,'VETS-701B Participant Info'!$A107,\"  \")","v":"  "},{"$f":"IF('VETS-701B Participant Info'!$F107=3,'VETS-701B Participant Info'!$B107,\"  \")","v":"  "},{"$nulls":4},{"v":0,"d":"$0.00"},{"$nulls":3},{"v":0,"d":"$0.00"},0,{"v":0,"d":"$0.00"},{"$nulls":91},2]
[{"$f":"IF('VETS-701B Participant Info'!$F108=3,'VETS-701B Participant Info'!$A108,\"  \")","v":"  "},{"$f":"IF('VETS-701B Participant Info'!$F108=3,'VETS-701B Participant Info'!$B108,\"  \")","v":"  "},{"$nulls":4},{"v":0,"d":"$0.00"},{"$nulls":3},{"v":0,"d":"$0.00"},0,{"v":0,"d":"$0.00"},{"$nulls":91},2]
[{"$f":"IF('VETS-701B Participant Info'!$F109=3,'VETS-701B Participant Info'!$A109,\"  \")","v":"  "},{"$f":"IF('VETS-701B Participant Info'!$F109=3,'VETS-701B Participant Info'!$B109,\"  \")","v":"  "},{"$nulls":4},{"v":0,"d":"$0.00"},{"$nulls":3},{"v":0,"d":"$0.00"},0,{"v":0,"d":"$0.00"},{"$nulls":91},2]
[{"$f":"IF('VETS-701B Participant Info'!$F110=3,'VETS-701B Participant Info'!$A110,\"  \")","v":"  "},{"$f":"IF('VETS-701B Participant Info'!$F110=3,'VETS-701B Participant Info'!$B110,\"  \")","v":"  "},{"$nulls":4},{"v":0,"d":"$0.00"},{"$nulls":3},{"v":0,"d":"$0.00"},0,{"v":0,"d":"$0.00"},{"$nulls":91},2]
[{"$f":"IF('VETS-701B Participant Info'!$F111=3,'VETS-701B Participant Info'!$A111,\"  \")","v":"  "},{"$f":"IF('VETS-701B Participant Info'!$F111=3,'VETS-701B Participant Info'!$B111,\"  \")","v":"  "},{"$nulls":4},{"v":0,"d":"$0.00"},{"$nulls":3},{"v":0,"d":"$0.00"},0,{"v":0,"d":"$0.00"},{"$nulls":91},2]
[{"$f":"IF('VETS-701B Participant Info'!$F112=3,'VETS-701B Participant Info'!$A112,\"  \")","v":"  "},{"$f":"IF('VETS-701B Participant Info'!$F112=3,'VETS-701B Participant Info'!$B112,\"  \")","v":"  "},{"$nulls":4},{"v":0,"d":"$0.00"},{"$nulls":3},{"v":0,"d":"$0.00"},0,{"v":0,"d":"$0.00"},{"$nulls":91},2]
[{"$f":"IF('VETS-701B Participant Info'!$F113=3,'VETS-701B Participant Info'!$A113,\"  \")","v":"  "},{"$f":"IF('VETS-701B Participant Info'!$F113=3,'VETS-701B Participant Info'!$B113,\"  \")","v":"  "},{"$nulls":4},{"v":0,"d":"$0.00"},{"$nulls":3},{"v":0,"d":"$0.00"},0,{"v":0,"d":"$0.00"},{"$nulls":91},2]
[{"$f":"IF('VETS-701B Participant Info'!$F114=3,'VETS-701B Participant Info'!$A114,\"  \")","v":"  "},{"$f":"IF('VETS-701B Participant Info'!$F114=3,'VETS-701B Participant Info'!$B114,\"  \")","v":"  "},{"$nulls":4},{"v":0,"d":"$0.00"},{"$nulls":3},{"v":0,"d":"$0.00"},0,{"v":0,"d":"$0.00"},{"$nulls":91},2]
[{"$f":"IF('VETS-701B Participant Info'!$F115=3,'VETS-701B Participant Info'!$A115,\"  \")","v":"  "},{"$f":"IF('VETS-701B Participant Info'!$F115=3,'VETS-701B Participant Info'!$B115,\"  \")","v":"  "},{"$nulls":4},{"v":0,"d":"$0.00"},{"$nulls":3},{"v":0,"d":"$0.00"},0,{"v":0,"d":"$0.00"},{"$nulls":91},2]
[{"$f":"IF('VETS-701B Participant Info'!$F116=3,'VETS-701B Participant Info'!$A116,\"  \")","v":"  "},{"$f":"IF('VETS-701B Participant Info'!$F116=3,'VETS-701B Participant Info'!$B116,\"  \")","v":"  "},{"$nulls":4},{"v":0,"d":"$0.00"},{"$nulls":3},{"v":0,"d":"$0.00"},0,{"v":0,"d":"$0.00"},{"$nulls":91},2]
[{"$f":"IF('VETS-701B Participant Info'!$F117=3,'VETS-701B Participant Info'!$A117,\"  \")","v":"  "},{"$f":"IF('VETS-701B Participant Info'!$F117=3,'VETS-701B Participant Info'!$B117,\"  \")","v":"  "},{"$nulls":4},{"v":0,"d":"$0.00"},{"$nulls":3},{"v":0,"d":"$0.00"},0,{"v":0,"d":"$0.00"},{"$nulls":91},2]
[{"$f":"IF('VETS-701B Participant Info'!$F118=3,'VETS-701B Participant Info'!$A118,\"  \")","v":"  "},{"$f":"IF('VETS-701B Participant Info'!$F118=3,'VETS-701B Participant Info'!$B118,\"  \")","v":"  "},{"$nulls":4},{"v":0,"d":"$0.00"},{"$nulls":3},{"v":0,"d":"$0.00"},0,{"v":0,"d":"$0.00"},{"$nulls":91},2]
[{"$f":"IF('VETS-701B Participant Info'!$F119=3,'VETS-701B Participant Info'!$A119,\"  \")","v":"  "},{"$f":"IF('VETS-701B Participant Info'!$F119=3,'VETS-701B Participant Info'!$B119,\"  \")","v":"  "},{"$nulls":4},{"v":0,"d":"$0.00"},{"$nulls":3},{"v":0,"d":"$0.00"},0,{"v":0,"d":"$0.00"},{"$nulls":91},2]
[{"$f":"IF('VETS-701B Participant Info'!$F120=3,'VETS-701B Participant Info'!$A120,\"  \")","v":"  "},{"$f":"IF('VETS-701B Participant Info'!$F120=3,'VETS-701B Participant Info'!$B120,\"  \")","v":"  "},{"$nulls":4},{"v":0,"d":"$0.00"},{"$nulls":3},{"v":0,"d":"$0.00"},0,{"v":0,"d":"$0.00"},{"$nulls":91},2]
[{"$f":"IF('VETS-701B Participant Info'!$F121=3,'VETS-701B Participant Info'!$A121,\"  \")","v":"  "},{"$f":"IF('VETS-701B Participant Info'!$F121=3,'VETS-701B Participant Info'!$B121,\"  \")","v":"  "},{"$nulls":4},{"v":0,"d":"$0.00"},{"$nulls":3},{"v":0,"d":"$0.00"},0,{"v":0,"d":"$0.00"},{"$nulls":91},2]
[{"$f":"IF('VETS-701B Participant Info'!$F122=3,'VETS-701B Participant Info'!$A122,\"  \")","v":"  "},{"$f":"IF('VETS-701B Participant Info'!$F122=3,'VETS-701B Participant Info'!$B122,\"  \")","v":"  "},{"$nulls":4},{"v":0,"d":"$0.00"},{"$nulls":3},{"v":0,"d":"$0.00"},0,{"v":0,"d":"$0.00"},{"$nulls":91},2]
[{"$f":"IF('VETS-701B Participant Info'!$F123=3,'VETS-701B Participant Info'!$A123,\"  \")","v":"  "},{"$f":"IF('VETS-701B Participant Info'!$F123=3,'VETS-701B Participant Info'!$B123,\"  \")","v":"  "},{"$nulls":4},{"v":0,"d":"$0.00"},{"$nulls":3},{"v":0,"d":"$0.00"},0,{"v":0,"d":"$0.00"},{"$nulls":91},2]
[{"$f":"IF('VETS-701B Participant Info'!$F124=3,'VETS-701B Participant Info'!$A124,\"  \")","v":"  "},{"$f":"IF('VETS-701B Participant Info'!$F124=3,'VETS-701B Participant Info'!$B124,\"  \")","v":"  "},{"$nulls":4},{"v":0,"d":"$0.00"},{"$nulls":3},{"v":0,"d":"$0.00"},0,{"v":0,"d":"$0.00"},{"$nulls":91},2]
[{"$f":"IF('VETS-701B Participant Info'!$F125=3,'VETS-701B Participant Info'!$A125,\"  \")","v":"  "},{"$f":"IF('VETS-701B Participant Info'!$F125=3,'VETS-701B Participant Info'!$B125,\"  \")","v":"  "},{"$nulls":4},{"v":0,"d":"$0.00"},{"$nulls":3},{"v":0,"d":"$0.00"},0,{"v":0,"d":"$0.00"},{"$nulls":91},2]
[{"$f":"IF('VETS-701B Participant Info'!$F126=3,'VETS-701B Participant Info'!$A126,\"  \")","v":"  "},{"$f":"IF('VETS-701B Participant Info'!$F126=3,'VETS-701B Participant Info'!$B126,\"  \")","v":"  "},{"$nulls":4},{"v":0,"d":"$0.00"},{"$nulls":3},{"v":0,"d":"$0.00"},0,{"v":0,"d":"$0.00"},{"$nulls":91},2]
[{"$f":"IF('VETS-701B Participant Info'!$F127=3,'VETS-701B Participant Info'!$A127,\"  \")","v":"  "},{"$f":"IF('VETS-701B Participant Info'!$F127=3,'VETS-701B Participant Info'!$B127,\"  \")","v":"  "},{"$nulls":4},{"v":0,"d":"$0.00"},{"$nulls":3},{"v":0,"d":"$0.00"},0,{"v":0,"d":"$0.00"},{"$nulls":91},2]
[{"$f":"IF('VETS-701B Participant Info'!$F128=3,'VETS-701B Participant Info'!$A128,\"  \")","v":"  "},{"$f":"IF('VETS-701B Participant Info'!$F128=3,'VETS-701B Participant Info'!$B128,\"  \")","v":"  "},{"$nulls":4},{"v":0,"d":"$0.00"},{"$nulls":3},{"v":0,"d":"$0.00"},0,{"v":0,"d":"$0.00"},{"$nulls":91},2]
[{"$f":"IF('VETS-701B Participant Info'!$F129=3,'VETS-701B Participant Info'!$A129,\"  \")","v":"  "},{"$f":"IF('VETS-701B Participant Info'!$F129=3,'VETS-701B Participant Info'!$B129,\"  \")","v":"  "},{"$nulls":4},{"v":0,"d":"$0.00"},{"$nulls":3},{"v":0,"d":"$0.00"},0,{"v":0,"d":"$0.00"},{"$nulls":91},2]
[{"$f":"IF('VETS-701B Participant Info'!$F130=3,'VETS-701B Participant Info'!$A130,\"  \")","v":"  "},{"$f":"IF('VETS-701B Participant Info'!$F130=3,'VETS-701B Participant Info'!$B130,\"  \")","v":"  "},{"$nulls":4},{"v":0,"d":"$0.00"},{"$nulls":3},{"v":0,"d":"$0.00"},{"$f":"SUM(H133+D133+C133)","v":0},{"v":0,"d":"$0.00"},{"$nulls":91},2]
[{"$f":"IF('VETS-701B Participant Info'!$F131=3,'VETS-701B Participant Info'!$A131,\"  \")","v":"  "},{"$f":"IF('VETS-701B Participant Info'!$F131=3,'VETS-701B Participant Info'!$B131,\"  \")","v":"  "},{"$nulls":4},{"v":0,"d":"$0.00"},{"$nulls":3},{"v":0,"d":"$0.00"},0,{"v":0,"d":"$0.00"},{"$nulls":91},{"$f":"IF($B134> \"             \",1,2)","v":2}]
[{"$f":"IF('VETS-701B Participant Info'!$F132=3,'VETS-701B Participant Info'!$A132,\"  \")","v":"  "},{"$f":"IF('VETS-701B Participant Info'!$F132=3,'VETS-701B Participant Info'!$B132,\"  \")","v":"  "},{"$nulls":4},{"v":0,"d":"$0.00"},{"$nulls":3},{"v":0,"d":"$0.00"},0,{"v":0,"d":"$0.00"},{"$nulls":91},2]
[{"$f":"IF('VETS-701B Participant Info'!$F133=3,'VETS-701B Participant Info'!$A133,\"  \")","v":"  "},{"$f":"IF('VETS-701B Participant Info'!$F133=3,'VETS-701B Participant Info'!$B133,\"  \")","v":"  "},{"$nulls":4},{"v":0,"d":"$0.00"},{"$nulls":3},{"v":0,"d":"$0.00"},0,{"v":0,"d":"$0.00"},{"$nulls":91},2]
[{"$f":"IF('VETS-701B Participant Info'!$F134=3,'VETS-701B Participant Info'!$A134,\"  \")","v":"  "},{"$f":"IF('VETS-701B Participant Info'!$F134=3,'VETS-701B Participant Info'!$B134,\"  \")","v":"  "},{"$nulls":4},{"v":0,"d":"$0.00"},{"$nulls":3},{"v":0,"d":"$0.00"},0,{"v":0,"d":"$0.00"},{"$nulls":91},2]
[{"$f":"IF('VETS-701B Participant Info'!$F135=3,'VETS-701B Participant Info'!$A135,\"  \")","v":"  "},{"$f":"IF('VETS-701B Participant Info'!$F135=3,'VETS-701B Participant Info'!$B135,\"  \")","v":"  "},{"$nulls":4},{"v":0,"d":"$0.00"},{"$nulls":3},{"v":0,"d":"$0.00"},0,{"v":0,"d":"$0.00"},{"$nulls":91},2]
[{"$f":"IF('VETS-701B Participant Info'!$F136=3,'VETS-701B Participant Info'!$A136,\"  \")","v":"  "},{"$f":"IF('VETS-701B Participant Info'!$F136=3,'VETS-701B Participant Info'!$B136,\"  \")","v":"  "},{"$nulls":4},{"v":0,"d":"$0.00"},{"$nulls":3},{"v":0,"d":"$0.00"},0,{"v":0,"d":"$0.00"},{"$nulls":91},2]
[{"$f":"IF('VETS-701B Participant Info'!$F137=3,'VETS-701B Participant Info'!$A137,\"  \")","v":"  "},{"$f":"IF('VETS-701B Participant Info'!$F137=3,'VETS-701B Participant Info'!$B137,\"  \")","v":"  "},{"$nulls":4},{"v":0,"d":"$0.00"},{"$nulls":3},{"v":0,"d":"$0.00"},0,{"v":0,"d":"$0.00"},{"$nulls":91},2]
[{"$f":"IF('VETS-701B Participant Info'!$F138=3,'VETS-701B Participant Info'!$A138,\"  \")","v":"  "},{"$f":"IF('VETS-701B Participant Info'!$F138=3,'VETS-701B Participant Info'!$B138,\"  \")","v":"  "},{"$nulls":4},{"v":0,"d":"$0.00"},{"$nulls":3},{"v":0,"d":"$0.00"},0,{"v":0,"d":"$0.00"},{"$nulls":91},2]
[{"$f":"IF('VETS-701B Participant Info'!$F139=3,'VETS-701B Participant Info'!$A139,\"  \")","v":"  "},{"$f":"IF('VETS-701B Participant Info'!$F139=3,'VETS-701B Participant Info'!$B139,\"  \")","v":"  "},{"$nulls":4},{"v":0,"d":"$0.00"},{"$nulls":3},{"v":0,"d":"$0.00"},0,{"v":0,"d":"$0.00"},{"$nulls":91},2]
[{"$f":"IF('VETS-701B Participant Info'!$F140=3,'VETS-701B Participant Info'!$A140,\"  \")","v":"  "},{"$f":"IF('VETS-701B Participant Info'!$F140=3,'VETS-701B Participant Info'!$B140,\"  \")","v":"  "},{"$nulls":4},{"v":0,"d":"$0.00"},{"$nulls":3},{"v":0,"d":"$0.00"},0,{"v":0,"d":"$0.00"},{"$nulls":91},2]
[{"$f":"IF('VETS-701B Participant Info'!$F141=3,'VETS-701B Participant Info'!$A141,\"  \")","v":"  "},{"$f":"IF('VETS-701B Participant Info'!$F141=3,'VETS-701B Participant Info'!$B141,\"  \")","v":"  "},{"$nulls":4},{"v":0,"d":"$0.00"},{"$nulls":3},{"v":0,"d":"$0.00"},0,{"v":0,"d":"$0.00"},{"$nulls":91},2]
[{"$f":"IF('VETS-701B Participant Info'!$F142=3,'VETS-701B Participant Info'!$A142,\"  \")","v":"  "},{"$f":"IF('VETS-701B Participant Info'!$F142=3,'VETS-701B Participant Info'!$B142,\"  \")","v":"  "},{"$nulls":4},{"v":0,"d":"$0.00"},{"$nulls":3},{"v":0,"d":"$0.00"},0,{"v":0,"d":"$0.00"},{"$nulls":91},2]
[{"$f":"IF('VETS-701B Participant Info'!$F143=3,'VETS-701B Participant Info'!$A143,\"  \")","v":"  "},{"$f":"IF('VETS-701B Participant Info'!$F143=3,'VETS-701B Participant Info'!$B143,\"  \")","v":"  "},{"$nulls":4},{"v":0,"d":"$0.00"},{"$nulls":3},{"v":0,"d":"$0.00"},0,{"v":0,"d":"$0.00"},{"$nulls":91},2]
[{"$f":"IF('VETS-701B Participant Info'!$F144=3,'VETS-701B Participant Info'!$A144,\"  \")","v":"  "},{"$f":"IF('VETS-701B Participant Info'!$F144=3,'VETS-701B Participant Info'!$B144,\"  \")","v":"  "},{"$nulls":4},{"v":0,"d":"$0.00"},{"$nulls":3},{"v":0,"d":"$0.00"},0,{"v":0,"d":"$0.00"},{"$nulls":91},2]
[{"$f":"IF('VETS-701B Participant Info'!$F145=3,'VETS-701B Participant Info'!$A145,\"  \")","v":"  "},{"$f":"IF('VETS-701B Participant Info'!$F145=3,'VETS-701B Participant Info'!$B145,\"  \")","v":"  "},{"$nulls":4},{"v":0,"d":"$0.00"},{"$nulls":3},{"v":0,"d":"$0.00"},0,{"v":0,"d":"$0.00"},{"$nulls":91},2]
[{"$f":"IF('VETS-701B Participant Info'!$F146=3,'VETS-701B Participant Info'!$A146,\"  \")","v":"  "},{"$f":"IF('VETS-701B Participant Info'!$F146=3,'VETS-701B Participant Info'!$B146,\"  \")","v":"  "},{"$nulls":4},{"v":0,"d":"$0.00"},{"$nulls":3},{"v":0,"d":"$0.00"},0,{"v":0,"d":"$0.00"},{"$nulls":91},2]
[{"$f":"IF('VETS-701B Participant Info'!$F147=3,'VETS-701B Participant Info'!$A147,\"  \")","v":"  "},{"$f":"IF('VETS-701B Participant Info'!$F147=3,'VETS-701B Participant Info'!$B147,\"  \")","v":"  "},{"$nulls":4},{"v":0,"d":"$0.00"},{"$nulls":3},{"v":0,"d":"$0.00"},0,{"v":0,"d":"$0.00"},{"$nulls":91},2]
[{"$f":"IF('VETS-701B Participant Info'!$F148=3,'VETS-701B Participant Info'!$A148,\"  \")","v":"  "},{"$f":"IF('VETS-701B Participant Info'!$F148=3,'VETS-701B Participant Info'!$B148,\"  \")","v":"  "},{"$nulls":4},{"v":0,"d":"$0.00"},{"$nulls":3},{"v":0,"d":"$0.00"},0,{"v":0,"d":"$0.00"},{"$nulls":91},2]
[{"$f":"IF('VETS-701B Participant Info'!$F149=3,'VETS-701B Participant Info'!$A149,\"  \")","v":"  "},{"$f":"IF('VETS-701B Participant Info'!$F149=3,'VETS-701B Participant Info'!$B149,\"  \")","v":"  "},{"$nulls":4},{"v":0,"d":"$0.00"},{"$nulls":3},{"v":0,"d":"$0.00"},0,{"v":0,"d":"$0.00"},{"$nulls":91},2]
[{"$f":"IF('VETS-701B Participant Info'!$F150=3,'VETS-701B Participant Info'!$A150,\"  \")","v":"  "},{"$f":"IF('VETS-701B Participant Info'!$F150=3,'VETS-701B Participant Info'!$B150,\"  \")","v":"  "},{"$nulls":4},{"v":0,"d":"$0.00"},{"$nulls":3},{"v":0,"d":"$0.00"},0,{"v":0,"d":"$0.00"},{"$nulls":91},2]
[{"$f":"IF('VETS-701B Participant Info'!$F151=3,'VETS-701B Participant Info'!$A151,\"  \")","v":"  "},{"$f":"IF('VETS-701B Participant Info'!$F151=3,'VETS-701B Participant Info'!$B151,\"  \")","v":"  "},{"$nulls":4},{"v":0,"d":"$0.00"},{"$nulls":3},{"v":0,"d":"$0.00"},0,{"v":0,"d":"$0.00"},{"$nulls":91},2]
[{"$f":"IF('VETS-701B Participant Info'!$F152=3,'VETS-701B Participant Info'!$A152,\"  \")","v":"  "},{"$f":"IF('VETS-701B Participant Info'!$F152=3,'VETS-701B Participant Info'!$B152,\"  \")","v":"  "},{"$nulls":4},{"v":0,"d":"$0.00"},{"$nulls":3},{"v":0,"d":"$0.00"},0,{"v":0,"d":"$0.00"},{"$nulls":91},2]
[{"$f":"IF('VETS-701B Participant Info'!$F153=3,'VETS-701B Participant Info'!$A153,\"  \")","v":"  "},{"$f":"IF('VETS-701B Participant Info'!$F153=3,'VETS-701B Participant Info'!$B153,\"  \")","v":"  "},{"$nulls":4},{"v":0,"d":"$0.00"},{"$nulls":3},{"v":0,"d":"$0.00"},0,{"v":0,"d":"$0.00"},{"$nulls":91},2]
[{"$f":"IF('VETS-701B Participant Info'!$F154=3,'VETS-701B Participant Info'!$A154,\"  \")","v":"  "},{"$f":"IF('VETS-701B Participant Info'!$F154=3,'VETS-701B Participant Info'!$B154,\"  \")","v":"  "},{"$nulls":4},{"v":0,"d":"$0.00"},{"$nulls":3},{"v":0,"d":"$0.00"},0,{"v":0,"d":"$0.00"},{"$nulls":91},2]
[{"$f":"IF('VETS-701B Participant Info'!$F155=3,'VETS-701B Participant Info'!$A155,\"  \")","v":"  "},{"$f":"IF('VETS-701B Participant Info'!$F155=3,'VETS-701B Participant Info'!$B155,\"  \")","v":"  "},{"$nulls":4},{"v":0,"d":"$0.00"},{"$nulls":3},{"v":0,"d":"$0.00"},0,{"v":0,"d":"$0.00"},{"$nulls":91},2]
[{"$f":"IF('VETS-701B Participant Info'!$F156=3,'VETS-701B Participant Info'!$A156,\"  \")","v":"  "},{"$f":"IF('VETS-701B Participant Info'!$F156=3,'VETS-701B Participant Info'!$B156,\"  \")","v":"  "},{"$nulls":4},{"v":0,"d":"$0.00"},{"$nulls":3},{"v":0,"d":"$0.00"},0,{"v":0,"d":"$0.00"},{"$nulls":91},2]
[{"$f":"IF('VETS-701B Participant Info'!$F157=3,'VETS-701B Participant Info'!$A157,\"  \")","v":"  "},{"$f":"IF('VETS-701B Participant Info'!$F157=3,'VETS-701B Participant Info'!$B157,\"  \")","v":"  "},{"$nulls":4},{"v":0,"d":"$0.00"},{"$nulls":3},{"v":0,"d":"$0.00"},0,{"v":0,"d":"$0.00"},{"$nulls":91},2]
[{"$f":"IF('VETS-701B Participant Info'!$F158=3,'VETS-701B Participant Info'!$A158,\"  \")","v":"  "},{"$f":"IF('VETS-701B Participant Info'!$F158=3,'VETS-701B Participant Info'!$B158,\"  \")","v":"  "},{"$nulls":4},{"v":0,"d":"$0.00"},{"$nulls":3},{"v":0,"d":"$0.00"},0,{"v":0,"d":"$0.00"},{"$nulls":91},2]
[{"$f":"IF('VETS-701B Participant Info'!$F159=3,'VETS-701B Participant Info'!$A159,\"  \")","v":"  "},{"$f":"IF('VETS-701B Participant Info'!$F159=3,'VETS-701B Participant Info'!$B159,\"  \")","v":"  "},{"$nulls":4},{"v":0,"d":"$0.00"},{"$nulls":3},{"v":0,"d":"$0.00"},0,{"v":0,"d":"$0.00"},{"$nulls":91},2]
[{"$f":"IF('VETS-701B Participant Info'!$F160=3,'VETS-701B Participant Info'!$A160,\"  \")","v":"  "},{"$f":"IF('VETS-701B Participant Info'!$F160=3,'VETS-701B Participant Info'!$B160,\"  \")","v":"  "},{"$nulls":4},{"v":0,"d":"$0.00"},{"$nulls":3},{"v":0,"d":"$0.00"},0,{"v":0,"d":"$0.00"},{"$nulls":91},2]
[{"$f":"IF('VETS-701B Participant Info'!$F161=3,'VETS-701B Participant Info'!$A161,\"  \")","v":"  "},{"$f":"IF('VETS-701B Participant Info'!$F161=3,'VETS-701B Participant Info'!$B161,\"  \")","v":"  "},{"$nulls":4},{"v":0,"d":"$0.00"},{"$nulls":3},{"v":0,"d":"$0.00"},0,{"v":0,"d":"$0.00"},{"$nulls":91},2]
[{"$f":"IF('VETS-701B Participant Info'!$F162=3,'VETS-701B Participant Info'!$A162,\"  \")","v":"  "},{"$f":"IF('VETS-701B Participant Info'!$F162=3,'VETS-701B Participant Info'!$B162,\"  \")","v":"  "},{"$nulls":4},{"v":0,"d":"$0.00"},{"$nulls":3},{"v":0,"d":"$0.00"},0,{"v":0,"d":"$0.00"},{"$nulls":91},2]
[{"$f":"IF('VETS-701B Participant Info'!$F163=3,'VETS-701B Participant Info'!$A163,\"  \")","v":"  "},{"$f":"IF('VETS-701B Participant Info'!$F163=3,'VETS-701B Participant Info'!$B163,\"  \")","v":"  "},{"$nulls":4},{"v":0,"d":"$0.00"},{"$nulls":3},{"v":0,"d":"$0.00"},0,{"v":0,"d":"$0.00"},{"$nulls":91},2]
[{"$f":"IF('VETS-701B Participant Info'!$F164=3,'VETS-701B Participant Info'!$A164,\"  \")","v":"  "},{"$f":"IF('VETS-701B Participant Info'!$F164=3,'VETS-701B Participant Info'!$B164,\"  \")","v":"  "},{"$nulls":4},{"v":0,"d":"$0.00"},{"$nulls":3},{"v":0,"d":"$0.00"},0,{"v":0,"d":"$0.00"},{"$nulls":91},2]
[{"$f":"IF('VETS-701B Participant Info'!$F165=3,'VETS-701B Participant Info'!$A165,\"  \")","v":"  "},{"$f":"IF('VETS-701B Participant Info'!$F165=3,'VETS-701B Participant Info'!$B165,\"  \")","v":"  "},{"$nulls":4},{"v":0,"d":"$0.00"},{"$nulls":3},{"v":0,"d":"$0.00"},0,{"v":0,"d":"$0.00"},{"$nulls":91},2]
[{"$f":"IF('VETS-701B Participant Info'!$F166=3,'VETS-701B Participant Info'!$A166,\"  \")","v":"  "},{"$f":"IF('VETS-701B Participant Info'!$F166=3,'VETS-701B Participant Info'!$B166,\"  \")","v":"  "},{"$nulls":4},{"$f":"SUM(E169*F169*13)","v":{"v":0,"d":"$0.00"}},{"$nulls":3},{"$f":"SUM(I169*J169*13)","v":{"v":0,"d":"$0.00"}},0,{"$f":"IF(L169=3,K169+G169,0)","v":{"v":0,"d":"$0.00"}},{"$nulls":91},2]
[{"$f":"IF('VETS-701B Participant Info'!$F167=3,'VETS-701B Participant Info'!$A167,\"  \")","v":"  "},{"$f":"IF('VETS-701B Participant Info'!$F167=3,'VETS-701B Participant Info'!$B167,\"  \")","v":"  "},{"$nulls":4},{"v":0,"d":"$0.00"},{"$nulls":3},{"v":0,"d":"$0.00"},0,{"v":0,"d":"$0.00"},{"$nulls":91},2]
[{"$f":"IF('VETS-701B Participant Info'!$F168=3,'VETS-701B Participant Info'!$A168,\"  \")","v":"  "},{"$f":"IF('VETS-701B Participant Info'!$F168=3,'VETS-701B Participant Info'!$B168,\"  \")","v":"  "},{"$nulls":4},{"v":0,"d":"$0.00"},{"$nulls":3},{"v":0,"d":"$0.00"},0,{"v":0,"d":"$0.00"},{"$nulls":91},2]
[{"$f":"IF('VETS-701B Participant Info'!$F169=3,'VETS-701B Participant Info'!$A169,\"  \")","v":"  "},{"$f":"IF('VETS-701B Participant Info'!$F169=3,'VETS-701B Participant Info'!$B169,\"  \")","v":"  "},{"$nulls":4},{"v":0,"d":"$0.00"},{"$nulls":3},{"v":0,"d":"$0.00"},0,{"v":0,"d":"$0.00"},{"$nulls":91},2]
[{"$f":"IF('VETS-701B Participant Info'!$F170=3,'VETS-701B Participant Info'!$A170,\"  \")","v":"  "},{"$f":"IF('VETS-701B Participant Info'!$F170=3,'VETS-701B Participant Info'!$B170,\"  \")","v":"  "},{"$nulls":4},{"v":0,"d":"$0.00"},{"$nulls":3},{"v":0,"d":"$0.00"},0,{"v":0,"d":"$0.00"},{"$nulls":91},2]
[{"$f":"IF('VETS-701B Participant Info'!$F171=3,'VETS-701B Participant Info'!$A171,\"  \")","v":"  "},{"$f":"IF('VETS-701B Participant Info'!$F171=3,'VETS-701B Participant Info'!$B171,\"  \")","v":"  "},{"$nulls":4},{"v":0,"d":"$0.00"},{"$nulls":3},{"v":0,"d":"$0.00"},0,{"v":0,"d":"$0.00"},{"$nulls":91},2]
[{"$f":"IF('VETS-701B Participant Info'!$F172=3,'VETS-701B Participant Info'!$A172,\"  \")","v":"  "},{"$f":"IF('VETS-701B Participant Info'!$F172=3,'VETS-701B Participant Info'!$B172,\"  \")","v":"  "},{"$nulls":4},{"v":0,"d":"$0.00"},{"$nulls":3},{"v":0,"d":"$0.00"},0,{"v":0,"d":"$0.00"},{"$nulls":91},2]
[{"$f":"IF('VETS-701B Participant Info'!$F173=3,'VETS-701B Participant Info'!$A173,\"  \")","v":"  "},{"$f":"IF('VETS-701B Participant Info'!$F173=3,'VETS-701B Participant Info'!$B173,\"  \")","v":"  "},{"$nulls":4},{"v":0,"d":"$0.00"},{"$nulls":3},{"v":0,"d":"$0.00"},0,{"v":0,"d":"$0.00"},{"$nulls":91},2]
[{"$f":"IF('VETS-701B Participant Info'!$F174=3,'VETS-701B Participant Info'!$A174,\"  \")","v":"  "},{"$f":"IF('VETS-701B Participant Info'!$F174=3,'VETS-701B Participant Info'!$B174,\"  \")","v":"  "},{"$nulls":4},{"v":0,"d":"$0.00"},{"$nulls":3},{"v":0,"d":"$0.00"},0,{"v":0,"d":"$0.00"},{"$nulls":91},2]
[{"$f":"IF('VETS-701B Participant Info'!$F175=3,'VETS-701B Participant Info'!$A175,\"  \")","v":"  "},{"$f":"IF('VETS-701B Participant Info'!$F175=3,'VETS-701B Participant Info'!$B175,\"  \")","v":"  "},{"$nulls":4},{"v":0,"d":"$0.00"},{"$nulls":3},{"v":0,"d":"$0.00"},0,{"v":0,"d":"$0.00"},{"$nulls":91},2]
[{"$f":"IF('VETS-701B Participant Info'!$F176=3,'VETS-701B Participant Info'!$A176,\"  \")","v":"  "},{"$f":"IF('VETS-701B Participant Info'!$F176=3,'VETS-701B Participant Info'!$B176,\"  \")","v":"  "},{"$nulls":4},{"v":0,"d":"$0.00"},{"$nulls":3},{"v":0,"d":"$0.00"},0,{"v":0,"d":"$0.00"},{"$nulls":91},2]
[{"$f":"IF('VETS-701B Participant Info'!$F177=3,'VETS-701B Participant Info'!$A177,\"  \")","v":"  "},{"$f":"IF('VETS-701B Participant Info'!$F177=3,'VETS-701B Participant Info'!$B177,\"  \")","v":"  "},{"$nulls":4},{"v":0,"d":"$0.00"},{"$nulls":3},{"v":0,"d":"$0.00"},0,{"v":0,"d":"$0.00"},{"$nulls":91},2]
[{"$f":"IF('VETS-701B Participant Info'!$F178=3,'VETS-701B Participant Info'!$A178,\"  \")","v":"  "},{"$f":"IF('VETS-701B Participant Info'!$F178=3,'VETS-701B Participant Info'!$B178,\"  \")","v":"  "},{"$nulls":4},{"v":0,"d":"$0.00"},{"$nulls":3},{"v":0,"d":"$0.00"},0,{"v":0,"d":"$0.00"},{"$nulls":91},2]
[{"$f":"IF('VETS-701B Participant Info'!$F179=3,'VETS-701B Participant Info'!$A179,\"  \")","v":"  "},{"$f":"IF('VETS-701B Participant Info'!$F179=3,'VETS-701B Participant Info'!$B179,\"  \")","v":"  "},{"$nulls":4},{"v":0,"d":"$0.00"},{"$nulls":3},{"v":0,"d":"$0.00"},0,{"v":0,"d":"$0.00"},{"$nulls":91},2]
[{"$f":"IF('VETS-701B Participant Info'!$F180=3,'VETS-701B Participant Info'!$A180,\"  \")","v":"  "},{"$f":"IF('VETS-701B Participant Info'!$F180=3,'VETS-701B Participant Info'!$B180,\"  \")","v":"  "},{"$nulls":4},{"v":0,"d":"$0.00"},{"$nulls":3},{"v":0,"d":"$0.00"},0,{"v":0,"d":"$0.00"},{"$nulls":91},2]
[{"$f":"IF('VETS-701B Participant Info'!$F181=3,'VETS-701B Participant Info'!$A181,\"  \")","v":"  "},{"$f":"IF('VETS-701B Participant Info'!$F181=3,'VETS-701B Participant Info'!$B181,\"  \")","v":"  "},{"$nulls":4},{"v":0,"d":"$0.00"},{"$nulls":3},{"v":0,"d":"$0.00"},0,{"v":0,"d":"$0.00"},{"$nulls":91},2]
[{"$f":"IF('VETS-701B Participant Info'!$F182=3,'VETS-701B Participant Info'!$A182,\"  \")","v":"  "},{"$f":"IF('VETS-701B Participant Info'!$F182=3,'VETS-701B Participant Info'!$B182,\"  \")","v":"  "},{"$nulls":4},{"v":0,"d":"$0.00"},{"$nulls":3},{"v":0,"d":"$0.00"},0,{"v":0,"d":"$0.00"},{"$nulls":91},2]
[{"$f":"IF('VETS-701B Participant Info'!$F183=3,'VETS-701B Participant Info'!$A183,\"  \")","v":"  "},{"$f":"IF('VETS-701B Participant Info'!$F183=3,'VETS-701B Participant Info'!$B183,\"  \")","v":"  "},{"$nulls":4},{"v":0,"d":"$0.00"},{"$nulls":3},{"v":0,"d":"$0.00"},0,{"v":0,"d":"$0.00"},{"$nulls":91},2]
[{"$f":"IF('VETS-701B Participant Info'!$F184=3,'VETS-701B Participant Info'!$A184,\"  \")","v":"  "},{"$f":"IF('VETS-701B Participant Info'!$F184=3,'VETS-701B Participant Info'!$B184,\"  \")","v":"  "},{"$nulls":4},{"v":0,"d":"$0.00"},{"$nulls":3},{"v":0,"d":"$0.00"},0,{"v":0,"d":"$0.00"},{"$nulls":91},2]
[{"$f":"IF('VETS-701B Participant Info'!$F185=3,'VETS-701B Participant Info'!$A185,\"  \")","v":"  "},{"$f":"IF('VETS-701B Participant Info'!$F185=3,'VETS-701B Participant Info'!$B185,\"  \")","v":"  "},{"$nulls":4},{"v":0,"d":"$0.00"},{"$nulls":3},{"v":0,"d":"$0.00"},0,{"v":0,"d":"$0.00"},{"$nulls":91},2]
[{"$f":"IF('VETS-701B Participant Info'!$F186=3,'VETS-701B Participant Info'!$A186,\"  \")","v":"  "},{"$f":"IF('VETS-701B Participant Info'!$F186=3,'VETS-701B Participant Info'!$B186,\"  \")","v":"  "},{"$nulls":4},{"v":0,"d":"$0.00"},{"$nulls":3},{"v":0,"d":"$0.00"},0,{"v":0,"d":"$0.00"},{"$nulls":91},2]
[{"$f":"IF('VETS-701B Participant Info'!$F187=3,'VETS-701B Participant Info'!$A187,\"  \")","v":"  "},{"$f":"IF('VETS-701B Participant Info'!$F187=3,'VETS-701B Participant Info'!$B187,\"  \")","v":"  "},{"$nulls":4},{"v":0,"d":"$0.00"},{"$nulls":3},{"v":0,"d":"$0.00"},0,{"v":0,"d":"$0.00"},{"$nulls":91},2]
[{"$f":"IF('VETS-701B Participant Info'!$F188=3,'VETS-701B Participant Info'!$A188,\"  \")","v":"  "},{"$f":"IF('VETS-701B Participant Info'!$F188=3,'VETS-701B Participant Info'!$B188,\"  \")","v":"  "},{"$nulls":4},{"v":0,"d":"$0.00"},{"$nulls":3},{"v":0,"d":"$0.00"},0,{"v":0,"d":"$0.00"},{"$nulls":91},2]
[{"$f":"IF('VETS-701B Participant Info'!$F189=3,'VETS-701B Participant Info'!$A189,\"  \")","v":"  "},{"$f":"IF('VETS-701B Participant Info'!$F189=3,'VETS-701B Participant Info'!$B189,\"  \")","v":"  "},{"$nulls":4},{"v":0,"d":"$0.00"},{"$nulls":3},{"v":0,"d":"$0.00"},0,{"v":0,"d":"$0.00"},{"$nulls":91},2]
[{"$f":"IF('VETS-701B Participant Info'!$F190=3,'VETS-701B Participant Info'!$A190,\"  \")","v":"  "},{"$f":"IF('VETS-701B Participant Info'!$F190=3,'VETS-701B Participant Info'!$B190,\"  \")","v":"  "},{"$nulls":4},{"v":0,"d":"$0.00"},{"$nulls":3},{"v":0,"d":"$0.00"},0,{"v":0,"d":"$0.00"},{"$nulls":91},2]
[{"$f":"IF('VETS-701B Participant Info'!$F191=3,'VETS-701B Participant Info'!$A191,\"  \")","v":"  "},{"$f":"IF('VETS-701B Participant Info'!$F191=3,'VETS-701B Participant Info'!$B191,\"  \")","v":"  "},{"$nulls":4},{"v":0,"d":"$0.00"},{"$nulls":3},{"v":0,"d":"$0.00"},0,{"v":0,"d":"$0.00"},{"$nulls":91},2]
[{"$f":"IF('VETS-701B Participant Info'!$F192=3,'VETS-701B Participant Info'!$A192,\"  \")","v":"  "},{"$f":"IF('VETS-701B Participant Info'!$F192=3,'VETS-701B Participant Info'!$B192,\"  \")","v":"  "},{"$nulls":4},{"v":0,"d":"$0.00"},{"$nulls":3},{"v":0,"d":"$0.00"},0,{"v":0,"d":"$0.00"},{"$nulls":91},2]
[{"$f":"IF('VETS-701B Participant Info'!$F193=3,'VETS-701B Participant Info'!$A193,\"  \")","v":"  "},{"$f":"IF('VETS-701B Participant Info'!$F193=3,'VETS-701B Participant Info'!$B193,\"  \")","v":"  "},{"$nulls":4},{"v":0,"d":"$0.00"},{"$nulls":3},{"v":0,"d":"$0.00"},0,{"v":0,"d":"$0.00"},{"$nulls":91},2]
[{"$f":"IF('VETS-701B Participant Info'!$F194=3,'VETS-701B Participant Info'!$A194,\"  \")","v":"  "},{"$f":"IF('VETS-701B Participant Info'!$F194=3,'VETS-701B Participant Info'!$B194,\"  \")","v":"  "},{"$nulls":4},{"v":0,"d":"$0.00"},{"$nulls":3},{"v":0,"d":"$0.00"},{"$f":"SUM(H197+D197+C197)","v":0},{"v":0,"d":"$0.00"},{"$nulls":91},2]
[{"$f":"IF('VETS-701B Participant Info'!$F195=3,'VETS-701B Participant Info'!$A195,\"  \")","v":"  "},{"$f":"IF('VETS-701B Participant Info'!$F195=3,'VETS-701B Participant Info'!$B195,\"  \")","v":"  "},{"$nulls":4},{"v":0,"d":"$0.00"},{"$nulls":3},{"v":0,"d":"$0.00"},0,{"v":0,"d":"$0.00"},{"$nulls":91},{"$f":"IF($B198> \"             \",1,2)","v":2}]
[{"$f":"IF('VETS-701B Participant Info'!$F196=3,'VETS-701B Participant Info'!$A196,\"  \")","v":"  "},{"$f":"IF('VETS-701B Participant Info'!$F196=3,'VETS-701B Participant Info'!$B196,\"  \")","v":"  "},{"$nulls":4},{"v":0,"d":"$0.00"},{"$nulls":3},{"v":0,"d":"$0.00"},0,{"v":0,"d":"$0.00"},{"$nulls":91},2]
[{"$f":"IF('VETS-701B Participant Info'!$F197=3,'VETS-701B Participant Info'!$A197,\"  \")","v":"  "},{"$f":"IF('VETS-701B Participant Info'!$F197=3,'VETS-701B Participant Info'!$B197,\"  \")","v":"  "},{"$nulls":4},{"v":0,"d":"$0.00"},{"$nulls":3},{"v":0,"d":"$0.00"},0,{"v":0,"d":"$0.00"},{"$nulls":91},2]
[{"$f":"IF('VETS-701B Participant Info'!$F198=3,'VETS-701B Participant Info'!$A198,\"  \")","v":"  "},{"$f":"IF('VETS-701B Participant Info'!$F198=3,'VETS-701B Participant Info'!$B198,\"  \")","v":"  "},{"$nulls":4},{"$f":"SUM(E201*F201*13)","v":{"v":0,"d":"$0.00"}},{"$nulls":3},{"$f":"SUM(I201*J201*13)","v":{"v":0,"d":"$0.00"}},0,{"$f":"IF(L201=3,K201+G201,0)","v":{"v":0,"d":"$0.00"}},{"$nulls":91},2]
[{"$f":"IF('VETS-701B Participant Info'!$F199=3,'VETS-701B Participant Info'!$A199,\"  \")","v":"  "},{"$f":"IF('VETS-701B Participant Info'!$F199=3,'VETS-701B Participant Info'!$B199,\"  \")","v":"  "},{"$nulls":4},{"$f":"SUM(E202*F202*13)","v":{"v":0,"d":"$0.00"}},{"$nulls":3},{"$f":"SUM(I202*J202*13)","v":{"v":0,"d":"$0.00"}},0,{"$f":"IF(L202=3,K202+G202,0)","v":{"v":0,"d":"$0.00"}},{"$nulls":91},2]
[{"$f":"IF('VETS-701B Participant Info'!$F200=3,'VETS-701B Participant Info'!$A200,\"  \")","v":"  "},{"$f":"IF('VETS-701B Participant Info'!$F200=3,'VETS-701B Participant Info'!$B200,\"  \")","v":"  "},{"$nulls":4},{"$f":"SUM(E203*F203*13)","v":{"v":0,"d":"$0.00"}},{"$nulls":3},{"$f":"SUM(I203*J203*13)","v":{"v":0,"d":"$0.00"}},0,{"$f":"IF(L203=3,K203+G203,0)","v":{"v":0,"d":"$0.00"}},{"$nulls":91},2]
[{"$f":"IF('VETS-701B Participant Info'!$F201=3,'VETS-701B Participant Info'!$A201,\"  \")","v":"  "},{"$f":"IF('VETS-701B Participant Info'!$F201=3,'VETS-701B Participant Info'!$B201,\"  \")","v":"  "},{"$nulls":4},{"$f":"SUM(E204*F204*13)","v":{"v":0,"d":"$0.00"}},{"$nulls":3},{"$f":"SUM(I204*J204*13)","v":{"v":0,"d":"$0.00"}},0,{"$f":"IF(L204=3,K204+G204,0)","v":{"v":0,"d":"$0.00"}},{"$nulls":91},2]
[null,{"$f":"COUNT(C5:C204)","v":0},{"$f":"SUM(C5:C204)","v":0},{"$f":"SUM(D5:D204)","v":0},{"$nulls":3},{"$f":"COUNTIF(L5:L204,3)","v":0},{"$f":"SUM(I5:I204)","v":0},null,{"$f":"SUM(K5:K204)","v":{"v":0,"d":"$0.00"}},"Total Earnings",{"$f":"SUM(M5:M204)","v":{"v":0,"d":"$0.00"}},{"$f":"SUM(N5:N204)","v":0},{"$f":"SUM(O5:O204)","v":0}]
[{"$nulls":5},"Median Earnings",{"$f":"('VETS-701F Enter Exiter Info Q4'!H900)","v":{"$error":"#NUM!"}},null,"Average Hourly Wage",{"$f":"IF(I205>0,ROUND(SUM(K205/I205)/13,2),0)","v":{"v":0,"d":"$0.00"}},null,"Avg Earnings",{"$f":"IF(H205>0,ROUND(SUM(M205/H205),2),0)","v":{"v":0,"d":"$0.00"}},null,"Average Hourly Wage",{"$f":"IF(O205>0,ROUND(SUM(Q205/O205)/13,2),0)","v":{"v":0,"d":"$0.00"}}]
{"$rows_empty":93}
[0]
[1]

{"sheet":"VETS-701F Enter Exiter Info Q4","index":7,"n_rows":1499,"n_cols":105,"rows_kept":1499}
[{"$f":"SUM(('VETS-701B Participant Info'!AV$2:'VETS-701B Participant Info'!AV$1001=4)*1)","v":0},"Exited 4th quarter (Participants tab)"]
[]
["For Those who EXIT during 4th Qtr",null,"Yes=1; No=0","Yes=1; No=0",{"$nulls":3},"Yes=1; No=0",{"$nulls":5},"Yes=1; No=0"]
["Participant ID\n(COMPUTED)","Participant Name - (Do not use Actual Full Names)                                                                                         First four Letters last name; First/Middle Initials                       (COMPUTED)","Earned Wages in 5th quarter","Earned Wages in 6th quarter","Hours worked per week in 6th quarter (e.g., 20, 40)","Hourly wage  in 6th quarter (e.g., $9.00)","Earnings for 2nd qtr after exit qtr","Earned Wages in 7th quarter","Hours worked per week in 7th quarter (e.g., 20, 40)","Hourly wage  in 7th quarter (e.g., $9.00)","Earnings for 3rd qtr after exit qtr","Employed ALL 3 qtrs after exit","2nd & 3rd qtr Earnings for those Employed all 3 qtrs after exit","Earned Wages in 8th quarter","Hours worked per week in 8th quarter (e.g., 20, 40)","Hourly wage  in 8th quarter (e.g., $9.00)"]
[null,{"$f":"IF('VETS-701B Participant Info'!$F2=4,'VETS-701B Participant Info'!$B2,\"  \")","v":"  "},{"$nulls":4},{"$f":"IF(C5+D5=2,SUM(E5*F5*13),0)","v":{"v":0,"d":"$0.00"}},{"$nulls":3},{"$f":"IF(L5=3,SUM(I5*J5*13),0)","v":{"v":0,"d":"$0.00"}},{"$f":"SUM(H5+D5+C5)","v":0},{"$f":"IF(L5=3,K5+G5,0)","v":{"v":0,"d":"$0.00"}},{"$nulls":91},{"$f":"IF($B5> \"             \",1,2)","v":2}]
[{"$f":"IF('VETS-701B Participant Info'!$F3=4,'VETS-701B Participant Info'!$A3,\"  \")","v":"  "},{"$f":"IF('VETS-701B Participant Info'!$F3=4,'VETS-701B Participant Info'!$B3,\"  \")","v":"  "},{"$nulls":4},{"$f":"IF(C6+D6=2,SUM(E6*F6*13),0)","v":{"v":0,"d":"$0.00"}},{"$nulls":3},{"$f":"IF(L6=3,SUM(I6*J6*13),0)","v":{"v":0,"d":"$0.00"}},{"$f":"SUM(H6+D6+C6)","v":0},{"$f":"IF(L6=3,K6+G6,0)","v":{"v":0,"d":"$0.00"}},{"$nulls":91},{"$f":"IF($B6> \"             \",1,2)","v":2}]
[{"$f":"IF('VETS-701B Participant Info'!$F4=4,'VETS-701B Participant Info'!$A4,\"  \")","v":"  "},{"$f":"IF('VETS-701B Participant Info'!$F4=4,'VETS-701B Participant Info'!$B4,\"  \")","v":"  "},{"$nulls":4},{"v":0,"d":"$0.00"},{"$nulls":3},{"v":0,"d":"$0.00"},{"$f":"SUM(H7+D7+C7)","v":0},{"$f":"IF(L7=3,K7+G7,0)","v":{"v":0,"d":"$0.00"}},{"$nulls":91},2]
[{"$f":"IF('VETS-701B Participant Info'!$F5=4,'VETS-701B Participant Info'!$A5,\"  \")","v":"  "},{"$f":"IF('VETS-701B Participant Info'!$F5=4,'VETS-701B Participant Info'!$B5,\"  \")","v":"  "},{"$nulls":4},{"v":0,"d":"$0.00"},{"$nulls":3},{"v":0,"d":"$0.00"},0,{"v":0,"d":"$0.00"},{"$nulls":91},2]
[{"$f":"IF('VETS-701B Participant Info'!$F6=4,'VETS-701B Participant Info'!$A6,\"  \")","v":"  "},{"$f":"IF('VETS-701B Participant Info'!$F6=4,'VETS-701B Participant Info'!$B6,\"  \")","v":"  "},{"$nulls":4},{"v":0,"d":"$0.00"},{"$nulls":3},{"v":0,"d":"$0.00"},0,{"v":0,"d":"$0.00"},{"$nulls":91},2]
[{"$f":"IF('VETS-701B Participant Info'!$F7=4,'VETS-701B Participant Info'!$A7,\"  \")","v":"  "},{"$f":"IF('VETS-701B Participant Info'!$F7=4,'VETS-701B Participant Info'!$B7,\"  \")","v":"  "},{"$nulls":4},{"v":0,"d":"$0.00"},{"$nulls":3},{"v":0,"d":"$0.00"},0,{"v":0,"d":"$0.00"},{"$nulls":91},2]
[{"$f":"IF('VETS-701B Participant Info'!$F8=4,'VETS-701B Participant Info'!$A8,\"  \")","v":"  "},{"$f":"IF('VETS-701B Participant Info'!$F8=4,'VETS-701B Participant Info'!$B8,\"  \")","v":"  "},{"$nulls":4},{"v":0,"d":"$0.00"},{"$nulls":3},{"v":0,"d":"$0.00"},0,{"v":0,"d":"$0.00"},{"$nulls":91},2]
[{"$f":"IF('VETS-701B Participant Info'!$F9=4,'VETS-701B Participant Info'!$A9,\"  \")","v":"  "},{"$f":"IF('VETS-701B Participant Info'!$F9=4,'VETS-701B Participant Info'!$B9,\"  \")","v":"  "},{"$nulls":4},{"v":0,"d":"$0.00"},{"$nulls":3},{"v":0,"d":"$0.00"},0,{"v":0,"d":"$0.00"},{"$nulls":91},2]
[{"$f":"IF('VETS-701B Participant Info'!$F10=4,'VETS-701B Participant Info'!$A10,\"  \")","v":"  "},{"$f":"IF('VETS-701B Participant Info'!$F10=4,'VETS-701B Participant Info'!$B10,\"  \")","v":"  "},{"$nulls":4},{"v":0,"d":"$0.00"},{"$nulls":3},{"v":0,"d":"$0.00"},0,{"v":0,"d":"$0.00"},{"$nulls":91},2]
[{"$f":"IF('VETS-701B Participant Info'!$F11=4,'VETS-701B Participant Info'!$A11,\"  \")","v":"  "},{"$f":"IF('VETS-701B Participant Info'!$F11=4,'VETS-701B Participant Info'!$B11,\"  \")","v":"  "},{"$nulls":4},{"v":0,"d":"$0.00"},{"$nulls":3},{"v":0,"d":"$0.00"},0,{"v":0,"d":"$0.00"},{"$nulls":91},2]
[{"$f":"IF('VETS-701B Participant Info'!$F12=4,'VETS-701B Participant Info'!$A12,\"  \")","v":"  "},{"$f":"IF('VETS-701B Participant Info'!$F12=4,'VETS-701B Participant Info'!$B12,\"  \")","v":"  "},{"$nulls":4},{"v":0,"d":"$0.00"},{"$nulls":3},{"v":0,"d":"$0.00"},0,{"v":0,"d":"$0.00"},{"$nulls":91},2]
[{"$f":"IF('VETS-701B Participant Info'!$F13=4,'VETS-701B Participant Info'!$A13,\"  \")","v":"  "},{"$f":"IF('VETS-701B Participant Info'!$F13=4,'VETS-701B Participant Info'!$B13,\"  \")","v":"  "},{"$nulls":4},{"v":0,"d":"$0.00"},{"$nulls":3},{"v":0,"d":"$0.00"},0,{"v":0,"d":"$0.00"},{"$nulls":91},2]
[{"$f":"IF('VETS-701B Participant Info'!$F14=4,'VETS-701B Participant Info'!$A14,\"  \")","v":"  "},{"$f":"IF('VETS-701B Participant Info'!$F14=4,'VETS-701B Participant Info'!$B14,\"  \")","v":"  "},{"$nulls":4},{"v":0,"d":"$0.00"},{"$nulls":3},{"v":0,"d":"$0.00"},0,{"v":0,"d":"$0.00"},{"$nulls":91},2]
[{"$f":"IF('VETS-701B Participant Info'!$F15=4,'VETS-701B Participant Info'!$A15,\"  \")","v":"  "},{"$f":"IF('VETS-701B Participant Info'!$F15=4,'VETS-701B Participant Info'!$B15,\"  \")","v":"  "},{"$nulls":4},{"v":0,"d":"$0.00"},{"$nulls":3},{"v":0,"d":"$0.00"},0,{"v":0,"d":"$0.00"},{"$nulls":91},2]
[{"$f":"IF('VETS-701B Participant Info'!$F16=4,'VETS-701B Participant Info'!$A16,\"  \")","v":"  "},{"$f":"IF('VETS-701B Participant Info'!$F16=4,'VETS-701B Participant Info'!$B16,\"  \")","v":"  "},{"$nulls":4},{"v":0,"d":"$0.00"},{"$nulls":3},{"v":0,"d":"$0.00"},0,{"v":0,"d":"$0.00"},{"$nulls":91},2]
[{"$f":"IF('VETS-701B Participant Info'!$F17=4,'VETS-701B Participant Info'!$A17,\"  \")","v":"  "},{"$f":"IF('VETS-701B Participant Info'!$F17=4,'VETS-701B Participant Info'!$B17,\"  \")","v":"  "},{"$nulls":4},{"v":0,"d":"$0.00"},{"$nulls":3},{"v":0,"d":"$0.00"},0,{"v":0,"d":"$0.00"},{"$nulls":91},2]
[{"$f":"IF('VETS-701B Participant Info'!$F18=4,'VETS-701B Participant Info'!$A18,\"  \")","v":"  "},{"$f":"IF('VETS-701B Participant Info'!$F18=4,'VETS-701B Participant Info'!$B18,\"  \")","v":"  "},{"$nulls":4},{"v":0,"d":"$0.00"},{"$nulls":3},{"v":0,"d":"$0.00"},0,{"v":0,"d":"$0.00"},{"$nulls":91},2]
[{"$f":"IF('VETS-701B Participant Info'!$F19=4,'VETS-701B Participant Info'!$A19,\"  \")","v":"  "},{"$f":"IF('VETS-701B Participant Info'!$F19=4,'VETS-701B Participant Info'!$B19,\"  \")","v":"  "},{"$nulls":4},{"v":0,"d":"$0.00"},{"$nulls":3},{"v":0,"d":"$0.00"},0,{"v":0,"d":"$0.00"},{"$nulls":91},2]
[{"$f":"IF('VETS-701B Participant Info'!$F20=4,'VETS-701B Participant Info'!$A20,\"  \")","v":"  "},{"$f":"IF('VETS-701B Participant Info'!$F20=4,'VETS-701B Participant Info'!$B20,\"  \")","v":"  "},{"$nulls":4},{"v":0,"d":"$0.00"},{"$nulls":3},{"v":0,"d":"$0.00"},0,{"v":0,"d":"$0.00"},{"$nulls":91},2]
[{"$f":"IF('VETS-701B Participant Info'!$F21=4,'VETS-701B Participant Info'!$A21,\"  \")","v":"  "},{"$f":"IF('VETS-701B Participant Info'!$F21=4,'VETS-701B Participant Info'!$B21,\"  \")","v":"  "},{"$nulls":4},{"v":0,"d":"$0.00"},{"$nulls":3},{"v":0,"d":"$0.00"},0,{"v":0,"d":"$0.00"},{"$nulls":91},2]
[{"$f":"IF('VETS-701B Participant Info'!$F22=4,'VETS-701B Participant Info'!$A22,\"  \")","v":"  "},{"$f":"IF('VETS-701B Participant Info'!$F22=4,'VETS-701B Participant Info'!$B22,\"  \")","v":"  "},{"$nulls":4},{"v":0,"d":"$0.00"},{"$nulls":3},{"v":0,"d":"$0.00"},0,{"v":0,"d":"$0.00"},{"$nulls":91},2]
[{"$f":"IF('VETS-701B Participant Info'!$F23=4,'VETS-701B Participant Info'!$A23,\"  \")","v":"  "},{"$f":"IF('VETS-701B Participant Info'!$F23=4,'VETS-701B Participant Info'!$B23,\"  \")","v":"  "},{"$nulls":4},{"v":0,"d":"$0.00"},{"$nulls":3},{"v":0,"d":"$0.00"},0,{"v":0,"d":"$0.00"},{"$nulls":91},2]
[{"$f":"IF('VETS-701B Participant Info'!$F24=4,'VETS-701B Participant Info'!$A24,\"  \")","v":"  "},{"$f":"IF('VETS-701B Participant Info'!$F24=4,'VETS-701B Participant Info'!$B24,\"  \")","v":"  "},{"$nulls":4},{"v":0,"d":"$0.00"},{"$nulls":3},{"v":0,"d":"$0.00"},0,{"v":0,"d":"$0.00"},{"$nulls":91},2]
[{"$f":"IF('VETS-701B Participant Info'!$F25=4,'VETS-701B Participant Info'!$A25,\"  \")","v":"  "},{"$f":"IF('VETS-701B Participant Info'!$F25=4,'VETS-701B Participant Info'!$B25,\"  \")","v":"  "},{"$nulls":4},{"v":0,"d":"$0.00"},{"$nulls":3},{"v":0,"d":"$0.00"},0,{"v":0,"d":"$0.00"},{"$nulls":91},2]
[{"$f":"IF('VETS-701B Participant Info'!$F26=4,'VETS-701B Participant Info'!$A26,\"  \")","v":"  "},{"$f":"IF('VETS-701B Participant Info'!$F26=4,'VETS-701B Participant Info'!$B26,\"  \")","v":"  "},{"$nulls":4},{"v":0,"d":"$0.00"},{"$nulls":3},{"v":0,"d":"$0.00"},0,{"v":0,"d":"$0.00"},{"$nulls":91},2]
[{"$f":"IF('VETS-701B Participant Info'!$F27=4,'VETS-701B Participant Info'!$A27,\"  \")","v":"  "},{"$f":"IF('VETS-701B Participant Info'!$F27=4,'VETS-701B Participant Info'!$B27,\"  \")","v":"  "},{"$nulls":4},{"v":0,"d":"$0.00"},{"$nulls":3},{"v":0,"d":"$0.00"},0,{"v":0,"d":"$0.00"},{"$nulls":91},2]
[{"$f":"IF('VETS-701B Participant Info'!$F28=4,'VETS-701B Participant Info'!$A28,\"  \")","v":"  "},{"$f":"IF('VETS-701B Participant Info'!$F28=4,'VETS-701B Participant Info'!$B28,\"  \")","v":"  "},{"$nulls":4},{"v":0,"d":"$0.00"},{"$nulls":3},{"v":0,"d":"$0.00"},0,{"v":0,"d":"$0.00"},{"$nulls":91},2]
[{"$f":"IF('VETS-701B Participant Info'!$F29=4,'VETS-701B Participant Info'!$A29,\"  \")","v":"  "},{"$f":"IF('VETS-701B Participant Info'!$F29=4,'VETS-701B Participant Info'!$B29,\"  \")","v":"  "},{"$nulls":4},{"v":0,"d":"$0.00"},{"$nulls":3},{"v":0,"d":"$0.00"},0,{"v":0,"d":"$0.00"},{"$nulls":91},2]
[{"$f":"IF('VETS-701B Participant Info'!$F30=4,'VETS-701B Participant Info'!$A30,\"  \")","v":"  "},{"$f":"IF('VETS-701B Participant Info'!$F30=4,'VETS-701B Participant Info'!$B30,\"  \")","v":"  "},{"$nulls":4},{"v":0,"d":"$0.00"},{"$nulls":3},{"v":0,"d":"$0.00"},0,{"v":0,"d":"$0.00"},{"$nulls":91},2]
[{"$f":"IF('VETS-701B Participant Info'!$F31=4,'VETS-701B Participant Info'!$A31,\"  \")","v":"  "},{"$f":"IF('VETS-701B Participant Info'!$F31=4,'VETS-701B Participant Info'!$B31,\"  \")","v":"  "},{"$nulls":4},{"v":0,"d":"$0.00"},{"$nulls":3},{"v":0,"d":"$0.00"},0,{"v":0,"d":"$0.00"},{"$nulls":91},2]
[{"$f":"IF('VETS-701B Participant Info'!$F32=4,'VETS-701B Participant Info'!$A32,\"  \")","v":"  "},{"$f":"IF('VETS-701B Participant Info'!$F32=4,'VETS-701B Participant Info'!$B32,\"  \")","v":"  "},{"$nulls":4},{"v":0,"d":"$0.00"},{"$nulls":3},{"v":0,"d":"$0.00"},0,{"v":0,"d":"$0.00"},{"$nulls":91},2]
[{"$f":"IF('VETS-701B Participant Info'!$F33=4,'VETS-701B Participant Info'!$A33,\"  \")","v":"  "},{"$f":"IF('VETS-701B Participant Info'!$F33=4,'VETS-701B Participant Info'!$B33,\"  \")","v":"  "},{"$nulls":4},{"v":0,"d":"$0.00"},{"$nulls":3},{"v":0,"d":"$0.00"},0,{"v":0,"d":"$0.00"},{"$nulls":91},2]
[{"$f":"IF('VETS-701B Participant Info'!$F34=4,'VETS-701B Participant Info'!$A34,\"  \")","v":"  "},{"$f":"IF('VETS-701B Participant Info'!$F34=4,'VETS-701B Participant Info'!$B34,\"  \")","v":"  "},{"$nulls":4},{"v":0,"d":"$0.00"},{"$nulls":3},{"v":0,"d":"$0.00"},0,{"v":0,"d":"$0.00"},{"$nulls":91},2]
[{"$f":"IF('VETS-701B Participant Info'!$F35=4,'VETS-701B Participant Info'!$A35,\"  \")","v":"  "},{"$f":"IF('VETS-701B Participant Info'!$F35=4,'VETS-701B Participant Info'!$B35,\"  \")","v":"  "},{"$nulls":4},{"v":0,"d":"$0.00"},{"$nulls":3},{"v":0,"d":"$0.00"},0,{"v":0,"d":"$0.00"},{"$nulls":91},2]
[{"$f":"IF('VETS-701B Participant Info'!$F36=4,'VETS-701B Participant Info'!$A36,\"  \")","v":"  "},{"$f":"IF('VETS-701B Participant Info'!$F36=4,'VETS-701B Participant Info'!$B36,\"  \")","v":"  "},{"$nulls":4},{"v":0,"d":"$0.00"},{"$nulls":3},{"v":0,"d":"$0.00"},0,{"v":0,"d":"$0.00"},{"$nulls":91},2]
[{"$f":"IF('VETS-701B Participant Info'!$F37=4,'VETS-701B Participant Info'!$A37,\"  \")","v":"  "},{"$f":"IF('VETS-701B Participant Info'!$F37=4,'VETS-701B Participant Info'!$B37,\"  \")","v":"  "},{"$nulls":4},{"v":0,"d":"$0.00"},{"$nulls":3},{"v":0,"d":"$0.00"},0,{"v":0,"d":"$0.00"},{"$nulls":91},2]
[{"$f":"IF('VETS-701B Participant Info'!$F38=4,'VETS-701B Participant Info'!$A38,\"  \")","v":"  "},{"$f":"IF('VETS-701B Participant Info'!$F38=4,'VETS-701B Participant Info'!$B38,\"  \")","v":"  "},{"$nulls":4},{"v":0,"d":"$0.00"},{"$nulls":3},{"v":0,"d":"$0.00"},0,{"v":0,"d":"$0.00"},{"$nulls":91},2]
[{"$f":"IF('VETS-701B Participant Info'!$F39=4,'VETS-701B Participant Info'!$A39,\"  \")","v":"  "},{"$f":"IF('VETS-701B Participant Info'!$F39=4,'VETS-701B Participant Info'!$B39,\"  \")","v":"  "},{"$nulls":4},{"v":0,"d":"$0.00"},{"$nulls":3},{"v":0,"d":"$0.00"},0,{"v":0,"d":"$0.00"},{"$nulls":91},2]
[{"$f":"IF('VETS-701B Participant Info'!$F40=4,'VETS-701B Participant Info'!$A40,\"  \")","v":"  "},{"$f":"IF('VETS-701B Participant Info'!$F40=4,'VETS-701B Participant Info'!$B40,\"  \")","v":"  "},{"$nulls":4},{"v":0,"d":"$0.00"},{"$nulls":3},{"v":0,"d":"$0.00"},0,{"v":0,"d":"$0.00"},{"$nulls":91},2]
[{"$f":"IF('VETS-701B Participant Info'!$F41=4,'VETS-701B Participant Info'!$A41,\"  \")","v":"  "},{"$f":"IF('VETS-701B Participant Info'!$F41=4,'VETS-701B Participant Info'!$B41,\"  \")","v":"  "},{"$nulls":4},{"v":0,"d":"$0.00"},{"$nulls":3},{"v":0,"d":"$0.00"},0,{"v":0,"d":"$0.00"},{"$nulls":91},2]
[{"$f":"IF('VETS-701B Participant Info'!$F42=4,'VETS-701B Participant Info'!$A42,\"  \")","v":"  "},{"$f":"IF('VETS-701B Participant Info'!$F42=4,'VETS-701B Participant Info'!$B42,\"  \")","v":"  "},{"$nulls":4},{"v":0,"d":"$0.00"},{"$nulls":3},{"v":0,"d":"$0.00"},0,{"v":0,"d":"$0.00"},{"$nulls":91},2]
[{"$f":"IF('VETS-701B Participant Info'!$F43=4,'VETS-701B Participant Info'!$A43,\"  \")","v":"  "},{"$f":"IF('VETS-701B Participant Info'!$F43=4,'VETS-701B Participant Info'!$B43,\"  \")","v":"  "},{"$nulls":4},{"v":0,"d":"$0.00"},{"$nulls":3},{"v":0,"d":"$0.00"},0,{"v":0,"d":"$0.00"},{"$nulls":91},2]
[{"$f":"IF('VETS-701B Participant Info'!$F44=4,'VETS-701B Participant Info'!$A44,\"  \")","v":"  "},{"$f":"IF('VETS-701B Participant Info'!$F44=4,'VETS-701B Participant Info'!$B44,\"  \")","v":"  "},{"$nulls":4},{"v":0,"d":"$0.00"},{"$nulls":3},{"v":0,"d":"$0.00"},0,{"v":0,"d":"$0.00"},{"$nulls":91},2]
[{"$f":"IF('VETS-701B Participant Info'!$F45=4,'VETS-701B Participant Info'!$A45,\"  \")","v":"  "},{"$f":"IF('VETS-701B Participant Info'!$F45=4,'VETS-701B Participant Info'!$B45,\"  \")","v":"  "},{"$nulls":4},{"v":0,"d":"$0.00"},{"$nulls":3},{"v":0,"d":"$0.00"},0,{"v":0,"d":"$0.00"},{"$nulls":91},2]
[{"$f":"IF('VETS-701B Participant Info'!$F46=4,'VETS-701B Participant Info'!$A46,\"  \")","v":"  "},{"$f":"IF('VETS-701B Participant Info'!$F46=4,'VETS-701B Participant Info'!$B46,\"  \")","v":"  "},{"$nulls":4},{"v":0,"d":"$0.00"},{"$nulls":3},{"v":0,"d":"$0.00"},0,{"v":0,"d":"$0.00"},{"$nulls":91},2]
[{"$f":"IF('VETS-701B Participant Info'!$F47=4,'VETS-701B Participant Info'!$A47,\"  \")","v":"  "},{"$f":"IF('VETS-701B Participant Info'!$F47=4,'VETS-701B Participant Info'!$B47,\"  \")","v":"  "},{"$nulls":4},{"v":0,"d":"$0.00"},{"$nulls":3},{"v":0,"d":"$0.00"},0,{"v":0,"d":"$0.00"},{"$nulls":91},2]
[{"$f":"IF('VETS-701B Participant Info'!$F48=4,'VETS-701B Participant Info'!$A48,\"  \")","v":"  "},{"$f":"IF('VETS-701B Participant Info'!$F48=4,'VETS-701B Participant Info'!$B48,\"  \")","v":"  "},{"$nulls":4},{"v":0,"d":"$0.00"},{"$nulls":3},{"v":0,"d":"$0.00"},0,{"v":0,"d":"$0.00"},{"$nulls":91},2]
[{"$f":"IF('VETS-701B Participant Info'!$F49=4,'VETS-701B Participant Info'!$A49,\"  \")","v":"  "},{"$f":"IF('VETS-701B Participant Info'!$F49=4,'VETS-701B Participant Info'!$B49,\"  \")","v":"  "},{"$nulls":4},{"v":0,"d":"$0.00"},{"$nulls":3},{"v":0,"d":"$0.00"},0,{"v":0,"d":"$0.00"},{"$nulls":91},2]
[{"$f":"IF('VETS-701B Participant Info'!$F50=4,'VETS-701B Participant Info'!$A50,\"  \")","v":"  "},{"$f":"IF('VETS-701B Participant Info'!$F50=4,'VETS-701B Participant Info'!$B50,\"  \")","v":"  "},{"$nulls":4},{"v":0,"d":"$0.00"},{"$nulls":3},{"v":0,"d":"$0.00"},0,{"v":0,"d":"$0.00"},{"$nulls":91},2]
[{"$f":"IF('VETS-701B Participant Info'!$F51=4,'VETS-701B Participant Info'!$A51,\"  \")","v":"  "},{"$f":"IF('VETS-701B Participant Info'!$F51=4,'VETS-701B Participant Info'!$B51,\"  \")","v":"  "},{"$nulls":4},{"v":0,"d":"$0.00"},{"$nulls":3},{"v":0,"d":"$0.00"},0,{"v":0,"d":"$0.00"},{"$nulls":91},2]
[{"$f":"IF('VETS-701B Participant Info'!$F52=4,'VETS-701B Participant Info'!$A52,\"  \")","v":"  "},{"$f":"IF('VETS-701B Participant Info'!$F52=4,'VETS-701B Participant Info'!$B52,\"  \")","v":"  "},{"$nulls":4},{"v":0,"d":"$0.00"},{"$nulls":3},{"v":0,"d":"$0.00"},0,{"v":0,"d":"$0.00"},{"$nulls":91},2]
[{"$f":"IF('VETS-701B Participant Info'!$F53=4,'VETS-701B Participant Info'!$A53,\"  \")","v":"  "},{"$f":"IF('VETS-701B Participant Info'!$F53=4,'VETS-701B Participant Info'!$B53,\"  \")","v":"  "},{"$nulls":4},{"v":0,"d":"$0.00"},{"$nulls":3},{"v":0,"d":"$0.00"},0,{"v":0,"d":"$0.00"},{"$nulls":91},2]
[{"$f":"IF('VETS-701B Participant Info'!$F54=4,'VETS-701B Participant Info'!$A54,\"  \")","v":"  "},{"$f":"IF('VETS-701B Participant Info'!$F54=4,'VETS-701B Participant Info'!$B54,\"  \")","v":"  "},{"$nulls":4},{"v":0,"d":"$0.00"},{"$nulls":3},{"v":0,"d":"$0.00"},0,{"v":0,"d":"$0.00"},{"$nulls":91},2]
[{"$f":"IF('VETS-701B Participant Info'!$F55=4,'VETS-701B Participant Info'!$A55,\"  \")","v":"  "},{"$f":"IF('VETS-701B Participant Info'!$F55=4,'VETS-701B Participant Info'!$B55,\"  \")","v":"  "},{"$nulls":4},{"v":0,"d":"$0.00"},{"$nulls":3},{"v":0,"d":"$0.00"},0,{"v":0,"d":"$0.00"},{"$nulls":91},2]
[{"$f":"IF('VETS-701B Participant Info'!$F56=4,'VETS-701B Participant Info'!$A56,\"  \")","v":"  "},{"$f":"IF('VETS-701B Participant Info'!$F56=4,'VETS-701B Participant Info'!$B56,\"  \")","v":"  "},{"$nulls":4},{"v":0,"d":"$0.00"},{"$nulls":3},{"v":0,"d":"$0.00"},0,{"v":0,"d":"$0.00"},{"$nulls":91},2]
[{"$f":"IF('VETS-701B Participant Info'!$F57=4,'VETS-701B Participant Info'!$A57,\"  \")","v":"  "},{"$f":"IF('VETS-701B Participant Info'!$F57=4,'VETS-701B Participant Info'!$B57,\"  \")","v":"  "},{"$nulls":4},{"v":0,"d":"$0.00"},{"$nulls":3},{"v":0,"d":"$0.00"},0,{"v":0,"d":"$0.00"},{"$nulls":91},2]
[{"$f":"IF('VETS-701B Participant Info'!$F58=4,'VETS-701B Participant Info'!$A58,\"  \")","v":"  "},{"$f":"IF('VETS-701B Participant Info'!$F58=4,'VETS-701B Participant Info'!$B58,\"  \")","v":"  "},{"$nulls":4},{"v":0,"d":"$0.00"},{"$nulls":3},{"v":0,"d":"$0.00"},0,{"v":0,"d":"$0.00"},{"$nulls":91},2]
[{"$f":"IF('VETS-701B Participant Info'!$F59=4,'VETS-701B Participant Info'!$A59,\"  \")","v":"  "},{"$f":"IF('VETS-701B Participant Info'!$F59=4,'VETS-701B Participant Info'!$B59,\"  \")","v":"  "},{"$nulls":4},{"v":0,"d":"$0.00"},{"$nulls":3},{"v":0,"d":"$0.00"},0,{"v":0,"d":"$0.00"},{"$nulls":91},2]
[{"$f":"IF('VETS-701B Participant Info'!$F60=4,'VETS-701B Participant Info'!$A60,\"  \")","v":"  "},{"$f":"IF('VETS-701B Participant Info'!$F60=4,'VETS-701B Participant Info'!$B60,\"  \")","v":"  "},{"$nulls":4},{"v":0,"d":"$0.00"},{"$nulls":3},{"v":0,"d":"$0.00"},0,{"v":0,"d":"$0.00"},{"$nulls":91},2]
[{"$f":"IF('VETS-701B Participant Info'!$F61=4,'VETS-701B Participant Info'!$A61,\"  \")","v":"  "},{"$f":"IF('VETS-701B Participant Info'!$F61=4,'VETS-701B Participant Info'!$B61,\"  \")","v":"  "},{"$nulls":4},{"v":0,"d":"$0.00"},{"$nulls":3},{"v":0,"d":"$0.00"},0,{"v":0,"d":"$0.00"},{"$nulls":91},2]
[{"$f":"IF('VETS-701B Participant Info'!$F62=4,'VETS-701B Participant Info'!$A62,\"  \")","v":"  "},{"$f":"IF('VETS-701B Participant Info'!$F62=4,'VETS-701B Participant Info'!$B62,\"  \")","v":"  "},{"$nulls":4},{"v":0,"d":"$0.00"},{"$nulls":3},{"v":0,"d":"$0.00"},0,{"v":0,"d":"$0.00"},{"$nulls":91},2]
[{"$f":"IF('VETS-701B Participant Info'!$F63=4,'VETS-701B Participant Info'!$A63,\"  \")","v":"  "},{"$f":"IF('VETS-701B Participant Info'!$F63=4,'VETS-701B Participant Info'!$B63,\"  \")","v":"  "},{"$nulls":4},{"v":0,"d":"$0.00"},{"$nulls":3},{"v":0,"d":"$0.00"},0,{"v":0,"d":"$0.00"},{"$nulls":91},2]
[{"$f":"IF('VETS-701B Participant Info'!$F64=4,'VETS-701B Participant Info'!$A64,\"  \")","v":"  "},{"$f":"IF('VETS-701B Participant Info'!$F64=4,'VETS-701B Participant Info'!$B64,\"  \")","v":"  "},{"$nulls":4},{"v":0,"d":"$0.00"},{"$nulls":3},{"v":0,"d":"$0.00"},0,{"v":0,"d":"$0.00"},{"$nulls":91},2]
[{"$f":"IF('VETS-701B Participant Info'!$F65=4,'VETS-701B Participant Info'!$A65,\"  \")","v":"  "},{"$f":"IF('VETS-701B Participant Info'!$F65=4,'VETS-701B Participant Info'!$B65,\"  \")","v":"  "},{"$nulls":4},{"v":0,"d":"$0.00"},{"$nulls":3},{"v":0,"d":"$0.00"},0,{"v":0,"d":"$0.00"},{"$nulls":91},2]
[{"$f":"IF('VETS-701B Participant Info'!$F66=4,'VETS-701B Participant Info'!$A66,\"  \")","v":"  "},{"$f":"IF('VETS-701B Participant Info'!$F66=4,'VETS-701B Participant Info'!$B66,\"  \")","v":"  "},{"$nulls":4},{"v":0,"d":"$0.00"},{"$nulls":3},{"v":0,"d":"$0.00"},0,{"v":0,"d":"$0.00"},{"$nulls":91},2]
[{"$f":"IF('VETS-701B Participant Info'!$F67=4,'VETS-701B Participant Info'!$A67,\"  \")","v":"  "},{"$f":"IF('VETS-701B Participant Info'!$F67=4,'VETS-701B Participant Info'!$B67,\"  \")","v":"  "},{"$nulls":4},{"$f":"IF(C70+D70=2,SUM(E70*F70*13),0)","v":{"v":0,"d":"$0.00"}},{"$nulls":3},{"$f":"IF(L70=3,SUM(I70*J70*13),0)","v":{"v":0,"d":"$0.00"}},0,{"v":0,"d":"$0.00"},{"$nulls":91},{"$f":"IF($B70> \"             \",1,2)","v":2}]
[{"$f":"IF('VETS-701B Participant Info'!$F68=4,'VETS-701B Participant Info'!$A68,\"  \")","v":"  "},{"$f":"IF('VETS-701B Participant Info'!$F68=4,'VETS-701B Participant Info'!$B68,\"  \")","v":"  "},{"$nulls":4},{"v":0,"d":"$0.00"},{"$nulls":3},{"v":0,"d":"$0.00"},{"$f":"SUM(H71+D71+C71)","v":0},{"$f":"IF(L71=3,K71+G71,0)","v":{"v":0,"d":"$0.00"}},{"$nulls":91},2]
[{"$f":"IF('VETS-701B Participant Info'!$F69=4,'VETS-701B Participant Info'!$A69,\"  \")","v":"  "},{"$f":"IF('VETS-701B Participant Info'!$F69=4,'VETS-701B Participant Info'!$B69,\"  \")","v":"  "},{"$nulls":4},{"v":0,"d":"$0.00"},{"$nulls":3},{"v":0,"d":"$0.00"},0,{"v":0,"d":"$0.00"},{"$nulls":91},2]
[{"$f":"IF('VETS-701B Participant Info'!$F70=4,'VETS-701B Participant Info'!$A70,\"  \")","v":"  "},{"$f":"IF('VETS-701B Participant Info'!$F70=4,'VETS-701B Participant Info'!$B70,\"  \")","v":"  "},{"$nulls":4},{"v":0,"d":"$0.00"},{"$nulls":3},{"v":0,"d":"$0.00"},0,{"v":0,"d":"$0.00"},{"$nulls":91},2]
[{"$f":"IF('VETS-701B Participant Info'!$F71=4,'VETS-701B Participant Info'!$A71,\"  \")","v":"  "},{"$f":"IF('VETS-701B Participant Info'!$F71=4,'VETS-701B Participant Info'!$B71,\"  \")","v":"  "},{"$nulls":4},{"v":0,"d":"$0.00"},{"$nulls":3},{"v":0,"d":"$0.00"},0,{"v":0,"d":"$0.00"},{"$nulls":91},2]
[{"$f":"IF('VETS-701B Participant Info'!$F72=4,'VETS-701B Participant Info'!$A72,\"  \")","v":"  "},{"$f":"IF('VETS-701B Participant Info'!$F72=4,'VETS-701B Participant Info'!$B72,\"  \")","v":"  "},{"$nulls":4},{"v":0,"d":"$0.00"},{"$nulls":3},{"v":0,"d":"$0.00"},0,{"v":0,"d":"$0.00"},{"$nulls":91},2]
[{"$f":"IF('VETS-701B Participant Info'!$F73=4,'VETS-701B Participant Info'!$A73,\"  \")","v":"  "},{"$f":"IF('VETS-701B Participant Info'!$F73=4,'VETS-701B Participant Info'!$B73,\"  \")","v":"  "},{"$nulls":4},{"v":0,"d":"$0.00"},{"$nulls":3},{"v":0,"d":"$0.00"},0,{"v":0,"d":"$0.00"},{"$nulls":91},2]
[{"$f":"IF('VETS-701B Participant Info'!$F74=4,'VETS-701B Participant Info'!$A74,\"  \")","v":"  "},{"$f":"IF('VETS-701B Participant Info'!$F74=4,'VETS-701B Participant Info'!$B74,\"  \")","v":"  "},{"$nulls":4},{"v":0,"d":"$0.00"},{"$nulls":3},{"v":0,"d":"$0.00"},0,{"v":0,"d":"$0.00"},{"$nulls":91},2]
[{"$f":"IF('VETS-701B Participant Info'!$F75=4,'VETS-701B Participant Info'!$A75,\"  \")","v":"  "},{"$f":"IF('VETS-701B Participant Info'!$F75=4,'VETS-701B Participant Info'!$B75,\"  \")","v":"  "},{"$nulls":4},{"v":0,"d":"$0.00"},{"$nulls":3},{"v":0,"d":"$0.00"},0,{"v":0,"d":"$0.00"},{"$nulls":91},2]
[{"$f":"IF('VETS-701B Participant Info'!$F76=4,'VETS-701B Participant Info'!$A76,\"  \")","v":"  "},{"$f":"IF('VETS-701B Participant Info'!$F76=4,'VETS-701B Participant Info'!$B76,\"  \")","v":"  "},{"$nulls":4},{"v":0,"d":"$0.00"},{"$nulls":3},{"v":0,"d":"$0.00"},0,{"v":0,"d":"$0.00"},{"$nulls":91},2]
[{"$f":"IF('VETS-701B Participant Info'!$F77=4,'VETS-701B Participant Info'!$A77,\"  \")","v":"  "},{"$f":"IF('VETS-701B Participant Info'!$F77=4,'VETS-701B Participant Info'!$B77,\"  \")","v":"  "},{"$nulls":4},{"v":0,"d":"$0.00"},{"$nulls":3},{"v":0,"d":"$0.00"},0,{"v":0,"d":"$0.00"},{"$nulls":91},2]
[{"$f":"IF('VETS-701B Participant Info'!$F78=4,'VETS-701B Participant Info'!$A78,\"  \")","v":"  "},{"$f":"IF('VETS-701B Participant Info'!$F78=4,'VETS-701B Participant Info'!$B78,\"  \")","v":"  "},{"$nulls":4},{"v":0,"d":"$0.00"},{"$nulls":3},{"v":0,"d":"$0.00"},0,{"v":0,"d":"$0.00"},{"$nulls":91},2]
[{"$f":"IF('VETS-701B Participant Info'!$F79=4,'VETS-701B Participant Info'!$A79,\"  \")","v":"  "},{"$f":"IF('VETS-701B Participant Info'!$F79=4,'VETS-701B Participant Info'!$B79,\"  \")","v":"  "},{"$nulls":4},{"v":0,"d":"$0.00"},{"$nulls":3},{"v":0,"d":"$0.00"},0,{"v":0,"d":"$0.00"},{"$nulls":91},2]
[{"$f":"IF('VETS-701B Participant Info'!$F80=4,'VETS-701B Participant Info'!$A80,\"  \")","v":"  "},{"$f":"IF('VETS-701B Participant Info'!$F80=4,'VETS-701B Participant Info'!$B80,\"  \")","v":"  "},{"$nulls":4},{"v":0,"d":"$0.00"},{"$nulls":3},{"v":0,"d":"$0.00"},0,{"v":0,"d":"$0.00"},{"$nulls":91},2]
[{"$f":"IF('VETS-701B Participant Info'!$F81=4,'VETS-701B Participant Info'!$A81,\"  \")","v":"  "},{"$f":"IF('VETS-701B Participant Info'!$F81=4,'VETS-701B Participant Info'!$B81,\"  \")","v":"  "},{"$nulls":4},{"v":0,"d":"$0.00"},{"$nulls":3},{"v":0,"d":"$0.00"},0,{"v":0,"d":"$0.00"},{"$nulls":91},2]
[{"$f":"IF('VETS-701B Participant Info'!$F82=4,'VETS-701B Participant Info'!$A82,\"  \")","v":"  "},{"$f":"IF('VETS-701B Participant Info'!$F82=4,'VETS-701B Participant Info'!$B82,\"  \")","v":"  "},{"$nulls":4},{"v":0,"d":"$0.00"},{"$nulls":3},{"v":0,"d":"$0.00"},0,{"v":0,"d":"$0.00"},{"$nulls":91},2]
[{"$f":"IF('VETS-701B Participant Info'!$F83=4,'VETS-701B Participant Info'!$A83,\"  \")","v":"  "},{"$f":"IF('VETS-701B Participant Info'!$F83=4,'VETS-701B Participant Info'!$B83,\"  \")","v":"  "},{"$nulls":4},{"v":0,"d":"$0.00"},{"$nulls":3},{"v":0,"d":"$0.00"},0,{"v":0,"d":"$0.00"},{"$nulls":91},2]
[{"$f":"IF('VETS-701B Participant Info'!$F84=4,'VETS-701B Participant Info'!$A84,\"  \")","v":"  "},{"$f":"IF('VETS-701B Participant Info'!$F84=4,'VETS-701B Participant Info'!$B84,\"  \")","v":"  "},{"$nulls":4},{"v":0,"d":"$0.00"},{"$nulls":3},{"v":0,"d":"$0.00"},0,{"v":0,"d":"$0.00"},{"$nulls":91},2]
[{"$f":"IF('VETS-701B Participant Info'!$F85=4,'VETS-701B Participant Info'!$A85,\"  \")","v":"  "},{"$f":"IF('VETS-701B Participant Info'!$F85=4,'VETS-701B Participant Info'!$B85,\"  \")","v":"  "},{"$nulls":4},{"v":0,"d":"$0.00"},{"$nulls":3},{"v":0,"d":"$0.00"},0,{"v":0,"d":"$0.00"},{"$nulls":91},2]
[{"$f":"IF('VETS-701B Participant Info'!$F86=4,'VETS-701B Participant Info'!$A86,\"  \")","v":"  "},{"$f":"IF('VETS-701B Participant Info'!$F86=4,'VETS-701B Participant Info'!$B86,\"  \")","v":"  "},{"$nulls":4},{"v":0,"d":"$0.00"},{"$nulls":3},{"v":0,"d":"$0.00"},0,{"v":0,"d":"$0.00"},{"$nulls":91},2]
[{"$f":"IF('VETS-701B Participant Info'!$F87=4,'VETS-701B Participant Info'!$A87,\"  \")","v":"  "},{"$f":"IF('VETS-701B Participant Info'!$F87=4,'VETS-701B Participant Info'!$B87,\"  \")","v":"  "},{"$nulls":4},{"v":0,"d":"$0.00"},{"$nulls":3},{"v":0,"d":"$0.00"},0,{"v":0,"d":"$0.00"},{"$nulls":91},2]
[{"$f":"IF('VETS-701B Participant Info'!$F88=4,'VETS-701B Participant Info'!$A88,\"  \")","v":"  "},{"$f":"IF('VETS-701B Participant Info'!$F88=4,'VETS-701B Participant Info'!$B88,\"  \")","v":"  "},{"$nulls":4},{"v":0,"d":"$0.00"},{"$nulls":3},{"v":0,"d":"$0.00"},0,{"v":0,"d":"$0.00"},{"$nulls":91},2]
[{"$f":"IF('VETS-701B Participant Info'!$F89=4,'VETS-701B Participant Info'!$A89,\"  \")","v":"  "},{"$f":"IF('VETS-701B Participant Info'!$F89=4,'VETS-701B Participant Info'!$B89,\"  \")","v":"  "},{"$nulls":4},{"v":0,"d":"$0.00"},{"$nulls":3},{"v":0,"d":"$0.00"},0,{"v":0,"d":"$0.00"},{"$nulls":91},2]
[{"$f":"IF('VETS-701B Participant Info'!$F90=4,'VETS-701B Participant Info'!$A90,\"  \")","v":"  "},{"$f":"IF('VETS-701B Participant Info'!$F90=4,'VETS-701B Participant Info'!$B90,\"  \")","v":"  "},{"$nulls":4},{"v":0,"d":"$0.00"},{"$nulls":3},{"v":0,"d":"$0.00"},0,{"v":0,"d":"$0.00"},{"$nulls":91},2]
[{"$f":"IF('VETS-701B Participant Info'!$F91=4,'VETS-701B Participant Info'!$A91,\"  \")","v":"  "},{"$f":"IF('VETS-701B Participant Info'!$F91=4,'VETS-701B Participant Info'!$B91,\"  \")","v":"  "},{"$nulls":4},{"v":0,"d":"$0.00"},{"$nulls":3},{"v":0,"d":"$0.00"},0,{"v":0,"d":"$0.00"},{"$nulls":91},2]
[{"$f":"IF('VETS-701B Participant Info'!$F92=4,'VETS-701B Participant Info'!$A92,\"  \")","v":"  "},{"$f":"IF('VETS-701B Participant Info'!$F92=4,'VETS-701B Participant Info'!$B92,\"  \")","v":"  "},{"$nulls":4},{"v":0,"d":"$0.00"},{"$nulls":3},{"v":0,"d":"$0.00"},0,{"v":0,"d":"$0.00"},{"$nulls":91},2]
[{"$f":"IF('VETS-701B Participant Info'!$F93=4,'VETS-701B Participant Info'!$A93,\"  \")","v":"  "},{"$f":"IF('VETS-701B Participant Info'!$F93=4,'VETS-701B Participant Info'!$B93,\"  \")","v":"  "},{"$nulls":4},{"v":0,"d":"$0.00"},{"$nulls":3},{"v":0,"d":"$0.00"},0,{"v":0,"d":"$0.00"},{"$nulls":91},2]
[{"$f":"IF('VETS-701B Participant Info'!$F94=4,'VETS-701B Participant Info'!$A94,\"  \")","v":"  "},{"$f":"IF('VETS-701B Participant Info'!$F94=4,'VETS-701B Participant Info'!$B94,\"  \")","v":"  "},{"$nulls":4},{"v":0,"d":"$0.00"},{"$nulls":3},{"v":0,"d":"$0.00"},0,{"v":0,"d":"$0.00"},{"$nulls":91},2]
[{"$f":"IF('VETS-701B Participant Info'!$F95=4,'VETS-701B Participant Info'!$A95,\"  \")","v":"  "},{"$f":"IF('VETS-701B Participant Info'!$F95=4,'VETS-701B Participant Info'!$B95,\"  \")","v":"  "},{"$nulls":4},{"v":0,"d":"$0.00"},{"$nulls":3},{"v":0,"d":"$0.00"},0,{"v":0,"d":"$0.00"},{"$nulls":91},2]
[{"$f":"IF('VETS-701B Participant Info'!$F96=4,'VETS-701B Participant Info'!$A96,\"  \")","v":"  "},{"$f":"IF('VETS-701B Participant Info'!$F96=4,'VETS-701B Participant Info'!$B96,\"  \")","v":"  "},{"$nulls":4},{"v":0,"d":"$0.00"},{"$nulls":3},{"v":0,"d":"$0.00"},0,{"v":0,"d":"$0.00"},{"$nulls":91},2]
[{"$f":"IF('VETS-701B Participant Info'!$F97=4,'VETS-701B Participant Info'!$A97,\"  \")","v":"  "},{"$f":"IF('VETS-701B Participant Info'!$F97=4,'VETS-701B Participant Info'!$B97,\"  \")","v":"  "},{"$nulls":4},{"v":0,"d":"$0.00"},{"$nulls":3},{"v":0,"d":"$0.00"},0,{"v":0,"d":"$0.00"},{"$nulls":91},2]
[{"$f":"IF('VETS-701B Participant Info'!$F98=4,'VETS-701B Participant Info'!$A98,\"  \")","v":"  "},{"$f":"IF('VETS-701B Participant Info'!$F98=4,'VETS-701B Participant Info'!$B98,\"  \")","v":"  "},{"$nulls":4},{"v":0,"d":"$0.00"},{"$nulls":3},{"v":0,"d":"$0.00"},0,{"v":0,"d":"$0.00"},{"$nulls":91},2]
[{"$f":"IF('VETS-701B Participant Info'!$F99=4,'VETS-701B Participant Info'!$A99,\"  \")","v":"  "},{"$f":"IF('VETS-701B Participant Info'!$F99=4,'VETS-701B Participant Info'!$B99,\"  \")","v":"  "},{"$nulls":4},{"v":0,"d":"$0.00"},{"$nulls":3},{"v":0,"d":"$0.00"},0,{"v":0,"d":"$0.00"},{"$nulls":91},2]
[{"$f":"IF('VETS-701B Participant Info'!$F100=4,'VETS-701B Participant Info'!$A100,\"  \")","v":"  "},{"$f":"IF('VETS-701B Participant Info'!$F100=4,'VETS-701B Participant Info'!$B100,\"  \")","v":"  "},{"$nulls":4},{"v":0,"d":"$0.00"},{"$nulls":3},{"v":0,"d":"$0.00"},0,{"v":0,"d":"$0.00"},{"$nulls":91},2]
[{"$f":"IF('VETS-701B Participant Info'!$F101=4,'VETS-701B Participant Info'!$A101,\"  \")","v":"  "},{"$f":"IF('VETS-701B Participant Info'!$F101=4,'VETS-701B Participant Info'!$B101,\"  \")","v":"  "},{"$nulls":4},{"v":0,"d":"$0.00"},{"$nulls":3},{"v":0,"d":"$0.00"},0,{"v":0,"d":"$0.00"},{"$nulls":91},2]
[{"$f":"IF('VETS-701B Participant Info'!$F102=4,'VETS-701B Participant Info'!$A102,\"  \")","v":"  "},{"$f":"IF('VETS-701B Participant Info'!$F102=4,'VETS-701B Participant Info'!$B102,\"  \")","v":"  "},{"$nulls":4},{"v":0,"d":"$0.00"},{"$nulls":3},{"v":0,"d":"$0.00"},0,{"v":0,"d":"$0.00"},{"$nulls":91},2]
[{"$f":"IF('VETS-701B Participant Info'!$F103=4,'VETS-701B Participant Info'!$A103,\"  \")","v":"  "},{"$f":"IF('VETS-701B Participant Info'!$F103=4,'VETS-701B Participant Info'!$B103,\"  \")","v":"  "},{"$nulls":4},{"v":0,"d":"$0.00"},{"$nulls":3},{"v":0,"d":"$0.00"},0,{"v":0,"d":"$0.00"},{"$nulls":91},2]
[{"$f":"IF('VETS-701B Participant Info'!$F104=4,'VETS-701B Participant Info'!$A104,\"  \")","v":"  "},{"$f":"IF('VETS-701B Participant Info'!$F104=4,'VETS-701B Participant Info'!$B104,\"  \")","v":"  "},{"$nulls":4},{"v":0,"d":"$0.00"},{"$nulls":3},{"v":0,"d":"$0.00"},0,{"v":0,"d":"$0.00"},{"$nulls":91},2]
[{"$f":"IF('VETS-701B Participant Info'!$F105=4,'VETS-701B Participant Info'!$A105,\"  \")","v":"  "},{"$f":"IF('VETS-701B Participant Info'!$F105=4,'VETS-701B Participant Info'!$B105,\"  \")","v":"  "},{"$nulls":4},{"v":0,"d":"$0.00"},{"$nulls":3},{"v":0,"d":"$0.00"},0,{"v":0,"d":"$0.00"},{"$nulls":91},2]
[{"$f":"IF('VETS-701B Participant Info'!$F106=4,'VETS-701B Participant Info'!$A106,\"  \")","v":"  "},{"$f":"IF('VETS-701B Participant Info'!$F106=4,'VETS-701B Participant Info'!$B106,\"  \")","v":"  "},{"$nulls":4},{"v":0,"d":"$0.00"},{"$nulls":3},{"v":0,"d":"$0.00"},0,{"v":0,"d":"$0.00"},{"$nulls":91},2]
[{"$f":"IF('VETS-701B Participant Info'!$F107=4,'VETS-701B Participant Info'!$A107,\"  \")","v":"  "},{"$f":"IF('VETS-701B Participant Info'!$F107=4,'VETS-701B Participant Info'!$B107,\"  \")","v":"  "},{"$nulls":4},{"v":0,"d":"$0.00"},{"$nulls":3},{"v":0,"d":"$0.00"},0,{"v":0,"d":"$0.00"},{"$nulls":91},2]
[{"$f":"IF('VETS-701B Participant Info'!$F108=4,'VETS-701B Participant Info'!$A108,\"  \")","v":"  "},{"$f":"IF('VETS-701B Participant Info'!$F108=4,'VETS-701B Participant Info'!$B108,\"  \")","v":"  "},{"$nulls":4},{"v":0,"d":"$0.00"},{"$nulls":3},{"v":0,"d":"$0.00"},0,{"v":0,"d":"$0.00"},{"$nulls":91},2]
[{"$f":"IF('VETS-701B Participant Info'!$F109=4,'VETS-701B Participant Info'!$A109,\"  \")","v":"  "},{"$f":"IF('VETS-701B Participant Info'!$F109=4,'VETS-701B Participant Info'!$B109,\"  \")","v":"  "},{"$nulls":4},{"v":0,"d":"$0.00"},{"$nulls":3},{"v":0,"d":"$0.00"},0,{"v":0,"d":"$0.00"},{"$nulls":91},2]
[{"$f":"IF('VETS-701B Participant Info'!$F110=4,'VETS-701B Participant Info'!$A110,\"  \")","v":"  "},{"$f":"IF('VETS-701B Participant Info'!$F110=4,'VETS-701B Participant Info'!$B110,\"  \")","v":"  "},{"$nulls":4},{"v":0,"d":"$0.00"},{"$nulls":3},{"v":0,"d":"$0.00"},0,{"v":0,"d":"$0.00"},{"$nulls":91},2]
[{"$f":"IF('VETS-701B Participant Info'!$F111=4,'VETS-701B Participant Info'!$A111,\"  \")","v":"  "},{"$f":"IF('VETS-701B Participant Info'!$F111=4,'VETS-701B Participant Info'!$B111,\"  \")","v":"  "},{"$nulls":4},{"v":0,"d":"$0.00"},{"$nulls":3},{"v":0,"d":"$0.00"},0,{"v":0,"d":"$0.00"},{"$nulls":91},2]
[{"$f":"IF('VETS-701B Participant Info'!$F112=4,'VETS-701B Participant Info'!$A112,\"  \")","v":"  "},{"$f":"IF('VETS-701B Participant Info'!$F112=4,'VETS-701B Participant Info'!$B112,\"  \")","v":"  "},{"$nulls":4},{"v":0,"d":"$0.00"},{"$nulls":3},{"v":0,"d":"$0.00"},0,{"v":0,"d":"$0.00"},{"$nulls":91},2]
[{"$f":"IF('VETS-701B Participant Info'!$F113=4,'VETS-701B Participant Info'!$A113,\"  \")","v":"  "},{"$f":"IF('VETS-701B Participant Info'!$F113=4,'VETS-701B Participant Info'!$B113,\"  \")","v":"  "},{"$nulls":4},{"v":0,"d":"$0.00"},{"$nulls":3},{"v":0,"d":"$0.00"},0,{"v":0,"d":"$0.00"},{"$nulls":91},2]
[{"$f":"IF('VETS-701B Participant Info'!$F114=4,'VETS-701B Participant Info'!$A114,\"  \")","v":"  "},{"$f":"IF('VETS-701B Participant Info'!$F114=4,'VETS-701B Participant Info'!$B114,\"  \")","v":"  "},{"$nulls":4},{"v":0,"d":"$0.00"},{"$nulls":3},{"v":0,"d":"$0.00"},0,{"v":0,"d":"$0.00"},{"$nulls":91},2]
[{"$f":"IF('VETS-701B Participant Info'!$F115=4,'VETS-701B Participant Info'!$A115,\"  \")","v":"  "},{"$f":"IF('VETS-701B Participant Info'!$F115=4,'VETS-701B Participant Info'!$B115,\"  \")","v":"  "},{"$nulls":4},{"v":0,"d":"$0.00"},{"$nulls":3},{"v":0,"d":"$0.00"},0,{"v":0,"d":"$0.00"},{"$nulls":91},2]
[{"$f":"IF('VETS-701B Participant Info'!$F116=4,'VETS-701B Participant Info'!$A116,\"  \")","v":"  "},{"$f":"IF('VETS-701B Participant Info'!$F116=4,'VETS-701B Participant Info'!$B116,\"  \")","v":"  "},{"$nulls":4},{"v":0,"d":"$0.00"},{"$nulls":3},{"v":0,"d":"$0.00"},0,{"v":0,"d":"$0.00"},{"$nulls":91},2]
[{"$f":"IF('VETS-701B Participant Info'!$F117=4,'VETS-701B Participant Info'!$A117,\"  \")","v":"  "},{"$f":"IF('VETS-701B Participant Info'!$F117=4,'VETS-701B Participant Info'!$B117,\"  \")","v":"  "},{"$nulls":4},{"v":0,"d":"$0.00"},{"$nulls":3},{"v":0,"d":"$0.00"},0,{"v":0,"d":"$0.00"},{"$nulls":91},2]
[{"$f":"IF('VETS-701B Participant Info'!$F118=4,'VETS-701B Participant Info'!$A118,\"  \")","v":"  "},{"$f":"IF('VETS-701B Participant Info'!$F118=4,'VETS-701B Participant Info'!$B118,\"  \")","v":"  "},{"$nulls":4},{"v":0,"d":"$0.00"},{"$nulls":3},{"v":0,"d":"$0.00"},0,{"v":0,"d":"$0.00"},{"$nulls":91},2]
[{"$f":"IF('VETS-701B Participant Info'!$F119=4,'VETS-701B Participant Info'!$A119,\"  \")","v":"  "},{"$f":"IF('VETS-701B Participant Info'!$F119=4,'VETS-701B Participant Info'!$B119,\"  \")","v":"  "},{"$nulls":4},{"v":0,"d":"$0.00"},{"$nulls":3},{"v":0,"d":"$0.00"},0,{"v":0,"d":"$0.00"},{"$nulls":91},2]
[{"$f":"IF('VETS-701B Participant Info'!$F120=4,'VETS-701B Participant Info'!$A120,\"  \")","v":"  "},{"$f":"IF('VETS-701B Participant Info'!$F120=4,'VETS-701B Participant Info'!$B120,\"  \")","v":"  "},{"$nulls":4},{"v":0,"d":"$0.00"},{"$nulls":3},{"v":0,"d":"$0.00"},0,{"v":0,"d":"$0.00"},{"$nulls":91},2]
[{"$f":"IF('VETS-701B Participant Info'!$F121=4,'VETS-701B Participant Info'!$A121,\"  \")","v":"  "},{"$f":"IF('VETS-701B Participant Info'!$F121=4,'VETS-701B Participant Info'!$B121,\"  \")","v":"  "},{"$nulls":4},{"v":0,"d":"$0.00"},{"$nulls":3},{"v":0,"d":"$0.00"},0,{"v":0,"d":"$0.00"},{"$nulls":91},2]
[{"$f":"IF('VETS-701B Participant Info'!$F122=4,'VETS-701B Participant Info'!$A122,\"  \")","v":"  "},{"$f":"IF('VETS-701B Participant Info'!$F122=4,'VETS-701B Participant Info'!$B122,\"  \")","v":"  "},{"$nulls":4},{"v":0,"d":"$0.00"},{"$nulls":3},{"v":0,"d":"$0.00"},0,{"v":0,"d":"$0.00"},{"$nulls":91},2]
[{"$f":"IF('VETS-701B Participant Info'!$F123=4,'VETS-701B Participant Info'!$A123,\"  \")","v":"  "},{"$f":"IF('VETS-701B Participant Info'!$F123=4,'VETS-701B Participant Info'!$B123,\"  \")","v":"  "},{"$nulls":4},{"v":0,"d":"$0.00"},{"$nulls":3},{"v":0,"d":"$0.00"},0,{"v":0,"d":"$0.00"},{"$nulls":91},2]
[{"$f":"IF('VETS-701B Participant Info'!$F124=4,'VETS-701B Participant Info'!$A124,\"  \")","v":"  "},{"$f":"IF('VETS-701B Participant Info'!$F124=4,'VETS-701B Participant Info'!$B124,\"  \")","v":"  "},{"$nulls":4},{"v":0,"d":"$0.00"},{"$nulls":3},{"v":0,"d":"$0.00"},0,{"v":0,"d":"$0.00"},{"$nulls":91},2]
[{"$f":"IF('VETS-701B Participant Info'!$F125=4,'VETS-701B Participant Info'!$A125,\"  \")","v":"  "},{"$f":"IF('VETS-701B Participant Info'!$F125=4,'VETS-701B Participant Info'!$B125,\"  \")","v":"  "},{"$nulls":4},{"v":0,"d":"$0.00"},{"$nulls":3},{"v":0,"d":"$0.00"},0,{"v":0,"d":"$0.00"},{"$nulls":91},2]
[{"$f":"IF('VETS-701B Participant Info'!$F126=4,'VETS-701B Participant Info'!$A126,\"  \")","v":"  "},{"$f":"IF('VETS-701B Participant Info'!$F126=4,'VETS-701B Participant Info'!$B126,\"  \")","v":"  "},{"$nulls":4},{"v":0,"d":"$0.00"},{"$nulls":3},{"v":0,"d":"$0.00"},0,{"v":0,"d":"$0.00"},{"$nulls":91},2]
[{"$f":"IF('VETS-701B Participant Info'!$F127=4,'VETS-701B Participant Info'!$A127,\"  \")","v":"  "},{"$f":"IF('VETS-701B Participant Info'!$F127=4,'VETS-701B Participant Info'!$B127,\"  \")","v":"  "},{"$nulls":4},{"v":0,"d":"$0.00"},{"$nulls":3},{"v":0,"d":"$0.00"},0,{"v":0,"d":"$0.00"},{"$nulls":91},2]
[{"$f":"IF('VETS-701B Participant Info'!$F128=4,'VETS-701B Participant Info'!$A128,\"  \")","v":"  "},{"$f":"IF('VETS-701B Participant Info'!$F128=4,'VETS-701B Participant Info'!$B128,\"  \")","v":"  "},{"$nulls":4},{"v":0,"d":"$0.00"},{"$nulls":3},{"v":0,"d":"$0.00"},0,{"v":0,"d":"$0.00"},{"$nulls":91},2]
[{"$f":"IF('VETS-701B Participant Info'!$F129=4,'VETS-701B Participant Info'!$A129,\"  \")","v":"  "},{"$f":"IF('VETS-701B Participant Info'!$F129=4,'VETS-701B Participant Info'!$B129,\"  \")","v":"  "},{"$nulls":4},{"v":0,"d":"$0.00"},{"$nulls":3},{"v":0,"d":"$0.00"},0,{"v":0,"d":"$0.00"},{"$nulls":91},2]
[{"$f":"IF('VETS-701B Participant Info'!$F130=4,'VETS-701B Participant Info'!$A130,\"  \")","v":"  "},{"$f":"IF('VETS-701B Participant Info'!$F130=4,'VETS-701B Participant Info'!$B130,\"  \")","v":"  "},{"$nulls":4},{"v":0,"d":"$0.00"},{"$nulls":3},{"v":0,"d":"$0.00"},0,{"v":0,"d":"$0.00"},{"$nulls":91},2]
[{"$f":"IF('VETS-701B Participant Info'!$F131=4,'VETS-701B Participant Info'!$A131,\"  \")","v":"  "},{"$f":"IF('VETS-701B Participant Info'!$F131=4,'VETS-701B Participant Info'!$B131,\"  \")","v":"  "},{"$nulls":4},{"$f":"IF(C134+D134=2,SUM(E134*F134*13),0)","v":{"v":0,"d":"$0.00"}},{"$nulls":3},{"$f":"IF(L134=3,SUM(I134*J134*13),0)","v":{"v":0,"d":"$0.00"}},0,{"v":0,"d":"$0.00"},{"$nulls":91},{"$f":"IF($B134> \"             \",1,2)","v":2}]
[{"$f":"IF('VETS-701B Participant Info'!$F132=4,'VETS-701B Participant Info'!$A132,\"  \")","v":"  "},{"$f":"IF('VETS-701B Participant Info'!$F132=4,'VETS-701B Participant Info'!$B132,\"  \")","v":"  "},{"$nulls":4},{"v":0,"d":"$0.00"},{"$nulls":3},{"v":0,"d":"$0.00"},{"$f":"SUM(H135+D135+C135)","v":0},{"$f":"IF(L135=3,K135+G135,0)","v":{"v":0,"d":"$0.00"}},{"$nulls":91},2]
[{"$f":"IF('VETS-701B Participant Info'!$F133=4,'VETS-701B Participant Info'!$A133,\"  \")","v":"  "},{"$f":"IF('VETS-701B Participant Info'!$F133=4,'VETS-701B Participant Info'!$B133,\"  \")","v":"  "},{"$nulls":4},{"v":0,"d":"$0.00"},{"$nulls":3},{"v":0,"d":"$0.00"},0,{"v":0,"d":"$0.00"},{"$nulls":91},2]
[{"$f":"IF('VETS-701B Participant Info'!$F134=4,'VETS-701B Participant Info'!$A134,\"  \")","v":"  "},{"$f":"IF('VETS-701B Participant Info'!$F134=4,'VETS-701B Participant Info'!$B134,\"  \")","v":"  "},{"$nulls":4},{"v":0,"d":"$0.00"},{"$nulls":3},{"v":0,"d":"$0.00"},0,{"v":0,"d":"$0.00"},{"$nulls":91},2]
[{"$f":"IF('VETS-701B Participant Info'!$F135=4,'VETS-701B Participant Info'!$A135,\"  \")","v":"  "},{"$f":"IF('VETS-701B Participant Info'!$F135=4,'VETS-701B Participant Info'!$B135,\"  \")","v":"  "},{"$nulls":4},{"v":0,"d":"$0.00"},{"$nulls":3},{"v":0,"d":"$0.00"},0,{"v":0,"d":"$0.00"},{"$nulls":91},2]
[{"$f":"IF('VETS-701B Participant Info'!$F136=4,'VETS-701B Participant Info'!$A136,\"  \")","v":"  "},{"$f":"IF('VETS-701B Participant Info'!$F136=4,'VETS-701B Participant Info'!$B136,\"  \")","v":"  "},{"$nulls":4},{"v":0,"d":"$0.00"},{"$nulls":3},{"v":0,"d":"$0.00"},0,{"v":0,"d":"$0.00"},{"$nulls":91},2]
[{"$f":"IF('VETS-701B Participant Info'!$F137=4,'VETS-701B Participant Info'!$A137,\"  \")","v":"  "},{"$f":"IF('VETS-701B Participant Info'!$F137=4,'VETS-701B Participant Info'!$B137,\"  \")","v":"  "},{"$nulls":4},{"v":0,"d":"$0.00"},{"$nulls":3},{"v":0,"d":"$0.00"},0,{"v":0,"d":"$0.00"},{"$nulls":91},2]
[{"$f":"IF('VETS-701B Participant Info'!$F138=4,'VETS-701B Participant Info'!$A138,\"  \")","v":"  "},{"$f":"IF('VETS-701B Participant Info'!$F138=4,'VETS-701B Participant Info'!$B138,\"  \")","v":"  "},{"$nulls":4},{"v":0,"d":"$0.00"},{"$nulls":3},{"v":0,"d":"$0.00"},0,{"v":0,"d":"$0.00"},{"$nulls":91},2]
[{"$f":"IF('VETS-701B Participant Info'!$F139=4,'VETS-701B Participant Info'!$A139,\"  \")","v":"  "},{"$f":"IF('VETS-701B Participant Info'!$F139=4,'VETS-701B Participant Info'!$B139,\"  \")","v":"  "},{"$nulls":4},{"v":0,"d":"$0.00"},{"$nulls":3},{"v":0,"d":"$0.00"},0,{"v":0,"d":"$0.00"},{"$nulls":91},2]
[{"$f":"IF('VETS-701B Participant Info'!$F140=4,'VETS-701B Participant Info'!$A140,\"  \")","v":"  "},{"$f":"IF('VETS-701B Participant Info'!$F140=4,'VETS-701B Participant Info'!$B140,\"  \")","v":"  "},{"$nulls":4},{"v":0,"d":"$0.00"},{"$nulls":3},{"v":0,"d":"$0.00"},0,{"v":0,"d":"$0.00"},{"$nulls":91},2]
[{"$f":"IF('VETS-701B Participant Info'!$F141=4,'VETS-701B Participant Info'!$A141,\"  \")","v":"  "},{"$f":"IF('VETS-701B Participant Info'!$F141=4,'VETS-701B Participant Info'!$B141,\"  \")","v":"  "},{"$nulls":4},{"v":0,"d":"$0.00"},{"$nulls":3},{"v":0,"d":"$0.00"},0,{"v":0,"d":"$0.00"},{"$nulls":91},2]
[{"$f":"IF('VETS-701B Participant Info'!$F142=4,'VETS-701B Participant Info'!$A142,\"  \")","v":"  "},{"$f":"IF('VETS-701B Participant Info'!$F142=4,'VETS-701B Participant Info'!$B142,\"  \")","v":"  "},{"$nulls":4},{"v":0,"d":"$0.00"},{"$nulls":3},{"v":0,"d":"$0.00"},0,{"v":0,"d":"$0.00"},{"$nulls":91},2]
[{"$f":"IF('VETS-701B Participant Info'!$F143=4,'VETS-701B Participant Info'!$A143,\"  \")","v":"  "},{"$f":"IF('VETS-701B Participant Info'!$F143=4,'VETS-701B Participant Info'!$B143,\"  \")","v":"  "},{"$nulls":4},{"v":0,"d":"$0.00"},{"$nulls":3},{"v":0,"d":"$0.00"},0,{"v":0,"d":"$0.00"},{"$nulls":91},2]
[{"$f":"IF('VETS-701B Participant Info'!$F144=4,'VETS-701B Participant Info'!$A144,\"  \")","v":"  "},{"$f":"IF('VETS-701B Participant Info'!$F144=4,'VETS-701B Participant Info'!$B144,\"  \")","v":"  "},{"$nulls":4},{"v":0,"d":"$0.00"},{"$nulls":3},{"v":0,"d":"$0.00"},0,{"v":0,"d":"$0.00"},{"$nulls":91},2]
[{"$f":"IF('VETS-701B Participant Info'!$F145=4,'VETS-701B Participant Info'!$A145,\"  \")","v":"  "},{"$f":"IF('VETS-701B Participant Info'!$F145=4,'VETS-701B Participant Info'!$B145,\"  \")","v":"  "},{"$nulls":4},{"v":0,"d":"$0.00"},{"$nulls":3},{"v":0,"d":"$0.00"},0,{"v":0,"d":"$0.00"},{"$nulls":91},2]
[{"$f":"IF('VETS-701B Participant Info'!$F146=4,'VETS-701B Participant Info'!$A146,\"  \")","v":"  "},{"$f":"IF('VETS-701B Participant Info'!$F146=4,'VETS-701B Participant Info'!$B146,\"  \")","v":"  "},{"$nulls":4},{"v":0,"d":"$0.00"},{"$nulls":3},{"v":0,"d":"$0.00"},0,{"v":0,"d":"$0.00"},{"$nulls":91},2]
[{"$f":"IF('VETS-701B Participant Info'!$F147=4,'VETS-701B Participant Info'!$A147,\"  \")","v":"  "},{"$f":"IF('VETS-701B Participant Info'!$F147=4,'VETS-701B Participant Info'!$B147,\"  \")","v":"  "},{"$nulls":4},{"v":0,"d":"$0.00"},{"$nulls":3},{"v":0,"d":"$0.00"},0,{"v":0,"d":"$0.00"},{"$nulls":91},2]
[{"$f":"IF('VETS-701B Participant Info'!$F148=4,'VETS-701B Participant Info'!$A148,\"  \")","v":"  "},{"$f":"IF('VETS-701B Participant Info'!$F148=4,'VETS-701B Participant Info'!$B148,\"  \")","v":"  "},{"$nulls":4},{"v":0,"d":"$0.00"},{"$nulls":3},{"v":0,"d":"$0.00"},0,{"v":0,"d":"$0.00"},{"$nulls":91},2]
[{"$f":"IF('VETS-701B Participant Info'!$F149=4,'VETS-701B Participant Info'!$A149,\"  \")","v":"  "},{"$f":"IF('VETS-701B Participant Info'!$F149=4,'VETS-701B Participant Info'!$B149,\"  \")","v":"  "},{"$nulls":4},{"v":0,"d":"$0.00"},{"$nulls":3},{"v":0,"d":"$0.00"},0,{"v":0,"d":"$0.00"},{"$nulls":91},2]
[{"$f":"IF('VETS-701B Participant Info'!$F150=4,'VETS-701B Participant Info'!$A150,\"  \")","v":"  "},{"$f":"IF('VETS-701B Participant Info'!$F150=4,'VETS-701B Participant Info'!$B150,\"  \")","v":"  "},{"$nulls":4},{"v":0,"d":"$0.00"},{"$nulls":3},{"v":0,"d":"$0.00"},0,{"v":0,"d":"$0.00"},{"$nulls":91},2]
[{"$f":"IF('VETS-701B Participant Info'!$F151=4,'VETS-701B Participant Info'!$A151,\"  \")","v":"  "},{"$f":"IF('VETS-701B Participant Info'!$F151=4,'VETS-701B Participant Info'!$B151,\"  \")","v":"  "},{"$nulls":4},{"v":0,"d":"$0.00"},{"$nulls":3},{"v":0,"d":"$0.00"},0,{"v":0,"d":"$0.00"},{"$nulls":91},2]
[{"$f":"IF('VETS-701B Participant Info'!$F152=4,'VETS-701B Participant Info'!$A152,\"  \")","v":"  "},{"$f":"IF('VETS-701B Participant Info'!$F152=4,'VETS-701B Participant Info'!$B152,\"  \")","v":"  "},{"$nulls":4},{"v":0,"d":"$0.00"},{"$nulls":3},{"v":0,"d":"$0.00"},0,{"v":0,"d":"$0.00"},{"$nulls":91},2]
[{"$f":"IF('VETS-701B Participant Info'!$F153=4,'VETS-701B Participant Info'!$A153,\"  \")","v":"  "},{"$f":"IF('VETS-701B Participant Info'!$F153=4,'VETS-701B Participant Info'!$B153,\"  \")","v":"  "},{"$nulls":4},{"v":0,"d":"$0.00"},{"$nulls":3},{"v":0,"d":"$0.00"},0,{"v":0,"d":"$0.00"},{"$nulls":91},2]
[{"$f":"IF('VETS-701B Participant Info'!$F154=4,'VETS-701B Participant Info'!$A154,\"  \")","v":"  "},{"$f":"IF('VETS-701B Participant Info'!$F154=4,'VETS-701B Participant Info'!$B154,\"  \")","v":"  "},{"$nulls":4},{"v":0,"d":"$0.00"},{"$nulls":3},{"v":0,"d":"$0.00"},0,{"v":0,"d":"$0.00"},{"$nulls":91},2]
[{"$f":"IF('VETS-701B Participant Info'!$F155=4,'VETS-701B Participant Info'!$A155,\"  \")","v":"  "},{"$f":"IF('VETS-701B Participant Info'!$F155=4,'VETS-701B Participant Info'!$B155,\"  \")","v":"  "},{"$nulls":4},{"v":0,"d":"$0.00"},{"$nulls":3},{"v":0,"d":"$0.00"},0,{"v":0,"d":"$0.00"},{"$nulls":91},2]
[{"$f":"IF('VETS-701B Participant Info'!$F156=4,'VETS-701B Participant Info'!$A156,\"  \")","v":"  "},{"$f":"IF('VETS-701B Participant Info'!$F156=4,'VETS-701B Participant Info'!$B156,\"  \")","v":"  "},{"$nulls":4},{"v":0,"d":"$0.00"},{"$nulls":3},{"v":0,"d":"$0.00"},0,{"v":0,"d":"$0.00"},{"$nulls":91},2]
[{"$f":"IF('VETS-701B Participant Info'!$F157=4,'VETS-701B Participant Info'!$A157,\"  \")","v":"  "},{"$f":"IF('VETS-701B Participant Info'!$F157=4,'VETS-701B Participant Info'!$B157,\"  \")","v":"  "},{"$nulls":4},{"v":0,"d":"$0.00"},{"$nulls":3},{"v":0,"d":"$0.00"},0,{"v":0,"d":"$0.00"},{"$nulls":91},2]
[{"$f":"IF('VETS-701B Participant Info'!$F158=4,'VETS-701B Participant Info'!$A158,\"  \")","v":"  "},{"$f":"IF('VETS-701B Participant Info'!$F158=4,'VETS-701B Participant Info'!$B158,\"  \")","v":"  "},{"$nulls":4},{"v":0,"d":"$0.00"},{"$nulls":3},{"v":0,"d":"$0.00"},0,{"v":0,"d":"$0.00"},{"$nulls":91},2]
[{"$f":"IF('VETS-701B Participant Info'!$F159=4,'VETS-701B Participant Info'!$A159,\"  \")","v":"  "},{"$f":"IF('VETS-701B Participant Info'!$F159=4,'VETS-701B Participant Info'!$B159,\"  \")","v":"  "},{"$nulls":4},{"v":0,"d":"$0.00"},{"$nulls":3},{"v":0,"d":"$0.00"},0,{"v":0,"d":"$0.00"},{"$nulls":91},2]
[{"$f":"IF('VETS-701B Participant Info'!$F160=4,'VETS-701B Participant Info'!$A160,\"  \")","v":"  "},{"$f":"IF('VETS-701B Participant Info'!$F160=4,'VETS-701B Participant Info'!$B160,\"  \")","v":"  "},{"$nulls":4},{"v":0,"d":"$0.00"},{"$nulls":3},{"v":0,"d":"$0.00"},0,{"v":0,"d":"$0.00"},{"$nulls":91},2]
[{"$f":"IF('VETS-701B Participant Info'!$F161=4,'VETS-701B Participant Info'!$A161,\"  \")","v":"  "},{"$f":"IF('VETS-701B Participant Info'!$F161=4,'VETS-701B Participant Info'!$B161,\"  \")","v":"  "},{"$nulls":4},{"v":0,"d":"$0.00"},{"$nulls":3},{"v":0,"d":"$0.00"},0,{"v":0,"d":"$0.00"},{"$nulls":91},2]
[{"$f":"IF('VETS-701B Participant Info'!$F162=4,'VETS-701B Participant Info'!$A162,\"  \")","v":"  "},{"$f":"IF('VETS-701B Participant Info'!$F162=4,'VETS-701B Participant Info'!$B162,\"  \")","v":"  "},{"$nulls":4},{"v":0,"d":"$0.00"},{"$nulls":3},{"v":0,"d":"$0.00"},0,{"v":0,"d":"$0.00"},{"$nulls":91},2]
[{"$f":"IF('VETS-701B Participant Info'!$F163=4,'VETS-701B Participant Info'!$A163,\"  \")","v":"  "},{"$f":"IF('VETS-701B Participant Info'!$F163=4,'VETS-701B Participant Info'!$B163,\"  \")","v":"  "},{"$nulls":4},{"v":0,"d":"$0.00"},{"$nulls":3},{"v":0,"d":"$0.00"},0,{"v":0,"d":"$0.00"},{"$nulls":91},2]
[{"$f":"IF('VETS-701B Participant Info'!$F164=4,'VETS-701B Participant Info'!$A164,\"  \")","v":"  "},{"$f":"IF('VETS-701B Participant Info'!$F164=4,'VETS-701B Participant Info'!$B164,\"  \")","v":"  "},{"$nulls":4},{"v":0,"d":"$0.00"},{"$nulls":3},{"v":0,"d":"$0.00"},0,{"v":0,"d":"$0.00"},{"$nulls":91},2]
[{"$f":"IF('VETS-701B Participant Info'!$F165=4,'VETS-701B Participant Info'!$A165,\"  \")","v":"  "},{"$f":"IF('VETS-701B Participant Info'!$F165=4,'VETS-701B Participant Info'!$B165,\"  \")","v":"  "},{"$nulls":4},{"v":0,"d":"$0.00"},{"$nulls":3},{"v":0,"d":"$0.00"},0,{"v":0,"d":"$0.00"},{"$nulls":91},2]
[{"$f":"IF('VETS-701B Participant Info'!$F166=4,'VETS-701B Participant Info'!$A166,\"  \")","v":"  "},{"$f":"IF('VETS-701B Participant Info'!$F166=4,'VETS-701B Participant Info'!$B166,\"  \")","v":"  "},{"$nulls":4},{"v":0,"d":"$0.00"},{"$nulls":3},{"v":0,"d":"$0.00"},0,{"v":0,"d":"$0.00"},{"$nulls":91},2]
[{"$f":"IF('VETS-701B Participant Info'!$F167=4,'VETS-701B Participant Info'!$A167,\"  \")","v":"  "},{"$f":"IF('VETS-701B Participant Info'!$F167=4,'VETS-701B Participant Info'!$B167,\"  \")","v":"  "},{"$nulls":4},{"v":0,"d":"$0.00"},{"$nulls":3},{"v":0,"d":"$0.00"},0,{"v":0,"d":"$0.00"},{"$nulls":91},2]
[{"$f":"IF('VETS-701B Participant Info'!$F168=4,'VETS-701B Participant Info'!$A168,\"  \")","v":"  "},{"$f":"IF('VETS-701B Participant Info'!$F168=4,'VETS-701B Participant Info'!$B168,\"  \")","v":"  "},{"$nulls":4},{"v":0,"d":"$0.00"},{"$nulls":3},{"v":0,"d":"$0.00"},0,{"v":0,"d":"$0.00"},{"$nulls":91},2]
[{"$f":"IF('VETS-701B Participant Info'!$F169=4,'VETS-701B Participant Info'!$A169,\"  \")","v":"  "},{"$f":"IF('VETS-701B Participant Info'!$F169=4,'VETS-701B Participant Info'!$B169,\"  \")","v":"  "},{"$nulls":4},{"v":0,"d":"$0.00"},{"$nulls":3},{"v":0,"d":"$0.00"},0,{"v":0,"d":"$0.00"},{"$nulls":91},2]
[{"$f":"IF('VETS-701B Participant Info'!$F170=4,'VETS-701B Participant Info'!$A170,\"  \")","v":"  "},{"$f":"IF('VETS-701B Participant Info'!$F170=4,'VETS-701B Participant Info'!$B170,\"  \")","v":"  "},{"$nulls":4},{"v":0,"d":"$0.00"},{"$nulls":3},{"v":0,"d":"$0.00"},0,{"v":0,"d":"$0.00"},{"$nulls":91},2]
[{"$f":"IF('VETS-701B Participant Info'!$F171=4,'VETS-701B Participant Info'!$A171,\"  \")","v":"  "},{"$f":"IF('VETS-701B Participant Info'!$F171=4,'VETS-701B Participant Info'!$B171,\"  \")","v":"  "},{"$nulls":4},{"v":0,"d":"$0.00"},{"$nulls":3},{"v":0,"d":"$0.00"},0,{"v":0,"d":"$0.00"},{"$nulls":91},2]
[{"$f":"IF('VETS-701B Participant Info'!$F172=4,'VETS-701B Participant Info'!$A172,\"  \")","v":"  "},{"$f":"IF('VETS-701B Participant Info'!$F172=4,'VETS-701B Participant Info'!$B172,\"  \")","v":"  "},{"$nulls":4},{"v":0,"d":"$0.00"},{"$nulls":3},{"v":0,"d":"$0.00"},0,{"v":0,"d":"$0.00"},{"$nulls":91},2]
[{"$f":"IF('VETS-701B Participant Info'!$F173=4,'VETS-701B Participant Info'!$A173,\"  \")","v":"  "},{"$f":"IF('VETS-701B Participant Info'!$F173=4,'VETS-701B Participant Info'!$B173,\"  \")","v":"  "},{"$nulls":4},{"v":0,"d":"$0.00"},{"$nulls":3},{"v":0,"d":"$0.00"},0,{"v":0,"d":"$0.00"},{"$nulls":91},2]
[{"$f":"IF('VETS-701B Participant Info'!$F174=4,'VETS-701B Participant Info'!$A174,\"  \")","v":"  "},{"$f":"IF('VETS-701B Participant Info'!$F174=4,'VETS-701B Participant Info'!$B174,\"  \")","v":"  "},{"$nulls":4},{"v":0,"d":"$0.00"},{"$nulls":3},{"v":0,"d":"$0.00"},0,{"v":0,"d":"$0.00"},{"$nulls":91},2]
[{"$f":"IF('VETS-701B Participant Info'!$F175=4,'VETS-701B Participant Info'!$A175,\"  \")","v":"  "},{"$f":"IF('VETS-701B Participant Info'!$F175=4,'VETS-701B Participant Info'!$B175,\"  \")","v":"  "},{"$nulls":4},{"v":0,"d":"$0.00"},{"$nulls":3},{"v":0,"d":"$0.00"},0,{"v":0,"d":"$0.00"},{"$nulls":91},2]
[{"$f":"IF('VETS-701B Participant Info'!$F176=4,'VETS-701B Participant Info'!$A176,\"  \")","v":"  "},{"$f":"IF('VETS-701B Participant Info'!$F176=4,'VETS-701B Participant Info'!$B176,\"  \")","v":"  "},{"$nulls":4},{"v":0,"d":"$0.00"},{"$nulls":3},{"v":0,"d":"$0.00"},0,{"v":0,"d":"$0.00"},{"$nulls":91},2]
[{"$f":"IF('VETS-701B Participant Info'!$F177=4,'VETS-701B Participant Info'!$A177,\"  \")","v":"  "},{"$f":"IF('VETS-701B Participant Info'!$F177=4,'VETS-701B Participant Info'!$B177,\"  \")","v":"  "},{"$nulls":4},{"v":0,"d":"$0.00"},{"$nulls":3},{"v":0,"d":"$0.00"},0,{"v":0,"d":"$0.00"},{"$nulls":91},2]
[{"$f":"IF('VETS-701B Participant Info'!$F178=4,'VETS-701B Participant Info'!$A178,\"  \")","v":"  "},{"$f":"IF('VETS-701B Participant Info'!$F178=4,'VETS-701B Participant Info'!$B178,\"  \")","v":"  "},{"$nulls":4},{"v":0,"d":"$0.00"},{"$nulls":3},{"v":0,"d":"$0.00"},0,{"v":0,"d":"$0.00"},{"$nulls":91},2]
[{"$f":"IF('VETS-701B Participant Info'!$F179=4,'VETS-701B Participant Info'!$A179,\"  \")","v":"  "},{"$f":"IF('VETS-701B Participant Info'!$F179=4,'VETS-701B Participant Info'!$B179,\"  \")","v":"  "},{"$nulls":4},{"v":0,"d":"$0.00"},{"$nulls":3},{"v":0,"d":"$0.00"},0,{"v":0,"d":"$0.00"},{"$nulls":91},2]
[{"$f":"IF('VETS-701B Participant Info'!$F180=4,'VETS-701B Participant Info'!$A180,\"  \")","v":"  "},{"$f":"IF('VETS-701B Participant Info'!$F180=4,'VETS-701B Participant Info'!$B180,\"  \")","v":"  "},{"$nulls":4},{"v":0,"d":"$0.00"},{"$nulls":3},{"v":0,"d":"$0.00"},0,{"v":0,"d":"$0.00"},{"$nulls":91},2]
[{"$f":"IF('VETS-701B Participant Info'!$F181=4,'VETS-701B Participant Info'!$A181,\"  \")","v":"  "},{"$f":"IF('VETS-701B Participant Info'!$F181=4,'VETS-701B Participant Info'!$B181,\"  \")","v":"  "},{"$nulls":4},{"v":0,"d":"$0.00"},{"$nulls":3},{"v":0,"d":"$0.00"},0,{"v":0,"d":"$0.00"},{"$nulls":91},2]
[{"$f":"IF('VETS-701B Participant Info'!$F182=4,'VETS-701B Participant Info'!$A182,\"  \")","v":"  "},{"$f":"IF('VETS-701B Participant Info'!$F182=4,'VETS-701B Participant Info'!$B182,\"  \")","v":"  "},{"$nulls":4},{"v":0,"d":"$0.00"},{"$nulls":3},{"v":0,"d":"$0.00"},0,{"v":0,"d":"$0.00"},{"$nulls":91},2]
[{"$f":"IF('VETS-701B Participant Info'!$F183=4,'VETS-701B Participant Info'!$A183,\"  \")","v":"  "},{"$f":"IF('VETS-701B Participant Info'!$F183=4,'VETS-701B Participant Info'!$B183,\"  \")","v":"  "},{"$nulls":4},{"v":0,"d":"$0.00"},{"$nulls":3},{"v":0,"d":"$0.00"},0,{"v":0,"d":"$0.00"},{"$nulls":91},2]
[{"$f":"IF('VETS-701B Participant Info'!$F184=4,'VETS-701B Participant Info'!$A184,\"  \")","v":"  "},{"$f":"IF('VETS-701B Participant Info'!$F184=4,'VETS-701B Participant Info'!$B184,\"  \")","v":"  "},{"$nulls":4},{"v":0,"d":"$0.00"},{"$nulls":3},{"v":0,"d":"$0.00"},0,{"v":0,"d":"$0.00"},{"$nulls":91},2]
[{"$f":"IF('VETS-701B Participant Info'!$F185=4,'VETS-701B Participant Info'!$A185,\"  \")","v":"  "},{"$f":"IF('VETS-701B Participant Info'!$F185=4,'VETS-701B Participant Info'!$B185,\"  \")","v":"  "},{"$nulls":4},{"v":0,"d":"$0.00"},{"$nulls":3},{"v":0,"d":"$0.00"},0,{"v":0,"d":"$0.00"},{"$nulls":91},2]
[{"$f":"IF('VETS-701B Participant Info'!$F186=4,'VETS-701B Participant Info'!$A186,\"  \")","v":"  "},{"$f":"IF('VETS-701B Participant Info'!$F186=4,'VETS-701B Participant Info'!$B186,\"  \")","v":"  "},{"$nulls":4},{"v":0,"d":"$0.00"},{"$nulls":3},{"v":0,"d":"$0.00"},0,{"v":0,"d":"$0.00"},{"$nulls":91},2]
[{"$f":"IF('VETS-701B Participant Info'!$F187=4,'VETS-701B Participant Info'!$A187,\"  \")","v":"  "},{"$f":"IF('VETS-701B Participant Info'!$F187=4,'VETS-701B Participant Info'!$B187,\"  \")","v":"  "},{"$nulls":4},{"v":0,"d":"$0.00"},{"$nulls":3},{"v":0,"d":"$0.00"},0,{"v":0,"d":"$0.00"},{"$nulls":91},2]
[{"$f":"IF('VETS-701B Participant Info'!$F188=4,'VETS-701B Participant Info'!$A188,\"  \")","v":"  "},{"$f":"IF('VETS-701B Participant Info'!$F188=4,'VETS-701B Participant Info'!$B188,\"  \")","v":"  "},{"$nulls":4},{"v":0,"d":"$0.00"},{"$nulls":3},{"v":0,"d":"$0.00"},0,{"v":0,"d":"$0.00"},{"$nulls":91},2]
[{"$f":"IF('VETS-701B Participant Info'!$F189=4,'VETS-701B Participant Info'!$A189,\"  \")","v":"  "},{"$f":"IF('VETS-701B Participant Info'!$F189=4,'VETS-701B Participant Info'!$B189,\"  \")","v":"  "},{"$nulls":4},{"v":0,"d":"$0.00"},{"$nulls":3},{"v":0,"d":"$0.00"},0,{"v":0,"d":"$0.00"},{"$nulls":91},2]
[{"$f":"IF('VETS-701B Participant Info'!$F190=4,'VETS-701B Participant Info'!$A190,\"  \")","v":"  "},{"$f":"IF('VETS-701B Participant Info'!$F190=4,'VETS-701B Participant Info'!$B190,\"  \")","v":"  "},{"$nulls":4},{"v":0,"d":"$0.00"},{"$nulls":3},{"v":0,"d":"$0.00"},0,{"v":0,"d":"$0.00"},{"$nulls":91},2]
[{"$f":"IF('VETS-701B Participant Info'!$F191=4,'VETS-701B Participant Info'!$A191,\"  \")","v":"  "},{"$f":"IF('VETS-701B Participant Info'!$F191=4,'VETS-701B Participant Info'!$B191,\"  \")","v":"  "},{"$nulls":4},{"v":0,"d":"$0.00"},{"$nulls":3},{"v":0,"d":"$0.00"},0,{"v":0,"d":"$0.00"},{"$nulls":91},2]
[{"$f":"IF('VETS-701B Participant Info'!$F192=4,'VETS-701B Participant Info'!$A192,\"  \")","v":"  "},{"$f":"IF('VETS-701B Participant Info'!$F192=4,'VETS-701B Participant Info'!$B192,\"  \")","v":"  "},{"$nulls":4},{"v":0,"d":"$0.00"},{"$nulls":3},{"v":0,"d":"$0.00"},0,{"v":0,"d":"$0.00"},{"$nulls":91},2]
[{"$f":"IF('VETS-701B Participant Info'!$F193=4,'VETS-701B Participant Info'!$A193,\"  \")","v":"  "},{"$f":"IF('VETS-701B Participant Info'!$F193=4,'VETS-701B Participant Info'!$B193,\"  \")","v":"  "},{"$nulls":4},{"v":0,"d":"$0.00"},{"$nulls":3},{"v":0,"d":"$0.00"},0,{"v":0,"d":"$0.00"},{"$nulls":91},2]
[{"$f":"IF('VETS-701B Participant Info'!$F194=4,'VETS-701B Participant Info'!$A194,\"  \")","v":"  "},{"$f":"IF('VETS-701B Participant Info'!$F194=4,'VETS-701B Participant Info'!$B194,\"  \")","v":"  "},{"$nulls":4},{"v":0,"d":"$0.00"},{"$nulls":3},{"v":0,"d":"$0.00"},0,{"v":0,"d":"$0.00"},{"$nulls":91},2]
[{"$f":"IF('VETS-701B Participant Info'!$F195=4,'VETS-701B Participant Info'!$A195,\"  \")","v":"  "},{"$f":"IF('VETS-701B Participant Info'!$F195=4,'VETS-701B Participant Info'!$B195,\"  \")","v":"  "},{"$nulls":4},{"$f":"IF(C198+D198=2,SUM(E198*F198*13),0)","v":{"v":0,"d":"$0.00"}},{"$nulls":3},{"$f":"IF(L198=3,SUM(I198*J198*13),0)","v":{"v":0,"d":"$0.00"}},0,{"v":0,"d":"$0.00"},{"$nulls":91},{"$f":"IF($B198> \"             \",1,2)","v":2}]
[{"$f":"IF('VETS-701B Participant Info'!$F196=4,'VETS-701B Participant Info'!$A196,\"  \")","v":"  "},{"$f":"IF('VETS-701B Participant Info'!$F196=4,'VETS-701B Participant Info'!$B196,\"  \")","v":"  "},{"$nulls":4},{"v":0,"d":"$0.00"},{"$nulls":3},{"v":0,"d":"$0.00"},{"$f":"SUM(H199+D199+C199)","v":0},{"$f":"IF(L199=3,K199+G199,0)","v":{"v":0,"d":"$0.00"}},{"$nulls":91},2]
[{"$f":"IF('VETS-701B Participant Info'!$F197=4,'VETS-701B Participant Info'!$A197,\"  \")","v":"  "},{"$f":"IF('VETS-701B Participant Info'!$F197=4,'VETS-701B Participant Info'!$B197,\"  \")","v":"  "},{"$nulls":4},{"v":0,"d":"$0.00"},{"$nulls":3},{"v":0,"d":"$0.00"},0,{"v":0,"d":"$0.00"},{"$nulls":91},2]
[{"$f":"IF('VETS-701B Participant Info'!$F198=4,'VETS-701B Participant Info'!$A198,\"  \")","v":"  "},{"$f":"IF('VETS-701B Participant Info'!$F198=4,'VETS-701B Participant Info'!$B198,\"  \")","v":"  "},{"$nulls":4},{"v":0,"d":"$0.00"},{"$nulls":3},{"v":0,"d":"$0.00"},0,{"v":0,"d":"$0.00"},{"$nulls":91},2]
[{"$f":"IF('VETS-701B Participant Info'!$F199=4,'VETS-701B Participant Info'!$A199,\"  \")","v":"  "},{"$f":"IF('VETS-701B Participant Info'!$F199=4,'VETS-701B Participant Info'!$B199,\"  \")","v":"  "},{"$nulls":4},{"v":0,"d":"$0.00"},{"$nulls":3},{"v":0,"d":"$0.00"},0,{"v":0,"d":"$0.00"},{"$nulls":91},2]
[{"$f":"IF('VETS-701B Participant Info'!$F200=4,'VETS-701B Participant Info'!$A200,\"  \")","v":"  "},{"$f":"IF('VETS-701B Participant Info'!$F200=4,'VETS-701B Participant Info'!$B200,\"  \")","v":"  "},{"$nulls":4},{"v":0,"d":"$0.00"},{"$nulls":3},{"v":0,"d":"$0.00"},0,{"v":0,"d":"$0.00"},{"$nulls":91},2]
[{"$f":"IF('VETS-701B Participant Info'!$F201=4,'VETS-701B Participant Info'!$A201,\"  \")","v":"  "},{"$f":"IF('VETS-701B Participant Info'!$F201=4,'VETS-701B Participant Info'!$B201,\"  \")","v":"  "},{"$nulls":4},{"v":0,"d":"$0.00"},{"$nulls":3},{"v":0,"d":"$0.00"},0,{"v":0,"d":"$0.00"},{"$nulls":91},2]
[{"$f":"IF('VETS-701B Participant Info'!$F202=4,'VETS-701B Participant Info'!$A202,\"  \")","v":"  "},{"$f":"IF('VETS-701B Participant Info'!$F202=4,'VETS-701B Participant Info'!$B202,\"  \")","v":"  "},{"$nulls":4},{"v":0,"d":"$0.00"},{"$nulls":3},{"v":0,"d":"$0.00"},0,{"$f":"IF(L205=3,K205+G205,0)","v":{"v":0,"d":"$0.00"}},{"$nulls":91},2]
[{"$f":"IF('VETS-701B Participant Info'!$F203=4,'VETS-701B Participant Info'!$A203,\"  \")","v":"  "},{"$f":"IF('VETS-701B Participant Info'!$F203=4,'VETS-701B Participant Info'!$B203,\"  \")","v":"  "},{"$nulls":4},{"v":0,"d":"$0.00"},{"$nulls":3},{"v":0,"d":"$0.00"},0,{"v":0,"d":"$0.00"},{"$nulls":91},2]
[{"$f":"IF('VETS-701B Participant Info'!$F204=4,'VETS-701B Participant Info'!$A204,\"  \")","v":"  "},{"$f":"IF('VETS-701B Participant Info'!$F204=4,'VETS-701B Participant Info'!$B204,\"  \")","v":"  "},{"$nulls":4},{"v":0,"d":"$0.00"},{"$nulls":3},{"v":0,"d":"$0.00"},0,{"v":0,"d":"$0.00"},{"$nulls":91},2]
[{"$f":"IF('VETS-701B Participant Info'!$F205=4,'VETS-701B Participant Info'!$A205,\"  \")","v":"  "},{"$f":"IF('VETS-701B Participant Info'!$F205=4,'VETS-701B Participant Info'!$B205,\"  \")","v":"  "},{"$nulls":4},{"v":0,"d":"$0.00"},{"$nulls":3},{"v":0,"d":"$0.00"},0,{"v":0,"d":"$0.00"},{"$nulls":91},2]
[{"$f":"IF('VETS-701B Participant Info'!$F206=4,'VETS-701B Participant Info'!$A206,\"  \")","v":"  "},{"$f":"IF('VETS-701B Participant Info'!$F206=4,'VETS-701B Participant Info'!$B206,\"  \")","v":"  "},{"$nulls":4},{"v":0,"d":"$0.00"},{"$nulls":3},{"v":0,"d":"$0.00"},0,{"v":0,"d":"$0.00"},{"$nulls":91},2]
[{"$f":"IF('VETS-701B Participant Info'!$F207=4,'VETS-701B Participant Info'!$A207,\"  \")","v":"  "},{"$f":"IF('VETS-701B Participant Info'!$F207=4,'VETS-701B Participant Info'!$B207,\"  \")","v":"  "},{"$nulls":4},{"v":0,"d":"$0.00"},{"$nulls":3},{"v":0,"d":"$0.00"},0,{"v":0,"d":"$0.00"},{"$nulls":91},2]
[{"$f":"IF('VETS-701B Participant Info'!$F208=4,'VETS-701B Participant Info'!$A208,\"  \")","v":"  "},{"$f":"IF('VETS-701B Participant Info'!$F208=4,'VETS-701B Participant Info'!$B208,\"  \")","v":"  "},{"$nulls":4},{"v":0,"d":"$0.00"},{"$nulls":3},{"v":0,"d":"$0.00"},0,{"v":0,"d":"$0.00"},{"$nulls":91},2]
[{"$f":"IF('VETS-701B Participant Info'!$F209=4,'VETS-701B Participant Info'!$A209,\"  \")","v":"  "},{"$f":"IF('VETS-701B Participant Info'!$F209=4,'VETS-701B Participant Info'!$B209,\"  \")","v":"  "},{"$nulls":4},{"v":0,"d":"$0.00"},{"$nulls":3},{"v":0,"d":"$0.00"},0,{"v":0,"d":"$0.00"},{"$nulls":91},2]
[{"$f":"IF('VETS-701B Participant Info'!$F210=4,'VETS-701B Participant Info'!$A210,\"  \")","v":"  "},{"$f":"IF('VETS-701B Participant Info'!$F210=4,'VETS-701B Participant Info'!$B210,\"  \")","v":"  "},{"$nulls":4},{"v":0,"d":"$0.00"},{"$nulls":3},{"v":0,"d":"$0.00"},0,{"v":0,"d":"$0.00"},{"$nulls":91},2]
[{"$f":"IF('VETS-701B Participant Info'!$F211=4,'VETS-701B Participant Info'!$A211,\"  \")","v":"  "},{"$f":"IF('VETS-701B Participant Info'!$F211=4,'VETS-701B Participant Info'!$B211,\"  \")","v":"  "},{"$nulls":4},{"v":0,"d":"$0.00"},{"$nulls":3},{"v":0,"d":"$0.00"},0,{"v":0,"d":"$0.00"},{"$nulls":91},2]
[{"$f":"IF('VETS-701B Participant Info'!$F212=4,'VETS-701B Participant Info'!$A212,\"  \")","v":"  "},{"$f":"IF('VETS-701B Participant Info'!$F212=4,'VETS-701B Participant Info'!$B212,\"  \")","v":"  "},{"$nulls":4},{"v":0,"d":"$0.00"},{"$nulls":3},{"v":0,"d":"$0.00"},0,{"v":0,"d":"$0.00"},{"$nulls":91},2]
[{"$f":"IF('VETS-701B Participant Info'!$F213=4,'VETS-701B Participant Info'!$A213,\"  \")","v":"  "},{"$f":"IF('VETS-701B Participant Info'!$F213=4,'VETS-701B Participant Info'!$B213,\"  \")","v":"  "},{"$nulls":4},{"v":0,"d":"$0.00"},{"$nulls":3},{"v":0,"d":"$0.00"},0,{"v":0,"d":"$0.00"},{"$nulls":91},2]
[{"$f":"IF('VETS-701B Participant Info'!$F214=4,'VETS-701B Participant Info'!$A214,\"  \")","v":"  "},{"$f":"IF('VETS-701B Participant Info'!$F214=4,'VETS-701B Participant Info'!$B214,\"  \")","v":"  "},{"$nulls":4},{"v":0,"d":"$0.00"},{"$nulls":3},{"v":0,"d":"$0.00"},0,{"v":0,"d":"$0.00"},{"$nulls":91},2]
[{"$f":"IF('VETS-701B Participant Info'!$F215=4,'VETS-701B Participant Info'!$A215,\"  \")","v":"  "},{"$f":"IF('VETS-701B Participant Info'!$F215=4,'VETS-701B Participant Info'!$B215,\"  \")","v":"  "},{"$nulls":4},{"v":0,"d":"$0.00"},{"$nulls":3},{"v":0,"d":"$0.00"},0,{"v":0,"d":"$0.00"},{"$nulls":91},2]
[{"$f":"IF('VETS-701B Participant Info'!$F216=4,'VETS-701B Participant Info'!$A216,\"  \")","v":"  "},{"$f":"IF('VETS-701B Participant Info'!$F216=4,'VETS-701B Participant Info'!$B216,\"  \")","v":"  "},{"$nulls":4},{"v":0,"d":"$0.00"},{"$nulls":3},{"v":0,"d":"$0.00"},0,{"v":0,"d":"$0.00"},{"$nulls":91},2]
[{"$f":"IF('VETS-701B Participant Info'!$F217=4,'VETS-701B Participant Info'!$A217,\"  \")","v":"  "},{"$f":"IF('VETS-701B Participant Info'!$F217=4,'VETS-701B Participant Info'!$B217,\"  \")","v":"  "},{"$nulls":4},{"v":0,"d":"$0.00"},{"$nulls":3},{"v":0,"d":"$0.00"},0,{"v":0,"d":"$0.00"},{"$nulls":91},2]
[{"$f":"IF('VETS-701B Participant Info'!$F218=4,'VETS-701B Participant Info'!$A218,\"  \")","v":"  "},{"$f":"IF('VETS-701B Participant Info'!$F218=4,'VETS-701B Participant Info'!$B218,\"  \")","v":"  "},{"$nulls":4},{"v":0,"d":"$0.00"},{"$nulls":3},{"v":0,"d":"$0.00"},0,{"v":0,"d":"$0.00"},{"$nulls":91},2]
[{"$f":"IF('VETS-701B Participant Info'!$F219=4,'VETS-701B Participant Info'!$A219,\"  \")","v":"  "},{"$f":"IF('VETS-701B Participant Info'!$F219=4,'VETS-701B Participant Info'!$B219,\"  \")","v":"  "},{"$nulls":4},{"v":0,"d":"$0.00"},{"$nulls":3},{"v":0,"d":"$0.00"},0,{"v":0,"d":"$0.00"},{"$nulls":91},2]
[{"$f":"IF('VETS-701B Participant Info'!$F220=4,'VETS-701B Participant Info'!$A220,\"  \")","v":"  "},{"$f":"IF('VETS-701B Participant Info'!$F220=4,'VETS-701B Participant Info'!$B220,\"  \")","v":"  "},{"$nulls":4},{"v":0,"d":"$0.00"},{"$nulls":3},{"v":0,"d":"$0.00"},0,{"v":0,"d":"$0.00"},{"$nulls":91},2]
[{"$f":"IF('VETS-701B Participant Info'!$F221=4,'VETS-701B Participant Info'!$A221,\"  \")","v":"  "},{"$f":"IF('VETS-701B Participant Info'!$F221=4,'VETS-701B Participant Info'!$B221,\"  \")","v":"  "},{"$nulls":4},{"v":0,"d":"$0.00"},{"$nulls":3},{"v":0,"d":"$0.00"},0,{"v":0,"d":"$0.00"},{"$nulls":91},2]
[{"$f":"IF('VETS-701B Participant Info'!$F222=4,'VETS-701B Participant Info'!$A222,\"  \")","v":"  "},{"$f":"IF('VETS-701B Participant Info'!$F222=4,'VETS-701B Participant Info'!$B222,\"  \")","v":"  "},{"$nulls":4},{"v":0,"d":"$0.00"},{"$nulls":3},{"v":0,"d":"$0.00"},0,{"v":0,"d":"$0.00"},{"$nulls":91},2]
[{"$f":"IF('VETS-701B Participant Info'!$F223=4,'VETS-701B Participant Info'!$A223,\"  \")","v":"  "},{"$f":"IF('VETS-701B Participant Info'!$F223=4,'VETS-701B Participant Info'!$B223,\"  \")","v":"  "},{"$nulls":4},{"v":0,"d":"$0.00"},{"$nulls":3},{"v":0,"d":"$0.00"},0,{"v":0,"d":"$0.00"},{"$nulls":91},2]
[{"$f":"IF('VETS-701B Participant Info'!$F224=4,'VETS-701B Participant Info'!$A224,\"  \")","v":"  "},{"$f":"IF('VETS-701B Participant Info'!$F224=4,'VETS-701B Participant Info'!$B224,\"  \")","v":"  "},{"$nulls":4},{"v":0,"d":"$0.00"},{"$nulls":3},{"v":0,"d":"$0.00"},0,{"v":0,"d":"$0.00"},{"$nulls":91},2]
[{"$f":"IF('VETS-701B Participant Info'!$F225=4,'VETS-701B Participant Info'!$A225,\"  \")","v":"  "},{"$f":"IF('VETS-701B Participant Info'!$F225=4,'VETS-701B Participant Info'!$B225,\"  \")","v":"  "},{"$nulls":4},{"v":0,"d":"$0.00"},{"$nulls":3},{"v":0,"d":"$0.00"},0,{"v":0,"d":"$0.00"},{"$nulls":91},2]
[{"$f":"IF('VETS-701B Participant Info'!$F226=4,'VETS-701B Participant Info'!$A226,\"  \")","v":"  "},{"$f":"IF('VETS-701B Participant Info'!$F226=4,'VETS-701B Participant Info'!$B226,\"  \")","v":"  "},{"$nulls":4},{"v":0,"d":"$0.00"},{"$nulls":3},{"v":0,"d":"$0.00"},0,{"v":0,"d":"$0.00"},{"$nulls":91},2]
[{"$f":"IF('VETS-701B Participant Info'!$F227=4,'VETS-701B Participant Info'!$A227,\"  \")","v":"  "},{"$f":"IF('VETS-701B Participant Info'!$F227=4,'VETS-701B Participant Info'!$B227,\"  \")","v":"  "},{"$nulls":4},{"v":0,"d":"$0.00"},{"$nulls":3},{"v":0,"d":"$0.00"},0,{"v":0,"d":"$0.00"},{"$nulls":91},2]
[{"$f":"IF('VETS-701B Participant Info'!$F228=4,'VETS-701B Participant Info'!$A228,\"  \")","v":"  "},{"$f":"IF('VETS-701B Participant Info'!$F228=4,'VETS-701B Participant Info'!$B228,\"  \")","v":"  "},{"$nulls":4},{"v":0,"d":"$0.00"},{"$nulls":3},{"v":0,"d":"$0.00"},0,{"v":0,"d":"$0.00"},{"$nulls":91},2]
[{"$f":"IF('VETS-701B Participant Info'!$F229=4,'VETS-701B Participant Info'!$A229,\"  \")","v":"  "},{"$f":"IF('VETS-701B Participant Info'!$F229=4,'VETS-701B Participant Info'!$B229,\"  \")","v":"  "},{"$nulls":4},{"v":0,"d":"$0.00"},{"$nulls":3},{"v":0,"d":"$0.00"},0,{"v":0,"d":"$0.00"},{"$nulls":91},2]
[{"$f":"IF('VETS-701B Participant Info'!$F230=4,'VETS-701B Participant Info'!$A230,\"  \")","v":"  "},{"$f":"IF('VETS-701B Participant Info'!$F230=4,'VETS-701B Participant Info'!$B230,\"  \")","v":"  "},{"$nulls":4},{"v":0,"d":"$0.00"},{"$nulls":3},{"v":0,"d":"$0.00"},0,{"v":0,"d":"$0.00"},{"$nulls":91},2]
[{"$f":"IF('VETS-701B Participant Info'!$F231=4,'VETS-701B Participant Info'!$A231,\"  \")","v":"  "},{"$f":"IF('VETS-701B Participant Info'!$F231=4,'VETS-701B Participant Info'!$B231,\"  \")","v":"  "},{"$nulls":4},{"v":0,"d":"$0.00"},{"$nulls":3},{"v":0,"d":"$0.00"},0,{"v":0,"d":"$0.00"},{"$nulls":91},2]
[{"$f":"IF('VETS-701B Participant Info'!$F232=4,'VETS-701B Participant Info'!$A232,\"  \")","v":"  "},{"$f":"IF('VETS-701B Participant Info'!$F232=4,'VETS-701B Participant Info'!$B232,\"  \")","v":"  "},{"$nulls":4},{"v":0,"d":"$0.00"},{"$nulls":3},{"v":0,"d":"$0.00"},0,{"v":0,"d":"$0.00"},{"$nulls":91},2]
[{"$f":"IF('VETS-701B Participant Info'!$F233=4,'VETS-701B Participant Info'!$A233,\"  \")","v":"  "},{"$f":"IF('VETS-701B Participant Info'!$F233=4,'VETS-701B Participant Info'!$B233,\"  \")","v":"  "},{"$nulls":4},{"v":0,"d":"$0.00"},{"$nulls":3},{"v":0,"d":"$0.00"},0,{"v":0,"d":"$0.00"},{"$nulls":91},2]
[{"$f":"IF('VETS-701B Participant Info'!$F234=4,'VETS-701B Participant Info'!$A234,\"  \")","v":"  "},{"$f":"IF('VETS-701B Participant Info'!$F234=4,'VETS-701B Participant Info'!$B234,\"  \")","v":"  "},{"$nulls":4},{"v":0,"d":"$0.00"},{"$nulls":3},{"v":0,"d":"$0.00"},0,{"v":0,"d":"$0.00"},{"$nulls":91},2]
[{"$f":"IF('VETS-701B Participant Info'!$F235=4,'VETS-701B Participant Info'!$A235,\"  \")","v":"  "},{"$f":"IF('VETS-701B Participant Info'!$F235=4,'VETS-701B Participant Info'!$B235,\"  \")","v":"  "},{"$nulls":4},{"v":0,"d":"$0.00"},{"$nulls":3},{"v":0,"d":"$0.00"},0,{"v":0,"d":"$0.00"},{"$nulls":91},2]
[{"$f":"IF('VETS-701B Participant Info'!$F236=4,'VETS-701B Participant Info'!$A236,\"  \")","v":"  "},{"$f":"IF('VETS-701B Participant Info'!$F236=4,'VETS-701B Participant Info'!$B236,\"  \")","v":"  "},{"$nulls":4},{"v":0,"d":"$0.00"},{"$nulls":3},{"v":0,"d":"$0.00"},0,{"v":0,"d":"$0.00"},{"$nulls":91},2]
[{"$f":"IF('VETS-701B Participant Info'!$F237=4,'VETS-701B Participant Info'!$A237,\"  \")","v":"  "},{"$f":"IF('VETS-701B Participant Info'!$F237=4,'VETS-701B Participant Info'!$B237,\"  \")","v":"  "},{"$nulls":4},{"v":0,"d":"$0.00"},{"$nulls":3},{"v":0,"d":"$0.00"},0,{"v":0,"d":"$0.00"},{"$nulls":91},2]
[{"$f":"IF('VETS-701B Participant Info'!$F238=4,'VETS-701B Participant Info'!$A238,\"  \")","v":"  "},{"$f":"IF('VETS-701B Participant Info'!$F238=4,'VETS-701B Participant Info'!$B238,\"  \")","v":"  "},{"$nulls":4},{"v":0,"d":"$0.00"},{"$nulls":3},{"v":0,"d":"$0.00"},0,{"v":0,"d":"$0.00"},{"$nulls":91},2]
[{"$f":"IF('VETS-701B Participant Info'!$F239=4,'VETS-701B Participant Info'!$A239,\"  \")","v":"  "},{"$f":"IF('VETS-701B Participant Info'!$F239=4,'VETS-701B Participant Info'!$B239,\"  \")","v":"  "},{"$nulls":4},{"v":0,"d":"$0.00"},{"$nulls":3},{"v":0,"d":"$0.00"},0,{"v":0,"d":"$0.00"},{"$nulls":91},2]
[{"$f":"IF('VETS-701B Participant Info'!$F240=4,'VETS-701B Participant Info'!$A240,\"  \")","v":"  "},{"$f":"IF('VETS-701B Participant Info'!$F240=4,'VETS-701B Participant Info'!$B240,\"  \")","v":"  "},{"$nulls":4},{"v":0,"d":"$0.00"},{"$nulls":3},{"v":0,"d":"$0.00"},0,{"v":0,"d":"$0.00"},{"$nulls":91},2]
[{"$f":"IF('VETS-701B Participant Info'!$F241=4,'VETS-701B Participant Info'!$A241,\"  \")","v":"  "},{"$f":"IF('VETS-701B Participant Info'!$F241=4,'VETS-701B Participant Info'!$B241,\"  \")","v":"  "},{"$nulls":4},{"v":0,"d":"$0.00"},{"$nulls":3},{"v":0,"d":"$0.00"},0,{"v":0,"d":"$0.00"},{"$nulls":91},2]
[{"$f":"IF('VETS-701B Participant Info'!$F242=4,'VETS-701B Participant Info'!$A242,\"  \")","v":"  "},{"$f":"IF('VETS-701B Participant Info'!$F242=4,'VETS-701B Participant Info'!$B242,\"  \")","v":"  "},{"$nulls":4},{"v":0,"d":"$0.00"},{"$nulls":3},{"v":0,"d":"$0.00"},0,{"v":0,"d":"$0.00"},{"$nulls":91},2]
[{"$f":"IF('VETS-701B Participant Info'!$F243=4,'VETS-701B Participant Info'!$A243,\"  \")","v":"  "},{"$f":"IF('VETS-701B Participant Info'!$F243=4,'VETS-701B Participant Info'!$B243,\"  \")","v":"  "},{"$nulls":4},{"v":0,"d":"$0.00"},{"$nulls":3},{"v":0,"d":"$0.00"},0,{"v":0,"d":"$0.00"},{"$nulls":91},2]
[{"$f":"IF('VETS-701B Participant Info'!$F244=4,'VETS-701B Participant Info'!$A244,\"  \")","v":"  "},{"$f":"IF('VETS-701B Participant Info'!$F244=4,'VETS-701B Participant Info'!$B244,\"  \")","v":"  "},{"$nulls":4},{"v":0,"d":"$0.00"},{"$nulls":3},{"v":0,"d":"$0.00"},0,{"v":0,"d":"$0.00"},{"$nulls":91},2]
[{"$f":"IF('VETS-701B Participant Info'!$F245=4,'VETS-701B Participant Info'!$A245,\"  \")","v":"  "},{"$f":"IF('VETS-701B Participant Info'!$F245=4,'VETS-701B Participant Info'!$B245,\"  \")","v":"  "},{"$nulls":4},{"v":0,"d":"$0.00"},{"$nulls":3},{"v":0,"d":"$0.00"},0,{"v":0,"d":"$0.00"},{"$nulls":91},2]
[{"$f":"IF('VETS-701B Participant Info'!$F246=4,'VETS-701B Participant Info'!$A246,\"  \")","v":"  "},{"$f":"IF('VETS-701B Participant Info'!$F246=4,'VETS-701B Participant Info'!$B246,\"  \")","v":"  "},{"$nulls":4},{"v":0,"d":"$0.00"},{"$nulls":3},{"v":0,"d":"$0.00"},0,{"v":0,"d":"$0.00"},{"$nulls":91},2]
[{"$f":"IF('VETS-701B Participant Info'!$F247=4,'VETS-701B Participant Info'!$A247,\"  \")","v":"  "},{"$f":"IF('VETS-701B Participant Info'!$F247=4,'VETS-701B Participant Info'!$B247,\"  \")","v":"  "},{"$nulls":4},{"v":0,"d":"$0.00"},{"$nulls":3},{"v":0,"d":"$0.00"},0,{"v":0,"d":"$0.00"},{"$nulls":91},2]
[{"$f":"IF('VETS-701B Participant Info'!$F248=4,'VETS-701B Participant Info'!$A248,\"  \")","v":"  "},{"$f":"IF('VETS-701B Participant Info'!$F248=4,'VETS-701B Participant Info'!$B248,\"  \")","v":"  "},{"$nulls":4},{"v":0,"d":"$0.00"},{"$nulls":3},{"v":0,"d":"$0.00"},0,{"v":0,"d":"$0.00"},{"$nulls":91},2]
[{"$f":"IF('VETS-701B Participant Info'!$F249=4,'VETS-701B Participant Info'!$A249,\"  \")","v":"  "},{"$f":"IF('VETS-701B Participant Info'!$F249=4,'VETS-701B Participant Info'!$B249,\"  \")","v":"  "},{"$nulls":4},{"v":0,"d":"$0.00"},{"$nulls":3},{"v":0,"d":"$0.00"},0,{"v":0,"d":"$0.00"},{"$nulls":91},2]
[{"$f":"IF('VETS-701B Participant Info'!$F250=4,'VETS-701B Participant Info'!$A250,\"  \")","v":"  "},{"$f":"IF('VETS-701B Participant Info'!$F250=4,'VETS-701B Participant Info'!$B250,\"  \")","v":"  "},{"$nulls":4},{"v":0,"d":"$0.00"},{"$nulls":3},{"v":0,"d":"$0.00"},0,{"v":0,"d":"$0.00"},{"$nulls":91},2]
[{"$f":"IF('VETS-701B Participant Info'!$F251=4,'VETS-701B Participant Info'!$A251,\"  \")","v":"  "},{"$f":"IF('VETS-701B Participant Info'!$F251=4,'VETS-701B Participant Info'!$B251,\"  \")","v":"  "},{"$nulls":4},{"v":0,"d":"$0.00"},{"$nulls":3},{"v":0,"d":"$0.00"},0,{"v":0,"d":"$0.00"},{"$nulls":91},2]
[{"$f":"IF('VETS-701B Participant Info'!$F252=4,'VETS-701B Participant Info'!$A252,\"  \")","v":"  "},{"$f":"IF('VETS-701B Participant Info'!$F252=4,'VETS-701B Participant Info'!$B252,\"  \")","v":"  "},{"$nulls":4},{"v":0,"d":"$0.00"},{"$nulls":3},{"v":0,"d":"$0.00"},0,{"v":0,"d":"$0.00"},{"$nulls":91},2]
[{"$f":"IF('VETS-701B Participant Info'!$F253=4,'VETS-701B Participant Info'!$A253,\"  \")","v":"  "},{"$f":"IF('VETS-701B Participant Info'!$F253=4,'VETS-701B Participant Info'!$B253,\"  \")","v":"  "},{"$nulls":4},{"v":0,"d":"$0.00"},{"$nulls":3},{"v":0,"d":"$0.00"},0,{"v":0,"d":"$0.00"},{"$nulls":91},2]
[{"$f":"IF('VETS-701B Participant Info'!$F254=4,'VETS-701B Participant Info'!$A254,\"  \")","v":"  "},{"$f":"IF('VETS-701B Participant Info'!$F254=4,'VETS-701B Participant Info'!$B254,\"  \")","v":"  "},{"$nulls":4},{"v":0,"d":"$0.00"},{"$nulls":3},{"v":0,"d":"$0.00"},0,{"v":0,"d":"$0.00"},{"$nulls":91},2]
[{"$f":"IF('VETS-701B Participant Info'!$F255=4,'VETS-701B Participant Info'!$A255,\"  \")","v":"  "},{"$f":"IF('VETS-701B Participant Info'!$F255=4,'VETS-701B Participant Info'!$B255,\"  \")","v":"  "},{"$nulls":4},{"v":0,"d":"$0.00"},{"$nulls":3},{"v":0,"d":"$0.00"},0,{"v":0,"d":"$0.00"},{"$nulls":91},2]
[{"$f":"IF('VETS-701B Participant Info'!$F256=4,'VETS-701B Participant Info'!$A256,\"  \")","v":"  "},{"$f":"IF('VETS-701B Participant Info'!$F256=4,'VETS-701B Participant Info'!$B256,\"  \")","v":"  "},{"$nulls":4},{"v":0,"d":"$0.00"},{"$nulls":3},{"v":0,"d":"$0.00"},0,{"v":0,"d":"$0.00"},{"$nulls":91},2]
[{"$f":"IF('VETS-701B Participant Info'!$F257=4,'VETS-701B Participant Info'!$A257,\"  \")","v":"  "},{"$f":"IF('VETS-701B Participant Info'!$F257=4,'VETS-701B Participant Info'!$B257,\"  \")","v":"  "},{"$nulls":4},{"v":0,"d":"$0.00"},{"$nulls":3},{"v":0,"d":"$0.00"},0,{"v":0,"d":"$0.00"},{"$nulls":91},2]
[{"$f":"IF('VETS-701B Participant Info'!$F258=4,'VETS-701B Participant Info'!$A258,\"  \")","v":"  "},{"$f":"IF('VETS-701B Participant Info'!$F258=4,'VETS-701B Participant Info'!$B258,\"  \")","v":"  "},{"$nulls":4},{"v":0,"d":"$0.00"},{"$nulls":3},{"v":0,"d":"$0.00"},0,{"v":0,"d":"$0.00"},{"$nulls":91},2]
[{"$f":"IF('VETS-701B Participant Info'!$F259=4,'VETS-701B Participant Info'!$A259,\"  \")","v":"  "},{"$f":"IF('VETS-701B Participant Info'!$F259=4,'VETS-701B Participant Info'!$B259,\"  \")","v":"  "},{"$nulls":4},{"$f":"IF(C262+D262=2,SUM(E262*F262*13),0)","v":{"v":0,"d":"$0.00"}},{"$nulls":3},{"$f":"IF(L262=3,SUM(I262*J262*13),0)","v":{"v":0,"d":"$0.00"}},0,{"v":0,"d":"$0.00"},{"$nulls":91},{"$f":"IF($B262> \"             \",1,2)","v":2}]
[{"$f":"IF('VETS-701B Participant Info'!$F260=4,'VETS-701B Participant Info'!$A260,\"  \")","v":"  "},{"$f":"IF('VETS-701B Participant Info'!$F260=4,'VETS-701B Participant Info'!$B260,\"  \")","v":"  "},{"$nulls":4},{"v":0,"d":"$0.00"},{"$nulls":3},{"v":0,"d":"$0.00"},{"$f":"SUM(H263+D263+C263)","v":0},{"v":0,"d":"$0.00"},{"$nulls":91},2]
[{"$f":"IF('VETS-701B Participant Info'!$F261=4,'VETS-701B Participant Info'!$A261,\"  \")","v":"  "},{"$f":"IF('VETS-701B Participant Info'!$F261=4,'VETS-701B Participant Info'!$B261,\"  \")","v":"  "},{"$nulls":4},{"v":0,"d":"$0.00"},{"$nulls":3},{"v":0,"d":"$0.00"},0,{"v":0,"d":"$0.00"},{"$nulls":91},2]
[{"$f":"IF('VETS-701B Participant Info'!$F262=4,'VETS-701B Participant Info'!$A262,\"  \")","v":"  "},{"$f":"IF('VETS-701B Participant Info'!$F262=4,'VETS-701B Participant Info'!$B262,\"  \")","v":"  "},{"$nulls":4},{"v":0,"d":"$0.00"},{"$nulls":3},{"v":0,"d":"$0.00"},0,{"v":0,"d":"$0.00"},{"$nulls":91},2]
[{"$f":"IF('VETS-701B Participant Info'!$F263=4,'VETS-701B Participant Info'!$A263,\"  \")","v":"  "},{"$f":"IF('VETS-701B Participant Info'!$F263=4,'VETS-701B Participant Info'!$B263,\"  \")","v":"  "},{"$nulls":4},{"v":0,"d":"$0.00"},{"$nulls":3},{"v":0,"d":"$0.00"},0,{"v":0,"d":"$0.00"},{"$nulls":91},2]
[{"$f":"IF('VETS-701B Participant Info'!$F264=4,'VETS-701B Participant Info'!$A264,\"  \")","v":"  "},{"$f":"IF('VETS-701B Participant Info'!$F264=4,'VETS-701B Participant Info'!$B264,\"  \")","v":"  "},{"$nulls":4},{"v":0,"d":"$0.00"},{"$nulls":3},{"v":0,"d":"$0.00"},0,{"v":0,"d":"$0.00"},{"$nulls":91},2]
[{"$f":"IF('VETS-701B Participant Info'!$F265=4,'VETS-701B Participant Info'!$A265,\"  \")","v":"  "},{"$f":"IF('VETS-701B Participant Info'!$F265=4,'VETS-701B Participant Info'!$B265,\"  \")","v":"  "},{"$nulls":4},{"v":0,"d":"$0.00"},{"$nulls":3},{"v":0,"d":"$0.00"},0,{"v":0,"d":"$0.00"},{"$nulls":91},2]
[{"$f":"IF('VETS-701B Participant Info'!$F266=4,'VETS-701B Participant Info'!$A266,\"  \")","v":"  "},{"$f":"IF('VETS-701B Participant Info'!$F266=4,'VETS-701B Participant Info'!$B266,\"  \")","v":"  "},{"$nulls":4},{"v":0,"d":"$0.00"},{"$nulls":3},{"v":0,"d":"$0.00"},0,{"$f":"IF(L269=3,K269+G269,0)","v":{"v":0,"d":"$0.00"}},{"$nulls":91},2]
[{"$f":"IF('VETS-701B Participant Info'!$F267=4,'VETS-701B Participant Info'!$A267,\"  \")","v":"  "},{"$f":"IF('VETS-701B Participant Info'!$F267=4,'VETS-701B Participant Info'!$B267,\"  \")","v":"  "},{"$nulls":4},{"v":0,"d":"$0.00"},{"$nulls":3},{"v":0,"d":"$0.00"},0,{"v":0,"d":"$0.00"},{"$nulls":91},2]
[{"$f":"IF('VETS-701B Participant Info'!$F268=4,'VETS-701B Participant Info'!$A268,\"  \")","v":"  "},{"$f":"IF('VETS-701B Participant Info'!$F268=4,'VETS-701B Participant Info'!$B268,\"  \")","v":"  "},{"$nulls":4},{"v":0,"d":"$0.00"},{"$nulls":3},{"v":0,"d":"$0.00"},0,{"v":0,"d":"$0.00"},{"$nulls":91},2]
[{"$f":"IF('VETS-701B Participant Info'!$F269=4,'VETS-701B Participant Info'!$A269,\"  \")","v":"  "},{"$f":"IF('VETS-701B Participant Info'!$F269=4,'VETS-701B Participant Info'!$B269,\"  \")","v":"  "},{"$nulls":4},{"v":0,"d":"$0.00"},{"$nulls":3},{"v":0,"d":"$0.00"},0,{"v":0,"d":"$0.00"},{"$nulls":91},2]
[{"$f":"IF('VETS-701B Participant Info'!$F270=4,'VETS-701B Participant Info'!$A270,\"  \")","v":"  "},{"$f":"IF('VETS-701B Participant Info'!$F270=4,'VETS-701B Participant Info'!$B270,\"  \")","v":"  "},{"$nulls":4},{"v":0,"d":"$0.00"},{"$nulls":3},{"v":0,"d":"$0.00"},0,{"v":0,"d":"$0.00"},{"$nulls":91},2]
[{"$f":"IF('VETS-701B Participant Info'!$F271=4,'VETS-701B Participant Info'!$A271,\"  \")","v":"  "},{"$f":"IF('VETS-701B Participant Info'!$F271=4,'VETS-701B Participant Info'!$B271,\"  \")","v":"  "},{"$nulls":4},{"v":0,"d":"$0.00"},{"$nulls":3},{"v":0,"d":"$0.00"},0,{"v":0,"d":"$0.00"},{"$nulls":91},2]
[{"$f":"IF('VETS-701B Participant Info'!$F272=4,'VETS-701B Participant Info'!$A272,\"  \")","v":"  "},{"$f":"IF('VETS-701B Participant Info'!$F272=4,'VETS-701B Participant Info'!$B272,\"  \")","v":"  "},{"$nulls":4},{"v":0,"d":"$0.00"},{"$nulls":3},{"v":0,"d":"$0.00"},0,{"v":0,"d":"$0.00"},{"$nulls":91},2]
[{"$f":"IF('VETS-701B Participant Info'!$F273=4,'VETS-701B Participant Info'!$A273,\"  \")","v":"  "},{"$f":"IF('VETS-701B Participant Info'!$F273=4,'VETS-701B Participant Info'!$B273,\"  \")","v":"  "},{"$nulls":4},{"v":0,"d":"$0.00"},{"$nulls":3},{"v":0,"d":"$0.00"},0,{"v":0,"d":"$0.00"},{"$nulls":91},2]
[{"$f":"IF('VETS-701B Participant Info'!$F274=4,'VETS-701B Participant Info'!$A274,\"  \")","v":"  "},{"$f":"IF('VETS-701B Participant Info'!$F274=4,'VETS-701B Participant Info'!$B274,\"  \")","v":"  "},{"$nulls":4},{"v":0,"d":"$0.00"},{"$nulls":3},{"v":0,"d":"$0.00"},0,{"v":0,"d":"$0.00"},{"$nulls":91},2]
[{"$f":"IF('VETS-701B Participant Info'!$F275=4,'VETS-701B Participant Info'!$A275,\"  \")","v":"  "},{"$f":"IF('VETS-701B Participant Info'!$F275=4,'VETS-701B Participant Info'!$B275,\"  \")","v":"  "},{"$nulls":4},{"v":0,"d":"$0.00"},{"$nulls":3},{"v":0,"d":"$0.00"},0,{"v":0,"d":"$0.00"},{"$nulls":91},2]
[{"$f":"IF('VETS-701B Participant Info'!$F276=4,'VETS-701B Participant Info'!$A276,\"  \")","v":"  "},{"$f":"IF('VETS-701B Participant Info'!$F276=4,'VETS-701B Participant Info'!$B276,\"  \")","v":"  "},{"$nulls":4},{"v":0,"d":"$0.00"},{"$nulls":3},{"v":0,"d":"$0.00"},0,{"v":0,"d":"$0.00"},{"$nulls":91},2]
[{"$f":"IF('VETS-701B Participant Info'!$F277=4,'VETS-701B Participant Info'!$A277,\"  \")","v":"  "},{"$f":"IF('VETS-701B Participant Info'!$F277=4,'VETS-701B Participant Info'!$B277,\"  \")","v":"  "},{"$nulls":4},{"v":0,"d":"$0.00"},{"$nulls":3},{"v":0,"d":"$0.00"},0,{"v":0,"d":"$0.00"},{"$nulls":91},2]
[{"$f":"IF('VETS-701B Participant Info'!$F278=4,'VETS-701B Participant Info'!$A278,\"  \")","v":"  "},{"$f":"IF('VETS-701B Participant Info'!$F278=4,'VETS-701B Participant Info'!$B278,\"  \")","v":"  "},{"$nulls":4},{"v":0,"d":"$0.00"},{"$nulls":3},{"v":0,"d":"$0.00"},0,{"v":0,"d":"$0.00"},{"$nulls":91},2]
[{"$f":"IF('VETS-701B Participant Info'!$F279=4,'VETS-701B Participant Info'!$A279,\"  \")","v":"  "},{"$f":"IF('VETS-701B Participant Info'!$F279=4,'VETS-701B Participant Info'!$B279,\"  \")","v":"  "},{"$nulls":4},{"v":0,"d":"$0.00"},{"$nulls":3},{"v":0,"d":"$0.00"},0,{"v":0,"d":"$0.00"},{"$nulls":91},2]
[{"$f":"IF('VETS-701B Participant Info'!$F280=4,'VETS-701B Participant Info'!$A280,\"  \")","v":"  "},{"$f":"IF('VETS-701B Participant Info'!$F280=4,'VETS-701B Participant Info'!$B280,\"  \")","v":"  "},{"$nulls":4},{"v":0,"d":"$0.00"},{"$nulls":3},{"v":0,"d":"$0.00"},0,{"v":0,"d":"$0.00"},{"$nulls":91},2]
[{"$f":"IF('VETS-701B Participant Info'!$F281=4,'VETS-701B Participant Info'!$A281,\"  \")","v":"  "},{"$f":"IF('VETS-701B Participant Info'!$F281=4,'VETS-701B Participant Info'!$B281,\"  \")","v":"  "},{"$nulls":4},{"v":0,"d":"$0.00"},{"$nulls":3},{"v":0,"d":"$0.00"},0,{"v":0,"d":"$0.00"},{"$nulls":91},2]
[{"$f":"IF('VETS-701B Participant Info'!$F282=4,'VETS-701B Participant Info'!$A282,\"  \")","v":"  "},{"$f":"IF('VETS-701B Participant Info'!$F282=4,'VETS-701B Participant Info'!$B282,\"  \")","v":"  "},{"$nulls":4},{"v":0,"d":"$0.00"},{"$nulls":3},{"v":0,"d":"$0.00"},0,{"v":0,"d":"$0.00"},{"$nulls":91},2]
[{"$f":"IF('VETS-701B Participant Info'!$F283=4,'VETS-701B Participant Info'!$A283,\"  \")","v":"  "},{"$f":"IF('VETS-701B Participant Info'!$F283=4,'VETS-701B Participant Info'!$B283,\"  \")","v":"  "},{"$nulls":4},{"v":0,"d":"$0.00"},{"$nulls":3},{"v":0,"d":"$0.00"},0,{"v":0,"d":"$0.00"},{"$nulls":91},2]
[{"$f":"IF('VETS-701B Participant Info'!$F284=4,'VETS-701B Participant Info'!$A284,\"  \")","v":"  "},{"$f":"IF('VETS-701B Participant Info'!$F284=4,'VETS-701B Participant Info'!$B284,\"  \")","v":"  "},{"$nulls":4},{"v":0,"d":"$0.00"},{"$nulls":3},{"v":0,"d":"$0.00"},0,{"v":0,"d":"$0.00"},{"$nulls":91},2]
[{"$f":"IF('VETS-701B Participant Info'!$F285=4,'VETS-701B Participant Info'!$A285,\"  \")","v":"  "},{"$f":"IF('VETS-701B Participant Info'!$F285=4,'VETS-701B Participant Info'!$B285,\"  \")","v":"  "},{"$nulls":4},{"v":0,"d":"$0.00"},{"$nulls":3},{"v":0,"d":"$0.00"},0,{"v":0,"d":"$0.00"},{"$nulls":91},2]
[{"$f":"IF('VETS-701B Participant Info'!$F286=4,'VETS-701B Participant Info'!$A286,\"  \")","v":"  "},{"$f":"IF('VETS-701B Participant Info'!$F286=4,'VETS-701B Participant Info'!$B286,\"  \")","v":"  "},{"$nulls":4},{"v":0,"d":"$0.00"},{"$nulls":3},{"v":0,"d":"$0.00"},0,{"v":0,"d":"$0.00"},{"$nulls":91},2]
[{"$f":"IF('VETS-701B Participant Info'!$F287=4,'VETS-701B Participant Info'!$A287,\"  \")","v":"  "},{"$f":"IF('VETS-701B Participant Info'!$F287=4,'VETS-701B Participant Info'!$B287,\"  \")","v":"  "},{"$nulls":4},{"v":0,"d":"$0.00"},{"$nulls":3},{"v":0,"d":"$0.00"},0,{"v":0,"d":"$0.00"},{"$nulls":91},2]
[{"$f":"IF('VETS-701B Participant Info'!$F288=4,'VETS-701B Participant Info'!$A288,\"  \")","v":"  "},{"$f":"IF('VETS-701B Participant Info'!$F288=4,'VETS-701B Participant Info'!$B288,\"  \")","v":"  "},{"$nulls":4},{"v":0,"d":"$0.00"},{"$nulls":3},{"v":0,"d":"$0.00"},0,{"v":0,"d":"$0.00"},{"$nulls":91},2]
[{"$f":"IF('VETS-701B Participant Info'!$F289=4,'VETS-701B Participant Info'!$A289,\"  \")","v":"  "},{"$f":"IF('VETS-701B Participant Info'!$F289=4,'VETS-701B Participant Info'!$B289,\"  \")","v":"  "},{"$nulls":4},{"v":0,"d":"$0.00"},{"$nulls":3},{"v":0,"d":"$0.00"},0,{"v":0,"d":"$0.00"},{"$nulls":91},2]
[{"$f":"IF('VETS-701B Participant Info'!$F290=4,'VETS-701B Participant Info'!$A290,\"  \")","v":"  "},{"$f":"IF('VETS-701B Participant Info'!$F290=4,'VETS-701B Participant Info'!$B290,\"  \")","v":"  "},{"$nulls":4},{"v":0,"d":"$0.00"},{"$nulls":3},{"v":0,"d":"$0.00"},0,{"v":0,"d":"$0.00"},{"$nulls":91},2]
[{"$f":"IF('VETS-701B Participant Info'!$F291=4,'VETS-701B Participant Info'!$A291,\"  \")","v":"  "},{"$f":"IF('VETS-701B Participant Info'!$F291=4,'VETS-701B Participant Info'!$B291,\"  \")","v":"  "},{"$nulls":4},{"v":0,"d":"$0.00"},{"$nulls":3},{"v":0,"d":"$0.00"},0,{"v":0,"d":"$0.00"},{"$nulls":91},2]
[{"$f":"IF('VETS-701B Participant Info'!$F292=4,'VETS-701B Participant Info'!$A292,\"  \")","v":"  "},{"$f":"IF('VETS-701B Participant Info'!$F292=4,'VETS-701B Participant Info'!$B292,\"  \")","v":"  "},{"$nulls":4},{"v":0,"d":"$0.00"},{"$nulls":3},{"v":0,"d":"$0.00"},0,{"v":0,"d":"$0.00"},{"$nulls":91},2]
[{"$f":"IF('VETS-701B Participant Info'!$F293=4,'VETS-701B Participant Info'!$A293,\"  \")","v":"  "},{"$f":"IF('VETS-701B Participant Info'!$F293=4,'VETS-701B Participant Info'!$B293,\"  \")","v":"  "},{"$nulls":4},{"v":0,"d":"$0.00"},{"$nulls":3},{"v":0,"d":"$0.00"},0,{"v":0,"d":"$0.00"},{"$nulls":91},2]
[{"$f":"IF('VETS-701B Participant Info'!$F294=4,'VETS-701B Participant Info'!$A294,\"  \")","v":"  "},{"$f":"IF('VETS-701B Participant Info'!$F294=4,'VETS-701B Participant Info'!$B294,\"  \")","v":"  "},{"$nulls":4},{"v":0,"d":"$0.00"},{"$nulls":3},{"v":0,"d":"$0.00"},0,{"v":0,"d":"$0.00"},{"$nulls":91},2]
[{"$f":"IF('VETS-701B Participant Info'!$F295=4,'VETS-701B Participant Info'!$A295,\"  \")","v":"  "},{"$f":"IF('VETS-701B Participant Info'!$F295=4,'VETS-701B Participant Info'!$B295,\"  \")","v":"  "},{"$nulls":4},{"v":0,"d":"$0.00"},{"$nulls":3},{"v":0,"d":"$0.00"},0,{"v":0,"d":"$0.00"},{"$nulls":91},2]
[{"$f":"IF('VETS-701B Participant Info'!$F296=4,'VETS-701B Participant Info'!$A296,\"  \")","v":"  "},{"$f":"IF('VETS-701B Participant Info'!$F296=4,'VETS-701B Participant Info'!$B296,\"  \")","v":"  "},{"$nulls":4},{"v":0,"d":"$0.00"},{"$nulls":3},{"v":0,"d":"$0.00"},0,{"v":0,"d":"$0.00"},{"$nulls":91},2]
[{"$f":"IF('VETS-701B Participant Info'!$F297=4,'VETS-701B Participant Info'!$A297,\"  \")","v":"  "},{"$f":"IF('VETS-701B Participant Info'!$F297=4,'VETS-701B Participant Info'!$B297,\"  \")","v":"  "},{"$nulls":4},{"v":0,"d":"$0.00"},{"$nulls":3},{"v":0,"d":"$0.00"},0,{"v":0,"d":"$0.00"},{"$nulls":91},2]
[{"$f":"IF('VETS-701B Participant Info'!$F298=4,'VETS-701B Participant Info'!$A298,\"  \")","v":"  "},{"$f":"IF('VETS-701B Participant Info'!$F298=4,'VETS-701B Participant Info'!$B298,\"  \")","v":"  "},{"$nulls":4},{"v":0,"d":"$0.00"},{"$nulls":3},{"v":0,"d":"$0.00"},0,{"$f":"IF(L301=3,K301+G301,0)","v":{"v":0,"d":"$0.00"}},{"$nulls":91},2]
[{"$f":"IF('VETS-701B Participant Info'!$F299=4,'VETS-701B Participant Info'!$A299,\"  \")","v":"  "},{"$f":"IF('VETS-701B Participant Info'!$F299=4,'VETS-701B Participant Info'!$B299,\"  \")","v":"  "},{"$nulls":4},{"v":0,"d":"$0.00"},{"$nulls":3},{"v":0,"d":"$0.00"},0,{"$f":"IF(L302=3,K302+G302,0)","v":{"v":0,"d":"$0.00"}},{"$nulls":91},2]
[{"$f":"IF('VETS-701B Participant Info'!$F300=4,'VETS-701B Participant Info'!$A300,\"  \")","v":"  "},{"$f":"IF('VETS-701B Participant Info'!$F300=4,'VETS-701B Participant Info'!$B300,\"  \")","v":"  "},{"$nulls":4},{"v":0,"d":"$0.00"},{"$nulls":3},{"v":0,"d":"$0.00"},0,{"$f":"IF(L303=3,K303+G303,0)","v":{"v":0,"d":"$0.00"}},{"$nulls":91},2]
[{"$f":"IF('VETS-701B Participant Info'!$F301=4,'VETS-701B Participant Info'!$A301,\"  \")","v":"  "},{"$f":"IF('VETS-701B Participant Info'!$F301=4,'VETS-701B Participant Info'!$B301,\"  \")","v":"  "},{"$nulls":4},{"v":0,"d":"$0.00"},{"$nulls":3},{"v":0,"d":"$0.00"},0,{"$f":"IF(L304=3,K304+G304,0)","v":{"v":0,"d":"$0.00"}},{"$nulls":91},2]
[{"$f":"IF('VETS-701B Participant Info'!$F302=4,'VETS-701B Participant Info'!$A302,\"  \")","v":"  "},{"$f":"IF('VETS-701B Participant Info'!$F302=4,'VETS-701B Participant Info'!$B302,\"  \")","v":"  "},{"$nulls":4},{"v":0,"d":"$0.00"},{"$nulls":3},{"v":0,"d":"$0.00"},0,{"$f":"IF(L305=3,K305+G305,0)","v":{"v":0,"d":"$0.00"}},{"$nulls":91},2]
[{"$f":"IF('VETS-701B Participant Info'!$F303=4,'VETS-701B Participant Info'!$A303,\"  \")","v":"  "},{"$f":"IF('VETS-701B Participant Info'!$F303=4,'VETS-701B Participant Info'!$B303,\"  \")","v":"  "},{"$nulls":4},{"v":0,"d":"$0.00"},{"$nulls":3},{"v":0,"d":"$0.00"},0,{"v":0,"d":"$0.00"},{"$nulls":91},2]
[{"$f":"IF('VETS-701B Participant Info'!$F304=4,'VETS-701B Participant Info'!$A304,\"  \")","v":"  "},{"$f":"IF('VETS-701B Participant Info'!$F304=4,'VETS-701B Participant Info'!$B304,\"  \")","v":"  "},{"$nulls":4},{"v":0,"d":"$0.00"},{"$nulls":3},{"v":0,"d":"$0.00"},0,{"v":0,"d":"$0.00"},{"$nulls":91},2]
[{"$f":"IF('VETS-701B Participant Info'!$F305=4,'VETS-701B Participant Info'!$A305,\"  \")","v":"  "},{"$f":"IF('VETS-701B Participant Info'!$F305=4,'VETS-701B Participant Info'!$B305,\"  \")","v":"  "},{"$nulls":4},{"v":0,"d":"$0.00"},{"$nulls":3},{"v":0,"d":"$0.00"},0,{"v":0,"d":"$0.00"},{"$nulls":91},2]
[{"$f":"IF('VETS-701B Participant Info'!$F306=4,'VETS-701B Participant Info'!$A306,\"  \")","v":"  "},{"$f":"IF('VETS-701B Participant Info'!$F306=4,'VETS-701B Participant Info'!$B306,\"  \")","v":"  "},{"$nulls":4},{"v":0,"d":"$0.00"},{"$nulls":3},{"v":0,"d":"$0.00"},0,{"v":0,"d":"$0.00"},{"$nulls":91},2]
[{"$f":"IF('VETS-701B Participant Info'!$F307=4,'VETS-701B Participant Info'!$A307,\"  \")","v":"  "},{"$f":"IF('VETS-701B Participant Info'!$F307=4,'VETS-701B Participant Info'!$B307,\"  \")","v":"  "},{"$nulls":4},{"v":0,"d":"$0.00"},{"$nulls":3},{"v":0,"d":"$0.00"},0,{"v":0,"d":"$0.00"},{"$nulls":91},2]
[{"$f":"IF('VETS-701B Participant Info'!$F308=4,'VETS-701B Participant Info'!$A308,\"  \")","v":"  "},{"$f":"IF('VETS-701B Participant Info'!$F308=4,'VETS-701B Participant Info'!$B308,\"  \")","v":"  "},{"$nulls":4},{"v":0,"d":"$0.00"},{"$nulls":3},{"v":0,"d":"$0.00"},0,{"v":0,"d":"$0.00"},{"$nulls":91},2]
[{"$f":"IF('VETS-701B Participant Info'!$F309=4,'VETS-701B Participant Info'!$A309,\"  \")","v":"  "},{"$f":"IF('VETS-701B Participant Info'!$F309=4,'VETS-701B Participant Info'!$B309,\"  \")","v":"  "},{"$nulls":4},{"v":0,"d":"$0.00"},{"$nulls":3},{"v":0,"d":"$0.00"},0,{"v":0,"d":"$0.00"},{"$nulls":91},2]
[{"$f":"IF('VETS-701B Participant Info'!$F310=4,'VETS-701B Participant Info'!$A310,\"  \")","v":"  "},{"$f":"IF('VETS-701B Participant Info'!$F310=4,'VETS-701B Participant Info'!$B310,\"  \")","v":"  "},{"$nulls":4},{"v":0,"d":"$0.00"},{"$nulls":3},{"v":0,"d":"$0.00"},0,{"v":0,"d":"$0.00"},{"$nulls":91},2]
[{"$f":"IF('VETS-701B Participant Info'!$F311=4,'VETS-701B Participant Info'!$A311,\"  \")","v":"  "},{"$f":"IF('VETS-701B Participant Info'!$F311=4,'VETS-701B Participant Info'!$B311,\"  \")","v":"  "},{"$nulls":4},{"v":0,"d":"$0.00"},{"$nulls":3},{"v":0,"d":"$0.00"},0,{"v":0,"d":"$0.00"},{"$nulls":91},2]
[{"$f":"IF('VETS-701B Participant Info'!$F312=4,'VETS-701B Participant Info'!$A312,\"  \")","v":"  "},{"$f":"IF('VETS-701B Participant Info'!$F312=4,'VETS-701B Participant Info'!$B312,\"  \")","v":"  "},{"$nulls":4},{"v":0,"d":"$0.00"},{"$nulls":3},{"v":0,"d":"$0.00"},0,{"v":0,"d":"$0.00"},{"$nulls":91},2]
[{"$f":"IF('VETS-701B Participant Info'!$F313=4,'VETS-701B Participant Info'!$A313,\"  \")","v":"  "},{"$f":"IF('VETS-701B Participant Info'!$F313=4,'VETS-701B Participant Info'!$B313,\"  \")","v":"  "},{"$nulls":4},{"v":0,"d":"$0.00"},{"$nulls":3},{"v":0,"d":"$0.00"},0,{"v":0,"d":"$0.00"},{"$nulls":91},2]
[{"$f":"IF('VETS-701B Participant Info'!$F314=4,'VETS-701B Participant Info'!$A314,\"  \")","v":"  "},{"$f":"IF('VETS-701B Participant Info'!$F314=4,'VETS-701B Participant Info'!$B314,\"  \")","v":"  "},{"$nulls":4},{"v":0,"d":"$0.00"},{"$nulls":3},{"v":0,"d":"$0.00"},0,{"v":0,"d":"$0.00"},{"$nulls":91},2]
[{"$f":"IF('VETS-701B Participant Info'!$F315=4,'VETS-701B Participant Info'!$A315,\"  \")","v":"  "},{"$f":"IF('VETS-701B Participant Info'!$F315=4,'VETS-701B Participant Info'!$B315,\"  \")","v":"  "},{"$nulls":4},{"v":0,"d":"$0.00"},{"$nulls":3},{"v":0,"d":"$0.00"},0,{"v":0,"d":"$0.00"},{"$nulls":91},2]
[{"$f":"IF('VETS-701B Participant Info'!$F316=4,'VETS-701B Participant Info'!$A316,\"  \")","v":"  "},{"$f":"IF('VETS-701B Participant Info'!$F316=4,'VETS-701B Participant Info'!$B316,\"  \")","v":"  "},{"$nulls":4},{"v":0,"d":"$0.00"},{"$nulls":3},{"v":0,"d":"$0.00"},0,{"v":0,"d":"$0.00"},{"$nulls":91},2]
[{"$f":"IF('VETS-701B Participant Info'!$F317=4,'VETS-701B Participant Info'!$A317,\"  \")","v":"  "},{"$f":"IF('VETS-701B Participant Info'!$F317=4,'VETS-701B Participant Info'!$B317,\"  \")","v":"  "},{"$nulls":4},{"v":0,"d":"$0.00"},{"$nulls":3},{"v":0,"d":"$0.00"},0,{"v":0,"d":"$0.00"},{"$nulls":91},2]
[{"$f":"IF('VETS-701B Participant Info'!$F318=4,'VETS-701B Participant Info'!$A318,\"  \")","v":"  "},{"$f":"IF('VETS-701B Participant Info'!$F318=4,'VETS-701B Participant Info'!$B318,\"  \")","v":"  "},{"$nulls":4},{"v":0,"d":"$0.00"},{"$nulls":3},{"v":0,"d":"$0.00"},0,{"v":0,"d":"$0.00"},{"$nulls":91},2]
[{"$f":"IF('VETS-701B Participant Info'!$F319=4,'VETS-701B Participant Info'!$A319,\"  \")","v":"  "},{"$f":"IF('VETS-701B Participant Info'!$F319=4,'VETS-701B Participant Info'!$B319,\"  \")","v":"  "},{"$nulls":4},{"v":0,"d":"$0.00"},{"$nulls":3},{"v":0,"d":"$0.00"},0,{"v":0,"d":"$0.00"},{"$nulls":91},2]
[{"$f":"IF('VETS-701B Participant Info'!$F320=4,'VETS-701B Participant Info'!$A320,\"  \")","v":"  "},{"$f":"IF('VETS-701B Participant Info'!$F320=4,'VETS-701B Participant Info'!$B320,\"  \")","v":"  "},{"$nulls":4},{"v":0,"d":"$0.00"},{"$nulls":3},{"v":0,"d":"$0.00"},0,{"v":0,"d":"$0.00"},{"$nulls":91},2]
[{"$f":"IF('VETS-701B Participant Info'!$F321=4,'VETS-701B Participant Info'!$A321,\"  \")","v":"  "},{"$f":"IF('VETS-701B Participant Info'!$F321=4,'VETS-701B Participant Info'!$B321,\"  \")","v":"  "},{"$nulls":4},{"v":0,"d":"$0.00"},{"$nulls":3},{"v":0,"d":"$0.00"},0,{"v":0,"d":"$0.00"},{"$nulls":91},2]
[{"$f":"IF('VETS-701B Participant Info'!$F322=4,'VETS-701B Participant Info'!$A322,\"  \")","v":"  "},{"$f":"IF('VETS-701B Participant Info'!$F322=4,'VETS-701B Participant Info'!$B322,\"  \")","v":"  "},{"$nulls":4},{"v":0,"d":"$0.00"},{"$nulls":3},{"v":0,"d":"$0.00"},0,{"v":0,"d":"$0.00"},{"$nulls":91},2]
[{"$f":"IF('VETS-701B Participant Info'!$F323=4,'VETS-701B Participant Info'!$A323,\"  \")","v":"  "},{"$f":"IF('VETS-701B Participant Info'!$F323=4,'VETS-701B Participant Info'!$B323,\"  \")","v":"  "},{"$nulls":4},{"$f":"IF(C326+D326=2,SUM(E326*F326*13),0)","v":{"v":0,"d":"$0.00"}},{"$nulls":3},{"$f":"IF(L326=3,SUM(I326*J326*13),0)","v":{"v":0,"d":"$0.00"}},0,{"v":0,"d":"$0.00"},{"$nulls":91},{"$f":"IF($B326> \"             \",1,2)","v":2}]
[{"$f":"IF('VETS-701B Participant Info'!$F324=4,'VETS-701B Participant Info'!$A324,\"  \")","v":"  "},{"$f":"IF('VETS-701B Participant Info'!$F324=4,'VETS-701B Participant Info'!$B324,\"  \")","v":"  "},{"$nulls":4},{"v":0,"d":"$0.00"},{"$nulls":3},{"v":0,"d":"$0.00"},{"$f":"SUM(H327+D327+C327)","v":0},{"v":0,"d":"$0.00"},{"$nulls":91},2]
[{"$f":"IF('VETS-701B Participant Info'!$F325=4,'VETS-701B Participant Info'!$A325,\"  \")","v":"  "},{"$f":"IF('VETS-701B Participant Info'!$F325=4,'VETS-701B Participant Info'!$B325,\"  \")","v":"  "},{"$nulls":4},{"v":0,"d":"$0.00"},{"$nulls":3},{"v":0,"d":"$0.00"},0,{"v":0,"d":"$0.00"},{"$nulls":91},2]
[{"$f":"IF('VETS-701B Participant Info'!$F326=4,'VETS-701B Participant Info'!$A326,\"  \")","v":"  "},{"$f":"IF('VETS-701B Participant Info'!$F326=4,'VETS-701B Participant Info'!$B326,\"  \")","v":"  "},{"$nulls":4},{"v":0,"d":"$0.00"},{"$nulls":3},{"v":0,"d":"$0.00"},0,{"v":0,"d":"$0.00"},{"$nulls":91},2]
[{"$f":"IF('VETS-701B Participant Info'!$F327=4,'VETS-701B Participant Info'!$A327,\"  \")","v":"  "},{"$f":"IF('VETS-701B Participant Info'!$F327=4,'VETS-701B Participant Info'!$B327,\"  \")","v":"  "},{"$nulls":4},{"v":0,"d":"$0.00"},{"$nulls":3},{"v":0,"d":"$0.00"},0,{"v":0,"d":"$0.00"},{"$nulls":91},2]
[{"$f":"IF('VETS-701B Participant Info'!$F328=4,'VETS-701B Participant Info'!$A328,\"  \")","v":"  "},{"$f":"IF('VETS-701B Participant Info'!$F328=4,'VETS-701B Participant Info'!$B328,\"  \")","v":"  "},{"$nulls":4},{"v":0,"d":"$0.00"},{"$nulls":3},{"v":0,"d":"$0.00"},0,{"v":0,"d":"$0.00"},{"$nulls":91},2]
[{"$f":"IF('VETS-701B Participant Info'!$F329=4,'VETS-701B Participant Info'!$A329,\"  \")","v":"  "},{"$f":"IF('VETS-701B Participant Info'!$F329=4,'VETS-701B Participant Info'!$B329,\"  \")","v":"  "},{"$nulls":4},{"v":0,"d":"$0.00"},{"$nulls":3},{"v":0,"d":"$0.00"},0,{"v":0,"d":"$0.00"},{"$nulls":91},2]
[{"$f":"IF('VETS-701B Participant Info'!$F330=4,'VETS-701B Participant Info'!$A330,\"  \")","v":"  "},{"$f":"IF('VETS-701B Participant Info'!$F330=4,'VETS-701B Participant Info'!$B330,\"  \")","v":"  "},{"$nulls":4},{"v":0,"d":"$0.00"},{"$nulls":3},{"v":0,"d":"$0.00"},0,{"v":0,"d":"$0.00"},{"$nulls":91},2]
[{"$f":"IF('VETS-701B Participant Info'!$F331=4,'VETS-701B Participant Info'!$A331,\"  \")","v":"  "},{"$f":"IF('VETS-701B Participant Info'!$F331=4,'VETS-701B Participant Info'!$B331,\"  \")","v":"  "},{"$nulls":4},{"v":0,"d":"$0.00"},{"$nulls":3},{"v":0,"d":"$0.00"},0,{"v":0,"d":"$0.00"},{"$nulls":91},2]
[{"$f":"IF('VETS-701B Participant Info'!$F332=4,'VETS-701B Participant Info'!$A332,\"  \")","v":"  "},{"$f":"IF('VETS-701B Participant Info'!$F332=4,'VETS-701B Participant Info'!$B332,\"  \")","v":"  "},{"$nulls":4},{"v":0,"d":"$0.00"},{"$nulls":3},{"v":0,"d":"$0.00"},0,{"v":0,"d":"$0.00"},{"$nulls":91},2]
[{"$f":"IF('VETS-701B Participant Info'!$F333=4,'VETS-701B Participant Info'!$A333,\"  \")","v":"  "},{"$f":"IF('VETS-701B Participant Info'!$F333=4,'VETS-701B Participant Info'!$B333,\"  \")","v":"  "},{"$nulls":4},{"v":0,"d":"$0.00"},{"$nulls":3},{"v":0,"d":"$0.00"},0,{"v":0,"d":"$0.00"},{"$nulls":91},2]
[{"$f":"IF('VETS-701B Participant Info'!$F334=4,'VETS-701B Participant Info'!$A334,\"  \")","v":"  "},{"$f":"IF('VETS-701B Participant Info'!$F334=4,'VETS-701B Participant Info'!$B334,\"  \")","v":"  "},{"$nulls":4},{"v":0,"d":"$0.00"},{"$nulls":3},{"v":0,"d":"$0.00"},0,{"v":0,"d":"$0.00"},{"$nulls":91},2]
[{"$f":"IF('VETS-701B Participant Info'!$F335=4,'VETS-701B Participant Info'!$A335,\"  \")","v":"  "},{"$f":"IF('VETS-701B Participant Info'!$F335=4,'VETS-701B Participant Info'!$B335,\"  \")","v":"  "},{"$nulls":4},{"v":0,"d":"$0.00"},{"$nulls":3},{"v":0,"d":"$0.00"},0,{"v":0,"d":"$0.00"},{"$nulls":91},2]
[{"$f":"IF('VETS-701B Participant Info'!$F336=4,'VETS-701B Participant Info'!$A336,\"  \")","v":"  "},{"$f":"IF('VETS-701B Participant Info'!$F336=4,'VETS-701B Participant Info'!$B336,\"  \")","v":"  "},{"$nulls":4},{"v":0,"d":"$0.00"},{"$nulls":3},{"v":0,"d":"$0.00"},0,{"v":0,"d":"$0.00"},{"$nulls":91},2]
[{"$f":"IF('VETS-701B Participant Info'!$F337=4,'VETS-701B Participant Info'!$A337,\"  \")","v":"  "},{"$f":"IF('VETS-701B Participant Info'!$F337=4,'VETS-701B Participant Info'!$B337,\"  \")","v":"  "},{"$nulls":4},{"v":0,"d":"$0.00"},{"$nulls":3},{"v":0,"d":"$0.00"},0,{"v":0,"d":"$0.00"},{"$nulls":91},2]
[{"$f":"IF('VETS-701B Participant Info'!$F338=4,'VETS-701B Participant Info'!$A338,\"  \")","v":"  "},{"$f":"IF('VETS-701B Participant Info'!$F338=4,'VETS-701B Participant Info'!$B338,\"  \")","v":"  "},{"$nulls":4},{"v":0,"d":"$0.00"},{"$nulls":3},{"v":0,"d":"$0.00"},0,{"v":0,"d":"$0.00"},{"$nulls":91},2]
[{"$f":"IF('VETS-701B Participant Info'!$F339=4,'VETS-701B Participant Info'!$A339,\"  \")","v":"  "},{"$f":"IF('VETS-701B Participant Info'!$F339=4,'VETS-701B Participant Info'!$B339,\"  \")","v":"  "},{"$nulls":4},{"v":0,"d":"$0.00"},{"$nulls":3},{"v":0,"d":"$0.00"},0,{"v":0,"d":"$0.00"},{"$nulls":91},2]
[{"$f":"IF('VETS-701B Participant Info'!$F340=4,'VETS-701B Participant Info'!$A340,\"  \")","v":"  "},{"$f":"IF('VETS-701B Participant Info'!$F340=4,'VETS-701B Participant Info'!$B340,\"  \")","v":"  "},{"$nulls":4},{"v":0,"d":"$0.00"},{"$nulls":3},{"v":0,"d":"$0.00"},0,{"v":0,"d":"$0.00"},{"$nulls":91},2]
[{"$f":"IF('VETS-701B Participant Info'!$F341=4,'VETS-701B Participant Info'!$A341,\"  \")","v":"  "},{"$f":"IF('VETS-701B Participant Info'!$F341=4,'VETS-701B Participant Info'!$B341,\"  \")","v":"  "},{"$nulls":4},{"v":0,"d":"$0.00"},{"$nulls":3},{"v":0,"d":"$0.00"},0,{"v":0,"d":"$0.00"},{"$nulls":91},2]
[{"$f":"IF('VETS-701B Participant Info'!$F342=4,'VETS-701B Participant Info'!$A342,\"  \")","v":"  "},{"$f":"IF('VETS-701B Participant Info'!$F342=4,'VETS-701B Participant Info'!$B342,\"  \")","v":"  "},{"$nulls":4},{"v":0,"d":"$0.00"},{"$nulls":3},{"v":0,"d":"$0.00"},0,{"v":0,"d":"$0.00"},{"$nulls":91},2]
[{"$f":"IF('VETS-701B Participant Info'!$F343=4,'VETS-701B Participant Info'!$A343,\"  \")","v":"  "},{"$f":"IF('VETS-701B Participant Info'!$F343=4,'VETS-701B Participant Info'!$B343,\"  \")","v":"  "},{"$nulls":4},{"v":0,"d":"$0.00"},{"$nulls":3},{"v":0,"d":"$0.00"},0,{"v":0,"d":"$0.00"},{"$nulls":91},2]
[{"$f":"IF('VETS-701B Participant Info'!$F344=4,'VETS-701B Participant Info'!$A344,\"  \")","v":"  "},{"$f":"IF('VETS-701B Participant Info'!$F344=4,'VETS-701B Participant Info'!$B344,\"  \")","v":"  "},{"$nulls":4},{"v":0,"d":"$0.00"},{"$nulls":3},{"v":0,"d":"$0.00"},0,{"v":0,"d":"$0.00"},{"$nulls":91},2]
[{"$f":"IF('VETS-701B Participant Info'!$F345=4,'VETS-701B Participant Info'!$A345,\"  \")","v":"  "},{"$f":"IF('VETS-701B Participant Info'!$F345=4,'VETS-701B Participant Info'!$B345,\"  \")","v":"  "},{"$nulls":4},{"v":0,"d":"$0.00"},{"$nulls":3},{"v":0,"d":"$0.00"},0,{"v":0,"d":"$0.00"},{"$nulls":91},2]
[{"$f":"IF('VETS-701B Participant Info'!$F346=4,'VETS-701B Participant Info'!$A346,\"  \")","v":"  "},{"$f":"IF('VETS-701B Participant Info'!$F346=4,'VETS-701B Participant Info'!$B346,\"  \")","v":"  "},{"$nulls":4},{"v":0,"d":"$0.00"},{"$nulls":3},{"v":0,"d":"$0.00"},0,{"v":0,"d":"$0.00"},{"$nulls":91},2]
[{"$f":"IF('VETS-701B Participant Info'!$F347=4,'VETS-701B Participant Info'!$A347,\"  \")","v":"  "},{"$f":"IF('VETS-701B Participant Info'!$F347=4,'VETS-701B Participant Info'!$B347,\"  \")","v":"  "},{"$nulls":4},{"v":0,"d":"$0.00"},{"$nulls":3},{"v":0,"d":"$0.00"},0,{"v":0,"d":"$0.00"},{"$nulls":91},2]
[{"$f":"IF('VETS-701B Participant Info'!$F348=4,'VETS-701B Participant Info'!$A348,\"  \")","v":"  "},{"$f":"IF('VETS-701B Participant Info'!$F348=4,'VETS-701B Participant Info'!$B348,\"  \")","v":"  "},{"$nulls":4},{"v":0,"d":"$0.00"},{"$nulls":3},{"v":0,"d":"$0.00"},0,{"v":0,"d":"$0.00"},{"$nulls":91},2]
[{"$f":"IF('VETS-701B Participant Info'!$F349=4,'VETS-701B Participant Info'!$A349,\"  \")","v":"  "},{"$f":"IF('VETS-701B Participant Info'!$F349=4,'VETS-701B Participant Info'!$B349,\"  \")","v":"  "},{"$nulls":4},{"v":0,"d":"$0.00"},{"$nulls":3},{"v":0,"d":"$0.00"},0,{"v":0,"d":"$0.00"},{"$nulls":91},2]
[{"$f":"IF('VETS-701B Participant Info'!$F350=4,'VETS-701B Participant Info'!$A350,\"  \")","v":"  "},{"$f":"IF('VETS-701B Participant Info'!$F350=4,'VETS-701B Participant Info'!$B350,\"  \")","v":"  "},{"$nulls":4},{"v":0,"d":"$0.00"},{"$nulls":3},{"v":0,"d":"$0.00"},0,{"v":0,"d":"$0.00"},{"$nulls":91},2]
[{"$f":"IF('VETS-701B Participant Info'!$F351=4,'VETS-701B Participant Info'!$A351,\"  \")","v":"  "},{"$f":"IF('VETS-701B Participant Info'!$F351=4,'VETS-701B Participant Info'!$B351,\"  \")","v":"  "},{"$nulls":4},{"v":0,"d":"$0.00"},{"$nulls":3},{"v":0,"d":"$0.00"},0,{"v":0,"d":"$0.00"},{"$nulls":91},2]
[{"$f":"IF('VETS-701B Participant Info'!$F352=4,'VETS-701B Participant Info'!$A352,\"  \")","v":"  "},{"$f":"IF('VETS-701B Participant Info'!$F352=4,'VETS-701B Participant Info'!$B352,\"  \")","v":"  "},{"$nulls":4},{"v":0,"d":"$0.00"},{"$nulls":3},{"v":0,"d":"$0.00"},0,{"v":0,"d":"$0.00"},{"$nulls":91},2]
[{"$f":"IF('VETS-701B Participant Info'!$F353=4,'VETS-701B Participant Info'!$A353,\"  \")","v":"  "},{"$f":"IF('VETS-701B Participant Info'!$F353=4,'VETS-701B Participant Info'!$B353,\"  \")","v":"  "},{"$nulls":4},{"v":0,"d":"$0.00"},{"$nulls":3},{"v":0,"d":"$0.00"},0,{"v":0,"d":"$0.00"},{"$nulls":91},2]
[{"$f":"IF('VETS-701B Participant Info'!$F354=4,'VETS-701B Participant Info'!$A354,\"  \")","v":"  "},{"$f":"IF('VETS-701B Participant Info'!$F354=4,'VETS-701B Participant Info'!$B354,\"  \")","v":"  "},{"$nulls":4},{"v":0,"d":"$0.00"},{"$nulls":3},{"v":0,"d":"$0.00"},0,{"v":0,"d":"$0.00"},{"$nulls":91},2]
[{"$f":"IF('VETS-701B Participant Info'!$F355=4,'VETS-701B Participant Info'!$A355,\"  \")","v":"  "},{"$f":"IF('VETS-701B Participant Info'!$F355=4,'VETS-701B Participant Info'!$B355,\"  \")","v":"  "},{"$nulls":4},{"v":0,"d":"$0.00"},{"$nulls":3},{"v":0,"d":"$0.00"},0,{"v":0,"d":"$0.00"},{"$nulls":91},2]
[{"$f":"IF('VETS-701B Participant Info'!$F356=4,'VETS-701B Participant Info'!$A356,\"  \")","v":"  "},{"$f":"IF('VETS-701B Participant Info'!$F356=4,'VETS-701B Participant Info'!$B356,\"  \")","v":"  "},{"$nulls":4},{"v":0,"d":"$0.00"},{"$nulls":3},{"v":0,"d":"$0.00"},0,{"v":0,"d":"$0.00"},{"$nulls":91},2]
[{"$f":"IF('VETS-701B Participant Info'!$F357=4,'VETS-701B Participant Info'!$A357,\"  \")","v":"  "},{"$f":"IF('VETS-701B Participant Info'!$F357=4,'VETS-701B Participant Info'!$B357,\"  \")","v":"  "},{"$nulls":4},{"v":0,"d":"$0.00"},{"$nulls":3},{"v":0,"d":"$0.00"},0,{"v":0,"d":"$0.00"},{"$nulls":91},2]
[{"$f":"IF('VETS-701B Participant Info'!$F358=4,'VETS-701B Participant Info'!$A358,\"  \")","v":"  "},{"$f":"IF('VETS-701B Participant Info'!$F358=4,'VETS-701B Participant Info'!$B358,\"  \")","v":"  "},{"$nulls":4},{"v":0,"d":"$0.00"},{"$nulls":3},{"v":0,"d":"$0.00"},0,{"v":0,"d":"$0.00"},{"$nulls":91},2]
[{"$f":"IF('VETS-701B Participant Info'!$F359=4,'VETS-701B Participant Info'!$A359,\"  \")","v":"  "},{"$f":"IF('VETS-701B Participant Info'!$F359=4,'VETS-701B Participant Info'!$B359,\"  \")","v":"  "},{"$nulls":4},{"v":0,"d":"$0.00"},{"$nulls":3},{"v":0,"d":"$0.00"},0,{"v":0,"d":"$0.00"},{"$nulls":91},2]
[{"$f":"IF('VETS-701B Participant Info'!$F360=4,'VETS-701B Participant Info'!$A360,\"  \")","v":"  "},{"$f":"IF('VETS-701B Participant Info'!$F360=4,'VETS-701B Participant Info'!$B360,\"  \")","v":"  "},{"$nulls":4},{"v":0,"d":"$0.00"},{"$nulls":3},{"v":0,"d":"$0.00"},0,{"v":0,"d":"$0.00"},{"$nulls":91},2]
[{"$f":"IF('VETS-701B Participant Info'!$F361=4,'VETS-701B Participant Info'!$A361,\"  \")","v":"  "},{"$f":"IF('VETS-701B Participant Info'!$F361=4,'VETS-701B Participant Info'!$B361,\"  \")","v":"  "},{"$nulls":4},{"v":0,"d":"$0.00"},{"$nulls":3},{"v":0,"d":"$0.00"},0,{"v":0,"d":"$0.00"},{"$nulls":91},2]
[{"$f":"IF('VETS-701B Participant Info'!$F362=4,'VETS-701B Participant Info'!$A362,\"  \")","v":"  "},{"$f":"IF('VETS-701B Participant Info'!$F362=4,'VETS-701B Participant Info'!$B362,\"  \")","v":"  "},{"$nulls":4},{"v":0,"d":"$0.00"},{"$nulls":3},{"v":0,"d":"$0.00"},0,{"v":0,"d":"$0.00"},{"$nulls":91},2]
[{"$f":"IF('VETS-701B Participant Info'!$F363=4,'VETS-701B Participant Info'!$A363,\"  \")","v":"  "},{"$f":"IF('VETS-701B Participant Info'!$F363=4,'VETS-701B Participant Info'!$B363,\"  \")","v":"  "},{"$nulls":4},{"v":0,"d":"$0.00"},{"$nulls":3},{"v":0,"d":"$0.00"},0,{"v":0,"d":"$0.00"},{"$nulls":91},2]
[{"$f":"IF('VETS-701B Participant Info'!$F364=4,'VETS-701B Participant Info'!$A364,\"  \")","v":"  "},{"$f":"IF('VETS-701B Participant Info'!$F364=4,'VETS-701B Participant Info'!$B364,\"  \")","v":"  "},{"$nulls":4},{"v":0,"d":"$0.00"},{"$nulls":3},{"v":0,"d":"$0.00"},0,{"v":0,"d":"$0.00"},{"$nulls":91},2]
[{"$f":"IF('VETS-701B Participant Info'!$F365=4,'VETS-701B Participant Info'!$A365,\"  \")","v":"  "},{"$f":"IF('VETS-701B Participant Info'!$F365=4,'VETS-701B Participant Info'!$B365,\"  \")","v":"  "},{"$nulls":4},{"v":0,"d":"$0.00"},{"$nulls":3},{"v":0,"d":"$0.00"},0,{"v":0,"d":"$0.00"},{"$nulls":91},2]
[{"$f":"IF('VETS-701B Participant Info'!$F366=4,'VETS-701B Participant Info'!$A366,\"  \")","v":"  "},{"$f":"IF('VETS-701B Participant Info'!$F366=4,'VETS-701B Participant Info'!$B366,\"  \")","v":"  "},{"$nulls":4},{"v":0,"d":"$0.00"},{"$nulls":3},{"v":0,"d":"$0.00"},0,{"$f":"IF(L369=3,K369+G369,0)","v":{"v":0,"d":"$0.00"}},{"$nulls":91},2]
[{"$f":"IF('VETS-701B Participant Info'!$F367=4,'VETS-701B Participant Info'!$A367,\"  \")","v":"  "},{"$f":"IF('VETS-701B Participant Info'!$F367=4,'VETS-701B Participant Info'!$B367,\"  \")","v":"  "},{"$nulls":4},{"v":0,"d":"$0.00"},{"$nulls":3},{"v":0,"d":"$0.00"},0,{"v":0,"d":"$0.00"},{"$nulls":91},2]
[{"$f":"IF('VETS-701B Participant Info'!$F368=4,'VETS-701B Participant Info'!$A368,\"  \")","v":"  "},{"$f":"IF('VETS-701B Participant Info'!$F368=4,'VETS-701B Participant Info'!$B368,\"  \")","v":"  "},{"$nulls":4},{"v":0,"d":"$0.00"},{"$nulls":3},{"v":0,"d":"$0.00"},0,{"v":0,"d":"$0.00"},{"$nulls":91},2]
[{"$f":"IF('VETS-701B Participant Info'!$F369=4,'VETS-701B Participant Info'!$A369,\"  \")","v":"  "},{"$f":"IF('VETS-701B Participant Info'!$F369=4,'VETS-701B Participant Info'!$B369,\"  \")","v":"  "},{"$nulls":4},{"v":0,"d":"$0.00"},{"$nulls":3},{"v":0,"d":"$0.00"},0,{"v":0,"d":"$0.00"},{"$nulls":91},2]
[{"$f":"IF('VETS-701B Participant Info'!$F370=4,'VETS-701B Participant Info'!$A370,\"  \")","v":"  "},{"$f":"IF('VETS-701B Participant Info'!$F370=4,'VETS-701B Participant Info'!$B370,\"  \")","v":"  "},{"$nulls":4},{"v":0,"d":"$0.00"},{"$nulls":3},{"v":0,"d":"$0.00"},0,{"v":0,"d":"$0.00"},{"$nulls":91},2]
[{"$f":"IF('VETS-701B Participant Info'!$F371=4,'VETS-701B Participant Info'!$A371,\"  \")","v":"  "},{"$f":"IF('VETS-701B Participant Info'!$F371=4,'VETS-701B Participant Info'!$B371,\"  \")","v":"  "},{"$nulls":4},{"v":0,"d":"$0.00"},{"$nulls":3},{"v":0,"d":"$0.00"},0,{"v":0,"d":"$0.00"},{"$nulls":91},2]
[{"$f":"IF('VETS-701B Participant Info'!$F372=4,'VETS-701B Participant Info'!$A372,\"  \")","v":"  "},{"$f":"IF('VETS-701B Participant Info'!$F372=4,'VETS-701B Participant Info'!$B372,\"  \")","v":"  "},{"$nulls":4},{"v":0,"d":"$0.00"},{"$nulls":3},{"v":0,"d":"$0.00"},0,{"v":0,"d":"$0.00"},{"$nulls":91},2]
[{"$f":"IF('VETS-701B Participant Info'!$F373=4,'VETS-701B Participant Info'!$A373,\"  \")","v":"  "},{"$f":"IF('VETS-701B Participant Info'!$F373=4,'VETS-701B Participant Info'!$B373,\"  \")","v":"  "},{"$nulls":4},{"v":0,"d":"$0.00"},{"$nulls":3},{"v":0,"d":"$0.00"},0,{"v":0,"d":"$0.00"},{"$nulls":91},2]
[{"$f":"IF('VETS-701B Participant Info'!$F374=4,'VETS-701B Participant Info'!$A374,\"  \")","v":"  "},{"$f":"IF('VETS-701B Participant Info'!$F374=4,'VETS-701B Participant Info'!$B374,\"  \")","v":"  "},{"$nulls":4},{"v":0,"d":"$0.00"},{"$nulls":3},{"v":0,"d":"$0.00"},0,{"v":0,"d":"$0.00"},{"$nulls":91},2]
[{"$f":"IF('VETS-701B Participant Info'!$F375=4,'VETS-701B Participant Info'!$A375,\"  \")","v":"  "},{"$f":"IF('VETS-701B Participant Info'!$F375=4,'VETS-701B Participant Info'!$B375,\"  \")","v":"  "},{"$nulls":4},{"v":0,"d":"$0.00"},{"$nulls":3},{"v":0,"d":"$0.00"},0,{"v":0,"d":"$0.00"},{"$nulls":91},2]
[{"$f":"IF('VETS-701B Participant Info'!$F376=4,'VETS-701B Participant Info'!$A376,\"  \")","v":"  "},{"$f":"IF('VETS-701B Participant Info'!$F376=4,'VETS-701B Participant Info'!$B376,\"  \")","v":"  "},{"$nulls":4},{"v":0,"d":"$0.00"},{"$nulls":3},{"v":0,"d":"$0.00"},0,{"v":0,"d":"$0.00"},{"$nulls":91},2]
[{"$f":"IF('VETS-701B Participant Info'!$F377=4,'VETS-701B Participant Info'!$A377,\"  \")","v":"  "},{"$f":"IF('VETS-701B Participant Info'!$F377=4,'VETS-701B Participant Info'!$B377,\"  \")","v":"  "},{"$nulls":4},{"v":0,"d":"$0.00"},{"$nulls":3},{"v":0,"d":"$0.00"},0,{"v":0,"d":"$0.00"},{"$nulls":91},2]
[{"$f":"IF('VETS-701B Participant Info'!$F378=4,'VETS-701B Participant Info'!$A378,\"  \")","v":"  "},{"$f":"IF('VETS-701B Participant Info'!$F378=4,'VETS-701B Participant Info'!$B378,\"  \")","v":"  "},{"$nulls":4},{"v":0,"d":"$0.00"},{"$nulls":3},{"v":0,"d":"$0.00"},0,{"v":0,"d":"$0.00"},{"$nulls":91},2]
[{"$f":"IF('VETS-701B Participant Info'!$F379=4,'VETS-701B Participant Info'!$A379,\"  \")","v":"  "},{"$f":"IF('VETS-701B Participant Info'!$F379=4,'VETS-701B Participant Info'!$B379,\"  \")","v":"  "},{"$nulls":4},{"v":0,"d":"$0.00"},{"$nulls":3},{"v":0,"d":"$0.00"},0,{"v":0,"d":"$0.00"},{"$nulls":91},2]
[{"$f":"IF('VETS-701B Participant Info'!$F380=4,'VETS-701B Participant Info'!$A380,\"  \")","v":"  "},{"$f":"IF('VETS-701B Participant Info'!$F380=4,'VETS-701B Participant Info'!$B380,\"  \")","v":"  "},{"$nulls":4},{"v":0,"d":"$0.00"},{"$nulls":3},{"v":0,"d":"$0.00"},0,{"v":0,"d":"$0.00"},{"$nulls":91},2]
[{"$f":"IF('VETS-701B Participant Info'!$F381=4,'VETS-701B Participant Info'!$A381,\"  \")","v":"  "},{"$f":"IF('VETS-701B Participant Info'!$F381=4,'VETS-701B Participant Info'!$B381,\"  \")","v":"  "},{"$nulls":4},{"v":0,"d":"$0.00"},{"$nulls":3},{"v":0,"d":"$0.00"},0,{"v":0,"d":"$0.00"},{"$nulls":91},2]
[{"$f":"IF('VETS-701B Participant Info'!$F382=4,'VETS-701B Participant Info'!$A382,\"  \")","v":"  "},{"$f":"IF('VETS-701B Participant Info'!$F382=4,'VETS-701B Participant Info'!$B382,\"  \")","v":"  "},{"$nulls":4},{"v":0,"d":"$0.00"},{"$nulls":3},{"v":0,"d":"$0.00"},0,{"v":0,"d":"$0.00"},{"$nulls":91},2]
[{"$f":"IF('VETS-701B Participant Info'!$F383=4,'VETS-701B Participant Info'!$A383,\"  \")","v":"  "},{"$f":"IF('VETS-701B Participant Info'!$F383=4,'VETS-701B Participant Info'!$B383,\"  \")","v":"  "},{"$nulls":4},{"v":0,"d":"$0.00"},{"$nulls":3},{"v":0,"d":"$0.00"},0,{"v":0,"d":"$0.00"},{"$nulls":91},2]
[{"$f":"IF('VETS-701B Participant Info'!$F384=4,'VETS-701B Participant Info'!$A384,\"  \")","v":"  "},{"$f":"IF('VETS-701B Participant Info'!$F384=4,'VETS-701B Participant Info'!$B384,\"  \")","v":"  "},{"$nulls":4},{"v":0,"d":"$0.00"},{"$nulls":3},{"v":0,"d":"$0.00"},0,{"v":0,"d":"$0.00"},{"$nulls":91},2]
[{"$f":"IF('VETS-701B Participant Info'!$F385=4,'VETS-701B Participant Info'!$A385,\"  \")","v":"  "},{"$f":"IF('VETS-701B Participant Info'!$F385=4,'VETS-701B Participant Info'!$B385,\"  \")","v":"  "},{"$nulls":4},{"v":0,"d":"$0.00"},{"$nulls":3},{"v":0,"d":"$0.00"},0,{"v":0,"d":"$0.00"},{"$nulls":91},2]
[{"$f":"IF('VETS-701B Participant Info'!$F386=4,'VETS-701B Participant Info'!$A386,\"  \")","v":"  "},{"$f":"IF('VETS-701B Participant Info'!$F386=4,'VETS-701B Participant Info'!$B386,\"  \")","v":"  "},{"$nulls":4},{"v":0,"d":"$0.00"},{"$nulls":3},{"v":0,"d":"$0.00"},0,{"v":0,"d":"$0.00"},{"$nulls":91},2]
[{"$f":"IF('VETS-701B Participant Info'!$F387=4,'VETS-701B Participant Info'!$A387,\"  \")","v":"  "},{"$f":"IF('VETS-701B Participant Info'!$F387=4,'VETS-701B Participant Info'!$B387,\"  \")","v":"  "},{"$nulls":4},{"$f":"IF(C390+D390=2,SUM(E390*F390*13),0)","v":{"v":0,"d":"$0.00"}},{"$nulls":3},{"$f":"IF(L390=3,SUM(I390*J390*13),0)","v":{"v":0,"d":"$0.00"}},0,{"v":0,"d":"$0.00"},{"$nulls":91},{"$f":"IF($B390> \"             \",1,2)","v":2}]
[{"$f":"IF('VETS-701B Participant Info'!$F388=4,'VETS-701B Participant Info'!$A388,\"  \")","v":"  "},{"$f":"IF('VETS-701B Participant Info'!$F388=4,'VETS-701B Participant Info'!$B388,\"  \")","v":"  "},{"$nulls":4},{"v":0,"d":"$0.00"},{"$nulls":3},{"v":0,"d":"$0.00"},{"$f":"SUM(H391+D391+C391)","v":0},{"v":0,"d":"$0.00"},{"$nulls":91},2]
[{"$f":"IF('VETS-701B Participant Info'!$F389=4,'VETS-701B Participant Info'!$A389,\"  \")","v":"  "},{"$f":"IF('VETS-701B Participant Info'!$F389=4,'VETS-701B Participant Info'!$B389,\"  \")","v":"  "},{"$nulls":4},{"v":0,"d":"$0.00"},{"$nulls":3},{"v":0,"d":"$0.00"},0,{"v":0,"d":"$0.00"},{"$nulls":91},2]
[{"$f":"IF('VETS-701B Participant Info'!$F390=4,'VETS-701B Participant Info'!$A390,\"  \")","v":"  "},{"$f":"IF('VETS-701B Participant Info'!$F390=4,'VETS-701B Participant Info'!$B390,\"  \")","v":"  "},{"$nulls":4},{"v":0,"d":"$0.00"},{"$nulls":3},{"v":0,"d":"$0.00"},0,{"v":0,"d":"$0.00"},{"$nulls":91},2]
[{"$f":"IF('VETS-701B Participant Info'!$F391=4,'VETS-701B Participant Info'!$A391,\"  \")","v":"  "},{"$f":"IF('VETS-701B Participant Info'!$F391=4,'VETS-701B Participant Info'!$B391,\"  \")","v":"  "},{"$nulls":4},{"v":0,"d":"$0.00"},{"$nulls":3},{"v":0,"d":"$0.00"},0,{"v":0,"d":"$0.00"},{"$nulls":91},2]
[{"$f":"IF('VETS-701B Participant Info'!$F392=4,'VETS-701B Participant Info'!$A392,\"  \")","v":"  "},{"$f":"IF('VETS-701B Participant Info'!$F392=4,'VETS-701B Participant Info'!$B392,\"  \")","v":"  "},{"$nulls":4},{"v":0,"d":"$0.00"},{"$nulls":3},{"v":0,"d":"$0.00"},0,{"v":0,"d":"$0.00"},{"$nulls":91},2]
[{"$f":"IF('VETS-701B Participant Info'!$F393=4,'VETS-701B Participant Info'!$A393,\"  \")","v":"  "},{"$f":"IF('VETS-701B Participant Info'!$F393=4,'VETS-701B Participant Info'!$B393,\"  \")","v":"  "},{"$nulls":4},{"v":0,"d":"$0.00"},{"$nulls":3},{"v":0,"d":"$0.00"},0,{"v":0,"d":"$0.00"},{"$nulls":91},2]
[{"$f":"IF('VETS-701B Participant Info'!$F394=4,'VETS-701B Participant Info'!$A394,\"  \")","v":"  "},{"$f":"IF('VETS-701B Participant Info'!$F394=4,'VETS-701B Participant Info'!$B394,\"  \")","v":"  "},{"$nulls":4},{"v":0,"d":"$0.00"},{"$nulls":3},{"v":0,"d":"$0.00"},0,{"v":0,"d":"$0.00"},{"$nulls":91},2]
[{"$f":"IF('VETS-701B Participant Info'!$F395=4,'VETS-701B Participant Info'!$A395,\"  \")","v":"  "},{"$f":"IF('VETS-701B Participant Info'!$F395=4,'VETS-701B Participant Info'!$B395,\"  \")","v":"  "},{"$nulls":4},{"v":0,"d":"$0.00"},{"$nulls":3},{"v":0,"d":"$0.00"},0,{"v":0,"d":"$0.00"},{"$nulls":91},2]
[{"$f":"IF('VETS-701B Participant Info'!$F396=4,'VETS-701B Participant Info'!$A396,\"  \")","v":"  "},{"$f":"IF('VETS-701B Participant Info'!$F396=4,'VETS-701B Participant Info'!$B396,\"  \")","v":"  "},{"$nulls":4},{"v":0,"d":"$0.00"},{"$nulls":3},{"v":0,"d":"$0.00"},0,{"v":0,"d":"$0.00"},{"$nulls":91},2]
[{"$f":"IF('VETS-701B Participant Info'!$F397=4,'VETS-701B Participant Info'!$A397,\"  \")","v":"  "},{"$f":"IF('VETS-701B Participant Info'!$F397=4,'VETS-701B Participant Info'!$B397,\"  \")","v":"  "},{"$nulls":4},{"v":0,"d":"$0.00"},{"$nulls":3},{"v":0,"d":"$0.00"},0,{"v":0,"d":"$0.00"},{"$nulls":91},2]
[{"$f":"IF('VETS-701B Participant Info'!$F398=4,'VETS-701B Participant Info'!$A398,\"  \")","v":"  "},{"$f":"IF('VETS-701B Participant Info'!$F398=4,'VETS-701B Participant Info'!$B398,\"  \")","v":"  "},{"$nulls":4},{"v":0,"d":"$0.00"},{"$nulls":3},{"v":0,"d":"$0.00"},0,{"$f":"IF(L401=3,K401+G401,0)","v":{"v":0,"d":"$0.00"}},{"$nulls":91},2]
[{"$f":"IF('VETS-701B Participant Info'!$F399=4,'VETS-701B Participant Info'!$A399,\"  \")","v":"  "},{"$f":"IF('VETS-701B Participant Info'!$F399=4,'VETS-701B Participant Info'!$B399,\"  \")","v":"  "},{"$nulls":4},{"v":0,"d":"$0.00"},{"$nulls":3},{"v":0,"d":"$0.00"},0,{"$f":"IF(L402=3,K402+G402,0)","v":{"v":0,"d":"$0.00"}},{"$nulls":91},2]
[{"$f":"IF('VETS-701B Participant Info'!$F400=4,'VETS-701B Participant Info'!$A400,\"  \")","v":"  "},{"$f":"IF('VETS-701B Participant Info'!$F400=4,'VETS-701B Participant Info'!$B400,\"  \")","v":"  "},{"$nulls":4},{"v":0,"d":"$0.00"},{"$nulls":3},{"v":0,"d":"$0.00"},0,{"$f":"IF(L403=3,K403+G403,0)","v":{"v":0,"d":"$0.00"}},{"$nulls":91},2]
[{"$f":"IF('VETS-701B Participant Info'!$F401=4,'VETS-701B Participant Info'!$A401,\"  \")","v":"  "},{"$f":"IF('VETS-701B Participant Info'!$F401=4,'VETS-701B Participant Info'!$B401,\"  \")","v":"  "},{"$nulls":4},{"v":0,"d":"$0.00"},{"$nulls":3},{"v":0,"d":"$0.00"},0,{"$f":"IF(L404=3,K404+G404,0)","v":{"v":0,"d":"$0.00"}},{"$nulls":91},2]
[null,{"$f":"COUNT(C5:C404)","v":0},{"$f":"SUM(C5:C404)","v":0},{"$f":"SUM(D5:D404)","v":0},{"$nulls":3},{"$f":"COUNTIF(L5:L404,3)","v":0},{"$f":"SUM(I5:I404)","v":0},null,{"$f":"SUM(K5:K404)","v":{"v":0,"d":"$0.00"}},"Total Earnings",{"$f":"SUM(M5:M404)","v":{"v":0,"d":"$0.00"}},{"$f":"SUM(N5:N404)","v":0},{"$f":"SUM(O5:O404)","v":0}]
[{"$nulls":5},"Median Earnings",{"$f":"H500","v":{"$error":"#NUM!"}},null,"Average Hourly Wage",{"$f":"IF(I405>0,ROUND(SUM(K405/I405)/13,2),0)","v":{"v":0,"d":"$0.00"}},null,"Avg Earnings",{"$f":"IF(H405>0,ROUND(SUM(M405/H405),2),0)","v":{"v":0,"d":"$0.00"}},null,"Average Hourly Wage",{"$f":"IF(O405>0,ROUND(SUM(Q405/O405)/13,2),0)","v":{"v":0,"d":"$0.00"}}]
{"$rows_empty":7}
[" "]
[" "]
{"$rows_empty":82}
[{"$nulls":4},"Overall Median 2nd Q",null,{"$f":"MEDIAN(G500:G1499)","v":{"$error":"#NUM!"}}]
[]
[{"$nulls":4},"VETS-701 Enter Exiter Info Q4",null,{"$f":"IF(D5=1,(E5*F5*13),\"\" )","v":""},{"$f":"MEDIAN(G500:G900)","v":{"$error":"#NUM!"}}]
[{"$nulls":6},{"$f":"IF(D6=1,(E6*F6*13),\"\" )","v":""}]
[{"$nulls":6},""]
[{"$nulls":6},""]
[{"$nulls":6},""]
[{"$nulls":6},""]
[{"$nulls":6},""]
[{"$nulls":6},""]
[{"$nulls":6},""]
[{"$nulls":6},""]
[{"$nulls":6},""]
[{"$nulls":6},""]
[{"$nulls":6},""]
[{"$nulls":6},""]
[0,{"$nulls":5},""]
[1,{"$nulls":5},""]
[{"$nulls":6},""]
[{"$nulls":6},""]
[{"$nulls":6},""]
[{"$nulls":6},""]
[{"$nulls":6},""]
[{"$nulls":6},""]
[{"$nulls":6},""]
[{"$nulls":6},""]
[{"$nulls":6},""]
[{"$nulls":6},""]
[{"$nulls":6},""]
[{"$nulls":6},""]
[{"$nulls":6},""]
[{"$nulls":6},""]
[{"$nulls":6},""]
[{"$nulls":6},""]
[{"$nulls":6},""]
[{"$nulls":6},""]
[{"$nulls":6},""]
[{"$nulls":6},""]
[{"$nulls":6},""]
[{"$nulls":6},""]
[{"$nulls":6},""]
[{"$nulls":6},""]
[{"$nulls":6},""]
[{"$nulls":6},""]
[{"$nulls":6},""]
[{"$nulls":6},""]
[{"$nulls":6},""]
[{"$nulls":6},""]
[{"$nulls":6},""]
[{"$nulls":6},""]
[{"$nulls":6},""]
[{"$nulls":6},""]
[{"$nulls":6},""]
[{"$nulls":6},""]
[{"$nulls":6},""]
[{"$nulls":6},""]
[{"$nulls":6},""]
[{"$nulls":6},""]
[{"$nulls":6},""]
[{"$nulls":6},""]
[{"$nulls":6},""]
[{"$nulls":6},""]
[{"$nulls":6},""]
[{"$nulls":6},""]
[{"$nulls":6},""]
[{"$nulls":6},""]
[{"$nulls":6},""]
[{"$nulls":6},{"$f":"IF(D70=1,(E70*F70*13),\"\" )","v":""}]
[{"$nulls":6},""]
[{"$nulls":6},""]
[{"$nulls":6},""]
[{"$nulls":6},""]
[{"$nulls":6},""]
[{"$nulls":6},""]
[{"$nulls":6},""]
[{"$nulls":6},""]
[{"$nulls":6},""]
[{"$nulls":6},""]
[{"$nulls":6},""]
[{"$nulls":6},""]
[{"$nulls":6},""]
[{"$nulls":6},""]
[{"$nulls":6},""]
[{"$nulls":6},""]
[{"$nulls":6},""]
[{"$nulls":6},""]
[{"$nulls":6},""]
[{"$nulls":6},""]
[{"$nulls":6},""]
[{"$nulls":6},""]
[{"$nulls":6},""]
[{"$nulls":6},""]
[{"$nulls":6},""]
[{"$nulls":6},""]
[{"$nulls":6},""]
[{"$nulls":6},""]
[{"$nulls":6},""]
[{"$nulls":6},""]
[{"$nulls":6},""]
[{"$nulls":6},""]
[{"$nulls":6},""]
[{"$nulls":6},""]
[{"$nulls":6},""]
[{"$nulls":6},""]
[{"$nulls":6},""]
[{"$nulls":6},""]
[{"$nulls":6},""]
[{"$nulls":6},""]
[{"$nulls":6},""]
[{"$nulls":6},""]
[{"$nulls":6},""]
[{"$nulls":6},""]
[{"$nulls":6},""]
[{"$nulls":6},""]
[{"$nulls":6},""]
[{"$nulls":6},""]
[{"$nulls":6},""]
[{"$nulls":6},""]
[{"$nulls":6},""]
[{"$nulls":6},""]
[{"$nulls":6},""]
[{"$nulls":6},""]
[{"$nulls":6},""]
[{"$nulls":6},""]
[{"$nulls":6},""]
[{"$nulls":6},""]
[{"$nulls":6},""]
[{"$nulls":6},""]
[{"$nulls":6},""]
[{"$nulls":6},""]
[{"$nulls":6},""]
[{"$nulls":6},{"$f":"IF(D134=1,(E134*F134*13),\"\" )","v":""}]
[{"$nulls":6},""]
[{"$nulls":6},""]
[{"$nulls":6},""]
[{"$nulls":6},""]
[{"$nulls":6},""]
[{"$nulls":6},""]
[{"$nulls":6},""]
[{"$nulls":6},""]
[{"$nulls":6},""]
[{"$nulls":6},""]
[{"$nulls":6},""]
[{"$nulls":6},""]
[{"$nulls":6},""]
[{"$nulls":6},""]
[{"$nulls":6},""]
[{"$nulls":6},""]
[{"$nulls":6},""]
[{"$nulls":6},""]
[{"$nulls":6},""]
[{"$nulls":6},""]
[{"$nulls":6},""]
[{"$nulls":6},""]
[{"$nulls":6},""]
[{"$nulls":6},""]
[{"$nulls":6},""]
[{"$nulls":6},""]
[{"$nulls":6},""]
[{"$nulls":6},""]
[{"$nulls":6},""]
[{"$nulls":6},""]
[{"$nulls":6},""]
[{"$nulls":6},""]
[{"$nulls":6},""]
[{"$nulls":6},""]
[{"$nulls":6},""]
[{"$nulls":6},""]
[{"$nulls":6},""]
[{"$nulls":6},""]
[{"$nulls":6},""]
[{"$nulls":6},""]
[{"$nulls":6},""]
[{"$nulls":6},""]
[{"$nulls":6},""]
[{"$nulls":6},""]
[{"$nulls":6},""]
[{"$nulls":6},""]
[{"$nulls":6},""]
[{"$nulls":6},""]
[{"$nulls":6},""]
[{"$nulls":6},""]
[{"$nulls":6},""]
[{"$nulls":6},""]
[{"$nulls":6},""]
[{"$nulls":6},""]
[{"$nulls":6},""]
[{"$nulls":6},""]
[{"$nulls":6},""]
[{"$nulls":6},""]
[{"$nulls":6},""]
[{"$nulls":6},""]
[{"$nulls":6},""]
[{"$nulls":6},""]
[{"$nulls":6},""]
[{"$nulls":6},{"$f":"IF(D198=1,(E198*F198*13),\"\" )","v":""}]
[{"$nulls":6},""]
[{"$nulls":6},""]
[{"$nulls":6},""]
[{"$nulls":6},""]
[{"$nulls":6},""]
[{"$nulls":6},""]
[{"$nulls":6},""]
[{"$nulls":6},""]
[{"$nulls":6},""]
[{"$nulls":6},""]
[{"$nulls":6},""]
[{"$nulls":6},""]
[{"$nulls":6},""]
[{"$nulls":6},""]
[{"$nulls":6},""]
[{"$nulls":6},""]
[{"$nulls":6},""]
[{"$nulls":6},""]
[{"$nulls":6},""]
[{"$nulls":6},""]
[{"$nulls":6},""]
[{"$nulls":6},""]
[{"$nulls":6},""]
[{"$nulls":6},""]
[{"$nulls":6},""]
[{"$nulls":6},""]
[{"$nulls":6},""]
[{"$nulls":6},""]
[{"$nulls":6},""]
[{"$nulls":6},""]
[{"$nulls":6},""]
[{"$nulls":6},""]
[{"$nulls":6},""]
[{"$nulls":6},""]
[{"$nulls":6},""]
[{"$nulls":6},""]
[{"$nulls":6},""]
[{"$nulls":6},""]
[{"$nulls":6},""]
[{"$nulls":6},""]
[{"$nulls":6},""]
[{"$nulls":6},""]
[{"$nulls":6},""]
[{"$nulls":6},""]
[{"$nulls":6},""]
[{"$nulls":6},""]
[{"$nulls":6},""]
[{"$nulls":6},""]
[{"$nulls":6},""]
[{"$nulls":6},""]
[{"$nulls":6},""]
[{"$nulls":6},""]
[{"$nulls":6},""]
[{"$nulls":6},""]
[{"$nulls":6},""]
[{"$nulls":6},""]
[{"$nulls":6},""]
[{"$nulls":6},""]
[{"$nulls":6},""]
[{"$nulls":6},""]
[{"$nulls":6},""]
[{"$nulls":6},""]
[{"$nulls":6},""]
[{"$nulls":6},{"$f":"IF(D262=1,(E262*F262*13),\"\" )","v":""}]
[{"$nulls":6},""]
[{"$nulls":6},""]
[{"$nulls":6},""]
[{"$nulls":6},""]
[{"$nulls":6},""]
[{"$nulls":6},""]
[{"$nulls":6},""]
[{"$nulls":6},""]
[{"$nulls":6},""]
[{"$nulls":6},""]
[{"$nulls":6},""]
[{"$nulls":6},""]
[{"$nulls":6},""]
[{"$nulls":6},""]
[{"$nulls":6},""]
[{"$nulls":6},""]
[{"$nulls":6},""]
[{"$nulls":6},""]
[{"$nulls":6},""]
[{"$nulls":6},""]
[{"$nulls":6},""]
[{"$nulls":6},""]
[{"$nulls":6},""]
[{"$nulls":6},""]
[{"$nulls":6},""]
[{"$nulls":6},""]
[{"$nulls":6},""]
[{"$nulls":6},""]
[{"$nulls":6},""]
[{"$nulls":6},""]
[{"$nulls":6},""]
[{"$nulls":6},""]
[{"$nulls":6},""]
[{"$nulls":6},""]
[{"$nulls":6},""]
[{"$nulls":6},""]
[{"$nulls":6},""]
[{"$nulls":6},""]
[{"$nulls":6},""]
[{"$nulls":6},""]
[{"$nulls":6},""]
[{"$nulls":6},""]
[{"$nulls":6},""]
[{"$nulls":6},""]
[{"$nulls":6},""]
[{"$nulls":6},""]
[{"$nulls":6},""]
[{"$nulls":6},""]
[{"$nulls":6},""]
[{"$nulls":6},""]
[{"$nulls":6},""]
[{"$nulls":6},""]
[{"$nulls":6},""]
[{"$nulls":6},""]
[{"$nulls":6},""]
[{"$nulls":6},""]
[{"$nulls":6},""]
[{"$nulls":6},""]
[{"$nulls":6},""]
[{"$nulls":6},""]
[{"$nulls":6},""]
[{"$nulls":6},""]
[{"$nulls":6},""]
[{"$nulls":6},{"$f":"IF(D326=1,(E326*F326*13),\"\" )","v":""}]
[{"$nulls":6},""]
[{"$nulls":6},""]
[{"$nulls":6},""]
[{"$nulls":6},""]
[{"$nulls":6},""]
[{"$nulls":6},""]
[{"$nulls":6},""]
[{"$nulls":6},""]
[{"$nulls":6},""]
[{"$nulls":6},""]
[{"$nulls":6},""]
[{"$nulls":6},""]
[{"$nulls":6},""]
[{"$nulls":6},""]
[{"$nulls":6},""]
[{"$nulls":6},""]
[{"$nulls":6},""]
[{"$nulls":6},""]
[{"$nulls":6},""]
[{"$nulls":6},""]
[{"$nulls":6},""]
[{"$nulls":6},""]
[{"$nulls":6},""]
[{"$nulls":6},""]
[{"$nulls":6},""]
[{"$nulls":6},""]
[{"$nulls":6},""]
[{"$nulls":6},""]
[{"$nulls":6},""]
[{"$nulls":6},""]
[{"$nulls":6},""]
[{"$nulls":6},""]
[{"$nulls":6},""]
[{"$nulls":6},""]
[{"$nulls":6},""]
[{"$nulls":6},""]
[{"$nulls":6},""]
[{"$nulls":6},""]
[{"$nulls":6},""]
[{"$nulls":6},""]
[{"$nulls":6},""]
[{"$nulls":6},""]
[{"$nulls":6},""]
[{"$nulls":6},""]
[{"$nulls":6},""]
[{"$nulls":6},""]
[{"$nulls":6},""]
[{"$nulls":6},""]
[{"$nulls":6},""]
[{"$nulls":6},""]
[{"$nulls":6},""]
[{"$nulls":6},""]
[{"$nulls":6},""]
[{"$nulls":6},""]
[{"$nulls":6},""]
[{"$nulls":6},""]
[{"$nulls":6},""]
[{"$nulls":6},""]
[{"$nulls":6},""]
[{"$nulls":6},""]
[{"$nulls":6},""]
[{"$nulls":6},""]
[{"$nulls":6},""]
[{"$nulls":6},{"$f":"IF(D390=1,(E390*F390*13),\"\" )","v":""}]
[{"$nulls":6},""]
[{"$nulls":6},""]
[{"$nulls":6},""]
[{"$nulls":6},""]
[{"$nulls":6},""]
[{"$nulls":6},""]
[{"$nulls":6},""]
[{"$nulls":6},""]
[{"$nulls":6},""]
[{"$nulls":6},""]
[{"$nulls":6},""]
[{"$nulls":6},""]
[{"$nulls":6},""]
[{"$nulls":6},""]
[{"$nulls":4},"VETS-701 Enter Exiter Info Q3",null,{"$f":"IF('VETS-701E Enter Exiter Info Q3'!D5=1,'VETS-701E Enter Exiter Info Q3'!G5,\"\")","v":""},{"$f":"MEDIAN(G900:G1099)","v":{"$error":"#NUM!"}}]
[{"$nulls":6},{"$f":"IF('VETS-701E Enter Exiter Info Q3'!D6=1,'VETS-701E Enter Exiter Info Q3'!G6,\"\")","v":""}]
[{"$nulls":6},{"$f":"IF('VETS-701E Enter Exiter Info Q3'!D7=1,'VETS-701E Enter Exiter Info Q3'!G7,\"\")","v":""}]
[{"$nulls":6},{"$f":"IF('VETS-701E Enter Exiter Info Q3'!D8=1,'VETS-701E Enter Exiter Info Q3'!G8,\"\")","v":""}]
[{"$nulls":6},{"$f":"IF('VETS-701E Enter Exiter Info Q3'!D9=1,'VETS-701E Enter Exiter Info Q3'!G9,\"\")","v":""}]
[{"$nulls":6},{"$f":"IF('VETS-701E Enter Exiter Info Q3'!D10=1,'VETS-701E Enter Exiter Info Q3'!G10,\"\")","v":""}]
[{"$nulls":6},{"$f":"IF('VETS-701E Enter Exiter Info Q3'!D11=1,'VETS-701E Enter Exiter Info Q3'!G11,\"\")","v":""}]
[{"$nulls":6},{"$f":"IF('VETS-701E Enter Exiter Info Q3'!D12=1,'VETS-701E Enter Exiter Info Q3'!G12,\"\")","v":""}]
[{"$nulls":6},{"$f":"IF('VETS-701E Enter Exiter Info Q3'!D13=1,'VETS-701E Enter Exiter Info Q3'!G13,\"\")","v":""}]
[{"$nulls":6},{"$f":"IF('VETS-701E Enter Exiter Info Q3'!D14=1,'VETS-701E Enter Exiter Info Q3'!G14,\"\")","v":""}]
[{"$nulls":6},{"$f":"IF('VETS-701E Enter Exiter Info Q3'!D15=1,'VETS-701E Enter Exiter Info Q3'!G15,\"\")","v":""}]
[{"$nulls":6},{"$f":"IF('VETS-701E Enter Exiter Info Q3'!D16=1,'VETS-701E Enter Exiter Info Q3'!G16,\"\")","v":""}]
[{"$nulls":6},{"$f":"IF('VETS-701E Enter Exiter Info Q3'!D17=1,'VETS-701E Enter Exiter Info Q3'!G17,\"\")","v":""}]
[{"$nulls":6},{"$f":"IF('VETS-701E Enter Exiter Info Q3'!D18=1,'VETS-701E Enter Exiter Info Q3'!G18,\"\")","v":""}]
[{"$nulls":6},{"$f":"IF('VETS-701E Enter Exiter Info Q3'!D19=1,'VETS-701E Enter Exiter Info Q3'!G19,\"\")","v":""}]
[{"$nulls":6},{"$f":"IF('VETS-701E Enter Exiter Info Q3'!D20=1,'VETS-701E Enter Exiter Info Q3'!G20,\"\")","v":""}]
[{"$nulls":6},{"$f":"IF('VETS-701E Enter Exiter Info Q3'!D21=1,'VETS-701E Enter Exiter Info Q3'!G21,\"\")","v":""}]
[{"$nulls":6},{"$f":"IF('VETS-701E Enter Exiter Info Q3'!D22=1,'VETS-701E Enter Exiter Info Q3'!G22,\"\")","v":""}]
[{"$nulls":6},{"$f":"IF('VETS-701E Enter Exiter Info Q3'!D23=1,'VETS-701E Enter Exiter Info Q3'!G23,\"\")","v":""}]
[{"$nulls":6},{"$f":"IF('VETS-701E Enter Exiter Info Q3'!D24=1,'VETS-701E Enter Exiter Info Q3'!G24,\"\")","v":""}]
[{"$nulls":6},{"$f":"IF('VETS-701E Enter Exiter Info Q3'!D25=1,'VETS-701E Enter Exiter Info Q3'!G25,\"\")","v":""}]
[{"$nulls":6},{"$f":"IF('VETS-701E Enter Exiter Info Q3'!D26=1,'VETS-701E Enter Exiter Info Q3'!G26,\"\")","v":""}]
[{"$nulls":6},{"$f":"IF('VETS-701E Enter Exiter Info Q3'!D27=1,'VETS-701E Enter Exiter Info Q3'!G27,\"\")","v":""}]
[{"$nulls":6},{"$f":"IF('VETS-701E Enter Exiter Info Q3'!D28=1,'VETS-701E Enter Exiter Info Q3'!G28,\"\")","v":""}]
[{"$nulls":6},{"$f":"IF('VETS-701E Enter Exiter Info Q3'!D29=1,'VETS-701E Enter Exiter Info Q3'!G29,\"\")","v":""}]
[{"$nulls":6},{"$f":"IF('VETS-701E Enter Exiter Info Q3'!D30=1,'VETS-701E Enter Exiter Info Q3'!G30,\"\")","v":""}]
[{"$nulls":6},{"$f":"IF('VETS-701E Enter Exiter Info Q3'!D31=1,'VETS-701E Enter Exiter Info Q3'!G31,\"\")","v":""}]
[{"$nulls":6},{"$f":"IF('VETS-701E Enter Exiter Info Q3'!D32=1,'VETS-701E Enter Exiter Info Q3'!G32,\"\")","v":""}]
[{"$nulls":6},{"$f":"IF('VETS-701E Enter Exiter Info Q3'!D33=1,'VETS-701E Enter Exiter Info Q3'!G33,\"\")","v":""}]
[{"$nulls":6},{"$f":"IF('VETS-701E Enter Exiter Info Q3'!D34=1,'VETS-701E Enter Exiter Info Q3'!G34,\"\")","v":""}]
[{"$nulls":6},{"$f":"IF('VETS-701E Enter Exiter Info Q3'!D35=1,'VETS-701E Enter Exiter Info Q3'!G35,\"\")","v":""}]
[{"$nulls":6},{"$f":"IF('VETS-701E Enter Exiter Info Q3'!D36=1,'VETS-701E Enter Exiter Info Q3'!G36,\"\")","v":""}]
[{"$nulls":6},{"$f":"IF('VETS-701E Enter Exiter Info Q3'!D37=1,'VETS-701E Enter Exiter Info Q3'!G37,\"\")","v":""}]
[{"$nulls":6},{"$f":"IF('VETS-701E Enter Exiter Info Q3'!D38=1,'VETS-701E Enter Exiter Info Q3'!G38,\"\")","v":""}]
[{"$nulls":6},{"$f":"IF('VETS-701E Enter Exiter Info Q3'!D39=1,'VETS-701E Enter Exiter Info Q3'!G39,\"\")","v":""}]
[{"$nulls":6},{"$f":"IF('VETS-701E Enter Exiter Info Q3'!D40=1,'VETS-701E Enter Exiter Info Q3'!G40,\"\")","v":""}]
[{"$nulls":6},{"$f":"IF('VETS-701E Enter Exiter Info Q3'!D41=1,'VETS-701E Enter Exiter Info Q3'!G41,\"\")","v":""}]
[{"$nulls":6},{"$f":"IF('VETS-701E Enter Exiter Info Q3'!D42=1,'VETS-701E Enter Exiter Info Q3'!G42,\"\")","v":""}]
[{"$nulls":6},{"$f":"IF('VETS-701E Enter Exiter Info Q3'!D43=1,'VETS-701E Enter Exiter Info Q3'!G43,\"\")","v":""}]
[{"$nulls":6},{"$f":"IF('VETS-701E Enter Exiter Info Q3'!D44=1,'VETS-701E Enter Exiter Info Q3'!G44,\"\")","v":""}]
[{"$nulls":6},{"$f":"IF('VETS-701E Enter Exiter Info Q3'!D45=1,'VETS-701E Enter Exiter Info Q3'!G45,\"\")","v":""}]
[{"$nulls":6},{"$f":"IF('VETS-701E Enter Exiter Info Q3'!D46=1,'VETS-701E Enter Exiter Info Q3'!G46,\"\")","v":""}]
[{"$nulls":6},{"$f":"IF('VETS-701E Enter Exiter Info Q3'!D47=1,'VETS-701E Enter Exiter Info Q3'!G47,\"\")","v":""}]
[{"$nulls":6},{"$f":"IF('VETS-701E Enter Exiter Info Q3'!D48=1,'VETS-701E Enter Exiter Info Q3'!G48,\"\")","v":""}]
[{"$nulls":6},{"$f":"IF('VETS-701E Enter Exiter Info Q3'!D49=1,'VETS-701E Enter Exiter Info Q3'!G49,\"\")","v":""}]
[{"$nulls":6},{"$f":"IF('VETS-701E Enter Exiter Info Q3'!D50=1,'VETS-701E Enter Exiter Info Q3'!G50,\"\")","v":""}]
[{"$nulls":6},{"$f":"IF('VETS-701E Enter Exiter Info Q3'!D51=1,'VETS-701E Enter Exiter Info Q3'!G51,\"\")","v":""}]
[{"$nulls":6},{"$f":"IF('VETS-701E Enter Exiter Info Q3'!D52=1,'VETS-701E Enter Exiter Info Q3'!G52,\"\")","v":""}]
[{"$nulls":6},{"$f":"IF('VETS-701E Enter Exiter Info Q3'!D53=1,'VETS-701E Enter Exiter Info Q3'!G53,\"\")","v":""}]
[{"$nulls":6},{"$f":"IF('VETS-701E Enter Exiter Info Q3'!D54=1,'VETS-701E Enter Exiter Info Q3'!G54,\"\")","v":""}]
[{"$nulls":6},{"$f":"IF('VETS-701E Enter Exiter Info Q3'!D55=1,'VETS-701E Enter Exiter Info Q3'!G55,\"\")","v":""}]
[{"$nulls":6},{"$f":"IF('VETS-701E Enter Exiter Info Q3'!D56=1,'VETS-701E Enter Exiter Info Q3'!G56,\"\")","v":""}]
[{"$nulls":6},{"$f":"IF('VETS-701E Enter Exiter Info Q3'!D57=1,'VETS-701E Enter Exiter Info Q3'!G57,\"\")","v":""}]
[{"$nulls":6},{"$f":"IF('VETS-701E Enter Exiter Info Q3'!D58=1,'VETS-701E Enter Exiter Info Q3'!G58,\"\")","v":""}]
[{"$nulls":6},{"$f":"IF('VETS-701E Enter Exiter Info Q3'!D59=1,'VETS-701E Enter Exiter Info Q3'!G59,\"\")","v":""}]
[{"$nulls":6},{"$f":"IF('VETS-701E Enter Exiter Info Q3'!D60=1,'VETS-701E Enter Exiter Info Q3'!G60,\"\")","v":""}]
[{"$nulls":6},{"$f":"IF('VETS-701E Enter Exiter Info Q3'!D61=1,'VETS-701E Enter Exiter Info Q3'!G61,\"\")","v":""}]
[{"$nulls":6},{"$f":"IF('VETS-701E Enter Exiter Info Q3'!D62=1,'VETS-701E Enter Exiter Info Q3'!G62,\"\")","v":""}]
[{"$nulls":6},{"$f":"IF('VETS-701E Enter Exiter Info Q3'!D63=1,'VETS-701E Enter Exiter Info Q3'!G63,\"\")","v":""}]
[{"$nulls":6},{"$f":"IF('VETS-701E Enter Exiter Info Q3'!D64=1,'VETS-701E Enter Exiter Info Q3'!G64,\"\")","v":""}]
[{"$nulls":6},{"$f":"IF('VETS-701E Enter Exiter Info Q3'!D65=1,'VETS-701E Enter Exiter Info Q3'!G65,\"\")","v":""}]
[{"$nulls":6},{"$f":"IF('VETS-701E Enter Exiter Info Q3'!D66=1,'VETS-701E Enter Exiter Info Q3'!G66,\"\")","v":""}]
[{"$nulls":6},{"$f":"IF('VETS-701E Enter Exiter Info Q3'!D67=1,'VETS-701E Enter Exiter Info Q3'!G67,\"\")","v":""}]
[{"$nulls":6},{"$f":"IF('VETS-701E Enter Exiter Info Q3'!D68=1,'VETS-701E Enter Exiter Info Q3'!G68,\"\")","v":""}]
[{"$nulls":6},{"$f":"IF('VETS-701E Enter Exiter Info Q3'!D69=1,'VETS-701E Enter Exiter Info Q3'!G69,\"\")","v":""}]
[{"$nulls":6},{"$f":"IF('VETS-701E Enter Exiter Info Q3'!D70=1,'VETS-701E Enter Exiter Info Q3'!G70,\"\")","v":""}]
[{"$nulls":6},{"$f":"IF('VETS-701E Enter Exiter Info Q3'!D71=1,'VETS-701E Enter Exiter Info Q3'!G71,\"\")","v":""}]
[{"$nulls":6},{"$f":"IF('VETS-701E Enter Exiter Info Q3'!D72=1,'VETS-701E Enter Exiter Info Q3'!G72,\"\")","v":""}]
[{"$nulls":6},{"$f":"IF('VETS-701E Enter Exiter Info Q3'!D73=1,'VETS-701E Enter Exiter Info Q3'!G73,\"\")","v":""}]
[{"$nulls":6},{"$f":"IF('VETS-701E Enter Exiter Info Q3'!D74=1,'VETS-701E Enter Exiter Info Q3'!G74,\"\")","v":""}]
[{"$nulls":6},{"$f":"IF('VETS-701E Enter Exiter Info Q3'!D75=1,'VETS-701E Enter Exiter Info Q3'!G75,\"\")","v":""}]
[{"$nulls":6},{"$f":"IF('VETS-701E Enter Exiter Info Q3'!D76=1,'VETS-701E Enter Exiter Info Q3'!G76,\"\")","v":""}]
[{"$nulls":6},{"$f":"IF('VETS-701E Enter Exiter Info Q3'!D77=1,'VETS-701E Enter Exiter Info Q3'!G77,\"\")","v":""}]
[{"$nulls":6},{"$f":"IF('VETS-701E Enter Exiter Info Q3'!D78=1,'VETS-701E Enter Exiter Info Q3'!G78,\"\")","v":""}]
[{"$nulls":6},{"$f":"IF('VETS-701E Enter Exiter Info Q3'!D79=1,'VETS-701E Enter Exiter Info Q3'!G79,\"\")","v":""}]
[{"$nulls":6},{"$f":"IF('VETS-701E Enter Exiter Info Q3'!D80=1,'VETS-701E Enter Exiter Info Q3'!G80,\"\")","v":""}]
[{"$nulls":6},{"$f":"IF('VETS-701E Enter Exiter Info Q3'!D81=1,'VETS-701E Enter Exiter Info Q3'!G81,\"\")","v":""}]
[{"$nulls":6},{"$f":"IF('VETS-701E Enter Exiter Info Q3'!D82=1,'VETS-701E Enter Exiter Info Q3'!G82,\"\")","v":""}]
[{"$nulls":6},{"$f":"IF('VETS-701E Enter Exiter Info Q3'!D83=1,'VETS-701E Enter Exiter Info Q3'!G83,\"\")","v":""}]
[{"$nulls":6},{"$f":"IF('VETS-701E Enter Exiter Info Q3'!D84=1,'VETS-701E Enter Exiter Info Q3'!G84,\"\")","v":""}]
[{"$nulls":6},{"$f":"IF('VETS-701E Enter Exiter Info Q3'!D85=1,'VETS-701E Enter Exiter Info Q3'!G85,\"\")","v":""}]
[{"$nulls":6},{"$f":"IF('VETS-701E Enter Exiter Info Q3'!D86=1,'VETS-701E Enter Exiter Info Q3'!G86,\"\")","v":""}]
[{"$nulls":6},{"$f":"IF('VETS-701E Enter Exiter Info Q3'!D87=1,'VETS-701E Enter Exiter Info Q3'!G87,\"\")","v":""}]
[{"$nulls":6},{"$f":"IF('VETS-701E Enter Exiter Info Q3'!D88=1,'VETS-701E Enter Exiter Info Q3'!G88,\"\")","v":""}]
[{"$nulls":6},{"$f":"IF('VETS-701E Enter Exiter Info Q3'!D89=1,'VETS-701E Enter Exiter Info Q3'!G89,\"\")","v":""}]
[{"$nulls":6},{"$f":"IF('VETS-701E Enter Exiter Info Q3'!D90=1,'VETS-701E Enter Exiter Info Q3'!G90,\"\")","v":""}]
[{"$nulls":6},{"$f":"IF('VETS-701E Enter Exiter Info Q3'!D91=1,'VETS-701E Enter Exiter Info Q3'!G91,\"\")","v":""}]
[{"$nulls":6},{"$f":"IF('VETS-701E Enter Exiter Info Q3'!D92=1,'VETS-701E Enter Exiter Info Q3'!G92,\"\")","v":""}]
[{"$nulls":6},{"$f":"IF('VETS-701E Enter Exiter Info Q3'!D93=1,'VETS-701E Enter Exiter Info Q3'!G93,\"\")","v":""}]
[{"$nulls":6},{"$f":"IF('VETS-701E Enter Exiter Info Q3'!D94=1,'VETS-701E Enter Exiter Info Q3'!G94,\"\")","v":""}]
[{"$nulls":6},{"$f":"IF('VETS-701E Enter Exiter Info Q3'!D95=1,'VETS-701E Enter Exiter Info Q3'!G95,\"\")","v":""}]
[{"$nulls":6},{"$f":"IF('VETS-701E Enter Exiter Info Q3'!D96=1,'VETS-701E Enter Exiter Info Q3'!G96,\"\")","v":""}]
[{"$nulls":6},{"$f":"IF('VETS-701E Enter Exiter Info Q3'!D97=1,'VETS-701E Enter Exiter Info Q3'!G97,\"\")","v":""}]
[{"$nulls":6},{"$f":"IF('VETS-701E Enter Exiter Info Q3'!D98=1,'VETS-701E Enter Exiter Info Q3'!G98,\"\")","v":""}]
[{"$nulls":6},{"$f":"IF('VETS-701E Enter Exiter Info Q3'!D99=1,'VETS-701E Enter Exiter Info Q3'!G99,\"\")","v":""}]
[{"$nulls":6},{"$f":"IF('VETS-701E Enter Exiter Info Q3'!D100=1,'VETS-701E Enter Exiter Info Q3'!G100,\"\")","v":""}]
[{"$nulls":6},{"$f":"IF('VETS-701E Enter Exiter Info Q3'!D101=1,'VETS-701E Enter Exiter Info Q3'!G101,\"\")","v":""}]
[{"$nulls":6},{"$f":"IF('VETS-701E Enter Exiter Info Q3'!D102=1,'VETS-701E Enter Exiter Info Q3'!G102,\"\")","v":""}]
[{"$nulls":6},{"$f":"IF('VETS-701E Enter Exiter Info Q3'!D103=1,'VETS-701E Enter Exiter Info Q3'!G103,\"\")","v":""}]
[{"$nulls":6},{"$f":"IF('VETS-701E Enter Exiter Info Q3'!D104=1,'VETS-701E Enter Exiter Info Q3'!G104,\"\")","v":""}]
[{"$nulls":6},{"$f":"IF('VETS-701E Enter Exiter Info Q3'!D105=1,'VETS-701E Enter Exiter Info Q3'!G105,\"\")","v":""}]
[{"$nulls":6},{"$f":"IF('VETS-701E Enter Exiter Info Q3'!D106=1,'VETS-701E Enter Exiter Info Q3'!G106,\"\")","v":""}]
[{"$nulls":6},{"$f":"IF('VETS-701E Enter Exiter Info Q3'!D107=1,'VETS-701E Enter Exiter Info Q3'!G107,\"\")","v":""}]
[{"$nulls":6},{"$f":"IF('VETS-701E Enter Exiter Info Q3'!D108=1,'VETS-701E Enter Exiter Info Q3'!G108,\"\")","v":""}]
[{"$nulls":6},{"$f":"IF('VETS-701E Enter Exiter Info Q3'!D109=1,'VETS-701E Enter Exiter Info Q3'!G109,\"\")","v":""}]
[{"$nulls":6},{"$f":"IF('VETS-701E Enter Exiter Info Q3'!D110=1,'VETS-701E Enter Exiter Info Q3'!G110,\"\")","v":""}]
[{"$nulls":6},{"$f":"IF('VETS-701E Enter Exiter Info Q3'!D111=1,'VETS-701E Enter Exiter Info Q3'!G111,\"\")","v":""}]
[{"$nulls":6},{"$f":"IF('VETS-701E Enter Exiter Info Q3'!D112=1,'VETS-701E Enter Exiter Info Q3'!G112,\"\")","v":""}]
[{"$nulls":6},{"$f":"IF('VETS-701E Enter Exiter Info Q3'!D113=1,'VETS-701E Enter Exiter Info Q3'!G113,\"\")","v":""}]
[{"$nulls":6},{"$f":"IF('VETS-701E Enter Exiter Info Q3'!D114=1,'VETS-701E Enter Exiter Info Q3'!G114,\"\")","v":""}]
[{"$nulls":6},{"$f":"IF('VETS-701E Enter Exiter Info Q3'!D115=1,'VETS-701E Enter Exiter Info Q3'!G115,\"\")","v":""}]
[{"$nulls":6},{"$f":"IF('VETS-701E Enter Exiter Info Q3'!D116=1,'VETS-701E Enter Exiter Info Q3'!G116,\"\")","v":""}]
[{"$nulls":6},{"$f":"IF('VETS-701E Enter Exiter Info Q3'!D117=1,'VETS-701E Enter Exiter Info Q3'!G117,\"\")","v":""}]
[{"$nulls":6},{"$f":"IF('VETS-701E Enter Exiter Info Q3'!D118=1,'VETS-701E Enter Exiter Info Q3'!G118,\"\")","v":""}]
[{"$nulls":6},{"$f":"IF('VETS-701E Enter Exiter Info Q3'!D119=1,'VETS-701E Enter Exiter Info Q3'!G119,\"\")","v":""}]
[{"$nulls":6},{"$f":"IF('VETS-701E Enter Exiter Info Q3'!D120=1,'VETS-701E Enter Exiter Info Q3'!G120,\"\")","v":""}]
[{"$nulls":6},{"$f":"IF('VETS-701E Enter Exiter Info Q3'!D121=1,'VETS-701E Enter Exiter Info Q3'!G121,\"\")","v":""}]
[{"$nulls":6},{"$f":"IF('VETS-701E Enter Exiter Info Q3'!D122=1,'VETS-701E Enter Exiter Info Q3'!G122,\"\")","v":""}]
[{"$nulls":6},{"$f":"IF('VETS-701E Enter Exiter Info Q3'!D123=1,'VETS-701E Enter Exiter Info Q3'!G123,\"\")","v":""}]
[{"$nulls":6},{"$f":"IF('VETS-701E Enter Exiter Info Q3'!D124=1,'VETS-701E Enter Exiter Info Q3'!G124,\"\")","v":""}]
[{"$nulls":6},{"$f":"IF('VETS-701E Enter Exiter Info Q3'!D125=1,'VETS-701E Enter Exiter Info Q3'!G125,\"\")","v":""}]
[{"$nulls":6},{"$f":"IF('VETS-701E Enter Exiter Info Q3'!D126=1,'VETS-701E Enter Exiter Info Q3'!G126,\"\")","v":""}]
[{"$nulls":6},{"$f":"IF('VETS-701E Enter Exiter Info Q3'!D127=1,'VETS-701E Enter Exiter Info Q3'!G127,\"\")","v":""}]
[{"$nulls":6},{"$f":"IF('VETS-701E Enter Exiter Info Q3'!D128=1,'VETS-701E Enter Exiter Info Q3'!G128,\"\")","v":""}]
[{"$nulls":6},{"$f":"IF('VETS-701E Enter Exiter Info Q3'!D129=1,'VETS-701E Enter Exiter Info Q3'!G129,\"\")","v":""}]
[{"$nulls":6},{"$f":"IF('VETS-701E Enter Exiter Info Q3'!D130=1,'VETS-701E Enter Exiter Info Q3'!G130,\"\")","v":""}]
[{"$nulls":6},{"$f":"IF('VETS-701E Enter Exiter Info Q3'!D131=1,'VETS-701E Enter Exiter Info Q3'!G131,\"\")","v":""}]
[{"$nulls":6},{"$f":"IF('VETS-701E Enter Exiter Info Q3'!D132=1,'VETS-701E Enter Exiter Info Q3'!G132,\"\")","v":""}]
[{"$nulls":6},{"$f":"IF('VETS-701E Enter Exiter Info Q3'!D133=1,'VETS-701E Enter Exiter Info Q3'!G133,\"\")","v":""}]
[{"$nulls":6},{"$f":"IF('VETS-701E Enter Exiter Info Q3'!D134=1,'VETS-701E Enter Exiter Info Q3'!G134,\"\")","v":""}]
[{"$nulls":6},{"$f":"IF('VETS-701E Enter Exiter Info Q3'!D135=1,'VETS-701E Enter Exiter Info Q3'!G135,\"\")","v":""}]
[{"$nulls":6},{"$f":"IF('VETS-701E Enter Exiter Info Q3'!D136=1,'VETS-701E Enter Exiter Info Q3'!G136,\"\")","v":""}]
[{"$nulls":6},{"$f":"IF('VETS-701E Enter Exiter Info Q3'!D137=1,'VETS-701E Enter Exiter Info Q3'!G137,\"\")","v":""}]
[{"$nulls":6},{"$f":"IF('VETS-701E Enter Exiter Info Q3'!D138=1,'VETS-701E Enter Exiter Info Q3'!G138,\"\")","v":""}]
[{"$nulls":6},{"$f":"IF('VETS-701E Enter Exiter Info Q3'!D139=1,'VETS-701E Enter Exiter Info Q3'!G139,\"\")","v":""}]
[{"$nulls":6},{"$f":"IF('VETS-701E Enter Exiter Info Q3'!D140=1,'VETS-701E Enter Exiter Info Q3'!G140,\"\")","v":""}]
[{"$nulls":6},{"$f":"IF('VETS-701E Enter Exiter Info Q3'!D141=1,'VETS-701E Enter Exiter Info Q3'!G141,\"\")","v":""}]
[{"$nulls":6},{"$f":"IF('VETS-701E Enter Exiter Info Q3'!D142=1,'VETS-701E Enter Exiter Info Q3'!G142,\"\")","v":""}]
[{"$nulls":6},{"$f":"IF('VETS-701E Enter Exiter Info Q3'!D143=1,'VETS-701E Enter Exiter Info Q3'!G143,\"\")","v":""}]
[{"$nulls":6},{"$f":"IF('VETS-701E Enter Exiter Info Q3'!D144=1,'VETS-701E Enter Exiter Info Q3'!G144,\"\")","v":""}]
[{"$nulls":6},{"$f":"IF('VETS-701E Enter Exiter Info Q3'!D145=1,'VETS-701E Enter Exiter Info Q3'!G145,\"\")","v":""}]
[{"$nulls":6},{"$f":"IF('VETS-701E Enter Exiter Info Q3'!D146=1,'VETS-701E Enter Exiter Info Q3'!G146,\"\")","v":""}]
[{"$nulls":6},{"$f":"IF('VETS-701E Enter Exiter Info Q3'!D147=1,'VETS-701E Enter Exiter Info Q3'!G147,\"\")","v":""}]
[{"$nulls":6},{"$f":"IF('VETS-701E Enter Exiter Info Q3'!D148=1,'VETS-701E Enter Exiter Info Q3'!G148,\"\")","v":""}]
[{"$nulls":6},{"$f":"IF('VETS-701E Enter Exiter Info Q3'!D149=1,'VETS-701E Enter Exiter Info Q3'!G149,\"\")","v":""}]
[{"$nulls":6},{"$f":"IF('VETS-701E Enter Exiter Info Q3'!D150=1,'VETS-701E Enter Exiter Info Q3'!G150,\"\")","v":""}]
[{"$nulls":6},{"$f":"IF('VETS-701E Enter Exiter Info Q3'!D151=1,'VETS-701E Enter Exiter Info Q3'!G151,\"\")","v":""}]
[{"$nulls":6},{"$f":"IF('VETS-701E Enter Exiter Info Q3'!D152=1,'VETS-701E Enter Exiter Info Q3'!G152,\"\")","v":""}]
[{"$nulls":6},{"$f":"IF('VETS-701E Enter Exiter Info Q3'!D153=1,'VETS-701E Enter Exiter Info Q3'!G153,\"\")","v":""}]
[{"$nulls":6},{"$f":"IF('VETS-701E Enter Exiter Info Q3'!D154=1,'VETS-701E Enter Exiter Info Q3'!G154,\"\")","v":""}]
[{"$nulls":6},{"$f":"IF('VETS-701E Enter Exiter Info Q3'!D155=1,'VETS-701E Enter Exiter Info Q3'!G155,\"\")","v":""}]
[{"$nulls":6},{"$f":"IF('VETS-701E Enter Exiter Info Q3'!D156=1,'VETS-701E Enter Exiter Info Q3'!G156,\"\")","v":""}]
[{"$nulls":6},{"$f":"IF('VETS-701E Enter Exiter Info Q3'!D157=1,'VETS-701E Enter Exiter Info Q3'!G157,\"\")","v":""}]
[{"$nulls":6},{"$f":"IF('VETS-701E Enter Exiter Info Q3'!D158=1,'VETS-701E Enter Exiter Info Q3'!G158,\"\")","v":""}]
[{"$nulls":6},{"$f":"IF('VETS-701E Enter Exiter Info Q3'!D159=1,'VETS-701E Enter Exiter Info Q3'!G159,\"\")","v":""}]
[{"$nulls":6},{"$f":"IF('VETS-701E Enter Exiter Info Q3'!D160=1,'VETS-701E Enter Exiter Info Q3'!G160,\"\")","v":""}]
[{"$nulls":6},{"$f":"IF('VETS-701E Enter Exiter Info Q3'!D161=1,'VETS-701E Enter Exiter Info Q3'!G161,\"\")","v":""}]
[{"$nulls":6},{"$f":"IF('VETS-701E Enter Exiter Info Q3'!D162=1,'VETS-701E Enter Exiter Info Q3'!G162,\"\")","v":""}]
[{"$nulls":6},{"$f":"IF('VETS-701E Enter Exiter Info Q3'!D163=1,'VETS-701E Enter Exiter Info Q3'!G163,\"\")","v":""}]
[{"$nulls":6},{"$f":"IF('VETS-701E Enter Exiter Info Q3'!D164=1,'VETS-701E Enter Exiter Info Q3'!G164,\"\")","v":""}]
[{"$nulls":6},{"$f":"IF('VETS-701E Enter Exiter Info Q3'!D165=1,'VETS-701E Enter Exiter Info Q3'!G165,\"\")","v":""}]
[{"$nulls":6},{"$f":"IF('VETS-701E Enter Exiter Info Q3'!D166=1,'VETS-701E Enter Exiter Info Q3'!G166,\"\")","v":""}]
[{"$nulls":6},{"$f":"IF('VETS-701E Enter Exiter Info Q3'!D167=1,'VETS-701E Enter Exiter Info Q3'!G167,\"\")","v":""}]
[{"$nulls":6},{"$f":"IF('VETS-701E Enter Exiter Info Q3'!D168=1,'VETS-701E Enter Exiter Info Q3'!G168,\"\")","v":""}]
[{"$nulls":6},{"$f":"IF('VETS-701E Enter Exiter Info Q3'!D169=1,'VETS-701E Enter Exiter Info Q3'!G169,\"\")","v":""}]
[{"$nulls":6},{"$f":"IF('VETS-701E Enter Exiter Info Q3'!D170=1,'VETS-701E Enter Exiter Info Q3'!G170,\"\")","v":""}]
[{"$nulls":6},{"$f":"IF('VETS-701E Enter Exiter Info Q3'!D171=1,'VETS-701E Enter Exiter Info Q3'!G171,\"\")","v":""}]
[{"$nulls":6},{"$f":"IF('VETS-701E Enter Exiter Info Q3'!D172=1,'VETS-701E Enter Exiter Info Q3'!G172,\"\")","v":""}]
[{"$nulls":6},{"$f":"IF('VETS-701E Enter Exiter Info Q3'!D173=1,'VETS-701E Enter Exiter Info Q3'!G173,\"\")","v":""}]
[{"$nulls":6},{"$f":"IF('VETS-701E Enter Exiter Info Q3'!D174=1,'VETS-701E Enter Exiter Info Q3'!G174,\"\")","v":""}]
[{"$nulls":6},{"$f":"IF('VETS-701E Enter Exiter Info Q3'!D175=1,'VETS-701E Enter Exiter Info Q3'!G175,\"\")","v":""}]
[{"$nulls":6},{"$f":"IF('VETS-701E Enter Exiter Info Q3'!D176=1,'VETS-701E Enter Exiter Info Q3'!G176,\"\")","v":""}]
[{"$nulls":6},{"$f":"IF('VETS-701E Enter Exiter Info Q3'!D177=1,'VETS-701E Enter Exiter Info Q3'!G177,\"\")","v":""}]
[{"$nulls":6},{"$f":"IF('VETS-701E Enter Exiter Info Q3'!D178=1,'VETS-701E Enter Exiter Info Q3'!G178,\"\")","v":""}]
[{"$nulls":6},{"$f":"IF('VETS-701E Enter Exiter Info Q3'!D179=1,'VETS-701E Enter Exiter Info Q3'!G179,\"\")","v":""}]
[{"$nulls":6},{"$f":"IF('VETS-701E Enter Exiter Info Q3'!D180=1,'VETS-701E Enter Exiter Info Q3'!G180,\"\")","v":""}]
[{"$nulls":6},{"$f":"IF('VETS-701E Enter Exiter Info Q3'!D181=1,'VETS-701E Enter Exiter Info Q3'!G181,\"\")","v":""}]
[{"$nulls":6},{"$f":"IF('VETS-701E Enter Exiter Info Q3'!D182=1,'VETS-701E Enter Exiter Info Q3'!G182,\"\")","v":""}]
[{"$nulls":6},{"$f":"IF('VETS-701E Enter Exiter Info Q3'!D183=1,'VETS-701E Enter Exiter Info Q3'!G183,\"\")","v":""}]
[{"$nulls":6},{"$f":"IF('VETS-701E Enter Exiter Info Q3'!D184=1,'VETS-701E Enter Exiter Info Q3'!G184,\"\")","v":""}]
[{"$nulls":6},{"$f":"IF('VETS-701E Enter Exiter Info Q3'!D185=1,'VETS-701E Enter Exiter Info Q3'!G185,\"\")","v":""}]
[{"$nulls":6},{"$f":"IF('VETS-701E Enter Exiter Info Q3'!D186=1,'VETS-701E Enter Exiter Info Q3'!G186,\"\")","v":""}]
[{"$nulls":6},{"$f":"IF('VETS-701E Enter Exiter Info Q3'!D187=1,'VETS-701E Enter Exiter Info Q3'!G187,\"\")","v":""}]
[{"$nulls":6},{"$f":"IF('VETS-701E Enter Exiter Info Q3'!D188=1,'VETS-701E Enter Exiter Info Q3'!G188,\"\")","v":""}]
[{"$nulls":6},{"$f":"IF('VETS-701E Enter Exiter Info Q3'!D189=1,'VETS-701E Enter Exiter Info Q3'!G189,\"\")","v":""}]
[{"$nulls":6},{"$f":"IF('VETS-701E Enter Exiter Info Q3'!D190=1,'VETS-701E Enter Exiter Info Q3'!G190,\"\")","v":""}]
[{"$nulls":6},{"$f":"IF('VETS-701E Enter Exiter Info Q3'!D191=1,'VETS-701E Enter Exiter Info Q3'!G191,\"\")","v":""}]
[{"$nulls":6},{"$f":"IF('VETS-701E Enter Exiter Info Q3'!D192=1,'VETS-701E Enter Exiter Info Q3'!G192,\"\")","v":""}]
[{"$nulls":6},{"$f":"IF('VETS-701E Enter Exiter Info Q3'!D193=1,'VETS-701E Enter Exiter Info Q3'!G193,\"\")","v":""}]
[{"$nulls":6},{"$f":"IF('VETS-701E Enter Exiter Info Q3'!D194=1,'VETS-701E Enter Exiter Info Q3'!G194,\"\")","v":""}]
[{"$nulls":6},{"$f":"IF('VETS-701E Enter Exiter Info Q3'!D195=1,'VETS-701E Enter Exiter Info Q3'!G195,\"\")","v":""}]
[{"$nulls":6},{"$f":"IF('VETS-701E Enter Exiter Info Q3'!D196=1,'VETS-701E Enter Exiter Info Q3'!G196,\"\")","v":""}]
[{"$nulls":6},{"$f":"IF('VETS-701E Enter Exiter Info Q3'!D197=1,'VETS-701E Enter Exiter Info Q3'!G197,\"\")","v":""}]
[{"$nulls":6},{"$f":"IF('VETS-701E Enter Exiter Info Q3'!D198=1,'VETS-701E Enter Exiter Info Q3'!G198,\"\")","v":""}]
[{"$nulls":6},{"$f":"IF('VETS-701E Enter Exiter Info Q3'!D199=1,'VETS-701E Enter Exiter Info Q3'!G199,\"\")","v":""}]
[{"$nulls":6},{"$f":"IF('VETS-701E Enter Exiter Info Q3'!D200=1,'VETS-701E Enter Exiter Info Q3'!G200,\"\")","v":""}]
[{"$nulls":6},{"$f":"IF('VETS-701E Enter Exiter Info Q3'!D201=1,'VETS-701E Enter Exiter Info Q3'!G201,\"\")","v":""}]
[{"$nulls":6},{"$f":"IF('VETS-701E Enter Exiter Info Q3'!D202=1,'VETS-701E Enter Exiter Info Q3'!G202,\"\")","v":""}]
[{"$nulls":6},{"$f":"IF('VETS-701E Enter Exiter Info Q3'!D203=1,'VETS-701E Enter Exiter Info Q3'!G203,\"\")","v":""}]
[{"$nulls":6},{"$f":"IF('VETS-701E Enter Exiter Info Q3'!D204=1,'VETS-701E Enter Exiter Info Q3'!G204,\"\")","v":""}]
[{"$nulls":4},"VETS-701 Enter Exiter Info Q2",null,{"$f":"IF('VETS-701D Enter Exiter Info Q2'!D5=1,'VETS-701D Enter Exiter Info Q2'!G5,\"\")","v":""},{"$f":"MEDIAN(G1100:G1299)","v":{"$error":"#NUM!"}}]
[{"$nulls":6},{"$f":"IF('VETS-701D Enter Exiter Info Q2'!D6=1,'VETS-701D Enter Exiter Info Q2'!G6,\"\")","v":""}]
[{"$nulls":6},{"$f":"IF('VETS-701D Enter Exiter Info Q2'!D7=1,'VETS-701D Enter Exiter Info Q2'!G7,\"\")","v":""}]
[{"$nulls":6},{"$f":"IF('VETS-701D Enter Exiter Info Q2'!D8=1,'VETS-701D Enter Exiter Info Q2'!G8,\"\")","v":""}]
[{"$nulls":6},{"$f":"IF('VETS-701D Enter Exiter Info Q2'!D9=1,'VETS-701D Enter Exiter Info Q2'!G9,\"\")","v":""}]
[{"$nulls":6},{"$f":"IF('VETS-701D Enter Exiter Info Q2'!D10=1,'VETS-701D Enter Exiter Info Q2'!G10,\"\")","v":""}]
[{"$nulls":6},{"$f":"IF('VETS-701D Enter Exiter Info Q2'!D11=1,'VETS-701D Enter Exiter Info Q2'!G11,\"\")","v":""}]
[{"$nulls":6},{"$f":"IF('VETS-701D Enter Exiter Info Q2'!D12=1,'VETS-701D Enter Exiter Info Q2'!G12,\"\")","v":""}]
[{"$nulls":6},{"$f":"IF('VETS-701D Enter Exiter Info Q2'!D13=1,'VETS-701D Enter Exiter Info Q2'!G13,\"\")","v":""}]
[{"$nulls":6},{"$f":"IF('VETS-701D Enter Exiter Info Q2'!D14=1,'VETS-701D Enter Exiter Info Q2'!G14,\"\")","v":""}]
[{"$nulls":6},{"$f":"IF('VETS-701D Enter Exiter Info Q2'!D15=1,'VETS-701D Enter Exiter Info Q2'!G15,\"\")","v":""}]
[{"$nulls":6},{"$f":"IF('VETS-701D Enter Exiter Info Q2'!D16=1,'VETS-701D Enter Exiter Info Q2'!G16,\"\")","v":""}]
[{"$nulls":6},{"$f":"IF('VETS-701D Enter Exiter Info Q2'!D17=1,'VETS-701D Enter Exiter Info Q2'!G17,\"\")","v":""}]
[{"$nulls":6},{"$f":"IF('VETS-701D Enter Exiter Info Q2'!D18=1,'VETS-701D Enter Exiter Info Q2'!G18,\"\")","v":""}]
[{"$nulls":6},{"$f":"IF('VETS-701D Enter Exiter Info Q2'!D19=1,'VETS-701D Enter Exiter Info Q2'!G19,\"\")","v":""}]
[{"$nulls":6},{"$f":"IF('VETS-701D Enter Exiter Info Q2'!D20=1,'VETS-701D Enter Exiter Info Q2'!G20,\"\")","v":""}]
[{"$nulls":6},{"$f":"IF('VETS-701D Enter Exiter Info Q2'!D21=1,'VETS-701D Enter Exiter Info Q2'!G21,\"\")","v":""}]
[{"$nulls":6},{"$f":"IF('VETS-701D Enter Exiter Info Q2'!D22=1,'VETS-701D Enter Exiter Info Q2'!G22,\"\")","v":""}]
[{"$nulls":6},{"$f":"IF('VETS-701D Enter Exiter Info Q2'!D23=1,'VETS-701D Enter Exiter Info Q2'!G23,\"\")","v":""}]
[{"$nulls":6},{"$f":"IF('VETS-701D Enter Exiter Info Q2'!D24=1,'VETS-701D Enter Exiter Info Q2'!G24,\"\")","v":""}]
[{"$nulls":6},{"$f":"IF('VETS-701D Enter Exiter Info Q2'!D25=1,'VETS-701D Enter Exiter Info Q2'!G25,\"\")","v":""}]
[{"$nulls":6},{"$f":"IF('VETS-701D Enter Exiter Info Q2'!D26=1,'VETS-701D Enter Exiter Info Q2'!G26,\"\")","v":""}]
[{"$nulls":6},{"$f":"IF('VETS-701D Enter Exiter Info Q2'!D27=1,'VETS-701D Enter Exiter Info Q2'!G27,\"\")","v":""}]
[{"$nulls":6},{"$f":"IF('VETS-701D Enter Exiter Info Q2'!D28=1,'VETS-701D Enter Exiter Info Q2'!G28,\"\")","v":""}]
[{"$nulls":6},{"$f":"IF('VETS-701D Enter Exiter Info Q2'!D29=1,'VETS-701D Enter Exiter Info Q2'!G29,\"\")","v":""}]
[{"$nulls":6},{"$f":"IF('VETS-701D Enter Exiter Info Q2'!D30=1,'VETS-701D Enter Exiter Info Q2'!G30,\"\")","v":""}]
[{"$nulls":6},{"$f":"IF('VETS-701D Enter Exiter Info Q2'!D31=1,'VETS-701D Enter Exiter Info Q2'!G31,\"\")","v":""}]
[{"$nulls":6},{"$f":"IF('VETS-701D Enter Exiter Info Q2'!D32=1,'VETS-701D Enter Exiter Info Q2'!G32,\"\")","v":""}]
[{"$nulls":6},{"$f":"IF('VETS-701D Enter Exiter Info Q2'!D33=1,'VETS-701D Enter Exiter Info Q2'!G33,\"\")","v":""}]
[{"$nulls":6},{"$f":"IF('VETS-701D Enter Exiter Info Q2'!D34=1,'VETS-701D Enter Exiter Info Q2'!G34,\"\")","v":""}]
[{"$nulls":6},{"$f":"IF('VETS-701D Enter Exiter Info Q2'!D35=1,'VETS-701D Enter Exiter Info Q2'!G35,\"\")","v":""}]
[{"$nulls":6},{"$f":"IF('VETS-701D Enter Exiter Info Q2'!D36=1,'VETS-701D Enter Exiter Info Q2'!G36,\"\")","v":""}]
[{"$nulls":6},{"$f":"IF('VETS-701D Enter Exiter Info Q2'!D37=1,'VETS-701D Enter Exiter Info Q2'!G37,\"\")","v":""}]
[{"$nulls":6},{"$f":"IF('VETS-701D Enter Exiter Info Q2'!D38=1,'VETS-701D Enter Exiter Info Q2'!G38,\"\")","v":""}]
[{"$nulls":6},{"$f":"IF('VETS-701D Enter Exiter Info Q2'!D39=1,'VETS-701D Enter Exiter Info Q2'!G39,\"\")","v":""}]
[{"$nulls":6},{"$f":"IF('VETS-701D Enter Exiter Info Q2'!D40=1,'VETS-701D Enter Exiter Info Q2'!G40,\"\")","v":""}]
[{"$nulls":6},{"$f":"IF('VETS-701D Enter Exiter Info Q2'!D41=1,'VETS-701D Enter Exiter Info Q2'!G41,\"\")","v":""}]
[{"$nulls":6},{"$f":"IF('VETS-701D Enter Exiter Info Q2'!D42=1,'VETS-701D Enter Exiter Info Q2'!G42,\"\")","v":""}]
[{"$nulls":6},{"$f":"IF('VETS-701D Enter Exiter Info Q2'!D43=1,'VETS-701D Enter Exiter Info Q2'!G43,\"\")","v":""}]
[{"$nulls":6},{"$f":"IF('VETS-701D Enter Exiter Info Q2'!D44=1,'VETS-701D Enter Exiter Info Q2'!G44,\"\")","v":""}]
[{"$nulls":6},{"$f":"IF('VETS-701D Enter Exiter Info Q2'!D45=1,'VETS-701D Enter Exiter Info Q2'!G45,\"\")","v":""}]
[{"$nulls":6},{"$f":"IF('VETS-701D Enter Exiter Info Q2'!D46=1,'VETS-701D Enter Exiter Info Q2'!G46,\"\")","v":""}]
[{"$nulls":6},{"$f":"IF('VETS-701D Enter Exiter Info Q2'!D47=1,'VETS-701D Enter Exiter Info Q2'!G47,\"\")","v":""}]
[{"$nulls":6},{"$f":"IF('VETS-701D Enter Exiter Info Q2'!D48=1,'VETS-701D Enter Exiter Info Q2'!G48,\"\")","v":""}]
[{"$nulls":6},{"$f":"IF('VETS-701D Enter Exiter Info Q2'!D49=1,'VETS-701D Enter Exiter Info Q2'!G49,\"\")","v":""}]
[{"$nulls":6},{"$f":"IF('VETS-701D Enter Exiter Info Q2'!D50=1,'VETS-701D Enter Exiter Info Q2'!G50,\"\")","v":""}]
[{"$nulls":6},{"$f":"IF('VETS-701D Enter Exiter Info Q2'!D51=1,'VETS-701D Enter Exiter Info Q2'!G51,\"\")","v":""}]
[{"$nulls":6},{"$f":"IF('VETS-701D Enter Exiter Info Q2'!D52=1,'VETS-701D Enter Exiter Info Q2'!G52,\"\")","v":""}]
[{"$nulls":6},{"$f":"IF('VETS-701D Enter Exiter Info Q2'!D53=1,'VETS-701D Enter Exiter Info Q2'!G53,\"\")","v":""}]
[{"$nulls":6},{"$f":"IF('VETS-701D Enter Exiter Info Q2'!D54=1,'VETS-701D Enter Exiter Info Q2'!G54,\"\")","v":""}]
[{"$nulls":6},{"$f":"IF('VETS-701D Enter Exiter Info Q2'!D55=1,'VETS-701D Enter Exiter Info Q2'!G55,\"\")","v":""}]
[{"$nulls":6},{"$f":"IF('VETS-701D Enter Exiter Info Q2'!D56=1,'VETS-701D Enter Exiter Info Q2'!G56,\"\")","v":""}]
[{"$nulls":6},{"$f":"IF('VETS-701D Enter Exiter Info Q2'!D57=1,'VETS-701D Enter Exiter Info Q2'!G57,\"\")","v":""}]
[{"$nulls":6},{"$f":"IF('VETS-701D Enter Exiter Info Q2'!D58=1,'VETS-701D Enter Exiter Info Q2'!G58,\"\")","v":""}]
[{"$nulls":6},{"$f":"IF('VETS-701D Enter Exiter Info Q2'!D59=1,'VETS-701D Enter Exiter Info Q2'!G59,\"\")","v":""}]
[{"$nulls":6},{"$f":"IF('VETS-701D Enter Exiter Info Q2'!D60=1,'VETS-701D Enter Exiter Info Q2'!G60,\"\")","v":""}]
[{"$nulls":6},{"$f":"IF('VETS-701D Enter Exiter Info Q2'!D61=1,'VETS-701D Enter Exiter Info Q2'!G61,\"\")","v":""}]
[{"$nulls":6},{"$f":"IF('VETS-701D Enter Exiter Info Q2'!D62=1,'VETS-701D Enter Exiter Info Q2'!G62,\"\")","v":""}]
[{"$nulls":6},{"$f":"IF('VETS-701D Enter Exiter Info Q2'!D63=1,'VETS-701D Enter Exiter Info Q2'!G63,\"\")","v":""}]
[{"$nulls":6},{"$f":"IF('VETS-701D Enter Exiter Info Q2'!D64=1,'VETS-701D Enter Exiter Info Q2'!G64,\"\")","v":""}]
[{"$nulls":6},{"$f":"IF('VETS-701D Enter Exiter Info Q2'!D65=1,'VETS-701D Enter Exiter Info Q2'!G65,\"\")","v":""}]
[{"$nulls":6},{"$f":"IF('VETS-701D Enter Exiter Info Q2'!D66=1,'VETS-701D Enter Exiter Info Q2'!G66,\"\")","v":""}]
[{"$nulls":6},{"$f":"IF('VETS-701D Enter Exiter Info Q2'!D67=1,'VETS-701D Enter Exiter Info Q2'!G67,\"\")","v":""}]
[{"$nulls":6},{"$f":"IF('VETS-701D Enter Exiter Info Q2'!D68=1,'VETS-701D Enter Exiter Info Q2'!G68,\"\")","v":""}]
[{"$nulls":6},{"$f":"IF('VETS-701D Enter Exiter Info Q2'!D69=1,'VETS-701D Enter Exiter Info Q2'!G69,\"\")","v":""}]
[{"$nulls":6},{"$f":"IF('VETS-701D Enter Exiter Info Q2'!D70=1,'VETS-701D Enter Exiter Info Q2'!G70,\"\")","v":""}]
[{"$nulls":6},{"$f":"IF('VETS-701D Enter Exiter Info Q2'!D71=1,'VETS-701D Enter Exiter Info Q2'!G71,\"\")","v":""}]
[{"$nulls":6},{"$f":"IF('VETS-701D Enter Exiter Info Q2'!D72=1,'VETS-701D Enter Exiter Info Q2'!G72,\"\")","v":""}]
[{"$nulls":6},{"$f":"IF('VETS-701D Enter Exiter Info Q2'!D73=1,'VETS-701D Enter Exiter Info Q2'!G73,\"\")","v":""}]
[{"$nulls":6},{"$f":"IF('VETS-701D Enter Exiter Info Q2'!D74=1,'VETS-701D Enter Exiter Info Q2'!G74,\"\")","v":""}]
[{"$nulls":6},{"$f":"IF('VETS-701D Enter Exiter Info Q2'!D75=1,'VETS-701D Enter Exiter Info Q2'!G75,\"\")","v":""}]
[{"$nulls":6},{"$f":"IF('VETS-701D Enter Exiter Info Q2'!D76=1,'VETS-701D Enter Exiter Info Q2'!G76,\"\")","v":""}]
[{"$nulls":6},{"$f":"IF('VETS-701D Enter Exiter Info Q2'!D77=1,'VETS-701D Enter Exiter Info Q2'!G77,\"\")","v":""}]
[{"$nulls":6},{"$f":"IF('VETS-701D Enter Exiter Info Q2'!D78=1,'VETS-701D Enter Exiter Info Q2'!G78,\"\")","v":""}]
[{"$nulls":6},{"$f":"IF('VETS-701D Enter Exiter Info Q2'!D79=1,'VETS-701D Enter Exiter Info Q2'!G79,\"\")","v":""}]
[{"$nulls":6},{"$f":"IF('VETS-701D Enter Exiter Info Q2'!D80=1,'VETS-701D Enter Exiter Info Q2'!G80,\"\")","v":""}]
[{"$nulls":6},{"$f":"IF('VETS-701D Enter Exiter Info Q2'!D81=1,'VETS-701D Enter Exiter Info Q2'!G81,\"\")","v":""}]
[{"$nulls":6},{"$f":"IF('VETS-701D Enter Exiter Info Q2'!D82=1,'VETS-701D Enter Exiter Info Q2'!G82,\"\")","v":""}]
[{"$nulls":6},{"$f":"IF('VETS-701D Enter Exiter Info Q2'!D83=1,'VETS-701D Enter Exiter Info Q2'!G83,\"\")","v":""}]
[{"$nulls":6},{"$f":"IF('VETS-701D Enter Exiter Info Q2'!D84=1,'VETS-701D Enter Exiter Info Q2'!G84,\"\")","v":""}]
[{"$nulls":6},{"$f":"IF('VETS-701D Enter Exiter Info Q2'!D85=1,'VETS-701D Enter Exiter Info Q2'!G85,\"\")","v":""}]
[{"$nulls":6},{"$f":"IF('VETS-701D Enter Exiter Info Q2'!D86=1,'VETS-701D Enter Exiter Info Q2'!G86,\"\")","v":""}]
[{"$nulls":6},{"$f":"IF('VETS-701D Enter Exiter Info Q2'!D87=1,'VETS-701D Enter Exiter Info Q2'!G87,\"\")","v":""}]
[{"$nulls":6},{"$f":"IF('VETS-701D Enter Exiter Info Q2'!D88=1,'VETS-701D Enter Exiter Info Q2'!G88,\"\")","v":""}]
[{"$nulls":6},{"$f":"IF('VETS-701D Enter Exiter Info Q2'!D89=1,'VETS-701D Enter Exiter Info Q2'!G89,\"\")","v":""}]
[{"$nulls":6},{"$f":"IF('VETS-701D Enter Exiter Info Q2'!D90=1,'VETS-701D Enter Exiter Info Q2'!G90,\"\")","v":""}]
[{"$nulls":6},{"$f":"IF('VETS-701D Enter Exiter Info Q2'!D91=1,'VETS-701D Enter Exiter Info Q2'!G91,\"\")","v":""}]
[{"$nulls":6},{"$f":"IF('VETS-701D Enter Exiter Info Q2'!D92=1,'VETS-701D Enter Exiter Info Q2'!G92,\"\")","v":""}]
[{"$nulls":6},{"$f":"IF('VETS-701D Enter Exiter Info Q2'!D93=1,'VETS-701D Enter Exiter Info Q2'!G93,\"\")","v":""}]
[{"$nulls":6},{"$f":"IF('VETS-701D Enter Exiter Info Q2'!D94=1,'VETS-701D Enter Exiter Info Q2'!G94,\"\")","v":""}]
[{"$nulls":6},{"$f":"IF('VETS-701D Enter Exiter Info Q2'!D95=1,'VETS-701D Enter Exiter Info Q2'!G95,\"\")","v":""}]
[{"$nulls":6},{"$f":"IF('VETS-701D Enter Exiter Info Q2'!D96=1,'VETS-701D Enter Exiter Info Q2'!G96,\"\")","v":""}]
[{"$nulls":6},{"$f":"IF('VETS-701D Enter Exiter Info Q2'!D97=1,'VETS-701D Enter Exiter Info Q2'!G97,\"\")","v":""}]
[{"$nulls":6},{"$f":"IF('VETS-701D Enter Exiter Info Q2'!D98=1,'VETS-701D Enter Exiter Info Q2'!G98,\"\")","v":""}]
[{"$nulls":6},{"$f":"IF('VETS-701D Enter Exiter Info Q2'!D99=1,'VETS-701D Enter Exiter Info Q2'!G99,\"\")","v":""}]
[{"$nulls":6},{"$f":"IF('VETS-701D Enter Exiter Info Q2'!D100=1,'VETS-701D Enter Exiter Info Q2'!G100,\"\")","v":""}]
[{"$nulls":6},{"$f":"IF('VETS-701D Enter Exiter Info Q2'!D101=1,'VETS-701D Enter Exiter Info Q2'!G101,\"\")","v":""}]
[{"$nulls":6},{"$f":"IF('VETS-701D Enter Exiter Info Q2'!D102=1,'VETS-701D Enter Exiter Info Q2'!G102,\"\")","v":""}]
[{"$nulls":6},{"$f":"IF('VETS-701D Enter Exiter Info Q2'!D103=1,'VETS-701D Enter Exiter Info Q2'!G103,\"\")","v":""}]
[{"$nulls":6},{"$f":"IF('VETS-701D Enter Exiter Info Q2'!D104=1,'VETS-701D Enter Exiter Info Q2'!G104,\"\")","v":""}]
[{"$nulls":6},{"$f":"IF('VETS-701D Enter Exiter Info Q2'!D105=1,'VETS-701D Enter Exiter Info Q2'!G105,\"\")","v":""}]
[{"$nulls":6},{"$f":"IF('VETS-701D Enter Exiter Info Q2'!D106=1,'VETS-701D Enter Exiter Info Q2'!G106,\"\")","v":""}]
[{"$nulls":6},{"$f":"IF('VETS-701D Enter Exiter Info Q2'!D107=1,'VETS-701D Enter Exiter Info Q2'!G107,\"\")","v":""}]
[{"$nulls":6},{"$f":"IF('VETS-701D Enter Exiter Info Q2'!D108=1,'VETS-701D Enter Exiter Info Q2'!G108,\"\")","v":""}]
[{"$nulls":6},{"$f":"IF('VETS-701D Enter Exiter Info Q2'!D109=1,'VETS-701D Enter Exiter Info Q2'!G109,\"\")","v":""}]
[{"$nulls":6},{"$f":"IF('VETS-701D Enter Exiter Info Q2'!D110=1,'VETS-701D Enter Exiter Info Q2'!G110,\"\")","v":""}]
[{"$nulls":6},{"$f":"IF('VETS-701D Enter Exiter Info Q2'!D111=1,'VETS-701D Enter Exiter Info Q2'!G111,\"\")","v":""}]
[{"$nulls":6},{"$f":"IF('VETS-701D Enter Exiter Info Q2'!D112=1,'VETS-701D Enter Exiter Info Q2'!G112,\"\")","v":""}]
[{"$nulls":6},{"$f":"IF('VETS-701D Enter Exiter Info Q2'!D113=1,'VETS-701D Enter Exiter Info Q2'!G113,\"\")","v":""}]
[{"$nulls":6},{"$f":"IF('VETS-701D Enter Exiter Info Q2'!D114=1,'VETS-701D Enter Exiter Info Q2'!G114,\"\")","v":""}]
[{"$nulls":6},{"$f":"IF('VETS-701D Enter Exiter Info Q2'!D115=1,'VETS-701D Enter Exiter Info Q2'!G115,\"\")","v":""}]
[{"$nulls":6},{"$f":"IF('VETS-701D Enter Exiter Info Q2'!D116=1,'VETS-701D Enter Exiter Info Q2'!G116,\"\")","v":""}]
[{"$nulls":6},{"$f":"IF('VETS-701D Enter Exiter Info Q2'!D117=1,'VETS-701D Enter Exiter Info Q2'!G117,\"\")","v":""}]
[{"$nulls":6},{"$f":"IF('VETS-701D Enter Exiter Info Q2'!D118=1,'VETS-701D Enter Exiter Info Q2'!G118,\"\")","v":""}]
[{"$nulls":6},{"$f":"IF('VETS-701D Enter Exiter Info Q2'!D119=1,'VETS-701D Enter Exiter Info Q2'!G119,\"\")","v":""}]
[{"$nulls":6},{"$f":"IF('VETS-701D Enter Exiter Info Q2'!D120=1,'VETS-701D Enter Exiter Info Q2'!G120,\"\")","v":""}]
[{"$nulls":6},{"$f":"IF('VETS-701D Enter Exiter Info Q2'!D121=1,'VETS-701D Enter Exiter Info Q2'!G121,\"\")","v":""}]
[{"$nulls":6},{"$f":"IF('VETS-701D Enter Exiter Info Q2'!D122=1,'VETS-701D Enter Exiter Info Q2'!G122,\"\")","v":""}]
[{"$nulls":6},{"$f":"IF('VETS-701D Enter Exiter Info Q2'!D123=1,'VETS-701D Enter Exiter Info Q2'!G123,\"\")","v":""}]
[{"$nulls":6},{"$f":"IF('VETS-701D Enter Exiter Info Q2'!D124=1,'VETS-701D Enter Exiter Info Q2'!G124,\"\")","v":""}]
[{"$nulls":6},{"$f":"IF('VETS-701D Enter Exiter Info Q2'!D125=1,'VETS-701D Enter Exiter Info Q2'!G125,\"\")","v":""}]
[{"$nulls":6},{"$f":"IF('VETS-701D Enter Exiter Info Q2'!D126=1,'VETS-701D Enter Exiter Info Q2'!G126,\"\")","v":""}]
[{"$nulls":6},{"$f":"IF('VETS-701D Enter Exiter Info Q2'!D127=1,'VETS-701D Enter Exiter Info Q2'!G127,\"\")","v":""}]
[{"$nulls":6},{"$f":"IF('VETS-701D Enter Exiter Info Q2'!D128=1,'VETS-701D Enter Exiter Info Q2'!G128,\"\")","v":""}]
[{"$nulls":6},{"$f":"IF('VETS-701D Enter Exiter Info Q2'!D129=1,'VETS-701D Enter Exiter Info Q2'!G129,\"\")","v":""}]
[{"$nulls":6},{"$f":"IF('VETS-701D Enter Exiter Info Q2'!D130=1,'VETS-701D Enter Exiter Info Q2'!G130,\"\")","v":""}]
[{"$nulls":6},{"$f":"IF('VETS-701D Enter Exiter Info Q2'!D131=1,'VETS-701D Enter Exiter Info Q2'!G131,\"\")","v":""}]
[{"$nulls":6},{"$f":"IF('VETS-701D Enter Exiter Info Q2'!D132=1,'VETS-701D Enter Exiter Info Q2'!G132,\"\")","v":""}]
[{"$nulls":6},{"$f":"IF('VETS-701D Enter Exiter Info Q2'!D133=1,'VETS-701D Enter Exiter Info Q2'!G133,\"\")","v":""}]
[{"$nulls":6},{"$f":"IF('VETS-701D Enter Exiter Info Q2'!D134=1,'VETS-701D Enter Exiter Info Q2'!G134,\"\")","v":""}]
[{"$nulls":6},{"$f":"IF('VETS-701D Enter Exiter Info Q2'!D135=1,'VETS-701D Enter Exiter Info Q2'!G135,\"\")","v":""}]
[{"$nulls":6},{"$f":"IF('VETS-701D Enter Exiter Info Q2'!D136=1,'VETS-701D Enter Exiter Info Q2'!G136,\"\")","v":""}]
[{"$nulls":6},{"$f":"IF('VETS-701D Enter Exiter Info Q2'!D137=1,'VETS-701D Enter Exiter Info Q2'!G137,\"\")","v":""}]
[{"$nulls":6},{"$f":"IF('VETS-701D Enter Exiter Info Q2'!D138=1,'VETS-701D Enter Exiter Info Q2'!G138,\"\")","v":""}]
[{"$nulls":6},{"$f":"IF('VETS-701D Enter Exiter Info Q2'!D139=1,'VETS-701D Enter Exiter Info Q2'!G139,\"\")","v":""}]
[{"$nulls":6},{"$f":"IF('VETS-701D Enter Exiter Info Q2'!D140=1,'VETS-701D Enter Exiter Info Q2'!G140,\"\")","v":""}]
[{"$nulls":6},{"$f":"IF('VETS-701D Enter Exiter Info Q2'!D141=1,'VETS-701D Enter Exiter Info Q2'!G141,\"\")","v":""}]
[{"$nulls":6},{"$f":"IF('VETS-701D Enter Exiter Info Q2'!D142=1,'VETS-701D Enter Exiter Info Q2'!G142,\"\")","v":""}]
[{"$nulls":6},{"$f":"IF('VETS-701D Enter Exiter Info Q2'!D143=1,'VETS-701D Enter Exiter Info Q2'!G143,\"\")","v":""}]
[{"$nulls":6},{"$f":"IF('VETS-701D Enter Exiter Info Q2'!D144=1,'VETS-701D Enter Exiter Info Q2'!G144,\"\")","v":""}]
[{"$nulls":6},{"$f":"IF('VETS-701D Enter Exiter Info Q2'!D145=1,'VETS-701D Enter Exiter Info Q2'!G145,\"\")","v":""}]
[{"$nulls":6},{"$f":"IF('VETS-701D Enter Exiter Info Q2'!D146=1,'VETS-701D Enter Exiter Info Q2'!G146,\"\")","v":""}]
[{"$nulls":6},{"$f":"IF('VETS-701D Enter Exiter Info Q2'!D147=1,'VETS-701D Enter Exiter Info Q2'!G147,\"\")","v":""}]
[{"$nulls":6},{"$f":"IF('VETS-701D Enter Exiter Info Q2'!D148=1,'VETS-701D Enter Exiter Info Q2'!G148,\"\")","v":""}]
[{"$nulls":6},{"$f":"IF('VETS-701D Enter Exiter Info Q2'!D149=1,'VETS-701D Enter Exiter Info Q2'!G149,\"\")","v":""}]
[{"$nulls":6},{"$f":"IF('VETS-701D Enter Exiter Info Q2'!D150=1,'VETS-701D Enter Exiter Info Q2'!G150,\"\")","v":""}]
[{"$nulls":6},{"$f":"IF('VETS-701D Enter Exiter Info Q2'!D151=1,'VETS-701D Enter Exiter Info Q2'!G151,\"\")","v":""}]
[{"$nulls":6},{"$f":"IF('VETS-701D Enter Exiter Info Q2'!D152=1,'VETS-701D Enter Exiter Info Q2'!G152,\"\")","v":""}]
[{"$nulls":6},{"$f":"IF('VETS-701D Enter Exiter Info Q2'!D153=1,'VETS-701D Enter Exiter Info Q2'!G153,\"\")","v":""}]
[{"$nulls":6},{"$f":"IF('VETS-701D Enter Exiter Info Q2'!D154=1,'VETS-701D Enter Exiter Info Q2'!G154,\"\")","v":""}]
[{"$nulls":6},{"$f":"IF('VETS-701D Enter Exiter Info Q2'!D155=1,'VETS-701D Enter Exiter Info Q2'!G155,\"\")","v":""}]
[{"$nulls":6},{"$f":"IF('VETS-701D Enter Exiter Info Q2'!D156=1,'VETS-701D Enter Exiter Info Q2'!G156,\"\")","v":""}]
[{"$nulls":6},{"$f":"IF('VETS-701D Enter Exiter Info Q2'!D157=1,'VETS-701D Enter Exiter Info Q2'!G157,\"\")","v":""}]
[{"$nulls":6},{"$f":"IF('VETS-701D Enter Exiter Info Q2'!D158=1,'VETS-701D Enter Exiter Info Q2'!G158,\"\")","v":""}]
[{"$nulls":6},{"$f":"IF('VETS-701D Enter Exiter Info Q2'!D159=1,'VETS-701D Enter Exiter Info Q2'!G159,\"\")","v":""}]
[{"$nulls":6},{"$f":"IF('VETS-701D Enter Exiter Info Q2'!D160=1,'VETS-701D Enter Exiter Info Q2'!G160,\"\")","v":""}]
[{"$nulls":6},{"$f":"IF('VETS-701D Enter Exiter Info Q2'!D161=1,'VETS-701D Enter Exiter Info Q2'!G161,\"\")","v":""}]
[{"$nulls":6},{"$f":"IF('VETS-701D Enter Exiter Info Q2'!D162=1,'VETS-701D Enter Exiter Info Q2'!G162,\"\")","v":""}]
[{"$nulls":6},{"$f":"IF('VETS-701D Enter Exiter Info Q2'!D163=1,'VETS-701D Enter Exiter Info Q2'!G163,\"\")","v":""}]
[{"$nulls":6},{"$f":"IF('VETS-701D Enter Exiter Info Q2'!D164=1,'VETS-701D Enter Exiter Info Q2'!G164,\"\")","v":""}]
[{"$nulls":6},{"$f":"IF('VETS-701D Enter Exiter Info Q2'!D165=1,'VETS-701D Enter Exiter Info Q2'!G165,\"\")","v":""}]
[{"$nulls":6},{"$f":"IF('VETS-701D Enter Exiter Info Q2'!D166=1,'VETS-701D Enter Exiter Info Q2'!G166,\"\")","v":""}]
[{"$nulls":6},{"$f":"IF('VETS-701D Enter Exiter Info Q2'!D167=1,'VETS-701D Enter Exiter Info Q2'!G167,\"\")","v":""}]
[{"$nulls":6},{"$f":"IF('VETS-701D Enter Exiter Info Q2'!D168=1,'VETS-701D Enter Exiter Info Q2'!G168,\"\")","v":""}]
[{"$nulls":6},{"$f":"IF('VETS-701D Enter Exiter Info Q2'!D169=1,'VETS-701D Enter Exiter Info Q2'!G169,\"\")","v":""}]
[{"$nulls":6},{"$f":"IF('VETS-701D Enter Exiter Info Q2'!D170=1,'VETS-701D Enter Exiter Info Q2'!G170,\"\")","v":""}]
[{"$nulls":6},{"$f":"IF('VETS-701D Enter Exiter Info Q2'!D171=1,'VETS-701D Enter Exiter Info Q2'!G171,\"\")","v":""}]
[{"$nulls":6},{"$f":"IF('VETS-701D Enter Exiter Info Q2'!D172=1,'VETS-701D Enter Exiter Info Q2'!G172,\"\")","v":""}]
[{"$nulls":6},{"$f":"IF('VETS-701D Enter Exiter Info Q2'!D173=1,'VETS-701D Enter Exiter Info Q2'!G173,\"\")","v":""}]
[{"$nulls":6},{"$f":"IF('VETS-701D Enter Exiter Info Q2'!D174=1,'VETS-701D Enter Exiter Info Q2'!G174,\"\")","v":""}]
[{"$nulls":6},{"$f":"IF('VETS-701D Enter Exiter Info Q2'!D175=1,'VETS-701D Enter Exiter Info Q2'!G175,\"\")","v":""}]
[{"$nulls":6},{"$f":"IF('VETS-701D Enter Exiter Info Q2'!D176=1,'VETS-701D Enter Exiter Info Q2'!G176,\"\")","v":""}]
[{"$nulls":6},{"$f":"IF('VETS-701D Enter Exiter Info Q2'!D177=1,'VETS-701D Enter Exiter Info Q2'!G177,\"\")","v":""}]
[{"$nulls":6},{"$f":"IF('VETS-701D Enter Exiter Info Q2'!D178=1,'VETS-701D Enter Exiter Info Q2'!G178,\"\")","v":""}]
[{"$nulls":6},{"$f":"IF('VETS-701D Enter Exiter Info Q2'!D179=1,'VETS-701D Enter Exiter Info Q2'!G179,\"\")","v":""}]
[{"$nulls":6},{"$f":"IF('VETS-701D Enter Exiter Info Q2'!D180=1,'VETS-701D Enter Exiter Info Q2'!G180,\"\")","v":""}]
[{"$nulls":6},{"$f":"IF('VETS-701D Enter Exiter Info Q2'!D181=1,'VETS-701D Enter Exiter Info Q2'!G181,\"\")","v":""}]
[{"$nulls":6},{"$f":"IF('VETS-701D Enter Exiter Info Q2'!D182=1,'VETS-701D Enter Exiter Info Q2'!G182,\"\")","v":""}]
[{"$nulls":6},{"$f":"IF('VETS-701D Enter Exiter Info Q2'!D183=1,'VETS-701D Enter Exiter Info Q2'!G183,\"\")","v":""}]
[{"$nulls":6},{"$f":"IF('VETS-701D Enter Exiter Info Q2'!D184=1,'VETS-701D Enter Exiter Info Q2'!G184,\"\")","v":""}]
[{"$nulls":6},{"$f":"IF('VETS-701D Enter Exiter Info Q2'!D185=1,'VETS-701D Enter Exiter Info Q2'!G185,\"\")","v":""}]
[{"$nulls":6},{"$f":"IF('VETS-701D Enter Exiter Info Q2'!D186=1,'VETS-701D Enter Exiter Info Q2'!G186,\"\")","v":""}]
[{"$nulls":6},{"$f":"IF('VETS-701D Enter Exiter Info Q2'!D187=1,'VETS-701D Enter Exiter Info Q2'!G187,\"\")","v":""}]
[{"$nulls":6},{"$f":"IF('VETS-701D Enter Exiter Info Q2'!D188=1,'VETS-701D Enter Exiter Info Q2'!G188,\"\")","v":""}]
[{"$nulls":6},{"$f":"IF('VETS-701D Enter Exiter Info Q2'!D189=1,'VETS-701D Enter Exiter Info Q2'!G189,\"\")","v":""}]
[{"$nulls":6},{"$f":"IF('VETS-701D Enter Exiter Info Q2'!D190=1,'VETS-701D Enter Exiter Info Q2'!G190,\"\")","v":""}]
[{"$nulls":6},{"$f":"IF('VETS-701D Enter Exiter Info Q2'!D191=1,'VETS-701D Enter Exiter Info Q2'!G191,\"\")","v":""}]
[{"$nulls":6},{"$f":"IF('VETS-701D Enter Exiter Info Q2'!D192=1,'VETS-701D Enter Exiter Info Q2'!G192,\"\")","v":""}]
[{"$nulls":6},{"$f":"IF('VETS-701D Enter Exiter Info Q2'!D193=1,'VETS-701D Enter Exiter Info Q2'!G193,\"\")","v":""}]
[{"$nulls":6},{"$f":"IF('VETS-701D Enter Exiter Info Q2'!D194=1,'VETS-701D Enter Exiter Info Q2'!G194,\"\")","v":""}]
[{"$nulls":6},{"$f":"IF('VETS-701D Enter Exiter Info Q2'!D195=1,'VETS-701D Enter Exiter Info Q2'!G195,\"\")","v":""}]
[{"$nulls":6},{"$f":"IF('VETS-701D Enter Exiter Info Q2'!D196=1,'VETS-701D Enter Exiter Info Q2'!G196,\"\")","v":""}]
[{"$nulls":6},{"$f":"IF('VETS-701D Enter Exiter Info Q2'!D197=1,'VETS-701D Enter Exiter Info Q2'!G197,\"\")","v":""}]
[{"$nulls":6},{"$f":"IF('VETS-701D Enter Exiter Info Q2'!D198=1,'VETS-701D Enter Exiter Info Q2'!G198,\"\")","v":""}]
[{"$nulls":6},{"$f":"IF('VETS-701D Enter Exiter Info Q2'!D199=1,'VETS-701D Enter Exiter Info Q2'!G199,\"\")","v":""}]
[{"$nulls":6},{"$f":"IF('VETS-701D Enter Exiter Info Q2'!D200=1,'VETS-701D Enter Exiter Info Q2'!G200,\"\")","v":""}]
[{"$nulls":6},{"$f":"IF('VETS-701D Enter Exiter Info Q2'!D201=1,'VETS-701D Enter Exiter Info Q2'!G201,\"\")","v":""}]
[{"$nulls":6},{"$f":"IF('VETS-701D Enter Exiter Info Q2'!D202=1,'VETS-701D Enter Exiter Info Q2'!G202,\"\")","v":""}]
[{"$nulls":6},{"$f":"IF('VETS-701D Enter Exiter Info Q2'!D203=1,'VETS-701D Enter Exiter Info Q2'!G203,\"\")","v":""}]
[{"$nulls":6},{"$f":"IF('VETS-701D Enter Exiter Info Q2'!D204=1,'VETS-701D Enter Exiter Info Q2'!G204,\"\")","v":""}]
[{"$nulls":4},"VETS-701 Enter Exiter Info Q1",null,{"$f":"IF('VETS-701C Enter Exiter Info Q1'!D5=1,'VETS-701C Enter Exiter Info Q1'!G5,\"\")","v":""},{"$f":"MEDIAN(G1300:G1499)","v":{"$error":"#NUM!"}}]
[{"$nulls":6},{"$f":"IF('VETS-701C Enter Exiter Info Q1'!D6=1,'VETS-701C Enter Exiter Info Q1'!G6,\"\")","v":""}]
[{"$nulls":6},{"$f":"IF('VETS-701C Enter Exiter Info Q1'!D7=1,'VETS-701C Enter Exiter Info Q1'!G7,\"\")","v":""}]
[{"$nulls":6},{"$f":"IF('VETS-701C Enter Exiter Info Q1'!D8=1,'VETS-701C Enter Exiter Info Q1'!G8,\"\")","v":""}]
[{"$nulls":6},{"$f":"IF('VETS-701C Enter Exiter Info Q1'!D9=1,'VETS-701C Enter Exiter Info Q1'!G9,\"\")","v":""}]
[{"$nulls":6},{"$f":"IF('VETS-701C Enter Exiter Info Q1'!D10=1,'VETS-701C Enter Exiter Info Q1'!G10,\"\")","v":""}]
[{"$nulls":6},{"$f":"IF('VETS-701C Enter Exiter Info Q1'!D11=1,'VETS-701C Enter Exiter Info Q1'!G11,\"\")","v":""}]
[{"$nulls":6},{"$f":"IF('VETS-701C Enter Exiter Info Q1'!D12=1,'VETS-701C Enter Exiter Info Q1'!G12,\"\")","v":""}]
[{"$nulls":6},{"$f":"IF('VETS-701C Enter Exiter Info Q1'!D13=1,'VETS-701C Enter Exiter Info Q1'!G13,\"\")","v":""}]
[{"$nulls":6},{"$f":"IF('VETS-701C Enter Exiter Info Q1'!D14=1,'VETS-701C Enter Exiter Info Q1'!G14,\"\")","v":""}]
[{"$nulls":6},{"$f":"IF('VETS-701C Enter Exiter Info Q1'!D15=1,'VETS-701C Enter Exiter Info Q1'!G15,\"\")","v":""}]
[{"$nulls":6},{"$f":"IF('VETS-701C Enter Exiter Info Q1'!D16=1,'VETS-701C Enter Exiter Info Q1'!G16,\"\")","v":""}]
[{"$nulls":6},{"$f":"IF('VETS-701C Enter Exiter Info Q1'!D17=1,'VETS-701C Enter Exiter Info Q1'!G17,\"\")","v":""}]
[{"$nulls":6},{"$f":"IF('VETS-701C Enter Exiter Info Q1'!D18=1,'VETS-701C Enter Exiter Info Q1'!G18,\"\")","v":""}]
[{"$nulls":6},{"$f":"IF('VETS-701C Enter Exiter Info Q1'!D19=1,'VETS-701C Enter Exiter Info Q1'!G19,\"\")","v":""}]
[{"$nulls":6},{"$f":"IF('VETS-701C Enter Exiter Info Q1'!D20=1,'VETS-701C Enter Exiter Info Q1'!G20,\"\")","v":""}]
[{"$nulls":6},{"$f":"IF('VETS-701C Enter Exiter Info Q1'!D21=1,'VETS-701C Enter Exiter Info Q1'!G21,\"\")","v":""}]
[{"$nulls":6},{"$f":"IF('VETS-701C Enter Exiter Info Q1'!D22=1,'VETS-701C Enter Exiter Info Q1'!G22,\"\")","v":""}]
[{"$nulls":6},{"$f":"IF('VETS-701C Enter Exiter Info Q1'!D23=1,'VETS-701C Enter Exiter Info Q1'!G23,\"\")","v":""}]
[{"$nulls":6},{"$f":"IF('VETS-701C Enter Exiter Info Q1'!D24=1,'VETS-701C Enter Exiter Info Q1'!G24,\"\")","v":""}]
[{"$nulls":6},{"$f":"IF('VETS-701C Enter Exiter Info Q1'!D25=1,'VETS-701C Enter Exiter Info Q1'!G25,\"\")","v":""}]
[{"$nulls":6},{"$f":"IF('VETS-701C Enter Exiter Info Q1'!D26=1,'VETS-701C Enter Exiter Info Q1'!G26,\"\")","v":""}]
[{"$nulls":6},{"$f":"IF('VETS-701C Enter Exiter Info Q1'!D27=1,'VETS-701C Enter Exiter Info Q1'!G27,\"\")","v":""}]
[{"$nulls":6},{"$f":"IF('VETS-701C Enter Exiter Info Q1'!D28=1,'VETS-701C Enter Exiter Info Q1'!G28,\"\")","v":""}]
[{"$nulls":6},{"$f":"IF('VETS-701C Enter Exiter Info Q1'!D29=1,'VETS-701C Enter Exiter Info Q1'!G29,\"\")","v":""}]
[{"$nulls":6},{"$f":"IF('VETS-701C Enter Exiter Info Q1'!D30=1,'VETS-701C Enter Exiter Info Q1'!G30,\"\")","v":""}]
[{"$nulls":6},{"$f":"IF('VETS-701C Enter Exiter Info Q1'!D31=1,'VETS-701C Enter Exiter Info Q1'!G31,\"\")","v":""}]
[{"$nulls":6},{"$f":"IF('VETS-701C Enter Exiter Info Q1'!D32=1,'VETS-701C Enter Exiter Info Q1'!G32,\"\")","v":""}]
[{"$nulls":6},{"$f":"IF('VETS-701C Enter Exiter Info Q1'!D33=1,'VETS-701C Enter Exiter Info Q1'!G33,\"\")","v":""}]
[{"$nulls":6},{"$f":"IF('VETS-701C Enter Exiter Info Q1'!D34=1,'VETS-701C Enter Exiter Info Q1'!G34,\"\")","v":""}]
[{"$nulls":6},{"$f":"IF('VETS-701C Enter Exiter Info Q1'!D35=1,'VETS-701C Enter Exiter Info Q1'!G35,\"\")","v":""}]
[{"$nulls":6},{"$f":"IF('VETS-701C Enter Exiter Info Q1'!D36=1,'VETS-701C Enter Exiter Info Q1'!G36,\"\")","v":""}]
[{"$nulls":6},{"$f":"IF('VETS-701C Enter Exiter Info Q1'!D37=1,'VETS-701C Enter Exiter Info Q1'!G37,\"\")","v":""}]
[{"$nulls":6},{"$f":"IF('VETS-701C Enter Exiter Info Q1'!D38=1,'VETS-701C Enter Exiter Info Q1'!G38,\"\")","v":""}]
[{"$nulls":6},{"$f":"IF('VETS-701C Enter Exiter Info Q1'!D39=1,'VETS-701C Enter Exiter Info Q1'!G39,\"\")","v":""}]
[{"$nulls":6},{"$f":"IF('VETS-701C Enter Exiter Info Q1'!D40=1,'VETS-701C Enter Exiter Info Q1'!G40,\"\")","v":""}]
[{"$nulls":6},{"$f":"IF('VETS-701C Enter Exiter Info Q1'!D41=1,'VETS-701C Enter Exiter Info Q1'!G41,\"\")","v":""}]
[{"$nulls":6},{"$f":"IF('VETS-701C Enter Exiter Info Q1'!D42=1,'VETS-701C Enter Exiter Info Q1'!G42,\"\")","v":""}]
[{"$nulls":6},{"$f":"IF('VETS-701C Enter Exiter Info Q1'!D43=1,'VETS-701C Enter Exiter Info Q1'!G43,\"\")","v":""}]
[{"$nulls":6},{"$f":"IF('VETS-701C Enter Exiter Info Q1'!D44=1,'VETS-701C Enter Exiter Info Q1'!G44,\"\")","v":""}]
[{"$nulls":6},{"$f":"IF('VETS-701C Enter Exiter Info Q1'!D45=1,'VETS-701C Enter Exiter Info Q1'!G45,\"\")","v":""}]
[{"$nulls":6},{"$f":"IF('VETS-701C Enter Exiter Info Q1'!D46=1,'VETS-701C Enter Exiter Info Q1'!G46,\"\")","v":""}]
[{"$nulls":6},{"$f":"IF('VETS-701C Enter Exiter Info Q1'!D47=1,'VETS-701C Enter Exiter Info Q1'!G47,\"\")","v":""}]
[{"$nulls":6},{"$f":"IF('VETS-701C Enter Exiter Info Q1'!D48=1,'VETS-701C Enter Exiter Info Q1'!G48,\"\")","v":""}]
[{"$nulls":6},{"$f":"IF('VETS-701C Enter Exiter Info Q1'!D49=1,'VETS-701C Enter Exiter Info Q1'!G49,\"\")","v":""}]
[{"$nulls":6},{"$f":"IF('VETS-701C Enter Exiter Info Q1'!D50=1,'VETS-701C Enter Exiter Info Q1'!G50,\"\")","v":""}]
[{"$nulls":6},{"$f":"IF('VETS-701C Enter Exiter Info Q1'!D51=1,'VETS-701C Enter Exiter Info Q1'!G51,\"\")","v":""}]
[{"$nulls":6},{"$f":"IF('VETS-701C Enter Exiter Info Q1'!D52=1,'VETS-701C Enter Exiter Info Q1'!G52,\"\")","v":""}]
[{"$nulls":6},{"$f":"IF('VETS-701C Enter Exiter Info Q1'!D53=1,'VETS-701C Enter Exiter Info Q1'!G53,\"\")","v":""}]
[{"$nulls":6},{"$f":"IF('VETS-701C Enter Exiter Info Q1'!D54=1,'VETS-701C Enter Exiter Info Q1'!G54,\"\")","v":""}]
[{"$nulls":6},{"$f":"IF('VETS-701C Enter Exiter Info Q1'!D55=1,'VETS-701C Enter Exiter Info Q1'!G55,\"\")","v":""}]
[{"$nulls":6},{"$f":"IF('VETS-701C Enter Exiter Info Q1'!D56=1,'VETS-701C Enter Exiter Info Q1'!G56,\"\")","v":""}]
[{"$nulls":6},{"$f":"IF('VETS-701C Enter Exiter Info Q1'!D57=1,'VETS-701C Enter Exiter Info Q1'!G57,\"\")","v":""}]
[{"$nulls":6},{"$f":"IF('VETS-701C Enter Exiter Info Q1'!D58=1,'VETS-701C Enter Exiter Info Q1'!G58,\"\")","v":""}]
[{"$nulls":6},{"$f":"IF('VETS-701C Enter Exiter Info Q1'!D59=1,'VETS-701C Enter Exiter Info Q1'!G59,\"\")","v":""}]
[{"$nulls":6},{"$f":"IF('VETS-701C Enter Exiter Info Q1'!D60=1,'VETS-701C Enter Exiter Info Q1'!G60,\"\")","v":""}]
[{"$nulls":6},{"$f":"IF('VETS-701C Enter Exiter Info Q1'!D61=1,'VETS-701C Enter Exiter Info Q1'!G61,\"\")","v":""}]
[{"$nulls":6},{"$f":"IF('VETS-701C Enter Exiter Info Q1'!D62=1,'VETS-701C Enter Exiter Info Q1'!G62,\"\")","v":""}]
[{"$nulls":6},{"$f":"IF('VETS-701C Enter Exiter Info Q1'!D63=1,'VETS-701C Enter Exiter Info Q1'!G63,\"\")","v":""}]
[{"$nulls":6},{"$f":"IF('VETS-701C Enter Exiter Info Q1'!D64=1,'VETS-701C Enter Exiter Info Q1'!G64,\"\")","v":""}]
[{"$nulls":6},{"$f":"IF('VETS-701C Enter Exiter Info Q1'!D65=1,'VETS-701C Enter Exiter Info Q1'!G65,\"\")","v":""}]
[{"$nulls":6},{"$f":"IF('VETS-701C Enter Exiter Info Q1'!D66=1,'VETS-701C Enter Exiter Info Q1'!G66,\"\")","v":""}]
[{"$nulls":6},{"$f":"IF('VETS-701C Enter Exiter Info Q1'!D67=1,'VETS-701C Enter Exiter Info Q1'!G67,\"\")","v":""}]
[{"$nulls":6},{"$f":"IF('VETS-701C Enter Exiter Info Q1'!D68=1,'VETS-701C Enter Exiter Info Q1'!G68,\"\")","v":""}]
[{"$nulls":6},{"$f":"IF('VETS-701C Enter Exiter Info Q1'!D69=1,'VETS-701C Enter Exiter Info Q1'!G69,\"\")","v":""}]
[{"$nulls":6},{"$f":"IF('VETS-701C Enter Exiter Info Q1'!D70=1,'VETS-701C Enter Exiter Info Q1'!G70,\"\")","v":""}]
[{"$nulls":6},{"$f":"IF('VETS-701C Enter Exiter Info Q1'!D71=1,'VETS-701C Enter Exiter Info Q1'!G71,\"\")","v":""}]
[{"$nulls":6},{"$f":"IF('VETS-701C Enter Exiter Info Q1'!D72=1,'VETS-701C Enter Exiter Info Q1'!G72,\"\")","v":""}]
[{"$nulls":6},{"$f":"IF('VETS-701C Enter Exiter Info Q1'!D73=1,'VETS-701C Enter Exiter Info Q1'!G73,\"\")","v":""}]
[{"$nulls":6},{"$f":"IF('VETS-701C Enter Exiter Info Q1'!D74=1,'VETS-701C Enter Exiter Info Q1'!G74,\"\")","v":""}]
[{"$nulls":6},{"$f":"IF('VETS-701C Enter Exiter Info Q1'!D75=1,'VETS-701C Enter Exiter Info Q1'!G75,\"\")","v":""}]
[{"$nulls":6},{"$f":"IF('VETS-701C Enter Exiter Info Q1'!D76=1,'VETS-701C Enter Exiter Info Q1'!G76,\"\")","v":""}]
[{"$nulls":6},{"$f":"IF('VETS-701C Enter Exiter Info Q1'!D77=1,'VETS-701C Enter Exiter Info Q1'!G77,\"\")","v":""}]
[{"$nulls":6},{"$f":"IF('VETS-701C Enter Exiter Info Q1'!D78=1,'VETS-701C Enter Exiter Info Q1'!G78,\"\")","v":""}]
[{"$nulls":6},{"$f":"IF('VETS-701C Enter Exiter Info Q1'!D79=1,'VETS-701C Enter Exiter Info Q1'!G79,\"\")","v":""}]
[{"$nulls":6},{"$f":"IF('VETS-701C Enter Exiter Info Q1'!D80=1,'VETS-701C Enter Exiter Info Q1'!G80,\"\")","v":""}]
[{"$nulls":6},{"$f":"IF('VETS-701C Enter Exiter Info Q1'!D81=1,'VETS-701C Enter Exiter Info Q1'!G81,\"\")","v":""}]
[{"$nulls":6},{"$f":"IF('VETS-701C Enter Exiter Info Q1'!D82=1,'VETS-701C Enter Exiter Info Q1'!G82,\"\")","v":""}]
[{"$nulls":6},{"$f":"IF('VETS-701C Enter Exiter Info Q1'!D83=1,'VETS-701C Enter Exiter Info Q1'!G83,\"\")","v":""}]
[{"$nulls":6},{"$f":"IF('VETS-701C Enter Exiter Info Q1'!D84=1,'VETS-701C Enter Exiter Info Q1'!G84,\"\")","v":""}]
[{"$nulls":6},{"$f":"IF('VETS-701C Enter Exiter Info Q1'!D85=1,'VETS-701C Enter Exiter Info Q1'!G85,\"\")","v":""}]
[{"$nulls":6},{"$f":"IF('VETS-701C Enter Exiter Info Q1'!D86=1,'VETS-701C Enter Exiter Info Q1'!G86,\"\")","v":""}]
[{"$nulls":6},{"$f":"IF('VETS-701C Enter Exiter Info Q1'!D87=1,'VETS-701C Enter Exiter Info Q1'!G87,\"\")","v":""}]
[{"$nulls":6},{"$f":"IF('VETS-701C Enter Exiter Info Q1'!D88=1,'VETS-701C Enter Exiter Info Q1'!G88,\"\")","v":""}]
[{"$nulls":6},{"$f":"IF('VETS-701C Enter Exiter Info Q1'!D89=1,'VETS-701C Enter Exiter Info Q1'!G89,\"\")","v":""}]
[{"$nulls":6},{"$f":"IF('VETS-701C Enter Exiter Info Q1'!D90=1,'VETS-701C Enter Exiter Info Q1'!G90,\"\")","v":""}]
[{"$nulls":6},{"$f":"IF('VETS-701C Enter Exiter Info Q1'!D91=1,'VETS-701C Enter Exiter Info Q1'!G91,\"\")","v":""}]
[{"$nulls":6},{"$f":"IF('VETS-701C Enter Exiter Info Q1'!D92=1,'VETS-701C Enter Exiter Info Q1'!G92,\"\")","v":""}]
[{"$nulls":6},{"$f":"IF('VETS-701C Enter Exiter Info Q1'!D93=1,'VETS-701C Enter Exiter Info Q1'!G93,\"\")","v":""}]
[{"$nulls":6},{"$f":"IF('VETS-701C Enter Exiter Info Q1'!D94=1,'VETS-701C Enter Exiter Info Q1'!G94,\"\")","v":""}]
[{"$nulls":6},{"$f":"IF('VETS-701C Enter Exiter Info Q1'!D95=1,'VETS-701C Enter Exiter Info Q1'!G95,\"\")","v":""}]
[{"$nulls":6},{"$f":"IF('VETS-701C Enter Exiter Info Q1'!D96=1,'VETS-701C Enter Exiter Info Q1'!G96,\"\")","v":""}]
[{"$nulls":6},{"$f":"IF('VETS-701C Enter Exiter Info Q1'!D97=1,'VETS-701C Enter Exiter Info Q1'!G97,\"\")","v":""}]
[{"$nulls":6},{"$f":"IF('VETS-701C Enter Exiter Info Q1'!D98=1,'VETS-701C Enter Exiter Info Q1'!G98,\"\")","v":""}]
[{"$nulls":6},{"$f":"IF('VETS-701C Enter Exiter Info Q1'!D99=1,'VETS-701C Enter Exiter Info Q1'!G99,\"\")","v":""}]
[{"$nulls":6},{"$f":"IF('VETS-701C Enter Exiter Info Q1'!D100=1,'VETS-701C Enter Exiter Info Q1'!G100,\"\")","v":""}]
[{"$nulls":6},{"$f":"IF('VETS-701C Enter Exiter Info Q1'!D101=1,'VETS-701C Enter Exiter Info Q1'!G101,\"\")","v":""}]
[{"$nulls":6},{"$f":"IF('VETS-701C Enter Exiter Info Q1'!D102=1,'VETS-701C Enter Exiter Info Q1'!G102,\"\")","v":""}]
[{"$nulls":6},{"$f":"IF('VETS-701C Enter Exiter Info Q1'!D103=1,'VETS-701C Enter Exiter Info Q1'!G103,\"\")","v":""}]
[{"$nulls":6},{"$f":"IF('VETS-701C Enter Exiter Info Q1'!D104=1,'VETS-701C Enter Exiter Info Q1'!G104,\"\")","v":""}]
[{"$nulls":6},{"$f":"IF('VETS-701C Enter Exiter Info Q1'!D105=1,'VETS-701C Enter Exiter Info Q1'!G105,\"\")","v":""}]
[{"$nulls":6},{"$f":"IF('VETS-701C Enter Exiter Info Q1'!D106=1,'VETS-701C Enter Exiter Info Q1'!G106,\"\")","v":""}]
[{"$nulls":6},{"$f":"IF('VETS-701C Enter Exiter Info Q1'!D107=1,'VETS-701C Enter Exiter Info Q1'!G107,\"\")","v":""}]
[{"$nulls":6},{"$f":"IF('VETS-701C Enter Exiter Info Q1'!D108=1,'VETS-701C Enter Exiter Info Q1'!G108,\"\")","v":""}]
[{"$nulls":6},{"$f":"IF('VETS-701C Enter Exiter Info Q1'!D109=1,'VETS-701C Enter Exiter Info Q1'!G109,\"\")","v":""}]
[{"$nulls":6},{"$f":"IF('VETS-701C Enter Exiter Info Q1'!D110=1,'VETS-701C Enter Exiter Info Q1'!G110,\"\")","v":""}]
[{"$nulls":6},{"$f":"IF('VETS-701C Enter Exiter Info Q1'!D111=1,'VETS-701C Enter Exiter Info Q1'!G111,\"\")","v":""}]
[{"$nulls":6},{"$f":"IF('VETS-701C Enter Exiter Info Q1'!D112=1,'VETS-701C Enter Exiter Info Q1'!G112,\"\")","v":""}]
[{"$nulls":6},{"$f":"IF('VETS-701C Enter Exiter Info Q1'!D113=1,'VETS-701C Enter Exiter Info Q1'!G113,\"\")","v":""}]
[{"$nulls":6},{"$f":"IF('VETS-701C Enter Exiter Info Q1'!D114=1,'VETS-701C Enter Exiter Info Q1'!G114,\"\")","v":""}]
[{"$nulls":6},{"$f":"IF('VETS-701C Enter Exiter Info Q1'!D115=1,'VETS-701C Enter Exiter Info Q1'!G115,\"\")","v":""}]
[{"$nulls":6},{"$f":"IF('VETS-701C Enter Exiter Info Q1'!D116=1,'VETS-701C Enter Exiter Info Q1'!G116,\"\")","v":""}]
[{"$nulls":6},{"$f":"IF('VETS-701C Enter Exiter Info Q1'!D117=1,'VETS-701C Enter Exiter Info Q1'!G117,\"\")","v":""}]
[{"$nulls":6},{"$f":"IF('VETS-701C Enter Exiter Info Q1'!D118=1,'VETS-701C Enter Exiter Info Q1'!G118,\"\")","v":""}]
[{"$nulls":6},{"$f":"IF('VETS-701C Enter Exiter Info Q1'!D119=1,'VETS-701C Enter Exiter Info Q1'!G119,\"\")","v":""}]
[{"$nulls":6},{"$f":"IF('VETS-701C Enter Exiter Info Q1'!D120=1,'VETS-701C Enter Exiter Info Q1'!G120,\"\")","v":""}]
[{"$nulls":6},{"$f":"IF('VETS-701C Enter Exiter Info Q1'!D121=1,'VETS-701C Enter Exiter Info Q1'!G121,\"\")","v":""}]
[{"$nulls":6},{"$f":"IF('VETS-701C Enter Exiter Info Q1'!D122=1,'VETS-701C Enter Exiter Info Q1'!G122,\"\")","v":""}]
[{"$nulls":6},{"$f":"IF('VETS-701C Enter Exiter Info Q1'!D123=1,'VETS-701C Enter Exiter Info Q1'!G123,\"\")","v":""}]
[{"$nulls":6},{"$f":"IF('VETS-701C Enter Exiter Info Q1'!D124=1,'VETS-701C Enter Exiter Info Q1'!G124,\"\")","v":""}]
[{"$nulls":6},{"$f":"IF('VETS-701C Enter Exiter Info Q1'!D125=1,'VETS-701C Enter Exiter Info Q1'!G125,\"\")","v":""}]
[{"$nulls":6},{"$f":"IF('VETS-701C Enter Exiter Info Q1'!D126=1,'VETS-701C Enter Exiter Info Q1'!G126,\"\")","v":""}]
[{"$nulls":6},{"$f":"IF('VETS-701C Enter Exiter Info Q1'!D127=1,'VETS-701C Enter Exiter Info Q1'!G127,\"\")","v":""}]
[{"$nulls":6},{"$f":"IF('VETS-701C Enter Exiter Info Q1'!D128=1,'VETS-701C Enter Exiter Info Q1'!G128,\"\")","v":""}]
[{"$nulls":6},{"$f":"IF('VETS-701C Enter Exiter Info Q1'!D129=1,'VETS-701C Enter Exiter Info Q1'!G129,\"\")","v":""}]
[{"$nulls":6},{"$f":"IF('VETS-701C Enter Exiter Info Q1'!D130=1,'VETS-701C Enter Exiter Info Q1'!G130,\"\")","v":""}]
[{"$nulls":6},{"$f":"IF('VETS-701C Enter Exiter Info Q1'!D131=1,'VETS-701C Enter Exiter Info Q1'!G131,\"\")","v":""}]
[{"$nulls":6},{"$f":"IF('VETS-701C Enter Exiter Info Q1'!D132=1,'VETS-701C Enter Exiter Info Q1'!G132,\"\")","v":""}]
[{"$nulls":6},{"$f":"IF('VETS-701C Enter Exiter Info Q1'!D133=1,'VETS-701C Enter Exiter Info Q1'!G133,\"\")","v":""}]
[{"$nulls":6},{"$f":"IF('VETS-701C Enter Exiter Info Q1'!D134=1,'VETS-701C Enter Exiter Info Q1'!G134,\"\")","v":""}]
[{"$nulls":6},{"$f":"IF('VETS-701C Enter Exiter Info Q1'!D135=1,'VETS-701C Enter Exiter Info Q1'!G135,\"\")","v":""}]
[{"$nulls":6},{"$f":"IF('VETS-701C Enter Exiter Info Q1'!D136=1,'VETS-701C Enter Exiter Info Q1'!G136,\"\")","v":""}]
[{"$nulls":6},{"$f":"IF('VETS-701C Enter Exiter Info Q1'!D137=1,'VETS-701C Enter Exiter Info Q1'!G137,\"\")","v":""}]
[{"$nulls":6},{"$f":"IF('VETS-701C Enter Exiter Info Q1'!D138=1,'VETS-701C Enter Exiter Info Q1'!G138,\"\")","v":""}]
[{"$nulls":6},{"$f":"IF('VETS-701C Enter Exiter Info Q1'!D139=1,'VETS-701C Enter Exiter Info Q1'!G139,\"\")","v":""}]
[{"$nulls":6},{"$f":"IF('VETS-701C Enter Exiter Info Q1'!D140=1,'VETS-701C Enter Exiter Info Q1'!G140,\"\")","v":""}]
[{"$nulls":6},{"$f":"IF('VETS-701C Enter Exiter Info Q1'!D141=1,'VETS-701C Enter Exiter Info Q1'!G141,\"\")","v":""}]
[{"$nulls":6},{"$f":"IF('VETS-701C Enter Exiter Info Q1'!D142=1,'VETS-701C Enter Exiter Info Q1'!G142,\"\")","v":""}]
[{"$nulls":6},{"$f":"IF('VETS-701C Enter Exiter Info Q1'!D143=1,'VETS-701C Enter Exiter Info Q1'!G143,\"\")","v":""}]
[{"$nulls":6},{"$f":"IF('VETS-701C Enter Exiter Info Q1'!D144=1,'VETS-701C Enter Exiter Info Q1'!G144,\"\")","v":""}]
[{"$nulls":6},{"$f":"IF('VETS-701C Enter Exiter Info Q1'!D145=1,'VETS-701C Enter Exiter Info Q1'!G145,\"\")","v":""}]
[{"$nulls":6},{"$f":"IF('VETS-701C Enter Exiter Info Q1'!D146=1,'VETS-701C Enter Exiter Info Q1'!G146,\"\")","v":""}]
[{"$nulls":6},{"$f":"IF('VETS-701C Enter Exiter Info Q1'!D147=1,'VETS-701C Enter Exiter Info Q1'!G147,\"\")","v":""}]
[{"$nulls":6},{"$f":"IF('VETS-701C Enter Exiter Info Q1'!D148=1,'VETS-701C Enter Exiter Info Q1'!G148,\"\")","v":""}]
[{"$nulls":6},{"$f":"IF('VETS-701C Enter Exiter Info Q1'!D149=1,'VETS-701C Enter Exiter Info Q1'!G149,\"\")","v":""}]
[{"$nulls":6},{"$f":"IF('VETS-701C Enter Exiter Info Q1'!D150=1,'VETS-701C Enter Exiter Info Q1'!G150,\"\")","v":""}]
[{"$nulls":6},{"$f":"IF('VETS-701C Enter Exiter Info Q1'!D151=1,'VETS-701C Enter Exiter Info Q1'!G151,\"\")","v":""}]
[{"$nulls":6},{"$f":"IF('VETS-701C Enter Exiter Info Q1'!D152=1,'VETS-701C Enter Exiter Info Q1'!G152,\"\")","v":""}]
[{"$nulls":6},{"$f":"IF('VETS-701C Enter Exiter Info Q1'!D153=1,'VETS-701C Enter Exiter Info Q1'!G153,\"\")","v":""}]
[{"$nulls":6},{"$f":"IF('VETS-701C Enter Exiter Info Q1'!D154=1,'VETS-701C Enter Exiter Info Q1'!G154,\"\")","v":""}]
[{"$nulls":6},{"$f":"IF('VETS-701C Enter Exiter Info Q1'!D155=1,'VETS-701C Enter Exiter Info Q1'!G155,\"\")","v":""}]
[{"$nulls":6},{"$f":"IF('VETS-701C Enter Exiter Info Q1'!D156=1,'VETS-701C Enter Exiter Info Q1'!G156,\"\")","v":""}]
[{"$nulls":6},{"$f":"IF('VETS-701C Enter Exiter Info Q1'!D157=1,'VETS-701C Enter Exiter Info Q1'!G157,\"\")","v":""}]
[{"$nulls":6},{"$f":"IF('VETS-701C Enter Exiter Info Q1'!D158=1,'VETS-701C Enter Exiter Info Q1'!G158,\"\")","v":""}]
[{"$nulls":6},{"$f":"IF('VETS-701C Enter Exiter Info Q1'!D159=1,'VETS-701C Enter Exiter Info Q1'!G159,\"\")","v":""}]
[{"$nulls":6},{"$f":"IF('VETS-701C Enter Exiter Info Q1'!D160=1,'VETS-701C Enter Exiter Info Q1'!G160,\"\")","v":""}]
[{"$nulls":6},{"$f":"IF('VETS-701C Enter Exiter Info Q1'!D161=1,'VETS-701C Enter Exiter Info Q1'!G161,\"\")","v":""}]
[{"$nulls":6},{"$f":"IF('VETS-701C Enter Exiter Info Q1'!D162=1,'VETS-701C Enter Exiter Info Q1'!G162,\"\")","v":""}]
[{"$nulls":6},{"$f":"IF('VETS-701C Enter Exiter Info Q1'!D163=1,'VETS-701C Enter Exiter Info Q1'!G163,\"\")","v":""}]
[{"$nulls":6},{"$f":"IF('VETS-701C Enter Exiter Info Q1'!D164=1,'VETS-701C Enter Exiter Info Q1'!G164,\"\")","v":""}]
[{"$nulls":6},{"$f":"IF('VETS-701C Enter Exiter Info Q1'!D165=1,'VETS-701C Enter Exiter Info Q1'!G165,\"\")","v":""}]
[{"$nulls":6},{"$f":"IF('VETS-701C Enter Exiter Info Q1'!D166=1,'VETS-701C Enter Exiter Info Q1'!G166,\"\")","v":""}]
[{"$nulls":6},{"$f":"IF('VETS-701C Enter Exiter Info Q1'!D167=1,'VETS-701C Enter Exiter Info Q1'!G167,\"\")","v":""}]
[{"$nulls":6},{"$f":"IF('VETS-701C Enter Exiter Info Q1'!D168=1,'VETS-701C Enter Exiter Info Q1'!G168,\"\")","v":""}]
[{"$nulls":6},{"$f":"IF('VETS-701C Enter Exiter Info Q1'!D169=1,'VETS-701C Enter Exiter Info Q1'!G169,\"\")","v":""}]
[{"$nulls":6},{"$f":"IF('VETS-701C Enter Exiter Info Q1'!D170=1,'VETS-701C Enter Exiter Info Q1'!G170,\"\")","v":""}]
[{"$nulls":6},{"$f":"IF('VETS-701C Enter Exiter Info Q1'!D171=1,'VETS-701C Enter Exiter Info Q1'!G171,\"\")","v":""}]
[{"$nulls":6},{"$f":"IF('VETS-701C Enter Exiter Info Q1'!D172=1,'VETS-701C Enter Exiter Info Q1'!G172,\"\")","v":""}]
[{"$nulls":6},{"$f":"IF('VETS-701C Enter Exiter Info Q1'!D173=1,'VETS-701C Enter Exiter Info Q1'!G173,\"\")","v":""}]
[{"$nulls":6},{"$f":"IF('VETS-701C Enter Exiter Info Q1'!D174=1,'VETS-701C Enter Exiter Info Q1'!G174,\"\")","v":""}]
[{"$nulls":6},{"$f":"IF('VETS-701C Enter Exiter Info Q1'!D175=1,'VETS-701C Enter Exiter Info Q1'!G175,\"\")","v":""}]
[{"$nulls":6},{"$f":"IF('VETS-701C Enter Exiter Info Q1'!D176=1,'VETS-701C Enter Exiter Info Q1'!G176,\"\")","v":""}]
[{"$nulls":6},{"$f":"IF('VETS-701C Enter Exiter Info Q1'!D177=1,'VETS-701C Enter Exiter Info Q1'!G177,\"\")","v":""}]
[{"$nulls":6},{"$f":"IF('VETS-701C Enter Exiter Info Q1'!D178=1,'VETS-701C Enter Exiter Info Q1'!G178,\"\")","v":""}]
[{"$nulls":6},{"$f":"IF('VETS-701C Enter Exiter Info Q1'!D179=1,'VETS-701C Enter Exiter Info Q1'!G179,\"\")","v":""}]
[{"$nulls":6},{"$f":"IF('VETS-701C Enter Exiter Info Q1'!D180=1,'VETS-701C Enter Exiter Info Q1'!G180,\"\")","v":""}]
[{"$nulls":6},{"$f":"IF('VETS-701C Enter Exiter Info Q1'!D181=1,'VETS-701C Enter Exiter Info Q1'!G181,\"\")","v":""}]
[{"$nulls":6},{"$f":"IF('VETS-701C Enter Exiter Info Q1'!D182=1,'VETS-701C Enter Exiter Info Q1'!G182,\"\")","v":""}]
[{"$nulls":6},{"$f":"IF('VETS-701C Enter Exiter Info Q1'!D183=1,'VETS-701C Enter Exiter Info Q1'!G183,\"\")","v":""}]
[{"$nulls":6},{"$f":"IF('VETS-701C Enter Exiter Info Q1'!D184=1,'VETS-701C Enter Exiter Info Q1'!G184,\"\")","v":""}]
[{"$nulls":6},{"$f":"IF('VETS-701C Enter Exiter Info Q1'!D185=1,'VETS-701C Enter Exiter Info Q1'!G185,\"\")","v":""}]
[{"$nulls":6},{"$f":"IF('VETS-701C Enter Exiter Info Q1'!D186=1,'VETS-701C Enter Exiter Info Q1'!G186,\"\")","v":""}]
[{"$nulls":6},{"$f":"IF('VETS-701C Enter Exiter Info Q1'!D187=1,'VETS-701C Enter Exiter Info Q1'!G187,\"\")","v":""}]
[{"$nulls":6},{"$f":"IF('VETS-701C Enter Exiter Info Q1'!D188=1,'VETS-701C Enter Exiter Info Q1'!G188,\"\")","v":""}]
[{"$nulls":6},{"$f":"IF('VETS-701C Enter Exiter Info Q1'!D189=1,'VETS-701C Enter Exiter Info Q1'!G189,\"\")","v":""}]
[{"$nulls":6},{"$f":"IF('VETS-701C Enter Exiter Info Q1'!D190=1,'VETS-701C Enter Exiter Info Q1'!G190,\"\")","v":""}]
[{"$nulls":6},{"$f":"IF('VETS-701C Enter Exiter Info Q1'!D191=1,'VETS-701C Enter Exiter Info Q1'!G191,\"\")","v":""}]
[{"$nulls":6},{"$f":"IF('VETS-701C Enter Exiter Info Q1'!D192=1,'VETS-701C Enter Exiter Info Q1'!G192,\"\")","v":""}]
[{"$nulls":6},{"$f":"IF('VETS-701C Enter Exiter Info Q1'!D193=1,'VETS-701C Enter Exiter Info Q1'!G193,\"\")","v":""}]
[{"$nulls":6},{"$f":"IF('VETS-701C Enter Exiter Info Q1'!D194=1,'VETS-701C Enter Exiter Info Q1'!G194,\"\")","v":""}]
[{"$nulls":6},{"$f":"IF('VETS-701C Enter Exiter Info Q1'!D195=1,'VETS-701C Enter Exiter Info Q1'!G195,\"\")","v":""}]
[{"$nulls":6},{"$f":"IF('VETS-701C Enter Exiter Info Q1'!D196=1,'VETS-701C Enter Exiter Info Q1'!G196,\"\")","v":""}]
[{"$nulls":6},{"$f":"IF('VETS-701C Enter Exiter Info Q1'!D197=1,'VETS-701C Enter Exiter Info Q1'!G197,\"\")","v":""}]
[{"$nulls":6},{"$f":"IF('VETS-701C Enter Exiter Info Q1'!D198=1,'VETS-701C Enter Exiter Info Q1'!G198,\"\")","v":""}]
[{"$nulls":6},{"$f":"IF('VETS-701C Enter Exiter Info Q1'!D199=1,'VETS-701C Enter Exiter Info Q1'!G199,\"\")","v":""}]
[{"$nulls":6},{"$f":"IF('VETS-701C Enter Exiter Info Q1'!D200=1,'VETS-701C Enter Exiter Info Q1'!G200,\"\")","v":""}]
[{"$nulls":6},{"$f":"IF('VETS-701C Enter Exiter Info Q1'!D201=1,'VETS-701C Enter Exiter Info Q1'!G201,\"\")","v":""}]
[{"$nulls":6},{"$f":"IF('VETS-701C Enter Exiter Info Q1'!D202=1,'VETS-701C Enter Exiter Info Q1'!G202,\"\")","v":""}]
[{"$nulls":6},{"$f":"IF('VETS-701C Enter Exiter Info Q1'!D203=1,'VETS-701C Enter Exiter Info Q1'!G203,\"\")","v":""}]
[{"$nulls":5},"END",{"$f":"IF('VETS-701C Enter Exiter Info Q1'!D204=1,'VETS-701C Enter Exiter Info Q1'!G204,\"\")","v":""}]