{"text_format":"3","workbook":"xlsx","n_sheets":88,"sheets":["Welcome and Overview","Terms of Release","Navigation and Progress","THIRA Steps 1-3","Developer Notes","THIRA #1 Planning","SPR #1 Planning CPG101","SPR #1 Planning","THIRA #2 Public Info Warn","SPR #2 Public Info Warn","THIRA #3 Op Coord","SPR #3 Op Coord NIMS","SPR #3 Op Coord","THIRA #4 Forensics Attribution","SPR #4 Forensics Attribution","THIRA #5 Intel Info Sharing","SPR #5 Intel Info Sharing","THIRA #6 Interdict Disrupt","SPR #6 Interdict Disrupt","THIRA #7 Screen Search Detect","SPR #7 Screen Search Detect","THIRA #8 Access Control","SPR #8 Access Control","THIRA #9 Cybersecurity","SPR #9 Cybersecurity","THIRA #10 Phys Protect Meas","SPR #10 Phys Protect Meas","THIRA #11 Risk Mgmt Protect","SPR #11 Risk Mgmt Protect","THIRA #12 Supply Chain","SPR #12 Supply Chain","THIRA #13 Comm Resilience","SPR #13 Comm Resilience ICPD","SPR #13 Comm Resilience","THIRA #14 Long Term Vul Red","SPR #14 Long Term Vul Red","THIRA #15 Risk Resil Assess","SPR #15 Risk Resil Assess","THIRA #16 Threat Haz ID","SPR #16 Threat Haz ID","THIRA #17 Crit Transport","SPR #17 Crit Transport","THIRA #18 Envir Resp Health","SPR #18 Envir Resp Health","THIRA #19 Fatality Mgmt","SPR #19 Fatality Mgmt","THIRA #20 Infrastructure Sys","SPR #20 Infrastructure Sys","THIRA #21 Mass Care","SPR #21 Mass Care","THIRA #22 Mass SAR Ops","SPR #22 Mass SAR Ops","THIRA #23 Security Protection","SPR #23 Security Protection","THIRA #24 Op Comms","SPR #24 Op Comms","THIRA #25 Pub Private Services","SPR #25 Pub Private Services","THIRA #26 Public Health Medical","SPR #26 Public Health Medical","THIRA #27 Sit Assessment","SPR #27 Sit Assessment","THIRA #28 Econ Recovery","SPR #28 Econ Recovery","THIRA #29 Health Soc Services","SPR #29 Health Soc Services","THIRA #30 Housing","SPR #30 Housing","THIRA #31 Nat Cult Resources","SPR #31 Nat Cult Resources","Other Reporting Reqts","THIRA Post-Assessment","SPR Post-Assessment","Tribal CPG101","Tribal NIMS","Capability Ratings Data","Heat Map","Year-to-year Comparison","Import 2014 Responses","Export Capabilities","Import SPR Contributions","Write Word Document","Lists","Data","2014 Responses-THIRA S1-3","2014 Responses-THIRA S4","Gap Descriptions","NIMS Resources"],"not_rendered":{"charts":29,"images":21,"macros":1,"external_links":4,"defined_names":44,"comments":64},"read":"whole","date_system":"1900"}

{"sheet":"Welcome and Overview","index":0,"n_rows":35,"n_cols":41,"rows_kept":35,"merged":[[20,1,20,2],[21,1,21,2],[23,1,27,1],[29,1,34,1]]}
{"$rows_empty":20}
[null,"Jurisdiction Name"]
[null,"Assessments",{"$nulls":36},false,false,false]
[{"$nulls":39},true]
[null,"Point of Contact","Name:"]
[null,null,"Title:"]
[null,null,"Organization:"]
[null,null,"E-mail address:"]
[null,null,"Phone number:"]
[]
[null,"Approving Authority","Name:"]
[null,null,"Title:"]
[null,null,"Organization:"]
[null,null,"E-mail address:"]
[null,null,"Phone number:"]
[null,null,"Approval Date:"]

{"sheet":"Terms of Release","index":1,"n_rows":0,"n_cols":0,"rows_kept":0,"hidden":true}

{"sheet":"Navigation and Progress","index":2,"n_rows":36,"n_cols":53,"rows_kept":36,"hidden":true,"merged":[[1,1,1,4],[1,6,1,12],[1,14,1,39],[1,41,1,42],[2,6,3,6],[2,7,3,7],[2,8,3,8],[2,10,3,10],[2,11,3,11],[2,12,3,12],[2,14,3,14],[2,15,3,15],[2,16,34,16],[2,17,2,19],[2,20,34,20],[2,21,2,23],[2,24,34,24],[2,25,2,27],[2,28,34,28],[2,29,2,31],[2,32,34,32],[2,33,2,35],[2,36,34,36],[2,37,3,37],[2,38,3,38],[2,39,3,39],[2,41,3,41],[2,42,3,42],[4,6,34,6],[4,7,34,7],[4,12,34,12],[4,39,34,39],[4,41,34,41],[4,42,34,42]]}
[{"$nulls":52},0]
[null,"Overall Progress",{"$nulls":4},"THIRA",{"$nulls":7},"SPR Assessment",{"$nulls":26},"Tribal Assessments"]
[null,"THIRA",{"$f":"AVERAGE(C5:C35)","v":{"v":0,"d":"0.0%"}},"SPR Assessment",{"$f":"AVERAGE(E5:E35)","v":{"v":0,"d":"0.0%"}},null,"Step 1:  Threats and Hazards","Step 2:  Context Statements","Step 3: Desired Outcomes",null,"Step 3:  Capability Targets","Step 4:  Resource Requirements","Post-Assessment Questions",null,"Step 1 (Reporting Requirements)","Priority",null,"Planning",{"$nulls":3},"Organization",{"$nulls":3},"Equipment",{"$nulls":3},"Training",{"$nulls":3},"Exercises",{"$nulls":3},"Assessment Corroboration","Gap Responsibility","Post-Assessment Questions",null,"Tribal NIMS Assessment","Tribal CPG101 Assessment"]
[{"$nulls":9},"Step 3: Impacts",{"$nulls":7},"Internal Rating","Mutual Aid Rating","Gap Description",null,"Internal Rating","Mutual Aid Rating","Gap Description",null,"Internal Rating","Mutual Aid Rating","Gap Description",null,"Internal Rating","Mutual Aid Rating","Gap Description",null,"Internal Rating","Mutual Aid Rating","Gap Description",{"$nulls":7},"THIRA Step 4 page","SPR core capability page","THIRA Step 1-3 page","SPR Post Assessment","THIRA Post Assessment","SPR Step 1 (compliance questions)","Tribal NIMS","Tribal CPG101v2"]
[1,null,{"$f":"(COUNTIF($G$5:$H$35, \"Y\")+COUNTIF(I5:L5, \"Y\")+COUNTIF($M$5:$M$35,\"Y\"))/7","v":{"v":0,"d":"0%"}},null,{"$f":"(COUNTIF(O5:P5, \"Y\")+COUNTIF(R5, \"Y\")+ COUNTIF(T5, \"Y\")+COUNTIF(V5, \"Y\")+ COUNTIF(X5, \"Y\")+COUNTIF(Z5, \"Y\")+ COUNTIF(AB5, \"Y\")+COUNTIF(AD5, \"Y\")+ COUNTIF(AF5, \"Y\")+COUNTIF(AH5, \"Y\")+ COUNTIF(AJ5, \"Y\")+ COUNTIF(AL5:AM5, \"Y\")+COUNTIF(AN5, \"Y\"))/ 15","v":{"v":0,"d":"0%"}},"Planning",{"$f":"IF(AND('THIRA Steps 1-3'!$A$7>0,'THIRA Steps 1-3'!$A$7>='THIRA Steps 1-3'!$A$8),\"Y\",\"\")","v":""},{"$f":"IF(AND('THIRA Steps 1-3'!$A$8>0, 'THIRA Steps 1-3'!$A$8='THIRA Steps 1-3'!$A$7),\"Y\",\"\")","v":""},{"$f":"IF('THIRA Steps 1-3'!$A$11>0,\"Y\",\"\")","v":""},{"$f":"IF('THIRA Steps 1-3'!$A$12>0,\"Y\",\"\")","v":""},{"$f":"IF(AND(INDIRECT(\"'THIRA Steps 1-3'!$C$13\")<>\"Click here to enter capability targets\", INDIRECT(\"'THIRA Steps 1-3'!$C$13\")<>\"\"),\"Y\",\"\")","v":""},{"$f":"IF(OR('THIRA #1 Planning'!T$5>0,'THIRA #1 Planning'!T$8>0),\"Y\",\"\")","v":""},{"$f":"IF('THIRA Post-Assessment'!V1=TRUE,\"Y\",\"\")","v":""},null,{"$f":"IF('SPR #1 Planning CPG101'!K41=7, \"Y\", \"\")","v":""},{"$f":"IF(INDIRECT(\"'SPR \" & Lists!P1 & \"'!P9\")>0,\"Y\",\"\")","v":""},null,{"$f":"IF(INDIRECT(\"'SPR \" & Lists!P1 & \"'!P14\")>1,\"Y\",\"\")","v":""},{"$f":"IF(INDIRECT(\"'SPR \" & Lists!P1 & \"'!Q14\")>1,\"Y\",\"\")","v":""},{"$f":"IF(OR(INDIRECT(\"'SPR \"&Lists!P1&\"'!P14\")>=6, INDIRECT(\"'SPR \"&Lists!P1&\"'!R14\")>=1),\"Y\",\"\")","v":""},null,{"$f":"IF(INDIRECT(\"'SPR \" & Lists!P1 & \"'!P18\")>1,\"Y\",\"\")","v":""},{"$f":"IF(INDIRECT(\"'SPR \" & Lists!P1 & \"'!Q18\")>1,\"Y\",\"\")","v":""},{"$f":"IF(OR(INDIRECT(\"'SPR \"&Lists!P1&\"'!P18\")>=6, INDIRECT(\"'SPR \"&Lists!P1&\"'!R18\")>=1),\"Y\",\"\")","v":""},null,{"$f":"IF(INDIRECT(\"'SPR \" & Lists!P1 & \"'!P22\")>1,\"Y\",\"\")","v":""},{"$f":"IF(INDIRECT(\"'SPR \" & Lists!P1 & \"'!Q22\")>1,\"Y\",\"\")","v":""},{"$f":"IF(OR(INDIRECT(\"'SPR \"&Lists!P1&\"'!P22\")>=6, INDIRECT(\"'SPR \"&Lists!P1&\"'!R22\")>=1),\"Y\",\"\")","v":""},null,{"$f":"IF(INDIRECT(\"'SPR \" & Lists!P1 & \"'!P26\")>1,\"Y\",\"\")","v":""},{"$f":"IF(INDIRECT(\"'SPR \" & Lists!P1 & \"'!Q26\")>1,\"Y\",\"\")","v":""},{"$f":"IF(OR(INDIRECT(\"'SPR \"&Lists!P1&\"'!P26\")>=6, INDIRECT(\"'SPR \"&Lists!P1&\"'!R26\")>=1),\"Y\",\"\")","v":""},null,{"$f":"IF(INDIRECT(\"'SPR \" & Lists!P1 & \"'!P30\")>1,\"Y\",\"\")","v":""},{"$f":"IF(INDIRECT(\"'SPR \" & Lists!P1 & \"'!Q30\")>1,\"Y\",\"\")","v":""},{"$f":"IF(OR(INDIRECT(\"'SPR \"&Lists!P1&\"'!P30\")>=6, INDIRECT(\"'SPR \"&Lists!P1&\"'!R30\")>=1),\"Y\",\"\")","v":""},null,{"$f":"IF(INDIRECT(\"'SPR \" & Lists!P1 & \"'!I34\")=\"TRUE\",\"Y\",\"\")","v":""},{"$f":"IF(INDIRECT(\"'SPR \" & Lists!P1 & \"'!P37\")>0,\"Y\",\"\")","v":""},{"$f":"IF(AND('SPR Post-Assessment'!X14>0,'SPR Post-Assessment'!W37>0,'SPR Post-Assessment'!W86=3,'SPR Post-Assessment'!W121=3,'SPR Post-Assessment'!W158=1, 'SPR Post-Assessment'!W161=1,'SPR Post-Assessment'!W164=1,'SPR Post-Assessment'!W169=1, 'SPR Post-Assessment'!V182=1),\"Y\",\"\")","v":""},null,{"$f":"IF('Tribal NIMS'!K15= \"Y\", \"Y\", \"\")","v":""},{"$f":"IF('Tribal CPG101'!K41=7, \"Y\", \"\")","v":""},{"$f":" COUNTIF(L5, \"Y\")","v":0},{"$f":"(COUNTIF(P5, \"Y\")+COUNTIF(R5, \"Y\")+ COUNTIF(T5, \"Y\")+COUNTIF(V5, \"Y\")+ COUNTIF(X5, \"Y\")+COUNTIF(Z5, \"Y\")+ COUNTIF(AB5, \"Y\")+COUNTIF(AD5, \"Y\")+ COUNTIF(AF5, \"Y\")+COUNTIF(AH5, \"Y\")+ COUNTIF(AJ5, \"Y\")+ COUNTIF(AL5:AM5, \"Y\"))/ 13","v":0},{"$f":"(COUNTIF($G$5:$H$35, \"Y\")+ COUNTIF($I$5:$K$35, \"Y\"))/95","v":0},{"$f":"COUNTIF(AN5, \"Y\")","v":0},{"$f":"COUNTIF(M5, \"Y\")","v":0},{"$f":"COUNTIF(O5, \"Y\")","v":0},{"$f":"COUNTIF(AP5, \"Y\")","v":0},{"$f":"COUNTIF(AQ5, \"Y\")","v":0}]
[2,null,{"$f":"(COUNTIF($G$5:$H$35, \"Y\")+COUNTIF(I6:L6, \"Y\")+COUNTIF($M$5:$M$35,\"Y\"))/7","v":{"v":0,"d":"0%"}},null,{"$f":"(COUNTIF(P6, \"Y\")+COUNTIF(R6, \"Y\")+ COUNTIF(T6, \"Y\")+COUNTIF(V6, \"Y\")+ COUNTIF(X6, \"Y\")+COUNTIF(Z6, \"Y\")+ COUNTIF(AB6, \"Y\")+COUNTIF(AD6, \"Y\")+ COUNTIF(AF6, \"Y\")+COUNTIF(AH6, \"Y\")+ COUNTIF(AJ6, \"Y\")+ COUNTIF(AL6:AM6, \"Y\")+COUNTIF(AN5, \"Y\"))/ 14","v":{"v":0,"d":"0%"}},"Public Information and Warning",null,null,{"$f":"IF('THIRA Steps 1-3'!$A$435>0,\"Y\",\"\")","v":""},{"$f":"IF('THIRA Steps 1-3'!$A$436>0,\"Y\",\"\")","v":""},{"$f":"IF(AND(INDIRECT(\"'THIRA Steps 1-3'!$C$437\")<>\"Click here to enter capability targets\", INDIRECT(\"'THIRA Steps 1-3'!$C$437\")<>\"\"),\"Y\",\"\")","v":""},{"$f":"IF(OR('THIRA #2 Public Info Warn'!T$5>0,'THIRA #2 Public Info Warn'!T$8>0),\"Y\",\"\")","v":""},{"$nulls":3},{"$f":"IF(INDIRECT(\"'SPR \" & Lists!P2 & \"'!P9\")>0,\"Y\",\"\")","v":""},null,{"$f":"IF(INDIRECT(\"'SPR \" & Lists!P2 & \"'!P14\")>1,\"Y\",\"\")","v":""},{"$f":"IF(INDIRECT(\"'SPR \" & Lists!P2 & \"'!Q14\")>1,\"Y\",\"\")","v":""},{"$f":"IF(OR(INDIRECT(\"'SPR \"&Lists!P2&\"'!P14\")>=6, INDIRECT(\"'SPR \"&Lists!P2&\"'!R14\")>=1),\"Y\",\"\")","v":""},null,{"$f":"IF(INDIRECT(\"'SPR \" & Lists!P2 & \"'!P18\")>1,\"Y\",\"\")","v":""},{"$f":"IF(INDIRECT(\"'SPR \" & Lists!P2 & \"'!Q18\")>1,\"Y\",\"\")","v":""},{"$f":"IF(OR(INDIRECT(\"'SPR \"&Lists!P2&\"'!P18\")>=6, INDIRECT(\"'SPR \"&Lists!P2&\"'!R18\")>=1),\"Y\",\"\")","v":""},null,{"$f":"IF(INDIRECT(\"'SPR \" & Lists!P2 & \"'!P22\")>1,\"Y\",\"\")","v":""},{"$f":"IF(INDIRECT(\"'SPR \" & Lists!P2 & \"'!Q22\")>1,\"Y\",\"\")","v":""},{"$f":"IF(OR(INDIRECT(\"'SPR \"&Lists!P2&\"'!P22\")>=6, INDIRECT(\"'SPR \"&Lists!P2&\"'!R22\")>=1),\"Y\",\"\")","v":""},null,{"$f":"IF(INDIRECT(\"'SPR \" & Lists!P2 & \"'!P26\")>1,\"Y\",\"\")","v":""},{"$f":"IF(INDIRECT(\"'SPR \" & Lists!P2 & \"'!Q26\")>1,\"Y\",\"\")","v":""},{"$f":"IF(OR(INDIRECT(\"'SPR \"&Lists!P2&\"'!P26\")>=6, INDIRECT(\"'SPR \"&Lists!P2&\"'!R26\")>=1),\"Y\",\"\")","v":""},null,{"$f":"IF(INDIRECT(\"'SPR \" & Lists!P2 & \"'!P30\")>1,\"Y\",\"\")","v":""},{"$f":"IF(INDIRECT(\"'SPR \" & Lists!P2 & \"'!Q30\")>1,\"Y\",\"\")","v":""},{"$f":"IF(OR(INDIRECT(\"'SPR \"&Lists!P2&\"'!P30\")>=6, INDIRECT(\"'SPR \"&Lists!P2&\"'!R30\")>=1),\"Y\",\"\")","v":""},null,{"$f":"IF(INDIRECT(\"'SPR \" & Lists!P2 & \"'!I34\")=\"TRUE\",\"Y\",\"\")","v":""},{"$f":"IF(INDIRECT(\"'SPR \" & Lists!P2 & \"'!P37\")>0,\"Y\",\"\")","v":""},{"$nulls":4},{"$f":" COUNTIF(L6, \"Y\")","v":0},{"$f":"(COUNTIF(P6, \"Y\")+COUNTIF(R6, \"Y\")+ COUNTIF(T6, \"Y\")+COUNTIF(V6, \"Y\")+ COUNTIF(X6, \"Y\")+COUNTIF(Z6, \"Y\")+ COUNTIF(AB6, \"Y\")+COUNTIF(AD6, \"Y\")+ COUNTIF(AF6, \"Y\")+COUNTIF(AH6, \"Y\")+ COUNTIF(AJ6, \"Y\")+ COUNTIF(AL6:AM6, \"Y\"))/ 13","v":0}]
[3,null,{"$f":"(COUNTIF($G$5:$H$35, \"Y\")+COUNTIF(I7:L7, \"Y\")+COUNTIF($M$5:$M$35,\"Y\"))/7","v":{"v":0,"d":"0%"}},null,{"$f":"(COUNTIF(O7:P7, \"Y\")+COUNTIF(R7, \"Y\")+ COUNTIF(T7, \"Y\")+COUNTIF(V7, \"Y\")+ COUNTIF(X7, \"Y\")+COUNTIF(Z7, \"Y\")+ COUNTIF(AB7, \"Y\")+COUNTIF(AD7, \"Y\")+ COUNTIF(AF7, \"Y\")+COUNTIF(AH7, \"Y\")+ COUNTIF(AJ7, \"Y\")+ COUNTIF(AL7:AM7, \"Y\")+COUNTIF(AN5, \"Y\"))/ 15","v":{"v":0,"d":"0%"}},"Operational Coordination",null,null,{"$f":"IF('THIRA Steps 1-3'!$A$859>0,\"Y\",\"\")","v":""},{"$f":"IF('THIRA Steps 1-3'!$A$860>0,\"Y\",\"\")","v":""},{"$f":"IF(AND(INDIRECT(\"'THIRA Steps 1-3'!$C$861\")<>\"Click here to enter capability targets\", INDIRECT(\"'THIRA Steps 1-3'!$C$861\")<>\"\"),\"Y\",\"\")","v":""},{"$f":"IF(OR('THIRA #3 Op Coord'!T$5>0,'THIRA #3 Op Coord'!T$8>0),\"Y\",\"\")","v":""},null,null,{"$f":"IF('SPR #3 Op Coord NIMS'!K15= \"Y\", \"Y\", \"\")","v":""},{"$f":"IF(INDIRECT(\"'SPR \" & Lists!P3 & \"'!P9\")>0,\"Y\",\"\")","v":""},null,{"$f":"IF(INDIRECT(\"'SPR \" & Lists!P3 & \"'!P14\")>1,\"Y\",\"\")","v":""},{"$f":"IF(INDIRECT(\"'SPR \" & Lists!P3 & \"'!Q14\")>1,\"Y\",\"\")","v":""},{"$f":"IF(OR(INDIRECT(\"'SPR \"&Lists!P3&\"'!P14\")>=6, INDIRECT(\"'SPR \"&Lists!P3&\"'!R14\")>=1),\"Y\",\"\")","v":""},null,{"$f":"IF(INDIRECT(\"'SPR \" & Lists!P3 & \"'!P18\")>1,\"Y\",\"\")","v":""},{"$f":"IF(INDIRECT(\"'SPR \" & Lists!P3 & \"'!Q18\")>1,\"Y\",\"\")","v":""},{"$f":"IF(OR(INDIRECT(\"'SPR \"&Lists!P3&\"'!P18\")>=6, INDIRECT(\"'SPR \"&Lists!P3&\"'!R18\")>=1),\"Y\",\"\")","v":""},null,{"$f":"IF(INDIRECT(\"'SPR \" & Lists!P3 & \"'!P22\")>1,\"Y\",\"\")","v":""},{"$f":"IF(INDIRECT(\"'SPR \" & Lists!P3 & \"'!Q22\")>1,\"Y\",\"\")","v":""},{"$f":"IF(OR(INDIRECT(\"'SPR \"&Lists!P3&\"'!P22\")>=6, INDIRECT(\"'SPR \"&Lists!P3&\"'!R22\")>=1),\"Y\",\"\")","v":""},null,{"$f":"IF(INDIRECT(\"'SPR \" & Lists!P3 & \"'!P26\")>1,\"Y\",\"\")","v":""},{"$f":"IF(INDIRECT(\"'SPR \" & Lists!P3 & \"'!Q26\")>1,\"Y\",\"\")","v":""},{"$f":"IF(OR(INDIRECT(\"'SPR \"&Lists!P3&\"'!P26\")>=6, INDIRECT(\"'SPR \"&Lists!P3&\"'!R26\")>=1),\"Y\",\"\")","v":""},null,{"$f":"IF(INDIRECT(\"'SPR \" & Lists!P3 & \"'!P30\")>1,\"Y\",\"\")","v":""},{"$f":"IF(INDIRECT(\"'SPR \" & Lists!P3 & \"'!Q30\")>1,\"Y\",\"\")","v":""},{"$f":"IF(OR(INDIRECT(\"'SPR \"&Lists!P3&\"'!P30\")>=6, INDIRECT(\"'SPR \"&Lists!P3&\"'!R30\")>=1),\"Y\",\"\")","v":""},null,{"$f":"IF(INDIRECT(\"'SPR \" & Lists!P3 & \"'!I34\")=\"TRUE\",\"Y\",\"\")","v":""},{"$f":"IF(INDIRECT(\"'SPR \" & Lists!P3 & \"'!P37\")>0,\"Y\",\"\")","v":""},{"$nulls":4},0,0,{"$nulls":3},{"$f":"COUNTIF(O7, \"Y\")","v":0}]
[4,null,{"$f":"(COUNTIF($G$5:$H$35, \"Y\")+COUNTIF(I8:K8, \"Y\")+COUNTIF($M$5:$M$35,\"Y\"))/6","v":{"v":0,"d":"0%"}},null,{"$f":"(COUNTIF(P8, \"Y\")+COUNTIF(R8, \"Y\")+ COUNTIF(T8, \"Y\")+COUNTIF(V8, \"Y\")+ COUNTIF(X8, \"Y\")+COUNTIF(Z8, \"Y\")+ COUNTIF(AB8, \"Y\")+COUNTIF(AD8, \"Y\")+ COUNTIF(AF8, \"Y\")+COUNTIF(AH8, \"Y\")+ COUNTIF(AJ8, \"Y\")+ COUNTIF(AL8:AM8, \"Y\")+COUNTIF(AN5, \"Y\"))/ 14","v":{"v":0,"d":"0%"}},"Forensics and Attribution",null,null,{"$f":"IF('THIRA Steps 1-3'!$A$1283>0,\"Y\",\"\")","v":""},{"$f":"IF('THIRA Steps 1-3'!$A$1284>0,\"Y\",\"\")","v":""},{"$f":"IF(AND(INDIRECT(\"'THIRA Steps 1-3'!$C$1285\")<>\"Click here to enter capability targets\", INDIRECT(\"'THIRA Steps 1-3'!$C$1285\")<>\"\"),\"Y\",\"\")","v":""},{"$f":"IF(OR('THIRA #4 Forensics Attribution'!T$5>0,'THIRA #4 Forensics Attribution'!T$8>0),\"Y\",\"\")","v":""},{"$nulls":3},{"$f":"IF(INDIRECT(\"'SPR \" & Lists!P4 & \"'!P9\")>0,\"Y\",\"\")","v":""},null,{"$f":"IF(INDIRECT(\"'SPR \" & Lists!P4 & \"'!P14\")>1,\"Y\",\"\")","v":""},{"$f":"IF(INDIRECT(\"'SPR \" & Lists!P4 & \"'!Q14\")>1,\"Y\",\"\")","v":""},{"$f":"IF(OR(INDIRECT(\"'SPR \"&Lists!P4&\"'!P14\")>=6, INDIRECT(\"'SPR \"&Lists!P4&\"'!R14\")>=1),\"Y\",\"\")","v":""},null,{"$f":"IF(INDIRECT(\"'SPR \" & Lists!P4 & \"'!P18\")>1,\"Y\",\"\")","v":""},{"$f":"IF(INDIRECT(\"'SPR \" & Lists!P4 & \"'!Q18\")>1,\"Y\",\"\")","v":""},{"$f":"IF(OR(INDIRECT(\"'SPR \"&Lists!P4&\"'!P18\")>=6, INDIRECT(\"'SPR \"&Lists!P4&\"'!R18\")>=1),\"Y\",\"\")","v":""},null,{"$f":"IF(INDIRECT(\"'SPR \" & Lists!P4 & \"'!P22\")>1,\"Y\",\"\")","v":""},{"$f":"IF(INDIRECT(\"'SPR \" & Lists!P4 & \"'!Q22\")>1,\"Y\",\"\")","v":""},{"$f":"IF(OR(INDIRECT(\"'SPR \"&Lists!P4&\"'!P22\")>=6, INDIRECT(\"'SPR \"&Lists!P4&\"'!R22\")>=1),\"Y\",\"\")","v":""},null,{"$f":"IF(INDIRECT(\"'SPR \" & Lists!P4 & \"'!P26\")>1,\"Y\",\"\")","v":""},{"$f":"IF(INDIRECT(\"'SPR \" & Lists!P4 & \"'!Q26\")>1,\"Y\",\"\")","v":""},{"$f":"IF(OR(INDIRECT(\"'SPR \"&Lists!P4&\"'!P26\")>=6, INDIRECT(\"'SPR \"&Lists!P4&\"'!R26\")>=1),\"Y\",\"\")","v":""},null,{"$f":"IF(INDIRECT(\"'SPR \" & Lists!P4 & \"'!P30\")>1,\"Y\",\"\")","v":""},{"$f":"IF(INDIRECT(\"'SPR \" & Lists!P4 & \"'!Q30\")>1,\"Y\",\"\")","v":""},{"$f":"IF(OR(INDIRECT(\"'SPR \"&Lists!P4&\"'!P30\")>=6, INDIRECT(\"'SPR \"&Lists!P4&\"'!R30\")>=1),\"Y\",\"\")","v":""},null,{"$f":"IF(INDIRECT(\"'SPR \" & Lists!P4 & \"'!I34\")=\"TRUE\",\"Y\",\"\")","v":""},{"$f":"IF(INDIRECT(\"'SPR \" & Lists!P4 & \"'!P37\")>0,\"Y\",\"\")","v":""},{"$nulls":4},0,0]
[5,null,{"v":0,"d":"0%"},null,{"$f":"(COUNTIF(P9, \"Y\")+COUNTIF(R9, \"Y\")+ COUNTIF(T9, \"Y\")+COUNTIF(V9, \"Y\")+ COUNTIF(X9, \"Y\")+COUNTIF(Z9, \"Y\")+ COUNTIF(AB9, \"Y\")+COUNTIF(AD9, \"Y\")+ COUNTIF(AF9, \"Y\")+COUNTIF(AH9, \"Y\")+ COUNTIF(AJ9, \"Y\")+ COUNTIF(AL9:AM9, \"Y\")+COUNTIF(AN5, \"Y\"))/ 14","v":{"v":0,"d":"0%"}},"Intelligence and Information Sharing",null,null,{"$f":"IF('THIRA Steps 1-3'!$A$1371>0,\"Y\",\"\")","v":""},{"$f":"IF('THIRA Steps 1-3'!$A$1372>0,\"Y\",\"\")","v":""},{"$f":"IF(AND(INDIRECT(\"'THIRA Steps 1-3'!$C$1373\")<>\"Click here to enter capability targets\", INDIRECT(\"'THIRA Steps 1-3'!$C$1373\")<>\"\"),\"Y\",\"\")","v":""},{"$f":"IF(OR('THIRA #5 Intel Info Sharing'!T$5>0,'THIRA #5 Intel Info Sharing'!T$8>0),\"Y\",\"\")","v":""},{"$nulls":3},{"$f":"IF(INDIRECT(\"'SPR \" & Lists!P5 & \"'!P9\")>0,\"Y\",\"\")","v":""},null,{"$f":"IF(INDIRECT(\"'SPR \" & Lists!P5 & \"'!P14\")>1,\"Y\",\"\")","v":""},{"$f":"IF(INDIRECT(\"'SPR \" & Lists!P5 & \"'!Q14\")>1,\"Y\",\"\")","v":""},{"$f":"IF(OR(INDIRECT(\"'SPR \"&Lists!P5&\"'!P14\")>=6, INDIRECT(\"'SPR \"&Lists!P5&\"'!R14\")>=1),\"Y\",\"\")","v":""},null,{"$f":"IF(INDIRECT(\"'SPR \" & Lists!P5 & \"'!P18\")>1,\"Y\",\"\")","v":""},{"$f":"IF(INDIRECT(\"'SPR \" & Lists!P5 & \"'!Q18\")>1,\"Y\",\"\")","v":""},{"$f":"IF(OR(INDIRECT(\"'SPR \"&Lists!P5&\"'!P18\")>=6, INDIRECT(\"'SPR \"&Lists!P5&\"'!R18\")>=1),\"Y\",\"\")","v":""},null,{"$f":"IF(INDIRECT(\"'SPR \" & Lists!P5 & \"'!P22\")>1,\"Y\",\"\")","v":""},{"$f":"IF(INDIRECT(\"'SPR \" & Lists!P5 & \"'!Q22\")>1,\"Y\",\"\")","v":""},{"$f":"IF(OR(INDIRECT(\"'SPR \"&Lists!P5&\"'!P22\")>=6, INDIRECT(\"'SPR \"&Lists!P5&\"'!R22\")>=1),\"Y\",\"\")","v":""},null,{"$f":"IF(INDIRECT(\"'SPR \" & Lists!P5 & \"'!P26\")>1,\"Y\",\"\")","v":""},{"$f":"IF(INDIRECT(\"'SPR \" & Lists!P5 & \"'!Q26\")>1,\"Y\",\"\")","v":""},{"$f":"IF(OR(INDIRECT(\"'SPR \"&Lists!P5&\"'!P26\")>=6, INDIRECT(\"'SPR \"&Lists!P5&\"'!R26\")>=1),\"Y\",\"\")","v":""},null,{"$f":"IF(INDIRECT(\"'SPR \" & Lists!P5 & \"'!P30\")>1,\"Y\",\"\")","v":""},{"$f":"IF(INDIRECT(\"'SPR \" & Lists!P5 & \"'!Q30\")>1,\"Y\",\"\")","v":""},{"$f":"IF(OR(INDIRECT(\"'SPR \"&Lists!P5&\"'!P30\")>=6, INDIRECT(\"'SPR \"&Lists!P5&\"'!R30\")>=1),\"Y\",\"\")","v":""},null,{"$f":"IF(INDIRECT(\"'SPR \" & Lists!P5 & \"'!I34\")=\"TRUE\",\"Y\",\"\")","v":""},{"$f":"IF(INDIRECT(\"'SPR \" & Lists!P5 & \"'!P37\")>0,\"Y\",\"\")","v":""},{"$nulls":4},0,0]
[6,null,{"v":0,"d":"0%"},null,{"$f":"(COUNTIF(P10, \"Y\")+COUNTIF(R10, \"Y\")+ COUNTIF(T10, \"Y\")+COUNTIF(V10, \"Y\")+ COUNTIF(X10, \"Y\")+COUNTIF(Z10, \"Y\")+ COUNTIF(AB10, \"Y\")+COUNTIF(AD10, \"Y\")+ COUNTIF(AF10, \"Y\")+COUNTIF(AH10, \"Y\")+ COUNTIF(AJ10, \"Y\")+ COUNTIF(AL10:AM10, \"Y\")+COUNTIF(AN5, \"Y\"))/ 14","v":{"v":0,"d":"0%"}},"Interdiction and Disruption",null,null,{"$f":"IF('THIRA Steps 1-3'!$A$1543>0,\"Y\",\"\")","v":""},{"$f":"IF('THIRA Steps 1-3'!$A$1544>0,\"Y\",\"\")","v":""},{"$f":"IF(AND(INDIRECT(\"'THIRA Steps 1-3'!$C$1545\")<>\"Click here to enter capability targets\", INDIRECT(\"'THIRA Steps 1-3'!$C$1545\")<>\"\"),\"Y\",\"\")","v":""},{"$f":"IF(OR('THIRA #6 Interdict Disrupt'!T$5>0,'THIRA #6 Interdict Disrupt'!T$8>0),\"Y\",\"\")","v":""},{"$nulls":3},{"$f":"IF(INDIRECT(\"'SPR \" & Lists!P6 & \"'!P9\")>0,\"Y\",\"\")","v":""},null,{"$f":"IF(INDIRECT(\"'SPR \" & Lists!P6 & \"'!P14\")>1,\"Y\",\"\")","v":""},{"$f":"IF(INDIRECT(\"'SPR \" & Lists!P6 & \"'!Q14\")>1,\"Y\",\"\")","v":""},{"$f":"IF(OR(INDIRECT(\"'SPR \"&Lists!P6&\"'!P14\")>=6, INDIRECT(\"'SPR \"&Lists!P6&\"'!R14\")>=1),\"Y\",\"\")","v":""},null,{"$f":"IF(INDIRECT(\"'SPR \" & Lists!P6 & \"'!P18\")>1,\"Y\",\"\")","v":""},{"$f":"IF(INDIRECT(\"'SPR \" & Lists!P6 & \"'!Q18\")>1,\"Y\",\"\")","v":""},{"$f":"IF(OR(INDIRECT(\"'SPR \"&Lists!P6&\"'!P18\")>=6, INDIRECT(\"'SPR \"&Lists!P6&\"'!R18\")>=1),\"Y\",\"\")","v":""},null,{"$f":"IF(INDIRECT(\"'SPR \" & Lists!P6 & \"'!P22\")>1,\"Y\",\"\")","v":""},{"$f":"IF(INDIRECT(\"'SPR \" & Lists!P6 & \"'!Q22\")>1,\"Y\",\"\")","v":""},{"$f":"IF(OR(INDIRECT(\"'SPR \"&Lists!P6&\"'!P22\")>=6, INDIRECT(\"'SPR \"&Lists!P6&\"'!R22\")>=1),\"Y\",\"\")","v":""},null,{"$f":"IF(INDIRECT(\"'SPR \" & Lists!P6 & \"'!P26\")>1,\"Y\",\"\")","v":""},{"$f":"IF(INDIRECT(\"'SPR \" & Lists!P6 & \"'!Q26\")>1,\"Y\",\"\")","v":""},{"$f":"IF(OR(INDIRECT(\"'SPR \"&Lists!P6&\"'!P26\")>=6, INDIRECT(\"'SPR \"&Lists!P6&\"'!R26\")>=1),\"Y\",\"\")","v":""},null,{"$f":"IF(INDIRECT(\"'SPR \" & Lists!P6 & \"'!P30\")>1,\"Y\",\"\")","v":""},{"$f":"IF(INDIRECT(\"'SPR \" & Lists!P6 & \"'!Q30\")>1,\"Y\",\"\")","v":""},{"$f":"IF(OR(INDIRECT(\"'SPR \"&Lists!P6&\"'!P30\")>=6, INDIRECT(\"'SPR \"&Lists!P6&\"'!R30\")>=1),\"Y\",\"\")","v":""},null,{"$f":"IF(INDIRECT(\"'SPR \" & Lists!P6 & \"'!I34\")=\"TRUE\",\"Y\",\"\")","v":""},{"$f":"IF(INDIRECT(\"'SPR \" & Lists!P6 & \"'!P37\")>0,\"Y\",\"\")","v":""},{"$nulls":4},0,0]
[7,null,{"v":0,"d":"0%"},null,{"$f":"(COUNTIF(P11, \"Y\")+COUNTIF(R11, \"Y\")+ COUNTIF(T11, \"Y\")+COUNTIF(V11, \"Y\")+ COUNTIF(X11, \"Y\")+COUNTIF(Z11, \"Y\")+ COUNTIF(AB11, \"Y\")+COUNTIF(AD11, \"Y\")+ COUNTIF(AF11, \"Y\")+COUNTIF(AH11, \"Y\")+ COUNTIF(AJ11, \"Y\")+ COUNTIF(AL11:AM11, \"Y\")+COUNTIF(AN5, \"Y\"))/ 14","v":{"v":0,"d":"0%"}},"Screening, Search, and Detection",null,null,{"$f":"IF('THIRA Steps 1-3'!$A$1715>0,\"Y\",\"\")","v":""},{"$f":"IF('THIRA Steps 1-3'!$A$1716>0,\"Y\",\"\")","v":""},{"$f":"IF(AND(INDIRECT(\"'THIRA Steps 1-3'!$C$1717\")<>\"Click here to enter capability targets\", INDIRECT(\"'THIRA Steps 1-3'!$C$1717\")<>\"\"),\"Y\",\"\")","v":""},{"$f":"IF(OR('THIRA #7 Screen Search Detect'!T$5>0,'THIRA #7 Screen Search Detect'!T$8>0),\"Y\",\"\")","v":""},{"$nulls":3},{"$f":"IF(INDIRECT(\"'SPR \" & Lists!P7 & \"'!P9\")>0,\"Y\",\"\")","v":""},null,{"$f":"IF(INDIRECT(\"'SPR \" & Lists!P7 & \"'!P14\")>1,\"Y\",\"\")","v":""},{"$f":"IF(INDIRECT(\"'SPR \" & Lists!P7 & \"'!Q14\")>1,\"Y\",\"\")","v":""},{"$f":"IF(OR(INDIRECT(\"'SPR \"&Lists!P7&\"'!P14\")>=6, INDIRECT(\"'SPR \"&Lists!P7&\"'!R14\")>=1),\"Y\",\"\")","v":""},null,{"$f":"IF(INDIRECT(\"'SPR \" & Lists!P7 & \"'!P18\")>1,\"Y\",\"\")","v":""},{"$f":"IF(INDIRECT(\"'SPR \" & Lists!P7 & \"'!Q18\")>1,\"Y\",\"\")","v":""},{"$f":"IF(OR(INDIRECT(\"'SPR \"&Lists!P7&\"'!P18\")>=6, INDIRECT(\"'SPR \"&Lists!P7&\"'!R18\")>=1),\"Y\",\"\")","v":""},null,{"$f":"IF(INDIRECT(\"'SPR \" & Lists!P7 & \"'!P22\")>1,\"Y\",\"\")","v":""},{"$f":"IF(INDIRECT(\"'SPR \" & Lists!P7 & \"'!Q22\")>1,\"Y\",\"\")","v":""},{"$f":"IF(OR(INDIRECT(\"'SPR \"&Lists!P7&\"'!P22\")>=6, INDIRECT(\"'SPR \"&Lists!P7&\"'!R22\")>=1),\"Y\",\"\")","v":""},null,{"$f":"IF(INDIRECT(\"'SPR \" & Lists!P7 & \"'!P26\")>1,\"Y\",\"\")","v":""},{"$f":"IF(INDIRECT(\"'SPR \" & Lists!P7 & \"'!Q26\")>1,\"Y\",\"\")","v":""},{"$f":"IF(OR(INDIRECT(\"'SPR \"&Lists!P7&\"'!P26\")>=6, INDIRECT(\"'SPR \"&Lists!P7&\"'!R26\")>=1),\"Y\",\"\")","v":""},null,{"$f":"IF(INDIRECT(\"'SPR \" & Lists!P7 & \"'!P30\")>1,\"Y\",\"\")","v":""},{"$f":"IF(INDIRECT(\"'SPR \" & Lists!P7 & \"'!Q30\")>1,\"Y\",\"\")","v":""},{"$f":"IF(OR(INDIRECT(\"'SPR \"&Lists!P7&\"'!P30\")>=6, INDIRECT(\"'SPR \"&Lists!P7&\"'!R30\")>=1),\"Y\",\"\")","v":""},null,{"$f":"IF(INDIRECT(\"'SPR \" & Lists!P7 & \"'!I34\")=\"TRUE\",\"Y\",\"\")","v":""},{"$f":"IF(INDIRECT(\"'SPR \" & Lists!P7 & \"'!P37\")>0,\"Y\",\"\")","v":""},{"$nulls":4},0,0]
[8,null,{"$f":"(COUNTIF($G$5:$H$35, \"Y\")+COUNTIF(I12:K12, \"Y\")+COUNTIF($M$5:$M$35,\"Y\"))/6","v":{"v":0,"d":"0%"}},null,{"$f":"(COUNTIF(P12, \"Y\")+COUNTIF(R12, \"Y\")+ COUNTIF(T12, \"Y\")+COUNTIF(V12, \"Y\")+ COUNTIF(X12, \"Y\")+COUNTIF(Z12, \"Y\")+ COUNTIF(AB12, \"Y\")+COUNTIF(AD12, \"Y\")+ COUNTIF(AF12, \"Y\")+COUNTIF(AH12, \"Y\")+ COUNTIF(AJ12, \"Y\")+ COUNTIF(AL12:AM12, \"Y\")+COUNTIF(AN5, \"Y\"))/ 14","v":{"v":0,"d":"0%"}},"Access Control and Identity Verification",null,null,{"$f":"IF('THIRA Steps 1-3'!$A$1887>0,\"Y\",\"\")","v":""},{"$f":"IF('THIRA Steps 1-3'!$A$1888>0,\"Y\",\"\")","v":""},{"$f":"IF(AND(INDIRECT(\"'THIRA Steps 1-3'!$C$1889\")<>\"Click here to enter capability targets\", INDIRECT(\"'THIRA Steps 1-3'!$C$1889\")<>\"\"),\"Y\",\"\")","v":""},{"$f":"IF(OR('THIRA #8 Access Control'!T$5>0,'THIRA #8 Access Control'!T$8>0),\"Y\",\"\")","v":""},{"$nulls":3},{"$f":"IF(INDIRECT(\"'SPR \" & Lists!P8 & \"'!P9\")>0,\"Y\",\"\")","v":""},null,{"$f":"IF(INDIRECT(\"'SPR \" & Lists!P8 & \"'!P14\")>1,\"Y\",\"\")","v":""},{"$f":"IF(INDIRECT(\"'SPR \" & Lists!P8 & \"'!Q14\")>1,\"Y\",\"\")","v":""},{"$f":"IF(OR(INDIRECT(\"'SPR \"&Lists!P8&\"'!P14\")>=6, INDIRECT(\"'SPR \"&Lists!P8&\"'!R14\")>=1),\"Y\",\"\")","v":""},null,{"$f":"IF(INDIRECT(\"'SPR \" & Lists!P8 & \"'!P18\")>1,\"Y\",\"\")","v":""},{"$f":"IF(INDIRECT(\"'SPR \" & Lists!P8 & \"'!Q18\")>1,\"Y\",\"\")","v":""},{"$f":"IF(OR(INDIRECT(\"'SPR \"&Lists!P8&\"'!P18\")>=6, INDIRECT(\"'SPR \"&Lists!P8&\"'!R18\")>=1),\"Y\",\"\")","v":""},null,{"$f":"IF(INDIRECT(\"'SPR \" & Lists!P8 & \"'!P22\")>1,\"Y\",\"\")","v":""},{"$f":"IF(INDIRECT(\"'SPR \" & Lists!P8 & \"'!Q22\")>1,\"Y\",\"\")","v":""},{"$f":"IF(OR(INDIRECT(\"'SPR \"&Lists!P8&\"'!P22\")>=6, INDIRECT(\"'SPR \"&Lists!P8&\"'!R22\")>=1),\"Y\",\"\")","v":""},null,{"$f":"IF(INDIRECT(\"'SPR \" & Lists!P8 & \"'!P26\")>1,\"Y\",\"\")","v":""},{"$f":"IF(INDIRECT(\"'SPR \" & Lists!P8 & \"'!Q26\")>1,\"Y\",\"\")","v":""},{"$f":"IF(OR(INDIRECT(\"'SPR \"&Lists!P8&\"'!P26\")>=6, INDIRECT(\"'SPR \"&Lists!P8&\"'!R26\")>=1),\"Y\",\"\")","v":""},null,{"$f":"IF(INDIRECT(\"'SPR \" & Lists!P8 & \"'!P30\")>1,\"Y\",\"\")","v":""},{"$f":"IF(INDIRECT(\"'SPR \" & Lists!P8 & \"'!Q30\")>1,\"Y\",\"\")","v":""},{"$f":"IF(OR(INDIRECT(\"'SPR \"&Lists!P8&\"'!P30\")>=6, INDIRECT(\"'SPR \"&Lists!P8&\"'!R30\")>=1),\"Y\",\"\")","v":""},null,{"$f":"IF(INDIRECT(\"'SPR \" & Lists!P8 & \"'!I34\")=\"TRUE\",\"Y\",\"\")","v":""},{"$f":"IF(INDIRECT(\"'SPR \" & Lists!P8 & \"'!P37\")>0,\"Y\",\"\")","v":""},{"$nulls":4},0,0]
[9,null,{"$f":"(COUNTIF($G$5:$H$35, \"Y\")+COUNTIF(I13:K13, \"Y\")+COUNTIF($M$5:$M$35,\"Y\"))/6","v":{"v":0,"d":"0%"}},null,{"$f":"(COUNTIF(P13, \"Y\")+COUNTIF(R13, \"Y\")+ COUNTIF(T13, \"Y\")+COUNTIF(V13, \"Y\")+ COUNTIF(X13, \"Y\")+COUNTIF(Z13, \"Y\")+ COUNTIF(AB13, \"Y\")+COUNTIF(AD13, \"Y\")+ COUNTIF(AF13, \"Y\")+COUNTIF(AH13, \"Y\")+ COUNTIF(AJ13, \"Y\")+ COUNTIF(AL13:AM13, \"Y\")+COUNTIF(AN5, \"Y\"))/ 14","v":{"v":0,"d":"0%"}},"Cybersecurity",null,null,{"$f":"IF('THIRA Steps 1-3'!$A$1975>0,\"Y\",\"\")","v":""},{"$f":"IF('THIRA Steps 1-3'!$A$1976>0,\"Y\",\"\")","v":""},{"$f":"IF(AND(INDIRECT(\"'THIRA Steps 1-3'!$C$1977\")<>\"Click here to enter capability targets\", INDIRECT(\"'THIRA Steps 1-3'!$C$1977\")<>\"\"),\"Y\",\"\")","v":""},{"$f":"IF(OR('THIRA #9 Cybersecurity'!T$5>0,'THIRA #9 Cybersecurity'!T$8>0),\"Y\",\"\")","v":""},{"$nulls":3},{"$f":"IF(INDIRECT(\"'SPR \" & Lists!P9 & \"'!P9\")>0,\"Y\",\"\")","v":""},null,{"$f":"IF(INDIRECT(\"'SPR \" & Lists!P9 & \"'!P14\")>1,\"Y\",\"\")","v":""},{"$f":"IF(INDIRECT(\"'SPR \" & Lists!P9 & \"'!Q14\")>1,\"Y\",\"\")","v":""},{"$f":"IF(OR(INDIRECT(\"'SPR \"&Lists!P9&\"'!P14\")>=6, INDIRECT(\"'SPR \"&Lists!P9&\"'!R14\")>=1),\"Y\",\"\")","v":""},null,{"$f":"IF(INDIRECT(\"'SPR \" & Lists!P9 & \"'!P18\")>1,\"Y\",\"\")","v":""},{"$f":"IF(INDIRECT(\"'SPR \" & Lists!P9 & \"'!Q18\")>1,\"Y\",\"\")","v":""},{"$f":"IF(OR(INDIRECT(\"'SPR \"&Lists!P9&\"'!P18\")>=6, INDIRECT(\"'SPR \"&Lists!P9&\"'!R18\")>=1),\"Y\",\"\")","v":""},null,{"$f":"IF(INDIRECT(\"'SPR \" & Lists!P9 & \"'!P22\")>1,\"Y\",\"\")","v":""},{"$f":"IF(INDIRECT(\"'SPR \" & Lists!P9 & \"'!Q22\")>1,\"Y\",\"\")","v":""},{"$f":"IF(OR(INDIRECT(\"'SPR \"&Lists!P9&\"'!P22\")>=6, INDIRECT(\"'SPR \"&Lists!P9&\"'!R22\")>=1),\"Y\",\"\")","v":""},null,{"$f":"IF(INDIRECT(\"'SPR \" & Lists!P9 & \"'!P26\")>1,\"Y\",\"\")","v":""},{"$f":"IF(INDIRECT(\"'SPR \" & Lists!P9 & \"'!Q26\")>1,\"Y\",\"\")","v":""},{"$f":"IF(OR(INDIRECT(\"'SPR \"&Lists!P9&\"'!P26\")>=6, INDIRECT(\"'SPR \"&Lists!P9&\"'!R26\")>=1),\"Y\",\"\")","v":""},null,{"$f":"IF(INDIRECT(\"'SPR \" & Lists!P9 & \"'!P30\")>1,\"Y\",\"\")","v":""},{"$f":"IF(INDIRECT(\"'SPR \" & Lists!P9 & \"'!Q30\")>1,\"Y\",\"\")","v":""},{"$f":"IF(OR(INDIRECT(\"'SPR \"&Lists!P9&\"'!P30\")>=6, INDIRECT(\"'SPR \"&Lists!P9&\"'!R30\")>=1),\"Y\",\"\")","v":""},null,{"$f":"IF(INDIRECT(\"'SPR \" & Lists!P9 & \"'!I34\")=\"TRUE\",\"Y\",\"\")","v":""},{"$f":"IF(INDIRECT(\"'SPR \" & Lists!P9 & \"'!P37\")>0,\"Y\",\"\")","v":""},{"$nulls":4},0,0]
[10,null,{"v":0,"d":"0%"},null,{"$f":"(COUNTIF(P14, \"Y\")+COUNTIF(R14, \"Y\")+ COUNTIF(T14, \"Y\")+COUNTIF(V14, \"Y\")+ COUNTIF(X14, \"Y\")+COUNTIF(Z14, \"Y\")+ COUNTIF(AB14, \"Y\")+COUNTIF(AD14, \"Y\")+ COUNTIF(AF14, \"Y\")+COUNTIF(AH14, \"Y\")+ COUNTIF(AJ14, \"Y\")+ COUNTIF(AL14:AM14, \"Y\")+COUNTIF(AN5, \"Y\"))/ 14","v":{"v":0,"d":"0%"}},"Physical Protective Measures",null,null,{"$f":"IF('THIRA Steps 1-3'!$A$2063>0,\"Y\",\"\")","v":""},{"$f":"IF('THIRA Steps 1-3'!$A$2064>0,\"Y\",\"\")","v":""},{"$f":"IF(AND(INDIRECT(\"'THIRA Steps 1-3'!$C$2065\")<>\"Click here to enter capability targets\", INDIRECT(\"'THIRA Steps 1-3'!$C$2065\")<>\"\"),\"Y\",\"\")","v":""},{"$f":"IF(OR('THIRA #10 Phys Protect Meas'!T$5>0,'THIRA #10 Phys Protect Meas'!T$8>0),\"Y\",\"\")","v":""},{"$nulls":3},{"$f":"IF(INDIRECT(\"'SPR \" & Lists!P10 & \"'!P9\")>0,\"Y\",\"\")","v":""},null,{"$f":"IF(INDIRECT(\"'SPR \" & Lists!P10 & \"'!P14\")>1,\"Y\",\"\")","v":""},{"$f":"IF(INDIRECT(\"'SPR \" & Lists!P10 & \"'!Q14\")>1,\"Y\",\"\")","v":""},{"$f":"IF(OR(INDIRECT(\"'SPR \"&Lists!P10&\"'!P14\")>=6, INDIRECT(\"'SPR \"&Lists!P10&\"'!R14\")>=1),\"Y\",\"\")","v":""},null,{"$f":"IF(INDIRECT(\"'SPR \" & Lists!P10 & \"'!P18\")>1,\"Y\",\"\")","v":""},{"$f":"IF(INDIRECT(\"'SPR \" & Lists!P10 & \"'!Q18\")>1,\"Y\",\"\")","v":""},{"$f":"IF(OR(INDIRECT(\"'SPR \"&Lists!P10&\"'!P18\")>=6, INDIRECT(\"'SPR \"&Lists!P10&\"'!R18\")>=1),\"Y\",\"\")","v":""},null,{"$f":"IF(INDIRECT(\"'SPR \" & Lists!P10 & \"'!P22\")>1,\"Y\",\"\")","v":""},{"$f":"IF(INDIRECT(\"'SPR \" & Lists!P10 & \"'!Q22\")>1,\"Y\",\"\")","v":""},{"$f":"IF(OR(INDIRECT(\"'SPR \"&Lists!P10&\"'!P22\")>=6, INDIRECT(\"'SPR \"&Lists!P10&\"'!R22\")>=1),\"Y\",\"\")","v":""},null,{"$f":"IF(INDIRECT(\"'SPR \" & Lists!P10 & \"'!P26\")>1,\"Y\",\"\")","v":""},{"$f":"IF(INDIRECT(\"'SPR \" & Lists!P10 & \"'!Q26\")>1,\"Y\",\"\")","v":""},{"$f":"IF(OR(INDIRECT(\"'SPR \"&Lists!P10&\"'!P26\")>=6, INDIRECT(\"'SPR \"&Lists!P10&\"'!R26\")>=1),\"Y\",\"\")","v":""},null,{"$f":"IF(INDIRECT(\"'SPR \" & Lists!P10 & \"'!P30\")>1,\"Y\",\"\")","v":""},{"$f":"IF(INDIRECT(\"'SPR \" & Lists!P10 & \"'!Q30\")>1,\"Y\",\"\")","v":""},{"$f":"IF(OR(INDIRECT(\"'SPR \"&Lists!P10&\"'!P30\")>=6, INDIRECT(\"'SPR \"&Lists!P10&\"'!R30\")>=1),\"Y\",\"\")","v":""},null,{"$f":"IF(INDIRECT(\"'SPR \" & Lists!P10 & \"'!I34\")=\"TRUE\",\"Y\",\"\")","v":""},{"$f":"IF(INDIRECT(\"'SPR \" & Lists!P10 & \"'!P37\")>0,\"Y\",\"\")","v":""},{"$nulls":4},0,0]
[11,null,{"v":0,"d":"0%"},null,{"$f":"(COUNTIF(P15, \"Y\")+COUNTIF(R15, \"Y\")+ COUNTIF(T15, \"Y\")+COUNTIF(V15, \"Y\")+ COUNTIF(X15, \"Y\")+COUNTIF(Z15, \"Y\")+ COUNTIF(AB15, \"Y\")+COUNTIF(AD15, \"Y\")+ COUNTIF(AF15, \"Y\")+COUNTIF(AH15, \"Y\")+ COUNTIF(AJ15, \"Y\")+ COUNTIF(AL15:AM15, \"Y\")+COUNTIF(AN5, \"Y\"))/ 14","v":{"v":0,"d":"0%"}},"Risk Management for Protection Programs and Activities",null,null,{"$f":"IF('THIRA Steps 1-3'!$A$2151>0,\"Y\",\"\")","v":""},{"$f":"IF('THIRA Steps 1-3'!$A$2152>0,\"Y\",\"\")","v":""},{"$f":"IF(AND(INDIRECT(\"'THIRA Steps 1-3'!$C$2153\")<>\"Click here to enter capability targets\", INDIRECT(\"'THIRA Steps 1-3'!$C$2153\")<>\"\"),\"Y\",\"\")","v":""},{"$f":"IF(OR('THIRA #11 Risk Mgmt Protect'!T$5>0,'THIRA #11 Risk Mgmt Protect'!T$8>0),\"Y\",\"\")","v":""},{"$nulls":3},{"$f":"IF(INDIRECT(\"'SPR \" & Lists!P11 & \"'!P9\")>0,\"Y\",\"\")","v":""},null,{"$f":"IF(INDIRECT(\"'SPR \" & Lists!P11 & \"'!P14\")>1,\"Y\",\"\")","v":""},{"$f":"IF(INDIRECT(\"'SPR \" & Lists!P11 & \"'!Q14\")>1,\"Y\",\"\")","v":""},{"$f":"IF(OR(INDIRECT(\"'SPR \"&Lists!P11&\"'!P14\")>=6, INDIRECT(\"'SPR \"&Lists!P11&\"'!R14\")>=1),\"Y\",\"\")","v":""},null,{"$f":"IF(INDIRECT(\"'SPR \" & Lists!P11 & \"'!P18\")>1,\"Y\",\"\")","v":""},{"$f":"IF(INDIRECT(\"'SPR \" & Lists!P11 & \"'!Q18\")>1,\"Y\",\"\")","v":""},{"$f":"IF(OR(INDIRECT(\"'SPR \"&Lists!P11&\"'!P18\")>=6, INDIRECT(\"'SPR \"&Lists!P11&\"'!R18\")>=1),\"Y\",\"\")","v":""},null,{"$f":"IF(INDIRECT(\"'SPR \" & Lists!P11 & \"'!P22\")>1,\"Y\",\"\")","v":""},{"$f":"IF(INDIRECT(\"'SPR \" & Lists!P11 & \"'!Q22\")>1,\"Y\",\"\")","v":""},{"$f":"IF(OR(INDIRECT(\"'SPR \"&Lists!P11&\"'!P22\")>=6, INDIRECT(\"'SPR \"&Lists!P11&\"'!R22\")>=1),\"Y\",\"\")","v":""},null,{"$f":"IF(INDIRECT(\"'SPR \" & Lists!P11 & \"'!P26\")>1,\"Y\",\"\")","v":""},{"$f":"IF(INDIRECT(\"'SPR \" & Lists!P11 & \"'!Q26\")>1,\"Y\",\"\")","v":""},{"$f":"IF(OR(INDIRECT(\"'SPR \"&Lists!P11&\"'!P26\")>=6, INDIRECT(\"'SPR \"&Lists!P11&\"'!R26\")>=1),\"Y\",\"\")","v":""},null,{"$f":"IF(INDIRECT(\"'SPR \" & Lists!P11 & \"'!P30\")>1,\"Y\",\"\")","v":""},{"$f":"IF(INDIRECT(\"'SPR \" & Lists!P11 & \"'!Q30\")>1,\"Y\",\"\")","v":""},{"$f":"IF(OR(INDIRECT(\"'SPR \"&Lists!P11&\"'!P30\")>=6, INDIRECT(\"'SPR \"&Lists!P11&\"'!R30\")>=1),\"Y\",\"\")","v":""},null,{"$f":"IF(INDIRECT(\"'SPR \" & Lists!P11 & \"'!I34\")=\"TRUE\",\"Y\",\"\")","v":""},{"$f":"IF(INDIRECT(\"'SPR \" & Lists!P11 & \"'!P37\")>0,\"Y\",\"\")","v":""},{"$nulls":4},0,0]
[12,null,{"v":0,"d":"0%"},null,{"$f":"(COUNTIF(P16, \"Y\")+COUNTIF(R16, \"Y\")+ COUNTIF(T16, \"Y\")+COUNTIF(V16, \"Y\")+ COUNTIF(X16, \"Y\")+COUNTIF(Z16, \"Y\")+ COUNTIF(AB16, \"Y\")+COUNTIF(AD16, \"Y\")+ COUNTIF(AF16, \"Y\")+COUNTIF(AH16, \"Y\")+ COUNTIF(AJ16, \"Y\")+ COUNTIF(AL16:AM16, \"Y\")+COUNTIF(AN5, \"Y\"))/ 14","v":{"v":0,"d":"0%"}},"Supply Chain Integrity and Security",null,null,{"$f":"IF('THIRA Steps 1-3'!$A$2239>0,\"Y\",\"\")","v":""},{"$f":"IF('THIRA Steps 1-3'!$A$2240>0,\"Y\",\"\")","v":""},{"$f":"IF(AND(INDIRECT(\"'THIRA Steps 1-3'!$C$2241\")<>\"Click here to enter capability targets\", INDIRECT(\"'THIRA Steps 1-3'!$C$2241\")<>\"\"),\"Y\",\"\")","v":""},{"$f":"IF(OR('THIRA #12 Supply Chain'!T$5>0,'THIRA #12 Supply Chain'!T$8>0),\"Y\",\"\")","v":""},{"$nulls":3},{"$f":"IF(INDIRECT(\"'SPR \" & Lists!P12 & \"'!P9\")>0,\"Y\",\"\")","v":""},null,{"$f":"IF(INDIRECT(\"'SPR \" & Lists!P12 & \"'!P14\")>1,\"Y\",\"\")","v":""},{"$f":"IF(INDIRECT(\"'SPR \" & Lists!P12 & \"'!Q14\")>1,\"Y\",\"\")","v":""},{"$f":"IF(OR(INDIRECT(\"'SPR \"&Lists!P12&\"'!P14\")>=6, INDIRECT(\"'SPR \"&Lists!P12&\"'!R14\")>=1),\"Y\",\"\")","v":""},null,{"$f":"IF(INDIRECT(\"'SPR \" & Lists!P12 & \"'!P18\")>1,\"Y\",\"\")","v":""},{"$f":"IF(INDIRECT(\"'SPR \" & Lists!P12 & \"'!Q18\")>1,\"Y\",\"\")","v":""},{"$f":"IF(OR(INDIRECT(\"'SPR \"&Lists!P12&\"'!P18\")>=6, INDIRECT(\"'SPR \"&Lists!P12&\"'!R18\")>=1),\"Y\",\"\")","v":""},null,{"$f":"IF(INDIRECT(\"'SPR \" & Lists!P12 & \"'!P22\")>1,\"Y\",\"\")","v":""},{"$f":"IF(INDIRECT(\"'SPR \" & Lists!P12 & \"'!Q22\")>1,\"Y\",\"\")","v":""},{"$f":"IF(OR(INDIRECT(\"'SPR \"&Lists!P12&\"'!P22\")>=6, INDIRECT(\"'SPR \"&Lists!P12&\"'!R22\")>=1),\"Y\",\"\")","v":""},null,{"$f":"IF(INDIRECT(\"'SPR \" & Lists!P12 & \"'!P26\")>1,\"Y\",\"\")","v":""},{"$f":"IF(INDIRECT(\"'SPR \" & Lists!P12 & \"'!Q26\")>1,\"Y\",\"\")","v":""},{"$f":"IF(OR(INDIRECT(\"'SPR \"&Lists!P12&\"'!P26\")>=6, INDIRECT(\"'SPR \"&Lists!P12&\"'!R26\")>=1),\"Y\",\"\")","v":""},null,{"$f":"IF(INDIRECT(\"'SPR \" & Lists!P12 & \"'!P30\")>1,\"Y\",\"\")","v":""},{"$f":"IF(INDIRECT(\"'SPR \" & Lists!P12 & \"'!Q30\")>1,\"Y\",\"\")","v":""},{"$f":"IF(OR(INDIRECT(\"'SPR \"&Lists!P12&\"'!P30\")>=6, INDIRECT(\"'SPR \"&Lists!P12&\"'!R30\")>=1),\"Y\",\"\")","v":""},null,{"$f":"IF(INDIRECT(\"'SPR \" & Lists!P12 & \"'!I34\")=\"TRUE\",\"Y\",\"\")","v":""},{"$f":"IF(INDIRECT(\"'SPR \" & Lists!P12 & \"'!P37\")>0,\"Y\",\"\")","v":""},{"$nulls":4},0,0]
[13,null,{"v":0,"d":"0%"},null,{"$f":"(COUNTIF(O17:P17, \"Y\")+COUNTIF(R17, \"Y\")+ COUNTIF(T17, \"Y\")+COUNTIF(V17, \"Y\")+ COUNTIF(X17, \"Y\")+COUNTIF(Z17, \"Y\")+ COUNTIF(AB17, \"Y\")+COUNTIF(AD17, \"Y\")+ COUNTIF(AF17, \"Y\")+COUNTIF(AH17, \"Y\")+ COUNTIF(AJ17, \"Y\")+ COUNTIF(AL17:AM17, \"Y\")+COUNTIF(AN5, \"Y\"))/ 15","v":{"v":0,"d":"0%"}},"Community Resilience",null,null,{"$f":"IF('THIRA Steps 1-3'!$A$2327>0,\"Y\",\"\")","v":""},{"$f":"IF('THIRA Steps 1-3'!$A$2328>0,\"Y\",\"\")","v":""},{"$f":"IF(AND(INDIRECT(\"'THIRA Steps 1-3'!$C$2329\")<>\"Click here to enter capability targets\", INDIRECT(\"'THIRA Steps 1-3'!$C$2329\")<>\"\"),\"Y\",\"\")","v":""},{"$f":"IF(OR('THIRA #13 Comm Resilience'!T$5>0,'THIRA #13 Comm Resilience'!T$8>0),\"Y\",\"\")","v":""},null,null,{"$f":"IF('SPR #13 Comm Resilience ICPD'!Q29=5, \"Y\", \"\")","v":""},{"$f":"IF(INDIRECT(\"'SPR \" & Lists!P13 & \"'!P9\")>0,\"Y\",\"\")","v":""},null,{"$f":"IF(INDIRECT(\"'SPR \" & Lists!P13 & \"'!P14\")>1,\"Y\",\"\")","v":""},{"$f":"IF(INDIRECT(\"'SPR \" & Lists!P13 & \"'!Q14\")>1,\"Y\",\"\")","v":""},{"$f":"IF(OR(INDIRECT(\"'SPR \"&Lists!P13&\"'!P14\")>=6, INDIRECT(\"'SPR \"&Lists!P13&\"'!R14\")>=1),\"Y\",\"\")","v":""},null,{"$f":"IF(INDIRECT(\"'SPR \" & Lists!P13 & \"'!P18\")>1,\"Y\",\"\")","v":""},{"$f":"IF(INDIRECT(\"'SPR \" & Lists!P13 & \"'!Q18\")>1,\"Y\",\"\")","v":""},{"$f":"IF(OR(INDIRECT(\"'SPR \"&Lists!P13&\"'!P18\")>=6, INDIRECT(\"'SPR \"&Lists!P13&\"'!R18\")>=1),\"Y\",\"\")","v":""},null,{"$f":"IF(INDIRECT(\"'SPR \" & Lists!P13 & \"'!P22\")>1,\"Y\",\"\")","v":""},{"$f":"IF(INDIRECT(\"'SPR \" & Lists!P13 & \"'!Q22\")>1,\"Y\",\"\")","v":""},{"$f":"IF(OR(INDIRECT(\"'SPR \"&Lists!P13&\"'!P22\")>=6, INDIRECT(\"'SPR \"&Lists!P13&\"'!R22\")>=1),\"Y\",\"\")","v":""},null,{"$f":"IF(INDIRECT(\"'SPR \" & Lists!P13 & \"'!P26\")>1,\"Y\",\"\")","v":""},{"$f":"IF(INDIRECT(\"'SPR \" & Lists!P13 & \"'!Q26\")>1,\"Y\",\"\")","v":""},{"$f":"IF(OR(INDIRECT(\"'SPR \"&Lists!P13&\"'!P26\")>=6, INDIRECT(\"'SPR \"&Lists!P13&\"'!R26\")>=1),\"Y\",\"\")","v":""},null,{"$f":"IF(INDIRECT(\"'SPR \" & Lists!P13 & \"'!P30\")>1,\"Y\",\"\")","v":""},{"$f":"IF(INDIRECT(\"'SPR \" & Lists!P13 & \"'!Q30\")>1,\"Y\",\"\")","v":""},{"$f":"IF(OR(INDIRECT(\"'SPR \"&Lists!P13&\"'!P30\")>=6, INDIRECT(\"'SPR \"&Lists!P13&\"'!R30\")>=1),\"Y\",\"\")","v":""},null,{"$f":"IF(INDIRECT(\"'SPR \" & Lists!P13 & \"'!I34\")=\"TRUE\",\"Y\",\"\")","v":""},{"$f":"IF(INDIRECT(\"'SPR \" & Lists!P13 & \"'!P37\")>0,\"Y\",\"\")","v":""},{"$nulls":4},0,0,{"$nulls":3},{"$f":"COUNTIF(O17, \"Y\")","v":0}]
[14,null,{"v":0,"d":"0%"},null,{"$f":"(COUNTIF(P18, \"Y\")+COUNTIF(R18, \"Y\")+ COUNTIF(T18, \"Y\")+COUNTIF(V18, \"Y\")+ COUNTIF(X18, \"Y\")+COUNTIF(Z18, \"Y\")+ COUNTIF(AB18, \"Y\")+COUNTIF(AD18, \"Y\")+ COUNTIF(AF18, \"Y\")+COUNTIF(AH18, \"Y\")+ COUNTIF(AJ18, \"Y\")+ COUNTIF(AL18:AM18, \"Y\")+COUNTIF(AN5, \"Y\"))/ 14","v":{"v":0,"d":"0%"}},"Long-term Vulnerability Reduction",null,null,{"$f":"IF('THIRA Steps 1-3'!$A$2415>0,\"Y\",\"\")","v":""},{"$f":"IF('THIRA Steps 1-3'!$A$2416>0,\"Y\",\"\")","v":""},{"$f":"IF(AND(INDIRECT(\"'THIRA Steps 1-3'!$C$2417\")<>\"Click here to enter capability targets\", INDIRECT(\"'THIRA Steps 1-3'!$C$2417\")<>\"\"),\"Y\",\"\")","v":""},{"$f":"IF(OR('THIRA #14 Long Term Vul Red'!T$5>0,'THIRA #14 Long Term Vul Red'!T$8>0),\"Y\",\"\")","v":""},{"$nulls":3},{"$f":"IF(INDIRECT(\"'SPR \" & Lists!P14 & \"'!P9\")>0,\"Y\",\"\")","v":""},null,{"$f":"IF(INDIRECT(\"'SPR \" & Lists!P14 & \"'!P14\")>1,\"Y\",\"\")","v":""},{"$f":"IF(INDIRECT(\"'SPR \" & Lists!P14 & \"'!Q14\")>1,\"Y\",\"\")","v":""},{"$f":"IF(OR(INDIRECT(\"'SPR \"&Lists!P14&\"'!P14\")>=6, INDIRECT(\"'SPR \"&Lists!P14&\"'!R14\")>=1),\"Y\",\"\")","v":""},null,{"$f":"IF(INDIRECT(\"'SPR \" & Lists!P14 & \"'!P18\")>1,\"Y\",\"\")","v":""},{"$f":"IF(INDIRECT(\"'SPR \" & Lists!P14 & \"'!Q18\")>1,\"Y\",\"\")","v":""},{"$f":"IF(OR(INDIRECT(\"'SPR \"&Lists!P14&\"'!P18\")>=6, INDIRECT(\"'SPR \"&Lists!P14&\"'!R18\")>=1),\"Y\",\"\")","v":""},null,{"$f":"IF(INDIRECT(\"'SPR \" & Lists!P14 & \"'!P22\")>1,\"Y\",\"\")","v":""},{"$f":"IF(INDIRECT(\"'SPR \" & Lists!P14 & \"'!Q22\")>1,\"Y\",\"\")","v":""},{"$f":"IF(OR(INDIRECT(\"'SPR \"&Lists!P14&\"'!P22\")>=6, INDIRECT(\"'SPR \"&Lists!P14&\"'!R22\")>=1),\"Y\",\"\")","v":""},null,{"$f":"IF(INDIRECT(\"'SPR \" & Lists!P14 & \"'!P26\")>1,\"Y\",\"\")","v":""},{"$f":"IF(INDIRECT(\"'SPR \" & Lists!P14 & \"'!Q26\")>1,\"Y\",\"\")","v":""},{"$f":"IF(OR(INDIRECT(\"'SPR \"&Lists!P14&\"'!P26\")>=6, INDIRECT(\"'SPR \"&Lists!P14&\"'!R26\")>=1),\"Y\",\"\")","v":""},null,{"$f":"IF(INDIRECT(\"'SPR \" & Lists!P14 & \"'!P30\")>1,\"Y\",\"\")","v":""},{"$f":"IF(INDIRECT(\"'SPR \" & Lists!P14 & \"'!Q30\")>1,\"Y\",\"\")","v":""},{"$f":"IF(OR(INDIRECT(\"'SPR \"&Lists!P14&\"'!P30\")>=6, INDIRECT(\"'SPR \"&Lists!P14&\"'!R30\")>=1),\"Y\",\"\")","v":""},null,{"$f":"IF(INDIRECT(\"'SPR \" & Lists!P14 & \"'!I34\")=\"TRUE\",\"Y\",\"\")","v":""},{"$f":"IF(INDIRECT(\"'SPR \" & Lists!P14 & \"'!P37\")>0,\"Y\",\"\")","v":""},{"$nulls":4},0,0]
[15,null,{"v":0,"d":"0%"},null,{"$f":"(COUNTIF(P19, \"Y\")+COUNTIF(R19, \"Y\")+ COUNTIF(T19, \"Y\")+COUNTIF(V19, \"Y\")+ COUNTIF(X19, \"Y\")+COUNTIF(Z19, \"Y\")+ COUNTIF(AB19, \"Y\")+COUNTIF(AD19, \"Y\")+ COUNTIF(AF19, \"Y\")+COUNTIF(AH19, \"Y\")+ COUNTIF(AJ19, \"Y\")+ COUNTIF(AL19:AM19, \"Y\")+COUNTIF(AN5, \"Y\"))/ 14","v":{"v":0,"d":"0%"}},"Risk and Disaster Resilience Assessment",null,null,{"$f":"IF('THIRA Steps 1-3'!$A$2503>0,\"Y\",\"\")","v":""},{"$f":"IF('THIRA Steps 1-3'!$A$2504>0,\"Y\",\"\")","v":""},{"$f":"IF(AND(INDIRECT(\"'THIRA Steps 1-3'!$C$2505\")<>\"Click here to enter capability targets\", INDIRECT(\"'THIRA Steps 1-3'!$C$2505\")<>\"\"),\"Y\",\"\")","v":""},{"$f":"IF(OR('THIRA #15 Risk Resil Assess'!T$5>0,'THIRA #15 Risk Resil Assess'!T$8>0),\"Y\",\"\")","v":""},{"$nulls":3},{"$f":"IF(INDIRECT(\"'SPR \" & Lists!P15 & \"'!P9\")>0,\"Y\",\"\")","v":""},null,{"$f":"IF(INDIRECT(\"'SPR \" & Lists!P15 & \"'!P14\")>1,\"Y\",\"\")","v":""},{"$f":"IF(INDIRECT(\"'SPR \" & Lists!P15 & \"'!Q14\")>1,\"Y\",\"\")","v":""},{"$f":"IF(OR(INDIRECT(\"'SPR \"&Lists!P15&\"'!P14\")>=6, INDIRECT(\"'SPR \"&Lists!P15&\"'!R14\")>=1),\"Y\",\"\")","v":""},null,{"$f":"IF(INDIRECT(\"'SPR \" & Lists!P15 & \"'!P18\")>1,\"Y\",\"\")","v":""},{"$f":"IF(INDIRECT(\"'SPR \" & Lists!P15 & \"'!Q18\")>1,\"Y\",\"\")","v":""},{"$f":"IF(OR(INDIRECT(\"'SPR \"&Lists!P15&\"'!P18\")>=6, INDIRECT(\"'SPR \"&Lists!P15&\"'!R18\")>=1),\"Y\",\"\")","v":""},null,{"$f":"IF(INDIRECT(\"'SPR \" & Lists!P15 & \"'!P22\")>1,\"Y\",\"\")","v":""},{"$f":"IF(INDIRECT(\"'SPR \" & Lists!P15 & \"'!Q22\")>1,\"Y\",\"\")","v":""},{"$f":"IF(OR(INDIRECT(\"'SPR \"&Lists!P15&\"'!P22\")>=6, INDIRECT(\"'SPR \"&Lists!P15&\"'!R22\")>=1),\"Y\",\"\")","v":""},null,{"$f":"IF(INDIRECT(\"'SPR \" & Lists!P15 & \"'!P26\")>1,\"Y\",\"\")","v":""},{"$f":"IF(INDIRECT(\"'SPR \" & Lists!P15 & \"'!Q26\")>1,\"Y\",\"\")","v":""},{"$f":"IF(OR(INDIRECT(\"'SPR \"&Lists!P15&\"'!P26\")>=6, INDIRECT(\"'SPR \"&Lists!P15&\"'!R26\")>=1),\"Y\",\"\")","v":""},null,{"$f":"IF(INDIRECT(\"'SPR \" & Lists!P15 & \"'!P30\")>1,\"Y\",\"\")","v":""},{"$f":"IF(INDIRECT(\"'SPR \" & Lists!P15 & \"'!Q30\")>1,\"Y\",\"\")","v":""},{"$f":"IF(OR(INDIRECT(\"'SPR \"&Lists!P15&\"'!P30\")>=6, INDIRECT(\"'SPR \"&Lists!P15&\"'!R30\")>=1),\"Y\",\"\")","v":""},null,{"$f":"IF(INDIRECT(\"'SPR \" & Lists!P15 & \"'!I34\")=\"TRUE\",\"Y\",\"\")","v":""},{"$f":"IF(INDIRECT(\"'SPR \" & Lists!P15 & \"'!P37\")>0,\"Y\",\"\")","v":""},{"$nulls":4},0,0]
[16,null,{"v":0,"d":"0%"},null,{"$f":"(COUNTIF(P20, \"Y\")+COUNTIF(R20, \"Y\")+ COUNTIF(T20, \"Y\")+COUNTIF(V20, \"Y\")+ COUNTIF(X20, \"Y\")+COUNTIF(Z20, \"Y\")+ COUNTIF(AB20, \"Y\")+COUNTIF(AD20, \"Y\")+ COUNTIF(AF20, \"Y\")+COUNTIF(AH20, \"Y\")+ COUNTIF(AJ20, \"Y\")+ COUNTIF(AL20:AM20, \"Y\")+COUNTIF(AN5, \"Y\"))/ 14","v":{"v":0,"d":"0%"}},"Threats and Hazard Identification",null,null,{"$f":"IF('THIRA Steps 1-3'!$A$2591>0,\"Y\",\"\")","v":""},{"$f":"IF('THIRA Steps 1-3'!$A$2592>0,\"Y\",\"\")","v":""},{"$f":"IF(AND(INDIRECT(\"'THIRA Steps 1-3'!$C$2593\")<>\"Click here to enter capability targets\", INDIRECT(\"'THIRA Steps 1-3'!$C$2593\")<>\"\"),\"Y\",\"\")","v":""},{"$f":"IF(OR('THIRA #16 Threat Haz ID'!T$5>0,'THIRA #16 Threat Haz ID'!T$8>0),\"Y\",\"\")","v":""},{"$nulls":3},{"$f":"IF(INDIRECT(\"'SPR \" & Lists!P16 & \"'!P9\")>0,\"Y\",\"\")","v":""},null,{"$f":"IF(INDIRECT(\"'SPR \" & Lists!P16 & \"'!P14\")>1,\"Y\",\"\")","v":""},{"$f":"IF(INDIRECT(\"'SPR \" & Lists!P16 & \"'!Q14\")>1,\"Y\",\"\")","v":""},{"$f":"IF(OR(INDIRECT(\"'SPR \"&Lists!P16&\"'!P14\")>=6, INDIRECT(\"'SPR \"&Lists!P16&\"'!R14\")>=1),\"Y\",\"\")","v":""},null,{"$f":"IF(INDIRECT(\"'SPR \" & Lists!P16 & \"'!P18\")>1,\"Y\",\"\")","v":""},{"$f":"IF(INDIRECT(\"'SPR \" & Lists!P16 & \"'!Q18\")>1,\"Y\",\"\")","v":""},{"$f":"IF(OR(INDIRECT(\"'SPR \"&Lists!P16&\"'!P18\")>=6, INDIRECT(\"'SPR \"&Lists!P16&\"'!R18\")>=1),\"Y\",\"\")","v":""},null,{"$f":"IF(INDIRECT(\"'SPR \" & Lists!P16 & \"'!P22\")>1,\"Y\",\"\")","v":""},{"$f":"IF(INDIRECT(\"'SPR \" & Lists!P16 & \"'!Q22\")>1,\"Y\",\"\")","v":""},{"$f":"IF(OR(INDIRECT(\"'SPR \"&Lists!P16&\"'!P22\")>=6, INDIRECT(\"'SPR \"&Lists!P16&\"'!R22\")>=1),\"Y\",\"\")","v":""},null,{"$f":"IF(INDIRECT(\"'SPR \" & Lists!P16 & \"'!P26\")>1,\"Y\",\"\")","v":""},{"$f":"IF(INDIRECT(\"'SPR \" & Lists!P16 & \"'!Q26\")>1,\"Y\",\"\")","v":""},{"$f":"IF(OR(INDIRECT(\"'SPR \"&Lists!P16&\"'!P26\")>=6, INDIRECT(\"'SPR \"&Lists!P16&\"'!R26\")>=1),\"Y\",\"\")","v":""},null,{"$f":"IF(INDIRECT(\"'SPR \" & Lists!P16 & \"'!P30\")>1,\"Y\",\"\")","v":""},{"$f":"IF(INDIRECT(\"'SPR \" & Lists!P16 & \"'!Q30\")>1,\"Y\",\"\")","v":""},{"$f":"IF(OR(INDIRECT(\"'SPR \"&Lists!P16&\"'!P30\")>=6, INDIRECT(\"'SPR \"&Lists!P16&\"'!R30\")>=1),\"Y\",\"\")","v":""},null,{"$f":"IF(INDIRECT(\"'SPR \" & Lists!P16 & \"'!I34\")=\"TRUE\",\"Y\",\"\")","v":""},{"$f":"IF(INDIRECT(\"'SPR \" & Lists!P16 & \"'!P37\")>0,\"Y\",\"\")","v":""},{"$nulls":4},0,0]
[17,null,{"$f":"(COUNTIF($G$5:$H$35, \"Y\")+COUNTIF(I21:L21, \"Y\")+COUNTIF($M$5:$M$35,\"Y\"))/7","v":{"v":0,"d":"0%"}},null,{"$f":"(COUNTIF(P21, \"Y\")+COUNTIF(R21, \"Y\")+ COUNTIF(T21, \"Y\")+COUNTIF(V21, \"Y\")+ COUNTIF(X21, \"Y\")+COUNTIF(Z21, \"Y\")+ COUNTIF(AB21, \"Y\")+COUNTIF(AD21, \"Y\")+ COUNTIF(AF21, \"Y\")+COUNTIF(AH21, \"Y\")+ COUNTIF(AJ21, \"Y\")+ COUNTIF(AL21:AM21, \"Y\")+COUNTIF(AN5, \"Y\"))/ 14","v":{"v":0,"d":"0%"}},"Critical Transportation",null,null,{"$f":"IF('THIRA Steps 1-3'!$A$2679>0,\"Y\",\"\")","v":""},{"$f":"IF('THIRA Steps 1-3'!$A$2680>0,\"Y\",\"\")","v":""},{"$f":"IF(AND(INDIRECT(\"'THIRA Steps 1-3'!$C$2681\")<>\"Click here to enter capability targets\", INDIRECT(\"'THIRA Steps 1-3'!$C$2681\")<>\"\"),\"Y\",\"\")","v":""},{"$f":"IF(OR('THIRA #17 Crit Transport'!T$5>0,'THIRA #17 Crit Transport'!T$8>0),\"Y\",\"\")","v":""},{"$nulls":3},{"$f":"IF(INDIRECT(\"'SPR \" & Lists!P17 & \"'!P9\")>0,\"Y\",\"\")","v":""},null,{"$f":"IF(INDIRECT(\"'SPR \" & Lists!P17 & \"'!P14\")>1,\"Y\",\"\")","v":""},{"$f":"IF(INDIRECT(\"'SPR \" & Lists!P17 & \"'!Q14\")>1,\"Y\",\"\")","v":""},{"$f":"IF(OR(INDIRECT(\"'SPR \"&Lists!P17&\"'!P14\")>=6, INDIRECT(\"'SPR \"&Lists!P17&\"'!R14\")>=1),\"Y\",\"\")","v":""},null,{"$f":"IF(INDIRECT(\"'SPR \" & Lists!P17 & \"'!P18\")>1,\"Y\",\"\")","v":""},{"$f":"IF(INDIRECT(\"'SPR \" & Lists!P17 & \"'!Q18\")>1,\"Y\",\"\")","v":""},{"$f":"IF(OR(INDIRECT(\"'SPR \"&Lists!P17&\"'!P18\")>=6, INDIRECT(\"'SPR \"&Lists!P17&\"'!R18\")>=1),\"Y\",\"\")","v":""},null,{"$f":"IF(INDIRECT(\"'SPR \" & Lists!P17 & \"'!P22\")>1,\"Y\",\"\")","v":""},{"$f":"IF(INDIRECT(\"'SPR \" & Lists!P17 & \"'!Q22\")>1,\"Y\",\"\")","v":""},{"$f":"IF(OR(INDIRECT(\"'SPR \"&Lists!P17&\"'!P22\")>=6, INDIRECT(\"'SPR \"&Lists!P17&\"'!R22\")>=1),\"Y\",\"\")","v":""},null,{"$f":"IF(INDIRECT(\"'SPR \" & Lists!P17 & \"'!P26\")>1,\"Y\",\"\")","v":""},{"$f":"IF(INDIRECT(\"'SPR \" & Lists!P17 & \"'!Q26\")>1,\"Y\",\"\")","v":""},{"$f":"IF(OR(INDIRECT(\"'SPR \"&Lists!P17&\"'!P26\")>=6, INDIRECT(\"'SPR \"&Lists!P17&\"'!R26\")>=1),\"Y\",\"\")","v":""},null,{"$f":"IF(INDIRECT(\"'SPR \" & Lists!P17 & \"'!P30\")>1,\"Y\",\"\")","v":""},{"$f":"IF(INDIRECT(\"'SPR \" & Lists!P17 & \"'!Q30\")>1,\"Y\",\"\")","v":""},{"$f":"IF(OR(INDIRECT(\"'SPR \"&Lists!P17&\"'!P30\")>=6, INDIRECT(\"'SPR \"&Lists!P17&\"'!R30\")>=1),\"Y\",\"\")","v":""},null,{"$f":"IF(INDIRECT(\"'SPR \" & Lists!P17 & \"'!I34\")=\"TRUE\",\"Y\",\"\")","v":""},{"$f":"IF(INDIRECT(\"'SPR \" & Lists!P17 & \"'!P37\")>0,\"Y\",\"\")","v":""},{"$nulls":4},0,0]
[18,null,{"$f":"(COUNTIF($G$5:$H$35, \"Y\")+COUNTIF(I22:L22, \"Y\")+COUNTIF($M$5:$M$35,\"Y\"))/7","v":{"v":0,"d":"0%"}},null,{"$f":"(COUNTIF(P22, \"Y\")+COUNTIF(R22, \"Y\")+ COUNTIF(T22, \"Y\")+COUNTIF(V22, \"Y\")+ COUNTIF(X22, \"Y\")+COUNTIF(Z22, \"Y\")+ COUNTIF(AB22, \"Y\")+COUNTIF(AD22, \"Y\")+ COUNTIF(AF22, \"Y\")+COUNTIF(AH22, \"Y\")+ COUNTIF(AJ22, \"Y\")+ COUNTIF(AL22:AM22, \"Y\")+COUNTIF(AN5, \"Y\"))/ 14","v":{"v":0,"d":"0%"}},"Environmental Response/Health and Safety",null,null,{"$f":"IF('THIRA Steps 1-3'!$A$2767>0,\"Y\",\"\")","v":""},{"$f":"IF('THIRA Steps 1-3'!$A$2768>0,\"Y\",\"\")","v":""},{"$f":"IF(AND(INDIRECT(\"'THIRA Steps 1-3'!$C$2769\")<>\"Click here to enter capability targets\", INDIRECT(\"'THIRA Steps 1-3'!$C$2769\")<>\"\"),\"Y\",\"\")","v":""},{"$f":"IF(OR('THIRA #18 Envir Resp Health'!T$5>0,'THIRA #18 Envir Resp Health'!T$8>0),\"Y\",\"\")","v":""},{"$nulls":3},{"$f":"IF(INDIRECT(\"'SPR \" & Lists!P18 & \"'!P9\")>0,\"Y\",\"\")","v":""},null,{"$f":"IF(INDIRECT(\"'SPR \" & Lists!P18 & \"'!P14\")>1,\"Y\",\"\")","v":""},{"$f":"IF(INDIRECT(\"'SPR \" & Lists!P18 & \"'!Q14\")>1,\"Y\",\"\")","v":""},{"$f":"IF(OR(INDIRECT(\"'SPR \"&Lists!P18&\"'!P14\")>=6, INDIRECT(\"'SPR \"&Lists!P18&\"'!R14\")>=1),\"Y\",\"\")","v":""},null,{"$f":"IF(INDIRECT(\"'SPR \" & Lists!P18 & \"'!P18\")>1,\"Y\",\"\")","v":""},{"$f":"IF(INDIRECT(\"'SPR \" & Lists!P18 & \"'!Q18\")>1,\"Y\",\"\")","v":""},{"$f":"IF(OR(INDIRECT(\"'SPR \"&Lists!P18&\"'!P18\")>=6, INDIRECT(\"'SPR \"&Lists!P18&\"'!R18\")>=1),\"Y\",\"\")","v":""},null,{"$f":"IF(INDIRECT(\"'SPR \" & Lists!P18 & \"'!P22\")>1,\"Y\",\"\")","v":""},{"$f":"IF(INDIRECT(\"'SPR \" & Lists!P18 & \"'!Q22\")>1,\"Y\",\"\")","v":""},{"$f":"IF(OR(INDIRECT(\"'SPR \"&Lists!P18&\"'!P22\")>=6, INDIRECT(\"'SPR \"&Lists!P18&\"'!R22\")>=1),\"Y\",\"\")","v":""},null,{"$f":"IF(INDIRECT(\"'SPR \" & Lists!P18 & \"'!P26\")>1,\"Y\",\"\")","v":""},{"$f":"IF(INDIRECT(\"'SPR \" & Lists!P18 & \"'!Q26\")>1,\"Y\",\"\")","v":""},{"$f":"IF(OR(INDIRECT(\"'SPR \"&Lists!P18&\"'!P26\")>=6, INDIRECT(\"'SPR \"&Lists!P18&\"'!R26\")>=1),\"Y\",\"\")","v":""},null,{"$f":"IF(INDIRECT(\"'SPR \" & Lists!P18 & \"'!P30\")>1,\"Y\",\"\")","v":""},{"$f":"IF(INDIRECT(\"'SPR \" & Lists!P18 & \"'!Q30\")>1,\"Y\",\"\")","v":""},{"$f":"IF(OR(INDIRECT(\"'SPR \"&Lists!P18&\"'!P30\")>=6, INDIRECT(\"'SPR \"&Lists!P18&\"'!R30\")>=1),\"Y\",\"\")","v":""},null,{"$f":"IF(INDIRECT(\"'SPR \" & Lists!P18 & \"'!I34\")=\"TRUE\",\"Y\",\"\")","v":""},{"$f":"IF(INDIRECT(\"'SPR \" & Lists!P18 & \"'!P37\")>0,\"Y\",\"\")","v":""},{"$nulls":4},0,0]
[19,null,{"v":0,"d":"0%"},null,{"$f":"(COUNTIF(P23, \"Y\")+COUNTIF(R23, \"Y\")+ COUNTIF(T23, \"Y\")+COUNTIF(V23, \"Y\")+ COUNTIF(X23, \"Y\")+COUNTIF(Z23, \"Y\")+ COUNTIF(AB23, \"Y\")+COUNTIF(AD23, \"Y\")+ COUNTIF(AF23, \"Y\")+COUNTIF(AH23, \"Y\")+ COUNTIF(AJ23, \"Y\")+ COUNTIF(AL23:AM23, \"Y\")+COUNTIF(AN5, \"Y\"))/ 14","v":{"v":0,"d":"0%"}},"Fatality Management Services",null,null,{"$f":"IF('THIRA Steps 1-3'!$A$2855>0,\"Y\",\"\")","v":""},{"$f":"IF('THIRA Steps 1-3'!$A$2856>0,\"Y\",\"\")","v":""},{"$f":"IF(AND(INDIRECT(\"'THIRA Steps 1-3'!$C$2857\")<>\"Click here to enter capability targets\", INDIRECT(\"'THIRA Steps 1-3'!$C$2857\")<>\"\"),\"Y\",\"\")","v":""},{"$f":"IF(OR('THIRA #19 Fatality Mgmt'!T$5>0,'THIRA #19 Fatality Mgmt'!T$8>0),\"Y\",\"\")","v":""},{"$nulls":3},{"$f":"IF(INDIRECT(\"'SPR \" & Lists!P19 & \"'!P9\")>0,\"Y\",\"\")","v":""},null,{"$f":"IF(INDIRECT(\"'SPR \" & Lists!P19 & \"'!P14\")>1,\"Y\",\"\")","v":""},{"$f":"IF(INDIRECT(\"'SPR \" & Lists!P19 & \"'!Q14\")>1,\"Y\",\"\")","v":""},{"$f":"IF(OR(INDIRECT(\"'SPR \"&Lists!P19&\"'!P14\")>=6, INDIRECT(\"'SPR \"&Lists!P19&\"'!R14\")>=1),\"Y\",\"\")","v":""},null,{"$f":"IF(INDIRECT(\"'SPR \" & Lists!P19 & \"'!P18\")>1,\"Y\",\"\")","v":""},{"$f":"IF(INDIRECT(\"'SPR \" & Lists!P19 & \"'!Q18\")>1,\"Y\",\"\")","v":""},{"$f":"IF(OR(INDIRECT(\"'SPR \"&Lists!P19&\"'!P18\")>=6, INDIRECT(\"'SPR \"&Lists!P19&\"'!R18\")>=1),\"Y\",\"\")","v":""},null,{"$f":"IF(INDIRECT(\"'SPR \" & Lists!P19 & \"'!P22\")>1,\"Y\",\"\")","v":""},{"$f":"IF(INDIRECT(\"'SPR \" & Lists!P19 & \"'!Q22\")>1,\"Y\",\"\")","v":""},{"$f":"IF(OR(INDIRECT(\"'SPR \"&Lists!P19&\"'!P22\")>=6, INDIRECT(\"'SPR \"&Lists!P19&\"'!R22\")>=1),\"Y\",\"\")","v":""},null,{"$f":"IF(INDIRECT(\"'SPR \" & Lists!P19 & \"'!P26\")>1,\"Y\",\"\")","v":""},{"$f":"IF(INDIRECT(\"'SPR \" & Lists!P19 & \"'!Q26\")>1,\"Y\",\"\")","v":""},{"$f":"IF(OR(INDIRECT(\"'SPR \"&Lists!P19&\"'!P26\")>=6, INDIRECT(\"'SPR \"&Lists!P19&\"'!R26\")>=1),\"Y\",\"\")","v":""},null,{"$f":"IF(INDIRECT(\"'SPR \" & Lists!P19 & \"'!P30\")>1,\"Y\",\"\")","v":""},{"$f":"IF(INDIRECT(\"'SPR \" & Lists!P19 & \"'!Q30\")>1,\"Y\",\"\")","v":""},{"$f":"IF(OR(INDIRECT(\"'SPR \"&Lists!P19&\"'!P30\")>=6, INDIRECT(\"'SPR \"&Lists!P19&\"'!R30\")>=1),\"Y\",\"\")","v":""},null,{"$f":"IF(INDIRECT(\"'SPR \" & Lists!P19 & \"'!I34\")=\"TRUE\",\"Y\",\"\")","v":""},{"$f":"IF(INDIRECT(\"'SPR \" & Lists!P19 & \"'!P37\")>0,\"Y\",\"\")","v":""},{"$nulls":4},0,0]
[20,null,{"v":0,"d":"0%"},null,{"$f":"(COUNTIF(P24, \"Y\")+COUNTIF(R24, \"Y\")+ COUNTIF(T24, \"Y\")+COUNTIF(V24, \"Y\")+ COUNTIF(X24, \"Y\")+COUNTIF(Z24, \"Y\")+ COUNTIF(AB24, \"Y\")+COUNTIF(AD24, \"Y\")+ COUNTIF(AF24, \"Y\")+COUNTIF(AH24, \"Y\")+ COUNTIF(AJ24, \"Y\")+ COUNTIF(AL24:AM24, \"Y\")+COUNTIF(AN5, \"Y\"))/ 14","v":{"v":0,"d":"0%"}},"Infrastructure Systems",null,null,{"$f":"IF('THIRA Steps 1-3'!$A$2943>0,\"Y\",\"\")","v":""},{"$f":"IF('THIRA Steps 1-3'!$A$2944>0,\"Y\",\"\")","v":""},{"$f":"IF(AND(INDIRECT(\"'THIRA Steps 1-3'!$C$2945\")<>\"Click here to enter capability targets\", INDIRECT(\"'THIRA Steps 1-3'!$C$2945\")<>\"\"),\"Y\",\"\")","v":""},{"$f":"IF(OR('THIRA #20 Infrastructure Sys'!T$5>0,'THIRA #20 Infrastructure Sys'!T$8>0),\"Y\",\"\")","v":""},{"$nulls":3},{"$f":"IF(INDIRECT(\"'SPR \" & Lists!P20 & \"'!P9\")>0,\"Y\",\"\")","v":""},null,{"$f":"IF(INDIRECT(\"'SPR \" & Lists!P20 & \"'!P14\")>1,\"Y\",\"\")","v":""},{"$f":"IF(INDIRECT(\"'SPR \" & Lists!P20 & \"'!Q14\")>1,\"Y\",\"\")","v":""},{"$f":"IF(OR(INDIRECT(\"'SPR \"&Lists!P20&\"'!P14\")>=6, INDIRECT(\"'SPR \"&Lists!P20&\"'!R14\")>=1),\"Y\",\"\")","v":""},null,{"$f":"IF(INDIRECT(\"'SPR \" & Lists!P20 & \"'!P18\")>1,\"Y\",\"\")","v":""},{"$f":"IF(INDIRECT(\"'SPR \" & Lists!P20 & \"'!Q18\")>1,\"Y\",\"\")","v":""},{"$f":"IF(OR(INDIRECT(\"'SPR \"&Lists!P20&\"'!P18\")>=6, INDIRECT(\"'SPR \"&Lists!P20&\"'!R18\")>=1),\"Y\",\"\")","v":""},null,{"$f":"IF(INDIRECT(\"'SPR \" & Lists!P20 & \"'!P22\")>1,\"Y\",\"\")","v":""},{"$f":"IF(INDIRECT(\"'SPR \" & Lists!P20 & \"'!Q22\")>1,\"Y\",\"\")","v":""},{"$f":"IF(OR(INDIRECT(\"'SPR \"&Lists!P20&\"'!P22\")>=6, INDIRECT(\"'SPR \"&Lists!P20&\"'!R22\")>=1),\"Y\",\"\")","v":""},null,{"$f":"IF(INDIRECT(\"'SPR \" & Lists!P20 & \"'!P26\")>1,\"Y\",\"\")","v":""},{"$f":"IF(INDIRECT(\"'SPR \" & Lists!P20 & \"'!Q26\")>1,\"Y\",\"\")","v":""},{"$f":"IF(OR(INDIRECT(\"'SPR \"&Lists!P20&\"'!P26\")>=6, INDIRECT(\"'SPR \"&Lists!P20&\"'!R26\")>=1),\"Y\",\"\")","v":""},null,{"$f":"IF(INDIRECT(\"'SPR \" & Lists!P20 & \"'!P30\")>1,\"Y\",\"\")","v":""},{"$f":"IF(INDIRECT(\"'SPR \" & Lists!P20 & \"'!Q30\")>1,\"Y\",\"\")","v":""},{"$f":"IF(OR(INDIRECT(\"'SPR \"&Lists!P20&\"'!P30\")>=6, INDIRECT(\"'SPR \"&Lists!P20&\"'!R30\")>=1),\"Y\",\"\")","v":""},null,{"$f":"IF(INDIRECT(\"'SPR \" & Lists!P20 & \"'!I34\")=\"TRUE\",\"Y\",\"\")","v":""},{"$f":"IF(INDIRECT(\"'SPR \" & Lists!P20 & \"'!P37\")>0,\"Y\",\"\")","v":""},{"$nulls":4},0,0]
[21,null,{"$f":"(COUNTIF($G$5:$H$35, \"Y\")+COUNTIF(I25:L25, \"Y\")+COUNTIF($M$5:$M$35,\"Y\"))/7","v":{"v":0,"d":"0%"}},null,{"$f":"(COUNTIF(P25, \"Y\")+COUNTIF(R25, \"Y\")+ COUNTIF(T25, \"Y\")+COUNTIF(V25, \"Y\")+ COUNTIF(X25, \"Y\")+COUNTIF(Z25, \"Y\")+ COUNTIF(AB25, \"Y\")+COUNTIF(AD25, \"Y\")+ COUNTIF(AF25, \"Y\")+COUNTIF(AH25, \"Y\")+ COUNTIF(AJ25, \"Y\")+ COUNTIF(AL25:AM25, \"Y\")+COUNTIF(AN5, \"Y\"))/ 14","v":{"v":0,"d":"0%"}},"Mass Care Services",null,null,{"$f":"IF('THIRA Steps 1-3'!$A$3115>0,\"Y\",\"\")","v":""},{"$f":"IF('THIRA Steps 1-3'!$A$3116>0,\"Y\",\"\")","v":""},{"$f":"IF(AND(INDIRECT(\"'THIRA Steps 1-3'!$C$3117\")<>\"Click here to enter capability targets\", INDIRECT(\"'THIRA Steps 1-3'!$C$3117\")<>\"\"),\"Y\",\"\")","v":""},{"$f":"IF(OR('THIRA #21 Mass Care'!T$5>0,'THIRA #21 Mass Care'!T$8>0),\"Y\",\"\")","v":""},{"$nulls":3},{"$f":"IF(INDIRECT(\"'SPR \" & Lists!P21 & \"'!P9\")>0,\"Y\",\"\")","v":""},null,{"$f":"IF(INDIRECT(\"'SPR \" & Lists!P21 & \"'!P14\")>1,\"Y\",\"\")","v":""},{"$f":"IF(INDIRECT(\"'SPR \" & Lists!P21 & \"'!Q14\")>1,\"Y\",\"\")","v":""},{"$f":"IF(OR(INDIRECT(\"'SPR \"&Lists!P21&\"'!P14\")>=6, INDIRECT(\"'SPR \"&Lists!P21&\"'!R14\")>=1),\"Y\",\"\")","v":""},null,{"$f":"IF(INDIRECT(\"'SPR \" & Lists!P21 & \"'!P18\")>1,\"Y\",\"\")","v":""},{"$f":"IF(INDIRECT(\"'SPR \" & Lists!P21 & \"'!Q18\")>1,\"Y\",\"\")","v":""},{"$f":"IF(OR(INDIRECT(\"'SPR \"&Lists!P21&\"'!P18\")>=6, INDIRECT(\"'SPR \"&Lists!P21&\"'!R18\")>=1),\"Y\",\"\")","v":""},null,{"$f":"IF(INDIRECT(\"'SPR \" & Lists!P21 & \"'!P22\")>1,\"Y\",\"\")","v":""},{"$f":"IF(INDIRECT(\"'SPR \" & Lists!P21 & \"'!Q22\")>1,\"Y\",\"\")","v":""},{"$f":"IF(OR(INDIRECT(\"'SPR \"&Lists!P21&\"'!P22\")>=6, INDIRECT(\"'SPR \"&Lists!P21&\"'!R22\")>=1),\"Y\",\"\")","v":""},null,{"$f":"IF(INDIRECT(\"'SPR \" & Lists!P21 & \"'!P26\")>1,\"Y\",\"\")","v":""},{"$f":"IF(INDIRECT(\"'SPR \" & Lists!P21 & \"'!Q26\")>1,\"Y\",\"\")","v":""},{"$f":"IF(OR(INDIRECT(\"'SPR \"&Lists!P21&\"'!P26\")>=6, INDIRECT(\"'SPR \"&Lists!P21&\"'!R26\")>=1),\"Y\",\"\")","v":""},null,{"$f":"IF(INDIRECT(\"'SPR \" & Lists!P21 & \"'!P30\")>1,\"Y\",\"\")","v":""},{"$f":"IF(INDIRECT(\"'SPR \" & Lists!P21 & \"'!Q30\")>1,\"Y\",\"\")","v":""},{"$f":"IF(OR(INDIRECT(\"'SPR \"&Lists!P21&\"'!P30\")>=6, INDIRECT(\"'SPR \"&Lists!P21&\"'!R30\")>=1),\"Y\",\"\")","v":""},null,{"$f":"IF(INDIRECT(\"'SPR \" & Lists!P21 & \"'!I34\")=\"TRUE\",\"Y\",\"\")","v":""},{"$f":"IF(INDIRECT(\"'SPR \" & Lists!P21 & \"'!P37\")>0,\"Y\",\"\")","v":""},{"$nulls":4},0,0]
[22,null,{"v":0,"d":"0%"},null,{"$f":"(COUNTIF(P26, \"Y\")+COUNTIF(R26, \"Y\")+ COUNTIF(T26, \"Y\")+COUNTIF(V26, \"Y\")+ COUNTIF(X26, \"Y\")+COUNTIF(Z26, \"Y\")+ COUNTIF(AB26, \"Y\")+COUNTIF(AD26, \"Y\")+ COUNTIF(AF26, \"Y\")+COUNTIF(AH26, \"Y\")+ COUNTIF(AJ26, \"Y\")+ COUNTIF(AL26:AM26, \"Y\")+COUNTIF(AN5, \"Y\"))/ 14","v":{"v":0,"d":"0%"}},"Mass Search and Rescue Operations",null,null,{"$f":"IF('THIRA Steps 1-3'!$A$3203>0,\"Y\",\"\")","v":""},{"$f":"IF('THIRA Steps 1-3'!$A$3204>0,\"Y\",\"\")","v":""},{"$f":"IF(AND(INDIRECT(\"'THIRA Steps 1-3'!$C$3205\")<>\"Click here to enter capability targets\", INDIRECT(\"'THIRA Steps 1-3'!$C$3205\")<>\"\"),\"Y\",\"\")","v":""},{"$f":"IF(OR('THIRA #22 Mass SAR Ops'!T$5>0,'THIRA #22 Mass SAR Ops'!T$8>0),\"Y\",\"\")","v":""},{"$nulls":3},{"$f":"IF(INDIRECT(\"'SPR \" & Lists!P22 & \"'!P9\")>0,\"Y\",\"\")","v":""},null,{"$f":"IF(INDIRECT(\"'SPR \" & Lists!P22 & \"'!P14\")>1,\"Y\",\"\")","v":""},{"$f":"IF(INDIRECT(\"'SPR \" & Lists!P22 & \"'!Q14\")>1,\"Y\",\"\")","v":""},{"$f":"IF(OR(INDIRECT(\"'SPR \"&Lists!P22&\"'!P14\")>=6, INDIRECT(\"'SPR \"&Lists!P22&\"'!R14\")>=1),\"Y\",\"\")","v":""},null,{"$f":"IF(INDIRECT(\"'SPR \" & Lists!P22 & \"'!P18\")>1,\"Y\",\"\")","v":""},{"$f":"IF(INDIRECT(\"'SPR \" & Lists!P22 & \"'!Q18\")>1,\"Y\",\"\")","v":""},{"$f":"IF(OR(INDIRECT(\"'SPR \"&Lists!P22&\"'!P18\")>=6, INDIRECT(\"'SPR \"&Lists!P22&\"'!R18\")>=1),\"Y\",\"\")","v":""},null,{"$f":"IF(INDIRECT(\"'SPR \" & Lists!P22 & \"'!P22\")>1,\"Y\",\"\")","v":""},{"$f":"IF(INDIRECT(\"'SPR \" & Lists!P22 & \"'!Q22\")>1,\"Y\",\"\")","v":""},{"$f":"IF(OR(INDIRECT(\"'SPR \"&Lists!P22&\"'!P22\")>=6, INDIRECT(\"'SPR \"&Lists!P22&\"'!R22\")>=1),\"Y\",\"\")","v":""},null,{"$f":"IF(INDIRECT(\"'SPR \" & Lists!P22 & \"'!P26\")>1,\"Y\",\"\")","v":""},{"$f":"IF(INDIRECT(\"'SPR \" & Lists!P22 & \"'!Q26\")>1,\"Y\",\"\")","v":""},{"$f":"IF(OR(INDIRECT(\"'SPR \"&Lists!P22&\"'!P26\")>=6, INDIRECT(\"'SPR \"&Lists!P22&\"'!R26\")>=1),\"Y\",\"\")","v":""},null,{"$f":"IF(INDIRECT(\"'SPR \" & Lists!P22 & \"'!P30\")>1,\"Y\",\"\")","v":""},{"$f":"IF(INDIRECT(\"'SPR \" & Lists!P22 & \"'!Q30\")>1,\"Y\",\"\")","v":""},{"$f":"IF(OR(INDIRECT(\"'SPR \"&Lists!P22&\"'!P30\")>=6, INDIRECT(\"'SPR \"&Lists!P22&\"'!R30\")>=1),\"Y\",\"\")","v":""},null,{"$f":"IF(INDIRECT(\"'SPR \" & Lists!P22 & \"'!I34\")=\"TRUE\",\"Y\",\"\")","v":""},{"$f":"IF(INDIRECT(\"'SPR \" & Lists!P22 & \"'!P37\")>0,\"Y\",\"\")","v":""},{"$nulls":4},0,0]
[23,null,{"v":0,"d":"0%"},null,{"$f":"(COUNTIF(P27, \"Y\")+COUNTIF(R27, \"Y\")+ COUNTIF(T27, \"Y\")+COUNTIF(V27, \"Y\")+ COUNTIF(X27, \"Y\")+COUNTIF(Z27, \"Y\")+ COUNTIF(AB27, \"Y\")+COUNTIF(AD27, \"Y\")+ COUNTIF(AF27, \"Y\")+COUNTIF(AH27, \"Y\")+ COUNTIF(AJ27, \"Y\")+ COUNTIF(AL27:AM27, \"Y\")+COUNTIF(AN5, \"Y\"))/ 14","v":{"v":0,"d":"0%"}},"On-scene Security and Protection",null,null,{"$f":"IF('THIRA Steps 1-3'!$A$3291>0,\"Y\",\"\")","v":""},{"$f":"IF('THIRA Steps 1-3'!$A$3292>0,\"Y\",\"\")","v":""},{"$f":"IF(AND(INDIRECT(\"'THIRA Steps 1-3'!$C$3293\")<>\"Click here to enter capability targets\", INDIRECT(\"'THIRA Steps 1-3'!$C$3293\")<>\"\"),\"Y\",\"\")","v":""},{"$f":"IF(OR('THIRA #23 Security Protection'!T$5>0,'THIRA #23 Security Protection'!T$8>0),\"Y\",\"\")","v":""},{"$nulls":3},{"$f":"IF(INDIRECT(\"'SPR \" & Lists!P23 & \"'!P9\")>0,\"Y\",\"\")","v":""},null,{"$f":"IF(INDIRECT(\"'SPR \" & Lists!P23 & \"'!P14\")>1,\"Y\",\"\")","v":""},{"$f":"IF(INDIRECT(\"'SPR \" & Lists!P23 & \"'!Q14\")>1,\"Y\",\"\")","v":""},{"$f":"IF(OR(INDIRECT(\"'SPR \"&Lists!P23&\"'!P14\")>=6, INDIRECT(\"'SPR \"&Lists!P23&\"'!R14\")>=1),\"Y\",\"\")","v":""},null,{"$f":"IF(INDIRECT(\"'SPR \" & Lists!P23 & \"'!P18\")>1,\"Y\",\"\")","v":""},{"$f":"IF(INDIRECT(\"'SPR \" & Lists!P23 & \"'!Q18\")>1,\"Y\",\"\")","v":""},{"$f":"IF(OR(INDIRECT(\"'SPR \"&Lists!P23&\"'!P18\")>=6, INDIRECT(\"'SPR \"&Lists!P23&\"'!R18\")>=1),\"Y\",\"\")","v":""},null,{"$f":"IF(INDIRECT(\"'SPR \" & Lists!P23 & \"'!P22\")>1,\"Y\",\"\")","v":""},{"$f":"IF(INDIRECT(\"'SPR \" & Lists!P23 & \"'!Q22\")>1,\"Y\",\"\")","v":""},{"$f":"IF(OR(INDIRECT(\"'SPR \"&Lists!P23&\"'!P22\")>=6, INDIRECT(\"'SPR \"&Lists!P23&\"'!R22\")>=1),\"Y\",\"\")","v":""},null,{"$f":"IF(INDIRECT(\"'SPR \" & Lists!P23 & \"'!P26\")>1,\"Y\",\"\")","v":""},{"$f":"IF(INDIRECT(\"'SPR \" & Lists!P23 & \"'!Q26\")>1,\"Y\",\"\")","v":""},{"$f":"IF(OR(INDIRECT(\"'SPR \"&Lists!P23&\"'!P26\")>=6, INDIRECT(\"'SPR \"&Lists!P23&\"'!R26\")>=1),\"Y\",\"\")","v":""},null,{"$f":"IF(INDIRECT(\"'SPR \" & Lists!P23 & \"'!P30\")>1,\"Y\",\"\")","v":""},{"$f":"IF(INDIRECT(\"'SPR \" & Lists!P23 & \"'!Q30\")>1,\"Y\",\"\")","v":""},{"$f":"IF(OR(INDIRECT(\"'SPR \"&Lists!P23&\"'!P30\")>=6, INDIRECT(\"'SPR \"&Lists!P23&\"'!R30\")>=1),\"Y\",\"\")","v":""},null,{"$f":"IF(INDIRECT(\"'SPR \" & Lists!P23 & \"'!I34\")=\"TRUE\",\"Y\",\"\")","v":""},{"$f":"IF(INDIRECT(\"'SPR \" & Lists!P23 & \"'!P37\")>0,\"Y\",\"\")","v":""},{"$nulls":4},0,0]
[24,null,{"v":0,"d":"0%"},null,{"$f":"(COUNTIF(P28, \"Y\")+COUNTIF(R28, \"Y\")+ COUNTIF(T28, \"Y\")+COUNTIF(V28, \"Y\")+ COUNTIF(X28, \"Y\")+COUNTIF(Z28, \"Y\")+ COUNTIF(AB28, \"Y\")+COUNTIF(AD28, \"Y\")+ COUNTIF(AF28, \"Y\")+COUNTIF(AH28, \"Y\")+ COUNTIF(AJ28, \"Y\")+ COUNTIF(AL28:AM28, \"Y\")+COUNTIF(AN5, \"Y\"))/ 14","v":{"v":0,"d":"0%"}},"Operational  Communications",null,null,{"$f":"IF('THIRA Steps 1-3'!$A$3379>0,\"Y\",\"\")","v":""},{"$f":"IF('THIRA Steps 1-3'!$A$3380>0,\"Y\",\"\")","v":""},{"$f":"IF(AND(INDIRECT(\"'THIRA Steps 1-3'!$C$3381\")<>\"Click here to enter capability targets\", INDIRECT(\"'THIRA Steps 1-3'!$C$3381\")<>\"\"),\"Y\",\"\")","v":""},{"$f":"IF(OR('THIRA #24 Op Comms'!T$5>0,'THIRA #24 Op Comms'!T$8>0),\"Y\",\"\")","v":""},{"$nulls":3},{"$f":"IF(INDIRECT(\"'SPR \" & Lists!P24 & \"'!P9\")>0,\"Y\",\"\")","v":""},null,{"$f":"IF(INDIRECT(\"'SPR \" & Lists!P24 & \"'!P14\")>1,\"Y\",\"\")","v":""},{"$f":"IF(INDIRECT(\"'SPR \" & Lists!P24 & \"'!Q14\")>1,\"Y\",\"\")","v":""},{"$f":"IF(OR(INDIRECT(\"'SPR \"&Lists!P24&\"'!P14\")>=6, INDIRECT(\"'SPR \"&Lists!P24&\"'!R14\")>=1),\"Y\",\"\")","v":""},null,{"$f":"IF(INDIRECT(\"'SPR \" & Lists!P24 & \"'!P18\")>1,\"Y\",\"\")","v":""},{"$f":"IF(INDIRECT(\"'SPR \" & Lists!P24 & \"'!Q18\")>1,\"Y\",\"\")","v":""},{"$f":"IF(OR(INDIRECT(\"'SPR \"&Lists!P24&\"'!P18\")>=6, INDIRECT(\"'SPR \"&Lists!P24&\"'!R18\")>=1),\"Y\",\"\")","v":""},null,{"$f":"IF(INDIRECT(\"'SPR \" & Lists!P24 & \"'!P22\")>1,\"Y\",\"\")","v":""},{"$f":"IF(INDIRECT(\"'SPR \" & Lists!P24 & \"'!Q22\")>1,\"Y\",\"\")","v":""},{"$f":"IF(OR(INDIRECT(\"'SPR \"&Lists!P24&\"'!P22\")>=6, INDIRECT(\"'SPR \"&Lists!P24&\"'!R22\")>=1),\"Y\",\"\")","v":""},null,{"$f":"IF(INDIRECT(\"'SPR \" & Lists!P24 & \"'!P26\")>1,\"Y\",\"\")","v":""},{"$f":"IF(INDIRECT(\"'SPR \" & Lists!P24 & \"'!Q26\")>1,\"Y\",\"\")","v":""},{"$f":"IF(OR(INDIRECT(\"'SPR \"&Lists!P24&\"'!P26\")>=6, INDIRECT(\"'SPR \"&Lists!P24&\"'!R26\")>=1),\"Y\",\"\")","v":""},null,{"$f":"IF(INDIRECT(\"'SPR \" & Lists!P24 & \"'!P30\")>1,\"Y\",\"\")","v":""},{"$f":"IF(INDIRECT(\"'SPR \" & Lists!P24 & \"'!Q30\")>1,\"Y\",\"\")","v":""},{"$f":"IF(OR(INDIRECT(\"'SPR \"&Lists!P24&\"'!P30\")>=6, INDIRECT(\"'SPR \"&Lists!P24&\"'!R30\")>=1),\"Y\",\"\")","v":""},null,{"$f":"IF(INDIRECT(\"'SPR \" & Lists!P24 & \"'!I34\")=\"TRUE\",\"Y\",\"\")","v":""},{"$f":"IF(INDIRECT(\"'SPR \" & Lists!P24 & \"'!P37\")>0,\"Y\",\"\")","v":""},{"$nulls":4},0,0]
[25,null,{"v":0,"d":"0%"},null,{"$f":"(COUNTIF(P29, \"Y\")+COUNTIF(R29, \"Y\")+ COUNTIF(T29, \"Y\")+COUNTIF(V29, \"Y\")+ COUNTIF(X29, \"Y\")+COUNTIF(Z29, \"Y\")+ COUNTIF(AB29, \"Y\")+COUNTIF(AD29, \"Y\")+ COUNTIF(AF29, \"Y\")+COUNTIF(AH29, \"Y\")+ COUNTIF(AJ29, \"Y\")+ COUNTIF(AL29:AM29, \"Y\")+COUNTIF(AN5, \"Y\"))/ 14","v":{"v":0,"d":"0%"}},"Public and Private Services and Resources",null,null,{"$f":"IF('THIRA Steps 1-3'!$A$3467>0,\"Y\",\"\")","v":""},{"$f":"IF('THIRA Steps 1-3'!$A$3468>0,\"Y\",\"\")","v":""},{"$f":"IF(AND(INDIRECT(\"'THIRA Steps 1-3'!$C$3469\")<>\"Click here to enter capability targets\", INDIRECT(\"'THIRA Steps 1-3'!$C$3469\")<>\"\"),\"Y\",\"\")","v":""},{"$f":"IF(OR('THIRA #25 Pub Private Services'!T$5>0,'THIRA #25 Pub Private Services'!T$8>0),\"Y\",\"\")","v":""},{"$nulls":3},{"$f":"IF(INDIRECT(\"'SPR \" & Lists!P25 & \"'!P9\")>0,\"Y\",\"\")","v":""},null,{"$f":"IF(INDIRECT(\"'SPR \" & Lists!P25 & \"'!P14\")>1,\"Y\",\"\")","v":""},{"$f":"IF(INDIRECT(\"'SPR \" & Lists!P25 & \"'!Q14\")>1,\"Y\",\"\")","v":""},{"$f":"IF(OR(INDIRECT(\"'SPR \"&Lists!P25&\"'!P14\")>=6, INDIRECT(\"'SPR \"&Lists!P25&\"'!R14\")>=1),\"Y\",\"\")","v":""},null,{"$f":"IF(INDIRECT(\"'SPR \" & Lists!P25 & \"'!P18\")>1,\"Y\",\"\")","v":""},{"$f":"IF(INDIRECT(\"'SPR \" & Lists!P25 & \"'!Q18\")>1,\"Y\",\"\")","v":""},{"$f":"IF(OR(INDIRECT(\"'SPR \"&Lists!P25&\"'!P18\")>=6, INDIRECT(\"'SPR \"&Lists!P25&\"'!R18\")>=1),\"Y\",\"\")","v":""},null,{"$f":"IF(INDIRECT(\"'SPR \" & Lists!P25 & \"'!P22\")>1,\"Y\",\"\")","v":""},{"$f":"IF(INDIRECT(\"'SPR \" & Lists!P25 & \"'!Q22\")>1,\"Y\",\"\")","v":""},{"$f":"IF(OR(INDIRECT(\"'SPR \"&Lists!P25&\"'!P22\")>=6, INDIRECT(\"'SPR \"&Lists!P25&\"'!R22\")>=1),\"Y\",\"\")","v":""},null,{"$f":"IF(INDIRECT(\"'SPR \" & Lists!P25 & \"'!P26\")>1,\"Y\",\"\")","v":""},{"$f":"IF(INDIRECT(\"'SPR \" & Lists!P25 & \"'!Q26\")>1,\"Y\",\"\")","v":""},{"$f":"IF(OR(INDIRECT(\"'SPR \"&Lists!P25&\"'!P26\")>=6, INDIRECT(\"'SPR \"&Lists!P25&\"'!R26\")>=1),\"Y\",\"\")","v":""},null,{"$f":"IF(INDIRECT(\"'SPR \" & Lists!P25 & \"'!P30\")>1,\"Y\",\"\")","v":""},{"$f":"IF(INDIRECT(\"'SPR \" & Lists!P25 & \"'!Q30\")>1,\"Y\",\"\")","v":""},{"$f":"IF(OR(INDIRECT(\"'SPR \"&Lists!P25&\"'!P30\")>=6, INDIRECT(\"'SPR \"&Lists!P25&\"'!R30\")>=1),\"Y\",\"\")","v":""},null,{"$f":"IF(INDIRECT(\"'SPR \" & Lists!P25 & \"'!I34\")=\"TRUE\",\"Y\",\"\")","v":""},{"$f":"IF(INDIRECT(\"'SPR \" & Lists!P25 & \"'!P37\")>0,\"Y\",\"\")","v":""},{"$nulls":4},0,0]
[26,null,{"v":0,"d":"0%"},null,{"$f":"(COUNTIF(P30, \"Y\")+COUNTIF(R30, \"Y\")+ COUNTIF(T30, \"Y\")+COUNTIF(V30, \"Y\")+ COUNTIF(X30, \"Y\")+COUNTIF(Z30, \"Y\")+ COUNTIF(AB30, \"Y\")+COUNTIF(AD30, \"Y\")+ COUNTIF(AF30, \"Y\")+COUNTIF(AH30, \"Y\")+ COUNTIF(AJ30, \"Y\")+ COUNTIF(AL30:AM30, \"Y\")+COUNTIF(AN5, \"Y\"))/ 14","v":{"v":0,"d":"0%"}},"Public Health and Medical Services",null,null,{"$f":"IF('THIRA Steps 1-3'!$A$3555>0,\"Y\",\"\")","v":""},{"$f":"IF('THIRA Steps 1-3'!$A$3556>0,\"Y\",\"\")","v":""},{"$f":"IF(AND(INDIRECT(\"'THIRA Steps 1-3'!$C$3557\")<>\"Click here to enter capability targets\", INDIRECT(\"'THIRA Steps 1-3'!$C$3557\")<>\"\"),\"Y\",\"\")","v":""},{"$f":"IF(OR('THIRA #26 Public Health Medical'!T$5>0,'THIRA #26 Public Health Medical'!T$8>0),\"Y\",\"\")","v":""},{"$nulls":3},{"$f":"IF(INDIRECT(\"'SPR \" & Lists!P26 & \"'!P9\")>0,\"Y\",\"\")","v":""},null,{"$f":"IF(INDIRECT(\"'SPR \" & Lists!P26 & \"'!P14\")>1,\"Y\",\"\")","v":""},{"$f":"IF(INDIRECT(\"'SPR \" & Lists!P26 & \"'!Q14\")>1,\"Y\",\"\")","v":""},{"$f":"IF(OR(INDIRECT(\"'SPR \"&Lists!P26&\"'!P14\")>=6, INDIRECT(\"'SPR \"&Lists!P26&\"'!R14\")>=1),\"Y\",\"\")","v":""},null,{"$f":"IF(INDIRECT(\"'SPR \" & Lists!P26 & \"'!P18\")>1,\"Y\",\"\")","v":""},{"$f":"IF(INDIRECT(\"'SPR \" & Lists!P26 & \"'!Q18\")>1,\"Y\",\"\")","v":""},{"$f":"IF(OR(INDIRECT(\"'SPR \"&Lists!P26&\"'!P18\")>=6, INDIRECT(\"'SPR \"&Lists!P26&\"'!R18\")>=1),\"Y\",\"\")","v":""},null,{"$f":"IF(INDIRECT(\"'SPR \" & Lists!P26 & \"'!P22\")>1,\"Y\",\"\")","v":""},{"$f":"IF(INDIRECT(\"'SPR \" & Lists!P26 & \"'!Q22\")>1,\"Y\",\"\")","v":""},{"$f":"IF(OR(INDIRECT(\"'SPR \"&Lists!P26&\"'!P22\")>=6, INDIRECT(\"'SPR \"&Lists!P26&\"'!R22\")>=1),\"Y\",\"\")","v":""},null,{"$f":"IF(INDIRECT(\"'SPR \" & Lists!P26 & \"'!P26\")>1,\"Y\",\"\")","v":""},{"$f":"IF(INDIRECT(\"'SPR \" & Lists!P26 & \"'!Q26\")>1,\"Y\",\"\")","v":""},{"$f":"IF(OR(INDIRECT(\"'SPR \"&Lists!P26&\"'!P26\")>=6, INDIRECT(\"'SPR \"&Lists!P26&\"'!R26\")>=1),\"Y\",\"\")","v":""},null,{"$f":"IF(INDIRECT(\"'SPR \" & Lists!P26 & \"'!P30\")>1,\"Y\",\"\")","v":""},{"$f":"IF(INDIRECT(\"'SPR \" & Lists!P26 & \"'!Q30\")>1,\"Y\",\"\")","v":""},{"$f":"IF(OR(INDIRECT(\"'SPR \"&Lists!P26&\"'!P30\")>=6, INDIRECT(\"'SPR \"&Lists!P26&\"'!R30\")>=1),\"Y\",\"\")","v":""},null,{"$f":"IF(INDIRECT(\"'SPR \" & Lists!P26 & \"'!I34\")=\"TRUE\",\"Y\",\"\")","v":""},{"$f":"IF(INDIRECT(\"'SPR \" & Lists!P26 & \"'!P37\")>0,\"Y\",\"\")","v":""},{"$nulls":4},0,0]
[27,null,{"v":0,"d":"0%"},null,{"$f":"(COUNTIF(P31, \"Y\")+COUNTIF(R31, \"Y\")+ COUNTIF(T31, \"Y\")+COUNTIF(V31, \"Y\")+ COUNTIF(X31, \"Y\")+COUNTIF(Z31, \"Y\")+ COUNTIF(AB31, \"Y\")+COUNTIF(AD31, \"Y\")+ COUNTIF(AF31, \"Y\")+COUNTIF(AH31, \"Y\")+ COUNTIF(AJ31, \"Y\")+ COUNTIF(AL31:AM31, \"Y\")+COUNTIF(AN5, \"Y\"))/ 14","v":{"v":0,"d":"0%"}},"Situational Assessment",null,null,{"$f":"IF('THIRA Steps 1-3'!$A$3643>0,\"Y\",\"\")","v":""},{"$f":"IF('THIRA Steps 1-3'!$A$3644>0,\"Y\",\"\")","v":""},{"$f":"IF(AND(INDIRECT(\"'THIRA Steps 1-3'!$C$3645\")<>\"Click here to enter capability targets\", INDIRECT(\"'THIRA Steps 1-3'!$C$3645\")<>\"\"),\"Y\",\"\")","v":""},{"$f":"IF(OR('THIRA #27 Sit Assessment'!T$5>0,'THIRA #27 Sit Assessment'!T$8>0),\"Y\",\"\")","v":""},{"$nulls":3},{"$f":"IF(INDIRECT(\"'SPR \" & Lists!P27 & \"'!P9\")>0,\"Y\",\"\")","v":""},null,{"$f":"IF(INDIRECT(\"'SPR \" & Lists!P27 & \"'!P14\")>1,\"Y\",\"\")","v":""},{"$f":"IF(INDIRECT(\"'SPR \" & Lists!P27 & \"'!Q14\")>1,\"Y\",\"\")","v":""},{"$f":"IF(OR(INDIRECT(\"'SPR \"&Lists!P27&\"'!P14\")>=6, INDIRECT(\"'SPR \"&Lists!P27&\"'!R14\")>=1),\"Y\",\"\")","v":""},null,{"$f":"IF(INDIRECT(\"'SPR \" & Lists!P27 & \"'!P18\")>1,\"Y\",\"\")","v":""},{"$f":"IF(INDIRECT(\"'SPR \" & Lists!P27 & \"'!Q18\")>1,\"Y\",\"\")","v":""},{"$f":"IF(OR(INDIRECT(\"'SPR \"&Lists!P27&\"'!P18\")>=6, INDIRECT(\"'SPR \"&Lists!P27&\"'!R18\")>=1),\"Y\",\"\")","v":""},null,{"$f":"IF(INDIRECT(\"'SPR \" & Lists!P27 & \"'!P22\")>1,\"Y\",\"\")","v":""},{"$f":"IF(INDIRECT(\"'SPR \" & Lists!P27 & \"'!Q22\")>1,\"Y\",\"\")","v":""},{"$f":"IF(OR(INDIRECT(\"'SPR \"&Lists!P27&\"'!P22\")>=6, INDIRECT(\"'SPR \"&Lists!P27&\"'!R22\")>=1),\"Y\",\"\")","v":""},null,{"$f":"IF(INDIRECT(\"'SPR \" & Lists!P27 & \"'!P26\")>1,\"Y\",\"\")","v":""},{"$f":"IF(INDIRECT(\"'SPR \" & Lists!P27 & \"'!Q26\")>1,\"Y\",\"\")","v":""},{"$f":"IF(OR(INDIRECT(\"'SPR \"&Lists!P27&\"'!P26\")>=6, INDIRECT(\"'SPR \"&Lists!P27&\"'!R26\")>=1),\"Y\",\"\")","v":""},null,{"$f":"IF(INDIRECT(\"'SPR \" & Lists!P27 & \"'!P30\")>1,\"Y\",\"\")","v":""},{"$f":"IF(INDIRECT(\"'SPR \" & Lists!P27 & \"'!Q30\")>1,\"Y\",\"\")","v":""},{"$f":"IF(OR(INDIRECT(\"'SPR \"&Lists!P27&\"'!P30\")>=6, INDIRECT(\"'SPR \"&Lists!P27&\"'!R30\")>=1),\"Y\",\"\")","v":""},null,{"$f":"IF(INDIRECT(\"'SPR \" & Lists!P27 & \"'!I34\")=\"TRUE\",\"Y\",\"\")","v":""},{"$f":"IF(INDIRECT(\"'SPR \" & Lists!P27 & \"'!P37\")>0,\"Y\",\"\")","v":""},{"$nulls":4},0,0]
[28,null,{"$f":"(COUNTIF($G$5:$H$35, \"Y\")+COUNTIF(I32:L32, \"Y\")+COUNTIF($M$5:$M$35,\"Y\"))/7","v":{"v":0,"d":"0%"}},null,{"$f":"(COUNTIF(P32, \"Y\")+COUNTIF(R32, \"Y\")+ COUNTIF(T32, \"Y\")+COUNTIF(V32, \"Y\")+ COUNTIF(X32, \"Y\")+COUNTIF(Z32, \"Y\")+ COUNTIF(AB32, \"Y\")+COUNTIF(AD32, \"Y\")+ COUNTIF(AF32, \"Y\")+COUNTIF(AH32, \"Y\")+ COUNTIF(AJ32, \"Y\")+ COUNTIF(AL32:AM32, \"Y\")+COUNTIF(AN5, \"Y\"))/ 14","v":{"v":0,"d":"0%"}},"Economic Recovery",null,null,{"$f":"IF('THIRA Steps 1-3'!$A$3731>0,\"Y\",\"\")","v":""},{"$f":"IF('THIRA Steps 1-3'!$A$3732>0,\"Y\",\"\")","v":""},{"$f":"IF(AND(INDIRECT(\"'THIRA Steps 1-3'!$C$3733\")<>\"Click here to enter capability targets\", INDIRECT(\"'THIRA Steps 1-3'!$C$3733\")<>\"\"),\"Y\",\"\")","v":""},{"$f":"IF(OR('THIRA #28 Econ Recovery'!T$5>0,'THIRA #28 Econ Recovery'!T$8>0),\"Y\",\"\")","v":""},{"$nulls":3},{"$f":"IF(INDIRECT(\"'SPR \" & Lists!P28 & \"'!P9\")>0,\"Y\",\"\")","v":""},null,{"$f":"IF(INDIRECT(\"'SPR \" & Lists!P28 & \"'!P14\")>1,\"Y\",\"\")","v":""},{"$f":"IF(INDIRECT(\"'SPR \" & Lists!P28 & \"'!Q14\")>1,\"Y\",\"\")","v":""},{"$f":"IF(OR(INDIRECT(\"'SPR \"&Lists!P28&\"'!P14\")>=6, INDIRECT(\"'SPR \"&Lists!P28&\"'!R14\")>=1),\"Y\",\"\")","v":""},null,{"$f":"IF(INDIRECT(\"'SPR \" & Lists!P28 & \"'!P18\")>1,\"Y\",\"\")","v":""},{"$f":"IF(INDIRECT(\"'SPR \" & Lists!P28 & \"'!Q18\")>1,\"Y\",\"\")","v":""},{"$f":"IF(OR(INDIRECT(\"'SPR \"&Lists!P28&\"'!P18\")>=6, INDIRECT(\"'SPR \"&Lists!P28&\"'!R18\")>=1),\"Y\",\"\")","v":""},null,{"$f":"IF(INDIRECT(\"'SPR \" & Lists!P28 & \"'!P22\")>1,\"Y\",\"\")","v":""},{"$f":"IF(INDIRECT(\"'SPR \" & Lists!P28 & \"'!Q22\")>1,\"Y\",\"\")","v":""},{"$f":"IF(OR(INDIRECT(\"'SPR \"&Lists!P28&\"'!P22\")>=6, INDIRECT(\"'SPR \"&Lists!P28&\"'!R22\")>=1),\"Y\",\"\")","v":""},null,{"$f":"IF(INDIRECT(\"'SPR \" & Lists!P28 & \"'!P26\")>1,\"Y\",\"\")","v":""},{"$f":"IF(INDIRECT(\"'SPR \" & Lists!P28 & \"'!Q26\")>1,\"Y\",\"\")","v":""},{"$f":"IF(OR(INDIRECT(\"'SPR \"&Lists!P28&\"'!P26\")>=6, INDIRECT(\"'SPR \"&Lists!P28&\"'!R26\")>=1),\"Y\",\"\")","v":""},null,{"$f":"IF(INDIRECT(\"'SPR \" & Lists!P28 & \"'!P30\")>1,\"Y\",\"\")","v":""},{"$f":"IF(INDIRECT(\"'SPR \" & Lists!P28 & \"'!Q30\")>1,\"Y\",\"\")","v":""},{"$f":"IF(OR(INDIRECT(\"'SPR \"&Lists!P28&\"'!P30\")>=6, INDIRECT(\"'SPR \"&Lists!P28&\"'!R30\")>=1),\"Y\",\"\")","v":""},null,{"$f":"IF(INDIRECT(\"'SPR \" & Lists!P28 & \"'!I34\")=\"TRUE\",\"Y\",\"\")","v":""},{"$f":"IF(INDIRECT(\"'SPR \" & Lists!P28 & \"'!P37\")>0,\"Y\",\"\")","v":""},{"$nulls":4},0,0]
[29,null,{"$f":"(COUNTIF($G$5:$H$35, \"Y\")+COUNTIF(I33:L33, \"Y\")+COUNTIF($M$5:$M$35,\"Y\"))/7","v":{"v":0,"d":"0%"}},null,{"$f":"(COUNTIF(P33, \"Y\")+COUNTIF(R33, \"Y\")+ COUNTIF(T33, \"Y\")+COUNTIF(V33, \"Y\")+ COUNTIF(X33, \"Y\")+COUNTIF(Z33, \"Y\")+ COUNTIF(AB33, \"Y\")+COUNTIF(AD33, \"Y\")+ COUNTIF(AF33, \"Y\")+COUNTIF(AH33, \"Y\")+ COUNTIF(AJ33, \"Y\")+ COUNTIF(AL33:AM33, \"Y\")+COUNTIF(AN5, \"Y\"))/ 14","v":{"v":0,"d":"0%"}},"Health and Social Services",null,null,{"$f":"IF('THIRA Steps 1-3'!$A$3819>0,\"Y\",\"\")","v":""},{"$f":"IF('THIRA Steps 1-3'!$A$3820>0,\"Y\",\"\")","v":""},{"$f":"IF(AND(INDIRECT(\"'THIRA Steps 1-3'!$C$3821\")<>\"Click here to enter capability targets\", INDIRECT(\"'THIRA Steps 1-3'!$C$3821\")<>\"\"),\"Y\",\"\")","v":""},{"$f":"IF(OR('THIRA #29 Health Soc Services'!T$5>0,'THIRA #29 Health Soc Services'!T$8>0),\"Y\",\"\")","v":""},{"$nulls":3},{"$f":"IF(INDIRECT(\"'SPR \" & Lists!P29 & \"'!P9\")>0,\"Y\",\"\")","v":""},null,{"$f":"IF(INDIRECT(\"'SPR \" & Lists!P29 & \"'!P14\")>1,\"Y\",\"\")","v":""},{"$f":"IF(INDIRECT(\"'SPR \" & Lists!P29 & \"'!Q14\")>1,\"Y\",\"\")","v":""},{"$f":"IF(OR(INDIRECT(\"'SPR \"&Lists!P29&\"'!P14\")>=6, INDIRECT(\"'SPR \"&Lists!P29&\"'!R14\")>=1),\"Y\",\"\")","v":""},null,{"$f":"IF(INDIRECT(\"'SPR \" & Lists!P29 & \"'!P18\")>1,\"Y\",\"\")","v":""},{"$f":"IF(INDIRECT(\"'SPR \" & Lists!P29 & \"'!Q18\")>1,\"Y\",\"\")","v":""},{"$f":"IF(OR(INDIRECT(\"'SPR \"&Lists!P29&\"'!P18\")>=6, INDIRECT(\"'SPR \"&Lists!P29&\"'!R18\")>=1),\"Y\",\"\")","v":""},null,{"$f":"IF(INDIRECT(\"'SPR \" & Lists!P29 & \"'!P22\")>1,\"Y\",\"\")","v":""},{"$f":"IF(INDIRECT(\"'SPR \" & Lists!P29 & \"'!Q22\")>1,\"Y\",\"\")","v":""},{"$f":"IF(OR(INDIRECT(\"'SPR \"&Lists!P29&\"'!P22\")>=6, INDIRECT(\"'SPR \"&Lists!P29&\"'!R22\")>=1),\"Y\",\"\")","v":""},null,{"$f":"IF(INDIRECT(\"'SPR \" & Lists!P29 & \"'!P26\")>1,\"Y\",\"\")","v":""},{"$f":"IF(INDIRECT(\"'SPR \" & Lists!P29 & \"'!Q26\")>1,\"Y\",\"\")","v":""},{"$f":"IF(OR(INDIRECT(\"'SPR \"&Lists!P29&\"'!P26\")>=6, INDIRECT(\"'SPR \"&Lists!P29&\"'!R26\")>=1),\"Y\",\"\")","v":""},null,{"$f":"IF(INDIRECT(\"'SPR \" & Lists!P29 & \"'!P30\")>1,\"Y\",\"\")","v":""},{"$f":"IF(INDIRECT(\"'SPR \" & Lists!P29 & \"'!Q30\")>1,\"Y\",\"\")","v":""},{"$f":"IF(OR(INDIRECT(\"'SPR \"&Lists!P29&\"'!P30\")>=6, INDIRECT(\"'SPR \"&Lists!P29&\"'!R30\")>=1),\"Y\",\"\")","v":""},null,{"$f":"IF(INDIRECT(\"'SPR \" & Lists!P29 & \"'!I34\")=\"TRUE\",\"Y\",\"\")","v":""},{"$f":"IF(INDIRECT(\"'SPR \" & Lists!P29 & \"'!P37\")>0,\"Y\",\"\")","v":""},{"$nulls":4},0,0]
[30,null,{"$f":"(COUNTIF($G$5:$H$35, \"Y\")+COUNTIF(I34:L34, \"Y\")+COUNTIF($M$5:$M$35,\"Y\"))/7","v":{"v":0,"d":"0%"}},null,{"$f":"(COUNTIF(P34, \"Y\")+COUNTIF(R34, \"Y\")+ COUNTIF(T34, \"Y\")+COUNTIF(V34, \"Y\")+ COUNTIF(X34, \"Y\")+COUNTIF(Z34, \"Y\")+ COUNTIF(AB34, \"Y\")+COUNTIF(AD34, \"Y\")+ COUNTIF(AF34, \"Y\")+COUNTIF(AH34, \"Y\")+ COUNTIF(AJ34, \"Y\")+ COUNTIF(AL34:AM34, \"Y\")+COUNTIF(AN5, \"Y\"))/ 14","v":{"v":0,"d":"0%"}},"Housing",null,null,{"$f":"IF('THIRA Steps 1-3'!$A$3907>0,\"Y\",\"\")","v":""},{"$f":"IF('THIRA Steps 1-3'!$A$3908>0,\"Y\",\"\")","v":""},{"$f":"IF(AND(INDIRECT(\"'THIRA Steps 1-3'!$C$3909\")<>\"Click here to enter capability targets\", INDIRECT(\"'THIRA Steps 1-3'!$C$3909\")<>\"\"),\"Y\",\"\")","v":""},{"$f":"IF(OR('THIRA #30 Housing'!T$5>0,'THIRA #30 Housing'!T$8>0),\"Y\",\"\")","v":""},{"$nulls":3},{"$f":"IF(INDIRECT(\"'SPR \" & Lists!P30 & \"'!P9\")>0,\"Y\",\"\")","v":""},null,{"$f":"IF(INDIRECT(\"'SPR \" & Lists!P30 & \"'!P14\")>1,\"Y\",\"\")","v":""},{"$f":"IF(INDIRECT(\"'SPR \" & Lists!P30 & \"'!Q14\")>1,\"Y\",\"\")","v":""},{"$f":"IF(OR(INDIRECT(\"'SPR \"&Lists!P30&\"'!P14\")>=6, INDIRECT(\"'SPR \"&Lists!P30&\"'!R14\")>=1),\"Y\",\"\")","v":""},null,{"$f":"IF(INDIRECT(\"'SPR \" & Lists!P30 & \"'!P18\")>1,\"Y\",\"\")","v":""},{"$f":"IF(INDIRECT(\"'SPR \" & Lists!P30 & \"'!Q18\")>1,\"Y\",\"\")","v":""},{"$f":"IF(OR(INDIRECT(\"'SPR \"&Lists!P30&\"'!P18\")>=6, INDIRECT(\"'SPR \"&Lists!P30&\"'!R18\")>=1),\"Y\",\"\")","v":""},null,{"$f":"IF(INDIRECT(\"'SPR \" & Lists!P30 & \"'!P22\")>1,\"Y\",\"\")","v":""},{"$f":"IF(INDIRECT(\"'SPR \" & Lists!P30 & \"'!Q22\")>1,\"Y\",\"\")","v":""},{"$f":"IF(OR(INDIRECT(\"'SPR \"&Lists!P30&\"'!P22\")>=6, INDIRECT(\"'SPR \"&Lists!P30&\"'!R22\")>=1),\"Y\",\"\")","v":""},null,{"$f":"IF(INDIRECT(\"'SPR \" & Lists!P30 & \"'!P26\")>1,\"Y\",\"\")","v":""},{"$f":"IF(INDIRECT(\"'SPR \" & Lists!P30 & \"'!Q26\")>1,\"Y\",\"\")","v":""},{"$f":"IF(OR(INDIRECT(\"'SPR \"&Lists!P30&\"'!P26\")>=6, INDIRECT(\"'SPR \"&Lists!P30&\"'!R26\")>=1),\"Y\",\"\")","v":""},null,{"$f":"IF(INDIRECT(\"'SPR \" & Lists!P30 & \"'!P30\")>1,\"Y\",\"\")","v":""},{"$f":"IF(INDIRECT(\"'SPR \" & Lists!P30 & \"'!Q30\")>1,\"Y\",\"\")","v":""},{"$f":"IF(OR(INDIRECT(\"'SPR \"&Lists!P30&\"'!P30\")>=6, INDIRECT(\"'SPR \"&Lists!P30&\"'!R30\")>=1),\"Y\",\"\")","v":""},null,{"$f":"IF(INDIRECT(\"'SPR \" & Lists!P30 & \"'!I34\")=\"TRUE\",\"Y\",\"\")","v":""},{"$f":"IF(INDIRECT(\"'SPR \" & Lists!P30 & \"'!P37\")>0,\"Y\",\"\")","v":""},{"$nulls":4},0,0]
[31,null,{"$f":"(COUNTIF($G$5:$H$35, \"Y\")+COUNTIF(I35:L35, \"Y\")+COUNTIF($M$5:$M$35,\"Y\"))/7","v":{"v":0,"d":"0%"}},null,{"$f":"(COUNTIF(P35, \"Y\")+COUNTIF(R35, \"Y\")+ COUNTIF(T35, \"Y\")+COUNTIF(V35, \"Y\")+ COUNTIF(X35, \"Y\")+COUNTIF(Z35, \"Y\")+ COUNTIF(AB35, \"Y\")+COUNTIF(AD35, \"Y\")+ COUNTIF(AF35, \"Y\")+COUNTIF(AH35, \"Y\")+ COUNTIF(AJ35, \"Y\")+ COUNTIF(AL35:AM35, \"Y\")+COUNTIF(AN5, \"Y\"))/ 14","v":{"v":0,"d":"0%"}},"Natural and Cultural Resources",null,null,{"$f":"IF('THIRA Steps 1-3'!$A$3995>0,\"Y\",\"\")","v":""},{"$f":"IF('THIRA Steps 1-3'!$A$3996>0,\"Y\",\"\")","v":""},{"$f":"IF(AND(INDIRECT(\"'THIRA Steps 1-3'!$C$3997\")<>\"Click here to enter capability targets\", INDIRECT(\"'THIRA Steps 1-3'!$C$3997\")<>\"\"),\"Y\",\"\")","v":""},{"$f":"IF(OR('THIRA #31 Nat Cult Resources'!T$5>0,'THIRA #31 Nat Cult Resources'!T$8>0),\"Y\",\"\")","v":""},{"$nulls":3},{"$f":"IF(INDIRECT(\"'SPR \" & Lists!P31 & \"'!P9\")>0,\"Y\",\"\")","v":""},null,{"$f":"IF(INDIRECT(\"'SPR \" & Lists!P31 & \"'!P14\")>1,\"Y\",\"\")","v":""},{"$f":"IF(INDIRECT(\"'SPR \" & Lists!P31 & \"'!Q14\")>1,\"Y\",\"\")","v":""},{"$f":"IF(OR(INDIRECT(\"'SPR \"&Lists!P31&\"'!P14\")>=6, INDIRECT(\"'SPR \"&Lists!P31&\"'!R14\")>=1),\"Y\",\"\")","v":""},null,{"$f":"IF(INDIRECT(\"'SPR \" & Lists!P31 & \"'!P18\")>1,\"Y\",\"\")","v":""},{"$f":"IF(INDIRECT(\"'SPR \" & Lists!P31 & \"'!Q18\")>1,\"Y\",\"\")","v":""},{"$f":"IF(OR(INDIRECT(\"'SPR \"&Lists!P31&\"'!P18\")>=6, INDIRECT(\"'SPR \"&Lists!P31&\"'!R18\")>=1),\"Y\",\"\")","v":""},null,{"$f":"IF(INDIRECT(\"'SPR \" & Lists!P31 & \"'!P22\")>1,\"Y\",\"\")","v":""},{"$f":"IF(INDIRECT(\"'SPR \" & Lists!P31 & \"'!Q22\")>1,\"Y\",\"\")","v":""},{"$f":"IF(OR(INDIRECT(\"'SPR \"&Lists!P31&\"'!P22\")>=6, INDIRECT(\"'SPR \"&Lists!P31&\"'!R22\")>=1),\"Y\",\"\")","v":""},null,{"$f":"IF(INDIRECT(\"'SPR \" & Lists!P31 & \"'!P26\")>1,\"Y\",\"\")","v":""},{"$f":"IF(INDIRECT(\"'SPR \" & Lists!P31 & \"'!Q26\")>1,\"Y\",\"\")","v":""},{"$f":"IF(OR(INDIRECT(\"'SPR \"&Lists!P31&\"'!P26\")>=6, INDIRECT(\"'SPR \"&Lists!P31&\"'!R26\")>=1),\"Y\",\"\")","v":""},null,{"$f":"IF(INDIRECT(\"'SPR \" & Lists!P31 & \"'!P30\")>1,\"Y\",\"\")","v":""},{"$f":"IF(INDIRECT(\"'SPR \" & Lists!P31 & \"'!Q30\")>1,\"Y\",\"\")","v":""},{"$f":"IF(OR(INDIRECT(\"'SPR \"&Lists!P31&\"'!P30\")>=6, INDIRECT(\"'SPR \"&Lists!P31&\"'!R30\")>=1),\"Y\",\"\")","v":""},null,{"$f":"IF(INDIRECT(\"'SPR \" & Lists!P31 & \"'!I34\")=\"TRUE\",\"Y\",\"\")","v":""},{"$f":"IF(INDIRECT(\"'SPR \" & Lists!P31 & \"'!P37\")>0,\"Y\",\"\")","v":""},{"$nulls":4},0,0]
[{"$nulls":12},{"$f":"M5","v":""}]

{"sheet":"THIRA Steps 1-3","index":3,"n_rows":4081,"n_cols":9,"rows_kept":4081,"hidden":true,"merged":[[8,2,8,6],[1717,2,1717,6],[1738,2,1738,6],[2045,2,2045,6],[2046,2,2046,6],[2047,2,2047,6],[2048,2,2048,6],[2049,2,2049,6],[2050,2,2050,6],[2065,2,2065,6],[2086,2,2086,6],[2106,2,2106,6],[2108,2,2108,6],[2109,2,2109,6],[2117,2,2117,6],[2118,2,2118,6],[2119,2,2119,6],[2120,2,2120,6],[2121,2,2121,6],[2122,2,2122,6],[2123,2,2123,6],[2124,2,2124,6],[2125,2,2125,6],[2126,2,2126,6],[2127,2,2127,6],[2128,2,2128,6],[2129,2,2129,6],[2130,2,2130,6],[2131,2,2131,6],[2132,2,2132,6],[2133,2,2133,6],[2134,2,2134,6],[2135,2,2135,6],[2136,2,2136,6],[2137,2,2137,6],[2138,2,2138,6],[2139,2,2139,6],[2140,2,2140,6],[2141,2,2141,6],[2142,2,2142,6],[2143,2,2143,6],[2145,2,2145,6],[2146,2,2146,6],[2147,2,2147,6],[2148,2,2148,6],[2153,2,2153,6],[2154,2,2154,6],[2155,2,2155,6],[2156,2,2156,6],[2157,2,2157,6],[2158,2,2158,6],[2159,2,2159,6],[2160,2,2160,6],[2161,2,2161,6],[2162,2,2162,6],[2163,2,2163,6],[2164,2,2164,6],[2165,2,2165,6],[2166,2,2166,6],[2167,2,2167,6],[2168,2,2168,6],[2169,2,2169,6],[2170,2,2170,6],[2171,2,2171,6],[2172,2,2172,6],[2173,2,2173,6],[2174,2,2174,6],[2175,2,2175,6],[2176,2,2176,6],[2177,2,2177,6],[2178,2,2178,6],[2179,2,2179,6],[2180,2,2180,6],[2181,2,2181,6],[2182,2,2182,6],[2183,2,2183,6],[2184,2,2184,6],[2185,2,2185,6],[2186,2,2186,6],[2187,2,2187,6],[2188,2,2188,6],[2189,2,2189,6],[2190,2,2190,6],[2191,2,2191,6],[2192,2,2192,6],[2193,2,2193,6],[2194,2,2194,6],[2211,2,2211,6],[2212,2,2212,6],[2217,2,2217,6],[2218,2,2218,6],[2219,2,2219,6],[2220,2,2220,6],[2221,2,2221,6],[2222,2,2222,6],[2223,2,2223,6],[2224,2,2224,6],[2225,2,2225,6],[2226,2,2226,6],[2227,2,2227,6],[2228,2,2228,6],[2229,2,2229,6],[2241,2,2241,6],[2242,2,2242,6],[2243,2,2243,6],[2244,2,2244,6],[2245,2,2245,6],[2261,2,2261,6],[2262,2,2262,6],[2263,2,2263,6],[2264,2,2264,6],[2268,2,2268,6],[2269,2,2269,6],[2270,2,2270,6],[2271,2,2271,6],[2272,2,2272,6],[2273,2,2273,6],[2274,2,2274,6],[2275,2,2275,6],[2276,2,2276,6],[2277,2,2277,6],[2278,2,2278,6],[2279,2,2279,6],[2280,2,2280,6],[2281,2,2281,6],[2282,2,2282,6],[2299,2,2299,6],[2305,2,2305,6],[2306,2,2306,6],[2307,2,2307,6],[2314,2,2314,6],[2315,2,2315,6],[2316,2,2316,6],[2317,2,2317,6],[2318,2,2318,6],[2319,2,2319,6],[2320,2,2320,6],[2321,2,2321,6],[2322,2,2322,6],[2329,2,2329,6],[2330,2,2330,6],[2331,2,2331,6],[2332,2,2332,6],[2333,2,2333,6],[2334,2,2334,6],[2335,2,2335,6],[2355,2,2355,6],[2356,2,2356,6],[2357,2,2357,6],[2358,2,2358,6],[2359,2,2359,6],[2360,2,2360,6],[2361,2,2361,6],[2362,2,2362,6],[2363,2,2363,6],[2368,2,2368,6],[2369,2,2369,6],[2370,2,2370,6],[2387,2,2387,6],[2388,2,2388,6],[2389,2,2389,6],[2390,2,2390,6],[2391,2,2391,6],[2392,2,2392,6],[2393,2,2393,6],[2394,2,2394,6],[2395,2,2395,6],[2396,2,2396,6],[2397,2,2397,6],[2398,2,2398,6],[2399,2,2399,6],[2400,2,2400,6],[2401,2,2401,6],[2402,2,2402,6],[2403,2,2403,6],[2404,2,2404,6],[2417,2,2417,6],[2418,2,2418,6],[2419,2,2419,6],[2435,2,2435,6],[2436,2,2436,6],[2437,2,2437,6],[2438,2,2438,6],[2439,2,2439,6],[2440,2,2440,6],[2441,2,2441,6],[2442,2,2442,6],[2443,2,2443,6],[2444,2,2444,6],[2445,2,2445,6],[2446,2,2446,6],[2447,2,2447,6],[2448,2,2448,6],[2449,2,2449,6],[2450,2,2450,6],[2451,2,2451,6],[2452,2,2452,6],[2453,2,2453,6],[2454,2,2454,6],[2455,2,2455,6],[2456,2,2456,6],[2457,2,2457,6],[2458,2,2458,6],[2475,2,2475,6],[2476,2,2476,6],[2477,2,2477,6],[2478,2,2478,6],[2479,2,2479,6],[2480,2,2480,6],[2481,2,2481,6],[2482,2,2482,6],[2486,2,2486,6],[2487,2,2487,6],[2488,2,2488,6],[2489,2,2489,6],[2490,2,2490,6],[2491,2,2491,6],[2492,2,2492,6],[2505,2,2505,6],[2506,2,2506,6],[2507,2,2507,6],[2508,2,2508,6],[2509,2,2509,6],[2510,2,2510,6],[2511,2,2511,6],[2512,2,2512,6],[2514,2,2514,6],[2515,2,2515,6],[2516,2,2516,6],[2517,2,2517,6],[2518,2,2518,6],[2519,2,2519,6],[2520,2,2520,6],[2521,2,2521,6],[2522,2,2522,6],[2523,2,2523,6],[2524,2,2524,6],[2525,2,2525,6],[2526,2,2526,6],[2527,2,2527,6],[2528,2,2528,6],[2529,2,2529,6],[2530,2,2530,6],[2531,2,2531,6],[2532,2,2532,6],[2533,2,2533,6],[2534,2,2534,6],[2535,2,2535,6],[2536,2,2536,6],[2537,2,2537,6],[2538,2,2538,6],[2539,2,2539,6],[2540,2,2540,6],[2541,2,2541,6],[2542,2,2542,6],[2543,2,2543,6],[2544,2,2544,6],[2545,2,2545,6],[2546,2,2546,6],[2557,2,2557,6],[2558,2,2558,6],[2559,2,2559,6],[2560,2,2560,6],[2561,2,2561,6],[2562,2,2562,6],[2563,2,2563,6],[2564,2,2564,6],[2565,2,2565,6],[2566,2,2566,6],[2567,2,2567,6],[2568,2,2568,6],[2569,2,2569,6],[2570,2,2570,6],[2571,2,2571,6],[2572,2,2572,6],[2573,2,2573,6],[2574,2,2574,6],[2575,2,2575,6],[2576,2,2576,6],[2577,2,2577,6],[2578,2,2578,6],[2579,2,2579,6],[2580,2,2580,6],[2581,2,2581,6],[2582,2,2582,6],[2583,2,2583,6],[2584,2,2584,6],[2585,2,2585,6],[2593,2,2593,6],[2594,2,2594,6],[2595,2,2595,6],[2596,2,2596,6],[2614,2,2614,6],[2619,2,2619,6],[2620,2,2620,6],[2621,2,2621,6],[2622,2,2622,6],[2623,2,2623,6],[2624,2,2624,6],[2625,2,2625,6],[2626,2,2626,6],[2627,2,2627,6],[2628,2,2628,6],[2629,2,2629,6],[2630,2,2630,6],[2631,2,2631,6],[2632,2,2632,6],[2633,2,2633,6],[2634,2,2634,6],[2663,2,2663,6],[2664,2,2664,6],[2665,2,2665,6],[2666,2,2666,6],[2667,2,2667,6],[2675,2,2675,6],[2676,2,2676,6],[2681,2,2681,6],[2682,2,2682,6],[2683,2,2683,6],[2684,2,2684,6],[2685,2,2685,6],[2686,2,2686,6],[2687,2,2687,6],[2688,2,2688,6],[2689,2,2689,6],[2693,2,2693,6],[2694,2,2694,6],[2695,2,2695,6],[2696,2,2696,6],[2697,2,2697,6],[2698,2,2698,6],[2699,2,2699,6],[2700,2,2700,6],[2701,2,2701,6],[2702,2,2702,6],[2721,2,2721,6],[2722,2,2722,6],[2723,2,2723,6],[2724,2,2724,6],[2725,2,2725,6],[2726,2,2726,6],[2727,2,2727,6],[2728,2,2728,6],[2729,2,2729,6],[2730,2,2730,6],[2731,2,2731,6],[2732,2,2732,6],[2733,2,2733,6],[2734,2,2734,6],[2735,2,2735,6],[2736,2,2736,6],[2737,2,2737,6],[2738,2,2738,6],[2739,2,2739,6],[2740,2,2740,6],[2741,2,2741,6],[2742,2,2742,6],[2743,2,2743,6],[2744,2,2744,6],[2745,2,2745,6],[2746,2,2746,6],[2747,2,2747,6],[2748,2,2748,6],[2749,2,2749,6],[2750,2,2750,6],[2751,2,2751,6],[2752,2,2752,6],[2753,2,2753,6],[2754,2,2754,6],[2755,2,2755,6],[2756,2,2756,6],[2757,2,2757,6],[2758,2,2758,6],[2759,2,2759,6],[2760,2,2760,6],[2761,2,2761,6],[2762,2,2762,6],[2763,2,2763,6],[2764,2,2764,6],[2769,2,2769,6],[2770,2,2770,6],[2771,2,2771,6],[2772,2,2772,6],[2773,2,2773,6],[2774,2,2774,6],[2775,2,2775,6],[2776,2,2776,6],[2790,2,2790,6],[2806,2,2806,6],[2807,2,2807,6],[2808,2,2808,6],[2809,2,2809,6],[2810,2,2810,6],[2811,2,2811,6],[2812,2,2812,6],[2813,2,2813,6],[2814,2,2814,6],[2825,2,2825,6],[2826,2,2826,6],[2827,2,2827,6],[2828,2,2828,6],[2829,2,2829,6],[2830,2,2830,6],[2831,2,2831,6],[2832,2,2832,6],[2833,2,2833,6],[2834,2,2834,6],[2835,2,2835,6],[2836,2,2836,6],[2837,2,2837,6],[2838,2,2838,6],[2839,2,2839,6],[2840,2,2840,6],[2845,2,2845,6],[2846,2,2846,6],[2847,2,2847,6],[2848,2,2848,6],[2849,2,2849,6],[2850,2,2850,6],[2857,2,2857,6],[2867,2,2867,6],[2868,2,2868,6],[2869,2,2869,6],[2870,2,2870,6],[2871,2,2871,6],[2872,2,2872,6],[2873,2,2873,6],[2874,2,2874,6],[2875,2,2875,6],[2877,2,2877,6],[2878,2,2878,6],[2879,2,2879,6],[2880,2,2880,6],[2881,2,2881,6],[2882,2,2882,6],[2883,2,2883,6],[2884,2,2884,6],[2885,2,2885,6],[2886,2,2886,6],[2887,2,2887,6],[2888,2,2888,6],[2889,2,2889,6],[2890,2,2890,6],[2891,2,2891,6],[2892,2,2892,6],[2893,2,2893,6],[2894,2,2894,6],[2895,2,2895,6],[2896,2,2896,6],[2897,2,2897,6],[2898,2,2898,6],[2915,2,2915,6],[2916,2,2916,6],[2917,2,2917,6],[2918,2,2918,6],[2919,2,2919,6],[2924,2,2924,6],[2925,2,2925,6],[2926,2,2926,6],[2927,2,2927,6],[2928,2,2928,6],[2929,2,2929,6],[2930,2,2930,6],[2931,2,2931,6],[2932,2,2932,6],[2945,2,2945,6],[2946,2,2946,6],[2947,2,2947,6],[2948,2,2948,6],[2949,2,2949,6],[2950,2,2950,6],[2966,2,2966,6],[2967,2,2967,6],[2968,2,2968,6],[2969,2,2969,6],[2970,2,2970,6],[2971,2,2971,6],[2972,2,2972,6],[2973,2,2973,6],[2974,2,2974,6],[2975,2,2975,6],[2982,2,2982,6],[2983,2,2983,6],[2984,2,2984,6],[2985,2,2985,6],[2986,2,2986,6],[3066,2,3066,6],[3067,2,3067,6],[3068,2,3068,6],[3080,2,3080,6],[3081,2,3081,6],[3082,2,3082,6],[3083,2,3083,6],[3093,2,3093,6],[3094,2,3094,6],[3095,2,3095,6],[3096,2,3096,6],[3097,2,3097,6],[3098,2,3098,6],[3099,2,3099,6],[3100,2,3100,6],[3101,2,3101,6],[3102,2,3102,6],[3103,2,3103,6],[3104,2,3104,6],[3105,2,3105,6],[3106,2,3106,6],[3107,2,3107,6],[3108,2,3108,6],[3109,2,3109,6],[3110,2,3110,6],[3118,2,3118,6],[3119,2,3119,6],[3120,2,3120,6],[3122,2,3122,6],[3123,2,3123,6],[3124,2,3124,6],[3125,2,3125,6],[3126,2,3126,6],[3127,2,3127,6],[3128,2,3128,6],[3129,2,3129,6],[3130,2,3130,6],[3131,2,3131,6],[3132,2,3132,6],[3133,2,3133,6],[3134,2,3134,6],[3135,2,3135,6],[3136,2,3136,6],[3137,2,3137,6],[3138,2,3138,6],[3139,2,3139,6],[3140,2,3140,6],[3141,2,3141,6],[3142,2,3142,6],[3143,2,3143,6],[3144,2,3144,6],[3145,2,3145,6],[3146,2,3146,6],[3147,2,3147,6],[3148,2,3148,6],[3149,2,3149,6],[3150,2,3150,6],[3151,2,3151,6],[3152,2,3152,6],[3153,2,3153,6],[3154,2,3154,6],[3155,2,3155,6],[3156,2,3156,6],[3157,2,3157,6],[3158,2,3158,6],[3175,2,3175,6],[3176,2,3176,6],[3184,2,3184,6],[3185,2,3185,6],[3186,2,3186,6],[3187,2,3187,6],[3188,2,3188,6],[3189,2,3189,6],[3190,2,3190,6],[3191,2,3191,6],[3192,2,3192,6],[3193,2,3193,6],[3194,2,3194,6],[3195,2,3195,6],[3196,2,3196,6],[3197,2,3197,6],[3198,2,3198,6],[3199,2,3199,6],[3200,2,3200,6],[3205,2,3205,6],[3206,2,3206,6],[3207,2,3207,6],[3208,2,3208,6],[3226,2,3226,6],[3232,2,3232,6],[3233,2,3233,6],[3234,2,3234,6],[3235,2,3235,6],[3236,2,3236,6],[3237,2,3237,6],[3238,2,3238,6],[3239,2,3239,6],[3240,2,3240,6],[3241,2,3241,6],[3242,2,3242,6],[3243,2,3243,6],[3244,2,3244,6],[3245,2,3245,6],[3246,2,3246,6],[3263,2,3263,6],[3264,2,3264,6],[3265,2,3265,6],[3266,2,3266,6],[3273,2,3273,6],[3274,2,3274,6],[3275,2,3275,6],[3276,2,3276,6],[3277,2,3277,6],[3278,2,3278,6],[3279,2,3279,6],[3280,2,3280,6],[3281,2,3281,6],[3293,2,3293,6],[3294,2,3294,6],[3295,2,3295,6],[3296,2,3296,6],[3297,2,3297,6],[3298,2,3298,6],[3299,2,3299,6],[3300,2,3300,6],[3301,2,3301,6],[3302,2,3302,6],[3303,2,3303,6],[3304,2,3304,6],[3305,2,3305,6],[3306,2,3306,6],[3307,2,3307,6],[3309,2,3309,6],[3310,2,3310,6],[3311,2,3311,6],[3312,2,3312,6],[3313,2,3313,6],[3314,2,3314,6],[3315,2,3315,6],[3316,2,3316,6],[3317,2,3317,6],[3318,2,3318,6],[3319,2,3319,6],[3320,2,3320,6],[3321,2,3321,6],[3322,2,3322,6],[3323,2,3323,6],[3324,2,3324,6],[3325,2,3325,6],[3326,2,3326,6],[3327,2,3327,6],[3328,2,3328,6],[3329,2,3329,6],[3330,2,3330,6],[3331,2,3331,6],[3332,2,3332,6],[3333,2,3333,6],[3334,2,3334,6],[3335,2,3335,6],[3351,2,3351,6],[3352,2,3352,6],[3353,2,3353,6],[3360,2,3360,6],[3361,2,3361,6],[3362,2,3362,6],[3363,2,3363,6],[3364,2,3364,6],[3365,2,3365,6],[3366,2,3366,6],[3367,2,3367,6],[3368,2,3368,6],[3381,2,3381,6],[3382,2,3382,6],[3402,2,3402,6],[3405,2,3405,6],[3406,2,3406,6],[3407,2,3407,6],[3417,2,3417,6],[3418,2,3418,6],[3419,2,3419,6],[3420,2,3420,6],[3421,2,3421,6],[3422,2,3422,6],[3424,2,3424,6],[3425,2,3425,6],[3426,2,3426,6],[3427,2,3427,6],[3428,2,3428,6],[3429,2,3429,6],[3430,2,3430,6],[3431,2,3431,6],[3432,2,3432,6],[3433,2,3433,6],[3434,2,3434,6],[3435,2,3435,6],[3436,2,3436,6],[3437,2,3437,6],[3438,2,3438,6],[3439,2,3439,6],[3440,2,3440,6],[3441,2,3441,6],[3442,2,3442,6],[3443,2,3443,6],[3444,2,3444,6],[3445,2,3445,6],[3446,2,3446,6],[3447,2,3447,6],[3448,2,3448,6],[3449,2,3449,6],[3450,2,3450,6],[3451,2,3451,6],[3452,2,3452,6],[3453,2,3453,6],[3454,2,3454,6],[3455,2,3455,6],[3456,2,3456,6],[3457,2,3457,6],[3458,2,3458,6],[3459,2,3459,6],[3462,2,3462,6],[3463,2,3463,6],[3464,2,3464,6],[3469,2,3469,6],[3470,2,3470,6],[3471,2,3471,6],[3472,2,3472,6],[3473,2,3473,6],[3474,2,3474,6],[3475,2,3475,6],[3476,2,3476,6],[3477,2,3477,6],[3478,2,3478,6],[3479,2,3479,6],[3480,2,3480,6],[3481,2,3481,6],[3482,2,3482,6],[3483,2,3483,6],[3484,2,3484,6],[3485,2,3485,6],[3486,2,3486,6],[3487,2,3487,6],[3488,2,3488,6],[3489,2,3489,6],[3490,2,3490,6],[3491,2,3491,6],[3492,2,3492,6],[3493,2,3493,6],[3494,2,3494,6],[3495,2,3495,6],[3496,2,3496,6],[3497,2,3497,6],[3498,2,3498,6],[3499,2,3499,6],[3500,2,3500,6],[3501,2,3501,6],[3502,2,3502,6],[3503,2,3503,6],[3504,2,3504,6],[3505,2,3505,6],[3506,2,3506,6],[3507,2,3507,6],[3508,2,3508,6],[3509,2,3509,6],[3510,2,3510,6],[3511,2,3511,6],[3527,2,3527,6],[3528,2,3528,6],[3529,2,3529,6],[3530,2,3530,6],[3536,2,3536,6],[3537,2,3537,6],[3538,2,3538,6],[3539,2,3539,6],[3540,2,3540,6],[3541,2,3541,6],[3542,2,3542,6],[3543,2,3543,6],[3544,2,3544,6],[3557,2,3557,6],[3558,2,3558,6],[3559,2,3559,6],[3560,2,3560,6],[3561,2,3561,6],[3562,2,3562,6],[3563,2,3563,6],[3564,2,3564,6],[3565,2,3565,6],[3578,2,3578,6],[3582,2,3582,6],[3583,2,3583,6],[3584,2,3584,6],[3585,2,3585,6],[3586,2,3586,6],[3587,2,3587,6],[3588,2,3588,6],[3589,2,3589,6],[3590,2,3590,6],[3598,2,3598,6],[3612,2,3612,6],[3613,2,3613,6],[3614,2,3614,6],[3615,2,3615,6],[3621,2,3621,6],[3622,2,3622,6],[3623,2,3623,6],[3624,2,3624,6],[3625,2,3625,6],[3626,2,3626,6],[3627,2,3627,6],[3628,2,3628,6],[3629,2,3629,6],[3630,2,3630,6],[3631,2,3631,6],[3632,2,3632,6],[3633,2,3633,6],[3634,2,3634,6],[3635,2,3635,6],[3636,2,3636,6],[3637,2,3637,6],[3645,2,3645,6],[3665,2,3665,6],[3666,2,3666,6],[3667,2,3667,6],[3668,2,3668,6],[3669,2,3669,6],[3670,2,3670,6],[3671,2,3671,6],[3672,2,3672,6],[3673,2,3673,6],[3674,2,3674,6],[3675,2,3675,6],[3676,2,3676,6],[3677,2,3677,6],[3678,2,3678,6],[3679,2,3679,6],[3680,2,3680,6],[3681,2,3681,6],[3682,2,3682,6],[3683,2,3683,6],[3684,2,3684,6],[3685,2,3685,6],[3686,2,3686,6],[3703,2,3703,6],[3704,2,3704,6],[3705,2,3705,6],[3706,2,3706,6],[3707,2,3707,6],[3712,2,3712,6],[3713,2,3713,6],[3714,2,3714,6],[3715,2,3715,6],[3716,2,3716,6],[3717,2,3717,6],[3718,2,3718,6],[3719,2,3719,6],[3720,2,3720,6],[3733,2,3733,6],[3734,2,3734,6],[3735,2,3735,6],[3736,2,3736,6],[3737,2,3737,6],[3738,2,3738,6],[3739,2,3739,6],[3754,2,3754,6],[3756,2,3756,6],[3757,2,3757,6],[3758,2,3758,6],[3759,2,3759,6],[3760,2,3760,6],[3761,2,3761,6],[3762,2,3762,6],[3763,2,3763,6],[3764,2,3764,6],[3765,2,3765,6],[3766,2,3766,6],[3767,2,3767,6],[3768,2,3768,6],[3769,2,3769,6],[3770,2,3770,6],[3771,2,3771,6],[3772,2,3772,6],[3773,2,3773,6],[3774,2,3774,6],[3791,2,3791,6],[3792,2,3792,6],[3793,2,3793,6],[3794,2,3794,6],[3795,2,3795,6],[3796,2,3796,6],[3811,2,3811,6],[3812,2,3812,6],[3813,2,3813,6],[3814,2,3814,6],[3815,2,3815,6],[3816,2,3816,6],[3821,2,3821,6],[3822,2,3822,6],[3823,2,3823,6],[3824,2,3824,6],[3825,2,3825,6],[3826,2,3826,6],[3827,2,3827,6],[3828,2,3828,6],[3829,2,3829,6],[3844,2,3844,6],[3845,2,3845,6],[3846,2,3846,6],[3847,2,3847,6],[3849,2,3849,6],[3850,2,3850,6],[3851,2,3851,6],[3852,2,3852,6],[3853,2,3853,6],[3854,2,3854,6],[3855,2,3855,6],[3856,2,3856,6],[3857,2,3857,6],[3861,2,3861,6],[3862,2,3862,6],[3879,2,3879,6],[3880,2,3880,6],[3881,2,3881,6],[3882,2,3882,6],[3883,2,3883,6],[3884,2,3884,6],[3885,2,3885,6],[3886,2,3886,6],[3887,2,3887,6],[3888,2,3888,6],[3889,2,3889,6],[3890,2,3890,6],[3891,2,3891,6],[3892,2,3892,6],[3893,2,3893,6],[3894,2,3894,6],[3895,2,3895,6],[3896,2,3896,6],[3909,2,3909,6],[3910,2,3910,6],[3911,2,3911,6],[3912,2,3912,6],[3913,2,3913,6],[3929,2,3929,6],[3930,2,3930,6],[3931,2,3931,6],[3932,2,3932,6],[3933,2,3933,6],[3934,2,3934,6],[3935,2,3935,6],[3936,2,3936,6],[3937,2,3937,6],[3938,2,3938,6],[3939,2,3939,6],[3940,2,3940,6],[3941,2,3941,6],[3942,2,3942,6],[3943,2,3943,6],[3944,2,3944,6],[3945,2,3945,6],[3946,2,3946,6],[3947,2,3947,6],[3948,2,3948,6],[3949,2,3949,6],[3950,2,3950,6],[3951,2,3951,6],[3959,2,3959,6],[3960,2,3960,6],[3988,2,3988,6],[3989,2,3989,6],[3990,2,3990,6],[3991,2,3991,6],[3992,2,3992,6],[3997,2,3997,6],[3998,2,3998,6],[3999,2,3999,6],[4000,2,4000,6],[4001,2,4001,6],[4002,2,4002,6],[4003,2,4003,6],[4004,2,4004,6],[4005,2,4005,6],[4006,2,4006,6],[4007,2,4007,6],[4008,2,4008,6],[4009,2,4009,6],[4010,2,4010,6],[4011,2,4011,6],[4012,2,4012,6],[4013,2,4013,6],[4014,2,4014,6],[4015,2,4015,6],[4016,2,4016,6],[4017,2,4017,6],[4018,2,4018,6],[4019,2,4019,6],[4020,2,4020,6],[4021,2,4021,6],[4022,2,4022,6],[4023,2,4023,6],[4024,2,4024,6],[4025,2,4025,6],[4026,2,4026,6],[4027,2,4027,6],[4028,2,4028,6],[4029,2,4029,6],[4030,2,4030,6],[4031,2,4031,6],[4032,2,4032,6],[4033,2,4033,6],[4034,2,4034,6],[4035,2,4035,6],[4036,2,4036,6],[4037,2,4037,6],[4038,2,4038,6]],"merged_total":4202,"flags":["merged_cut"]}
[null,0]
[]
[{"$nulls":3},false,false,false]
[{"$nulls":3},{"$f":"COLUMN()-3","v":1},{"$f":"COLUMN()-3","v":2},{"$f":"COLUMN()-3","v":3}]
[{"$nulls":3},false,false,false]
[{"$f":"MAX(4:4)","v":3},"Enter Threats and Hazards ","®","Click here to select category","Click here to select category","Click here to select category",null,null,"Overall Journal Notes / Comments (optional)"]
[{"$f":"COUNTIFS(INDIRECT(\"d7:\" &ADDRESS(7,3+A6)),\"<>Click here to select hazard\", INDIRECT(\"d7:\"&ADDRESS(7,3+A6)), \"<>\")","v":0},null,null,"Click here to select hazard","Click here to select hazard","Click here to select hazard"]
[{"$f":"COUNTIFS(INDIRECT(\"d8:\" &ADDRESS(8,3+A6)),\"<>Click here to enter context\", INDIRECT(\"d8:\"&ADDRESS(8,3+A6)), \"<>\")","v":0},"Enter Context Descriptions ","®","Click here to enter context","Click here to enter context","Click here to enter context"]
[1,null,"Enter Desired Outcomes, Impacts, and Capability Targets Below",{"$nulls":5},"Core Capability Journal Notes / Comments (optional)"]
[{"$f":"INDEX(Lists!$AK$1:$AK$32,A9)","v":"Click here to jump to a core capability"},"Planning"]
[{"$f":"COUNTIFS(INDIRECT(\"d11:\" &ADDRESS(11,3+A6)),\"<>Click here to enter desired outcomes \", INDIRECT(\"d11:\"&ADDRESS(11,3+A6)), \"<>\")","v":0},"Desired Outcome(s) ",null,"Click here to enter desired outcomes ","Click here to enter desired outcomes ","Click here to enter desired outcomes "]
[{"$f":"COUNTIFS(INDIRECT(\"d12:\" &ADDRESS(12,3+A6)),\"<>Click here to enter impacts \", INDIRECT(\"d12:\"&ADDRESS(12,3+A6)), \"<>\")","v":0},"Impact(s)",null,"Click here to enter impacts ","Click here to enter impacts ","Click here to enter impacts "]
[null,"Capability Target(s)","Click here to enter capability targets"]
[null,"Structured Capability Target 1",{"$f":"\"Provide feeding and sheltering for \" & IF(C15<>\"\", C15, \"[number of people]\") & \" people within \" & IF(C16<>\"\",C16, \"[number of hours]\") & \" hours of an incident, and maintain services for \" & IF(C17<>\"\", C17, \"[number of weeks]\") & \" weeks.\"","v":"Provide feeding and sheltering for [number of people] people within [number of hours] hours of an incident, and maintain services for [number of weeks] weeks."}]
[null,"Number of persons"]
[null,"Number of hours"]
[null,"Number of weeks"]
[null,"Parameter 4"]
[null,"Parameter 5"]
[null,"Parameter 6"]
[null,"Parameter 7"]
[null,"Parameter 8"]
[null,"Parameter 9"]
[null,"Parameter 10"]
[null,"Parameter 11"]
[null,"Parameter 12"]
[null,"Parameter 13"]
[null,"Parameter 14"]
[null,"Parameter 15"]
[null,"Parameter 16"]
[null,"Parameter 17"]
[null,"Parameter 18"]
[null,"Parameter 19"]
[null,"Parameter 20"]
[null,"Structured Capability Target 2 (Optional)","Provide family relocation services for [number of] persons within [number of] hours of an incident, and maintain services for [number of] weeks."]
[null,"Number of persons"]
[null,"Number of hours"]
[null,"Number of weeks"]
[null,"Parameter 4"]
[null,"Parameter 5"]
[null,"Parameter 6"]
[null,"Parameter 7"]
[null,"Parameter 8"]
[null,"Parameter 9"]
[null,"Parameter 10"]
[null,"Parameter 11"]
[null,"Parameter 12"]
[null,"Parameter 13"]
[null,"Parameter 14"]
[null,"Parameter 15"]
[null,"Parameter 16"]
[null,"Parameter 17"]
[null,"Parameter 18"]
[null,"Parameter 19"]
[null,"Parameter 20"]
[null,"Structured Capability Target 3","Structured Target Description"]
[null,"Parameter 1"]
[null,"Parameter 2"]
[null,"Parameter 3"]
[null,"Parameter 4"]
[null,"Parameter 5"]
[null,"Parameter 6"]
[null,"Parameter 7"]
[null,"Parameter 8"]
[null,"Parameter 9"]
[null,"Parameter 10"]
[null,"Parameter 11"]
[null,"Parameter 12"]
[null,"Parameter 13"]
[null,"Parameter 14"]
[null,"Parameter 15"]
[null,"Parameter 16"]
[null,"Parameter 17"]
[null,"Parameter 18"]
[null,"Parameter 19"]
[null,"Parameter 20"]
[null,"Structured Capability Target 4","Structured Target Description"]
[null,"Parameter 1"]
[null,"Parameter 2"]
[null,"Parameter 3"]
[null,"Parameter 4"]
[null,"Parameter 5"]
[null,"Parameter 6"]
[null,"Parameter 7"]
[null,"Parameter 8"]
[null,"Parameter 9"]
[null,"Parameter 10"]
[null,"Parameter 11"]
[null,"Parameter 12"]
[null,"Parameter 13"]
[null,"Parameter 14"]
[null,"Parameter 15"]
[null,"Parameter 16"]
[null,"Parameter 17"]
[null,"Parameter 18"]
[null,"Parameter 19"]
[null,"Parameter 20"]
[null,"Structured Capability Target 5","Structured Target Description"]
[null,"Parameter 1"]
[null,"Parameter 2"]
[null,"Parameter 3"]
[null,"Parameter 4"]
[null,"Parameter 5"]
[null,"Parameter 6"]
[null,"Parameter 7"]
[null,"Parameter 8"]
[null,"Parameter 9"]
[null,"Parameter 10"]
[null,"Parameter 11"]
[null,"Parameter 12"]
[null,"Parameter 13"]
[null,"Parameter 14"]
[null,"Parameter 15"]
[null,"Parameter 16"]
[null,"Parameter 17"]
[null,"Parameter 18"]
[null,"Parameter 19"]
[null,"Parameter 20"]
[null,"Structured Capability Target 6","Structured Target Description"]
[null,"Parameter 1"]
[null,"Parameter 2"]
[null,"Parameter 3"]
[null,"Parameter 4"]
[null,"Parameter 5"]
[null,"Parameter 6"]
[null,"Parameter 7"]
[null,"Parameter 8"]
[null,"Parameter 9"]
[null,"Parameter 10"]
[null,"Parameter 11"]
[null,"Parameter 12"]
[null,"Parameter 13"]
[null,"Parameter 14"]
[null,"Parameter 15"]
[null,"Parameter 16"]
[null,"Parameter 17"]
[null,"Parameter 18"]
[null,"Parameter 19"]
[null,"Parameter 20"]
[null,"Structured Capability Target 7","Structured Target Description"]
[null,"Parameter 1"]
[null,"Parameter 2"]
[null,"Parameter 3"]
[null,"Parameter 4"]
[null,"Parameter 5"]
[null,"Parameter 6"]
[null,"Parameter 7"]
[null,"Parameter 8"]
[null,"Parameter 9"]
[null,"Parameter 10"]
[null,"Parameter 11"]
[null,"Parameter 12"]
[null,"Parameter 13"]
[null,"Parameter 14"]
[null,"Parameter 15"]
[null,"Parameter 16"]
[null,"Parameter 17"]
[null,"Parameter 18"]
[null,"Parameter 19"]
[null,"Parameter 20"]
[null,"Structured Capability Target 8","Structured Target Description"]
[null,"Parameter 1"]
[null,"Parameter 2"]
[null,"Parameter 3"]
[null,"Parameter 4"]
[null,"Parameter 5"]
[null,"Parameter 6"]
[null,"Parameter 7"]
[null,"Parameter 8"]
[null,"Parameter 9"]
[null,"Parameter 10"]
[null,"Parameter 11"]
[null,"Parameter 12"]
[null,"Parameter 13"]
[null,"Parameter 14"]
[null,"Parameter 15"]
[null,"Parameter 16"]
[null,"Parameter 17"]
[null,"Parameter 18"]
[null,"Parameter 19"]
[null,"Parameter 20"]
[null,"Structured Capability Target 9","Structured Target Description"]
[null,"Parameter 1"]
[null,"Parameter 2"]
[null,"Parameter 3"]
[null,"Parameter 4"]
[null,"Parameter 5"]
[null,"Parameter 6"]
[null,"Parameter 7"]
[null,"Parameter 8"]
[null,"Parameter 9"]
[null,"Parameter 10"]
[null,"Parameter 11"]
[null,"Parameter 12"]
[null,"Parameter 13"]
[null,"Parameter 14"]
[null,"Parameter 15"]
[null,"Parameter 16"]
[null,"Parameter 17"]
[null,"Parameter 18"]
[null,"Parameter 19"]
[null,"Parameter 20"]
[null,"Structured Capability Target 10","Structured Target Description"]
[null,"Parameter 1"]
[null,"Parameter 2"]
[null,"Parameter 3"]
[null,"Parameter 4"]
[null,"Parameter 5"]
[null,"Parameter 6"]
[null,"Parameter 7"]
[null,"Parameter 8"]
[null,"Parameter 9"]
[null,"Parameter 10"]
[null,"Parameter 11"]
[null,"Parameter 12"]
[null,"Parameter 13"]
[null,"Parameter 14"]
[null,"Parameter 15"]
[null,"Parameter 16"]
[null,"Parameter 17"]
[null,"Parameter 18"]
[null,"Parameter 19"]
[null,"Parameter 20"]
[null,"Structured Capability Target 11","Structured Target Description"]
[null,"Parameter 1"]
[null,"Parameter 2"]
[null,"Parameter 3"]
[null,"Parameter 4"]
[null,"Parameter 5"]
[null,"Parameter 6"]
[null,"Parameter 7"]
[null,"Parameter 8"]
[null,"Parameter 9"]
[null,"Parameter 10"]
[null,"Parameter 11"]
[null,"Parameter 12"]
[null,"Parameter 13"]
[null,"Parameter 14"]
[null,"Parameter 15"]
[null,"Parameter 16"]
[null,"Parameter 17"]
[null,"Parameter 18"]
[null,"Parameter 19"]
[null,"Parameter 20"]
[null,"Structured Capability Target 12","Structured Target Description"]
[null,"Parameter 1"]
[null,"Parameter 2"]
[null,"Parameter 3"]
[null,"Parameter 4"]
[null,"Parameter 5"]
[null,"Parameter 6"]
[null,"Parameter 7"]
[null,"Parameter 8"]
[null,"Parameter 9"]
[null,"Parameter 10"]
[null,"Parameter 11"]
[null,"Parameter 12"]
[null,"Parameter 13"]
[null,"Parameter 14"]
[null,"Parameter 15"]
[null,"Parameter 16"]
[null,"Parameter 17"]
[null,"Parameter 18"]
[null,"Parameter 19"]
[null,"Parameter 20"]
[null,"Structured Capability Target 13","Structured Target Description"]
[null,"Parameter 1"]
[null,"Parameter 2"]
[null,"Parameter 3"]
[null,"Parameter 4"]
[null,"Parameter 5"]
[null,"Parameter 6"]
[null,"Parameter 7"]
[null,"Parameter 8"]
[null,"Parameter 9"]
[null,"Parameter 10"]
[null,"Parameter 11"]
[null,"Parameter 12"]
[null,"Parameter 13"]
[null,"Parameter 14"]
[null,"Parameter 15"]
[null,"Parameter 16"]
[null,"Parameter 17"]
[null,"Parameter 18"]
[null,"Parameter 19"]
[null,"Parameter 20"]
[null,"Structured Capability Target 14","Structured Target Description"]
[null,"Parameter 1"]
[null,"Parameter 2"]
[null,"Parameter 3"]
[null,"Parameter 4"]
[null,"Parameter 5"]
[null,"Parameter 6"]
[null,"Parameter 7"]
[null,"Parameter 8"]
[null,"Parameter 9"]
[null,"Parameter 10"]
[null,"Parameter 11"]
[null,"Parameter 12"]
[null,"Parameter 13"]
[null,"Parameter 14"]
[null,"Parameter 15"]
[null,"Parameter 16"]
[null,"Parameter 17"]
[null,"Parameter 18"]
[null,"Parameter 19"]
[null,"Parameter 20"]
[null,"Structured Capability Target 15","Structured Target Description"]
[null,"Parameter 1"]
[null,"Parameter 2"]
[null,"Parameter 3"]
[null,"Parameter 4"]
[null,"Parameter 5"]
[null,"Parameter 6"]
[null,"Parameter 7"]
[null,"Parameter 8"]
[null,"Parameter 9"]
[null,"Parameter 10"]
[null,"Parameter 11"]
[null,"Parameter 12"]
[null,"Parameter 13"]
[null,"Parameter 14"]
[null,"Parameter 15"]
[null,"Parameter 16"]
[null,"Parameter 17"]
[null,"Parameter 18"]
[null,"Parameter 19"]
[null,"Parameter 20"]
[null,"Structured Capability Target 16","Structured Target Description"]
[null,"Parameter 1"]
[null,"Parameter 2"]
[null,"Parameter 3"]
[null,"Parameter 4"]
[null,"Parameter 5"]
[null,"Parameter 6"]
[null,"Parameter 7"]
[null,"Parameter 8"]
[null,"Parameter 9"]
[null,"Parameter 10"]
[null,"Parameter 11"]
[null,"Parameter 12"]
[null,"Parameter 13"]
[null,"Parameter 14"]
[null,"Parameter 15"]
[null,"Parameter 16"]
[null,"Parameter 17"]
[null,"Parameter 18"]
[null,"Parameter 19"]
[null,"Parameter 20"]
[null,"Structured Capability Target 17","Structured Target Description"]
[null,"Parameter 1"]
[null,"Parameter 2"]
[null,"Parameter 3"]
[null,"Parameter 4"]
[null,"Parameter 5"]
[null,"Parameter 6"]
[null,"Parameter 7"]
[null,"Parameter 8"]
[null,"Parameter 9"]
[null,"Parameter 10"]
[null,"Parameter 11"]
[null,"Parameter 12"]
[null,"Parameter 13"]
[null,"Parameter 14"]
[null,"Parameter 15"]
[null,"Parameter 16"]
[null,"Parameter 17"]
[null,"Parameter 18"]
[null,"Parameter 19"]
[null,"Parameter 20"]
[null,"Structured Capability Target 18","Structured Target Description"]
[null,"Parameter 1"]
[null,"Parameter 2"]
[null,"Parameter 3"]
[null,"Parameter 4"]
[null,"Parameter 5"]
[null,"Parameter 6"]
[null,"Parameter 7"]
[null,"Parameter 8"]
[null,"Parameter 9"]
[null,"Parameter 10"]
[null,"Parameter 11"]
[null,"Parameter 12"]
[null,"Parameter 13"]
[null,"Parameter 14"]
[null,"Parameter 15"]
[null,"Parameter 16"]
[null,"Parameter 17"]
[null,"Parameter 18"]
[null,"Parameter 19"]
[null,"Parameter 20"]
[null,"Structured Capability Target 19","Structured Target Description"]
[null,"Parameter 1"]
[null,"Parameter 2"]
[null,"Parameter 3"]
[null,"Parameter 4"]
[null,"Parameter 5"]
[null,"Parameter 6"]
[null,"Parameter 7"]
[null,"Parameter 8"]
[null,"Parameter 9"]
[null,"Parameter 10"]
[null,"Parameter 11"]
[null,"Parameter 12"]
[null,"Parameter 13"]
[null,"Parameter 14"]
[null,"Parameter 15"]
[null,"Parameter 16"]
[null,"Parameter 17"]
[null,"Parameter 18"]
[null,"Parameter 19"]
[null,"Parameter 20"]
[null,"Structured Capability Target 20","Structured Target Description"]
[null,"Parameter 1"]
[null,"Parameter 2"]
[null,"Parameter 3"]
[null,"Parameter 4"]
[null,"Parameter 5"]
[null,"Parameter 6"]
[null,"Parameter 7"]
[null,"Parameter 8"]
[null,"Parameter 9"]
[null,"Parameter 10"]
[null,"Parameter 11"]
[null,"Parameter 12"]
[null,"Parameter 13"]
[null,"Parameter 14"]
[null,"Parameter 15"]
[null,"Parameter 16"]
[null,"Parameter 17"]
[null,"Parameter 18"]
[null,"Parameter 19"]
[null,"Parameter 20"]
[null,"Public Information and Warning"]
[{"$f":"COUNTIFS(INDIRECT(\"d435:\" &ADDRESS(435,3+A6)),\"<>Click here to enter desired outcomes \", INDIRECT(\"d435:\"&ADDRESS(435,3+A6)), \"<>\")","v":0},"Desired Outcome(s) ",null,"Click here to enter desired outcomes ","Click here to enter desired outcomes ","Click here to enter desired outcomes "]
[{"$f":"COUNTIFS(INDIRECT(\"d436:\" &ADDRESS(436,3+A6)),\"<>Click here to enter impacts \", INDIRECT(\"d436:\"&ADDRESS(436,3+A6)), \"<>\")","v":0},"Impact(s) ",null,"Click here to enter impacts ","Click here to enter impacts ","Click here to enter impacts "]
[null,"Capability Target(s)","Click here to enter capability targets"]
[null,"Structured Capability Target 1","Provide feeding and sheltering for [number of] persons within [number of] hours of an incident, and maintain services for [number of] weeks."]
[null,"Number of persons"]
[null,"Number of hours"]
[null,"Number of weeks"]
[null,"Parameter 4"]
[null,"Parameter 5"]
[null,"Parameter 6"]
[null,"Parameter 7"]
[null,"Parameter 8"]
[null,"Parameter 9"]
[null,"Parameter 10"]
[null,"Parameter 11"]
[null,"Parameter 12"]
[null,"Parameter 13"]
[null,"Parameter 14"]
[null,"Parameter 15"]
[null,"Parameter 16"]
[null,"Parameter 17"]
[null,"Parameter 18"]
[null,"Parameter 19"]
[null,"Parameter 20"]
[null,"Structured Capability Target 2 (Optional)","Provide family relocation services for [number of] persons within [number of] hours of an incident, and maintain services for [number of] weeks."]
[null,"Number of persons"]
[null,"Number of hours"]
[null,"Number of weeks"]
[null,"Parameter 4"]
[null,"Parameter 5"]
[null,"Parameter 6"]
[null,"Parameter 7"]
[null,"Parameter 8"]
[null,"Parameter 9"]
[null,"Parameter 10"]
[null,"Parameter 11"]
[null,"Parameter 12"]
[null,"Parameter 13"]
[null,"Parameter 14"]
[null,"Parameter 15"]
[null,"Parameter 16"]
[null,"Parameter 17"]
[null,"Parameter 18"]
[null,"Parameter 19"]
[null,"Parameter 20"]
[null,"Structured Capability Target 3","Structured Target Description"]
[null,"Parameter 1"]
[null,"Parameter 2"]
[null,"Parameter 3"]
[null,"Parameter 4"]
[null,"Parameter 5"]
[null,"Parameter 6"]
[null,"Parameter 7"]
[null,"Parameter 8"]
[null,"Parameter 9"]
[null,"Parameter 10"]
[null,"Parameter 11"]
[null,"Parameter 12"]
[null,"Parameter 13"]
[null,"Parameter 14"]
[null,"Parameter 15"]
[null,"Parameter 16"]
[null,"Parameter 17"]
[null,"Parameter 18"]
[null,"Parameter 19"]
[null,"Parameter 20"]
[null,"Structured Capability Target 4","Structured Target Description"]
[null,"Parameter 1"]
[null,"Parameter 2"]
[null,"Parameter 3"]
[null,"Parameter 4"]
[null,"Parameter 5"]
[null,"Parameter 6"]
[null,"Parameter 7"]
[null,"Parameter 8"]
[null,"Parameter 9"]
[null,"Parameter 10"]
[null,"Parameter 11"]
[null,"Parameter 12"]
[null,"Parameter 13"]
[null,"Parameter 14"]
[null,"Parameter 15"]
[null,"Parameter 16"]
[null,"Parameter 17"]
[null,"Parameter 18"]
[null,"Parameter 19"]
[null,"Parameter 20"]
[null,"Structured Capability Target 5","Structured Target Description"]
[null,"Parameter 1"]
[null,"Parameter 2"]
[null,"Parameter 3"]
[null,"Parameter 4"]
[null,"Parameter 5"]
[null,"Parameter 6"]
[null,"Parameter 7"]
[null,"Parameter 8"]
[null,"Parameter 9"]
[null,"Parameter 10"]
[null,"Parameter 11"]
[null,"Parameter 12"]
[null,"Parameter 13"]
[null,"Parameter 14"]
[null,"Parameter 15"]
[null,"Parameter 16"]
[null,"Parameter 17"]
[null,"Parameter 18"]
[null,"Parameter 19"]
[null,"Parameter 20"]
[null,"Structured Capability Target 6","Structured Target Description"]
[null,"Parameter 1"]
[null,"Parameter 2"]
[null,"Parameter 3"]
[null,"Parameter 4"]
[null,"Parameter 5"]
[null,"Parameter 6"]
[null,"Parameter 7"]
[null,"Parameter 8"]
[null,"Parameter 9"]
[null,"Parameter 10"]
[null,"Parameter 11"]
[null,"Parameter 12"]
[null,"Parameter 13"]
[null,"Parameter 14"]
[null,"Parameter 15"]
[null,"Parameter 16"]
[null,"Parameter 17"]
[null,"Parameter 18"]
[null,"Parameter 19"]
[null,"Parameter 20"]
[null,"Structured Capability Target 7","Structured Target Description"]
[null,"Parameter 1"]
[null,"Parameter 2"]
[null,"Parameter 3"]
[null,"Parameter 4"]
[null,"Parameter 5"]
[null,"Parameter 6"]
[null,"Parameter 7"]
[null,"Parameter 8"]
[null,"Parameter 9"]
[null,"Parameter 10"]
[null,"Parameter 11"]
[null,"Parameter 12"]
[null,"Parameter 13"]
[null,"Parameter 14"]
[null,"Parameter 15"]
[null,"Parameter 16"]
[null,"Parameter 17"]
[null,"Parameter 18"]
[null,"Parameter 19"]
[null,"Parameter 20"]
[null,"Structured Capability Target 8","Structured Target Description"]
[null,"Parameter 1"]
[null,"Parameter 2"]
[null,"Parameter 3"]
[null,"Parameter 4"]
[null,"Parameter 5"]
[null,"Parameter 6"]
[null,"Parameter 7"]
[null,"Parameter 8"]
[null,"Parameter 9"]
[null,"Parameter 10"]
[null,"Parameter 11"]
[null,"Parameter 12"]
[null,"Parameter 13"]
[null,"Parameter 14"]
[null,"Parameter 15"]
[null,"Parameter 16"]
[null,"Parameter 17"]
[null,"Parameter 18"]
[null,"Parameter 19"]
[null,"Parameter 20"]
[null,"Structured Capability Target 9","Structured Target Description"]
[null,"Parameter 1"]
[null,"Parameter 2"]
[null,"Parameter 3"]
[null,"Parameter 4"]
[null,"Parameter 5"]
[null,"Parameter 6"]
[null,"Parameter 7"]
[null,"Parameter 8"]
[null,"Parameter 9"]
[null,"Parameter 10"]
[null,"Parameter 11"]
[null,"Parameter 12"]
[null,"Parameter 13"]
[null,"Parameter 14"]
[null,"Parameter 15"]
[null,"Parameter 16"]
[null,"Parameter 17"]
[null,"Parameter 18"]
[null,"Parameter 19"]
[null,"Parameter 20"]
[null,"Structured Capability Target 10","Structured Target Description"]
[null,"Parameter 1"]
[null,"Parameter 2"]
[null,"Parameter 3"]
[null,"Parameter 4"]
[null,"Parameter 5"]
[null,"Parameter 6"]
[null,"Parameter 7"]
[null,"Parameter 8"]
[null,"Parameter 9"]
[null,"Parameter 10"]
[null,"Parameter 11"]
[null,"Parameter 12"]
[null,"Parameter 13"]
[null,"Parameter 14"]
[null,"Parameter 15"]
[null,"Parameter 16"]
[null,"Parameter 17"]
[null,"Parameter 18"]
[null,"Parameter 19"]
[null,"Parameter 20"]
[null,"Structured Capability Target 11","Structured Target Description"]
[null,"Parameter 1"]
[null,"Parameter 2"]
[null,"Parameter 3"]
[null,"Parameter 4"]
[null,"Parameter 5"]
[null,"Parameter 6"]
[null,"Parameter 7"]
[null,"Parameter 8"]
[null,"Parameter 9"]
[null,"Parameter 10"]
[null,"Parameter 11"]
[null,"Parameter 12"]
[null,"Parameter 13"]
[null,"Parameter 14"]
[null,"Parameter 15"]
[null,"Parameter 16"]
[null,"Parameter 17"]
[null,"Parameter 18"]
[null,"Parameter 19"]
[null,"Parameter 20"]
[null,"Structured Capability Target 12","Structured Target Description"]
[null,"Parameter 1"]
[null,"Parameter 2"]
[null,"Parameter 3"]
[null,"Parameter 4"]
[null,"Parameter 5"]
[null,"Parameter 6"]
[null,"Parameter 7"]
[null,"Parameter 8"]
[null,"Parameter 9"]
[null,"Parameter 10"]
[null,"Parameter 11"]
[null,"Parameter 12"]
[null,"Parameter 13"]
[null,"Parameter 14"]
[null,"Parameter 15"]
[null,"Parameter 16"]
[null,"Parameter 17"]
[null,"Parameter 18"]
[null,"Parameter 19"]
[null,"Parameter 20"]
[null,"Structured Capability Target 13","Structured Target Description"]
[null,"Parameter 1"]
[null,"Parameter 2"]
[null,"Parameter 3"]
[null,"Parameter 4"]
[null,"Parameter 5"]
[null,"Parameter 6"]
[null,"Parameter 7"]
[null,"Parameter 8"]
[null,"Parameter 9"]
[null,"Parameter 10"]
[null,"Parameter 11"]
[null,"Parameter 12"]
[null,"Parameter 13"]
[null,"Parameter 14"]
[null,"Parameter 15"]
[null,"Parameter 16"]
[null,"Parameter 17"]
[null,"Parameter 18"]
[null,"Parameter 19"]
[null,"Parameter 20"]
[null,"Structured Capability Target 14","Structured Target Description"]
[null,"Parameter 1"]
[null,"Parameter 2"]
[null,"Parameter 3"]
[null,"Parameter 4"]
[null,"Parameter 5"]
[null,"Parameter 6"]
[null,"Parameter 7"]
[null,"Parameter 8"]
[null,"Parameter 9"]
[null,"Parameter 10"]
[null,"Parameter 11"]
[null,"Parameter 12"]
[null,"Parameter 13"]
[null,"Parameter 14"]
[null,"Parameter 15"]
[null,"Parameter 16"]
[null,"Parameter 17"]
[null,"Parameter 18"]
[null,"Parameter 19"]
[null,"Parameter 20"]
[null,"Structured Capability Target 15","Structured Target Description"]
[null,"Parameter 1"]
[null,"Parameter 2"]
[null,"Parameter 3"]
[null,"Parameter 4"]
[null,"Parameter 5"]
[null,"Parameter 6"]
[null,"Parameter 7"]
[null,"Parameter 8"]
[null,"Parameter 9"]
[null,"Parameter 10"]
[null,"Parameter 11"]
[null,"Parameter 12"]
[null,"Parameter 13"]
[null,"Parameter 14"]
[null,"Parameter 15"]
[null,"Parameter 16"]
[null,"Parameter 17"]
[null,"Parameter 18"]
[null,"Parameter 19"]
[null,"Parameter 20"]
[null,"Structured Capability Target 16","Structured Target Description"]
[null,"Parameter 1"]
[null,"Parameter 2"]
[null,"Parameter 3"]
[null,"Parameter 4"]
[null,"Parameter 5"]
[null,"Parameter 6"]
[null,"Parameter 7"]
[null,"Parameter 8"]
[null,"Parameter 9"]
[null,"Parameter 10"]
[null,"Parameter 11"]
[null,"Parameter 12"]
[null,"Parameter 13"]
[null,"Parameter 14"]
[null,"Parameter 15"]
[null,"Parameter 16"]
[null,"Parameter 17"]
[null,"Parameter 18"]
[null,"Parameter 19"]
[null,"Parameter 20"]
[null,"Structured Capability Target 17","Structured Target Description"]
[null,"Parameter 1"]
[null,"Parameter 2"]
[null,"Parameter 3"]
[null,"Parameter 4"]
[null,"Parameter 5"]
[null,"Parameter 6"]
[null,"Parameter 7"]
[null,"Parameter 8"]
[null,"Parameter 9"]
[null,"Parameter 10"]
[null,"Parameter 11"]
[null,"Parameter 12"]
[null,"Parameter 13"]
[null,"Parameter 14"]
[null,"Parameter 15"]
[null,"Parameter 16"]
[null,"Parameter 17"]
[null,"Parameter 18"]
[null,"Parameter 19"]
[null,"Parameter 20"]
[null,"Structured Capability Target 18","Structured Target Description"]
[null,"Parameter 1"]
[null,"Parameter 2"]
[null,"Parameter 3"]
[null,"Parameter 4"]
[null,"Parameter 5"]
[null,"Parameter 6"]
[null,"Parameter 7"]
[null,"Parameter 8"]
[null,"Parameter 9"]
[null,"Parameter 10"]
[null,"Parameter 11"]
[null,"Parameter 12"]
[null,"Parameter 13"]
[null,"Parameter 14"]
[null,"Parameter 15"]
[null,"Parameter 16"]
[null,"Parameter 17"]
[null,"Parameter 18"]
[null,"Parameter 19"]
[null,"Parameter 20"]
[null,"Structured Capability Target 19","Structured Target Description"]
[null,"Parameter 1"]
[null,"Parameter 2"]
[null,"Parameter 3"]
[null,"Parameter 4"]
[null,"Parameter 5"]
[null,"Parameter 6"]
[null,"Parameter 7"]
[null,"Parameter 8"]
[null,"Parameter 9"]
[null,"Parameter 10"]
[null,"Parameter 11"]
[null,"Parameter 12"]
[null,"Parameter 13"]
[null,"Parameter 14"]
[null,"Parameter 15"]
[null,"Parameter 16"]
[null,"Parameter 17"]
[null,"Parameter 18"]
[null,"Parameter 19"]
[null,"Parameter 20"]
[null,"Structured Capability Target 20","Structured Target Description"]
[null,"Parameter 1"]
[null,"Parameter 2"]
[null,"Parameter 3"]
[null,"Parameter 4"]
[null,"Parameter 5"]
[null,"Parameter 6"]
[null,"Parameter 7"]
[null,"Parameter 8"]
[null,"Parameter 9"]
[null,"Parameter 10"]
[null,"Parameter 11"]
[null,"Parameter 12"]
[null,"Parameter 13"]
[null,"Parameter 14"]
[null,"Parameter 15"]
[null,"Parameter 16"]
[null,"Parameter 17"]
[null,"Parameter 18"]
[null,"Parameter 19"]
[null,"Parameter 20"]
[null,"Operational Coordination"]
[{"$f":"COUNTIFS(INDIRECT(\"d859:\" &ADDRESS(859,3+A6)),\"<>Click here to enter desired outcomes \", INDIRECT(\"d859:\"&ADDRESS(859,3+A6)), \"<>\")","v":0},"Desired Outcome(s) ",null,"Click here to enter desired outcomes ","Click here to enter desired outcomes ","Click here to enter desired outcomes "]
[{"$f":"COUNTIFS(INDIRECT(\"d860:\" &ADDRESS(860,3+A6)),\"<>Click here to enter impacts \", INDIRECT(\"d860:\"&ADDRESS(860,3+A6)), \"<>\")","v":0},"Impact(s)",null,"Click here to enter impacts ","Click here to enter impacts ","Click here to enter impacts "]
[null,"Capability Target(s)","Click here to enter capability targets"]
[null,"Structured Capability Target 1","Provide feeding and sheltering for [number of] persons within [number of] hours of an incident, and maintain services for [number of] weeks."]
[null,"Number of persons"]
[null,"Number of hours"]
[null,"Number of weeks"]
[null,"Parameter 4"]
[null,"Parameter 5"]
[null,"Parameter 6"]
[null,"Parameter 7"]
[null,"Parameter 8"]
[null,"Parameter 9"]
[null,"Parameter 10"]
[null,"Parameter 11"]
[null,"Parameter 12"]
[null,"Parameter 13"]
[null,"Parameter 14"]
[null,"Parameter 15"]
[null,"Parameter 16"]
[null,"Parameter 17"]
[null,"Parameter 18"]
[null,"Parameter 19"]
[null,"Parameter 20"]
[null,"Structured Capability Target 2 (Optional)","Provide family relocation services for [number of] persons within [number of] hours of an incident, and maintain services for [number of] weeks."]
[null,"Number of persons"]
[null,"Number of hours"]
[null,"Number of weeks"]
[null,"Parameter 4"]
[null,"Parameter 5"]
[null,"Parameter 6"]
[null,"Parameter 7"]
[null,"Parameter 8"]
[null,"Parameter 9"]
[null,"Parameter 10"]
[null,"Parameter 11"]
[null,"Parameter 12"]
[null,"Parameter 13"]
[null,"Parameter 14"]
[null,"Parameter 15"]
[null,"Parameter 16"]
[null,"Parameter 17"]
[null,"Parameter 18"]
[null,"Parameter 19"]
[null,"Parameter 20"]
[null,"Structured Capability Target 3","Structured Target Description"]
[null,"Parameter 1"]
[null,"Parameter 2"]
[null,"Parameter 3"]
[null,"Parameter 4"]
[null,"Parameter 5"]
[null,"Parameter 6"]
[null,"Parameter 7"]
[null,"Parameter 8"]
[null,"Parameter 9"]
[null,"Parameter 10"]
[null,"Parameter 11"]
[null,"Parameter 12"]
[null,"Parameter 13"]
[null,"Parameter 14"]
[null,"Parameter 15"]
[null,"Parameter 16"]
[null,"Parameter 17"]
[null,"Parameter 18"]
[null,"Parameter 19"]
[null,"Parameter 20"]
[null,"Structured Capability Target 4","Structured Target Description"]
[null,"Parameter 1"]
[null,"Parameter 2"]
[null,"Parameter 3"]
[null,"Parameter 4"]
[null,"Parameter 5"]
[null,"Parameter 6"]
[null,"Parameter 7"]
[null,"Parameter 8"]
[null,"Parameter 9"]
[null,"Parameter 10"]
[null,"Parameter 11"]
[null,"Parameter 12"]
[null,"Parameter 13"]
[null,"Parameter 14"]
[null,"Parameter 15"]
[null,"Parameter 16"]
[null,"Parameter 17"]
[null,"Parameter 18"]
[null,"Parameter 19"]
[null,"Parameter 20"]
[null,"Structured Capability Target 5","Structured Target Description"]
[null,"Parameter 1"]
[null,"Parameter 2"]
[null,"Parameter 3"]
[null,"Parameter 4"]
[null,"Parameter 5"]
[null,"Parameter 6"]
[null,"Parameter 7"]
[null,"Parameter 8"]
[null,"Parameter 9"]
[null,"Parameter 10"]
[null,"Parameter 11"]
[null,"Parameter 12"]
[null,"Parameter 13"]
[null,"Parameter 14"]
[null,"Parameter 15"]
[null,"Parameter 16"]
[null,"Parameter 17"]
[null,"Parameter 18"]
[null,"Parameter 19"]
[null,"Parameter 20"]
[null,"Structured Capability Target 6","Structured Target Description"]
[null,"Parameter 1"]
[null,"Parameter 2"]
[null,"Parameter 3"]
[null,"Parameter 4"]
[null,"Parameter 5"]
[null,"Parameter 6"]
[null,"Parameter 7"]
[null,"Parameter 8"]
[null,"Parameter 9"]
[null,"Parameter 10"]
[null,"Parameter 11"]
[null,"Parameter 12"]
[null,"Parameter 13"]
[null,"Parameter 14"]
[null,"Parameter 15"]
[null,"Parameter 16"]
[null,"Parameter 17"]
[null,"Parameter 18"]
[null,"Parameter 19"]
[null,"Parameter 20"]
[null,"Structured Capability Target 7","Structured Target Description"]
[null,"Parameter 1"]
[null,"Parameter 2"]
[null,"Parameter 3"]
[null,"Parameter 4"]
[null,"Parameter 5"]
[null,"Parameter 6"]
[null,"Parameter 7"]
[null,"Parameter 8"]
[null,"Parameter 9"]
[null,"Parameter 10"]
[null,"Parameter 11"]
[null,"Parameter 12"]
[null,"Parameter 13"]
[null,"Parameter 14"]
[null,"Parameter 15"]
[null,"Parameter 16"]
[null,"Parameter 17"]
[null,"Parameter 18"]
[null,"Parameter 19"]
[null,"Parameter 20"]
[null,"Structured Capability Target 8","Structured Target Description"]
[null,"Parameter 1"]
[null,"Parameter 2"]
[null,"Parameter 3"]
[null,"Parameter 4"]
[null,"Parameter 5"]
[null,"Parameter 6"]
[null,"Parameter 7"]
[null,"Parameter 8"]
[null,"Parameter 9"]
[null,"Parameter 10"]
[null,"Parameter 11"]
[null,"Parameter 12"]
[null,"Parameter 13"]
[null,"Parameter 14"]
[null,"Parameter 15"]
[null,"Parameter 16"]
[null,"Parameter 17"]
[null,"Parameter 18"]
[null,"Parameter 19"]
[null,"Parameter 20"]
[null,"Structured Capability Target 9","Structured Target Description"]
[null,"Parameter 1"]
[null,"Parameter 2"]
[null,"Parameter 3"]
[null,"Parameter 4"]
[null,"Parameter 5"]
[null,"Parameter 6"]
[null,"Parameter 7"]
[null,"Parameter 8"]
[null,"Parameter 9"]
[null,"Parameter 10"]
[null,"Parameter 11"]
[null,"Parameter 12"]
[null,"Parameter 13"]
[null,"Parameter 14"]
[null,"Parameter 15"]
[null,"Parameter 16"]
[null,"Parameter 17"]
[null,"Parameter 18"]
[null,"Parameter 19"]
[null,"Parameter 20"]
[null,"Structured Capability Target 10","Structured Target Description"]
[null,"Parameter 1"]
[null,"Parameter 2"]
[null,"Parameter 3"]
[null,"Parameter 4"]
[null,"Parameter 5"]
[null,"Parameter 6"]
[null,"Parameter 7"]
[null,"Parameter 8"]
[null,"Parameter 9"]
[null,"Parameter 10"]
[null,"Parameter 11"]
[null,"Parameter 12"]
[null,"Parameter 13"]
[null,"Parameter 14"]
[null,"Parameter 15"]
[null,"Parameter 16"]
[null,"Parameter 17"]
[null,"Parameter 18"]
[null,"Parameter 19"]
[null,"Parameter 20"]
[null,"Structured Capability Target 11","Structured Target Description"]
[null,"Parameter 1"]
[null,"Parameter 2"]
[null,"Parameter 3"]
[null,"Parameter 4"]
[null,"Parameter 5"]
[null,"Parameter 6"]
[null,"Parameter 7"]
[null,"Parameter 8"]
[null,"Parameter 9"]
[null,"Parameter 10"]
[null,"Parameter 11"]
[null,"Parameter 12"]
[null,"Parameter 13"]
[null,"Parameter 14"]
[null,"Parameter 15"]
[null,"Parameter 16"]
[null,"Parameter 17"]
[null,"Parameter 18"]
[null,"Parameter 19"]
[null,"Parameter 20"]
[null,"Structured Capability Target 12","Structured Target Description"]
[null,"Parameter 1"]
[null,"Parameter 2"]
[null,"Parameter 3"]
[null,"Parameter 4"]
[null,"Parameter 5"]
[null,"Parameter 6"]
[null,"Parameter 7"]
[null,"Parameter 8"]
[null,"Parameter 9"]
[null,"Parameter 10"]
[null,"Parameter 11"]
[null,"Parameter 12"]
[null,"Parameter 13"]
[null,"Parameter 14"]
[null,"Parameter 15"]
[null,"Parameter 16"]
[null,"Parameter 17"]
[null,"Parameter 18"]
[null,"Parameter 19"]
[null,"Parameter 20"]
[null,"Structured Capability Target 13","Structured Target Description"]
[null,"Parameter 1"]
[null,"Parameter 2"]
[null,"Parameter 3"]
[null,"Parameter 4"]
[null,"Parameter 5"]
[null,"Parameter 6"]
[null,"Parameter 7"]
[null,"Parameter 8"]
[null,"Parameter 9"]
[null,"Parameter 10"]
[null,"Parameter 11"]
[null,"Parameter 12"]
[null,"Parameter 13"]
[null,"Parameter 14"]
[null,"Parameter 15"]
[null,"Parameter 16"]
[null,"Parameter 17"]
[null,"Parameter 18"]
[null,"Parameter 19"]
[null,"Parameter 20"]
[null,"Structured Capability Target 14","Structured Target Description"]
[null,"Parameter 1"]
[null,"Parameter 2"]
[null,"Parameter 3"]
[null,"Parameter 4"]
[null,"Parameter 5"]
[null,"Parameter 6"]
[null,"Parameter 7"]
[null,"Parameter 8"]
[null,"Parameter 9"]
[null,"Parameter 10"]
[null,"Parameter 11"]
[null,"Parameter 12"]
[null,"Parameter 13"]
[null,"Parameter 14"]
[null,"Parameter 15"]
[null,"Parameter 16"]
[null,"Parameter 17"]
[null,"Parameter 18"]
[null,"Parameter 19"]
[null,"Parameter 20"]
[null,"Structured Capability Target 15","Structured Target Description"]
[null,"Parameter 1"]
[null,"Parameter 2"]
[null,"Parameter 3"]
[null,"Parameter 4"]
[null,"Parameter 5"]
[null,"Parameter 6"]
[null,"Parameter 7"]
[null,"Parameter 8"]
[null,"Parameter 9"]
[null,"Parameter 10"]
[null,"Parameter 11"]
[null,"Parameter 12"]
[null,"Parameter 13"]
[null,"Parameter 14"]
[null,"Parameter 15"]
[null,"Parameter 16"]
[null,"Parameter 17"]
[null,"Parameter 18"]
[null,"Parameter 19"]
[null,"Parameter 20"]
[null,"Structured Capability Target 16","Structured Target Description"]
[null,"Parameter 1"]
[null,"Parameter 2"]
[null,"Parameter 3"]
[null,"Parameter 4"]
[null,"Parameter 5"]
[null,"Parameter 6"]
[null,"Parameter 7"]
[null,"Parameter 8"]
[null,"Parameter 9"]
[null,"Parameter 10"]
[null,"Parameter 11"]
[null,"Parameter 12"]
[null,"Parameter 13"]
[null,"Parameter 14"]
[null,"Parameter 15"]
[null,"Parameter 16"]
[null,"Parameter 17"]
[null,"Parameter 18"]
[null,"Parameter 19"]
[null,"Parameter 20"]
[null,"Structured Capability Target 17","Structured Target Description"]
[null,"Parameter 1"]
[null,"Parameter 2"]
[null,"Parameter 3"]
[null,"Parameter 4"]
[null,"Parameter 5"]
[null,"Parameter 6"]
[null,"Parameter 7"]
[null,"Parameter 8"]
[null,"Parameter 9"]
[null,"Parameter 10"]
[null,"Parameter 11"]
[null,"Parameter 12"]
[null,"Parameter 13"]
[null,"Parameter 14"]
[null,"Parameter 15"]
[null,"Parameter 16"]
[null,"Parameter 17"]
[null,"Parameter 18"]
[null,"Parameter 19"]
[null,"Parameter 20"]
[null,"Structured Capability Target 18","Structured Target Description"]
[null,"Parameter 1"]
[null,"Parameter 2"]
[null,"Parameter 3"]
[null,"Parameter 4"]
[null,"Parameter 5"]
[null,"Parameter 6"]
[null,"Parameter 7"]
[null,"Parameter 8"]
[null,"Parameter 9"]
[null,"Parameter 10"]
[null,"Parameter 11"]
[null,"Parameter 12"]
[null,"Parameter 13"]
[null,"Parameter 14"]
[null,"Parameter 15"]
[null,"Parameter 16"]
[null,"Parameter 17"]
[null,"Parameter 18"]
[null,"Parameter 19"]
[null,"Parameter 20"]
[null,"Structured Capability Target 19","Structured Target Description"]
[null,"Parameter 1"]
[null,"Parameter 2"]
[null,"Parameter 3"]
[null,"Parameter 4"]
[null,"Parameter 5"]
[null,"Parameter 6"]
[null,"Parameter 7"]
[null,"Parameter 8"]
[null,"Parameter 9"]
[null,"Parameter 10"]
[null,"Parameter 11"]
[null,"Parameter 12"]
[null,"Parameter 13"]
[null,"Parameter 14"]
[null,"Parameter 15"]
[null,"Parameter 16"]
[null,"Parameter 17"]
[null,"Parameter 18"]
[null,"Parameter 19"]
[null,"Parameter 20"]
[null,"Structured Capability Target 20","Structured Target Description"]
[null,"Parameter 1"]
[null,"Parameter 2"]
[null,"Parameter 3"]
[null,"Parameter 4"]
[null,"Parameter 5"]
[null,"Parameter 6"]
[null,"Parameter 7"]
[null,"Parameter 8"]
[null,"Parameter 9"]
[null,"Parameter 10"]
[null,"Parameter 11"]
[null,"Parameter 12"]
[null,"Parameter 13"]
[null,"Parameter 14"]
[null,"Parameter 15"]
[null,"Parameter 16"]
[null,"Parameter 17"]
[null,"Parameter 18"]
[null,"Parameter 19"]
[null,"Parameter 20"]
[null,"Forensics and Attribution"]
[{"$f":"COUNTIFS(INDIRECT(\"d1283:\" &ADDRESS(1283,3+A6)),\"<>Click here to enter desired outcomes \", INDIRECT(\"d1283:\"&ADDRESS(1283,3+A6)), \"<>\")","v":0},"Desired Outcome(s) ",null,"Click here to enter desired outcomes ","Click here to enter desired outcomes ","Click here to enter desired outcomes "]
[{"$f":"COUNTIFS(INDIRECT(\"d1284:\" &ADDRESS(1284,3+A6)),\"<>Click here to enter impacts \", INDIRECT(\"d1284:\"&ADDRESS(1284,3+A6)), \"<>\")","v":0},"Impact(s) ",null,"Click here to enter impacts ","Click here to enter impacts ","Click here to enter impacts "]
[null,"Capability Target(s)","Click here to enter capability targets"]
[null,"Structured Capability Target 1","Provide feeding and sheltering for [number of] persons within [number of] hours of an incident, and maintain services for [number of] weeks."]
[null,"Number of persons"]
[null,"Number of hours"]
[null,"Number of weeks"]
[null,"Parameter 4"]
[null,"Parameter 5"]
[null,"Parameter 6"]
[null,"Parameter 7"]
[null,"Parameter 8"]
[null,"Parameter 9"]
[null,"Parameter 10"]
[null,"Parameter 11"]
[null,"Parameter 12"]
[null,"Parameter 13"]
[null,"Parameter 14"]
[null,"Parameter 15"]
[null,"Parameter 16"]
[null,"Parameter 17"]
[null,"Parameter 18"]
[null,"Parameter 19"]
[null,"Parameter 20"]
[null,"Structured Capability Target 2 (Optional)","Provide family relocation services for [number of] persons within [number of] hours of an incident, and maintain services for [number of] weeks."]
[null,"Number of persons"]
[null,"Number of hours"]
[null,"Number of weeks"]
[null,"Number of persons"]
[null,"Number of hours"]
[null,"Number of weeks"]
[null,"Parameter 7"]
[null,"Parameter 8"]
[null,"Parameter 9"]
[null,"Parameter 10"]
[null,"Parameter 11"]
[null,"Parameter 12"]
[null,"Parameter 13"]
[null,"Parameter 14"]
[null,"Parameter 15"]
[null,"Parameter 16"]
[null,"Parameter 17"]
[null,"Parameter 18"]
[null,"Parameter 19"]
[null,"Parameter 20"]
[null,"Structured Capability Target 3","Structured Target Description"]
[null,"Parameter 1"]
[null,"Parameter 2"]
[null,"Parameter 3"]
[null,"Parameter 4"]
[null,"Parameter 5"]
[null,"Parameter 6"]
[null,"Parameter 7"]
[null,"Parameter 8"]
[null,"Parameter 9"]
[null,"Parameter 10"]
[null,"Parameter 11"]
[null,"Parameter 12"]
[null,"Parameter 13"]
[null,"Parameter 14"]
[null,"Parameter 15"]
[null,"Parameter 16"]
[null,"Parameter 17"]
[null,"Parameter 18"]
[null,"Parameter 19"]
[null,"Parameter 20"]
[null,"Structured Capability Target 4","Structured Target Description"]
[null,"Parameter 1"]
[null,"Parameter 2"]
[null,"Parameter 3"]
[null,"Parameter 4"]
[null,"Parameter 5"]
[null,"Parameter 6"]
[null,"Parameter 7"]
[null,"Parameter 8"]
[null,"Parameter 9"]
[null,"Parameter 10"]
[null,"Parameter 11"]
[null,"Parameter 12"]
[null,"Parameter 13"]
[null,"Parameter 14"]
[null,"Parameter 15"]
[null,"Parameter 16"]
[null,"Parameter 17"]
[null,"Parameter 18"]
[null,"Parameter 19"]
[null,"Parameter 20"]
[null,"Intelligence and Information Sharing"]
[{"$f":"COUNTIFS(INDIRECT(\"d1371:\" &ADDRESS(1371,3+A6)),\"<>Click here to enter desired outcomes \", INDIRECT(\"d1371:\"&ADDRESS(1371,3+A6)), \"<>\")","v":0},"Desired Outcome(s) ",null,"Click here to enter desired outcomes ","Click here to enter desired outcomes ","Click here to enter desired outcomes "]
[{"$f":"COUNTIFS(INDIRECT(\"d1372:\" &ADDRESS(1372,3+A6)),\"<>Click here to enter impacts \", INDIRECT(\"d1372:\"&ADDRESS(1372,3+A6)), \"<>\")","v":0},"Impact(s)",null,"Click here to enter impacts ","Click here to enter impacts ","Click here to enter impacts "]
[null,"Capability Target(s)","Click here to enter capability targets"]
[null,"Structured Capability Target 1","Provide feeding and sheltering for [number of] persons within [number of] hours of an incident, and maintain services for [number of] weeks."]
[null,"Number of persons"]
[null,"Number of hours"]
[null,"Number of weeks"]
[null,"Parameter 4"]
[null,"Parameter 5"]
[null,"Parameter 6"]
[null,"Parameter 7"]
[null,"Parameter 8"]
[null,"Parameter 9"]
[null,"Parameter 10"]
[null,"Parameter 11"]
[null,"Parameter 12"]
[null,"Parameter 13"]
[null,"Parameter 14"]
[null,"Parameter 15"]
[null,"Parameter 16"]
[null,"Parameter 17"]
[null,"Parameter 18"]
[null,"Parameter 19"]
[null,"Parameter 20"]
[null,"Structured Capability Target 2 (Optional)","Provide family relocation services for [number of] persons within [number of] hours of an incident, and maintain services for [number of] weeks."]
[null,"Number of persons"]
[null,"Number of hours"]
[null,"Number of weeks"]
[null,"Parameter 4"]
[null,"Parameter 5"]
[null,"Parameter 6"]
[null,"Parameter 7"]
[null,"Parameter 8"]
[null,"Parameter 9"]
[null,"Parameter 10"]
[null,"Parameter 11"]
[null,"Parameter 12"]
[null,"Parameter 13"]
[null,"Parameter 14"]
[null,"Parameter 15"]
[null,"Parameter 16"]
[null,"Parameter 17"]
[null,"Parameter 18"]
[null,"Parameter 19"]
[null,"Parameter 20"]
[null,"Structured Capability Target 3","Structured Target Description"]
[null,"Parameter 1"]
[null,"Parameter 2"]
[null,"Parameter 3"]
[null,"Parameter 4"]
[null,"Parameter 5"]
[null,"Parameter 6"]
[null,"Parameter 7"]
[null,"Parameter 8"]
[null,"Parameter 9"]
[null,"Parameter 10"]
[null,"Parameter 11"]
[null,"Parameter 12"]
[null,"Parameter 13"]
[null,"Parameter 14"]
[null,"Parameter 15"]
[null,"Parameter 16"]
[null,"Parameter 17"]
[null,"Parameter 18"]
[null,"Parameter 19"]
[null,"Parameter 20"]
[null,"Structured Capability Target 4","Structured Target Description"]
[null,"Parameter 1"]
[null,"Parameter 2"]
[null,"Parameter 3"]
[null,"Parameter 4"]
[null,"Parameter 5"]
[null,"Parameter 6"]
[null,"Parameter 7"]
[null,"Parameter 8"]
[null,"Parameter 9"]
[null,"Parameter 10"]
[null,"Parameter 11"]
[null,"Parameter 12"]
[null,"Parameter 13"]
[null,"Parameter 14"]
[null,"Parameter 15"]
[null,"Parameter 16"]
[null,"Parameter 17"]
[null,"Parameter 18"]
[null,"Parameter 19"]
[null,"Parameter 20"]
[null,"Structured Capability Target 5","Structured Target Description"]
[null,"Parameter 1"]
[null,"Parameter 2"]
[null,"Parameter 3"]
[null,"Parameter 4"]
[null,"Parameter 5"]
[null,"Parameter 6"]
[null,"Parameter 7"]
[null,"Parameter 8"]
[null,"Parameter 9"]
[null,"Parameter 10"]
[null,"Parameter 11"]
[null,"Parameter 12"]
[null,"Parameter 13"]
[null,"Parameter 14"]
[null,"Parameter 15"]
[null,"Parameter 16"]
[null,"Parameter 17"]
[null,"Parameter 18"]
[null,"Parameter 19"]
[null,"Parameter 20"]
[null,"Structured Capability Target 6","Structured Target Description"]
[null,"Parameter 1"]
[null,"Parameter 2"]
[null,"Parameter 3"]
[null,"Parameter 4"]
[null,"Parameter 5"]
[null,"Parameter 6"]
[null,"Parameter 7"]
[null,"Parameter 8"]
[null,"Parameter 9"]
[null,"Parameter 10"]
[null,"Parameter 11"]
[null,"Parameter 12"]
[null,"Parameter 13"]
[null,"Parameter 14"]
[null,"Parameter 15"]
[null,"Parameter 16"]
[null,"Parameter 17"]
[null,"Parameter 18"]
[null,"Parameter 19"]
[null,"Parameter 20"]
[null,"Structured Capability Target 7","Structured Target Description"]
[null,"Parameter 1"]
[null,"Parameter 2"]
[null,"Parameter 3"]
[null,"Parameter 4"]
[null,"Parameter 5"]
[null,"Parameter 6"]
[null,"Parameter 7"]
[null,"Parameter 8"]
[null,"Parameter 9"]
[null,"Parameter 10"]
[null,"Parameter 11"]
[null,"Parameter 12"]
[null,"Parameter 13"]
[null,"Parameter 14"]
[null,"Parameter 15"]
[null,"Parameter 16"]
[null,"Parameter 17"]
[null,"Parameter 18"]
[null,"Parameter 19"]
[null,"Parameter 20"]
[null,"Structured Capability Target 8","Structured Target Description"]
[null,"Parameter 1"]
[null,"Parameter 2"]
[null,"Parameter 3"]
[null,"Parameter 4"]
[null,"Parameter 5"]
[null,"Parameter 6"]
[null,"Parameter 7"]
[null,"Parameter 8"]
[null,"Parameter 9"]
[null,"Parameter 10"]
[null,"Parameter 11"]
[null,"Parameter 12"]
[null,"Parameter 13"]
[null,"Parameter 14"]
[null,"Parameter 15"]
[null,"Parameter 16"]
[null,"Parameter 17"]
[null,"Parameter 18"]
[null,"Parameter 19"]
[null,"Parameter 20"]
[null,"Interdiction and Disruption"]
[{"$f":"COUNTIFS(INDIRECT(\"d1543:\" &ADDRESS(1543,3+A6)),\"<>Click here to enter desired outcomes \", INDIRECT(\"d1543:\"&ADDRESS(1543,3+A6)), \"<>\")","v":0},"Desired Outcome(s) ",null,"Click here to enter desired outcomes ","Click here to enter desired outcomes ","Click here to enter desired outcomes "]
[{"$f":"COUNTIFS(INDIRECT(\"d1544:\" &ADDRESS(1544,3+A6)),\"<>Click here to enter impacts \", INDIRECT(\"d1544:\"&ADDRESS(1544,3+A6)), \"<>\")","v":0},"Impact(s) ",null,"Click here to enter impacts ","Click here to enter impacts ","Click here to enter impacts "]
[null,"Capability Target(s)","Click here to enter capability targets"]
[null,"Structured Capability Target 1","Provide feeding and sheltering for [number of] persons within [number of] hours of an incident, and maintain services for [number of] weeks."]
[null,"Number of persons"]
[null,"Number of hours"]
[null,"Number of weeks"]
[null,"Parameter 4"]
[null,"Parameter 5"]
[null,"Parameter 6"]
[null,"Parameter 7"]
[null,"Parameter 8"]
[null,"Parameter 9"]
[null,"Parameter 10"]
[null,"Parameter 11"]
[null,"Parameter 12"]
[null,"Parameter 13"]
[null,"Parameter 14"]
[null,"Parameter 15"]
[null,"Parameter 16"]
[null,"Parameter 17"]
[null,"Parameter 18"]
[null,"Parameter 19"]
[null,"Parameter 20"]
[null,"Structured Capability Target 2 (Optional)","Provide family relocation services for [number of] persons within [number of] hours of an incident, and maintain services for [number of] weeks."]
[null,"Number of persons"]
[null,"Number of hours"]
[null,"Number of weeks"]
[null,"Parameter 4"]
[null,"Parameter 5"]
[null,"Parameter 6"]
[null,"Parameter 7"]
[null,"Parameter 8"]
[null,"Parameter 9"]
[null,"Parameter 10"]
[null,"Parameter 11"]
[null,"Parameter 12"]
[null,"Parameter 13"]
[null,"Parameter 14"]
[null,"Parameter 15"]
[null,"Parameter 16"]
[null,"Parameter 17"]
[null,"Parameter 18"]
[null,"Parameter 19"]
[null,"Parameter 20"]
[null,"Structured Capability Target 3","Structured Target Description"]
[null,"Parameter 1"]
[null,"Parameter 2"]
[null,"Parameter 3"]
[null,"Parameter 4"]
[null,"Parameter 5"]
[null,"Parameter 6"]
[null,"Parameter 7"]
[null,"Parameter 8"]
[null,"Parameter 9"]
[null,"Parameter 10"]
[null,"Parameter 11"]
[null,"Parameter 12"]
[null,"Parameter 13"]
[null,"Parameter 14"]
[null,"Parameter 15"]
[null,"Parameter 16"]
[null,"Parameter 17"]
[null,"Parameter 18"]
[null,"Parameter 19"]
[null,"Parameter 20"]
[null,"Structured Capability Target 4","Structured Target Description"]
[null,"Parameter 1"]
[null,"Parameter 2"]
[null,"Parameter 3"]
[null,"Parameter 4"]
[null,"Parameter 5"]
[null,"Parameter 6"]
[null,"Parameter 7"]
[null,"Parameter 8"]
[null,"Parameter 9"]
[null,"Parameter 10"]
[null,"Parameter 11"]
[null,"Parameter 12"]
[null,"Parameter 13"]
[null,"Parameter 14"]
[null,"Parameter 15"]
[null,"Parameter 16"]
[null,"Parameter 17"]
[null,"Parameter 18"]
[null,"Parameter 19"]
[null,"Parameter 20"]
[null,"Structured Capability Target 5","Structured Target Description"]
[null,"Parameter 1"]
[null,"Parameter 2"]
[null,"Parameter 3"]
[null,"Parameter 4"]
[null,"Parameter 5"]
[null,"Parameter 6"]
[null,"Parameter 7"]
[null,"Parameter 8"]
[null,"Parameter 9"]
[null,"Parameter 10"]
[null,"Parameter 11"]
[null,"Parameter 12"]
[null,"Parameter 13"]
[null,"Parameter 14"]
[null,"Parameter 15"]
[null,"Parameter 16"]
[null,"Parameter 17"]
[null,"Parameter 18"]
[null,"Parameter 19"]
[null,"Parameter 20"]
[null,"Structured Capability Target 6","Structured Target Description"]
[null,"Parameter 1"]
[null,"Parameter 2"]
[null,"Parameter 3"]
[null,"Parameter 4"]
[null,"Parameter 5"]
[null,"Parameter 6"]
[null,"Parameter 7"]
[null,"Parameter 8"]
[null,"Parameter 9"]
[null,"Parameter 10"]
[null,"Parameter 11"]
[null,"Parameter 12"]
[null,"Parameter 13"]
[null,"Parameter 14"]
[null,"Parameter 15"]
[null,"Parameter 16"]
[null,"Parameter 17"]
[null,"Parameter 18"]
[null,"Parameter 19"]
[null,"Parameter 20"]
[null,"Structured Capability Target 7","Structured Target Description"]
[null,"Parameter 1"]
[null,"Parameter 2"]
[null,"Parameter 3"]
[null,"Parameter 4"]
[null,"Parameter 5"]
[null,"Parameter 6"]
[null,"Parameter 7"]
[null,"Parameter 8"]
[null,"Parameter 9"]
[null,"Parameter 10"]
[null,"Parameter 11"]
[null,"Parameter 12"]
[null,"Parameter 13"]
[null,"Parameter 14"]
[null,"Parameter 15"]
[null,"Parameter 16"]
[null,"Parameter 17"]
[null,"Parameter 18"]
[null,"Parameter 19"]
[null,"Parameter 20"]
[null,"Structured Capability Target 8","Structured Target Description"]
[null,"Parameter 1"]
[null,"Parameter 2"]
[null,"Parameter 3"]
[null,"Parameter 4"]
[null,"Parameter 5"]
[null,"Parameter 6"]
[null,"Parameter 7"]
[null,"Parameter 8"]
[null,"Parameter 9"]
[null,"Parameter 10"]
[null,"Parameter 11"]
[null,"Parameter 12"]
[null,"Parameter 13"]
[null,"Parameter 14"]
[null,"Parameter 15"]
[null,"Parameter 16"]
[null,"Parameter 17"]
[null,"Parameter 18"]
[null,"Parameter 19"]
[null,"Parameter 20"]
[null,"Screening, Search, and Detection"]
[{"$f":"COUNTIFS(INDIRECT(\"d1715:\" &ADDRESS(1715,3+A6)),\"<>Click here to enter desired outcomes \", INDIRECT(\"d1715:\"&ADDRESS(1715,3+A6)), \"<>\")","v":0},"Desired Outcome(s) ",null,"Click here to enter desired outcomes ","Click here to enter desired outcomes ","Click here to enter desired outcomes "]
[{"$f":"COUNTIFS(INDIRECT(\"d1716:\" &ADDRESS(1716,3+A6)),\"<>Click here to enter impacts \", INDIRECT(\"d1716:\"&ADDRESS(1716,3+A6)), \"<>\")","v":0},"Impact(s)",null,"Click here to enter impacts ","Click here to enter impacts ","Click here to enter impacts "]
[null,"Capability Target(s)","Click here to enter capability targets"]
[null,"Structured Capability Target 1","Provide feeding and sheltering for [number of] persons within [number of] hours of an incident, and maintain services for [number of] weeks."]
[null,"Number of persons"]
[null,"Number of hours"]
[null,"Number of weeks"]
[null,"Parameter 4"]
[null,"Parameter 5"]
[null,"Parameter 6"]
[null,"Parameter 7"]
[null,"Parameter 8"]
[null,"Parameter 9"]
[null,"Parameter 10"]
[null,"Parameter 11"]
[null,"Parameter 12"]
[null,"Parameter 13"]
[null,"Parameter 14"]
[null,"Parameter 15"]
[null,"Parameter 16"]
[null,"Parameter 17"]
[null,"Parameter 18"]
[null,"Parameter 19"]
[null,"Parameter 20"]
[null,"Structured Capability Target 2 (Optional)","Provide family relocation services for [number of] persons within [number of] hours of an incident, and maintain services for [number of] weeks."]
[null,"Number of persons"]
[null,"Number of hours"]
[null,"Number of weeks"]
[null,"Parameter 4"]
[null,"Parameter 5"]
[null,"Parameter 6"]
[null,"Parameter 7"]
[null,"Parameter 8"]
[null,"Parameter 9"]
[null,"Parameter 10"]
[null,"Parameter 11"]
[null,"Parameter 12"]
[null,"Parameter 13"]
[null,"Parameter 14"]
[null,"Parameter 15"]
[null,"Parameter 16"]
[null,"Parameter 17"]
[null,"Parameter 18"]
[null,"Parameter 19"]
[null,"Parameter 20"]
[null,"Structured Capability Target 3","Structured Target Description"]
[null,"Parameter 1"]
[null,"Parameter 2"]
[null,"Parameter 3"]
[null,"Parameter 4"]
[null,"Parameter 5"]
[null,"Parameter 6"]
[null,"Parameter 7"]
[null,"Parameter 8"]
[null,"Parameter 9"]
[null,"Parameter 10"]
[null,"Parameter 11"]
[null,"Parameter 12"]
[null,"Parameter 13"]
[null,"Parameter 14"]
[null,"Parameter 15"]
[null,"Parameter 16"]
[null,"Parameter 17"]
[null,"Parameter 18"]
[null,"Parameter 19"]
[null,"Parameter 20"]
[null,"Structured Capability Target 4","Structured Target Description"]
[null,"Parameter 1"]
[null,"Parameter 2"]
[null,"Parameter 3"]
[null,"Parameter 4"]
[null,"Parameter 5"]
[null,"Parameter 6"]
[null,"Parameter 7"]
[null,"Parameter 8"]
[null,"Parameter 9"]
[null,"Parameter 10"]
[null,"Parameter 11"]
[null,"Parameter 12"]
[null,"Parameter 13"]
[null,"Parameter 14"]
[null,"Parameter 15"]
[null,"Parameter 16"]
[null,"Parameter 17"]
[null,"Parameter 18"]
[null,"Parameter 19"]
[null,"Parameter 20"]
[null,"Structured Capability Target 5","Structured Target Description"]
[null,"Parameter 1"]
[null,"Parameter 2"]
[null,"Parameter 3"]
[null,"Parameter 4"]
[null,"Parameter 5"]
[null,"Parameter 6"]
[null,"Parameter 7"]
[null,"Parameter 8"]
[null,"Parameter 9"]
[null,"Parameter 10"]
[null,"Parameter 11"]
[null,"Parameter 12"]
[null,"Parameter 13"]
[null,"Parameter 14"]
[null,"Parameter 15"]
[null,"Parameter 16"]
[null,"Parameter 17"]
[null,"Parameter 18"]
[null,"Parameter 19"]
[null,"Parameter 20"]
[null,"Structured Capability Target 6","Structured Target Description"]
[null,"Parameter 1"]
[null,"Parameter 2"]
[null,"Parameter 3"]
[null,"Parameter 4"]
[null,"Parameter 5"]
[null,"Parameter 6"]
[null,"Parameter 7"]
[null,"Parameter 8"]
[null,"Parameter 9"]
[null,"Parameter 10"]
[null,"Parameter 11"]
[null,"Parameter 12"]
[null,"Parameter 13"]
[null,"Parameter 14"]
[null,"Parameter 15"]
[null,"Parameter 16"]
[null,"Parameter 17"]
[null,"Parameter 18"]
[null,"Parameter 19"]
[null,"Parameter 20"]
[null,"Structured Capability Target 7","Structured Target Description"]
[null,"Parameter 1"]
[null,"Parameter 2"]
[null,"Parameter 3"]
[null,"Parameter 4"]
[null,"Parameter 5"]
[null,"Parameter 6"]
[null,"Parameter 7"]
[null,"Parameter 8"]
[null,"Parameter 9"]
[null,"Parameter 10"]
[null,"Parameter 11"]
[null,"Parameter 12"]
[null,"Parameter 13"]
[null,"Parameter 14"]
[null,"Parameter 15"]
[null,"Parameter 16"]
[null,"Parameter 17"]
[null,"Parameter 18"]
[null,"Parameter 19"]
[null,"Parameter 20"]
[null,"Structured Capability Target 8","Structured Target Description"]
[null,"Parameter 1"]
[null,"Parameter 2"]
[null,"Parameter 3"]
[null,"Parameter 4"]
[null,"Parameter 5"]
[null,"Parameter 6"]
[null,"Parameter 7"]
[null,"Parameter 8"]
[null,"Parameter 9"]
[null,"Parameter 10"]
[null,"Parameter 11"]
[null,"Parameter 12"]
[null,"Parameter 13"]
[null,"Parameter 14"]
[null,"Parameter 15"]
[null,"Parameter 16"]
[null,"Parameter 17"]
[null,"Parameter 18"]
[null,"Parameter 19"]
[null,"Parameter 20"]
[null,"Access Control and Identity Verification"]
[{"$f":"COUNTIFS(INDIRECT(\"d1887:\" &ADDRESS(1887,3+A6)),\"<>Click here to enter desired outcomes \", INDIRECT(\"d1887:\"&ADDRESS(1887,3+A6)), \"<>\")","v":0},"Desired Outcome(s) ",null,"Click here to enter desired outcomes ","Click here to enter desired outcomes ","Click here to enter desired outcomes "]
[{"$f":"COUNTIFS(INDIRECT(\"d1888:\" &ADDRESS(1888,3+A6)),\"<>Click here to enter impacts \", INDIRECT(\"d1888:\"&ADDRESS(1888,3+A6)), \"<>\")","v":0},"Impact(s) ",null,"Click here to enter impacts ","Click here to enter impacts ","Click here to enter impacts "]
[null,"Capability Target(s)","Click here to enter capability targets"]
[null,"Structured Capability Target 1","Structured Target Description"]
[null,"Parameter 1"]
[null,"Parameter 2"]
[null,"Parameter 3"]
[null,"Parameter 4"]
[null,"Parameter 5"]
[null,"Parameter 6"]
[null,"Parameter 7"]
[null,"Parameter 8"]
[null,"Parameter 9"]
[null,"Parameter 10"]
[null,"Parameter 11"]
[null,"Parameter 12"]
[null,"Parameter 13"]
[null,"Parameter 14"]
[null,"Parameter 15"]
[null,"Parameter 16"]
[null,"Parameter 17"]
[null,"Parameter 18"]
[null,"Parameter 19"]
[null,"Parameter 20"]
[null,"Structured Capability Target 2","Structured Target Description"]
[null,"Parameter 1"]
[null,"Parameter 2"]
[null,"Parameter 3"]
[null,"Parameter 4"]
[null,"Parameter 5"]
[null,"Parameter 6"]
[null,"Parameter 7"]
[null,"Parameter 8"]
[null,"Parameter 9"]
[null,"Parameter 10"]
[null,"Parameter 11"]
[null,"Parameter 12"]
[null,"Parameter 13"]
[null,"Parameter 14"]
[null,"Parameter 15"]
[null,"Parameter 16"]
[null,"Parameter 17"]
[null,"Parameter 18"]
[null,"Parameter 19"]
[null,"Parameter 20"]
[null,"Structured Capability Target 3","Structured Target Description"]
[null,"Parameter 1"]
[null,"Parameter 2"]
[null,"Parameter 3"]
[null,"Parameter 4"]
[null,"Parameter 5"]
[null,"Parameter 6"]
[null,"Parameter 7"]
[null,"Parameter 8"]
[null,"Parameter 9"]
[null,"Parameter 10"]
[null,"Parameter 11"]
[null,"Parameter 12"]
[null,"Parameter 13"]
[null,"Parameter 14"]
[null,"Parameter 15"]
[null,"Parameter 16"]
[null,"Parameter 17"]
[null,"Parameter 18"]
[null,"Parameter 19"]
[null,"Parameter 20"]
[null,"Structured Capability Target 4","Structured Target Description"]
[null,"Parameter 1"]
[null,"Parameter 2"]
[null,"Parameter 3"]
[null,"Parameter 4"]
[null,"Parameter 5"]
[null,"Parameter 6"]
[null,"Parameter 7"]
[null,"Parameter 8"]
[null,"Parameter 9"]
[null,"Parameter 10"]
[null,"Parameter 11"]
[null,"Parameter 12"]
[null,"Parameter 13"]
[null,"Parameter 14"]
[null,"Parameter 15"]
[null,"Parameter 16"]
[null,"Parameter 17"]
[null,"Parameter 18"]
[null,"Parameter 19"]
[null,"Parameter 20"]
[null,"Cybersecurity"]
[{"$f":"COUNTIFS(INDIRECT(\"d1975:\" &ADDRESS(1975,3+A6)),\"<>Click here to enter desired outcomes \", INDIRECT(\"d1975:\"&ADDRESS(1975,3+A6)), \"<>\")","v":0},"Desired Outcome(s) ",null,"Click here to enter desired outcomes ","Click here to enter desired outcomes ","Click here to enter desired outcomes "]
[{"$f":"COUNTIFS(INDIRECT(\"d1976:\" &ADDRESS(1976,3+A6)),\"<>Click here to enter impacts \", INDIRECT(\"d1976:\"&ADDRESS(1976,3+A6)), \"<>\")","v":0},"Impact(s)",null,"Click here to enter impacts ","Click here to enter impacts ","Click here to enter impacts "]
[null,"Capability Target(s)","Click here to enter capability targets"]
[null,"Structured Capability Target 1","Structured Target Description"]
[null,"Parameter 1"]
[null,"Parameter 2"]
[null,"Parameter 3"]
[null,"Parameter 4"]
[null,"Parameter 5"]
[null,"Parameter 6"]
[null,"Parameter 7"]
[null,"Parameter 8"]
[null,"Parameter 9"]
[null,"Parameter 10"]
[null,"Parameter 11"]
[null,"Parameter 12"]
[null,"Parameter 13"]
[null,"Parameter 14"]
[null,"Parameter 15"]
[null,"Parameter 16"]
[null,"Parameter 17"]
[null,"Parameter 18"]
[null,"Parameter 19"]
[null,"Parameter 20"]
[null,"Structured Capability Target 2 ","Structured Target Description"]
[null,"Parameter 1"]
[null,"Parameter 2"]
[null,"Parameter 3"]
[null,"Parameter 4"]
[null,"Parameter 5"]
[null,"Parameter 6"]
[null,"Parameter 7"]
[null,"Parameter 8"]
[null,"Parameter 9"]
[null,"Parameter 10"]
[null,"Parameter 11"]
[null,"Parameter 12"]
[null,"Parameter 13"]
[null,"Parameter 14"]
[null,"Parameter 15"]
[null,"Parameter 16"]
[null,"Parameter 17"]
[null,"Parameter 18"]
[null,"Parameter 19"]
[null,"Parameter 20"]
[null,"Structured Capability Target 3","Structured Target Description"]
[null,"Parameter 1"]
[null,"Parameter 2"]
[null,"Parameter 3"]
[null,"Parameter 4"]
[null,"Parameter 5"]
[null,"Parameter 6"]
[null,"Parameter 7"]
[null,"Parameter 8"]
[null,"Parameter 9"]
[null,"Parameter 10"]
[null,"Parameter 11"]
[null,"Parameter 12"]
[null,"Parameter 13"]
[null,"Parameter 14"]
[null,"Parameter 15"]
[null,"Parameter 16"]
[null,"Parameter 17"]
[null,"Parameter 18"]
[null,"Parameter 19"]
[null,"Parameter 20"]
[null,"Structured Capability Target 4","Structured Target Description"]
[null,"Parameter 1"]
[null,"Parameter 2"]
[null,"Parameter 3"]
[null,"Parameter 4"]
[null,"Parameter 5"]
[null,"Parameter 6"]
[null,"Parameter 7"]
[null,"Parameter 8"]
[null,"Parameter 9"]
[null,"Parameter 10"]
[null,"Parameter 11"]
[null,"Parameter 12"]
[null,"Parameter 13"]
[null,"Parameter 14"]
[null,"Parameter 15"]
[null,"Parameter 16"]
[null,"Parameter 17"]
[null,"Parameter 18"]
[null,"Parameter 19"]
[null,"Parameter 20"]
[null,"Physical Protective Measures"]
[{"$f":"COUNTIFS(INDIRECT(\"d2063:\" &ADDRESS(2063,3+A6)),\"<>Click here to enter desired outcomes \",INDIRECT(\"d2063:\"&ADDRESS(2063,3+A6)), \"<>\")","v":0},"Desired Outcome(s) ",null,"Click here to enter desired outcomes ","Click here to enter desired outcomes ","Click here to enter desired outcomes "]
[{"$f":"COUNTIFS(INDIRECT(\"d2064:\" &ADDRESS(2064,3+A6)),\"<>Click here to enter impacts \", INDIRECT(\"d2064:\"&ADDRESS(2064,3+A6)), \"<>\")","v":0},"Impact(s) ",null,"Click here to enter impacts ","Click here to enter impacts ","Click here to enter impacts "]
[null,"Capability Target(s)","Click here to enter capability targets"]
[null,"Structured Capability Target 1","Provide feeding and sheltering for [number of] persons within [number of] hours of an incident, and maintain services for [number of] weeks."]
[null,"Number of persons"]
[null,"Number of hours"]
[null,"Number of weeks"]
[null,"Parameter 4"]
[null,"Parameter 5"]
[null,"Parameter 6"]
[null,"Parameter 7"]
[null,"Parameter 8"]
[null,"Parameter 9"]
[null,"Parameter 10"]
[null,"Parameter 11"]
[null,"Parameter 12"]
[null,"Parameter 13"]
[null,"Parameter 14"]
[null,"Parameter 15"]
[null,"Parameter 16"]
[null,"Parameter 17"]
[null,"Parameter 18"]
[null,"Parameter 19"]
[null,"Parameter 20"]
[null,"Structured Capability Target 2 (Optional)","Provide family relocation services for [number of] persons within [number of] hours of an incident, and maintain services for [number of] weeks."]
[null,"Number of persons"]
[null,"Number of hours"]
[null,"Number of weeks"]
[null,"Parameter 4"]
[null,"Parameter 5"]
[null,"Parameter 6"]
[null,"Parameter 7"]
[null,"Parameter 8"]
[null,"Parameter 9"]
[null,"Parameter 10"]
[null,"Parameter 11"]
[null,"Parameter 12"]
[null,"Parameter 13"]
[null,"Parameter 14"]
[null,"Parameter 15"]
[null,"Parameter 16"]
[null,"Parameter 17"]
[null,"Parameter 18"]
[null,"Parameter 19"]
[null,"Parameter 20"]
[null,"Structured Capability Target 3","Structured Target Description"]
[null,"Number of persons"]
[null,"Number of hours"]
[null,"Number of weeks"]
[null,"Parameter 4"]
[null,"Parameter 5"]
[null,"Parameter 6"]
[null,"Parameter 7"]
[null,"Parameter 8"]
[null,"Parameter 9"]
[null,"Parameter 10"]
[null,"Parameter 11"]
[null,"Parameter 12"]
[null,"Parameter 13"]
[null,"Parameter 14"]
[null,"Parameter 15"]
[null,"Parameter 16"]
[null,"Parameter 17"]
[null,"Parameter 18"]
[null,"Parameter 19"]
[null,"Parameter 20"]
[null,"Structured Capability Target 4","Structured Target Description"]
[null,"Number of persons"]
[null,"Number of hours"]
[null,"Number of weeks"]
[null,"Parameter 4"]
[null,"Parameter 5"]
[null,"Parameter 6"]
[null,"Parameter 7"]
[null,"Parameter 8"]
[null,"Parameter 9"]
[null,"Parameter 10"]
[null,"Parameter 11"]
[null,"Parameter 12"]
[null,"Parameter 13"]
[null,"Parameter 14"]
[null,"Parameter 15"]
[null,"Parameter 16"]
[null,"Parameter 17"]
[null,"Parameter 18"]
[null,"Parameter 19"]
[null,"Parameter 20"]
[null,"Risk Management for Protection Programs and Activities"]
[{"$f":"COUNTIFS(INDIRECT(\"d2151:\" &ADDRESS(2151,3+A6)),\"<>Click here to enter desired outcomes \", INDIRECT(\"d2151:\"&ADDRESS(2151,3+A6)), \"<>\")","v":0},"Desired Outcome(s) ",null,"Click here to enter desired outcomes ","Click here to enter desired outcomes ","Click here to enter desired outcomes "]
[{"$f":"COUNTIFS(INDIRECT(\"d2152:\" &ADDRESS(2152,3+A6)),\"<>Click here to enter impacts \", INDIRECT(\"d2152:\"&ADDRESS(2152,3+A6)), \"<>\")","v":0},"Impact(s)",null,"Click here to enter impacts ","Click here to enter impacts ","Click here to enter impacts "]
[null,"Capability Target(s)","Click here to enter capability targets"]
[null,"Structured Capability Target 1","Provide feeding and sheltering for [number of] persons within [number of] hours of an incident, and maintain services for [number of] weeks."]
[null,"Number of persons"]
[null,"Number of hours"]
[null,"Number of weeks"]
[null,"Parameter 4"]
[null,"Parameter 5"]
[null,"Parameter 6"]
[null,"Parameter 7"]
[null,"Parameter 8"]
[null,"Parameter 9"]
[null,"Parameter 10"]
[null,"Parameter 11"]
[null,"Parameter 12"]
[null,"Parameter 13"]
[null,"Parameter 14"]
[null,"Parameter 15"]
[null,"Parameter 16"]
[null,"Parameter 17"]
[null,"Parameter 18"]
[null,"Parameter 19"]
[null,"Parameter 20"]
[null,"Structured Capability Target 2","Provide family relocation services for [number of] persons within [number of] hours of an incident, and maintain services for [number of] weeks."]
[null,"Number of persons"]
[null,"Number of hours"]
[null,"Number of weeks"]
[null,"Parameter 4"]
[null,"Parameter 5"]
[null,"Parameter 6"]
[null,"Parameter 7"]
[null,"Parameter 8"]
[null,"Parameter 9"]
[null,"Parameter 10"]
[null,"Parameter 11"]
[null,"Parameter 12"]
[null,"Parameter 13"]
[null,"Parameter 14"]
[null,"Parameter 15"]
[null,"Parameter 16"]
[null,"Parameter 17"]
[null,"Parameter 18"]
[null,"Parameter 19"]
[null,"Parameter 20"]
[null,"Structured Capability Target 3","Structured Target Description"]
[null,"Number of persons"]
[null,"Number of hours"]
[null,"Number of weeks"]
[null,"Parameter 4"]
[null,"Parameter 5"]
[null,"Parameter 6"]
[null,"Parameter 7"]
[null,"Parameter 8"]
[null,"Parameter 9"]
[null,"Parameter 10"]
[null,"Parameter 11"]
[null,"Parameter 12"]
[null,"Parameter 13"]
[null,"Parameter 14"]
[null,"Parameter 15"]
[null,"Parameter 16"]
[null,"Parameter 17"]
[null,"Parameter 18"]
[null,"Parameter 19"]
[null,"Parameter 20"]
[null,"Structured Capability Target 4","Structured Target Description"]
[null,"Number of persons"]
[null,"Number of hours"]
[null,"Number of weeks"]
[null,"Parameter 4"]
[null,"Parameter 5"]
[null,"Parameter 6"]
[null,"Parameter 7"]
[null,"Parameter 8"]
[null,"Parameter 9"]
[null,"Parameter 10"]
[null,"Parameter 11"]
[null,"Parameter 12"]
[null,"Parameter 13"]
[null,"Parameter 14"]
[null,"Parameter 15"]
[null,"Parameter 16"]
[null,"Parameter 17"]
[null,"Parameter 18"]
[null,"Parameter 19"]
[null,"Parameter 20"]
[null,"Supply Chain Integrity and Security"]
[{"$f":"COUNTIFS(INDIRECT(\"d2239:\" &ADDRESS(2239,3+A6)),\"<>Click here to enter desired outcomes \", INDIRECT(\"d2239:\"&ADDRESS(2239,3+A6)), \"<>\")","v":0},"Desired Outcome(s) ",null,"Click here to enter desired outcomes ","Click here to enter desired outcomes ","Click here to enter desired outcomes "]
[{"$f":"COUNTIFS(INDIRECT(\"d2240:\" &ADDRESS(2240,3+A6)),\"<>Click here to enter impacts \", INDIRECT(\"d2240:\"&ADDRESS(2240,3+A6)), \"<>\")","v":0},"Impact(s) ",null,"Click here to enter impacts ","Click here to enter impacts ","Click here to enter impacts "]
[null,"Capability Target(s)","Click here to enter capability targets"]
[null,"Structured Capability Target 1","Provide feeding and sheltering for [number of] persons within [number of] hours of an incident, and maintain services for [number of] weeks."]
[null,"Number of persons"]
[null,"Number of hours"]
[null,"Number of weeks"]
[null,"Parameter 4"]
[null,"Parameter 5"]
[null,"Parameter 6"]
[null,"Parameter 7"]
[null,"Parameter 8"]
[null,"Parameter 9"]
[null,"Parameter 10"]
[null,"Parameter 11"]
[null,"Parameter 12"]
[null,"Parameter 13"]
[null,"Parameter 14"]
[null,"Parameter 15"]
[null,"Parameter 16"]
[null,"Parameter 17"]
[null,"Parameter 18"]
[null,"Parameter 19"]
[null,"Parameter 20"]
[null,"Structured Capability Target 2 (Optional)","Provide family relocation services for [number of] persons within [number of] hours of an incident, and maintain services for [number of] weeks."]
[null,"Number of persons"]
[null,"Number of hours"]
[null,"Number of weeks"]
[null,"Parameter 4"]
[null,"Parameter 5"]
[null,"Parameter 6"]
[null,"Parameter 7"]
[null,"Parameter 8"]
[null,"Parameter 9"]
[null,"Parameter 10"]
[null,"Parameter 11"]
[null,"Parameter 12"]
[null,"Parameter 13"]
[null,"Parameter 14"]
[null,"Parameter 15"]
[null,"Parameter 16"]
[null,"Parameter 17"]
[null,"Parameter 18"]
[null,"Parameter 19"]
[null,"Parameter 20"]
[null,"Structured Capability Target 3","Structured Target Description"]
[null,"Number of persons"]
[null,"Number of hours"]
[null,"Number of weeks"]
[null,"Parameter 4"]
[null,"Parameter 5"]
[null,"Parameter 6"]
[null,"Parameter 7"]
[null,"Parameter 8"]
[null,"Parameter 9"]
[null,"Parameter 10"]
[null,"Parameter 11"]
[null,"Parameter 12"]
[null,"Parameter 13"]
[null,"Parameter 14"]
[null,"Parameter 15"]
[null,"Parameter 16"]
[null,"Parameter 17"]
[null,"Parameter 18"]
[null,"Parameter 19"]
[null,"Parameter 20"]
[null,"Structured Capability Target 4","Structured Target Description"]
[null,"Number of persons"]
[null,"Number of hours"]
[null,"Number of weeks"]
[null,"Parameter 4"]
[null,"Parameter 5"]
[null,"Parameter 6"]
[null,"Parameter 7"]
[null,"Parameter 8"]
[null,"Parameter 9"]
[null,"Parameter 10"]
[null,"Parameter 11"]
[null,"Parameter 12"]
[null,"Parameter 13"]
[null,"Parameter 14"]
[null,"Parameter 15"]
[null,"Parameter 16"]
[null,"Parameter 17"]
[null,"Parameter 18"]
[null,"Parameter 19"]
[null,"Parameter 20"]
[null,"Community Resilience"]
[{"$f":"COUNTIFS(INDIRECT(\"d2327:\" &ADDRESS(2327,3+A6)),\"<>Click here to enter desired outcomes \", INDIRECT(\"d2327:\"&ADDRESS(2327,3+A6)), \"<>\")","v":0},"Desired Outcome(s) ",null,"Click here to enter desired outcomes ","Click here to enter desired outcomes ","Click here to enter desired outcomes "]
[{"$f":"COUNTIFS(INDIRECT(\"d2328:\" &ADDRESS(2328,3+A6)),\"<>Click here to enter impacts \", INDIRECT(\"d2328:\"&ADDRESS(2328,3+A6)), \"<>\")","v":0},"Impact(s)",null,"Click here to enter impacts ","Click here to enter impacts ","Click here to enter impacts "]
[null,"Capability Target(s)","Click here to enter capability targets"]
[null,"Structured Capability Target 1","Provide feeding and sheltering for [number of] persons within [number of] hours of an incident, and maintain services for [number of] weeks."]
[null,"Number of persons"]
[null,"Number of hours"]
[null,"Number of weeks"]
[null,"Parameter 4"]
[null,"Parameter 5"]
[null,"Parameter 6"]
[null,"Parameter 7"]
[null,"Parameter 8"]
[null,"Parameter 9"]
[null,"Parameter 10"]
[null,"Parameter 11"]
[null,"Parameter 12"]
[null,"Parameter 13"]
[null,"Parameter 14"]
[null,"Parameter 15"]
[null,"Parameter 16"]
[null,"Parameter 17"]
[null,"Parameter 18"]
[null,"Parameter 19"]
[null,"Parameter 20"]
[null,"Structured Capability Target 2","Provide family relocation services for [number of] persons within [number of] hours of an incident, and maintain services for [number of] weeks."]
[null,"Number of persons"]
[null,"Number of hours"]
[null,"Number of weeks"]
[null,"Parameter 4"]
[null,"Parameter 5"]
[null,"Parameter 6"]
[null,"Parameter 7"]
[null,"Parameter 8"]
[null,"Parameter 9"]
[null,"Parameter 10"]
[null,"Parameter 11"]
[null,"Parameter 12"]
[null,"Parameter 13"]
[null,"Parameter 14"]
[null,"Parameter 15"]
[null,"Parameter 16"]
[null,"Parameter 17"]
[null,"Parameter 18"]
[null,"Parameter 19"]
[null,"Parameter 20"]
[null,"Structured Capability Target 3","Structured Target Description"]
[null,"Number of persons"]
[null,"Number of hours"]
[null,"Number of weeks"]
[null,"Parameter 4"]
[null,"Parameter 5"]
[null,"Parameter 6"]
[null,"Parameter 7"]
[null,"Parameter 8"]
[null,"Parameter 9"]
[null,"Parameter 10"]
[null,"Parameter 11"]
[null,"Parameter 12"]
[null,"Parameter 13"]
[null,"Parameter 14"]
[null,"Parameter 15"]
[null,"Parameter 16"]
[null,"Parameter 17"]
[null,"Parameter 18"]
[null,"Parameter 19"]
[null,"Parameter 20"]
[null,"Structured Capability Target 4","Structured Target Description"]
[null,"Number of persons"]
[null,"Number of hours"]
[null,"Number of weeks"]
[null,"Parameter 4"]
[null,"Parameter 5"]
[null,"Parameter 6"]
[null,"Parameter 7"]
[null,"Parameter 8"]
[null,"Parameter 9"]
[null,"Parameter 10"]
[null,"Parameter 11"]
[null,"Parameter 12"]
[null,"Parameter 13"]
[null,"Parameter 14"]
[null,"Parameter 15"]
[null,"Parameter 16"]
[null,"Parameter 17"]
[null,"Parameter 18"]
[null,"Parameter 19"]
[null,"Parameter 20"]
[null,"Long-term Vulnerability Reduction"]
[{"$f":"COUNTIFS(INDIRECT(\"d2415:\" &ADDRESS(2415,3+A6)),\"<>Click here to enter desired outcomes \", INDIRECT(\"d2415:\"&ADDRESS(2415,3+A6)), \"<>\")","v":0},"Desired Outcome(s) ",null,"Click here to enter desired outcomes ","Click here to enter desired outcomes ","Click here to enter desired outcomes "]
[{"$f":"COUNTIFS(INDIRECT(\"d2416:\" &ADDRESS(2416,3+A6)),\"<>Click here to enter impacts \", INDIRECT(\"d2416:\"&ADDRESS(2416,3+A6)), \"<>\")","v":0},"Impact(s) ",null,"Click here to enter impacts ","Click here to enter impacts ","Click here to enter impacts "]
[null,"Capability Target(s)","Click here to enter capability targets"]
[null,"Structured Capability Target 1","Provide feeding and sheltering for [number of] persons within [number of] hours of an incident, and maintain services for [number of] weeks."]
[null,"Number of persons"]
[null,"Number of hours"]
[null,"Number of weeks"]
[null,"Parameter 4"]
[null,"Parameter 5"]
[null,"Parameter 6"]
[null,"Parameter 7"]
[null,"Parameter 8"]
[null,"Parameter 9"]
[null,"Parameter 10"]
[null,"Parameter 11"]
[null,"Parameter 12"]
[null,"Parameter 13"]
[null,"Parameter 14"]
[null,"Parameter 15"]
[null,"Parameter 16"]
[null,"Parameter 17"]
[null,"Parameter 18"]
[null,"Parameter 19"]
[null,"Parameter 20"]
[null,"Structured Capability Target 2 (Optional)","Provide family relocation services for [number of] persons within [number of] hours of an incident, and maintain services for [number of] weeks."]
[null,"Number of persons"]
[null,"Number of hours"]
[null,"Number of weeks"]
[null,"Parameter 4"]
[null,"Parameter 5"]
[null,"Parameter 6"]
[null,"Parameter 7"]
[null,"Parameter 8"]
[null,"Parameter 9"]
[null,"Parameter 10"]
[null,"Parameter 11"]
[null,"Parameter 12"]
[null,"Parameter 13"]
[null,"Parameter 14"]
[null,"Parameter 15"]
[null,"Parameter 16"]
[null,"Parameter 17"]
[null,"Parameter 18"]
[null,"Parameter 19"]
[null,"Parameter 20"]
[null,"Structured Capability Target 3","Structured Target Description"]
[null,"Number of persons"]
[null,"Number of hours"]
[null,"Number of weeks"]
[null,"Parameter 4"]
[null,"Parameter 5"]
[null,"Parameter 6"]
[null,"Parameter 7"]
[null,"Parameter 8"]
[null,"Parameter 9"]
[null,"Parameter 10"]
[null,"Parameter 11"]
[null,"Parameter 12"]
[null,"Parameter 13"]
[null,"Parameter 14"]
[null,"Parameter 15"]
[null,"Parameter 16"]
[null,"Parameter 17"]
[null,"Parameter 18"]
[null,"Parameter 19"]
[null,"Parameter 20"]
[null,"Structured Capability Target 4","Structured Target Description"]
[null,"Number of persons"]
[null,"Number of hours"]
[null,"Number of weeks"]
[null,"Parameter 4"]
[null,"Parameter 5"]
[null,"Parameter 6"]
[null,"Parameter 7"]
[null,"Parameter 8"]
[null,"Parameter 9"]
[null,"Parameter 10"]
[null,"Parameter 11"]
[null,"Parameter 12"]
[null,"Parameter 13"]
[null,"Parameter 14"]
[null,"Parameter 15"]
[null,"Parameter 16"]
[null,"Parameter 17"]
[null,"Parameter 18"]
[null,"Parameter 19"]
[null,"Parameter 20"]
[null,"Risk and Disaster Resilience Assessment"]
[{"$f":"COUNTIFS(INDIRECT(\"d2503:\" &ADDRESS(2503,3+A6)),\"<>Click here to enter desired outcomes \", INDIRECT(\"d2503:\"&ADDRESS(2503,3+A6)), \"<>\")","v":0},"Desired Outcome(s) ",null,"Click here to enter desired outcomes ","Click here to enter desired outcomes ","Click here to enter desired outcomes "]
[{"$f":"COUNTIFS(INDIRECT(\"d2504:\" &ADDRESS(2504,3+A6)),\"<>Click here to enter impacts \", INDIRECT(\"d2504:\"&ADDRESS(2504,3+A6)), \"<>\")","v":0},"Impact(s)",null,"Click here to enter impacts ","Click here to enter impacts ","Click here to enter impacts "]
[null,"Capability Target(s)","Click here to enter capability targets"]
[null,"Structured Capability Target 1","Provide feeding and sheltering for [number of] persons within [number of] hours of an incident, and maintain services for [number of] weeks."]
[null,"Number of persons"]
[null,"Number of hours"]
[null,"Number of weeks"]
[null,"Parameter 4"]
[null,"Parameter 5"]
[null,"Parameter 6"]
[null,"Parameter 7"]
[null,"Parameter 8"]
[null,"Parameter 9"]
[null,"Parameter 10"]
[null,"Parameter 11"]
[null,"Parameter 12"]
[null,"Parameter 13"]
[null,"Parameter 14"]
[null,"Parameter 15"]
[null,"Parameter 16"]
[null,"Parameter 17"]
[null,"Parameter 18"]
[null,"Parameter 19"]
[null,"Parameter 20"]
[null,"Structured Capability Target 2","Provide family relocation services for [number of] persons within [number of] hours of an incident, and maintain services for [number of] weeks."]
[null,"Number of persons"]
[null,"Number of hours"]
[null,"Number of weeks"]
[null,"Parameter 4"]
[null,"Parameter 5"]
[null,"Parameter 6"]
[null,"Parameter 7"]
[null,"Parameter 8"]
[null,"Parameter 9"]
[null,"Parameter 10"]
[null,"Parameter 11"]
[null,"Parameter 12"]
[null,"Parameter 13"]
[null,"Parameter 14"]
[null,"Parameter 15"]
[null,"Parameter 16"]
[null,"Parameter 17"]
[null,"Parameter 18"]
[null,"Parameter 19"]
[null,"Parameter 20"]
[null,"Structured Capability Target 3","Structured Target Description"]
[null,"Number of persons"]
[null,"Number of hours"]
[null,"Number of weeks"]
[null,"Parameter 4"]
[null,"Parameter 5"]
[null,"Parameter 6"]
[null,"Parameter 7"]
[null,"Parameter 8"]
[null,"Parameter 9"]
[null,"Parameter 10"]
[null,"Parameter 11"]
[null,"Parameter 12"]
[null,"Parameter 13"]
[null,"Parameter 14"]
[null,"Parameter 15"]
[null,"Parameter 16"]
[null,"Parameter 17"]
[null,"Parameter 18"]
[null,"Parameter 19"]
[null,"Parameter 20"]
[null,"Structured Capability Target 4","Structured Target Description"]
[null,"Number of persons"]
[null,"Number of hours"]
[null,"Number of weeks"]
[null,"Parameter 4"]
[null,"Parameter 5"]
[null,"Parameter 6"]
[null,"Parameter 7"]
[null,"Parameter 8"]
[null,"Parameter 9"]
[null,"Parameter 10"]
[null,"Parameter 11"]
[null,"Parameter 12"]
[null,"Parameter 13"]
[null,"Parameter 14"]
[null,"Parameter 15"]
[null,"Parameter 16"]
[null,"Parameter 17"]
[null,"Parameter 18"]
[null,"Parameter 19"]
[null,"Parameter 20"]
[null,"Threats and Hazard Identification"]
[{"$f":"COUNTIFS(INDIRECT(\"d2591:\" &ADDRESS(2591,3+A6)),\"<>Click here to enter desired outcomes \", INDIRECT(\"d2591:\"&ADDRESS(2591,3+A6)), \"<>\")","v":0},"Desired Outcome(s) ",null,"Click here to enter desired outcomes ","Click here to enter desired outcomes ","Click here to enter desired outcomes "]
[{"$f":"COUNTIFS(INDIRECT(\"d2592:\" &ADDRESS(2592,3+A6)),\"<>Click here to enter impacts \", INDIRECT(\"d2592:\"&ADDRESS(2592,3+A6)), \"<>\")","v":0},"Impact(s) ",null,"Click here to enter impacts ","Click here to enter impacts ","Click here to enter impacts "]
[null,"Capability Target(s)","Click here to enter capability targets"]
[null,"Structured Capability Target 1","Provide feeding and sheltering for [number of] persons within [number of] hours of an incident, and maintain services for [number of] weeks."]
[null,"Number of persons"]
[null,"Number of hours"]
[null,"Number of weeks"]
[null,"Parameter 4"]
[null,"Parameter 5"]
[null,"Parameter 6"]
[null,"Parameter 7"]
[null,"Parameter 8"]
[null,"Parameter 9"]
[null,"Parameter 10"]
[null,"Parameter 11"]
[null,"Parameter 12"]
[null,"Parameter 13"]
[null,"Parameter 14"]
[null,"Parameter 15"]
[null,"Parameter 16"]
[null,"Parameter 17"]
[null,"Parameter 18"]
[null,"Parameter 19"]
[null,"Parameter 20"]
[null,"Structured Capability Target 2 (Optional)","Provide family relocation services for [number of] persons within [number of] hours of an incident, and maintain services for [number of] weeks."]
[null,"Number of persons"]
[null,"Number of hours"]
[null,"Number of weeks"]
[null,"Parameter 4"]
[null,"Parameter 5"]
[null,"Parameter 6"]
[null,"Parameter 7"]
[null,"Parameter 8"]
[null,"Parameter 9"]
[null,"Parameter 10"]
[null,"Parameter 11"]
[null,"Parameter 12"]
[null,"Parameter 13"]
[null,"Parameter 14"]
[null,"Parameter 15"]
[null,"Parameter 16"]
[null,"Parameter 17"]
[null,"Parameter 18"]
[null,"Parameter 19"]
[null,"Parameter 20"]
[null,"Structured Capability Target 3","Structured Target Description"]
[null,"Number of persons"]
[null,"Number of hours"]
[null,"Number of weeks"]
[null,"Parameter 4"]
[null,"Parameter 5"]
[null,"Parameter 6"]
[null,"Parameter 7"]
[null,"Parameter 8"]
[null,"Parameter 9"]
[null,"Parameter 10"]
[null,"Parameter 11"]
[null,"Parameter 12"]
[null,"Parameter 13"]
[null,"Parameter 14"]
[null,"Parameter 15"]
[null,"Parameter 16"]
[null,"Parameter 17"]
[null,"Parameter 18"]
[null,"Parameter 19"]
[null,"Parameter 20"]
[null,"Structured Capability Target 4","Structured Target Description"]
[null,"Number of persons"]
[null,"Number of hours"]
[null,"Number of weeks"]
[null,"Parameter 4"]
[null,"Parameter 5"]
[null,"Parameter 6"]
[null,"Parameter 7"]
[null,"Parameter 8"]
[null,"Parameter 9"]
[null,"Parameter 10"]
[null,"Parameter 11"]
[null,"Parameter 12"]
[null,"Parameter 13"]
[null,"Parameter 14"]
[null,"Parameter 15"]
[null,"Parameter 16"]
[null,"Parameter 17"]
[null,"Parameter 18"]
[null,"Parameter 19"]
[null,"Parameter 20"]
[null,"Critical Transportation"]
[{"$f":"COUNTIFS(INDIRECT(\"d2679:\" &ADDRESS(2679,3+A6)),\"<>Click here to enter desired outcomes \", INDIRECT(\"d2679:\"&ADDRESS(2679,3+A6)), \"<>\")","v":0},"Desired Outcome(s) ",null,"Click here to enter desired outcomes ","Click here to enter desired outcomes ","Click here to enter desired outcomes "]
[{"$f":"COUNTIFS(INDIRECT(\"d2680:\" &ADDRESS(2680,3+A6)),\"<>Click here to enter impacts \", INDIRECT(\"d2680:\"&ADDRESS(2680,3+A6)), \"<>\")","v":0},"Impact(s)",null,"Click here to enter impacts ","Click here to enter impacts ","Click here to enter impacts "]
[null,"Capability Target(s)","Click here to enter capability targets"]
[null,"Structured Capability Target 1","Provide feeding and sheltering for [number of] persons within [number of] hours of an incident, and maintain services for [number of] weeks."]
[null,"Number of persons"]
[null,"Number of hours"]
[null,"Number of weeks"]
[null,"Parameter 4"]
[null,"Parameter 5"]
[null,"Parameter 6"]
[null,"Parameter 7"]
[null,"Parameter 8"]
[null,"Parameter 9"]
[null,"Parameter 10"]
[null,"Parameter 11"]
[null,"Parameter 12"]
[null,"Parameter 13"]
[null,"Parameter 14"]
[null,"Parameter 15"]
[null,"Parameter 16"]
[null,"Parameter 17"]
[null,"Parameter 18"]
[null,"Parameter 19"]
[null,"Parameter 20"]
[null,"Structured Capability Target 2","Provide family relocation services for [number of] persons within [number of] hours of an incident, and maintain services for [number of] weeks."]
[null,"Number of persons"]
[null,"Number of hours"]
[null,"Number of weeks"]
[null,"Parameter 4"]
[null,"Parameter 5"]
[null,"Parameter 6"]
[null,"Parameter 7"]
[null,"Parameter 8"]
[null,"Parameter 9"]
[null,"Parameter 10"]
[null,"Parameter 11"]
[null,"Parameter 12"]
[null,"Parameter 13"]
[null,"Parameter 14"]
[null,"Parameter 15"]
[null,"Parameter 16"]
[null,"Parameter 17"]
[null,"Parameter 18"]
[null,"Parameter 19"]
[null,"Parameter 20"]
[null,"Structured Capability Target 3","Structured Target Description"]
[null,"Number of persons"]
[null,"Number of hours"]
[null,"Number of weeks"]
[null,"Parameter 4"]
[null,"Parameter 5"]
[null,"Parameter 6"]
[null,"Parameter 7"]
[null,"Parameter 8"]
[null,"Parameter 9"]
[null,"Parameter 10"]
[null,"Parameter 11"]
[null,"Parameter 12"]
[null,"Parameter 13"]
[null,"Parameter 14"]
[null,"Parameter 15"]
[null,"Parameter 16"]
[null,"Parameter 17"]
[null,"Parameter 18"]
[null,"Parameter 19"]
[null,"Parameter 20"]
[null,"Structured Capability Target 4","Structured Target Description"]
[null,"Number of persons"]
[null,"Number of hours"]
[null,"Number of weeks"]
[null,"Parameter 4"]
[null,"Parameter 5"]
[null,"Parameter 6"]
[null,"Parameter 7"]
[null,"Parameter 8"]
[null,"Parameter 9"]
[null,"Parameter 10"]
[null,"Parameter 11"]
[null,"Parameter 12"]
[null,"Parameter 13"]
[null,"Parameter 14"]
[null,"Parameter 15"]
[null,"Parameter 16"]
[null,"Parameter 17"]
[null,"Parameter 18"]
[null,"Parameter 19"]
[null,"Parameter 20"]
[null,"Environmental Response/Health and Safety"]
[{"$f":"COUNTIFS(INDIRECT(\"d2767:\" &ADDRESS(2767,3+A6)),\"<>Click here to enter desired outcomes \", INDIRECT(\"d2767:\"&ADDRESS(2767,3+A6)), \"<>\")","v":0},"Desired Outcome(s) ",null,"Click here to enter desired outcomes ","Click here to enter desired outcomes ","Click here to enter desired outcomes "]
[{"$f":"COUNTIFS(INDIRECT(\"d2768:\" &ADDRESS(2768,3+A6)),\"<>Click here to enter impacts \", INDIRECT(\"d2768:\" &ADDRESS(2768,3+A6)), \"<>\")","v":0},"Impact(s) ",null,"Click here to enter impacts ","Click here to enter impacts ","Click here to enter impacts "]
[null,"Capability Target(s)","Click here to enter capability targets"]
[null,"Structured Capability Target 1","Provide feeding and sheltering for [number of] persons within [number of] hours of an incident, and maintain services for [number of] weeks."]
[null,"Number of persons"]
[null,"Number of hours"]
[null,"Number of weeks"]
[null,"Parameter 4"]
[null,"Parameter 5"]
[null,"Parameter 6"]
[null,"Parameter 7"]
[null,"Parameter 8"]
[null,"Parameter 9"]
[null,"Parameter 10"]
[null,"Parameter 11"]
[null,"Parameter 12"]
[null,"Parameter 13"]
[null,"Parameter 14"]
[null,"Parameter 15"]
[null,"Parameter 16"]
[null,"Parameter 17"]
[null,"Parameter 18"]
[null,"Parameter 19"]
[null,"Parameter 20"]
[null,"Structured Capability Target 2 (Optional)","Provide family relocation services for [number of] persons within [number of] hours of an incident, and maintain services for [number of] weeks."]
[null,"Number of persons"]
[null,"Number of hours"]
[null,"Number of weeks"]
[null,"Parameter 4"]
[null,"Parameter 5"]
[null,"Parameter 6"]
[null,"Parameter 7"]
[null,"Parameter 8"]
[null,"Parameter 9"]
[null,"Parameter 10"]
[null,"Parameter 11"]
[null,"Parameter 12"]
[null,"Parameter 13"]
[null,"Parameter 14"]
[null,"Parameter 15"]
[null,"Parameter 16"]
[null,"Parameter 17"]
[null,"Parameter 18"]
[null,"Parameter 19"]
[null,"Parameter 20"]
[null,"Structured Capability Target 3","Structured Target Description"]
[null,"Number of persons"]
[null,"Number of hours"]
[null,"Number of weeks"]
[null,"Parameter 4"]
[null,"Parameter 5"]
[null,"Parameter 6"]
[null,"Parameter 7"]
[null,"Parameter 8"]
[null,"Parameter 9"]
[null,"Parameter 10"]
[null,"Parameter 11"]
[null,"Parameter 12"]
[null,"Parameter 13"]
[null,"Parameter 14"]
[null,"Parameter 15"]
[null,"Parameter 16"]
[null,"Parameter 17"]
[null,"Parameter 18"]
[null,"Parameter 19"]
[null,"Parameter 20"]
[null,"Structured Capability Target 4","Structured Target Description"]
[null,"Number of persons"]
[null,"Number of hours"]
[null,"Number of weeks"]
[null,"Parameter 4"]
[null,"Parameter 5"]
[null,"Parameter 6"]
[null,"Parameter 7"]
[null,"Parameter 8"]
[null,"Parameter 9"]
[null,"Parameter 10"]
[null,"Parameter 11"]
[null,"Parameter 12"]
[null,"Parameter 13"]
[null,"Parameter 14"]
[null,"Parameter 15"]
[null,"Parameter 16"]
[null,"Parameter 17"]
[null,"Parameter 18"]
[null,"Parameter 19"]
[null,"Parameter 20"]
[null,"Fatality Management Services"]
[{"$f":"COUNTIFS(INDIRECT(\"d2855:\" &ADDRESS(2855,3+A6)),\"<>Click here to enter desired outcomes \", INDIRECT(\"d2855:\"&ADDRESS(2855,3+A6)), \"<>\")","v":0},"Desired Outcome(s) ",null,"Click here to enter desired outcomes ","Click here to enter desired outcomes ","Click here to enter desired outcomes "]
[{"$f":"COUNTIFS(INDIRECT(\"d2856:\" &ADDRESS(2856,3+A6)),\"<>Click here to enter impacts \", INDIRECT(\"d2856:\"&ADDRESS(2856,3+A6)), \"<>\")","v":0},"Impact(s)",null,"Click here to enter impacts ","Click here to enter impacts ","Click here to enter impacts "]
[null,"Capability Target(s)","Click here to enter capability targets"]
[null,"Structured Capability Target 1","Provide feeding and sheltering for [number of] persons within [number of] hours of an incident, and maintain services for [number of] weeks."]
[null,"Number of persons"]
[null,"Number of hours"]
[null,"Number of weeks"]
[null,"Parameter 4"]
[null,"Parameter 5"]
[null,"Parameter 6"]
[null,"Parameter 7"]
[null,"Parameter 8"]
[null,"Parameter 9"]
[null,"Parameter 10"]
[null,"Parameter 11"]
[null,"Parameter 12"]
[null,"Parameter 13"]
[null,"Parameter 14"]
[null,"Parameter 15"]
[null,"Parameter 16"]
[null,"Parameter 17"]
[null,"Parameter 18"]
[null,"Parameter 19"]
[null,"Parameter 20"]
[null,"Structured Capability Target 2","Provide family relocation services for [number of] persons within [number of] hours of an incident, and maintain services for [number of] weeks."]
[null,"Number of persons"]
[null,"Number of hours"]
[null,"Number of weeks"]
[null,"Parameter 4"]
[null,"Parameter 5"]
[null,"Parameter 6"]
[null,"Parameter 7"]
[null,"Parameter 8"]
[null,"Parameter 9"]
[null,"Parameter 10"]
[null,"Parameter 11"]
[null,"Parameter 12"]
[null,"Parameter 13"]
[null,"Parameter 14"]
[null,"Parameter 15"]
[null,"Parameter 16"]
[null,"Parameter 17"]
[null,"Parameter 18"]
[null,"Parameter 19"]
[null,"Parameter 20"]
[null,"Structured Capability Target 3","Structured Target Description"]
[null,"Number of persons"]
[null,"Number of hours"]
[null,"Number of weeks"]
[null,"Parameter 4"]
[null,"Parameter 5"]
[null,"Parameter 6"]
[null,"Parameter 7"]
[null,"Parameter 8"]
[null,"Parameter 9"]
[null,"Parameter 10"]
[null,"Parameter 11"]
[null,"Parameter 12"]
[null,"Parameter 13"]
[null,"Parameter 14"]
[null,"Parameter 15"]
[null,"Parameter 16"]
[null,"Parameter 17"]
[null,"Parameter 18"]
[null,"Parameter 19"]
[null,"Parameter 20"]
[null,"Structured Capability Target 4","Structured Target Description"]
[null,"Number of persons"]
[null,"Number of hours"]
[null,"Number of weeks"]
[null,"Parameter 4"]
[null,"Parameter 5"]
[null,"Parameter 6"]
[null,"Parameter 7"]
[null,"Parameter 8"]
[null,"Parameter 9"]
[null,"Parameter 10"]
[null,"Parameter 11"]
[null,"Parameter 12"]
[null,"Parameter 13"]
[null,"Parameter 14"]
[null,"Parameter 15"]
[null,"Parameter 16"]
[null,"Parameter 17"]
[null,"Parameter 18"]
[null,"Parameter 19"]
[null,"Parameter 20"]
[null,"Infrastructure Systems"]
[{"$f":"COUNTIFS(INDIRECT(\"d2943:\" &ADDRESS(2943,3+A6)),\"<>Click here to enter desired outcomes \", INDIRECT(\"d2943:\"&ADDRESS(2943,3+A6)), \"<>\")","v":0},"Desired Outcome(s) ",null,"Click here to enter desired outcomes ","Click here to enter desired outcomes ","Click here to enter desired outcomes "]
[{"$f":"COUNTIFS(INDIRECT(\"d2944:\" &ADDRESS(2944,3+A6)),\"<>Click here to enter impacts \", INDIRECT(\"d2944:\"&ADDRESS(2944,3+A6)), \"<>\")","v":0},"Impact(s) ",null,"Click here to enter impacts ","Click here to enter impacts ","Click here to enter impacts "]
[null,"Capability Target(s)","Click here to enter capability targets"]
[null,"Structured Capability Target 1","Provide feeding and sheltering for [number of] persons within [number of] hours of an incident, and maintain services for [number of] weeks."]
[null,"Number of persons"]
[null,"Number of hours"]
[null,"Number of weeks"]
[null,"Parameter 4"]
[null,"Parameter 5"]
[null,"Parameter 6"]
[null,"Parameter 7"]
[null,"Parameter 8"]
[null,"Parameter 9"]
[null,"Parameter 10"]
[null,"Parameter 11"]
[null,"Parameter 12"]
[null,"Parameter 13"]
[null,"Parameter 14"]
[null,"Parameter 15"]
[null,"Parameter 16"]
[null,"Parameter 17"]
[null,"Parameter 18"]
[null,"Parameter 19"]
[null,"Parameter 20"]
[null,"Structured Capability Target 2 (Optional)","Provide family relocation services for [number of] persons within [number of] hours of an incident, and maintain services for [number of] weeks."]
[null,"Number of persons"]
[null,"Number of hours"]
[null,"Number of weeks"]
[null,"Parameter 4"]
[null,"Parameter 5"]
[null,"Parameter 6"]
[null,"Parameter 7"]
[null,"Parameter 8"]
[null,"Parameter 9"]
[null,"Parameter 10"]
[null,"Parameter 11"]
[null,"Parameter 12"]
[null,"Parameter 13"]
[null,"Parameter 14"]
[null,"Parameter 15"]
[null,"Parameter 16"]
[null,"Parameter 17"]
[null,"Parameter 18"]
[null,"Parameter 19"]
[null,"Parameter 20"]
[null,"Structured Capability Target 3","Structured Target Description"]
[null,"Number of persons"]
[null,"Number of hours"]
[null,"Number of weeks"]
[null,"Parameter 4"]
[null,"Parameter 5"]
[null,"Parameter 6"]
[null,"Parameter 7"]
[null,"Parameter 8"]
[null,"Parameter 9"]
[null,"Parameter 10"]
[null,"Parameter 11"]
[null,"Parameter 12"]
[null,"Parameter 13"]
[null,"Parameter 14"]
[null,"Parameter 15"]
[null,"Parameter 16"]
[null,"Parameter 17"]
[null,"Parameter 18"]
[null,"Parameter 19"]
[null,"Parameter 20"]
[null,"Structured Capability Target 4","Structured Target Description"]
[null,"Parameter 1"]
[null,"Parameter 2"]
[null,"Parameter 3"]
[null,"Parameter 4"]
[null,"Parameter 5"]
[null,"Parameter 6"]
[null,"Parameter 7"]
[null,"Parameter 8"]
[null,"Parameter 9"]
[null,"Parameter 10"]
[null,"Parameter 11"]
[null,"Parameter 12"]
[null,"Parameter 13"]
[null,"Parameter 14"]
[null,"Parameter 15"]
[null,"Parameter 16"]
[null,"Parameter 17"]
[null,"Parameter 18"]
[null,"Parameter 19"]
[null,"Parameter 20"]
[null,"Structured Capability Target 5","Structured Target Description"]
[null,"Parameter 1"]
[null,"Parameter 2"]
[null,"Parameter 3"]
[null,"Parameter 4"]
[null,"Parameter 5"]
[null,"Parameter 6"]
[null,"Parameter 7"]
[null,"Parameter 8"]
[null,"Parameter 9"]
[null,"Parameter 10"]
[null,"Parameter 11"]
[null,"Parameter 12"]
[null,"Parameter 13"]
[null,"Parameter 14"]
[null,"Parameter 15"]
[null,"Parameter 16"]
[null,"Parameter 17"]
[null,"Parameter 18"]
[null,"Parameter 19"]
[null,"Parameter 20"]
[null,"Structured Capability Target 6","Structured Target Description"]
[null,"Parameter 1"]
[null,"Parameter 2"]
[null,"Parameter 3"]
[null,"Parameter 4"]
[null,"Parameter 5"]
[null,"Parameter 6"]
[null,"Parameter 7"]
[null,"Parameter 8"]
[null,"Parameter 9"]
[null,"Parameter 10"]
[null,"Parameter 11"]
[null,"Parameter 12"]
[null,"Parameter 13"]
[null,"Parameter 14"]
[null,"Parameter 15"]
[null,"Parameter 16"]
[null,"Parameter 17"]
[null,"Parameter 18"]
[null,"Parameter 19"]
[null,"Parameter 20"]
[null,"Structured Capability Target 7","Structured Target Description"]
[null,"Parameter 1"]
[null,"Parameter 2"]
[null,"Parameter 3"]
[null,"Parameter 4"]
[null,"Parameter 5"]
[null,"Parameter 6"]
[null,"Parameter 7"]
[null,"Parameter 8"]
[null,"Parameter 9"]
[null,"Parameter 10"]
[null,"Parameter 11"]
[null,"Parameter 12"]
[null,"Parameter 13"]
[null,"Parameter 14"]
[null,"Parameter 15"]
[null,"Parameter 16"]
[null,"Parameter 17"]
[null,"Parameter 18"]
[null,"Parameter 19"]
[null,"Parameter 20"]
[null,"Structured Capability Target 8","Structured Target Description"]
[null,"Parameter 1"]
[null,"Parameter 2"]
[null,"Parameter 3"]
[null,"Parameter 4"]
[null,"Parameter 5"]
[null,"Parameter 6"]
[null,"Parameter 7"]
[null,"Parameter 8"]
[null,"Parameter 9"]
[null,"Parameter 10"]
[null,"Parameter 11"]
[null,"Parameter 12"]
[null,"Parameter 13"]
[null,"Parameter 14"]
[null,"Parameter 15"]
[null,"Parameter 16"]
[null,"Parameter 17"]
[null,"Parameter 18"]
[null,"Parameter 19"]
[null,"Parameter 20"]
[null,"Mass Care Services"]
[{"$f":"COUNTIFS(INDIRECT(\"d3115:\" &ADDRESS(3115,3+A6)),\"<>Click here to enter desired outcomes \", INDIRECT(\"d3115:\"&ADDRESS(3115,3+A6)), \"<>\")","v":0},"Desired Outcome(s) ",null,"Click here to enter desired outcomes ","Click here to enter desired outcomes ","Click here to enter desired outcomes "]
[{"$f":"COUNTIFS(INDIRECT(\"d3116:\" &ADDRESS(3116,3+A6)),\"<>Click here to enter impacts \", INDIRECT(\"d3116:\"&ADDRESS(3116,3+A6)), \"<>\")","v":0},"Impact(s)",null,"Click here to enter impacts ","Click here to enter impacts ","Click here to enter impacts "]
[null,"Capability Target(s)","Click here to enter capability targets"]
[null,"Structured Capability Target 1","Provide feeding and sheltering for [number of] persons within [number of] hours of an incident, and maintain services for [number of] weeks."]
[null,"Number of persons"]
[null,"Number of hours"]
[null,"Number of weeks"]
[null,"Parameter 4"]
[null,"Parameter 5"]
[null,"Parameter 6"]
[null,"Parameter 7"]
[null,"Parameter 8"]
[null,"Parameter 9"]
[null,"Parameter 10"]
[null,"Parameter 11"]
[null,"Parameter 12"]
[null,"Parameter 13"]
[null,"Parameter 14"]
[null,"Parameter 15"]
[null,"Parameter 16"]
[null,"Parameter 17"]
[null,"Parameter 18"]
[null,"Parameter 19"]
[null,"Parameter 20"]
[null,"Structured Capability Target 2","Provide family relocation services for [number of] persons within [number of] hours of an incident, and maintain services for [number of] weeks."]
[null,"Number of persons"]
[null,"Number of hours"]
[null,"Number of weeks"]
[null,"Parameter 4"]
[null,"Parameter 5"]
[null,"Parameter 6"]
[null,"Parameter 7"]
[null,"Parameter 8"]
[null,"Parameter 9"]
[null,"Parameter 10"]
[null,"Parameter 11"]
[null,"Parameter 12"]
[null,"Parameter 13"]
[null,"Parameter 14"]
[null,"Parameter 15"]
[null,"Parameter 16"]
[null,"Parameter 17"]
[null,"Parameter 18"]
[null,"Parameter 19"]
[null,"Parameter 20"]
[null,"Structured Capability Target 3","Structured Target Description"]
[null,"Number of persons"]
[null,"Number of hours"]
[null,"Number of weeks"]
[null,"Parameter 4"]
[null,"Parameter 5"]
[null,"Parameter 6"]
[null,"Parameter 7"]
[null,"Parameter 8"]
[null,"Parameter 9"]
[null,"Parameter 10"]
[null,"Parameter 11"]
[null,"Parameter 12"]
[null,"Parameter 13"]
[null,"Parameter 14"]
[null,"Parameter 15"]
[null,"Parameter 16"]
[null,"Parameter 17"]
[null,"Parameter 18"]
[null,"Parameter 19"]
[null,"Parameter 20"]
[null,"Structured Capability Target 4","Structured Target Description"]
[null,"Number of persons"]
[null,"Number of hours"]
[null,"Number of weeks"]
[null,"Parameter 4"]
[null,"Parameter 5"]
[null,"Parameter 6"]
[null,"Parameter 7"]
[null,"Parameter 8"]
[null,"Parameter 9"]
[null,"Parameter 10"]
[null,"Parameter 11"]
[null,"Parameter 12"]
[null,"Parameter 13"]
[null,"Parameter 14"]
[null,"Parameter 15"]
[null,"Parameter 16"]
[null,"Parameter 17"]
[null,"Parameter 18"]
[null,"Parameter 19"]
[null,"Parameter 20"]
[null,"Mass Search and Rescue Operations"]
[{"$f":"COUNTIFS(INDIRECT(\"d3203:\" &ADDRESS(3203,3+A6)),\"<>Click here to enter desired outcomes \", INDIRECT(\"d3203:\"&ADDRESS(3203,3+A6)), \"<>\")","v":0},"Desired Outcome(s) ",null,"Click here to enter desired outcomes ","Click here to enter desired outcomes ","Click here to enter desired outcomes "]
[{"$f":"COUNTIFS(INDIRECT(\"d3204:\" &ADDRESS(3204,3+A6)),\"<>Click here to enter impacts \", INDIRECT(\"d3204:\"&ADDRESS(3204,3+A6)), \"<>\")","v":0},"Impact(s) ",null,"Click here to enter impacts ","Click here to enter impacts ","Click here to enter impacts "]
[null,"Capability Target(s)","Click here to enter capability targets"]
[null,"Structured Capability Target 1","Provide feeding and sheltering for [number of] persons within [number of] hours of an incident, and maintain services for [number of] weeks."]
[null,"Number of persons"]
[null,"Number of hours"]
[null,"Number of weeks"]
[null,"Parameter 4"]
[null,"Parameter 5"]
[null,"Parameter 6"]
[null,"Parameter 7"]
[null,"Parameter 8"]
[null,"Parameter 9"]
[null,"Parameter 10"]
[null,"Parameter 11"]
[null,"Parameter 12"]
[null,"Parameter 13"]
[null,"Parameter 14"]
[null,"Parameter 15"]
[null,"Parameter 16"]
[null,"Parameter 17"]
[null,"Parameter 18"]
[null,"Parameter 19"]
[null,"Parameter 20"]
[null,"Structured Capability Target 2 (Optional)","Provide family relocation services for [number of] persons within [number of] hours of an incident, and maintain services for [number of] weeks."]
[null,"Number of persons"]
[null,"Number of hours"]
[null,"Number of weeks"]
[null,"Parameter 4"]
[null,"Parameter 5"]
[null,"Parameter 6"]
[null,"Parameter 7"]
[null,"Parameter 8"]
[null,"Parameter 9"]
[null,"Parameter 10"]
[null,"Parameter 11"]
[null,"Parameter 12"]
[null,"Parameter 13"]
[null,"Parameter 14"]
[null,"Parameter 15"]
[null,"Parameter 16"]
[null,"Parameter 17"]
[null,"Parameter 18"]
[null,"Parameter 19"]
[null,"Parameter 20"]
[null,"Structured Capability Target 3","Structured Target Description"]
[null,"Number of persons"]
[null,"Number of hours"]
[null,"Number of weeks"]
[null,"Parameter 4"]
[null,"Parameter 5"]
[null,"Parameter 6"]
[null,"Parameter 7"]
[null,"Parameter 8"]
[null,"Parameter 9"]
[null,"Parameter 10"]
[null,"Parameter 11"]
[null,"Parameter 12"]
[null,"Parameter 13"]
[null,"Parameter 14"]
[null,"Parameter 15"]
[null,"Parameter 16"]
[null,"Parameter 17"]
[null,"Parameter 18"]
[null,"Parameter 19"]
[null,"Parameter 20"]
[null,"Structured Capability Target 4","Structured Target Description"]
[null,"Number of persons"]
[null,"Number of hours"]
[null,"Number of weeks"]
[null,"Parameter 4"]
[null,"Parameter 5"]
[null,"Parameter 6"]
[null,"Parameter 7"]
[null,"Parameter 8"]
[null,"Parameter 9"]
[null,"Parameter 10"]
[null,"Parameter 11"]
[null,"Parameter 12"]
[null,"Parameter 13"]
[null,"Parameter 14"]
[null,"Parameter 15"]
[null,"Parameter 16"]
[null,"Parameter 17"]
[null,"Parameter 18"]
[null,"Parameter 19"]
[null,"Parameter 20"]
[null,"On-scene Security and Protection"]
[{"$f":"COUNTIFS(INDIRECT(\"d3291:\" &ADDRESS(3291,3+A6)),\"<>Click here to enter desired outcomes \", INDIRECT(\"d3291:\"&ADDRESS(3291,3+A6)), \"<>\")","v":0},"Desired Outcome(s) ",null,"Click here to enter desired outcomes ","Click here to enter desired outcomes ","Click here to enter desired outcomes "]
[{"$f":"COUNTIFS(INDIRECT(\"d3292:\" &ADDRESS(3292,3+A6)),\"<>Click here to enter impacts \", INDIRECT(\"d3292:\"&ADDRESS(3292,3+A6)), \"<>\")","v":0},"Impact(s)",null,"Click here to enter impacts ","Click here to enter impacts ","Click here to enter impacts "]
[null,"Capability Target(s)","Click here to enter capability targets"]
[null,"Structured Capability Target 1","Provide feeding and sheltering for [number of] persons within [number of] hours of an incident, and maintain services for [number of] weeks."]
[null,"Number of persons"]
[null,"Number of hours"]
[null,"Number of weeks"]
[null,"Parameter 4"]
[null,"Parameter 5"]
[null,"Parameter 6"]
[null,"Parameter 7"]
[null,"Parameter 8"]
[null,"Parameter 9"]
[null,"Parameter 10"]
[null,"Parameter 11"]
[null,"Parameter 12"]
[null,"Parameter 13"]
[null,"Parameter 14"]
[null,"Parameter 15"]
[null,"Parameter 16"]
[null,"Parameter 17"]
[null,"Parameter 18"]
[null,"Parameter 19"]
[null,"Parameter 20"]
[null,"Structured Capability Target 2","Provide family relocation services for [number of] persons within [number of] hours of an incident, and maintain services for [number of] weeks."]
[null,"Number of persons"]
[null,"Number of hours"]
[null,"Number of weeks"]
[null,"Parameter 4"]
[null,"Parameter 5"]
[null,"Parameter 6"]
[null,"Parameter 7"]
[null,"Parameter 8"]
[null,"Parameter 9"]
[null,"Parameter 10"]
[null,"Parameter 11"]
[null,"Parameter 12"]
[null,"Parameter 13"]
[null,"Parameter 14"]
[null,"Parameter 15"]
[null,"Parameter 16"]
[null,"Parameter 17"]
[null,"Parameter 18"]
[null,"Parameter 19"]
[null,"Parameter 20"]
[null,"Structured Capability Target 3","Structured Target Description"]
[null,"Number of persons"]
[null,"Number of hours"]
[null,"Number of weeks"]
[null,"Parameter 4"]
[null,"Parameter 5"]
[null,"Parameter 6"]
[null,"Parameter 7"]
[null,"Parameter 8"]
[null,"Parameter 9"]
[null,"Parameter 10"]
[null,"Parameter 11"]
[null,"Parameter 12"]
[null,"Parameter 13"]
[null,"Parameter 14"]
[null,"Parameter 15"]
[null,"Parameter 16"]
[null,"Parameter 17"]
[null,"Parameter 18"]
[null,"Parameter 19"]
[null,"Parameter 20"]
[null,"Structured Capability Target 4","Structured Target Description"]
[null,"Number of persons"]
[null,"Number of hours"]
[null,"Number of weeks"]
[null,"Parameter 4"]
[null,"Parameter 5"]
[null,"Parameter 6"]
[null,"Parameter 7"]
[null,"Parameter 8"]
[null,"Parameter 9"]
[null,"Parameter 10"]
[null,"Parameter 11"]
[null,"Parameter 12"]
[null,"Parameter 13"]
[null,"Parameter 14"]
[null,"Parameter 15"]
[null,"Parameter 16"]
[null,"Parameter 17"]
[null,"Parameter 18"]
[null,"Parameter 19"]
[null,"Parameter 20"]
[null,"Operational Communications"]
[{"$f":"COUNTIFS(INDIRECT(\"d3379:\" &ADDRESS(3379,3+A6)),\"<>Click here to enter desired outcomes \", INDIRECT(\"d3379:\"&ADDRESS(3379,3+A6)), \"<>\")","v":0},"Desired Outcome(s) ",null,"Click here to enter desired outcomes ","Click here to enter desired outcomes ","Click here to enter desired outcomes "]
[{"$f":"COUNTIFS(INDIRECT(\"d3380:\" &ADDRESS(3380,3+A6)),\"<>Click here to enter impacts \", INDIRECT(\"d3380:\"&ADDRESS(3380,3+A6)), \"<>\")","v":0},"Impact(s) ",null,"Click here to enter impacts ","Click here to enter impacts ","Click here to enter impacts "]
[null,"Capability Target(s)","Click here to enter capability targets"]
[null,"Structured Capability Target 1","Provide feeding and sheltering for [number of] persons within [number of] hours of an incident, and maintain services for [number of] weeks."]
[null,"Number of persons"]
[null,"Number of hours"]
[null,"Number of weeks"]
[null,"Parameter 4"]
[null,"Parameter 5"]
[null,"Parameter 6"]
[null,"Parameter 7"]
[null,"Parameter 8"]
[null,"Parameter 9"]
[null,"Parameter 10"]
[null,"Parameter 11"]
[null,"Parameter 12"]
[null,"Parameter 13"]
[null,"Parameter 14"]
[null,"Parameter 15"]
[null,"Parameter 16"]
[null,"Parameter 17"]
[null,"Parameter 18"]
[null,"Parameter 19"]
[null,"Parameter 20"]
[null,"Structured Capability Target 2 (Optional)","Provide family relocation services for [number of] persons within [number of] hours of an incident, and maintain services for [number of] weeks."]
[null,"Number of persons"]
[null,"Number of hours"]
[null,"Number of weeks"]
[null,"Parameter 4"]
[null,"Parameter 5"]
[null,"Parameter 6"]
[null,"Parameter 7"]
[null,"Parameter 8"]
[null,"Parameter 9"]
[null,"Parameter 10"]
[null,"Parameter 11"]
[null,"Parameter 12"]
[null,"Parameter 13"]
[null,"Parameter 14"]
[null,"Parameter 15"]
[null,"Parameter 16"]
[null,"Parameter 17"]
[null,"Parameter 18"]
[null,"Parameter 19"]
[null,"Parameter 20"]
[null,"Structured Capability Target 3","Structured Target Description"]
[null,"Number of persons"]
[null,"Number of hours"]
[null,"Number of weeks"]
[null,"Parameter 4"]
[null,"Parameter 5"]
[null,"Parameter 6"]
[null,"Parameter 7"]
[null,"Parameter 8"]
[null,"Parameter 9"]
[null,"Parameter 10"]
[null,"Parameter 11"]
[null,"Parameter 12"]
[null,"Parameter 13"]
[null,"Parameter 14"]
[null,"Parameter 15"]
[null,"Parameter 16"]
[null,"Parameter 17"]
[null,"Parameter 18"]
[null,"Parameter 19"]
[null,"Parameter 20"]
[null,"Structured Capability Target 4","Structured Target Description"]
[null,"Number of persons"]
[null,"Number of hours"]
[null,"Number of weeks"]
[null,"Parameter 4"]
[null,"Parameter 5"]
[null,"Parameter 6"]
[null,"Parameter 7"]
[null,"Parameter 8"]
[null,"Parameter 9"]
[null,"Parameter 10"]
[null,"Parameter 11"]
[null,"Parameter 12"]
[null,"Parameter 13"]
[null,"Parameter 14"]
[null,"Parameter 15"]
[null,"Parameter 16"]
[null,"Parameter 17"]
[null,"Parameter 18"]
[null,"Parameter 19"]
[null,"Parameter 20"]
[null,"Public and Private Services and Resources"]
[{"$f":"COUNTIFS(INDIRECT(\"d3467:\" &ADDRESS(3467,3+A6)),\"<>Click here to enter desired outcomes \", INDIRECT(\"d3467:\"&ADDRESS(3467,3+A6)), \"<>\")","v":0},"Desired Outcome(s) ",null,"Click here to enter desired outcomes ","Click here to enter desired outcomes ","Click here to enter desired outcomes "]
[{"$f":"COUNTIFS(INDIRECT(\"d3468:\" &ADDRESS(3468,3+A6)),\"<>Click here to enter impacts \", INDIRECT(\"d3468:\"&ADDRESS(3468,3+A6)), \"<>\")","v":0},"Impact(s)",null,"Click here to enter impacts ","Click here to enter impacts ","Click here to enter impacts "]
[null,"Capability Target(s)","Click here to enter capability targets"]
[null,"Structured Capability Target 1","Provide feeding and sheltering for [number of] persons within [number of] hours of an incident, and maintain services for [number of] weeks."]
[null,"Number of persons"]
[null,"Number of hours"]
[null,"Number of weeks"]
[null,"Parameter 4"]
[null,"Parameter 5"]
[null,"Parameter 6"]
[null,"Parameter 7"]
[null,"Parameter 8"]
[null,"Parameter 9"]
[null,"Parameter 10"]
[null,"Parameter 11"]
[null,"Parameter 12"]
[null,"Parameter 13"]
[null,"Parameter 14"]
[null,"Parameter 15"]
[null,"Parameter 16"]
[null,"Parameter 17"]
[null,"Parameter 18"]
[null,"Parameter 19"]
[null,"Parameter 20"]
[null,"Structured Capability Target 2","Provide family relocation services for [number of] persons within [number of] hours of an incident, and maintain services for [number of] weeks."]
[null,"Number of persons"]
[null,"Number of hours"]
[null,"Number of weeks"]
[null,"Parameter 4"]
[null,"Parameter 5"]
[null,"Parameter 6"]
[null,"Parameter 7"]
[null,"Parameter 8"]
[null,"Parameter 9"]
[null,"Parameter 10"]
[null,"Parameter 11"]
[null,"Parameter 12"]
[null,"Parameter 13"]
[null,"Parameter 14"]
[null,"Parameter 15"]
[null,"Parameter 16"]
[null,"Parameter 17"]
[null,"Parameter 18"]
[null,"Parameter 19"]
[null,"Parameter 20"]
[null,"Structured Capability Target 3","Structured Target Description"]
[null,"Number of persons"]
[null,"Number of hours"]
[null,"Number of weeks"]
[null,"Parameter 4"]
[null,"Parameter 5"]
[null,"Parameter 6"]
[null,"Parameter 7"]
[null,"Parameter 8"]
[null,"Parameter 9"]
[null,"Parameter 10"]
[null,"Parameter 11"]
[null,"Parameter 12"]
[null,"Parameter 13"]
[null,"Parameter 14"]
[null,"Parameter 15"]
[null,"Parameter 16"]
[null,"Parameter 17"]
[null,"Parameter 18"]
[null,"Parameter 19"]
[null,"Parameter 20"]
[null,"Structured Capability Target 4","Structured Target Description"]
[null,"Number of persons"]
[null,"Number of hours"]
[null,"Number of weeks"]
[null,"Parameter 4"]
[null,"Parameter 5"]
[null,"Parameter 6"]
[null,"Parameter 7"]
[null,"Parameter 8"]
[null,"Parameter 9"]
[null,"Parameter 10"]
[null,"Parameter 11"]
[null,"Parameter 12"]
[null,"Parameter 13"]
[null,"Parameter 14"]
[null,"Parameter 15"]
[null,"Parameter 16"]
[null,"Parameter 17"]
[null,"Parameter 18"]
[null,"Parameter 19"]
[null,"Parameter 20"]
[null,"Public Health and Medical Services"]
[{"$f":"COUNTIFS(INDIRECT(\"d3555:\" &ADDRESS(3555,3+A6)),\"<>Click here to enter desired outcomes \", INDIRECT(\"d3555:\"&ADDRESS(3555,3+A6)), \"<>\")","v":0},"Desired Outcome(s) ",null,"Click here to enter desired outcomes ","Click here to enter desired outcomes ","Click here to enter desired outcomes "]
[{"$f":"COUNTIFS(INDIRECT(\"d3556:\" &ADDRESS(3556,3+A6)),\"<>Click here to enter impacts \", INDIRECT(\"d3556:\"&ADDRESS(3556,3+A6)), \"<>\")","v":0},"Impact(s) ",null,"Click here to enter impacts ","Click here to enter impacts ","Click here to enter impacts "]
[null,"Capability Target(s)","Click here to enter capability targets"]
[null,"Structured Capability Target 1","Provide feeding and sheltering for [number of] persons within [number of] hours of an incident, and maintain services for [number of] weeks."]
[null,"Number of persons"]
[null,"Number of hours"]
[null,"Number of weeks"]
[null,"Parameter 4"]
[null,"Parameter 5"]
[null,"Parameter 6"]
[null,"Parameter 7"]
[null,"Parameter 8"]
[null,"Parameter 9"]
[null,"Parameter 10"]
[null,"Parameter 11"]
[null,"Parameter 12"]
[null,"Parameter 13"]
[null,"Parameter 14"]
[null,"Parameter 15"]
[null,"Parameter 16"]
[null,"Parameter 17"]
[null,"Parameter 18"]
[null,"Parameter 19"]
[null,"Parameter 20"]
[null,"Structured Capability Target 2 (Optional)","Provide family relocation services for [number of] persons within [number of] hours of an incident, and maintain services for [number of] weeks."]
[null,"Number of persons"]
[null,"Number of hours"]
[null,"Number of weeks"]
[null,"Parameter 4"]
[null,"Parameter 5"]
[null,"Parameter 6"]
[null,"Parameter 7"]
[null,"Parameter 8"]
[null,"Parameter 9"]
[null,"Parameter 10"]
[null,"Parameter 11"]
[null,"Parameter 12"]
[null,"Parameter 13"]
[null,"Parameter 14"]
[null,"Parameter 15"]
[null,"Parameter 16"]
[null,"Parameter 17"]
[null,"Parameter 18"]
[null,"Parameter 19"]
[null,"Parameter 20"]
[null,"Structured Capability Target 3","Structured Target Description"]
[null,"Number of persons"]
[null,"Number of hours"]
[null,"Number of weeks"]
[null,"Parameter 4"]
[null,"Parameter 5"]
[null,"Parameter 6"]
[null,"Parameter 7"]
[null,"Parameter 8"]
[null,"Parameter 9"]
[null,"Parameter 10"]
[null,"Parameter 11"]
[null,"Parameter 12"]
[null,"Parameter 13"]
[null,"Parameter 14"]
[null,"Parameter 15"]
[null,"Parameter 16"]
[null,"Parameter 17"]
[null,"Parameter 18"]
[null,"Parameter 19"]
[null,"Parameter 20"]
[null,"Structured Capability Target 4","Structured Target Description"]
[null,"Number of persons"]
[null,"Number of hours"]
[null,"Number of weeks"]
[null,"Parameter 4"]
[null,"Parameter 5"]
[null,"Parameter 6"]
[null,"Parameter 7"]
[null,"Parameter 8"]
[null,"Parameter 9"]
[null,"Parameter 10"]
[null,"Parameter 11"]
[null,"Parameter 12"]
[null,"Parameter 13"]
[null,"Parameter 14"]
[null,"Parameter 15"]
[null,"Parameter 16"]
[null,"Parameter 17"]
[null,"Parameter 18"]
[null,"Parameter 19"]
[null,"Parameter 20"]
[null,"Situational Assessment"]
[{"$f":"COUNTIFS(INDIRECT(\"d3643:\" &ADDRESS(3643,3+A6)),\"<>Click here to enter desired outcomes \", INDIRECT(\"d3643:\"&ADDRESS(3643,3+A6)), \"<>\")","v":0},"Desired Outcome(s) ",null,"Click here to enter desired outcomes ","Click here to enter desired outcomes ","Click here to enter desired outcomes "]
[{"$f":"COUNTIFS(INDIRECT(\"d3644:\" &ADDRESS(3644,3+A6)),\"<>Click here to enter impacts \", INDIRECT(\"d3644:\"&ADDRESS(3644,3+A6)), \"<>\")","v":0},"Impact(s)",null,"Click here to enter impacts ","Click here to enter impacts ","Click here to enter impacts "]
[null,"Capability Target(s)","Click here to enter capability targets"]
[null,"Structured Capability Target 1","Provide feeding and sheltering for [number of] persons within [number of] hours of an incident, and maintain services for [number of] weeks."]
[null,"Number of persons"]
[null,"Number of hours"]
[null,"Number of weeks"]
[null,"Parameter 4"]
[null,"Parameter 5"]
[null,"Parameter 6"]
[null,"Parameter 7"]
[null,"Parameter 8"]
[null,"Parameter 9"]
[null,"Parameter 10"]
[null,"Parameter 11"]
[null,"Parameter 12"]
[null,"Parameter 13"]
[null,"Parameter 14"]
[null,"Parameter 15"]
[null,"Parameter 16"]
[null,"Parameter 17"]
[null,"Parameter 18"]
[null,"Parameter 19"]
[null,"Parameter 20"]
[null,"Structured Capability Target 2","Provide family relocation services for [number of] persons within [number of] hours of an incident, and maintain services for [number of] weeks."]
[null,"Number of persons"]
[null,"Number of hours"]
[null,"Number of weeks"]
[null,"Parameter 4"]
[null,"Parameter 5"]
[null,"Parameter 6"]
[null,"Parameter 7"]
[null,"Parameter 8"]
[null,"Parameter 9"]
[null,"Parameter 10"]
[null,"Parameter 11"]
[null,"Parameter 12"]
[null,"Parameter 13"]
[null,"Parameter 14"]
[null,"Parameter 15"]
[null,"Parameter 16"]
[null,"Parameter 17"]
[null,"Parameter 18"]
[null,"Parameter 19"]
[null,"Parameter 20"]
[null,"Structured Capability Target 3","Structured Target Description"]
[null,"Number of persons"]
[null,"Number of hours"]
[null,"Number of weeks"]
[null,"Parameter 4"]
[null,"Parameter 5"]
[null,"Parameter 6"]
[null,"Parameter 7"]
[null,"Parameter 8"]
[null,"Parameter 9"]
[null,"Parameter 10"]
[null,"Parameter 11"]
[null,"Parameter 12"]
[null,"Parameter 13"]
[null,"Parameter 14"]
[null,"Parameter 15"]
[null,"Parameter 16"]
[null,"Parameter 17"]
[null,"Parameter 18"]
[null,"Parameter 19"]
[null,"Parameter 20"]
[null,"Structured Capability Target 4","Structured Target Description"]
[null,"Number of persons"]
[null,"Number of hours"]
[null,"Number of weeks"]
[null,"Parameter 4"]
[null,"Parameter 5"]
[null,"Parameter 6"]
[null,"Parameter 7"]
[null,"Parameter 8"]
[null,"Parameter 9"]
[null,"Parameter 10"]
[null,"Parameter 11"]
[null,"Parameter 12"]
[null,"Parameter 13"]
[null,"Parameter 14"]
[null,"Parameter 15"]
[null,"Parameter 16"]
[null,"Parameter 17"]
[null,"Parameter 18"]
[null,"Parameter 19"]
[null,"Parameter 20"]
[null,"Economic Recovery"]
[{"$f":"COUNTIFS(INDIRECT(\"d3731:\" &ADDRESS(3731,3+A6)),\"<>Click here to enter desired outcomes \", INDIRECT(\"d3731:\"&ADDRESS(3731,3+A6)), \"<>\")","v":0},"Desired Outcome(s) ",null,"Click here to enter desired outcomes ","Click here to enter desired outcomes ","Click here to enter desired outcomes "]
[{"$f":"COUNTIFS(INDIRECT(\"d3732:\" &ADDRESS(3732,3+A6)),\"<>Click here to enter impacts \", INDIRECT(\"d3732:\"&ADDRESS(3732,3+A6)), \"<>\")","v":0},"Impact(s) ",null,"Click here to enter impacts ","Click here to enter impacts ","Click here to enter impacts "]
[null,"Capability Target(s)","Click here to enter capability targets"]
[null,"Structured Capability Target 1","Provide feeding and sheltering for [number of] persons within [number of] hours of an incident, and maintain services for [number of] weeks."]
[null,"Number of persons"]
[null,"Number of hours"]
[null,"Number of weeks"]
[null,"Parameter 4"]
[null,"Parameter 5"]
[null,"Parameter 6"]
[null,"Parameter 7"]
[null,"Parameter 8"]
[null,"Parameter 9"]
[null,"Parameter 10"]
[null,"Parameter 11"]
[null,"Parameter 12"]
[null,"Parameter 13"]
[null,"Parameter 14"]
[null,"Parameter 15"]
[null,"Parameter 16"]
[null,"Parameter 17"]
[null,"Parameter 18"]
[null,"Parameter 19"]
[null,"Parameter 20"]
[null,"Structured Capability Target 2 (Optional)","Provide family relocation services for [number of] persons within [number of] hours of an incident, and maintain services for [number of] weeks."]
[null,"Number of persons"]
[null,"Number of hours"]
[null,"Number of weeks"]
[null,"Parameter 4"]
[null,"Parameter 5"]
[null,"Parameter 6"]
[null,"Parameter 7"]
[null,"Parameter 8"]
[null,"Parameter 9"]
[null,"Parameter 10"]
[null,"Parameter 11"]
[null,"Parameter 12"]
[null,"Parameter 13"]
[null,"Parameter 14"]
[null,"Parameter 15"]
[null,"Parameter 16"]
[null,"Parameter 17"]
[null,"Parameter 18"]
[null,"Parameter 19"]
[null,"Parameter 20"]
[null,"Structured Capability Target 3","Structured Target Description"]
[null,"Number of persons"]
[null,"Number of hours"]
[null,"Number of weeks"]
[null,"Parameter 4"]
[null,"Parameter 5"]
[null,"Parameter 6"]
[null,"Parameter 7"]
[null,"Parameter 8"]
[null,"Parameter 9"]
[null,"Parameter 10"]
[null,"Parameter 11"]
[null,"Parameter 12"]
[null,"Parameter 13"]
[null,"Parameter 14"]
[null,"Parameter 15"]
[null,"Parameter 16"]
[null,"Parameter 17"]
[null,"Parameter 18"]
[null,"Parameter 19"]
[null,"Parameter 20"]
[null,"Structured Capability Target 4","Structured Target Description"]
[null,"Number of persons"]
[null,"Number of hours"]
[null,"Number of weeks"]
[null,"Parameter 4"]
[null,"Parameter 5"]
[null,"Parameter 6"]
[null,"Parameter 7"]
[null,"Parameter 8"]
[null,"Parameter 9"]
[null,"Parameter 10"]
[null,"Parameter 11"]
[null,"Parameter 12"]
[null,"Parameter 13"]
[null,"Parameter 14"]
[null,"Parameter 15"]
[null,"Parameter 16"]
[null,"Parameter 17"]
[null,"Parameter 18"]
[null,"Parameter 19"]
[null,"Parameter 20"]
[null,"Health and Social Services"]
[{"$f":"COUNTIFS(INDIRECT(\"d3819:\" &ADDRESS(3819,3+A6)),\"<>Click here to enter desired outcomes \", INDIRECT(\"d3819:\"&ADDRESS(3819,3+A6)), \"<>\")","v":0},"Desired Outcome(s) ",null,"Click here to enter desired outcomes ","Click here to enter desired outcomes ","Click here to enter desired outcomes "]
[{"$f":"COUNTIFS(INDIRECT(\"d3820:\" &ADDRESS(3820,3+A6)),\"<>Click here to enter impacts \", INDIRECT(\"d3820:\"&ADDRESS(3820,3+A6)), \"<>\")","v":0},"Impact(s)",null,"Click here to enter impacts ","Click here to enter impacts ","Click here to enter impacts "]
[null,"Capability Target(s)","Click here to enter capability targets"]
[null,"Structured Capability Target 1","Provide feeding and sheltering for [number of] persons within [number of] hours of an incident, and maintain services for [number of] weeks."]
[null,"Number of persons"]
[null,"Number of hours"]
[null,"Number of weeks"]
[null,"Parameter 4"]
[null,"Parameter 5"]
[null,"Parameter 6"]
[null,"Parameter 7"]
[null,"Parameter 8"]
[null,"Parameter 9"]
[null,"Parameter 10"]
[null,"Parameter 11"]
[null,"Parameter 12"]
[null,"Parameter 13"]
[null,"Parameter 14"]
[null,"Parameter 15"]
[null,"Parameter 16"]
[null,"Parameter 17"]
[null,"Parameter 18"]
[null,"Parameter 19"]
[null,"Parameter 20"]
[null,"Structured Capability Target 2","Provide family relocation services for [number of] persons within [number of] hours of an incident, and maintain services for [number of] weeks."]
[null,"Number of persons"]
[null,"Number of hours"]
[null,"Number of weeks"]
[null,"Parameter 4"]
[null,"Parameter 5"]
[null,"Parameter 6"]
[null,"Parameter 7"]
[null,"Parameter 8"]
[null,"Parameter 9"]
[null,"Parameter 10"]
[null,"Parameter 11"]
[null,"Parameter 12"]
[null,"Parameter 13"]
[null,"Parameter 14"]
[null,"Parameter 15"]
[null,"Parameter 16"]
[null,"Parameter 17"]
[null,"Parameter 18"]
[null,"Parameter 19"]
[null,"Parameter 20"]
[null,"Structured Capability Target 3","Structured Target Description"]
[null,"Number of persons"]
[null,"Number of hours"]
[null,"Number of weeks"]
[null,"Parameter 4"]
[null,"Parameter 5"]
[null,"Parameter 6"]
[null,"Parameter 7"]
[null,"Parameter 8"]
[null,"Parameter 9"]
[null,"Parameter 10"]
[null,"Parameter 11"]
[null,"Parameter 12"]
[null,"Parameter 13"]
[null,"Parameter 14"]
[null,"Parameter 15"]
[null,"Parameter 16"]
[null,"Parameter 17"]
[null,"Parameter 18"]
[null,"Parameter 19"]
[null,"Parameter 20"]
[null,"Structured Capability Target 4","Structured Target Description"]
[null,"Number of persons"]
[null,"Number of hours"]
[null,"Number of weeks"]
[null,"Parameter 4"]
[null,"Parameter 5"]
[null,"Parameter 6"]
[null,"Parameter 7"]
[null,"Parameter 8"]
[null,"Parameter 9"]
[null,"Parameter 10"]
[null,"Parameter 11"]
[null,"Parameter 12"]
[null,"Parameter 13"]
[null,"Parameter 14"]
[null,"Parameter 15"]
[null,"Parameter 16"]
[null,"Parameter 17"]
[null,"Parameter 18"]
[null,"Parameter 19"]
[null,"Parameter 20"]
[null,"Housing"]
[{"$f":"COUNTIFS(INDIRECT(\"d3907:\" &ADDRESS(3907,3+A6)),\"<>Click here to enter desired outcomes \", INDIRECT(\"d3907:\"&ADDRESS(3907,3+A6)), \"<>\")","v":0},"Desired Outcome(s) ",null,"Click here to enter desired outcomes ","Click here to enter desired outcomes ","Click here to enter desired outcomes "]
[{"$f":"COUNTIFS(INDIRECT(\"d3908:\" &ADDRESS(3908,3+A6)),\"<>Click here to enter impacts \", INDIRECT(\"d3908:\"&ADDRESS(3908,3+A6)), \"<>\")","v":0},"Impact(s) ",null,"Click here to enter impacts ","Click here to enter impacts ","Click here to enter impacts "]
[null,"Capability Target(s)","Click here to enter capability targets"]
[null,"Structured Capability Target 1","Provide feeding and sheltering for [number of] persons within [number of] hours of an incident, and maintain services for [number of] weeks."]
[null,"Number of persons"]
[null,"Number of hours"]
[null,"Number of weeks"]
[null,"Parameter 4"]
[null,"Parameter 5"]
[null,"Parameter 6"]
[null,"Parameter 7"]
[null,"Parameter 8"]
[null,"Parameter 9"]
[null,"Parameter 10"]
[null,"Parameter 11"]
[null,"Parameter 12"]
[null,"Parameter 13"]
[null,"Parameter 14"]
[null,"Parameter 15"]
[null,"Parameter 16"]
[null,"Parameter 17"]
[null,"Parameter 18"]
[null,"Parameter 19"]
[null,"Parameter 20"]
[null,"Structured Capability Target 2 (Optional)","Provide family relocation services for [number of] persons within [number of] hours of an incident, and maintain services for [number of] weeks."]
[null,"Number of persons"]
[null,"Number of hours"]
[null,"Number of weeks"]
[null,"Parameter 4"]
[null,"Parameter 5"]
[null,"Parameter 6"]
[null,"Parameter 7"]
[null,"Parameter 8"]
[null,"Parameter 9"]
[null,"Parameter 10"]
[null,"Parameter 11"]
[null,"Parameter 12"]
[null,"Parameter 13"]
[null,"Parameter 14"]
[null,"Parameter 15"]
[null,"Parameter 16"]
[null,"Parameter 17"]
[null,"Parameter 18"]
[null,"Parameter 19"]
[null,"Parameter 20"]
[null,"Structured Capability Target 3","Structured Target Description"]
[null,"Number of persons"]
[null,"Number of hours"]
[null,"Number of weeks"]
[null,"Parameter 4"]
[null,"Parameter 5"]
[null,"Parameter 6"]
[null,"Parameter 7"]
[null,"Parameter 8"]
[null,"Parameter 9"]
[null,"Parameter 10"]
[null,"Parameter 11"]
[null,"Parameter 12"]
[null,"Parameter 13"]
[null,"Parameter 14"]
[null,"Parameter 15"]
[null,"Parameter 16"]
[null,"Parameter 17"]
[null,"Parameter 18"]
[null,"Parameter 19"]
[null,"Parameter 20"]
[null,"Structured Capability Target 4","Structured Target Description"]
[null,"Number of persons"]
[null,"Number of hours"]
[null,"Number of weeks"]
[null,"Parameter 4"]
[null,"Parameter 5"]
[null,"Parameter 6"]
[null,"Parameter 7"]
[null,"Parameter 8"]
[null,"Parameter 9"]
[null,"Parameter 10"]
[null,"Parameter 11"]
[null,"Parameter 12"]
[null,"Parameter 13"]
[null,"Parameter 14"]
[null,"Parameter 15"]
[null,"Parameter 16"]
[null,"Parameter 17"]
[null,"Parameter 18"]
[null,"Parameter 19"]
[null,"Parameter 20"]
[null,"Natural and Cultural Resources"]
[{"$f":"COUNTIFS(INDIRECT(\"d3995:\" &ADDRESS(3995,3+A6)),\"<>Click here to enter desired outcomes \", INDIRECT(\"d3995:\"&ADDRESS(3995,3+A6)), \"<>\")","v":0},"Desired Outcome(s) ",null,"Click here to enter desired outcomes ","Click here to enter desired outcomes ","Click here to enter desired outcomes "]
[{"$f":"COUNTIFS(INDIRECT(\"d3996:\" &ADDRESS(3996,3+A6)),\"<>Click here to enter impacts \", INDIRECT(\"d3996:\"&ADDRESS(3996,3+A6)), \"<>\")","v":0},"Impact(s)",null,"Click here to enter impacts ","Click here to enter impacts ","Click here to enter impacts "]
[null,"Capability Target(s)","Click here to enter capability targets"]
[null,"Structured Capability Target 1","Provide feeding and sheltering for [number of] persons within [number of] hours of an incident, and maintain services for [number of] weeks."]
[null,"Number of persons"]
[null,"Number of hours"]
[null,"Number of weeks"]
[null,"Parameter 4"]
[null,"Parameter 5"]
[null,"Parameter 6"]
[null,"Parameter 7"]
[null,"Parameter 8"]
[null,"Parameter 9"]
[null,"Parameter 10"]
[null,"Parameter 11"]
[null,"Parameter 12"]
[null,"Parameter 13"]
[null,"Parameter 14"]
[null,"Parameter 15"]
[null,"Parameter 16"]
[null,"Parameter 17"]
[null,"Parameter 18"]
[null,"Parameter 19"]
[null,"Parameter 20"]
[null,"Structured Capability Target 2","Provide family relocation services for [number of] persons within [number of] hours of an incident, and maintain services for [number of] weeks."]
[null,"Number of persons"]
[null,"Number of hours"]
[null,"Number of weeks"]
[null,"Parameter 4"]
[null,"Parameter 5"]
[null,"Parameter 6"]
[null,"Parameter 7"]
[null,"Parameter 8"]
[null,"Parameter 9"]
[null,"Parameter 10"]
[null,"Parameter 11"]
[null,"Parameter 12"]
[null,"Parameter 13"]
[null,"Parameter 14"]
[null,"Parameter 15"]
[null,"Parameter 16"]
[null,"Parameter 17"]
[null,"Parameter 18"]
[null,"Parameter 19"]
[null,"Parameter 20"]
[null,"Structured Capability Target 3","Structured Target Description"]
[null,"Number of persons"]
[null,"Number of hours"]
[null,"Number of weeks"]
[null,"Parameter 4"]
[null,"Parameter 5"]
[null,"Parameter 6"]
[null,"Parameter 7"]
[null,"Parameter 8"]
[null,"Parameter 9"]
[null,"Parameter 10"]
[null,"Parameter 11"]
[null,"Parameter 12"]
[null,"Parameter 13"]
[null,"Parameter 14"]
[null,"Parameter 15"]
[null,"Parameter 16"]
[null,"Parameter 17"]
[null,"Parameter 18"]
[null,"Parameter 19"]
[null,"Parameter 20"]
[null,"Structured Capability Target 4","Structured Target Description"]
[null,"Number of persons"]
[null,"Number of hours"]
[null,"Number of weeks"]
[null,"Parameter 4"]
[null,"Parameter 5"]
[null,"Parameter 6"]
[null,"Parameter 7"]
[null,"Parameter 8"]
[null,"Parameter 9"]
[null,"Parameter 10"]
[null,"Parameter 11"]
[null,"Parameter 12"]
[null,"Parameter 13"]
[null,"Parameter 14"]
[null,"Parameter 15"]
[null,"Parameter 16"]
[null,"Parameter 17"]
[null,"Parameter 18"]
[null,"Parameter 19"]
[null,"Parameter 20"]

{"sheet":"Developer Notes","index":4,"n_rows":15,"n_cols":1,"rows_kept":15,"hidden":true}
["Add macro for additional NIMS resources"]
["Add macro for additional other resources"]
["What does save do on the THIRA/SPR sheet? Validate?"]
["Refine opening slides. Resize and rethink button logic and move any buttons to top."]
[]
["Heat Map"]
["Fill in remaining NIMS types; create worksheets and validation"]
["Run macro on TH save that validates category and TH"]
[]
["Adjust Save macro to add formula on desired outcome side"]
[]
["Assessment Save button write text box gaps to column R"]
[]
[]
["Write macro to autosize row. (copy contents to dummy cell, set row height to auto, detect row height, delete and apply height)"]

{"sheet":"THIRA #1 Planning","index":5,"n_rows":27,"n_cols":20,"rows_kept":27,"hidden":true,"merged":[[2,3,2,7],[3,3,3,7],[3,13,3,14],[5,3,5,7],[6,3,10,3],[11,3,15,3],[11,4,11,5],[11,9,11,10],[12,4,12,5],[13,4,13,5],[14,4,14,5],[15,4,15,5],[26,3,26,7]]}
[21,{"$nulls":17},"# Other Rows Filled",{"$f":"IF(COUNTIF(N$1:N803,1),MATCH(800,INDEX(1/(N$1:N803=1),0)),\"\")-(T3+8)","v":0}]
[{"$nulls":18},"# NIMS rows filled",{"$f":"IF(COUNTIF(K$1:K800,1),MATCH(800,INDEX(1/(K$1:K800=1),0)),\"\")-7","v":0}]
[{"$f":"MAX(B:B)","v":1},null,null,"Capability Target",{"$nulls":14},"# NIMS Rows",{"$f":"MAX(J:J)","v":4}]
[null,{"$f":"ROW()-3","v":1},null,{"$f":"INDIRECT(\"'THIRA Steps 1-3'!$C$13\")","v":"Click here to enter capability targets"},{"$nulls":14},"# NIMS Started",{"$f":"SUM(K:K)-1","v":0}]
[{"$nulls":18},"# NIMS Complete",{"$f":"SUM(L:L)","v":0}]
[{"$nulls":3},"Resource Requirements",{"$nulls":14},"# Other Rows",{"$f":"MAX(M:M)","v":4}]
[{"$nulls":3},"NIMS-typed Resources","Category","Resource","Type","Number Required",null,null,1,{"$nulls":7},"# Other Rows",{"$f":"SUM(N:N)-1","v":0}]
[{"$f":"LOOKUP(E8,'NIMS Resources'!B$4:B$12,'NIMS Resources'!C$4:C$12)","v":{"$error":"#N/A"}},null,{"$f":"VLOOKUP(F8, INDIRECT(\"'NIMS Resources'!$G$4:$J$\" & 366), 4, FALSE)","v":{"$error":"#N/A"}},{"$nulls":6},1,{"$f":"IF(OR(E8<>\"\", F8<>\"\", G8<>\"\", H8<>\"\"), 1, 0)","v":0},{"$f":"IF(AND(E8<>\"\", F8<>\"\", G8<>\"\", H8<>\"\"), 1, 0)","v":0},{"$nulls":6},"# Other",{"$f":"SUM(O:O)","v":0}]
[{"$f":"LOOKUP(E9,'NIMS Resources'!B$4:B$12,'NIMS Resources'!C$4:C$12)","v":{"$error":"#N/A"}},null,{"$f":"VLOOKUP(F9, INDIRECT(\"'NIMS Resources'!$G$4:$J$\" & 366), 4, FALSE)","v":{"$error":"#N/A"}},{"$nulls":6},{"$f":"J8+1","v":2},{"$f":"IF(OR(E9<>\"\", F9<>\"\", G9<>\"\", H9<>\"\"), 1, 0)","v":0},{"$f":"IF(AND(E9<>\"\", F9<>\"\", G9<>\"\", H9<>\"\"), 1, 0)","v":0}]
[{"$f":"LOOKUP(E10,'NIMS Resources'!B$4:B$12,'NIMS Resources'!C$4:C$12)","v":{"$error":"#N/A"}},null,{"$error":"#N/A"},{"$nulls":6},{"$f":"J9+1","v":3},{"$f":"IF(OR(E10<>\"\", F10<>\"\", G10<>\"\", H10<>\"\"), 1, 0)","v":0},{"$f":"IF(AND(E10<>\"\", F10<>\"\", G10<>\"\", H10<>\"\"), 1, 0)","v":0}]
[{"$f":"LOOKUP(E11,'NIMS Resources'!B$4:B$12,'NIMS Resources'!C$4:C$12)","v":{"$error":"#N/A"}},null,{"$error":"#N/A"},{"$nulls":6},4,{"$f":"IF(OR(E11<>\"\", F11<>\"\", G11<>\"\", H11<>\"\"), 1, 0)","v":0},{"$f":"IF(AND(E11<>\"\", F11<>\"\", G11<>\"\", H11<>\"\"), 1, 0)","v":0}]
[{"$nulls":3},"Other\nResources","Resource\n(Example:  Case Management Team)",null,"Category\r\n","Number Required\n",{"$nulls":5},1,{"$nulls":4},1]
[{"$nulls":12},1,{"$f":"IF(OR(E13<>\"\", H13<>\"\"), 1, 0)","v":0},{"$f":"IF(AND(E13<>\"\", H13<>\"\"), 1, 0)","v":0}]
[{"$nulls":12},{"$f":"M13+1","v":2},{"$f":"IF(OR(E14<>\"\", H14<>\"\"), 1, 0)","v":0},{"$f":"IF(AND(E14<>\"\", H14<>\"\"), 1, 0)","v":0}]
[{"$nulls":12},{"$f":"M14+1","v":3},{"$f":"IF(OR(E15<>\"\", H15<>\"\"), 1, 0)","v":0},{"$f":"IF(AND(E15<>\"\", H15<>\"\"), 1, 0)","v":0}]
[{"$nulls":12},{"$f":"M15+1","v":4},{"$f":"IF(OR(E16<>\"\", H16<>\"\"), 1, 0)","v":0},{"$f":"IF(AND(E16<>\"\", H16<>\"\"), 1, 0)","v":0}]
[{"$nulls":5},{"$f":"F16+1","v":1},{"$f":"IF(OR(A17<>\"\", B17<>\"\", C17<>\"\", D17<>\"\"), 1, 0)","v":0},{"$f":"IF(AND(A17<>\"\", B17<>\"\", C17<>\"\", D17<>\"\"), 1, 0)","v":0}]
[{"$nulls":5},{"$f":"F17+1","v":2},{"$f":"IF(OR(A18<>\"\", B18<>\"\", C18<>\"\", D18<>\"\"), 1, 0)","v":0},{"$f":"IF(AND(A18<>\"\", B18<>\"\", C18<>\"\", D18<>\"\"), 1, 0)","v":0}]
[]
[{"$nulls":5},{"$f":"F18+1","v":3},{"$f":"IF(OR(A20<>\"\", B20<>\"\", C20<>\"\", D20<>\"\"), 1, 0)","v":0},{"$f":"IF(AND(A20<>\"\", B20<>\"\", C20<>\"\", D20<>\"\"), 1, 0)","v":0}]
[]
[{"$nulls":8},1,{"$f":"IF(OR(A22<>\"\", D22<>\"\"), 1, 0)","v":0},{"$f":"IF(AND(A22<>\"\", D22<>\"\"), 1, 0)","v":0}]
[{"$nulls":8},{"$f":"I22+1","v":2},{"$f":"IF(OR(A23<>\"\", D23<>\"\"), 1, 0)","v":0},{"$f":"IF(AND(A23<>\"\", D23<>\"\"), 1, 0)","v":0}]
[{"$nulls":8},{"$f":"I23+1","v":3},{"$f":"IF(OR(A24<>\"\", D24<>\"\"), 1, 0)","v":0},{"$f":"IF(AND(A24<>\"\", D24<>\"\"), 1, 0)","v":0}]
[{"$nulls":8},{"$f":"I24+1","v":4},{"$f":"IF(OR(A25<>\"\", D25<>\"\"), 1, 0)","v":0},{"$f":"IF(AND(A25<>\"\", D25<>\"\"), 1, 0)","v":0}]
[]
[{"$nulls":3},"Journal Notes/Comments (optional)",{"$nulls":5},0]

{"sheet":"SPR #1 Planning CPG101","index":6,"n_rows":43,"n_cols":17,"rows_kept":43,"hidden":true,"merged":[[16,2,16,5],[17,2,17,5],[19,2,19,5],[21,2,22,2],[21,3,22,3],[24,2,25,2],[24,3,25,4],[27,2,31,2],[27,3,31,5],[33,2,34,2],[33,3,34,4],[36,2,37,2],[36,3,37,5],[39,2,40,2],[39,3,40,4],[42,2,42,5],[43,2,47,5]]}
{"$rows_empty":13}
[{"$nulls":16},1]
[]
[]
[null,null,"Emergency Operations Plan (EOP) Name"]
[{"$nulls":8},{"$f":"COUNTIF(C18, \"<>\")","v":0}]
[]
[null,null,"CPG 101 Criteria"]
[]
[null,null,"Approval","Has the EOP been aligned with CPG 101 v2 and approved by the appropriate state official?   ","Current Status","EOP Approval Date"]
[{"$nulls":7},1,{"$f":"IF(OR(H23=3, AND(H23=2, F23<>\"\")), 1, 0)","v":0}]
[]
[null,null,"Whole Community","Was the whole community involved in the development of the base plan?   \n\nNote: The whole community includes, but is not limited to, those non-governmental organizations beyond traditional engagement, groups representing those with access and functional needs, youth and children, and the private sector.",null,"Current Status"]
[{"$nulls":7},1]
[]
[null,null,"Compliance Criteria","CPG 101 v2 outlines the four standard criteria that State should incorporate in their base plan in order to ensure the effectiveness and efficiency of emergency operation planning.  Please select the applicable criteria that are addressed in the EOP."]
[{"$nulls":7},false,{"$f":"COUNTIF(H29:H33, \"TRUE\")","v":0}]
[{"$nulls":7},false]
[{"$nulls":7},false]
[{"$nulls":7},false]
[{"$nulls":7},false]
[null,null,"EOP Training","Has the state conducted training on the EOP base plan?",null,"Current Status"]
[{"$nulls":7},1]
[]
[null,null,"EOP Evaluation","Has the state evaluated the effectiveness of the EOP base plan through exercises or real-world event?"]
[{"$nulls":7},false,false,false,{"$f":"COUNTIF(H38:J38, \"TRUE\")","v":0}]
[]
[null,null,"EOP Revision","Has the state updated the EOP base plan based on corrective actions identified during the training, exercise, or real-world event? ",null,"Current Status",{"$nulls":4},"TOTAL"]
[{"$nulls":7},1,null,null,{"$f":"COUNTIF(I18,\">0\")+COUNTIF(I23,\"=1\")+COUNTIF(H26,\">1\")+COUNTIF(I29,\">0\")+COUNTIF(H35,\">1\")+COUNTIF(K38,\">0\")+COUNTIF(H41,\">1\")","v":0}]
[]
[null,null,"Journal Notes/Comments (optional)"]

{"sheet":"SPR #1 Planning","index":7,"n_rows":56,"n_cols":24,"rows_kept":56,"hidden":true,"merged":[[2,3,2,7],[3,3,3,7],[5,3,5,7],[7,3,7,7],[8,4,8,7],[9,4,9,7],[10,4,10,7],[12,3,14,3],[14,4,14,7],[16,3,18,3],[18,4,18,7],[20,3,22,3],[22,4,22,7],[24,3,26,3],[26,4,26,7],[28,3,30,3],[30,4,30,7],[32,3,32,7],[33,3,33,7],[36,3,36,7],[43,3,43,7],[44,3,48,3],[49,3,53,3],[49,4,49,5],[50,4,50,5],[51,4,51,5],[52,4,52,5],[53,4,53,5],[55,3,55,7]]}
[21]
[1]
[{"$f":"MAX(B:B)","v":1},null,null,"Capability Target"]
[null,{"$f":"ROW()-3","v":1},null,{"$f":"INDIRECT(\"'THIRA Steps 1-3'!$C$13\")","v":"Click here to enter capability targets"}]
[]
[{"$nulls":3},"Capability Assessment"]
[]
[{"$nulls":3},"Priority"]
[{"$nulls":4},"Relative to the other core capabilities, efforts to build and/or sustain this core capability are of high importance to my jurisdiction’s preparedness activities.",{"$nulls":4},"C",{"$nulls":5},0]
[{"$nulls":4},"Relative to the other core capabilities, efforts to build and/or sustain this core capability are of medium importance to my jurisdiction’s preparedness activities."]
[{"$nulls":4},"Relative to the other core capabilities, efforts to build and/or sustain this core capability are of low importance to my jurisdiction’s preparedness activities."]
[{"$nulls":5},false]
[{"$nulls":3},"Planning","Rating\nInternal Capability","Rating (optional)\nInternal Capability + Mutual Aid","Gap Description (optional)","Recent Advances (optional)"]
[{"$nulls":4},{"$f":"LOOKUP(P14, Lists!$C$2:$C$8, Lists!D2:D8)","v":"No selection made"},{"$f":"LOOKUP(Q14, Lists!$C$2:$C$8, Lists!D2:D8)","v":"No selection made"},{"$nulls":8},0,1,1,{"$f":"COUNTIF(I15:AC15, \"TRUE\")","v":0},0,0]
[{"$nulls":4},"Into which functional area(s) does your community's planning gaps fall?",{"$nulls":3},false,false,false,false,false,false,false,false,false]
[]
[{"$nulls":3},"Organization","Rating\nInternal Capability","Rating (optional)\nInternal Capability + Mutual Aid","Gap Description (optional)","Recent Advances (optional)"]
[{"$nulls":4},{"$f":"LOOKUP(P18, Lists!$C$2:$C$8, Lists!E2:E8)","v":"No selection made"},{"$f":"LOOKUP(Q18, Lists!$C$2:$C$8, Lists!E2:E8)","v":"No selection made"},{"$nulls":8},0,1,1,{"$f":"COUNTIF(I19:AC19, \"TRUE\")","v":0},0,0]
[{"$nulls":4},"Into which functional area(s) does your community's organizational gaps fall?",{"$nulls":3},false,false,false,false,false,false,false,false,false]
[]
[{"$nulls":3},"Equipment","Rating\nInternal Capability","Rating (optional)\nInternal Capability + Mutual Aid","Gap Description (optional)","Recent Advances (optional)",{"$nulls":7},1,1]
[{"$nulls":4},{"$f":"LOOKUP(P22, Lists!$C$2:$C$8, Lists!F2:F8)","v":"No selection made"},{"$f":"LOOKUP(Q22, Lists!$C$2:$C$8, Lists!F2:F8)","v":"No selection made"},{"$nulls":8},0,1,1,{"$f":"COUNTIF(I23:AC23, \"TRUE\")","v":0},0,0]
[{"$nulls":4},"Into which functional area(s) does your community's equipment gaps fall?",{"$nulls":3},false,false,false,false,false,false,false,false,false]
[]
[{"$nulls":3},"Training","Rating\nInternal Capability","Rating (optional)\nInternal Capability + Mutual Aid","Gap Description (optional)","Recent Advances (optional)",{"$nulls":7},1,1]
[{"$nulls":4},{"$f":"LOOKUP(P26, Lists!$C$2:$C$8, Lists!G2:G8)","v":"No selection made"},{"$f":"LOOKUP(Q26, Lists!$C$2:$C$8, Lists!G2:G8)","v":"No selection made"},{"$nulls":8},0,1,1,{"$f":"COUNTIF(I27:AC27, \"TRUE\")","v":0},0,0]
[{"$nulls":4},"Into which functional area(s) does your community's training gaps fall?",{"$nulls":3},false,false,false,false,false,false,false,false,false,false,false]
[]
[{"$nulls":3},"Exercises","Rating\nInternal Capability","Rating (optional)\nInternal Capability + Mutual Aid","Gap Description (optional)","Recent Advances (optional)",{"$nulls":7},1,1]
[{"$nulls":4},{"$f":"LOOKUP(P30, Lists!$C$2:$C$8, Lists!H2:H8)","v":"No selection made"},{"$f":"LOOKUP(Q30, Lists!$C$2:$C$8, Lists!H2:H8)","v":"No selection made"},{"$nulls":8},0,1,1,{"$f":"COUNTIF(I31:AC31, \"TRUE\")","v":0},0,0]
[{"$nulls":4},"Into which functional area(s) does your community's exercise gaps fall?",{"$nulls":3},false,false,false,false,false,false,false,false,false]
[]
[{"$nulls":3},"Assessment Corroboration"]
[{"$nulls":8},{"$f":"IF(M34=TRUE, \"TRUE\", (IF(AND(K34=TRUE, N34=1), \"TRUE\", (IF(AND(L34= TRUE, N34=1), \"TRUE\")))))","v":false},{"$f":"COUNTIF(K34:M34, \"TRUE\")","v":0},false,false,false,0,{"$nulls":9},"C"]
[]
[]
[{"$nulls":3},"Responsibility for Filling Gap",{"$nulls":11},0]
[{"$nulls":15},0]
[]
[]
[]
[]
[]
[{"$nulls":3},"Resource Requirements",{"$nulls":5},"NIMS",4,{"$nulls":4},0]
[{"$nulls":3},"NIMS-typed Resources","Category","Resource","Type","Number Available",null,"Other",4]
[{"$nulls":4},{"$f":"'THIRA #1 Planning'!E8","v":0},{"$f":"'THIRA #1 Planning'!F8","v":0},{"$f":"'THIRA #1 Planning'!G8","v":0}]
[{"$nulls":4},{"$f":"'THIRA #1 Planning'!E9","v":0},{"$f":"'THIRA #1 Planning'!F9","v":0},{"$f":"'THIRA #1 Planning'!G9","v":0}]
[{"$nulls":4},{"$f":"'THIRA #1 Planning'!E10","v":0},{"$f":"'THIRA #1 Planning'!F10","v":0},{"$f":"'THIRA #1 Planning'!G10","v":0}]
[{"$nulls":4},{"$f":"'THIRA #1 Planning'!E11","v":0},{"$f":"'THIRA #1 Planning'!F11","v":0},{"$f":"'THIRA #1 Planning'!G11","v":0}]
[{"$nulls":3},"Other\nResources","Resource\n(Example:  Case Management Team)",null,"Category\n","Number Available\n"]
[{"$nulls":4},{"$f":"'THIRA #1 Planning'!E13","v":0},null,{"$f":"'THIRA #1 Planning'!G13","v":0}]
[{"$nulls":4},{"$f":"'THIRA #1 Planning'!E14","v":0},null,{"$f":"'THIRA #1 Planning'!G14","v":0}]
[{"$nulls":4},{"$f":"'THIRA #1 Planning'!E15","v":0},null,{"$f":"'THIRA #1 Planning'!G15","v":0}]
[{"$nulls":4},{"$f":"'THIRA #1 Planning'!E16","v":0},null,{"$f":"'THIRA #1 Planning'!G16","v":0}]
[]
[{"$nulls":3},"Journal Notes/Comments (optional)",{"$nulls":11},0]

{"sheet":"THIRA #2 Public Info Warn","index":8,"n_rows":27,"n_cols":20,"rows_kept":27,"hidden":true,"merged":[[2,3,2,7],[3,3,3,7],[3,13,3,14],[5,3,5,7],[6,3,10,3],[11,3,15,3],[11,4,11,5],[12,4,12,5],[13,4,13,5],[14,4,14,5],[15,4,15,5],[26,3,26,7],[27,3,31,7]]}
[21,null,"CN",{"$nulls":15},"# Other Rows Filled",{"$f":"IF(COUNTIF(N$1:N803,1),MATCH(800,INDEX(1/(N$1:N803=1),0)),\"\")-(T3+8)","v":0}]
[{"$nulls":18},"# NIMS rows filled",{"$f":"IF(COUNTIF(K$1:K800,1),MATCH(800,INDEX(1/(K$1:K800=1),0)),\"\")-7","v":0}]
[{"$f":"MAX(B:B)","v":1},null,null,"Capability Target",{"$nulls":14},"# NIMS Rows",{"$f":"MAX(J:J)","v":4}]
[null,{"$f":"ROW()-3","v":1},null,{"$f":"INDIRECT(\"'THIRA Steps 1-3'!$C$437\")","v":"Click here to enter capability targets"},{"$nulls":14},"# NIMS Started",{"$f":"SUM(K:K)-1","v":0}]
[{"$nulls":18},"# NIMS Complete",{"$f":"SUM(L:L)","v":0}]
[{"$nulls":3},"Resource Requirements",{"$nulls":14},"# Other Rows",{"$f":"MAX(M:M)","v":4}]
[{"$nulls":3},"NIMS-typed Resources","Category","Resource","Type","Number Required",null,null,1,{"$nulls":7},"# Other Rows",{"$f":"SUM(N:N)-1","v":0}]
[{"$f":"LOOKUP(E8,'NIMS Resources'!B$4:B$12,'NIMS Resources'!C$4:C$12)","v":{"$error":"#N/A"}},null,{"$f":"VLOOKUP(F8, INDIRECT(\"'NIMS Resources'!$G$4:$J$\" & 366), 4, FALSE)","v":{"$error":"#N/A"}},{"$nulls":6},1,{"$f":"IF(OR(E8<>\"\", F8<>\"\", G8<>\"\", H8<>\"\"), 1, 0)","v":0},{"$f":"IF(AND(E8<>\"\", F8<>\"\", G8<>\"\", H8<>\"\"), 1, 0)","v":0},{"$nulls":6},"# Other",{"$f":"SUM(O:O)","v":0}]
[{"$f":"LOOKUP(E9,'NIMS Resources'!B$4:B$12,'NIMS Resources'!C$4:C$12)","v":{"$error":"#N/A"}},null,{"$f":"VLOOKUP(F9, INDIRECT(\"'NIMS Resources'!$G$4:$J$\" & 366), 4, FALSE)","v":{"$error":"#N/A"}},{"$nulls":6},{"$f":"J8+1","v":2},{"$f":"IF(OR(E9<>\"\", F9<>\"\", G9<>\"\", H9<>\"\"), 1, 0)","v":0},{"$f":"IF(AND(E9<>\"\", F9<>\"\", G9<>\"\", H9<>\"\"), 1, 0)","v":0}]
[{"$f":"LOOKUP(E10,'NIMS Resources'!B$4:B$12,'NIMS Resources'!C$4:C$12)","v":{"$error":"#N/A"}},null,{"$error":"#N/A"},{"$nulls":6},{"$f":"J9+1","v":3},{"$f":"IF(OR(E10<>\"\", F10<>\"\", G10<>\"\", H10<>\"\"), 1, 0)","v":0},{"$f":"IF(AND(E10<>\"\", F10<>\"\", G10<>\"\", H10<>\"\"), 1, 0)","v":0}]
[{"$f":"LOOKUP(E11,'NIMS Resources'!B$4:B$12,'NIMS Resources'!C$4:C$12)","v":{"$error":"#N/A"}},null,{"$error":"#N/A"},{"$nulls":6},{"$f":"J10+1","v":4},{"$f":"IF(OR(E11<>\"\", F11<>\"\", G11<>\"\", H11<>\"\"), 1, 0)","v":0},{"$f":"IF(AND(E11<>\"\", F11<>\"\", G11<>\"\", H11<>\"\"), 1, 0)","v":0}]
[{"$nulls":3},"Other\nResources","Resource\n(Example:  Case Management Team)",null,"Category\r\n","Number Required\n",{"$nulls":5},1]
[{"$nulls":12},1,{"$f":"IF(OR(E13<>\"\", H13<>\"\"), 1, 0)","v":0},{"$f":"IF(AND(E13<>\"\", H13<>\"\"), 1, 0)","v":0}]
[{"$nulls":12},{"$f":"M13+1","v":2},{"$f":"IF(OR(E14<>\"\", H14<>\"\"), 1, 0)","v":0},{"$f":"IF(AND(E14<>\"\", H14<>\"\"), 1, 0)","v":0}]
[{"$nulls":12},{"$f":"M14+1","v":3},0,0]
[{"$nulls":12},{"$f":"M15+1","v":4},0,0]
{"$rows_empty":10}
[{"$nulls":3},"Journal Notes/Comments (optional)",{"$nulls":5},0]

{"sheet":"SPR #2 Public Info Warn","index":9,"n_rows":56,"n_cols":20,"rows_kept":56,"hidden":true,"merged":[[2,3,2,7],[3,3,3,7],[5,3,5,7],[7,3,7,7],[8,4,8,7],[9,4,9,7],[10,4,10,7],[12,3,14,3],[14,4,14,7],[16,3,18,3],[18,4,18,7],[20,3,22,3],[22,4,22,7],[24,3,26,3],[26,4,26,7],[28,3,30,3],[30,4,30,7],[32,3,32,7],[33,3,33,7],[36,3,36,7],[43,3,43,7],[44,3,48,3],[49,3,53,3],[49,4,49,5],[50,4,50,5],[51,4,51,5],[52,4,52,5],[53,4,53,5],[55,3,55,7]]}
[21]
[2]
[{"$f":"MAX(B:B)","v":1},null,null,"Capability Target"]
[null,{"$f":"ROW()-3","v":1},null,{"$f":"INDIRECT(\"'THIRA Steps 1-3'!$C$437\")","v":"Click here to enter capability targets"}]
[]
[{"$nulls":3},"Capability Assessment"]
[]
[{"$nulls":3},"Priority"]
[{"$nulls":4},"Relative to the other core capabilities, efforts to build and/or sustain this core capability are of high importance to my jurisdiction’s preparedness activities.",{"$nulls":10},0]
[{"$nulls":4},"Relative to the other core capabilities, efforts to build and/or sustain this core capability are of medium importance to my jurisdiction’s preparedness activities."]
[{"$nulls":4},"Relative to the other core capabilities, efforts to build and/or sustain this core capability are of low importance to my jurisdiction’s preparedness activities."]
[]
[{"$nulls":3},"Planning","Rating\nInternal Capability","Rating (optional)\nInternal Capability + Mutual Aid","Gap Description (optional)","Recent Advances (optional)"]
[{"$nulls":4},{"$f":"LOOKUP(P14, Lists!$C$2:$C$8, Lists!D2:D8)","v":"No selection made"},{"$f":"LOOKUP(Q14, Lists!$C$2:$C$8, Lists!D2:D8)","v":"No selection made"},{"$nulls":9},1,1,{"$f":"COUNTIF(I15:AC15, \"TRUE\")","v":0},0,0]
[{"$nulls":4},"Into which functional area(s) does your community's planning gaps fall?",{"$nulls":3},false,false,false,false,false,false,false,false,false,false]
[]
[{"$nulls":3},"Organization","Rating\nInternal Capability","Rating (optional)\nInternal Capability + Mutual Aid","Gap Description (optional)","Recent Advances (optional)"]
[{"$nulls":4},{"$f":"LOOKUP(P18, Lists!$C$2:$C$8, Lists!E2:E8)","v":"No selection made"},{"$f":"LOOKUP(Q18, Lists!$C$2:$C$8, Lists!E2:E8)","v":"No selection made"},{"$nulls":9},1,1,{"$f":"COUNTIF(I19:AC19, \"TRUE\")","v":0},0,0]
[{"$nulls":4},"Into which functional area(s) does your community's organizational gaps fall?",{"$nulls":4},false,null,false,false,false,null,false,false,false]
[]
[{"$nulls":3},"Equipment","Rating\nInternal Capability","Rating (optional)\nInternal Capability + Mutual Aid","Gap Description (optional)","Recent Advances (optional)",{"$nulls":7},1,1]
[{"$nulls":4},{"$f":"LOOKUP(P22, Lists!$C$2:$C$8, Lists!F2:F8)","v":"No selection made"},{"$f":"LOOKUP(Q22, Lists!$C$2:$C$8, Lists!F2:F8)","v":"No selection made"},{"$nulls":8},1,1,1,{"$f":"COUNTIF(I23:AC23, \"TRUE\")","v":0},0,0]
[{"$nulls":4},"Into which functional area(s) does your community's equipment gaps fall?",{"$nulls":4},false,false,false,false,null,null,false,null,false]
[]
[{"$nulls":3},"Training","Rating\nInternal Capability","Rating (optional)\nInternal Capability + Mutual Aid","Gap Description (optional)","Recent Advances (optional)",{"$nulls":7},1,1]
[{"$nulls":4},{"$f":"LOOKUP(P26, Lists!$C$2:$C$8, Lists!G2:G8)","v":"No selection made"},{"$f":"LOOKUP(Q26, Lists!$C$2:$C$8, Lists!G2:G8)","v":"No selection made"},{"$nulls":9},1,1,{"$f":"COUNTIF(I27:AC27, \"TRUE\")","v":0},0,0]
[{"$nulls":4},"Into which functional area(s) does your community's training gaps fall?",{"$nulls":3},false,false,false,false,false,false,false,false,false,false,false]
[]
[{"$nulls":3},"Exercises","Rating\nInternal Capability","Rating (optional)\nInternal Capability + Mutual Aid","Gap Description (optional)","Recent Advances (optional)",{"$nulls":7},1,1]
[{"$nulls":4},{"$f":"LOOKUP(P30, Lists!$C$2:$C$8, Lists!H2:H8)","v":"No selection made"},{"$f":"LOOKUP(Q30, Lists!$C$2:$C$8, Lists!H2:H8)","v":"No selection made"},{"$nulls":9},1,1,{"$f":"COUNTIF(I31:AC31, \"TRUE\")","v":0},0,0]
[{"$nulls":4},"Into which functional area(s) does your community's exercise gaps fall?",{"$nulls":3},false,false,false,false,false,false,false,false,null,false]
[]
[{"$nulls":3},"Assessment Corroboration"]
[{"$nulls":8},{"$f":"IF(M34=TRUE, \"TRUE\", (IF(AND(K34=TRUE, N34=1), \"TRUE\", (IF(AND(L34= TRUE, N34=1), \"TRUE\")))))","v":false},{"$f":"COUNTIF(K34:M34, \"TRUE\")","v":0},false,false,false,0]
[]
[]
[{"$nulls":3},"Responsibility for Filling Gap",{"$nulls":11},0]
[{"$nulls":15},0]
[]
[]
[]
[]
[]
[{"$nulls":3},"Resource Requirements",{"$nulls":5},"NIMS",4]
[{"$nulls":3},"NIMS-typed Resources","Category","Resource","Type","Number Available",null,"Other",4]
[{"$nulls":4},{"$f":"'THIRA #2 Public Info Warn'!E8","v":0},{"$f":"'THIRA #2 Public Info Warn'!F8","v":0},{"$f":"'THIRA #2 Public Info Warn'!G8","v":0}]
[{"$nulls":4},{"$f":"'THIRA #2 Public Info Warn'!E9","v":0},{"$f":"'THIRA #2 Public Info Warn'!F9","v":0},{"$f":"'THIRA #2 Public Info Warn'!G9","v":0}]
[{"$nulls":4},{"$f":"'THIRA #2 Public Info Warn'!E10","v":0},{"$f":"'THIRA #2 Public Info Warn'!F10","v":0},{"$f":"'THIRA #2 Public Info Warn'!G10","v":0}]
[{"$nulls":4},{"$f":"'THIRA #2 Public Info Warn'!E11","v":0},{"$f":"'THIRA #2 Public Info Warn'!F11","v":0},{"$f":"'THIRA #2 Public Info Warn'!G11","v":0}]
[{"$nulls":3},"Other\nResources","Resource\n(Example:  Case Management Team)",null,"Category\n","Number Available\n"]
[{"$nulls":4},{"$f":"'THIRA #2 Public Info Warn'!E13","v":0},null,{"$f":"'THIRA #2 Public Info Warn'!G13","v":0}]
[{"$nulls":4},{"$f":"'THIRA #2 Public Info Warn'!#REF!","v":{"$error":"#REF!"}},null,{"$f":"'THIRA #2 Public Info Warn'!#REF!","v":{"$error":"#REF!"}}]
[{"$nulls":4},{"$f":"'THIRA #2 Public Info Warn'!E15","v":0},null,{"$f":"'THIRA #2 Public Info Warn'!G15","v":0}]
[{"$nulls":4},{"$f":"'THIRA #2 Public Info Warn'!E16","v":0},null,{"$f":"'THIRA #2 Public Info Warn'!G16","v":0}]
[]
[{"$nulls":3},"Journal Notes/Comments (optional)",{"$nulls":11},0]

{"sheet":"THIRA #3 Op Coord","index":10,"n_rows":27,"n_cols":20,"rows_kept":27,"hidden":true,"merged":[[2,3,2,7],[3,3,3,7],[3,13,3,14],[5,3,5,7],[6,3,10,3],[11,3,15,3],[11,4,11,5],[12,4,12,5],[13,4,13,5],[14,4,14,5],[15,4,15,5],[26,3,26,7]]}
[21,{"$nulls":17},"# Other Rows Filled",{"$f":"IF(COUNTIF(N$1:N803,1),MATCH(800,INDEX(1/(N$1:N803=1),0)),\"\")-(T3+8)","v":0}]
[{"$nulls":18},"# NIMS rows filled",{"$f":"IF(COUNTIF(K$1:K800,1),MATCH(800,INDEX(1/(K$1:K800=1),0)),\"\")-7","v":0}]
[{"$f":"MAX(B:B)","v":1},null,null,"Capability Target",{"$nulls":14},"# NIMS Rows",{"$f":"MAX(J:J)","v":4}]
[null,{"$f":"ROW()-3","v":1},null,{"$f":"INDIRECT(\"'THIRA Steps 1-3'!$C$861\")","v":"Click here to enter capability targets"},{"$nulls":14},"# NIMS Started",{"$f":"SUM(K:K)-1","v":0}]
[{"$nulls":18},"# NIMS Complete",{"$f":"SUM(L:L)","v":0}]
[{"$nulls":3},"Resource Requirements",{"$nulls":14},"# Other Rows",{"$f":"MAX(M:M)","v":4}]
[{"$nulls":3},"NIMS-typed Resources","Category","Resource","Type","Number Required",null,null,1,{"$nulls":7},"# Other Rows",{"$f":"SUM(N:N)-1","v":0}]
[{"$f":"LOOKUP(E8,'NIMS Resources'!B$4:B$12,'NIMS Resources'!C$4:C$12)","v":{"$error":"#N/A"}},null,{"$f":"VLOOKUP(F8, INDIRECT(\"'NIMS Resources'!$G$4:$J$\" & 366), 4, FALSE)","v":{"$error":"#N/A"}},{"$nulls":6},1,{"$f":"IF(OR(E8<>\"\", F8<>\"\", G8<>\"\", H8<>\"\"), 1, 0)","v":0},{"$f":"IF(AND(E8<>\"\", F8<>\"\", G8<>\"\", H8<>\"\"), 1, 0)","v":0},{"$nulls":6},"# Other",{"$f":"SUM(O:O)","v":0}]
[{"$f":"LOOKUP(E9,'NIMS Resources'!B$4:B$12,'NIMS Resources'!C$4:C$12)","v":{"$error":"#N/A"}},null,{"$f":"VLOOKUP(F9, INDIRECT(\"'NIMS Resources'!$G$4:$J$\" & 366), 4, FALSE)","v":{"$error":"#N/A"}},{"$nulls":6},{"$f":"J8+1","v":2},{"$f":"IF(OR(E9<>\"\", F9<>\"\", G9<>\"\", H9<>\"\"), 1, 0)","v":0},{"$f":"IF(AND(E9<>\"\", F9<>\"\", G9<>\"\", H9<>\"\"), 1, 0)","v":0}]
[{"$f":"LOOKUP(E10,'NIMS Resources'!B$4:B$12,'NIMS Resources'!C$4:C$12)","v":{"$error":"#N/A"}},null,{"$error":"#N/A"},{"$nulls":6},{"$f":"J9+1","v":3},{"$f":"IF(OR(E10<>\"\", F10<>\"\", G10<>\"\", H10<>\"\"), 1, 0)","v":0},{"$f":"IF(AND(E10<>\"\", F10<>\"\", G10<>\"\", H10<>\"\"), 1, 0)","v":0}]
[{"$f":"LOOKUP(E11,'NIMS Resources'!B$4:B$12,'NIMS Resources'!C$4:C$12)","v":{"$error":"#N/A"}},null,{"$error":"#N/A"},{"$nulls":6},{"$f":"J10+1","v":4},{"$f":"IF(OR(E11<>\"\", F11<>\"\", G11<>\"\", H11<>\"\"), 1, 0)","v":0},{"$f":"IF(AND(E11<>\"\", F11<>\"\", G11<>\"\", H11<>\"\"), 1, 0)","v":0}]
[{"$nulls":3},"Other\nResources","Resource\n(Example:  Case Management Team)",null,"Category\r\n","Number Required\n",{"$nulls":5},1]
[{"$nulls":12},1,{"$f":"IF(OR(E13<>\"\", H13<>\"\"), 1, 0)","v":0},{"$f":"IF(AND(E13<>\"\", H13<>\"\"), 1, 0)","v":0}]
[{"$nulls":12},{"$f":"M13+1","v":2},{"$f":"IF(OR(E14<>\"\", H14<>\"\"), 1, 0)","v":0},{"$f":"IF(AND(E14<>\"\", H14<>\"\"), 1, 0)","v":0}]
[{"$nulls":12},{"$f":"M14+1","v":3},{"$f":"IF(OR(E15<>\"\", H15<>\"\"), 1, 0)","v":0},{"$f":"IF(AND(E15<>\"\", H15<>\"\"), 1, 0)","v":0}]
[{"$nulls":12},{"$f":"M15+1","v":4},{"$f":"IF(OR(E16<>\"\", H16<>\"\"), 1, 0)","v":0},{"$f":"IF(AND(E16<>\"\", H16<>\"\"), 1, 0)","v":0}]
{"$rows_empty":10}
[{"$nulls":3},"Journal Notes/Comments (optional)",{"$nulls":5},0]

{"sheet":"SPR #3 Op Coord NIMS","index":11,"n_rows":112,"n_cols":12,"rows_kept":112,"hidden":true,"merged":[[16,3,24,3],[16,4,16,8],[20,6,21,6],[20,7,21,8],[23,4,23,8],[26,3,27,3],[26,4,27,7],[29,3,36,3],[29,4,29,8],[30,6,35,8],[38,3,45,3],[38,4,38,8],[40,5,40,7],[40,8,44,8],[41,5,41,7],[42,5,42,7],[43,5,43,7],[44,5,44,7],[47,3,65,3],[47,4,47,8],[48,4,48,8],[49,4,49,8],[50,4,55,8],[56,4,56,8],[57,4,57,8],[58,4,58,8],[59,4,65,8],[67,3,83,3],[67,4,67,8],[68,4,68,8],[69,4,69,8],[70,4,75,8],[76,4,76,8],[77,4,83,8],[85,3,92,3],[85,4,86,7],[87,4,88,7],[89,4,90,7],[91,4,91,8],[94,3,103,3],[94,4,103,8],[105,3,106,3],[105,4,106,7],[108,3,109,3],[108,4,109,8],[111,3,111,8],[112,3,117,8]]}
{"$rows_empty":14}
[{"$nulls":7},"Percentage Complete:",{"$f":"SUM(L17,L27,L30,L39,L48,L57,L68,L86,L88,L90,L92,L95,L106)/13","v":{"v":0,"d":"0%"}},null,{"$f":"IF(AND(K17=\"Y\", K27=\"Y\", K30=\"Y\", K39=\"Y\", K48=\"Y\", K57=\"Y\", K68=\"Y\", K86=\"Y\", K88=\"Y\", K90=\"Y\", K92=\"Y\", K95=\"Y\", K106=\"Y\"), \"Y\", \"N\")","v":"N"}]
[]
[{"$nulls":3},"Jurisdiction Types","1.a. How many of the following jurisdiction types are reflected in your response? ",{"$nulls":5},{"$f":"IF(AND(K18=1, K19=\"Y\"), \"Y\", \"N\")","v":"N"},{"$f":"IF(K17=\"Y\", 1, 0)","v":0}]
[{"$nulls":4},"Tribal Nations:",{"$nulls":5},{"$f":"IF(OR(F18<>\"\",F19<>\"\",F20<>\"\"),1,0)","v":0}]
[{"$nulls":4},"Counties/Parishes/Townships/Boroughs:",{"$nulls":5},{"$f":"IF(OR(AND(F21=0, K22<>1), AND(F21=\"\", K22<>1), AND(F21>0, K22=1)), \"Y\", \"N\")","v":"Y"}]
[{"$nulls":4},"Cities/Urban Areas:"]
[{"$nulls":4},"Other:",null,"If you marked “Other,” please identify the jurisdiction types included in that category:"]
[{"$nulls":10},0]
[]
[{"$nulls":4},"1.b. If all components of your jurisdiction are not accounted for, please explain:",{"$nulls":5},0]
[]
[]
[{"$nulls":3},"NIMS Adoption","2. What percentage of your State or Territory’s sub-jurisdictions have formally adopted and/or maintained adoption of the National Incident Management System as their all-hazards incident management system for Fiscal Year (FY) 2015? ",{"$nulls":3},"Current Status",null,{"$f":"IF(K28<>1,\"Y\",\"N\")","v":"N"},{"$f":"IF(K27=\"Y\", 1, 0)","v":0}]
[{"$nulls":10},1]
[]
[{"$nulls":3},"Plans","3. What percentage of the following types of plans within your State or Territory are reviewed and revised to incorporate NIMS components, principles, and policies? ",{"$nulls":5},{"$f":"IF(AND(K31<>1, K32<>1, K33<>1, K34<>1, K35<>1, K36<>1, K37<>1), \"Y\", \"N\")","v":"N"},{"$f":"IF(K30=\"Y\", 1, 0)","v":0}]
[{"$nulls":4},"Emergency Operations Plans",{"$nulls":5},1]
[{"$nulls":4},"Standard Operating Procedures",{"$nulls":5},1]
[{"$nulls":4},"Standard Operating Guidelines",{"$nulls":5},1]
[{"$nulls":4},"All Hazard Plan",{"$nulls":5},1]
[{"$nulls":4},"Mitigation Plan",{"$nulls":5},1]
[{"$nulls":4},"Training Plan",{"$nulls":5},1]
[{"$nulls":4},"Continuity Plan",{"$nulls":5},1]
[]
[{"$nulls":3},"Mutual Aid","4. Has your State or Territory, including sub-jurisdictions, established (and/or have in development) the following types of mutual aid agreements, compacts, and/or assistance agreements?  ",{"$nulls":5},{"$f":"IF(AND(K42<>0, K43<>0, K44<>0, K45<>0, L42<>0, L43<>0,L44<>0, L45<>0), \"Y\", \"N\")","v":"N"},{"$f":"IF(K39=\"Y\", 1, 0)","v":0}]
[]
[{"$nulls":4},"Intrastate Agreements","Interagency and Interstate Agreements"]
[{"$nulls":4},"Throughout the State/Territory?","Throughout the juridiction?",{"$nulls":4},0,0]
[{"$nulls":4},"That incude the Private Sector?","That include the Private Sector?",{"$nulls":4},0,0]
[{"$nulls":4},"That include NGOs?","That include NGOs?",{"$nulls":4},0,0]
[{"$nulls":4},"That include Tribal Nations?","That include Tribal Nations?",{"$nulls":4},0,0]
[]
[]
[{"$nulls":3},"NIMS Training","5.a. Have NIMS concepts and principles been incorporated into appropriate training within your State or Territory? ",{"$nulls":5},{"$f":"IF(OR(AND(K49=1,K50>0), AND(K49=2, K50>0), AND(K49=3, K50=0)), \"Y\", \"N\")","v":"N"},{"$f":"IF(K48=\"Y\", 1, 0)","v":0}]
[{"$nulls":10},0]
[{"$nulls":4},"5.b. If yes, which of the following has been incorporated?",{"$nulls":5},{"$f":"COUNTIF(K51:K56, \"TRUE\")","v":0}]
[{"$nulls":10},false]
[{"$nulls":10},false]
[{"$nulls":10},false]
[{"$nulls":10},false]
[{"$nulls":10},false]
[{"$nulls":10},false]
[{"$nulls":4},"6. Has your State or Territory implemented a training program to ensure that the appropriate emergency/incident response personnel, as identified in the NIMS Training Program, receive NIMS training in accordance with their incident management responsibilities? ",{"$nulls":5},{"$f":"IF(K58>0, \"Y\", \"N\")","v":"N"},{"$f":"IF(K57=\"Y\", 1, 0)","v":0}]
[{"$nulls":10},0]
[{"$nulls":4},"7. Which, if any, of the following are priorities for your State or Territory to incorporate into training in the coming year? Please choose up to three options from the list below.",{"$nulls":5},{"$f":"IF(OR(AND(L60=0, AND(K66=TRUE, L66=1)), AND(L60>0, AND(K66=FALSE, L66=0)), AND(L60>0, K66=TRUE, L66=1)), \"Y\", \"N\")","v":"N"},{"$f":"IF(K59=\"Y\", 1, 0)","v":0}]
[{"$nulls":10},false,{"$f":"COUNTIF(K60:K65, \"TRUE\")","v":0}]
[{"$nulls":10},false]
[{"$nulls":10},false]
[{"$nulls":10},false]
[{"$nulls":10},false]
[{"$nulls":10},false]
[{"$nulls":10},false,0]
[]
[{"$nulls":3},"Exercises","8.a. Have NIMS concepts and principles been incorporated into appropriate exercises within your State or Territory? ",{"$nulls":5},{"$f":"IF(OR(AND(K69=1,L71>0), AND(K69=2, L71>0), AND(K69=3, L71=0)), \"Y\", \"N\")","v":"N"},{"$f":"IF(K68=\"Y\", 1, 0)","v":0}]
[{"$nulls":10},0]
[{"$nulls":4},"8.b. If yes, which of the following has been incorporated? "]
[{"$nulls":10},false,{"$f":"COUNTIF(K71:K76, TRUE)","v":0}]
[{"$nulls":10},false]
[{"$nulls":10},false]
[{"$nulls":10},false]
[{"$nulls":10},false]
[{"$nulls":10},false]
[{"$nulls":4},"9. Which, if any, of the following are priorities for your State or Territory to incorporate into exercises in the coming year? Please choose up to three options from the list below.",{"$nulls":5},{"$f":"IF(OR(AND(L78=0, AND(K84=TRUE, L84=1)), AND(L78>0, AND(K84=FALSE, L84=0)), AND(L78>0, K84=TRUE, L84=1)), \"Y\", \"N\")","v":"N"},{"$f":"IF(K77=\"Y\", 1, 0)","v":0}]
[{"$nulls":10},false,{"$f":"COUNTIF(K78:K83, \"TRUE\")","v":0}]
[{"$nulls":10},false]
[{"$nulls":10},false]
[{"$nulls":10},false]
[{"$nulls":10},false]
[{"$nulls":10},false]
[{"$nulls":10},false,0]
[]
[{"$nulls":3},"Resource Inventory","10. What percentage of your State or Territory’s sub-jurisdictions maintain an inventory of its response resources and assets? ",{"$nulls":3},"Current Status",null,{"$f":"IF(K87>1, \"Y\", \"N\")","v":"N"},{"$f":"IF(K86=\"Y\", 1, 0)","v":0}]
[{"$nulls":10},1]
[{"$nulls":4},"11. What percentage of your State or Territory’s sub-jurisdictions use an interoperable tool, such as the Incident Resource Inventory System (IRIS), to inventory response resources and assets?",{"$nulls":3},"Current Status",null,{"$f":"IF(K89>1, \"Y\", \"N\")","v":"N"},{"$f":"IF(K88=\"Y\", 1, 0)","v":0}]
[{"$nulls":10},1]
[{"$nulls":4},"12. What percentage of your State or Territory’s sub-jurisdictions have typed and inventoried their response and recovery resources and assets consistent with available national NIMS resource typing definitions and job titles/position qualifications, available through the Resource Typing Library Tool athttps://rtlt.preptoolkit.org/Public?  ",{"$nulls":3},"Current Status",null,{"$f":"IF(K91>1, \"Y\", \"N\")","v":"N"},{"$f":"IF(K90=\"Y\", 1, 0)","v":0}]
[{"$nulls":10},1]
[{"$nulls":4},"13. Does your State or Territory have a process to determine availability of response resources and assets in accordance with national NIMS resource typing definitions and job titles/position qualifications, available through the Resource Typing Library Tool at https://rtlt.preptoolkit.org/Public? ",{"$nulls":5},{"$f":"IF(K93>0, \"Y\", \"N\")","v":"N"},{"$f":"IF(K92=\"Y\", 1, 0)","v":0}]
[{"$nulls":10},0]
[]
[{"$nulls":3},"NIMS Priorities","14. What priorities has your State or Territory identified to enhance your implementation of NIMS in the coming year? Please check up to three.",{"$nulls":5},{"$f":"IF(OR(AND(L96=0, AND(K104=TRUE, L104=1)), AND(L96>0, AND(K104=FALSE, L104=0)), AND(L96>0, K104=TRUE, L104=1)), \"Y\", \"N\")","v":"N"},{"$f":"IF(K95=\"Y\", 1, 0)","v":0}]
[{"$nulls":10},false,{"$f":"COUNTIF(K96:K103, \"TRUE\")","v":0}]
[{"$nulls":10},false]
[{"$nulls":10},false]
[{"$nulls":10},false]
[{"$nulls":10},false]
[{"$nulls":10},false]
[{"$nulls":10},false]
[{"$nulls":10},false]
[{"$nulls":10},false,0]
[]
[{"$nulls":3},"Re-entry Plan","15. What percentage of your jurisdictions has an access and re-entry plan in order to control the flow of resources and personnel into the area of an incident?",{"$nulls":3},"Current Status",null,{"$f":"IF(K107>1, \"Y\", \"N\")","v":"N"},{"$f":"IF(K106=\"Y\", 1, 0)","v":0}]
[{"$nulls":10},1]
[]
[{"$nulls":3},"Additional Needs","16. Please list any tools, training, guidance, or support that would be helpful in further enhancing your State or Territory’s implementation of NIMS:",{"$nulls":5},{"$f":"IF(K110=1, \"Y\", \"N\")","v":"N"},{"$f":"IF(K109=\"Y\", 1, 0)","v":0}]
[{"$nulls":10},0]
[]
[{"$nulls":3},"Journal Notes/Comments (optional)",{"$nulls":6},0]

{"sheet":"SPR #3 Op Coord","index":12,"n_rows":56,"n_cols":22,"rows_kept":56,"hidden":true,"merged":[[2,3,2,7],[3,3,3,7],[5,3,5,7],[7,3,7,7],[8,4,8,7],[9,4,9,7],[10,4,10,7],[12,3,14,3],[14,4,14,7],[16,3,18,3],[18,4,18,7],[20,3,22,3],[22,4,22,7],[24,3,26,3],[26,4,26,7],[28,3,30,3],[30,4,30,7],[32,3,32,7],[33,3,33,7],[36,3,36,7],[43,3,43,7],[44,3,48,3],[49,3,53,3],[49,4,49,5],[50,4,50,5],[51,4,51,5],[52,4,52,5],[53,4,53,5],[55,3,55,7]]}
[21]
[3]
[{"$f":"MAX(B:B)","v":1},null,null,"Capability Target"]
[null,{"$f":"ROW()-3","v":1},null,{"$f":"INDIRECT(\"'THIRA Steps 1-3'!$C$861\")","v":"Click here to enter capability targets"}]
[]
[{"$nulls":3},"Capability Assessment"]
[]
[{"$nulls":3},"Priority"]
[{"$nulls":4},"Relative to the other core capabilities, efforts to build and/or sustain this core capability are of high importance to my jurisdiction’s preparedness activities.",{"$nulls":10},0]
[{"$nulls":4},"Relative to the other core capabilities, efforts to build and/or sustain this core capability are of medium importance to my jurisdiction’s preparedness activities."]
[{"$nulls":4},"Relative to the other core capabilities, efforts to build and/or sustain this core capability are of low importance to my jurisdiction’s preparedness activities."]
[]
[{"$nulls":3},"Planning","Rating\nInternal Capability","Rating (optional)\nInternal Capability + Mutual Aid","Gap Description (optional)","Recent Advances (optional)"]
[{"$nulls":4},{"$f":"LOOKUP(P14, Lists!$C$2:$C$8, Lists!D2:D8)","v":"No selection made"},{"$f":"LOOKUP(Q14, Lists!$C$2:$C$8, Lists!D2:D8)","v":"No selection made"},{"$nulls":9},1,1,{"$f":"COUNTIF(I15:AC15, \"TRUE\")","v":0},0,0]
[{"$nulls":4},"Into which functional area(s) does your community's planning gaps fall?",{"$nulls":3},false,false,false,false,false,false,false,false,false,null,false]
[]
[{"$nulls":3},"Organization","Rating\nInternal Capability","Rating (optional)\nInternal Capability + Mutual Aid","Gap Description (optional)","Recent Advances (optional)"]
[{"$nulls":4},{"$f":"LOOKUP(P18, Lists!$C$2:$C$8, Lists!E2:E8)","v":"No selection made"},{"$f":"LOOKUP(Q18, Lists!$C$2:$C$8, Lists!E2:E8)","v":"No selection made"},{"$nulls":9},1,1,{"$f":"COUNTIF(I19:AC19, \"TRUE\")","v":0},0,0]
[{"$nulls":4},"Into which functional area(s) does your community's organizational gaps fall?",{"$nulls":3},false,false,null,null,false,null,false,{"$nulls":3},false]
[]
[{"$nulls":3},"Equipment","Rating\nInternal Capability","Rating (optional)\nInternal Capability + Mutual Aid","Gap Description (optional)","Recent Advances (optional)",{"$nulls":7},1,1,{"$nulls":4},"C"]
[{"$nulls":4},{"$f":"LOOKUP(P22, Lists!$C$2:$C$8, Lists!F2:F8)","v":"No selection made"},{"$f":"LOOKUP(Q22, Lists!$C$2:$C$8, Lists!F2:F8)","v":"No selection made"},{"$nulls":9},1,1,{"$f":"COUNTIF(I23:AC23, \"TRUE\")","v":0},0,0]
[{"$nulls":4},"Into which functional area(s) does your community's equipment gaps fall?",{"$nulls":11},false,null,false]
[]
[{"$nulls":3},"Training","Rating\nInternal Capability","Rating (optional)\nInternal Capability + Mutual Aid","Gap Description (optional)","Recent Advances (optional)",{"$nulls":7},1,1]
[{"$nulls":4},{"$f":"LOOKUP(P26, Lists!$C$2:$C$8, Lists!G2:G8)","v":"No selection made"},{"$f":"LOOKUP(Q26, Lists!$C$2:$C$8, Lists!G2:G8)","v":"No selection made"},{"$nulls":9},1,1,{"$f":"COUNTIF(I27:AC27, \"TRUE\")","v":0},0,0]
[{"$nulls":4},"Into which functional area(s) does your community's training gaps fall?",{"$nulls":3},false,false,false,false,false,false,false,false,false,false,false]
[]
[{"$nulls":3},"Exercises","Rating\nInternal Capability","Rating (optional)\nInternal Capability + Mutual Aid","Gap Description (optional)","Recent Advances (optional)",{"$nulls":7},1,1]
[{"$nulls":4},{"$f":"LOOKUP(P30, Lists!$C$2:$C$8, Lists!H2:H8)","v":"No selection made"},{"$f":"LOOKUP(Q30, Lists!$C$2:$C$8, Lists!H2:H8)","v":"No selection made"},{"$nulls":9},1,1,{"$f":"COUNTIF(I31:AC31, \"TRUE\")","v":0},0,0]
[{"$nulls":4},"Into which functional area(s) does your community's exercise gaps fall?",{"$nulls":3},false,false,false,false,false,false,false,false,null,null,false]
[]
[{"$nulls":3},"Assessment Corroboration"]
[{"$nulls":8},{"$f":"IF(M34=TRUE, \"TRUE\", (IF(AND(K34=TRUE, N34=1), \"TRUE\", (IF(AND(L34= TRUE, N34=1), \"TRUE\")))))","v":false},{"$f":"COUNTIF(K34:M34, \"TRUE\")","v":0},false,false,false,0]
[]
[]
[{"$nulls":3},"Responsibility for Filling Gap",{"$nulls":11},0]
[{"$nulls":15},0]
[]
[]
[]
[]
[]
[{"$nulls":3},"Resource Requirements",{"$nulls":5},"NIMS",4]
[{"$nulls":3},"NIMS-typed Resources","Category","Resource","Type","Number Available",null,"Other",4]
[{"$nulls":4},{"$f":"'THIRA #3 Op Coord'!E8","v":0},{"$f":"'THIRA #3 Op Coord'!F8","v":0},{"$f":"'THIRA #3 Op Coord'!G8","v":0}]
[{"$nulls":4},{"$f":"'THIRA #3 Op Coord'!E9","v":0},{"$f":"'THIRA #3 Op Coord'!F9","v":0},{"$f":"'THIRA #3 Op Coord'!G9","v":0}]
[{"$nulls":4},{"$f":"'THIRA #3 Op Coord'!E10","v":0},{"$f":"'THIRA #3 Op Coord'!F10","v":0},{"$f":"'THIRA #3 Op Coord'!G10","v":0}]
[{"$nulls":4},{"$f":"'THIRA #3 Op Coord'!E11","v":0},{"$f":"'THIRA #3 Op Coord'!F11","v":0},{"$f":"'THIRA #3 Op Coord'!G11","v":0}]
[{"$nulls":3},"Other\nResources","Resource\n(Example:  Case Management Team)",null,"Category\n","Number Available\n"]
[{"$nulls":4},{"$f":"'THIRA #3 Op Coord'!E13","v":0},null,{"$f":"'THIRA #3 Op Coord'!G13","v":0}]
[{"$nulls":4},{"$f":"'THIRA #3 Op Coord'!E14","v":0},null,{"$f":"'THIRA #3 Op Coord'!G14","v":0}]
[{"$nulls":4},{"$f":"'THIRA #3 Op Coord'!E15","v":0},null,{"$f":"'THIRA #3 Op Coord'!G15","v":0}]
[{"$nulls":4},{"$f":"'THIRA #3 Op Coord'!E16","v":0},null,{"$f":"'THIRA #3 Op Coord'!G16","v":0}]
[]
[{"$nulls":3},"Journal Notes/Comments (optional)",{"$nulls":11},0]

{"sheet":"THIRA #4 Forensics Attribution","index":13,"n_rows":27,"n_cols":20,"rows_kept":27,"hidden":true,"merged":[[2,3,2,7],[3,3,3,7],[3,13,3,14],[5,3,5,7],[6,3,10,3],[11,3,15,3],[11,4,11,5],[12,4,12,5],[13,4,13,5],[14,4,14,5],[15,4,15,5],[26,3,26,7]]}
[21,{"$nulls":17},"# Other Rows Filled",{"$f":"IF(COUNTIF(N$1:N803,1),MATCH(800,INDEX(1/(N$1:N803=1),0)),\"\")-(T3+8)","v":0}]
[{"$nulls":18},"# NIMS rows filled",{"$f":"IF(COUNTIF(K$1:K800,1),MATCH(800,INDEX(1/(K$1:K800=1),0)),\"\")-7","v":0}]
[{"$f":"MAX(B:B)","v":1},null,null,"Capability Target",{"$nulls":14},"# NIMS Rows",{"$f":"MAX(J:J)","v":4}]
[null,{"$f":"ROW()-3","v":1},null,{"$f":"INDIRECT(\"'THIRA Steps 1-3'!$C$1285\")","v":"Click here to enter capability targets"},{"$nulls":14},"# NIMS Started",{"$f":"SUM(K:K)-1","v":0}]
[{"$nulls":18},"# NIMS Complete",{"$f":"SUM(L:L)","v":0}]
[{"$nulls":3},"Resource Requirements",{"$nulls":14},"# Other Rows",{"$f":"MAX(M:M)","v":4}]
[{"$nulls":3},"NIMS-typed Resources","Category","Resource","Type","Number Required",null,null,1,{"$nulls":7},"# Other Rows",{"$f":"SUM(N:N)-1","v":0}]
[{"$f":"LOOKUP(E8,'NIMS Resources'!B$4:B$12,'NIMS Resources'!C$4:C$12)","v":{"$error":"#N/A"}},null,{"$f":"VLOOKUP(F8, INDIRECT(\"'NIMS Resources'!$G$4:$J$\" & 366), 4, FALSE)","v":{"$error":"#N/A"}},{"$nulls":6},1,{"$f":"IF(OR(E8<>\"\", F8<>\"\", G8<>\"\", H8<>\"\"), 1, 0)","v":0},{"$f":"IF(AND(E8<>\"\", F8<>\"\", G8<>\"\", H8<>\"\"), 1, 0)","v":0},{"$nulls":6},"# Other",{"$f":"SUM(O:O)","v":0}]
[{"$f":"LOOKUP(E9,'NIMS Resources'!B$4:B$12,'NIMS Resources'!C$4:C$12)","v":{"$error":"#N/A"}},null,{"$f":"VLOOKUP(F9, INDIRECT(\"'NIMS Resources'!$G$4:$J$\" & 366), 4, FALSE)","v":{"$error":"#N/A"}},{"$nulls":6},{"$f":"J8+1","v":2},{"$f":"IF(OR(E9<>\"\", F9<>\"\", G9<>\"\", H9<>\"\"), 1, 0)","v":0},{"$f":"IF(AND(E9<>\"\", F9<>\"\", G9<>\"\", H9<>\"\"), 1, 0)","v":0}]
[{"$f":"LOOKUP(E10,'NIMS Resources'!B$4:B$12,'NIMS Resources'!C$4:C$12)","v":{"$error":"#N/A"}},null,{"$error":"#N/A"},{"$nulls":6},{"$f":"J9+1","v":3},{"$f":"IF(OR(E10<>\"\", F10<>\"\", G10<>\"\", H10<>\"\"), 1, 0)","v":0},{"$f":"IF(AND(E10<>\"\", F10<>\"\", G10<>\"\", H10<>\"\"), 1, 0)","v":0}]
[{"$f":"LOOKUP(E11,'NIMS Resources'!B$4:B$12,'NIMS Resources'!C$4:C$12)","v":{"$error":"#N/A"}},null,{"$error":"#N/A"},{"$nulls":6},{"$f":"J10+1","v":4},{"$f":"IF(OR(E11<>\"\", F11<>\"\", G11<>\"\", H11<>\"\"), 1, 0)","v":0},{"$f":"IF(AND(E11<>\"\", F11<>\"\", G11<>\"\", H11<>\"\"), 1, 0)","v":0}]
[{"$nulls":3},"Other\nResources","Resource\n(Example:  Case Management Team)",null,"Category\r\n","Number Required\n",{"$nulls":5},1]
[{"$nulls":12},1,{"$f":"IF(OR(E13<>\"\", H13<>\"\"), 1, 0)","v":0},{"$f":"IF(AND(E13<>\"\", H13<>\"\"), 1, 0)","v":0}]
[{"$nulls":12},{"$f":"M13+1","v":2},{"$f":"IF(OR(E14<>\"\", H14<>\"\"), 1, 0)","v":0},{"$f":"IF(AND(E14<>\"\", H14<>\"\"), 1, 0)","v":0}]
[{"$nulls":12},{"$f":"M14+1","v":3},{"$f":"IF(OR(E15<>\"\", H15<>\"\"), 1, 0)","v":0},{"$f":"IF(AND(E15<>\"\", H15<>\"\"), 1, 0)","v":0}]
[{"$nulls":12},{"$f":"M15+1","v":4},{"$f":"IF(OR(E16<>\"\", H16<>\"\"), 1, 0)","v":0},{"$f":"IF(AND(E16<>\"\", H16<>\"\"), 1, 0)","v":0}]
{"$rows_empty":10}
[{"$nulls":3},"Journal Notes/Comments (optional)",{"$nulls":5},0]

{"sheet":"SPR #4 Forensics Attribution","index":14,"n_rows":56,"n_cols":20,"rows_kept":56,"hidden":true,"merged":[[2,3,2,7],[3,3,3,7],[5,3,5,7],[7,3,7,7],[8,4,8,7],[9,4,9,7],[10,4,10,7],[12,3,14,3],[14,4,14,7],[16,3,18,3],[18,4,18,7],[20,3,22,3],[22,4,22,7],[24,3,26,3],[26,4,26,7],[28,3,30,3],[30,4,30,7],[32,3,32,7],[33,3,33,7],[36,3,36,7],[43,3,43,7],[44,3,48,3],[49,3,53,3],[49,4,49,5],[50,4,50,5],[51,4,51,5],[52,4,52,5],[53,4,53,5],[55,3,55,7]]}
[21]
[4]
[{"$f":"MAX(B:B)","v":1},null,null,"Capability Target"]
[null,{"$f":"ROW()-3","v":1},null,{"$f":"INDIRECT(\"'THIRA Steps 1-3'!$C$1285\")","v":"Click here to enter capability targets"}]
[]
[{"$nulls":3},"Capability Assessment"]
[]
[{"$nulls":3},"Priority"]
[{"$nulls":4},"Relative to the other core capabilities, efforts to build and/or sustain this core capability are of high importance to my jurisdiction’s preparedness activities.",{"$nulls":10},0]
[{"$nulls":4},"Relative to the other core capabilities, efforts to build and/or sustain this core capability are of medium importance to my jurisdiction’s preparedness activities."]
[{"$nulls":4},"Relative to the other core capabilities, efforts to build and/or sustain this core capability are of low importance to my jurisdiction’s preparedness activities."]
[]
[{"$nulls":3},"Planning","Rating\nInternal Capability","Rating (optional)\nInternal Capability + Mutual Aid","Gap Description (optional)","Recent Advances (optional)"]
[{"$nulls":4},{"$f":"LOOKUP(P14, Lists!$C$2:$C$8, Lists!D2:D8)","v":"No selection made"},{"$f":"LOOKUP(Q14, Lists!$C$2:$C$8, Lists!D2:D8)","v":"No selection made"},{"$nulls":9},1,1,{"$f":"COUNTIF(I15:AC15, \"TRUE\")","v":0},0,0]
[{"$nulls":4},"Into which functional area(s) does your community's planning gaps fall?",{"$nulls":3},false,false,false,false,false,false,false,false,false,false]
[]
[{"$nulls":3},"Organization","Rating\nInternal Capability","Rating (optional)\nInternal Capability + Mutual Aid","Gap Description (optional)","Recent Advances (optional)"]
[{"$nulls":4},{"$f":"LOOKUP(P18, Lists!$C$2:$C$8, Lists!E2:E8)","v":"No selection made"},{"$f":"LOOKUP(Q18, Lists!$C$2:$C$8, Lists!E2:E8)","v":"No selection made"},{"$nulls":9},1,1,{"$f":"COUNTIF(I19:AC19, \"TRUE\")","v":0},null,0]
[{"$nulls":4},"Into which functional area(s) does your community's organizational gaps fall?",{"$nulls":6},false,false,{"$nulls":4},false]
[]
[{"$nulls":3},"Equipment","Rating\nInternal Capability","Rating (optional)\nInternal Capability + Mutual Aid","Gap Description (optional)","Recent Advances (optional)",{"$nulls":7},1,1]
[{"$nulls":4},{"$f":"LOOKUP(P22, Lists!$C$2:$C$8, Lists!F2:F8)","v":"No selection made"},{"$f":"LOOKUP(Q22, Lists!$C$2:$C$8, Lists!F2:F8)","v":"No selection made"},{"$nulls":9},1,1,{"$f":"COUNTIF(I23:AC23, \"TRUE\")","v":0},null,0]
[{"$nulls":4},"Into which functional area(s) does your community's equipment gaps fall?",{"$nulls":12},false]
[]
[{"$nulls":3},"Training","Rating\nInternal Capability","Rating (optional)\nInternal Capability + Mutual Aid","Gap Description (optional)","Recent Advances (optional)",{"$nulls":7},1,1]
[{"$nulls":4},{"$f":"LOOKUP(P26, Lists!$C$2:$C$8, Lists!G2:G8)","v":"No selection made"},{"$f":"LOOKUP(Q26, Lists!$C$2:$C$8, Lists!G2:G8)","v":"No selection made"},{"$nulls":9},1,1,{"$f":"COUNTIF(I27:AC27, \"TRUE\")","v":0},0,0]
[{"$nulls":4},"Into which functional area(s) does your community's training gaps fall?",{"$nulls":3},false,false,false,false,false,false,false,false,false,false,false]
[]
[{"$nulls":3},"Exercises","Rating\nInternal Capability","Rating (optional)\nInternal Capability + Mutual Aid","Gap Description (optional)","Recent Advances (optional)",{"$nulls":7},1,1]
[{"$nulls":4},{"$f":"LOOKUP(P30, Lists!$C$2:$C$8, Lists!H2:H8)","v":"No selection made"},{"$f":"LOOKUP(Q30, Lists!$C$2:$C$8, Lists!H2:H8)","v":"No selection made"},{"$nulls":9},1,1,{"$f":"COUNTIF(I31:AC31, \"TRUE\")","v":0},0,0]
[{"$nulls":4},"Into which functional area(s) does your community's exercise gaps fall?",{"$nulls":3},false,false,false,false,false,false,false,false,null,false]
[]
[{"$nulls":3},"Assessment Corroboration"]
[{"$nulls":8},{"$f":"IF(M34=TRUE, \"TRUE\", (IF(AND(K34=TRUE, N34=1), \"TRUE\", (IF(AND(L34= TRUE, N34=1), \"TRUE\")))))","v":false},{"$f":"COUNTIF(K34:M34, \"TRUE\")","v":0},false,false,false,0]
[]
[]
[{"$nulls":3},"Responsibility for Filling Gap",{"$nulls":11},0]
[{"$nulls":15},0]
[]
[]
[]
[]
[]
[{"$nulls":3},"Resource Requirements",{"$nulls":5},"NIMS",4]
[{"$nulls":3},"NIMS-typed Resources","Category","Resource","Type","Number Available",null,"Other",4]
[{"$nulls":4},{"$f":"'THIRA #4 Forensics Attribution'!E8","v":0},{"$f":"'THIRA #4 Forensics Attribution'!F8","v":0},{"$f":"'THIRA #4 Forensics Attribution'!G8","v":0}]
[{"$nulls":4},{"$f":"'THIRA #4 Forensics Attribution'!E9","v":0},{"$f":"'THIRA #4 Forensics Attribution'!F9","v":0},{"$f":"'THIRA #4 Forensics Attribution'!G9","v":0}]
[{"$nulls":4},{"$f":"'THIRA #4 Forensics Attribution'!E10","v":0},{"$f":"'THIRA #4 Forensics Attribution'!F10","v":0},{"$f":"'THIRA #4 Forensics Attribution'!G10","v":0}]
[{"$nulls":4},{"$f":"'THIRA #4 Forensics Attribution'!E11","v":0},{"$f":"'THIRA #4 Forensics Attribution'!F11","v":0},{"$f":"'THIRA #4 Forensics Attribution'!G11","v":0}]
[{"$nulls":3},"Other\nResources","Resource\n(Example:  Case Management Team)",null,"Category\n","Number Available\n"]
[{"$nulls":4},{"$f":"'THIRA #4 Forensics Attribution'!E13","v":0},null,{"$f":"'THIRA #4 Forensics Attribution'!G13","v":0}]
[{"$nulls":4},{"$f":"'THIRA #4 Forensics Attribution'!E14","v":0},null,{"$f":"'THIRA #4 Forensics Attribution'!G14","v":0}]
[{"$nulls":4},{"$f":"'THIRA #4 Forensics Attribution'!E15","v":0},null,{"$f":"'THIRA #4 Forensics Attribution'!G15","v":0}]
[{"$nulls":4},{"$f":"'THIRA #4 Forensics Attribution'!E16","v":0},null,{"$f":"'THIRA #4 Forensics Attribution'!G16","v":0}]
[]
[{"$nulls":3},"Journal Notes/Comments (optional)",{"$nulls":11},0]

{"sheet":"THIRA #5 Intel Info Sharing","index":15,"n_rows":27,"n_cols":20,"rows_kept":27,"hidden":true,"merged":[[2,3,2,7],[3,3,3,7],[3,13,3,14],[5,3,5,7],[6,3,10,3],[11,3,15,3],[11,4,11,5],[12,4,12,5],[13,4,13,5],[14,4,14,5],[15,4,15,5],[26,3,26,7]]}
[21,{"$nulls":17},"# Other Rows Filled",{"$f":"IF(COUNTIF(N$1:N803,1),MATCH(800,INDEX(1/(N$1:N803=1),0)),\"\")-(T3+8)","v":0}]
[{"$nulls":18},"# NIMS rows filled",{"$f":"IF(COUNTIF(K$1:K800,1),MATCH(800,INDEX(1/(K$1:K800=1),0)),\"\")-7","v":0}]
[{"$f":"MAX(B:B)","v":1},null,null,"Capability Target",{"$nulls":14},"# NIMS Rows",{"$f":"MAX(J:J)","v":4}]
[null,{"$f":"ROW()-3","v":1},null,{"$f":"INDIRECT(\"'THIRA Steps 1-3'!$C$1373\")","v":"Click here to enter capability targets"},{"$nulls":14},"# NIMS Started",{"$f":"SUM(K:K)-1","v":0}]
[{"$nulls":18},"# NIMS Complete",{"$f":"SUM(L:L)","v":0}]
[{"$nulls":3},"Resource Requirements",{"$nulls":14},"# Other Rows",{"$f":"MAX(M:M)","v":4}]
[{"$nulls":3},"NIMS-typed Resources","Category","Resource","Type","Number Required",null,null,1,{"$nulls":7},"# Other Rows",{"$f":"SUM(N:N)-1","v":0}]
[{"$f":"LOOKUP(E8,'NIMS Resources'!B$4:B$12,'NIMS Resources'!C$4:C$12)","v":{"$error":"#N/A"}},null,{"$f":"VLOOKUP(F8, INDIRECT(\"'NIMS Resources'!$G$4:$J$\" & 366), 4, FALSE)","v":{"$error":"#N/A"}},{"$nulls":6},1,{"$f":"IF(OR(E8<>\"\", F8<>\"\", G8<>\"\", H8<>\"\"), 1, 0)","v":0},{"$f":"IF(AND(E8<>\"\", F8<>\"\", G8<>\"\", H8<>\"\"), 1, 0)","v":0},{"$nulls":6},"# Other",{"$f":"SUM(O:O)","v":0}]
[{"$f":"LOOKUP(E9,'NIMS Resources'!B$4:B$12,'NIMS Resources'!C$4:C$12)","v":{"$error":"#N/A"}},null,{"$f":"VLOOKUP(F9, INDIRECT(\"'NIMS Resources'!$G$4:$J$\" & 366), 4, FALSE)","v":{"$error":"#N/A"}},{"$nulls":6},{"$f":"J8+1","v":2},{"$f":"IF(OR(E9<>\"\", F9<>\"\", G9<>\"\", H9<>\"\"), 1, 0)","v":0},{"$f":"IF(AND(E9<>\"\", F9<>\"\", G9<>\"\", H9<>\"\"), 1, 0)","v":0}]
[{"$f":"LOOKUP(E10,'NIMS Resources'!B$4:B$12,'NIMS Resources'!C$4:C$12)","v":{"$error":"#N/A"}},null,{"$error":"#N/A"},{"$nulls":6},{"$f":"J9+1","v":3},{"$f":"IF(OR(E10<>\"\", F10<>\"\", G10<>\"\", H10<>\"\"), 1, 0)","v":0},{"$f":"IF(AND(E10<>\"\", F10<>\"\", G10<>\"\", H10<>\"\"), 1, 0)","v":0}]
[{"$f":"LOOKUP(E11,'NIMS Resources'!B$4:B$12,'NIMS Resources'!C$4:C$12)","v":{"$error":"#N/A"}},null,{"$error":"#N/A"},{"$nulls":6},{"$f":"J10+1","v":4},{"$f":"IF(OR(E11<>\"\", F11<>\"\", G11<>\"\", H11<>\"\"), 1, 0)","v":0},{"$f":"IF(AND(E11<>\"\", F11<>\"\", G11<>\"\", H11<>\"\"), 1, 0)","v":0}]
[{"$nulls":3},"Other\nResources","Resource\n(Example:  Case Management Team)",null,"Category\r\n","Number Required\n",{"$nulls":5},1]
[{"$nulls":12},1,{"$f":"IF(OR(E13<>\"\", H13<>\"\"), 1, 0)","v":0},{"$f":"IF(AND(E13<>\"\", H13<>\"\"), 1, 0)","v":0}]
[{"$nulls":12},{"$f":"M13+1","v":2},{"$f":"IF(OR(E14<>\"\", H14<>\"\"), 1, 0)","v":0},{"$f":"IF(AND(E14<>\"\", H14<>\"\"), 1, 0)","v":0}]
[{"$nulls":12},{"$f":"M14+1","v":3},{"$f":"IF(OR(E15<>\"\", H15<>\"\"), 1, 0)","v":0},{"$f":"IF(AND(E15<>\"\", H15<>\"\"), 1, 0)","v":0}]
[{"$nulls":12},{"$f":"M15+1","v":4},{"$f":"IF(OR(E16<>\"\", H16<>\"\"), 1, 0)","v":0},{"$f":"IF(AND(E16<>\"\", H16<>\"\"), 1, 0)","v":0}]
{"$rows_empty":10}
[{"$nulls":3},"Journal Notes/Comments (optional)",{"$nulls":5},0]

{"sheet":"SPR #5 Intel Info Sharing","index":16,"n_rows":56,"n_cols":20,"rows_kept":56,"hidden":true,"merged":[[2,3,2,7],[3,3,3,7],[5,3,5,7],[7,3,7,7],[8,4,8,7],[9,4,9,7],[10,4,10,7],[12,3,14,3],[14,4,14,7],[16,3,18,3],[18,4,18,7],[20,3,22,3],[22,4,22,7],[24,3,26,3],[26,4,26,7],[28,3,30,3],[30,4,30,7],[32,3,32,7],[33,3,33,7],[36,3,36,7],[43,3,43,7],[44,3,48,3],[49,3,53,3],[49,4,49,5],[50,4,50,5],[51,4,51,5],[52,4,52,5],[53,4,53,5],[55,3,55,7]]}
[21]
[5]
[{"$f":"MAX(B:B)","v":1},null,null,"Capability Target"]
[null,{"$f":"ROW()-3","v":1},null,{"$f":"INDIRECT(\"'THIRA Steps 1-3'!$C$1373\")","v":"Click here to enter capability targets"}]
[]
[{"$nulls":3},"Capability Assessment"]
[]
[{"$nulls":3},"Priority"]
[{"$nulls":4},"Relative to the other core capabilities, efforts to build and/or sustain this core capability are of high importance to my jurisdiction’s preparedness activities.",{"$nulls":10},0]
[{"$nulls":4},"Relative to the other core capabilities, efforts to build and/or sustain this core capability are of medium importance to my jurisdiction’s preparedness activities."]
[{"$nulls":4},"Relative to the other core capabilities, efforts to build and/or sustain this core capability are of low importance to my jurisdiction’s preparedness activities."]
[]
[{"$nulls":3},"Planning","Rating\nInternal Capability","Rating (optional)\nInternal Capability + Mutual Aid","Gap Description (optional)","Recent Advances (optional)"]
[{"$nulls":4},{"$f":"LOOKUP(P14, Lists!$C$2:$C$8, Lists!D2:D8)","v":"No selection made"},{"$f":"LOOKUP(Q14, Lists!$C$2:$C$8, Lists!D2:D8)","v":"No selection made"},{"$nulls":9},1,1,{"$f":"COUNTIF(I15:AC15, \"TRUE\")","v":0},0,0]
[{"$nulls":4},"Into which functional area(s) does your community's planning gaps fall?",{"$nulls":3},false,false,false,false,false,false,false,false,false,null,false]
[]
[{"$nulls":3},"Organization","Rating\nInternal Capability","Rating (optional)\nInternal Capability + Mutual Aid","Gap Description (optional)","Recent Advances (optional)"]
[{"$nulls":4},{"$f":"LOOKUP(P18, Lists!$C$2:$C$8, Lists!E2:E8)","v":"No selection made"},{"$f":"LOOKUP(Q18, Lists!$C$2:$C$8, Lists!E2:E8)","v":"No selection made"},{"$nulls":9},1,1,{"$f":"COUNTIF(I19:AC19, \"TRUE\")","v":0},null,0]
[{"$nulls":4},"Into which functional area(s) does your community's organizational gaps fall?",{"$nulls":6},false,null,false,{"$nulls":4},false]
[]
[{"$nulls":3},"Equipment","Rating\nInternal Capability","Rating (optional)\nInternal Capability + Mutual Aid","Gap Description (optional)","Recent Advances (optional)",{"$nulls":7},1,1]
[{"$nulls":4},{"$f":"LOOKUP(P22, Lists!$C$2:$C$8, Lists!F2:F8)","v":"No selection made"},{"$f":"LOOKUP(Q22, Lists!$C$2:$C$8, Lists!F2:F8)","v":"No selection made"},{"$nulls":9},1,1,{"$f":"COUNTIF(I23:AC23, \"TRUE\")","v":0},null,0]
[{"$nulls":4},"Into which functional area(s) does your community's equipment gaps fall?",{"$nulls":4},false,false,null,false,false,null,false,false,null,false]
[]
[{"$nulls":3},"Training","Rating\nInternal Capability","Rating (optional)\nInternal Capability + Mutual Aid","Gap Description (optional)","Recent Advances (optional)",{"$nulls":7},1,1]
[{"$nulls":4},{"$f":"LOOKUP(P26, Lists!$C$2:$C$8, Lists!G2:G8)","v":"No selection made"},{"$f":"LOOKUP(Q26, Lists!$C$2:$C$8, Lists!G2:G8)","v":"No selection made"},{"$nulls":9},1,1,{"$f":"COUNTIF(I27:AC27, \"TRUE\")","v":0},0,0]
[{"$nulls":4},"Into which functional area(s) does your community's training gaps fall?",{"$nulls":3},false,false,false,false,false,false,false,false,false,false,false]
[]
[{"$nulls":3},"Exercises","Rating\nInternal Capability","Rating (optional)\nInternal Capability + Mutual Aid","Gap Description (optional)","Recent Advances (optional)",{"$nulls":7},1,1]
[{"$nulls":4},{"$f":"LOOKUP(P30, Lists!$C$2:$C$8, Lists!H2:H8)","v":"No selection made"},{"$f":"LOOKUP(Q30, Lists!$C$2:$C$8, Lists!H2:H8)","v":"No selection made"},{"$nulls":9},1,1,{"$f":"COUNTIF(I31:AC31, \"TRUE\")","v":0},0,0]
[{"$nulls":4},"Into which functional area(s) does your community's exercise gaps fall?",{"$nulls":3},false,false,false,false,false,false,false,false,null,null,false]
[]
[{"$nulls":3},"Assessment Corroboration"]
[{"$nulls":8},{"$f":"IF(M34=TRUE, \"TRUE\", (IF(AND(K34=TRUE, N34=1), \"TRUE\", (IF(AND(L34= TRUE, N34=1), \"TRUE\")))))","v":false},{"$f":"COUNTIF(K34:M34, \"TRUE\")","v":0},false,false,false,0]
[]
[]
[{"$nulls":3},"Responsibility for Filling Gap",{"$nulls":11},0]
[{"$nulls":15},0]
[]
[]
[]
[]
[]
[{"$nulls":3},"Resource Requirements",{"$nulls":5},"NIMS",4]
[{"$nulls":3},"NIMS-typed Resources","Category","Resource","Type","Number Available",null,"Other",4]
[{"$nulls":4},{"$f":"'THIRA #5 Intel Info Sharing'!E8","v":0},{"$f":"'THIRA #5 Intel Info Sharing'!F8","v":0},{"$f":"'THIRA #5 Intel Info Sharing'!G8","v":0}]
[{"$nulls":4},{"$f":"'THIRA #5 Intel Info Sharing'!E9","v":0},{"$f":"'THIRA #5 Intel Info Sharing'!F9","v":0},{"$f":"'THIRA #5 Intel Info Sharing'!G9","v":0}]
[{"$nulls":4},{"$f":"'THIRA #5 Intel Info Sharing'!E10","v":0},{"$f":"'THIRA #5 Intel Info Sharing'!F10","v":0},{"$f":"'THIRA #5 Intel Info Sharing'!G10","v":0}]
[{"$nulls":4},{"$f":"'THIRA #5 Intel Info Sharing'!E11","v":0},{"$f":"'THIRA #5 Intel Info Sharing'!F11","v":0},{"$f":"'THIRA #5 Intel Info Sharing'!G11","v":0}]
[{"$nulls":3},"Other\nResources","Resource\n(Example:  Case Management Team)",null,"Category\n","Number Available\n"]
[{"$nulls":4},{"$f":"'THIRA #5 Intel Info Sharing'!E13","v":0},null,{"$f":"'THIRA #5 Intel Info Sharing'!G13","v":0}]
[{"$nulls":4},{"$f":"'THIRA #5 Intel Info Sharing'!E14","v":0},null,{"$f":"'THIRA #5 Intel Info Sharing'!G14","v":0}]
[{"$nulls":4},{"$f":"'THIRA #5 Intel Info Sharing'!E15","v":0},null,{"$f":"'THIRA #5 Intel Info Sharing'!G15","v":0}]
[{"$nulls":4},{"$f":"'THIRA #5 Intel Info Sharing'!E16","v":0},null,{"$f":"'THIRA #5 Intel Info Sharing'!G16","v":0}]
[]
[{"$nulls":3},"Journal Notes/Comments (optional)",{"$nulls":11},0]

{"sheet":"THIRA #6 Interdict Disrupt","index":17,"n_rows":27,"n_cols":20,"rows_kept":27,"hidden":true,"merged":[[2,3,2,7],[3,3,3,7],[3,13,3,14],[5,3,5,7],[6,3,10,3],[11,3,15,3],[11,4,11,5],[12,4,12,5],[13,4,13,5],[14,4,14,5],[15,4,15,5],[26,3,26,7]]}
[21,{"$nulls":17},"# Other Rows Filled",{"$f":"IF(COUNTIF(N$1:N803,1),MATCH(800,INDEX(1/(N$1:N803=1),0)),\"\")-(T3+8)","v":0}]
[{"$nulls":18},"# NIMS rows filled",{"$f":"IF(COUNTIF(K$1:K800,1),MATCH(800,INDEX(1/(K$1:K800=1),0)),\"\")-7","v":0}]
[{"$f":"MAX(B:B)","v":1},null,null,"Capability Target",{"$nulls":14},"# NIMS Rows",{"$f":"MAX(J:J)","v":4}]
[null,{"$f":"ROW()-3","v":1},null,{"$f":"INDIRECT(\"'THIRA Steps 1-3'!$C$1545\")","v":"Click here to enter capability targets"},{"$nulls":14},"# NIMS Started",{"$f":"SUM(K:K)-1","v":0}]
[{"$nulls":18},"# NIMS Complete",{"$f":"SUM(L:L)","v":0}]
[{"$nulls":3},"Resource Requirements",{"$nulls":14},"# Other Rows",{"$f":"MAX(M:M)","v":4}]
[{"$nulls":3},"NIMS-typed Resources","Category","Resource","Type","Number Required",null,null,1,{"$nulls":7},"# Other Rows",{"$f":"SUM(N:N)-1","v":0}]
[{"$f":"LOOKUP(E8,'NIMS Resources'!B$4:B$12,'NIMS Resources'!C$4:C$12)","v":{"$error":"#N/A"}},null,{"$f":"VLOOKUP(F8, INDIRECT(\"'NIMS Resources'!$G$4:$J$\" & 366), 4, FALSE)","v":{"$error":"#N/A"}},{"$nulls":6},1,{"$f":"IF(OR(E8<>\"\", F8<>\"\", G8<>\"\", H8<>\"\"), 1, 0)","v":0},{"$f":"IF(AND(E8<>\"\", F8<>\"\", G8<>\"\", H8<>\"\"), 1, 0)","v":0},{"$nulls":6},"# Other",{"$f":"SUM(O:O)","v":0}]
[{"$f":"LOOKUP(E9,'NIMS Resources'!B$4:B$12,'NIMS Resources'!C$4:C$12)","v":{"$error":"#N/A"}},null,{"$f":"VLOOKUP(F9, INDIRECT(\"'NIMS Resources'!$G$4:$J$\" & 366), 4, FALSE)","v":{"$error":"#N/A"}},{"$nulls":6},{"$f":"J8+1","v":2},{"$f":"IF(OR(E9<>\"\", F9<>\"\", G9<>\"\", H9<>\"\"), 1, 0)","v":0},{"$f":"IF(AND(E9<>\"\", F9<>\"\", G9<>\"\", H9<>\"\"), 1, 0)","v":0}]
[{"$f":"LOOKUP(E10,'NIMS Resources'!B$4:B$12,'NIMS Resources'!C$4:C$12)","v":{"$error":"#N/A"}},null,{"$error":"#N/A"},{"$nulls":6},{"$f":"J9+1","v":3},{"$f":"IF(OR(E10<>\"\", F10<>\"\", G10<>\"\", H10<>\"\"), 1, 0)","v":0},{"$f":"IF(AND(E10<>\"\", F10<>\"\", G10<>\"\", H10<>\"\"), 1, 0)","v":0}]
[{"$f":"LOOKUP(E11,'NIMS Resources'!B$4:B$12,'NIMS Resources'!C$4:C$12)","v":{"$error":"#N/A"}},null,{"$error":"#N/A"},{"$nulls":6},{"$f":"J10+1","v":4},{"$f":"IF(OR(E11<>\"\", F11<>\"\", G11<>\"\", H11<>\"\"), 1, 0)","v":0},{"$f":"IF(AND(E11<>\"\", F11<>\"\", G11<>\"\", H11<>\"\"), 1, 0)","v":0}]
[{"$nulls":3},"Other\nResources","Resource\n(Example:  Case Management Team)",null,"Category\r\n","Number Required\n",{"$nulls":5},1]
[{"$nulls":12},1,{"$f":"IF(OR(E13<>\"\", H13<>\"\"), 1, 0)","v":0},{"$f":"IF(AND(E13<>\"\", H13<>\"\"), 1, 0)","v":0}]
[{"$nulls":12},{"$f":"M13+1","v":2},{"$f":"IF(OR(E14<>\"\", H14<>\"\"), 1, 0)","v":0},{"$f":"IF(AND(E14<>\"\", H14<>\"\"), 1, 0)","v":0}]
[{"$nulls":12},{"$f":"M14+1","v":3},{"$f":"IF(OR(E15<>\"\", H15<>\"\"), 1, 0)","v":0},{"$f":"IF(AND(E15<>\"\", H15<>\"\"), 1, 0)","v":0}]
[{"$nulls":12},{"$f":"M15+1","v":4},{"$f":"IF(OR(E16<>\"\", H16<>\"\"), 1, 0)","v":0},{"$f":"IF(AND(E16<>\"\", H16<>\"\"), 1, 0)","v":0}]
{"$rows_empty":10}
[{"$nulls":3},"Journal Notes/Comments (optional)",{"$nulls":5},0]

{"sheet":"SPR #6 Interdict Disrupt","index":18,"n_rows":56,"n_cols":21,"rows_kept":56,"hidden":true,"merged":[[2,3,2,7],[3,3,3,7],[5,3,5,7],[7,3,7,7],[8,4,8,7],[9,4,9,7],[10,4,10,7],[12,3,14,3],[14,4,14,7],[16,3,18,3],[18,4,18,7],[20,3,22,3],[22,4,22,7],[24,3,26,3],[26,4,26,7],[28,3,30,3],[30,4,30,7],[32,3,32,7],[33,3,33,7],[36,3,36,7],[43,3,43,7],[44,3,48,3],[49,3,53,3],[49,4,49,5],[50,4,50,5],[51,4,51,5],[52,4,52,5],[53,4,53,5],[55,3,55,7]]}
[21]
[6]
[{"$f":"MAX(B:B)","v":1},null,null,"Capability Target"]
[null,{"$f":"ROW()-3","v":1},null,{"$f":"INDIRECT(\"'THIRA Steps 1-3'!$C$1545\")","v":"Click here to enter capability targets"}]
[]
[{"$nulls":3},"Capability Assessment"]
[]
[{"$nulls":3},"Priority"]
[{"$nulls":4},"Relative to the other core capabilities, efforts to build and/or sustain this core capability are of high importance to my jurisdiction’s preparedness activities.",{"$nulls":10},0]
[{"$nulls":4},"Relative to the other core capabilities, efforts to build and/or sustain this core capability are of medium importance to my jurisdiction’s preparedness activities."]
[{"$nulls":4},"Relative to the other core capabilities, efforts to build and/or sustain this core capability are of low importance to my jurisdiction’s preparedness activities."]
[]
[{"$nulls":3},"Planning","Rating\nInternal Capability","Rating (optional)\nInternal Capability + Mutual Aid","Gap Description (optional)","Recent Advances (optional)"]
[{"$nulls":4},{"$f":"LOOKUP(P14, Lists!$C$2:$C$8, Lists!D2:D8)","v":"No selection made"},{"$f":"LOOKUP(Q14, Lists!$C$2:$C$8, Lists!D2:D8)","v":"No selection made"},{"$nulls":9},1,1,{"$f":"COUNTIF(I15:AC15, \"TRUE\")","v":0},0,0]
[{"$nulls":4},"Into which functional area(s) does your community's planning gaps fall?",{"$nulls":3},false,false,false,false,false,false,false,false,false,{"$nulls":3},false]
[]
[{"$nulls":3},"Organization","Rating\nInternal Capability","Rating (optional)\nInternal Capability + Mutual Aid","Gap Description (optional)","Recent Advances (optional)"]
[{"$nulls":4},{"$f":"LOOKUP(P18, Lists!$C$2:$C$8, Lists!E2:E8)","v":"No selection made"},{"$f":"LOOKUP(Q18, Lists!$C$2:$C$8, Lists!E2:E8)","v":"No selection made"},{"$nulls":9},1,1,{"$f":"COUNTIF(I19:AC19, \"TRUE\")","v":0},null,0]
[{"$nulls":4},"Into which functional area(s) does your community's organizational gaps fall?",{"$nulls":7},false,{"$nulls":3},false,{"$nulls":3},false]
[]
[{"$nulls":3},"Equipment","Rating\nInternal Capability","Rating (optional)\nInternal Capability + Mutual Aid","Gap Description (optional)","Recent Advances (optional)",{"$nulls":7},1,1]
[{"$nulls":4},{"$f":"LOOKUP(P22, Lists!$C$2:$C$8, Lists!F2:F8)","v":"No selection made"},{"$f":"LOOKUP(Q22, Lists!$C$2:$C$8, Lists!F2:F8)","v":"No selection made"},{"$nulls":9},1,1,{"$f":"COUNTIF(I23:AC23, \"TRUE\")","v":0},null,0]
[{"$nulls":4},"Into which functional area(s) does your community's equipment gaps fall?",{"$nulls":15},false]
[]
[{"$nulls":3},"Training","Rating\nInternal Capability","Rating (optional)\nInternal Capability + Mutual Aid","Gap Description (optional)","Recent Advances (optional)",{"$nulls":7},1,1]
[{"$nulls":4},{"$f":"LOOKUP(P26, Lists!$C$2:$C$8, Lists!G2:G8)","v":"No selection made"},{"$f":"LOOKUP(Q26, Lists!$C$2:$C$8, Lists!G2:G8)","v":"No selection made"},{"$nulls":9},1,1,{"$f":"COUNTIF(I27:AC27, \"TRUE\")","v":0},0,0]
[{"$nulls":4},"Into which functional area(s) does your community's training gaps fall?",{"$nulls":3},false,false,false,false,false,false,false,false,false,false,false,null,false]
[]
[{"$nulls":3},"Exercises","Rating\nInternal Capability","Rating (optional)\nInternal Capability + Mutual Aid","Gap Description (optional)","Recent Advances (optional)",{"$nulls":7},1,1]
[{"$nulls":4},{"$f":"LOOKUP(P30, Lists!$C$2:$C$8, Lists!H2:H8)","v":"No selection made"},{"$f":"LOOKUP(Q30, Lists!$C$2:$C$8, Lists!H2:H8)","v":"No selection made"},{"$nulls":9},1,1,{"$f":"COUNTIF(I31:AC31, \"TRUE\")","v":0},0,0]
[{"$nulls":4},"Into which functional area(s) does your community's exercise gaps fall?",{"$nulls":3},false,false,false,false,false,false,false,false,{"$nulls":4},false]
[]
[{"$nulls":3},"Assessment Corroboration"]
[{"$nulls":8},{"$f":"IF(M34=TRUE, \"TRUE\", (IF(AND(K34=TRUE, N34=1), \"TRUE\", (IF(AND(L34= TRUE, N34=1), \"TRUE\")))))","v":false},{"$f":"COUNTIF(K34:M34, \"TRUE\")","v":0},false,false,false,0]
[]
[]
[{"$nulls":3},"Responsibility for Filling Gap",{"$nulls":11},0]
[{"$nulls":15},0]
[]
[]
[]
[]
[]
[{"$nulls":3},"Resource Requirements",{"$nulls":5},"NIMS",4]
[{"$nulls":3},"NIMS-typed Resources","Category","Resource","Type","Number Available",null,"Other",4]
[{"$nulls":4},{"$f":"'THIRA #6 Interdict Disrupt'!E8","v":0},{"$f":"'THIRA #6 Interdict Disrupt'!F8","v":0},{"$f":"'THIRA #6 Interdict Disrupt'!G8","v":0}]
[{"$nulls":4},{"$f":"'THIRA #6 Interdict Disrupt'!E9","v":0},{"$f":"'THIRA #6 Interdict Disrupt'!F9","v":0},{"$f":"'THIRA #6 Interdict Disrupt'!G9","v":0}]
[{"$nulls":4},{"$f":"'THIRA #6 Interdict Disrupt'!E10","v":0},{"$f":"'THIRA #6 Interdict Disrupt'!F10","v":0},{"$f":"'THIRA #6 Interdict Disrupt'!G10","v":0}]
[{"$nulls":4},{"$f":"'THIRA #6 Interdict Disrupt'!E11","v":0},{"$f":"'THIRA #6 Interdict Disrupt'!F11","v":0},{"$f":"'THIRA #6 Interdict Disrupt'!G11","v":0}]
[{"$nulls":3},"Other\nResources","Resource\n(Example:  Case Management Team)",null,"Category\n","Number Available\n"]
[{"$nulls":4},{"$f":"'THIRA #6 Interdict Disrupt'!E13","v":0},null,{"$f":"'THIRA #6 Interdict Disrupt'!G13","v":0}]
[{"$nulls":4},{"$f":"'THIRA #6 Interdict Disrupt'!E14","v":0},null,{"$f":"'THIRA #6 Interdict Disrupt'!G14","v":0}]
[{"$nulls":4},{"$f":"'THIRA #6 Interdict Disrupt'!E15","v":0},null,{"$f":"'THIRA #6 Interdict Disrupt'!G15","v":0}]
[{"$nulls":4},{"$f":"'THIRA #6 Interdict Disrupt'!E16","v":0},null,{"$f":"'THIRA #6 Interdict Disrupt'!G16","v":0}]
[]
[{"$nulls":3},"Journal Notes/Comments (optional)",{"$nulls":11},0]

{"sheet":"THIRA #7 Screen Search Detect","index":19,"n_rows":27,"n_cols":20,"rows_kept":27,"hidden":true,"merged":[[2,3,2,7],[3,3,3,7],[3,13,3,14],[5,3,5,7],[6,3,10,3],[11,3,15,3],[11,4,11,5],[12,4,12,5],[13,4,13,5],[14,4,14,5],[15,4,15,5],[26,3,26,7]]}
[21,{"$nulls":17},"# Other Rows Filled",{"$f":"IF(COUNTIF(N$1:N803,1),MATCH(800,INDEX(1/(N$1:N803=1),0)),\"\")-(T3+8)","v":0}]
[{"$nulls":18},"# NIMS rows filled",{"$f":"IF(COUNTIF(K$1:K800,1),MATCH(800,INDEX(1/(K$1:K800=1),0)),\"\")-7","v":0}]
[{"$f":"MAX(B:B)","v":1},null,null,"Capability Target",{"$nulls":14},"# NIMS Rows",{"$f":"MAX(J:J)","v":4}]
[null,{"$f":"ROW()-3","v":1},null,{"$f":"INDIRECT(\"'THIRA Steps 1-3'!$C$1717\")","v":"Click here to enter capability targets"},{"$nulls":14},"# NIMS Started",{"$f":"SUM(K:K)-1","v":0}]
[{"$nulls":18},"# NIMS Complete",{"$f":"SUM(L:L)","v":0}]
[{"$nulls":3},"Resource Requirements",{"$nulls":14},"# Other Rows",{"$f":"MAX(M:M)","v":4}]
[{"$nulls":3},"NIMS-typed Resources","Category","Resource","Type","Number Required",null,null,1,{"$nulls":7},"# Other Rows",{"$f":"SUM(N:N)-1","v":0}]
[{"$f":"LOOKUP(E8,'NIMS Resources'!B$4:B$12,'NIMS Resources'!C$4:C$12)","v":{"$error":"#N/A"}},null,{"$f":"VLOOKUP(F8, INDIRECT(\"'NIMS Resources'!$G$4:$J$\" & 366), 4, FALSE)","v":{"$error":"#N/A"}},{"$nulls":6},1,{"$f":"IF(OR(E8<>\"\", F8<>\"\", G8<>\"\", H8<>\"\"), 1, 0)","v":0},{"$f":"IF(AND(E8<>\"\", F8<>\"\", G8<>\"\", H8<>\"\"), 1, 0)","v":0},{"$nulls":6},"# Other",{"$f":"SUM(O:O)","v":0}]
[{"$f":"LOOKUP(E9,'NIMS Resources'!B$4:B$12,'NIMS Resources'!C$4:C$12)","v":{"$error":"#N/A"}},null,{"$f":"VLOOKUP(F9, INDIRECT(\"'NIMS Resources'!$G$4:$J$\" & 366), 4, FALSE)","v":{"$error":"#N/A"}},{"$nulls":6},{"$f":"J8+1","v":2},{"$f":"IF(OR(E9<>\"\", F9<>\"\", G9<>\"\", H9<>\"\"), 1, 0)","v":0},{"$f":"IF(AND(E9<>\"\", F9<>\"\", G9<>\"\", H9<>\"\"), 1, 0)","v":0}]
[{"$f":"LOOKUP(E10,'NIMS Resources'!B$4:B$12,'NIMS Resources'!C$4:C$12)","v":{"$error":"#N/A"}},null,{"$error":"#N/A"},{"$nulls":6},{"$f":"J9+1","v":3},{"$f":"IF(OR(E10<>\"\", F10<>\"\", G10<>\"\", H10<>\"\"), 1, 0)","v":0},{"$f":"IF(AND(E10<>\"\", F10<>\"\", G10<>\"\", H10<>\"\"), 1, 0)","v":0}]
[{"$f":"LOOKUP(E11,'NIMS Resources'!B$4:B$12,'NIMS Resources'!C$4:C$12)","v":{"$error":"#N/A"}},null,{"$error":"#N/A"},{"$nulls":6},{"$f":"J10+1","v":4},{"$f":"IF(OR(E11<>\"\", F11<>\"\", G11<>\"\", H11<>\"\"), 1, 0)","v":0},{"$f":"IF(AND(E11<>\"\", F11<>\"\", G11<>\"\", H11<>\"\"), 1, 0)","v":0}]
[{"$nulls":3},"Other\nResources","Resource\n(Example:  Case Management Team)",null,"Category\r\n","Number Required\n",{"$nulls":5},1]
[{"$nulls":12},1,{"$f":"IF(OR(E13<>\"\", H13<>\"\"), 1, 0)","v":0},{"$f":"IF(AND(E13<>\"\", H13<>\"\"), 1, 0)","v":0}]
[{"$nulls":12},{"$f":"M13+1","v":2},{"$f":"IF(OR(E14<>\"\", H14<>\"\"), 1, 0)","v":0},{"$f":"IF(AND(E14<>\"\", H14<>\"\"), 1, 0)","v":0}]
[{"$nulls":12},{"$f":"M14+1","v":3},{"$f":"IF(OR(E15<>\"\", H15<>\"\"), 1, 0)","v":0},{"$f":"IF(AND(E15<>\"\", H15<>\"\"), 1, 0)","v":0}]
[{"$nulls":12},{"$f":"M15+1","v":4},{"$f":"IF(OR(E16<>\"\", H16<>\"\"), 1, 0)","v":0},{"$f":"IF(AND(E16<>\"\", H16<>\"\"), 1, 0)","v":0}]
{"$rows_empty":10}
[{"$nulls":3},"Journal Notes/Comments (optional)",{"$nulls":5},0]

{"sheet":"SPR #7 Screen Search Detect","index":20,"n_rows":56,"n_cols":20,"rows_kept":56,"hidden":true,"merged":[[2,3,2,7],[3,3,3,7],[5,3,5,7],[7,3,7,7],[8,4,8,7],[9,4,9,7],[10,4,10,7],[12,3,14,3],[14,4,14,7],[16,3,18,3],[18,4,18,7],[20,3,22,3],[22,4,22,7],[24,3,26,3],[26,4,26,7],[28,3,30,3],[30,4,30,7],[32,3,32,7],[33,3,33,7],[36,3,36,7],[43,3,43,7],[44,3,48,3],[49,3,53,3],[49,4,49,5],[50,4,50,5],[51,4,51,5],[52,4,52,5],[53,4,53,5],[55,3,55,7]]}
[21]
[7]
[{"$f":"MAX(B:B)","v":1},null,null,"Capability Target"]
[null,{"$f":"ROW()-3","v":1},null,{"$f":"INDIRECT(\"'THIRA Steps 1-3'!$C$1717\")","v":"Click here to enter capability targets"}]
[]
[{"$nulls":3},"Capability Assessment"]
[]
[{"$nulls":3},"Priority"]
[{"$nulls":4},"Relative to the other core capabilities, efforts to build and/or sustain this core capability are of high importance to my jurisdiction’s preparedness activities.",{"$nulls":10},0]
[{"$nulls":4},"Relative to the other core capabilities, efforts to build and/or sustain this core capability are of medium importance to my jurisdiction’s preparedness activities."]
[{"$nulls":4},"Relative to the other core capabilities, efforts to build and/or sustain this core capability are of low importance to my jurisdiction’s preparedness activities."]
[]
[{"$nulls":3},"Planning","Rating\nInternal Capability","Rating (optional)\nInternal Capability + Mutual Aid","Gap Description (optional)","Recent Advances (optional)"]
[{"$nulls":4},{"$f":"LOOKUP(P14, Lists!$C$2:$C$8, Lists!D2:D8)","v":"No selection made"},{"$f":"LOOKUP(Q14, Lists!$C$2:$C$8, Lists!D2:D8)","v":"No selection made"},{"$nulls":9},1,1,{"$f":"COUNTIF(I15:AC15, \"TRUE\")","v":0},0,0]
[{"$nulls":4},"Into which functional area(s) does your community's planning gaps fall?",{"$nulls":3},false,false,false,false,false,false,false,false,false,false]
[]
[{"$nulls":3},"Organization","Rating\nInternal Capability","Rating (optional)\nInternal Capability + Mutual Aid","Gap Description (optional)","Recent Advances (optional)"]
[{"$nulls":4},{"$f":"LOOKUP(P18, Lists!$C$2:$C$8, Lists!E2:E8)","v":"No selection made"},{"$f":"LOOKUP(Q18, Lists!$C$2:$C$8, Lists!E2:E8)","v":"No selection made"},{"$nulls":9},1,1,{"$f":"COUNTIF(I19:AC19, \"TRUE\")","v":0},null,0]
[{"$nulls":4},"Into which functional area(s) does your community's organizational gaps fall?",{"$nulls":12},false]
[]
[{"$nulls":3},"Equipment","Rating\nInternal Capability","Rating (optional)\nInternal Capability + Mutual Aid","Gap Description (optional)","Recent Advances (optional)",{"$nulls":7},1,1]
[{"$nulls":4},{"$f":"LOOKUP(P22, Lists!$C$2:$C$8, Lists!F2:F8)","v":"No selection made"},{"$f":"LOOKUP(Q22, Lists!$C$2:$C$8, Lists!F2:F8)","v":"No selection made"},{"$nulls":9},1,1,{"$f":"COUNTIF(I23:AC23, \"TRUE\")","v":0},null,0]
[{"$nulls":4},"Into which functional area(s) does your community's equipment gaps fall?",{"$nulls":11},false,false]
[]
[{"$nulls":3},"Training","Rating\nInternal Capability","Rating (optional)\nInternal Capability + Mutual Aid","Gap Description (optional)","Recent Advances (optional)",{"$nulls":7},1,1]
[{"$nulls":4},{"$f":"LOOKUP(P26, Lists!$C$2:$C$8, Lists!G2:G8)","v":"No selection made"},{"$f":"LOOKUP(Q26, Lists!$C$2:$C$8, Lists!G2:G8)","v":"No selection made"},{"$nulls":9},1,1,{"$f":"COUNTIF(I27:AC27, \"TRUE\")","v":0},0,0]
[{"$nulls":4},"Into which functional area(s) does your community's training gaps fall?",{"$nulls":3},false,false,false,false,false,false,false,false,false,false,false]
[]
[{"$nulls":3},"Exercises","Rating\nInternal Capability","Rating (optional)\nInternal Capability + Mutual Aid","Gap Description (optional)","Recent Advances (optional)",{"$nulls":7},1,1]
[{"$nulls":4},{"$f":"LOOKUP(P30, Lists!$C$2:$C$8, Lists!H2:H8)","v":"No selection made"},{"$f":"LOOKUP(Q30, Lists!$C$2:$C$8, Lists!H2:H8)","v":"No selection made"},{"$nulls":9},1,1,{"$f":"COUNTIF(I31:AC31, \"TRUE\")","v":0},0,0]
[{"$nulls":4},"Into which functional area(s) does your community's exercise gaps fall?",{"$nulls":3},false,false,false,false,false,false,false,false,false,false]
[]
[{"$nulls":3},"Assessment Corroboration"]
[{"$nulls":8},{"$f":"IF(M34=TRUE, \"TRUE\", (IF(AND(K34=TRUE, N34=1), \"TRUE\", (IF(AND(L34= TRUE, N34=1), \"TRUE\")))))","v":false},{"$f":"COUNTIF(K34:M34, \"TRUE\")","v":0},false,false,false,0]
[]
[]
[{"$nulls":3},"Responsibility for Filling Gap",{"$nulls":11},0]
[{"$nulls":15},0]
[]
[]
[]
[]
[]
[{"$nulls":3},"Resource Requirements",{"$nulls":5},"NIMS",4]
[{"$nulls":3},"NIMS-typed Resources","Category","Resource","Type","Number Available",null,"Other",4]
[{"$nulls":4},{"$f":"'THIRA #7 Screen Search Detect'!E8","v":0},{"$f":"'THIRA #7 Screen Search Detect'!F8","v":0},{"$f":"'THIRA #7 Screen Search Detect'!G8","v":0}]
[{"$nulls":4},{"$f":"'THIRA #7 Screen Search Detect'!E9","v":0},{"$f":"'THIRA #7 Screen Search Detect'!F9","v":0},{"$f":"'THIRA #7 Screen Search Detect'!G9","v":0}]
[{"$nulls":4},{"$f":"'THIRA #7 Screen Search Detect'!E10","v":0},{"$f":"'THIRA #7 Screen Search Detect'!F10","v":0},{"$f":"'THIRA #7 Screen Search Detect'!G10","v":0}]
[{"$nulls":4},{"$f":"'THIRA #7 Screen Search Detect'!E11","v":0},{"$f":"'THIRA #7 Screen Search Detect'!F11","v":0},{"$f":"'THIRA #7 Screen Search Detect'!G11","v":0}]
[{"$nulls":3},"Other\nResources","Resource\n(Example:  Case Management Team)",null,"Category\n","Number Available\n"]
[{"$nulls":4},{"$f":"'THIRA #7 Screen Search Detect'!E13","v":0},null,{"$f":"'THIRA #7 Screen Search Detect'!G13","v":0}]
[{"$nulls":4},{"$f":"'THIRA #7 Screen Search Detect'!E14","v":0},null,{"$f":"'THIRA #7 Screen Search Detect'!G14","v":0}]
[{"$nulls":4},{"$f":"'THIRA #7 Screen Search Detect'!E15","v":0},null,{"$f":"'THIRA #7 Screen Search Detect'!G15","v":0}]
[{"$nulls":4},{"$f":"'THIRA #7 Screen Search Detect'!E16","v":0},null,{"$f":"'THIRA #7 Screen Search Detect'!G16","v":0}]
[]
[{"$nulls":3},"Journal Notes/Comments (optional)",{"$nulls":11},0]

{"sheet":"THIRA #8 Access Control","index":21,"n_rows":27,"n_cols":20,"rows_kept":27,"hidden":true,"merged":[[2,3,2,7],[3,3,3,7],[3,13,3,14],[5,3,5,7],[6,3,10,3],[11,3,15,3],[11,4,11,5],[12,4,12,5],[13,4,13,5],[14,4,14,5],[15,4,15,5],[26,3,26,7]]}
[21,{"$nulls":17},"# Other Rows Filled",{"$f":"IF(COUNTIF(N$1:N803,1),MATCH(800,INDEX(1/(N$1:N803=1),0)),\"\")-(T3+8)","v":0}]
[{"$nulls":18},"# NIMS rows filled",{"$f":"IF(COUNTIF(K$1:K800,1),MATCH(800,INDEX(1/(K$1:K800=1),0)),\"\")-7","v":0}]
[{"$f":"MAX(B:B)","v":1},null,null,"Capability Target",{"$nulls":14},"# NIMS Rows",{"$f":"MAX(J:J)","v":4}]
[null,{"$f":"ROW()-3","v":1},null,{"$f":"INDIRECT(\"'THIRA Steps 1-3'!$C$1889\")","v":"Click here to enter capability targets"},{"$nulls":14},"# NIMS Started",{"$f":"SUM(K:K)-1","v":0}]
[{"$nulls":18},"# NIMS Complete",{"$f":"SUM(L:L)","v":0}]
[{"$nulls":3},"Resource Requirements",{"$nulls":14},"# Other Rows",{"$f":"MAX(M:M)","v":4}]
[{"$nulls":3},"NIMS-typed Resources","Category","Resource","Type","Number Required",null,null,1,{"$nulls":7},"# Other Rows",{"$f":"SUM(N:N)-1","v":0}]
[{"$f":"LOOKUP(E8,'NIMS Resources'!B$4:B$12,'NIMS Resources'!C$4:C$12)","v":{"$error":"#N/A"}},null,{"$f":"VLOOKUP(F8, INDIRECT(\"'NIMS Resources'!$G$4:$J$\" & 366), 4, FALSE)","v":{"$error":"#N/A"}},{"$nulls":6},1,{"$f":"IF(OR(E8<>\"\", F8<>\"\", G8<>\"\", H8<>\"\"), 1, 0)","v":0},{"$f":"IF(AND(E8<>\"\", F8<>\"\", G8<>\"\", H8<>\"\"), 1, 0)","v":0},{"$nulls":6},"# Other",{"$f":"SUM(O:O)","v":0}]
[{"$f":"LOOKUP(E9,'NIMS Resources'!B$4:B$12,'NIMS Resources'!C$4:C$12)","v":{"$error":"#N/A"}},null,{"$f":"VLOOKUP(F9, INDIRECT(\"'NIMS Resources'!$G$4:$J$\" & 366), 4, FALSE)","v":{"$error":"#N/A"}},{"$nulls":6},{"$f":"J8+1","v":2},{"$f":"IF(OR(E9<>\"\", F9<>\"\", G9<>\"\", H9<>\"\"), 1, 0)","v":0},{"$f":"IF(AND(E9<>\"\", F9<>\"\", G9<>\"\", H9<>\"\"), 1, 0)","v":0}]
[{"$f":"LOOKUP(E10,'NIMS Resources'!B$4:B$12,'NIMS Resources'!C$4:C$12)","v":{"$error":"#N/A"}},null,{"$error":"#N/A"},{"$nulls":6},{"$f":"J9+1","v":3},{"$f":"IF(OR(E10<>\"\", F10<>\"\", G10<>\"\", H10<>\"\"), 1, 0)","v":0},{"$f":"IF(AND(E10<>\"\", F10<>\"\", G10<>\"\", H10<>\"\"), 1, 0)","v":0}]
[{"$f":"LOOKUP(E11,'NIMS Resources'!B$4:B$12,'NIMS Resources'!C$4:C$12)","v":{"$error":"#N/A"}},null,{"$error":"#N/A"},{"$nulls":6},{"$f":"J10+1","v":4},{"$f":"IF(OR(E11<>\"\", F11<>\"\", G11<>\"\", H11<>\"\"), 1, 0)","v":0},{"$f":"IF(AND(E11<>\"\", F11<>\"\", G11<>\"\", H11<>\"\"), 1, 0)","v":0}]
[{"$nulls":3},"Other\nResources","Resource\n(Example:  Case Management Team)",null,"Category\r\n","Number Required\n",{"$nulls":5},1]
[{"$nulls":12},1,{"$f":"IF(OR(E13<>\"\", H13<>\"\"), 1, 0)","v":0},{"$f":"IF(AND(E13<>\"\", H13<>\"\"), 1, 0)","v":0}]
[{"$nulls":12},{"$f":"M13+1","v":2},{"$f":"IF(OR(E14<>\"\", H14<>\"\"), 1, 0)","v":0},{"$f":"IF(AND(E14<>\"\", H14<>\"\"), 1, 0)","v":0}]
[{"$nulls":12},{"$f":"M14+1","v":3},{"$f":"IF(OR(E15<>\"\", H15<>\"\"), 1, 0)","v":0},{"$f":"IF(AND(E15<>\"\", H15<>\"\"), 1, 0)","v":0}]
[{"$nulls":12},{"$f":"M15+1","v":4},{"$f":"IF(OR(E16<>\"\", H16<>\"\"), 1, 0)","v":0},{"$f":"IF(AND(E16<>\"\", H16<>\"\"), 1, 0)","v":0}]
{"$rows_empty":10}
[{"$nulls":3},"Journal Notes/Comments (optional)",{"$nulls":5},0]

{"sheet":"SPR #8 Access Control","index":22,"n_rows":56,"n_cols":20,"rows_kept":56,"hidden":true,"merged":[[2,3,2,7],[3,3,3,7],[5,3,5,7],[7,3,7,7],[8,4,8,7],[9,4,9,7],[10,4,10,7],[12,3,14,3],[14,4,14,7],[16,3,18,3],[18,4,18,7],[20,3,22,3],[22,4,22,7],[24,3,26,3],[26,4,26,7],[28,3,30,3],[30,4,30,7],[32,3,32,7],[33,3,33,7],[36,3,36,7],[43,3,43,7],[44,3,48,3],[49,3,53,3],[49,4,49,5],[50,4,50,5],[51,4,51,5],[52,4,52,5],[53,4,53,5],[55,3,55,7]]}
[21]
[8]
[{"$f":"MAX(B:B)","v":1},null,null,"Capability Target"]
[null,{"$f":"ROW()-3","v":1},null,{"$f":"INDIRECT(\"'THIRA Steps 1-3'!$C$1889\")","v":"Click here to enter capability targets"}]
[]
[{"$nulls":3},"Capability Assessment"]
[]
[{"$nulls":3},"Priority"]
[{"$nulls":4},"Relative to the other core capabilities, efforts to build and/or sustain this core capability are of high importance to my jurisdiction’s preparedness activities.",{"$nulls":10},0]
[{"$nulls":4},"Relative to the other core capabilities, efforts to build and/or sustain this core capability are of medium importance to my jurisdiction’s preparedness activities."]
[{"$nulls":4},"Relative to the other core capabilities, efforts to build and/or sustain this core capability are of low importance to my jurisdiction’s preparedness activities."]
[]
[{"$nulls":3},"Planning","Rating\nInternal Capability","Rating (optional)\nInternal Capability + Mutual Aid","Gap Description (optional)","Recent Advances (optional)"]
[{"$nulls":4},{"$f":"LOOKUP(P14, Lists!$C$2:$C$8, Lists!D2:D8)","v":"No selection made"},{"$f":"LOOKUP(Q14, Lists!$C$2:$C$8, Lists!D2:D8)","v":"No selection made"},{"$nulls":9},1,1,{"$f":"COUNTIF(I15:AC15, \"TRUE\")","v":0},0,0]
[{"$nulls":4},"Into which functional area(s) does your community's planning gaps fall?",{"$nulls":3},false,false,false,false,false,false,false,false,false]
[]
[{"$nulls":3},"Organization","Rating\nInternal Capability","Rating (optional)\nInternal Capability + Mutual Aid","Gap Description (optional)","Recent Advances (optional)"]
[{"$nulls":4},{"$f":"LOOKUP(P18, Lists!$C$2:$C$8, Lists!E2:E8)","v":"No selection made"},{"$f":"LOOKUP(Q18, Lists!$C$2:$C$8, Lists!E2:E8)","v":"No selection made"},{"$nulls":9},1,1,{"$f":"COUNTIF(I19:AC19, \"TRUE\")","v":0},null,0]
[{"$nulls":4},"Into which functional area(s) does your community's organizational gaps fall?",{"$nulls":6},false]
[]
[{"$nulls":3},"Equipment","Rating\nInternal Capability","Rating (optional)\nInternal Capability + Mutual Aid","Gap Description (optional)","Recent Advances (optional)",{"$nulls":7},1,1]
[{"$nulls":4},{"$f":"LOOKUP(P22, Lists!$C$2:$C$8, Lists!F2:F8)","v":"No selection made"},{"$f":"LOOKUP(Q22, Lists!$C$2:$C$8, Lists!F2:F8)","v":"No selection made"},{"$nulls":9},1,1,{"$f":"COUNTIF(I23:AC23, \"TRUE\")","v":0},null,0]
[{"$nulls":4},"Into which functional area(s) does your community's equipment gaps fall?",{"$nulls":6},false]
[]
[{"$nulls":3},"Training","Rating\nInternal Capability","Rating (optional)\nInternal Capability + Mutual Aid","Gap Description (optional)","Recent Advances (optional)",{"$nulls":7},1,1]
[{"$nulls":4},{"$f":"LOOKUP(P26, Lists!$C$2:$C$8, Lists!G2:G8)","v":"No selection made"},{"$f":"LOOKUP(Q26, Lists!$C$2:$C$8, Lists!G2:G8)","v":"No selection made"},{"$nulls":9},1,1,{"$f":"COUNTIF(I27:AC27, \"TRUE\")","v":0},0,0]
[{"$nulls":4},"Into which functional area(s) does your community's training gaps fall?",{"$nulls":3},false,false,false,false,false,false,false,false,false,false,false]
[]
[{"$nulls":3},"Exercises","Rating\nInternal Capability","Rating (optional)\nInternal Capability + Mutual Aid","Gap Description (optional)","Recent Advances (optional)",{"$nulls":7},1,1]
[{"$nulls":4},{"$f":"LOOKUP(P30, Lists!$C$2:$C$8, Lists!H2:H8)","v":"No selection made"},{"$f":"LOOKUP(Q30, Lists!$C$2:$C$8, Lists!H2:H8)","v":"No selection made"},{"$nulls":9},1,1,{"$f":"COUNTIF(I31:AC31, \"TRUE\")","v":0},0,0]
[{"$nulls":4},"Into which functional area(s) does your community's exercise gaps fall?",{"$nulls":3},false,false,false,false,false,false,false,false]
[]
[{"$nulls":3},"Assessment Corroboration"]
[{"$nulls":8},{"$f":"IF(M34=TRUE, \"TRUE\", (IF(AND(K34=TRUE, N34=1), \"TRUE\", (IF(AND(L34= TRUE, N34=1), \"TRUE\")))))","v":false},{"$f":"COUNTIF(K34:M34, \"TRUE\")","v":0},false,false,false,0]
[]
[]
[{"$nulls":3},"Responsibility for Filling Gap",{"$nulls":11},0]
[{"$nulls":15},0]
[]
[]
[]
[]
[]
[{"$nulls":3},"Resource Requirements",{"$nulls":5},"NIMS",4]
[{"$nulls":3},"NIMS-typed Resources","Category","Resource","Type","Number Available",null,"Other",4]
[{"$nulls":4},{"$f":"'THIRA #8 Access Control'!E8","v":0},{"$f":"'THIRA #8 Access Control'!F8","v":0},{"$f":"'THIRA #8 Access Control'!G8","v":0}]
[{"$nulls":4},{"$f":"'THIRA #8 Access Control'!E9","v":0},{"$f":"'THIRA #8 Access Control'!F9","v":0},{"$f":"'THIRA #8 Access Control'!G9","v":0}]
[{"$nulls":4},{"$f":"'THIRA #8 Access Control'!E10","v":0},{"$f":"'THIRA #8 Access Control'!F10","v":0},{"$f":"'THIRA #8 Access Control'!G10","v":0}]
[{"$nulls":4},{"$f":"'THIRA #8 Access Control'!E11","v":0},{"$f":"'THIRA #8 Access Control'!F11","v":0},{"$f":"'THIRA #8 Access Control'!G11","v":0}]
[{"$nulls":3},"Other\nResources","Resource\n(Example:  Case Management Team)",null,"Category\n","Number Available\n"]
[{"$nulls":4},{"$f":"'THIRA #8 Access Control'!E13","v":0},null,{"$f":"'THIRA #8 Access Control'!G13","v":0}]
[{"$nulls":4},{"$f":"'THIRA #8 Access Control'!E14","v":0},null,{"$f":"'THIRA #8 Access Control'!G14","v":0}]
[{"$nulls":4},{"$f":"'THIRA #8 Access Control'!E15","v":0},null,{"$f":"'THIRA #8 Access Control'!G15","v":0}]
[{"$nulls":4},{"$f":"'THIRA #8 Access Control'!E16","v":0},null,{"$f":"'THIRA #8 Access Control'!G16","v":0}]
[]
[{"$nulls":3},"Journal Notes/Comments (optional)",{"$nulls":11},0]

{"sheet":"THIRA #9 Cybersecurity","index":23,"n_rows":27,"n_cols":20,"rows_kept":27,"hidden":true,"merged":[[2,3,2,7],[3,3,3,7],[3,13,3,14],[5,3,5,7],[6,3,10,3],[11,3,15,3],[11,4,11,5],[12,4,12,5],[13,4,13,5],[14,4,14,5],[15,4,15,5],[26,3,26,7]]}
[21,{"$nulls":17},"# Other Rows Filled",{"$f":"IF(COUNTIF(N$1:N803,1),MATCH(800,INDEX(1/(N$1:N803=1),0)),\"\")-(T3+8)","v":0}]
[{"$nulls":18},"# NIMS rows filled",{"$f":"IF(COUNTIF(K$1:K800,1),MATCH(800,INDEX(1/(K$1:K800=1),0)),\"\")-7","v":0}]
[{"$f":"MAX(B:B)","v":1},null,null,"Capability Target",{"$nulls":14},"# NIMS Rows",{"$f":"MAX(J:J)","v":4}]
[null,{"$f":"ROW()-3","v":1},null,{"$f":"INDIRECT(\"'THIRA Steps 1-3'!$C$1977\")","v":"Click here to enter capability targets"},{"$nulls":14},"# NIMS Started",{"$f":"SUM(K:K)-1","v":0}]
[{"$nulls":18},"# NIMS Complete",{"$f":"SUM(L:L)","v":0}]
[{"$nulls":3},"Resource Requirements",{"$nulls":14},"# Other Rows",{"$f":"MAX(M:M)","v":4}]
[{"$nulls":3},"NIMS-typed Resources","Category","Resource","Type","Number Required",null,null,1,{"$nulls":7},"# Other Rows",{"$f":"SUM(N:N)-1","v":0}]
[{"$f":"LOOKUP(E8,'NIMS Resources'!B$4:B$12,'NIMS Resources'!C$4:C$12)","v":{"$error":"#N/A"}},null,{"$f":"VLOOKUP(F8, INDIRECT(\"'NIMS Resources'!$G$4:$J$\" & 366), 4, FALSE)","v":{"$error":"#N/A"}},{"$nulls":6},1,{"$f":"IF(OR(E8<>\"\", F8<>\"\", G8<>\"\", H8<>\"\"), 1, 0)","v":0},{"$f":"IF(AND(E8<>\"\", F8<>\"\", G8<>\"\", H8<>\"\"), 1, 0)","v":0},{"$nulls":6},"# Other",{"$f":"SUM(O:O)","v":0}]
[{"$f":"LOOKUP(E9,'NIMS Resources'!B$4:B$12,'NIMS Resources'!C$4:C$12)","v":{"$error":"#N/A"}},null,{"$f":"VLOOKUP(F9, INDIRECT(\"'NIMS Resources'!$G$4:$J$\" & 366), 4, FALSE)","v":{"$error":"#N/A"}},{"$nulls":6},{"$f":"J8+1","v":2},{"$f":"IF(OR(E9<>\"\", F9<>\"\", G9<>\"\", H9<>\"\"), 1, 0)","v":0},{"$f":"IF(AND(E9<>\"\", F9<>\"\", G9<>\"\", H9<>\"\"), 1, 0)","v":0}]
[{"$f":"LOOKUP(E10,'NIMS Resources'!B$4:B$12,'NIMS Resources'!C$4:C$12)","v":{"$error":"#N/A"}},null,{"$error":"#N/A"},{"$nulls":6},{"$f":"J9+1","v":3},{"$f":"IF(OR(E10<>\"\", F10<>\"\", G10<>\"\", H10<>\"\"), 1, 0)","v":0},{"$f":"IF(AND(E10<>\"\", F10<>\"\", G10<>\"\", H10<>\"\"), 1, 0)","v":0}]
[{"$f":"LOOKUP(E11,'NIMS Resources'!B$4:B$12,'NIMS Resources'!C$4:C$12)","v":{"$error":"#N/A"}},null,{"$error":"#N/A"},{"$nulls":6},{"$f":"J10+1","v":4},{"$f":"IF(OR(E11<>\"\", F11<>\"\", G11<>\"\", H11<>\"\"), 1, 0)","v":0},{"$f":"IF(AND(E11<>\"\", F11<>\"\", G11<>\"\", H11<>\"\"), 1, 0)","v":0}]
[{"$nulls":3},"Other\nResources","Resource\n(Example:  Case Management Team)",null,"Category\r\n","Number Required\n",{"$nulls":5},1]
[{"$nulls":12},1,{"$f":"IF(OR(E13<>\"\", H13<>\"\"), 1, 0)","v":0},{"$f":"IF(AND(E13<>\"\", H13<>\"\"), 1, 0)","v":0}]
[{"$nulls":12},{"$f":"M13+1","v":2},{"$f":"IF(OR(E14<>\"\", H14<>\"\"), 1, 0)","v":0},{"$f":"IF(AND(E14<>\"\", H14<>\"\"), 1, 0)","v":0}]
[{"$nulls":12},{"$f":"M14+1","v":3},{"$f":"IF(OR(E15<>\"\", H15<>\"\"), 1, 0)","v":0},{"$f":"IF(AND(E15<>\"\", H15<>\"\"), 1, 0)","v":0}]
[{"$nulls":12},{"$f":"M15+1","v":4},{"$f":"IF(OR(E16<>\"\", H16<>\"\"), 1, 0)","v":0},{"$f":"IF(AND(E16<>\"\", H16<>\"\"), 1, 0)","v":0}]
{"$rows_empty":10}
[{"$nulls":3},"Journal Notes/Comments (optional)",{"$nulls":5},0]

{"sheet":"SPR #9 Cybersecurity","index":24,"n_rows":56,"n_cols":20,"rows_kept":56,"hidden":true,"merged":[[2,3,2,7],[3,3,3,7],[5,3,5,7],[7,3,7,7],[8,4,8,7],[9,4,9,7],[10,4,10,7],[12,3,14,3],[14,4,14,7],[16,3,18,3],[18,4,18,7],[20,3,22,3],[22,4,22,7],[24,3,26,3],[26,4,26,7],[28,3,30,3],[30,4,30,7],[32,3,32,7],[33,3,33,7],[36,3,36,7],[43,3,43,7],[44,3,48,3],[49,3,53,3],[49,4,49,5],[50,4,50,5],[51,4,51,5],[52,4,52,5],[53,4,53,5],[55,3,55,7]]}
[21]
[9]
[{"$f":"MAX(B:B)","v":1},null,null,"Capability Target"]
[null,{"$f":"ROW()-3","v":1},null,{"$f":"INDIRECT(\"'THIRA Steps 1-3'!$C$1977\")","v":"Click here to enter capability targets"}]
[]
[{"$nulls":3},"Capability Assessment"]
[]
[{"$nulls":3},"Priority"]
[{"$nulls":4},"Relative to the other core capabilities, efforts to build and/or sustain this core capability are of high importance to my jurisdiction’s preparedness activities.",{"$nulls":10},0]
[{"$nulls":4},"Relative to the other core capabilities, efforts to build and/or sustain this core capability are of medium importance to my jurisdiction’s preparedness activities."]
[{"$nulls":4},"Relative to the other core capabilities, efforts to build and/or sustain this core capability are of low importance to my jurisdiction’s preparedness activities."]
[]
[{"$nulls":3},"Planning","Rating\nInternal Capability","Rating (optional)\nInternal Capability + Mutual Aid","Gap Description (optional)","Recent Advances (optional)"]
[{"$nulls":4},{"$f":"LOOKUP(P14, Lists!$C$2:$C$8, Lists!D2:D8)","v":"No selection made"},{"$f":"LOOKUP(Q14, Lists!$C$2:$C$8, Lists!D2:D8)","v":"No selection made"},{"$nulls":9},1,1,{"$f":"COUNTIF(I15:AC15, \"TRUE\")","v":0},0,0]
[{"$nulls":4},"Into which functional area(s) does your community's planning gaps fall?",{"$nulls":3},false,false,false,false,false,false,false,false,false,false]
[]
[{"$nulls":3},"Organization","Rating\nInternal Capability","Rating (optional)\nInternal Capability + Mutual Aid","Gap Description (optional)","Recent Advances (optional)"]
[{"$nulls":4},{"$f":"LOOKUP(P18, Lists!$C$2:$C$8, Lists!E2:E8)","v":"No selection made"},{"$f":"LOOKUP(Q18, Lists!$C$2:$C$8, Lists!E2:E8)","v":"No selection made"},{"$nulls":9},1,1,{"$f":"COUNTIF(I19:AC19, \"TRUE\")","v":0},null,0]
[{"$nulls":4},"Into which functional area(s) does your community's organizational gaps fall?",{"$nulls":12},false]
[]
[{"$nulls":3},"Equipment","Rating\nInternal Capability","Rating (optional)\nInternal Capability + Mutual Aid","Gap Description (optional)","Recent Advances (optional)",{"$nulls":7},1,1]
[{"$nulls":4},{"$f":"LOOKUP(P22, Lists!$C$2:$C$8, Lists!F2:F8)","v":"No selection made"},{"$f":"LOOKUP(Q22, Lists!$C$2:$C$8, Lists!F2:F8)","v":"No selection made"},{"$nulls":9},1,1,{"$f":"COUNTIF(I23:AC23, \"TRUE\")","v":0},null,0]
[{"$nulls":4},"Into which functional area(s) does your community's equipment gaps fall?",{"$nulls":12},false]
[]
[{"$nulls":3},"Training","Rating\nInternal Capability","Rating (optional)\nInternal Capability + Mutual Aid","Gap Description (optional)","Recent Advances (optional)",{"$nulls":7},1,1]
[{"$nulls":4},{"$f":"LOOKUP(P26, Lists!$C$2:$C$8, Lists!G2:G8)","v":"No selection made"},{"$f":"LOOKUP(Q26, Lists!$C$2:$C$8, Lists!G2:G8)","v":"No selection made"},{"$nulls":9},1,1,{"$f":"COUNTIF(I27:AC27, \"TRUE\")","v":0},0,0]
[{"$nulls":4},"Into which functional area(s) does your community's training gaps fall?",{"$nulls":3},false,false,false,false,false,false,false,false,false,false,false]
[]
[{"$nulls":3},"Exercises","Rating\nInternal Capability","Rating (optional)\nInternal Capability + Mutual Aid","Gap Description (optional)","Recent Advances (optional)",{"$nulls":7},1,1]
[{"$nulls":4},{"$f":"LOOKUP(P30, Lists!$C$2:$C$8, Lists!H2:H8)","v":"No selection made"},{"$f":"LOOKUP(Q30, Lists!$C$2:$C$8, Lists!H2:H8)","v":"No selection made"},{"$nulls":9},1,1,{"$f":"COUNTIF(I31:AC31, \"TRUE\")","v":0},0,0]
[{"$nulls":4},"Into which functional area(s) does your community's exercise gaps fall?",{"$nulls":3},false,false,false,false,false,false,false,false,false,false]
[]
[{"$nulls":3},"Assessment Corroboration"]
[{"$nulls":8},{"$f":"IF(M34=TRUE, \"TRUE\", (IF(AND(K34=TRUE, N34=1), \"TRUE\", (IF(AND(L34= TRUE, N34=1), \"TRUE\")))))","v":false},{"$f":"COUNTIF(K34:M34, \"TRUE\")","v":0},false,false,false,0]
[]
[]
[{"$nulls":3},"Responsibility for Filling Gap",{"$nulls":11},0]
[{"$nulls":15},0]
[]
[]
[]
[]
[]
[{"$nulls":3},"Resource Requirements",{"$nulls":5},"NIMS",4]
[{"$nulls":3},"NIMS-typed Resources","Category","Resource","Type","Number Available",null,"Other",4]
[{"$nulls":4},{"$f":"'THIRA #9 Cybersecurity'!E8","v":0},{"$f":"'THIRA #9 Cybersecurity'!F8","v":0},{"$f":"'THIRA #9 Cybersecurity'!G8","v":0}]
[{"$nulls":4},{"$f":"'THIRA #9 Cybersecurity'!E9","v":0},{"$f":"'THIRA #9 Cybersecurity'!F9","v":0},{"$f":"'THIRA #9 Cybersecurity'!G9","v":0}]
[{"$nulls":4},{"$f":"'THIRA #9 Cybersecurity'!E10","v":0},{"$f":"'THIRA #9 Cybersecurity'!F10","v":0},{"$f":"'THIRA #9 Cybersecurity'!G10","v":0}]
[{"$nulls":4},{"$f":"'THIRA #9 Cybersecurity'!E11","v":0},{"$f":"'THIRA #9 Cybersecurity'!F11","v":0},{"$f":"'THIRA #9 Cybersecurity'!G11","v":0}]
[{"$nulls":3},"Other\nResources","Resource\n(Example:  Case Management Team)",null,"Category\n","Number Available\n"]
[{"$nulls":4},{"$f":"'THIRA #9 Cybersecurity'!E13","v":0},null,{"$f":"'THIRA #9 Cybersecurity'!G13","v":0}]
[{"$nulls":4},{"$f":"'THIRA #9 Cybersecurity'!E14","v":0},null,{"$f":"'THIRA #9 Cybersecurity'!G14","v":0}]
[{"$nulls":4},{"$f":"'THIRA #9 Cybersecurity'!E15","v":0},null,{"$f":"'THIRA #9 Cybersecurity'!G15","v":0}]
[{"$nulls":4},{"$f":"'THIRA #9 Cybersecurity'!E16","v":0},null,{"$f":"'THIRA #9 Cybersecurity'!G16","v":0}]
[]
[{"$nulls":3},"Journal Notes/Comments (optional)",{"$nulls":11},0]

{"sheet":"THIRA #10 Phys Protect Meas","index":25,"n_rows":27,"n_cols":20,"rows_kept":27,"hidden":true,"merged":[[2,3,2,7],[3,3,3,7],[3,13,3,14],[5,3,5,7],[6,3,10,3],[11,3,15,3],[11,4,11,5],[12,4,12,5],[13,4,13,5],[14,4,14,5],[15,4,15,5],[26,3,26,7]]}
[21,{"$nulls":17},"# Other Rows Filled",{"$f":"IF(COUNTIF(N$1:N803,1),MATCH(800,INDEX(1/(N$1:N803=1),0)),\"\")-(T3+8)","v":0}]
[{"$nulls":18},"# NIMS rows filled",{"$f":"IF(COUNTIF(K$1:K800,1),MATCH(800,INDEX(1/(K$1:K800=1),0)),\"\")-7","v":0}]
[{"$f":"MAX(B:B)","v":1},null,null,"Capability Target",{"$nulls":14},"# NIMS Rows",{"$f":"MAX(J:J)","v":4}]
[null,{"$f":"ROW()-3","v":1},null,{"$f":"INDIRECT(\"'THIRA Steps 1-3'!$C$2065\")","v":"Click here to enter capability targets"},{"$nulls":14},"# NIMS Started",{"$f":"SUM(K:K)-1","v":0}]
[{"$nulls":18},"# NIMS Complete",{"$f":"SUM(L:L)","v":0}]
[{"$nulls":3},"Resource Requirements",{"$nulls":14},"# Other Rows",{"$f":"MAX(M:M)","v":4}]
[{"$nulls":3},"NIMS-typed Resources","Category","Resource","Type","Number Required",null,null,1,{"$nulls":7},"# Other Rows",{"$f":"SUM(N:N)-1","v":0}]
[{"$f":"LOOKUP(E8,'NIMS Resources'!B$4:B$12,'NIMS Resources'!C$4:C$12)","v":{"$error":"#N/A"}},null,{"$f":"VLOOKUP(F8, INDIRECT(\"'NIMS Resources'!$G$4:$J$\" & 366), 4, FALSE)","v":{"$error":"#N/A"}},{"$nulls":6},1,{"$f":"IF(OR(E8<>\"\", F8<>\"\", G8<>\"\", H8<>\"\"), 1, 0)","v":0},{"$f":"IF(AND(E8<>\"\", F8<>\"\", G8<>\"\", H8<>\"\"), 1, 0)","v":0},{"$nulls":6},"# Other",{"$f":"SUM(O:O)","v":0}]
[{"$f":"LOOKUP(E9,'NIMS Resources'!B$4:B$12,'NIMS Resources'!C$4:C$12)","v":{"$error":"#N/A"}},null,{"$f":"VLOOKUP(F9, INDIRECT(\"'NIMS Resources'!$G$4:$J$\" & 366), 4, FALSE)","v":{"$error":"#N/A"}},{"$nulls":6},{"$f":"J8+1","v":2},{"$f":"IF(OR(E9<>\"\", F9<>\"\", G9<>\"\", H9<>\"\"), 1, 0)","v":0},{"$f":"IF(AND(E9<>\"\", F9<>\"\", G9<>\"\", H9<>\"\"), 1, 0)","v":0}]
[{"$f":"LOOKUP(E10,'NIMS Resources'!B$4:B$12,'NIMS Resources'!C$4:C$12)","v":{"$error":"#N/A"}},null,{"$error":"#N/A"},{"$nulls":6},{"$f":"J9+1","v":3},{"$f":"IF(OR(E10<>\"\", F10<>\"\", G10<>\"\", H10<>\"\"), 1, 0)","v":0},{"$f":"IF(AND(E10<>\"\", F10<>\"\", G10<>\"\", H10<>\"\"), 1, 0)","v":0}]
[{"$f":"LOOKUP(E11,'NIMS Resources'!B$4:B$12,'NIMS Resources'!C$4:C$12)","v":{"$error":"#N/A"}},null,{"$error":"#N/A"},{"$nulls":6},{"$f":"J10+1","v":4},{"$f":"IF(OR(E11<>\"\", F11<>\"\", G11<>\"\", H11<>\"\"), 1, 0)","v":0},{"$f":"IF(AND(E11<>\"\", F11<>\"\", G11<>\"\", H11<>\"\"), 1, 0)","v":0}]
[{"$nulls":3},"Other\nResources","Resource\n(Example:  Case Management Team)",null,"Category\r\n","Number Required\n",{"$nulls":5},1]
[{"$nulls":12},1,{"$f":"IF(OR(E13<>\"\", H13<>\"\"), 1, 0)","v":0},{"$f":"IF(AND(E13<>\"\", H13<>\"\"), 1, 0)","v":0}]
[{"$nulls":12},{"$f":"M13+1","v":2},{"$f":"IF(OR(E14<>\"\", H14<>\"\"), 1, 0)","v":0},{"$f":"IF(AND(E14<>\"\", H14<>\"\"), 1, 0)","v":0}]
[{"$nulls":12},{"$f":"M14+1","v":3},{"$f":"IF(OR(E15<>\"\", H15<>\"\"), 1, 0)","v":0},{"$f":"IF(AND(E15<>\"\", H15<>\"\"), 1, 0)","v":0}]
[{"$nulls":12},{"$f":"M15+1","v":4},{"$f":"IF(OR(E16<>\"\", H16<>\"\"), 1, 0)","v":0},{"$f":"IF(AND(E16<>\"\", H16<>\"\"), 1, 0)","v":0}]
{"$rows_empty":10}
[{"$nulls":3},"Journal Notes/Comments (optional)",{"$nulls":5},0]

{"sheet":"SPR #10 Phys Protect Meas","index":26,"n_rows":56,"n_cols":20,"rows_kept":56,"hidden":true,"merged":[[2,3,2,7],[3,3,3,7],[5,3,5,7],[7,3,7,7],[8,4,8,7],[9,4,9,7],[10,4,10,7],[12,3,14,3],[14,4,14,7],[16,3,18,3],[18,4,18,7],[20,3,22,3],[22,4,22,7],[24,3,26,3],[26,4,26,7],[28,3,30,3],[30,4,30,7],[32,3,32,7],[33,3,33,7],[36,3,36,7],[43,3,43,7],[44,3,48,3],[49,3,53,3],[49,4,49,5],[50,4,50,5],[51,4,51,5],[52,4,52,5],[53,4,53,5],[55,3,55,7]]}
[21]
[10]
[{"$f":"MAX(B:B)","v":1},null,null,"Capability Target"]
[null,{"$f":"ROW()-3","v":1},null,{"$f":"INDIRECT(\"'THIRA Steps 1-3'!$C$2065\")","v":"Click here to enter capability targets"}]
[]
[{"$nulls":3},"Capability Assessment"]
[]
[{"$nulls":3},"Priority"]
[{"$nulls":4},"Relative to the other core capabilities, efforts to build and/or sustain this core capability are of high importance to my jurisdiction’s preparedness activities.",{"$nulls":10},0]
[{"$nulls":4},"Relative to the other core capabilities, efforts to build and/or sustain this core capability are of medium importance to my jurisdiction’s preparedness activities."]
[{"$nulls":4},"Relative to the other core capabilities, efforts to build and/or sustain this core capability are of low importance to my jurisdiction’s preparedness activities."]
[]
[{"$nulls":3},"Planning","Rating\nInternal Capability","Rating (optional)\nInternal Capability + Mutual Aid","Gap Description (optional)","Recent Advances (optional)"]
[{"$nulls":4},{"$f":"LOOKUP(P14, Lists!$C$2:$C$8, Lists!D2:D8)","v":"No selection made"},{"$f":"LOOKUP(Q14, Lists!$C$2:$C$8, Lists!D2:D8)","v":"No selection made"},{"$nulls":9},1,1,{"$f":"COUNTIF(I15:AC15, \"TRUE\")","v":0},0,0]
[{"$nulls":4},"Into which functional area(s) does your community's planning gaps fall?",{"$nulls":3},false,false,false,false,false,false,false,false,false]
[]
[{"$nulls":3},"Organization","Rating\nInternal Capability","Rating (optional)\nInternal Capability + Mutual Aid","Gap Description (optional)","Recent Advances (optional)"]
[{"$nulls":4},{"$f":"LOOKUP(P18, Lists!$C$2:$C$8, Lists!E2:E8)","v":"No selection made"},{"$f":"LOOKUP(Q18, Lists!$C$2:$C$8, Lists!E2:E8)","v":"No selection made"},{"$nulls":9},1,1,{"$f":"COUNTIF(I19:AC19, \"TRUE\")","v":0},null,0]
[{"$nulls":4},"Into which functional area(s) does your community's organizational gaps fall?",{"$nulls":8},false]
[]
[{"$nulls":3},"Equipment","Rating\nInternal Capability","Rating (optional)\nInternal Capability + Mutual Aid","Gap Description (optional)","Recent Advances (optional)",{"$nulls":7},1,1]
[{"$nulls":4},{"$f":"LOOKUP(P22, Lists!$C$2:$C$8, Lists!F2:F8)","v":"No selection made"},{"$f":"LOOKUP(Q22, Lists!$C$2:$C$8, Lists!F2:F8)","v":"No selection made"},{"$nulls":9},1,1,{"$f":"COUNTIF(I23:AC23, \"TRUE\")","v":0},null,0]
[{"$nulls":4},"Into which functional area(s) does your community's equipment gaps fall?",{"$nulls":8},false]
[]
[{"$nulls":3},"Training","Rating\nInternal Capability","Rating (optional)\nInternal Capability + Mutual Aid","Gap Description (optional)","Recent Advances (optional)",{"$nulls":7},1,1]
[{"$nulls":4},{"$f":"LOOKUP(P26, Lists!$C$2:$C$8, Lists!G2:G8)","v":"No selection made"},{"$f":"LOOKUP(Q26, Lists!$C$2:$C$8, Lists!G2:G8)","v":"No selection made"},{"$nulls":9},1,1,{"$f":"COUNTIF(I27:AC27, \"TRUE\")","v":0},0,0]
[{"$nulls":4},"Into which functional area(s) does your community's training gaps fall?",{"$nulls":3},false,false,false,false,false,false,false,false,false,false,false]
[]
[{"$nulls":3},"Exercises","Rating\nInternal Capability","Rating (optional)\nInternal Capability + Mutual Aid","Gap Description (optional)","Recent Advances (optional)",{"$nulls":7},1,1]
[{"$nulls":4},{"$f":"LOOKUP(P30, Lists!$C$2:$C$8, Lists!H2:H8)","v":"No selection made"},{"$f":"LOOKUP(Q30, Lists!$C$2:$C$8, Lists!H2:H8)","v":"No selection made"},{"$nulls":9},1,1,{"$f":"COUNTIF(I31:AC31, \"TRUE\")","v":0},0,0]
[{"$nulls":4},"Into which functional area(s) does your community's exercise gaps fall?",{"$nulls":3},false,false,false,false,false,false,false,false]
[]
[{"$nulls":3},"Assessment Corroboration"]
[{"$nulls":8},{"$f":"IF(M34=TRUE, \"TRUE\", (IF(AND(K34=TRUE, N34=1), \"TRUE\", (IF(AND(L34= TRUE, N34=1), \"TRUE\")))))","v":false},{"$f":"COUNTIF(K34:M34, \"TRUE\")","v":0},false,false,false,0]
[]
[]
[{"$nulls":3},"Responsibility for Filling Gap",{"$nulls":11},0]
[{"$nulls":15},0]
[]
[]
[]
[]
[]
[{"$nulls":3},"Resource Requirements",{"$nulls":5},"NIMS",4]
[{"$nulls":3},"NIMS-typed Resources","Category","Resource","Type","Number Available",null,"Other",4]
[{"$nulls":4},{"$f":"'THIRA #10 Phys Protect Meas'!E8","v":0},{"$f":"'THIRA #10 Phys Protect Meas'!F8","v":0},{"$f":"'THIRA #10 Phys Protect Meas'!G8","v":0}]
[{"$nulls":4},{"$f":"'THIRA #10 Phys Protect Meas'!E9","v":0},{"$f":"'THIRA #10 Phys Protect Meas'!F9","v":0},{"$f":"'THIRA #10 Phys Protect Meas'!G9","v":0}]
[{"$nulls":4},{"$f":"'THIRA #10 Phys Protect Meas'!E10","v":0},{"$f":"'THIRA #10 Phys Protect Meas'!F10","v":0},{"$f":"'THIRA #10 Phys Protect Meas'!G10","v":0}]
[{"$nulls":4},{"$f":"'THIRA #10 Phys Protect Meas'!E11","v":0},{"$f":"'THIRA #10 Phys Protect Meas'!F11","v":0},{"$f":"'THIRA #10 Phys Protect Meas'!G11","v":0}]
[{"$nulls":3},"Other\nResources","Resource\n(Example:  Case Management Team)",null,"Category\n","Number Available\n"]
[{"$nulls":4},{"$f":"'THIRA #10 Phys Protect Meas'!E13","v":0},null,{"$f":"'THIRA #10 Phys Protect Meas'!G13","v":0}]
[{"$nulls":4},{"$f":"'THIRA #10 Phys Protect Meas'!E14","v":0},null,{"$f":"'THIRA #10 Phys Protect Meas'!G14","v":0}]
[{"$nulls":4},{"$f":"'THIRA #10 Phys Protect Meas'!E15","v":0},null,{"$f":"'THIRA #10 Phys Protect Meas'!G15","v":0}]
[{"$nulls":4},{"$f":"'THIRA #10 Phys Protect Meas'!E16","v":0},null,{"$f":"'THIRA #10 Phys Protect Meas'!G16","v":0}]
[]
[{"$nulls":3},"Journal Notes/Comments (optional)",{"$nulls":11},0]

{"sheet":"THIRA #11 Risk Mgmt Protect","index":27,"n_rows":27,"n_cols":20,"rows_kept":27,"hidden":true,"merged":[[2,3,2,7],[3,3,3,7],[3,13,3,14],[5,3,5,7],[6,3,10,3],[11,3,15,3],[11,4,11,5],[12,4,12,5],[13,4,13,5],[14,4,14,5],[15,4,15,5],[26,3,26,7]]}
[21,{"$nulls":17},"# Other Rows Filled",{"$f":"IF(COUNTIF(N$1:N803,1),MATCH(800,INDEX(1/(N$1:N803=1),0)),\"\")-(T3+8)","v":0}]
[{"$nulls":18},"# NIMS rows filled",{"$f":"IF(COUNTIF(K$1:K800,1),MATCH(800,INDEX(1/(K$1:K800=1),0)),\"\")-7","v":0}]
[{"$f":"MAX(B:B)","v":1},null,null,"Capability Target",{"$nulls":14},"# NIMS Rows",{"$f":"MAX(J:J)","v":4}]
[null,{"$f":"ROW()-3","v":1},null,{"$f":"INDIRECT(\"'THIRA Steps 1-3'!$C$2153\")","v":"Click here to enter capability targets"},{"$nulls":14},"# NIMS Started",{"$f":"SUM(K:K)-1","v":0}]
[{"$nulls":18},"# NIMS Complete",{"$f":"SUM(L:L)","v":0}]
[{"$nulls":3},"Resource Requirements",{"$nulls":14},"# Other Rows",{"$f":"MAX(M:M)","v":4}]
[{"$nulls":3},"NIMS-typed Resources","Category","Resource","Type","Number Required",null,null,1,{"$nulls":7},"# Other Rows",{"$f":"SUM(N:N)-1","v":0}]
[{"$f":"LOOKUP(E8,'NIMS Resources'!B$4:B$12,'NIMS Resources'!C$4:C$12)","v":{"$error":"#N/A"}},null,{"$f":"VLOOKUP(F8, INDIRECT(\"'NIMS Resources'!$G$4:$J$\" & 366), 4, FALSE)","v":{"$error":"#N/A"}},{"$nulls":6},1,{"$f":"IF(OR(E8<>\"\", F8<>\"\", G8<>\"\", H8<>\"\"), 1, 0)","v":0},{"$f":"IF(AND(E8<>\"\", F8<>\"\", G8<>\"\", H8<>\"\"), 1, 0)","v":0},{"$nulls":6},"# Other",{"$f":"SUM(O:O)","v":0}]
[{"$f":"LOOKUP(E9,'NIMS Resources'!B$4:B$12,'NIMS Resources'!C$4:C$12)","v":{"$error":"#N/A"}},null,{"$f":"VLOOKUP(F9, INDIRECT(\"'NIMS Resources'!$G$4:$J$\" & 366), 4, FALSE)","v":{"$error":"#N/A"}},{"$nulls":6},{"$f":"J8+1","v":2},{"$f":"IF(OR(E9<>\"\", F9<>\"\", G9<>\"\", H9<>\"\"), 1, 0)","v":0},{"$f":"IF(AND(E9<>\"\", F9<>\"\", G9<>\"\", H9<>\"\"), 1, 0)","v":0}]
[{"$f":"LOOKUP(E10,'NIMS Resources'!B$4:B$12,'NIMS Resources'!C$4:C$12)","v":{"$error":"#N/A"}},null,{"$error":"#N/A"},{"$nulls":6},{"$f":"J9+1","v":3},{"$f":"IF(OR(E10<>\"\", F10<>\"\", G10<>\"\", H10<>\"\"), 1, 0)","v":0},{"$f":"IF(AND(E10<>\"\", F10<>\"\", G10<>\"\", H10<>\"\"), 1, 0)","v":0}]
[{"$f":"LOOKUP(E11,'NIMS Resources'!B$4:B$12,'NIMS Resources'!C$4:C$12)","v":{"$error":"#N/A"}},null,{"$error":"#N/A"},{"$nulls":6},{"$f":"J10+1","v":4},{"$f":"IF(OR(E11<>\"\", F11<>\"\", G11<>\"\", H11<>\"\"), 1, 0)","v":0},{"$f":"IF(AND(E11<>\"\", F11<>\"\", G11<>\"\", H11<>\"\"), 1, 0)","v":0}]
[{"$nulls":3},"Other\nResources","Resource\n(Example:  Case Management Team)",null,"Category\r\n","Number Required\n",{"$nulls":5},1]
[{"$nulls":12},1,{"$f":"IF(OR(E13<>\"\", H13<>\"\"), 1, 0)","v":0},{"$f":"IF(AND(E13<>\"\", H13<>\"\"), 1, 0)","v":0}]
[{"$nulls":12},{"$f":"M13+1","v":2},{"$f":"IF(OR(E14<>\"\", H14<>\"\"), 1, 0)","v":0},{"$f":"IF(AND(E14<>\"\", H14<>\"\"), 1, 0)","v":0}]
[{"$nulls":12},{"$f":"M14+1","v":3},{"$f":"IF(OR(E15<>\"\", H15<>\"\"), 1, 0)","v":0},{"$f":"IF(AND(E15<>\"\", H15<>\"\"), 1, 0)","v":0}]
[{"$nulls":12},{"$f":"M15+1","v":4},{"$f":"IF(OR(E16<>\"\", H16<>\"\"), 1, 0)","v":0},{"$f":"IF(AND(E16<>\"\", H16<>\"\"), 1, 0)","v":0}]
{"$rows_empty":10}
[{"$nulls":3},"Journal Notes/Comments (optional)",{"$nulls":5},0]

{"sheet":"SPR #11 Risk Mgmt Protect","index":28,"n_rows":56,"n_cols":20,"rows_kept":56,"hidden":true,"merged":[[2,3,2,7],[3,3,3,7],[5,3,5,7],[7,3,7,7],[8,4,8,7],[9,4,9,7],[10,4,10,7],[12,3,14,3],[14,4,14,7],[16,3,18,3],[18,4,18,7],[20,3,22,3],[22,4,22,7],[24,3,26,3],[26,4,26,7],[28,3,30,3],[30,4,30,7],[32,3,32,7],[33,3,33,7],[36,3,36,7],[43,3,43,7],[44,3,48,3],[49,3,53,3],[49,4,49,5],[50,4,50,5],[51,4,51,5],[52,4,52,5],[53,4,53,5],[55,3,55,7]]}
[21]
[11]
[{"$f":"MAX(B:B)","v":1},null,null,"Capability Target"]
[null,{"$f":"ROW()-3","v":1},null,{"$f":"INDIRECT(\"'THIRA Steps 1-3'!$C$2153\")","v":"Click here to enter capability targets"}]
[]
[{"$nulls":3},"Capability Assessment"]
[]
[{"$nulls":3},"Priority"]
[{"$nulls":4},"Relative to the other core capabilities, efforts to build and/or sustain this core capability are of high importance to my jurisdiction’s preparedness activities.",{"$nulls":10},0]
[{"$nulls":4},"Relative to the other core capabilities, efforts to build and/or sustain this core capability are of medium importance to my jurisdiction’s preparedness activities."]
[{"$nulls":4},"Relative to the other core capabilities, efforts to build and/or sustain this core capability are of low importance to my jurisdiction’s preparedness activities."]
[]
[{"$nulls":3},"Planning","Rating\nInternal Capability","Rating (optional)\nInternal Capability + Mutual Aid","Gap Description (optional)","Recent Advances (optional)"]
[{"$nulls":4},{"$f":"LOOKUP(P14, Lists!$C$2:$C$8, Lists!D2:D8)","v":"No selection made"},{"$f":"LOOKUP(Q14, Lists!$C$2:$C$8, Lists!D2:D8)","v":"No selection made"},{"$nulls":9},1,1,{"$f":"COUNTIF(I15:AC15, \"TRUE\")","v":0},0,0]
[{"$nulls":4},"Into which functional area(s) does your community's planning gaps fall?",{"$nulls":3},false,false,false,false,false,false,false,false,false]
[]
[{"$nulls":3},"Organization","Rating\nInternal Capability","Rating (optional)\nInternal Capability + Mutual Aid","Gap Description (optional)","Recent Advances (optional)"]
[{"$nulls":4},{"$f":"LOOKUP(P18, Lists!$C$2:$C$8, Lists!E2:E8)","v":"No selection made"},{"$f":"LOOKUP(Q18, Lists!$C$2:$C$8, Lists!E2:E8)","v":"No selection made"},{"$nulls":9},1,1,{"$f":"COUNTIF(I19:AC19, \"TRUE\")","v":0},null,0]
[{"$nulls":4},"Into which functional area(s) does your community's organizational gaps fall?",{"$nulls":8},false]
[]
[{"$nulls":3},"Equipment","Rating\nInternal Capability","Rating (optional)\nInternal Capability + Mutual Aid","Gap Description (optional)","Recent Advances (optional)",{"$nulls":7},1,1]
[{"$nulls":4},{"$f":"LOOKUP(P22, Lists!$C$2:$C$8, Lists!F2:F8)","v":"No selection made"},{"$f":"LOOKUP(Q22, Lists!$C$2:$C$8, Lists!F2:F8)","v":"No selection made"},{"$nulls":9},1,1,{"$f":"COUNTIF(I23:AC23, \"TRUE\")","v":0},null,0]
[{"$nulls":4},"Into which functional area(s) does your community's equipment gaps fall?",{"$nulls":8},false]
[]
[{"$nulls":3},"Training","Rating\nInternal Capability","Rating (optional)\nInternal Capability + Mutual Aid","Gap Description (optional)","Recent Advances (optional)",{"$nulls":7},1,1]
[{"$nulls":4},{"$f":"LOOKUP(P26, Lists!$C$2:$C$8, Lists!G2:G8)","v":"No selection made"},{"$f":"LOOKUP(Q26, Lists!$C$2:$C$8, Lists!G2:G8)","v":"No selection made"},{"$nulls":9},1,1,{"$f":"COUNTIF(I27:AC27, \"TRUE\")","v":0},0,0]
[{"$nulls":4},"Into which functional area(s) does your community's training gaps fall?",{"$nulls":3},false,false,false,false,false,false,false,false,false,false,false]
[]
[{"$nulls":3},"Exercises","Rating\nInternal Capability","Rating (optional)\nInternal Capability + Mutual Aid","Gap Description (optional)","Recent Advances (optional)",{"$nulls":7},1,1]
[{"$nulls":4},{"$f":"LOOKUP(P30, Lists!$C$2:$C$8, Lists!H2:H8)","v":"No selection made"},{"$f":"LOOKUP(Q30, Lists!$C$2:$C$8, Lists!H2:H8)","v":"No selection made"},{"$nulls":9},1,1,{"$f":"COUNTIF(I31:AC31, \"TRUE\")","v":0},0,0]
[{"$nulls":4},"Into which functional area(s) does your community's exercise gaps fall?",{"$nulls":3},false,false,false,false,false,false,false,false]
[]
[{"$nulls":3},"Assessment Corroboration"]
[{"$nulls":8},{"$f":"IF(M34=TRUE, \"TRUE\", (IF(AND(K34=TRUE, N34=1), \"TRUE\", (IF(AND(L34= TRUE, N34=1), \"TRUE\")))))","v":false},{"$f":"COUNTIF(K34:M34, \"TRUE\")","v":0},false,false,false,0]
[]
[]
[{"$nulls":3},"Responsibility for Filling Gap",{"$nulls":11},0]
[{"$nulls":15},0]
[]
[]
[]
[]
[]
[{"$nulls":3},"Resource Requirements",{"$nulls":5},"NIMS",4]
[{"$nulls":3},"NIMS-typed Resources","Category","Resource","Type","Number Available",null,"Other",4]
[{"$nulls":4},{"$f":"'THIRA #11 Risk Mgmt Protect'!E8","v":0},{"$f":"'THIRA #11 Risk Mgmt Protect'!F8","v":0},{"$f":"'THIRA #11 Risk Mgmt Protect'!G8","v":0}]
[{"$nulls":4},{"$f":"'THIRA #11 Risk Mgmt Protect'!E9","v":0},{"$f":"'THIRA #11 Risk Mgmt Protect'!F9","v":0},{"$f":"'THIRA #11 Risk Mgmt Protect'!G9","v":0}]
[{"$nulls":4},{"$f":"'THIRA #11 Risk Mgmt Protect'!E10","v":0},{"$f":"'THIRA #11 Risk Mgmt Protect'!F10","v":0},{"$f":"'THIRA #11 Risk Mgmt Protect'!G10","v":0}]
[{"$nulls":4},{"$f":"'THIRA #11 Risk Mgmt Protect'!E11","v":0},{"$f":"'THIRA #11 Risk Mgmt Protect'!F11","v":0},{"$f":"'THIRA #11 Risk Mgmt Protect'!G11","v":0}]
[{"$nulls":3},"Other\nResources","Resource\n(Example:  Case Management Team)",null,"Category\n","Number Available\n"]
[{"$nulls":4},{"$f":"'THIRA #11 Risk Mgmt Protect'!E13","v":0},null,{"$f":"'THIRA #11 Risk Mgmt Protect'!G13","v":0}]
[{"$nulls":4},{"$f":"'THIRA #11 Risk Mgmt Protect'!E14","v":0},null,{"$f":"'THIRA #11 Risk Mgmt Protect'!G14","v":0}]
[{"$nulls":4},{"$f":"'THIRA #11 Risk Mgmt Protect'!E15","v":0},null,{"$f":"'THIRA #11 Risk Mgmt Protect'!G15","v":0}]
[{"$nulls":4},{"$f":"'THIRA #11 Risk Mgmt Protect'!E16","v":0},null,{"$f":"'THIRA #11 Risk Mgmt Protect'!G16","v":0}]
[]
[{"$nulls":3},"Journal Notes/Comments (optional)",{"$nulls":11},0]

{"sheet":"THIRA #12 Supply Chain","index":29,"n_rows":27,"n_cols":20,"rows_kept":27,"hidden":true,"merged":[[2,3,2,7],[3,3,3,7],[3,13,3,14],[5,3,5,7],[6,3,10,3],[11,3,15,3],[11,4,11,5],[12,4,12,5],[13,4,13,5],[14,4,14,5],[15,4,15,5],[26,3,26,7]]}
[21,{"$nulls":17},"# Other Rows Filled",{"$f":"IF(COUNTIF(N$1:N803,1),MATCH(800,INDEX(1/(N$1:N803=1),0)),\"\")-(T3+8)","v":0}]
[{"$nulls":18},"# NIMS rows filled",{"$f":"IF(COUNTIF(K$1:K800,1),MATCH(800,INDEX(1/(K$1:K800=1),0)),\"\")-7","v":0}]
[{"$f":"MAX(B:B)","v":1},null,null,"Capability Target",{"$nulls":14},"# NIMS Rows",{"$f":"MAX(J:J)","v":4}]
[null,{"$f":"ROW()-3","v":1},null,{"$f":"INDIRECT(\"'THIRA Steps 1-3'!$C$2241\")","v":"Click here to enter capability targets"},{"$nulls":14},"# NIMS Started",{"$f":"SUM(K:K)-1","v":0}]
[{"$nulls":18},"# NIMS Complete",{"$f":"SUM(L:L)","v":0}]
[{"$nulls":3},"Resource Requirements",{"$nulls":14},"# Other Rows",{"$f":"MAX(M:M)","v":4}]
[{"$nulls":3},"NIMS-typed Resources","Category","Resource","Type","Number Required",null,null,1,{"$nulls":7},"# Other Rows",{"$f":"SUM(N:N)-1","v":0}]
[{"$f":"LOOKUP(E8,'NIMS Resources'!B$4:B$12,'NIMS Resources'!C$4:C$12)","v":{"$error":"#N/A"}},null,{"$f":"VLOOKUP(F8, INDIRECT(\"'NIMS Resources'!$G$4:$J$\" & 366), 4, FALSE)","v":{"$error":"#N/A"}},{"$nulls":6},1,{"$f":"IF(OR(E8<>\"\", F8<>\"\", G8<>\"\", H8<>\"\"), 1, 0)","v":0},{"$f":"IF(AND(E8<>\"\", F8<>\"\", G8<>\"\", H8<>\"\"), 1, 0)","v":0},{"$nulls":6},"# Other",{"$f":"SUM(O:O)","v":0}]
[{"$f":"LOOKUP(E9,'NIMS Resources'!B$4:B$12,'NIMS Resources'!C$4:C$12)","v":{"$error":"#N/A"}},null,{"$f":"VLOOKUP(F9, INDIRECT(\"'NIMS Resources'!$G$4:$J$\" & 366), 4, FALSE)","v":{"$error":"#N/A"}},{"$nulls":6},{"$f":"J8+1","v":2},{"$f":"IF(OR(E9<>\"\", F9<>\"\", G9<>\"\", H9<>\"\"), 1, 0)","v":0},{"$f":"IF(AND(E9<>\"\", F9<>\"\", G9<>\"\", H9<>\"\"), 1, 0)","v":0}]
[{"$f":"LOOKUP(E10,'NIMS Resources'!B$4:B$12,'NIMS Resources'!C$4:C$12)","v":{"$error":"#N/A"}},null,{"$error":"#N/A"},{"$nulls":6},{"$f":"J9+1","v":3},{"$f":"IF(OR(E10<>\"\", F10<>\"\", G10<>\"\", H10<>\"\"), 1, 0)","v":0},{"$f":"IF(AND(E10<>\"\", F10<>\"\", G10<>\"\", H10<>\"\"), 1, 0)","v":0}]
[{"$f":"LOOKUP(E11,'NIMS Resources'!B$4:B$12,'NIMS Resources'!C$4:C$12)","v":{"$error":"#N/A"}},null,{"$error":"#N/A"},{"$nulls":6},{"$f":"J10+1","v":4},{"$f":"IF(OR(E11<>\"\", F11<>\"\", G11<>\"\", H11<>\"\"), 1, 0)","v":0},{"$f":"IF(AND(E11<>\"\", F11<>\"\", G11<>\"\", H11<>\"\"), 1, 0)","v":0}]
[{"$nulls":3},"Other\nResources","Resource\n(Example:  Case Management Team)",null,"Category\r\n","Number Required\n",{"$nulls":5},1]
[{"$nulls":12},1,{"$f":"IF(OR(E13<>\"\", H13<>\"\"), 1, 0)","v":0},{"$f":"IF(AND(E13<>\"\", H13<>\"\"), 1, 0)","v":0}]
[{"$nulls":12},{"$f":"M13+1","v":2},{"$f":"IF(OR(E14<>\"\", H14<>\"\"), 1, 0)","v":0},{"$f":"IF(AND(E14<>\"\", H14<>\"\"), 1, 0)","v":0}]
[{"$nulls":12},{"$f":"M14+1","v":3},{"$f":"IF(OR(E15<>\"\", H15<>\"\"), 1, 0)","v":0},{"$f":"IF(AND(E15<>\"\", H15<>\"\"), 1, 0)","v":0}]
[{"$nulls":12},{"$f":"M15+1","v":4},{"$f":"IF(OR(E16<>\"\", H16<>\"\"), 1, 0)","v":0},{"$f":"IF(AND(E16<>\"\", H16<>\"\"), 1, 0)","v":0}]
{"$rows_empty":10}
[{"$nulls":3},"Journal Notes/Comments (optional)",{"$nulls":5},0]

{"sheet":"SPR #12 Supply Chain","index":30,"n_rows":56,"n_cols":20,"rows_kept":56,"hidden":true,"merged":[[2,3,2,7],[3,3,3,7],[5,3,5,7],[7,3,7,7],[8,4,8,7],[9,4,9,7],[10,4,10,7],[12,3,14,3],[14,4,14,7],[16,3,18,3],[18,4,18,7],[20,3,22,3],[22,4,22,7],[24,3,26,3],[26,4,26,7],[28,3,30,3],[30,4,30,7],[32,3,32,7],[33,3,33,7],[36,3,36,7],[43,3,43,7],[44,3,48,3],[49,3,53,3],[49,4,49,5],[50,4,50,5],[51,4,51,5],[52,4,52,5],[53,4,53,5],[55,3,55,7]]}
[21]
[12]
[{"$f":"MAX(B:B)","v":1},null,null,"Capability Target"]
[null,{"$f":"ROW()-3","v":1},null,{"$f":"INDIRECT(\"'THIRA Steps 1-3'!$C$2241\")","v":"Click here to enter capability targets"}]
[]
[{"$nulls":3},"Capability Assessment"]
[]
[{"$nulls":3},"Priority"]
[{"$nulls":4},"Relative to the other core capabilities, efforts to build and/or sustain this core capability are of high importance to my jurisdiction’s preparedness activities.",{"$nulls":10},0]
[{"$nulls":4},"Relative to the other core capabilities, efforts to build and/or sustain this core capability are of medium importance to my jurisdiction’s preparedness activities."]
[{"$nulls":4},"Relative to the other core capabilities, efforts to build and/or sustain this core capability are of low importance to my jurisdiction’s preparedness activities."]
[]
[{"$nulls":3},"Planning","Rating\nInternal Capability","Rating (optional)\nInternal Capability + Mutual Aid","Gap Description (optional)","Recent Advances (optional)"]
[{"$nulls":4},{"$f":"LOOKUP(P14, Lists!$C$2:$C$8, Lists!D2:D8)","v":"No selection made"},{"$f":"LOOKUP(Q14, Lists!$C$2:$C$8, Lists!D2:D8)","v":"No selection made"},{"$nulls":9},1,1,{"$f":"COUNTIF(I15:AC15, \"TRUE\")","v":0},0,0]
[{"$nulls":4},"Into which functional area(s) does your community's planning gaps fall?",{"$nulls":3},false,false,false,false,false,false,false,false,false]
[]
[{"$nulls":3},"Organization","Rating\nInternal Capability","Rating (optional)\nInternal Capability + Mutual Aid","Gap Description (optional)","Recent Advances (optional)"]
[{"$nulls":4},{"$f":"LOOKUP(P18, Lists!$C$2:$C$8, Lists!E2:E8)","v":"No selection made"},{"$f":"LOOKUP(Q18, Lists!$C$2:$C$8, Lists!E2:E8)","v":"No selection made"},{"$nulls":9},1,1,{"$f":"COUNTIF(I19:AC19, \"TRUE\")","v":0},null,0]
[{"$nulls":4},"Into which functional area(s) does your community's organizational gaps fall?",{"$nulls":8},false]
[]
[{"$nulls":3},"Equipment","Rating\nInternal Capability","Rating (optional)\nInternal Capability + Mutual Aid","Gap Description (optional)","Recent Advances (optional)",{"$nulls":7},1,1]
[{"$nulls":4},{"$f":"LOOKUP(P22, Lists!$C$2:$C$8, Lists!F2:F8)","v":"No selection made"},{"$f":"LOOKUP(Q22, Lists!$C$2:$C$8, Lists!F2:F8)","v":"No selection made"},{"$nulls":9},1,1,{"$f":"COUNTIF(I23:AC23, \"TRUE\")","v":0},null,0]
[{"$nulls":4},"Into which functional area(s) does your community's equipment gaps fall?",{"$nulls":8},false]
[]
[{"$nulls":3},"Training","Rating\nInternal Capability","Rating (optional)\nInternal Capability + Mutual Aid","Gap Description (optional)","Recent Advances (optional)",{"$nulls":7},1,1]
[{"$nulls":4},{"$f":"LOOKUP(P26, Lists!$C$2:$C$8, Lists!G2:G8)","v":"No selection made"},{"$f":"LOOKUP(Q26, Lists!$C$2:$C$8, Lists!G2:G8)","v":"No selection made"},{"$nulls":9},1,1,{"$f":"COUNTIF(I27:AC27, \"TRUE\")","v":0},0,0]
[{"$nulls":4},"Into which functional area(s) does your community's training gaps fall?",{"$nulls":3},false,false,false,false,false,false,false,false,false,false,false]
[]
[{"$nulls":3},"Exercises","Rating\nInternal Capability","Rating (optional)\nInternal Capability + Mutual Aid","Gap Description (optional)","Recent Advances (optional)",{"$nulls":7},1,1]
[{"$nulls":4},{"$f":"LOOKUP(P30, Lists!$C$2:$C$8, Lists!H2:H8)","v":"No selection made"},{"$f":"LOOKUP(Q30, Lists!$C$2:$C$8, Lists!H2:H8)","v":"No selection made"},{"$nulls":9},1,1,{"$f":"COUNTIF(I31:AC31, \"TRUE\")","v":0},0,0]
[{"$nulls":4},"Into which functional area(s) does your community's exercise gaps fall?",{"$nulls":3},false,false,false,false,false,false,false,false]
[]
[{"$nulls":3},"Assessment Corroboration"]
[{"$nulls":8},{"$f":"IF(M34=TRUE, \"TRUE\", (IF(AND(K34=TRUE, N34=1), \"TRUE\", (IF(AND(L34= TRUE, N34=1), \"TRUE\")))))","v":false},{"$f":"COUNTIF(K34:M34, \"TRUE\")","v":0},false,false,false,0]
[]
[]
[{"$nulls":3},"Responsibility for Filling Gap",{"$nulls":11},0]
[{"$nulls":15},0]
[]
[]
[]
[]
[]
[{"$nulls":3},"Resource Requirements",{"$nulls":5},"NIMS",4]
[{"$nulls":3},"NIMS-typed Resources","Category","Resource","Type","Number Available",null,"Other",4]
[{"$nulls":4},{"$f":"'THIRA #12 Supply Chain'!E8","v":0},{"$f":"'THIRA #12 Supply Chain'!F8","v":0},{"$f":"'THIRA #12 Supply Chain'!G8","v":0}]
[{"$nulls":4},{"$f":"'THIRA #12 Supply Chain'!E9","v":0},{"$f":"'THIRA #12 Supply Chain'!F9","v":0},{"$f":"'THIRA #12 Supply Chain'!G9","v":0}]
[{"$nulls":4},{"$f":"'THIRA #12 Supply Chain'!E10","v":0},{"$f":"'THIRA #12 Supply Chain'!F10","v":0},{"$f":"'THIRA #12 Supply Chain'!G10","v":0}]
[{"$nulls":4},{"$f":"'THIRA #12 Supply Chain'!E11","v":0},{"$f":"'THIRA #12 Supply Chain'!F11","v":0},{"$f":"'THIRA #12 Supply Chain'!G11","v":0}]
[{"$nulls":3},"Other\nResources","Resource\n(Example:  Case Management Team)",null,"Category\n","Number Available\n"]
[{"$nulls":4},{"$f":"'THIRA #12 Supply Chain'!E13","v":0},null,{"$f":"'THIRA #12 Supply Chain'!G13","v":0}]
[{"$nulls":4},{"$f":"'THIRA #12 Supply Chain'!E14","v":0},null,{"$f":"'THIRA #12 Supply Chain'!G14","v":0}]
[{"$nulls":4},{"$f":"'THIRA #12 Supply Chain'!E15","v":0},null,{"$f":"'THIRA #12 Supply Chain'!G15","v":0}]
[{"$nulls":4},{"$f":"'THIRA #12 Supply Chain'!E16","v":0},null,{"$f":"'THIRA #12 Supply Chain'!G16","v":0}]
[]
[{"$nulls":3},"Journal Notes/Comments (optional)",{"$nulls":11},0]

{"sheet":"THIRA #13 Comm Resilience","index":31,"n_rows":27,"n_cols":20,"rows_kept":27,"hidden":true,"merged":[[2,3,2,7],[3,3,3,7],[3,13,3,14],[5,3,5,7],[6,3,10,3],[11,3,15,3],[11,4,11,5],[12,4,12,5],[13,4,13,5],[14,4,14,5],[15,4,15,5],[26,3,26,7]]}
[21,{"$nulls":17},"# Other Rows Filled",{"$f":"IF(COUNTIF(N$1:N803,1),MATCH(800,INDEX(1/(N$1:N803=1),0)),\"\")-(T3+8)","v":0}]
[{"$nulls":18},"# NIMS rows filled",{"$f":"IF(COUNTIF(K$1:K800,1),MATCH(800,INDEX(1/(K$1:K800=1),0)),\"\")-7","v":0}]
[{"$f":"MAX(B:B)","v":1},null,null,"Capability Target",{"$nulls":14},"# NIMS Rows",{"$f":"MAX(J:J)","v":4}]
[null,{"$f":"ROW()-3","v":1},null,{"$f":"INDIRECT(\"'THIRA Steps 1-3'!$C$2329\")","v":"Click here to enter capability targets"},{"$nulls":14},"# NIMS Started",{"$f":"SUM(K:K)-1","v":0}]
[{"$nulls":18},"# NIMS Complete",{"$f":"SUM(L:L)","v":0}]
[{"$nulls":3},"Resource Requirements",{"$nulls":14},"# Other Rows",{"$f":"MAX(M:M)","v":4}]
[{"$nulls":3},"NIMS-typed Resources","Category","Resource","Type","Number Required",null,null,1,{"$nulls":7},"# Other Rows",{"$f":"SUM(N:N)-1","v":0}]
[{"$f":"LOOKUP(E8,'NIMS Resources'!B$4:B$12,'NIMS Resources'!C$4:C$12)","v":{"$error":"#N/A"}},null,{"$f":"VLOOKUP(F8, INDIRECT(\"'NIMS Resources'!$G$4:$J$\" & 366), 4, FALSE)","v":{"$error":"#N/A"}},{"$nulls":6},1,{"$f":"IF(OR(E8<>\"\", F8<>\"\", G8<>\"\", H8<>\"\"), 1, 0)","v":0},{"$f":"IF(AND(E8<>\"\", F8<>\"\", G8<>\"\", H8<>\"\"), 1, 0)","v":0},{"$nulls":6},"# Other",{"$f":"SUM(O:O)","v":0}]
[{"$f":"LOOKUP(E9,'NIMS Resources'!B$4:B$12,'NIMS Resources'!C$4:C$2207)","v":{"$error":"#N/A"}},null,{"$f":"VLOOKUP(F9, INDIRECT(\"'NIMS Resources'!$G$4:$J$\" & 366), 4, FALSE)","v":{"$error":"#N/A"}},{"$nulls":6},{"$f":"J8+1","v":2},{"$f":"IF(OR(E9<>\"\", F9<>\"\", G9<>\"\", H9<>\"\"), 1, 0)","v":0},{"$f":"IF(AND(E9<>\"\", F9<>\"\", G9<>\"\", H9<>\"\"), 1, 0)","v":0}]
[{"$f":"LOOKUP(E10,'NIMS Resources'!B$4:B$12,'NIMS Resources'!C$4:C$12)","v":{"$error":"#N/A"}},null,{"$error":"#N/A"},{"$nulls":6},{"$f":"J9+1","v":3},{"$f":"IF(OR(E10<>\"\", F10<>\"\", G10<>\"\", H10<>\"\"), 1, 0)","v":0},{"$f":"IF(AND(E10<>\"\", F10<>\"\", G10<>\"\", H10<>\"\"), 1, 0)","v":0}]
[{"$f":"LOOKUP(E11,'NIMS Resources'!B$4:B$12,'NIMS Resources'!C$4:C$12)","v":{"$error":"#N/A"}},null,{"$error":"#N/A"},{"$nulls":6},{"$f":"J10+1","v":4},{"$f":"IF(OR(E11<>\"\", F11<>\"\", G11<>\"\", H11<>\"\"), 1, 0)","v":0},{"$f":"IF(AND(E11<>\"\", F11<>\"\", G11<>\"\", H11<>\"\"), 1, 0)","v":0}]
[{"$nulls":3},"Other\nResources","Resource\n(Example:  Case Management Team)",null,"Category\r\n","Number Required\n",{"$nulls":5},1]
[{"$nulls":12},1,{"$f":"IF(OR(E13<>\"\", H13<>\"\"), 1, 0)","v":0},{"$f":"IF(AND(E13<>\"\", H13<>\"\"), 1, 0)","v":0}]
[{"$nulls":12},{"$f":"M13+1","v":2},{"$f":"IF(OR(E14<>\"\", H14<>\"\"), 1, 0)","v":0},{"$f":"IF(AND(E14<>\"\", H14<>\"\"), 1, 0)","v":0}]
[{"$nulls":12},{"$f":"M14+1","v":3},{"$f":"IF(OR(E15<>\"\", H15<>\"\"), 1, 0)","v":0},{"$f":"IF(AND(E15<>\"\", H15<>\"\"), 1, 0)","v":0}]
[{"$nulls":12},{"$f":"M15+1","v":4},{"$f":"IF(OR(E16<>\"\", H16<>\"\"), 1, 0)","v":0},{"$f":"IF(AND(E16<>\"\", H16<>\"\"), 1, 0)","v":0}]
{"$rows_empty":10}
[{"$nulls":3},"Journal Notes/Comments (optional)",{"$nulls":5},0]

{"sheet":"SPR #13 Comm Resilience ICPD","index":32,"n_rows":31,"n_cols":295,"rows_kept":31,"hidden":true,"merged":[[11,2,27,3],[11,4,13,16],[16,4,18,16],[19,4,21,16],[22,4,24,16],[25,4,27,16],[30,2,30,16],[31,2,36,16]]}
{"$rows_empty":11}
[null,null,"Individual and Community Preparedness",null,"1.  What programs or activities have jurisdictions within your State or Territory recently undertaken to foster individual and community resilience (please check all that apply)? "]
[]
[{"$nulls":18},false,null,false,false,false,{"$nulls":11},"What programs or activities have jurisdictions within your State or Territory recently undertaken to foster individual and community resilience (plese check all that apply)?",{"$nulls":259},false]
[{"$nulls":8},false,false,false,false,false,false,false,false,false,false,false,false,false,false]
[]
[{"$nulls":4},"2.  How is your State or Territory measuring the effectiveness of these programs or activities?"]
[]
[]
[{"$nulls":4},"3.  What results has your State or Territory achieved through these programs and activities?"]
[]
[]
[{"$nulls":4},"4.  What are your State or Territory's primary obstacles to increasing individual and community resilience?"]
[]
[]
[{"$nulls":4},"5.  What steps should FEMA and its Federal partners take to help States and Territories foster and sustain effective individual and community resilience?"]
[]
[]
[{"$nulls":11},0,0,0,0,{"$f":"IF(COUNTIF($I$15:$X$15,\"TRUE\")>0,1,0)","v":0},{"$f":"SUM(L29:P29)","v":0}]
[]
[null,null,"Journal Notes/Comments (optional)"]

{"sheet":"SPR #13 Comm Resilience","index":33,"n_rows":56,"n_cols":20,"rows_kept":56,"hidden":true,"merged":[[2,3,2,7],[3,3,3,7],[5,3,5,7],[7,3,7,7],[8,4,8,7],[9,4,9,7],[10,4,10,7],[12,3,14,3],[14,4,14,7],[16,3,18,3],[18,4,18,7],[20,3,22,3],[22,4,22,7],[24,3,26,3],[26,4,26,7],[28,3,30,3],[30,4,30,7],[32,3,32,7],[33,3,33,7],[36,3,36,7],[43,3,43,7],[44,3,48,3],[49,3,53,3],[49,4,49,5],[50,4,50,5],[51,4,51,5],[52,4,52,5],[53,4,53,5],[55,3,55,7]]}
[21]
[13]
[{"$f":"MAX(B:B)","v":1},null,null,"Capability Target"]
[null,{"$f":"ROW()-3","v":1},null,{"$f":"INDIRECT(\"'THIRA Steps 1-3'!$C2329\")","v":"Click here to enter capability targets"}]
[]
[{"$nulls":3},"Capability Assessment"]
[]
[{"$nulls":3},"Priority"]
[{"$nulls":4},"Relative to the other core capabilities, efforts to build and/or sustain this core capability are of high importance to my jurisdiction’s preparedness activities.",{"$nulls":10},0]
[{"$nulls":4},"Relative to the other core capabilities, efforts to build and/or sustain this core capability are of medium importance to my jurisdiction’s preparedness activities."]
[{"$nulls":4},"Relative to the other core capabilities, efforts to build and/or sustain this core capability are of low importance to my jurisdiction’s preparedness activities."]
[]
[{"$nulls":3},"Planning","Rating\nInternal Capability","Rating (optional)\nInternal Capability + Mutual Aid","Gap Description (optional)","Recent Advances (optional)"]
[{"$nulls":4},{"$f":"LOOKUP(P14, Lists!$C$2:$C$8, Lists!D2:D8)","v":"No selection made"},{"$f":"LOOKUP(Q14, Lists!$C$2:$C$8, Lists!D2:D8)","v":"No selection made"},{"$nulls":9},1,1,{"$f":"COUNTIF(I15:AC15, \"TRUE\")","v":0},0,0]
[{"$nulls":4},"Into which functional area(s) does your community's planning gaps fall?",{"$nulls":3},false,false,false,false,false,false,false,false,false]
[]
[{"$nulls":3},"Organization","Rating\nInternal Capability","Rating (optional)\nInternal Capability + Mutual Aid","Gap Description (optional)","Recent Advances (optional)"]
[{"$nulls":4},{"$f":"LOOKUP(P18, Lists!$C$2:$C$8, Lists!E2:E8)","v":"No selection made"},{"$f":"LOOKUP(Q18, Lists!$C$2:$C$8, Lists!E2:E8)","v":"No selection made"},{"$nulls":9},1,1,{"$f":"COUNTIF(I19:AC19, \"TRUE\")","v":0},null,0]
[{"$nulls":4},"Into which functional area(s) does your community's organizational gaps fall?",{"$nulls":8},false]
[]
[{"$nulls":3},"Equipment","Rating\nInternal Capability","Rating (optional)\nInternal Capability + Mutual Aid","Gap Description (optional)","Recent Advances (optional)",{"$nulls":7},1,1]
[{"$nulls":4},{"$f":"LOOKUP(P22, Lists!$C$2:$C$8, Lists!F2:F8)","v":"No selection made"},{"$f":"LOOKUP(Q22, Lists!$C$2:$C$8, Lists!F2:F8)","v":"No selection made"},{"$nulls":9},1,1,{"$f":"COUNTIF(I23:AC23, \"TRUE\")","v":0},null,0]
[{"$nulls":4},"Into which functional area(s) does your community's equipment gaps fall?",{"$nulls":8},false]
[]
[{"$nulls":3},"Training","Rating\nInternal Capability","Rating (optional)\nInternal Capability + Mutual Aid","Gap Description (optional)","Recent Advances (optional)",{"$nulls":7},1,1]
[{"$nulls":4},{"$f":"LOOKUP(P26, Lists!$C$2:$C$8, Lists!G2:G8)","v":"No selection made"},{"$f":"LOOKUP(Q26, Lists!$C$2:$C$8, Lists!G2:G8)","v":"No selection made"},{"$nulls":9},1,1,{"$f":"COUNTIF(I27:AC27, \"TRUE\")","v":0},0,0]
[{"$nulls":4},"Into which functional area(s) does your community's training gaps fall?",{"$nulls":3},false,false,false,false,false,false,false,false,false,false,false]
[]
[{"$nulls":3},"Exercises","Rating\nInternal Capability","Rating (optional)\nInternal Capability + Mutual Aid","Gap Description (optional)","Recent Advances (optional)",{"$nulls":7},1,1]
[{"$nulls":4},{"$f":"LOOKUP(P30, Lists!$C$2:$C$8, Lists!H2:H8)","v":"No selection made"},{"$f":"LOOKUP(Q30, Lists!$C$2:$C$8, Lists!H2:H8)","v":"No selection made"},{"$nulls":9},1,1,{"$f":"COUNTIF(I31:AC31, \"TRUE\")","v":0},0,0]
[{"$nulls":4},"Into which functional area(s) does your community's exercise gaps fall?",{"$nulls":3},false,false,false,false,false,false,false,false]
[]
[{"$nulls":3},"Assessment Corroboration"]
[{"$nulls":8},{"$f":"IF(M34=TRUE, \"TRUE\", (IF(AND(K34=TRUE, N34=1), \"TRUE\", (IF(AND(L34= TRUE, N34=1), \"TRUE\")))))","v":false},{"$f":"COUNTIF(K34:M34, \"TRUE\")","v":0},false,false,false,0]
[]
[]
[{"$nulls":3},"Responsibility for Filling Gap",{"$nulls":11},0]
[{"$nulls":15},0]
[]
[]
[]
[]
[]
[{"$nulls":3},"Resource Requirements",{"$nulls":5},"NIMS",4]
[{"$nulls":3},"NIMS-typed Resources","Category","Resource","Type","Number Available",null,"Other",4]
[{"$nulls":4},{"$f":"'THIRA #13 Comm Resilience'!E8","v":0},{"$f":"'THIRA #13 Comm Resilience'!F8","v":0},{"$f":"'THIRA #13 Comm Resilience'!G8","v":0}]
[{"$nulls":4},{"$f":"'THIRA #13 Comm Resilience'!E9","v":0},{"$f":"'THIRA #13 Comm Resilience'!F9","v":0},{"$f":"'THIRA #13 Comm Resilience'!G9","v":0}]
[{"$nulls":4},{"$f":"'THIRA #13 Comm Resilience'!E10","v":0},{"$f":"'THIRA #13 Comm Resilience'!F10","v":0},{"$f":"'THIRA #13 Comm Resilience'!G10","v":0}]
[{"$nulls":4},{"$f":"'THIRA #13 Comm Resilience'!E11","v":0},{"$f":"'THIRA #13 Comm Resilience'!F11","v":0},{"$f":"'THIRA #13 Comm Resilience'!G11","v":0}]
[{"$nulls":3},"Other\nResources","Resource\n(Example:  Case Management Team)",null,"Category\n","Number Available\n"]
[{"$nulls":4},{"$f":"'THIRA #13 Comm Resilience'!E13","v":0},null,{"$f":"'THIRA #13 Comm Resilience'!G13","v":0}]
[{"$nulls":4},{"$f":"'THIRA #13 Comm Resilience'!E14","v":0},null,{"$f":"'THIRA #13 Comm Resilience'!G14","v":0}]
[{"$nulls":4},{"$f":"'THIRA #13 Comm Resilience'!E15","v":0},null,{"$f":"'THIRA #13 Comm Resilience'!G15","v":0}]
[{"$nulls":4},{"$f":"'THIRA #13 Comm Resilience'!E16","v":0},null,{"$f":"'THIRA #13 Comm Resilience'!G16","v":0}]
[]
[{"$nulls":3},"Journal Notes/Comments (optional)",{"$nulls":11},0]

{"sheet":"THIRA #14 Long Term Vul Red","index":34,"n_rows":27,"n_cols":20,"rows_kept":27,"hidden":true,"merged":[[2,3,2,7],[3,3,3,7],[3,13,3,14],[5,3,5,7],[6,3,10,3],[11,3,15,3],[11,4,11,5],[12,4,12,5],[13,4,13,5],[14,4,14,5],[15,4,15,5],[26,3,26,7]]}
[21,{"$nulls":17},"# Other Rows Filled",{"$f":"IF(COUNTIF(N$1:N803,1),MATCH(800,INDEX(1/(N$1:N803=1),0)),\"\")-(T3+8)","v":0}]
[{"$nulls":18},"# NIMS rows filled",{"$f":"IF(COUNTIF(K$1:K800,1),MATCH(800,INDEX(1/(K$1:K800=1),0)),\"\")-7","v":0}]
[{"$f":"MAX(B:B)","v":1},null,null,"Capability Target",{"$nulls":14},"# NIMS Rows",{"$f":"MAX(J:J)","v":4}]
[null,{"$f":"ROW()-3","v":1},null,{"$f":"INDIRECT(\"'THIRA Steps 1-3'!$C$2417\")","v":"Click here to enter capability targets"},{"$nulls":14},"# NIMS Started",{"$f":"SUM(K:K)-1","v":0}]
[{"$nulls":18},"# NIMS Complete",{"$f":"SUM(L:L)","v":0}]
[{"$nulls":3},"Resource Requirements",{"$nulls":14},"# Other Rows",{"$f":"MAX(M:M)","v":4}]
[{"$nulls":3},"NIMS-typed Resources","Category","Resource","Type","Number Required",null,null,1,{"$nulls":7},"# Other Rows",{"$f":"SUM(N:N)-1","v":0}]
[{"$f":"LOOKUP(E8,'NIMS Resources'!B$4:B$12,'NIMS Resources'!C$4:C$12)","v":{"$error":"#N/A"}},null,{"$f":"VLOOKUP(F8, INDIRECT(\"'NIMS Resources'!$G$4:$J$\" & 366), 4, FALSE)","v":{"$error":"#N/A"}},{"$nulls":6},1,{"$f":"IF(OR(E8<>\"\", F8<>\"\", G8<>\"\", H8<>\"\"), 1, 0)","v":0},{"$f":"IF(AND(E8<>\"\", F8<>\"\", G8<>\"\", H8<>\"\"), 1, 0)","v":0},{"$nulls":6},"# Other",{"$f":"SUM(O:O)","v":0}]
[{"$f":"LOOKUP(E9,'NIMS Resources'!B$4:B$12,'NIMS Resources'!C$4:C$12)","v":{"$error":"#N/A"}},null,{"$f":"VLOOKUP(F9, INDIRECT(\"'NIMS Resources'!$G$4:$J$\" & 366), 4, FALSE)","v":{"$error":"#N/A"}},{"$nulls":6},{"$f":"J8+1","v":2},{"$f":"IF(OR(E9<>\"\", F9<>\"\", G9<>\"\", H9<>\"\"), 1, 0)","v":0},{"$f":"IF(AND(E9<>\"\", F9<>\"\", G9<>\"\", H9<>\"\"), 1, 0)","v":0}]
[{"$f":"LOOKUP(E10,'NIMS Resources'!B$4:B$12,'NIMS Resources'!C$4:C$12)","v":{"$error":"#N/A"}},null,{"$error":"#N/A"},{"$nulls":6},{"$f":"J9+1","v":3},{"$f":"IF(OR(E10<>\"\", F10<>\"\", G10<>\"\", H10<>\"\"), 1, 0)","v":0},{"$f":"IF(AND(E10<>\"\", F10<>\"\", G10<>\"\", H10<>\"\"), 1, 0)","v":0}]
[{"$f":"LOOKUP(E11,'NIMS Resources'!B$4:B$12,'NIMS Resources'!C$4:C$12)","v":{"$error":"#N/A"}},null,{"$error":"#N/A"},{"$nulls":6},{"$f":"J10+1","v":4},{"$f":"IF(OR(E11<>\"\", F11<>\"\", G11<>\"\", H11<>\"\"), 1, 0)","v":0},{"$f":"IF(AND(E11<>\"\", F11<>\"\", G11<>\"\", H11<>\"\"), 1, 0)","v":0}]
[{"$nulls":3},"Other\nResources","Resource\n(Example:  Case Management Team)",null,"Category\r\n","Number Required\n",{"$nulls":5},1]
[{"$nulls":12},1,{"$f":"IF(OR(E13<>\"\", H13<>\"\"), 1, 0)","v":0},{"$f":"IF(AND(E13<>\"\", H13<>\"\"), 1, 0)","v":0}]
[{"$nulls":12},{"$f":"M13+1","v":2},{"$f":"IF(OR(E14<>\"\", H14<>\"\"), 1, 0)","v":0},{"$f":"IF(AND(E14<>\"\", H14<>\"\"), 1, 0)","v":0}]
[{"$nulls":12},{"$f":"M14+1","v":3},{"$f":"IF(OR(E15<>\"\", H15<>\"\"), 1, 0)","v":0},{"$f":"IF(AND(E15<>\"\", H15<>\"\"), 1, 0)","v":0}]
[{"$nulls":12},{"$f":"M15+1","v":4},{"$f":"IF(OR(E16<>\"\", H16<>\"\"), 1, 0)","v":0},{"$f":"IF(AND(E16<>\"\", H16<>\"\"), 1, 0)","v":0}]
{"$rows_empty":10}
[{"$nulls":3},"Journal Notes/Comments (optional)",{"$nulls":5},0]

{"sheet":"SPR #14 Long Term Vul Red","index":35,"n_rows":56,"n_cols":20,"rows_kept":56,"hidden":true,"merged":[[2,3,2,7],[3,3,3,7],[5,3,5,7],[7,3,7,7],[8,4,8,7],[9,4,9,7],[10,4,10,7],[12,3,14,3],[14,4,14,7],[16,3,18,3],[18,4,18,7],[20,3,22,3],[22,4,22,7],[24,3,26,3],[26,4,26,7],[28,3,30,3],[30,4,30,7],[32,3,32,7],[33,3,33,7],[36,3,36,7],[43,3,43,7],[44,3,48,3],[49,3,53,3],[49,4,49,5],[50,4,50,5],[51,4,51,5],[52,4,52,5],[53,4,53,5],[55,3,55,7]]}
[21]
[14]
[{"$f":"MAX(B:B)","v":1},null,null,"Capability Target"]
[null,{"$f":"ROW()-3","v":1},null,{"$f":"INDIRECT(\"'THIRA Steps 1-3'!$C$2417\")","v":"Click here to enter capability targets"}]
[]
[{"$nulls":3},"Capability Assessment"]
[]
[{"$nulls":3},"Priority"]
[{"$nulls":4},"Relative to the other core capabilities, efforts to build and/or sustain this core capability are of high importance to my jurisdiction’s preparedness activities.",{"$nulls":10},0]
[{"$nulls":4},"Relative to the other core capabilities, efforts to build and/or sustain this core capability are of medium importance to my jurisdiction’s preparedness activities."]
[{"$nulls":4},"Relative to the other core capabilities, efforts to build and/or sustain this core capability are of low importance to my jurisdiction’s preparedness activities."]
[]
[{"$nulls":3},"Planning","Rating\nInternal Capability","Rating (optional)\nInternal Capability + Mutual Aid","Gap Description (optional)","Recent Advances (optional)"]
[{"$nulls":4},{"$f":"LOOKUP(P14, Lists!$C$2:$C$8, Lists!D2:D8)","v":"No selection made"},{"$f":"LOOKUP(Q14, Lists!$C$2:$C$8, Lists!D2:D8)","v":"No selection made"},{"$nulls":9},1,1,{"$f":"COUNTIF(I15:AC15, \"TRUE\")","v":0},0,0]
[{"$nulls":4},"Into which functional area(s) does your community's planning gaps fall?",{"$nulls":3},false,false,false,false,false,false,false,false,false]
[]
[{"$nulls":3},"Organization","Rating\nInternal Capability","Rating (optional)\nInternal Capability + Mutual Aid","Gap Description (optional)","Recent Advances (optional)"]
[{"$nulls":4},{"$f":"LOOKUP(P18, Lists!$C$2:$C$8, Lists!E2:E8)","v":"No selection made"},{"$f":"LOOKUP(Q18, Lists!$C$2:$C$8, Lists!E2:E8)","v":"No selection made"},{"$nulls":9},1,1,{"$f":"COUNTIF(I19:AC19, \"TRUE\")","v":0},null,0]
[{"$nulls":4},"Into which functional area(s) does your community's organizational gaps fall?",{"$nulls":8},false]
[]
[{"$nulls":3},"Equipment","Rating\nInternal Capability","Rating (optional)\nInternal Capability + Mutual Aid","Gap Description (optional)","Recent Advances (optional)",{"$nulls":7},1,1]
[{"$nulls":4},{"$f":"LOOKUP(P22, Lists!$C$2:$C$8, Lists!F2:F8)","v":"No selection made"},{"$f":"LOOKUP(Q22, Lists!$C$2:$C$8, Lists!F2:F8)","v":"No selection made"},{"$nulls":9},1,1,{"$f":"COUNTIF(I23:AC23, \"TRUE\")","v":0},null,0]
[{"$nulls":4},"Into which functional area(s) does your community's equipment gaps fall?",{"$nulls":8},false]
[]
[{"$nulls":3},"Training","Rating\nInternal Capability","Rating (optional)\nInternal Capability + Mutual Aid","Gap Description (optional)","Recent Advances (optional)",{"$nulls":7},1,1]
[{"$nulls":4},{"$f":"LOOKUP(P26, Lists!$C$2:$C$8, Lists!G2:G8)","v":"No selection made"},{"$f":"LOOKUP(Q26, Lists!$C$2:$C$8, Lists!G2:G8)","v":"No selection made"},{"$nulls":9},1,1,{"$f":"COUNTIF(I27:AC27, \"TRUE\")","v":0},0,0]
[{"$nulls":4},"Into which functional area(s) does your community's training gaps fall?",{"$nulls":3},false,false,false,false,false,false,false,false,false,false,false]
[]
[{"$nulls":3},"Exercises","Rating\nInternal Capability","Rating (optional)\nInternal Capability + Mutual Aid","Gap Description (optional)","Recent Advances (optional)",{"$nulls":7},1,1]
[{"$nulls":4},{"$f":"LOOKUP(P30, Lists!$C$2:$C$8, Lists!H2:H8)","v":"No selection made"},{"$f":"LOOKUP(Q30, Lists!$C$2:$C$8, Lists!H2:H8)","v":"No selection made"},{"$nulls":9},1,1,{"$f":"COUNTIF(I31:AC31, \"TRUE\")","v":0},0,0]
[{"$nulls":4},"Into which functional area(s) does your community's exercise gaps fall?",{"$nulls":3},false,false,false,false,false,false,false,false]
[]
[{"$nulls":3},"Assessment Corroboration"]
[{"$nulls":8},{"$f":"IF(M34=TRUE, \"TRUE\", (IF(AND(K34=TRUE, N34=1), \"TRUE\", (IF(AND(L34= TRUE, N34=1), \"TRUE\")))))","v":false},{"$f":"COUNTIF(K34:M34, \"TRUE\")","v":0},false,false,false,0]
[]
[]
[{"$nulls":3},"Responsibility for Filling Gap",{"$nulls":11},0]
[{"$nulls":15},0]
[]
[]
[]
[]
[]
[{"$nulls":3},"Resource Requirements",{"$nulls":5},"NIMS",4]
[{"$nulls":3},"NIMS-typed Resources","Category","Resource","Type","Number Available",null,"Other",4]
[{"$nulls":4},{"$f":"'THIRA #14 Long Term Vul Red'!E8","v":0},{"$f":"'THIRA #14 Long Term Vul Red'!F8","v":0},{"$f":"'THIRA #14 Long Term Vul Red'!G8","v":0}]
[{"$nulls":4},{"$f":"'THIRA #14 Long Term Vul Red'!E9","v":0},{"$f":"'THIRA #14 Long Term Vul Red'!F9","v":0},{"$f":"'THIRA #14 Long Term Vul Red'!G9","v":0}]
[{"$nulls":4},{"$f":"'THIRA #14 Long Term Vul Red'!E10","v":0},{"$f":"'THIRA #14 Long Term Vul Red'!F10","v":0},{"$f":"'THIRA #14 Long Term Vul Red'!G10","v":0}]
[{"$nulls":4},{"$f":"'THIRA #14 Long Term Vul Red'!E11","v":0},{"$f":"'THIRA #14 Long Term Vul Red'!F11","v":0},{"$f":"'THIRA #14 Long Term Vul Red'!G11","v":0}]
[{"$nulls":3},"Other\nResources","Resource\n(Example:  Case Management Team)",null,"Category\n","Number Available\n"]
[{"$nulls":4},{"$f":"'THIRA #14 Long Term Vul Red'!E13","v":0},null,{"$f":"'THIRA #14 Long Term Vul Red'!G13","v":0}]
[{"$nulls":4},{"$f":"'THIRA #14 Long Term Vul Red'!E14","v":0},null,{"$f":"'THIRA #14 Long Term Vul Red'!G14","v":0}]
[{"$nulls":4},{"$f":"'THIRA #14 Long Term Vul Red'!E15","v":0},null,{"$f":"'THIRA #14 Long Term Vul Red'!G15","v":0}]
[{"$nulls":4},{"$f":"'THIRA #14 Long Term Vul Red'!E16","v":0},null,{"$f":"'THIRA #14 Long Term Vul Red'!G16","v":0}]
[]
[{"$nulls":3},"Journal Notes/Comments (optional)",{"$nulls":11},0]

{"sheet":"THIRA #15 Risk Resil Assess","index":36,"n_rows":27,"n_cols":20,"rows_kept":27,"hidden":true,"merged":[[2,3,2,7],[3,3,3,7],[3,13,3,14],[5,3,5,7],[6,3,10,3],[11,3,15,3],[11,4,11,5],[12,4,12,5],[13,4,13,5],[14,4,14,5],[15,4,15,5],[26,3,26,7]]}
[21,{"$nulls":17},"# Other Rows Filled",{"$f":"IF(COUNTIF(N$1:N803,1),MATCH(800,INDEX(1/(N$1:N803=1),0)),\"\")-(T3+8)","v":0}]
[{"$nulls":18},"# NIMS rows filled",{"$f":"IF(COUNTIF(K$1:K800,1),MATCH(800,INDEX(1/(K$1:K800=1),0)),\"\")-7","v":0}]
[{"$f":"MAX(B:B)","v":1},null,null,"Capability Target",{"$nulls":14},"# NIMS Rows",{"$f":"MAX(J:J)","v":4}]
[null,{"$f":"ROW()-3","v":1},null,{"$f":"INDIRECT(\"'THIRA Steps 1-3'!$C$2505\")","v":"Click here to enter capability targets"},{"$nulls":14},"# NIMS Started",{"$f":"SUM(K:K)-1","v":0}]
[{"$nulls":18},"# NIMS Complete",{"$f":"SUM(L:L)","v":0}]
[{"$nulls":3},"Resource Requirements",{"$nulls":14},"# Other Rows",{"$f":"MAX(M:M)","v":4}]
[{"$nulls":3},"NIMS-typed Resources","Category","Resource","Type","Number Required",null,null,1,{"$nulls":7},"# Other Rows",{"$f":"SUM(N:N)-1","v":0}]
[{"$f":"LOOKUP(E8,'NIMS Resources'!B$4:B$12,'NIMS Resources'!C$4:C$12)","v":{"$error":"#N/A"}},null,{"$f":"VLOOKUP(F8, INDIRECT(\"'NIMS Resources'!$G$4:$J$\" & 366), 4, FALSE)","v":{"$error":"#N/A"}},{"$nulls":6},1,{"$f":"IF(OR(E8<>\"\", F8<>\"\", G8<>\"\", H8<>\"\"), 1, 0)","v":0},{"$f":"IF(AND(E8<>\"\", F8<>\"\", G8<>\"\", H8<>\"\"), 1, 0)","v":0},{"$nulls":6},"# Other",{"$f":"SUM(O:O)","v":0}]
[{"$f":"LOOKUP(E9,'NIMS Resources'!B$4:B$12,'NIMS Resources'!C$4:C$12)","v":{"$error":"#N/A"}},null,{"$f":"VLOOKUP(F9, INDIRECT(\"'NIMS Resources'!$G$4:$J$\" & 366), 4, FALSE)","v":{"$error":"#N/A"}},{"$nulls":6},{"$f":"J8+1","v":2},{"$f":"IF(OR(E9<>\"\", F9<>\"\", G9<>\"\", H9<>\"\"), 1, 0)","v":0},{"$f":"IF(AND(E9<>\"\", F9<>\"\", G9<>\"\", H9<>\"\"), 1, 0)","v":0}]
[{"$f":"LOOKUP(E10,'NIMS Resources'!B$4:B$12,'NIMS Resources'!C$4:C$12)","v":{"$error":"#N/A"}},null,{"$error":"#N/A"},{"$nulls":6},{"$f":"J9+1","v":3},{"$f":"IF(OR(E10<>\"\", F10<>\"\", G10<>\"\", H10<>\"\"), 1, 0)","v":0},{"$f":"IF(AND(E10<>\"\", F10<>\"\", G10<>\"\", H10<>\"\"), 1, 0)","v":0}]
[{"$f":"LOOKUP(E11,'NIMS Resources'!B$4:B$12,'NIMS Resources'!C$4:C$12)","v":{"$error":"#N/A"}},null,{"$error":"#N/A"},{"$nulls":6},{"$f":"J10+1","v":4},{"$f":"IF(OR(E11<>\"\", F11<>\"\", G11<>\"\", H11<>\"\"), 1, 0)","v":0},{"$f":"IF(AND(E11<>\"\", F11<>\"\", G11<>\"\", H11<>\"\"), 1, 0)","v":0}]
[{"$nulls":3},"Other\nResources","Resource\n(Example:  Case Management Team)",null,"Category\r\n","Number Required\n",{"$nulls":5},1]
[{"$nulls":12},1,{"$f":"IF(OR(E13<>\"\", H13<>\"\"), 1, 0)","v":0},{"$f":"IF(AND(E13<>\"\", H13<>\"\"), 1, 0)","v":0}]
[{"$nulls":12},{"$f":"M13+1","v":2},{"$f":"IF(OR(E14<>\"\", H14<>\"\"), 1, 0)","v":0},{"$f":"IF(AND(E14<>\"\", H14<>\"\"), 1, 0)","v":0}]
[{"$nulls":12},{"$f":"M14+1","v":3},{"$f":"IF(OR(E15<>\"\", H15<>\"\"), 1, 0)","v":0},{"$f":"IF(AND(E15<>\"\", H15<>\"\"), 1, 0)","v":0}]
[{"$nulls":12},{"$f":"M15+1","v":4},{"$f":"IF(OR(E16<>\"\", H16<>\"\"), 1, 0)","v":0},{"$f":"IF(AND(E16<>\"\", H16<>\"\"), 1, 0)","v":0}]
{"$rows_empty":10}
[{"$nulls":3},"Journal Notes/Comments (optional)",{"$nulls":5},0]

{"sheet":"SPR #15 Risk Resil Assess","index":37,"n_rows":56,"n_cols":20,"rows_kept":56,"hidden":true,"merged":[[2,3,2,7],[3,3,3,7],[5,3,5,7],[7,3,7,7],[8,4,8,7],[9,4,9,7],[10,4,10,7],[12,3,14,3],[14,4,14,7],[16,3,18,3],[18,4,18,7],[20,3,22,3],[22,4,22,7],[24,3,26,3],[26,4,26,7],[28,3,30,3],[30,4,30,7],[32,3,32,7],[33,3,33,7],[36,3,36,7],[43,3,43,7],[44,3,48,3],[49,3,53,3],[49,4,49,5],[50,4,50,5],[51,4,51,5],[52,4,52,5],[53,4,53,5],[55,3,55,7]]}
[21]
[15]
[{"$f":"MAX(B:B)","v":1},null,null,"Capability Target"]
[null,{"$f":"ROW()-3","v":1},null,{"$f":"INDIRECT(\"'THIRA Steps 1-3'!$C$2505\")","v":"Click here to enter capability targets"}]
[]
[{"$nulls":3},"Capability Assessment"]
[]
[{"$nulls":3},"Priority"]
[{"$nulls":4},"Relative to the other core capabilities, efforts to build and/or sustain this core capability are of high importance to my jurisdiction’s preparedness activities.",{"$nulls":10},0]
[{"$nulls":4},"Relative to the other core capabilities, efforts to build and/or sustain this core capability are of medium importance to my jurisdiction’s preparedness activities."]
[{"$nulls":4},"Relative to the other core capabilities, efforts to build and/or sustain this core capability are of low importance to my jurisdiction’s preparedness activities."]
[]
[{"$nulls":3},"Planning","Rating\nInternal Capability","Rating (optional)\nInternal Capability + Mutual Aid","Gap Description (optional)","Recent Advances (optional)"]
[{"$nulls":4},{"$f":"LOOKUP(P14, Lists!$C$2:$C$8, Lists!D2:D8)","v":"No selection made"},{"$f":"LOOKUP(Q14, Lists!$C$2:$C$8, Lists!D2:D8)","v":"No selection made"},{"$nulls":9},1,1,{"$f":"COUNTIF(I15:AC15, \"TRUE\")","v":0},0,0]
[{"$nulls":4},"Into which functional area(s) does your community's planning gaps fall?",{"$nulls":3},false,false,false,false,false,false,false,false,false]
[]
[{"$nulls":3},"Organization","Rating\nInternal Capability","Rating (optional)\nInternal Capability + Mutual Aid","Gap Description (optional)","Recent Advances (optional)"]
[{"$nulls":4},{"$f":"LOOKUP(P18, Lists!$C$2:$C$8, Lists!E2:E8)","v":"No selection made"},{"$f":"LOOKUP(Q18, Lists!$C$2:$C$8, Lists!E2:E8)","v":"No selection made"},{"$nulls":9},1,1,{"$f":"COUNTIF(I19:AC19, \"TRUE\")","v":0},null,0]
[{"$nulls":4},"Into which functional area(s) does your community's organizational gaps fall?",{"$nulls":6},false]
[]
[{"$nulls":3},"Equipment","Rating\nInternal Capability","Rating (optional)\nInternal Capability + Mutual Aid","Gap Description (optional)","Recent Advances (optional)",{"$nulls":7},1,1]
[{"$nulls":4},{"$f":"LOOKUP(P22, Lists!$C$2:$C$8, Lists!F2:F8)","v":"No selection made"},{"$f":"LOOKUP(Q22, Lists!$C$2:$C$8, Lists!F2:F8)","v":"No selection made"},{"$nulls":9},1,1,{"$f":"COUNTIF(I23:AC23, \"TRUE\")","v":0},null,0]
[{"$nulls":4},"Into which functional area(s) does your community's equipment gaps fall?",{"$nulls":6},false]
[]
[{"$nulls":3},"Training","Rating\nInternal Capability","Rating (optional)\nInternal Capability + Mutual Aid","Gap Description (optional)","Recent Advances (optional)",{"$nulls":7},1,1]
[{"$nulls":4},{"$f":"LOOKUP(P26, Lists!$C$2:$C$8, Lists!G2:G8)","v":"No selection made"},{"$f":"LOOKUP(Q26, Lists!$C$2:$C$8, Lists!G2:G8)","v":"No selection made"},{"$nulls":9},1,1,{"$f":"COUNTIF(I27:AC27, \"TRUE\")","v":0},0,0]
[{"$nulls":4},"Into which functional area(s) does your community's training gaps fall?",{"$nulls":3},false,false,false,false,false,false,false,false,false,false,false]
[]
[{"$nulls":3},"Exercises","Rating\nInternal Capability","Rating (optional)\nInternal Capability + Mutual Aid","Gap Description (optional)","Recent Advances (optional)",{"$nulls":7},1,1]
[{"$nulls":4},{"$f":"LOOKUP(P30, Lists!$C$2:$C$8, Lists!H2:H8)","v":"No selection made"},{"$f":"LOOKUP(Q30, Lists!$C$2:$C$8, Lists!H2:H8)","v":"No selection made"},{"$nulls":9},1,1,{"$f":"COUNTIF(I31:AC31, \"TRUE\")","v":0},0,0]
[{"$nulls":4},"Into which functional area(s) does your community's exercise gaps fall?",{"$nulls":3},false,false,false,false,false,false,false,false]
[]
[{"$nulls":3},"Assessment Corroboration"]
[{"$nulls":8},{"$f":"IF(M34=TRUE, \"TRUE\", (IF(AND(K34=TRUE, N34=1), \"TRUE\", (IF(AND(L34= TRUE, N34=1), \"TRUE\")))))","v":false},{"$f":"COUNTIF(K34:M34, \"TRUE\")","v":0},false,false,false,0]
[]
[]
[{"$nulls":3},"Responsibility for Filling Gap",{"$nulls":11},0]
[{"$nulls":15},0]
[]
[]
[]
[]
[]
[{"$nulls":3},"Resource Requirements",{"$nulls":5},"NIMS",4]
[{"$nulls":3},"NIMS-typed Resources","Category","Resource","Type","Number Available",null,"Other",4]
[{"$nulls":4},{"$f":"'THIRA #15 Risk Resil Assess'!E8","v":0},{"$f":"'THIRA #15 Risk Resil Assess'!F8","v":0},{"$f":"'THIRA #15 Risk Resil Assess'!G8","v":0}]
[{"$nulls":4},{"$f":"'THIRA #15 Risk Resil Assess'!E9","v":0},{"$f":"'THIRA #15 Risk Resil Assess'!F9","v":0},{"$f":"'THIRA #15 Risk Resil Assess'!G9","v":0}]
[{"$nulls":4},{"$f":"'THIRA #15 Risk Resil Assess'!E10","v":0},{"$f":"'THIRA #15 Risk Resil Assess'!F10","v":0},{"$f":"'THIRA #15 Risk Resil Assess'!G10","v":0}]
[{"$nulls":4},{"$f":"'THIRA #15 Risk Resil Assess'!E11","v":0},{"$f":"'THIRA #15 Risk Resil Assess'!F11","v":0},{"$f":"'THIRA #15 Risk Resil Assess'!G11","v":0}]
[{"$nulls":3},"Other\nResources","Resource\n(Example:  Case Management Team)",null,"Category\n","Number Available\n"]
[{"$nulls":4},{"$f":"'THIRA #15 Risk Resil Assess'!E13","v":0},null,{"$f":"'THIRA #15 Risk Resil Assess'!G13","v":0}]
[{"$nulls":4},{"$f":"'THIRA #15 Risk Resil Assess'!E14","v":0},null,{"$f":"'THIRA #15 Risk Resil Assess'!G14","v":0}]
[{"$nulls":4},{"$f":"'THIRA #15 Risk Resil Assess'!E15","v":0},null,{"$f":"'THIRA #15 Risk Resil Assess'!G15","v":0}]
[{"$nulls":4},{"$f":"'THIRA #15 Risk Resil Assess'!E16","v":0},null,{"$f":"'THIRA #15 Risk Resil Assess'!G16","v":0}]
[]
[{"$nulls":3},"Journal Notes/Comments (optional)",{"$nulls":11},0]

{"sheet":"THIRA #16 Threat Haz ID","index":38,"n_rows":27,"n_cols":20,"rows_kept":27,"hidden":true,"merged":[[2,3,2,7],[3,3,3,7],[3,13,3,14],[5,3,5,7],[6,3,10,3],[11,3,15,3],[11,4,11,5],[12,4,12,5],[13,4,13,5],[14,4,14,5],[15,4,15,5],[26,3,26,7]]}
[21,{"$nulls":17},"# Other Rows Filled",{"$f":"IF(COUNTIF(N$1:N803,1),MATCH(800,INDEX(1/(N$1:N803=1),0)),\"\")-(T3+8)","v":0}]
[{"$nulls":18},"# NIMS rows filled",{"$f":"IF(COUNTIF(K$1:K800,1),MATCH(800,INDEX(1/(K$1:K800=1),0)),\"\")-7","v":0}]
[{"$f":"MAX(B:B)","v":1},null,null,"Capability Target",{"$nulls":14},"# NIMS Rows",{"$f":"MAX(J:J)","v":4}]
[null,{"$f":"ROW()-3","v":1},null,{"$f":"INDIRECT(\"'THIRA Steps 1-3'!$C$2593\")","v":"Click here to enter capability targets"},{"$nulls":14},"# NIMS Started",{"$f":"SUM(K:K)-1","v":0}]
[{"$nulls":18},"# NIMS Complete",{"$f":"SUM(L:L)","v":0}]
[{"$nulls":3},"Resource Requirements",{"$nulls":14},"# Other Rows",{"$f":"MAX(M:M)","v":4}]
[{"$nulls":3},"NIMS-typed Resources","Category","Resource","Type","Number Required",null,null,1,{"$nulls":7},"# Other Rows",{"$f":"SUM(N:N)-1","v":0}]
[{"$f":"LOOKUP(E8,'NIMS Resources'!B$4:B$12,'NIMS Resources'!C$4:C$12)","v":{"$error":"#N/A"}},null,{"$f":"VLOOKUP(F8, INDIRECT(\"'NIMS Resources'!$G$4:$J$\" & 366), 4, FALSE)","v":{"$error":"#N/A"}},{"$nulls":6},1,{"$f":"IF(OR(E8<>\"\", F8<>\"\", G8<>\"\", H8<>\"\"), 1, 0)","v":0},{"$f":"IF(AND(E8<>\"\", F8<>\"\", G8<>\"\", H8<>\"\"), 1, 0)","v":0},{"$nulls":6},"# Other",{"$f":"SUM(O:O)","v":0}]
[{"$f":"LOOKUP(E9,'NIMS Resources'!B$4:B$12,'NIMS Resources'!C$4:C$12)","v":{"$error":"#N/A"}},null,{"$f":"VLOOKUP(F9, INDIRECT(\"'NIMS Resources'!$G$4:$J$\" & 366), 4, FALSE)","v":{"$error":"#N/A"}},{"$nulls":6},{"$f":"J8+1","v":2},{"$f":"IF(OR(E9<>\"\", F9<>\"\", G9<>\"\", H9<>\"\"), 1, 0)","v":0},{"$f":"IF(AND(E9<>\"\", F9<>\"\", G9<>\"\", H9<>\"\"), 1, 0)","v":0}]
[{"$f":"LOOKUP(E10,'NIMS Resources'!B$4:B$12,'NIMS Resources'!C$4:C$12)","v":{"$error":"#N/A"}},null,{"$error":"#N/A"},{"$nulls":6},{"$f":"J9+1","v":3},{"$f":"IF(OR(E10<>\"\", F10<>\"\", G10<>\"\", H10<>\"\"), 1, 0)","v":0},{"$f":"IF(AND(E10<>\"\", F10<>\"\", G10<>\"\", H10<>\"\"), 1, 0)","v":0}]
[{"$f":"LOOKUP(E11,'NIMS Resources'!B$4:B$12,'NIMS Resources'!C$4:C$12)","v":{"$error":"#N/A"}},null,{"$error":"#N/A"},{"$nulls":6},{"$f":"J10+1","v":4},{"$f":"IF(OR(E11<>\"\", F11<>\"\", G11<>\"\", H11<>\"\"), 1, 0)","v":0},{"$f":"IF(AND(E11<>\"\", F11<>\"\", G11<>\"\", H11<>\"\"), 1, 0)","v":0}]
[{"$nulls":3},"Other\nResources","Resource\n(Example:  Case Management Team)",null,"Category\r\n","Number Required\n",{"$nulls":5},1]
[{"$nulls":12},1,{"$f":"IF(OR(E13<>\"\", H13<>\"\"), 1, 0)","v":0},{"$f":"IF(AND(E13<>\"\", H13<>\"\"), 1, 0)","v":0}]
[{"$nulls":12},{"$f":"M13+1","v":2},{"$f":"IF(OR(E14<>\"\", H14<>\"\"), 1, 0)","v":0},{"$f":"IF(AND(E14<>\"\", H14<>\"\"), 1, 0)","v":0}]
[{"$nulls":12},{"$f":"M14+1","v":3},{"$f":"IF(OR(E15<>\"\", H15<>\"\"), 1, 0)","v":0},{"$f":"IF(AND(E15<>\"\", H15<>\"\"), 1, 0)","v":0}]
[{"$nulls":12},{"$f":"M15+1","v":4},{"$f":"IF(OR(E16<>\"\", H16<>\"\"), 1, 0)","v":0},{"$f":"IF(AND(E16<>\"\", H16<>\"\"), 1, 0)","v":0}]
{"$rows_empty":10}
[{"$nulls":3},"Journal Notes/Comments (optional)",{"$nulls":5},0]

{"sheet":"SPR #16 Threat Haz ID","index":39,"n_rows":56,"n_cols":20,"rows_kept":56,"hidden":true,"merged":[[2,3,2,7],[3,3,3,7],[5,3,5,7],[7,3,7,7],[8,4,8,7],[9,4,9,7],[10,4,10,7],[12,3,14,3],[14,4,14,7],[16,3,18,3],[18,4,18,7],[20,3,22,3],[22,4,22,7],[24,3,26,3],[26,4,26,7],[28,3,30,3],[30,4,30,7],[32,3,32,7],[33,3,33,7],[36,3,36,7],[43,3,43,7],[44,3,48,3],[49,3,53,3],[49,4,49,5],[50,4,50,5],[51,4,51,5],[52,4,52,5],[53,4,53,5],[55,3,55,7]]}
[21]
[16]
[{"$f":"MAX(B:B)","v":1},null,null,"Capability Target"]
[null,{"$f":"ROW()-3","v":1},null,{"$f":"INDIRECT(\"'THIRA Steps 1-3'!$C$2593\")","v":"Click here to enter capability targets"}]
[]
[{"$nulls":3},"Capability Assessment"]
[]
[{"$nulls":3},"Priority"]
[{"$nulls":4},"Relative to the other core capabilities, efforts to build and/or sustain this core capability are of high importance to my jurisdiction’s preparedness activities.",{"$nulls":10},0]
[{"$nulls":4},"Relative to the other core capabilities, efforts to build and/or sustain this core capability are of medium importance to my jurisdiction’s preparedness activities."]
[{"$nulls":4},"Relative to the other core capabilities, efforts to build and/or sustain this core capability are of low importance to my jurisdiction’s preparedness activities."]
[]
[{"$nulls":3},"Planning","Rating\nInternal Capability","Rating (optional)\nInternal Capability + Mutual Aid","Gap Description (optional)","Recent Advances (optional)"]
[{"$nulls":4},{"$f":"LOOKUP(P14, Lists!$C$2:$C$8, Lists!D2:D8)","v":"No selection made"},{"$f":"LOOKUP(Q14, Lists!$C$2:$C$8, Lists!D2:D8)","v":"No selection made"},{"$nulls":9},1,1,{"$f":"COUNTIF(I15:AC15, \"TRUE\")","v":0},0,0]
[{"$nulls":4},"Into which functional area(s) does your community's planning gaps fall?",{"$nulls":3},false,false,false,false,false,false,false,false,false]
[]
[{"$nulls":3},"Organization","Rating\nInternal Capability","Rating (optional)\nInternal Capability + Mutual Aid","Gap Description (optional)","Recent Advances (optional)"]
[{"$nulls":4},{"$f":"LOOKUP(P18, Lists!$C$2:$C$8, Lists!E2:E8)","v":"No selection made"},{"$f":"LOOKUP(Q18, Lists!$C$2:$C$8, Lists!E2:E8)","v":"No selection made"},{"$nulls":9},1,1,{"$f":"COUNTIF(I19:AC19, \"TRUE\")","v":0},null,0]
[{"$nulls":4},"Into which functional area(s) does your community's organizational gaps fall?",{"$nulls":7},false]
[]
[{"$nulls":3},"Equipment","Rating\nInternal Capability","Rating (optional)\nInternal Capability + Mutual Aid","Gap Description (optional)","Recent Advances (optional)",{"$nulls":7},1,1]
[{"$nulls":4},{"$f":"LOOKUP(P22, Lists!$C$2:$C$8, Lists!F2:F8)","v":"No selection made"},{"$f":"LOOKUP(Q22, Lists!$C$2:$C$8, Lists!F2:F8)","v":"No selection made"},{"$nulls":9},1,1,{"$f":"COUNTIF(I23:AC23, \"TRUE\")","v":0},null,0]
[{"$nulls":4},"Into which functional area(s) does your community's equipment gaps fall?",{"$nulls":7},false]
[]
[{"$nulls":3},"Training","Rating\nInternal Capability","Rating (optional)\nInternal Capability + Mutual Aid","Gap Description (optional)","Recent Advances (optional)",{"$nulls":7},1,1]
[{"$nulls":4},{"$f":"LOOKUP(P26, Lists!$C$2:$C$8, Lists!G2:G8)","v":"No selection made"},{"$f":"LOOKUP(Q26, Lists!$C$2:$C$8, Lists!G2:G8)","v":"No selection made"},{"$nulls":9},1,1,{"$f":"COUNTIF(I27:AC27, \"TRUE\")","v":0},0,0]
[{"$nulls":4},"Into which functional area(s) does your community's training gaps fall?",{"$nulls":3},false,false,false,false,false,false,false,false,false,false,false]
[]
[{"$nulls":3},"Exercises","Rating\nInternal Capability","Rating (optional)\nInternal Capability + Mutual Aid","Gap Description (optional)","Recent Advances (optional)",{"$nulls":7},1,1]
[{"$nulls":4},{"$f":"LOOKUP(P30, Lists!$C$2:$C$8, Lists!H2:H8)","v":"No selection made"},{"$f":"LOOKUP(Q30, Lists!$C$2:$C$8, Lists!H2:H8)","v":"No selection made"},{"$nulls":9},1,1,{"$f":"COUNTIF(I31:AC31, \"TRUE\")","v":0},0,0]
[{"$nulls":4},"Into which functional area(s) does your community's exercise gaps fall?",{"$nulls":3},false,false,false,false,false,false,false,false]
[]
[{"$nulls":3},"Assessment Corroboration"]
[{"$nulls":8},{"$f":"IF(M34=TRUE, \"TRUE\", (IF(AND(K34=TRUE, N34=1), \"TRUE\", (IF(AND(L34= TRUE, N34=1), \"TRUE\")))))","v":false},{"$f":"COUNTIF(K34:M34, \"TRUE\")","v":0},false,false,false,0]
[]
[]
[{"$nulls":3},"Responsibility for Filling Gap",{"$nulls":11},0]
[{"$nulls":15},0]
[]
[]
[]
[]
[]
[{"$nulls":3},"Resource Requirements",{"$nulls":5},"NIMS",4]
[{"$nulls":3},"NIMS-typed Resources","Category","Resource","Type","Number Available",null,"Other",4]
[{"$nulls":4},{"$f":"'THIRA #16 Threat Haz ID'!E8","v":0},{"$f":"'THIRA #16 Threat Haz ID'!F8","v":0},{"$f":"'THIRA #16 Threat Haz ID'!G8","v":0}]
[{"$nulls":4},{"$f":"'THIRA #16 Threat Haz ID'!E9","v":0},{"$f":"'THIRA #16 Threat Haz ID'!F9","v":0},{"$f":"'THIRA #16 Threat Haz ID'!G9","v":0}]
[{"$nulls":4},{"$f":"'THIRA #16 Threat Haz ID'!E10","v":0},{"$f":"'THIRA #16 Threat Haz ID'!F10","v":0},{"$f":"'THIRA #16 Threat Haz ID'!G10","v":0}]
[{"$nulls":4},{"$f":"'THIRA #16 Threat Haz ID'!E11","v":0},{"$f":"'THIRA #16 Threat Haz ID'!F11","v":0},{"$f":"'THIRA #16 Threat Haz ID'!G11","v":0}]
[{"$nulls":3},"Other\nResources","Resource\n(Example:  Case Management Team)",null,"Category\n","Number Available\n"]
[{"$nulls":4},{"$f":"'THIRA #16 Threat Haz ID'!E13","v":0},null,{"$f":"'THIRA #16 Threat Haz ID'!G13","v":0}]
[{"$nulls":4},{"$f":"'THIRA #16 Threat Haz ID'!E14","v":0},null,{"$f":"'THIRA #16 Threat Haz ID'!G14","v":0}]
[{"$nulls":4},{"$f":"'THIRA #16 Threat Haz ID'!E15","v":0},null,{"$f":"'THIRA #16 Threat Haz ID'!G15","v":0}]
[{"$nulls":4},{"$f":"'THIRA #16 Threat Haz ID'!E16","v":0},null,{"$f":"'THIRA #16 Threat Haz ID'!G16","v":0}]
[]
[{"$nulls":3},"Journal Notes/Comments (optional)",{"$nulls":11},0]

{"sheet":"THIRA #17 Crit Transport","index":40,"n_rows":27,"n_cols":20,"rows_kept":27,"hidden":true,"merged":[[2,3,2,7],[3,3,3,7],[3,13,3,14],[5,3,5,7],[6,3,10,3],[11,3,15,3],[11,4,11,5],[12,4,12,5],[13,4,13,5],[14,4,14,5],[15,4,15,5],[26,3,26,7]]}
[21,{"$nulls":17},"# Other Rows Filled",{"$f":"IF(COUNTIF(N$1:N803,1),MATCH(800,INDEX(1/(N$1:N803=1),0)),\"\")-(T3+8)","v":0}]
[{"$nulls":18},"# NIMS rows filled",{"$f":"IF(COUNTIF(K$1:K800,1),MATCH(800,INDEX(1/(K$1:K800=1),0)),\"\")-7","v":0}]
[{"$f":"MAX(B:B)","v":1},null,null,"Capability Target",{"$nulls":14},"# NIMS Rows",{"$f":"MAX(J:J)","v":4}]
[null,{"$f":"ROW()-3","v":1},null,{"$f":"INDIRECT(\"'THIRA Steps 1-3'!$C$2681\")","v":"Click here to enter capability targets"},{"$nulls":14},"# NIMS Started",{"$f":"SUM(K:K)-1","v":0}]
[{"$nulls":18},"# NIMS Complete",{"$f":"SUM(L:L)","v":0}]
[{"$nulls":3},"Resource Requirements",{"$nulls":14},"# Other Rows",{"$f":"MAX(M:M)","v":4}]
[{"$nulls":3},"NIMS-typed Resources","Category","Resource","Type","Number Required",null,null,1,{"$nulls":7},"# Other Rows",{"$f":"SUM(N:N)-1","v":0}]
[{"$f":"LOOKUP(E8,'NIMS Resources'!B$4:B$12,'NIMS Resources'!C$4:C$12)","v":{"$error":"#N/A"}},null,{"$f":"VLOOKUP(F8, INDIRECT(\"'NIMS Resources'!$G$4:$J$\" & 366), 4, FALSE)","v":{"$error":"#N/A"}},{"$nulls":6},1,{"$f":"IF(OR(E8<>\"\", F8<>\"\", G8<>\"\", H8<>\"\"), 1, 0)","v":0},{"$f":"IF(AND(E8<>\"\", F8<>\"\", G8<>\"\", H8<>\"\"), 1, 0)","v":0},{"$nulls":6},"# Other",{"$f":"SUM(O:O)","v":0}]
[{"$f":"LOOKUP(E9,'NIMS Resources'!B$4:B$12,'NIMS Resources'!C$4:C$2391)","v":{"$error":"#N/A"}},null,{"$f":"VLOOKUP(F9, INDIRECT(\"'NIMS Resources'!$G$4:$J$\" & 366), 4, FALSE)","v":{"$error":"#N/A"}},{"$nulls":6},{"$f":"J8+1","v":2},{"$f":"IF(OR(E9<>\"\", F9<>\"\", G9<>\"\", H9<>\"\"), 1, 0)","v":0},{"$f":"IF(AND(E9<>\"\", F9<>\"\", G9<>\"\", H9<>\"\"), 1, 0)","v":0}]
[{"$f":"LOOKUP(E10,'NIMS Resources'!B$4:B$12,'NIMS Resources'!C$4:C$12)","v":{"$error":"#N/A"}},null,{"$error":"#N/A"},{"$nulls":6},{"$f":"J9+1","v":3},{"$f":"IF(OR(E10<>\"\", F10<>\"\", G10<>\"\", H10<>\"\"), 1, 0)","v":0},{"$f":"IF(AND(E10<>\"\", F10<>\"\", G10<>\"\", H10<>\"\"), 1, 0)","v":0}]
[{"$f":"LOOKUP(E11,'NIMS Resources'!B$4:B$12,'NIMS Resources'!C$4:C$12)","v":{"$error":"#N/A"}},null,{"$error":"#N/A"},{"$nulls":6},{"$f":"J10+1","v":4},{"$f":"IF(OR(E11<>\"\", F11<>\"\", G11<>\"\", H11<>\"\"), 1, 0)","v":0},{"$f":"IF(AND(E11<>\"\", F11<>\"\", G11<>\"\", H11<>\"\"), 1, 0)","v":0}]
[{"$nulls":3},"Other\nResources","Resource\n(Example:  Case Management Team)",null,"Category\r\n","Number Required\n",{"$nulls":5},1]
[{"$nulls":12},1,{"$f":"IF(OR(E13<>\"\", H13<>\"\"), 1, 0)","v":0},{"$f":"IF(AND(E13<>\"\", H13<>\"\"), 1, 0)","v":0}]
[{"$nulls":12},{"$f":"M13+1","v":2},{"$f":"IF(OR(E14<>\"\", H14<>\"\"), 1, 0)","v":0},{"$f":"IF(AND(E14<>\"\", H14<>\"\"), 1, 0)","v":0}]
[{"$nulls":12},{"$f":"M14+1","v":3},{"$f":"IF(OR(E15<>\"\", H15<>\"\"), 1, 0)","v":0},{"$f":"IF(AND(E15<>\"\", H15<>\"\"), 1, 0)","v":0}]
[{"$nulls":12},{"$f":"M15+1","v":4},{"$f":"IF(OR(E16<>\"\", H16<>\"\"), 1, 0)","v":0},{"$f":"IF(AND(E16<>\"\", H16<>\"\"), 1, 0)","v":0}]
{"$rows_empty":10}
[{"$nulls":3},"Journal Notes/Comments (optional)",{"$nulls":5},0]

{"sheet":"SPR #17 Crit Transport","index":41,"n_rows":56,"n_cols":20,"rows_kept":56,"hidden":true,"merged":[[2,3,2,7],[3,3,3,7],[5,3,5,7],[7,3,7,7],[8,4,8,7],[9,4,9,7],[10,4,10,7],[12,3,14,3],[14,4,14,7],[16,3,18,3],[18,4,18,7],[20,3,22,3],[22,4,22,7],[24,3,26,3],[26,4,26,7],[28,3,30,3],[30,4,30,7],[32,3,32,7],[33,3,33,7],[36,3,36,7],[43,3,43,7],[44,3,48,3],[49,3,53,3],[49,4,49,5],[50,4,50,5],[51,4,51,5],[52,4,52,5],[53,4,53,5],[55,3,55,7]]}
[21]
[17]
[{"$f":"MAX(B:B)","v":1},null,null,"Capability Target"]
[null,{"$f":"ROW()-3","v":1},null,{"$f":"INDIRECT(\"'THIRA Steps 1-3'!$C$2681\")","v":"Click here to enter capability targets"}]
[]
[{"$nulls":3},"Capability Assessment"]
[]
[{"$nulls":3},"Priority"]
[{"$nulls":4},"Relative to the other core capabilities, efforts to build and/or sustain this core capability are of high importance to my jurisdiction’s preparedness activities.",{"$nulls":10},0]
[{"$nulls":4},"Relative to the other core capabilities, efforts to build and/or sustain this core capability are of medium importance to my jurisdiction’s preparedness activities."]
[{"$nulls":4},"Relative to the other core capabilities, efforts to build and/or sustain this core capability are of low importance to my jurisdiction’s preparedness activities."]
[]
[{"$nulls":3},"Planning","Rating\nInternal Capability","Rating (optional)\nInternal Capability + Mutual Aid","Gap Description (optional)","Recent Advances (optional)"]
[{"$nulls":4},{"$f":"LOOKUP(P14, Lists!$C$2:$C$8, Lists!D2:D8)","v":"No selection made"},{"$f":"LOOKUP(Q14, Lists!$C$2:$C$8, Lists!D2:D8)","v":"No selection made"},{"$nulls":9},1,1,{"$f":"COUNTIF(I15:AC15, \"TRUE\")","v":0},0,0]
[{"$nulls":4},"Into which functional area(s) does your community's planning gaps fall?",{"$nulls":3},false,false,false,false,false,false,false,false,false]
[]
[{"$nulls":3},"Organization","Rating\nInternal Capability","Rating (optional)\nInternal Capability + Mutual Aid","Gap Description (optional)","Recent Advances (optional)"]
[{"$nulls":4},{"$f":"LOOKUP(P18, Lists!$C$2:$C$8, Lists!E2:E8)","v":"No selection made"},{"$f":"LOOKUP(Q18, Lists!$C$2:$C$8, Lists!E2:E8)","v":"No selection made"},{"$nulls":9},1,1,{"$f":"COUNTIF(I19:AC19, \"TRUE\")","v":0},null,0]
[{"$nulls":4},"Into which functional area(s) does your community's organizational gaps fall?",{"$nulls":7},false]
[]
[{"$nulls":3},"Equipment","Rating\nInternal Capability","Rating (optional)\nInternal Capability + Mutual Aid","Gap Description (optional)","Recent Advances (optional)",{"$nulls":7},1,1]
[{"$nulls":4},{"$f":"LOOKUP(P22, Lists!$C$2:$C$8, Lists!F2:F8)","v":"No selection made"},{"$f":"LOOKUP(Q22, Lists!$C$2:$C$8, Lists!F2:F8)","v":"No selection made"},{"$nulls":9},1,1,{"$f":"COUNTIF(I23:AC23, \"TRUE\")","v":0},null,0]
[{"$nulls":4},"Into which functional area(s) does your community's equipment gaps fall?",{"$nulls":7},false]
[]
[{"$nulls":3},"Training","Rating\nInternal Capability","Rating (optional)\nInternal Capability + Mutual Aid","Gap Description (optional)","Recent Advances (optional)",{"$nulls":7},1,1]
[{"$nulls":4},{"$f":"LOOKUP(P26, Lists!$C$2:$C$8, Lists!G2:G8)","v":"No selection made"},{"$f":"LOOKUP(Q26, Lists!$C$2:$C$8, Lists!G2:G8)","v":"No selection made"},{"$nulls":9},1,1,{"$f":"COUNTIF(I27:AC27, \"TRUE\")","v":0},0,0]
[{"$nulls":4},"Into which functional area(s) does your community's training gaps fall?",{"$nulls":3},false,false,false,false,false,false,false,false,false,false,false]
[]
[{"$nulls":3},"Exercises","Rating\nInternal Capability","Rating (optional)\nInternal Capability + Mutual Aid","Gap Description (optional)","Recent Advances (optional)",{"$nulls":7},1,1]
[{"$nulls":4},{"$f":"LOOKUP(P30, Lists!$C$2:$C$8, Lists!H2:H8)","v":"No selection made"},{"$f":"LOOKUP(Q30, Lists!$C$2:$C$8, Lists!H2:H8)","v":"No selection made"},{"$nulls":9},1,1,{"$f":"COUNTIF(I31:AC31, \"TRUE\")","v":0},0,0]
[{"$nulls":4},"Into which functional area(s) does your community's exercise gaps fall?",{"$nulls":3},false,false,false,false,false,false,false,false]
[]
[{"$nulls":3},"Assessment Corroboration"]
[{"$nulls":8},{"$f":"IF(M34=TRUE, \"TRUE\", (IF(AND(K34=TRUE, N34=1), \"TRUE\", (IF(AND(L34= TRUE, N34=1), \"TRUE\")))))","v":false},{"$f":"COUNTIF(K34:M34, \"TRUE\")","v":0},false,false,false,0]
[]
[]
[{"$nulls":3},"Responsibility for Filling Gap",{"$nulls":11},0]
[{"$nulls":15},0]
[]
[]
[]
[]
[]
[{"$nulls":3},"Resource Requirements",{"$nulls":5},"NIMS",4]
[{"$nulls":3},"NIMS-typed Resources","Category","Resource","Type","Number Available",null,"Other",4]
[{"$nulls":4},{"$f":"'THIRA #17 Crit Transport'!E8","v":0},{"$f":"'THIRA #17 Crit Transport'!F8","v":0},{"$f":"'THIRA #17 Crit Transport'!G8","v":0}]
[{"$nulls":4},{"$f":"'THIRA #17 Crit Transport'!E9","v":0},{"$f":"'THIRA #17 Crit Transport'!F9","v":0},{"$f":"'THIRA #17 Crit Transport'!G9","v":0}]
[{"$nulls":4},{"$f":"'THIRA #17 Crit Transport'!E10","v":0},{"$f":"'THIRA #17 Crit Transport'!F10","v":0},{"$f":"'THIRA #17 Crit Transport'!G10","v":0}]
[{"$nulls":4},{"$f":"'THIRA #17 Crit Transport'!E11","v":0},{"$f":"'THIRA #17 Crit Transport'!F11","v":0},{"$f":"'THIRA #17 Crit Transport'!G11","v":0}]
[{"$nulls":3},"Other\nResources","Resource\n(Example:  Case Management Team)",null,"Category\n","Number Available\n"]
[{"$nulls":4},{"$f":"'THIRA #17 Crit Transport'!E13","v":0},null,{"$f":"'THIRA #17 Crit Transport'!G13","v":0}]
[{"$nulls":4},{"$f":"'THIRA #17 Crit Transport'!E14","v":0},null,{"$f":"'THIRA #17 Crit Transport'!G14","v":0}]
[{"$nulls":4},{"$f":"'THIRA #17 Crit Transport'!E15","v":0},null,{"$f":"'THIRA #17 Crit Transport'!G15","v":0}]
[{"$nulls":4},{"$f":"'THIRA #17 Crit Transport'!E16","v":0},null,{"$f":"'THIRA #17 Crit Transport'!G16","v":0}]
[]
[{"$nulls":3},"Journal Notes/Comments (optional)",{"$nulls":11},0]

{"sheet":"THIRA #18 Envir Resp Health","index":42,"n_rows":27,"n_cols":20,"rows_kept":27,"hidden":true,"merged":[[2,3,2,7],[3,3,3,7],[3,13,3,14],[5,3,5,7],[6,3,10,3],[11,3,15,3],[11,4,11,5],[12,4,12,5],[13,4,13,5],[14,4,14,5],[15,4,15,5],[26,3,26,7]]}
[21,{"$nulls":17},"# Other Rows Filled",{"$f":"IF(COUNTIF(N$1:N803,1),MATCH(800,INDEX(1/(N$1:N803=1),0)),\"\")-(T3+8)","v":0}]
[{"$nulls":18},"# NIMS rows filled",{"$f":"IF(COUNTIF(K$1:K800,1),MATCH(800,INDEX(1/(K$1:K800=1),0)),\"\")-7","v":0}]
[{"$f":"MAX(B:B)","v":1},null,null,"Capability Target",{"$nulls":14},"# NIMS Rows",{"$f":"MAX(J:J)","v":4}]
[null,{"$f":"ROW()-3","v":1},null,{"$f":"INDIRECT(\"'THIRA Steps 1-3'!$C$2769\")","v":"Click here to enter capability targets"},{"$nulls":14},"# NIMS Started",{"$f":"SUM(K:K)-1","v":0}]
[{"$nulls":18},"# NIMS Complete",{"$f":"SUM(L:L)","v":0}]
[{"$nulls":3},"Resource Requirements",{"$nulls":14},"# Other Rows",{"$f":"MAX(M:M)","v":4}]
[{"$nulls":3},"NIMS-typed Resources","Category","Resource","Type","Number Required",null,null,1,{"$nulls":7},"# Other Rows",{"$f":"SUM(N:N)-1","v":0}]
[{"$f":"LOOKUP(E8,'NIMS Resources'!B$4:B$12,'NIMS Resources'!C$4:C$12)","v":{"$error":"#N/A"}},null,{"$f":"VLOOKUP(F8, INDIRECT(\"'NIMS Resources'!$G$4:$J$\" & 366), 4, FALSE)","v":{"$error":"#N/A"}},{"$nulls":6},1,{"$f":"IF(OR(E8<>\"\", F8<>\"\", G8<>\"\", H8<>\"\"), 1, 0)","v":0},{"$f":"IF(AND(E8<>\"\", F8<>\"\", G8<>\"\", H8<>\"\"), 1, 0)","v":0},{"$nulls":6},"# Other",{"$f":"SUM(O:O)","v":0}]
[{"$f":"LOOKUP(E9,'NIMS Resources'!B$4:B$12,'NIMS Resources'!C$4:C$12)","v":{"$error":"#N/A"}},null,{"$f":"VLOOKUP(F9, INDIRECT(\"'NIMS Resources'!$G$4:$J$\" & 366), 4, FALSE)","v":{"$error":"#N/A"}},{"$nulls":6},{"$f":"J8+1","v":2},{"$f":"IF(OR(E9<>\"\", F9<>\"\", G9<>\"\", H9<>\"\"), 1, 0)","v":0},{"$f":"IF(AND(E9<>\"\", F9<>\"\", G9<>\"\", H9<>\"\"), 1, 0)","v":0}]
[{"$f":"LOOKUP(E10,'NIMS Resources'!B$4:B$12,'NIMS Resources'!C$4:C$12)","v":{"$error":"#N/A"}},null,{"$error":"#N/A"},{"$nulls":6},{"$f":"J9+1","v":3},{"$f":"IF(OR(E10<>\"\", F10<>\"\", G10<>\"\", H10<>\"\"), 1, 0)","v":0},{"$f":"IF(AND(E10<>\"\", F10<>\"\", G10<>\"\", H10<>\"\"), 1, 0)","v":0}]
[{"$f":"LOOKUP(E11,'NIMS Resources'!B$4:B$12,'NIMS Resources'!C$4:C$12)","v":{"$error":"#N/A"}},null,{"$error":"#N/A"},{"$nulls":6},{"$f":"J10+1","v":4},{"$f":"IF(OR(E11<>\"\", F11<>\"\", G11<>\"\", H11<>\"\"), 1, 0)","v":0},{"$f":"IF(AND(E11<>\"\", F11<>\"\", G11<>\"\", H11<>\"\"), 1, 0)","v":0}]
[{"$nulls":3},"Other\nResources","Resource\n(Example:  Case Management Team)",null,"Category\r\n","Number Required\n",{"$nulls":5},1]
[{"$nulls":12},1,{"$f":"IF(OR(E13<>\"\", H13<>\"\"), 1, 0)","v":0},{"$f":"IF(AND(E13<>\"\", H13<>\"\"), 1, 0)","v":0}]
[{"$nulls":12},{"$f":"M13+1","v":2},{"$f":"IF(OR(E14<>\"\", H14<>\"\"), 1, 0)","v":0},{"$f":"IF(AND(E14<>\"\", H14<>\"\"), 1, 0)","v":0}]
[{"$nulls":12},{"$f":"M14+1","v":3},{"$f":"IF(OR(E15<>\"\", H15<>\"\"), 1, 0)","v":0},{"$f":"IF(AND(E15<>\"\", H15<>\"\"), 1, 0)","v":0}]
[{"$nulls":12},{"$f":"M15+1","v":4},{"$f":"IF(OR(E16<>\"\", H16<>\"\"), 1, 0)","v":0},{"$f":"IF(AND(E16<>\"\", H16<>\"\"), 1, 0)","v":0}]
{"$rows_empty":10}
[{"$nulls":3},"Journal Notes/Comments (optional)",{"$nulls":5},0]

{"sheet":"SPR #18 Envir Resp Health","index":43,"n_rows":56,"n_cols":20,"rows_kept":56,"hidden":true,"merged":[[2,3,2,7],[3,3,3,7],[5,3,5,7],[7,3,7,7],[8,4,8,7],[9,4,9,7],[10,4,10,7],[12,3,14,3],[14,4,14,7],[16,3,18,3],[18,4,18,7],[20,3,22,3],[22,4,22,7],[24,3,26,3],[26,4,26,7],[28,3,30,3],[30,4,30,7],[32,3,32,7],[33,3,33,7],[36,3,36,7],[43,3,43,7],[44,3,48,3],[49,3,53,3],[49,4,49,5],[50,4,50,5],[51,4,51,5],[52,4,52,5],[53,4,53,5],[55,3,55,7]]}
[21]
[18]
[{"$f":"MAX(B:B)","v":1},null,null,"Capability Target"]
[null,{"$f":"ROW()-3","v":1},null,{"$f":"INDIRECT(\"'THIRA Steps 1-3'!$C$2769\")","v":"Click here to enter capability targets"}]
[]
[{"$nulls":3},"Capability Assessment"]
[]
[{"$nulls":3},"Priority"]
[{"$nulls":4},"Relative to the other core capabilities, efforts to build and/or sustain this core capability are of high importance to my jurisdiction’s preparedness activities.",{"$nulls":10},0]
[{"$nulls":4},"Relative to the other core capabilities, efforts to build and/or sustain this core capability are of medium importance to my jurisdiction’s preparedness activities."]
[{"$nulls":4},"Relative to the other core capabilities, efforts to build and/or sustain this core capability are of low importance to my jurisdiction’s preparedness activities."]
[]
[{"$nulls":3},"Planning","Rating\nInternal Capability","Rating (optional)\nInternal Capability + Mutual Aid","Gap Description (optional)","Recent Advances (optional)"]
[{"$nulls":4},{"$f":"LOOKUP(P14, Lists!$C$2:$C$8, Lists!D2:D8)","v":"No selection made"},{"$f":"LOOKUP(Q14, Lists!$C$2:$C$8, Lists!D2:D8)","v":"No selection made"},{"$nulls":9},1,1,{"$f":"COUNTIF(I15:AC15, \"TRUE\")","v":0},0,0]
[{"$nulls":4},"Into which functional area(s) does your community's planning gaps fall?",{"$nulls":3},false,false,false,false,false,false,false,false,false]
[]
[{"$nulls":3},"Organization","Rating\nInternal Capability","Rating (optional)\nInternal Capability + Mutual Aid","Gap Description (optional)","Recent Advances (optional)"]
[{"$nulls":4},{"$f":"LOOKUP(P18, Lists!$C$2:$C$8, Lists!E2:E8)","v":"No selection made"},{"$f":"LOOKUP(Q18, Lists!$C$2:$C$8, Lists!E2:E8)","v":"No selection made"},{"$nulls":9},1,1,{"$f":"COUNTIF(I19:AC19, \"TRUE\")","v":0},null,0]
[{"$nulls":4},"Into which functional area(s) does your community's organizational gaps fall?",{"$nulls":10},false]
[]
[{"$nulls":3},"Equipment","Rating\nInternal Capability","Rating (optional)\nInternal Capability + Mutual Aid","Gap Description (optional)","Recent Advances (optional)",{"$nulls":7},1,1]
[{"$nulls":4},{"$f":"LOOKUP(P22, Lists!$C$2:$C$8, Lists!F2:F8)","v":"No selection made"},{"$f":"LOOKUP(Q22, Lists!$C$2:$C$8, Lists!F2:F8)","v":"No selection made"},{"$nulls":9},1,1,{"$f":"COUNTIF(I23:AC23, \"TRUE\")","v":0},null,0]
[{"$nulls":4},"Into which functional area(s) does your community's equipment gaps fall?",{"$nulls":10},false]
[]
[{"$nulls":3},"Training","Rating\nInternal Capability","Rating (optional)\nInternal Capability + Mutual Aid","Gap Description (optional)","Recent Advances (optional)",{"$nulls":7},1,1]
[{"$nulls":4},{"$f":"LOOKUP(P26, Lists!$C$2:$C$8, Lists!G2:G8)","v":"No selection made"},{"$f":"LOOKUP(Q26, Lists!$C$2:$C$8, Lists!G2:G8)","v":"No selection made"},{"$nulls":9},1,1,{"$f":"COUNTIF(I27:AC27, \"TRUE\")","v":0},0,0]
[{"$nulls":4},"Into which functional area(s) does your community's training gaps fall?",{"$nulls":3},false,false,false,false,false,false,false,false,false,false,false]
[]
[{"$nulls":3},"Exercises","Rating\nInternal Capability","Rating (optional)\nInternal Capability + Mutual Aid","Gap Description (optional)","Recent Advances (optional)",{"$nulls":7},1,1]
[{"$nulls":4},{"$f":"LOOKUP(P30, Lists!$C$2:$C$8, Lists!H2:H8)","v":"No selection made"},{"$f":"LOOKUP(Q30, Lists!$C$2:$C$8, Lists!H2:H8)","v":"No selection made"},{"$nulls":9},1,1,{"$f":"COUNTIF(I31:AC31, \"TRUE\")","v":0},0,0]
[{"$nulls":4},"Into which functional area(s) does your community's exercise gaps fall?",{"$nulls":3},false,false,false,false,false,false,false,false]
[]
[{"$nulls":3},"Assessment Corroboration"]
[{"$nulls":8},{"$f":"IF(M34=TRUE, \"TRUE\", (IF(AND(K34=TRUE, N34=1), \"TRUE\", (IF(AND(L34= TRUE, N34=1), \"TRUE\")))))","v":false},{"$f":"COUNTIF(K34:M34, \"TRUE\")","v":0},false,false,false,0]
[]
[]
[{"$nulls":3},"Responsibility for Filling Gap",{"$nulls":11},0]
[{"$nulls":15},0]
[]
[]
[]
[]
[]
[{"$nulls":3},"Resource Requirements",{"$nulls":5},"NIMS",4]
[{"$nulls":3},"NIMS-typed Resources","Category","Resource","Type","Number Available",null,"Other",4]
[{"$nulls":4},{"$f":"'THIRA #18 Envir Resp Health'!E8","v":0},{"$f":"'THIRA #18 Envir Resp Health'!F8","v":0},{"$f":"'THIRA #18 Envir Resp Health'!G8","v":0}]
[{"$nulls":4},{"$f":"'THIRA #18 Envir Resp Health'!E9","v":0},{"$f":"'THIRA #18 Envir Resp Health'!F9","v":0},{"$f":"'THIRA #18 Envir Resp Health'!G9","v":0}]
[{"$nulls":4},{"$f":"'THIRA #18 Envir Resp Health'!E10","v":0},{"$f":"'THIRA #18 Envir Resp Health'!F10","v":0},{"$f":"'THIRA #18 Envir Resp Health'!G10","v":0}]
[{"$nulls":4},{"$f":"'THIRA #18 Envir Resp Health'!E11","v":0},{"$f":"'THIRA #18 Envir Resp Health'!F11","v":0},{"$f":"'THIRA #18 Envir Resp Health'!G11","v":0}]
[{"$nulls":3},"Other\nResources","Resource\n(Example:  Case Management Team)",null,"Category\n","Number Available\n"]
[{"$nulls":4},{"$f":"'THIRA #18 Envir Resp Health'!E13","v":0},null,{"$f":"'THIRA #18 Envir Resp Health'!G13","v":0}]
[{"$nulls":4},{"$f":"'THIRA #18 Envir Resp Health'!E14","v":0},null,{"$f":"'THIRA #18 Envir Resp Health'!G14","v":0}]
[{"$nulls":4},{"$f":"'THIRA #18 Envir Resp Health'!E15","v":0},null,{"$f":"'THIRA #18 Envir Resp Health'!G15","v":0}]
[{"$nulls":4},{"$f":"'THIRA #18 Envir Resp Health'!E16","v":0},null,{"$f":"'THIRA #18 Envir Resp Health'!G16","v":0}]
[]
[{"$nulls":3},"Journal Notes/Comments (optional)",{"$nulls":11},0]

{"sheet":"THIRA #19 Fatality Mgmt","index":44,"n_rows":27,"n_cols":20,"rows_kept":27,"hidden":true,"merged":[[2,3,2,7],[3,3,3,7],[3,13,3,14],[5,3,5,7],[6,3,10,3],[11,3,15,3],[11,4,11,5],[12,4,12,5],[13,4,13,5],[14,4,14,5],[15,4,15,5],[26,3,26,7]]}
[21,{"$nulls":17},"# Other Rows Filled",{"$f":"IF(COUNTIF(N$1:N803,1),MATCH(800,INDEX(1/(N$1:N803=1),0)),\"\")-(T3+8)","v":0}]
[{"$nulls":18},"# NIMS rows filled",{"$f":"IF(COUNTIF(K$1:K800,1),MATCH(800,INDEX(1/(K$1:K800=1),0)),\"\")-7","v":0}]
[{"$f":"MAX(B:B)","v":1},null,null,"Capability Target",{"$nulls":14},"# NIMS Rows",{"$f":"MAX(J:J)","v":4}]
[null,{"$f":"ROW()-3","v":1},null,{"$f":"INDIRECT(\"'THIRA Steps 1-3'!$C$2857\")","v":"Click here to enter capability targets"},{"$nulls":14},"# NIMS Started",{"$f":"SUM(K:K)-1","v":0}]
[{"$nulls":18},"# NIMS Complete",{"$f":"SUM(L:L)","v":0}]
[{"$nulls":3},"Resource Requirements",{"$nulls":14},"# Other Rows",{"$f":"MAX(M:M)","v":4}]
[{"$nulls":3},"NIMS-typed Resources","Category","Resource","Type","Number Required",null,null,1,{"$nulls":7},"# Other Rows",{"$f":"SUM(N:N)-1","v":0}]
[{"$f":"LOOKUP(E8,'NIMS Resources'!B$4:B$12,'NIMS Resources'!C$4:C$12)","v":{"$error":"#N/A"}},null,{"$f":"VLOOKUP(F8, INDIRECT(\"'NIMS Resources'!$G$4:$J$\" & 366), 4, FALSE)","v":{"$error":"#N/A"}},{"$nulls":6},1,{"$f":"IF(OR(E8<>\"\", F8<>\"\", G8<>\"\", H8<>\"\"), 1, 0)","v":0},{"$f":"IF(AND(E8<>\"\", F8<>\"\", G8<>\"\", H8<>\"\"), 1, 0)","v":0},{"$nulls":6},"# Other",{"$f":"SUM(O:O)","v":0}]
[{"$f":"LOOKUP(E9,'NIMS Resources'!B$4:B$12,'NIMS Resources'!C$4:C$12)","v":{"$error":"#N/A"}},null,{"$f":"VLOOKUP(F9, INDIRECT(\"'NIMS Resources'!$G$4:$J$\" & 366), 4, FALSE)","v":{"$error":"#N/A"}},{"$nulls":6},{"$f":"J8+1","v":2},{"$f":"IF(OR(E9<>\"\", F9<>\"\", G9<>\"\", H9<>\"\"), 1, 0)","v":0},{"$f":"IF(AND(E9<>\"\", F9<>\"\", G9<>\"\", H9<>\"\"), 1, 0)","v":0}]
[{"$f":"LOOKUP(E10,'NIMS Resources'!B$4:B$12,'NIMS Resources'!C$4:C$12)","v":{"$error":"#N/A"}},null,{"$error":"#N/A"},{"$nulls":6},{"$f":"J9+1","v":3},{"$f":"IF(OR(E10<>\"\", F10<>\"\", G10<>\"\", H10<>\"\"), 1, 0)","v":0},{"$f":"IF(AND(E10<>\"\", F10<>\"\", G10<>\"\", H10<>\"\"), 1, 0)","v":0}]
[{"$f":"LOOKUP(E11,'NIMS Resources'!B$4:B$12,'NIMS Resources'!C$4:C$12)","v":{"$error":"#N/A"}},null,{"$error":"#N/A"},{"$nulls":6},{"$f":"J10+1","v":4},{"$f":"IF(OR(E11<>\"\", F11<>\"\", G11<>\"\", H11<>\"\"), 1, 0)","v":0},{"$f":"IF(AND(E11<>\"\", F11<>\"\", G11<>\"\", H11<>\"\"), 1, 0)","v":0}]
[{"$nulls":3},"Other\nResources","Resource\n(Example:  Case Management Team)",null,"Category\r\n","Number Required\n",{"$nulls":5},1]
[{"$nulls":12},1,{"$f":"IF(OR(E13<>\"\", H13<>\"\"), 1, 0)","v":0},{"$f":"IF(AND(E13<>\"\", H13<>\"\"), 1, 0)","v":0}]
[{"$nulls":12},{"$f":"M13+1","v":2},{"$f":"IF(OR(E14<>\"\", H14<>\"\"), 1, 0)","v":0},{"$f":"IF(AND(E14<>\"\", H14<>\"\"), 1, 0)","v":0}]
[{"$nulls":12},{"$f":"M14+1","v":3},{"$f":"IF(OR(E15<>\"\", H15<>\"\"), 1, 0)","v":0},{"$f":"IF(AND(E15<>\"\", H15<>\"\"), 1, 0)","v":0}]
[{"$nulls":12},{"$f":"M15+1","v":4},{"$f":"IF(OR(E16<>\"\", H16<>\"\"), 1, 0)","v":0},{"$f":"IF(AND(E16<>\"\", H16<>\"\"), 1, 0)","v":0}]
{"$rows_empty":10}
[{"$nulls":3},"Journal Notes/Comments (optional)",{"$nulls":5},0]

{"sheet":"SPR #19 Fatality Mgmt","index":45,"n_rows":56,"n_cols":20,"rows_kept":56,"hidden":true,"merged":[[2,3,2,7],[3,3,3,7],[5,3,5,7],[7,3,7,7],[8,4,8,7],[9,4,9,7],[10,4,10,7],[12,3,14,3],[14,4,14,7],[16,3,18,3],[18,4,18,7],[20,3,22,3],[22,4,22,7],[24,3,26,3],[26,4,26,7],[28,3,30,3],[30,4,30,7],[32,3,32,7],[33,3,33,7],[36,3,36,7],[43,3,43,7],[44,3,48,3],[49,3,53,3],[49,4,49,5],[50,4,50,5],[51,4,51,5],[52,4,52,5],[53,4,53,5],[55,3,55,7]]}
[21]
[19]
[{"$f":"MAX(B:B)","v":1},null,null,"Capability Target"]
[null,{"$f":"ROW()-3","v":1},null,{"$f":"INDIRECT(\"'THIRA Steps 1-3'!$C$2857\")","v":"Click here to enter capability targets"}]
[]
[{"$nulls":3},"Capability Assessment"]
[]
[{"$nulls":3},"Priority"]
[{"$nulls":4},"Relative to the other core capabilities, efforts to build and/or sustain this core capability are of high importance to my jurisdiction’s preparedness activities.",{"$nulls":10},0]
[{"$nulls":4},"Relative to the other core capabilities, efforts to build and/or sustain this core capability are of medium importance to my jurisdiction’s preparedness activities."]
[{"$nulls":4},"Relative to the other core capabilities, efforts to build and/or sustain this core capability are of low importance to my jurisdiction’s preparedness activities."]
[]
[{"$nulls":3},"Planning","Rating\nInternal Capability","Rating (optional)\nInternal Capability + Mutual Aid","Gap Description (optional)","Recent Advances (optional)"]
[{"$nulls":4},{"$f":"LOOKUP(P14, Lists!$C$2:$C$8, Lists!D2:D8)","v":"No selection made"},{"$f":"LOOKUP(Q14, Lists!$C$2:$C$8, Lists!D2:D8)","v":"No selection made"},{"$nulls":9},1,1,{"$f":"COUNTIF(I15:AC15, \"TRUE\")","v":0},0,0]
[{"$nulls":4},"Into which functional area(s) does your community's planning gaps fall?",{"$nulls":3},false,false,false,false,false,false,false,false,false]
[]
[{"$nulls":3},"Organization","Rating\nInternal Capability","Rating (optional)\nInternal Capability + Mutual Aid","Gap Description (optional)","Recent Advances (optional)"]
[{"$nulls":4},{"$f":"LOOKUP(P18, Lists!$C$2:$C$8, Lists!E2:E8)","v":"No selection made"},{"$f":"LOOKUP(Q18, Lists!$C$2:$C$8, Lists!E2:E8)","v":"No selection made"},{"$nulls":9},1,1,{"$f":"COUNTIF(I19:AC19, \"TRUE\")","v":0},null,0]
[{"$nulls":4},"Into which functional area(s) does your community's organizational gaps fall?",{"$nulls":4},false,null,null,false,false]
[]
[{"$nulls":3},"Equipment","Rating\nInternal Capability","Rating (optional)\nInternal Capability + Mutual Aid","Gap Description (optional)","Recent Advances (optional)",{"$nulls":7},1,1]
[{"$nulls":4},{"$f":"LOOKUP(P22, Lists!$C$2:$C$8, Lists!F2:F8)","v":"No selection made"},{"$f":"LOOKUP(Q22, Lists!$C$2:$C$8, Lists!F2:F8)","v":"No selection made"},{"$nulls":9},1,1,{"$f":"COUNTIF(I23:AC23, \"TRUE\")","v":0},null,0]
[{"$nulls":4},"Into which functional area(s) does your community's equipment gaps fall?",{"$nulls":4},false,{"$nulls":3},false]
[]
[{"$nulls":3},"Training","Rating\nInternal Capability","Rating (optional)\nInternal Capability + Mutual Aid","Gap Description (optional)","Recent Advances (optional)",{"$nulls":7},1,1]
[{"$nulls":4},{"$f":"LOOKUP(P26, Lists!$C$2:$C$8, Lists!G2:G8)","v":"No selection made"},{"$f":"LOOKUP(Q26, Lists!$C$2:$C$8, Lists!G2:G8)","v":"No selection made"},{"$nulls":9},1,1,{"$f":"COUNTIF(I27:AC27, \"TRUE\")","v":0},0,0]
[{"$nulls":4},"Into which functional area(s) does your community's training gaps fall?",{"$nulls":3},false,false,false,false,false,false,false,false,false,false,false]
[]
[{"$nulls":3},"Exercises","Rating\nInternal Capability","Rating (optional)\nInternal Capability + Mutual Aid","Gap Description (optional)","Recent Advances (optional)",{"$nulls":7},1,1]
[{"$nulls":4},{"$f":"LOOKUP(P30, Lists!$C$2:$C$8, Lists!H2:H8)","v":"No selection made"},{"$f":"LOOKUP(Q30, Lists!$C$2:$C$8, Lists!H2:H8)","v":"No selection made"},{"$nulls":9},1,1,{"$f":"COUNTIF(I31:AC31, \"TRUE\")","v":0},0,0]
[{"$nulls":4},"Into which functional area(s) does your community's exercise gaps fall?",{"$nulls":3},false,false,false,false,false,false,false,false]
[]
[{"$nulls":3},"Assessment Corroboration"]
[{"$nulls":8},{"$f":"IF(M34=TRUE, \"TRUE\", (IF(AND(K34=TRUE, N34=1), \"TRUE\", (IF(AND(L34= TRUE, N34=1), \"TRUE\")))))","v":false},{"$f":"COUNTIF(K34:M34, \"TRUE\")","v":0},false,false,false,0]
[]
[]
[{"$nulls":3},"Responsibility for Filling Gap",{"$nulls":11},0]
[{"$nulls":15},0]
[]
[]
[]
[]
[]
[{"$nulls":3},"Resource Requirements",{"$nulls":5},"NIMS",4]
[{"$nulls":3},"NIMS-typed Resources","Category","Resource","Type","Number Available",null,"Other",4]
[{"$nulls":4},{"$f":"'THIRA #19 Fatality Mgmt'!E8","v":0},{"$f":"'THIRA #19 Fatality Mgmt'!F8","v":0},{"$f":"'THIRA #19 Fatality Mgmt'!G8","v":0}]
[{"$nulls":4},{"$f":"'THIRA #19 Fatality Mgmt'!E9","v":0},{"$f":"'THIRA #19 Fatality Mgmt'!F9","v":0},{"$f":"'THIRA #19 Fatality Mgmt'!G9","v":0}]
[{"$nulls":4},{"$f":"'THIRA #19 Fatality Mgmt'!E10","v":0},{"$f":"'THIRA #19 Fatality Mgmt'!F10","v":0},{"$f":"'THIRA #19 Fatality Mgmt'!G10","v":0}]
[{"$nulls":4},{"$f":"'THIRA #19 Fatality Mgmt'!E11","v":0},{"$f":"'THIRA #19 Fatality Mgmt'!F11","v":0},{"$f":"'THIRA #19 Fatality Mgmt'!G11","v":0}]
[{"$nulls":3},"Other\nResources","Resource\n(Example:  Case Management Team)",null,"Category\n","Number Available\n"]
[{"$nulls":4},{"$f":"'THIRA #19 Fatality Mgmt'!E13","v":0},null,{"$f":"'THIRA #19 Fatality Mgmt'!G13","v":0}]
[{"$nulls":4},{"$f":"'THIRA #19 Fatality Mgmt'!E14","v":0},null,{"$f":"'THIRA #19 Fatality Mgmt'!G14","v":0}]
[{"$nulls":4},{"$f":"'THIRA #19 Fatality Mgmt'!E15","v":0},null,{"$f":"'THIRA #19 Fatality Mgmt'!G15","v":0}]
[{"$nulls":4},{"$f":"'THIRA #19 Fatality Mgmt'!E16","v":0},null,{"$f":"'THIRA #19 Fatality Mgmt'!G16","v":0}]
[]
[{"$nulls":3},"Journal Notes/Comments (optional)",{"$nulls":11},0]

{"sheet":"THIRA #20 Infrastructure Sys","index":46,"n_rows":27,"n_cols":20,"rows_kept":27,"hidden":true,"merged":[[2,3,2,7],[3,3,3,7],[3,13,3,14],[5,3,5,7],[6,3,10,3],[11,3,15,3],[11,4,11,5],[12,4,12,5],[13,4,13,5],[14,4,14,5],[15,4,15,5],[26,3,26,7]]}
[21,{"$nulls":17},"# Other Rows Filled",{"$f":"IF(COUNTIF(N$1:N803,1),MATCH(800,INDEX(1/(N$1:N803=1),0)),\"\")-(T3+8)","v":0}]
[{"$nulls":18},"# NIMS rows filled",{"$f":"IF(COUNTIF(K$1:K800,1),MATCH(800,INDEX(1/(K$1:K800=1),0)),\"\")-7","v":0}]
[{"$f":"MAX(B:B)","v":1},null,null,"Capability Target",{"$nulls":14},"# NIMS Rows",{"$f":"MAX(J:J)","v":4}]
[null,{"$f":"ROW()-3","v":1},null,{"$f":"INDIRECT(\"'THIRA Steps 1-3'!$C$2945\")","v":"Click here to enter capability targets"},{"$nulls":14},"# NIMS Started",{"$f":"SUM(K:K)-1","v":0}]
[{"$nulls":18},"# NIMS Complete",{"$f":"SUM(L:L)","v":0}]
[{"$nulls":3},"Resource Requirements",{"$nulls":14},"# Other Rows",{"$f":"MAX(M:M)","v":4}]
[{"$nulls":3},"NIMS-typed Resources","Category","Resource","Type","Number Required",null,null,1,{"$nulls":7},"# Other Rows",{"$f":"SUM(N:N)-1","v":0}]
[{"$f":"LOOKUP(E8,'NIMS Resources'!B$4:B$12,'NIMS Resources'!C$4:C$12)","v":{"$error":"#N/A"}},null,{"$f":"VLOOKUP(F8, INDIRECT(\"'NIMS Resources'!$G$4:$J$\" & 366), 4, FALSE)","v":{"$error":"#N/A"}},{"$nulls":6},1,{"$f":"IF(OR(E8<>\"\", F8<>\"\", G8<>\"\", H8<>\"\"), 1, 0)","v":0},{"$f":"IF(AND(E8<>\"\", F8<>\"\", G8<>\"\", H8<>\"\"), 1, 0)","v":0},{"$nulls":6},"# Other",{"$f":"SUM(O:O)","v":0}]
[{"$f":"LOOKUP(E9,'NIMS Resources'!B$4:B$12,'NIMS Resources'!C$4:C$12)","v":{"$error":"#N/A"}},null,{"$f":"VLOOKUP(F9, INDIRECT(\"'NIMS Resources'!$G$4:$J$\" & 366), 4, FALSE)","v":{"$error":"#N/A"}},{"$nulls":6},{"$f":"J8+1","v":2},{"$f":"IF(OR(E9<>\"\", F9<>\"\", G9<>\"\", H9<>\"\"), 1, 0)","v":0},{"$f":"IF(AND(E9<>\"\", F9<>\"\", G9<>\"\", H9<>\"\"), 1, 0)","v":0}]
[{"$f":"LOOKUP(E10,'NIMS Resources'!B$4:B$12,'NIMS Resources'!C$4:C$12)","v":{"$error":"#N/A"}},null,{"$error":"#N/A"},{"$nulls":6},{"$f":"J9+1","v":3},{"$f":"IF(OR(E10<>\"\", F10<>\"\", G10<>\"\", H10<>\"\"), 1, 0)","v":0},{"$f":"IF(AND(E10<>\"\", F10<>\"\", G10<>\"\", H10<>\"\"), 1, 0)","v":0}]
[{"$f":"LOOKUP(E11,'NIMS Resources'!B$4:B$12,'NIMS Resources'!C$4:C$12)","v":{"$error":"#N/A"}},null,{"$error":"#N/A"},{"$nulls":6},{"$f":"J10+1","v":4},{"$f":"IF(OR(E11<>\"\", F11<>\"\", G11<>\"\", H11<>\"\"), 1, 0)","v":0},{"$f":"IF(AND(E11<>\"\", F11<>\"\", G11<>\"\", H11<>\"\"), 1, 0)","v":0}]
[{"$nulls":3},"Other\nResources","Resource\n(Example:  Case Management Team)",null,"Category\r\n","Number Required\n",{"$nulls":5},1]
[{"$nulls":12},1,{"$f":"IF(OR(E13<>\"\", H13<>\"\"), 1, 0)","v":0},{"$f":"IF(AND(E13<>\"\", H13<>\"\"), 1, 0)","v":0}]
[{"$nulls":12},{"$f":"M13+1","v":2},{"$f":"IF(OR(E14<>\"\", H14<>\"\"), 1, 0)","v":0},{"$f":"IF(AND(E14<>\"\", H14<>\"\"), 1, 0)","v":0}]
[{"$nulls":12},{"$f":"M14+1","v":3},{"$f":"IF(OR(E15<>\"\", H15<>\"\"), 1, 0)","v":0},{"$f":"IF(AND(E15<>\"\", H15<>\"\"), 1, 0)","v":0}]
[{"$nulls":12},{"$f":"M15+1","v":4},{"$f":"IF(OR(E16<>\"\", H16<>\"\"), 1, 0)","v":0},{"$f":"IF(AND(E16<>\"\", H16<>\"\"), 1, 0)","v":0}]
{"$rows_empty":10}
[{"$nulls":3},"Journal Notes/Comments (optional)",{"$nulls":5},0]

{"sheet":"SPR #20 Infrastructure Sys","index":47,"n_rows":56,"n_cols":22,"rows_kept":56,"hidden":true,"merged":[[2,3,2,7],[3,3,3,7],[5,3,5,7],[7,3,7,7],[8,4,8,7],[9,4,9,7],[10,4,10,7],[12,3,14,3],[14,4,14,7],[16,3,18,3],[18,4,18,7],[20,3,22,3],[22,4,22,7],[24,3,26,3],[26,4,26,7],[28,3,30,3],[30,4,30,7],[32,3,32,7],[33,3,33,7],[36,3,36,7],[43,3,43,7],[44,3,48,3],[49,3,53,3],[49,4,49,5],[50,4,50,5],[51,4,51,5],[52,4,52,5],[53,4,53,5],[55,3,55,7]]}
[21]
[20]
[{"$f":"MAX(B:B)","v":1},null,null,"Capability Target"]
[null,{"$f":"ROW()-3","v":1},null,{"$f":"INDIRECT(\"'THIRA Steps 1-3'!$C$2945\")","v":"Click here to enter capability targets"}]
[]
[{"$nulls":3},"Capability Assessment"]
[]
[{"$nulls":3},"Priority"]
[{"$nulls":4},"Relative to the other core capabilities, efforts to build and/or sustain this core capability are of high importance to my jurisdiction’s preparedness activities.",{"$nulls":10},0]
[{"$nulls":4},"Relative to the other core capabilities, efforts to build and/or sustain this core capability are of medium importance to my jurisdiction’s preparedness activities."]
[{"$nulls":4},"Relative to the other core capabilities, efforts to build and/or sustain this core capability are of low importance to my jurisdiction’s preparedness activities."]
[]
[{"$nulls":3},"Planning","Rating\nInternal Capability","Rating (optional)\nInternal Capability + Mutual Aid","Gap Description (optional)","Recent Advances (optional)"]
[{"$nulls":4},{"$f":"LOOKUP(P14, Lists!$C$2:$C$8, Lists!D2:D8)","v":"No selection made"},{"$f":"LOOKUP(Q14, Lists!$C$2:$C$8, Lists!D2:D8)","v":"No selection made"},{"$nulls":9},1,1,{"$f":"COUNTIF(I15:AC15, \"TRUE\")","v":0},0,0]
[{"$nulls":4},"Into which functional area(s) does your community's planning gaps fall?",{"$nulls":3},false,false,false,false,false,false,false,false,false,{"$nulls":4},false]
[]
[{"$nulls":3},"Organization","Rating\nInternal Capability","Rating (optional)\nInternal Capability + Mutual Aid","Gap Description (optional)","Recent Advances (optional)"]
[{"$nulls":4},{"$f":"LOOKUP(P18, Lists!$C$2:$C$8, Lists!E2:E8)","v":"No selection made"},{"$f":"LOOKUP(Q18, Lists!$C$2:$C$8, Lists!E2:E8)","v":"No selection made"},{"$nulls":9},1,1,{"$f":"COUNTIF(I19:AC19, \"TRUE\")","v":0},null,0]
[{"$nulls":4},"Into which functional area(s) does your community's organizational gaps fall?",{"$nulls":4},false,false,null,false,false,null,false,false,null,false,false,null,false]
[]
[{"$nulls":3},"Equipment","Rating\nInternal Capability","Rating (optional)\nInternal Capability + Mutual Aid","Gap Description (optional)","Recent Advances (optional)",{"$nulls":7},1,1]
[{"$nulls":4},{"$f":"LOOKUP(P22, Lists!$C$2:$C$8, Lists!F2:F8)","v":"No selection made"},{"$f":"LOOKUP(Q22, Lists!$C$2:$C$8, Lists!F2:F8)","v":"No selection made"},{"$nulls":9},1,1,{"$f":"COUNTIF(I23:AC23, \"TRUE\")","v":0},null,0]
[{"$nulls":4},"Into which functional area(s) does your community's equipment gaps fall?",{"$nulls":16},false]
[]
[{"$nulls":3},"Training","Rating\nInternal Capability","Rating (optional)\nInternal Capability + Mutual Aid","Gap Description (optional)","Recent Advances (optional)",{"$nulls":7},1,1]
[{"$nulls":4},{"$f":"LOOKUP(P26, Lists!$C$2:$C$8, Lists!G2:G8)","v":"No selection made"},{"$f":"LOOKUP(Q26, Lists!$C$2:$C$8, Lists!G2:G8)","v":"No selection made"},{"$nulls":9},1,1,{"$f":"COUNTIF(I27:AC27, \"TRUE\")","v":0},0,0]
[{"$nulls":4},"Into which functional area(s) does your community's training gaps fall?",{"$nulls":3},false,false,false,false,false,false,false,false,false,false,false,null,null,false]
[]
[{"$nulls":3},"Exercises","Rating\nInternal Capability","Rating (optional)\nInternal Capability + Mutual Aid","Gap Description (optional)","Recent Advances (optional)",{"$nulls":7},1,1]
[{"$nulls":4},{"$f":"LOOKUP(P30, Lists!$C$2:$C$8, Lists!H2:H8)","v":"No selection made"},{"$f":"LOOKUP(Q30, Lists!$C$2:$C$8, Lists!H2:H8)","v":"No selection made"},{"$nulls":9},1,1,{"$f":"COUNTIF(I31:AC31, \"TRUE\")","v":0},0,0]
[{"$nulls":4},"Into which functional area(s) does your community's exercise gaps fall?",{"$nulls":3},false,false,false,false,false,false,false,false,null,null,false,false,null,false]
[]
[{"$nulls":3},"Assessment Corroboration"]
[{"$nulls":8},{"$f":"IF(M34=TRUE, \"TRUE\", (IF(AND(K34=TRUE, N34=1), \"TRUE\", (IF(AND(L34= TRUE, N34=1), \"TRUE\")))))","v":false},{"$f":"COUNTIF(K34:M34, \"TRUE\")","v":0},false,false,false,0]
[]
[]
[{"$nulls":3},"Responsibility for Filling Gap",{"$nulls":11},0]
[{"$nulls":15},0]
[]
[]
[]
[]
[]
[{"$nulls":3},"Resource Requirements",{"$nulls":5},"NIMS",4]
[{"$nulls":3},"NIMS-typed Resources","Category","Resource","Type","Number Available",null,"Other",4]
[{"$nulls":4},{"$f":"'THIRA #20 Infrastructure Sys'!E8","v":0},{"$f":"'THIRA #20 Infrastructure Sys'!F8","v":0},{"$f":"'THIRA #20 Infrastructure Sys'!G8","v":0}]
[{"$nulls":4},{"$f":"'THIRA #20 Infrastructure Sys'!E9","v":0},{"$f":"'THIRA #20 Infrastructure Sys'!F9","v":0},{"$f":"'THIRA #20 Infrastructure Sys'!G9","v":0}]
[{"$nulls":4},{"$f":"'THIRA #20 Infrastructure Sys'!E10","v":0},{"$f":"'THIRA #20 Infrastructure Sys'!F10","v":0},{"$f":"'THIRA #20 Infrastructure Sys'!G10","v":0}]
[{"$nulls":4},{"$f":"'THIRA #20 Infrastructure Sys'!E11","v":0},{"$f":"'THIRA #20 Infrastructure Sys'!F11","v":0},{"$f":"'THIRA #20 Infrastructure Sys'!G11","v":0}]
[{"$nulls":3},"Other\nResources","Resource\n(Example:  Case Management Team)",null,"Category\n","Number Available\n"]
[{"$nulls":4},{"$f":"'THIRA #20 Infrastructure Sys'!E13","v":0},null,{"$f":"'THIRA #20 Infrastructure Sys'!G13","v":0}]
[{"$nulls":4},{"$f":"'THIRA #20 Infrastructure Sys'!E14","v":0},null,{"$f":"'THIRA #20 Infrastructure Sys'!G14","v":0}]
[{"$nulls":4},{"$f":"'THIRA #20 Infrastructure Sys'!E15","v":0},null,{"$f":"'THIRA #20 Infrastructure Sys'!G15","v":0}]
[{"$nulls":4},{"$f":"'THIRA #20 Infrastructure Sys'!E16","v":0},null,{"$f":"'THIRA #20 Infrastructure Sys'!G16","v":0}]
[]
[{"$nulls":3},"Journal Notes/Comments (optional)",{"$nulls":11},0]

{"sheet":"THIRA #21 Mass Care","index":48,"n_rows":27,"n_cols":20,"rows_kept":27,"hidden":true,"merged":[[2,3,2,7],[3,3,3,7],[3,13,3,14],[5,3,5,7],[6,3,10,3],[11,3,15,3],[11,4,11,5],[12,4,12,5],[13,4,13,5],[14,4,14,5],[15,4,15,5],[26,3,26,7]]}
[21,{"$nulls":17},"# Other Rows Filled",{"$f":"IF(COUNTIF(N$1:N803,1),MATCH(800,INDEX(1/(N$1:N803=1),0)),\"\")-(T3+8)","v":0}]
[{"$nulls":18},"# NIMS rows filled",{"$f":"IF(COUNTIF(K$1:K800,1),MATCH(800,INDEX(1/(K$1:K800=1),0)),\"\")-7","v":0}]
[{"$f":"MAX(B:B)","v":1},null,null,"Capability Target",{"$nulls":14},"# NIMS Rows",{"$f":"MAX(J:J)","v":4}]
[null,{"$f":"ROW()-3","v":1},null,{"$f":"INDIRECT(\"'THIRA Steps 1-3'!$C$3117\")","v":"Click here to enter capability targets"},{"$nulls":14},"# NIMS Started",{"$f":"SUM(K:K)-1","v":0}]
[{"$nulls":18},"# NIMS Complete",{"$f":"SUM(L:L)","v":0}]
[{"$nulls":3},"Resource Requirements",{"$nulls":14},"# Other Rows",{"$f":"MAX(M:M)","v":4}]
[{"$nulls":3},"NIMS-typed Resources","Category","Resource","Type","Number Required",null,null,1,{"$nulls":7},"# Other Rows",{"$f":"SUM(N:N)-1","v":0}]
[{"$f":"LOOKUP(E8,'NIMS Resources'!B$4:B$12,'NIMS Resources'!C$4:C$12)","v":{"$error":"#N/A"}},null,{"$f":"VLOOKUP(F8, INDIRECT(\"'NIMS Resources'!$G$4:$J$\" & 366), 4, FALSE)","v":{"$error":"#N/A"}},{"$nulls":6},1,{"$f":"IF(OR(E8<>\"\", F8<>\"\", G8<>\"\", H8<>\"\"), 1, 0)","v":0},{"$f":"IF(AND(E8<>\"\", F8<>\"\", G8<>\"\", H8<>\"\"), 1, 0)","v":0},{"$nulls":6},"# Other",{"$f":"SUM(O:O)","v":0}]
[{"$f":"LOOKUP(E9,'NIMS Resources'!B$4:B$12,'NIMS Resources'!C$4:C$12)","v":{"$error":"#N/A"}},null,{"$f":"VLOOKUP(F9, INDIRECT(\"'NIMS Resources'!$G$4:$J$\" & 366), 4, FALSE)","v":{"$error":"#N/A"}},{"$nulls":6},{"$f":"J8+1","v":2},{"$f":"IF(OR(E9<>\"\", F9<>\"\", G9<>\"\", H9<>\"\"), 1, 0)","v":0},{"$f":"IF(AND(E9<>\"\", F9<>\"\", G9<>\"\", H9<>\"\"), 1, 0)","v":0}]
[{"$f":"LOOKUP(E10,'NIMS Resources'!B$4:B$12,'NIMS Resources'!C$4:C$12)","v":{"$error":"#N/A"}},null,{"$error":"#N/A"},{"$nulls":6},{"$f":"J9+1","v":3},{"$f":"IF(OR(E10<>\"\", F10<>\"\", G10<>\"\", H10<>\"\"), 1, 0)","v":0},{"$f":"IF(AND(E10<>\"\", F10<>\"\", G10<>\"\", H10<>\"\"), 1, 0)","v":0}]
[{"$f":"LOOKUP(E11,'NIMS Resources'!B$4:B$12,'NIMS Resources'!C$4:C$12)","v":{"$error":"#N/A"}},null,{"$error":"#N/A"},{"$nulls":6},{"$f":"J10+1","v":4},{"$f":"IF(OR(E11<>\"\", F11<>\"\", G11<>\"\", H11<>\"\"), 1, 0)","v":0},{"$f":"IF(AND(E11<>\"\", F11<>\"\", G11<>\"\", H11<>\"\"), 1, 0)","v":0}]
[{"$nulls":3},"Other\nResources","Resource\n(Example:  Case Management Team)",null,"Category\r\n","Number Required\n",{"$nulls":5},1]
[{"$nulls":12},1,{"$f":"IF(OR(E13<>\"\", H13<>\"\"), 1, 0)","v":0},{"$f":"IF(AND(E13<>\"\", H13<>\"\"), 1, 0)","v":0}]
[{"$nulls":12},{"$f":"M13+1","v":2},{"$f":"IF(OR(E14<>\"\", H14<>\"\"), 1, 0)","v":0},{"$f":"IF(AND(E14<>\"\", H14<>\"\"), 1, 0)","v":0}]
[{"$nulls":12},{"$f":"M14+1","v":3},{"$f":"IF(OR(E15<>\"\", H15<>\"\"), 1, 0)","v":0},{"$f":"IF(AND(E15<>\"\", H15<>\"\"), 1, 0)","v":0}]
[{"$nulls":12},{"$f":"M15+1","v":4},{"$f":"IF(OR(E16<>\"\", H16<>\"\"), 1, 0)","v":0},{"$f":"IF(AND(E16<>\"\", H16<>\"\"), 1, 0)","v":0}]
{"$rows_empty":10}
[{"$nulls":3},"Journal Notes/Comments (optional)",{"$nulls":5},0]

{"sheet":"SPR #21 Mass Care","index":49,"n_rows":56,"n_cols":20,"rows_kept":56,"hidden":true,"merged":[[2,3,2,7],[3,3,3,7],[5,3,5,7],[7,3,7,7],[8,4,8,7],[9,4,9,7],[10,4,10,7],[12,3,14,3],[14,4,14,7],[16,3,18,3],[18,4,18,7],[20,3,22,3],[22,4,22,7],[24,3,26,3],[26,4,26,7],[28,3,30,3],[30,4,30,7],[32,3,32,7],[33,3,33,7],[36,3,36,7],[43,3,43,7],[44,3,48,3],[49,3,53,3],[49,4,49,5],[50,4,50,5],[51,4,51,5],[52,4,52,5],[53,4,53,5],[55,3,55,7]]}
[21]
[21]
[{"$f":"MAX(B:B)","v":1},null,null,"Capability Target"]
[null,{"$f":"ROW()-3","v":1},null,{"$f":"INDIRECT(\"'THIRA Steps 1-3'!$C$3117\")","v":"Click here to enter capability targets"}]
[]
[{"$nulls":3},"Capability Assessment"]
[]
[{"$nulls":3},"Priority"]
[{"$nulls":4},"Relative to the other core capabilities, efforts to build and/or sustain this core capability are of high importance to my jurisdiction’s preparedness activities.",{"$nulls":10},0]
[{"$nulls":4},"Relative to the other core capabilities, efforts to build and/or sustain this core capability are of medium importance to my jurisdiction’s preparedness activities."]
[{"$nulls":4},"Relative to the other core capabilities, efforts to build and/or sustain this core capability are of low importance to my jurisdiction’s preparedness activities."]
[]
[{"$nulls":3},"Planning","Rating\nInternal Capability","Rating (optional)\nInternal Capability + Mutual Aid","Gap Description (optional)","Recent Advances (optional)"]
[{"$nulls":4},{"$f":"LOOKUP(P14, Lists!$C$2:$C$8, Lists!D2:D8)","v":"No selection made"},{"$f":"LOOKUP(Q14, Lists!$C$2:$C$8, Lists!D2:D8)","v":"No selection made"},{"$nulls":9},1,1,{"$f":"COUNTIF(I15:AC15, \"TRUE\")","v":0},0,0]
[{"$nulls":4},"Into which functional area(s) does your community's planning gaps fall?",{"$nulls":3},false,false,false,false,false,false,false,false,false]
[]
[{"$nulls":3},"Organization","Rating\nInternal Capability","Rating (optional)\nInternal Capability + Mutual Aid","Gap Description (optional)","Recent Advances (optional)"]
[{"$nulls":4},{"$f":"LOOKUP(P18, Lists!$C$2:$C$8, Lists!E2:E8)","v":"No selection made"},{"$f":"LOOKUP(Q18, Lists!$C$2:$C$8, Lists!E2:E8)","v":"No selection made"},{"$nulls":9},1,1,{"$f":"COUNTIF(I19:AC19, \"TRUE\")","v":0},null,0]
[{"$nulls":4},"Into which functional area(s) does your community's organizational gaps fall?",{"$nulls":11},false]
[]
[{"$nulls":3},"Equipment","Rating\nInternal Capability","Rating (optional)\nInternal Capability + Mutual Aid","Gap Description (optional)","Recent Advances (optional)",{"$nulls":7},1,1]
[{"$nulls":4},{"$f":"LOOKUP(P22, Lists!$C$2:$C$8, Lists!F2:F8)","v":"No selection made"},{"$f":"LOOKUP(Q22, Lists!$C$2:$C$8, Lists!F2:F8)","v":"No selection made"},{"$nulls":9},1,1,{"$f":"COUNTIF(I23:AC23, \"TRUE\")","v":0},null,0]
[{"$nulls":4},"Into which functional area(s) does your community's equipment gaps fall?",{"$nulls":11},false]
[]
[{"$nulls":3},"Training","Rating\nInternal Capability","Rating (optional)\nInternal Capability + Mutual Aid","Gap Description (optional)","Recent Advances (optional)",{"$nulls":7},1,1]
[{"$nulls":4},{"$f":"LOOKUP(P26, Lists!$C$2:$C$8, Lists!G2:G8)","v":"No selection made"},{"$f":"LOOKUP(Q26, Lists!$C$2:$C$8, Lists!G2:G8)","v":"No selection made"},{"$nulls":9},1,1,{"$f":"COUNTIF(I27:AC27, \"TRUE\")","v":0},0,0]
[{"$nulls":4},"Into which functional area(s) does your community's training gaps fall?",{"$nulls":3},false,false,false,false,false,false,false,false,false,false,false]
[]
[{"$nulls":3},"Exercises","Rating\nInternal Capability","Rating (optional)\nInternal Capability + Mutual Aid","Gap Description (optional)","Recent Advances (optional)",{"$nulls":7},1,1]
[{"$nulls":4},{"$f":"LOOKUP(P30, Lists!$C$2:$C$8, Lists!H2:H8)","v":"No selection made"},{"$f":"LOOKUP(Q30, Lists!$C$2:$C$8, Lists!H2:H8)","v":"No selection made"},{"$nulls":9},1,1,{"$f":"COUNTIF(I31:AC31, \"TRUE\")","v":0},0,0]
[{"$nulls":4},"Into which functional area(s) does your community's exercise gaps fall?",{"$nulls":3},false,false,false,false,false,false,false,false,false]
[]
[{"$nulls":3},"Assessment Corroboration"]
[{"$nulls":8},{"$f":"IF(M34=TRUE, \"TRUE\", (IF(AND(K34=TRUE, N34=1), \"TRUE\", (IF(AND(L34= TRUE, N34=1), \"TRUE\")))))","v":false},{"$f":"COUNTIF(K34:M34, \"TRUE\")","v":0},false,false,false,0]
[]
[]
[{"$nulls":3},"Responsibility for Filling Gap",{"$nulls":11},0]
[{"$nulls":15},0]
[]
[]
[]
[]
[]
[{"$nulls":3},"Resource Requirements",{"$nulls":5},"NIMS",4]
[{"$nulls":3},"NIMS-typed Resources","Category","Resource","Type","Number Available",null,"Other",4]
[{"$nulls":4},{"$f":"'THIRA #21 Mass Care'!E8","v":0},{"$f":"'THIRA #21 Mass Care'!F8","v":0},{"$f":"'THIRA #21 Mass Care'!G8","v":0}]
[{"$nulls":4},{"$f":"'THIRA #21 Mass Care'!E9","v":0},{"$f":"'THIRA #21 Mass Care'!F9","v":0},{"$f":"'THIRA #21 Mass Care'!G9","v":0}]
[{"$nulls":4},{"$f":"'THIRA #21 Mass Care'!E10","v":0},{"$f":"'THIRA #21 Mass Care'!F10","v":0},{"$f":"'THIRA #21 Mass Care'!G10","v":0}]
[{"$nulls":4},{"$f":"'THIRA #21 Mass Care'!E11","v":0},{"$f":"'THIRA #21 Mass Care'!F11","v":0},{"$f":"'THIRA #21 Mass Care'!G11","v":0}]
[{"$nulls":3},"Other\nResources","Resource\n(Example:  Case Management Team)",null,"Category\n","Number Available\n"]
[{"$nulls":4},{"$f":"'THIRA #21 Mass Care'!E13","v":0},null,{"$f":"'THIRA #21 Mass Care'!G13","v":0}]
[{"$nulls":4},{"$f":"'THIRA #21 Mass Care'!E14","v":0},null,{"$f":"'THIRA #21 Mass Care'!G14","v":0}]
[{"$nulls":4},{"$f":"'THIRA #21 Mass Care'!E15","v":0},null,{"$f":"'THIRA #21 Mass Care'!G15","v":0}]
[{"$nulls":4},{"$f":"'THIRA #21 Mass Care'!E16","v":0},null,{"$f":"'THIRA #21 Mass Care'!G16","v":0}]
[]
[{"$nulls":3},"Journal Notes/Comments (optional)",{"$nulls":11},0]

{"sheet":"THIRA #22 Mass SAR Ops","index":50,"n_rows":27,"n_cols":20,"rows_kept":27,"hidden":true,"merged":[[2,3,2,7],[3,3,3,7],[3,13,3,14],[5,3,5,7],[6,3,10,3],[11,3,15,3],[11,4,11,5],[12,4,12,5],[13,4,13,5],[14,4,14,5],[15,4,15,5],[26,3,26,7]]}
[21,{"$nulls":17},"# Other Rows Filled",{"$f":"IF(COUNTIF(N$1:N803,1),MATCH(800,INDEX(1/(N$1:N803=1),0)),\"\")-(T3+8)","v":0}]
[{"$nulls":18},"# NIMS rows filled",{"$f":"IF(COUNTIF(K$1:K800,1),MATCH(800,INDEX(1/(K$1:K800=1),0)),\"\")-7","v":0}]
[{"$f":"MAX(B:B)","v":1},null,null,"Capability Target",{"$nulls":14},"# NIMS Rows",{"$f":"MAX(J:J)","v":4}]
[null,{"$f":"ROW()-3","v":1},null,{"$f":"INDIRECT(\"'THIRA Steps 1-3'!$C$3205\")","v":"Click here to enter capability targets"},{"$nulls":14},"# NIMS Started",{"$f":"SUM(K:K)-1","v":0}]
[{"$nulls":18},"# NIMS Complete",{"$f":"SUM(L:L)","v":0}]
[{"$nulls":3},"Resource Requirements",{"$nulls":14},"# Other Rows",{"$f":"MAX(M:M)","v":4}]
[{"$nulls":3},"NIMS-typed Resources","Category","Resource","Type","Number Required",null,null,1,{"$nulls":7},"# Other Rows",{"$f":"SUM(N:N)-1","v":0}]
[{"$f":"LOOKUP(E8,'NIMS Resources'!B$4:B$12,'NIMS Resources'!C$4:C$12)","v":{"$error":"#N/A"}},null,{"$f":"VLOOKUP(F8, INDIRECT(\"'NIMS Resources'!$G$4:$J$\" & 366), 4, FALSE)","v":{"$error":"#N/A"}},{"$nulls":6},1,{"$f":"IF(OR(E8<>\"\", F8<>\"\", G8<>\"\", H8<>\"\"), 1, 0)","v":0},{"$f":"IF(AND(E8<>\"\", F8<>\"\", G8<>\"\", H8<>\"\"), 1, 0)","v":0},{"$nulls":6},"# Other",{"$f":"SUM(O:O)","v":0}]
[{"$f":"LOOKUP(E9,'NIMS Resources'!B$4:B$12,'NIMS Resources'!C$4:C$12)","v":{"$error":"#N/A"}},null,{"$f":"VLOOKUP(F9, INDIRECT(\"'NIMS Resources'!$G$4:$J$\" & 366), 4, FALSE)","v":{"$error":"#N/A"}},{"$nulls":6},{"$f":"J8+1","v":2},{"$f":"IF(OR(E9<>\"\", F9<>\"\", G9<>\"\", H9<>\"\"), 1, 0)","v":0},{"$f":"IF(AND(E9<>\"\", F9<>\"\", G9<>\"\", H9<>\"\"), 1, 0)","v":0}]
[{"$f":"LOOKUP(E10,'NIMS Resources'!B$4:B$12,'NIMS Resources'!C$4:C$12)","v":{"$error":"#N/A"}},null,{"$error":"#N/A"},{"$nulls":6},{"$f":"J9+1","v":3},{"$f":"IF(OR(E10<>\"\", F10<>\"\", G10<>\"\", H10<>\"\"), 1, 0)","v":0},{"$f":"IF(AND(E10<>\"\", F10<>\"\", G10<>\"\", H10<>\"\"), 1, 0)","v":0}]
[{"$f":"LOOKUP(E11,'NIMS Resources'!B$4:B$12,'NIMS Resources'!C$4:C$12)","v":{"$error":"#N/A"}},null,{"$error":"#N/A"},{"$nulls":6},{"$f":"J10+1","v":4},{"$f":"IF(OR(E11<>\"\", F11<>\"\", G11<>\"\", H11<>\"\"), 1, 0)","v":0},{"$f":"IF(AND(E11<>\"\", F11<>\"\", G11<>\"\", H11<>\"\"), 1, 0)","v":0}]
[{"$nulls":3},"Other\nResources","Resource\n(Example:  Case Management Team)",null,"Category\r\n","Number Required\n",{"$nulls":5},1]
[{"$nulls":12},1,{"$f":"IF(OR(E13<>\"\", H13<>\"\"), 1, 0)","v":0},{"$f":"IF(AND(E13<>\"\", H13<>\"\"), 1, 0)","v":0}]
[{"$nulls":12},{"$f":"M13+1","v":2},{"$f":"IF(OR(E14<>\"\", H14<>\"\"), 1, 0)","v":0},{"$f":"IF(AND(E14<>\"\", H14<>\"\"), 1, 0)","v":0}]
[{"$nulls":12},{"$f":"M14+1","v":3},{"$f":"IF(OR(E15<>\"\", H15<>\"\"), 1, 0)","v":0},{"$f":"IF(AND(E15<>\"\", H15<>\"\"), 1, 0)","v":0}]
[{"$nulls":12},{"$f":"M15+1","v":4},{"$f":"IF(OR(E16<>\"\", H16<>\"\"), 1, 0)","v":0},{"$f":"IF(AND(E16<>\"\", H16<>\"\"), 1, 0)","v":0}]
{"$rows_empty":10}
[{"$nulls":3},"Journal Notes/Comments (optional)",{"$nulls":5},0]

{"sheet":"SPR #22 Mass SAR Ops","index":51,"n_rows":56,"n_cols":20,"rows_kept":56,"hidden":true,"merged":[[2,3,2,7],[3,3,3,7],[5,3,5,7],[7,3,7,7],[8,4,8,7],[9,4,9,7],[10,4,10,7],[12,3,14,3],[14,4,14,7],[16,3,18,3],[18,4,18,7],[20,3,22,3],[22,4,22,7],[24,3,26,3],[26,4,26,7],[28,3,30,3],[30,4,30,7],[32,3,32,7],[33,3,33,7],[36,3,36,7],[43,3,43,7],[44,3,48,3],[49,3,53,3],[49,4,49,5],[50,4,50,5],[51,4,51,5],[52,4,52,5],[53,4,53,5],[55,3,55,7]]}
[21]
[22]
[{"$f":"MAX(B:B)","v":1},null,null,"Capability Target"]
[null,{"$f":"ROW()-3","v":1},null,{"$f":"INDIRECT(\"'THIRA Steps 1-3'!$C$3205\")","v":"Click here to enter capability targets"}]
[]
[{"$nulls":3},"Capability Assessment"]
[]
[{"$nulls":3},"Priority"]
[{"$nulls":4},"Relative to the other core capabilities, efforts to build and/or sustain this core capability are of high importance to my jurisdiction’s preparedness activities.",{"$nulls":10},0]
[{"$nulls":4},"Relative to the other core capabilities, efforts to build and/or sustain this core capability are of medium importance to my jurisdiction’s preparedness activities."]
[{"$nulls":4},"Relative to the other core capabilities, efforts to build and/or sustain this core capability are of low importance to my jurisdiction’s preparedness activities."]
[]
[{"$nulls":3},"Planning","Rating\nInternal Capability","Rating (optional)\nInternal Capability + Mutual Aid","Gap Description (optional)","Recent Advances (optional)"]
[{"$nulls":4},{"$f":"LOOKUP(P14, Lists!$C$2:$C$8, Lists!D2:D8)","v":"No selection made"},{"$f":"LOOKUP(Q14, Lists!$C$2:$C$8, Lists!D2:D8)","v":"No selection made"},{"$nulls":9},1,1,{"$f":"COUNTIF(I15:AC15, \"TRUE\")","v":0},0,0]
[{"$nulls":4},"Into which functional area(s) does your community's planning gaps fall?",{"$nulls":3},false,false,false,false,false,false,false,false,false]
[]
[{"$nulls":3},"Organization","Rating\nInternal Capability","Rating (optional)\nInternal Capability + Mutual Aid","Gap Description (optional)","Recent Advances (optional)"]
[{"$nulls":4},{"$f":"LOOKUP(P18, Lists!$C$2:$C$8, Lists!E2:E8)","v":"No selection made"},{"$f":"LOOKUP(Q18, Lists!$C$2:$C$8, Lists!E2:E8)","v":"No selection made"},{"$nulls":9},1,1,{"$f":"COUNTIF(I19:AC19, \"TRUE\")","v":0},null,0]
[{"$nulls":4},"Into which functional area(s) does your community's organizational gaps fall?",{"$nulls":8},false]
[]
[{"$nulls":3},"Equipment","Rating\nInternal Capability","Rating (optional)\nInternal Capability + Mutual Aid","Gap Description (optional)","Recent Advances (optional)",{"$nulls":7},1,1]
[{"$nulls":4},{"$f":"LOOKUP(P22, Lists!$C$2:$C$8, Lists!F2:F8)","v":"No selection made"},{"$f":"LOOKUP(Q22, Lists!$C$2:$C$8, Lists!F2:F8)","v":"No selection made"},{"$nulls":9},1,1,{"$f":"COUNTIF(I23:AC23, \"TRUE\")","v":0},null,0]
[{"$nulls":4},"Into which functional area(s) does your community's equipment gaps fall?",{"$nulls":8},false]
[]
[{"$nulls":3},"Training","Rating\nInternal Capability","Rating (optional)\nInternal Capability + Mutual Aid","Gap Description (optional)","Recent Advances (optional)",{"$nulls":7},1,1]
[{"$nulls":4},{"$f":"LOOKUP(P26, Lists!$C$2:$C$8, Lists!G2:G8)","v":"No selection made"},{"$f":"LOOKUP(Q26, Lists!$C$2:$C$8, Lists!G2:G8)","v":"No selection made"},{"$nulls":9},1,1,{"$f":"COUNTIF(I27:AC27, \"TRUE\")","v":0},0,0]
[{"$nulls":4},"Into which functional area(s) does your community's training gaps fall?",{"$nulls":3},false,false,false,false,false,false,false,false,false,false,false]
[]
[{"$nulls":3},"Exercises","Rating\nInternal Capability","Rating (optional)\nInternal Capability + Mutual Aid","Gap Description (optional)","Recent Advances (optional)",{"$nulls":7},1,1]
[{"$nulls":4},{"$f":"LOOKUP(P30, Lists!$C$2:$C$8, Lists!H2:H8)","v":"No selection made"},{"$f":"LOOKUP(Q30, Lists!$C$2:$C$8, Lists!H2:H8)","v":"No selection made"},{"$nulls":9},1,1,{"$f":"COUNTIF(I31:AC31, \"TRUE\")","v":0},0,0]
[{"$nulls":4},"Into which functional area(s) does your community's exercise gaps fall?",{"$nulls":3},false,false,false,false,false,false,false,false]
[]
[{"$nulls":3},"Assessment Corroboration"]
[{"$nulls":8},{"$f":"IF(M34=TRUE, \"TRUE\", (IF(AND(K34=TRUE, N34=1), \"TRUE\", (IF(AND(L34= TRUE, N34=1), \"TRUE\")))))","v":false},{"$f":"COUNTIF(K34:M34, \"TRUE\")","v":0},false,false,false,0]
[]
[]
[{"$nulls":3},"Responsibility for Filling Gap",{"$nulls":11},0]
[{"$nulls":15},0]
[]
[]
[]
[]
[]
[{"$nulls":3},"Resource Requirements",{"$nulls":5},"NIMS",4]
[{"$nulls":3},"NIMS-typed Resources","Category","Resource","Type","Number Available",null,"Other",4]
[{"$nulls":4},{"$f":"'THIRA #22 Mass SAR Ops'!E8","v":0},{"$f":"'THIRA #22 Mass SAR Ops'!F8","v":0},{"$f":"'THIRA #22 Mass SAR Ops'!G8","v":0}]
[{"$nulls":4},{"$f":"'THIRA #22 Mass SAR Ops'!E9","v":0},{"$f":"'THIRA #22 Mass SAR Ops'!F9","v":0},{"$f":"'THIRA #22 Mass SAR Ops'!G9","v":0}]
[{"$nulls":4},{"$f":"'THIRA #22 Mass SAR Ops'!E10","v":0},{"$f":"'THIRA #22 Mass SAR Ops'!F10","v":0},{"$f":"'THIRA #22 Mass SAR Ops'!G10","v":0}]
[{"$nulls":4},{"$f":"'THIRA #22 Mass SAR Ops'!E11","v":0},{"$f":"'THIRA #22 Mass SAR Ops'!F11","v":0},{"$f":"'THIRA #22 Mass SAR Ops'!G11","v":0}]
[{"$nulls":3},"Other\nResources","Resource\n(Example:  Case Management Team)",null,"Category\n","Number Available\n"]
[{"$nulls":4},{"$f":"'THIRA #22 Mass SAR Ops'!E13","v":0},null,{"$f":"'THIRA #22 Mass SAR Ops'!G13","v":0}]
[{"$nulls":4},{"$f":"'THIRA #22 Mass SAR Ops'!E14","v":0},null,{"$f":"'THIRA #22 Mass SAR Ops'!G14","v":0}]
[{"$nulls":4},{"$f":"'THIRA #22 Mass SAR Ops'!E15","v":0},null,{"$f":"'THIRA #22 Mass SAR Ops'!G15","v":0}]
[{"$nulls":4},{"$f":"'THIRA #22 Mass SAR Ops'!E16","v":0},null,{"$f":"'THIRA #22 Mass SAR Ops'!G16","v":0}]
[]
[{"$nulls":3},"Journal Notes/Comments (optional)",{"$nulls":11},0]

{"sheet":"THIRA #23 Security Protection","index":52,"n_rows":27,"n_cols":20,"rows_kept":27,"hidden":true,"merged":[[2,3,2,7],[3,3,3,7],[3,13,3,14],[5,3,5,7],[6,3,10,3],[11,3,15,3],[11,4,11,5],[12,4,12,5],[13,4,13,5],[14,4,14,5],[15,4,15,5],[26,3,26,7]]}
[21,{"$nulls":17},"# Other Rows Filled",{"$f":"IF(COUNTIF(N$1:N803,1),MATCH(800,INDEX(1/(N$1:N803=1),0)),\"\")-(T3+8)","v":0}]
[{"$nulls":18},"# NIMS rows filled",{"$f":"IF(COUNTIF(K$1:K800,1),MATCH(800,INDEX(1/(K$1:K800=1),0)),\"\")-7","v":0}]
[{"$f":"MAX(B:B)","v":1},null,null,"Capability Target",{"$nulls":14},"# NIMS Rows",{"$f":"MAX(J:J)","v":4}]
[null,{"$f":"ROW()-3","v":1},null,{"$f":"INDIRECT(\"'THIRA Steps 1-3'!$C$3293\")","v":"Click here to enter capability targets"},{"$nulls":14},"# NIMS Started",{"$f":"SUM(K:K)-1","v":0}]
[{"$nulls":18},"# NIMS Complete",{"$f":"SUM(L:L)","v":0}]
[{"$nulls":3},"Resource Requirements",{"$nulls":14},"# Other Rows",{"$f":"MAX(M:M)","v":4}]
[{"$nulls":3},"NIMS-typed Resources","Category","Resource","Type","Number Required",null,null,1,{"$nulls":7},"# Other Rows",{"$f":"SUM(N:N)-1","v":0}]
[{"$f":"LOOKUP(E8,'NIMS Resources'!B$4:B$12,'NIMS Resources'!C$4:C$12)","v":{"$error":"#N/A"}},null,{"$f":"VLOOKUP(F8, INDIRECT(\"'NIMS Resources'!$G$4:$J$\" & 366), 4, FALSE)","v":{"$error":"#N/A"}},{"$nulls":6},1,{"$f":"IF(OR(E8<>\"\", F8<>\"\", G8<>\"\", H8<>\"\"), 1, 0)","v":0},{"$f":"IF(AND(E8<>\"\", F8<>\"\", G8<>\"\", H8<>\"\"), 1, 0)","v":0},{"$nulls":6},"# Other",{"$f":"SUM(O:O)","v":0}]
[{"$f":"LOOKUP(E9,'NIMS Resources'!B$4:B$12,'NIMS Resources'!C$4:C$12)","v":{"$error":"#N/A"}},null,{"$f":"VLOOKUP(F9, INDIRECT(\"'NIMS Resources'!$G$4:$J$\" & 366), 4, FALSE)","v":{"$error":"#N/A"}},{"$nulls":6},{"$f":"J8+1","v":2},{"$f":"IF(OR(E9<>\"\", F9<>\"\", G9<>\"\", H9<>\"\"), 1, 0)","v":0},{"$f":"IF(AND(E9<>\"\", F9<>\"\", G9<>\"\", H9<>\"\"), 1, 0)","v":0}]
[{"$f":"LOOKUP(E10,'NIMS Resources'!B$4:B$12,'NIMS Resources'!C$4:C$12)","v":{"$error":"#N/A"}},null,{"$error":"#N/A"},{"$nulls":6},{"$f":"J9+1","v":3},{"$f":"IF(OR(E10<>\"\", F10<>\"\", G10<>\"\", H10<>\"\"), 1, 0)","v":0},{"$f":"IF(AND(E10<>\"\", F10<>\"\", G10<>\"\", H10<>\"\"), 1, 0)","v":0}]
[{"$f":"LOOKUP(E11,'NIMS Resources'!B$4:B$12,'NIMS Resources'!C$4:C$12)","v":{"$error":"#N/A"}},null,{"$error":"#N/A"},{"$nulls":6},{"$f":"J10+1","v":4},{"$f":"IF(OR(E11<>\"\", F11<>\"\", G11<>\"\", H11<>\"\"), 1, 0)","v":0},{"$f":"IF(AND(E11<>\"\", F11<>\"\", G11<>\"\", H11<>\"\"), 1, 0)","v":0}]
[{"$nulls":3},"Other\nResources","Resource\n(Example:  Case Management Team)",null,"Category\r\n","Number Required\n",{"$nulls":5},1]
[{"$nulls":12},1,{"$f":"IF(OR(E13<>\"\", H13<>\"\"), 1, 0)","v":0},{"$f":"IF(AND(E13<>\"\", H13<>\"\"), 1, 0)","v":0}]
[{"$nulls":12},{"$f":"M13+1","v":2},{"$f":"IF(OR(E14<>\"\", H14<>\"\"), 1, 0)","v":0},{"$f":"IF(AND(E14<>\"\", H14<>\"\"), 1, 0)","v":0}]
[{"$nulls":12},{"$f":"M14+1","v":3},{"$f":"IF(OR(E15<>\"\", H15<>\"\"), 1, 0)","v":0},{"$f":"IF(AND(E15<>\"\", H15<>\"\"), 1, 0)","v":0}]
[{"$nulls":12},{"$f":"M15+1","v":4},{"$f":"IF(OR(E16<>\"\", H16<>\"\"), 1, 0)","v":0},{"$f":"IF(AND(E16<>\"\", H16<>\"\"), 1, 0)","v":0}]
{"$rows_empty":10}
[{"$nulls":3},"Journal Notes/Comments (optional)",{"$nulls":5},0]

{"sheet":"SPR #23 Security Protection","index":53,"n_rows":56,"n_cols":20,"rows_kept":56,"hidden":true,"merged":[[2,3,2,7],[3,3,3,7],[5,3,5,7],[7,3,7,7],[8,4,8,7],[9,4,9,7],[10,4,10,7],[12,3,14,3],[14,4,14,7],[16,3,18,3],[18,4,18,7],[20,3,22,3],[22,4,22,7],[24,3,26,3],[26,4,26,7],[28,3,30,3],[30,4,30,7],[32,3,32,7],[33,3,33,7],[36,3,36,7],[43,3,43,7],[44,3,48,3],[49,3,53,3],[49,4,49,5],[50,4,50,5],[51,4,51,5],[52,4,52,5],[53,4,53,5],[55,3,55,7]]}
[21]
[23]
[{"$f":"MAX(B:B)","v":1},null,null,"Capability Target"]
[null,{"$f":"ROW()-3","v":1},null,{"$f":"INDIRECT(\"'THIRA Steps 1-3'!$C$3293\")","v":"Click here to enter capability targets"}]
[]
[{"$nulls":3},"Capability Assessment"]
[]
[{"$nulls":3},"Priority"]
[{"$nulls":4},"Relative to the other core capabilities, efforts to build and/or sustain this core capability are of high importance to my jurisdiction’s preparedness activities.",{"$nulls":10},0]
[{"$nulls":4},"Relative to the other core capabilities, efforts to build and/or sustain this core capability are of medium importance to my jurisdiction’s preparedness activities."]
[{"$nulls":4},"Relative to the other core capabilities, efforts to build and/or sustain this core capability are of low importance to my jurisdiction’s preparedness activities."]
[]
[{"$nulls":3},"Planning","Rating\nInternal Capability","Rating (optional)\nInternal Capability + Mutual Aid","Gap Description (optional)","Recent Advances (optional)"]
[{"$nulls":4},{"$f":"LOOKUP(P14, Lists!$C$2:$C$8, Lists!D2:D8)","v":"No selection made"},{"$f":"LOOKUP(Q14, Lists!$C$2:$C$8, Lists!D2:D8)","v":"No selection made"},{"$nulls":9},1,1,{"$f":"COUNTIF(I15:AC15, \"TRUE\")","v":0},0,0]
[{"$nulls":4},"Into which functional area(s) does your community's planning gaps fall?",{"$nulls":3},false,false,false,false,false,false,false,false,false]
[]
[{"$nulls":3},"Organization","Rating\nInternal Capability","Rating (optional)\nInternal Capability + Mutual Aid","Gap Description (optional)","Recent Advances (optional)"]
[{"$nulls":4},{"$f":"LOOKUP(P18, Lists!$C$2:$C$8, Lists!E2:E8)","v":"No selection made"},{"$f":"LOOKUP(Q18, Lists!$C$2:$C$8, Lists!E2:E8)","v":"No selection made"},{"$nulls":9},1,1,{"$f":"COUNTIF(I19:AC19, \"TRUE\")","v":0},null,0]
[{"$nulls":4},"Into which functional area(s) does your community's organizational gaps fall?",{"$nulls":6},false]
[]
[{"$nulls":3},"Equipment","Rating\nInternal Capability","Rating (optional)\nInternal Capability + Mutual Aid","Gap Description (optional)","Recent Advances (optional)",{"$nulls":7},1,1]
[{"$nulls":4},{"$f":"LOOKUP(P22, Lists!$C$2:$C$8, Lists!F2:F8)","v":"No selection made"},{"$f":"LOOKUP(Q22, Lists!$C$2:$C$8, Lists!F2:F8)","v":"No selection made"},{"$nulls":9},1,1,{"$f":"COUNTIF(I23:AC23, \"TRUE\")","v":0},null,0]
[{"$nulls":4},"Into which functional area(s) does your community's equipment gaps fall?",{"$nulls":6},false]
[]
[{"$nulls":3},"Training","Rating\nInternal Capability","Rating (optional)\nInternal Capability + Mutual Aid","Gap Description (optional)","Recent Advances (optional)",{"$nulls":7},1,1]
[{"$nulls":4},{"$f":"LOOKUP(P26, Lists!$C$2:$C$8, Lists!G2:G8)","v":"No selection made"},{"$f":"LOOKUP(Q26, Lists!$C$2:$C$8, Lists!G2:G8)","v":"No selection made"},{"$nulls":9},1,1,{"$f":"COUNTIF(I27:AC27, \"TRUE\")","v":0},0,0]
[{"$nulls":4},"Into which functional area(s) does your community's training gaps fall?",{"$nulls":3},false,false,false,false,false,false,false,false,false,false,false]
[]
[{"$nulls":3},"Exercises","Rating\nInternal Capability","Rating (optional)\nInternal Capability + Mutual Aid","Gap Description (optional)","Recent Advances (optional)",{"$nulls":7},1,1]
[{"$nulls":4},{"$f":"LOOKUP(P30, Lists!$C$2:$C$8, Lists!H2:H8)","v":"No selection made"},{"$f":"LOOKUP(Q30, Lists!$C$2:$C$8, Lists!H2:H8)","v":"No selection made"},{"$nulls":9},1,1,{"$f":"COUNTIF(I31:AC31, \"TRUE\")","v":0},0,0]
[{"$nulls":4},"Into which functional area(s) does your community's exercise gaps fall?",{"$nulls":3},false,false,false,false,false,false,false,false]
[]
[{"$nulls":3},"Assessment Corroboration"]
[{"$nulls":8},{"$f":"IF(M34=TRUE, \"TRUE\", (IF(AND(K34=TRUE, N34=1), \"TRUE\", (IF(AND(L34= TRUE, N34=1), \"TRUE\")))))","v":false},{"$f":"COUNTIF(K34:M34, \"TRUE\")","v":0},false,false,false,0]
[]
[]
[{"$nulls":3},"Responsibility for Filling Gap",{"$nulls":11},0]
[{"$nulls":15},0]
[]
[]
[]
[]
[]
[{"$nulls":3},"Resource Requirements",{"$nulls":5},"NIMS",4]
[{"$nulls":3},"NIMS-typed Resources","Category","Resource","Type","Number Available",null,"Other",4]
[{"$nulls":4},{"$f":"'THIRA #23 Security Protection'!E8","v":0},{"$f":"'THIRA #23 Security Protection'!F8","v":0},{"$f":"'THIRA #23 Security Protection'!G8","v":0}]
[{"$nulls":4},{"$f":"'THIRA #23 Security Protection'!E9","v":0},{"$f":"'THIRA #23 Security Protection'!F9","v":0},{"$f":"'THIRA #23 Security Protection'!G9","v":0}]
[{"$nulls":4},{"$f":"'THIRA #23 Security Protection'!E10","v":0},{"$f":"'THIRA #23 Security Protection'!F10","v":0},{"$f":"'THIRA #23 Security Protection'!G10","v":0}]
[{"$nulls":4},{"$f":"'THIRA #23 Security Protection'!E11","v":0},{"$f":"'THIRA #23 Security Protection'!F11","v":0},{"$f":"'THIRA #23 Security Protection'!G11","v":0}]
[{"$nulls":3},"Other\nResources","Resource\n(Example:  Case Management Team)",null,"Category\n","Number Available\n"]
[{"$nulls":4},{"$f":"'THIRA #23 Security Protection'!E13","v":0},null,{"$f":"'THIRA #23 Security Protection'!G13","v":0}]
[{"$nulls":4},{"$f":"'THIRA #23 Security Protection'!E14","v":0},null,{"$f":"'THIRA #23 Security Protection'!G14","v":0}]
[{"$nulls":4},{"$f":"'THIRA #23 Security Protection'!E15","v":0},null,{"$f":"'THIRA #23 Security Protection'!G15","v":0}]
[{"$nulls":4},{"$f":"'THIRA #23 Security Protection'!E16","v":0},null,{"$f":"'THIRA #23 Security Protection'!G16","v":0}]
[]
[{"$nulls":3},"Journal Notes/Comments (optional)",{"$nulls":11},0]

{"sheet":"THIRA #24 Op Comms","index":54,"n_rows":27,"n_cols":20,"rows_kept":27,"hidden":true,"merged":[[2,3,2,7],[3,3,3,7],[3,13,3,14],[5,3,5,7],[6,3,10,3],[11,3,15,3],[11,4,11,5],[12,4,12,5],[13,4,13,5],[14,4,14,5],[15,4,15,5],[26,3,26,7]]}
[21,{"$nulls":17},"# Other Rows Filled",{"$f":"IF(COUNTIF(N$1:N803,1),MATCH(800,INDEX(1/(N$1:N803=1),0)),\"\")-(T3+8)","v":0}]
[{"$nulls":18},"# NIMS rows filled",{"$f":"IF(COUNTIF(K$1:K800,1),MATCH(800,INDEX(1/(K$1:K800=1),0)),\"\")-7","v":0}]
[{"$f":"MAX(B:B)","v":1},null,null,"Capability Target",{"$nulls":14},"# NIMS Rows",{"$f":"MAX(J:J)","v":4}]
[null,{"$f":"ROW()-3","v":1},null,{"$f":"INDIRECT(\"'THIRA Steps 1-3'!$C$3381\")","v":"Click here to enter capability targets"},{"$nulls":14},"# NIMS Started",{"$f":"SUM(K:K)-1","v":0}]
[{"$nulls":18},"# NIMS Complete",{"$f":"SUM(L:L)","v":0}]
[{"$nulls":3},"Resource Requirements",{"$nulls":14},"# Other Rows",{"$f":"MAX(M:M)","v":4}]
[{"$nulls":3},"NIMS-typed Resources","Category","Resource","Type","Number Required",null,null,1,{"$nulls":7},"# Other Rows",{"$f":"SUM(N:N)-1","v":0}]
[{"$f":"LOOKUP(E8,'NIMS Resources'!B$4:B$12,'NIMS Resources'!C$4:C$12)","v":{"$error":"#N/A"}},null,{"$f":"VLOOKUP(F8, INDIRECT(\"'NIMS Resources'!$G$4:$J$\" & 366), 4, FALSE)","v":{"$error":"#N/A"}},{"$nulls":6},1,{"$f":"IF(OR(E8<>\"\", F8<>\"\", G8<>\"\", H8<>\"\"), 1, 0)","v":0},{"$f":"IF(AND(E8<>\"\", F8<>\"\", G8<>\"\", H8<>\"\"), 1, 0)","v":0},{"$nulls":6},"# Other",{"$f":"SUM(O:O)","v":0}]
[{"$f":"LOOKUP(E9,'NIMS Resources'!B$4:B$12,'NIMS Resources'!C$4:C$12)","v":{"$error":"#N/A"}},null,{"$f":"VLOOKUP(F9, INDIRECT(\"'NIMS Resources'!$G$4:$J$\" & 366), 4, FALSE)","v":{"$error":"#N/A"}},{"$nulls":6},{"$f":"J8+1","v":2},{"$f":"IF(OR(E9<>\"\", F9<>\"\", G9<>\"\", H9<>\"\"), 1, 0)","v":0},{"$f":"IF(AND(E9<>\"\", F9<>\"\", G9<>\"\", H9<>\"\"), 1, 0)","v":0}]
[{"$f":"LOOKUP(E10,'NIMS Resources'!B$4:B$12,'NIMS Resources'!C$4:C$12)","v":{"$error":"#N/A"}},null,{"$error":"#N/A"},{"$nulls":6},{"$f":"J9+1","v":3},{"$f":"IF(OR(E10<>\"\", F10<>\"\", G10<>\"\", H10<>\"\"), 1, 0)","v":0},{"$f":"IF(AND(E10<>\"\", F10<>\"\", G10<>\"\", H10<>\"\"), 1, 0)","v":0}]
[{"$f":"LOOKUP(E11,'NIMS Resources'!B$4:B$12,'NIMS Resources'!C$4:C$12)","v":{"$error":"#N/A"}},null,{"$error":"#N/A"},{"$nulls":6},{"$f":"J10+1","v":4},{"$f":"IF(OR(E11<>\"\", F11<>\"\", G11<>\"\", H11<>\"\"), 1, 0)","v":0},{"$f":"IF(AND(E11<>\"\", F11<>\"\", G11<>\"\", H11<>\"\"), 1, 0)","v":0}]
[{"$nulls":3},"Other\nResources","Resource\n(Example:  Case Management Team)",null,"Category\r\n","Number Required\n",{"$nulls":5},1]
[{"$nulls":12},1,{"$f":"IF(OR(E13<>\"\", H13<>\"\"), 1, 0)","v":0},{"$f":"IF(AND(E13<>\"\", H13<>\"\"), 1, 0)","v":0}]
[{"$nulls":12},{"$f":"M13+1","v":2},{"$f":"IF(OR(E14<>\"\", H14<>\"\"), 1, 0)","v":0},{"$f":"IF(AND(E14<>\"\", H14<>\"\"), 1, 0)","v":0}]
[{"$nulls":12},{"$f":"M14+1","v":3},{"$f":"IF(OR(E15<>\"\", H15<>\"\"), 1, 0)","v":0},{"$f":"IF(AND(E15<>\"\", H15<>\"\"), 1, 0)","v":0}]
[{"$nulls":12},{"$f":"M15+1","v":4},{"$f":"IF(OR(E16<>\"\", H16<>\"\"), 1, 0)","v":0},{"$f":"IF(AND(E16<>\"\", H16<>\"\"), 1, 0)","v":0}]
{"$rows_empty":10}
[{"$nulls":3},"Journal Notes/Comments (optional)",{"$nulls":5},0]

{"sheet":"SPR #24 Op Comms","index":55,"n_rows":56,"n_cols":20,"rows_kept":56,"hidden":true,"merged":[[2,3,2,7],[3,3,3,7],[5,3,5,7],[7,3,7,7],[8,4,8,7],[9,4,9,7],[10,4,10,7],[12,3,14,3],[14,4,14,7],[16,3,18,3],[18,4,18,7],[20,3,22,3],[22,4,22,7],[24,3,26,3],[26,4,26,7],[28,3,30,3],[30,4,30,7],[32,3,32,7],[33,3,33,7],[36,3,36,7],[43,3,43,7],[44,3,48,3],[49,3,53,3],[49,4,49,5],[50,4,50,5],[51,4,51,5],[52,4,52,5],[53,4,53,5],[55,3,55,7]]}
[21]
[24]
[{"$f":"MAX(B:B)","v":1},null,null,"Capability Target"]
[null,{"$f":"ROW()-3","v":1},null,{"$f":"INDIRECT(\"'THIRA Steps 1-3'!$C$3381\")","v":"Click here to enter capability targets"}]
[]
[{"$nulls":3},"Capability Assessment"]
[]
[{"$nulls":3},"Priority"]
[{"$nulls":4},"Relative to the other core capabilities, efforts to build and/or sustain this core capability are of high importance to my jurisdiction’s preparedness activities.",{"$nulls":10},0]
[{"$nulls":4},"Relative to the other core capabilities, efforts to build and/or sustain this core capability are of medium importance to my jurisdiction’s preparedness activities."]
[{"$nulls":4},"Relative to the other core capabilities, efforts to build and/or sustain this core capability are of low importance to my jurisdiction’s preparedness activities."]
[]
[{"$nulls":3},"Planning","Rating\nInternal Capability","Rating (optional)\nInternal Capability + Mutual Aid","Gap Description (optional)","Recent Advances (optional)"]
[{"$nulls":4},{"$f":"LOOKUP(P14, Lists!$C$2:$C$8, Lists!D2:D8)","v":"No selection made"},{"$f":"LOOKUP(Q14, Lists!$C$2:$C$8, Lists!D2:D8)","v":"No selection made"},{"$nulls":9},1,1,{"$f":"COUNTIF(I15:AC15, \"TRUE\")","v":0},0,0]
[{"$nulls":4},"Into which functional area(s) does your community's planning gaps fall?",{"$nulls":3},false,false,false,false,false,false,false,false,false]
[]
[{"$nulls":3},"Organization","Rating\nInternal Capability","Rating (optional)\nInternal Capability + Mutual Aid","Gap Description (optional)","Recent Advances (optional)"]
[{"$nulls":4},{"$f":"LOOKUP(P18, Lists!$C$2:$C$8, Lists!E2:E8)","v":"No selection made"},{"$f":"LOOKUP(Q18, Lists!$C$2:$C$8, Lists!E2:E8)","v":"No selection made"},{"$nulls":9},1,1,{"$f":"COUNTIF(I19:AC19, \"TRUE\")","v":0},null,0]
[{"$nulls":4},"Into which functional area(s) does your community's organizational gaps fall?",{"$nulls":8},false]
[]
[{"$nulls":3},"Equipment","Rating\nInternal Capability","Rating (optional)\nInternal Capability + Mutual Aid","Gap Description (optional)","Recent Advances (optional)",{"$nulls":7},1,1]
[{"$nulls":4},{"$f":"LOOKUP(P22, Lists!$C$2:$C$8, Lists!F2:F8)","v":"No selection made"},{"$f":"LOOKUP(Q22, Lists!$C$2:$C$8, Lists!F2:F8)","v":"No selection made"},{"$nulls":9},1,1,{"$f":"COUNTIF(I23:AC23, \"TRUE\")","v":0},null,0]
[{"$nulls":4},"Into which functional area(s) does your community's equipment gaps fall?",{"$nulls":8},false]
[]
[{"$nulls":3},"Training","Rating\nInternal Capability","Rating (optional)\nInternal Capability + Mutual Aid","Gap Description (optional)","Recent Advances (optional)",{"$nulls":7},1,1]
[{"$nulls":4},{"$f":"LOOKUP(P26, Lists!$C$2:$C$8, Lists!G2:G8)","v":"No selection made"},{"$f":"LOOKUP(Q26, Lists!$C$2:$C$8, Lists!G2:G8)","v":"No selection made"},{"$nulls":9},1,1,{"$f":"COUNTIF(I27:AC27, \"TRUE\")","v":0},0,0]
[{"$nulls":4},"Into which functional area(s) does your community's training gaps fall?",{"$nulls":3},false,false,false,false,false,false,false,false,false,false,false]
[]
[{"$nulls":3},"Exercises","Rating\nInternal Capability","Rating (optional)\nInternal Capability + Mutual Aid","Gap Description (optional)","Recent Advances (optional)",{"$nulls":7},1,1]
[{"$nulls":4},{"$f":"LOOKUP(P30, Lists!$C$2:$C$8, Lists!H2:H8)","v":"No selection made"},{"$f":"LOOKUP(Q30, Lists!$C$2:$C$8, Lists!H2:H8)","v":"No selection made"},{"$nulls":9},1,1,{"$f":"COUNTIF(I31:AC31, \"TRUE\")","v":0},0,0]
[{"$nulls":4},"Into which functional area(s) does your community's exercise gaps fall?",{"$nulls":3},false,false,false,false,false,false,false,false]
[]
[{"$nulls":3},"Assessment Corroboration"]
[{"$nulls":8},{"$f":"IF(M34=TRUE, \"TRUE\", (IF(AND(K34=TRUE, N34=1), \"TRUE\", (IF(AND(L34= TRUE, N34=1), \"TRUE\")))))","v":false},{"$f":"COUNTIF(K34:M34, \"TRUE\")","v":0},false,false,false,0]
[]
[]
[{"$nulls":3},"Responsibility for Filling Gap",{"$nulls":11},0]
[{"$nulls":15},0]
[]
[]
[]
[]
[]
[{"$nulls":3},"Resource Requirements",{"$nulls":5},"NIMS",4]
[{"$nulls":3},"NIMS-typed Resources","Category","Resource","Type","Number Available",null,"Other",4]
[{"$nulls":4},{"$f":"'THIRA #24 Op Comms'!E8","v":0},{"$f":"'THIRA #24 Op Comms'!F8","v":0},{"$f":"'THIRA #24 Op Comms'!G8","v":0}]
[{"$nulls":4},{"$f":"'THIRA #24 Op Comms'!E9","v":0},{"$f":"'THIRA #24 Op Comms'!F9","v":0},{"$f":"'THIRA #24 Op Comms'!G9","v":0}]
[{"$nulls":4},{"$f":"'THIRA #24 Op Comms'!E10","v":0},{"$f":"'THIRA #24 Op Comms'!F10","v":0},{"$f":"'THIRA #24 Op Comms'!G10","v":0}]
[{"$nulls":4},{"$f":"'THIRA #24 Op Comms'!E11","v":0},{"$f":"'THIRA #24 Op Comms'!F11","v":0},{"$f":"'THIRA #24 Op Comms'!G11","v":0}]
[{"$nulls":3},"Other\nResources","Resource\n(Example:  Case Management Team)",null,"Category\n","Number Available\n"]
[{"$nulls":4},{"$f":"'THIRA #24 Op Comms'!E13","v":0},null,{"$f":"'THIRA #24 Op Comms'!G13","v":0}]
[{"$nulls":4},{"$f":"'THIRA #24 Op Comms'!E14","v":0},null,{"$f":"'THIRA #24 Op Comms'!G14","v":0}]
[{"$nulls":4},{"$f":"'THIRA #24 Op Comms'!E15","v":0},null,{"$f":"'THIRA #24 Op Comms'!G15","v":0}]
[{"$nulls":4},{"$f":"'THIRA #24 Op Comms'!E16","v":0},null,{"$f":"'THIRA #24 Op Comms'!G16","v":0}]
[]
[{"$nulls":3},"Journal Notes/Comments (optional)",{"$nulls":11},0]

{"sheet":"THIRA #25 Pub Private Services","index":56,"n_rows":27,"n_cols":20,"rows_kept":27,"hidden":true,"merged":[[2,3,2,7],[3,3,3,7],[3,13,3,14],[5,3,5,7],[6,3,10,3],[11,3,15,3],[11,4,11,5],[12,4,12,5],[13,4,13,5],[14,4,14,5],[15,4,15,5],[26,3,26,7]]}
[21,{"$nulls":17},"# Other Rows Filled",{"$f":"IF(COUNTIF(N$1:N803,1),MATCH(800,INDEX(1/(N$1:N803=1),0)),\"\")-(T3+8)","v":0}]
[{"$nulls":18},"# NIMS rows filled",{"$f":"IF(COUNTIF(K$1:K800,1),MATCH(800,INDEX(1/(K$1:K800=1),0)),\"\")-7","v":0}]
[{"$f":"MAX(B:B)","v":1},null,null,"Capability Target",{"$nulls":14},"# NIMS Rows",{"$f":"MAX(J:J)","v":4}]
[null,{"$f":"ROW()-3","v":1},null,{"$f":"INDIRECT(\"'THIRA Steps 1-3'!$C$3469\")","v":"Click here to enter capability targets"},{"$nulls":14},"# NIMS Started",{"$f":"SUM(K:K)-1","v":0}]
[{"$nulls":18},"# NIMS Complete",{"$f":"SUM(L:L)","v":0}]
[{"$nulls":3},"Resource Requirements",{"$nulls":14},"# Other Rows",{"$f":"MAX(M:M)","v":4}]
[{"$nulls":3},"NIMS-typed Resources","Category","Resource","Type","Number Required",null,null,1,{"$nulls":7},"# Other Rows",{"$f":"SUM(N:N)-1","v":0}]
[{"$f":"LOOKUP(E8,'NIMS Resources'!B$4:B$12,'NIMS Resources'!C$4:C$12)","v":{"$error":"#N/A"}},null,{"$f":"VLOOKUP(F8, INDIRECT(\"'NIMS Resources'!$G$4:$J$\" & 366), 4, FALSE)","v":{"$error":"#N/A"}},{"$nulls":6},1,{"$f":"IF(OR(E8<>\"\", F8<>\"\", G8<>\"\", H8<>\"\"), 1, 0)","v":0},{"$f":"IF(AND(E8<>\"\", F8<>\"\", G8<>\"\", H8<>\"\"), 1, 0)","v":0},{"$nulls":6},"# Other",{"$f":"SUM(O:O)","v":0}]
[{"$f":"LOOKUP(E9,'NIMS Resources'!B$4:B$12,'NIMS Resources'!C$4:C$12)","v":{"$error":"#N/A"}},null,{"$f":"VLOOKUP(F9, INDIRECT(\"'NIMS Resources'!$G$4:$J$\" & 366), 4, FALSE)","v":{"$error":"#N/A"}},{"$nulls":6},{"$f":"J8+1","v":2},{"$f":"IF(OR(E9<>\"\", F9<>\"\", G9<>\"\", H9<>\"\"), 1, 0)","v":0},{"$f":"IF(AND(E9<>\"\", F9<>\"\", G9<>\"\", H9<>\"\"), 1, 0)","v":0}]
[{"$f":"LOOKUP(E10,'NIMS Resources'!B$4:B$12,'NIMS Resources'!C$4:C$12)","v":{"$error":"#N/A"}},null,{"$error":"#N/A"},{"$nulls":6},{"$f":"J9+1","v":3},{"$f":"IF(OR(E10<>\"\", F10<>\"\", G10<>\"\", H10<>\"\"), 1, 0)","v":0},{"$f":"IF(AND(E10<>\"\", F10<>\"\", G10<>\"\", H10<>\"\"), 1, 0)","v":0}]
[{"$f":"LOOKUP(E11,'NIMS Resources'!B$4:B$12,'NIMS Resources'!C$4:C$12)","v":{"$error":"#N/A"}},null,{"$error":"#N/A"},{"$nulls":6},{"$f":"J10+1","v":4},{"$f":"IF(OR(E11<>\"\", F11<>\"\", G11<>\"\", H11<>\"\"), 1, 0)","v":0},{"$f":"IF(AND(E11<>\"\", F11<>\"\", G11<>\"\", H11<>\"\"), 1, 0)","v":0}]
[{"$nulls":3},"Other\nResources","Resource\n(Example:  Case Management Team)",null,"Category\r\n","Number Required\n",{"$nulls":5},1]
[{"$nulls":12},1,{"$f":"IF(OR(E13<>\"\", H13<>\"\"), 1, 0)","v":0},{"$f":"IF(AND(E13<>\"\", H13<>\"\"), 1, 0)","v":0}]
[{"$nulls":12},{"$f":"M13+1","v":2},{"$f":"IF(OR(E14<>\"\", H14<>\"\"), 1, 0)","v":0},{"$f":"IF(AND(E14<>\"\", H14<>\"\"), 1, 0)","v":0}]
[{"$nulls":12},{"$f":"M14+1","v":3},{"$f":"IF(OR(E15<>\"\", H15<>\"\"), 1, 0)","v":0},{"$f":"IF(AND(E15<>\"\", H15<>\"\"), 1, 0)","v":0}]
[{"$nulls":12},{"$f":"M15+1","v":4},{"$f":"IF(OR(E16<>\"\", H16<>\"\"), 1, 0)","v":0},{"$f":"IF(AND(E16<>\"\", H16<>\"\"), 1, 0)","v":0}]
{"$rows_empty":10}
[{"$nulls":3},"Journal Notes/Comments (optional)",{"$nulls":5},0]

{"sheet":"SPR #25 Pub Private Services","index":57,"n_rows":56,"n_cols":20,"rows_kept":56,"hidden":true,"merged":[[2,3,2,7],[3,3,3,7],[5,3,5,7],[7,3,7,7],[8,4,8,7],[9,4,9,7],[10,4,10,7],[12,3,14,3],[14,4,14,7],[16,3,18,3],[18,4,18,7],[20,3,22,3],[22,4,22,7],[24,3,26,3],[26,4,26,7],[28,3,30,3],[30,4,30,7],[32,3,32,7],[33,3,33,7],[36,3,36,7],[43,3,43,7],[44,3,48,3],[49,3,53,3],[49,4,49,5],[50,4,50,5],[51,4,51,5],[52,4,52,5],[53,4,53,5],[55,3,55,7]]}
[21]
[25]
[{"$f":"MAX(B:B)","v":1},null,null,"Capability Target"]
[null,{"$f":"ROW()-3","v":1},null,{"$f":"INDIRECT(\"'THIRA Steps 1-3'!$C$3469\")","v":"Click here to enter capability targets"}]
[]
[{"$nulls":3},"Capability Assessment"]
[]
[{"$nulls":3},"Priority"]
[{"$nulls":4},"Relative to the other core capabilities, efforts to build and/or sustain this core capability are of high importance to my jurisdiction’s preparedness activities.",{"$nulls":10},0]
[{"$nulls":4},"Relative to the other core capabilities, efforts to build and/or sustain this core capability are of medium importance to my jurisdiction’s preparedness activities."]
[{"$nulls":4},"Relative to the other core capabilities, efforts to build and/or sustain this core capability are of low importance to my jurisdiction’s preparedness activities."]
[]
[{"$nulls":3},"Planning","Rating\nInternal Capability","Rating (optional)\nInternal Capability + Mutual Aid","Gap Description (optional)","Recent Advances (optional)"]
[{"$nulls":4},{"$f":"LOOKUP(P14, Lists!$C$2:$C$8, Lists!D2:D8)","v":"No selection made"},{"$f":"LOOKUP(Q14, Lists!$C$2:$C$8, Lists!D2:D8)","v":"No selection made"},{"$nulls":9},1,1,{"$f":"COUNTIF(I15:AC15, \"TRUE\")","v":0},0,0]
[{"$nulls":4},"Into which functional area(s) does your community's planning gaps fall?",{"$nulls":3},false,false,false,false,false,false,false,false,false]
[]
[{"$nulls":3},"Organization","Rating\nInternal Capability","Rating (optional)\nInternal Capability + Mutual Aid","Gap Description (optional)","Recent Advances (optional)"]
[{"$nulls":4},{"$f":"LOOKUP(P18, Lists!$C$2:$C$8, Lists!E2:E8)","v":"No selection made"},{"$f":"LOOKUP(Q18, Lists!$C$2:$C$8, Lists!E2:E8)","v":"No selection made"},{"$nulls":9},1,1,{"$f":"COUNTIF(I19:AC19, \"TRUE\")","v":0},null,0]
[{"$nulls":4},"Into which functional area(s) does your community's organizational gaps fall?",{"$nulls":9},false]
[]
[{"$nulls":3},"Equipment","Rating\nInternal Capability","Rating (optional)\nInternal Capability + Mutual Aid","Gap Description (optional)","Recent Advances (optional)",{"$nulls":7},1,1]
[{"$nulls":4},{"$f":"LOOKUP(P22, Lists!$C$2:$C$8, Lists!F2:F8)","v":"No selection made"},{"$f":"LOOKUP(Q22, Lists!$C$2:$C$8, Lists!F2:F8)","v":"No selection made"},{"$nulls":9},1,1,{"$f":"COUNTIF(I23:AC23, \"TRUE\")","v":0},null,0]
[{"$nulls":4},"Into which functional area(s) does your community's equipment gaps fall?",{"$nulls":9},false]
[]
[{"$nulls":3},"Training","Rating\nInternal Capability","Rating (optional)\nInternal Capability + Mutual Aid","Gap Description (optional)","Recent Advances (optional)",{"$nulls":7},1,1]
[{"$nulls":4},{"$f":"LOOKUP(P26, Lists!$C$2:$C$8, Lists!G2:G8)","v":"No selection made"},{"$f":"LOOKUP(Q26, Lists!$C$2:$C$8, Lists!G2:G8)","v":"No selection made"},{"$nulls":9},1,1,{"$f":"COUNTIF(I27:AC27, \"TRUE\")","v":0},0,0]
[{"$nulls":4},"Into which functional area(s) does your community's training gaps fall?",{"$nulls":3},false,false,false,false,false,false,false,false,false,false,false]
[]
[{"$nulls":3},"Exercises","Rating\nInternal Capability","Rating (optional)\nInternal Capability + Mutual Aid","Gap Description (optional)","Recent Advances (optional)",{"$nulls":7},1,1]
[{"$nulls":4},{"$f":"LOOKUP(P30, Lists!$C$2:$C$8, Lists!H2:H8)","v":"No selection made"},{"$f":"LOOKUP(Q30, Lists!$C$2:$C$8, Lists!H2:H8)","v":"No selection made"},{"$nulls":9},1,1,{"$f":"COUNTIF(I31:AC31, \"TRUE\")","v":0},0,0]
[{"$nulls":4},"Into which functional area(s) does your community's exercise gaps fall?",{"$nulls":3},false,false,false,false,false,false,false,false]
[]
[{"$nulls":3},"Assessment Corroboration"]
[{"$nulls":8},{"$f":"IF(M34=TRUE, \"TRUE\", (IF(AND(K34=TRUE, N34=1), \"TRUE\", (IF(AND(L34= TRUE, N34=1), \"TRUE\")))))","v":false},{"$f":"COUNTIF(K34:M34, \"TRUE\")","v":0},false,false,false,0]
[]
[]
[{"$nulls":3},"Responsibility for Filling Gap",{"$nulls":11},0]
[{"$nulls":15},0]
[]
[]
[]
[]
[]
[{"$nulls":3},"Resource Requirements",{"$nulls":5},"NIMS",4]
[{"$nulls":3},"NIMS-typed Resources","Category","Resource","Type","Number Available",null,"Other",4]
[{"$nulls":4},{"$f":"'THIRA #25 Pub Private Services'!E8","v":0},{"$f":"'THIRA #25 Pub Private Services'!F8","v":0},{"$f":"'THIRA #25 Pub Private Services'!G8","v":0}]
[{"$nulls":4},{"$f":"'THIRA #25 Pub Private Services'!E9","v":0},{"$f":"'THIRA #25 Pub Private Services'!F9","v":0},{"$f":"'THIRA #25 Pub Private Services'!G9","v":0}]
[{"$nulls":4},{"$f":"'THIRA #25 Pub Private Services'!E10","v":0},{"$f":"'THIRA #25 Pub Private Services'!F10","v":0},{"$f":"'THIRA #25 Pub Private Services'!G10","v":0}]
[{"$nulls":4},{"$f":"'THIRA #25 Pub Private Services'!E11","v":0},{"$f":"'THIRA #25 Pub Private Services'!F11","v":0},{"$f":"'THIRA #25 Pub Private Services'!G11","v":0}]
[{"$nulls":3},"Other\nResources","Resource\n(Example:  Case Management Team)",null,"Category\n","Number Available\n"]
[{"$nulls":4},{"$f":"'THIRA #25 Pub Private Services'!E13","v":0},null,{"$f":"'THIRA #25 Pub Private Services'!G13","v":0}]
[{"$nulls":4},{"$f":"'THIRA #25 Pub Private Services'!E14","v":0},null,{"$f":"'THIRA #25 Pub Private Services'!G14","v":0}]
[{"$nulls":4},{"$f":"'THIRA #25 Pub Private Services'!E15","v":0},null,{"$f":"'THIRA #25 Pub Private Services'!G15","v":0}]
[{"$nulls":4},{"$f":"'THIRA #25 Pub Private Services'!E16","v":0},null,{"$f":"'THIRA #25 Pub Private Services'!G16","v":0}]
[]
[{"$nulls":3},"Journal Notes/Comments (optional)",{"$nulls":11},0]

{"sheet":"THIRA #26 Public Health Medical","index":58,"n_rows":27,"n_cols":20,"rows_kept":27,"hidden":true,"merged":[[2,3,2,7],[3,3,3,7],[3,13,3,14],[5,3,5,7],[6,3,10,3],[11,3,15,3],[11,4,11,5],[12,4,12,5],[13,4,13,5],[14,4,14,5],[15,4,15,5],[26,3,26,7]]}
[21,{"$nulls":17},"# Other Rows Filled",{"$f":"IF(COUNTIF(N$1:N803,1),MATCH(800,INDEX(1/(N$1:N803=1),0)),\"\")-(T3+8)","v":0}]
[{"$nulls":18},"# NIMS rows filled",{"$f":"IF(COUNTIF(K$1:K800,1),MATCH(800,INDEX(1/(K$1:K800=1),0)),\"\")-7","v":0}]
[{"$f":"MAX(B:B)","v":1},null,null,"Capability Target",{"$nulls":14},"# NIMS Rows",{"$f":"MAX(J:J)","v":4}]
[null,{"$f":"ROW()-3","v":1},null,{"$f":"INDIRECT(\"'THIRA Steps 1-3'!$C$3557\")","v":"Click here to enter capability targets"},{"$nulls":14},"# NIMS Started",{"$f":"SUM(K:K)-1","v":0}]
[{"$nulls":18},"# NIMS Complete",{"$f":"SUM(L:L)","v":0}]
[{"$nulls":3},"Resource Requirements",{"$nulls":14},"# Other Rows",{"$f":"MAX(M:M)","v":4}]
[{"$nulls":3},"NIMS-typed Resources","Category","Resource","Type","Number Required",null,null,1,{"$nulls":7},"# Other Rows",{"$f":"SUM(N:N)-1","v":0}]
[{"$f":"LOOKUP(E8,'NIMS Resources'!B$4:B$12,'NIMS Resources'!C$4:C$12)","v":{"$error":"#N/A"}},null,{"$f":"VLOOKUP(F8, INDIRECT(\"'NIMS Resources'!$G$4:$J$\" & 366), 4, FALSE)","v":{"$error":"#N/A"}},{"$nulls":6},1,{"$f":"IF(OR(E8<>\"\", F8<>\"\", G8<>\"\", H8<>\"\"), 1, 0)","v":0},{"$f":"IF(AND(E8<>\"\", F8<>\"\", G8<>\"\", H8<>\"\"), 1, 0)","v":0},{"$nulls":6},"# Other",{"$f":"SUM(O:O)","v":0}]
[{"$f":"LOOKUP(E9,'NIMS Resources'!B$4:B$12,'NIMS Resources'!C$4:C$12)","v":{"$error":"#N/A"}},null,{"$f":"VLOOKUP(F9, INDIRECT(\"'NIMS Resources'!$G$4:$J$\" & 366), 4, FALSE)","v":{"$error":"#N/A"}},{"$nulls":6},{"$f":"J8+1","v":2},{"$f":"IF(OR(E9<>\"\", F9<>\"\", G9<>\"\", H9<>\"\"), 1, 0)","v":0},{"$f":"IF(AND(E9<>\"\", F9<>\"\", G9<>\"\", H9<>\"\"), 1, 0)","v":0}]
[{"$f":"LOOKUP(E10,'NIMS Resources'!B$4:B$12,'NIMS Resources'!C$4:C$12)","v":{"$error":"#N/A"}},null,{"$error":"#N/A"},{"$nulls":6},{"$f":"J9+1","v":3},{"$f":"IF(OR(E10<>\"\", F10<>\"\", G10<>\"\", H10<>\"\"), 1, 0)","v":0},{"$f":"IF(AND(E10<>\"\", F10<>\"\", G10<>\"\", H10<>\"\"), 1, 0)","v":0}]
[{"$f":"LOOKUP(E11,'NIMS Resources'!B$4:B$12,'NIMS Resources'!C$4:C$12)","v":{"$error":"#N/A"}},null,{"$error":"#N/A"},{"$nulls":6},{"$f":"J10+1","v":4},{"$f":"IF(OR(E11<>\"\", F11<>\"\", G11<>\"\", H11<>\"\"), 1, 0)","v":0},{"$f":"IF(AND(E11<>\"\", F11<>\"\", G11<>\"\", H11<>\"\"), 1, 0)","v":0}]
[{"$nulls":3},"Other\nResources","Resource\n(Example:  Case Management Team)",null,"Category\r\n","Number Required\n",{"$nulls":5},1]
[{"$nulls":12},1,{"$f":"IF(OR(E13<>\"\", H13<>\"\"), 1, 0)","v":0},{"$f":"IF(AND(E13<>\"\", H13<>\"\"), 1, 0)","v":0}]
[{"$nulls":12},{"$f":"M13+1","v":2},{"$f":"IF(OR(E14<>\"\", H14<>\"\"), 1, 0)","v":0},{"$f":"IF(AND(E14<>\"\", H14<>\"\"), 1, 0)","v":0}]
[{"$nulls":12},{"$f":"M14+1","v":3},{"$f":"IF(OR(E15<>\"\", H15<>\"\"), 1, 0)","v":0},{"$f":"IF(AND(E15<>\"\", H15<>\"\"), 1, 0)","v":0}]
[{"$nulls":12},{"$f":"M15+1","v":4},{"$f":"IF(OR(E16<>\"\", H16<>\"\"), 1, 0)","v":0},{"$f":"IF(AND(E16<>\"\", H16<>\"\"), 1, 0)","v":0}]
{"$rows_empty":10}
[{"$nulls":3},"Journal Notes/Comments (optional)",{"$nulls":5},0]

{"sheet":"SPR #26 Public Health Medical","index":59,"n_rows":56,"n_cols":20,"rows_kept":56,"hidden":true,"merged":[[2,3,2,7],[3,3,3,7],[5,3,5,7],[7,3,7,7],[8,4,8,7],[9,4,9,7],[10,4,10,7],[12,3,14,3],[14,4,14,7],[16,3,18,3],[18,4,18,7],[20,3,22,3],[22,4,22,7],[24,3,26,3],[26,4,26,7],[28,3,30,3],[30,4,30,7],[32,3,32,7],[33,3,33,7],[36,3,36,7],[43,3,43,7],[44,3,48,3],[49,3,53,3],[49,4,49,5],[50,4,50,5],[51,4,51,5],[52,4,52,5],[53,4,53,5],[55,3,55,7]]}
[21]
[26]
[{"$f":"MAX(B:B)","v":1},null,null,"Capability Target"]
[null,{"$f":"ROW()-3","v":1},null,{"$f":"INDIRECT(\"'THIRA Steps 1-3'!$C$3557\")","v":"Click here to enter capability targets"}]
[]
[{"$nulls":3},"Capability Assessment"]
[]
[{"$nulls":3},"Priority"]
[{"$nulls":4},"Relative to the other core capabilities, efforts to build and/or sustain this core capability are of high importance to my jurisdiction’s preparedness activities.",{"$nulls":10},0]
[{"$nulls":4},"Relative to the other core capabilities, efforts to build and/or sustain this core capability are of medium importance to my jurisdiction’s preparedness activities."]
[{"$nulls":4},"Relative to the other core capabilities, efforts to build and/or sustain this core capability are of low importance to my jurisdiction’s preparedness activities."]
[]
[{"$nulls":3},"Planning","Rating\nInternal Capability","Rating (optional)\nInternal Capability + Mutual Aid","Gap Description (optional)","Recent Advances (optional)"]
[{"$nulls":4},{"$f":"LOOKUP(P14, Lists!$C$2:$C$8, Lists!D2:D8)","v":"No selection made"},{"$f":"LOOKUP(Q14, Lists!$C$2:$C$8, Lists!D2:D8)","v":"No selection made"},{"$nulls":9},1,1,{"$f":"COUNTIF(I15:AC15, \"TRUE\")","v":0},0,0]
[{"$nulls":4},"Into which functional area(s) does your community's planning gaps fall?",{"$nulls":3},false,false,false,false,false,false,false,false,false]
[]
[{"$nulls":3},"Organization","Rating\nInternal Capability","Rating (optional)\nInternal Capability + Mutual Aid","Gap Description (optional)","Recent Advances (optional)"]
[{"$nulls":4},{"$f":"LOOKUP(P18, Lists!$C$2:$C$8, Lists!E2:E8)","v":"No selection made"},{"$f":"LOOKUP(Q18, Lists!$C$2:$C$8, Lists!E2:E8)","v":"No selection made"},{"$nulls":9},1,1,{"$f":"COUNTIF(I19:AC19, \"TRUE\")","v":0},null,0]
[{"$nulls":4},"Into which functional area(s) does your community's organizational gaps fall?",{"$nulls":10},false]
[]
[{"$nulls":3},"Equipment","Rating\nInternal Capability","Rating (optional)\nInternal Capability + Mutual Aid","Gap Description (optional)","Recent Advances (optional)",{"$nulls":7},1,1]
[{"$nulls":4},{"$f":"LOOKUP(P22, Lists!$C$2:$C$8, Lists!F2:F8)","v":"No selection made"},{"$f":"LOOKUP(Q22, Lists!$C$2:$C$8, Lists!F2:F8)","v":"No selection made"},{"$nulls":9},1,1,{"$f":"COUNTIF(I23:AC23, \"TRUE\")","v":0},null,0]
[{"$nulls":4},"Into which functional area(s) does your community's equipment gaps fall?",{"$nulls":10},false]
[]
[{"$nulls":3},"Training","Rating\nInternal Capability","Rating (optional)\nInternal Capability + Mutual Aid","Gap Description (optional)","Recent Advances (optional)",{"$nulls":7},1,1]
[{"$nulls":4},{"$f":"LOOKUP(P26, Lists!$C$2:$C$8, Lists!G2:G8)","v":"No selection made"},{"$f":"LOOKUP(Q26, Lists!$C$2:$C$8, Lists!G2:G8)","v":"No selection made"},{"$nulls":9},1,1,{"$f":"COUNTIF(I27:AC27, \"TRUE\")","v":0},0,0]
[{"$nulls":4},"Into which functional area(s) does your community's training gaps fall?",{"$nulls":3},false,false,false,false,false,false,false,false,false,false,false]
[]
[{"$nulls":3},"Exercises","Rating\nInternal Capability","Rating (optional)\nInternal Capability + Mutual Aid","Gap Description (optional)","Recent Advances (optional)",{"$nulls":7},1,1]
[{"$nulls":4},{"$f":"LOOKUP(P30, Lists!$C$2:$C$8, Lists!H2:H8)","v":"No selection made"},{"$f":"LOOKUP(Q30, Lists!$C$2:$C$8, Lists!H2:H8)","v":"No selection made"},{"$nulls":9},1,1,{"$f":"COUNTIF(I31:AC31, \"TRUE\")","v":0},0,0]
[{"$nulls":4},"Into which functional area(s) does your community's exercise gaps fall?",{"$nulls":3},false,false,false,false,false,false,false,false]
[]
[{"$nulls":3},"Assessment Corroboration"]
[{"$nulls":8},{"$f":"IF(M34=TRUE, \"TRUE\", (IF(AND(K34=TRUE, N34=1), \"TRUE\", (IF(AND(L34= TRUE, N34=1), \"TRUE\")))))","v":false},{"$f":"COUNTIF(K34:M34, \"TRUE\")","v":0},false,false,false,0]
[]
[]
[{"$nulls":3},"Responsibility for Filling Gap",{"$nulls":11},0]
[{"$nulls":15},0]
[]
[]
[]
[]
[]
[{"$nulls":3},"Resource Requirements",{"$nulls":5},"NIMS",4]
[{"$nulls":3},"NIMS-typed Resources","Category","Resource","Type","Number Available",null,"Other",4]
[{"$nulls":4},{"$f":"'THIRA #26 Public Health Medical'!E8","v":0},{"$f":"'THIRA #26 Public Health Medical'!F8","v":0},{"$f":"'THIRA #26 Public Health Medical'!G8","v":0}]
[{"$nulls":4},{"$f":"'THIRA #26 Public Health Medical'!E9","v":0},{"$f":"'THIRA #26 Public Health Medical'!F9","v":0},{"$f":"'THIRA #26 Public Health Medical'!G9","v":0}]
[{"$nulls":4},{"$f":"'THIRA #26 Public Health Medical'!E10","v":0},{"$f":"'THIRA #26 Public Health Medical'!F10","v":0},{"$f":"'THIRA #26 Public Health Medical'!G10","v":0}]
[{"$nulls":4},{"$f":"'THIRA #26 Public Health Medical'!E11","v":0},{"$f":"'THIRA #26 Public Health Medical'!F11","v":0},{"$f":"'THIRA #26 Public Health Medical'!G11","v":0}]
[{"$nulls":3},"Other\nResources","Resource\n(Example:  Case Management Team)",null,"Category\n","Number Available\n"]
[{"$nulls":4},{"$f":"'THIRA #26 Public Health Medical'!E13","v":0},null,{"$f":"'THIRA #26 Public Health Medical'!G13","v":0}]
[{"$nulls":4},{"$f":"'THIRA #26 Public Health Medical'!E14","v":0},null,{"$f":"'THIRA #26 Public Health Medical'!G14","v":0}]
[{"$nulls":4},{"$f":"'THIRA #26 Public Health Medical'!E15","v":0},null,{"$f":"'THIRA #26 Public Health Medical'!G15","v":0}]
[{"$nulls":4},{"$f":"'THIRA #26 Public Health Medical'!E16","v":0},null,{"$f":"'THIRA #26 Public Health Medical'!G16","v":0}]
[]
[{"$nulls":3},"Journal Notes/Comments (optional)",{"$nulls":11},0]

{"sheet":"THIRA #27 Sit Assessment","index":60,"n_rows":27,"n_cols":20,"rows_kept":27,"hidden":true,"merged":[[2,3,2,7],[3,3,3,7],[3,13,3,14],[5,3,5,7],[6,3,10,3],[11,3,15,3],[11,4,11,5],[12,4,12,5],[13,4,13,5],[14,4,14,5],[15,4,15,5],[26,3,26,7]]}
[21,{"$nulls":17},"# Other Rows Filled",{"$f":"IF(COUNTIF(N$1:N803,1),MATCH(800,INDEX(1/(N$1:N803=1),0)),\"\")-(T3+8)","v":0}]
[{"$nulls":18},"# NIMS rows filled",{"$f":"IF(COUNTIF(K$1:K800,1),MATCH(800,INDEX(1/(K$1:K800=1),0)),\"\")-7","v":0}]
[{"$f":"MAX(B:B)","v":1},null,null,"Capability Target",{"$nulls":14},"# NIMS Rows",{"$f":"MAX(J:J)","v":4}]
[null,{"$f":"ROW()-3","v":1},null,{"$f":"INDIRECT(\"'THIRA Steps 1-3'!$C$3645\")","v":"Click here to enter capability targets"},{"$nulls":14},"# NIMS Started",{"$f":"SUM(K:K)-1","v":0}]
[{"$nulls":18},"# NIMS Complete",{"$f":"SUM(L:L)","v":0}]
[{"$nulls":3},"Resource Requirements",{"$nulls":14},"# Other Rows",{"$f":"MAX(M:M)","v":4}]
[{"$nulls":3},"NIMS-typed Resources","Category","Resource","Type","Number Required",null,null,1,{"$nulls":7},"# Other Rows",{"$f":"SUM(N:N)-1","v":0}]
[{"$f":"LOOKUP(E8,'NIMS Resources'!B$4:B$12,'NIMS Resources'!C$4:C$12)","v":{"$error":"#N/A"}},null,{"$f":"VLOOKUP(F8, INDIRECT(\"'NIMS Resources'!$G$4:$J$\" & 366), 4, FALSE)","v":{"$error":"#N/A"}},{"$nulls":6},1,{"$f":"IF(OR(E8<>\"\", F8<>\"\", G8<>\"\", H8<>\"\"), 1, 0)","v":0},{"$f":"IF(AND(E8<>\"\", F8<>\"\", G8<>\"\", H8<>\"\"), 1, 0)","v":0},{"$nulls":6},"# Other",{"$f":"SUM(O:O)","v":0}]
[{"$f":"LOOKUP(E9,'NIMS Resources'!B$4:B$12,'NIMS Resources'!C$4:C$12)","v":{"$error":"#N/A"}},null,{"$f":"VLOOKUP(F9, INDIRECT(\"'NIMS Resources'!$G$4:$J$\" & 366), 4, FALSE)","v":{"$error":"#N/A"}},{"$nulls":6},{"$f":"J8+1","v":2},{"$f":"IF(OR(E9<>\"\", F9<>\"\", G9<>\"\", H9<>\"\"), 1, 0)","v":0},{"$f":"IF(AND(E9<>\"\", F9<>\"\", G9<>\"\", H9<>\"\"), 1, 0)","v":0}]
[{"$f":"LOOKUP(E10,'NIMS Resources'!B$4:B$12,'NIMS Resources'!C$4:C$12)","v":{"$error":"#N/A"}},null,{"$error":"#N/A"},{"$nulls":6},{"$f":"J9+1","v":3},{"$f":"IF(OR(E10<>\"\", F10<>\"\", G10<>\"\", H10<>\"\"), 1, 0)","v":0},{"$f":"IF(AND(E10<>\"\", F10<>\"\", G10<>\"\", H10<>\"\"), 1, 0)","v":0}]
[{"$f":"LOOKUP(E11,'NIMS Resources'!B$4:B$12,'NIMS Resources'!C$4:C$12)","v":{"$error":"#N/A"}},null,{"$error":"#N/A"},{"$nulls":6},{"$f":"J10+1","v":4},{"$f":"IF(OR(E11<>\"\", F11<>\"\", G11<>\"\", H11<>\"\"), 1, 0)","v":0},{"$f":"IF(AND(E11<>\"\", F11<>\"\", G11<>\"\", H11<>\"\"), 1, 0)","v":0}]
[{"$nulls":3},"Other\nResources","Resource\n(Example:  Case Management Team)",null,"Category\r\n","Number Required\n",{"$nulls":5},1]
[{"$nulls":12},1,{"$f":"IF(OR(E13<>\"\", H13<>\"\"), 1, 0)","v":0},{"$f":"IF(AND(E13<>\"\", H13<>\"\"), 1, 0)","v":0}]
[{"$nulls":12},{"$f":"M13+1","v":2},{"$f":"IF(OR(E14<>\"\", H14<>\"\"), 1, 0)","v":0},{"$f":"IF(AND(E14<>\"\", H14<>\"\"), 1, 0)","v":0}]
[{"$nulls":12},{"$f":"M14+1","v":3},{"$f":"IF(OR(E15<>\"\", H15<>\"\"), 1, 0)","v":0},{"$f":"IF(AND(E15<>\"\", H15<>\"\"), 1, 0)","v":0}]
[{"$nulls":12},{"$f":"M15+1","v":4},{"$f":"IF(OR(E16<>\"\", H16<>\"\"), 1, 0)","v":0},{"$f":"IF(AND(E16<>\"\", H16<>\"\"), 1, 0)","v":0}]
{"$rows_empty":10}
[{"$nulls":3},"Journal Notes/Comments (optional)",{"$nulls":5},0]

{"sheet":"SPR #27 Sit Assessment","index":61,"n_rows":56,"n_cols":20,"rows_kept":56,"hidden":true,"merged":[[2,3,2,7],[3,3,3,7],[5,3,5,7],[7,3,7,7],[8,4,8,7],[9,4,9,7],[10,4,10,7],[12,3,14,3],[14,4,14,7],[16,3,18,3],[18,4,18,7],[20,3,22,3],[22,4,22,7],[24,3,26,3],[26,4,26,7],[28,3,30,3],[30,4,30,7],[32,3,32,7],[33,3,33,7],[36,3,36,7],[43,3,43,7],[44,3,48,3],[49,3,53,3],[49,4,49,5],[50,4,50,5],[51,4,51,5],[52,4,52,5],[53,4,53,5],[55,3,55,7]]}
[21]
[27]
[{"$f":"MAX(B:B)","v":1},null,null,"Capability Target"]
[null,{"$f":"ROW()-3","v":1},null,{"$f":"INDIRECT(\"'THIRA Steps 1-3'!$C$3645\")","v":"Click here to enter capability targets"}]
[]
[{"$nulls":3},"Capability Assessment"]
[]
[{"$nulls":3},"Priority"]
[{"$nulls":4},"Relative to the other core capabilities, efforts to build and/or sustain this core capability are of high importance to my jurisdiction’s preparedness activities.",{"$nulls":10},0]
[{"$nulls":4},"Relative to the other core capabilities, efforts to build and/or sustain this core capability are of medium importance to my jurisdiction’s preparedness activities."]
[{"$nulls":4},"Relative to the other core capabilities, efforts to build and/or sustain this core capability are of low importance to my jurisdiction’s preparedness activities."]
[]
[{"$nulls":3},"Planning","Rating\nInternal Capability","Rating (optional)\nInternal Capability + Mutual Aid","Gap Description (optional)","Recent Advances (optional)"]
[{"$nulls":4},{"$f":"LOOKUP(P14, Lists!$C$2:$C$8, Lists!D2:D8)","v":"No selection made"},{"$f":"LOOKUP(Q14, Lists!$C$2:$C$8, Lists!D2:D8)","v":"No selection made"},{"$nulls":9},1,1,{"$f":"COUNTIF(I15:AC15, \"TRUE\")","v":0},0,0]
[{"$nulls":4},"Into which functional area(s) does your community's planning gaps fall?",{"$nulls":3},false,false,false,false,false,false,false,false,false]
[]
[{"$nulls":3},"Organization","Rating\nInternal Capability","Rating (optional)\nInternal Capability + Mutual Aid","Gap Description (optional)","Recent Advances (optional)"]
[{"$nulls":4},{"$f":"LOOKUP(P18, Lists!$C$2:$C$8, Lists!E2:E8)","v":"No selection made"},{"$f":"LOOKUP(Q18, Lists!$C$2:$C$8, Lists!E2:E8)","v":"No selection made"},{"$nulls":9},1,1,{"$f":"COUNTIF(I19:AC19, \"TRUE\")","v":0},null,0]
[{"$nulls":4},"Into which functional area(s) does your community's organizational gaps fall?",{"$nulls":8},false]
[]
[{"$nulls":3},"Equipment","Rating\nInternal Capability","Rating (optional)\nInternal Capability + Mutual Aid","Gap Description (optional)","Recent Advances (optional)",{"$nulls":7},1,1]
[{"$nulls":4},{"$f":"LOOKUP(P22, Lists!$C$2:$C$8, Lists!F2:F8)","v":"No selection made"},{"$f":"LOOKUP(Q22, Lists!$C$2:$C$8, Lists!F2:F8)","v":"No selection made"},{"$nulls":9},1,1,{"$f":"COUNTIF(I23:AC23, \"TRUE\")","v":0},null,0]
[{"$nulls":4},"Into which functional area(s) does your community's equipment gaps fall?",{"$nulls":8},false]
[]
[{"$nulls":3},"Training","Rating\nInternal Capability","Rating (optional)\nInternal Capability + Mutual Aid","Gap Description (optional)","Recent Advances (optional)",{"$nulls":7},1,1]
[{"$nulls":4},{"$f":"LOOKUP(P26, Lists!$C$2:$C$8, Lists!G2:G8)","v":"No selection made"},{"$f":"LOOKUP(Q26, Lists!$C$2:$C$8, Lists!G2:G8)","v":"No selection made"},{"$nulls":9},1,1,{"$f":"COUNTIF(I27:AC27, \"TRUE\")","v":0},0,0]
[{"$nulls":4},"Into which functional area(s) does your community's training gaps fall?",{"$nulls":3},false,false,false,false,false,false,false,false,false,false,false]
[]
[{"$nulls":3},"Exercises","Rating\nInternal Capability","Rating (optional)\nInternal Capability + Mutual Aid","Gap Description (optional)","Recent Advances (optional)",{"$nulls":7},1,1]
[{"$nulls":4},{"$f":"LOOKUP(P30, Lists!$C$2:$C$8, Lists!H2:H8)","v":"No selection made"},{"$f":"LOOKUP(Q30, Lists!$C$2:$C$8, Lists!H2:H8)","v":"No selection made"},{"$nulls":9},1,1,{"$f":"COUNTIF(I31:AC31, \"TRUE\")","v":0},0,0]
[{"$nulls":4},"Into which functional area(s) does your community's exercise gaps fall?",{"$nulls":3},false,false,false,false,false,false,false,false]
[]
[{"$nulls":3},"Assessment Corroboration"]
[{"$nulls":8},{"$f":"IF(M34=TRUE, \"TRUE\", (IF(AND(K34=TRUE, N34=1), \"TRUE\", (IF(AND(L34= TRUE, N34=1), \"TRUE\")))))","v":false},{"$f":"COUNTIF(K34:M34, \"TRUE\")","v":0},false,false,false,0]
[]
[]
[{"$nulls":3},"Responsibility for Filling Gap",{"$nulls":11},0]
[{"$nulls":15},0]
[]
[]
[]
[]
[]
[{"$nulls":3},"Resource Requirements",{"$nulls":5},"NIMS",4]
[{"$nulls":3},"NIMS-typed Resources","Category","Resource","Type","Number Available",null,"Other",4]
[{"$nulls":4},{"$f":"'THIRA #27 Sit Assessment'!E8","v":0},{"$f":"'THIRA #27 Sit Assessment'!F8","v":0},{"$f":"'THIRA #27 Sit Assessment'!G8","v":0}]
[{"$nulls":4},{"$f":"'THIRA #27 Sit Assessment'!E9","v":0},{"$f":"'THIRA #27 Sit Assessment'!F9","v":0},{"$f":"'THIRA #27 Sit Assessment'!G9","v":0}]
[{"$nulls":4},{"$f":"'THIRA #27 Sit Assessment'!E10","v":0},{"$f":"'THIRA #27 Sit Assessment'!F10","v":0},{"$f":"'THIRA #27 Sit Assessment'!G10","v":0}]
[{"$nulls":4},{"$f":"'THIRA #27 Sit Assessment'!E11","v":0},{"$f":"'THIRA #27 Sit Assessment'!F11","v":0},{"$f":"'THIRA #27 Sit Assessment'!G11","v":0}]
[{"$nulls":3},"Other\nResources","Resource\n(Example:  Case Management Team)",null,"Category\n","Number Available\n"]
[{"$nulls":4},{"$f":"'THIRA #27 Sit Assessment'!E13","v":0},null,{"$f":"'THIRA #27 Sit Assessment'!G13","v":0}]
[{"$nulls":4},{"$f":"'THIRA #27 Sit Assessment'!E14","v":0},null,{"$f":"'THIRA #27 Sit Assessment'!G14","v":0}]
[{"$nulls":4},{"$f":"'THIRA #27 Sit Assessment'!E15","v":0},null,{"$f":"'THIRA #27 Sit Assessment'!G15","v":0}]
[{"$nulls":4},{"$f":"'THIRA #27 Sit Assessment'!E16","v":0},null,{"$f":"'THIRA #27 Sit Assessment'!G16","v":0}]
[]
[{"$nulls":3},"Journal Notes/Comments (optional)",{"$nulls":11},0]

{"sheet":"THIRA #28 Econ Recovery","index":62,"n_rows":27,"n_cols":20,"rows_kept":27,"hidden":true,"merged":[[2,3,2,7],[3,3,3,7],[3,13,3,14],[5,3,5,7],[6,3,10,3],[11,3,15,3],[11,4,11,5],[12,4,12,5],[13,4,13,5],[14,4,14,5],[15,4,15,5],[26,3,26,7]]}
[21,{"$nulls":17},"# Other Rows Filled",{"$f":"IF(COUNTIF(N$1:N803,1),MATCH(800,INDEX(1/(N$1:N803=1),0)),\"\")-(T3+8)","v":0}]
[{"$nulls":18},"# NIMS rows filled",{"$f":"IF(COUNTIF(K$1:K800,1),MATCH(800,INDEX(1/(K$1:K800=1),0)),\"\")-7","v":0}]
[{"$f":"MAX(B:B)","v":1},null,null,"Capability Target",{"$nulls":14},"# NIMS Rows",{"$f":"MAX(J:J)","v":4}]
[null,{"$f":"ROW()-3","v":1},null,{"$f":"INDIRECT(\"'THIRA Steps 1-3'!$C$3733\")","v":"Click here to enter capability targets"},{"$nulls":14},"# NIMS Started",{"$f":"SUM(K:K)-1","v":0}]
[{"$nulls":18},"# NIMS Complete",{"$f":"SUM(L:L)","v":0}]
[{"$nulls":3},"Resource Requirements",{"$nulls":14},"# Other Rows",{"$f":"MAX(M:M)","v":4}]
[{"$nulls":3},"NIMS-typed Resources","Category","Resource","Type","Number Required",null,null,1,{"$nulls":7},"# Other Rows",{"$f":"SUM(N:N)-1","v":0}]
[{"$f":"LOOKUP(E8,'NIMS Resources'!B$4:B$12,'NIMS Resources'!C$4:C$12)","v":{"$error":"#N/A"}},null,{"$f":"VLOOKUP(F8, INDIRECT(\"'NIMS Resources'!$G$4:$J$\" & 366), 4, FALSE)","v":{"$error":"#N/A"}},{"$nulls":6},1,{"$f":"IF(OR(E8<>\"\", F8<>\"\", G8<>\"\", H8<>\"\"), 1, 0)","v":0},{"$f":"IF(AND(E8<>\"\", F8<>\"\", G8<>\"\", H8<>\"\"), 1, 0)","v":0},{"$nulls":6},"# Other",{"$f":"SUM(O:O)","v":0}]
[{"$f":"LOOKUP(E9,'NIMS Resources'!B$4:B$12,'NIMS Resources'!C$4:C$12)","v":{"$error":"#N/A"}},null,{"$f":"VLOOKUP(F9, INDIRECT(\"'NIMS Resources'!$G$4:$J$\" & 366), 4, FALSE)","v":{"$error":"#N/A"}},{"$nulls":6},{"$f":"J8+1","v":2},{"$f":"IF(OR(E9<>\"\", F9<>\"\", G9<>\"\", H9<>\"\"), 1, 0)","v":0},{"$f":"IF(AND(E9<>\"\", F9<>\"\", G9<>\"\", H9<>\"\"), 1, 0)","v":0}]
[{"$f":"LOOKUP(E10,'NIMS Resources'!B$4:B$12,'NIMS Resources'!C$4:C$12)","v":{"$error":"#N/A"}},null,{"$error":"#N/A"},{"$nulls":6},{"$f":"J9+1","v":3},{"$f":"IF(OR(E10<>\"\", F10<>\"\", G10<>\"\", H10<>\"\"), 1, 0)","v":0},{"$f":"IF(AND(E10<>\"\", F10<>\"\", G10<>\"\", H10<>\"\"), 1, 0)","v":0}]
[{"$f":"LOOKUP(E11,'NIMS Resources'!B$4:B$12,'NIMS Resources'!C$4:C$12)","v":{"$error":"#N/A"}},null,{"$error":"#N/A"},{"$nulls":6},{"$f":"J10+1","v":4},{"$f":"IF(OR(E11<>\"\", F11<>\"\", G11<>\"\", H11<>\"\"), 1, 0)","v":0},{"$f":"IF(AND(E11<>\"\", F11<>\"\", G11<>\"\", H11<>\"\"), 1, 0)","v":0}]
[{"$nulls":3},"Other\nResources","Resource\n(Example:  Case Management Team)",null,"Category\r\n","Number Required\n",{"$nulls":5},1]
[{"$nulls":12},1,{"$f":"IF(OR(E13<>\"\", H13<>\"\"), 1, 0)","v":0},{"$f":"IF(AND(E13<>\"\", H13<>\"\"), 1, 0)","v":0}]
[{"$nulls":12},{"$f":"M13+1","v":2},{"$f":"IF(OR(E14<>\"\", H14<>\"\"), 1, 0)","v":0},{"$f":"IF(AND(E14<>\"\", H14<>\"\"), 1, 0)","v":0}]
[{"$nulls":12},{"$f":"M14+1","v":3},{"$f":"IF(OR(E15<>\"\", H15<>\"\"), 1, 0)","v":0},{"$f":"IF(AND(E15<>\"\", H15<>\"\"), 1, 0)","v":0}]
[{"$nulls":12},{"$f":"M15+1","v":4},{"$f":"IF(OR(E16<>\"\", H16<>\"\"), 1, 0)","v":0},{"$f":"IF(AND(E16<>\"\", H16<>\"\"), 1, 0)","v":0}]
{"$rows_empty":10}
[{"$nulls":3},"Journal Notes/Comments (optional)",{"$nulls":5},0]

{"sheet":"SPR #28 Econ Recovery","index":63,"n_rows":56,"n_cols":20,"rows_kept":56,"hidden":true,"merged":[[2,3,2,7],[3,3,3,7],[5,3,5,7],[7,3,7,7],[8,4,8,7],[9,4,9,7],[10,4,10,7],[12,3,14,3],[14,4,14,7],[16,3,18,3],[18,4,18,7],[20,3,22,3],[22,4,22,7],[24,3,26,3],[26,4,26,7],[28,3,30,3],[30,4,30,7],[32,3,32,7],[33,3,33,7],[36,3,36,7],[43,3,43,7],[44,3,48,3],[49,3,53,3],[49,4,49,5],[50,4,50,5],[51,4,51,5],[52,4,52,5],[53,4,53,5],[55,3,55,7]]}
[21]
[28]
[{"$f":"MAX(B:B)","v":1},null,null,"Capability Target"]
[null,{"$f":"ROW()-3","v":1},null,{"$f":"INDIRECT(\"'THIRA Steps 1-3'!$C$3733\")","v":"Click here to enter capability targets"}]
[]
[{"$nulls":3},"Capability Assessment"]
[]
[{"$nulls":3},"Priority"]
[{"$nulls":4},"Relative to the other core capabilities, efforts to build and/or sustain this core capability are of high importance to my jurisdiction’s preparedness activities.",{"$nulls":10},0]
[{"$nulls":4},"Relative to the other core capabilities, efforts to build and/or sustain this core capability are of medium importance to my jurisdiction’s preparedness activities."]
[{"$nulls":4},"Relative to the other core capabilities, efforts to build and/or sustain this core capability are of low importance to my jurisdiction’s preparedness activities."]
[]
[{"$nulls":3},"Planning","Rating\nInternal Capability","Rating (optional)\nInternal Capability + Mutual Aid","Gap Description (optional)","Recent Advances (optional)"]
[{"$nulls":4},{"$f":"LOOKUP(P14, Lists!$C$2:$C$8, Lists!D2:D8)","v":"No selection made"},{"$f":"LOOKUP(Q14, Lists!$C$2:$C$8, Lists!D2:D8)","v":"No selection made"},{"$nulls":9},1,1,{"$f":"COUNTIF(I15:AC15, \"TRUE\")","v":0},0,0]
[{"$nulls":4},"Into which functional area(s) does your community's planning gaps fall?",{"$nulls":3},false,false,false,false,false,false,false,false,false]
[]
[{"$nulls":3},"Organization","Rating\nInternal Capability","Rating (optional)\nInternal Capability + Mutual Aid","Gap Description (optional)","Recent Advances (optional)"]
[{"$nulls":4},{"$f":"LOOKUP(P18, Lists!$C$2:$C$8, Lists!E2:E8)","v":"No selection made"},{"$f":"LOOKUP(Q18, Lists!$C$2:$C$8, Lists!E2:E8)","v":"No selection made"},{"$nulls":9},1,1,{"$f":"COUNTIF(I19:AC19, \"TRUE\")","v":0},null,0]
[{"$nulls":4},"Into which functional area(s) does your community's organizational gaps fall?",{"$nulls":4},false,{"$nulls":5},false]
[]
[{"$nulls":3},"Equipment","Rating\nInternal Capability","Rating (optional)\nInternal Capability + Mutual Aid","Gap Description (optional)","Recent Advances (optional)",{"$nulls":7},1,1]
[{"$nulls":4},{"$f":"LOOKUP(P22, Lists!$C$2:$C$8, Lists!F2:F8)","v":"No selection made"},{"$f":"LOOKUP(Q22, Lists!$C$2:$C$8, Lists!F2:F8)","v":"No selection made"},{"$nulls":9},1,1,{"$f":"COUNTIF(I23:AC23, \"TRUE\")","v":0},null,0]
[{"$nulls":4},"Into which functional area(s) does your community's equipment gaps fall?",{"$nulls":4},false,{"$nulls":5},false]
[]
[{"$nulls":3},"Training","Rating\nInternal Capability","Rating (optional)\nInternal Capability + Mutual Aid","Gap Description (optional)","Recent Advances (optional)",{"$nulls":7},1,1]
[{"$nulls":4},{"$f":"LOOKUP(P26, Lists!$C$2:$C$8, Lists!G2:G8)","v":"No selection made"},{"$f":"LOOKUP(Q26, Lists!$C$2:$C$8, Lists!G2:G8)","v":"No selection made"},{"$nulls":9},1,1,{"$f":"COUNTIF(I27:AC27, \"TRUE\")","v":0},0,0]
[{"$nulls":4},"Into which functional area(s) does your community's training gaps fall?",{"$nulls":3},false,false,false,false,false,false,false,false,false,false,false]
[]
[{"$nulls":3},"Exercises","Rating\nInternal Capability","Rating (optional)\nInternal Capability + Mutual Aid","Gap Description (optional)","Recent Advances (optional)",{"$nulls":7},1,1]
[{"$nulls":4},{"$f":"LOOKUP(P30, Lists!$C$2:$C$8, Lists!H2:H8)","v":"No selection made"},{"$f":"LOOKUP(Q30, Lists!$C$2:$C$8, Lists!H2:H8)","v":"No selection made"},{"$nulls":9},1,1,{"$f":"COUNTIF(I31:AC31, \"TRUE\")","v":0},0,0]
[{"$nulls":4},"Into which functional area(s) does your community's exercise gaps fall?",{"$nulls":3},false,false,false,false,false,false,false,false]
[]
[{"$nulls":3},"Assessment Corroboration"]
[{"$nulls":8},{"$f":"IF(M34=TRUE, \"TRUE\", (IF(AND(K34=TRUE, N34=1), \"TRUE\", (IF(AND(L34= TRUE, N34=1), \"TRUE\")))))","v":false},{"$f":"COUNTIF(K34:M34, \"TRUE\")","v":0},false,false,false,0]
[]
[]
[{"$nulls":3},"Responsibility for Filling Gap",{"$nulls":11},0]
[{"$nulls":15},0]
[]
[]
[]
[]
[]
[{"$nulls":3},"Resource Requirements",{"$nulls":5},"NIMS",4]
[{"$nulls":3},"NIMS-typed Resources","Category","Resource","Type","Number Available",null,"Other",4]
[{"$nulls":4},{"$f":"'THIRA #28 Econ Recovery'!E8","v":0},{"$f":"'THIRA #28 Econ Recovery'!F8","v":0},{"$f":"'THIRA #28 Econ Recovery'!G8","v":0}]
[{"$nulls":4},{"$f":"'THIRA #28 Econ Recovery'!E9","v":0},{"$f":"'THIRA #28 Econ Recovery'!F9","v":0},{"$f":"'THIRA #28 Econ Recovery'!G9","v":0}]
[{"$nulls":4},{"$f":"'THIRA #28 Econ Recovery'!E10","v":0},{"$f":"'THIRA #28 Econ Recovery'!F10","v":0},{"$f":"'THIRA #28 Econ Recovery'!G10","v":0}]
[{"$nulls":4},{"$f":"'THIRA #28 Econ Recovery'!E11","v":0},{"$f":"'THIRA #28 Econ Recovery'!F11","v":0},{"$f":"'THIRA #28 Econ Recovery'!G11","v":0}]
[{"$nulls":3},"Other\nResources","Resource\n(Example:  Case Management Team)",null,"Category\n","Number Available\n"]
[{"$nulls":4},{"$f":"'THIRA #28 Econ Recovery'!E13","v":0},null,{"$f":"'THIRA #28 Econ Recovery'!G13","v":0}]
[{"$nulls":4},{"$f":"'THIRA #28 Econ Recovery'!E14","v":0},null,{"$f":"'THIRA #28 Econ Recovery'!G14","v":0}]
[{"$nulls":4},{"$f":"'THIRA #28 Econ Recovery'!E15","v":0},null,{"$f":"'THIRA #28 Econ Recovery'!G15","v":0}]
[{"$nulls":4},{"$f":"'THIRA #28 Econ Recovery'!E16","v":0},null,{"$f":"'THIRA #28 Econ Recovery'!G16","v":0}]
[]
[{"$nulls":3},"Journal Notes/Comments (optional)",{"$nulls":11},0]

{"sheet":"THIRA #29 Health Soc Services","index":64,"n_rows":27,"n_cols":20,"rows_kept":27,"hidden":true,"merged":[[2,3,2,7],[3,3,3,7],[3,13,3,14],[5,3,5,7],[6,3,10,3],[11,3,15,3],[11,4,11,5],[12,4,12,5],[13,4,13,5],[14,4,14,5],[15,4,15,5],[26,3,26,7]]}
[21,{"$nulls":17},"# Other Rows Filled",{"$f":"IF(COUNTIF(N$1:N803,1),MATCH(800,INDEX(1/(N$1:N803=1),0)),\"\")-(T3+8)","v":0}]
[{"$nulls":18},"# NIMS rows filled",{"$f":"IF(COUNTIF(K$1:K800,1),MATCH(800,INDEX(1/(K$1:K800=1),0)),\"\")-7","v":0}]
[{"$f":"MAX(B:B)","v":1},null,null,"Capability Target",{"$nulls":14},"# NIMS Rows",{"$f":"MAX(J:J)","v":4}]
[null,{"$f":"ROW()-3","v":1},null,{"$f":"INDIRECT(\"'THIRA Steps 1-3'!$C$3821\")","v":"Click here to enter capability targets"},{"$nulls":14},"# NIMS Started",{"$f":"SUM(K:K)-1","v":0}]
[{"$nulls":18},"# NIMS Complete",{"$f":"SUM(L:L)","v":0}]
[{"$nulls":3},"Resource Requirements",{"$nulls":14},"# Other Rows",{"$f":"MAX(M:M)","v":4}]
[{"$nulls":3},"NIMS-typed Resources","Category","Resource","Type","Number Required",null,null,1,{"$nulls":7},"# Other Rows",{"$f":"SUM(N:N)-1","v":0}]
[{"$f":"LOOKUP(E8,'NIMS Resources'!B$4:B$12,'NIMS Resources'!C$4:C$12)","v":{"$error":"#N/A"}},null,{"$f":"VLOOKUP(F8, INDIRECT(\"'NIMS Resources'!$G$4:$J$\" & 366), 4, FALSE)","v":{"$error":"#N/A"}},{"$nulls":6},1,{"$f":"IF(OR(E8<>\"\", F8<>\"\", G8<>\"\", H8<>\"\"), 1, 0)","v":0},{"$f":"IF(AND(E8<>\"\", F8<>\"\", G8<>\"\", H8<>\"\"), 1, 0)","v":0},{"$nulls":6},"# Other",{"$f":"SUM(O:O)","v":0}]
[{"$f":"LOOKUP(E9,'NIMS Resources'!B$4:B$12,'NIMS Resources'!C$4:C$12)","v":{"$error":"#N/A"}},null,{"$f":"VLOOKUP(F9, INDIRECT(\"'NIMS Resources'!$G$4:$J$\" & 366), 4, FALSE)","v":{"$error":"#N/A"}},{"$nulls":6},{"$f":"J8+1","v":2},{"$f":"IF(OR(E9<>\"\", F9<>\"\", G9<>\"\", H9<>\"\"), 1, 0)","v":0},{"$f":"IF(AND(E9<>\"\", F9<>\"\", G9<>\"\", H9<>\"\"), 1, 0)","v":0}]
[{"$f":"LOOKUP(E10,'NIMS Resources'!B$4:B$12,'NIMS Resources'!C$4:C$12)","v":{"$error":"#N/A"}},null,{"$error":"#N/A"},{"$nulls":6},{"$f":"J9+1","v":3},{"$f":"IF(OR(E10<>\"\", F10<>\"\", G10<>\"\", H10<>\"\"), 1, 0)","v":0},{"$f":"IF(AND(E10<>\"\", F10<>\"\", G10<>\"\", H10<>\"\"), 1, 0)","v":0}]
[{"$f":"LOOKUP(E11,'NIMS Resources'!B$4:B$12,'NIMS Resources'!C$4:C$12)","v":{"$error":"#N/A"}},null,{"$error":"#N/A"},{"$nulls":6},{"$f":"J10+1","v":4},{"$f":"IF(OR(E11<>\"\", F11<>\"\", G11<>\"\", H11<>\"\"), 1, 0)","v":0},{"$f":"IF(AND(E11<>\"\", F11<>\"\", G11<>\"\", H11<>\"\"), 1, 0)","v":0}]
[{"$nulls":3},"Other\nResources","Resource\n(Example:  Case Management Team)",null,"Category\r\n","Number Required\n",{"$nulls":5},1]
[{"$nulls":12},1,{"$f":"IF(OR(E13<>\"\", H13<>\"\"), 1, 0)","v":0},{"$f":"IF(AND(E13<>\"\", H13<>\"\"), 1, 0)","v":0}]
[{"$nulls":12},{"$f":"M13+1","v":2},{"$f":"IF(OR(E14<>\"\", H14<>\"\"), 1, 0)","v":0},{"$f":"IF(AND(E14<>\"\", H14<>\"\"), 1, 0)","v":0}]
[{"$nulls":12},{"$f":"M14+1","v":3},{"$f":"IF(OR(E15<>\"\", H15<>\"\"), 1, 0)","v":0},{"$f":"IF(AND(E15<>\"\", H15<>\"\"), 1, 0)","v":0}]
[{"$nulls":12},{"$f":"M15+1","v":4},{"$f":"IF(OR(E16<>\"\", H16<>\"\"), 1, 0)","v":0},{"$f":"IF(AND(E16<>\"\", H16<>\"\"), 1, 0)","v":0}]
{"$rows_empty":10}
[{"$nulls":3},"Journal Notes/Comments (optional)",{"$nulls":5},0]

{"sheet":"SPR #29 Health Soc Services","index":65,"n_rows":56,"n_cols":22,"rows_kept":56,"hidden":true,"merged":[[2,3,2,7],[3,3,3,7],[5,3,5,7],[7,3,7,7],[8,4,8,7],[9,4,9,7],[10,4,10,7],[12,3,14,3],[14,4,14,7],[16,3,18,3],[18,4,18,7],[20,3,22,3],[22,4,22,7],[24,3,26,3],[26,4,26,7],[28,3,30,3],[30,4,30,7],[32,3,32,7],[33,3,33,7],[36,3,36,7],[43,3,43,7],[44,3,48,3],[49,3,53,3],[49,4,49,5],[50,4,50,5],[51,4,51,5],[52,4,52,5],[53,4,53,5],[55,3,55,7]]}
[21]
[29]
[{"$f":"MAX(B:B)","v":1},null,null,"Capability Target"]
[null,{"$f":"ROW()-3","v":1},null,{"$f":"INDIRECT(\"'THIRA Steps 1-3'!$C$3821\")","v":"Click here to enter capability targets"}]
[]
[{"$nulls":3},"Capability Assessment"]
[]
[{"$nulls":3},"Priority"]
[{"$nulls":4},"Relative to the other core capabilities, efforts to build and/or sustain this core capability are of high importance to my jurisdiction’s preparedness activities.",{"$nulls":10},0]
[{"$nulls":4},"Relative to the other core capabilities, efforts to build and/or sustain this core capability are of medium importance to my jurisdiction’s preparedness activities."]
[{"$nulls":4},"Relative to the other core capabilities, efforts to build and/or sustain this core capability are of low importance to my jurisdiction’s preparedness activities."]
[]
[{"$nulls":3},"Planning","Rating\nInternal Capability","Rating (optional)\nInternal Capability + Mutual Aid","Gap Description (optional)","Recent Advances (optional)"]
[{"$nulls":4},{"$f":"LOOKUP(P14, Lists!$C$2:$C$8, Lists!D2:D8)","v":"No selection made"},{"$f":"LOOKUP(Q14, Lists!$C$2:$C$8, Lists!D2:D8)","v":"No selection made"},{"$nulls":9},1,1,{"$f":"COUNTIF(I15:AC15, \"TRUE\")","v":0},0,0]
[{"$nulls":4},"Into which functional area(s) does your community's planning gaps fall?",{"$nulls":3},false,false,false,false,false,false,false,false,false,{"$nulls":4},false]
[]
[{"$nulls":3},"Organization","Rating\nInternal Capability","Rating (optional)\nInternal Capability + Mutual Aid","Gap Description (optional)","Recent Advances (optional)"]
[{"$nulls":4},{"$f":"LOOKUP(P18, Lists!$C$2:$C$8, Lists!E2:E8)","v":"No selection made"},{"$f":"LOOKUP(Q18, Lists!$C$2:$C$8, Lists!E2:E8)","v":"No selection made"},{"$nulls":9},1,1,{"$f":"COUNTIF(I19:AC19, \"TRUE\")","v":0},null,0]
[{"$nulls":4},"Into which functional area(s) does your community's organizational gaps fall?",{"$nulls":16},false]
[]
[{"$nulls":3},"Equipment","Rating\nInternal Capability","Rating (optional)\nInternal Capability + Mutual Aid","Gap Description (optional)","Recent Advances (optional)",{"$nulls":7},1,1]
[{"$nulls":4},{"$f":"LOOKUP(P22, Lists!$C$2:$C$8, Lists!F2:F8)","v":"No selection made"},{"$f":"LOOKUP(Q22, Lists!$C$2:$C$8, Lists!F2:F8)","v":"No selection made"},{"$nulls":9},1,1,{"$f":"COUNTIF(I23:AC23, \"TRUE\")","v":0},null,0]
[{"$nulls":4},"Into which functional area(s) does your community's equipment gaps fall?",{"$nulls":16},false]
[]
[{"$nulls":3},"Training","Rating\nInternal Capability","Rating (optional)\nInternal Capability + Mutual Aid","Gap Description (optional)","Recent Advances (optional)",{"$nulls":7},1,1]
[{"$nulls":4},{"$f":"LOOKUP(P26, Lists!$C$2:$C$8, Lists!G2:G8)","v":"No selection made"},{"$f":"LOOKUP(Q26, Lists!$C$2:$C$8, Lists!G2:G8)","v":"No selection made"},{"$nulls":9},1,1,{"$f":"COUNTIF(I27:AC27, \"TRUE\")","v":0},0,0]
[{"$nulls":4},"Into which functional area(s) does your community's training gaps fall?",{"$nulls":3},false,false,false,false,false,false,false,false,false,false,false,null,null,false]
[]
[{"$nulls":3},"Exercises","Rating\nInternal Capability","Rating (optional)\nInternal Capability + Mutual Aid","Gap Description (optional)","Recent Advances (optional)",{"$nulls":7},1,1]
[{"$nulls":4},{"$f":"LOOKUP(P30, Lists!$C$2:$C$8, Lists!H2:H8)","v":"No selection made"},{"$f":"LOOKUP(Q30, Lists!$C$2:$C$8, Lists!H2:H8)","v":"No selection made"},{"$nulls":9},1,1,{"$f":"COUNTIF(I31:AC31, \"TRUE\")","v":0},0,0]
[{"$nulls":4},"Into which functional area(s) does your community's exercise gaps fall?",{"$nulls":3},false,false,false,false,false,false,false,false,null,false,{"$nulls":3},false]
[]
[{"$nulls":3},"Assessment Corroboration"]
[{"$nulls":8},{"$f":"IF(M34=TRUE, \"TRUE\", (IF(AND(K34=TRUE, N34=1), \"TRUE\", (IF(AND(L34= TRUE, N34=1), \"TRUE\")))))","v":false},{"$f":"COUNTIF(K34:M34, \"TRUE\")","v":0},false,false,false,0]
[]
[]
[{"$nulls":3},"Responsibility for Filling Gap",{"$nulls":11},0]
[{"$nulls":15},0]
[]
[]
[]
[]
[]
[{"$nulls":3},"Resource Requirements",{"$nulls":5},"NIMS",4]
[{"$nulls":3},"NIMS-typed Resources","Category","Resource","Type","Number Available",null,"Other",4]
[{"$nulls":4},{"$f":"'THIRA #29 Health Soc Services'!E8","v":0},{"$f":"'THIRA #29 Health Soc Services'!F8","v":0},{"$f":"'THIRA #29 Health Soc Services'!G8","v":0}]
[{"$nulls":4},{"$f":"'THIRA #29 Health Soc Services'!E9","v":0},{"$f":"'THIRA #29 Health Soc Services'!F9","v":0},{"$f":"'THIRA #29 Health Soc Services'!G9","v":0}]
[{"$nulls":4},{"$f":"'THIRA #29 Health Soc Services'!E10","v":0},{"$f":"'THIRA #29 Health Soc Services'!F10","v":0},{"$f":"'THIRA #29 Health Soc Services'!G10","v":0}]
[{"$nulls":4},{"$f":"'THIRA #29 Health Soc Services'!E11","v":0},{"$f":"'THIRA #29 Health Soc Services'!F11","v":0},{"$f":"'THIRA #29 Health Soc Services'!G11","v":0}]
[{"$nulls":3},"Other\nResources","Resource\n(Example:  Case Management Team)",null,"Category\n","Number Available\n"]
[{"$nulls":4},{"$f":"'THIRA #29 Health Soc Services'!E13","v":0},null,{"$f":"'THIRA #29 Health Soc Services'!G13","v":0}]
[{"$nulls":4},{"$f":"'THIRA #29 Health Soc Services'!E14","v":0},null,{"$f":"'THIRA #29 Health Soc Services'!G14","v":0}]
[{"$nulls":4},{"$f":"'THIRA #29 Health Soc Services'!E15","v":0},null,{"$f":"'THIRA #29 Health Soc Services'!G15","v":0}]
[{"$nulls":4},{"$f":"'THIRA #29 Health Soc Services'!E16","v":0},null,{"$f":"'THIRA #29 Health Soc Services'!G16","v":0}]
[]
[{"$nulls":3},"Journal Notes/Comments (optional)",{"$nulls":11},0]

{"sheet":"THIRA #30 Housing","index":66,"n_rows":27,"n_cols":20,"rows_kept":27,"hidden":true,"merged":[[2,3,2,7],[3,3,3,7],[3,13,3,14],[5,3,5,7],[6,3,10,3],[11,3,15,3],[11,4,11,5],[12,4,12,5],[13,4,13,5],[14,4,14,5],[15,4,15,5],[26,3,26,7]]}
[21,{"$nulls":17},"# Other Rows Filled",{"$f":"IF(COUNTIF(N$1:N803,1),MATCH(800,INDEX(1/(N$1:N803=1),0)),\"\")-(T3+8)","v":0}]
[{"$nulls":18},"# NIMS rows filled",{"$f":"IF(COUNTIF(K$1:K800,1),MATCH(800,INDEX(1/(K$1:K800=1),0)),\"\")-7","v":0}]
[{"$f":"MAX(B:B)","v":1},null,null,"Capability Target",{"$nulls":14},"# NIMS Rows",{"$f":"MAX(J:J)","v":4}]
[null,{"$f":"ROW()-3","v":1},null,{"$f":"INDIRECT(\"'THIRA Steps 1-3'!$C$3909\")","v":"Click here to enter capability targets"},{"$nulls":14},"# NIMS Started",{"$f":"SUM(K:K)-1","v":0}]
[{"$nulls":18},"# NIMS Complete",{"$f":"SUM(L:L)","v":0}]
[{"$nulls":3},"Resource Requirements",{"$nulls":14},"# Other Rows",{"$f":"MAX(M:M)","v":4}]
[{"$nulls":3},"NIMS-typed Resources","Category","Resource","Type","Number Required",null,null,1,{"$nulls":7},"# Other Rows",{"$f":"SUM(N:N)-1","v":0}]
[{"$f":"LOOKUP(E8,'NIMS Resources'!B$4:B$12,'NIMS Resources'!C$4:C$12)","v":{"$error":"#N/A"}},null,{"$f":"VLOOKUP(F8, INDIRECT(\"'NIMS Resources'!$G$4:$J$\" & 366), 4, FALSE)","v":{"$error":"#N/A"}},{"$nulls":6},1,{"$f":"IF(OR(E8<>\"\", F8<>\"\", G8<>\"\", H8<>\"\"), 1, 0)","v":0},{"$f":"IF(AND(E8<>\"\", F8<>\"\", G8<>\"\", H8<>\"\"), 1, 0)","v":0},{"$nulls":6},"# Other",{"$f":"SUM(O:O)","v":0}]
[{"$f":"LOOKUP(E9,'NIMS Resources'!B$4:B$12,'NIMS Resources'!C$4:C$12)","v":{"$error":"#N/A"}},null,{"$f":"VLOOKUP(F9, INDIRECT(\"'NIMS Resources'!$G$4:$J$\" & 366), 4, FALSE)","v":{"$error":"#N/A"}},{"$nulls":6},{"$f":"J8+1","v":2},{"$f":"IF(OR(E9<>\"\", F9<>\"\", G9<>\"\", H9<>\"\"), 1, 0)","v":0},{"$f":"IF(AND(E9<>\"\", F9<>\"\", G9<>\"\", H9<>\"\"), 1, 0)","v":0}]
[{"$f":"LOOKUP(E10,'NIMS Resources'!B$4:B$12,'NIMS Resources'!C$4:C$12)","v":{"$error":"#N/A"}},null,{"$error":"#N/A"},{"$nulls":6},{"$f":"J9+1","v":3},{"$f":"IF(OR(E10<>\"\", F10<>\"\", G10<>\"\", H10<>\"\"), 1, 0)","v":0},{"$f":"IF(AND(E10<>\"\", F10<>\"\", G10<>\"\", H10<>\"\"), 1, 0)","v":0}]
[{"$f":"LOOKUP(E11,'NIMS Resources'!B$4:B$12,'NIMS Resources'!C$4:C$12)","v":{"$error":"#N/A"}},null,{"$error":"#N/A"},{"$nulls":6},{"$f":"J10+1","v":4},{"$f":"IF(OR(E11<>\"\", F11<>\"\", G11<>\"\", H11<>\"\"), 1, 0)","v":0},{"$f":"IF(AND(E11<>\"\", F11<>\"\", G11<>\"\", H11<>\"\"), 1, 0)","v":0}]
[{"$nulls":3},"Other\nResources","Resource\n(Example:  Case Management Team)",null,"Category\r\n","Number Required\n",{"$nulls":5},1]
[{"$nulls":12},1,{"$f":"IF(OR(E13<>\"\", H13<>\"\"), 1, 0)","v":0},{"$f":"IF(AND(E13<>\"\", H13<>\"\"), 1, 0)","v":0}]
[{"$nulls":12},{"$f":"M13+1","v":2},{"$f":"IF(OR(E14<>\"\", H14<>\"\"), 1, 0)","v":0},{"$f":"IF(AND(E14<>\"\", H14<>\"\"), 1, 0)","v":0}]
[{"$nulls":12},{"$f":"M14+1","v":3},{"$f":"IF(OR(E15<>\"\", H15<>\"\"), 1, 0)","v":0},{"$f":"IF(AND(E15<>\"\", H15<>\"\"), 1, 0)","v":0}]
[{"$nulls":12},{"$f":"M15+1","v":4},{"$f":"IF(OR(E16<>\"\", H16<>\"\"), 1, 0)","v":0},{"$f":"IF(AND(E16<>\"\", H16<>\"\"), 1, 0)","v":0}]
{"$rows_empty":10}
[{"$nulls":3},"Journal Notes/Comments (optional)",{"$nulls":5},0]

{"sheet":"SPR #30 Housing","index":67,"n_rows":56,"n_cols":20,"rows_kept":56,"hidden":true,"merged":[[2,3,2,7],[3,3,3,7],[5,3,5,7],[7,3,7,7],[8,4,8,7],[9,4,9,7],[10,4,10,7],[12,3,14,3],[14,4,14,7],[16,3,18,3],[18,4,18,7],[20,3,22,3],[22,4,22,7],[24,3,26,3],[26,4,26,7],[28,3,30,3],[30,4,30,7],[32,3,32,7],[33,3,33,7],[36,3,36,7],[43,3,43,7],[44,3,48,3],[49,3,53,3],[49,4,49,5],[50,4,50,5],[51,4,51,5],[52,4,52,5],[53,4,53,5],[55,3,55,7]]}
[21]
[30]
[{"$f":"MAX(B:B)","v":1},null,null,"Capability Target"]
[null,{"$f":"ROW()-3","v":1},null,{"$f":"INDIRECT(\"'THIRA Steps 1-3'!$C$3909\")","v":"Click here to enter capability targets"}]
[]
[{"$nulls":3},"Capability Assessment"]
[]
[{"$nulls":3},"Priority"]
[{"$nulls":4},"Relative to the other core capabilities, efforts to build and/or sustain this core capability are of high importance to my jurisdiction’s preparedness activities.",{"$nulls":10},0]
[{"$nulls":4},"Relative to the other core capabilities, efforts to build and/or sustain this core capability are of medium importance to my jurisdiction’s preparedness activities."]
[{"$nulls":4},"Relative to the other core capabilities, efforts to build and/or sustain this core capability are of low importance to my jurisdiction’s preparedness activities."]
[]
[{"$nulls":3},"Planning","Rating\nInternal Capability","Rating (optional)\nInternal Capability + Mutual Aid","Gap Description (optional)","Recent Advances (optional)"]
[{"$nulls":4},{"$f":"LOOKUP(P14, Lists!$C$2:$C$8, Lists!D2:D8)","v":"No selection made"},{"$f":"LOOKUP(Q14, Lists!$C$2:$C$8, Lists!D2:D8)","v":"No selection made"},{"$nulls":9},1,1,{"$f":"COUNTIF(I15:AC15, \"TRUE\")","v":0},0,0]
[{"$nulls":4},"Into which functional area(s) does your community's planning gaps fall?",{"$nulls":3},false,false,false,false,false,false,false,false,false]
[]
[{"$nulls":3},"Organization","Rating\nInternal Capability","Rating (optional)\nInternal Capability + Mutual Aid","Gap Description (optional)","Recent Advances (optional)"]
[{"$nulls":4},{"$f":"LOOKUP(P18, Lists!$C$2:$C$8, Lists!E2:E8)","v":"No selection made"},{"$f":"LOOKUP(Q18, Lists!$C$2:$C$8, Lists!E2:E8)","v":"No selection made"},{"$nulls":9},1,1,{"$f":"COUNTIF(I19:AC19, \"TRUE\")","v":0},null,0]
[{"$nulls":4},"Into which functional area(s) does your community's organizational gaps fall?",{"$nulls":7},false]
[]
[{"$nulls":3},"Equipment","Rating\nInternal Capability","Rating (optional)\nInternal Capability + Mutual Aid","Gap Description (optional)","Recent Advances (optional)",{"$nulls":7},1,1]
[{"$nulls":4},{"$f":"LOOKUP(P22, Lists!$C$2:$C$8, Lists!F2:F8)","v":"No selection made"},{"$f":"LOOKUP(Q22, Lists!$C$2:$C$8, Lists!F2:F8)","v":"No selection made"},{"$nulls":9},1,1,{"$f":"COUNTIF(I23:AC23, \"TRUE\")","v":0},null,0]
[{"$nulls":4},"Into which functional area(s) does your community's equipment gaps fall?",{"$nulls":7},false]
[]
[{"$nulls":3},"Training","Rating\nInternal Capability","Rating (optional)\nInternal Capability + Mutual Aid","Gap Description (optional)","Recent Advances (optional)",{"$nulls":7},1,1]
[{"$nulls":4},{"$f":"LOOKUP(P26, Lists!$C$2:$C$8, Lists!G2:G8)","v":"No selection made"},{"$f":"LOOKUP(Q26, Lists!$C$2:$C$8, Lists!G2:G8)","v":"No selection made"},{"$nulls":9},1,1,{"$f":"COUNTIF(I27:AC27, \"TRUE\")","v":0},0,0]
[{"$nulls":4},"Into which functional area(s) does your community's training gaps fall?",{"$nulls":3},false,false,false,false,false,false,false,false,false,false,false]
[]
[{"$nulls":3},"Exercises","Rating\nInternal Capability","Rating (optional)\nInternal Capability + Mutual Aid","Gap Description (optional)","Recent Advances (optional)",{"$nulls":7},1,1]
[{"$nulls":4},{"$f":"LOOKUP(P30, Lists!$C$2:$C$8, Lists!H2:H8)","v":"No selection made"},{"$f":"LOOKUP(Q30, Lists!$C$2:$C$8, Lists!H2:H8)","v":"No selection made"},{"$nulls":9},1,1,{"$f":"COUNTIF(I31:AC31, \"TRUE\")","v":0},0,0]
[{"$nulls":4},"Into which functional area(s) does your community's exercise gaps fall?",{"$nulls":3},false,false,false,false,false,false,false,false]
[]
[{"$nulls":3},"Assessment Corroboration"]
[{"$nulls":8},{"$f":"IF(M34=TRUE, \"TRUE\", (IF(AND(K34=TRUE, N34=1), \"TRUE\", (IF(AND(L34= TRUE, N34=1), \"TRUE\")))))","v":false},{"$f":"COUNTIF(K34:M34, \"TRUE\")","v":0},false,false,false,0]
[]
[]
[{"$nulls":3},"Responsibility for Filling Gap",{"$nulls":11},0]
[{"$nulls":15},0]
[]
[]
[]
[]
[]
[{"$nulls":3},"Resource Requirements",{"$nulls":5},"NIMS",4]
[{"$nulls":3},"NIMS-typed Resources","Category","Resource","Type","Number Available",null,"Other",4]
[{"$nulls":4},{"$f":"'THIRA #30 Housing'!E8","v":0},{"$f":"'THIRA #30 Housing'!F8","v":0},{"$f":"'THIRA #30 Housing'!G8","v":0}]
[{"$nulls":4},{"$f":"'THIRA #30 Housing'!E9","v":0},{"$f":"'THIRA #30 Housing'!F9","v":0},{"$f":"'THIRA #30 Housing'!G9","v":0}]
[{"$nulls":4},{"$f":"'THIRA #30 Housing'!E10","v":0},{"$f":"'THIRA #30 Housing'!F10","v":0},{"$f":"'THIRA #30 Housing'!G10","v":0}]
[{"$nulls":4},{"$f":"'THIRA #30 Housing'!E11","v":0},{"$f":"'THIRA #30 Housing'!F11","v":0},{"$f":"'THIRA #30 Housing'!G11","v":0}]
[{"$nulls":3},"Other\nResources","Resource\n(Example:  Case Management Team)",null,"Category\n","Number Available\n"]
[{"$nulls":4},{"$f":"'THIRA #30 Housing'!E13","v":0},null,{"$f":"'THIRA #30 Housing'!G13","v":0}]
[{"$nulls":4},{"$f":"'THIRA #30 Housing'!E14","v":0},null,{"$f":"'THIRA #30 Housing'!G14","v":0}]
[{"$nulls":4},{"$f":"'THIRA #30 Housing'!E15","v":0},null,{"$f":"'THIRA #30 Housing'!G15","v":0}]
[{"$nulls":4},{"$f":"'THIRA #30 Housing'!E16","v":0},null,{"$f":"'THIRA #30 Housing'!G16","v":0}]
[]
[{"$nulls":3},"Journal Notes/Comments (optional)",{"$nulls":11},0]

{"sheet":"THIRA #31 Nat Cult Resources","index":68,"n_rows":27,"n_cols":20,"rows_kept":27,"hidden":true,"merged":[[2,3,2,7],[3,3,3,7],[3,13,3,14],[5,3,5,7],[6,3,10,3],[11,3,15,3],[11,4,11,5],[12,4,12,5],[13,4,13,5],[14,4,14,5],[15,4,15,5],[26,3,26,7]]}
[21,{"$nulls":17},"# Other Rows Filled",{"$f":"IF(COUNTIF(N$1:N803,1),MATCH(800,INDEX(1/(N$1:N803=1),0)),\"\")-(T3+8)","v":0}]
[{"$nulls":18},"# NIMS rows filled",{"$f":"IF(COUNTIF(K$1:K800,1),MATCH(800,INDEX(1/(K$1:K800=1),0)),\"\")-7","v":0}]
[{"$f":"MAX(B:B)","v":1},null,null,"Capability Target",{"$nulls":14},"# NIMS Rows",{"$f":"MAX(J:J)","v":4}]
[null,{"$f":"ROW()-3","v":1},null,{"$f":"INDIRECT(\"'THIRA Steps 1-3'!$C$3997\")","v":"Click here to enter capability targets"},{"$nulls":14},"# NIMS Started",{"$f":"SUM(K:K)-1","v":0}]
[{"$nulls":18},"# NIMS Complete",{"$f":"SUM(L:L)","v":0}]
[{"$nulls":3},"Resource Requirements",{"$nulls":14},"# Other Rows",{"$f":"MAX(M:M)","v":4}]
[{"$nulls":3},"NIMS-typed Resources","Category","Resource","Type","Number Required",null,null,1,{"$nulls":7},"# Other Rows",{"$f":"SUM(N:N)-1","v":0}]
[{"$f":"LOOKUP(E8,'NIMS Resources'!B$4:B$12,'NIMS Resources'!C$4:C$12)","v":{"$error":"#N/A"}},null,{"$f":"VLOOKUP(F8, INDIRECT(\"'NIMS Resources'!$G$4:$J$\" & 366), 4, FALSE)","v":{"$error":"#N/A"}},{"$nulls":6},1,{"$f":"IF(OR(E8<>\"\", F8<>\"\", G8<>\"\", H8<>\"\"), 1, 0)","v":0},{"$f":"IF(AND(E8<>\"\", F8<>\"\", G8<>\"\", H8<>\"\"), 1, 0)","v":0},{"$nulls":6},"# Other",{"$f":"SUM(O:O)","v":0}]
[{"$f":"LOOKUP(E9,'NIMS Resources'!B$4:B$12,'NIMS Resources'!C$4:C$12)","v":{"$error":"#N/A"}},null,{"$f":"VLOOKUP(F9, INDIRECT(\"'NIMS Resources'!$G$4:$J$\" & 366), 4, FALSE)","v":{"$error":"#N/A"}},{"$nulls":6},{"$f":"J8+1","v":2},{"$f":"IF(OR(E9<>\"\", F9<>\"\", G9<>\"\", H9<>\"\"), 1, 0)","v":0},{"$f":"IF(AND(E9<>\"\", F9<>\"\", G9<>\"\", H9<>\"\"), 1, 0)","v":0}]
[{"$f":"LOOKUP(E10,'NIMS Resources'!B$4:B$12,'NIMS Resources'!C$4:C$12)","v":{"$error":"#N/A"}},null,{"$error":"#N/A"},{"$nulls":6},{"$f":"J9+1","v":3},{"$f":"IF(OR(E10<>\"\", F10<>\"\", G10<>\"\", H10<>\"\"), 1, 0)","v":0},{"$f":"IF(AND(E10<>\"\", F10<>\"\", G10<>\"\", H10<>\"\"), 1, 0)","v":0}]
[{"$f":"LOOKUP(E11,'NIMS Resources'!B$4:B$12,'NIMS Resources'!C$4:C$12)","v":{"$error":"#N/A"}},null,{"$error":"#N/A"},{"$nulls":6},{"$f":"J10+1","v":4},{"$f":"IF(OR(E11<>\"\", F11<>\"\", G11<>\"\", H11<>\"\"), 1, 0)","v":0},{"$f":"IF(AND(E11<>\"\", F11<>\"\", G11<>\"\", H11<>\"\"), 1, 0)","v":0}]
[{"$nulls":3},"Other\nResources","Resource\n(Example:  Case Management Team)",null,"Category\r\n","Number Required\n",{"$nulls":5},1]
[{"$nulls":12},1,{"$f":"IF(OR(E13<>\"\", H13<>\"\"), 1, 0)","v":0},{"$f":"IF(AND(E13<>\"\", H13<>\"\"), 1, 0)","v":0}]
[{"$nulls":12},{"$f":"M13+1","v":2},{"$f":"IF(OR(E14<>\"\", H14<>\"\"), 1, 0)","v":0},{"$f":"IF(AND(E14<>\"\", H14<>\"\"), 1, 0)","v":0}]
[{"$nulls":12},{"$f":"M14+1","v":3},{"$f":"IF(OR(E15<>\"\", H15<>\"\"), 1, 0)","v":0},{"$f":"IF(AND(E15<>\"\", H15<>\"\"), 1, 0)","v":0}]
[{"$nulls":12},{"$f":"M15+1","v":4},{"$f":"IF(OR(E16<>\"\", H16<>\"\"), 1, 0)","v":0},{"$f":"IF(AND(E16<>\"\", H16<>\"\"), 1, 0)","v":0}]
{"$rows_empty":10}
[{"$nulls":3},"Journal Notes/Comments (optional)",{"$nulls":5},0]

{"sheet":"SPR #31 Nat Cult Resources","index":69,"n_rows":56,"n_cols":20,"rows_kept":56,"hidden":true,"merged":[[2,3,2,7],[3,3,3,7],[5,3,5,7],[7,3,7,7],[8,4,8,7],[9,4,9,7],[10,4,10,7],[12,3,14,3],[14,4,14,7],[16,3,18,3],[18,4,18,7],[20,3,22,3],[22,4,22,7],[24,3,26,3],[26,4,26,7],[28,3,30,3],[30,4,30,7],[32,3,32,7],[33,3,33,7],[36,3,36,7],[43,3,43,7],[44,3,48,3],[49,3,53,3],[49,4,49,5],[50,4,50,5],[51,4,51,5],[52,4,52,5],[53,4,53,5],[55,3,55,7]]}
[21]
[31]
[{"$f":"MAX(B:B)","v":1},null,null,"Capability Target"]
[null,{"$f":"ROW()-3","v":1},null,{"$f":"INDIRECT(\"'THIRA Steps 1-3'!$C$3997\")","v":"Click here to enter capability targets"}]
[]
[{"$nulls":3},"Capability Assessment"]
[]
[{"$nulls":3},"Priority"]
[{"$nulls":4},"Relative to the other core capabilities, efforts to build and/or sustain this core capability are of high importance to my jurisdiction’s preparedness activities.",{"$nulls":10},0]
[{"$nulls":4},"Relative to the other core capabilities, efforts to build and/or sustain this core capability are of medium importance to my jurisdiction’s preparedness activities."]
[{"$nulls":4},"Relative to the other core capabilities, efforts to build and/or sustain this core capability are of low importance to my jurisdiction’s preparedness activities."]
[]
[{"$nulls":3},"Planning","Rating\nInternal Capability","Rating (optional)\nInternal Capability + Mutual Aid","Gap Description (optional)","Recent Advances (optional)"]
[{"$nulls":4},{"$f":"LOOKUP(P14, Lists!$C$2:$C$8, Lists!D2:D8)","v":"No selection made"},{"$f":"LOOKUP(Q14, Lists!$C$2:$C$8, Lists!D2:D8)","v":"No selection made"},{"$nulls":9},1,1,{"$f":"COUNTIF(I15:AC15, \"TRUE\")","v":0},0,0]
[{"$nulls":4},"Into which functional area(s) does your community's planning gaps fall?",{"$nulls":3},false,false,false,false,false,false,false,false,false]
[]
[{"$nulls":3},"Organization","Rating\nInternal Capability","Rating (optional)\nInternal Capability + Mutual Aid","Gap Description (optional)","Recent Advances (optional)"]
[{"$nulls":4},{"$f":"LOOKUP(P18, Lists!$C$2:$C$8, Lists!E2:E8)","v":"No selection made"},{"$f":"LOOKUP(Q18, Lists!$C$2:$C$8, Lists!E2:E8)","v":"No selection made"},{"$nulls":9},1,1,{"$f":"COUNTIF(I19:AC19, \"TRUE\")","v":0},0,0]
[{"$nulls":4},"Into which functional area(s) does your community's organizational gaps fall?",{"$nulls":4},false,false,false]
[]
[{"$nulls":3},"Equipment","Rating\nInternal Capability","Rating (optional)\nInternal Capability + Mutual Aid","Gap Description (optional)","Recent Advances (optional)",{"$nulls":7},1,1]
[{"$nulls":4},{"$f":"LOOKUP(P22, Lists!$C$2:$C$8, Lists!F2:F8)","v":"No selection made"},{"$f":"LOOKUP(Q22, Lists!$C$2:$C$8, Lists!F2:F8)","v":"No selection made"},{"$nulls":9},1,1,{"$f":"COUNTIF(I23:AC23, \"TRUE\")","v":0},0,0]
[{"$nulls":4},"Into which functional area(s) does your community's equipment gaps fall?",{"$nulls":6},false]
[]
[{"$nulls":3},"Training","Rating\nInternal Capability","Rating (optional)\nInternal Capability + Mutual Aid","Gap Description (optional)","Recent Advances (optional)",{"$nulls":7},1,1]
[{"$nulls":4},{"$f":"LOOKUP(P26, Lists!$C$2:$C$8, Lists!G2:G8)","v":"No selection made"},{"$f":"LOOKUP(Q26, Lists!$C$2:$C$8, Lists!G2:G8)","v":"No selection made"},{"$nulls":9},1,1,{"$f":"COUNTIF(I27:AC27, \"TRUE\")","v":0},0,0]
[{"$nulls":4},"Into which functional area(s) does your community's training gaps fall?",{"$nulls":3},false,false,false,false,false,false,false,false,false,false,false]
[]
[{"$nulls":3},"Exercises","Rating\nInternal Capability","Rating (optional)\nInternal Capability + Mutual Aid","Gap Description (optional)","Recent Advances (optional)",{"$nulls":7},1,1]
[{"$nulls":4},{"$f":"LOOKUP(P30, Lists!$C$2:$C$8, Lists!H2:H8)","v":"No selection made"},{"$f":"LOOKUP(Q30, Lists!$C$2:$C$8, Lists!H2:H8)","v":"No selection made"},{"$nulls":9},1,1,{"$f":"COUNTIF(I31:AC31, \"TRUE\")","v":0},0,0]
[{"$nulls":4},"Into which functional area(s) does your community's exercise gaps fall?",{"$nulls":3},false,false,false,false,false,false,false,false]
[]
[{"$nulls":3},"Assessment Corroboration"]
[{"$nulls":8},{"$f":"IF(M34=TRUE, \"TRUE\", (IF(AND(K34=TRUE, N34=1), \"TRUE\", (IF(AND(L34= TRUE, N34=1), \"TRUE\")))))","v":false},{"$f":"COUNTIF(K34:M34, \"TRUE\")","v":0},false,false,false,0]
[]
[]
[{"$nulls":3},"Responsibility for Filling Gap",{"$nulls":11},0]
[{"$nulls":15},0]
[]
[]
[]
[]
[]
[{"$nulls":3},"Resource Requirements",{"$nulls":5},"NIMS",4]
[{"$nulls":3},"NIMS-typed Resources","Category","Resource","Type","Number Available",null,"Other",4]
[{"$nulls":4},{"$f":"'THIRA #31 Nat Cult Resources'!E8","v":0},{"$f":"'THIRA #31 Nat Cult Resources'!F8","v":0},{"$f":"'THIRA #31 Nat Cult Resources'!G8","v":0}]
[{"$nulls":4},{"$f":"'THIRA #31 Nat Cult Resources'!E9","v":0},{"$f":"'THIRA #31 Nat Cult Resources'!F9","v":0},{"$f":"'THIRA #31 Nat Cult Resources'!G9","v":0}]
[{"$nulls":4},{"$f":"'THIRA #31 Nat Cult Resources'!E10","v":0},{"$f":"'THIRA #31 Nat Cult Resources'!F10","v":0},{"$f":"'THIRA #31 Nat Cult Resources'!G10","v":0}]
[{"$nulls":4},{"$f":"'THIRA #31 Nat Cult Resources'!E11","v":0},{"$f":"'THIRA #31 Nat Cult Resources'!F11","v":0},{"$f":"'THIRA #31 Nat Cult Resources'!G11","v":0}]
[{"$nulls":3},"Other\nResources","Resource\n(Example:  Case Management Team)",null,"Category\n","Number Available\n"]
[{"$nulls":4},{"$f":"'THIRA #31 Nat Cult Resources'!E13","v":0},null,{"$f":"'THIRA #31 Nat Cult Resources'!G13","v":0}]
[{"$nulls":4},{"$f":"'THIRA #31 Nat Cult Resources'!E14","v":0},null,{"$f":"'THIRA #31 Nat Cult Resources'!G14","v":0}]
[{"$nulls":4},{"$f":"'THIRA #31 Nat Cult Resources'!E15","v":0},null,{"$f":"'THIRA #31 Nat Cult Resources'!G15","v":0}]
[{"$nulls":4},{"$f":"'THIRA #31 Nat Cult Resources'!E16","v":0},null,{"$f":"'THIRA #31 Nat Cult Resources'!G16","v":0}]
[]
[{"$nulls":3},"Journal Notes/Comments (optional)"]

{"sheet":"Other Reporting Reqts","index":70,"n_rows":0,"n_cols":0,"rows_kept":0,"hidden":true}

{"sheet":"THIRA Post-Assessment","index":71,"n_rows":181,"n_cols":24,"rows_kept":181,"hidden":true,"merged":[[10,1,10,10],[12,3,12,11],[33,1,34,6],[54,1,54,6],[56,2,82,5],[87,2,103,5],[108,2,124,5],[147,1,147,6],[148,1,148,6],[149,2,149,6],[151,1,151,6],[152,1,152,6],[154,1,157,1],[154,2,154,5],[155,2,155,6],[156,2,156,5],[157,2,157,5],[159,1,162,1],[159,2,159,5],[160,2,160,6],[161,2,161,5],[162,2,162,5],[164,1,166,1],[164,3,164,6],[165,3,165,6],[166,3,166,6],[169,1,169,6],[173,2,173,6],[180,2,180,6],[182,2,191,6]]}
[{"$nulls":21},{"$f":"AND(X14>0,W37>0,V88>0,V109>0,V128>0, V147>0, OR(V171=2, AND(V171=1, V172>0, C183<>\"\")))","v":false}]
{"$rows_empty":9}
[null,"1.  Which of the following types of governmental departments and agencies participated in the THIRA process, and how many departments/agencies of each type participated?"]
[]
[{"$nulls":3},"Number Participating"]
[null,null,"Department / Agency","Federal","State","Territory","County","UASI","Other City","Tribal","Other (specify)","Other (specify)",{"$nulls":11},{"$f":"IF(SUM($X$15:$X$32)>0,1,0)","v":0}]
[null,null,"Emergency Management / Homeland Security",{"$nulls":20},{"$f":"SUM(D15:L15)","v":0}]
[null,null,"Fusion Center",{"$nulls":20},0]
[null,null,"Law Enforcement / Public Safety",{"$nulls":20},0]
[null,null,"Fire/EMS",{"$nulls":20},0]
[null,null,"Public Health",{"$nulls":20},0]
[null,null,"Historic / Cultural Resources",{"$nulls":20},0]
[null,null,"Environment",{"$nulls":20},0]
[null,null,"Transportation",{"$nulls":20},0]
[null,null,"Agriculture",{"$nulls":20},0]
[null,null,"Executive Branch",{"$nulls":20},0]
[null,null,"Other (specify)",{"$nulls":20},0]
[null,null,"Other (specify)",{"$nulls":19},{"$f":"C26","v":"Other (specify)"},0]
[null,null,"Other (specify)",{"$nulls":19},"Other (specify)",0]
[null,null,"Other (specify)",{"$nulls":19},"Other (specify)",0]
[null,null,"Other (specify)",{"$nulls":19},"Other (specify)",0]
[null,null,"Other (specify)",{"$nulls":19},"Other (specify)",0]
[null,null,"Other (specify)",{"$nulls":19},"Other (specify)",0]
[null,null,"Not Applicable",false,{"$nulls":19},{"$f":"IF($D$32=TRUE,1,0)","v":0}]
[]
[null,"2.  Which of the following non-governmental stakeholders participated in the THIRA process, and how many organizations of each type participated?"]
[]
[]
[null,null,"Non-governmental organization","Number participating",{"$nulls":18},{"$f":"SUM($W$38:$W$53)","v":0}]
[null,null,"American Red Cross",{"$nulls":19},{"$f":"$D$38","v":0}]
[null,null,"Faith-based organization",{"$nulls":19},{"$f":"$D$39","v":0}]
[null,null,"Other VOAD",{"$nulls":19},{"$f":"$D$40","v":0}]
[null,null,"Disability or access / functional needs community",{"$nulls":19},{"$f":"$D$41","v":0}]
[null,null,"Community advocacy group",{"$nulls":19},{"$f":"$D$42","v":0}]
[null,null,"Education community",{"$nulls":19},{"$f":"$D$43","v":0}]
[null,null,"Hospital / Healthcare organization",{"$nulls":19},{"$f":"$D$44","v":0}]
[null,null,"Utilities / Public works",{"$nulls":19},{"$f":"$D$45","v":0}]
[null,null,"Private sector / Business",{"$nulls":19},{"$f":"$D$46","v":0}]
[null,null,"Port authority / Other port organization",{"$nulls":19},{"$f":"$D$47","v":0}]
[null,null,"Other (specify)",{"$nulls":18},{"$f":"C48","v":"Other (specify)"},{"$f":"$D$48","v":0}]
[null,null,"Other (specify)",{"$nulls":18},{"$f":"C49","v":"Other (specify)"},{"$f":"$D$49","v":0}]
[null,null,"Other (specify)",{"$nulls":18},{"$f":"C50","v":"Other (specify)"},{"$f":"$D$50","v":0}]
[null,null,"Other (specify)",{"$nulls":18},{"$f":"C51","v":"Other (specify)"},{"$f":"$D$51","v":0}]
[null,null,"Other (specify)",{"$nulls":18},{"$f":"C52","v":"Other (specify)"},{"$f":"$D$52","v":0}]
[null,null,"Not Applicable",false,{"$nulls":18},{"$f":"IF($D$53=TRUE,1,0)","v":0}]
[]
[null,"3.  (Optional)  List the individual departments/agencies, non-governmental organizations, and jurisdictions that participated in the THIRA process."]
{"$rows_empty":30}
[null,"4.  What data sources were used to inform your THIRA?"]
[]
[{"$nulls":21},{"$f":"IF($C$88 = \"\",0,1)","v":0}]
{"$rows_empty":18}
[null,"5.  What limitations, if any, did you find in the data to support the development of the THIRA? "]
[]
[{"$nulls":21},{"$f":"IF($C$109 = \"\",0,1)","v":0}]
{"$rows_empty":18}
[null,"6.  What modeling or visualization tools were used to inform the THIRA? ",{"$nulls":19},{"$f":"COUNTIF(V129:V140, TRUE)","v":0}]
[{"$nulls":21},false]
[{"$nulls":21},false]
[{"$nulls":21},false]
[{"$nulls":21},false]
[{"$nulls":21},false]
[{"$nulls":21},false]
[{"$nulls":21},false]
[{"$nulls":21},false]
[{"$nulls":21},false]
[{"$nulls":21},false]
[{"$nulls":21},false]
[{"$nulls":21},false]
[]
[]
[]
[]
[]
[]
[null,"7. Urban Area Working Group Questions",{"$nulls":19},{"$f":"IF(AND(V149<>3, V149<>1), 1,IF(AND(V149>1, V153>1, V158>1,V159>1, V160>1, V169>1, V170>1, V171>0), 1, 0))","v":0}]
[null,"Jurisdiction"]
[null,"Instructions: Select your jurisdiction type. Urban areas must complete the Urban Area Working Group questions below; other jurisdictions are not required to complete those questions.",{"$nulls":19},1]
[null,"Type"]
[]
[null,"Urban Area Working Group "]
[null,"Instructions: Establishing a Urban Area Working Group (UAWG) is a requirement of UASIs in the 2014 HSGP Funding Opportunity Announcement (FOA).  The following survey questions capture the required elements of a UAWG.  Please complete this brief survey below to provide information on these required elements.",{"$nulls":19},1]
[{"$nulls":21},{"$f":"COUNTIF(V155:V157, TRUE)","v":0}]
[null,"Composition","Does your UASI have an Urban Area Working Group (UAWG)?  ",{"$nulls":18},false]
[null,null,"Does your UAWG include the following entities? (Select all that apply.)",{"$nulls":18},false]
[null,null,"Does your UAWG include tribal representatives? ",{"$nulls":18},false]
[null,null,"Does your UAWG ensure the integration of local emergency management, public health, and healthcare systems into a coordinated, sustained local capability to respond effectively to a mass casualty incident?",{"$nulls":18},1]
[{"$nulls":21},1]
[null,"Charter","Does your UAWG have a charter or other form of standard operating procedure for the governance of the UASI program?",{"$nulls":18},1]
[null,null,"Does your UAWG charter include the following? (Select all that apply.)",{"$nulls":18},false,{"$f":"COUNTIF(V161:V168, TRUE)","v":0}]
[null,null,"Has your jurisdiction submitted your UAWG charter to FEMA?",{"$nulls":18},false]
[null,null,"Is your UAWG charter available to all UAWG members?",{"$nulls":18},false]
[{"$nulls":21},false]
[null,"UAWG Point of Contact","Name:",{"$nulls":18},false]
[null,null,"Email:",{"$nulls":18},false]
[null,null,"Phone number:",{"$nulls":18},false]
[{"$nulls":21},false]
[{"$nulls":21},1]
["8.","Were the impacts of climate change included in development of the THIRA?\n(Impacts include, but are not limited to, an increase in prolonged periods of excessively high temperatures, more heavy downpours, an increase in wildfires, more severe droughts, permafrost thawing, ocean acidification, and sea-level rise.)",{"$nulls":19},1]
[{"$nulls":21},0]
[{"$nulls":21},{"$f":"COUNTIF(V175:V178, TRUE)","v":0}]
[]
[null,"a.","Within which steps of the THIRA process were climate changes impacts included?"]
[{"$nulls":21},false]
[{"$nulls":21},false]
[{"$nulls":21},false]
[{"$nulls":21},false]
[]
[]
[null,"b.","Describe how the impacts of climate change were  included for each selected step of the THIRA process."]

{"sheet":"SPR Post-Assessment","index":72,"n_rows":199,"n_cols":24,"rows_kept":199,"hidden":true,"merged":[[10,1,10,10],[12,3,12,11],[33,1,34,6],[54,1,54,6],[56,2,82,5],[85,1,85,6],[120,1,120,6],[155,1,155,6],[157,2,157,5],[159,1,159,6],[160,2,160,5],[162,1,162,6],[163,2,163,5],[166,1,166,6],[168,2,176,5],[181,1,181,6],[182,1,182,6],[183,2,183,6],[185,1,185,6],[186,1,186,6],[187,1,189,1],[187,2,187,5],[188,2,188,6],[189,2,189,5],[191,1,193,1],[191,3,191,6],[192,3,192,6],[193,3,193,6]]}
[{"$nulls":21},{"$f":"AND(X14>0,W37>0,V123>0,W86 = 3,W121=3, W158 = 1, W161=1, W164=1, W169 = 1)","v":false}]
{"$rows_empty":9}
[null,"1.  Which of the following types of governmental departments and agencies participated in the SPR process, and how many departments/agencies of each type participated?"]
[]
[{"$nulls":3},"Number Participating"]
[null,null,"Department / Agency","Federal","State","Territory","County","UASI","Other City","Tribal","Other (specify)","Other (specify)",{"$nulls":11},{"$f":"IF(SUM($X$15:$X$32)>0,1,0)","v":0}]
[null,null,"Emergency Management / Homeland Security",{"$nulls":20},{"$f":"SUM(D15:L15)","v":0}]
[null,null,"Fusion Center",{"$nulls":20},0]
[null,null,"Law Enforcement / Public Safety",{"$nulls":20},0]
[null,null,"Fire / EMS",{"$nulls":20},0]
[null,null,"Public Health",{"$nulls":20},0]
[null,null,"Historic / Cultural Resources",{"$nulls":20},0]
[null,null,"Environment",{"$nulls":20},0]
[null,null,"Transportation",{"$nulls":20},0]
[null,null,"Agriculture",{"$nulls":20},0]
[null,null,"Executive Branch",{"$nulls":20},0]
[null,null,"Other (specify)",{"$nulls":20},0]
[null,null,"Other (specify)",{"$nulls":19},{"$f":"C26","v":"Other (specify)"},0]
[null,null,"Other (specify)",{"$nulls":19},"Other (specify)",0]
[null,null,"Other (specify)",{"$nulls":19},"Other (specify)",0]
[null,null,"Other (specify)",{"$nulls":19},"Other (specify)",0]
[null,null,"Other (specify)",{"$nulls":19},"Other (specify)",0]
[null,null,"Other (specify)",{"$nulls":19},"Other (specify)",0]
[null,null,"Not Applicable",false,{"$nulls":19},{"$f":"IF($D$32=TRUE,1,0)","v":0}]
[]
[null,"2.  Which of the following non-governmental stakeholders participated in the SPR process, and how many organizations of each type participated?"]
[]
[]
[null,null,"Non-governmental organization","Number participating",{"$nulls":18},{"$f":"SUM($W$38:$W$53)","v":0}]
[null,null,"American Red Cross",{"$nulls":19},{"$f":"$D$38","v":0}]
[null,null,"Faith-based organization",{"$nulls":19},{"$f":"$D$39","v":0}]
[null,null,"Other VOAD",{"$nulls":19},{"$f":"$D$40","v":0}]
[null,null,"Disability or access / functional needs community",{"$nulls":19},{"$f":"$D$41","v":0}]
[null,null,"Community advocacy group",{"$nulls":19},{"$f":"$D$42","v":0}]
[null,null,"Education community",{"$nulls":19},{"$f":"$D$43","v":0}]
[null,null,"Hospital / Healthcare organization",{"$nulls":19},{"$f":"$D$44","v":0}]
[null,null,"Utilities / Public works",{"$nulls":19},{"$f":"$D$45","v":0}]
[null,null,"Private sector / Business",{"$nulls":19},{"$f":"$D$46","v":0}]
[null,null,"Port authority / Other port organization",{"$nulls":19},{"$f":"$D$47","v":0}]
[null,null,"Other (specify)",{"$nulls":18},{"$f":"C48","v":"Other (specify)"},{"$f":"$D$48","v":0}]
[null,null,"Other (specify)",{"$nulls":18},{"$f":"C49","v":"Other (specify)"},{"$f":"$D$49","v":0}]
[null,null,"Other (specify)",{"$nulls":18},{"$f":"C50","v":"Other (specify)"},{"$f":"$D$50","v":0}]
[null,null,"Other (specify)",{"$nulls":18},{"$f":"C51","v":"Other (specify)"},{"$f":"$D$51","v":0}]
[null,null,"Other (specify)",{"$nulls":18},{"$f":"C52","v":"Other (specify)"},{"$f":"$D$52","v":0}]
[null,null,"Not Applicable",false,{"$nulls":18},{"$f":"IF($D$53=TRUE,1,0)","v":0}]
[]
[null,"3.  (Optional)  List the individual departments/agencies, non-governmental organizations, and jurisdictions that participated in the SPR process."]
{"$rows_empty":30}
[null,"4.  Over the past year, in which three core capabilities has your jurisdiction made the most progress? (Select three)",{"$nulls":20},{"$f":"COUNTIF($W$88:$W$118,\"=true\")","v":0}]
[]
[{"$nulls":22},false]
[{"$nulls":22},false]
[{"$nulls":22},false]
[{"$nulls":22},false]
[{"$nulls":22},false]
[{"$nulls":22},false]
[{"$nulls":22},false]
[{"$nulls":22},false]
[{"$nulls":22},false]
[{"$nulls":22},false]
[{"$nulls":22},false]
[{"$nulls":22},false]
[{"$nulls":22},false]
[{"$nulls":22},false]
[{"$nulls":22},false]
[{"$nulls":22},false]
[{"$nulls":22},false]
[{"$nulls":22},false]
[{"$nulls":22},false]
[{"$nulls":22},false]
[{"$nulls":22},false]
[{"$nulls":22},false]
[{"$nulls":22},false]
[{"$nulls":22},false]
[{"$nulls":22},false]
[{"$nulls":22},false]
[{"$nulls":22},false]
[{"$nulls":22},false]
[{"$nulls":22},false]
[{"$nulls":22},false]
[{"$nulls":22},false]
[]
[]
[null,"5.  Considering all relevant factors (e.g. funding and training), in which three core capabilities are your community's capability levels in greatest danger of decreasing?  (Select three)",{"$nulls":20},{"$f":"COUNTIF($W$123:$W$153,\"=true\")","v":0}]
[]
[{"$nulls":22},false]
[{"$nulls":22},false]
[{"$nulls":22},false]
[{"$nulls":22},false]
[{"$nulls":22},false]
[{"$nulls":22},false]
[{"$nulls":22},false]
[{"$nulls":22},false]
[{"$nulls":22},false]
[{"$nulls":22},false]
[{"$nulls":22},false]
[{"$nulls":22},false]
[{"$nulls":22},false]
[{"$nulls":22},false]
[{"$nulls":22},false]
[{"$nulls":22},false]
[{"$nulls":22},false]
[{"$nulls":22},false]
[{"$nulls":22},false]
[{"$nulls":22},false]
[{"$nulls":22},false]
[{"$nulls":22},false]
[{"$nulls":22},false]
[{"$nulls":22},false]
[{"$nulls":22},false]
[{"$nulls":22},false]
[{"$nulls":21},1,false]
[{"$nulls":22},false]
[{"$nulls":22},false]
[{"$nulls":22},false]
[{"$nulls":22},false]
[]
[]
["6.a.","Please list three topics which require a training and/or education course(s) to be developed and offered in order to build and sustain core capabilities identified as shortfalls. "]
[]
[{"$nulls":22},{"$f":"IF($C$158=\"\",0,1)","v":0}]
[]
["6.b.","Please list three training & education courses which are typically difficult to obtain but are necessary to build and sustain core capabilities identified as shortfalls. Describe the challenges/constraints of obtaining the training. "]
[{"$nulls":22},{"$f":"IF($C$161=\"\",0,1)","v":0}]
[]
["6.c.","Please list three training & education courses which are critical priorities for closing the identified preparedness gaps.  "]
[{"$nulls":22},{"$f":"IF($C$164=\"\",0,1)","v":0}]
[]
[]
[null,"7.  Identify any additional recent promising practices or accomplishments  that your jurisdiction attributes to multi-jurisdictional collaboration."]
[]
[{"$nulls":22},{"$f":"IF($C$169=\"\",0,1)","v":0}]
{"$rows_empty":10}
[null,"8. Senior Advisory Committee Questions"]
[]
[null,"Jurisdiction",{"$nulls":19},{"$f":"IF(AND(V184<>2, V184<>1),1,IF(AND(V184>1, V188>1, V198>1, V199>0), 1, 0))","v":0}]
[null,"Instructions: Select your jurisdiction type. States and Territories must complete the Senior Advisory Committe questions below; other jurisdictions are not required to complete those questions."]
[null,"Type",{"$nulls":19},1]
[]
[null,"Senior Advisory Committee"]
[null,"Instructions: Establishing a Senior Advisory Committee (SAC) is a requirement of States and Territories in the 2015 HSGP Funding Opportunity Announcement (FOA).   The following survey questions capture the required elements of a SAC.  Please complete this brief survey below to provide information on these required elements.  "]
[null,"Charter","Does your Senior Advisory Committee (SAC) have a charter to direct the governance of your State Homeland Security Program (SHSP) or Urban Area Security Initiative (UASI) program?  ",{"$nulls":18},1]
[null,null,"Does your SAC charter address the following? (Select all that apply.)",{"$nulls":18},false,{"$f":"COUNTIF(V189:V197, TRUE)","v":0}]
[null,null,"Has your SAC charter been made available publicly? ",{"$nulls":18},false]
[{"$nulls":21},false]
[null,"SAC Point of Contact","Name:",{"$nulls":18},false]
[null,null,"Email:",{"$nulls":18},false]
[null,null,"Phone number:",{"$nulls":18},false]
[{"$nulls":21},false]
[{"$nulls":21},false]
[{"$nulls":21},false]
[{"$nulls":21},1]
[{"$nulls":21},{"$f":"IF(AND(D192<>\"\", D193<>\"\", D194<>\"\"), 1, 0)","v":0}]

{"sheet":"Tribal CPG101","index":73,"n_rows":43,"n_cols":17,"rows_kept":43,"hidden":true,"merged":[[16,2,16,5],[17,2,17,5],[19,2,19,5],[21,2,22,2],[21,3,22,3],[24,2,25,2],[24,3,25,4],[27,2,31,2],[27,3,31,5],[33,2,34,2],[33,3,34,4],[36,2,37,2],[36,3,37,5],[39,2,40,2],[39,3,40,4],[42,2,42,5],[43,2,47,5]]}
{"$rows_empty":13}
[{"$nulls":16},1]
[]
[]
[null,null,"Emergency Operations Plan (EOP) Name"]
[{"$nulls":8},{"$f":"COUNTIF(C18, \"<>\")","v":0}]
[]
[null,null,"CPG 101 Criteria"]
[]
[null,null,"Approval","Has the EOP been aligned with CPG 101 v2 and approved by the appropriate tribal official?   ","Current Status","EOP Approval Date"]
[{"$nulls":7},1,{"$f":"IF(OR(H23=3, AND(H23=2, F23<>\"\")), 1, 0)","v":0}]
[]
[null,null,"Whole Community","Was the whole community involved in the development of the base plan?   \n\nNote: The whole community includes, but is not limited to, those non-governmental organizations beyond traditional engagement, groups representing those with access and functional needs, youth and children, and the private sector.",null,"Current Status"]
[{"$nulls":7},1]
[]
[null,null,"Compliance Criteria","CPG 101 v2 outlines the four standard criteria that Tribal Nations should incorporate in their base plan in order to ensure the effectiveness and efficiency of emergency operation planning.  Please select the applicable criteria that are addressed in the EOP."]
[{"$nulls":7},false,{"$f":"COUNTIF(H29:H33, \"TRUE\")","v":0}]
[{"$nulls":7},false]
[{"$nulls":7},false]
[{"$nulls":7},false]
[{"$nulls":7},false]
[null,null,"EOP Training","Has the Tribal Nation conducted training on the EOP base plan?",null,"Current Status"]
[{"$nulls":7},1]
[]
[null,null,"EOP Evaluation","Has the Tribal Nation evaluated the effectiveness of the EOP base plan through exercises or real-world event?"]
[{"$nulls":7},false,false,false,{"$f":"COUNTIF(H38:J38, \"TRUE\")","v":0}]
[]
[null,null,"EOP Revision","Has the Tribal Nation updated the EOP base plan based on corrective actions identified during the training, exercise, or real-world event? ",null,"Current Status",{"$nulls":4},"TOTAL"]
[{"$nulls":7},1,null,null,{"$f":"COUNTIF(I18,\">0\")+COUNTIF(I23,\"=1\")+COUNTIF(H26,\">1\")+COUNTIF(I29,\">0\")+COUNTIF(H35,\">1\")+COUNTIF(K38,\">0\")+COUNTIF(H41,\">1\")","v":0}]
[]
[null,null,"Journal Notes/Comments (optional)"]

{"sheet":"Tribal NIMS","index":74,"n_rows":113,"n_cols":12,"rows_kept":113,"hidden":true,"merged":[[16,3,24,3],[16,4,16,8],[20,6,21,6],[20,7,21,8],[23,4,23,8],[26,3,27,3],[26,4,27,7],[29,3,36,3],[29,4,29,8],[30,6,35,8],[38,3,46,3],[38,4,38,8],[40,5,40,7],[41,5,41,7],[42,5,42,7],[43,5,43,7],[44,6,44,7],[45,5,45,7],[48,3,66,3],[48,4,48,8],[49,4,49,8],[50,4,50,8],[51,4,56,8],[57,4,57,8],[58,4,58,8],[59,4,59,8],[60,4,66,8],[68,3,84,3],[68,4,68,8],[69,4,69,8],[70,4,70,8],[71,4,76,8],[77,4,77,8],[78,4,84,8],[86,3,93,3],[86,4,87,7],[88,4,89,7],[90,4,91,7],[92,4,92,8],[95,3,104,3],[95,4,104,8],[106,3,107,3],[106,4,107,7],[109,3,110,3],[109,4,110,8],[112,3,112,8],[113,3,118,8]]}
{"$rows_empty":14}
[{"$nulls":7},"Percentage Complete:",{"$f":"SUM(L17,L27,L30,L39,L49,L58,L69,L87,L89,L91,L93,L96,L107)/13","v":{"v":0,"d":"0%"}},null,{"$f":"IF(AND(K17=\"Y\", K27=\"Y\", K30=\"Y\", K39=\"Y\", K49=\"Y\", K58=\"Y\", K69=\"Y\", K87=\"Y\", K89=\"Y\", K91=\"Y\", K93=\"Y\", K96=\"Y\", K107=\"Y\"), \"Y\", \"N\")","v":"N"}]
[]
[{"$nulls":3},"Jurisdiction Types","1.a. How many of the following jurisdiction types are reflected in your response? ",{"$nulls":5},{"$f":"IF(AND(K18=1, K19=\"Y\"), \"Y\", \"N\")","v":"N"},{"$f":"IF(K17=\"Y\", 1, 0)","v":0}]
[{"$nulls":4},"Tribal Lands:",{"$nulls":5},{"$f":"IF(OR(F18<>\"\", F19<>\"\", F20<>\"\"), 1, 0)","v":0}]
[{"$nulls":4},"Reservations:",{"$nulls":4},1,{"$f":"IF(OR(AND(F21=0, K22<>1), AND(F21=\"\", K22<>1), AND(F21>0, K22=1)), \"Y\", \"N\")","v":"Y"}]
[]
[{"$nulls":4},"Other:",null,"If you marked “Other,” please identify the jurisdiction types included in that category:"]
[{"$nulls":10},0]
[]
[{"$nulls":4},"1.b. If all components of your Tribal Nation are not accounted for, please explain:",{"$nulls":5},0]
[]
[]
[{"$nulls":3},"NIMS Adoption","2. What percentage of your Tribal Nation have formally adopted and/or maintained adoption of the National Incident Management System as your all-hazards incident management system for Fiscal Year (FY) 2015? ",{"$nulls":3},"Current Status",null,{"$f":"IF(K28<>1,\"Y\",\"N\")","v":"N"},{"$f":"IF(K27=\"Y\", 1, 0)","v":0}]
[{"$nulls":10},1]
[]
[{"$nulls":3},"Plans","3. What percentage of the following types of plans within your Tribal Nation are reviewed and revised to incorporate NIMS components, principles, and policies? ",{"$nulls":5},{"$f":"IF(AND(K31<>1, K32<>1, K33<>1, K34<>1, K35<>1, K36<>1, K37<>1), \"Y\", \"N\")","v":"N"},{"$f":"IF(K30=\"Y\", 1, 0)","v":0}]
[{"$nulls":4},"Emergency Operations Plans",{"$nulls":5},1]
[{"$nulls":4},"Standard Operating Procedures",{"$nulls":5},1]
[{"$nulls":4},"Standard Operating Guidelines",{"$nulls":5},1]
[{"$nulls":4},"All Hazard Plan",{"$nulls":5},1]
[{"$nulls":4},"Mitigation Plan",{"$nulls":5},1]
[{"$nulls":4},"Training Plan",{"$nulls":5},1]
[{"$nulls":4},"Continuity Plan",{"$nulls":5},1]
[]
[{"$nulls":3},"Mutual Aid","4. Has your Tribal Nation established (and/or have in development) the following types of mutual aid agreements, compacts, and/or assistance agreements?  ",{"$nulls":5},{"$f":"IF(AND(K42<>0, K43<>0, K44<>0, K46<>0, L42<>0, L43<>0,L44<>0, L46<>0, K45<>0, L45<>0), \"Y\", \"N\")","v":"N"},{"$f":"IF(K39=\"Y\", 1, 0)","v":0}]
[]
[{"$nulls":4},"Intrastate Agreements","Interagency and Interstate Agreements"]
[{"$nulls":4},"Throughout the Tribal Nation?","Throughout the Tribal Nation?",{"$nulls":4},0,0]
[{"$nulls":4},"That incude the Private Sector?","That include the Private Sector?",{"$nulls":4},0,0]
[{"$nulls":4},"That include NGOs?","That include NGOs?",{"$nulls":4},0,0]
[{"$nulls":4},"That include the State/Territory?",null,"That include the State/Territory?",{"$nulls":3},0,0]
[{"$nulls":4},"That include neighboring Tribal Nations?","That include neighboring Tribal Nations?",{"$nulls":4},0,0]
[]
[]
[{"$nulls":3},"NIMS Training","5.a. Have NIMS concepts and principles been incorporated into appropriate training within your Tribal Nation? ",{"$nulls":5},{"$f":"IF(OR(AND(K50=1,K51>0), AND(K50=2, K51>0), AND(K50=3, K51=0)), \"Y\", \"N\")","v":"N"},{"$f":"IF(K49=\"Y\", 1, 0)","v":0}]
[{"$nulls":10},0]
[{"$nulls":4},"5.b. If yes, which of the following has been incorporated?",{"$nulls":5},{"$f":"COUNTIF(K52:K57, \"TRUE\")","v":0}]
[{"$nulls":10},false]
[{"$nulls":10},false]
[{"$nulls":10},false]
[{"$nulls":10},false]
[{"$nulls":10},false]
[{"$nulls":10},false]
[{"$nulls":4},"6. Has your Tribal Nation implemented a training program to ensure that the appropriate emergency/incident response personnel, as identified in the NIMS Training Program, receive NIMS training in accordance with their incident management responsibilities? ",{"$nulls":5},{"$f":"IF(K59>0, \"Y\", \"N\")","v":"N"},{"$f":"IF(K58=\"Y\", 1, 0)","v":0}]
[{"$nulls":10},0]
[{"$nulls":4},"7. Which, if any, of the following are priorities for your Tribal Nation to incorporate into training in the coming year? Please choose up to three options from the list below.",{"$nulls":5},{"$f":"IF(OR(AND(L61=0, AND(K67=TRUE, L67=1)), AND(L61>0, AND(K67=FALSE, L67=0)), AND(L61>0, K67=TRUE, L67=1)), \"Y\", \"N\")","v":"N"},{"$f":"IF(K60=\"Y\", 1, 0)","v":0}]
[{"$nulls":10},false,{"$f":"COUNTIF(K61:K66, \"TRUE\")","v":0}]
[{"$nulls":10},false]
[{"$nulls":10},false]
[{"$nulls":10},false]
[{"$nulls":10},false]
[{"$nulls":10},false,0]
[{"$nulls":10},false,0]
[]
[{"$nulls":3},"Exercises","8.a. Have NIMS concepts and principles been incorporated into appropriate exercises within your Tribal Nation? ",{"$nulls":5},{"$f":"IF(OR(AND(K70=1,L72>0), AND(K70=2, L72>0), AND(K70=3, L72=0)), \"Y\", \"N\")","v":"N"},{"$f":"IF(K69=\"Y\", 1, 0)","v":0}]
[{"$nulls":10},0]
[{"$nulls":4},"8.b. If yes, which of the following has been incorporated? "]
[{"$nulls":10},false,{"$f":"COUNTIF(K73:K77, TRUE)","v":0}]
[{"$nulls":10},false]
[{"$nulls":10},false]
[{"$nulls":10},false]
[{"$nulls":10},false]
[{"$nulls":10},false]
[{"$nulls":4},"9. Which, if any, of the following are priorities for your Tribal Nation to incorporate into exercises in the coming year? Please choose up to three options from the list below.",{"$nulls":5},{"$f":"IF(OR(AND(L79=0, AND(K85=TRUE, L85=1)), AND(L79>0, AND(K85=FALSE, L85=0)), AND(L79>0, K85=TRUE, L85=1)), \"Y\", \"N\")","v":"N"},{"$f":"IF(K78=\"Y\", 1, 0)","v":0}]
[{"$nulls":10},false,{"$f":"COUNTIF(K79:K84, \"TRUE\")","v":0}]
[{"$nulls":10},false]
[{"$nulls":10},false]
[{"$nulls":10},false]
[{"$nulls":10},false]
[{"$nulls":10},false,0]
[{"$nulls":10},false,0]
[]
[{"$nulls":3},"Resource Inventory","10. What percentage of your Tribal Nation maintains an inventory of its response resources and assets? ",{"$nulls":3},"Current Status",null,{"$f":"IF(K88>1, \"Y\", \"N\")","v":"N"},{"$f":"IF(K87=\"Y\", 1, 0)","v":0}]
[{"$nulls":10},1]
[{"$nulls":4},"11. What percentage of your Tribal Nation use an interoperable tool, such as the Incident Resource Inventory System (IRIS), to inventory response resources and assets?",{"$nulls":3},"Current Status",null,{"$f":"IF(K90>1, \"Y\", \"N\")","v":"N"},{"$f":"IF(K89=\"Y\", 1, 0)","v":0}]
[{"$nulls":10},1]
[{"$nulls":4},"12. What percentage of your Tribal Nation have typed and inventoried their response and recovery resources and assets consistent with available national NIMS resource typing definitions and job titles/position qualifications, available through the Resource Typing Library Tool at https://rtlt.ptaccenter.org/Public?  ",{"$nulls":3},"Current Status",null,{"$f":"IF(K92>1, \"Y\", \"N\")","v":"N"},{"$f":"IF(K91=\"Y\", 1, 0)","v":0}]
[{"$nulls":10},1]
[{"$nulls":4},"13. Does your Tribal Nation have a process to determine availability of response resources and assets in accordance with national NIMS resource typing definitions and job titles/position qualifications, available through the Resource Typing Library Tool at https://rtlt.ptaccenter.org/Public? ",{"$nulls":5},{"$f":"IF(K94>0, \"Y\", \"N\")","v":"N"},{"$f":"IF(K93=\"Y\", 1, 0)","v":0}]
[{"$nulls":10},0]
[]
[{"$nulls":3},"NIMS Priorities","14. What priorities has your Tribal Nation identified to enhance your implementation of NIMS in the coming year? Please check up to three.",{"$nulls":5},{"$f":"IF(OR(AND(L97=0, AND(K105=TRUE, L105=1)), AND(L97>0, AND(K105=FALSE, L105=0)), AND(L97>0, K105=TRUE, L105=1)), \"Y\", \"N\")","v":"N"},{"$f":"IF(K96=\"Y\", 1, 0)","v":0}]
[{"$nulls":10},false,{"$f":"COUNTIF(K97:K104, \"TRUE\")","v":0}]
[{"$nulls":10},false]
[{"$nulls":10},false]
[{"$nulls":10},false]
[{"$nulls":10},false]
[{"$nulls":10},false]
[{"$nulls":10},false]
[{"$nulls":10},false,0]
[{"$nulls":10},false,0]
[]
[{"$nulls":3},"Re-entry Plan","15. What percentage of your Tribal Nation has an access and re-entry plan in order to control the flow of resources and personnel into the area of an incident?",{"$nulls":3},"Current Status",null,{"$f":"IF(K108>1, \"Y\", \"N\")","v":"N"},{"$f":"IF(K107=\"Y\", 1, 0)","v":0}]
[{"$nulls":10},1]
[]
[{"$nulls":3},"Additional Needs","16. Please list any tools, training, guidance, or support that would be helpful in further enhancing your Tribal Nation’s implementation of NIMS:",{"$nulls":5},0,{"$f":"IF(K110=\"Y\", 1, 0)","v":0}]
[{"$nulls":10},0]
[{"$nulls":10},0]
[{"$nulls":3},"Journal Notes/Comments (optional)",{"$nulls":6},0]

{"sheet":"Capability Ratings Data","index":75,"n_rows":122,"n_cols":49,"rows_kept":122,"hidden":true,"merged":[[2,3,2,10],[2,12,2,19]]}
[]
[]
[{"$nulls":3},"Internal Capability Ratings",{"$nulls":8},"Internal Capability Plus Mutual Aid Ratings",{"$nulls":13},"Average",{"$nulls":3},"Planning",{"$nulls":3},"Organization",{"$nulls":3},"Equipment",{"$nulls":3},"Training",{"$nulls":3},"Exercises"]
["Mission Area","Core Capability",null,"Planning","Organization","Equipment","Training","Exercises",null,"Count","Average",null,"Planning","Organization","Equipment","Training","Exercises",null,"Count","Average",null,"Priority",null,"Gap Responsibility","High",{"$f":"COUNTIF(V5:V35, \"High\")","v":0},"Core Capability","Internal Capability","Internal Capability with Mutual Aid",null,{"$f":"AA4","v":"Core Capability"},{"$f":"AB4","v":"Internal Capability"},{"$f":"AC4","v":"Internal Capability with Mutual Aid"},null,"Core Capability","Internal Capability","Internal Capability with Mutual Aid",null,"Core Capability","Internal Capability","Internal Capability with Mutual Aid",null,"Core Capability","Internal Capability","Internal Capability with Mutual Aid",null,"Core Capability","Internal Capability"]
["Common","Planning",null,{"$f":"IF(AND(INDIRECT(\"'SPR \"&Lists!P1&\"'!P14\")>1,INDIRECT(\"'SPR \"&Lists!P1&\"'!P14\")<7),INDIRECT(\"'SPR \"&Lists!P1&\"'!P14\")-1,IF(INDIRECT(\"'SPR \"&Lists!P1&\"'!P14\")=7,\"N/A\",\"\"))","v":""},{"$f":"IF(AND(INDIRECT(\"'SPR \"&Lists!P1&\"'!P18\")>1,INDIRECT(\"'SPR \"&Lists!P1&\"'!P18\")<7),INDIRECT(\"'SPR \"&Lists!P1&\"'!P18\")-1,IF(INDIRECT(\"'SPR \"&Lists!P1&\"'!P18\")=7,\"N/A\",\"\"))","v":""},{"$f":"IF(AND(INDIRECT(\"'SPR \"&Lists!P1&\"'!P22\")>1,INDIRECT(\"'SPR \"&Lists!P1&\"'!P22\")<7),INDIRECT(\"'SPR \"&Lists!P1&\"'!P22\")-1,IF(INDIRECT(\"'SPR \"&Lists!P1&\"'!P22\")=7,\"N/A\",\"\"))","v":""},{"$f":"IF(AND(INDIRECT(\"'SPR \"&Lists!P1&\"'!P26\")>1,INDIRECT(\"'SPR \"&Lists!P1&\"'!P26\")<7),INDIRECT(\"'SPR \"&Lists!P1&\"'!P26\")-1,IF(INDIRECT(\"'SPR \"&Lists!P1&\"'!P26\")=7,\"N/A\",\"\"))","v":""},{"$f":"IF(AND(INDIRECT(\"'SPR \"&Lists!P1&\"'!P30\")>1,INDIRECT(\"'SPR \"&Lists!P1&\"'!P30\")<7),INDIRECT(\"'SPR \"&Lists!P1&\"'!P30\")-1,IF(INDIRECT(\"'SPR \"&Lists!P1&\"'!P30\")=7,\"N/A\",\"\"))","v":""},null,{"$f":"COUNTIF(D5:H5,\">0\")","v":0},{"$f":"IF(J5>0,SUM(D5:H5)/J5,\"\")","v":""},null,{"$f":"IF(AND(INDIRECT(\"'SPR \"&Lists!P1&\"'!q14\")>1,INDIRECT(\"'SPR \"&Lists!P1&\"'!q14\")<7),INDIRECT(\"'SPR \"&Lists!P1&\"'!q14\")-1,IF(INDIRECT(\"'SPR \"&Lists!P1&\"'!q14\")=7,\"N/A\",\"\"))","v":""},{"$f":"IF(AND(INDIRECT(\"'SPR \"&Lists!P1&\"'!q18\")>1,INDIRECT(\"'SPR \"&Lists!P1&\"'!q18\")<7),INDIRECT(\"'SPR \"&Lists!P1&\"'!q18\")-1,IF(INDIRECT(\"'SPR \"&Lists!P1&\"'!q18\")=7,\"N/A\",\"\"))","v":""},{"$f":"IF(AND(INDIRECT(\"'SPR \"&Lists!P1&\"'!Q22\")>1,INDIRECT(\"'SPR \"&Lists!P1&\"'!Q22\")<7),INDIRECT(\"'SPR \"&Lists!P1&\"'!Q22\")-1,IF(INDIRECT(\"'SPR \"&Lists!P1&\"'!Q22\")=7,\"N/A\",\"\"))","v":""},{"$f":"IF(AND(INDIRECT(\"'SPR \"&Lists!P1&\"'!Q26\")>1,INDIRECT(\"'SPR \"&Lists!P1&\"'!Q26\")<7),INDIRECT(\"'SPR \"&Lists!P1&\"'!Q26\")-1,IF(INDIRECT(\"'SPR \"&Lists!P1&\"'!Q26\")=7,\"N/A\",\"\"))","v":""},{"$f":"IF(AND(INDIRECT(\"'SPR \"&Lists!P1&\"'!Q30\")>1,INDIRECT(\"'SPR \"&Lists!P1&\"'!Q30\")<7),INDIRECT(\"'SPR \"&Lists!P1&\"'!Q30\")-1,IF(INDIRECT(\"'SPR \"&Lists!P1&\"'!Q30\")=7,\"N/A\",\"\"))","v":""},null,{"$f":"COUNTIF(M5:Q5,\">0\")","v":0},{"$f":"IF(S5>0,SUM(M5:Q5)/S5,\"\")","v":""},null,{"$f":"IF(INDIRECT(\"'SPR \"&Lists!P1&\"'!P9\")=1,\"High\",IF(INDIRECT(\"'SPR \"&Lists!P1&\"'!P9\")=2,\"Medium\",IF(INDIRECT(\"'SPR \"&Lists!P1&\"'!P9\")=3,\"Low\",\"\")))","v":""},null,{"$f":"IF(INDIRECT(\"'SPR \"&Lists!P1&\"'!P37\")=1,\"No gap\",IF(INDIRECT(\"'SPR \"&Lists!P1&\"'!P37\")=2,\"Entirely the jurisdiction's responsibility\",IF(INDIRECT(\"'SPR \"&Lists!P1&\"'!P37\")=3,\"Mostly the jurisdiction's responsibility\",IF(INDIRECT(\"'SPR \"&Lists!P1&\"'!P37\")=4,\"Mostly higher-level government's responsibility\",IF(INDIRECT(\"'SPR \"&Lists!P1&\"'!P37\")=5,\"Entirely higher-level government's responsibility\",\"\")))))","v":""},"Medium",{"$f":"COUNTIF(V5:V35, \"Medium\")","v":0},{"$f":"B5","v":"Planning"},{"$f":"IF(K5<>\"N/A\",K5,\"\")","v":""},{"$f":"IF(OR(T5 = \"\", K5=\"\",T5=\"N/A\",K5=\"N/A\"),\"\",MAX(T5-K5,0))","v":""},null,{"$f":"AA5","v":"Planning"},{"$f":"IF(D5<>\"N/A\",D5,\"\")","v":""},{"$f":"IF(OR(D5 = \"\", M5=\"\",D5=\"N/A\",M5=\"N/A\"),\"\",MAX(M5-D5,0))","v":""},null,{"$f":"AE5","v":"Planning"},{"$f":"IF(E5<>\"N/A\",E5,\"\")","v":""},{"$f":"IF(OR(E5 = \"\", N5=\"\",N5=\"N/A\",E5=\"N/A\"),\"\",MAX(N5-E5,0))","v":""},null,{"$f":"AI5","v":"Planning"},{"$f":"IF(F5<>\"N/A\",F5,\"\")","v":""},{"$f":"IF(OR(F5 = \"\", O5=\"\",F5=\"N/A\",O5=\"N/A\"),\"\",MAX(O5-F5,0))","v":""},null,{"$f":"AM5","v":"Planning"},{"$f":"IF(G5<>\"N/A\",G5,\"\")","v":""},{"$f":"IF(OR(G5 = \"\", P5=\"\",G5=\"N/A\",P5=\"N/A\"),\"\",MAX(P5-G5,0))","v":""},null,{"$f":"AQ5","v":"Planning"},{"$f":"IF(H5<>\"N/A\",H5,\"\")","v":""},{"$f":"IF(OR(H5 = \"\", Q5=\"\",H5=\"N/A\",Q5=\"N/A\"),\"\",MAX(Q5-H5,0))","v":""}]
["Common","Public Information and Warning",null,{"$f":"IF(AND(INDIRECT(\"'SPR \"&Lists!P2&\"'!P14\")>1,INDIRECT(\"'SPR \"&Lists!P2&\"'!P14\")<7),INDIRECT(\"'SPR \"&Lists!P2&\"'!P14\")-1,IF(INDIRECT(\"'SPR \"&Lists!P2&\"'!P14\")=7,\"N/A\",\"\"))","v":""},{"$f":"IF(AND(INDIRECT(\"'SPR \"&Lists!P2&\"'!P18\")>1,INDIRECT(\"'SPR \"&Lists!P2&\"'!P18\")<7),INDIRECT(\"'SPR \"&Lists!P2&\"'!P18\")-1,IF(INDIRECT(\"'SPR \"&Lists!P2&\"'!P18\")=7,\"N/A\",\"\"))","v":""},{"$f":"IF(AND(INDIRECT(\"'SPR \"&Lists!P2&\"'!P22\")>1,INDIRECT(\"'SPR \"&Lists!P2&\"'!P22\")<7),INDIRECT(\"'SPR \"&Lists!P2&\"'!P22\")-1,IF(INDIRECT(\"'SPR \"&Lists!P2&\"'!P22\")=7,\"N/A\",\"\"))","v":""},{"$f":"IF(AND(INDIRECT(\"'SPR \"&Lists!P2&\"'!P26\")>1,INDIRECT(\"'SPR \"&Lists!P2&\"'!P26\")<7),INDIRECT(\"'SPR \"&Lists!P2&\"'!P26\")-1,IF(INDIRECT(\"'SPR \"&Lists!P2&\"'!P26\")=7,\"N/A\",\"\"))","v":""},{"$f":"IF(AND(INDIRECT(\"'SPR \"&Lists!P2&\"'!P30\")>1,INDIRECT(\"'SPR \"&Lists!P2&\"'!P30\")<7),INDIRECT(\"'SPR \"&Lists!P2&\"'!P30\")-1,IF(INDIRECT(\"'SPR \"&Lists!P2&\"'!P30\")=7,\"N/A\",\"\"))","v":""},null,{"$f":"COUNTIF(D6:H6,\">0\")","v":0},"",null,{"$f":"IF(AND(INDIRECT(\"'SPR \"&Lists!P2&\"'!q14\")>1,INDIRECT(\"'SPR \"&Lists!P2&\"'!q14\")<7),INDIRECT(\"'SPR \"&Lists!P2&\"'!q14\")-1,IF(INDIRECT(\"'SPR \"&Lists!P2&\"'!q14\")=7,\"N/A\",\"\"))","v":""},{"$f":"IF(AND(INDIRECT(\"'SPR \"&Lists!P2&\"'!q18\")>1,INDIRECT(\"'SPR \"&Lists!P2&\"'!q18\")<7),INDIRECT(\"'SPR \"&Lists!P2&\"'!q18\")-1,IF(INDIRECT(\"'SPR \"&Lists!P2&\"'!q18\")=7,\"N/A\",\"\"))","v":""},{"$f":"IF(AND(INDIRECT(\"'SPR \"&Lists!P2&\"'!Q22\")>1,INDIRECT(\"'SPR \"&Lists!P2&\"'!Q22\")<7),INDIRECT(\"'SPR \"&Lists!P2&\"'!Q22\")-1,IF(INDIRECT(\"'SPR \"&Lists!P2&\"'!Q22\")=7,\"N/A\",\"\"))","v":""},{"$f":"IF(AND(INDIRECT(\"'SPR \"&Lists!P2&\"'!Q26\")>1,INDIRECT(\"'SPR \"&Lists!P2&\"'!Q26\")<7),INDIRECT(\"'SPR \"&Lists!P2&\"'!Q26\")-1,IF(INDIRECT(\"'SPR \"&Lists!P2&\"'!Q26\")=7,\"N/A\",\"\"))","v":""},{"$f":"IF(AND(INDIRECT(\"'SPR \"&Lists!P2&\"'!Q30\")>1,INDIRECT(\"'SPR \"&Lists!P2&\"'!Q30\")<7),INDIRECT(\"'SPR \"&Lists!P2&\"'!Q30\")-1,IF(INDIRECT(\"'SPR \"&Lists!P2&\"'!Q30\")=7,\"N/A\",\"\"))","v":""},null,{"$f":"COUNTIF(M6:Q6,\">0\")","v":0},"",null,{"$f":"IF(INDIRECT(\"'SPR \"&Lists!P2&\"'!P9\")=1,\"High\",IF(INDIRECT(\"'SPR \"&Lists!P2&\"'!P9\")=2,\"Medium\",IF(INDIRECT(\"'SPR \"&Lists!P2&\"'!P9\")=3,\"Low\",\"\")))","v":""},null,{"$f":"IF(INDIRECT(\"'SPR \"&Lists!P2&\"'!P37\")=1,\"No gap\",IF(INDIRECT(\"'SPR \"&Lists!P2&\"'!P37\")=2,\"Entirely the jurisdiction's responsibility\",IF(INDIRECT(\"'SPR \"&Lists!P2&\"'!P37\")=3,\"Mostly the jurisdiction's responsibility\",IF(INDIRECT(\"'SPR \"&Lists!P2&\"'!P37\")=4,\"Mostly higher-level government's responsibility\",IF(INDIRECT(\"'SPR \"&Lists!P2&\"'!P37\")=5,\"Entirely higher-level government's responsibility\",\"\")))))","v":""},"Low",{"$f":"COUNTIF(V5:V35, \"Low\")","v":0},{"$f":"B6","v":"Public Information and Warning"},{"$f":"IF(K6<>\"N/A\",K6,\"\")","v":""},{"$f":"IF(OR(T6 = \"\", K6=\"\",T6=\"N/A\",K6=\"N/A\"),\"\",MAX(T6-K6,0))","v":""},null,{"$f":"AA6","v":"Public Information and Warning"},{"$f":"IF(D6<>\"N/A\",D6,\"\")","v":""},{"$f":"IF(OR(D6 = \"\", M6=\"\",D6=\"N/A\",M6=\"N/A\"),\"\",MAX(M6-D6,0))","v":""},null,{"$f":"AE6","v":"Public Information and Warning"},{"$f":"IF(E6<>\"N/A\",E6,\"\")","v":""},{"$f":"IF(OR(E6 = \"\", N6=\"\",N6=\"N/A\",E6=\"N/A\"),\"\",MAX(N6-E6,0))","v":""},null,{"$f":"AI6","v":"Public Information and Warning"},{"$f":"IF(F6<>\"N/A\",F6,\"\")","v":""},{"$f":"IF(OR(F6 = \"\", O6=\"\",F6=\"N/A\",O6=\"N/A\"),\"\",MAX(O6-F6,0))","v":""},null,{"$f":"AM6","v":"Public Information and Warning"},{"$f":"IF(G6<>\"N/A\",G6,\"\")","v":""},{"$f":"IF(OR(G6 = \"\", P6=\"\",G6=\"N/A\",P6=\"N/A\"),\"\",MAX(P6-G6,0))","v":""},null,{"$f":"AQ6","v":"Public Information and Warning"},{"$f":"IF(H6<>\"N/A\",H6,\"\")","v":""},{"$f":"IF(OR(H6 = \"\", Q6=\"\",H6=\"N/A\",Q6=\"N/A\"),\"\",MAX(Q6-H6,0))","v":""}]
["Common","Operational Coordination",null,{"$f":"IF(AND(INDIRECT(\"'SPR \"&Lists!P3&\"'!P14\")>1,INDIRECT(\"'SPR \"&Lists!P3&\"'!P14\")<7),INDIRECT(\"'SPR \"&Lists!P3&\"'!P14\")-1,IF(INDIRECT(\"'SPR \"&Lists!P3&\"'!P14\")=7,\"N/A\",\"\"))","v":""},{"$f":"IF(AND(INDIRECT(\"'SPR \"&Lists!P3&\"'!P18\")>1,INDIRECT(\"'SPR \"&Lists!P3&\"'!P18\")<7),INDIRECT(\"'SPR \"&Lists!P3&\"'!P18\")-1,IF(INDIRECT(\"'SPR \"&Lists!P3&\"'!P18\")=7,\"N/A\",\"\"))","v":""},{"$f":"IF(AND(INDIRECT(\"'SPR \"&Lists!P3&\"'!P22\")>1,INDIRECT(\"'SPR \"&Lists!P3&\"'!P22\")<7),INDIRECT(\"'SPR \"&Lists!P3&\"'!P22\")-1,IF(INDIRECT(\"'SPR \"&Lists!P3&\"'!P22\")=7,\"N/A\",\"\"))","v":""},{"$f":"IF(AND(INDIRECT(\"'SPR \"&Lists!P3&\"'!P26\")>1,INDIRECT(\"'SPR \"&Lists!P3&\"'!P26\")<7),INDIRECT(\"'SPR \"&Lists!P3&\"'!P26\")-1,IF(INDIRECT(\"'SPR \"&Lists!P3&\"'!P26\")=7,\"N/A\",\"\"))","v":""},{"$f":"IF(AND(INDIRECT(\"'SPR \"&Lists!P3&\"'!P30\")>1,INDIRECT(\"'SPR \"&Lists!P3&\"'!P30\")<7),INDIRECT(\"'SPR \"&Lists!P3&\"'!P30\")-1,IF(INDIRECT(\"'SPR \"&Lists!P3&\"'!P30\")=7,\"N/A\",\"\"))","v":""},null,0,"",null,{"$f":"IF(AND(INDIRECT(\"'SPR \"&Lists!P3&\"'!q14\")>1,INDIRECT(\"'SPR \"&Lists!P3&\"'!q14\")<7),INDIRECT(\"'SPR \"&Lists!P3&\"'!q14\")-1,IF(INDIRECT(\"'SPR \"&Lists!P3&\"'!q14\")=7,\"N/A\",\"\"))","v":""},{"$f":"IF(AND(INDIRECT(\"'SPR \"&Lists!P3&\"'!q18\")>1,INDIRECT(\"'SPR \"&Lists!P3&\"'!q18\")<7),INDIRECT(\"'SPR \"&Lists!P3&\"'!q18\")-1,IF(INDIRECT(\"'SPR \"&Lists!P3&\"'!q18\")=7,\"N/A\",\"\"))","v":""},{"$f":"IF(AND(INDIRECT(\"'SPR \"&Lists!P3&\"'!Q22\")>1,INDIRECT(\"'SPR \"&Lists!P3&\"'!Q22\")<7),INDIRECT(\"'SPR \"&Lists!P3&\"'!Q22\")-1,IF(INDIRECT(\"'SPR \"&Lists!P3&\"'!Q22\")=7,\"N/A\",\"\"))","v":""},{"$f":"IF(AND(INDIRECT(\"'SPR \"&Lists!P3&\"'!Q26\")>1,INDIRECT(\"'SPR \"&Lists!P3&\"'!Q26\")<7),INDIRECT(\"'SPR \"&Lists!P3&\"'!Q26\")-1,IF(INDIRECT(\"'SPR \"&Lists!P3&\"'!Q26\")=7,\"N/A\",\"\"))","v":""},{"$f":"IF(AND(INDIRECT(\"'SPR \"&Lists!P3&\"'!Q30\")>1,INDIRECT(\"'SPR \"&Lists!P3&\"'!Q30\")<7),INDIRECT(\"'SPR \"&Lists!P3&\"'!Q30\")-1,IF(INDIRECT(\"'SPR \"&Lists!P3&\"'!Q30\")=7,\"N/A\",\"\"))","v":""},null,0,"",null,{"$f":"IF(INDIRECT(\"'SPR \"&Lists!P3&\"'!P9\")=1,\"High\",IF(INDIRECT(\"'SPR \"&Lists!P3&\"'!P9\")=2,\"Medium\",IF(INDIRECT(\"'SPR \"&Lists!P3&\"'!P9\")=3,\"Low\",\"\")))","v":""},null,{"$f":"IF(INDIRECT(\"'SPR \"&Lists!P3&\"'!P37\")=1,\"No gap\",IF(INDIRECT(\"'SPR \"&Lists!P3&\"'!P37\")=2,\"Entirely the jurisdiction's responsibility\",IF(INDIRECT(\"'SPR \"&Lists!P3&\"'!P37\")=3,\"Mostly the jurisdiction's responsibility\",IF(INDIRECT(\"'SPR \"&Lists!P3&\"'!P37\")=4,\"Mostly higher-level government's responsibility\",IF(INDIRECT(\"'SPR \"&Lists!P3&\"'!P37\")=5,\"Entirely higher-level government's responsibility\",\"\")))))","v":""},"Entirely the jurisdiction's responsibility",{"$f":"COUNTIF(X5:X35, Y7)","v":0},"Operational Coordination","","",null,"Operational Coordination","","",null,"Operational Coordination","","",null,"Operational Coordination","","",null,"Operational Coordination","","",null,"Operational Coordination","",""]
["Prevention","Forensics and Attribution",null,{"$f":"IF(AND(INDIRECT(\"'SPR \"&Lists!P4&\"'!P14\")>1,INDIRECT(\"'SPR \"&Lists!P4&\"'!P14\")<7),INDIRECT(\"'SPR \"&Lists!P4&\"'!P14\")-1,IF(INDIRECT(\"'SPR \"&Lists!P4&\"'!P14\")=7,\"N/A\",\"\"))","v":""},{"$f":"IF(AND(INDIRECT(\"'SPR \"&Lists!P4&\"'!P18\")>1,INDIRECT(\"'SPR \"&Lists!P4&\"'!P18\")<7),INDIRECT(\"'SPR \"&Lists!P4&\"'!P18\")-1,IF(INDIRECT(\"'SPR \"&Lists!P4&\"'!P18\")=7,\"N/A\",\"\"))","v":""},{"$f":"IF(AND(INDIRECT(\"'SPR \"&Lists!P4&\"'!P22\")>1,INDIRECT(\"'SPR \"&Lists!P4&\"'!P22\")<7),INDIRECT(\"'SPR \"&Lists!P4&\"'!P22\")-1,IF(INDIRECT(\"'SPR \"&Lists!P4&\"'!P22\")=7,\"N/A\",\"\"))","v":""},{"$f":"IF(AND(INDIRECT(\"'SPR \"&Lists!P4&\"'!P26\")>1,INDIRECT(\"'SPR \"&Lists!P4&\"'!P26\")<7),INDIRECT(\"'SPR \"&Lists!P4&\"'!P26\")-1,IF(INDIRECT(\"'SPR \"&Lists!P4&\"'!P26\")=7,\"N/A\",\"\"))","v":""},{"$f":"IF(AND(INDIRECT(\"'SPR \"&Lists!P4&\"'!P30\")>1,INDIRECT(\"'SPR \"&Lists!P4&\"'!P30\")<7),INDIRECT(\"'SPR \"&Lists!P4&\"'!P30\")-1,IF(INDIRECT(\"'SPR \"&Lists!P4&\"'!P30\")=7,\"N/A\",\"\"))","v":""},null,0,"",null,{"$f":"IF(AND(INDIRECT(\"'SPR \"&Lists!P4&\"'!q14\")>1,INDIRECT(\"'SPR \"&Lists!P4&\"'!q14\")<7),INDIRECT(\"'SPR \"&Lists!P4&\"'!q14\")-1,IF(INDIRECT(\"'SPR \"&Lists!P4&\"'!q14\")=7,\"N/A\",\"\"))","v":""},{"$f":"IF(AND(INDIRECT(\"'SPR \"&Lists!P4&\"'!q18\")>1,INDIRECT(\"'SPR \"&Lists!P4&\"'!q18\")<7),INDIRECT(\"'SPR \"&Lists!P4&\"'!q18\")-1,IF(INDIRECT(\"'SPR \"&Lists!P4&\"'!q18\")=7,\"N/A\",\"\"))","v":""},{"$f":"IF(AND(INDIRECT(\"'SPR \"&Lists!P4&\"'!Q22\")>1,INDIRECT(\"'SPR \"&Lists!P4&\"'!Q22\")<7),INDIRECT(\"'SPR \"&Lists!P4&\"'!Q22\")-1,IF(INDIRECT(\"'SPR \"&Lists!P4&\"'!Q22\")=7,\"N/A\",\"\"))","v":""},{"$f":"IF(AND(INDIRECT(\"'SPR \"&Lists!P4&\"'!Q26\")>1,INDIRECT(\"'SPR \"&Lists!P4&\"'!Q26\")<7),INDIRECT(\"'SPR \"&Lists!P4&\"'!Q26\")-1,IF(INDIRECT(\"'SPR \"&Lists!P4&\"'!Q26\")=7,\"N/A\",\"\"))","v":""},{"$f":"IF(AND(INDIRECT(\"'SPR \"&Lists!P4&\"'!Q30\")>1,INDIRECT(\"'SPR \"&Lists!P4&\"'!Q30\")<7),INDIRECT(\"'SPR \"&Lists!P4&\"'!Q30\")-1,IF(INDIRECT(\"'SPR \"&Lists!P4&\"'!Q30\")=7,\"N/A\",\"\"))","v":""},null,0,"",null,{"$f":"IF(INDIRECT(\"'SPR \"&Lists!P4&\"'!P9\")=1,\"High\",IF(INDIRECT(\"'SPR \"&Lists!P4&\"'!P9\")=2,\"Medium\",IF(INDIRECT(\"'SPR \"&Lists!P4&\"'!P9\")=3,\"Low\",\"\")))","v":""},null,{"$f":"IF(INDIRECT(\"'SPR \"&Lists!P4&\"'!P37\")=1,\"No gap\",IF(INDIRECT(\"'SPR \"&Lists!P4&\"'!P37\")=2,\"Entirely the jurisdiction's responsibility\",IF(INDIRECT(\"'SPR \"&Lists!P4&\"'!P37\")=3,\"Mostly the jurisdiction's responsibility\",IF(INDIRECT(\"'SPR \"&Lists!P4&\"'!P37\")=4,\"Mostly higher-level government's responsibility\",IF(INDIRECT(\"'SPR \"&Lists!P4&\"'!P37\")=5,\"Entirely higher-level government's responsibility\",\"\")))))","v":""},"Mostly the jurisdiction's responsibility",{"$f":"COUNTIF(X5:X35, Y8)","v":0},"Forensics and Attribution","","",null,"Forensics and Attribution","","",null,"Forensics and Attribution","","",null,"Forensics and Attribution","","",null,"Forensics and Attribution","","",null,"Forensics and Attribution","",""]
["Prevention/Protection","Intelligence and Information Sharing",null,{"$f":"IF(AND(INDIRECT(\"'SPR \"&Lists!P5&\"'!P14\")>1,INDIRECT(\"'SPR \"&Lists!P5&\"'!P14\")<7),INDIRECT(\"'SPR \"&Lists!P5&\"'!P14\")-1,IF(INDIRECT(\"'SPR \"&Lists!P5&\"'!P14\")=7,\"N/A\",\"\"))","v":""},{"$f":"IF(AND(INDIRECT(\"'SPR \"&Lists!P5&\"'!P18\")>1,INDIRECT(\"'SPR \"&Lists!P5&\"'!P18\")<7),INDIRECT(\"'SPR \"&Lists!P5&\"'!P18\")-1,IF(INDIRECT(\"'SPR \"&Lists!P5&\"'!P18\")=7,\"N/A\",\"\"))","v":""},{"$f":"IF(AND(INDIRECT(\"'SPR \"&Lists!P5&\"'!P22\")>1,INDIRECT(\"'SPR \"&Lists!P5&\"'!P22\")<7),INDIRECT(\"'SPR \"&Lists!P5&\"'!P22\")-1,IF(INDIRECT(\"'SPR \"&Lists!P5&\"'!P22\")=7,\"N/A\",\"\"))","v":""},{"$f":"IF(AND(INDIRECT(\"'SPR \"&Lists!P5&\"'!P26\")>1,INDIRECT(\"'SPR \"&Lists!P5&\"'!P26\")<7),INDIRECT(\"'SPR \"&Lists!P5&\"'!P26\")-1,IF(INDIRECT(\"'SPR \"&Lists!P5&\"'!P26\")=7,\"N/A\",\"\"))","v":""},{"$f":"IF(AND(INDIRECT(\"'SPR \"&Lists!P5&\"'!P30\")>1,INDIRECT(\"'SPR \"&Lists!P5&\"'!P30\")<7),INDIRECT(\"'SPR \"&Lists!P5&\"'!P30\")-1,IF(INDIRECT(\"'SPR \"&Lists!P5&\"'!P30\")=7,\"N/A\",\"\"))","v":""},null,0,"",null,{"$f":"IF(AND(INDIRECT(\"'SPR \"&Lists!P5&\"'!q14\")>1,INDIRECT(\"'SPR \"&Lists!P5&\"'!q14\")<7),INDIRECT(\"'SPR \"&Lists!P5&\"'!q14\")-1,IF(INDIRECT(\"'SPR \"&Lists!P5&\"'!q14\")=7,\"N/A\",\"\"))","v":""},{"$f":"IF(AND(INDIRECT(\"'SPR \"&Lists!P5&\"'!q18\")>1,INDIRECT(\"'SPR \"&Lists!P5&\"'!q18\")<7),INDIRECT(\"'SPR \"&Lists!P5&\"'!q18\")-1,IF(INDIRECT(\"'SPR \"&Lists!P5&\"'!q18\")=7,\"N/A\",\"\"))","v":""},{"$f":"IF(AND(INDIRECT(\"'SPR \"&Lists!P5&\"'!Q22\")>1,INDIRECT(\"'SPR \"&Lists!P5&\"'!Q22\")<7),INDIRECT(\"'SPR \"&Lists!P5&\"'!Q22\")-1,IF(INDIRECT(\"'SPR \"&Lists!P5&\"'!Q22\")=7,\"N/A\",\"\"))","v":""},{"$f":"IF(AND(INDIRECT(\"'SPR \"&Lists!P5&\"'!Q26\")>1,INDIRECT(\"'SPR \"&Lists!P5&\"'!Q26\")<7),INDIRECT(\"'SPR \"&Lists!P5&\"'!Q26\")-1,IF(INDIRECT(\"'SPR \"&Lists!P5&\"'!Q26\")=7,\"N/A\",\"\"))","v":""},{"$f":"IF(AND(INDIRECT(\"'SPR \"&Lists!P5&\"'!Q30\")>1,INDIRECT(\"'SPR \"&Lists!P5&\"'!Q30\")<7),INDIRECT(\"'SPR \"&Lists!P5&\"'!Q30\")-1,IF(INDIRECT(\"'SPR \"&Lists!P5&\"'!Q30\")=7,\"N/A\",\"\"))","v":""},null,0,"",null,{"$f":"IF(INDIRECT(\"'SPR \"&Lists!P5&\"'!P9\")=1,\"High\",IF(INDIRECT(\"'SPR \"&Lists!P5&\"'!P9\")=2,\"Medium\",IF(INDIRECT(\"'SPR \"&Lists!P5&\"'!P9\")=3,\"Low\",\"\")))","v":""},null,{"$f":"IF(INDIRECT(\"'SPR \"&Lists!P5&\"'!P37\")=1,\"No gap\",IF(INDIRECT(\"'SPR \"&Lists!P5&\"'!P37\")=2,\"Entirely the jurisdiction's responsibility\",IF(INDIRECT(\"'SPR \"&Lists!P5&\"'!P37\")=3,\"Mostly the jurisdiction's responsibility\",IF(INDIRECT(\"'SPR \"&Lists!P5&\"'!P37\")=4,\"Mostly higher-level government's responsibility\",IF(INDIRECT(\"'SPR \"&Lists!P5&\"'!P37\")=5,\"Entirely higher-level government's responsibility\",\"\")))))","v":""},"Mostly higher-level government's responsibility",{"$f":"COUNTIF(X5:X35, Y9)","v":0},"Intelligence and Information Sharing","","",null,"Intelligence and Information Sharing","","",null,"Intelligence and Information Sharing","","",null,"Intelligence and Information Sharing","","",null,"Intelligence and Information Sharing","","",null,"Intelligence and Information Sharing","",""]
["Prevention/Protection","Interdiction and Disruption",null,{"$f":"IF(AND(INDIRECT(\"'SPR \"&Lists!P6&\"'!P14\")>1,INDIRECT(\"'SPR \"&Lists!P6&\"'!P14\")<7),INDIRECT(\"'SPR \"&Lists!P6&\"'!P14\")-1,IF(INDIRECT(\"'SPR \"&Lists!P6&\"'!P14\")=7,\"N/A\",\"\"))","v":""},{"$f":"IF(AND(INDIRECT(\"'SPR \"&Lists!P6&\"'!P18\")>1,INDIRECT(\"'SPR \"&Lists!P6&\"'!P18\")<7),INDIRECT(\"'SPR \"&Lists!P6&\"'!P18\")-1,IF(INDIRECT(\"'SPR \"&Lists!P6&\"'!P18\")=7,\"N/A\",\"\"))","v":""},{"$f":"IF(AND(INDIRECT(\"'SPR \"&Lists!P6&\"'!P22\")>1,INDIRECT(\"'SPR \"&Lists!P6&\"'!P22\")<7),INDIRECT(\"'SPR \"&Lists!P6&\"'!P22\")-1,IF(INDIRECT(\"'SPR \"&Lists!P6&\"'!P22\")=7,\"N/A\",\"\"))","v":""},{"$f":"IF(AND(INDIRECT(\"'SPR \"&Lists!P6&\"'!P26\")>1,INDIRECT(\"'SPR \"&Lists!P6&\"'!P26\")<7),INDIRECT(\"'SPR \"&Lists!P6&\"'!P26\")-1,IF(INDIRECT(\"'SPR \"&Lists!P6&\"'!P26\")=7,\"N/A\",\"\"))","v":""},{"$f":"IF(AND(INDIRECT(\"'SPR \"&Lists!P6&\"'!P30\")>1,INDIRECT(\"'SPR \"&Lists!P6&\"'!P30\")<7),INDIRECT(\"'SPR \"&Lists!P6&\"'!P30\")-1,IF(INDIRECT(\"'SPR \"&Lists!P6&\"'!P30\")=7,\"N/A\",\"\"))","v":""},null,0,"",null,{"$f":"IF(AND(INDIRECT(\"'SPR \"&Lists!P6&\"'!q14\")>1,INDIRECT(\"'SPR \"&Lists!P6&\"'!q14\")<7),INDIRECT(\"'SPR \"&Lists!P6&\"'!q14\")-1,IF(INDIRECT(\"'SPR \"&Lists!P6&\"'!q14\")=7,\"N/A\",\"\"))","v":""},{"$f":"IF(AND(INDIRECT(\"'SPR \"&Lists!P6&\"'!q18\")>1,INDIRECT(\"'SPR \"&Lists!P6&\"'!q18\")<7),INDIRECT(\"'SPR \"&Lists!P6&\"'!q18\")-1,IF(INDIRECT(\"'SPR \"&Lists!P6&\"'!q18\")=7,\"N/A\",\"\"))","v":""},{"$f":"IF(AND(INDIRECT(\"'SPR \"&Lists!P6&\"'!Q22\")>1,INDIRECT(\"'SPR \"&Lists!P6&\"'!Q22\")<7),INDIRECT(\"'SPR \"&Lists!P6&\"'!Q22\")-1,IF(INDIRECT(\"'SPR \"&Lists!P6&\"'!Q22\")=7,\"N/A\",\"\"))","v":""},{"$f":"IF(AND(INDIRECT(\"'SPR \"&Lists!P6&\"'!Q26\")>1,INDIRECT(\"'SPR \"&Lists!P6&\"'!Q26\")<7),INDIRECT(\"'SPR \"&Lists!P6&\"'!Q26\")-1,IF(INDIRECT(\"'SPR \"&Lists!P6&\"'!Q26\")=7,\"N/A\",\"\"))","v":""},{"$f":"IF(AND(INDIRECT(\"'SPR \"&Lists!P6&\"'!Q30\")>1,INDIRECT(\"'SPR \"&Lists!P6&\"'!Q30\")<7),INDIRECT(\"'SPR \"&Lists!P6&\"'!Q30\")-1,IF(INDIRECT(\"'SPR \"&Lists!P6&\"'!Q30\")=7,\"N/A\",\"\"))","v":""},null,0,"",null,{"$f":"IF(INDIRECT(\"'SPR \"&Lists!P6&\"'!P9\")=1,\"High\",IF(INDIRECT(\"'SPR \"&Lists!P6&\"'!P9\")=2,\"Medium\",IF(INDIRECT(\"'SPR \"&Lists!P6&\"'!P9\")=3,\"Low\",\"\")))","v":""},null,{"$f":"IF(INDIRECT(\"'SPR \"&Lists!P6&\"'!P37\")=1,\"No gap\",IF(INDIRECT(\"'SPR \"&Lists!P6&\"'!P37\")=2,\"Entirely the jurisdiction's responsibility\",IF(INDIRECT(\"'SPR \"&Lists!P6&\"'!P37\")=3,\"Mostly the jurisdiction's responsibility\",IF(INDIRECT(\"'SPR \"&Lists!P6&\"'!P37\")=4,\"Mostly higher-level government's responsibility\",IF(INDIRECT(\"'SPR \"&Lists!P6&\"'!P37\")=5,\"Entirely higher-level government's responsibility\",\"\")))))","v":""},"Entirely higher-level government's responsibility",{"$f":"COUNTIF(X5:X35, Y10)","v":0},"Interdiction and Disruption","","",null,"Interdiction and Disruption","","",null,"Interdiction and Disruption","","",null,"Interdiction and Disruption","","",null,"Interdiction and Disruption","","",null,"Interdiction and Disruption","",""]
["Prevention/Protection","Screening, Search, and Detection ",null,{"$f":"IF(AND(INDIRECT(\"'SPR \"&Lists!P7&\"'!P14\")>1,INDIRECT(\"'SPR \"&Lists!P7&\"'!P14\")<7),INDIRECT(\"'SPR \"&Lists!P7&\"'!P14\")-1,IF(INDIRECT(\"'SPR \"&Lists!P7&\"'!P14\")=7,\"N/A\",\"\"))","v":""},{"$f":"IF(AND(INDIRECT(\"'SPR \"&Lists!P7&\"'!P18\")>1,INDIRECT(\"'SPR \"&Lists!P7&\"'!P18\")<7),INDIRECT(\"'SPR \"&Lists!P7&\"'!P18\")-1,IF(INDIRECT(\"'SPR \"&Lists!P7&\"'!P18\")=7,\"N/A\",\"\"))","v":""},{"$f":"IF(AND(INDIRECT(\"'SPR \"&Lists!P7&\"'!P22\")>1,INDIRECT(\"'SPR \"&Lists!P7&\"'!P22\")<7),INDIRECT(\"'SPR \"&Lists!P7&\"'!P22\")-1,IF(INDIRECT(\"'SPR \"&Lists!P7&\"'!P22\")=7,\"N/A\",\"\"))","v":""},{"$f":"IF(AND(INDIRECT(\"'SPR \"&Lists!P7&\"'!P26\")>1,INDIRECT(\"'SPR \"&Lists!P7&\"'!P26\")<7),INDIRECT(\"'SPR \"&Lists!P7&\"'!P26\")-1,IF(INDIRECT(\"'SPR \"&Lists!P7&\"'!P26\")=7,\"N/A\",\"\"))","v":""},{"$f":"IF(AND(INDIRECT(\"'SPR \"&Lists!P7&\"'!P30\")>1,INDIRECT(\"'SPR \"&Lists!P7&\"'!P30\")<7),INDIRECT(\"'SPR \"&Lists!P7&\"'!P30\")-1,IF(INDIRECT(\"'SPR \"&Lists!P7&\"'!P30\")=7,\"N/A\",\"\"))","v":""},null,0,"",null,{"$f":"IF(AND(INDIRECT(\"'SPR \"&Lists!P7&\"'!q14\")>1,INDIRECT(\"'SPR \"&Lists!P7&\"'!q14\")<7),INDIRECT(\"'SPR \"&Lists!P7&\"'!q14\")-1,IF(INDIRECT(\"'SPR \"&Lists!P7&\"'!q14\")=7,\"N/A\",\"\"))","v":""},{"$f":"IF(AND(INDIRECT(\"'SPR \"&Lists!P7&\"'!q18\")>1,INDIRECT(\"'SPR \"&Lists!P7&\"'!q18\")<7),INDIRECT(\"'SPR \"&Lists!P7&\"'!q18\")-1,IF(INDIRECT(\"'SPR \"&Lists!P7&\"'!q18\")=7,\"N/A\",\"\"))","v":""},{"$f":"IF(AND(INDIRECT(\"'SPR \"&Lists!P7&\"'!Q22\")>1,INDIRECT(\"'SPR \"&Lists!P7&\"'!Q22\")<7),INDIRECT(\"'SPR \"&Lists!P7&\"'!Q22\")-1,IF(INDIRECT(\"'SPR \"&Lists!P7&\"'!Q22\")=7,\"N/A\",\"\"))","v":""},{"$f":"IF(AND(INDIRECT(\"'SPR \"&Lists!P7&\"'!Q26\")>1,INDIRECT(\"'SPR \"&Lists!P7&\"'!Q26\")<7),INDIRECT(\"'SPR \"&Lists!P7&\"'!Q26\")-1,IF(INDIRECT(\"'SPR \"&Lists!P7&\"'!Q26\")=7,\"N/A\",\"\"))","v":""},{"$f":"IF(AND(INDIRECT(\"'SPR \"&Lists!P7&\"'!Q30\")>1,INDIRECT(\"'SPR \"&Lists!P7&\"'!Q30\")<7),INDIRECT(\"'SPR \"&Lists!P7&\"'!Q30\")-1,IF(INDIRECT(\"'SPR \"&Lists!P7&\"'!Q30\")=7,\"N/A\",\"\"))","v":""},null,0,"",null,{"$f":"IF(INDIRECT(\"'SPR \"&Lists!P7&\"'!P9\")=1,\"High\",IF(INDIRECT(\"'SPR \"&Lists!P7&\"'!P9\")=2,\"Medium\",IF(INDIRECT(\"'SPR \"&Lists!P7&\"'!P9\")=3,\"Low\",\"\")))","v":""},null,{"$f":"IF(INDIRECT(\"'SPR \"&Lists!P7&\"'!P37\")=1,\"No gap\",IF(INDIRECT(\"'SPR \"&Lists!P7&\"'!P37\")=2,\"Entirely the jurisdiction's responsibility\",IF(INDIRECT(\"'SPR \"&Lists!P7&\"'!P37\")=3,\"Mostly the jurisdiction's responsibility\",IF(INDIRECT(\"'SPR \"&Lists!P7&\"'!P37\")=4,\"Mostly higher-level government's responsibility\",IF(INDIRECT(\"'SPR \"&Lists!P7&\"'!P37\")=5,\"Entirely higher-level government's responsibility\",\"\")))))","v":""},null,null,"Screening, Search, and Detection ","","",null,"Screening, Search, and Detection ","","",null,"Screening, Search, and Detection ","","",null,"Screening, Search, and Detection ","","",null,"Screening, Search, and Detection ","","",null,"Screening, Search, and Detection ","",""]
["Protection","Access Control and Identity Verification",null,{"$f":"IF(AND(INDIRECT(\"'SPR \"&Lists!P8&\"'!P14\")>1,INDIRECT(\"'SPR \"&Lists!P8&\"'!P14\")<7),INDIRECT(\"'SPR \"&Lists!P8&\"'!P14\")-1,IF(INDIRECT(\"'SPR \"&Lists!P8&\"'!P14\")=7,\"N/A\",\"\"))","v":""},{"$f":"IF(AND(INDIRECT(\"'SPR \"&Lists!P8&\"'!P18\")>1,INDIRECT(\"'SPR \"&Lists!P8&\"'!P18\")<7),INDIRECT(\"'SPR \"&Lists!P8&\"'!P18\")-1,IF(INDIRECT(\"'SPR \"&Lists!P8&\"'!P18\")=7,\"N/A\",\"\"))","v":""},{"$f":"IF(AND(INDIRECT(\"'SPR \"&Lists!P8&\"'!P22\")>1,INDIRECT(\"'SPR \"&Lists!P8&\"'!P22\")<7),INDIRECT(\"'SPR \"&Lists!P8&\"'!P22\")-1,IF(INDIRECT(\"'SPR \"&Lists!P8&\"'!P22\")=7,\"N/A\",\"\"))","v":""},{"$f":"IF(AND(INDIRECT(\"'SPR \"&Lists!P8&\"'!P26\")>1,INDIRECT(\"'SPR \"&Lists!P8&\"'!P26\")<7),INDIRECT(\"'SPR \"&Lists!P8&\"'!P26\")-1,IF(INDIRECT(\"'SPR \"&Lists!P8&\"'!P26\")=7,\"N/A\",\"\"))","v":""},{"$f":"IF(AND(INDIRECT(\"'SPR \"&Lists!P8&\"'!P30\")>1,INDIRECT(\"'SPR \"&Lists!P8&\"'!P30\")<7),INDIRECT(\"'SPR \"&Lists!P8&\"'!P30\")-1,IF(INDIRECT(\"'SPR \"&Lists!P8&\"'!P30\")=7,\"N/A\",\"\"))","v":""},null,0,"",null,{"$f":"IF(AND(INDIRECT(\"'SPR \"&Lists!P8&\"'!q14\")>1,INDIRECT(\"'SPR \"&Lists!P8&\"'!q14\")<7),INDIRECT(\"'SPR \"&Lists!P8&\"'!q14\")-1,IF(INDIRECT(\"'SPR \"&Lists!P8&\"'!q14\")=7,\"N/A\",\"\"))","v":""},{"$f":"IF(AND(INDIRECT(\"'SPR \"&Lists!P8&\"'!q18\")>1,INDIRECT(\"'SPR \"&Lists!P8&\"'!q18\")<7),INDIRECT(\"'SPR \"&Lists!P8&\"'!q18\")-1,IF(INDIRECT(\"'SPR \"&Lists!P8&\"'!q18\")=7,\"N/A\",\"\"))","v":""},{"$f":"IF(AND(INDIRECT(\"'SPR \"&Lists!P8&\"'!Q22\")>1,INDIRECT(\"'SPR \"&Lists!P8&\"'!Q22\")<7),INDIRECT(\"'SPR \"&Lists!P8&\"'!Q22\")-1,IF(INDIRECT(\"'SPR \"&Lists!P8&\"'!Q22\")=7,\"N/A\",\"\"))","v":""},{"$f":"IF(AND(INDIRECT(\"'SPR \"&Lists!P8&\"'!Q26\")>1,INDIRECT(\"'SPR \"&Lists!P8&\"'!Q26\")<7),INDIRECT(\"'SPR \"&Lists!P8&\"'!Q26\")-1,IF(INDIRECT(\"'SPR \"&Lists!P8&\"'!Q26\")=7,\"N/A\",\"\"))","v":""},{"$f":"IF(AND(INDIRECT(\"'SPR \"&Lists!P8&\"'!Q30\")>1,INDIRECT(\"'SPR \"&Lists!P8&\"'!Q30\")<7),INDIRECT(\"'SPR \"&Lists!P8&\"'!Q30\")-1,IF(INDIRECT(\"'SPR \"&Lists!P8&\"'!Q30\")=7,\"N/A\",\"\"))","v":""},null,0,"",null,{"$f":"IF(INDIRECT(\"'SPR \"&Lists!P8&\"'!P9\")=1,\"High\",IF(INDIRECT(\"'SPR \"&Lists!P8&\"'!P9\")=2,\"Medium\",IF(INDIRECT(\"'SPR \"&Lists!P8&\"'!P9\")=3,\"Low\",\"\")))","v":""},null,{"$f":"IF(INDIRECT(\"'SPR \"&Lists!P8&\"'!P37\")=1,\"No gap\",IF(INDIRECT(\"'SPR \"&Lists!P8&\"'!P37\")=2,\"Entirely the jurisdiction's responsibility\",IF(INDIRECT(\"'SPR \"&Lists!P8&\"'!P37\")=3,\"Mostly the jurisdiction's responsibility\",IF(INDIRECT(\"'SPR \"&Lists!P8&\"'!P37\")=4,\"Mostly higher-level government's responsibility\",IF(INDIRECT(\"'SPR \"&Lists!P8&\"'!P37\")=5,\"Entirely higher-level government's responsibility\",\"\")))))","v":""},null,null,"Access Control and Identity Verification","","",null,"Access Control and Identity Verification","","",null,"Access Control and Identity Verification","","",null,"Access Control and Identity Verification","","",null,"Access Control and Identity Verification","","",null,"Access Control and Identity Verification","",""]
["Protection","Cybersecurity",null,{"$f":"IF(AND(INDIRECT(\"'SPR \"&Lists!P9&\"'!P14\")>1,INDIRECT(\"'SPR \"&Lists!P9&\"'!P14\")<7),INDIRECT(\"'SPR \"&Lists!P9&\"'!P14\")-1,IF(INDIRECT(\"'SPR \"&Lists!P9&\"'!P14\")=7,\"N/A\",\"\"))","v":""},{"$f":"IF(AND(INDIRECT(\"'SPR \"&Lists!P9&\"'!P18\")>1,INDIRECT(\"'SPR \"&Lists!P9&\"'!P18\")<7),INDIRECT(\"'SPR \"&Lists!P9&\"'!P18\")-1,IF(INDIRECT(\"'SPR \"&Lists!P9&\"'!P18\")=7,\"N/A\",\"\"))","v":""},{"$f":"IF(AND(INDIRECT(\"'SPR \"&Lists!P9&\"'!P22\")>1,INDIRECT(\"'SPR \"&Lists!P9&\"'!P22\")<7),INDIRECT(\"'SPR \"&Lists!P9&\"'!P22\")-1,IF(INDIRECT(\"'SPR \"&Lists!P9&\"'!P22\")=7,\"N/A\",\"\"))","v":""},{"$f":"IF(AND(INDIRECT(\"'SPR \"&Lists!P9&\"'!P26\")>1,INDIRECT(\"'SPR \"&Lists!P9&\"'!P26\")<7),INDIRECT(\"'SPR \"&Lists!P9&\"'!P26\")-1,IF(INDIRECT(\"'SPR \"&Lists!P9&\"'!P26\")=7,\"N/A\",\"\"))","v":""},{"$f":"IF(AND(INDIRECT(\"'SPR \"&Lists!P9&\"'!P30\")>1,INDIRECT(\"'SPR \"&Lists!P9&\"'!P30\")<7),INDIRECT(\"'SPR \"&Lists!P9&\"'!P30\")-1,IF(INDIRECT(\"'SPR \"&Lists!P9&\"'!P30\")=7,\"N/A\",\"\"))","v":""},null,0,"",null,{"$f":"IF(AND(INDIRECT(\"'SPR \"&Lists!P9&\"'!q14\")>1,INDIRECT(\"'SPR \"&Lists!P9&\"'!q14\")<7),INDIRECT(\"'SPR \"&Lists!P9&\"'!q14\")-1,IF(INDIRECT(\"'SPR \"&Lists!P9&\"'!q14\")=7,\"N/A\",\"\"))","v":""},{"$f":"IF(AND(INDIRECT(\"'SPR \"&Lists!P9&\"'!q18\")>1,INDIRECT(\"'SPR \"&Lists!P9&\"'!q18\")<7),INDIRECT(\"'SPR \"&Lists!P9&\"'!q18\")-1,IF(INDIRECT(\"'SPR \"&Lists!P9&\"'!q18\")=7,\"N/A\",\"\"))","v":""},{"$f":"IF(AND(INDIRECT(\"'SPR \"&Lists!P9&\"'!Q22\")>1,INDIRECT(\"'SPR \"&Lists!P9&\"'!Q22\")<7),INDIRECT(\"'SPR \"&Lists!P9&\"'!Q22\")-1,IF(INDIRECT(\"'SPR \"&Lists!P9&\"'!Q22\")=7,\"N/A\",\"\"))","v":""},{"$f":"IF(AND(INDIRECT(\"'SPR \"&Lists!P9&\"'!Q26\")>1,INDIRECT(\"'SPR \"&Lists!P9&\"'!Q26\")<7),INDIRECT(\"'SPR \"&Lists!P9&\"'!Q26\")-1,IF(INDIRECT(\"'SPR \"&Lists!P9&\"'!Q26\")=7,\"N/A\",\"\"))","v":""},{"$f":"IF(AND(INDIRECT(\"'SPR \"&Lists!P9&\"'!Q30\")>1,INDIRECT(\"'SPR \"&Lists!P9&\"'!Q30\")<7),INDIRECT(\"'SPR \"&Lists!P9&\"'!Q30\")-1,IF(INDIRECT(\"'SPR \"&Lists!P9&\"'!Q30\")=7,\"N/A\",\"\"))","v":""},null,0,"",null,{"$f":"IF(INDIRECT(\"'SPR \"&Lists!P9&\"'!P9\")=1,\"High\",IF(INDIRECT(\"'SPR \"&Lists!P9&\"'!P9\")=2,\"Medium\",IF(INDIRECT(\"'SPR \"&Lists!P9&\"'!P9\")=3,\"Low\",\"\")))","v":""},null,{"$f":"IF(INDIRECT(\"'SPR \"&Lists!P9&\"'!P37\")=1,\"No gap\",IF(INDIRECT(\"'SPR \"&Lists!P9&\"'!P37\")=2,\"Entirely the jurisdiction's responsibility\",IF(INDIRECT(\"'SPR \"&Lists!P9&\"'!P37\")=3,\"Mostly the jurisdiction's responsibility\",IF(INDIRECT(\"'SPR \"&Lists!P9&\"'!P37\")=4,\"Mostly higher-level government's responsibility\",IF(INDIRECT(\"'SPR \"&Lists!P9&\"'!P37\")=5,\"Entirely higher-level government's responsibility\",\"\")))))","v":""},null,null,"Cybersecurity","","",null,"Cybersecurity","","",null,"Cybersecurity","","",null,"Cybersecurity","","",null,"Cybersecurity","","",null,"Cybersecurity","",""]
["Protection","Physical Protective Measures",null,{"$f":"IF(AND(INDIRECT(\"'SPR \"&Lists!P10&\"'!P14\")>1,INDIRECT(\"'SPR \"&Lists!P10&\"'!P14\")<7),INDIRECT(\"'SPR \"&Lists!P10&\"'!P14\")-1,IF(INDIRECT(\"'SPR \"&Lists!P10&\"'!P14\")=7,\"N/A\",\"\"))","v":""},{"$f":"IF(AND(INDIRECT(\"'SPR \"&Lists!P10&\"'!P18\")>1,INDIRECT(\"'SPR \"&Lists!P10&\"'!P18\")<7),INDIRECT(\"'SPR \"&Lists!P10&\"'!P18\")-1,IF(INDIRECT(\"'SPR \"&Lists!P10&\"'!P18\")=7,\"N/A\",\"\"))","v":""},{"$f":"IF(AND(INDIRECT(\"'SPR \"&Lists!P10&\"'!P22\")>1,INDIRECT(\"'SPR \"&Lists!P10&\"'!P22\")<7),INDIRECT(\"'SPR \"&Lists!P10&\"'!P22\")-1,IF(INDIRECT(\"'SPR \"&Lists!P10&\"'!P22\")=7,\"N/A\",\"\"))","v":""},{"$f":"IF(AND(INDIRECT(\"'SPR \"&Lists!P10&\"'!P26\")>1,INDIRECT(\"'SPR \"&Lists!P10&\"'!P26\")<7),INDIRECT(\"'SPR \"&Lists!P10&\"'!P26\")-1,IF(INDIRECT(\"'SPR \"&Lists!P10&\"'!P26\")=7,\"N/A\",\"\"))","v":""},{"$f":"IF(AND(INDIRECT(\"'SPR \"&Lists!P10&\"'!P30\")>1,INDIRECT(\"'SPR \"&Lists!P10&\"'!P30\")<7),INDIRECT(\"'SPR \"&Lists!P10&\"'!P30\")-1,IF(INDIRECT(\"'SPR \"&Lists!P10&\"'!P30\")=7,\"N/A\",\"\"))","v":""},null,0,"",null,{"$f":"IF(AND(INDIRECT(\"'SPR \"&Lists!P10&\"'!q14\")>1,INDIRECT(\"'SPR \"&Lists!P10&\"'!q14\")<7),INDIRECT(\"'SPR \"&Lists!P10&\"'!q14\")-1,IF(INDIRECT(\"'SPR \"&Lists!P10&\"'!q14\")=7,\"N/A\",\"\"))","v":""},{"$f":"IF(AND(INDIRECT(\"'SPR \"&Lists!P10&\"'!q18\")>1,INDIRECT(\"'SPR \"&Lists!P10&\"'!q18\")<7),INDIRECT(\"'SPR \"&Lists!P10&\"'!q18\")-1,IF(INDIRECT(\"'SPR \"&Lists!P10&\"'!q18\")=7,\"N/A\",\"\"))","v":""},{"$f":"IF(AND(INDIRECT(\"'SPR \"&Lists!P10&\"'!Q22\")>1,INDIRECT(\"'SPR \"&Lists!P10&\"'!Q22\")<7),INDIRECT(\"'SPR \"&Lists!P10&\"'!Q22\")-1,IF(INDIRECT(\"'SPR \"&Lists!P10&\"'!Q22\")=7,\"N/A\",\"\"))","v":""},{"$f":"IF(AND(INDIRECT(\"'SPR \"&Lists!P10&\"'!Q26\")>1,INDIRECT(\"'SPR \"&Lists!P10&\"'!Q26\")<7),INDIRECT(\"'SPR \"&Lists!P10&\"'!Q26\")-1,IF(INDIRECT(\"'SPR \"&Lists!P10&\"'!Q26\")=7,\"N/A\",\"\"))","v":""},{"$f":"IF(AND(INDIRECT(\"'SPR \"&Lists!P10&\"'!Q30\")>1,INDIRECT(\"'SPR \"&Lists!P10&\"'!Q30\")<7),INDIRECT(\"'SPR \"&Lists!P10&\"'!Q30\")-1,IF(INDIRECT(\"'SPR \"&Lists!P10&\"'!Q30\")=7,\"N/A\",\"\"))","v":""},null,0,"",null,{"$f":"IF(INDIRECT(\"'SPR \"&Lists!P10&\"'!P9\")=1,\"High\",IF(INDIRECT(\"'SPR \"&Lists!P10&\"'!P9\")=2,\"Medium\",IF(INDIRECT(\"'SPR \"&Lists!P10&\"'!P9\")=3,\"Low\",\"\")))","v":""},null,{"$f":"IF(INDIRECT(\"'SPR \"&Lists!P10&\"'!P37\")=1,\"No gap\",IF(INDIRECT(\"'SPR \"&Lists!P10&\"'!P37\")=2,\"Entirely the jurisdiction's responsibility\",IF(INDIRECT(\"'SPR \"&Lists!P10&\"'!P37\")=3,\"Mostly the jurisdiction's responsibility\",IF(INDIRECT(\"'SPR \"&Lists!P10&\"'!P37\")=4,\"Mostly higher-level government's responsibility\",IF(INDIRECT(\"'SPR \"&Lists!P10&\"'!P37\")=5,\"Entirely higher-level government's responsibility\",\"\")))))","v":""},null,null,"Physical Protective Measures","","",null,"Physical Protective Measures","","",null,"Physical Protective Measures","","",null,"Physical Protective Measures","","",null,"Physical Protective Measures","","",null,"Physical Protective Measures","",""]
["Protection","Risk Management for Protection Programs and Activities",null,{"$f":"IF(AND(INDIRECT(\"'SPR \"&Lists!P11&\"'!P14\")>1,INDIRECT(\"'SPR \"&Lists!P11&\"'!P14\")<7),INDIRECT(\"'SPR \"&Lists!P11&\"'!P14\")-1,IF(INDIRECT(\"'SPR \"&Lists!P11&\"'!P14\")=7,\"N/A\",\"\"))","v":""},{"$f":"IF(AND(INDIRECT(\"'SPR \"&Lists!P11&\"'!P18\")>1,INDIRECT(\"'SPR \"&Lists!P11&\"'!P18\")<7),INDIRECT(\"'SPR \"&Lists!P11&\"'!P18\")-1,IF(INDIRECT(\"'SPR \"&Lists!P11&\"'!P18\")=7,\"N/A\",\"\"))","v":""},{"$f":"IF(AND(INDIRECT(\"'SPR \"&Lists!P11&\"'!P22\")>1,INDIRECT(\"'SPR \"&Lists!P11&\"'!P22\")<7),INDIRECT(\"'SPR \"&Lists!P11&\"'!P22\")-1,IF(INDIRECT(\"'SPR \"&Lists!P11&\"'!P22\")=7,\"N/A\",\"\"))","v":""},{"$f":"IF(AND(INDIRECT(\"'SPR \"&Lists!P11&\"'!P26\")>1,INDIRECT(\"'SPR \"&Lists!P11&\"'!P26\")<7),INDIRECT(\"'SPR \"&Lists!P11&\"'!P26\")-1,IF(INDIRECT(\"'SPR \"&Lists!P11&\"'!P26\")=7,\"N/A\",\"\"))","v":""},{"$f":"IF(AND(INDIRECT(\"'SPR \"&Lists!P11&\"'!P30\")>1,INDIRECT(\"'SPR \"&Lists!P11&\"'!P30\")<7),INDIRECT(\"'SPR \"&Lists!P11&\"'!P30\")-1,IF(INDIRECT(\"'SPR \"&Lists!P11&\"'!P30\")=7,\"N/A\",\"\"))","v":""},null,0,"",null,{"$f":"IF(AND(INDIRECT(\"'SPR \"&Lists!P11&\"'!q14\")>1,INDIRECT(\"'SPR \"&Lists!P11&\"'!q14\")<7),INDIRECT(\"'SPR \"&Lists!P11&\"'!q14\")-1,IF(INDIRECT(\"'SPR \"&Lists!P11&\"'!q14\")=7,\"N/A\",\"\"))","v":""},{"$f":"IF(AND(INDIRECT(\"'SPR \"&Lists!P11&\"'!q18\")>1,INDIRECT(\"'SPR \"&Lists!P11&\"'!q18\")<7),INDIRECT(\"'SPR \"&Lists!P11&\"'!q18\")-1,IF(INDIRECT(\"'SPR \"&Lists!P11&\"'!q18\")=7,\"N/A\",\"\"))","v":""},{"$f":"IF(AND(INDIRECT(\"'SPR \"&Lists!P11&\"'!Q22\")>1,INDIRECT(\"'SPR \"&Lists!P11&\"'!Q22\")<7),INDIRECT(\"'SPR \"&Lists!P11&\"'!Q22\")-1,IF(INDIRECT(\"'SPR \"&Lists!P11&\"'!Q22\")=7,\"N/A\",\"\"))","v":""},{"$f":"IF(AND(INDIRECT(\"'SPR \"&Lists!P11&\"'!Q26\")>1,INDIRECT(\"'SPR \"&Lists!P11&\"'!Q26\")<7),INDIRECT(\"'SPR \"&Lists!P11&\"'!Q26\")-1,IF(INDIRECT(\"'SPR \"&Lists!P11&\"'!Q26\")=7,\"N/A\",\"\"))","v":""},{"$f":"IF(AND(INDIRECT(\"'SPR \"&Lists!P11&\"'!Q30\")>1,INDIRECT(\"'SPR \"&Lists!P11&\"'!Q30\")<7),INDIRECT(\"'SPR \"&Lists!P11&\"'!Q30\")-1,IF(INDIRECT(\"'SPR \"&Lists!P11&\"'!Q30\")=7,\"N/A\",\"\"))","v":""},null,0,"",null,{"$f":"IF(INDIRECT(\"'SPR \"&Lists!P11&\"'!P9\")=1,\"High\",IF(INDIRECT(\"'SPR \"&Lists!P11&\"'!P9\")=2,\"Medium\",IF(INDIRECT(\"'SPR \"&Lists!P11&\"'!P9\")=3,\"Low\",\"\")))","v":""},null,{"$f":"IF(INDIRECT(\"'SPR \"&Lists!P11&\"'!P37\")=1,\"No gap\",IF(INDIRECT(\"'SPR \"&Lists!P11&\"'!P37\")=2,\"Entirely the jurisdiction's responsibility\",IF(INDIRECT(\"'SPR \"&Lists!P11&\"'!P37\")=3,\"Mostly the jurisdiction's responsibility\",IF(INDIRECT(\"'SPR \"&Lists!P11&\"'!P37\")=4,\"Mostly higher-level government's responsibility\",IF(INDIRECT(\"'SPR \"&Lists!P11&\"'!P37\")=5,\"Entirely higher-level government's responsibility\",\"\")))))","v":""},null,null,"Risk Management for Protection Programs and Activities","","",null,"Risk Management for Protection Programs and Activities","","",null,"Risk Management for Protection Programs and Activities","","",null,"Risk Management for Protection Programs and Activities","","",null,"Risk Management for Protection Programs and Activities","","",null,"Risk Management for Protection Programs and Activities","",""]
["Protection","Supply Chain Integrity and Security",null,{"$f":"IF(AND(INDIRECT(\"'SPR \"&Lists!P12&\"'!P14\")>1,INDIRECT(\"'SPR \"&Lists!P12&\"'!P14\")<7),INDIRECT(\"'SPR \"&Lists!P12&\"'!P14\")-1,IF(INDIRECT(\"'SPR \"&Lists!P12&\"'!P14\")=7,\"N/A\",\"\"))","v":""},{"$f":"IF(AND(INDIRECT(\"'SPR \"&Lists!P12&\"'!P18\")>1,INDIRECT(\"'SPR \"&Lists!P12&\"'!P18\")<7),INDIRECT(\"'SPR \"&Lists!P12&\"'!P18\")-1,IF(INDIRECT(\"'SPR \"&Lists!P12&\"'!P18\")=7,\"N/A\",\"\"))","v":""},{"$f":"IF(AND(INDIRECT(\"'SPR \"&Lists!P12&\"'!P22\")>1,INDIRECT(\"'SPR \"&Lists!P12&\"'!P22\")<7),INDIRECT(\"'SPR \"&Lists!P12&\"'!P22\")-1,IF(INDIRECT(\"'SPR \"&Lists!P12&\"'!P22\")=7,\"N/A\",\"\"))","v":""},{"$f":"IF(AND(INDIRECT(\"'SPR \"&Lists!P12&\"'!P26\")>1,INDIRECT(\"'SPR \"&Lists!P12&\"'!P26\")<7),INDIRECT(\"'SPR \"&Lists!P12&\"'!P26\")-1,IF(INDIRECT(\"'SPR \"&Lists!P12&\"'!P26\")=7,\"N/A\",\"\"))","v":""},{"$f":"IF(AND(INDIRECT(\"'SPR \"&Lists!P12&\"'!P30\")>1,INDIRECT(\"'SPR \"&Lists!P12&\"'!P30\")<7),INDIRECT(\"'SPR \"&Lists!P12&\"'!P30\")-1,IF(INDIRECT(\"'SPR \"&Lists!P12&\"'!P30\")=7,\"N/A\",\"\"))","v":""},null,0,"",null,{"$f":"IF(AND(INDIRECT(\"'SPR \"&Lists!P12&\"'!q14\")>1,INDIRECT(\"'SPR \"&Lists!P12&\"'!q14\")<7),INDIRECT(\"'SPR \"&Lists!P12&\"'!q14\")-1,IF(INDIRECT(\"'SPR \"&Lists!P12&\"'!q14\")=7,\"N/A\",\"\"))","v":""},{"$f":"IF(AND(INDIRECT(\"'SPR \"&Lists!P12&\"'!q18\")>1,INDIRECT(\"'SPR \"&Lists!P12&\"'!q18\")<7),INDIRECT(\"'SPR \"&Lists!P12&\"'!q18\")-1,IF(INDIRECT(\"'SPR \"&Lists!P12&\"'!q18\")=7,\"N/A\",\"\"))","v":""},{"$f":"IF(AND(INDIRECT(\"'SPR \"&Lists!P12&\"'!Q22\")>1,INDIRECT(\"'SPR \"&Lists!P12&\"'!Q22\")<7),INDIRECT(\"'SPR \"&Lists!P12&\"'!Q22\")-1,IF(INDIRECT(\"'SPR \"&Lists!P12&\"'!Q22\")=7,\"N/A\",\"\"))","v":""},{"$f":"IF(AND(INDIRECT(\"'SPR \"&Lists!P12&\"'!Q26\")>1,INDIRECT(\"'SPR \"&Lists!P12&\"'!Q26\")<7),INDIRECT(\"'SPR \"&Lists!P12&\"'!Q26\")-1,IF(INDIRECT(\"'SPR \"&Lists!P12&\"'!Q26\")=7,\"N/A\",\"\"))","v":""},{"$f":"IF(AND(INDIRECT(\"'SPR \"&Lists!P12&\"'!Q30\")>1,INDIRECT(\"'SPR \"&Lists!P12&\"'!Q30\")<7),INDIRECT(\"'SPR \"&Lists!P12&\"'!Q30\")-1,IF(INDIRECT(\"'SPR \"&Lists!P12&\"'!Q30\")=7,\"N/A\",\"\"))","v":""},null,0,"",null,{"$f":"IF(INDIRECT(\"'SPR \"&Lists!P12&\"'!P9\")=1,\"High\",IF(INDIRECT(\"'SPR \"&Lists!P12&\"'!P9\")=2,\"Medium\",IF(INDIRECT(\"'SPR \"&Lists!P12&\"'!P9\")=3,\"Low\",\"\")))","v":""},null,{"$f":"IF(INDIRECT(\"'SPR \"&Lists!P12&\"'!P37\")=1,\"No gap\",IF(INDIRECT(\"'SPR \"&Lists!P12&\"'!P37\")=2,\"Entirely the jurisdiction's responsibility\",IF(INDIRECT(\"'SPR \"&Lists!P12&\"'!P37\")=3,\"Mostly the jurisdiction's responsibility\",IF(INDIRECT(\"'SPR \"&Lists!P12&\"'!P37\")=4,\"Mostly higher-level government's responsibility\",IF(INDIRECT(\"'SPR \"&Lists!P12&\"'!P37\")=5,\"Entirely higher-level government's responsibility\",\"\")))))","v":""},null,null,"Supply Chain Integrity and Security","","",null,"Supply Chain Integrity and Security","","",null,"Supply Chain Integrity and Security","","",null,"Supply Chain Integrity and Security","","",null,"Supply Chain Integrity and Security","","",null,"Supply Chain Integrity and Security","",""]
["Mitigation","Community Resilience",null,{"$f":"IF(AND(INDIRECT(\"'SPR \"&Lists!P13&\"'!P14\")>1,INDIRECT(\"'SPR \"&Lists!P13&\"'!P14\")<7),INDIRECT(\"'SPR \"&Lists!P13&\"'!P14\")-1,IF(INDIRECT(\"'SPR \"&Lists!P13&\"'!P14\")=7,\"N/A\",\"\"))","v":""},{"$f":"IF(AND(INDIRECT(\"'SPR \"&Lists!P13&\"'!P18\")>1,INDIRECT(\"'SPR \"&Lists!P13&\"'!P18\")<7),INDIRECT(\"'SPR \"&Lists!P13&\"'!P18\")-1,IF(INDIRECT(\"'SPR \"&Lists!P13&\"'!P18\")=7,\"N/A\",\"\"))","v":""},{"$f":"IF(AND(INDIRECT(\"'SPR \"&Lists!P13&\"'!P22\")>1,INDIRECT(\"'SPR \"&Lists!P13&\"'!P22\")<7),INDIRECT(\"'SPR \"&Lists!P13&\"'!P22\")-1,IF(INDIRECT(\"'SPR \"&Lists!P13&\"'!P22\")=7,\"N/A\",\"\"))","v":""},{"$f":"IF(AND(INDIRECT(\"'SPR \"&Lists!P13&\"'!P26\")>1,INDIRECT(\"'SPR \"&Lists!P13&\"'!P26\")<7),INDIRECT(\"'SPR \"&Lists!P13&\"'!P26\")-1,IF(INDIRECT(\"'SPR \"&Lists!P13&\"'!P26\")=7,\"N/A\",\"\"))","v":""},{"$f":"IF(AND(INDIRECT(\"'SPR \"&Lists!P13&\"'!P30\")>1,INDIRECT(\"'SPR \"&Lists!P13&\"'!P30\")<7),INDIRECT(\"'SPR \"&Lists!P13&\"'!P30\")-1,IF(INDIRECT(\"'SPR \"&Lists!P13&\"'!P30\")=7,\"N/A\",\"\"))","v":""},null,0,"",null,{"$f":"IF(AND(INDIRECT(\"'SPR \"&Lists!P13&\"'!q14\")>1,INDIRECT(\"'SPR \"&Lists!P13&\"'!q14\")<7),INDIRECT(\"'SPR \"&Lists!P13&\"'!q14\")-1,IF(INDIRECT(\"'SPR \"&Lists!P13&\"'!q14\")=7,\"N/A\",\"\"))","v":""},{"$f":"IF(AND(INDIRECT(\"'SPR \"&Lists!P13&\"'!q18\")>1,INDIRECT(\"'SPR \"&Lists!P13&\"'!q18\")<7),INDIRECT(\"'SPR \"&Lists!P13&\"'!q18\")-1,IF(INDIRECT(\"'SPR \"&Lists!P13&\"'!q18\")=7,\"N/A\",\"\"))","v":""},{"$f":"IF(AND(INDIRECT(\"'SPR \"&Lists!P13&\"'!Q22\")>1,INDIRECT(\"'SPR \"&Lists!P13&\"'!Q22\")<7),INDIRECT(\"'SPR \"&Lists!P13&\"'!Q22\")-1,IF(INDIRECT(\"'SPR \"&Lists!P13&\"'!Q22\")=7,\"N/A\",\"\"))","v":""},{"$f":"IF(AND(INDIRECT(\"'SPR \"&Lists!P13&\"'!Q26\")>1,INDIRECT(\"'SPR \"&Lists!P13&\"'!Q26\")<7),INDIRECT(\"'SPR \"&Lists!P13&\"'!Q26\")-1,IF(INDIRECT(\"'SPR \"&Lists!P13&\"'!Q26\")=7,\"N/A\",\"\"))","v":""},{"$f":"IF(AND(INDIRECT(\"'SPR \"&Lists!P13&\"'!Q30\")>1,INDIRECT(\"'SPR \"&Lists!P13&\"'!Q30\")<7),INDIRECT(\"'SPR \"&Lists!P13&\"'!Q30\")-1,IF(INDIRECT(\"'SPR \"&Lists!P13&\"'!Q30\")=7,\"N/A\",\"\"))","v":""},null,0,"",null,{"$f":"IF(INDIRECT(\"'SPR \"&Lists!P13&\"'!P9\")=1,\"High\",IF(INDIRECT(\"'SPR \"&Lists!P13&\"'!P9\")=2,\"Medium\",IF(INDIRECT(\"'SPR \"&Lists!P13&\"'!P9\")=3,\"Low\",\"\")))","v":""},null,{"$f":"IF(INDIRECT(\"'SPR \"&Lists!P13&\"'!P37\")=1,\"No gap\",IF(INDIRECT(\"'SPR \"&Lists!P13&\"'!P37\")=2,\"Entirely the jurisdiction's responsibility\",IF(INDIRECT(\"'SPR \"&Lists!P13&\"'!P37\")=3,\"Mostly the jurisdiction's responsibility\",IF(INDIRECT(\"'SPR \"&Lists!P13&\"'!P37\")=4,\"Mostly higher-level government's responsibility\",IF(INDIRECT(\"'SPR \"&Lists!P13&\"'!P37\")=5,\"Entirely higher-level government's responsibility\",\"\")))))","v":""},null,null,"Community Resilience","","",null,"Community Resilience","","",null,"Community Resilience","","",null,"Community Resilience","","",null,"Community Resilience","","",null,"Community Resilience","",""]
["Mitigation","Long-term Vulnerability Reduction",null,{"$f":"IF(AND(INDIRECT(\"'SPR \"&Lists!P14&\"'!P14\")>1,INDIRECT(\"'SPR \"&Lists!P14&\"'!P14\")<7),INDIRECT(\"'SPR \"&Lists!P14&\"'!P14\")-1,IF(INDIRECT(\"'SPR \"&Lists!P14&\"'!P14\")=7,\"N/A\",\"\"))","v":""},{"$f":"IF(AND(INDIRECT(\"'SPR \"&Lists!P14&\"'!P18\")>1,INDIRECT(\"'SPR \"&Lists!P14&\"'!P18\")<7),INDIRECT(\"'SPR \"&Lists!P14&\"'!P18\")-1,IF(INDIRECT(\"'SPR \"&Lists!P14&\"'!P18\")=7,\"N/A\",\"\"))","v":""},{"$f":"IF(AND(INDIRECT(\"'SPR \"&Lists!P14&\"'!P22\")>1,INDIRECT(\"'SPR \"&Lists!P14&\"'!P22\")<7),INDIRECT(\"'SPR \"&Lists!P14&\"'!P22\")-1,IF(INDIRECT(\"'SPR \"&Lists!P14&\"'!P22\")=7,\"N/A\",\"\"))","v":""},{"$f":"IF(AND(INDIRECT(\"'SPR \"&Lists!P14&\"'!P26\")>1,INDIRECT(\"'SPR \"&Lists!P14&\"'!P26\")<7),INDIRECT(\"'SPR \"&Lists!P14&\"'!P26\")-1,IF(INDIRECT(\"'SPR \"&Lists!P14&\"'!P26\")=7,\"N/A\",\"\"))","v":""},{"$f":"IF(AND(INDIRECT(\"'SPR \"&Lists!P14&\"'!P30\")>1,INDIRECT(\"'SPR \"&Lists!P14&\"'!P30\")<7),INDIRECT(\"'SPR \"&Lists!P14&\"'!P30\")-1,IF(INDIRECT(\"'SPR \"&Lists!P14&\"'!P30\")=7,\"N/A\",\"\"))","v":""},null,0,"",null,{"$f":"IF(AND(INDIRECT(\"'SPR \"&Lists!P14&\"'!q14\")>1,INDIRECT(\"'SPR \"&Lists!P14&\"'!q14\")<7),INDIRECT(\"'SPR \"&Lists!P14&\"'!q14\")-1,IF(INDIRECT(\"'SPR \"&Lists!P14&\"'!q14\")=7,\"N/A\",\"\"))","v":""},{"$f":"IF(AND(INDIRECT(\"'SPR \"&Lists!P14&\"'!q18\")>1,INDIRECT(\"'SPR \"&Lists!P14&\"'!q18\")<7),INDIRECT(\"'SPR \"&Lists!P14&\"'!q18\")-1,IF(INDIRECT(\"'SPR \"&Lists!P14&\"'!q18\")=7,\"N/A\",\"\"))","v":""},{"$f":"IF(AND(INDIRECT(\"'SPR \"&Lists!P14&\"'!Q22\")>1,INDIRECT(\"'SPR \"&Lists!P14&\"'!Q22\")<7),INDIRECT(\"'SPR \"&Lists!P14&\"'!Q22\")-1,IF(INDIRECT(\"'SPR \"&Lists!P14&\"'!Q22\")=7,\"N/A\",\"\"))","v":""},{"$f":"IF(AND(INDIRECT(\"'SPR \"&Lists!P14&\"'!Q26\")>1,INDIRECT(\"'SPR \"&Lists!P14&\"'!Q26\")<7),INDIRECT(\"'SPR \"&Lists!P14&\"'!Q26\")-1,IF(INDIRECT(\"'SPR \"&Lists!P14&\"'!Q26\")=7,\"N/A\",\"\"))","v":""},{"$f":"IF(AND(INDIRECT(\"'SPR \"&Lists!P14&\"'!Q30\")>1,INDIRECT(\"'SPR \"&Lists!P14&\"'!Q30\")<7),INDIRECT(\"'SPR \"&Lists!P14&\"'!Q30\")-1,IF(INDIRECT(\"'SPR \"&Lists!P14&\"'!Q30\")=7,\"N/A\",\"\"))","v":""},null,0,"",null,{"$f":"IF(INDIRECT(\"'SPR \"&Lists!P14&\"'!P9\")=1,\"High\",IF(INDIRECT(\"'SPR \"&Lists!P14&\"'!P9\")=2,\"Medium\",IF(INDIRECT(\"'SPR \"&Lists!P14&\"'!P9\")=3,\"Low\",\"\")))","v":""},null,{"$f":"IF(INDIRECT(\"'SPR \"&Lists!P14&\"'!P37\")=1,\"No gap\",IF(INDIRECT(\"'SPR \"&Lists!P14&\"'!P37\")=2,\"Entirely the jurisdiction's responsibility\",IF(INDIRECT(\"'SPR \"&Lists!P14&\"'!P37\")=3,\"Mostly the jurisdiction's responsibility\",IF(INDIRECT(\"'SPR \"&Lists!P14&\"'!P37\")=4,\"Mostly higher-level government's responsibility\",IF(INDIRECT(\"'SPR \"&Lists!P14&\"'!P37\")=5,\"Entirely higher-level government's responsibility\",\"\")))))","v":""},null,null,"Long-term Vulnerability Reduction","","",null,"Long-term Vulnerability Reduction","","",null,"Long-term Vulnerability Reduction","","",null,"Long-term Vulnerability Reduction","","",null,"Long-term Vulnerability Reduction","","",null,"Long-term Vulnerability Reduction","",""]
["Mitigation","Risk and Disaster Resilience Assessment",null,{"$f":"IF(AND(INDIRECT(\"'SPR \"&Lists!P15&\"'!P14\")>1,INDIRECT(\"'SPR \"&Lists!P15&\"'!P14\")<7),INDIRECT(\"'SPR \"&Lists!P15&\"'!P14\")-1,IF(INDIRECT(\"'SPR \"&Lists!P15&\"'!P14\")=7,\"N/A\",\"\"))","v":""},{"$f":"IF(AND(INDIRECT(\"'SPR \"&Lists!P15&\"'!P18\")>1,INDIRECT(\"'SPR \"&Lists!P15&\"'!P18\")<7),INDIRECT(\"'SPR \"&Lists!P15&\"'!P18\")-1,IF(INDIRECT(\"'SPR \"&Lists!P15&\"'!P18\")=7,\"N/A\",\"\"))","v":""},{"$f":"IF(AND(INDIRECT(\"'SPR \"&Lists!P15&\"'!P22\")>1,INDIRECT(\"'SPR \"&Lists!P15&\"'!P22\")<7),INDIRECT(\"'SPR \"&Lists!P15&\"'!P22\")-1,IF(INDIRECT(\"'SPR \"&Lists!P15&\"'!P22\")=7,\"N/A\",\"\"))","v":""},{"$f":"IF(AND(INDIRECT(\"'SPR \"&Lists!P15&\"'!P26\")>1,INDIRECT(\"'SPR \"&Lists!P15&\"'!P26\")<7),INDIRECT(\"'SPR \"&Lists!P15&\"'!P26\")-1,IF(INDIRECT(\"'SPR \"&Lists!P15&\"'!P26\")=7,\"N/A\",\"\"))","v":""},{"$f":"IF(AND(INDIRECT(\"'SPR \"&Lists!P15&\"'!P30\")>1,INDIRECT(\"'SPR \"&Lists!P15&\"'!P30\")<7),INDIRECT(\"'SPR \"&Lists!P15&\"'!P30\")-1,IF(INDIRECT(\"'SPR \"&Lists!P15&\"'!P30\")=7,\"N/A\",\"\"))","v":""},null,0,"",null,{"$f":"IF(AND(INDIRECT(\"'SPR \"&Lists!P15&\"'!q14\")>1,INDIRECT(\"'SPR \"&Lists!P15&\"'!q14\")<7),INDIRECT(\"'SPR \"&Lists!P15&\"'!q14\")-1,IF(INDIRECT(\"'SPR \"&Lists!P15&\"'!q14\")=7,\"N/A\",\"\"))","v":""},{"$f":"IF(AND(INDIRECT(\"'SPR \"&Lists!P15&\"'!q18\")>1,INDIRECT(\"'SPR \"&Lists!P15&\"'!q18\")<7),INDIRECT(\"'SPR \"&Lists!P15&\"'!q18\")-1,IF(INDIRECT(\"'SPR \"&Lists!P15&\"'!q18\")=7,\"N/A\",\"\"))","v":""},{"$f":"IF(AND(INDIRECT(\"'SPR \"&Lists!P15&\"'!Q22\")>1,INDIRECT(\"'SPR \"&Lists!P15&\"'!Q22\")<7),INDIRECT(\"'SPR \"&Lists!P15&\"'!Q22\")-1,IF(INDIRECT(\"'SPR \"&Lists!P15&\"'!Q22\")=7,\"N/A\",\"\"))","v":""},{"$f":"IF(AND(INDIRECT(\"'SPR \"&Lists!P15&\"'!Q26\")>1,INDIRECT(\"'SPR \"&Lists!P15&\"'!Q26\")<7),INDIRECT(\"'SPR \"&Lists!P15&\"'!Q26\")-1,IF(INDIRECT(\"'SPR \"&Lists!P15&\"'!Q26\")=7,\"N/A\",\"\"))","v":""},{"$f":"IF(AND(INDIRECT(\"'SPR \"&Lists!P15&\"'!Q30\")>1,INDIRECT(\"'SPR \"&Lists!P15&\"'!Q30\")<7),INDIRECT(\"'SPR \"&Lists!P15&\"'!Q30\")-1,IF(INDIRECT(\"'SPR \"&Lists!P15&\"'!Q30\")=7,\"N/A\",\"\"))","v":""},null,0,"",null,{"$f":"IF(INDIRECT(\"'SPR \"&Lists!P15&\"'!P9\")=1,\"High\",IF(INDIRECT(\"'SPR \"&Lists!P15&\"'!P9\")=2,\"Medium\",IF(INDIRECT(\"'SPR \"&Lists!P15&\"'!P9\")=3,\"Low\",\"\")))","v":""},null,{"$f":"IF(INDIRECT(\"'SPR \"&Lists!P15&\"'!P37\")=1,\"No gap\",IF(INDIRECT(\"'SPR \"&Lists!P15&\"'!P37\")=2,\"Entirely the jurisdiction's responsibility\",IF(INDIRECT(\"'SPR \"&Lists!P15&\"'!P37\")=3,\"Mostly the jurisdiction's responsibility\",IF(INDIRECT(\"'SPR \"&Lists!P15&\"'!P37\")=4,\"Mostly higher-level government's responsibility\",IF(INDIRECT(\"'SPR \"&Lists!P15&\"'!P37\")=5,\"Entirely higher-level government's responsibility\",\"\")))))","v":""},null,null,"Risk and Disaster Resilience Assessment","","",null,"Risk and Disaster Resilience Assessment","","",null,"Risk and Disaster Resilience Assessment","","",null,"Risk and Disaster Resilience Assessment","","",null,"Risk and Disaster Resilience Assessment","","",null,"Risk and Disaster Resilience Assessment","",""]
["Mitigation","Threats and Hazard Identification",null,{"$f":"IF(AND(INDIRECT(\"'SPR \"&Lists!P16&\"'!P14\")>1,INDIRECT(\"'SPR \"&Lists!P16&\"'!P14\")<7),INDIRECT(\"'SPR \"&Lists!P16&\"'!P14\")-1,IF(INDIRECT(\"'SPR \"&Lists!P16&\"'!P14\")=7,\"N/A\",\"\"))","v":""},{"$f":"IF(AND(INDIRECT(\"'SPR \"&Lists!P16&\"'!P18\")>1,INDIRECT(\"'SPR \"&Lists!P16&\"'!P18\")<7),INDIRECT(\"'SPR \"&Lists!P16&\"'!P18\")-1,IF(INDIRECT(\"'SPR \"&Lists!P16&\"'!P18\")=7,\"N/A\",\"\"))","v":""},{"$f":"IF(AND(INDIRECT(\"'SPR \"&Lists!P16&\"'!P22\")>1,INDIRECT(\"'SPR \"&Lists!P16&\"'!P22\")<7),INDIRECT(\"'SPR \"&Lists!P16&\"'!P22\")-1,IF(INDIRECT(\"'SPR \"&Lists!P16&\"'!P22\")=7,\"N/A\",\"\"))","v":""},{"$f":"IF(AND(INDIRECT(\"'SPR \"&Lists!P16&\"'!P26\")>1,INDIRECT(\"'SPR \"&Lists!P16&\"'!P26\")<7),INDIRECT(\"'SPR \"&Lists!P16&\"'!P26\")-1,IF(INDIRECT(\"'SPR \"&Lists!P16&\"'!P26\")=7,\"N/A\",\"\"))","v":""},{"$f":"IF(AND(INDIRECT(\"'SPR \"&Lists!P16&\"'!P30\")>1,INDIRECT(\"'SPR \"&Lists!P16&\"'!P30\")<7),INDIRECT(\"'SPR \"&Lists!P16&\"'!P30\")-1,IF(INDIRECT(\"'SPR \"&Lists!P16&\"'!P30\")=7,\"N/A\",\"\"))","v":""},null,0,"",null,{"$f":"IF(AND(INDIRECT(\"'SPR \"&Lists!P16&\"'!q14\")>1,INDIRECT(\"'SPR \"&Lists!P16&\"'!q14\")<7),INDIRECT(\"'SPR \"&Lists!P16&\"'!q14\")-1,IF(INDIRECT(\"'SPR \"&Lists!P16&\"'!q14\")=7,\"N/A\",\"\"))","v":""},{"$f":"IF(AND(INDIRECT(\"'SPR \"&Lists!P16&\"'!q18\")>1,INDIRECT(\"'SPR \"&Lists!P16&\"'!q18\")<7),INDIRECT(\"'SPR \"&Lists!P16&\"'!q18\")-1,IF(INDIRECT(\"'SPR \"&Lists!P16&\"'!q18\")=7,\"N/A\",\"\"))","v":""},{"$f":"IF(AND(INDIRECT(\"'SPR \"&Lists!P16&\"'!Q22\")>1,INDIRECT(\"'SPR \"&Lists!P16&\"'!Q22\")<7),INDIRECT(\"'SPR \"&Lists!P16&\"'!Q22\")-1,IF(INDIRECT(\"'SPR \"&Lists!P16&\"'!Q22\")=7,\"N/A\",\"\"))","v":""},{"$f":"IF(AND(INDIRECT(\"'SPR \"&Lists!P16&\"'!Q26\")>1,INDIRECT(\"'SPR \"&Lists!P16&\"'!Q26\")<7),INDIRECT(\"'SPR \"&Lists!P16&\"'!Q26\")-1,IF(INDIRECT(\"'SPR \"&Lists!P16&\"'!Q26\")=7,\"N/A\",\"\"))","v":""},{"$f":"IF(AND(INDIRECT(\"'SPR \"&Lists!P16&\"'!Q30\")>1,INDIRECT(\"'SPR \"&Lists!P16&\"'!Q30\")<7),INDIRECT(\"'SPR \"&Lists!P16&\"'!Q30\")-1,IF(INDIRECT(\"'SPR \"&Lists!P16&\"'!Q30\")=7,\"N/A\",\"\"))","v":""},null,0,"",null,{"$f":"IF(INDIRECT(\"'SPR \"&Lists!P16&\"'!P9\")=1,\"High\",IF(INDIRECT(\"'SPR \"&Lists!P16&\"'!P9\")=2,\"Medium\",IF(INDIRECT(\"'SPR \"&Lists!P16&\"'!P9\")=3,\"Low\",\"\")))","v":""},null,{"$f":"IF(INDIRECT(\"'SPR \"&Lists!P16&\"'!P37\")=1,\"No gap\",IF(INDIRECT(\"'SPR \"&Lists!P16&\"'!P37\")=2,\"Entirely the jurisdiction's responsibility\",IF(INDIRECT(\"'SPR \"&Lists!P16&\"'!P37\")=3,\"Mostly the jurisdiction's responsibility\",IF(INDIRECT(\"'SPR \"&Lists!P16&\"'!P37\")=4,\"Mostly higher-level government's responsibility\",IF(INDIRECT(\"'SPR \"&Lists!P16&\"'!P37\")=5,\"Entirely higher-level government's responsibility\",\"\")))))","v":""},null,null,"Threats and Hazard Identification","","",null,"Threats and Hazard Identification","","",null,"Threats and Hazard Identification","","",null,"Threats and Hazard Identification","","",null,"Threats and Hazard Identification","","",null,"Threats and Hazard Identification","",""]
["Response","Critical Transportation",null,{"$f":"IF(AND(INDIRECT(\"'SPR \"&Lists!P17&\"'!P14\")>1,INDIRECT(\"'SPR \"&Lists!P17&\"'!P14\")<7),INDIRECT(\"'SPR \"&Lists!P17&\"'!P14\")-1,IF(INDIRECT(\"'SPR \"&Lists!P17&\"'!P14\")=7,\"N/A\",\"\"))","v":""},{"$f":"IF(AND(INDIRECT(\"'SPR \"&Lists!P17&\"'!P18\")>1,INDIRECT(\"'SPR \"&Lists!P17&\"'!P18\")<7),INDIRECT(\"'SPR \"&Lists!P17&\"'!P18\")-1,IF(INDIRECT(\"'SPR \"&Lists!P17&\"'!P18\")=7,\"N/A\",\"\"))","v":""},{"$f":"IF(AND(INDIRECT(\"'SPR \"&Lists!P17&\"'!P22\")>1,INDIRECT(\"'SPR \"&Lists!P17&\"'!P22\")<7),INDIRECT(\"'SPR \"&Lists!P17&\"'!P22\")-1,IF(INDIRECT(\"'SPR \"&Lists!P17&\"'!P22\")=7,\"N/A\",\"\"))","v":""},{"$f":"IF(AND(INDIRECT(\"'SPR \"&Lists!P17&\"'!P26\")>1,INDIRECT(\"'SPR \"&Lists!P17&\"'!P26\")<7),INDIRECT(\"'SPR \"&Lists!P17&\"'!P26\")-1,IF(INDIRECT(\"'SPR \"&Lists!P17&\"'!P26\")=7,\"N/A\",\"\"))","v":""},{"$f":"IF(AND(INDIRECT(\"'SPR \"&Lists!P17&\"'!P30\")>1,INDIRECT(\"'SPR \"&Lists!P17&\"'!P30\")<7),INDIRECT(\"'SPR \"&Lists!P17&\"'!P30\")-1,IF(INDIRECT(\"'SPR \"&Lists!P17&\"'!P30\")=7,\"N/A\",\"\"))","v":""},null,0,"",null,{"$f":"IF(AND(INDIRECT(\"'SPR \"&Lists!P17&\"'!q14\")>1,INDIRECT(\"'SPR \"&Lists!P17&\"'!q14\")<7),INDIRECT(\"'SPR \"&Lists!P17&\"'!q14\")-1,IF(INDIRECT(\"'SPR \"&Lists!P17&\"'!q14\")=7,\"N/A\",\"\"))","v":""},{"$f":"IF(AND(INDIRECT(\"'SPR \"&Lists!P17&\"'!q18\")>1,INDIRECT(\"'SPR \"&Lists!P17&\"'!q18\")<7),INDIRECT(\"'SPR \"&Lists!P17&\"'!q18\")-1,IF(INDIRECT(\"'SPR \"&Lists!P17&\"'!q18\")=7,\"N/A\",\"\"))","v":""},{"$f":"IF(AND(INDIRECT(\"'SPR \"&Lists!P17&\"'!Q22\")>1,INDIRECT(\"'SPR \"&Lists!P17&\"'!Q22\")<7),INDIRECT(\"'SPR \"&Lists!P17&\"'!Q22\")-1,IF(INDIRECT(\"'SPR \"&Lists!P17&\"'!Q22\")=7,\"N/A\",\"\"))","v":""},{"$f":"IF(AND(INDIRECT(\"'SPR \"&Lists!P17&\"'!Q26\")>1,INDIRECT(\"'SPR \"&Lists!P17&\"'!Q26\")<7),INDIRECT(\"'SPR \"&Lists!P17&\"'!Q26\")-1,IF(INDIRECT(\"'SPR \"&Lists!P17&\"'!Q26\")=7,\"N/A\",\"\"))","v":""},{"$f":"IF(AND(INDIRECT(\"'SPR \"&Lists!P17&\"'!Q30\")>1,INDIRECT(\"'SPR \"&Lists!P17&\"'!Q30\")<7),INDIRECT(\"'SPR \"&Lists!P17&\"'!Q30\")-1,IF(INDIRECT(\"'SPR \"&Lists!P17&\"'!Q30\")=7,\"N/A\",\"\"))","v":""},null,{"$f":"COUNTIF(M21:Q21,\">0\")","v":0},{"$f":"IF(S21>0,SUM(M21:Q21)/S21,\"\")","v":""},null,{"$f":"IF(INDIRECT(\"'SPR \"&Lists!P17&\"'!P9\")=1,\"High\",IF(INDIRECT(\"'SPR \"&Lists!P17&\"'!P9\")=2,\"Medium\",IF(INDIRECT(\"'SPR \"&Lists!P17&\"'!P9\")=3,\"Low\",\"\")))","v":""},null,{"$f":"IF(INDIRECT(\"'SPR \"&Lists!P17&\"'!P37\")=1,\"No gap\",IF(INDIRECT(\"'SPR \"&Lists!P17&\"'!P37\")=2,\"Entirely the jurisdiction's responsibility\",IF(INDIRECT(\"'SPR \"&Lists!P17&\"'!P37\")=3,\"Mostly the jurisdiction's responsibility\",IF(INDIRECT(\"'SPR \"&Lists!P17&\"'!P37\")=4,\"Mostly higher-level government's responsibility\",IF(INDIRECT(\"'SPR \"&Lists!P17&\"'!P37\")=5,\"Entirely higher-level government's responsibility\",\"\")))))","v":""},null,null,"Critical Transportation","","",null,"Critical Transportation","","",null,"Critical Transportation","","",null,"Critical Transportation","","",null,"Critical Transportation","",{"$f":"IF(OR(G21 = \"\", P21=\"\",G21=\"N/A\",P21=\"N/A\"),\"\",MAX(P21-G21,0))","v":""},null,{"$f":"AQ21","v":"Critical Transportation"},"",{"$f":"IF(OR(H21 = \"\", Q21=\"\",H21=\"N/A\",Q21=\"N/A\"),\"\",MAX(Q21-H21,0))","v":""}]
["Response","Environmental Response/Health and Safety",null,{"$f":"IF(AND(INDIRECT(\"'SPR \"&Lists!P18&\"'!P14\")>1,INDIRECT(\"'SPR \"&Lists!P18&\"'!P14\")<7),INDIRECT(\"'SPR \"&Lists!P18&\"'!P14\")-1,IF(INDIRECT(\"'SPR \"&Lists!P18&\"'!P14\")=7,\"N/A\",\"\"))","v":""},{"$f":"IF(AND(INDIRECT(\"'SPR \"&Lists!P18&\"'!P18\")>1,INDIRECT(\"'SPR \"&Lists!P18&\"'!P18\")<7),INDIRECT(\"'SPR \"&Lists!P18&\"'!P18\")-1,IF(INDIRECT(\"'SPR \"&Lists!P18&\"'!P18\")=7,\"N/A\",\"\"))","v":""},{"$f":"IF(AND(INDIRECT(\"'SPR \"&Lists!P18&\"'!P22\")>1,INDIRECT(\"'SPR \"&Lists!P18&\"'!P22\")<7),INDIRECT(\"'SPR \"&Lists!P18&\"'!P22\")-1,IF(INDIRECT(\"'SPR \"&Lists!P18&\"'!P22\")=7,\"N/A\",\"\"))","v":""},{"$f":"IF(AND(INDIRECT(\"'SPR \"&Lists!P18&\"'!P26\")>1,INDIRECT(\"'SPR \"&Lists!P18&\"'!P26\")<7),INDIRECT(\"'SPR \"&Lists!P18&\"'!P26\")-1,IF(INDIRECT(\"'SPR \"&Lists!P18&\"'!P26\")=7,\"N/A\",\"\"))","v":""},{"$f":"IF(AND(INDIRECT(\"'SPR \"&Lists!P18&\"'!P30\")>1,INDIRECT(\"'SPR \"&Lists!P18&\"'!P30\")<7),INDIRECT(\"'SPR \"&Lists!P18&\"'!P30\")-1,IF(INDIRECT(\"'SPR \"&Lists!P18&\"'!P30\")=7,\"N/A\",\"\"))","v":""},null,0,"",null,{"$f":"IF(AND(INDIRECT(\"'SPR \"&Lists!P18&\"'!q14\")>1,INDIRECT(\"'SPR \"&Lists!P18&\"'!q14\")<7),INDIRECT(\"'SPR \"&Lists!P18&\"'!q14\")-1,IF(INDIRECT(\"'SPR \"&Lists!P18&\"'!q14\")=7,\"N/A\",\"\"))","v":""},{"$f":"IF(AND(INDIRECT(\"'SPR \"&Lists!P18&\"'!q18\")>1,INDIRECT(\"'SPR \"&Lists!P18&\"'!q18\")<7),INDIRECT(\"'SPR \"&Lists!P18&\"'!q18\")-1,IF(INDIRECT(\"'SPR \"&Lists!P18&\"'!q18\")=7,\"N/A\",\"\"))","v":""},{"$f":"IF(AND(INDIRECT(\"'SPR \"&Lists!P18&\"'!Q22\")>1,INDIRECT(\"'SPR \"&Lists!P18&\"'!Q22\")<7),INDIRECT(\"'SPR \"&Lists!P18&\"'!Q22\")-1,IF(INDIRECT(\"'SPR \"&Lists!P18&\"'!Q22\")=7,\"N/A\",\"\"))","v":""},{"$f":"IF(AND(INDIRECT(\"'SPR \"&Lists!P18&\"'!Q26\")>1,INDIRECT(\"'SPR \"&Lists!P18&\"'!Q26\")<7),INDIRECT(\"'SPR \"&Lists!P18&\"'!Q26\")-1,IF(INDIRECT(\"'SPR \"&Lists!P18&\"'!Q26\")=7,\"N/A\",\"\"))","v":""},{"$f":"IF(AND(INDIRECT(\"'SPR \"&Lists!P18&\"'!Q30\")>1,INDIRECT(\"'SPR \"&Lists!P18&\"'!Q30\")<7),INDIRECT(\"'SPR \"&Lists!P18&\"'!Q30\")-1,IF(INDIRECT(\"'SPR \"&Lists!P18&\"'!Q30\")=7,\"N/A\",\"\"))","v":""},null,0,"",null,{"$f":"IF(INDIRECT(\"'SPR \"&Lists!P18&\"'!P9\")=1,\"High\",IF(INDIRECT(\"'SPR \"&Lists!P18&\"'!P9\")=2,\"Medium\",IF(INDIRECT(\"'SPR \"&Lists!P18&\"'!P9\")=3,\"Low\",\"\")))","v":""},null,{"$f":"IF(INDIRECT(\"'SPR \"&Lists!P18&\"'!P37\")=1,\"No gap\",IF(INDIRECT(\"'SPR \"&Lists!P18&\"'!P37\")=2,\"Entirely the jurisdiction's responsibility\",IF(INDIRECT(\"'SPR \"&Lists!P18&\"'!P37\")=3,\"Mostly the jurisdiction's responsibility\",IF(INDIRECT(\"'SPR \"&Lists!P18&\"'!P37\")=4,\"Mostly higher-level government's responsibility\",IF(INDIRECT(\"'SPR \"&Lists!P18&\"'!P37\")=5,\"Entirely higher-level government's responsibility\",\"\")))))","v":""},null,null,"Environmental Response/Health and Safety","","",null,"Environmental Response/Health and Safety","","",null,"Environmental Response/Health and Safety","","",null,"Environmental Response/Health and Safety","","",null,"Environmental Response/Health and Safety","","",null,"Environmental Response/Health and Safety","",""]
["Response","Fatality Management Services",null,{"$f":"IF(AND(INDIRECT(\"'SPR \"&Lists!P19&\"'!P14\")>1,INDIRECT(\"'SPR \"&Lists!P19&\"'!P14\")<7),INDIRECT(\"'SPR \"&Lists!P19&\"'!P14\")-1,IF(INDIRECT(\"'SPR \"&Lists!P19&\"'!P14\")=7,\"N/A\",\"\"))","v":""},{"$f":"IF(AND(INDIRECT(\"'SPR \"&Lists!P19&\"'!P18\")>1,INDIRECT(\"'SPR \"&Lists!P19&\"'!P18\")<7),INDIRECT(\"'SPR \"&Lists!P19&\"'!P18\")-1,IF(INDIRECT(\"'SPR \"&Lists!P19&\"'!P18\")=7,\"N/A\",\"\"))","v":""},{"$f":"IF(AND(INDIRECT(\"'SPR \"&Lists!P19&\"'!P22\")>1,INDIRECT(\"'SPR \"&Lists!P19&\"'!P22\")<7),INDIRECT(\"'SPR \"&Lists!P19&\"'!P22\")-1,IF(INDIRECT(\"'SPR \"&Lists!P19&\"'!P22\")=7,\"N/A\",\"\"))","v":""},{"$f":"IF(AND(INDIRECT(\"'SPR \"&Lists!P19&\"'!P26\")>1,INDIRECT(\"'SPR \"&Lists!P19&\"'!P26\")<7),INDIRECT(\"'SPR \"&Lists!P19&\"'!P26\")-1,IF(INDIRECT(\"'SPR \"&Lists!P19&\"'!P26\")=7,\"N/A\",\"\"))","v":""},{"$f":"IF(AND(INDIRECT(\"'SPR \"&Lists!P19&\"'!P30\")>1,INDIRECT(\"'SPR \"&Lists!P19&\"'!P30\")<7),INDIRECT(\"'SPR \"&Lists!P19&\"'!P30\")-1,IF(INDIRECT(\"'SPR \"&Lists!P19&\"'!P30\")=7,\"N/A\",\"\"))","v":""},null,0,"",null,{"$f":"IF(AND(INDIRECT(\"'SPR \"&Lists!P19&\"'!q14\")>1,INDIRECT(\"'SPR \"&Lists!P19&\"'!q14\")<7),INDIRECT(\"'SPR \"&Lists!P19&\"'!q14\")-1,IF(INDIRECT(\"'SPR \"&Lists!P19&\"'!q14\")=7,\"N/A\",\"\"))","v":""},{"$f":"IF(AND(INDIRECT(\"'SPR \"&Lists!P19&\"'!q18\")>1,INDIRECT(\"'SPR \"&Lists!P19&\"'!q18\")<7),INDIRECT(\"'SPR \"&Lists!P19&\"'!q18\")-1,IF(INDIRECT(\"'SPR \"&Lists!P19&\"'!q18\")=7,\"N/A\",\"\"))","v":""},{"$f":"IF(AND(INDIRECT(\"'SPR \"&Lists!P19&\"'!Q22\")>1,INDIRECT(\"'SPR \"&Lists!P19&\"'!Q22\")<7),INDIRECT(\"'SPR \"&Lists!P19&\"'!Q22\")-1,IF(INDIRECT(\"'SPR \"&Lists!P19&\"'!Q22\")=7,\"N/A\",\"\"))","v":""},{"$f":"IF(AND(INDIRECT(\"'SPR \"&Lists!P19&\"'!Q26\")>1,INDIRECT(\"'SPR \"&Lists!P19&\"'!Q26\")<7),INDIRECT(\"'SPR \"&Lists!P19&\"'!Q26\")-1,IF(INDIRECT(\"'SPR \"&Lists!P19&\"'!Q26\")=7,\"N/A\",\"\"))","v":""},{"$f":"IF(AND(INDIRECT(\"'SPR \"&Lists!P19&\"'!Q30\")>1,INDIRECT(\"'SPR \"&Lists!P19&\"'!Q30\")<7),INDIRECT(\"'SPR \"&Lists!P19&\"'!Q30\")-1,IF(INDIRECT(\"'SPR \"&Lists!P19&\"'!Q30\")=7,\"N/A\",\"\"))","v":""},null,0,"",null,{"$f":"IF(INDIRECT(\"'SPR \"&Lists!P19&\"'!P9\")=1,\"High\",IF(INDIRECT(\"'SPR \"&Lists!P19&\"'!P9\")=2,\"Medium\",IF(INDIRECT(\"'SPR \"&Lists!P19&\"'!P9\")=3,\"Low\",\"\")))","v":""},null,{"$f":"IF(INDIRECT(\"'SPR \"&Lists!P19&\"'!P37\")=1,\"No gap\",IF(INDIRECT(\"'SPR \"&Lists!P19&\"'!P37\")=2,\"Entirely the jurisdiction's responsibility\",IF(INDIRECT(\"'SPR \"&Lists!P19&\"'!P37\")=3,\"Mostly the jurisdiction's responsibility\",IF(INDIRECT(\"'SPR \"&Lists!P19&\"'!P37\")=4,\"Mostly higher-level government's responsibility\",IF(INDIRECT(\"'SPR \"&Lists!P19&\"'!P37\")=5,\"Entirely higher-level government's responsibility\",\"\")))))","v":""},null,null,"Fatality Management Services","","",null,"Fatality Management Services","","",null,"Fatality Management Services","","",null,"Fatality Management Services","","",null,"Fatality Management Services","","",null,"Fatality Management Services","",""]
["Response/Recovery","Infrastructure Systems",null,{"$f":"IF(AND(INDIRECT(\"'SPR \"&Lists!P20&\"'!P14\")>1,INDIRECT(\"'SPR \"&Lists!P20&\"'!P14\")<7),INDIRECT(\"'SPR \"&Lists!P20&\"'!P14\")-1,IF(INDIRECT(\"'SPR \"&Lists!P20&\"'!P14\")=7,\"N/A\",\"\"))","v":""},{"$f":"IF(AND(INDIRECT(\"'SPR \"&Lists!P20&\"'!P18\")>1,INDIRECT(\"'SPR \"&Lists!P20&\"'!P18\")<7),INDIRECT(\"'SPR \"&Lists!P20&\"'!P18\")-1,IF(INDIRECT(\"'SPR \"&Lists!P20&\"'!P18\")=7,\"N/A\",\"\"))","v":""},{"$f":"IF(AND(INDIRECT(\"'SPR \"&Lists!P20&\"'!P22\")>1,INDIRECT(\"'SPR \"&Lists!P20&\"'!P22\")<7),INDIRECT(\"'SPR \"&Lists!P20&\"'!P22\")-1,IF(INDIRECT(\"'SPR \"&Lists!P20&\"'!P22\")=7,\"N/A\",\"\"))","v":""},{"$f":"IF(AND(INDIRECT(\"'SPR \"&Lists!P20&\"'!P26\")>1,INDIRECT(\"'SPR \"&Lists!P20&\"'!P26\")<7),INDIRECT(\"'SPR \"&Lists!P20&\"'!P26\")-1,IF(INDIRECT(\"'SPR \"&Lists!P20&\"'!P26\")=7,\"N/A\",\"\"))","v":""},{"$f":"IF(AND(INDIRECT(\"'SPR \"&Lists!P20&\"'!P30\")>1,INDIRECT(\"'SPR \"&Lists!P20&\"'!P30\")<7),INDIRECT(\"'SPR \"&Lists!P20&\"'!P30\")-1,IF(INDIRECT(\"'SPR \"&Lists!P20&\"'!P30\")=7,\"N/A\",\"\"))","v":""},null,0,"",null,{"$f":"IF(AND(INDIRECT(\"'SPR \"&Lists!P20&\"'!q14\")>1,INDIRECT(\"'SPR \"&Lists!P20&\"'!q14\")<7),INDIRECT(\"'SPR \"&Lists!P20&\"'!q14\")-1,IF(INDIRECT(\"'SPR \"&Lists!P20&\"'!q14\")=7,\"N/A\",\"\"))","v":""},{"$f":"IF(AND(INDIRECT(\"'SPR \"&Lists!P20&\"'!q18\")>1,INDIRECT(\"'SPR \"&Lists!P20&\"'!q18\")<7),INDIRECT(\"'SPR \"&Lists!P20&\"'!q18\")-1,IF(INDIRECT(\"'SPR \"&Lists!P20&\"'!q18\")=7,\"N/A\",\"\"))","v":""},{"$f":"IF(AND(INDIRECT(\"'SPR \"&Lists!P20&\"'!Q22\")>1,INDIRECT(\"'SPR \"&Lists!P20&\"'!Q22\")<7),INDIRECT(\"'SPR \"&Lists!P20&\"'!Q22\")-1,IF(INDIRECT(\"'SPR \"&Lists!P20&\"'!Q22\")=7,\"N/A\",\"\"))","v":""},{"$f":"IF(AND(INDIRECT(\"'SPR \"&Lists!P20&\"'!Q26\")>1,INDIRECT(\"'SPR \"&Lists!P20&\"'!Q26\")<7),INDIRECT(\"'SPR \"&Lists!P20&\"'!Q26\")-1,IF(INDIRECT(\"'SPR \"&Lists!P20&\"'!Q26\")=7,\"N/A\",\"\"))","v":""},{"$f":"IF(AND(INDIRECT(\"'SPR \"&Lists!P20&\"'!Q30\")>1,INDIRECT(\"'SPR \"&Lists!P20&\"'!Q30\")<7),INDIRECT(\"'SPR \"&Lists!P20&\"'!Q30\")-1,IF(INDIRECT(\"'SPR \"&Lists!P20&\"'!Q30\")=7,\"N/A\",\"\"))","v":""},null,{"$f":"COUNTIF(M24:Q24,\">0\")","v":0},{"$f":"IF(S24>0,SUM(M24:Q24)/S24,\"\")","v":""},null,{"$f":"IF(INDIRECT(\"'SPR \"&Lists!P20&\"'!P9\")=1,\"High\",IF(INDIRECT(\"'SPR \"&Lists!P20&\"'!P9\")=2,\"Medium\",IF(INDIRECT(\"'SPR \"&Lists!P20&\"'!P9\")=3,\"Low\",\"\")))","v":""},null,{"$f":"IF(INDIRECT(\"'SPR \"&Lists!P20&\"'!P37\")=1,\"No gap\",IF(INDIRECT(\"'SPR \"&Lists!P20&\"'!P37\")=2,\"Entirely the jurisdiction's responsibility\",IF(INDIRECT(\"'SPR \"&Lists!P20&\"'!P37\")=3,\"Mostly the jurisdiction's responsibility\",IF(INDIRECT(\"'SPR \"&Lists!P20&\"'!P37\")=4,\"Mostly higher-level government's responsibility\",IF(INDIRECT(\"'SPR \"&Lists!P20&\"'!P37\")=5,\"Entirely higher-level government's responsibility\",\"\")))))","v":""},null,null,"Infrastructure Systems","","",null,"Infrastructure Systems","","",null,"Infrastructure Systems","","",null,"Infrastructure Systems","","",null,"Infrastructure Systems","","",null,{"$f":"AQ24","v":"Infrastructure Systems"},"",{"$f":"IF(OR(H24 = \"\", Q24=\"\",H24=\"N/A\",Q24=\"N/A\"),\"\",MAX(Q24-H24,0))","v":""}]
["Response","Mass Care Services",null,{"$f":"IF(AND(INDIRECT(\"'SPR \"&Lists!P21&\"'!P14\")>1,INDIRECT(\"'SPR \"&Lists!P21&\"'!P14\")<7),INDIRECT(\"'SPR \"&Lists!P21&\"'!P14\")-1,IF(INDIRECT(\"'SPR \"&Lists!P21&\"'!P14\")=7,\"N/A\",\"\"))","v":""},{"$f":"IF(AND(INDIRECT(\"'SPR \"&Lists!P21&\"'!P18\")>1,INDIRECT(\"'SPR \"&Lists!P21&\"'!P18\")<7),INDIRECT(\"'SPR \"&Lists!P21&\"'!P18\")-1,IF(INDIRECT(\"'SPR \"&Lists!P21&\"'!P18\")=7,\"N/A\",\"\"))","v":""},{"$f":"IF(AND(INDIRECT(\"'SPR \"&Lists!P21&\"'!P22\")>1,INDIRECT(\"'SPR \"&Lists!P21&\"'!P22\")<7),INDIRECT(\"'SPR \"&Lists!P21&\"'!P22\")-1,IF(INDIRECT(\"'SPR \"&Lists!P21&\"'!P22\")=7,\"N/A\",\"\"))","v":""},{"$f":"IF(AND(INDIRECT(\"'SPR \"&Lists!P21&\"'!P26\")>1,INDIRECT(\"'SPR \"&Lists!P21&\"'!P26\")<7),INDIRECT(\"'SPR \"&Lists!P21&\"'!P26\")-1,IF(INDIRECT(\"'SPR \"&Lists!P21&\"'!P26\")=7,\"N/A\",\"\"))","v":""},{"$f":"IF(AND(INDIRECT(\"'SPR \"&Lists!P21&\"'!P30\")>1,INDIRECT(\"'SPR \"&Lists!P21&\"'!P30\")<7),INDIRECT(\"'SPR \"&Lists!P21&\"'!P30\")-1,IF(INDIRECT(\"'SPR \"&Lists!P21&\"'!P30\")=7,\"N/A\",\"\"))","v":""},null,0,"",null,{"$f":"IF(AND(INDIRECT(\"'SPR \"&Lists!P21&\"'!q14\")>1,INDIRECT(\"'SPR \"&Lists!P21&\"'!q14\")<7),INDIRECT(\"'SPR \"&Lists!P21&\"'!q14\")-1,IF(INDIRECT(\"'SPR \"&Lists!P21&\"'!q14\")=7,\"N/A\",\"\"))","v":""},{"$f":"IF(AND(INDIRECT(\"'SPR \"&Lists!P21&\"'!q18\")>1,INDIRECT(\"'SPR \"&Lists!P21&\"'!q18\")<7),INDIRECT(\"'SPR \"&Lists!P21&\"'!q18\")-1,IF(INDIRECT(\"'SPR \"&Lists!P21&\"'!q18\")=7,\"N/A\",\"\"))","v":""},{"$f":"IF(AND(INDIRECT(\"'SPR \"&Lists!P21&\"'!Q22\")>1,INDIRECT(\"'SPR \"&Lists!P21&\"'!Q22\")<7),INDIRECT(\"'SPR \"&Lists!P21&\"'!Q22\")-1,IF(INDIRECT(\"'SPR \"&Lists!P21&\"'!Q22\")=7,\"N/A\",\"\"))","v":""},{"$f":"IF(AND(INDIRECT(\"'SPR \"&Lists!P21&\"'!Q26\")>1,INDIRECT(\"'SPR \"&Lists!P21&\"'!Q26\")<7),INDIRECT(\"'SPR \"&Lists!P21&\"'!Q26\")-1,IF(INDIRECT(\"'SPR \"&Lists!P21&\"'!Q26\")=7,\"N/A\",\"\"))","v":""},{"$f":"IF(AND(INDIRECT(\"'SPR \"&Lists!P21&\"'!Q30\")>1,INDIRECT(\"'SPR \"&Lists!P21&\"'!Q30\")<7),INDIRECT(\"'SPR \"&Lists!P21&\"'!Q30\")-1,IF(INDIRECT(\"'SPR \"&Lists!P21&\"'!Q30\")=7,\"N/A\",\"\"))","v":""},null,0,"",null,{"$f":"IF(INDIRECT(\"'SPR \"&Lists!P21&\"'!P9\")=1,\"High\",IF(INDIRECT(\"'SPR \"&Lists!P21&\"'!P9\")=2,\"Medium\",IF(INDIRECT(\"'SPR \"&Lists!P21&\"'!P9\")=3,\"Low\",\"\")))","v":""},null,{"$f":"IF(INDIRECT(\"'SPR \"&Lists!P21&\"'!P37\")=1,\"No gap\",IF(INDIRECT(\"'SPR \"&Lists!P21&\"'!P37\")=2,\"Entirely the jurisdiction's responsibility\",IF(INDIRECT(\"'SPR \"&Lists!P21&\"'!P37\")=3,\"Mostly the jurisdiction's responsibility\",IF(INDIRECT(\"'SPR \"&Lists!P21&\"'!P37\")=4,\"Mostly higher-level government's responsibility\",IF(INDIRECT(\"'SPR \"&Lists!P21&\"'!P37\")=5,\"Entirely higher-level government's responsibility\",\"\")))))","v":""},null,null,"Mass Care Services","","",null,"Mass Care Services","","",null,"Mass Care Services","","",null,"Mass Care Services","","",null,"Mass Care Services","","",null,"Mass Care Services","",""]
["Response","Mass Search and Rescue Operations",null,{"$f":"IF(AND(INDIRECT(\"'SPR \"&Lists!P22&\"'!P14\")>1,INDIRECT(\"'SPR \"&Lists!P22&\"'!P14\")<7),INDIRECT(\"'SPR \"&Lists!P22&\"'!P14\")-1,IF(INDIRECT(\"'SPR \"&Lists!P22&\"'!P14\")=7,\"N/A\",\"\"))","v":""},{"$f":"IF(AND(INDIRECT(\"'SPR \"&Lists!P22&\"'!P18\")>1,INDIRECT(\"'SPR \"&Lists!P22&\"'!P18\")<7),INDIRECT(\"'SPR \"&Lists!P22&\"'!P18\")-1,IF(INDIRECT(\"'SPR \"&Lists!P22&\"'!P18\")=7,\"N/A\",\"\"))","v":""},{"$f":"IF(AND(INDIRECT(\"'SPR \"&Lists!P22&\"'!P22\")>1,INDIRECT(\"'SPR \"&Lists!P22&\"'!P22\")<7),INDIRECT(\"'SPR \"&Lists!P22&\"'!P22\")-1,IF(INDIRECT(\"'SPR \"&Lists!P22&\"'!P22\")=7,\"N/A\",\"\"))","v":""},{"$f":"IF(AND(INDIRECT(\"'SPR \"&Lists!P22&\"'!P26\")>1,INDIRECT(\"'SPR \"&Lists!P22&\"'!P26\")<7),INDIRECT(\"'SPR \"&Lists!P22&\"'!P26\")-1,IF(INDIRECT(\"'SPR \"&Lists!P22&\"'!P26\")=7,\"N/A\",\"\"))","v":""},{"$f":"IF(AND(INDIRECT(\"'SPR \"&Lists!P22&\"'!P30\")>1,INDIRECT(\"'SPR \"&Lists!P22&\"'!P30\")<7),INDIRECT(\"'SPR \"&Lists!P22&\"'!P30\")-1,IF(INDIRECT(\"'SPR \"&Lists!P22&\"'!P30\")=7,\"N/A\",\"\"))","v":""},null,0,"",null,{"$f":"IF(AND(INDIRECT(\"'SPR \"&Lists!P22&\"'!q14\")>1,INDIRECT(\"'SPR \"&Lists!P22&\"'!q14\")<7),INDIRECT(\"'SPR \"&Lists!P22&\"'!q14\")-1,IF(INDIRECT(\"'SPR \"&Lists!P22&\"'!q14\")=7,\"N/A\",\"\"))","v":""},{"$f":"IF(AND(INDIRECT(\"'SPR \"&Lists!P22&\"'!q18\")>1,INDIRECT(\"'SPR \"&Lists!P22&\"'!q18\")<7),INDIRECT(\"'SPR \"&Lists!P22&\"'!q18\")-1,IF(INDIRECT(\"'SPR \"&Lists!P22&\"'!q18\")=7,\"N/A\",\"\"))","v":""},{"$f":"IF(AND(INDIRECT(\"'SPR \"&Lists!P22&\"'!Q22\")>1,INDIRECT(\"'SPR \"&Lists!P22&\"'!Q22\")<7),INDIRECT(\"'SPR \"&Lists!P22&\"'!Q22\")-1,IF(INDIRECT(\"'SPR \"&Lists!P22&\"'!Q22\")=7,\"N/A\",\"\"))","v":""},{"$f":"IF(AND(INDIRECT(\"'SPR \"&Lists!P22&\"'!Q26\")>1,INDIRECT(\"'SPR \"&Lists!P22&\"'!Q26\")<7),INDIRECT(\"'SPR \"&Lists!P22&\"'!Q26\")-1,IF(INDIRECT(\"'SPR \"&Lists!P22&\"'!Q26\")=7,\"N/A\",\"\"))","v":""},{"$f":"IF(AND(INDIRECT(\"'SPR \"&Lists!P22&\"'!Q30\")>1,INDIRECT(\"'SPR \"&Lists!P22&\"'!Q30\")<7),INDIRECT(\"'SPR \"&Lists!P22&\"'!Q30\")-1,IF(INDIRECT(\"'SPR \"&Lists!P22&\"'!Q30\")=7,\"N/A\",\"\"))","v":""},null,0,"",null,{"$f":"IF(INDIRECT(\"'SPR \"&Lists!P22&\"'!P9\")=1,\"High\",IF(INDIRECT(\"'SPR \"&Lists!P22&\"'!P9\")=2,\"Medium\",IF(INDIRECT(\"'SPR \"&Lists!P22&\"'!P9\")=3,\"Low\",\"\")))","v":""},null,{"$f":"IF(INDIRECT(\"'SPR \"&Lists!P22&\"'!P37\")=1,\"No gap\",IF(INDIRECT(\"'SPR \"&Lists!P22&\"'!P37\")=2,\"Entirely the jurisdiction's responsibility\",IF(INDIRECT(\"'SPR \"&Lists!P22&\"'!P37\")=3,\"Mostly the jurisdiction's responsibility\",IF(INDIRECT(\"'SPR \"&Lists!P22&\"'!P37\")=4,\"Mostly higher-level government's responsibility\",IF(INDIRECT(\"'SPR \"&Lists!P22&\"'!P37\")=5,\"Entirely higher-level government's responsibility\",\"\")))))","v":""},null,null,"Mass Search and Rescue Operations","","",null,"Mass Search and Rescue Operations","","",null,"Mass Search and Rescue Operations","","",null,"Mass Search and Rescue Operations","","",null,"Mass Search and Rescue Operations","","",null,"Mass Search and Rescue Operations","",""]
["Response","On-scene Security and Protection",null,{"$f":"IF(AND(INDIRECT(\"'SPR \"&Lists!P23&\"'!P14\")>1,INDIRECT(\"'SPR \"&Lists!P23&\"'!P14\")<7),INDIRECT(\"'SPR \"&Lists!P23&\"'!P14\")-1,IF(INDIRECT(\"'SPR \"&Lists!P23&\"'!P14\")=7,\"N/A\",\"\"))","v":""},{"$f":"IF(AND(INDIRECT(\"'SPR \"&Lists!P23&\"'!P18\")>1,INDIRECT(\"'SPR \"&Lists!P23&\"'!P18\")<7),INDIRECT(\"'SPR \"&Lists!P23&\"'!P18\")-1,IF(INDIRECT(\"'SPR \"&Lists!P23&\"'!P18\")=7,\"N/A\",\"\"))","v":""},{"$f":"IF(AND(INDIRECT(\"'SPR \"&Lists!P23&\"'!P22\")>1,INDIRECT(\"'SPR \"&Lists!P23&\"'!P22\")<7),INDIRECT(\"'SPR \"&Lists!P23&\"'!P22\")-1,IF(INDIRECT(\"'SPR \"&Lists!P23&\"'!P22\")=7,\"N/A\",\"\"))","v":""},{"$f":"IF(AND(INDIRECT(\"'SPR \"&Lists!P23&\"'!P26\")>1,INDIRECT(\"'SPR \"&Lists!P23&\"'!P26\")<7),INDIRECT(\"'SPR \"&Lists!P23&\"'!P26\")-1,IF(INDIRECT(\"'SPR \"&Lists!P23&\"'!P26\")=7,\"N/A\",\"\"))","v":""},{"$f":"IF(AND(INDIRECT(\"'SPR \"&Lists!P23&\"'!P30\")>1,INDIRECT(\"'SPR \"&Lists!P23&\"'!P30\")<7),INDIRECT(\"'SPR \"&Lists!P23&\"'!P30\")-1,IF(INDIRECT(\"'SPR \"&Lists!P23&\"'!P30\")=7,\"N/A\",\"\"))","v":""},null,0,"",null,{"$f":"IF(AND(INDIRECT(\"'SPR \"&Lists!P23&\"'!q14\")>1,INDIRECT(\"'SPR \"&Lists!P23&\"'!q14\")<7),INDIRECT(\"'SPR \"&Lists!P23&\"'!q14\")-1,IF(INDIRECT(\"'SPR \"&Lists!P23&\"'!q14\")=7,\"N/A\",\"\"))","v":""},{"$f":"IF(AND(INDIRECT(\"'SPR \"&Lists!P23&\"'!q18\")>1,INDIRECT(\"'SPR \"&Lists!P23&\"'!q18\")<7),INDIRECT(\"'SPR \"&Lists!P23&\"'!q18\")-1,IF(INDIRECT(\"'SPR \"&Lists!P23&\"'!q18\")=7,\"N/A\",\"\"))","v":""},{"$f":"IF(AND(INDIRECT(\"'SPR \"&Lists!P23&\"'!Q22\")>1,INDIRECT(\"'SPR \"&Lists!P23&\"'!Q22\")<7),INDIRECT(\"'SPR \"&Lists!P23&\"'!Q22\")-1,IF(INDIRECT(\"'SPR \"&Lists!P23&\"'!Q22\")=7,\"N/A\",\"\"))","v":""},{"$f":"IF(AND(INDIRECT(\"'SPR \"&Lists!P23&\"'!Q26\")>1,INDIRECT(\"'SPR \"&Lists!P23&\"'!Q26\")<7),INDIRECT(\"'SPR \"&Lists!P23&\"'!Q26\")-1,IF(INDIRECT(\"'SPR \"&Lists!P23&\"'!Q26\")=7,\"N/A\",\"\"))","v":""},{"$f":"IF(AND(INDIRECT(\"'SPR \"&Lists!P23&\"'!Q30\")>1,INDIRECT(\"'SPR \"&Lists!P23&\"'!Q30\")<7),INDIRECT(\"'SPR \"&Lists!P23&\"'!Q30\")-1,IF(INDIRECT(\"'SPR \"&Lists!P23&\"'!Q30\")=7,\"N/A\",\"\"))","v":""},null,0,"",null,{"$f":"IF(INDIRECT(\"'SPR \"&Lists!P23&\"'!P9\")=1,\"High\",IF(INDIRECT(\"'SPR \"&Lists!P23&\"'!P9\")=2,\"Medium\",IF(INDIRECT(\"'SPR \"&Lists!P23&\"'!P9\")=3,\"Low\",\"\")))","v":""},null,{"$f":"IF(INDIRECT(\"'SPR \"&Lists!P23&\"'!P37\")=1,\"No gap\",IF(INDIRECT(\"'SPR \"&Lists!P23&\"'!P37\")=2,\"Entirely the jurisdiction's responsibility\",IF(INDIRECT(\"'SPR \"&Lists!P23&\"'!P37\")=3,\"Mostly the jurisdiction's responsibility\",IF(INDIRECT(\"'SPR \"&Lists!P23&\"'!P37\")=4,\"Mostly higher-level government's responsibility\",IF(INDIRECT(\"'SPR \"&Lists!P23&\"'!P37\")=5,\"Entirely higher-level government's responsibility\",\"\")))))","v":""},null,null,"On-scene Security and Protection","","",null,"On-scene Security and Protection","","",null,"On-scene Security and Protection","","",null,"On-scene Security and Protection","","",null,"On-scene Security and Protection","","",null,"On-scene Security and Protection","",""]
["Response","Operational  Communications",null,{"$f":"IF(AND(INDIRECT(\"'SPR \"&Lists!P24&\"'!P14\")>1,INDIRECT(\"'SPR \"&Lists!P24&\"'!P14\")<7),INDIRECT(\"'SPR \"&Lists!P24&\"'!P14\")-1,IF(INDIRECT(\"'SPR \"&Lists!P24&\"'!P14\")=7,\"N/A\",\"\"))","v":""},{"$f":"IF(AND(INDIRECT(\"'SPR \"&Lists!P24&\"'!P18\")>1,INDIRECT(\"'SPR \"&Lists!P24&\"'!P18\")<7),INDIRECT(\"'SPR \"&Lists!P24&\"'!P18\")-1,IF(INDIRECT(\"'SPR \"&Lists!P24&\"'!P18\")=7,\"N/A\",\"\"))","v":""},{"$f":"IF(AND(INDIRECT(\"'SPR \"&Lists!P24&\"'!P22\")>1,INDIRECT(\"'SPR \"&Lists!P24&\"'!P22\")<7),INDIRECT(\"'SPR \"&Lists!P24&\"'!P22\")-1,IF(INDIRECT(\"'SPR \"&Lists!P24&\"'!P22\")=7,\"N/A\",\"\"))","v":""},{"$f":"IF(AND(INDIRECT(\"'SPR \"&Lists!P24&\"'!P26\")>1,INDIRECT(\"'SPR \"&Lists!P24&\"'!P26\")<7),INDIRECT(\"'SPR \"&Lists!P24&\"'!P26\")-1,IF(INDIRECT(\"'SPR \"&Lists!P24&\"'!P26\")=7,\"N/A\",\"\"))","v":""},{"$f":"IF(AND(INDIRECT(\"'SPR \"&Lists!P24&\"'!P30\")>1,INDIRECT(\"'SPR \"&Lists!P24&\"'!P30\")<7),INDIRECT(\"'SPR \"&Lists!P24&\"'!P30\")-1,IF(INDIRECT(\"'SPR \"&Lists!P24&\"'!P30\")=7,\"N/A\",\"\"))","v":""},null,0,"",null,{"$f":"IF(AND(INDIRECT(\"'SPR \"&Lists!P24&\"'!q14\")>1,INDIRECT(\"'SPR \"&Lists!P24&\"'!q14\")<7),INDIRECT(\"'SPR \"&Lists!P24&\"'!q14\")-1,IF(INDIRECT(\"'SPR \"&Lists!P24&\"'!q14\")=7,\"N/A\",\"\"))","v":""},{"$f":"IF(AND(INDIRECT(\"'SPR \"&Lists!P24&\"'!q18\")>1,INDIRECT(\"'SPR \"&Lists!P24&\"'!q18\")<7),INDIRECT(\"'SPR \"&Lists!P24&\"'!q18\")-1,IF(INDIRECT(\"'SPR \"&Lists!P24&\"'!q18\")=7,\"N/A\",\"\"))","v":""},{"$f":"IF(AND(INDIRECT(\"'SPR \"&Lists!P24&\"'!Q22\")>1,INDIRECT(\"'SPR \"&Lists!P24&\"'!Q22\")<7),INDIRECT(\"'SPR \"&Lists!P24&\"'!Q22\")-1,IF(INDIRECT(\"'SPR \"&Lists!P24&\"'!Q22\")=7,\"N/A\",\"\"))","v":""},{"$f":"IF(AND(INDIRECT(\"'SPR \"&Lists!P24&\"'!Q26\")>1,INDIRECT(\"'SPR \"&Lists!P24&\"'!Q26\")<7),INDIRECT(\"'SPR \"&Lists!P24&\"'!Q26\")-1,IF(INDIRECT(\"'SPR \"&Lists!P24&\"'!Q26\")=7,\"N/A\",\"\"))","v":""},{"$f":"IF(AND(INDIRECT(\"'SPR \"&Lists!P24&\"'!Q30\")>1,INDIRECT(\"'SPR \"&Lists!P24&\"'!Q30\")<7),INDIRECT(\"'SPR \"&Lists!P24&\"'!Q30\")-1,IF(INDIRECT(\"'SPR \"&Lists!P24&\"'!Q30\")=7,\"N/A\",\"\"))","v":""},null,0,"",null,{"$f":"IF(INDIRECT(\"'SPR \"&Lists!P24&\"'!P9\")=1,\"High\",IF(INDIRECT(\"'SPR \"&Lists!P24&\"'!P9\")=2,\"Medium\",IF(INDIRECT(\"'SPR \"&Lists!P24&\"'!P9\")=3,\"Low\",\"\")))","v":""},null,{"$f":"IF(INDIRECT(\"'SPR \"&Lists!P24&\"'!P37\")=1,\"No gap\",IF(INDIRECT(\"'SPR \"&Lists!P24&\"'!P37\")=2,\"Entirely the jurisdiction's responsibility\",IF(INDIRECT(\"'SPR \"&Lists!P24&\"'!P37\")=3,\"Mostly the jurisdiction's responsibility\",IF(INDIRECT(\"'SPR \"&Lists!P24&\"'!P37\")=4,\"Mostly higher-level government's responsibility\",IF(INDIRECT(\"'SPR \"&Lists!P24&\"'!P37\")=5,\"Entirely higher-level government's responsibility\",\"\")))))","v":""},null,null,"Operational  Communications","","",null,"Operational  Communications","","",null,"Operational  Communications","","",null,"Operational  Communications","","",null,"Operational  Communications","","",null,"Operational  Communications","",""]
["Response","Public and Private Services and Resources",null,{"$f":"IF(AND(INDIRECT(\"'SPR \"&Lists!P25&\"'!P14\")>1,INDIRECT(\"'SPR \"&Lists!P25&\"'!P14\")<7),INDIRECT(\"'SPR \"&Lists!P25&\"'!P14\")-1,IF(INDIRECT(\"'SPR \"&Lists!P25&\"'!P14\")=7,\"N/A\",\"\"))","v":""},{"$f":"IF(AND(INDIRECT(\"'SPR \"&Lists!P25&\"'!P18\")>1,INDIRECT(\"'SPR \"&Lists!P25&\"'!P18\")<7),INDIRECT(\"'SPR \"&Lists!P25&\"'!P18\")-1,IF(INDIRECT(\"'SPR \"&Lists!P25&\"'!P18\")=7,\"N/A\",\"\"))","v":""},{"$f":"IF(AND(INDIRECT(\"'SPR \"&Lists!P25&\"'!P22\")>1,INDIRECT(\"'SPR \"&Lists!P25&\"'!P22\")<7),INDIRECT(\"'SPR \"&Lists!P25&\"'!P22\")-1,IF(INDIRECT(\"'SPR \"&Lists!P25&\"'!P22\")=7,\"N/A\",\"\"))","v":""},{"$f":"IF(AND(INDIRECT(\"'SPR \"&Lists!P25&\"'!P26\")>1,INDIRECT(\"'SPR \"&Lists!P25&\"'!P26\")<7),INDIRECT(\"'SPR \"&Lists!P25&\"'!P26\")-1,IF(INDIRECT(\"'SPR \"&Lists!P25&\"'!P26\")=7,\"N/A\",\"\"))","v":""},{"$f":"IF(AND(INDIRECT(\"'SPR \"&Lists!P25&\"'!P30\")>1,INDIRECT(\"'SPR \"&Lists!P25&\"'!P30\")<7),INDIRECT(\"'SPR \"&Lists!P25&\"'!P30\")-1,IF(INDIRECT(\"'SPR \"&Lists!P25&\"'!P30\")=7,\"N/A\",\"\"))","v":""},null,0,"",null,{"$f":"IF(AND(INDIRECT(\"'SPR \"&Lists!P25&\"'!q14\")>1,INDIRECT(\"'SPR \"&Lists!P25&\"'!q14\")<7),INDIRECT(\"'SPR \"&Lists!P25&\"'!q14\")-1,IF(INDIRECT(\"'SPR \"&Lists!P25&\"'!q14\")=7,\"N/A\",\"\"))","v":""},{"$f":"IF(AND(INDIRECT(\"'SPR \"&Lists!P25&\"'!q18\")>1,INDIRECT(\"'SPR \"&Lists!P25&\"'!q18\")<7),INDIRECT(\"'SPR \"&Lists!P25&\"'!q18\")-1,IF(INDIRECT(\"'SPR \"&Lists!P25&\"'!q18\")=7,\"N/A\",\"\"))","v":""},{"$f":"IF(AND(INDIRECT(\"'SPR \"&Lists!P25&\"'!Q22\")>1,INDIRECT(\"'SPR \"&Lists!P25&\"'!Q22\")<7),INDIRECT(\"'SPR \"&Lists!P25&\"'!Q22\")-1,IF(INDIRECT(\"'SPR \"&Lists!P25&\"'!Q22\")=7,\"N/A\",\"\"))","v":""},{"$f":"IF(AND(INDIRECT(\"'SPR \"&Lists!P25&\"'!Q26\")>1,INDIRECT(\"'SPR \"&Lists!P25&\"'!Q26\")<7),INDIRECT(\"'SPR \"&Lists!P25&\"'!Q26\")-1,IF(INDIRECT(\"'SPR \"&Lists!P25&\"'!Q26\")=7,\"N/A\",\"\"))","v":""},{"$f":"IF(AND(INDIRECT(\"'SPR \"&Lists!P25&\"'!Q30\")>1,INDIRECT(\"'SPR \"&Lists!P25&\"'!Q30\")<7),INDIRECT(\"'SPR \"&Lists!P25&\"'!Q30\")-1,IF(INDIRECT(\"'SPR \"&Lists!P25&\"'!Q30\")=7,\"N/A\",\"\"))","v":""},null,0,"",null,{"$f":"IF(INDIRECT(\"'SPR \"&Lists!P25&\"'!P9\")=1,\"High\",IF(INDIRECT(\"'SPR \"&Lists!P25&\"'!P9\")=2,\"Medium\",IF(INDIRECT(\"'SPR \"&Lists!P25&\"'!P9\")=3,\"Low\",\"\")))","v":""},null,{"$f":"IF(INDIRECT(\"'SPR \"&Lists!P25&\"'!P37\")=1,\"No gap\",IF(INDIRECT(\"'SPR \"&Lists!P25&\"'!P37\")=2,\"Entirely the jurisdiction's responsibility\",IF(INDIRECT(\"'SPR \"&Lists!P25&\"'!P37\")=3,\"Mostly the jurisdiction's responsibility\",IF(INDIRECT(\"'SPR \"&Lists!P25&\"'!P37\")=4,\"Mostly higher-level government's responsibility\",IF(INDIRECT(\"'SPR \"&Lists!P25&\"'!P37\")=5,\"Entirely higher-level government's responsibility\",\"\")))))","v":""},null,null,"Public and Private Services and Resources","","",null,"Public and Private Services and Resources","","",null,"Public and Private Services and Resources","","",null,"Public and Private Services and Resources","","",null,"Public and Private Services and Resources","","",null,"Public and Private Services and Resources","",""]
["Response","Public Health and Medical Services",null,{"$f":"IF(AND(INDIRECT(\"'SPR \"&Lists!P26&\"'!P14\")>1,INDIRECT(\"'SPR \"&Lists!P26&\"'!P14\")<7),INDIRECT(\"'SPR \"&Lists!P26&\"'!P14\")-1,IF(INDIRECT(\"'SPR \"&Lists!P26&\"'!P14\")=7,\"N/A\",\"\"))","v":""},{"$f":"IF(AND(INDIRECT(\"'SPR \"&Lists!P26&\"'!P18\")>1,INDIRECT(\"'SPR \"&Lists!P26&\"'!P18\")<7),INDIRECT(\"'SPR \"&Lists!P26&\"'!P18\")-1,IF(INDIRECT(\"'SPR \"&Lists!P26&\"'!P18\")=7,\"N/A\",\"\"))","v":""},{"$f":"IF(AND(INDIRECT(\"'SPR \"&Lists!P26&\"'!P22\")>1,INDIRECT(\"'SPR \"&Lists!P26&\"'!P22\")<7),INDIRECT(\"'SPR \"&Lists!P26&\"'!P22\")-1,IF(INDIRECT(\"'SPR \"&Lists!P26&\"'!P22\")=7,\"N/A\",\"\"))","v":""},{"$f":"IF(AND(INDIRECT(\"'SPR \"&Lists!P26&\"'!P26\")>1,INDIRECT(\"'SPR \"&Lists!P26&\"'!P26\")<7),INDIRECT(\"'SPR \"&Lists!P26&\"'!P26\")-1,IF(INDIRECT(\"'SPR \"&Lists!P26&\"'!P26\")=7,\"N/A\",\"\"))","v":""},{"$f":"IF(AND(INDIRECT(\"'SPR \"&Lists!P26&\"'!P30\")>1,INDIRECT(\"'SPR \"&Lists!P26&\"'!P30\")<7),INDIRECT(\"'SPR \"&Lists!P26&\"'!P30\")-1,IF(INDIRECT(\"'SPR \"&Lists!P26&\"'!P30\")=7,\"N/A\",\"\"))","v":""},null,0,"",null,{"$f":"IF(AND(INDIRECT(\"'SPR \"&Lists!P26&\"'!q14\")>1,INDIRECT(\"'SPR \"&Lists!P26&\"'!q14\")<7),INDIRECT(\"'SPR \"&Lists!P26&\"'!q14\")-1,IF(INDIRECT(\"'SPR \"&Lists!P26&\"'!q14\")=7,\"N/A\",\"\"))","v":""},{"$f":"IF(AND(INDIRECT(\"'SPR \"&Lists!P26&\"'!q18\")>1,INDIRECT(\"'SPR \"&Lists!P26&\"'!q18\")<7),INDIRECT(\"'SPR \"&Lists!P26&\"'!q18\")-1,IF(INDIRECT(\"'SPR \"&Lists!P26&\"'!q18\")=7,\"N/A\",\"\"))","v":""},{"$f":"IF(AND(INDIRECT(\"'SPR \"&Lists!P26&\"'!Q22\")>1,INDIRECT(\"'SPR \"&Lists!P26&\"'!Q22\")<7),INDIRECT(\"'SPR \"&Lists!P26&\"'!Q22\")-1,IF(INDIRECT(\"'SPR \"&Lists!P26&\"'!Q22\")=7,\"N/A\",\"\"))","v":""},{"$f":"IF(AND(INDIRECT(\"'SPR \"&Lists!P26&\"'!Q26\")>1,INDIRECT(\"'SPR \"&Lists!P26&\"'!Q26\")<7),INDIRECT(\"'SPR \"&Lists!P26&\"'!Q26\")-1,IF(INDIRECT(\"'SPR \"&Lists!P26&\"'!Q26\")=7,\"N/A\",\"\"))","v":""},{"$f":"IF(AND(INDIRECT(\"'SPR \"&Lists!P26&\"'!Q30\")>1,INDIRECT(\"'SPR \"&Lists!P26&\"'!Q30\")<7),INDIRECT(\"'SPR \"&Lists!P26&\"'!Q30\")-1,IF(INDIRECT(\"'SPR \"&Lists!P26&\"'!Q30\")=7,\"N/A\",\"\"))","v":""},null,0,"",null,{"$f":"IF(INDIRECT(\"'SPR \"&Lists!P26&\"'!P9\")=1,\"High\",IF(INDIRECT(\"'SPR \"&Lists!P26&\"'!P9\")=2,\"Medium\",IF(INDIRECT(\"'SPR \"&Lists!P26&\"'!P9\")=3,\"Low\",\"\")))","v":""},null,{"$f":"IF(INDIRECT(\"'SPR \"&Lists!P26&\"'!P37\")=1,\"No gap\",IF(INDIRECT(\"'SPR \"&Lists!P26&\"'!P37\")=2,\"Entirely the jurisdiction's responsibility\",IF(INDIRECT(\"'SPR \"&Lists!P26&\"'!P37\")=3,\"Mostly the jurisdiction's responsibility\",IF(INDIRECT(\"'SPR \"&Lists!P26&\"'!P37\")=4,\"Mostly higher-level government's responsibility\",IF(INDIRECT(\"'SPR \"&Lists!P26&\"'!P37\")=5,\"Entirely higher-level government's responsibility\",\"\")))))","v":""},null,null,"Public Health and Medical Services","","",null,"Public Health and Medical Services","","",null,"Public Health and Medical Services","","",null,"Public Health and Medical Services","","",null,"Public Health and Medical Services","","",null,"Public Health and Medical Services","",""]
["Response","Situational Assessment",null,{"$f":"IF(AND(INDIRECT(\"'SPR \"&Lists!P27&\"'!P14\")>1,INDIRECT(\"'SPR \"&Lists!P27&\"'!P14\")<7),INDIRECT(\"'SPR \"&Lists!P27&\"'!P14\")-1,IF(INDIRECT(\"'SPR \"&Lists!P27&\"'!P14\")=7,\"N/A\",\"\"))","v":""},{"$f":"IF(AND(INDIRECT(\"'SPR \"&Lists!P27&\"'!P18\")>1,INDIRECT(\"'SPR \"&Lists!P27&\"'!P18\")<7),INDIRECT(\"'SPR \"&Lists!P27&\"'!P18\")-1,IF(INDIRECT(\"'SPR \"&Lists!P27&\"'!P18\")=7,\"N/A\",\"\"))","v":""},{"$f":"IF(AND(INDIRECT(\"'SPR \"&Lists!P27&\"'!P22\")>1,INDIRECT(\"'SPR \"&Lists!P27&\"'!P22\")<7),INDIRECT(\"'SPR \"&Lists!P27&\"'!P22\")-1,IF(INDIRECT(\"'SPR \"&Lists!P27&\"'!P22\")=7,\"N/A\",\"\"))","v":""},{"$f":"IF(AND(INDIRECT(\"'SPR \"&Lists!P27&\"'!P26\")>1,INDIRECT(\"'SPR \"&Lists!P27&\"'!P26\")<7),INDIRECT(\"'SPR \"&Lists!P27&\"'!P26\")-1,IF(INDIRECT(\"'SPR \"&Lists!P27&\"'!P26\")=7,\"N/A\",\"\"))","v":""},{"$f":"IF(AND(INDIRECT(\"'SPR \"&Lists!P27&\"'!P30\")>1,INDIRECT(\"'SPR \"&Lists!P27&\"'!P30\")<7),INDIRECT(\"'SPR \"&Lists!P27&\"'!P30\")-1,IF(INDIRECT(\"'SPR \"&Lists!P27&\"'!P30\")=7,\"N/A\",\"\"))","v":""},null,0,"",null,{"$f":"IF(AND(INDIRECT(\"'SPR \"&Lists!P27&\"'!q14\")>1,INDIRECT(\"'SPR \"&Lists!P27&\"'!q14\")<7),INDIRECT(\"'SPR \"&Lists!P27&\"'!q14\")-1,IF(INDIRECT(\"'SPR \"&Lists!P27&\"'!q14\")=7,\"N/A\",\"\"))","v":""},{"$f":"IF(AND(INDIRECT(\"'SPR \"&Lists!P27&\"'!q18\")>1,INDIRECT(\"'SPR \"&Lists!P27&\"'!q18\")<7),INDIRECT(\"'SPR \"&Lists!P27&\"'!q18\")-1,IF(INDIRECT(\"'SPR \"&Lists!P27&\"'!q18\")=7,\"N/A\",\"\"))","v":""},{"$f":"IF(AND(INDIRECT(\"'SPR \"&Lists!P27&\"'!Q22\")>1,INDIRECT(\"'SPR \"&Lists!P27&\"'!Q22\")<7),INDIRECT(\"'SPR \"&Lists!P27&\"'!Q22\")-1,IF(INDIRECT(\"'SPR \"&Lists!P27&\"'!Q22\")=7,\"N/A\",\"\"))","v":""},{"$f":"IF(AND(INDIRECT(\"'SPR \"&Lists!P27&\"'!Q26\")>1,INDIRECT(\"'SPR \"&Lists!P27&\"'!Q26\")<7),INDIRECT(\"'SPR \"&Lists!P27&\"'!Q26\")-1,IF(INDIRECT(\"'SPR \"&Lists!P27&\"'!Q26\")=7,\"N/A\",\"\"))","v":""},{"$f":"IF(AND(INDIRECT(\"'SPR \"&Lists!P27&\"'!Q30\")>1,INDIRECT(\"'SPR \"&Lists!P27&\"'!Q30\")<7),INDIRECT(\"'SPR \"&Lists!P27&\"'!Q30\")-1,IF(INDIRECT(\"'SPR \"&Lists!P27&\"'!Q30\")=7,\"N/A\",\"\"))","v":""},null,0,"",null,{"$f":"IF(INDIRECT(\"'SPR \"&Lists!P27&\"'!P9\")=1,\"High\",IF(INDIRECT(\"'SPR \"&Lists!P27&\"'!P9\")=2,\"Medium\",IF(INDIRECT(\"'SPR \"&Lists!P27&\"'!P9\")=3,\"Low\",\"\")))","v":""},null,{"$f":"IF(INDIRECT(\"'SPR \"&Lists!P27&\"'!P37\")=1,\"No gap\",IF(INDIRECT(\"'SPR \"&Lists!P27&\"'!P37\")=2,\"Entirely the jurisdiction's responsibility\",IF(INDIRECT(\"'SPR \"&Lists!P27&\"'!P37\")=3,\"Mostly the jurisdiction's responsibility\",IF(INDIRECT(\"'SPR \"&Lists!P27&\"'!P37\")=4,\"Mostly higher-level government's responsibility\",IF(INDIRECT(\"'SPR \"&Lists!P27&\"'!P37\")=5,\"Entirely higher-level government's responsibility\",\"\")))))","v":""},null,null,"Situational Assessment","","",null,"Situational Assessment","","",null,"Situational Assessment","","",null,"Situational Assessment","","",null,"Situational Assessment","","",null,"Situational Assessment","",""]
["Recovery","Economic Recovery",null,{"$f":"IF(AND(INDIRECT(\"'SPR \"&Lists!P28&\"'!P14\")>1,INDIRECT(\"'SPR \"&Lists!P28&\"'!P14\")<7),INDIRECT(\"'SPR \"&Lists!P28&\"'!P14\")-1,IF(INDIRECT(\"'SPR \"&Lists!P28&\"'!P14\")=7,\"N/A\",\"\"))","v":""},{"$f":"IF(AND(INDIRECT(\"'SPR \"&Lists!P28&\"'!P18\")>1,INDIRECT(\"'SPR \"&Lists!P28&\"'!P18\")<7),INDIRECT(\"'SPR \"&Lists!P28&\"'!P18\")-1,IF(INDIRECT(\"'SPR \"&Lists!P28&\"'!P18\")=7,\"N/A\",\"\"))","v":""},{"$f":"IF(AND(INDIRECT(\"'SPR \"&Lists!P28&\"'!P22\")>1,INDIRECT(\"'SPR \"&Lists!P28&\"'!P22\")<7),INDIRECT(\"'SPR \"&Lists!P28&\"'!P22\")-1,IF(INDIRECT(\"'SPR \"&Lists!P28&\"'!P22\")=7,\"N/A\",\"\"))","v":""},{"$f":"IF(AND(INDIRECT(\"'SPR \"&Lists!P28&\"'!P26\")>1,INDIRECT(\"'SPR \"&Lists!P28&\"'!P26\")<7),INDIRECT(\"'SPR \"&Lists!P28&\"'!P26\")-1,IF(INDIRECT(\"'SPR \"&Lists!P28&\"'!P26\")=7,\"N/A\",\"\"))","v":""},{"$f":"IF(AND(INDIRECT(\"'SPR \"&Lists!P28&\"'!P30\")>1,INDIRECT(\"'SPR \"&Lists!P28&\"'!P30\")<7),INDIRECT(\"'SPR \"&Lists!P28&\"'!P30\")-1,IF(INDIRECT(\"'SPR \"&Lists!P28&\"'!P30\")=7,\"N/A\",\"\"))","v":""},null,0,"",null,{"$f":"IF(AND(INDIRECT(\"'SPR \"&Lists!P28&\"'!q14\")>1,INDIRECT(\"'SPR \"&Lists!P28&\"'!q14\")<7),INDIRECT(\"'SPR \"&Lists!P28&\"'!q14\")-1,IF(INDIRECT(\"'SPR \"&Lists!P28&\"'!q14\")=7,\"N/A\",\"\"))","v":""},{"$f":"IF(AND(INDIRECT(\"'SPR \"&Lists!P28&\"'!q18\")>1,INDIRECT(\"'SPR \"&Lists!P28&\"'!q18\")<7),INDIRECT(\"'SPR \"&Lists!P28&\"'!q18\")-1,IF(INDIRECT(\"'SPR \"&Lists!P28&\"'!q18\")=7,\"N/A\",\"\"))","v":""},{"$f":"IF(AND(INDIRECT(\"'SPR \"&Lists!P28&\"'!Q22\")>1,INDIRECT(\"'SPR \"&Lists!P28&\"'!Q22\")<7),INDIRECT(\"'SPR \"&Lists!P28&\"'!Q22\")-1,IF(INDIRECT(\"'SPR \"&Lists!P28&\"'!Q22\")=7,\"N/A\",\"\"))","v":""},{"$f":"IF(AND(INDIRECT(\"'SPR \"&Lists!P28&\"'!Q26\")>1,INDIRECT(\"'SPR \"&Lists!P28&\"'!Q26\")<7),INDIRECT(\"'SPR \"&Lists!P28&\"'!Q26\")-1,IF(INDIRECT(\"'SPR \"&Lists!P28&\"'!Q26\")=7,\"N/A\",\"\"))","v":""},{"$f":"IF(AND(INDIRECT(\"'SPR \"&Lists!P28&\"'!Q30\")>1,INDIRECT(\"'SPR \"&Lists!P28&\"'!Q30\")<7),INDIRECT(\"'SPR \"&Lists!P28&\"'!Q30\")-1,IF(INDIRECT(\"'SPR \"&Lists!P28&\"'!Q30\")=7,\"N/A\",\"\"))","v":""},null,0,"",null,{"$f":"IF(INDIRECT(\"'SPR \"&Lists!P28&\"'!P9\")=1,\"High\",IF(INDIRECT(\"'SPR \"&Lists!P28&\"'!P9\")=2,\"Medium\",IF(INDIRECT(\"'SPR \"&Lists!P28&\"'!P9\")=3,\"Low\",\"\")))","v":""},null,{"$f":"IF(INDIRECT(\"'SPR \"&Lists!P28&\"'!P37\")=1,\"No gap\",IF(INDIRECT(\"'SPR \"&Lists!P28&\"'!P37\")=2,\"Entirely the jurisdiction's responsibility\",IF(INDIRECT(\"'SPR \"&Lists!P28&\"'!P37\")=3,\"Mostly the jurisdiction's responsibility\",IF(INDIRECT(\"'SPR \"&Lists!P28&\"'!P37\")=4,\"Mostly higher-level government's responsibility\",IF(INDIRECT(\"'SPR \"&Lists!P28&\"'!P37\")=5,\"Entirely higher-level government's responsibility\",\"\")))))","v":""},null,null,"Economic Recovery","","",null,"Economic Recovery","","",null,"Economic Recovery","","",null,"Economic Recovery","","",null,"Economic Recovery","","",null,"Economic Recovery","",""]
["Recovery","Health and Social Services",null,{"$f":"IF(AND(INDIRECT(\"'SPR \"&Lists!P29&\"'!P14\")>1,INDIRECT(\"'SPR \"&Lists!P29&\"'!P14\")<7),INDIRECT(\"'SPR \"&Lists!P29&\"'!P14\")-1,IF(INDIRECT(\"'SPR \"&Lists!P29&\"'!P14\")=7,\"N/A\",\"\"))","v":""},{"$f":"IF(AND(INDIRECT(\"'SPR \"&Lists!P29&\"'!P18\")>1,INDIRECT(\"'SPR \"&Lists!P29&\"'!P18\")<7),INDIRECT(\"'SPR \"&Lists!P29&\"'!P18\")-1,IF(INDIRECT(\"'SPR \"&Lists!P29&\"'!P18\")=7,\"N/A\",\"\"))","v":""},{"$f":"IF(AND(INDIRECT(\"'SPR \"&Lists!P29&\"'!P22\")>1,INDIRECT(\"'SPR \"&Lists!P29&\"'!P22\")<7),INDIRECT(\"'SPR \"&Lists!P29&\"'!P22\")-1,IF(INDIRECT(\"'SPR \"&Lists!P29&\"'!P22\")=7,\"N/A\",\"\"))","v":""},{"$f":"IF(AND(INDIRECT(\"'SPR \"&Lists!P29&\"'!P26\")>1,INDIRECT(\"'SPR \"&Lists!P29&\"'!P26\")<7),INDIRECT(\"'SPR \"&Lists!P29&\"'!P26\")-1,IF(INDIRECT(\"'SPR \"&Lists!P29&\"'!P26\")=7,\"N/A\",\"\"))","v":""},{"$f":"IF(AND(INDIRECT(\"'SPR \"&Lists!P29&\"'!P30\")>1,INDIRECT(\"'SPR \"&Lists!P29&\"'!P30\")<7),INDIRECT(\"'SPR \"&Lists!P29&\"'!P30\")-1,IF(INDIRECT(\"'SPR \"&Lists!P29&\"'!P30\")=7,\"N/A\",\"\"))","v":""},null,0,"",null,{"$f":"IF(AND(INDIRECT(\"'SPR \"&Lists!P29&\"'!q14\")>1,INDIRECT(\"'SPR \"&Lists!P29&\"'!q14\")<7),INDIRECT(\"'SPR \"&Lists!P29&\"'!q14\")-1,IF(INDIRECT(\"'SPR \"&Lists!P29&\"'!q14\")=7,\"N/A\",\"\"))","v":""},{"$f":"IF(AND(INDIRECT(\"'SPR \"&Lists!P29&\"'!q18\")>1,INDIRECT(\"'SPR \"&Lists!P29&\"'!q18\")<7),INDIRECT(\"'SPR \"&Lists!P29&\"'!q18\")-1,IF(INDIRECT(\"'SPR \"&Lists!P29&\"'!q18\")=7,\"N/A\",\"\"))","v":""},{"$f":"IF(AND(INDIRECT(\"'SPR \"&Lists!P29&\"'!Q22\")>1,INDIRECT(\"'SPR \"&Lists!P29&\"'!Q22\")<7),INDIRECT(\"'SPR \"&Lists!P29&\"'!Q22\")-1,IF(INDIRECT(\"'SPR \"&Lists!P29&\"'!Q22\")=7,\"N/A\",\"\"))","v":""},{"$f":"IF(AND(INDIRECT(\"'SPR \"&Lists!P29&\"'!Q26\")>1,INDIRECT(\"'SPR \"&Lists!P29&\"'!Q26\")<7),INDIRECT(\"'SPR \"&Lists!P29&\"'!Q26\")-1,IF(INDIRECT(\"'SPR \"&Lists!P29&\"'!Q26\")=7,\"N/A\",\"\"))","v":""},{"$f":"IF(AND(INDIRECT(\"'SPR \"&Lists!P29&\"'!Q30\")>1,INDIRECT(\"'SPR \"&Lists!P29&\"'!Q30\")<7),INDIRECT(\"'SPR \"&Lists!P29&\"'!Q30\")-1,IF(INDIRECT(\"'SPR \"&Lists!P29&\"'!Q30\")=7,\"N/A\",\"\"))","v":""},null,0,"",null,{"$f":"IF(INDIRECT(\"'SPR \"&Lists!P29&\"'!P9\")=1,\"High\",IF(INDIRECT(\"'SPR \"&Lists!P29&\"'!P9\")=2,\"Medium\",IF(INDIRECT(\"'SPR \"&Lists!P29&\"'!P9\")=3,\"Low\",\"\")))","v":""},null,{"$f":"IF(INDIRECT(\"'SPR \"&Lists!P29&\"'!P37\")=1,\"No gap\",IF(INDIRECT(\"'SPR \"&Lists!P29&\"'!P37\")=2,\"Entirely the jurisdiction's responsibility\",IF(INDIRECT(\"'SPR \"&Lists!P29&\"'!P37\")=3,\"Mostly the jurisdiction's responsibility\",IF(INDIRECT(\"'SPR \"&Lists!P29&\"'!P37\")=4,\"Mostly higher-level government's responsibility\",IF(INDIRECT(\"'SPR \"&Lists!P29&\"'!P37\")=5,\"Entirely higher-level government's responsibility\",\"\")))))","v":""},null,null,"Health and Social Services","","",null,"Health and Social Services","","",null,"Health and Social Services","","",null,"Health and Social Services","","",null,"Health and Social Services","","",null,"Health and Social Services","",""]
["Recovery","Housing",null,{"$f":"IF(AND(INDIRECT(\"'SPR \"&Lists!P30&\"'!P14\")>1,INDIRECT(\"'SPR \"&Lists!P30&\"'!P14\")<7),INDIRECT(\"'SPR \"&Lists!P30&\"'!P14\")-1,IF(INDIRECT(\"'SPR \"&Lists!P30&\"'!P14\")=7,\"N/A\",\"\"))","v":""},{"$f":"IF(AND(INDIRECT(\"'SPR \"&Lists!P30&\"'!P18\")>1,INDIRECT(\"'SPR \"&Lists!P30&\"'!P18\")<7),INDIRECT(\"'SPR \"&Lists!P30&\"'!P18\")-1,IF(INDIRECT(\"'SPR \"&Lists!P30&\"'!P18\")=7,\"N/A\",\"\"))","v":""},{"$f":"IF(AND(INDIRECT(\"'SPR \"&Lists!P30&\"'!P22\")>1,INDIRECT(\"'SPR \"&Lists!P30&\"'!P22\")<7),INDIRECT(\"'SPR \"&Lists!P30&\"'!P22\")-1,IF(INDIRECT(\"'SPR \"&Lists!P30&\"'!P22\")=7,\"N/A\",\"\"))","v":""},{"$f":"IF(AND(INDIRECT(\"'SPR \"&Lists!P30&\"'!P26\")>1,INDIRECT(\"'SPR \"&Lists!P30&\"'!P26\")<7),INDIRECT(\"'SPR \"&Lists!P30&\"'!P26\")-1,IF(INDIRECT(\"'SPR \"&Lists!P30&\"'!P26\")=7,\"N/A\",\"\"))","v":""},{"$f":"IF(AND(INDIRECT(\"'SPR \"&Lists!P30&\"'!P30\")>1,INDIRECT(\"'SPR \"&Lists!P30&\"'!P30\")<7),INDIRECT(\"'SPR \"&Lists!P30&\"'!P30\")-1,IF(INDIRECT(\"'SPR \"&Lists!P30&\"'!P30\")=7,\"N/A\",\"\"))","v":""},null,0,"",null,{"$f":"IF(AND(INDIRECT(\"'SPR \"&Lists!P30&\"'!q14\")>1,INDIRECT(\"'SPR \"&Lists!P30&\"'!q14\")<7),INDIRECT(\"'SPR \"&Lists!P30&\"'!q14\")-1,IF(INDIRECT(\"'SPR \"&Lists!P30&\"'!q14\")=7,\"N/A\",\"\"))","v":""},{"$f":"IF(AND(INDIRECT(\"'SPR \"&Lists!P30&\"'!q18\")>1,INDIRECT(\"'SPR \"&Lists!P30&\"'!q18\")<7),INDIRECT(\"'SPR \"&Lists!P30&\"'!q18\")-1,IF(INDIRECT(\"'SPR \"&Lists!P30&\"'!q18\")=7,\"N/A\",\"\"))","v":""},{"$f":"IF(AND(INDIRECT(\"'SPR \"&Lists!P30&\"'!Q22\")>1,INDIRECT(\"'SPR \"&Lists!P30&\"'!Q22\")<7),INDIRECT(\"'SPR \"&Lists!P30&\"'!Q22\")-1,IF(INDIRECT(\"'SPR \"&Lists!P30&\"'!Q22\")=7,\"N/A\",\"\"))","v":""},{"$f":"IF(AND(INDIRECT(\"'SPR \"&Lists!P30&\"'!Q26\")>1,INDIRECT(\"'SPR \"&Lists!P30&\"'!Q26\")<7),INDIRECT(\"'SPR \"&Lists!P30&\"'!Q26\")-1,IF(INDIRECT(\"'SPR \"&Lists!P30&\"'!Q26\")=7,\"N/A\",\"\"))","v":""},{"$f":"IF(AND(INDIRECT(\"'SPR \"&Lists!P30&\"'!Q30\")>1,INDIRECT(\"'SPR \"&Lists!P30&\"'!Q30\")<7),INDIRECT(\"'SPR \"&Lists!P30&\"'!Q30\")-1,IF(INDIRECT(\"'SPR \"&Lists!P30&\"'!Q30\")=7,\"N/A\",\"\"))","v":""},null,0,"",null,{"$f":"IF(INDIRECT(\"'SPR \"&Lists!P30&\"'!P9\")=1,\"High\",IF(INDIRECT(\"'SPR \"&Lists!P30&\"'!P9\")=2,\"Medium\",IF(INDIRECT(\"'SPR \"&Lists!P30&\"'!P9\")=3,\"Low\",\"\")))","v":""},null,{"$f":"IF(INDIRECT(\"'SPR \"&Lists!P30&\"'!P37\")=1,\"No gap\",IF(INDIRECT(\"'SPR \"&Lists!P30&\"'!P37\")=2,\"Entirely the jurisdiction's responsibility\",IF(INDIRECT(\"'SPR \"&Lists!P30&\"'!P37\")=3,\"Mostly the jurisdiction's responsibility\",IF(INDIRECT(\"'SPR \"&Lists!P30&\"'!P37\")=4,\"Mostly higher-level government's responsibility\",IF(INDIRECT(\"'SPR \"&Lists!P30&\"'!P37\")=5,\"Entirely higher-level government's responsibility\",\"\")))))","v":""},null,null,"Housing","","",null,"Housing","","",null,"Housing","","",null,"Housing","","",null,"Housing","","",null,"Housing","",""]
["Recovery","Natural and Cultural Resources",null,{"$f":"IF(AND(INDIRECT(\"'SPR \"&Lists!P31&\"'!P14\")>1,INDIRECT(\"'SPR \"&Lists!P31&\"'!P14\")<7),INDIRECT(\"'SPR \"&Lists!P31&\"'!P14\")-1,IF(INDIRECT(\"'SPR \"&Lists!P31&\"'!P14\")=7,\"N/A\",\"\"))","v":""},{"$f":"IF(AND(INDIRECT(\"'SPR \"&Lists!P31&\"'!P18\")>1,INDIRECT(\"'SPR \"&Lists!P31&\"'!P18\")<7),INDIRECT(\"'SPR \"&Lists!P31&\"'!P18\")-1,IF(INDIRECT(\"'SPR \"&Lists!P31&\"'!P18\")=7,\"N/A\",\"\"))","v":""},{"$f":"IF(AND(INDIRECT(\"'SPR \"&Lists!P31&\"'!P22\")>1,INDIRECT(\"'SPR \"&Lists!P31&\"'!P22\")<7),INDIRECT(\"'SPR \"&Lists!P31&\"'!P22\")-1,IF(INDIRECT(\"'SPR \"&Lists!P31&\"'!P22\")=7,\"N/A\",\"\"))","v":""},{"$f":"IF(AND(INDIRECT(\"'SPR \"&Lists!P31&\"'!P26\")>1,INDIRECT(\"'SPR \"&Lists!P31&\"'!P26\")<7),INDIRECT(\"'SPR \"&Lists!P31&\"'!P26\")-1,IF(INDIRECT(\"'SPR \"&Lists!P31&\"'!P26\")=7,\"N/A\",\"\"))","v":""},{"$f":"IF(AND(INDIRECT(\"'SPR \"&Lists!P31&\"'!P30\")>1,INDIRECT(\"'SPR \"&Lists!P31&\"'!P30\")<7),INDIRECT(\"'SPR \"&Lists!P31&\"'!P30\")-1,IF(INDIRECT(\"'SPR \"&Lists!P31&\"'!P30\")=7,\"N/A\",\"\"))","v":""},null,0,"",null,{"$f":"IF(AND(INDIRECT(\"'SPR \"&Lists!P31&\"'!q14\")>1,INDIRECT(\"'SPR \"&Lists!P31&\"'!q14\")<7),INDIRECT(\"'SPR \"&Lists!P31&\"'!q14\")-1,IF(INDIRECT(\"'SPR \"&Lists!P31&\"'!q14\")=7,\"N/A\",\"\"))","v":""},{"$f":"IF(AND(INDIRECT(\"'SPR \"&Lists!P31&\"'!q18\")>1,INDIRECT(\"'SPR \"&Lists!P31&\"'!q18\")<7),INDIRECT(\"'SPR \"&Lists!P31&\"'!q18\")-1,IF(INDIRECT(\"'SPR \"&Lists!P31&\"'!q18\")=7,\"N/A\",\"\"))","v":""},{"$f":"IF(AND(INDIRECT(\"'SPR \"&Lists!P31&\"'!Q22\")>1,INDIRECT(\"'SPR \"&Lists!P31&\"'!Q22\")<7),INDIRECT(\"'SPR \"&Lists!P31&\"'!Q22\")-1,IF(INDIRECT(\"'SPR \"&Lists!P31&\"'!Q22\")=7,\"N/A\",\"\"))","v":""},{"$f":"IF(AND(INDIRECT(\"'SPR \"&Lists!P31&\"'!Q26\")>1,INDIRECT(\"'SPR \"&Lists!P31&\"'!Q26\")<7),INDIRECT(\"'SPR \"&Lists!P31&\"'!Q26\")-1,IF(INDIRECT(\"'SPR \"&Lists!P31&\"'!Q26\")=7,\"N/A\",\"\"))","v":""},{"$f":"IF(AND(INDIRECT(\"'SPR \"&Lists!P31&\"'!Q30\")>1,INDIRECT(\"'SPR \"&Lists!P31&\"'!Q30\")<7),INDIRECT(\"'SPR \"&Lists!P31&\"'!Q30\")-1,IF(INDIRECT(\"'SPR \"&Lists!P31&\"'!Q30\")=7,\"N/A\",\"\"))","v":""},null,0,"",null,{"$f":"IF(INDIRECT(\"'SPR \"&Lists!P31&\"'!P9\")=1,\"High\",IF(INDIRECT(\"'SPR \"&Lists!P31&\"'!P9\")=2,\"Medium\",IF(INDIRECT(\"'SPR \"&Lists!P31&\"'!P9\")=3,\"Low\",\"\")))","v":""},null,{"$f":"IF(INDIRECT(\"'SPR \"&Lists!P31&\"'!P37\")=1,\"No gap\",IF(INDIRECT(\"'SPR \"&Lists!P31&\"'!P37\")=2,\"Entirely the jurisdiction's responsibility\",IF(INDIRECT(\"'SPR \"&Lists!P31&\"'!P37\")=3,\"Mostly the jurisdiction's responsibility\",IF(INDIRECT(\"'SPR \"&Lists!P31&\"'!P37\")=4,\"Mostly higher-level government's responsibility\",IF(INDIRECT(\"'SPR \"&Lists!P31&\"'!P37\")=5,\"Entirely higher-level government's responsibility\",\"\")))))","v":""},null,null,"Natural and Cultural Resources","","",null,"Natural and Cultural Resources","","",null,"Natural and Cultural Resources","","",null,"Natural and Cultural Resources","","",null,"Natural and Cultural Resources","","",null,"Natural and Cultural Resources","",""]
{"$rows_empty":41}
[null,"POETE Solution Areas"]
[null,"POETE",null,"Internal Capability","Plus Mutual Aid","Plus Mutual Aid"]
[null,"Planning",null,{"$f":"AVERAGE(D5:D35)","v":{"$error":"#DIV/0!"}},{"$f":"AVERAGE(M5:M35)","v":{"$error":"#DIV/0!"}},{"$f":"E79-D79","v":{"$error":"#DIV/0!"}}]
[null,"Organization",null,{"$f":"AVERAGE(E5:E35)","v":{"$error":"#DIV/0!"}},{"$f":"AVERAGE(N5:N35)","v":{"$error":"#DIV/0!"}},{"$f":"E80-D80","v":{"$error":"#DIV/0!"}}]
[null,"Equipment",null,{"$f":"AVERAGE(F5:F35)","v":{"$error":"#DIV/0!"}},{"$f":"AVERAGE(O5:O35)","v":{"$error":"#DIV/0!"}},{"$error":"#DIV/0!"}]
[null,"Training",null,{"$f":"AVERAGE(G5:G35)","v":{"$error":"#DIV/0!"}},{"$f":"AVERAGE(P5:P35)","v":{"$error":"#DIV/0!"}},{"$error":"#DIV/0!"}]
[null,"Exercises",null,{"$f":"AVERAGE(H5:H35)","v":{"$error":"#DIV/0!"}},{"$f":"AVERAGE(Q5:Q35)","v":{"$error":"#DIV/0!"}},{"$f":"E83-D83","v":{"$error":"#DIV/0!"}}]
[]
[]
[]
[]
[]
[null,"POETE",null,"1s","2s","3s","4s","5s",null,"1&2s","3s","4&5s"]
[null,"Planning",null,{"$f":"COUNTIF($D$5:$D$35, \"1\")","v":0},{"$f":"COUNTIF($D$5:$D$35, \"2\")","v":0},{"$f":"COUNTIF($D$5:$D$35, \"3\")","v":0},{"$f":"COUNTIF($D$5:$D$35, \"4\")","v":0},{"$f":"COUNTIF($D$5:$D$35, \"5\")","v":0},null,{"$f":"SUM(D90:E90)","v":0},{"$f":"F90","v":0},{"$f":"SUM(G90:H90)","v":0}]
[null,"Organization",null,{"$f":"COUNTIF(E$5:E$35, \"1\")","v":0},{"$f":"COUNTIF(E$5:E$35, \"2\")","v":0},{"$f":"COUNTIF(E$5:E$35, \"3\")","v":0},{"$f":"COUNTIF(E$5:E$35, \"4\")","v":0},{"$f":"COUNTIF(E$5:E$35, \"5\")","v":0},null,{"$f":"SUM(D91:E91)","v":0},{"$f":"F91","v":0},{"$f":"SUM(G91:H91)","v":0}]
[null,"Equipment",null,{"$f":"COUNTIF($F$5:$F$35, \"1\")","v":0},{"$f":"COUNTIF($F$5:$F$35, \"2\")","v":0},{"$f":"COUNTIF($F$5:$F$35, \"3\")","v":0},{"$f":"COUNTIF($F$5:$F$35, \"4\")","v":0},{"$f":"COUNTIF($F$5:$F$35, \"5\")","v":0},null,0,0,0]
[null,"Training",null,{"$f":"COUNTIF($G$5:$G$35, \"1\")","v":0},{"$f":"COUNTIF($G$5:$G$35, \"2\")","v":0},{"$f":"COUNTIF($G$5:$G$35, \"3\")","v":0},{"$f":"COUNTIF($G$5:$G$35, \"4\")","v":0},{"$f":"COUNTIF($G$5:$G$35, \"5\")","v":0},null,0,0,0]
[null,"Exercises",null,{"$f":"COUNTIF($H$5:$H$35, \"1\")","v":0},{"$f":"COUNTIF($H$5:$H$35, \"2\")","v":0},{"$f":"COUNTIF($H$5:$H$35, \"3\")","v":0},{"$f":"COUNTIF($H$5:$H$35, \"4\")","v":0},{"$f":"COUNTIF($H$5:$H$35, \"5\")","v":0},null,0,0,0]
{"$rows_empty":7}
[null,"Mission Areas"]
[null,"Mission Area",null,"Internal Capability","Plus Mutual Aid","Plus Mutual Aid"]
[null,"Common",null,{"$f":"AVERAGE(D5:H7)","v":{"$error":"#DIV/0!"}},{"$f":"AVERAGE(M5:Q7)","v":{"$error":"#DIV/0!"}},{"$f":"E104-D104","v":{"$error":"#DIV/0!"}}]
[null,"Prevention",null,{"$f":"AVERAGE(D8:H11)","v":{"$error":"#DIV/0!"}},{"$f":"AVERAGE(M8:Q11)","v":{"$error":"#DIV/0!"}},{"$f":"E105-D105","v":{"$error":"#DIV/0!"}}]
[null,"Protection ",null,{"$f":"AVERAGE(D12:H16, D9:H11)","v":{"$error":"#DIV/0!"}},{"$f":"AVERAGE(M12:Q16, M9:Q11)","v":{"$error":"#DIV/0!"}},{"$error":"#DIV/0!"}]
[null,"Mitigation ",null,{"$f":"AVERAGE(D17:H20)","v":{"$error":"#DIV/0!"}},{"$f":"AVERAGE(M17:Q20)","v":{"$error":"#DIV/0!"}},{"$error":"#DIV/0!"}]
[null,"Response",null,{"$f":"AVERAGE(D21:H31)","v":{"$error":"#DIV/0!"}},{"$f":"AVERAGE(M21:Q31)","v":{"$error":"#DIV/0!"}},{"$error":"#DIV/0!"}]
[null,"Recovery",null,{"$f":"AVERAGE(D24:H24,D32:H35)","v":{"$error":"#DIV/0!"}},{"$f":"AVERAGE(M24:Q24,M32:Q35)","v":{"$error":"#DIV/0!"}},{"$error":"#DIV/0!"}]
[]
[]
[]
[]
[]
[null,"Mission Areas"]
[null,"Mission Area",null,"1s","2s","3s","4s","5s",null,"1&2s","3s","4&5s"]
[null,"Common",null,{"$f":"COUNTIF($D$5:$H$7, \"1\")","v":0},{"$f":"COUNTIF($D$5:$H$7, \"2\")","v":0},{"$f":"COUNTIF($D$5:$H$7, \"3\")","v":0},{"$f":"COUNTIF($D$5:$H$7, \"4\")","v":0},{"$f":"COUNTIF($D$5:$H$7, \"5\")","v":0},null,{"$f":"SUM(D117:E117)","v":0},{"$f":"F117","v":0},{"$f":"SUM(G117:H117)","v":0}]
[null,"Prevention",null,{"$f":"COUNTIF($D$8:$H$11, \"1\")","v":0},{"$f":"COUNTIF($D$8:$H$11, \"2\")","v":0},{"$f":"COUNTIF($D$8:$H$11, \"3\")","v":0},{"$f":"COUNTIF($D$8:$H$11, \"4\")","v":0},{"$f":"COUNTIF($D$8:$H$11, \"5\")","v":0},null,{"$f":"SUM(D118:E118)","v":0},{"$f":"F118","v":0},{"$f":"SUM(G118:H118)","v":0}]
[null,"Protection ",null,{"$f":"COUNTIF($D$9:$H$16, \"1\")","v":0},{"$f":"COUNTIF($D$9:$H$16, \"2\")","v":0},{"$f":"COUNTIF($D$9:$H$16, \"3\")","v":0},{"$f":"COUNTIF($D$9:$H$16, \"4\")","v":0},{"$f":"COUNTIF($D$9:$H$16, \"5\")","v":0},null,0,0,0]
[null,"Mitigation ",null,{"$f":"COUNTIF($D$17:$H$20, \"1\")","v":0},{"$f":"COUNTIF($D$17:$H$20, \"2\")","v":0},{"$f":"COUNTIF($D$17:$H$20, \"3\")","v":0},{"$f":"COUNTIF($D$17:$H$20, \"4\")","v":0},{"$f":"COUNTIF($D$17:$H$20, \"5\")","v":0},null,0,0,0]
[null,"Response",null,{"$f":"COUNTIF($D$21:$H$31, \"1\")","v":0},{"$f":"COUNTIF($D$21:$H$31, \"2\")","v":0},{"$f":"COUNTIF($D$21:$H$31, \"3\")","v":0},{"$f":"COUNTIF($D$21:$H$31, \"4\")","v":0},{"$f":"COUNTIF($D$21:$H$31, \"5\")","v":0},null,0,0,0]
[null,"Recovery",null,{"$f":"COUNTIF($D$24:$H$24, \"1\") + COUNTIF($D$32:$H$35, \"1\")","v":0},{"$f":"COUNTIF($D$24:$H$24, \"2\") + COUNTIF($D$32:$H$35, \"2\")","v":0},{"$f":"COUNTIF($D$24:$H$24, \"3\") + COUNTIF($D$32:$H$35, \"3\")","v":0},{"$f":"COUNTIF($D$24:$H$24, \"4\") + COUNTIF($D$32:$H$35, \"4\")","v":0},{"$f":"COUNTIF($D$24:$H$24, \"5\") + COUNTIF($D$32:$H$35, \"5\")","v":0},null,0,0,0]

{"sheet":"Heat Map","index":76,"n_rows":210,"n_cols":53,"rows_kept":210,"hidden":true,"merged":[[1,3,1,16],[1,18,1,31],[1,36,1,52],[4,34,11,34],[12,34,20,34],[21,34,30,34],[31,34,39,34],[40,34,49,34],[50,34,61,34],[62,34,70,34],[71,34,73,34],[74,34,82,34],[83,34,87,34],[88,34,92,34],[93,34,97,34],[98,34,102,34],[103,34,107,34],[108,34,110,34],[111,34,114,34],[115,34,118,34],[119,34,125,34],[126,34,130,34],[131,34,143,34],[144,34,151,34],[152,34,156,34],[157,34,159,34],[160,34,164,34],[165,34,170,34],[171,34,177,34],[178,34,182,34],[183,34,189,34],[190,34,202,34],[203,34,206,34],[207,34,209,34]]}
[]
[1,null,null,"Internal Capability",{"$nulls":14},"Internal Capability with Mutual Aid",{"$nulls":17},"Capability Gaps"]
[]
["Mission Area","Core Capability",null,"2014 Planning","2015 Planning",null,"2014 Organization","2015 Organization",null,"2014 Equipment","2015 Equipment",null,"2014 Training","2015 Training",null,"2014 Exercises","2015 Exercises",null,"2014 Planning","2015 Planning",null,"2014 Organization","2015 Organization",null,"2014 Equipment","2015 Equipment",null,"2014 Training","2015 Training",null,"2014 Exercises","2015 Exercises",null,null,"Core Capability","Capability Gap Functional Area","2014 Planning","2015 Planning",null,"2014 Organization","2015 Organization",null,"2014 Equipment","2015 Equipment",null,"2014 Training","2015 Training",null,"2014 Exercises","2015 Exercises",null,"2014 Total","2015 Total"]
["Common",{"$f":"'Capability Ratings Data'!B5","v":"Planning"},null,null,{"$f":"IF(AND('Capability Ratings Data'!D5>0,'Capability Ratings Data'!D5<>\"N/A\"),'Capability Ratings Data'!D5,\"\")","v":""},null,null,{"$f":"IF(AND('Capability Ratings Data'!E5>0,'Capability Ratings Data'!E5<>\"N/A\"),'Capability Ratings Data'!E5,\"\")","v":""},null,null,{"$f":"IF(AND('Capability Ratings Data'!F5>0,'Capability Ratings Data'!F5<>\"N/A\"),'Capability Ratings Data'!F5,\"\")","v":""},null,null,{"$f":"IF(AND('Capability Ratings Data'!G5>0,'Capability Ratings Data'!G5<>\"N/A\"),'Capability Ratings Data'!G5,\"\")","v":""},null,null,{"$f":"IF(AND('Capability Ratings Data'!H5>0,'Capability Ratings Data'!H5<>\"N/A\"),'Capability Ratings Data'!H5,\"\")","v":""},null,null,{"$f":"IF(AND('Capability Ratings Data'!M5>0,'Capability Ratings Data'!M5<>\"N/A\"),'Capability Ratings Data'!M5,\"\")","v":""},null,null,{"$f":"IF(AND('Capability Ratings Data'!N5>0,'Capability Ratings Data'!N5<>\"N/A\"),'Capability Ratings Data'!N5,\"\")","v":""},null,null,{"$f":"IF(AND('Capability Ratings Data'!O5>0,'Capability Ratings Data'!O5<>\"N/A\"),'Capability Ratings Data'!O5,\"\")","v":""},null,null,{"$f":"IF(AND('Capability Ratings Data'!P5>0,'Capability Ratings Data'!P5<>\"N/A\"),'Capability Ratings Data'!P5,\"\")","v":""},null,null,{"$f":"IF(AND('Capability Ratings Data'!Q5>0,'Capability Ratings Data'!Q5<>\"N/A\"),'Capability Ratings Data'!Q5,\"\")","v":""},null,null,"Planning","Evaluating and updating plans",null,{"$f":"IF('SPR #1 Planning'!$I$15=TRUE, \"X\", \"\")","v":""},null,null,{"$f":"IF('SPR #1 Planning'!$I$19=TRUE, \"X\", \"\")","v":""},null,null,{"$f":"IF('SPR #1 Planning'!$I$23=TRUE, \"X\", \"\")","v":""},null,null,{"$f":"IF('SPR #1 Planning'!$I$27=TRUE, \"X\", \"\")","v":""},null,null,{"$f":"IF('SPR #1 Planning'!$I$31=TRUE, \"X\", \"\")","v":""},null,{"$f":"COUNTIF(AK5, \"X\")+COUNTIF(AN5, \"X\")+COUNTIF(AQ5, \"X\")+COUNTIF(AT5,\"X\")+COUNTIF(AW5, \"X\")","v":0},{"$f":"COUNTIF(AL5, \"X\")+COUNTIF(AO5, \"X\")+COUNTIF(AR5, \"X\")+COUNTIF(AU5,\"X\")+COUNTIF(AX5, \"X\")","v":0}]
["Common",{"$f":"'Capability Ratings Data'!B6","v":"Public Information and Warning"},null,null,{"$f":"IF(AND('Capability Ratings Data'!D6>0,'Capability Ratings Data'!D6<>\"N/A\"),'Capability Ratings Data'!D6,\"\")","v":""},null,null,{"$f":"IF(AND('Capability Ratings Data'!E6>0,'Capability Ratings Data'!E6<>\"N/A\"),'Capability Ratings Data'!E6,\"\")","v":""},null,null,{"$f":"IF(AND('Capability Ratings Data'!F6>0,'Capability Ratings Data'!F6<>\"N/A\"),'Capability Ratings Data'!F6,\"\")","v":""},null,null,{"$f":"IF(AND('Capability Ratings Data'!G6>0,'Capability Ratings Data'!G6<>\"N/A\"),'Capability Ratings Data'!G6,\"\")","v":""},null,null,{"$f":"IF(AND('Capability Ratings Data'!H6>0,'Capability Ratings Data'!H6<>\"N/A\"),'Capability Ratings Data'!H6,\"\")","v":""},null,null,{"$f":"IF(AND('Capability Ratings Data'!M6>0,'Capability Ratings Data'!M6<>\"N/A\"),'Capability Ratings Data'!M6,\"\")","v":""},null,null,{"$f":"IF(AND('Capability Ratings Data'!N6>0,'Capability Ratings Data'!N6<>\"N/A\"),'Capability Ratings Data'!N6,\"\")","v":""},null,null,{"$f":"IF(AND('Capability Ratings Data'!O6>0,'Capability Ratings Data'!O6<>\"N/A\"),'Capability Ratings Data'!O6,\"\")","v":""},null,null,{"$f":"IF(AND('Capability Ratings Data'!P6>0,'Capability Ratings Data'!P6<>\"N/A\"),'Capability Ratings Data'!P6,\"\")","v":""},null,null,{"$f":"IF(AND('Capability Ratings Data'!Q6>0,'Capability Ratings Data'!Q6<>\"N/A\"),'Capability Ratings Data'!Q6,\"\")","v":""},{"$nulls":3},"Including individuals with disabilities or access/functional needs",null,{"$f":"IF('SPR #1 Planning'!$J$15=TRUE, \"X\", \"\")","v":""},null,null,{"$f":"IF('SPR #1 Planning'!$J$19=TRUE, \"X\", \"\")","v":""},null,null,{"$f":"IF('SPR #1 Planning'!$J$23=TRUE, \"X\", \"\")","v":""},null,null,{"$f":"IF('SPR #1 Planning'!$J$27=TRUE, \"X\", \"\")","v":""},null,null,{"$f":"IF('SPR #1 Planning'!$J$31=TRUE, \"X\", \"\")","v":""},null,{"$f":"COUNTIF(AK6, \"X\")+COUNTIF(AN6, \"X\")+COUNTIF(AQ6, \"X\")+COUNTIF(AT6,\"X\")+COUNTIF(AW6, \"X\")","v":0},{"$f":"COUNTIF(AL6, \"X\")+COUNTIF(AO6, \"X\")+COUNTIF(AR6, \"X\")+COUNTIF(AU6,\"X\")+COUNTIF(AX6, \"X\")","v":0}]
["Common",{"$f":"'Capability Ratings Data'!B7","v":"Operational Coordination"},null,null,{"$f":"IF(AND('Capability Ratings Data'!D7>0,'Capability Ratings Data'!D7<>\"N/A\"),'Capability Ratings Data'!D7,\"\")","v":""},null,null,{"$f":"IF(AND('Capability Ratings Data'!E7>0,'Capability Ratings Data'!E7<>\"N/A\"),'Capability Ratings Data'!E7,\"\")","v":""},null,null,{"$f":"IF(AND('Capability Ratings Data'!F7>0,'Capability Ratings Data'!F7<>\"N/A\"),'Capability Ratings Data'!F7,\"\")","v":""},null,null,{"$f":"IF(AND('Capability Ratings Data'!G7>0,'Capability Ratings Data'!G7<>\"N/A\"),'Capability Ratings Data'!G7,\"\")","v":""},null,null,{"$f":"IF(AND('Capability Ratings Data'!H7>0,'Capability Ratings Data'!H7<>\"N/A\"),'Capability Ratings Data'!H7,\"\")","v":""},null,null,{"$f":"IF(AND('Capability Ratings Data'!M7>0,'Capability Ratings Data'!M7<>\"N/A\"),'Capability Ratings Data'!M7,\"\")","v":""},null,null,{"$f":"IF(AND('Capability Ratings Data'!N7>0,'Capability Ratings Data'!N7<>\"N/A\"),'Capability Ratings Data'!N7,\"\")","v":""},null,null,{"$f":"IF(AND('Capability Ratings Data'!O7>0,'Capability Ratings Data'!O7<>\"N/A\"),'Capability Ratings Data'!O7,\"\")","v":""},null,null,{"$f":"IF(AND('Capability Ratings Data'!P7>0,'Capability Ratings Data'!P7<>\"N/A\"),'Capability Ratings Data'!P7,\"\")","v":""},null,null,{"$f":"IF(AND('Capability Ratings Data'!Q7>0,'Capability Ratings Data'!Q7<>\"N/A\"),'Capability Ratings Data'!Q7,\"\")","v":""},{"$nulls":3},"Incorporating risk analyses",null,{"$f":"IF('SPR #1 Planning'!$K$15=TRUE, \"X\", \"\")","v":""},null,null,{"$f":"IF('SPR #1 Planning'!$K$19=TRUE, \"X\", \"\")","v":""},null,null,{"$f":"IF('SPR #1 Planning'!$K$23=TRUE, \"X\", \"\")","v":""},null,null,{"$f":"IF('SPR #1 Planning'!$K$27=TRUE, \"X\", \"\")","v":""},null,null,{"$f":"IF('SPR #1 Planning'!$K$31=TRUE, \"X\", \"\")","v":""},null,0,0]
["Prevention",{"$f":"'Capability Ratings Data'!B8","v":"Forensics and Attribution"},null,null,{"$f":"IF(AND('Capability Ratings Data'!D8>0,'Capability Ratings Data'!D8<>\"N/A\"),'Capability Ratings Data'!D8,\"\")","v":""},null,null,{"$f":"IF(AND('Capability Ratings Data'!E8>0,'Capability Ratings Data'!E8<>\"N/A\"),'Capability Ratings Data'!E8,\"\")","v":""},null,null,{"$f":"IF(AND('Capability Ratings Data'!F8>0,'Capability Ratings Data'!F8<>\"N/A\"),'Capability Ratings Data'!F8,\"\")","v":""},null,null,{"$f":"IF(AND('Capability Ratings Data'!G8>0,'Capability Ratings Data'!G8<>\"N/A\"),'Capability Ratings Data'!G8,\"\")","v":""},null,null,{"$f":"IF(AND('Capability Ratings Data'!H8>0,'Capability Ratings Data'!H8<>\"N/A\"),'Capability Ratings Data'!H8,\"\")","v":""},null,null,{"$f":"IF(AND('Capability Ratings Data'!M8>0,'Capability Ratings Data'!M8<>\"N/A\"),'Capability Ratings Data'!M8,\"\")","v":""},null,null,{"$f":"IF(AND('Capability Ratings Data'!N8>0,'Capability Ratings Data'!N8<>\"N/A\"),'Capability Ratings Data'!N8,\"\")","v":""},null,null,{"$f":"IF(AND('Capability Ratings Data'!O8>0,'Capability Ratings Data'!O8<>\"N/A\"),'Capability Ratings Data'!O8,\"\")","v":""},null,null,{"$f":"IF(AND('Capability Ratings Data'!P8>0,'Capability Ratings Data'!P8<>\"N/A\"),'Capability Ratings Data'!P8,\"\")","v":""},null,null,{"$f":"IF(AND('Capability Ratings Data'!Q8>0,'Capability Ratings Data'!Q8<>\"N/A\"),'Capability Ratings Data'!Q8,\"\")","v":""},{"$nulls":3},"Integrating different plans",null,{"$f":"IF('SPR #1 Planning'!$L$15=TRUE, \"X\", \"\")","v":""},null,null,{"$f":"IF('SPR #1 Planning'!$L$19=TRUE, \"X\", \"\")","v":""},null,null,{"$f":"IF('SPR #1 Planning'!$L$23=TRUE, \"X\", \"\")","v":""},null,null,{"$f":"IF('SPR #1 Planning'!$L$27=TRUE, \"X\", \"\")","v":""},null,null,{"$f":"IF('SPR #1 Planning'!$L$31=TRUE, \"X\", \"\")","v":""},null,0,0]
["Prevention/Protection",{"$f":"'Capability Ratings Data'!B9","v":"Intelligence and Information Sharing"},null,null,{"$f":"IF(AND('Capability Ratings Data'!D9>0,'Capability Ratings Data'!D9<>\"N/A\"),'Capability Ratings Data'!D9,\"\")","v":""},null,null,{"$f":"IF(AND('Capability Ratings Data'!E9>0,'Capability Ratings Data'!E9<>\"N/A\"),'Capability Ratings Data'!E9,\"\")","v":""},null,null,{"$f":"IF(AND('Capability Ratings Data'!F9>0,'Capability Ratings Data'!F9<>\"N/A\"),'Capability Ratings Data'!F9,\"\")","v":""},null,null,{"$f":"IF(AND('Capability Ratings Data'!G9>0,'Capability Ratings Data'!G9<>\"N/A\"),'Capability Ratings Data'!G9,\"\")","v":""},null,null,{"$f":"IF(AND('Capability Ratings Data'!H9>0,'Capability Ratings Data'!H9<>\"N/A\"),'Capability Ratings Data'!H9,\"\")","v":""},null,null,{"$f":"IF(AND('Capability Ratings Data'!M9>0,'Capability Ratings Data'!M9<>\"N/A\"),'Capability Ratings Data'!M9,\"\")","v":""},null,null,{"$f":"IF(AND('Capability Ratings Data'!N9>0,'Capability Ratings Data'!N9<>\"N/A\"),'Capability Ratings Data'!N9,\"\")","v":""},null,null,{"$f":"IF(AND('Capability Ratings Data'!O9>0,'Capability Ratings Data'!O9<>\"N/A\"),'Capability Ratings Data'!O9,\"\")","v":""},null,null,{"$f":"IF(AND('Capability Ratings Data'!P9>0,'Capability Ratings Data'!P9<>\"N/A\"),'Capability Ratings Data'!P9,\"\")","v":""},null,null,{"$f":"IF(AND('Capability Ratings Data'!Q9>0,'Capability Ratings Data'!Q9<>\"N/A\"),'Capability Ratings Data'!Q9,\"\")","v":""},{"$nulls":3},"Operational planning",null,{"$f":"IF('SPR #1 Planning'!$M$15=TRUE, \"X\", \"\")","v":""},null,null,{"$f":"IF('SPR #1 Planning'!$M$19=TRUE, \"X\", \"\")","v":""},null,null,{"$f":"IF('SPR #1 Planning'!$M$23=TRUE, \"X\", \"\")","v":""},null,null,{"$f":"IF('SPR #1 Planning'!$M$27=TRUE, \"X\", \"\")","v":""},null,null,{"$f":"IF('SPR #1 Planning'!$M$31=TRUE, \"X\", \"\")","v":""},null,0,0]
["Prevention/Protection",{"$f":"'Capability Ratings Data'!B10","v":"Interdiction and Disruption"},null,null,{"$f":"IF(AND('Capability Ratings Data'!D10>0,'Capability Ratings Data'!D10<>\"N/A\"),'Capability Ratings Data'!D10,\"\")","v":""},null,null,{"$f":"IF(AND('Capability Ratings Data'!E10>0,'Capability Ratings Data'!E10<>\"N/A\"),'Capability Ratings Data'!E10,\"\")","v":""},null,null,{"$f":"IF(AND('Capability Ratings Data'!F10>0,'Capability Ratings Data'!F10<>\"N/A\"),'Capability Ratings Data'!F10,\"\")","v":""},null,null,{"$f":"IF(AND('Capability Ratings Data'!G10>0,'Capability Ratings Data'!G10<>\"N/A\"),'Capability Ratings Data'!G10,\"\")","v":""},null,null,{"$f":"IF(AND('Capability Ratings Data'!H10>0,'Capability Ratings Data'!H10<>\"N/A\"),'Capability Ratings Data'!H10,\"\")","v":""},null,null,{"$f":"IF(AND('Capability Ratings Data'!M10>0,'Capability Ratings Data'!M10<>\"N/A\"),'Capability Ratings Data'!M10,\"\")","v":""},null,null,{"$f":"IF(AND('Capability Ratings Data'!N10>0,'Capability Ratings Data'!N10<>\"N/A\"),'Capability Ratings Data'!N10,\"\")","v":""},null,null,{"$f":"IF(AND('Capability Ratings Data'!O10>0,'Capability Ratings Data'!O10<>\"N/A\"),'Capability Ratings Data'!O10,\"\")","v":""},null,null,{"$f":"IF(AND('Capability Ratings Data'!P10>0,'Capability Ratings Data'!P10<>\"N/A\"),'Capability Ratings Data'!P10,\"\")","v":""},null,null,{"$f":"IF(AND('Capability Ratings Data'!Q10>0,'Capability Ratings Data'!Q10<>\"N/A\"),'Capability Ratings Data'!Q10,\"\")","v":""},{"$nulls":3},"Pre-incident planning",null,{"$f":"IF('SPR #1 Planning'!$N$15=TRUE, \"X\", \"\")","v":""},null,null,{"$f":"IF('SPR #1 Planning'!$N$19=TRUE, \"X\", \"\")","v":""},null,null,{"$f":"IF('SPR #1 Planning'!$N$23=TRUE, \"X\", \"\")","v":""},null,null,{"$f":"IF('SPR #1 Planning'!$N$27=TRUE, \"X\", \"\")","v":""},null,null,{"$f":"IF('SPR #1 Planning'!$N$31=TRUE, \"X\", \"\")","v":""},null,0,0]
["Prevention/Protection",{"$f":"'Capability Ratings Data'!B11","v":"Screening, Search, and Detection "},null,null,{"$f":"IF(AND('Capability Ratings Data'!D11>0,'Capability Ratings Data'!D11<>\"N/A\"),'Capability Ratings Data'!D11,\"\")","v":""},null,null,{"$f":"IF(AND('Capability Ratings Data'!E11>0,'Capability Ratings Data'!E11<>\"N/A\"),'Capability Ratings Data'!E11,\"\")","v":""},null,null,{"$f":"IF(AND('Capability Ratings Data'!F11>0,'Capability Ratings Data'!F11<>\"N/A\"),'Capability Ratings Data'!F11,\"\")","v":""},null,null,{"$f":"IF(AND('Capability Ratings Data'!G11>0,'Capability Ratings Data'!G11<>\"N/A\"),'Capability Ratings Data'!G11,\"\")","v":""},null,null,{"$f":"IF(AND('Capability Ratings Data'!H11>0,'Capability Ratings Data'!H11<>\"N/A\"),'Capability Ratings Data'!H11,\"\")","v":""},null,null,{"$f":"IF(AND('Capability Ratings Data'!M11>0,'Capability Ratings Data'!M11<>\"N/A\"),'Capability Ratings Data'!M11,\"\")","v":""},null,null,{"$f":"IF(AND('Capability Ratings Data'!N11>0,'Capability Ratings Data'!N11<>\"N/A\"),'Capability Ratings Data'!N11,\"\")","v":""},null,null,{"$f":"IF(AND('Capability Ratings Data'!O11>0,'Capability Ratings Data'!O11<>\"N/A\"),'Capability Ratings Data'!O11,\"\")","v":""},null,null,{"$f":"IF(AND('Capability Ratings Data'!P11>0,'Capability Ratings Data'!P11<>\"N/A\"),'Capability Ratings Data'!P11,\"\")","v":""},null,null,{"$f":"IF(AND('Capability Ratings Data'!Q11>0,'Capability Ratings Data'!Q11<>\"N/A\"),'Capability Ratings Data'!Q11,\"\")","v":""},{"$nulls":3},"Strategic planning",null,{"$f":"IF('SPR #1 Planning'!$O$15=TRUE, \"X\", \"\")","v":""},null,null,{"$f":"IF('SPR #1 Planning'!$O$19=TRUE, \"X\", \"\")","v":""},null,null,{"$f":"IF('SPR #1 Planning'!$O$23=TRUE, \"X\", \"\")","v":""},null,null,{"$f":"IF('SPR #1 Planning'!$O$27=TRUE, \"X\", \"\")","v":""},null,null,{"$f":"IF('SPR #1 Planning'!$O$31=TRUE, \"X\", \"\")","v":""},null,0,0]
["Protection",{"$f":"'Capability Ratings Data'!B12","v":"Access Control and Identity Verification"},null,null,{"$f":"IF(AND('Capability Ratings Data'!D12>0,'Capability Ratings Data'!D12<>\"N/A\"),'Capability Ratings Data'!D12,\"\")","v":""},null,null,{"$f":"IF(AND('Capability Ratings Data'!E12>0,'Capability Ratings Data'!E12<>\"N/A\"),'Capability Ratings Data'!E12,\"\")","v":""},null,null,{"$f":"IF(AND('Capability Ratings Data'!F12>0,'Capability Ratings Data'!F12<>\"N/A\"),'Capability Ratings Data'!F12,\"\")","v":""},null,null,{"$f":"IF(AND('Capability Ratings Data'!G12>0,'Capability Ratings Data'!G12<>\"N/A\"),'Capability Ratings Data'!G12,\"\")","v":""},null,null,{"$f":"IF(AND('Capability Ratings Data'!H12>0,'Capability Ratings Data'!H12<>\"N/A\"),'Capability Ratings Data'!H12,\"\")","v":""},null,null,{"$f":"IF(AND('Capability Ratings Data'!M12>0,'Capability Ratings Data'!M12<>\"N/A\"),'Capability Ratings Data'!M12,\"\")","v":""},null,null,{"$f":"IF(AND('Capability Ratings Data'!N12>0,'Capability Ratings Data'!N12<>\"N/A\"),'Capability Ratings Data'!N12,\"\")","v":""},null,null,{"$f":"IF(AND('Capability Ratings Data'!O12>0,'Capability Ratings Data'!O12<>\"N/A\"),'Capability Ratings Data'!O12,\"\")","v":""},null,null,{"$f":"IF(AND('Capability Ratings Data'!P12>0,'Capability Ratings Data'!P12<>\"N/A\"),'Capability Ratings Data'!P12,\"\")","v":""},null,null,{"$f":"IF(AND('Capability Ratings Data'!Q12>0,'Capability Ratings Data'!Q12<>\"N/A\"),'Capability Ratings Data'!Q12,\"\")","v":""},{"$nulls":3},"Whole community involvement and coordination",null,{"$f":"IF('SPR #1 Planning'!$P$15=TRUE, \"X\", \"\")","v":""},null,null,{"$f":"IF('SPR #1 Planning'!$P$19=TRUE, \"X\", \"\")","v":""},null,null,{"$f":"IF('SPR #1 Planning'!$P$23=TRUE, \"X\", \"\")","v":""},null,null,{"$f":"IF('SPR #1 Planning'!$P$27=TRUE, \"X\", \"\")","v":""},null,null,{"$f":"IF('SPR #1 Planning'!$P$31=TRUE, \"X\", \"\")","v":""},null,0,0]
["Protection",{"$f":"'Capability Ratings Data'!B13","v":"Cybersecurity"},null,null,{"$f":"IF(AND('Capability Ratings Data'!D13>0,'Capability Ratings Data'!D13<>\"N/A\"),'Capability Ratings Data'!D13,\"\")","v":""},null,null,{"$f":"IF(AND('Capability Ratings Data'!E13>0,'Capability Ratings Data'!E13<>\"N/A\"),'Capability Ratings Data'!E13,\"\")","v":""},null,null,{"$f":"IF(AND('Capability Ratings Data'!F13>0,'Capability Ratings Data'!F13<>\"N/A\"),'Capability Ratings Data'!F13,\"\")","v":""},null,null,{"$f":"IF(AND('Capability Ratings Data'!G13>0,'Capability Ratings Data'!G13<>\"N/A\"),'Capability Ratings Data'!G13,\"\")","v":""},null,null,{"$f":"IF(AND('Capability Ratings Data'!H13>0,'Capability Ratings Data'!H13<>\"N/A\"),'Capability Ratings Data'!H13,\"\")","v":""},null,null,{"$f":"IF(AND('Capability Ratings Data'!M13>0,'Capability Ratings Data'!M13<>\"N/A\"),'Capability Ratings Data'!M13,\"\")","v":""},null,null,{"$f":"IF(AND('Capability Ratings Data'!N13>0,'Capability Ratings Data'!N13<>\"N/A\"),'Capability Ratings Data'!N13,\"\")","v":""},null,null,{"$f":"IF(AND('Capability Ratings Data'!O13>0,'Capability Ratings Data'!O13<>\"N/A\"),'Capability Ratings Data'!O13,\"\")","v":""},null,null,{"$f":"IF(AND('Capability Ratings Data'!P13>0,'Capability Ratings Data'!P13<>\"N/A\"),'Capability Ratings Data'!P13,\"\")","v":""},null,null,{"$f":"IF(AND('Capability Ratings Data'!Q13>0,'Capability Ratings Data'!Q13<>\"N/A\"),'Capability Ratings Data'!Q13,\"\")","v":""},null,null,"Public Information and Warning","Alerts and warnings",null,{"$f":"IF('SPR #2 Public Info Warn'!$I$15=TRUE, \"X\", \"\")","v":""},null,null,{"$f":"IF('SPR #2 Public Info Warn'!$I$19=TRUE, \"X\", \"\")","v":""},null,null,{"$f":"IF('SPR #2 Public Info Warn'!$I$23=TRUE, \"X\", \"\")","v":""},null,null,{"$f":"IF('SPR #2 Public Info Warn'!$I$27=TRUE, \"X\", \"\")","v":""},null,null,{"$f":"IF('SPR #2 Public Info Warn'!$I$31=TRUE, \"X\", \"\")","v":""},null,0,0]
["Protection",{"$f":"'Capability Ratings Data'!B14","v":"Physical Protective Measures"},null,null,{"$f":"IF(AND('Capability Ratings Data'!D14>0,'Capability Ratings Data'!D14<>\"N/A\"),'Capability Ratings Data'!D14,\"\")","v":""},null,null,{"$f":"IF(AND('Capability Ratings Data'!E14>0,'Capability Ratings Data'!E14<>\"N/A\"),'Capability Ratings Data'!E14,\"\")","v":""},null,null,{"$f":"IF(AND('Capability Ratings Data'!F14>0,'Capability Ratings Data'!F14<>\"N/A\"),'Capability Ratings Data'!F14,\"\")","v":""},null,null,{"$f":"IF(AND('Capability Ratings Data'!G14>0,'Capability Ratings Data'!G14<>\"N/A\"),'Capability Ratings Data'!G14,\"\")","v":""},null,null,{"$f":"IF(AND('Capability Ratings Data'!H14>0,'Capability Ratings Data'!H14<>\"N/A\"),'Capability Ratings Data'!H14,\"\")","v":""},null,null,{"$f":"IF(AND('Capability Ratings Data'!M14>0,'Capability Ratings Data'!M14<>\"N/A\"),'Capability Ratings Data'!M14,\"\")","v":""},null,null,{"$f":"IF(AND('Capability Ratings Data'!N14>0,'Capability Ratings Data'!N14<>\"N/A\"),'Capability Ratings Data'!N14,\"\")","v":""},null,null,{"$f":"IF(AND('Capability Ratings Data'!O14>0,'Capability Ratings Data'!O14<>\"N/A\"),'Capability Ratings Data'!O14,\"\")","v":""},null,null,{"$f":"IF(AND('Capability Ratings Data'!P14>0,'Capability Ratings Data'!P14<>\"N/A\"),'Capability Ratings Data'!P14,\"\")","v":""},null,null,{"$f":"IF(AND('Capability Ratings Data'!Q14>0,'Capability Ratings Data'!Q14<>\"N/A\"),'Capability Ratings Data'!Q14,\"\")","v":""},{"$nulls":3},"Culturally and linguistically appropriate messaging",null,{"$f":"IF('SPR #2 Public Info Warn'!$J$15=TRUE, \"X\", \"\")","v":""},null,null,{"$f":"IF('SPR #2 Public Info Warn'!$J$19=TRUE, \"X\", \"\")","v":""},null,null,{"$f":"IF('SPR #2 Public Info Warn'!$J$23=TRUE, \"X\", \"\")","v":""},null,null,{"$f":"IF('SPR #2 Public Info Warn'!$J$27=TRUE, \"X\", \"\")","v":""},null,null,{"$f":"IF('SPR #2 Public Info Warn'!$J$31=TRUE, \"X\", \"\")","v":""},null,0,0]
["Protection",{"$f":"'Capability Ratings Data'!B15","v":"Risk Management for Protection Programs and Activities"},null,null,{"$f":"IF(AND('Capability Ratings Data'!D15>0,'Capability Ratings Data'!D15<>\"N/A\"),'Capability Ratings Data'!D15,\"\")","v":""},null,null,{"$f":"IF(AND('Capability Ratings Data'!E15>0,'Capability Ratings Data'!E15<>\"N/A\"),'Capability Ratings Data'!E15,\"\")","v":""},null,null,{"$f":"IF(AND('Capability Ratings Data'!F15>0,'Capability Ratings Data'!F15<>\"N/A\"),'Capability Ratings Data'!F15,\"\")","v":""},null,null,{"$f":"IF(AND('Capability Ratings Data'!G15>0,'Capability Ratings Data'!G15<>\"N/A\"),'Capability Ratings Data'!G15,\"\")","v":""},null,null,{"$f":"IF(AND('Capability Ratings Data'!H15>0,'Capability Ratings Data'!H15<>\"N/A\"),'Capability Ratings Data'!H15,\"\")","v":""},null,null,{"$f":"IF(AND('Capability Ratings Data'!M15>0,'Capability Ratings Data'!M15<>\"N/A\"),'Capability Ratings Data'!M15,\"\")","v":""},null,null,{"$f":"IF(AND('Capability Ratings Data'!N15>0,'Capability Ratings Data'!N15<>\"N/A\"),'Capability Ratings Data'!N15,\"\")","v":""},null,null,{"$f":"IF(AND('Capability Ratings Data'!O15>0,'Capability Ratings Data'!O15<>\"N/A\"),'Capability Ratings Data'!O15,\"\")","v":""},null,null,{"$f":"IF(AND('Capability Ratings Data'!P15>0,'Capability Ratings Data'!P15<>\"N/A\"),'Capability Ratings Data'!P15,\"\")","v":""},null,null,{"$f":"IF(AND('Capability Ratings Data'!Q15>0,'Capability Ratings Data'!Q15<>\"N/A\"),'Capability Ratings Data'!Q15,\"\")","v":""},{"$nulls":3},"Delivering actionable guidance",null,{"$f":"IF('SPR #2 Public Info Warn'!$K$15=TRUE, \"X\", \"\")","v":""},null,null,{"$f":"IF('SPR #2 Public Info Warn'!$K$19=TRUE, \"X\", \"\")","v":""},null,null,{"$f":"IF('SPR #2 Public Info Warn'!$K$23=TRUE, \"X\", \"\")","v":""},null,null,{"$f":"IF('SPR #2 Public Info Warn'!$K$27=TRUE, \"X\", \"\")","v":""},null,null,{"$f":"IF('SPR #2 Public Info Warn'!$K$31=TRUE, \"X\", \"\")","v":""},null,0,0]
["Protection",{"$f":"'Capability Ratings Data'!B16","v":"Supply Chain Integrity and Security"},null,null,{"$f":"IF(AND('Capability Ratings Data'!D16>0,'Capability Ratings Data'!D16<>\"N/A\"),'Capability Ratings Data'!D16,\"\")","v":""},null,null,{"$f":"IF(AND('Capability Ratings Data'!E16>0,'Capability Ratings Data'!E16<>\"N/A\"),'Capability Ratings Data'!E16,\"\")","v":""},null,null,{"$f":"IF(AND('Capability Ratings Data'!F16>0,'Capability Ratings Data'!F16<>\"N/A\"),'Capability Ratings Data'!F16,\"\")","v":""},null,null,{"$f":"IF(AND('Capability Ratings Data'!G16>0,'Capability Ratings Data'!G16<>\"N/A\"),'Capability Ratings Data'!G16,\"\")","v":""},null,null,{"$f":"IF(AND('Capability Ratings Data'!H16>0,'Capability Ratings Data'!H16<>\"N/A\"),'Capability Ratings Data'!H16,\"\")","v":""},null,null,{"$f":"IF(AND('Capability Ratings Data'!M16>0,'Capability Ratings Data'!M16<>\"N/A\"),'Capability Ratings Data'!M16,\"\")","v":""},null,null,{"$f":"IF(AND('Capability Ratings Data'!N16>0,'Capability Ratings Data'!N16<>\"N/A\"),'Capability Ratings Data'!N16,\"\")","v":""},null,null,{"$f":"IF(AND('Capability Ratings Data'!O16>0,'Capability Ratings Data'!O16<>\"N/A\"),'Capability Ratings Data'!O16,\"\")","v":""},null,null,{"$f":"IF(AND('Capability Ratings Data'!P16>0,'Capability Ratings Data'!P16<>\"N/A\"),'Capability Ratings Data'!P16,\"\")","v":""},null,null,{"$f":"IF(AND('Capability Ratings Data'!Q16>0,'Capability Ratings Data'!Q16<>\"N/A\"),'Capability Ratings Data'!Q16,\"\")","v":""},{"$nulls":3},"Developing standard operating procedures for public information",null,{"$f":"IF('SPR #2 Public Info Warn'!$L$15=TRUE, \"X\", \"\")","v":""},null,null,{"$f":"IF('SPR #2 Public Info Warn'!$L$19=TRUE, \"X\", \"\")","v":""},null,null,{"$f":"IF('SPR #2 Public Info Warn'!$L$23=TRUE, \"X\", \"\")","v":""},null,null,{"$f":"IF('SPR #2 Public Info Warn'!$L$27=TRUE, \"X\", \"\")","v":""},null,null,{"$f":"IF('SPR #2 Public Info Warn'!$L$31=TRUE, \"X\", \"\")","v":""},null,0,0]
["Mitigation",{"$f":"'Capability Ratings Data'!B17","v":"Community Resilience"},null,null,{"$f":"IF(AND('Capability Ratings Data'!D17>0,'Capability Ratings Data'!D17<>\"N/A\"),'Capability Ratings Data'!D17,\"\")","v":""},null,null,{"$f":"IF(AND('Capability Ratings Data'!E17>0,'Capability Ratings Data'!E17<>\"N/A\"),'Capability Ratings Data'!E17,\"\")","v":""},null,null,{"$f":"IF(AND('Capability Ratings Data'!F17>0,'Capability Ratings Data'!F17<>\"N/A\"),'Capability Ratings Data'!F17,\"\")","v":""},null,null,{"$f":"IF(AND('Capability Ratings Data'!G17>0,'Capability Ratings Data'!G17<>\"N/A\"),'Capability Ratings Data'!G17,\"\")","v":""},null,null,{"$f":"IF(AND('Capability Ratings Data'!H17>0,'Capability Ratings Data'!H17<>\"N/A\"),'Capability Ratings Data'!H17,\"\")","v":""},null,null,{"$f":"IF(AND('Capability Ratings Data'!M17>0,'Capability Ratings Data'!M17<>\"N/A\"),'Capability Ratings Data'!M17,\"\")","v":""},null,null,{"$f":"IF(AND('Capability Ratings Data'!N17>0,'Capability Ratings Data'!N17<>\"N/A\"),'Capability Ratings Data'!N17,\"\")","v":""},null,null,{"$f":"IF(AND('Capability Ratings Data'!O17>0,'Capability Ratings Data'!O17<>\"N/A\"),'Capability Ratings Data'!O17,\"\")","v":""},null,null,{"$f":"IF(AND('Capability Ratings Data'!P17>0,'Capability Ratings Data'!P17<>\"N/A\"),'Capability Ratings Data'!P17,\"\")","v":""},null,null,{"$f":"IF(AND('Capability Ratings Data'!Q17>0,'Capability Ratings Data'!Q17<>\"N/A\"),'Capability Ratings Data'!Q17,\"\")","v":""},{"$nulls":3},"Inclusiveness of the entire public",null,{"$f":"IF('SPR #2 Public Info Warn'!$M$15=TRUE, \"X\", \"\")","v":""},null,null,{"$f":"IF('SPR #2 Public Info Warn'!$M$19=TRUE, \"X\", \"\")","v":""},null,null,{"$f":"IF('SPR #2 Public Info Warn'!$M$23=TRUE, \"X\", \"\")","v":""},null,null,{"$f":"IF('SPR #2 Public Info Warn'!$M$27=TRUE, \"X\", \"\")","v":""},null,null,{"$f":"IF('SPR #2 Public Info Warn'!$M$31=TRUE, \"X\", \"\")","v":""},null,0,0]
["Mitigation",{"$f":"'Capability Ratings Data'!B18","v":"Long-term Vulnerability Reduction"},null,null,{"$f":"IF(AND('Capability Ratings Data'!D18>0,'Capability Ratings Data'!D18<>\"N/A\"),'Capability Ratings Data'!D18,\"\")","v":""},null,null,{"$f":"IF(AND('Capability Ratings Data'!E18>0,'Capability Ratings Data'!E18<>\"N/A\"),'Capability Ratings Data'!E18,\"\")","v":""},null,null,{"$f":"IF(AND('Capability Ratings Data'!F18>0,'Capability Ratings Data'!F18<>\"N/A\"),'Capability Ratings Data'!F18,\"\")","v":""},null,null,{"$f":"IF(AND('Capability Ratings Data'!G18>0,'Capability Ratings Data'!G18<>\"N/A\"),'Capability Ratings Data'!G18,\"\")","v":""},null,null,{"$f":"IF(AND('Capability Ratings Data'!H18>0,'Capability Ratings Data'!H18<>\"N/A\"),'Capability Ratings Data'!H18,\"\")","v":""},null,null,{"$f":"IF(AND('Capability Ratings Data'!M18>0,'Capability Ratings Data'!M18<>\"N/A\"),'Capability Ratings Data'!M18,\"\")","v":""},null,null,{"$f":"IF(AND('Capability Ratings Data'!N18>0,'Capability Ratings Data'!N18<>\"N/A\"),'Capability Ratings Data'!N18,\"\")","v":""},null,null,{"$f":"IF(AND('Capability Ratings Data'!O18>0,'Capability Ratings Data'!O18<>\"N/A\"),'Capability Ratings Data'!O18,\"\")","v":""},null,null,{"$f":"IF(AND('Capability Ratings Data'!P18>0,'Capability Ratings Data'!P18<>\"N/A\"),'Capability Ratings Data'!P18,\"\")","v":""},null,null,{"$f":"IF(AND('Capability Ratings Data'!Q18>0,'Capability Ratings Data'!Q18<>\"N/A\"),'Capability Ratings Data'!Q18,\"\")","v":""},{"$nulls":3},"New communications tools and technologies",null,{"$f":"IF('SPR #2 Public Info Warn'!$N$15=TRUE, \"X\", \"\")","v":""},null,null,{"$f":"IF('SPR #2 Public Info Warn'!$N$19=TRUE, \"X\", \"\")","v":""},null,null,{"$f":"IF('SPR #2 Public Info Warn'!$N$23=TRUE, \"X\", \"\")","v":""},null,null,{"$f":"IF('SPR #2 Public Info Warn'!$N$27=TRUE, \"X\", \"\")","v":""},null,null,{"$f":"IF('SPR #2 Public Info Warn'!$N$31=TRUE, \"X\", \"\")","v":""},null,0,0]
["Mitigation",{"$f":"'Capability Ratings Data'!B$19","v":"Risk and Disaster Resilience Assessment"},null,null,{"$f":"IF(AND('Capability Ratings Data'!D$19>0,'Capability Ratings Data'!D$19<>\"N/A\"),'Capability Ratings Data'!D19,\"\")","v":""},null,null,{"$f":"IF(AND('Capability Ratings Data'!E19>0,'Capability Ratings Data'!E19<>\"N/A\"),'Capability Ratings Data'!E19,\"\")","v":""},null,null,{"$f":"IF(AND('Capability Ratings Data'!F19>0,'Capability Ratings Data'!F19<>\"N/A\"),'Capability Ratings Data'!F19,\"\")","v":""},null,null,{"$f":"IF(AND('Capability Ratings Data'!G19>0,'Capability Ratings Data'!G19<>\"N/A\"),'Capability Ratings Data'!G19,\"\")","v":""},null,null,{"$f":"IF(AND('Capability Ratings Data'!H19>0,'Capability Ratings Data'!H19<>\"N/A\"),'Capability Ratings Data'!H19,\"\")","v":""},null,null,{"$f":"IF(AND('Capability Ratings Data'!M19>0,'Capability Ratings Data'!M19<>\"N/A\"),'Capability Ratings Data'!M19,\"\")","v":""},null,null,{"$f":"IF(AND('Capability Ratings Data'!N19>0,'Capability Ratings Data'!N19<>\"N/A\"),'Capability Ratings Data'!N19,\"\")","v":""},null,null,{"$f":"IF(AND('Capability Ratings Data'!O19>0,'Capability Ratings Data'!O19<>\"N/A\"),'Capability Ratings Data'!O19,\"\")","v":""},null,null,{"$f":"IF(AND('Capability Ratings Data'!P19>0,'Capability Ratings Data'!P19<>\"N/A\"),'Capability Ratings Data'!P19,\"\")","v":""},null,null,{"$f":"IF(AND('Capability Ratings Data'!Q19>0,'Capability Ratings Data'!Q19<>\"N/A\"),'Capability Ratings Data'!Q19,\"\")","v":""},{"$nulls":3},"Protecting sensitive information",null,{"$f":"IF('SPR #2 Public Info Warn'!$O$15=TRUE, \"X\", \"\")","v":""},null,null,{"$f":"IF('SPR #2 Public Info Warn'!$O$19=TRUE, \"X\", \"\")","v":""},null,null,{"$f":"IF('SPR #2 Public Info Warn'!$O$23=TRUE, \"X\", \"\")","v":""},null,null,{"$f":"IF('SPR #2 Public Info Warn'!$O$27=TRUE, \"X\", \"\")","v":""},null,null,{"$f":"IF('SPR #2 Public Info Warn'!$O$31=TRUE, \"X\", \"\")","v":""},null,0,0]
["Mitigation",{"$f":"'Capability Ratings Data'!B20","v":"Threats and Hazard Identification"},null,null,{"$f":"IF(AND('Capability Ratings Data'!D20>0,'Capability Ratings Data'!D20<>\"N/A\"),'Capability Ratings Data'!D20,\"\")","v":""},null,null,{"$f":"IF(AND('Capability Ratings Data'!E20>0,'Capability Ratings Data'!E20<>\"N/A\"),'Capability Ratings Data'!E20,\"\")","v":""},null,null,{"$f":"IF(AND('Capability Ratings Data'!F20>0,'Capability Ratings Data'!F20<>\"N/A\"),'Capability Ratings Data'!F20,\"\")","v":""},null,null,{"$f":"IF(AND('Capability Ratings Data'!G20>0,'Capability Ratings Data'!G20<>\"N/A\"),'Capability Ratings Data'!G20,\"\")","v":""},null,null,{"$f":"IF(AND('Capability Ratings Data'!H20>0,'Capability Ratings Data'!H20<>\"N/A\"),'Capability Ratings Data'!H20,\"\")","v":""},null,null,{"$f":"IF(AND('Capability Ratings Data'!M20>0,'Capability Ratings Data'!M20<>\"N/A\"),'Capability Ratings Data'!M20,\"\")","v":""},null,null,{"$f":"IF(AND('Capability Ratings Data'!N20>0,'Capability Ratings Data'!N20<>\"N/A\"),'Capability Ratings Data'!N20,\"\")","v":""},null,null,{"$f":"IF(AND('Capability Ratings Data'!O20>0,'Capability Ratings Data'!O20<>\"N/A\"),'Capability Ratings Data'!O20,\"\")","v":""},null,null,{"$f":"IF(AND('Capability Ratings Data'!P20>0,'Capability Ratings Data'!P20<>\"N/A\"),'Capability Ratings Data'!P20,\"\")","v":""},null,null,{"$f":"IF(AND('Capability Ratings Data'!Q20>0,'Capability Ratings Data'!Q20<>\"N/A\"),'Capability Ratings Data'!Q20,\"\")","v":""},{"$nulls":3},"Public awareness campaigns",null,{"$f":"IF('SPR #2 Public Info Warn'!$P$15=TRUE, \"X\", \"\")","v":""},null,null,{"$f":"IF('SPR #2 Public Info Warn'!$P$19=TRUE, \"X\", \"\")","v":""},null,null,{"$f":"IF('SPR #2 Public Info Warn'!$P$23=TRUE, \"X\", \"\")","v":""},null,null,{"$f":"IF('SPR #2 Public Info Warn'!$P$27=TRUE, \"X\", \"\")","v":""},null,null,{"$f":"IF('SPR #2 Public Info Warn'!$P$31=TRUE, \"X\", \"\")","v":""},null,0,0]
["Response",{"$f":"'Capability Ratings Data'!B21","v":"Critical Transportation"},null,null,{"$f":"IF(AND('Capability Ratings Data'!D21>0,'Capability Ratings Data'!D21<>\"N/A\"),'Capability Ratings Data'!D21,\"\")","v":""},null,null,{"$f":"IF(AND('Capability Ratings Data'!E21>0,'Capability Ratings Data'!E21<>\"N/A\"),'Capability Ratings Data'!E21,\"\")","v":""},null,null,{"$f":"IF(AND('Capability Ratings Data'!F21>0,'Capability Ratings Data'!F21<>\"N/A\"),'Capability Ratings Data'!F21,\"\")","v":""},null,null,{"$f":"IF(AND('Capability Ratings Data'!G21>0,'Capability Ratings Data'!G21<>\"N/A\"),'Capability Ratings Data'!G21,\"\")","v":""},null,null,{"$f":"IF(AND('Capability Ratings Data'!H21>0,'Capability Ratings Data'!H21<>\"N/A\"),'Capability Ratings Data'!H21,\"\")","v":""},null,null,{"$f":"IF(AND('Capability Ratings Data'!M21>0,'Capability Ratings Data'!M21<>\"N/A\"),'Capability Ratings Data'!M21,\"\")","v":""},null,null,{"$f":"IF(AND('Capability Ratings Data'!N21>0,'Capability Ratings Data'!N21<>\"N/A\"),'Capability Ratings Data'!N21,\"\")","v":""},null,null,{"$f":"IF(AND('Capability Ratings Data'!O21>0,'Capability Ratings Data'!O21<>\"N/A\"),'Capability Ratings Data'!O21,\"\")","v":""},null,null,{"$f":"IF(AND('Capability Ratings Data'!P21>0,'Capability Ratings Data'!P21<>\"N/A\"),'Capability Ratings Data'!P21,\"\")","v":""},null,null,{"$f":"IF(AND('Capability Ratings Data'!Q21>0,'Capability Ratings Data'!Q21<>\"N/A\"),'Capability Ratings Data'!Q21,\"\")","v":""},{"$nulls":3},"Traditional communications mechanisms",null,{"$f":"IF('SPR #2 Public Info Warn'!$Q$15=TRUE, \"X\", \"\")","v":""},null,null,{"$f":"IF('SPR #2 Public Info Warn'!$Q$19=TRUE, \"X\", \"\")","v":""},null,null,{"$f":"IF('SPR #2 Public Info Warn'!$Q$23=TRUE, \"X\", \"\")","v":""},null,null,{"$f":"IF('SPR #2 Public Info Warn'!$Q$27=TRUE, \"X\", \"\")","v":""},null,null,{"$f":"IF('SPR #2 Public Info Warn'!$Q$31=TRUE, \"X\", \"\")","v":""},null,0,0]
["Response",{"$f":"'Capability Ratings Data'!B22","v":"Environmental Response/Health and Safety"},null,null,{"$f":"IF(AND('Capability Ratings Data'!D22>0,'Capability Ratings Data'!D22<>\"N/A\"),'Capability Ratings Data'!D22,\"\")","v":""},null,null,{"$f":"IF(AND('Capability Ratings Data'!E22>0,'Capability Ratings Data'!E22<>\"N/A\"),'Capability Ratings Data'!E22,\"\")","v":""},null,null,{"$f":"IF(AND('Capability Ratings Data'!F22>0,'Capability Ratings Data'!F22<>\"N/A\"),'Capability Ratings Data'!F22,\"\")","v":""},null,null,{"$f":"IF(AND('Capability Ratings Data'!G22>0,'Capability Ratings Data'!G22<>\"N/A\"),'Capability Ratings Data'!G22,\"\")","v":""},null,null,{"$f":"IF(AND('Capability Ratings Data'!H22>0,'Capability Ratings Data'!H22<>\"N/A\"),'Capability Ratings Data'!H22,\"\")","v":""},null,null,{"$f":"IF(AND('Capability Ratings Data'!M22>0,'Capability Ratings Data'!M22<>\"N/A\"),'Capability Ratings Data'!M22,\"\")","v":""},null,null,{"$f":"IF(AND('Capability Ratings Data'!N22>0,'Capability Ratings Data'!N22<>\"N/A\"),'Capability Ratings Data'!N22,\"\")","v":""},null,null,{"$f":"IF(AND('Capability Ratings Data'!O22>0,'Capability Ratings Data'!O22<>\"N/A\"),'Capability Ratings Data'!O22,\"\")","v":""},null,null,{"$f":"IF(AND('Capability Ratings Data'!P22>0,'Capability Ratings Data'!P22<>\"N/A\"),'Capability Ratings Data'!P22,\"\")","v":""},null,null,{"$f":"IF(AND('Capability Ratings Data'!Q22>0,'Capability Ratings Data'!Q22<>\"N/A\"),'Capability Ratings Data'!Q22,\"\")","v":""},null,null,"Operational Coordination","Allocating and mobilizing resources",null,{"$f":"IF('SPR #3 Op Coord'!$I$15=TRUE, \"X\", \"\")","v":""},null,null,{"$f":"IF('SPR #3 Op Coord'!$I$19=TRUE, \"X\", \"\")","v":""},null,null,{"$f":"IF('SPR #3 Op Coord'!$I$23=TRUE, \"X\", \"\")","v":""},null,null,{"$f":"IF('SPR #3 Op Coord'!$I$27=TRUE, \"X\", \"\")","v":""},null,null,{"$f":"IF('SPR #3 Op Coord'!$I$31=TRUE, \"X\", \"\")","v":""},null,0,0]
["Response",{"$f":"'Capability Ratings Data'!B23","v":"Fatality Management Services"},null,null,{"$f":"IF(AND('Capability Ratings Data'!D23>0,'Capability Ratings Data'!D23<>\"N/A\"),'Capability Ratings Data'!D23,\"\")","v":""},null,null,{"$f":"IF(AND('Capability Ratings Data'!E23>0,'Capability Ratings Data'!E23<>\"N/A\"),'Capability Ratings Data'!E23,\"\")","v":""},null,null,{"$f":"IF(AND('Capability Ratings Data'!F23>0,'Capability Ratings Data'!F23<>\"N/A\"),'Capability Ratings Data'!F23,\"\")","v":""},null,null,{"$f":"IF(AND('Capability Ratings Data'!G23>0,'Capability Ratings Data'!G23<>\"N/A\"),'Capability Ratings Data'!G23,\"\")","v":""},null,null,{"$f":"IF(AND('Capability Ratings Data'!H23>0,'Capability Ratings Data'!H23<>\"N/A\"),'Capability Ratings Data'!H23,\"\")","v":""},null,null,{"$f":"IF(AND('Capability Ratings Data'!M23>0,'Capability Ratings Data'!M23<>\"N/A\"),'Capability Ratings Data'!M23,\"\")","v":""},null,null,{"$f":"IF(AND('Capability Ratings Data'!N23>0,'Capability Ratings Data'!N23<>\"N/A\"),'Capability Ratings Data'!N23,\"\")","v":""},null,null,{"$f":"IF(AND('Capability Ratings Data'!O23>0,'Capability Ratings Data'!O23<>\"N/A\"),'Capability Ratings Data'!O23,\"\")","v":""},null,null,{"$f":"IF(AND('Capability Ratings Data'!P23>0,'Capability Ratings Data'!P23<>\"N/A\"),'Capability Ratings Data'!P23,\"\")","v":""},null,null,{"$f":"IF(AND('Capability Ratings Data'!Q23>0,'Capability Ratings Data'!Q23<>\"N/A\"),'Capability Ratings Data'!Q23,\"\")","v":""},{"$nulls":3},"Command, control, and coordination",null,{"$f":"IF('SPR #3 Op Coord'!$J$15=TRUE, \"X\", \"\")","v":""},null,null,{"$f":"IF('SPR #3 Op Coord'!$J$19=TRUE, \"X\", \"\")","v":""},null,null,{"$f":"IF('SPR #3 Op Coord'!$J$23=TRUE, \"X\", \"\")","v":""},null,null,{"$f":"IF('SPR #3 Op Coord'!$J$27=TRUE, \"X\", \"\")","v":""},null,null,{"$f":"IF('SPR #3 Op Coord'!$J$31=TRUE, \"X\", \"\")","v":""},null,0,0]
["Response/Recovery",{"$f":"'Capability Ratings Data'!B24","v":"Infrastructure Systems"},null,null,{"$f":"IF(AND('Capability Ratings Data'!D24>0,'Capability Ratings Data'!D24<>\"N/A\"),'Capability Ratings Data'!D24,\"\")","v":""},null,null,{"$f":"IF(AND('Capability Ratings Data'!E24>0,'Capability Ratings Data'!E24<>\"N/A\"),'Capability Ratings Data'!E24,\"\")","v":""},null,null,{"$f":"IF(AND('Capability Ratings Data'!F24>0,'Capability Ratings Data'!F24<>\"N/A\"),'Capability Ratings Data'!F24,\"\")","v":""},null,null,{"$f":"IF(AND('Capability Ratings Data'!G24>0,'Capability Ratings Data'!G24<>\"N/A\"),'Capability Ratings Data'!G24,\"\")","v":""},null,null,{"$f":"IF(AND('Capability Ratings Data'!H24>0,'Capability Ratings Data'!H24<>\"N/A\"),'Capability Ratings Data'!H24,\"\")","v":""},null,null,{"$f":"IF(AND('Capability Ratings Data'!M24>0,'Capability Ratings Data'!M24<>\"N/A\"),'Capability Ratings Data'!M24,\"\")","v":""},null,null,{"$f":"IF(AND('Capability Ratings Data'!N24>0,'Capability Ratings Data'!N24<>\"N/A\"),'Capability Ratings Data'!N24,\"\")","v":""},null,null,{"$f":"IF(AND('Capability Ratings Data'!O24>0,'Capability Ratings Data'!O24<>\"N/A\"),'Capability Ratings Data'!O24,\"\")","v":""},null,null,{"$f":"IF(AND('Capability Ratings Data'!P24>0,'Capability Ratings Data'!P24<>\"N/A\"),'Capability Ratings Data'!P24,\"\")","v":""},null,null,{"$f":"IF(AND('Capability Ratings Data'!Q24>0,'Capability Ratings Data'!Q24<>\"N/A\"),'Capability Ratings Data'!Q24,\"\")","v":""},{"$nulls":3},"Determining priorities, objectives, strategies",null,{"$f":"IF('SPR #3 Op Coord'!$K$15=TRUE, \"X\", \"\")","v":""},null,null,{"$f":"IF('SPR #3 Op Coord'!$K$19=TRUE, \"X\", \"\")","v":""},null,null,{"$f":"IF('SPR #3 Op Coord'!$K$23=TRUE, \"X\", \"\")","v":""},null,null,{"$f":"IF('SPR #3 Op Coord'!$K$27=TRUE, \"X\", \"\")","v":""},null,null,{"$f":"IF('SPR #3 Op Coord'!$K$31=TRUE, \"X\", \"\")","v":""},null,0,0]
["Response",{"$f":"'Capability Ratings Data'!B25","v":"Mass Care Services"},null,null,{"$f":"IF(AND('Capability Ratings Data'!D25>0,'Capability Ratings Data'!D25<>\"N/A\"),'Capability Ratings Data'!D25,\"\")","v":""},null,null,{"$f":"IF(AND('Capability Ratings Data'!E25>0,'Capability Ratings Data'!E25<>\"N/A\"),'Capability Ratings Data'!E25,\"\")","v":""},null,null,{"$f":"IF(AND('Capability Ratings Data'!F25>0,'Capability Ratings Data'!F25<>\"N/A\"),'Capability Ratings Data'!F25,\"\")","v":""},null,null,{"$f":"IF(AND('Capability Ratings Data'!G25>0,'Capability Ratings Data'!G25<>\"N/A\"),'Capability Ratings Data'!G25,\"\")","v":""},null,null,{"$f":"IF(AND('Capability Ratings Data'!H25>0,'Capability Ratings Data'!H25<>\"N/A\"),'Capability Ratings Data'!H25,\"\")","v":""},null,null,{"$f":"IF(AND('Capability Ratings Data'!M25>0,'Capability Ratings Data'!M25<>\"N/A\"),'Capability Ratings Data'!M25,\"\")","v":""},null,null,{"$f":"IF(AND('Capability Ratings Data'!N25>0,'Capability Ratings Data'!N25<>\"N/A\"),'Capability Ratings Data'!N25,\"\")","v":""},null,null,{"$f":"IF(AND('Capability Ratings Data'!O25>0,'Capability Ratings Data'!O25<>\"N/A\"),'Capability Ratings Data'!O25,\"\")","v":""},null,null,{"$f":"IF(AND('Capability Ratings Data'!P25>0,'Capability Ratings Data'!P25<>\"N/A\"),'Capability Ratings Data'!P25,\"\")","v":""},null,null,{"$f":"IF(AND('Capability Ratings Data'!Q25>0,'Capability Ratings Data'!Q25<>\"N/A\"),'Capability Ratings Data'!Q25,\"\")","v":""},{"$nulls":3},"Ensuring information flow",null,{"$f":"IF('SPR #3 Op Coord'!$L$15=TRUE, \"X\", \"\")","v":""},null,null,{"$f":"IF('SPR #3 Op Coord'!$L$19=TRUE, \"X\", \"\")","v":""},null,null,{"$f":"IF('SPR #3 Op Coord'!$L$23=TRUE, \"X\", \"\")","v":""},null,null,{"$f":"IF('SPR #3 Op Coord'!$L$27=TRUE, \"X\", \"\")","v":""},null,null,{"$f":"IF('SPR #3 Op Coord'!$L$31=TRUE, \"X\", \"\")","v":""},null,0,0]
["Response",{"$f":"'Capability Ratings Data'!B26","v":"Mass Search and Rescue Operations"},null,null,{"$f":"IF(AND('Capability Ratings Data'!D26>0,'Capability Ratings Data'!D26<>\"N/A\"),'Capability Ratings Data'!D26,\"\")","v":""},null,null,{"$f":"IF(AND('Capability Ratings Data'!E26>0,'Capability Ratings Data'!E26<>\"N/A\"),'Capability Ratings Data'!E26,\"\")","v":""},null,null,{"$f":"IF(AND('Capability Ratings Data'!F26>0,'Capability Ratings Data'!F26<>\"N/A\"),'Capability Ratings Data'!F26,\"\")","v":""},null,null,{"$f":"IF(AND('Capability Ratings Data'!G26>0,'Capability Ratings Data'!G26<>\"N/A\"),'Capability Ratings Data'!G26,\"\")","v":""},null,null,{"$f":"IF(AND('Capability Ratings Data'!H26>0,'Capability Ratings Data'!H26<>\"N/A\"),'Capability Ratings Data'!H26,\"\")","v":""},null,null,{"$f":"IF(AND('Capability Ratings Data'!M26>0,'Capability Ratings Data'!M26<>\"N/A\"),'Capability Ratings Data'!M26,\"\")","v":""},null,null,{"$f":"IF(AND('Capability Ratings Data'!N26>0,'Capability Ratings Data'!N26<>\"N/A\"),'Capability Ratings Data'!N26,\"\")","v":""},null,null,{"$f":"IF(AND('Capability Ratings Data'!O26>0,'Capability Ratings Data'!O26<>\"N/A\"),'Capability Ratings Data'!O26,\"\")","v":""},null,null,{"$f":"IF(AND('Capability Ratings Data'!P26>0,'Capability Ratings Data'!P26<>\"N/A\"),'Capability Ratings Data'!P26,\"\")","v":""},null,null,{"$f":"IF(AND('Capability Ratings Data'!Q26>0,'Capability Ratings Data'!Q26<>\"N/A\"),'Capability Ratings Data'!Q26,\"\")","v":""},{"$nulls":3},"Ensuring unity of effort",null,{"$f":"IF('SPR #3 Op Coord'!$M$15=TRUE, \"X\", \"\")","v":""},null,null,{"$f":"IF('SPR #3 Op Coord'!$M$19=TRUE, \"X\", \"\")","v":""},null,null,{"$f":"IF('SPR #3 Op Coord'!$M$23=TRUE, \"X\", \"\")","v":""},null,null,{"$f":"IF('SPR #3 Op Coord'!$M$27=TRUE, \"X\", \"\")","v":""},null,null,{"$f":"IF('SPR #3 Op Coord'!$M$31=TRUE, \"X\", \"\")","v":""},null,0,0]
["Response",{"$f":"'Capability Ratings Data'!B27","v":"On-scene Security and Protection"},null,null,{"$f":"IF(AND('Capability Ratings Data'!D27>0,'Capability Ratings Data'!D27<>\"N/A\"),'Capability Ratings Data'!D27,\"\")","v":""},null,null,{"$f":"IF(AND('Capability Ratings Data'!E27>0,'Capability Ratings Data'!E27<>\"N/A\"),'Capability Ratings Data'!E27,\"\")","v":""},null,null,{"$f":"IF(AND('Capability Ratings Data'!F27>0,'Capability Ratings Data'!F27<>\"N/A\"),'Capability Ratings Data'!F27,\"\")","v":""},null,null,{"$f":"IF(AND('Capability Ratings Data'!G27>0,'Capability Ratings Data'!G27<>\"N/A\"),'Capability Ratings Data'!G27,\"\")","v":""},null,null,{"$f":"IF(AND('Capability Ratings Data'!H27>0,'Capability Ratings Data'!H27<>\"N/A\"),'Capability Ratings Data'!H27,\"\")","v":""},null,null,{"$f":"IF(AND('Capability Ratings Data'!M27>0,'Capability Ratings Data'!M27<>\"N/A\"),'Capability Ratings Data'!M27,\"\")","v":""},null,null,{"$f":"IF(AND('Capability Ratings Data'!N27>0,'Capability Ratings Data'!N27<>\"N/A\"),'Capability Ratings Data'!N27,\"\")","v":""},null,null,{"$f":"IF(AND('Capability Ratings Data'!O27>0,'Capability Ratings Data'!O27<>\"N/A\"),'Capability Ratings Data'!O27,\"\")","v":""},null,null,{"$f":"IF(AND('Capability Ratings Data'!P27>0,'Capability Ratings Data'!P27<>\"N/A\"),'Capability Ratings Data'!P27,\"\")","v":""},null,null,{"$f":"IF(AND('Capability Ratings Data'!Q27>0,'Capability Ratings Data'!Q27<>\"N/A\"),'Capability Ratings Data'!Q27,\"\")","v":""},{"$nulls":3},"Establishing a common operating picture",null,{"$f":"IF('SPR #3 Op Coord'!$N$15=TRUE, \"X\", \"\")","v":""},null,null,{"$f":"IF('SPR #3 Op Coord'!$N$19=TRUE, \"X\", \"\")","v":""},null,null,{"$f":"IF('SPR #3 Op Coord'!$N$23=TRUE, \"X\", \"\")","v":""},null,null,{"$f":"IF('SPR #3 Op Coord'!$N$27=TRUE, \"X\", \"\")","v":""},null,null,{"$f":"IF('SPR #3 Op Coord'!$N$31=TRUE, \"X\", \"\")","v":""},null,0,0]
["Response",{"$f":"'Capability Ratings Data'!B28","v":"Operational  Communications"},null,null,{"$f":"IF(AND('Capability Ratings Data'!D28>0,'Capability Ratings Data'!D28<>\"N/A\"),'Capability Ratings Data'!D28,\"\")","v":""},null,null,{"$f":"IF(AND('Capability Ratings Data'!E28>0,'Capability Ratings Data'!E28<>\"N/A\"),'Capability Ratings Data'!E28,\"\")","v":""},null,null,{"$f":"IF(AND('Capability Ratings Data'!F28>0,'Capability Ratings Data'!F28<>\"N/A\"),'Capability Ratings Data'!F28,\"\")","v":""},null,null,{"$f":"IF(AND('Capability Ratings Data'!G28>0,'Capability Ratings Data'!G28<>\"N/A\"),'Capability Ratings Data'!G28,\"\")","v":""},null,null,{"$f":"IF(AND('Capability Ratings Data'!H28>0,'Capability Ratings Data'!H28<>\"N/A\"),'Capability Ratings Data'!H28,\"\")","v":""},null,null,{"$f":"IF(AND('Capability Ratings Data'!M28>0,'Capability Ratings Data'!M28<>\"N/A\"),'Capability Ratings Data'!M28,\"\")","v":""},null,null,{"$f":"IF(AND('Capability Ratings Data'!N28>0,'Capability Ratings Data'!N28<>\"N/A\"),'Capability Ratings Data'!N28,\"\")","v":""},null,null,{"$f":"IF(AND('Capability Ratings Data'!O28>0,'Capability Ratings Data'!O28<>\"N/A\"),'Capability Ratings Data'!O28,\"\")","v":""},null,null,{"$f":"IF(AND('Capability Ratings Data'!P28>0,'Capability Ratings Data'!P28<>\"N/A\"),'Capability Ratings Data'!P28,\"\")","v":""},null,null,{"$f":"IF(AND('Capability Ratings Data'!Q28>0,'Capability Ratings Data'!Q28<>\"N/A\"),'Capability Ratings Data'!Q28,\"\")","v":""},{"$nulls":3},"Establishing lines of communication",null,{"$f":"IF('SPR #3 Op Coord'!$O$15=TRUE, \"X\", \"\")","v":""},null,null,{"$f":"IF('SPR #3 Op Coord'!$O$19=TRUE, \"X\", \"\")","v":""},null,null,{"$f":"IF('SPR #3 Op Coord'!$O$23=TRUE, \"X\", \"\")","v":""},null,null,{"$f":"IF('SPR #3 Op Coord'!$O$27=TRUE, \"X\", \"\")","v":""},null,null,{"$f":"IF('SPR #3 Op Coord'!$O$31=TRUE, \"X\", \"\")","v":""},null,0,0]
["Response",{"$f":"'Capability Ratings Data'!B29","v":"Public and Private Services and Resources"},null,null,{"$f":"IF(AND('Capability Ratings Data'!D29>0,'Capability Ratings Data'!D29<>\"N/A\"),'Capability Ratings Data'!D29,\"\")","v":""},null,null,{"$f":"IF(AND('Capability Ratings Data'!E29>0,'Capability Ratings Data'!E29<>\"N/A\"),'Capability Ratings Data'!E29,\"\")","v":""},null,null,{"$f":"IF(AND('Capability Ratings Data'!F29>0,'Capability Ratings Data'!F29<>\"N/A\"),'Capability Ratings Data'!F29,\"\")","v":""},null,null,{"$f":"IF(AND('Capability Ratings Data'!G29>0,'Capability Ratings Data'!G29<>\"N/A\"),'Capability Ratings Data'!G29,\"\")","v":""},null,null,{"$f":"IF(AND('Capability Ratings Data'!H29>0,'Capability Ratings Data'!H29<>\"N/A\"),'Capability Ratings Data'!H29,\"\")","v":""},null,null,{"$f":"IF(AND('Capability Ratings Data'!M29>0,'Capability Ratings Data'!M29<>\"N/A\"),'Capability Ratings Data'!M29,\"\")","v":""},null,null,{"$f":"IF(AND('Capability Ratings Data'!N29>0,'Capability Ratings Data'!N29<>\"N/A\"),'Capability Ratings Data'!N29,\"\")","v":""},null,null,{"$f":"IF(AND('Capability Ratings Data'!O29>0,'Capability Ratings Data'!O29<>\"N/A\"),'Capability Ratings Data'!O29,\"\")","v":""},null,null,{"$f":"IF(AND('Capability Ratings Data'!P29>0,'Capability Ratings Data'!P29<>\"N/A\"),'Capability Ratings Data'!P29,\"\")","v":""},null,null,{"$f":"IF(AND('Capability Ratings Data'!Q29>0,'Capability Ratings Data'!Q29<>\"N/A\"),'Capability Ratings Data'!Q29,\"\")","v":""},{"$nulls":3},"Establishing roles and responsibilities",null,{"$f":"IF('SPR #3 Op Coord'!$P$15=TRUE, \"X\", \"\")","v":""},null,null,{"$f":"IF('SPR #3 Op Coord'!$P$19=TRUE, \"X\", \"\")","v":""},null,null,{"$f":"IF('SPR #3 Op Coord'!$P$23=TRUE, \"X\", \"\")","v":""},null,null,{"$f":"IF('SPR #3 Op Coord'!$P$27=TRUE, \"X\", \"\")","v":""},null,null,{"$f":"IF('SPR #3 Op Coord'!$P$31=TRUE, \"X\", \"\")","v":""},null,0,0]
["Response",{"$f":"'Capability Ratings Data'!B30","v":"Public Health and Medical Services"},null,null,{"$f":"IF(AND('Capability Ratings Data'!D30>0,'Capability Ratings Data'!D30<>\"N/A\"),'Capability Ratings Data'!D30,\"\")","v":""},null,null,{"$f":"IF(AND('Capability Ratings Data'!E30>0,'Capability Ratings Data'!E30<>\"N/A\"),'Capability Ratings Data'!E30,\"\")","v":""},null,null,{"$f":"IF(AND('Capability Ratings Data'!F30>0,'Capability Ratings Data'!F30<>\"N/A\"),'Capability Ratings Data'!F30,\"\")","v":""},null,null,{"$f":"IF(AND('Capability Ratings Data'!G30>0,'Capability Ratings Data'!G30<>\"N/A\"),'Capability Ratings Data'!G30,\"\")","v":""},null,null,{"$f":"IF(AND('Capability Ratings Data'!H30>0,'Capability Ratings Data'!H30<>\"N/A\"),'Capability Ratings Data'!H30,\"\")","v":""},null,null,{"$f":"IF(AND('Capability Ratings Data'!M30>0,'Capability Ratings Data'!M30<>\"N/A\"),'Capability Ratings Data'!M30,\"\")","v":""},null,null,{"$f":"IF(AND('Capability Ratings Data'!N30>0,'Capability Ratings Data'!N30<>\"N/A\"),'Capability Ratings Data'!N30,\"\")","v":""},null,null,{"$f":"IF(AND('Capability Ratings Data'!O30>0,'Capability Ratings Data'!O30<>\"N/A\"),'Capability Ratings Data'!O30,\"\")","v":""},null,null,{"$f":"IF(AND('Capability Ratings Data'!P30>0,'Capability Ratings Data'!P30<>\"N/A\"),'Capability Ratings Data'!P30,\"\")","v":""},null,null,{"$f":"IF(AND('Capability Ratings Data'!Q30>0,'Capability Ratings Data'!Q30<>\"N/A\"),'Capability Ratings Data'!Q30,\"\")","v":""},{"$nulls":3},"NIMS/ICS compliance",null,{"$f":"IF('SPR #3 Op Coord'!$Q$15=TRUE, \"X\", \"\")","v":""},null,null,{"$f":"IF('SPR #3 Op Coord'!$Q$19=TRUE, \"X\", \"\")","v":""},null,null,{"$f":"IF('SPR #3 Op Coord'!$Q$23=TRUE, \"X\", \"\")","v":""},null,null,{"$f":"IF('SPR #3 Op Coord'!$Q$27=TRUE, \"X\", \"\")","v":""},null,null,{"$f":"IF('SPR #3 Op Coord'!$Q$31=TRUE, \"X\", \"\")","v":""},null,0,0]
["Response",{"$f":"'Capability Ratings Data'!B31","v":"Situational Assessment"},null,null,{"$f":"IF(AND('Capability Ratings Data'!D31>0,'Capability Ratings Data'!D31<>\"N/A\"),'Capability Ratings Data'!D31,\"\")","v":""},null,null,{"$f":"IF(AND('Capability Ratings Data'!E31>0,'Capability Ratings Data'!E31<>\"N/A\"),'Capability Ratings Data'!E31,\"\")","v":""},null,null,{"$f":"IF(AND('Capability Ratings Data'!F31>0,'Capability Ratings Data'!F31<>\"N/A\"),'Capability Ratings Data'!F31,\"\")","v":""},null,null,{"$f":"IF(AND('Capability Ratings Data'!G31>0,'Capability Ratings Data'!G31<>\"N/A\"),'Capability Ratings Data'!G31,\"\")","v":""},null,null,{"$f":"IF(AND('Capability Ratings Data'!H31>0,'Capability Ratings Data'!H31<>\"N/A\"),'Capability Ratings Data'!H31,\"\")","v":""},null,null,{"$f":"IF(AND('Capability Ratings Data'!M31>0,'Capability Ratings Data'!M31<>\"N/A\"),'Capability Ratings Data'!M31,\"\")","v":""},null,null,{"$f":"IF(AND('Capability Ratings Data'!N31>0,'Capability Ratings Data'!N31<>\"N/A\"),'Capability Ratings Data'!N31,\"\")","v":""},null,null,{"$f":"IF(AND('Capability Ratings Data'!O31>0,'Capability Ratings Data'!O31<>\"N/A\"),'Capability Ratings Data'!O31,\"\")","v":""},null,null,{"$f":"IF(AND('Capability Ratings Data'!P31>0,'Capability Ratings Data'!P31<>\"N/A\"),'Capability Ratings Data'!P31,\"\")","v":""},null,null,{"$f":"IF(AND('Capability Ratings Data'!Q31>0,'Capability Ratings Data'!Q31<>\"N/A\"),'Capability Ratings Data'!Q31,\"\")","v":""},{"$nulls":3},"Stakeholder engagement",null,{"$f":"IF('SPR #3 Op Coord'!$R$15=TRUE, \"X\", \"\")","v":""},null,null,{"$f":"IF('SPR #3 Op Coord'!$R$19=TRUE, \"X\", \"\")","v":""},null,null,{"$f":"IF('SPR #3 Op Coord'!$R$23=TRUE, \"X\", \"\")","v":""},null,null,{"$f":"IF('SPR #3 Op Coord'!$R$27=TRUE, \"X\", \"\")","v":""},null,null,{"$f":"IF('SPR #3 Op Coord'!$R$31=TRUE, \"X\", \"\")","v":""},null,0,0]
["Recovery",{"$f":"'Capability Ratings Data'!B32","v":"Economic Recovery"},null,null,{"$f":"IF(AND('Capability Ratings Data'!D32>0,'Capability Ratings Data'!D32<>\"N/A\"),'Capability Ratings Data'!D32,\"\")","v":""},null,null,{"$f":"IF(AND('Capability Ratings Data'!E32>0,'Capability Ratings Data'!E32<>\"N/A\"),'Capability Ratings Data'!E32,\"\")","v":""},null,null,{"$f":"IF(AND('Capability Ratings Data'!F32>0,'Capability Ratings Data'!F32<>\"N/A\"),'Capability Ratings Data'!F32,\"\")","v":""},null,null,{"$f":"IF(AND('Capability Ratings Data'!G32>0,'Capability Ratings Data'!G32<>\"N/A\"),'Capability Ratings Data'!G32,\"\")","v":""},null,null,{"$f":"IF(AND('Capability Ratings Data'!H32>0,'Capability Ratings Data'!H32<>\"N/A\"),'Capability Ratings Data'!H32,\"\")","v":""},null,null,{"$f":"IF(AND('Capability Ratings Data'!M32>0,'Capability Ratings Data'!M32<>\"N/A\"),'Capability Ratings Data'!M32,\"\")","v":""},null,null,{"$f":"IF(AND('Capability Ratings Data'!N32>0,'Capability Ratings Data'!N32<>\"N/A\"),'Capability Ratings Data'!N32,\"\")","v":""},null,null,{"$f":"IF(AND('Capability Ratings Data'!O32>0,'Capability Ratings Data'!O32<>\"N/A\"),'Capability Ratings Data'!O32,\"\")","v":""},null,null,{"$f":"IF(AND('Capability Ratings Data'!P32>0,'Capability Ratings Data'!P32<>\"N/A\"),'Capability Ratings Data'!P32,\"\")","v":""},null,null,{"$f":"IF(AND('Capability Ratings Data'!Q32>0,'Capability Ratings Data'!Q32<>\"N/A\"),'Capability Ratings Data'!Q32,\"\")","v":""},null,null,"Forensics and Attribution","Assessing terrorist capabilities ",null,{"$f":"IF('SPR #4 Forensics Attribution'!$I$15=TRUE, \"X\", \"\")","v":""},null,null,{"$f":"IF('SPR #4 Forensics Attribution'!$I$19=TRUE, \"X\", \"\")","v":""},null,null,{"$f":"IF('SPR #4 Forensics Attribution'!$I$23=TRUE, \"X\", \"\")","v":""},null,null,{"$f":"IF('SPR #4 Forensics Attribution'!$I$27=TRUE, \"X\", \"\")","v":""},null,null,{"$f":"IF('SPR #4 Forensics Attribution'!$I$31=TRUE, \"X\", \"\")","v":""},null,0,0]
["Recovery",{"$f":"'Capability Ratings Data'!B33","v":"Health and Social Services"},null,null,{"$f":"IF(AND('Capability Ratings Data'!D33>0,'Capability Ratings Data'!D33<>\"N/A\"),'Capability Ratings Data'!D33,\"\")","v":""},null,null,{"$f":"IF(AND('Capability Ratings Data'!E33>0,'Capability Ratings Data'!E33<>\"N/A\"),'Capability Ratings Data'!E33,\"\")","v":""},null,null,{"$f":"IF(AND('Capability Ratings Data'!F33>0,'Capability Ratings Data'!F33<>\"N/A\"),'Capability Ratings Data'!F33,\"\")","v":""},null,null,{"$f":"IF(AND('Capability Ratings Data'!G33>0,'Capability Ratings Data'!G33<>\"N/A\"),'Capability Ratings Data'!G33,\"\")","v":""},null,null,{"$f":"IF(AND('Capability Ratings Data'!H33>0,'Capability Ratings Data'!H33<>\"N/A\"),'Capability Ratings Data'!H33,\"\")","v":""},null,null,{"$f":"IF(AND('Capability Ratings Data'!M33>0,'Capability Ratings Data'!M33<>\"N/A\"),'Capability Ratings Data'!M33,\"\")","v":""},null,null,{"$f":"IF(AND('Capability Ratings Data'!N33>0,'Capability Ratings Data'!N33<>\"N/A\"),'Capability Ratings Data'!N33,\"\")","v":""},null,null,{"$f":"IF(AND('Capability Ratings Data'!O33>0,'Capability Ratings Data'!O33<>\"N/A\"),'Capability Ratings Data'!O33,\"\")","v":""},null,null,{"$f":"IF(AND('Capability Ratings Data'!P33>0,'Capability Ratings Data'!P33<>\"N/A\"),'Capability Ratings Data'!P33,\"\")","v":""},null,null,{"$f":"IF(AND('Capability Ratings Data'!Q33>0,'Capability Ratings Data'!Q33<>\"N/A\"),'Capability Ratings Data'!Q33,\"\")","v":""},{"$nulls":3},"Attribution assessments",null,{"$f":"IF('SPR #4 Forensics Attribution'!$J$15=TRUE, \"X\", \"\")","v":""},null,null,{"$f":"IF('SPR #4 Forensics Attribution'!$J$19=TRUE, \"X\", \"\")","v":""},null,null,{"$f":"IF('SPR #4 Forensics Attribution'!$J$23=TRUE, \"X\", \"\")","v":""},null,null,{"$f":"IF('SPR #4 Forensics Attribution'!$J$27=TRUE, \"X\", \"\")","v":""},null,null,{"$f":"IF('SPR #4 Forensics Attribution'!$J$31=TRUE, \"X\", \"\")","v":""},null,0,0]
["Recovery",{"$f":"'Capability Ratings Data'!B34","v":"Housing"},null,null,{"$f":"IF(AND('Capability Ratings Data'!D34>0,'Capability Ratings Data'!D34<>\"N/A\"),'Capability Ratings Data'!D34,\"\")","v":""},null,null,{"$f":"IF(AND('Capability Ratings Data'!E34>0,'Capability Ratings Data'!E34<>\"N/A\"),'Capability Ratings Data'!E34,\"\")","v":""},null,null,{"$f":"IF(AND('Capability Ratings Data'!F34>0,'Capability Ratings Data'!F34<>\"N/A\"),'Capability Ratings Data'!F34,\"\")","v":""},null,null,{"$f":"IF(AND('Capability Ratings Data'!G34>0,'Capability Ratings Data'!G34<>\"N/A\"),'Capability Ratings Data'!G34,\"\")","v":""},null,null,{"$f":"IF(AND('Capability Ratings Data'!H34>0,'Capability Ratings Data'!H34<>\"N/A\"),'Capability Ratings Data'!H34,\"\")","v":""},null,null,{"$f":"IF(AND('Capability Ratings Data'!M34>0,'Capability Ratings Data'!M34<>\"N/A\"),'Capability Ratings Data'!M34,\"\")","v":""},null,null,{"$f":"IF(AND('Capability Ratings Data'!N34>0,'Capability Ratings Data'!N34<>\"N/A\"),'Capability Ratings Data'!N34,\"\")","v":""},null,null,{"$f":"IF(AND('Capability Ratings Data'!O34>0,'Capability Ratings Data'!O34<>\"N/A\"),'Capability Ratings Data'!O34,\"\")","v":""},null,null,{"$f":"IF(AND('Capability Ratings Data'!P34>0,'Capability Ratings Data'!P34<>\"N/A\"),'Capability Ratings Data'!P34,\"\")","v":""},null,null,{"$f":"IF(AND('Capability Ratings Data'!Q34>0,'Capability Ratings Data'!Q34<>\"N/A\"),'Capability Ratings Data'!Q34,\"\")","v":""},{"$nulls":3},"Biometric analysis",null,{"$f":"IF('SPR #4 Forensics Attribution'!$K$15=TRUE, \"X\", \"\")","v":""},null,null,{"$f":"IF('SPR #4 Forensics Attribution'!$K$19=TRUE, \"X\", \"\")","v":""},null,null,{"$f":"IF('SPR #4 Forensics Attribution'!$K$23=TRUE, \"X\", \"\")","v":""},null,null,{"$f":"IF('SPR #4 Forensics Attribution'!$K$27=TRUE, \"X\", \"\")","v":""},null,null,{"$f":"IF('SPR #4 Forensics Attribution'!$K$31=TRUE, \"X\", \"\")","v":""},null,0,0]
["Recovery",{"$f":"'Capability Ratings Data'!B35","v":"Natural and Cultural Resources"},null,null,{"$f":"IF(AND('Capability Ratings Data'!D35>0,'Capability Ratings Data'!D35<>\"N/A\"),'Capability Ratings Data'!D35,\"\")","v":""},null,null,{"$f":"IF(AND('Capability Ratings Data'!E35>0,'Capability Ratings Data'!E35<>\"N/A\"),'Capability Ratings Data'!E35,\"\")","v":""},null,null,{"$f":"IF(AND('Capability Ratings Data'!F35>0,'Capability Ratings Data'!F35<>\"N/A\"),'Capability Ratings Data'!F35,\"\")","v":""},null,null,{"$f":"IF(AND('Capability Ratings Data'!G35>0,'Capability Ratings Data'!G35<>\"N/A\"),'Capability Ratings Data'!G35,\"\")","v":""},null,null,{"$f":"IF(AND('Capability Ratings Data'!H35>0,'Capability Ratings Data'!H35<>\"N/A\"),'Capability Ratings Data'!H35,\"\")","v":""},null,null,{"$f":"IF(AND('Capability Ratings Data'!M35>0,'Capability Ratings Data'!M35<>\"N/A\"),'Capability Ratings Data'!M35,\"\")","v":""},null,null,{"$f":"IF(AND('Capability Ratings Data'!N35>0,'Capability Ratings Data'!N35<>\"N/A\"),'Capability Ratings Data'!N35,\"\")","v":""},null,null,{"$f":"IF(AND('Capability Ratings Data'!O35>0,'Capability Ratings Data'!O35<>\"N/A\"),'Capability Ratings Data'!O35,\"\")","v":""},null,null,{"$f":"IF(AND('Capability Ratings Data'!P35>0,'Capability Ratings Data'!P35<>\"N/A\"),'Capability Ratings Data'!P35,\"\")","v":""},null,null,{"$f":"IF(AND('Capability Ratings Data'!Q35>0,'Capability Ratings Data'!Q35<>\"N/A\"),'Capability Ratings Data'!Q35,\"\")","v":""},{"$nulls":3},"CBRNE material analysis",null,{"$f":"IF('SPR #4 Forensics Attribution'!$L$15=TRUE, \"X\", \"\")","v":""},null,null,{"$f":"IF('SPR #4 Forensics Attribution'!$L$19=TRUE, \"X\", \"\")","v":""},null,null,{"$f":"IF('SPR #4 Forensics Attribution'!$L$23=TRUE, \"X\", \"\")","v":""},null,null,{"$f":"IF('SPR #4 Forensics Attribution'!$L$27=TRUE, \"X\", \"\")","v":""},null,null,{"$f":"IF('SPR #4 Forensics Attribution'!$L$31=TRUE, \"X\", \"\")","v":""},null,0,0]
[{"$nulls":35},"Crime scene preservation and exploitation",null,{"$f":"IF('SPR #4 Forensics Attribution'!$M$15=TRUE, \"X\", \"\")","v":""},null,null,{"$f":"IF('SPR #4 Forensics Attribution'!$M$19=TRUE, \"X\", \"\")","v":""},null,null,{"$f":"IF('SPR #4 Forensics Attribution'!$M$23=TRUE, \"X\", \"\")","v":""},null,null,{"$f":"IF('SPR #4 Forensics Attribution'!$M$27=TRUE, \"X\", \"\")","v":""},null,null,{"$f":"IF('SPR #4 Forensics Attribution'!$M$31=TRUE, \"X\", \"\")","v":""},null,0,0]
[{"$nulls":35},"Digital media and network exploitation",null,{"$f":"IF('SPR #4 Forensics Attribution'!$N$15=TRUE, \"X\", \"\")","v":""},null,null,{"$f":"IF('SPR #4 Forensics Attribution'!$N$19=TRUE, \"X\", \"\")","v":""},null,null,{"$f":"IF('SPR #4 Forensics Attribution'!$N$23=TRUE, \"X\", \"\")","v":""},null,null,{"$f":"IF('SPR #4 Forensics Attribution'!$N$27=TRUE, \"X\", \"\")","v":""},null,null,{"$f":"IF('SPR #4 Forensics Attribution'!$N$31=TRUE, \"X\", \"\")","v":""},null,0,0]
[{"$nulls":35},"Evidence collection",null,{"$f":"IF('SPR #4 Forensics Attribution'!$O$15=TRUE, \"X\", \"\")","v":""},null,null,{"$f":"IF('SPR #4 Forensics Attribution'!$O$19=TRUE, \"X\", \"\")","v":""},null,null,{"$f":"IF('SPR #4 Forensics Attribution'!$O$23=TRUE, \"X\", \"\")","v":""},null,null,{"$f":"IF('SPR #4 Forensics Attribution'!$O$27=TRUE, \"X\", \"\")","v":""},null,null,{"$f":"IF('SPR #4 Forensics Attribution'!$O$31=TRUE, \"X\", \"\")","v":""},null,0,0]
[{"$nulls":35},"Forensic analysis",null,{"$f":"IF('SPR #4 Forensics Attribution'!$P$15=TRUE, \"X\", \"\")","v":""},null,null,{"$f":"IF('SPR #4 Forensics Attribution'!$P$19=TRUE, \"X\", \"\")","v":""},null,null,{"$f":"IF('SPR #4 Forensics Attribution'!$P$23=TRUE, \"X\", \"\")","v":""},null,null,{"$f":"IF('SPR #4 Forensics Attribution'!$P$27=TRUE, \"X\", \"\")","v":""},null,null,{"$f":"IF('SPR #4 Forensics Attribution'!$P$31=TRUE, \"X\", \"\")","v":""},null,0,0]
[{"$nulls":35},"Terrorist investigations",null,{"$f":"IF('SPR #4 Forensics Attribution'!$Q$15=TRUE, \"X\", \"\")","v":""},null,null,{"$f":"IF('SPR #4 Forensics Attribution'!$Q$19=TRUE, \"X\", \"\")","v":""},null,null,{"$f":"IF('SPR #4 Forensics Attribution'!$Q$23=TRUE, \"X\", \"\")","v":""},null,null,{"$f":"IF('SPR #4 Forensics Attribution'!$Q$27=TRUE, \"X\", \"\")","v":""},null,null,{"$f":"IF('SPR #4 Forensics Attribution'!$Q$31=TRUE, \"X\", \"\")","v":""},null,0,0]
[{"$nulls":34},"Intelligence and Information Sharing","Analysis of intelligence and information",null,{"$f":"IF('SPR #5 Intel Info Sharing'!$I$15=TRUE, \"X\", \"\")","v":""},null,null,{"$f":"IF('SPR #5 Intel Info Sharing'!$I$19=TRUE, \"X\", \"\")","v":""},null,null,{"$f":"IF('SPR #5 Intel Info Sharing'!$I$23=TRUE, \"X\", \"\")","v":""},null,null,{"$f":"IF('SPR #5 Intel Info Sharing'!$I$27=TRUE, \"X\", \"\")","v":""},null,null,{"$f":"IF('SPR #5 Intel Info Sharing'!$I$31=TRUE, \"X\", \"\")","v":""},null,0,0]
[{"$nulls":35},"Continuous threat assessment",null,{"$f":"IF('SPR #5 Intel Info Sharing'!$J$15=TRUE, \"X\", \"\")","v":""},null,null,{"$f":"IF('SPR #5 Intel Info Sharing'!$J$19=TRUE, \"X\", \"\")","v":""},null,null,{"$f":"IF('SPR #5 Intel Info Sharing'!$J$23=TRUE, \"X\", \"\")","v":""},null,null,{"$f":"IF('SPR #5 Intel Info Sharing'!$J$27=TRUE, \"X\", \"\")","v":""},null,null,{"$f":"IF('SPR #5 Intel Info Sharing'!$J$31=TRUE, \"X\", \"\")","v":""},null,0,0]
[{"$nulls":35},"Developing reports and products",null,{"$f":"IF('SPR #5 Intel Info Sharing'!$K$15=TRUE, \"X\", \"\")","v":""},null,null,{"$f":"IF('SPR #5 Intel Info Sharing'!$K$19=TRUE, \"X\", \"\")","v":""},null,null,{"$f":"IF('SPR #5 Intel Info Sharing'!$K$23=TRUE, \"X\", \"\")","v":""},null,null,{"$f":"IF('SPR #5 Intel Info Sharing'!$K$27=TRUE, \"X\", \"\")","v":""},null,null,{"$f":"IF('SPR #5 Intel Info Sharing'!$K$31=TRUE, \"X\", \"\")","v":""},null,0,0]
[{"$nulls":35},"Disseminating intelligence and information",null,{"$f":"IF('SPR #5 Intel Info Sharing'!$L$15=TRUE, \"X\", \"\")","v":""},null,null,{"$f":"IF('SPR #5 Intel Info Sharing'!$L$19=TRUE, \"X\", \"\")","v":""},null,null,{"$f":"IF('SPR #5 Intel Info Sharing'!$L$23=TRUE, \"X\", \"\")","v":""},null,null,{"$f":"IF('SPR #5 Intel Info Sharing'!$L$27=TRUE, \"X\", \"\")","v":""},null,null,{"$f":"IF('SPR #5 Intel Info Sharing'!$L$31=TRUE, \"X\", \"\")","v":""},null,0,0]
[{"$nulls":35},"Establishing intelligence and information requirements",null,{"$f":"IF('SPR #5 Intel Info Sharing'!$M$15=TRUE, \"X\", \"\")","v":""},null,null,{"$f":"IF('SPR #5 Intel Info Sharing'!$M$19=TRUE, \"X\", \"\")","v":""},null,null,{"$f":"IF('SPR #5 Intel Info Sharing'!$M$23=TRUE, \"X\", \"\")","v":""},null,null,{"$f":"IF('SPR #5 Intel Info Sharing'!$M$27=TRUE, \"X\", \"\")","v":""},null,null,{"$f":"IF('SPR #5 Intel Info Sharing'!$M$31=TRUE, \"X\", \"\")","v":""},null,0,0]
[{"$nulls":35},"Exploiting and processing information",null,{"$f":"IF('SPR #5 Intel Info Sharing'!$N$15=TRUE, \"X\", \"\")","v":""},null,null,{"$f":"IF('SPR #5 Intel Info Sharing'!$N$19=TRUE, \"X\", \"\")","v":""},null,null,{"$f":"IF('SPR #5 Intel Info Sharing'!$N$23=TRUE, \"X\", \"\")","v":""},null,null,{"$f":"IF('SPR #5 Intel Info Sharing'!$N$27=TRUE, \"X\", \"\")","v":""},null,null,{"$f":"IF('SPR #5 Intel Info Sharing'!$N$31=TRUE, \"X\", \"\")","v":""},null,0,0]
[{"$nulls":35},"Feedback and evaluation",null,{"$f":"IF('SPR #5 Intel Info Sharing'!$O$15=TRUE, \"X\", \"\")","v":""},null,null,{"$f":"IF('SPR #5 Intel Info Sharing'!$O$19=TRUE, \"X\", \"\")","v":""},null,null,{"$f":"IF('SPR #5 Intel Info Sharing'!$O$23=TRUE, \"X\", \"\")","v":""},null,null,{"$f":"IF('SPR #5 Intel Info Sharing'!$O$27=TRUE, \"X\", \"\")","v":""},null,null,{"$f":"IF('SPR #5 Intel Info Sharing'!$O$31=TRUE, \"X\", \"\")","v":""},null,0,0]
[{"$nulls":35},"Gathering intelligence",null,{"$f":"IF('SPR #5 Intel Info Sharing'!$P$15=TRUE, \"X\", \"\")","v":""},null,null,{"$f":"IF('SPR #5 Intel Info Sharing'!$P$19=TRUE, \"X\", \"\")","v":""},null,null,{"$f":"IF('SPR #5 Intel Info Sharing'!$P$23=TRUE, \"X\", \"\")","v":""},null,null,{"$f":"IF('SPR #5 Intel Info Sharing'!$P$27=TRUE, \"X\", \"\")","v":""},null,null,{"$f":"IF('SPR #5 Intel Info Sharing'!$P$31=TRUE, \"X\", \"\")","v":""},null,0,0]
[{"$nulls":35},"Monitoring information",null,{"$f":"IF('SPR #5 Intel Info Sharing'!$Q$15=TRUE, \"X\", \"\")","v":""},null,null,{"$f":"IF('SPR #5 Intel Info Sharing'!$Q$19=TRUE, \"X\", \"\")","v":""},null,null,{"$f":"IF('SPR #5 Intel Info Sharing'!$Q$23=TRUE, \"X\", \"\")","v":""},null,null,{"$f":"IF('SPR #5 Intel Info Sharing'!$Q$27=TRUE, \"X\", \"\")","v":""},null,null,{"$f":"IF('SPR #5 Intel Info Sharing'!$Q$31=TRUE, \"X\", \"\")","v":""},null,0,0]
[{"$nulls":35},"Safeguarding sensitive information",null,{"$f":"IF('SPR #5 Intel Info Sharing'!$R$15=TRUE, \"X\", \"\")","v":""},null,null,{"$f":"IF('SPR #5 Intel Info Sharing'!$R$19=TRUE, \"X\", \"\")","v":""},null,null,{"$f":"IF('SPR #5 Intel Info Sharing'!$R$23=TRUE, \"X\", \"\")","v":""},null,null,{"$f":"IF('SPR #5 Intel Info Sharing'!$R$27=TRUE, \"X\", \"\")","v":""},null,null,{"$f":"IF('SPR #5 Intel Info Sharing'!$R$31=TRUE, \"X\", \"\")","v":""},null,0,0]
[{"$nulls":34},"Interdiction and Disruption","Anti-terrorism operations",null,{"$f":"IF('SPR #6 Interdict Disrupt'!$I$15=TRUE, \"X\", \"\")","v":""},null,null,{"$f":"IF('SPR #6 Interdict Disrupt'!$I$19=TRUE, \"X\", \"\")","v":""},null,null,{"$f":"IF('SPR #6 Interdict Disrupt'!$I$23=TRUE, \"X\", \"\")","v":""},null,null,{"$f":"IF('SPR #6 Interdict Disrupt'!$I$27=TRUE, \"X\", \"\")","v":""},null,null,{"$f":"IF('SPR #6 Interdict Disrupt'!$I$31=TRUE, \"X\", \"\")","v":""},null,0,0]
[{"$nulls":35},"Border security",null,{"$f":"IF('SPR #6 Interdict Disrupt'!$J$15=TRUE, \"X\", \"\")","v":""},null,null,{"$f":"IF('SPR #6 Interdict Disrupt'!$J$19=TRUE, \"X\", \"\")","v":""},null,null,{"$f":"IF('SPR #6 Interdict Disrupt'!$J$23=TRUE, \"X\", \"\")","v":""},null,null,{"$f":"IF('SPR #6 Interdict Disrupt'!$J$27=TRUE, \"X\", \"\")","v":""},null,null,{"$f":"IF('SPR #6 Interdict Disrupt'!$J$31=TRUE, \"X\", \"\")","v":""},null,0,0]
[{"$nulls":35},"CBRNE detection",null,{"$f":"IF('SPR #6 Interdict Disrupt'!$K$15=TRUE, \"X\", \"\")","v":""},null,null,{"$f":"IF('SPR #6 Interdict Disrupt'!$K$19=TRUE, \"X\", \"\")","v":""},null,null,{"$f":"IF('SPR #6 Interdict Disrupt'!$K$23=TRUE, \"X\", \"\")","v":""},null,null,{"$f":"IF('SPR #6 Interdict Disrupt'!$K$27=TRUE, \"X\", \"\")","v":""},null,null,{"$f":"IF('SPR #6 Interdict Disrupt'!$K$31=TRUE, \"X\", \"\")","v":""},null,0,0]
[{"$nulls":35},"CBRNE render safe",null,{"$f":"IF('SPR #6 Interdict Disrupt'!$L$15=TRUE, \"X\", \"\")","v":""},null,null,{"$f":"IF('SPR #6 Interdict Disrupt'!$L$19=TRUE, \"X\", \"\")","v":""},null,null,{"$f":"IF('SPR #6 Interdict Disrupt'!$L$23=TRUE, \"X\", \"\")","v":""},null,null,{"$f":"IF('SPR #6 Interdict Disrupt'!$L$27=TRUE, \"X\", \"\")","v":""},null,null,{"$f":"IF('SPR #6 Interdict Disrupt'!$L$31=TRUE, \"X\", \"\")","v":""},null,0,0]
[{"$nulls":35},"Deterrent law enforcement presence",null,{"$f":"IF('SPR #6 Interdict Disrupt'!$M$15=TRUE, \"X\", \"\")","v":""},null,null,{"$f":"IF('SPR #6 Interdict Disrupt'!$M$19=TRUE, \"X\", \"\")","v":""},null,null,{"$f":"IF('SPR #6 Interdict Disrupt'!$M$23=TRUE, \"X\", \"\")","v":""},null,null,{"$f":"IF('SPR #6 Interdict Disrupt'!$M$27=TRUE, \"X\", \"\")","v":""},null,null,{"$f":"IF('SPR #6 Interdict Disrupt'!$M$31=TRUE, \"X\", \"\")","v":""},null,0,0]
[{"$nulls":35},"Disease prevention",null,{"$f":"IF('SPR #6 Interdict Disrupt'!$N$15=TRUE, \"X\", \"\")","v":""},null,null,{"$f":"IF('SPR #6 Interdict Disrupt'!$N$19=TRUE, \"X\", \"\")","v":""},null,null,{"$f":"IF('SPR #6 Interdict Disrupt'!$N$23=TRUE, \"X\", \"\")","v":""},null,null,{"$f":"IF('SPR #6 Interdict Disrupt'!$N$27=TRUE, \"X\", \"\")","v":""},null,null,{"$f":"IF('SPR #6 Interdict Disrupt'!$N$31=TRUE, \"X\", \"\")","v":""},null,0,0]
[{"$nulls":35},"Financial disruption",null,{"$f":"IF('SPR #6 Interdict Disrupt'!$O$15=TRUE, \"X\", \"\")","v":""},null,null,{"$f":"IF('SPR #6 Interdict Disrupt'!$O$19=TRUE, \"X\", \"\")","v":""},null,null,{"$f":"IF('SPR #6 Interdict Disrupt'!$O$23=TRUE, \"X\", \"\")","v":""},null,null,{"$f":"IF('SPR #6 Interdict Disrupt'!$O$27=TRUE, \"X\", \"\")","v":""},null,null,{"$f":"IF('SPR #6 Interdict Disrupt'!$O$31=TRUE, \"X\", \"\")","v":""},null,0,0]
[{"$nulls":35},"Interdicting cargo, conveyances, and persons",null,{"$f":"IF('SPR #6 Interdict Disrupt'!$P$15=TRUE, \"X\", \"\")","v":""},null,null,{"$f":"IF('SPR #6 Interdict Disrupt'!$P$19=TRUE, \"X\", \"\")","v":""},null,null,{"$f":"IF('SPR #6 Interdict Disrupt'!$P$23=TRUE, \"X\", \"\")","v":""},null,null,{"$f":"IF('SPR #6 Interdict Disrupt'!$P$27=TRUE, \"X\", \"\")","v":""},null,null,{"$f":"IF('SPR #6 Interdict Disrupt'!$P$31=TRUE, \"X\", \"\")","v":""},null,0,0]
[{"$nulls":35},"Preventing acquisition of CBRNE",null,{"$f":"IF('SPR #6 Interdict Disrupt'!$Q$15=TRUE, \"X\", \"\")","v":""},null,null,{"$f":"IF('SPR #6 Interdict Disrupt'!$Q$19=TRUE, \"X\", \"\")","v":""},null,null,{"$f":"IF('SPR #6 Interdict Disrupt'!$Q$23=TRUE, \"X\", \"\")","v":""},null,null,{"$f":"IF('SPR #6 Interdict Disrupt'!$Q$27=TRUE, \"X\", \"\")","v":""},null,null,{"$f":"IF('SPR #6 Interdict Disrupt'!$Q$31=TRUE, \"X\", \"\")","v":""},null,0,0]
[{"$nulls":35},"Tactical law-enforcement operations",null,{"$f":"IF('SPR #6 Interdict Disrupt'!$R$15=TRUE, \"X\", \"\")","v":""},null,null,{"$f":"IF('SPR #6 Interdict Disrupt'!$R$19=TRUE, \"X\", \"\")","v":""},null,null,{"$f":"IF('SPR #6 Interdict Disrupt'!$R$23=TRUE, \"X\", \"\")","v":""},null,null,{"$f":"IF('SPR #6 Interdict Disrupt'!$R$27=TRUE, \"X\", \"\")","v":""},null,null,{"$f":"IF('SPR #6 Interdict Disrupt'!$R$31=TRUE, \"X\", \"\")","v":""},null,0,0]
[{"$nulls":35},"Tracking and targeting terrorists and their weapons",null,{"$f":"IF('SPR #6 Interdict Disrupt'!$S$15=TRUE, \"X\", \"\")","v":""},null,null,{"$f":"IF('SPR #6 Interdict Disrupt'!$S$19=TRUE, \"X\", \"\")","v":""},null,null,{"$f":"IF('SPR #6 Interdict Disrupt'!$S$23=TRUE, \"X\", \"\")","v":""},null,null,{"$f":"IF('SPR #6 Interdict Disrupt'!$S$27=TRUE, \"X\", \"\")","v":""},null,null,{"$f":"IF('SPR #6 Interdict Disrupt'!$S$31=TRUE, \"X\", \"\")","v":""},null,0,0]
[{"$nulls":35},"Wide-area search and detection",null,{"$f":"IF('SPR #6 Interdict Disrupt'!$T$15=TRUE, \"X\", \"\")","v":""},null,null,{"$f":"IF('SPR #6 Interdict Disrupt'!$T$19=TRUE, \"X\", \"\")","v":""},null,null,{"$f":"IF('SPR #6 Interdict Disrupt'!$T$23=TRUE, \"X\", \"\")","v":""},null,null,{"$f":"IF('SPR #6 Interdict Disrupt'!$T$27=TRUE, \"X\", \"\")","v":""},null,null,{"$f":"IF('SPR #6 Interdict Disrupt'!$T$31=TRUE, \"X\", \"\")","v":""},null,0,0]
[{"$nulls":34},"Screeing, Search, and Detection","Biosurveillance",null,{"$f":"IF('SPR #7 Screen Search Detect'!$I$15=TRUE, \"X\", \"\")","v":""},null,null,{"$f":"IF('SPR #7 Screen Search Detect'!$I$19=TRUE, \"X\", \"\")","v":""},null,null,{"$f":"IF('SPR #7 Screen Search Detect'!$I$23=TRUE, \"X\", \"\")","v":""},null,null,{"$f":"IF('SPR #7 Screen Search Detect'!$I$27=TRUE, \"X\", \"\")","v":""},null,null,{"$f":"IF('SPR #7 Screen Search Detect'!$I$31=TRUE, \"X\", \"\")","v":""},null,0,0]
[{"$nulls":35},"CBRNE detection",null,{"$f":"IF('SPR #7 Screen Search Detect'!$J$15=TRUE, \"X\", \"\")","v":""},null,null,{"$f":"IF('SPR #7 Screen Search Detect'!$J$19=TRUE, \"X\", \"\")","v":""},null,null,{"$f":"IF('SPR #7 Screen Search Detect'!$J$23=TRUE, \"X\", \"\")","v":""},null,null,{"$f":"IF('SPR #7 Screen Search Detect'!$J$27=TRUE, \"X\", \"\")","v":""},null,null,{"$f":"IF('SPR #7 Screen Search Detect'!$J$31=TRUE, \"X\", \"\")","v":""},null,0,0]
[{"$nulls":35},"Electronic search",null,{"$f":"IF('SPR #7 Screen Search Detect'!$K$15=TRUE, \"X\", \"\")","v":""},null,null,{"$f":"IF('SPR #7 Screen Search Detect'!$K$19=TRUE, \"X\", \"\")","v":""},null,null,{"$f":"IF('SPR #7 Screen Search Detect'!$K$23=TRUE, \"X\", \"\")","v":""},null,null,{"$f":"IF('SPR #7 Screen Search Detect'!$K$27=TRUE, \"X\", \"\")","v":""},null,null,{"$f":"IF('SPR #7 Screen Search Detect'!$K$31=TRUE, \"X\", \"\")","v":""},null,0,0]
[{"$nulls":35},"Laboratory testing",null,{"$f":"IF('SPR #7 Screen Search Detect'!$L$15=TRUE, \"X\", \"\")","v":""},null,null,{"$f":"IF('SPR #7 Screen Search Detect'!$L$19=TRUE, \"X\", \"\")","v":""},null,null,{"$f":"IF('SPR #7 Screen Search Detect'!$L$23=TRUE, \"X\", \"\")","v":""},null,null,{"$f":"IF('SPR #7 Screen Search Detect'!$L$27=TRUE, \"X\", \"\")","v":""},null,null,{"$f":"IF('SPR #7 Screen Search Detect'!$L$31=TRUE, \"X\", \"\")","v":""},null,0,0]
[{"$nulls":35},"Locating terrorists",null,{"$f":"IF('SPR #7 Screen Search Detect'!$M$15=TRUE, \"X\", \"\")","v":""},null,null,{"$f":"IF('SPR #7 Screen Search Detect'!$M$19=TRUE, \"X\", \"\")","v":""},null,null,{"$f":"IF('SPR #7 Screen Search Detect'!$M$23=TRUE, \"X\", \"\")","v":""},null,null,{"$f":"IF('SPR #7 Screen Search Detect'!$M$27=TRUE, \"X\", \"\")","v":""},null,null,{"$f":"IF('SPR #7 Screen Search Detect'!$M$31=TRUE, \"X\", \"\")","v":""},null,0,0]
[{"$nulls":35},"Physical investigation",null,{"$f":"IF('SPR #7 Screen Search Detect'!$N$15=TRUE, \"X\", \"\")","v":""},null,null,{"$f":"IF('SPR #7 Screen Search Detect'!$N$19=TRUE, \"X\", \"\")","v":""},null,null,{"$f":"IF('SPR #7 Screen Search Detect'!$N$23=TRUE, \"X\", \"\")","v":""},null,null,{"$f":"IF('SPR #7 Screen Search Detect'!$N$27=TRUE, \"X\", \"\")","v":""},null,null,{"$f":"IF('SPR #7 Screen Search Detect'!$N$31=TRUE, \"X\", \"\")","v":""},null,0,0]
[{"$nulls":35},"Promoting an observant nation",null,{"$f":"IF('SPR #7 Screen Search Detect'!$O$15=TRUE, \"X\", \"\")","v":""},null,null,{"$f":"IF('SPR #7 Screen Search Detect'!$O$19=TRUE, \"X\", \"\")","v":""},null,null,{"$f":"IF('SPR #7 Screen Search Detect'!$O$23=TRUE, \"X\", \"\")","v":""},null,null,{"$f":"IF('SPR #7 Screen Search Detect'!$O$27=TRUE, \"X\", \"\")","v":""},null,null,{"$f":"IF('SPR #7 Screen Search Detect'!$O$31=TRUE, \"X\", \"\")","v":""},null,0,0]
[{"$nulls":35},"Screening",null,{"$f":"IF('SPR #7 Screen Search Detect'!$P$15=TRUE, \"X\", \"\")","v":""},null,null,{"$f":"IF('SPR #7 Screen Search Detect'!$P$19=TRUE, \"X\", \"\")","v":""},null,null,{"$f":"IF('SPR #7 Screen Search Detect'!$P$23=TRUE, \"X\", \"\")","v":""},null,null,{"$f":"IF('SPR #7 Screen Search Detect'!$P$27=TRUE, \"X\", \"\")","v":""},null,null,{"$f":"IF('SPR #7 Screen Search Detect'!$P$31=TRUE, \"X\", \"\")","v":""},null,{"$f":"COUNTIF(AK70, \"X\")+COUNTIF(AN70, \"X\")+COUNTIF(AQ70, \"X\")+COUNTIF(AT70,\"X\")+COUNTIF(AW70, \"X\")","v":0},{"$f":"COUNTIF(AL70, \"X\")+COUNTIF(AO70, \"X\")+COUNTIF(AR70, \"X\")+COUNTIF(AU70,\"X\")+COUNTIF(AX70, \"X\")","v":0}]
[{"$nulls":35},"Wide-area search",null,{"$f":"IF('SPR #7 Screen Search Detect'!$Q$15=TRUE, \"X\", \"\")","v":""},null,null,{"$f":"IF('SPR #7 Screen Search Detect'!$Q$19=TRUE, \"X\", \"\")","v":""},null,null,{"$f":"IF('SPR #7 Screen Search Detect'!$Q$23=TRUE, \"X\", \"\")","v":""},null,null,{"$f":"IF('SPR #7 Screen Search Detect'!$Q$27=TRUE, \"X\", \"\")","v":""},null,null,{"$f":"IF('SPR #7 Screen Search Detect'!$Q$31=TRUE, \"X\", \"\")","v":""},null,0,0]
[{"$nulls":34},"Access Control and Identity Verification","Controlling cyber access",null,{"$f":"IF('SPR #8 Access Control'!$I$15=TRUE, \"X\", \"\")","v":""},null,null,{"$f":"IF('SPR #8 Access Control'!$I$19=TRUE, \"X\", \"\")","v":""},null,null,{"$f":"IF('SPR #8 Access Control'!$I$23=TRUE, \"X\", \"\")","v":""},null,null,{"$f":"IF('SPR #8 Access Control'!$I$27=TRUE, \"X\", \"\")","v":""},null,null,{"$f":"IF('SPR #8 Access Control'!$I$31=TRUE, \"X\", \"\")","v":""},null,0,0]
[{"$nulls":35},"Controlling physical access",null,{"$f":"IF('SPR #8 Access Control'!$J$15=TRUE, \"X\", \"\")","v":""},null,null,{"$f":"IF('SPR #8 Access Control'!$J$19=TRUE, \"X\", \"\")","v":""},null,null,{"$f":"IF('SPR #8 Access Control'!$J$23=TRUE, \"X\", \"\")","v":""},null,null,{"$f":"IF('SPR #8 Access Control'!$J$27=TRUE, \"X\", \"\")","v":""},null,null,{"$f":"IF('SPR #8 Access Control'!$J$31=TRUE, \"X\", \"\")","v":""},null,0,0]
[{"$nulls":35},"Verifying identity",null,{"$f":"IF('SPR #8 Access Control'!$K$15=TRUE, \"X\", \"\")","v":""},null,null,{"$f":"IF('SPR #8 Access Control'!$K$19=TRUE, \"X\", \"\")","v":""},null,null,{"$f":"IF('SPR #8 Access Control'!$K$23=TRUE, \"X\", \"\")","v":""},null,null,{"$f":"IF('SPR #8 Access Control'!$K$27=TRUE, \"X\", \"\")","v":""},null,null,{"$f":"IF('SPR #8 Access Control'!$K$31=TRUE, \"X\", \"\")","v":""},null,0,0]
[{"$nulls":34},"Cybersecurity","Continuity of operations for cyber systems",null,{"$f":"IF('SPR #9 Cybersecurity'!$I$15=TRUE, \"X\", \"\")","v":""},null,null,{"$f":"IF('SPR #9 Cybersecurity'!$I$19=TRUE, \"X\", \"\")","v":""},null,null,{"$f":"IF('SPR #9 Cybersecurity'!$I$23=TRUE, \"X\", \"\")","v":""},null,null,{"$f":"IF('SPR #9 Cybersecurity'!$I$27=TRUE, \"X\", \"\")","v":""},null,null,{"$f":"IF('SPR #9 Cybersecurity'!$I$31=TRUE, \"X\", \"\")","v":""},null,0,0]
[{"$nulls":35},"Controlling electronic access",null,{"$f":"IF('SPR #9 Cybersecurity'!$J$15=TRUE, \"X\", \"\")","v":""},null,null,{"$f":"IF('SPR #9 Cybersecurity'!$J$19=TRUE, \"X\", \"\")","v":""},null,null,{"$f":"IF('SPR #9 Cybersecurity'!$J$23=TRUE, \"X\", \"\")","v":""},null,null,{"$f":"IF('SPR #9 Cybersecurity'!$J$27=TRUE, \"X\", \"\")","v":""},null,null,{"$f":"IF('SPR #9 Cybersecurity'!$J$31=TRUE, \"X\", \"\")","v":""},null,0,0]
[{"$nulls":35},"Detecting malicious activity",null,{"$f":"IF('SPR #9 Cybersecurity'!$K$15=TRUE, \"X\", \"\")","v":""},null,null,{"$f":"IF('SPR #9 Cybersecurity'!$K$19=TRUE, \"X\", \"\")","v":""},null,null,{"$f":"IF('SPR #9 Cybersecurity'!$K$23=TRUE, \"X\", \"\")","v":""},null,null,{"$f":"IF('SPR #9 Cybersecurity'!$K$27=TRUE, \"X\", \"\")","v":""},null,null,{"$f":"IF('SPR #9 Cybersecurity'!$K$31=TRUE, \"X\", \"\")","v":""},null,0,0]
[{"$nulls":35},"Guidelines, regulations, and standards",null,{"$f":"IF('SPR #9 Cybersecurity'!$L$15=TRUE, \"X\", \"\")","v":""},null,null,{"$f":"IF('SPR #9 Cybersecurity'!$L$19=TRUE, \"X\", \"\")","v":""},null,null,{"$f":"IF('SPR #9 Cybersecurity'!$L$23=TRUE, \"X\", \"\")","v":""},null,null,{"$f":"IF('SPR #9 Cybersecurity'!$L$27=TRUE, \"X\", \"\")","v":""},null,null,{"$f":"IF('SPR #9 Cybersecurity'!$L$31=TRUE, \"X\", \"\")","v":""},null,0,0]
[{"$nulls":35},"Investigating malicious actors",null,{"$f":"IF('SPR #9 Cybersecurity'!$M$15=TRUE, \"X\", \"\")","v":""},null,null,{"$f":"IF('SPR #9 Cybersecurity'!$M$19=TRUE, \"X\", \"\")","v":""},null,null,{"$f":"IF('SPR #9 Cybersecurity'!$M$23=TRUE, \"X\", \"\")","v":""},null,null,{"$f":"IF('SPR #9 Cybersecurity'!$M$27=TRUE, \"X\", \"\")","v":""},null,null,{"$f":"IF('SPR #9 Cybersecurity'!$M$31=TRUE, \"X\", \"\")","v":""},null,0,0]
[{"$nulls":35},"Protective measures",null,{"$f":"IF('SPR #9 Cybersecurity'!$N$15=TRUE, \"X\", \"\")","v":""},null,null,{"$f":"IF('SPR #9 Cybersecurity'!$N$19=TRUE, \"X\", \"\")","v":""},null,null,{"$f":"IF('SPR #9 Cybersecurity'!$N$23=TRUE, \"X\", \"\")","v":""},null,null,{"$f":"IF('SPR #9 Cybersecurity'!$N$27=TRUE, \"X\", \"\")","v":""},null,null,{"$f":"IF('SPR #9 Cybersecurity'!$N$31=TRUE, \"X\", \"\")","v":""},null,0,0]
[{"$nulls":35},"Securing CIKR and SCADA systems",null,{"$f":"IF('SPR #9 Cybersecurity'!$O$15=TRUE, \"X\", \"\")","v":""},null,null,{"$f":"IF('SPR #9 Cybersecurity'!$O$19=TRUE, \"X\", \"\")","v":""},null,null,{"$f":"IF('SPR #9 Cybersecurity'!$O$23=TRUE, \"X\", \"\")","v":""},null,null,{"$f":"IF('SPR #9 Cybersecurity'!$O$27=TRUE, \"X\", \"\")","v":""},null,null,{"$f":"IF('SPR #9 Cybersecurity'!$O$31=TRUE, \"X\", \"\")","v":""},null,0,0]
[{"$nulls":35},"Sharing threat information",null,{"$f":"IF('SPR #9 Cybersecurity'!$P$15=TRUE, \"X\", \"\")","v":""},null,null,{"$f":"IF('SPR #9 Cybersecurity'!$P$19=TRUE, \"X\", \"\")","v":""},null,null,{"$f":"IF('SPR #9 Cybersecurity'!$P$23=TRUE, \"X\", \"\")","v":""},null,null,{"$f":"IF('SPR #9 Cybersecurity'!$P$27=TRUE, \"X\", \"\")","v":""},null,null,{"$f":"IF('SPR #9 Cybersecurity'!$P$31=TRUE, \"X\", \"\")","v":""},null,0,0]
[{"$nulls":35},"Technical countermeasures",null,{"$f":"IF('SPR #9 Cybersecurity'!$Q$15=TRUE, \"X\", \"\")","v":""},null,null,{"$f":"IF('SPR #9 Cybersecurity'!$Q$19=TRUE, \"X\", \"\")","v":""},null,null,{"$f":"IF('SPR #9 Cybersecurity'!$Q$23=TRUE, \"X\", \"\")","v":""},null,null,{"$f":"IF('SPR #9 Cybersecurity'!$Q$27=TRUE, \"X\", \"\")","v":""},null,null,{"$f":"IF('SPR #9 Cybersecurity'!$Q$31=TRUE, \"X\", \"\")","v":""},null,0,0]
[{"$nulls":34},"Physical Protective Measures","Biosecurity",null,{"$f":"IF('SPR #10 Phys Protect Meas'!$I$15=TRUE, \"X\", \"\")","v":""},null,null,{"$f":"IF('SPR #10 Phys Protect Meas'!$I$19=TRUE, \"X\", \"\")","v":""},null,null,{"$f":"IF('SPR #10 Phys Protect Meas'!$I$23=TRUE, \"X\", \"\")","v":""},null,null,{"$f":"IF('SPR #10 Phys Protect Meas'!$I$27=TRUE, \"X\", \"\")","v":""},null,null,{"$f":"IF('SPR #10 Phys Protect Meas'!$I$31=TRUE, \"X\", \"\")","v":""},null,0,0]
[{"$nulls":35},"Border protection",null,{"$f":"IF('SPR #10 Phys Protect Meas'!$J$15=TRUE, \"X\", \"\")","v":""},null,null,{"$f":"IF('SPR #10 Phys Protect Meas'!$J$19=TRUE, \"X\", \"\")","v":""},null,null,{"$f":"IF('SPR #10 Phys Protect Meas'!$J$23=TRUE, \"X\", \"\")","v":""},null,null,{"$f":"IF('SPR #10 Phys Protect Meas'!$J$27=TRUE, \"X\", \"\")","v":""},null,null,{"$f":"IF('SPR #10 Phys Protect Meas'!$J$31=TRUE, \"X\", \"\")","v":""},null,0,0]
[{"$nulls":35},"Identifying and prioritizing assets to protect",null,{"$f":"IF('SPR #10 Phys Protect Meas'!$K$15=TRUE, \"X\", \"\")","v":""},null,null,{"$f":"IF('SPR #10 Phys Protect Meas'!$K$19=TRUE, \"X\", \"\")","v":""},null,null,{"$f":"IF('SPR #10 Phys Protect Meas'!$K$23=TRUE, \"X\", \"\")","v":""},null,null,{"$f":"IF('SPR #10 Phys Protect Meas'!$K$27=TRUE, \"X\", \"\")","v":""},null,null,{"$f":"IF('SPR #10 Phys Protect Meas'!$K$31=TRUE, \"X\", \"\")","v":""},null,0,0]
[{"$nulls":35},"Physical security measures",null,{"$f":"IF('SPR #10 Phys Protect Meas'!$L$15=TRUE, \"X\", \"\")","v":""},null,null,{"$f":"IF('SPR #10 Phys Protect Meas'!$L$19=TRUE, \"X\", \"\")","v":""},null,null,{"$f":"IF('SPR #10 Phys Protect Meas'!$L$23=TRUE, \"X\", \"\")","v":""},null,null,{"$f":"IF('SPR #10 Phys Protect Meas'!$L$27=TRUE, \"X\", \"\")","v":""},null,null,{"$f":"IF('SPR #10 Phys Protect Meas'!$L$31=TRUE, \"X\", \"\")","v":""},null,0,0]
[{"$nulls":35},"Site-specific and process-specific risk assessments",null,{"$f":"IF('SPR #10 Phys Protect Meas'!$M$15=TRUE, \"X\", \"\")","v":""},null,null,{"$f":"IF('SPR #10 Phys Protect Meas'!$M$19=TRUE, \"X\", \"\")","v":""},null,null,{"$f":"IF('SPR #10 Phys Protect Meas'!$M$23=TRUE, \"X\", \"\")","v":""},null,null,{"$f":"IF('SPR #10 Phys Protect Meas'!$M$27=TRUE, \"X\", \"\")","v":""},null,null,{"$f":"IF('SPR #10 Phys Protect Meas'!$M$31=TRUE, \"X\", \"\")","v":""},null,0,0]
[{"$nulls":34},"Risk Management for Protection Programs and Activities","Analysis tools",null,{"$f":"IF('SPR #11 Risk Mgmt Protect'!$I$15=TRUE, \"X\", \"\")","v":""},null,null,{"$f":"IF('SPR #11 Risk Mgmt Protect'!$I$19=TRUE, \"X\", \"\")","v":""},null,null,{"$f":"IF('SPR #11 Risk Mgmt Protect'!$I$23=TRUE, \"X\", \"\")","v":""},null,null,{"$f":"IF('SPR #11 Risk Mgmt Protect'!$I$27=TRUE, \"X\", \"\")","v":""},null,null,{"$f":"IF('SPR #11 Risk Mgmt Protect'!$I$31=TRUE, \"X\", \"\")","v":""},null,0,0]
[{"$nulls":35},"Data collection",null,{"$f":"IF('SPR #11 Risk Mgmt Protect'!$J$15=TRUE, \"X\", \"\")","v":""},null,null,{"$f":"IF('SPR #11 Risk Mgmt Protect'!$J$19=TRUE, \"X\", \"\")","v":""},null,null,{"$f":"IF('SPR #11 Risk Mgmt Protect'!$J$23=TRUE, \"X\", \"\")","v":""},null,null,{"$f":"IF('SPR #11 Risk Mgmt Protect'!$J$27=TRUE, \"X\", \"\")","v":""},null,null,{"$f":"IF('SPR #11 Risk Mgmt Protect'!$J$31=TRUE, \"X\", \"\")","v":""},null,0,0]
[{"$nulls":35},"Exercise design",null,{"$f":"IF('SPR #11 Risk Mgmt Protect'!$K$15=TRUE, \"X\", \"\")","v":""},null,null,{"$f":"IF('SPR #11 Risk Mgmt Protect'!$K$19=TRUE, \"X\", \"\")","v":""},null,null,{"$f":"IF('SPR #11 Risk Mgmt Protect'!$K$23=TRUE, \"X\", \"\")","v":""},null,null,{"$f":"IF('SPR #11 Risk Mgmt Protect'!$K$27=TRUE, \"X\", \"\")","v":""},null,null,{"$f":"IF('SPR #11 Risk Mgmt Protect'!$K$31=TRUE, \"X\", \"\")","v":""},null,0,0]
[{"$nulls":35},"Risk assessment",null,{"$f":"IF('SPR #11 Risk Mgmt Protect'!$L$15=TRUE, \"X\", \"\")","v":""},null,null,{"$f":"IF('SPR #11 Risk Mgmt Protect'!$L$19=TRUE, \"X\", \"\")","v":""},null,null,{"$f":"IF('SPR #11 Risk Mgmt Protect'!$L$23=TRUE, \"X\", \"\")","v":""},null,null,{"$f":"IF('SPR #11 Risk Mgmt Protect'!$L$27=TRUE, \"X\", \"\")","v":""},null,null,{"$f":"IF('SPR #11 Risk Mgmt Protect'!$L$31=TRUE, \"X\", \"\")","v":""},null,0,0]
[{"$nulls":35},"Risk management planning",null,{"$f":"IF('SPR #11 Risk Mgmt Protect'!$M$15=TRUE, \"X\", \"\")","v":""},null,null,{"$f":"IF('SPR #11 Risk Mgmt Protect'!$M$19=TRUE, \"X\", \"\")","v":""},null,null,{"$f":"IF('SPR #11 Risk Mgmt Protect'!$M$23=TRUE, \"X\", \"\")","v":""},null,null,{"$f":"IF('SPR #11 Risk Mgmt Protect'!$M$27=TRUE, \"X\", \"\")","v":""},null,null,{"$f":"IF('SPR #11 Risk Mgmt Protect'!$M$31=TRUE, \"X\", \"\")","v":""},null,0,0]
[{"$nulls":34},"Supply Chain Integrity and Security","Analysis of supply chain dependencies",null,{"$f":"IF('SPR #12 Supply Chain'!$I$15=TRUE, \"X\", \"\")","v":""},null,null,{"$f":"IF('SPR #12 Supply Chain'!$I$19=TRUE, \"X\", \"\")","v":""},null,null,{"$f":"IF('SPR #12 Supply Chain'!$I$23=TRUE, \"X\", \"\")","v":""},null,null,{"$f":"IF('SPR #12 Supply Chain'!$I$27=TRUE, \"X\", \"\")","v":""},null,null,{"$f":"IF('SPR #12 Supply Chain'!$I$31=TRUE, \"X\", \"\")","v":""},null,0,0]
[{"$nulls":35},"Implementing countermeasures",null,{"$f":"IF('SPR #12 Supply Chain'!$J$15=TRUE, \"X\", \"\")","v":""},null,null,{"$f":"IF('SPR #12 Supply Chain'!$J$19=TRUE, \"X\", \"\")","v":""},null,null,{"$f":"IF('SPR #12 Supply Chain'!$J$23=TRUE, \"X\", \"\")","v":""},null,null,{"$f":"IF('SPR #12 Supply Chain'!$J$27=TRUE, \"X\", \"\")","v":""},null,null,{"$f":"IF('SPR #12 Supply Chain'!$J$31=TRUE, \"X\", \"\")","v":""},null,0,0]
[{"$nulls":35},"Implementing physical protection",null,{"$f":"IF('SPR #12 Supply Chain'!$K$15=TRUE, \"X\", \"\")","v":""},null,null,{"$f":"IF('SPR #12 Supply Chain'!$K$19=TRUE, \"X\", \"\")","v":""},null,null,{"$f":"IF('SPR #12 Supply Chain'!$K$23=TRUE, \"X\", \"\")","v":""},null,null,{"$f":"IF('SPR #12 Supply Chain'!$K$27=TRUE, \"X\", \"\")","v":""},null,null,{"$f":"IF('SPR #12 Supply Chain'!$K$31=TRUE, \"X\", \"\")","v":""},null,0,0]
[{"$nulls":35},"Integrating security processes",null,{"$f":"IF('SPR #12 Supply Chain'!$L$15=TRUE, \"X\", \"\")","v":""},null,null,{"$f":"IF('SPR #12 Supply Chain'!$L$19=TRUE, \"X\", \"\")","v":""},null,null,{"$f":"IF('SPR #12 Supply Chain'!$L$23=TRUE, \"X\", \"\")","v":""},null,null,{"$f":"IF('SPR #12 Supply Chain'!$L$27=TRUE, \"X\", \"\")","v":""},null,null,{"$f":"IF('SPR #12 Supply Chain'!$L$31=TRUE, \"X\", \"\")","v":""},null,0,0]
[{"$nulls":35},"Verification and detection",null,{"$f":"IF('SPR #12 Supply Chain'!$M$15=TRUE, \"X\", \"\")","v":""},null,null,{"$f":"IF('SPR #12 Supply Chain'!$M$19=TRUE, \"X\", \"\")","v":""},null,null,{"$f":"IF('SPR #12 Supply Chain'!$M$23=TRUE, \"X\", \"\")","v":""},null,null,{"$f":"IF('SPR #12 Supply Chain'!$M$27=TRUE, \"X\", \"\")","v":""},null,null,{"$f":"IF('SPR #12 Supply Chain'!$M$31=TRUE, \"X\", \"\")","v":""},null,0,0]
[{"$nulls":34},"Community Resilience","Collaborative planning and decision-making",null,{"$f":"IF('SPR #13 Comm Resilience'!$I$15=TRUE, \"X\", \"\")","v":""},null,null,{"$f":"IF('SPR #13 Comm Resilience'!$I$19=TRUE, \"X\", \"\")","v":""},null,null,{"$f":"IF('SPR #13 Comm Resilience'!$I$23=TRUE, \"X\", \"\")","v":""},null,null,{"$f":"IF('SPR #13 Comm Resilience'!$I$27=TRUE, \"X\", \"\")","v":""},null,null,{"$f":"IF('SPR #13 Comm Resilience'!$I$31=TRUE, \"X\", \"\")","v":""},null,0,0]
[{"$nulls":35},"Communication and outreach",null,{"$f":"IF('SPR #13 Comm Resilience'!$J$15=TRUE, \"X\", \"\")","v":""},null,null,{"$f":"IF('SPR #13 Comm Resilience'!$J$19=TRUE, \"X\", \"\")","v":""},null,null,{"$f":"IF('SPR #13 Comm Resilience'!$J$23=TRUE, \"X\", \"\")","v":""},null,null,{"$f":"IF('SPR #13 Comm Resilience'!$J$27=TRUE, \"X\", \"\")","v":""},null,null,{"$f":"IF('SPR #13 Comm Resilience'!$J$31=TRUE, \"X\", \"\")","v":""},null,0,0]
[{"$nulls":35},"Education and skill building",null,{"$f":"IF('SPR #13 Comm Resilience'!$K$15=TRUE, \"X\", \"\")","v":""},null,null,{"$f":"IF('SPR #13 Comm Resilience'!$K$19=TRUE, \"X\", \"\")","v":""},null,null,{"$f":"IF('SPR #13 Comm Resilience'!$K$23=TRUE, \"X\", \"\")","v":""},null,null,{"$f":"IF('SPR #13 Comm Resilience'!$K$27=TRUE, \"X\", \"\")","v":""},null,null,{"$f":"IF('SPR #13 Comm Resilience'!$K$31=TRUE, \"X\", \"\")","v":""},null,0,0]
[{"$nulls":35},"Partnership building",null,{"$f":"IF('SPR #13 Comm Resilience'!$L$15=TRUE, \"X\", \"\")","v":""},null,null,{"$f":"IF('SPR #13 Comm Resilience'!$L$19=TRUE, \"X\", \"\")","v":""},null,null,{"$f":"IF('SPR #13 Comm Resilience'!$L$23=TRUE, \"X\", \"\")","v":""},null,null,{"$f":"IF('SPR #13 Comm Resilience'!$L$27=TRUE, \"X\", \"\")","v":""},null,null,{"$f":"IF('SPR #13 Comm Resilience'!$L$31=TRUE, \"X\", \"\")","v":""},null,0,0]
[{"$nulls":35},"Understanding the community",null,{"$f":"IF('SPR #13 Comm Resilience'!$M$15=TRUE, \"X\", \"\")","v":""},null,null,{"$f":"IF('SPR #13 Comm Resilience'!$M$19=TRUE, \"X\", \"\")","v":""},null,null,{"$f":"IF('SPR #13 Comm Resilience'!$M$23=TRUE, \"X\", \"\")","v":""},null,null,{"$f":"IF('SPR #13 Comm Resilience'!$M$27=TRUE, \"X\", \"\")","v":""},null,null,{"$f":"IF('SPR #13 Comm Resilience'!$M$31=TRUE, \"X\", \"\")","v":""},null,0,0]
[{"$nulls":34},"Long-term Vulnerability Reduction","Adopting vulnerability reduction standards and building codes",null,{"$f":"IF('SPR #14 Long Term Vul Red'!$I$15=TRUE, \"X\", \"\")","v":""},null,null,{"$f":"IF('SPR #14 Long Term Vul Red'!$I$19=TRUE, \"X\", \"\")","v":""},null,null,{"$f":"IF('SPR #14 Long Term Vul Red'!$I$23=TRUE, \"X\", \"\")","v":""},null,null,{"$f":"IF('SPR #14 Long Term Vul Red'!$I$27=TRUE, \"X\", \"\")","v":""},null,null,{"$f":"IF('SPR #14 Long Term Vul Red'!$I$31=TRUE, \"X\", \"\")","v":""},null,0,0]
[{"$nulls":35},"Broadening the use of insurance",null,{"$f":"IF('SPR #14 Long Term Vul Red'!$J$15=TRUE, \"X\", \"\")","v":""},null,null,{"$f":"IF('SPR #14 Long Term Vul Red'!$J$19=TRUE, \"X\", \"\")","v":""},null,null,{"$f":"IF('SPR #14 Long Term Vul Red'!$J$23=TRUE, \"X\", \"\")","v":""},null,null,{"$f":"IF('SPR #14 Long Term Vul Red'!$J$27=TRUE, \"X\", \"\")","v":""},null,null,{"$f":"IF('SPR #14 Long Term Vul Red'!$J$31=TRUE, \"X\", \"\")","v":""},null,0,0]
[{"$nulls":35},"Developing neighborhood civic organizations",null,{"$f":"IF('SPR #14 Long Term Vul Red'!$K$15=TRUE, \"X\", \"\")","v":""},null,null,{"$f":"IF('SPR #14 Long Term Vul Red'!$K$19=TRUE, \"X\", \"\")","v":""},null,null,{"$f":"IF('SPR #14 Long Term Vul Red'!$K$23=TRUE, \"X\", \"\")","v":""},null,null,{"$f":"IF('SPR #14 Long Term Vul Red'!$K$27=TRUE, \"X\", \"\")","v":""},null,null,{"$f":"IF('SPR #14 Long Term Vul Red'!$K$31=TRUE, \"X\", \"\")","v":""},null,0,0]
[{"$nulls":35},"Incorporating mitigation measures into construction and development",null,{"$f":"IF('SPR #14 Long Term Vul Red'!$L$15=TRUE, \"X\", \"\")","v":""},null,null,{"$f":"IF('SPR #14 Long Term Vul Red'!$L$19=TRUE, \"X\", \"\")","v":""},null,null,{"$f":"IF('SPR #14 Long Term Vul Red'!$L$23=TRUE, \"X\", \"\")","v":""},null,null,{"$f":"IF('SPR #14 Long Term Vul Red'!$L$27=TRUE, \"X\", \"\")","v":""},null,null,{"$f":"IF('SPR #14 Long Term Vul Red'!$L$31=TRUE, \"X\", \"\")","v":""},null,0,0]
[{"$nulls":35},"Individual and family preparedness",null,{"$f":"IF('SPR #14 Long Term Vul Red'!$M$15=TRUE, \"X\", \"\")","v":""},null,null,{"$f":"IF('SPR #14 Long Term Vul Red'!$M$19=TRUE, \"X\", \"\")","v":""},null,null,{"$f":"IF('SPR #14 Long Term Vul Red'!$M$23=TRUE, \"X\", \"\")","v":""},null,null,{"$f":"IF('SPR #14 Long Term Vul Red'!$M$27=TRUE, \"X\", \"\")","v":""},null,null,{"$f":"IF('SPR #14 Long Term Vul Red'!$M$31=TRUE, \"X\", \"\")","v":""},null,0,0]
[{"$nulls":34},"Risk and Disater Resilience Assessment","Analysis",null,{"$f":"IF('SPR #15 Risk Resil Assess'!$I$15=TRUE, \"X\", \"\")","v":""},null,null,{"$f":"IF('SPR #15 Risk Resil Assess'!$I$19=TRUE, \"X\", \"\")","v":""},null,null,{"$f":"IF('SPR #15 Risk Resil Assess'!$I$23=TRUE, \"X\", \"\")","v":""},null,null,{"$f":"IF('SPR #15 Risk Resil Assess'!$I$27=TRUE, \"X\", \"\")","v":""},null,null,{"$f":"IF('SPR #15 Risk Resil Assess'!$I$31=TRUE, \"X\", \"\")","v":""},null,0,0]
[{"$nulls":35},"Education and training",null,{"$f":"IF('SPR #15 Risk Resil Assess'!$J$15=TRUE, \"X\", \"\")","v":""},null,null,{"$f":"IF('SPR #15 Risk Resil Assess'!$J$19=TRUE, \"X\", \"\")","v":""},null,null,{"$f":"IF('SPR #15 Risk Resil Assess'!$J$23=TRUE, \"X\", \"\")","v":""},null,null,{"$f":"IF('SPR #15 Risk Resil Assess'!$J$27=TRUE, \"X\", \"\")","v":""},null,null,{"$f":"IF('SPR #15 Risk Resil Assess'!$J$31=TRUE, \"X\", \"\")","v":""},null,0,0]
[{"$nulls":35},"Obtaining and sharing data",null,{"$f":"IF('SPR #15 Risk Resil Assess'!$K$15=TRUE, \"X\", \"\")","v":""},null,null,{"$f":"IF('SPR #15 Risk Resil Assess'!$K$19=TRUE, \"X\", \"\")","v":""},null,null,{"$f":"IF('SPR #15 Risk Resil Assess'!$K$23=TRUE, \"X\", \"\")","v":""},null,null,{"$f":"IF('SPR #15 Risk Resil Assess'!$K$27=TRUE, \"X\", \"\")","v":""},null,null,{"$f":"IF('SPR #15 Risk Resil Assess'!$K$31=TRUE, \"X\", \"\")","v":""},null,0,0]
[{"$nulls":34},"Threat and Hazard Identification","Data collection and sharing",null,{"$f":"IF('SPR #16 Threat Haz ID'!$I$15=TRUE, \"X\", \"\")","v":""},null,null,{"$f":"IF('SPR #16 Threat Haz ID'!$I$19=TRUE, \"X\", \"\")","v":""},null,null,{"$f":"IF('SPR #16 Threat Haz ID'!$I$23=TRUE, \"X\", \"\")","v":""},null,null,{"$f":"IF('SPR #16 Threat Haz ID'!$I$27=TRUE, \"X\", \"\")","v":""},null,null,{"$f":"IF('SPR #16 Threat Haz ID'!$I$31=TRUE, \"X\", \"\")","v":""},null,0,0]
[{"$nulls":35},"Estimating frequency and magnitude",null,{"$f":"IF('SPR #16 Threat Haz ID'!$J$15=TRUE, \"X\", \"\")","v":""},null,null,{"$f":"IF('SPR #16 Threat Haz ID'!$J$19=TRUE, \"X\", \"\")","v":""},null,null,{"$f":"IF('SPR #16 Threat Haz ID'!$J$23=TRUE, \"X\", \"\")","v":""},null,null,{"$f":"IF('SPR #16 Threat Haz ID'!$J$27=TRUE, \"X\", \"\")","v":""},null,null,{"$f":"IF('SPR #16 Threat Haz ID'!$J$31=TRUE, \"X\", \"\")","v":""},null,0,0]
[{"$nulls":35},"Modeling and analysis",null,{"$f":"IF('SPR #16 Threat Haz ID'!$K$15=TRUE, \"X\", \"\")","v":""},null,null,{"$f":"IF('SPR #16 Threat Haz ID'!$K$19=TRUE, \"X\", \"\")","v":""},null,null,{"$f":"IF('SPR #16 Threat Haz ID'!$K$23=TRUE, \"X\", \"\")","v":""},null,null,{"$f":"IF('SPR #16 Threat Haz ID'!$K$27=TRUE, \"X\", \"\")","v":""},null,null,{"$f":"IF('SPR #16 Threat Haz ID'!$K$31=TRUE, \"X\", \"\")","v":""},null,0,0]
[{"$nulls":35},"Stakeholder Collaboration/Coordination",null,{"$f":"IF('SPR #16 Threat Haz ID'!$L$15=TRUE, \"X\", \"\")","v":""},null,null,{"$f":"IF('SPR #16 Threat Haz ID'!$L$19=TRUE, \"X\", \"\")","v":""},null,null,{"$f":"IF('SPR #16 Threat Haz ID'!$L$23=TRUE, \"X\", \"\")","v":""},null,null,{"$f":"IF('SPR #16 Threat Haz ID'!$L$27=TRUE, \"X\", \"\")","v":""},null,null,{"$f":"IF('SPR #16 Threat Haz ID'!$L$31=TRUE, \"X\", \"\")","v":""},null,0,0]
[{"$nulls":34},"Critical Transportation","Delivery of response assets",null,{"$f":"IF('SPR #17 Crit Transport'!$I$15=TRUE, \"X\", \"\")","v":""},null,null,{"$f":"IF('SPR #17 Crit Transport'!$I$19=TRUE, \"X\", \"\")","v":""},null,null,{"$f":"IF('SPR #17 Crit Transport'!$I$23=TRUE, \"X\", \"\")","v":""},null,null,{"$f":"IF('SPR #17 Crit Transport'!$I$27=TRUE, \"X\", \"\")","v":""},null,null,{"$f":"IF('SPR #17 Crit Transport'!$I$31=TRUE, \"X\", \"\")","v":""},null,0,0]
[{"$nulls":35},"Establishing access",null,{"$f":"IF('SPR #17 Crit Transport'!$J$15=TRUE, \"X\", \"\")","v":""},null,null,{"$f":"IF('SPR #17 Crit Transport'!$J$19=TRUE, \"X\", \"\")","v":""},null,null,{"$f":"IF('SPR #17 Crit Transport'!$J$23=TRUE, \"X\", \"\")","v":""},null,null,{"$f":"IF('SPR #17 Crit Transport'!$J$27=TRUE, \"X\", \"\")","v":""},null,null,{"$f":"IF('SPR #17 Crit Transport'!$J$31=TRUE, \"X\", \"\")","v":""},null,0,0]
[{"$nulls":35},"Evacuation",null,{"$f":"IF('SPR #17 Crit Transport'!$K$15=TRUE, \"X\", \"\")","v":""},null,null,{"$f":"IF('SPR #17 Crit Transport'!$K$19=TRUE, \"X\", \"\")","v":""},null,null,{"$f":"IF('SPR #17 Crit Transport'!$K$23=TRUE, \"X\", \"\")","v":""},null,null,{"$f":"IF('SPR #17 Crit Transport'!$K$27=TRUE, \"X\", \"\")","v":""},null,null,{"$f":"IF('SPR #17 Crit Transport'!$K$31=TRUE, \"X\", \"\")","v":""},null,0,0]
[{"$nulls":35},"Transportation safety and condition assessments",null,{"$f":"IF('SPR #17 Crit Transport'!$L$15=TRUE, \"X\", \"\")","v":""},null,null,{"$f":"IF('SPR #17 Crit Transport'!$L$19=TRUE, \"X\", \"\")","v":""},null,null,{"$f":"IF('SPR #17 Crit Transport'!$L$23=TRUE, \"X\", \"\")","v":""},null,null,{"$f":"IF('SPR #17 Crit Transport'!$L$27=TRUE, \"X\", \"\")","v":""},null,null,{"$f":"IF('SPR #17 Crit Transport'!$L$31=TRUE, \"X\", \"\")","v":""},null,0,0]
[{"$nulls":34},"Environmental Response / Health and Safety","Debris removal",null,{"$f":"IF('SPR #18 Envir Resp Health'!$I$15=TRUE, \"X\", \"\")","v":""},null,null,{"$f":"IF('SPR #18 Envir Resp Health'!$I$19=TRUE, \"X\", \"\")","v":""},null,null,{"$f":"IF('SPR #18 Envir Resp Health'!$I$23=TRUE, \"X\", \"\")","v":""},null,null,{"$f":"IF('SPR #18 Envir Resp Health'!$I$27=TRUE, \"X\", \"\")","v":""},null,null,{"$f":"IF('SPR #18 Envir Resp Health'!$I$31=TRUE, \"X\", \"\")","v":""},null,0,0]
[{"$nulls":35},"Decontamination",null,{"$f":"IF('SPR #18 Envir Resp Health'!$J$15=TRUE, \"X\", \"\")","v":""},null,null,{"$f":"IF('SPR #18 Envir Resp Health'!$J$19=TRUE, \"X\", \"\")","v":""},null,null,{"$f":"IF('SPR #18 Envir Resp Health'!$J$23=TRUE, \"X\", \"\")","v":""},null,null,{"$f":"IF('SPR #18 Envir Resp Health'!$J$27=TRUE, \"X\", \"\")","v":""},null,null,{"$f":"IF('SPR #18 Envir Resp Health'!$J$31=TRUE, \"X\", \"\")","v":""},null,0,0]
[{"$nulls":35},"Hazardous material clean-up",null,{"$f":"IF('SPR #18 Envir Resp Health'!$K$15=TRUE, \"X\", \"\")","v":""},null,null,{"$f":"IF('SPR #18 Envir Resp Health'!$K$19=TRUE, \"X\", \"\")","v":""},null,null,{"$f":"IF('SPR #18 Envir Resp Health'!$K$23=TRUE, \"X\", \"\")","v":""},null,null,{"$f":"IF('SPR #18 Envir Resp Health'!$K$27=TRUE, \"X\", \"\")","v":""},null,null,{"$f":"IF('SPR #18 Envir Resp Health'!$K$31=TRUE, \"X\", \"\")","v":""},null,0,0]
[{"$nulls":35},"Health and safety monitoring and assessment",null,{"$f":"IF('SPR #18 Envir Resp Health'!$L$15=TRUE, \"X\", \"\")","v":""},null,null,{"$f":"IF('SPR #18 Envir Resp Health'!$L$19=TRUE, \"X\", \"\")","v":""},null,null,{"$f":"IF('SPR #18 Envir Resp Health'!$L$23=TRUE, \"X\", \"\")","v":""},null,null,{"$f":"IF('SPR #18 Envir Resp Health'!$L$27=TRUE, \"X\", \"\")","v":""},null,null,{"$f":"IF('SPR #18 Envir Resp Health'!$L$31=TRUE, \"X\", \"\")","v":""},null,0,0]
[{"$nulls":35},"Predictive modeling",null,{"$f":"IF('SPR #18 Envir Resp Health'!$M$15=TRUE, \"X\", \"\")","v":""},null,null,{"$f":"IF('SPR #18 Envir Resp Health'!$M$19=TRUE, \"X\", \"\")","v":""},null,null,{"$f":"IF('SPR #18 Envir Resp Health'!$M$23=TRUE, \"X\", \"\")","v":""},null,null,{"$f":"IF('SPR #18 Envir Resp Health'!$M$27=TRUE, \"X\", \"\")","v":""},null,null,{"$f":"IF('SPR #18 Envir Resp Health'!$M$31=TRUE, \"X\", \"\")","v":""},null,0,0]
[{"$nulls":35},"Responder safety",null,{"$f":"IF('SPR #18 Envir Resp Health'!$N$15=TRUE, \"X\", \"\")","v":""},null,null,{"$f":"IF('SPR #18 Envir Resp Health'!$N$19=TRUE, \"X\", \"\")","v":""},null,null,{"$f":"IF('SPR #18 Envir Resp Health'!$N$23=TRUE, \"X\", \"\")","v":""},null,null,{"$f":"IF('SPR #18 Envir Resp Health'!$N$27=TRUE, \"X\", \"\")","v":""},null,null,{"$f":"IF('SPR #18 Envir Resp Health'!$N$31=TRUE, \"X\", \"\")","v":""},null,0,0]
[{"$nulls":35},"Survivor safety and assistance",null,{"$f":"IF('SPR #18 Envir Resp Health'!$O$15=TRUE, \"X\", \"\")","v":""},null,null,{"$f":"IF('SPR #18 Envir Resp Health'!$O$19=TRUE, \"X\", \"\")","v":""},null,null,{"$f":"IF('SPR #18 Envir Resp Health'!$O$23=TRUE, \"X\", \"\")","v":""},null,null,{"$f":"IF('SPR #18 Envir Resp Health'!$O$27=TRUE, \"X\", \"\")","v":""},null,null,{"$f":"IF('SPR #18 Envir Resp Health'!$O$31=TRUE, \"X\", \"\")","v":""},null,0,0]
[{"$nulls":34},"Fatality Management Services","Bereavement counseling",null,{"$f":"IF('SPR #19 Fatality Mgmt'!$I$15=TRUE, \"X\", \"\")","v":""},null,null,{"$f":"IF('SPR #19 Fatality Mgmt'!$I$19=TRUE, \"X\", \"\")","v":""},null,null,{"$f":"IF('SPR #19 Fatality Mgmt'!$I$23=TRUE, \"X\", \"\")","v":""},null,null,{"$f":"IF('SPR #19 Fatality Mgmt'!$I$27=TRUE, \"X\", \"\")","v":""},null,null,{"$f":"IF('SPR #19 Fatality Mgmt'!$I$31=TRUE, \"X\", \"\")","v":""},null,0,0]
[{"$nulls":35},"Body recovery",null,{"$f":"IF('SPR #19 Fatality Mgmt'!$J$15=TRUE, \"X\", \"\")","v":""},null,null,{"$f":"IF('SPR #19 Fatality Mgmt'!$J$19=TRUE, \"X\", \"\")","v":""},null,null,{"$f":"IF('SPR #19 Fatality Mgmt'!$J$23=TRUE, \"X\", \"\")","v":""},null,null,{"$f":"IF('SPR #19 Fatality Mgmt'!$J$27=TRUE, \"X\", \"\")","v":""},null,null,{"$f":"IF('SPR #19 Fatality Mgmt'!$J$31=TRUE, \"X\", \"\")","v":""},null,0,0]
[{"$nulls":35},"Family reunification",null,{"$f":"IF('SPR #19 Fatality Mgmt'!$K$15=TRUE, \"X\", \"\")","v":""},null,null,{"$f":"IF('SPR #19 Fatality Mgmt'!$K$19=TRUE, \"X\", \"\")","v":""},null,null,{"$f":"IF('SPR #19 Fatality Mgmt'!$K$23=TRUE, \"X\", \"\")","v":""},null,null,{"$f":"IF('SPR #19 Fatality Mgmt'!$K$27=TRUE, \"X\", \"\")","v":""},null,null,{"$f":"IF('SPR #19 Fatality Mgmt'!$K$31=TRUE, \"X\", \"\")","v":""},null,0,0]
[{"$nulls":35},"Mortuary services",null,{"$f":"IF('SPR #19 Fatality Mgmt'!$L$15=TRUE, \"X\", \"\")","v":""},null,null,{"$f":"IF('SPR #19 Fatality Mgmt'!$L$19=TRUE, \"X\", \"\")","v":""},null,null,{"$f":"IF('SPR #19 Fatality Mgmt'!$L$23=TRUE, \"X\", \"\")","v":""},null,null,{"$f":"IF('SPR #19 Fatality Mgmt'!$L$27=TRUE, \"X\", \"\")","v":""},null,null,{"$f":"IF('SPR #19 Fatality Mgmt'!$L$31=TRUE, \"X\", \"\")","v":""},null,0,0]
[{"$nulls":35},"Victim identification",null,{"$f":"IF('SPR #19 Fatality Mgmt'!$M$15=TRUE, \"X\", \"\")","v":""},null,null,{"$f":"IF('SPR #19 Fatality Mgmt'!$M$19=TRUE, \"X\", \"\")","v":""},null,null,{"$f":"IF('SPR #19 Fatality Mgmt'!$M$23=TRUE, \"X\", \"\")","v":""},null,null,{"$f":"IF('SPR #19 Fatality Mgmt'!$M$27=TRUE, \"X\", \"\")","v":""},null,null,{"$f":"IF('SPR #19 Fatality Mgmt'!$M$31=TRUE, \"X\", \"\")","v":""},null,0,0]
[{"$nulls":34},"Infrastructure Systems ","Communications systems",null,{"$f":"IF('SPR #20 Infrastructure Sys'!$I$15=TRUE, \"X\", \"\")","v":""},null,null,{"$f":"IF('SPR #20 Infrastructure Sys'!$I$19=TRUE, \"X\", \"\")","v":""},null,null,{"$f":"IF('SPR #20 Infrastructure Sys'!$I$23=TRUE, \"X\", \"\")","v":""},null,null,{"$f":"IF('SPR #20 Infrastructure Sys'!$I$27=TRUE, \"X\", \"\")","v":""},null,null,{"$f":"IF('SPR #20 Infrastructure Sys'!$I$31=TRUE, \"X\", \"\")","v":""},null,0,0]
[{"$nulls":35},"Dams and flood control",null,{"$f":"IF('SPR #20 Infrastructure Sys'!$J$15=TRUE, \"X\", \"\")","v":""},null,null,{"$f":"IF('SPR #20 Infrastructure Sys'!$J$19=TRUE, \"X\", \"\")","v":""},null,null,{"$f":"IF('SPR #20 Infrastructure Sys'!$J$23=TRUE, \"X\", \"\")","v":""},null,null,{"$f":"IF('SPR #20 Infrastructure Sys'!$J$27=TRUE, \"X\", \"\")","v":""},null,null,{"$f":"IF('SPR #20 Infrastructure Sys'!$J$31=TRUE, \"X\", \"\")","v":""},null,0,0]
[{"$nulls":35},"Food production and delivery",null,{"$f":"IF('SPR #20 Infrastructure Sys'!$K$15=TRUE, \"X\", \"\")","v":""},null,null,{"$f":"IF('SPR #20 Infrastructure Sys'!$K$19=TRUE, \"X\", \"\")","v":""},null,null,{"$f":"IF('SPR #20 Infrastructure Sys'!$K$23=TRUE, \"X\", \"\")","v":""},null,null,{"$f":"IF('SPR #20 Infrastructure Sys'!$K$27=TRUE, \"X\", \"\")","v":""},null,null,{"$f":"IF('SPR #20 Infrastructure Sys'!$K$31=TRUE, \"X\", \"\")","v":""},null,{"$f":"COUNTIF(AK134, \"X\")+COUNTIF(AN134, \"X\")+COUNTIF(AQ134, \"X\")+COUNTIF(AT134,\"X\")+COUNTIF(AW134, \"X\")","v":0},{"$f":"COUNTIF(AL134, \"X\")+COUNTIF(AO134, \"X\")+COUNTIF(AR134, \"X\")+COUNTIF(AU134,\"X\")+COUNTIF(AX134, \"X\")","v":0}]
[{"$nulls":35},"Government facilities",null,{"$f":"IF('SPR #20 Infrastructure Sys'!$L$15=TRUE, \"X\", \"\")","v":""},null,null,{"$f":"IF('SPR #20 Infrastructure Sys'!$L$19=TRUE, \"X\", \"\")","v":""},null,null,{"$f":"IF('SPR #20 Infrastructure Sys'!$L$23=TRUE, \"X\", \"\")","v":""},null,null,{"$f":"IF('SPR #20 Infrastructure Sys'!$L$27=TRUE, \"X\", \"\")","v":""},null,null,{"$f":"IF('SPR #20 Infrastructure Sys'!$L$31=TRUE, \"X\", \"\")","v":""},null,0,0]
[{"$nulls":35},"Heating fuel provision",null,{"$f":"IF('SPR #20 Infrastructure Sys'!$M$15=TRUE, \"X\", \"\")","v":""},null,null,{"$f":"IF('SPR #20 Infrastructure Sys'!$M$19=TRUE, \"X\", \"\")","v":""},null,null,{"$f":"IF('SPR #20 Infrastructure Sys'!$M$23=TRUE, \"X\", \"\")","v":""},null,null,{"$f":"IF('SPR #20 Infrastructure Sys'!$M$27=TRUE, \"X\", \"\")","v":""},null,null,{"$f":"IF('SPR #20 Infrastructure Sys'!$M$31=TRUE, \"X\", \"\")","v":""},null,0,0]
[{"$nulls":35},"Hospitals",null,{"$f":"IF('SPR #20 Infrastructure Sys'!$N$15=TRUE, \"X\", \"\")","v":""},null,null,{"$f":"IF('SPR #20 Infrastructure Sys'!$N$19=TRUE, \"X\", \"\")","v":""},null,null,{"$f":"IF('SPR #20 Infrastructure Sys'!$N$23=TRUE, \"X\", \"\")","v":""},null,null,{"$f":"IF('SPR #20 Infrastructure Sys'!$N$27=TRUE, \"X\", \"\")","v":""},null,null,{"$f":"IF('SPR #20 Infrastructure Sys'!$N$31=TRUE, \"X\", \"\")","v":""},null,0,0]
[{"$nulls":35},"Infrastructure site assessments",null,{"$f":"IF('SPR #20 Infrastructure Sys'!$O$15=TRUE, \"X\", \"\")","v":""},null,null,{"$f":"IF('SPR #20 Infrastructure Sys'!$O$19=TRUE, \"X\", \"\")","v":""},null,null,{"$f":"IF('SPR #20 Infrastructure Sys'!$O$23=TRUE, \"X\", \"\")","v":""},null,null,{"$f":"IF('SPR #20 Infrastructure Sys'!$O$27=TRUE, \"X\", \"\")","v":""},null,null,{"$f":"IF('SPR #20 Infrastructure Sys'!$O$31=TRUE, \"X\", \"\")","v":""},null,0,0]
[{"$nulls":35},"Power restoration",null,{"$f":"IF('SPR #20 Infrastructure Sys'!$P$15=TRUE, \"X\", \"\")","v":""},null,null,{"$f":"IF('SPR #20 Infrastructure Sys'!$P$19=TRUE, \"X\", \"\")","v":""},null,null,{"$f":"IF('SPR #20 Infrastructure Sys'!$P$23=TRUE, \"X\", \"\")","v":""},null,null,{"$f":"IF('SPR #20 Infrastructure Sys'!$P$27=TRUE, \"X\", \"\")","v":""},null,null,{"$f":"IF('SPR #20 Infrastructure Sys'!$P$31=TRUE, \"X\", \"\")","v":""},null,0,0]
[{"$nulls":35},"Public recreation facilities",null,{"$f":"IF('SPR #20 Infrastructure Sys'!$Q$15=TRUE, \"X\", \"\")","v":""},null,null,{"$f":"IF('SPR #20 Infrastructure Sys'!$Q$19=TRUE, \"X\", \"\")","v":""},null,null,{"$f":"IF('SPR #20 Infrastructure Sys'!$Q$23=TRUE, \"X\", \"\")","v":""},null,null,{"$f":"IF('SPR #20 Infrastructure Sys'!$Q$27=TRUE, \"X\", \"\")","v":""},null,null,{"$f":"IF('SPR #20 Infrastructure Sys'!$Q$31=TRUE, \"X\", \"\")","v":""},null,0,0]
[{"$nulls":35},"Public safety facilities",null,{"$f":"IF('SPR #20 Infrastructure Sys'!$R$15=TRUE, \"X\", \"\")","v":""},null,null,{"$f":"IF('SPR #20 Infrastructure Sys'!$R$19=TRUE, \"X\", \"\")","v":""},null,null,{"$f":"IF('SPR #20 Infrastructure Sys'!$R$23=TRUE, \"X\", \"\")","v":""},null,null,{"$f":"IF('SPR #20 Infrastructure Sys'!$R$27=TRUE, \"X\", \"\")","v":""},null,null,{"$f":"IF('SPR #20 Infrastructure Sys'!$R$31=TRUE, \"X\", \"\")","v":""},null,0,0]
[{"$nulls":35},"Sanitation",null,{"$f":"IF('SPR #20 Infrastructure Sys'!$S$15=TRUE, \"X\", \"\")","v":""},null,null,{"$f":"IF('SPR #20 Infrastructure Sys'!$S$19=TRUE, \"X\", \"\")","v":""},null,null,{"$f":"IF('SPR #20 Infrastructure Sys'!$S$23=TRUE, \"X\", \"\")","v":""},null,null,{"$f":"IF('SPR #20 Infrastructure Sys'!$S$27=TRUE, \"X\", \"\")","v":""},null,null,{"$f":"IF('SPR #20 Infrastructure Sys'!$S$31=TRUE, \"X\", \"\")","v":""},null,0,0]
[{"$nulls":35},"Transportation infrastructure",null,{"$f":"IF('SPR #20 Infrastructure Sys'!$T$15=TRUE, \"X\", \"\")","v":""},null,null,{"$f":"IF('SPR #20 Infrastructure Sys'!$T$19=TRUE, \"X\", \"\")","v":""},null,null,{"$f":"IF('SPR #20 Infrastructure Sys'!$T$23=TRUE, \"X\", \"\")","v":""},null,null,{"$f":"IF('SPR #20 Infrastructure Sys'!$T$27=TRUE, \"X\", \"\")","v":""},null,null,{"$f":"IF('SPR #20 Infrastructure Sys'!$T$31=TRUE, \"X\", \"\")","v":""},null,0,0]
[{"$nulls":35},"Water treatment and provision",null,{"$f":"IF('SPR #20 Infrastructure Sys'!$U$15=TRUE, \"X\", \"\")","v":""},null,null,{"$f":"IF('SPR #20 Infrastructure Sys'!$U$19=TRUE, \"X\", \"\")","v":""},null,null,{"$f":"IF('SPR #20 Infrastructure Sys'!$U$23=TRUE, \"X\", \"\")","v":""},null,null,{"$f":"IF('SPR #20 Infrastructure Sys'!$U$27=TRUE, \"X\", \"\")","v":""},null,null,{"$f":"IF('SPR #20 Infrastructure Sys'!$U$31=TRUE, \"X\", \"\")","v":""},null,0,0]
[{"$nulls":34},"Mass Care Services","Ensuring access",null,{"$f":"IF('SPR #21 Mass Care'!$I$15=TRUE, \"X\", \"\")","v":""},null,null,{"$f":"IF('SPR #21 Mass Care'!$I$19=TRUE, \"X\", \"\")","v":""},null,null,{"$f":"IF('SPR #21 Mass Care'!$I$23=TRUE, \"X\", \"\")","v":""},null,null,{"$f":"IF('SPR #21 Mass Care'!$I$27=TRUE, \"X\", \"\")","v":""},null,null,{"$f":"IF('SPR #21 Mass Care'!$I$31=TRUE, \"X\", \"\")","v":""},null,0,0]
[{"$nulls":35},"Family reunification",null,{"$f":"IF('SPR #21 Mass Care'!$J$15=TRUE, \"X\", \"\")","v":""},null,null,{"$f":"IF('SPR #21 Mass Care'!$J$19=TRUE, \"X\", \"\")","v":""},null,null,{"$f":"IF('SPR #21 Mass Care'!$J$23=TRUE, \"X\", \"\")","v":""},null,null,{"$f":"IF('SPR #21 Mass Care'!$J$27=TRUE, \"X\", \"\")","v":""},null,null,{"$f":"IF('SPR #21 Mass Care'!$J$31=TRUE, \"X\", \"\")","v":""},null,0,0]
[{"$nulls":35},"Feeding",null,{"$f":"IF('SPR #21 Mass Care'!$K$15=TRUE, \"X\", \"\")","v":""},null,null,{"$f":"IF('SPR #21 Mass Care'!$K$19=TRUE, \"X\", \"\")","v":""},null,null,{"$f":"IF('SPR #21 Mass Care'!$K$23=TRUE, \"X\", \"\")","v":""},null,null,{"$f":"IF('SPR #21 Mass Care'!$K$27=TRUE, \"X\", \"\")","v":""},null,null,{"$f":"IF('SPR #21 Mass Care'!$K$31=TRUE, \"X\", \"\")","v":""},null,0,0]
[{"$nulls":35},"Hydration",null,{"$f":"IF('SPR #21 Mass Care'!$L$15=TRUE, \"X\", \"\")","v":""},null,null,{"$f":"IF('SPR #21 Mass Care'!$L$19=TRUE, \"X\", \"\")","v":""},null,null,{"$f":"IF('SPR #21 Mass Care'!$L$23=TRUE, \"X\", \"\")","v":""},null,null,{"$f":"IF('SPR #21 Mass Care'!$L$27=TRUE, \"X\", \"\")","v":""},null,null,{"$f":"IF('SPR #21 Mass Care'!$L$31=TRUE, \"X\", \"\")","v":""},null,0,0]
[{"$nulls":35},"Pets",null,{"$f":"IF('SPR #21 Mass Care'!$M$15=TRUE, \"X\", \"\")","v":""},null,null,{"$f":"IF('SPR #21 Mass Care'!$M$19=TRUE, \"X\", \"\")","v":""},null,null,{"$f":"IF('SPR #21 Mass Care'!$M$23=TRUE, \"X\", \"\")","v":""},null,null,{"$f":"IF('SPR #21 Mass Care'!$M$27=TRUE, \"X\", \"\")","v":""},null,null,{"$f":"IF('SPR #21 Mass Care'!$M$31=TRUE, \"X\", \"\")","v":""},null,0,0]
[{"$nulls":35},"Relocation assistance",null,{"$f":"IF('SPR #21 Mass Care'!$N$15=TRUE, \"X\", \"\")","v":""},null,null,{"$f":"IF('SPR #21 Mass Care'!$N$19=TRUE, \"X\", \"\")","v":""},null,null,{"$f":"IF('SPR #21 Mass Care'!$N$23=TRUE, \"X\", \"\")","v":""},null,null,{"$f":"IF('SPR #21 Mass Care'!$N$27=TRUE, \"X\", \"\")","v":""},null,null,{"$f":"IF('SPR #21 Mass Care'!$N$31=TRUE, \"X\", \"\")","v":""},null,0,0]
[{"$nulls":35},"Resource distribution",null,{"$f":"IF('SPR #21 Mass Care'!$O$15=TRUE, \"X\", \"\")","v":""},null,null,{"$f":"IF('SPR #21 Mass Care'!$O$19=TRUE, \"X\", \"\")","v":""},null,null,{"$f":"IF('SPR #21 Mass Care'!$O$23=TRUE, \"X\", \"\")","v":""},null,null,{"$f":"IF('SPR #21 Mass Care'!$O$27=TRUE, \"X\", \"\")","v":""},null,null,{"$f":"IF('SPR #21 Mass Care'!$O$31=TRUE, \"X\", \"\")","v":""},null,0,0]
[{"$nulls":35},"Sheltering",null,{"$f":"IF('SPR #21 Mass Care'!$P$15=TRUE, \"X\", \"\")","v":""},null,null,{"$f":"IF('SPR #21 Mass Care'!$P$19=TRUE, \"X\", \"\")","v":""},null,null,{"$f":"IF('SPR #21 Mass Care'!$P$23=TRUE, \"X\", \"\")","v":""},null,null,{"$f":"IF('SPR #21 Mass Care'!$P$27=TRUE, \"X\", \"\")","v":""},null,null,{"$f":"IF('SPR #21 Mass Care'!$P$31=TRUE, \"X\", \"\")","v":""},null,0,0]
[{"$nulls":34},"Mass Search and Rescue Operations","Community-based search and rescue support",null,{"$f":"IF('SPR #22 Mass SAR Ops'!$I$15=TRUE, \"X\", \"\")","v":""},null,null,{"$f":"IF('SPR #22 Mass SAR Ops'!$I$19=TRUE, \"X\", \"\")","v":""},null,null,{"$f":"IF('SPR #22 Mass SAR Ops'!$I$23=TRUE, \"X\", \"\")","v":""},null,null,{"$f":"IF('SPR #22 Mass SAR Ops'!$I$27=TRUE, \"X\", \"\")","v":""},null,null,{"$f":"IF('SPR #22 Mass SAR Ops'!$I$31=TRUE, \"X\", \"\")","v":""},null,0,0]
[{"$nulls":35},"Rescue operations",null,{"$f":"IF('SPR #22 Mass SAR Ops'!$J$15=TRUE, \"X\", \"\")","v":""},null,null,{"$f":"IF('SPR #22 Mass SAR Ops'!$J$19=TRUE, \"X\", \"\")","v":""},null,null,{"$f":"IF('SPR #22 Mass SAR Ops'!$J$23=TRUE, \"X\", \"\")","v":""},null,null,{"$f":"IF('SPR #22 Mass SAR Ops'!$J$27=TRUE, \"X\", \"\")","v":""},null,null,{"$f":"IF('SPR #22 Mass SAR Ops'!$J$31=TRUE, \"X\", \"\")","v":""},null,0,0]
[{"$nulls":35},"Search operations",null,{"$f":"IF('SPR #22 Mass SAR Ops'!$K$15=TRUE, \"X\", \"\")","v":""},null,null,{"$f":"IF('SPR #22 Mass SAR Ops'!$K$19=TRUE, \"X\", \"\")","v":""},null,null,{"$f":"IF('SPR #22 Mass SAR Ops'!$K$23=TRUE, \"X\", \"\")","v":""},null,null,{"$f":"IF('SPR #22 Mass SAR Ops'!$K$27=TRUE, \"X\", \"\")","v":""},null,null,{"$f":"IF('SPR #22 Mass SAR Ops'!$K$31=TRUE, \"X\", \"\")","v":""},null,0,0]
[{"$nulls":35},"Specialized operations",null,{"$f":"IF('SPR #22 Mass SAR Ops'!$L$15=TRUE, \"X\", \"\")","v":""},null,null,{"$f":"IF('SPR #22 Mass SAR Ops'!$L$19=TRUE, \"X\", \"\")","v":""},null,null,{"$f":"IF('SPR #22 Mass SAR Ops'!$L$23=TRUE, \"X\", \"\")","v":""},null,null,{"$f":"IF('SPR #22 Mass SAR Ops'!$L$27=TRUE, \"X\", \"\")","v":""},null,null,{"$f":"IF('SPR #22 Mass SAR Ops'!$L$31=TRUE, \"X\", \"\")","v":""},null,0,0]
[{"$nulls":35},"Synchronizing operations",null,{"$f":"IF('SPR #22 Mass SAR Ops'!$M$15=TRUE, \"X\", \"\")","v":""},null,null,{"$f":"IF('SPR #22 Mass SAR Ops'!$M$19=TRUE, \"X\", \"\")","v":""},null,null,{"$f":"IF('SPR #22 Mass SAR Ops'!$M$23=TRUE, \"X\", \"\")","v":""},null,null,{"$f":"IF('SPR #22 Mass SAR Ops'!$M$27=TRUE, \"X\", \"\")","v":""},null,null,{"$f":"IF('SPR #22 Mass SAR Ops'!$M$31=TRUE, \"X\", \"\")","v":""},null,0,0]
[{"$nulls":34},"On-Scene Security and Protection","Law enforcement",null,{"$f":"IF('SPR #23 Security Protection'!$I$15=TRUE, \"X\", \"\")","v":""},null,null,{"$f":"IF('SPR #23 Security Protection'!$I$19=TRUE, \"X\", \"\")","v":""},null,null,{"$f":"IF('SPR #23 Security Protection'!$I$23=TRUE, \"X\", \"\")","v":""},null,null,{"$f":"IF('SPR #23 Security Protection'!$I$27=TRUE, \"X\", \"\")","v":""},null,null,{"$f":"IF('SPR #23 Security Protection'!$I$31=TRUE, \"X\", \"\")","v":""},null,0,0]
[{"$nulls":35},"Protecting response personnel",null,{"$f":"IF('SPR #23 Security Protection'!$J$15=TRUE, \"X\", \"\")","v":""},null,null,{"$f":"IF('SPR #23 Security Protection'!$J$19=TRUE, \"X\", \"\")","v":""},null,null,{"$f":"IF('SPR #23 Security Protection'!$J$23=TRUE, \"X\", \"\")","v":""},null,null,{"$f":"IF('SPR #23 Security Protection'!$J$27=TRUE, \"X\", \"\")","v":""},null,null,{"$f":"IF('SPR #23 Security Protection'!$J$31=TRUE, \"X\", \"\")","v":""},null,0,0]
[{"$nulls":35},"Securing disaster areas",null,{"$f":"IF('SPR #23 Security Protection'!$K$15=TRUE, \"X\", \"\")","v":""},null,null,{"$f":"IF('SPR #23 Security Protection'!$K$19=TRUE, \"X\", \"\")","v":""},null,null,{"$f":"IF('SPR #23 Security Protection'!$K$23=TRUE, \"X\", \"\")","v":""},null,null,{"$f":"IF('SPR #23 Security Protection'!$K$27=TRUE, \"X\", \"\")","v":""},null,null,{"$f":"IF('SPR #23 Security Protection'!$K$31=TRUE, \"X\", \"\")","v":""},null,0,0]
[{"$nulls":34},"Operational Communications","Communication between responders and the affected population",null,{"$f":"IF('SPR #24 Op Comms'!$I$15=TRUE, \"X\", \"\")","v":""},null,null,{"$f":"IF('SPR #24 Op Comms'!$I$19=TRUE, \"X\", \"\")","v":""},null,null,{"$f":"IF('SPR #24 Op Comms'!$I$23=TRUE, \"X\", \"\")","v":""},null,null,{"$f":"IF('SPR #24 Op Comms'!$I$27=TRUE, \"X\", \"\")","v":""},null,null,{"$f":"IF('SPR #24 Op Comms'!$I$31=TRUE, \"X\", \"\")","v":""},null,0,0]
[{"$nulls":35},"Data communications",null,{"$f":"IF('SPR #24 Op Comms'!$J$15=TRUE, \"X\", \"\")","v":""},null,null,{"$f":"IF('SPR #24 Op Comms'!$J$19=TRUE, \"X\", \"\")","v":""},null,null,{"$f":"IF('SPR #24 Op Comms'!$J$23=TRUE, \"X\", \"\")","v":""},null,null,{"$f":"IF('SPR #24 Op Comms'!$J$27=TRUE, \"X\", \"\")","v":""},null,null,{"$f":"IF('SPR #24 Op Comms'!$J$31=TRUE, \"X\", \"\")","v":""},null,0,0]
[{"$nulls":35},"Interoperable communications between responders",null,{"$f":"IF('SPR #24 Op Comms'!$K$15=TRUE, \"X\", \"\")","v":""},null,null,{"$f":"IF('SPR #24 Op Comms'!$K$19=TRUE, \"X\", \"\")","v":""},null,null,{"$f":"IF('SPR #24 Op Comms'!$K$23=TRUE, \"X\", \"\")","v":""},null,null,{"$f":"IF('SPR #24 Op Comms'!$K$27=TRUE, \"X\", \"\")","v":""},null,null,{"$f":"IF('SPR #24 Op Comms'!$K$31=TRUE, \"X\", \"\")","v":""},null,0,0]
[{"$nulls":35},"Re-establishing communications infrastructure",null,{"$f":"IF('SPR #24 Op Comms'!$L$15=TRUE, \"X\", \"\")","v":""},null,null,{"$f":"IF('SPR #24 Op Comms'!$L$19=TRUE, \"X\", \"\")","v":""},null,null,{"$f":"IF('SPR #24 Op Comms'!$L$23=TRUE, \"X\", \"\")","v":""},null,null,{"$f":"IF('SPR #24 Op Comms'!$L$27=TRUE, \"X\", \"\")","v":""},null,null,{"$f":"IF('SPR #24 Op Comms'!$L$31=TRUE, \"X\", \"\")","v":""},null,0,0]
[{"$nulls":35},"Voice communications",null,{"$f":"IF('SPR #24 Op Comms'!$M$15=TRUE, \"X\", \"\")","v":""},null,null,{"$f":"IF('SPR #24 Op Comms'!$M$19=TRUE, \"X\", \"\")","v":""},null,null,{"$f":"IF('SPR #24 Op Comms'!$M$23=TRUE, \"X\", \"\")","v":""},null,null,{"$f":"IF('SPR #24 Op Comms'!$M$27=TRUE, \"X\", \"\")","v":""},null,null,{"$f":"IF('SPR #24 Op Comms'!$M$31=TRUE, \"X\", \"\")","v":""},null,0,0]
[{"$nulls":34},"Public and Private Services and Resources","Access to community staples",null,{"$f":"IF('SPR #25 Pub Private Services'!$I$15=TRUE, \"X\", \"\")","v":""},null,null,{"$f":"IF('SPR #25 Pub Private Services'!$I$19=TRUE, \"X\", \"\")","v":""},null,null,{"$f":"IF('SPR #25 Pub Private Services'!$I$23=TRUE, \"X\", \"\")","v":""},null,null,{"$f":"IF('SPR #25 Pub Private Services'!$I$27=TRUE, \"X\", \"\")","v":""},null,null,{"$f":"IF('SPR #25 Pub Private Services'!$I$31=TRUE, \"X\", \"\")","v":""},null,0,0]
[{"$nulls":35},"Donation management",null,{"$f":"IF('SPR #25 Pub Private Services'!$J$15=TRUE, \"X\", \"\")","v":""},null,null,{"$f":"IF('SPR #25 Pub Private Services'!$J$19=TRUE, \"X\", \"\")","v":""},null,null,{"$f":"IF('SPR #25 Pub Private Services'!$J$23=TRUE, \"X\", \"\")","v":""},null,null,{"$f":"IF('SPR #25 Pub Private Services'!$J$27=TRUE, \"X\", \"\")","v":""},null,null,{"$f":"IF('SPR #25 Pub Private Services'!$J$31=TRUE, \"X\", \"\")","v":""},null,0,0]
[{"$nulls":35},"Emergency power provision",null,{"$f":"IF('SPR #25 Pub Private Services'!$K$15=TRUE, \"X\", \"\")","v":""},null,null,{"$f":"IF('SPR #25 Pub Private Services'!$K$19=TRUE, \"X\", \"\")","v":""},null,null,{"$f":"IF('SPR #25 Pub Private Services'!$K$23=TRUE, \"X\", \"\")","v":""},null,null,{"$f":"IF('SPR #25 Pub Private Services'!$K$27=TRUE, \"X\", \"\")","v":""},null,null,{"$f":"IF('SPR #25 Pub Private Services'!$K$31=TRUE, \"X\", \"\")","v":""},null,0,0]
[{"$nulls":35},"Fire response",null,{"$f":"IF('SPR #25 Pub Private Services'!$L$15=TRUE, \"X\", \"\")","v":""},null,null,{"$f":"IF('SPR #25 Pub Private Services'!$L$19=TRUE, \"X\", \"\")","v":""},null,null,{"$f":"IF('SPR #25 Pub Private Services'!$L$23=TRUE, \"X\", \"\")","v":""},null,null,{"$f":"IF('SPR #25 Pub Private Services'!$L$27=TRUE, \"X\", \"\")","v":""},null,null,{"$f":"IF('SPR #25 Pub Private Services'!$L$31=TRUE, \"X\", \"\")","v":""},null,0,0]
[{"$nulls":35},"Fuel support",null,{"$f":"IF('SPR #25 Pub Private Services'!$M$15=TRUE, \"X\", \"\")","v":""},null,null,{"$f":"IF('SPR #25 Pub Private Services'!$M$19=TRUE, \"X\", \"\")","v":""},null,null,{"$f":"IF('SPR #25 Pub Private Services'!$M$23=TRUE, \"X\", \"\")","v":""},null,null,{"$f":"IF('SPR #25 Pub Private Services'!$M$27=TRUE, \"X\", \"\")","v":""},null,null,{"$f":"IF('SPR #25 Pub Private Services'!$M$31=TRUE, \"X\", \"\")","v":""},null,0,0]
[{"$nulls":35},"Resource delivery",null,{"$f":"IF('SPR #25 Pub Private Services'!$N$15=TRUE, \"X\", \"\")","v":""},null,null,{"$f":"IF('SPR #25 Pub Private Services'!$N$19=TRUE, \"X\", \"\")","v":""},null,null,{"$f":"IF('SPR #25 Pub Private Services'!$N$23=TRUE, \"X\", \"\")","v":""},null,null,{"$f":"IF('SPR #25 Pub Private Services'!$N$27=TRUE, \"X\", \"\")","v":""},null,null,{"$f":"IF('SPR #25 Pub Private Services'!$N$31=TRUE, \"X\", \"\")","v":""},null,0,0]
[{"$nulls":34},"Public Health and Medical Services","Definitive care",null,{"$f":"IF('SPR #26 Public Health Medical'!$I$15=TRUE, \"X\", \"\")","v":""},null,null,{"$f":"IF('SPR #26 Public Health Medical'!$I$19=TRUE, \"X\", \"\")","v":""},null,null,{"$f":"IF('SPR #26 Public Health Medical'!$I$23=TRUE, \"X\", \"\")","v":""},null,null,{"$f":"IF('SPR #26 Public Health Medical'!$I$27=TRUE, \"X\", \"\")","v":""},null,null,{"$f":"IF('SPR #26 Public Health Medical'!$I$31=TRUE, \"X\", \"\")","v":""},null,0,0]
[{"$nulls":35},"Emergency medical transport",null,{"$f":"IF('SPR #26 Public Health Medical'!$J$15=TRUE, \"X\", \"\")","v":""},null,null,{"$f":"IF('SPR #26 Public Health Medical'!$J$19=TRUE, \"X\", \"\")","v":""},null,null,{"$f":"IF('SPR #26 Public Health Medical'!$J$23=TRUE, \"X\", \"\")","v":""},null,null,{"$f":"IF('SPR #26 Public Health Medical'!$J$27=TRUE, \"X\", \"\")","v":""},null,null,{"$f":"IF('SPR #26 Public Health Medical'!$J$31=TRUE, \"X\", \"\")","v":""},null,0,0]
[{"$nulls":35},"Health assessments",null,{"$f":"IF('SPR #26 Public Health Medical'!$K$15=TRUE, \"X\", \"\")","v":""},null,null,{"$f":"IF('SPR #26 Public Health Medical'!$K$19=TRUE, \"X\", \"\")","v":""},null,null,{"$f":"IF('SPR #26 Public Health Medical'!$K$23=TRUE, \"X\", \"\")","v":""},null,null,{"$f":"IF('SPR #26 Public Health Medical'!$K$27=TRUE, \"X\", \"\")","v":""},null,null,{"$f":"IF('SPR #26 Public Health Medical'!$K$31=TRUE, \"X\", \"\")","v":""},null,0,0]
[{"$nulls":35},"Laboratory medical testing",null,{"$f":"IF('SPR #26 Public Health Medical'!$L$15=TRUE, \"X\", \"\")","v":""},null,null,{"$f":"IF('SPR #26 Public Health Medical'!$L$19=TRUE, \"X\", \"\")","v":""},null,null,{"$f":"IF('SPR #26 Public Health Medical'!$L$23=TRUE, \"X\", \"\")","v":""},null,null,{"$f":"IF('SPR #26 Public Health Medical'!$L$27=TRUE, \"X\", \"\")","v":""},null,null,{"$f":"IF('SPR #26 Public Health Medical'!$L$31=TRUE, \"X\", \"\")","v":""},null,0,0]
[{"$nulls":35},"Medical countermeasures",null,{"$f":"IF('SPR #26 Public Health Medical'!$M$15=TRUE, \"X\", \"\")","v":""},null,null,{"$f":"IF('SPR #26 Public Health Medical'!$M$19=TRUE, \"X\", \"\")","v":""},null,null,{"$f":"IF('SPR #26 Public Health Medical'!$M$23=TRUE, \"X\", \"\")","v":""},null,null,{"$f":"IF('SPR #26 Public Health Medical'!$M$27=TRUE, \"X\", \"\")","v":""},null,null,{"$f":"IF('SPR #26 Public Health Medical'!$M$31=TRUE, \"X\", \"\")","v":""},null,0,0]
[{"$nulls":35},"Medical surge",null,{"$f":"IF('SPR #26 Public Health Medical'!$N$15=TRUE, \"X\", \"\")","v":""},null,null,{"$f":"IF('SPR #26 Public Health Medical'!$N$19=TRUE, \"X\", \"\")","v":""},null,null,{"$f":"IF('SPR #26 Public Health Medical'!$N$23=TRUE, \"X\", \"\")","v":""},null,null,{"$f":"IF('SPR #26 Public Health Medical'!$N$27=TRUE, \"X\", \"\")","v":""},null,null,{"$f":"IF('SPR #26 Public Health Medical'!$N$31=TRUE, \"X\", \"\")","v":""},null,0,0]
[{"$nulls":35},"Triage and initial stabilization",null,{"$f":"IF('SPR #26 Public Health Medical'!$O$15=TRUE, \"X\", \"\")","v":""},null,null,{"$f":"IF('SPR #26 Public Health Medical'!$O$19=TRUE, \"X\", \"\")","v":""},null,null,{"$f":"IF('SPR #26 Public Health Medical'!$O$23=TRUE, \"X\", \"\")","v":""},null,null,{"$f":"IF('SPR #26 Public Health Medical'!$O$27=TRUE, \"X\", \"\")","v":""},null,null,{"$f":"IF('SPR #26 Public Health Medical'!$O$31=TRUE, \"X\", \"\")","v":""},null,0,0]
[{"$nulls":34},"Situational Assessment","Analyzing information",null,{"$f":"IF('SPR #27 Sit Assessment'!$I$15=TRUE, \"X\", \"\")","v":""},null,null,{"$f":"IF('SPR #27 Sit Assessment'!$I$19=TRUE, \"X\", \"\")","v":""},null,null,{"$f":"IF('SPR #27 Sit Assessment'!$I$23=TRUE, \"X\", \"\")","v":""},null,null,{"$f":"IF('SPR #27 Sit Assessment'!$I$27=TRUE, \"X\", \"\")","v":""},null,null,{"$f":"IF('SPR #27 Sit Assessment'!$I$31=TRUE, \"X\", \"\")","v":""},null,0,0]
[{"$nulls":35},"Assessing hazard impacts",null,{"$f":"IF('SPR #27 Sit Assessment'!$J$15=TRUE, \"X\", \"\")","v":""},null,null,{"$f":"IF('SPR #27 Sit Assessment'!$J$19=TRUE, \"X\", \"\")","v":""},null,null,{"$f":"IF('SPR #27 Sit Assessment'!$J$23=TRUE, \"X\", \"\")","v":""},null,null,{"$f":"IF('SPR #27 Sit Assessment'!$J$27=TRUE, \"X\", \"\")","v":""},null,null,{"$f":"IF('SPR #27 Sit Assessment'!$J$31=TRUE, \"X\", \"\")","v":""},null,0,0]
[{"$nulls":35},"Delivering situation reports",null,{"$f":"IF('SPR #27 Sit Assessment'!$K$15=TRUE, \"X\", \"\")","v":""},null,null,{"$f":"IF('SPR #27 Sit Assessment'!$K$19=TRUE, \"X\", \"\")","v":""},null,null,{"$f":"IF('SPR #27 Sit Assessment'!$K$23=TRUE, \"X\", \"\")","v":""},null,null,{"$f":"IF('SPR #27 Sit Assessment'!$K$27=TRUE, \"X\", \"\")","v":""},null,null,{"$f":"IF('SPR #27 Sit Assessment'!$K$31=TRUE, \"X\", \"\")","v":""},null,0,0]
[{"$nulls":35},"Stakeholder engagement",null,{"$f":"IF('SPR #27 Sit Assessment'!$L$15=TRUE, \"X\", \"\")","v":""},null,null,{"$f":"IF('SPR #27 Sit Assessment'!$L$19=TRUE, \"X\", \"\")","v":""},null,null,{"$f":"IF('SPR #27 Sit Assessment'!$L$23=TRUE, \"X\", \"\")","v":""},null,null,{"$f":"IF('SPR #27 Sit Assessment'!$L$27=TRUE, \"X\", \"\")","v":""},null,null,{"$f":"IF('SPR #27 Sit Assessment'!$L$31=TRUE, \"X\", \"\")","v":""},null,0,0]
[{"$nulls":35},"Tracking response activities",null,{"$f":"IF('SPR #27 Sit Assessment'!$M$15=TRUE, \"X\", \"\")","v":""},null,null,{"$f":"IF('SPR #27 Sit Assessment'!$M$19=TRUE, \"X\", \"\")","v":""},null,null,{"$f":"IF('SPR #27 Sit Assessment'!$M$23=TRUE, \"X\", \"\")","v":""},null,null,{"$f":"IF('SPR #27 Sit Assessment'!$M$27=TRUE, \"X\", \"\")","v":""},null,null,{"$f":"IF('SPR #27 Sit Assessment'!$M$31=TRUE, \"X\", \"\")","v":""},null,0,0]
[{"$nulls":34},"Economic Recovery","Developing recovery objectives",null,{"$f":"IF('SPR #28 Econ Recovery'!$I$15=TRUE, \"X\", \"\")","v":""},null,null,{"$f":"IF('SPR #28 Econ Recovery'!$I$19=TRUE, \"X\", \"\")","v":""},null,null,{"$f":"IF('SPR #28 Econ Recovery'!$I$23=TRUE, \"X\", \"\")","v":""},null,null,{"$f":"IF('SPR #28 Econ Recovery'!$I$27=TRUE, \"X\", \"\")","v":""},null,null,{"$f":"IF('SPR #28 Econ Recovery'!$I$31=TRUE, \"X\", \"\")","v":""},null,0,0]
[{"$nulls":35},"Developing the workforce",null,{"$f":"IF('SPR #28 Econ Recovery'!$J$15=TRUE, \"X\", \"\")","v":""},null,null,{"$f":"IF('SPR #28 Econ Recovery'!$J$19=TRUE, \"X\", \"\")","v":""},null,null,{"$f":"IF('SPR #28 Econ Recovery'!$J$23=TRUE, \"X\", \"\")","v":""},null,null,{"$f":"IF('SPR #28 Econ Recovery'!$J$27=TRUE, \"X\", \"\")","v":""},null,null,{"$f":"IF('SPR #28 Econ Recovery'!$J$31=TRUE, \"X\", \"\")","v":""},null,0,0]
[{"$nulls":35},"Disseminating information",null,{"$f":"IF('SPR #28 Econ Recovery'!$K$15=TRUE, \"X\", \"\")","v":""},null,null,{"$f":"IF('SPR #28 Econ Recovery'!$K$19=TRUE, \"X\", \"\")","v":""},null,null,{"$f":"IF('SPR #28 Econ Recovery'!$K$23=TRUE, \"X\", \"\")","v":""},null,null,{"$f":"IF('SPR #28 Econ Recovery'!$K$27=TRUE, \"X\", \"\")","v":""},null,null,{"$f":"IF('SPR #28 Econ Recovery'!$K$31=TRUE, \"X\", \"\")","v":""},null,0,0]
[{"$nulls":35},"Economic impact assessments",null,{"$f":"IF('SPR #28 Econ Recovery'!$L$15=TRUE, \"X\", \"\")","v":""},null,null,{"$f":"IF('SPR #28 Econ Recovery'!$L$19=TRUE, \"X\", \"\")","v":""},null,null,{"$f":"IF('SPR #28 Econ Recovery'!$L$23=TRUE, \"X\", \"\")","v":""},null,null,{"$f":"IF('SPR #28 Econ Recovery'!$L$27=TRUE, \"X\", \"\")","v":""},null,null,{"$f":"IF('SPR #28 Econ Recovery'!$L$31=TRUE, \"X\", \"\")","v":""},null,0,0]
[{"$nulls":35},"Incentivizing entrepreneurial and business development",null,{"$f":"IF('SPR #28 Econ Recovery'!$M$15=TRUE, \"X\", \"\")","v":""},null,null,{"$f":"IF('SPR #28 Econ Recovery'!$M$19=TRUE, \"X\", \"\")","v":""},null,null,{"$f":"IF('SPR #28 Econ Recovery'!$M$23=TRUE, \"X\", \"\")","v":""},null,null,{"$f":"IF('SPR #28 Econ Recovery'!$M$27=TRUE, \"X\", \"\")","v":""},null,null,{"$f":"IF('SPR #28 Econ Recovery'!$M$31=TRUE, \"X\", \"\")","v":""},null,0,0]
[{"$nulls":35},"Management planning",null,{"$f":"IF('SPR #28 Econ Recovery'!$N$15=TRUE, \"X\", \"\")","v":""},null,null,{"$f":"IF('SPR #28 Econ Recovery'!$N$19=TRUE, \"X\", \"\")","v":""},null,null,{"$f":"IF('SPR #28 Econ Recovery'!$N$23=TRUE, \"X\", \"\")","v":""},null,null,{"$f":"IF('SPR #28 Econ Recovery'!$N$27=TRUE, \"X\", \"\")","v":""},null,null,{"$f":"IF('SPR #28 Econ Recovery'!$N$31=TRUE, \"X\", \"\")","v":""},null,0,0]
[{"$nulls":35},"Reopening businesses",null,{"$f":"IF('SPR #28 Econ Recovery'!$O$15=TRUE, \"X\", \"\")","v":""},null,null,{"$f":"IF('SPR #28 Econ Recovery'!$O$19=TRUE, \"X\", \"\")","v":""},null,null,{"$f":"IF('SPR #28 Econ Recovery'!$O$23=TRUE, \"X\", \"\")","v":""},null,null,{"$f":"IF('SPR #28 Econ Recovery'!$O$27=TRUE, \"X\", \"\")","v":""},null,null,{"$f":"IF('SPR #28 Econ Recovery'!$O$31=TRUE, \"X\", \"\")","v":""},null,0,0]
[{"$nulls":34},"Health and Social Services","Behavioral health",null,{"$f":"IF('SPR #29 Health Soc Services'!$I$15=TRUE, \"X\", \"\")","v":""},null,null,{"$f":"IF('SPR #29 Health Soc Services'!$I$19=TRUE, \"X\", \"\")","v":""},null,null,{"$f":"IF('SPR #29 Health Soc Services'!$I$23=TRUE, \"X\", \"\")","v":""},null,null,{"$f":"IF('SPR #29 Health Soc Services'!$I$27=TRUE, \"X\", \"\")","v":""},null,null,{"$f":"IF('SPR #29 Health Soc Services'!$I$31=TRUE, \"X\", \"\")","v":""},null,0,0]
[{"$nulls":35},"Determining health and social needs",null,{"$f":"IF('SPR #29 Health Soc Services'!$J$15=TRUE, \"X\", \"\")","v":""},null,null,{"$f":"IF('SPR #29 Health Soc Services'!$J$19=TRUE, \"X\", \"\")","v":""},null,null,{"$f":"IF('SPR #29 Health Soc Services'!$J$23=TRUE, \"X\", \"\")","v":""},null,null,{"$f":"IF('SPR #29 Health Soc Services'!$J$27=TRUE, \"X\", \"\")","v":""},null,null,{"$f":"IF('SPR #29 Health Soc Services'!$J$31=TRUE, \"X\", \"\")","v":""},null,0,0]
[{"$nulls":35},"Ensuring access",null,{"$f":"IF('SPR #29 Health Soc Services'!$K$15=TRUE, \"X\", \"\")","v":""},null,null,{"$f":"IF('SPR #29 Health Soc Services'!$K$19=TRUE, \"X\", \"\")","v":""},null,null,{"$f":"IF('SPR #29 Health Soc Services'!$K$23=TRUE, \"X\", \"\")","v":""},null,null,{"$f":"IF('SPR #29 Health Soc Services'!$K$27=TRUE, \"X\", \"\")","v":""},null,null,{"$f":"IF('SPR #29 Health Soc Services'!$K$31=TRUE, \"X\", \"\")","v":""},null,0,0]
[{"$nulls":35},"Environmental health",null,{"$f":"IF('SPR #29 Health Soc Services'!$L$15=TRUE, \"X\", \"\")","v":""},null,null,{"$f":"IF('SPR #29 Health Soc Services'!$L$19=TRUE, \"X\", \"\")","v":""},null,null,{"$f":"IF('SPR #29 Health Soc Services'!$L$23=TRUE, \"X\", \"\")","v":""},null,null,{"$f":"IF('SPR #29 Health Soc Services'!$L$27=TRUE, \"X\", \"\")","v":""},null,null,{"$f":"IF('SPR #29 Health Soc Services'!$L$31=TRUE, \"X\", \"\")","v":""},null,0,0]
[{"$nulls":35},"Food safety",null,{"$f":"IF('SPR #29 Health Soc Services'!$M$15=TRUE, \"X\", \"\")","v":""},null,null,{"$f":"IF('SPR #29 Health Soc Services'!$M$19=TRUE, \"X\", \"\")","v":""},null,null,{"$f":"IF('SPR #29 Health Soc Services'!$M$23=TRUE, \"X\", \"\")","v":""},null,null,{"$f":"IF('SPR #29 Health Soc Services'!$M$27=TRUE, \"X\", \"\")","v":""},null,null,{"$f":"IF('SPR #29 Health Soc Services'!$M$31=TRUE, \"X\", \"\")","v":""},null,0,0]
[{"$nulls":35},"Health assessment",null,{"$f":"IF('SPR #29 Health Soc Services'!$N$15=TRUE, \"X\", \"\")","v":""},null,null,{"$f":"IF('SPR #29 Health Soc Services'!$N$19=TRUE, \"X\", \"\")","v":""},null,null,{"$f":"IF('SPR #29 Health Soc Services'!$N$23=TRUE, \"X\", \"\")","v":""},null,null,{"$f":"IF('SPR #29 Health Soc Services'!$N$27=TRUE, \"X\", \"\")","v":""},null,null,{"$f":"IF('SPR #29 Health Soc Services'!$N$31=TRUE, \"X\", \"\")","v":""},null,0,0]
[{"$nulls":35},"Healthcare facilities and coalitions",null,{"$f":"IF('SPR #29 Health Soc Services'!$O$15=TRUE, \"X\", \"\")","v":""},null,null,{"$f":"IF('SPR #29 Health Soc Services'!$O$19=TRUE, \"X\", \"\")","v":""},null,null,{"$f":"IF('SPR #29 Health Soc Services'!$O$23=TRUE, \"X\", \"\")","v":""},null,null,{"$f":"IF('SPR #29 Health Soc Services'!$O$27=TRUE, \"X\", \"\")","v":""},null,null,{"$f":"IF('SPR #29 Health Soc Services'!$O$31=TRUE, \"X\", \"\")","v":""},null,0,0]
[{"$nulls":35},"Medical products and services",null,{"$f":"IF('SPR #29 Health Soc Services'!$P$15=TRUE, \"X\", \"\")","v":""},null,null,{"$f":"IF('SPR #29 Health Soc Services'!$P$19=TRUE, \"X\", \"\")","v":""},null,null,{"$f":"IF('SPR #29 Health Soc Services'!$P$23=TRUE, \"X\", \"\")","v":""},null,null,{"$f":"IF('SPR #29 Health Soc Services'!$P$27=TRUE, \"X\", \"\")","v":""},null,null,{"$f":"IF('SPR #29 Health Soc Services'!$P$31=TRUE, \"X\", \"\")","v":""},null,{"$f":"COUNTIF(AK198, \"X\")+COUNTIF(AN198, \"X\")+COUNTIF(AQ198, \"X\")+COUNTIF(AT198,\"X\")+COUNTIF(AW198, \"X\")","v":0},{"$f":"COUNTIF(AL198, \"X\")+COUNTIF(AO198, \"X\")+COUNTIF(AR198, \"X\")+COUNTIF(AU198,\"X\")+COUNTIF(AX198, \"X\")","v":0}]
[{"$nulls":35},"Public awareness",null,{"$f":"IF('SPR #29 Health Soc Services'!$Q$15=TRUE, \"X\", \"\")","v":""},null,null,{"$f":"IF('SPR #29 Health Soc Services'!$Q$19=TRUE, \"X\", \"\")","v":""},null,null,{"$f":"IF('SPR #29 Health Soc Services'!$Q$23=TRUE, \"X\", \"\")","v":""},null,null,{"$f":"IF('SPR #29 Health Soc Services'!$Q$27=TRUE, \"X\", \"\")","v":""},null,null,{"$f":"IF('SPR #29 Health Soc Services'!$Q$31=TRUE, \"X\", \"\")","v":""},null,0,0]
[{"$nulls":35},"Public health measures",null,{"$f":"IF('SPR #29 Health Soc Services'!$R$15=TRUE, \"X\", \"\")","v":""},null,null,{"$f":"IF('SPR #29 Health Soc Services'!$R$19=TRUE, \"X\", \"\")","v":""},null,null,{"$f":"IF('SPR #29 Health Soc Services'!$R$23=TRUE, \"X\", \"\")","v":""},null,null,{"$f":"IF('SPR #29 Health Soc Services'!$R$27=TRUE, \"X\", \"\")","v":""},null,null,{"$f":"IF('SPR #29 Health Soc Services'!$R$31=TRUE, \"X\", \"\")","v":""},null,0,0]
[{"$nulls":35},"Response and recovery worker health",null,{"$f":"IF('SPR #29 Health Soc Services'!$S$15=TRUE, \"X\", \"\")","v":""},null,null,{"$f":"IF('SPR #29 Health Soc Services'!$S$19=TRUE, \"X\", \"\")","v":""},null,null,{"$f":"IF('SPR #29 Health Soc Services'!$S$23=TRUE, \"X\", \"\")","v":""},null,null,{"$f":"IF('SPR #29 Health Soc Services'!$S$27=TRUE, \"X\", \"\")","v":""},null,null,{"$f":"IF('SPR #29 Health Soc Services'!$S$31=TRUE, \"X\", \"\")","v":""},null,0,{"$f":"COUNTIF(AL201, \"X\")+COUNTIF(AO201, \"X\")+COUNTIF(AR201, \"X\")+COUNTIF(AU201,\"X\")+COUNTIF(AX201, \"X\")","v":0}]
[{"$nulls":35},"School impacts",null,{"$f":"IF('SPR #29 Health Soc Services'!$T$15=TRUE, \"X\", \"\")","v":""},null,null,{"$f":"IF('SPR #29 Health Soc Services'!$T$19=TRUE, \"X\", \"\")","v":""},null,null,{"$f":"IF('SPR #29 Health Soc Services'!$T$23=TRUE, \"X\", \"\")","v":""},null,null,{"$f":"IF('SPR #29 Health Soc Services'!$T$27=TRUE, \"X\", \"\")","v":""},null,null,{"$f":"IF('SPR #29 Health Soc Services'!$T$31=TRUE, \"X\", \"\")","v":""},null,0,0]
[{"$nulls":35},"Social services",null,{"$f":"IF('SPR #29 Health Soc Services'!$U$15=TRUE, \"X\", \"\")","v":""},null,null,{"$f":"IF('SPR #29 Health Soc Services'!$U$19=TRUE, \"X\", \"\")","v":""},null,null,{"$f":"IF('SPR #29 Health Soc Services'!$U$23=TRUE, \"X\", \"\")","v":""},null,null,{"$f":"IF('SPR #29 Health Soc Services'!$U$27=TRUE, \"X\", \"\")","v":""},null,null,{"$f":"IF('SPR #29 Health Soc Services'!$U$31=TRUE, \"X\", \"\")","v":""},null,0,0]
[{"$nulls":34},"Housing","Addressing housing shortages",null,{"$f":"IF('SPR #30 Housing'!$I$15=TRUE, \"X\", \"\")","v":""},null,null,{"$f":"IF('SPR #30 Housing'!$I$19=TRUE, \"X\", \"\")","v":""},null,null,{"$f":"IF('SPR #30 Housing'!$I$23=TRUE, \"X\", \"\")","v":""},null,null,{"$f":"IF('SPR #30 Housing'!$I$27=TRUE, \"X\", \"\")","v":""},null,null,{"$f":"IF('SPR #30 Housing'!$I$31=TRUE, \"X\", \"\")","v":""},null,0,0]
[{"$nulls":35},"Housing assessments",null,{"$f":"IF('SPR #30 Housing'!$J$15=TRUE, \"X\", \"\")","v":""},null,null,{"$f":"IF('SPR #30 Housing'!$J$19=TRUE, \"X\", \"\")","v":""},null,null,{"$f":"IF('SPR #30 Housing'!$J$23=TRUE, \"X\", \"\")","v":""},null,null,{"$f":"IF('SPR #30 Housing'!$J$27=TRUE, \"X\", \"\")","v":""},null,null,{"$f":"IF('SPR #30 Housing'!$J$31=TRUE, \"X\", \"\")","v":""},null,0,0]
[{"$nulls":35},"Reconstruction of destroyed housing",null,{"$f":"IF('SPR #30 Housing'!$K$15=TRUE, \"X\", \"\")","v":""},null,null,{"$f":"IF('SPR #30 Housing'!$K$19=TRUE, \"X\", \"\")","v":""},null,null,{"$f":"IF('SPR #30 Housing'!$K$23=TRUE, \"X\", \"\")","v":""},null,null,{"$f":"IF('SPR #30 Housing'!$K$27=TRUE, \"X\", \"\")","v":""},null,null,{"$f":"IF('SPR #30 Housing'!$K$31=TRUE, \"X\", \"\")","v":""},null,0,0]
[{"$nulls":35},"Rehabilitation of damaged housing",null,{"$f":"IF('SPR #30 Housing'!$L$15=TRUE, \"X\", \"\")","v":""},null,null,{"$f":"IF('SPR #30 Housing'!$L$19=TRUE, \"X\", \"\")","v":""},null,null,{"$f":"IF('SPR #30 Housing'!$L$23=TRUE, \"X\", \"\")","v":""},null,null,{"$f":"IF('SPR #30 Housing'!$L$27=TRUE, \"X\", \"\")","v":""},null,null,{"$f":"IF('SPR #30 Housing'!$L$31=TRUE, \"X\", \"\")","v":""},null,0,0]
[{"$nulls":34},"Natural and Cultural Resources","Damage assessment",null,{"$f":"IF('SPR #31 Nat Cult Resources'!$I$15=TRUE, \"X\", \"\")","v":""},null,null,{"$f":"IF('SPR #31 Nat Cult Resources'!$I$19=TRUE, \"X\", \"\")","v":""},null,null,{"$f":"IF('SPR #31 Nat Cult Resources'!$I$23=TRUE, \"X\", \"\")","v":""},null,null,{"$f":"IF('SPR #31 Nat Cult Resources'!$I$27=TRUE, \"X\", \"\")","v":""},null,null,{"$f":"IF('SPR #31 Nat Cult Resources'!$I$31=TRUE, \"X\", \"\")","v":""},null,0,0]
[{"$nulls":35},"Environmental preservation and restoration",null,{"$f":"IF('SPR #31 Nat Cult Resources'!$J$15=TRUE, \"X\", \"\")","v":""},null,null,{"$f":"IF('SPR #31 Nat Cult Resources'!$J$19=TRUE, \"X\", \"\")","v":""},null,null,{"$f":"IF('SPR #31 Nat Cult Resources'!$J$23=TRUE, \"X\", \"\")","v":""},null,null,{"$f":"IF('SPR #31 Nat Cult Resources'!$J$27=TRUE, \"X\", \"\")","v":""},null,null,{"$f":"IF('SPR #31 Nat Cult Resources'!$J$31=TRUE, \"X\", \"\")","v":""},null,0,0]
[{"$nulls":35},"Historic preservation",null,{"$f":"IF('SPR #31 Nat Cult Resources'!$K$15=TRUE, \"X\", \"\")","v":""},null,null,{"$f":"IF('SPR #31 Nat Cult Resources'!$K$19=TRUE, \"X\", \"\")","v":""},null,null,{"$f":"IF('SPR #31 Nat Cult Resources'!$K$23=TRUE, \"X\", \"\")","v":""},null,null,{"$f":"IF('SPR #31 Nat Cult Resources'!$K$27=TRUE, \"X\", \"\")","v":""},null,null,{"$f":"IF('SPR #31 Nat Cult Resources'!$K$31=TRUE, \"X\", \"\")","v":""},null,0,0]

{"sheet":"Year-to-year Comparison","index":77,"n_rows":105,"n_cols":45,"rows_kept":105,"hidden":true}
{"$rows_empty":16}
[null,"Core Capabilities",{"$nulls":13},"SORTABLE DATA"]
[null,"Core Capability","Jurisdiction Average (2014)","Jurisdiction Average (2015)",{"$nulls":11},"Core Capability","Diffence from  2014",{"$nulls":9},"x"]
[null,"Planning",{"$f":"AVERAGE('Heat Map'!D5,'Heat Map'!G5,'Heat Map'!J5,'Heat Map'!M5,'Heat Map'!P5)","v":{"$error":"#DIV/0!"}},{"$f":"'Capability Ratings Data'!K5","v":""},{"$f":"D19-C19","v":{"$error":"#VALUE!"}},{"$nulls":10},"Planning",{"$f":"VLOOKUP(P19,B$19:E$49, 4, FALSE)","v":{"$error":"#VALUE!"}}]
[null,"Public Information and Warning",{"$f":"AVERAGE('Heat Map'!D6,'Heat Map'!G6,'Heat Map'!J6,'Heat Map'!M6,'Heat Map'!P6)","v":{"$error":"#DIV/0!"}},{"$f":"'Capability Ratings Data'!K6","v":""},{"$f":"D20-C20","v":{"$error":"#VALUE!"}},{"$nulls":10},"Public Information and Warning",{"$error":"#VALUE!"}]
[null,"Operational Coordination",{"$f":"AVERAGE('Heat Map'!D7,'Heat Map'!G7,'Heat Map'!J7,'Heat Map'!M7,'Heat Map'!P7)","v":{"$error":"#DIV/0!"}},{"$f":"'Capability Ratings Data'!K7","v":""},{"$error":"#VALUE!"},{"$nulls":10},"Operational Coordination",{"$error":"#VALUE!"}]
[null,"Forensics and Attribution",{"$f":"AVERAGE('Heat Map'!D8,'Heat Map'!G8,'Heat Map'!J8,'Heat Map'!M8,'Heat Map'!P8)","v":{"$error":"#DIV/0!"}},{"$f":"'Capability Ratings Data'!K8","v":""},{"$error":"#VALUE!"},{"$nulls":10},"Forensics and Attribution",{"$error":"#VALUE!"}]
[null,"Intelligence and Information Sharing",{"$f":"AVERAGE('Heat Map'!D9,'Heat Map'!G9,'Heat Map'!J9,'Heat Map'!M9,'Heat Map'!P9)","v":{"$error":"#DIV/0!"}},{"$f":"'Capability Ratings Data'!K9","v":""},{"$error":"#VALUE!"},{"$nulls":10},"Intelligence and Information Sharing",{"$error":"#VALUE!"}]
[null,"Interdiction and Disruption",{"$f":"AVERAGE('Heat Map'!D10,'Heat Map'!G10,'Heat Map'!J10,'Heat Map'!M10,'Heat Map'!P10)","v":{"$error":"#DIV/0!"}},{"$f":"'Capability Ratings Data'!K10","v":""},{"$error":"#VALUE!"},{"$nulls":10},"Interdiction and Disruption",{"$error":"#VALUE!"}]
[null,"Screening, Search, and Detection ",{"$f":"AVERAGE('Heat Map'!D11,'Heat Map'!G11,'Heat Map'!J11,'Heat Map'!M11,'Heat Map'!P11)","v":{"$error":"#DIV/0!"}},{"$f":"'Capability Ratings Data'!K11","v":""},{"$error":"#VALUE!"},{"$nulls":10},"Screening, Search, and Detection ",{"$error":"#VALUE!"}]
[null,"Access Control and Identity Verification",{"$f":"AVERAGE('Heat Map'!D12,'Heat Map'!G12,'Heat Map'!J12,'Heat Map'!M12,'Heat Map'!P12)","v":{"$error":"#DIV/0!"}},{"$f":"'Capability Ratings Data'!K12","v":""},{"$error":"#VALUE!"},{"$nulls":10},"Access Control and Identity Verification",{"$error":"#VALUE!"}]
[null,"Cybersecurity",{"$f":"AVERAGE('Heat Map'!D13,'Heat Map'!G13,'Heat Map'!J13,'Heat Map'!M13,'Heat Map'!P13)","v":{"$error":"#DIV/0!"}},{"$f":"'Capability Ratings Data'!K13","v":""},{"$error":"#VALUE!"},{"$nulls":10},"Cybersecurity",{"$error":"#VALUE!"}]
[null,"Physical Protective Measures",{"$f":"AVERAGE('Heat Map'!D14,'Heat Map'!G14,'Heat Map'!J14,'Heat Map'!M14,'Heat Map'!P14)","v":{"$error":"#DIV/0!"}},{"$f":"'Capability Ratings Data'!K14","v":""},{"$error":"#VALUE!"},{"$nulls":10},"Physical Protective Measures",{"$error":"#VALUE!"}]
[null,"Risk Management for Protection Programs and Activities",{"$f":"AVERAGE('Heat Map'!D15,'Heat Map'!G15,'Heat Map'!J15,'Heat Map'!M15,'Heat Map'!P15)","v":{"$error":"#DIV/0!"}},{"$f":"'Capability Ratings Data'!K15","v":""},{"$error":"#VALUE!"},{"$nulls":10},"Risk Management for Protection Programs and Activities",{"$error":"#VALUE!"}]
[null,"Supply Chain Integrity and Security",{"$f":"AVERAGE('Heat Map'!D16,'Heat Map'!G16,'Heat Map'!J16,'Heat Map'!M16,'Heat Map'!P16)","v":{"$error":"#DIV/0!"}},{"$f":"'Capability Ratings Data'!K16","v":""},{"$error":"#VALUE!"},{"$nulls":10},"Supply Chain Integrity and Security",{"$error":"#VALUE!"}]
[null,"Community Resilience",{"$f":"AVERAGE('Heat Map'!D17,'Heat Map'!G17,'Heat Map'!J17,'Heat Map'!M17,'Heat Map'!P17)","v":{"$error":"#DIV/0!"}},{"$f":"'Capability Ratings Data'!K17","v":""},{"$error":"#VALUE!"},{"$nulls":10},"Community Resilience",{"$error":"#VALUE!"}]
[null,"Long-term Vulnerability Reduction",{"$f":"AVERAGE('Heat Map'!D18,'Heat Map'!G18,'Heat Map'!J18,'Heat Map'!M18,'Heat Map'!P18)","v":{"$error":"#DIV/0!"}},{"$f":"'Capability Ratings Data'!K18","v":""},{"$error":"#VALUE!"},{"$nulls":10},"Long-term Vulnerability Reduction",{"$error":"#VALUE!"}]
[null,"Risk and Disaster Resilience Assessment",{"$f":"AVERAGE('Heat Map'!D19,'Heat Map'!G19,'Heat Map'!J19,'Heat Map'!M19,'Heat Map'!P19)","v":{"$error":"#DIV/0!"}},{"$f":"'Capability Ratings Data'!K19","v":""},{"$error":"#VALUE!"},{"$nulls":10},"Risk and Disaster Resilience Assessment",{"$error":"#VALUE!"}]
[null,"Threats and Hazard Identification",{"$f":"AVERAGE('Heat Map'!D20,'Heat Map'!G20,'Heat Map'!J20,'Heat Map'!M20,'Heat Map'!P20)","v":{"$error":"#DIV/0!"}},{"$f":"'Capability Ratings Data'!K20","v":""},{"$error":"#VALUE!"},{"$nulls":10},"Threats and Hazard Identification",{"$error":"#VALUE!"}]
[null,"Critical Transportation",{"$f":"AVERAGE('Heat Map'!D21,'Heat Map'!G21,'Heat Map'!J21,'Heat Map'!M21,'Heat Map'!P21)","v":{"$error":"#DIV/0!"}},{"$f":"'Capability Ratings Data'!K21","v":""},{"$error":"#VALUE!"},{"$nulls":10},"Critical Transportation",{"$error":"#VALUE!"}]
[null,"Environmental Response/Health and Safety",{"$f":"AVERAGE('Heat Map'!D22,'Heat Map'!G22,'Heat Map'!J22,'Heat Map'!M22,'Heat Map'!P22)","v":{"$error":"#DIV/0!"}},{"$f":"'Capability Ratings Data'!K22","v":""},{"$error":"#VALUE!"},{"$nulls":10},"Environmental Response/Health and Safety",{"$error":"#VALUE!"}]
[null,"Fatality Management Services",{"$f":"AVERAGE('Heat Map'!D23,'Heat Map'!G23,'Heat Map'!J23,'Heat Map'!M23,'Heat Map'!P23)","v":{"$error":"#DIV/0!"}},{"$f":"'Capability Ratings Data'!K23","v":""},{"$error":"#VALUE!"},{"$nulls":10},"Fatality Management Services",{"$error":"#VALUE!"}]
[null,"Infrastructure Systems",{"$f":"AVERAGE('Heat Map'!D24,'Heat Map'!G24,'Heat Map'!J24,'Heat Map'!M24,'Heat Map'!P24)","v":{"$error":"#DIV/0!"}},{"$f":"'Capability Ratings Data'!K24","v":""},{"$error":"#VALUE!"},{"$nulls":10},"Infrastructure Systems",{"$error":"#VALUE!"}]
[null,"Mass Care Services",{"$f":"AVERAGE('Heat Map'!D25,'Heat Map'!G25,'Heat Map'!J25,'Heat Map'!M25,'Heat Map'!P25)","v":{"$error":"#DIV/0!"}},{"$f":"'Capability Ratings Data'!K25","v":""},{"$error":"#VALUE!"},{"$nulls":10},"Mass Care Services",{"$error":"#VALUE!"}]
[null,"Mass Search and Rescue Operations",{"$f":"AVERAGE('Heat Map'!D26,'Heat Map'!G26,'Heat Map'!J26,'Heat Map'!M26,'Heat Map'!P26)","v":{"$error":"#DIV/0!"}},{"$f":"'Capability Ratings Data'!K26","v":""},{"$error":"#VALUE!"},{"$nulls":10},"Mass Search and Rescue Operations",{"$error":"#VALUE!"}]
[null,"On-scene Security and Protection",{"$f":"AVERAGE('Heat Map'!D27,'Heat Map'!G27,'Heat Map'!J27,'Heat Map'!M27,'Heat Map'!P27)","v":{"$error":"#DIV/0!"}},{"$f":"'Capability Ratings Data'!K27","v":""},{"$error":"#VALUE!"},{"$nulls":10},"On-scene Security and Protection",{"$error":"#VALUE!"}]
[null,"Operational  Communications",{"$f":"AVERAGE('Heat Map'!D28,'Heat Map'!G28,'Heat Map'!J28,'Heat Map'!M28,'Heat Map'!P28)","v":{"$error":"#DIV/0!"}},{"$f":"'Capability Ratings Data'!K28","v":""},{"$error":"#VALUE!"},{"$nulls":10},"Operational  Communications",{"$error":"#VALUE!"}]
[null,"Public and Private Services and Resources",{"$f":"AVERAGE('Heat Map'!D29,'Heat Map'!G29,'Heat Map'!J29,'Heat Map'!M29,'Heat Map'!P29)","v":{"$error":"#DIV/0!"}},{"$f":"'Capability Ratings Data'!K29","v":""},{"$error":"#VALUE!"},{"$nulls":10},"Public and Private Services and Resources",{"$error":"#VALUE!"}]
[null,"Public Health and Medical Services",{"$f":"AVERAGE('Heat Map'!D30,'Heat Map'!G30,'Heat Map'!J30,'Heat Map'!M30,'Heat Map'!P30)","v":{"$error":"#DIV/0!"}},{"$f":"'Capability Ratings Data'!K30","v":""},{"$error":"#VALUE!"},{"$nulls":10},"Public Health and Medical Services",{"$error":"#VALUE!"}]
[null,"Situational Assessment",{"$f":"AVERAGE('Heat Map'!D31,'Heat Map'!G31,'Heat Map'!J31,'Heat Map'!M31,'Heat Map'!P31)","v":{"$error":"#DIV/0!"}},{"$f":"'Capability Ratings Data'!K31","v":""},{"$error":"#VALUE!"},{"$nulls":10},"Situational Assessment",{"$error":"#VALUE!"}]
[null,"Economic Recovery",{"$f":"AVERAGE('Heat Map'!D32,'Heat Map'!G32,'Heat Map'!J32,'Heat Map'!M32,'Heat Map'!P32)","v":{"$error":"#DIV/0!"}},{"$f":"'Capability Ratings Data'!K32","v":""},{"$error":"#VALUE!"},{"$nulls":10},"Economic Recovery",{"$error":"#VALUE!"}]
[null,"Health and Social Services",{"$f":"AVERAGE('Heat Map'!D33,'Heat Map'!G33,'Heat Map'!J33,'Heat Map'!M33,'Heat Map'!P33)","v":{"$error":"#DIV/0!"}},{"$f":"'Capability Ratings Data'!K33","v":""},{"$error":"#VALUE!"},{"$nulls":10},"Health and Social Services",{"$error":"#VALUE!"}]
[null,"Housing",{"$f":"AVERAGE('Heat Map'!D34,'Heat Map'!G34,'Heat Map'!J34,'Heat Map'!M34,'Heat Map'!P34)","v":{"$error":"#DIV/0!"}},{"$f":"'Capability Ratings Data'!K34","v":""},{"$error":"#VALUE!"},{"$nulls":10},"Housing",{"$error":"#VALUE!"}]
[null,"Natural and Cultural Resources",{"$f":"AVERAGE('Heat Map'!D35,'Heat Map'!G35,'Heat Map'!J35,'Heat Map'!M35,'Heat Map'!P35)","v":{"$error":"#DIV/0!"}},{"$f":"'Capability Ratings Data'!K35","v":""},{"$error":"#VALUE!"},{"$nulls":10},"Natural and Cultural Resources",{"$error":"#VALUE!"}]
[]
[null,"POETE Solution Areas",{"$nulls":13},"SORTABLE DATA"]
[null,"POETE","Jurisdiction Average (2014)","Jurisdiction Average (2015)",{"$nulls":11},"POETE","Difference from 2014"]
[null,"Planning",{"$f":"AVERAGE('Heat Map'!D5:D35)","v":{"$error":"#DIV/0!"}},{"$f":"'Capability Ratings Data'!D79","v":{"$error":"#DIV/0!"}},{"$f":"D53-C53","v":{"$error":"#DIV/0!"}},{"$nulls":10},"Planning",{"$f":"VLOOKUP(P53, $B$53:$E$57, 4, FALSE)","v":{"$error":"#DIV/0!"}}]
[null,"Organization",{"$f":"AVERAGE('Heat Map'!G5:G35)","v":{"$error":"#DIV/0!"}},{"$f":"'Capability Ratings Data'!D80","v":{"$error":"#DIV/0!"}},{"$f":"D54-C54","v":{"$error":"#DIV/0!"}},{"$nulls":10},"Organization",{"$f":"VLOOKUP(P54, $B$53:$E$57, 4, FALSE)","v":{"$error":"#DIV/0!"}}]
[null,"Equipment",{"$f":"AVERAGE('Heat Map'!J5:J35)","v":{"$error":"#DIV/0!"}},{"$f":"'Capability Ratings Data'!D81","v":{"$error":"#DIV/0!"}},{"$error":"#DIV/0!"},{"$nulls":10},"Equipment",{"$error":"#DIV/0!"}]
[null,"Training",{"$f":"AVERAGE('Heat Map'!M5:M35)","v":{"$error":"#DIV/0!"}},{"$f":"'Capability Ratings Data'!D82","v":{"$error":"#DIV/0!"}},{"$error":"#DIV/0!"},{"$nulls":10},"Training",{"$error":"#DIV/0!"}]
[null,"Exercises",{"$f":"AVERAGE('Heat Map'!P5:P35)","v":{"$error":"#DIV/0!"}},{"$f":"'Capability Ratings Data'!D83","v":{"$error":"#DIV/0!"}},{"$error":"#DIV/0!"},{"$nulls":10},"Exercises",{"$error":"#DIV/0!"}]
[]
[]
[null,"POETE","1&2s","3s","4&5s"]
[null,"Planning (2014)",{"$f":"COUNTIF('Heat Map'!D5:D35, \"1\") + COUNTIF('Heat Map'!D5:D35, \"2\")","v":0},{"$f":"COUNTIF('Heat Map'!D5:D35, \"3\")","v":0},{"$f":"COUNTIF('Heat Map'!D5:D35, \"4\") + COUNTIF('Heat Map'!D5:D35, \"5\")","v":0}]
[null,"Planning (2015)",{"$f":"SUM('Capability Ratings Data'!D90:E90)","v":0},{"$f":"'Capability Ratings Data'!F90","v":0},{"$f":"SUM('Capability Ratings Data'!G90:H90)","v":0}]
[null,"Organization (2014)",{"$f":"COUNTIF('Heat Map'!G5:G35, \"1\") + COUNTIF('Heat Map'!G5:G35, \"2\")","v":0},{"$f":"COUNTIF('Heat Map'!G5:G35, \"3\")","v":0},{"$f":"COUNTIF('Heat Map'!G5:G35, \"4\") + COUNTIF('Heat Map'!G5:G35, \"5\")","v":0}]
[null,"Organization (2015)",{"$f":"SUM('Capability Ratings Data'!D91:E91)","v":0},{"$f":"'Capability Ratings Data'!F91","v":0},{"$f":"SUM('Capability Ratings Data'!G91:H91)","v":0}]
[null,"Equipment (2014)",{"$f":"COUNTIF('Heat Map'!J5:J35, \"1\") + COUNTIF('Heat Map'!J5:J35, \"2\")","v":0},{"$f":"COUNTIF('Heat Map'!J5:J35, \"3\")","v":0},{"$f":"COUNTIF('Heat Map'!J5:J35, \"4\") + COUNTIF('Heat Map'!J5:J35, \"5\")","v":0}]
[null,"Equipment (2015)",{"$f":"SUM('Capability Ratings Data'!D92:E92)","v":0},{"$f":"'Capability Ratings Data'!F92","v":0},{"$f":"SUM('Capability Ratings Data'!G92:H92)","v":0}]
[null,"Training (2014)",{"$f":"COUNTIF('Heat Map'!M5:M35, \"1\") + COUNTIF('Heat Map'!M5:M35, \"2\")","v":0},{"$f":"COUNTIF('Heat Map'!M5:M35, \"3\")","v":0},{"$f":"COUNTIF('Heat Map'!M5:M35, \"4\") + COUNTIF('Heat Map'!M5:M35, \"5\")","v":0}]
[null,"Training (2015)",{"$f":"SUM('Capability Ratings Data'!D93:E93)","v":0},{"$f":"'Capability Ratings Data'!F93","v":0},{"$f":"SUM('Capability Ratings Data'!G93:H93)","v":0}]
[null,"Exercises (2014)",{"$f":"COUNTIF('Heat Map'!P5:P35, \"1\") + COUNTIF('Heat Map'!P5:P35, \"2\")","v":0},{"$f":"COUNTIF('Heat Map'!P5:P35, \"3\")","v":0},{"$f":"COUNTIF('Heat Map'!P5:P35, \"4\") + COUNTIF('Heat Map'!P5:P35, \"5\")","v":0}]
[null,"Exercises (2015)",{"$f":"SUM('Capability Ratings Data'!D94:E94)","v":0},{"$f":"'Capability Ratings Data'!F94","v":0},{"$f":"SUM('Capability Ratings Data'!G94:H94)","v":0}]
{"$rows_empty":7}
[null,"Mission Areas",null,null,{"$f":"C78-D78","v":{"v":0,"d":"0.00"}},{"$nulls":10},"SORTABLE DATA"]
[null,"Mission Area","Jurisdiction Average (2014)","Jurisdiction Average (2015)",{"$nulls":11},"Mission Area","Difference from 2014"]
[null,"Common",{"$f":"AVERAGE('Heat Map'!D5:D7,'Heat Map'!G5:G7,'Heat Map'!J5:J7,'Heat Map'!M5:M7,'Heat Map'!P5:P7)","v":{"$error":"#DIV/0!"}},{"$f":"'Capability Ratings Data'!D104","v":{"$error":"#DIV/0!"}},{"$f":"D80-C80","v":{"$error":"#DIV/0!"}},{"$nulls":10},"Common",{"$f":"VLOOKUP(P80, $B$80:$E$85, 4, FALSE)","v":{"$error":"#DIV/0!"}}]
[null,"Prevention",{"$f":"AVERAGE('Heat Map'!D8:D11,'Heat Map'!G8:G11,'Heat Map'!J8:J11,'Heat Map'!M8:M11,'Heat Map'!P8:P11)","v":{"$error":"#DIV/0!"}},{"$f":"'Capability Ratings Data'!D105","v":{"$error":"#DIV/0!"}},{"$f":"D81-C81","v":{"$error":"#DIV/0!"}},{"$nulls":10},"Prevention",{"$f":"VLOOKUP(P81, $B$80:$E$85, 4, FALSE)","v":{"$error":"#DIV/0!"}}]
[null,"Protection",{"$f":"AVERAGE('Heat Map'!D9:D16,'Heat Map'!G9:G16,'Heat Map'!J9:J16,'Heat Map'!M9:M16,'Heat Map'!P9:P16)","v":{"$error":"#DIV/0!"}},{"$f":"'Capability Ratings Data'!D106","v":{"$error":"#DIV/0!"}},{"$error":"#DIV/0!"},{"$nulls":10},"Protection",{"$f":"VLOOKUP(P82, $B$80:$E$85, 4, FALSE)","v":{"$error":"#DIV/0!"}}]
[null,"Mitigation",{"$f":"AVERAGE('Heat Map'!D17:D20,'Heat Map'!G17:G20,'Heat Map'!J17:J20,'Heat Map'!M17:M20,'Heat Map'!P17:P20)","v":{"$error":"#DIV/0!"}},{"$f":"'Capability Ratings Data'!D107","v":{"$error":"#DIV/0!"}},{"$error":"#DIV/0!"},{"$nulls":10},"Mitigation",{"$f":"VLOOKUP(P83, $B$80:$E$85, 4, FALSE)","v":{"$error":"#DIV/0!"}}]
[null,"Response",{"$f":"AVERAGE('Heat Map'!D21:D31,'Heat Map'!G21:G31,'Heat Map'!J21:J31,'Heat Map'!M21:M31,'Heat Map'!P21:P31)","v":{"$error":"#DIV/0!"}},{"$f":"'Capability Ratings Data'!D108","v":{"$error":"#DIV/0!"}},{"$error":"#DIV/0!"},{"$nulls":10},"Response",{"$error":"#DIV/0!"}]
[null,"Recovery",{"$f":"AVERAGE('Heat Map'!D32:D35,'Heat Map'!G32:G35,'Heat Map'!J32:J35,'Heat Map'!M32:M35,'Heat Map'!P32:P35,'Heat Map'!D24,'Heat Map'!G24,'Heat Map'!J24,'Heat Map'!M24,'Heat Map'!P24)","v":{"$error":"#DIV/0!"}},{"$f":"'Capability Ratings Data'!D109","v":{"$error":"#DIV/0!"}},{"$error":"#DIV/0!"},{"$nulls":10},"Recovery",{"$error":"#DIV/0!"}]
[]
[{"$nulls":4},{"v":0,"d":"0.00"}]
[]
[]
[]
[{"$nulls":44},0]
[]
[null,"Mission Area","1&2s","3s","4&5s"]
[null,"Common (2015)",{"$f":"SUM('Capability Ratings Data'!D117:E117)","v":0},{"$f":"'Capability Ratings Data'!F117","v":0},{"$f":"SUM('Capability Ratings Data'!G117:H117)","v":0}]
[null,"Common (2014)",{"$f":"COUNTIF('Heat Map'!D5:D7, \"1\")+COUNTIF('Heat Map'!G5:G7, \"1\")+COUNTIF('Heat Map'!J5:J7, \"1\")+COUNTIF('Heat Map'!M5:M7, \"1\")+COUNTIF('Heat Map'!P5:P7, \"1\")+COUNTIF('Heat Map'!D5:D7, \"2\")+COUNTIF('Heat Map'!G5:G7, \"2\")+COUNTIF('Heat Map'!J5:J7, \"2\")+COUNTIF('Heat Map'!M5:M7, \"2\")+COUNTIF('Heat Map'!P5:P7, \"2\")","v":0},{"$f":"COUNTIF('Heat Map'!D5:D7, \"3\")+COUNTIF('Heat Map'!G5:G7, \"3\")+COUNTIF('Heat Map'!J5:J7, \"3\")+COUNTIF('Heat Map'!M5:M7, \"3\")+COUNTIF('Heat Map'!P5:P7, \"3\")","v":0},{"$f":"COUNTIF('Heat Map'!D5:D7, \"4\")+COUNTIF('Heat Map'!G5:G7, \"4\")+COUNTIF('Heat Map'!J5:J7, \"4\")+COUNTIF('Heat Map'!M5:M7, \"4\")+COUNTIF('Heat Map'!P5:P7, \"4\")+COUNTIF('Heat Map'!D5:D7, \"5\")+COUNTIF('Heat Map'!G5:G7, \"5\")+COUNTIF('Heat Map'!J5:J7, \"5\")+COUNTIF('Heat Map'!M5:M7, \"5\")+COUNTIF('Heat Map'!P5:P7, \"5\")","v":0}]
[null,"Prevention (2015)",{"$f":"SUM('Capability Ratings Data'!D118:E118)","v":0},{"$f":"'Capability Ratings Data'!F118","v":0},{"$f":"SUM('Capability Ratings Data'!G118:H118)","v":0}]
[null,"Prevention (2014)",{"$f":"COUNTIF('Heat Map'!D8:D11, \"1\")+COUNTIF('Heat Map'!G8:G11, \"1\")+COUNTIF('Heat Map'!J8:J11, \"1\")+COUNTIF('Heat Map'!M8:M11, \"1\")+COUNTIF('Heat Map'!P8:P11, \"1\")+COUNTIF('Heat Map'!D8:D11, \"2\")+COUNTIF('Heat Map'!G8:G11, \"2\")+COUNTIF('Heat Map'!J8:J11, \"2\")+COUNTIF('Heat Map'!M8:M11, \"2\")+COUNTIF('Heat Map'!P8:P11, \"2\")","v":0},{"$f":"COUNTIF('Heat Map'!D8:D11, \"3\")+COUNTIF('Heat Map'!G8:G11, \"3\")+COUNTIF('Heat Map'!J8:J11, \"3\")+COUNTIF('Heat Map'!M8:M11, \"3\")+COUNTIF('Heat Map'!P8:P11, \"3\")","v":0},{"$f":"COUNTIF('Heat Map'!D8:D11, \"4\")+COUNTIF('Heat Map'!G8:G11, \"4\")+COUNTIF('Heat Map'!J8:J11, \"4\")+COUNTIF('Heat Map'!M8:M11, \"4\")+COUNTIF('Heat Map'!P8:P11, \"4\")+COUNTIF('Heat Map'!D8:D11, \"5\")+COUNTIF('Heat Map'!G8:G11, \"5\")+COUNTIF('Heat Map'!J8:J11, \"5\")+COUNTIF('Heat Map'!M8:M11, \"5\")+COUNTIF('Heat Map'!P8:P11, \"5\")","v":0}]
[null,"Protection  (2015)",{"$f":"SUM('Capability Ratings Data'!D119:E119)","v":0},{"$f":"'Capability Ratings Data'!F119","v":0},{"$f":"SUM('Capability Ratings Data'!G119:H119)","v":0}]
[null,"Protection  (2014)",{"$f":"COUNTIF('Heat Map'!D9:D16, \"1\")+COUNTIF('Heat Map'!G9:G16, \"1\")+COUNTIF('Heat Map'!J9:J16, \"1\")+COUNTIF('Heat Map'!M9:M16, \"1\")+COUNTIF('Heat Map'!P9:P16, \"1\")+COUNTIF('Heat Map'!D9:D16, \"2\")+COUNTIF('Heat Map'!G9:G16, \"2\")+COUNTIF('Heat Map'!J9:J16, \"2\")+COUNTIF('Heat Map'!M9:M16, \"2\")+COUNTIF('Heat Map'!P9:P16, \"2\")","v":0},{"$f":"COUNTIF('Heat Map'!D9:D16, \"3\")+COUNTIF('Heat Map'!G9:G16, \"3\")+COUNTIF('Heat Map'!J9:J16, \"3\")+COUNTIF('Heat Map'!M9:M16, \"3\")+COUNTIF('Heat Map'!P9:P16, \"3\")","v":0},{"$f":"COUNTIF('Heat Map'!D9:D16, \"4\")+COUNTIF('Heat Map'!G9:G16, \"4\")+COUNTIF('Heat Map'!J9:J16, \"4\")+COUNTIF('Heat Map'!M9:M16, \"4\")+COUNTIF('Heat Map'!P9:P16, \"4\")+COUNTIF('Heat Map'!D9:D16, \"5\")+COUNTIF('Heat Map'!G9:G16, \"5\")+COUNTIF('Heat Map'!J9:J16, \"5\")+COUNTIF('Heat Map'!M9:M16, \"5\")+COUNTIF('Heat Map'!P9:P16, \"5\")","v":0}]
[null,"Mitigation  (2015)",{"$f":"SUM('Capability Ratings Data'!D120:E120)","v":0},{"$f":"'Capability Ratings Data'!F120","v":0},{"$f":"SUM('Capability Ratings Data'!G120:H120)","v":0}]
[null,"Mitigation  (2014)",{"$f":"COUNTIF('Heat Map'!D17:D20, \"1\")+COUNTIF('Heat Map'!G17:G20, \"1\")+COUNTIF('Heat Map'!J17:J20, \"1\")+COUNTIF('Heat Map'!M17:M20, \"1\")+COUNTIF('Heat Map'!P17:P20, \"1\")+COUNTIF('Heat Map'!D17:D20, \"2\")+COUNTIF('Heat Map'!G17:G20, \"2\")+COUNTIF('Heat Map'!J17:J20, \"2\")+COUNTIF('Heat Map'!M17:M20, \"2\")+COUNTIF('Heat Map'!P17:P20, \"2\")","v":0},{"$f":"COUNTIF('Heat Map'!D17:D20, \"3\")+COUNTIF('Heat Map'!G17:G20, \"3\")+COUNTIF('Heat Map'!J17:J20, \"3\")+COUNTIF('Heat Map'!M17:M20, \"3\")+COUNTIF('Heat Map'!P17:P20, \"3\")","v":0},{"$f":"COUNTIF('Heat Map'!D17:D20, \"4\")+COUNTIF('Heat Map'!G17:G20, \"4\")+COUNTIF('Heat Map'!J17:J20, \"4\")+COUNTIF('Heat Map'!M17:M20, \"4\")+COUNTIF('Heat Map'!P17:P20, \"4\")+COUNTIF('Heat Map'!D17:D20, \"5\")+COUNTIF('Heat Map'!G17:G20, \"5\")+COUNTIF('Heat Map'!J17:J20, \"5\")+COUNTIF('Heat Map'!M17:M20, \"5\")+COUNTIF('Heat Map'!P17:P20, \"5\")","v":0}]
[null,"Response (2015)",{"$f":"SUM('Capability Ratings Data'!D121:E121)","v":0},{"$f":"'Capability Ratings Data'!F121","v":0},{"$f":"SUM('Capability Ratings Data'!G121:H121)","v":0}]
[null,"Response (2014)",{"$f":"COUNTIF('Heat Map'!D21:D31, \"1\")+COUNTIF('Heat Map'!G21:G31, \"1\")+COUNTIF('Heat Map'!J21:J31, \"1\")+COUNTIF('Heat Map'!M21:M31, \"1\")+COUNTIF('Heat Map'!P21:P31, \"1\")+COUNTIF('Heat Map'!D21:D31, \"2\")+COUNTIF('Heat Map'!G21:G31, \"2\")+COUNTIF('Heat Map'!J21:J31, \"2\")+COUNTIF('Heat Map'!M21:M31, \"2\")+COUNTIF('Heat Map'!P21:P31, \"2\")","v":0},{"$f":"COUNTIF('Heat Map'!D21:D31, \"3\")+COUNTIF('Heat Map'!G21:G31, \"3\")+COUNTIF('Heat Map'!J21:J31, \"3\")+COUNTIF('Heat Map'!M21:M31, \"3\")+COUNTIF('Heat Map'!P21:P31, \"3\")","v":0},{"$f":"COUNTIF('Heat Map'!D21:D31, \"4\")+COUNTIF('Heat Map'!G21:G31, \"4\")+COUNTIF('Heat Map'!J21:J31, \"4\")+COUNTIF('Heat Map'!M21:M31, \"4\")+COUNTIF('Heat Map'!P21:P31, \"4\")+COUNTIF('Heat Map'!D21:D31, \"5\")+COUNTIF('Heat Map'!G21:G31, \"5\")+COUNTIF('Heat Map'!J21:J31, \"5\")+COUNTIF('Heat Map'!M21:M31, \"5\")+COUNTIF('Heat Map'!P21:P31, \"5\")","v":0}]
[null,"Recovery (2015)",{"$f":"SUM('Capability Ratings Data'!D122:E122)","v":0},{"$f":"'Capability Ratings Data'!F122","v":0},{"$f":"SUM('Capability Ratings Data'!G122:H122)","v":0}]
[null,"Recovery (2014)",{"$f":"COUNTIF('Heat Map'!D32:D35, \"1\")+COUNTIF('Heat Map'!G32:G35, \"1\")+COUNTIF('Heat Map'!J32:J35, \"1\")+COUNTIF('Heat Map'!M32:M35, \"1\")+COUNTIF('Heat Map'!P32:P35, \"1\")+COUNTIF('Heat Map'!D32:D35, \"2\")+COUNTIF('Heat Map'!G32:G35, \"2\")+COUNTIF('Heat Map'!J32:J35, \"2\")+COUNTIF('Heat Map'!M32:M35, \"2\")+COUNTIF('Heat Map'!P32:P35, \"2\")+COUNTIF('Heat Map'!D24, \"1\")+COUNTIF('Heat Map'!G24, \"1\")+COUNTIF('Heat Map'!J24, \"1\")+COUNTIF('Heat Map'!M24, \"1\")+COUNTIF('Heat Map'!P24, \"1\")+COUNTIF('Heat Map'!D24, \"2\")+COUNTIF('Heat Map'!G24, \"2\")+COUNTIF('Heat Map'!J24, \"2\")+COUNTIF('Heat Map'!M24, \"2\")+COUNTIF('Heat Map'!P24, \"2\")","v":0},{"$f":"COUNTIF('Heat Map'!D32:D35, \"3\")+COUNTIF('Heat Map'!G32:G35, \"3\")+COUNTIF('Heat Map'!J32:J35, \"3\")+COUNTIF('Heat Map'!M32:M35, \"3\")+COUNTIF('Heat Map'!P32:P35, \"3\")+COUNTIF('Heat Map'!D24, \"3\")+COUNTIF('Heat Map'!G24, \"3\")+COUNTIF('Heat Map'!J24, \"3\")+COUNTIF('Heat Map'!M24, \"3\")+COUNTIF('Heat Map'!P24, \"3\")","v":0},{"$f":"COUNTIF('Heat Map'!D32:D35, \"4\")+COUNTIF('Heat Map'!G32:G35, \"4\")+COUNTIF('Heat Map'!J32:J35, \"4\")+COUNTIF('Heat Map'!M32:M35, \"4\")+COUNTIF('Heat Map'!P32:P35, \"4\")+COUNTIF('Heat Map'!D32:D35, \"5\")+COUNTIF('Heat Map'!G32:G35, \"5\")+COUNTIF('Heat Map'!J32:J35, \"5\")+COUNTIF('Heat Map'!M32:M35, \"5\")+COUNTIF('Heat Map'!P32:P35, \"5\")+COUNTIF('Heat Map'!D24, \"4\")+COUNTIF('Heat Map'!G24, \"4\")+COUNTIF('Heat Map'!J24, \"4\")+COUNTIF('Heat Map'!M24, \"4\")+COUNTIF('Heat Map'!P24, \"4\")+COUNTIF('Heat Map'!D24, \"5\")+COUNTIF('Heat Map'!G24, \"5\")+COUNTIF('Heat Map'!J24, \"5\")+COUNTIF('Heat Map'!M24, \"5\")+COUNTIF('Heat Map'!P24, \"5\")","v":0}]

{"sheet":"Import 2014 Responses","index":78,"n_rows":0,"n_cols":0,"rows_kept":0,"hidden":true}

{"sheet":"Export Capabilities","index":79,"n_rows":34,"n_cols":3,"rows_kept":34,"hidden":true,"merged":[[2,2,2,3]]}
[]
[]
[null,"Mission Areas","Core Capabilities"]
[null,"Common","Planning"]
[null,"Common","Public Information and Warning"]
[null,"Common","Operational Coordination"]
[null,"Prevention","Forensics and Attribution"]
[null,"Prevention/Protection","Intelligence and Information Sharing"]
[null,"Prevention/Protection","Interdiction and Disruption"]
[null,"Prevention/Protection","Screening, Search, and Detection"]
[null,"Protection","Access Control and Identity Verification"]
[null,"Protection","Cybersecurity"]
[null,"Protection","Physical Protective Measures"]
[null,"Protection","Risk Management for Protection Programs and Activities"]
[null,"Protection","Supply Chain Integrity and Security"]
[null,"Mitigation","Community Resilience"]
[null,"Mitigation","Long-term Vulnerability Reduction"]
[null,"Mitigation","Risk and Disaster Resilience Assessment"]
[null,"Mitigation","Threats and Hazard Identification"]
[null,"Response","Critical Transportation"]
[null,"Response","Environmental Response/Health and Safety"]
[null,"Response","Fatality Management Services"]
[null,"Response/Recovery","Infrastructure Systems"]
[null,"Response","Mass Care Services"]
[null,"Response","Mass Search and Rescue Operations"]
[null,"Response","On-scene Security and Protection"]
[null,"Response","Operational  Communications"]
[null,"Response","Public and Private Services and Resources"]
[null,"Response","Public Health and Medical Services"]
[null,"Response","Situational Assessment"]
[null,"Recovery ","Economic Recovery"]
[null,"Recovery","Health and Social Services"]
[null,"Recovery","Housing"]
[null,"Recovery","Natural and Cultural Resources"]

{"sheet":"Import SPR Contributions","index":80,"n_rows":204,"n_cols":45,"rows_kept":204,"hidden":true}
{"$rows_empty":17}
[null,"Internal Capability Ratings",{"$nulls":42},"Internal Capability with Mutual Aid Ratings"]
[null,{"$f":"Lists!$O$1","v":"Planning"},{"$nulls":42},{"$f":"Lists!$O$1","v":"Planning"}]
[null,"Planning",{"$nulls":42},"Planning"]
[null,"Organization",{"$nulls":42},"Organization"]
[null,"Equipment",{"$nulls":42},"Equipment"]
[null,"Training",{"$nulls":42},"Training"]
[null,"Exercises",{"$nulls":42},"Exercises"]
[null,{"$f":"Lists!$O$2","v":"Public Information and Warning"},{"$nulls":42},{"$f":"Lists!$O$2","v":"Public Information and Warning"}]
[null,"Planning",{"$nulls":42},"Planning"]
[null,"Organization",{"$nulls":42},"Organization"]
[null,"Equipment",{"$nulls":42},"Equipment"]
[null,"Training",{"$nulls":42},"Training"]
[null,"Exercises",{"$nulls":42},"Exercises"]
[null,{"$f":"Lists!$O$3","v":"Operational Coordination"},{"$nulls":42},{"$f":"Lists!$O$3","v":"Operational Coordination"}]
[null,"Planning",{"$nulls":42},"Planning"]
[null,"Organization",{"$nulls":42},"Organization"]
[null,"Equipment",{"$nulls":42},"Equipment"]
[null,"Training",{"$nulls":42},"Training"]
[null,"Exercises",{"$nulls":42},"Exercises"]
[null,{"$f":"Lists!$O$4","v":"Forensics and Attribution"},{"$nulls":42},{"$f":"Lists!$O$4","v":"Forensics and Attribution"}]
[null,"Planning",{"$nulls":42},"Planning"]
[null,"Organization",{"$nulls":42},"Organization"]
[null,"Equipment",{"$nulls":42},"Equipment"]
[null,"Training",{"$nulls":42},"Training"]
[null,"Exercises",{"$nulls":42},"Exercises"]
[null,{"$f":"Lists!$O$5","v":"Intelligence and Information Sharing"},{"$nulls":42},{"$f":"Lists!$O$5","v":"Intelligence and Information Sharing"}]
[null,"Planning",{"$nulls":42},"Planning"]
[null,"Organization",{"$nulls":42},"Organization"]
[null,"Equipment",{"$nulls":42},"Equipment"]
[null,"Training",{"$nulls":42},"Training"]
[null,"Exercises",{"$nulls":42},"Exercises"]
[null,{"$f":"Lists!$O$6","v":"Interdiction and Disruption"},{"$nulls":42},{"$f":"Lists!$O$6","v":"Interdiction and Disruption"}]
[null,"Planning",{"$nulls":42},"Planning"]
[null,"Organization",{"$nulls":42},"Organization"]
[null,"Equipment",{"$nulls":42},"Equipment"]
[null,"Training",{"$nulls":42},"Training"]
[null,"Exercises",{"$nulls":42},"Exercises"]
[null,{"$f":"Lists!$O$7","v":"Screening, Search, and Detection"},{"$nulls":42},{"$f":"Lists!$O$7","v":"Screening, Search, and Detection"}]
[null,"Planning",{"$nulls":42},"Planning"]
[null,"Organization",{"$nulls":42},"Organization"]
[null,"Equipment",{"$nulls":42},"Equipment"]
[null,"Training",{"$nulls":42},"Training"]
[null,"Exercises",{"$nulls":42},"Exercises"]
[null,{"$f":"Lists!$O$8","v":"Access Control and Identity Verification"},{"$nulls":42},{"$f":"Lists!$O$8","v":"Access Control and Identity Verification"}]
[null,"Planning",{"$nulls":42},"Planning"]
[null,"Organization",{"$nulls":42},"Organization"]
[null,"Equipment",{"$nulls":42},"Equipment"]
[null,"Training",{"$nulls":42},"Training"]
[null,"Exercises",{"$nulls":42},"Exercises"]
[null,{"$f":"Lists!$O$9","v":"Cybersecurity"},{"$nulls":42},{"$f":"Lists!$O$9","v":"Cybersecurity"}]
[null,"Planning",{"$nulls":42},"Planning"]
[null,"Organization",{"$nulls":42},"Organization"]
[null,"Equipment",{"$nulls":42},"Equipment"]
[null,"Training",{"$nulls":42},"Training"]
[null,"Exercises",{"$nulls":42},"Exercises"]
[null,{"$f":"Lists!$O$10","v":"Physical Protective Measures"},{"$nulls":42},{"$f":"Lists!$O$10","v":"Physical Protective Measures"}]
[null,"Planning",{"$nulls":42},"Planning"]
[null,"Organization",{"$nulls":42},"Organization"]
[null,"Equipment",{"$nulls":42},"Equipment"]
[null,"Training",{"$nulls":42},"Training"]
[null,"Exercises",{"$nulls":42},"Exercises"]
[null,{"$f":"Lists!$O$11","v":"Risk Management for Protection Programs and Activities"},{"$nulls":42},{"$f":"Lists!$O$11","v":"Risk Management for Protection Programs and Activities"}]
[null,"Planning",{"$nulls":42},"Planning"]
[null,"Organization",{"$nulls":42},"Organization"]
[null,"Equipment",{"$nulls":42},"Equipment"]
[null,"Training",{"$nulls":42},"Training"]
[null,"Exercises",{"$nulls":42},"Exercises"]
[null,{"$f":"Lists!$O$12","v":"Supply Chain Integrity and Security"},{"$nulls":42},{"$f":"Lists!$O$12","v":"Supply Chain Integrity and Security"}]
[null,"Planning",{"$nulls":42},"Planning"]
[null,"Organization",{"$nulls":42},"Organization"]
[null,"Equipment",{"$nulls":42},"Equipment"]
[null,"Training",{"$nulls":42},"Training"]
[null,"Exercises",{"$nulls":42},"Exercises"]
[null,{"$f":"Lists!$O$13","v":"Community Resilience"},{"$nulls":42},{"$f":"Lists!$O$13","v":"Community Resilience"}]
[null,"Planning",{"$nulls":42},"Planning"]
[null,"Organization",{"$nulls":42},"Organization"]
[null,"Equipment",{"$nulls":42},"Equipment"]
[null,"Training",{"$nulls":42},"Training"]
[null,"Exercises",{"$nulls":42},"Exercises"]
[null,{"$f":"Lists!$O$14","v":"Long-term Vulnerability Reduction"},{"$nulls":42},{"$f":"Lists!$O$14","v":"Long-term Vulnerability Reduction"}]
[null,"Planning",{"$nulls":42},"Planning"]
[null,"Organization",{"$nulls":42},"Organization"]
[null,"Equipment",{"$nulls":42},"Equipment"]
[null,"Training",{"$nulls":42},"Training"]
[null,"Exercises",{"$nulls":42},"Exercises"]
[null,{"$f":"Lists!$O$15","v":"Risk and Disaster Resilience Assessment"},{"$nulls":42},{"$f":"Lists!$O$15","v":"Risk and Disaster Resilience Assessment"}]
[null,"Planning",{"$nulls":42},"Planning"]
[null,"Organization",{"$nulls":42},"Organization"]
[null,"Equipment",{"$nulls":42},"Equipment"]
[null,"Training",{"$nulls":42},"Training"]
[null,"Exercises",{"$nulls":42},"Exercises"]
[null,{"$f":"Lists!$O$16","v":"Threats and Hazard Identification"},{"$nulls":42},{"$f":"Lists!$O$16","v":"Threats and Hazard Identification"}]
[null,"Planning",{"$nulls":42},"Planning"]
[null,"Organization",{"$nulls":42},"Organization"]
[null,"Equipment",{"$nulls":42},"Equipment"]
[null,"Training",{"$nulls":42},"Training"]
[null,"Exercises",{"$nulls":42},"Exercises"]
[null,{"$f":"Lists!$O$17","v":"Critical Transportation"},{"$nulls":42},{"$f":"Lists!$O$17","v":"Critical Transportation"}]
[null,"Planning",{"$nulls":42},"Planning"]
[null,"Organization",{"$nulls":42},"Organization"]
[null,"Equipment",{"$nulls":42},"Equipment"]
[null,"Training",{"$nulls":42},"Training"]
[null,"Exercises",{"$nulls":42},"Exercises"]
[null,{"$f":"Lists!$O$18","v":"Environmental Response/Health and Safety"},{"$nulls":42},{"$f":"Lists!$O$18","v":"Environmental Response/Health and Safety"}]
[null,"Planning",{"$nulls":42},"Planning"]
[null,"Organization",{"$nulls":42},"Organization"]
[null,"Equipment",{"$nulls":42},"Equipment"]
[null,"Training",{"$nulls":42},"Training"]
[null,"Exercises",{"$nulls":42},"Exercises"]
[null,{"$f":"Lists!$O$19","v":"Fatality Management Services"},{"$nulls":42},{"$f":"Lists!$O$19","v":"Fatality Management Services"}]
[null,"Planning",{"$nulls":42},"Planning"]
[null,"Organization",{"$nulls":42},"Organization"]
[null,"Equipment",{"$nulls":42},"Equipment"]
[null,"Training",{"$nulls":42},"Training"]
[null,"Exercises",{"$nulls":42},"Exercises"]
[null,{"$f":"Lists!$O$20","v":"Infrastructure Systems"},{"$nulls":42},{"$f":"Lists!$O$20","v":"Infrastructure Systems"}]
[null,"Planning",{"$nulls":42},"Planning"]
[null,"Organization",{"$nulls":42},"Organization"]
[null,"Equipment",{"$nulls":42},"Equipment"]
[null,"Training",{"$nulls":42},"Training"]
[null,"Exercises",{"$nulls":42},"Exercises"]
[null,{"$f":"Lists!$O$21","v":"Mass Care Services"},{"$nulls":42},{"$f":"Lists!$O$21","v":"Mass Care Services"}]
[null,"Planning",{"$nulls":42},"Planning"]
[null,"Organization",{"$nulls":42},"Organization"]
[null,"Equipment",{"$nulls":42},"Equipment"]
[null,"Training",{"$nulls":42},"Training"]
[null,"Exercises",{"$nulls":42},"Exercises"]
[null,{"$f":"Lists!$O$22","v":"Mass Search and Rescue Operations"},{"$nulls":42},{"$f":"Lists!$O$22","v":"Mass Search and Rescue Operations"}]
[null,"Planning",{"$nulls":42},"Planning"]
[null,"Organization",{"$nulls":42},"Organization"]
[null,"Equipment",{"$nulls":42},"Equipment"]
[null,"Training",{"$nulls":42},"Training"]
[null,"Exercises",{"$nulls":42},"Exercises"]
[null,{"$f":"Lists!$O$23","v":"On-scene Security and Protection"},{"$nulls":42},{"$f":"Lists!$O$23","v":"On-scene Security and Protection"}]
[null,"Planning",{"$nulls":42},"Planning"]
[null,"Organization",{"$nulls":42},"Organization"]
[null,"Equipment",{"$nulls":42},"Equipment"]
[null,"Training",{"$nulls":42},"Training"]
[null,"Exercises",{"$nulls":42},"Exercises"]
[null,{"$f":"Lists!$O$24","v":"Operational Communications"},{"$nulls":42},{"$f":"Lists!$O$24","v":"Operational Communications"}]
[null,"Planning",{"$nulls":42},"Planning"]
[null,"Organization",{"$nulls":42},"Organization"]
[null,"Equipment",{"$nulls":42},"Equipment"]
[null,"Training",{"$nulls":42},"Training"]
[null,"Exercises",{"$nulls":42},"Exercises"]
[null,{"$f":"Lists!$O$25","v":"Public and Private Services and Resources"},{"$nulls":42},{"$f":"Lists!$O$25","v":"Public and Private Services and Resources"}]
[null,"Planning",{"$nulls":42},"Planning"]
[null,"Organization",{"$nulls":42},"Organization"]
[null,"Equipment",{"$nulls":42},"Equipment"]
[null,"Training",{"$nulls":42},"Training"]
[null,"Exercises",{"$nulls":42},"Exercises"]
[null,{"$f":"Lists!$O$26","v":"Public Health and Medical Services"},{"$nulls":42},{"$f":"Lists!$O$26","v":"Public Health and Medical Services"}]
[null,"Planning",{"$nulls":42},"Planning"]
[null,"Organization",{"$nulls":42},"Organization"]
[null,"Equipment",{"$nulls":42},"Equipment"]
[null,"Training",{"$nulls":42},"Training"]
[null,"Exercises",{"$nulls":42},"Exercises"]
[null,{"$f":"Lists!$O$27","v":"Situational Assessment"},{"$nulls":42},{"$f":"Lists!$O$27","v":"Situational Assessment"}]
[null,"Planning",{"$nulls":42},"Planning"]
[null,"Organization",{"$nulls":42},"Organization"]
[null,"Equipment",{"$nulls":42},"Equipment"]
[null,"Training",{"$nulls":42},"Training"]
[null,"Exercises",{"$nulls":42},"Exercises"]
[null,{"$f":"Lists!$O$28","v":"Economic Recovery"},{"$nulls":42},{"$f":"Lists!$O$28","v":"Economic Recovery"}]
[null,"Planning",{"$nulls":42},"Planning"]
[null,"Organization",{"$nulls":42},"Organization"]
[null,"Equipment",{"$nulls":42},"Equipment"]
[null,"Training",{"$nulls":42},"Training"]
[null,"Exercises",{"$nulls":42},"Exercises"]
[null,{"$f":"Lists!$O$29","v":"Health and Social Services"},{"$nulls":42},{"$f":"Lists!$O$29","v":"Health and Social Services"}]
[null,"Planning",{"$nulls":42},"Planning"]
[null,"Organization",{"$nulls":42},"Organization"]
[null,"Equipment",{"$nulls":42},"Equipment"]
[null,"Training",{"$nulls":42},"Training"]
[null,"Exercises",{"$nulls":42},"Exercises"]
[null,{"$f":"Lists!$O$30","v":"Housing"},{"$nulls":42},{"$f":"Lists!$O$30","v":"Housing"}]
[null,"Planning",{"$nulls":42},"Planning"]
[null,"Organization",{"$nulls":42},"Organization"]
[null,"Equipment",{"$nulls":42},"Equipment"]
[null,"Training",{"$nulls":42},"Training"]
[null,"Exercises",{"$nulls":42},"Exercises"]
[null,{"$f":"Lists!$O$31","v":"Natural and Cultural Resources"},{"$nulls":42},{"$f":"Lists!$O$31","v":"Natural and Cultural Resources"}]
[null,"Planning",{"$nulls":42},"Planning"]
[null,"Organization",{"$nulls":42},"Organization"]
[null,"Equipment",{"$nulls":42},"Equipment"]
[null,"Training",{"$nulls":42},"Training"]
[null,"Exercises",{"$nulls":42},"Exercises"]

{"sheet":"Write Word Document","index":81,"n_rows":0,"n_cols":0,"rows_kept":0,"hidden":true}

{"sheet":"Lists","index":82,"n_rows":580,"n_cols":37,"rows_kept":580,"hidden":true}
[{"$nulls":3},"Planning","Organization","Equipment","Training","Exercises","POETE","THCategories","Natural","Technological","Adversarial",1,"Planning","#1 Planning",null,0,"Blank",0,"Blank",{"$nulls":3},"Post-assessment question order",{"$nulls":5},"Adversarial/Human-caused","Human_caused",null,"Select one …",null,null,"Click here to jump to a core capability"]
["Animal Health Emergency",null,1,"No selection made","No selection made","No selection made","No selection made","No selection made",null,"Click here to select category","Click here to select hazard","Click here to select hazard","Click here to select hazard",2,"Public Information and Warning","#2 Public Info Warn",null,1,"Low",1,"No Gap",{"$nulls":3},"Planning",{"$nulls":5},"Click here to select category","Click here to select category",null,"Assessment is based wholly or partially on performance during a real-world incident or event",null,null,"Planning"]
["Emergency Medical Services",1,2,"No plan/annexes exist","0-20% of required organization/personnel exists","0-20% of required equipment exists","0-20% of required training exists","No exercises/real-world demonstration have occurred in the last five years","Team","Natural","Animal Disease","Dam Failure","Active Shooter",3,"Operational Coordination","#3 Op Coord",null,2,"Med",2,"All Internal",{"$nulls":3},"Public Information and Warning",{"$nulls":5},"Natural","Natural",null,"Assessment is not based on performance during a real-world incident or event",null,null,"Public Information and Warning"]
["Fire and Hazardous Materials",2,3,"Some plans/annexes exist","21-40% of required organization/personnel exists","21-40% of required equipment exists","21-40% of required training exists","Exercises/real-world demonstration have occurred; many mission critical findings exist","Planning","Technological","Avalanche","Fuel Shortage","Aircraft as a Weapon",4,"Forensics and Attribution","#4 Forensics Attribution",null,3,"High",3,"Mostly Internal",{"$nulls":3},"Operational Coordination",{"$nulls":5},"Technological","Technological",{"$nulls":4},"Operational Coordination"]
["Geospatial Information Systems",3,4,"Plans/annexes are complete but require update","41-60% of required organization/personnel exists","41-60% of required equipment exists","41-60% of required training exists","Exercises/real-world demonstration have occurred; few mission critical findings exist","Organization","Human_caused","Drought","Hazmat Release - Chemical","Arson",5,"Intelligence and Information Sharing","#5 Intel Info Sharing",{"$nulls":3},4,"Mostly External",{"$nulls":3},"Forensics and Attribution",{"$nulls":11},"Forensics and Attribution"]
["Incident Management",4,5,"Plans/annexes are complete and have been updated within 5 years","61-80% of required organization/personnel exists","61-80% of required equipment exists","61-80% of required training exists","Exercises/real-world demonstration have occurred; some areas for improvement exist","Equipment",null,"Earthquake","Hazmat Release - Radiological","Biological Attack",6,"Interdiction and Disruption","#6 Interdict Disrupt",{"$nulls":3},5,"All External",{"$nulls":3},"Intelligence and Information Sharing",{"$nulls":11},"Intelligence and Information Sharing"]
["Law Enforcement",5,6,"Plans/annexes are complete, up to date, and verified through either exercises or real world events","81%-100% of required organization/personnel exists","81%-100% of required equipment exists","81%-100% of training exists","Exercises/real-world demonstration have occurred; no areas for improvement exist","Training",null,"Extreme Temperatures","Mine Accident","Chemical Attack",7,"Screening, Search, and Detection","#7 Screen Search Detect",{"$nulls":8},"Interdiction and Disruption",{"$nulls":11},"Interdiction and Disruption"]
["Mass Care","N/A",7,"Planning is not relevant for this capability","Organization is not relevant for this capability","Equipment is not relevant for this capability","Training is not relevant for this capability","Exercises/real-world demonstration is not relevant for this capability","Exercises",null,"Flood","Mine/Underground Fire","Civil Disturbance",8,"Access Control and Identity Verification","#8 Access Control",{"$nulls":8},"Screening, Search, and Detection",{"$nulls":11},"Screening, Search, and Detection"]
["Medical and Public Health",{"$nulls":9},"Hurricane / Typhoon","Pipeline Explosion","Cyber Attack",9,"Cybersecurity","#9 Cybersecurity",{"$nulls":8},"Access Control and Identity Verification",{"$nulls":11},"Access Control and Identity Verification"]
["Search and Rescue",{"$nulls":9},"Invasive Species","Transportation Accident","Explosive Devices",10,"Physical Protective Measures","#10 Phys Protect Meas",{"$nulls":8},"Cybersecurity",{"$nulls":11},"Cybersecurity"]
["Public Works","Percentage complete",null,"CPG101 Ratings",{"$nulls":6},"Pandemic - Human","Urban Conflagration","Food/Water Contamination",11,"Risk Management for Protection Programs and Activities","#11 Risk Mgmt Protect",{"$nulls":8},"Physical Protective Measures",{"$nulls":11},"Physical Protective Measures"]
["Other",null,1,"No selection made",{"$nulls":6},"Severe Storm / High Winds","Utility Interruption","Improvised Nuclear Attack",12,"Supply Chain Integrity and Security","#12 Supply Chain",{"$nulls":8},"Risk Management for Protection Programs and Activities",{"$nulls":11},"Risk Management for Protection Programs and Activities"]
[null,{"v":0,"d":"0%"},2,"The Plan / Appendix / Annex is missing all of the specified characteristics.",{"$nulls":6},"Sinkhole / Landslide / Expansive Soils","Water Contamination","Mass Migration",13,"Community Resilience","#13 Comm Resilience",{"$nulls":8},"Supply Chain Integrity and Security",{"$nulls":11},"Supply Chain Integrity and Security"]
[null,{"v":0.1,"d":"10%"},3,"The Plan / Appendix / Annex minimally addresses the specified characteristics.",{"$nulls":6},"Space Weather","Other (Describe in Step 2)","Metal Theft",14,"Long-term Vulnerability Reduction","#14 Long Term Vul Red",{"$nulls":8},"Community Resilience",{"$nulls":11},"Community Resilience"]
[null,{"v":0.2,"d":"20%"},4,"The Plan / Appendix / Annex addresses some of the specified characteristics.",{"$nulls":6},"Tornado",null,"Radiological Attack",15,"Risk and Disaster Resilience Assessment","#15 Risk Resil Assess",{"$nulls":8},"Long-term Vulnerability Reduction",{"$nulls":11},"Long-term Vulnerability Reduction"]
[null,{"v":0.3,"d":"30%"},5,"The Plan / Appendix / Annex addresses most of the specified characteristics.",{"$nulls":6},"Tsunami",null,"Other (Describe in Step 2)",16,"Threats and Hazard Identification","#16 Threat Haz ID",{"$nulls":8},"Risk and Disaster Resilience Assessment",{"$nulls":11},"Risk and Disaster Resilience Assessment"]
[null,{"v":0.4,"d":"40%"},6,"The Plan / Appendix / Annex addresses all of the specified characteristics.",{"$nulls":6},"Volcanic Eruption",null,"Terrorism",17,"Critical Transportation","#17 Crit Transport",{"$nulls":8},"Threats and Hazard Identification",{"$nulls":11},"Threats and Hazard Identification"]
[null,{"v":0.5,"d":"50%"},7,"The plan is currently in the initial stages of development and, therefore, certain criteria cannot be evaluated. ",{"$nulls":6},"Wildfire",null,null,18,"Environmental Response/Health and Safety","#18 Envir Resp Health",{"$nulls":8},"Critical Transportation",{"$nulls":11},"Critical Transportation"]
[null,{"v":0.6,"d":"60%"},{"$nulls":8},"Winter Storm / Ice Storm",null,null,19,"Fatality Management Services","#19 Fatality Mgmt",{"$nulls":8},"Environmental Response/Health and Safety",{"$nulls":11},"Environmental Response/Health and Safety"]
[null,{"v":0.7,"d":"70%"},null,"CPG 101 Development Stage",{"$nulls":6},"Other (Describe in Step 2)",null,null,20,"Infrastructure Systems","#20 Infrastructure Sys",{"$nulls":8},"Fatality Management Services",{"$nulls":11},"Fatality Management Services"]
[null,{"v":0.8,"d":"80%"},null,null,"Completed",{"$nulls":8},21,"Mass Care Services","#21 Mass Care",{"$nulls":8},"Mass Care Services",{"$nulls":11},"Infrastructure Systems"]
[null,{"v":0.9,"d":"90%"},null,"Yes","In Progress",{"$nulls":8},22,"Mass Search and Rescue Operations","#22 Mass SAR Ops",{"$nulls":8},"Mass Search and Rescue Operations",{"$nulls":11},"Mass Care Services"]
[null,{"v":1,"d":"100%"},null,"No","Not Initiated",{"$nulls":8},23,"On-scene Security and Protection","#23 Security Protection",{"$nulls":8},"On-scene Security and Protection",{"$nulls":11},"Mass Search and Rescue Operations"]
[{"$nulls":3},"Not applicable","Not Applicable",{"$nulls":8},24,"Operational Communications","#24 Op Comms",{"$nulls":8},"Operational  Communications",{"$nulls":11},"On-scene Security and Protection"]
[{"$nulls":13},25,"Public and Private Services and Resources","#25 Pub Private Services",{"$nulls":8},"Public and Private Services and Resources",{"$nulls":11},"Operational Communications"]
[{"$nulls":3},"State/Territory",{"$nulls":9},26,"Public Health and Medical Services","#26 Public Health Medical",{"$nulls":8},"Public Health and Medical Services",{"$nulls":11},"Public and Private Services and Resources"]
[{"$nulls":3},"Urban Area",{"$nulls":9},28,"Situational Assessment","#27 Sit Assessment",{"$nulls":8},"Situational Assessment",{"$nulls":11},"Public Health and Medical Services"]
[{"$nulls":3},"Other",{"$nulls":9},27,"Economic Recovery","#28 Econ Recovery",{"$nulls":8},"Infrastructure Systems",{"$nulls":11},"Situational Assessment"]
[{"$nulls":13},29,"Health and Social Services","#29 Health Soc Services",{"$nulls":8},"Economic Recovery",{"$nulls":11},"Economic Recovery"]
[{"$nulls":13},30,"Housing","#30 Housing",{"$nulls":8},"Health and Social Services",{"$nulls":11},"Health and Social Services"]
[{"$nulls":13},31,"Natural and Cultural Resources","#31 Nat Cult Resources",{"$nulls":8},"Housing",{"$nulls":11},"Housing"]
["The resources below were for 2013.  They are no longer used by the tool and can be deleted. ",{"$nulls":23},"Natural and Cultural Resources",{"$nulls":11},"Natural and Cultural Resources"]
[]
["Animal Health Emergency","Emergency Medical Services","Fire and Hazardous Materials","Incident Management","Law Enforcement","Mass Care","Medical and Public Health","Search and Rescue","Public Works","Geospatial Information Systems","Other"]
["-----Resource Types-----","-----Resource Types-----","-----Resource Types-----","-----Resource Types-----","-----Resource Types-----","-----Resource Types-----","-----Resource Types-----","-----Resource Types-----","-----Resource Types-----","-----Position Qualifications-----"]
["Large Animal Rescue Strike Team","Air Ambulance (Fixed-Wing)","Area Command Team, Firefighting","Airborne Communications Relay Team (Fixed-Wing)","Bomb Squad/Explosives Team","Field Kitchen Unit","Public Health: Epidemiology (Surveillance and Investigation)","Air Search Team (Fixed-Wing)","Aerial Lift - Articulating Boom","GIS Analyst"]
["Large Animal Sheltering Team","Air Ambulance (Rotary-Wing)","Brush Patrol, Firefighting (Type VI Engine)","Airborne Communications Relay (Fixed-Wing) (CAP)","Law Enforcement Aviation-Helicopters-Patrol & Surveillance","Laundry Unit","Public Health: Isolation and Quarantine","Airborne Reconnaissance (Fixed-Wing)","Aerial Lift, Self Propelled, Scissor, Rough Terrain","GIS Supervisor"]
["Large Animal Transport Team","Ambulances (Ground)","Crew Transport (Firefighting Crew)","Airborne Transport Team (Fixed-Wing)","Law Enforcement Observation Aircraft (Fixed-Wing)","Mobile Kitchen Unit","Public Health: Environmental Health","Canine SAR Team - Avalanche Snow Air Scent","Aerial Lift - Telescopic Boom","GIS Team Leader"]
["Small Animal Rescue Strike Team","Ambulance Strike Team","Engine, Fire (Pumper)","Communications Support Team (CAP)","Law Enforcement Patrol Team (Strike Team)","Shelter Management Team","Public Health: Mass Dispensing Consultant Team","Canine SAR Team - Disaster Response","Aerial Lift - Truck Mounted","GIS Field Data Entry Technician"]
["Small Animal Sheltering Team","Ambulance Strike Force","Fire Boat","Critical Incident Stress Management Team","Mobile Field Force Law Enforcement (Crowd Control Teams)","Shower Unit","Public Health: Receiving, Staging, and Storing (RSS) Task Force","Canine SAR Team - Land Cadaver Air Scent","Air Compressor"]
["Small Animal Transport Team","Emergency Medical Task Force","Fire Truck - Aerial (Ladder or Platform)","Donations Management Personnel/Team","Public Safety Dive Team","Temporary Child Care Support Services Team","Ancillary Support Team (Laboratory, Pharmacy, or Radiology  Services)","Canine SAR Team - Water Air Scent","Air Conditioner/Heater","GIS Analyst"]
["Incident Management Team Animal Protection","Mass Casualty Support Vehicle","Foam Tender, Firefighting","EOC Management Support Team","SWAT/Tactical Teams","-----Position Qualifications-----","Emergency/Critical Care Team","Canine SAR Team - Wilderness Air Scent","Air Curtain Burners (Fire Box-Above Ground, Refractory Walled)","Type I"]
["-----Position Qualifications-----","Multi-Patient Medical Transport Vehicle","Fuel Tender (Gasoline, Diesel, AvGas, aka Gas Tanker)","Evacuation Coordination Team",null,"State Mass Care Coordinator","Mobile Field Medical Team","Canine SAR Team -  Wilderness Tracking/Trailing","Air Curtain Burners (Trench Burner, In-Ground)","Type II"]
["Animal Case Manager","-----Position Qualifications-----","Hand Crew","Evacuation Liaison Team (ELT)","Bomb Squad/Explosives Team","Shelter Manager","Specialty Services Team","Cave SAR Team","Buses","GIS Supervisor"]
["Animal Control Specialist ","Advanced Emergency Medical Technician ","HazMat Entry Team","Incident Management Team","Type I","Field Kitchen Manager","Palliative Care/Hospice Team","Collapse SAR Team","Chillers & Air Handlers (500 Ton to 50 Ton)","Type I"]
["Animal Disease Epidemiologist ","Air Medical Transport Manager or Administrator ","Helicopters, Firefighting","Individual Assistance Disaster Assessment Team","Type II","Temporary Child Care Support Services Team Leader","Public Health and Medical Team in a Shelter","Mine and Tunnel SAR Team","Concrete Cutter/Multi-Procesor for Hydraulic Excavator","GIS Team Leader"]
["Animal Handling Specialist ","Air Medical Transport Mechanic ","Helitanker (Firefighting Helicopter)","Mobile Communications Center (Mobile EOC)","Type III","Shelter Function Leader","Medical/Public Health System Assessment Team","Mountain SAR Team","Cranes, All Terain & Rough Terrain","Type I"]
["Animal Industry Specialist ","Air Medical Transport Paramedic ","Incident Management Team, Firefighting","Mobile Feeding Kitchen (Mobile Field Kitchen)","Law Enforcement Aviation-Helicopters-Patrol & Surveillance","Shelter Registration Leader","-----Position Qualifications-----","Radio Direction Finding Team","Cranes, Crawler (Lattice)","GIS Field Data Entry Technician"]
["Animal Premises Site Manager ","Air Medical Transport Physician ","Interagency Buying Team, Firefighting","Rapid Needs Assessment Team","Type I","Shelter Dormitory Leader","Advanced Practice Registered Nurse ","Swiftwater/Flood SAR Team","Damage Assessment and Repair Team – Sewer Mains","Type I"]
["Animal Shelter Manager ","Air Medical Transport Pilot (Rotorcraft) ","Mobile Communications Unit (Law/Fire)","-----Position Qualifications-----","Type II",null,"Assessment Team Leader ","US&R Incident Support Team","Damage Assessment and Repair Team – Water Pump Facilities"]
["Animal Technician ","Air Medical Transport Registered Nurse ","Portable Pump","Donations Coordinator","Type III","Field Kitchen Unit","Behavioral Health Specialist, Licensed ","US&R Task Forces","Damage Assessment, Repair and Start-Up Team – Wastewater Lift and Pump Station"]
["Livestock Agriculture Economist ","Ambulance Strike Team / Ambulance Task Force Leader ","Strike Team, Engine (Fire)","EOC Finance/Administration Section Chief/Coordinator","Type IV","Type I","Behavioral Health Specialist, Unlicensed ","Wilderness SAR Team","Damage Assessment, Repair and Start-Up Team - Wastewater Treatment Facilities\n"]
["Permit Specialist ","Emergency Medical Responder ","U.S. Coast Guard National Strike Force","EOC Operations Section Chief","Law Enforcement Observation Aircraft (Fixed-Wing)","Type II","Dental Assistant/Hygienist ","-----Position Qualifications-----","Damage Assessment, Repair and Start-Up Team - Water Production Facilities"]
["Risk Assessment Specialist ","Emergency Medical Task Force Leader ","Water Tender, Firefighting (Tanker)","EOC Planning Section Chief","Type I","Type III","Dentist ","Technical Rescue Squad Officer","Damage Assessment Team - Debris"]
["Species Specialist ","Emergency Medical Technician ","-----Position Qualifications-----","Individual Assistance Disaster Assessment Team Leader","Type II","Type IV","Dialysis Technician ","Technical Rescue Squad Technician","Disaster Management Recovery Team – Public Works"]
["Vector Control Specialist ","Emergency Vehicle Operator ","Airport Firefighter","Public Assistance Coordinator","Law Enforcement Patrol Team (Strike Team)","Laundry Unit","Dietician/Nutritionist ","Search and Rescue Branch Director","Electronic Boards, Arrow Boards"]
["Veterinarian ","Emergency Vehicle Operator- Heavy ","Emergency Vehicle Technician","Volunteer Agency Liaison","Type I","Type I","Environmental Health Generalist ","Helicopter Search and Rescue Crew Chief","Electronic Boards, Variable Message Signs (VMS)"]
["Wildlife Control Specialist ","EMS Physician ","Fire Apparatus Driver/Operator","Liaison Officer","Type II","Mobile Kitchen Unit","Environmental Health Specialist ","Helicopter Search and Rescue Pilot","Emergency Management Support Team – Water/Wastewater"]
[null,"Medical Supply Coordinator ","Firefighter","Finance/Administration Section Chief ","Type III","Type I","Environmental Health Team Leader ","Helicopter Search and Rescue Technician","Floodlights"]
["Large Animal Rescue Strike Team","Paramedic","Fire Inspector","Incident Commander ","Type IV","Type II","Epidemiologist ","Structural Collapse Search Technician","Generators"]
["Type I",null,"Fire Officer","Logistics Section Chief ","Mobile Field Force Law Enforcement (Crowd Control Teams)","Type III","Epidemiology Interviewer ","Structural Collapse Rescue Squad Officer","Grader with Attachments"]
["Large Animal Sheltering Team","Air Ambulance (Fixed-Wing)","HazMat Officer","Operations Section Chief ","Type I","Shelter Management Team","Epidemiology Team Leader ","Structural Collapse Search Squad Officer","Hydraulic Excavator (Large Mass Excavation 13cy to 3cy buckets)"]
["Type I","Type I","HazMat Safety Officer","Planning Section Chief ","Type II","Type I","Laboratory Technologist/Technician ","Disaster Collapsed Structure Canine Search Manager","Hydraulic Excavator (Medium Mass Excavation 4cy to 1.75cy buckets)"]
["Type II","Type II","HazMat Technician","Safety Officer","Type III","Type II","Mass Dispensing Team Leader ","Disaster Collapsed Structure Canine Search Technical Specialist (Advisor)","Hydraulic Excavator (Compact - Short Radius 1.75cy to 0.62cy buckets)"]
["Type III","Type III","Plans Examiner",null,"Public Safety Dive Team","Type III","Mass Dispensing, Consultant ","Disaster Collapsed Structure Canine Search Technician","Hydraulic Excavator Truck Mounted"]
["Large Animal Transport Team","Type IV","Public Safety Telecommunicator","Airborne Communications Relay Team (Fixed-Wing)","Type I","Type IV","Mass Dispensing, Dispenser ","Helicopter Search and/or Rescue Crew Chief (Disaster, Mountain, Stillwater, Swiftwater, Wilderness, Urban, et al)","Maintenance and Repair Team – Light Equipment Public Works"]
["Type I","Air Ambulance (Rotary-Wing)","Wildland Firefighter","Type I","Type II","Shower Unit","Mass Dispensing, Operations Team Consultant ","Helicopter Search and/or Rescue Pilot (Disaster, Mountain, Stillwater, Swiftwater, Wilderness, Urban, et al)","Maintenance and Repair Team - Heavy Equipment"]
["Small Animal Rescue Strike Team","Type I","Wildland Fire Officer","Type II","Type III","Type I","Mass Dispensing, Patient Intake/Line Flow Consultant ","Helicopter Search and/or Rescue Technician (Disaster, Mountain, Stillwater, Swiftwater, Wilderness, Urban, et al)","Public Works Emergency Management Support Team"]
["Type I","Type II","Wildland/Urban Interface Protection Specialist","Type III","Type IV","Type II","Mass Dispensing, Public Information Consultant ","Human Remains Canine Search Manager","Repair and Restoration Team – SCADA"]
["Small Animal Sheltering Team","Type III",null,"Type IV","SWAT/Tactical Teams","Type III","Mass Dispensing, Vaccinator ","Human Remains Canine Search Technical Specialist (Advisor)","Repair Restoration Team – Communications"]
["Type I","Type IV","Area Command Team, Firefighting","Airborne Communications Relay (Fixed-Wing) (CAP)","Type I","Type IV","Medical Unit Team Leader ","Human Remains Canine Search Technician","Road Sweeper"]
["Type II","Ambulances (Ground)","Type I","Type I","Type II","Temporary Child Care Support Services Team","Patient Care Technician ","Mountain Search and/or Rescue Manager","Scraper, Earth Moving"]
["Type III","Type I","Brush Patrol, Firefighting (Type VI Engine)","Type II","Type III","Type I","Pharmacist ","Mountain Search and/or Rescue Technical Specialist (Advisor)","Snow Blower (Chassis Mounted)"]
["Small Animal Transport Team","Type II","N/A","Type III","Type IV","Type II","Pharmacy Technician ","Mountain Search and/or Rescue Technician","Snow Blower (Loader Mounted)"]
["Type I","Type III","Crew Transport (Firefighting Crew)","Type IV",null,"Type III","Phlebotomist ","Mountain Search and/or Rescue Unit Leader","Snow Cat"]
["Incident Management Team Animal Protection","Type IV","Type I","Airborne Transport Team (Fixed-Wing)",null,"State Mass Care Coordinator","Physician ","Emergency Services Technical SAR Manager","Tire Repair Team"]
["Type I","Ambulance Strike Team","Type II","Type I",null,"Type I","Physician Assistant ","Emergency Services Technical SAR Technician","Track Dozer"]
["Type II","Type I","Type III","Type II",null,"Type II","Public Health Data Entry Staff ","Logistics Search and/or Rescue Technician (Disaster, Mountain, Stillwater, Swiftwater, Wilderness, Urban, et al)","Track Loader"]
["Type III","Type II","Engine, Fire (Pumper)","Type III",null,"Shelter Manager","Public Health Disaster Assessor ","Medical Search and/or Rescue Technician (Disaster, Mountain, Stillwater, Swiftwater, Wilderness, Urban, et al)","Trailer, Equipment Tag-Trailer"]
["Animal Case Manager","Type III","Type I","Type IV",null,"Type I","Public Health Information Technology Specialist ","Structural Collapse Rescue Manager","Trailer, Dump (one type/example only)"]
["Type I","Type IV","Type II","Communications Support Team (CAP)",null,"Type II","Public Health and Medical Support Team Leader in a Shelter","Structural Collapse Rescue Technician","Trailer, Flat Bed Truck (two types/example only)"]
["Animal Control Specialist ","Ambulance Strike Force","Type III","Type I",null,"Type III","Radiologic Technician ","Structural Collapse Search Manager","Trailer, Gooseneck Trailer"]
["Type I","Type I","Type IV","Type II",null,"Field Kitchen Manager","RSS Distribution Leader ","Structural Collapse Search Technician","Trailer, Small Equipment"]
["Animal Disease Epidemiologist ","Emergency Medical Task Force","Fire Boat","Type III",null,"Type I","RSS Finance and Administrative Team Lead ","Swiftwater/Flood Rescue Manager","Truck, Off-Road Dump"]
["Type I","Type I","Type I","Type IV",null,"Temporary Child Care Support Services Team Leader","RSS Logistics Team Lead ","Swiftwater/Flood Rescue Technician","Truck, On-Road Dump"]
["Animal Handling Specialist ","Mass Casualty Support Vehicle","Type II","Critical Incident Stress Management Team",null,"Type I","RSS Operations Team Lead ","Swiftwater/Flood Rescue Technician- Boat Bowman","Truck, Plow"]
["Type I","Type I","Type III","Type I",null,"Type II","RSS Tactical Communications Leader ","Swiftwater/Flood Rescue Technician- Boat Operator","Truck, Sewer Flusher"]
["Animal Industry Specialist ","Type II","Fire Truck - Aerial (Ladder or Platform)","Type II",null,"Shelter Function Leader","RSS Task Force Leader ","Swiftwater/Flood Rescue Technical Specialist (Advisor)","Truck, Tractor Trailer"]
["Type I","Type III","Type I","Type III",null,"Type I","Registered Nurse ","Swiftwater/Flood Rescue Technician- Animal Rescue","Tug Boat (general)"]
["Animal Premises Site Manager ","Multi-Patient Medical Transport Vehicle","Type II","Donations Management Personnel/Team",null,"Shelter Registration Leader","Respiratory Therapist ","Swiftwater/Flood Rescue Unit Leader","Water Pumps, De-Watering"]
["Type I","Type I","Foam Tender, Firefighting","Type I",null,"Type I","Social Worker ","Water Canine Search Manager","Water Pumps, Drinking Water Supply - Auxillary Pump"]
["Animal Shelter Manager ","Type II","Type I","Type II",null,"Shelter Dormitory Leader","Surgical Technician ","Water Canine Search Technician","Water Pumps, Water Distribution"]
["Type I","Type III","Type II","EOC Management Support Team",null,"Type I",null,"Wilderness Air Scent Canine Search Manager","Water Pumps, Wastewater"]
["Animal Technician ","Advanced Emergency Medical Technician ","Fuel Tender (Gasoline, Diesel, AvGas, aka Gas Tanker)","Type I",null,null,"Public Health: Epidemiology (Surveillance and Investigation)","Wilderness Air Scent Canine Search Technician","Water Truck (example only)"]
["Type I","Type I","Type I","Type II",null,null,"Type I","Wilderness Search and/or Rescue Manager","Wheel Dozer"]
["Livestock Agriculture Economist ","Air Medical Transport Manager or Administrator ","Type II","Type III",null,null,"Type II","Wilderness Search and/or Rescue Technical Specialist (Advisor)","Wheel Loader Backhoe"]
["Type I","Type I","Hand Crew","Type IV",null,null,"Public Health: Isolation and Quarantine","Wilderness Search and/or Rescue Technician","Wheel Loaders (Large 41cy to 8cy)"]
["Permit Specialist ","Air Medical Transport Mechanic ","Type I","Evacuation Coordination Team",null,null,"Type I","Wilderness Search and/or Rescue Unit Leader","Wheel Loaders (Medium 7cy to 3cy)"]
["Type I","Type I","Type II","Type I",null,null,"Type II",null,"Wheel Loaders (Small 7cy to 2cy)"]
["Risk Assessment Specialist ","Air Medical Transport Paramedic ","Type III","Type II",null,null,"Public Health: Environmental Health","Air Search Team (Fixed-Wing)","Wheel Loaders, Skid Steer (Small)"]
["Type I","Type I","Type IV","Type III",null,null,"Type I","Type I","Wheel Loaders, Telescopic Handler"]
["Species Specialist ","Air Medical Transport Physician ","HazMat Entry Team","Evacuation Liaison Team (ELT)",null,null,"Type II","Type II","Wood Chipper"]
["Type I","Type I","Type I","Type I",null,null,"Public Health: Mass Dispensing Consultant Team","Type III","Wood Tub Grinder"]
["Vector Control Specialist ","Air Medical Transport Pilot (Rotorcraft) ","Type II","Incident Management Team",null,null,"Type I","Type IV","Damage Assessment, Repair and Start-Up Team - Water Production Facilities"]
["Type I","Type I","Type III","Type I",null,null,"Type II","Airborne Reconnaissance (Fixed-Wing)","Damage Assessment, Repair and Start-Up Team - Wastewater Treatment Facilities"]
["Veterinarian ","Air Medical Transport Registered Nurse ","Helicopters, Firefighting","Type II",null,null,"Public Health: Receiving, Staging, and Storing (RSS) Task Force","Type I","Maintenance and Repair Team – Light Equipment Public Works"]
["Type I","Type I","Type I","Type III",null,null,"Type I","Type II","Damage Assessment, Repair and Start-Up Team – Wastewater Lift and Pump Station"]
["Wildlife Control Specialist ","Ambulance Strike Team / Ambulance Task Force Leader ","Type II","Type IV",null,null,"Ancillary Support Team (Laboratory, Pharmacy, or Radiology  Services)","Type III","Damage Assessment and Repair Team – Sewer Mains"]
["Type I","Type I","Type III","Individual Assistance Disaster Assessment Team",null,null,"Type I","Type IV","Damage Assessment and Repair Team – Water Pump Facilities"]
[null,"Emergency Medical Responder ","Type IV","Type I",null,null,"Type II","Canine SAR Team - Avalanche Snow Air Scent","Emergency Management Support Team – Water/Wastewater"]
[null,"Type I","Helitanker (Firefighting Helicopter)","Mobile Communications Center (Mobile EOC)",null,null,"Emergency/Critical Care Team","Type I","Damage Assessment Team - Debris"]
[null,"Emergency Medical Task Force Leader ","N/A","Type I",null,null,"Type I","Type II","Repair Restoration Team – Communications"]
[null,"Type I","Incident Management Team, Firefighting","Type II",null,null,"Type II","Canine SAR Team - Disaster Response","Public Works Emergency Management Support Team"]
[null,"Emergency Medical Technician ","Type I","Type III",null,null,"Mobile Field Medical Team","Type I","Disaster Management Recovery Team – Public Works"]
[null,"Type I","Type II","Type IV",null,null,"Type I","Type II","Repair and Restoration Team – SCADA"]
[null,"Emergency Vehicle Operator ","Type III","Mobile Feeding Kitchen (Mobile Field Kitchen)",null,null,"Type II","Type III","Tire Repair Team"]
[null,"Type I","Type IV","Type I",null,null,"Specialty Services Team","Type IV","Maintenance and Repair Team - Heavy Equipment"]
[null,"Emergency Vehicle Operator- Heavy ","Interagency Buying Team, Firefighting","Type II",null,null,"Type I","Canine SAR Team - Land Cadaver Air Scent","-----Position Qualifications-----"]
[null,"Type I","Type I","Type III",null,null,"Type II","Type I","Structure Condition Evaluator"]
[null,"EMS Physician ","Mobile Communications Unit (Law/Fire)","Type IV",null,null,"Palliative Care/Hospice Team","Type II","Assistant Public Works Director - Logistics"]
[null,"Type I","Type I","Rapid Needs Assessment Team",null,null,"Type I","Type III","Assistant Public Works Director - Operations"]
[null,"Medical Supply Coordinator ","Type II","Type I",null,null,"Type II","Type IV","Civil/Field Engineer"]
[null,"Type I","Portable Pump","Donations Coordinator",null,null,"Public Health and Medical Team in a Shelter","Canine SAR Team - Water Air Scent","Debris Collection Supervisor"]
[null,"Paramedic","Type I","Type I",null,null,"Type I","Type I","Debris Removal Manager"]
[null,"Type I","Type II","Type II",null,null,"Medical/Public Health System Assessment Team","Type II","Debris Site Supervisor"]
[null,null,"Type III","Type III",null,null,"Type I","Type III","Engineering Branch Manager"]
[null,null,"Strike Team, Engine (Fire)","Type IV",null,null,"Advanced Practice Registered Nurse ","Type IV","Engineering Division Manager"]
[null,null,"Type I","EOC Finance/Administration Section Chief/Coordinator",null,null,"Type I","Canine SAR Team - Wilderness Air Scent","Equipment Operator"]
[null,null,"Type II","Type I",null,null,"Assessment Team Leader ","Type I","Public Works Director"]
[null,null,"Type III","Type II",null,null,"Type I","Type II","Quality Assurance Personnel"]
[null,null,"Type IV","Type III",null,null,"Behavioral Health Specialist, Licensed ","Type III","Structural Engineer"]
[null,null,"U.S. Coast Guard National Strike Force","EOC Operations Section Chief",null,null,"Type I","Type IV","Utility Systems Reconstruction Manager"]
[null,null,"N/A","Type I",null,null,"Behavioral Health Specialist, Unlicensed ","Canine SAR Team -  Wilderness Tracking/Trailing","Wastewater Collection Manager"]
[null,null,"Water Tender, Firefighting (Tanker)","Type II",null,null,"Type I","Type I","Wastewater System Manager"]
[null,null,"Type I","Type III",null,null,"Dental Assistant/Hygienist ","Type II","Wastewater Treatment Manager"]
[null,null,"Type II","EOC Planning Section Chief",null,null,"Type I","Type III"]
[null,null,"Type III","Type I",null,null,"Dentist ","Type IV","Aerial Lift - Articulating Boom"]
[null,null,"Type IV","Type II",null,null,"Type I","Cave SAR Team","Type I"]
[null,null,"Airport Firefighter","Type III",null,null,"Dialysis Technician ","Type I","Type II"]
[null,null,"Type I","Individual Assistance Disaster Assessment Team Leader",null,null,"Type I","Type II","Type III"]
[null,null,"Emergency Vehicle Technician","Type I",null,null,"Dietician/Nutritionist ","Type III","Type IV"]
[null,null,"Type I","Type II",null,null,"Type I","Type IV","Aerial Lift, Self Propelled, Scissor, Rough Terrain"]
[null,null,"Fire Apparatus Driver/Operator","Type III",null,null,"Environmental Health Generalist ","Collapse SAR Team","Type I"]
[null,null,"Type I","Type IV",null,null,"Type I","Type I","Type II"]
[null,null,"Firefighter","Public Assistance Coordinator",null,null,"Environmental Health Specialist ","Type II","Type III"]
[null,null,"Type I","Type I",null,null,"Type I","Type III","Type IV"]
[null,null,"Type II","Type II",null,null,"Environmental Health Team Leader ","Type IV","Aerial Lift - Telescopic Boom"]
[null,null,"Fire Inspector","Type III",null,null,"Type I","Mine and Tunnel SAR Team","Type I"]
[null,null,"Type I","Type IV",null,null,"Epidemiologist ","Type I","Type II"]
[null,null,"Type II","Volunteer Agency Liaison",null,null,"Type I","Type II","Type III"]
[null,null,"Type III","Type I",null,null,"Epidemiology Interviewer ","Mountain SAR Team","Type IV"]
[null,null,"Fire Officer","Type II",null,null,"Type I","Type I","Aerial Lift - Truck Mounted"]
[null,null,"Type I","Type III",null,null,"Epidemiology Team Leader ","Type II","Type I"]
[null,null,"Type II","Type IV",null,null,"Type I","Type III","Type II"]
[null,null,"Type III","Liaison Officer",null,null,"Laboratory Technologist/Technician ","Type IV","Type III"]
[null,null,"Type IV","Type I",null,null,"Type I","Radio Direction Finding Team","Type IV"]
[null,null,"HazMat Officer","Type II",null,null,"Mass Dispensing Team Leader ","Type I","Air Compressor"]
[null,null,"Type I","Type III",null,null,"Type I","Type II","Type I"]
[null,null,"HazMat Safety Officer","Finance/Administration Section Chief ",null,null,"Mass Dispensing, Consultant ","Type III","Type II"]
[null,null,"Type I","Type I",null,null,"Type I","Swiftwater/Flood SAR Team","Type III"]
[null,null,"HazMat Technician","Incident Commander ",null,null,"Mass Dispensing, Dispenser ","Type I","Type IV"]
[null,null,"Type I","Type I",null,null,"Type I","Type II","Air Conditioner/Heater"]
[null,null,"Plans Examiner","Logistics Section Chief ",null,null,"Mass Dispensing, Operations Team Consultant ","Type III","Type I"]
[null,null,"Type I","Type I",null,null,"Type I","Type IV","Type II"]
[null,null,"Type II","Operations Section Chief ",null,null,"Mass Dispensing, Patient Intake/Line Flow Consultant ","US&R Incident Support Team","Type III"]
[null,null,"Public Safety Telecommunicator","Type I",null,null,"Type I","Type I","Type IV"]
[null,null,"Type I","Planning Section Chief ",null,null,"Mass Dispensing, Public Information Consultant ","Type II","Air Curtain Burners (Fire Box-Above Ground, Refractory Walled)"]
[null,null,"Type II","Type I",null,null,"Type I","US&R Task Forces","Type I"]
[null,null,"Wildland Firefighter","Public Information Officer ",null,null,"Mass Dispensing, Vaccinator ","Type I","Type II"]
[null,null,"Type I","Type I",null,null,"Type I","Type II","Type III"]
[null,null,"Type II","Safety Officer",null,null,"Medical Unit Team Leader ","Wilderness SAR Team","Type IV"]
[null,null,"Wildland Fire Officer","Type I",null,null,"Type I","Type I","Type V"]
[null,null,"Type I","Type II",null,null,"Patient Care Technician ","Type II","Type VI"]
[null,null,"Type II","Type III",null,null,"Type I","Type III","Air Curtain Burners (Trench Burner, In-Ground)"]
[null,null,"Wildland/Urban Interface Protection Specialist",{"$nulls":3},"Pharmacist ","Type IV","Type I"]
[null,null,"Type I",{"$nulls":3},"Type I","Technical Squad Officer","Type II"]
[{"$nulls":6},"Pharmacy Technician ","Type I","Type III"]
[{"$nulls":6},"Type I","Technical Rescue Squad Technician","Buses"]
[{"$nulls":6},"Phlebotomist ","Type I","Type I"]
[{"$nulls":6},"Type I","Search and Rescue Branch Director","Type II"]
[{"$nulls":6},"Physician ","Type I","Type III"]
[{"$nulls":6},"Type I","Helicopter Search and Rescue Crew Chief","Type IV"]
[{"$nulls":6},"Physician Assistant ","Type I","Chillers & Air Handlers (500 Ton to 50 Ton)"]
[{"$nulls":6},"Type I","Helicopter Search and Rescue Pilot","Type I"]
[{"$nulls":6},"Public Health Data Entry Staff ","Type I","Type II"]
[{"$nulls":6},"Type I","Helicopter Search and Rescue Technician","Type III"]
[{"$nulls":6},"Public Health Disaster Assessor ","Type I","Type IV"]
[{"$nulls":6},"Type I","Structural Collapse Technical Search Technician","Type V"]
[{"$nulls":6},"Public Health Information Technology Specialist ","Type I","Concrete Cutter/Multi-Procesor for Hydraulic Excavator"]
[{"$nulls":6},"Type I","Structural Collapse Rescue Squad Officer","Type I"]
[{"$nulls":6},"Public Health and Medical Support Team Leader in a Shelter","Type I","Type II"]
[{"$nulls":6},"Type I","Structural Collapse Search Squad Officer","Type III"]
[{"$nulls":6},"Radiologic Technician ","Type I","Type IV"]
[{"$nulls":6},"Type I","Disaster Collapsed Structure Canine Search Manager","Cranes, All Terain & Rough Terrain"]
[{"$nulls":6},"RSS Distribution Leader ","Type I","Type I"]
[{"$nulls":6},"Type I","Disaster Collapsed Structure Canine Search Technical Specialist (Advisor)","Type II"]
[{"$nulls":6},"RSS Finance and Administrative Team Lead ","Type I","Type III"]
[{"$nulls":6},"Type I","Disaster Collapsed Structure Canine Search Technician","Type IV"]
["Core Capability Definitions",{"$nulls":5},"RSS Logistics Team Lead ","Type I","Cranes, Crawler (Lattice)"]
[null,"Planning",{"$nulls":4},"Type I","Helicopter Search and/or Rescue Crew Chief (Disaster, Mountain, Stillwater, Swiftwater, Wilderness, Urban, et al)","Type I"]
[null,"Public Information and Warning",{"$nulls":4},"RSS Operations Team Lead ","Type I","Type II"]
[null,"Operational Coordination",{"$nulls":4},"Type I","Helicopter Search and/or Rescue Pilot (Disaster, Mountain, Stillwater, Swiftwater, Wilderness, Urban, et al)","Type III"]
[null,"Forensics and Attribution",{"$nulls":4},"RSS Tactical Communications Leader ","Type I","Electronic Boards, Arrow Boards"]
[null,"Intelligence and Information Sharing",{"$nulls":4},"Type I","Helicopter Search and/or Rescue Technician (Disaster, Mountain, Stillwater, Swiftwater, Wilderness, Urban, et al)","Type I"]
[null,"Interdiction and Disruption",{"$nulls":4},"RSS Task Force Leader ","Type I","Type II"]
[null,"Screening, Search, and Detection",{"$nulls":4},"Type I","Human Remains Canine Search Manager","Type III"]
[null,"Access Control and Identity Verification",{"$nulls":4},"Registered Nurse ","Type I","Type IV"]
[null,"Cybersecurity",{"$nulls":4},"Type I","Human Remains Canine Search Technical Specialist (Advisor)","Electronic Boards, Variable Message Signs (VMS)"]
[null,"Physical Protective Measures",{"$nulls":4},"Respiratory Therapist ","Type I","Type I"]
[null,"Risk Management for Protection Programs and Activities",{"$nulls":4},"Type I","Human Remains Canine Search Technician","Type II"]
[null,"Supply Chain Integrity and Security",{"$nulls":4},"Social Worker ","Type I","Type III"]
[null,"Community Resilience",{"$nulls":4},"Type I","Mountain Search and/or Rescue Manager","Type IV"]
[null,"Long-term Vulnerability Reduction",{"$nulls":4},"Surgical Technician ","Type I","Floodlights"]
[null,"Risk and Disaster Resilience Assessment",{"$nulls":4},"Type I","Mountain Search and/or Rescue Technical Specialist (Advisor)","Type I"]
[null,"Threats and Hazard Identification",{"$nulls":5},"Type I","Type II"]
[null,"Critical Transportation",{"$nulls":5},"Mountain Search and/or Rescue Technician","Type III"]
[null,"Environmental Response/Health and Safety",{"$nulls":5},"Type I","Generators"]
[null,"Fatality Management Services",{"$nulls":5},"Mountain Search and/or Rescue Unit Leader","Type I"]
[null,"Infrastructure Systems",{"$nulls":5},"Type I","Type II"]
[null,"Mass Care Services",{"$nulls":5},"Emergency Services Technical SAR Manager","Type III"]
[null,"Mass Search and Rescue Operations",{"$nulls":5},"Type I","Type IV"]
[null,"On-scene Security and Protection",{"$nulls":5},"Emergency Services Technical SAR Technician","Type V"]
[null,"Operational Communications",{"$nulls":5},"Type I","Grader with Attachments"]
[null,"Public and Private Services and Resources",{"$nulls":5},"Logistics Search and/or Rescue Technician (Disaster, Mountain, Stillwater, Swiftwater, Wilderness, Urban, et al)","Type I"]
[null,"Public Health and Medical Services",{"$nulls":5},"Type I","Type II"]
[null,"Situational Assessment",{"$nulls":5},"Medical Search and/or Rescue Technician (Disaster, Mountain, Stillwater, Swiftwater, Wilderness, Urban, et al)","Type III"]
[null,"Economic Recovery",{"$nulls":5},"Type I","Hydraulic Excavator (Large Mass Excavation 13cy to 3cy buckets)"]
[null,"Health and Social Services",{"$nulls":5},"Structural Collapse Rescue Manager","Type I"]
[null,"Housing",{"$nulls":5},"Type I","Type II"]
[null,"Natural and Cultural Resources",{"$nulls":5},"Structural Collapse Rescue Technician","Type III"]
[{"$nulls":7},"Type I","Type IV"]
[{"$nulls":7},"Structural Collapse Search Manager","Hydraulic Excavator (Medium Mass Excavation 4cy to 1.75cy buckets)"]
[{"$nulls":7},"Type I","Type I"]
[{"$nulls":7},"Structural Collapse Search Technician","Type II"]
[{"$nulls":7},"Type I","Type III"]
["Animal Health Emergency","AnHlth",{"$nulls":5},"Swiftwater/Flood Rescue Manager","Type IV"]
["Emergency Medical Services","EmMed",{"$nulls":5},"Type I","Hydraulic Excavator (Compact - Short Radius 1.75cy to 0.62cy buckets)"]
["Fire and Hazardous Materials","FireHaz",{"$nulls":5},"Swiftwater/Flood Rescue Technician","Type I"]
["Geospatial Information Systems","GIS",{"$nulls":5},"Type I","Type II"]
["Incident Management","IncMgmt",{"$nulls":5},"Swiftwater/Flood Rescue Technician- Boat Bowman","Type III"]
["Law Enforcement","LawEnf",{"$nulls":5},"Type I","Type IV"]
["Mass Care","MassCare",{"$nulls":5},"Swiftwater/Flood Rescue Technician- Boat Operator","Hydraulic Excavator Truck Mounted"]
["Medical and Public Health","MedPub",{"$nulls":5},"Type I","Type I"]
["Public Works","PubWks",{"$nulls":5},"Swiftwater/Flood Rescue Technical Specialist (Advisor)","Type II"]
["Search and Rescue","SAR",{"$f":"MAX(C246:C1148)","v":580},{"$nulls":4},"Type I","Road Sweeper"]
["Large Animal Rescue Strike Team","AnHlth_1",{"$f":"ROW()","v":246},{"$nulls":4},"Swiftwater/Flood Rescue Technician- Animal Rescue","Type I"]
["Large Animal Sheltering Team","AnHlth_2",{"$f":"ROW()","v":247},{"$nulls":4},"Type I","Type II"]
["Large Animal Transport Team","AnHlth_3",{"$f":"ROW()","v":248},{"$nulls":4},"Swiftwater/Flood Rescue Unit Leader","Type III"]
["Small Animal Rescue Strike Team","AnHlth_4",{"$f":"ROW()","v":249},{"$nulls":4},"Type I","Type IV"]
["Small Animal Sheltering Team","AnHlth_5",{"$f":"ROW()","v":250},{"$nulls":4},"Water Canine Search Manager","Scraper, Earth Moving"]
["Small Animal Transport Team","AnHlth_6",{"$f":"ROW()","v":251},{"$nulls":4},"Type I","Type I"]
["Incident Management Team Animal Protection","AnHlth_7",{"$f":"ROW()","v":252},{"$nulls":4},"Water Canine Search Technician","Type II"]
["Animal Case Manager","AnHlth_8",{"$f":"ROW()","v":253},{"$nulls":4},"Type I","Type III"]
["Animal Control Specialist ","AnHlth_9",{"$f":"ROW()","v":254},{"$nulls":4},"Wilderness Air Scent Canine Search Manager","Snow Blower (Chassis Mounted)"]
["Animal Disease Epidemiologist ","AnHlth_10",{"$f":"ROW()","v":255},{"$nulls":4},"Type I","Type I"]
["Animal Handling Specialist ","AnHlth_11",{"$f":"ROW()","v":256},{"$nulls":4},"Wilderness Air Scent Canine Search Technician","Type II"]
["Animal Industry Specialist ","AnHlth_12",{"$f":"ROW()","v":257},{"$nulls":4},"Type I","Type III"]
["Animal Premises Site Manager ","AnHlth_13",{"$f":"ROW()","v":258},{"$nulls":4},"Wilderness Search and/or Rescue Manager","Snow Blower (Loader Mounted)"]
["Animal Shelter Manager ","AnHlth_14",{"$f":"ROW()","v":259},{"$nulls":4},"Type I","Type I"]
["Animal Technician ","AnHlth_15",{"$f":"ROW()","v":260},{"$nulls":4},"Wilderness Search and/or Rescue Technical Specialist (Advisor)","Type II"]
["Livestock Agriculture Economist ","AnHlth_16",{"$f":"ROW()","v":261},{"$nulls":4},"Type I","Type III"]
["Permit Specialist ","AnHlth_17",{"$f":"ROW()","v":262},{"$nulls":4},"Wilderness Search and/or Rescue Technician","Type IV"]
["Risk Assessment Specialist ","AnHlth_18",{"$f":"ROW()","v":263},{"$nulls":4},"Type I","Snow Cat"]
["Species Specialist ","AnHlth_19",{"$f":"ROW()","v":264},{"$nulls":4},"Wilderness Search and/or Rescue Unit Leader","Type I"]
["Vector Control Specialist ","AnHlth_20",{"$f":"ROW()","v":265},{"$nulls":4},"Type I","Type II"]
["Veterinarian ","AnHlth_21",{"$f":"ROW()","v":266},{"$nulls":5},"Type III"]
["Wildlife Control Specialist ","AnHlth_22",{"$f":"ROW()","v":267},{"$nulls":5},"Type IV"]
["Air Ambulance (Fixed-Wing)","EmMed_1",{"$f":"ROW()","v":268},{"$nulls":5},"Track Dozer"]
["Air Ambulance (Rotary-Wing)","EmMed_2",{"$f":"ROW()","v":269},{"$nulls":5},"Type I"]
["Ambulances (Ground)","EmMed_3",{"$f":"ROW()","v":270},{"$nulls":5},"Type II"]
["Ambulance Strike Team","EmMed_4",{"$f":"ROW()","v":271},{"$nulls":5},"Type III"]
["Ambulance Strike Force","EmMed_5",{"$f":"ROW()","v":272},{"$nulls":5},"Type IV"]
["Emergency Medical Task Force","EmMed_6",{"$f":"ROW()","v":273},{"$nulls":5},"Track Loader"]
["Mass Casualty Support Vehicle","EmMed_7",{"$f":"ROW()","v":274},{"$nulls":5},"Type I"]
["Multi-Patient Medical Transport Vehicle","EmMed_8",{"$f":"ROW()","v":275},{"$nulls":5},"Type II"]
["Advanced Emergency Medical Technician ","EmMed_9",{"$f":"ROW()","v":276},{"$nulls":5},"Type III"]
["Air Medical Transport Manager or Administrator ","EmMed_10",{"$f":"ROW()","v":277},{"$nulls":5},"Type IV"]
["Air Medical Transport Mechanic ","EmMed_11",{"$f":"ROW()","v":278},{"$nulls":5},"Trailer, Equipment Tag-Trailer"]
["Air Medical Transport Paramedic ","EmMed_12",{"$f":"ROW()","v":279},{"$nulls":5},"Type I"]
["Air Medical Transport Physician ","EmMed_13",{"$f":"ROW()","v":280},{"$nulls":5},"Type II"]
["Air Medical Transport Pilot (Rotorcraft) ","EmMed_14",{"$f":"ROW()","v":281},{"$nulls":5},"Type III"]
["Air Medical Transport Registered Nurse ","EmMed_15",{"$f":"ROW()","v":282},{"$nulls":5},"Trailer, Dump (one type/example only)"]
["Ambulance Strike Team / Ambulance Task Force Leader ","EmMed_16",{"$f":"ROW()","v":283},{"$nulls":5},"Type I"]
["Emergency Medical Responder ","EmMed_17",{"$f":"ROW()","v":284},{"$nulls":5},"Trailer, Flat Bed Truck (two types/example only)"]
["Emergency Medical Task Force Leader ","EmMed_18",{"$f":"ROW()","v":285},{"$nulls":5},"Type I"]
["Emergency Medical Technician ","EmMed_19",{"$f":"ROW()","v":286},{"$nulls":5},"Type II"]
["Emergency Vehicle Operator ","EmMed_20",{"$f":"ROW()","v":287},{"$nulls":5},"Trailer, Gooseneck Trailer"]
["Emergency Vehicle Operator- Heavy ","EmMed_21",{"$f":"ROW()","v":288},{"$nulls":5},"Type I"]
["EMS Physician ","EmMed_22",{"$f":"ROW()","v":289},{"$nulls":5},"Type II"]
["Medical Supply Coordinator ","EmMed_23",{"$f":"ROW()","v":290},{"$nulls":5},"Type III"]
["Paramedic","EmMed_24",{"$f":"ROW()","v":291},{"$nulls":5},"Trailer, Small Equipment"]
["Area Command Team, Firefighting","FireHaz_1",{"$f":"ROW()","v":292},{"$nulls":5},"Type I"]
["Brush Patrol, Firefighting (Type VI Engine)","FireHaz_2",{"$f":"ROW()","v":293},{"$nulls":5},"Type II"]
["Crew Transport (Firefighting Crew)","FireHaz_3",{"$f":"ROW()","v":294},{"$nulls":5},"Truck, Off-Road Dump"]
["Engine, Fire (Pumper)","FireHaz_4",{"$f":"ROW()","v":295},{"$nulls":5},"Type I"]
["Fire Boat","FireHaz_5",{"$f":"ROW()","v":296},{"$nulls":5},"Type II"]
["Fire Truck - Aerial (Ladder or Platform)","FireHaz_6",{"$f":"ROW()","v":297},{"$nulls":5},"Type III"]
["Foam Tender, Firefighting","FireHaz_7",{"$f":"ROW()","v":298},{"$nulls":5},"Type IV"]
["Fuel Tender (Gasoline, Diesel, AvGas, aka Gas Tanker)","FireHaz_8",{"$f":"ROW()","v":299},{"$nulls":5},"Truck, On-Road Dump"]
["Hand Crew","FireHaz_9",{"$f":"ROW()","v":300},{"$nulls":5},"Type I"]
["HazMat Entry Team","FireHaz_10",{"$f":"ROW()","v":301},{"$nulls":5},"Type II"]
["Helicopters, Firefighting","FireHaz_11",{"$f":"ROW()","v":302},{"$nulls":5},"Type III"]
["Helitanker (Firefighting Helicopter)","FireHaz_12",{"$f":"ROW()","v":303},{"$nulls":5},"Type IV"]
["Incident Management Team, Firefighting","FireHaz_13",{"$f":"ROW()","v":304},{"$nulls":5},"Truck, Plow"]
["Interagency Buying Team, Firefighting","FireHaz_14",{"$f":"ROW()","v":305},{"$nulls":5},"Type I"]
["Mobile Communications Unit (Law/Fire)","FireHaz_15",{"$f":"ROW()","v":306},{"$nulls":5},"Type II"]
["Portable Pump","FireHaz_16",{"$f":"ROW()","v":307},{"$nulls":5},"Type III"]
["Strike Team, Engine (Fire)","FireHaz_17",{"$f":"ROW()","v":308},{"$nulls":5},"Type IV"]
["U.S. Coast Guard National Strike Force","FireHaz_18",{"$f":"ROW()","v":309},{"$nulls":5},"Truck, Sewer Flusher"]
["Water Tender, Firefighting (Tanker)","FireHaz_19",{"$f":"ROW()","v":310},{"$nulls":5},"Type I"]
["Airport Firefighter","FireHaz_20",{"$f":"ROW()","v":311},{"$nulls":5},"Type II"]
["Emergency Vehicle Technician","FireHaz_21",{"$f":"ROW()","v":312},{"$nulls":5},"Type III"]
["Fire Apparatus Driver/Operator","FireHaz_22",{"$f":"ROW()","v":313},{"$nulls":5},"Type IV"]
["Firefighter","FireHaz_23",{"$f":"ROW()","v":314},{"$nulls":5},"Truck, Tractor Trailer"]
["Fire Inspector","FireHaz_24",{"$f":"ROW()","v":315},{"$nulls":5},"Type I"]
["Fire Officer","FireHaz_25",{"$f":"ROW()","v":316},{"$nulls":5},"Type II"]
["HazMat Officer","FireHaz_26",{"$f":"ROW()","v":317},{"$nulls":5},"Type III"]
["HazMat Safety Officer","FireHaz_27",{"$f":"ROW()","v":318},{"$nulls":5},"Tug Boat (general)"]
["HazMat Technician","FireHaz_28",{"$f":"ROW()","v":319},{"$nulls":5},"Type I"]
["Plans Examiner","FireHaz_29",{"$f":"ROW()","v":320},{"$nulls":5},"Type II"]
["Public Safety Telecommunicator","FireHaz_30",{"$f":"ROW()","v":321},{"$nulls":5},"Type III"]
["Wildland Firefighter","FireHaz_31",{"$f":"ROW()","v":322},{"$nulls":5},"Water Pumps, De-Watering"]
["Wildland Fire Officer","FireHaz_32",{"$f":"ROW()","v":323},{"$nulls":5},"Type I"]
["Wildland/Urban Interface Protection Specialist","FireHaz_33",{"$f":"ROW()","v":324},{"$nulls":5},"Type II"]
["Air Search Team (Fixed-Wing)","SAR_1",{"$f":"ROW()","v":325},{"$nulls":5},"Type III"]
["Airborne Reconnaissance (Fixed-Wing)","SAR_2",{"$f":"ROW()","v":326},{"$nulls":5},"Type IV"]
["Canine SAR Team - Avalanche Snow Air Scent","SAR_3",{"$f":"ROW()","v":327},{"$nulls":5},"Water Pumps, Drinking Water Supply - Auxillary Pump"]
["Canine SAR Team - Disaster Response","SAR_4",{"$f":"ROW()","v":328},{"$nulls":5},"Type I"]
["Canine SAR Team - Land Cadaver Air Scent","SAR_5",{"$f":"ROW()","v":329},{"$nulls":5},"Type II"]
["Canine SAR Team - Water Air Scent","SAR_6",{"$f":"ROW()","v":330},{"$nulls":5},"Type III"]
["Canine SAR Team - Wilderness Air Scent","SAR_7",{"$f":"ROW()","v":331},{"$nulls":5},"Type IV"]
["Canine SAR Team -  Wilderness Tracking/Trailing","SAR_8",{"$f":"ROW()","v":332},{"$nulls":5},"Water Pumps, Water Distribution"]
["Cave SAR Team","SAR_9",{"$f":"ROW()","v":333},{"$nulls":5},"Type I"]
["Collapse SAR Team","SAR_10",{"$f":"ROW()","v":334},{"$nulls":5},"Type II"]
["Mine and Tunnel SAR Team","SAR_11",{"$f":"ROW()","v":335},{"$nulls":5},"Type III"]
["Mountain SAR Team","SAR_12",{"$f":"ROW()","v":336},{"$nulls":5},"Type IV"]
["Radio Direction Finding Team","SAR_13",{"$f":"ROW()","v":337},{"$nulls":5},"Water Pumps, Wastewater"]
["Swiftwater/Flood SAR Team","SAR_14",{"$f":"ROW()","v":338},{"$nulls":5},"Type I"]
["US&R Incident Support Team","SAR_15",{"$f":"ROW()","v":339},{"$nulls":5},"Type II"]
["US&R Task Forces","SAR_16",{"$f":"ROW()","v":340},{"$nulls":5},"Type III"]
["Wilderness SAR Team","SAR_17",{"$f":"ROW()","v":341},{"$nulls":5},"Type IV"]
["Technical Rescue Squad Officer","SAR_18",{"$f":"ROW()","v":342},{"$nulls":5},"Water Truck (example only)"]
["Technical Rescue Squad Technician","SAR_19",{"$f":"ROW()","v":343},{"$nulls":5},"Type I"]
["Search and Rescue Branch Director","SAR_20",{"$f":"ROW()","v":344},{"$nulls":5},"Wheel Dozer"]
["Helicopter Search and Rescue Crew Chief","SAR_21",{"$f":"ROW()","v":345},{"$nulls":5},"Type I"]
["Helicopter Search and Rescue Pilot","SAR_22",{"$f":"ROW()","v":346},{"$nulls":5},"Type II"]
["Helicopter Search and Rescue Technician","SAR_23",{"$f":"ROW()","v":347},{"$nulls":5},"Wheel Loader Backhoe"]
["Structural Collapse Search Technician","SAR_24",{"$f":"ROW()","v":348},{"$nulls":5},"Type I"]
["Structural Collapse Rescue Squad Officer","SAR_25",{"$f":"ROW()","v":349},{"$nulls":5},"Type II"]
["Structural Collapse Search Squad Officer","SAR_26",{"$f":"ROW()","v":350},{"$nulls":5},"Type III"]
["Disaster Collapsed Structure Canine Search Manager","SAR_27",{"$f":"ROW()","v":351},{"$nulls":5},"Type IV"]
["Disaster Collapsed Structure Canine Search Technical Specialist (Advisor)","SAR_28",{"$f":"ROW()","v":352},{"$nulls":5},"Wheel Loaders (Large 41cy to 8cy)"]
["Disaster Collapsed Structure Canine Search Technician","SAR_29",{"$f":"ROW()","v":353},{"$nulls":5},"Type I"]
["Helicopter Search and/or Rescue Crew Chief (Disaster, Mountain, Stillwater, Swiftwater, Wilderness, Urban, et al)","SAR_30",{"$f":"ROW()","v":354},{"$nulls":5},"Type II"]
["Helicopter Search and/or Rescue Pilot (Disaster, Mountain, Stillwater, Swiftwater, Wilderness, Urban, et al)","SAR_31",{"$f":"ROW()","v":355},{"$nulls":5},"Type III"]
["Helicopter Search and/or Rescue Technician (Disaster, Mountain, Stillwater, Swiftwater, Wilderness, Urban, et al)","SAR_32",{"$f":"ROW()","v":356},{"$nulls":5},"Type IV"]
["Human Remains Canine Search Manager","SAR_33",{"$f":"ROW()","v":357},{"$nulls":5},"Wheel Loaders (Medium 7cy to 3cy)"]
["Human Remains Canine Search Technical Specialist (Advisor)","SAR_34",{"$f":"ROW()","v":358},{"$nulls":5},"Type I"]
["Human Remains Canine Search Technician","SAR_35",{"$f":"ROW()","v":359},{"$nulls":5},"Type II"]
["Mountain Search and/or Rescue Manager","SAR_36",{"$f":"ROW()","v":360},{"$nulls":5},"Type III"]
["Mountain Search and/or Rescue Technical Specialist (Advisor)","SAR_37",{"$f":"ROW()","v":361},{"$nulls":5},"Type IV"]
["Mountain Search and/or Rescue Technician","SAR_38",{"$f":"ROW()","v":362},{"$nulls":5},"Wheel Loaders (Small 7cy to 2cy)"]
["Mountain Search and/or Rescue Unit Leader","SAR_39",{"$f":"ROW()","v":363},{"$nulls":5},"Type I"]
["Emergency Services Technical SAR Manager","SAR_40",{"$f":"ROW()","v":364},{"$nulls":5},"Type II"]
["Emergency Services Technical SAR Technician","SAR_41",{"$f":"ROW()","v":365},{"$nulls":5},"Type III"]
["Logistics Search and/or Rescue Technician (Disaster, Mountain, Stillwater, Swiftwater, Wilderness, Urban, et al)","SAR_42",{"$f":"ROW()","v":366},{"$nulls":5},"Wheel Loaders, Skid Steer (Small)"]
["Medical Search and/or Rescue Technician (Disaster, Mountain, Stillwater, Swiftwater, Wilderness, Urban, et al)","SAR_43",{"$f":"ROW()","v":367},{"$nulls":5},"Type I"]
["Structural Collapse Rescue Manager","SAR_44",{"$f":"ROW()","v":368},{"$nulls":5},"Type II"]
["Structural Collapse Rescue Technician","SAR_45",{"$f":"ROW()","v":369},{"$nulls":5},"Type III"]
["Structural Collapse Search Manager","SAR_46",{"$f":"ROW()","v":370},{"$nulls":5},"Wheel Loaders, Telescopic Handler"]
["Structural Collapse Search Technician","SAR_47",{"$f":"ROW()","v":371},{"$nulls":5},"Type I"]
["Swiftwater/Flood Rescue Manager","SAR_48",{"$f":"ROW()","v":372},{"$nulls":5},"Type II"]
["Swiftwater/Flood Rescue Technician","SAR_49",{"$f":"ROW()","v":373},{"$nulls":5},"Type III"]
["Swiftwater/Flood Rescue Technician- Boat Bowman","SAR_50",{"$f":"ROW()","v":374},{"$nulls":5},"Type IV"]
["Swiftwater/Flood Rescue Technician- Boat Operator","SAR_51",{"$f":"ROW()","v":375},{"$nulls":5},"Wood Chipper"]
["Swiftwater/Flood Rescue Technical Specialist (Advisor)","SAR_52",{"$f":"ROW()","v":376},{"$nulls":5},"Type I"]
["Swiftwater/Flood Rescue Technician- Animal Rescue","SAR_53",{"$f":"ROW()","v":377},{"$nulls":5},"Wood Tub Grinder"]
["Swiftwater/Flood Rescue Unit Leader","SAR_54",{"$f":"ROW()","v":378},{"$nulls":5},"Type I"]
["Water Canine Search Manager","SAR_55",{"$f":"ROW()","v":379},{"$nulls":5},"Type II"]
["Water Canine Search Technician","SAR_56",{"$f":"ROW()","v":380},{"$nulls":5},"Type III"]
["Wilderness Air Scent Canine Search Manager","SAR_57",{"$f":"ROW()","v":381},{"$nulls":5},"Type IV"]
["Wilderness Air Scent Canine Search Technician","SAR_58",{"$f":"ROW()","v":382},{"$nulls":5},"Damage Assessment, Repair and Start-Up Team - Water Production Facilities"]
["Wilderness Search and/or Rescue Manager","SAR_59",{"$f":"ROW()","v":383},{"$nulls":5},"Type I"]
["Wilderness Search and/or Rescue Technical Specialist (Advisor)","SAR_60",{"$f":"ROW()","v":384},{"$nulls":5},"Damage Assessment, Repair and Start-Up Team - Wastewater Treatment Facilities"]
["Wilderness Search and/or Rescue Technician","SAR_61",{"$f":"ROW()","v":385},{"$nulls":5},"Type I"]
["Wilderness Search and/or Rescue Unit Leader","SAR_62",{"$f":"ROW()","v":386},{"$nulls":5},"Maintenance and Repair Team – Light Equipment Public Works"]
["Field Kitchen Unit","MC_1",{"$f":"ROW()","v":387},{"$nulls":5},"Type I"]
["Laundry Unit","MC_2",{"$f":"ROW()","v":388},{"$nulls":5},"Damage Assessment, Repair and Start-Up Team – Wastewater Lift and Pump Station"]
["Mobile Kitchen Unit","MC_3",{"$f":"ROW()","v":389},{"$nulls":5},"Type I"]
["Shelter Management Team","MC_4",{"$f":"ROW()","v":390},{"$nulls":5},"Type II"]
["Shower Unit","MC_5",{"$f":"ROW()","v":391},{"$nulls":5},"Damage Assessment and Repair Team – Sewer Mains"]
["Temporary Child Care Support Services Team","MC_6",{"$f":"ROW()","v":392},{"$nulls":5},"Type I"]
["State Mass Care Coordinator","MC_7",{"$f":"ROW()","v":393},{"$nulls":5},"Damage Assessment and Repair Team – Water Pump Facilities"]
["Shelter Manager","MC_8",{"$f":"ROW()","v":394},{"$nulls":5},"Type I"]
["Field Kitchen Manager","MC_9",{"$f":"ROW()","v":395},{"$nulls":5},"Emergency Management Support Team – Water/Wastewater"]
["Temporary Child Care Support Services Team Leader","MC_10",{"$f":"ROW()","v":396},{"$nulls":5},"Type I"]
["Shelter Function Leader","MC_11",{"$f":"ROW()","v":397},{"$nulls":5},"Damage Assessment Team - Debris"]
["Shelter Registration Leader","MC_12",{"$f":"ROW()","v":398},{"$nulls":5},"Type I"]
["Shelter Dormitory Leader","MC_13",{"$f":"ROW()","v":399},{"$nulls":5},"Repair Restoration Team – Communications"]
["Airborne Communications Relay Team (Fixed-Wing)","IncMgmt_1",{"$f":"ROW()","v":400},{"$nulls":5},"Type I"]
["Airborne Communications Relay (Fixed-Wing) (CAP)","IncMgmt_2",{"$f":"ROW()","v":401},{"$nulls":5},"Public Works Emergency Management Support Team"]
["Airborne Transport Team (Fixed-Wing)","IncMgmt_3",{"$f":"ROW()","v":402},{"$nulls":5},"Type I"]
["Communications Support Team (CAP)","IncMgmt_4",{"$f":"ROW()","v":403},{"$nulls":5},"Disaster Management Recovery Team – Public Works"]
["Critical Incident Stress Management Team","IncMgmt_5",{"$f":"ROW()","v":404},{"$nulls":5},"Type I"]
["Donations Management Personnel/Team","IncMgmt_7",{"$f":"ROW()","v":405},{"$nulls":5},"Repair and Restoration Team – SCADA"]
["EOC Management Support Team","IncMgmt_9",{"$f":"ROW()","v":406},{"$nulls":5},"Type I"]
["Evacuation Coordination Team","IncMgmt_12",{"$f":"ROW()","v":407},{"$nulls":5},"Tire Repair Team"]
["Evacuation Liaison Team (ELT)","IncMgmt_13",{"$f":"ROW()","v":408},{"$nulls":5},"Type I"]
["Incident Management Team","IncMgmt_14",{"$f":"ROW()","v":409},{"$nulls":5},"Maintenance and Repair Team - Heavy Equipment"]
["Individual Assistance Disaster Assessment Team","IncMgmt_15",{"$f":"ROW()","v":410},{"$nulls":5},"Type I"]
["Mobile Communications Center (Mobile EOC)","IncMgmt_17",{"$f":"ROW()","v":411},{"$nulls":5},"Damage Assessment, Repair and Start-Up Team - Water Production Facilities"]
["Mobile Feeding Kitchen (Mobile Field Kitchen)","IncMgmt_18",{"$f":"ROW()","v":412},{"$nulls":5},"Type I"]
["Rapid Needs Assessment Team","IncMgmt_20",{"$f":"ROW()","v":413},{"$nulls":5},"Damage Assessment, Repair and Start-Up Team - Wastewater Treatment Facilities"]
["Donations Coordinator","IncMgmt_21",{"$f":"ROW()","v":414},{"$nulls":5},"Type I"]
["EOC Finance/Administration Section Chief/Coordinator","IncMgmt_22",{"$f":"ROW()","v":415},{"$nulls":5},"Maintenance and Repair Team – Light Equipment Public Works"]
["EOC Operations Section Chief","IncMgmt_23",{"$f":"ROW()","v":416},{"$nulls":5},"Type I"]
["EOC Planning Section Chief","IncMgmt_24",{"$f":"ROW()","v":417},{"$nulls":5},"Damage Assessment, Repair and Start-Up Team – Wastewater Lift and Pump Station"]
["Individual Assistance Disaster Assessment Team Leader","IncMgmt_25",{"$f":"ROW()","v":418},{"$nulls":5},"Type I"]
["Public Assistance Coordinator","IncMgmt_26",{"$f":"ROW()","v":419},{"$nulls":5},"Type II"]
["Volunteer Agency Liaison","IncMgmt_27",{"$f":"ROW()","v":420},{"$nulls":5},"Damage Assessment and Repair Team – Sewer Mains"]
["Liaison Officer","IncMgmt_28",{"$f":"ROW()","v":421},{"$nulls":5},"Type I"]
["Finance/Administration Section Chief ","IncMgmt_29",{"$f":"ROW()","v":422},{"$nulls":5},"Damage Assessment and Repair Team – Water Pump Facilities"]
["Incident Commander ","IncMgmt_30",{"$f":"ROW()","v":423},{"$nulls":5},"Type I"]
["Logistics Section Chief ","IncMgmt_31",{"$f":"ROW()","v":424},{"$nulls":5},"Emergency Management Support Team – Water/Wastewater"]
["Operations Section Chief ","IncMgmt_32",{"$f":"ROW()","v":425},{"$nulls":5},"Type I"]
["Planning Section Chief ","IncMgmt_33",{"$f":"ROW()","v":426},{"$nulls":5},"Damage Assessment Team - Debris"]
["Public Information Officer","IncMgmt_34",{"$f":"ROW()","v":427},{"$nulls":5},"Type I"]
["Safety Officer","IncMgmt_35",{"$f":"ROW()","v":428},{"$nulls":5},"Repair Restoration Team – Communications"]
["Bomb Squad/Explosives Team","LawEnf_1",{"$f":"ROW()","v":429},{"$nulls":5},"Type I"]
["Law Enforcement Aviation-Helicopters-Patrol & Surveillance","LawEnf_2",{"$f":"ROW()","v":430},{"$nulls":5},"Public Works Emergency Management Support Team"]
["Law Enforcement Observation Aircraft (Fixed-Wing)","LawEnf_3",{"$f":"ROW()","v":431},{"$nulls":5},"Type I"]
["Law Enforcement Patrol Team (Strike Team)","LawEnf_7",{"$f":"ROW()","v":432},{"$nulls":5},"Disaster Management Recovery Team – Public Works"]
["Mobile Field Force Law Enforcement (Crowd Control Teams)","LawEnf_4",{"$f":"ROW()","v":433},{"$nulls":5},"Type I"]
["Public Safety Dive Team","LawEnf_5",{"$f":"ROW()","v":434},{"$nulls":5},"Repair and Restoration Team – SCADA"]
["SWAT/Tactical Teams","LawEnf_6",{"$f":"ROW()","v":435},{"$nulls":5},"Type I"]
["Public Health: Epidemiology (Surveillance and Investigation)","MedPub_1",{"$f":"ROW()","v":436},{"$nulls":5},"Tire Repair Team"]
["Public Health: Isolation and Quarantine","MedPub_2",{"$f":"ROW()","v":437},{"$nulls":5},"Type I"]
["Public Health: Environmental Health","MedPub_3",{"$f":"ROW()","v":438},{"$nulls":5},"Maintenance and Repair Team - Heavy Equipment"]
["Public Health: Mass Dispensing Consultant Team","MedPub_4",{"$f":"ROW()","v":439},{"$nulls":5},"Type I"]
["Public Health: Receiving, Staging, and Storing (RSS) Task Force","MedPub_5",{"$f":"ROW()","v":440},{"$nulls":5},"Structure Condition Evaluator"]
["Ancillary Support Team (Laboratory, Pharmacy, or Radiology  Services)","MedPub_6",{"$f":"ROW()","v":441},{"$nulls":5},"Type I"]
["Emergency/Critical Care Team","MedPub_7",{"$f":"ROW()","v":442},{"$nulls":5},"Type II"]
["Mobile Field Medical Team","MedPub_8",{"$f":"ROW()","v":443},{"$nulls":5},"Assistant Public Works Director - Logistics"]
["Specialty Services Team","MedPub_9",{"$f":"ROW()","v":444},{"$nulls":5},"Type I"]
["Palliative Care/Hospice Team","MedPub_10",{"$f":"ROW()","v":445},{"$nulls":5},"Assistant Public Works Director - Operations"]
["Public Health and Medical Team in a Shelter","MedPub_11",{"$f":"ROW()","v":446},{"$nulls":5},"Type I"]
["Medical/Public Health System Assessment Team","MedPub_12",{"$f":"ROW()","v":447},{"$nulls":5},"Civil/Field Engineer"]
["Advanced Practice Registered Nurse ","MedPub_13",{"$f":"ROW()","v":448},{"$nulls":5},"Type I"]
["Assessment Team Leader ","MedPub_14",{"$f":"ROW()","v":449},{"$nulls":5},"Debris Collection Supervisor"]
["Behavioral Health Specialist, Licensed ","MedPub_15",{"$f":"ROW()","v":450},{"$nulls":5},"Type I"]
["Behavioral Health Specialist, Unlicensed ","MedPub_16",{"$f":"ROW()","v":451},{"$nulls":5},"Debris Removal Manager"]
["Dental Assistant/Hygienist ","MedPub_17",{"$f":"ROW()","v":452},{"$nulls":5},"Type I"]
["Dentist ","MedPub_18",{"$f":"ROW()","v":453},{"$nulls":5},"Debris Site Supervisor"]
["Dialysis Technician ","MedPub_19",{"$f":"ROW()","v":454},{"$nulls":5},"Type I"]
["Dietician/Nutritionist ","MedPub_20",{"$f":"ROW()","v":455},{"$nulls":5},"Engineering Branch Manager"]
["Environmental Health Generalist ","MedPub_21",{"$f":"ROW()","v":456},{"$nulls":5},"Type I"]
["Environmental Health Specialist ","MedPub_22",{"$f":"ROW()","v":457},{"$nulls":5},"Engineering Division Manager"]
["Environmental Health Team Leader ","MedPub_23",{"$f":"ROW()","v":458},{"$nulls":5},"Type I"]
["Epidemiologist ","MedPub_24",{"$f":"ROW()","v":459},{"$nulls":5},"Equipment Operator"]
["Epidemiology Interviewer ","MedPub_25",{"$f":"ROW()","v":460},{"$nulls":5},"Type I"]
["Epidemiology Team Leader ","MedPub_26",{"$f":"ROW()","v":461},{"$nulls":5},"Public Works Director"]
["Laboratory Technologist/Technician ","MedPub_27",{"$f":"ROW()","v":462},{"$nulls":5},"Type I"]
["Mass Dispensing Team Leader ","MedPub_28",{"$f":"ROW()","v":463},{"$nulls":5},"Quality Assurance Personnel"]
["Mass Dispensing, Consultant ","MedPub_29",{"$f":"ROW()","v":464},{"$nulls":5},"Type I"]
["Mass Dispensing, Dispenser ","MedPub_30",{"$f":"ROW()","v":465},{"$nulls":5},"Structural Engineer"]
["Mass Dispensing, Operations Team Consultant ","MedPub_31",{"$f":"ROW()","v":466},{"$nulls":5},"Type I"]
["Mass Dispensing, Patient Intake/Line Flow Consultant ","MedPub_32",{"$f":"ROW()","v":467},{"$nulls":5},"Utility Systems Reconstruction Manager"]
["Mass Dispensing, Public Information Consultant ","MedPub_33",{"$f":"ROW()","v":468},{"$nulls":5},"Type I"]
["Mass Dispensing, Vaccinator ","MedPub_34",{"$f":"ROW()","v":469},{"$nulls":5},"Wastewater Collection Manager"]
["Medical Unit Team Leader ","MedPub_35",{"$f":"ROW()","v":470},{"$nulls":5},"Type I"]
["Patient Care Technician ","MedPub_36",{"$f":"ROW()","v":471},{"$nulls":5},"Wastewater System Manager"]
["Pharmacist ","MedPub_37",{"$f":"ROW()","v":472},{"$nulls":5},"Type I"]
["Pharmacy Technician ","MedPub_38",{"$f":"ROW()","v":473},{"$nulls":5},"Wastewater Treatment Manager"]
["Phlebotomist ","MedPub_39",{"$f":"ROW()","v":474},{"$nulls":5},"Type I"]
["Physician ","MedPub_40",{"$f":"ROW()","v":475}]
["Physician Assistant ","MedPub_41",{"$f":"ROW()","v":476}]
["Public Health Data Entry Staff ","MedPub_42",{"$f":"ROW()","v":477}]
["Public Health Disaster Assessor ","MedPub_43",{"$f":"ROW()","v":478}]
["Public Health Information Technology Specialist ","MedPub_44",{"$f":"ROW()","v":479}]
["Public Health and Medical Support Team Leader in a Shelter","MedPub_45",{"$f":"ROW()","v":480}]
["Radiologic Technician ","MedPub_46",{"$f":"ROW()","v":481}]
["RSS Distribution Leader ","MedPub_47",{"$f":"ROW()","v":482}]
["RSS Finance and Administrative Team Lead ","MedPub_48",{"$f":"ROW()","v":483}]
["RSS Logistics Team Lead ","MedPub_49",{"$f":"ROW()","v":484}]
["RSS Operations Team Lead ","MedPub_50",{"$f":"ROW()","v":485}]
["RSS Tactical Communications Leader ","MedPub_51",{"$f":"ROW()","v":486}]
["RSS Task Force Leader ","MedPub_52",{"$f":"ROW()","v":487}]
["Registered Nurse ","MedPub_53",{"$f":"ROW()","v":488}]
["Respiratory Therapist ","MedPub_54",{"$f":"ROW()","v":489}]
["Social Worker ","MedPub_55",{"$f":"ROW()","v":490}]
["Surgical Technician ","MedPub_56",{"$f":"ROW()","v":491}]
["Aerial Lift - Articulating Boom","PubWks_1",{"$f":"ROW()","v":492}]
["Aerial Lift, Self Propelled, Scissor, Rough Terrain","PubWks_2",{"$f":"ROW()","v":493}]
["Aerial Lift - Telescopic Boom","PubWks_3",{"$f":"ROW()","v":494}]
["Aerial Lift - Truck Mounted","PubWks_4",{"$f":"ROW()","v":495}]
["Air Compressor","PubWks_5",{"$f":"ROW()","v":496}]
["Air Conditioner/Heater","PubWks_6",{"$f":"ROW()","v":497}]
["Air Curtain Burners (Fire Box-Above Ground, Refractory Walled)","PubWks_7",{"$f":"ROW()","v":498}]
["Air Curtain Burners (Trench Burner, In-Ground)","PubWks_8",{"$f":"ROW()","v":499}]
["Buses","PubWks_9",{"$f":"ROW()","v":500}]
["Chillers & Air Handlers (500 Ton to 50 Ton)","PubWks_10",{"$f":"ROW()","v":501}]
["Concrete Cutter/Multi-Procesor for Hydraulic Excavator","PubWks_11",{"$f":"ROW()","v":502}]
["Cranes, All Terain & Rough Terrain","PubWks_12",{"$f":"ROW()","v":503}]
["Cranes, Crawler (Lattice)","PubWks_13",{"$f":"ROW()","v":504}]
["Electronic Boards, Arrow Boards","PubWks_14",{"$f":"ROW()","v":505}]
["Electronic Boards, Variable Message Signs (VMS)","PubWks_15",{"$f":"ROW()","v":506}]
["Floodlights","PubWks_16",{"$f":"ROW()","v":507}]
["Generators","PubWks_17",{"$f":"ROW()","v":508}]
["Grader with Attachments","PubWks_18",{"$f":"ROW()","v":509}]
["Hydraulic Excavator (Large Mass Excavation 13cy to 3cy buckets)","PubWks_19",{"$f":"ROW()","v":510}]
["Hydraulic Excavator (Medium Mass Excavation 4cy to 1.75cy buckets)","PubWks_20",{"$f":"ROW()","v":511}]
["Hydraulic Excavator (Compact - Short Radius 1.75cy to 0.62cy buckets)","PubWks_21",{"$f":"ROW()","v":512}]
["Hydraulic Excavator Truck Mounted","PubWks_22",{"$f":"ROW()","v":513}]
["Road Sweeper","PubWks_23",{"$f":"ROW()","v":514}]
["Scraper, Earth Moving","PubWks_24",{"$f":"ROW()","v":515}]
["Snow Blower (Chassis Mounted)","PubWks_25",{"$f":"ROW()","v":516}]
["Snow Blower (Loader Mounted)","PubWks_26",{"$f":"ROW()","v":517}]
["Snow Cat","PubWks_27",{"$f":"ROW()","v":518}]
["Track Dozer","PubWks_28",{"$f":"ROW()","v":519}]
["Track Loader","PubWks_29",{"$f":"ROW()","v":520}]
["Trailer, Equipment Tag-Trailer","PubWks_30",{"$f":"ROW()","v":521}]
["Trailer, Dump (one type/example only)","PubWks_31",{"$f":"ROW()","v":522}]
["Trailer, Flat Bed Truck (two types/example only)","PubWks_32",{"$f":"ROW()","v":523}]
["Trailer, Gooseneck Trailer","PubWks_33",{"$f":"ROW()","v":524}]
["Trailer, Small Equipment","PubWks_34",{"$f":"ROW()","v":525}]
["Truck, Off-Road Dump","PubWks_35",{"$f":"ROW()","v":526}]
["Truck, On-Road Dump","PubWks_36",{"$f":"ROW()","v":527}]
["Truck, Plow","PubWks_37",{"$f":"ROW()","v":528}]
["Truck, Sewer Flusher","PubWks_38",{"$f":"ROW()","v":529}]
["Truck, Tractor Trailer","PubWks_39",{"$f":"ROW()","v":530}]
["Tug Boat (general)","PubWks_40",{"$f":"ROW()","v":531}]
["Water Pumps, De-Watering","PubWks_41",{"$f":"ROW()","v":532}]
["Water Pumps, Drinking Water Supply - Auxillary Pump","PubWks_42",{"$f":"ROW()","v":533}]
["Water Pumps, Water Distribution","PubWks_43",{"$f":"ROW()","v":534}]
["Water Pumps, Wastewater","PubWks_44",{"$f":"ROW()","v":535}]
["Water Truck (example only)","PubWks_45",{"$f":"ROW()","v":536}]
["Wheel Dozer","PubWks_46",{"$f":"ROW()","v":537}]
["Wheel Loader Backhoe","PubWks_47",{"$f":"ROW()","v":538}]
["Wheel Loaders (Large 41cy to 8cy)","PubWks_48",{"$f":"ROW()","v":539}]
["Wheel Loaders (Medium 7cy to 3cy)","PubWks_49",{"$f":"ROW()","v":540}]
["Wheel Loaders (Small 7cy to 2cy)","PubWks_50",{"$f":"ROW()","v":541}]
["Wheel Loaders, Skid Steer (Small)","PubWks_51",{"$f":"ROW()","v":542}]
["Wheel Loaders, Telescopic Handler","PubWks_52",{"$f":"ROW()","v":543}]
["Wood Chipper","PubWks_53",{"$f":"ROW()","v":544}]
["Wood Tub Grinder","PubWks_54",{"$f":"ROW()","v":545}]
["Damage Assessment, Repair and Start-Up Team - Water Production Facilities","PubWks_55",{"$f":"ROW()","v":546}]
["Damage Assessment, Repair and Start-Up Team - Wastewater Treatment Facilities","PubWks_56",{"$f":"ROW()","v":547}]
["Maintenance and Repair Team – Light Equipment Public Works","PubWks_57",{"$f":"ROW()","v":548}]
["Damage Assessment, Repair and Start-Up Team – Wastewater Lift and Pump Station","PubWks_58",{"$f":"ROW()","v":549}]
["Damage Assessment and Repair Team – Sewer Mains","PubWks_59",{"$f":"ROW()","v":550}]
["Damage Assessment and Repair Team – Water Pump Facilities","PubWks_60",{"$f":"ROW()","v":551}]
["Emergency Management Support Team – Water/Wastewater","PubWks_61",{"$f":"ROW()","v":552}]
["Damage Assessment Team - Debris","PubWks_62",{"$f":"ROW()","v":553}]
["Repair Restoration Team – Communications","PubWks_63",{"$f":"ROW()","v":554}]
["Public Works Emergency Management Support Team","PubWks_64",{"$f":"ROW()","v":555}]
["Disaster Management Recovery Team – Public Works","PubWks_65",{"$f":"ROW()","v":556}]
["Repair and Restoration Team – SCADA","PubWks_66",{"$f":"ROW()","v":557}]
["Tire Repair Team","PubWks_67",{"$f":"ROW()","v":558}]
["Maintenance and Repair Team - Heavy Equipment","PubWks_68",{"$f":"ROW()","v":559}]
["Structure Condition Evaluator","PubWks_69",{"$f":"ROW()","v":560}]
["Assistant Public Works Director - Logistics","PubWks_70",{"$f":"ROW()","v":561}]
["Assistant Public Works Director - Operations","PubWks_71",{"$f":"ROW()","v":562}]
["Civil/Field Engineer","PubWks_72",{"$f":"ROW()","v":563}]
["Debris Collection Supervisor","PubWks_73",{"$f":"ROW()","v":564}]
["Debris Removal Manager","PubWks_74",{"$f":"ROW()","v":565}]
["Debris Site Supervisor","PubWks_75",{"$f":"ROW()","v":566}]
["Engineering Branch Manager","PubWks_76",{"$f":"ROW()","v":567}]
["Engineering Division Manager","PubWks_77",{"$f":"ROW()","v":568}]
["Equipment Operator","PubWks_78",{"$f":"ROW()","v":569}]
["Public Works Director","PubWks_79",{"$f":"ROW()","v":570}]
["Quality Assurance Personnel","PubWks_80",{"$f":"ROW()","v":571}]
["Structural Engineer","PubWks_81",{"$f":"ROW()","v":572}]
["Utility Systems Reconstruction Manager","PubWks_82",{"$f":"ROW()","v":573}]
["Wastewater Collection Manager","PubWks_83",{"$f":"ROW()","v":574}]
["Wastewater System Manager","PubWks_84",{"$f":"ROW()","v":575}]
["Wastewater Treatment Manager","PubWks_85",{"$f":"ROW()","v":576}]
["GIS Analyst","GIS_1",{"$f":"ROW()","v":577}]
["GIS Supervisor","GIS_2",{"$f":"ROW()","v":578}]
["GIS Team Leader","GIS_3",{"$f":"ROW()","v":579}]
["GIS Field Data Entry Technician","GIS_4",{"$f":"ROW()","v":580}]

{"sheet":"Data","index":83,"n_rows":33,"n_cols":13,"rows_kept":33,"hidden":true}
[]
["Core Capability","Priority","Planning","Organization","Equipment","Training","Exercises","Planning","Organization","Equipment","Training","Exercises","Responsibility"]
["Planning"]
["Public Information and Warning"]
["Operational Coordination"]
["Forensics and Attribution"]
["Intelligence and Information Sharing"]
["Interdiction and Disruption"]
["Screening, Search, and Detection"]
["Access Control and Identity Verification"]
["Cybersecurity"]
["Physical Protective Measures"]
["Risk Management for Protection Programs and Activities"]
["Supply Chain Integrity and Security"]
["Community Resilience"]
["Long-term Vulnerability Reduction"]
["Risk and Disaster Resilience Assessment"]
["Threats and Hazard Identification"]
["Critical Transportation"]
["Environmental Response/Health and Safety"]
["Fatality Management Services"]
["Infrastructure Systems"]
["Mass Care Services",{"$f":"LOOKUP('SPR #1 Planning'!P9, Lists!$R$1:$R$4, Lists!$S$1:$S$4)","v":"Blank"},{"$f":"'SPR #1 Planning'!P14-1","v":0},{"$f":"'SPR #1 Planning'!P18-1","v":0},{"$f":"'SPR #1 Planning'!P22-1","v":0},{"$f":"'SPR #1 Planning'!P26-1","v":0},{"$f":"'SPR #1 Planning'!P30-1","v":0},{"$f":"'SPR #1 Planning'!Q14-1","v":0},{"$f":"'SPR #1 Planning'!Q18-1","v":0},{"$f":"'SPR #1 Planning'!Q22-1","v":0},{"$f":"'SPR #1 Planning'!Q26-1","v":0},{"$f":"'SPR #1 Planning'!Q30-1","v":0},{"$f":"LOOKUP('SPR #1 Planning'!P37-1,Lists!$T$1:$T$6,Lists!$U$1:$U$6)","v":{"$error":"#N/A"}}]
["Mass Search and Rescue Operations"]
["On-scene Security and Protection"]
["Operational  Communications"]
["Public and Private Services and Resources"]
["Public Health and Medical Services"]
["Situational Assessment"]
["Economic Recovery"]
["Health and Social Services"]
["Housing"]
["Natural and Cultural Resources"]

{"sheet":"2014 Responses-THIRA S1-3","index":84,"n_rows":133,"n_cols":7,"rows_kept":133,"hidden":true,"merged":[[6,6,7,6],[8,1,8,4],[10,6,11,6],[12,2,12,4],[14,6,15,6],[16,2,16,4],[18,6,19,6],[20,2,20,4],[22,6,23,6],[24,2,24,4],[26,6,27,6],[28,2,28,4],[30,6,31,6],[32,2,32,4],[34,6,35,6],[36,2,36,4],[38,6,39,6],[40,2,40,4],[42,6,43,6],[44,2,44,4],[46,6,47,6],[48,2,48,4],[50,6,51,6],[52,2,52,4],[54,6,55,6],[56,2,56,4],[58,6,59,6],[60,2,60,4],[62,6,63,6],[64,2,64,4],[66,6,67,6],[68,2,68,4],[70,6,71,6],[72,2,72,4],[74,6,75,6],[76,2,76,4],[78,6,79,6],[80,2,80,4],[82,6,83,6],[84,2,84,4],[86,6,87,6],[88,2,88,4],[90,6,91,6],[92,2,92,4],[94,6,95,6],[96,2,96,4],[98,6,99,6],[100,2,100,4],[102,6,103,6],[104,2,104,4],[106,6,107,6],[108,2,108,4],[110,6,111,6],[112,2,112,4],[114,6,115,6],[116,2,116,4],[118,6,119,6],[120,2,120,4],[122,6,123,6],[124,2,124,4],[126,6,127,6],[128,2,128,4],[130,6,131,6],[132,2,132,4]]}
[]
[null,"2013 THIRA Steps 1-3 Responses:  This sheet serves as a placeholder for the 2013 THIRA Steps 1-3 responses for the Import 2013 Response function. "]
[]
[null,null,{"$f":"COLUMN()-2","v":1},2,3,null,"Journal Notes"]
[null,"Terrorism?"]
[{"$f":"MAX(4:4)","v":3},"Enter Threats and Hazards -->"]
[{"$f":"COUNTIF(INDIRECT(\"c7:\" &ADDRESS(7,2+A6)),\"<>Click here to select hazard\")","v":3}]
[null,"Enter Context Descriptions -->"]
[null,"Enter Capability Targets Below"]
[null,"Planning"]
[null,"Desired Outcomes (Optional)"]
[null,"Impacts (Optional)"]
[null,"Capability Target(s)"]
[null,"Public Information and Warning"]
[null,"Desired Outcomes (Optional)"]
[null,"Impacts (Optional)"]
[null,"Capability Target(s)"]
[null,"Operational Coordination"]
[null,"Desired Outcomes (Optional)"]
[null,"Impacts (Optional)"]
[null,"Capability Target(s)"]
[null,"Forensics and Attribution"]
[null,"Desired Outcomes (Optional)"]
[null,"Impacts (Optional)"]
[null,"Capability Target(s)"]
[null,"Intelligence and Information Sharing"]
[null,"Desired Outcomes (Optional)"]
[null,"Impacts (Optional)"]
[null,"Capability Target(s)"]
[null,"Interdiction and Disruption"]
[null,"Desired Outcomes (Optional)"]
[null,"Impacts (Optional)"]
[null,"Capability Target(s)"]
[null,"Screening, Search, and Detection"]
[null,"Desired Outcomes (Optional)"]
[null,"Impacts (Optional)"]
[null,"Capability Target(s)"]
[null,"Access Control and Identity Verification"]
[null,"Desired Outcomes (Optional)"]
[null,"Impacts (Optional)"]
[null,"Capability Target(s)"]
[null,"Cybersecurity"]
[null,"Desired Outcomes (Optional)"]
[null,"Impacts (Optional)"]
[null,"Capability Target(s)"]
[null,"Physical Protective Measures"]
[null,"Desired Outcomes (Optional)"]
[null,"Impacts (Optional)"]
[null,"Capability Target(s)"]
[null,"Risk Management for Protection Programs and Activities"]
[null,"Desired Outcomes (Optional)"]
[null,"Impacts (Optional)"]
[null,"Capability Target(s)"]
[null,"Supply Chain Integrity and Security"]
[null,"Desired Outcomes (Optional)"]
[null,"Impacts (Optional)"]
[null,"Capability Target(s)"]
[null,"Community Resilience"]
[null,"Desired Outcomes (Optional)"]
[null,"Impacts (Optional)"]
[null,"Capability Target(s)"]
[null,"Long-term Vulnerability Reduction"]
[null,"Desired Outcomes (Optional)"]
[null,"Impacts (Optional)"]
[null,"Capability Target(s)"]
[null,"Risk and Disaster Resilience Assessment"]
[null,"Desired Outcomes (Optional)"]
[null,"Impacts (Optional)"]
[null,"Capability Target(s)"]
[null,"Threats and Hazard Identification"]
[null,"Desired Outcomes (Optional)"]
[null,"Impacts (Optional)"]
[null,"Capability Target(s)"]
[null,"Critical Transportation"]
[null,"Desired Outcomes (Optional)"]
[null,"Impacts (Optional)"]
[null,"Capability Target(s)"]
[null,"Environmental Response/Health and Safety"]
[null,"Desired Outcomes (Optional)"]
[null,"Impacts (Optional)"]
[null,"Capability Target(s)"]
[null,"Fatality Management Services"]
[null,"Desired Outcomes (Optional)"]
[null,"Impacts (Optional)"]
[null,"Capability Target(s)"]
[null,"Infrastructure Systems"]
[null,"Desired Outcomes (Optional)"]
[null,"Impacts (Optional)"]
[null,"Capability Target(s)"]
[null,"Mass Care Services"]
[null,"Desired Outcomes (Optional)"]
[null,"Impacts (Optional)"]
[null,"Capability Target(s)"]
[null,"Mass Search and Rescue Operations"]
[null,"Desired Outcomes (Optional)"]
[null,"Impacts (Optional)"]
[null,"Capability Target(s)"]
[null,"On-scene Security and Protection"]
[null,"Desired Outcomes (Optional)"]
[null,"Impacts (Optional)"]
[null,"Capability Target(s)"]
[null,"Operational  Communications"]
[null,"Desired Outcomes (Optional)"]
[null,"Impacts (Optional)"]
[null,"Capability Target(s)"]
[null,"Public and Private Services and Resources"]
[null,"Desired Outcomes (Optional)"]
[null,"Impacts (Optional)"]
[null,"Capability Target(s)"]
[null,"Public Health and Medical Services"]
[null,"Desired Outcomes (Optional)"]
[null,"Impacts (Optional)"]
[null,"Capability Target(s)"]
[null,"Situational Assessment"]
[null,"Desired Outcomes (Optional)"]
[null,"Impacts (Optional)"]
[null,"Capability Target(s)"]
[null,"Economic Recovery"]
[null,"Desired Outcomes (Optional)"]
[null,"Impacts (Optional)"]
[null,"Capability Target(s)"]
[null,"Health and Social Services"]
[null,"Desired Outcomes (Optional)"]
[null,"Impacts (Optional)"]
[null,"Capability Target(s)"]
[null,"Housing"]
[null,"Desired Outcomes (Optional)"]
[null,"Impacts (Optional)"]
[null,"Capability Target(s)"]
[null,"Natural and Cultural Resources"]
[null,"Desired Outcomes (Optional)"]
[null,"Impacts (Optional)"]
[null,"Capability Target(s)"]

{"sheet":"2014 Responses-THIRA S4","index":85,"n_rows":6,"n_cols":219,"rows_kept":6,"hidden":true,"merged":[[0,0,0,6],[0,7,0,13],[0,14,0,20],[0,21,0,27],[0,28,0,34],[0,35,0,41],[0,42,0,48],[0,49,0,55],[0,56,0,62],[0,63,0,69],[0,70,0,76],[0,77,0,83],[0,84,0,90],[0,91,0,97],[0,98,0,104],[0,105,0,111],[0,112,0,118],[0,119,0,125],[0,126,0,132],[0,133,0,139],[0,140,0,146],[0,147,0,153],[0,154,0,160],[0,161,0,167],[0,168,0,174],[0,175,0,181],[0,182,0,188],[0,189,0,195],[0,196,0,202],[0,203,0,209],[0,210,0,216],[1,0,1,6],[1,7,1,13],[1,14,1,20],[1,21,1,27],[1,28,1,34],[1,35,1,41],[1,42,1,48],[1,49,1,55],[1,56,1,62],[1,63,1,69],[1,70,1,76],[1,77,1,83],[1,84,1,90],[1,91,1,97],[1,98,1,104],[1,105,1,111],[1,112,1,118],[1,119,1,125],[1,126,1,132],[1,133,1,139],[1,140,1,146],[1,147,1,153],[1,154,1,160],[1,161,1,167],[1,168,1,174],[1,175,1,181],[1,182,1,188],[1,189,1,195],[1,196,1,202],[1,203,1,209],[1,210,1,216],[2,0,2,3],[2,4,2,6],[2,7,2,10],[2,11,2,13],[2,14,2,17],[2,18,2,20],[2,21,2,24],[2,25,2,27],[2,28,2,31],[2,32,2,34],[2,35,2,38],[2,39,2,41],[2,42,2,45],[2,46,2,48],[2,49,2,52],[2,53,2,55],[2,56,2,59],[2,60,2,62],[2,63,2,66],[2,67,2,69],[2,70,2,73],[2,74,2,76],[2,77,2,80],[2,81,2,83],[2,84,2,87],[2,88,2,90],[2,91,2,94],[2,95,2,97],[2,98,2,101],[2,102,2,104],[2,105,2,108],[2,109,2,111],[2,112,2,115],[2,116,2,118],[2,119,2,122],[2,123,2,125],[2,126,2,129],[2,130,2,132],[2,133,2,136],[2,137,2,139],[2,140,2,143],[2,144,2,146],[2,147,2,150],[2,151,2,153],[2,154,2,157],[2,158,2,160],[2,161,2,164],[2,165,2,167],[2,168,2,171],[2,172,2,174],[2,175,2,178],[2,179,2,181],[2,182,2,185],[2,186,2,188],[2,189,2,192],[2,193,2,195],[2,196,2,199],[2,200,2,202],[2,203,2,206],[2,207,2,209],[2,210,2,213],[2,214,2,216],[3,0,3,1],[3,4,3,5],[3,7,3,8],[3,11,3,12],[3,14,3,15],[3,18,3,19],[3,21,3,22],[3,25,3,26],[3,28,3,29],[3,32,3,33],[3,35,3,36],[3,39,3,40],[3,42,3,43],[3,46,3,47],[3,49,3,50],[3,53,3,54],[3,56,3,57],[3,60,3,61],[3,63,3,64],[3,67,3,68],[3,70,3,71],[3,74,3,75],[3,77,3,78],[3,81,3,82],[3,84,3,85],[3,88,3,89],[3,91,3,92],[3,95,3,96],[3,98,3,99],[3,102,3,103],[3,105,3,106],[3,109,3,110],[3,112,3,113],[3,116,3,117],[3,119,3,120],[3,123,3,124],[3,126,3,127],[3,130,3,131],[3,133,3,134],[3,137,3,138],[3,140,3,141],[3,144,3,145],[3,147,3,148],[3,151,3,152],[3,154,3,155],[3,158,3,159],[3,161,3,162],[3,165,3,166],[3,168,3,169],[3,172,3,173],[3,175,3,176],[3,179,3,180],[3,182,3,183],[3,186,3,187],[3,189,3,190],[3,193,3,194],[3,196,3,197],[3,200,3,201],[3,203,3,204],[3,207,3,208],[3,210,3,211],[3,214,3,215],[4,0,4,1],[4,4,4,5],[4,7,4,8],[4,11,4,12],[4,14,4,15],[4,18,4,19],[4,21,4,22],[4,25,4,26],[4,28,4,29],[4,32,4,33],[4,35,4,36],[4,39,4,40],[4,42,4,43],[4,46,4,47],[4,49,4,50],[4,53,4,54],[4,56,4,57],[4,60,4,61],[4,63,4,64],[4,67,4,68],[4,70,4,71],[4,74,4,75],[4,77,4,78],[4,81,4,82],[4,84,4,85],[4,88,4,89],[4,91,4,92],[4,95,4,96],[4,98,4,99],[4,102,4,103],[4,105,4,106],[4,109,4,110],[4,112,4,113],[4,116,4,117],[4,119,4,120],[4,123,4,124],[4,126,4,127],[4,130,4,131],[4,133,4,134],[4,137,4,138],[4,140,4,141],[4,144,4,145],[4,147,4,148],[4,151,4,152],[4,154,4,155],[4,158,4,159],[4,161,4,162],[4,165,4,166],[4,168,4,169],[4,172,4,173],[4,175,4,176],[4,179,4,180],[4,182,4,183],[4,186,4,187],[4,189,4,190],[4,193,4,194],[4,196,4,197],[4,200,4,201],[4,203,4,204],[4,207,4,208],[4,210,4,211],[4,214,4,215]]}
[1,{"$nulls":6},2,{"$nulls":6},3,{"$nulls":6},4,{"$nulls":6},5,{"$nulls":6},6,{"$nulls":6},7,{"$nulls":6},8,{"$nulls":6},9,{"$nulls":6},10,{"$nulls":6},11,{"$nulls":6},12,{"$nulls":6},13,{"$nulls":6},14,{"$nulls":6},15,{"$nulls":6},16,{"$nulls":6},17,{"$nulls":6},18,{"$nulls":6},19,{"$nulls":6},20,{"$nulls":6},21,{"$nulls":6},22,{"$nulls":6},23,{"$nulls":6},24,{"$nulls":6},25,{"$nulls":6},26,{"$nulls":6},27,{"$nulls":6},28,{"$nulls":6},29,{"$nulls":6},30,{"$nulls":6},31]
["Planning",{"$nulls":6},"Public Information and Warning",{"$nulls":6},"Operational Coordination",{"$nulls":6},"Forensics and Attribution",{"$nulls":6},"Intelligence and Information Sharing",{"$nulls":6},"Interdiction and Disruption",{"$nulls":6},"Screening, Search, and Detection",{"$nulls":6},"Access Control and Identity Verification",{"$nulls":6},"Cybersecurity",{"$nulls":6},"Physical Protective Measures",{"$nulls":6},"Risk Management for Protection Programs and Activities",{"$nulls":6},"Supply Chain Integrity and Security",{"$nulls":6},"Community Resilience",{"$nulls":6},"Long-term Vulnerability Reduction",{"$nulls":6},"Risk and Disaster Resilience Assessment",{"$nulls":6},"Threats and Hazard Identification",{"$nulls":6},"Critical Transportation",{"$nulls":6},"Environmental Response/Health and Safety",{"$nulls":6},"Fatality Management Services",{"$nulls":6},"Infrastructure Systems",{"$nulls":6},"Mass Care Services",{"$nulls":6},"Mass Search and Rescue Operations",{"$nulls":6},"On-scene Security and Protection",{"$nulls":6},"Operational Communications",{"$nulls":6},"Public and Private Services and Resources",{"$nulls":6},"Public Health and Medical Services",{"$nulls":6},"Situational Assessment",{"$nulls":6},"Economic Recovery",{"$nulls":6},"Health and Social Services",{"$nulls":6},"Housing",{"$nulls":6},"Natural and Cultural Resources"]
["NIMS",{"$nulls":3},"Other",null,null,"NIMS",{"$nulls":3},"Other",null,null,"NIMS",{"$nulls":3},"Other",null,null,"NIMS",{"$nulls":3},"Other",null,null,"NIMS",{"$nulls":3},"Other",null,null,"NIMS",{"$nulls":3},"Other",null,null,"NIMS",{"$nulls":3},"Other",null,null,"NIMS",{"$nulls":3},"Other",null,null,"NIMS",{"$nulls":3},"Other",null,null,"NIMS",{"$nulls":3},"Other",null,null,"NIMS",{"$nulls":3},"Other",null,null,"NIMS",{"$nulls":3},"Other",null,null,"NIMS",{"$nulls":3},"Other",null,null,"NIMS",{"$nulls":3},"Other",null,null,"NIMS",{"$nulls":3},"Other",null,null,"NIMS",{"$nulls":3},"Other",null,null,"NIMS",{"$nulls":3},"Other",null,null,"NIMS",{"$nulls":3},"Other",null,null,"NIMS",{"$nulls":3},"Other",null,null,"NIMS",{"$nulls":3},"Other",null,null,"NIMS",{"$nulls":3},"Other",null,null,"NIMS",{"$nulls":3},"Other",null,null,"NIMS",{"$nulls":3},"Other",null,null,"NIMS",{"$nulls":3},"Other",null,null,"NIMS",{"$nulls":3},"Other",null,null,"NIMS",{"$nulls":3},"Other",null,null,"NIMS",{"$nulls":3},"Other",null,null,"NIMS",{"$nulls":3},"Other",null,null,"NIMS",{"$nulls":3},"Other",null,null,"NIMS",{"$nulls":3},"Other",null,null,"NIMS",{"$nulls":3},"Other"]
["Number:",{"$nulls":3},"Number:",null,null,"Number:",{"$nulls":3},"Number:",null,null,"Number:",{"$nulls":3},"Number:",null,null,"Number:",{"$nulls":3},"Number:",null,null,"Number:",{"$nulls":3},"Number:",null,null,"Number:",{"$nulls":3},"Number:",null,null,"Number:",{"$nulls":3},"Number:",null,null,"Number:",{"$nulls":3},"Number:",null,null,"Number:",{"$nulls":3},"Number:",null,null,"Number:",{"$nulls":3},"Number:",null,null,"Number:",{"$nulls":3},"Number:",null,null,"Number:",{"$nulls":3},"Number:",null,null,"Number:",{"$nulls":3},"Number:",null,null,"Number:",{"$nulls":3},"Number:",null,null,"Number:",{"$nulls":3},"Number:",null,null,"Number:",{"$nulls":3},"Number:",null,null,"Number:",{"$nulls":3},"Number:",null,null,"Number:",{"$nulls":3},"Number:",null,null,"Number:",{"$nulls":3},"Number:",null,null,"Number:",{"$nulls":3},"Number:",null,null,"Number:",{"$nulls":3},"Number:",null,null,"Number:",{"$nulls":3},"Number:",null,null,"Number:",{"$nulls":3},"Number:",null,null,"Number:",{"$nulls":3},"Number:",null,null,"Number:",{"$nulls":3},"Number:",null,null,"Number:",{"$nulls":3},"Number:",null,null,"Number:",{"$nulls":3},"Number:",null,null,"Number:",{"$nulls":3},"Number:",null,null,"Number:",{"$nulls":3},"Number:",null,null,"Number:",{"$nulls":3},"Number:",null,null,"Number:",{"$nulls":3},"Number:",null,null,{"$f":"MAX(A4:HI4)","v":0},"This is the greatest number of resources for a core capability - this is used to clear the cells when \"remove 2013 Responses is selected\""]
["Number Started:",{"$nulls":3},"Number Started:",null,null,"Number Started:",{"$nulls":3},"Number Started:",null,null,"Number Started:",{"$nulls":3},"Number Started:",null,null,"Number Started:",{"$nulls":3},"Number Started:",null,null,"Number Started:",{"$nulls":3},"Number Started:",null,null,"Number Started:",{"$nulls":3},"Number Started:",null,null,"Number Started:",{"$nulls":3},"Number Started:",null,null,"Number Started:",{"$nulls":3},"Number Started:",null,null,"Number Started:",{"$nulls":3},"Number Started:",null,null,"Number Started:",{"$nulls":3},"Number Started:",null,null,"Number Started:",{"$nulls":3},"Number Started:",null,null,"Number Started:",{"$nulls":3},"Number Started:",null,null,"Number Started:",{"$nulls":3},"Number Started:",null,null,"Number Started:",{"$nulls":3},"Number Started:",null,null,"Number Started:",{"$nulls":3},"Number Started:",null,null,"Number Started:",{"$nulls":3},"Number Started:",null,null,"Number Started:",{"$nulls":3},"Number Started:",null,null,"Number Started:",{"$nulls":3},"Number Started:",null,null,"Number Started:",{"$nulls":3},"Number Started:",null,null,"Number Started:",{"$nulls":3},"Number Started:",null,null,"Number Started:",{"$nulls":3},"Number Started:",null,null,"Number Started:",{"$nulls":3},"Number Started:",null,null,"Number Started:",{"$nulls":3},"Number Started:",null,null,"Number Started:",{"$nulls":3},"Number Started:",null,null,"Number Started:",{"$nulls":3},"Number Started:",null,null,"Number Started:",{"$nulls":3},"Number Started:",null,null,"Number Started:",{"$nulls":3},"Number Started:",null,null,"Number Started:",{"$nulls":3},"Number Started:",null,null,"Number Started:",{"$nulls":3},"Number Started:",null,null,"Number Started:",{"$nulls":3},"Number Started:",null,null,"Number Started:",{"$nulls":3},"Number Started:"]
["Category","Resource","Type","Number Required","Resource","Category\r","Number Required","Category","Resource","Type","Number Required","Resource","Category\r","Number Required","Category","Resource","Type","Number Required","Resource","Category\r","Number Required","Category","Resource","Type","Number Required","Resource","Category\r","Number Required","Category","Resource","Type","Number Required","Resource","Category\r","Number Required","Category","Resource","Type","Number Required","Resource","Category\r","Number Required","Category","Resource","Type","Number Required","Resource","Category\r","Number Required","Category","Resource","Type","Number Required","Resource","Category\r","Number Required","Category","Resource","Type","Number Required","Resource","Category\r","Number Required","Category","Resource","Type","Number Required","Resource","Category\r","Number Required","Category","Resource","Type","Number Required","Resource","Category\r","Number Required","Category","Resource","Type","Number Required","Resource","Category\r","Number Required","Category","Resource","Type","Number Required","Resource","Category\r","Number Required","Category","Resource","Type","Number Required","Resource","Category\r","Number Required","Category","Resource","Type","Number Required","Resource","Category\r","Number Required","Category","Resource","Type","Number Required","Resource","Category\r","Number Required","Category","Resource","Type","Number Required","Resource","Category\r","Number Required","Category","Resource","Type","Number Required","Resource","Category\r","Number Required","Category","Resource","Type","Number Required","Resource","Category\r","Number Required","Category","Resource","Type","Number Required","Resource","Category\r","Number Required","Category","Resource","Type","Number Required","Resource","Category\r","Number Required","Category","Resource","Type","Number Required","Resource","Category\r","Number Required","Category","Resource","Type","Number Required","Resource","Category\r","Number Required","Category","Resource","Type","Number Required","Resource","Category\r","Number Required","Category","Resource","Type","Number Required","Resource","Category\r","Number Required","Category","Resource","Type","Number Required","Resource","Category\r","Number Required","Category","Resource","Type","Number Required","Resource","Category\r","Number Required","Category","Resource","Type","Number Required","Resource","Category\r","Number Required","Category","Resource","Type","Number Required","Resource","Category\r","Number Required","Category","Resource","Type","Number Required","Resource","Category\r","Number Required","Category","Resource","Type","Number Required","Resource","Category\r","Number Required"]

{"sheet":"Gap Descriptions","index":86,"n_rows":18,"n_cols":35,"rows_kept":18,"hidden":true}
[1,2,3,4,5,6,7,8,9,10,11,12,13,14,15,16,17,18,19,20,21,22,23,24,25,26,27,28,29,30,31,null,null,1,"I"]
["PLAN","PIW","OPCD","F&A","IIS","ID","SSD","ACIV","CYB","PPM","RMPPA","SCIS","CR","LTVR","RDRA","THI","CT","ERHS","FMS","IS","MCS","MSAR","OSSP","OPCM","PPSR","PHMS","SA","ER","HSS","HOU","NCR",null,null,2,"J"]
[{"$f":"COUNTA(A4:A100)","v":9},{"$f":"COUNTA(B4:B100)","v":10},{"$f":"COUNTA(C4:C100)","v":11},10,11,13,10,4,10,6,6,6,6,6,4,5,5,8,6,14,{"$f":"COUNTA(U4:U100)","v":9},{"$f":"COUNTA(V4:V100)","v":6},{"$f":"COUNTA(W4:W100)","v":4},{"$f":"COUNTA(X4:X100)","v":6},{"$f":"COUNTA(Y4:Y100)","v":7},{"$f":"COUNTA(Z4:Z100)","v":8},{"$f":"COUNTA(AA4:AA100)","v":6},{"$f":"COUNTA(AB4:AB100)","v":8},{"$f":"COUNTA(AC4:AC100)","v":14},{"$f":"COUNTA(AD4:AD100)","v":5},{"$f":"COUNTA(AE4:AE100)","v":4},null,null,3,"K"]
["Evaluating and updating plans","Alerts and warnings","Allocating and mobilizing resources","Assessing terrorist capabilities ","Analysis of intelligence and information","Anti-terrorism operations","Biosurveillance","Controlling cyber access","Continuity of operations for cyber systems","Biosecurity","Analysis tools","Analysis of supply chain dependencies","Collaborative planning and decision-making","Adopting vulnerability reduction standards and building codes","Analysis","Data collection and sharing","Delivery of response assets","Debris removal","Bereavement counseling","Communications systems","Ensuring access","Community-based search and rescue support","Law enforcement","Communication between responders and the affected population","Access to community staples","Definitive care","Analyzing information","Developing recovery objectives","Behavioral health","Addressing housing shortages","Damage assessment",null,null,4,"L"]
["Including individuals with disabilities or access/functional needs","Culturally and linguistically appropriate messaging","Command, control, and coordination","Attribution assessments","Continuous threat assessment","Border security","CBRNE detection","Controlling physical access","Controlling electronic access","Border protection","Data collection","Implementing countermeasures","Communication and outreach","Broadening the use of insurance","Education and training","Estimating frequency and magnitude","Establishing access","Decontamination","Body recovery","Dams and flood control","Family reunification","Rescue operations","Protecting response personnel","Data communications","Donation management","Emergency medical transport","Assessing hazard impacts","Developing the workforce","Determining health and social needs","Housing assessments","Environmental preservation and restoration",null,null,5,"M"]
["Incorporating risk analyses","Delivering actionable guidance","Determining priorities, objectives, strategies","Biometric analysis","Developing reports and products","CBRNE detection","Electronic search","Verifying identity","Detecting malicious activity","Identifying and prioritizing assets to protect","Exercise design","Implementing physical protection","Education and skill building","Developing neighborhood civic organizations","Obtaining and sharing data","Modeling and analysis","Evacuation","Hazardous material clean-up","Family reunification","Food production and delivery","Feeding","Search operations","Securing disaster areas","Interoperable communications between responders","Emergency power provision","Health assessments","Delivering situation reports","Disseminating information","Ensuring access","Reconstruction of destroyed housing","Historic preservation",null,null,6,"N"]
["Integrating different plans","Developing standard operating procedures for public information","Ensuring information flow","CBRNE material analysis","Disseminating intelligence and information","CBRNE render safe","Laboratory testing","Other","Guidelines, regulations, and standards","Physical security measures","Risk assessment","Integrating security processes","Partnership building","Incorporating mitigation measures into construction and development","Other","Stakeholder Collaboration/Coordination","Transportation safety and condition assessments","Health and safety monitoring and assessment","Mortuary services","Government facilities","Hydration","Specialized operations","Other","Re-establishing communications infrastructure","Fire response","Laboratory medical testing","Stakeholder engagement","Economic impact assessments","Environmental health","Rehabilitation of damaged housing","Other",null,null,7,"O"]
["Operational planning","Inclusiveness of the entire public","Ensuring unity of effort","Crime scene preservation and exploitation","Establishing intelligence and information requirements","Deterrent law enforcement presence","Locating terrorists",null,"Investigating malicious actors","Site-specific and process-specific risk assessments","Risk management planning","Verification and detection","Understanding the community","Individual and family preparedness",null,"Other","Other","Predictive modeling","Victim identification","Heating fuel provision","Pets","Synchronizing operations",null,"Voice communications","Fuel support","Medical countermeasures","Tracking response activities","Incentivizing entrepreneurial and business development","Food safety","Other",{"$nulls":3},8,"P"]
["Pre-incident planning","New communications tools and technologies","Establishing a common operating picture","Digital media and network exploitation","Exploiting and processing information","Disease prevention","Physical investigation",null,"Protective measures","Other","Other","Other","Other","Other",{"$nulls":3},"Responder safety","Other","Hospitals","Relocation assistance","Other",null,"Other","Resource delivery","Medical surge","Other","Management planning","Health assessment",{"$nulls":4},9,"Q"]
["Strategic planning","Protecting sensitive information","Establishing lines of communication","Evidence collection","Feedback and evaluation","Financial disruption","Promoting an observant nation",null,"Securing CIKR and SCADA systems",{"$nulls":8},"Survivor safety and assistance",null,"Infrastructure site assessments","Resource distribution",{"$nulls":3},"Other","Triage and initial stabilization",null,"Reopening businesses","Healthcare facilities and coalitions",{"$nulls":4},10,"R"]
["Whole community involvement and coordination","Public awareness campaigns","Establishing roles and responsibilities","Forensic analysis","Gathering intelligence","Interdicting cargo, conveyances, and persons","Screening",null,"Sharing threat information",{"$nulls":8},"Other",null,"Power restoration","Sheltering",{"$nulls":4},"Other",null,"Other","Medical products and services",{"$nulls":4},11,"S"]
["Other","Traditional communications mechanisms","NIMS/ICS compliance","Terrorist investigations","Monitoring information","Preventing acquisition of CBRNE","Wide-area search",null,"Technical countermeasures",{"$nulls":10},"Public recreation facilities","Other",{"$nulls":7},"Public awareness",{"$nulls":4},12,"T"]
[null,"Other","Stakeholder engagement","Other","Safeguarding sensitive information","Tactical law-enforcement operations","Other",null,"Other",{"$nulls":10},"Public safety facilities",{"$nulls":8},"Public health measures",{"$nulls":4},13,"U"]
[null,null,"Other",null,"Other","Tracking and targeting terrorists and their weapons",{"$nulls":13},"Sanitation",{"$nulls":8},"Response and recovery worker health",{"$nulls":4},14,"V"]
[{"$nulls":5},"Wide-area search and detection",{"$nulls":13},"Transportation infrastructure",{"$nulls":8},"School impacts",{"$nulls":4},15,"W"]
[{"$nulls":5},"Other",{"$nulls":13},"Water treatment and provision",{"$nulls":8},"Social services",{"$nulls":4},16,"X"]
[{"$nulls":19},"Other",{"$nulls":8},"Other",{"$nulls":4},17,"Y"]
[{"$nulls":33},18,"Z"]

{"sheet":"NIMS Resources","index":87,"n_rows":380,"n_cols":11,"rows_kept":380,"hidden":true,"merged":[[0,0,0,2],[0,3,0,9],[26,3,26,9],[54,3,54,9],[93,3,93,9],[127,3,127,9],[137,3,137,9],[154,3,154,9],[214,3,214,9],[306,3,306,9],[374,3,374,9]]}
["Disciplines",null,null,"Animal Emergency Response"]
[2013,2014," Group Name (2014)","2013 Name","2013 Position/Resource","2013 Types","2014 Name","2014 Position/Resource","2014 Types","Type List Group Name"]
[{"$nulls":6},"-----Resource Types-----"]
["Animal Health Emergency","Animal Emergency Response","AnHlth","Large Animal Rescue Strike Team","Resource Type","I","Animal Protection: Large Animal Rescue Strike Team","Resource Type","I","TypeI"]
["Emergency Medical Services","Emergency Medical Services","EmMed","Large Animal Sheltering Team","Resource Type","I-III","Animal Protection: Large Animal Sheltering Team","Resource Type","I-III","TypeItoIII"]
["Fire and Hazardous Materials","Fire and HazMat","FireHaz","Large Animal Transport Team","Resource Type","I","Animal Protection: Large Animal Transport Team","Resource Type","I","TypeI"]
["Incident Management","Incident Management","IncMgmt","Small Animal Rescue Strike Team","Resource Type","I","Animal Protection: Small Animal Rescue Strike Team","Resource Type","I","TypeI"]
["Law Enforcement","Law Enforcement","LawEnf","Small Animal Sheltering Team","Resource Type","I-III","Animal Protection: Small Animal Sheltering Team","Resource Type","I-III","TypeItoIII"]
["Mass Care","Mass Care","MassCare","Small Animal Transport Team","Resource Type","I","Animal Protection: Small Animal Transport Team","Resource Type","I","TypeI"]
["Medical and Public Health","Medical and Public Health","MedPub","Incident Management Team Animal Protection","Resource Type","I-III","Incident Management Team Animal Protection","Resource Type","I-III","TypeItoIII"]
["Public Works","Public Works","PubWks",{"$nulls":3},"-----Position Qualifications-----"]
["Search and Rescue","Search and Rescue","SAR","Animal Case Manager","Position Qualification","I","Animal Case Manager","Position Qualification","I","TypeI"]
["Geospatial Information Systems",null,null,"Animal Control Specialist ","Position Qualification","I","Animal Control Specialist","Position Qualification","I","TypeI"]
["Other",null,null,"Animal Disease Epidemiologist ","Position Qualification","I","Animal Disease Epidemiologist","Position Qualification","I","TypeI"]
[{"$nulls":3},"Animal Handling Specialist ","Position Qualification","I","Animal Handling Specialist","Position Qualification","I","TypeI"]
[null,"Other Resource Categories",null,"Animal Industry Specialist ","Position Qualification","I","Animal Industry Specialist","Position Qualification","I","TypeI"]
[{"$nulls":3},"Animal Premises Site Manager ","Position Qualification","I","Animal Premises Site Manager","Position Qualification","I","TypeI"]
["Types","Animal Emergency Response",null,"Animal Technician ","Position Qualification","I","Animal Technician","Position Qualification","I","TypeI"]
["Type I","Emergency Medical Services",null,"Permit Specialist ","Position Qualification","I","Permit Specialist","Position Qualification","I","TypeI"]
["Type II","Fire and HazMat",null,"Risk Assessment Specialist ","Position Qualification","I","Risk Assessment Specialist","Position Qualification","I","TypeI"]
["Type III","Incident Management",null,"Species Specialist ","Position Qualification","I","Species Specialist","Position Qualification","I","TypeI"]
["Type IV","Law Enforcement",null,"Vector Control Specialist ","Position Qualification","I","Vector Control Specialist","Position Qualification","I","TypeI"]
["Type V","Mass Care",null,"Veterinarian ","Position Qualification","I","Veterinarian","Position Qualification","I","TypeI"]
["Type VI","Medical and Public Health",null,"Animal Shelter Manager ","Position Qualification","I"]
["Type VII","Public Works",null,"Livestock Agriculture Economist ","Position Qualification","I"]
["N/A","Search and Rescue",null,"Wildlife Control Specialist ","Position Qualification","I"]
[null,"Geospatial Information Systems",null,"Emergency Medical Services"]
["Type I","Other",null,"2013 Name","2013 Position/Resource","2013 Types","2014 Name","2014 Position/Resource","2014 Types","Type List Group Name"]
["Type III",{"$nulls":5},"-----Resource Types-----"]
["Type IV",null,null,"Air Ambulance (Fixed-Wing)","Resource Type","I-IV","Air Ambulance (Fixed-Wing)","Resource Type","I-V","TypeItoV"]
[{"$nulls":3},"Air Ambulance (Rotary-Wing)","Resource Type","I-IV","Air Ambulance (Rotary-Wing)","Resource Type","I-V","TypeItoV"]
[{"$nulls":3},"Ambulances (Ground)","Resource Type","I-IV","Ambulances (Ground)","Resource Type","I-IV","TypeItoIV"]
[{"$nulls":3},"Ambulance Strike Team","Resource Type","I-IV","Ambulance Strike Team","Resource Type","I-IV","TypeItoIV"]
[{"$nulls":3},"Ambulance Strike Force","Resource Type","I","Ambulance Task Force","Resource Type","I","TypeI"]
[{"$nulls":3},"Emergency Medical Task Force","Resource Type","I","Emergency Medical Task Force","Resource Type","I","TypeI"]
[{"$nulls":3},"Mass Casualty Support Vehicle","Resource Type","I-III","Mass Casualty Support Vehicle","Resource Type","I-III","TypeItoIII"]
[{"$nulls":3},"Multi-Patient Medical Transport Vehicle","Resource Type","I-III","Multi-Patient Medical Transport Vehicle","Resource Type","I-III","TypeItoIII"]
[{"$nulls":6},"-----Position Qualifications-----"]
[{"$nulls":3},"Advanced Emergency Medical Technician ","Position Qualification","I","Advanced Emergency Medical Technician","Position Qualification","I","TypeI"]
[{"$nulls":3},"Air Medical Transport Manager or Administrator ","Position Qualification","I","Air Medical Transport Manager or Administrator","Position Qualification","I","TypeI"]
[{"$nulls":3},"Air Medical Transport Mechanic ","Position Qualification","I","Air Medical Transport Mechanic","Position Qualification","I","TypeI"]
[{"$nulls":3},"Air Medical Transport Paramedic ","Position Qualification","I","Air Medical Transport Paramedic","Position Qualification","I","TypeI"]
[{"$nulls":3},"Air Medical Transport Physician ","Position Qualification","I","Air Medical Transport Physician","Position Qualification","I","TypeI"]
[{"$nulls":3},"Air Medical Transport Pilot (Rotorcraft) ","Position Qualification","I","Air Medical Transport Pilot (Rotorcraft)","Position Qualification","I","TypeI"]
[{"$nulls":3},"Air Medical Transport Registered Nurse ","Position Qualification","I","Air Medical Transport Registered Nurse","Position Qualification","I","TypeI"]
[{"$nulls":3},"Ambulance Strike Team / Ambulance Task Force Leader ","Position Qualification","I","Ambulance Strike Team / Ambulance Task Force Leader","Position Qualification","I","TypeI"]
[{"$nulls":3},"Emergency Medical Responder ","Position Qualification","I","Emergency Medical Responder","Position Qualification","I","TypeI"]
[{"$nulls":3},"Emergency Medical Task Force Leader ","Position Qualification","I","Emergency Medical Task Force Leader","Position Qualification","I","TypeI"]
[{"$nulls":3},"Emergency Medical Technician ","Position Qualification","I","Emergency Medical Technician","Position Qualification","I","TypeI"]
[{"$nulls":3},"Emergency Vehicle Operator ","Position Qualification","I","Emergency Vehicle Operator","Position Qualification","I","TypeI"]
[{"$nulls":3},"Emergency Vehicle Operator- Heavy ","Position Qualification","I","Emergency Vehicle Operator - Heavy","Position Qualification","I","TypeI"]
[{"$nulls":3},"EMS Physician ","Position Qualification","I","EMS Physician","Position Qualification","I","TypeI"]
[{"$nulls":3},"Medical Supply Coordinator ","Position Qualification","I","Medical Supply Coordinator","Position Qualification","I","TypeI"]
[{"$nulls":3},"Paramedic","Position Qualification","I","Paramedic","Position Qualification","I","TypeI"]
[{"$nulls":3},"Fire and Hazmat"]
[{"$nulls":3},"2013 Name","2013 Position/Resource","2013 Types","2014 Name","2014 Position/Resource","2014 Types","Type List Group Name"]
[{"$nulls":6},"-----Resource Types-----"]
[{"$nulls":6},"Aerial Apparatus, Fire","Resource Type","I-IV","TypeItoIV"]
[{"$nulls":3},"Area Command Team, Firefighting","Resource Type","I","Area Command Team, Firefighting","Resource Type","I","TypeI"]
[{"$nulls":3},"Brush Patrol, Firefighting (Type VI Engine)","Resource Type","N/A","Brush Patrol, Firefighting (Type VI Engine)","Resource Type","VI","TypeVI"]
[{"$nulls":3},"Crew Transport (Firefighting Crew)","Resource Type","I-III","Crew Transport (Firefighting Crew)","Resource Type","I-III","TypeItoIII"]
[{"$nulls":3},"Engine, Fire (Pumper)","Resource Type","I-IV","Engine, Fire (Pumper)","Resource Type","I-V","TypeItoV"]
[{"$nulls":3},"Fire Boat","Resource Type","I-III","Fire Boat","Resource Type","I-III","TypeItoIII"]
[{"$nulls":3},"Fire Truck - Aerial (Ladder or Platform)","Resource Type","I-II","Fire Truck - Aerial (Ladder or Platform)","Resource Type","I-II","TypeItoII"]
[{"$nulls":3},"Foam Tender, Firefighting","Resource Type","I-II","Foam Tender, Firefighting","Resource Type","I-II","TypeItoII"]
[{"$nulls":3},"Fuel Tender (Gasoline, Diesel, AvGas, aka Gas Tanker)","Resource Type","I-II","Fuel Tender (Gasoline, Diesel, AvGas, aka Gas Tanker)","Resource Type","I-II","TypeItoII"]
[{"$nulls":3},"Hand Crew","Resource Type","I-IV","Hand Crew","Resource Type","I-IV","TypeItoIV"]
[{"$nulls":3},"HazMat Entry Team","Resource Type","I-III","HazMat Entry Team","Resource Type","I-III","TypeItoIII"]
[{"$nulls":3},"Helicopters, Firefighting","Resource Type","I-IV","Helicopters, Firefighting","Resource Type","I-IV","TypeItoIV"]
[{"$nulls":3},"Helitanker (Firefighting Helicopter)","Resource Type","N/A","Helitanker (firefighting helicopter)","Resource Type",null,"TypeNA"]
[{"$nulls":3},"Incident Management Team, Firefighting","Resource Type","I-IV","Incident Management Team, Firefighting","Resource Type","I-V","TypeItoV"]
[{"$nulls":3},"Interagency Buying Team, Firefighting","Resource Type","I","Interagency Buying Team, Firefighting","Resource Type","I","TypeI"]
[{"$nulls":3},"Mobile Communications Unit (Law/Fire)","Resource Type","I-II","Mobile Communications Unit (Law/Fire)","Resource Type","I-II","TypeItoII"]
[{"$nulls":3},"Portable Pump","Resource Type","I-III","Portable Pump","Resource Type","I-III","TypeItoIII"]
[{"$nulls":3},"Strike Team, Engine (Fire)","Resource Type","I-IV","Strike Team, Engine (Fire)","Resource Type","I-IV","TypeItoIV"]
[{"$nulls":3},"U.S. Coast Guard National Strike Force","Resource Type","N/A","U.S. Coast Guard National Strike Force","Resource Type",null,"TypeNA"]
[{"$nulls":3},"Water Tender, Firefighting (Tanker)","Resource Type","I-IV","Water Tender, Firefighting (Tanker)","Resource Type","I-IV","TypeItoIV"]
[{"$nulls":6},"-----Position Qualifications-----"]
[{"$nulls":3},"Airport Firefighter","Position Qualification","I","Airport Firefighter","Position Qualification","I","TypeI"]
[{"$nulls":3},"Emergency Vehicle Technician","Position Qualification","I","Emergency Vehicle Technician","Position Qualification","I","TypeI"]
[{"$nulls":3},"Fire Apparatus Driver/Operator","Position Qualification","I","Fire Apparatus Driver/Operator","Position Qualification","I","TypeI"]
[{"$nulls":3},"Fire Inspector","Position Qualification","I-III","Fire Inspector","Position Qualification","I-III","TypeItoIII"]
[{"$nulls":3},"Fire Officer","Position Qualification","I-II","Fire Officer I/II (Company/Unit)","Position Qualification","I","TypeI","II"]
[{"$nulls":3},"Fire Officer","Position Qualification","III-IV","Fire Officer III/IV (Command)","Position Qualification","I","TypeI","II"]
[{"$nulls":3},"Firefighter","Position Qualification","I-II","Firefighter","Position Qualification","I-II","TypeItoII"]
[{"$nulls":3},"HazMat Officer","Position Qualification","I","HazMat Officer","Position Qualification","I","TypeI"]
[{"$nulls":3},"HazMat Safety Officer","Position Qualification","I","HazMat Safety Officer","Position Qualification","I","TypeI"]
[{"$nulls":3},"HazMat Technician","Position Qualification","I","HazMat Technician","Position Qualification","I","TypeI"]
[{"$nulls":3},"Plans Examiner","Position Qualification","I-II","Plans Examiner I/II","Position Qualification","I","TypeI","II"]
[{"$nulls":3},"Public Safety Telecommunicator","Position Qualification","I-II","Public Safety Telecommunicator I/II","Position Qualification","I","TypeI","II"]
[{"$nulls":3},"Wildland Fire Officer","Position Qualification","I-II","Wildland Fire Officer","Position Qualification","I-II","TypeItoII"]
[{"$nulls":3},"Wildland Firefighter","Position Qualification","I-II","Wildland Firefighter","Position Qualification","I-II","TypeItoII"]
[{"$nulls":3},"Wildland/Urban Interface Protection Specialist","Position Qualification","I","Wildland/Urban Interface Protection Specialist","Position Qualification","I","TypeI"]
[{"$nulls":3},"Incident Management"]
[{"$nulls":3},"2013 Name","2013 Position/Resource","2013 Types","2014 Name","2014 Position/Resource","2014 Types","Type List Group Name"]
[{"$nulls":6},"-----Resource Types-----"]
[{"$nulls":3},"Airborne Communications Relay (Fixed-Wing) (CAP)","Resource Type","I-IV","Airborne Communications Relay (Fixed-Wing) (CAP)","Resource Type","I-IV","TypeItoIV"]
[{"$nulls":3},"Airborne Communications Relay Team (Fixed-Wing)","Resource Type","I-IV","Airborne Communications Relay Team (Fixed-Wing)","Resource Type","I-IV","TypeItoIV"]
[{"$nulls":3},"Airborne Transport Team (Fixed-Wing)","Resource Type","I-IV","Airborne Transport Team (Fixed-Wing)","Resource Type","I-IV","TypeItoIV"]
[{"$nulls":3},"Communications Support Team (CAP)","Resource Type","I-IV","Communications Support Team (CAP)","Resource Type","I-IV","TypeItoIV"]
[{"$nulls":3},"Crisis Incident Stress Management Team","Resource Type","I-III","Critical Incident Stress Management Team","Resource Type","I-III","TypeItoIII"]
[{"$nulls":3},"Donations Coordinator","Position Qualification","I-IV","Donations Coordinator","Resource Type","I-IV","TypeItoIV"]
[{"$nulls":3},"Donations Management Personnel/Team","Resource Type","I-II","Donations Management Personnel/Team","Resource Type","I-II","TypeItoII"]
[{"$nulls":3},"EOC Finance/Administration Section Chief/Coordinator","Position Qualification","I-III","EOC Finance / Administration Section Chief / Coordinator","Resource Type","I-III","TypeItoIII"]
[{"$nulls":3},"EOC Management Support Team","Resource Type","I-IV","EOC Management Support Team","Resource Type","I-IV","TypeItoIV"]
[{"$nulls":3},"EOC Operations Section Chief","Position Qualification","I-III","EOC Operations Section Chief","Resource Type","I-III","TypeItoIII"]
[{"$nulls":3},"EOC Planning Section Chief","Position Qualification","I-III","EOC Planning Section Chief","Resource Type","I-III","TypeItoIII"]
[{"$nulls":3},"Event Coordination Team","Resource Type","I-III","Evacuation Coordination Team","Resource Type","I-III","TypeItoIII"]
[{"$nulls":3},"Evacuation Liaison Team (ELT)","Resource Type","I","Evacuation Liaison Team (ELT)","Resource Type","I","TypeI"]
[{"$nulls":3},"Incident Management Team","Resource Type","I-IV","Incident Management Team","Resource Type","I-IV","TypeItoIV"]
[{"$nulls":3},"Individual Assistance Disaster Assessment Team","Resource Type","I","Individual Assistance Disaster Assessment Team","Resource Type","I","TypeI"]
[{"$nulls":3},"Individual Assistance Disaster Assessment Team Leader","Position Qualification","I-IV","Individual Assistance Disaster Assessment Team Leader","Resource Type","I-IV","TypeItoIV"]
[{"$nulls":3},"Mobile Communications Center (Mobile EOC)","Resource Type","I-IV","Mobile Communications Center (Also referred to as \"Mobile EOC\")","Resource Type","I-IV","TypeItoIV"]
[{"$nulls":3},"Mobile Feeding Kitchen (Mobile Field Kitchen)","Resource Type","I-IV","Mobile Feeding Kitchen (Mobile Field Kitchen)","Resource Type","I-IV","TypeItoIV"]
[{"$nulls":3},"Public Assistance Coordinator","Position Qualification","I-IV","Public Assistance Coordinator","Resource Type","I-IV","TypeItoIV"]
[{"$nulls":3},"Rapid Needs Assessment Team","Resource Type","I","Rapid Needs Assessment Team","Resource Type","I","TypeI"]
[{"$nulls":6},"Volunteer Agency Liaison","Resource Type","I-IV","TypeItoIV"]
[{"$nulls":3},"Volunteer Agency Liaison","Position Qualification","I-IV","-----Position Qualifications-----"]
[{"$nulls":3},"Finance/Administration Section Chief ","Position Qualification","I","Finance/Administration Section Chief (Type 3)","Position Qualification","III","TypeIII"]
[{"$nulls":3},"Incident Commander ","Position Qualification","I","Incident Commander (IC) (Type 3)","Position Qualification","III","TypeIII"]
[{"$nulls":3},"Liaison Officer","Position Qualification","I-III","Liaison Officer (Type 3)","Position Qualification","III","TypeIII","I, II"]
[{"$nulls":3},"Logistics Section Chief ","Position Qualification","I","Logistics Section Chief (Type 3)","Position Qualification","III","TypeIII"]
[{"$nulls":3},"Operations Section Chief ","Position Qualification","I","Operations Section Chief (Type 3)","Position Qualification","III","TypeIII"]
[{"$nulls":3},"Planning Section Chief ","Position Qualification","I","Planning Section Chief (Type 3)","Position Qualification","III","TypeIII"]
[{"$nulls":6},"Public Information Officer (Type 3)","Position Qualification","III","TypeIII"]
[{"$nulls":3},"Safety Officer","Position Qualification","I-III","Safety Officer (Type 3)","Position Qualification","III","TypeIII","I, II"]
[{"$nulls":6},"Shelter Management Team (Incident Management)","Resource Type","I-III","TypeItoIII","delete in 2015"]
[{"$nulls":3},"Law Enforcement"]
[{"$nulls":3},"2013 Name","2013 Position/Resource","2013 Types","2014 Name","2014 Position/Resource","2014 Types","Type List Group Name"]
[{"$nulls":6},"-----Resource Types-----"]
[{"$nulls":3},"Bomb Squad/Explosives Team","Resource Type","I-III","Bomb Squad/Explosives Team","Resource Type","I-III","TypeItoIII"]
[{"$nulls":3},"Law Enforcement Aviation-Helicopters-Patrol & Surveillance","Resource Type","I-IV","Law Enforcement Aviation - Helicopters - Patrol & Surveillance","Resource Type","I-IV","TypeItoIV"]
[{"$nulls":3},"Law Enforcement Observation Aircraft (Fixed-Wing)","Resource Type","I-II","Law Enforcement Observation Aircraft (Fixed-Wing)","Resource Type","I-II","TypeItoII"]
[{"$nulls":3},"Law Enforcement Patrol Team (Strike Team)","Resource Type","I-IV","Law Enforcement Patrol Team (Strike Team)","Resource Type","I-IV","TypeItoIV"]
[{"$nulls":3},"Mobile Field Force Law Enforcement (Crowd Control Teams)","Resource Type","I-III","Mobile Field Force Law Enforcement (Crowd Control Teams)","Resource Type","I-III","TypeItoIII"]
[{"$nulls":3},"Public Safety Dive Team","Resource Type","I-IV","Public Safety Dive Team","Resource Type","I-IV","TypeItoIV"]
[{"$nulls":3},"SWAT/Tactical Teams","Resource Type","I-IV","SWAT/Tactical Teams","Resource Type","I-IV","TypeItoIV"]
[{"$nulls":3},"Mass Care"]
[{"$nulls":3},"2013 Name","2013 Position/Resource","2013 Types","2014 Name","2014 Position/Resource","2014 Types","Type List Group Name"]
[{"$nulls":6},"-----Resource Types-----"]
[{"$nulls":3},"Field Kitchen Unit","Resource Type","I-IV","Field Kitchen Unit","Resource Type","I-IV","TypeItoIV"]
[{"$nulls":3},"Shelter Management Team","Resource Type","I-IV","Shelter Management Team (Mass Care)","Resource Type","I-III","TypeItoIII","deleted type IV in 2015"]
[{"$nulls":6},"-----Position Qualifications-----"]
[{"$nulls":3},"State Mass Care Coordinator","Position Qualification","I-II","State Mass Care Coordinator","Position Qualification","I-II","TypeItoII"]
[{"$nulls":3},"Shelter Manager","Position Qualification","I-III","Shelter Manager","Position Qualification","I-III","TypeItoIII"]
[{"$nulls":3},"Field Kitchen Manager","Position Qualification","I","Field Kitchen Manager","Position Qualification","I","TypeI"]
[{"$nulls":3},"Laundry Unit","Resource Type","I"]
[{"$nulls":3},"Mobile Kitchen Unit","Resource Type","I-III"]
[{"$nulls":3},"Shower Unit","Resource Type","I-IV"]
[{"$nulls":3},"Temporary Child Care Support Services Team","Resource Type","I-III"]
[{"$nulls":3},"Temporary Child Care Support Services Team Leader","Position Qualification","I-II"]
[{"$nulls":3},"Shelter Function Leader","Position Qualification","I"]
[{"$nulls":3},"Shelter Registration Leader","Position Qualification","I"]
[{"$nulls":3},"Shelter Dormitory Leader","Position Qualification","I"]
[{"$nulls":3},"Medical and Public Health"]
[{"$nulls":3},"2013 Name","2013 Position/Resource","2013 Types","2014 Name","2014 Position/Resource","2014 Types","Type List Group Name"]
[{"$nulls":6},"-----Resource Types-----"]
[{"$nulls":3},"Ancillary Support Team (Laboratory, Pharmacy, or Radiology  Services)","Resource Type","I-II","Ancillary Support Team (Laboratory, Pharmacy, or Radiology Services)","Resource Type","I-II","TypeItoII"]
[{"$nulls":3},"Emergency/Critical Care Team","Resource Type","I-II","Emergency/Critical Care Team","Resource Type","I-II","TypeItoII"]
[{"$nulls":3},"Public Health: Environmental Health","Resource Type","I-II","Environmental Health","Resource Type","I-II","TypeItoII"]
[{"$nulls":3},"Public Health: Epidemiology (Surveillance and Investigation)","Resource Type","I-III","Epidemiology (Surveillance and Investigation)","Resource Type","I-II","TypeItoII","III"]
[{"$nulls":3},"Public Health: Isolation and Quarantine","Resource Type","I-II","Isolation and Quarantine","Resource Type","I-II","TypeItoII"]
[{"$nulls":3},"Public Health: Mass Dispensing Consultant Team","Resource Type","I-II","Mass Dispensing Consultant Team","Resource Type","I-II","TypeItoII"]
[{"$nulls":3},"Medical/Public Health System Assessment Team","Resource Type","I","Medical/Public Health System Assessment Team","Resource Type","I","TypeI"]
[{"$nulls":3},"Mobile Field Medical Team","Resource Type","I-II","Mobile Field Medical Team","Resource Type","I-II","TypeItoII"]
[{"$nulls":3},"Palliative Care/Hospice Team","Resource Type","I-II","Palliative Care/Hospice Team","Resource Type","I-II","TypeItoII"]
[{"$nulls":3},"Public Health and Medical Team in a Shelter","Resource Type","I","Public Health and Medical Team in a Shelter","Resource Type","I","TypeI"]
[{"$nulls":3},"Public Health: Receiving, Staging, and Storing (RSS) Task Force","Resource Type","I","Receiving, Staging, and Storing (RSS) Task Force","Resource Type","I","TypeI"]
[{"$nulls":3},"Specialty Services Team","Resource Type","I-II","Specialty Services Team","Resource Type","I-II","TypeItoII"]
[{"$nulls":6},"-----Position Qualifications-----"]
[{"$nulls":3},"Advanced Practice Registered Nurse ","Position Qualification","I","Advanced Practice Registered Nurse","Position Qualification","I","TypeI"]
[{"$nulls":3},"Assessment Team Leader ","Position Qualification","I","Assessment Team Leader","Position Qualification","I","TypeI"]
[{"$nulls":3},"Behavioral Health Specialist, Licensed ","Position Qualification","I","Behavioral Health Specialist, Licensed","Position Qualification","I","TypeI"]
[{"$nulls":3},"Behavioral Health Specialist, Unlicensed ","Position Qualification","I","Behavioral Health Specialist, Unlicensed","Position Qualification","I","TypeI"]
[{"$nulls":3},"Dental Assistant/Hygienist ","Position Qualification","I","Dental Assistant/Hygienist","Position Qualification","I","TypeI"]
[{"$nulls":3},"Dentist ","Position Qualification","I","Dentist","Position Qualification","I","TypeI"]
[{"$nulls":3},"Dialysis Technician ","Position Qualification","I","Dialysis Technician","Position Qualification","I","TypeI"]
[{"$nulls":3},"Dietician/Nutritionist ","Position Qualification","I","Dietician/Nutritionist","Position Qualification","I","TypeI"]
[{"$nulls":3},"Environmental Health Generalist ","Position Qualification","I","Environmental Health Generalist","Position Qualification","I","TypeI"]
[{"$nulls":3},"Environmental Health Specialist ","Position Qualification","I","Environmental Health Specialist","Position Qualification","I","TypeI"]
[{"$nulls":3},"Environmental Health Team Leader ","Position Qualification","I","Environmental Health Team Leader","Position Qualification","I","TypeI"]
[{"$nulls":3},"Epidemiologist ","Position Qualification","I","Epidemiologist","Position Qualification","I","TypeI"]
[{"$nulls":3},"Epidemiology Interviewer ","Position Qualification","I","Epidemiology Interviewer","Position Qualification","I","TypeI"]
[{"$nulls":3},"Epidemiology Team Leader ","Position Qualification","I","Epidemiology Team Leader","Position Qualification","I","TypeI"]
[{"$nulls":3},"Laboratory Technologist/Technician ","Position Qualification","I","Laboratory Technologist/Technician","Position Qualification","I","TypeI"]
[{"$nulls":3},"Mass Dispensing Team Leader ","Position Qualification","I","Mass Dispensing Team Leader","Position Qualification","I","TypeI"]
[{"$nulls":3},"Mass Dispensing, Consultant ","Position Qualification","I","Mass Dispensing, Consultant","Position Qualification","I","TypeI"]
[{"$nulls":3},"Mass Dispensing, Dispenser ","Position Qualification","I","Mass Dispensing, Dispenser","Position Qualification","I","TypeI"]
[{"$nulls":3},"Mass Dispensing, Operations Team Consultant ","Position Qualification","I","Mass Dispensing, Operations Team Consultant","Position Qualification","I","TypeI"]
[{"$nulls":3},"Mass Dispensing, Patient Intake/Line Flow Consultant ","Position Qualification","I","Mass Dispensing, Patient Intake/ Line Flow Consultant","Position Qualification","I","TypeI"]
[{"$nulls":3},"Mass Dispensing, Public Information Consultant ","Position Qualification","I","Mass Dispensing, Public Information Consultant","Position Qualification","I","TypeI"]
[{"$nulls":3},"Mass Dispensing, Vaccinator ","Position Qualification","I","Mass Dispensing, Vaccinator","Position Qualification","I","TypeI"]
[{"$nulls":3},"Medical Unit Team Leader ","Position Qualification","I","Medical Unit Team Leader","Position Qualification","I","TypeI"]
[{"$nulls":3},"Patient Care Technician ","Position Qualification","I","Patient Care Technician","Position Qualification","I","TypeI"]
[{"$nulls":3},"Pharmacist ","Position Qualification","I","Pharmacist","Position Qualification","I","TypeI"]
[{"$nulls":3},"Pharmacy Technician ","Position Qualification","I","Pharmacy Technician","Position Qualification","I","TypeI"]
[{"$nulls":3},"Phlebotomist ","Position Qualification","I","Phlebotomist","Position Qualification","I","TypeI"]
[{"$nulls":3},"Physician ","Position Qualification","I","Physician","Position Qualification","I","TypeI"]
[{"$nulls":3},"Physician Assistant ","Position Qualification","I","Physician Assistant","Position Qualification","I","TypeI"]
[{"$nulls":3},"Public Health and Medical Support Team Leader in a Shelter","Position Qualification","I","Public Health and Medical Support Team Leader in a Shelter","Position Qualification","I","TypeI"]
[{"$nulls":3},"Public Health Data Entry Staff ","Position Qualification","I","Public Health Data Entry Staff","Position Qualification","I","TypeI"]
[{"$nulls":3},"Public Health Disaster Assessor ","Position Qualification","I","Public Health Disaster Assessor","Position Qualification","I","TypeI"]
[{"$nulls":3},"Public Health Information Technology Specialist ","Position Qualification","I","Public Health Information Technology Specialist","Position Qualification","I","TypeI"]
[{"$nulls":3},"Radiologic Technician ","Position Qualification","I","Radiologic Technician","Position Qualification","I","TypeI"]
[{"$nulls":3},"RSS Task Force Leader ","Position Qualification","I","Receiving Staging & Storage (RSS) Task Force Leader","Position Qualification","I","TypeI"]
[{"$nulls":3},"RSS Logistics Team Lead ","Position Qualification","I","Receiving Staging & Storage (RSS), Logistics Team Lead","Position Qualification","I","TypeI"]
[{"$nulls":3},"RSS Operations Team Lead ","Position Qualification","I","Receiving Staging & Storage (RSS), Operations Team Leader","Position Qualification","I","TypeI"]
[{"$nulls":3},"RSS Tactical Communications Leader ","Position Qualification","I","Receiving Staging & Storage (RSS), Tactical Communications Leader","Position Qualification","I","TypeI"]
[{"$nulls":3},"RSS Distribution Leader ","Position Qualification","I","Receiving, Staging & Storage (RSS), Distribution Leader","Position Qualification","I","TypeI"]
[{"$nulls":3},"RSS Finance and Administrative Team Lead ","Position Qualification","I","Receiving, Staging & Storage (RSS), Finance and Administrative Team Lead","Position Qualification","I","TypeI"]
[{"$nulls":3},"Registered Nurse ","Position Qualification","I","Registered Nurse","Position Qualification","I","TypeI"]
[{"$nulls":3},"Respiratory Therapist ","Position Qualification","I","Respiratory Therapist","Position Qualification","I","TypeI"]
[{"$nulls":3},"Social Worker ","Position Qualification","I","Social Worker","Position Qualification","I","TypeI"]
[{"$nulls":3},"Surgical Technician ","Position Qualification","I","Surgical Technician/Technologist","Position Qualification","I","TypeI"]
[{"$nulls":3},"Public Works"]
[{"$nulls":3},"2013 Name","2013 Position/Resource","2013 Types","2014 Name","2014 Position/Resource","2014 Types","Type List Group Name"]
[{"$nulls":6},"-----Resource Types-----"]
[{"$nulls":3},"Aerial Lift - Articulating Boom","Resource Type","I-IV","Aerial Lift - Articulating Boom","Resource Type","I-IV","TypeItoIV"]
[{"$nulls":3},"Aerial Lift - Telescopic Boom","Resource Type","I-IV","Aerial Lift – Telescopic Boom","Resource Type","I-IV","TypeItoIV"]
[{"$nulls":3},"Aerial Lift - Truck Mounted","Resource Type","I-IV","Aerial Lift - Truck Mounted","Resource Type","I-IV","TypeItoIV"]
[{"$nulls":3},"Aerial Lift, Self Propelled, Scissor, Rough Terrain","Resource Type","I-IV","Aerial Lift, Self Propelled, Scissor, Rough Terrain","Resource Type","I-IV","TypeItoIV"]
[{"$nulls":3},"Air Compressor","Resource Type","I-IV","Air Compressor","Resource Type","I-IV","TypeItoIV"]
[{"$nulls":3},"Air Conditioner/Heater","Resource Type","I-IV","Air Conditioner/ Heater","Resource Type","I-IV","TypeItoIV"]
[{"$nulls":3},"Air Curtain Burners (Fire Box-Above Ground, Refractory Walled)","Resource Type","I-VI","Air Curtain Burners (Fire Box-Above Ground, Refractory Walled)","Resource Type","I-VI","TypeItoVI"]
[{"$nulls":3},"Air Curtain Burners (Trench Burner, In-Ground)","Resource Type","I-III","Air Curtain Burners (Trench Burner, In-Ground)","Resource Type","I-III","TypeItoIII"]
[{"$nulls":3},"Buses","Resource Type","I-IV","Buses","Resource Type","I-IV","TypeItoIV"]
[{"$nulls":3},"Chillers & Air Handlers (500 Ton to 50 Ton)","Resource Type","I-V","Chillers & Air Handlers (500 Ton to 50 Ton)","Resource Type","I-V","TypeItoV"]
[{"$nulls":3},"Concrete Cutter/Multi-Procesor for Hydraulic Excavator","Resource Type","I-IV","Concrete Cutter/Multi-Processor for Hydraulic Excavator","Resource Type","I-IV","TypeItoIV"]
[{"$nulls":3},"Cranes, All Terain & Rough Terrain","Resource Type","I-IV","Cranes, All Terrain & Rough Terrain","Resource Type","I-IV","TypeItoIV"]
[{"$nulls":3},"Cranes, Crawler (Lattice)","Resource Type","I-III","Cranes, Crawler (Lattice)","Resource Type","I-III","TypeItoIII"]
[{"$nulls":3},"Damage Assessment and Repair Team – Sewer Mains","Resource Type","I","Damage Assessment and Repair Team - Sewer Mains","Resource Type","I","TypeI"]
[{"$nulls":3},"Damage Assessment and Repair Team – Water Pump Facilities","Resource Type","I","Damage Assessment and Repair Team - Water Pump Facilities","Resource Type","I","TypeI"]
[{"$nulls":3},"Damage Assessment, Repair and Start-Up Team – Wastewater Lift and Pump Station","Resource Type","I-II","Damage Assessment, Repair and Start-Up Team - Wastewater Lift and Pump Station","Resource Type","I-II","TypeItoII"]
[{"$nulls":3},"Damage Assessment, Repair and Start-Up Team - Wastewater Treatment Facilities","Resource Type","I","Damage Assessment, Repair and Start-Up Team - Wastewater Treatment Facilities","Resource Type","I","TypeI"]
[{"$nulls":3},"Electronic Boards, Arrow Boards","Resource Type","I-IV","Electronic Boards, Arrow Boards","Resource Type","I, III-IV","TypenoIItoIV","II"]
[{"$nulls":3},"Electronic Boards, Variable Message Signs (VMS)","Resource Type","I-IV","Electronic Boards, Variable Message Signs (VMS)","Resource Type","I, III-IV","TypenoIItoIV","II"]
[{"$nulls":3},"Emergency Management Support Team – Water/Wastewater","Resource Type","I","Emergency Management Support Team - Water/Wastewater","Resource Type","I","TypeI"]
[{"$nulls":3},"Floodlights","Resource Type","I-III","Floodlights","Resource Type","I-III","TypeItoIII"]
[{"$nulls":3},"Generators","Resource Type","I-V","Generators","Resource Type","I-V","TypeItoV"]
[{"$nulls":3},"Grader","Resource Type","I-III","Grader","Resource Type","I-III","TypeItoIII"]
[{"$nulls":3},"Hydraulic Excavator (Compact - Short Radius 1.75cy to 0.62cy buckets)","Resource Type","I-IV","Hydraulic Excavator (Compact - Short Radius 1.75 cy to 0.62 cy Buckets)","Resource Type","I-IV","TypeItoIV"]
[{"$nulls":3},"Hydraulic Excavator (Large Mass Excavation 13cy to 3cy buckets)","Resource Type","I-IV","Hydraulic Excavator (Large Mass Excavation 13 cy to 3 cy buckets)","Resource Type","I-IV","TypeItoIV"]
[{"$nulls":3},"Hydraulic Excavator (Medium Mass Excavation 4cy to 1.75cy buckets)","Resource Type","I-IV","Hydraulic Excavator (Medium Mass Excavation 4 cy to 1.75 cy buckets)","Resource Type","I-IV","TypeItoIV"]
[{"$nulls":3},"Hydraulic Excavator Truck Mounted","Resource Type","I-II","Hydraulic Excavator Truck Mounted","Resource Type","I-II","TypeItoII"]
[{"$nulls":3},"Maintenance and Repair Team – Light Equipment Public Works","Resource Type","I","Maintenance and Repair Team - Light Equipment Public Works","Resource Type","I","TypeI"]
[{"$nulls":3},"Road Sweeper","Resource Type","I-IV","Road Sweeper","Resource Type","I-IV","TypeItoIV"]
[{"$nulls":3},"Scraper, Earth Moving","Resource Type","I-III","Scraper, Earth Moving","Resource Type","I-III","TypeItoIII"]
[{"$nulls":3},"Snow Blower (Chassis Mounted)","Resource Type","I-III","Snow Blower (Chassis Mounted)","Resource Type","I-III","TypeItoIII"]
[{"$nulls":3},"Snow Blower (Loader Mounted)","Resource Type","I-IV","Snow Blower (Loader Mounted)","Resource Type","I-IV","TypeItoIV"]
[{"$nulls":3},"Snow Cat","Resource Type","I-IV","Snow Cat","Resource Type","I-IV","TypeItoIV"]
[{"$nulls":3},"Track Dozer","Resource Type","I-IV","Track Dozer","Resource Type","I-V","TypeItoV"]
[{"$nulls":3},"Track Loader","Resource Type","I-IV","Track Loader","Resource Type","I-IV","TypeItoIV"]
[{"$nulls":3},"Trailer, Dump (one type/example only)","Resource Type","I","Trailer, Dump (one type/example only)","Resource Type","I","TypeI"]
[{"$nulls":3},"Trailer, Equipment Tag-Trailer","Resource Type","I-III","Trailer, Equipment Tag-Trailer","Resource Type","I-III","TypeItoIII"]
[{"$nulls":3},"Trailer, Flat Bed Truck (two types/example only)","Resource Type","I-II","Trailer, Flat Bed Truck (Two Types/Example Only)","Resource Type","I-II","TypeItoII"]
[{"$nulls":3},"Trailer, Gooseneck Trailer","Resource Type","I-III","Trailer, Gooseneck Tractor","Resource Type","I-III","TypeItoIII"]
[{"$nulls":3},"Trailer, Small Equipment","Resource Type","I-II","Trailer, Small Equipment","Resource Type","I-II","TypeItoII"]
[{"$nulls":3},"Truck, Off-Road Dump","Resource Type","I-IV","Truck, Off-Road Dump","Resource Type","I-IV","TypeItoIV"]
[{"$nulls":3},"Truck, On-Road Dump","Resource Type","I-IV","Truck, On-Road Dump","Resource Type","I-IV","TypeItoIV"]
[{"$nulls":3},"Truck, Plow","Resource Type","I-IV","Truck, Plow","Resource Type","I-IV","TypeItoIV"]
[{"$nulls":3},"Truck, Sewer Flusher","Resource Type","I-IV","Truck, Sewer Flusher","Resource Type","I-IV","TypeItoIV"]
[{"$nulls":3},"Truck, Tractor Trailer","Resource Type","I-III","Truck, Tractor Trailer","Resource Type","I-III","TypeItoIII"]
[{"$nulls":3},"Tug Boat (general)","Resource Type","I-III","Tug Boat (General)","Resource Type","I-III","TypeItoIII"]
[{"$nulls":3},"Water Pumps, De-Watering","Resource Type","I-IV","Water Pumps, De-Watering","Resource Type","I-V","TypeItoV"]
[{"$nulls":3},"Water Pumps, Drinking Water Supply - Auxillary Pump","Resource Type","I-IV","Water Pumps, Drinking Water Supply- Auxiliary Pump","Resource Type","I-V","TypeItoV"]
[{"$nulls":3},"Water Pumps, Wastewater","Resource Type","I-IV","Water Pumps, Wastewater","Resource Type","I-V","TypeItoV"]
[{"$nulls":3},"Water Pumps, Water Distribution","Resource Type","I-IV","Water Pumps, Water Distribution","Resource Type","I-IV","TypeItoIV"]
[{"$nulls":3},"Water Truck (example only)","Resource Type","I","Water Truck (example only)","Resource Type","I","TypeI"]
[{"$nulls":3},"Wheel Dozer","Resource Type","I-II","Wheel Dozer","Resource Type","I-II","TypeItoII"]
[{"$nulls":3},"Wheel Loader Backhoe","Resource Type","I-IV","Wheel Loader Backhoe","Resource Type","I-IV","TypeItoIV"]
[{"$nulls":3},"Wheel Loaders (Large 41cy to 8cy)","Resource Type","I-IV","Wheel Loaders (Large 41 cy to 8 cy)","Resource Type","I-IV","TypeItoIV"]
[{"$nulls":3},"Wheel Loaders (Medium 7cy to 3cy)","Resource Type","I-IV","Wheel Loaders (Medium 7 cy to 3 cy)","Resource Type","I-IV","TypeItoIV"]
[{"$nulls":3},"Wheel Loaders (Small 7cy to 2cy)","Resource Type","I-III","Wheel Loaders (Small 7 cy to 2 cy)","Resource Type","I-III","TypeItoIII","IV"]
[{"$nulls":3},"Wheel Loaders, Skid Steer (Small)","Resource Type","I-III","Wheel Loaders, Skid Steer (Small)","Resource Type","I-III","TypeItoIII"]
[{"$nulls":3},"Wheel Loaders, Telescopic Handler","Resource Type","I-IV","Wheel Loaders, Telescopic Handler","Resource Type","I-IV","TypeItoIV"]
[{"$nulls":3},"Wood Chipper","Resource Type","I","Wood Chipper","Resource Type","I","TypeI"]
[{"$nulls":3},"Wood Tub Grinder","Resource Type","I-IV","Wood Tub Grinder","Resource Type","I-IV","TypeItoIV"]
[{"$nulls":6},"-----Position Qualifications-----"]
[{"$nulls":3},"Assistant Public Works Director - Logistics","Position Qualification","I","Assistant Public Works Director - Logistics","Position Qualification","I","TypeI"]
[{"$nulls":3},"Assistant Public Works Director - Operations","Position Qualification","I","Assistant Public Works Director - Operations","Position Qualification","I","TypeI"]
[{"$nulls":3},"Civil/Field Engineer","Position Qualification","I","Civil/Field Engineer","Position Qualification","I","TypeI"]
[{"$nulls":3},"Debris Collection Supervisor","Position Qualification","I","Debris Collection Supervisor","Position Qualification","I","TypeI"]
[{"$nulls":3},"Debris Removal Manager","Position Qualification","I","Debris Removal Manager","Position Qualification","I","TypeI"]
[{"$nulls":3},"Debris Site Supervisor","Position Qualification","I","Debris Site Supervisor","Position Qualification","I","TypeI"]
[{"$nulls":3},"Engineering Branch Manager","Position Qualification","I","Engineering Branch Manager","Position Qualification","I","TypeI"]
[{"$nulls":3},"Engineering Division Manager","Position Qualification","I","Engineering Division Manager","Position Qualification","I","TypeI"]
[{"$nulls":3},"Equipment Operator","Position Qualification","I","Equipment Operator","Position Qualification","I","TypeI"]
[{"$nulls":3},"Public Works Director","Position Qualification","I","Public Works Director","Position Qualification","I","TypeI"]
[{"$nulls":3},"Quality Assurance Personnel","Position Qualification","I","Quality Assurance Personnel","Position Qualification","I","TypeI"]
[{"$nulls":3},"Structural Engineer","Position Qualification","I","Structural Engineer","Position Qualification","I","TypeI"]
[{"$nulls":3},"Utility Systems Reconstruction Manager","Position Qualification","I","Utility Systems Reconstruction Manager","Position Qualification","I","TypeI"]
[{"$nulls":3},"Wastewater Collection Manager","Position Qualification","I","Wastewater Collection Manager","Position Qualification","I","TypeI"]
[{"$nulls":3},"Wastewater System Manager","Position Qualification","I","Wastewater System Manager","Position Qualification","I","TypeI"]
[{"$nulls":3},"Wastewater Treatment Manager","Position Qualification","I","Wastewater Treatment Manager","Position Qualification","I","TypeI"]
[{"$nulls":6},"Water Distribution Manager","Position Qualification","I","TypeI"]
[{"$nulls":6},"Water System Manager","Position Qualification","I","TypeI"]
[{"$nulls":6},"Water Treatment Manager","Position Qualification","I","TypeI"]
[{"$nulls":3},"Damage Assessment Team - Debris","Resource Type","I"]
[{"$nulls":3},"Damage Assessment, Repair and Start-Up Team - Water Production Facilities","Resource Type","I"]
[{"$nulls":3},"Disaster Management Recovery Team – Public Works","Resource Type","I"]
[{"$nulls":3},"Maintenance and Repair Team - Heavy Equipment","Resource Type","I"]
[{"$nulls":3},"Public Works Emergency Management Support Team","Resource Type","I"]
[{"$nulls":3},"Repair and Restoration Team – SCADA","Resource Type","I"]
[{"$nulls":3},"Repair Restoration Team – Communications","Resource Type","I"]
[{"$nulls":3},"Tire Repair Team","Resource Type","I"]
[{"$nulls":3},"Structure Condition Evaluator","Position Qualification","I-II"]
[{"$nulls":3},"Search and Rescue"]
[{"$nulls":3},"2013 Name","2013 Position/Resource","2013 Types","2014 Name","2014 Position/Resource","2014 Types","Type List Group Name"]
[{"$nulls":6},"-----Resource Types-----"]
[{"$nulls":3},"Air Search Team (Fixed-Wing)","Resource Type","I-IV","Air Search Team (Fixed-Wing)","Resource Type","I-IV","TypeItoIV"]
[{"$nulls":3},"Airborne Reconnaissance (Fixed-Wing)","Resource Type","I-IV","Airborne Reconnaissance (Fixed Wing)","Resource Type","I-IV","TypeItoIV"]
[{"$nulls":3},"Canine SAR Team - Avalanche Snow Air Scent","Resource Type","I-II","Canine Search and Rescue Team - Avalanche Snow Air Scent","Resource Type","I-II","TypeItoII"]
[{"$nulls":3},"Canine SAR Team - Disaster Response","Resource Type","I-IV","Canine Search and Rescue Team - Disaster Response","Resource Type","I-IV","TypeItoIV"]
[{"$nulls":3},"Canine SAR Team - Land Cadaver Air Scent","Resource Type","I-IV","Canine Search and Rescue Team - Land Cadaver Air Scent","Resource Type","I-V","TypeItoV"]
[{"$nulls":3},"Canine SAR Team - Water Air Scent","Resource Type","I-IV","Canine Search and Rescue Team - Water Air Scent","Resource Type","I-VII","TypeItoVII"]
[{"$nulls":3},"Canine SAR Team - Wilderness Air Scent","Resource Type","I-IV","Canine Search and Rescue Team - Wilderness Air Scent","Resource Type","I-V","TypeItoV"]
[{"$nulls":3},"Canine SAR Team -  Wilderness Tracking/Trailing","Resource Type","I-IV","Canine Search and Rescue Team - Wilderness Tracking/Trailing","Resource Type","I-V","TypeItoV"]
[{"$nulls":3},"Cave SAR Team","Resource Type","I-IV","Cave Search and Rescue Team","Resource Type","I-IV","TypeItoIV"]
[{"$nulls":3},"Collapse SAR Team","Resource Type","I-IV","Collapse Search and Rescue Teams","Resource Type","I-IV","TypeItoIV"]
[{"$nulls":3},"Mine and Tunnel SAR Team","Resource Type","I-II","Mine and Tunnel Search and Rescue Team","Resource Type","I-II","TypeItoII"]
[{"$nulls":3},"Mountain SAR Team","Resource Type","I-IV","Mountain Search and Rescue Team","Resource Type","I-IV","TypeItoIV"]
[{"$nulls":3},"Radio Direction Finding Team","Resource Type","I-III","Radio Direction Finding Team","Resource Type","I-III","TypeItoIII"]
[{"$nulls":6},"Structural Collapse Rescue Team","Resource Type","I-III","TypeItoIII","new in 2015"]
[{"$nulls":6},"Structural Collapse Search Team","Resource Type","I-III","TypeItoIII","new in 2015"]
[{"$nulls":3},"Swiftwater/Flood SAR Team","Resource Type","I-IV","Swiftwater/Flood Search and Rescue Team","Resource Type","I-IV","TypeItoIV"]
[{"$nulls":3},"US&R Incident Support Team","Resource Type","I-II","US&R Incident Support Team","Resource Type","I-II","TypeItoII"]
[{"$nulls":3},"US&R Task Forces","Resource Type","I-II","US&R Task Force","Resource Type","I-IV","TypeItoIV","added type III and IV"]
[{"$nulls":3},"Wilderness SAR Team","Resource Type","I-IV","Wilderness Search and Rescue Team","Resource Type","I-IV","TypeItoIV"]
[{"$nulls":6},"-----Position Qualifications-----"]
[{"$nulls":3},"Disaster Collapsed Structure Canine Search Manager","Position Qualification","I","Disaster Collapsed Structure Canine Search Manager","Position Qualification","I","TypeI"]
[{"$nulls":3},"Disaster Collapsed Structure Canine Search Technical Specialist (Advisor)","Position Qualification","I","Disaster Collapsed Structure Canine Search Technical Specialist (Advisor)","Position Qualification","I","TypeI"]
[{"$nulls":3},"Disaster Collapsed Structure Canine Search Technician","Position Qualification","I","Disaster Collapsed Structure Canine Search Technician","Position Qualification","I","TypeI"]
[{"$nulls":3},"Emergency Services Technical SAR Manager","Position Qualification","I","Emergency Services Rescue Manager","Position Qualification","I","TypeI"]
[{"$nulls":3},"Emergency Services Technical SAR Technician","Position Qualification","I","Emergency Services Rescue Technician","Position Qualification","I","TypeI"]
[{"$nulls":3},"Helicopter Search and Rescue Crew Chief","Position Qualification","I","Helicopter Search and/or Rescue Crew Chief","Position Qualification","I","TypeI"]
[{"$nulls":3},"Helicopter Search and Rescue Pilot","Position Qualification","I","Helicopter Search and/or Rescue Pilot","Position Qualification","I","TypeI"]
[{"$nulls":3},"Helicopter Search and Rescue Technician","Position Qualification","I","Helicopter Search and/or Rescue Technician","Position Qualification","I","TypeI"]
[{"$nulls":3},"Human Remains Canine Search Manager","Position Qualification","I","Human Remains Canine Search Manager","Position Qualification","I","TypeI"]
[{"$nulls":3},"Human Remains Canine Search Technical Specialist (Advisor)","Position Qualification","I","Human Remains Canine Search Technical Specialist (Advisor)","Position Qualification","I","TypeI"]
[{"$nulls":3},"Human Remains Canine Search Technician","Position Qualification","I","Human Remains Canine Search Technician","Position Qualification","I","TypeI"]
[{"$nulls":3},"Logistics Search and/or Rescue Technician (Disaster, Mountain, Stillwater, Swiftwater, Wilderness, Urban, et al)","Position Qualification","I","Logistics Search and/or Rescue Technician","Position Qualification","I","TypeI"]
[{"$nulls":3},"Medical Search and/or Rescue Technician (Disaster, Mountain, Stillwater, Swiftwater, Wilderness, Urban, et al)","Position Qualification","I","Medical Search and/or Rescue Technician","Position Qualification","I","TypeI"]
[{"$nulls":3},"Mountain Search and/or Rescue Manager","Position Qualification","I","Mountain Search and/or Rescue Manager","Position Qualification","I","TypeI"]
[{"$nulls":3},"Mountain Search and/or Rescue Technical Specialist (Advisor)","Position Qualification","I","Mountain Search and/or Rescue Technical Specialist (Advisor)","Position Qualification","I","TypeI"]
[{"$nulls":3},"Mountain Search and/or Rescue Technician","Position Qualification","I","Mountain Search and/or Rescue Technician","Position Qualification","I","TypeI"]
[{"$nulls":3},"Mountain Search and/or Rescue Unit Leader","Position Qualification","I","Mountain Search and/or Rescue Unit Leader","Position Qualification","I","TypeI"]
[null,null,"deleted in 2015","Structural Collapse Rescue Manager","Position Qualification","I","Structural Collapse Rescue Team Leader","Position Qualification","I","TypeI","new in 2015"]
[{"$nulls":3},"Structural Collapse Rescue Technician","Position Qualification","I","Structural Collapse Rescue Technician","Position Qualification","I-II","TypeItoII","added type II"]
[null,null,"deleted in 2015","Structural Collapse Search Manager","Position Qualification","I","Structural Collapse Search Team Leader","Position Qualification","I","TypeI","new in 2016"]
[{"$nulls":3},"Structural Collapse Search Technician","Position Qualification","I","Structural Collapse Search Technician","Position Qualification","I-II","TypeItoII","added type II"]
[{"$nulls":3},"Swiftwater/Flood Rescue Manager","Position Qualification","I","Swiftwater/Flood Rescue Manager","Position Qualification","I","TypeI"]
[{"$nulls":3},"Swiftwater/Flood Rescue Technical Specialist (Advisor)","Position Qualification","I","Swiftwater/Flood Rescue Technical Specialist (Advisor)","Position Qualification","I","TypeI"]
[{"$nulls":3},"Swiftwater/Flood Rescue Technician","Position Qualification","I","Swiftwater/Flood Rescue Technician","Position Qualification","I","TypeI"]
[{"$nulls":3},"Swiftwater/Flood Rescue Technician- Boat Bowman","Position Qualification","I","Swiftwater/Flood Rescue Technician - Boat Bowman","Position Qualification","I","TypeI"]
[{"$nulls":3},"Swiftwater/Flood Rescue Technician- Boat Operator","Position Qualification","I","Swiftwater/Flood Rescue Technician - Boat Operator","Position Qualification","I","TypeI"]
[{"$nulls":3},"Swiftwater/Flood Rescue Unit Leader","Position Qualification","I","Swiftwater/Flood Rescue Unit Leader","Position Qualification","I","TypeI"]
[{"$nulls":3},"Swiftwater/Flood Rescue Technician- Animal Rescue","Position Qualification","I","Swiftwater/Flood Technician - Animal Rescue","Position Qualification","I","TypeI"]
[{"$nulls":6},"Urban Search and Rescue (US&R) Task Force Leader","Position Qualification","I-II","TypeItoII","new in 2015"]
[{"$nulls":3},"Water Canine Search Manager","Position Qualification","I","Water Canine Search Manager","Position Qualification","I","TypeI"]
[{"$nulls":3},"Water Canine Search Technician","Position Qualification","I","Water Canine Search Technician","Position Qualification","I","TypeI"]
[{"$nulls":3},"Wilderness Air Scent Canine Search Manager","Position Qualification","I","Wilderness Air Scent Canine Search Manager","Position Qualification","I","TypeI"]
[{"$nulls":3},"Wilderness Air Scent Canine Search Technician","Position Qualification","I","Wilderness Air Scent Canine Search Technician","Position Qualification","I","TypeI"]
[{"$nulls":3},"Wilderness Search and/or Rescue Manager","Position Qualification","I","Wilderness Search and/or Rescue Manager","Position Qualification","I","TypeI"]
[{"$nulls":3},"Wilderness Search and/or Rescue Technical Specialist (Advisor)","Position Qualification","I","Wilderness Search and/or Rescue Technical Specialist (Advisor)","Position Qualification","I","TypeI"]
[{"$nulls":3},"Wilderness Search and/or Rescue Technician","Position Qualification","I","Wilderness Search and/or Rescue Technician","Position Qualification","I","TypeI"]
[{"$nulls":3},"Wilderness Search and/or Rescue Unit Leader","Position Qualification","I","Wilderness Search and/or Rescue Unit Leader","Position Qualification","I","TypeI"]
[{"$nulls":3},"Helicopter Search and/or Rescue Crew Chief (Disaster, Mountain, Stillwater, Swiftwater, Wilderness, Urban, et al)","Position Qualification","I","Helicopter Search and/or Rescue Crew Chief","Position Qualification","I","TypeI"]
[{"$nulls":3},"Helicopter Search and/or Rescue Pilot (Disaster, Mountain, Stillwater, Swiftwater, Wilderness, Urban, et al)","Position Qualification","I","Helicopter Search and/or Rescue Pilot","Position Qualification","I","TypeI"]
[{"$nulls":3},"Helicopter Search and/or Rescue Technician (Disaster, Mountain, Stillwater, Swiftwater, Wilderness, Urban, et al)","Position Qualification","I","Helicopter Search and/or Rescue Technician","Position Qualification","I","TypeI"]
[{"$nulls":3},"Search and Rescue Branch Director","Position Qualification","I"]
[{"$nulls":3},"Structural Collapse Rescue Squad Officer","Position Qualification","I"]
[{"$nulls":3},"Structural Collapse Search Squad Officer","Position Qualification","I"]
[{"$nulls":3},"Technical Rescue Squad Officer","Position Qualification","I"]
[{"$nulls":3},"Technical Rescue Squad Technician","Position Qualification","I"]
[{"$nulls":3},"Geospatial Information Systems"]
[{"$nulls":3},"2013 Name","2013 Position/Resource","2013 Types","2014 Name","2014 Position/Resource","2014 Types","Type List Group Name"]
[{"$nulls":3},"GIS Analyst","Position Qualification","I-II"]
[{"$nulls":3},"GIS Supervisor","Position Qualification","I"]
[{"$nulls":3},"GIS Team Leader","Position Qualification","I"]
[{"$nulls":3},"GIS Field Data Entry Technician","Position Qualification","I"]