{"text_format":"3","workbook":"xlsx","n_sheets":4,"sheets":["totals","301","301a","301b"],"not_rendered":{"macros":1,"defined_names":1},"read":"whole","date_system":"1900"}

{"sheet":"totals","index":0,"n_rows":38,"n_cols":17,"rows_kept":38,"merged":[[2,0,10,7],[2,8,3,12],[2,13,3,14],[4,8,10,12],[4,13,6,14],[5,15,6,16],[9,13,10,14],[11,0,12,5],[11,7,12,14],[13,7,14,11],[13,12,14,14],[17,1,17,5],[20,1,20,5],[21,1,21,5],[22,1,22,5],[23,1,23,5],[24,1,24,5],[25,1,25,5],[26,1,26,5],[27,1,27,5],[28,1,28,5],[29,1,29,5],[30,1,30,5],[31,1,31,5],[32,1,32,5],[33,1,33,5],[34,1,34,5],[35,1,35,5],[36,1,36,5],[37,0,37,5]]}
[]
[]
["INSTRUCTIONS:  Use this form when a single information collection document involves multiple reporting and recordkeeping requirements.  The totals of the figures in cols. should be entered in item 13 of OMB-83-I:                  cols. (D) &/or (I) = 13a (respondent is only counted once); cols. F & I = 13b;         cols. H & K = 13c.                                                                                                                                                                                                                                                                                                       (F)Total/(D)Total = (E)Average     (H)Total/(F)Total = (G)Average     (K)Total/(I)Total = (J)Average\nNOTE:  The columns will calculate automatically.  If Col. E's response is something other than annually, i.e., 1/6 years, list as \"1/6\" & decimal will display.    \n",{"$nulls":7},"TITLE OF INFORMATION COLLECTION REQUEST",{"$nulls":4},"OMB NO."]
[]
[{"$nulls":8},"\nVolunteer Application and Agreement for Natural and Cultural Resource Agencies",{"$nulls":4},"0596-0080"]
[]
[]
[{"$nulls":13},"DATE PREPARED:"]
[]
[{"$nulls":13},"2018-02-08"]
[]
["IDENTIFICATION OF REPORTING OR RECORDKEEPING REQUIREMENT",{"$nulls":6},"ANNUAL BURDEN"]
[]
[{"$nulls":7},"REPORTS",{"$nulls":4},"RECORDS"]
[]
[{"$nulls":14},"TOTAL"]
[{"$nulls":6},"FORMS NO (S)","NO. OF","NO OF","TOTAL ANNUAL","HOURS","TOTAL ","NO. OF ","ANNUAL ","RECORD-","COST ","TOTAL"]
["SECTION OF","DESCRIPTION",{"$nulls":4},"(If \"none\"","RESPONDENTS","RESPONSES","RESPONSES","PER  ","HOURS","RECORD-","HOURS PER","KEEPING HOURS","PER","COST"]
["REGS.",{"$nulls":5},"so state)",null,"PER ","(Col. D x E)","RESPONSE","(Col. F x G)","KEEPERS","RECORD-","(Col. I x J)","HOUR"]
[{"$nulls":8},"RESPONDENT",{"$nulls":4},"KEEPER"]
["(A)","(B)",{"$nulls":4},"(C)","(D)","(E)","(F)","(G)","(H)","(I)","(J)","(K)","(L)","(M)"]
[null,"Volunteer Application for Natural Resource Agencies",{"$nulls":4},"OF-301",{"$f":"'301'!D10","v":{"v":104864,"d":"104,864"}},{"v":1,"d":"1.0000"},{"$f":"H22*I22","v":{"v":104864,"d":"104,864.00"}},{"$f":"'301'!G10","v":0.15},{"v":15730,"d":"15,730.00"},null,null,{"v":0,"d":"0.00"},null,{"$f":"SUM(L22+O22)*P22","v":{"v":0,"d":"$0.00"}}]
[null,"Agreement for Volunteer Services",{"$nulls":4},"OF-301a",{"$f":"'301a'!D11","v":{"v":305850,"d":"305,850"}},{"v":1,"d":"1.0000"},{"$f":"H23*I23","v":{"v":305850,"d":"305,850.00"}},{"$f":"'301a'!G11","v":{"v":0.1,"d":"0.10"}},{"v":30585,"d":"30,585.00"},null,null,{"$f":"SUM(M23*N23)","v":{"v":0,"d":"0.00"}},null,{"v":0,"d":"$0.00"}]
[null,"Volunteer Sign Up Form for Groups",{"$nulls":4},"OF-301b",{"$f":"'301b'!D10","v":{"v":105420,"d":"105,420"}},{"v":3,"d":"3.0000"},{"v":316260,"d":"316,260.00"},{"$f":"'301b'!G10","v":{"v":0.1,"d":"0.10"}},{"v":31626,"d":"31,626.00"},null,null,{"v":0,"d":"0.00"},null,{"v":0,"d":"$0.00"}]
[{"$nulls":9},{"$f":"SUM(H25*I25)","v":{"v":0,"d":"0.00"}},null,{"$f":"SUM(J25*K25)","v":{"v":0,"d":"0.00"}},null,null,{"v":0,"d":"0.00"},null,{"v":0,"d":"$0.00"}]
[{"$nulls":9},{"v":0,"d":"0.00"},null,{"v":0,"d":"0.00"},null,null,{"v":0,"d":"0.00"},null,{"v":0,"d":"$0.00"}]
[{"$nulls":9},{"$f":"SUM(H27*I27)","v":{"v":0,"d":"0.00"}},null,{"$f":"SUM(J27*K27)","v":{"v":0,"d":"0.00"}},null,null,{"$f":"SUM(M27*N27)","v":{"v":0,"d":"0.00"}},null,{"v":0,"d":"$0.00"}]
[{"$nulls":9},{"v":0,"d":"0.00"},null,{"v":0,"d":"0.00"},null,null,{"v":0,"d":"0.00"},null,{"v":0,"d":"$0.00"}]
[{"$nulls":9},{"v":0,"d":"0.00"},null,{"$f":"SUM(J29*K29)","v":{"v":0,"d":"0.00"}},null,null,{"v":0,"d":"0.00"},null,{"v":0,"d":"$0.00"}]
[{"$nulls":9},{"v":0,"d":"0.00"},null,{"v":0,"d":"0.00"},null,null,{"v":0,"d":"0.00"},null,{"v":0,"d":"$0.00"}]
[{"$nulls":9},{"v":0,"d":"0.00"},null,{"v":0,"d":"0.00"},null,null,{"v":0,"d":"0.00"},null,{"v":0,"d":"$0.00"}]
[{"$nulls":9},{"v":0,"d":"0.00"},null,{"v":0,"d":"0.00"},null,null,{"v":0,"d":"0.00"},null,{"v":0,"d":"$0.00"}]
[{"$nulls":9},{"$f":"SUM(H33*I33)","v":{"v":0,"d":"0.00"}},null,{"$f":"SUM(J33*K33)","v":{"v":0,"d":"0.00"}},null,null,{"$f":"SUM(M33*N33)","v":{"v":0,"d":"0.00"}},null,{"v":0,"d":"$0.00"}]
[{"$nulls":9},{"v":0,"d":"0.00"},null,{"v":0,"d":"0.00"},null,null,{"v":0,"d":"0.00"},null,{"v":0,"d":"$0.00"}]
[{"$nulls":9},{"v":0,"d":"0.00"},null,{"v":0,"d":"0.00"},null,null,{"v":0,"d":"0.00"},null,{"v":0,"d":"$0.00"}]
[null,"SUBTOTAL",{"$nulls":7},{"$f":"SUM(J22:J35)","v":{"v":726974,"d":"726,974.00"}},null,{"$f":"SUM(L22:L35)","v":{"v":77941,"d":"77,941.00"}},{"$f":"SUM(M22:M35)","v":{"v":0,"d":"0.00"}},null,{"$f":"SUM(O22:O35)","v":{"v":0,"d":"0.00"}},null,{"$f":"SUM(Q22:Q35)","v":{"v":0,"d":"$0.00"}}]
[null,"TOTAL OF ALL PAGES",{"$nulls":7},{"$f":"SUM(J36+J66+J95+J124+J153)","v":{"v":726974,"d":"726,974.00"}},null,{"$f":"SUM(L36+L66+L95+L124+L153)","v":{"v":77941,"d":"77,941.00"}},{"$f":"SUM(M36+M66+M95+M124+M153)","v":{"v":0,"d":"0.00"}},null,{"$f":"SUM(O36+O66+O95+O124+O153)","v":{"v":0,"d":"0.00"}},null,{"$f":"SUM(Q36+Q66+Q95+Q124+Q153)","v":{"v":0,"d":"$0.00"}}]
["TOTAL - COLUMNS \"F\" AND \"I\" = OMB 831, 13 b;                        COLUMNS \"H\" AND \"K\" = OMB 831, 13c",{"$nulls":8},{"$f":"SUM(J37+M37)","v":{"v":726974,"d":"726,974.00"}},null,{"$f":"SUM(L37+O37)","v":{"v":77941,"d":"77,941.00"}}]

{"sheet":"301","index":1,"n_rows":10,"n_cols":8,"rows_kept":10}
["Agency","Form","Form #","# of Respondents","# of Responses per Respondent","Total Annual Responses","Hours per Response","Total"]
["Department of the Interior; Bureau of Reclamation","Volunteer Application","OF-301",1103,1,1103,0.15,{"$f":"PRODUCT(F2:G2)","v":165.45}]
["NPS","Volunteer Application","OF-301",47051,1,47051,0.15,{"$f":"PRODUCT(F3:G3)","v":7057.65}]
["NOAA Office of National Marine Sanctuaries","Volunteer Application","OF-301",100,1,100,0.15,{"$f":"PRODUCT(F4:G4)","v":15}]
["USFS","Volunteer Application","OF-301",20000,1,20000,0.15,{"$f":"F5*G5+PRODUCT(F5:G5)","v":6000}]
["NRCS","Volunteer Application","OF-301",0,null,0,0.15,{"$f":"PRODUCT(F6:G6)","v":0}]
["USACE","Volunteer Application","OF-301",5410,1,5410,0.15,{"$f":"PRODUCT(F7:G7)","v":811.5}]
["FWS","Volunteer Application","OF-301",31200,1,{"$f":"D8*E8","v":31200},0.15,{"$f":"F8*G8+PRODUCT(F8:G8)","v":9360}]
["BIA","Volunteer Application","OF-301",0,null,0,null,0]
[{"$nulls":3},{"$f":"SUM(D2:D9)","v":104864},{"$f":"AVERAGE(E2:E8)","v":1},{"$f":"SUM(F2:F9)","v":104864},0.15,{"$f":"PRODUCT(F10:G10)","v":15729.599999999999}]

{"sheet":"301a","index":2,"n_rows":11,"n_cols":8,"rows_kept":11}
["Agency","Form","Form #","# of Respondents","# of Responses per Respondent","Total Annual Responses","Hours per Response","Total"]
["Department of the Interior; Bureau of Reclamation","Volunteer Agreement","OF-301a",1103,1,1103,0.1,{"$f":"PRODUCT(F2:G2)","v":110.30000000000001}]
["NPS","Volunteer Agreement","OF-301a",212200,1,212200,0.1,{"$f":"PRODUCT(F3:G3)","v":{"v":21220,"d":"21,220"}}]
["US Geological Survey (Formal Volunteers)","Volunteer Agreement","OF-301a",2000,1,2000,0.1,{"$f":"PRODUCT(F4:G4)","v":200}]
["NOAA Office of National Marine Sanctuaries","Volunteer Agreement","OF-301a",8500,1,8500,0.1,{"$f":"PRODUCT(F5:G5)","v":850}]
["USFS","Volunteer Agreement","OF-301a",45000,1,45000,0.1,{"$f":"PRODUCT(F6:G6)","v":4500}]
["NRCS","Volunteer Agreement","OF-301a",{"v":1987,"d":"1,987"},1,{"v":1987,"d":"1,987"},0.1,{"$f":"F7*G7+PRODUCT(F7:G7)","v":397.40000000000003}]
["USACE","Volunteer Agreement","OF-301a",15410,1,15410,0.1,{"$f":"PRODUCT(F8:G8)","v":1541}]
["FWS","Volunteer Agreement","OF-301a",19650,null,19650,0.1,{"$f":"PRODUCT(F9:G9)","v":1965}]
["BIA","Volunteer Agreement","OF-301a",0,null,0,null,0]
[{"$nulls":3},{"$f":"SUM(D2:D10)","v":305850},{"$f":"AVERAGE(E2:E8)","v":1},{"$f":"SUM(F2:F9)","v":305850},0.1,{"$f":"PRODUCT(F11:G11)","v":30585}]

{"sheet":"301b","index":3,"n_rows":10,"n_cols":8,"rows_kept":10}
["Agency","Form","Form #","# of Respondents","# of Responses per Respondent","Total Annual Responses","Hours per Response","Total Burden Hours"]
["Department of the Interior; Bureau of Reclamation","Volunteer Group Sign-up","OF-301b","Numbers not available – most completed applications for groups were included in the numbers above.",3]
["NPS","Volunteer Group Sign-up","OF-301b",6900,3,{"$f":"PRODUCT(D3:E3)","v":20700},0.1,{"$f":"PRODUCT(F3:G3)","v":2070}]
["NOAA Office of National Marine Sanctuaries","Volunteer Group Sign-up","OF-301b",2800,3,{"$f":"PRODUCT(D4:E4)","v":8400},0.1,{"$f":"PRODUCT(F4:G4)","v":840}]
["USFS","Volunteer Group Sign-up","OF-301b",75000,3,{"$f":"PRODUCT(D5:E5)","v":225000},0.1,{"$f":"PRODUCT(F5:G5)","v":22500}]
["NRCS","Volunteer Group Sign-up","OF-301b",70,3,{"$f":"PRODUCT(D6:E6)","v":210},0.1,{"$f":"PRODUCT(F6:G6)","v":21}]
["USACE","Volunteer Group Sign-up","OF-301b",1000,3,{"$f":"PRODUCT(D7:E7)","v":3000},0.1,{"$f":"PRODUCT(F7:G7)","v":300}]
["FWS","Volunteer Group Sign-up","OF-301b",19650,3,{"$f":"PRODUCT(D8:E8)","v":58950},0.1,{"$f":"PRODUCT(F8:G8)","v":5895}]
["BIA","Volunteer Group Sign-up","OF-301b",0,3,0,0.1,{"$f":"PRODUCT(F9:G9)","v":0}]
[{"$nulls":3},{"$f":"SUM(D2:D9)","v":105420},{"$f":"AVERAGE(E2:E9)","v":3},{"$f":"SUM(F2:F9)","v":316260},0.1,{"$f":"SUM(H2:H9)","v":31626}]