{"text_format":"3","workbook":"xlsx","n_sheets":7,"sheets":["January Restatement","February Restatement","March Restatement","April Restatement","May Template","Template Instructions","Reference Data"],"not_rendered":{"images":2,"macros":1,"external_links":7,"defined_names":19},"read":"whole","date_system":"1900"}

{"sheet":"January Restatement","index":0,"n_rows":301,"n_cols":16,"rows_kept":301}
[{"$nulls":5},"Enrollment and Payment Data Template"]
["Submission Date:",null,"Change in Enrollment from Prior January Submission? (Y/N)","Yes (populate this sheet with updated enrollment data)","Enrollment Month:","2014-01-01","Submission Status","Initial Submission"]
["State","9 Digit Issuer TIN","5 Digit HIOS Issuer ID","16 Digit QHP ID","Total Premium amount by QHP ID for effectuated enrollments","Total APTC amount by QHP ID for effectuated enrollments","Total CSR amount by QHP ID for effectuated enrollments","Total User Fee amount by QHP ID","Total # of effectuated enrollment groups by QHP ID","Total # of effectuated enrollment groups receiving APTC by QHP ID","Total # of effectuated enrollment groups receiving CSR by QHP ID","Total # of effectuated members by QHP ID","Total # of effectuated members receiving APTC by QHP ID","Total # of effectuated members receiving CSR by QHP ID",null,"Reasons for Validation Failures"]
[{"$nulls":7},{"$f":"ROUND(IF(OR(COUNTIF('Reference Data'!$G$1:$G$17,A4), COUNTIF('Reference Data'!$H$1:$H$100,D4)),0,E4*0.035),2)","v":0}]
[{"$nulls":7},{"$f":"ROUND(IF(OR(COUNTIF('Reference Data'!$G$1:$G$17,A5), COUNTIF('Reference Data'!$H$1:$H$100,D5)),0,E5*0.035),2)","v":0}]
[{"$nulls":7},{"$f":"ROUND(IF(OR(COUNTIF('Reference Data'!$G$1:$G$17,A6), COUNTIF('Reference Data'!$H$1:$H$100,D6)),0,E6*0.035),2)","v":0}]
[{"$nulls":7},{"$f":"ROUND(IF(OR(COUNTIF('Reference Data'!$G$1:$G$17,A7), COUNTIF('Reference Data'!$H$1:$H$100,D7)),0,E7*0.035),2)","v":0}]
[{"$nulls":7},{"$f":"ROUND(IF(OR(COUNTIF('Reference Data'!$G$1:$G$17,A8), COUNTIF('Reference Data'!$H$1:$H$100,D8)),0,E8*0.035),2)","v":0}]
[{"$nulls":7},{"$f":"ROUND(IF(OR(COUNTIF('Reference Data'!$G$1:$G$17,A9), COUNTIF('Reference Data'!$H$1:$H$100,D9)),0,E9*0.035),2)","v":0}]
[{"$nulls":7},{"$f":"ROUND(IF(OR(COUNTIF('Reference Data'!$G$1:$G$17,A10), COUNTIF('Reference Data'!$H$1:$H$100,D10)),0,E10*0.035),2)","v":0}]
[{"$nulls":7},{"$f":"ROUND(IF(OR(COUNTIF('Reference Data'!$G$1:$G$17,A11), COUNTIF('Reference Data'!$H$1:$H$100,D11)),0,E11*0.035),2)","v":0}]
[{"$nulls":7},{"$f":"ROUND(IF(OR(COUNTIF('Reference Data'!$G$1:$G$17,A12), COUNTIF('Reference Data'!$H$1:$H$100,D12)),0,E12*0.035),2)","v":0}]
[{"$nulls":7},{"$f":"ROUND(IF(OR(COUNTIF('Reference Data'!$G$1:$G$17,A13), COUNTIF('Reference Data'!$H$1:$H$100,D13)),0,E13*0.035),2)","v":0}]
[{"$nulls":7},{"$f":"ROUND(IF(OR(COUNTIF('Reference Data'!$G$1:$G$17,A14), COUNTIF('Reference Data'!$H$1:$H$100,D14)),0,E14*0.035),2)","v":0}]
[{"$nulls":7},{"$f":"ROUND(IF(OR(COUNTIF('Reference Data'!$G$1:$G$17,A15), COUNTIF('Reference Data'!$H$1:$H$100,D15)),0,E15*0.035),2)","v":0}]
[{"$nulls":7},{"$f":"ROUND(IF(OR(COUNTIF('Reference Data'!$G$1:$G$17,A16), COUNTIF('Reference Data'!$H$1:$H$100,D16)),0,E16*0.035),2)","v":0}]
[{"$nulls":7},{"$f":"ROUND(IF(OR(COUNTIF('Reference Data'!$G$1:$G$17,A17), COUNTIF('Reference Data'!$H$1:$H$100,D17)),0,E17*0.035),2)","v":0}]
[{"$nulls":7},{"$f":"ROUND(IF(OR(COUNTIF('Reference Data'!$G$1:$G$17,A18), COUNTIF('Reference Data'!$H$1:$H$100,D18)),0,E18*0.035),2)","v":0}]
[{"$nulls":7},{"$f":"ROUND(IF(OR(COUNTIF('Reference Data'!$G$1:$G$17,A19), COUNTIF('Reference Data'!$H$1:$H$100,D19)),0,E19*0.035),2)","v":0}]
[{"$nulls":7},{"$f":"ROUND(IF(OR(COUNTIF('Reference Data'!$G$1:$G$17,A20), COUNTIF('Reference Data'!$H$1:$H$100,D20)),0,E20*0.035),2)","v":0}]
[{"$nulls":7},{"$f":"ROUND(IF(OR(COUNTIF('Reference Data'!$G$1:$G$17,A21), COUNTIF('Reference Data'!$H$1:$H$100,D21)),0,E21*0.035),2)","v":0}]
[{"$nulls":7},{"$f":"ROUND(IF(OR(COUNTIF('Reference Data'!$G$1:$G$17,A22), COUNTIF('Reference Data'!$H$1:$H$100,D22)),0,E22*0.035),2)","v":0}]
[{"$nulls":7},{"$f":"ROUND(IF(OR(COUNTIF('Reference Data'!$G$1:$G$17,A23), COUNTIF('Reference Data'!$H$1:$H$100,D23)),0,E23*0.035),2)","v":0}]
[{"$nulls":7},{"$f":"ROUND(IF(OR(COUNTIF('Reference Data'!$G$1:$G$17,A24), COUNTIF('Reference Data'!$H$1:$H$100,D24)),0,E24*0.035),2)","v":0}]
[{"$nulls":7},{"$f":"ROUND(IF(OR(COUNTIF('Reference Data'!$G$1:$G$17,A25), COUNTIF('Reference Data'!$H$1:$H$100,D25)),0,E25*0.035),2)","v":0}]
[{"$nulls":7},{"$f":"ROUND(IF(OR(COUNTIF('Reference Data'!$G$1:$G$17,A26), COUNTIF('Reference Data'!$H$1:$H$100,D26)),0,E26*0.035),2)","v":0}]
[{"$nulls":7},{"$f":"ROUND(IF(OR(COUNTIF('Reference Data'!$G$1:$G$17,A27), COUNTIF('Reference Data'!$H$1:$H$100,D27)),0,E27*0.035),2)","v":0}]
[{"$nulls":7},{"$f":"ROUND(IF(OR(COUNTIF('Reference Data'!$G$1:$G$17,A28), COUNTIF('Reference Data'!$H$1:$H$100,D28)),0,E28*0.035),2)","v":0}]
[{"$nulls":7},{"$f":"ROUND(IF(OR(COUNTIF('Reference Data'!$G$1:$G$17,A29), COUNTIF('Reference Data'!$H$1:$H$100,D29)),0,E29*0.035),2)","v":0}]
[{"$nulls":7},{"$f":"ROUND(IF(OR(COUNTIF('Reference Data'!$G$1:$G$17,A30), COUNTIF('Reference Data'!$H$1:$H$100,D30)),0,E30*0.035),2)","v":0}]
[{"$nulls":7},{"$f":"ROUND(IF(OR(COUNTIF('Reference Data'!$G$1:$G$17,A31), COUNTIF('Reference Data'!$H$1:$H$100,D31)),0,E31*0.035),2)","v":0}]
[{"$nulls":7},{"$f":"ROUND(IF(OR(COUNTIF('Reference Data'!$G$1:$G$17,A32), COUNTIF('Reference Data'!$H$1:$H$100,D32)),0,E32*0.035),2)","v":0}]
[{"$nulls":7},{"$f":"ROUND(IF(OR(COUNTIF('Reference Data'!$G$1:$G$17,A33), COUNTIF('Reference Data'!$H$1:$H$100,D33)),0,E33*0.035),2)","v":0}]
[{"$nulls":7},{"$f":"ROUND(IF(OR(COUNTIF('Reference Data'!$G$1:$G$17,A34), COUNTIF('Reference Data'!$H$1:$H$100,D34)),0,E34*0.035),2)","v":0}]
[{"$nulls":7},{"$f":"ROUND(IF(OR(COUNTIF('Reference Data'!$G$1:$G$17,A35), COUNTIF('Reference Data'!$H$1:$H$100,D35)),0,E35*0.035),2)","v":0}]
[{"$nulls":7},{"$f":"ROUND(IF(OR(COUNTIF('Reference Data'!$G$1:$G$17,A36), COUNTIF('Reference Data'!$H$1:$H$100,D36)),0,E36*0.035),2)","v":0}]
[{"$nulls":7},{"$f":"ROUND(IF(OR(COUNTIF('Reference Data'!$G$1:$G$17,A37), COUNTIF('Reference Data'!$H$1:$H$100,D37)),0,E37*0.035),2)","v":0}]
[{"$nulls":7},{"$f":"ROUND(IF(OR(COUNTIF('Reference Data'!$G$1:$G$17,A38), COUNTIF('Reference Data'!$H$1:$H$100,D38)),0,E38*0.035),2)","v":0}]
[{"$nulls":7},{"$f":"ROUND(IF(OR(COUNTIF('Reference Data'!$G$1:$G$17,A39), COUNTIF('Reference Data'!$H$1:$H$100,D39)),0,E39*0.035),2)","v":0}]
[{"$nulls":7},{"$f":"ROUND(IF(OR(COUNTIF('Reference Data'!$G$1:$G$17,A40), COUNTIF('Reference Data'!$H$1:$H$100,D40)),0,E40*0.035),2)","v":0}]
[{"$nulls":7},{"$f":"ROUND(IF(OR(COUNTIF('Reference Data'!$G$1:$G$17,A41), COUNTIF('Reference Data'!$H$1:$H$100,D41)),0,E41*0.035),2)","v":0}]
[{"$nulls":7},{"$f":"ROUND(IF(OR(COUNTIF('Reference Data'!$G$1:$G$17,A42), COUNTIF('Reference Data'!$H$1:$H$100,D42)),0,E42*0.035),2)","v":0}]
[{"$nulls":7},{"$f":"ROUND(IF(OR(COUNTIF('Reference Data'!$G$1:$G$17,A43), COUNTIF('Reference Data'!$H$1:$H$100,D43)),0,E43*0.035),2)","v":0}]
[{"$nulls":7},{"$f":"ROUND(IF(OR(COUNTIF('Reference Data'!$G$1:$G$17,A44), COUNTIF('Reference Data'!$H$1:$H$100,D44)),0,E44*0.035),2)","v":0}]
[{"$nulls":7},{"$f":"ROUND(IF(OR(COUNTIF('Reference Data'!$G$1:$G$17,A45), COUNTIF('Reference Data'!$H$1:$H$100,D45)),0,E45*0.035),2)","v":0}]
[{"$nulls":7},{"$f":"ROUND(IF(OR(COUNTIF('Reference Data'!$G$1:$G$17,A46), COUNTIF('Reference Data'!$H$1:$H$100,D46)),0,E46*0.035),2)","v":0}]
[{"$nulls":7},{"$f":"ROUND(IF(OR(COUNTIF('Reference Data'!$G$1:$G$17,A47), COUNTIF('Reference Data'!$H$1:$H$100,D47)),0,E47*0.035),2)","v":0}]
[{"$nulls":7},{"$f":"ROUND(IF(OR(COUNTIF('Reference Data'!$G$1:$G$17,A48), COUNTIF('Reference Data'!$H$1:$H$100,D48)),0,E48*0.035),2)","v":0}]
[{"$nulls":7},{"$f":"ROUND(IF(OR(COUNTIF('Reference Data'!$G$1:$G$17,A49), COUNTIF('Reference Data'!$H$1:$H$100,D49)),0,E49*0.035),2)","v":0}]
[{"$nulls":7},{"$f":"ROUND(IF(OR(COUNTIF('Reference Data'!$G$1:$G$17,A50), COUNTIF('Reference Data'!$H$1:$H$100,D50)),0,E50*0.035),2)","v":0}]
[{"$nulls":7},{"$f":"ROUND(IF(OR(COUNTIF('Reference Data'!$G$1:$G$17,A51), COUNTIF('Reference Data'!$H$1:$H$100,D51)),0,E51*0.035),2)","v":0}]
[{"$nulls":7},{"$f":"ROUND(IF(OR(COUNTIF('Reference Data'!$G$1:$G$17,A52), COUNTIF('Reference Data'!$H$1:$H$100,D52)),0,E52*0.035),2)","v":0}]
[{"$nulls":7},{"$f":"ROUND(IF(OR(COUNTIF('Reference Data'!$G$1:$G$17,A53), COUNTIF('Reference Data'!$H$1:$H$100,D53)),0,E53*0.035),2)","v":0}]
[{"$nulls":7},{"$f":"ROUND(IF(OR(COUNTIF('Reference Data'!$G$1:$G$17,A54), COUNTIF('Reference Data'!$H$1:$H$100,D54)),0,E54*0.035),2)","v":0}]
[{"$nulls":7},{"$f":"ROUND(IF(OR(COUNTIF('Reference Data'!$G$1:$G$17,A55), COUNTIF('Reference Data'!$H$1:$H$100,D55)),0,E55*0.035),2)","v":0}]
[{"$nulls":7},{"$f":"ROUND(IF(OR(COUNTIF('Reference Data'!$G$1:$G$17,A56), COUNTIF('Reference Data'!$H$1:$H$100,D56)),0,E56*0.035),2)","v":0}]
[{"$nulls":7},{"$f":"ROUND(IF(OR(COUNTIF('Reference Data'!$G$1:$G$17,A57), COUNTIF('Reference Data'!$H$1:$H$100,D57)),0,E57*0.035),2)","v":0}]
[{"$nulls":7},{"$f":"ROUND(IF(OR(COUNTIF('Reference Data'!$G$1:$G$17,A58), COUNTIF('Reference Data'!$H$1:$H$100,D58)),0,E58*0.035),2)","v":0}]
[{"$nulls":7},{"$f":"ROUND(IF(OR(COUNTIF('Reference Data'!$G$1:$G$17,A59), COUNTIF('Reference Data'!$H$1:$H$100,D59)),0,E59*0.035),2)","v":0}]
[{"$nulls":7},{"$f":"ROUND(IF(OR(COUNTIF('Reference Data'!$G$1:$G$17,A60), COUNTIF('Reference Data'!$H$1:$H$100,D60)),0,E60*0.035),2)","v":0}]
[{"$nulls":7},{"$f":"ROUND(IF(OR(COUNTIF('Reference Data'!$G$1:$G$17,A61), COUNTIF('Reference Data'!$H$1:$H$100,D61)),0,E61*0.035),2)","v":0}]
[{"$nulls":7},{"$f":"ROUND(IF(OR(COUNTIF('Reference Data'!$G$1:$G$17,A62), COUNTIF('Reference Data'!$H$1:$H$100,D62)),0,E62*0.035),2)","v":0}]
[{"$nulls":7},{"$f":"ROUND(IF(OR(COUNTIF('Reference Data'!$G$1:$G$17,A63), COUNTIF('Reference Data'!$H$1:$H$100,D63)),0,E63*0.035),2)","v":0}]
[{"$nulls":7},{"$f":"ROUND(IF(OR(COUNTIF('Reference Data'!$G$1:$G$17,A64), COUNTIF('Reference Data'!$H$1:$H$100,D64)),0,E64*0.035),2)","v":0}]
[{"$nulls":7},{"$f":"ROUND(IF(OR(COUNTIF('Reference Data'!$G$1:$G$17,A65), COUNTIF('Reference Data'!$H$1:$H$100,D65)),0,E65*0.035),2)","v":0}]
[{"$nulls":7},{"$f":"ROUND(IF(OR(COUNTIF('Reference Data'!$G$1:$G$17,A66), COUNTIF('Reference Data'!$H$1:$H$100,D66)),0,E66*0.035),2)","v":0}]
[{"$nulls":7},{"$f":"ROUND(IF(OR(COUNTIF('Reference Data'!$G$1:$G$17,A67), COUNTIF('Reference Data'!$H$1:$H$100,D67)),0,E67*0.035),2)","v":0}]
[{"$nulls":7},{"$f":"ROUND(IF(OR(COUNTIF('Reference Data'!$G$1:$G$17,A68), COUNTIF('Reference Data'!$H$1:$H$100,D68)),0,E68*0.035),2)","v":0}]
[{"$nulls":7},{"$f":"ROUND(IF(OR(COUNTIF('Reference Data'!$G$1:$G$17,A69), COUNTIF('Reference Data'!$H$1:$H$100,D69)),0,E69*0.035),2)","v":0}]
[{"$nulls":7},{"$f":"ROUND(IF(OR(COUNTIF('Reference Data'!$G$1:$G$17,A70), COUNTIF('Reference Data'!$H$1:$H$100,D70)),0,E70*0.035),2)","v":0}]
[{"$nulls":7},{"$f":"ROUND(IF(OR(COUNTIF('Reference Data'!$G$1:$G$17,A71), COUNTIF('Reference Data'!$H$1:$H$100,D71)),0,E71*0.035),2)","v":0}]
[{"$nulls":7},{"$f":"ROUND(IF(OR(COUNTIF('Reference Data'!$G$1:$G$17,A72), COUNTIF('Reference Data'!$H$1:$H$100,D72)),0,E72*0.035),2)","v":0}]
[{"$nulls":7},{"$f":"ROUND(IF(OR(COUNTIF('Reference Data'!$G$1:$G$17,A73), COUNTIF('Reference Data'!$H$1:$H$100,D73)),0,E73*0.035),2)","v":0}]
[{"$nulls":7},{"$f":"ROUND(IF(OR(COUNTIF('Reference Data'!$G$1:$G$17,A74), COUNTIF('Reference Data'!$H$1:$H$100,D74)),0,E74*0.035),2)","v":0}]
[{"$nulls":7},{"$f":"ROUND(IF(OR(COUNTIF('Reference Data'!$G$1:$G$17,A75), COUNTIF('Reference Data'!$H$1:$H$100,D75)),0,E75*0.035),2)","v":0}]
[{"$nulls":7},{"$f":"ROUND(IF(OR(COUNTIF('Reference Data'!$G$1:$G$17,A76), COUNTIF('Reference Data'!$H$1:$H$100,D76)),0,E76*0.035),2)","v":0}]
[{"$nulls":7},{"$f":"ROUND(IF(OR(COUNTIF('Reference Data'!$G$1:$G$17,A77), COUNTIF('Reference Data'!$H$1:$H$100,D77)),0,E77*0.035),2)","v":0}]
[{"$nulls":7},{"$f":"ROUND(IF(OR(COUNTIF('Reference Data'!$G$1:$G$17,A78), COUNTIF('Reference Data'!$H$1:$H$100,D78)),0,E78*0.035),2)","v":0}]
[{"$nulls":7},{"$f":"ROUND(IF(OR(COUNTIF('Reference Data'!$G$1:$G$17,A79), COUNTIF('Reference Data'!$H$1:$H$100,D79)),0,E79*0.035),2)","v":0}]
[{"$nulls":7},{"$f":"ROUND(IF(OR(COUNTIF('Reference Data'!$G$1:$G$17,A80), COUNTIF('Reference Data'!$H$1:$H$100,D80)),0,E80*0.035),2)","v":0}]
[{"$nulls":7},{"$f":"ROUND(IF(OR(COUNTIF('Reference Data'!$G$1:$G$17,A81), COUNTIF('Reference Data'!$H$1:$H$100,D81)),0,E81*0.035),2)","v":0}]
[{"$nulls":7},{"$f":"ROUND(IF(OR(COUNTIF('Reference Data'!$G$1:$G$17,A82), COUNTIF('Reference Data'!$H$1:$H$100,D82)),0,E82*0.035),2)","v":0}]
[{"$nulls":7},{"$f":"ROUND(IF(OR(COUNTIF('Reference Data'!$G$1:$G$17,A83), COUNTIF('Reference Data'!$H$1:$H$100,D83)),0,E83*0.035),2)","v":0}]
[{"$nulls":7},{"$f":"ROUND(IF(OR(COUNTIF('Reference Data'!$G$1:$G$17,A84), COUNTIF('Reference Data'!$H$1:$H$100,D84)),0,E84*0.035),2)","v":0}]
[{"$nulls":7},{"$f":"ROUND(IF(OR(COUNTIF('Reference Data'!$G$1:$G$17,A85), COUNTIF('Reference Data'!$H$1:$H$100,D85)),0,E85*0.035),2)","v":0}]
[{"$nulls":7},{"$f":"ROUND(IF(OR(COUNTIF('Reference Data'!$G$1:$G$17,A86), COUNTIF('Reference Data'!$H$1:$H$100,D86)),0,E86*0.035),2)","v":0}]
[{"$nulls":7},{"$f":"ROUND(IF(OR(COUNTIF('Reference Data'!$G$1:$G$17,A87), COUNTIF('Reference Data'!$H$1:$H$100,D87)),0,E87*0.035),2)","v":0}]
[{"$nulls":7},{"$f":"ROUND(IF(OR(COUNTIF('Reference Data'!$G$1:$G$17,A88), COUNTIF('Reference Data'!$H$1:$H$100,D88)),0,E88*0.035),2)","v":0}]
[{"$nulls":7},{"$f":"ROUND(IF(OR(COUNTIF('Reference Data'!$G$1:$G$17,A89), COUNTIF('Reference Data'!$H$1:$H$100,D89)),0,E89*0.035),2)","v":0}]
[{"$nulls":7},{"$f":"ROUND(IF(OR(COUNTIF('Reference Data'!$G$1:$G$17,A90), COUNTIF('Reference Data'!$H$1:$H$100,D90)),0,E90*0.035),2)","v":0}]
[{"$nulls":7},{"$f":"ROUND(IF(OR(COUNTIF('Reference Data'!$G$1:$G$17,A91), COUNTIF('Reference Data'!$H$1:$H$100,D91)),0,E91*0.035),2)","v":0}]
[{"$nulls":7},{"$f":"ROUND(IF(OR(COUNTIF('Reference Data'!$G$1:$G$17,A92), COUNTIF('Reference Data'!$H$1:$H$100,D92)),0,E92*0.035),2)","v":0}]
[{"$nulls":7},{"$f":"ROUND(IF(OR(COUNTIF('Reference Data'!$G$1:$G$17,A93), COUNTIF('Reference Data'!$H$1:$H$100,D93)),0,E93*0.035),2)","v":0}]
[{"$nulls":7},{"$f":"ROUND(IF(OR(COUNTIF('Reference Data'!$G$1:$G$17,A94), COUNTIF('Reference Data'!$H$1:$H$100,D94)),0,E94*0.035),2)","v":0}]
[{"$nulls":7},{"$f":"ROUND(IF(OR(COUNTIF('Reference Data'!$G$1:$G$17,A95), COUNTIF('Reference Data'!$H$1:$H$100,D95)),0,E95*0.035),2)","v":0}]
[{"$nulls":7},{"$f":"ROUND(IF(OR(COUNTIF('Reference Data'!$G$1:$G$17,A96), COUNTIF('Reference Data'!$H$1:$H$100,D96)),0,E96*0.035),2)","v":0}]
[{"$nulls":7},{"$f":"ROUND(IF(OR(COUNTIF('Reference Data'!$G$1:$G$17,A97), COUNTIF('Reference Data'!$H$1:$H$100,D97)),0,E97*0.035),2)","v":0}]
[{"$nulls":7},{"$f":"ROUND(IF(OR(COUNTIF('Reference Data'!$G$1:$G$17,A98), COUNTIF('Reference Data'!$H$1:$H$100,D98)),0,E98*0.035),2)","v":0}]
[{"$nulls":7},{"$f":"ROUND(IF(OR(COUNTIF('Reference Data'!$G$1:$G$17,A99), COUNTIF('Reference Data'!$H$1:$H$100,D99)),0,E99*0.035),2)","v":0}]
[{"$nulls":7},{"$f":"ROUND(IF(OR(COUNTIF('Reference Data'!$G$1:$G$17,A100), COUNTIF('Reference Data'!$H$1:$H$100,D100)),0,E100*0.035),2)","v":0}]
[{"$nulls":7},{"$f":"ROUND(IF(OR(COUNTIF('Reference Data'!$G$1:$G$17,A101), COUNTIF('Reference Data'!$H$1:$H$100,D101)),0,E101*0.035),2)","v":0}]
[{"$nulls":7},{"$f":"ROUND(IF(OR(COUNTIF('Reference Data'!$G$1:$G$17,A102), COUNTIF('Reference Data'!$H$1:$H$100,D102)),0,E102*0.035),2)","v":0}]
[{"$nulls":7},{"$f":"ROUND(IF(OR(COUNTIF('Reference Data'!$G$1:$G$17,A103), COUNTIF('Reference Data'!$H$1:$H$100,D103)),0,E103*0.035),2)","v":0}]
[{"$nulls":7},{"$f":"ROUND(IF(OR(COUNTIF('Reference Data'!$G$1:$G$17,A104), COUNTIF('Reference Data'!$H$1:$H$100,D104)),0,E104*0.035),2)","v":0}]
[{"$nulls":7},{"$f":"ROUND(IF(OR(COUNTIF('Reference Data'!$G$1:$G$17,A105), COUNTIF('Reference Data'!$H$1:$H$100,D105)),0,E105*0.035),2)","v":0}]
[{"$nulls":7},{"$f":"ROUND(IF(OR(COUNTIF('Reference Data'!$G$1:$G$17,A106), COUNTIF('Reference Data'!$H$1:$H$100,D106)),0,E106*0.035),2)","v":0}]
[{"$nulls":7},{"$f":"ROUND(IF(OR(COUNTIF('Reference Data'!$G$1:$G$17,A107), COUNTIF('Reference Data'!$H$1:$H$100,D107)),0,E107*0.035),2)","v":0}]
[{"$nulls":7},{"$f":"ROUND(IF(OR(COUNTIF('Reference Data'!$G$1:$G$17,A108), COUNTIF('Reference Data'!$H$1:$H$100,D108)),0,E108*0.035),2)","v":0}]
[{"$nulls":7},{"$f":"ROUND(IF(OR(COUNTIF('Reference Data'!$G$1:$G$17,A109), COUNTIF('Reference Data'!$H$1:$H$100,D109)),0,E109*0.035),2)","v":0}]
[{"$nulls":7},{"$f":"ROUND(IF(OR(COUNTIF('Reference Data'!$G$1:$G$17,A110), COUNTIF('Reference Data'!$H$1:$H$100,D110)),0,E110*0.035),2)","v":0}]
[{"$nulls":7},{"$f":"ROUND(IF(OR(COUNTIF('Reference Data'!$G$1:$G$17,A111), COUNTIF('Reference Data'!$H$1:$H$100,D111)),0,E111*0.035),2)","v":0}]
[{"$nulls":7},{"$f":"ROUND(IF(OR(COUNTIF('Reference Data'!$G$1:$G$17,A112), COUNTIF('Reference Data'!$H$1:$H$100,D112)),0,E112*0.035),2)","v":0}]
[{"$nulls":7},{"$f":"ROUND(IF(OR(COUNTIF('Reference Data'!$G$1:$G$17,A113), COUNTIF('Reference Data'!$H$1:$H$100,D113)),0,E113*0.035),2)","v":0}]
[{"$nulls":7},{"$f":"ROUND(IF(OR(COUNTIF('Reference Data'!$G$1:$G$17,A114), COUNTIF('Reference Data'!$H$1:$H$100,D114)),0,E114*0.035),2)","v":0}]
[{"$nulls":7},{"$f":"ROUND(IF(OR(COUNTIF('Reference Data'!$G$1:$G$17,A115), COUNTIF('Reference Data'!$H$1:$H$100,D115)),0,E115*0.035),2)","v":0}]
[{"$nulls":7},{"$f":"ROUND(IF(OR(COUNTIF('Reference Data'!$G$1:$G$17,A116), COUNTIF('Reference Data'!$H$1:$H$100,D116)),0,E116*0.035),2)","v":0}]
[{"$nulls":7},{"$f":"ROUND(IF(OR(COUNTIF('Reference Data'!$G$1:$G$17,A117), COUNTIF('Reference Data'!$H$1:$H$100,D117)),0,E117*0.035),2)","v":0}]
[{"$nulls":7},{"$f":"ROUND(IF(OR(COUNTIF('Reference Data'!$G$1:$G$17,A118), COUNTIF('Reference Data'!$H$1:$H$100,D118)),0,E118*0.035),2)","v":0}]
[{"$nulls":7},{"$f":"ROUND(IF(OR(COUNTIF('Reference Data'!$G$1:$G$17,A119), COUNTIF('Reference Data'!$H$1:$H$100,D119)),0,E119*0.035),2)","v":0}]
[{"$nulls":7},{"$f":"ROUND(IF(OR(COUNTIF('Reference Data'!$G$1:$G$17,A120), COUNTIF('Reference Data'!$H$1:$H$100,D120)),0,E120*0.035),2)","v":0}]
[{"$nulls":7},{"$f":"ROUND(IF(OR(COUNTIF('Reference Data'!$G$1:$G$17,A121), COUNTIF('Reference Data'!$H$1:$H$100,D121)),0,E121*0.035),2)","v":0}]
[{"$nulls":7},{"$f":"ROUND(IF(OR(COUNTIF('Reference Data'!$G$1:$G$17,A122), COUNTIF('Reference Data'!$H$1:$H$100,D122)),0,E122*0.035),2)","v":0}]
[{"$nulls":7},{"$f":"ROUND(IF(OR(COUNTIF('Reference Data'!$G$1:$G$17,A123), COUNTIF('Reference Data'!$H$1:$H$100,D123)),0,E123*0.035),2)","v":0}]
[{"$nulls":7},{"$f":"ROUND(IF(OR(COUNTIF('Reference Data'!$G$1:$G$17,A124), COUNTIF('Reference Data'!$H$1:$H$100,D124)),0,E124*0.035),2)","v":0}]
[{"$nulls":7},{"$f":"ROUND(IF(OR(COUNTIF('Reference Data'!$G$1:$G$17,A125), COUNTIF('Reference Data'!$H$1:$H$100,D125)),0,E125*0.035),2)","v":0}]
[{"$nulls":7},{"$f":"ROUND(IF(OR(COUNTIF('Reference Data'!$G$1:$G$17,A126), COUNTIF('Reference Data'!$H$1:$H$100,D126)),0,E126*0.035),2)","v":0}]
[{"$nulls":7},{"$f":"ROUND(IF(OR(COUNTIF('Reference Data'!$G$1:$G$17,A127), COUNTIF('Reference Data'!$H$1:$H$100,D127)),0,E127*0.035),2)","v":0}]
[{"$nulls":7},{"$f":"ROUND(IF(OR(COUNTIF('Reference Data'!$G$1:$G$17,A128), COUNTIF('Reference Data'!$H$1:$H$100,D128)),0,E128*0.035),2)","v":0}]
[{"$nulls":7},{"$f":"ROUND(IF(OR(COUNTIF('Reference Data'!$G$1:$G$17,A129), COUNTIF('Reference Data'!$H$1:$H$100,D129)),0,E129*0.035),2)","v":0}]
[{"$nulls":7},{"$f":"ROUND(IF(OR(COUNTIF('Reference Data'!$G$1:$G$17,A130), COUNTIF('Reference Data'!$H$1:$H$100,D130)),0,E130*0.035),2)","v":0}]
[{"$nulls":7},{"$f":"ROUND(IF(OR(COUNTIF('Reference Data'!$G$1:$G$17,A131), COUNTIF('Reference Data'!$H$1:$H$100,D131)),0,E131*0.035),2)","v":0}]
[{"$nulls":7},{"$f":"ROUND(IF(OR(COUNTIF('Reference Data'!$G$1:$G$17,A132), COUNTIF('Reference Data'!$H$1:$H$100,D132)),0,E132*0.035),2)","v":0}]
[{"$nulls":7},{"$f":"ROUND(IF(OR(COUNTIF('Reference Data'!$G$1:$G$17,A133), COUNTIF('Reference Data'!$H$1:$H$100,D133)),0,E133*0.035),2)","v":0}]
[{"$nulls":7},{"$f":"ROUND(IF(OR(COUNTIF('Reference Data'!$G$1:$G$17,A134), COUNTIF('Reference Data'!$H$1:$H$100,D134)),0,E134*0.035),2)","v":0}]
[{"$nulls":7},{"$f":"ROUND(IF(OR(COUNTIF('Reference Data'!$G$1:$G$17,A135), COUNTIF('Reference Data'!$H$1:$H$100,D135)),0,E135*0.035),2)","v":0}]
[{"$nulls":7},{"$f":"ROUND(IF(OR(COUNTIF('Reference Data'!$G$1:$G$17,A136), COUNTIF('Reference Data'!$H$1:$H$100,D136)),0,E136*0.035),2)","v":0}]
[{"$nulls":7},{"$f":"ROUND(IF(OR(COUNTIF('Reference Data'!$G$1:$G$17,A137), COUNTIF('Reference Data'!$H$1:$H$100,D137)),0,E137*0.035),2)","v":0}]
[{"$nulls":7},{"$f":"ROUND(IF(OR(COUNTIF('Reference Data'!$G$1:$G$17,A138), COUNTIF('Reference Data'!$H$1:$H$100,D138)),0,E138*0.035),2)","v":0}]
[{"$nulls":7},{"$f":"ROUND(IF(OR(COUNTIF('Reference Data'!$G$1:$G$17,A139), COUNTIF('Reference Data'!$H$1:$H$100,D139)),0,E139*0.035),2)","v":0}]
[{"$nulls":7},{"$f":"ROUND(IF(OR(COUNTIF('Reference Data'!$G$1:$G$17,A140), COUNTIF('Reference Data'!$H$1:$H$100,D140)),0,E140*0.035),2)","v":0}]
[{"$nulls":7},{"$f":"ROUND(IF(OR(COUNTIF('Reference Data'!$G$1:$G$17,A141), COUNTIF('Reference Data'!$H$1:$H$100,D141)),0,E141*0.035),2)","v":0}]
[{"$nulls":7},{"$f":"ROUND(IF(OR(COUNTIF('Reference Data'!$G$1:$G$17,A142), COUNTIF('Reference Data'!$H$1:$H$100,D142)),0,E142*0.035),2)","v":0}]
[{"$nulls":7},{"$f":"ROUND(IF(OR(COUNTIF('Reference Data'!$G$1:$G$17,A143), COUNTIF('Reference Data'!$H$1:$H$100,D143)),0,E143*0.035),2)","v":0}]
[{"$nulls":7},{"$f":"ROUND(IF(OR(COUNTIF('Reference Data'!$G$1:$G$17,A144), COUNTIF('Reference Data'!$H$1:$H$100,D144)),0,E144*0.035),2)","v":0}]
[{"$nulls":7},{"$f":"ROUND(IF(OR(COUNTIF('Reference Data'!$G$1:$G$17,A145), COUNTIF('Reference Data'!$H$1:$H$100,D145)),0,E145*0.035),2)","v":0}]
[{"$nulls":7},{"$f":"ROUND(IF(OR(COUNTIF('Reference Data'!$G$1:$G$17,A146), COUNTIF('Reference Data'!$H$1:$H$100,D146)),0,E146*0.035),2)","v":0}]
[{"$nulls":7},{"$f":"ROUND(IF(OR(COUNTIF('Reference Data'!$G$1:$G$17,A147), COUNTIF('Reference Data'!$H$1:$H$100,D147)),0,E147*0.035),2)","v":0}]
[{"$nulls":7},{"$f":"ROUND(IF(OR(COUNTIF('Reference Data'!$G$1:$G$17,A148), COUNTIF('Reference Data'!$H$1:$H$100,D148)),0,E148*0.035),2)","v":0}]
[{"$nulls":7},{"$f":"ROUND(IF(OR(COUNTIF('Reference Data'!$G$1:$G$17,A149), COUNTIF('Reference Data'!$H$1:$H$100,D149)),0,E149*0.035),2)","v":0}]
[{"$nulls":7},{"$f":"ROUND(IF(OR(COUNTIF('Reference Data'!$G$1:$G$17,A150), COUNTIF('Reference Data'!$H$1:$H$100,D150)),0,E150*0.035),2)","v":0}]
[{"$nulls":7},{"$f":"ROUND(IF(OR(COUNTIF('Reference Data'!$G$1:$G$17,A151), COUNTIF('Reference Data'!$H$1:$H$100,D151)),0,E151*0.035),2)","v":0}]
[{"$nulls":7},{"$f":"ROUND(IF(OR(COUNTIF('Reference Data'!$G$1:$G$17,A152), COUNTIF('Reference Data'!$H$1:$H$100,D152)),0,E152*0.035),2)","v":0}]
[{"$nulls":7},{"$f":"ROUND(IF(OR(COUNTIF('Reference Data'!$G$1:$G$17,A153), COUNTIF('Reference Data'!$H$1:$H$100,D153)),0,E153*0.035),2)","v":0}]
[{"$nulls":7},{"$f":"ROUND(IF(OR(COUNTIF('Reference Data'!$G$1:$G$17,A154), COUNTIF('Reference Data'!$H$1:$H$100,D154)),0,E154*0.035),2)","v":0}]
[{"$nulls":7},{"$f":"ROUND(IF(OR(COUNTIF('Reference Data'!$G$1:$G$17,A155), COUNTIF('Reference Data'!$H$1:$H$100,D155)),0,E155*0.035),2)","v":0}]
[{"$nulls":7},{"$f":"ROUND(IF(OR(COUNTIF('Reference Data'!$G$1:$G$17,A156), COUNTIF('Reference Data'!$H$1:$H$100,D156)),0,E156*0.035),2)","v":0}]
[{"$nulls":7},{"$f":"ROUND(IF(OR(COUNTIF('Reference Data'!$G$1:$G$17,A157), COUNTIF('Reference Data'!$H$1:$H$100,D157)),0,E157*0.035),2)","v":0}]
[{"$nulls":7},{"$f":"ROUND(IF(OR(COUNTIF('Reference Data'!$G$1:$G$17,A158), COUNTIF('Reference Data'!$H$1:$H$100,D158)),0,E158*0.035),2)","v":0}]
[{"$nulls":7},{"$f":"ROUND(IF(OR(COUNTIF('Reference Data'!$G$1:$G$17,A159), COUNTIF('Reference Data'!$H$1:$H$100,D159)),0,E159*0.035),2)","v":0}]
[{"$nulls":7},{"$f":"ROUND(IF(OR(COUNTIF('Reference Data'!$G$1:$G$17,A160), COUNTIF('Reference Data'!$H$1:$H$100,D160)),0,E160*0.035),2)","v":0}]
[{"$nulls":7},{"$f":"ROUND(IF(OR(COUNTIF('Reference Data'!$G$1:$G$17,A161), COUNTIF('Reference Data'!$H$1:$H$100,D161)),0,E161*0.035),2)","v":0}]
[{"$nulls":7},{"$f":"ROUND(IF(OR(COUNTIF('Reference Data'!$G$1:$G$17,A162), COUNTIF('Reference Data'!$H$1:$H$100,D162)),0,E162*0.035),2)","v":0}]
[{"$nulls":7},{"$f":"ROUND(IF(OR(COUNTIF('Reference Data'!$G$1:$G$17,A163), COUNTIF('Reference Data'!$H$1:$H$100,D163)),0,E163*0.035),2)","v":0}]
[{"$nulls":7},{"$f":"ROUND(IF(OR(COUNTIF('Reference Data'!$G$1:$G$17,A164), COUNTIF('Reference Data'!$H$1:$H$100,D164)),0,E164*0.035),2)","v":0}]
[{"$nulls":7},{"$f":"ROUND(IF(OR(COUNTIF('Reference Data'!$G$1:$G$17,A165), COUNTIF('Reference Data'!$H$1:$H$100,D165)),0,E165*0.035),2)","v":0}]
[{"$nulls":7},{"$f":"ROUND(IF(OR(COUNTIF('Reference Data'!$G$1:$G$17,A166), COUNTIF('Reference Data'!$H$1:$H$100,D166)),0,E166*0.035),2)","v":0}]
[{"$nulls":7},{"$f":"ROUND(IF(OR(COUNTIF('Reference Data'!$G$1:$G$17,A167), COUNTIF('Reference Data'!$H$1:$H$100,D167)),0,E167*0.035),2)","v":0}]
[{"$nulls":7},{"$f":"ROUND(IF(OR(COUNTIF('Reference Data'!$G$1:$G$17,A168), COUNTIF('Reference Data'!$H$1:$H$100,D168)),0,E168*0.035),2)","v":0}]
[{"$nulls":7},{"$f":"ROUND(IF(OR(COUNTIF('Reference Data'!$G$1:$G$17,A169), COUNTIF('Reference Data'!$H$1:$H$100,D169)),0,E169*0.035),2)","v":0}]
[{"$nulls":7},{"$f":"ROUND(IF(OR(COUNTIF('Reference Data'!$G$1:$G$17,A170), COUNTIF('Reference Data'!$H$1:$H$100,D170)),0,E170*0.035),2)","v":0}]
[{"$nulls":7},{"$f":"ROUND(IF(OR(COUNTIF('Reference Data'!$G$1:$G$17,A171), COUNTIF('Reference Data'!$H$1:$H$100,D171)),0,E171*0.035),2)","v":0}]
[{"$nulls":7},{"$f":"ROUND(IF(OR(COUNTIF('Reference Data'!$G$1:$G$17,A172), COUNTIF('Reference Data'!$H$1:$H$100,D172)),0,E172*0.035),2)","v":0}]
[{"$nulls":7},{"$f":"ROUND(IF(OR(COUNTIF('Reference Data'!$G$1:$G$17,A173), COUNTIF('Reference Data'!$H$1:$H$100,D173)),0,E173*0.035),2)","v":0}]
[{"$nulls":7},{"$f":"ROUND(IF(OR(COUNTIF('Reference Data'!$G$1:$G$17,A174), COUNTIF('Reference Data'!$H$1:$H$100,D174)),0,E174*0.035),2)","v":0}]
[{"$nulls":7},{"$f":"ROUND(IF(OR(COUNTIF('Reference Data'!$G$1:$G$17,A175), COUNTIF('Reference Data'!$H$1:$H$100,D175)),0,E175*0.035),2)","v":0}]
[{"$nulls":7},{"$f":"ROUND(IF(OR(COUNTIF('Reference Data'!$G$1:$G$17,A176), COUNTIF('Reference Data'!$H$1:$H$100,D176)),0,E176*0.035),2)","v":0}]
[{"$nulls":7},{"$f":"ROUND(IF(OR(COUNTIF('Reference Data'!$G$1:$G$17,A177), COUNTIF('Reference Data'!$H$1:$H$100,D177)),0,E177*0.035),2)","v":0}]
[{"$nulls":7},{"$f":"ROUND(IF(OR(COUNTIF('Reference Data'!$G$1:$G$17,A178), COUNTIF('Reference Data'!$H$1:$H$100,D178)),0,E178*0.035),2)","v":0}]
[{"$nulls":7},{"$f":"ROUND(IF(OR(COUNTIF('Reference Data'!$G$1:$G$17,A179), COUNTIF('Reference Data'!$H$1:$H$100,D179)),0,E179*0.035),2)","v":0}]
[{"$nulls":7},{"$f":"ROUND(IF(OR(COUNTIF('Reference Data'!$G$1:$G$17,A180), COUNTIF('Reference Data'!$H$1:$H$100,D180)),0,E180*0.035),2)","v":0}]
[{"$nulls":7},{"$f":"ROUND(IF(OR(COUNTIF('Reference Data'!$G$1:$G$17,A181), COUNTIF('Reference Data'!$H$1:$H$100,D181)),0,E181*0.035),2)","v":0}]
[{"$nulls":7},{"$f":"ROUND(IF(OR(COUNTIF('Reference Data'!$G$1:$G$17,A182), COUNTIF('Reference Data'!$H$1:$H$100,D182)),0,E182*0.035),2)","v":0}]
[{"$nulls":7},{"$f":"ROUND(IF(OR(COUNTIF('Reference Data'!$G$1:$G$17,A183), COUNTIF('Reference Data'!$H$1:$H$100,D183)),0,E183*0.035),2)","v":0}]
[{"$nulls":7},{"$f":"ROUND(IF(OR(COUNTIF('Reference Data'!$G$1:$G$17,A184), COUNTIF('Reference Data'!$H$1:$H$100,D184)),0,E184*0.035),2)","v":0}]
[{"$nulls":7},{"$f":"ROUND(IF(OR(COUNTIF('Reference Data'!$G$1:$G$17,A185), COUNTIF('Reference Data'!$H$1:$H$100,D185)),0,E185*0.035),2)","v":0}]
[{"$nulls":7},{"$f":"ROUND(IF(OR(COUNTIF('Reference Data'!$G$1:$G$17,A186), COUNTIF('Reference Data'!$H$1:$H$100,D186)),0,E186*0.035),2)","v":0}]
[{"$nulls":7},{"$f":"ROUND(IF(OR(COUNTIF('Reference Data'!$G$1:$G$17,A187), COUNTIF('Reference Data'!$H$1:$H$100,D187)),0,E187*0.035),2)","v":0}]
[{"$nulls":7},{"$f":"ROUND(IF(OR(COUNTIF('Reference Data'!$G$1:$G$17,A188), COUNTIF('Reference Data'!$H$1:$H$100,D188)),0,E188*0.035),2)","v":0}]
[{"$nulls":7},{"$f":"ROUND(IF(OR(COUNTIF('Reference Data'!$G$1:$G$17,A189), COUNTIF('Reference Data'!$H$1:$H$100,D189)),0,E189*0.035),2)","v":0}]
[{"$nulls":7},{"$f":"ROUND(IF(OR(COUNTIF('Reference Data'!$G$1:$G$17,A190), COUNTIF('Reference Data'!$H$1:$H$100,D190)),0,E190*0.035),2)","v":0}]
[{"$nulls":7},{"$f":"ROUND(IF(OR(COUNTIF('Reference Data'!$G$1:$G$17,A191), COUNTIF('Reference Data'!$H$1:$H$100,D191)),0,E191*0.035),2)","v":0}]
[{"$nulls":7},{"$f":"ROUND(IF(OR(COUNTIF('Reference Data'!$G$1:$G$17,A192), COUNTIF('Reference Data'!$H$1:$H$100,D192)),0,E192*0.035),2)","v":0}]
[{"$nulls":7},{"$f":"ROUND(IF(OR(COUNTIF('Reference Data'!$G$1:$G$17,A193), COUNTIF('Reference Data'!$H$1:$H$100,D193)),0,E193*0.035),2)","v":0}]
[{"$nulls":7},{"$f":"ROUND(IF(OR(COUNTIF('Reference Data'!$G$1:$G$17,A194), COUNTIF('Reference Data'!$H$1:$H$100,D194)),0,E194*0.035),2)","v":0}]
[{"$nulls":7},{"$f":"ROUND(IF(OR(COUNTIF('Reference Data'!$G$1:$G$17,A195), COUNTIF('Reference Data'!$H$1:$H$100,D195)),0,E195*0.035),2)","v":0}]
[{"$nulls":7},{"$f":"ROUND(IF(OR(COUNTIF('Reference Data'!$G$1:$G$17,A196), COUNTIF('Reference Data'!$H$1:$H$100,D196)),0,E196*0.035),2)","v":0}]
[{"$nulls":7},{"$f":"ROUND(IF(OR(COUNTIF('Reference Data'!$G$1:$G$17,A197), COUNTIF('Reference Data'!$H$1:$H$100,D197)),0,E197*0.035),2)","v":0}]
[{"$nulls":7},{"$f":"ROUND(IF(OR(COUNTIF('Reference Data'!$G$1:$G$17,A198), COUNTIF('Reference Data'!$H$1:$H$100,D198)),0,E198*0.035),2)","v":0}]
[{"$nulls":7},{"$f":"ROUND(IF(OR(COUNTIF('Reference Data'!$G$1:$G$17,A199), COUNTIF('Reference Data'!$H$1:$H$100,D199)),0,E199*0.035),2)","v":0}]
[{"$nulls":7},{"$f":"ROUND(IF(OR(COUNTIF('Reference Data'!$G$1:$G$17,A200), COUNTIF('Reference Data'!$H$1:$H$100,D200)),0,E200*0.035),2)","v":0}]
[{"$nulls":7},{"$f":"ROUND(IF(OR(COUNTIF('Reference Data'!$G$1:$G$17,A201), COUNTIF('Reference Data'!$H$1:$H$100,D201)),0,E201*0.035),2)","v":0}]
[{"$nulls":7},{"$f":"ROUND(IF(OR(COUNTIF('Reference Data'!$G$1:$G$17,A202), COUNTIF('Reference Data'!$H$1:$H$100,D202)),0,E202*0.035),2)","v":0}]
[{"$nulls":7},{"$f":"ROUND(IF(OR(COUNTIF('Reference Data'!$G$1:$G$17,A203), COUNTIF('Reference Data'!$H$1:$H$100,D203)),0,E203*0.035),2)","v":0}]
[{"$nulls":7},{"$f":"ROUND(IF(OR(COUNTIF('Reference Data'!$G$1:$G$17,A204), COUNTIF('Reference Data'!$H$1:$H$100,D204)),0,E204*0.035),2)","v":0}]
[{"$nulls":7},{"$f":"ROUND(IF(OR(COUNTIF('Reference Data'!$G$1:$G$17,A205), COUNTIF('Reference Data'!$H$1:$H$100,D205)),0,E205*0.035),2)","v":0}]
[{"$nulls":7},{"$f":"ROUND(IF(OR(COUNTIF('Reference Data'!$G$1:$G$17,A206), COUNTIF('Reference Data'!$H$1:$H$100,D206)),0,E206*0.035),2)","v":0}]
[{"$nulls":7},{"$f":"ROUND(IF(OR(COUNTIF('Reference Data'!$G$1:$G$17,A207), COUNTIF('Reference Data'!$H$1:$H$100,D207)),0,E207*0.035),2)","v":0}]
[{"$nulls":7},{"$f":"ROUND(IF(OR(COUNTIF('Reference Data'!$G$1:$G$17,A208), COUNTIF('Reference Data'!$H$1:$H$100,D208)),0,E208*0.035),2)","v":0}]
[{"$nulls":7},{"$f":"ROUND(IF(OR(COUNTIF('Reference Data'!$G$1:$G$17,A209), COUNTIF('Reference Data'!$H$1:$H$100,D209)),0,E209*0.035),2)","v":0}]
[{"$nulls":7},{"$f":"ROUND(IF(OR(COUNTIF('Reference Data'!$G$1:$G$17,A210), COUNTIF('Reference Data'!$H$1:$H$100,D210)),0,E210*0.035),2)","v":0}]
[{"$nulls":7},{"$f":"ROUND(IF(OR(COUNTIF('Reference Data'!$G$1:$G$17,A211), COUNTIF('Reference Data'!$H$1:$H$100,D211)),0,E211*0.035),2)","v":0}]
[{"$nulls":7},{"$f":"ROUND(IF(OR(COUNTIF('Reference Data'!$G$1:$G$17,A212), COUNTIF('Reference Data'!$H$1:$H$100,D212)),0,E212*0.035),2)","v":0}]
[{"$nulls":7},{"$f":"ROUND(IF(OR(COUNTIF('Reference Data'!$G$1:$G$17,A213), COUNTIF('Reference Data'!$H$1:$H$100,D213)),0,E213*0.035),2)","v":0}]
[{"$nulls":7},{"$f":"ROUND(IF(OR(COUNTIF('Reference Data'!$G$1:$G$17,A214), COUNTIF('Reference Data'!$H$1:$H$100,D214)),0,E214*0.035),2)","v":0}]
[{"$nulls":7},{"$f":"ROUND(IF(OR(COUNTIF('Reference Data'!$G$1:$G$17,A215), COUNTIF('Reference Data'!$H$1:$H$100,D215)),0,E215*0.035),2)","v":0}]
[{"$nulls":7},{"$f":"ROUND(IF(OR(COUNTIF('Reference Data'!$G$1:$G$17,A216), COUNTIF('Reference Data'!$H$1:$H$100,D216)),0,E216*0.035),2)","v":0}]
[{"$nulls":7},{"$f":"ROUND(IF(OR(COUNTIF('Reference Data'!$G$1:$G$17,A217), COUNTIF('Reference Data'!$H$1:$H$100,D217)),0,E217*0.035),2)","v":0}]
[{"$nulls":7},{"$f":"ROUND(IF(OR(COUNTIF('Reference Data'!$G$1:$G$17,A218), COUNTIF('Reference Data'!$H$1:$H$100,D218)),0,E218*0.035),2)","v":0}]
[{"$nulls":7},{"$f":"ROUND(IF(OR(COUNTIF('Reference Data'!$G$1:$G$17,A219), COUNTIF('Reference Data'!$H$1:$H$100,D219)),0,E219*0.035),2)","v":0}]
[{"$nulls":7},{"$f":"ROUND(IF(OR(COUNTIF('Reference Data'!$G$1:$G$17,A220), COUNTIF('Reference Data'!$H$1:$H$100,D220)),0,E220*0.035),2)","v":0}]
[{"$nulls":7},{"$f":"ROUND(IF(OR(COUNTIF('Reference Data'!$G$1:$G$17,A221), COUNTIF('Reference Data'!$H$1:$H$100,D221)),0,E221*0.035),2)","v":0}]
[{"$nulls":7},{"$f":"ROUND(IF(OR(COUNTIF('Reference Data'!$G$1:$G$17,A222), COUNTIF('Reference Data'!$H$1:$H$100,D222)),0,E222*0.035),2)","v":0}]
[{"$nulls":7},{"$f":"ROUND(IF(OR(COUNTIF('Reference Data'!$G$1:$G$17,A223), COUNTIF('Reference Data'!$H$1:$H$100,D223)),0,E223*0.035),2)","v":0}]
[{"$nulls":7},{"$f":"ROUND(IF(OR(COUNTIF('Reference Data'!$G$1:$G$17,A224), COUNTIF('Reference Data'!$H$1:$H$100,D224)),0,E224*0.035),2)","v":0}]
[{"$nulls":7},{"$f":"ROUND(IF(OR(COUNTIF('Reference Data'!$G$1:$G$17,A225), COUNTIF('Reference Data'!$H$1:$H$100,D225)),0,E225*0.035),2)","v":0}]
[{"$nulls":7},{"$f":"ROUND(IF(OR(COUNTIF('Reference Data'!$G$1:$G$17,A226), COUNTIF('Reference Data'!$H$1:$H$100,D226)),0,E226*0.035),2)","v":0}]
[{"$nulls":7},{"$f":"ROUND(IF(OR(COUNTIF('Reference Data'!$G$1:$G$17,A227), COUNTIF('Reference Data'!$H$1:$H$100,D227)),0,E227*0.035),2)","v":0}]
[{"$nulls":7},{"$f":"ROUND(IF(OR(COUNTIF('Reference Data'!$G$1:$G$17,A228), COUNTIF('Reference Data'!$H$1:$H$100,D228)),0,E228*0.035),2)","v":0}]
[{"$nulls":7},{"$f":"ROUND(IF(OR(COUNTIF('Reference Data'!$G$1:$G$17,A229), COUNTIF('Reference Data'!$H$1:$H$100,D229)),0,E229*0.035),2)","v":0}]
[{"$nulls":7},{"$f":"ROUND(IF(OR(COUNTIF('Reference Data'!$G$1:$G$17,A230), COUNTIF('Reference Data'!$H$1:$H$100,D230)),0,E230*0.035),2)","v":0}]
[{"$nulls":7},{"$f":"ROUND(IF(OR(COUNTIF('Reference Data'!$G$1:$G$17,A231), COUNTIF('Reference Data'!$H$1:$H$100,D231)),0,E231*0.035),2)","v":0}]
[{"$nulls":7},{"$f":"ROUND(IF(OR(COUNTIF('Reference Data'!$G$1:$G$17,A232), COUNTIF('Reference Data'!$H$1:$H$100,D232)),0,E232*0.035),2)","v":0}]
[{"$nulls":7},{"$f":"ROUND(IF(OR(COUNTIF('Reference Data'!$G$1:$G$17,A233), COUNTIF('Reference Data'!$H$1:$H$100,D233)),0,E233*0.035),2)","v":0}]
[{"$nulls":7},{"$f":"ROUND(IF(OR(COUNTIF('Reference Data'!$G$1:$G$17,A234), COUNTIF('Reference Data'!$H$1:$H$100,D234)),0,E234*0.035),2)","v":0}]
[{"$nulls":7},{"$f":"ROUND(IF(OR(COUNTIF('Reference Data'!$G$1:$G$17,A235), COUNTIF('Reference Data'!$H$1:$H$100,D235)),0,E235*0.035),2)","v":0}]
[{"$nulls":7},{"$f":"ROUND(IF(OR(COUNTIF('Reference Data'!$G$1:$G$17,A236), COUNTIF('Reference Data'!$H$1:$H$100,D236)),0,E236*0.035),2)","v":0}]
[{"$nulls":7},{"$f":"ROUND(IF(OR(COUNTIF('Reference Data'!$G$1:$G$17,A237), COUNTIF('Reference Data'!$H$1:$H$100,D237)),0,E237*0.035),2)","v":0}]
[{"$nulls":7},{"$f":"ROUND(IF(OR(COUNTIF('Reference Data'!$G$1:$G$17,A238), COUNTIF('Reference Data'!$H$1:$H$100,D238)),0,E238*0.035),2)","v":0}]
[{"$nulls":7},{"$f":"ROUND(IF(OR(COUNTIF('Reference Data'!$G$1:$G$17,A239), COUNTIF('Reference Data'!$H$1:$H$100,D239)),0,E239*0.035),2)","v":0}]
[{"$nulls":7},{"$f":"ROUND(IF(OR(COUNTIF('Reference Data'!$G$1:$G$17,A240), COUNTIF('Reference Data'!$H$1:$H$100,D240)),0,E240*0.035),2)","v":0}]
[{"$nulls":7},{"$f":"ROUND(IF(OR(COUNTIF('Reference Data'!$G$1:$G$17,A241), COUNTIF('Reference Data'!$H$1:$H$100,D241)),0,E241*0.035),2)","v":0}]
[{"$nulls":7},{"$f":"ROUND(IF(OR(COUNTIF('Reference Data'!$G$1:$G$17,A242), COUNTIF('Reference Data'!$H$1:$H$100,D242)),0,E242*0.035),2)","v":0}]
[{"$nulls":7},{"$f":"ROUND(IF(OR(COUNTIF('Reference Data'!$G$1:$G$17,A243), COUNTIF('Reference Data'!$H$1:$H$100,D243)),0,E243*0.035),2)","v":0}]
[{"$nulls":7},{"$f":"ROUND(IF(OR(COUNTIF('Reference Data'!$G$1:$G$17,A244), COUNTIF('Reference Data'!$H$1:$H$100,D244)),0,E244*0.035),2)","v":0}]
[{"$nulls":7},{"$f":"ROUND(IF(OR(COUNTIF('Reference Data'!$G$1:$G$17,A245), COUNTIF('Reference Data'!$H$1:$H$100,D245)),0,E245*0.035),2)","v":0}]
[{"$nulls":7},{"$f":"ROUND(IF(OR(COUNTIF('Reference Data'!$G$1:$G$17,A246), COUNTIF('Reference Data'!$H$1:$H$100,D246)),0,E246*0.035),2)","v":0}]
[{"$nulls":7},{"$f":"ROUND(IF(OR(COUNTIF('Reference Data'!$G$1:$G$17,A247), COUNTIF('Reference Data'!$H$1:$H$100,D247)),0,E247*0.035),2)","v":0}]
[{"$nulls":7},{"$f":"ROUND(IF(OR(COUNTIF('Reference Data'!$G$1:$G$17,A248), COUNTIF('Reference Data'!$H$1:$H$100,D248)),0,E248*0.035),2)","v":0}]
[{"$nulls":7},{"$f":"ROUND(IF(OR(COUNTIF('Reference Data'!$G$1:$G$17,A249), COUNTIF('Reference Data'!$H$1:$H$100,D249)),0,E249*0.035),2)","v":0}]
[{"$nulls":7},{"$f":"ROUND(IF(OR(COUNTIF('Reference Data'!$G$1:$G$17,A250), COUNTIF('Reference Data'!$H$1:$H$100,D250)),0,E250*0.035),2)","v":0}]
[{"$nulls":7},{"$f":"ROUND(IF(OR(COUNTIF('Reference Data'!$G$1:$G$17,A251), COUNTIF('Reference Data'!$H$1:$H$100,D251)),0,E251*0.035),2)","v":0}]
[{"$nulls":7},{"$f":"ROUND(IF(OR(COUNTIF('Reference Data'!$G$1:$G$17,A252), COUNTIF('Reference Data'!$H$1:$H$100,D252)),0,E252*0.035),2)","v":0}]
[{"$nulls":7},{"$f":"ROUND(IF(OR(COUNTIF('Reference Data'!$G$1:$G$17,A253), COUNTIF('Reference Data'!$H$1:$H$100,D253)),0,E253*0.035),2)","v":0}]
[{"$nulls":7},{"$f":"ROUND(IF(OR(COUNTIF('Reference Data'!$G$1:$G$17,A254), COUNTIF('Reference Data'!$H$1:$H$100,D254)),0,E254*0.035),2)","v":0}]
[{"$nulls":7},{"$f":"ROUND(IF(OR(COUNTIF('Reference Data'!$G$1:$G$17,A255), COUNTIF('Reference Data'!$H$1:$H$100,D255)),0,E255*0.035),2)","v":0}]
[{"$nulls":7},{"$f":"ROUND(IF(OR(COUNTIF('Reference Data'!$G$1:$G$17,A256), COUNTIF('Reference Data'!$H$1:$H$100,D256)),0,E256*0.035),2)","v":0}]
[{"$nulls":7},{"$f":"ROUND(IF(OR(COUNTIF('Reference Data'!$G$1:$G$17,A257), COUNTIF('Reference Data'!$H$1:$H$100,D257)),0,E257*0.035),2)","v":0}]
[{"$nulls":7},{"$f":"ROUND(IF(OR(COUNTIF('Reference Data'!$G$1:$G$17,A258), COUNTIF('Reference Data'!$H$1:$H$100,D258)),0,E258*0.035),2)","v":0}]
[{"$nulls":7},{"$f":"ROUND(IF(OR(COUNTIF('Reference Data'!$G$1:$G$17,A259), COUNTIF('Reference Data'!$H$1:$H$100,D259)),0,E259*0.035),2)","v":0}]
[{"$nulls":7},{"$f":"ROUND(IF(OR(COUNTIF('Reference Data'!$G$1:$G$17,A260), COUNTIF('Reference Data'!$H$1:$H$100,D260)),0,E260*0.035),2)","v":0}]
[{"$nulls":7},{"$f":"ROUND(IF(OR(COUNTIF('Reference Data'!$G$1:$G$17,A261), COUNTIF('Reference Data'!$H$1:$H$100,D261)),0,E261*0.035),2)","v":0}]
[{"$nulls":7},{"$f":"ROUND(IF(OR(COUNTIF('Reference Data'!$G$1:$G$17,A262), COUNTIF('Reference Data'!$H$1:$H$100,D262)),0,E262*0.035),2)","v":0}]
[{"$nulls":7},{"$f":"ROUND(IF(OR(COUNTIF('Reference Data'!$G$1:$G$17,A263), COUNTIF('Reference Data'!$H$1:$H$100,D263)),0,E263*0.035),2)","v":0}]
[{"$nulls":7},{"$f":"ROUND(IF(OR(COUNTIF('Reference Data'!$G$1:$G$17,A264), COUNTIF('Reference Data'!$H$1:$H$100,D264)),0,E264*0.035),2)","v":0}]
[{"$nulls":7},{"$f":"ROUND(IF(OR(COUNTIF('Reference Data'!$G$1:$G$17,A265), COUNTIF('Reference Data'!$H$1:$H$100,D265)),0,E265*0.035),2)","v":0}]
[{"$nulls":7},{"$f":"ROUND(IF(OR(COUNTIF('Reference Data'!$G$1:$G$17,A266), COUNTIF('Reference Data'!$H$1:$H$100,D266)),0,E266*0.035),2)","v":0}]
[{"$nulls":7},{"$f":"ROUND(IF(OR(COUNTIF('Reference Data'!$G$1:$G$17,A267), COUNTIF('Reference Data'!$H$1:$H$100,D267)),0,E267*0.035),2)","v":0}]
[{"$nulls":7},{"$f":"ROUND(IF(OR(COUNTIF('Reference Data'!$G$1:$G$17,A268), COUNTIF('Reference Data'!$H$1:$H$100,D268)),0,E268*0.035),2)","v":0}]
[{"$nulls":7},{"$f":"ROUND(IF(OR(COUNTIF('Reference Data'!$G$1:$G$17,A269), COUNTIF('Reference Data'!$H$1:$H$100,D269)),0,E269*0.035),2)","v":0}]
[{"$nulls":7},{"$f":"ROUND(IF(OR(COUNTIF('Reference Data'!$G$1:$G$17,A270), COUNTIF('Reference Data'!$H$1:$H$100,D270)),0,E270*0.035),2)","v":0}]
[{"$nulls":7},{"$f":"ROUND(IF(OR(COUNTIF('Reference Data'!$G$1:$G$17,A271), COUNTIF('Reference Data'!$H$1:$H$100,D271)),0,E271*0.035),2)","v":0}]
[{"$nulls":7},{"$f":"ROUND(IF(OR(COUNTIF('Reference Data'!$G$1:$G$17,A272), COUNTIF('Reference Data'!$H$1:$H$100,D272)),0,E272*0.035),2)","v":0}]
[{"$nulls":7},{"$f":"ROUND(IF(OR(COUNTIF('Reference Data'!$G$1:$G$17,A273), COUNTIF('Reference Data'!$H$1:$H$100,D273)),0,E273*0.035),2)","v":0}]
[{"$nulls":7},{"$f":"ROUND(IF(OR(COUNTIF('Reference Data'!$G$1:$G$17,A274), COUNTIF('Reference Data'!$H$1:$H$100,D274)),0,E274*0.035),2)","v":0}]
[{"$nulls":7},{"$f":"ROUND(IF(OR(COUNTIF('Reference Data'!$G$1:$G$17,A275), COUNTIF('Reference Data'!$H$1:$H$100,D275)),0,E275*0.035),2)","v":0}]
[{"$nulls":7},{"$f":"ROUND(IF(OR(COUNTIF('Reference Data'!$G$1:$G$17,A276), COUNTIF('Reference Data'!$H$1:$H$100,D276)),0,E276*0.035),2)","v":0}]
[{"$nulls":7},{"$f":"ROUND(IF(OR(COUNTIF('Reference Data'!$G$1:$G$17,A277), COUNTIF('Reference Data'!$H$1:$H$100,D277)),0,E277*0.035),2)","v":0}]
[{"$nulls":7},{"$f":"ROUND(IF(OR(COUNTIF('Reference Data'!$G$1:$G$17,A278), COUNTIF('Reference Data'!$H$1:$H$100,D278)),0,E278*0.035),2)","v":0}]
[{"$nulls":7},{"$f":"ROUND(IF(OR(COUNTIF('Reference Data'!$G$1:$G$17,A279), COUNTIF('Reference Data'!$H$1:$H$100,D279)),0,E279*0.035),2)","v":0}]
[{"$nulls":7},{"$f":"ROUND(IF(OR(COUNTIF('Reference Data'!$G$1:$G$17,A280), COUNTIF('Reference Data'!$H$1:$H$100,D280)),0,E280*0.035),2)","v":0}]
[{"$nulls":7},{"$f":"ROUND(IF(OR(COUNTIF('Reference Data'!$G$1:$G$17,A281), COUNTIF('Reference Data'!$H$1:$H$100,D281)),0,E281*0.035),2)","v":0}]
[{"$nulls":7},{"$f":"ROUND(IF(OR(COUNTIF('Reference Data'!$G$1:$G$17,A282), COUNTIF('Reference Data'!$H$1:$H$100,D282)),0,E282*0.035),2)","v":0}]
[{"$nulls":7},{"$f":"ROUND(IF(OR(COUNTIF('Reference Data'!$G$1:$G$17,A283), COUNTIF('Reference Data'!$H$1:$H$100,D283)),0,E283*0.035),2)","v":0}]
[{"$nulls":7},{"$f":"ROUND(IF(OR(COUNTIF('Reference Data'!$G$1:$G$17,A284), COUNTIF('Reference Data'!$H$1:$H$100,D284)),0,E284*0.035),2)","v":0}]
[{"$nulls":7},{"$f":"ROUND(IF(OR(COUNTIF('Reference Data'!$G$1:$G$17,A285), COUNTIF('Reference Data'!$H$1:$H$100,D285)),0,E285*0.035),2)","v":0}]
[{"$nulls":7},{"$f":"ROUND(IF(OR(COUNTIF('Reference Data'!$G$1:$G$17,A286), COUNTIF('Reference Data'!$H$1:$H$100,D286)),0,E286*0.035),2)","v":0}]
[{"$nulls":7},{"$f":"ROUND(IF(OR(COUNTIF('Reference Data'!$G$1:$G$17,A287), COUNTIF('Reference Data'!$H$1:$H$100,D287)),0,E287*0.035),2)","v":0}]
[{"$nulls":7},{"$f":"ROUND(IF(OR(COUNTIF('Reference Data'!$G$1:$G$17,A288), COUNTIF('Reference Data'!$H$1:$H$100,D288)),0,E288*0.035),2)","v":0}]
[{"$nulls":7},{"$f":"ROUND(IF(OR(COUNTIF('Reference Data'!$G$1:$G$17,A289), COUNTIF('Reference Data'!$H$1:$H$100,D289)),0,E289*0.035),2)","v":0}]
[{"$nulls":7},{"$f":"ROUND(IF(OR(COUNTIF('Reference Data'!$G$1:$G$17,A290), COUNTIF('Reference Data'!$H$1:$H$100,D290)),0,E290*0.035),2)","v":0}]
[{"$nulls":7},{"$f":"ROUND(IF(OR(COUNTIF('Reference Data'!$G$1:$G$17,A291), COUNTIF('Reference Data'!$H$1:$H$100,D291)),0,E291*0.035),2)","v":0}]
[{"$nulls":7},{"$f":"ROUND(IF(OR(COUNTIF('Reference Data'!$G$1:$G$17,A292), COUNTIF('Reference Data'!$H$1:$H$100,D292)),0,E292*0.035),2)","v":0}]
[{"$nulls":7},{"$f":"ROUND(IF(OR(COUNTIF('Reference Data'!$G$1:$G$17,A293), COUNTIF('Reference Data'!$H$1:$H$100,D293)),0,E293*0.035),2)","v":0}]
[{"$nulls":7},{"$f":"ROUND(IF(OR(COUNTIF('Reference Data'!$G$1:$G$17,A294), COUNTIF('Reference Data'!$H$1:$H$100,D294)),0,E294*0.035),2)","v":0}]
[{"$nulls":7},{"$f":"ROUND(IF(OR(COUNTIF('Reference Data'!$G$1:$G$17,A295), COUNTIF('Reference Data'!$H$1:$H$100,D295)),0,E295*0.035),2)","v":0}]
[{"$nulls":7},{"$f":"ROUND(IF(OR(COUNTIF('Reference Data'!$G$1:$G$17,A296), COUNTIF('Reference Data'!$H$1:$H$100,D296)),0,E296*0.035),2)","v":0}]
[{"$nulls":7},{"$f":"ROUND(IF(OR(COUNTIF('Reference Data'!$G$1:$G$17,A297), COUNTIF('Reference Data'!$H$1:$H$100,D297)),0,E297*0.035),2)","v":0}]
[{"$nulls":7},{"$f":"ROUND(IF(OR(COUNTIF('Reference Data'!$G$1:$G$17,A298), COUNTIF('Reference Data'!$H$1:$H$100,D298)),0,E298*0.035),2)","v":0}]
[{"$nulls":7},{"$f":"ROUND(IF(OR(COUNTIF('Reference Data'!$G$1:$G$17,A299), COUNTIF('Reference Data'!$H$1:$H$100,D299)),0,E299*0.035),2)","v":0}]
[{"$nulls":7},{"$f":"ROUND(IF(OR(COUNTIF('Reference Data'!$G$1:$G$17,A300), COUNTIF('Reference Data'!$H$1:$H$100,D300)),0,E300*0.035),2)","v":0}]
[{"$nulls":7},{"$f":"ROUND(IF(OR(COUNTIF('Reference Data'!$G$1:$G$17,A301), COUNTIF('Reference Data'!$H$1:$H$100,D301)),0,E301*0.035),2)","v":0}]

{"sheet":"February Restatement","index":1,"n_rows":300,"n_cols":16,"rows_kept":300}
[{"$nulls":5},"Enrollment and Payment Data Template"]
["Submission Date:",null,"Change in Enrollment from Prior February Submission? (Y/N)","Yes (populate this sheet with updated enrollment data)","Enrollment Month:","2014-02-01","Submission Status","Initial Submission"]
["State","9 Digit Issuer TIN","5 Digit HIOS Issuer ID","16 Digit QHP ID","Total Premium amount by QHP ID for effectuated enrollments","Total APTC amount by QHP ID for effectuated enrollments","Total CSR amount by QHP ID for effectuated enrollments","Total User Fee amount by QHP ID","Total # of effectuated enrollment groups by QHP ID","Total # of effectuated enrollment groups receiving APTC by QHP ID","Total # of effectuated enrollment groups receiving CSR by QHP ID","Total # of effectuated members by QHP ID","Total # of effectuated members receiving APTC by QHP ID","Total # of effectuated members receiving CSR by QHP ID",null,"Reasons for Validation Failures"]
[{"$nulls":7},{"$f":"ROUND(IF(OR(COUNTIF('Reference Data'!$G$1:$G$17,A4), COUNTIF('Reference Data'!$H$1:$H$100,D4)),0,E4*0.035),2)","v":0}]
[{"$nulls":7},{"$f":"ROUND(IF(OR(COUNTIF('Reference Data'!$G$1:$G$17,A5), COUNTIF('Reference Data'!$H$1:$H$100,D5)),0,E5*0.035),2)","v":0}]
[{"$nulls":7},{"$f":"ROUND(IF(OR(COUNTIF('Reference Data'!$G$1:$G$17,A6), COUNTIF('Reference Data'!$H$1:$H$100,D6)),0,E6*0.035),2)","v":0}]
[{"$nulls":7},{"$f":"ROUND(IF(OR(COUNTIF('Reference Data'!$G$1:$G$17,A7), COUNTIF('Reference Data'!$H$1:$H$100,D7)),0,E7*0.035),2)","v":0}]
[{"$nulls":7},{"$f":"ROUND(IF(OR(COUNTIF('Reference Data'!$G$1:$G$17,A8), COUNTIF('Reference Data'!$H$1:$H$100,D8)),0,E8*0.035),2)","v":0}]
[{"$nulls":7},{"$f":"ROUND(IF(OR(COUNTIF('Reference Data'!$G$1:$G$17,A9), COUNTIF('Reference Data'!$H$1:$H$100,D9)),0,E9*0.035),2)","v":0}]
[{"$nulls":7},{"$f":"ROUND(IF(OR(COUNTIF('Reference Data'!$G$1:$G$17,A10), COUNTIF('Reference Data'!$H$1:$H$100,D10)),0,E10*0.035),2)","v":0}]
[{"$nulls":7},{"$f":"ROUND(IF(OR(COUNTIF('Reference Data'!$G$1:$G$17,A11), COUNTIF('Reference Data'!$H$1:$H$100,D11)),0,E11*0.035),2)","v":0}]
[{"$nulls":7},{"$f":"ROUND(IF(OR(COUNTIF('Reference Data'!$G$1:$G$17,A12), COUNTIF('Reference Data'!$H$1:$H$100,D12)),0,E12*0.035),2)","v":0}]
[{"$nulls":7},{"$f":"ROUND(IF(OR(COUNTIF('Reference Data'!$G$1:$G$17,A13), COUNTIF('Reference Data'!$H$1:$H$100,D13)),0,E13*0.035),2)","v":0}]
[{"$nulls":7},{"$f":"ROUND(IF(OR(COUNTIF('Reference Data'!$G$1:$G$17,A14), COUNTIF('Reference Data'!$H$1:$H$100,D14)),0,E14*0.035),2)","v":0}]
[{"$nulls":7},{"$f":"ROUND(IF(OR(COUNTIF('Reference Data'!$G$1:$G$17,A15), COUNTIF('Reference Data'!$H$1:$H$100,D15)),0,E15*0.035),2)","v":0}]
[{"$nulls":7},{"$f":"ROUND(IF(OR(COUNTIF('Reference Data'!$G$1:$G$17,A16), COUNTIF('Reference Data'!$H$1:$H$100,D16)),0,E16*0.035),2)","v":0}]
[{"$nulls":7},{"$f":"ROUND(IF(OR(COUNTIF('Reference Data'!$G$1:$G$17,A17), COUNTIF('Reference Data'!$H$1:$H$100,D17)),0,E17*0.035),2)","v":0}]
[{"$nulls":7},{"$f":"ROUND(IF(OR(COUNTIF('Reference Data'!$G$1:$G$17,A18), COUNTIF('Reference Data'!$H$1:$H$100,D18)),0,E18*0.035),2)","v":0}]
[{"$nulls":7},{"$f":"ROUND(IF(OR(COUNTIF('Reference Data'!$G$1:$G$17,A19), COUNTIF('Reference Data'!$H$1:$H$100,D19)),0,E19*0.035),2)","v":0}]
[{"$nulls":7},{"$f":"ROUND(IF(OR(COUNTIF('Reference Data'!$G$1:$G$17,A20), COUNTIF('Reference Data'!$H$1:$H$100,D20)),0,E20*0.035),2)","v":0}]
[{"$nulls":7},{"$f":"ROUND(IF(OR(COUNTIF('Reference Data'!$G$1:$G$17,A21), COUNTIF('Reference Data'!$H$1:$H$100,D21)),0,E21*0.035),2)","v":0}]
[{"$nulls":7},{"$f":"ROUND(IF(OR(COUNTIF('Reference Data'!$G$1:$G$17,A22), COUNTIF('Reference Data'!$H$1:$H$100,D22)),0,E22*0.035),2)","v":0}]
[{"$nulls":7},{"$f":"ROUND(IF(OR(COUNTIF('Reference Data'!$G$1:$G$17,A23), COUNTIF('Reference Data'!$H$1:$H$100,D23)),0,E23*0.035),2)","v":0}]
[{"$nulls":7},{"$f":"ROUND(IF(OR(COUNTIF('Reference Data'!$G$1:$G$17,A24), COUNTIF('Reference Data'!$H$1:$H$100,D24)),0,E24*0.035),2)","v":0}]
[{"$nulls":7},{"$f":"ROUND(IF(OR(COUNTIF('Reference Data'!$G$1:$G$17,A25), COUNTIF('Reference Data'!$H$1:$H$100,D25)),0,E25*0.035),2)","v":0}]
[{"$nulls":7},{"$f":"ROUND(IF(OR(COUNTIF('Reference Data'!$G$1:$G$17,A26), COUNTIF('Reference Data'!$H$1:$H$100,D26)),0,E26*0.035),2)","v":0}]
[{"$nulls":7},{"$f":"ROUND(IF(OR(COUNTIF('Reference Data'!$G$1:$G$17,A27), COUNTIF('Reference Data'!$H$1:$H$100,D27)),0,E27*0.035),2)","v":0}]
[{"$nulls":7},{"$f":"ROUND(IF(OR(COUNTIF('Reference Data'!$G$1:$G$17,A28), COUNTIF('Reference Data'!$H$1:$H$100,D28)),0,E28*0.035),2)","v":0}]
[{"$nulls":7},{"$f":"ROUND(IF(OR(COUNTIF('Reference Data'!$G$1:$G$17,A29), COUNTIF('Reference Data'!$H$1:$H$100,D29)),0,E29*0.035),2)","v":0}]
[{"$nulls":7},{"$f":"ROUND(IF(OR(COUNTIF('Reference Data'!$G$1:$G$17,A30), COUNTIF('Reference Data'!$H$1:$H$100,D30)),0,E30*0.035),2)","v":0}]
[{"$nulls":7},{"$f":"ROUND(IF(OR(COUNTIF('Reference Data'!$G$1:$G$17,A31), COUNTIF('Reference Data'!$H$1:$H$100,D31)),0,E31*0.035),2)","v":0}]
[{"$nulls":7},{"$f":"ROUND(IF(OR(COUNTIF('Reference Data'!$G$1:$G$17,A32), COUNTIF('Reference Data'!$H$1:$H$100,D32)),0,E32*0.035),2)","v":0}]
[{"$nulls":7},{"$f":"ROUND(IF(OR(COUNTIF('Reference Data'!$G$1:$G$17,A33), COUNTIF('Reference Data'!$H$1:$H$100,D33)),0,E33*0.035),2)","v":0}]
[{"$nulls":7},{"$f":"ROUND(IF(OR(COUNTIF('Reference Data'!$G$1:$G$17,A34), COUNTIF('Reference Data'!$H$1:$H$100,D34)),0,E34*0.035),2)","v":0}]
[{"$nulls":7},{"$f":"ROUND(IF(OR(COUNTIF('Reference Data'!$G$1:$G$17,A35), COUNTIF('Reference Data'!$H$1:$H$100,D35)),0,E35*0.035),2)","v":0}]
[{"$nulls":7},{"$f":"ROUND(IF(OR(COUNTIF('Reference Data'!$G$1:$G$17,A36), COUNTIF('Reference Data'!$H$1:$H$100,D36)),0,E36*0.035),2)","v":0}]
[{"$nulls":7},{"$f":"ROUND(IF(OR(COUNTIF('Reference Data'!$G$1:$G$17,A37), COUNTIF('Reference Data'!$H$1:$H$100,D37)),0,E37*0.035),2)","v":0}]
[{"$nulls":7},{"$f":"ROUND(IF(OR(COUNTIF('Reference Data'!$G$1:$G$17,A38), COUNTIF('Reference Data'!$H$1:$H$100,D38)),0,E38*0.035),2)","v":0}]
[{"$nulls":7},{"$f":"ROUND(IF(OR(COUNTIF('Reference Data'!$G$1:$G$17,A39), COUNTIF('Reference Data'!$H$1:$H$100,D39)),0,E39*0.035),2)","v":0}]
[{"$nulls":7},{"$f":"ROUND(IF(OR(COUNTIF('Reference Data'!$G$1:$G$17,A40), COUNTIF('Reference Data'!$H$1:$H$100,D40)),0,E40*0.035),2)","v":0}]
[{"$nulls":7},{"$f":"ROUND(IF(OR(COUNTIF('Reference Data'!$G$1:$G$17,A41), COUNTIF('Reference Data'!$H$1:$H$100,D41)),0,E41*0.035),2)","v":0}]
[{"$nulls":7},{"$f":"ROUND(IF(OR(COUNTIF('Reference Data'!$G$1:$G$17,A42), COUNTIF('Reference Data'!$H$1:$H$100,D42)),0,E42*0.035),2)","v":0}]
[{"$nulls":7},{"$f":"ROUND(IF(OR(COUNTIF('Reference Data'!$G$1:$G$17,A43), COUNTIF('Reference Data'!$H$1:$H$100,D43)),0,E43*0.035),2)","v":0}]
[{"$nulls":7},{"$f":"ROUND(IF(OR(COUNTIF('Reference Data'!$G$1:$G$17,A44), COUNTIF('Reference Data'!$H$1:$H$100,D44)),0,E44*0.035),2)","v":0}]
[{"$nulls":7},{"$f":"ROUND(IF(OR(COUNTIF('Reference Data'!$G$1:$G$17,A45), COUNTIF('Reference Data'!$H$1:$H$100,D45)),0,E45*0.035),2)","v":0}]
[{"$nulls":7},{"$f":"ROUND(IF(OR(COUNTIF('Reference Data'!$G$1:$G$17,A46), COUNTIF('Reference Data'!$H$1:$H$100,D46)),0,E46*0.035),2)","v":0}]
[{"$nulls":7},{"$f":"ROUND(IF(OR(COUNTIF('Reference Data'!$G$1:$G$17,A47), COUNTIF('Reference Data'!$H$1:$H$100,D47)),0,E47*0.035),2)","v":0}]
[{"$nulls":7},{"$f":"ROUND(IF(OR(COUNTIF('Reference Data'!$G$1:$G$17,A48), COUNTIF('Reference Data'!$H$1:$H$100,D48)),0,E48*0.035),2)","v":0}]
[{"$nulls":7},{"$f":"ROUND(IF(OR(COUNTIF('Reference Data'!$G$1:$G$17,A49), COUNTIF('Reference Data'!$H$1:$H$100,D49)),0,E49*0.035),2)","v":0}]
[{"$nulls":7},{"$f":"ROUND(IF(OR(COUNTIF('Reference Data'!$G$1:$G$17,A50), COUNTIF('Reference Data'!$H$1:$H$100,D50)),0,E50*0.035),2)","v":0}]
[{"$nulls":7},{"$f":"ROUND(IF(OR(COUNTIF('Reference Data'!$G$1:$G$17,A51), COUNTIF('Reference Data'!$H$1:$H$100,D51)),0,E51*0.035),2)","v":0}]
[{"$nulls":7},{"$f":"ROUND(IF(OR(COUNTIF('Reference Data'!$G$1:$G$17,A52), COUNTIF('Reference Data'!$H$1:$H$100,D52)),0,E52*0.035),2)","v":0}]
[{"$nulls":7},{"$f":"ROUND(IF(OR(COUNTIF('Reference Data'!$G$1:$G$17,A53), COUNTIF('Reference Data'!$H$1:$H$100,D53)),0,E53*0.035),2)","v":0}]
[{"$nulls":7},{"$f":"ROUND(IF(OR(COUNTIF('Reference Data'!$G$1:$G$17,A54), COUNTIF('Reference Data'!$H$1:$H$100,D54)),0,E54*0.035),2)","v":0}]
[{"$nulls":7},{"$f":"ROUND(IF(OR(COUNTIF('Reference Data'!$G$1:$G$17,A55), COUNTIF('Reference Data'!$H$1:$H$100,D55)),0,E55*0.035),2)","v":0}]
[{"$nulls":7},{"$f":"ROUND(IF(OR(COUNTIF('Reference Data'!$G$1:$G$17,A56), COUNTIF('Reference Data'!$H$1:$H$100,D56)),0,E56*0.035),2)","v":0}]
[{"$nulls":7},{"$f":"ROUND(IF(OR(COUNTIF('Reference Data'!$G$1:$G$17,A57), COUNTIF('Reference Data'!$H$1:$H$100,D57)),0,E57*0.035),2)","v":0}]
[{"$nulls":7},{"$f":"ROUND(IF(OR(COUNTIF('Reference Data'!$G$1:$G$17,A58), COUNTIF('Reference Data'!$H$1:$H$100,D58)),0,E58*0.035),2)","v":0}]
[{"$nulls":7},{"$f":"ROUND(IF(OR(COUNTIF('Reference Data'!$G$1:$G$17,A59), COUNTIF('Reference Data'!$H$1:$H$100,D59)),0,E59*0.035),2)","v":0}]
[{"$nulls":7},{"$f":"ROUND(IF(OR(COUNTIF('Reference Data'!$G$1:$G$17,A60), COUNTIF('Reference Data'!$H$1:$H$100,D60)),0,E60*0.035),2)","v":0}]
[{"$nulls":7},{"$f":"ROUND(IF(OR(COUNTIF('Reference Data'!$G$1:$G$17,A61), COUNTIF('Reference Data'!$H$1:$H$100,D61)),0,E61*0.035),2)","v":0}]
[{"$nulls":7},{"$f":"ROUND(IF(OR(COUNTIF('Reference Data'!$G$1:$G$17,A62), COUNTIF('Reference Data'!$H$1:$H$100,D62)),0,E62*0.035),2)","v":0}]
[{"$nulls":7},{"$f":"ROUND(IF(OR(COUNTIF('Reference Data'!$G$1:$G$17,A63), COUNTIF('Reference Data'!$H$1:$H$100,D63)),0,E63*0.035),2)","v":0}]
[{"$nulls":7},{"$f":"ROUND(IF(OR(COUNTIF('Reference Data'!$G$1:$G$17,A64), COUNTIF('Reference Data'!$H$1:$H$100,D64)),0,E64*0.035),2)","v":0}]
[{"$nulls":7},{"$f":"ROUND(IF(OR(COUNTIF('Reference Data'!$G$1:$G$17,A65), COUNTIF('Reference Data'!$H$1:$H$100,D65)),0,E65*0.035),2)","v":0}]
[{"$nulls":7},{"$f":"ROUND(IF(OR(COUNTIF('Reference Data'!$G$1:$G$17,A66), COUNTIF('Reference Data'!$H$1:$H$100,D66)),0,E66*0.035),2)","v":0}]
[{"$nulls":7},{"$f":"ROUND(IF(OR(COUNTIF('Reference Data'!$G$1:$G$17,A67), COUNTIF('Reference Data'!$H$1:$H$100,D67)),0,E67*0.035),2)","v":0}]
[{"$nulls":7},{"$f":"ROUND(IF(OR(COUNTIF('Reference Data'!$G$1:$G$17,A68), COUNTIF('Reference Data'!$H$1:$H$100,D68)),0,E68*0.035),2)","v":0}]
[{"$nulls":7},{"$f":"ROUND(IF(OR(COUNTIF('Reference Data'!$G$1:$G$17,A69), COUNTIF('Reference Data'!$H$1:$H$100,D69)),0,E69*0.035),2)","v":0}]
[{"$nulls":7},{"$f":"ROUND(IF(OR(COUNTIF('Reference Data'!$G$1:$G$17,A70), COUNTIF('Reference Data'!$H$1:$H$100,D70)),0,E70*0.035),2)","v":0}]
[{"$nulls":7},{"$f":"ROUND(IF(OR(COUNTIF('Reference Data'!$G$1:$G$17,A71), COUNTIF('Reference Data'!$H$1:$H$100,D71)),0,E71*0.035),2)","v":0}]
[{"$nulls":7},{"$f":"ROUND(IF(OR(COUNTIF('Reference Data'!$G$1:$G$17,A72), COUNTIF('Reference Data'!$H$1:$H$100,D72)),0,E72*0.035),2)","v":0}]
[{"$nulls":7},{"$f":"ROUND(IF(OR(COUNTIF('Reference Data'!$G$1:$G$17,A73), COUNTIF('Reference Data'!$H$1:$H$100,D73)),0,E73*0.035),2)","v":0}]
[{"$nulls":7},{"$f":"ROUND(IF(OR(COUNTIF('Reference Data'!$G$1:$G$17,A74), COUNTIF('Reference Data'!$H$1:$H$100,D74)),0,E74*0.035),2)","v":0}]
[{"$nulls":7},{"$f":"ROUND(IF(OR(COUNTIF('Reference Data'!$G$1:$G$17,A75), COUNTIF('Reference Data'!$H$1:$H$100,D75)),0,E75*0.035),2)","v":0}]
[{"$nulls":7},{"$f":"ROUND(IF(OR(COUNTIF('Reference Data'!$G$1:$G$17,A76), COUNTIF('Reference Data'!$H$1:$H$100,D76)),0,E76*0.035),2)","v":0}]
[{"$nulls":7},{"$f":"ROUND(IF(OR(COUNTIF('Reference Data'!$G$1:$G$17,A77), COUNTIF('Reference Data'!$H$1:$H$100,D77)),0,E77*0.035),2)","v":0}]
[{"$nulls":7},{"$f":"ROUND(IF(OR(COUNTIF('Reference Data'!$G$1:$G$17,A78), COUNTIF('Reference Data'!$H$1:$H$100,D78)),0,E78*0.035),2)","v":0}]
[{"$nulls":7},{"$f":"ROUND(IF(OR(COUNTIF('Reference Data'!$G$1:$G$17,A79), COUNTIF('Reference Data'!$H$1:$H$100,D79)),0,E79*0.035),2)","v":0}]
[{"$nulls":7},{"$f":"ROUND(IF(OR(COUNTIF('Reference Data'!$G$1:$G$17,A80), COUNTIF('Reference Data'!$H$1:$H$100,D80)),0,E80*0.035),2)","v":0}]
[{"$nulls":7},{"$f":"ROUND(IF(OR(COUNTIF('Reference Data'!$G$1:$G$17,A81), COUNTIF('Reference Data'!$H$1:$H$100,D81)),0,E81*0.035),2)","v":0}]
[{"$nulls":7},{"$f":"ROUND(IF(OR(COUNTIF('Reference Data'!$G$1:$G$17,A82), COUNTIF('Reference Data'!$H$1:$H$100,D82)),0,E82*0.035),2)","v":0}]
[{"$nulls":7},{"$f":"ROUND(IF(OR(COUNTIF('Reference Data'!$G$1:$G$17,A83), COUNTIF('Reference Data'!$H$1:$H$100,D83)),0,E83*0.035),2)","v":0}]
[{"$nulls":7},{"$f":"ROUND(IF(OR(COUNTIF('Reference Data'!$G$1:$G$17,A84), COUNTIF('Reference Data'!$H$1:$H$100,D84)),0,E84*0.035),2)","v":0}]
[{"$nulls":7},{"$f":"ROUND(IF(OR(COUNTIF('Reference Data'!$G$1:$G$17,A85), COUNTIF('Reference Data'!$H$1:$H$100,D85)),0,E85*0.035),2)","v":0}]
[{"$nulls":7},{"$f":"ROUND(IF(OR(COUNTIF('Reference Data'!$G$1:$G$17,A86), COUNTIF('Reference Data'!$H$1:$H$100,D86)),0,E86*0.035),2)","v":0}]
[{"$nulls":7},{"$f":"ROUND(IF(OR(COUNTIF('Reference Data'!$G$1:$G$17,A87), COUNTIF('Reference Data'!$H$1:$H$100,D87)),0,E87*0.035),2)","v":0}]
[{"$nulls":7},{"$f":"ROUND(IF(OR(COUNTIF('Reference Data'!$G$1:$G$17,A88), COUNTIF('Reference Data'!$H$1:$H$100,D88)),0,E88*0.035),2)","v":0}]
[{"$nulls":7},{"$f":"ROUND(IF(OR(COUNTIF('Reference Data'!$G$1:$G$17,A89), COUNTIF('Reference Data'!$H$1:$H$100,D89)),0,E89*0.035),2)","v":0}]
[{"$nulls":7},{"$f":"ROUND(IF(OR(COUNTIF('Reference Data'!$G$1:$G$17,A90), COUNTIF('Reference Data'!$H$1:$H$100,D90)),0,E90*0.035),2)","v":0}]
[{"$nulls":7},{"$f":"ROUND(IF(OR(COUNTIF('Reference Data'!$G$1:$G$17,A91), COUNTIF('Reference Data'!$H$1:$H$100,D91)),0,E91*0.035),2)","v":0}]
[{"$nulls":7},{"$f":"ROUND(IF(OR(COUNTIF('Reference Data'!$G$1:$G$17,A92), COUNTIF('Reference Data'!$H$1:$H$100,D92)),0,E92*0.035),2)","v":0}]
[{"$nulls":7},{"$f":"ROUND(IF(OR(COUNTIF('Reference Data'!$G$1:$G$17,A93), COUNTIF('Reference Data'!$H$1:$H$100,D93)),0,E93*0.035),2)","v":0}]
[{"$nulls":7},{"$f":"ROUND(IF(OR(COUNTIF('Reference Data'!$G$1:$G$17,A94), COUNTIF('Reference Data'!$H$1:$H$100,D94)),0,E94*0.035),2)","v":0}]
[{"$nulls":7},{"$f":"ROUND(IF(OR(COUNTIF('Reference Data'!$G$1:$G$17,A95), COUNTIF('Reference Data'!$H$1:$H$100,D95)),0,E95*0.035),2)","v":0}]
[{"$nulls":7},{"$f":"ROUND(IF(OR(COUNTIF('Reference Data'!$G$1:$G$17,A96), COUNTIF('Reference Data'!$H$1:$H$100,D96)),0,E96*0.035),2)","v":0}]
[{"$nulls":7},{"$f":"ROUND(IF(OR(COUNTIF('Reference Data'!$G$1:$G$17,A97), COUNTIF('Reference Data'!$H$1:$H$100,D97)),0,E97*0.035),2)","v":0}]
[{"$nulls":7},{"$f":"ROUND(IF(OR(COUNTIF('Reference Data'!$G$1:$G$17,A98), COUNTIF('Reference Data'!$H$1:$H$100,D98)),0,E98*0.035),2)","v":0}]
[{"$nulls":7},{"$f":"ROUND(IF(OR(COUNTIF('Reference Data'!$G$1:$G$17,A99), COUNTIF('Reference Data'!$H$1:$H$100,D99)),0,E99*0.035),2)","v":0}]
[{"$nulls":7},{"$f":"ROUND(IF(OR(COUNTIF('Reference Data'!$G$1:$G$17,A100), COUNTIF('Reference Data'!$H$1:$H$100,D100)),0,E100*0.035),2)","v":0}]
[{"$nulls":7},{"$f":"ROUND(IF(OR(COUNTIF('Reference Data'!$G$1:$G$17,A101), COUNTIF('Reference Data'!$H$1:$H$100,D101)),0,E101*0.035),2)","v":0}]
[{"$nulls":7},{"$f":"ROUND(IF(OR(COUNTIF('Reference Data'!$G$1:$G$17,A102), COUNTIF('Reference Data'!$H$1:$H$100,D102)),0,E102*0.035),2)","v":0}]
[{"$nulls":7},{"$f":"ROUND(IF(OR(COUNTIF('Reference Data'!$G$1:$G$17,A103), COUNTIF('Reference Data'!$H$1:$H$100,D103)),0,E103*0.035),2)","v":0}]
[{"$nulls":7},{"$f":"ROUND(IF(OR(COUNTIF('Reference Data'!$G$1:$G$17,A104), COUNTIF('Reference Data'!$H$1:$H$100,D104)),0,E104*0.035),2)","v":0}]
[{"$nulls":7},{"$f":"ROUND(IF(OR(COUNTIF('Reference Data'!$G$1:$G$17,A105), COUNTIF('Reference Data'!$H$1:$H$100,D105)),0,E105*0.035),2)","v":0}]
[{"$nulls":7},{"$f":"ROUND(IF(OR(COUNTIF('Reference Data'!$G$1:$G$17,A106), COUNTIF('Reference Data'!$H$1:$H$100,D106)),0,E106*0.035),2)","v":0}]
[{"$nulls":7},{"$f":"ROUND(IF(OR(COUNTIF('Reference Data'!$G$1:$G$17,A107), COUNTIF('Reference Data'!$H$1:$H$100,D107)),0,E107*0.035),2)","v":0}]
[{"$nulls":7},{"$f":"ROUND(IF(OR(COUNTIF('Reference Data'!$G$1:$G$17,A108), COUNTIF('Reference Data'!$H$1:$H$100,D108)),0,E108*0.035),2)","v":0}]
[{"$nulls":7},{"$f":"ROUND(IF(OR(COUNTIF('Reference Data'!$G$1:$G$17,A109), COUNTIF('Reference Data'!$H$1:$H$100,D109)),0,E109*0.035),2)","v":0}]
[{"$nulls":7},{"$f":"ROUND(IF(OR(COUNTIF('Reference Data'!$G$1:$G$17,A110), COUNTIF('Reference Data'!$H$1:$H$100,D110)),0,E110*0.035),2)","v":0}]
[{"$nulls":7},{"$f":"ROUND(IF(OR(COUNTIF('Reference Data'!$G$1:$G$17,A111), COUNTIF('Reference Data'!$H$1:$H$100,D111)),0,E111*0.035),2)","v":0}]
[{"$nulls":7},{"$f":"ROUND(IF(OR(COUNTIF('Reference Data'!$G$1:$G$17,A112), COUNTIF('Reference Data'!$H$1:$H$100,D112)),0,E112*0.035),2)","v":0}]
[{"$nulls":7},{"$f":"ROUND(IF(OR(COUNTIF('Reference Data'!$G$1:$G$17,A113), COUNTIF('Reference Data'!$H$1:$H$100,D113)),0,E113*0.035),2)","v":0}]
[{"$nulls":7},{"$f":"ROUND(IF(OR(COUNTIF('Reference Data'!$G$1:$G$17,A114), COUNTIF('Reference Data'!$H$1:$H$100,D114)),0,E114*0.035),2)","v":0}]
[{"$nulls":7},{"$f":"ROUND(IF(OR(COUNTIF('Reference Data'!$G$1:$G$17,A115), COUNTIF('Reference Data'!$H$1:$H$100,D115)),0,E115*0.035),2)","v":0}]
[{"$nulls":7},{"$f":"ROUND(IF(OR(COUNTIF('Reference Data'!$G$1:$G$17,A116), COUNTIF('Reference Data'!$H$1:$H$100,D116)),0,E116*0.035),2)","v":0}]
[{"$nulls":7},{"$f":"ROUND(IF(OR(COUNTIF('Reference Data'!$G$1:$G$17,A117), COUNTIF('Reference Data'!$H$1:$H$100,D117)),0,E117*0.035),2)","v":0}]
[{"$nulls":7},{"$f":"ROUND(IF(OR(COUNTIF('Reference Data'!$G$1:$G$17,A118), COUNTIF('Reference Data'!$H$1:$H$100,D118)),0,E118*0.035),2)","v":0}]
[{"$nulls":7},{"$f":"ROUND(IF(OR(COUNTIF('Reference Data'!$G$1:$G$17,A119), COUNTIF('Reference Data'!$H$1:$H$100,D119)),0,E119*0.035),2)","v":0}]
[{"$nulls":7},{"$f":"ROUND(IF(OR(COUNTIF('Reference Data'!$G$1:$G$17,A120), COUNTIF('Reference Data'!$H$1:$H$100,D120)),0,E120*0.035),2)","v":0}]
[{"$nulls":7},{"$f":"ROUND(IF(OR(COUNTIF('Reference Data'!$G$1:$G$17,A121), COUNTIF('Reference Data'!$H$1:$H$100,D121)),0,E121*0.035),2)","v":0}]
[{"$nulls":7},{"$f":"ROUND(IF(OR(COUNTIF('Reference Data'!$G$1:$G$17,A122), COUNTIF('Reference Data'!$H$1:$H$100,D122)),0,E122*0.035),2)","v":0}]
[{"$nulls":7},{"$f":"ROUND(IF(OR(COUNTIF('Reference Data'!$G$1:$G$17,A123), COUNTIF('Reference Data'!$H$1:$H$100,D123)),0,E123*0.035),2)","v":0}]
[{"$nulls":7},{"$f":"ROUND(IF(OR(COUNTIF('Reference Data'!$G$1:$G$17,A124), COUNTIF('Reference Data'!$H$1:$H$100,D124)),0,E124*0.035),2)","v":0}]
[{"$nulls":7},{"$f":"ROUND(IF(OR(COUNTIF('Reference Data'!$G$1:$G$17,A125), COUNTIF('Reference Data'!$H$1:$H$100,D125)),0,E125*0.035),2)","v":0}]
[{"$nulls":7},{"$f":"ROUND(IF(OR(COUNTIF('Reference Data'!$G$1:$G$17,A126), COUNTIF('Reference Data'!$H$1:$H$100,D126)),0,E126*0.035),2)","v":0}]
[{"$nulls":7},{"$f":"ROUND(IF(OR(COUNTIF('Reference Data'!$G$1:$G$17,A127), COUNTIF('Reference Data'!$H$1:$H$100,D127)),0,E127*0.035),2)","v":0}]
[{"$nulls":7},{"$f":"ROUND(IF(OR(COUNTIF('Reference Data'!$G$1:$G$17,A128), COUNTIF('Reference Data'!$H$1:$H$100,D128)),0,E128*0.035),2)","v":0}]
[{"$nulls":7},{"$f":"ROUND(IF(OR(COUNTIF('Reference Data'!$G$1:$G$17,A129), COUNTIF('Reference Data'!$H$1:$H$100,D129)),0,E129*0.035),2)","v":0}]
[{"$nulls":7},{"$f":"ROUND(IF(OR(COUNTIF('Reference Data'!$G$1:$G$17,A130), COUNTIF('Reference Data'!$H$1:$H$100,D130)),0,E130*0.035),2)","v":0}]
[{"$nulls":7},{"$f":"ROUND(IF(OR(COUNTIF('Reference Data'!$G$1:$G$17,A131), COUNTIF('Reference Data'!$H$1:$H$100,D131)),0,E131*0.035),2)","v":0}]
[{"$nulls":7},{"$f":"ROUND(IF(OR(COUNTIF('Reference Data'!$G$1:$G$17,A132), COUNTIF('Reference Data'!$H$1:$H$100,D132)),0,E132*0.035),2)","v":0}]
[{"$nulls":7},{"$f":"ROUND(IF(OR(COUNTIF('Reference Data'!$G$1:$G$17,A133), COUNTIF('Reference Data'!$H$1:$H$100,D133)),0,E133*0.035),2)","v":0}]
[{"$nulls":7},{"$f":"ROUND(IF(OR(COUNTIF('Reference Data'!$G$1:$G$17,A134), COUNTIF('Reference Data'!$H$1:$H$100,D134)),0,E134*0.035),2)","v":0}]
[{"$nulls":7},{"$f":"ROUND(IF(OR(COUNTIF('Reference Data'!$G$1:$G$17,A135), COUNTIF('Reference Data'!$H$1:$H$100,D135)),0,E135*0.035),2)","v":0}]
[{"$nulls":7},{"$f":"ROUND(IF(OR(COUNTIF('Reference Data'!$G$1:$G$17,A136), COUNTIF('Reference Data'!$H$1:$H$100,D136)),0,E136*0.035),2)","v":0}]
[{"$nulls":7},{"$f":"ROUND(IF(OR(COUNTIF('Reference Data'!$G$1:$G$17,A137), COUNTIF('Reference Data'!$H$1:$H$100,D137)),0,E137*0.035),2)","v":0}]
[{"$nulls":7},{"$f":"ROUND(IF(OR(COUNTIF('Reference Data'!$G$1:$G$17,A138), COUNTIF('Reference Data'!$H$1:$H$100,D138)),0,E138*0.035),2)","v":0}]
[{"$nulls":7},{"$f":"ROUND(IF(OR(COUNTIF('Reference Data'!$G$1:$G$17,A139), COUNTIF('Reference Data'!$H$1:$H$100,D139)),0,E139*0.035),2)","v":0}]
[{"$nulls":7},{"$f":"ROUND(IF(OR(COUNTIF('Reference Data'!$G$1:$G$17,A140), COUNTIF('Reference Data'!$H$1:$H$100,D140)),0,E140*0.035),2)","v":0}]
[{"$nulls":7},{"$f":"ROUND(IF(OR(COUNTIF('Reference Data'!$G$1:$G$17,A141), COUNTIF('Reference Data'!$H$1:$H$100,D141)),0,E141*0.035),2)","v":0}]
[{"$nulls":7},{"$f":"ROUND(IF(OR(COUNTIF('Reference Data'!$G$1:$G$17,A142), COUNTIF('Reference Data'!$H$1:$H$100,D142)),0,E142*0.035),2)","v":0}]
[{"$nulls":7},{"$f":"ROUND(IF(OR(COUNTIF('Reference Data'!$G$1:$G$17,A143), COUNTIF('Reference Data'!$H$1:$H$100,D143)),0,E143*0.035),2)","v":0}]
[{"$nulls":7},{"$f":"ROUND(IF(OR(COUNTIF('Reference Data'!$G$1:$G$17,A144), COUNTIF('Reference Data'!$H$1:$H$100,D144)),0,E144*0.035),2)","v":0}]
[{"$nulls":7},{"$f":"ROUND(IF(OR(COUNTIF('Reference Data'!$G$1:$G$17,A145), COUNTIF('Reference Data'!$H$1:$H$100,D145)),0,E145*0.035),2)","v":0}]
[{"$nulls":7},{"$f":"ROUND(IF(OR(COUNTIF('Reference Data'!$G$1:$G$17,A146), COUNTIF('Reference Data'!$H$1:$H$100,D146)),0,E146*0.035),2)","v":0}]
[{"$nulls":7},{"$f":"ROUND(IF(OR(COUNTIF('Reference Data'!$G$1:$G$17,A147), COUNTIF('Reference Data'!$H$1:$H$100,D147)),0,E147*0.035),2)","v":0}]
[{"$nulls":7},{"$f":"ROUND(IF(OR(COUNTIF('Reference Data'!$G$1:$G$17,A148), COUNTIF('Reference Data'!$H$1:$H$100,D148)),0,E148*0.035),2)","v":0}]
[{"$nulls":7},{"$f":"ROUND(IF(OR(COUNTIF('Reference Data'!$G$1:$G$17,A149), COUNTIF('Reference Data'!$H$1:$H$100,D149)),0,E149*0.035),2)","v":0}]
[{"$nulls":7},{"$f":"ROUND(IF(OR(COUNTIF('Reference Data'!$G$1:$G$17,A150), COUNTIF('Reference Data'!$H$1:$H$100,D150)),0,E150*0.035),2)","v":0}]
[{"$nulls":7},{"$f":"ROUND(IF(OR(COUNTIF('Reference Data'!$G$1:$G$17,A151), COUNTIF('Reference Data'!$H$1:$H$100,D151)),0,E151*0.035),2)","v":0}]
[{"$nulls":7},{"$f":"ROUND(IF(OR(COUNTIF('Reference Data'!$G$1:$G$17,A152), COUNTIF('Reference Data'!$H$1:$H$100,D152)),0,E152*0.035),2)","v":0}]
[{"$nulls":7},{"$f":"ROUND(IF(OR(COUNTIF('Reference Data'!$G$1:$G$17,A153), COUNTIF('Reference Data'!$H$1:$H$100,D153)),0,E153*0.035),2)","v":0}]
[{"$nulls":7},{"$f":"ROUND(IF(OR(COUNTIF('Reference Data'!$G$1:$G$17,A154), COUNTIF('Reference Data'!$H$1:$H$100,D154)),0,E154*0.035),2)","v":0}]
[{"$nulls":7},{"$f":"ROUND(IF(OR(COUNTIF('Reference Data'!$G$1:$G$17,A155), COUNTIF('Reference Data'!$H$1:$H$100,D155)),0,E155*0.035),2)","v":0}]
[{"$nulls":7},{"$f":"ROUND(IF(OR(COUNTIF('Reference Data'!$G$1:$G$17,A156), COUNTIF('Reference Data'!$H$1:$H$100,D156)),0,E156*0.035),2)","v":0}]
[{"$nulls":7},{"$f":"ROUND(IF(OR(COUNTIF('Reference Data'!$G$1:$G$17,A157), COUNTIF('Reference Data'!$H$1:$H$100,D157)),0,E157*0.035),2)","v":0}]
[{"$nulls":7},{"$f":"ROUND(IF(OR(COUNTIF('Reference Data'!$G$1:$G$17,A158), COUNTIF('Reference Data'!$H$1:$H$100,D158)),0,E158*0.035),2)","v":0}]
[{"$nulls":7},{"$f":"ROUND(IF(OR(COUNTIF('Reference Data'!$G$1:$G$17,A159), COUNTIF('Reference Data'!$H$1:$H$100,D159)),0,E159*0.035),2)","v":0}]
[{"$nulls":7},{"$f":"ROUND(IF(OR(COUNTIF('Reference Data'!$G$1:$G$17,A160), COUNTIF('Reference Data'!$H$1:$H$100,D160)),0,E160*0.035),2)","v":0}]
[{"$nulls":7},{"$f":"ROUND(IF(OR(COUNTIF('Reference Data'!$G$1:$G$17,A161), COUNTIF('Reference Data'!$H$1:$H$100,D161)),0,E161*0.035),2)","v":0}]
[{"$nulls":7},{"$f":"ROUND(IF(OR(COUNTIF('Reference Data'!$G$1:$G$17,A162), COUNTIF('Reference Data'!$H$1:$H$100,D162)),0,E162*0.035),2)","v":0}]
[{"$nulls":7},{"$f":"ROUND(IF(OR(COUNTIF('Reference Data'!$G$1:$G$17,A163), COUNTIF('Reference Data'!$H$1:$H$100,D163)),0,E163*0.035),2)","v":0}]
[{"$nulls":7},{"$f":"ROUND(IF(OR(COUNTIF('Reference Data'!$G$1:$G$17,A164), COUNTIF('Reference Data'!$H$1:$H$100,D164)),0,E164*0.035),2)","v":0}]
[{"$nulls":7},{"$f":"ROUND(IF(OR(COUNTIF('Reference Data'!$G$1:$G$17,A165), COUNTIF('Reference Data'!$H$1:$H$100,D165)),0,E165*0.035),2)","v":0}]
[{"$nulls":7},{"$f":"ROUND(IF(OR(COUNTIF('Reference Data'!$G$1:$G$17,A166), COUNTIF('Reference Data'!$H$1:$H$100,D166)),0,E166*0.035),2)","v":0}]
[{"$nulls":7},{"$f":"ROUND(IF(OR(COUNTIF('Reference Data'!$G$1:$G$17,A167), COUNTIF('Reference Data'!$H$1:$H$100,D167)),0,E167*0.035),2)","v":0}]
[{"$nulls":7},{"$f":"ROUND(IF(OR(COUNTIF('Reference Data'!$G$1:$G$17,A168), COUNTIF('Reference Data'!$H$1:$H$100,D168)),0,E168*0.035),2)","v":0}]
[{"$nulls":7},{"$f":"ROUND(IF(OR(COUNTIF('Reference Data'!$G$1:$G$17,A169), COUNTIF('Reference Data'!$H$1:$H$100,D169)),0,E169*0.035),2)","v":0}]
[{"$nulls":7},{"$f":"ROUND(IF(OR(COUNTIF('Reference Data'!$G$1:$G$17,A170), COUNTIF('Reference Data'!$H$1:$H$100,D170)),0,E170*0.035),2)","v":0}]
[{"$nulls":7},{"$f":"ROUND(IF(OR(COUNTIF('Reference Data'!$G$1:$G$17,A171), COUNTIF('Reference Data'!$H$1:$H$100,D171)),0,E171*0.035),2)","v":0}]
[{"$nulls":7},{"$f":"ROUND(IF(OR(COUNTIF('Reference Data'!$G$1:$G$17,A172), COUNTIF('Reference Data'!$H$1:$H$100,D172)),0,E172*0.035),2)","v":0}]
[{"$nulls":7},{"$f":"ROUND(IF(OR(COUNTIF('Reference Data'!$G$1:$G$17,A173), COUNTIF('Reference Data'!$H$1:$H$100,D173)),0,E173*0.035),2)","v":0}]
[{"$nulls":7},{"$f":"ROUND(IF(OR(COUNTIF('Reference Data'!$G$1:$G$17,A174), COUNTIF('Reference Data'!$H$1:$H$100,D174)),0,E174*0.035),2)","v":0}]
[{"$nulls":7},{"$f":"ROUND(IF(OR(COUNTIF('Reference Data'!$G$1:$G$17,A175), COUNTIF('Reference Data'!$H$1:$H$100,D175)),0,E175*0.035),2)","v":0}]
[{"$nulls":7},{"$f":"ROUND(IF(OR(COUNTIF('Reference Data'!$G$1:$G$17,A176), COUNTIF('Reference Data'!$H$1:$H$100,D176)),0,E176*0.035),2)","v":0}]
[{"$nulls":7},{"$f":"ROUND(IF(OR(COUNTIF('Reference Data'!$G$1:$G$17,A177), COUNTIF('Reference Data'!$H$1:$H$100,D177)),0,E177*0.035),2)","v":0}]
[{"$nulls":7},{"$f":"ROUND(IF(OR(COUNTIF('Reference Data'!$G$1:$G$17,A178), COUNTIF('Reference Data'!$H$1:$H$100,D178)),0,E178*0.035),2)","v":0}]
[{"$nulls":7},{"$f":"ROUND(IF(OR(COUNTIF('Reference Data'!$G$1:$G$17,A179), COUNTIF('Reference Data'!$H$1:$H$100,D179)),0,E179*0.035),2)","v":0}]
[{"$nulls":7},{"$f":"ROUND(IF(OR(COUNTIF('Reference Data'!$G$1:$G$17,A180), COUNTIF('Reference Data'!$H$1:$H$100,D180)),0,E180*0.035),2)","v":0}]
[{"$nulls":7},{"$f":"ROUND(IF(OR(COUNTIF('Reference Data'!$G$1:$G$17,A181), COUNTIF('Reference Data'!$H$1:$H$100,D181)),0,E181*0.035),2)","v":0}]
[{"$nulls":7},{"$f":"ROUND(IF(OR(COUNTIF('Reference Data'!$G$1:$G$17,A182), COUNTIF('Reference Data'!$H$1:$H$100,D182)),0,E182*0.035),2)","v":0}]
[{"$nulls":7},{"$f":"ROUND(IF(OR(COUNTIF('Reference Data'!$G$1:$G$17,A183), COUNTIF('Reference Data'!$H$1:$H$100,D183)),0,E183*0.035),2)","v":0}]
[{"$nulls":7},{"$f":"ROUND(IF(OR(COUNTIF('Reference Data'!$G$1:$G$17,A184), COUNTIF('Reference Data'!$H$1:$H$100,D184)),0,E184*0.035),2)","v":0}]
[{"$nulls":7},{"$f":"ROUND(IF(OR(COUNTIF('Reference Data'!$G$1:$G$17,A185), COUNTIF('Reference Data'!$H$1:$H$100,D185)),0,E185*0.035),2)","v":0}]
[{"$nulls":7},{"$f":"ROUND(IF(OR(COUNTIF('Reference Data'!$G$1:$G$17,A186), COUNTIF('Reference Data'!$H$1:$H$100,D186)),0,E186*0.035),2)","v":0}]
[{"$nulls":7},{"$f":"ROUND(IF(OR(COUNTIF('Reference Data'!$G$1:$G$17,A187), COUNTIF('Reference Data'!$H$1:$H$100,D187)),0,E187*0.035),2)","v":0}]
[{"$nulls":7},{"$f":"ROUND(IF(OR(COUNTIF('Reference Data'!$G$1:$G$17,A188), COUNTIF('Reference Data'!$H$1:$H$100,D188)),0,E188*0.035),2)","v":0}]
[{"$nulls":7},{"$f":"ROUND(IF(OR(COUNTIF('Reference Data'!$G$1:$G$17,A189), COUNTIF('Reference Data'!$H$1:$H$100,D189)),0,E189*0.035),2)","v":0}]
[{"$nulls":7},{"$f":"ROUND(IF(OR(COUNTIF('Reference Data'!$G$1:$G$17,A190), COUNTIF('Reference Data'!$H$1:$H$100,D190)),0,E190*0.035),2)","v":0}]
[{"$nulls":7},{"$f":"ROUND(IF(OR(COUNTIF('Reference Data'!$G$1:$G$17,A191), COUNTIF('Reference Data'!$H$1:$H$100,D191)),0,E191*0.035),2)","v":0}]
[{"$nulls":7},{"$f":"ROUND(IF(OR(COUNTIF('Reference Data'!$G$1:$G$17,A192), COUNTIF('Reference Data'!$H$1:$H$100,D192)),0,E192*0.035),2)","v":0}]
[{"$nulls":7},{"$f":"ROUND(IF(OR(COUNTIF('Reference Data'!$G$1:$G$17,A193), COUNTIF('Reference Data'!$H$1:$H$100,D193)),0,E193*0.035),2)","v":0}]
[{"$nulls":7},{"$f":"ROUND(IF(OR(COUNTIF('Reference Data'!$G$1:$G$17,A194), COUNTIF('Reference Data'!$H$1:$H$100,D194)),0,E194*0.035),2)","v":0}]
[{"$nulls":7},{"$f":"ROUND(IF(OR(COUNTIF('Reference Data'!$G$1:$G$17,A195), COUNTIF('Reference Data'!$H$1:$H$100,D195)),0,E195*0.035),2)","v":0}]
[{"$nulls":7},{"$f":"ROUND(IF(OR(COUNTIF('Reference Data'!$G$1:$G$17,A196), COUNTIF('Reference Data'!$H$1:$H$100,D196)),0,E196*0.035),2)","v":0}]
[{"$nulls":7},{"$f":"ROUND(IF(OR(COUNTIF('Reference Data'!$G$1:$G$17,A197), COUNTIF('Reference Data'!$H$1:$H$100,D197)),0,E197*0.035),2)","v":0}]
[{"$nulls":7},{"$f":"ROUND(IF(OR(COUNTIF('Reference Data'!$G$1:$G$17,A198), COUNTIF('Reference Data'!$H$1:$H$100,D198)),0,E198*0.035),2)","v":0}]
[{"$nulls":7},{"$f":"ROUND(IF(OR(COUNTIF('Reference Data'!$G$1:$G$17,A199), COUNTIF('Reference Data'!$H$1:$H$100,D199)),0,E199*0.035),2)","v":0}]
[{"$nulls":7},{"$f":"ROUND(IF(OR(COUNTIF('Reference Data'!$G$1:$G$17,A200), COUNTIF('Reference Data'!$H$1:$H$100,D200)),0,E200*0.035),2)","v":0}]
[{"$nulls":7},{"$f":"ROUND(IF(OR(COUNTIF('Reference Data'!$G$1:$G$17,A201), COUNTIF('Reference Data'!$H$1:$H$100,D201)),0,E201*0.035),2)","v":0}]
[{"$nulls":7},{"$f":"ROUND(IF(OR(COUNTIF('Reference Data'!$G$1:$G$17,A202), COUNTIF('Reference Data'!$H$1:$H$100,D202)),0,E202*0.035),2)","v":0}]
[{"$nulls":7},{"$f":"ROUND(IF(OR(COUNTIF('Reference Data'!$G$1:$G$17,A203), COUNTIF('Reference Data'!$H$1:$H$100,D203)),0,E203*0.035),2)","v":0}]
[{"$nulls":7},{"$f":"ROUND(IF(OR(COUNTIF('Reference Data'!$G$1:$G$17,A204), COUNTIF('Reference Data'!$H$1:$H$100,D204)),0,E204*0.035),2)","v":0}]
[{"$nulls":7},{"$f":"ROUND(IF(OR(COUNTIF('Reference Data'!$G$1:$G$17,A205), COUNTIF('Reference Data'!$H$1:$H$100,D205)),0,E205*0.035),2)","v":0}]
[{"$nulls":7},{"$f":"ROUND(IF(OR(COUNTIF('Reference Data'!$G$1:$G$17,A206), COUNTIF('Reference Data'!$H$1:$H$100,D206)),0,E206*0.035),2)","v":0}]
[{"$nulls":7},{"$f":"ROUND(IF(OR(COUNTIF('Reference Data'!$G$1:$G$17,A207), COUNTIF('Reference Data'!$H$1:$H$100,D207)),0,E207*0.035),2)","v":0}]
[{"$nulls":7},{"$f":"ROUND(IF(OR(COUNTIF('Reference Data'!$G$1:$G$17,A208), COUNTIF('Reference Data'!$H$1:$H$100,D208)),0,E208*0.035),2)","v":0}]
[{"$nulls":7},{"$f":"ROUND(IF(OR(COUNTIF('Reference Data'!$G$1:$G$17,A209), COUNTIF('Reference Data'!$H$1:$H$100,D209)),0,E209*0.035),2)","v":0}]
[{"$nulls":7},{"$f":"ROUND(IF(OR(COUNTIF('Reference Data'!$G$1:$G$17,A210), COUNTIF('Reference Data'!$H$1:$H$100,D210)),0,E210*0.035),2)","v":0}]
[{"$nulls":7},{"$f":"ROUND(IF(OR(COUNTIF('Reference Data'!$G$1:$G$17,A211), COUNTIF('Reference Data'!$H$1:$H$100,D211)),0,E211*0.035),2)","v":0}]
[{"$nulls":7},{"$f":"ROUND(IF(OR(COUNTIF('Reference Data'!$G$1:$G$17,A212), COUNTIF('Reference Data'!$H$1:$H$100,D212)),0,E212*0.035),2)","v":0}]
[{"$nulls":7},{"$f":"ROUND(IF(OR(COUNTIF('Reference Data'!$G$1:$G$17,A213), COUNTIF('Reference Data'!$H$1:$H$100,D213)),0,E213*0.035),2)","v":0}]
[{"$nulls":7},{"$f":"ROUND(IF(OR(COUNTIF('Reference Data'!$G$1:$G$17,A214), COUNTIF('Reference Data'!$H$1:$H$100,D214)),0,E214*0.035),2)","v":0}]
[{"$nulls":7},{"$f":"ROUND(IF(OR(COUNTIF('Reference Data'!$G$1:$G$17,A215), COUNTIF('Reference Data'!$H$1:$H$100,D215)),0,E215*0.035),2)","v":0}]
[{"$nulls":7},{"$f":"ROUND(IF(OR(COUNTIF('Reference Data'!$G$1:$G$17,A216), COUNTIF('Reference Data'!$H$1:$H$100,D216)),0,E216*0.035),2)","v":0}]
[{"$nulls":7},{"$f":"ROUND(IF(OR(COUNTIF('Reference Data'!$G$1:$G$17,A217), COUNTIF('Reference Data'!$H$1:$H$100,D217)),0,E217*0.035),2)","v":0}]
[{"$nulls":7},{"$f":"ROUND(IF(OR(COUNTIF('Reference Data'!$G$1:$G$17,A218), COUNTIF('Reference Data'!$H$1:$H$100,D218)),0,E218*0.035),2)","v":0}]
[{"$nulls":7},{"$f":"ROUND(IF(OR(COUNTIF('Reference Data'!$G$1:$G$17,A219), COUNTIF('Reference Data'!$H$1:$H$100,D219)),0,E219*0.035),2)","v":0}]
[{"$nulls":7},{"$f":"ROUND(IF(OR(COUNTIF('Reference Data'!$G$1:$G$17,A220), COUNTIF('Reference Data'!$H$1:$H$100,D220)),0,E220*0.035),2)","v":0}]
[{"$nulls":7},{"$f":"ROUND(IF(OR(COUNTIF('Reference Data'!$G$1:$G$17,A221), COUNTIF('Reference Data'!$H$1:$H$100,D221)),0,E221*0.035),2)","v":0}]
[{"$nulls":7},{"$f":"ROUND(IF(OR(COUNTIF('Reference Data'!$G$1:$G$17,A222), COUNTIF('Reference Data'!$H$1:$H$100,D222)),0,E222*0.035),2)","v":0}]
[{"$nulls":7},{"$f":"ROUND(IF(OR(COUNTIF('Reference Data'!$G$1:$G$17,A223), COUNTIF('Reference Data'!$H$1:$H$100,D223)),0,E223*0.035),2)","v":0}]
[{"$nulls":7},{"$f":"ROUND(IF(OR(COUNTIF('Reference Data'!$G$1:$G$17,A224), COUNTIF('Reference Data'!$H$1:$H$100,D224)),0,E224*0.035),2)","v":0}]
[{"$nulls":7},{"$f":"ROUND(IF(OR(COUNTIF('Reference Data'!$G$1:$G$17,A225), COUNTIF('Reference Data'!$H$1:$H$100,D225)),0,E225*0.035),2)","v":0}]
[{"$nulls":7},{"$f":"ROUND(IF(OR(COUNTIF('Reference Data'!$G$1:$G$17,A226), COUNTIF('Reference Data'!$H$1:$H$100,D226)),0,E226*0.035),2)","v":0}]
[{"$nulls":7},{"$f":"ROUND(IF(OR(COUNTIF('Reference Data'!$G$1:$G$17,A227), COUNTIF('Reference Data'!$H$1:$H$100,D227)),0,E227*0.035),2)","v":0}]
[{"$nulls":7},{"$f":"ROUND(IF(OR(COUNTIF('Reference Data'!$G$1:$G$17,A228), COUNTIF('Reference Data'!$H$1:$H$100,D228)),0,E228*0.035),2)","v":0}]
[{"$nulls":7},{"$f":"ROUND(IF(OR(COUNTIF('Reference Data'!$G$1:$G$17,A229), COUNTIF('Reference Data'!$H$1:$H$100,D229)),0,E229*0.035),2)","v":0}]
[{"$nulls":7},{"$f":"ROUND(IF(OR(COUNTIF('Reference Data'!$G$1:$G$17,A230), COUNTIF('Reference Data'!$H$1:$H$100,D230)),0,E230*0.035),2)","v":0}]
[{"$nulls":7},{"$f":"ROUND(IF(OR(COUNTIF('Reference Data'!$G$1:$G$17,A231), COUNTIF('Reference Data'!$H$1:$H$100,D231)),0,E231*0.035),2)","v":0}]
[{"$nulls":7},{"$f":"ROUND(IF(OR(COUNTIF('Reference Data'!$G$1:$G$17,A232), COUNTIF('Reference Data'!$H$1:$H$100,D232)),0,E232*0.035),2)","v":0}]
[{"$nulls":7},{"$f":"ROUND(IF(OR(COUNTIF('Reference Data'!$G$1:$G$17,A233), COUNTIF('Reference Data'!$H$1:$H$100,D233)),0,E233*0.035),2)","v":0}]
[{"$nulls":7},{"$f":"ROUND(IF(OR(COUNTIF('Reference Data'!$G$1:$G$17,A234), COUNTIF('Reference Data'!$H$1:$H$100,D234)),0,E234*0.035),2)","v":0}]
[{"$nulls":7},{"$f":"ROUND(IF(OR(COUNTIF('Reference Data'!$G$1:$G$17,A235), COUNTIF('Reference Data'!$H$1:$H$100,D235)),0,E235*0.035),2)","v":0}]
[{"$nulls":7},{"$f":"ROUND(IF(OR(COUNTIF('Reference Data'!$G$1:$G$17,A236), COUNTIF('Reference Data'!$H$1:$H$100,D236)),0,E236*0.035),2)","v":0}]
[{"$nulls":7},{"$f":"ROUND(IF(OR(COUNTIF('Reference Data'!$G$1:$G$17,A237), COUNTIF('Reference Data'!$H$1:$H$100,D237)),0,E237*0.035),2)","v":0}]
[{"$nulls":7},{"$f":"ROUND(IF(OR(COUNTIF('Reference Data'!$G$1:$G$17,A238), COUNTIF('Reference Data'!$H$1:$H$100,D238)),0,E238*0.035),2)","v":0}]
[{"$nulls":7},{"$f":"ROUND(IF(OR(COUNTIF('Reference Data'!$G$1:$G$17,A239), COUNTIF('Reference Data'!$H$1:$H$100,D239)),0,E239*0.035),2)","v":0}]
[{"$nulls":7},{"$f":"ROUND(IF(OR(COUNTIF('Reference Data'!$G$1:$G$17,A240), COUNTIF('Reference Data'!$H$1:$H$100,D240)),0,E240*0.035),2)","v":0}]
[{"$nulls":7},{"$f":"ROUND(IF(OR(COUNTIF('Reference Data'!$G$1:$G$17,A241), COUNTIF('Reference Data'!$H$1:$H$100,D241)),0,E241*0.035),2)","v":0}]
[{"$nulls":7},{"$f":"ROUND(IF(OR(COUNTIF('Reference Data'!$G$1:$G$17,A242), COUNTIF('Reference Data'!$H$1:$H$100,D242)),0,E242*0.035),2)","v":0}]
[{"$nulls":7},{"$f":"ROUND(IF(OR(COUNTIF('Reference Data'!$G$1:$G$17,A243), COUNTIF('Reference Data'!$H$1:$H$100,D243)),0,E243*0.035),2)","v":0}]
[{"$nulls":7},{"$f":"ROUND(IF(OR(COUNTIF('Reference Data'!$G$1:$G$17,A244), COUNTIF('Reference Data'!$H$1:$H$100,D244)),0,E244*0.035),2)","v":0}]
[{"$nulls":7},{"$f":"ROUND(IF(OR(COUNTIF('Reference Data'!$G$1:$G$17,A245), COUNTIF('Reference Data'!$H$1:$H$100,D245)),0,E245*0.035),2)","v":0}]
[{"$nulls":7},{"$f":"ROUND(IF(OR(COUNTIF('Reference Data'!$G$1:$G$17,A246), COUNTIF('Reference Data'!$H$1:$H$100,D246)),0,E246*0.035),2)","v":0}]
[{"$nulls":7},{"$f":"ROUND(IF(OR(COUNTIF('Reference Data'!$G$1:$G$17,A247), COUNTIF('Reference Data'!$H$1:$H$100,D247)),0,E247*0.035),2)","v":0}]
[{"$nulls":7},{"$f":"ROUND(IF(OR(COUNTIF('Reference Data'!$G$1:$G$17,A248), COUNTIF('Reference Data'!$H$1:$H$100,D248)),0,E248*0.035),2)","v":0}]
[{"$nulls":7},{"$f":"ROUND(IF(OR(COUNTIF('Reference Data'!$G$1:$G$17,A249), COUNTIF('Reference Data'!$H$1:$H$100,D249)),0,E249*0.035),2)","v":0}]
[{"$nulls":7},{"$f":"ROUND(IF(OR(COUNTIF('Reference Data'!$G$1:$G$17,A250), COUNTIF('Reference Data'!$H$1:$H$100,D250)),0,E250*0.035),2)","v":0}]
[{"$nulls":7},{"$f":"ROUND(IF(OR(COUNTIF('Reference Data'!$G$1:$G$17,A251), COUNTIF('Reference Data'!$H$1:$H$100,D251)),0,E251*0.035),2)","v":0}]
[{"$nulls":7},{"$f":"ROUND(IF(OR(COUNTIF('Reference Data'!$G$1:$G$17,A252), COUNTIF('Reference Data'!$H$1:$H$100,D252)),0,E252*0.035),2)","v":0}]
[{"$nulls":7},{"$f":"ROUND(IF(OR(COUNTIF('Reference Data'!$G$1:$G$17,A253), COUNTIF('Reference Data'!$H$1:$H$100,D253)),0,E253*0.035),2)","v":0}]
[{"$nulls":7},{"$f":"ROUND(IF(OR(COUNTIF('Reference Data'!$G$1:$G$17,A254), COUNTIF('Reference Data'!$H$1:$H$100,D254)),0,E254*0.035),2)","v":0}]
[{"$nulls":7},{"$f":"ROUND(IF(OR(COUNTIF('Reference Data'!$G$1:$G$17,A255), COUNTIF('Reference Data'!$H$1:$H$100,D255)),0,E255*0.035),2)","v":0}]
[{"$nulls":7},{"$f":"ROUND(IF(OR(COUNTIF('Reference Data'!$G$1:$G$17,A256), COUNTIF('Reference Data'!$H$1:$H$100,D256)),0,E256*0.035),2)","v":0}]
[{"$nulls":7},{"$f":"ROUND(IF(OR(COUNTIF('Reference Data'!$G$1:$G$17,A257), COUNTIF('Reference Data'!$H$1:$H$100,D257)),0,E257*0.035),2)","v":0}]
[{"$nulls":7},{"$f":"ROUND(IF(OR(COUNTIF('Reference Data'!$G$1:$G$17,A258), COUNTIF('Reference Data'!$H$1:$H$100,D258)),0,E258*0.035),2)","v":0}]
[{"$nulls":7},{"$f":"ROUND(IF(OR(COUNTIF('Reference Data'!$G$1:$G$17,A259), COUNTIF('Reference Data'!$H$1:$H$100,D259)),0,E259*0.035),2)","v":0}]
[{"$nulls":7},{"$f":"ROUND(IF(OR(COUNTIF('Reference Data'!$G$1:$G$17,A260), COUNTIF('Reference Data'!$H$1:$H$100,D260)),0,E260*0.035),2)","v":0}]
[{"$nulls":7},{"$f":"ROUND(IF(OR(COUNTIF('Reference Data'!$G$1:$G$17,A261), COUNTIF('Reference Data'!$H$1:$H$100,D261)),0,E261*0.035),2)","v":0}]
[{"$nulls":7},{"$f":"ROUND(IF(OR(COUNTIF('Reference Data'!$G$1:$G$17,A262), COUNTIF('Reference Data'!$H$1:$H$100,D262)),0,E262*0.035),2)","v":0}]
[{"$nulls":7},{"$f":"ROUND(IF(OR(COUNTIF('Reference Data'!$G$1:$G$17,A263), COUNTIF('Reference Data'!$H$1:$H$100,D263)),0,E263*0.035),2)","v":0}]
[{"$nulls":7},{"$f":"ROUND(IF(OR(COUNTIF('Reference Data'!$G$1:$G$17,A264), COUNTIF('Reference Data'!$H$1:$H$100,D264)),0,E264*0.035),2)","v":0}]
[{"$nulls":7},{"$f":"ROUND(IF(OR(COUNTIF('Reference Data'!$G$1:$G$17,A265), COUNTIF('Reference Data'!$H$1:$H$100,D265)),0,E265*0.035),2)","v":0}]
[{"$nulls":7},{"$f":"ROUND(IF(OR(COUNTIF('Reference Data'!$G$1:$G$17,A266), COUNTIF('Reference Data'!$H$1:$H$100,D266)),0,E266*0.035),2)","v":0}]
[{"$nulls":7},{"$f":"ROUND(IF(OR(COUNTIF('Reference Data'!$G$1:$G$17,A267), COUNTIF('Reference Data'!$H$1:$H$100,D267)),0,E267*0.035),2)","v":0}]
[{"$nulls":7},{"$f":"ROUND(IF(OR(COUNTIF('Reference Data'!$G$1:$G$17,A268), COUNTIF('Reference Data'!$H$1:$H$100,D268)),0,E268*0.035),2)","v":0}]
[{"$nulls":7},{"$f":"ROUND(IF(OR(COUNTIF('Reference Data'!$G$1:$G$17,A269), COUNTIF('Reference Data'!$H$1:$H$100,D269)),0,E269*0.035),2)","v":0}]
[{"$nulls":7},{"$f":"ROUND(IF(OR(COUNTIF('Reference Data'!$G$1:$G$17,A270), COUNTIF('Reference Data'!$H$1:$H$100,D270)),0,E270*0.035),2)","v":0}]
[{"$nulls":7},{"$f":"ROUND(IF(OR(COUNTIF('Reference Data'!$G$1:$G$17,A271), COUNTIF('Reference Data'!$H$1:$H$100,D271)),0,E271*0.035),2)","v":0}]
[{"$nulls":7},{"$f":"ROUND(IF(OR(COUNTIF('Reference Data'!$G$1:$G$17,A272), COUNTIF('Reference Data'!$H$1:$H$100,D272)),0,E272*0.035),2)","v":0}]
[{"$nulls":7},{"$f":"ROUND(IF(OR(COUNTIF('Reference Data'!$G$1:$G$17,A273), COUNTIF('Reference Data'!$H$1:$H$100,D273)),0,E273*0.035),2)","v":0}]
[{"$nulls":7},{"$f":"ROUND(IF(OR(COUNTIF('Reference Data'!$G$1:$G$17,A274), COUNTIF('Reference Data'!$H$1:$H$100,D274)),0,E274*0.035),2)","v":0}]
[{"$nulls":7},{"$f":"ROUND(IF(OR(COUNTIF('Reference Data'!$G$1:$G$17,A275), COUNTIF('Reference Data'!$H$1:$H$100,D275)),0,E275*0.035),2)","v":0}]
[{"$nulls":7},{"$f":"ROUND(IF(OR(COUNTIF('Reference Data'!$G$1:$G$17,A276), COUNTIF('Reference Data'!$H$1:$H$100,D276)),0,E276*0.035),2)","v":0}]
[{"$nulls":7},{"$f":"ROUND(IF(OR(COUNTIF('Reference Data'!$G$1:$G$17,A277), COUNTIF('Reference Data'!$H$1:$H$100,D277)),0,E277*0.035),2)","v":0}]
[{"$nulls":7},{"$f":"ROUND(IF(OR(COUNTIF('Reference Data'!$G$1:$G$17,A278), COUNTIF('Reference Data'!$H$1:$H$100,D278)),0,E278*0.035),2)","v":0}]
[{"$nulls":7},{"$f":"ROUND(IF(OR(COUNTIF('Reference Data'!$G$1:$G$17,A279), COUNTIF('Reference Data'!$H$1:$H$100,D279)),0,E279*0.035),2)","v":0}]
[{"$nulls":7},{"$f":"ROUND(IF(OR(COUNTIF('Reference Data'!$G$1:$G$17,A280), COUNTIF('Reference Data'!$H$1:$H$100,D280)),0,E280*0.035),2)","v":0}]
[{"$nulls":7},{"$f":"ROUND(IF(OR(COUNTIF('Reference Data'!$G$1:$G$17,A281), COUNTIF('Reference Data'!$H$1:$H$100,D281)),0,E281*0.035),2)","v":0}]
[{"$nulls":7},{"$f":"ROUND(IF(OR(COUNTIF('Reference Data'!$G$1:$G$17,A282), COUNTIF('Reference Data'!$H$1:$H$100,D282)),0,E282*0.035),2)","v":0}]
[{"$nulls":7},{"$f":"ROUND(IF(OR(COUNTIF('Reference Data'!$G$1:$G$17,A283), COUNTIF('Reference Data'!$H$1:$H$100,D283)),0,E283*0.035),2)","v":0}]
[{"$nulls":7},{"$f":"ROUND(IF(OR(COUNTIF('Reference Data'!$G$1:$G$17,A284), COUNTIF('Reference Data'!$H$1:$H$100,D284)),0,E284*0.035),2)","v":0}]
[{"$nulls":7},{"$f":"ROUND(IF(OR(COUNTIF('Reference Data'!$G$1:$G$17,A285), COUNTIF('Reference Data'!$H$1:$H$100,D285)),0,E285*0.035),2)","v":0}]
[{"$nulls":7},{"$f":"ROUND(IF(OR(COUNTIF('Reference Data'!$G$1:$G$17,A286), COUNTIF('Reference Data'!$H$1:$H$100,D286)),0,E286*0.035),2)","v":0}]
[{"$nulls":7},{"$f":"ROUND(IF(OR(COUNTIF('Reference Data'!$G$1:$G$17,A287), COUNTIF('Reference Data'!$H$1:$H$100,D287)),0,E287*0.035),2)","v":0}]
[{"$nulls":7},{"$f":"ROUND(IF(OR(COUNTIF('Reference Data'!$G$1:$G$17,A288), COUNTIF('Reference Data'!$H$1:$H$100,D288)),0,E288*0.035),2)","v":0}]
[{"$nulls":7},{"$f":"ROUND(IF(OR(COUNTIF('Reference Data'!$G$1:$G$17,A289), COUNTIF('Reference Data'!$H$1:$H$100,D289)),0,E289*0.035),2)","v":0}]
[{"$nulls":7},{"$f":"ROUND(IF(OR(COUNTIF('Reference Data'!$G$1:$G$17,A290), COUNTIF('Reference Data'!$H$1:$H$100,D290)),0,E290*0.035),2)","v":0}]
[{"$nulls":7},{"$f":"ROUND(IF(OR(COUNTIF('Reference Data'!$G$1:$G$17,A291), COUNTIF('Reference Data'!$H$1:$H$100,D291)),0,E291*0.035),2)","v":0}]
[{"$nulls":7},{"$f":"ROUND(IF(OR(COUNTIF('Reference Data'!$G$1:$G$17,A292), COUNTIF('Reference Data'!$H$1:$H$100,D292)),0,E292*0.035),2)","v":0}]
[{"$nulls":7},{"$f":"ROUND(IF(OR(COUNTIF('Reference Data'!$G$1:$G$17,A293), COUNTIF('Reference Data'!$H$1:$H$100,D293)),0,E293*0.035),2)","v":0}]
[{"$nulls":7},{"$f":"ROUND(IF(OR(COUNTIF('Reference Data'!$G$1:$G$17,A294), COUNTIF('Reference Data'!$H$1:$H$100,D294)),0,E294*0.035),2)","v":0}]
[{"$nulls":7},{"$f":"ROUND(IF(OR(COUNTIF('Reference Data'!$G$1:$G$17,A295), COUNTIF('Reference Data'!$H$1:$H$100,D295)),0,E295*0.035),2)","v":0}]
[{"$nulls":7},{"$f":"ROUND(IF(OR(COUNTIF('Reference Data'!$G$1:$G$17,A296), COUNTIF('Reference Data'!$H$1:$H$100,D296)),0,E296*0.035),2)","v":0}]
[{"$nulls":7},{"$f":"ROUND(IF(OR(COUNTIF('Reference Data'!$G$1:$G$17,A297), COUNTIF('Reference Data'!$H$1:$H$100,D297)),0,E297*0.035),2)","v":0}]
[{"$nulls":7},{"$f":"ROUND(IF(OR(COUNTIF('Reference Data'!$G$1:$G$17,A298), COUNTIF('Reference Data'!$H$1:$H$100,D298)),0,E298*0.035),2)","v":0}]
[{"$nulls":7},{"$f":"ROUND(IF(OR(COUNTIF('Reference Data'!$G$1:$G$17,A299), COUNTIF('Reference Data'!$H$1:$H$100,D299)),0,E299*0.035),2)","v":0}]
[{"$nulls":7},{"$f":"ROUND(IF(OR(COUNTIF('Reference Data'!$G$1:$G$17,A300), COUNTIF('Reference Data'!$H$1:$H$100,D300)),0,E300*0.035),2)","v":0}]

{"sheet":"March Restatement","index":2,"n_rows":301,"n_cols":16,"rows_kept":301}
[{"$nulls":5},"Enrollment and Payment Data Template"]
["Submission Date:",null,"Change in Enrollment from Prior March Submission? (Y/N)","Yes (populate this sheet with updated enrollment data)","Enrollment Month:","2014-03-01","Submission Status","Initial Submission"]
["State","9 Digit Issuer TIN","5 Digit HIOS Issuer ID","16 Digit QHP ID","Total Premium amount by QHP ID for effectuated enrollments","Total APTC amount by QHP ID for effectuated enrollments","Total CSR amount by QHP ID for effectuated enrollments","Total User Fee amount by QHP ID","Total # of effectuated enrollment groups by QHP ID","Total # of effectuated enrollment groups receiving APTC by QHP ID","Total # of effectuated enrollment groups receiving CSR by QHP ID","Total # of effectuated members by QHP ID","Total # of effectuated members receiving APTC by QHP ID","Total # of effectuated members receiving CSR by QHP ID",null,"Reasons for Validation Failures"]
[{"$nulls":7},{"$f":"ROUND(IF(OR(COUNTIF('Reference Data'!$G$1:$G$17,A4), COUNTIF('Reference Data'!$H$1:$H$100,D4)),0,E4*0.035),2)","v":0}]
[{"$nulls":7},{"$f":"ROUND(IF(OR(COUNTIF('Reference Data'!$G$1:$G$17,A5), COUNTIF('Reference Data'!$H$1:$H$100,D5)),0,E5*0.035),2)","v":0}]
[{"$nulls":7},{"$f":"ROUND(IF(OR(COUNTIF('Reference Data'!$G$1:$G$17,A6), COUNTIF('Reference Data'!$H$1:$H$100,D6)),0,E6*0.035),2)","v":0}]
[{"$nulls":7},{"$f":"ROUND(IF(OR(COUNTIF('Reference Data'!$G$1:$G$17,A7), COUNTIF('Reference Data'!$H$1:$H$100,D7)),0,E7*0.035),2)","v":0}]
[{"$nulls":7},{"$f":"ROUND(IF(OR(COUNTIF('Reference Data'!$G$1:$G$17,A8), COUNTIF('Reference Data'!$H$1:$H$100,D8)),0,E8*0.035),2)","v":0}]
[{"$nulls":7},{"$f":"ROUND(IF(OR(COUNTIF('Reference Data'!$G$1:$G$17,A9), COUNTIF('Reference Data'!$H$1:$H$100,D9)),0,E9*0.035),2)","v":0}]
[{"$nulls":7},{"$f":"ROUND(IF(OR(COUNTIF('Reference Data'!$G$1:$G$17,A10), COUNTIF('Reference Data'!$H$1:$H$100,D10)),0,E10*0.035),2)","v":0}]
[{"$nulls":7},{"$f":"ROUND(IF(OR(COUNTIF('Reference Data'!$G$1:$G$17,A11), COUNTIF('Reference Data'!$H$1:$H$100,D11)),0,E11*0.035),2)","v":0}]
[{"$nulls":7},{"$f":"ROUND(IF(OR(COUNTIF('Reference Data'!$G$1:$G$17,A12), COUNTIF('Reference Data'!$H$1:$H$100,D12)),0,E12*0.035),2)","v":0}]
[{"$nulls":7},{"$f":"ROUND(IF(OR(COUNTIF('Reference Data'!$G$1:$G$17,A13), COUNTIF('Reference Data'!$H$1:$H$100,D13)),0,E13*0.035),2)","v":0}]
[{"$nulls":7},{"$f":"ROUND(IF(OR(COUNTIF('Reference Data'!$G$1:$G$17,A14), COUNTIF('Reference Data'!$H$1:$H$100,D14)),0,E14*0.035),2)","v":0}]
[{"$nulls":7},{"$f":"ROUND(IF(OR(COUNTIF('Reference Data'!$G$1:$G$17,A15), COUNTIF('Reference Data'!$H$1:$H$100,D15)),0,E15*0.035),2)","v":0}]
[{"$nulls":7},{"$f":"ROUND(IF(OR(COUNTIF('Reference Data'!$G$1:$G$17,A16), COUNTIF('Reference Data'!$H$1:$H$100,D16)),0,E16*0.035),2)","v":0}]
[{"$nulls":7},{"$f":"ROUND(IF(OR(COUNTIF('Reference Data'!$G$1:$G$17,A17), COUNTIF('Reference Data'!$H$1:$H$100,D17)),0,E17*0.035),2)","v":0}]
[{"$nulls":7},{"$f":"ROUND(IF(OR(COUNTIF('Reference Data'!$G$1:$G$17,A18), COUNTIF('Reference Data'!$H$1:$H$100,D18)),0,E18*0.035),2)","v":0}]
[{"$nulls":7},{"$f":"ROUND(IF(OR(COUNTIF('Reference Data'!$G$1:$G$17,A19), COUNTIF('Reference Data'!$H$1:$H$100,D19)),0,E19*0.035),2)","v":0}]
[{"$nulls":7},{"$f":"ROUND(IF(OR(COUNTIF('Reference Data'!$G$1:$G$17,A20), COUNTIF('Reference Data'!$H$1:$H$100,D20)),0,E20*0.035),2)","v":0}]
[{"$nulls":7},{"$f":"ROUND(IF(OR(COUNTIF('Reference Data'!$G$1:$G$17,A21), COUNTIF('Reference Data'!$H$1:$H$100,D21)),0,E21*0.035),2)","v":0}]
[{"$nulls":7},{"$f":"ROUND(IF(OR(COUNTIF('Reference Data'!$G$1:$G$17,A22), COUNTIF('Reference Data'!$H$1:$H$100,D22)),0,E22*0.035),2)","v":0}]
[{"$nulls":7},{"$f":"ROUND(IF(OR(COUNTIF('Reference Data'!$G$1:$G$17,A23), COUNTIF('Reference Data'!$H$1:$H$100,D23)),0,E23*0.035),2)","v":0}]
[{"$nulls":7},{"$f":"ROUND(IF(OR(COUNTIF('Reference Data'!$G$1:$G$17,A24), COUNTIF('Reference Data'!$H$1:$H$100,D24)),0,E24*0.035),2)","v":0}]
[{"$nulls":7},{"$f":"ROUND(IF(OR(COUNTIF('Reference Data'!$G$1:$G$17,A25), COUNTIF('Reference Data'!$H$1:$H$100,D25)),0,E25*0.035),2)","v":0}]
[{"$nulls":7},{"$f":"ROUND(IF(OR(COUNTIF('Reference Data'!$G$1:$G$17,A26), COUNTIF('Reference Data'!$H$1:$H$100,D26)),0,E26*0.035),2)","v":0}]
[{"$nulls":7},{"$f":"ROUND(IF(OR(COUNTIF('Reference Data'!$G$1:$G$17,A27), COUNTIF('Reference Data'!$H$1:$H$100,D27)),0,E27*0.035),2)","v":0}]
[{"$nulls":7},{"$f":"ROUND(IF(OR(COUNTIF('Reference Data'!$G$1:$G$17,A28), COUNTIF('Reference Data'!$H$1:$H$100,D28)),0,E28*0.035),2)","v":0}]
[{"$nulls":7},{"$f":"ROUND(IF(OR(COUNTIF('Reference Data'!$G$1:$G$17,A29), COUNTIF('Reference Data'!$H$1:$H$100,D29)),0,E29*0.035),2)","v":0}]
[{"$nulls":7},{"$f":"ROUND(IF(OR(COUNTIF('Reference Data'!$G$1:$G$17,A30), COUNTIF('Reference Data'!$H$1:$H$100,D30)),0,E30*0.035),2)","v":0}]
[{"$nulls":7},{"$f":"ROUND(IF(OR(COUNTIF('Reference Data'!$G$1:$G$17,A31), COUNTIF('Reference Data'!$H$1:$H$100,D31)),0,E31*0.035),2)","v":0}]
[{"$nulls":7},{"$f":"ROUND(IF(OR(COUNTIF('Reference Data'!$G$1:$G$17,A32), COUNTIF('Reference Data'!$H$1:$H$100,D32)),0,E32*0.035),2)","v":0}]
[{"$nulls":7},{"$f":"ROUND(IF(OR(COUNTIF('Reference Data'!$G$1:$G$17,A33), COUNTIF('Reference Data'!$H$1:$H$100,D33)),0,E33*0.035),2)","v":0}]
[{"$nulls":7},{"$f":"ROUND(IF(OR(COUNTIF('Reference Data'!$G$1:$G$17,A34), COUNTIF('Reference Data'!$H$1:$H$100,D34)),0,E34*0.035),2)","v":0}]
[{"$nulls":7},{"$f":"ROUND(IF(OR(COUNTIF('Reference Data'!$G$1:$G$17,A35), COUNTIF('Reference Data'!$H$1:$H$100,D35)),0,E35*0.035),2)","v":0}]
[{"$nulls":7},{"$f":"ROUND(IF(OR(COUNTIF('Reference Data'!$G$1:$G$17,A36), COUNTIF('Reference Data'!$H$1:$H$100,D36)),0,E36*0.035),2)","v":0}]
[{"$nulls":7},{"$f":"ROUND(IF(OR(COUNTIF('Reference Data'!$G$1:$G$17,A37), COUNTIF('Reference Data'!$H$1:$H$100,D37)),0,E37*0.035),2)","v":0}]
[{"$nulls":7},{"$f":"ROUND(IF(OR(COUNTIF('Reference Data'!$G$1:$G$17,A38), COUNTIF('Reference Data'!$H$1:$H$100,D38)),0,E38*0.035),2)","v":0}]
[{"$nulls":7},{"$f":"ROUND(IF(OR(COUNTIF('Reference Data'!$G$1:$G$17,A39), COUNTIF('Reference Data'!$H$1:$H$100,D39)),0,E39*0.035),2)","v":0}]
[{"$nulls":7},{"$f":"ROUND(IF(OR(COUNTIF('Reference Data'!$G$1:$G$17,A40), COUNTIF('Reference Data'!$H$1:$H$100,D40)),0,E40*0.035),2)","v":0}]
[{"$nulls":7},{"$f":"ROUND(IF(OR(COUNTIF('Reference Data'!$G$1:$G$17,A41), COUNTIF('Reference Data'!$H$1:$H$100,D41)),0,E41*0.035),2)","v":0}]
[{"$nulls":7},{"$f":"ROUND(IF(OR(COUNTIF('Reference Data'!$G$1:$G$17,A42), COUNTIF('Reference Data'!$H$1:$H$100,D42)),0,E42*0.035),2)","v":0}]
[{"$nulls":7},{"$f":"ROUND(IF(OR(COUNTIF('Reference Data'!$G$1:$G$17,A43), COUNTIF('Reference Data'!$H$1:$H$100,D43)),0,E43*0.035),2)","v":0}]
[{"$nulls":7},{"$f":"ROUND(IF(OR(COUNTIF('Reference Data'!$G$1:$G$17,A44), COUNTIF('Reference Data'!$H$1:$H$100,D44)),0,E44*0.035),2)","v":0}]
[{"$nulls":7},{"$f":"ROUND(IF(OR(COUNTIF('Reference Data'!$G$1:$G$17,A45), COUNTIF('Reference Data'!$H$1:$H$100,D45)),0,E45*0.035),2)","v":0}]
[{"$nulls":7},{"$f":"ROUND(IF(OR(COUNTIF('Reference Data'!$G$1:$G$17,A46), COUNTIF('Reference Data'!$H$1:$H$100,D46)),0,E46*0.035),2)","v":0}]
[{"$nulls":7},{"$f":"ROUND(IF(OR(COUNTIF('Reference Data'!$G$1:$G$17,A47), COUNTIF('Reference Data'!$H$1:$H$100,D47)),0,E47*0.035),2)","v":0}]
[{"$nulls":7},{"$f":"ROUND(IF(OR(COUNTIF('Reference Data'!$G$1:$G$17,A48), COUNTIF('Reference Data'!$H$1:$H$100,D48)),0,E48*0.035),2)","v":0}]
[{"$nulls":7},{"$f":"ROUND(IF(OR(COUNTIF('Reference Data'!$G$1:$G$17,A49), COUNTIF('Reference Data'!$H$1:$H$100,D49)),0,E49*0.035),2)","v":0}]
[{"$nulls":7},{"$f":"ROUND(IF(OR(COUNTIF('Reference Data'!$G$1:$G$17,A50), COUNTIF('Reference Data'!$H$1:$H$100,D50)),0,E50*0.035),2)","v":0}]
[{"$nulls":7},{"$f":"ROUND(IF(OR(COUNTIF('Reference Data'!$G$1:$G$17,A51), COUNTIF('Reference Data'!$H$1:$H$100,D51)),0,E51*0.035),2)","v":0}]
[{"$nulls":7},{"$f":"ROUND(IF(OR(COUNTIF('Reference Data'!$G$1:$G$17,A52), COUNTIF('Reference Data'!$H$1:$H$100,D52)),0,E52*0.035),2)","v":0}]
[{"$nulls":7},{"$f":"ROUND(IF(OR(COUNTIF('Reference Data'!$G$1:$G$17,A53), COUNTIF('Reference Data'!$H$1:$H$100,D53)),0,E53*0.035),2)","v":0}]
[{"$nulls":7},{"$f":"ROUND(IF(OR(COUNTIF('Reference Data'!$G$1:$G$17,A54), COUNTIF('Reference Data'!$H$1:$H$100,D54)),0,E54*0.035),2)","v":0}]
[{"$nulls":7},{"$f":"ROUND(IF(OR(COUNTIF('Reference Data'!$G$1:$G$17,A55), COUNTIF('Reference Data'!$H$1:$H$100,D55)),0,E55*0.035),2)","v":0}]
[{"$nulls":7},{"$f":"ROUND(IF(OR(COUNTIF('Reference Data'!$G$1:$G$17,A56), COUNTIF('Reference Data'!$H$1:$H$100,D56)),0,E56*0.035),2)","v":0}]
[{"$nulls":7},{"$f":"ROUND(IF(OR(COUNTIF('Reference Data'!$G$1:$G$17,A57), COUNTIF('Reference Data'!$H$1:$H$100,D57)),0,E57*0.035),2)","v":0}]
[{"$nulls":7},{"$f":"ROUND(IF(OR(COUNTIF('Reference Data'!$G$1:$G$17,A58), COUNTIF('Reference Data'!$H$1:$H$100,D58)),0,E58*0.035),2)","v":0}]
[{"$nulls":7},{"$f":"ROUND(IF(OR(COUNTIF('Reference Data'!$G$1:$G$17,A59), COUNTIF('Reference Data'!$H$1:$H$100,D59)),0,E59*0.035),2)","v":0}]
[{"$nulls":7},{"$f":"ROUND(IF(OR(COUNTIF('Reference Data'!$G$1:$G$17,A60), COUNTIF('Reference Data'!$H$1:$H$100,D60)),0,E60*0.035),2)","v":0}]
[{"$nulls":7},{"$f":"ROUND(IF(OR(COUNTIF('Reference Data'!$G$1:$G$17,A61), COUNTIF('Reference Data'!$H$1:$H$100,D61)),0,E61*0.035),2)","v":0}]
[{"$nulls":7},{"$f":"ROUND(IF(OR(COUNTIF('Reference Data'!$G$1:$G$17,A62), COUNTIF('Reference Data'!$H$1:$H$100,D62)),0,E62*0.035),2)","v":0}]
[{"$nulls":7},{"$f":"ROUND(IF(OR(COUNTIF('Reference Data'!$G$1:$G$17,A63), COUNTIF('Reference Data'!$H$1:$H$100,D63)),0,E63*0.035),2)","v":0}]
[{"$nulls":7},{"$f":"ROUND(IF(OR(COUNTIF('Reference Data'!$G$1:$G$17,A64), COUNTIF('Reference Data'!$H$1:$H$100,D64)),0,E64*0.035),2)","v":0}]
[{"$nulls":7},{"$f":"ROUND(IF(OR(COUNTIF('Reference Data'!$G$1:$G$17,A65), COUNTIF('Reference Data'!$H$1:$H$100,D65)),0,E65*0.035),2)","v":0}]
[{"$nulls":7},{"$f":"ROUND(IF(OR(COUNTIF('Reference Data'!$G$1:$G$17,A66), COUNTIF('Reference Data'!$H$1:$H$100,D66)),0,E66*0.035),2)","v":0}]
[{"$nulls":7},{"$f":"ROUND(IF(OR(COUNTIF('Reference Data'!$G$1:$G$17,A67), COUNTIF('Reference Data'!$H$1:$H$100,D67)),0,E67*0.035),2)","v":0}]
[{"$nulls":7},{"$f":"ROUND(IF(OR(COUNTIF('Reference Data'!$G$1:$G$17,A68), COUNTIF('Reference Data'!$H$1:$H$100,D68)),0,E68*0.035),2)","v":0}]
[{"$nulls":7},{"$f":"ROUND(IF(OR(COUNTIF('Reference Data'!$G$1:$G$17,A69), COUNTIF('Reference Data'!$H$1:$H$100,D69)),0,E69*0.035),2)","v":0}]
[{"$nulls":7},{"$f":"ROUND(IF(OR(COUNTIF('Reference Data'!$G$1:$G$17,A70), COUNTIF('Reference Data'!$H$1:$H$100,D70)),0,E70*0.035),2)","v":0}]
[{"$nulls":7},{"$f":"ROUND(IF(OR(COUNTIF('Reference Data'!$G$1:$G$17,A71), COUNTIF('Reference Data'!$H$1:$H$100,D71)),0,E71*0.035),2)","v":0}]
[{"$nulls":7},{"$f":"ROUND(IF(OR(COUNTIF('Reference Data'!$G$1:$G$17,A72), COUNTIF('Reference Data'!$H$1:$H$100,D72)),0,E72*0.035),2)","v":0}]
[{"$nulls":7},{"$f":"ROUND(IF(OR(COUNTIF('Reference Data'!$G$1:$G$17,A73), COUNTIF('Reference Data'!$H$1:$H$100,D73)),0,E73*0.035),2)","v":0}]
[{"$nulls":7},{"$f":"ROUND(IF(OR(COUNTIF('Reference Data'!$G$1:$G$17,A74), COUNTIF('Reference Data'!$H$1:$H$100,D74)),0,E74*0.035),2)","v":0}]
[{"$nulls":7},{"$f":"ROUND(IF(OR(COUNTIF('Reference Data'!$G$1:$G$17,A75), COUNTIF('Reference Data'!$H$1:$H$100,D75)),0,E75*0.035),2)","v":0}]
[{"$nulls":7},{"$f":"ROUND(IF(OR(COUNTIF('Reference Data'!$G$1:$G$17,A76), COUNTIF('Reference Data'!$H$1:$H$100,D76)),0,E76*0.035),2)","v":0}]
[{"$nulls":7},{"$f":"ROUND(IF(OR(COUNTIF('Reference Data'!$G$1:$G$17,A77), COUNTIF('Reference Data'!$H$1:$H$100,D77)),0,E77*0.035),2)","v":0}]
[{"$nulls":7},{"$f":"ROUND(IF(OR(COUNTIF('Reference Data'!$G$1:$G$17,A78), COUNTIF('Reference Data'!$H$1:$H$100,D78)),0,E78*0.035),2)","v":0}]
[{"$nulls":7},{"$f":"ROUND(IF(OR(COUNTIF('Reference Data'!$G$1:$G$17,A79), COUNTIF('Reference Data'!$H$1:$H$100,D79)),0,E79*0.035),2)","v":0}]
[{"$nulls":7},{"$f":"ROUND(IF(OR(COUNTIF('Reference Data'!$G$1:$G$17,A80), COUNTIF('Reference Data'!$H$1:$H$100,D80)),0,E80*0.035),2)","v":0}]
[{"$nulls":7},{"$f":"ROUND(IF(OR(COUNTIF('Reference Data'!$G$1:$G$17,A81), COUNTIF('Reference Data'!$H$1:$H$100,D81)),0,E81*0.035),2)","v":0}]
[{"$nulls":7},{"$f":"ROUND(IF(OR(COUNTIF('Reference Data'!$G$1:$G$17,A82), COUNTIF('Reference Data'!$H$1:$H$100,D82)),0,E82*0.035),2)","v":0}]
[{"$nulls":7},{"$f":"ROUND(IF(OR(COUNTIF('Reference Data'!$G$1:$G$17,A83), COUNTIF('Reference Data'!$H$1:$H$100,D83)),0,E83*0.035),2)","v":0}]
[{"$nulls":7},{"$f":"ROUND(IF(OR(COUNTIF('Reference Data'!$G$1:$G$17,A84), COUNTIF('Reference Data'!$H$1:$H$100,D84)),0,E84*0.035),2)","v":0}]
[{"$nulls":7},{"$f":"ROUND(IF(OR(COUNTIF('Reference Data'!$G$1:$G$17,A85), COUNTIF('Reference Data'!$H$1:$H$100,D85)),0,E85*0.035),2)","v":0}]
[{"$nulls":7},{"$f":"ROUND(IF(OR(COUNTIF('Reference Data'!$G$1:$G$17,A86), COUNTIF('Reference Data'!$H$1:$H$100,D86)),0,E86*0.035),2)","v":0}]
[{"$nulls":7},{"$f":"ROUND(IF(OR(COUNTIF('Reference Data'!$G$1:$G$17,A87), COUNTIF('Reference Data'!$H$1:$H$100,D87)),0,E87*0.035),2)","v":0}]
[{"$nulls":7},{"$f":"ROUND(IF(OR(COUNTIF('Reference Data'!$G$1:$G$17,A88), COUNTIF('Reference Data'!$H$1:$H$100,D88)),0,E88*0.035),2)","v":0}]
[{"$nulls":7},{"$f":"ROUND(IF(OR(COUNTIF('Reference Data'!$G$1:$G$17,A89), COUNTIF('Reference Data'!$H$1:$H$100,D89)),0,E89*0.035),2)","v":0}]
[{"$nulls":7},{"$f":"ROUND(IF(OR(COUNTIF('Reference Data'!$G$1:$G$17,A90), COUNTIF('Reference Data'!$H$1:$H$100,D90)),0,E90*0.035),2)","v":0}]
[{"$nulls":7},{"$f":"ROUND(IF(OR(COUNTIF('Reference Data'!$G$1:$G$17,A91), COUNTIF('Reference Data'!$H$1:$H$100,D91)),0,E91*0.035),2)","v":0}]
[{"$nulls":7},{"$f":"ROUND(IF(OR(COUNTIF('Reference Data'!$G$1:$G$17,A92), COUNTIF('Reference Data'!$H$1:$H$100,D92)),0,E92*0.035),2)","v":0}]
[{"$nulls":7},{"$f":"ROUND(IF(OR(COUNTIF('Reference Data'!$G$1:$G$17,A93), COUNTIF('Reference Data'!$H$1:$H$100,D93)),0,E93*0.035),2)","v":0}]
[{"$nulls":7},{"$f":"ROUND(IF(OR(COUNTIF('Reference Data'!$G$1:$G$17,A94), COUNTIF('Reference Data'!$H$1:$H$100,D94)),0,E94*0.035),2)","v":0}]
[{"$nulls":7},{"$f":"ROUND(IF(OR(COUNTIF('Reference Data'!$G$1:$G$17,A95), COUNTIF('Reference Data'!$H$1:$H$100,D95)),0,E95*0.035),2)","v":0}]
[{"$nulls":7},{"$f":"ROUND(IF(OR(COUNTIF('Reference Data'!$G$1:$G$17,A96), COUNTIF('Reference Data'!$H$1:$H$100,D96)),0,E96*0.035),2)","v":0}]
[{"$nulls":7},{"$f":"ROUND(IF(OR(COUNTIF('Reference Data'!$G$1:$G$17,A97), COUNTIF('Reference Data'!$H$1:$H$100,D97)),0,E97*0.035),2)","v":0}]
[{"$nulls":7},{"$f":"ROUND(IF(OR(COUNTIF('Reference Data'!$G$1:$G$17,A98), COUNTIF('Reference Data'!$H$1:$H$100,D98)),0,E98*0.035),2)","v":0}]
[{"$nulls":7},{"$f":"ROUND(IF(OR(COUNTIF('Reference Data'!$G$1:$G$17,A99), COUNTIF('Reference Data'!$H$1:$H$100,D99)),0,E99*0.035),2)","v":0}]
[{"$nulls":7},{"$f":"ROUND(IF(OR(COUNTIF('Reference Data'!$G$1:$G$17,A100), COUNTIF('Reference Data'!$H$1:$H$100,D100)),0,E100*0.035),2)","v":0}]
[{"$nulls":7},{"$f":"ROUND(IF(OR(COUNTIF('Reference Data'!$G$1:$G$17,A101), COUNTIF('Reference Data'!$H$1:$H$100,D101)),0,E101*0.035),2)","v":0}]
[{"$nulls":7},{"$f":"ROUND(IF(OR(COUNTIF('Reference Data'!$G$1:$G$17,A102), COUNTIF('Reference Data'!$H$1:$H$100,D102)),0,E102*0.035),2)","v":0}]
[{"$nulls":7},{"$f":"ROUND(IF(OR(COUNTIF('Reference Data'!$G$1:$G$17,A103), COUNTIF('Reference Data'!$H$1:$H$100,D103)),0,E103*0.035),2)","v":0}]
[{"$nulls":7},{"$f":"ROUND(IF(OR(COUNTIF('Reference Data'!$G$1:$G$17,A104), COUNTIF('Reference Data'!$H$1:$H$100,D104)),0,E104*0.035),2)","v":0}]
[{"$nulls":7},{"$f":"ROUND(IF(OR(COUNTIF('Reference Data'!$G$1:$G$17,A105), COUNTIF('Reference Data'!$H$1:$H$100,D105)),0,E105*0.035),2)","v":0}]
[{"$nulls":7},{"$f":"ROUND(IF(OR(COUNTIF('Reference Data'!$G$1:$G$17,A106), COUNTIF('Reference Data'!$H$1:$H$100,D106)),0,E106*0.035),2)","v":0}]
[{"$nulls":7},{"$f":"ROUND(IF(OR(COUNTIF('Reference Data'!$G$1:$G$17,A107), COUNTIF('Reference Data'!$H$1:$H$100,D107)),0,E107*0.035),2)","v":0}]
[{"$nulls":7},{"$f":"ROUND(IF(OR(COUNTIF('Reference Data'!$G$1:$G$17,A108), COUNTIF('Reference Data'!$H$1:$H$100,D108)),0,E108*0.035),2)","v":0}]
[{"$nulls":7},{"$f":"ROUND(IF(OR(COUNTIF('Reference Data'!$G$1:$G$17,A109), COUNTIF('Reference Data'!$H$1:$H$100,D109)),0,E109*0.035),2)","v":0}]
[{"$nulls":7},{"$f":"ROUND(IF(OR(COUNTIF('Reference Data'!$G$1:$G$17,A110), COUNTIF('Reference Data'!$H$1:$H$100,D110)),0,E110*0.035),2)","v":0}]
[{"$nulls":7},{"$f":"ROUND(IF(OR(COUNTIF('Reference Data'!$G$1:$G$17,A111), COUNTIF('Reference Data'!$H$1:$H$100,D111)),0,E111*0.035),2)","v":0}]
[{"$nulls":7},{"$f":"ROUND(IF(OR(COUNTIF('Reference Data'!$G$1:$G$17,A112), COUNTIF('Reference Data'!$H$1:$H$100,D112)),0,E112*0.035),2)","v":0}]
[{"$nulls":7},{"$f":"ROUND(IF(OR(COUNTIF('Reference Data'!$G$1:$G$17,A113), COUNTIF('Reference Data'!$H$1:$H$100,D113)),0,E113*0.035),2)","v":0}]
[{"$nulls":7},{"$f":"ROUND(IF(OR(COUNTIF('Reference Data'!$G$1:$G$17,A114), COUNTIF('Reference Data'!$H$1:$H$100,D114)),0,E114*0.035),2)","v":0}]
[{"$nulls":7},{"$f":"ROUND(IF(OR(COUNTIF('Reference Data'!$G$1:$G$17,A115), COUNTIF('Reference Data'!$H$1:$H$100,D115)),0,E115*0.035),2)","v":0}]
[{"$nulls":7},{"$f":"ROUND(IF(OR(COUNTIF('Reference Data'!$G$1:$G$17,A116), COUNTIF('Reference Data'!$H$1:$H$100,D116)),0,E116*0.035),2)","v":0}]
[{"$nulls":7},{"$f":"ROUND(IF(OR(COUNTIF('Reference Data'!$G$1:$G$17,A117), COUNTIF('Reference Data'!$H$1:$H$100,D117)),0,E117*0.035),2)","v":0}]
[{"$nulls":7},{"$f":"ROUND(IF(OR(COUNTIF('Reference Data'!$G$1:$G$17,A118), COUNTIF('Reference Data'!$H$1:$H$100,D118)),0,E118*0.035),2)","v":0}]
[{"$nulls":7},{"$f":"ROUND(IF(OR(COUNTIF('Reference Data'!$G$1:$G$17,A119), COUNTIF('Reference Data'!$H$1:$H$100,D119)),0,E119*0.035),2)","v":0}]
[{"$nulls":7},{"$f":"ROUND(IF(OR(COUNTIF('Reference Data'!$G$1:$G$17,A120), COUNTIF('Reference Data'!$H$1:$H$100,D120)),0,E120*0.035),2)","v":0}]
[{"$nulls":7},{"$f":"ROUND(IF(OR(COUNTIF('Reference Data'!$G$1:$G$17,A121), COUNTIF('Reference Data'!$H$1:$H$100,D121)),0,E121*0.035),2)","v":0}]
[{"$nulls":7},{"$f":"ROUND(IF(OR(COUNTIF('Reference Data'!$G$1:$G$17,A122), COUNTIF('Reference Data'!$H$1:$H$100,D122)),0,E122*0.035),2)","v":0}]
[{"$nulls":7},{"$f":"ROUND(IF(OR(COUNTIF('Reference Data'!$G$1:$G$17,A123), COUNTIF('Reference Data'!$H$1:$H$100,D123)),0,E123*0.035),2)","v":0}]
[{"$nulls":7},{"$f":"ROUND(IF(OR(COUNTIF('Reference Data'!$G$1:$G$17,A124), COUNTIF('Reference Data'!$H$1:$H$100,D124)),0,E124*0.035),2)","v":0}]
[{"$nulls":7},{"$f":"ROUND(IF(OR(COUNTIF('Reference Data'!$G$1:$G$17,A125), COUNTIF('Reference Data'!$H$1:$H$100,D125)),0,E125*0.035),2)","v":0}]
[{"$nulls":7},{"$f":"ROUND(IF(OR(COUNTIF('Reference Data'!$G$1:$G$17,A126), COUNTIF('Reference Data'!$H$1:$H$100,D126)),0,E126*0.035),2)","v":0}]
[{"$nulls":7},{"$f":"ROUND(IF(OR(COUNTIF('Reference Data'!$G$1:$G$17,A127), COUNTIF('Reference Data'!$H$1:$H$100,D127)),0,E127*0.035),2)","v":0}]
[{"$nulls":7},{"$f":"ROUND(IF(OR(COUNTIF('Reference Data'!$G$1:$G$17,A128), COUNTIF('Reference Data'!$H$1:$H$100,D128)),0,E128*0.035),2)","v":0}]
[{"$nulls":7},{"$f":"ROUND(IF(OR(COUNTIF('Reference Data'!$G$1:$G$17,A129), COUNTIF('Reference Data'!$H$1:$H$100,D129)),0,E129*0.035),2)","v":0}]
[{"$nulls":7},{"$f":"ROUND(IF(OR(COUNTIF('Reference Data'!$G$1:$G$17,A130), COUNTIF('Reference Data'!$H$1:$H$100,D130)),0,E130*0.035),2)","v":0}]
[{"$nulls":7},{"$f":"ROUND(IF(OR(COUNTIF('Reference Data'!$G$1:$G$17,A131), COUNTIF('Reference Data'!$H$1:$H$100,D131)),0,E131*0.035),2)","v":0}]
[{"$nulls":7},{"$f":"ROUND(IF(OR(COUNTIF('Reference Data'!$G$1:$G$17,A132), COUNTIF('Reference Data'!$H$1:$H$100,D132)),0,E132*0.035),2)","v":0}]
[{"$nulls":7},{"$f":"ROUND(IF(OR(COUNTIF('Reference Data'!$G$1:$G$17,A133), COUNTIF('Reference Data'!$H$1:$H$100,D133)),0,E133*0.035),2)","v":0}]
[{"$nulls":7},{"$f":"ROUND(IF(OR(COUNTIF('Reference Data'!$G$1:$G$17,A134), COUNTIF('Reference Data'!$H$1:$H$100,D134)),0,E134*0.035),2)","v":0}]
[{"$nulls":7},{"$f":"ROUND(IF(OR(COUNTIF('Reference Data'!$G$1:$G$17,A135), COUNTIF('Reference Data'!$H$1:$H$100,D135)),0,E135*0.035),2)","v":0}]
[{"$nulls":7},{"$f":"ROUND(IF(OR(COUNTIF('Reference Data'!$G$1:$G$17,A136), COUNTIF('Reference Data'!$H$1:$H$100,D136)),0,E136*0.035),2)","v":0}]
[{"$nulls":7},{"$f":"ROUND(IF(OR(COUNTIF('Reference Data'!$G$1:$G$17,A137), COUNTIF('Reference Data'!$H$1:$H$100,D137)),0,E137*0.035),2)","v":0}]
[{"$nulls":7},{"$f":"ROUND(IF(OR(COUNTIF('Reference Data'!$G$1:$G$17,A138), COUNTIF('Reference Data'!$H$1:$H$100,D138)),0,E138*0.035),2)","v":0}]
[{"$nulls":7},{"$f":"ROUND(IF(OR(COUNTIF('Reference Data'!$G$1:$G$17,A139), COUNTIF('Reference Data'!$H$1:$H$100,D139)),0,E139*0.035),2)","v":0}]
[{"$nulls":7},{"$f":"ROUND(IF(OR(COUNTIF('Reference Data'!$G$1:$G$17,A140), COUNTIF('Reference Data'!$H$1:$H$100,D140)),0,E140*0.035),2)","v":0}]
[{"$nulls":7},{"$f":"ROUND(IF(OR(COUNTIF('Reference Data'!$G$1:$G$17,A141), COUNTIF('Reference Data'!$H$1:$H$100,D141)),0,E141*0.035),2)","v":0}]
[{"$nulls":7},{"$f":"ROUND(IF(OR(COUNTIF('Reference Data'!$G$1:$G$17,A142), COUNTIF('Reference Data'!$H$1:$H$100,D142)),0,E142*0.035),2)","v":0}]
[{"$nulls":7},{"$f":"ROUND(IF(OR(COUNTIF('Reference Data'!$G$1:$G$17,A143), COUNTIF('Reference Data'!$H$1:$H$100,D143)),0,E143*0.035),2)","v":0}]
[{"$nulls":7},{"$f":"ROUND(IF(OR(COUNTIF('Reference Data'!$G$1:$G$17,A144), COUNTIF('Reference Data'!$H$1:$H$100,D144)),0,E144*0.035),2)","v":0}]
[{"$nulls":7},{"$f":"ROUND(IF(OR(COUNTIF('Reference Data'!$G$1:$G$17,A145), COUNTIF('Reference Data'!$H$1:$H$100,D145)),0,E145*0.035),2)","v":0}]
[{"$nulls":7},{"$f":"ROUND(IF(OR(COUNTIF('Reference Data'!$G$1:$G$17,A146), COUNTIF('Reference Data'!$H$1:$H$100,D146)),0,E146*0.035),2)","v":0}]
[{"$nulls":7},{"$f":"ROUND(IF(OR(COUNTIF('Reference Data'!$G$1:$G$17,A147), COUNTIF('Reference Data'!$H$1:$H$100,D147)),0,E147*0.035),2)","v":0}]
[{"$nulls":7},{"$f":"ROUND(IF(OR(COUNTIF('Reference Data'!$G$1:$G$17,A148), COUNTIF('Reference Data'!$H$1:$H$100,D148)),0,E148*0.035),2)","v":0}]
[{"$nulls":7},{"$f":"ROUND(IF(OR(COUNTIF('Reference Data'!$G$1:$G$17,A149), COUNTIF('Reference Data'!$H$1:$H$100,D149)),0,E149*0.035),2)","v":0}]
[{"$nulls":7},{"$f":"ROUND(IF(OR(COUNTIF('Reference Data'!$G$1:$G$17,A150), COUNTIF('Reference Data'!$H$1:$H$100,D150)),0,E150*0.035),2)","v":0}]
[{"$nulls":7},{"$f":"ROUND(IF(OR(COUNTIF('Reference Data'!$G$1:$G$17,A151), COUNTIF('Reference Data'!$H$1:$H$100,D151)),0,E151*0.035),2)","v":0}]
[{"$nulls":7},{"$f":"ROUND(IF(OR(COUNTIF('Reference Data'!$G$1:$G$17,A152), COUNTIF('Reference Data'!$H$1:$H$100,D152)),0,E152*0.035),2)","v":0}]
[{"$nulls":7},{"$f":"ROUND(IF(OR(COUNTIF('Reference Data'!$G$1:$G$17,A153), COUNTIF('Reference Data'!$H$1:$H$100,D153)),0,E153*0.035),2)","v":0}]
[{"$nulls":7},{"$f":"ROUND(IF(OR(COUNTIF('Reference Data'!$G$1:$G$17,A154), COUNTIF('Reference Data'!$H$1:$H$100,D154)),0,E154*0.035),2)","v":0}]
[{"$nulls":7},{"$f":"ROUND(IF(OR(COUNTIF('Reference Data'!$G$1:$G$17,A155), COUNTIF('Reference Data'!$H$1:$H$100,D155)),0,E155*0.035),2)","v":0}]
[{"$nulls":7},{"$f":"ROUND(IF(OR(COUNTIF('Reference Data'!$G$1:$G$17,A156), COUNTIF('Reference Data'!$H$1:$H$100,D156)),0,E156*0.035),2)","v":0}]
[{"$nulls":7},{"$f":"ROUND(IF(OR(COUNTIF('Reference Data'!$G$1:$G$17,A157), COUNTIF('Reference Data'!$H$1:$H$100,D157)),0,E157*0.035),2)","v":0}]
[{"$nulls":7},{"$f":"ROUND(IF(OR(COUNTIF('Reference Data'!$G$1:$G$17,A158), COUNTIF('Reference Data'!$H$1:$H$100,D158)),0,E158*0.035),2)","v":0}]
[{"$nulls":7},{"$f":"ROUND(IF(OR(COUNTIF('Reference Data'!$G$1:$G$17,A159), COUNTIF('Reference Data'!$H$1:$H$100,D159)),0,E159*0.035),2)","v":0}]
[{"$nulls":7},{"$f":"ROUND(IF(OR(COUNTIF('Reference Data'!$G$1:$G$17,A160), COUNTIF('Reference Data'!$H$1:$H$100,D160)),0,E160*0.035),2)","v":0}]
[{"$nulls":7},{"$f":"ROUND(IF(OR(COUNTIF('Reference Data'!$G$1:$G$17,A161), COUNTIF('Reference Data'!$H$1:$H$100,D161)),0,E161*0.035),2)","v":0}]
[{"$nulls":7},{"$f":"ROUND(IF(OR(COUNTIF('Reference Data'!$G$1:$G$17,A162), COUNTIF('Reference Data'!$H$1:$H$100,D162)),0,E162*0.035),2)","v":0}]
[{"$nulls":7},{"$f":"ROUND(IF(OR(COUNTIF('Reference Data'!$G$1:$G$17,A163), COUNTIF('Reference Data'!$H$1:$H$100,D163)),0,E163*0.035),2)","v":0}]
[{"$nulls":7},{"$f":"ROUND(IF(OR(COUNTIF('Reference Data'!$G$1:$G$17,A164), COUNTIF('Reference Data'!$H$1:$H$100,D164)),0,E164*0.035),2)","v":0}]
[{"$nulls":7},{"$f":"ROUND(IF(OR(COUNTIF('Reference Data'!$G$1:$G$17,A165), COUNTIF('Reference Data'!$H$1:$H$100,D165)),0,E165*0.035),2)","v":0}]
[{"$nulls":7},{"$f":"ROUND(IF(OR(COUNTIF('Reference Data'!$G$1:$G$17,A166), COUNTIF('Reference Data'!$H$1:$H$100,D166)),0,E166*0.035),2)","v":0}]
[{"$nulls":7},{"$f":"ROUND(IF(OR(COUNTIF('Reference Data'!$G$1:$G$17,A167), COUNTIF('Reference Data'!$H$1:$H$100,D167)),0,E167*0.035),2)","v":0}]
[{"$nulls":7},{"$f":"ROUND(IF(OR(COUNTIF('Reference Data'!$G$1:$G$17,A168), COUNTIF('Reference Data'!$H$1:$H$100,D168)),0,E168*0.035),2)","v":0}]
[{"$nulls":7},{"$f":"ROUND(IF(OR(COUNTIF('Reference Data'!$G$1:$G$17,A169), COUNTIF('Reference Data'!$H$1:$H$100,D169)),0,E169*0.035),2)","v":0}]
[{"$nulls":7},{"$f":"ROUND(IF(OR(COUNTIF('Reference Data'!$G$1:$G$17,A170), COUNTIF('Reference Data'!$H$1:$H$100,D170)),0,E170*0.035),2)","v":0}]
[{"$nulls":7},{"$f":"ROUND(IF(OR(COUNTIF('Reference Data'!$G$1:$G$17,A171), COUNTIF('Reference Data'!$H$1:$H$100,D171)),0,E171*0.035),2)","v":0}]
[{"$nulls":7},{"$f":"ROUND(IF(OR(COUNTIF('Reference Data'!$G$1:$G$17,A172), COUNTIF('Reference Data'!$H$1:$H$100,D172)),0,E172*0.035),2)","v":0}]
[{"$nulls":7},{"$f":"ROUND(IF(OR(COUNTIF('Reference Data'!$G$1:$G$17,A173), COUNTIF('Reference Data'!$H$1:$H$100,D173)),0,E173*0.035),2)","v":0}]
[{"$nulls":7},{"$f":"ROUND(IF(OR(COUNTIF('Reference Data'!$G$1:$G$17,A174), COUNTIF('Reference Data'!$H$1:$H$100,D174)),0,E174*0.035),2)","v":0}]
[{"$nulls":7},{"$f":"ROUND(IF(OR(COUNTIF('Reference Data'!$G$1:$G$17,A175), COUNTIF('Reference Data'!$H$1:$H$100,D175)),0,E175*0.035),2)","v":0}]
[{"$nulls":7},{"$f":"ROUND(IF(OR(COUNTIF('Reference Data'!$G$1:$G$17,A176), COUNTIF('Reference Data'!$H$1:$H$100,D176)),0,E176*0.035),2)","v":0}]
[{"$nulls":7},{"$f":"ROUND(IF(OR(COUNTIF('Reference Data'!$G$1:$G$17,A177), COUNTIF('Reference Data'!$H$1:$H$100,D177)),0,E177*0.035),2)","v":0}]
[{"$nulls":7},{"$f":"ROUND(IF(OR(COUNTIF('Reference Data'!$G$1:$G$17,A178), COUNTIF('Reference Data'!$H$1:$H$100,D178)),0,E178*0.035),2)","v":0}]
[{"$nulls":7},{"$f":"ROUND(IF(OR(COUNTIF('Reference Data'!$G$1:$G$17,A179), COUNTIF('Reference Data'!$H$1:$H$100,D179)),0,E179*0.035),2)","v":0}]
[{"$nulls":7},{"$f":"ROUND(IF(OR(COUNTIF('Reference Data'!$G$1:$G$17,A180), COUNTIF('Reference Data'!$H$1:$H$100,D180)),0,E180*0.035),2)","v":0}]
[{"$nulls":7},{"$f":"ROUND(IF(OR(COUNTIF('Reference Data'!$G$1:$G$17,A181), COUNTIF('Reference Data'!$H$1:$H$100,D181)),0,E181*0.035),2)","v":0}]
[{"$nulls":7},{"$f":"ROUND(IF(OR(COUNTIF('Reference Data'!$G$1:$G$17,A182), COUNTIF('Reference Data'!$H$1:$H$100,D182)),0,E182*0.035),2)","v":0}]
[{"$nulls":7},{"$f":"ROUND(IF(OR(COUNTIF('Reference Data'!$G$1:$G$17,A183), COUNTIF('Reference Data'!$H$1:$H$100,D183)),0,E183*0.035),2)","v":0}]
[{"$nulls":7},{"$f":"ROUND(IF(OR(COUNTIF('Reference Data'!$G$1:$G$17,A184), COUNTIF('Reference Data'!$H$1:$H$100,D184)),0,E184*0.035),2)","v":0}]
[{"$nulls":7},{"$f":"ROUND(IF(OR(COUNTIF('Reference Data'!$G$1:$G$17,A185), COUNTIF('Reference Data'!$H$1:$H$100,D185)),0,E185*0.035),2)","v":0}]
[{"$nulls":7},{"$f":"ROUND(IF(OR(COUNTIF('Reference Data'!$G$1:$G$17,A186), COUNTIF('Reference Data'!$H$1:$H$100,D186)),0,E186*0.035),2)","v":0}]
[{"$nulls":7},{"$f":"ROUND(IF(OR(COUNTIF('Reference Data'!$G$1:$G$17,A187), COUNTIF('Reference Data'!$H$1:$H$100,D187)),0,E187*0.035),2)","v":0}]
[{"$nulls":7},{"$f":"ROUND(IF(OR(COUNTIF('Reference Data'!$G$1:$G$17,A188), COUNTIF('Reference Data'!$H$1:$H$100,D188)),0,E188*0.035),2)","v":0}]
[{"$nulls":7},{"$f":"ROUND(IF(OR(COUNTIF('Reference Data'!$G$1:$G$17,A189), COUNTIF('Reference Data'!$H$1:$H$100,D189)),0,E189*0.035),2)","v":0}]
[{"$nulls":7},{"$f":"ROUND(IF(OR(COUNTIF('Reference Data'!$G$1:$G$17,A190), COUNTIF('Reference Data'!$H$1:$H$100,D190)),0,E190*0.035),2)","v":0}]
[{"$nulls":7},{"$f":"ROUND(IF(OR(COUNTIF('Reference Data'!$G$1:$G$17,A191), COUNTIF('Reference Data'!$H$1:$H$100,D191)),0,E191*0.035),2)","v":0}]
[{"$nulls":7},{"$f":"ROUND(IF(OR(COUNTIF('Reference Data'!$G$1:$G$17,A192), COUNTIF('Reference Data'!$H$1:$H$100,D192)),0,E192*0.035),2)","v":0}]
[{"$nulls":7},{"$f":"ROUND(IF(OR(COUNTIF('Reference Data'!$G$1:$G$17,A193), COUNTIF('Reference Data'!$H$1:$H$100,D193)),0,E193*0.035),2)","v":0}]
[{"$nulls":7},{"$f":"ROUND(IF(OR(COUNTIF('Reference Data'!$G$1:$G$17,A194), COUNTIF('Reference Data'!$H$1:$H$100,D194)),0,E194*0.035),2)","v":0}]
[{"$nulls":7},{"$f":"ROUND(IF(OR(COUNTIF('Reference Data'!$G$1:$G$17,A195), COUNTIF('Reference Data'!$H$1:$H$100,D195)),0,E195*0.035),2)","v":0}]
[{"$nulls":7},{"$f":"ROUND(IF(OR(COUNTIF('Reference Data'!$G$1:$G$17,A196), COUNTIF('Reference Data'!$H$1:$H$100,D196)),0,E196*0.035),2)","v":0}]
[{"$nulls":7},{"$f":"ROUND(IF(OR(COUNTIF('Reference Data'!$G$1:$G$17,A197), COUNTIF('Reference Data'!$H$1:$H$100,D197)),0,E197*0.035),2)","v":0}]
[{"$nulls":7},{"$f":"ROUND(IF(OR(COUNTIF('Reference Data'!$G$1:$G$17,A198), COUNTIF('Reference Data'!$H$1:$H$100,D198)),0,E198*0.035),2)","v":0}]
[{"$nulls":7},{"$f":"ROUND(IF(OR(COUNTIF('Reference Data'!$G$1:$G$17,A199), COUNTIF('Reference Data'!$H$1:$H$100,D199)),0,E199*0.035),2)","v":0}]
[{"$nulls":7},{"$f":"ROUND(IF(OR(COUNTIF('Reference Data'!$G$1:$G$17,A200), COUNTIF('Reference Data'!$H$1:$H$100,D200)),0,E200*0.035),2)","v":0}]
[{"$nulls":7},{"$f":"ROUND(IF(OR(COUNTIF('Reference Data'!$G$1:$G$17,A201), COUNTIF('Reference Data'!$H$1:$H$100,D201)),0,E201*0.035),2)","v":0}]
[{"$nulls":7},{"$f":"ROUND(IF(OR(COUNTIF('Reference Data'!$G$1:$G$17,A202), COUNTIF('Reference Data'!$H$1:$H$100,D202)),0,E202*0.035),2)","v":0}]
[{"$nulls":7},{"$f":"ROUND(IF(OR(COUNTIF('Reference Data'!$G$1:$G$17,A203), COUNTIF('Reference Data'!$H$1:$H$100,D203)),0,E203*0.035),2)","v":0}]
[{"$nulls":7},{"$f":"ROUND(IF(OR(COUNTIF('Reference Data'!$G$1:$G$17,A204), COUNTIF('Reference Data'!$H$1:$H$100,D204)),0,E204*0.035),2)","v":0}]
[{"$nulls":7},{"$f":"ROUND(IF(OR(COUNTIF('Reference Data'!$G$1:$G$17,A205), COUNTIF('Reference Data'!$H$1:$H$100,D205)),0,E205*0.035),2)","v":0}]
[{"$nulls":7},{"$f":"ROUND(IF(OR(COUNTIF('Reference Data'!$G$1:$G$17,A206), COUNTIF('Reference Data'!$H$1:$H$100,D206)),0,E206*0.035),2)","v":0}]
[{"$nulls":7},{"$f":"ROUND(IF(OR(COUNTIF('Reference Data'!$G$1:$G$17,A207), COUNTIF('Reference Data'!$H$1:$H$100,D207)),0,E207*0.035),2)","v":0}]
[{"$nulls":7},{"$f":"ROUND(IF(OR(COUNTIF('Reference Data'!$G$1:$G$17,A208), COUNTIF('Reference Data'!$H$1:$H$100,D208)),0,E208*0.035),2)","v":0}]
[{"$nulls":7},{"$f":"ROUND(IF(OR(COUNTIF('Reference Data'!$G$1:$G$17,A209), COUNTIF('Reference Data'!$H$1:$H$100,D209)),0,E209*0.035),2)","v":0}]
[{"$nulls":7},{"$f":"ROUND(IF(OR(COUNTIF('Reference Data'!$G$1:$G$17,A210), COUNTIF('Reference Data'!$H$1:$H$100,D210)),0,E210*0.035),2)","v":0}]
[{"$nulls":7},{"$f":"ROUND(IF(OR(COUNTIF('Reference Data'!$G$1:$G$17,A211), COUNTIF('Reference Data'!$H$1:$H$100,D211)),0,E211*0.035),2)","v":0}]
[{"$nulls":7},{"$f":"ROUND(IF(OR(COUNTIF('Reference Data'!$G$1:$G$17,A212), COUNTIF('Reference Data'!$H$1:$H$100,D212)),0,E212*0.035),2)","v":0}]
[{"$nulls":7},{"$f":"ROUND(IF(OR(COUNTIF('Reference Data'!$G$1:$G$17,A213), COUNTIF('Reference Data'!$H$1:$H$100,D213)),0,E213*0.035),2)","v":0}]
[{"$nulls":7},{"$f":"ROUND(IF(OR(COUNTIF('Reference Data'!$G$1:$G$17,A214), COUNTIF('Reference Data'!$H$1:$H$100,D214)),0,E214*0.035),2)","v":0}]
[{"$nulls":7},{"$f":"ROUND(IF(OR(COUNTIF('Reference Data'!$G$1:$G$17,A215), COUNTIF('Reference Data'!$H$1:$H$100,D215)),0,E215*0.035),2)","v":0}]
[{"$nulls":7},{"$f":"ROUND(IF(OR(COUNTIF('Reference Data'!$G$1:$G$17,A216), COUNTIF('Reference Data'!$H$1:$H$100,D216)),0,E216*0.035),2)","v":0}]
[{"$nulls":7},{"$f":"ROUND(IF(OR(COUNTIF('Reference Data'!$G$1:$G$17,A217), COUNTIF('Reference Data'!$H$1:$H$100,D217)),0,E217*0.035),2)","v":0}]
[{"$nulls":7},{"$f":"ROUND(IF(OR(COUNTIF('Reference Data'!$G$1:$G$17,A218), COUNTIF('Reference Data'!$H$1:$H$100,D218)),0,E218*0.035),2)","v":0}]
[{"$nulls":7},{"$f":"ROUND(IF(OR(COUNTIF('Reference Data'!$G$1:$G$17,A219), COUNTIF('Reference Data'!$H$1:$H$100,D219)),0,E219*0.035),2)","v":0}]
[{"$nulls":7},{"$f":"ROUND(IF(OR(COUNTIF('Reference Data'!$G$1:$G$17,A220), COUNTIF('Reference Data'!$H$1:$H$100,D220)),0,E220*0.035),2)","v":0}]
[{"$nulls":7},{"$f":"ROUND(IF(OR(COUNTIF('Reference Data'!$G$1:$G$17,A221), COUNTIF('Reference Data'!$H$1:$H$100,D221)),0,E221*0.035),2)","v":0}]
[{"$nulls":7},{"$f":"ROUND(IF(OR(COUNTIF('Reference Data'!$G$1:$G$17,A222), COUNTIF('Reference Data'!$H$1:$H$100,D222)),0,E222*0.035),2)","v":0}]
[{"$nulls":7},{"$f":"ROUND(IF(OR(COUNTIF('Reference Data'!$G$1:$G$17,A223), COUNTIF('Reference Data'!$H$1:$H$100,D223)),0,E223*0.035),2)","v":0}]
[{"$nulls":7},{"$f":"ROUND(IF(OR(COUNTIF('Reference Data'!$G$1:$G$17,A224), COUNTIF('Reference Data'!$H$1:$H$100,D224)),0,E224*0.035),2)","v":0}]
[{"$nulls":7},{"$f":"ROUND(IF(OR(COUNTIF('Reference Data'!$G$1:$G$17,A225), COUNTIF('Reference Data'!$H$1:$H$100,D225)),0,E225*0.035),2)","v":0}]
[{"$nulls":7},{"$f":"ROUND(IF(OR(COUNTIF('Reference Data'!$G$1:$G$17,A226), COUNTIF('Reference Data'!$H$1:$H$100,D226)),0,E226*0.035),2)","v":0}]
[{"$nulls":7},{"$f":"ROUND(IF(OR(COUNTIF('Reference Data'!$G$1:$G$17,A227), COUNTIF('Reference Data'!$H$1:$H$100,D227)),0,E227*0.035),2)","v":0}]
[{"$nulls":7},{"$f":"ROUND(IF(OR(COUNTIF('Reference Data'!$G$1:$G$17,A228), COUNTIF('Reference Data'!$H$1:$H$100,D228)),0,E228*0.035),2)","v":0}]
[{"$nulls":7},{"$f":"ROUND(IF(OR(COUNTIF('Reference Data'!$G$1:$G$17,A229), COUNTIF('Reference Data'!$H$1:$H$100,D229)),0,E229*0.035),2)","v":0}]
[{"$nulls":7},{"$f":"ROUND(IF(OR(COUNTIF('Reference Data'!$G$1:$G$17,A230), COUNTIF('Reference Data'!$H$1:$H$100,D230)),0,E230*0.035),2)","v":0}]
[{"$nulls":7},{"$f":"ROUND(IF(OR(COUNTIF('Reference Data'!$G$1:$G$17,A231), COUNTIF('Reference Data'!$H$1:$H$100,D231)),0,E231*0.035),2)","v":0}]
[{"$nulls":7},{"$f":"ROUND(IF(OR(COUNTIF('Reference Data'!$G$1:$G$17,A232), COUNTIF('Reference Data'!$H$1:$H$100,D232)),0,E232*0.035),2)","v":0}]
[{"$nulls":7},{"$f":"ROUND(IF(OR(COUNTIF('Reference Data'!$G$1:$G$17,A233), COUNTIF('Reference Data'!$H$1:$H$100,D233)),0,E233*0.035),2)","v":0}]
[{"$nulls":7},{"$f":"ROUND(IF(OR(COUNTIF('Reference Data'!$G$1:$G$17,A234), COUNTIF('Reference Data'!$H$1:$H$100,D234)),0,E234*0.035),2)","v":0}]
[{"$nulls":7},{"$f":"ROUND(IF(OR(COUNTIF('Reference Data'!$G$1:$G$17,A235), COUNTIF('Reference Data'!$H$1:$H$100,D235)),0,E235*0.035),2)","v":0}]
[{"$nulls":7},{"$f":"ROUND(IF(OR(COUNTIF('Reference Data'!$G$1:$G$17,A236), COUNTIF('Reference Data'!$H$1:$H$100,D236)),0,E236*0.035),2)","v":0}]
[{"$nulls":7},{"$f":"ROUND(IF(OR(COUNTIF('Reference Data'!$G$1:$G$17,A237), COUNTIF('Reference Data'!$H$1:$H$100,D237)),0,E237*0.035),2)","v":0}]
[{"$nulls":7},{"$f":"ROUND(IF(OR(COUNTIF('Reference Data'!$G$1:$G$17,A238), COUNTIF('Reference Data'!$H$1:$H$100,D238)),0,E238*0.035),2)","v":0}]
[{"$nulls":7},{"$f":"ROUND(IF(OR(COUNTIF('Reference Data'!$G$1:$G$17,A239), COUNTIF('Reference Data'!$H$1:$H$100,D239)),0,E239*0.035),2)","v":0}]
[{"$nulls":7},{"$f":"ROUND(IF(OR(COUNTIF('Reference Data'!$G$1:$G$17,A240), COUNTIF('Reference Data'!$H$1:$H$100,D240)),0,E240*0.035),2)","v":0}]
[{"$nulls":7},{"$f":"ROUND(IF(OR(COUNTIF('Reference Data'!$G$1:$G$17,A241), COUNTIF('Reference Data'!$H$1:$H$100,D241)),0,E241*0.035),2)","v":0}]
[{"$nulls":7},{"$f":"ROUND(IF(OR(COUNTIF('Reference Data'!$G$1:$G$17,A242), COUNTIF('Reference Data'!$H$1:$H$100,D242)),0,E242*0.035),2)","v":0}]
[{"$nulls":7},{"$f":"ROUND(IF(OR(COUNTIF('Reference Data'!$G$1:$G$17,A243), COUNTIF('Reference Data'!$H$1:$H$100,D243)),0,E243*0.035),2)","v":0}]
[{"$nulls":7},{"$f":"ROUND(IF(OR(COUNTIF('Reference Data'!$G$1:$G$17,A244), COUNTIF('Reference Data'!$H$1:$H$100,D244)),0,E244*0.035),2)","v":0}]
[{"$nulls":7},{"$f":"ROUND(IF(OR(COUNTIF('Reference Data'!$G$1:$G$17,A245), COUNTIF('Reference Data'!$H$1:$H$100,D245)),0,E245*0.035),2)","v":0}]
[{"$nulls":7},{"$f":"ROUND(IF(OR(COUNTIF('Reference Data'!$G$1:$G$17,A246), COUNTIF('Reference Data'!$H$1:$H$100,D246)),0,E246*0.035),2)","v":0}]
[{"$nulls":7},{"$f":"ROUND(IF(OR(COUNTIF('Reference Data'!$G$1:$G$17,A247), COUNTIF('Reference Data'!$H$1:$H$100,D247)),0,E247*0.035),2)","v":0}]
[{"$nulls":7},{"$f":"ROUND(IF(OR(COUNTIF('Reference Data'!$G$1:$G$17,A248), COUNTIF('Reference Data'!$H$1:$H$100,D248)),0,E248*0.035),2)","v":0}]
[{"$nulls":7},{"$f":"ROUND(IF(OR(COUNTIF('Reference Data'!$G$1:$G$17,A249), COUNTIF('Reference Data'!$H$1:$H$100,D249)),0,E249*0.035),2)","v":0}]
[{"$nulls":7},{"$f":"ROUND(IF(OR(COUNTIF('Reference Data'!$G$1:$G$17,A250), COUNTIF('Reference Data'!$H$1:$H$100,D250)),0,E250*0.035),2)","v":0}]
[{"$nulls":7},{"$f":"ROUND(IF(OR(COUNTIF('Reference Data'!$G$1:$G$17,A251), COUNTIF('Reference Data'!$H$1:$H$100,D251)),0,E251*0.035),2)","v":0}]
[{"$nulls":7},{"$f":"ROUND(IF(OR(COUNTIF('Reference Data'!$G$1:$G$17,A252), COUNTIF('Reference Data'!$H$1:$H$100,D252)),0,E252*0.035),2)","v":0}]
[{"$nulls":7},{"$f":"ROUND(IF(OR(COUNTIF('Reference Data'!$G$1:$G$17,A253), COUNTIF('Reference Data'!$H$1:$H$100,D253)),0,E253*0.035),2)","v":0}]
[{"$nulls":7},{"$f":"ROUND(IF(OR(COUNTIF('Reference Data'!$G$1:$G$17,A254), COUNTIF('Reference Data'!$H$1:$H$100,D254)),0,E254*0.035),2)","v":0}]
[{"$nulls":7},{"$f":"ROUND(IF(OR(COUNTIF('Reference Data'!$G$1:$G$17,A255), COUNTIF('Reference Data'!$H$1:$H$100,D255)),0,E255*0.035),2)","v":0}]
[{"$nulls":7},{"$f":"ROUND(IF(OR(COUNTIF('Reference Data'!$G$1:$G$17,A256), COUNTIF('Reference Data'!$H$1:$H$100,D256)),0,E256*0.035),2)","v":0}]
[{"$nulls":7},{"$f":"ROUND(IF(OR(COUNTIF('Reference Data'!$G$1:$G$17,A257), COUNTIF('Reference Data'!$H$1:$H$100,D257)),0,E257*0.035),2)","v":0}]
[{"$nulls":7},{"$f":"ROUND(IF(OR(COUNTIF('Reference Data'!$G$1:$G$17,A258), COUNTIF('Reference Data'!$H$1:$H$100,D258)),0,E258*0.035),2)","v":0}]
[{"$nulls":7},{"$f":"ROUND(IF(OR(COUNTIF('Reference Data'!$G$1:$G$17,A259), COUNTIF('Reference Data'!$H$1:$H$100,D259)),0,E259*0.035),2)","v":0}]
[{"$nulls":7},{"$f":"ROUND(IF(OR(COUNTIF('Reference Data'!$G$1:$G$17,A260), COUNTIF('Reference Data'!$H$1:$H$100,D260)),0,E260*0.035),2)","v":0}]
[{"$nulls":7},{"$f":"ROUND(IF(OR(COUNTIF('Reference Data'!$G$1:$G$17,A261), COUNTIF('Reference Data'!$H$1:$H$100,D261)),0,E261*0.035),2)","v":0}]
[{"$nulls":7},{"$f":"ROUND(IF(OR(COUNTIF('Reference Data'!$G$1:$G$17,A262), COUNTIF('Reference Data'!$H$1:$H$100,D262)),0,E262*0.035),2)","v":0}]
[{"$nulls":7},{"$f":"ROUND(IF(OR(COUNTIF('Reference Data'!$G$1:$G$17,A263), COUNTIF('Reference Data'!$H$1:$H$100,D263)),0,E263*0.035),2)","v":0}]
[{"$nulls":7},{"$f":"ROUND(IF(OR(COUNTIF('Reference Data'!$G$1:$G$17,A264), COUNTIF('Reference Data'!$H$1:$H$100,D264)),0,E264*0.035),2)","v":0}]
[{"$nulls":7},{"$f":"ROUND(IF(OR(COUNTIF('Reference Data'!$G$1:$G$17,A265), COUNTIF('Reference Data'!$H$1:$H$100,D265)),0,E265*0.035),2)","v":0}]
[{"$nulls":7},{"$f":"ROUND(IF(OR(COUNTIF('Reference Data'!$G$1:$G$17,A266), COUNTIF('Reference Data'!$H$1:$H$100,D266)),0,E266*0.035),2)","v":0}]
[{"$nulls":7},{"$f":"ROUND(IF(OR(COUNTIF('Reference Data'!$G$1:$G$17,A267), COUNTIF('Reference Data'!$H$1:$H$100,D267)),0,E267*0.035),2)","v":0}]
[{"$nulls":7},{"$f":"ROUND(IF(OR(COUNTIF('Reference Data'!$G$1:$G$17,A268), COUNTIF('Reference Data'!$H$1:$H$100,D268)),0,E268*0.035),2)","v":0}]
[{"$nulls":7},{"$f":"ROUND(IF(OR(COUNTIF('Reference Data'!$G$1:$G$17,A269), COUNTIF('Reference Data'!$H$1:$H$100,D269)),0,E269*0.035),2)","v":0}]
[{"$nulls":7},{"$f":"ROUND(IF(OR(COUNTIF('Reference Data'!$G$1:$G$17,A270), COUNTIF('Reference Data'!$H$1:$H$100,D270)),0,E270*0.035),2)","v":0}]
[{"$nulls":7},{"$f":"ROUND(IF(OR(COUNTIF('Reference Data'!$G$1:$G$17,A271), COUNTIF('Reference Data'!$H$1:$H$100,D271)),0,E271*0.035),2)","v":0}]
[{"$nulls":7},{"$f":"ROUND(IF(OR(COUNTIF('Reference Data'!$G$1:$G$17,A272), COUNTIF('Reference Data'!$H$1:$H$100,D272)),0,E272*0.035),2)","v":0}]
[{"$nulls":7},{"$f":"ROUND(IF(OR(COUNTIF('Reference Data'!$G$1:$G$17,A273), COUNTIF('Reference Data'!$H$1:$H$100,D273)),0,E273*0.035),2)","v":0}]
[{"$nulls":7},{"$f":"ROUND(IF(OR(COUNTIF('Reference Data'!$G$1:$G$17,A274), COUNTIF('Reference Data'!$H$1:$H$100,D274)),0,E274*0.035),2)","v":0}]
[{"$nulls":7},{"$f":"ROUND(IF(OR(COUNTIF('Reference Data'!$G$1:$G$17,A275), COUNTIF('Reference Data'!$H$1:$H$100,D275)),0,E275*0.035),2)","v":0}]
[{"$nulls":7},{"$f":"ROUND(IF(OR(COUNTIF('Reference Data'!$G$1:$G$17,A276), COUNTIF('Reference Data'!$H$1:$H$100,D276)),0,E276*0.035),2)","v":0}]
[{"$nulls":7},{"$f":"ROUND(IF(OR(COUNTIF('Reference Data'!$G$1:$G$17,A277), COUNTIF('Reference Data'!$H$1:$H$100,D277)),0,E277*0.035),2)","v":0}]
[{"$nulls":7},{"$f":"ROUND(IF(OR(COUNTIF('Reference Data'!$G$1:$G$17,A278), COUNTIF('Reference Data'!$H$1:$H$100,D278)),0,E278*0.035),2)","v":0}]
[{"$nulls":7},{"$f":"ROUND(IF(OR(COUNTIF('Reference Data'!$G$1:$G$17,A279), COUNTIF('Reference Data'!$H$1:$H$100,D279)),0,E279*0.035),2)","v":0}]
[{"$nulls":7},{"$f":"ROUND(IF(OR(COUNTIF('Reference Data'!$G$1:$G$17,A280), COUNTIF('Reference Data'!$H$1:$H$100,D280)),0,E280*0.035),2)","v":0}]
[{"$nulls":7},{"$f":"ROUND(IF(OR(COUNTIF('Reference Data'!$G$1:$G$17,A281), COUNTIF('Reference Data'!$H$1:$H$100,D281)),0,E281*0.035),2)","v":0}]
[{"$nulls":7},{"$f":"ROUND(IF(OR(COUNTIF('Reference Data'!$G$1:$G$17,A282), COUNTIF('Reference Data'!$H$1:$H$100,D282)),0,E282*0.035),2)","v":0}]
[{"$nulls":7},{"$f":"ROUND(IF(OR(COUNTIF('Reference Data'!$G$1:$G$17,A283), COUNTIF('Reference Data'!$H$1:$H$100,D283)),0,E283*0.035),2)","v":0}]
[{"$nulls":7},{"$f":"ROUND(IF(OR(COUNTIF('Reference Data'!$G$1:$G$17,A284), COUNTIF('Reference Data'!$H$1:$H$100,D284)),0,E284*0.035),2)","v":0}]
[{"$nulls":7},{"$f":"ROUND(IF(OR(COUNTIF('Reference Data'!$G$1:$G$17,A285), COUNTIF('Reference Data'!$H$1:$H$100,D285)),0,E285*0.035),2)","v":0}]
[{"$nulls":7},{"$f":"ROUND(IF(OR(COUNTIF('Reference Data'!$G$1:$G$17,A286), COUNTIF('Reference Data'!$H$1:$H$100,D286)),0,E286*0.035),2)","v":0}]
[{"$nulls":7},{"$f":"ROUND(IF(OR(COUNTIF('Reference Data'!$G$1:$G$17,A287), COUNTIF('Reference Data'!$H$1:$H$100,D287)),0,E287*0.035),2)","v":0}]
[{"$nulls":7},{"$f":"ROUND(IF(OR(COUNTIF('Reference Data'!$G$1:$G$17,A288), COUNTIF('Reference Data'!$H$1:$H$100,D288)),0,E288*0.035),2)","v":0}]
[{"$nulls":7},{"$f":"ROUND(IF(OR(COUNTIF('Reference Data'!$G$1:$G$17,A289), COUNTIF('Reference Data'!$H$1:$H$100,D289)),0,E289*0.035),2)","v":0}]
[{"$nulls":7},{"$f":"ROUND(IF(OR(COUNTIF('Reference Data'!$G$1:$G$17,A290), COUNTIF('Reference Data'!$H$1:$H$100,D290)),0,E290*0.035),2)","v":0}]
[{"$nulls":7},{"$f":"ROUND(IF(OR(COUNTIF('Reference Data'!$G$1:$G$17,A291), COUNTIF('Reference Data'!$H$1:$H$100,D291)),0,E291*0.035),2)","v":0}]
[{"$nulls":7},{"$f":"ROUND(IF(OR(COUNTIF('Reference Data'!$G$1:$G$17,A292), COUNTIF('Reference Data'!$H$1:$H$100,D292)),0,E292*0.035),2)","v":0}]
[{"$nulls":7},{"$f":"ROUND(IF(OR(COUNTIF('Reference Data'!$G$1:$G$17,A293), COUNTIF('Reference Data'!$H$1:$H$100,D293)),0,E293*0.035),2)","v":0}]
[{"$nulls":7},{"$f":"ROUND(IF(OR(COUNTIF('Reference Data'!$G$1:$G$17,A294), COUNTIF('Reference Data'!$H$1:$H$100,D294)),0,E294*0.035),2)","v":0}]
[{"$nulls":7},{"$f":"ROUND(IF(OR(COUNTIF('Reference Data'!$G$1:$G$17,A295), COUNTIF('Reference Data'!$H$1:$H$100,D295)),0,E295*0.035),2)","v":0}]
[{"$nulls":7},{"$f":"ROUND(IF(OR(COUNTIF('Reference Data'!$G$1:$G$17,A296), COUNTIF('Reference Data'!$H$1:$H$100,D296)),0,E296*0.035),2)","v":0}]
[{"$nulls":7},{"$f":"ROUND(IF(OR(COUNTIF('Reference Data'!$G$1:$G$17,A297), COUNTIF('Reference Data'!$H$1:$H$100,D297)),0,E297*0.035),2)","v":0}]
[{"$nulls":7},{"$f":"ROUND(IF(OR(COUNTIF('Reference Data'!$G$1:$G$17,A298), COUNTIF('Reference Data'!$H$1:$H$100,D298)),0,E298*0.035),2)","v":0}]
[{"$nulls":7},{"$f":"ROUND(IF(OR(COUNTIF('Reference Data'!$G$1:$G$17,A299), COUNTIF('Reference Data'!$H$1:$H$100,D299)),0,E299*0.035),2)","v":0}]
[{"$nulls":7},{"$f":"ROUND(IF(OR(COUNTIF('Reference Data'!$G$1:$G$17,A300), COUNTIF('Reference Data'!$H$1:$H$100,D300)),0,E300*0.035),2)","v":0}]
[{"$nulls":7},{"$f":"ROUND(IF(OR(COUNTIF('Reference Data'!$G$1:$G$17,A301), COUNTIF('Reference Data'!$H$1:$H$100,D301)),0,E301*0.035),2)","v":0}]

{"sheet":"April Restatement","index":3,"n_rows":301,"n_cols":16,"rows_kept":301}
[{"$nulls":5},"Enrollment and Payment Data Template"]
["Submission Date:",null,"Change in Enrollment from Prior March Submission? (Y/N)","Yes (populate this sheet with updated enrollment data)","Enrollment Month:","2014-04-01","Submission Status","Initial Submission"]
["State","9 Digit Issuer TIN","5 Digit HIOS Issuer ID","16 Digit QHP ID","Total Premium amount by QHP ID for effectuated enrollments","Total APTC amount by QHP ID for effectuated enrollments","Total CSR amount by QHP ID for effectuated enrollments","Total User Fee amount by QHP ID","Total # of effectuated enrollment groups by QHP ID","Total # of effectuated enrollment groups receiving APTC by QHP ID","Total # of effectuated enrollment groups receiving CSR by QHP ID","Total # of effectuated members by QHP ID","Total # of effectuated members receiving APTC by QHP ID","Total # of effectuated members receiving CSR by QHP ID",null,"Reasons for Validation Failures"]
[{"$nulls":7},{"$f":"ROUND(IF(OR(COUNTIF('Reference Data'!$G$1:$G$17,A4), COUNTIF('Reference Data'!$H$1:$H$100,D4)),0,E4*0.035),2)","v":0}]
[{"$nulls":7},{"$f":"ROUND(IF(OR(COUNTIF('Reference Data'!$G$1:$G$17,A5), COUNTIF('Reference Data'!$H$1:$H$100,D5)),0,E5*0.035),2)","v":0}]
[{"$nulls":7},{"$f":"ROUND(IF(OR(COUNTIF('Reference Data'!$G$1:$G$17,A6), COUNTIF('Reference Data'!$H$1:$H$100,D6)),0,E6*0.035),2)","v":0}]
[{"$nulls":7},{"$f":"ROUND(IF(OR(COUNTIF('Reference Data'!$G$1:$G$17,A7), COUNTIF('Reference Data'!$H$1:$H$100,D7)),0,E7*0.035),2)","v":0}]
[{"$nulls":7},{"$f":"ROUND(IF(OR(COUNTIF('Reference Data'!$G$1:$G$17,A8), COUNTIF('Reference Data'!$H$1:$H$100,D8)),0,E8*0.035),2)","v":0}]
[{"$nulls":7},{"$f":"ROUND(IF(OR(COUNTIF('Reference Data'!$G$1:$G$17,A9), COUNTIF('Reference Data'!$H$1:$H$100,D9)),0,E9*0.035),2)","v":0}]
[{"$nulls":7},{"$f":"ROUND(IF(OR(COUNTIF('Reference Data'!$G$1:$G$17,A10), COUNTIF('Reference Data'!$H$1:$H$100,D10)),0,E10*0.035),2)","v":0}]
[{"$nulls":7},{"$f":"ROUND(IF(OR(COUNTIF('Reference Data'!$G$1:$G$17,A11), COUNTIF('Reference Data'!$H$1:$H$100,D11)),0,E11*0.035),2)","v":0}]
[{"$nulls":7},{"$f":"ROUND(IF(OR(COUNTIF('Reference Data'!$G$1:$G$17,A12), COUNTIF('Reference Data'!$H$1:$H$100,D12)),0,E12*0.035),2)","v":0}]
[{"$nulls":7},{"$f":"ROUND(IF(OR(COUNTIF('Reference Data'!$G$1:$G$17,A13), COUNTIF('Reference Data'!$H$1:$H$100,D13)),0,E13*0.035),2)","v":0}]
[{"$nulls":7},{"$f":"ROUND(IF(OR(COUNTIF('Reference Data'!$G$1:$G$17,A14), COUNTIF('Reference Data'!$H$1:$H$100,D14)),0,E14*0.035),2)","v":0}]
[{"$nulls":7},{"$f":"ROUND(IF(OR(COUNTIF('Reference Data'!$G$1:$G$17,A15), COUNTIF('Reference Data'!$H$1:$H$100,D15)),0,E15*0.035),2)","v":0}]
[{"$nulls":7},{"$f":"ROUND(IF(OR(COUNTIF('Reference Data'!$G$1:$G$17,A16), COUNTIF('Reference Data'!$H$1:$H$100,D16)),0,E16*0.035),2)","v":0}]
[{"$nulls":7},{"$f":"ROUND(IF(OR(COUNTIF('Reference Data'!$G$1:$G$17,A17), COUNTIF('Reference Data'!$H$1:$H$100,D17)),0,E17*0.035),2)","v":0}]
[{"$nulls":7},{"$f":"ROUND(IF(OR(COUNTIF('Reference Data'!$G$1:$G$17,A18), COUNTIF('Reference Data'!$H$1:$H$100,D18)),0,E18*0.035),2)","v":0}]
[{"$nulls":7},{"$f":"ROUND(IF(OR(COUNTIF('Reference Data'!$G$1:$G$17,A19), COUNTIF('Reference Data'!$H$1:$H$100,D19)),0,E19*0.035),2)","v":0}]
[{"$nulls":7},{"$f":"ROUND(IF(OR(COUNTIF('Reference Data'!$G$1:$G$17,A20), COUNTIF('Reference Data'!$H$1:$H$100,D20)),0,E20*0.035),2)","v":0}]
[{"$nulls":7},{"$f":"ROUND(IF(OR(COUNTIF('Reference Data'!$G$1:$G$17,A21), COUNTIF('Reference Data'!$H$1:$H$100,D21)),0,E21*0.035),2)","v":0}]
[{"$nulls":7},{"$f":"ROUND(IF(OR(COUNTIF('Reference Data'!$G$1:$G$17,A22), COUNTIF('Reference Data'!$H$1:$H$100,D22)),0,E22*0.035),2)","v":0}]
[{"$nulls":7},{"$f":"ROUND(IF(OR(COUNTIF('Reference Data'!$G$1:$G$17,A23), COUNTIF('Reference Data'!$H$1:$H$100,D23)),0,E23*0.035),2)","v":0}]
[{"$nulls":7},{"$f":"ROUND(IF(OR(COUNTIF('Reference Data'!$G$1:$G$17,A24), COUNTIF('Reference Data'!$H$1:$H$100,D24)),0,E24*0.035),2)","v":0}]
[{"$nulls":7},{"$f":"ROUND(IF(OR(COUNTIF('Reference Data'!$G$1:$G$17,A25), COUNTIF('Reference Data'!$H$1:$H$100,D25)),0,E25*0.035),2)","v":0}]
[{"$nulls":7},{"$f":"ROUND(IF(OR(COUNTIF('Reference Data'!$G$1:$G$17,A26), COUNTIF('Reference Data'!$H$1:$H$100,D26)),0,E26*0.035),2)","v":0}]
[{"$nulls":7},{"$f":"ROUND(IF(OR(COUNTIF('Reference Data'!$G$1:$G$17,A27), COUNTIF('Reference Data'!$H$1:$H$100,D27)),0,E27*0.035),2)","v":0}]
[{"$nulls":7},{"$f":"ROUND(IF(OR(COUNTIF('Reference Data'!$G$1:$G$17,A28), COUNTIF('Reference Data'!$H$1:$H$100,D28)),0,E28*0.035),2)","v":0}]
[{"$nulls":7},{"$f":"ROUND(IF(OR(COUNTIF('Reference Data'!$G$1:$G$17,A29), COUNTIF('Reference Data'!$H$1:$H$100,D29)),0,E29*0.035),2)","v":0}]
[{"$nulls":7},{"$f":"ROUND(IF(OR(COUNTIF('Reference Data'!$G$1:$G$17,A30), COUNTIF('Reference Data'!$H$1:$H$100,D30)),0,E30*0.035),2)","v":0}]
[{"$nulls":7},{"$f":"ROUND(IF(OR(COUNTIF('Reference Data'!$G$1:$G$17,A31), COUNTIF('Reference Data'!$H$1:$H$100,D31)),0,E31*0.035),2)","v":0}]
[{"$nulls":7},{"$f":"ROUND(IF(OR(COUNTIF('Reference Data'!$G$1:$G$17,A32), COUNTIF('Reference Data'!$H$1:$H$100,D32)),0,E32*0.035),2)","v":0}]
[{"$nulls":7},{"$f":"ROUND(IF(OR(COUNTIF('Reference Data'!$G$1:$G$17,A33), COUNTIF('Reference Data'!$H$1:$H$100,D33)),0,E33*0.035),2)","v":0}]
[{"$nulls":7},{"$f":"ROUND(IF(OR(COUNTIF('Reference Data'!$G$1:$G$17,A34), COUNTIF('Reference Data'!$H$1:$H$100,D34)),0,E34*0.035),2)","v":0}]
[{"$nulls":7},{"$f":"ROUND(IF(OR(COUNTIF('Reference Data'!$G$1:$G$17,A35), COUNTIF('Reference Data'!$H$1:$H$100,D35)),0,E35*0.035),2)","v":0}]
[{"$nulls":7},{"$f":"ROUND(IF(OR(COUNTIF('Reference Data'!$G$1:$G$17,A36), COUNTIF('Reference Data'!$H$1:$H$100,D36)),0,E36*0.035),2)","v":0}]
[{"$nulls":7},{"$f":"ROUND(IF(OR(COUNTIF('Reference Data'!$G$1:$G$17,A37), COUNTIF('Reference Data'!$H$1:$H$100,D37)),0,E37*0.035),2)","v":0}]
[{"$nulls":7},{"$f":"ROUND(IF(OR(COUNTIF('Reference Data'!$G$1:$G$17,A38), COUNTIF('Reference Data'!$H$1:$H$100,D38)),0,E38*0.035),2)","v":0}]
[{"$nulls":7},{"$f":"ROUND(IF(OR(COUNTIF('Reference Data'!$G$1:$G$17,A39), COUNTIF('Reference Data'!$H$1:$H$100,D39)),0,E39*0.035),2)","v":0}]
[{"$nulls":7},{"$f":"ROUND(IF(OR(COUNTIF('Reference Data'!$G$1:$G$17,A40), COUNTIF('Reference Data'!$H$1:$H$100,D40)),0,E40*0.035),2)","v":0}]
[{"$nulls":7},{"$f":"ROUND(IF(OR(COUNTIF('Reference Data'!$G$1:$G$17,A41), COUNTIF('Reference Data'!$H$1:$H$100,D41)),0,E41*0.035),2)","v":0}]
[{"$nulls":7},{"$f":"ROUND(IF(OR(COUNTIF('Reference Data'!$G$1:$G$17,A42), COUNTIF('Reference Data'!$H$1:$H$100,D42)),0,E42*0.035),2)","v":0}]
[{"$nulls":7},{"$f":"ROUND(IF(OR(COUNTIF('Reference Data'!$G$1:$G$17,A43), COUNTIF('Reference Data'!$H$1:$H$100,D43)),0,E43*0.035),2)","v":0}]
[{"$nulls":7},{"$f":"ROUND(IF(OR(COUNTIF('Reference Data'!$G$1:$G$17,A44), COUNTIF('Reference Data'!$H$1:$H$100,D44)),0,E44*0.035),2)","v":0}]
[{"$nulls":7},{"$f":"ROUND(IF(OR(COUNTIF('Reference Data'!$G$1:$G$17,A45), COUNTIF('Reference Data'!$H$1:$H$100,D45)),0,E45*0.035),2)","v":0}]
[{"$nulls":7},{"$f":"ROUND(IF(OR(COUNTIF('Reference Data'!$G$1:$G$17,A46), COUNTIF('Reference Data'!$H$1:$H$100,D46)),0,E46*0.035),2)","v":0}]
[{"$nulls":7},{"$f":"ROUND(IF(OR(COUNTIF('Reference Data'!$G$1:$G$17,A47), COUNTIF('Reference Data'!$H$1:$H$100,D47)),0,E47*0.035),2)","v":0}]
[{"$nulls":7},{"$f":"ROUND(IF(OR(COUNTIF('Reference Data'!$G$1:$G$17,A48), COUNTIF('Reference Data'!$H$1:$H$100,D48)),0,E48*0.035),2)","v":0}]
[{"$nulls":7},{"$f":"ROUND(IF(OR(COUNTIF('Reference Data'!$G$1:$G$17,A49), COUNTIF('Reference Data'!$H$1:$H$100,D49)),0,E49*0.035),2)","v":0}]
[{"$nulls":7},{"$f":"ROUND(IF(OR(COUNTIF('Reference Data'!$G$1:$G$17,A50), COUNTIF('Reference Data'!$H$1:$H$100,D50)),0,E50*0.035),2)","v":0}]
[{"$nulls":7},{"$f":"ROUND(IF(OR(COUNTIF('Reference Data'!$G$1:$G$17,A51), COUNTIF('Reference Data'!$H$1:$H$100,D51)),0,E51*0.035),2)","v":0}]
[{"$nulls":7},{"$f":"ROUND(IF(OR(COUNTIF('Reference Data'!$G$1:$G$17,A52), COUNTIF('Reference Data'!$H$1:$H$100,D52)),0,E52*0.035),2)","v":0}]
[{"$nulls":7},{"$f":"ROUND(IF(OR(COUNTIF('Reference Data'!$G$1:$G$17,A53), COUNTIF('Reference Data'!$H$1:$H$100,D53)),0,E53*0.035),2)","v":0}]
[{"$nulls":7},{"$f":"ROUND(IF(OR(COUNTIF('Reference Data'!$G$1:$G$17,A54), COUNTIF('Reference Data'!$H$1:$H$100,D54)),0,E54*0.035),2)","v":0}]
[{"$nulls":7},{"$f":"ROUND(IF(OR(COUNTIF('Reference Data'!$G$1:$G$17,A55), COUNTIF('Reference Data'!$H$1:$H$100,D55)),0,E55*0.035),2)","v":0}]
[{"$nulls":7},{"$f":"ROUND(IF(OR(COUNTIF('Reference Data'!$G$1:$G$17,A56), COUNTIF('Reference Data'!$H$1:$H$100,D56)),0,E56*0.035),2)","v":0}]
[{"$nulls":7},{"$f":"ROUND(IF(OR(COUNTIF('Reference Data'!$G$1:$G$17,A57), COUNTIF('Reference Data'!$H$1:$H$100,D57)),0,E57*0.035),2)","v":0}]
[{"$nulls":7},{"$f":"ROUND(IF(OR(COUNTIF('Reference Data'!$G$1:$G$17,A58), COUNTIF('Reference Data'!$H$1:$H$100,D58)),0,E58*0.035),2)","v":0}]
[{"$nulls":7},{"$f":"ROUND(IF(OR(COUNTIF('Reference Data'!$G$1:$G$17,A59), COUNTIF('Reference Data'!$H$1:$H$100,D59)),0,E59*0.035),2)","v":0}]
[{"$nulls":7},{"$f":"ROUND(IF(OR(COUNTIF('Reference Data'!$G$1:$G$17,A60), COUNTIF('Reference Data'!$H$1:$H$100,D60)),0,E60*0.035),2)","v":0}]
[{"$nulls":7},{"$f":"ROUND(IF(OR(COUNTIF('Reference Data'!$G$1:$G$17,A61), COUNTIF('Reference Data'!$H$1:$H$100,D61)),0,E61*0.035),2)","v":0}]
[{"$nulls":7},{"$f":"ROUND(IF(OR(COUNTIF('Reference Data'!$G$1:$G$17,A62), COUNTIF('Reference Data'!$H$1:$H$100,D62)),0,E62*0.035),2)","v":0}]
[{"$nulls":7},{"$f":"ROUND(IF(OR(COUNTIF('Reference Data'!$G$1:$G$17,A63), COUNTIF('Reference Data'!$H$1:$H$100,D63)),0,E63*0.035),2)","v":0}]
[{"$nulls":7},{"$f":"ROUND(IF(OR(COUNTIF('Reference Data'!$G$1:$G$17,A64), COUNTIF('Reference Data'!$H$1:$H$100,D64)),0,E64*0.035),2)","v":0}]
[{"$nulls":7},{"$f":"ROUND(IF(OR(COUNTIF('Reference Data'!$G$1:$G$17,A65), COUNTIF('Reference Data'!$H$1:$H$100,D65)),0,E65*0.035),2)","v":0}]
[{"$nulls":7},{"$f":"ROUND(IF(OR(COUNTIF('Reference Data'!$G$1:$G$17,A66), COUNTIF('Reference Data'!$H$1:$H$100,D66)),0,E66*0.035),2)","v":0}]
[{"$nulls":7},{"$f":"ROUND(IF(OR(COUNTIF('Reference Data'!$G$1:$G$17,A67), COUNTIF('Reference Data'!$H$1:$H$100,D67)),0,E67*0.035),2)","v":0}]
[{"$nulls":7},{"$f":"ROUND(IF(OR(COUNTIF('Reference Data'!$G$1:$G$17,A68), COUNTIF('Reference Data'!$H$1:$H$100,D68)),0,E68*0.035),2)","v":0}]
[{"$nulls":7},{"$f":"ROUND(IF(OR(COUNTIF('Reference Data'!$G$1:$G$17,A69), COUNTIF('Reference Data'!$H$1:$H$100,D69)),0,E69*0.035),2)","v":0}]
[{"$nulls":7},{"$f":"ROUND(IF(OR(COUNTIF('Reference Data'!$G$1:$G$17,A70), COUNTIF('Reference Data'!$H$1:$H$100,D70)),0,E70*0.035),2)","v":0}]
[{"$nulls":7},{"$f":"ROUND(IF(OR(COUNTIF('Reference Data'!$G$1:$G$17,A71), COUNTIF('Reference Data'!$H$1:$H$100,D71)),0,E71*0.035),2)","v":0}]
[{"$nulls":7},{"$f":"ROUND(IF(OR(COUNTIF('Reference Data'!$G$1:$G$17,A72), COUNTIF('Reference Data'!$H$1:$H$100,D72)),0,E72*0.035),2)","v":0}]
[{"$nulls":7},{"$f":"ROUND(IF(OR(COUNTIF('Reference Data'!$G$1:$G$17,A73), COUNTIF('Reference Data'!$H$1:$H$100,D73)),0,E73*0.035),2)","v":0}]
[{"$nulls":7},{"$f":"ROUND(IF(OR(COUNTIF('Reference Data'!$G$1:$G$17,A74), COUNTIF('Reference Data'!$H$1:$H$100,D74)),0,E74*0.035),2)","v":0}]
[{"$nulls":7},{"$f":"ROUND(IF(OR(COUNTIF('Reference Data'!$G$1:$G$17,A75), COUNTIF('Reference Data'!$H$1:$H$100,D75)),0,E75*0.035),2)","v":0}]
[{"$nulls":7},{"$f":"ROUND(IF(OR(COUNTIF('Reference Data'!$G$1:$G$17,A76), COUNTIF('Reference Data'!$H$1:$H$100,D76)),0,E76*0.035),2)","v":0}]
[{"$nulls":7},{"$f":"ROUND(IF(OR(COUNTIF('Reference Data'!$G$1:$G$17,A77), COUNTIF('Reference Data'!$H$1:$H$100,D77)),0,E77*0.035),2)","v":0}]
[{"$nulls":7},{"$f":"ROUND(IF(OR(COUNTIF('Reference Data'!$G$1:$G$17,A78), COUNTIF('Reference Data'!$H$1:$H$100,D78)),0,E78*0.035),2)","v":0}]
[{"$nulls":7},{"$f":"ROUND(IF(OR(COUNTIF('Reference Data'!$G$1:$G$17,A79), COUNTIF('Reference Data'!$H$1:$H$100,D79)),0,E79*0.035),2)","v":0}]
[{"$nulls":7},{"$f":"ROUND(IF(OR(COUNTIF('Reference Data'!$G$1:$G$17,A80), COUNTIF('Reference Data'!$H$1:$H$100,D80)),0,E80*0.035),2)","v":0}]
[{"$nulls":7},{"$f":"ROUND(IF(OR(COUNTIF('Reference Data'!$G$1:$G$17,A81), COUNTIF('Reference Data'!$H$1:$H$100,D81)),0,E81*0.035),2)","v":0}]
[{"$nulls":7},{"$f":"ROUND(IF(OR(COUNTIF('Reference Data'!$G$1:$G$17,A82), COUNTIF('Reference Data'!$H$1:$H$100,D82)),0,E82*0.035),2)","v":0}]
[{"$nulls":7},{"$f":"ROUND(IF(OR(COUNTIF('Reference Data'!$G$1:$G$17,A83), COUNTIF('Reference Data'!$H$1:$H$100,D83)),0,E83*0.035),2)","v":0}]
[{"$nulls":7},{"$f":"ROUND(IF(OR(COUNTIF('Reference Data'!$G$1:$G$17,A84), COUNTIF('Reference Data'!$H$1:$H$100,D84)),0,E84*0.035),2)","v":0}]
[{"$nulls":7},{"$f":"ROUND(IF(OR(COUNTIF('Reference Data'!$G$1:$G$17,A85), COUNTIF('Reference Data'!$H$1:$H$100,D85)),0,E85*0.035),2)","v":0}]
[{"$nulls":7},{"$f":"ROUND(IF(OR(COUNTIF('Reference Data'!$G$1:$G$17,A86), COUNTIF('Reference Data'!$H$1:$H$100,D86)),0,E86*0.035),2)","v":0}]
[{"$nulls":7},{"$f":"ROUND(IF(OR(COUNTIF('Reference Data'!$G$1:$G$17,A87), COUNTIF('Reference Data'!$H$1:$H$100,D87)),0,E87*0.035),2)","v":0}]
[{"$nulls":7},{"$f":"ROUND(IF(OR(COUNTIF('Reference Data'!$G$1:$G$17,A88), COUNTIF('Reference Data'!$H$1:$H$100,D88)),0,E88*0.035),2)","v":0}]
[{"$nulls":7},{"$f":"ROUND(IF(OR(COUNTIF('Reference Data'!$G$1:$G$17,A89), COUNTIF('Reference Data'!$H$1:$H$100,D89)),0,E89*0.035),2)","v":0}]
[{"$nulls":7},{"$f":"ROUND(IF(OR(COUNTIF('Reference Data'!$G$1:$G$17,A90), COUNTIF('Reference Data'!$H$1:$H$100,D90)),0,E90*0.035),2)","v":0}]
[{"$nulls":7},{"$f":"ROUND(IF(OR(COUNTIF('Reference Data'!$G$1:$G$17,A91), COUNTIF('Reference Data'!$H$1:$H$100,D91)),0,E91*0.035),2)","v":0}]
[{"$nulls":7},{"$f":"ROUND(IF(OR(COUNTIF('Reference Data'!$G$1:$G$17,A92), COUNTIF('Reference Data'!$H$1:$H$100,D92)),0,E92*0.035),2)","v":0}]
[{"$nulls":7},{"$f":"ROUND(IF(OR(COUNTIF('Reference Data'!$G$1:$G$17,A93), COUNTIF('Reference Data'!$H$1:$H$100,D93)),0,E93*0.035),2)","v":0}]
[{"$nulls":7},{"$f":"ROUND(IF(OR(COUNTIF('Reference Data'!$G$1:$G$17,A94), COUNTIF('Reference Data'!$H$1:$H$100,D94)),0,E94*0.035),2)","v":0}]
[{"$nulls":7},{"$f":"ROUND(IF(OR(COUNTIF('Reference Data'!$G$1:$G$17,A95), COUNTIF('Reference Data'!$H$1:$H$100,D95)),0,E95*0.035),2)","v":0}]
[{"$nulls":7},{"$f":"ROUND(IF(OR(COUNTIF('Reference Data'!$G$1:$G$17,A96), COUNTIF('Reference Data'!$H$1:$H$100,D96)),0,E96*0.035),2)","v":0}]
[{"$nulls":7},{"$f":"ROUND(IF(OR(COUNTIF('Reference Data'!$G$1:$G$17,A97), COUNTIF('Reference Data'!$H$1:$H$100,D97)),0,E97*0.035),2)","v":0}]
[{"$nulls":7},{"$f":"ROUND(IF(OR(COUNTIF('Reference Data'!$G$1:$G$17,A98), COUNTIF('Reference Data'!$H$1:$H$100,D98)),0,E98*0.035),2)","v":0}]
[{"$nulls":7},{"$f":"ROUND(IF(OR(COUNTIF('Reference Data'!$G$1:$G$17,A99), COUNTIF('Reference Data'!$H$1:$H$100,D99)),0,E99*0.035),2)","v":0}]
[{"$nulls":7},{"$f":"ROUND(IF(OR(COUNTIF('Reference Data'!$G$1:$G$17,A100), COUNTIF('Reference Data'!$H$1:$H$100,D100)),0,E100*0.035),2)","v":0}]
[{"$nulls":7},{"$f":"ROUND(IF(OR(COUNTIF('Reference Data'!$G$1:$G$17,A101), COUNTIF('Reference Data'!$H$1:$H$100,D101)),0,E101*0.035),2)","v":0}]
[{"$nulls":7},{"$f":"ROUND(IF(OR(COUNTIF('Reference Data'!$G$1:$G$17,A102), COUNTIF('Reference Data'!$H$1:$H$100,D102)),0,E102*0.035),2)","v":0}]
[{"$nulls":7},{"$f":"ROUND(IF(OR(COUNTIF('Reference Data'!$G$1:$G$17,A103), COUNTIF('Reference Data'!$H$1:$H$100,D103)),0,E103*0.035),2)","v":0}]
[{"$nulls":7},{"$f":"ROUND(IF(OR(COUNTIF('Reference Data'!$G$1:$G$17,A104), COUNTIF('Reference Data'!$H$1:$H$100,D104)),0,E104*0.035),2)","v":0}]
[{"$nulls":7},{"$f":"ROUND(IF(OR(COUNTIF('Reference Data'!$G$1:$G$17,A105), COUNTIF('Reference Data'!$H$1:$H$100,D105)),0,E105*0.035),2)","v":0}]
[{"$nulls":7},{"$f":"ROUND(IF(OR(COUNTIF('Reference Data'!$G$1:$G$17,A106), COUNTIF('Reference Data'!$H$1:$H$100,D106)),0,E106*0.035),2)","v":0}]
[{"$nulls":7},{"$f":"ROUND(IF(OR(COUNTIF('Reference Data'!$G$1:$G$17,A107), COUNTIF('Reference Data'!$H$1:$H$100,D107)),0,E107*0.035),2)","v":0}]
[{"$nulls":7},{"$f":"ROUND(IF(OR(COUNTIF('Reference Data'!$G$1:$G$17,A108), COUNTIF('Reference Data'!$H$1:$H$100,D108)),0,E108*0.035),2)","v":0}]
[{"$nulls":7},{"$f":"ROUND(IF(OR(COUNTIF('Reference Data'!$G$1:$G$17,A109), COUNTIF('Reference Data'!$H$1:$H$100,D109)),0,E109*0.035),2)","v":0}]
[{"$nulls":7},{"$f":"ROUND(IF(OR(COUNTIF('Reference Data'!$G$1:$G$17,A110), COUNTIF('Reference Data'!$H$1:$H$100,D110)),0,E110*0.035),2)","v":0}]
[{"$nulls":7},{"$f":"ROUND(IF(OR(COUNTIF('Reference Data'!$G$1:$G$17,A111), COUNTIF('Reference Data'!$H$1:$H$100,D111)),0,E111*0.035),2)","v":0}]
[{"$nulls":7},{"$f":"ROUND(IF(OR(COUNTIF('Reference Data'!$G$1:$G$17,A112), COUNTIF('Reference Data'!$H$1:$H$100,D112)),0,E112*0.035),2)","v":0}]
[{"$nulls":7},{"$f":"ROUND(IF(OR(COUNTIF('Reference Data'!$G$1:$G$17,A113), COUNTIF('Reference Data'!$H$1:$H$100,D113)),0,E113*0.035),2)","v":0}]
[{"$nulls":7},{"$f":"ROUND(IF(OR(COUNTIF('Reference Data'!$G$1:$G$17,A114), COUNTIF('Reference Data'!$H$1:$H$100,D114)),0,E114*0.035),2)","v":0}]
[{"$nulls":7},{"$f":"ROUND(IF(OR(COUNTIF('Reference Data'!$G$1:$G$17,A115), COUNTIF('Reference Data'!$H$1:$H$100,D115)),0,E115*0.035),2)","v":0}]
[{"$nulls":7},{"$f":"ROUND(IF(OR(COUNTIF('Reference Data'!$G$1:$G$17,A116), COUNTIF('Reference Data'!$H$1:$H$100,D116)),0,E116*0.035),2)","v":0}]
[{"$nulls":7},{"$f":"ROUND(IF(OR(COUNTIF('Reference Data'!$G$1:$G$17,A117), COUNTIF('Reference Data'!$H$1:$H$100,D117)),0,E117*0.035),2)","v":0}]
[{"$nulls":7},{"$f":"ROUND(IF(OR(COUNTIF('Reference Data'!$G$1:$G$17,A118), COUNTIF('Reference Data'!$H$1:$H$100,D118)),0,E118*0.035),2)","v":0}]
[{"$nulls":7},{"$f":"ROUND(IF(OR(COUNTIF('Reference Data'!$G$1:$G$17,A119), COUNTIF('Reference Data'!$H$1:$H$100,D119)),0,E119*0.035),2)","v":0}]
[{"$nulls":7},{"$f":"ROUND(IF(OR(COUNTIF('Reference Data'!$G$1:$G$17,A120), COUNTIF('Reference Data'!$H$1:$H$100,D120)),0,E120*0.035),2)","v":0}]
[{"$nulls":7},{"$f":"ROUND(IF(OR(COUNTIF('Reference Data'!$G$1:$G$17,A121), COUNTIF('Reference Data'!$H$1:$H$100,D121)),0,E121*0.035),2)","v":0}]
[{"$nulls":7},{"$f":"ROUND(IF(OR(COUNTIF('Reference Data'!$G$1:$G$17,A122), COUNTIF('Reference Data'!$H$1:$H$100,D122)),0,E122*0.035),2)","v":0}]
[{"$nulls":7},{"$f":"ROUND(IF(OR(COUNTIF('Reference Data'!$G$1:$G$17,A123), COUNTIF('Reference Data'!$H$1:$H$100,D123)),0,E123*0.035),2)","v":0}]
[{"$nulls":7},{"$f":"ROUND(IF(OR(COUNTIF('Reference Data'!$G$1:$G$17,A124), COUNTIF('Reference Data'!$H$1:$H$100,D124)),0,E124*0.035),2)","v":0}]
[{"$nulls":7},{"$f":"ROUND(IF(OR(COUNTIF('Reference Data'!$G$1:$G$17,A125), COUNTIF('Reference Data'!$H$1:$H$100,D125)),0,E125*0.035),2)","v":0}]
[{"$nulls":7},{"$f":"ROUND(IF(OR(COUNTIF('Reference Data'!$G$1:$G$17,A126), COUNTIF('Reference Data'!$H$1:$H$100,D126)),0,E126*0.035),2)","v":0}]
[{"$nulls":7},{"$f":"ROUND(IF(OR(COUNTIF('Reference Data'!$G$1:$G$17,A127), COUNTIF('Reference Data'!$H$1:$H$100,D127)),0,E127*0.035),2)","v":0}]
[{"$nulls":7},{"$f":"ROUND(IF(OR(COUNTIF('Reference Data'!$G$1:$G$17,A128), COUNTIF('Reference Data'!$H$1:$H$100,D128)),0,E128*0.035),2)","v":0}]
[{"$nulls":7},{"$f":"ROUND(IF(OR(COUNTIF('Reference Data'!$G$1:$G$17,A129), COUNTIF('Reference Data'!$H$1:$H$100,D129)),0,E129*0.035),2)","v":0}]
[{"$nulls":7},{"$f":"ROUND(IF(OR(COUNTIF('Reference Data'!$G$1:$G$17,A130), COUNTIF('Reference Data'!$H$1:$H$100,D130)),0,E130*0.035),2)","v":0}]
[{"$nulls":7},{"$f":"ROUND(IF(OR(COUNTIF('Reference Data'!$G$1:$G$17,A131), COUNTIF('Reference Data'!$H$1:$H$100,D131)),0,E131*0.035),2)","v":0}]
[{"$nulls":7},{"$f":"ROUND(IF(OR(COUNTIF('Reference Data'!$G$1:$G$17,A132), COUNTIF('Reference Data'!$H$1:$H$100,D132)),0,E132*0.035),2)","v":0}]
[{"$nulls":7},{"$f":"ROUND(IF(OR(COUNTIF('Reference Data'!$G$1:$G$17,A133), COUNTIF('Reference Data'!$H$1:$H$100,D133)),0,E133*0.035),2)","v":0}]
[{"$nulls":7},{"$f":"ROUND(IF(OR(COUNTIF('Reference Data'!$G$1:$G$17,A134), COUNTIF('Reference Data'!$H$1:$H$100,D134)),0,E134*0.035),2)","v":0}]
[{"$nulls":7},{"$f":"ROUND(IF(OR(COUNTIF('Reference Data'!$G$1:$G$17,A135), COUNTIF('Reference Data'!$H$1:$H$100,D135)),0,E135*0.035),2)","v":0}]
[{"$nulls":7},{"$f":"ROUND(IF(OR(COUNTIF('Reference Data'!$G$1:$G$17,A136), COUNTIF('Reference Data'!$H$1:$H$100,D136)),0,E136*0.035),2)","v":0}]
[{"$nulls":7},{"$f":"ROUND(IF(OR(COUNTIF('Reference Data'!$G$1:$G$17,A137), COUNTIF('Reference Data'!$H$1:$H$100,D137)),0,E137*0.035),2)","v":0}]
[{"$nulls":7},{"$f":"ROUND(IF(OR(COUNTIF('Reference Data'!$G$1:$G$17,A138), COUNTIF('Reference Data'!$H$1:$H$100,D138)),0,E138*0.035),2)","v":0}]
[{"$nulls":7},{"$f":"ROUND(IF(OR(COUNTIF('Reference Data'!$G$1:$G$17,A139), COUNTIF('Reference Data'!$H$1:$H$100,D139)),0,E139*0.035),2)","v":0}]
[{"$nulls":7},{"$f":"ROUND(IF(OR(COUNTIF('Reference Data'!$G$1:$G$17,A140), COUNTIF('Reference Data'!$H$1:$H$100,D140)),0,E140*0.035),2)","v":0}]
[{"$nulls":7},{"$f":"ROUND(IF(OR(COUNTIF('Reference Data'!$G$1:$G$17,A141), COUNTIF('Reference Data'!$H$1:$H$100,D141)),0,E141*0.035),2)","v":0}]
[{"$nulls":7},{"$f":"ROUND(IF(OR(COUNTIF('Reference Data'!$G$1:$G$17,A142), COUNTIF('Reference Data'!$H$1:$H$100,D142)),0,E142*0.035),2)","v":0}]
[{"$nulls":7},{"$f":"ROUND(IF(OR(COUNTIF('Reference Data'!$G$1:$G$17,A143), COUNTIF('Reference Data'!$H$1:$H$100,D143)),0,E143*0.035),2)","v":0}]
[{"$nulls":7},{"$f":"ROUND(IF(OR(COUNTIF('Reference Data'!$G$1:$G$17,A144), COUNTIF('Reference Data'!$H$1:$H$100,D144)),0,E144*0.035),2)","v":0}]
[{"$nulls":7},{"$f":"ROUND(IF(OR(COUNTIF('Reference Data'!$G$1:$G$17,A145), COUNTIF('Reference Data'!$H$1:$H$100,D145)),0,E145*0.035),2)","v":0}]
[{"$nulls":7},{"$f":"ROUND(IF(OR(COUNTIF('Reference Data'!$G$1:$G$17,A146), COUNTIF('Reference Data'!$H$1:$H$100,D146)),0,E146*0.035),2)","v":0}]
[{"$nulls":7},{"$f":"ROUND(IF(OR(COUNTIF('Reference Data'!$G$1:$G$17,A147), COUNTIF('Reference Data'!$H$1:$H$100,D147)),0,E147*0.035),2)","v":0}]
[{"$nulls":7},{"$f":"ROUND(IF(OR(COUNTIF('Reference Data'!$G$1:$G$17,A148), COUNTIF('Reference Data'!$H$1:$H$100,D148)),0,E148*0.035),2)","v":0}]
[{"$nulls":7},{"$f":"ROUND(IF(OR(COUNTIF('Reference Data'!$G$1:$G$17,A149), COUNTIF('Reference Data'!$H$1:$H$100,D149)),0,E149*0.035),2)","v":0}]
[{"$nulls":7},{"$f":"ROUND(IF(OR(COUNTIF('Reference Data'!$G$1:$G$17,A150), COUNTIF('Reference Data'!$H$1:$H$100,D150)),0,E150*0.035),2)","v":0}]
[{"$nulls":7},{"$f":"ROUND(IF(OR(COUNTIF('Reference Data'!$G$1:$G$17,A151), COUNTIF('Reference Data'!$H$1:$H$100,D151)),0,E151*0.035),2)","v":0}]
[{"$nulls":7},{"$f":"ROUND(IF(OR(COUNTIF('Reference Data'!$G$1:$G$17,A152), COUNTIF('Reference Data'!$H$1:$H$100,D152)),0,E152*0.035),2)","v":0}]
[{"$nulls":7},{"$f":"ROUND(IF(OR(COUNTIF('Reference Data'!$G$1:$G$17,A153), COUNTIF('Reference Data'!$H$1:$H$100,D153)),0,E153*0.035),2)","v":0}]
[{"$nulls":7},{"$f":"ROUND(IF(OR(COUNTIF('Reference Data'!$G$1:$G$17,A154), COUNTIF('Reference Data'!$H$1:$H$100,D154)),0,E154*0.035),2)","v":0}]
[{"$nulls":7},{"$f":"ROUND(IF(OR(COUNTIF('Reference Data'!$G$1:$G$17,A155), COUNTIF('Reference Data'!$H$1:$H$100,D155)),0,E155*0.035),2)","v":0}]
[{"$nulls":7},{"$f":"ROUND(IF(OR(COUNTIF('Reference Data'!$G$1:$G$17,A156), COUNTIF('Reference Data'!$H$1:$H$100,D156)),0,E156*0.035),2)","v":0}]
[{"$nulls":7},{"$f":"ROUND(IF(OR(COUNTIF('Reference Data'!$G$1:$G$17,A157), COUNTIF('Reference Data'!$H$1:$H$100,D157)),0,E157*0.035),2)","v":0}]
[{"$nulls":7},{"$f":"ROUND(IF(OR(COUNTIF('Reference Data'!$G$1:$G$17,A158), COUNTIF('Reference Data'!$H$1:$H$100,D158)),0,E158*0.035),2)","v":0}]
[{"$nulls":7},{"$f":"ROUND(IF(OR(COUNTIF('Reference Data'!$G$1:$G$17,A159), COUNTIF('Reference Data'!$H$1:$H$100,D159)),0,E159*0.035),2)","v":0}]
[{"$nulls":7},{"$f":"ROUND(IF(OR(COUNTIF('Reference Data'!$G$1:$G$17,A160), COUNTIF('Reference Data'!$H$1:$H$100,D160)),0,E160*0.035),2)","v":0}]
[{"$nulls":7},{"$f":"ROUND(IF(OR(COUNTIF('Reference Data'!$G$1:$G$17,A161), COUNTIF('Reference Data'!$H$1:$H$100,D161)),0,E161*0.035),2)","v":0}]
[{"$nulls":7},{"$f":"ROUND(IF(OR(COUNTIF('Reference Data'!$G$1:$G$17,A162), COUNTIF('Reference Data'!$H$1:$H$100,D162)),0,E162*0.035),2)","v":0}]
[{"$nulls":7},{"$f":"ROUND(IF(OR(COUNTIF('Reference Data'!$G$1:$G$17,A163), COUNTIF('Reference Data'!$H$1:$H$100,D163)),0,E163*0.035),2)","v":0}]
[{"$nulls":7},{"$f":"ROUND(IF(OR(COUNTIF('Reference Data'!$G$1:$G$17,A164), COUNTIF('Reference Data'!$H$1:$H$100,D164)),0,E164*0.035),2)","v":0}]
[{"$nulls":7},{"$f":"ROUND(IF(OR(COUNTIF('Reference Data'!$G$1:$G$17,A165), COUNTIF('Reference Data'!$H$1:$H$100,D165)),0,E165*0.035),2)","v":0}]
[{"$nulls":7},{"$f":"ROUND(IF(OR(COUNTIF('Reference Data'!$G$1:$G$17,A166), COUNTIF('Reference Data'!$H$1:$H$100,D166)),0,E166*0.035),2)","v":0}]
[{"$nulls":7},{"$f":"ROUND(IF(OR(COUNTIF('Reference Data'!$G$1:$G$17,A167), COUNTIF('Reference Data'!$H$1:$H$100,D167)),0,E167*0.035),2)","v":0}]
[{"$nulls":7},{"$f":"ROUND(IF(OR(COUNTIF('Reference Data'!$G$1:$G$17,A168), COUNTIF('Reference Data'!$H$1:$H$100,D168)),0,E168*0.035),2)","v":0}]
[{"$nulls":7},{"$f":"ROUND(IF(OR(COUNTIF('Reference Data'!$G$1:$G$17,A169), COUNTIF('Reference Data'!$H$1:$H$100,D169)),0,E169*0.035),2)","v":0}]
[{"$nulls":7},{"$f":"ROUND(IF(OR(COUNTIF('Reference Data'!$G$1:$G$17,A170), COUNTIF('Reference Data'!$H$1:$H$100,D170)),0,E170*0.035),2)","v":0}]
[{"$nulls":7},{"$f":"ROUND(IF(OR(COUNTIF('Reference Data'!$G$1:$G$17,A171), COUNTIF('Reference Data'!$H$1:$H$100,D171)),0,E171*0.035),2)","v":0}]
[{"$nulls":7},{"$f":"ROUND(IF(OR(COUNTIF('Reference Data'!$G$1:$G$17,A172), COUNTIF('Reference Data'!$H$1:$H$100,D172)),0,E172*0.035),2)","v":0}]
[{"$nulls":7},{"$f":"ROUND(IF(OR(COUNTIF('Reference Data'!$G$1:$G$17,A173), COUNTIF('Reference Data'!$H$1:$H$100,D173)),0,E173*0.035),2)","v":0}]
[{"$nulls":7},{"$f":"ROUND(IF(OR(COUNTIF('Reference Data'!$G$1:$G$17,A174), COUNTIF('Reference Data'!$H$1:$H$100,D174)),0,E174*0.035),2)","v":0}]
[{"$nulls":7},{"$f":"ROUND(IF(OR(COUNTIF('Reference Data'!$G$1:$G$17,A175), COUNTIF('Reference Data'!$H$1:$H$100,D175)),0,E175*0.035),2)","v":0}]
[{"$nulls":7},{"$f":"ROUND(IF(OR(COUNTIF('Reference Data'!$G$1:$G$17,A176), COUNTIF('Reference Data'!$H$1:$H$100,D176)),0,E176*0.035),2)","v":0}]
[{"$nulls":7},{"$f":"ROUND(IF(OR(COUNTIF('Reference Data'!$G$1:$G$17,A177), COUNTIF('Reference Data'!$H$1:$H$100,D177)),0,E177*0.035),2)","v":0}]
[{"$nulls":7},{"$f":"ROUND(IF(OR(COUNTIF('Reference Data'!$G$1:$G$17,A178), COUNTIF('Reference Data'!$H$1:$H$100,D178)),0,E178*0.035),2)","v":0}]
[{"$nulls":7},{"$f":"ROUND(IF(OR(COUNTIF('Reference Data'!$G$1:$G$17,A179), COUNTIF('Reference Data'!$H$1:$H$100,D179)),0,E179*0.035),2)","v":0}]
[{"$nulls":7},{"$f":"ROUND(IF(OR(COUNTIF('Reference Data'!$G$1:$G$17,A180), COUNTIF('Reference Data'!$H$1:$H$100,D180)),0,E180*0.035),2)","v":0}]
[{"$nulls":7},{"$f":"ROUND(IF(OR(COUNTIF('Reference Data'!$G$1:$G$17,A181), COUNTIF('Reference Data'!$H$1:$H$100,D181)),0,E181*0.035),2)","v":0}]
[{"$nulls":7},{"$f":"ROUND(IF(OR(COUNTIF('Reference Data'!$G$1:$G$17,A182), COUNTIF('Reference Data'!$H$1:$H$100,D182)),0,E182*0.035),2)","v":0}]
[{"$nulls":7},{"$f":"ROUND(IF(OR(COUNTIF('Reference Data'!$G$1:$G$17,A183), COUNTIF('Reference Data'!$H$1:$H$100,D183)),0,E183*0.035),2)","v":0}]
[{"$nulls":7},{"$f":"ROUND(IF(OR(COUNTIF('Reference Data'!$G$1:$G$17,A184), COUNTIF('Reference Data'!$H$1:$H$100,D184)),0,E184*0.035),2)","v":0}]
[{"$nulls":7},{"$f":"ROUND(IF(OR(COUNTIF('Reference Data'!$G$1:$G$17,A185), COUNTIF('Reference Data'!$H$1:$H$100,D185)),0,E185*0.035),2)","v":0}]
[{"$nulls":7},{"$f":"ROUND(IF(OR(COUNTIF('Reference Data'!$G$1:$G$17,A186), COUNTIF('Reference Data'!$H$1:$H$100,D186)),0,E186*0.035),2)","v":0}]
[{"$nulls":7},{"$f":"ROUND(IF(OR(COUNTIF('Reference Data'!$G$1:$G$17,A187), COUNTIF('Reference Data'!$H$1:$H$100,D187)),0,E187*0.035),2)","v":0}]
[{"$nulls":7},{"$f":"ROUND(IF(OR(COUNTIF('Reference Data'!$G$1:$G$17,A188), COUNTIF('Reference Data'!$H$1:$H$100,D188)),0,E188*0.035),2)","v":0}]
[{"$nulls":7},{"$f":"ROUND(IF(OR(COUNTIF('Reference Data'!$G$1:$G$17,A189), COUNTIF('Reference Data'!$H$1:$H$100,D189)),0,E189*0.035),2)","v":0}]
[{"$nulls":7},{"$f":"ROUND(IF(OR(COUNTIF('Reference Data'!$G$1:$G$17,A190), COUNTIF('Reference Data'!$H$1:$H$100,D190)),0,E190*0.035),2)","v":0}]
[{"$nulls":7},{"$f":"ROUND(IF(OR(COUNTIF('Reference Data'!$G$1:$G$17,A191), COUNTIF('Reference Data'!$H$1:$H$100,D191)),0,E191*0.035),2)","v":0}]
[{"$nulls":7},{"$f":"ROUND(IF(OR(COUNTIF('Reference Data'!$G$1:$G$17,A192), COUNTIF('Reference Data'!$H$1:$H$100,D192)),0,E192*0.035),2)","v":0}]
[{"$nulls":7},{"$f":"ROUND(IF(OR(COUNTIF('Reference Data'!$G$1:$G$17,A193), COUNTIF('Reference Data'!$H$1:$H$100,D193)),0,E193*0.035),2)","v":0}]
[{"$nulls":7},{"$f":"ROUND(IF(OR(COUNTIF('Reference Data'!$G$1:$G$17,A194), COUNTIF('Reference Data'!$H$1:$H$100,D194)),0,E194*0.035),2)","v":0}]
[{"$nulls":7},{"$f":"ROUND(IF(OR(COUNTIF('Reference Data'!$G$1:$G$17,A195), COUNTIF('Reference Data'!$H$1:$H$100,D195)),0,E195*0.035),2)","v":0}]
[{"$nulls":7},{"$f":"ROUND(IF(OR(COUNTIF('Reference Data'!$G$1:$G$17,A196), COUNTIF('Reference Data'!$H$1:$H$100,D196)),0,E196*0.035),2)","v":0}]
[{"$nulls":7},{"$f":"ROUND(IF(OR(COUNTIF('Reference Data'!$G$1:$G$17,A197), COUNTIF('Reference Data'!$H$1:$H$100,D197)),0,E197*0.035),2)","v":0}]
[{"$nulls":7},{"$f":"ROUND(IF(OR(COUNTIF('Reference Data'!$G$1:$G$17,A198), COUNTIF('Reference Data'!$H$1:$H$100,D198)),0,E198*0.035),2)","v":0}]
[{"$nulls":7},{"$f":"ROUND(IF(OR(COUNTIF('Reference Data'!$G$1:$G$17,A199), COUNTIF('Reference Data'!$H$1:$H$100,D199)),0,E199*0.035),2)","v":0}]
[{"$nulls":7},{"$f":"ROUND(IF(OR(COUNTIF('Reference Data'!$G$1:$G$17,A200), COUNTIF('Reference Data'!$H$1:$H$100,D200)),0,E200*0.035),2)","v":0}]
[{"$nulls":7},{"$f":"ROUND(IF(OR(COUNTIF('Reference Data'!$G$1:$G$17,A201), COUNTIF('Reference Data'!$H$1:$H$100,D201)),0,E201*0.035),2)","v":0}]
[{"$nulls":7},{"$f":"ROUND(IF(OR(COUNTIF('Reference Data'!$G$1:$G$17,A202), COUNTIF('Reference Data'!$H$1:$H$100,D202)),0,E202*0.035),2)","v":0}]
[{"$nulls":7},{"$f":"ROUND(IF(OR(COUNTIF('Reference Data'!$G$1:$G$17,A203), COUNTIF('Reference Data'!$H$1:$H$100,D203)),0,E203*0.035),2)","v":0}]
[{"$nulls":7},{"$f":"ROUND(IF(OR(COUNTIF('Reference Data'!$G$1:$G$17,A204), COUNTIF('Reference Data'!$H$1:$H$100,D204)),0,E204*0.035),2)","v":0}]
[{"$nulls":7},{"$f":"ROUND(IF(OR(COUNTIF('Reference Data'!$G$1:$G$17,A205), COUNTIF('Reference Data'!$H$1:$H$100,D205)),0,E205*0.035),2)","v":0}]
[{"$nulls":7},{"$f":"ROUND(IF(OR(COUNTIF('Reference Data'!$G$1:$G$17,A206), COUNTIF('Reference Data'!$H$1:$H$100,D206)),0,E206*0.035),2)","v":0}]
[{"$nulls":7},{"$f":"ROUND(IF(OR(COUNTIF('Reference Data'!$G$1:$G$17,A207), COUNTIF('Reference Data'!$H$1:$H$100,D207)),0,E207*0.035),2)","v":0}]
[{"$nulls":7},{"$f":"ROUND(IF(OR(COUNTIF('Reference Data'!$G$1:$G$17,A208), COUNTIF('Reference Data'!$H$1:$H$100,D208)),0,E208*0.035),2)","v":0}]
[{"$nulls":7},{"$f":"ROUND(IF(OR(COUNTIF('Reference Data'!$G$1:$G$17,A209), COUNTIF('Reference Data'!$H$1:$H$100,D209)),0,E209*0.035),2)","v":0}]
[{"$nulls":7},{"$f":"ROUND(IF(OR(COUNTIF('Reference Data'!$G$1:$G$17,A210), COUNTIF('Reference Data'!$H$1:$H$100,D210)),0,E210*0.035),2)","v":0}]
[{"$nulls":7},{"$f":"ROUND(IF(OR(COUNTIF('Reference Data'!$G$1:$G$17,A211), COUNTIF('Reference Data'!$H$1:$H$100,D211)),0,E211*0.035),2)","v":0}]
[{"$nulls":7},{"$f":"ROUND(IF(OR(COUNTIF('Reference Data'!$G$1:$G$17,A212), COUNTIF('Reference Data'!$H$1:$H$100,D212)),0,E212*0.035),2)","v":0}]
[{"$nulls":7},{"$f":"ROUND(IF(OR(COUNTIF('Reference Data'!$G$1:$G$17,A213), COUNTIF('Reference Data'!$H$1:$H$100,D213)),0,E213*0.035),2)","v":0}]
[{"$nulls":7},{"$f":"ROUND(IF(OR(COUNTIF('Reference Data'!$G$1:$G$17,A214), COUNTIF('Reference Data'!$H$1:$H$100,D214)),0,E214*0.035),2)","v":0}]
[{"$nulls":7},{"$f":"ROUND(IF(OR(COUNTIF('Reference Data'!$G$1:$G$17,A215), COUNTIF('Reference Data'!$H$1:$H$100,D215)),0,E215*0.035),2)","v":0}]
[{"$nulls":7},{"$f":"ROUND(IF(OR(COUNTIF('Reference Data'!$G$1:$G$17,A216), COUNTIF('Reference Data'!$H$1:$H$100,D216)),0,E216*0.035),2)","v":0}]
[{"$nulls":7},{"$f":"ROUND(IF(OR(COUNTIF('Reference Data'!$G$1:$G$17,A217), COUNTIF('Reference Data'!$H$1:$H$100,D217)),0,E217*0.035),2)","v":0}]
[{"$nulls":7},{"$f":"ROUND(IF(OR(COUNTIF('Reference Data'!$G$1:$G$17,A218), COUNTIF('Reference Data'!$H$1:$H$100,D218)),0,E218*0.035),2)","v":0}]
[{"$nulls":7},{"$f":"ROUND(IF(OR(COUNTIF('Reference Data'!$G$1:$G$17,A219), COUNTIF('Reference Data'!$H$1:$H$100,D219)),0,E219*0.035),2)","v":0}]
[{"$nulls":7},{"$f":"ROUND(IF(OR(COUNTIF('Reference Data'!$G$1:$G$17,A220), COUNTIF('Reference Data'!$H$1:$H$100,D220)),0,E220*0.035),2)","v":0}]
[{"$nulls":7},{"$f":"ROUND(IF(OR(COUNTIF('Reference Data'!$G$1:$G$17,A221), COUNTIF('Reference Data'!$H$1:$H$100,D221)),0,E221*0.035),2)","v":0}]
[{"$nulls":7},{"$f":"ROUND(IF(OR(COUNTIF('Reference Data'!$G$1:$G$17,A222), COUNTIF('Reference Data'!$H$1:$H$100,D222)),0,E222*0.035),2)","v":0}]
[{"$nulls":7},{"$f":"ROUND(IF(OR(COUNTIF('Reference Data'!$G$1:$G$17,A223), COUNTIF('Reference Data'!$H$1:$H$100,D223)),0,E223*0.035),2)","v":0}]
[{"$nulls":7},{"$f":"ROUND(IF(OR(COUNTIF('Reference Data'!$G$1:$G$17,A224), COUNTIF('Reference Data'!$H$1:$H$100,D224)),0,E224*0.035),2)","v":0}]
[{"$nulls":7},{"$f":"ROUND(IF(OR(COUNTIF('Reference Data'!$G$1:$G$17,A225), COUNTIF('Reference Data'!$H$1:$H$100,D225)),0,E225*0.035),2)","v":0}]
[{"$nulls":7},{"$f":"ROUND(IF(OR(COUNTIF('Reference Data'!$G$1:$G$17,A226), COUNTIF('Reference Data'!$H$1:$H$100,D226)),0,E226*0.035),2)","v":0}]
[{"$nulls":7},{"$f":"ROUND(IF(OR(COUNTIF('Reference Data'!$G$1:$G$17,A227), COUNTIF('Reference Data'!$H$1:$H$100,D227)),0,E227*0.035),2)","v":0}]
[{"$nulls":7},{"$f":"ROUND(IF(OR(COUNTIF('Reference Data'!$G$1:$G$17,A228), COUNTIF('Reference Data'!$H$1:$H$100,D228)),0,E228*0.035),2)","v":0}]
[{"$nulls":7},{"$f":"ROUND(IF(OR(COUNTIF('Reference Data'!$G$1:$G$17,A229), COUNTIF('Reference Data'!$H$1:$H$100,D229)),0,E229*0.035),2)","v":0}]
[{"$nulls":7},{"$f":"ROUND(IF(OR(COUNTIF('Reference Data'!$G$1:$G$17,A230), COUNTIF('Reference Data'!$H$1:$H$100,D230)),0,E230*0.035),2)","v":0}]
[{"$nulls":7},{"$f":"ROUND(IF(OR(COUNTIF('Reference Data'!$G$1:$G$17,A231), COUNTIF('Reference Data'!$H$1:$H$100,D231)),0,E231*0.035),2)","v":0}]
[{"$nulls":7},{"$f":"ROUND(IF(OR(COUNTIF('Reference Data'!$G$1:$G$17,A232), COUNTIF('Reference Data'!$H$1:$H$100,D232)),0,E232*0.035),2)","v":0}]
[{"$nulls":7},{"$f":"ROUND(IF(OR(COUNTIF('Reference Data'!$G$1:$G$17,A233), COUNTIF('Reference Data'!$H$1:$H$100,D233)),0,E233*0.035),2)","v":0}]
[{"$nulls":7},{"$f":"ROUND(IF(OR(COUNTIF('Reference Data'!$G$1:$G$17,A234), COUNTIF('Reference Data'!$H$1:$H$100,D234)),0,E234*0.035),2)","v":0}]
[{"$nulls":7},{"$f":"ROUND(IF(OR(COUNTIF('Reference Data'!$G$1:$G$17,A235), COUNTIF('Reference Data'!$H$1:$H$100,D235)),0,E235*0.035),2)","v":0}]
[{"$nulls":7},{"$f":"ROUND(IF(OR(COUNTIF('Reference Data'!$G$1:$G$17,A236), COUNTIF('Reference Data'!$H$1:$H$100,D236)),0,E236*0.035),2)","v":0}]
[{"$nulls":7},{"$f":"ROUND(IF(OR(COUNTIF('Reference Data'!$G$1:$G$17,A237), COUNTIF('Reference Data'!$H$1:$H$100,D237)),0,E237*0.035),2)","v":0}]
[{"$nulls":7},{"$f":"ROUND(IF(OR(COUNTIF('Reference Data'!$G$1:$G$17,A238), COUNTIF('Reference Data'!$H$1:$H$100,D238)),0,E238*0.035),2)","v":0}]
[{"$nulls":7},{"$f":"ROUND(IF(OR(COUNTIF('Reference Data'!$G$1:$G$17,A239), COUNTIF('Reference Data'!$H$1:$H$100,D239)),0,E239*0.035),2)","v":0}]
[{"$nulls":7},{"$f":"ROUND(IF(OR(COUNTIF('Reference Data'!$G$1:$G$17,A240), COUNTIF('Reference Data'!$H$1:$H$100,D240)),0,E240*0.035),2)","v":0}]
[{"$nulls":7},{"$f":"ROUND(IF(OR(COUNTIF('Reference Data'!$G$1:$G$17,A241), COUNTIF('Reference Data'!$H$1:$H$100,D241)),0,E241*0.035),2)","v":0}]
[{"$nulls":7},{"$f":"ROUND(IF(OR(COUNTIF('Reference Data'!$G$1:$G$17,A242), COUNTIF('Reference Data'!$H$1:$H$100,D242)),0,E242*0.035),2)","v":0}]
[{"$nulls":7},{"$f":"ROUND(IF(OR(COUNTIF('Reference Data'!$G$1:$G$17,A243), COUNTIF('Reference Data'!$H$1:$H$100,D243)),0,E243*0.035),2)","v":0}]
[{"$nulls":7},{"$f":"ROUND(IF(OR(COUNTIF('Reference Data'!$G$1:$G$17,A244), COUNTIF('Reference Data'!$H$1:$H$100,D244)),0,E244*0.035),2)","v":0}]
[{"$nulls":7},{"$f":"ROUND(IF(OR(COUNTIF('Reference Data'!$G$1:$G$17,A245), COUNTIF('Reference Data'!$H$1:$H$100,D245)),0,E245*0.035),2)","v":0}]
[{"$nulls":7},{"$f":"ROUND(IF(OR(COUNTIF('Reference Data'!$G$1:$G$17,A246), COUNTIF('Reference Data'!$H$1:$H$100,D246)),0,E246*0.035),2)","v":0}]
[{"$nulls":7},{"$f":"ROUND(IF(OR(COUNTIF('Reference Data'!$G$1:$G$17,A247), COUNTIF('Reference Data'!$H$1:$H$100,D247)),0,E247*0.035),2)","v":0}]
[{"$nulls":7},{"$f":"ROUND(IF(OR(COUNTIF('Reference Data'!$G$1:$G$17,A248), COUNTIF('Reference Data'!$H$1:$H$100,D248)),0,E248*0.035),2)","v":0}]
[{"$nulls":7},{"$f":"ROUND(IF(OR(COUNTIF('Reference Data'!$G$1:$G$17,A249), COUNTIF('Reference Data'!$H$1:$H$100,D249)),0,E249*0.035),2)","v":0}]
[{"$nulls":7},{"$f":"ROUND(IF(OR(COUNTIF('Reference Data'!$G$1:$G$17,A250), COUNTIF('Reference Data'!$H$1:$H$100,D250)),0,E250*0.035),2)","v":0}]
[{"$nulls":7},{"$f":"ROUND(IF(OR(COUNTIF('Reference Data'!$G$1:$G$17,A251), COUNTIF('Reference Data'!$H$1:$H$100,D251)),0,E251*0.035),2)","v":0}]
[{"$nulls":7},{"$f":"ROUND(IF(OR(COUNTIF('Reference Data'!$G$1:$G$17,A252), COUNTIF('Reference Data'!$H$1:$H$100,D252)),0,E252*0.035),2)","v":0}]
[{"$nulls":7},{"$f":"ROUND(IF(OR(COUNTIF('Reference Data'!$G$1:$G$17,A253), COUNTIF('Reference Data'!$H$1:$H$100,D253)),0,E253*0.035),2)","v":0}]
[{"$nulls":7},{"$f":"ROUND(IF(OR(COUNTIF('Reference Data'!$G$1:$G$17,A254), COUNTIF('Reference Data'!$H$1:$H$100,D254)),0,E254*0.035),2)","v":0}]
[{"$nulls":7},{"$f":"ROUND(IF(OR(COUNTIF('Reference Data'!$G$1:$G$17,A255), COUNTIF('Reference Data'!$H$1:$H$100,D255)),0,E255*0.035),2)","v":0}]
[{"$nulls":7},{"$f":"ROUND(IF(OR(COUNTIF('Reference Data'!$G$1:$G$17,A256), COUNTIF('Reference Data'!$H$1:$H$100,D256)),0,E256*0.035),2)","v":0}]
[{"$nulls":7},{"$f":"ROUND(IF(OR(COUNTIF('Reference Data'!$G$1:$G$17,A257), COUNTIF('Reference Data'!$H$1:$H$100,D257)),0,E257*0.035),2)","v":0}]
[{"$nulls":7},{"$f":"ROUND(IF(OR(COUNTIF('Reference Data'!$G$1:$G$17,A258), COUNTIF('Reference Data'!$H$1:$H$100,D258)),0,E258*0.035),2)","v":0}]
[{"$nulls":7},{"$f":"ROUND(IF(OR(COUNTIF('Reference Data'!$G$1:$G$17,A259), COUNTIF('Reference Data'!$H$1:$H$100,D259)),0,E259*0.035),2)","v":0}]
[{"$nulls":7},{"$f":"ROUND(IF(OR(COUNTIF('Reference Data'!$G$1:$G$17,A260), COUNTIF('Reference Data'!$H$1:$H$100,D260)),0,E260*0.035),2)","v":0}]
[{"$nulls":7},{"$f":"ROUND(IF(OR(COUNTIF('Reference Data'!$G$1:$G$17,A261), COUNTIF('Reference Data'!$H$1:$H$100,D261)),0,E261*0.035),2)","v":0}]
[{"$nulls":7},{"$f":"ROUND(IF(OR(COUNTIF('Reference Data'!$G$1:$G$17,A262), COUNTIF('Reference Data'!$H$1:$H$100,D262)),0,E262*0.035),2)","v":0}]
[{"$nulls":7},{"$f":"ROUND(IF(OR(COUNTIF('Reference Data'!$G$1:$G$17,A263), COUNTIF('Reference Data'!$H$1:$H$100,D263)),0,E263*0.035),2)","v":0}]
[{"$nulls":7},{"$f":"ROUND(IF(OR(COUNTIF('Reference Data'!$G$1:$G$17,A264), COUNTIF('Reference Data'!$H$1:$H$100,D264)),0,E264*0.035),2)","v":0}]
[{"$nulls":7},{"$f":"ROUND(IF(OR(COUNTIF('Reference Data'!$G$1:$G$17,A265), COUNTIF('Reference Data'!$H$1:$H$100,D265)),0,E265*0.035),2)","v":0}]
[{"$nulls":7},{"$f":"ROUND(IF(OR(COUNTIF('Reference Data'!$G$1:$G$17,A266), COUNTIF('Reference Data'!$H$1:$H$100,D266)),0,E266*0.035),2)","v":0}]
[{"$nulls":7},{"$f":"ROUND(IF(OR(COUNTIF('Reference Data'!$G$1:$G$17,A267), COUNTIF('Reference Data'!$H$1:$H$100,D267)),0,E267*0.035),2)","v":0}]
[{"$nulls":7},{"$f":"ROUND(IF(OR(COUNTIF('Reference Data'!$G$1:$G$17,A268), COUNTIF('Reference Data'!$H$1:$H$100,D268)),0,E268*0.035),2)","v":0}]
[{"$nulls":7},{"$f":"ROUND(IF(OR(COUNTIF('Reference Data'!$G$1:$G$17,A269), COUNTIF('Reference Data'!$H$1:$H$100,D269)),0,E269*0.035),2)","v":0}]
[{"$nulls":7},{"$f":"ROUND(IF(OR(COUNTIF('Reference Data'!$G$1:$G$17,A270), COUNTIF('Reference Data'!$H$1:$H$100,D270)),0,E270*0.035),2)","v":0}]
[{"$nulls":7},{"$f":"ROUND(IF(OR(COUNTIF('Reference Data'!$G$1:$G$17,A271), COUNTIF('Reference Data'!$H$1:$H$100,D271)),0,E271*0.035),2)","v":0}]
[{"$nulls":7},{"$f":"ROUND(IF(OR(COUNTIF('Reference Data'!$G$1:$G$17,A272), COUNTIF('Reference Data'!$H$1:$H$100,D272)),0,E272*0.035),2)","v":0}]
[{"$nulls":7},{"$f":"ROUND(IF(OR(COUNTIF('Reference Data'!$G$1:$G$17,A273), COUNTIF('Reference Data'!$H$1:$H$100,D273)),0,E273*0.035),2)","v":0}]
[{"$nulls":7},{"$f":"ROUND(IF(OR(COUNTIF('Reference Data'!$G$1:$G$17,A274), COUNTIF('Reference Data'!$H$1:$H$100,D274)),0,E274*0.035),2)","v":0}]
[{"$nulls":7},{"$f":"ROUND(IF(OR(COUNTIF('Reference Data'!$G$1:$G$17,A275), COUNTIF('Reference Data'!$H$1:$H$100,D275)),0,E275*0.035),2)","v":0}]
[{"$nulls":7},{"$f":"ROUND(IF(OR(COUNTIF('Reference Data'!$G$1:$G$17,A276), COUNTIF('Reference Data'!$H$1:$H$100,D276)),0,E276*0.035),2)","v":0}]
[{"$nulls":7},{"$f":"ROUND(IF(OR(COUNTIF('Reference Data'!$G$1:$G$17,A277), COUNTIF('Reference Data'!$H$1:$H$100,D277)),0,E277*0.035),2)","v":0}]
[{"$nulls":7},{"$f":"ROUND(IF(OR(COUNTIF('Reference Data'!$G$1:$G$17,A278), COUNTIF('Reference Data'!$H$1:$H$100,D278)),0,E278*0.035),2)","v":0}]
[{"$nulls":7},{"$f":"ROUND(IF(OR(COUNTIF('Reference Data'!$G$1:$G$17,A279), COUNTIF('Reference Data'!$H$1:$H$100,D279)),0,E279*0.035),2)","v":0}]
[{"$nulls":7},{"$f":"ROUND(IF(OR(COUNTIF('Reference Data'!$G$1:$G$17,A280), COUNTIF('Reference Data'!$H$1:$H$100,D280)),0,E280*0.035),2)","v":0}]
[{"$nulls":7},{"$f":"ROUND(IF(OR(COUNTIF('Reference Data'!$G$1:$G$17,A281), COUNTIF('Reference Data'!$H$1:$H$100,D281)),0,E281*0.035),2)","v":0}]
[{"$nulls":7},{"$f":"ROUND(IF(OR(COUNTIF('Reference Data'!$G$1:$G$17,A282), COUNTIF('Reference Data'!$H$1:$H$100,D282)),0,E282*0.035),2)","v":0}]
[{"$nulls":7},{"$f":"ROUND(IF(OR(COUNTIF('Reference Data'!$G$1:$G$17,A283), COUNTIF('Reference Data'!$H$1:$H$100,D283)),0,E283*0.035),2)","v":0}]
[{"$nulls":7},{"$f":"ROUND(IF(OR(COUNTIF('Reference Data'!$G$1:$G$17,A284), COUNTIF('Reference Data'!$H$1:$H$100,D284)),0,E284*0.035),2)","v":0}]
[{"$nulls":7},{"$f":"ROUND(IF(OR(COUNTIF('Reference Data'!$G$1:$G$17,A285), COUNTIF('Reference Data'!$H$1:$H$100,D285)),0,E285*0.035),2)","v":0}]
[{"$nulls":7},{"$f":"ROUND(IF(OR(COUNTIF('Reference Data'!$G$1:$G$17,A286), COUNTIF('Reference Data'!$H$1:$H$100,D286)),0,E286*0.035),2)","v":0}]
[{"$nulls":7},{"$f":"ROUND(IF(OR(COUNTIF('Reference Data'!$G$1:$G$17,A287), COUNTIF('Reference Data'!$H$1:$H$100,D287)),0,E287*0.035),2)","v":0}]
[{"$nulls":7},{"$f":"ROUND(IF(OR(COUNTIF('Reference Data'!$G$1:$G$17,A288), COUNTIF('Reference Data'!$H$1:$H$100,D288)),0,E288*0.035),2)","v":0}]
[{"$nulls":7},{"$f":"ROUND(IF(OR(COUNTIF('Reference Data'!$G$1:$G$17,A289), COUNTIF('Reference Data'!$H$1:$H$100,D289)),0,E289*0.035),2)","v":0}]
[{"$nulls":7},{"$f":"ROUND(IF(OR(COUNTIF('Reference Data'!$G$1:$G$17,A290), COUNTIF('Reference Data'!$H$1:$H$100,D290)),0,E290*0.035),2)","v":0}]
[{"$nulls":7},{"$f":"ROUND(IF(OR(COUNTIF('Reference Data'!$G$1:$G$17,A291), COUNTIF('Reference Data'!$H$1:$H$100,D291)),0,E291*0.035),2)","v":0}]
[{"$nulls":7},{"$f":"ROUND(IF(OR(COUNTIF('Reference Data'!$G$1:$G$17,A292), COUNTIF('Reference Data'!$H$1:$H$100,D292)),0,E292*0.035),2)","v":0}]
[{"$nulls":7},{"$f":"ROUND(IF(OR(COUNTIF('Reference Data'!$G$1:$G$17,A293), COUNTIF('Reference Data'!$H$1:$H$100,D293)),0,E293*0.035),2)","v":0}]
[{"$nulls":7},{"$f":"ROUND(IF(OR(COUNTIF('Reference Data'!$G$1:$G$17,A294), COUNTIF('Reference Data'!$H$1:$H$100,D294)),0,E294*0.035),2)","v":0}]
[{"$nulls":7},{"$f":"ROUND(IF(OR(COUNTIF('Reference Data'!$G$1:$G$17,A295), COUNTIF('Reference Data'!$H$1:$H$100,D295)),0,E295*0.035),2)","v":0}]
[{"$nulls":7},{"$f":"ROUND(IF(OR(COUNTIF('Reference Data'!$G$1:$G$17,A296), COUNTIF('Reference Data'!$H$1:$H$100,D296)),0,E296*0.035),2)","v":0}]
[{"$nulls":7},{"$f":"ROUND(IF(OR(COUNTIF('Reference Data'!$G$1:$G$17,A297), COUNTIF('Reference Data'!$H$1:$H$100,D297)),0,E297*0.035),2)","v":0}]
[{"$nulls":7},{"$f":"ROUND(IF(OR(COUNTIF('Reference Data'!$G$1:$G$17,A298), COUNTIF('Reference Data'!$H$1:$H$100,D298)),0,E298*0.035),2)","v":0}]
[{"$nulls":7},{"$f":"ROUND(IF(OR(COUNTIF('Reference Data'!$G$1:$G$17,A299), COUNTIF('Reference Data'!$H$1:$H$100,D299)),0,E299*0.035),2)","v":0}]
[{"$nulls":7},{"$f":"ROUND(IF(OR(COUNTIF('Reference Data'!$G$1:$G$17,A300), COUNTIF('Reference Data'!$H$1:$H$100,D300)),0,E300*0.035),2)","v":0}]
[{"$nulls":7},{"$f":"ROUND(IF(OR(COUNTIF('Reference Data'!$G$1:$G$17,A301), COUNTIF('Reference Data'!$H$1:$H$100,D301)),0,E301*0.035),2)","v":0}]

{"sheet":"May Template","index":4,"n_rows":301,"n_cols":16,"rows_kept":301}
[{"$nulls":5},"Enrollment and Payment Data Template"]
["Submission Date:",{"$nulls":3},"Enrollment Month:","2014-05-01","Submission Status","Initial Submission"]
["State","9 Digit Issuer TIN","5 Digit HIOS Issuer ID","16 Digit QHP ID","Total Premium amount by QHP ID for effectuated enrollments","Total APTC amount by QHP ID for effectuated enrollments","Total CSR amount by QHP ID for effectuated enrollments","Total User Fee amount by QHP ID","Total # of effectuated enrollment groups by QHP ID","Total # of effectuated enrollment groups receiving APTC by QHP ID","Total # of effectuated enrollment groups receiving CSR by QHP ID","Total # of effectuated members by QHP ID","Total # of effectuated members receiving APTC by QHP ID","Total # of effectuated members receiving CSR by QHP ID",null,"Reasons for Validation Failures"]
[{"$nulls":7},{"$f":"ROUND(IF(OR(COUNTIF('Reference Data'!$G$1:$G$17,A4), COUNTIF('Reference Data'!$H$1:$H$100,D4)),0,E4*0.035),2)","v":0}]
[{"$nulls":7},{"$f":"ROUND(IF(OR(COUNTIF('Reference Data'!$G$1:$G$17,A5), COUNTIF('Reference Data'!$H$1:$H$100,D5)),0,E5*0.035),2)","v":0}]
[{"$nulls":7},{"$f":"ROUND(IF(OR(COUNTIF('Reference Data'!$G$1:$G$17,A6), COUNTIF('Reference Data'!$H$1:$H$100,D6)),0,E6*0.035),2)","v":0}]
[{"$nulls":7},{"$f":"ROUND(IF(OR(COUNTIF('Reference Data'!$G$1:$G$17,A7), COUNTIF('Reference Data'!$H$1:$H$100,D7)),0,E7*0.035),2)","v":0}]
[{"$nulls":7},{"$f":"ROUND(IF(OR(COUNTIF('Reference Data'!$G$1:$G$17,A8), COUNTIF('Reference Data'!$H$1:$H$100,D8)),0,E8*0.035),2)","v":0}]
[{"$nulls":7},{"$f":"ROUND(IF(OR(COUNTIF('Reference Data'!$G$1:$G$17,A9), COUNTIF('Reference Data'!$H$1:$H$100,D9)),0,E9*0.035),2)","v":0}]
[{"$nulls":7},{"$f":"ROUND(IF(OR(COUNTIF('Reference Data'!$G$1:$G$17,A10), COUNTIF('Reference Data'!$H$1:$H$100,D10)),0,E10*0.035),2)","v":0}]
[{"$nulls":7},{"$f":"ROUND(IF(OR(COUNTIF('Reference Data'!$G$1:$G$17,A11), COUNTIF('Reference Data'!$H$1:$H$100,D11)),0,E11*0.035),2)","v":0}]
[{"$nulls":7},{"$f":"ROUND(IF(OR(COUNTIF('Reference Data'!$G$1:$G$17,A12), COUNTIF('Reference Data'!$H$1:$H$100,D12)),0,E12*0.035),2)","v":0}]
[{"$nulls":7},{"$f":"ROUND(IF(OR(COUNTIF('Reference Data'!$G$1:$G$17,A13), COUNTIF('Reference Data'!$H$1:$H$100,D13)),0,E13*0.035),2)","v":0}]
[{"$nulls":7},{"$f":"ROUND(IF(OR(COUNTIF('Reference Data'!$G$1:$G$17,A14), COUNTIF('Reference Data'!$H$1:$H$100,D14)),0,E14*0.035),2)","v":0}]
[{"$nulls":7},{"$f":"ROUND(IF(OR(COUNTIF('Reference Data'!$G$1:$G$17,A15), COUNTIF('Reference Data'!$H$1:$H$100,D15)),0,E15*0.035),2)","v":0}]
[{"$nulls":7},{"$f":"ROUND(IF(OR(COUNTIF('Reference Data'!$G$1:$G$17,A16), COUNTIF('Reference Data'!$H$1:$H$100,D16)),0,E16*0.035),2)","v":0}]
[{"$nulls":7},{"$f":"ROUND(IF(OR(COUNTIF('Reference Data'!$G$1:$G$17,A17), COUNTIF('Reference Data'!$H$1:$H$100,D17)),0,E17*0.035),2)","v":0}]
[{"$nulls":7},{"$f":"ROUND(IF(OR(COUNTIF('Reference Data'!$G$1:$G$17,A18), COUNTIF('Reference Data'!$H$1:$H$100,D18)),0,E18*0.035),2)","v":0}]
[{"$nulls":7},{"$f":"ROUND(IF(OR(COUNTIF('Reference Data'!$G$1:$G$17,A19), COUNTIF('Reference Data'!$H$1:$H$100,D19)),0,E19*0.035),2)","v":0}]
[{"$nulls":7},{"$f":"ROUND(IF(OR(COUNTIF('Reference Data'!$G$1:$G$17,A20), COUNTIF('Reference Data'!$H$1:$H$100,D20)),0,E20*0.035),2)","v":0}]
[{"$nulls":7},{"$f":"ROUND(IF(OR(COUNTIF('Reference Data'!$G$1:$G$17,A21), COUNTIF('Reference Data'!$H$1:$H$100,D21)),0,E21*0.035),2)","v":0}]
[{"$nulls":7},{"$f":"ROUND(IF(OR(COUNTIF('Reference Data'!$G$1:$G$17,A22), COUNTIF('Reference Data'!$H$1:$H$100,D22)),0,E22*0.035),2)","v":0}]
[{"$nulls":7},{"$f":"ROUND(IF(OR(COUNTIF('Reference Data'!$G$1:$G$17,A23), COUNTIF('Reference Data'!$H$1:$H$100,D23)),0,E23*0.035),2)","v":0}]
[{"$nulls":7},{"$f":"ROUND(IF(OR(COUNTIF('Reference Data'!$G$1:$G$17,A24), COUNTIF('Reference Data'!$H$1:$H$100,D24)),0,E24*0.035),2)","v":0}]
[{"$nulls":7},{"$f":"ROUND(IF(OR(COUNTIF('Reference Data'!$G$1:$G$17,A25), COUNTIF('Reference Data'!$H$1:$H$100,D25)),0,E25*0.035),2)","v":0}]
[{"$nulls":7},{"$f":"ROUND(IF(OR(COUNTIF('Reference Data'!$G$1:$G$17,A26), COUNTIF('Reference Data'!$H$1:$H$100,D26)),0,E26*0.035),2)","v":0}]
[{"$nulls":7},{"$f":"ROUND(IF(OR(COUNTIF('Reference Data'!$G$1:$G$17,A27), COUNTIF('Reference Data'!$H$1:$H$100,D27)),0,E27*0.035),2)","v":0}]
[{"$nulls":7},{"$f":"ROUND(IF(OR(COUNTIF('Reference Data'!$G$1:$G$17,A28), COUNTIF('Reference Data'!$H$1:$H$100,D28)),0,E28*0.035),2)","v":0}]
[{"$nulls":7},{"$f":"ROUND(IF(OR(COUNTIF('Reference Data'!$G$1:$G$17,A29), COUNTIF('Reference Data'!$H$1:$H$100,D29)),0,E29*0.035),2)","v":0}]
[{"$nulls":7},{"$f":"ROUND(IF(OR(COUNTIF('Reference Data'!$G$1:$G$17,A30), COUNTIF('Reference Data'!$H$1:$H$100,D30)),0,E30*0.035),2)","v":0}]
[{"$nulls":7},{"$f":"ROUND(IF(OR(COUNTIF('Reference Data'!$G$1:$G$17,A31), COUNTIF('Reference Data'!$H$1:$H$100,D31)),0,E31*0.035),2)","v":0}]
[{"$nulls":7},{"$f":"ROUND(IF(OR(COUNTIF('Reference Data'!$G$1:$G$17,A32), COUNTIF('Reference Data'!$H$1:$H$100,D32)),0,E32*0.035),2)","v":0}]
[{"$nulls":7},{"$f":"ROUND(IF(OR(COUNTIF('Reference Data'!$G$1:$G$17,A33), COUNTIF('Reference Data'!$H$1:$H$100,D33)),0,E33*0.035),2)","v":0}]
[{"$nulls":7},{"$f":"ROUND(IF(OR(COUNTIF('Reference Data'!$G$1:$G$17,A34), COUNTIF('Reference Data'!$H$1:$H$100,D34)),0,E34*0.035),2)","v":0}]
[{"$nulls":7},{"$f":"ROUND(IF(OR(COUNTIF('Reference Data'!$G$1:$G$17,A35), COUNTIF('Reference Data'!$H$1:$H$100,D35)),0,E35*0.035),2)","v":0}]
[{"$nulls":7},{"$f":"ROUND(IF(OR(COUNTIF('Reference Data'!$G$1:$G$17,A36), COUNTIF('Reference Data'!$H$1:$H$100,D36)),0,E36*0.035),2)","v":0}]
[{"$nulls":7},{"$f":"ROUND(IF(OR(COUNTIF('Reference Data'!$G$1:$G$17,A37), COUNTIF('Reference Data'!$H$1:$H$100,D37)),0,E37*0.035),2)","v":0}]
[{"$nulls":7},{"$f":"ROUND(IF(OR(COUNTIF('Reference Data'!$G$1:$G$17,A38), COUNTIF('Reference Data'!$H$1:$H$100,D38)),0,E38*0.035),2)","v":0}]
[{"$nulls":7},{"$f":"ROUND(IF(OR(COUNTIF('Reference Data'!$G$1:$G$17,A39), COUNTIF('Reference Data'!$H$1:$H$100,D39)),0,E39*0.035),2)","v":0}]
[{"$nulls":7},{"$f":"ROUND(IF(OR(COUNTIF('Reference Data'!$G$1:$G$17,A40), COUNTIF('Reference Data'!$H$1:$H$100,D40)),0,E40*0.035),2)","v":0}]
[{"$nulls":7},{"$f":"ROUND(IF(OR(COUNTIF('Reference Data'!$G$1:$G$17,A41), COUNTIF('Reference Data'!$H$1:$H$100,D41)),0,E41*0.035),2)","v":0}]
[{"$nulls":7},{"$f":"ROUND(IF(OR(COUNTIF('Reference Data'!$G$1:$G$17,A42), COUNTIF('Reference Data'!$H$1:$H$100,D42)),0,E42*0.035),2)","v":0}]
[{"$nulls":7},{"$f":"ROUND(IF(OR(COUNTIF('Reference Data'!$G$1:$G$17,A43), COUNTIF('Reference Data'!$H$1:$H$100,D43)),0,E43*0.035),2)","v":0}]
[{"$nulls":7},{"$f":"ROUND(IF(OR(COUNTIF('Reference Data'!$G$1:$G$17,A44), COUNTIF('Reference Data'!$H$1:$H$100,D44)),0,E44*0.035),2)","v":0}]
[{"$nulls":7},{"$f":"ROUND(IF(OR(COUNTIF('Reference Data'!$G$1:$G$17,A45), COUNTIF('Reference Data'!$H$1:$H$100,D45)),0,E45*0.035),2)","v":0}]
[{"$nulls":7},{"$f":"ROUND(IF(OR(COUNTIF('Reference Data'!$G$1:$G$17,A46), COUNTIF('Reference Data'!$H$1:$H$100,D46)),0,E46*0.035),2)","v":0}]
[{"$nulls":7},{"$f":"ROUND(IF(OR(COUNTIF('Reference Data'!$G$1:$G$17,A47), COUNTIF('Reference Data'!$H$1:$H$100,D47)),0,E47*0.035),2)","v":0}]
[{"$nulls":7},{"$f":"ROUND(IF(OR(COUNTIF('Reference Data'!$G$1:$G$17,A48), COUNTIF('Reference Data'!$H$1:$H$100,D48)),0,E48*0.035),2)","v":0}]
[{"$nulls":7},{"$f":"ROUND(IF(OR(COUNTIF('Reference Data'!$G$1:$G$17,A49), COUNTIF('Reference Data'!$H$1:$H$100,D49)),0,E49*0.035),2)","v":0}]
[{"$nulls":7},{"$f":"ROUND(IF(OR(COUNTIF('Reference Data'!$G$1:$G$17,A50), COUNTIF('Reference Data'!$H$1:$H$100,D50)),0,E50*0.035),2)","v":0}]
[{"$nulls":7},{"$f":"ROUND(IF(OR(COUNTIF('Reference Data'!$G$1:$G$17,A51), COUNTIF('Reference Data'!$H$1:$H$100,D51)),0,E51*0.035),2)","v":0}]
[{"$nulls":7},{"$f":"ROUND(IF(OR(COUNTIF('Reference Data'!$G$1:$G$17,A52), COUNTIF('Reference Data'!$H$1:$H$100,D52)),0,E52*0.035),2)","v":0}]
[{"$nulls":7},{"$f":"ROUND(IF(OR(COUNTIF('Reference Data'!$G$1:$G$17,A53), COUNTIF('Reference Data'!$H$1:$H$100,D53)),0,E53*0.035),2)","v":0}]
[{"$nulls":7},{"$f":"ROUND(IF(OR(COUNTIF('Reference Data'!$G$1:$G$17,A54), COUNTIF('Reference Data'!$H$1:$H$100,D54)),0,E54*0.035),2)","v":0}]
[{"$nulls":7},{"$f":"ROUND(IF(OR(COUNTIF('Reference Data'!$G$1:$G$17,A55), COUNTIF('Reference Data'!$H$1:$H$100,D55)),0,E55*0.035),2)","v":0}]
[{"$nulls":7},{"$f":"ROUND(IF(OR(COUNTIF('Reference Data'!$G$1:$G$17,A56), COUNTIF('Reference Data'!$H$1:$H$100,D56)),0,E56*0.035),2)","v":0}]
[{"$nulls":7},{"$f":"ROUND(IF(OR(COUNTIF('Reference Data'!$G$1:$G$17,A57), COUNTIF('Reference Data'!$H$1:$H$100,D57)),0,E57*0.035),2)","v":0}]
[{"$nulls":7},{"$f":"ROUND(IF(OR(COUNTIF('Reference Data'!$G$1:$G$17,A58), COUNTIF('Reference Data'!$H$1:$H$100,D58)),0,E58*0.035),2)","v":0}]
[{"$nulls":7},{"$f":"ROUND(IF(OR(COUNTIF('Reference Data'!$G$1:$G$17,A59), COUNTIF('Reference Data'!$H$1:$H$100,D59)),0,E59*0.035),2)","v":0}]
[{"$nulls":7},{"$f":"ROUND(IF(OR(COUNTIF('Reference Data'!$G$1:$G$17,A60), COUNTIF('Reference Data'!$H$1:$H$100,D60)),0,E60*0.035),2)","v":0}]
[{"$nulls":7},{"$f":"ROUND(IF(OR(COUNTIF('Reference Data'!$G$1:$G$17,A61), COUNTIF('Reference Data'!$H$1:$H$100,D61)),0,E61*0.035),2)","v":0}]
[{"$nulls":7},{"$f":"ROUND(IF(OR(COUNTIF('Reference Data'!$G$1:$G$17,A62), COUNTIF('Reference Data'!$H$1:$H$100,D62)),0,E62*0.035),2)","v":0}]
[{"$nulls":7},{"$f":"ROUND(IF(OR(COUNTIF('Reference Data'!$G$1:$G$17,A63), COUNTIF('Reference Data'!$H$1:$H$100,D63)),0,E63*0.035),2)","v":0}]
[{"$nulls":7},{"$f":"ROUND(IF(OR(COUNTIF('Reference Data'!$G$1:$G$17,A64), COUNTIF('Reference Data'!$H$1:$H$100,D64)),0,E64*0.035),2)","v":0}]
[{"$nulls":7},{"$f":"ROUND(IF(OR(COUNTIF('Reference Data'!$G$1:$G$17,A65), COUNTIF('Reference Data'!$H$1:$H$100,D65)),0,E65*0.035),2)","v":0}]
[{"$nulls":7},{"$f":"ROUND(IF(OR(COUNTIF('Reference Data'!$G$1:$G$17,A66), COUNTIF('Reference Data'!$H$1:$H$100,D66)),0,E66*0.035),2)","v":0}]
[{"$nulls":7},{"$f":"ROUND(IF(OR(COUNTIF('Reference Data'!$G$1:$G$17,A67), COUNTIF('Reference Data'!$H$1:$H$100,D67)),0,E67*0.035),2)","v":0}]
[{"$nulls":7},{"$f":"ROUND(IF(OR(COUNTIF('Reference Data'!$G$1:$G$17,A68), COUNTIF('Reference Data'!$H$1:$H$100,D68)),0,E68*0.035),2)","v":0}]
[{"$nulls":7},{"$f":"ROUND(IF(OR(COUNTIF('Reference Data'!$G$1:$G$17,A69), COUNTIF('Reference Data'!$H$1:$H$100,D69)),0,E69*0.035),2)","v":0}]
[{"$nulls":7},{"$f":"ROUND(IF(OR(COUNTIF('Reference Data'!$G$1:$G$17,A70), COUNTIF('Reference Data'!$H$1:$H$100,D70)),0,E70*0.035),2)","v":0}]
[{"$nulls":7},{"$f":"ROUND(IF(OR(COUNTIF('Reference Data'!$G$1:$G$17,A71), COUNTIF('Reference Data'!$H$1:$H$100,D71)),0,E71*0.035),2)","v":0}]
[{"$nulls":7},{"$f":"ROUND(IF(OR(COUNTIF('Reference Data'!$G$1:$G$17,A72), COUNTIF('Reference Data'!$H$1:$H$100,D72)),0,E72*0.035),2)","v":0}]
[{"$nulls":7},{"$f":"ROUND(IF(OR(COUNTIF('Reference Data'!$G$1:$G$17,A73), COUNTIF('Reference Data'!$H$1:$H$100,D73)),0,E73*0.035),2)","v":0}]
[{"$nulls":7},{"$f":"ROUND(IF(OR(COUNTIF('Reference Data'!$G$1:$G$17,A74), COUNTIF('Reference Data'!$H$1:$H$100,D74)),0,E74*0.035),2)","v":0}]
[{"$nulls":7},{"$f":"ROUND(IF(OR(COUNTIF('Reference Data'!$G$1:$G$17,A75), COUNTIF('Reference Data'!$H$1:$H$100,D75)),0,E75*0.035),2)","v":0}]
[{"$nulls":7},{"$f":"ROUND(IF(OR(COUNTIF('Reference Data'!$G$1:$G$17,A76), COUNTIF('Reference Data'!$H$1:$H$100,D76)),0,E76*0.035),2)","v":0}]
[{"$nulls":7},{"$f":"ROUND(IF(OR(COUNTIF('Reference Data'!$G$1:$G$17,A77), COUNTIF('Reference Data'!$H$1:$H$100,D77)),0,E77*0.035),2)","v":0}]
[{"$nulls":7},{"$f":"ROUND(IF(OR(COUNTIF('Reference Data'!$G$1:$G$17,A78), COUNTIF('Reference Data'!$H$1:$H$100,D78)),0,E78*0.035),2)","v":0}]
[{"$nulls":7},{"$f":"ROUND(IF(OR(COUNTIF('Reference Data'!$G$1:$G$17,A79), COUNTIF('Reference Data'!$H$1:$H$100,D79)),0,E79*0.035),2)","v":0}]
[{"$nulls":7},{"$f":"ROUND(IF(OR(COUNTIF('Reference Data'!$G$1:$G$17,A80), COUNTIF('Reference Data'!$H$1:$H$100,D80)),0,E80*0.035),2)","v":0}]
[{"$nulls":7},{"$f":"ROUND(IF(OR(COUNTIF('Reference Data'!$G$1:$G$17,A81), COUNTIF('Reference Data'!$H$1:$H$100,D81)),0,E81*0.035),2)","v":0}]
[{"$nulls":7},{"$f":"ROUND(IF(OR(COUNTIF('Reference Data'!$G$1:$G$17,A82), COUNTIF('Reference Data'!$H$1:$H$100,D82)),0,E82*0.035),2)","v":0}]
[{"$nulls":7},{"$f":"ROUND(IF(OR(COUNTIF('Reference Data'!$G$1:$G$17,A83), COUNTIF('Reference Data'!$H$1:$H$100,D83)),0,E83*0.035),2)","v":0}]
[{"$nulls":7},{"$f":"ROUND(IF(OR(COUNTIF('Reference Data'!$G$1:$G$17,A84), COUNTIF('Reference Data'!$H$1:$H$100,D84)),0,E84*0.035),2)","v":0}]
[{"$nulls":7},{"$f":"ROUND(IF(OR(COUNTIF('Reference Data'!$G$1:$G$17,A85), COUNTIF('Reference Data'!$H$1:$H$100,D85)),0,E85*0.035),2)","v":0}]
[{"$nulls":7},{"$f":"ROUND(IF(OR(COUNTIF('Reference Data'!$G$1:$G$17,A86), COUNTIF('Reference Data'!$H$1:$H$100,D86)),0,E86*0.035),2)","v":0}]
[{"$nulls":7},{"$f":"ROUND(IF(OR(COUNTIF('Reference Data'!$G$1:$G$17,A87), COUNTIF('Reference Data'!$H$1:$H$100,D87)),0,E87*0.035),2)","v":0}]
[{"$nulls":7},{"$f":"ROUND(IF(OR(COUNTIF('Reference Data'!$G$1:$G$17,A88), COUNTIF('Reference Data'!$H$1:$H$100,D88)),0,E88*0.035),2)","v":0}]
[{"$nulls":7},{"$f":"ROUND(IF(OR(COUNTIF('Reference Data'!$G$1:$G$17,A89), COUNTIF('Reference Data'!$H$1:$H$100,D89)),0,E89*0.035),2)","v":0}]
[{"$nulls":7},{"$f":"ROUND(IF(OR(COUNTIF('Reference Data'!$G$1:$G$17,A90), COUNTIF('Reference Data'!$H$1:$H$100,D90)),0,E90*0.035),2)","v":0}]
[{"$nulls":7},{"$f":"ROUND(IF(OR(COUNTIF('Reference Data'!$G$1:$G$17,A91), COUNTIF('Reference Data'!$H$1:$H$100,D91)),0,E91*0.035),2)","v":0}]
[{"$nulls":7},{"$f":"ROUND(IF(OR(COUNTIF('Reference Data'!$G$1:$G$17,A92), COUNTIF('Reference Data'!$H$1:$H$100,D92)),0,E92*0.035),2)","v":0}]
[{"$nulls":7},{"$f":"ROUND(IF(OR(COUNTIF('Reference Data'!$G$1:$G$17,A93), COUNTIF('Reference Data'!$H$1:$H$100,D93)),0,E93*0.035),2)","v":0}]
[{"$nulls":7},{"$f":"ROUND(IF(OR(COUNTIF('Reference Data'!$G$1:$G$17,A94), COUNTIF('Reference Data'!$H$1:$H$100,D94)),0,E94*0.035),2)","v":0}]
[{"$nulls":7},{"$f":"ROUND(IF(OR(COUNTIF('Reference Data'!$G$1:$G$17,A95), COUNTIF('Reference Data'!$H$1:$H$100,D95)),0,E95*0.035),2)","v":0}]
[{"$nulls":7},{"$f":"ROUND(IF(OR(COUNTIF('Reference Data'!$G$1:$G$17,A96), COUNTIF('Reference Data'!$H$1:$H$100,D96)),0,E96*0.035),2)","v":0}]
[{"$nulls":7},{"$f":"ROUND(IF(OR(COUNTIF('Reference Data'!$G$1:$G$17,A97), COUNTIF('Reference Data'!$H$1:$H$100,D97)),0,E97*0.035),2)","v":0}]
[{"$nulls":7},{"$f":"ROUND(IF(OR(COUNTIF('Reference Data'!$G$1:$G$17,A98), COUNTIF('Reference Data'!$H$1:$H$100,D98)),0,E98*0.035),2)","v":0}]
[{"$nulls":7},{"$f":"ROUND(IF(OR(COUNTIF('Reference Data'!$G$1:$G$17,A99), COUNTIF('Reference Data'!$H$1:$H$100,D99)),0,E99*0.035),2)","v":0}]
[{"$nulls":7},{"$f":"ROUND(IF(OR(COUNTIF('Reference Data'!$G$1:$G$17,A100), COUNTIF('Reference Data'!$H$1:$H$100,D100)),0,E100*0.035),2)","v":0}]
[{"$nulls":7},{"$f":"ROUND(IF(OR(COUNTIF('Reference Data'!$G$1:$G$17,A101), COUNTIF('Reference Data'!$H$1:$H$100,D101)),0,E101*0.035),2)","v":0}]
[{"$nulls":7},{"$f":"ROUND(IF(OR(COUNTIF('Reference Data'!$G$1:$G$17,A102), COUNTIF('Reference Data'!$H$1:$H$100,D102)),0,E102*0.035),2)","v":0}]
[{"$nulls":7},{"$f":"ROUND(IF(OR(COUNTIF('Reference Data'!$G$1:$G$17,A103), COUNTIF('Reference Data'!$H$1:$H$100,D103)),0,E103*0.035),2)","v":0}]
[{"$nulls":7},{"$f":"ROUND(IF(OR(COUNTIF('Reference Data'!$G$1:$G$17,A104), COUNTIF('Reference Data'!$H$1:$H$100,D104)),0,E104*0.035),2)","v":0}]
[{"$nulls":7},{"$f":"ROUND(IF(OR(COUNTIF('Reference Data'!$G$1:$G$17,A105), COUNTIF('Reference Data'!$H$1:$H$100,D105)),0,E105*0.035),2)","v":0}]
[{"$nulls":7},{"$f":"ROUND(IF(OR(COUNTIF('Reference Data'!$G$1:$G$17,A106), COUNTIF('Reference Data'!$H$1:$H$100,D106)),0,E106*0.035),2)","v":0}]
[{"$nulls":7},{"$f":"ROUND(IF(OR(COUNTIF('Reference Data'!$G$1:$G$17,A107), COUNTIF('Reference Data'!$H$1:$H$100,D107)),0,E107*0.035),2)","v":0}]
[{"$nulls":7},{"$f":"ROUND(IF(OR(COUNTIF('Reference Data'!$G$1:$G$17,A108), COUNTIF('Reference Data'!$H$1:$H$100,D108)),0,E108*0.035),2)","v":0}]
[{"$nulls":7},{"$f":"ROUND(IF(OR(COUNTIF('Reference Data'!$G$1:$G$17,A109), COUNTIF('Reference Data'!$H$1:$H$100,D109)),0,E109*0.035),2)","v":0}]
[{"$nulls":7},{"$f":"ROUND(IF(OR(COUNTIF('Reference Data'!$G$1:$G$17,A110), COUNTIF('Reference Data'!$H$1:$H$100,D110)),0,E110*0.035),2)","v":0}]
[{"$nulls":7},{"$f":"ROUND(IF(OR(COUNTIF('Reference Data'!$G$1:$G$17,A111), COUNTIF('Reference Data'!$H$1:$H$100,D111)),0,E111*0.035),2)","v":0}]
[{"$nulls":7},{"$f":"ROUND(IF(OR(COUNTIF('Reference Data'!$G$1:$G$17,A112), COUNTIF('Reference Data'!$H$1:$H$100,D112)),0,E112*0.035),2)","v":0}]
[{"$nulls":7},{"$f":"ROUND(IF(OR(COUNTIF('Reference Data'!$G$1:$G$17,A113), COUNTIF('Reference Data'!$H$1:$H$100,D113)),0,E113*0.035),2)","v":0}]
[{"$nulls":7},{"$f":"ROUND(IF(OR(COUNTIF('Reference Data'!$G$1:$G$17,A114), COUNTIF('Reference Data'!$H$1:$H$100,D114)),0,E114*0.035),2)","v":0}]
[{"$nulls":7},{"$f":"ROUND(IF(OR(COUNTIF('Reference Data'!$G$1:$G$17,A115), COUNTIF('Reference Data'!$H$1:$H$100,D115)),0,E115*0.035),2)","v":0}]
[{"$nulls":7},{"$f":"ROUND(IF(OR(COUNTIF('Reference Data'!$G$1:$G$17,A116), COUNTIF('Reference Data'!$H$1:$H$100,D116)),0,E116*0.035),2)","v":0}]
[{"$nulls":7},{"$f":"ROUND(IF(OR(COUNTIF('Reference Data'!$G$1:$G$17,A117), COUNTIF('Reference Data'!$H$1:$H$100,D117)),0,E117*0.035),2)","v":0}]
[{"$nulls":7},{"$f":"ROUND(IF(OR(COUNTIF('Reference Data'!$G$1:$G$17,A118), COUNTIF('Reference Data'!$H$1:$H$100,D118)),0,E118*0.035),2)","v":0}]
[{"$nulls":7},{"$f":"ROUND(IF(OR(COUNTIF('Reference Data'!$G$1:$G$17,A119), COUNTIF('Reference Data'!$H$1:$H$100,D119)),0,E119*0.035),2)","v":0}]
[{"$nulls":7},{"$f":"ROUND(IF(OR(COUNTIF('Reference Data'!$G$1:$G$17,A120), COUNTIF('Reference Data'!$H$1:$H$100,D120)),0,E120*0.035),2)","v":0}]
[{"$nulls":7},{"$f":"ROUND(IF(OR(COUNTIF('Reference Data'!$G$1:$G$17,A121), COUNTIF('Reference Data'!$H$1:$H$100,D121)),0,E121*0.035),2)","v":0}]
[{"$nulls":7},{"$f":"ROUND(IF(OR(COUNTIF('Reference Data'!$G$1:$G$17,A122), COUNTIF('Reference Data'!$H$1:$H$100,D122)),0,E122*0.035),2)","v":0}]
[{"$nulls":7},{"$f":"ROUND(IF(OR(COUNTIF('Reference Data'!$G$1:$G$17,A123), COUNTIF('Reference Data'!$H$1:$H$100,D123)),0,E123*0.035),2)","v":0}]
[{"$nulls":7},{"$f":"ROUND(IF(OR(COUNTIF('Reference Data'!$G$1:$G$17,A124), COUNTIF('Reference Data'!$H$1:$H$100,D124)),0,E124*0.035),2)","v":0}]
[{"$nulls":7},{"$f":"ROUND(IF(OR(COUNTIF('Reference Data'!$G$1:$G$17,A125), COUNTIF('Reference Data'!$H$1:$H$100,D125)),0,E125*0.035),2)","v":0}]
[{"$nulls":7},{"$f":"ROUND(IF(OR(COUNTIF('Reference Data'!$G$1:$G$17,A126), COUNTIF('Reference Data'!$H$1:$H$100,D126)),0,E126*0.035),2)","v":0}]
[{"$nulls":7},{"$f":"ROUND(IF(OR(COUNTIF('Reference Data'!$G$1:$G$17,A127), COUNTIF('Reference Data'!$H$1:$H$100,D127)),0,E127*0.035),2)","v":0}]
[{"$nulls":7},{"$f":"ROUND(IF(OR(COUNTIF('Reference Data'!$G$1:$G$17,A128), COUNTIF('Reference Data'!$H$1:$H$100,D128)),0,E128*0.035),2)","v":0}]
[{"$nulls":7},{"$f":"ROUND(IF(OR(COUNTIF('Reference Data'!$G$1:$G$17,A129), COUNTIF('Reference Data'!$H$1:$H$100,D129)),0,E129*0.035),2)","v":0}]
[{"$nulls":7},{"$f":"ROUND(IF(OR(COUNTIF('Reference Data'!$G$1:$G$17,A130), COUNTIF('Reference Data'!$H$1:$H$100,D130)),0,E130*0.035),2)","v":0}]
[{"$nulls":7},{"$f":"ROUND(IF(OR(COUNTIF('Reference Data'!$G$1:$G$17,A131), COUNTIF('Reference Data'!$H$1:$H$100,D131)),0,E131*0.035),2)","v":0}]
[{"$nulls":7},{"$f":"ROUND(IF(OR(COUNTIF('Reference Data'!$G$1:$G$17,A132), COUNTIF('Reference Data'!$H$1:$H$100,D132)),0,E132*0.035),2)","v":0}]
[{"$nulls":7},{"$f":"ROUND(IF(OR(COUNTIF('Reference Data'!$G$1:$G$17,A133), COUNTIF('Reference Data'!$H$1:$H$100,D133)),0,E133*0.035),2)","v":0}]
[{"$nulls":7},{"$f":"ROUND(IF(OR(COUNTIF('Reference Data'!$G$1:$G$17,A134), COUNTIF('Reference Data'!$H$1:$H$100,D134)),0,E134*0.035),2)","v":0}]
[{"$nulls":7},{"$f":"ROUND(IF(OR(COUNTIF('Reference Data'!$G$1:$G$17,A135), COUNTIF('Reference Data'!$H$1:$H$100,D135)),0,E135*0.035),2)","v":0}]
[{"$nulls":7},{"$f":"ROUND(IF(OR(COUNTIF('Reference Data'!$G$1:$G$17,A136), COUNTIF('Reference Data'!$H$1:$H$100,D136)),0,E136*0.035),2)","v":0}]
[{"$nulls":7},{"$f":"ROUND(IF(OR(COUNTIF('Reference Data'!$G$1:$G$17,A137), COUNTIF('Reference Data'!$H$1:$H$100,D137)),0,E137*0.035),2)","v":0}]
[{"$nulls":7},{"$f":"ROUND(IF(OR(COUNTIF('Reference Data'!$G$1:$G$17,A138), COUNTIF('Reference Data'!$H$1:$H$100,D138)),0,E138*0.035),2)","v":0}]
[{"$nulls":7},{"$f":"ROUND(IF(OR(COUNTIF('Reference Data'!$G$1:$G$17,A139), COUNTIF('Reference Data'!$H$1:$H$100,D139)),0,E139*0.035),2)","v":0}]
[{"$nulls":7},{"$f":"ROUND(IF(OR(COUNTIF('Reference Data'!$G$1:$G$17,A140), COUNTIF('Reference Data'!$H$1:$H$100,D140)),0,E140*0.035),2)","v":0}]
[{"$nulls":7},{"$f":"ROUND(IF(OR(COUNTIF('Reference Data'!$G$1:$G$17,A141), COUNTIF('Reference Data'!$H$1:$H$100,D141)),0,E141*0.035),2)","v":0}]
[{"$nulls":7},{"$f":"ROUND(IF(OR(COUNTIF('Reference Data'!$G$1:$G$17,A142), COUNTIF('Reference Data'!$H$1:$H$100,D142)),0,E142*0.035),2)","v":0}]
[{"$nulls":7},{"$f":"ROUND(IF(OR(COUNTIF('Reference Data'!$G$1:$G$17,A143), COUNTIF('Reference Data'!$H$1:$H$100,D143)),0,E143*0.035),2)","v":0}]
[{"$nulls":7},{"$f":"ROUND(IF(OR(COUNTIF('Reference Data'!$G$1:$G$17,A144), COUNTIF('Reference Data'!$H$1:$H$100,D144)),0,E144*0.035),2)","v":0}]
[{"$nulls":7},{"$f":"ROUND(IF(OR(COUNTIF('Reference Data'!$G$1:$G$17,A145), COUNTIF('Reference Data'!$H$1:$H$100,D145)),0,E145*0.035),2)","v":0}]
[{"$nulls":7},{"$f":"ROUND(IF(OR(COUNTIF('Reference Data'!$G$1:$G$17,A146), COUNTIF('Reference Data'!$H$1:$H$100,D146)),0,E146*0.035),2)","v":0}]
[{"$nulls":7},{"$f":"ROUND(IF(OR(COUNTIF('Reference Data'!$G$1:$G$17,A147), COUNTIF('Reference Data'!$H$1:$H$100,D147)),0,E147*0.035),2)","v":0}]
[{"$nulls":7},{"$f":"ROUND(IF(OR(COUNTIF('Reference Data'!$G$1:$G$17,A148), COUNTIF('Reference Data'!$H$1:$H$100,D148)),0,E148*0.035),2)","v":0}]
[{"$nulls":7},{"$f":"ROUND(IF(OR(COUNTIF('Reference Data'!$G$1:$G$17,A149), COUNTIF('Reference Data'!$H$1:$H$100,D149)),0,E149*0.035),2)","v":0}]
[{"$nulls":7},{"$f":"ROUND(IF(OR(COUNTIF('Reference Data'!$G$1:$G$17,A150), COUNTIF('Reference Data'!$H$1:$H$100,D150)),0,E150*0.035),2)","v":0}]
[{"$nulls":7},{"$f":"ROUND(IF(OR(COUNTIF('Reference Data'!$G$1:$G$17,A151), COUNTIF('Reference Data'!$H$1:$H$100,D151)),0,E151*0.035),2)","v":0}]
[{"$nulls":7},{"$f":"ROUND(IF(OR(COUNTIF('Reference Data'!$G$1:$G$17,A152), COUNTIF('Reference Data'!$H$1:$H$100,D152)),0,E152*0.035),2)","v":0}]
[{"$nulls":7},{"$f":"ROUND(IF(OR(COUNTIF('Reference Data'!$G$1:$G$17,A153), COUNTIF('Reference Data'!$H$1:$H$100,D153)),0,E153*0.035),2)","v":0}]
[{"$nulls":7},{"$f":"ROUND(IF(OR(COUNTIF('Reference Data'!$G$1:$G$17,A154), COUNTIF('Reference Data'!$H$1:$H$100,D154)),0,E154*0.035),2)","v":0}]
[{"$nulls":7},{"$f":"ROUND(IF(OR(COUNTIF('Reference Data'!$G$1:$G$17,A155), COUNTIF('Reference Data'!$H$1:$H$100,D155)),0,E155*0.035),2)","v":0}]
[{"$nulls":7},{"$f":"ROUND(IF(OR(COUNTIF('Reference Data'!$G$1:$G$17,A156), COUNTIF('Reference Data'!$H$1:$H$100,D156)),0,E156*0.035),2)","v":0}]
[{"$nulls":7},{"$f":"ROUND(IF(OR(COUNTIF('Reference Data'!$G$1:$G$17,A157), COUNTIF('Reference Data'!$H$1:$H$100,D157)),0,E157*0.035),2)","v":0}]
[{"$nulls":7},{"$f":"ROUND(IF(OR(COUNTIF('Reference Data'!$G$1:$G$17,A158), COUNTIF('Reference Data'!$H$1:$H$100,D158)),0,E158*0.035),2)","v":0}]
[{"$nulls":7},{"$f":"ROUND(IF(OR(COUNTIF('Reference Data'!$G$1:$G$17,A159), COUNTIF('Reference Data'!$H$1:$H$100,D159)),0,E159*0.035),2)","v":0}]
[{"$nulls":7},{"$f":"ROUND(IF(OR(COUNTIF('Reference Data'!$G$1:$G$17,A160), COUNTIF('Reference Data'!$H$1:$H$100,D160)),0,E160*0.035),2)","v":0}]
[{"$nulls":7},{"$f":"ROUND(IF(OR(COUNTIF('Reference Data'!$G$1:$G$17,A161), COUNTIF('Reference Data'!$H$1:$H$100,D161)),0,E161*0.035),2)","v":0}]
[{"$nulls":7},{"$f":"ROUND(IF(OR(COUNTIF('Reference Data'!$G$1:$G$17,A162), COUNTIF('Reference Data'!$H$1:$H$100,D162)),0,E162*0.035),2)","v":0}]
[{"$nulls":7},{"$f":"ROUND(IF(OR(COUNTIF('Reference Data'!$G$1:$G$17,A163), COUNTIF('Reference Data'!$H$1:$H$100,D163)),0,E163*0.035),2)","v":0}]
[{"$nulls":7},{"$f":"ROUND(IF(OR(COUNTIF('Reference Data'!$G$1:$G$17,A164), COUNTIF('Reference Data'!$H$1:$H$100,D164)),0,E164*0.035),2)","v":0}]
[{"$nulls":7},{"$f":"ROUND(IF(OR(COUNTIF('Reference Data'!$G$1:$G$17,A165), COUNTIF('Reference Data'!$H$1:$H$100,D165)),0,E165*0.035),2)","v":0}]
[{"$nulls":7},{"$f":"ROUND(IF(OR(COUNTIF('Reference Data'!$G$1:$G$17,A166), COUNTIF('Reference Data'!$H$1:$H$100,D166)),0,E166*0.035),2)","v":0}]
[{"$nulls":7},{"$f":"ROUND(IF(OR(COUNTIF('Reference Data'!$G$1:$G$17,A167), COUNTIF('Reference Data'!$H$1:$H$100,D167)),0,E167*0.035),2)","v":0}]
[{"$nulls":7},{"$f":"ROUND(IF(OR(COUNTIF('Reference Data'!$G$1:$G$17,A168), COUNTIF('Reference Data'!$H$1:$H$100,D168)),0,E168*0.035),2)","v":0}]
[{"$nulls":7},{"$f":"ROUND(IF(OR(COUNTIF('Reference Data'!$G$1:$G$17,A169), COUNTIF('Reference Data'!$H$1:$H$100,D169)),0,E169*0.035),2)","v":0}]
[{"$nulls":7},{"$f":"ROUND(IF(OR(COUNTIF('Reference Data'!$G$1:$G$17,A170), COUNTIF('Reference Data'!$H$1:$H$100,D170)),0,E170*0.035),2)","v":0}]
[{"$nulls":7},{"$f":"ROUND(IF(OR(COUNTIF('Reference Data'!$G$1:$G$17,A171), COUNTIF('Reference Data'!$H$1:$H$100,D171)),0,E171*0.035),2)","v":0}]
[{"$nulls":7},{"$f":"ROUND(IF(OR(COUNTIF('Reference Data'!$G$1:$G$17,A172), COUNTIF('Reference Data'!$H$1:$H$100,D172)),0,E172*0.035),2)","v":0}]
[{"$nulls":7},{"$f":"ROUND(IF(OR(COUNTIF('Reference Data'!$G$1:$G$17,A173), COUNTIF('Reference Data'!$H$1:$H$100,D173)),0,E173*0.035),2)","v":0}]
[{"$nulls":7},{"$f":"ROUND(IF(OR(COUNTIF('Reference Data'!$G$1:$G$17,A174), COUNTIF('Reference Data'!$H$1:$H$100,D174)),0,E174*0.035),2)","v":0}]
[{"$nulls":7},{"$f":"ROUND(IF(OR(COUNTIF('Reference Data'!$G$1:$G$17,A175), COUNTIF('Reference Data'!$H$1:$H$100,D175)),0,E175*0.035),2)","v":0}]
[{"$nulls":7},{"$f":"ROUND(IF(OR(COUNTIF('Reference Data'!$G$1:$G$17,A176), COUNTIF('Reference Data'!$H$1:$H$100,D176)),0,E176*0.035),2)","v":0}]
[{"$nulls":7},{"$f":"ROUND(IF(OR(COUNTIF('Reference Data'!$G$1:$G$17,A177), COUNTIF('Reference Data'!$H$1:$H$100,D177)),0,E177*0.035),2)","v":0}]
[{"$nulls":7},{"$f":"ROUND(IF(OR(COUNTIF('Reference Data'!$G$1:$G$17,A178), COUNTIF('Reference Data'!$H$1:$H$100,D178)),0,E178*0.035),2)","v":0}]
[{"$nulls":7},{"$f":"ROUND(IF(OR(COUNTIF('Reference Data'!$G$1:$G$17,A179), COUNTIF('Reference Data'!$H$1:$H$100,D179)),0,E179*0.035),2)","v":0}]
[{"$nulls":7},{"$f":"ROUND(IF(OR(COUNTIF('Reference Data'!$G$1:$G$17,A180), COUNTIF('Reference Data'!$H$1:$H$100,D180)),0,E180*0.035),2)","v":0}]
[{"$nulls":7},{"$f":"ROUND(IF(OR(COUNTIF('Reference Data'!$G$1:$G$17,A181), COUNTIF('Reference Data'!$H$1:$H$100,D181)),0,E181*0.035),2)","v":0}]
[{"$nulls":7},{"$f":"ROUND(IF(OR(COUNTIF('Reference Data'!$G$1:$G$17,A182), COUNTIF('Reference Data'!$H$1:$H$100,D182)),0,E182*0.035),2)","v":0}]
[{"$nulls":7},{"$f":"ROUND(IF(OR(COUNTIF('Reference Data'!$G$1:$G$17,A183), COUNTIF('Reference Data'!$H$1:$H$100,D183)),0,E183*0.035),2)","v":0}]
[{"$nulls":7},{"$f":"ROUND(IF(OR(COUNTIF('Reference Data'!$G$1:$G$17,A184), COUNTIF('Reference Data'!$H$1:$H$100,D184)),0,E184*0.035),2)","v":0}]
[{"$nulls":7},{"$f":"ROUND(IF(OR(COUNTIF('Reference Data'!$G$1:$G$17,A185), COUNTIF('Reference Data'!$H$1:$H$100,D185)),0,E185*0.035),2)","v":0}]
[{"$nulls":7},{"$f":"ROUND(IF(OR(COUNTIF('Reference Data'!$G$1:$G$17,A186), COUNTIF('Reference Data'!$H$1:$H$100,D186)),0,E186*0.035),2)","v":0}]
[{"$nulls":7},{"$f":"ROUND(IF(OR(COUNTIF('Reference Data'!$G$1:$G$17,A187), COUNTIF('Reference Data'!$H$1:$H$100,D187)),0,E187*0.035),2)","v":0}]
[{"$nulls":7},{"$f":"ROUND(IF(OR(COUNTIF('Reference Data'!$G$1:$G$17,A188), COUNTIF('Reference Data'!$H$1:$H$100,D188)),0,E188*0.035),2)","v":0}]
[{"$nulls":7},{"$f":"ROUND(IF(OR(COUNTIF('Reference Data'!$G$1:$G$17,A189), COUNTIF('Reference Data'!$H$1:$H$100,D189)),0,E189*0.035),2)","v":0}]
[{"$nulls":7},{"$f":"ROUND(IF(OR(COUNTIF('Reference Data'!$G$1:$G$17,A190), COUNTIF('Reference Data'!$H$1:$H$100,D190)),0,E190*0.035),2)","v":0}]
[{"$nulls":7},{"$f":"ROUND(IF(OR(COUNTIF('Reference Data'!$G$1:$G$17,A191), COUNTIF('Reference Data'!$H$1:$H$100,D191)),0,E191*0.035),2)","v":0}]
[{"$nulls":7},{"$f":"ROUND(IF(OR(COUNTIF('Reference Data'!$G$1:$G$17,A192), COUNTIF('Reference Data'!$H$1:$H$100,D192)),0,E192*0.035),2)","v":0}]
[{"$nulls":7},{"$f":"ROUND(IF(OR(COUNTIF('Reference Data'!$G$1:$G$17,A193), COUNTIF('Reference Data'!$H$1:$H$100,D193)),0,E193*0.035),2)","v":0}]
[{"$nulls":7},{"$f":"ROUND(IF(OR(COUNTIF('Reference Data'!$G$1:$G$17,A194), COUNTIF('Reference Data'!$H$1:$H$100,D194)),0,E194*0.035),2)","v":0}]
[{"$nulls":7},{"$f":"ROUND(IF(OR(COUNTIF('Reference Data'!$G$1:$G$17,A195), COUNTIF('Reference Data'!$H$1:$H$100,D195)),0,E195*0.035),2)","v":0}]
[{"$nulls":7},{"$f":"ROUND(IF(OR(COUNTIF('Reference Data'!$G$1:$G$17,A196), COUNTIF('Reference Data'!$H$1:$H$100,D196)),0,E196*0.035),2)","v":0}]
[{"$nulls":7},{"$f":"ROUND(IF(OR(COUNTIF('Reference Data'!$G$1:$G$17,A197), COUNTIF('Reference Data'!$H$1:$H$100,D197)),0,E197*0.035),2)","v":0}]
[{"$nulls":7},{"$f":"ROUND(IF(OR(COUNTIF('Reference Data'!$G$1:$G$17,A198), COUNTIF('Reference Data'!$H$1:$H$100,D198)),0,E198*0.035),2)","v":0}]
[{"$nulls":7},{"$f":"ROUND(IF(OR(COUNTIF('Reference Data'!$G$1:$G$17,A199), COUNTIF('Reference Data'!$H$1:$H$100,D199)),0,E199*0.035),2)","v":0}]
[{"$nulls":7},{"$f":"ROUND(IF(OR(COUNTIF('Reference Data'!$G$1:$G$17,A200), COUNTIF('Reference Data'!$H$1:$H$100,D200)),0,E200*0.035),2)","v":0}]
[{"$nulls":7},{"$f":"ROUND(IF(OR(COUNTIF('Reference Data'!$G$1:$G$17,A201), COUNTIF('Reference Data'!$H$1:$H$100,D201)),0,E201*0.035),2)","v":0}]
[{"$nulls":7},{"$f":"ROUND(IF(OR(COUNTIF('Reference Data'!$G$1:$G$17,A202), COUNTIF('Reference Data'!$H$1:$H$100,D202)),0,E202*0.035),2)","v":0}]
[{"$nulls":7},{"$f":"ROUND(IF(OR(COUNTIF('Reference Data'!$G$1:$G$17,A203), COUNTIF('Reference Data'!$H$1:$H$100,D203)),0,E203*0.035),2)","v":0}]
[{"$nulls":7},{"$f":"ROUND(IF(OR(COUNTIF('Reference Data'!$G$1:$G$17,A204), COUNTIF('Reference Data'!$H$1:$H$100,D204)),0,E204*0.035),2)","v":0}]
[{"$nulls":7},{"$f":"ROUND(IF(OR(COUNTIF('Reference Data'!$G$1:$G$17,A205), COUNTIF('Reference Data'!$H$1:$H$100,D205)),0,E205*0.035),2)","v":0}]
[{"$nulls":7},{"$f":"ROUND(IF(OR(COUNTIF('Reference Data'!$G$1:$G$17,A206), COUNTIF('Reference Data'!$H$1:$H$100,D206)),0,E206*0.035),2)","v":0}]
[{"$nulls":7},{"$f":"ROUND(IF(OR(COUNTIF('Reference Data'!$G$1:$G$17,A207), COUNTIF('Reference Data'!$H$1:$H$100,D207)),0,E207*0.035),2)","v":0}]
[{"$nulls":7},{"$f":"ROUND(IF(OR(COUNTIF('Reference Data'!$G$1:$G$17,A208), COUNTIF('Reference Data'!$H$1:$H$100,D208)),0,E208*0.035),2)","v":0}]
[{"$nulls":7},{"$f":"ROUND(IF(OR(COUNTIF('Reference Data'!$G$1:$G$17,A209), COUNTIF('Reference Data'!$H$1:$H$100,D209)),0,E209*0.035),2)","v":0}]
[{"$nulls":7},{"$f":"ROUND(IF(OR(COUNTIF('Reference Data'!$G$1:$G$17,A210), COUNTIF('Reference Data'!$H$1:$H$100,D210)),0,E210*0.035),2)","v":0}]
[{"$nulls":7},{"$f":"ROUND(IF(OR(COUNTIF('Reference Data'!$G$1:$G$17,A211), COUNTIF('Reference Data'!$H$1:$H$100,D211)),0,E211*0.035),2)","v":0}]
[{"$nulls":7},{"$f":"ROUND(IF(OR(COUNTIF('Reference Data'!$G$1:$G$17,A212), COUNTIF('Reference Data'!$H$1:$H$100,D212)),0,E212*0.035),2)","v":0}]
[{"$nulls":7},{"$f":"ROUND(IF(OR(COUNTIF('Reference Data'!$G$1:$G$17,A213), COUNTIF('Reference Data'!$H$1:$H$100,D213)),0,E213*0.035),2)","v":0}]
[{"$nulls":7},{"$f":"ROUND(IF(OR(COUNTIF('Reference Data'!$G$1:$G$17,A214), COUNTIF('Reference Data'!$H$1:$H$100,D214)),0,E214*0.035),2)","v":0}]
[{"$nulls":7},{"$f":"ROUND(IF(OR(COUNTIF('Reference Data'!$G$1:$G$17,A215), COUNTIF('Reference Data'!$H$1:$H$100,D215)),0,E215*0.035),2)","v":0}]
[{"$nulls":7},{"$f":"ROUND(IF(OR(COUNTIF('Reference Data'!$G$1:$G$17,A216), COUNTIF('Reference Data'!$H$1:$H$100,D216)),0,E216*0.035),2)","v":0}]
[{"$nulls":7},{"$f":"ROUND(IF(OR(COUNTIF('Reference Data'!$G$1:$G$17,A217), COUNTIF('Reference Data'!$H$1:$H$100,D217)),0,E217*0.035),2)","v":0}]
[{"$nulls":7},{"$f":"ROUND(IF(OR(COUNTIF('Reference Data'!$G$1:$G$17,A218), COUNTIF('Reference Data'!$H$1:$H$100,D218)),0,E218*0.035),2)","v":0}]
[{"$nulls":7},{"$f":"ROUND(IF(OR(COUNTIF('Reference Data'!$G$1:$G$17,A219), COUNTIF('Reference Data'!$H$1:$H$100,D219)),0,E219*0.035),2)","v":0}]
[{"$nulls":7},{"$f":"ROUND(IF(OR(COUNTIF('Reference Data'!$G$1:$G$17,A220), COUNTIF('Reference Data'!$H$1:$H$100,D220)),0,E220*0.035),2)","v":0}]
[{"$nulls":7},{"$f":"ROUND(IF(OR(COUNTIF('Reference Data'!$G$1:$G$17,A221), COUNTIF('Reference Data'!$H$1:$H$100,D221)),0,E221*0.035),2)","v":0}]
[{"$nulls":7},{"$f":"ROUND(IF(OR(COUNTIF('Reference Data'!$G$1:$G$17,A222), COUNTIF('Reference Data'!$H$1:$H$100,D222)),0,E222*0.035),2)","v":0}]
[{"$nulls":7},{"$f":"ROUND(IF(OR(COUNTIF('Reference Data'!$G$1:$G$17,A223), COUNTIF('Reference Data'!$H$1:$H$100,D223)),0,E223*0.035),2)","v":0}]
[{"$nulls":7},{"$f":"ROUND(IF(OR(COUNTIF('Reference Data'!$G$1:$G$17,A224), COUNTIF('Reference Data'!$H$1:$H$100,D224)),0,E224*0.035),2)","v":0}]
[{"$nulls":7},{"$f":"ROUND(IF(OR(COUNTIF('Reference Data'!$G$1:$G$17,A225), COUNTIF('Reference Data'!$H$1:$H$100,D225)),0,E225*0.035),2)","v":0}]
[{"$nulls":7},{"$f":"ROUND(IF(OR(COUNTIF('Reference Data'!$G$1:$G$17,A226), COUNTIF('Reference Data'!$H$1:$H$100,D226)),0,E226*0.035),2)","v":0}]
[{"$nulls":7},{"$f":"ROUND(IF(OR(COUNTIF('Reference Data'!$G$1:$G$17,A227), COUNTIF('Reference Data'!$H$1:$H$100,D227)),0,E227*0.035),2)","v":0}]
[{"$nulls":7},{"$f":"ROUND(IF(OR(COUNTIF('Reference Data'!$G$1:$G$17,A228), COUNTIF('Reference Data'!$H$1:$H$100,D228)),0,E228*0.035),2)","v":0}]
[{"$nulls":7},{"$f":"ROUND(IF(OR(COUNTIF('Reference Data'!$G$1:$G$17,A229), COUNTIF('Reference Data'!$H$1:$H$100,D229)),0,E229*0.035),2)","v":0}]
[{"$nulls":7},{"$f":"ROUND(IF(OR(COUNTIF('Reference Data'!$G$1:$G$17,A230), COUNTIF('Reference Data'!$H$1:$H$100,D230)),0,E230*0.035),2)","v":0}]
[{"$nulls":7},{"$f":"ROUND(IF(OR(COUNTIF('Reference Data'!$G$1:$G$17,A231), COUNTIF('Reference Data'!$H$1:$H$100,D231)),0,E231*0.035),2)","v":0}]
[{"$nulls":7},{"$f":"ROUND(IF(OR(COUNTIF('Reference Data'!$G$1:$G$17,A232), COUNTIF('Reference Data'!$H$1:$H$100,D232)),0,E232*0.035),2)","v":0}]
[{"$nulls":7},{"$f":"ROUND(IF(OR(COUNTIF('Reference Data'!$G$1:$G$17,A233), COUNTIF('Reference Data'!$H$1:$H$100,D233)),0,E233*0.035),2)","v":0}]
[{"$nulls":7},{"$f":"ROUND(IF(OR(COUNTIF('Reference Data'!$G$1:$G$17,A234), COUNTIF('Reference Data'!$H$1:$H$100,D234)),0,E234*0.035),2)","v":0}]
[{"$nulls":7},{"$f":"ROUND(IF(OR(COUNTIF('Reference Data'!$G$1:$G$17,A235), COUNTIF('Reference Data'!$H$1:$H$100,D235)),0,E235*0.035),2)","v":0}]
[{"$nulls":7},{"$f":"ROUND(IF(OR(COUNTIF('Reference Data'!$G$1:$G$17,A236), COUNTIF('Reference Data'!$H$1:$H$100,D236)),0,E236*0.035),2)","v":0}]
[{"$nulls":7},{"$f":"ROUND(IF(OR(COUNTIF('Reference Data'!$G$1:$G$17,A237), COUNTIF('Reference Data'!$H$1:$H$100,D237)),0,E237*0.035),2)","v":0}]
[{"$nulls":7},{"$f":"ROUND(IF(OR(COUNTIF('Reference Data'!$G$1:$G$17,A238), COUNTIF('Reference Data'!$H$1:$H$100,D238)),0,E238*0.035),2)","v":0}]
[{"$nulls":7},{"$f":"ROUND(IF(OR(COUNTIF('Reference Data'!$G$1:$G$17,A239), COUNTIF('Reference Data'!$H$1:$H$100,D239)),0,E239*0.035),2)","v":0}]
[{"$nulls":7},{"$f":"ROUND(IF(OR(COUNTIF('Reference Data'!$G$1:$G$17,A240), COUNTIF('Reference Data'!$H$1:$H$100,D240)),0,E240*0.035),2)","v":0}]
[{"$nulls":7},{"$f":"ROUND(IF(OR(COUNTIF('Reference Data'!$G$1:$G$17,A241), COUNTIF('Reference Data'!$H$1:$H$100,D241)),0,E241*0.035),2)","v":0}]
[{"$nulls":7},{"$f":"ROUND(IF(OR(COUNTIF('Reference Data'!$G$1:$G$17,A242), COUNTIF('Reference Data'!$H$1:$H$100,D242)),0,E242*0.035),2)","v":0}]
[{"$nulls":7},{"$f":"ROUND(IF(OR(COUNTIF('Reference Data'!$G$1:$G$17,A243), COUNTIF('Reference Data'!$H$1:$H$100,D243)),0,E243*0.035),2)","v":0}]
[{"$nulls":7},{"$f":"ROUND(IF(OR(COUNTIF('Reference Data'!$G$1:$G$17,A244), COUNTIF('Reference Data'!$H$1:$H$100,D244)),0,E244*0.035),2)","v":0}]
[{"$nulls":7},{"$f":"ROUND(IF(OR(COUNTIF('Reference Data'!$G$1:$G$17,A245), COUNTIF('Reference Data'!$H$1:$H$100,D245)),0,E245*0.035),2)","v":0}]
[{"$nulls":7},{"$f":"ROUND(IF(OR(COUNTIF('Reference Data'!$G$1:$G$17,A246), COUNTIF('Reference Data'!$H$1:$H$100,D246)),0,E246*0.035),2)","v":0}]
[{"$nulls":7},{"$f":"ROUND(IF(OR(COUNTIF('Reference Data'!$G$1:$G$17,A247), COUNTIF('Reference Data'!$H$1:$H$100,D247)),0,E247*0.035),2)","v":0}]
[{"$nulls":7},{"$f":"ROUND(IF(OR(COUNTIF('Reference Data'!$G$1:$G$17,A248), COUNTIF('Reference Data'!$H$1:$H$100,D248)),0,E248*0.035),2)","v":0}]
[{"$nulls":7},{"$f":"ROUND(IF(OR(COUNTIF('Reference Data'!$G$1:$G$17,A249), COUNTIF('Reference Data'!$H$1:$H$100,D249)),0,E249*0.035),2)","v":0}]
[{"$nulls":7},{"$f":"ROUND(IF(OR(COUNTIF('Reference Data'!$G$1:$G$17,A250), COUNTIF('Reference Data'!$H$1:$H$100,D250)),0,E250*0.035),2)","v":0}]
[{"$nulls":7},{"$f":"ROUND(IF(OR(COUNTIF('Reference Data'!$G$1:$G$17,A251), COUNTIF('Reference Data'!$H$1:$H$100,D251)),0,E251*0.035),2)","v":0}]
[{"$nulls":7},{"$f":"ROUND(IF(OR(COUNTIF('Reference Data'!$G$1:$G$17,A252), COUNTIF('Reference Data'!$H$1:$H$100,D252)),0,E252*0.035),2)","v":0}]
[{"$nulls":7},{"$f":"ROUND(IF(OR(COUNTIF('Reference Data'!$G$1:$G$17,A253), COUNTIF('Reference Data'!$H$1:$H$100,D253)),0,E253*0.035),2)","v":0}]
[{"$nulls":7},{"$f":"ROUND(IF(OR(COUNTIF('Reference Data'!$G$1:$G$17,A254), COUNTIF('Reference Data'!$H$1:$H$100,D254)),0,E254*0.035),2)","v":0}]
[{"$nulls":7},{"$f":"ROUND(IF(OR(COUNTIF('Reference Data'!$G$1:$G$17,A255), COUNTIF('Reference Data'!$H$1:$H$100,D255)),0,E255*0.035),2)","v":0}]
[{"$nulls":7},{"$f":"ROUND(IF(OR(COUNTIF('Reference Data'!$G$1:$G$17,A256), COUNTIF('Reference Data'!$H$1:$H$100,D256)),0,E256*0.035),2)","v":0}]
[{"$nulls":7},{"$f":"ROUND(IF(OR(COUNTIF('Reference Data'!$G$1:$G$17,A257), COUNTIF('Reference Data'!$H$1:$H$100,D257)),0,E257*0.035),2)","v":0}]
[{"$nulls":7},{"$f":"ROUND(IF(OR(COUNTIF('Reference Data'!$G$1:$G$17,A258), COUNTIF('Reference Data'!$H$1:$H$100,D258)),0,E258*0.035),2)","v":0}]
[{"$nulls":7},{"$f":"ROUND(IF(OR(COUNTIF('Reference Data'!$G$1:$G$17,A259), COUNTIF('Reference Data'!$H$1:$H$100,D259)),0,E259*0.035),2)","v":0}]
[{"$nulls":7},{"$f":"ROUND(IF(OR(COUNTIF('Reference Data'!$G$1:$G$17,A260), COUNTIF('Reference Data'!$H$1:$H$100,D260)),0,E260*0.035),2)","v":0}]
[{"$nulls":7},{"$f":"ROUND(IF(OR(COUNTIF('Reference Data'!$G$1:$G$17,A261), COUNTIF('Reference Data'!$H$1:$H$100,D261)),0,E261*0.035),2)","v":0}]
[{"$nulls":7},{"$f":"ROUND(IF(OR(COUNTIF('Reference Data'!$G$1:$G$17,A262), COUNTIF('Reference Data'!$H$1:$H$100,D262)),0,E262*0.035),2)","v":0}]
[{"$nulls":7},{"$f":"ROUND(IF(OR(COUNTIF('Reference Data'!$G$1:$G$17,A263), COUNTIF('Reference Data'!$H$1:$H$100,D263)),0,E263*0.035),2)","v":0}]
[{"$nulls":7},{"$f":"ROUND(IF(OR(COUNTIF('Reference Data'!$G$1:$G$17,A264), COUNTIF('Reference Data'!$H$1:$H$100,D264)),0,E264*0.035),2)","v":0}]
[{"$nulls":7},{"$f":"ROUND(IF(OR(COUNTIF('Reference Data'!$G$1:$G$17,A265), COUNTIF('Reference Data'!$H$1:$H$100,D265)),0,E265*0.035),2)","v":0}]
[{"$nulls":7},{"$f":"ROUND(IF(OR(COUNTIF('Reference Data'!$G$1:$G$17,A266), COUNTIF('Reference Data'!$H$1:$H$100,D266)),0,E266*0.035),2)","v":0}]
[{"$nulls":7},{"$f":"ROUND(IF(OR(COUNTIF('Reference Data'!$G$1:$G$17,A267), COUNTIF('Reference Data'!$H$1:$H$100,D267)),0,E267*0.035),2)","v":0}]
[{"$nulls":7},{"$f":"ROUND(IF(OR(COUNTIF('Reference Data'!$G$1:$G$17,A268), COUNTIF('Reference Data'!$H$1:$H$100,D268)),0,E268*0.035),2)","v":0}]
[{"$nulls":7},{"$f":"ROUND(IF(OR(COUNTIF('Reference Data'!$G$1:$G$17,A269), COUNTIF('Reference Data'!$H$1:$H$100,D269)),0,E269*0.035),2)","v":0}]
[{"$nulls":7},{"$f":"ROUND(IF(OR(COUNTIF('Reference Data'!$G$1:$G$17,A270), COUNTIF('Reference Data'!$H$1:$H$100,D270)),0,E270*0.035),2)","v":0}]
[{"$nulls":7},{"$f":"ROUND(IF(OR(COUNTIF('Reference Data'!$G$1:$G$17,A271), COUNTIF('Reference Data'!$H$1:$H$100,D271)),0,E271*0.035),2)","v":0}]
[{"$nulls":7},{"$f":"ROUND(IF(OR(COUNTIF('Reference Data'!$G$1:$G$17,A272), COUNTIF('Reference Data'!$H$1:$H$100,D272)),0,E272*0.035),2)","v":0}]
[{"$nulls":7},{"$f":"ROUND(IF(OR(COUNTIF('Reference Data'!$G$1:$G$17,A273), COUNTIF('Reference Data'!$H$1:$H$100,D273)),0,E273*0.035),2)","v":0}]
[{"$nulls":7},{"$f":"ROUND(IF(OR(COUNTIF('Reference Data'!$G$1:$G$17,A274), COUNTIF('Reference Data'!$H$1:$H$100,D274)),0,E274*0.035),2)","v":0}]
[{"$nulls":7},{"$f":"ROUND(IF(OR(COUNTIF('Reference Data'!$G$1:$G$17,A275), COUNTIF('Reference Data'!$H$1:$H$100,D275)),0,E275*0.035),2)","v":0}]
[{"$nulls":7},{"$f":"ROUND(IF(OR(COUNTIF('Reference Data'!$G$1:$G$17,A276), COUNTIF('Reference Data'!$H$1:$H$100,D276)),0,E276*0.035),2)","v":0}]
[{"$nulls":7},{"$f":"ROUND(IF(OR(COUNTIF('Reference Data'!$G$1:$G$17,A277), COUNTIF('Reference Data'!$H$1:$H$100,D277)),0,E277*0.035),2)","v":0}]
[{"$nulls":7},{"$f":"ROUND(IF(OR(COUNTIF('Reference Data'!$G$1:$G$17,A278), COUNTIF('Reference Data'!$H$1:$H$100,D278)),0,E278*0.035),2)","v":0}]
[{"$nulls":7},{"$f":"ROUND(IF(OR(COUNTIF('Reference Data'!$G$1:$G$17,A279), COUNTIF('Reference Data'!$H$1:$H$100,D279)),0,E279*0.035),2)","v":0}]
[{"$nulls":7},{"$f":"ROUND(IF(OR(COUNTIF('Reference Data'!$G$1:$G$17,A280), COUNTIF('Reference Data'!$H$1:$H$100,D280)),0,E280*0.035),2)","v":0}]
[{"$nulls":7},{"$f":"ROUND(IF(OR(COUNTIF('Reference Data'!$G$1:$G$17,A281), COUNTIF('Reference Data'!$H$1:$H$100,D281)),0,E281*0.035),2)","v":0}]
[{"$nulls":7},{"$f":"ROUND(IF(OR(COUNTIF('Reference Data'!$G$1:$G$17,A282), COUNTIF('Reference Data'!$H$1:$H$100,D282)),0,E282*0.035),2)","v":0}]
[{"$nulls":7},{"$f":"ROUND(IF(OR(COUNTIF('Reference Data'!$G$1:$G$17,A283), COUNTIF('Reference Data'!$H$1:$H$100,D283)),0,E283*0.035),2)","v":0}]
[{"$nulls":7},{"$f":"ROUND(IF(OR(COUNTIF('Reference Data'!$G$1:$G$17,A284), COUNTIF('Reference Data'!$H$1:$H$100,D284)),0,E284*0.035),2)","v":0}]
[{"$nulls":7},{"$f":"ROUND(IF(OR(COUNTIF('Reference Data'!$G$1:$G$17,A285), COUNTIF('Reference Data'!$H$1:$H$100,D285)),0,E285*0.035),2)","v":0}]
[{"$nulls":7},{"$f":"ROUND(IF(OR(COUNTIF('Reference Data'!$G$1:$G$17,A286), COUNTIF('Reference Data'!$H$1:$H$100,D286)),0,E286*0.035),2)","v":0}]
[{"$nulls":7},{"$f":"ROUND(IF(OR(COUNTIF('Reference Data'!$G$1:$G$17,A287), COUNTIF('Reference Data'!$H$1:$H$100,D287)),0,E287*0.035),2)","v":0}]
[{"$nulls":7},{"$f":"ROUND(IF(OR(COUNTIF('Reference Data'!$G$1:$G$17,A288), COUNTIF('Reference Data'!$H$1:$H$100,D288)),0,E288*0.035),2)","v":0}]
[{"$nulls":7},{"$f":"ROUND(IF(OR(COUNTIF('Reference Data'!$G$1:$G$17,A289), COUNTIF('Reference Data'!$H$1:$H$100,D289)),0,E289*0.035),2)","v":0}]
[{"$nulls":7},{"$f":"ROUND(IF(OR(COUNTIF('Reference Data'!$G$1:$G$17,A290), COUNTIF('Reference Data'!$H$1:$H$100,D290)),0,E290*0.035),2)","v":0}]
[{"$nulls":7},{"$f":"ROUND(IF(OR(COUNTIF('Reference Data'!$G$1:$G$17,A291), COUNTIF('Reference Data'!$H$1:$H$100,D291)),0,E291*0.035),2)","v":0}]
[{"$nulls":7},{"$f":"ROUND(IF(OR(COUNTIF('Reference Data'!$G$1:$G$17,A292), COUNTIF('Reference Data'!$H$1:$H$100,D292)),0,E292*0.035),2)","v":0}]
[{"$nulls":7},{"$f":"ROUND(IF(OR(COUNTIF('Reference Data'!$G$1:$G$17,A293), COUNTIF('Reference Data'!$H$1:$H$100,D293)),0,E293*0.035),2)","v":0}]
[{"$nulls":7},{"$f":"ROUND(IF(OR(COUNTIF('Reference Data'!$G$1:$G$17,A294), COUNTIF('Reference Data'!$H$1:$H$100,D294)),0,E294*0.035),2)","v":0}]
[{"$nulls":7},{"$f":"ROUND(IF(OR(COUNTIF('Reference Data'!$G$1:$G$17,A295), COUNTIF('Reference Data'!$H$1:$H$100,D295)),0,E295*0.035),2)","v":0}]
[{"$nulls":7},{"$f":"ROUND(IF(OR(COUNTIF('Reference Data'!$G$1:$G$17,A296), COUNTIF('Reference Data'!$H$1:$H$100,D296)),0,E296*0.035),2)","v":0}]
[{"$nulls":7},{"$f":"ROUND(IF(OR(COUNTIF('Reference Data'!$G$1:$G$17,A297), COUNTIF('Reference Data'!$H$1:$H$100,D297)),0,E297*0.035),2)","v":0}]
[{"$nulls":7},{"$f":"ROUND(IF(OR(COUNTIF('Reference Data'!$G$1:$G$17,A298), COUNTIF('Reference Data'!$H$1:$H$100,D298)),0,E298*0.035),2)","v":0}]
[{"$nulls":7},{"$f":"ROUND(IF(OR(COUNTIF('Reference Data'!$G$1:$G$17,A299), COUNTIF('Reference Data'!$H$1:$H$100,D299)),0,E299*0.035),2)","v":0}]
[{"$nulls":7},{"$f":"ROUND(IF(OR(COUNTIF('Reference Data'!$G$1:$G$17,A300), COUNTIF('Reference Data'!$H$1:$H$100,D300)),0,E300*0.035),2)","v":0}]
[{"$nulls":7},{"$f":"ROUND(IF(OR(COUNTIF('Reference Data'!$G$1:$G$17,A301), COUNTIF('Reference Data'!$H$1:$H$100,D301)),0,E301*0.035),2)","v":0}]

{"sheet":"Template Instructions","index":5,"n_rows":50,"n_cols":6,"rows_kept":50,"merged":[[25,3,25,4],[26,3,26,4],[27,3,27,4],[28,3,28,4],[29,3,29,4],[30,3,30,4],[31,3,31,4],[32,3,32,4],[33,3,33,4],[34,3,34,4],[35,3,35,4],[36,3,36,4],[37,3,37,4],[38,3,38,4],[39,3,39,4],[40,3,40,4],[41,3,41,4],[42,3,42,4],[43,3,43,4],[44,1,45,1],[44,3,44,4],[45,3,45,4],[46,3,46,4],[47,3,47,4],[48,3,48,4],[49,3,49,4]]}
[]
[null,"Enrollment and Payment Data Template Instructions"]
[null,"Data Template Objective:","To document the total premium, APTC, CSR advance payment, and user fee amounts for all effectuated enrollment groups by Qualified Health Plan (QHP) ID. User fees do not apply to SBMs."]
[null,null,"1.) During each data submission window, submitters will be allowed to submit multiple versions of the Enrollment and Payment Data Template (the \"Template\").  Based on data validation checks, CMS may require submitters to submit updated versions of the Template during each data collection window."]
[null,"Submissions Guidelines:","2.) Submitters will email the Template to the Marketplacepayments@cms.hhs.gov mailbox.  Submitters will be instructed to send the Templates as a ‘reply’ to an email that they get from CMS.  Please ensure that the email subject line retains the issuer's 5-digit HIOS ID.  Additionally, email submissions should include the following information in the body of the email:"]
[null,null,"- Whether this is a resubmission, and reason for the resubmission where necessary"]
[null,null,"- Enrollment and Payment Data Template attachment"]
[null,null,"- Certification of data accuracy"]
[null,null,"1.) Submission Window for May payment initial submission of the Production Enrollment and Payment Data Templates: 4/16/14 - 4/21/14"]
[null,"Data Collection \nTimelines:","2) Submission Window for resubmission of the May Production Enrollment and Payment Data Templates: 4/23/14 -4/25/14"]
[]
[null,null,"1.) In the FFM, data should be submitted for issuers in both the individual and small group markets. For small group market issuers in the FFM, all APTC and CSR enrollment and payment fields on the Template should be listed as zero since SHOP plans do not receive APTC or CSR payments.  FFM SHOP plans must be included in the Template as these plans are subject to user fees."]
[null,null,"2.) In the SBM, data should be submitted for the individual market. User fee amounts will automatically populate to zero if the issuer is participating in an SBM."]
[null,null,"3.) Any stand alone dental issuer expecting to receive no APTC payments for the current collection month is not required to submit an Enrollment and Payment Data workbook.  Such stand alone dental issuers must state that they expect to receive no APTC on the submission certification form."]
[null,null,"4) Enrollment and Payment Data workbooks should not be submitted for issuers with zero enrollments as these plans would have $0  total premium, $0 advance APTC or CSR payments, and $0 user fees. \nIf the submitter is an issuer, the submitter must identify that issuer ID as having no enrollments on the submission certification form.  \nIf the submitter is an SBM, the submitter must omit that issuer ID from the Enrollment and Payment Data workbook and identify that issuer ID as having no enrollments on the submission certification form. "]
[null,null,"5.) If the submitter is an issuer, all information for an issuer should be documented in a single Enrollment and Payment Data Template. Issuers will be identified by the 5 digit HIOS ID."]
[null,"Payment Reporting Completion Information:","6.) If the submitter is an SBM, data for all issuers in the SBM should be included in a single Enrollment and Payment Data Template.  Data should be documented in numerical order by issuer ID.  For example, if an SBM has four participating individual market issuers with enrollment data, data for all four issuers will be included within the same tab in a single Enrollment and Payment Data Template file submission."]
[null,null,"7.) CMS will replace any previously submitted files with the resubmission file.  As a result, when submitters send resubmission files, the file must include the most current data for all issuers.  For example, if during the initial submission, CMS determined that three of the four QHP ID's data required modification, when the submitter sends the corrected data for its three QHP IDs, it must also submit the original data for the fourth QHP ID in the same file.      "]
[null,null,"8.) Blank fields will be treated as zero values in the payment calculations.  Submitters are encouraged to enter zero values instead of leaving fields blank."]
[null,null,"9.) Data should be submitted at the 16-digit QHP ID level (14 digit standard component ID plus 2 digit variant ID, otherwise known as the HIOS Plan ID).  There should be no spaces  between the 14 digit standard component ID and the 2 digit variant ID and no special characters."]
[null,null,"10.) Data submitted should be for QHPs certified by the Marketplace that have at least one enrollee."]
[null,null,"11.) For the May payment month, submitters must send one excel file which includes five worksheets. The first four worksheets include the restatements of enrollment and payment data through April, and the fifth worksheet includes effectuated enrollment and payment data effective May 1 as of April 15, 2014.  "]
[null,null,"ISSUER SUBMITTERS ONLY (NOT APPLICABLE FOR SBM SUBMITTERS)\n12.) For each of the prior months, issuer submitters must either (1) restate enrollment data to ensure that any retroactive enrollment data or enrollments effectuated after March 15, 2014 are captured or (2) indicate that there have been no changes to the data since the last submission cycle in March. \nTo restate prior months' data:\nFor each of the restatement templates, the issuer submitter must select \"Yes\" from the drop down menu in cell D2 to indicate changes in enrollment since the prior submission.   \nNext, the issuer submitter must fill out each of the restatement tabs with current enrollment and payment data for every applicable plan\nThe issuer submitter must also complete the \"May Template\" tab, which contains May enrollment and payment data. \nTo indicate that there have been no changes in data since the last submission cycle:\nFor each of the selected restatement templates, the issuer submitter would select \"No\" from the drop down menu in cell D2 to indicate that there have been no changes in enrollment since the prior submission.  \nThe issuer submitter must not populate the restatement template(s).\nThe issuer submitter must complete the \"May Template\" tab, which contains May enrollment and payment data.  \n \n"]
[null,"File Name \nRequirements","FFM submitters must use the following naming convention for their Excel file submission:\nCharacters 1-3: FFM\nCharacters 4-8: 5 Digit issuer ID (e.g. 56789)\nCharacters 9-14: Date in MMDDYY format (e.g. 041614)\nCharacters 15-18: PROD (all caps)\nCharacters 19-21:  Submission Version of prod file in VXX formate, (e.g. V01)\nSample file name:  FFM56789041614PRODV01\n\nSBMs submitting on behalf of issuers must use the following naming convention for their Excel file submission:\nCharacters 1-3: SBM\nCharacters 4-5: State abbreviation (e.g., CT) \nCharacters 6-11: Date in MMDDYY format (e.g. 041614)\nCharacters 12-15: PROD (all caps)\nCharacters 16-18:  Submission Version of prod file in VXX format, (e.g. V01)\nSample file name:  SBMCT041614PRODV01\n\nSBM issuers submitting on their own behalf must use the following naming convention for the Excel file submission:\nCharacters 1-3: SBM\nCharacters 4-8: 5 Digit issuer ID (e.g. 56789)\nCharacters 9-14: Date in MMDDYY format (e.g. 041614)\nCharacters 15-18: PROD (all caps)\nCharacters 19-21:  Submission Version of prod file in VXX format, (e.g. V01)\nSample file name:  SBM56789041614PRODV01"]
[null,null,"This section lists each data element that will be required for the current payment cycle,  a definition of each data type, and detailed instructions on how to populate each data field in the Template.  "]
[null,null,"Column Name (Column / Cell #)","Definition",null,"Instructions"]
[null,null,"1.) Submission Date (B2):","Date of Enrollment and Payment Data Template Submission.",null,"Enter the date that the Enrollment and Payment Data Template is being submitted to CMS, using a MM/DD/YYYY format."]
[null,null,"ISSUER SUBMITTERS ONLY (NOT APPLICABLE FOR SBM SUBMITTERS)\n2.) Enrollment Data Changes (D2)","Change in Enrollment from Prior Month Submission (Y/N)",null,"This field is relevant for issuer submitters only.  \nThis field only applies to the three restatment tabs. \nIssuer submitters will indicate whether there have been any changes to enrollment data since the prior month submission by selecting either \"Yes\" or \"No\".  \nWhen \"Yes\" is selected, the issuer submitter must populate the data template.\nWhen \"No\" is selected, the issuer submitter must not populate the data template."]
[null,null,"2.) Enrollment Month (E2):","Month in which enrollment is effective (January is the first month). A January enrollment month includes all enrollments effective in the month of January. A February enrollment month includes all enrollments effective in the month of February, etc.  For the payment month, this should also include enrollments that were effectuated in the prior months and that continue into the payment month.",null,"The submission month is pre-selected for each submitter.  Please use the appropriate worksheet for reporting enrollment and payment data."]
[null,null,"3.) Submission Status (H2):","Indicates whether Template submission is an initial submission or a resubmission of data. All data sent will be production data.",null,"Choose \"initial submission, \"resubmission 1,\" \"resubmission 2,\" or \"resubmission 3.\""]
[null,null,"4.) State Code (A):","2 letter state code in caps (e.g. TX, WA, FL).",null,"Choose the appropriate state code from the drop-down menu."]
[null,null,"5.) Issuer TIN (B):","Issuer's 9 digit taxpayer identification number assigned by the IRS.",null,"Enter the issuer's 9 digit taxpayer identification number for each QHP identified. All issuers should be documented on the same table."]
[null,null,"6.) 5 Digit HIOS Issuer ID (C):","5 digit issuer identifier assigned by HIOS.",null,"Enter the issuer's 5 digit HIOS identification number."]
[null,null,"7.) 16 Digit QHP ID (D):","16 digit unique QHP identifier.  Includes 14 digit standard component ID, plus the 2 digit variant ID and is otherwise known as the HIOS Plan ID.",null,"For each QHP offered, document the 16 digit unique QHP identifier without the use of spaces or non-numeric characters. Each 16 digit QHP identifier should only be used once throughout the entire table."]
[null,"Enrollment and Payment Data Template Completion Instructions:","8.) Total Premium amount for effectuated enrollments by QHP ID (E):","The total premium amount by 16 digit QHP ID for all effectuated enrollments within a qualified health plan.  If following the CMS 834 Companion Guide, this amount is the REF02 value for PRE AMT TOT in the 2750 loop of the 834 transaction summed for all effectuated enrollment groups within a QHP ID.  ",null,"Sum the total premium amounts for all effectuated enrollment groups and enter this amount for each QHP ID listed."]
[null,null,"9.) Total APTC amount for effectuated enrollments by QHP ID (F):","The total APTC amount the issuer can expect to receive as the amount of actual APTC toward the total premium amount for effectuated enrollments within a 16 digit QHP ID. If following the CMS 834 Companion Guide, this amount is the REF02 value for APTC AMT in the 2750 loop of the 834 transaction summed for all effectuated enrollment groups within a QHP ID.",null,"Total the actual APTC amount that is expected for all effectuated enrollment groups within each QHP ID, and document it in this column."]
[null,null,"10.) Total CSR amount for effectuated enrollments by QHP ID (G):","The total monthly advance CSR payment amount the issuer can expect to receive for all effectuated enrollments within a 16 digit QHP ID. If following the CMS 834 Companion Guide, this amount is the REF02 value for CSR AMT in the 2750 loop of the 834 transaction summed for all effectuated enrollment groups within a QHP ID.",null,"Total the CSR amount that is expected for all effectuated enrollment groups within each QHP ID, and document it in this column."]
[null,null,"11.) Total User Fee amount by QHP ID (H):","The total user fee amount the issuer can expect to incur for participation in the FFM.",null,"This amount will display automatically once the premium amount is inserted in Column E.  User fees are calculated as 3.5% of total premium collected.  This amount does not apply to SBM issuers."]
[null,null,"12.) Total # of effectuated enrollment groups by QHP ID (I):","Total number of effectuated enrollment groups associated with a QHP ID.  ",null,"Sum the number of effectuated enrollment groups associated with each QHP and enter the number in this column."]
[null,null,"13.) Total # of effectuated enrollment groups receiving APTC by QHP ID (J):","Total number effectuated enrollment groups associated with a QHP ID that will receive APTC payments.  ",null,"Sum the number of effectuated enrollment groups associated with each QHP, that will receive APTC payments, and enter the number in this column."]
[null,null,"14.) Total # of effectuated enrollment groups receiving CSR by QHP ID (K):","Total number effectuated enrollment groups associated with a QHP ID that will receive CSR payments.    ",null,"Sum the number of effectuated enrollment groups associated with each QHP, that will receive CSR payments, and enter the number in this column."]
[null,null,"15.) Total # of effectuated members by QHP ID (L):","Total number of members by QHP ID within effectuated enrollment groups.",null,"Sum the total number of members within effectuated enrollment groups associated with each QHP ID and enter the number in this column."]
[null,null,"16.) Total # of effectuated members receiving APTC by QHP ID (M):","Total number of members by QHP ID within effectuated enrollment groups who receive APTC.",null,"Sum the total number of members who will receive APTC within effectuated enrollment groups associated with each QHP and enter the number in this column."]
[null,null,"17.) Total # of effectuated members receiving CSR by QHP ID (N):","Total number of members by QHP ID within effectuated enrollment groups who receive CSR.",null,"Sum the total number of members who will receive CSR within effectuated enrollment groups associated with each QHP and enter the number in this column."]
[null,"Validate Template Data Instructions","1) Validate Template Data (O)","Tool that will automatically perform validation testing on data populated on the template.",null,"Populate the data template.  Click the button \"validate template data\".  Repeat this process on each tab of the workbook.  "]
[null,null,"2) Clear Validation Results (O)","Function used to clear the current validation results.",null,"To re-run a validation test, click the clear current validation results button.  "]
[null,null,"3) Reasons for Validation Failures (P)","Provides an explanation of submissions that fail validation testing.  ",null,"Review the reasons for validation failures and make updates to the template, addressing these failures.  Revalidate the template data as needed until all results pass.  "]
[null,null,"1.) submitter:","A submitter is defined as the entity submitting the Enrollment and Payment Data Template. This could include an FFM issuer, an SBM issuer, or an SBM submitting on behalf of their issuers."]
[null,"Definitions:","2.) enrollment group: ","Enrollment group is defined as all members enrolled in a QHP who receive coverage and are linked by the Exchange Assigned Policy ID."]
[null,null,"3.) effectuated enrollment group:","Effectuated enrollment group is defined as any enrollment in which the amount the enrollment group is responsible to pay toward the total premium amount has been paid in full by the enrollment group for the first month of coverage. If following the CMS 834 Companion Guide, this is the REF02 value for TOT RES AMT as listed in the 2750 loop. An enrollment group is considered effectuated after it has made it's first monthly payment toward the first monthly total premium amount."]

{"sheet":"Reference Data","index":6,"n_rows":100,"n_cols":12,"rows_kept":100,"hidden":true}
["Yes (populate this sheet with updated enrollment data)",null,"Initial Submission",{"$nulls":3},"CA","10753UT004000101",null,"Issuer ID","16 Digit QHP ID","CSR PMPM"]
["No (do not populate sheet below)",null,"Resubmission 1",{"$nulls":3},"CO","10753UT004000201",null,10191,"10191NJ003000101",0]
[null,null,"Resubmission 2",{"$nulls":3},"CT","10753UT004000301",null,10191,"10191NJ003000201",0]
[null,null,"Resubmission 3",{"$nulls":3},"DC","10753UT004000401",null,10191,"10191NJ004000101",0]
[{"$nulls":6},"HI","10753UT004000501",null,10191,"10191NJ004000201",0]
[{"$nulls":6},"ID","10753UT004000601",null,10191,"10191NJ005000101",0]
[{"$nulls":6},"KY","10753UT004000701",null,10191,"10191NJ005000201",0]
[{"$nulls":6},"MA","10753UT004000801",null,10191,"10191NJ005000301",0]
[{"$nulls":6},"MD","10753UT004000901",null,10191,"10191NJ006000101",0]
[{"$nulls":6},"MN","10753UT004001001",null,10191,"10191NJ006000201",0]
[{"$nulls":6},"NM","10753UT004001101",null,10191,"10191NJ006000301",0]
[{"$nulls":6},"NV","10753UT004001201",null,10191,"10191NJ007000101",0]
[{"$nulls":6},"NY","10753UT004001301",null,10191,"10191NJ007000301",0]
[{"$nulls":6},"OR","10753UT004001401",null,10191,"10191NJ007000401",0]
[{"$nulls":6},"RI","10753UT004001501",null,10191,"10191NJ010000101",0]
[{"$nulls":6},"VT","10753UT004001601",null,10191,"10191NJ010000201",0]
[{"$nulls":6},"WA","11324MS001000101",null,10191,"10191NJ010000301",0]
[{"$nulls":7},"11324MS001000201",null,10191,"10191NJ012000101",0]
[{"$nulls":7},"11324MS001000301",null,10191,"10191NJ012000201",0]
[{"$nulls":7},"11324MS001000401",null,10191,"10191NJ012000301",0]
[{"$nulls":7},"11324MS001000501",null,10191,"10191NJ014000101",0]
[{"$nulls":7},"11324MS001000601",null,10191,"10191NJ014000201",0]
[{"$nulls":7},"14948UT002000101",null,10191,"10191NJ014000301",0]
[{"$nulls":7},"14948UT002000201",null,10191,"10191NJ015000101",0]
[{"$nulls":7},"14948UT002000301",null,10191,"10191NJ003000102",238.91]
[{"$nulls":7},"14948UT002000401",null,10191,"10191NJ003000103",0]
[{"$nulls":7},"34028UT001000101",null,10191,"10191NJ003000202",172]
[{"$nulls":7},"34028UT002000101",null,10191,"10191NJ003000203",0]
[{"$nulls":7},"34028UT003000101",null,10191,"10191NJ003000204",12.44]
[{"$nulls":7},"34028UT004000101",null,10191,"10191NJ003000205",89.03]
[{"$nulls":7},"34028UT005000101",null,10191,"10191NJ003000206",132.64]
[{"$nulls":7},"34028UT006000101",null,10191,"10191NJ004000102",238.91]
[{"$nulls":7},"40335UT004000101",null,10191,"10191NJ004000103",0]
[{"$nulls":7},"40335UT005000101",null,10191,"10191NJ004000202",172]
[{"$nulls":7},"40335UT006000101",null,10191,"10191NJ004000203",0]
[{"$nulls":7},"40335UT007000101",null,10191,"10191NJ004000204",12.44]
[{"$nulls":7},"40335UT008000101",null,10191,"10191NJ004000205",89.03]
[{"$nulls":7},"40335UT009000101",null,10191,"10191NJ004000206",132.64]
[{"$nulls":7},"40335UT010000101",null,10191,"10191NJ005000102",171.46]
[{"$nulls":7},"42757UT001000101",null,10191,"10191NJ005000103",0]
[{"$nulls":7},"42757UT001000201",null,10191,"10191NJ005000104",11.19]
[{"$nulls":7},"42757UT001000301",null,10191,"10191NJ005000105",88.55]
[{"$nulls":7},"42757UT001000401",null,10191,"10191NJ005000106",130.21]
[{"$nulls":7},"42757UT001000501",null,10191,"10191NJ005000202",118.44]
[{"$nulls":7},"42757UT001000601",null,10191,"10191NJ005000203",0]
[{"$nulls":7},"43302MS003000101",null,10191,"10191NJ005000302",63.32]
[{"$nulls":7},"43302MS003000201",null,10191,"10191NJ005000303",0]
[{"$nulls":7},"46300MS003000101",null,10191,"10191NJ006000102",171.46]
[{"$nulls":7},"46300MS003000201",null,10191,"10191NJ006000103",0]
[{"$nulls":7},"46300MS004000101",null,10191,"10191NJ006000104",11.19]
[{"$nulls":7},"46300MS004000201",null,10191,"10191NJ006000105",88.55]
[{"$nulls":7},"49327MS001000101",null,10191,"10191NJ006000106",130.21]
[{"$nulls":7},"49327MS002000101",null,10191,"10191NJ006000202",118.44]
[{"$nulls":7},"49327MS003000101",null,10191,"10191NJ006000203",0]
[{"$nulls":7},"49327MS004000101",null,10191,"10191NJ006000302",63.32]
[{"$nulls":7},"49327MS005000101",null,10191,"10191NJ006000303",0]
[{"$nulls":7},"49327MS006000101",null,10191,"10191NJ007000102",238.91]
[{"$nulls":7},"49374MS002000101",null,10191,"10191NJ007000103",0]
[{"$nulls":7},"49374MS002000201",null,10191,"10191NJ007000302",121.29]
[{"$nulls":7},"49374MS002000401",null,10191,"10191NJ007000303",0]
[{"$nulls":7},"49374MS002000601",null,10191,"10191NJ007000402",191.67]
[{"$nulls":7},"54366MS001000101",null,10191,"10191NJ007000403",0]
[{"$nulls":7},"54366MS001000201",null,10191,"10191NJ007000404",30.4]
[{"$nulls":7},"54366MS001000301",null,10191,"10191NJ007000405",109.63]
[{"$nulls":7},"60328MS002000101",null,10191,"10191NJ007000406",151.91]
[{"$nulls":7},"60328MS002000201"]
[{"$nulls":7},"60328MS002000401"]
[{"$nulls":7},"60328MS002000601"]
[{"$nulls":7},"66413UT001000101"]
[{"$nulls":7},"66413UT001000201"]
[{"$nulls":7},"66413UT001000301"]
[{"$nulls":7},"66413UT001000401"]
[{"$nulls":7},"66413UT001000501"]
[{"$nulls":7},"66413UT001000601"]
[{"$nulls":7},"66413UT001000701"]
[{"$nulls":7},"66413UT001000801"]
[{"$nulls":7},"66413UT001000901"]
[{"$nulls":7},"66413UT001001001"]
[{"$nulls":7},"66413UT001001101"]
[{"$nulls":7},"66413UT001001201"]
[{"$nulls":7},"66413UT001001301"]
[{"$nulls":7},"66413UT001001401"]
[{"$nulls":7},"66413UT001001501"]
[{"$nulls":7},"66413UT001001601"]
[{"$nulls":7},"68781UT019000101"]
[{"$nulls":7},"68781UT019000201"]
[{"$nulls":7},"68809UT002000101"]
[{"$nulls":7},"68809UT002000201"]
[{"$nulls":7},"68809UT002000301"]
[{"$nulls":7},"68809UT002000401"]
[{"$nulls":7},"68809UT002000501"]
[{"$nulls":7},"68809UT002000601"]
[{"$nulls":7},"71246UT002000101"]
[{"$nulls":7},"71246UT002000201"]
[{"$nulls":7},"71246UT002000301"]
[{"$nulls":7},"71246UT002000401"]
[{"$nulls":7},"84254MS003000101"]
[{"$nulls":7},"84254MS003000201"]
[{"$nulls":7},"87131MS003000101"]
[{"$nulls":7},"87131MS003000201"]