{"text_format":"3","workbook":"xlsx","n_sheets":17,"sheets":["STARTUPCW","CROSS PSPB","CROSS NPS","TEUC CROSS PSPB","TEUC CROSS NPS","CROSS PSPB IT","1-AST INC","1-IC INC","1-WK INC","1-NMD INC","1-APP INC","1-WR INC","1-TAX INC","1-BPC INC","1-UIP INC","1-SUP INC","PS CONT CROSS"],"not_rendered":{"macros":1,"external_links":1,"defined_names":52,"comments":12},"read":"whole","date_system":"1900"}

{"sheet":"STARTUPCW","index":0,"n_rows":124,"n_cols":7,"rows_kept":124,"merged":[[0,0,0,2],[0,4,0,5],[1,4,1,5],[2,0,2,2],[2,4,2,5],[3,0,3,2],[3,4,3,5],[4,0,4,2],[4,4,4,5],[5,1,5,2],[5,4,5,5],[8,1,8,2],[26,1,26,2],[27,1,27,2],[28,1,28,2],[29,1,29,2],[30,1,30,2],[40,0,40,2]]}
["SYSTEM START UP ",{"$nulls":3},"RJM"]
[{"$f":"\"Crosswalk Version: \" & TEXT(E3,\"0.0\")","v":"Crosswalk Version: 2.5.1"},{"$nulls":3},"Version"]
["RESOURCE JUSTIFICATION MODEL",{"$nulls":3},"2.5.1"]
[]
[]
["STATE NAME","YOUR STATE"]
["  State Abbreviation",{"$f":"VLOOKUP(STATENAME,StateTBL,2)","v":"None"}]
[]
["ACCOUNTING SYSTEM","OTHER"]
[]
["BUDGET YEAR",null,{"$f":"CONCATENATE(\"FY \",$B11)","v":"FY "}]
[]
["HOURS PER WORKDAY"]
[]
["PREVIOUS YEAR",{"$f":"IF($B$11>0,$B$11-2,\"\")","v":""},{"$f":"CONCATENATE(\"FY \",$B15)","v":"FY "}]
["   Standard Hours",{"$f":"IF($B$13=0,0,($B$13*OFFSET($A$102,MATCH(B15,$A$103:$A$123,0),1)))","v":{"v":0,"d":"0.00"}}]
[]
["CURRENT YEAR",{"$f":"IF($B$11>0,$B$11-1,\"\")","v":""},{"$f":"CONCATENATE(\"FY \",$B18)","v":"FY "}]
["   Standard Hours",{"$f":"IF($B$13=0,0,$B$13*OFFSET($A$102,MATCH(B18,$A$103:$A$123,0),1))","v":{"v":0,"d":"0.00"}}]
[]
["NEXT YEAR",{"$f":"IF($B$11>0,$B$11,\"\")","v":""},{"$f":"CONCATENATE(\"FY \",$B21)","v":"FY "}]
["   Standard Hours",{"$f":"IF($B$13=0,0,$B$13*OFFSET($A$102,MATCH(B21,$A$103:$A$123,0),1))","v":{"v":0,"d":"0.00"}}]
[]
["REQUEST YEAR",{"$f":"$B$11+1","v":1},{"$f":"CONCATENATE(\"FY \",$B24)","v":"FY 1"}]
["   Standard Hours",{"$f":"$B$13*OFFSET($A$102,MATCH(B24,$A$103:$A$123,0),1)","v":{"$error":"#N/A"}}]
[]
["Date Data Submitted"]
["Contact Person's Name"]
["Contact Person's Phone Number"]
["Contact Person's Email Address"]
["Enter Code for Type of Submission","Type of Submission"]
{"$rows_empty":9}
["STATE TABLE",{"$nulls":5},"Submission Codes"]
[]
["STATE/ POSSESSION","ABBREVIATION","STATE ID",{"$nulls":3},"Type of Submission"]
[1,2,3,{"$nulls":3},"S - Original State submission"]
["ALABAMA","AL",6,{"$nulls":3},"B - State submission 1st Amendment"]
["ALASKA","AK",10,{"$nulls":3},"C - State submission 2nd Amendment"]
["ARIZONA","AZ",11,{"$nulls":3},"D - State submission 3rd Amendment"]
["ARKANSAS","AR",12,{"$nulls":3},"E - State submission 4th Amendment"]
["CALIFORNIA","CA",13,{"$nulls":3},"V - Original Regional Office validated submission"]
["COLORADO","CO",14,{"$nulls":3},"Y - Amended Regional Office 2nd submission"]
["CONNECTICUT","CT",15,{"$nulls":3},"Z - Amended Regional Office 3rd submission"]
["DELAWARE","DE",16,{"$nulls":3},"ZZ - Amended Regional Office 4th submission"]
["DISTRICT OF COLUMBIA","DC",61,{"$nulls":3},"W - Wage and benefits increases - final"]
["FLORIDA","FL",17,{"$nulls":3},"R - Special Requirements File"]
["GEORGIA","GA",18]
["HAWAII","HI",19]
["IDAHO","ID",20]
["ILLINOIS","IL",21]
["INDIANA","IN",22]
["IOWA","IA",23]
["KANSAS","KS",24]
["KENTUCKY","KY",25]
["LOUISIANA","LA",26]
["MAINE","ME",27]
["MARYLAND","MD",28]
["MASSACHUSETTS","MA",29]
["MICHIGAN","MI",30]
["MINNESOTA","MN",31]
["MISSISSIPPI","MS",32]
["MISSOURI","MO",33]
["MONTANA","MT",34]
["NEBRASKA","NE",35]
["NEVADA","NV",36]
["NEW HAMPSHIRE","NH",37]
["NEW JERSEY","NJ",38]
["NEW MEXICO","NM",39]
["NEW YORK","NY",40]
["NORTH CAROLINA","NC",41]
["NORTH DAKOTA","ND",42]
["OHIO","OH",1]
["OKLAHOMA","OK",8]
["OREGON","OR",45]
["PENNSYLVANIA","PA",46]
["PUERTO RICO","PR",59]
["RHODE ISLAND","RI",47]
["SOUTH CAROLINA","SC",48]
["SOUTH DAKOTA","SD",49]
["TENNESSEE","TN",50]
["TEXAS","TX",51]
["UTAH","UT",52]
["VERMONT","VT",53]
["VIRGIN ISLANDS","VI",63]
["VIRGINIA","VA",54]
["WASHINGTON","WA",55]
["WEST VIRGINIA","WV",56]
["WISCONSIN","WI",57]
["WYOMING","WY",58]
["YOUR STATE","None",65]
[]
[]
["The Following Table is used in calculated standard hours for each year:"]
["Fiscal Year","Number of Work Days"]
[2002,261]
[2003,261]
[2004,262]
[2005,261]
[2006,260]
[2007,260]
[2008,262]
[2009,261]
[2010,261]
[2011,261]
[2012,260]
[2013,261]
[2014,261]
[2015,261]
[2016,262]
[2017,260]
[2018,260]
[2019,261]
[2020,262]
[2021,261]
[2022,261]
["Above row is last line in table."]

{"sheet":"CROSS PSPB","index":1,"n_rows":204,"n_cols":108,"rows_kept":204,"merged":[[0,0,0,6],[0,8,0,9],[1,8,1,9],[2,8,2,9],[3,0,3,2],[3,8,3,9],[4,8,4,9],[5,4,5,7],[5,8,5,11],[5,12,5,15],[5,16,5,19],[5,20,5,23],[5,24,5,27],[5,28,5,31],[5,32,5,35],[5,36,5,39],[5,40,5,43],[5,44,5,47],[5,48,5,51],[5,52,5,55],[102,0,102,3],[103,0,103,3]]}
["PS/PB CROSS WALK - PREVIOUS YEAR",{"$nulls":7},"Crosswalk Version",{"$nulls":98},30]
[{"$f":"STARTUPCW!A2","v":"Crosswalk Version: 2.5.1"},{"$nulls":7},{"$f":"STARTUPCW!E3","v":"2.5.1"}]
[{"$nulls":4},"CROSS PSPB"]
[{"$f":"STATENAME","v":"YOUR STATE"},{"$nulls":7},"OMB Approval No. 1205-0430"]
[{"$nulls":8},"Expires XX/XX/XXXX"]
["PREVIOUS YEAR",{"$nulls":3},"TOTAL",{"$nulls":3},"AS&T",{"$nulls":3},"INITIAL CLAIMS (IC)",{"$nulls":3},"WEEKS CLAIMED (WC)",{"$nulls":3},"NON-MONETARY DETERMINATIONS (NMD)",{"$nulls":3},"APPEALS (APP)",{"$nulls":3},"WAGE RECORDS (WR)",{"$nulls":3},"TAX",{"$nulls":3},"BENEFIT PAYMENT CONTROL (BPC)",{"$nulls":3},"UI PERFORMS (UIP)",{"$nulls":3},"SUPPORT (SUP)",{"$nulls":3},"NON RJM (NRJM)",{"$nulls":3},"BALANCE"]
[{"$f":"PREVIOUSFY","v":"FY "},{"$nulls":3},"HOURS",{"$nulls":3},"HOURS",{"$nulls":3},"HOURS",{"$nulls":3},"HOURS",{"$nulls":3},"HOURS",{"$nulls":3},"HOURS",{"$nulls":3},"HOURS",{"$nulls":3},"HOURS",{"$nulls":3},"HOURS",{"$nulls":3},"HOURS",{"$nulls":3},"HOURS",{"$nulls":3},"HOURS",{"$nulls":3},"HOURS"]
[null,null,"FAC","Alloc","PAID","PS$","PB$","WORK HRS.","PAID","PS$","PB$","WORK HRS.","PAID","PS$","PB$","WORK HRS.","PAID","PS$","PB$","WORK HRS.","PAID","PS$","PB$","WORK HRS.","PAID","PS$","PB$","WORK HRS.","PAID","PS$","PB$","WORK HRS.","PAID","PS$","PB$","WORK HRS.","PAID","PS$","PB$","WORK HRS.","PAID","PS$","PB$","WORK HRS.","PAID","PS$","PB$","WORK HRS.","PAID","PS$","PB$","WORK HRS.","PAID","PS$","PB$","WORK HRS."]
["AGENCY TOTALS LESS NON-RJM",{"$nulls":3},{"$f":"E99-AW99","v":{"v":0,"d":"0.00"}},{"$f":"F99-AX99","v":0},{"$f":"G99-AY99","v":0},{"$f":"H99-AZ99","v":{"v":0,"d":"0.00"}},{"$f":"I99","v":{"v":0,"d":"0.00"}},0,0,{"v":0,"d":"0.00"},{"v":0,"d":"0.00"},0,0,{"v":0,"d":"0.00"},{"v":0,"d":"0.00"},0,0,{"v":0,"d":"0.00"},{"v":0,"d":"0.00"},0,0,{"v":0,"d":"0.00"},{"v":0,"d":"0.00"},0,0,{"v":0,"d":"0.00"},{"v":0,"d":"0.00"},0,0,{"v":0,"d":"0.00"},{"v":0,"d":"0.00"},0,0,{"v":0,"d":"0.00"},{"v":0,"d":"0.00"},0,0,{"v":0,"d":"0.00"},{"v":0,"d":"0.00"},0,0,{"v":0,"d":"0.00"},{"v":0,"d":"0.00"},0,0,{"v":0,"d":"0.00"},{"v":0,"d":"0.00"},0,0,{"v":0,"d":"0.00"},{"$f":"SUM(I9,M9,Q9,U9,Y9,AC9,AG9,AK9,AO9,AS9,AW9)-E9","v":{"v":0,"d":"0.00"}},{"$f":"SUM(J9,N9,R9,V9,Z9,AD9,AH9,AL9,AP9,AT9,AX9)-F9","v":0},{"$f":"SUM(K9,O9,S9,W9,AA9,AE9,AI9,AM9,AQ9,AU9,AY9)-G9","v":0},{"$f":"SUM(L9,P9,T9,X9,AB9,AF9,AJ9,AN9,AR9,AV9,AZ9)-H9","v":{"v":0,"d":"0.00"}}]
[]
["LEDGER/FUNCTIONAL ACTIVITY"]
["FEDERAL SOURCES",0," ",0,0,0,0,0,0,0,0,0,0,0,0,0,0,0,0,0,0,0,0,0,0,0,0,0,0,0,0,0,0,0,0,0,0,0,0,0,0,0,0,0,0,0,0,0,0,0,0,0]
[{"$nulls":8},{"$f":"IF(OR($D13=\"AS&T\",$D13=\"AS&T IT\"),$E13,\"\")","v":""},{"$f":"IF(OR($D13=\"AS&T\",$D13=\"AS&T IT\"),$F13,\"\")","v":""},{"$f":"IF(OR($D13=\"AS&T\",$D13=\"AS&T IT\"),$G13,\"\")","v":""},{"$f":"IF(OR($D13=\"AS&T\",$D13=\"AS&T IT\"),$H13,\"\")","v":""},{"$f":"IF(OR($D13=\"IC\",$D13=\"IC IT\"),$E13,\"\")","v":""},{"$f":"IF(OR($D13=\"IC\",$D13=\"IC IT\"),$F13,\"\")","v":""},{"$f":"IF(OR($D13=\"IC\",$D13=\"IC IT\"),$G13,\"\")","v":""},{"$f":"IF(OR($D13=\"IC\",$D13=\"IC IT\"),$H13,\"\")","v":""},{"$f":"IF(OR($D13=\"WC\",$D13=\"WC IT\"),$E13,\"\")","v":""},{"$f":"IF(OR($D13=\"WC\",$D13=\"WC IT\"),$F13,\"\")","v":""},{"$f":"IF(OR($D13=\"WC\",$D13=\"WC IT\"),$G13,\"\")","v":""},{"$f":"IF(OR($D13=\"WC\",$D13=\"WC IT\"),$H13,\"\")","v":""},{"$f":"IF(OR($D13=\"NMD\",$D13=\"NMD IT\"),$E13,\"\")","v":""},{"$f":"IF(OR($D13=\"NMD\",$D13=\"NMD IT\"),$F13,\"\")","v":""},{"$f":"IF(OR($D13=\"NMD\",$D13=\"NMD IT\"),$G13,\"\")","v":""},{"$f":"IF(OR($D13=\"NMD\",$D13=\"NMD IT\"),$H13,\"\")","v":""},{"$f":"IF(OR($D13=\"APP\",$D13=\"APP IT\"),$E13,\"\")","v":""},{"$f":"IF(OR($D13=\"APP\",$D13=\"APP IT\"),$F13,\"\")","v":""},{"$f":"IF(OR($D13=\"APP\",$D13=\"APP IT\"),$G13,\"\")","v":""},{"$f":"IF(OR($D13=\"APP\",$D13=\"APP IT\"),$H13,\"\")","v":""},{"$f":"IF(OR($D13=\"WR\",$D13=\"WR IT\"),$E13,\"\")","v":""},{"$f":"IF(OR($D13=\"WR\",$D13=\"WR IT\"),$F13,\"\")","v":""},{"$f":"IF(OR($D13=\"WR\",$D13=\"WR IT\"),$G13,\"\")","v":""},{"$f":"IF(OR($D13=\"WR\",$D13=\"WR IT\"),$H13,\"\")","v":""},{"$f":"IF(OR($D13=\"TAX\",$D13=\"TAX IT\"),$E13,\"\")","v":""},{"$f":"IF(OR($D13=\"TAX\",$D13=\"TAX IT\"),$F13,\"\")","v":""},{"$f":"IF(OR($D13=\"TAX\",$D13=\"TAX IT\"),$G13,\"\")","v":""},{"$f":"IF(OR($D13=\"TAX\",$D13=\"TAX IT\"),$H13,\"\")","v":""},{"$f":"IF(OR($D13=\"BPC\",$D13=\"BPC IT\"),$E13,\"\")","v":""},{"$f":"IF(OR($D13=\"BPC\",$D13=\"BPC IT\"),$F13,\"\")","v":""},{"$f":"IF(OR($D13=\"BPC\",$D13=\"BPC IT\"),$G13,\"\")","v":""},{"$f":"IF(OR($D13=\"BPC\",$D13=\"BPC IT\"),$H13,\"\")","v":""},{"$f":"IF(OR($D13=\"UIP\",$D13=\"UIP IT\"),$E13,\"\")","v":""},{"$f":"IF(OR($D13=\"UIP\",$D13=\"UIP IT\"),$F13,\"\")","v":""},{"$f":"IF(OR($D13=\"UIP\",$D13=\"UIP IT\"),$G13,\"\")","v":""},{"$f":"IF(OR($D13=\"UIP\",$D13=\"UIP IT\"),$H13,\"\")","v":""},{"$f":"IF(OR($D13=\"SUP\",$D13=\"SUP IT\"),$E13,\"\")","v":""},{"$f":"IF(OR($D13=\"SUP\",$D13=\"SUP IT\"),$F13,\"\")","v":""},{"$f":"IF(OR($D13=\"SUP\",$D13=\"SUP IT\"),$G13,\"\")","v":""},{"$f":"IF(OR($D13=\"SUP\",$D13=\"SUP IT\"),$H13,\"\")","v":""},{"$f":"IF(OR($D13=\"NRJM\",$D13=\"NRJM IT\"),$E13,\"\")","v":""},{"$f":"IF(OR($D13=\"NRJM\",$D13=\"NRJM IT\"),$F13,\"\")","v":""},{"$f":"IF(OR($D13=\"NRJM\",$D13=\"NRJM IT\"),$G13,\"\")","v":""},{"$f":"IF(OR($D13=\"NRJM\",$D13=\"NRJM IT\"),$H13,\"\")","v":""},{"$f":"SUM(I13,M13,Q13,U13,Y13,AC13,AG13,AK13,AO13,AS13,AW13)-E13","v":{"v":0,"d":"0.00"}},0,0,{"v":0,"d":"0.00"}]
[{"$nulls":8},"","","","","","","","","","","","","","","","","","","","","","","","","","","","","","","","","","","","","","","","","","","","",{"v":0,"d":"0.00"},0,0,{"v":0,"d":"0.00"}]
[{"$nulls":8},"","","","","","","","","","","","","","","","","","","","","","","","","","","","","","","","","","","","","","","","","","","","",{"v":0,"d":"0.00"},0,0,{"v":0,"d":"0.00"}]
[{"$nulls":8},"","","","","","","","","","","","","","","","","","","","","","","","","","","","","","","","","","","","","","","","","","","","",{"v":0,"d":"0.00"},0,0,{"v":0,"d":"0.00"}]
[{"$nulls":8},"","","","","","","","","","","","","","","","","","","","","","","","","","","","","","","","","","","","","","","","","","","","",{"v":0,"d":"0.00"},0,0,{"v":0,"d":"0.00"}]
[{"$nulls":8},"","","","","","","","","","","","","","","","","","","","","","","","","","","","","","","","","","","","","","","","","","","","",{"v":0,"d":"0.00"},0,0,{"v":0,"d":"0.00"}]
[{"$nulls":8},"","","","","","","","","","","","","","","","","","","","","","","","","","","","","","","","","","","","","","","","","","","","",{"v":0,"d":"0.00"},0,0,{"v":0,"d":"0.00"}]
[{"$nulls":8},"","","","","","","","","","","","","","","","","","","","","","","","","","","","","","","","","","","","","","","","","","","","",{"v":0,"d":"0.00"},0,0,{"v":0,"d":"0.00"}]
[{"$nulls":8},"","","","","","","","","","","","","","","","","","","","","","","","","","","","","","","","","","","","","","","","","","","","",{"$f":"SUM(I21,M21,Q21,U21,Y21,AC21,AG21,AK21,AO21,AS21,AW21)-E21","v":{"v":0,"d":"0.00"}},0,0,{"v":0,"d":"0.00"}]
[{"$nulls":8},"","","","","","","","","","","","","","","","","","","","","","","","","","","","","","","","","","","","","","","","","","","","",{"v":0,"d":"0.00"},0,0,{"v":0,"d":"0.00"}]
[{"$nulls":8},"","","","","","","","","","","","","","","","","","","","","","","","","","","","","","","","","","","","","","","","","","","","",{"v":0,"d":"0.00"},0,0,{"v":0,"d":"0.00"}]
[{"$nulls":8},"","","","","","","","","","","","","","","","","","","","","","","","","","","","","","","","","","","","","","","","","","","","",{"v":0,"d":"0.00"},0,0,{"v":0,"d":"0.00"}]
[{"$nulls":8},"","","","","","","","","","","","","","","","","","","","","","","","","","","","","","","","","","","","","","","","","","","","",{"v":0,"d":"0.00"},0,0,{"v":0,"d":"0.00"}]
[{"$nulls":8},"","","","","","","","","","","","","","","","","","","","","","","","","","","","","","","","","","","","","","","","","","","","",{"v":0,"d":"0.00"},0,0,{"v":0,"d":"0.00"}]
[{"$nulls":8},"","","","","","","","","","","","","","","","","","","","","","","","","","","","","","","","","","","","","","","","","","","","",{"v":0,"d":"0.00"},0,0,{"v":0,"d":"0.00"}]
[{"$nulls":8},"","","","","","","","","","","","","","","","","","","","","","","","","","","","","","","","","","","","","","","","","","","","",{"v":0,"d":"0.00"},0,0,{"v":0,"d":"0.00"}]
[{"$nulls":8},"","","","","","","","","","","","","","","","","","","","","","","","","","","","","","","","","","","","","","","","","","","","",{"v":0,"d":"0.00"},0,0,{"v":0,"d":"0.00"}]
[{"$nulls":8},"","","","","","","","","","","","","","","","","","","","","","","","","","","","","","","","","","","","","","","","","","","","",{"v":0,"d":"0.00"},0,0,{"v":0,"d":"0.00"}]
[{"$nulls":8},"","","","","","","","","","","","","","","","","","","","","","","","","","","","","","","","","","","","","","","","","","","","",{"v":0,"d":"0.00"},0,0,{"v":0,"d":"0.00"}]
[{"$nulls":8},"","","","","","","","","","","","","","","","","","","","","","","","","","","","","","","","","","","","","","","","","","","","",{"v":0,"d":"0.00"},0,0,{"v":0,"d":"0.00"}]
[{"$nulls":8},"","","","","","","","","","","","","","","","","","","","","","","","","","","","","","","","","","","","","","","","","","","","",{"v":0,"d":"0.00"},0,0,{"v":0,"d":"0.00"}]
[{"$nulls":8},"","","","","","","","","","","","","","","","","","","","","","","","","","","","","","","","","","","","","","","","","","","","",{"v":0,"d":"0.00"},0,0,{"v":0,"d":"0.00"}]
[{"$nulls":8},"","","","","","","","","","","","","","","","","","","","","","","","","","","","","","","","","","","","","","","","","","","","",{"v":0,"d":"0.00"},0,0,{"v":0,"d":"0.00"}]
[{"$nulls":8},"","","","","","","","","","","","","","","","","","","","","","","","","","","","","","","","","","","","","","","","","","","","",{"v":0,"d":"0.00"},0,0,{"v":0,"d":"0.00"}]
[{"$nulls":8},"","","","","","","","","","","","","","","","","","","","","","","","","","","","","","","","","","","","","","","","","","","","",{"v":0,"d":"0.00"},0,0,{"v":0,"d":"0.00"}]
[{"$nulls":8},"","","","","","","","","","","","","","","","","","","","","","","","","","","","","","","","","","","","","","","","","","","","",{"v":0,"d":"0.00"},0,0,{"v":0,"d":"0.00"}]
[{"$nulls":8},"","","","","","","","","","","","","","","","","","","","","","","","","","","","","","","","","","","","","","","","","","","","",{"v":0,"d":"0.00"},0,0,{"v":0,"d":"0.00"}]
[{"$nulls":8},"","","","","","","","","","","","","","","","","","","","","","","","","","","","","","","","","","","","","","","","","","","","",{"v":0,"d":"0.00"},0,0,{"v":0,"d":"0.00"}]
[{"$nulls":8},"","","","","","","","","","","","","","","","","","","","","","","","","","","","","","","","","","","","","","","","","","","","",{"v":0,"d":"0.00"},0,0,{"v":0,"d":"0.00"}]
[{"$nulls":8},"","","","","","","","","","","","","","","","","","","","","","","","","","","","","","","","","","","","","","","","","","","","",{"v":0,"d":"0.00"},0,0,{"v":0,"d":"0.00"}]
[{"$nulls":8},"","","","","","","","","","","","","","","","","","","","","","","","","","","","","","","","","","","","","","","","","","","","",{"v":0,"d":"0.00"},0,0,{"v":0,"d":"0.00"}]
[{"$nulls":8},"","","","","","","","","","","","","","","","","","","","","","","","","","","","","","","","","","","","","","","","","","","","",{"v":0,"d":"0.00"},0,0,{"v":0,"d":"0.00"}]
[{"$nulls":8},"","","","","","","","","","","","","","","","","","","","","","","","","","","","","","","","","","","","","","","","","","","","",{"v":0,"d":"0.00"},0,0,{"v":0,"d":"0.00"}]
["STATE SOURCES",0," ",0,0,0,0,0,0,0,0,0,0,0,0,0,0,0,0,0,0,0,0,0,0,0,0,0,0,0,0,0,0,0,0,0,0,0,0,0,0,0,0,0,0,0,0,0,0,0,0,0]
[{"$nulls":8},"","","","","","","","","","","","","","","","","","","","","","","","","","","","","","","","","","","","","","","","","","","","",{"v":0,"d":"0.00"},0,0,{"v":0,"d":"0.00"}]
[{"$nulls":8},{"$f":"IF(OR($D48=\"AS&T\",$D48=\"AS&T IT\"),$E48,\"\")","v":""},{"$f":"IF(OR($D48=\"AS&T\",$D48=\"AS&T IT\"),$F48,\"\")","v":""},{"$f":"IF(OR($D48=\"AS&T\",$D48=\"AS&T IT\"),$G48,\"\")","v":""},{"$f":"IF(OR($D48=\"AS&T\",$D48=\"AS&T IT\"),$H48,\"\")","v":""},{"$f":"IF(OR($D48=\"IC\",$D48=\"IC IT\"),$E48,\"\")","v":""},{"$f":"IF(OR($D48=\"IC\",$D48=\"IC IT\"),$F48,\"\")","v":""},{"$f":"IF(OR($D48=\"IC\",$D48=\"IC IT\"),$G48,\"\")","v":""},{"$f":"IF(OR($D48=\"IC\",$D48=\"IC IT\"),$H48,\"\")","v":""},{"$f":"IF(OR($D48=\"WC\",$D48=\"WC IT\"),$E48,\"\")","v":""},{"$f":"IF(OR($D48=\"WC\",$D48=\"WC IT\"),$F48,\"\")","v":""},{"$f":"IF(OR($D48=\"WC\",$D48=\"WC IT\"),$G48,\"\")","v":""},{"$f":"IF(OR($D48=\"WC\",$D48=\"WC IT\"),$H48,\"\")","v":""},{"$f":"IF(OR($D48=\"NMD\",$D48=\"NMD IT\"),$E48,\"\")","v":""},{"$f":"IF(OR($D48=\"NMD\",$D48=\"NMD IT\"),$F48,\"\")","v":""},{"$f":"IF(OR($D48=\"NMD\",$D48=\"NMD IT\"),$G48,\"\")","v":""},{"$f":"IF(OR($D48=\"NMD\",$D48=\"NMD IT\"),$H48,\"\")","v":""},{"$f":"IF(OR($D48=\"APP\",$D48=\"APP IT\"),$E48,\"\")","v":""},{"$f":"IF(OR($D48=\"APP\",$D48=\"APP IT\"),$F48,\"\")","v":""},{"$f":"IF(OR($D48=\"APP\",$D48=\"APP IT\"),$G48,\"\")","v":""},{"$f":"IF(OR($D48=\"APP\",$D48=\"APP IT\"),$H48,\"\")","v":""},{"$f":"IF(OR($D48=\"WR\",$D48=\"WR IT\"),$E48,\"\")","v":""},{"$f":"IF(OR($D48=\"WR\",$D48=\"WR IT\"),$F48,\"\")","v":""},{"$f":"IF(OR($D48=\"WR\",$D48=\"WR IT\"),$G48,\"\")","v":""},{"$f":"IF(OR($D48=\"WR\",$D48=\"WR IT\"),$H48,\"\")","v":""},{"$f":"IF(OR($D48=\"TAX\",$D48=\"TAX IT\"),$E48,\"\")","v":""},{"$f":"IF(OR($D48=\"TAX\",$D48=\"TAX IT\"),$F48,\"\")","v":""},{"$f":"IF(OR($D48=\"TAX\",$D48=\"TAX IT\"),$G48,\"\")","v":""},{"$f":"IF(OR($D48=\"TAX\",$D48=\"TAX IT\"),$H48,\"\")","v":""},{"$f":"IF(OR($D48=\"BPC\",$D48=\"BPC IT\"),$E48,\"\")","v":""},{"$f":"IF(OR($D48=\"BPC\",$D48=\"BPC IT\"),$F48,\"\")","v":""},{"$f":"IF(OR($D48=\"BPC\",$D48=\"BPC IT\"),$G48,\"\")","v":""},{"$f":"IF(OR($D48=\"BPC\",$D48=\"BPC IT\"),$H48,\"\")","v":""},{"$f":"IF(OR($D48=\"UIP\",$D48=\"UIP IT\"),$E48,\"\")","v":""},{"$f":"IF(OR($D48=\"UIP\",$D48=\"UIP IT\"),$F48,\"\")","v":""},{"$f":"IF(OR($D48=\"UIP\",$D48=\"UIP IT\"),$G48,\"\")","v":""},{"$f":"IF(OR($D48=\"UIP\",$D48=\"UIP IT\"),$H48,\"\")","v":""},{"$f":"IF(OR($D48=\"SUP\",$D48=\"SUP IT\"),$E48,\"\")","v":""},{"$f":"IF(OR($D48=\"SUP\",$D48=\"SUP IT\"),$F48,\"\")","v":""},{"$f":"IF(OR($D48=\"SUP\",$D48=\"SUP IT\"),$G48,\"\")","v":""},{"$f":"IF(OR($D48=\"SUP\",$D48=\"SUP IT\"),$H48,\"\")","v":""},{"$f":"IF(OR($D48=\"NRJM\",$D48=\"NRJM IT\"),$E48,\"\")","v":""},{"$f":"IF(OR($D48=\"NRJM\",$D48=\"NRJM IT\"),$F48,\"\")","v":""},{"$f":"IF(OR($D48=\"NRJM\",$D48=\"NRJM IT\"),$G48,\"\")","v":""},{"$f":"IF(OR($D48=\"NRJM\",$D48=\"NRJM IT\"),$H48,\"\")","v":""},{"$f":"SUM(I48,M48,Q48,U48,Y48,AC48,AG48,AK48,AO48,AS48,AW48)-E48","v":{"v":0,"d":"0.00"}},0,0,{"v":0,"d":"0.00"}]
[{"$nulls":8},{"$f":"IF($D49=\"AS&T\",$E49,\"\")","v":""},{"$f":"IF($D49=\"AS&T\",$F49,\"\")","v":""},{"$f":"IF($D49=\"AS&T\",$G49,\"\")","v":""},{"$f":"IF($D49=\"AS&T\",$H49,\"\")","v":""},"","","","","","","","","","","","","","","","","","","","","","","","","","","","","","","","","","","","","","","","",{"$f":"SUM(I49,M49,Q49,U49,Y49,AC49,AG49,AK49,AO49,AS49,AW49)-E49","v":{"v":0,"d":"0.00"}},0,0,{"v":0,"d":"0.00"}]
[{"$nulls":8},{"$f":"IF(OR($D50=\"AS&T\",$D50=\"AS&T IT\"),$E50,\"\")","v":""},{"$f":"IF(OR($D50=\"AS&T\",$D50=\"AS&T IT\"),$F50,\"\")","v":""},{"$f":"IF(OR($D50=\"AS&T\",$D50=\"AS&T IT\"),$G50,\"\")","v":""},{"$f":"IF(OR($D50=\"AS&T\",$D50=\"AS&T IT\"),$H50,\"\")","v":""},"","","","","","","","","","","","","","","","","","","","","","","","","","","","","","","","","","","","","","","","",{"v":0,"d":"0.00"},0,0,{"v":0,"d":"0.00"}]
[{"$nulls":8},"","","","","","","","","","","","","","","","","","","","","","","","","","","","","","","","","","","","","","","","","","","","",{"v":0,"d":"0.00"},0,0,{"v":0,"d":"0.00"}]
[{"$nulls":8},"","","","","","","","","","","","","","","","","","","","","","","","","","","","","","","","","","","","","","","","","","","","",{"$f":"SUM(I52,M52,Q52,U52,Y52,AC52,AG52,AK52,AO52,AS52,AW52)-E52","v":{"v":0,"d":"0.00"}},{"$f":"SUM(J52,N52,R52,V52,Z52,AD52,AH52,AL52,AP52,AT52,AX52)-F52","v":0},{"$f":"SUM(K52,O52,S52,W52,AA52,AE52,AI52,AM52,AQ52,AU52,AY52)-G52","v":0},{"$f":"SUM(L52,P52,T52,X52,AB52,AF52,AJ52,AN52,AR52,AV52,AZ52)-H52","v":{"v":0,"d":"0.00"}}]
[{"$nulls":8},"","","","","","","","","","","","","","","","","","","","","","","","","","","","","","","","","","","","","","","","","","","","",{"v":0,"d":"0.00"},0,0,{"v":0,"d":"0.00"}]
[{"$nulls":8},"","","","","","","","","","","","","","","","","","","","","","","","","","","","","","","","","","","","","","","","","","","","",{"v":0,"d":"0.00"},0,0,{"v":0,"d":"0.00"}]
[{"$nulls":8},"","","","","","","","","","","","","","","","","","","","","","","","","","","","","","","","","","","","","","","","","","","","",{"v":0,"d":"0.00"},0,0,{"v":0,"d":"0.00"}]
[{"$nulls":8},"","","","","","","","","","","","","","","","","","","","","","","","","","","","","","","","","","","","","","","","","","","","",{"v":0,"d":"0.00"},0,0,{"v":0,"d":"0.00"}]
[{"$nulls":8},"","","","","","","","","","","","","","","","","","","","","","","","","","","","","","","","","","","","","","","","","","","","",{"v":0,"d":"0.00"},0,0,{"v":0,"d":"0.00"}]
[{"$nulls":8},"","","","","","","","","","","","","","","","","","","","","","","","","","","","","","","","","","","","","","","","","","","","",{"v":0,"d":"0.00"},0,0,{"v":0,"d":"0.00"}]
[{"$nulls":8},"","","","","","","","","","","","","","","","","","","","","","","","","","","","","","","","","","","","","","","","","","","","",{"v":0,"d":"0.00"},0,0,{"v":0,"d":"0.00"}]
[{"$nulls":8},"","","","","","","","","","","","","","","","","","","","","","","","","","","","","","","","","","","","","","","","","","","","",{"v":0,"d":"0.00"},0,0,{"v":0,"d":"0.00"}]
[{"$nulls":8},"","","","","","","","","","","","","","","","","","","","","","","","","","","","","","","","","","","","","","","","","","","","",{"v":0,"d":"0.00"},0,0,{"v":0,"d":"0.00"}]
[{"$nulls":8},"","","","","","","","","","","","","","","","","","","","","","","","","","","","","","","","","","","","","","","","","","","","",{"v":0,"d":"0.00"},0,0,{"v":0,"d":"0.00"}]
[{"$nulls":8},"","","","","","","","","","","","","","","","","","","","","","","","","","","","","","","","","","","","","","","","","","","","",{"v":0,"d":"0.00"},0,0,{"v":0,"d":"0.00"}]
[{"$nulls":8},"","","","","","","","","","","","","","","","","","","","","","","","","","","","","","","","","","","","","","","","","","","","",{"v":0,"d":"0.00"},0,0,{"v":0,"d":"0.00"}]
[{"$nulls":8},"","","","","","","","","","","","","","","","","","","","","","","","","","","","","","","","","","","","","","","","","","","","",{"v":0,"d":"0.00"},0,0,{"v":0,"d":"0.00"}]
[{"$nulls":8},"","","","","","","","","","","","","","","","","","","","","","","","","","","","","","","","","","","","","","","","","","","","",{"v":0,"d":"0.00"},0,0,{"v":0,"d":"0.00"}]
[{"$nulls":8},"","","","","","","","","","","","","","","","","","","","","","","","","","","","","","","","","","","","","","","","","","","","",{"v":0,"d":"0.00"},0,0,{"v":0,"d":"0.00"}]
[{"$nulls":8},"","","","","","","","","","","","","","","","","","","","","","","","","","","","","","","","","","","","","","","","","","","","",{"v":0,"d":"0.00"},0,0,{"v":0,"d":"0.00"}]
[{"$nulls":8},"","","","","","","","","","","","","","","","","","","","","","","","","","","","","","","","","","","","","","","","","","","","",{"v":0,"d":"0.00"},0,0,{"v":0,"d":"0.00"}]
[{"$nulls":8},"","","","","","","","","","","","","","","","","","","","","","","","","","","","","","","","","","","","","","","","","","","","",{"v":0,"d":"0.00"},0,0,{"v":0,"d":"0.00"}]
[{"$nulls":8},"","","","","","","","","","","","","","","","","","","","","","","","","","","","","","","","","","","","","","","","","","","","",{"v":0,"d":"0.00"},0,0,{"v":0,"d":"0.00"}]
[{"$nulls":8},"","","","","","","","","","","","","","","","","","","","","","","","","","","","","","","","","","","","","","","","","","","","",{"v":0,"d":"0.00"},0,0,{"v":0,"d":"0.00"}]
[{"$nulls":8},"","","","","","","","","","","","","","","","","","","","","","","","","","","","","","","","","","","","","","","","","","","","",{"v":0,"d":"0.00"},0,0,{"v":0,"d":"0.00"}]
[{"$nulls":8},"","","","","","","","","","","","","","","","","","","","","","","","","","","","","","","","","","","","","","","","","","","","",{"v":0,"d":"0.00"},0,0,{"v":0,"d":"0.00"}]
[{"$nulls":8},"","","","","","","","","","","","","","","","","","","","","","","","","","","","","","","","","","","","","","","","","","","","",{"v":0,"d":"0.00"},0,0,{"v":0,"d":"0.00"}]
[{"$nulls":8},"","","","","","","","","","","","","","","","","","","","","","","","","","","","","","","","","","","","","","","","","","","","",{"v":0,"d":"0.00"},0,0,{"v":0,"d":"0.00"}]
[{"$nulls":8},"","","","","","","","","","","","","","","","","","","","","","","","","","","","","","","","","","","","","","","","","","","","",{"v":0,"d":"0.00"},0,0,{"v":0,"d":"0.00"}]
[{"$nulls":8},"","","","","","","","","","","","","","","","","","","","","","","","","","","","","","","","","","","","","","","","","","","","",{"v":0,"d":"0.00"},0,0,{"v":0,"d":"0.00"}]
[{"$nulls":8},"","","","","","","","","","","","","","","","","","","","","","","","","","","","","","","","","","","","","","","","","","","","",{"v":0,"d":"0.00"},0,0,{"v":0,"d":"0.00"}]
[null,0," ",0,0,0,0,0,0,0,0,0,0,0,0,0,0,0,0,0,0,0,0,0,0,0,0,0,0,0,0,0,0,0,0,0,0,0,0,0,0,0,0,0,0,0,0,0,0,0,0,0]
["TOTAL",{"$nulls":3},{"$f":"SUM(E12:E80)","v":{"v":0,"d":"0.00"}},0,0,{"v":0,"d":"0.00"},{"v":0,"d":"0.00"},0,0,{"v":0,"d":"0.00"},{"v":0,"d":"0.00"},0,0,{"v":0,"d":"0.00"},{"v":0,"d":"0.00"},0,0,{"v":0,"d":"0.00"},{"v":0,"d":"0.00"},0,0,{"v":0,"d":"0.00"},{"v":0,"d":"0.00"},0,0,{"v":0,"d":"0.00"},{"v":0,"d":"0.00"},0,0,{"v":0,"d":"0.00"},{"v":0,"d":"0.00"},0,0,{"v":0,"d":"0.00"},{"v":0,"d":"0.00"},0,0,{"v":0,"d":"0.00"},{"v":0,"d":"0.00"},0,0,{"v":0,"d":"0.00"},{"v":0,"d":"0.00"},0,0,{"v":0,"d":"0.00"},{"v":0,"d":"0.00"},0,0,{"v":0,"d":"0.00"},{"$f":"SUM(I81,M81,Q81,U81,Y81,AC81,AG81,AK81,AO81,AS81,AW81)-E81","v":{"v":0,"d":"0.00"}},{"$f":"SUM(J81,N81,R81,V81,Z81,AD81,AH81,AL81,AP81,AT81,AX81)-F81","v":0},{"$f":"SUM(K81,O81,S81,W81,AA81,AE81,AI81,AM81,AQ81,AU81,AY81)-G81","v":0},{"$f":"SUM(L81,P81,T81,X81,AB81,AF81,AJ81,AN81,AR81,AV81,AZ81)-H81","v":{"v":0,"d":"0.00"}}]
[]
["ALLOCATED",{"$nulls":3},{"$f":"I81+M81+Q81+U81+Y81+AC81+AG81+AK81+AO81+AS81+AW81","v":{"v":0,"d":"0.00"}},{"$f":"J81+N81+R81+V81+Z81+AD81+AH81+AL81+AP81+AT81+AX81","v":0},{"$f":"K81+O81+S81+W81+AA81+AE81+AI81+AM81+AQ81+AU81+AY81","v":0},{"$f":"L81+P81+T81+X81+AB81+AF81+AJ81+AN81+AR81+AV81+AZ81","v":{"v":0,"d":"0.00"}}]
[]
["DIFFERENCE",{"$nulls":3},{"$f":"E81-E83","v":{"v":0,"d":"0.00"}},{"$f":"F81-F83","v":0},{"$f":"G81-G83","v":0},{"$f":"H81-H83","v":{"v":0,"d":"0.00"}}]
[]
[]
["ADJUSTMENTS",0,0,0,0,0,0,0,0,0,0,0,0,0,0,0,0,0,0,0,0,0,0,0,0,0,0,0,0,0,0,0,0,0,0,0,0,0,0,0,0,0,0,0,0,0,0,0,0,0,0,0]
["GAL 4-91",{"$nulls":7},{"$f":"IF(OR($D89=\"AS&T\",$D89=\"AS&T IT\"),$E89,\"\")","v":""},{"$f":"IF(OR($D89=\"AS&T\",$D89=\"AS&T IT\"),$F89,\"\")","v":""},{"$f":"IF(OR($D89=\"AS&T\",$D89=\"AS&T IT\"),$G89,\"\")","v":""},{"$f":"IF(OR($D89=\"AS&T\",$D89=\"AS&T IT\"),$H89,\"\")","v":""},{"$f":"IF(OR($D89=\"IC\",$D89=\"IC IT\"),$E89,\"\")","v":""},{"$f":"IF(OR($D89=\"IC\",$D89=\"IC IT\"),$F89,\"\")","v":""},{"$f":"IF(OR($D89=\"IC\",$D89=\"IC IT\"),$G89,\"\")","v":""},{"$f":"IF(OR($D89=\"IC\",$D89=\"IC IT\"),$H89,\"\")","v":""},{"$f":"IF(OR($D89=\"WC\",$D89=\"WC IT\"),$E89,\"\")","v":""},{"$f":"IF(OR($D89=\"WC\",$D89=\"WC IT\"),$F89,\"\")","v":""},{"$f":"IF(OR($D89=\"WC\",$D89=\"WC IT\"),$G89,\"\")","v":""},{"$f":"IF(OR($D89=\"WC\",$D89=\"WC IT\"),$H89,\"\")","v":""},{"$f":"IF(OR($D89=\"NMD\",$D89=\"NMD IT\"),$E89,\"\")","v":""},{"$f":"IF(OR($D89=\"NMD\",$D89=\"NMD IT\"),$F89,\"\")","v":""},{"$f":"IF(OR($D89=\"NMD\",$D89=\"NMD IT\"),$G89,\"\")","v":""},{"$f":"IF(OR($D89=\"NMD\",$D89=\"NMD IT\"),$H89,\"\")","v":""},{"$f":"IF(OR($D89=\"APP\",$D89=\"APP IT\"),$E89,\"\")","v":""},{"$f":"IF(OR($D89=\"APP\",$D89=\"APP IT\"),$F89,\"\")","v":""},{"$f":"IF(OR($D89=\"APP\",$D89=\"APP IT\"),$G89,\"\")","v":""},{"$f":"IF(OR($D89=\"APP\",$D89=\"APP IT\"),$H89,\"\")","v":""},{"$f":"IF(OR($D89=\"WR\",$D89=\"WR IT\"),$E89,\"\")","v":""},{"$f":"IF(OR($D89=\"WR\",$D89=\"WR IT\"),$F89,\"\")","v":""},{"$f":"IF(OR($D89=\"WR\",$D89=\"WR IT\"),$G89,\"\")","v":""},{"$f":"IF(OR($D89=\"WR\",$D89=\"WR IT\"),$H89,\"\")","v":""},{"$f":"IF(OR($D89=\"TAX\",$D89=\"TAX IT\"),$E89,\"\")","v":""},{"$f":"IF(OR($D89=\"TAX\",$D89=\"TAX IT\"),$F89,\"\")","v":""},{"$f":"IF(OR($D89=\"TAX\",$D89=\"TAX IT\"),$G89,\"\")","v":""},{"$f":"IF(OR($D89=\"TAX\",$D89=\"TAX IT\"),$H89,\"\")","v":""},{"$f":"IF(OR($D89=\"BPC\",$D89=\"BPC IT\"),$E89,\"\")","v":""},{"$f":"IF(OR($D89=\"BPC\",$D89=\"BPC IT\"),$F89,\"\")","v":""},{"$f":"IF(OR($D89=\"BPC\",$D89=\"BPC IT\"),$G89,\"\")","v":""},{"$f":"IF(OR($D89=\"BPC\",$D89=\"BPC IT\"),$H89,\"\")","v":""},{"$f":"IF(OR($D89=\"UIP\",$D89=\"UIP IT\"),$E89,\"\")","v":""},{"$f":"IF(OR($D89=\"UIP\",$D89=\"UIP IT\"),$F89,\"\")","v":""},{"$f":"IF(OR($D89=\"UIP\",$D89=\"UIP IT\"),$G89,\"\")","v":""},{"$f":"IF(OR($D89=\"UIP\",$D89=\"UIP IT\"),$H89,\"\")","v":""},{"$f":"IF(OR($D89=\"SUP\",$D89=\"SUP IT\"),$E89,\"\")","v":""},{"$f":"IF(OR($D89=\"SUP\",$D89=\"SUP IT\"),$F89,\"\")","v":""},{"$f":"IF(OR($D89=\"SUP\",$D89=\"SUP IT\"),$G89,\"\")","v":""},{"$f":"IF(OR($D89=\"SUP\",$D89=\"SUP IT\"),$H89,\"\")","v":""},{"$f":"IF(OR($D89=\"NRJM\",$D89=\"NRJM IT\"),$E89,\"\")","v":""},{"$f":"IF(OR($D89=\"NRJM\",$D89=\"NRJM IT\"),$F89,\"\")","v":""},{"$f":"IF(OR($D89=\"NRJM\",$D89=\"NRJM IT\"),$G89,\"\")","v":""},{"$f":"IF(OR($D89=\"NRJM\",$D89=\"NRJM IT\"),$H89,\"\")","v":""},{"$f":"SUM(I89,M89,Q89,U89,Y89,AC89,AG89,AK89,AO89,AS89,AW89)-E89","v":{"v":0,"d":"0.00"}},{"$f":"SUM(J89,N89,R89,V89,Z89,AD89,AH89,AL89,AP89,AT89,AX89)-F89","v":0},{"$f":"SUM(K89,O89,S89,W89,AA89,AE89,AI89,AM89,AQ89,AU89,AY89)-G89","v":0},{"$f":"SUM(L89,P89,T89,X89,AB89,AF89,AJ89,AN89,AR89,AV89,AZ89)-H89","v":{"v":0,"d":"0.00"}}]
[{"$nulls":8},"","","","","","","","","","","","","","","","","","","","","","","","","","","","","","","","","","","","","","","","","","","","",{"$f":"SUM(I90,M90,Q90,U90,Y90,AC90,AG90,AK90,AO90,AS90,AW90)-E90","v":{"v":0,"d":"0.00"}},0,0,{"v":0,"d":"0.00"}]
[{"$nulls":8},"","","","","","","","","","","","","","","","","","","","","","","","","","","","","","","","","","","","","","","","","","","","",{"v":0,"d":"0.00"},0,0,{"v":0,"d":"0.00"}]
[{"$nulls":8},"","","","","","","","","","","","","","","","","","","","","","","","","","","","","","","","","","","","","","","","","","","","",{"v":0,"d":"0.00"},0,0,{"v":0,"d":"0.00"}]
[{"$nulls":8},"","","","","","","","","","","","","","","","","","","","","","","","","","","","","","","","","","","","","","","","","","","","",{"v":0,"d":"0.00"},0,0,{"v":0,"d":"0.00"}]
[{"$nulls":8},"","","","","","","","","","","","","","","","","","","","","","","","","","","","","","","","","","","","","","","","","","","","",{"v":0,"d":"0.00"},0,0,{"v":0,"d":"0.00"}]
[{"$nulls":8},"","","","","","","","","","","","","","","","","","","","","","","","","","","","","","","","","","","","","","","","","","","","",{"$f":"SUM(I95,M95,Q95,U95,Y95,AC95,AG95,AK95,AO95,AS95,AW95)-E95","v":{"v":0,"d":"0.00"}},{"$f":"SUM(J95,N95,R95,V95,Z95,AD95,AH95,AL95,AP95,AT95,AX95)-F95","v":0},{"$f":"SUM(K95,O95,S95,W95,AA95,AE95,AI95,AM95,AQ95,AU95,AY95)-G95","v":0},{"$f":"SUM(L95,P95,T95,X95,AB95,AF95,AJ95,AN95,AR95,AV95,AZ95)-H95","v":{"v":0,"d":"0.00"}}]
[null,0,0,0,0,0,0,0,0,0,0,0,0,0,0,0,0,0,0,0,0,0,0,0,0,0,0,0,0,0,0,0,0,0,0,0,0,0,0,0,0,0,0,0,0,0,0,0,0,0,0,0]
["TOTAL ADJUSTMENTS",{"$nulls":3},{"$f":"SUM(E89:E96)","v":{"v":0,"d":"0.00"}},0,0,{"v":0,"d":"0.00"},{"v":0,"d":"0.00"},0,0,{"v":0,"d":"0.00"},{"v":0,"d":"0.00"},0,0,{"v":0,"d":"0.00"},{"v":0,"d":"0.00"},0,0,{"v":0,"d":"0.00"},{"v":0,"d":"0.00"},0,0,{"v":0,"d":"0.00"},{"v":0,"d":"0.00"},0,0,{"v":0,"d":"0.00"},{"v":0,"d":"0.00"},0,0,{"v":0,"d":"0.00"},{"v":0,"d":"0.00"},0,0,{"v":0,"d":"0.00"},{"v":0,"d":"0.00"},0,0,{"v":0,"d":"0.00"},{"v":0,"d":"0.00"},0,0,{"v":0,"d":"0.00"},{"v":0,"d":"0.00"},0,0,{"v":0,"d":"0.00"},{"v":0,"d":"0.00"},0,0,{"v":0,"d":"0.00"},{"$f":"SUM(I97,M97,Q97,U97,Y97,AC97,AK97,AO97,AS97,AG97,AW97)-E97","v":{"v":0,"d":"0.00"}},{"$f":"SUM(J97,N97,R97,V97,Z97,AD97,AL97,AP97,AT97,AH97,AX97)-F97","v":0},{"$f":"SUM(K97,O97,S97,W97,AA97,AE97,AM97,AQ97,AU97,AI97,AY97)-G97","v":0},{"$f":"SUM(L97,P97,T97,X97,AB97,AF97,AN97,AR97,AV97,AJ97,AZ97)-H97","v":{"v":0,"d":"0.00"}}]
[]
["RJM COSTS",{"$nulls":3},{"$f":"E81-E97","v":{"v":0,"d":"0.00"}},0,0,{"v":0,"d":"0.00"},{"v":0,"d":"0.00"},0,0,{"v":0,"d":"0.00"},{"v":0,"d":"0.00"},0,0,{"v":0,"d":"0.00"},{"v":0,"d":"0.00"},0,0,{"v":0,"d":"0.00"},{"v":0,"d":"0.00"},0,0,{"v":0,"d":"0.00"},{"v":0,"d":"0.00"},0,0,{"v":0,"d":"0.00"},{"v":0,"d":"0.00"},0,0,{"v":0,"d":"0.00"},{"v":0,"d":"0.00"},0,0,{"v":0,"d":"0.00"},{"v":0,"d":"0.00"},0,0,{"v":0,"d":"0.00"},{"v":0,"d":"0.00"},0,0,{"v":0,"d":"0.00"},{"v":0,"d":"0.00"},0,0,{"v":0,"d":"0.00"},{"v":0,"d":"0.00"},0,0,{"v":0,"d":"0.00"},{"$f":"SUM(I99,M99,Q99,U99,Y99,AC99,AK99,AO99,AS99,AG99,AW99)-E99","v":{"v":0,"d":"0.00"}},{"$f":"SUM(J99,N99,R99,V99,Z99,AD99,AL99,AP99,AT99,AH99,AX99)-F99","v":0},{"$f":"SUM(K99,O99,S99,W99,AA99,AE99,AM99,AQ99,AU99,AI99,AY99)-G99","v":0},{"$f":"SUM(L99,P99,T99,X99,AB99,AF99,AN99,AR99,AV99,AJ99,AZ99)-H99","v":{"v":0,"d":"0.00"}}]
[]
[]
[]
[]
["SHEET IS DESIGNED TO ALLOW ADDITIONAL ROWS TO BE INSERTED - IF DONE MANUALLY INSTEAD OF BY USING BUTTONS AT TOP OF WORKSHEET, COPY FORMULAS IN C13 and FROM H13 through BC13 TO ALL INSERTED ROWS."]
{"$rows_empty":13}
["STATE TABLE"]
["ALABAMA"]
["ALASKA"]
["ARIZONA"]
["ARKANSAS"]
["CALIFORNIA"]
["COLORADO"]
["CONNECTICUT"]
["DELAWARE"]
["DISTRICT OF COLUMBIA"]
["FLORIDA"]
["GEORGIA"]
["HAWAII"]
["IDAHO"]
["ILLINOIS"]
["INDIANA"]
["IOWA"]
["KANSAS"]
["KENTUCKY"]
["LOUISIANA"]
["MAINE"]
["MARYLAND"]
["MASSACHUSETTS"]
["MICHIGAN"]
["MINNESOTA"]
["MISSISSIPPI"]
["MISSOURI"]
["MONTANA"]
["NEBRASKA"]
["NEVADA"]
["NEW HAMPSHIRE"]
["NEW JERSEY"]
["NEW MEXICO"]
["NEW YORK"]
["NORTH CAROLINA"]
["NORTH DAKOTA"]
["OHIO"]
["OKLAHOMA"]
["OREGON"]
["PENNSYLVANIA"]
["PUERTO RICO"]
["RHODE ISLAND"]
["SOUTH CAROLINA"]
["SOUTH DAKOTA"]
["TENNESSEE"]
["TEXAS"]
["UTAH"]
["VERMONT"]
["VIRGIN ISLANDS"]
["VIRGINIA"]
["WASHINGTON"]
["WEST VIRGINIA"]
["WISCONSIN"]
["WYOMING"]
["STATE NAME"]
[]
[]
[]
["SPLIT"]
["SPLIT IT"]
["AS&T"]
["AS&T IT"]
["IC"]
["IC IT"]
["WC"]
["WC IT"]
["NMD"]
["NMD IT"]
["APP"]
["APP IT"]
["WR"]
["WR IT"]
["TAX"]
["TAX IT"]
["BPC"]
["BPC IT"]
["UIP"]
["UIP IT"]
["SUP"]
["SUP IT"]
["NRJM"]
["NRJM IT"]
[]
[]
[]
[]
[{"$nulls":8},{"$f":"IF(OR($D204=\"AS&T\",$D204=\"AS&T IT\"),$E204,\"\")","v":""},{"$f":"IF(OR($D204=\"AS&T\",$D204=\"AS&T IT\"),$F204,\"\")","v":""},{"$f":"IF(OR($D204=\"AS&T\",$D204=\"AS&T IT\"),$G204,\"\")","v":""},{"$f":"IF(OR($D204=\"AS&T\",$D204=\"AS&T IT\"),$H204,\"\")","v":""},{"$f":"IF(OR($D204=\"IC\",$D204=\"IC IT\"),$E204,\"\")","v":""},{"$f":"IF(OR($D204=\"IC\",$D204=\"IC IT\"),$F204,\"\")","v":""},{"$f":"IF(OR($D204=\"IC\",$D204=\"IC IT\"),$G204,\"\")","v":""},{"$f":"IF(OR($D204=\"IC\",$D204=\"IC IT\"),$H204,\"\")","v":""},{"$f":"IF(OR($D204=\"WC\",$D204=\"WC IT\"),$E204,\"\")","v":""},{"$f":"IF(OR($D204=\"WC\",$D204=\"WC IT\"),$F204,\"\")","v":""},{"$f":"IF(OR($D204=\"WC\",$D204=\"WC IT\"),$G204,\"\")","v":""},{"$f":"IF(OR($D204=\"WC\",$D204=\"WC IT\"),$H204,\"\")","v":""},{"$f":"IF(OR($D204=\"NMD\",$D204=\"NMD IT\"),$E204,\"\")","v":""},{"$f":"IF(OR($D204=\"NMD\",$D204=\"NMD IT\"),$F204,\"\")","v":""},{"$f":"IF(OR($D204=\"NMD\",$D204=\"NMD IT\"),$G204,\"\")","v":""},{"$f":"IF(OR($D204=\"NMD\",$D204=\"NMD IT\"),$H204,\"\")","v":""},{"$f":"IF(OR($D204=\"APP\",$D204=\"APP IT\"),$E204,\"\")","v":""},{"$f":"IF(OR($D204=\"APP\",$D204=\"APP IT\"),$F204,\"\")","v":""},{"$f":"IF(OR($D204=\"APP\",$D204=\"APP IT\"),$G204,\"\")","v":""},{"$f":"IF(OR($D204=\"APP\",$D204=\"APP IT\"),$H204,\"\")","v":""},{"$f":"IF(OR($D204=\"WR\",$D204=\"WR IT\"),$E204,\"\")","v":""},{"$f":"IF(OR($D204=\"WR\",$D204=\"WR IT\"),$F204,\"\")","v":""},{"$f":"IF(OR($D204=\"WR\",$D204=\"WR IT\"),$G204,\"\")","v":""},{"$f":"IF(OR($D204=\"WR\",$D204=\"WR IT\"),$H204,\"\")","v":""},{"$f":"IF(OR($D204=\"TAX\",$D204=\"TAX IT\"),$E204,\"\")","v":""},{"$f":"IF(OR($D204=\"TAX\",$D204=\"TAX IT\"),$F204,\"\")","v":""},{"$f":"IF(OR($D204=\"TAX\",$D204=\"TAX IT\"),$G204,\"\")","v":""},{"$f":"IF(OR($D204=\"TAX\",$D204=\"TAX IT\"),$H204,\"\")","v":""},{"$f":"IF(OR($D204=\"BPC\",$D204=\"BPC IT\"),$E204,\"\")","v":""},{"$f":"IF(OR($D204=\"BPC\",$D204=\"BPC IT\"),$F204,\"\")","v":""},{"$f":"IF(OR($D204=\"BPC\",$D204=\"BPC IT\"),$G204,\"\")","v":""},{"$f":"IF(OR($D204=\"BPC\",$D204=\"BPC IT\"),$H204,\"\")","v":""},{"$f":"IF(OR($D204=\"UIP\",$D204=\"UIP IT\"),$E204,\"\")","v":""},{"$f":"IF(OR($D204=\"UIP\",$D204=\"UIP IT\"),$F204,\"\")","v":""},{"$f":"IF(OR($D204=\"UIP\",$D204=\"UIP IT\"),$G204,\"\")","v":""},{"$f":"IF(OR($D204=\"UIP\",$D204=\"UIP IT\"),$H204,\"\")","v":""},{"$f":"IF(OR($D204=\"SUP\",$D204=\"SUP IT\"),$E204,\"\")","v":""},{"$f":"IF(OR($D204=\"SUP\",$D204=\"SUP IT\"),$F204,\"\")","v":""},{"$f":"IF(OR($D204=\"SUP\",$D204=\"SUP IT\"),$G204,\"\")","v":""},{"$f":"IF(OR($D204=\"SUP\",$D204=\"SUP IT\"),$H204,\"\")","v":""},{"$f":"IF(OR($D204=\"NRJM\",$D204=\"NRJM IT\"),$E204,\"\")","v":""},{"$f":"IF(OR($D204=\"NRJM\",$D204=\"NRJM IT\"),$F204,\"\")","v":""},{"$f":"IF(OR($D204=\"NRJM\",$D204=\"NRJM IT\"),$G204,\"\")","v":""},{"$f":"IF(OR($D204=\"NRJM\",$D204=\"NRJM IT\"),$H204,\"\")","v":""},{"$f":"SUM(I204,M204,Q204,U204,Y204,AC204,AG204,AK204,AO204,AS204,AW204)-E204","v":{"v":0,"d":"0.00"}},{"$f":"SUM(J204,N204,R204,V204,Z204,AD204,AH204,AL204,AP204,AT204,AX204)-F204","v":0},{"$f":"SUM(K204,O204,S204,W204,AA204,AE204,AI204,AM204,AQ204,AU204,AY204)-G204","v":0},{"$f":"SUM(L204,P204,T204,X204,AB204,AF204,AJ204,AN204,AR204,AV204,AZ204)-H204","v":{"v":0,"d":"0.00"}}]

{"sheet":"CROSS NPS","index":2,"n_rows":127,"n_cols":13,"rows_kept":127,"merged":[[0,0,0,3],[1,1,1,3],[2,0,2,3],[3,0,3,3],[4,12,5,12],[109,0,109,3]]}
["NPS CROSS WALK - PREVIOUS YEAR "]
[{"$f":"STARTUPCW!A2","v":"Crosswalk Version: 2.5.1"}]
[{"$f":"'CROSS PSPB'!A4:C4","v":"YOUR STATE"}]
[{"$f":"PREVIOUSFY","v":"FY "}]
[{"$nulls":12},"ROO - EOY"]
["STATE CODE","CODE #","Alloc","DOLLARS","IT/COMM.","NON IT","PS CONT","PS CONT IT","NON RJM ","NON RJM IT ","BALANCE","ROO - P"]
["AGENCY TOTALS",null,null,{"$f":"D107","v":0},{"$f":"E107","v":0},0,0,0,0,0,{"$f":"SUM(E7:J7)-D7","v":0},{"$f":"D10","v":0},{"$f":"D96","v":0}]
[]
["LEDGER/NPS CODE"]
["ROO - P",{"$nulls":3},{"$f":"IF($C10=\"IT/COMM\",$D10,\"\")","v":""},{"$f":"IF($C10=\"NON IT\",$D10,\"\")","v":""},{"$f":"IF($C10=\"PSCTR\",$D10,\"\")","v":""},{"$f":"IF($C10=\"PSCTR IT\",$D10,\"\")","v":""},{"$f":"IF($C10=\"NRJM\",$D10,\"\")","v":""},{"$f":"IF($C10=\"NRJM IT\",$D10,\"\")","v":""},{"$f":"SUM(E10:J10)-D10","v":0}]
["FEDERAL SOURCES"]
[{"$nulls":4},{"$f":"IF($C12=\"IT/COMM\",$D12,\"\")","v":""},{"$f":"IF($C12=\"NON IT\",$D12,\"\")","v":""},{"$f":"IF($C12=\"PSCTR\",$D12,\"\")","v":""},{"$f":"IF($C12=\"PSCTR IT\",$D12,\"\")","v":""},{"$f":"IF($C12=\"NRJM\",$D12,\"\")","v":""},{"$f":"IF($C12=\"NRJM IT\",$D12,\"\")","v":""},{"$f":"SUM(E12:J12)-D12","v":0}]
[{"$nulls":4},{"$f":"IF($C13=\"IT/COMM\",$D13,\"\")","v":""},{"$f":"IF($C13=\"NON IT\",$D13,\"\")","v":""},{"$f":"IF($C13=\"PSCTR\",$D13,\"\")","v":""},{"$f":"IF($C13=\"PSCTR IT\",$D13,\"\")","v":""},{"$f":"IF($C13=\"NRJM\",$D13,\"\")","v":""},"",0]
[{"$nulls":4},"","","","","","",0]
[{"$nulls":4},"","","","","","",0]
[{"$nulls":4},"","","","","","",0]
[{"$nulls":4},"","","","","","",0]
[{"$nulls":4},"","","","","","",0]
[{"$nulls":4},"","","","","","",0]
[{"$nulls":4},"","","","","","",0]
[{"$nulls":4},"","","","","","",0]
[{"$nulls":4},"","","","","","",0]
[{"$nulls":4},"","","","","","",0]
[{"$nulls":4},"","","","","","",0]
[{"$nulls":4},"","","","","","",0]
[{"$nulls":4},"","","","","","",0]
[{"$nulls":4},"","","","","","",0]
[{"$nulls":4},"","","","","","",0]
[{"$nulls":4},"","","","","","",0]
[{"$nulls":4},"","","","","","",0]
[{"$nulls":4},"","","","","","",0]
[{"$nulls":4},"","","","","","",0]
[{"$nulls":4},"","","","","","",0]
[{"$nulls":4},"","","","","","",0]
[{"$nulls":4},"","","","","","",0]
[{"$nulls":4},"","","","","","",0]
[{"$nulls":4},"","","","","","",0]
[{"$nulls":4},"","","","","","",0]
[{"$nulls":4},"","","","","","",0]
[{"$nulls":4},"","","","","","",0]
[{"$nulls":4},{"$f":"IF($C41=\"COMM\",$D41,\"\")","v":""},{"$f":"IF($C41=\"CSRV\",$D41,\"\")","v":""},null,null,{"$f":"IF($C41=\"PSCTR\",$D41,\"\")","v":""},"",0]
[{"$nulls":4},{"$f":"IF($C42=\"COMM\",$D42,\"\")","v":""},{"$f":"IF($C42=\"CSRV\",$D42,\"\")","v":""},null,null,{"$f":"IF($C42=\"PSCTR\",$D42,\"\")","v":""},"",0]
[{"$nulls":4},{"$f":"IF($C43=\"COMM\",$D43,\"\")","v":""},{"$f":"IF($C43=\"CSRV\",$D43,\"\")","v":""},null,null,{"$f":"IF($C43=\"PSCTR\",$D43,\"\")","v":""},"",0]
["STATE SOURCES"]
[{"$nulls":4},"","","","","","",{"$f":"SUM(E45:J45)-D45","v":0}]
[{"$nulls":4},"","","","","","",0]
[{"$nulls":4},"","","","","","",0]
[{"$nulls":4},"","","","","","",0]
[{"$nulls":4},"","","","","","",0]
[{"$nulls":4},"","","","","","",0]
[{"$nulls":4},"","","","","","",0]
[{"$nulls":4},"","","","","","",0]
[{"$nulls":4},"","","","","","",0]
[{"$nulls":4},"","","","","","",0]
[{"$nulls":4},"","","","","","",0]
[{"$nulls":4},"","","","","","",0]
[{"$nulls":4},"","","","","","",0]
[{"$nulls":4},"","","","","","",0]
[{"$nulls":4},"","","","","","",0]
[{"$nulls":4},"","","","","","",0]
[{"$nulls":4},"","","","","","",0]
[{"$nulls":4},"","","","","","",0]
[{"$nulls":4},"","","","","","",0]
[{"$nulls":4},"","","","","","",0]
[{"$nulls":4},{"$f":"IF($C65=\"IT/COMM\",$D65,\"\")","v":""},{"$f":"IF($C65=\"NON IT\",$D65,\"\")","v":""},{"$f":"IF($C65=\"PSCTR\",$D65,\"\")","v":""},{"$f":"IF($C65=\"PSCTR IT\",$D65,\"\")","v":""},{"$f":"IF($C65=\"NRJM\",$D65,\"\")","v":""},"",0]
[{"$nulls":4},"","","","","","",0]
[{"$nulls":4},"","","","","","",0]
[{"$nulls":4},"","","","","","",0]
[{"$nulls":4},"","","","","","",0]
[{"$nulls":4},"","","","","","",0]
[{"$nulls":4},"","","","","","",0]
[{"$nulls":4},"","","","","","",0]
[{"$nulls":4},"","","","","","",0]
[{"$nulls":4},"","","","","","",0]
[{"$nulls":4},"","","","","","",0]
[{"$nulls":4},"","","","","",{"$f":"IF($C76=\"NRJM IT\",$D76,\"\")","v":""},0]
[{"$nulls":4},"","","","","","",0]
[{"$nulls":4},"","","","","","",0]
[{"$nulls":4},"","","","","","",0]
[{"$nulls":4},"","","","","","",0]
[{"$nulls":4},"","","","","","",0]
[{"$nulls":4},"","","","","","",0]
[{"$nulls":4},{"$f":"IF($C83=\"COMM\",$D83,\"\")","v":""},{"$f":"IF($C83=\"CSRV\",$D83,\"\")","v":""},null,null,{"$f":"IF($C83=\"PSCTR\",$D83,\"\")","v":""},"",0]
[{"$nulls":4},{"$f":"IF($C84=\"COMM\",$D84,\"\")","v":""},{"$f":"IF($C84=\"CSRV\",$D84,\"\")","v":""},null,null,{"$f":"IF($C84=\"PSCTR\",$D84,\"\")","v":""},"",0]
[{"$nulls":4},{"$f":"IF($C85=\"COMM\",$D85,\"\")","v":""},{"$f":"IF($C85=\"CSRV\",$D85,\"\")","v":""},null,null,{"$f":"IF($C85=\"PSCTR\",$D85,\"\")","v":""},"",0]
[]
["TOTAL",null,null,{"$f":"SUM(D10:D86)","v":0},0,0,0,0,0,0,{"$f":"SUM(E87:J87)-D87","v":0}]
[]
["ALLOCATED",null,null,{"$f":"SUM(E87:J87)","v":0}]
[]
["DIFFERENCE",null,null,{"$f":"D87-D89","v":0}]
[]
[]
["ADJUSTMENTS"]
[]
["ROO - END OF YEAR",{"$nulls":3},{"$f":"IF($C96=\"IT/COMM\",$D96,\"\")","v":""},{"$f":"IF($C96=\"NON IT\",$D96,\"\")","v":""},{"$f":"IF($C96=\"PSCTR\",$D96,\"\")","v":""},{"$f":"IF($C96=\"PSCTR IT\",$D96,\"\")","v":""},{"$f":"IF($C96=\"NRJM\",$D96,\"\")","v":""},{"$f":"IF($C96=\"NRJM IT\",$D96,\"\")","v":""},{"$f":"SUM(E96:J96)-D96","v":0}]
[{"$nulls":4},"","","","","","",0]
[{"$nulls":4},"","","","","","",0]
[{"$nulls":4},"","","","","","",0]
[{"$nulls":4},"","","","","","",0]
[{"$nulls":4},"","","","","","",0]
[{"$nulls":4},"","","","","","",0]
[{"$nulls":4},"","","","","","",0]
[]
["TOTAL ADJUSTMENTS",null,null,{"$f":"SUM(D96:D104)","v":0},0,0,0,0,0,0,0]
[]
["RJM COSTS",null,null,{"$f":"D87-D105","v":0},0,0,0,0,0,0,0]
[]
[]
["SHEET IS DESIGNED TO ALLOW ADDITIONAL ROWS TO BE INSERTED - IF DONE MANUALLY INSTEAD OF BY USING BUTTONS AT TOP OF WORKSHEET, COPY FORMULAS IN C12 and FROM E12 through P12 TO ALL INSERTED ROWS."]
[]
[]
[]
[]
["IT/COMM"]
["NON IT"]
["SPLIT"]
["SPLIT IT"]
["PSCTR"]
["PSCTR IT"]
["NRJM"]
["NRJM IT"]
[]
[]
[]
[]
[{"$nulls":4},{"$f":"IF($C127=\"IT/COMM\",$D127,\"\")","v":""},{"$f":"IF($C127=\"NON IT\",$D127,\"\")","v":""},{"$f":"IF($C127=\"PSCTR\",$D127,\"\")","v":""},{"$f":"IF($C127=\"PSCTR IT\",$D127,\"\")","v":""},{"$f":"IF($C127=\"NRJM\",$D127,\"\")","v":""},{"$f":"IF($C127=\"NRJM IT\",$D127,\"\")","v":""},{"$f":"SUM(E127:J127)-D127","v":0}]

{"sheet":"TEUC CROSS PSPB","index":3,"n_rows":176,"n_cols":54,"rows_kept":176,"hidden":true,"merged":[[0,0,0,5],[3,0,3,1],[5,2,5,5],[5,6,5,9],[5,10,5,13],[5,14,5,17],[5,18,5,21],[5,22,5,25],[5,26,5,29],[5,30,5,33],[5,34,5,37],[5,38,5,41],[5,42,5,45],[5,46,5,49],[5,50,5,53],[107,0,107,2]]}
["TEUC PS/PB CROSS WALK - PREVIOUS YEAR"]
[{"$f":"#REF!","v":{"$error":"#REF!"}},{"$nulls":4},"2005-07-05"]
[null,null,"CROSS PSPB"]
[{"$f":"#REF!","v":{"$error":"#REF!"}}]
[]
["PREVIOUS YEAR",null,"TOTAL",{"$nulls":3},"AS&T",{"$nulls":3},"INITIAL CLAIMS",{"$nulls":3},"WEEKS CLAIMED",{"$nulls":3},"NON-MONETARY DETERMINATIONS",{"$nulls":3},"APPEALS",{"$nulls":3},"WAGE RECORDS",{"$nulls":3},"TAX",{"$nulls":3},"BENEFIT PAYMENT CONTROL",{"$nulls":3},"UI PERFORMS",{"$nulls":3},"SUPPORT",{"$nulls":3},"NON RJM",{"$nulls":3},"BALANCE"]
[{"$f":"PREVIOUSFY","v":"FY "},null,"HOURS",{"$nulls":3},"HOURS",{"$nulls":3},"HOURS",{"$nulls":3},"HOURS",{"$nulls":3},"HOURS",{"$nulls":3},"HOURS",{"$nulls":3},"HOURS",{"$nulls":3},"HOURS",{"$nulls":3},"HOURS",{"$nulls":3},"HOURS",{"$nulls":3},"HOURS",{"$nulls":3},"HOURS",{"$nulls":3},"HOURS"]
[null,"FAC","PAID","PS$","PB$","WORK HRS.","PAID","PS$","PB$","WORK HRS.","PAID","PS$","PB$","WORK HRS.","PAID","PS$","PB$","WORK HRS.","PAID","PS$","PB$","WORK HRS.","PAID","PS$","PB$","WORK HRS.","PAID","PS$","PB$","WORK HRS.","PAID","PS$","PB$","WORK HRS.","PAID","PS$","PB$","WORK HRS.","PAID","PS$","PB$","WORK HRS.","PAID","PS$","PB$","WORK HRS.","PAID","PS$","PB$","WORK HRS.","PAID","PS$","PB$","WORK HRS."]
["AGENCY TOTALS LESS NON-RJM",null,{"$f":"C101","v":{"v":0,"d":"0.00"}},0,0,{"v":0,"d":"0.00"},{"v":0,"d":"0.00"},0,0,{"v":0,"d":"0.00"},{"v":0,"d":"0.00"},0,0,{"v":0,"d":"0.00"},{"v":0,"d":"0.00"},0,0,{"v":0,"d":"0.00"},{"v":0,"d":"0.00"},0,0,{"v":0,"d":"0.00"},{"v":0,"d":"0.00"},0,0,{"v":0,"d":"0.00"},{"v":0,"d":"0.00"},0,0,{"v":0,"d":"0.00"},{"v":0,"d":"0.00"},0,0,{"v":0,"d":"0.00"},{"v":0,"d":"0.00"},0,0,{"v":0,"d":"0.00"},{"v":0,"d":"0.00"},0,0,{"v":0,"d":"0.00"},{"v":0,"d":"0.00"},0,0,{"v":0,"d":"0.00"},{"v":0,"d":"0.00"},0,0,{"v":0,"d":"0.00"},{"$f":"SUM(G9,K9,O9,S9,W9,AA9,AE9,AI9,AM9,AQ9,AU9)-C9","v":{"v":0,"d":"0.00"}},{"$f":"SUM(H9,L9,P9,T9,X9,AB9,AF9,AJ9,AN9,AR9,AV9)-D9","v":0},{"$f":"SUM(I9,M9,Q9,U9,Y9,AC9,AG9,AK9,AO9,AS9,AW9)-E9","v":0},{"$f":"SUM(J9,N9,R9,V9,Z9,AD9,AH9,AL9,AP9,AT9,AX9)-F9","v":{"v":0,"d":"0.00"}}]
[]
["TEUC"]
[{"$nulls":50},{"$f":"SUM(G12,K12,O12,S12,W12,AA12,AE12,AI12,AM12,AQ12,AU12)-C12","v":{"v":0,"d":"0.00"}},0,0,{"v":0,"d":"0.00"}]
[{"$nulls":50},{"v":0,"d":"0.00"},0,0,{"v":0,"d":"0.00"}]
[{"$nulls":50},{"v":0,"d":"0.00"},0,0,{"v":0,"d":"0.00"}]
[{"$nulls":50},{"v":0,"d":"0.00"},0,0,{"v":0,"d":"0.00"}]
[{"$nulls":50},{"v":0,"d":"0.00"},0,0,{"v":0,"d":"0.00"}]
[{"$nulls":50},{"v":0,"d":"0.00"},0,0,{"v":0,"d":"0.00"}]
[{"$nulls":50},{"v":0,"d":"0.00"},0,0,{"v":0,"d":"0.00"}]
[{"$nulls":50},{"v":0,"d":"0.00"},0,0,{"v":0,"d":"0.00"}]
[{"$nulls":50},{"$f":"SUM(G20,K20,O20,S20,W20,AA20,AE20,AI20,AM20,AQ20,AU20)-C20","v":{"v":0,"d":"0.00"}},{"$f":"SUM(H20,L20,P20,T20,X20,AB20,AF20,AJ20,AN20,AR20,AV20)-D20","v":0},{"$f":"SUM(I20,M20,Q20,U20,Y20,AC20,AG20,AK20,AO20,AS20,AW20)-E20","v":0},{"$f":"SUM(J20,N20,R20,V20,Z20,AD20,AH20,AL20,AP20,AT20,AX20)-F20","v":{"v":0,"d":"0.00"}}]
[{"$nulls":50},{"v":0,"d":"0.00"},0,0,{"v":0,"d":"0.00"}]
[{"$nulls":50},{"v":0,"d":"0.00"},0,0,{"v":0,"d":"0.00"}]
[{"$nulls":50},{"v":0,"d":"0.00"},0,0,{"v":0,"d":"0.00"}]
[{"$nulls":50},{"v":0,"d":"0.00"},0,0,{"v":0,"d":"0.00"}]
[{"$nulls":50},{"v":0,"d":"0.00"},0,0,{"v":0,"d":"0.00"}]
[{"$nulls":50},{"v":0,"d":"0.00"},0,0,{"v":0,"d":"0.00"}]
[{"$nulls":50},{"v":0,"d":"0.00"},0,0,{"v":0,"d":"0.00"}]
[{"$nulls":50},{"v":0,"d":"0.00"},0,0,{"v":0,"d":"0.00"}]
[{"$nulls":50},{"v":0,"d":"0.00"},0,0,{"v":0,"d":"0.00"}]
[{"$nulls":50},{"v":0,"d":"0.00"},0,0,{"v":0,"d":"0.00"}]
[{"$nulls":50},{"v":0,"d":"0.00"},0,0,{"v":0,"d":"0.00"}]
[{"$nulls":50},{"v":0,"d":"0.00"},0,0,{"v":0,"d":"0.00"}]
[{"$nulls":50},{"v":0,"d":"0.00"},0,0,{"v":0,"d":"0.00"}]
[{"$nulls":50},{"v":0,"d":"0.00"},0,0,{"v":0,"d":"0.00"}]
[{"$nulls":50},{"v":0,"d":"0.00"},0,0,{"v":0,"d":"0.00"}]
[{"$nulls":50},{"v":0,"d":"0.00"},0,0,{"v":0,"d":"0.00"}]
[{"$nulls":50},{"v":0,"d":"0.00"},0,0,{"v":0,"d":"0.00"}]
[{"$nulls":50},{"v":0,"d":"0.00"},0,0,{"v":0,"d":"0.00"}]
[{"$nulls":50},{"v":0,"d":"0.00"},0,0,{"v":0,"d":"0.00"}]
[{"$nulls":50},{"v":0,"d":"0.00"},0,0,{"v":0,"d":"0.00"}]
[{"$nulls":50},{"v":0,"d":"0.00"},0,0,{"v":0,"d":"0.00"}]
[{"$nulls":50},{"v":0,"d":"0.00"},0,0,{"v":0,"d":"0.00"}]
[{"$nulls":50},{"v":0,"d":"0.00"},0,0,{"v":0,"d":"0.00"}]
[{"$nulls":50},{"v":0,"d":"0.00"},0,0,{"v":0,"d":"0.00"}]
[{"$nulls":50},{"v":0,"d":"0.00"},0,0,{"v":0,"d":"0.00"}]
[{"$nulls":50},{"v":0,"d":"0.00"},0,0,{"v":0,"d":"0.00"}]
[{"$nulls":50},{"v":0,"d":"0.00"},0,0,{"v":0,"d":"0.00"}]
[{"$nulls":50},{"v":0,"d":"0.00"},0,0,{"v":0,"d":"0.00"}]
[{"$nulls":50},{"v":0,"d":"0.00"},0,0,{"v":0,"d":"0.00"}]
[{"$nulls":50},{"v":0,"d":"0.00"},0,0,{"v":0,"d":"0.00"}]
[{"$nulls":50},{"v":0,"d":"0.00"},0,0,{"v":0,"d":"0.00"}]
[{"$nulls":50},{"v":0,"d":"0.00"},0,0,{"v":0,"d":"0.00"}]
[{"$nulls":50},{"v":0,"d":"0.00"},0,0,{"v":0,"d":"0.00"}]
[{"$nulls":50},{"v":0,"d":"0.00"},0,0,{"v":0,"d":"0.00"}]
[{"$nulls":50},{"v":0,"d":"0.00"},0,0,{"v":0,"d":"0.00"}]
[{"$nulls":50},{"v":0,"d":"0.00"},0,0,{"v":0,"d":"0.00"}]
[{"$nulls":50},{"v":0,"d":"0.00"},0,0,{"v":0,"d":"0.00"}]
[{"$nulls":50},{"v":0,"d":"0.00"},0,0,{"v":0,"d":"0.00"}]
[{"$nulls":50},{"v":0,"d":"0.00"},0,0,{"v":0,"d":"0.00"}]
[{"$nulls":50},{"v":0,"d":"0.00"},0,0,{"v":0,"d":"0.00"}]
[{"$nulls":50},{"v":0,"d":"0.00"},0,0,{"v":0,"d":"0.00"}]
[{"$nulls":50},{"v":0,"d":"0.00"},0,0,{"v":0,"d":"0.00"}]
[{"$nulls":50},{"v":0,"d":"0.00"},0,0,{"v":0,"d":"0.00"}]
[{"$nulls":50},{"v":0,"d":"0.00"},0,0,{"v":0,"d":"0.00"}]
[{"$nulls":50},{"v":0,"d":"0.00"},0,0,{"v":0,"d":"0.00"}]
[{"$nulls":50},{"v":0,"d":"0.00"},0,0,{"v":0,"d":"0.00"}]
[{"$nulls":50},{"v":0,"d":"0.00"},0,0,{"v":0,"d":"0.00"}]
[{"$nulls":50},{"v":0,"d":"0.00"},0,0,{"v":0,"d":"0.00"}]
[{"$nulls":50},{"v":0,"d":"0.00"},0,0,{"v":0,"d":"0.00"}]
[{"$nulls":50},{"v":0,"d":"0.00"},0,0,{"v":0,"d":"0.00"}]
[{"$nulls":50},{"v":0,"d":"0.00"},0,0,{"v":0,"d":"0.00"}]
[{"$nulls":50},{"v":0,"d":"0.00"},0,0,{"v":0,"d":"0.00"}]
[{"$nulls":50},{"v":0,"d":"0.00"},0,0,{"v":0,"d":"0.00"}]
[{"$nulls":50},{"v":0,"d":"0.00"},0,0,{"v":0,"d":"0.00"}]
[{"$nulls":50},{"v":0,"d":"0.00"},0,0,{"v":0,"d":"0.00"}]
[{"$nulls":50},{"v":0,"d":"0.00"},0,0,{"v":0,"d":"0.00"}]
[{"$nulls":50},{"v":0,"d":"0.00"},0,0,{"v":0,"d":"0.00"}]
[{"$nulls":50},{"v":0,"d":"0.00"},0,0,{"v":0,"d":"0.00"}]
[{"$nulls":50},{"v":0,"d":"0.00"},0,0,{"v":0,"d":"0.00"}]
[{"$nulls":50},{"v":0,"d":"0.00"},0,0,{"v":0,"d":"0.00"}]
[{"$nulls":50},{"v":0,"d":"0.00"},0,0,{"v":0,"d":"0.00"}]
[{"$nulls":50},{"v":0,"d":"0.00"},0,0,{"v":0,"d":"0.00"}]
[{"$nulls":50},{"v":0,"d":"0.00"},0,0,{"v":0,"d":"0.00"}]
[{"$nulls":50},{"$f":"SUM(G84,K84,O84,S84,W84,AA84,AE84,AI84,AM84,AQ84,AU84)-C84","v":{"v":0,"d":"0.00"}},{"$f":"SUM(H84,L84,P84,T84,X84,AB84,AF84,AJ84,AN84,AR84,AV84)-D84","v":0},{"$f":"SUM(I84,M84,Q84,U84,Y84,AC84,AG84,AK84,AO84,AS84,AW84)-E84","v":0},{"$f":"SUM(J84,N84,R84,V84,Z84,AD84,AH84,AL84,AP84,AT84,AX84)-F84","v":{"v":0,"d":"0.00"}}]
[{"$nulls":50},{"v":0,"d":"0.00"},0,0,{"v":0,"d":"0.00"}]
[{"$nulls":50},{"v":0,"d":"0.00"},0,0,{"v":0,"d":"0.00"}]
[{"$nulls":50},{"v":0,"d":"0.00"},0,0,{"v":0,"d":"0.00"}]
[{"$nulls":50},{"v":0,"d":"0.00"},0,0,{"v":0,"d":"0.00"}]
[{"$nulls":50},{"v":0,"d":"0.00"},0,0,{"v":0,"d":"0.00"}]
[{"$nulls":50},{"v":0,"d":"0.00"},0,0,{"v":0,"d":"0.00"}]
[{"$nulls":50},{"$f":"SUM(G91,K91,O91,S91,W91,AA91,AE91,AI91,AM91,AQ91,AU91)-C91","v":{"v":0,"d":"0.00"}},0,0,{"v":0,"d":"0.00"}]
[{"$nulls":50},{"v":0,"d":"0.00"},0,0,{"v":0,"d":"0.00"}]
[{"$nulls":50},{"v":0,"d":"0.00"},0,0,{"v":0,"d":"0.00"}]
[{"$nulls":50},{"v":0,"d":"0.00"},0,0,{"v":0,"d":"0.00"}]
[{"$nulls":50},{"$f":"SUM(G95,K95,O95,S95,W95,AA95,AE95,AI95,AM95,AQ95,AU95)-C95","v":{"v":0,"d":"0.00"}},0,0,{"v":0,"d":"0.00"}]
[{"$nulls":50},{"v":0,"d":"0.00"},0,0,{"v":0,"d":"0.00"}]
[{"$nulls":50},{"v":0,"d":"0.00"},0,0,{"v":0,"d":"0.00"}]
[{"$nulls":50},{"$f":"SUM(G98,K98,O98,S98,W98,AA98,AE98,AI98,AM98,AQ98,AU98)-C98","v":{"v":0,"d":"0.00"}},0,0,{"v":0,"d":"0.00"}]
[{"$nulls":50},{"v":0,"d":"0.00"},0,0,{"v":0,"d":"0.00"}]
[{"$nulls":50},{"v":0,"d":"0.00"},0,0,{"v":0,"d":"0.00"}]
["TOTAL",null,{"$f":"SUM(C12:C100)","v":{"v":0,"d":"0.00"}},0,0,{"v":0,"d":"0.00"},{"v":0,"d":"0.00"},0,0,{"v":0,"d":"0.00"},{"v":0,"d":"0.00"},0,0,{"v":0,"d":"0.00"},{"v":0,"d":"0.00"},0,0,{"v":0,"d":"0.00"},{"v":0,"d":"0.00"},0,0,{"v":0,"d":"0.00"},{"v":0,"d":"0.00"},0,0,{"v":0,"d":"0.00"},{"v":0,"d":"0.00"},0,0,{"v":0,"d":"0.00"},{"v":0,"d":"0.00"},0,0,{"v":0,"d":"0.00"},{"v":0,"d":"0.00"},0,0,{"v":0,"d":"0.00"},{"v":0,"d":"0.00"},0,0,{"v":0,"d":"0.00"},{"v":0,"d":"0.00"},0,0,{"v":0,"d":"0.00"},{"v":0,"d":"0.00"},0,0,{"v":0,"d":"0.00"},{"v":0,"d":"0.00"},0,0,{"v":0,"d":"0.00"}]
[]
["ALLOCATED",null,{"$f":"G101+K101+O101+S101+W101+AA101+AE101+AI101+AM101+AQ101+AU101","v":{"v":0,"d":"0.00"}},{"$f":"H101+L101+P101+T101+X101+AB101+AF101+AJ101+AN101+AR101+AV101","v":0},{"$f":"I101+M101+Q101+U101+Y101+AC101+AG101+AK101+AO101+AS101+AW101","v":0},{"$f":"J101+N101+R101+V101+Z101+AD101+AH101+AL101+AP101+AT101+AX101","v":{"v":0,"d":"0.00"}}]
[]
["DIFFERENCE",null,{"$f":"C101-C103","v":{"v":0,"d":"0.00"}},{"$f":"D101-D103","v":0},{"$f":"E101-E103","v":0},{"$f":"F101-F103","v":{"v":0,"d":"0.00"}}]
[]
[]
["SHEET IS DESIGNED TO ALLOW ADDITIONAL ROWS TO BE INSERTED - COPY FORMULAS FROM AY12 through BB12 TO ALL INSERTED ROWS."]
{"$rows_empty":13}
["STATE TABLE"]
["ALABAMA"]
["ALASKA"]
["ARIZONA"]
["ARKANSAS"]
["CALIFORNIA"]
["COLORADO"]
["CONNECTICUT"]
["DELAWARE"]
["DISTRICT OF COLUMBIA"]
["FLORIDA"]
["GEORGIA"]
["HAWAII"]
["IDAHO"]
["ILLINOIS"]
["INDIANA"]
["IOWA"]
["KANSAS"]
["KENTUCKY"]
["LOUISIANA"]
["MAINE"]
["MARYLAND"]
["MASSACHUSETTS"]
["MICHIGAN"]
["MINNESOTA"]
["MISSISSIPPI"]
["MISSOURI"]
["MONTANA"]
["NEBRASKA"]
["NEVADA"]
["NEW HAMPSHIRE"]
["NEW JERSEY"]
["NEW MEXICO"]
["NEW YORK"]
["NORTH CAROLINA"]
["NORTH DAKOTA"]
["OHIO"]
["OKLAHOMA"]
["OREGON"]
["PENNSYLVANIA"]
["PUERTO RICO"]
["RHODE ISLAND"]
["SOUTH CAROLINA"]
["SOUTH DAKOTA"]
["TENNESSEE"]
["TEXAS"]
["UTAH"]
["VERMONT"]
["VIRGIN ISLANDS"]
["VIRGINIA"]
["WASHINGTON"]
["WEST VIRGINIA"]
["WISCONSIN"]
["WYOMING"]
["STATE NAME"]

{"sheet":"TEUC CROSS NPS","index":4,"n_rows":119,"n_cols":15,"rows_kept":119,"hidden":true,"merged":[[0,0,0,2],[1,1,1,2],[2,0,2,2],[3,0,3,2],[118,0,118,2]]}
["TEUC NPS CROSS WALK - PREVIOUS YEAR "]
[{"$f":"#REF!","v":{"$error":"#REF!"}},"2005-07-05"]
[{"$f":"#REF!","v":{"$error":"#REF!"}},{"$nulls":3},""]
[{"$f":"#REF!","v":{"$error":"#REF!"}}]
[{"$nulls":12},"POSTAGE","OTHER"]
["STATE CODE","CODE #","DOLLARS","COMM.","FACILITIES","COM.SERV.","TRAVEL","OFF. EQUIP.","SUPPLIES","PS CONT.","STATE","MISC.","NON RJM","NON RJM","Balance"]
["AGENCY TOTALS",null,{"$f":"C116","v":0},0,0,0,0,0,0,0,0,0,0,0,{"$f":"SUM(D7:N7)-C7","v":0}]
[]
["LEDGER/NPS CODE"]
[{"$nulls":14},{"$f":"SUM(D10:N10)-C10","v":0}]
[{"$nulls":14},0]
[{"$nulls":14},0]
[{"$nulls":14},0]
[{"$nulls":14},0]
[{"$nulls":14},0]
[{"$nulls":14},0]
[{"$nulls":14},0]
[{"$nulls":14},0]
[{"$nulls":14},0]
[{"$nulls":14},0]
[{"$nulls":14},0]
[{"$nulls":14},0]
[{"$nulls":14},0]
[{"$nulls":14},0]
[{"$nulls":14},0]
[{"$nulls":14},0]
[{"$nulls":14},0]
[{"$nulls":14},0]
[{"$nulls":14},0]
[{"$nulls":14},0]
[{"$nulls":14},0]
[{"$nulls":14},0]
[{"$nulls":14},0]
[{"$nulls":14},0]
[{"$nulls":14},0]
[{"$nulls":14},0]
[{"$nulls":14},0]
[{"$nulls":14},0]
[{"$nulls":14},0]
[{"$nulls":14},0]
[{"$nulls":14},0]
[{"$nulls":14},0]
[{"$nulls":14},0]
[{"$nulls":14},0]
[{"$nulls":14},0]
[{"$nulls":14},0]
[{"$nulls":14},0]
[{"$nulls":14},0]
[{"$nulls":14},0]
[{"$nulls":14},0]
[{"$nulls":14},0]
[{"$nulls":14},0]
[{"$nulls":14},0]
[{"$nulls":14},0]
[{"$nulls":14},0]
[{"$nulls":14},0]
[{"$nulls":14},0]
[{"$nulls":14},0]
[{"$nulls":14},0]
[{"$nulls":14},0]
[{"$nulls":14},0]
[{"$nulls":14},0]
[{"$nulls":14},0]
[{"$nulls":14},0]
[{"$nulls":14},0]
[{"$nulls":14},0]
[{"$nulls":14},0]
[{"$nulls":14},0]
[{"$nulls":14},0]
[{"$nulls":14},0]
[{"$nulls":14},0]
[{"$nulls":14},0]
[{"$nulls":14},0]
[{"$nulls":14},0]
[{"$nulls":14},0]
[{"$nulls":14},0]
[{"$nulls":14},0]
[{"$nulls":14},0]
[{"$nulls":14},0]
[{"$nulls":14},0]
[{"$nulls":14},0]
[{"$nulls":14},0]
[{"$nulls":14},0]
[{"$nulls":14},0]
[{"$nulls":14},0]
[{"$nulls":14},0]
[{"$nulls":14},0]
[{"$nulls":14},0]
[{"$nulls":14},0]
[{"$nulls":14},0]
[{"$nulls":14},0]
[{"$nulls":14},0]
[{"$nulls":14},0]
[{"$nulls":14},0]
[{"$nulls":14},0]
[{"$nulls":14},0]
[{"$nulls":14},0]
[{"$nulls":14},0]
[{"$nulls":14},0]
[{"$nulls":14},0]
["TOTAL",null,{"$f":"SUM(C10:C100)","v":0},0,0,0,0,0,0,0,0,0,0,0,0]
[]
["ALLOCATED",null,{"$f":"SUM(D101:N101)","v":0}]
[]
["DIFFERENCE",null,{"$f":"C101-C103","v":0}]
[]
[]
["ADJUSTMENTS"]
[]
["ROO - END OF YEAR",{"$nulls":13},{"$f":"SUM(D110:N110)-C110","v":0}]
[{"$nulls":14},{"$f":"SUM(D111:N111)-C111","v":0}]
[{"$nulls":14},{"$f":"SUM(D112:N112)-C112","v":0}]
[{"$nulls":14},{"$f":"SUM(D113:N113)-C113","v":0}]
["TOTAL ADJUSTMENTS",null,{"$f":"SUM(C110:C113)","v":0},0,0,0,0,0,0,0,0,0,0,0,0]
[]
["RJM COSTS",null,{"$f":"C101-C114","v":0},0,0,0,0,0,0,0,0,0,0,0,0]
[]
[]
["SHEET IS DESIGNED TO ALLOW ADDITIONAL ROWS TO BE INSERTED - COPY FORMULAS FROM O10 TO ALL INSERTED ROWS."]

{"sheet":"CROSS PSPB IT","index":5,"n_rows":214,"n_cols":56,"rows_kept":214,"hidden":true,"merged":[[0,0,0,6],[0,8,0,9],[1,8,1,9],[2,8,2,9],[3,0,3,2],[3,8,3,9],[4,8,4,9],[5,4,5,7],[5,8,5,11],[5,12,5,15],[5,16,5,19],[5,20,5,23],[5,24,5,27],[5,28,5,31],[5,32,5,35],[5,36,5,39],[5,40,5,43],[5,44,5,47],[5,48,5,51],[5,52,5,55]]}
["PS/PB IT CROSS WALK - PREVIOUS YEAR",{"$nulls":7},"Crosswalk Version"]
[{"$f":"STARTUPCW!A2","v":"Crosswalk Version: 2.5.1"},{"$nulls":7},{"$f":"STARTUPCW!E3","v":"2.5.1"}]
[{"$f":"IF(RIGHT('CROSS PSPB'!$D3,3)=\" IT\",'CROSS PSPB'!A3,\"\")","v":""},{"$nulls":3},"CROSS PSPB IT",{"$nulls":3},{"$f":"'CROSS PSPB'!I3:J3","v":"00:00:00"}]
[{"$f":"STATENAME","v":"YOUR STATE"},{"$nulls":7},"OMB Approval No. 1205-0430"]
[{"$nulls":8},{"$f":"'CROSS PSPB'!I5:J5","v":"Expires XX/XX/XXXX"}]
["PREVIOUS YEAR",{"$nulls":3},"TOTAL",{"$nulls":3},"AS&T",{"$nulls":3},"INITIAL CLAIMS (IC)",{"$nulls":3},"WEEKS CLAIMED (WC)",{"$nulls":3},"NON-MONETARY DETERMINATIONS (NMD)",{"$nulls":3},"APPEALS (APP)",{"$nulls":3},"WAGE RECORDS (WR)",{"$nulls":3},"TAX",{"$nulls":3},"BENEFIT PAYMENT CONTROL (BPC)",{"$nulls":3},"UI PERFORMS (UIP)",{"$nulls":3},"SUPPORT (SUP)",{"$nulls":3},"NON RJM (NRJM)",{"$nulls":3},"BALANCE"]
[{"$f":"PREVIOUSFY","v":"FY "},{"$nulls":3},"HOURS",{"$nulls":3},"HOURS",{"$nulls":3},"HOURS",{"$nulls":3},"HOURS",{"$nulls":3},"HOURS",{"$nulls":3},"HOURS",{"$nulls":3},"HOURS",{"$nulls":3},"HOURS",{"$nulls":3},"HOURS",{"$nulls":3},"HOURS",{"$nulls":3},"HOURS",{"$nulls":3},"HOURS",{"$nulls":3},"HOURS"]
[null,null,"FAC","Alloc","PAID","PS$","PB$","WORK HRS.","PAID","PS$","PB$","WORK HRS.","PAID","PS$","PB$","WORK HRS.","PAID","PS$","PB$","WORK HRS.","PAID","PS$","PB$","WORK HRS.","PAID","PS$","PB$","WORK HRS.","PAID","PS$","PB$","WORK HRS.","PAID","PS$","PB$","WORK HRS.","PAID","PS$","PB$","WORK HRS.","PAID","PS$","PB$","WORK HRS.","PAID","PS$","PB$","WORK HRS.","PAID","PS$","PB$","WORK HRS.","PAID","PS$","PB$","WORK HRS."]
["AGENCY TOTALS LESS NON-RJM",{"$nulls":3},{"$f":"E109-AW109","v":{"$error":"#REF!"}},{"$f":"F109-AX109","v":{"$error":"#REF!"}},{"$f":"G109-AY109","v":{"$error":"#REF!"}},{"$f":"H109-AZ109","v":{"$error":"#REF!"}},{"$f":"I109","v":{"$error":"#REF!"}},{"$error":"#REF!"},{"$error":"#REF!"},{"$error":"#REF!"},{"$error":"#REF!"},{"$error":"#REF!"},{"$error":"#REF!"},{"$error":"#REF!"},{"$error":"#REF!"},{"$error":"#REF!"},{"$error":"#REF!"},{"$error":"#REF!"},{"$error":"#REF!"},{"$error":"#REF!"},{"$error":"#REF!"},{"$error":"#REF!"},{"$error":"#REF!"},{"$error":"#REF!"},{"$error":"#REF!"},{"$error":"#REF!"},{"$error":"#REF!"},{"$error":"#REF!"},{"$error":"#REF!"},{"$error":"#REF!"},{"$error":"#REF!"},{"$error":"#REF!"},{"$error":"#REF!"},{"$error":"#REF!"},{"$error":"#REF!"},{"$error":"#REF!"},{"$error":"#REF!"},{"$error":"#REF!"},{"$error":"#REF!"},{"$error":"#REF!"},{"$error":"#REF!"},{"$error":"#REF!"},{"$error":"#REF!"},{"$error":"#REF!"},{"$error":"#REF!"},{"$error":"#REF!"},{"$error":"#REF!"},{"$error":"#REF!"},{"$error":"#REF!"},{"$error":"#REF!"},{"$f":"SUM(I9,M9,Q9,U9,Y9,AC9,AG9,AK9,AO9,AS9,AW9)-E9","v":{"$error":"#REF!"}},{"$f":"SUM(J9,N9,R9,V9,Z9,AD9,AH9,AL9,AP9,AT9,AX9)-F9","v":{"$error":"#REF!"}},{"$f":"SUM(K9,O9,S9,W9,AA9,AE9,AI9,AM9,AQ9,AU9,AY9)-G9","v":{"$error":"#REF!"}},{"$f":"SUM(L9,P9,T9,X9,AB9,AF9,AJ9,AN9,AR9,AV9,AZ9)-H9","v":{"$error":"#REF!"}}]
[]
["LEDGER/FUNCTIONAL ACTIVITY"]
["FEDERAL SOURCES",{"$f":"IF(RIGHT('CROSS PSPB'!$D12,3)=\" IT\",'CROSS PSPB'!B12,\"\")","v":""},{"$f":"IF(RIGHT('CROSS PSPB'!$D12,3)=\" IT\",'CROSS PSPB'!C12,\"\")","v":""},{"$f":"IF(RIGHT('CROSS PSPB'!$D12,3)=\" IT\",'CROSS PSPB'!D12,\"\")","v":""},{"$f":"IF(RIGHT('CROSS PSPB'!$D12,3)=\" IT\",'CROSS PSPB'!E12,\"\")","v":""},{"$f":"IF(RIGHT('CROSS PSPB'!$D12,3)=\" IT\",'CROSS PSPB'!F12,\"\")","v":""},{"$f":"IF(RIGHT('CROSS PSPB'!$D12,3)=\" IT\",'CROSS PSPB'!G12,\"\")","v":""},{"$f":"IF(RIGHT('CROSS PSPB'!$D12,3)=\" IT\",'CROSS PSPB'!H12,\"\")","v":""},{"$f":"IF(RIGHT('CROSS PSPB'!$D12,3)=\" IT\",'CROSS PSPB'!I12,\"\")","v":""},{"$f":"IF(RIGHT('CROSS PSPB'!$D12,3)=\" IT\",'CROSS PSPB'!J12,\"\")","v":""},{"$f":"IF(RIGHT('CROSS PSPB'!$D12,3)=\" IT\",'CROSS PSPB'!K12,\"\")","v":""},{"$f":"IF(RIGHT('CROSS PSPB'!$D12,3)=\" IT\",'CROSS PSPB'!L12,\"\")","v":""},{"$f":"IF(RIGHT('CROSS PSPB'!$D12,3)=\" IT\",'CROSS PSPB'!M12,\"\")","v":""},{"$f":"IF(RIGHT('CROSS PSPB'!$D12,3)=\" IT\",'CROSS PSPB'!N12,\"\")","v":""},{"$f":"IF(RIGHT('CROSS PSPB'!$D12,3)=\" IT\",'CROSS PSPB'!O12,\"\")","v":""},{"$f":"IF(RIGHT('CROSS PSPB'!$D12,3)=\" IT\",'CROSS PSPB'!P12,\"\")","v":""},{"$f":"IF(RIGHT('CROSS PSPB'!$D12,3)=\" IT\",'CROSS PSPB'!Q12,\"\")","v":""},{"$f":"IF(RIGHT('CROSS PSPB'!$D12,3)=\" IT\",'CROSS PSPB'!R12,\"\")","v":""},{"$f":"IF(RIGHT('CROSS PSPB'!$D12,3)=\" IT\",'CROSS PSPB'!S12,\"\")","v":""},{"$f":"IF(RIGHT('CROSS PSPB'!$D12,3)=\" IT\",'CROSS PSPB'!T12,\"\")","v":""},{"$f":"IF(RIGHT('CROSS PSPB'!$D12,3)=\" IT\",'CROSS PSPB'!U12,\"\")","v":""},{"$f":"IF(RIGHT('CROSS PSPB'!$D12,3)=\" IT\",'CROSS PSPB'!V12,\"\")","v":""},{"$f":"IF(RIGHT('CROSS PSPB'!$D12,3)=\" IT\",'CROSS PSPB'!W12,\"\")","v":""},{"$f":"IF(RIGHT('CROSS PSPB'!$D12,3)=\" IT\",'CROSS PSPB'!X12,\"\")","v":""},{"$f":"IF(RIGHT('CROSS PSPB'!$D12,3)=\" IT\",'CROSS PSPB'!Y12,\"\")","v":""},{"$f":"IF(RIGHT('CROSS PSPB'!$D12,3)=\" IT\",'CROSS PSPB'!Z12,\"\")","v":""},{"$f":"IF(RIGHT('CROSS PSPB'!$D12,3)=\" IT\",'CROSS PSPB'!AA12,\"\")","v":""},{"$f":"IF(RIGHT('CROSS PSPB'!$D12,3)=\" IT\",'CROSS PSPB'!AB12,\"\")","v":""},{"$f":"IF(RIGHT('CROSS PSPB'!$D12,3)=\" IT\",'CROSS PSPB'!AC12,\"\")","v":""},{"$f":"IF(RIGHT('CROSS PSPB'!$D12,3)=\" IT\",'CROSS PSPB'!AD12,\"\")","v":""},{"$f":"IF(RIGHT('CROSS PSPB'!$D12,3)=\" IT\",'CROSS PSPB'!AE12,\"\")","v":""},{"$f":"IF(RIGHT('CROSS PSPB'!$D12,3)=\" IT\",'CROSS PSPB'!AF12,\"\")","v":""},{"$f":"IF(RIGHT('CROSS PSPB'!$D12,3)=\" IT\",'CROSS PSPB'!AG12,\"\")","v":""},{"$f":"IF(RIGHT('CROSS PSPB'!$D12,3)=\" IT\",'CROSS PSPB'!AH12,\"\")","v":""},{"$f":"IF(RIGHT('CROSS PSPB'!$D12,3)=\" IT\",'CROSS PSPB'!AI12,\"\")","v":""},{"$f":"IF(RIGHT('CROSS PSPB'!$D12,3)=\" IT\",'CROSS PSPB'!AJ12,\"\")","v":""},{"$f":"IF(RIGHT('CROSS PSPB'!$D12,3)=\" IT\",'CROSS PSPB'!AK12,\"\")","v":""},{"$f":"IF(RIGHT('CROSS PSPB'!$D12,3)=\" IT\",'CROSS PSPB'!AL12,\"\")","v":""},{"$f":"IF(RIGHT('CROSS PSPB'!$D12,3)=\" IT\",'CROSS PSPB'!AM12,\"\")","v":""},{"$f":"IF(RIGHT('CROSS PSPB'!$D12,3)=\" IT\",'CROSS PSPB'!AN12,\"\")","v":""},{"$f":"IF(RIGHT('CROSS PSPB'!$D12,3)=\" IT\",'CROSS PSPB'!AO12,\"\")","v":""},{"$f":"IF(RIGHT('CROSS PSPB'!$D12,3)=\" IT\",'CROSS PSPB'!AP12,\"\")","v":""},{"$f":"IF(RIGHT('CROSS PSPB'!$D12,3)=\" IT\",'CROSS PSPB'!AQ12,\"\")","v":""},{"$f":"IF(RIGHT('CROSS PSPB'!$D12,3)=\" IT\",'CROSS PSPB'!AR12,\"\")","v":""},{"$f":"IF(RIGHT('CROSS PSPB'!$D12,3)=\" IT\",'CROSS PSPB'!AS12,\"\")","v":""},{"$f":"IF(RIGHT('CROSS PSPB'!$D12,3)=\" IT\",'CROSS PSPB'!AT12,\"\")","v":""},{"$f":"IF(RIGHT('CROSS PSPB'!$D12,3)=\" IT\",'CROSS PSPB'!AU12,\"\")","v":""},{"$f":"IF(RIGHT('CROSS PSPB'!$D12,3)=\" IT\",'CROSS PSPB'!AV12,\"\")","v":""},{"$f":"IF(RIGHT('CROSS PSPB'!$D12,3)=\" IT\",'CROSS PSPB'!AW12,\"\")","v":""},{"$f":"IF(RIGHT('CROSS PSPB'!$D12,3)=\" IT\",'CROSS PSPB'!AX12,\"\")","v":""},{"$f":"IF(RIGHT('CROSS PSPB'!$D12,3)=\" IT\",'CROSS PSPB'!AY12,\"\")","v":""},{"$f":"IF(RIGHT('CROSS PSPB'!$D12,3)=\" IT\",'CROSS PSPB'!AZ12,\"\")","v":""}]
[null,{"$f":"IF(RIGHT('CROSS PSPB'!#REF!,3)=\" IT\",'CROSS PSPB'!#REF!,\"\")","v":{"$error":"#REF!"}},{"$f":"IF(RIGHT('CROSS PSPB'!#REF!,3)=\" IT\",'CROSS PSPB'!#REF!,\"\")","v":{"$error":"#REF!"}},{"$f":"IF(RIGHT('CROSS PSPB'!#REF!,3)=\" IT\",'CROSS PSPB'!#REF!,\"\")","v":{"$error":"#REF!"}},{"$f":"IF(RIGHT('CROSS PSPB'!#REF!,3)=\" IT\",'CROSS PSPB'!#REF!,\"\")","v":{"$error":"#REF!"}},{"$f":"IF(RIGHT('CROSS PSPB'!#REF!,3)=\" IT\",'CROSS PSPB'!#REF!,\"\")","v":{"$error":"#REF!"}},{"$f":"IF(RIGHT('CROSS PSPB'!#REF!,3)=\" IT\",'CROSS PSPB'!#REF!,\"\")","v":{"$error":"#REF!"}},{"$f":"IF(RIGHT('CROSS PSPB'!#REF!,3)=\" IT\",'CROSS PSPB'!#REF!,\"\")","v":{"$error":"#REF!"}},{"$f":"IF(RIGHT('CROSS PSPB'!#REF!,3)=\" IT\",'CROSS PSPB'!#REF!,\"\")","v":{"$error":"#REF!"}},{"$f":"IF(RIGHT('CROSS PSPB'!#REF!,3)=\" IT\",'CROSS PSPB'!#REF!,\"\")","v":{"$error":"#REF!"}},{"$f":"IF(RIGHT('CROSS PSPB'!#REF!,3)=\" IT\",'CROSS PSPB'!#REF!,\"\")","v":{"$error":"#REF!"}},{"$f":"IF(RIGHT('CROSS PSPB'!#REF!,3)=\" IT\",'CROSS PSPB'!#REF!,\"\")","v":{"$error":"#REF!"}},{"$f":"IF(RIGHT('CROSS PSPB'!#REF!,3)=\" IT\",'CROSS PSPB'!#REF!,\"\")","v":{"$error":"#REF!"}},{"$f":"IF(RIGHT('CROSS PSPB'!#REF!,3)=\" IT\",'CROSS PSPB'!#REF!,\"\")","v":{"$error":"#REF!"}},{"$f":"IF(RIGHT('CROSS PSPB'!#REF!,3)=\" IT\",'CROSS PSPB'!#REF!,\"\")","v":{"$error":"#REF!"}},{"$f":"IF(RIGHT('CROSS PSPB'!#REF!,3)=\" IT\",'CROSS PSPB'!#REF!,\"\")","v":{"$error":"#REF!"}},{"$f":"IF(RIGHT('CROSS PSPB'!#REF!,3)=\" IT\",'CROSS PSPB'!#REF!,\"\")","v":{"$error":"#REF!"}},{"$f":"IF(RIGHT('CROSS PSPB'!#REF!,3)=\" IT\",'CROSS PSPB'!#REF!,\"\")","v":{"$error":"#REF!"}},{"$f":"IF(RIGHT('CROSS PSPB'!#REF!,3)=\" IT\",'CROSS PSPB'!#REF!,\"\")","v":{"$error":"#REF!"}},{"$f":"IF(RIGHT('CROSS PSPB'!#REF!,3)=\" IT\",'CROSS PSPB'!#REF!,\"\")","v":{"$error":"#REF!"}},{"$f":"IF(RIGHT('CROSS PSPB'!#REF!,3)=\" IT\",'CROSS PSPB'!#REF!,\"\")","v":{"$error":"#REF!"}},{"$f":"IF(RIGHT('CROSS PSPB'!#REF!,3)=\" IT\",'CROSS PSPB'!#REF!,\"\")","v":{"$error":"#REF!"}},{"$f":"IF(RIGHT('CROSS PSPB'!#REF!,3)=\" IT\",'CROSS PSPB'!#REF!,\"\")","v":{"$error":"#REF!"}},{"$f":"IF(RIGHT('CROSS PSPB'!#REF!,3)=\" IT\",'CROSS PSPB'!#REF!,\"\")","v":{"$error":"#REF!"}},{"$f":"IF(RIGHT('CROSS PSPB'!#REF!,3)=\" IT\",'CROSS PSPB'!#REF!,\"\")","v":{"$error":"#REF!"}},{"$f":"IF(RIGHT('CROSS PSPB'!#REF!,3)=\" IT\",'CROSS PSPB'!#REF!,\"\")","v":{"$error":"#REF!"}},{"$f":"IF(RIGHT('CROSS PSPB'!#REF!,3)=\" IT\",'CROSS PSPB'!#REF!,\"\")","v":{"$error":"#REF!"}},{"$f":"IF(RIGHT('CROSS PSPB'!#REF!,3)=\" IT\",'CROSS PSPB'!#REF!,\"\")","v":{"$error":"#REF!"}},{"$f":"IF(RIGHT('CROSS PSPB'!#REF!,3)=\" IT\",'CROSS PSPB'!#REF!,\"\")","v":{"$error":"#REF!"}},{"$f":"IF(RIGHT('CROSS PSPB'!#REF!,3)=\" IT\",'CROSS PSPB'!#REF!,\"\")","v":{"$error":"#REF!"}},{"$f":"IF(RIGHT('CROSS PSPB'!#REF!,3)=\" IT\",'CROSS PSPB'!#REF!,\"\")","v":{"$error":"#REF!"}},{"$f":"IF(RIGHT('CROSS PSPB'!#REF!,3)=\" IT\",'CROSS PSPB'!#REF!,\"\")","v":{"$error":"#REF!"}},{"$f":"IF(RIGHT('CROSS PSPB'!#REF!,3)=\" IT\",'CROSS PSPB'!#REF!,\"\")","v":{"$error":"#REF!"}},{"$f":"IF(RIGHT('CROSS PSPB'!#REF!,3)=\" IT\",'CROSS PSPB'!#REF!,\"\")","v":{"$error":"#REF!"}},{"$f":"IF(RIGHT('CROSS PSPB'!#REF!,3)=\" IT\",'CROSS PSPB'!#REF!,\"\")","v":{"$error":"#REF!"}},{"$f":"IF(RIGHT('CROSS PSPB'!#REF!,3)=\" IT\",'CROSS PSPB'!#REF!,\"\")","v":{"$error":"#REF!"}},{"$f":"IF(RIGHT('CROSS PSPB'!#REF!,3)=\" IT\",'CROSS PSPB'!#REF!,\"\")","v":{"$error":"#REF!"}},{"$f":"IF(RIGHT('CROSS PSPB'!#REF!,3)=\" IT\",'CROSS PSPB'!#REF!,\"\")","v":{"$error":"#REF!"}},{"$f":"IF(RIGHT('CROSS PSPB'!#REF!,3)=\" IT\",'CROSS PSPB'!#REF!,\"\")","v":{"$error":"#REF!"}},{"$f":"IF(RIGHT('CROSS PSPB'!#REF!,3)=\" IT\",'CROSS PSPB'!#REF!,\"\")","v":{"$error":"#REF!"}},{"$f":"IF(RIGHT('CROSS PSPB'!#REF!,3)=\" IT\",'CROSS PSPB'!#REF!,\"\")","v":{"$error":"#REF!"}},{"$f":"IF(RIGHT('CROSS PSPB'!#REF!,3)=\" IT\",'CROSS PSPB'!#REF!,\"\")","v":{"$error":"#REF!"}},{"$f":"IF(RIGHT('CROSS PSPB'!#REF!,3)=\" IT\",'CROSS PSPB'!#REF!,\"\")","v":{"$error":"#REF!"}},{"$f":"IF(RIGHT('CROSS PSPB'!#REF!,3)=\" IT\",'CROSS PSPB'!#REF!,\"\")","v":{"$error":"#REF!"}},{"$f":"IF(RIGHT('CROSS PSPB'!#REF!,3)=\" IT\",'CROSS PSPB'!#REF!,\"\")","v":{"$error":"#REF!"}},{"$f":"IF(RIGHT('CROSS PSPB'!#REF!,3)=\" IT\",'CROSS PSPB'!#REF!,\"\")","v":{"$error":"#REF!"}},{"$f":"IF(RIGHT('CROSS PSPB'!#REF!,3)=\" IT\",'CROSS PSPB'!#REF!,\"\")","v":{"$error":"#REF!"}},{"$f":"IF(RIGHT('CROSS PSPB'!#REF!,3)=\" IT\",'CROSS PSPB'!#REF!,\"\")","v":{"$error":"#REF!"}},{"$f":"IF(RIGHT('CROSS PSPB'!#REF!,3)=\" IT\",'CROSS PSPB'!#REF!,\"\")","v":{"$error":"#REF!"}},{"$f":"IF(RIGHT('CROSS PSPB'!#REF!,3)=\" IT\",'CROSS PSPB'!#REF!,\"\")","v":{"$error":"#REF!"}},{"$f":"IF(RIGHT('CROSS PSPB'!#REF!,3)=\" IT\",'CROSS PSPB'!#REF!,\"\")","v":{"$error":"#REF!"}},{"$f":"IF(RIGHT('CROSS PSPB'!#REF!,3)=\" IT\",'CROSS PSPB'!#REF!,\"\")","v":{"$error":"#REF!"}},{"$f":"SUM(I13,M13,Q13,U13,Y13,AC13,AG13,AK13,AO13,AS13,AW13)-E13","v":{"$error":"#REF!"}},{"$error":"#REF!"},{"$error":"#REF!"},{"$error":"#REF!"}]
[null,{"$f":"IF(RIGHT('CROSS PSPB'!#REF!,3)=\" IT\",'CROSS PSPB'!#REF!,\"\")","v":{"$error":"#REF!"}},{"$f":"IF(RIGHT('CROSS PSPB'!#REF!,3)=\" IT\",'CROSS PSPB'!#REF!,\"\")","v":{"$error":"#REF!"}},{"$f":"IF(RIGHT('CROSS PSPB'!#REF!,3)=\" IT\",'CROSS PSPB'!#REF!,\"\")","v":{"$error":"#REF!"}},{"$f":"IF(RIGHT('CROSS PSPB'!#REF!,3)=\" IT\",'CROSS PSPB'!#REF!,\"\")","v":{"$error":"#REF!"}},{"$f":"IF(RIGHT('CROSS PSPB'!#REF!,3)=\" IT\",'CROSS PSPB'!#REF!,\"\")","v":{"$error":"#REF!"}},{"$f":"IF(RIGHT('CROSS PSPB'!#REF!,3)=\" IT\",'CROSS PSPB'!#REF!,\"\")","v":{"$error":"#REF!"}},{"$f":"IF(RIGHT('CROSS PSPB'!#REF!,3)=\" IT\",'CROSS PSPB'!#REF!,\"\")","v":{"$error":"#REF!"}},{"$f":"IF(RIGHT('CROSS PSPB'!#REF!,3)=\" IT\",'CROSS PSPB'!#REF!,\"\")","v":{"$error":"#REF!"}},{"$f":"IF(RIGHT('CROSS PSPB'!#REF!,3)=\" IT\",'CROSS PSPB'!#REF!,\"\")","v":{"$error":"#REF!"}},{"$f":"IF(RIGHT('CROSS PSPB'!#REF!,3)=\" IT\",'CROSS PSPB'!#REF!,\"\")","v":{"$error":"#REF!"}},{"$f":"IF(RIGHT('CROSS PSPB'!#REF!,3)=\" IT\",'CROSS PSPB'!#REF!,\"\")","v":{"$error":"#REF!"}},{"$f":"IF(RIGHT('CROSS PSPB'!#REF!,3)=\" IT\",'CROSS PSPB'!#REF!,\"\")","v":{"$error":"#REF!"}},{"$f":"IF(RIGHT('CROSS PSPB'!#REF!,3)=\" IT\",'CROSS PSPB'!#REF!,\"\")","v":{"$error":"#REF!"}},{"$f":"IF(RIGHT('CROSS PSPB'!#REF!,3)=\" IT\",'CROSS PSPB'!#REF!,\"\")","v":{"$error":"#REF!"}},{"$f":"IF(RIGHT('CROSS PSPB'!#REF!,3)=\" IT\",'CROSS PSPB'!#REF!,\"\")","v":{"$error":"#REF!"}},{"$f":"IF(RIGHT('CROSS PSPB'!#REF!,3)=\" IT\",'CROSS PSPB'!#REF!,\"\")","v":{"$error":"#REF!"}},{"$f":"IF(RIGHT('CROSS PSPB'!#REF!,3)=\" IT\",'CROSS PSPB'!#REF!,\"\")","v":{"$error":"#REF!"}},{"$f":"IF(RIGHT('CROSS PSPB'!#REF!,3)=\" IT\",'CROSS PSPB'!#REF!,\"\")","v":{"$error":"#REF!"}},{"$f":"IF(RIGHT('CROSS PSPB'!#REF!,3)=\" IT\",'CROSS PSPB'!#REF!,\"\")","v":{"$error":"#REF!"}},{"$f":"IF(RIGHT('CROSS PSPB'!#REF!,3)=\" IT\",'CROSS PSPB'!#REF!,\"\")","v":{"$error":"#REF!"}},{"$f":"IF(RIGHT('CROSS PSPB'!#REF!,3)=\" IT\",'CROSS PSPB'!#REF!,\"\")","v":{"$error":"#REF!"}},{"$f":"IF(RIGHT('CROSS PSPB'!#REF!,3)=\" IT\",'CROSS PSPB'!#REF!,\"\")","v":{"$error":"#REF!"}},{"$f":"IF(RIGHT('CROSS PSPB'!#REF!,3)=\" IT\",'CROSS PSPB'!#REF!,\"\")","v":{"$error":"#REF!"}},{"$f":"IF(RIGHT('CROSS PSPB'!#REF!,3)=\" IT\",'CROSS PSPB'!#REF!,\"\")","v":{"$error":"#REF!"}},{"$f":"IF(RIGHT('CROSS PSPB'!#REF!,3)=\" IT\",'CROSS PSPB'!#REF!,\"\")","v":{"$error":"#REF!"}},{"$f":"IF(RIGHT('CROSS PSPB'!#REF!,3)=\" IT\",'CROSS PSPB'!#REF!,\"\")","v":{"$error":"#REF!"}},{"$f":"IF(RIGHT('CROSS PSPB'!#REF!,3)=\" IT\",'CROSS PSPB'!#REF!,\"\")","v":{"$error":"#REF!"}},{"$f":"IF(RIGHT('CROSS PSPB'!#REF!,3)=\" IT\",'CROSS PSPB'!#REF!,\"\")","v":{"$error":"#REF!"}},{"$f":"IF(RIGHT('CROSS PSPB'!#REF!,3)=\" IT\",'CROSS PSPB'!#REF!,\"\")","v":{"$error":"#REF!"}},{"$f":"IF(RIGHT('CROSS PSPB'!#REF!,3)=\" IT\",'CROSS PSPB'!#REF!,\"\")","v":{"$error":"#REF!"}},{"$f":"IF(RIGHT('CROSS PSPB'!#REF!,3)=\" IT\",'CROSS PSPB'!#REF!,\"\")","v":{"$error":"#REF!"}},{"$f":"IF(RIGHT('CROSS PSPB'!#REF!,3)=\" IT\",'CROSS PSPB'!#REF!,\"\")","v":{"$error":"#REF!"}},{"$f":"IF(RIGHT('CROSS PSPB'!#REF!,3)=\" IT\",'CROSS PSPB'!#REF!,\"\")","v":{"$error":"#REF!"}},{"$f":"IF(RIGHT('CROSS PSPB'!#REF!,3)=\" IT\",'CROSS PSPB'!#REF!,\"\")","v":{"$error":"#REF!"}},{"$f":"IF(RIGHT('CROSS PSPB'!#REF!,3)=\" IT\",'CROSS PSPB'!#REF!,\"\")","v":{"$error":"#REF!"}},{"$f":"IF(RIGHT('CROSS PSPB'!#REF!,3)=\" IT\",'CROSS PSPB'!#REF!,\"\")","v":{"$error":"#REF!"}},{"$f":"IF(RIGHT('CROSS PSPB'!#REF!,3)=\" IT\",'CROSS PSPB'!#REF!,\"\")","v":{"$error":"#REF!"}},{"$f":"IF(RIGHT('CROSS PSPB'!#REF!,3)=\" IT\",'CROSS PSPB'!#REF!,\"\")","v":{"$error":"#REF!"}},{"$f":"IF(RIGHT('CROSS PSPB'!#REF!,3)=\" IT\",'CROSS PSPB'!#REF!,\"\")","v":{"$error":"#REF!"}},{"$f":"IF(RIGHT('CROSS PSPB'!#REF!,3)=\" IT\",'CROSS PSPB'!#REF!,\"\")","v":{"$error":"#REF!"}},{"$f":"IF(RIGHT('CROSS PSPB'!#REF!,3)=\" IT\",'CROSS PSPB'!#REF!,\"\")","v":{"$error":"#REF!"}},{"$f":"IF(RIGHT('CROSS PSPB'!#REF!,3)=\" IT\",'CROSS PSPB'!#REF!,\"\")","v":{"$error":"#REF!"}},{"$f":"IF(RIGHT('CROSS PSPB'!#REF!,3)=\" IT\",'CROSS PSPB'!#REF!,\"\")","v":{"$error":"#REF!"}},{"$f":"IF(RIGHT('CROSS PSPB'!#REF!,3)=\" IT\",'CROSS PSPB'!#REF!,\"\")","v":{"$error":"#REF!"}},{"$f":"IF(RIGHT('CROSS PSPB'!#REF!,3)=\" IT\",'CROSS PSPB'!#REF!,\"\")","v":{"$error":"#REF!"}},{"$f":"IF(RIGHT('CROSS PSPB'!#REF!,3)=\" IT\",'CROSS PSPB'!#REF!,\"\")","v":{"$error":"#REF!"}},{"$f":"IF(RIGHT('CROSS PSPB'!#REF!,3)=\" IT\",'CROSS PSPB'!#REF!,\"\")","v":{"$error":"#REF!"}},{"$f":"IF(RIGHT('CROSS PSPB'!#REF!,3)=\" IT\",'CROSS PSPB'!#REF!,\"\")","v":{"$error":"#REF!"}},{"$f":"IF(RIGHT('CROSS PSPB'!#REF!,3)=\" IT\",'CROSS PSPB'!#REF!,\"\")","v":{"$error":"#REF!"}},{"$f":"IF(RIGHT('CROSS PSPB'!#REF!,3)=\" IT\",'CROSS PSPB'!#REF!,\"\")","v":{"$error":"#REF!"}},{"$f":"IF(RIGHT('CROSS PSPB'!#REF!,3)=\" IT\",'CROSS PSPB'!#REF!,\"\")","v":{"$error":"#REF!"}},{"$error":"#REF!"},{"$error":"#REF!"},{"$error":"#REF!"},{"$error":"#REF!"}]
[null,{"$f":"IF(RIGHT('CROSS PSPB'!#REF!,3)=\" IT\",'CROSS PSPB'!#REF!,\"\")","v":{"$error":"#REF!"}},{"$f":"IF(RIGHT('CROSS PSPB'!#REF!,3)=\" IT\",'CROSS PSPB'!#REF!,\"\")","v":{"$error":"#REF!"}},{"$f":"IF(RIGHT('CROSS PSPB'!#REF!,3)=\" IT\",'CROSS PSPB'!#REF!,\"\")","v":{"$error":"#REF!"}},{"$f":"IF(RIGHT('CROSS PSPB'!#REF!,3)=\" IT\",'CROSS PSPB'!#REF!,\"\")","v":{"$error":"#REF!"}},{"$f":"IF(RIGHT('CROSS PSPB'!#REF!,3)=\" IT\",'CROSS PSPB'!#REF!,\"\")","v":{"$error":"#REF!"}},{"$f":"IF(RIGHT('CROSS PSPB'!#REF!,3)=\" IT\",'CROSS PSPB'!#REF!,\"\")","v":{"$error":"#REF!"}},{"$f":"IF(RIGHT('CROSS PSPB'!#REF!,3)=\" IT\",'CROSS PSPB'!#REF!,\"\")","v":{"$error":"#REF!"}},{"$f":"IF(RIGHT('CROSS PSPB'!#REF!,3)=\" IT\",'CROSS PSPB'!#REF!,\"\")","v":{"$error":"#REF!"}},{"$f":"IF(RIGHT('CROSS PSPB'!#REF!,3)=\" IT\",'CROSS PSPB'!#REF!,\"\")","v":{"$error":"#REF!"}},{"$f":"IF(RIGHT('CROSS PSPB'!#REF!,3)=\" IT\",'CROSS PSPB'!#REF!,\"\")","v":{"$error":"#REF!"}},{"$f":"IF(RIGHT('CROSS PSPB'!#REF!,3)=\" IT\",'CROSS PSPB'!#REF!,\"\")","v":{"$error":"#REF!"}},{"$f":"IF(RIGHT('CROSS PSPB'!#REF!,3)=\" IT\",'CROSS PSPB'!#REF!,\"\")","v":{"$error":"#REF!"}},{"$f":"IF(RIGHT('CROSS PSPB'!#REF!,3)=\" IT\",'CROSS PSPB'!#REF!,\"\")","v":{"$error":"#REF!"}},{"$f":"IF(RIGHT('CROSS PSPB'!#REF!,3)=\" IT\",'CROSS PSPB'!#REF!,\"\")","v":{"$error":"#REF!"}},{"$f":"IF(RIGHT('CROSS PSPB'!#REF!,3)=\" IT\",'CROSS PSPB'!#REF!,\"\")","v":{"$error":"#REF!"}},{"$f":"IF(RIGHT('CROSS PSPB'!#REF!,3)=\" IT\",'CROSS PSPB'!#REF!,\"\")","v":{"$error":"#REF!"}},{"$f":"IF(RIGHT('CROSS PSPB'!#REF!,3)=\" IT\",'CROSS PSPB'!#REF!,\"\")","v":{"$error":"#REF!"}},{"$f":"IF(RIGHT('CROSS PSPB'!#REF!,3)=\" IT\",'CROSS PSPB'!#REF!,\"\")","v":{"$error":"#REF!"}},{"$f":"IF(RIGHT('CROSS PSPB'!#REF!,3)=\" IT\",'CROSS PSPB'!#REF!,\"\")","v":{"$error":"#REF!"}},{"$f":"IF(RIGHT('CROSS PSPB'!#REF!,3)=\" IT\",'CROSS PSPB'!#REF!,\"\")","v":{"$error":"#REF!"}},{"$f":"IF(RIGHT('CROSS PSPB'!#REF!,3)=\" IT\",'CROSS PSPB'!#REF!,\"\")","v":{"$error":"#REF!"}},{"$f":"IF(RIGHT('CROSS PSPB'!#REF!,3)=\" IT\",'CROSS PSPB'!#REF!,\"\")","v":{"$error":"#REF!"}},{"$f":"IF(RIGHT('CROSS PSPB'!#REF!,3)=\" IT\",'CROSS PSPB'!#REF!,\"\")","v":{"$error":"#REF!"}},{"$f":"IF(RIGHT('CROSS PSPB'!#REF!,3)=\" IT\",'CROSS PSPB'!#REF!,\"\")","v":{"$error":"#REF!"}},{"$f":"IF(RIGHT('CROSS PSPB'!#REF!,3)=\" IT\",'CROSS PSPB'!#REF!,\"\")","v":{"$error":"#REF!"}},{"$f":"IF(RIGHT('CROSS PSPB'!#REF!,3)=\" IT\",'CROSS PSPB'!#REF!,\"\")","v":{"$error":"#REF!"}},{"$f":"IF(RIGHT('CROSS PSPB'!#REF!,3)=\" IT\",'CROSS PSPB'!#REF!,\"\")","v":{"$error":"#REF!"}},{"$f":"IF(RIGHT('CROSS PSPB'!#REF!,3)=\" IT\",'CROSS PSPB'!#REF!,\"\")","v":{"$error":"#REF!"}},{"$f":"IF(RIGHT('CROSS PSPB'!#REF!,3)=\" IT\",'CROSS PSPB'!#REF!,\"\")","v":{"$error":"#REF!"}},{"$f":"IF(RIGHT('CROSS PSPB'!#REF!,3)=\" IT\",'CROSS PSPB'!#REF!,\"\")","v":{"$error":"#REF!"}},{"$f":"IF(RIGHT('CROSS PSPB'!#REF!,3)=\" IT\",'CROSS PSPB'!#REF!,\"\")","v":{"$error":"#REF!"}},{"$f":"IF(RIGHT('CROSS PSPB'!#REF!,3)=\" IT\",'CROSS PSPB'!#REF!,\"\")","v":{"$error":"#REF!"}},{"$f":"IF(RIGHT('CROSS PSPB'!#REF!,3)=\" IT\",'CROSS PSPB'!#REF!,\"\")","v":{"$error":"#REF!"}},{"$f":"IF(RIGHT('CROSS PSPB'!#REF!,3)=\" IT\",'CROSS PSPB'!#REF!,\"\")","v":{"$error":"#REF!"}},{"$f":"IF(RIGHT('CROSS PSPB'!#REF!,3)=\" IT\",'CROSS PSPB'!#REF!,\"\")","v":{"$error":"#REF!"}},{"$f":"IF(RIGHT('CROSS PSPB'!#REF!,3)=\" IT\",'CROSS PSPB'!#REF!,\"\")","v":{"$error":"#REF!"}},{"$f":"IF(RIGHT('CROSS PSPB'!#REF!,3)=\" IT\",'CROSS PSPB'!#REF!,\"\")","v":{"$error":"#REF!"}},{"$f":"IF(RIGHT('CROSS PSPB'!#REF!,3)=\" IT\",'CROSS PSPB'!#REF!,\"\")","v":{"$error":"#REF!"}},{"$f":"IF(RIGHT('CROSS PSPB'!#REF!,3)=\" IT\",'CROSS PSPB'!#REF!,\"\")","v":{"$error":"#REF!"}},{"$f":"IF(RIGHT('CROSS PSPB'!#REF!,3)=\" IT\",'CROSS PSPB'!#REF!,\"\")","v":{"$error":"#REF!"}},{"$f":"IF(RIGHT('CROSS PSPB'!#REF!,3)=\" IT\",'CROSS PSPB'!#REF!,\"\")","v":{"$error":"#REF!"}},{"$f":"IF(RIGHT('CROSS PSPB'!#REF!,3)=\" IT\",'CROSS PSPB'!#REF!,\"\")","v":{"$error":"#REF!"}},{"$f":"IF(RIGHT('CROSS PSPB'!#REF!,3)=\" IT\",'CROSS PSPB'!#REF!,\"\")","v":{"$error":"#REF!"}},{"$f":"IF(RIGHT('CROSS PSPB'!#REF!,3)=\" IT\",'CROSS PSPB'!#REF!,\"\")","v":{"$error":"#REF!"}},{"$f":"IF(RIGHT('CROSS PSPB'!#REF!,3)=\" IT\",'CROSS PSPB'!#REF!,\"\")","v":{"$error":"#REF!"}},{"$f":"IF(RIGHT('CROSS PSPB'!#REF!,3)=\" IT\",'CROSS PSPB'!#REF!,\"\")","v":{"$error":"#REF!"}},{"$f":"IF(RIGHT('CROSS PSPB'!#REF!,3)=\" IT\",'CROSS PSPB'!#REF!,\"\")","v":{"$error":"#REF!"}},{"$f":"IF(RIGHT('CROSS PSPB'!#REF!,3)=\" IT\",'CROSS PSPB'!#REF!,\"\")","v":{"$error":"#REF!"}},{"$f":"IF(RIGHT('CROSS PSPB'!#REF!,3)=\" IT\",'CROSS PSPB'!#REF!,\"\")","v":{"$error":"#REF!"}},{"$f":"IF(RIGHT('CROSS PSPB'!#REF!,3)=\" IT\",'CROSS PSPB'!#REF!,\"\")","v":{"$error":"#REF!"}},{"$f":"IF(RIGHT('CROSS PSPB'!#REF!,3)=\" IT\",'CROSS PSPB'!#REF!,\"\")","v":{"$error":"#REF!"}},{"$error":"#REF!"},{"$error":"#REF!"},{"$error":"#REF!"},{"$error":"#REF!"}]
[null,{"$f":"IF(RIGHT('CROSS PSPB'!#REF!,3)=\" IT\",'CROSS PSPB'!#REF!,\"\")","v":{"$error":"#REF!"}},{"$f":"IF(RIGHT('CROSS PSPB'!#REF!,3)=\" IT\",'CROSS PSPB'!#REF!,\"\")","v":{"$error":"#REF!"}},{"$f":"IF(RIGHT('CROSS PSPB'!#REF!,3)=\" IT\",'CROSS PSPB'!#REF!,\"\")","v":{"$error":"#REF!"}},{"$f":"IF(RIGHT('CROSS PSPB'!#REF!,3)=\" IT\",'CROSS PSPB'!#REF!,\"\")","v":{"$error":"#REF!"}},{"$f":"IF(RIGHT('CROSS PSPB'!#REF!,3)=\" IT\",'CROSS PSPB'!#REF!,\"\")","v":{"$error":"#REF!"}},{"$f":"IF(RIGHT('CROSS PSPB'!#REF!,3)=\" IT\",'CROSS PSPB'!#REF!,\"\")","v":{"$error":"#REF!"}},{"$f":"IF(RIGHT('CROSS PSPB'!#REF!,3)=\" IT\",'CROSS PSPB'!#REF!,\"\")","v":{"$error":"#REF!"}},{"$f":"IF(RIGHT('CROSS PSPB'!#REF!,3)=\" IT\",'CROSS PSPB'!#REF!,\"\")","v":{"$error":"#REF!"}},{"$f":"IF(RIGHT('CROSS PSPB'!#REF!,3)=\" IT\",'CROSS PSPB'!#REF!,\"\")","v":{"$error":"#REF!"}},{"$f":"IF(RIGHT('CROSS PSPB'!#REF!,3)=\" IT\",'CROSS PSPB'!#REF!,\"\")","v":{"$error":"#REF!"}},{"$f":"IF(RIGHT('CROSS PSPB'!#REF!,3)=\" IT\",'CROSS PSPB'!#REF!,\"\")","v":{"$error":"#REF!"}},{"$f":"IF(RIGHT('CROSS PSPB'!#REF!,3)=\" IT\",'CROSS PSPB'!#REF!,\"\")","v":{"$error":"#REF!"}},{"$f":"IF(RIGHT('CROSS PSPB'!#REF!,3)=\" IT\",'CROSS PSPB'!#REF!,\"\")","v":{"$error":"#REF!"}},{"$f":"IF(RIGHT('CROSS PSPB'!#REF!,3)=\" IT\",'CROSS PSPB'!#REF!,\"\")","v":{"$error":"#REF!"}},{"$f":"IF(RIGHT('CROSS PSPB'!#REF!,3)=\" IT\",'CROSS PSPB'!#REF!,\"\")","v":{"$error":"#REF!"}},{"$f":"IF(RIGHT('CROSS PSPB'!#REF!,3)=\" IT\",'CROSS PSPB'!#REF!,\"\")","v":{"$error":"#REF!"}},{"$f":"IF(RIGHT('CROSS PSPB'!#REF!,3)=\" IT\",'CROSS PSPB'!#REF!,\"\")","v":{"$error":"#REF!"}},{"$f":"IF(RIGHT('CROSS PSPB'!#REF!,3)=\" IT\",'CROSS PSPB'!#REF!,\"\")","v":{"$error":"#REF!"}},{"$f":"IF(RIGHT('CROSS PSPB'!#REF!,3)=\" IT\",'CROSS PSPB'!#REF!,\"\")","v":{"$error":"#REF!"}},{"$f":"IF(RIGHT('CROSS PSPB'!#REF!,3)=\" IT\",'CROSS PSPB'!#REF!,\"\")","v":{"$error":"#REF!"}},{"$f":"IF(RIGHT('CROSS PSPB'!#REF!,3)=\" IT\",'CROSS PSPB'!#REF!,\"\")","v":{"$error":"#REF!"}},{"$f":"IF(RIGHT('CROSS PSPB'!#REF!,3)=\" IT\",'CROSS PSPB'!#REF!,\"\")","v":{"$error":"#REF!"}},{"$f":"IF(RIGHT('CROSS PSPB'!#REF!,3)=\" IT\",'CROSS PSPB'!#REF!,\"\")","v":{"$error":"#REF!"}},{"$f":"IF(RIGHT('CROSS PSPB'!#REF!,3)=\" IT\",'CROSS PSPB'!#REF!,\"\")","v":{"$error":"#REF!"}},{"$f":"IF(RIGHT('CROSS PSPB'!#REF!,3)=\" IT\",'CROSS PSPB'!#REF!,\"\")","v":{"$error":"#REF!"}},{"$f":"IF(RIGHT('CROSS PSPB'!#REF!,3)=\" IT\",'CROSS PSPB'!#REF!,\"\")","v":{"$error":"#REF!"}},{"$f":"IF(RIGHT('CROSS PSPB'!#REF!,3)=\" IT\",'CROSS PSPB'!#REF!,\"\")","v":{"$error":"#REF!"}},{"$f":"IF(RIGHT('CROSS PSPB'!#REF!,3)=\" IT\",'CROSS PSPB'!#REF!,\"\")","v":{"$error":"#REF!"}},{"$f":"IF(RIGHT('CROSS PSPB'!#REF!,3)=\" IT\",'CROSS PSPB'!#REF!,\"\")","v":{"$error":"#REF!"}},{"$f":"IF(RIGHT('CROSS PSPB'!#REF!,3)=\" IT\",'CROSS PSPB'!#REF!,\"\")","v":{"$error":"#REF!"}},{"$f":"IF(RIGHT('CROSS PSPB'!#REF!,3)=\" IT\",'CROSS PSPB'!#REF!,\"\")","v":{"$error":"#REF!"}},{"$f":"IF(RIGHT('CROSS PSPB'!#REF!,3)=\" IT\",'CROSS PSPB'!#REF!,\"\")","v":{"$error":"#REF!"}},{"$f":"IF(RIGHT('CROSS PSPB'!#REF!,3)=\" IT\",'CROSS PSPB'!#REF!,\"\")","v":{"$error":"#REF!"}},{"$f":"IF(RIGHT('CROSS PSPB'!#REF!,3)=\" IT\",'CROSS PSPB'!#REF!,\"\")","v":{"$error":"#REF!"}},{"$f":"IF(RIGHT('CROSS PSPB'!#REF!,3)=\" IT\",'CROSS PSPB'!#REF!,\"\")","v":{"$error":"#REF!"}},{"$f":"IF(RIGHT('CROSS PSPB'!#REF!,3)=\" IT\",'CROSS PSPB'!#REF!,\"\")","v":{"$error":"#REF!"}},{"$f":"IF(RIGHT('CROSS PSPB'!#REF!,3)=\" IT\",'CROSS PSPB'!#REF!,\"\")","v":{"$error":"#REF!"}},{"$f":"IF(RIGHT('CROSS PSPB'!#REF!,3)=\" IT\",'CROSS PSPB'!#REF!,\"\")","v":{"$error":"#REF!"}},{"$f":"IF(RIGHT('CROSS PSPB'!#REF!,3)=\" IT\",'CROSS PSPB'!#REF!,\"\")","v":{"$error":"#REF!"}},{"$f":"IF(RIGHT('CROSS PSPB'!#REF!,3)=\" IT\",'CROSS PSPB'!#REF!,\"\")","v":{"$error":"#REF!"}},{"$f":"IF(RIGHT('CROSS PSPB'!#REF!,3)=\" IT\",'CROSS PSPB'!#REF!,\"\")","v":{"$error":"#REF!"}},{"$f":"IF(RIGHT('CROSS PSPB'!#REF!,3)=\" IT\",'CROSS PSPB'!#REF!,\"\")","v":{"$error":"#REF!"}},{"$f":"IF(RIGHT('CROSS PSPB'!#REF!,3)=\" IT\",'CROSS PSPB'!#REF!,\"\")","v":{"$error":"#REF!"}},{"$f":"IF(RIGHT('CROSS PSPB'!#REF!,3)=\" IT\",'CROSS PSPB'!#REF!,\"\")","v":{"$error":"#REF!"}},{"$f":"IF(RIGHT('CROSS PSPB'!#REF!,3)=\" IT\",'CROSS PSPB'!#REF!,\"\")","v":{"$error":"#REF!"}},{"$f":"IF(RIGHT('CROSS PSPB'!#REF!,3)=\" IT\",'CROSS PSPB'!#REF!,\"\")","v":{"$error":"#REF!"}},{"$f":"IF(RIGHT('CROSS PSPB'!#REF!,3)=\" IT\",'CROSS PSPB'!#REF!,\"\")","v":{"$error":"#REF!"}},{"$f":"IF(RIGHT('CROSS PSPB'!#REF!,3)=\" IT\",'CROSS PSPB'!#REF!,\"\")","v":{"$error":"#REF!"}},{"$f":"IF(RIGHT('CROSS PSPB'!#REF!,3)=\" IT\",'CROSS PSPB'!#REF!,\"\")","v":{"$error":"#REF!"}},{"$f":"IF(RIGHT('CROSS PSPB'!#REF!,3)=\" IT\",'CROSS PSPB'!#REF!,\"\")","v":{"$error":"#REF!"}},{"$f":"IF(RIGHT('CROSS PSPB'!#REF!,3)=\" IT\",'CROSS PSPB'!#REF!,\"\")","v":{"$error":"#REF!"}},{"$error":"#REF!"},{"$error":"#REF!"},{"$error":"#REF!"},{"$error":"#REF!"}]
[null,{"$f":"IF(RIGHT('CROSS PSPB'!#REF!,3)=\" IT\",'CROSS PSPB'!#REF!,\"\")","v":{"$error":"#REF!"}},{"$f":"IF(RIGHT('CROSS PSPB'!#REF!,3)=\" IT\",'CROSS PSPB'!#REF!,\"\")","v":{"$error":"#REF!"}},{"$f":"IF(RIGHT('CROSS PSPB'!#REF!,3)=\" IT\",'CROSS PSPB'!#REF!,\"\")","v":{"$error":"#REF!"}},{"$f":"IF(RIGHT('CROSS PSPB'!#REF!,3)=\" IT\",'CROSS PSPB'!#REF!,\"\")","v":{"$error":"#REF!"}},{"$f":"IF(RIGHT('CROSS PSPB'!#REF!,3)=\" IT\",'CROSS PSPB'!#REF!,\"\")","v":{"$error":"#REF!"}},{"$f":"IF(RIGHT('CROSS PSPB'!#REF!,3)=\" IT\",'CROSS PSPB'!#REF!,\"\")","v":{"$error":"#REF!"}},{"$f":"IF(RIGHT('CROSS PSPB'!#REF!,3)=\" IT\",'CROSS PSPB'!#REF!,\"\")","v":{"$error":"#REF!"}},{"$f":"IF(RIGHT('CROSS PSPB'!#REF!,3)=\" IT\",'CROSS PSPB'!#REF!,\"\")","v":{"$error":"#REF!"}},{"$f":"IF(RIGHT('CROSS PSPB'!#REF!,3)=\" IT\",'CROSS PSPB'!#REF!,\"\")","v":{"$error":"#REF!"}},{"$f":"IF(RIGHT('CROSS PSPB'!#REF!,3)=\" IT\",'CROSS PSPB'!#REF!,\"\")","v":{"$error":"#REF!"}},{"$f":"IF(RIGHT('CROSS PSPB'!#REF!,3)=\" IT\",'CROSS PSPB'!#REF!,\"\")","v":{"$error":"#REF!"}},{"$f":"IF(RIGHT('CROSS PSPB'!#REF!,3)=\" IT\",'CROSS PSPB'!#REF!,\"\")","v":{"$error":"#REF!"}},{"$f":"IF(RIGHT('CROSS PSPB'!#REF!,3)=\" IT\",'CROSS PSPB'!#REF!,\"\")","v":{"$error":"#REF!"}},{"$f":"IF(RIGHT('CROSS PSPB'!#REF!,3)=\" IT\",'CROSS PSPB'!#REF!,\"\")","v":{"$error":"#REF!"}},{"$f":"IF(RIGHT('CROSS PSPB'!#REF!,3)=\" IT\",'CROSS PSPB'!#REF!,\"\")","v":{"$error":"#REF!"}},{"$f":"IF(RIGHT('CROSS PSPB'!#REF!,3)=\" IT\",'CROSS PSPB'!#REF!,\"\")","v":{"$error":"#REF!"}},{"$f":"IF(RIGHT('CROSS PSPB'!#REF!,3)=\" IT\",'CROSS PSPB'!#REF!,\"\")","v":{"$error":"#REF!"}},{"$f":"IF(RIGHT('CROSS PSPB'!#REF!,3)=\" IT\",'CROSS PSPB'!#REF!,\"\")","v":{"$error":"#REF!"}},{"$f":"IF(RIGHT('CROSS PSPB'!#REF!,3)=\" IT\",'CROSS PSPB'!#REF!,\"\")","v":{"$error":"#REF!"}},{"$f":"IF(RIGHT('CROSS PSPB'!#REF!,3)=\" IT\",'CROSS PSPB'!#REF!,\"\")","v":{"$error":"#REF!"}},{"$f":"IF(RIGHT('CROSS PSPB'!#REF!,3)=\" IT\",'CROSS PSPB'!#REF!,\"\")","v":{"$error":"#REF!"}},{"$f":"IF(RIGHT('CROSS PSPB'!#REF!,3)=\" IT\",'CROSS PSPB'!#REF!,\"\")","v":{"$error":"#REF!"}},{"$f":"IF(RIGHT('CROSS PSPB'!#REF!,3)=\" IT\",'CROSS PSPB'!#REF!,\"\")","v":{"$error":"#REF!"}},{"$f":"IF(RIGHT('CROSS PSPB'!#REF!,3)=\" IT\",'CROSS PSPB'!#REF!,\"\")","v":{"$error":"#REF!"}},{"$f":"IF(RIGHT('CROSS PSPB'!#REF!,3)=\" IT\",'CROSS PSPB'!#REF!,\"\")","v":{"$error":"#REF!"}},{"$f":"IF(RIGHT('CROSS PSPB'!#REF!,3)=\" IT\",'CROSS PSPB'!#REF!,\"\")","v":{"$error":"#REF!"}},{"$f":"IF(RIGHT('CROSS PSPB'!#REF!,3)=\" IT\",'CROSS PSPB'!#REF!,\"\")","v":{"$error":"#REF!"}},{"$f":"IF(RIGHT('CROSS PSPB'!#REF!,3)=\" IT\",'CROSS PSPB'!#REF!,\"\")","v":{"$error":"#REF!"}},{"$f":"IF(RIGHT('CROSS PSPB'!#REF!,3)=\" IT\",'CROSS PSPB'!#REF!,\"\")","v":{"$error":"#REF!"}},{"$f":"IF(RIGHT('CROSS PSPB'!#REF!,3)=\" IT\",'CROSS PSPB'!#REF!,\"\")","v":{"$error":"#REF!"}},{"$f":"IF(RIGHT('CROSS PSPB'!#REF!,3)=\" IT\",'CROSS PSPB'!#REF!,\"\")","v":{"$error":"#REF!"}},{"$f":"IF(RIGHT('CROSS PSPB'!#REF!,3)=\" IT\",'CROSS PSPB'!#REF!,\"\")","v":{"$error":"#REF!"}},{"$f":"IF(RIGHT('CROSS PSPB'!#REF!,3)=\" IT\",'CROSS PSPB'!#REF!,\"\")","v":{"$error":"#REF!"}},{"$f":"IF(RIGHT('CROSS PSPB'!#REF!,3)=\" IT\",'CROSS PSPB'!#REF!,\"\")","v":{"$error":"#REF!"}},{"$f":"IF(RIGHT('CROSS PSPB'!#REF!,3)=\" IT\",'CROSS PSPB'!#REF!,\"\")","v":{"$error":"#REF!"}},{"$f":"IF(RIGHT('CROSS PSPB'!#REF!,3)=\" IT\",'CROSS PSPB'!#REF!,\"\")","v":{"$error":"#REF!"}},{"$f":"IF(RIGHT('CROSS PSPB'!#REF!,3)=\" IT\",'CROSS PSPB'!#REF!,\"\")","v":{"$error":"#REF!"}},{"$f":"IF(RIGHT('CROSS PSPB'!#REF!,3)=\" IT\",'CROSS PSPB'!#REF!,\"\")","v":{"$error":"#REF!"}},{"$f":"IF(RIGHT('CROSS PSPB'!#REF!,3)=\" IT\",'CROSS PSPB'!#REF!,\"\")","v":{"$error":"#REF!"}},{"$f":"IF(RIGHT('CROSS PSPB'!#REF!,3)=\" IT\",'CROSS PSPB'!#REF!,\"\")","v":{"$error":"#REF!"}},{"$f":"IF(RIGHT('CROSS PSPB'!#REF!,3)=\" IT\",'CROSS PSPB'!#REF!,\"\")","v":{"$error":"#REF!"}},{"$f":"IF(RIGHT('CROSS PSPB'!#REF!,3)=\" IT\",'CROSS PSPB'!#REF!,\"\")","v":{"$error":"#REF!"}},{"$f":"IF(RIGHT('CROSS PSPB'!#REF!,3)=\" IT\",'CROSS PSPB'!#REF!,\"\")","v":{"$error":"#REF!"}},{"$f":"IF(RIGHT('CROSS PSPB'!#REF!,3)=\" IT\",'CROSS PSPB'!#REF!,\"\")","v":{"$error":"#REF!"}},{"$f":"IF(RIGHT('CROSS PSPB'!#REF!,3)=\" IT\",'CROSS PSPB'!#REF!,\"\")","v":{"$error":"#REF!"}},{"$f":"IF(RIGHT('CROSS PSPB'!#REF!,3)=\" IT\",'CROSS PSPB'!#REF!,\"\")","v":{"$error":"#REF!"}},{"$f":"IF(RIGHT('CROSS PSPB'!#REF!,3)=\" IT\",'CROSS PSPB'!#REF!,\"\")","v":{"$error":"#REF!"}},{"$f":"IF(RIGHT('CROSS PSPB'!#REF!,3)=\" IT\",'CROSS PSPB'!#REF!,\"\")","v":{"$error":"#REF!"}},{"$f":"IF(RIGHT('CROSS PSPB'!#REF!,3)=\" IT\",'CROSS PSPB'!#REF!,\"\")","v":{"$error":"#REF!"}},{"$f":"IF(RIGHT('CROSS PSPB'!#REF!,3)=\" IT\",'CROSS PSPB'!#REF!,\"\")","v":{"$error":"#REF!"}},{"$f":"IF(RIGHT('CROSS PSPB'!#REF!,3)=\" IT\",'CROSS PSPB'!#REF!,\"\")","v":{"$error":"#REF!"}},{"$error":"#REF!"},{"$error":"#REF!"},{"$error":"#REF!"},{"$error":"#REF!"}]
[null,{"$f":"IF(RIGHT('CROSS PSPB'!#REF!,3)=\" IT\",'CROSS PSPB'!#REF!,\"\")","v":{"$error":"#REF!"}},{"$f":"IF(RIGHT('CROSS PSPB'!#REF!,3)=\" IT\",'CROSS PSPB'!#REF!,\"\")","v":{"$error":"#REF!"}},{"$f":"IF(RIGHT('CROSS PSPB'!#REF!,3)=\" IT\",'CROSS PSPB'!#REF!,\"\")","v":{"$error":"#REF!"}},{"$f":"IF(RIGHT('CROSS PSPB'!#REF!,3)=\" IT\",'CROSS PSPB'!#REF!,\"\")","v":{"$error":"#REF!"}},{"$f":"IF(RIGHT('CROSS PSPB'!#REF!,3)=\" IT\",'CROSS PSPB'!#REF!,\"\")","v":{"$error":"#REF!"}},{"$f":"IF(RIGHT('CROSS PSPB'!#REF!,3)=\" IT\",'CROSS PSPB'!#REF!,\"\")","v":{"$error":"#REF!"}},{"$f":"IF(RIGHT('CROSS PSPB'!#REF!,3)=\" IT\",'CROSS PSPB'!#REF!,\"\")","v":{"$error":"#REF!"}},{"$f":"IF(RIGHT('CROSS PSPB'!#REF!,3)=\" IT\",'CROSS PSPB'!#REF!,\"\")","v":{"$error":"#REF!"}},{"$f":"IF(RIGHT('CROSS PSPB'!#REF!,3)=\" IT\",'CROSS PSPB'!#REF!,\"\")","v":{"$error":"#REF!"}},{"$f":"IF(RIGHT('CROSS PSPB'!#REF!,3)=\" IT\",'CROSS PSPB'!#REF!,\"\")","v":{"$error":"#REF!"}},{"$f":"IF(RIGHT('CROSS PSPB'!#REF!,3)=\" IT\",'CROSS PSPB'!#REF!,\"\")","v":{"$error":"#REF!"}},{"$f":"IF(RIGHT('CROSS PSPB'!#REF!,3)=\" IT\",'CROSS PSPB'!#REF!,\"\")","v":{"$error":"#REF!"}},{"$f":"IF(RIGHT('CROSS PSPB'!#REF!,3)=\" IT\",'CROSS PSPB'!#REF!,\"\")","v":{"$error":"#REF!"}},{"$f":"IF(RIGHT('CROSS PSPB'!#REF!,3)=\" IT\",'CROSS PSPB'!#REF!,\"\")","v":{"$error":"#REF!"}},{"$f":"IF(RIGHT('CROSS PSPB'!#REF!,3)=\" IT\",'CROSS PSPB'!#REF!,\"\")","v":{"$error":"#REF!"}},{"$f":"IF(RIGHT('CROSS PSPB'!#REF!,3)=\" IT\",'CROSS PSPB'!#REF!,\"\")","v":{"$error":"#REF!"}},{"$f":"IF(RIGHT('CROSS PSPB'!#REF!,3)=\" IT\",'CROSS PSPB'!#REF!,\"\")","v":{"$error":"#REF!"}},{"$f":"IF(RIGHT('CROSS PSPB'!#REF!,3)=\" IT\",'CROSS PSPB'!#REF!,\"\")","v":{"$error":"#REF!"}},{"$f":"IF(RIGHT('CROSS PSPB'!#REF!,3)=\" IT\",'CROSS PSPB'!#REF!,\"\")","v":{"$error":"#REF!"}},{"$f":"IF(RIGHT('CROSS PSPB'!#REF!,3)=\" IT\",'CROSS PSPB'!#REF!,\"\")","v":{"$error":"#REF!"}},{"$f":"IF(RIGHT('CROSS PSPB'!#REF!,3)=\" IT\",'CROSS PSPB'!#REF!,\"\")","v":{"$error":"#REF!"}},{"$f":"IF(RIGHT('CROSS PSPB'!#REF!,3)=\" IT\",'CROSS PSPB'!#REF!,\"\")","v":{"$error":"#REF!"}},{"$f":"IF(RIGHT('CROSS PSPB'!#REF!,3)=\" IT\",'CROSS PSPB'!#REF!,\"\")","v":{"$error":"#REF!"}},{"$f":"IF(RIGHT('CROSS PSPB'!#REF!,3)=\" IT\",'CROSS PSPB'!#REF!,\"\")","v":{"$error":"#REF!"}},{"$f":"IF(RIGHT('CROSS PSPB'!#REF!,3)=\" IT\",'CROSS PSPB'!#REF!,\"\")","v":{"$error":"#REF!"}},{"$f":"IF(RIGHT('CROSS PSPB'!#REF!,3)=\" IT\",'CROSS PSPB'!#REF!,\"\")","v":{"$error":"#REF!"}},{"$f":"IF(RIGHT('CROSS PSPB'!#REF!,3)=\" IT\",'CROSS PSPB'!#REF!,\"\")","v":{"$error":"#REF!"}},{"$f":"IF(RIGHT('CROSS PSPB'!#REF!,3)=\" IT\",'CROSS PSPB'!#REF!,\"\")","v":{"$error":"#REF!"}},{"$f":"IF(RIGHT('CROSS PSPB'!#REF!,3)=\" IT\",'CROSS PSPB'!#REF!,\"\")","v":{"$error":"#REF!"}},{"$f":"IF(RIGHT('CROSS PSPB'!#REF!,3)=\" IT\",'CROSS PSPB'!#REF!,\"\")","v":{"$error":"#REF!"}},{"$f":"IF(RIGHT('CROSS PSPB'!#REF!,3)=\" IT\",'CROSS PSPB'!#REF!,\"\")","v":{"$error":"#REF!"}},{"$f":"IF(RIGHT('CROSS PSPB'!#REF!,3)=\" IT\",'CROSS PSPB'!#REF!,\"\")","v":{"$error":"#REF!"}},{"$f":"IF(RIGHT('CROSS PSPB'!#REF!,3)=\" IT\",'CROSS PSPB'!#REF!,\"\")","v":{"$error":"#REF!"}},{"$f":"IF(RIGHT('CROSS PSPB'!#REF!,3)=\" IT\",'CROSS PSPB'!#REF!,\"\")","v":{"$error":"#REF!"}},{"$f":"IF(RIGHT('CROSS PSPB'!#REF!,3)=\" IT\",'CROSS PSPB'!#REF!,\"\")","v":{"$error":"#REF!"}},{"$f":"IF(RIGHT('CROSS PSPB'!#REF!,3)=\" IT\",'CROSS PSPB'!#REF!,\"\")","v":{"$error":"#REF!"}},{"$f":"IF(RIGHT('CROSS PSPB'!#REF!,3)=\" IT\",'CROSS PSPB'!#REF!,\"\")","v":{"$error":"#REF!"}},{"$f":"IF(RIGHT('CROSS PSPB'!#REF!,3)=\" IT\",'CROSS PSPB'!#REF!,\"\")","v":{"$error":"#REF!"}},{"$f":"IF(RIGHT('CROSS PSPB'!#REF!,3)=\" IT\",'CROSS PSPB'!#REF!,\"\")","v":{"$error":"#REF!"}},{"$f":"IF(RIGHT('CROSS PSPB'!#REF!,3)=\" IT\",'CROSS PSPB'!#REF!,\"\")","v":{"$error":"#REF!"}},{"$f":"IF(RIGHT('CROSS PSPB'!#REF!,3)=\" IT\",'CROSS PSPB'!#REF!,\"\")","v":{"$error":"#REF!"}},{"$f":"IF(RIGHT('CROSS PSPB'!#REF!,3)=\" IT\",'CROSS PSPB'!#REF!,\"\")","v":{"$error":"#REF!"}},{"$f":"IF(RIGHT('CROSS PSPB'!#REF!,3)=\" IT\",'CROSS PSPB'!#REF!,\"\")","v":{"$error":"#REF!"}},{"$f":"IF(RIGHT('CROSS PSPB'!#REF!,3)=\" IT\",'CROSS PSPB'!#REF!,\"\")","v":{"$error":"#REF!"}},{"$f":"IF(RIGHT('CROSS PSPB'!#REF!,3)=\" IT\",'CROSS PSPB'!#REF!,\"\")","v":{"$error":"#REF!"}},{"$f":"IF(RIGHT('CROSS PSPB'!#REF!,3)=\" IT\",'CROSS PSPB'!#REF!,\"\")","v":{"$error":"#REF!"}},{"$f":"IF(RIGHT('CROSS PSPB'!#REF!,3)=\" IT\",'CROSS PSPB'!#REF!,\"\")","v":{"$error":"#REF!"}},{"$f":"IF(RIGHT('CROSS PSPB'!#REF!,3)=\" IT\",'CROSS PSPB'!#REF!,\"\")","v":{"$error":"#REF!"}},{"$f":"IF(RIGHT('CROSS PSPB'!#REF!,3)=\" IT\",'CROSS PSPB'!#REF!,\"\")","v":{"$error":"#REF!"}},{"$f":"IF(RIGHT('CROSS PSPB'!#REF!,3)=\" IT\",'CROSS PSPB'!#REF!,\"\")","v":{"$error":"#REF!"}},{"$f":"IF(RIGHT('CROSS PSPB'!#REF!,3)=\" IT\",'CROSS PSPB'!#REF!,\"\")","v":{"$error":"#REF!"}},{"$error":"#REF!"},{"$error":"#REF!"},{"$error":"#REF!"},{"$error":"#REF!"}]
[null,{"$f":"IF(RIGHT('CROSS PSPB'!#REF!,3)=\" IT\",'CROSS PSPB'!#REF!,\"\")","v":{"$error":"#REF!"}},{"$f":"IF(RIGHT('CROSS PSPB'!#REF!,3)=\" IT\",'CROSS PSPB'!#REF!,\"\")","v":{"$error":"#REF!"}},{"$f":"IF(RIGHT('CROSS PSPB'!#REF!,3)=\" IT\",'CROSS PSPB'!#REF!,\"\")","v":{"$error":"#REF!"}},{"$f":"IF(RIGHT('CROSS PSPB'!#REF!,3)=\" IT\",'CROSS PSPB'!#REF!,\"\")","v":{"$error":"#REF!"}},{"$f":"IF(RIGHT('CROSS PSPB'!#REF!,3)=\" IT\",'CROSS PSPB'!#REF!,\"\")","v":{"$error":"#REF!"}},{"$f":"IF(RIGHT('CROSS PSPB'!#REF!,3)=\" IT\",'CROSS PSPB'!#REF!,\"\")","v":{"$error":"#REF!"}},{"$f":"IF(RIGHT('CROSS PSPB'!#REF!,3)=\" IT\",'CROSS PSPB'!#REF!,\"\")","v":{"$error":"#REF!"}},{"$f":"IF(RIGHT('CROSS PSPB'!#REF!,3)=\" IT\",'CROSS PSPB'!#REF!,\"\")","v":{"$error":"#REF!"}},{"$f":"IF(RIGHT('CROSS PSPB'!#REF!,3)=\" IT\",'CROSS PSPB'!#REF!,\"\")","v":{"$error":"#REF!"}},{"$f":"IF(RIGHT('CROSS PSPB'!#REF!,3)=\" IT\",'CROSS PSPB'!#REF!,\"\")","v":{"$error":"#REF!"}},{"$f":"IF(RIGHT('CROSS PSPB'!#REF!,3)=\" IT\",'CROSS PSPB'!#REF!,\"\")","v":{"$error":"#REF!"}},{"$f":"IF(RIGHT('CROSS PSPB'!#REF!,3)=\" IT\",'CROSS PSPB'!#REF!,\"\")","v":{"$error":"#REF!"}},{"$f":"IF(RIGHT('CROSS PSPB'!#REF!,3)=\" IT\",'CROSS PSPB'!#REF!,\"\")","v":{"$error":"#REF!"}},{"$f":"IF(RIGHT('CROSS PSPB'!#REF!,3)=\" IT\",'CROSS PSPB'!#REF!,\"\")","v":{"$error":"#REF!"}},{"$f":"IF(RIGHT('CROSS PSPB'!#REF!,3)=\" IT\",'CROSS PSPB'!#REF!,\"\")","v":{"$error":"#REF!"}},{"$f":"IF(RIGHT('CROSS PSPB'!#REF!,3)=\" IT\",'CROSS PSPB'!#REF!,\"\")","v":{"$error":"#REF!"}},{"$f":"IF(RIGHT('CROSS PSPB'!#REF!,3)=\" IT\",'CROSS PSPB'!#REF!,\"\")","v":{"$error":"#REF!"}},{"$f":"IF(RIGHT('CROSS PSPB'!#REF!,3)=\" IT\",'CROSS PSPB'!#REF!,\"\")","v":{"$error":"#REF!"}},{"$f":"IF(RIGHT('CROSS PSPB'!#REF!,3)=\" IT\",'CROSS PSPB'!#REF!,\"\")","v":{"$error":"#REF!"}},{"$f":"IF(RIGHT('CROSS PSPB'!#REF!,3)=\" IT\",'CROSS PSPB'!#REF!,\"\")","v":{"$error":"#REF!"}},{"$f":"IF(RIGHT('CROSS PSPB'!#REF!,3)=\" IT\",'CROSS PSPB'!#REF!,\"\")","v":{"$error":"#REF!"}},{"$f":"IF(RIGHT('CROSS PSPB'!#REF!,3)=\" IT\",'CROSS PSPB'!#REF!,\"\")","v":{"$error":"#REF!"}},{"$f":"IF(RIGHT('CROSS PSPB'!#REF!,3)=\" IT\",'CROSS PSPB'!#REF!,\"\")","v":{"$error":"#REF!"}},{"$f":"IF(RIGHT('CROSS PSPB'!#REF!,3)=\" IT\",'CROSS PSPB'!#REF!,\"\")","v":{"$error":"#REF!"}},{"$f":"IF(RIGHT('CROSS PSPB'!#REF!,3)=\" IT\",'CROSS PSPB'!#REF!,\"\")","v":{"$error":"#REF!"}},{"$f":"IF(RIGHT('CROSS PSPB'!#REF!,3)=\" IT\",'CROSS PSPB'!#REF!,\"\")","v":{"$error":"#REF!"}},{"$f":"IF(RIGHT('CROSS PSPB'!#REF!,3)=\" IT\",'CROSS PSPB'!#REF!,\"\")","v":{"$error":"#REF!"}},{"$f":"IF(RIGHT('CROSS PSPB'!#REF!,3)=\" IT\",'CROSS PSPB'!#REF!,\"\")","v":{"$error":"#REF!"}},{"$f":"IF(RIGHT('CROSS PSPB'!#REF!,3)=\" IT\",'CROSS PSPB'!#REF!,\"\")","v":{"$error":"#REF!"}},{"$f":"IF(RIGHT('CROSS PSPB'!#REF!,3)=\" IT\",'CROSS PSPB'!#REF!,\"\")","v":{"$error":"#REF!"}},{"$f":"IF(RIGHT('CROSS PSPB'!#REF!,3)=\" IT\",'CROSS PSPB'!#REF!,\"\")","v":{"$error":"#REF!"}},{"$f":"IF(RIGHT('CROSS PSPB'!#REF!,3)=\" IT\",'CROSS PSPB'!#REF!,\"\")","v":{"$error":"#REF!"}},{"$f":"IF(RIGHT('CROSS PSPB'!#REF!,3)=\" IT\",'CROSS PSPB'!#REF!,\"\")","v":{"$error":"#REF!"}},{"$f":"IF(RIGHT('CROSS PSPB'!#REF!,3)=\" IT\",'CROSS PSPB'!#REF!,\"\")","v":{"$error":"#REF!"}},{"$f":"IF(RIGHT('CROSS PSPB'!#REF!,3)=\" IT\",'CROSS PSPB'!#REF!,\"\")","v":{"$error":"#REF!"}},{"$f":"IF(RIGHT('CROSS PSPB'!#REF!,3)=\" IT\",'CROSS PSPB'!#REF!,\"\")","v":{"$error":"#REF!"}},{"$f":"IF(RIGHT('CROSS PSPB'!#REF!,3)=\" IT\",'CROSS PSPB'!#REF!,\"\")","v":{"$error":"#REF!"}},{"$f":"IF(RIGHT('CROSS PSPB'!#REF!,3)=\" IT\",'CROSS PSPB'!#REF!,\"\")","v":{"$error":"#REF!"}},{"$f":"IF(RIGHT('CROSS PSPB'!#REF!,3)=\" IT\",'CROSS PSPB'!#REF!,\"\")","v":{"$error":"#REF!"}},{"$f":"IF(RIGHT('CROSS PSPB'!#REF!,3)=\" IT\",'CROSS PSPB'!#REF!,\"\")","v":{"$error":"#REF!"}},{"$f":"IF(RIGHT('CROSS PSPB'!#REF!,3)=\" IT\",'CROSS PSPB'!#REF!,\"\")","v":{"$error":"#REF!"}},{"$f":"IF(RIGHT('CROSS PSPB'!#REF!,3)=\" IT\",'CROSS PSPB'!#REF!,\"\")","v":{"$error":"#REF!"}},{"$f":"IF(RIGHT('CROSS PSPB'!#REF!,3)=\" IT\",'CROSS PSPB'!#REF!,\"\")","v":{"$error":"#REF!"}},{"$f":"IF(RIGHT('CROSS PSPB'!#REF!,3)=\" IT\",'CROSS PSPB'!#REF!,\"\")","v":{"$error":"#REF!"}},{"$f":"IF(RIGHT('CROSS PSPB'!#REF!,3)=\" IT\",'CROSS PSPB'!#REF!,\"\")","v":{"$error":"#REF!"}},{"$f":"IF(RIGHT('CROSS PSPB'!#REF!,3)=\" IT\",'CROSS PSPB'!#REF!,\"\")","v":{"$error":"#REF!"}},{"$f":"IF(RIGHT('CROSS PSPB'!#REF!,3)=\" IT\",'CROSS PSPB'!#REF!,\"\")","v":{"$error":"#REF!"}},{"$f":"IF(RIGHT('CROSS PSPB'!#REF!,3)=\" IT\",'CROSS PSPB'!#REF!,\"\")","v":{"$error":"#REF!"}},{"$f":"IF(RIGHT('CROSS PSPB'!#REF!,3)=\" IT\",'CROSS PSPB'!#REF!,\"\")","v":{"$error":"#REF!"}},{"$f":"IF(RIGHT('CROSS PSPB'!#REF!,3)=\" IT\",'CROSS PSPB'!#REF!,\"\")","v":{"$error":"#REF!"}},{"$f":"IF(RIGHT('CROSS PSPB'!#REF!,3)=\" IT\",'CROSS PSPB'!#REF!,\"\")","v":{"$error":"#REF!"}},{"$error":"#REF!"},{"$error":"#REF!"},{"$error":"#REF!"},{"$error":"#REF!"}]
[null,{"$f":"IF(RIGHT('CROSS PSPB'!#REF!,3)=\" IT\",'CROSS PSPB'!#REF!,\"\")","v":{"$error":"#REF!"}},{"$f":"IF(RIGHT('CROSS PSPB'!#REF!,3)=\" IT\",'CROSS PSPB'!#REF!,\"\")","v":{"$error":"#REF!"}},{"$f":"IF(RIGHT('CROSS PSPB'!#REF!,3)=\" IT\",'CROSS PSPB'!#REF!,\"\")","v":{"$error":"#REF!"}},{"$f":"IF(RIGHT('CROSS PSPB'!#REF!,3)=\" IT\",'CROSS PSPB'!#REF!,\"\")","v":{"$error":"#REF!"}},{"$f":"IF(RIGHT('CROSS PSPB'!#REF!,3)=\" IT\",'CROSS PSPB'!#REF!,\"\")","v":{"$error":"#REF!"}},{"$f":"IF(RIGHT('CROSS PSPB'!#REF!,3)=\" IT\",'CROSS PSPB'!#REF!,\"\")","v":{"$error":"#REF!"}},{"$f":"IF(RIGHT('CROSS PSPB'!#REF!,3)=\" IT\",'CROSS PSPB'!#REF!,\"\")","v":{"$error":"#REF!"}},{"$f":"IF(RIGHT('CROSS PSPB'!#REF!,3)=\" IT\",'CROSS PSPB'!#REF!,\"\")","v":{"$error":"#REF!"}},{"$f":"IF(RIGHT('CROSS PSPB'!#REF!,3)=\" IT\",'CROSS PSPB'!#REF!,\"\")","v":{"$error":"#REF!"}},{"$f":"IF(RIGHT('CROSS PSPB'!#REF!,3)=\" IT\",'CROSS PSPB'!#REF!,\"\")","v":{"$error":"#REF!"}},{"$f":"IF(RIGHT('CROSS PSPB'!#REF!,3)=\" IT\",'CROSS PSPB'!#REF!,\"\")","v":{"$error":"#REF!"}},{"$f":"IF(RIGHT('CROSS PSPB'!#REF!,3)=\" IT\",'CROSS PSPB'!#REF!,\"\")","v":{"$error":"#REF!"}},{"$f":"IF(RIGHT('CROSS PSPB'!#REF!,3)=\" IT\",'CROSS PSPB'!#REF!,\"\")","v":{"$error":"#REF!"}},{"$f":"IF(RIGHT('CROSS PSPB'!#REF!,3)=\" IT\",'CROSS PSPB'!#REF!,\"\")","v":{"$error":"#REF!"}},{"$f":"IF(RIGHT('CROSS PSPB'!#REF!,3)=\" IT\",'CROSS PSPB'!#REF!,\"\")","v":{"$error":"#REF!"}},{"$f":"IF(RIGHT('CROSS PSPB'!#REF!,3)=\" IT\",'CROSS PSPB'!#REF!,\"\")","v":{"$error":"#REF!"}},{"$f":"IF(RIGHT('CROSS PSPB'!#REF!,3)=\" IT\",'CROSS PSPB'!#REF!,\"\")","v":{"$error":"#REF!"}},{"$f":"IF(RIGHT('CROSS PSPB'!#REF!,3)=\" IT\",'CROSS PSPB'!#REF!,\"\")","v":{"$error":"#REF!"}},{"$f":"IF(RIGHT('CROSS PSPB'!#REF!,3)=\" IT\",'CROSS PSPB'!#REF!,\"\")","v":{"$error":"#REF!"}},{"$f":"IF(RIGHT('CROSS PSPB'!#REF!,3)=\" IT\",'CROSS PSPB'!#REF!,\"\")","v":{"$error":"#REF!"}},{"$f":"IF(RIGHT('CROSS PSPB'!#REF!,3)=\" IT\",'CROSS PSPB'!#REF!,\"\")","v":{"$error":"#REF!"}},{"$f":"IF(RIGHT('CROSS PSPB'!#REF!,3)=\" IT\",'CROSS PSPB'!#REF!,\"\")","v":{"$error":"#REF!"}},{"$f":"IF(RIGHT('CROSS PSPB'!#REF!,3)=\" IT\",'CROSS PSPB'!#REF!,\"\")","v":{"$error":"#REF!"}},{"$f":"IF(RIGHT('CROSS PSPB'!#REF!,3)=\" IT\",'CROSS PSPB'!#REF!,\"\")","v":{"$error":"#REF!"}},{"$f":"IF(RIGHT('CROSS PSPB'!#REF!,3)=\" IT\",'CROSS PSPB'!#REF!,\"\")","v":{"$error":"#REF!"}},{"$f":"IF(RIGHT('CROSS PSPB'!#REF!,3)=\" IT\",'CROSS PSPB'!#REF!,\"\")","v":{"$error":"#REF!"}},{"$f":"IF(RIGHT('CROSS PSPB'!#REF!,3)=\" IT\",'CROSS PSPB'!#REF!,\"\")","v":{"$error":"#REF!"}},{"$f":"IF(RIGHT('CROSS PSPB'!#REF!,3)=\" IT\",'CROSS PSPB'!#REF!,\"\")","v":{"$error":"#REF!"}},{"$f":"IF(RIGHT('CROSS PSPB'!#REF!,3)=\" IT\",'CROSS PSPB'!#REF!,\"\")","v":{"$error":"#REF!"}},{"$f":"IF(RIGHT('CROSS PSPB'!#REF!,3)=\" IT\",'CROSS PSPB'!#REF!,\"\")","v":{"$error":"#REF!"}},{"$f":"IF(RIGHT('CROSS PSPB'!#REF!,3)=\" IT\",'CROSS PSPB'!#REF!,\"\")","v":{"$error":"#REF!"}},{"$f":"IF(RIGHT('CROSS PSPB'!#REF!,3)=\" IT\",'CROSS PSPB'!#REF!,\"\")","v":{"$error":"#REF!"}},{"$f":"IF(RIGHT('CROSS PSPB'!#REF!,3)=\" IT\",'CROSS PSPB'!#REF!,\"\")","v":{"$error":"#REF!"}},{"$f":"IF(RIGHT('CROSS PSPB'!#REF!,3)=\" IT\",'CROSS PSPB'!#REF!,\"\")","v":{"$error":"#REF!"}},{"$f":"IF(RIGHT('CROSS PSPB'!#REF!,3)=\" IT\",'CROSS PSPB'!#REF!,\"\")","v":{"$error":"#REF!"}},{"$f":"IF(RIGHT('CROSS PSPB'!#REF!,3)=\" IT\",'CROSS PSPB'!#REF!,\"\")","v":{"$error":"#REF!"}},{"$f":"IF(RIGHT('CROSS PSPB'!#REF!,3)=\" IT\",'CROSS PSPB'!#REF!,\"\")","v":{"$error":"#REF!"}},{"$f":"IF(RIGHT('CROSS PSPB'!#REF!,3)=\" IT\",'CROSS PSPB'!#REF!,\"\")","v":{"$error":"#REF!"}},{"$f":"IF(RIGHT('CROSS PSPB'!#REF!,3)=\" IT\",'CROSS PSPB'!#REF!,\"\")","v":{"$error":"#REF!"}},{"$f":"IF(RIGHT('CROSS PSPB'!#REF!,3)=\" IT\",'CROSS PSPB'!#REF!,\"\")","v":{"$error":"#REF!"}},{"$f":"IF(RIGHT('CROSS PSPB'!#REF!,3)=\" IT\",'CROSS PSPB'!#REF!,\"\")","v":{"$error":"#REF!"}},{"$f":"IF(RIGHT('CROSS PSPB'!#REF!,3)=\" IT\",'CROSS PSPB'!#REF!,\"\")","v":{"$error":"#REF!"}},{"$f":"IF(RIGHT('CROSS PSPB'!#REF!,3)=\" IT\",'CROSS PSPB'!#REF!,\"\")","v":{"$error":"#REF!"}},{"$f":"IF(RIGHT('CROSS PSPB'!#REF!,3)=\" IT\",'CROSS PSPB'!#REF!,\"\")","v":{"$error":"#REF!"}},{"$f":"IF(RIGHT('CROSS PSPB'!#REF!,3)=\" IT\",'CROSS PSPB'!#REF!,\"\")","v":{"$error":"#REF!"}},{"$f":"IF(RIGHT('CROSS PSPB'!#REF!,3)=\" IT\",'CROSS PSPB'!#REF!,\"\")","v":{"$error":"#REF!"}},{"$f":"IF(RIGHT('CROSS PSPB'!#REF!,3)=\" IT\",'CROSS PSPB'!#REF!,\"\")","v":{"$error":"#REF!"}},{"$f":"IF(RIGHT('CROSS PSPB'!#REF!,3)=\" IT\",'CROSS PSPB'!#REF!,\"\")","v":{"$error":"#REF!"}},{"$f":"IF(RIGHT('CROSS PSPB'!#REF!,3)=\" IT\",'CROSS PSPB'!#REF!,\"\")","v":{"$error":"#REF!"}},{"$f":"IF(RIGHT('CROSS PSPB'!#REF!,3)=\" IT\",'CROSS PSPB'!#REF!,\"\")","v":{"$error":"#REF!"}},{"$f":"IF(RIGHT('CROSS PSPB'!#REF!,3)=\" IT\",'CROSS PSPB'!#REF!,\"\")","v":{"$error":"#REF!"}},{"$error":"#REF!"},{"$error":"#REF!"},{"$error":"#REF!"},{"$error":"#REF!"}]
[null,{"$f":"IF(RIGHT('CROSS PSPB'!#REF!,3)=\" IT\",'CROSS PSPB'!#REF!,\"\")","v":{"$error":"#REF!"}},{"$f":"IF(RIGHT('CROSS PSPB'!#REF!,3)=\" IT\",'CROSS PSPB'!#REF!,\"\")","v":{"$error":"#REF!"}},{"$f":"IF(RIGHT('CROSS PSPB'!#REF!,3)=\" IT\",'CROSS PSPB'!#REF!,\"\")","v":{"$error":"#REF!"}},{"$f":"IF(RIGHT('CROSS PSPB'!#REF!,3)=\" IT\",'CROSS PSPB'!#REF!,\"\")","v":{"$error":"#REF!"}},{"$f":"IF(RIGHT('CROSS PSPB'!#REF!,3)=\" IT\",'CROSS PSPB'!#REF!,\"\")","v":{"$error":"#REF!"}},{"$f":"IF(RIGHT('CROSS PSPB'!#REF!,3)=\" IT\",'CROSS PSPB'!#REF!,\"\")","v":{"$error":"#REF!"}},{"$f":"IF(RIGHT('CROSS PSPB'!#REF!,3)=\" IT\",'CROSS PSPB'!#REF!,\"\")","v":{"$error":"#REF!"}},{"$f":"IF(RIGHT('CROSS PSPB'!#REF!,3)=\" IT\",'CROSS PSPB'!#REF!,\"\")","v":{"$error":"#REF!"}},{"$f":"IF(RIGHT('CROSS PSPB'!#REF!,3)=\" IT\",'CROSS PSPB'!#REF!,\"\")","v":{"$error":"#REF!"}},{"$f":"IF(RIGHT('CROSS PSPB'!#REF!,3)=\" IT\",'CROSS PSPB'!#REF!,\"\")","v":{"$error":"#REF!"}},{"$f":"IF(RIGHT('CROSS PSPB'!#REF!,3)=\" IT\",'CROSS PSPB'!#REF!,\"\")","v":{"$error":"#REF!"}},{"$f":"IF(RIGHT('CROSS PSPB'!#REF!,3)=\" IT\",'CROSS PSPB'!#REF!,\"\")","v":{"$error":"#REF!"}},{"$f":"IF(RIGHT('CROSS PSPB'!#REF!,3)=\" IT\",'CROSS PSPB'!#REF!,\"\")","v":{"$error":"#REF!"}},{"$f":"IF(RIGHT('CROSS PSPB'!#REF!,3)=\" IT\",'CROSS PSPB'!#REF!,\"\")","v":{"$error":"#REF!"}},{"$f":"IF(RIGHT('CROSS PSPB'!#REF!,3)=\" IT\",'CROSS PSPB'!#REF!,\"\")","v":{"$error":"#REF!"}},{"$f":"IF(RIGHT('CROSS PSPB'!#REF!,3)=\" IT\",'CROSS PSPB'!#REF!,\"\")","v":{"$error":"#REF!"}},{"$f":"IF(RIGHT('CROSS PSPB'!#REF!,3)=\" IT\",'CROSS PSPB'!#REF!,\"\")","v":{"$error":"#REF!"}},{"$f":"IF(RIGHT('CROSS PSPB'!#REF!,3)=\" IT\",'CROSS PSPB'!#REF!,\"\")","v":{"$error":"#REF!"}},{"$f":"IF(RIGHT('CROSS PSPB'!#REF!,3)=\" IT\",'CROSS PSPB'!#REF!,\"\")","v":{"$error":"#REF!"}},{"$f":"IF(RIGHT('CROSS PSPB'!#REF!,3)=\" IT\",'CROSS PSPB'!#REF!,\"\")","v":{"$error":"#REF!"}},{"$f":"IF(RIGHT('CROSS PSPB'!#REF!,3)=\" IT\",'CROSS PSPB'!#REF!,\"\")","v":{"$error":"#REF!"}},{"$f":"IF(RIGHT('CROSS PSPB'!#REF!,3)=\" IT\",'CROSS PSPB'!#REF!,\"\")","v":{"$error":"#REF!"}},{"$f":"IF(RIGHT('CROSS PSPB'!#REF!,3)=\" IT\",'CROSS PSPB'!#REF!,\"\")","v":{"$error":"#REF!"}},{"$f":"IF(RIGHT('CROSS PSPB'!#REF!,3)=\" IT\",'CROSS PSPB'!#REF!,\"\")","v":{"$error":"#REF!"}},{"$f":"IF(RIGHT('CROSS PSPB'!#REF!,3)=\" IT\",'CROSS PSPB'!#REF!,\"\")","v":{"$error":"#REF!"}},{"$f":"IF(RIGHT('CROSS PSPB'!#REF!,3)=\" IT\",'CROSS PSPB'!#REF!,\"\")","v":{"$error":"#REF!"}},{"$f":"IF(RIGHT('CROSS PSPB'!#REF!,3)=\" IT\",'CROSS PSPB'!#REF!,\"\")","v":{"$error":"#REF!"}},{"$f":"IF(RIGHT('CROSS PSPB'!#REF!,3)=\" IT\",'CROSS PSPB'!#REF!,\"\")","v":{"$error":"#REF!"}},{"$f":"IF(RIGHT('CROSS PSPB'!#REF!,3)=\" IT\",'CROSS PSPB'!#REF!,\"\")","v":{"$error":"#REF!"}},{"$f":"IF(RIGHT('CROSS PSPB'!#REF!,3)=\" IT\",'CROSS PSPB'!#REF!,\"\")","v":{"$error":"#REF!"}},{"$f":"IF(RIGHT('CROSS PSPB'!#REF!,3)=\" IT\",'CROSS PSPB'!#REF!,\"\")","v":{"$error":"#REF!"}},{"$f":"IF(RIGHT('CROSS PSPB'!#REF!,3)=\" IT\",'CROSS PSPB'!#REF!,\"\")","v":{"$error":"#REF!"}},{"$f":"IF(RIGHT('CROSS PSPB'!#REF!,3)=\" IT\",'CROSS PSPB'!#REF!,\"\")","v":{"$error":"#REF!"}},{"$f":"IF(RIGHT('CROSS PSPB'!#REF!,3)=\" IT\",'CROSS PSPB'!#REF!,\"\")","v":{"$error":"#REF!"}},{"$f":"IF(RIGHT('CROSS PSPB'!#REF!,3)=\" IT\",'CROSS PSPB'!#REF!,\"\")","v":{"$error":"#REF!"}},{"$f":"IF(RIGHT('CROSS PSPB'!#REF!,3)=\" IT\",'CROSS PSPB'!#REF!,\"\")","v":{"$error":"#REF!"}},{"$f":"IF(RIGHT('CROSS PSPB'!#REF!,3)=\" IT\",'CROSS PSPB'!#REF!,\"\")","v":{"$error":"#REF!"}},{"$f":"IF(RIGHT('CROSS PSPB'!#REF!,3)=\" IT\",'CROSS PSPB'!#REF!,\"\")","v":{"$error":"#REF!"}},{"$f":"IF(RIGHT('CROSS PSPB'!#REF!,3)=\" IT\",'CROSS PSPB'!#REF!,\"\")","v":{"$error":"#REF!"}},{"$f":"IF(RIGHT('CROSS PSPB'!#REF!,3)=\" IT\",'CROSS PSPB'!#REF!,\"\")","v":{"$error":"#REF!"}},{"$f":"IF(RIGHT('CROSS PSPB'!#REF!,3)=\" IT\",'CROSS PSPB'!#REF!,\"\")","v":{"$error":"#REF!"}},{"$f":"IF(RIGHT('CROSS PSPB'!#REF!,3)=\" IT\",'CROSS PSPB'!#REF!,\"\")","v":{"$error":"#REF!"}},{"$f":"IF(RIGHT('CROSS PSPB'!#REF!,3)=\" IT\",'CROSS PSPB'!#REF!,\"\")","v":{"$error":"#REF!"}},{"$f":"IF(RIGHT('CROSS PSPB'!#REF!,3)=\" IT\",'CROSS PSPB'!#REF!,\"\")","v":{"$error":"#REF!"}},{"$f":"IF(RIGHT('CROSS PSPB'!#REF!,3)=\" IT\",'CROSS PSPB'!#REF!,\"\")","v":{"$error":"#REF!"}},{"$f":"IF(RIGHT('CROSS PSPB'!#REF!,3)=\" IT\",'CROSS PSPB'!#REF!,\"\")","v":{"$error":"#REF!"}},{"$f":"IF(RIGHT('CROSS PSPB'!#REF!,3)=\" IT\",'CROSS PSPB'!#REF!,\"\")","v":{"$error":"#REF!"}},{"$f":"IF(RIGHT('CROSS PSPB'!#REF!,3)=\" IT\",'CROSS PSPB'!#REF!,\"\")","v":{"$error":"#REF!"}},{"$f":"IF(RIGHT('CROSS PSPB'!#REF!,3)=\" IT\",'CROSS PSPB'!#REF!,\"\")","v":{"$error":"#REF!"}},{"$f":"IF(RIGHT('CROSS PSPB'!#REF!,3)=\" IT\",'CROSS PSPB'!#REF!,\"\")","v":{"$error":"#REF!"}},{"$f":"IF(RIGHT('CROSS PSPB'!#REF!,3)=\" IT\",'CROSS PSPB'!#REF!,\"\")","v":{"$error":"#REF!"}},{"$error":"#REF!"},{"$error":"#REF!"},{"$error":"#REF!"},{"$error":"#REF!"}]
[null,{"$f":"IF(RIGHT('CROSS PSPB'!#REF!,3)=\" IT\",'CROSS PSPB'!#REF!,\"\")","v":{"$error":"#REF!"}},{"$f":"IF(RIGHT('CROSS PSPB'!#REF!,3)=\" IT\",'CROSS PSPB'!#REF!,\"\")","v":{"$error":"#REF!"}},{"$f":"IF(RIGHT('CROSS PSPB'!#REF!,3)=\" IT\",'CROSS PSPB'!#REF!,\"\")","v":{"$error":"#REF!"}},{"$f":"IF(RIGHT('CROSS PSPB'!#REF!,3)=\" IT\",'CROSS PSPB'!#REF!,\"\")","v":{"$error":"#REF!"}},{"$f":"IF(RIGHT('CROSS PSPB'!#REF!,3)=\" IT\",'CROSS PSPB'!#REF!,\"\")","v":{"$error":"#REF!"}},{"$f":"IF(RIGHT('CROSS PSPB'!#REF!,3)=\" IT\",'CROSS PSPB'!#REF!,\"\")","v":{"$error":"#REF!"}},{"$f":"IF(RIGHT('CROSS PSPB'!#REF!,3)=\" IT\",'CROSS PSPB'!#REF!,\"\")","v":{"$error":"#REF!"}},{"$f":"IF(RIGHT('CROSS PSPB'!#REF!,3)=\" IT\",'CROSS PSPB'!#REF!,\"\")","v":{"$error":"#REF!"}},{"$f":"IF(RIGHT('CROSS PSPB'!#REF!,3)=\" IT\",'CROSS PSPB'!#REF!,\"\")","v":{"$error":"#REF!"}},{"$f":"IF(RIGHT('CROSS PSPB'!#REF!,3)=\" IT\",'CROSS PSPB'!#REF!,\"\")","v":{"$error":"#REF!"}},{"$f":"IF(RIGHT('CROSS PSPB'!#REF!,3)=\" IT\",'CROSS PSPB'!#REF!,\"\")","v":{"$error":"#REF!"}},{"$f":"IF(RIGHT('CROSS PSPB'!#REF!,3)=\" IT\",'CROSS PSPB'!#REF!,\"\")","v":{"$error":"#REF!"}},{"$f":"IF(RIGHT('CROSS PSPB'!#REF!,3)=\" IT\",'CROSS PSPB'!#REF!,\"\")","v":{"$error":"#REF!"}},{"$f":"IF(RIGHT('CROSS PSPB'!#REF!,3)=\" IT\",'CROSS PSPB'!#REF!,\"\")","v":{"$error":"#REF!"}},{"$f":"IF(RIGHT('CROSS PSPB'!#REF!,3)=\" IT\",'CROSS PSPB'!#REF!,\"\")","v":{"$error":"#REF!"}},{"$f":"IF(RIGHT('CROSS PSPB'!#REF!,3)=\" IT\",'CROSS PSPB'!#REF!,\"\")","v":{"$error":"#REF!"}},{"$f":"IF(RIGHT('CROSS PSPB'!#REF!,3)=\" IT\",'CROSS PSPB'!#REF!,\"\")","v":{"$error":"#REF!"}},{"$f":"IF(RIGHT('CROSS PSPB'!#REF!,3)=\" IT\",'CROSS PSPB'!#REF!,\"\")","v":{"$error":"#REF!"}},{"$f":"IF(RIGHT('CROSS PSPB'!#REF!,3)=\" IT\",'CROSS PSPB'!#REF!,\"\")","v":{"$error":"#REF!"}},{"$f":"IF(RIGHT('CROSS PSPB'!#REF!,3)=\" IT\",'CROSS PSPB'!#REF!,\"\")","v":{"$error":"#REF!"}},{"$f":"IF(RIGHT('CROSS PSPB'!#REF!,3)=\" IT\",'CROSS PSPB'!#REF!,\"\")","v":{"$error":"#REF!"}},{"$f":"IF(RIGHT('CROSS PSPB'!#REF!,3)=\" IT\",'CROSS PSPB'!#REF!,\"\")","v":{"$error":"#REF!"}},{"$f":"IF(RIGHT('CROSS PSPB'!#REF!,3)=\" IT\",'CROSS PSPB'!#REF!,\"\")","v":{"$error":"#REF!"}},{"$f":"IF(RIGHT('CROSS PSPB'!#REF!,3)=\" IT\",'CROSS PSPB'!#REF!,\"\")","v":{"$error":"#REF!"}},{"$f":"IF(RIGHT('CROSS PSPB'!#REF!,3)=\" IT\",'CROSS PSPB'!#REF!,\"\")","v":{"$error":"#REF!"}},{"$f":"IF(RIGHT('CROSS PSPB'!#REF!,3)=\" IT\",'CROSS PSPB'!#REF!,\"\")","v":{"$error":"#REF!"}},{"$f":"IF(RIGHT('CROSS PSPB'!#REF!,3)=\" IT\",'CROSS PSPB'!#REF!,\"\")","v":{"$error":"#REF!"}},{"$f":"IF(RIGHT('CROSS PSPB'!#REF!,3)=\" IT\",'CROSS PSPB'!#REF!,\"\")","v":{"$error":"#REF!"}},{"$f":"IF(RIGHT('CROSS PSPB'!#REF!,3)=\" IT\",'CROSS PSPB'!#REF!,\"\")","v":{"$error":"#REF!"}},{"$f":"IF(RIGHT('CROSS PSPB'!#REF!,3)=\" IT\",'CROSS PSPB'!#REF!,\"\")","v":{"$error":"#REF!"}},{"$f":"IF(RIGHT('CROSS PSPB'!#REF!,3)=\" IT\",'CROSS PSPB'!#REF!,\"\")","v":{"$error":"#REF!"}},{"$f":"IF(RIGHT('CROSS PSPB'!#REF!,3)=\" IT\",'CROSS PSPB'!#REF!,\"\")","v":{"$error":"#REF!"}},{"$f":"IF(RIGHT('CROSS PSPB'!#REF!,3)=\" IT\",'CROSS PSPB'!#REF!,\"\")","v":{"$error":"#REF!"}},{"$f":"IF(RIGHT('CROSS PSPB'!#REF!,3)=\" IT\",'CROSS PSPB'!#REF!,\"\")","v":{"$error":"#REF!"}},{"$f":"IF(RIGHT('CROSS PSPB'!#REF!,3)=\" IT\",'CROSS PSPB'!#REF!,\"\")","v":{"$error":"#REF!"}},{"$f":"IF(RIGHT('CROSS PSPB'!#REF!,3)=\" IT\",'CROSS PSPB'!#REF!,\"\")","v":{"$error":"#REF!"}},{"$f":"IF(RIGHT('CROSS PSPB'!#REF!,3)=\" IT\",'CROSS PSPB'!#REF!,\"\")","v":{"$error":"#REF!"}},{"$f":"IF(RIGHT('CROSS PSPB'!#REF!,3)=\" IT\",'CROSS PSPB'!#REF!,\"\")","v":{"$error":"#REF!"}},{"$f":"IF(RIGHT('CROSS PSPB'!#REF!,3)=\" IT\",'CROSS PSPB'!#REF!,\"\")","v":{"$error":"#REF!"}},{"$f":"IF(RIGHT('CROSS PSPB'!#REF!,3)=\" IT\",'CROSS PSPB'!#REF!,\"\")","v":{"$error":"#REF!"}},{"$f":"IF(RIGHT('CROSS PSPB'!#REF!,3)=\" IT\",'CROSS PSPB'!#REF!,\"\")","v":{"$error":"#REF!"}},{"$f":"IF(RIGHT('CROSS PSPB'!#REF!,3)=\" IT\",'CROSS PSPB'!#REF!,\"\")","v":{"$error":"#REF!"}},{"$f":"IF(RIGHT('CROSS PSPB'!#REF!,3)=\" IT\",'CROSS PSPB'!#REF!,\"\")","v":{"$error":"#REF!"}},{"$f":"IF(RIGHT('CROSS PSPB'!#REF!,3)=\" IT\",'CROSS PSPB'!#REF!,\"\")","v":{"$error":"#REF!"}},{"$f":"IF(RIGHT('CROSS PSPB'!#REF!,3)=\" IT\",'CROSS PSPB'!#REF!,\"\")","v":{"$error":"#REF!"}},{"$f":"IF(RIGHT('CROSS PSPB'!#REF!,3)=\" IT\",'CROSS PSPB'!#REF!,\"\")","v":{"$error":"#REF!"}},{"$f":"IF(RIGHT('CROSS PSPB'!#REF!,3)=\" IT\",'CROSS PSPB'!#REF!,\"\")","v":{"$error":"#REF!"}},{"$f":"IF(RIGHT('CROSS PSPB'!#REF!,3)=\" IT\",'CROSS PSPB'!#REF!,\"\")","v":{"$error":"#REF!"}},{"$f":"IF(RIGHT('CROSS PSPB'!#REF!,3)=\" IT\",'CROSS PSPB'!#REF!,\"\")","v":{"$error":"#REF!"}},{"$f":"IF(RIGHT('CROSS PSPB'!#REF!,3)=\" IT\",'CROSS PSPB'!#REF!,\"\")","v":{"$error":"#REF!"}},{"$f":"IF(RIGHT('CROSS PSPB'!#REF!,3)=\" IT\",'CROSS PSPB'!#REF!,\"\")","v":{"$error":"#REF!"}},{"$error":"#REF!"},{"$error":"#REF!"},{"$error":"#REF!"},{"$error":"#REF!"}]
[null,{"$f":"IF(RIGHT('CROSS PSPB'!#REF!,3)=\" IT\",'CROSS PSPB'!#REF!,\"\")","v":{"$error":"#REF!"}},{"$f":"IF(RIGHT('CROSS PSPB'!#REF!,3)=\" IT\",'CROSS PSPB'!#REF!,\"\")","v":{"$error":"#REF!"}},{"$f":"IF(RIGHT('CROSS PSPB'!#REF!,3)=\" IT\",'CROSS PSPB'!#REF!,\"\")","v":{"$error":"#REF!"}},{"$f":"IF(RIGHT('CROSS PSPB'!#REF!,3)=\" IT\",'CROSS PSPB'!#REF!,\"\")","v":{"$error":"#REF!"}},{"$f":"IF(RIGHT('CROSS PSPB'!#REF!,3)=\" IT\",'CROSS PSPB'!#REF!,\"\")","v":{"$error":"#REF!"}},{"$f":"IF(RIGHT('CROSS PSPB'!#REF!,3)=\" IT\",'CROSS PSPB'!#REF!,\"\")","v":{"$error":"#REF!"}},{"$f":"IF(RIGHT('CROSS PSPB'!#REF!,3)=\" IT\",'CROSS PSPB'!#REF!,\"\")","v":{"$error":"#REF!"}},{"$f":"IF(RIGHT('CROSS PSPB'!#REF!,3)=\" IT\",'CROSS PSPB'!#REF!,\"\")","v":{"$error":"#REF!"}},{"$f":"IF(RIGHT('CROSS PSPB'!#REF!,3)=\" IT\",'CROSS PSPB'!#REF!,\"\")","v":{"$error":"#REF!"}},{"$f":"IF(RIGHT('CROSS PSPB'!#REF!,3)=\" IT\",'CROSS PSPB'!#REF!,\"\")","v":{"$error":"#REF!"}},{"$f":"IF(RIGHT('CROSS PSPB'!#REF!,3)=\" IT\",'CROSS PSPB'!#REF!,\"\")","v":{"$error":"#REF!"}},{"$f":"IF(RIGHT('CROSS PSPB'!#REF!,3)=\" IT\",'CROSS PSPB'!#REF!,\"\")","v":{"$error":"#REF!"}},{"$f":"IF(RIGHT('CROSS PSPB'!#REF!,3)=\" IT\",'CROSS PSPB'!#REF!,\"\")","v":{"$error":"#REF!"}},{"$f":"IF(RIGHT('CROSS PSPB'!#REF!,3)=\" IT\",'CROSS PSPB'!#REF!,\"\")","v":{"$error":"#REF!"}},{"$f":"IF(RIGHT('CROSS PSPB'!#REF!,3)=\" IT\",'CROSS PSPB'!#REF!,\"\")","v":{"$error":"#REF!"}},{"$f":"IF(RIGHT('CROSS PSPB'!#REF!,3)=\" IT\",'CROSS PSPB'!#REF!,\"\")","v":{"$error":"#REF!"}},{"$f":"IF(RIGHT('CROSS PSPB'!#REF!,3)=\" IT\",'CROSS PSPB'!#REF!,\"\")","v":{"$error":"#REF!"}},{"$f":"IF(RIGHT('CROSS PSPB'!#REF!,3)=\" IT\",'CROSS PSPB'!#REF!,\"\")","v":{"$error":"#REF!"}},{"$f":"IF(RIGHT('CROSS PSPB'!#REF!,3)=\" IT\",'CROSS PSPB'!#REF!,\"\")","v":{"$error":"#REF!"}},{"$f":"IF(RIGHT('CROSS PSPB'!#REF!,3)=\" IT\",'CROSS PSPB'!#REF!,\"\")","v":{"$error":"#REF!"}},{"$f":"IF(RIGHT('CROSS PSPB'!#REF!,3)=\" IT\",'CROSS PSPB'!#REF!,\"\")","v":{"$error":"#REF!"}},{"$f":"IF(RIGHT('CROSS PSPB'!#REF!,3)=\" IT\",'CROSS PSPB'!#REF!,\"\")","v":{"$error":"#REF!"}},{"$f":"IF(RIGHT('CROSS PSPB'!#REF!,3)=\" IT\",'CROSS PSPB'!#REF!,\"\")","v":{"$error":"#REF!"}},{"$f":"IF(RIGHT('CROSS PSPB'!#REF!,3)=\" IT\",'CROSS PSPB'!#REF!,\"\")","v":{"$error":"#REF!"}},{"$f":"IF(RIGHT('CROSS PSPB'!#REF!,3)=\" IT\",'CROSS PSPB'!#REF!,\"\")","v":{"$error":"#REF!"}},{"$f":"IF(RIGHT('CROSS PSPB'!#REF!,3)=\" IT\",'CROSS PSPB'!#REF!,\"\")","v":{"$error":"#REF!"}},{"$f":"IF(RIGHT('CROSS PSPB'!#REF!,3)=\" IT\",'CROSS PSPB'!#REF!,\"\")","v":{"$error":"#REF!"}},{"$f":"IF(RIGHT('CROSS PSPB'!#REF!,3)=\" IT\",'CROSS PSPB'!#REF!,\"\")","v":{"$error":"#REF!"}},{"$f":"IF(RIGHT('CROSS PSPB'!#REF!,3)=\" IT\",'CROSS PSPB'!#REF!,\"\")","v":{"$error":"#REF!"}},{"$f":"IF(RIGHT('CROSS PSPB'!#REF!,3)=\" IT\",'CROSS PSPB'!#REF!,\"\")","v":{"$error":"#REF!"}},{"$f":"IF(RIGHT('CROSS PSPB'!#REF!,3)=\" IT\",'CROSS PSPB'!#REF!,\"\")","v":{"$error":"#REF!"}},{"$f":"IF(RIGHT('CROSS PSPB'!#REF!,3)=\" IT\",'CROSS PSPB'!#REF!,\"\")","v":{"$error":"#REF!"}},{"$f":"IF(RIGHT('CROSS PSPB'!#REF!,3)=\" IT\",'CROSS PSPB'!#REF!,\"\")","v":{"$error":"#REF!"}},{"$f":"IF(RIGHT('CROSS PSPB'!#REF!,3)=\" IT\",'CROSS PSPB'!#REF!,\"\")","v":{"$error":"#REF!"}},{"$f":"IF(RIGHT('CROSS PSPB'!#REF!,3)=\" IT\",'CROSS PSPB'!#REF!,\"\")","v":{"$error":"#REF!"}},{"$f":"IF(RIGHT('CROSS PSPB'!#REF!,3)=\" IT\",'CROSS PSPB'!#REF!,\"\")","v":{"$error":"#REF!"}},{"$f":"IF(RIGHT('CROSS PSPB'!#REF!,3)=\" IT\",'CROSS PSPB'!#REF!,\"\")","v":{"$error":"#REF!"}},{"$f":"IF(RIGHT('CROSS PSPB'!#REF!,3)=\" IT\",'CROSS PSPB'!#REF!,\"\")","v":{"$error":"#REF!"}},{"$f":"IF(RIGHT('CROSS PSPB'!#REF!,3)=\" IT\",'CROSS PSPB'!#REF!,\"\")","v":{"$error":"#REF!"}},{"$f":"IF(RIGHT('CROSS PSPB'!#REF!,3)=\" IT\",'CROSS PSPB'!#REF!,\"\")","v":{"$error":"#REF!"}},{"$f":"IF(RIGHT('CROSS PSPB'!#REF!,3)=\" IT\",'CROSS PSPB'!#REF!,\"\")","v":{"$error":"#REF!"}},{"$f":"IF(RIGHT('CROSS PSPB'!#REF!,3)=\" IT\",'CROSS PSPB'!#REF!,\"\")","v":{"$error":"#REF!"}},{"$f":"IF(RIGHT('CROSS PSPB'!#REF!,3)=\" IT\",'CROSS PSPB'!#REF!,\"\")","v":{"$error":"#REF!"}},{"$f":"IF(RIGHT('CROSS PSPB'!#REF!,3)=\" IT\",'CROSS PSPB'!#REF!,\"\")","v":{"$error":"#REF!"}},{"$f":"IF(RIGHT('CROSS PSPB'!#REF!,3)=\" IT\",'CROSS PSPB'!#REF!,\"\")","v":{"$error":"#REF!"}},{"$f":"IF(RIGHT('CROSS PSPB'!#REF!,3)=\" IT\",'CROSS PSPB'!#REF!,\"\")","v":{"$error":"#REF!"}},{"$f":"IF(RIGHT('CROSS PSPB'!#REF!,3)=\" IT\",'CROSS PSPB'!#REF!,\"\")","v":{"$error":"#REF!"}},{"$f":"IF(RIGHT('CROSS PSPB'!#REF!,3)=\" IT\",'CROSS PSPB'!#REF!,\"\")","v":{"$error":"#REF!"}},{"$f":"IF(RIGHT('CROSS PSPB'!#REF!,3)=\" IT\",'CROSS PSPB'!#REF!,\"\")","v":{"$error":"#REF!"}},{"$f":"IF(RIGHT('CROSS PSPB'!#REF!,3)=\" IT\",'CROSS PSPB'!#REF!,\"\")","v":{"$error":"#REF!"}},{"$f":"IF(RIGHT('CROSS PSPB'!#REF!,3)=\" IT\",'CROSS PSPB'!#REF!,\"\")","v":{"$error":"#REF!"}},{"$error":"#REF!"},{"$error":"#REF!"},{"$error":"#REF!"},{"$error":"#REF!"}]
[null,{"$f":"IF(RIGHT('CROSS PSPB'!#REF!,3)=\" IT\",'CROSS PSPB'!#REF!,\"\")","v":{"$error":"#REF!"}},{"$f":"IF(RIGHT('CROSS PSPB'!#REF!,3)=\" IT\",'CROSS PSPB'!#REF!,\"\")","v":{"$error":"#REF!"}},{"$f":"IF(RIGHT('CROSS PSPB'!#REF!,3)=\" IT\",'CROSS PSPB'!#REF!,\"\")","v":{"$error":"#REF!"}},{"$f":"IF(RIGHT('CROSS PSPB'!#REF!,3)=\" IT\",'CROSS PSPB'!#REF!,\"\")","v":{"$error":"#REF!"}},{"$f":"IF(RIGHT('CROSS PSPB'!#REF!,3)=\" IT\",'CROSS PSPB'!#REF!,\"\")","v":{"$error":"#REF!"}},{"$f":"IF(RIGHT('CROSS PSPB'!#REF!,3)=\" IT\",'CROSS PSPB'!#REF!,\"\")","v":{"$error":"#REF!"}},{"$f":"IF(RIGHT('CROSS PSPB'!#REF!,3)=\" IT\",'CROSS PSPB'!#REF!,\"\")","v":{"$error":"#REF!"}},{"$f":"IF(RIGHT('CROSS PSPB'!#REF!,3)=\" IT\",'CROSS PSPB'!#REF!,\"\")","v":{"$error":"#REF!"}},{"$f":"IF(RIGHT('CROSS PSPB'!#REF!,3)=\" IT\",'CROSS PSPB'!#REF!,\"\")","v":{"$error":"#REF!"}},{"$f":"IF(RIGHT('CROSS PSPB'!#REF!,3)=\" IT\",'CROSS PSPB'!#REF!,\"\")","v":{"$error":"#REF!"}},{"$f":"IF(RIGHT('CROSS PSPB'!#REF!,3)=\" IT\",'CROSS PSPB'!#REF!,\"\")","v":{"$error":"#REF!"}},{"$f":"IF(RIGHT('CROSS PSPB'!#REF!,3)=\" IT\",'CROSS PSPB'!#REF!,\"\")","v":{"$error":"#REF!"}},{"$f":"IF(RIGHT('CROSS PSPB'!#REF!,3)=\" IT\",'CROSS PSPB'!#REF!,\"\")","v":{"$error":"#REF!"}},{"$f":"IF(RIGHT('CROSS PSPB'!#REF!,3)=\" IT\",'CROSS PSPB'!#REF!,\"\")","v":{"$error":"#REF!"}},{"$f":"IF(RIGHT('CROSS PSPB'!#REF!,3)=\" IT\",'CROSS PSPB'!#REF!,\"\")","v":{"$error":"#REF!"}},{"$f":"IF(RIGHT('CROSS PSPB'!#REF!,3)=\" IT\",'CROSS PSPB'!#REF!,\"\")","v":{"$error":"#REF!"}},{"$f":"IF(RIGHT('CROSS PSPB'!#REF!,3)=\" IT\",'CROSS PSPB'!#REF!,\"\")","v":{"$error":"#REF!"}},{"$f":"IF(RIGHT('CROSS PSPB'!#REF!,3)=\" IT\",'CROSS PSPB'!#REF!,\"\")","v":{"$error":"#REF!"}},{"$f":"IF(RIGHT('CROSS PSPB'!#REF!,3)=\" IT\",'CROSS PSPB'!#REF!,\"\")","v":{"$error":"#REF!"}},{"$f":"IF(RIGHT('CROSS PSPB'!#REF!,3)=\" IT\",'CROSS PSPB'!#REF!,\"\")","v":{"$error":"#REF!"}},{"$f":"IF(RIGHT('CROSS PSPB'!#REF!,3)=\" IT\",'CROSS PSPB'!#REF!,\"\")","v":{"$error":"#REF!"}},{"$f":"IF(RIGHT('CROSS PSPB'!#REF!,3)=\" IT\",'CROSS PSPB'!#REF!,\"\")","v":{"$error":"#REF!"}},{"$f":"IF(RIGHT('CROSS PSPB'!#REF!,3)=\" IT\",'CROSS PSPB'!#REF!,\"\")","v":{"$error":"#REF!"}},{"$f":"IF(RIGHT('CROSS PSPB'!#REF!,3)=\" IT\",'CROSS PSPB'!#REF!,\"\")","v":{"$error":"#REF!"}},{"$f":"IF(RIGHT('CROSS PSPB'!#REF!,3)=\" IT\",'CROSS PSPB'!#REF!,\"\")","v":{"$error":"#REF!"}},{"$f":"IF(RIGHT('CROSS PSPB'!#REF!,3)=\" IT\",'CROSS PSPB'!#REF!,\"\")","v":{"$error":"#REF!"}},{"$f":"IF(RIGHT('CROSS PSPB'!#REF!,3)=\" IT\",'CROSS PSPB'!#REF!,\"\")","v":{"$error":"#REF!"}},{"$f":"IF(RIGHT('CROSS PSPB'!#REF!,3)=\" IT\",'CROSS PSPB'!#REF!,\"\")","v":{"$error":"#REF!"}},{"$f":"IF(RIGHT('CROSS PSPB'!#REF!,3)=\" IT\",'CROSS PSPB'!#REF!,\"\")","v":{"$error":"#REF!"}},{"$f":"IF(RIGHT('CROSS PSPB'!#REF!,3)=\" IT\",'CROSS PSPB'!#REF!,\"\")","v":{"$error":"#REF!"}},{"$f":"IF(RIGHT('CROSS PSPB'!#REF!,3)=\" IT\",'CROSS PSPB'!#REF!,\"\")","v":{"$error":"#REF!"}},{"$f":"IF(RIGHT('CROSS PSPB'!#REF!,3)=\" IT\",'CROSS PSPB'!#REF!,\"\")","v":{"$error":"#REF!"}},{"$f":"IF(RIGHT('CROSS PSPB'!#REF!,3)=\" IT\",'CROSS PSPB'!#REF!,\"\")","v":{"$error":"#REF!"}},{"$f":"IF(RIGHT('CROSS PSPB'!#REF!,3)=\" IT\",'CROSS PSPB'!#REF!,\"\")","v":{"$error":"#REF!"}},{"$f":"IF(RIGHT('CROSS PSPB'!#REF!,3)=\" IT\",'CROSS PSPB'!#REF!,\"\")","v":{"$error":"#REF!"}},{"$f":"IF(RIGHT('CROSS PSPB'!#REF!,3)=\" IT\",'CROSS PSPB'!#REF!,\"\")","v":{"$error":"#REF!"}},{"$f":"IF(RIGHT('CROSS PSPB'!#REF!,3)=\" IT\",'CROSS PSPB'!#REF!,\"\")","v":{"$error":"#REF!"}},{"$f":"IF(RIGHT('CROSS PSPB'!#REF!,3)=\" IT\",'CROSS PSPB'!#REF!,\"\")","v":{"$error":"#REF!"}},{"$f":"IF(RIGHT('CROSS PSPB'!#REF!,3)=\" IT\",'CROSS PSPB'!#REF!,\"\")","v":{"$error":"#REF!"}},{"$f":"IF(RIGHT('CROSS PSPB'!#REF!,3)=\" IT\",'CROSS PSPB'!#REF!,\"\")","v":{"$error":"#REF!"}},{"$f":"IF(RIGHT('CROSS PSPB'!#REF!,3)=\" IT\",'CROSS PSPB'!#REF!,\"\")","v":{"$error":"#REF!"}},{"$f":"IF(RIGHT('CROSS PSPB'!#REF!,3)=\" IT\",'CROSS PSPB'!#REF!,\"\")","v":{"$error":"#REF!"}},{"$f":"IF(RIGHT('CROSS PSPB'!#REF!,3)=\" IT\",'CROSS PSPB'!#REF!,\"\")","v":{"$error":"#REF!"}},{"$f":"IF(RIGHT('CROSS PSPB'!#REF!,3)=\" IT\",'CROSS PSPB'!#REF!,\"\")","v":{"$error":"#REF!"}},{"$f":"IF(RIGHT('CROSS PSPB'!#REF!,3)=\" IT\",'CROSS PSPB'!#REF!,\"\")","v":{"$error":"#REF!"}},{"$f":"IF(RIGHT('CROSS PSPB'!#REF!,3)=\" IT\",'CROSS PSPB'!#REF!,\"\")","v":{"$error":"#REF!"}},{"$f":"IF(RIGHT('CROSS PSPB'!#REF!,3)=\" IT\",'CROSS PSPB'!#REF!,\"\")","v":{"$error":"#REF!"}},{"$f":"IF(RIGHT('CROSS PSPB'!#REF!,3)=\" IT\",'CROSS PSPB'!#REF!,\"\")","v":{"$error":"#REF!"}},{"$f":"IF(RIGHT('CROSS PSPB'!#REF!,3)=\" IT\",'CROSS PSPB'!#REF!,\"\")","v":{"$error":"#REF!"}},{"$f":"IF(RIGHT('CROSS PSPB'!#REF!,3)=\" IT\",'CROSS PSPB'!#REF!,\"\")","v":{"$error":"#REF!"}},{"$f":"IF(RIGHT('CROSS PSPB'!#REF!,3)=\" IT\",'CROSS PSPB'!#REF!,\"\")","v":{"$error":"#REF!"}},{"$error":"#REF!"},{"$error":"#REF!"},{"$error":"#REF!"},{"$error":"#REF!"}]
[null,{"$f":"IF(RIGHT('CROSS PSPB'!#REF!,3)=\" IT\",'CROSS PSPB'!#REF!,\"\")","v":{"$error":"#REF!"}},{"$f":"IF(RIGHT('CROSS PSPB'!#REF!,3)=\" IT\",'CROSS PSPB'!#REF!,\"\")","v":{"$error":"#REF!"}},{"$f":"IF(RIGHT('CROSS PSPB'!#REF!,3)=\" IT\",'CROSS PSPB'!#REF!,\"\")","v":{"$error":"#REF!"}},{"$f":"IF(RIGHT('CROSS PSPB'!#REF!,3)=\" IT\",'CROSS PSPB'!#REF!,\"\")","v":{"$error":"#REF!"}},{"$f":"IF(RIGHT('CROSS PSPB'!#REF!,3)=\" IT\",'CROSS PSPB'!#REF!,\"\")","v":{"$error":"#REF!"}},{"$f":"IF(RIGHT('CROSS PSPB'!#REF!,3)=\" IT\",'CROSS PSPB'!#REF!,\"\")","v":{"$error":"#REF!"}},{"$f":"IF(RIGHT('CROSS PSPB'!#REF!,3)=\" IT\",'CROSS PSPB'!#REF!,\"\")","v":{"$error":"#REF!"}},{"$f":"IF(RIGHT('CROSS PSPB'!#REF!,3)=\" IT\",'CROSS PSPB'!#REF!,\"\")","v":{"$error":"#REF!"}},{"$f":"IF(RIGHT('CROSS PSPB'!#REF!,3)=\" IT\",'CROSS PSPB'!#REF!,\"\")","v":{"$error":"#REF!"}},{"$f":"IF(RIGHT('CROSS PSPB'!#REF!,3)=\" IT\",'CROSS PSPB'!#REF!,\"\")","v":{"$error":"#REF!"}},{"$f":"IF(RIGHT('CROSS PSPB'!#REF!,3)=\" IT\",'CROSS PSPB'!#REF!,\"\")","v":{"$error":"#REF!"}},{"$f":"IF(RIGHT('CROSS PSPB'!#REF!,3)=\" IT\",'CROSS PSPB'!#REF!,\"\")","v":{"$error":"#REF!"}},{"$f":"IF(RIGHT('CROSS PSPB'!#REF!,3)=\" IT\",'CROSS PSPB'!#REF!,\"\")","v":{"$error":"#REF!"}},{"$f":"IF(RIGHT('CROSS PSPB'!#REF!,3)=\" IT\",'CROSS PSPB'!#REF!,\"\")","v":{"$error":"#REF!"}},{"$f":"IF(RIGHT('CROSS PSPB'!#REF!,3)=\" IT\",'CROSS PSPB'!#REF!,\"\")","v":{"$error":"#REF!"}},{"$f":"IF(RIGHT('CROSS PSPB'!#REF!,3)=\" IT\",'CROSS PSPB'!#REF!,\"\")","v":{"$error":"#REF!"}},{"$f":"IF(RIGHT('CROSS PSPB'!#REF!,3)=\" IT\",'CROSS PSPB'!#REF!,\"\")","v":{"$error":"#REF!"}},{"$f":"IF(RIGHT('CROSS PSPB'!#REF!,3)=\" IT\",'CROSS PSPB'!#REF!,\"\")","v":{"$error":"#REF!"}},{"$f":"IF(RIGHT('CROSS PSPB'!#REF!,3)=\" IT\",'CROSS PSPB'!#REF!,\"\")","v":{"$error":"#REF!"}},{"$f":"IF(RIGHT('CROSS PSPB'!#REF!,3)=\" IT\",'CROSS PSPB'!#REF!,\"\")","v":{"$error":"#REF!"}},{"$f":"IF(RIGHT('CROSS PSPB'!#REF!,3)=\" IT\",'CROSS PSPB'!#REF!,\"\")","v":{"$error":"#REF!"}},{"$f":"IF(RIGHT('CROSS PSPB'!#REF!,3)=\" IT\",'CROSS PSPB'!#REF!,\"\")","v":{"$error":"#REF!"}},{"$f":"IF(RIGHT('CROSS PSPB'!#REF!,3)=\" IT\",'CROSS PSPB'!#REF!,\"\")","v":{"$error":"#REF!"}},{"$f":"IF(RIGHT('CROSS PSPB'!#REF!,3)=\" IT\",'CROSS PSPB'!#REF!,\"\")","v":{"$error":"#REF!"}},{"$f":"IF(RIGHT('CROSS PSPB'!#REF!,3)=\" IT\",'CROSS PSPB'!#REF!,\"\")","v":{"$error":"#REF!"}},{"$f":"IF(RIGHT('CROSS PSPB'!#REF!,3)=\" IT\",'CROSS PSPB'!#REF!,\"\")","v":{"$error":"#REF!"}},{"$f":"IF(RIGHT('CROSS PSPB'!#REF!,3)=\" IT\",'CROSS PSPB'!#REF!,\"\")","v":{"$error":"#REF!"}},{"$f":"IF(RIGHT('CROSS PSPB'!#REF!,3)=\" IT\",'CROSS PSPB'!#REF!,\"\")","v":{"$error":"#REF!"}},{"$f":"IF(RIGHT('CROSS PSPB'!#REF!,3)=\" IT\",'CROSS PSPB'!#REF!,\"\")","v":{"$error":"#REF!"}},{"$f":"IF(RIGHT('CROSS PSPB'!#REF!,3)=\" IT\",'CROSS PSPB'!#REF!,\"\")","v":{"$error":"#REF!"}},{"$f":"IF(RIGHT('CROSS PSPB'!#REF!,3)=\" IT\",'CROSS PSPB'!#REF!,\"\")","v":{"$error":"#REF!"}},{"$f":"IF(RIGHT('CROSS PSPB'!#REF!,3)=\" IT\",'CROSS PSPB'!#REF!,\"\")","v":{"$error":"#REF!"}},{"$f":"IF(RIGHT('CROSS PSPB'!#REF!,3)=\" IT\",'CROSS PSPB'!#REF!,\"\")","v":{"$error":"#REF!"}},{"$f":"IF(RIGHT('CROSS PSPB'!#REF!,3)=\" IT\",'CROSS PSPB'!#REF!,\"\")","v":{"$error":"#REF!"}},{"$f":"IF(RIGHT('CROSS PSPB'!#REF!,3)=\" IT\",'CROSS PSPB'!#REF!,\"\")","v":{"$error":"#REF!"}},{"$f":"IF(RIGHT('CROSS PSPB'!#REF!,3)=\" IT\",'CROSS PSPB'!#REF!,\"\")","v":{"$error":"#REF!"}},{"$f":"IF(RIGHT('CROSS PSPB'!#REF!,3)=\" IT\",'CROSS PSPB'!#REF!,\"\")","v":{"$error":"#REF!"}},{"$f":"IF(RIGHT('CROSS PSPB'!#REF!,3)=\" IT\",'CROSS PSPB'!#REF!,\"\")","v":{"$error":"#REF!"}},{"$f":"IF(RIGHT('CROSS PSPB'!#REF!,3)=\" IT\",'CROSS PSPB'!#REF!,\"\")","v":{"$error":"#REF!"}},{"$f":"IF(RIGHT('CROSS PSPB'!#REF!,3)=\" IT\",'CROSS PSPB'!#REF!,\"\")","v":{"$error":"#REF!"}},{"$f":"IF(RIGHT('CROSS PSPB'!#REF!,3)=\" IT\",'CROSS PSPB'!#REF!,\"\")","v":{"$error":"#REF!"}},{"$f":"IF(RIGHT('CROSS PSPB'!#REF!,3)=\" IT\",'CROSS PSPB'!#REF!,\"\")","v":{"$error":"#REF!"}},{"$f":"IF(RIGHT('CROSS PSPB'!#REF!,3)=\" IT\",'CROSS PSPB'!#REF!,\"\")","v":{"$error":"#REF!"}},{"$f":"IF(RIGHT('CROSS PSPB'!#REF!,3)=\" IT\",'CROSS PSPB'!#REF!,\"\")","v":{"$error":"#REF!"}},{"$f":"IF(RIGHT('CROSS PSPB'!#REF!,3)=\" IT\",'CROSS PSPB'!#REF!,\"\")","v":{"$error":"#REF!"}},{"$f":"IF(RIGHT('CROSS PSPB'!#REF!,3)=\" IT\",'CROSS PSPB'!#REF!,\"\")","v":{"$error":"#REF!"}},{"$f":"IF(RIGHT('CROSS PSPB'!#REF!,3)=\" IT\",'CROSS PSPB'!#REF!,\"\")","v":{"$error":"#REF!"}},{"$f":"IF(RIGHT('CROSS PSPB'!#REF!,3)=\" IT\",'CROSS PSPB'!#REF!,\"\")","v":{"$error":"#REF!"}},{"$f":"IF(RIGHT('CROSS PSPB'!#REF!,3)=\" IT\",'CROSS PSPB'!#REF!,\"\")","v":{"$error":"#REF!"}},{"$f":"IF(RIGHT('CROSS PSPB'!#REF!,3)=\" IT\",'CROSS PSPB'!#REF!,\"\")","v":{"$error":"#REF!"}},{"$f":"IF(RIGHT('CROSS PSPB'!#REF!,3)=\" IT\",'CROSS PSPB'!#REF!,\"\")","v":{"$error":"#REF!"}},{"$error":"#REF!"},{"$error":"#REF!"},{"$error":"#REF!"},{"$error":"#REF!"}]
[null,{"$f":"IF(RIGHT('CROSS PSPB'!#REF!,3)=\" IT\",'CROSS PSPB'!#REF!,\"\")","v":{"$error":"#REF!"}},{"$f":"IF(RIGHT('CROSS PSPB'!#REF!,3)=\" IT\",'CROSS PSPB'!#REF!,\"\")","v":{"$error":"#REF!"}},{"$f":"IF(RIGHT('CROSS PSPB'!#REF!,3)=\" IT\",'CROSS PSPB'!#REF!,\"\")","v":{"$error":"#REF!"}},{"$f":"IF(RIGHT('CROSS PSPB'!#REF!,3)=\" IT\",'CROSS PSPB'!#REF!,\"\")","v":{"$error":"#REF!"}},{"$f":"IF(RIGHT('CROSS PSPB'!#REF!,3)=\" IT\",'CROSS PSPB'!#REF!,\"\")","v":{"$error":"#REF!"}},{"$f":"IF(RIGHT('CROSS PSPB'!#REF!,3)=\" IT\",'CROSS PSPB'!#REF!,\"\")","v":{"$error":"#REF!"}},{"$f":"IF(RIGHT('CROSS PSPB'!#REF!,3)=\" IT\",'CROSS PSPB'!#REF!,\"\")","v":{"$error":"#REF!"}},{"$f":"IF(RIGHT('CROSS PSPB'!#REF!,3)=\" IT\",'CROSS PSPB'!#REF!,\"\")","v":{"$error":"#REF!"}},{"$f":"IF(RIGHT('CROSS PSPB'!#REF!,3)=\" IT\",'CROSS PSPB'!#REF!,\"\")","v":{"$error":"#REF!"}},{"$f":"IF(RIGHT('CROSS PSPB'!#REF!,3)=\" IT\",'CROSS PSPB'!#REF!,\"\")","v":{"$error":"#REF!"}},{"$f":"IF(RIGHT('CROSS PSPB'!#REF!,3)=\" IT\",'CROSS PSPB'!#REF!,\"\")","v":{"$error":"#REF!"}},{"$f":"IF(RIGHT('CROSS PSPB'!#REF!,3)=\" IT\",'CROSS PSPB'!#REF!,\"\")","v":{"$error":"#REF!"}},{"$f":"IF(RIGHT('CROSS PSPB'!#REF!,3)=\" IT\",'CROSS PSPB'!#REF!,\"\")","v":{"$error":"#REF!"}},{"$f":"IF(RIGHT('CROSS PSPB'!#REF!,3)=\" IT\",'CROSS PSPB'!#REF!,\"\")","v":{"$error":"#REF!"}},{"$f":"IF(RIGHT('CROSS PSPB'!#REF!,3)=\" IT\",'CROSS PSPB'!#REF!,\"\")","v":{"$error":"#REF!"}},{"$f":"IF(RIGHT('CROSS PSPB'!#REF!,3)=\" IT\",'CROSS PSPB'!#REF!,\"\")","v":{"$error":"#REF!"}},{"$f":"IF(RIGHT('CROSS PSPB'!#REF!,3)=\" IT\",'CROSS PSPB'!#REF!,\"\")","v":{"$error":"#REF!"}},{"$f":"IF(RIGHT('CROSS PSPB'!#REF!,3)=\" IT\",'CROSS PSPB'!#REF!,\"\")","v":{"$error":"#REF!"}},{"$f":"IF(RIGHT('CROSS PSPB'!#REF!,3)=\" IT\",'CROSS PSPB'!#REF!,\"\")","v":{"$error":"#REF!"}},{"$f":"IF(RIGHT('CROSS PSPB'!#REF!,3)=\" IT\",'CROSS PSPB'!#REF!,\"\")","v":{"$error":"#REF!"}},{"$f":"IF(RIGHT('CROSS PSPB'!#REF!,3)=\" IT\",'CROSS PSPB'!#REF!,\"\")","v":{"$error":"#REF!"}},{"$f":"IF(RIGHT('CROSS PSPB'!#REF!,3)=\" IT\",'CROSS PSPB'!#REF!,\"\")","v":{"$error":"#REF!"}},{"$f":"IF(RIGHT('CROSS PSPB'!#REF!,3)=\" IT\",'CROSS PSPB'!#REF!,\"\")","v":{"$error":"#REF!"}},{"$f":"IF(RIGHT('CROSS PSPB'!#REF!,3)=\" IT\",'CROSS PSPB'!#REF!,\"\")","v":{"$error":"#REF!"}},{"$f":"IF(RIGHT('CROSS PSPB'!#REF!,3)=\" IT\",'CROSS PSPB'!#REF!,\"\")","v":{"$error":"#REF!"}},{"$f":"IF(RIGHT('CROSS PSPB'!#REF!,3)=\" IT\",'CROSS PSPB'!#REF!,\"\")","v":{"$error":"#REF!"}},{"$f":"IF(RIGHT('CROSS PSPB'!#REF!,3)=\" IT\",'CROSS PSPB'!#REF!,\"\")","v":{"$error":"#REF!"}},{"$f":"IF(RIGHT('CROSS PSPB'!#REF!,3)=\" IT\",'CROSS PSPB'!#REF!,\"\")","v":{"$error":"#REF!"}},{"$f":"IF(RIGHT('CROSS PSPB'!#REF!,3)=\" IT\",'CROSS PSPB'!#REF!,\"\")","v":{"$error":"#REF!"}},{"$f":"IF(RIGHT('CROSS PSPB'!#REF!,3)=\" IT\",'CROSS PSPB'!#REF!,\"\")","v":{"$error":"#REF!"}},{"$f":"IF(RIGHT('CROSS PSPB'!#REF!,3)=\" IT\",'CROSS PSPB'!#REF!,\"\")","v":{"$error":"#REF!"}},{"$f":"IF(RIGHT('CROSS PSPB'!#REF!,3)=\" IT\",'CROSS PSPB'!#REF!,\"\")","v":{"$error":"#REF!"}},{"$f":"IF(RIGHT('CROSS PSPB'!#REF!,3)=\" IT\",'CROSS PSPB'!#REF!,\"\")","v":{"$error":"#REF!"}},{"$f":"IF(RIGHT('CROSS PSPB'!#REF!,3)=\" IT\",'CROSS PSPB'!#REF!,\"\")","v":{"$error":"#REF!"}},{"$f":"IF(RIGHT('CROSS PSPB'!#REF!,3)=\" IT\",'CROSS PSPB'!#REF!,\"\")","v":{"$error":"#REF!"}},{"$f":"IF(RIGHT('CROSS PSPB'!#REF!,3)=\" IT\",'CROSS PSPB'!#REF!,\"\")","v":{"$error":"#REF!"}},{"$f":"IF(RIGHT('CROSS PSPB'!#REF!,3)=\" IT\",'CROSS PSPB'!#REF!,\"\")","v":{"$error":"#REF!"}},{"$f":"IF(RIGHT('CROSS PSPB'!#REF!,3)=\" IT\",'CROSS PSPB'!#REF!,\"\")","v":{"$error":"#REF!"}},{"$f":"IF(RIGHT('CROSS PSPB'!#REF!,3)=\" IT\",'CROSS PSPB'!#REF!,\"\")","v":{"$error":"#REF!"}},{"$f":"IF(RIGHT('CROSS PSPB'!#REF!,3)=\" IT\",'CROSS PSPB'!#REF!,\"\")","v":{"$error":"#REF!"}},{"$f":"IF(RIGHT('CROSS PSPB'!#REF!,3)=\" IT\",'CROSS PSPB'!#REF!,\"\")","v":{"$error":"#REF!"}},{"$f":"IF(RIGHT('CROSS PSPB'!#REF!,3)=\" IT\",'CROSS PSPB'!#REF!,\"\")","v":{"$error":"#REF!"}},{"$f":"IF(RIGHT('CROSS PSPB'!#REF!,3)=\" IT\",'CROSS PSPB'!#REF!,\"\")","v":{"$error":"#REF!"}},{"$f":"IF(RIGHT('CROSS PSPB'!#REF!,3)=\" IT\",'CROSS PSPB'!#REF!,\"\")","v":{"$error":"#REF!"}},{"$f":"IF(RIGHT('CROSS PSPB'!#REF!,3)=\" IT\",'CROSS PSPB'!#REF!,\"\")","v":{"$error":"#REF!"}},{"$f":"IF(RIGHT('CROSS PSPB'!#REF!,3)=\" IT\",'CROSS PSPB'!#REF!,\"\")","v":{"$error":"#REF!"}},{"$f":"IF(RIGHT('CROSS PSPB'!#REF!,3)=\" IT\",'CROSS PSPB'!#REF!,\"\")","v":{"$error":"#REF!"}},{"$f":"IF(RIGHT('CROSS PSPB'!#REF!,3)=\" IT\",'CROSS PSPB'!#REF!,\"\")","v":{"$error":"#REF!"}},{"$f":"IF(RIGHT('CROSS PSPB'!#REF!,3)=\" IT\",'CROSS PSPB'!#REF!,\"\")","v":{"$error":"#REF!"}},{"$f":"IF(RIGHT('CROSS PSPB'!#REF!,3)=\" IT\",'CROSS PSPB'!#REF!,\"\")","v":{"$error":"#REF!"}},{"$f":"IF(RIGHT('CROSS PSPB'!#REF!,3)=\" IT\",'CROSS PSPB'!#REF!,\"\")","v":{"$error":"#REF!"}},{"$error":"#REF!"},{"$error":"#REF!"},{"$error":"#REF!"},{"$error":"#REF!"}]
[null,{"$f":"IF(RIGHT('CROSS PSPB'!#REF!,3)=\" IT\",'CROSS PSPB'!#REF!,\"\")","v":{"$error":"#REF!"}},{"$f":"IF(RIGHT('CROSS PSPB'!#REF!,3)=\" IT\",'CROSS PSPB'!#REF!,\"\")","v":{"$error":"#REF!"}},{"$f":"IF(RIGHT('CROSS PSPB'!#REF!,3)=\" IT\",'CROSS PSPB'!#REF!,\"\")","v":{"$error":"#REF!"}},{"$f":"IF(RIGHT('CROSS PSPB'!#REF!,3)=\" IT\",'CROSS PSPB'!#REF!,\"\")","v":{"$error":"#REF!"}},{"$f":"IF(RIGHT('CROSS PSPB'!#REF!,3)=\" IT\",'CROSS PSPB'!#REF!,\"\")","v":{"$error":"#REF!"}},{"$f":"IF(RIGHT('CROSS PSPB'!#REF!,3)=\" IT\",'CROSS PSPB'!#REF!,\"\")","v":{"$error":"#REF!"}},{"$f":"IF(RIGHT('CROSS PSPB'!#REF!,3)=\" IT\",'CROSS PSPB'!#REF!,\"\")","v":{"$error":"#REF!"}},{"$f":"IF(RIGHT('CROSS PSPB'!#REF!,3)=\" IT\",'CROSS PSPB'!#REF!,\"\")","v":{"$error":"#REF!"}},{"$f":"IF(RIGHT('CROSS PSPB'!#REF!,3)=\" IT\",'CROSS PSPB'!#REF!,\"\")","v":{"$error":"#REF!"}},{"$f":"IF(RIGHT('CROSS PSPB'!#REF!,3)=\" IT\",'CROSS PSPB'!#REF!,\"\")","v":{"$error":"#REF!"}},{"$f":"IF(RIGHT('CROSS PSPB'!#REF!,3)=\" IT\",'CROSS PSPB'!#REF!,\"\")","v":{"$error":"#REF!"}},{"$f":"IF(RIGHT('CROSS PSPB'!#REF!,3)=\" IT\",'CROSS PSPB'!#REF!,\"\")","v":{"$error":"#REF!"}},{"$f":"IF(RIGHT('CROSS PSPB'!#REF!,3)=\" IT\",'CROSS PSPB'!#REF!,\"\")","v":{"$error":"#REF!"}},{"$f":"IF(RIGHT('CROSS PSPB'!#REF!,3)=\" IT\",'CROSS PSPB'!#REF!,\"\")","v":{"$error":"#REF!"}},{"$f":"IF(RIGHT('CROSS PSPB'!#REF!,3)=\" IT\",'CROSS PSPB'!#REF!,\"\")","v":{"$error":"#REF!"}},{"$f":"IF(RIGHT('CROSS PSPB'!#REF!,3)=\" IT\",'CROSS PSPB'!#REF!,\"\")","v":{"$error":"#REF!"}},{"$f":"IF(RIGHT('CROSS PSPB'!#REF!,3)=\" IT\",'CROSS PSPB'!#REF!,\"\")","v":{"$error":"#REF!"}},{"$f":"IF(RIGHT('CROSS PSPB'!#REF!,3)=\" IT\",'CROSS PSPB'!#REF!,\"\")","v":{"$error":"#REF!"}},{"$f":"IF(RIGHT('CROSS PSPB'!#REF!,3)=\" IT\",'CROSS PSPB'!#REF!,\"\")","v":{"$error":"#REF!"}},{"$f":"IF(RIGHT('CROSS PSPB'!#REF!,3)=\" IT\",'CROSS PSPB'!#REF!,\"\")","v":{"$error":"#REF!"}},{"$f":"IF(RIGHT('CROSS PSPB'!#REF!,3)=\" IT\",'CROSS PSPB'!#REF!,\"\")","v":{"$error":"#REF!"}},{"$f":"IF(RIGHT('CROSS PSPB'!#REF!,3)=\" IT\",'CROSS PSPB'!#REF!,\"\")","v":{"$error":"#REF!"}},{"$f":"IF(RIGHT('CROSS PSPB'!#REF!,3)=\" IT\",'CROSS PSPB'!#REF!,\"\")","v":{"$error":"#REF!"}},{"$f":"IF(RIGHT('CROSS PSPB'!#REF!,3)=\" IT\",'CROSS PSPB'!#REF!,\"\")","v":{"$error":"#REF!"}},{"$f":"IF(RIGHT('CROSS PSPB'!#REF!,3)=\" IT\",'CROSS PSPB'!#REF!,\"\")","v":{"$error":"#REF!"}},{"$f":"IF(RIGHT('CROSS PSPB'!#REF!,3)=\" IT\",'CROSS PSPB'!#REF!,\"\")","v":{"$error":"#REF!"}},{"$f":"IF(RIGHT('CROSS PSPB'!#REF!,3)=\" IT\",'CROSS PSPB'!#REF!,\"\")","v":{"$error":"#REF!"}},{"$f":"IF(RIGHT('CROSS PSPB'!#REF!,3)=\" IT\",'CROSS PSPB'!#REF!,\"\")","v":{"$error":"#REF!"}},{"$f":"IF(RIGHT('CROSS PSPB'!#REF!,3)=\" IT\",'CROSS PSPB'!#REF!,\"\")","v":{"$error":"#REF!"}},{"$f":"IF(RIGHT('CROSS PSPB'!#REF!,3)=\" IT\",'CROSS PSPB'!#REF!,\"\")","v":{"$error":"#REF!"}},{"$f":"IF(RIGHT('CROSS PSPB'!#REF!,3)=\" IT\",'CROSS PSPB'!#REF!,\"\")","v":{"$error":"#REF!"}},{"$f":"IF(RIGHT('CROSS PSPB'!#REF!,3)=\" IT\",'CROSS PSPB'!#REF!,\"\")","v":{"$error":"#REF!"}},{"$f":"IF(RIGHT('CROSS PSPB'!#REF!,3)=\" IT\",'CROSS PSPB'!#REF!,\"\")","v":{"$error":"#REF!"}},{"$f":"IF(RIGHT('CROSS PSPB'!#REF!,3)=\" IT\",'CROSS PSPB'!#REF!,\"\")","v":{"$error":"#REF!"}},{"$f":"IF(RIGHT('CROSS PSPB'!#REF!,3)=\" IT\",'CROSS PSPB'!#REF!,\"\")","v":{"$error":"#REF!"}},{"$f":"IF(RIGHT('CROSS PSPB'!#REF!,3)=\" IT\",'CROSS PSPB'!#REF!,\"\")","v":{"$error":"#REF!"}},{"$f":"IF(RIGHT('CROSS PSPB'!#REF!,3)=\" IT\",'CROSS PSPB'!#REF!,\"\")","v":{"$error":"#REF!"}},{"$f":"IF(RIGHT('CROSS PSPB'!#REF!,3)=\" IT\",'CROSS PSPB'!#REF!,\"\")","v":{"$error":"#REF!"}},{"$f":"IF(RIGHT('CROSS PSPB'!#REF!,3)=\" IT\",'CROSS PSPB'!#REF!,\"\")","v":{"$error":"#REF!"}},{"$f":"IF(RIGHT('CROSS PSPB'!#REF!,3)=\" IT\",'CROSS PSPB'!#REF!,\"\")","v":{"$error":"#REF!"}},{"$f":"IF(RIGHT('CROSS PSPB'!#REF!,3)=\" IT\",'CROSS PSPB'!#REF!,\"\")","v":{"$error":"#REF!"}},{"$f":"IF(RIGHT('CROSS PSPB'!#REF!,3)=\" IT\",'CROSS PSPB'!#REF!,\"\")","v":{"$error":"#REF!"}},{"$f":"IF(RIGHT('CROSS PSPB'!#REF!,3)=\" IT\",'CROSS PSPB'!#REF!,\"\")","v":{"$error":"#REF!"}},{"$f":"IF(RIGHT('CROSS PSPB'!#REF!,3)=\" IT\",'CROSS PSPB'!#REF!,\"\")","v":{"$error":"#REF!"}},{"$f":"IF(RIGHT('CROSS PSPB'!#REF!,3)=\" IT\",'CROSS PSPB'!#REF!,\"\")","v":{"$error":"#REF!"}},{"$f":"IF(RIGHT('CROSS PSPB'!#REF!,3)=\" IT\",'CROSS PSPB'!#REF!,\"\")","v":{"$error":"#REF!"}},{"$f":"IF(RIGHT('CROSS PSPB'!#REF!,3)=\" IT\",'CROSS PSPB'!#REF!,\"\")","v":{"$error":"#REF!"}},{"$f":"IF(RIGHT('CROSS PSPB'!#REF!,3)=\" IT\",'CROSS PSPB'!#REF!,\"\")","v":{"$error":"#REF!"}},{"$f":"IF(RIGHT('CROSS PSPB'!#REF!,3)=\" IT\",'CROSS PSPB'!#REF!,\"\")","v":{"$error":"#REF!"}},{"$f":"IF(RIGHT('CROSS PSPB'!#REF!,3)=\" IT\",'CROSS PSPB'!#REF!,\"\")","v":{"$error":"#REF!"}},{"$f":"IF(RIGHT('CROSS PSPB'!#REF!,3)=\" IT\",'CROSS PSPB'!#REF!,\"\")","v":{"$error":"#REF!"}},{"$error":"#REF!"},{"$error":"#REF!"},{"$error":"#REF!"},{"$error":"#REF!"}]
[null,{"$f":"IF(RIGHT('CROSS PSPB'!#REF!,3)=\" IT\",'CROSS PSPB'!#REF!,\"\")","v":{"$error":"#REF!"}},{"$f":"IF(RIGHT('CROSS PSPB'!#REF!,3)=\" IT\",'CROSS PSPB'!#REF!,\"\")","v":{"$error":"#REF!"}},{"$f":"IF(RIGHT('CROSS PSPB'!#REF!,3)=\" IT\",'CROSS PSPB'!#REF!,\"\")","v":{"$error":"#REF!"}},{"$f":"IF(RIGHT('CROSS PSPB'!#REF!,3)=\" IT\",'CROSS PSPB'!#REF!,\"\")","v":{"$error":"#REF!"}},{"$f":"IF(RIGHT('CROSS PSPB'!#REF!,3)=\" IT\",'CROSS PSPB'!#REF!,\"\")","v":{"$error":"#REF!"}},{"$f":"IF(RIGHT('CROSS PSPB'!#REF!,3)=\" IT\",'CROSS PSPB'!#REF!,\"\")","v":{"$error":"#REF!"}},{"$f":"IF(RIGHT('CROSS PSPB'!#REF!,3)=\" IT\",'CROSS PSPB'!#REF!,\"\")","v":{"$error":"#REF!"}},{"$f":"IF(RIGHT('CROSS PSPB'!#REF!,3)=\" IT\",'CROSS PSPB'!#REF!,\"\")","v":{"$error":"#REF!"}},{"$f":"IF(RIGHT('CROSS PSPB'!#REF!,3)=\" IT\",'CROSS PSPB'!#REF!,\"\")","v":{"$error":"#REF!"}},{"$f":"IF(RIGHT('CROSS PSPB'!#REF!,3)=\" IT\",'CROSS PSPB'!#REF!,\"\")","v":{"$error":"#REF!"}},{"$f":"IF(RIGHT('CROSS PSPB'!#REF!,3)=\" IT\",'CROSS PSPB'!#REF!,\"\")","v":{"$error":"#REF!"}},{"$f":"IF(RIGHT('CROSS PSPB'!#REF!,3)=\" IT\",'CROSS PSPB'!#REF!,\"\")","v":{"$error":"#REF!"}},{"$f":"IF(RIGHT('CROSS PSPB'!#REF!,3)=\" IT\",'CROSS PSPB'!#REF!,\"\")","v":{"$error":"#REF!"}},{"$f":"IF(RIGHT('CROSS PSPB'!#REF!,3)=\" IT\",'CROSS PSPB'!#REF!,\"\")","v":{"$error":"#REF!"}},{"$f":"IF(RIGHT('CROSS PSPB'!#REF!,3)=\" IT\",'CROSS PSPB'!#REF!,\"\")","v":{"$error":"#REF!"}},{"$f":"IF(RIGHT('CROSS PSPB'!#REF!,3)=\" IT\",'CROSS PSPB'!#REF!,\"\")","v":{"$error":"#REF!"}},{"$f":"IF(RIGHT('CROSS PSPB'!#REF!,3)=\" IT\",'CROSS PSPB'!#REF!,\"\")","v":{"$error":"#REF!"}},{"$f":"IF(RIGHT('CROSS PSPB'!#REF!,3)=\" IT\",'CROSS PSPB'!#REF!,\"\")","v":{"$error":"#REF!"}},{"$f":"IF(RIGHT('CROSS PSPB'!#REF!,3)=\" IT\",'CROSS PSPB'!#REF!,\"\")","v":{"$error":"#REF!"}},{"$f":"IF(RIGHT('CROSS PSPB'!#REF!,3)=\" IT\",'CROSS PSPB'!#REF!,\"\")","v":{"$error":"#REF!"}},{"$f":"IF(RIGHT('CROSS PSPB'!#REF!,3)=\" IT\",'CROSS PSPB'!#REF!,\"\")","v":{"$error":"#REF!"}},{"$f":"IF(RIGHT('CROSS PSPB'!#REF!,3)=\" IT\",'CROSS PSPB'!#REF!,\"\")","v":{"$error":"#REF!"}},{"$f":"IF(RIGHT('CROSS PSPB'!#REF!,3)=\" IT\",'CROSS PSPB'!#REF!,\"\")","v":{"$error":"#REF!"}},{"$f":"IF(RIGHT('CROSS PSPB'!#REF!,3)=\" IT\",'CROSS PSPB'!#REF!,\"\")","v":{"$error":"#REF!"}},{"$f":"IF(RIGHT('CROSS PSPB'!#REF!,3)=\" IT\",'CROSS PSPB'!#REF!,\"\")","v":{"$error":"#REF!"}},{"$f":"IF(RIGHT('CROSS PSPB'!#REF!,3)=\" IT\",'CROSS PSPB'!#REF!,\"\")","v":{"$error":"#REF!"}},{"$f":"IF(RIGHT('CROSS PSPB'!#REF!,3)=\" IT\",'CROSS PSPB'!#REF!,\"\")","v":{"$error":"#REF!"}},{"$f":"IF(RIGHT('CROSS PSPB'!#REF!,3)=\" IT\",'CROSS PSPB'!#REF!,\"\")","v":{"$error":"#REF!"}},{"$f":"IF(RIGHT('CROSS PSPB'!#REF!,3)=\" IT\",'CROSS PSPB'!#REF!,\"\")","v":{"$error":"#REF!"}},{"$f":"IF(RIGHT('CROSS PSPB'!#REF!,3)=\" IT\",'CROSS PSPB'!#REF!,\"\")","v":{"$error":"#REF!"}},{"$f":"IF(RIGHT('CROSS PSPB'!#REF!,3)=\" IT\",'CROSS PSPB'!#REF!,\"\")","v":{"$error":"#REF!"}},{"$f":"IF(RIGHT('CROSS PSPB'!#REF!,3)=\" IT\",'CROSS PSPB'!#REF!,\"\")","v":{"$error":"#REF!"}},{"$f":"IF(RIGHT('CROSS PSPB'!#REF!,3)=\" IT\",'CROSS PSPB'!#REF!,\"\")","v":{"$error":"#REF!"}},{"$f":"IF(RIGHT('CROSS PSPB'!#REF!,3)=\" IT\",'CROSS PSPB'!#REF!,\"\")","v":{"$error":"#REF!"}},{"$f":"IF(RIGHT('CROSS PSPB'!#REF!,3)=\" IT\",'CROSS PSPB'!#REF!,\"\")","v":{"$error":"#REF!"}},{"$f":"IF(RIGHT('CROSS PSPB'!#REF!,3)=\" IT\",'CROSS PSPB'!#REF!,\"\")","v":{"$error":"#REF!"}},{"$f":"IF(RIGHT('CROSS PSPB'!#REF!,3)=\" IT\",'CROSS PSPB'!#REF!,\"\")","v":{"$error":"#REF!"}},{"$f":"IF(RIGHT('CROSS PSPB'!#REF!,3)=\" IT\",'CROSS PSPB'!#REF!,\"\")","v":{"$error":"#REF!"}},{"$f":"IF(RIGHT('CROSS PSPB'!#REF!,3)=\" IT\",'CROSS PSPB'!#REF!,\"\")","v":{"$error":"#REF!"}},{"$f":"IF(RIGHT('CROSS PSPB'!#REF!,3)=\" IT\",'CROSS PSPB'!#REF!,\"\")","v":{"$error":"#REF!"}},{"$f":"IF(RIGHT('CROSS PSPB'!#REF!,3)=\" IT\",'CROSS PSPB'!#REF!,\"\")","v":{"$error":"#REF!"}},{"$f":"IF(RIGHT('CROSS PSPB'!#REF!,3)=\" IT\",'CROSS PSPB'!#REF!,\"\")","v":{"$error":"#REF!"}},{"$f":"IF(RIGHT('CROSS PSPB'!#REF!,3)=\" IT\",'CROSS PSPB'!#REF!,\"\")","v":{"$error":"#REF!"}},{"$f":"IF(RIGHT('CROSS PSPB'!#REF!,3)=\" IT\",'CROSS PSPB'!#REF!,\"\")","v":{"$error":"#REF!"}},{"$f":"IF(RIGHT('CROSS PSPB'!#REF!,3)=\" IT\",'CROSS PSPB'!#REF!,\"\")","v":{"$error":"#REF!"}},{"$f":"IF(RIGHT('CROSS PSPB'!#REF!,3)=\" IT\",'CROSS PSPB'!#REF!,\"\")","v":{"$error":"#REF!"}},{"$f":"IF(RIGHT('CROSS PSPB'!#REF!,3)=\" IT\",'CROSS PSPB'!#REF!,\"\")","v":{"$error":"#REF!"}},{"$f":"IF(RIGHT('CROSS PSPB'!#REF!,3)=\" IT\",'CROSS PSPB'!#REF!,\"\")","v":{"$error":"#REF!"}},{"$f":"IF(RIGHT('CROSS PSPB'!#REF!,3)=\" IT\",'CROSS PSPB'!#REF!,\"\")","v":{"$error":"#REF!"}},{"$f":"IF(RIGHT('CROSS PSPB'!#REF!,3)=\" IT\",'CROSS PSPB'!#REF!,\"\")","v":{"$error":"#REF!"}},{"$f":"IF(RIGHT('CROSS PSPB'!#REF!,3)=\" IT\",'CROSS PSPB'!#REF!,\"\")","v":{"$error":"#REF!"}},{"$error":"#REF!"},{"$error":"#REF!"},{"$error":"#REF!"},{"$error":"#REF!"}]
[null,{"$f":"IF(RIGHT('CROSS PSPB'!$D13,3)=\" IT\",'CROSS PSPB'!B13,\"\")","v":""},{"$f":"IF(RIGHT('CROSS PSPB'!$D13,3)=\" IT\",'CROSS PSPB'!C13,\"\")","v":""},{"$f":"IF(RIGHT('CROSS PSPB'!$D13,3)=\" IT\",'CROSS PSPB'!D13,\"\")","v":""},{"$f":"IF(RIGHT('CROSS PSPB'!$D13,3)=\" IT\",'CROSS PSPB'!E13,\"\")","v":""},{"$f":"IF(RIGHT('CROSS PSPB'!$D13,3)=\" IT\",'CROSS PSPB'!F13,\"\")","v":""},{"$f":"IF(RIGHT('CROSS PSPB'!$D13,3)=\" IT\",'CROSS PSPB'!G13,\"\")","v":""},{"$f":"IF(RIGHT('CROSS PSPB'!$D13,3)=\" IT\",'CROSS PSPB'!H13,\"\")","v":""},{"$f":"IF(RIGHT('CROSS PSPB'!$D13,3)=\" IT\",'CROSS PSPB'!I13,\"\")","v":""},{"$f":"IF(RIGHT('CROSS PSPB'!$D13,3)=\" IT\",'CROSS PSPB'!J13,\"\")","v":""},{"$f":"IF(RIGHT('CROSS PSPB'!$D13,3)=\" IT\",'CROSS PSPB'!K13,\"\")","v":""},{"$f":"IF(RIGHT('CROSS PSPB'!$D13,3)=\" IT\",'CROSS PSPB'!L13,\"\")","v":""},{"$f":"IF(RIGHT('CROSS PSPB'!$D13,3)=\" IT\",'CROSS PSPB'!M13,\"\")","v":""},{"$f":"IF(RIGHT('CROSS PSPB'!$D13,3)=\" IT\",'CROSS PSPB'!N13,\"\")","v":""},{"$f":"IF(RIGHT('CROSS PSPB'!$D13,3)=\" IT\",'CROSS PSPB'!O13,\"\")","v":""},{"$f":"IF(RIGHT('CROSS PSPB'!$D13,3)=\" IT\",'CROSS PSPB'!P13,\"\")","v":""},{"$f":"IF(RIGHT('CROSS PSPB'!$D13,3)=\" IT\",'CROSS PSPB'!Q13,\"\")","v":""},{"$f":"IF(RIGHT('CROSS PSPB'!$D13,3)=\" IT\",'CROSS PSPB'!R13,\"\")","v":""},{"$f":"IF(RIGHT('CROSS PSPB'!$D13,3)=\" IT\",'CROSS PSPB'!S13,\"\")","v":""},{"$f":"IF(RIGHT('CROSS PSPB'!$D13,3)=\" IT\",'CROSS PSPB'!T13,\"\")","v":""},{"$f":"IF(RIGHT('CROSS PSPB'!$D13,3)=\" IT\",'CROSS PSPB'!U13,\"\")","v":""},{"$f":"IF(RIGHT('CROSS PSPB'!$D13,3)=\" IT\",'CROSS PSPB'!V13,\"\")","v":""},{"$f":"IF(RIGHT('CROSS PSPB'!$D13,3)=\" IT\",'CROSS PSPB'!W13,\"\")","v":""},{"$f":"IF(RIGHT('CROSS PSPB'!$D13,3)=\" IT\",'CROSS PSPB'!X13,\"\")","v":""},{"$f":"IF(RIGHT('CROSS PSPB'!$D13,3)=\" IT\",'CROSS PSPB'!Y13,\"\")","v":""},{"$f":"IF(RIGHT('CROSS PSPB'!$D13,3)=\" IT\",'CROSS PSPB'!Z13,\"\")","v":""},{"$f":"IF(RIGHT('CROSS PSPB'!$D13,3)=\" IT\",'CROSS PSPB'!AA13,\"\")","v":""},{"$f":"IF(RIGHT('CROSS PSPB'!$D13,3)=\" IT\",'CROSS PSPB'!AB13,\"\")","v":""},{"$f":"IF(RIGHT('CROSS PSPB'!$D13,3)=\" IT\",'CROSS PSPB'!AC13,\"\")","v":""},{"$f":"IF(RIGHT('CROSS PSPB'!$D13,3)=\" IT\",'CROSS PSPB'!AD13,\"\")","v":""},{"$f":"IF(RIGHT('CROSS PSPB'!$D13,3)=\" IT\",'CROSS PSPB'!AE13,\"\")","v":""},{"$f":"IF(RIGHT('CROSS PSPB'!$D13,3)=\" IT\",'CROSS PSPB'!AF13,\"\")","v":""},{"$f":"IF(RIGHT('CROSS PSPB'!$D13,3)=\" IT\",'CROSS PSPB'!AG13,\"\")","v":""},{"$f":"IF(RIGHT('CROSS PSPB'!$D13,3)=\" IT\",'CROSS PSPB'!AH13,\"\")","v":""},{"$f":"IF(RIGHT('CROSS PSPB'!$D13,3)=\" IT\",'CROSS PSPB'!AI13,\"\")","v":""},{"$f":"IF(RIGHT('CROSS PSPB'!$D13,3)=\" IT\",'CROSS PSPB'!AJ13,\"\")","v":""},{"$f":"IF(RIGHT('CROSS PSPB'!$D13,3)=\" IT\",'CROSS PSPB'!AK13,\"\")","v":""},{"$f":"IF(RIGHT('CROSS PSPB'!$D13,3)=\" IT\",'CROSS PSPB'!AL13,\"\")","v":""},{"$f":"IF(RIGHT('CROSS PSPB'!$D13,3)=\" IT\",'CROSS PSPB'!AM13,\"\")","v":""},{"$f":"IF(RIGHT('CROSS PSPB'!$D13,3)=\" IT\",'CROSS PSPB'!AN13,\"\")","v":""},{"$f":"IF(RIGHT('CROSS PSPB'!$D13,3)=\" IT\",'CROSS PSPB'!AO13,\"\")","v":""},{"$f":"IF(RIGHT('CROSS PSPB'!$D13,3)=\" IT\",'CROSS PSPB'!AP13,\"\")","v":""},{"$f":"IF(RIGHT('CROSS PSPB'!$D13,3)=\" IT\",'CROSS PSPB'!AQ13,\"\")","v":""},{"$f":"IF(RIGHT('CROSS PSPB'!$D13,3)=\" IT\",'CROSS PSPB'!AR13,\"\")","v":""},{"$f":"IF(RIGHT('CROSS PSPB'!$D13,3)=\" IT\",'CROSS PSPB'!AS13,\"\")","v":""},{"$f":"IF(RIGHT('CROSS PSPB'!$D13,3)=\" IT\",'CROSS PSPB'!AT13,\"\")","v":""},{"$f":"IF(RIGHT('CROSS PSPB'!$D13,3)=\" IT\",'CROSS PSPB'!AU13,\"\")","v":""},{"$f":"IF(RIGHT('CROSS PSPB'!$D13,3)=\" IT\",'CROSS PSPB'!AV13,\"\")","v":""},{"$f":"IF(RIGHT('CROSS PSPB'!$D13,3)=\" IT\",'CROSS PSPB'!AW13,\"\")","v":""},{"$f":"IF(RIGHT('CROSS PSPB'!$D13,3)=\" IT\",'CROSS PSPB'!AX13,\"\")","v":""},{"$f":"IF(RIGHT('CROSS PSPB'!$D13,3)=\" IT\",'CROSS PSPB'!AY13,\"\")","v":""},{"$f":"IF(RIGHT('CROSS PSPB'!$D13,3)=\" IT\",'CROSS PSPB'!AZ13,\"\")","v":""},{"$f":"SUM(I29,M29,Q29,U29,Y29,AC29,AG29,AK29,AO29,AS29,AW29)-E29","v":{"$error":"#VALUE!"}},{"$error":"#VALUE!"},{"$error":"#VALUE!"},{"$error":"#VALUE!"}]
[null,{"$f":"IF(RIGHT('CROSS PSPB'!#REF!,3)=\" IT\",'CROSS PSPB'!#REF!,\"\")","v":{"$error":"#REF!"}},{"$f":"IF(RIGHT('CROSS PSPB'!#REF!,3)=\" IT\",'CROSS PSPB'!#REF!,\"\")","v":{"$error":"#REF!"}},{"$f":"IF(RIGHT('CROSS PSPB'!#REF!,3)=\" IT\",'CROSS PSPB'!#REF!,\"\")","v":{"$error":"#REF!"}},{"$f":"IF(RIGHT('CROSS PSPB'!#REF!,3)=\" IT\",'CROSS PSPB'!#REF!,\"\")","v":{"$error":"#REF!"}},{"$f":"IF(RIGHT('CROSS PSPB'!#REF!,3)=\" IT\",'CROSS PSPB'!#REF!,\"\")","v":{"$error":"#REF!"}},{"$f":"IF(RIGHT('CROSS PSPB'!#REF!,3)=\" IT\",'CROSS PSPB'!#REF!,\"\")","v":{"$error":"#REF!"}},{"$f":"IF(RIGHT('CROSS PSPB'!#REF!,3)=\" IT\",'CROSS PSPB'!#REF!,\"\")","v":{"$error":"#REF!"}},{"$f":"IF(RIGHT('CROSS PSPB'!#REF!,3)=\" IT\",'CROSS PSPB'!#REF!,\"\")","v":{"$error":"#REF!"}},{"$f":"IF(RIGHT('CROSS PSPB'!#REF!,3)=\" IT\",'CROSS PSPB'!#REF!,\"\")","v":{"$error":"#REF!"}},{"$f":"IF(RIGHT('CROSS PSPB'!#REF!,3)=\" IT\",'CROSS PSPB'!#REF!,\"\")","v":{"$error":"#REF!"}},{"$f":"IF(RIGHT('CROSS PSPB'!#REF!,3)=\" IT\",'CROSS PSPB'!#REF!,\"\")","v":{"$error":"#REF!"}},{"$f":"IF(RIGHT('CROSS PSPB'!#REF!,3)=\" IT\",'CROSS PSPB'!#REF!,\"\")","v":{"$error":"#REF!"}},{"$f":"IF(RIGHT('CROSS PSPB'!#REF!,3)=\" IT\",'CROSS PSPB'!#REF!,\"\")","v":{"$error":"#REF!"}},{"$f":"IF(RIGHT('CROSS PSPB'!#REF!,3)=\" IT\",'CROSS PSPB'!#REF!,\"\")","v":{"$error":"#REF!"}},{"$f":"IF(RIGHT('CROSS PSPB'!#REF!,3)=\" IT\",'CROSS PSPB'!#REF!,\"\")","v":{"$error":"#REF!"}},{"$f":"IF(RIGHT('CROSS PSPB'!#REF!,3)=\" IT\",'CROSS PSPB'!#REF!,\"\")","v":{"$error":"#REF!"}},{"$f":"IF(RIGHT('CROSS PSPB'!#REF!,3)=\" IT\",'CROSS PSPB'!#REF!,\"\")","v":{"$error":"#REF!"}},{"$f":"IF(RIGHT('CROSS PSPB'!#REF!,3)=\" IT\",'CROSS PSPB'!#REF!,\"\")","v":{"$error":"#REF!"}},{"$f":"IF(RIGHT('CROSS PSPB'!#REF!,3)=\" IT\",'CROSS PSPB'!#REF!,\"\")","v":{"$error":"#REF!"}},{"$f":"IF(RIGHT('CROSS PSPB'!#REF!,3)=\" IT\",'CROSS PSPB'!#REF!,\"\")","v":{"$error":"#REF!"}},{"$f":"IF(RIGHT('CROSS PSPB'!#REF!,3)=\" IT\",'CROSS PSPB'!#REF!,\"\")","v":{"$error":"#REF!"}},{"$f":"IF(RIGHT('CROSS PSPB'!#REF!,3)=\" IT\",'CROSS PSPB'!#REF!,\"\")","v":{"$error":"#REF!"}},{"$f":"IF(RIGHT('CROSS PSPB'!#REF!,3)=\" IT\",'CROSS PSPB'!#REF!,\"\")","v":{"$error":"#REF!"}},{"$f":"IF(RIGHT('CROSS PSPB'!#REF!,3)=\" IT\",'CROSS PSPB'!#REF!,\"\")","v":{"$error":"#REF!"}},{"$f":"IF(RIGHT('CROSS PSPB'!#REF!,3)=\" IT\",'CROSS PSPB'!#REF!,\"\")","v":{"$error":"#REF!"}},{"$f":"IF(RIGHT('CROSS PSPB'!#REF!,3)=\" IT\",'CROSS PSPB'!#REF!,\"\")","v":{"$error":"#REF!"}},{"$f":"IF(RIGHT('CROSS PSPB'!#REF!,3)=\" IT\",'CROSS PSPB'!#REF!,\"\")","v":{"$error":"#REF!"}},{"$f":"IF(RIGHT('CROSS PSPB'!#REF!,3)=\" IT\",'CROSS PSPB'!#REF!,\"\")","v":{"$error":"#REF!"}},{"$f":"IF(RIGHT('CROSS PSPB'!#REF!,3)=\" IT\",'CROSS PSPB'!#REF!,\"\")","v":{"$error":"#REF!"}},{"$f":"IF(RIGHT('CROSS PSPB'!#REF!,3)=\" IT\",'CROSS PSPB'!#REF!,\"\")","v":{"$error":"#REF!"}},{"$f":"IF(RIGHT('CROSS PSPB'!#REF!,3)=\" IT\",'CROSS PSPB'!#REF!,\"\")","v":{"$error":"#REF!"}},{"$f":"IF(RIGHT('CROSS PSPB'!#REF!,3)=\" IT\",'CROSS PSPB'!#REF!,\"\")","v":{"$error":"#REF!"}},{"$f":"IF(RIGHT('CROSS PSPB'!#REF!,3)=\" IT\",'CROSS PSPB'!#REF!,\"\")","v":{"$error":"#REF!"}},{"$f":"IF(RIGHT('CROSS PSPB'!#REF!,3)=\" IT\",'CROSS PSPB'!#REF!,\"\")","v":{"$error":"#REF!"}},{"$f":"IF(RIGHT('CROSS PSPB'!#REF!,3)=\" IT\",'CROSS PSPB'!#REF!,\"\")","v":{"$error":"#REF!"}},{"$f":"IF(RIGHT('CROSS PSPB'!#REF!,3)=\" IT\",'CROSS PSPB'!#REF!,\"\")","v":{"$error":"#REF!"}},{"$f":"IF(RIGHT('CROSS PSPB'!#REF!,3)=\" IT\",'CROSS PSPB'!#REF!,\"\")","v":{"$error":"#REF!"}},{"$f":"IF(RIGHT('CROSS PSPB'!#REF!,3)=\" IT\",'CROSS PSPB'!#REF!,\"\")","v":{"$error":"#REF!"}},{"$f":"IF(RIGHT('CROSS PSPB'!#REF!,3)=\" IT\",'CROSS PSPB'!#REF!,\"\")","v":{"$error":"#REF!"}},{"$f":"IF(RIGHT('CROSS PSPB'!#REF!,3)=\" IT\",'CROSS PSPB'!#REF!,\"\")","v":{"$error":"#REF!"}},{"$f":"IF(RIGHT('CROSS PSPB'!#REF!,3)=\" IT\",'CROSS PSPB'!#REF!,\"\")","v":{"$error":"#REF!"}},{"$f":"IF(RIGHT('CROSS PSPB'!#REF!,3)=\" IT\",'CROSS PSPB'!#REF!,\"\")","v":{"$error":"#REF!"}},{"$f":"IF(RIGHT('CROSS PSPB'!#REF!,3)=\" IT\",'CROSS PSPB'!#REF!,\"\")","v":{"$error":"#REF!"}},{"$f":"IF(RIGHT('CROSS PSPB'!#REF!,3)=\" IT\",'CROSS PSPB'!#REF!,\"\")","v":{"$error":"#REF!"}},{"$f":"IF(RIGHT('CROSS PSPB'!#REF!,3)=\" IT\",'CROSS PSPB'!#REF!,\"\")","v":{"$error":"#REF!"}},{"$f":"IF(RIGHT('CROSS PSPB'!#REF!,3)=\" IT\",'CROSS PSPB'!#REF!,\"\")","v":{"$error":"#REF!"}},{"$f":"IF(RIGHT('CROSS PSPB'!#REF!,3)=\" IT\",'CROSS PSPB'!#REF!,\"\")","v":{"$error":"#REF!"}},{"$f":"IF(RIGHT('CROSS PSPB'!#REF!,3)=\" IT\",'CROSS PSPB'!#REF!,\"\")","v":{"$error":"#REF!"}},{"$f":"IF(RIGHT('CROSS PSPB'!#REF!,3)=\" IT\",'CROSS PSPB'!#REF!,\"\")","v":{"$error":"#REF!"}},{"$f":"IF(RIGHT('CROSS PSPB'!#REF!,3)=\" IT\",'CROSS PSPB'!#REF!,\"\")","v":{"$error":"#REF!"}},{"$f":"IF(RIGHT('CROSS PSPB'!#REF!,3)=\" IT\",'CROSS PSPB'!#REF!,\"\")","v":{"$error":"#REF!"}},{"$error":"#REF!"},{"$error":"#REF!"},{"$error":"#REF!"},{"$error":"#REF!"}]
[null,{"$f":"IF(RIGHT('CROSS PSPB'!#REF!,3)=\" IT\",'CROSS PSPB'!#REF!,\"\")","v":{"$error":"#REF!"}},{"$f":"IF(RIGHT('CROSS PSPB'!#REF!,3)=\" IT\",'CROSS PSPB'!#REF!,\"\")","v":{"$error":"#REF!"}},{"$f":"IF(RIGHT('CROSS PSPB'!#REF!,3)=\" IT\",'CROSS PSPB'!#REF!,\"\")","v":{"$error":"#REF!"}},{"$f":"IF(RIGHT('CROSS PSPB'!#REF!,3)=\" IT\",'CROSS PSPB'!#REF!,\"\")","v":{"$error":"#REF!"}},{"$f":"IF(RIGHT('CROSS PSPB'!#REF!,3)=\" IT\",'CROSS PSPB'!#REF!,\"\")","v":{"$error":"#REF!"}},{"$f":"IF(RIGHT('CROSS PSPB'!#REF!,3)=\" IT\",'CROSS PSPB'!#REF!,\"\")","v":{"$error":"#REF!"}},{"$f":"IF(RIGHT('CROSS PSPB'!#REF!,3)=\" IT\",'CROSS PSPB'!#REF!,\"\")","v":{"$error":"#REF!"}},{"$f":"IF(RIGHT('CROSS PSPB'!#REF!,3)=\" IT\",'CROSS PSPB'!#REF!,\"\")","v":{"$error":"#REF!"}},{"$f":"IF(RIGHT('CROSS PSPB'!#REF!,3)=\" IT\",'CROSS PSPB'!#REF!,\"\")","v":{"$error":"#REF!"}},{"$f":"IF(RIGHT('CROSS PSPB'!#REF!,3)=\" IT\",'CROSS PSPB'!#REF!,\"\")","v":{"$error":"#REF!"}},{"$f":"IF(RIGHT('CROSS PSPB'!#REF!,3)=\" IT\",'CROSS PSPB'!#REF!,\"\")","v":{"$error":"#REF!"}},{"$f":"IF(RIGHT('CROSS PSPB'!#REF!,3)=\" IT\",'CROSS PSPB'!#REF!,\"\")","v":{"$error":"#REF!"}},{"$f":"IF(RIGHT('CROSS PSPB'!#REF!,3)=\" IT\",'CROSS PSPB'!#REF!,\"\")","v":{"$error":"#REF!"}},{"$f":"IF(RIGHT('CROSS PSPB'!#REF!,3)=\" IT\",'CROSS PSPB'!#REF!,\"\")","v":{"$error":"#REF!"}},{"$f":"IF(RIGHT('CROSS PSPB'!#REF!,3)=\" IT\",'CROSS PSPB'!#REF!,\"\")","v":{"$error":"#REF!"}},{"$f":"IF(RIGHT('CROSS PSPB'!#REF!,3)=\" IT\",'CROSS PSPB'!#REF!,\"\")","v":{"$error":"#REF!"}},{"$f":"IF(RIGHT('CROSS PSPB'!#REF!,3)=\" IT\",'CROSS PSPB'!#REF!,\"\")","v":{"$error":"#REF!"}},{"$f":"IF(RIGHT('CROSS PSPB'!#REF!,3)=\" IT\",'CROSS PSPB'!#REF!,\"\")","v":{"$error":"#REF!"}},{"$f":"IF(RIGHT('CROSS PSPB'!#REF!,3)=\" IT\",'CROSS PSPB'!#REF!,\"\")","v":{"$error":"#REF!"}},{"$f":"IF(RIGHT('CROSS PSPB'!#REF!,3)=\" IT\",'CROSS PSPB'!#REF!,\"\")","v":{"$error":"#REF!"}},{"$f":"IF(RIGHT('CROSS PSPB'!#REF!,3)=\" IT\",'CROSS PSPB'!#REF!,\"\")","v":{"$error":"#REF!"}},{"$f":"IF(RIGHT('CROSS PSPB'!#REF!,3)=\" IT\",'CROSS PSPB'!#REF!,\"\")","v":{"$error":"#REF!"}},{"$f":"IF(RIGHT('CROSS PSPB'!#REF!,3)=\" IT\",'CROSS PSPB'!#REF!,\"\")","v":{"$error":"#REF!"}},{"$f":"IF(RIGHT('CROSS PSPB'!#REF!,3)=\" IT\",'CROSS PSPB'!#REF!,\"\")","v":{"$error":"#REF!"}},{"$f":"IF(RIGHT('CROSS PSPB'!#REF!,3)=\" IT\",'CROSS PSPB'!#REF!,\"\")","v":{"$error":"#REF!"}},{"$f":"IF(RIGHT('CROSS PSPB'!#REF!,3)=\" IT\",'CROSS PSPB'!#REF!,\"\")","v":{"$error":"#REF!"}},{"$f":"IF(RIGHT('CROSS PSPB'!#REF!,3)=\" IT\",'CROSS PSPB'!#REF!,\"\")","v":{"$error":"#REF!"}},{"$f":"IF(RIGHT('CROSS PSPB'!#REF!,3)=\" IT\",'CROSS PSPB'!#REF!,\"\")","v":{"$error":"#REF!"}},{"$f":"IF(RIGHT('CROSS PSPB'!#REF!,3)=\" IT\",'CROSS PSPB'!#REF!,\"\")","v":{"$error":"#REF!"}},{"$f":"IF(RIGHT('CROSS PSPB'!#REF!,3)=\" IT\",'CROSS PSPB'!#REF!,\"\")","v":{"$error":"#REF!"}},{"$f":"IF(RIGHT('CROSS PSPB'!#REF!,3)=\" IT\",'CROSS PSPB'!#REF!,\"\")","v":{"$error":"#REF!"}},{"$f":"IF(RIGHT('CROSS PSPB'!#REF!,3)=\" IT\",'CROSS PSPB'!#REF!,\"\")","v":{"$error":"#REF!"}},{"$f":"IF(RIGHT('CROSS PSPB'!#REF!,3)=\" IT\",'CROSS PSPB'!#REF!,\"\")","v":{"$error":"#REF!"}},{"$f":"IF(RIGHT('CROSS PSPB'!#REF!,3)=\" IT\",'CROSS PSPB'!#REF!,\"\")","v":{"$error":"#REF!"}},{"$f":"IF(RIGHT('CROSS PSPB'!#REF!,3)=\" IT\",'CROSS PSPB'!#REF!,\"\")","v":{"$error":"#REF!"}},{"$f":"IF(RIGHT('CROSS PSPB'!#REF!,3)=\" IT\",'CROSS PSPB'!#REF!,\"\")","v":{"$error":"#REF!"}},{"$f":"IF(RIGHT('CROSS PSPB'!#REF!,3)=\" IT\",'CROSS PSPB'!#REF!,\"\")","v":{"$error":"#REF!"}},{"$f":"IF(RIGHT('CROSS PSPB'!#REF!,3)=\" IT\",'CROSS PSPB'!#REF!,\"\")","v":{"$error":"#REF!"}},{"$f":"IF(RIGHT('CROSS PSPB'!#REF!,3)=\" IT\",'CROSS PSPB'!#REF!,\"\")","v":{"$error":"#REF!"}},{"$f":"IF(RIGHT('CROSS PSPB'!#REF!,3)=\" IT\",'CROSS PSPB'!#REF!,\"\")","v":{"$error":"#REF!"}},{"$f":"IF(RIGHT('CROSS PSPB'!#REF!,3)=\" IT\",'CROSS PSPB'!#REF!,\"\")","v":{"$error":"#REF!"}},{"$f":"IF(RIGHT('CROSS PSPB'!#REF!,3)=\" IT\",'CROSS PSPB'!#REF!,\"\")","v":{"$error":"#REF!"}},{"$f":"IF(RIGHT('CROSS PSPB'!#REF!,3)=\" IT\",'CROSS PSPB'!#REF!,\"\")","v":{"$error":"#REF!"}},{"$f":"IF(RIGHT('CROSS PSPB'!#REF!,3)=\" IT\",'CROSS PSPB'!#REF!,\"\")","v":{"$error":"#REF!"}},{"$f":"IF(RIGHT('CROSS PSPB'!#REF!,3)=\" IT\",'CROSS PSPB'!#REF!,\"\")","v":{"$error":"#REF!"}},{"$f":"IF(RIGHT('CROSS PSPB'!#REF!,3)=\" IT\",'CROSS PSPB'!#REF!,\"\")","v":{"$error":"#REF!"}},{"$f":"IF(RIGHT('CROSS PSPB'!#REF!,3)=\" IT\",'CROSS PSPB'!#REF!,\"\")","v":{"$error":"#REF!"}},{"$f":"IF(RIGHT('CROSS PSPB'!#REF!,3)=\" IT\",'CROSS PSPB'!#REF!,\"\")","v":{"$error":"#REF!"}},{"$f":"IF(RIGHT('CROSS PSPB'!#REF!,3)=\" IT\",'CROSS PSPB'!#REF!,\"\")","v":{"$error":"#REF!"}},{"$f":"IF(RIGHT('CROSS PSPB'!#REF!,3)=\" IT\",'CROSS PSPB'!#REF!,\"\")","v":{"$error":"#REF!"}},{"$f":"IF(RIGHT('CROSS PSPB'!#REF!,3)=\" IT\",'CROSS PSPB'!#REF!,\"\")","v":{"$error":"#REF!"}},{"$error":"#REF!"},{"$error":"#REF!"},{"$error":"#REF!"},{"$error":"#REF!"}]
[null,{"$f":"IF(RIGHT('CROSS PSPB'!#REF!,3)=\" IT\",'CROSS PSPB'!#REF!,\"\")","v":{"$error":"#REF!"}},{"$f":"IF(RIGHT('CROSS PSPB'!#REF!,3)=\" IT\",'CROSS PSPB'!#REF!,\"\")","v":{"$error":"#REF!"}},{"$f":"IF(RIGHT('CROSS PSPB'!#REF!,3)=\" IT\",'CROSS PSPB'!#REF!,\"\")","v":{"$error":"#REF!"}},{"$f":"IF(RIGHT('CROSS PSPB'!#REF!,3)=\" IT\",'CROSS PSPB'!#REF!,\"\")","v":{"$error":"#REF!"}},{"$f":"IF(RIGHT('CROSS PSPB'!#REF!,3)=\" IT\",'CROSS PSPB'!#REF!,\"\")","v":{"$error":"#REF!"}},{"$f":"IF(RIGHT('CROSS PSPB'!#REF!,3)=\" IT\",'CROSS PSPB'!#REF!,\"\")","v":{"$error":"#REF!"}},{"$f":"IF(RIGHT('CROSS PSPB'!#REF!,3)=\" IT\",'CROSS PSPB'!#REF!,\"\")","v":{"$error":"#REF!"}},{"$f":"IF(RIGHT('CROSS PSPB'!#REF!,3)=\" IT\",'CROSS PSPB'!#REF!,\"\")","v":{"$error":"#REF!"}},{"$f":"IF(RIGHT('CROSS PSPB'!#REF!,3)=\" IT\",'CROSS PSPB'!#REF!,\"\")","v":{"$error":"#REF!"}},{"$f":"IF(RIGHT('CROSS PSPB'!#REF!,3)=\" IT\",'CROSS PSPB'!#REF!,\"\")","v":{"$error":"#REF!"}},{"$f":"IF(RIGHT('CROSS PSPB'!#REF!,3)=\" IT\",'CROSS PSPB'!#REF!,\"\")","v":{"$error":"#REF!"}},{"$f":"IF(RIGHT('CROSS PSPB'!#REF!,3)=\" IT\",'CROSS PSPB'!#REF!,\"\")","v":{"$error":"#REF!"}},{"$f":"IF(RIGHT('CROSS PSPB'!#REF!,3)=\" IT\",'CROSS PSPB'!#REF!,\"\")","v":{"$error":"#REF!"}},{"$f":"IF(RIGHT('CROSS PSPB'!#REF!,3)=\" IT\",'CROSS PSPB'!#REF!,\"\")","v":{"$error":"#REF!"}},{"$f":"IF(RIGHT('CROSS PSPB'!#REF!,3)=\" IT\",'CROSS PSPB'!#REF!,\"\")","v":{"$error":"#REF!"}},{"$f":"IF(RIGHT('CROSS PSPB'!#REF!,3)=\" IT\",'CROSS PSPB'!#REF!,\"\")","v":{"$error":"#REF!"}},{"$f":"IF(RIGHT('CROSS PSPB'!#REF!,3)=\" IT\",'CROSS PSPB'!#REF!,\"\")","v":{"$error":"#REF!"}},{"$f":"IF(RIGHT('CROSS PSPB'!#REF!,3)=\" IT\",'CROSS PSPB'!#REF!,\"\")","v":{"$error":"#REF!"}},{"$f":"IF(RIGHT('CROSS PSPB'!#REF!,3)=\" IT\",'CROSS PSPB'!#REF!,\"\")","v":{"$error":"#REF!"}},{"$f":"IF(RIGHT('CROSS PSPB'!#REF!,3)=\" IT\",'CROSS PSPB'!#REF!,\"\")","v":{"$error":"#REF!"}},{"$f":"IF(RIGHT('CROSS PSPB'!#REF!,3)=\" IT\",'CROSS PSPB'!#REF!,\"\")","v":{"$error":"#REF!"}},{"$f":"IF(RIGHT('CROSS PSPB'!#REF!,3)=\" IT\",'CROSS PSPB'!#REF!,\"\")","v":{"$error":"#REF!"}},{"$f":"IF(RIGHT('CROSS PSPB'!#REF!,3)=\" IT\",'CROSS PSPB'!#REF!,\"\")","v":{"$error":"#REF!"}},{"$f":"IF(RIGHT('CROSS PSPB'!#REF!,3)=\" IT\",'CROSS PSPB'!#REF!,\"\")","v":{"$error":"#REF!"}},{"$f":"IF(RIGHT('CROSS PSPB'!#REF!,3)=\" IT\",'CROSS PSPB'!#REF!,\"\")","v":{"$error":"#REF!"}},{"$f":"IF(RIGHT('CROSS PSPB'!#REF!,3)=\" IT\",'CROSS PSPB'!#REF!,\"\")","v":{"$error":"#REF!"}},{"$f":"IF(RIGHT('CROSS PSPB'!#REF!,3)=\" IT\",'CROSS PSPB'!#REF!,\"\")","v":{"$error":"#REF!"}},{"$f":"IF(RIGHT('CROSS PSPB'!#REF!,3)=\" IT\",'CROSS PSPB'!#REF!,\"\")","v":{"$error":"#REF!"}},{"$f":"IF(RIGHT('CROSS PSPB'!#REF!,3)=\" IT\",'CROSS PSPB'!#REF!,\"\")","v":{"$error":"#REF!"}},{"$f":"IF(RIGHT('CROSS PSPB'!#REF!,3)=\" IT\",'CROSS PSPB'!#REF!,\"\")","v":{"$error":"#REF!"}},{"$f":"IF(RIGHT('CROSS PSPB'!#REF!,3)=\" IT\",'CROSS PSPB'!#REF!,\"\")","v":{"$error":"#REF!"}},{"$f":"IF(RIGHT('CROSS PSPB'!#REF!,3)=\" IT\",'CROSS PSPB'!#REF!,\"\")","v":{"$error":"#REF!"}},{"$f":"IF(RIGHT('CROSS PSPB'!#REF!,3)=\" IT\",'CROSS PSPB'!#REF!,\"\")","v":{"$error":"#REF!"}},{"$f":"IF(RIGHT('CROSS PSPB'!#REF!,3)=\" IT\",'CROSS PSPB'!#REF!,\"\")","v":{"$error":"#REF!"}},{"$f":"IF(RIGHT('CROSS PSPB'!#REF!,3)=\" IT\",'CROSS PSPB'!#REF!,\"\")","v":{"$error":"#REF!"}},{"$f":"IF(RIGHT('CROSS PSPB'!#REF!,3)=\" IT\",'CROSS PSPB'!#REF!,\"\")","v":{"$error":"#REF!"}},{"$f":"IF(RIGHT('CROSS PSPB'!#REF!,3)=\" IT\",'CROSS PSPB'!#REF!,\"\")","v":{"$error":"#REF!"}},{"$f":"IF(RIGHT('CROSS PSPB'!#REF!,3)=\" IT\",'CROSS PSPB'!#REF!,\"\")","v":{"$error":"#REF!"}},{"$f":"IF(RIGHT('CROSS PSPB'!#REF!,3)=\" IT\",'CROSS PSPB'!#REF!,\"\")","v":{"$error":"#REF!"}},{"$f":"IF(RIGHT('CROSS PSPB'!#REF!,3)=\" IT\",'CROSS PSPB'!#REF!,\"\")","v":{"$error":"#REF!"}},{"$f":"IF(RIGHT('CROSS PSPB'!#REF!,3)=\" IT\",'CROSS PSPB'!#REF!,\"\")","v":{"$error":"#REF!"}},{"$f":"IF(RIGHT('CROSS PSPB'!#REF!,3)=\" IT\",'CROSS PSPB'!#REF!,\"\")","v":{"$error":"#REF!"}},{"$f":"IF(RIGHT('CROSS PSPB'!#REF!,3)=\" IT\",'CROSS PSPB'!#REF!,\"\")","v":{"$error":"#REF!"}},{"$f":"IF(RIGHT('CROSS PSPB'!#REF!,3)=\" IT\",'CROSS PSPB'!#REF!,\"\")","v":{"$error":"#REF!"}},{"$f":"IF(RIGHT('CROSS PSPB'!#REF!,3)=\" IT\",'CROSS PSPB'!#REF!,\"\")","v":{"$error":"#REF!"}},{"$f":"IF(RIGHT('CROSS PSPB'!#REF!,3)=\" IT\",'CROSS PSPB'!#REF!,\"\")","v":{"$error":"#REF!"}},{"$f":"IF(RIGHT('CROSS PSPB'!#REF!,3)=\" IT\",'CROSS PSPB'!#REF!,\"\")","v":{"$error":"#REF!"}},{"$f":"IF(RIGHT('CROSS PSPB'!#REF!,3)=\" IT\",'CROSS PSPB'!#REF!,\"\")","v":{"$error":"#REF!"}},{"$f":"IF(RIGHT('CROSS PSPB'!#REF!,3)=\" IT\",'CROSS PSPB'!#REF!,\"\")","v":{"$error":"#REF!"}},{"$f":"IF(RIGHT('CROSS PSPB'!#REF!,3)=\" IT\",'CROSS PSPB'!#REF!,\"\")","v":{"$error":"#REF!"}},{"$f":"IF(RIGHT('CROSS PSPB'!#REF!,3)=\" IT\",'CROSS PSPB'!#REF!,\"\")","v":{"$error":"#REF!"}},{"$error":"#REF!"},{"$error":"#REF!"},{"$error":"#REF!"},{"$error":"#REF!"}]
[null,{"$f":"IF(RIGHT('CROSS PSPB'!#REF!,3)=\" IT\",'CROSS PSPB'!#REF!,\"\")","v":{"$error":"#REF!"}},{"$f":"IF(RIGHT('CROSS PSPB'!#REF!,3)=\" IT\",'CROSS PSPB'!#REF!,\"\")","v":{"$error":"#REF!"}},{"$f":"IF(RIGHT('CROSS PSPB'!#REF!,3)=\" IT\",'CROSS PSPB'!#REF!,\"\")","v":{"$error":"#REF!"}},{"$f":"IF(RIGHT('CROSS PSPB'!#REF!,3)=\" IT\",'CROSS PSPB'!#REF!,\"\")","v":{"$error":"#REF!"}},{"$f":"IF(RIGHT('CROSS PSPB'!#REF!,3)=\" IT\",'CROSS PSPB'!#REF!,\"\")","v":{"$error":"#REF!"}},{"$f":"IF(RIGHT('CROSS PSPB'!#REF!,3)=\" IT\",'CROSS PSPB'!#REF!,\"\")","v":{"$error":"#REF!"}},{"$f":"IF(RIGHT('CROSS PSPB'!#REF!,3)=\" IT\",'CROSS PSPB'!#REF!,\"\")","v":{"$error":"#REF!"}},{"$f":"IF(RIGHT('CROSS PSPB'!#REF!,3)=\" IT\",'CROSS PSPB'!#REF!,\"\")","v":{"$error":"#REF!"}},{"$f":"IF(RIGHT('CROSS PSPB'!#REF!,3)=\" IT\",'CROSS PSPB'!#REF!,\"\")","v":{"$error":"#REF!"}},{"$f":"IF(RIGHT('CROSS PSPB'!#REF!,3)=\" IT\",'CROSS PSPB'!#REF!,\"\")","v":{"$error":"#REF!"}},{"$f":"IF(RIGHT('CROSS PSPB'!#REF!,3)=\" IT\",'CROSS PSPB'!#REF!,\"\")","v":{"$error":"#REF!"}},{"$f":"IF(RIGHT('CROSS PSPB'!#REF!,3)=\" IT\",'CROSS PSPB'!#REF!,\"\")","v":{"$error":"#REF!"}},{"$f":"IF(RIGHT('CROSS PSPB'!#REF!,3)=\" IT\",'CROSS PSPB'!#REF!,\"\")","v":{"$error":"#REF!"}},{"$f":"IF(RIGHT('CROSS PSPB'!#REF!,3)=\" IT\",'CROSS PSPB'!#REF!,\"\")","v":{"$error":"#REF!"}},{"$f":"IF(RIGHT('CROSS PSPB'!#REF!,3)=\" IT\",'CROSS PSPB'!#REF!,\"\")","v":{"$error":"#REF!"}},{"$f":"IF(RIGHT('CROSS PSPB'!#REF!,3)=\" IT\",'CROSS PSPB'!#REF!,\"\")","v":{"$error":"#REF!"}},{"$f":"IF(RIGHT('CROSS PSPB'!#REF!,3)=\" IT\",'CROSS PSPB'!#REF!,\"\")","v":{"$error":"#REF!"}},{"$f":"IF(RIGHT('CROSS PSPB'!#REF!,3)=\" IT\",'CROSS PSPB'!#REF!,\"\")","v":{"$error":"#REF!"}},{"$f":"IF(RIGHT('CROSS PSPB'!#REF!,3)=\" IT\",'CROSS PSPB'!#REF!,\"\")","v":{"$error":"#REF!"}},{"$f":"IF(RIGHT('CROSS PSPB'!#REF!,3)=\" IT\",'CROSS PSPB'!#REF!,\"\")","v":{"$error":"#REF!"}},{"$f":"IF(RIGHT('CROSS PSPB'!#REF!,3)=\" IT\",'CROSS PSPB'!#REF!,\"\")","v":{"$error":"#REF!"}},{"$f":"IF(RIGHT('CROSS PSPB'!#REF!,3)=\" IT\",'CROSS PSPB'!#REF!,\"\")","v":{"$error":"#REF!"}},{"$f":"IF(RIGHT('CROSS PSPB'!#REF!,3)=\" IT\",'CROSS PSPB'!#REF!,\"\")","v":{"$error":"#REF!"}},{"$f":"IF(RIGHT('CROSS PSPB'!#REF!,3)=\" IT\",'CROSS PSPB'!#REF!,\"\")","v":{"$error":"#REF!"}},{"$f":"IF(RIGHT('CROSS PSPB'!#REF!,3)=\" IT\",'CROSS PSPB'!#REF!,\"\")","v":{"$error":"#REF!"}},{"$f":"IF(RIGHT('CROSS PSPB'!#REF!,3)=\" IT\",'CROSS PSPB'!#REF!,\"\")","v":{"$error":"#REF!"}},{"$f":"IF(RIGHT('CROSS PSPB'!#REF!,3)=\" IT\",'CROSS PSPB'!#REF!,\"\")","v":{"$error":"#REF!"}},{"$f":"IF(RIGHT('CROSS PSPB'!#REF!,3)=\" IT\",'CROSS PSPB'!#REF!,\"\")","v":{"$error":"#REF!"}},{"$f":"IF(RIGHT('CROSS PSPB'!#REF!,3)=\" IT\",'CROSS PSPB'!#REF!,\"\")","v":{"$error":"#REF!"}},{"$f":"IF(RIGHT('CROSS PSPB'!#REF!,3)=\" IT\",'CROSS PSPB'!#REF!,\"\")","v":{"$error":"#REF!"}},{"$f":"IF(RIGHT('CROSS PSPB'!#REF!,3)=\" IT\",'CROSS PSPB'!#REF!,\"\")","v":{"$error":"#REF!"}},{"$f":"IF(RIGHT('CROSS PSPB'!#REF!,3)=\" IT\",'CROSS PSPB'!#REF!,\"\")","v":{"$error":"#REF!"}},{"$f":"IF(RIGHT('CROSS PSPB'!#REF!,3)=\" IT\",'CROSS PSPB'!#REF!,\"\")","v":{"$error":"#REF!"}},{"$f":"IF(RIGHT('CROSS PSPB'!#REF!,3)=\" IT\",'CROSS PSPB'!#REF!,\"\")","v":{"$error":"#REF!"}},{"$f":"IF(RIGHT('CROSS PSPB'!#REF!,3)=\" IT\",'CROSS PSPB'!#REF!,\"\")","v":{"$error":"#REF!"}},{"$f":"IF(RIGHT('CROSS PSPB'!#REF!,3)=\" IT\",'CROSS PSPB'!#REF!,\"\")","v":{"$error":"#REF!"}},{"$f":"IF(RIGHT('CROSS PSPB'!#REF!,3)=\" IT\",'CROSS PSPB'!#REF!,\"\")","v":{"$error":"#REF!"}},{"$f":"IF(RIGHT('CROSS PSPB'!#REF!,3)=\" IT\",'CROSS PSPB'!#REF!,\"\")","v":{"$error":"#REF!"}},{"$f":"IF(RIGHT('CROSS PSPB'!#REF!,3)=\" IT\",'CROSS PSPB'!#REF!,\"\")","v":{"$error":"#REF!"}},{"$f":"IF(RIGHT('CROSS PSPB'!#REF!,3)=\" IT\",'CROSS PSPB'!#REF!,\"\")","v":{"$error":"#REF!"}},{"$f":"IF(RIGHT('CROSS PSPB'!#REF!,3)=\" IT\",'CROSS PSPB'!#REF!,\"\")","v":{"$error":"#REF!"}},{"$f":"IF(RIGHT('CROSS PSPB'!#REF!,3)=\" IT\",'CROSS PSPB'!#REF!,\"\")","v":{"$error":"#REF!"}},{"$f":"IF(RIGHT('CROSS PSPB'!#REF!,3)=\" IT\",'CROSS PSPB'!#REF!,\"\")","v":{"$error":"#REF!"}},{"$f":"IF(RIGHT('CROSS PSPB'!#REF!,3)=\" IT\",'CROSS PSPB'!#REF!,\"\")","v":{"$error":"#REF!"}},{"$f":"IF(RIGHT('CROSS PSPB'!#REF!,3)=\" IT\",'CROSS PSPB'!#REF!,\"\")","v":{"$error":"#REF!"}},{"$f":"IF(RIGHT('CROSS PSPB'!#REF!,3)=\" IT\",'CROSS PSPB'!#REF!,\"\")","v":{"$error":"#REF!"}},{"$f":"IF(RIGHT('CROSS PSPB'!#REF!,3)=\" IT\",'CROSS PSPB'!#REF!,\"\")","v":{"$error":"#REF!"}},{"$f":"IF(RIGHT('CROSS PSPB'!#REF!,3)=\" IT\",'CROSS PSPB'!#REF!,\"\")","v":{"$error":"#REF!"}},{"$f":"IF(RIGHT('CROSS PSPB'!#REF!,3)=\" IT\",'CROSS PSPB'!#REF!,\"\")","v":{"$error":"#REF!"}},{"$f":"IF(RIGHT('CROSS PSPB'!#REF!,3)=\" IT\",'CROSS PSPB'!#REF!,\"\")","v":{"$error":"#REF!"}},{"$f":"IF(RIGHT('CROSS PSPB'!#REF!,3)=\" IT\",'CROSS PSPB'!#REF!,\"\")","v":{"$error":"#REF!"}},{"$error":"#REF!"},{"$error":"#REF!"},{"$error":"#REF!"},{"$error":"#REF!"}]
[null,{"$f":"IF(RIGHT('CROSS PSPB'!#REF!,3)=\" IT\",'CROSS PSPB'!#REF!,\"\")","v":{"$error":"#REF!"}},{"$f":"IF(RIGHT('CROSS PSPB'!#REF!,3)=\" IT\",'CROSS PSPB'!#REF!,\"\")","v":{"$error":"#REF!"}},{"$f":"IF(RIGHT('CROSS PSPB'!#REF!,3)=\" IT\",'CROSS PSPB'!#REF!,\"\")","v":{"$error":"#REF!"}},{"$f":"IF(RIGHT('CROSS PSPB'!#REF!,3)=\" IT\",'CROSS PSPB'!#REF!,\"\")","v":{"$error":"#REF!"}},{"$f":"IF(RIGHT('CROSS PSPB'!#REF!,3)=\" IT\",'CROSS PSPB'!#REF!,\"\")","v":{"$error":"#REF!"}},{"$f":"IF(RIGHT('CROSS PSPB'!#REF!,3)=\" IT\",'CROSS PSPB'!#REF!,\"\")","v":{"$error":"#REF!"}},{"$f":"IF(RIGHT('CROSS PSPB'!#REF!,3)=\" IT\",'CROSS PSPB'!#REF!,\"\")","v":{"$error":"#REF!"}},{"$f":"IF(RIGHT('CROSS PSPB'!#REF!,3)=\" IT\",'CROSS PSPB'!#REF!,\"\")","v":{"$error":"#REF!"}},{"$f":"IF(RIGHT('CROSS PSPB'!#REF!,3)=\" IT\",'CROSS PSPB'!#REF!,\"\")","v":{"$error":"#REF!"}},{"$f":"IF(RIGHT('CROSS PSPB'!#REF!,3)=\" IT\",'CROSS PSPB'!#REF!,\"\")","v":{"$error":"#REF!"}},{"$f":"IF(RIGHT('CROSS PSPB'!#REF!,3)=\" IT\",'CROSS PSPB'!#REF!,\"\")","v":{"$error":"#REF!"}},{"$f":"IF(RIGHT('CROSS PSPB'!#REF!,3)=\" IT\",'CROSS PSPB'!#REF!,\"\")","v":{"$error":"#REF!"}},{"$f":"IF(RIGHT('CROSS PSPB'!#REF!,3)=\" IT\",'CROSS PSPB'!#REF!,\"\")","v":{"$error":"#REF!"}},{"$f":"IF(RIGHT('CROSS PSPB'!#REF!,3)=\" IT\",'CROSS PSPB'!#REF!,\"\")","v":{"$error":"#REF!"}},{"$f":"IF(RIGHT('CROSS PSPB'!#REF!,3)=\" IT\",'CROSS PSPB'!#REF!,\"\")","v":{"$error":"#REF!"}},{"$f":"IF(RIGHT('CROSS PSPB'!#REF!,3)=\" IT\",'CROSS PSPB'!#REF!,\"\")","v":{"$error":"#REF!"}},{"$f":"IF(RIGHT('CROSS PSPB'!#REF!,3)=\" IT\",'CROSS PSPB'!#REF!,\"\")","v":{"$error":"#REF!"}},{"$f":"IF(RIGHT('CROSS PSPB'!#REF!,3)=\" IT\",'CROSS PSPB'!#REF!,\"\")","v":{"$error":"#REF!"}},{"$f":"IF(RIGHT('CROSS PSPB'!#REF!,3)=\" IT\",'CROSS PSPB'!#REF!,\"\")","v":{"$error":"#REF!"}},{"$f":"IF(RIGHT('CROSS PSPB'!#REF!,3)=\" IT\",'CROSS PSPB'!#REF!,\"\")","v":{"$error":"#REF!"}},{"$f":"IF(RIGHT('CROSS PSPB'!#REF!,3)=\" IT\",'CROSS PSPB'!#REF!,\"\")","v":{"$error":"#REF!"}},{"$f":"IF(RIGHT('CROSS PSPB'!#REF!,3)=\" IT\",'CROSS PSPB'!#REF!,\"\")","v":{"$error":"#REF!"}},{"$f":"IF(RIGHT('CROSS PSPB'!#REF!,3)=\" IT\",'CROSS PSPB'!#REF!,\"\")","v":{"$error":"#REF!"}},{"$f":"IF(RIGHT('CROSS PSPB'!#REF!,3)=\" IT\",'CROSS PSPB'!#REF!,\"\")","v":{"$error":"#REF!"}},{"$f":"IF(RIGHT('CROSS PSPB'!#REF!,3)=\" IT\",'CROSS PSPB'!#REF!,\"\")","v":{"$error":"#REF!"}},{"$f":"IF(RIGHT('CROSS PSPB'!#REF!,3)=\" IT\",'CROSS PSPB'!#REF!,\"\")","v":{"$error":"#REF!"}},{"$f":"IF(RIGHT('CROSS PSPB'!#REF!,3)=\" IT\",'CROSS PSPB'!#REF!,\"\")","v":{"$error":"#REF!"}},{"$f":"IF(RIGHT('CROSS PSPB'!#REF!,3)=\" IT\",'CROSS PSPB'!#REF!,\"\")","v":{"$error":"#REF!"}},{"$f":"IF(RIGHT('CROSS PSPB'!#REF!,3)=\" IT\",'CROSS PSPB'!#REF!,\"\")","v":{"$error":"#REF!"}},{"$f":"IF(RIGHT('CROSS PSPB'!#REF!,3)=\" IT\",'CROSS PSPB'!#REF!,\"\")","v":{"$error":"#REF!"}},{"$f":"IF(RIGHT('CROSS PSPB'!#REF!,3)=\" IT\",'CROSS PSPB'!#REF!,\"\")","v":{"$error":"#REF!"}},{"$f":"IF(RIGHT('CROSS PSPB'!#REF!,3)=\" IT\",'CROSS PSPB'!#REF!,\"\")","v":{"$error":"#REF!"}},{"$f":"IF(RIGHT('CROSS PSPB'!#REF!,3)=\" IT\",'CROSS PSPB'!#REF!,\"\")","v":{"$error":"#REF!"}},{"$f":"IF(RIGHT('CROSS PSPB'!#REF!,3)=\" IT\",'CROSS PSPB'!#REF!,\"\")","v":{"$error":"#REF!"}},{"$f":"IF(RIGHT('CROSS PSPB'!#REF!,3)=\" IT\",'CROSS PSPB'!#REF!,\"\")","v":{"$error":"#REF!"}},{"$f":"IF(RIGHT('CROSS PSPB'!#REF!,3)=\" IT\",'CROSS PSPB'!#REF!,\"\")","v":{"$error":"#REF!"}},{"$f":"IF(RIGHT('CROSS PSPB'!#REF!,3)=\" IT\",'CROSS PSPB'!#REF!,\"\")","v":{"$error":"#REF!"}},{"$f":"IF(RIGHT('CROSS PSPB'!#REF!,3)=\" IT\",'CROSS PSPB'!#REF!,\"\")","v":{"$error":"#REF!"}},{"$f":"IF(RIGHT('CROSS PSPB'!#REF!,3)=\" IT\",'CROSS PSPB'!#REF!,\"\")","v":{"$error":"#REF!"}},{"$f":"IF(RIGHT('CROSS PSPB'!#REF!,3)=\" IT\",'CROSS PSPB'!#REF!,\"\")","v":{"$error":"#REF!"}},{"$f":"IF(RIGHT('CROSS PSPB'!#REF!,3)=\" IT\",'CROSS PSPB'!#REF!,\"\")","v":{"$error":"#REF!"}},{"$f":"IF(RIGHT('CROSS PSPB'!#REF!,3)=\" IT\",'CROSS PSPB'!#REF!,\"\")","v":{"$error":"#REF!"}},{"$f":"IF(RIGHT('CROSS PSPB'!#REF!,3)=\" IT\",'CROSS PSPB'!#REF!,\"\")","v":{"$error":"#REF!"}},{"$f":"IF(RIGHT('CROSS PSPB'!#REF!,3)=\" IT\",'CROSS PSPB'!#REF!,\"\")","v":{"$error":"#REF!"}},{"$f":"IF(RIGHT('CROSS PSPB'!#REF!,3)=\" IT\",'CROSS PSPB'!#REF!,\"\")","v":{"$error":"#REF!"}},{"$f":"IF(RIGHT('CROSS PSPB'!#REF!,3)=\" IT\",'CROSS PSPB'!#REF!,\"\")","v":{"$error":"#REF!"}},{"$f":"IF(RIGHT('CROSS PSPB'!#REF!,3)=\" IT\",'CROSS PSPB'!#REF!,\"\")","v":{"$error":"#REF!"}},{"$f":"IF(RIGHT('CROSS PSPB'!#REF!,3)=\" IT\",'CROSS PSPB'!#REF!,\"\")","v":{"$error":"#REF!"}},{"$f":"IF(RIGHT('CROSS PSPB'!#REF!,3)=\" IT\",'CROSS PSPB'!#REF!,\"\")","v":{"$error":"#REF!"}},{"$f":"IF(RIGHT('CROSS PSPB'!#REF!,3)=\" IT\",'CROSS PSPB'!#REF!,\"\")","v":{"$error":"#REF!"}},{"$f":"IF(RIGHT('CROSS PSPB'!#REF!,3)=\" IT\",'CROSS PSPB'!#REF!,\"\")","v":{"$error":"#REF!"}},{"$error":"#REF!"},{"$error":"#REF!"},{"$error":"#REF!"},{"$error":"#REF!"}]
[null,{"$f":"IF(RIGHT('CROSS PSPB'!#REF!,3)=\" IT\",'CROSS PSPB'!#REF!,\"\")","v":{"$error":"#REF!"}},{"$f":"IF(RIGHT('CROSS PSPB'!#REF!,3)=\" IT\",'CROSS PSPB'!#REF!,\"\")","v":{"$error":"#REF!"}},{"$f":"IF(RIGHT('CROSS PSPB'!#REF!,3)=\" IT\",'CROSS PSPB'!#REF!,\"\")","v":{"$error":"#REF!"}},{"$f":"IF(RIGHT('CROSS PSPB'!#REF!,3)=\" IT\",'CROSS PSPB'!#REF!,\"\")","v":{"$error":"#REF!"}},{"$f":"IF(RIGHT('CROSS PSPB'!#REF!,3)=\" IT\",'CROSS PSPB'!#REF!,\"\")","v":{"$error":"#REF!"}},{"$f":"IF(RIGHT('CROSS PSPB'!#REF!,3)=\" IT\",'CROSS PSPB'!#REF!,\"\")","v":{"$error":"#REF!"}},{"$f":"IF(RIGHT('CROSS PSPB'!#REF!,3)=\" IT\",'CROSS PSPB'!#REF!,\"\")","v":{"$error":"#REF!"}},{"$f":"IF(RIGHT('CROSS PSPB'!#REF!,3)=\" IT\",'CROSS PSPB'!#REF!,\"\")","v":{"$error":"#REF!"}},{"$f":"IF(RIGHT('CROSS PSPB'!#REF!,3)=\" IT\",'CROSS PSPB'!#REF!,\"\")","v":{"$error":"#REF!"}},{"$f":"IF(RIGHT('CROSS PSPB'!#REF!,3)=\" IT\",'CROSS PSPB'!#REF!,\"\")","v":{"$error":"#REF!"}},{"$f":"IF(RIGHT('CROSS PSPB'!#REF!,3)=\" IT\",'CROSS PSPB'!#REF!,\"\")","v":{"$error":"#REF!"}},{"$f":"IF(RIGHT('CROSS PSPB'!#REF!,3)=\" IT\",'CROSS PSPB'!#REF!,\"\")","v":{"$error":"#REF!"}},{"$f":"IF(RIGHT('CROSS PSPB'!#REF!,3)=\" IT\",'CROSS PSPB'!#REF!,\"\")","v":{"$error":"#REF!"}},{"$f":"IF(RIGHT('CROSS PSPB'!#REF!,3)=\" IT\",'CROSS PSPB'!#REF!,\"\")","v":{"$error":"#REF!"}},{"$f":"IF(RIGHT('CROSS PSPB'!#REF!,3)=\" IT\",'CROSS PSPB'!#REF!,\"\")","v":{"$error":"#REF!"}},{"$f":"IF(RIGHT('CROSS PSPB'!#REF!,3)=\" IT\",'CROSS PSPB'!#REF!,\"\")","v":{"$error":"#REF!"}},{"$f":"IF(RIGHT('CROSS PSPB'!#REF!,3)=\" IT\",'CROSS PSPB'!#REF!,\"\")","v":{"$error":"#REF!"}},{"$f":"IF(RIGHT('CROSS PSPB'!#REF!,3)=\" IT\",'CROSS PSPB'!#REF!,\"\")","v":{"$error":"#REF!"}},{"$f":"IF(RIGHT('CROSS PSPB'!#REF!,3)=\" IT\",'CROSS PSPB'!#REF!,\"\")","v":{"$error":"#REF!"}},{"$f":"IF(RIGHT('CROSS PSPB'!#REF!,3)=\" IT\",'CROSS PSPB'!#REF!,\"\")","v":{"$error":"#REF!"}},{"$f":"IF(RIGHT('CROSS PSPB'!#REF!,3)=\" IT\",'CROSS PSPB'!#REF!,\"\")","v":{"$error":"#REF!"}},{"$f":"IF(RIGHT('CROSS PSPB'!#REF!,3)=\" IT\",'CROSS PSPB'!#REF!,\"\")","v":{"$error":"#REF!"}},{"$f":"IF(RIGHT('CROSS PSPB'!#REF!,3)=\" IT\",'CROSS PSPB'!#REF!,\"\")","v":{"$error":"#REF!"}},{"$f":"IF(RIGHT('CROSS PSPB'!#REF!,3)=\" IT\",'CROSS PSPB'!#REF!,\"\")","v":{"$error":"#REF!"}},{"$f":"IF(RIGHT('CROSS PSPB'!#REF!,3)=\" IT\",'CROSS PSPB'!#REF!,\"\")","v":{"$error":"#REF!"}},{"$f":"IF(RIGHT('CROSS PSPB'!#REF!,3)=\" IT\",'CROSS PSPB'!#REF!,\"\")","v":{"$error":"#REF!"}},{"$f":"IF(RIGHT('CROSS PSPB'!#REF!,3)=\" IT\",'CROSS PSPB'!#REF!,\"\")","v":{"$error":"#REF!"}},{"$f":"IF(RIGHT('CROSS PSPB'!#REF!,3)=\" IT\",'CROSS PSPB'!#REF!,\"\")","v":{"$error":"#REF!"}},{"$f":"IF(RIGHT('CROSS PSPB'!#REF!,3)=\" IT\",'CROSS PSPB'!#REF!,\"\")","v":{"$error":"#REF!"}},{"$f":"IF(RIGHT('CROSS PSPB'!#REF!,3)=\" IT\",'CROSS PSPB'!#REF!,\"\")","v":{"$error":"#REF!"}},{"$f":"IF(RIGHT('CROSS PSPB'!#REF!,3)=\" IT\",'CROSS PSPB'!#REF!,\"\")","v":{"$error":"#REF!"}},{"$f":"IF(RIGHT('CROSS PSPB'!#REF!,3)=\" IT\",'CROSS PSPB'!#REF!,\"\")","v":{"$error":"#REF!"}},{"$f":"IF(RIGHT('CROSS PSPB'!#REF!,3)=\" IT\",'CROSS PSPB'!#REF!,\"\")","v":{"$error":"#REF!"}},{"$f":"IF(RIGHT('CROSS PSPB'!#REF!,3)=\" IT\",'CROSS PSPB'!#REF!,\"\")","v":{"$error":"#REF!"}},{"$f":"IF(RIGHT('CROSS PSPB'!#REF!,3)=\" IT\",'CROSS PSPB'!#REF!,\"\")","v":{"$error":"#REF!"}},{"$f":"IF(RIGHT('CROSS PSPB'!#REF!,3)=\" IT\",'CROSS PSPB'!#REF!,\"\")","v":{"$error":"#REF!"}},{"$f":"IF(RIGHT('CROSS PSPB'!#REF!,3)=\" IT\",'CROSS PSPB'!#REF!,\"\")","v":{"$error":"#REF!"}},{"$f":"IF(RIGHT('CROSS PSPB'!#REF!,3)=\" IT\",'CROSS PSPB'!#REF!,\"\")","v":{"$error":"#REF!"}},{"$f":"IF(RIGHT('CROSS PSPB'!#REF!,3)=\" IT\",'CROSS PSPB'!#REF!,\"\")","v":{"$error":"#REF!"}},{"$f":"IF(RIGHT('CROSS PSPB'!#REF!,3)=\" IT\",'CROSS PSPB'!#REF!,\"\")","v":{"$error":"#REF!"}},{"$f":"IF(RIGHT('CROSS PSPB'!#REF!,3)=\" IT\",'CROSS PSPB'!#REF!,\"\")","v":{"$error":"#REF!"}},{"$f":"IF(RIGHT('CROSS PSPB'!#REF!,3)=\" IT\",'CROSS PSPB'!#REF!,\"\")","v":{"$error":"#REF!"}},{"$f":"IF(RIGHT('CROSS PSPB'!#REF!,3)=\" IT\",'CROSS PSPB'!#REF!,\"\")","v":{"$error":"#REF!"}},{"$f":"IF(RIGHT('CROSS PSPB'!#REF!,3)=\" IT\",'CROSS PSPB'!#REF!,\"\")","v":{"$error":"#REF!"}},{"$f":"IF(RIGHT('CROSS PSPB'!#REF!,3)=\" IT\",'CROSS PSPB'!#REF!,\"\")","v":{"$error":"#REF!"}},{"$f":"IF(RIGHT('CROSS PSPB'!#REF!,3)=\" IT\",'CROSS PSPB'!#REF!,\"\")","v":{"$error":"#REF!"}},{"$f":"IF(RIGHT('CROSS PSPB'!#REF!,3)=\" IT\",'CROSS PSPB'!#REF!,\"\")","v":{"$error":"#REF!"}},{"$f":"IF(RIGHT('CROSS PSPB'!#REF!,3)=\" IT\",'CROSS PSPB'!#REF!,\"\")","v":{"$error":"#REF!"}},{"$f":"IF(RIGHT('CROSS PSPB'!#REF!,3)=\" IT\",'CROSS PSPB'!#REF!,\"\")","v":{"$error":"#REF!"}},{"$f":"IF(RIGHT('CROSS PSPB'!#REF!,3)=\" IT\",'CROSS PSPB'!#REF!,\"\")","v":{"$error":"#REF!"}},{"$f":"IF(RIGHT('CROSS PSPB'!#REF!,3)=\" IT\",'CROSS PSPB'!#REF!,\"\")","v":{"$error":"#REF!"}},{"$error":"#REF!"},{"$error":"#REF!"},{"$error":"#REF!"},{"$error":"#REF!"}]
[null,{"$f":"IF(RIGHT('CROSS PSPB'!#REF!,3)=\" IT\",'CROSS PSPB'!#REF!,\"\")","v":{"$error":"#REF!"}},{"$f":"IF(RIGHT('CROSS PSPB'!#REF!,3)=\" IT\",'CROSS PSPB'!#REF!,\"\")","v":{"$error":"#REF!"}},{"$f":"IF(RIGHT('CROSS PSPB'!#REF!,3)=\" IT\",'CROSS PSPB'!#REF!,\"\")","v":{"$error":"#REF!"}},{"$f":"IF(RIGHT('CROSS PSPB'!#REF!,3)=\" IT\",'CROSS PSPB'!#REF!,\"\")","v":{"$error":"#REF!"}},{"$f":"IF(RIGHT('CROSS PSPB'!#REF!,3)=\" IT\",'CROSS PSPB'!#REF!,\"\")","v":{"$error":"#REF!"}},{"$f":"IF(RIGHT('CROSS PSPB'!#REF!,3)=\" IT\",'CROSS PSPB'!#REF!,\"\")","v":{"$error":"#REF!"}},{"$f":"IF(RIGHT('CROSS PSPB'!#REF!,3)=\" IT\",'CROSS PSPB'!#REF!,\"\")","v":{"$error":"#REF!"}},{"$f":"IF(RIGHT('CROSS PSPB'!#REF!,3)=\" IT\",'CROSS PSPB'!#REF!,\"\")","v":{"$error":"#REF!"}},{"$f":"IF(RIGHT('CROSS PSPB'!#REF!,3)=\" IT\",'CROSS PSPB'!#REF!,\"\")","v":{"$error":"#REF!"}},{"$f":"IF(RIGHT('CROSS PSPB'!#REF!,3)=\" IT\",'CROSS PSPB'!#REF!,\"\")","v":{"$error":"#REF!"}},{"$f":"IF(RIGHT('CROSS PSPB'!#REF!,3)=\" IT\",'CROSS PSPB'!#REF!,\"\")","v":{"$error":"#REF!"}},{"$f":"IF(RIGHT('CROSS PSPB'!#REF!,3)=\" IT\",'CROSS PSPB'!#REF!,\"\")","v":{"$error":"#REF!"}},{"$f":"IF(RIGHT('CROSS PSPB'!#REF!,3)=\" IT\",'CROSS PSPB'!#REF!,\"\")","v":{"$error":"#REF!"}},{"$f":"IF(RIGHT('CROSS PSPB'!#REF!,3)=\" IT\",'CROSS PSPB'!#REF!,\"\")","v":{"$error":"#REF!"}},{"$f":"IF(RIGHT('CROSS PSPB'!#REF!,3)=\" IT\",'CROSS PSPB'!#REF!,\"\")","v":{"$error":"#REF!"}},{"$f":"IF(RIGHT('CROSS PSPB'!#REF!,3)=\" IT\",'CROSS PSPB'!#REF!,\"\")","v":{"$error":"#REF!"}},{"$f":"IF(RIGHT('CROSS PSPB'!#REF!,3)=\" IT\",'CROSS PSPB'!#REF!,\"\")","v":{"$error":"#REF!"}},{"$f":"IF(RIGHT('CROSS PSPB'!#REF!,3)=\" IT\",'CROSS PSPB'!#REF!,\"\")","v":{"$error":"#REF!"}},{"$f":"IF(RIGHT('CROSS PSPB'!#REF!,3)=\" IT\",'CROSS PSPB'!#REF!,\"\")","v":{"$error":"#REF!"}},{"$f":"IF(RIGHT('CROSS PSPB'!#REF!,3)=\" IT\",'CROSS PSPB'!#REF!,\"\")","v":{"$error":"#REF!"}},{"$f":"IF(RIGHT('CROSS PSPB'!#REF!,3)=\" IT\",'CROSS PSPB'!#REF!,\"\")","v":{"$error":"#REF!"}},{"$f":"IF(RIGHT('CROSS PSPB'!#REF!,3)=\" IT\",'CROSS PSPB'!#REF!,\"\")","v":{"$error":"#REF!"}},{"$f":"IF(RIGHT('CROSS PSPB'!#REF!,3)=\" IT\",'CROSS PSPB'!#REF!,\"\")","v":{"$error":"#REF!"}},{"$f":"IF(RIGHT('CROSS PSPB'!#REF!,3)=\" IT\",'CROSS PSPB'!#REF!,\"\")","v":{"$error":"#REF!"}},{"$f":"IF(RIGHT('CROSS PSPB'!#REF!,3)=\" IT\",'CROSS PSPB'!#REF!,\"\")","v":{"$error":"#REF!"}},{"$f":"IF(RIGHT('CROSS PSPB'!#REF!,3)=\" IT\",'CROSS PSPB'!#REF!,\"\")","v":{"$error":"#REF!"}},{"$f":"IF(RIGHT('CROSS PSPB'!#REF!,3)=\" IT\",'CROSS PSPB'!#REF!,\"\")","v":{"$error":"#REF!"}},{"$f":"IF(RIGHT('CROSS PSPB'!#REF!,3)=\" IT\",'CROSS PSPB'!#REF!,\"\")","v":{"$error":"#REF!"}},{"$f":"IF(RIGHT('CROSS PSPB'!#REF!,3)=\" IT\",'CROSS PSPB'!#REF!,\"\")","v":{"$error":"#REF!"}},{"$f":"IF(RIGHT('CROSS PSPB'!#REF!,3)=\" IT\",'CROSS PSPB'!#REF!,\"\")","v":{"$error":"#REF!"}},{"$f":"IF(RIGHT('CROSS PSPB'!#REF!,3)=\" IT\",'CROSS PSPB'!#REF!,\"\")","v":{"$error":"#REF!"}},{"$f":"IF(RIGHT('CROSS PSPB'!#REF!,3)=\" IT\",'CROSS PSPB'!#REF!,\"\")","v":{"$error":"#REF!"}},{"$f":"IF(RIGHT('CROSS PSPB'!#REF!,3)=\" IT\",'CROSS PSPB'!#REF!,\"\")","v":{"$error":"#REF!"}},{"$f":"IF(RIGHT('CROSS PSPB'!#REF!,3)=\" IT\",'CROSS PSPB'!#REF!,\"\")","v":{"$error":"#REF!"}},{"$f":"IF(RIGHT('CROSS PSPB'!#REF!,3)=\" IT\",'CROSS PSPB'!#REF!,\"\")","v":{"$error":"#REF!"}},{"$f":"IF(RIGHT('CROSS PSPB'!#REF!,3)=\" IT\",'CROSS PSPB'!#REF!,\"\")","v":{"$error":"#REF!"}},{"$f":"IF(RIGHT('CROSS PSPB'!#REF!,3)=\" IT\",'CROSS PSPB'!#REF!,\"\")","v":{"$error":"#REF!"}},{"$f":"IF(RIGHT('CROSS PSPB'!#REF!,3)=\" IT\",'CROSS PSPB'!#REF!,\"\")","v":{"$error":"#REF!"}},{"$f":"IF(RIGHT('CROSS PSPB'!#REF!,3)=\" IT\",'CROSS PSPB'!#REF!,\"\")","v":{"$error":"#REF!"}},{"$f":"IF(RIGHT('CROSS PSPB'!#REF!,3)=\" IT\",'CROSS PSPB'!#REF!,\"\")","v":{"$error":"#REF!"}},{"$f":"IF(RIGHT('CROSS PSPB'!#REF!,3)=\" IT\",'CROSS PSPB'!#REF!,\"\")","v":{"$error":"#REF!"}},{"$f":"IF(RIGHT('CROSS PSPB'!#REF!,3)=\" IT\",'CROSS PSPB'!#REF!,\"\")","v":{"$error":"#REF!"}},{"$f":"IF(RIGHT('CROSS PSPB'!#REF!,3)=\" IT\",'CROSS PSPB'!#REF!,\"\")","v":{"$error":"#REF!"}},{"$f":"IF(RIGHT('CROSS PSPB'!#REF!,3)=\" IT\",'CROSS PSPB'!#REF!,\"\")","v":{"$error":"#REF!"}},{"$f":"IF(RIGHT('CROSS PSPB'!#REF!,3)=\" IT\",'CROSS PSPB'!#REF!,\"\")","v":{"$error":"#REF!"}},{"$f":"IF(RIGHT('CROSS PSPB'!#REF!,3)=\" IT\",'CROSS PSPB'!#REF!,\"\")","v":{"$error":"#REF!"}},{"$f":"IF(RIGHT('CROSS PSPB'!#REF!,3)=\" IT\",'CROSS PSPB'!#REF!,\"\")","v":{"$error":"#REF!"}},{"$f":"IF(RIGHT('CROSS PSPB'!#REF!,3)=\" IT\",'CROSS PSPB'!#REF!,\"\")","v":{"$error":"#REF!"}},{"$f":"IF(RIGHT('CROSS PSPB'!#REF!,3)=\" IT\",'CROSS PSPB'!#REF!,\"\")","v":{"$error":"#REF!"}},{"$f":"IF(RIGHT('CROSS PSPB'!#REF!,3)=\" IT\",'CROSS PSPB'!#REF!,\"\")","v":{"$error":"#REF!"}},{"$f":"IF(RIGHT('CROSS PSPB'!#REF!,3)=\" IT\",'CROSS PSPB'!#REF!,\"\")","v":{"$error":"#REF!"}},{"$error":"#REF!"},{"$error":"#REF!"},{"$error":"#REF!"},{"$error":"#REF!"}]
[null,{"$f":"IF(RIGHT('CROSS PSPB'!#REF!,3)=\" IT\",'CROSS PSPB'!#REF!,\"\")","v":{"$error":"#REF!"}},{"$f":"IF(RIGHT('CROSS PSPB'!#REF!,3)=\" IT\",'CROSS PSPB'!#REF!,\"\")","v":{"$error":"#REF!"}},{"$f":"IF(RIGHT('CROSS PSPB'!#REF!,3)=\" IT\",'CROSS PSPB'!#REF!,\"\")","v":{"$error":"#REF!"}},{"$f":"IF(RIGHT('CROSS PSPB'!#REF!,3)=\" IT\",'CROSS PSPB'!#REF!,\"\")","v":{"$error":"#REF!"}},{"$f":"IF(RIGHT('CROSS PSPB'!#REF!,3)=\" IT\",'CROSS PSPB'!#REF!,\"\")","v":{"$error":"#REF!"}},{"$f":"IF(RIGHT('CROSS PSPB'!#REF!,3)=\" IT\",'CROSS PSPB'!#REF!,\"\")","v":{"$error":"#REF!"}},{"$f":"IF(RIGHT('CROSS PSPB'!#REF!,3)=\" IT\",'CROSS PSPB'!#REF!,\"\")","v":{"$error":"#REF!"}},{"$f":"IF(RIGHT('CROSS PSPB'!#REF!,3)=\" IT\",'CROSS PSPB'!#REF!,\"\")","v":{"$error":"#REF!"}},{"$f":"IF(RIGHT('CROSS PSPB'!#REF!,3)=\" IT\",'CROSS PSPB'!#REF!,\"\")","v":{"$error":"#REF!"}},{"$f":"IF(RIGHT('CROSS PSPB'!#REF!,3)=\" IT\",'CROSS PSPB'!#REF!,\"\")","v":{"$error":"#REF!"}},{"$f":"IF(RIGHT('CROSS PSPB'!#REF!,3)=\" IT\",'CROSS PSPB'!#REF!,\"\")","v":{"$error":"#REF!"}},{"$f":"IF(RIGHT('CROSS PSPB'!#REF!,3)=\" IT\",'CROSS PSPB'!#REF!,\"\")","v":{"$error":"#REF!"}},{"$f":"IF(RIGHT('CROSS PSPB'!#REF!,3)=\" IT\",'CROSS PSPB'!#REF!,\"\")","v":{"$error":"#REF!"}},{"$f":"IF(RIGHT('CROSS PSPB'!#REF!,3)=\" IT\",'CROSS PSPB'!#REF!,\"\")","v":{"$error":"#REF!"}},{"$f":"IF(RIGHT('CROSS PSPB'!#REF!,3)=\" IT\",'CROSS PSPB'!#REF!,\"\")","v":{"$error":"#REF!"}},{"$f":"IF(RIGHT('CROSS PSPB'!#REF!,3)=\" IT\",'CROSS PSPB'!#REF!,\"\")","v":{"$error":"#REF!"}},{"$f":"IF(RIGHT('CROSS PSPB'!#REF!,3)=\" IT\",'CROSS PSPB'!#REF!,\"\")","v":{"$error":"#REF!"}},{"$f":"IF(RIGHT('CROSS PSPB'!#REF!,3)=\" IT\",'CROSS PSPB'!#REF!,\"\")","v":{"$error":"#REF!"}},{"$f":"IF(RIGHT('CROSS PSPB'!#REF!,3)=\" IT\",'CROSS PSPB'!#REF!,\"\")","v":{"$error":"#REF!"}},{"$f":"IF(RIGHT('CROSS PSPB'!#REF!,3)=\" IT\",'CROSS PSPB'!#REF!,\"\")","v":{"$error":"#REF!"}},{"$f":"IF(RIGHT('CROSS PSPB'!#REF!,3)=\" IT\",'CROSS PSPB'!#REF!,\"\")","v":{"$error":"#REF!"}},{"$f":"IF(RIGHT('CROSS PSPB'!#REF!,3)=\" IT\",'CROSS PSPB'!#REF!,\"\")","v":{"$error":"#REF!"}},{"$f":"IF(RIGHT('CROSS PSPB'!#REF!,3)=\" IT\",'CROSS PSPB'!#REF!,\"\")","v":{"$error":"#REF!"}},{"$f":"IF(RIGHT('CROSS PSPB'!#REF!,3)=\" IT\",'CROSS PSPB'!#REF!,\"\")","v":{"$error":"#REF!"}},{"$f":"IF(RIGHT('CROSS PSPB'!#REF!,3)=\" IT\",'CROSS PSPB'!#REF!,\"\")","v":{"$error":"#REF!"}},{"$f":"IF(RIGHT('CROSS PSPB'!#REF!,3)=\" IT\",'CROSS PSPB'!#REF!,\"\")","v":{"$error":"#REF!"}},{"$f":"IF(RIGHT('CROSS PSPB'!#REF!,3)=\" IT\",'CROSS PSPB'!#REF!,\"\")","v":{"$error":"#REF!"}},{"$f":"IF(RIGHT('CROSS PSPB'!#REF!,3)=\" IT\",'CROSS PSPB'!#REF!,\"\")","v":{"$error":"#REF!"}},{"$f":"IF(RIGHT('CROSS PSPB'!#REF!,3)=\" IT\",'CROSS PSPB'!#REF!,\"\")","v":{"$error":"#REF!"}},{"$f":"IF(RIGHT('CROSS PSPB'!#REF!,3)=\" IT\",'CROSS PSPB'!#REF!,\"\")","v":{"$error":"#REF!"}},{"$f":"IF(RIGHT('CROSS PSPB'!#REF!,3)=\" IT\",'CROSS PSPB'!#REF!,\"\")","v":{"$error":"#REF!"}},{"$f":"IF(RIGHT('CROSS PSPB'!#REF!,3)=\" IT\",'CROSS PSPB'!#REF!,\"\")","v":{"$error":"#REF!"}},{"$f":"IF(RIGHT('CROSS PSPB'!#REF!,3)=\" IT\",'CROSS PSPB'!#REF!,\"\")","v":{"$error":"#REF!"}},{"$f":"IF(RIGHT('CROSS PSPB'!#REF!,3)=\" IT\",'CROSS PSPB'!#REF!,\"\")","v":{"$error":"#REF!"}},{"$f":"IF(RIGHT('CROSS PSPB'!#REF!,3)=\" IT\",'CROSS PSPB'!#REF!,\"\")","v":{"$error":"#REF!"}},{"$f":"IF(RIGHT('CROSS PSPB'!#REF!,3)=\" IT\",'CROSS PSPB'!#REF!,\"\")","v":{"$error":"#REF!"}},{"$f":"IF(RIGHT('CROSS PSPB'!#REF!,3)=\" IT\",'CROSS PSPB'!#REF!,\"\")","v":{"$error":"#REF!"}},{"$f":"IF(RIGHT('CROSS PSPB'!#REF!,3)=\" IT\",'CROSS PSPB'!#REF!,\"\")","v":{"$error":"#REF!"}},{"$f":"IF(RIGHT('CROSS PSPB'!#REF!,3)=\" IT\",'CROSS PSPB'!#REF!,\"\")","v":{"$error":"#REF!"}},{"$f":"IF(RIGHT('CROSS PSPB'!#REF!,3)=\" IT\",'CROSS PSPB'!#REF!,\"\")","v":{"$error":"#REF!"}},{"$f":"IF(RIGHT('CROSS PSPB'!#REF!,3)=\" IT\",'CROSS PSPB'!#REF!,\"\")","v":{"$error":"#REF!"}},{"$f":"IF(RIGHT('CROSS PSPB'!#REF!,3)=\" IT\",'CROSS PSPB'!#REF!,\"\")","v":{"$error":"#REF!"}},{"$f":"IF(RIGHT('CROSS PSPB'!#REF!,3)=\" IT\",'CROSS PSPB'!#REF!,\"\")","v":{"$error":"#REF!"}},{"$f":"IF(RIGHT('CROSS PSPB'!#REF!,3)=\" IT\",'CROSS PSPB'!#REF!,\"\")","v":{"$error":"#REF!"}},{"$f":"IF(RIGHT('CROSS PSPB'!#REF!,3)=\" IT\",'CROSS PSPB'!#REF!,\"\")","v":{"$error":"#REF!"}},{"$f":"IF(RIGHT('CROSS PSPB'!#REF!,3)=\" IT\",'CROSS PSPB'!#REF!,\"\")","v":{"$error":"#REF!"}},{"$f":"IF(RIGHT('CROSS PSPB'!#REF!,3)=\" IT\",'CROSS PSPB'!#REF!,\"\")","v":{"$error":"#REF!"}},{"$f":"IF(RIGHT('CROSS PSPB'!#REF!,3)=\" IT\",'CROSS PSPB'!#REF!,\"\")","v":{"$error":"#REF!"}},{"$f":"IF(RIGHT('CROSS PSPB'!#REF!,3)=\" IT\",'CROSS PSPB'!#REF!,\"\")","v":{"$error":"#REF!"}},{"$f":"IF(RIGHT('CROSS PSPB'!#REF!,3)=\" IT\",'CROSS PSPB'!#REF!,\"\")","v":{"$error":"#REF!"}},{"$f":"IF(RIGHT('CROSS PSPB'!#REF!,3)=\" IT\",'CROSS PSPB'!#REF!,\"\")","v":{"$error":"#REF!"}},{"$error":"#REF!"},{"$error":"#REF!"},{"$error":"#REF!"},{"$error":"#REF!"}]
[null,{"$f":"IF(RIGHT('CROSS PSPB'!#REF!,3)=\" IT\",'CROSS PSPB'!#REF!,\"\")","v":{"$error":"#REF!"}},{"$f":"IF(RIGHT('CROSS PSPB'!#REF!,3)=\" IT\",'CROSS PSPB'!#REF!,\"\")","v":{"$error":"#REF!"}},{"$f":"IF(RIGHT('CROSS PSPB'!#REF!,3)=\" IT\",'CROSS PSPB'!#REF!,\"\")","v":{"$error":"#REF!"}},{"$f":"IF(RIGHT('CROSS PSPB'!#REF!,3)=\" IT\",'CROSS PSPB'!#REF!,\"\")","v":{"$error":"#REF!"}},{"$f":"IF(RIGHT('CROSS PSPB'!#REF!,3)=\" IT\",'CROSS PSPB'!#REF!,\"\")","v":{"$error":"#REF!"}},{"$f":"IF(RIGHT('CROSS PSPB'!#REF!,3)=\" IT\",'CROSS PSPB'!#REF!,\"\")","v":{"$error":"#REF!"}},{"$f":"IF(RIGHT('CROSS PSPB'!#REF!,3)=\" IT\",'CROSS PSPB'!#REF!,\"\")","v":{"$error":"#REF!"}},{"$f":"IF(RIGHT('CROSS PSPB'!#REF!,3)=\" IT\",'CROSS PSPB'!#REF!,\"\")","v":{"$error":"#REF!"}},{"$f":"IF(RIGHT('CROSS PSPB'!#REF!,3)=\" IT\",'CROSS PSPB'!#REF!,\"\")","v":{"$error":"#REF!"}},{"$f":"IF(RIGHT('CROSS PSPB'!#REF!,3)=\" IT\",'CROSS PSPB'!#REF!,\"\")","v":{"$error":"#REF!"}},{"$f":"IF(RIGHT('CROSS PSPB'!#REF!,3)=\" IT\",'CROSS PSPB'!#REF!,\"\")","v":{"$error":"#REF!"}},{"$f":"IF(RIGHT('CROSS PSPB'!#REF!,3)=\" IT\",'CROSS PSPB'!#REF!,\"\")","v":{"$error":"#REF!"}},{"$f":"IF(RIGHT('CROSS PSPB'!#REF!,3)=\" IT\",'CROSS PSPB'!#REF!,\"\")","v":{"$error":"#REF!"}},{"$f":"IF(RIGHT('CROSS PSPB'!#REF!,3)=\" IT\",'CROSS PSPB'!#REF!,\"\")","v":{"$error":"#REF!"}},{"$f":"IF(RIGHT('CROSS PSPB'!#REF!,3)=\" IT\",'CROSS PSPB'!#REF!,\"\")","v":{"$error":"#REF!"}},{"$f":"IF(RIGHT('CROSS PSPB'!#REF!,3)=\" IT\",'CROSS PSPB'!#REF!,\"\")","v":{"$error":"#REF!"}},{"$f":"IF(RIGHT('CROSS PSPB'!#REF!,3)=\" IT\",'CROSS PSPB'!#REF!,\"\")","v":{"$error":"#REF!"}},{"$f":"IF(RIGHT('CROSS PSPB'!#REF!,3)=\" IT\",'CROSS PSPB'!#REF!,\"\")","v":{"$error":"#REF!"}},{"$f":"IF(RIGHT('CROSS PSPB'!#REF!,3)=\" IT\",'CROSS PSPB'!#REF!,\"\")","v":{"$error":"#REF!"}},{"$f":"IF(RIGHT('CROSS PSPB'!#REF!,3)=\" IT\",'CROSS PSPB'!#REF!,\"\")","v":{"$error":"#REF!"}},{"$f":"IF(RIGHT('CROSS PSPB'!#REF!,3)=\" IT\",'CROSS PSPB'!#REF!,\"\")","v":{"$error":"#REF!"}},{"$f":"IF(RIGHT('CROSS PSPB'!#REF!,3)=\" IT\",'CROSS PSPB'!#REF!,\"\")","v":{"$error":"#REF!"}},{"$f":"IF(RIGHT('CROSS PSPB'!#REF!,3)=\" IT\",'CROSS PSPB'!#REF!,\"\")","v":{"$error":"#REF!"}},{"$f":"IF(RIGHT('CROSS PSPB'!#REF!,3)=\" IT\",'CROSS PSPB'!#REF!,\"\")","v":{"$error":"#REF!"}},{"$f":"IF(RIGHT('CROSS PSPB'!#REF!,3)=\" IT\",'CROSS PSPB'!#REF!,\"\")","v":{"$error":"#REF!"}},{"$f":"IF(RIGHT('CROSS PSPB'!#REF!,3)=\" IT\",'CROSS PSPB'!#REF!,\"\")","v":{"$error":"#REF!"}},{"$f":"IF(RIGHT('CROSS PSPB'!#REF!,3)=\" IT\",'CROSS PSPB'!#REF!,\"\")","v":{"$error":"#REF!"}},{"$f":"IF(RIGHT('CROSS PSPB'!#REF!,3)=\" IT\",'CROSS PSPB'!#REF!,\"\")","v":{"$error":"#REF!"}},{"$f":"IF(RIGHT('CROSS PSPB'!#REF!,3)=\" IT\",'CROSS PSPB'!#REF!,\"\")","v":{"$error":"#REF!"}},{"$f":"IF(RIGHT('CROSS PSPB'!#REF!,3)=\" IT\",'CROSS PSPB'!#REF!,\"\")","v":{"$error":"#REF!"}},{"$f":"IF(RIGHT('CROSS PSPB'!#REF!,3)=\" IT\",'CROSS PSPB'!#REF!,\"\")","v":{"$error":"#REF!"}},{"$f":"IF(RIGHT('CROSS PSPB'!#REF!,3)=\" IT\",'CROSS PSPB'!#REF!,\"\")","v":{"$error":"#REF!"}},{"$f":"IF(RIGHT('CROSS PSPB'!#REF!,3)=\" IT\",'CROSS PSPB'!#REF!,\"\")","v":{"$error":"#REF!"}},{"$f":"IF(RIGHT('CROSS PSPB'!#REF!,3)=\" IT\",'CROSS PSPB'!#REF!,\"\")","v":{"$error":"#REF!"}},{"$f":"IF(RIGHT('CROSS PSPB'!#REF!,3)=\" IT\",'CROSS PSPB'!#REF!,\"\")","v":{"$error":"#REF!"}},{"$f":"IF(RIGHT('CROSS PSPB'!#REF!,3)=\" IT\",'CROSS PSPB'!#REF!,\"\")","v":{"$error":"#REF!"}},{"$f":"IF(RIGHT('CROSS PSPB'!#REF!,3)=\" IT\",'CROSS PSPB'!#REF!,\"\")","v":{"$error":"#REF!"}},{"$f":"IF(RIGHT('CROSS PSPB'!#REF!,3)=\" IT\",'CROSS PSPB'!#REF!,\"\")","v":{"$error":"#REF!"}},{"$f":"IF(RIGHT('CROSS PSPB'!#REF!,3)=\" IT\",'CROSS PSPB'!#REF!,\"\")","v":{"$error":"#REF!"}},{"$f":"IF(RIGHT('CROSS PSPB'!#REF!,3)=\" IT\",'CROSS PSPB'!#REF!,\"\")","v":{"$error":"#REF!"}},{"$f":"IF(RIGHT('CROSS PSPB'!#REF!,3)=\" IT\",'CROSS PSPB'!#REF!,\"\")","v":{"$error":"#REF!"}},{"$f":"IF(RIGHT('CROSS PSPB'!#REF!,3)=\" IT\",'CROSS PSPB'!#REF!,\"\")","v":{"$error":"#REF!"}},{"$f":"IF(RIGHT('CROSS PSPB'!#REF!,3)=\" IT\",'CROSS PSPB'!#REF!,\"\")","v":{"$error":"#REF!"}},{"$f":"IF(RIGHT('CROSS PSPB'!#REF!,3)=\" IT\",'CROSS PSPB'!#REF!,\"\")","v":{"$error":"#REF!"}},{"$f":"IF(RIGHT('CROSS PSPB'!#REF!,3)=\" IT\",'CROSS PSPB'!#REF!,\"\")","v":{"$error":"#REF!"}},{"$f":"IF(RIGHT('CROSS PSPB'!#REF!,3)=\" IT\",'CROSS PSPB'!#REF!,\"\")","v":{"$error":"#REF!"}},{"$f":"IF(RIGHT('CROSS PSPB'!#REF!,3)=\" IT\",'CROSS PSPB'!#REF!,\"\")","v":{"$error":"#REF!"}},{"$f":"IF(RIGHT('CROSS PSPB'!#REF!,3)=\" IT\",'CROSS PSPB'!#REF!,\"\")","v":{"$error":"#REF!"}},{"$f":"IF(RIGHT('CROSS PSPB'!#REF!,3)=\" IT\",'CROSS PSPB'!#REF!,\"\")","v":{"$error":"#REF!"}},{"$f":"IF(RIGHT('CROSS PSPB'!#REF!,3)=\" IT\",'CROSS PSPB'!#REF!,\"\")","v":{"$error":"#REF!"}},{"$f":"IF(RIGHT('CROSS PSPB'!#REF!,3)=\" IT\",'CROSS PSPB'!#REF!,\"\")","v":{"$error":"#REF!"}},{"$error":"#REF!"},{"$error":"#REF!"},{"$error":"#REF!"},{"$error":"#REF!"}]
[null,{"$f":"IF(RIGHT('CROSS PSPB'!#REF!,3)=\" IT\",'CROSS PSPB'!#REF!,\"\")","v":{"$error":"#REF!"}},{"$f":"IF(RIGHT('CROSS PSPB'!#REF!,3)=\" IT\",'CROSS PSPB'!#REF!,\"\")","v":{"$error":"#REF!"}},{"$f":"IF(RIGHT('CROSS PSPB'!#REF!,3)=\" IT\",'CROSS PSPB'!#REF!,\"\")","v":{"$error":"#REF!"}},{"$f":"IF(RIGHT('CROSS PSPB'!#REF!,3)=\" IT\",'CROSS PSPB'!#REF!,\"\")","v":{"$error":"#REF!"}},{"$f":"IF(RIGHT('CROSS PSPB'!#REF!,3)=\" IT\",'CROSS PSPB'!#REF!,\"\")","v":{"$error":"#REF!"}},{"$f":"IF(RIGHT('CROSS PSPB'!#REF!,3)=\" IT\",'CROSS PSPB'!#REF!,\"\")","v":{"$error":"#REF!"}},{"$f":"IF(RIGHT('CROSS PSPB'!#REF!,3)=\" IT\",'CROSS PSPB'!#REF!,\"\")","v":{"$error":"#REF!"}},{"$f":"IF(RIGHT('CROSS PSPB'!#REF!,3)=\" IT\",'CROSS PSPB'!#REF!,\"\")","v":{"$error":"#REF!"}},{"$f":"IF(RIGHT('CROSS PSPB'!#REF!,3)=\" IT\",'CROSS PSPB'!#REF!,\"\")","v":{"$error":"#REF!"}},{"$f":"IF(RIGHT('CROSS PSPB'!#REF!,3)=\" IT\",'CROSS PSPB'!#REF!,\"\")","v":{"$error":"#REF!"}},{"$f":"IF(RIGHT('CROSS PSPB'!#REF!,3)=\" IT\",'CROSS PSPB'!#REF!,\"\")","v":{"$error":"#REF!"}},{"$f":"IF(RIGHT('CROSS PSPB'!#REF!,3)=\" IT\",'CROSS PSPB'!#REF!,\"\")","v":{"$error":"#REF!"}},{"$f":"IF(RIGHT('CROSS PSPB'!#REF!,3)=\" IT\",'CROSS PSPB'!#REF!,\"\")","v":{"$error":"#REF!"}},{"$f":"IF(RIGHT('CROSS PSPB'!#REF!,3)=\" IT\",'CROSS PSPB'!#REF!,\"\")","v":{"$error":"#REF!"}},{"$f":"IF(RIGHT('CROSS PSPB'!#REF!,3)=\" IT\",'CROSS PSPB'!#REF!,\"\")","v":{"$error":"#REF!"}},{"$f":"IF(RIGHT('CROSS PSPB'!#REF!,3)=\" IT\",'CROSS PSPB'!#REF!,\"\")","v":{"$error":"#REF!"}},{"$f":"IF(RIGHT('CROSS PSPB'!#REF!,3)=\" IT\",'CROSS PSPB'!#REF!,\"\")","v":{"$error":"#REF!"}},{"$f":"IF(RIGHT('CROSS PSPB'!#REF!,3)=\" IT\",'CROSS PSPB'!#REF!,\"\")","v":{"$error":"#REF!"}},{"$f":"IF(RIGHT('CROSS PSPB'!#REF!,3)=\" IT\",'CROSS PSPB'!#REF!,\"\")","v":{"$error":"#REF!"}},{"$f":"IF(RIGHT('CROSS PSPB'!#REF!,3)=\" IT\",'CROSS PSPB'!#REF!,\"\")","v":{"$error":"#REF!"}},{"$f":"IF(RIGHT('CROSS PSPB'!#REF!,3)=\" IT\",'CROSS PSPB'!#REF!,\"\")","v":{"$error":"#REF!"}},{"$f":"IF(RIGHT('CROSS PSPB'!#REF!,3)=\" IT\",'CROSS PSPB'!#REF!,\"\")","v":{"$error":"#REF!"}},{"$f":"IF(RIGHT('CROSS PSPB'!#REF!,3)=\" IT\",'CROSS PSPB'!#REF!,\"\")","v":{"$error":"#REF!"}},{"$f":"IF(RIGHT('CROSS PSPB'!#REF!,3)=\" IT\",'CROSS PSPB'!#REF!,\"\")","v":{"$error":"#REF!"}},{"$f":"IF(RIGHT('CROSS PSPB'!#REF!,3)=\" IT\",'CROSS PSPB'!#REF!,\"\")","v":{"$error":"#REF!"}},{"$f":"IF(RIGHT('CROSS PSPB'!#REF!,3)=\" IT\",'CROSS PSPB'!#REF!,\"\")","v":{"$error":"#REF!"}},{"$f":"IF(RIGHT('CROSS PSPB'!#REF!,3)=\" IT\",'CROSS PSPB'!#REF!,\"\")","v":{"$error":"#REF!"}},{"$f":"IF(RIGHT('CROSS PSPB'!#REF!,3)=\" IT\",'CROSS PSPB'!#REF!,\"\")","v":{"$error":"#REF!"}},{"$f":"IF(RIGHT('CROSS PSPB'!#REF!,3)=\" IT\",'CROSS PSPB'!#REF!,\"\")","v":{"$error":"#REF!"}},{"$f":"IF(RIGHT('CROSS PSPB'!#REF!,3)=\" IT\",'CROSS PSPB'!#REF!,\"\")","v":{"$error":"#REF!"}},{"$f":"IF(RIGHT('CROSS PSPB'!#REF!,3)=\" IT\",'CROSS PSPB'!#REF!,\"\")","v":{"$error":"#REF!"}},{"$f":"IF(RIGHT('CROSS PSPB'!#REF!,3)=\" IT\",'CROSS PSPB'!#REF!,\"\")","v":{"$error":"#REF!"}},{"$f":"IF(RIGHT('CROSS PSPB'!#REF!,3)=\" IT\",'CROSS PSPB'!#REF!,\"\")","v":{"$error":"#REF!"}},{"$f":"IF(RIGHT('CROSS PSPB'!#REF!,3)=\" IT\",'CROSS PSPB'!#REF!,\"\")","v":{"$error":"#REF!"}},{"$f":"IF(RIGHT('CROSS PSPB'!#REF!,3)=\" IT\",'CROSS PSPB'!#REF!,\"\")","v":{"$error":"#REF!"}},{"$f":"IF(RIGHT('CROSS PSPB'!#REF!,3)=\" IT\",'CROSS PSPB'!#REF!,\"\")","v":{"$error":"#REF!"}},{"$f":"IF(RIGHT('CROSS PSPB'!#REF!,3)=\" IT\",'CROSS PSPB'!#REF!,\"\")","v":{"$error":"#REF!"}},{"$f":"IF(RIGHT('CROSS PSPB'!#REF!,3)=\" IT\",'CROSS PSPB'!#REF!,\"\")","v":{"$error":"#REF!"}},{"$f":"IF(RIGHT('CROSS PSPB'!#REF!,3)=\" IT\",'CROSS PSPB'!#REF!,\"\")","v":{"$error":"#REF!"}},{"$f":"IF(RIGHT('CROSS PSPB'!#REF!,3)=\" IT\",'CROSS PSPB'!#REF!,\"\")","v":{"$error":"#REF!"}},{"$f":"IF(RIGHT('CROSS PSPB'!#REF!,3)=\" IT\",'CROSS PSPB'!#REF!,\"\")","v":{"$error":"#REF!"}},{"$f":"IF(RIGHT('CROSS PSPB'!#REF!,3)=\" IT\",'CROSS PSPB'!#REF!,\"\")","v":{"$error":"#REF!"}},{"$f":"IF(RIGHT('CROSS PSPB'!#REF!,3)=\" IT\",'CROSS PSPB'!#REF!,\"\")","v":{"$error":"#REF!"}},{"$f":"IF(RIGHT('CROSS PSPB'!#REF!,3)=\" IT\",'CROSS PSPB'!#REF!,\"\")","v":{"$error":"#REF!"}},{"$f":"IF(RIGHT('CROSS PSPB'!#REF!,3)=\" IT\",'CROSS PSPB'!#REF!,\"\")","v":{"$error":"#REF!"}},{"$f":"IF(RIGHT('CROSS PSPB'!#REF!,3)=\" IT\",'CROSS PSPB'!#REF!,\"\")","v":{"$error":"#REF!"}},{"$f":"IF(RIGHT('CROSS PSPB'!#REF!,3)=\" IT\",'CROSS PSPB'!#REF!,\"\")","v":{"$error":"#REF!"}},{"$f":"IF(RIGHT('CROSS PSPB'!#REF!,3)=\" IT\",'CROSS PSPB'!#REF!,\"\")","v":{"$error":"#REF!"}},{"$f":"IF(RIGHT('CROSS PSPB'!#REF!,3)=\" IT\",'CROSS PSPB'!#REF!,\"\")","v":{"$error":"#REF!"}},{"$f":"IF(RIGHT('CROSS PSPB'!#REF!,3)=\" IT\",'CROSS PSPB'!#REF!,\"\")","v":{"$error":"#REF!"}},{"$f":"IF(RIGHT('CROSS PSPB'!#REF!,3)=\" IT\",'CROSS PSPB'!#REF!,\"\")","v":{"$error":"#REF!"}},{"$error":"#REF!"},{"$error":"#REF!"},{"$error":"#REF!"},{"$error":"#REF!"}]
[null,{"$f":"IF(RIGHT('CROSS PSPB'!#REF!,3)=\" IT\",'CROSS PSPB'!#REF!,\"\")","v":{"$error":"#REF!"}},{"$f":"IF(RIGHT('CROSS PSPB'!#REF!,3)=\" IT\",'CROSS PSPB'!#REF!,\"\")","v":{"$error":"#REF!"}},{"$f":"IF(RIGHT('CROSS PSPB'!#REF!,3)=\" IT\",'CROSS PSPB'!#REF!,\"\")","v":{"$error":"#REF!"}},{"$f":"IF(RIGHT('CROSS PSPB'!#REF!,3)=\" IT\",'CROSS PSPB'!#REF!,\"\")","v":{"$error":"#REF!"}},{"$f":"IF(RIGHT('CROSS PSPB'!#REF!,3)=\" IT\",'CROSS PSPB'!#REF!,\"\")","v":{"$error":"#REF!"}},{"$f":"IF(RIGHT('CROSS PSPB'!#REF!,3)=\" IT\",'CROSS PSPB'!#REF!,\"\")","v":{"$error":"#REF!"}},{"$f":"IF(RIGHT('CROSS PSPB'!#REF!,3)=\" IT\",'CROSS PSPB'!#REF!,\"\")","v":{"$error":"#REF!"}},{"$f":"IF(RIGHT('CROSS PSPB'!#REF!,3)=\" IT\",'CROSS PSPB'!#REF!,\"\")","v":{"$error":"#REF!"}},{"$f":"IF(RIGHT('CROSS PSPB'!#REF!,3)=\" IT\",'CROSS PSPB'!#REF!,\"\")","v":{"$error":"#REF!"}},{"$f":"IF(RIGHT('CROSS PSPB'!#REF!,3)=\" IT\",'CROSS PSPB'!#REF!,\"\")","v":{"$error":"#REF!"}},{"$f":"IF(RIGHT('CROSS PSPB'!#REF!,3)=\" IT\",'CROSS PSPB'!#REF!,\"\")","v":{"$error":"#REF!"}},{"$f":"IF(RIGHT('CROSS PSPB'!#REF!,3)=\" IT\",'CROSS PSPB'!#REF!,\"\")","v":{"$error":"#REF!"}},{"$f":"IF(RIGHT('CROSS PSPB'!#REF!,3)=\" IT\",'CROSS PSPB'!#REF!,\"\")","v":{"$error":"#REF!"}},{"$f":"IF(RIGHT('CROSS PSPB'!#REF!,3)=\" IT\",'CROSS PSPB'!#REF!,\"\")","v":{"$error":"#REF!"}},{"$f":"IF(RIGHT('CROSS PSPB'!#REF!,3)=\" IT\",'CROSS PSPB'!#REF!,\"\")","v":{"$error":"#REF!"}},{"$f":"IF(RIGHT('CROSS PSPB'!#REF!,3)=\" IT\",'CROSS PSPB'!#REF!,\"\")","v":{"$error":"#REF!"}},{"$f":"IF(RIGHT('CROSS PSPB'!#REF!,3)=\" IT\",'CROSS PSPB'!#REF!,\"\")","v":{"$error":"#REF!"}},{"$f":"IF(RIGHT('CROSS PSPB'!#REF!,3)=\" IT\",'CROSS PSPB'!#REF!,\"\")","v":{"$error":"#REF!"}},{"$f":"IF(RIGHT('CROSS PSPB'!#REF!,3)=\" IT\",'CROSS PSPB'!#REF!,\"\")","v":{"$error":"#REF!"}},{"$f":"IF(RIGHT('CROSS PSPB'!#REF!,3)=\" IT\",'CROSS PSPB'!#REF!,\"\")","v":{"$error":"#REF!"}},{"$f":"IF(RIGHT('CROSS PSPB'!#REF!,3)=\" IT\",'CROSS PSPB'!#REF!,\"\")","v":{"$error":"#REF!"}},{"$f":"IF(RIGHT('CROSS PSPB'!#REF!,3)=\" IT\",'CROSS PSPB'!#REF!,\"\")","v":{"$error":"#REF!"}},{"$f":"IF(RIGHT('CROSS PSPB'!#REF!,3)=\" IT\",'CROSS PSPB'!#REF!,\"\")","v":{"$error":"#REF!"}},{"$f":"IF(RIGHT('CROSS PSPB'!#REF!,3)=\" IT\",'CROSS PSPB'!#REF!,\"\")","v":{"$error":"#REF!"}},{"$f":"IF(RIGHT('CROSS PSPB'!#REF!,3)=\" IT\",'CROSS PSPB'!#REF!,\"\")","v":{"$error":"#REF!"}},{"$f":"IF(RIGHT('CROSS PSPB'!#REF!,3)=\" IT\",'CROSS PSPB'!#REF!,\"\")","v":{"$error":"#REF!"}},{"$f":"IF(RIGHT('CROSS PSPB'!#REF!,3)=\" IT\",'CROSS PSPB'!#REF!,\"\")","v":{"$error":"#REF!"}},{"$f":"IF(RIGHT('CROSS PSPB'!#REF!,3)=\" IT\",'CROSS PSPB'!#REF!,\"\")","v":{"$error":"#REF!"}},{"$f":"IF(RIGHT('CROSS PSPB'!#REF!,3)=\" IT\",'CROSS PSPB'!#REF!,\"\")","v":{"$error":"#REF!"}},{"$f":"IF(RIGHT('CROSS PSPB'!#REF!,3)=\" IT\",'CROSS PSPB'!#REF!,\"\")","v":{"$error":"#REF!"}},{"$f":"IF(RIGHT('CROSS PSPB'!#REF!,3)=\" IT\",'CROSS PSPB'!#REF!,\"\")","v":{"$error":"#REF!"}},{"$f":"IF(RIGHT('CROSS PSPB'!#REF!,3)=\" IT\",'CROSS PSPB'!#REF!,\"\")","v":{"$error":"#REF!"}},{"$f":"IF(RIGHT('CROSS PSPB'!#REF!,3)=\" IT\",'CROSS PSPB'!#REF!,\"\")","v":{"$error":"#REF!"}},{"$f":"IF(RIGHT('CROSS PSPB'!#REF!,3)=\" IT\",'CROSS PSPB'!#REF!,\"\")","v":{"$error":"#REF!"}},{"$f":"IF(RIGHT('CROSS PSPB'!#REF!,3)=\" IT\",'CROSS PSPB'!#REF!,\"\")","v":{"$error":"#REF!"}},{"$f":"IF(RIGHT('CROSS PSPB'!#REF!,3)=\" IT\",'CROSS PSPB'!#REF!,\"\")","v":{"$error":"#REF!"}},{"$f":"IF(RIGHT('CROSS PSPB'!#REF!,3)=\" IT\",'CROSS PSPB'!#REF!,\"\")","v":{"$error":"#REF!"}},{"$f":"IF(RIGHT('CROSS PSPB'!#REF!,3)=\" IT\",'CROSS PSPB'!#REF!,\"\")","v":{"$error":"#REF!"}},{"$f":"IF(RIGHT('CROSS PSPB'!#REF!,3)=\" IT\",'CROSS PSPB'!#REF!,\"\")","v":{"$error":"#REF!"}},{"$f":"IF(RIGHT('CROSS PSPB'!#REF!,3)=\" IT\",'CROSS PSPB'!#REF!,\"\")","v":{"$error":"#REF!"}},{"$f":"IF(RIGHT('CROSS PSPB'!#REF!,3)=\" IT\",'CROSS PSPB'!#REF!,\"\")","v":{"$error":"#REF!"}},{"$f":"IF(RIGHT('CROSS PSPB'!#REF!,3)=\" IT\",'CROSS PSPB'!#REF!,\"\")","v":{"$error":"#REF!"}},{"$f":"IF(RIGHT('CROSS PSPB'!#REF!,3)=\" IT\",'CROSS PSPB'!#REF!,\"\")","v":{"$error":"#REF!"}},{"$f":"IF(RIGHT('CROSS PSPB'!#REF!,3)=\" IT\",'CROSS PSPB'!#REF!,\"\")","v":{"$error":"#REF!"}},{"$f":"IF(RIGHT('CROSS PSPB'!#REF!,3)=\" IT\",'CROSS PSPB'!#REF!,\"\")","v":{"$error":"#REF!"}},{"$f":"IF(RIGHT('CROSS PSPB'!#REF!,3)=\" IT\",'CROSS PSPB'!#REF!,\"\")","v":{"$error":"#REF!"}},{"$f":"IF(RIGHT('CROSS PSPB'!#REF!,3)=\" IT\",'CROSS PSPB'!#REF!,\"\")","v":{"$error":"#REF!"}},{"$f":"IF(RIGHT('CROSS PSPB'!#REF!,3)=\" IT\",'CROSS PSPB'!#REF!,\"\")","v":{"$error":"#REF!"}},{"$f":"IF(RIGHT('CROSS PSPB'!#REF!,3)=\" IT\",'CROSS PSPB'!#REF!,\"\")","v":{"$error":"#REF!"}},{"$f":"IF(RIGHT('CROSS PSPB'!#REF!,3)=\" IT\",'CROSS PSPB'!#REF!,\"\")","v":{"$error":"#REF!"}},{"$f":"IF(RIGHT('CROSS PSPB'!#REF!,3)=\" IT\",'CROSS PSPB'!#REF!,\"\")","v":{"$error":"#REF!"}},{"$error":"#REF!"},{"$error":"#REF!"},{"$error":"#REF!"},{"$error":"#REF!"}]
[null,{"$f":"IF(RIGHT('CROSS PSPB'!#REF!,3)=\" IT\",'CROSS PSPB'!#REF!,\"\")","v":{"$error":"#REF!"}},{"$f":"IF(RIGHT('CROSS PSPB'!#REF!,3)=\" IT\",'CROSS PSPB'!#REF!,\"\")","v":{"$error":"#REF!"}},{"$f":"IF(RIGHT('CROSS PSPB'!#REF!,3)=\" IT\",'CROSS PSPB'!#REF!,\"\")","v":{"$error":"#REF!"}},{"$f":"IF(RIGHT('CROSS PSPB'!#REF!,3)=\" IT\",'CROSS PSPB'!#REF!,\"\")","v":{"$error":"#REF!"}},{"$f":"IF(RIGHT('CROSS PSPB'!#REF!,3)=\" IT\",'CROSS PSPB'!#REF!,\"\")","v":{"$error":"#REF!"}},{"$f":"IF(RIGHT('CROSS PSPB'!#REF!,3)=\" IT\",'CROSS PSPB'!#REF!,\"\")","v":{"$error":"#REF!"}},{"$f":"IF(RIGHT('CROSS PSPB'!#REF!,3)=\" IT\",'CROSS PSPB'!#REF!,\"\")","v":{"$error":"#REF!"}},{"$f":"IF(RIGHT('CROSS PSPB'!#REF!,3)=\" IT\",'CROSS PSPB'!#REF!,\"\")","v":{"$error":"#REF!"}},{"$f":"IF(RIGHT('CROSS PSPB'!#REF!,3)=\" IT\",'CROSS PSPB'!#REF!,\"\")","v":{"$error":"#REF!"}},{"$f":"IF(RIGHT('CROSS PSPB'!#REF!,3)=\" IT\",'CROSS PSPB'!#REF!,\"\")","v":{"$error":"#REF!"}},{"$f":"IF(RIGHT('CROSS PSPB'!#REF!,3)=\" IT\",'CROSS PSPB'!#REF!,\"\")","v":{"$error":"#REF!"}},{"$f":"IF(RIGHT('CROSS PSPB'!#REF!,3)=\" IT\",'CROSS PSPB'!#REF!,\"\")","v":{"$error":"#REF!"}},{"$f":"IF(RIGHT('CROSS PSPB'!#REF!,3)=\" IT\",'CROSS PSPB'!#REF!,\"\")","v":{"$error":"#REF!"}},{"$f":"IF(RIGHT('CROSS PSPB'!#REF!,3)=\" IT\",'CROSS PSPB'!#REF!,\"\")","v":{"$error":"#REF!"}},{"$f":"IF(RIGHT('CROSS PSPB'!#REF!,3)=\" IT\",'CROSS PSPB'!#REF!,\"\")","v":{"$error":"#REF!"}},{"$f":"IF(RIGHT('CROSS PSPB'!#REF!,3)=\" IT\",'CROSS PSPB'!#REF!,\"\")","v":{"$error":"#REF!"}},{"$f":"IF(RIGHT('CROSS PSPB'!#REF!,3)=\" IT\",'CROSS PSPB'!#REF!,\"\")","v":{"$error":"#REF!"}},{"$f":"IF(RIGHT('CROSS PSPB'!#REF!,3)=\" IT\",'CROSS PSPB'!#REF!,\"\")","v":{"$error":"#REF!"}},{"$f":"IF(RIGHT('CROSS PSPB'!#REF!,3)=\" IT\",'CROSS PSPB'!#REF!,\"\")","v":{"$error":"#REF!"}},{"$f":"IF(RIGHT('CROSS PSPB'!#REF!,3)=\" IT\",'CROSS PSPB'!#REF!,\"\")","v":{"$error":"#REF!"}},{"$f":"IF(RIGHT('CROSS PSPB'!#REF!,3)=\" IT\",'CROSS PSPB'!#REF!,\"\")","v":{"$error":"#REF!"}},{"$f":"IF(RIGHT('CROSS PSPB'!#REF!,3)=\" IT\",'CROSS PSPB'!#REF!,\"\")","v":{"$error":"#REF!"}},{"$f":"IF(RIGHT('CROSS PSPB'!#REF!,3)=\" IT\",'CROSS PSPB'!#REF!,\"\")","v":{"$error":"#REF!"}},{"$f":"IF(RIGHT('CROSS PSPB'!#REF!,3)=\" IT\",'CROSS PSPB'!#REF!,\"\")","v":{"$error":"#REF!"}},{"$f":"IF(RIGHT('CROSS PSPB'!#REF!,3)=\" IT\",'CROSS PSPB'!#REF!,\"\")","v":{"$error":"#REF!"}},{"$f":"IF(RIGHT('CROSS PSPB'!#REF!,3)=\" IT\",'CROSS PSPB'!#REF!,\"\")","v":{"$error":"#REF!"}},{"$f":"IF(RIGHT('CROSS PSPB'!#REF!,3)=\" IT\",'CROSS PSPB'!#REF!,\"\")","v":{"$error":"#REF!"}},{"$f":"IF(RIGHT('CROSS PSPB'!#REF!,3)=\" IT\",'CROSS PSPB'!#REF!,\"\")","v":{"$error":"#REF!"}},{"$f":"IF(RIGHT('CROSS PSPB'!#REF!,3)=\" IT\",'CROSS PSPB'!#REF!,\"\")","v":{"$error":"#REF!"}},{"$f":"IF(RIGHT('CROSS PSPB'!#REF!,3)=\" IT\",'CROSS PSPB'!#REF!,\"\")","v":{"$error":"#REF!"}},{"$f":"IF(RIGHT('CROSS PSPB'!#REF!,3)=\" IT\",'CROSS PSPB'!#REF!,\"\")","v":{"$error":"#REF!"}},{"$f":"IF(RIGHT('CROSS PSPB'!#REF!,3)=\" IT\",'CROSS PSPB'!#REF!,\"\")","v":{"$error":"#REF!"}},{"$f":"IF(RIGHT('CROSS PSPB'!#REF!,3)=\" IT\",'CROSS PSPB'!#REF!,\"\")","v":{"$error":"#REF!"}},{"$f":"IF(RIGHT('CROSS PSPB'!#REF!,3)=\" IT\",'CROSS PSPB'!#REF!,\"\")","v":{"$error":"#REF!"}},{"$f":"IF(RIGHT('CROSS PSPB'!#REF!,3)=\" IT\",'CROSS PSPB'!#REF!,\"\")","v":{"$error":"#REF!"}},{"$f":"IF(RIGHT('CROSS PSPB'!#REF!,3)=\" IT\",'CROSS PSPB'!#REF!,\"\")","v":{"$error":"#REF!"}},{"$f":"IF(RIGHT('CROSS PSPB'!#REF!,3)=\" IT\",'CROSS PSPB'!#REF!,\"\")","v":{"$error":"#REF!"}},{"$f":"IF(RIGHT('CROSS PSPB'!#REF!,3)=\" IT\",'CROSS PSPB'!#REF!,\"\")","v":{"$error":"#REF!"}},{"$f":"IF(RIGHT('CROSS PSPB'!#REF!,3)=\" IT\",'CROSS PSPB'!#REF!,\"\")","v":{"$error":"#REF!"}},{"$f":"IF(RIGHT('CROSS PSPB'!#REF!,3)=\" IT\",'CROSS PSPB'!#REF!,\"\")","v":{"$error":"#REF!"}},{"$f":"IF(RIGHT('CROSS PSPB'!#REF!,3)=\" IT\",'CROSS PSPB'!#REF!,\"\")","v":{"$error":"#REF!"}},{"$f":"IF(RIGHT('CROSS PSPB'!#REF!,3)=\" IT\",'CROSS PSPB'!#REF!,\"\")","v":{"$error":"#REF!"}},{"$f":"IF(RIGHT('CROSS PSPB'!#REF!,3)=\" IT\",'CROSS PSPB'!#REF!,\"\")","v":{"$error":"#REF!"}},{"$f":"IF(RIGHT('CROSS PSPB'!#REF!,3)=\" IT\",'CROSS PSPB'!#REF!,\"\")","v":{"$error":"#REF!"}},{"$f":"IF(RIGHT('CROSS PSPB'!#REF!,3)=\" IT\",'CROSS PSPB'!#REF!,\"\")","v":{"$error":"#REF!"}},{"$f":"IF(RIGHT('CROSS PSPB'!#REF!,3)=\" IT\",'CROSS PSPB'!#REF!,\"\")","v":{"$error":"#REF!"}},{"$f":"IF(RIGHT('CROSS PSPB'!#REF!,3)=\" IT\",'CROSS PSPB'!#REF!,\"\")","v":{"$error":"#REF!"}},{"$f":"IF(RIGHT('CROSS PSPB'!#REF!,3)=\" IT\",'CROSS PSPB'!#REF!,\"\")","v":{"$error":"#REF!"}},{"$f":"IF(RIGHT('CROSS PSPB'!#REF!,3)=\" IT\",'CROSS PSPB'!#REF!,\"\")","v":{"$error":"#REF!"}},{"$f":"IF(RIGHT('CROSS PSPB'!#REF!,3)=\" IT\",'CROSS PSPB'!#REF!,\"\")","v":{"$error":"#REF!"}},{"$f":"IF(RIGHT('CROSS PSPB'!#REF!,3)=\" IT\",'CROSS PSPB'!#REF!,\"\")","v":{"$error":"#REF!"}},{"$error":"#REF!"},{"$error":"#REF!"},{"$error":"#REF!"},{"$error":"#REF!"}]
[null,{"$f":"IF(RIGHT('CROSS PSPB'!#REF!,3)=\" IT\",'CROSS PSPB'!#REF!,\"\")","v":{"$error":"#REF!"}},{"$f":"IF(RIGHT('CROSS PSPB'!#REF!,3)=\" IT\",'CROSS PSPB'!#REF!,\"\")","v":{"$error":"#REF!"}},{"$f":"IF(RIGHT('CROSS PSPB'!#REF!,3)=\" IT\",'CROSS PSPB'!#REF!,\"\")","v":{"$error":"#REF!"}},{"$f":"IF(RIGHT('CROSS PSPB'!#REF!,3)=\" IT\",'CROSS PSPB'!#REF!,\"\")","v":{"$error":"#REF!"}},{"$f":"IF(RIGHT('CROSS PSPB'!#REF!,3)=\" IT\",'CROSS PSPB'!#REF!,\"\")","v":{"$error":"#REF!"}},{"$f":"IF(RIGHT('CROSS PSPB'!#REF!,3)=\" IT\",'CROSS PSPB'!#REF!,\"\")","v":{"$error":"#REF!"}},{"$f":"IF(RIGHT('CROSS PSPB'!#REF!,3)=\" IT\",'CROSS PSPB'!#REF!,\"\")","v":{"$error":"#REF!"}},{"$f":"IF(RIGHT('CROSS PSPB'!#REF!,3)=\" IT\",'CROSS PSPB'!#REF!,\"\")","v":{"$error":"#REF!"}},{"$f":"IF(RIGHT('CROSS PSPB'!#REF!,3)=\" IT\",'CROSS PSPB'!#REF!,\"\")","v":{"$error":"#REF!"}},{"$f":"IF(RIGHT('CROSS PSPB'!#REF!,3)=\" IT\",'CROSS PSPB'!#REF!,\"\")","v":{"$error":"#REF!"}},{"$f":"IF(RIGHT('CROSS PSPB'!#REF!,3)=\" IT\",'CROSS PSPB'!#REF!,\"\")","v":{"$error":"#REF!"}},{"$f":"IF(RIGHT('CROSS PSPB'!#REF!,3)=\" IT\",'CROSS PSPB'!#REF!,\"\")","v":{"$error":"#REF!"}},{"$f":"IF(RIGHT('CROSS PSPB'!#REF!,3)=\" IT\",'CROSS PSPB'!#REF!,\"\")","v":{"$error":"#REF!"}},{"$f":"IF(RIGHT('CROSS PSPB'!#REF!,3)=\" IT\",'CROSS PSPB'!#REF!,\"\")","v":{"$error":"#REF!"}},{"$f":"IF(RIGHT('CROSS PSPB'!#REF!,3)=\" IT\",'CROSS PSPB'!#REF!,\"\")","v":{"$error":"#REF!"}},{"$f":"IF(RIGHT('CROSS PSPB'!#REF!,3)=\" IT\",'CROSS PSPB'!#REF!,\"\")","v":{"$error":"#REF!"}},{"$f":"IF(RIGHT('CROSS PSPB'!#REF!,3)=\" IT\",'CROSS PSPB'!#REF!,\"\")","v":{"$error":"#REF!"}},{"$f":"IF(RIGHT('CROSS PSPB'!#REF!,3)=\" IT\",'CROSS PSPB'!#REF!,\"\")","v":{"$error":"#REF!"}},{"$f":"IF(RIGHT('CROSS PSPB'!#REF!,3)=\" IT\",'CROSS PSPB'!#REF!,\"\")","v":{"$error":"#REF!"}},{"$f":"IF(RIGHT('CROSS PSPB'!#REF!,3)=\" IT\",'CROSS PSPB'!#REF!,\"\")","v":{"$error":"#REF!"}},{"$f":"IF(RIGHT('CROSS PSPB'!#REF!,3)=\" IT\",'CROSS PSPB'!#REF!,\"\")","v":{"$error":"#REF!"}},{"$f":"IF(RIGHT('CROSS PSPB'!#REF!,3)=\" IT\",'CROSS PSPB'!#REF!,\"\")","v":{"$error":"#REF!"}},{"$f":"IF(RIGHT('CROSS PSPB'!#REF!,3)=\" IT\",'CROSS PSPB'!#REF!,\"\")","v":{"$error":"#REF!"}},{"$f":"IF(RIGHT('CROSS PSPB'!#REF!,3)=\" IT\",'CROSS PSPB'!#REF!,\"\")","v":{"$error":"#REF!"}},{"$f":"IF(RIGHT('CROSS PSPB'!#REF!,3)=\" IT\",'CROSS PSPB'!#REF!,\"\")","v":{"$error":"#REF!"}},{"$f":"IF(RIGHT('CROSS PSPB'!#REF!,3)=\" IT\",'CROSS PSPB'!#REF!,\"\")","v":{"$error":"#REF!"}},{"$f":"IF(RIGHT('CROSS PSPB'!#REF!,3)=\" IT\",'CROSS PSPB'!#REF!,\"\")","v":{"$error":"#REF!"}},{"$f":"IF(RIGHT('CROSS PSPB'!#REF!,3)=\" IT\",'CROSS PSPB'!#REF!,\"\")","v":{"$error":"#REF!"}},{"$f":"IF(RIGHT('CROSS PSPB'!#REF!,3)=\" IT\",'CROSS PSPB'!#REF!,\"\")","v":{"$error":"#REF!"}},{"$f":"IF(RIGHT('CROSS PSPB'!#REF!,3)=\" IT\",'CROSS PSPB'!#REF!,\"\")","v":{"$error":"#REF!"}},{"$f":"IF(RIGHT('CROSS PSPB'!#REF!,3)=\" IT\",'CROSS PSPB'!#REF!,\"\")","v":{"$error":"#REF!"}},{"$f":"IF(RIGHT('CROSS PSPB'!#REF!,3)=\" IT\",'CROSS PSPB'!#REF!,\"\")","v":{"$error":"#REF!"}},{"$f":"IF(RIGHT('CROSS PSPB'!#REF!,3)=\" IT\",'CROSS PSPB'!#REF!,\"\")","v":{"$error":"#REF!"}},{"$f":"IF(RIGHT('CROSS PSPB'!#REF!,3)=\" IT\",'CROSS PSPB'!#REF!,\"\")","v":{"$error":"#REF!"}},{"$f":"IF(RIGHT('CROSS PSPB'!#REF!,3)=\" IT\",'CROSS PSPB'!#REF!,\"\")","v":{"$error":"#REF!"}},{"$f":"IF(RIGHT('CROSS PSPB'!#REF!,3)=\" IT\",'CROSS PSPB'!#REF!,\"\")","v":{"$error":"#REF!"}},{"$f":"IF(RIGHT('CROSS PSPB'!#REF!,3)=\" IT\",'CROSS PSPB'!#REF!,\"\")","v":{"$error":"#REF!"}},{"$f":"IF(RIGHT('CROSS PSPB'!#REF!,3)=\" IT\",'CROSS PSPB'!#REF!,\"\")","v":{"$error":"#REF!"}},{"$f":"IF(RIGHT('CROSS PSPB'!#REF!,3)=\" IT\",'CROSS PSPB'!#REF!,\"\")","v":{"$error":"#REF!"}},{"$f":"IF(RIGHT('CROSS PSPB'!#REF!,3)=\" IT\",'CROSS PSPB'!#REF!,\"\")","v":{"$error":"#REF!"}},{"$f":"IF(RIGHT('CROSS PSPB'!#REF!,3)=\" IT\",'CROSS PSPB'!#REF!,\"\")","v":{"$error":"#REF!"}},{"$f":"IF(RIGHT('CROSS PSPB'!#REF!,3)=\" IT\",'CROSS PSPB'!#REF!,\"\")","v":{"$error":"#REF!"}},{"$f":"IF(RIGHT('CROSS PSPB'!#REF!,3)=\" IT\",'CROSS PSPB'!#REF!,\"\")","v":{"$error":"#REF!"}},{"$f":"IF(RIGHT('CROSS PSPB'!#REF!,3)=\" IT\",'CROSS PSPB'!#REF!,\"\")","v":{"$error":"#REF!"}},{"$f":"IF(RIGHT('CROSS PSPB'!#REF!,3)=\" IT\",'CROSS PSPB'!#REF!,\"\")","v":{"$error":"#REF!"}},{"$f":"IF(RIGHT('CROSS PSPB'!#REF!,3)=\" IT\",'CROSS PSPB'!#REF!,\"\")","v":{"$error":"#REF!"}},{"$f":"IF(RIGHT('CROSS PSPB'!#REF!,3)=\" IT\",'CROSS PSPB'!#REF!,\"\")","v":{"$error":"#REF!"}},{"$f":"IF(RIGHT('CROSS PSPB'!#REF!,3)=\" IT\",'CROSS PSPB'!#REF!,\"\")","v":{"$error":"#REF!"}},{"$f":"IF(RIGHT('CROSS PSPB'!#REF!,3)=\" IT\",'CROSS PSPB'!#REF!,\"\")","v":{"$error":"#REF!"}},{"$f":"IF(RIGHT('CROSS PSPB'!#REF!,3)=\" IT\",'CROSS PSPB'!#REF!,\"\")","v":{"$error":"#REF!"}},{"$f":"IF(RIGHT('CROSS PSPB'!#REF!,3)=\" IT\",'CROSS PSPB'!#REF!,\"\")","v":{"$error":"#REF!"}},{"$error":"#REF!"},{"$error":"#REF!"},{"$error":"#REF!"},{"$error":"#REF!"}]
[null,{"$f":"IF(RIGHT('CROSS PSPB'!#REF!,3)=\" IT\",'CROSS PSPB'!#REF!,\"\")","v":{"$error":"#REF!"}},{"$f":"IF(RIGHT('CROSS PSPB'!#REF!,3)=\" IT\",'CROSS PSPB'!#REF!,\"\")","v":{"$error":"#REF!"}},{"$f":"IF(RIGHT('CROSS PSPB'!#REF!,3)=\" IT\",'CROSS PSPB'!#REF!,\"\")","v":{"$error":"#REF!"}},{"$f":"IF(RIGHT('CROSS PSPB'!#REF!,3)=\" IT\",'CROSS PSPB'!#REF!,\"\")","v":{"$error":"#REF!"}},{"$f":"IF(RIGHT('CROSS PSPB'!#REF!,3)=\" IT\",'CROSS PSPB'!#REF!,\"\")","v":{"$error":"#REF!"}},{"$f":"IF(RIGHT('CROSS PSPB'!#REF!,3)=\" IT\",'CROSS PSPB'!#REF!,\"\")","v":{"$error":"#REF!"}},{"$f":"IF(RIGHT('CROSS PSPB'!#REF!,3)=\" IT\",'CROSS PSPB'!#REF!,\"\")","v":{"$error":"#REF!"}},{"$f":"IF(RIGHT('CROSS PSPB'!#REF!,3)=\" IT\",'CROSS PSPB'!#REF!,\"\")","v":{"$error":"#REF!"}},{"$f":"IF(RIGHT('CROSS PSPB'!#REF!,3)=\" IT\",'CROSS PSPB'!#REF!,\"\")","v":{"$error":"#REF!"}},{"$f":"IF(RIGHT('CROSS PSPB'!#REF!,3)=\" IT\",'CROSS PSPB'!#REF!,\"\")","v":{"$error":"#REF!"}},{"$f":"IF(RIGHT('CROSS PSPB'!#REF!,3)=\" IT\",'CROSS PSPB'!#REF!,\"\")","v":{"$error":"#REF!"}},{"$f":"IF(RIGHT('CROSS PSPB'!#REF!,3)=\" IT\",'CROSS PSPB'!#REF!,\"\")","v":{"$error":"#REF!"}},{"$f":"IF(RIGHT('CROSS PSPB'!#REF!,3)=\" IT\",'CROSS PSPB'!#REF!,\"\")","v":{"$error":"#REF!"}},{"$f":"IF(RIGHT('CROSS PSPB'!#REF!,3)=\" IT\",'CROSS PSPB'!#REF!,\"\")","v":{"$error":"#REF!"}},{"$f":"IF(RIGHT('CROSS PSPB'!#REF!,3)=\" IT\",'CROSS PSPB'!#REF!,\"\")","v":{"$error":"#REF!"}},{"$f":"IF(RIGHT('CROSS PSPB'!#REF!,3)=\" IT\",'CROSS PSPB'!#REF!,\"\")","v":{"$error":"#REF!"}},{"$f":"IF(RIGHT('CROSS PSPB'!#REF!,3)=\" IT\",'CROSS PSPB'!#REF!,\"\")","v":{"$error":"#REF!"}},{"$f":"IF(RIGHT('CROSS PSPB'!#REF!,3)=\" IT\",'CROSS PSPB'!#REF!,\"\")","v":{"$error":"#REF!"}},{"$f":"IF(RIGHT('CROSS PSPB'!#REF!,3)=\" IT\",'CROSS PSPB'!#REF!,\"\")","v":{"$error":"#REF!"}},{"$f":"IF(RIGHT('CROSS PSPB'!#REF!,3)=\" IT\",'CROSS PSPB'!#REF!,\"\")","v":{"$error":"#REF!"}},{"$f":"IF(RIGHT('CROSS PSPB'!#REF!,3)=\" IT\",'CROSS PSPB'!#REF!,\"\")","v":{"$error":"#REF!"}},{"$f":"IF(RIGHT('CROSS PSPB'!#REF!,3)=\" IT\",'CROSS PSPB'!#REF!,\"\")","v":{"$error":"#REF!"}},{"$f":"IF(RIGHT('CROSS PSPB'!#REF!,3)=\" IT\",'CROSS PSPB'!#REF!,\"\")","v":{"$error":"#REF!"}},{"$f":"IF(RIGHT('CROSS PSPB'!#REF!,3)=\" IT\",'CROSS PSPB'!#REF!,\"\")","v":{"$error":"#REF!"}},{"$f":"IF(RIGHT('CROSS PSPB'!#REF!,3)=\" IT\",'CROSS PSPB'!#REF!,\"\")","v":{"$error":"#REF!"}},{"$f":"IF(RIGHT('CROSS PSPB'!#REF!,3)=\" IT\",'CROSS PSPB'!#REF!,\"\")","v":{"$error":"#REF!"}},{"$f":"IF(RIGHT('CROSS PSPB'!#REF!,3)=\" IT\",'CROSS PSPB'!#REF!,\"\")","v":{"$error":"#REF!"}},{"$f":"IF(RIGHT('CROSS PSPB'!#REF!,3)=\" IT\",'CROSS PSPB'!#REF!,\"\")","v":{"$error":"#REF!"}},{"$f":"IF(RIGHT('CROSS PSPB'!#REF!,3)=\" IT\",'CROSS PSPB'!#REF!,\"\")","v":{"$error":"#REF!"}},{"$f":"IF(RIGHT('CROSS PSPB'!#REF!,3)=\" IT\",'CROSS PSPB'!#REF!,\"\")","v":{"$error":"#REF!"}},{"$f":"IF(RIGHT('CROSS PSPB'!#REF!,3)=\" IT\",'CROSS PSPB'!#REF!,\"\")","v":{"$error":"#REF!"}},{"$f":"IF(RIGHT('CROSS PSPB'!#REF!,3)=\" IT\",'CROSS PSPB'!#REF!,\"\")","v":{"$error":"#REF!"}},{"$f":"IF(RIGHT('CROSS PSPB'!#REF!,3)=\" IT\",'CROSS PSPB'!#REF!,\"\")","v":{"$error":"#REF!"}},{"$f":"IF(RIGHT('CROSS PSPB'!#REF!,3)=\" IT\",'CROSS PSPB'!#REF!,\"\")","v":{"$error":"#REF!"}},{"$f":"IF(RIGHT('CROSS PSPB'!#REF!,3)=\" IT\",'CROSS PSPB'!#REF!,\"\")","v":{"$error":"#REF!"}},{"$f":"IF(RIGHT('CROSS PSPB'!#REF!,3)=\" IT\",'CROSS PSPB'!#REF!,\"\")","v":{"$error":"#REF!"}},{"$f":"IF(RIGHT('CROSS PSPB'!#REF!,3)=\" IT\",'CROSS PSPB'!#REF!,\"\")","v":{"$error":"#REF!"}},{"$f":"IF(RIGHT('CROSS PSPB'!#REF!,3)=\" IT\",'CROSS PSPB'!#REF!,\"\")","v":{"$error":"#REF!"}},{"$f":"IF(RIGHT('CROSS PSPB'!#REF!,3)=\" IT\",'CROSS PSPB'!#REF!,\"\")","v":{"$error":"#REF!"}},{"$f":"IF(RIGHT('CROSS PSPB'!#REF!,3)=\" IT\",'CROSS PSPB'!#REF!,\"\")","v":{"$error":"#REF!"}},{"$f":"IF(RIGHT('CROSS PSPB'!#REF!,3)=\" IT\",'CROSS PSPB'!#REF!,\"\")","v":{"$error":"#REF!"}},{"$f":"IF(RIGHT('CROSS PSPB'!#REF!,3)=\" IT\",'CROSS PSPB'!#REF!,\"\")","v":{"$error":"#REF!"}},{"$f":"IF(RIGHT('CROSS PSPB'!#REF!,3)=\" IT\",'CROSS PSPB'!#REF!,\"\")","v":{"$error":"#REF!"}},{"$f":"IF(RIGHT('CROSS PSPB'!#REF!,3)=\" IT\",'CROSS PSPB'!#REF!,\"\")","v":{"$error":"#REF!"}},{"$f":"IF(RIGHT('CROSS PSPB'!#REF!,3)=\" IT\",'CROSS PSPB'!#REF!,\"\")","v":{"$error":"#REF!"}},{"$f":"IF(RIGHT('CROSS PSPB'!#REF!,3)=\" IT\",'CROSS PSPB'!#REF!,\"\")","v":{"$error":"#REF!"}},{"$f":"IF(RIGHT('CROSS PSPB'!#REF!,3)=\" IT\",'CROSS PSPB'!#REF!,\"\")","v":{"$error":"#REF!"}},{"$f":"IF(RIGHT('CROSS PSPB'!#REF!,3)=\" IT\",'CROSS PSPB'!#REF!,\"\")","v":{"$error":"#REF!"}},{"$f":"IF(RIGHT('CROSS PSPB'!#REF!,3)=\" IT\",'CROSS PSPB'!#REF!,\"\")","v":{"$error":"#REF!"}},{"$f":"IF(RIGHT('CROSS PSPB'!#REF!,3)=\" IT\",'CROSS PSPB'!#REF!,\"\")","v":{"$error":"#REF!"}},{"$f":"IF(RIGHT('CROSS PSPB'!#REF!,3)=\" IT\",'CROSS PSPB'!#REF!,\"\")","v":{"$error":"#REF!"}},{"$error":"#REF!"},{"$error":"#REF!"},{"$error":"#REF!"},{"$error":"#REF!"}]
[null,{"$f":"IF(RIGHT('CROSS PSPB'!#REF!,3)=\" IT\",'CROSS PSPB'!#REF!,\"\")","v":{"$error":"#REF!"}},{"$f":"IF(RIGHT('CROSS PSPB'!#REF!,3)=\" IT\",'CROSS PSPB'!#REF!,\"\")","v":{"$error":"#REF!"}},{"$f":"IF(RIGHT('CROSS PSPB'!#REF!,3)=\" IT\",'CROSS PSPB'!#REF!,\"\")","v":{"$error":"#REF!"}},{"$f":"IF(RIGHT('CROSS PSPB'!#REF!,3)=\" IT\",'CROSS PSPB'!#REF!,\"\")","v":{"$error":"#REF!"}},{"$f":"IF(RIGHT('CROSS PSPB'!#REF!,3)=\" IT\",'CROSS PSPB'!#REF!,\"\")","v":{"$error":"#REF!"}},{"$f":"IF(RIGHT('CROSS PSPB'!#REF!,3)=\" IT\",'CROSS PSPB'!#REF!,\"\")","v":{"$error":"#REF!"}},{"$f":"IF(RIGHT('CROSS PSPB'!#REF!,3)=\" IT\",'CROSS PSPB'!#REF!,\"\")","v":{"$error":"#REF!"}},{"$f":"IF(RIGHT('CROSS PSPB'!#REF!,3)=\" IT\",'CROSS PSPB'!#REF!,\"\")","v":{"$error":"#REF!"}},{"$f":"IF(RIGHT('CROSS PSPB'!#REF!,3)=\" IT\",'CROSS PSPB'!#REF!,\"\")","v":{"$error":"#REF!"}},{"$f":"IF(RIGHT('CROSS PSPB'!#REF!,3)=\" IT\",'CROSS PSPB'!#REF!,\"\")","v":{"$error":"#REF!"}},{"$f":"IF(RIGHT('CROSS PSPB'!#REF!,3)=\" IT\",'CROSS PSPB'!#REF!,\"\")","v":{"$error":"#REF!"}},{"$f":"IF(RIGHT('CROSS PSPB'!#REF!,3)=\" IT\",'CROSS PSPB'!#REF!,\"\")","v":{"$error":"#REF!"}},{"$f":"IF(RIGHT('CROSS PSPB'!#REF!,3)=\" IT\",'CROSS PSPB'!#REF!,\"\")","v":{"$error":"#REF!"}},{"$f":"IF(RIGHT('CROSS PSPB'!#REF!,3)=\" IT\",'CROSS PSPB'!#REF!,\"\")","v":{"$error":"#REF!"}},{"$f":"IF(RIGHT('CROSS PSPB'!#REF!,3)=\" IT\",'CROSS PSPB'!#REF!,\"\")","v":{"$error":"#REF!"}},{"$f":"IF(RIGHT('CROSS PSPB'!#REF!,3)=\" IT\",'CROSS PSPB'!#REF!,\"\")","v":{"$error":"#REF!"}},{"$f":"IF(RIGHT('CROSS PSPB'!#REF!,3)=\" IT\",'CROSS PSPB'!#REF!,\"\")","v":{"$error":"#REF!"}},{"$f":"IF(RIGHT('CROSS PSPB'!#REF!,3)=\" IT\",'CROSS PSPB'!#REF!,\"\")","v":{"$error":"#REF!"}},{"$f":"IF(RIGHT('CROSS PSPB'!#REF!,3)=\" IT\",'CROSS PSPB'!#REF!,\"\")","v":{"$error":"#REF!"}},{"$f":"IF(RIGHT('CROSS PSPB'!#REF!,3)=\" IT\",'CROSS PSPB'!#REF!,\"\")","v":{"$error":"#REF!"}},{"$f":"IF(RIGHT('CROSS PSPB'!#REF!,3)=\" IT\",'CROSS PSPB'!#REF!,\"\")","v":{"$error":"#REF!"}},{"$f":"IF(RIGHT('CROSS PSPB'!#REF!,3)=\" IT\",'CROSS PSPB'!#REF!,\"\")","v":{"$error":"#REF!"}},{"$f":"IF(RIGHT('CROSS PSPB'!#REF!,3)=\" IT\",'CROSS PSPB'!#REF!,\"\")","v":{"$error":"#REF!"}},{"$f":"IF(RIGHT('CROSS PSPB'!#REF!,3)=\" IT\",'CROSS PSPB'!#REF!,\"\")","v":{"$error":"#REF!"}},{"$f":"IF(RIGHT('CROSS PSPB'!#REF!,3)=\" IT\",'CROSS PSPB'!#REF!,\"\")","v":{"$error":"#REF!"}},{"$f":"IF(RIGHT('CROSS PSPB'!#REF!,3)=\" IT\",'CROSS PSPB'!#REF!,\"\")","v":{"$error":"#REF!"}},{"$f":"IF(RIGHT('CROSS PSPB'!#REF!,3)=\" IT\",'CROSS PSPB'!#REF!,\"\")","v":{"$error":"#REF!"}},{"$f":"IF(RIGHT('CROSS PSPB'!#REF!,3)=\" IT\",'CROSS PSPB'!#REF!,\"\")","v":{"$error":"#REF!"}},{"$f":"IF(RIGHT('CROSS PSPB'!#REF!,3)=\" IT\",'CROSS PSPB'!#REF!,\"\")","v":{"$error":"#REF!"}},{"$f":"IF(RIGHT('CROSS PSPB'!#REF!,3)=\" IT\",'CROSS PSPB'!#REF!,\"\")","v":{"$error":"#REF!"}},{"$f":"IF(RIGHT('CROSS PSPB'!#REF!,3)=\" IT\",'CROSS PSPB'!#REF!,\"\")","v":{"$error":"#REF!"}},{"$f":"IF(RIGHT('CROSS PSPB'!#REF!,3)=\" IT\",'CROSS PSPB'!#REF!,\"\")","v":{"$error":"#REF!"}},{"$f":"IF(RIGHT('CROSS PSPB'!#REF!,3)=\" IT\",'CROSS PSPB'!#REF!,\"\")","v":{"$error":"#REF!"}},{"$f":"IF(RIGHT('CROSS PSPB'!#REF!,3)=\" IT\",'CROSS PSPB'!#REF!,\"\")","v":{"$error":"#REF!"}},{"$f":"IF(RIGHT('CROSS PSPB'!#REF!,3)=\" IT\",'CROSS PSPB'!#REF!,\"\")","v":{"$error":"#REF!"}},{"$f":"IF(RIGHT('CROSS PSPB'!#REF!,3)=\" IT\",'CROSS PSPB'!#REF!,\"\")","v":{"$error":"#REF!"}},{"$f":"IF(RIGHT('CROSS PSPB'!#REF!,3)=\" IT\",'CROSS PSPB'!#REF!,\"\")","v":{"$error":"#REF!"}},{"$f":"IF(RIGHT('CROSS PSPB'!#REF!,3)=\" IT\",'CROSS PSPB'!#REF!,\"\")","v":{"$error":"#REF!"}},{"$f":"IF(RIGHT('CROSS PSPB'!#REF!,3)=\" IT\",'CROSS PSPB'!#REF!,\"\")","v":{"$error":"#REF!"}},{"$f":"IF(RIGHT('CROSS PSPB'!#REF!,3)=\" IT\",'CROSS PSPB'!#REF!,\"\")","v":{"$error":"#REF!"}},{"$f":"IF(RIGHT('CROSS PSPB'!#REF!,3)=\" IT\",'CROSS PSPB'!#REF!,\"\")","v":{"$error":"#REF!"}},{"$f":"IF(RIGHT('CROSS PSPB'!#REF!,3)=\" IT\",'CROSS PSPB'!#REF!,\"\")","v":{"$error":"#REF!"}},{"$f":"IF(RIGHT('CROSS PSPB'!#REF!,3)=\" IT\",'CROSS PSPB'!#REF!,\"\")","v":{"$error":"#REF!"}},{"$f":"IF(RIGHT('CROSS PSPB'!#REF!,3)=\" IT\",'CROSS PSPB'!#REF!,\"\")","v":{"$error":"#REF!"}},{"$f":"IF(RIGHT('CROSS PSPB'!#REF!,3)=\" IT\",'CROSS PSPB'!#REF!,\"\")","v":{"$error":"#REF!"}},{"$f":"IF(RIGHT('CROSS PSPB'!#REF!,3)=\" IT\",'CROSS PSPB'!#REF!,\"\")","v":{"$error":"#REF!"}},{"$f":"IF(RIGHT('CROSS PSPB'!#REF!,3)=\" IT\",'CROSS PSPB'!#REF!,\"\")","v":{"$error":"#REF!"}},{"$f":"IF(RIGHT('CROSS PSPB'!#REF!,3)=\" IT\",'CROSS PSPB'!#REF!,\"\")","v":{"$error":"#REF!"}},{"$f":"IF(RIGHT('CROSS PSPB'!#REF!,3)=\" IT\",'CROSS PSPB'!#REF!,\"\")","v":{"$error":"#REF!"}},{"$f":"IF(RIGHT('CROSS PSPB'!#REF!,3)=\" IT\",'CROSS PSPB'!#REF!,\"\")","v":{"$error":"#REF!"}},{"$f":"IF(RIGHT('CROSS PSPB'!#REF!,3)=\" IT\",'CROSS PSPB'!#REF!,\"\")","v":{"$error":"#REF!"}},{"$error":"#REF!"},{"$error":"#REF!"},{"$error":"#REF!"},{"$error":"#REF!"}]
[null,{"$f":"IF(RIGHT('CROSS PSPB'!#REF!,3)=\" IT\",'CROSS PSPB'!#REF!,\"\")","v":{"$error":"#REF!"}},{"$f":"IF(RIGHT('CROSS PSPB'!#REF!,3)=\" IT\",'CROSS PSPB'!#REF!,\"\")","v":{"$error":"#REF!"}},{"$f":"IF(RIGHT('CROSS PSPB'!#REF!,3)=\" IT\",'CROSS PSPB'!#REF!,\"\")","v":{"$error":"#REF!"}},{"$f":"IF(RIGHT('CROSS PSPB'!#REF!,3)=\" IT\",'CROSS PSPB'!#REF!,\"\")","v":{"$error":"#REF!"}},{"$f":"IF(RIGHT('CROSS PSPB'!#REF!,3)=\" IT\",'CROSS PSPB'!#REF!,\"\")","v":{"$error":"#REF!"}},{"$f":"IF(RIGHT('CROSS PSPB'!#REF!,3)=\" IT\",'CROSS PSPB'!#REF!,\"\")","v":{"$error":"#REF!"}},{"$f":"IF(RIGHT('CROSS PSPB'!#REF!,3)=\" IT\",'CROSS PSPB'!#REF!,\"\")","v":{"$error":"#REF!"}},{"$f":"IF(RIGHT('CROSS PSPB'!#REF!,3)=\" IT\",'CROSS PSPB'!#REF!,\"\")","v":{"$error":"#REF!"}},{"$f":"IF(RIGHT('CROSS PSPB'!#REF!,3)=\" IT\",'CROSS PSPB'!#REF!,\"\")","v":{"$error":"#REF!"}},{"$f":"IF(RIGHT('CROSS PSPB'!#REF!,3)=\" IT\",'CROSS PSPB'!#REF!,\"\")","v":{"$error":"#REF!"}},{"$f":"IF(RIGHT('CROSS PSPB'!#REF!,3)=\" IT\",'CROSS PSPB'!#REF!,\"\")","v":{"$error":"#REF!"}},{"$f":"IF(RIGHT('CROSS PSPB'!#REF!,3)=\" IT\",'CROSS PSPB'!#REF!,\"\")","v":{"$error":"#REF!"}},{"$f":"IF(RIGHT('CROSS PSPB'!#REF!,3)=\" IT\",'CROSS PSPB'!#REF!,\"\")","v":{"$error":"#REF!"}},{"$f":"IF(RIGHT('CROSS PSPB'!#REF!,3)=\" IT\",'CROSS PSPB'!#REF!,\"\")","v":{"$error":"#REF!"}},{"$f":"IF(RIGHT('CROSS PSPB'!#REF!,3)=\" IT\",'CROSS PSPB'!#REF!,\"\")","v":{"$error":"#REF!"}},{"$f":"IF(RIGHT('CROSS PSPB'!#REF!,3)=\" IT\",'CROSS PSPB'!#REF!,\"\")","v":{"$error":"#REF!"}},{"$f":"IF(RIGHT('CROSS PSPB'!#REF!,3)=\" IT\",'CROSS PSPB'!#REF!,\"\")","v":{"$error":"#REF!"}},{"$f":"IF(RIGHT('CROSS PSPB'!#REF!,3)=\" IT\",'CROSS PSPB'!#REF!,\"\")","v":{"$error":"#REF!"}},{"$f":"IF(RIGHT('CROSS PSPB'!#REF!,3)=\" IT\",'CROSS PSPB'!#REF!,\"\")","v":{"$error":"#REF!"}},{"$f":"IF(RIGHT('CROSS PSPB'!#REF!,3)=\" IT\",'CROSS PSPB'!#REF!,\"\")","v":{"$error":"#REF!"}},{"$f":"IF(RIGHT('CROSS PSPB'!#REF!,3)=\" IT\",'CROSS PSPB'!#REF!,\"\")","v":{"$error":"#REF!"}},{"$f":"IF(RIGHT('CROSS PSPB'!#REF!,3)=\" IT\",'CROSS PSPB'!#REF!,\"\")","v":{"$error":"#REF!"}},{"$f":"IF(RIGHT('CROSS PSPB'!#REF!,3)=\" IT\",'CROSS PSPB'!#REF!,\"\")","v":{"$error":"#REF!"}},{"$f":"IF(RIGHT('CROSS PSPB'!#REF!,3)=\" IT\",'CROSS PSPB'!#REF!,\"\")","v":{"$error":"#REF!"}},{"$f":"IF(RIGHT('CROSS PSPB'!#REF!,3)=\" IT\",'CROSS PSPB'!#REF!,\"\")","v":{"$error":"#REF!"}},{"$f":"IF(RIGHT('CROSS PSPB'!#REF!,3)=\" IT\",'CROSS PSPB'!#REF!,\"\")","v":{"$error":"#REF!"}},{"$f":"IF(RIGHT('CROSS PSPB'!#REF!,3)=\" IT\",'CROSS PSPB'!#REF!,\"\")","v":{"$error":"#REF!"}},{"$f":"IF(RIGHT('CROSS PSPB'!#REF!,3)=\" IT\",'CROSS PSPB'!#REF!,\"\")","v":{"$error":"#REF!"}},{"$f":"IF(RIGHT('CROSS PSPB'!#REF!,3)=\" IT\",'CROSS PSPB'!#REF!,\"\")","v":{"$error":"#REF!"}},{"$f":"IF(RIGHT('CROSS PSPB'!#REF!,3)=\" IT\",'CROSS PSPB'!#REF!,\"\")","v":{"$error":"#REF!"}},{"$f":"IF(RIGHT('CROSS PSPB'!#REF!,3)=\" IT\",'CROSS PSPB'!#REF!,\"\")","v":{"$error":"#REF!"}},{"$f":"IF(RIGHT('CROSS PSPB'!#REF!,3)=\" IT\",'CROSS PSPB'!#REF!,\"\")","v":{"$error":"#REF!"}},{"$f":"IF(RIGHT('CROSS PSPB'!#REF!,3)=\" IT\",'CROSS PSPB'!#REF!,\"\")","v":{"$error":"#REF!"}},{"$f":"IF(RIGHT('CROSS PSPB'!#REF!,3)=\" IT\",'CROSS PSPB'!#REF!,\"\")","v":{"$error":"#REF!"}},{"$f":"IF(RIGHT('CROSS PSPB'!#REF!,3)=\" IT\",'CROSS PSPB'!#REF!,\"\")","v":{"$error":"#REF!"}},{"$f":"IF(RIGHT('CROSS PSPB'!#REF!,3)=\" IT\",'CROSS PSPB'!#REF!,\"\")","v":{"$error":"#REF!"}},{"$f":"IF(RIGHT('CROSS PSPB'!#REF!,3)=\" IT\",'CROSS PSPB'!#REF!,\"\")","v":{"$error":"#REF!"}},{"$f":"IF(RIGHT('CROSS PSPB'!#REF!,3)=\" IT\",'CROSS PSPB'!#REF!,\"\")","v":{"$error":"#REF!"}},{"$f":"IF(RIGHT('CROSS PSPB'!#REF!,3)=\" IT\",'CROSS PSPB'!#REF!,\"\")","v":{"$error":"#REF!"}},{"$f":"IF(RIGHT('CROSS PSPB'!#REF!,3)=\" IT\",'CROSS PSPB'!#REF!,\"\")","v":{"$error":"#REF!"}},{"$f":"IF(RIGHT('CROSS PSPB'!#REF!,3)=\" IT\",'CROSS PSPB'!#REF!,\"\")","v":{"$error":"#REF!"}},{"$f":"IF(RIGHT('CROSS PSPB'!#REF!,3)=\" IT\",'CROSS PSPB'!#REF!,\"\")","v":{"$error":"#REF!"}},{"$f":"IF(RIGHT('CROSS PSPB'!#REF!,3)=\" IT\",'CROSS PSPB'!#REF!,\"\")","v":{"$error":"#REF!"}},{"$f":"IF(RIGHT('CROSS PSPB'!#REF!,3)=\" IT\",'CROSS PSPB'!#REF!,\"\")","v":{"$error":"#REF!"}},{"$f":"IF(RIGHT('CROSS PSPB'!#REF!,3)=\" IT\",'CROSS PSPB'!#REF!,\"\")","v":{"$error":"#REF!"}},{"$f":"IF(RIGHT('CROSS PSPB'!#REF!,3)=\" IT\",'CROSS PSPB'!#REF!,\"\")","v":{"$error":"#REF!"}},{"$f":"IF(RIGHT('CROSS PSPB'!#REF!,3)=\" IT\",'CROSS PSPB'!#REF!,\"\")","v":{"$error":"#REF!"}},{"$f":"IF(RIGHT('CROSS PSPB'!#REF!,3)=\" IT\",'CROSS PSPB'!#REF!,\"\")","v":{"$error":"#REF!"}},{"$f":"IF(RIGHT('CROSS PSPB'!#REF!,3)=\" IT\",'CROSS PSPB'!#REF!,\"\")","v":{"$error":"#REF!"}},{"$f":"IF(RIGHT('CROSS PSPB'!#REF!,3)=\" IT\",'CROSS PSPB'!#REF!,\"\")","v":{"$error":"#REF!"}},{"$f":"IF(RIGHT('CROSS PSPB'!#REF!,3)=\" IT\",'CROSS PSPB'!#REF!,\"\")","v":{"$error":"#REF!"}},{"$error":"#REF!"},{"$error":"#REF!"},{"$error":"#REF!"},{"$error":"#REF!"}]
[null,{"$f":"IF(RIGHT('CROSS PSPB'!#REF!,3)=\" IT\",'CROSS PSPB'!#REF!,\"\")","v":{"$error":"#REF!"}},{"$f":"IF(RIGHT('CROSS PSPB'!#REF!,3)=\" IT\",'CROSS PSPB'!#REF!,\"\")","v":{"$error":"#REF!"}},{"$f":"IF(RIGHT('CROSS PSPB'!#REF!,3)=\" IT\",'CROSS PSPB'!#REF!,\"\")","v":{"$error":"#REF!"}},{"$f":"IF(RIGHT('CROSS PSPB'!#REF!,3)=\" IT\",'CROSS PSPB'!#REF!,\"\")","v":{"$error":"#REF!"}},{"$f":"IF(RIGHT('CROSS PSPB'!#REF!,3)=\" IT\",'CROSS PSPB'!#REF!,\"\")","v":{"$error":"#REF!"}},{"$f":"IF(RIGHT('CROSS PSPB'!#REF!,3)=\" IT\",'CROSS PSPB'!#REF!,\"\")","v":{"$error":"#REF!"}},{"$f":"IF(RIGHT('CROSS PSPB'!#REF!,3)=\" IT\",'CROSS PSPB'!#REF!,\"\")","v":{"$error":"#REF!"}},{"$f":"IF(RIGHT('CROSS PSPB'!#REF!,3)=\" IT\",'CROSS PSPB'!#REF!,\"\")","v":{"$error":"#REF!"}},{"$f":"IF(RIGHT('CROSS PSPB'!#REF!,3)=\" IT\",'CROSS PSPB'!#REF!,\"\")","v":{"$error":"#REF!"}},{"$f":"IF(RIGHT('CROSS PSPB'!#REF!,3)=\" IT\",'CROSS PSPB'!#REF!,\"\")","v":{"$error":"#REF!"}},{"$f":"IF(RIGHT('CROSS PSPB'!#REF!,3)=\" IT\",'CROSS PSPB'!#REF!,\"\")","v":{"$error":"#REF!"}},{"$f":"IF(RIGHT('CROSS PSPB'!#REF!,3)=\" IT\",'CROSS PSPB'!#REF!,\"\")","v":{"$error":"#REF!"}},{"$f":"IF(RIGHT('CROSS PSPB'!#REF!,3)=\" IT\",'CROSS PSPB'!#REF!,\"\")","v":{"$error":"#REF!"}},{"$f":"IF(RIGHT('CROSS PSPB'!#REF!,3)=\" IT\",'CROSS PSPB'!#REF!,\"\")","v":{"$error":"#REF!"}},{"$f":"IF(RIGHT('CROSS PSPB'!#REF!,3)=\" IT\",'CROSS PSPB'!#REF!,\"\")","v":{"$error":"#REF!"}},{"$f":"IF(RIGHT('CROSS PSPB'!#REF!,3)=\" IT\",'CROSS PSPB'!#REF!,\"\")","v":{"$error":"#REF!"}},{"$f":"IF(RIGHT('CROSS PSPB'!#REF!,3)=\" IT\",'CROSS PSPB'!#REF!,\"\")","v":{"$error":"#REF!"}},{"$f":"IF(RIGHT('CROSS PSPB'!#REF!,3)=\" IT\",'CROSS PSPB'!#REF!,\"\")","v":{"$error":"#REF!"}},{"$f":"IF(RIGHT('CROSS PSPB'!#REF!,3)=\" IT\",'CROSS PSPB'!#REF!,\"\")","v":{"$error":"#REF!"}},{"$f":"IF(RIGHT('CROSS PSPB'!#REF!,3)=\" IT\",'CROSS PSPB'!#REF!,\"\")","v":{"$error":"#REF!"}},{"$f":"IF(RIGHT('CROSS PSPB'!#REF!,3)=\" IT\",'CROSS PSPB'!#REF!,\"\")","v":{"$error":"#REF!"}},{"$f":"IF(RIGHT('CROSS PSPB'!#REF!,3)=\" IT\",'CROSS PSPB'!#REF!,\"\")","v":{"$error":"#REF!"}},{"$f":"IF(RIGHT('CROSS PSPB'!#REF!,3)=\" IT\",'CROSS PSPB'!#REF!,\"\")","v":{"$error":"#REF!"}},{"$f":"IF(RIGHT('CROSS PSPB'!#REF!,3)=\" IT\",'CROSS PSPB'!#REF!,\"\")","v":{"$error":"#REF!"}},{"$f":"IF(RIGHT('CROSS PSPB'!#REF!,3)=\" IT\",'CROSS PSPB'!#REF!,\"\")","v":{"$error":"#REF!"}},{"$f":"IF(RIGHT('CROSS PSPB'!#REF!,3)=\" IT\",'CROSS PSPB'!#REF!,\"\")","v":{"$error":"#REF!"}},{"$f":"IF(RIGHT('CROSS PSPB'!#REF!,3)=\" IT\",'CROSS PSPB'!#REF!,\"\")","v":{"$error":"#REF!"}},{"$f":"IF(RIGHT('CROSS PSPB'!#REF!,3)=\" IT\",'CROSS PSPB'!#REF!,\"\")","v":{"$error":"#REF!"}},{"$f":"IF(RIGHT('CROSS PSPB'!#REF!,3)=\" IT\",'CROSS PSPB'!#REF!,\"\")","v":{"$error":"#REF!"}},{"$f":"IF(RIGHT('CROSS PSPB'!#REF!,3)=\" IT\",'CROSS PSPB'!#REF!,\"\")","v":{"$error":"#REF!"}},{"$f":"IF(RIGHT('CROSS PSPB'!#REF!,3)=\" IT\",'CROSS PSPB'!#REF!,\"\")","v":{"$error":"#REF!"}},{"$f":"IF(RIGHT('CROSS PSPB'!#REF!,3)=\" IT\",'CROSS PSPB'!#REF!,\"\")","v":{"$error":"#REF!"}},{"$f":"IF(RIGHT('CROSS PSPB'!#REF!,3)=\" IT\",'CROSS PSPB'!#REF!,\"\")","v":{"$error":"#REF!"}},{"$f":"IF(RIGHT('CROSS PSPB'!#REF!,3)=\" IT\",'CROSS PSPB'!#REF!,\"\")","v":{"$error":"#REF!"}},{"$f":"IF(RIGHT('CROSS PSPB'!#REF!,3)=\" IT\",'CROSS PSPB'!#REF!,\"\")","v":{"$error":"#REF!"}},{"$f":"IF(RIGHT('CROSS PSPB'!#REF!,3)=\" IT\",'CROSS PSPB'!#REF!,\"\")","v":{"$error":"#REF!"}},{"$f":"IF(RIGHT('CROSS PSPB'!#REF!,3)=\" IT\",'CROSS PSPB'!#REF!,\"\")","v":{"$error":"#REF!"}},{"$f":"IF(RIGHT('CROSS PSPB'!#REF!,3)=\" IT\",'CROSS PSPB'!#REF!,\"\")","v":{"$error":"#REF!"}},{"$f":"IF(RIGHT('CROSS PSPB'!#REF!,3)=\" IT\",'CROSS PSPB'!#REF!,\"\")","v":{"$error":"#REF!"}},{"$f":"IF(RIGHT('CROSS PSPB'!#REF!,3)=\" IT\",'CROSS PSPB'!#REF!,\"\")","v":{"$error":"#REF!"}},{"$f":"IF(RIGHT('CROSS PSPB'!#REF!,3)=\" IT\",'CROSS PSPB'!#REF!,\"\")","v":{"$error":"#REF!"}},{"$f":"IF(RIGHT('CROSS PSPB'!#REF!,3)=\" IT\",'CROSS PSPB'!#REF!,\"\")","v":{"$error":"#REF!"}},{"$f":"IF(RIGHT('CROSS PSPB'!#REF!,3)=\" IT\",'CROSS PSPB'!#REF!,\"\")","v":{"$error":"#REF!"}},{"$f":"IF(RIGHT('CROSS PSPB'!#REF!,3)=\" IT\",'CROSS PSPB'!#REF!,\"\")","v":{"$error":"#REF!"}},{"$f":"IF(RIGHT('CROSS PSPB'!#REF!,3)=\" IT\",'CROSS PSPB'!#REF!,\"\")","v":{"$error":"#REF!"}},{"$f":"IF(RIGHT('CROSS PSPB'!#REF!,3)=\" IT\",'CROSS PSPB'!#REF!,\"\")","v":{"$error":"#REF!"}},{"$f":"IF(RIGHT('CROSS PSPB'!#REF!,3)=\" IT\",'CROSS PSPB'!#REF!,\"\")","v":{"$error":"#REF!"}},{"$f":"IF(RIGHT('CROSS PSPB'!#REF!,3)=\" IT\",'CROSS PSPB'!#REF!,\"\")","v":{"$error":"#REF!"}},{"$f":"IF(RIGHT('CROSS PSPB'!#REF!,3)=\" IT\",'CROSS PSPB'!#REF!,\"\")","v":{"$error":"#REF!"}},{"$f":"IF(RIGHT('CROSS PSPB'!#REF!,3)=\" IT\",'CROSS PSPB'!#REF!,\"\")","v":{"$error":"#REF!"}},{"$f":"IF(RIGHT('CROSS PSPB'!#REF!,3)=\" IT\",'CROSS PSPB'!#REF!,\"\")","v":{"$error":"#REF!"}},{"$error":"#REF!"},{"$error":"#REF!"},{"$error":"#REF!"},{"$error":"#REF!"}]
[null,{"$f":"IF(RIGHT('CROSS PSPB'!#REF!,3)=\" IT\",'CROSS PSPB'!#REF!,\"\")","v":{"$error":"#REF!"}},{"$f":"IF(RIGHT('CROSS PSPB'!#REF!,3)=\" IT\",'CROSS PSPB'!#REF!,\"\")","v":{"$error":"#REF!"}},{"$f":"IF(RIGHT('CROSS PSPB'!#REF!,3)=\" IT\",'CROSS PSPB'!#REF!,\"\")","v":{"$error":"#REF!"}},{"$f":"IF(RIGHT('CROSS PSPB'!#REF!,3)=\" IT\",'CROSS PSPB'!#REF!,\"\")","v":{"$error":"#REF!"}},{"$f":"IF(RIGHT('CROSS PSPB'!#REF!,3)=\" IT\",'CROSS PSPB'!#REF!,\"\")","v":{"$error":"#REF!"}},{"$f":"IF(RIGHT('CROSS PSPB'!#REF!,3)=\" IT\",'CROSS PSPB'!#REF!,\"\")","v":{"$error":"#REF!"}},{"$f":"IF(RIGHT('CROSS PSPB'!#REF!,3)=\" IT\",'CROSS PSPB'!#REF!,\"\")","v":{"$error":"#REF!"}},{"$f":"IF(RIGHT('CROSS PSPB'!#REF!,3)=\" IT\",'CROSS PSPB'!#REF!,\"\")","v":{"$error":"#REF!"}},{"$f":"IF(RIGHT('CROSS PSPB'!#REF!,3)=\" IT\",'CROSS PSPB'!#REF!,\"\")","v":{"$error":"#REF!"}},{"$f":"IF(RIGHT('CROSS PSPB'!#REF!,3)=\" IT\",'CROSS PSPB'!#REF!,\"\")","v":{"$error":"#REF!"}},{"$f":"IF(RIGHT('CROSS PSPB'!#REF!,3)=\" IT\",'CROSS PSPB'!#REF!,\"\")","v":{"$error":"#REF!"}},{"$f":"IF(RIGHT('CROSS PSPB'!#REF!,3)=\" IT\",'CROSS PSPB'!#REF!,\"\")","v":{"$error":"#REF!"}},{"$f":"IF(RIGHT('CROSS PSPB'!#REF!,3)=\" IT\",'CROSS PSPB'!#REF!,\"\")","v":{"$error":"#REF!"}},{"$f":"IF(RIGHT('CROSS PSPB'!#REF!,3)=\" IT\",'CROSS PSPB'!#REF!,\"\")","v":{"$error":"#REF!"}},{"$f":"IF(RIGHT('CROSS PSPB'!#REF!,3)=\" IT\",'CROSS PSPB'!#REF!,\"\")","v":{"$error":"#REF!"}},{"$f":"IF(RIGHT('CROSS PSPB'!#REF!,3)=\" IT\",'CROSS PSPB'!#REF!,\"\")","v":{"$error":"#REF!"}},{"$f":"IF(RIGHT('CROSS PSPB'!#REF!,3)=\" IT\",'CROSS PSPB'!#REF!,\"\")","v":{"$error":"#REF!"}},{"$f":"IF(RIGHT('CROSS PSPB'!#REF!,3)=\" IT\",'CROSS PSPB'!#REF!,\"\")","v":{"$error":"#REF!"}},{"$f":"IF(RIGHT('CROSS PSPB'!#REF!,3)=\" IT\",'CROSS PSPB'!#REF!,\"\")","v":{"$error":"#REF!"}},{"$f":"IF(RIGHT('CROSS PSPB'!#REF!,3)=\" IT\",'CROSS PSPB'!#REF!,\"\")","v":{"$error":"#REF!"}},{"$f":"IF(RIGHT('CROSS PSPB'!#REF!,3)=\" IT\",'CROSS PSPB'!#REF!,\"\")","v":{"$error":"#REF!"}},{"$f":"IF(RIGHT('CROSS PSPB'!#REF!,3)=\" IT\",'CROSS PSPB'!#REF!,\"\")","v":{"$error":"#REF!"}},{"$f":"IF(RIGHT('CROSS PSPB'!#REF!,3)=\" IT\",'CROSS PSPB'!#REF!,\"\")","v":{"$error":"#REF!"}},{"$f":"IF(RIGHT('CROSS PSPB'!#REF!,3)=\" IT\",'CROSS PSPB'!#REF!,\"\")","v":{"$error":"#REF!"}},{"$f":"IF(RIGHT('CROSS PSPB'!#REF!,3)=\" IT\",'CROSS PSPB'!#REF!,\"\")","v":{"$error":"#REF!"}},{"$f":"IF(RIGHT('CROSS PSPB'!#REF!,3)=\" IT\",'CROSS PSPB'!#REF!,\"\")","v":{"$error":"#REF!"}},{"$f":"IF(RIGHT('CROSS PSPB'!#REF!,3)=\" IT\",'CROSS PSPB'!#REF!,\"\")","v":{"$error":"#REF!"}},{"$f":"IF(RIGHT('CROSS PSPB'!#REF!,3)=\" IT\",'CROSS PSPB'!#REF!,\"\")","v":{"$error":"#REF!"}},{"$f":"IF(RIGHT('CROSS PSPB'!#REF!,3)=\" IT\",'CROSS PSPB'!#REF!,\"\")","v":{"$error":"#REF!"}},{"$f":"IF(RIGHT('CROSS PSPB'!#REF!,3)=\" IT\",'CROSS PSPB'!#REF!,\"\")","v":{"$error":"#REF!"}},{"$f":"IF(RIGHT('CROSS PSPB'!#REF!,3)=\" IT\",'CROSS PSPB'!#REF!,\"\")","v":{"$error":"#REF!"}},{"$f":"IF(RIGHT('CROSS PSPB'!#REF!,3)=\" IT\",'CROSS PSPB'!#REF!,\"\")","v":{"$error":"#REF!"}},{"$f":"IF(RIGHT('CROSS PSPB'!#REF!,3)=\" IT\",'CROSS PSPB'!#REF!,\"\")","v":{"$error":"#REF!"}},{"$f":"IF(RIGHT('CROSS PSPB'!#REF!,3)=\" IT\",'CROSS PSPB'!#REF!,\"\")","v":{"$error":"#REF!"}},{"$f":"IF(RIGHT('CROSS PSPB'!#REF!,3)=\" IT\",'CROSS PSPB'!#REF!,\"\")","v":{"$error":"#REF!"}},{"$f":"IF(RIGHT('CROSS PSPB'!#REF!,3)=\" IT\",'CROSS PSPB'!#REF!,\"\")","v":{"$error":"#REF!"}},{"$f":"IF(RIGHT('CROSS PSPB'!#REF!,3)=\" IT\",'CROSS PSPB'!#REF!,\"\")","v":{"$error":"#REF!"}},{"$f":"IF(RIGHT('CROSS PSPB'!#REF!,3)=\" IT\",'CROSS PSPB'!#REF!,\"\")","v":{"$error":"#REF!"}},{"$f":"IF(RIGHT('CROSS PSPB'!#REF!,3)=\" IT\",'CROSS PSPB'!#REF!,\"\")","v":{"$error":"#REF!"}},{"$f":"IF(RIGHT('CROSS PSPB'!#REF!,3)=\" IT\",'CROSS PSPB'!#REF!,\"\")","v":{"$error":"#REF!"}},{"$f":"IF(RIGHT('CROSS PSPB'!#REF!,3)=\" IT\",'CROSS PSPB'!#REF!,\"\")","v":{"$error":"#REF!"}},{"$f":"IF(RIGHT('CROSS PSPB'!#REF!,3)=\" IT\",'CROSS PSPB'!#REF!,\"\")","v":{"$error":"#REF!"}},{"$f":"IF(RIGHT('CROSS PSPB'!#REF!,3)=\" IT\",'CROSS PSPB'!#REF!,\"\")","v":{"$error":"#REF!"}},{"$f":"IF(RIGHT('CROSS PSPB'!#REF!,3)=\" IT\",'CROSS PSPB'!#REF!,\"\")","v":{"$error":"#REF!"}},{"$f":"IF(RIGHT('CROSS PSPB'!#REF!,3)=\" IT\",'CROSS PSPB'!#REF!,\"\")","v":{"$error":"#REF!"}},{"$f":"IF(RIGHT('CROSS PSPB'!#REF!,3)=\" IT\",'CROSS PSPB'!#REF!,\"\")","v":{"$error":"#REF!"}},{"$f":"IF(RIGHT('CROSS PSPB'!#REF!,3)=\" IT\",'CROSS PSPB'!#REF!,\"\")","v":{"$error":"#REF!"}},{"$f":"IF(RIGHT('CROSS PSPB'!#REF!,3)=\" IT\",'CROSS PSPB'!#REF!,\"\")","v":{"$error":"#REF!"}},{"$f":"IF(RIGHT('CROSS PSPB'!#REF!,3)=\" IT\",'CROSS PSPB'!#REF!,\"\")","v":{"$error":"#REF!"}},{"$f":"IF(RIGHT('CROSS PSPB'!#REF!,3)=\" IT\",'CROSS PSPB'!#REF!,\"\")","v":{"$error":"#REF!"}},{"$f":"IF(RIGHT('CROSS PSPB'!#REF!,3)=\" IT\",'CROSS PSPB'!#REF!,\"\")","v":{"$error":"#REF!"}},{"$error":"#REF!"},{"$error":"#REF!"},{"$error":"#REF!"},{"$error":"#REF!"}]
[null,{"$f":"IF(RIGHT('CROSS PSPB'!#REF!,3)=\" IT\",'CROSS PSPB'!#REF!,\"\")","v":{"$error":"#REF!"}},{"$f":"IF(RIGHT('CROSS PSPB'!#REF!,3)=\" IT\",'CROSS PSPB'!#REF!,\"\")","v":{"$error":"#REF!"}},{"$f":"IF(RIGHT('CROSS PSPB'!#REF!,3)=\" IT\",'CROSS PSPB'!#REF!,\"\")","v":{"$error":"#REF!"}},{"$f":"IF(RIGHT('CROSS PSPB'!#REF!,3)=\" IT\",'CROSS PSPB'!#REF!,\"\")","v":{"$error":"#REF!"}},{"$f":"IF(RIGHT('CROSS PSPB'!#REF!,3)=\" IT\",'CROSS PSPB'!#REF!,\"\")","v":{"$error":"#REF!"}},{"$f":"IF(RIGHT('CROSS PSPB'!#REF!,3)=\" IT\",'CROSS PSPB'!#REF!,\"\")","v":{"$error":"#REF!"}},{"$f":"IF(RIGHT('CROSS PSPB'!#REF!,3)=\" IT\",'CROSS PSPB'!#REF!,\"\")","v":{"$error":"#REF!"}},{"$f":"IF(RIGHT('CROSS PSPB'!#REF!,3)=\" IT\",'CROSS PSPB'!#REF!,\"\")","v":{"$error":"#REF!"}},{"$f":"IF(RIGHT('CROSS PSPB'!#REF!,3)=\" IT\",'CROSS PSPB'!#REF!,\"\")","v":{"$error":"#REF!"}},{"$f":"IF(RIGHT('CROSS PSPB'!#REF!,3)=\" IT\",'CROSS PSPB'!#REF!,\"\")","v":{"$error":"#REF!"}},{"$f":"IF(RIGHT('CROSS PSPB'!#REF!,3)=\" IT\",'CROSS PSPB'!#REF!,\"\")","v":{"$error":"#REF!"}},{"$f":"IF(RIGHT('CROSS PSPB'!#REF!,3)=\" IT\",'CROSS PSPB'!#REF!,\"\")","v":{"$error":"#REF!"}},{"$f":"IF(RIGHT('CROSS PSPB'!#REF!,3)=\" IT\",'CROSS PSPB'!#REF!,\"\")","v":{"$error":"#REF!"}},{"$f":"IF(RIGHT('CROSS PSPB'!#REF!,3)=\" IT\",'CROSS PSPB'!#REF!,\"\")","v":{"$error":"#REF!"}},{"$f":"IF(RIGHT('CROSS PSPB'!#REF!,3)=\" IT\",'CROSS PSPB'!#REF!,\"\")","v":{"$error":"#REF!"}},{"$f":"IF(RIGHT('CROSS PSPB'!#REF!,3)=\" IT\",'CROSS PSPB'!#REF!,\"\")","v":{"$error":"#REF!"}},{"$f":"IF(RIGHT('CROSS PSPB'!#REF!,3)=\" IT\",'CROSS PSPB'!#REF!,\"\")","v":{"$error":"#REF!"}},{"$f":"IF(RIGHT('CROSS PSPB'!#REF!,3)=\" IT\",'CROSS PSPB'!#REF!,\"\")","v":{"$error":"#REF!"}},{"$f":"IF(RIGHT('CROSS PSPB'!#REF!,3)=\" IT\",'CROSS PSPB'!#REF!,\"\")","v":{"$error":"#REF!"}},{"$f":"IF(RIGHT('CROSS PSPB'!#REF!,3)=\" IT\",'CROSS PSPB'!#REF!,\"\")","v":{"$error":"#REF!"}},{"$f":"IF(RIGHT('CROSS PSPB'!#REF!,3)=\" IT\",'CROSS PSPB'!#REF!,\"\")","v":{"$error":"#REF!"}},{"$f":"IF(RIGHT('CROSS PSPB'!#REF!,3)=\" IT\",'CROSS PSPB'!#REF!,\"\")","v":{"$error":"#REF!"}},{"$f":"IF(RIGHT('CROSS PSPB'!#REF!,3)=\" IT\",'CROSS PSPB'!#REF!,\"\")","v":{"$error":"#REF!"}},{"$f":"IF(RIGHT('CROSS PSPB'!#REF!,3)=\" IT\",'CROSS PSPB'!#REF!,\"\")","v":{"$error":"#REF!"}},{"$f":"IF(RIGHT('CROSS PSPB'!#REF!,3)=\" IT\",'CROSS PSPB'!#REF!,\"\")","v":{"$error":"#REF!"}},{"$f":"IF(RIGHT('CROSS PSPB'!#REF!,3)=\" IT\",'CROSS PSPB'!#REF!,\"\")","v":{"$error":"#REF!"}},{"$f":"IF(RIGHT('CROSS PSPB'!#REF!,3)=\" IT\",'CROSS PSPB'!#REF!,\"\")","v":{"$error":"#REF!"}},{"$f":"IF(RIGHT('CROSS PSPB'!#REF!,3)=\" IT\",'CROSS PSPB'!#REF!,\"\")","v":{"$error":"#REF!"}},{"$f":"IF(RIGHT('CROSS PSPB'!#REF!,3)=\" IT\",'CROSS PSPB'!#REF!,\"\")","v":{"$error":"#REF!"}},{"$f":"IF(RIGHT('CROSS PSPB'!#REF!,3)=\" IT\",'CROSS PSPB'!#REF!,\"\")","v":{"$error":"#REF!"}},{"$f":"IF(RIGHT('CROSS PSPB'!#REF!,3)=\" IT\",'CROSS PSPB'!#REF!,\"\")","v":{"$error":"#REF!"}},{"$f":"IF(RIGHT('CROSS PSPB'!#REF!,3)=\" IT\",'CROSS PSPB'!#REF!,\"\")","v":{"$error":"#REF!"}},{"$f":"IF(RIGHT('CROSS PSPB'!#REF!,3)=\" IT\",'CROSS PSPB'!#REF!,\"\")","v":{"$error":"#REF!"}},{"$f":"IF(RIGHT('CROSS PSPB'!#REF!,3)=\" IT\",'CROSS PSPB'!#REF!,\"\")","v":{"$error":"#REF!"}},{"$f":"IF(RIGHT('CROSS PSPB'!#REF!,3)=\" IT\",'CROSS PSPB'!#REF!,\"\")","v":{"$error":"#REF!"}},{"$f":"IF(RIGHT('CROSS PSPB'!#REF!,3)=\" IT\",'CROSS PSPB'!#REF!,\"\")","v":{"$error":"#REF!"}},{"$f":"IF(RIGHT('CROSS PSPB'!#REF!,3)=\" IT\",'CROSS PSPB'!#REF!,\"\")","v":{"$error":"#REF!"}},{"$f":"IF(RIGHT('CROSS PSPB'!#REF!,3)=\" IT\",'CROSS PSPB'!#REF!,\"\")","v":{"$error":"#REF!"}},{"$f":"IF(RIGHT('CROSS PSPB'!#REF!,3)=\" IT\",'CROSS PSPB'!#REF!,\"\")","v":{"$error":"#REF!"}},{"$f":"IF(RIGHT('CROSS PSPB'!#REF!,3)=\" IT\",'CROSS PSPB'!#REF!,\"\")","v":{"$error":"#REF!"}},{"$f":"IF(RIGHT('CROSS PSPB'!#REF!,3)=\" IT\",'CROSS PSPB'!#REF!,\"\")","v":{"$error":"#REF!"}},{"$f":"IF(RIGHT('CROSS PSPB'!#REF!,3)=\" IT\",'CROSS PSPB'!#REF!,\"\")","v":{"$error":"#REF!"}},{"$f":"IF(RIGHT('CROSS PSPB'!#REF!,3)=\" IT\",'CROSS PSPB'!#REF!,\"\")","v":{"$error":"#REF!"}},{"$f":"IF(RIGHT('CROSS PSPB'!#REF!,3)=\" IT\",'CROSS PSPB'!#REF!,\"\")","v":{"$error":"#REF!"}},{"$f":"IF(RIGHT('CROSS PSPB'!#REF!,3)=\" IT\",'CROSS PSPB'!#REF!,\"\")","v":{"$error":"#REF!"}},{"$f":"IF(RIGHT('CROSS PSPB'!#REF!,3)=\" IT\",'CROSS PSPB'!#REF!,\"\")","v":{"$error":"#REF!"}},{"$f":"IF(RIGHT('CROSS PSPB'!#REF!,3)=\" IT\",'CROSS PSPB'!#REF!,\"\")","v":{"$error":"#REF!"}},{"$f":"IF(RIGHT('CROSS PSPB'!#REF!,3)=\" IT\",'CROSS PSPB'!#REF!,\"\")","v":{"$error":"#REF!"}},{"$f":"IF(RIGHT('CROSS PSPB'!#REF!,3)=\" IT\",'CROSS PSPB'!#REF!,\"\")","v":{"$error":"#REF!"}},{"$f":"IF(RIGHT('CROSS PSPB'!#REF!,3)=\" IT\",'CROSS PSPB'!#REF!,\"\")","v":{"$error":"#REF!"}},{"$f":"IF(RIGHT('CROSS PSPB'!#REF!,3)=\" IT\",'CROSS PSPB'!#REF!,\"\")","v":{"$error":"#REF!"}},{"$error":"#REF!"},{"$error":"#REF!"},{"$error":"#REF!"},{"$error":"#REF!"}]
[null,{"$f":"IF(RIGHT('CROSS PSPB'!#REF!,3)=\" IT\",'CROSS PSPB'!#REF!,\"\")","v":{"$error":"#REF!"}},{"$f":"IF(RIGHT('CROSS PSPB'!#REF!,3)=\" IT\",'CROSS PSPB'!#REF!,\"\")","v":{"$error":"#REF!"}},{"$f":"IF(RIGHT('CROSS PSPB'!#REF!,3)=\" IT\",'CROSS PSPB'!#REF!,\"\")","v":{"$error":"#REF!"}},{"$f":"IF(RIGHT('CROSS PSPB'!#REF!,3)=\" IT\",'CROSS PSPB'!#REF!,\"\")","v":{"$error":"#REF!"}},{"$f":"IF(RIGHT('CROSS PSPB'!#REF!,3)=\" IT\",'CROSS PSPB'!#REF!,\"\")","v":{"$error":"#REF!"}},{"$f":"IF(RIGHT('CROSS PSPB'!#REF!,3)=\" IT\",'CROSS PSPB'!#REF!,\"\")","v":{"$error":"#REF!"}},{"$f":"IF(RIGHT('CROSS PSPB'!#REF!,3)=\" IT\",'CROSS PSPB'!#REF!,\"\")","v":{"$error":"#REF!"}},{"$f":"IF(RIGHT('CROSS PSPB'!#REF!,3)=\" IT\",'CROSS PSPB'!#REF!,\"\")","v":{"$error":"#REF!"}},{"$f":"IF(RIGHT('CROSS PSPB'!#REF!,3)=\" IT\",'CROSS PSPB'!#REF!,\"\")","v":{"$error":"#REF!"}},{"$f":"IF(RIGHT('CROSS PSPB'!#REF!,3)=\" IT\",'CROSS PSPB'!#REF!,\"\")","v":{"$error":"#REF!"}},{"$f":"IF(RIGHT('CROSS PSPB'!#REF!,3)=\" IT\",'CROSS PSPB'!#REF!,\"\")","v":{"$error":"#REF!"}},{"$f":"IF(RIGHT('CROSS PSPB'!#REF!,3)=\" IT\",'CROSS PSPB'!#REF!,\"\")","v":{"$error":"#REF!"}},{"$f":"IF(RIGHT('CROSS PSPB'!#REF!,3)=\" IT\",'CROSS PSPB'!#REF!,\"\")","v":{"$error":"#REF!"}},{"$f":"IF(RIGHT('CROSS PSPB'!#REF!,3)=\" IT\",'CROSS PSPB'!#REF!,\"\")","v":{"$error":"#REF!"}},{"$f":"IF(RIGHT('CROSS PSPB'!#REF!,3)=\" IT\",'CROSS PSPB'!#REF!,\"\")","v":{"$error":"#REF!"}},{"$f":"IF(RIGHT('CROSS PSPB'!#REF!,3)=\" IT\",'CROSS PSPB'!#REF!,\"\")","v":{"$error":"#REF!"}},{"$f":"IF(RIGHT('CROSS PSPB'!#REF!,3)=\" IT\",'CROSS PSPB'!#REF!,\"\")","v":{"$error":"#REF!"}},{"$f":"IF(RIGHT('CROSS PSPB'!#REF!,3)=\" IT\",'CROSS PSPB'!#REF!,\"\")","v":{"$error":"#REF!"}},{"$f":"IF(RIGHT('CROSS PSPB'!#REF!,3)=\" IT\",'CROSS PSPB'!#REF!,\"\")","v":{"$error":"#REF!"}},{"$f":"IF(RIGHT('CROSS PSPB'!#REF!,3)=\" IT\",'CROSS PSPB'!#REF!,\"\")","v":{"$error":"#REF!"}},{"$f":"IF(RIGHT('CROSS PSPB'!#REF!,3)=\" IT\",'CROSS PSPB'!#REF!,\"\")","v":{"$error":"#REF!"}},{"$f":"IF(RIGHT('CROSS PSPB'!#REF!,3)=\" IT\",'CROSS PSPB'!#REF!,\"\")","v":{"$error":"#REF!"}},{"$f":"IF(RIGHT('CROSS PSPB'!#REF!,3)=\" IT\",'CROSS PSPB'!#REF!,\"\")","v":{"$error":"#REF!"}},{"$f":"IF(RIGHT('CROSS PSPB'!#REF!,3)=\" IT\",'CROSS PSPB'!#REF!,\"\")","v":{"$error":"#REF!"}},{"$f":"IF(RIGHT('CROSS PSPB'!#REF!,3)=\" IT\",'CROSS PSPB'!#REF!,\"\")","v":{"$error":"#REF!"}},{"$f":"IF(RIGHT('CROSS PSPB'!#REF!,3)=\" IT\",'CROSS PSPB'!#REF!,\"\")","v":{"$error":"#REF!"}},{"$f":"IF(RIGHT('CROSS PSPB'!#REF!,3)=\" IT\",'CROSS PSPB'!#REF!,\"\")","v":{"$error":"#REF!"}},{"$f":"IF(RIGHT('CROSS PSPB'!#REF!,3)=\" IT\",'CROSS PSPB'!#REF!,\"\")","v":{"$error":"#REF!"}},{"$f":"IF(RIGHT('CROSS PSPB'!#REF!,3)=\" IT\",'CROSS PSPB'!#REF!,\"\")","v":{"$error":"#REF!"}},{"$f":"IF(RIGHT('CROSS PSPB'!#REF!,3)=\" IT\",'CROSS PSPB'!#REF!,\"\")","v":{"$error":"#REF!"}},{"$f":"IF(RIGHT('CROSS PSPB'!#REF!,3)=\" IT\",'CROSS PSPB'!#REF!,\"\")","v":{"$error":"#REF!"}},{"$f":"IF(RIGHT('CROSS PSPB'!#REF!,3)=\" IT\",'CROSS PSPB'!#REF!,\"\")","v":{"$error":"#REF!"}},{"$f":"IF(RIGHT('CROSS PSPB'!#REF!,3)=\" IT\",'CROSS PSPB'!#REF!,\"\")","v":{"$error":"#REF!"}},{"$f":"IF(RIGHT('CROSS PSPB'!#REF!,3)=\" IT\",'CROSS PSPB'!#REF!,\"\")","v":{"$error":"#REF!"}},{"$f":"IF(RIGHT('CROSS PSPB'!#REF!,3)=\" IT\",'CROSS PSPB'!#REF!,\"\")","v":{"$error":"#REF!"}},{"$f":"IF(RIGHT('CROSS PSPB'!#REF!,3)=\" IT\",'CROSS PSPB'!#REF!,\"\")","v":{"$error":"#REF!"}},{"$f":"IF(RIGHT('CROSS PSPB'!#REF!,3)=\" IT\",'CROSS PSPB'!#REF!,\"\")","v":{"$error":"#REF!"}},{"$f":"IF(RIGHT('CROSS PSPB'!#REF!,3)=\" IT\",'CROSS PSPB'!#REF!,\"\")","v":{"$error":"#REF!"}},{"$f":"IF(RIGHT('CROSS PSPB'!#REF!,3)=\" IT\",'CROSS PSPB'!#REF!,\"\")","v":{"$error":"#REF!"}},{"$f":"IF(RIGHT('CROSS PSPB'!#REF!,3)=\" IT\",'CROSS PSPB'!#REF!,\"\")","v":{"$error":"#REF!"}},{"$f":"IF(RIGHT('CROSS PSPB'!#REF!,3)=\" IT\",'CROSS PSPB'!#REF!,\"\")","v":{"$error":"#REF!"}},{"$f":"IF(RIGHT('CROSS PSPB'!#REF!,3)=\" IT\",'CROSS PSPB'!#REF!,\"\")","v":{"$error":"#REF!"}},{"$f":"IF(RIGHT('CROSS PSPB'!#REF!,3)=\" IT\",'CROSS PSPB'!#REF!,\"\")","v":{"$error":"#REF!"}},{"$f":"IF(RIGHT('CROSS PSPB'!#REF!,3)=\" IT\",'CROSS PSPB'!#REF!,\"\")","v":{"$error":"#REF!"}},{"$f":"IF(RIGHT('CROSS PSPB'!#REF!,3)=\" IT\",'CROSS PSPB'!#REF!,\"\")","v":{"$error":"#REF!"}},{"$f":"IF(RIGHT('CROSS PSPB'!#REF!,3)=\" IT\",'CROSS PSPB'!#REF!,\"\")","v":{"$error":"#REF!"}},{"$f":"IF(RIGHT('CROSS PSPB'!#REF!,3)=\" IT\",'CROSS PSPB'!#REF!,\"\")","v":{"$error":"#REF!"}},{"$f":"IF(RIGHT('CROSS PSPB'!#REF!,3)=\" IT\",'CROSS PSPB'!#REF!,\"\")","v":{"$error":"#REF!"}},{"$f":"IF(RIGHT('CROSS PSPB'!#REF!,3)=\" IT\",'CROSS PSPB'!#REF!,\"\")","v":{"$error":"#REF!"}},{"$f":"IF(RIGHT('CROSS PSPB'!#REF!,3)=\" IT\",'CROSS PSPB'!#REF!,\"\")","v":{"$error":"#REF!"}},{"$f":"IF(RIGHT('CROSS PSPB'!#REF!,3)=\" IT\",'CROSS PSPB'!#REF!,\"\")","v":{"$error":"#REF!"}},{"$error":"#REF!"},{"$error":"#REF!"},{"$error":"#REF!"},{"$error":"#REF!"}]
[null,{"$f":"IF(RIGHT('CROSS PSPB'!#REF!,3)=\" IT\",'CROSS PSPB'!#REF!,\"\")","v":{"$error":"#REF!"}},{"$f":"IF(RIGHT('CROSS PSPB'!#REF!,3)=\" IT\",'CROSS PSPB'!#REF!,\"\")","v":{"$error":"#REF!"}},{"$f":"IF(RIGHT('CROSS PSPB'!#REF!,3)=\" IT\",'CROSS PSPB'!#REF!,\"\")","v":{"$error":"#REF!"}},{"$f":"IF(RIGHT('CROSS PSPB'!#REF!,3)=\" IT\",'CROSS PSPB'!#REF!,\"\")","v":{"$error":"#REF!"}},{"$f":"IF(RIGHT('CROSS PSPB'!#REF!,3)=\" IT\",'CROSS PSPB'!#REF!,\"\")","v":{"$error":"#REF!"}},{"$f":"IF(RIGHT('CROSS PSPB'!#REF!,3)=\" IT\",'CROSS PSPB'!#REF!,\"\")","v":{"$error":"#REF!"}},{"$f":"IF(RIGHT('CROSS PSPB'!#REF!,3)=\" IT\",'CROSS PSPB'!#REF!,\"\")","v":{"$error":"#REF!"}},{"$f":"IF(RIGHT('CROSS PSPB'!#REF!,3)=\" IT\",'CROSS PSPB'!#REF!,\"\")","v":{"$error":"#REF!"}},{"$f":"IF(RIGHT('CROSS PSPB'!#REF!,3)=\" IT\",'CROSS PSPB'!#REF!,\"\")","v":{"$error":"#REF!"}},{"$f":"IF(RIGHT('CROSS PSPB'!#REF!,3)=\" IT\",'CROSS PSPB'!#REF!,\"\")","v":{"$error":"#REF!"}},{"$f":"IF(RIGHT('CROSS PSPB'!#REF!,3)=\" IT\",'CROSS PSPB'!#REF!,\"\")","v":{"$error":"#REF!"}},{"$f":"IF(RIGHT('CROSS PSPB'!#REF!,3)=\" IT\",'CROSS PSPB'!#REF!,\"\")","v":{"$error":"#REF!"}},{"$f":"IF(RIGHT('CROSS PSPB'!#REF!,3)=\" IT\",'CROSS PSPB'!#REF!,\"\")","v":{"$error":"#REF!"}},{"$f":"IF(RIGHT('CROSS PSPB'!#REF!,3)=\" IT\",'CROSS PSPB'!#REF!,\"\")","v":{"$error":"#REF!"}},{"$f":"IF(RIGHT('CROSS PSPB'!#REF!,3)=\" IT\",'CROSS PSPB'!#REF!,\"\")","v":{"$error":"#REF!"}},{"$f":"IF(RIGHT('CROSS PSPB'!#REF!,3)=\" IT\",'CROSS PSPB'!#REF!,\"\")","v":{"$error":"#REF!"}},{"$f":"IF(RIGHT('CROSS PSPB'!#REF!,3)=\" IT\",'CROSS PSPB'!#REF!,\"\")","v":{"$error":"#REF!"}},{"$f":"IF(RIGHT('CROSS PSPB'!#REF!,3)=\" IT\",'CROSS PSPB'!#REF!,\"\")","v":{"$error":"#REF!"}},{"$f":"IF(RIGHT('CROSS PSPB'!#REF!,3)=\" IT\",'CROSS PSPB'!#REF!,\"\")","v":{"$error":"#REF!"}},{"$f":"IF(RIGHT('CROSS PSPB'!#REF!,3)=\" IT\",'CROSS PSPB'!#REF!,\"\")","v":{"$error":"#REF!"}},{"$f":"IF(RIGHT('CROSS PSPB'!#REF!,3)=\" IT\",'CROSS PSPB'!#REF!,\"\")","v":{"$error":"#REF!"}},{"$f":"IF(RIGHT('CROSS PSPB'!#REF!,3)=\" IT\",'CROSS PSPB'!#REF!,\"\")","v":{"$error":"#REF!"}},{"$f":"IF(RIGHT('CROSS PSPB'!#REF!,3)=\" IT\",'CROSS PSPB'!#REF!,\"\")","v":{"$error":"#REF!"}},{"$f":"IF(RIGHT('CROSS PSPB'!#REF!,3)=\" IT\",'CROSS PSPB'!#REF!,\"\")","v":{"$error":"#REF!"}},{"$f":"IF(RIGHT('CROSS PSPB'!#REF!,3)=\" IT\",'CROSS PSPB'!#REF!,\"\")","v":{"$error":"#REF!"}},{"$f":"IF(RIGHT('CROSS PSPB'!#REF!,3)=\" IT\",'CROSS PSPB'!#REF!,\"\")","v":{"$error":"#REF!"}},{"$f":"IF(RIGHT('CROSS PSPB'!#REF!,3)=\" IT\",'CROSS PSPB'!#REF!,\"\")","v":{"$error":"#REF!"}},{"$f":"IF(RIGHT('CROSS PSPB'!#REF!,3)=\" IT\",'CROSS PSPB'!#REF!,\"\")","v":{"$error":"#REF!"}},{"$f":"IF(RIGHT('CROSS PSPB'!#REF!,3)=\" IT\",'CROSS PSPB'!#REF!,\"\")","v":{"$error":"#REF!"}},{"$f":"IF(RIGHT('CROSS PSPB'!#REF!,3)=\" IT\",'CROSS PSPB'!#REF!,\"\")","v":{"$error":"#REF!"}},{"$f":"IF(RIGHT('CROSS PSPB'!#REF!,3)=\" IT\",'CROSS PSPB'!#REF!,\"\")","v":{"$error":"#REF!"}},{"$f":"IF(RIGHT('CROSS PSPB'!#REF!,3)=\" IT\",'CROSS PSPB'!#REF!,\"\")","v":{"$error":"#REF!"}},{"$f":"IF(RIGHT('CROSS PSPB'!#REF!,3)=\" IT\",'CROSS PSPB'!#REF!,\"\")","v":{"$error":"#REF!"}},{"$f":"IF(RIGHT('CROSS PSPB'!#REF!,3)=\" IT\",'CROSS PSPB'!#REF!,\"\")","v":{"$error":"#REF!"}},{"$f":"IF(RIGHT('CROSS PSPB'!#REF!,3)=\" IT\",'CROSS PSPB'!#REF!,\"\")","v":{"$error":"#REF!"}},{"$f":"IF(RIGHT('CROSS PSPB'!#REF!,3)=\" IT\",'CROSS PSPB'!#REF!,\"\")","v":{"$error":"#REF!"}},{"$f":"IF(RIGHT('CROSS PSPB'!#REF!,3)=\" IT\",'CROSS PSPB'!#REF!,\"\")","v":{"$error":"#REF!"}},{"$f":"IF(RIGHT('CROSS PSPB'!#REF!,3)=\" IT\",'CROSS PSPB'!#REF!,\"\")","v":{"$error":"#REF!"}},{"$f":"IF(RIGHT('CROSS PSPB'!#REF!,3)=\" IT\",'CROSS PSPB'!#REF!,\"\")","v":{"$error":"#REF!"}},{"$f":"IF(RIGHT('CROSS PSPB'!#REF!,3)=\" IT\",'CROSS PSPB'!#REF!,\"\")","v":{"$error":"#REF!"}},{"$f":"IF(RIGHT('CROSS PSPB'!#REF!,3)=\" IT\",'CROSS PSPB'!#REF!,\"\")","v":{"$error":"#REF!"}},{"$f":"IF(RIGHT('CROSS PSPB'!#REF!,3)=\" IT\",'CROSS PSPB'!#REF!,\"\")","v":{"$error":"#REF!"}},{"$f":"IF(RIGHT('CROSS PSPB'!#REF!,3)=\" IT\",'CROSS PSPB'!#REF!,\"\")","v":{"$error":"#REF!"}},{"$f":"IF(RIGHT('CROSS PSPB'!#REF!,3)=\" IT\",'CROSS PSPB'!#REF!,\"\")","v":{"$error":"#REF!"}},{"$f":"IF(RIGHT('CROSS PSPB'!#REF!,3)=\" IT\",'CROSS PSPB'!#REF!,\"\")","v":{"$error":"#REF!"}},{"$f":"IF(RIGHT('CROSS PSPB'!#REF!,3)=\" IT\",'CROSS PSPB'!#REF!,\"\")","v":{"$error":"#REF!"}},{"$f":"IF(RIGHT('CROSS PSPB'!#REF!,3)=\" IT\",'CROSS PSPB'!#REF!,\"\")","v":{"$error":"#REF!"}},{"$f":"IF(RIGHT('CROSS PSPB'!#REF!,3)=\" IT\",'CROSS PSPB'!#REF!,\"\")","v":{"$error":"#REF!"}},{"$f":"IF(RIGHT('CROSS PSPB'!#REF!,3)=\" IT\",'CROSS PSPB'!#REF!,\"\")","v":{"$error":"#REF!"}},{"$f":"IF(RIGHT('CROSS PSPB'!#REF!,3)=\" IT\",'CROSS PSPB'!#REF!,\"\")","v":{"$error":"#REF!"}},{"$f":"IF(RIGHT('CROSS PSPB'!#REF!,3)=\" IT\",'CROSS PSPB'!#REF!,\"\")","v":{"$error":"#REF!"}},{"$f":"SUM(I50,M50,Q50,U50,Y50,AC50,AG50,AK50,AO50,AS50,AW50)-E50","v":{"$error":"#REF!"}},{"$f":"SUM(J50,N50,R50,V50,Z50,AD50,AH50,AL50,AP50,AT50,AX50)-F50","v":{"$error":"#REF!"}},{"$f":"SUM(K50,O50,S50,W50,AA50,AE50,AI50,AM50,AQ50,AU50,AY50)-G50","v":{"$error":"#REF!"}},{"$f":"SUM(L50,P50,T50,X50,AB50,AF50,AJ50,AN50,AR50,AV50,AZ50)-H50","v":{"$error":"#REF!"}}]
["STATE SOURCES",{"$f":"IF(RIGHT('CROSS PSPB'!$D46,3)=\" IT\",'CROSS PSPB'!B46,\"\")","v":""},{"$f":"IF(RIGHT('CROSS PSPB'!$D46,3)=\" IT\",'CROSS PSPB'!C46,\"\")","v":""},{"$f":"IF(RIGHT('CROSS PSPB'!$D46,3)=\" IT\",'CROSS PSPB'!D46,\"\")","v":""},{"$f":"IF(RIGHT('CROSS PSPB'!$D46,3)=\" IT\",'CROSS PSPB'!E46,\"\")","v":""},{"$f":"IF(RIGHT('CROSS PSPB'!$D46,3)=\" IT\",'CROSS PSPB'!F46,\"\")","v":""},{"$f":"IF(RIGHT('CROSS PSPB'!$D46,3)=\" IT\",'CROSS PSPB'!G46,\"\")","v":""},{"$f":"IF(RIGHT('CROSS PSPB'!$D46,3)=\" IT\",'CROSS PSPB'!H46,\"\")","v":""},{"$f":"IF(RIGHT('CROSS PSPB'!$D46,3)=\" IT\",'CROSS PSPB'!I46,\"\")","v":""},{"$f":"IF(RIGHT('CROSS PSPB'!$D46,3)=\" IT\",'CROSS PSPB'!J46,\"\")","v":""},{"$f":"IF(RIGHT('CROSS PSPB'!$D46,3)=\" IT\",'CROSS PSPB'!K46,\"\")","v":""},{"$f":"IF(RIGHT('CROSS PSPB'!$D46,3)=\" IT\",'CROSS PSPB'!L46,\"\")","v":""},{"$f":"IF(RIGHT('CROSS PSPB'!$D46,3)=\" IT\",'CROSS PSPB'!M46,\"\")","v":""},{"$f":"IF(RIGHT('CROSS PSPB'!$D46,3)=\" IT\",'CROSS PSPB'!N46,\"\")","v":""},{"$f":"IF(RIGHT('CROSS PSPB'!$D46,3)=\" IT\",'CROSS PSPB'!O46,\"\")","v":""},{"$f":"IF(RIGHT('CROSS PSPB'!$D46,3)=\" IT\",'CROSS PSPB'!P46,\"\")","v":""},{"$f":"IF(RIGHT('CROSS PSPB'!$D46,3)=\" IT\",'CROSS PSPB'!Q46,\"\")","v":""},{"$f":"IF(RIGHT('CROSS PSPB'!$D46,3)=\" IT\",'CROSS PSPB'!R46,\"\")","v":""},{"$f":"IF(RIGHT('CROSS PSPB'!$D46,3)=\" IT\",'CROSS PSPB'!S46,\"\")","v":""},{"$f":"IF(RIGHT('CROSS PSPB'!$D46,3)=\" IT\",'CROSS PSPB'!T46,\"\")","v":""},{"$f":"IF(RIGHT('CROSS PSPB'!$D46,3)=\" IT\",'CROSS PSPB'!U46,\"\")","v":""},{"$f":"IF(RIGHT('CROSS PSPB'!$D46,3)=\" IT\",'CROSS PSPB'!V46,\"\")","v":""},{"$f":"IF(RIGHT('CROSS PSPB'!$D46,3)=\" IT\",'CROSS PSPB'!W46,\"\")","v":""},{"$f":"IF(RIGHT('CROSS PSPB'!$D46,3)=\" IT\",'CROSS PSPB'!X46,\"\")","v":""},{"$f":"IF(RIGHT('CROSS PSPB'!$D46,3)=\" IT\",'CROSS PSPB'!Y46,\"\")","v":""},{"$f":"IF(RIGHT('CROSS PSPB'!$D46,3)=\" IT\",'CROSS PSPB'!Z46,\"\")","v":""},{"$f":"IF(RIGHT('CROSS PSPB'!$D46,3)=\" IT\",'CROSS PSPB'!AA46,\"\")","v":""},{"$f":"IF(RIGHT('CROSS PSPB'!$D46,3)=\" IT\",'CROSS PSPB'!AB46,\"\")","v":""},{"$f":"IF(RIGHT('CROSS PSPB'!$D46,3)=\" IT\",'CROSS PSPB'!AC46,\"\")","v":""},{"$f":"IF(RIGHT('CROSS PSPB'!$D46,3)=\" IT\",'CROSS PSPB'!AD46,\"\")","v":""},{"$f":"IF(RIGHT('CROSS PSPB'!$D46,3)=\" IT\",'CROSS PSPB'!AE46,\"\")","v":""},{"$f":"IF(RIGHT('CROSS PSPB'!$D46,3)=\" IT\",'CROSS PSPB'!AF46,\"\")","v":""},{"$f":"IF(RIGHT('CROSS PSPB'!$D46,3)=\" IT\",'CROSS PSPB'!AG46,\"\")","v":""},{"$f":"IF(RIGHT('CROSS PSPB'!$D46,3)=\" IT\",'CROSS PSPB'!AH46,\"\")","v":""},{"$f":"IF(RIGHT('CROSS PSPB'!$D46,3)=\" IT\",'CROSS PSPB'!AI46,\"\")","v":""},{"$f":"IF(RIGHT('CROSS PSPB'!$D46,3)=\" IT\",'CROSS PSPB'!AJ46,\"\")","v":""},{"$f":"IF(RIGHT('CROSS PSPB'!$D46,3)=\" IT\",'CROSS PSPB'!AK46,\"\")","v":""},{"$f":"IF(RIGHT('CROSS PSPB'!$D46,3)=\" IT\",'CROSS PSPB'!AL46,\"\")","v":""},{"$f":"IF(RIGHT('CROSS PSPB'!$D46,3)=\" IT\",'CROSS PSPB'!AM46,\"\")","v":""},{"$f":"IF(RIGHT('CROSS PSPB'!$D46,3)=\" IT\",'CROSS PSPB'!AN46,\"\")","v":""},{"$f":"IF(RIGHT('CROSS PSPB'!$D46,3)=\" IT\",'CROSS PSPB'!AO46,\"\")","v":""},{"$f":"IF(RIGHT('CROSS PSPB'!$D46,3)=\" IT\",'CROSS PSPB'!AP46,\"\")","v":""},{"$f":"IF(RIGHT('CROSS PSPB'!$D46,3)=\" IT\",'CROSS PSPB'!AQ46,\"\")","v":""},{"$f":"IF(RIGHT('CROSS PSPB'!$D46,3)=\" IT\",'CROSS PSPB'!AR46,\"\")","v":""},{"$f":"IF(RIGHT('CROSS PSPB'!$D46,3)=\" IT\",'CROSS PSPB'!AS46,\"\")","v":""},{"$f":"IF(RIGHT('CROSS PSPB'!$D46,3)=\" IT\",'CROSS PSPB'!AT46,\"\")","v":""},{"$f":"IF(RIGHT('CROSS PSPB'!$D46,3)=\" IT\",'CROSS PSPB'!AU46,\"\")","v":""},{"$f":"IF(RIGHT('CROSS PSPB'!$D46,3)=\" IT\",'CROSS PSPB'!AV46,\"\")","v":""},{"$f":"IF(RIGHT('CROSS PSPB'!$D46,3)=\" IT\",'CROSS PSPB'!AW46,\"\")","v":""},{"$f":"IF(RIGHT('CROSS PSPB'!$D46,3)=\" IT\",'CROSS PSPB'!AX46,\"\")","v":""},{"$f":"IF(RIGHT('CROSS PSPB'!$D46,3)=\" IT\",'CROSS PSPB'!AY46,\"\")","v":""},{"$f":"IF(RIGHT('CROSS PSPB'!$D46,3)=\" IT\",'CROSS PSPB'!AZ46,\"\")","v":""}]
[null,{"$f":"IF(RIGHT('CROSS PSPB'!$D47,3)=\" IT\",'CROSS PSPB'!B47,\"\")","v":""},{"$f":"IF(RIGHT('CROSS PSPB'!$D47,3)=\" IT\",'CROSS PSPB'!C47,\"\")","v":""},{"$f":"IF(RIGHT('CROSS PSPB'!$D47,3)=\" IT\",'CROSS PSPB'!D47,\"\")","v":""},{"$f":"IF(RIGHT('CROSS PSPB'!$D47,3)=\" IT\",'CROSS PSPB'!E47,\"\")","v":""},{"$f":"IF(RIGHT('CROSS PSPB'!$D47,3)=\" IT\",'CROSS PSPB'!F47,\"\")","v":""},{"$f":"IF(RIGHT('CROSS PSPB'!$D47,3)=\" IT\",'CROSS PSPB'!G47,\"\")","v":""},{"$f":"IF(RIGHT('CROSS PSPB'!$D47,3)=\" IT\",'CROSS PSPB'!H47,\"\")","v":""},{"$f":"IF(RIGHT('CROSS PSPB'!$D47,3)=\" IT\",'CROSS PSPB'!I47,\"\")","v":""},{"$f":"IF(RIGHT('CROSS PSPB'!$D47,3)=\" IT\",'CROSS PSPB'!J47,\"\")","v":""},{"$f":"IF(RIGHT('CROSS PSPB'!$D47,3)=\" IT\",'CROSS PSPB'!K47,\"\")","v":""},{"$f":"IF(RIGHT('CROSS PSPB'!$D47,3)=\" IT\",'CROSS PSPB'!L47,\"\")","v":""},{"$f":"IF(RIGHT('CROSS PSPB'!$D47,3)=\" IT\",'CROSS PSPB'!M47,\"\")","v":""},{"$f":"IF(RIGHT('CROSS PSPB'!$D47,3)=\" IT\",'CROSS PSPB'!N47,\"\")","v":""},{"$f":"IF(RIGHT('CROSS PSPB'!$D47,3)=\" IT\",'CROSS PSPB'!O47,\"\")","v":""},{"$f":"IF(RIGHT('CROSS PSPB'!$D47,3)=\" IT\",'CROSS PSPB'!P47,\"\")","v":""},{"$f":"IF(RIGHT('CROSS PSPB'!$D47,3)=\" IT\",'CROSS PSPB'!Q47,\"\")","v":""},{"$f":"IF(RIGHT('CROSS PSPB'!$D47,3)=\" IT\",'CROSS PSPB'!R47,\"\")","v":""},{"$f":"IF(RIGHT('CROSS PSPB'!$D47,3)=\" IT\",'CROSS PSPB'!S47,\"\")","v":""},{"$f":"IF(RIGHT('CROSS PSPB'!$D47,3)=\" IT\",'CROSS PSPB'!T47,\"\")","v":""},{"$f":"IF(RIGHT('CROSS PSPB'!$D47,3)=\" IT\",'CROSS PSPB'!U47,\"\")","v":""},{"$f":"IF(RIGHT('CROSS PSPB'!$D47,3)=\" IT\",'CROSS PSPB'!V47,\"\")","v":""},{"$f":"IF(RIGHT('CROSS PSPB'!$D47,3)=\" IT\",'CROSS PSPB'!W47,\"\")","v":""},{"$f":"IF(RIGHT('CROSS PSPB'!$D47,3)=\" IT\",'CROSS PSPB'!X47,\"\")","v":""},{"$f":"IF(RIGHT('CROSS PSPB'!$D47,3)=\" IT\",'CROSS PSPB'!Y47,\"\")","v":""},{"$f":"IF(RIGHT('CROSS PSPB'!$D47,3)=\" IT\",'CROSS PSPB'!Z47,\"\")","v":""},{"$f":"IF(RIGHT('CROSS PSPB'!$D47,3)=\" IT\",'CROSS PSPB'!AA47,\"\")","v":""},{"$f":"IF(RIGHT('CROSS PSPB'!$D47,3)=\" IT\",'CROSS PSPB'!AB47,\"\")","v":""},{"$f":"IF(RIGHT('CROSS PSPB'!$D47,3)=\" IT\",'CROSS PSPB'!AC47,\"\")","v":""},{"$f":"IF(RIGHT('CROSS PSPB'!$D47,3)=\" IT\",'CROSS PSPB'!AD47,\"\")","v":""},{"$f":"IF(RIGHT('CROSS PSPB'!$D47,3)=\" IT\",'CROSS PSPB'!AE47,\"\")","v":""},{"$f":"IF(RIGHT('CROSS PSPB'!$D47,3)=\" IT\",'CROSS PSPB'!AF47,\"\")","v":""},{"$f":"IF(RIGHT('CROSS PSPB'!$D47,3)=\" IT\",'CROSS PSPB'!AG47,\"\")","v":""},{"$f":"IF(RIGHT('CROSS PSPB'!$D47,3)=\" IT\",'CROSS PSPB'!AH47,\"\")","v":""},{"$f":"IF(RIGHT('CROSS PSPB'!$D47,3)=\" IT\",'CROSS PSPB'!AI47,\"\")","v":""},{"$f":"IF(RIGHT('CROSS PSPB'!$D47,3)=\" IT\",'CROSS PSPB'!AJ47,\"\")","v":""},{"$f":"IF(RIGHT('CROSS PSPB'!$D47,3)=\" IT\",'CROSS PSPB'!AK47,\"\")","v":""},{"$f":"IF(RIGHT('CROSS PSPB'!$D47,3)=\" IT\",'CROSS PSPB'!AL47,\"\")","v":""},{"$f":"IF(RIGHT('CROSS PSPB'!$D47,3)=\" IT\",'CROSS PSPB'!AM47,\"\")","v":""},{"$f":"IF(RIGHT('CROSS PSPB'!$D47,3)=\" IT\",'CROSS PSPB'!AN47,\"\")","v":""},{"$f":"IF(RIGHT('CROSS PSPB'!$D47,3)=\" IT\",'CROSS PSPB'!AO47,\"\")","v":""},{"$f":"IF(RIGHT('CROSS PSPB'!$D47,3)=\" IT\",'CROSS PSPB'!AP47,\"\")","v":""},{"$f":"IF(RIGHT('CROSS PSPB'!$D47,3)=\" IT\",'CROSS PSPB'!AQ47,\"\")","v":""},{"$f":"IF(RIGHT('CROSS PSPB'!$D47,3)=\" IT\",'CROSS PSPB'!AR47,\"\")","v":""},{"$f":"IF(RIGHT('CROSS PSPB'!$D47,3)=\" IT\",'CROSS PSPB'!AS47,\"\")","v":""},{"$f":"IF(RIGHT('CROSS PSPB'!$D47,3)=\" IT\",'CROSS PSPB'!AT47,\"\")","v":""},{"$f":"IF(RIGHT('CROSS PSPB'!$D47,3)=\" IT\",'CROSS PSPB'!AU47,\"\")","v":""},{"$f":"IF(RIGHT('CROSS PSPB'!$D47,3)=\" IT\",'CROSS PSPB'!AV47,\"\")","v":""},{"$f":"IF(RIGHT('CROSS PSPB'!$D47,3)=\" IT\",'CROSS PSPB'!AW47,\"\")","v":""},{"$f":"IF(RIGHT('CROSS PSPB'!$D47,3)=\" IT\",'CROSS PSPB'!AX47,\"\")","v":""},{"$f":"IF(RIGHT('CROSS PSPB'!$D47,3)=\" IT\",'CROSS PSPB'!AY47,\"\")","v":""},{"$f":"IF(RIGHT('CROSS PSPB'!$D47,3)=\" IT\",'CROSS PSPB'!AZ47,\"\")","v":""},{"$error":"#VALUE!"},{"$error":"#VALUE!"},{"$error":"#VALUE!"},{"$error":"#VALUE!"}]
[null,{"$f":"IF(RIGHT('CROSS PSPB'!#REF!,3)=\" IT\",'CROSS PSPB'!#REF!,\"\")","v":{"$error":"#REF!"}},{"$f":"IF(RIGHT('CROSS PSPB'!#REF!,3)=\" IT\",'CROSS PSPB'!#REF!,\"\")","v":{"$error":"#REF!"}},{"$f":"IF(RIGHT('CROSS PSPB'!#REF!,3)=\" IT\",'CROSS PSPB'!#REF!,\"\")","v":{"$error":"#REF!"}},{"$f":"IF(RIGHT('CROSS PSPB'!#REF!,3)=\" IT\",'CROSS PSPB'!#REF!,\"\")","v":{"$error":"#REF!"}},{"$f":"IF(RIGHT('CROSS PSPB'!#REF!,3)=\" IT\",'CROSS PSPB'!#REF!,\"\")","v":{"$error":"#REF!"}},{"$f":"IF(RIGHT('CROSS PSPB'!#REF!,3)=\" IT\",'CROSS PSPB'!#REF!,\"\")","v":{"$error":"#REF!"}},{"$f":"IF(RIGHT('CROSS PSPB'!#REF!,3)=\" IT\",'CROSS PSPB'!#REF!,\"\")","v":{"$error":"#REF!"}},{"$f":"IF(RIGHT('CROSS PSPB'!#REF!,3)=\" IT\",'CROSS PSPB'!#REF!,\"\")","v":{"$error":"#REF!"}},{"$f":"IF(RIGHT('CROSS PSPB'!#REF!,3)=\" IT\",'CROSS PSPB'!#REF!,\"\")","v":{"$error":"#REF!"}},{"$f":"IF(RIGHT('CROSS PSPB'!#REF!,3)=\" IT\",'CROSS PSPB'!#REF!,\"\")","v":{"$error":"#REF!"}},{"$f":"IF(RIGHT('CROSS PSPB'!#REF!,3)=\" IT\",'CROSS PSPB'!#REF!,\"\")","v":{"$error":"#REF!"}},{"$f":"IF(RIGHT('CROSS PSPB'!#REF!,3)=\" IT\",'CROSS PSPB'!#REF!,\"\")","v":{"$error":"#REF!"}},{"$f":"IF(RIGHT('CROSS PSPB'!#REF!,3)=\" IT\",'CROSS PSPB'!#REF!,\"\")","v":{"$error":"#REF!"}},{"$f":"IF(RIGHT('CROSS PSPB'!#REF!,3)=\" IT\",'CROSS PSPB'!#REF!,\"\")","v":{"$error":"#REF!"}},{"$f":"IF(RIGHT('CROSS PSPB'!#REF!,3)=\" IT\",'CROSS PSPB'!#REF!,\"\")","v":{"$error":"#REF!"}},{"$f":"IF(RIGHT('CROSS PSPB'!#REF!,3)=\" IT\",'CROSS PSPB'!#REF!,\"\")","v":{"$error":"#REF!"}},{"$f":"IF(RIGHT('CROSS PSPB'!#REF!,3)=\" IT\",'CROSS PSPB'!#REF!,\"\")","v":{"$error":"#REF!"}},{"$f":"IF(RIGHT('CROSS PSPB'!#REF!,3)=\" IT\",'CROSS PSPB'!#REF!,\"\")","v":{"$error":"#REF!"}},{"$f":"IF(RIGHT('CROSS PSPB'!#REF!,3)=\" IT\",'CROSS PSPB'!#REF!,\"\")","v":{"$error":"#REF!"}},{"$f":"IF(RIGHT('CROSS PSPB'!#REF!,3)=\" IT\",'CROSS PSPB'!#REF!,\"\")","v":{"$error":"#REF!"}},{"$f":"IF(RIGHT('CROSS PSPB'!#REF!,3)=\" IT\",'CROSS PSPB'!#REF!,\"\")","v":{"$error":"#REF!"}},{"$f":"IF(RIGHT('CROSS PSPB'!#REF!,3)=\" IT\",'CROSS PSPB'!#REF!,\"\")","v":{"$error":"#REF!"}},{"$f":"IF(RIGHT('CROSS PSPB'!#REF!,3)=\" IT\",'CROSS PSPB'!#REF!,\"\")","v":{"$error":"#REF!"}},{"$f":"IF(RIGHT('CROSS PSPB'!#REF!,3)=\" IT\",'CROSS PSPB'!#REF!,\"\")","v":{"$error":"#REF!"}},{"$f":"IF(RIGHT('CROSS PSPB'!#REF!,3)=\" IT\",'CROSS PSPB'!#REF!,\"\")","v":{"$error":"#REF!"}},{"$f":"IF(RIGHT('CROSS PSPB'!#REF!,3)=\" IT\",'CROSS PSPB'!#REF!,\"\")","v":{"$error":"#REF!"}},{"$f":"IF(RIGHT('CROSS PSPB'!#REF!,3)=\" IT\",'CROSS PSPB'!#REF!,\"\")","v":{"$error":"#REF!"}},{"$f":"IF(RIGHT('CROSS PSPB'!#REF!,3)=\" IT\",'CROSS PSPB'!#REF!,\"\")","v":{"$error":"#REF!"}},{"$f":"IF(RIGHT('CROSS PSPB'!#REF!,3)=\" IT\",'CROSS PSPB'!#REF!,\"\")","v":{"$error":"#REF!"}},{"$f":"IF(RIGHT('CROSS PSPB'!#REF!,3)=\" IT\",'CROSS PSPB'!#REF!,\"\")","v":{"$error":"#REF!"}},{"$f":"IF(RIGHT('CROSS PSPB'!#REF!,3)=\" IT\",'CROSS PSPB'!#REF!,\"\")","v":{"$error":"#REF!"}},{"$f":"IF(RIGHT('CROSS PSPB'!#REF!,3)=\" IT\",'CROSS PSPB'!#REF!,\"\")","v":{"$error":"#REF!"}},{"$f":"IF(RIGHT('CROSS PSPB'!#REF!,3)=\" IT\",'CROSS PSPB'!#REF!,\"\")","v":{"$error":"#REF!"}},{"$f":"IF(RIGHT('CROSS PSPB'!#REF!,3)=\" IT\",'CROSS PSPB'!#REF!,\"\")","v":{"$error":"#REF!"}},{"$f":"IF(RIGHT('CROSS PSPB'!#REF!,3)=\" IT\",'CROSS PSPB'!#REF!,\"\")","v":{"$error":"#REF!"}},{"$f":"IF(RIGHT('CROSS PSPB'!#REF!,3)=\" IT\",'CROSS PSPB'!#REF!,\"\")","v":{"$error":"#REF!"}},{"$f":"IF(RIGHT('CROSS PSPB'!#REF!,3)=\" IT\",'CROSS PSPB'!#REF!,\"\")","v":{"$error":"#REF!"}},{"$f":"IF(RIGHT('CROSS PSPB'!#REF!,3)=\" IT\",'CROSS PSPB'!#REF!,\"\")","v":{"$error":"#REF!"}},{"$f":"IF(RIGHT('CROSS PSPB'!#REF!,3)=\" IT\",'CROSS PSPB'!#REF!,\"\")","v":{"$error":"#REF!"}},{"$f":"IF(RIGHT('CROSS PSPB'!#REF!,3)=\" IT\",'CROSS PSPB'!#REF!,\"\")","v":{"$error":"#REF!"}},{"$f":"IF(RIGHT('CROSS PSPB'!#REF!,3)=\" IT\",'CROSS PSPB'!#REF!,\"\")","v":{"$error":"#REF!"}},{"$f":"IF(RIGHT('CROSS PSPB'!#REF!,3)=\" IT\",'CROSS PSPB'!#REF!,\"\")","v":{"$error":"#REF!"}},{"$f":"IF(RIGHT('CROSS PSPB'!#REF!,3)=\" IT\",'CROSS PSPB'!#REF!,\"\")","v":{"$error":"#REF!"}},{"$f":"IF(RIGHT('CROSS PSPB'!#REF!,3)=\" IT\",'CROSS PSPB'!#REF!,\"\")","v":{"$error":"#REF!"}},{"$f":"IF(RIGHT('CROSS PSPB'!#REF!,3)=\" IT\",'CROSS PSPB'!#REF!,\"\")","v":{"$error":"#REF!"}},{"$f":"IF(RIGHT('CROSS PSPB'!#REF!,3)=\" IT\",'CROSS PSPB'!#REF!,\"\")","v":{"$error":"#REF!"}},{"$f":"IF(RIGHT('CROSS PSPB'!#REF!,3)=\" IT\",'CROSS PSPB'!#REF!,\"\")","v":{"$error":"#REF!"}},{"$f":"IF(RIGHT('CROSS PSPB'!#REF!,3)=\" IT\",'CROSS PSPB'!#REF!,\"\")","v":{"$error":"#REF!"}},{"$f":"IF(RIGHT('CROSS PSPB'!#REF!,3)=\" IT\",'CROSS PSPB'!#REF!,\"\")","v":{"$error":"#REF!"}},{"$f":"IF(RIGHT('CROSS PSPB'!#REF!,3)=\" IT\",'CROSS PSPB'!#REF!,\"\")","v":{"$error":"#REF!"}},{"$f":"IF(RIGHT('CROSS PSPB'!#REF!,3)=\" IT\",'CROSS PSPB'!#REF!,\"\")","v":{"$error":"#REF!"}},{"$error":"#REF!"},{"$error":"#REF!"},{"$error":"#REF!"},{"$error":"#REF!"}]
[null,{"$f":"IF(RIGHT('CROSS PSPB'!#REF!,3)=\" IT\",'CROSS PSPB'!#REF!,\"\")","v":{"$error":"#REF!"}},{"$f":"IF(RIGHT('CROSS PSPB'!#REF!,3)=\" IT\",'CROSS PSPB'!#REF!,\"\")","v":{"$error":"#REF!"}},{"$f":"IF(RIGHT('CROSS PSPB'!#REF!,3)=\" IT\",'CROSS PSPB'!#REF!,\"\")","v":{"$error":"#REF!"}},{"$f":"IF(RIGHT('CROSS PSPB'!#REF!,3)=\" IT\",'CROSS PSPB'!#REF!,\"\")","v":{"$error":"#REF!"}},{"$f":"IF(RIGHT('CROSS PSPB'!#REF!,3)=\" IT\",'CROSS PSPB'!#REF!,\"\")","v":{"$error":"#REF!"}},{"$f":"IF(RIGHT('CROSS PSPB'!#REF!,3)=\" IT\",'CROSS PSPB'!#REF!,\"\")","v":{"$error":"#REF!"}},{"$f":"IF(RIGHT('CROSS PSPB'!#REF!,3)=\" IT\",'CROSS PSPB'!#REF!,\"\")","v":{"$error":"#REF!"}},{"$f":"IF(RIGHT('CROSS PSPB'!#REF!,3)=\" IT\",'CROSS PSPB'!#REF!,\"\")","v":{"$error":"#REF!"}},{"$f":"IF(RIGHT('CROSS PSPB'!#REF!,3)=\" IT\",'CROSS PSPB'!#REF!,\"\")","v":{"$error":"#REF!"}},{"$f":"IF(RIGHT('CROSS PSPB'!#REF!,3)=\" IT\",'CROSS PSPB'!#REF!,\"\")","v":{"$error":"#REF!"}},{"$f":"IF(RIGHT('CROSS PSPB'!#REF!,3)=\" IT\",'CROSS PSPB'!#REF!,\"\")","v":{"$error":"#REF!"}},{"$f":"IF(RIGHT('CROSS PSPB'!#REF!,3)=\" IT\",'CROSS PSPB'!#REF!,\"\")","v":{"$error":"#REF!"}},{"$f":"IF(RIGHT('CROSS PSPB'!#REF!,3)=\" IT\",'CROSS PSPB'!#REF!,\"\")","v":{"$error":"#REF!"}},{"$f":"IF(RIGHT('CROSS PSPB'!#REF!,3)=\" IT\",'CROSS PSPB'!#REF!,\"\")","v":{"$error":"#REF!"}},{"$f":"IF(RIGHT('CROSS PSPB'!#REF!,3)=\" IT\",'CROSS PSPB'!#REF!,\"\")","v":{"$error":"#REF!"}},{"$f":"IF(RIGHT('CROSS PSPB'!#REF!,3)=\" IT\",'CROSS PSPB'!#REF!,\"\")","v":{"$error":"#REF!"}},{"$f":"IF(RIGHT('CROSS PSPB'!#REF!,3)=\" IT\",'CROSS PSPB'!#REF!,\"\")","v":{"$error":"#REF!"}},{"$f":"IF(RIGHT('CROSS PSPB'!#REF!,3)=\" IT\",'CROSS PSPB'!#REF!,\"\")","v":{"$error":"#REF!"}},{"$f":"IF(RIGHT('CROSS PSPB'!#REF!,3)=\" IT\",'CROSS PSPB'!#REF!,\"\")","v":{"$error":"#REF!"}},{"$f":"IF(RIGHT('CROSS PSPB'!#REF!,3)=\" IT\",'CROSS PSPB'!#REF!,\"\")","v":{"$error":"#REF!"}},{"$f":"IF(RIGHT('CROSS PSPB'!#REF!,3)=\" IT\",'CROSS PSPB'!#REF!,\"\")","v":{"$error":"#REF!"}},{"$f":"IF(RIGHT('CROSS PSPB'!#REF!,3)=\" IT\",'CROSS PSPB'!#REF!,\"\")","v":{"$error":"#REF!"}},{"$f":"IF(RIGHT('CROSS PSPB'!#REF!,3)=\" IT\",'CROSS PSPB'!#REF!,\"\")","v":{"$error":"#REF!"}},{"$f":"IF(RIGHT('CROSS PSPB'!#REF!,3)=\" IT\",'CROSS PSPB'!#REF!,\"\")","v":{"$error":"#REF!"}},{"$f":"IF(RIGHT('CROSS PSPB'!#REF!,3)=\" IT\",'CROSS PSPB'!#REF!,\"\")","v":{"$error":"#REF!"}},{"$f":"IF(RIGHT('CROSS PSPB'!#REF!,3)=\" IT\",'CROSS PSPB'!#REF!,\"\")","v":{"$error":"#REF!"}},{"$f":"IF(RIGHT('CROSS PSPB'!#REF!,3)=\" IT\",'CROSS PSPB'!#REF!,\"\")","v":{"$error":"#REF!"}},{"$f":"IF(RIGHT('CROSS PSPB'!#REF!,3)=\" IT\",'CROSS PSPB'!#REF!,\"\")","v":{"$error":"#REF!"}},{"$f":"IF(RIGHT('CROSS PSPB'!#REF!,3)=\" IT\",'CROSS PSPB'!#REF!,\"\")","v":{"$error":"#REF!"}},{"$f":"IF(RIGHT('CROSS PSPB'!#REF!,3)=\" IT\",'CROSS PSPB'!#REF!,\"\")","v":{"$error":"#REF!"}},{"$f":"IF(RIGHT('CROSS PSPB'!#REF!,3)=\" IT\",'CROSS PSPB'!#REF!,\"\")","v":{"$error":"#REF!"}},{"$f":"IF(RIGHT('CROSS PSPB'!#REF!,3)=\" IT\",'CROSS PSPB'!#REF!,\"\")","v":{"$error":"#REF!"}},{"$f":"IF(RIGHT('CROSS PSPB'!#REF!,3)=\" IT\",'CROSS PSPB'!#REF!,\"\")","v":{"$error":"#REF!"}},{"$f":"IF(RIGHT('CROSS PSPB'!#REF!,3)=\" IT\",'CROSS PSPB'!#REF!,\"\")","v":{"$error":"#REF!"}},{"$f":"IF(RIGHT('CROSS PSPB'!#REF!,3)=\" IT\",'CROSS PSPB'!#REF!,\"\")","v":{"$error":"#REF!"}},{"$f":"IF(RIGHT('CROSS PSPB'!#REF!,3)=\" IT\",'CROSS PSPB'!#REF!,\"\")","v":{"$error":"#REF!"}},{"$f":"IF(RIGHT('CROSS PSPB'!#REF!,3)=\" IT\",'CROSS PSPB'!#REF!,\"\")","v":{"$error":"#REF!"}},{"$f":"IF(RIGHT('CROSS PSPB'!#REF!,3)=\" IT\",'CROSS PSPB'!#REF!,\"\")","v":{"$error":"#REF!"}},{"$f":"IF(RIGHT('CROSS PSPB'!#REF!,3)=\" IT\",'CROSS PSPB'!#REF!,\"\")","v":{"$error":"#REF!"}},{"$f":"IF(RIGHT('CROSS PSPB'!#REF!,3)=\" IT\",'CROSS PSPB'!#REF!,\"\")","v":{"$error":"#REF!"}},{"$f":"IF(RIGHT('CROSS PSPB'!#REF!,3)=\" IT\",'CROSS PSPB'!#REF!,\"\")","v":{"$error":"#REF!"}},{"$f":"IF(RIGHT('CROSS PSPB'!#REF!,3)=\" IT\",'CROSS PSPB'!#REF!,\"\")","v":{"$error":"#REF!"}},{"$f":"IF(RIGHT('CROSS PSPB'!#REF!,3)=\" IT\",'CROSS PSPB'!#REF!,\"\")","v":{"$error":"#REF!"}},{"$f":"IF(RIGHT('CROSS PSPB'!#REF!,3)=\" IT\",'CROSS PSPB'!#REF!,\"\")","v":{"$error":"#REF!"}},{"$f":"IF(RIGHT('CROSS PSPB'!#REF!,3)=\" IT\",'CROSS PSPB'!#REF!,\"\")","v":{"$error":"#REF!"}},{"$f":"IF(RIGHT('CROSS PSPB'!#REF!,3)=\" IT\",'CROSS PSPB'!#REF!,\"\")","v":{"$error":"#REF!"}},{"$f":"IF(RIGHT('CROSS PSPB'!#REF!,3)=\" IT\",'CROSS PSPB'!#REF!,\"\")","v":{"$error":"#REF!"}},{"$f":"IF(RIGHT('CROSS PSPB'!#REF!,3)=\" IT\",'CROSS PSPB'!#REF!,\"\")","v":{"$error":"#REF!"}},{"$f":"IF(RIGHT('CROSS PSPB'!#REF!,3)=\" IT\",'CROSS PSPB'!#REF!,\"\")","v":{"$error":"#REF!"}},{"$f":"IF(RIGHT('CROSS PSPB'!#REF!,3)=\" IT\",'CROSS PSPB'!#REF!,\"\")","v":{"$error":"#REF!"}},{"$f":"IF(RIGHT('CROSS PSPB'!#REF!,3)=\" IT\",'CROSS PSPB'!#REF!,\"\")","v":{"$error":"#REF!"}},{"$error":"#REF!"},{"$error":"#REF!"},{"$error":"#REF!"},{"$error":"#REF!"}]
[null,{"$f":"IF(RIGHT('CROSS PSPB'!#REF!,3)=\" IT\",'CROSS PSPB'!#REF!,\"\")","v":{"$error":"#REF!"}},{"$f":"IF(RIGHT('CROSS PSPB'!#REF!,3)=\" IT\",'CROSS PSPB'!#REF!,\"\")","v":{"$error":"#REF!"}},{"$f":"IF(RIGHT('CROSS PSPB'!#REF!,3)=\" IT\",'CROSS PSPB'!#REF!,\"\")","v":{"$error":"#REF!"}},{"$f":"IF(RIGHT('CROSS PSPB'!#REF!,3)=\" IT\",'CROSS PSPB'!#REF!,\"\")","v":{"$error":"#REF!"}},{"$f":"IF(RIGHT('CROSS PSPB'!#REF!,3)=\" IT\",'CROSS PSPB'!#REF!,\"\")","v":{"$error":"#REF!"}},{"$f":"IF(RIGHT('CROSS PSPB'!#REF!,3)=\" IT\",'CROSS PSPB'!#REF!,\"\")","v":{"$error":"#REF!"}},{"$f":"IF(RIGHT('CROSS PSPB'!#REF!,3)=\" IT\",'CROSS PSPB'!#REF!,\"\")","v":{"$error":"#REF!"}},{"$f":"IF(RIGHT('CROSS PSPB'!#REF!,3)=\" IT\",'CROSS PSPB'!#REF!,\"\")","v":{"$error":"#REF!"}},{"$f":"IF(RIGHT('CROSS PSPB'!#REF!,3)=\" IT\",'CROSS PSPB'!#REF!,\"\")","v":{"$error":"#REF!"}},{"$f":"IF(RIGHT('CROSS PSPB'!#REF!,3)=\" IT\",'CROSS PSPB'!#REF!,\"\")","v":{"$error":"#REF!"}},{"$f":"IF(RIGHT('CROSS PSPB'!#REF!,3)=\" IT\",'CROSS PSPB'!#REF!,\"\")","v":{"$error":"#REF!"}},{"$f":"IF(RIGHT('CROSS PSPB'!#REF!,3)=\" IT\",'CROSS PSPB'!#REF!,\"\")","v":{"$error":"#REF!"}},{"$f":"IF(RIGHT('CROSS PSPB'!#REF!,3)=\" IT\",'CROSS PSPB'!#REF!,\"\")","v":{"$error":"#REF!"}},{"$f":"IF(RIGHT('CROSS PSPB'!#REF!,3)=\" IT\",'CROSS PSPB'!#REF!,\"\")","v":{"$error":"#REF!"}},{"$f":"IF(RIGHT('CROSS PSPB'!#REF!,3)=\" IT\",'CROSS PSPB'!#REF!,\"\")","v":{"$error":"#REF!"}},{"$f":"IF(RIGHT('CROSS PSPB'!#REF!,3)=\" IT\",'CROSS PSPB'!#REF!,\"\")","v":{"$error":"#REF!"}},{"$f":"IF(RIGHT('CROSS PSPB'!#REF!,3)=\" IT\",'CROSS PSPB'!#REF!,\"\")","v":{"$error":"#REF!"}},{"$f":"IF(RIGHT('CROSS PSPB'!#REF!,3)=\" IT\",'CROSS PSPB'!#REF!,\"\")","v":{"$error":"#REF!"}},{"$f":"IF(RIGHT('CROSS PSPB'!#REF!,3)=\" IT\",'CROSS PSPB'!#REF!,\"\")","v":{"$error":"#REF!"}},{"$f":"IF(RIGHT('CROSS PSPB'!#REF!,3)=\" IT\",'CROSS PSPB'!#REF!,\"\")","v":{"$error":"#REF!"}},{"$f":"IF(RIGHT('CROSS PSPB'!#REF!,3)=\" IT\",'CROSS PSPB'!#REF!,\"\")","v":{"$error":"#REF!"}},{"$f":"IF(RIGHT('CROSS PSPB'!#REF!,3)=\" IT\",'CROSS PSPB'!#REF!,\"\")","v":{"$error":"#REF!"}},{"$f":"IF(RIGHT('CROSS PSPB'!#REF!,3)=\" IT\",'CROSS PSPB'!#REF!,\"\")","v":{"$error":"#REF!"}},{"$f":"IF(RIGHT('CROSS PSPB'!#REF!,3)=\" IT\",'CROSS PSPB'!#REF!,\"\")","v":{"$error":"#REF!"}},{"$f":"IF(RIGHT('CROSS PSPB'!#REF!,3)=\" IT\",'CROSS PSPB'!#REF!,\"\")","v":{"$error":"#REF!"}},{"$f":"IF(RIGHT('CROSS PSPB'!#REF!,3)=\" IT\",'CROSS PSPB'!#REF!,\"\")","v":{"$error":"#REF!"}},{"$f":"IF(RIGHT('CROSS PSPB'!#REF!,3)=\" IT\",'CROSS PSPB'!#REF!,\"\")","v":{"$error":"#REF!"}},{"$f":"IF(RIGHT('CROSS PSPB'!#REF!,3)=\" IT\",'CROSS PSPB'!#REF!,\"\")","v":{"$error":"#REF!"}},{"$f":"IF(RIGHT('CROSS PSPB'!#REF!,3)=\" IT\",'CROSS PSPB'!#REF!,\"\")","v":{"$error":"#REF!"}},{"$f":"IF(RIGHT('CROSS PSPB'!#REF!,3)=\" IT\",'CROSS PSPB'!#REF!,\"\")","v":{"$error":"#REF!"}},{"$f":"IF(RIGHT('CROSS PSPB'!#REF!,3)=\" IT\",'CROSS PSPB'!#REF!,\"\")","v":{"$error":"#REF!"}},{"$f":"IF(RIGHT('CROSS PSPB'!#REF!,3)=\" IT\",'CROSS PSPB'!#REF!,\"\")","v":{"$error":"#REF!"}},{"$f":"IF(RIGHT('CROSS PSPB'!#REF!,3)=\" IT\",'CROSS PSPB'!#REF!,\"\")","v":{"$error":"#REF!"}},{"$f":"IF(RIGHT('CROSS PSPB'!#REF!,3)=\" IT\",'CROSS PSPB'!#REF!,\"\")","v":{"$error":"#REF!"}},{"$f":"IF(RIGHT('CROSS PSPB'!#REF!,3)=\" IT\",'CROSS PSPB'!#REF!,\"\")","v":{"$error":"#REF!"}},{"$f":"IF(RIGHT('CROSS PSPB'!#REF!,3)=\" IT\",'CROSS PSPB'!#REF!,\"\")","v":{"$error":"#REF!"}},{"$f":"IF(RIGHT('CROSS PSPB'!#REF!,3)=\" IT\",'CROSS PSPB'!#REF!,\"\")","v":{"$error":"#REF!"}},{"$f":"IF(RIGHT('CROSS PSPB'!#REF!,3)=\" IT\",'CROSS PSPB'!#REF!,\"\")","v":{"$error":"#REF!"}},{"$f":"IF(RIGHT('CROSS PSPB'!#REF!,3)=\" IT\",'CROSS PSPB'!#REF!,\"\")","v":{"$error":"#REF!"}},{"$f":"IF(RIGHT('CROSS PSPB'!#REF!,3)=\" IT\",'CROSS PSPB'!#REF!,\"\")","v":{"$error":"#REF!"}},{"$f":"IF(RIGHT('CROSS PSPB'!#REF!,3)=\" IT\",'CROSS PSPB'!#REF!,\"\")","v":{"$error":"#REF!"}},{"$f":"IF(RIGHT('CROSS PSPB'!#REF!,3)=\" IT\",'CROSS PSPB'!#REF!,\"\")","v":{"$error":"#REF!"}},{"$f":"IF(RIGHT('CROSS PSPB'!#REF!,3)=\" IT\",'CROSS PSPB'!#REF!,\"\")","v":{"$error":"#REF!"}},{"$f":"IF(RIGHT('CROSS PSPB'!#REF!,3)=\" IT\",'CROSS PSPB'!#REF!,\"\")","v":{"$error":"#REF!"}},{"$f":"IF(RIGHT('CROSS PSPB'!#REF!,3)=\" IT\",'CROSS PSPB'!#REF!,\"\")","v":{"$error":"#REF!"}},{"$f":"IF(RIGHT('CROSS PSPB'!#REF!,3)=\" IT\",'CROSS PSPB'!#REF!,\"\")","v":{"$error":"#REF!"}},{"$f":"IF(RIGHT('CROSS PSPB'!#REF!,3)=\" IT\",'CROSS PSPB'!#REF!,\"\")","v":{"$error":"#REF!"}},{"$f":"IF(RIGHT('CROSS PSPB'!#REF!,3)=\" IT\",'CROSS PSPB'!#REF!,\"\")","v":{"$error":"#REF!"}},{"$f":"IF(RIGHT('CROSS PSPB'!#REF!,3)=\" IT\",'CROSS PSPB'!#REF!,\"\")","v":{"$error":"#REF!"}},{"$f":"IF(RIGHT('CROSS PSPB'!#REF!,3)=\" IT\",'CROSS PSPB'!#REF!,\"\")","v":{"$error":"#REF!"}},{"$f":"IF(RIGHT('CROSS PSPB'!#REF!,3)=\" IT\",'CROSS PSPB'!#REF!,\"\")","v":{"$error":"#REF!"}},{"$error":"#REF!"},{"$error":"#REF!"},{"$error":"#REF!"},{"$error":"#REF!"}]
[null,{"$f":"IF(RIGHT('CROSS PSPB'!#REF!,3)=\" IT\",'CROSS PSPB'!#REF!,\"\")","v":{"$error":"#REF!"}},{"$f":"IF(RIGHT('CROSS PSPB'!#REF!,3)=\" IT\",'CROSS PSPB'!#REF!,\"\")","v":{"$error":"#REF!"}},{"$f":"IF(RIGHT('CROSS PSPB'!#REF!,3)=\" IT\",'CROSS PSPB'!#REF!,\"\")","v":{"$error":"#REF!"}},{"$f":"IF(RIGHT('CROSS PSPB'!#REF!,3)=\" IT\",'CROSS PSPB'!#REF!,\"\")","v":{"$error":"#REF!"}},{"$f":"IF(RIGHT('CROSS PSPB'!#REF!,3)=\" IT\",'CROSS PSPB'!#REF!,\"\")","v":{"$error":"#REF!"}},{"$f":"IF(RIGHT('CROSS PSPB'!#REF!,3)=\" IT\",'CROSS PSPB'!#REF!,\"\")","v":{"$error":"#REF!"}},{"$f":"IF(RIGHT('CROSS PSPB'!#REF!,3)=\" IT\",'CROSS PSPB'!#REF!,\"\")","v":{"$error":"#REF!"}},{"$f":"IF(RIGHT('CROSS PSPB'!#REF!,3)=\" IT\",'CROSS PSPB'!#REF!,\"\")","v":{"$error":"#REF!"}},{"$f":"IF(RIGHT('CROSS PSPB'!#REF!,3)=\" IT\",'CROSS PSPB'!#REF!,\"\")","v":{"$error":"#REF!"}},{"$f":"IF(RIGHT('CROSS PSPB'!#REF!,3)=\" IT\",'CROSS PSPB'!#REF!,\"\")","v":{"$error":"#REF!"}},{"$f":"IF(RIGHT('CROSS PSPB'!#REF!,3)=\" IT\",'CROSS PSPB'!#REF!,\"\")","v":{"$error":"#REF!"}},{"$f":"IF(RIGHT('CROSS PSPB'!#REF!,3)=\" IT\",'CROSS PSPB'!#REF!,\"\")","v":{"$error":"#REF!"}},{"$f":"IF(RIGHT('CROSS PSPB'!#REF!,3)=\" IT\",'CROSS PSPB'!#REF!,\"\")","v":{"$error":"#REF!"}},{"$f":"IF(RIGHT('CROSS PSPB'!#REF!,3)=\" IT\",'CROSS PSPB'!#REF!,\"\")","v":{"$error":"#REF!"}},{"$f":"IF(RIGHT('CROSS PSPB'!#REF!,3)=\" IT\",'CROSS PSPB'!#REF!,\"\")","v":{"$error":"#REF!"}},{"$f":"IF(RIGHT('CROSS PSPB'!#REF!,3)=\" IT\",'CROSS PSPB'!#REF!,\"\")","v":{"$error":"#REF!"}},{"$f":"IF(RIGHT('CROSS PSPB'!#REF!,3)=\" IT\",'CROSS PSPB'!#REF!,\"\")","v":{"$error":"#REF!"}},{"$f":"IF(RIGHT('CROSS PSPB'!#REF!,3)=\" IT\",'CROSS PSPB'!#REF!,\"\")","v":{"$error":"#REF!"}},{"$f":"IF(RIGHT('CROSS PSPB'!#REF!,3)=\" IT\",'CROSS PSPB'!#REF!,\"\")","v":{"$error":"#REF!"}},{"$f":"IF(RIGHT('CROSS PSPB'!#REF!,3)=\" IT\",'CROSS PSPB'!#REF!,\"\")","v":{"$error":"#REF!"}},{"$f":"IF(RIGHT('CROSS PSPB'!#REF!,3)=\" IT\",'CROSS PSPB'!#REF!,\"\")","v":{"$error":"#REF!"}},{"$f":"IF(RIGHT('CROSS PSPB'!#REF!,3)=\" IT\",'CROSS PSPB'!#REF!,\"\")","v":{"$error":"#REF!"}},{"$f":"IF(RIGHT('CROSS PSPB'!#REF!,3)=\" IT\",'CROSS PSPB'!#REF!,\"\")","v":{"$error":"#REF!"}},{"$f":"IF(RIGHT('CROSS PSPB'!#REF!,3)=\" IT\",'CROSS PSPB'!#REF!,\"\")","v":{"$error":"#REF!"}},{"$f":"IF(RIGHT('CROSS PSPB'!#REF!,3)=\" IT\",'CROSS PSPB'!#REF!,\"\")","v":{"$error":"#REF!"}},{"$f":"IF(RIGHT('CROSS PSPB'!#REF!,3)=\" IT\",'CROSS PSPB'!#REF!,\"\")","v":{"$error":"#REF!"}},{"$f":"IF(RIGHT('CROSS PSPB'!#REF!,3)=\" IT\",'CROSS PSPB'!#REF!,\"\")","v":{"$error":"#REF!"}},{"$f":"IF(RIGHT('CROSS PSPB'!#REF!,3)=\" IT\",'CROSS PSPB'!#REF!,\"\")","v":{"$error":"#REF!"}},{"$f":"IF(RIGHT('CROSS PSPB'!#REF!,3)=\" IT\",'CROSS PSPB'!#REF!,\"\")","v":{"$error":"#REF!"}},{"$f":"IF(RIGHT('CROSS PSPB'!#REF!,3)=\" IT\",'CROSS PSPB'!#REF!,\"\")","v":{"$error":"#REF!"}},{"$f":"IF(RIGHT('CROSS PSPB'!#REF!,3)=\" IT\",'CROSS PSPB'!#REF!,\"\")","v":{"$error":"#REF!"}},{"$f":"IF(RIGHT('CROSS PSPB'!#REF!,3)=\" IT\",'CROSS PSPB'!#REF!,\"\")","v":{"$error":"#REF!"}},{"$f":"IF(RIGHT('CROSS PSPB'!#REF!,3)=\" IT\",'CROSS PSPB'!#REF!,\"\")","v":{"$error":"#REF!"}},{"$f":"IF(RIGHT('CROSS PSPB'!#REF!,3)=\" IT\",'CROSS PSPB'!#REF!,\"\")","v":{"$error":"#REF!"}},{"$f":"IF(RIGHT('CROSS PSPB'!#REF!,3)=\" IT\",'CROSS PSPB'!#REF!,\"\")","v":{"$error":"#REF!"}},{"$f":"IF(RIGHT('CROSS PSPB'!#REF!,3)=\" IT\",'CROSS PSPB'!#REF!,\"\")","v":{"$error":"#REF!"}},{"$f":"IF(RIGHT('CROSS PSPB'!#REF!,3)=\" IT\",'CROSS PSPB'!#REF!,\"\")","v":{"$error":"#REF!"}},{"$f":"IF(RIGHT('CROSS PSPB'!#REF!,3)=\" IT\",'CROSS PSPB'!#REF!,\"\")","v":{"$error":"#REF!"}},{"$f":"IF(RIGHT('CROSS PSPB'!#REF!,3)=\" IT\",'CROSS PSPB'!#REF!,\"\")","v":{"$error":"#REF!"}},{"$f":"IF(RIGHT('CROSS PSPB'!#REF!,3)=\" IT\",'CROSS PSPB'!#REF!,\"\")","v":{"$error":"#REF!"}},{"$f":"IF(RIGHT('CROSS PSPB'!#REF!,3)=\" IT\",'CROSS PSPB'!#REF!,\"\")","v":{"$error":"#REF!"}},{"$f":"IF(RIGHT('CROSS PSPB'!#REF!,3)=\" IT\",'CROSS PSPB'!#REF!,\"\")","v":{"$error":"#REF!"}},{"$f":"IF(RIGHT('CROSS PSPB'!#REF!,3)=\" IT\",'CROSS PSPB'!#REF!,\"\")","v":{"$error":"#REF!"}},{"$f":"IF(RIGHT('CROSS PSPB'!#REF!,3)=\" IT\",'CROSS PSPB'!#REF!,\"\")","v":{"$error":"#REF!"}},{"$f":"IF(RIGHT('CROSS PSPB'!#REF!,3)=\" IT\",'CROSS PSPB'!#REF!,\"\")","v":{"$error":"#REF!"}},{"$f":"IF(RIGHT('CROSS PSPB'!#REF!,3)=\" IT\",'CROSS PSPB'!#REF!,\"\")","v":{"$error":"#REF!"}},{"$f":"IF(RIGHT('CROSS PSPB'!#REF!,3)=\" IT\",'CROSS PSPB'!#REF!,\"\")","v":{"$error":"#REF!"}},{"$f":"IF(RIGHT('CROSS PSPB'!#REF!,3)=\" IT\",'CROSS PSPB'!#REF!,\"\")","v":{"$error":"#REF!"}},{"$f":"IF(RIGHT('CROSS PSPB'!#REF!,3)=\" IT\",'CROSS PSPB'!#REF!,\"\")","v":{"$error":"#REF!"}},{"$f":"IF(RIGHT('CROSS PSPB'!#REF!,3)=\" IT\",'CROSS PSPB'!#REF!,\"\")","v":{"$error":"#REF!"}},{"$f":"IF(RIGHT('CROSS PSPB'!#REF!,3)=\" IT\",'CROSS PSPB'!#REF!,\"\")","v":{"$error":"#REF!"}},{"$error":"#REF!"},{"$error":"#REF!"},{"$error":"#REF!"},{"$error":"#REF!"}]
[null,{"$f":"IF(RIGHT('CROSS PSPB'!#REF!,3)=\" IT\",'CROSS PSPB'!#REF!,\"\")","v":{"$error":"#REF!"}},{"$f":"IF(RIGHT('CROSS PSPB'!#REF!,3)=\" IT\",'CROSS PSPB'!#REF!,\"\")","v":{"$error":"#REF!"}},{"$f":"IF(RIGHT('CROSS PSPB'!#REF!,3)=\" IT\",'CROSS PSPB'!#REF!,\"\")","v":{"$error":"#REF!"}},{"$f":"IF(RIGHT('CROSS PSPB'!#REF!,3)=\" IT\",'CROSS PSPB'!#REF!,\"\")","v":{"$error":"#REF!"}},{"$f":"IF(RIGHT('CROSS PSPB'!#REF!,3)=\" IT\",'CROSS PSPB'!#REF!,\"\")","v":{"$error":"#REF!"}},{"$f":"IF(RIGHT('CROSS PSPB'!#REF!,3)=\" IT\",'CROSS PSPB'!#REF!,\"\")","v":{"$error":"#REF!"}},{"$f":"IF(RIGHT('CROSS PSPB'!#REF!,3)=\" IT\",'CROSS PSPB'!#REF!,\"\")","v":{"$error":"#REF!"}},{"$f":"IF(RIGHT('CROSS PSPB'!#REF!,3)=\" IT\",'CROSS PSPB'!#REF!,\"\")","v":{"$error":"#REF!"}},{"$f":"IF(RIGHT('CROSS PSPB'!#REF!,3)=\" IT\",'CROSS PSPB'!#REF!,\"\")","v":{"$error":"#REF!"}},{"$f":"IF(RIGHT('CROSS PSPB'!#REF!,3)=\" IT\",'CROSS PSPB'!#REF!,\"\")","v":{"$error":"#REF!"}},{"$f":"IF(RIGHT('CROSS PSPB'!#REF!,3)=\" IT\",'CROSS PSPB'!#REF!,\"\")","v":{"$error":"#REF!"}},{"$f":"IF(RIGHT('CROSS PSPB'!#REF!,3)=\" IT\",'CROSS PSPB'!#REF!,\"\")","v":{"$error":"#REF!"}},{"$f":"IF(RIGHT('CROSS PSPB'!#REF!,3)=\" IT\",'CROSS PSPB'!#REF!,\"\")","v":{"$error":"#REF!"}},{"$f":"IF(RIGHT('CROSS PSPB'!#REF!,3)=\" IT\",'CROSS PSPB'!#REF!,\"\")","v":{"$error":"#REF!"}},{"$f":"IF(RIGHT('CROSS PSPB'!#REF!,3)=\" IT\",'CROSS PSPB'!#REF!,\"\")","v":{"$error":"#REF!"}},{"$f":"IF(RIGHT('CROSS PSPB'!#REF!,3)=\" IT\",'CROSS PSPB'!#REF!,\"\")","v":{"$error":"#REF!"}},{"$f":"IF(RIGHT('CROSS PSPB'!#REF!,3)=\" IT\",'CROSS PSPB'!#REF!,\"\")","v":{"$error":"#REF!"}},{"$f":"IF(RIGHT('CROSS PSPB'!#REF!,3)=\" IT\",'CROSS PSPB'!#REF!,\"\")","v":{"$error":"#REF!"}},{"$f":"IF(RIGHT('CROSS PSPB'!#REF!,3)=\" IT\",'CROSS PSPB'!#REF!,\"\")","v":{"$error":"#REF!"}},{"$f":"IF(RIGHT('CROSS PSPB'!#REF!,3)=\" IT\",'CROSS PSPB'!#REF!,\"\")","v":{"$error":"#REF!"}},{"$f":"IF(RIGHT('CROSS PSPB'!#REF!,3)=\" IT\",'CROSS PSPB'!#REF!,\"\")","v":{"$error":"#REF!"}},{"$f":"IF(RIGHT('CROSS PSPB'!#REF!,3)=\" IT\",'CROSS PSPB'!#REF!,\"\")","v":{"$error":"#REF!"}},{"$f":"IF(RIGHT('CROSS PSPB'!#REF!,3)=\" IT\",'CROSS PSPB'!#REF!,\"\")","v":{"$error":"#REF!"}},{"$f":"IF(RIGHT('CROSS PSPB'!#REF!,3)=\" IT\",'CROSS PSPB'!#REF!,\"\")","v":{"$error":"#REF!"}},{"$f":"IF(RIGHT('CROSS PSPB'!#REF!,3)=\" IT\",'CROSS PSPB'!#REF!,\"\")","v":{"$error":"#REF!"}},{"$f":"IF(RIGHT('CROSS PSPB'!#REF!,3)=\" IT\",'CROSS PSPB'!#REF!,\"\")","v":{"$error":"#REF!"}},{"$f":"IF(RIGHT('CROSS PSPB'!#REF!,3)=\" IT\",'CROSS PSPB'!#REF!,\"\")","v":{"$error":"#REF!"}},{"$f":"IF(RIGHT('CROSS PSPB'!#REF!,3)=\" IT\",'CROSS PSPB'!#REF!,\"\")","v":{"$error":"#REF!"}},{"$f":"IF(RIGHT('CROSS PSPB'!#REF!,3)=\" IT\",'CROSS PSPB'!#REF!,\"\")","v":{"$error":"#REF!"}},{"$f":"IF(RIGHT('CROSS PSPB'!#REF!,3)=\" IT\",'CROSS PSPB'!#REF!,\"\")","v":{"$error":"#REF!"}},{"$f":"IF(RIGHT('CROSS PSPB'!#REF!,3)=\" IT\",'CROSS PSPB'!#REF!,\"\")","v":{"$error":"#REF!"}},{"$f":"IF(RIGHT('CROSS PSPB'!#REF!,3)=\" IT\",'CROSS PSPB'!#REF!,\"\")","v":{"$error":"#REF!"}},{"$f":"IF(RIGHT('CROSS PSPB'!#REF!,3)=\" IT\",'CROSS PSPB'!#REF!,\"\")","v":{"$error":"#REF!"}},{"$f":"IF(RIGHT('CROSS PSPB'!#REF!,3)=\" IT\",'CROSS PSPB'!#REF!,\"\")","v":{"$error":"#REF!"}},{"$f":"IF(RIGHT('CROSS PSPB'!#REF!,3)=\" IT\",'CROSS PSPB'!#REF!,\"\")","v":{"$error":"#REF!"}},{"$f":"IF(RIGHT('CROSS PSPB'!#REF!,3)=\" IT\",'CROSS PSPB'!#REF!,\"\")","v":{"$error":"#REF!"}},{"$f":"IF(RIGHT('CROSS PSPB'!#REF!,3)=\" IT\",'CROSS PSPB'!#REF!,\"\")","v":{"$error":"#REF!"}},{"$f":"IF(RIGHT('CROSS PSPB'!#REF!,3)=\" IT\",'CROSS PSPB'!#REF!,\"\")","v":{"$error":"#REF!"}},{"$f":"IF(RIGHT('CROSS PSPB'!#REF!,3)=\" IT\",'CROSS PSPB'!#REF!,\"\")","v":{"$error":"#REF!"}},{"$f":"IF(RIGHT('CROSS PSPB'!#REF!,3)=\" IT\",'CROSS PSPB'!#REF!,\"\")","v":{"$error":"#REF!"}},{"$f":"IF(RIGHT('CROSS PSPB'!#REF!,3)=\" IT\",'CROSS PSPB'!#REF!,\"\")","v":{"$error":"#REF!"}},{"$f":"IF(RIGHT('CROSS PSPB'!#REF!,3)=\" IT\",'CROSS PSPB'!#REF!,\"\")","v":{"$error":"#REF!"}},{"$f":"IF(RIGHT('CROSS PSPB'!#REF!,3)=\" IT\",'CROSS PSPB'!#REF!,\"\")","v":{"$error":"#REF!"}},{"$f":"IF(RIGHT('CROSS PSPB'!#REF!,3)=\" IT\",'CROSS PSPB'!#REF!,\"\")","v":{"$error":"#REF!"}},{"$f":"IF(RIGHT('CROSS PSPB'!#REF!,3)=\" IT\",'CROSS PSPB'!#REF!,\"\")","v":{"$error":"#REF!"}},{"$f":"IF(RIGHT('CROSS PSPB'!#REF!,3)=\" IT\",'CROSS PSPB'!#REF!,\"\")","v":{"$error":"#REF!"}},{"$f":"IF(RIGHT('CROSS PSPB'!#REF!,3)=\" IT\",'CROSS PSPB'!#REF!,\"\")","v":{"$error":"#REF!"}},{"$f":"IF(RIGHT('CROSS PSPB'!#REF!,3)=\" IT\",'CROSS PSPB'!#REF!,\"\")","v":{"$error":"#REF!"}},{"$f":"IF(RIGHT('CROSS PSPB'!#REF!,3)=\" IT\",'CROSS PSPB'!#REF!,\"\")","v":{"$error":"#REF!"}},{"$f":"IF(RIGHT('CROSS PSPB'!#REF!,3)=\" IT\",'CROSS PSPB'!#REF!,\"\")","v":{"$error":"#REF!"}},{"$f":"IF(RIGHT('CROSS PSPB'!#REF!,3)=\" IT\",'CROSS PSPB'!#REF!,\"\")","v":{"$error":"#REF!"}},{"$error":"#REF!"},{"$error":"#REF!"},{"$error":"#REF!"},{"$error":"#REF!"}]
[null,{"$f":"IF(RIGHT('CROSS PSPB'!#REF!,3)=\" IT\",'CROSS PSPB'!#REF!,\"\")","v":{"$error":"#REF!"}},{"$f":"IF(RIGHT('CROSS PSPB'!#REF!,3)=\" IT\",'CROSS PSPB'!#REF!,\"\")","v":{"$error":"#REF!"}},{"$f":"IF(RIGHT('CROSS PSPB'!#REF!,3)=\" IT\",'CROSS PSPB'!#REF!,\"\")","v":{"$error":"#REF!"}},{"$f":"IF(RIGHT('CROSS PSPB'!#REF!,3)=\" IT\",'CROSS PSPB'!#REF!,\"\")","v":{"$error":"#REF!"}},{"$f":"IF(RIGHT('CROSS PSPB'!#REF!,3)=\" IT\",'CROSS PSPB'!#REF!,\"\")","v":{"$error":"#REF!"}},{"$f":"IF(RIGHT('CROSS PSPB'!#REF!,3)=\" IT\",'CROSS PSPB'!#REF!,\"\")","v":{"$error":"#REF!"}},{"$f":"IF(RIGHT('CROSS PSPB'!#REF!,3)=\" IT\",'CROSS PSPB'!#REF!,\"\")","v":{"$error":"#REF!"}},{"$f":"IF(RIGHT('CROSS PSPB'!#REF!,3)=\" IT\",'CROSS PSPB'!#REF!,\"\")","v":{"$error":"#REF!"}},{"$f":"IF(RIGHT('CROSS PSPB'!#REF!,3)=\" IT\",'CROSS PSPB'!#REF!,\"\")","v":{"$error":"#REF!"}},{"$f":"IF(RIGHT('CROSS PSPB'!#REF!,3)=\" IT\",'CROSS PSPB'!#REF!,\"\")","v":{"$error":"#REF!"}},{"$f":"IF(RIGHT('CROSS PSPB'!#REF!,3)=\" IT\",'CROSS PSPB'!#REF!,\"\")","v":{"$error":"#REF!"}},{"$f":"IF(RIGHT('CROSS PSPB'!#REF!,3)=\" IT\",'CROSS PSPB'!#REF!,\"\")","v":{"$error":"#REF!"}},{"$f":"IF(RIGHT('CROSS PSPB'!#REF!,3)=\" IT\",'CROSS PSPB'!#REF!,\"\")","v":{"$error":"#REF!"}},{"$f":"IF(RIGHT('CROSS PSPB'!#REF!,3)=\" IT\",'CROSS PSPB'!#REF!,\"\")","v":{"$error":"#REF!"}},{"$f":"IF(RIGHT('CROSS PSPB'!#REF!,3)=\" IT\",'CROSS PSPB'!#REF!,\"\")","v":{"$error":"#REF!"}},{"$f":"IF(RIGHT('CROSS PSPB'!#REF!,3)=\" IT\",'CROSS PSPB'!#REF!,\"\")","v":{"$error":"#REF!"}},{"$f":"IF(RIGHT('CROSS PSPB'!#REF!,3)=\" IT\",'CROSS PSPB'!#REF!,\"\")","v":{"$error":"#REF!"}},{"$f":"IF(RIGHT('CROSS PSPB'!#REF!,3)=\" IT\",'CROSS PSPB'!#REF!,\"\")","v":{"$error":"#REF!"}},{"$f":"IF(RIGHT('CROSS PSPB'!#REF!,3)=\" IT\",'CROSS PSPB'!#REF!,\"\")","v":{"$error":"#REF!"}},{"$f":"IF(RIGHT('CROSS PSPB'!#REF!,3)=\" IT\",'CROSS PSPB'!#REF!,\"\")","v":{"$error":"#REF!"}},{"$f":"IF(RIGHT('CROSS PSPB'!#REF!,3)=\" IT\",'CROSS PSPB'!#REF!,\"\")","v":{"$error":"#REF!"}},{"$f":"IF(RIGHT('CROSS PSPB'!#REF!,3)=\" IT\",'CROSS PSPB'!#REF!,\"\")","v":{"$error":"#REF!"}},{"$f":"IF(RIGHT('CROSS PSPB'!#REF!,3)=\" IT\",'CROSS PSPB'!#REF!,\"\")","v":{"$error":"#REF!"}},{"$f":"IF(RIGHT('CROSS PSPB'!#REF!,3)=\" IT\",'CROSS PSPB'!#REF!,\"\")","v":{"$error":"#REF!"}},{"$f":"IF(RIGHT('CROSS PSPB'!#REF!,3)=\" IT\",'CROSS PSPB'!#REF!,\"\")","v":{"$error":"#REF!"}},{"$f":"IF(RIGHT('CROSS PSPB'!#REF!,3)=\" IT\",'CROSS PSPB'!#REF!,\"\")","v":{"$error":"#REF!"}},{"$f":"IF(RIGHT('CROSS PSPB'!#REF!,3)=\" IT\",'CROSS PSPB'!#REF!,\"\")","v":{"$error":"#REF!"}},{"$f":"IF(RIGHT('CROSS PSPB'!#REF!,3)=\" IT\",'CROSS PSPB'!#REF!,\"\")","v":{"$error":"#REF!"}},{"$f":"IF(RIGHT('CROSS PSPB'!#REF!,3)=\" IT\",'CROSS PSPB'!#REF!,\"\")","v":{"$error":"#REF!"}},{"$f":"IF(RIGHT('CROSS PSPB'!#REF!,3)=\" IT\",'CROSS PSPB'!#REF!,\"\")","v":{"$error":"#REF!"}},{"$f":"IF(RIGHT('CROSS PSPB'!#REF!,3)=\" IT\",'CROSS PSPB'!#REF!,\"\")","v":{"$error":"#REF!"}},{"$f":"IF(RIGHT('CROSS PSPB'!#REF!,3)=\" IT\",'CROSS PSPB'!#REF!,\"\")","v":{"$error":"#REF!"}},{"$f":"IF(RIGHT('CROSS PSPB'!#REF!,3)=\" IT\",'CROSS PSPB'!#REF!,\"\")","v":{"$error":"#REF!"}},{"$f":"IF(RIGHT('CROSS PSPB'!#REF!,3)=\" IT\",'CROSS PSPB'!#REF!,\"\")","v":{"$error":"#REF!"}},{"$f":"IF(RIGHT('CROSS PSPB'!#REF!,3)=\" IT\",'CROSS PSPB'!#REF!,\"\")","v":{"$error":"#REF!"}},{"$f":"IF(RIGHT('CROSS PSPB'!#REF!,3)=\" IT\",'CROSS PSPB'!#REF!,\"\")","v":{"$error":"#REF!"}},{"$f":"IF(RIGHT('CROSS PSPB'!#REF!,3)=\" IT\",'CROSS PSPB'!#REF!,\"\")","v":{"$error":"#REF!"}},{"$f":"IF(RIGHT('CROSS PSPB'!#REF!,3)=\" IT\",'CROSS PSPB'!#REF!,\"\")","v":{"$error":"#REF!"}},{"$f":"IF(RIGHT('CROSS PSPB'!#REF!,3)=\" IT\",'CROSS PSPB'!#REF!,\"\")","v":{"$error":"#REF!"}},{"$f":"IF(RIGHT('CROSS PSPB'!#REF!,3)=\" IT\",'CROSS PSPB'!#REF!,\"\")","v":{"$error":"#REF!"}},{"$f":"IF(RIGHT('CROSS PSPB'!#REF!,3)=\" IT\",'CROSS PSPB'!#REF!,\"\")","v":{"$error":"#REF!"}},{"$f":"IF(RIGHT('CROSS PSPB'!#REF!,3)=\" IT\",'CROSS PSPB'!#REF!,\"\")","v":{"$error":"#REF!"}},{"$f":"IF(RIGHT('CROSS PSPB'!#REF!,3)=\" IT\",'CROSS PSPB'!#REF!,\"\")","v":{"$error":"#REF!"}},{"$f":"IF(RIGHT('CROSS PSPB'!#REF!,3)=\" IT\",'CROSS PSPB'!#REF!,\"\")","v":{"$error":"#REF!"}},{"$f":"IF(RIGHT('CROSS PSPB'!#REF!,3)=\" IT\",'CROSS PSPB'!#REF!,\"\")","v":{"$error":"#REF!"}},{"$f":"IF(RIGHT('CROSS PSPB'!#REF!,3)=\" IT\",'CROSS PSPB'!#REF!,\"\")","v":{"$error":"#REF!"}},{"$f":"IF(RIGHT('CROSS PSPB'!#REF!,3)=\" IT\",'CROSS PSPB'!#REF!,\"\")","v":{"$error":"#REF!"}},{"$f":"IF(RIGHT('CROSS PSPB'!#REF!,3)=\" IT\",'CROSS PSPB'!#REF!,\"\")","v":{"$error":"#REF!"}},{"$f":"IF(RIGHT('CROSS PSPB'!#REF!,3)=\" IT\",'CROSS PSPB'!#REF!,\"\")","v":{"$error":"#REF!"}},{"$f":"IF(RIGHT('CROSS PSPB'!#REF!,3)=\" IT\",'CROSS PSPB'!#REF!,\"\")","v":{"$error":"#REF!"}},{"$f":"IF(RIGHT('CROSS PSPB'!#REF!,3)=\" IT\",'CROSS PSPB'!#REF!,\"\")","v":{"$error":"#REF!"}},{"$error":"#REF!"},{"$error":"#REF!"},{"$error":"#REF!"},{"$error":"#REF!"}]
[null,{"$f":"IF(RIGHT('CROSS PSPB'!#REF!,3)=\" IT\",'CROSS PSPB'!#REF!,\"\")","v":{"$error":"#REF!"}},{"$f":"IF(RIGHT('CROSS PSPB'!#REF!,3)=\" IT\",'CROSS PSPB'!#REF!,\"\")","v":{"$error":"#REF!"}},{"$f":"IF(RIGHT('CROSS PSPB'!#REF!,3)=\" IT\",'CROSS PSPB'!#REF!,\"\")","v":{"$error":"#REF!"}},{"$f":"IF(RIGHT('CROSS PSPB'!#REF!,3)=\" IT\",'CROSS PSPB'!#REF!,\"\")","v":{"$error":"#REF!"}},{"$f":"IF(RIGHT('CROSS PSPB'!#REF!,3)=\" IT\",'CROSS PSPB'!#REF!,\"\")","v":{"$error":"#REF!"}},{"$f":"IF(RIGHT('CROSS PSPB'!#REF!,3)=\" IT\",'CROSS PSPB'!#REF!,\"\")","v":{"$error":"#REF!"}},{"$f":"IF(RIGHT('CROSS PSPB'!#REF!,3)=\" IT\",'CROSS PSPB'!#REF!,\"\")","v":{"$error":"#REF!"}},{"$f":"IF(RIGHT('CROSS PSPB'!#REF!,3)=\" IT\",'CROSS PSPB'!#REF!,\"\")","v":{"$error":"#REF!"}},{"$f":"IF(RIGHT('CROSS PSPB'!#REF!,3)=\" IT\",'CROSS PSPB'!#REF!,\"\")","v":{"$error":"#REF!"}},{"$f":"IF(RIGHT('CROSS PSPB'!#REF!,3)=\" IT\",'CROSS PSPB'!#REF!,\"\")","v":{"$error":"#REF!"}},{"$f":"IF(RIGHT('CROSS PSPB'!#REF!,3)=\" IT\",'CROSS PSPB'!#REF!,\"\")","v":{"$error":"#REF!"}},{"$f":"IF(RIGHT('CROSS PSPB'!#REF!,3)=\" IT\",'CROSS PSPB'!#REF!,\"\")","v":{"$error":"#REF!"}},{"$f":"IF(RIGHT('CROSS PSPB'!#REF!,3)=\" IT\",'CROSS PSPB'!#REF!,\"\")","v":{"$error":"#REF!"}},{"$f":"IF(RIGHT('CROSS PSPB'!#REF!,3)=\" IT\",'CROSS PSPB'!#REF!,\"\")","v":{"$error":"#REF!"}},{"$f":"IF(RIGHT('CROSS PSPB'!#REF!,3)=\" IT\",'CROSS PSPB'!#REF!,\"\")","v":{"$error":"#REF!"}},{"$f":"IF(RIGHT('CROSS PSPB'!#REF!,3)=\" IT\",'CROSS PSPB'!#REF!,\"\")","v":{"$error":"#REF!"}},{"$f":"IF(RIGHT('CROSS PSPB'!#REF!,3)=\" IT\",'CROSS PSPB'!#REF!,\"\")","v":{"$error":"#REF!"}},{"$f":"IF(RIGHT('CROSS PSPB'!#REF!,3)=\" IT\",'CROSS PSPB'!#REF!,\"\")","v":{"$error":"#REF!"}},{"$f":"IF(RIGHT('CROSS PSPB'!#REF!,3)=\" IT\",'CROSS PSPB'!#REF!,\"\")","v":{"$error":"#REF!"}},{"$f":"IF(RIGHT('CROSS PSPB'!#REF!,3)=\" IT\",'CROSS PSPB'!#REF!,\"\")","v":{"$error":"#REF!"}},{"$f":"IF(RIGHT('CROSS PSPB'!#REF!,3)=\" IT\",'CROSS PSPB'!#REF!,\"\")","v":{"$error":"#REF!"}},{"$f":"IF(RIGHT('CROSS PSPB'!#REF!,3)=\" IT\",'CROSS PSPB'!#REF!,\"\")","v":{"$error":"#REF!"}},{"$f":"IF(RIGHT('CROSS PSPB'!#REF!,3)=\" IT\",'CROSS PSPB'!#REF!,\"\")","v":{"$error":"#REF!"}},{"$f":"IF(RIGHT('CROSS PSPB'!#REF!,3)=\" IT\",'CROSS PSPB'!#REF!,\"\")","v":{"$error":"#REF!"}},{"$f":"IF(RIGHT('CROSS PSPB'!#REF!,3)=\" IT\",'CROSS PSPB'!#REF!,\"\")","v":{"$error":"#REF!"}},{"$f":"IF(RIGHT('CROSS PSPB'!#REF!,3)=\" IT\",'CROSS PSPB'!#REF!,\"\")","v":{"$error":"#REF!"}},{"$f":"IF(RIGHT('CROSS PSPB'!#REF!,3)=\" IT\",'CROSS PSPB'!#REF!,\"\")","v":{"$error":"#REF!"}},{"$f":"IF(RIGHT('CROSS PSPB'!#REF!,3)=\" IT\",'CROSS PSPB'!#REF!,\"\")","v":{"$error":"#REF!"}},{"$f":"IF(RIGHT('CROSS PSPB'!#REF!,3)=\" IT\",'CROSS PSPB'!#REF!,\"\")","v":{"$error":"#REF!"}},{"$f":"IF(RIGHT('CROSS PSPB'!#REF!,3)=\" IT\",'CROSS PSPB'!#REF!,\"\")","v":{"$error":"#REF!"}},{"$f":"IF(RIGHT('CROSS PSPB'!#REF!,3)=\" IT\",'CROSS PSPB'!#REF!,\"\")","v":{"$error":"#REF!"}},{"$f":"IF(RIGHT('CROSS PSPB'!#REF!,3)=\" IT\",'CROSS PSPB'!#REF!,\"\")","v":{"$error":"#REF!"}},{"$f":"IF(RIGHT('CROSS PSPB'!#REF!,3)=\" IT\",'CROSS PSPB'!#REF!,\"\")","v":{"$error":"#REF!"}},{"$f":"IF(RIGHT('CROSS PSPB'!#REF!,3)=\" IT\",'CROSS PSPB'!#REF!,\"\")","v":{"$error":"#REF!"}},{"$f":"IF(RIGHT('CROSS PSPB'!#REF!,3)=\" IT\",'CROSS PSPB'!#REF!,\"\")","v":{"$error":"#REF!"}},{"$f":"IF(RIGHT('CROSS PSPB'!#REF!,3)=\" IT\",'CROSS PSPB'!#REF!,\"\")","v":{"$error":"#REF!"}},{"$f":"IF(RIGHT('CROSS PSPB'!#REF!,3)=\" IT\",'CROSS PSPB'!#REF!,\"\")","v":{"$error":"#REF!"}},{"$f":"IF(RIGHT('CROSS PSPB'!#REF!,3)=\" IT\",'CROSS PSPB'!#REF!,\"\")","v":{"$error":"#REF!"}},{"$f":"IF(RIGHT('CROSS PSPB'!#REF!,3)=\" IT\",'CROSS PSPB'!#REF!,\"\")","v":{"$error":"#REF!"}},{"$f":"IF(RIGHT('CROSS PSPB'!#REF!,3)=\" IT\",'CROSS PSPB'!#REF!,\"\")","v":{"$error":"#REF!"}},{"$f":"IF(RIGHT('CROSS PSPB'!#REF!,3)=\" IT\",'CROSS PSPB'!#REF!,\"\")","v":{"$error":"#REF!"}},{"$f":"IF(RIGHT('CROSS PSPB'!#REF!,3)=\" IT\",'CROSS PSPB'!#REF!,\"\")","v":{"$error":"#REF!"}},{"$f":"IF(RIGHT('CROSS PSPB'!#REF!,3)=\" IT\",'CROSS PSPB'!#REF!,\"\")","v":{"$error":"#REF!"}},{"$f":"IF(RIGHT('CROSS PSPB'!#REF!,3)=\" IT\",'CROSS PSPB'!#REF!,\"\")","v":{"$error":"#REF!"}},{"$f":"IF(RIGHT('CROSS PSPB'!#REF!,3)=\" IT\",'CROSS PSPB'!#REF!,\"\")","v":{"$error":"#REF!"}},{"$f":"IF(RIGHT('CROSS PSPB'!#REF!,3)=\" IT\",'CROSS PSPB'!#REF!,\"\")","v":{"$error":"#REF!"}},{"$f":"IF(RIGHT('CROSS PSPB'!#REF!,3)=\" IT\",'CROSS PSPB'!#REF!,\"\")","v":{"$error":"#REF!"}},{"$f":"IF(RIGHT('CROSS PSPB'!#REF!,3)=\" IT\",'CROSS PSPB'!#REF!,\"\")","v":{"$error":"#REF!"}},{"$f":"IF(RIGHT('CROSS PSPB'!#REF!,3)=\" IT\",'CROSS PSPB'!#REF!,\"\")","v":{"$error":"#REF!"}},{"$f":"IF(RIGHT('CROSS PSPB'!#REF!,3)=\" IT\",'CROSS PSPB'!#REF!,\"\")","v":{"$error":"#REF!"}},{"$f":"IF(RIGHT('CROSS PSPB'!#REF!,3)=\" IT\",'CROSS PSPB'!#REF!,\"\")","v":{"$error":"#REF!"}},{"$error":"#REF!"},{"$error":"#REF!"},{"$error":"#REF!"},{"$error":"#REF!"}]
[null,{"$f":"IF(RIGHT('CROSS PSPB'!#REF!,3)=\" IT\",'CROSS PSPB'!#REF!,\"\")","v":{"$error":"#REF!"}},{"$f":"IF(RIGHT('CROSS PSPB'!#REF!,3)=\" IT\",'CROSS PSPB'!#REF!,\"\")","v":{"$error":"#REF!"}},{"$f":"IF(RIGHT('CROSS PSPB'!#REF!,3)=\" IT\",'CROSS PSPB'!#REF!,\"\")","v":{"$error":"#REF!"}},{"$f":"IF(RIGHT('CROSS PSPB'!#REF!,3)=\" IT\",'CROSS PSPB'!#REF!,\"\")","v":{"$error":"#REF!"}},{"$f":"IF(RIGHT('CROSS PSPB'!#REF!,3)=\" IT\",'CROSS PSPB'!#REF!,\"\")","v":{"$error":"#REF!"}},{"$f":"IF(RIGHT('CROSS PSPB'!#REF!,3)=\" IT\",'CROSS PSPB'!#REF!,\"\")","v":{"$error":"#REF!"}},{"$f":"IF(RIGHT('CROSS PSPB'!#REF!,3)=\" IT\",'CROSS PSPB'!#REF!,\"\")","v":{"$error":"#REF!"}},{"$f":"IF(RIGHT('CROSS PSPB'!#REF!,3)=\" IT\",'CROSS PSPB'!#REF!,\"\")","v":{"$error":"#REF!"}},{"$f":"IF(RIGHT('CROSS PSPB'!#REF!,3)=\" IT\",'CROSS PSPB'!#REF!,\"\")","v":{"$error":"#REF!"}},{"$f":"IF(RIGHT('CROSS PSPB'!#REF!,3)=\" IT\",'CROSS PSPB'!#REF!,\"\")","v":{"$error":"#REF!"}},{"$f":"IF(RIGHT('CROSS PSPB'!#REF!,3)=\" IT\",'CROSS PSPB'!#REF!,\"\")","v":{"$error":"#REF!"}},{"$f":"IF(RIGHT('CROSS PSPB'!#REF!,3)=\" IT\",'CROSS PSPB'!#REF!,\"\")","v":{"$error":"#REF!"}},{"$f":"IF(RIGHT('CROSS PSPB'!#REF!,3)=\" IT\",'CROSS PSPB'!#REF!,\"\")","v":{"$error":"#REF!"}},{"$f":"IF(RIGHT('CROSS PSPB'!#REF!,3)=\" IT\",'CROSS PSPB'!#REF!,\"\")","v":{"$error":"#REF!"}},{"$f":"IF(RIGHT('CROSS PSPB'!#REF!,3)=\" IT\",'CROSS PSPB'!#REF!,\"\")","v":{"$error":"#REF!"}},{"$f":"IF(RIGHT('CROSS PSPB'!#REF!,3)=\" IT\",'CROSS PSPB'!#REF!,\"\")","v":{"$error":"#REF!"}},{"$f":"IF(RIGHT('CROSS PSPB'!#REF!,3)=\" IT\",'CROSS PSPB'!#REF!,\"\")","v":{"$error":"#REF!"}},{"$f":"IF(RIGHT('CROSS PSPB'!#REF!,3)=\" IT\",'CROSS PSPB'!#REF!,\"\")","v":{"$error":"#REF!"}},{"$f":"IF(RIGHT('CROSS PSPB'!#REF!,3)=\" IT\",'CROSS PSPB'!#REF!,\"\")","v":{"$error":"#REF!"}},{"$f":"IF(RIGHT('CROSS PSPB'!#REF!,3)=\" IT\",'CROSS PSPB'!#REF!,\"\")","v":{"$error":"#REF!"}},{"$f":"IF(RIGHT('CROSS PSPB'!#REF!,3)=\" IT\",'CROSS PSPB'!#REF!,\"\")","v":{"$error":"#REF!"}},{"$f":"IF(RIGHT('CROSS PSPB'!#REF!,3)=\" IT\",'CROSS PSPB'!#REF!,\"\")","v":{"$error":"#REF!"}},{"$f":"IF(RIGHT('CROSS PSPB'!#REF!,3)=\" IT\",'CROSS PSPB'!#REF!,\"\")","v":{"$error":"#REF!"}},{"$f":"IF(RIGHT('CROSS PSPB'!#REF!,3)=\" IT\",'CROSS PSPB'!#REF!,\"\")","v":{"$error":"#REF!"}},{"$f":"IF(RIGHT('CROSS PSPB'!#REF!,3)=\" IT\",'CROSS PSPB'!#REF!,\"\")","v":{"$error":"#REF!"}},{"$f":"IF(RIGHT('CROSS PSPB'!#REF!,3)=\" IT\",'CROSS PSPB'!#REF!,\"\")","v":{"$error":"#REF!"}},{"$f":"IF(RIGHT('CROSS PSPB'!#REF!,3)=\" IT\",'CROSS PSPB'!#REF!,\"\")","v":{"$error":"#REF!"}},{"$f":"IF(RIGHT('CROSS PSPB'!#REF!,3)=\" IT\",'CROSS PSPB'!#REF!,\"\")","v":{"$error":"#REF!"}},{"$f":"IF(RIGHT('CROSS PSPB'!#REF!,3)=\" IT\",'CROSS PSPB'!#REF!,\"\")","v":{"$error":"#REF!"}},{"$f":"IF(RIGHT('CROSS PSPB'!#REF!,3)=\" IT\",'CROSS PSPB'!#REF!,\"\")","v":{"$error":"#REF!"}},{"$f":"IF(RIGHT('CROSS PSPB'!#REF!,3)=\" IT\",'CROSS PSPB'!#REF!,\"\")","v":{"$error":"#REF!"}},{"$f":"IF(RIGHT('CROSS PSPB'!#REF!,3)=\" IT\",'CROSS PSPB'!#REF!,\"\")","v":{"$error":"#REF!"}},{"$f":"IF(RIGHT('CROSS PSPB'!#REF!,3)=\" IT\",'CROSS PSPB'!#REF!,\"\")","v":{"$error":"#REF!"}},{"$f":"IF(RIGHT('CROSS PSPB'!#REF!,3)=\" IT\",'CROSS PSPB'!#REF!,\"\")","v":{"$error":"#REF!"}},{"$f":"IF(RIGHT('CROSS PSPB'!#REF!,3)=\" IT\",'CROSS PSPB'!#REF!,\"\")","v":{"$error":"#REF!"}},{"$f":"IF(RIGHT('CROSS PSPB'!#REF!,3)=\" IT\",'CROSS PSPB'!#REF!,\"\")","v":{"$error":"#REF!"}},{"$f":"IF(RIGHT('CROSS PSPB'!#REF!,3)=\" IT\",'CROSS PSPB'!#REF!,\"\")","v":{"$error":"#REF!"}},{"$f":"IF(RIGHT('CROSS PSPB'!#REF!,3)=\" IT\",'CROSS PSPB'!#REF!,\"\")","v":{"$error":"#REF!"}},{"$f":"IF(RIGHT('CROSS PSPB'!#REF!,3)=\" IT\",'CROSS PSPB'!#REF!,\"\")","v":{"$error":"#REF!"}},{"$f":"IF(RIGHT('CROSS PSPB'!#REF!,3)=\" IT\",'CROSS PSPB'!#REF!,\"\")","v":{"$error":"#REF!"}},{"$f":"IF(RIGHT('CROSS PSPB'!#REF!,3)=\" IT\",'CROSS PSPB'!#REF!,\"\")","v":{"$error":"#REF!"}},{"$f":"IF(RIGHT('CROSS PSPB'!#REF!,3)=\" IT\",'CROSS PSPB'!#REF!,\"\")","v":{"$error":"#REF!"}},{"$f":"IF(RIGHT('CROSS PSPB'!#REF!,3)=\" IT\",'CROSS PSPB'!#REF!,\"\")","v":{"$error":"#REF!"}},{"$f":"IF(RIGHT('CROSS PSPB'!#REF!,3)=\" IT\",'CROSS PSPB'!#REF!,\"\")","v":{"$error":"#REF!"}},{"$f":"IF(RIGHT('CROSS PSPB'!#REF!,3)=\" IT\",'CROSS PSPB'!#REF!,\"\")","v":{"$error":"#REF!"}},{"$f":"IF(RIGHT('CROSS PSPB'!#REF!,3)=\" IT\",'CROSS PSPB'!#REF!,\"\")","v":{"$error":"#REF!"}},{"$f":"IF(RIGHT('CROSS PSPB'!#REF!,3)=\" IT\",'CROSS PSPB'!#REF!,\"\")","v":{"$error":"#REF!"}},{"$f":"IF(RIGHT('CROSS PSPB'!#REF!,3)=\" IT\",'CROSS PSPB'!#REF!,\"\")","v":{"$error":"#REF!"}},{"$f":"IF(RIGHT('CROSS PSPB'!#REF!,3)=\" IT\",'CROSS PSPB'!#REF!,\"\")","v":{"$error":"#REF!"}},{"$f":"IF(RIGHT('CROSS PSPB'!#REF!,3)=\" IT\",'CROSS PSPB'!#REF!,\"\")","v":{"$error":"#REF!"}},{"$f":"IF(RIGHT('CROSS PSPB'!#REF!,3)=\" IT\",'CROSS PSPB'!#REF!,\"\")","v":{"$error":"#REF!"}},{"$error":"#REF!"},{"$error":"#REF!"},{"$error":"#REF!"},{"$error":"#REF!"}]
[null,{"$f":"IF(RIGHT('CROSS PSPB'!#REF!,3)=\" IT\",'CROSS PSPB'!#REF!,\"\")","v":{"$error":"#REF!"}},{"$f":"IF(RIGHT('CROSS PSPB'!#REF!,3)=\" IT\",'CROSS PSPB'!#REF!,\"\")","v":{"$error":"#REF!"}},{"$f":"IF(RIGHT('CROSS PSPB'!#REF!,3)=\" IT\",'CROSS PSPB'!#REF!,\"\")","v":{"$error":"#REF!"}},{"$f":"IF(RIGHT('CROSS PSPB'!#REF!,3)=\" IT\",'CROSS PSPB'!#REF!,\"\")","v":{"$error":"#REF!"}},{"$f":"IF(RIGHT('CROSS PSPB'!#REF!,3)=\" IT\",'CROSS PSPB'!#REF!,\"\")","v":{"$error":"#REF!"}},{"$f":"IF(RIGHT('CROSS PSPB'!#REF!,3)=\" IT\",'CROSS PSPB'!#REF!,\"\")","v":{"$error":"#REF!"}},{"$f":"IF(RIGHT('CROSS PSPB'!#REF!,3)=\" IT\",'CROSS PSPB'!#REF!,\"\")","v":{"$error":"#REF!"}},{"$f":"IF(RIGHT('CROSS PSPB'!#REF!,3)=\" IT\",'CROSS PSPB'!#REF!,\"\")","v":{"$error":"#REF!"}},{"$f":"IF(RIGHT('CROSS PSPB'!#REF!,3)=\" IT\",'CROSS PSPB'!#REF!,\"\")","v":{"$error":"#REF!"}},{"$f":"IF(RIGHT('CROSS PSPB'!#REF!,3)=\" IT\",'CROSS PSPB'!#REF!,\"\")","v":{"$error":"#REF!"}},{"$f":"IF(RIGHT('CROSS PSPB'!#REF!,3)=\" IT\",'CROSS PSPB'!#REF!,\"\")","v":{"$error":"#REF!"}},{"$f":"IF(RIGHT('CROSS PSPB'!#REF!,3)=\" IT\",'CROSS PSPB'!#REF!,\"\")","v":{"$error":"#REF!"}},{"$f":"IF(RIGHT('CROSS PSPB'!#REF!,3)=\" IT\",'CROSS PSPB'!#REF!,\"\")","v":{"$error":"#REF!"}},{"$f":"IF(RIGHT('CROSS PSPB'!#REF!,3)=\" IT\",'CROSS PSPB'!#REF!,\"\")","v":{"$error":"#REF!"}},{"$f":"IF(RIGHT('CROSS PSPB'!#REF!,3)=\" IT\",'CROSS PSPB'!#REF!,\"\")","v":{"$error":"#REF!"}},{"$f":"IF(RIGHT('CROSS PSPB'!#REF!,3)=\" IT\",'CROSS PSPB'!#REF!,\"\")","v":{"$error":"#REF!"}},{"$f":"IF(RIGHT('CROSS PSPB'!#REF!,3)=\" IT\",'CROSS PSPB'!#REF!,\"\")","v":{"$error":"#REF!"}},{"$f":"IF(RIGHT('CROSS PSPB'!#REF!,3)=\" IT\",'CROSS PSPB'!#REF!,\"\")","v":{"$error":"#REF!"}},{"$f":"IF(RIGHT('CROSS PSPB'!#REF!,3)=\" IT\",'CROSS PSPB'!#REF!,\"\")","v":{"$error":"#REF!"}},{"$f":"IF(RIGHT('CROSS PSPB'!#REF!,3)=\" IT\",'CROSS PSPB'!#REF!,\"\")","v":{"$error":"#REF!"}},{"$f":"IF(RIGHT('CROSS PSPB'!#REF!,3)=\" IT\",'CROSS PSPB'!#REF!,\"\")","v":{"$error":"#REF!"}},{"$f":"IF(RIGHT('CROSS PSPB'!#REF!,3)=\" IT\",'CROSS PSPB'!#REF!,\"\")","v":{"$error":"#REF!"}},{"$f":"IF(RIGHT('CROSS PSPB'!#REF!,3)=\" IT\",'CROSS PSPB'!#REF!,\"\")","v":{"$error":"#REF!"}},{"$f":"IF(RIGHT('CROSS PSPB'!#REF!,3)=\" IT\",'CROSS PSPB'!#REF!,\"\")","v":{"$error":"#REF!"}},{"$f":"IF(RIGHT('CROSS PSPB'!#REF!,3)=\" IT\",'CROSS PSPB'!#REF!,\"\")","v":{"$error":"#REF!"}},{"$f":"IF(RIGHT('CROSS PSPB'!#REF!,3)=\" IT\",'CROSS PSPB'!#REF!,\"\")","v":{"$error":"#REF!"}},{"$f":"IF(RIGHT('CROSS PSPB'!#REF!,3)=\" IT\",'CROSS PSPB'!#REF!,\"\")","v":{"$error":"#REF!"}},{"$f":"IF(RIGHT('CROSS PSPB'!#REF!,3)=\" IT\",'CROSS PSPB'!#REF!,\"\")","v":{"$error":"#REF!"}},{"$f":"IF(RIGHT('CROSS PSPB'!#REF!,3)=\" IT\",'CROSS PSPB'!#REF!,\"\")","v":{"$error":"#REF!"}},{"$f":"IF(RIGHT('CROSS PSPB'!#REF!,3)=\" IT\",'CROSS PSPB'!#REF!,\"\")","v":{"$error":"#REF!"}},{"$f":"IF(RIGHT('CROSS PSPB'!#REF!,3)=\" IT\",'CROSS PSPB'!#REF!,\"\")","v":{"$error":"#REF!"}},{"$f":"IF(RIGHT('CROSS PSPB'!#REF!,3)=\" IT\",'CROSS PSPB'!#REF!,\"\")","v":{"$error":"#REF!"}},{"$f":"IF(RIGHT('CROSS PSPB'!#REF!,3)=\" IT\",'CROSS PSPB'!#REF!,\"\")","v":{"$error":"#REF!"}},{"$f":"IF(RIGHT('CROSS PSPB'!#REF!,3)=\" IT\",'CROSS PSPB'!#REF!,\"\")","v":{"$error":"#REF!"}},{"$f":"IF(RIGHT('CROSS PSPB'!#REF!,3)=\" IT\",'CROSS PSPB'!#REF!,\"\")","v":{"$error":"#REF!"}},{"$f":"IF(RIGHT('CROSS PSPB'!#REF!,3)=\" IT\",'CROSS PSPB'!#REF!,\"\")","v":{"$error":"#REF!"}},{"$f":"IF(RIGHT('CROSS PSPB'!#REF!,3)=\" IT\",'CROSS PSPB'!#REF!,\"\")","v":{"$error":"#REF!"}},{"$f":"IF(RIGHT('CROSS PSPB'!#REF!,3)=\" IT\",'CROSS PSPB'!#REF!,\"\")","v":{"$error":"#REF!"}},{"$f":"IF(RIGHT('CROSS PSPB'!#REF!,3)=\" IT\",'CROSS PSPB'!#REF!,\"\")","v":{"$error":"#REF!"}},{"$f":"IF(RIGHT('CROSS PSPB'!#REF!,3)=\" IT\",'CROSS PSPB'!#REF!,\"\")","v":{"$error":"#REF!"}},{"$f":"IF(RIGHT('CROSS PSPB'!#REF!,3)=\" IT\",'CROSS PSPB'!#REF!,\"\")","v":{"$error":"#REF!"}},{"$f":"IF(RIGHT('CROSS PSPB'!#REF!,3)=\" IT\",'CROSS PSPB'!#REF!,\"\")","v":{"$error":"#REF!"}},{"$f":"IF(RIGHT('CROSS PSPB'!#REF!,3)=\" IT\",'CROSS PSPB'!#REF!,\"\")","v":{"$error":"#REF!"}},{"$f":"IF(RIGHT('CROSS PSPB'!#REF!,3)=\" IT\",'CROSS PSPB'!#REF!,\"\")","v":{"$error":"#REF!"}},{"$f":"IF(RIGHT('CROSS PSPB'!#REF!,3)=\" IT\",'CROSS PSPB'!#REF!,\"\")","v":{"$error":"#REF!"}},{"$f":"IF(RIGHT('CROSS PSPB'!#REF!,3)=\" IT\",'CROSS PSPB'!#REF!,\"\")","v":{"$error":"#REF!"}},{"$f":"IF(RIGHT('CROSS PSPB'!#REF!,3)=\" IT\",'CROSS PSPB'!#REF!,\"\")","v":{"$error":"#REF!"}},{"$f":"IF(RIGHT('CROSS PSPB'!#REF!,3)=\" IT\",'CROSS PSPB'!#REF!,\"\")","v":{"$error":"#REF!"}},{"$f":"IF(RIGHT('CROSS PSPB'!#REF!,3)=\" IT\",'CROSS PSPB'!#REF!,\"\")","v":{"$error":"#REF!"}},{"$f":"IF(RIGHT('CROSS PSPB'!#REF!,3)=\" IT\",'CROSS PSPB'!#REF!,\"\")","v":{"$error":"#REF!"}},{"$f":"IF(RIGHT('CROSS PSPB'!#REF!,3)=\" IT\",'CROSS PSPB'!#REF!,\"\")","v":{"$error":"#REF!"}},{"$error":"#REF!"},{"$error":"#REF!"},{"$error":"#REF!"},{"$error":"#REF!"}]
[null,{"$f":"IF(RIGHT('CROSS PSPB'!#REF!,3)=\" IT\",'CROSS PSPB'!#REF!,\"\")","v":{"$error":"#REF!"}},{"$f":"IF(RIGHT('CROSS PSPB'!#REF!,3)=\" IT\",'CROSS PSPB'!#REF!,\"\")","v":{"$error":"#REF!"}},{"$f":"IF(RIGHT('CROSS PSPB'!#REF!,3)=\" IT\",'CROSS PSPB'!#REF!,\"\")","v":{"$error":"#REF!"}},{"$f":"IF(RIGHT('CROSS PSPB'!#REF!,3)=\" IT\",'CROSS PSPB'!#REF!,\"\")","v":{"$error":"#REF!"}},{"$f":"IF(RIGHT('CROSS PSPB'!#REF!,3)=\" IT\",'CROSS PSPB'!#REF!,\"\")","v":{"$error":"#REF!"}},{"$f":"IF(RIGHT('CROSS PSPB'!#REF!,3)=\" IT\",'CROSS PSPB'!#REF!,\"\")","v":{"$error":"#REF!"}},{"$f":"IF(RIGHT('CROSS PSPB'!#REF!,3)=\" IT\",'CROSS PSPB'!#REF!,\"\")","v":{"$error":"#REF!"}},{"$f":"IF(RIGHT('CROSS PSPB'!#REF!,3)=\" IT\",'CROSS PSPB'!#REF!,\"\")","v":{"$error":"#REF!"}},{"$f":"IF(RIGHT('CROSS PSPB'!#REF!,3)=\" IT\",'CROSS PSPB'!#REF!,\"\")","v":{"$error":"#REF!"}},{"$f":"IF(RIGHT('CROSS PSPB'!#REF!,3)=\" IT\",'CROSS PSPB'!#REF!,\"\")","v":{"$error":"#REF!"}},{"$f":"IF(RIGHT('CROSS PSPB'!#REF!,3)=\" IT\",'CROSS PSPB'!#REF!,\"\")","v":{"$error":"#REF!"}},{"$f":"IF(RIGHT('CROSS PSPB'!#REF!,3)=\" IT\",'CROSS PSPB'!#REF!,\"\")","v":{"$error":"#REF!"}},{"$f":"IF(RIGHT('CROSS PSPB'!#REF!,3)=\" IT\",'CROSS PSPB'!#REF!,\"\")","v":{"$error":"#REF!"}},{"$f":"IF(RIGHT('CROSS PSPB'!#REF!,3)=\" IT\",'CROSS PSPB'!#REF!,\"\")","v":{"$error":"#REF!"}},{"$f":"IF(RIGHT('CROSS PSPB'!#REF!,3)=\" IT\",'CROSS PSPB'!#REF!,\"\")","v":{"$error":"#REF!"}},{"$f":"IF(RIGHT('CROSS PSPB'!#REF!,3)=\" IT\",'CROSS PSPB'!#REF!,\"\")","v":{"$error":"#REF!"}},{"$f":"IF(RIGHT('CROSS PSPB'!#REF!,3)=\" IT\",'CROSS PSPB'!#REF!,\"\")","v":{"$error":"#REF!"}},{"$f":"IF(RIGHT('CROSS PSPB'!#REF!,3)=\" IT\",'CROSS PSPB'!#REF!,\"\")","v":{"$error":"#REF!"}},{"$f":"IF(RIGHT('CROSS PSPB'!#REF!,3)=\" IT\",'CROSS PSPB'!#REF!,\"\")","v":{"$error":"#REF!"}},{"$f":"IF(RIGHT('CROSS PSPB'!#REF!,3)=\" IT\",'CROSS PSPB'!#REF!,\"\")","v":{"$error":"#REF!"}},{"$f":"IF(RIGHT('CROSS PSPB'!#REF!,3)=\" IT\",'CROSS PSPB'!#REF!,\"\")","v":{"$error":"#REF!"}},{"$f":"IF(RIGHT('CROSS PSPB'!#REF!,3)=\" IT\",'CROSS PSPB'!#REF!,\"\")","v":{"$error":"#REF!"}},{"$f":"IF(RIGHT('CROSS PSPB'!#REF!,3)=\" IT\",'CROSS PSPB'!#REF!,\"\")","v":{"$error":"#REF!"}},{"$f":"IF(RIGHT('CROSS PSPB'!#REF!,3)=\" IT\",'CROSS PSPB'!#REF!,\"\")","v":{"$error":"#REF!"}},{"$f":"IF(RIGHT('CROSS PSPB'!#REF!,3)=\" IT\",'CROSS PSPB'!#REF!,\"\")","v":{"$error":"#REF!"}},{"$f":"IF(RIGHT('CROSS PSPB'!#REF!,3)=\" IT\",'CROSS PSPB'!#REF!,\"\")","v":{"$error":"#REF!"}},{"$f":"IF(RIGHT('CROSS PSPB'!#REF!,3)=\" IT\",'CROSS PSPB'!#REF!,\"\")","v":{"$error":"#REF!"}},{"$f":"IF(RIGHT('CROSS PSPB'!#REF!,3)=\" IT\",'CROSS PSPB'!#REF!,\"\")","v":{"$error":"#REF!"}},{"$f":"IF(RIGHT('CROSS PSPB'!#REF!,3)=\" IT\",'CROSS PSPB'!#REF!,\"\")","v":{"$error":"#REF!"}},{"$f":"IF(RIGHT('CROSS PSPB'!#REF!,3)=\" IT\",'CROSS PSPB'!#REF!,\"\")","v":{"$error":"#REF!"}},{"$f":"IF(RIGHT('CROSS PSPB'!#REF!,3)=\" IT\",'CROSS PSPB'!#REF!,\"\")","v":{"$error":"#REF!"}},{"$f":"IF(RIGHT('CROSS PSPB'!#REF!,3)=\" IT\",'CROSS PSPB'!#REF!,\"\")","v":{"$error":"#REF!"}},{"$f":"IF(RIGHT('CROSS PSPB'!#REF!,3)=\" IT\",'CROSS PSPB'!#REF!,\"\")","v":{"$error":"#REF!"}},{"$f":"IF(RIGHT('CROSS PSPB'!#REF!,3)=\" IT\",'CROSS PSPB'!#REF!,\"\")","v":{"$error":"#REF!"}},{"$f":"IF(RIGHT('CROSS PSPB'!#REF!,3)=\" IT\",'CROSS PSPB'!#REF!,\"\")","v":{"$error":"#REF!"}},{"$f":"IF(RIGHT('CROSS PSPB'!#REF!,3)=\" IT\",'CROSS PSPB'!#REF!,\"\")","v":{"$error":"#REF!"}},{"$f":"IF(RIGHT('CROSS PSPB'!#REF!,3)=\" IT\",'CROSS PSPB'!#REF!,\"\")","v":{"$error":"#REF!"}},{"$f":"IF(RIGHT('CROSS PSPB'!#REF!,3)=\" IT\",'CROSS PSPB'!#REF!,\"\")","v":{"$error":"#REF!"}},{"$f":"IF(RIGHT('CROSS PSPB'!#REF!,3)=\" IT\",'CROSS PSPB'!#REF!,\"\")","v":{"$error":"#REF!"}},{"$f":"IF(RIGHT('CROSS PSPB'!#REF!,3)=\" IT\",'CROSS PSPB'!#REF!,\"\")","v":{"$error":"#REF!"}},{"$f":"IF(RIGHT('CROSS PSPB'!#REF!,3)=\" IT\",'CROSS PSPB'!#REF!,\"\")","v":{"$error":"#REF!"}},{"$f":"IF(RIGHT('CROSS PSPB'!#REF!,3)=\" IT\",'CROSS PSPB'!#REF!,\"\")","v":{"$error":"#REF!"}},{"$f":"IF(RIGHT('CROSS PSPB'!#REF!,3)=\" IT\",'CROSS PSPB'!#REF!,\"\")","v":{"$error":"#REF!"}},{"$f":"IF(RIGHT('CROSS PSPB'!#REF!,3)=\" IT\",'CROSS PSPB'!#REF!,\"\")","v":{"$error":"#REF!"}},{"$f":"IF(RIGHT('CROSS PSPB'!#REF!,3)=\" IT\",'CROSS PSPB'!#REF!,\"\")","v":{"$error":"#REF!"}},{"$f":"IF(RIGHT('CROSS PSPB'!#REF!,3)=\" IT\",'CROSS PSPB'!#REF!,\"\")","v":{"$error":"#REF!"}},{"$f":"IF(RIGHT('CROSS PSPB'!#REF!,3)=\" IT\",'CROSS PSPB'!#REF!,\"\")","v":{"$error":"#REF!"}},{"$f":"IF(RIGHT('CROSS PSPB'!#REF!,3)=\" IT\",'CROSS PSPB'!#REF!,\"\")","v":{"$error":"#REF!"}},{"$f":"IF(RIGHT('CROSS PSPB'!#REF!,3)=\" IT\",'CROSS PSPB'!#REF!,\"\")","v":{"$error":"#REF!"}},{"$f":"IF(RIGHT('CROSS PSPB'!#REF!,3)=\" IT\",'CROSS PSPB'!#REF!,\"\")","v":{"$error":"#REF!"}},{"$f":"IF(RIGHT('CROSS PSPB'!#REF!,3)=\" IT\",'CROSS PSPB'!#REF!,\"\")","v":{"$error":"#REF!"}},{"$error":"#REF!"},{"$error":"#REF!"},{"$error":"#REF!"},{"$error":"#REF!"}]
[null,{"$f":"IF(RIGHT('CROSS PSPB'!#REF!,3)=\" IT\",'CROSS PSPB'!#REF!,\"\")","v":{"$error":"#REF!"}},{"$f":"IF(RIGHT('CROSS PSPB'!#REF!,3)=\" IT\",'CROSS PSPB'!#REF!,\"\")","v":{"$error":"#REF!"}},{"$f":"IF(RIGHT('CROSS PSPB'!#REF!,3)=\" IT\",'CROSS PSPB'!#REF!,\"\")","v":{"$error":"#REF!"}},{"$f":"IF(RIGHT('CROSS PSPB'!#REF!,3)=\" IT\",'CROSS PSPB'!#REF!,\"\")","v":{"$error":"#REF!"}},{"$f":"IF(RIGHT('CROSS PSPB'!#REF!,3)=\" IT\",'CROSS PSPB'!#REF!,\"\")","v":{"$error":"#REF!"}},{"$f":"IF(RIGHT('CROSS PSPB'!#REF!,3)=\" IT\",'CROSS PSPB'!#REF!,\"\")","v":{"$error":"#REF!"}},{"$f":"IF(RIGHT('CROSS PSPB'!#REF!,3)=\" IT\",'CROSS PSPB'!#REF!,\"\")","v":{"$error":"#REF!"}},{"$f":"IF(RIGHT('CROSS PSPB'!#REF!,3)=\" IT\",'CROSS PSPB'!#REF!,\"\")","v":{"$error":"#REF!"}},{"$f":"IF(RIGHT('CROSS PSPB'!#REF!,3)=\" IT\",'CROSS PSPB'!#REF!,\"\")","v":{"$error":"#REF!"}},{"$f":"IF(RIGHT('CROSS PSPB'!#REF!,3)=\" IT\",'CROSS PSPB'!#REF!,\"\")","v":{"$error":"#REF!"}},{"$f":"IF(RIGHT('CROSS PSPB'!#REF!,3)=\" IT\",'CROSS PSPB'!#REF!,\"\")","v":{"$error":"#REF!"}},{"$f":"IF(RIGHT('CROSS PSPB'!#REF!,3)=\" IT\",'CROSS PSPB'!#REF!,\"\")","v":{"$error":"#REF!"}},{"$f":"IF(RIGHT('CROSS PSPB'!#REF!,3)=\" IT\",'CROSS PSPB'!#REF!,\"\")","v":{"$error":"#REF!"}},{"$f":"IF(RIGHT('CROSS PSPB'!#REF!,3)=\" IT\",'CROSS PSPB'!#REF!,\"\")","v":{"$error":"#REF!"}},{"$f":"IF(RIGHT('CROSS PSPB'!#REF!,3)=\" IT\",'CROSS PSPB'!#REF!,\"\")","v":{"$error":"#REF!"}},{"$f":"IF(RIGHT('CROSS PSPB'!#REF!,3)=\" IT\",'CROSS PSPB'!#REF!,\"\")","v":{"$error":"#REF!"}},{"$f":"IF(RIGHT('CROSS PSPB'!#REF!,3)=\" IT\",'CROSS PSPB'!#REF!,\"\")","v":{"$error":"#REF!"}},{"$f":"IF(RIGHT('CROSS PSPB'!#REF!,3)=\" IT\",'CROSS PSPB'!#REF!,\"\")","v":{"$error":"#REF!"}},{"$f":"IF(RIGHT('CROSS PSPB'!#REF!,3)=\" IT\",'CROSS PSPB'!#REF!,\"\")","v":{"$error":"#REF!"}},{"$f":"IF(RIGHT('CROSS PSPB'!#REF!,3)=\" IT\",'CROSS PSPB'!#REF!,\"\")","v":{"$error":"#REF!"}},{"$f":"IF(RIGHT('CROSS PSPB'!#REF!,3)=\" IT\",'CROSS PSPB'!#REF!,\"\")","v":{"$error":"#REF!"}},{"$f":"IF(RIGHT('CROSS PSPB'!#REF!,3)=\" IT\",'CROSS PSPB'!#REF!,\"\")","v":{"$error":"#REF!"}},{"$f":"IF(RIGHT('CROSS PSPB'!#REF!,3)=\" IT\",'CROSS PSPB'!#REF!,\"\")","v":{"$error":"#REF!"}},{"$f":"IF(RIGHT('CROSS PSPB'!#REF!,3)=\" IT\",'CROSS PSPB'!#REF!,\"\")","v":{"$error":"#REF!"}},{"$f":"IF(RIGHT('CROSS PSPB'!#REF!,3)=\" IT\",'CROSS PSPB'!#REF!,\"\")","v":{"$error":"#REF!"}},{"$f":"IF(RIGHT('CROSS PSPB'!#REF!,3)=\" IT\",'CROSS PSPB'!#REF!,\"\")","v":{"$error":"#REF!"}},{"$f":"IF(RIGHT('CROSS PSPB'!#REF!,3)=\" IT\",'CROSS PSPB'!#REF!,\"\")","v":{"$error":"#REF!"}},{"$f":"IF(RIGHT('CROSS PSPB'!#REF!,3)=\" IT\",'CROSS PSPB'!#REF!,\"\")","v":{"$error":"#REF!"}},{"$f":"IF(RIGHT('CROSS PSPB'!#REF!,3)=\" IT\",'CROSS PSPB'!#REF!,\"\")","v":{"$error":"#REF!"}},{"$f":"IF(RIGHT('CROSS PSPB'!#REF!,3)=\" IT\",'CROSS PSPB'!#REF!,\"\")","v":{"$error":"#REF!"}},{"$f":"IF(RIGHT('CROSS PSPB'!#REF!,3)=\" IT\",'CROSS PSPB'!#REF!,\"\")","v":{"$error":"#REF!"}},{"$f":"IF(RIGHT('CROSS PSPB'!#REF!,3)=\" IT\",'CROSS PSPB'!#REF!,\"\")","v":{"$error":"#REF!"}},{"$f":"IF(RIGHT('CROSS PSPB'!#REF!,3)=\" IT\",'CROSS PSPB'!#REF!,\"\")","v":{"$error":"#REF!"}},{"$f":"IF(RIGHT('CROSS PSPB'!#REF!,3)=\" IT\",'CROSS PSPB'!#REF!,\"\")","v":{"$error":"#REF!"}},{"$f":"IF(RIGHT('CROSS PSPB'!#REF!,3)=\" IT\",'CROSS PSPB'!#REF!,\"\")","v":{"$error":"#REF!"}},{"$f":"IF(RIGHT('CROSS PSPB'!#REF!,3)=\" IT\",'CROSS PSPB'!#REF!,\"\")","v":{"$error":"#REF!"}},{"$f":"IF(RIGHT('CROSS PSPB'!#REF!,3)=\" IT\",'CROSS PSPB'!#REF!,\"\")","v":{"$error":"#REF!"}},{"$f":"IF(RIGHT('CROSS PSPB'!#REF!,3)=\" IT\",'CROSS PSPB'!#REF!,\"\")","v":{"$error":"#REF!"}},{"$f":"IF(RIGHT('CROSS PSPB'!#REF!,3)=\" IT\",'CROSS PSPB'!#REF!,\"\")","v":{"$error":"#REF!"}},{"$f":"IF(RIGHT('CROSS PSPB'!#REF!,3)=\" IT\",'CROSS PSPB'!#REF!,\"\")","v":{"$error":"#REF!"}},{"$f":"IF(RIGHT('CROSS PSPB'!#REF!,3)=\" IT\",'CROSS PSPB'!#REF!,\"\")","v":{"$error":"#REF!"}},{"$f":"IF(RIGHT('CROSS PSPB'!#REF!,3)=\" IT\",'CROSS PSPB'!#REF!,\"\")","v":{"$error":"#REF!"}},{"$f":"IF(RIGHT('CROSS PSPB'!#REF!,3)=\" IT\",'CROSS PSPB'!#REF!,\"\")","v":{"$error":"#REF!"}},{"$f":"IF(RIGHT('CROSS PSPB'!#REF!,3)=\" IT\",'CROSS PSPB'!#REF!,\"\")","v":{"$error":"#REF!"}},{"$f":"IF(RIGHT('CROSS PSPB'!#REF!,3)=\" IT\",'CROSS PSPB'!#REF!,\"\")","v":{"$error":"#REF!"}},{"$f":"IF(RIGHT('CROSS PSPB'!#REF!,3)=\" IT\",'CROSS PSPB'!#REF!,\"\")","v":{"$error":"#REF!"}},{"$f":"IF(RIGHT('CROSS PSPB'!#REF!,3)=\" IT\",'CROSS PSPB'!#REF!,\"\")","v":{"$error":"#REF!"}},{"$f":"IF(RIGHT('CROSS PSPB'!#REF!,3)=\" IT\",'CROSS PSPB'!#REF!,\"\")","v":{"$error":"#REF!"}},{"$f":"IF(RIGHT('CROSS PSPB'!#REF!,3)=\" IT\",'CROSS PSPB'!#REF!,\"\")","v":{"$error":"#REF!"}},{"$f":"IF(RIGHT('CROSS PSPB'!#REF!,3)=\" IT\",'CROSS PSPB'!#REF!,\"\")","v":{"$error":"#REF!"}},{"$f":"IF(RIGHT('CROSS PSPB'!#REF!,3)=\" IT\",'CROSS PSPB'!#REF!,\"\")","v":{"$error":"#REF!"}},{"$error":"#REF!"},{"$error":"#REF!"},{"$error":"#REF!"},{"$error":"#REF!"}]
[null,{"$f":"IF(RIGHT('CROSS PSPB'!#REF!,3)=\" IT\",'CROSS PSPB'!#REF!,\"\")","v":{"$error":"#REF!"}},{"$f":"IF(RIGHT('CROSS PSPB'!#REF!,3)=\" IT\",'CROSS PSPB'!#REF!,\"\")","v":{"$error":"#REF!"}},{"$f":"IF(RIGHT('CROSS PSPB'!#REF!,3)=\" IT\",'CROSS PSPB'!#REF!,\"\")","v":{"$error":"#REF!"}},{"$f":"IF(RIGHT('CROSS PSPB'!#REF!,3)=\" IT\",'CROSS PSPB'!#REF!,\"\")","v":{"$error":"#REF!"}},{"$f":"IF(RIGHT('CROSS PSPB'!#REF!,3)=\" IT\",'CROSS PSPB'!#REF!,\"\")","v":{"$error":"#REF!"}},{"$f":"IF(RIGHT('CROSS PSPB'!#REF!,3)=\" IT\",'CROSS PSPB'!#REF!,\"\")","v":{"$error":"#REF!"}},{"$f":"IF(RIGHT('CROSS PSPB'!#REF!,3)=\" IT\",'CROSS PSPB'!#REF!,\"\")","v":{"$error":"#REF!"}},{"$f":"IF(RIGHT('CROSS PSPB'!#REF!,3)=\" IT\",'CROSS PSPB'!#REF!,\"\")","v":{"$error":"#REF!"}},{"$f":"IF(RIGHT('CROSS PSPB'!#REF!,3)=\" IT\",'CROSS PSPB'!#REF!,\"\")","v":{"$error":"#REF!"}},{"$f":"IF(RIGHT('CROSS PSPB'!#REF!,3)=\" IT\",'CROSS PSPB'!#REF!,\"\")","v":{"$error":"#REF!"}},{"$f":"IF(RIGHT('CROSS PSPB'!#REF!,3)=\" IT\",'CROSS PSPB'!#REF!,\"\")","v":{"$error":"#REF!"}},{"$f":"IF(RIGHT('CROSS PSPB'!#REF!,3)=\" IT\",'CROSS PSPB'!#REF!,\"\")","v":{"$error":"#REF!"}},{"$f":"IF(RIGHT('CROSS PSPB'!#REF!,3)=\" IT\",'CROSS PSPB'!#REF!,\"\")","v":{"$error":"#REF!"}},{"$f":"IF(RIGHT('CROSS PSPB'!#REF!,3)=\" IT\",'CROSS PSPB'!#REF!,\"\")","v":{"$error":"#REF!"}},{"$f":"IF(RIGHT('CROSS PSPB'!#REF!,3)=\" IT\",'CROSS PSPB'!#REF!,\"\")","v":{"$error":"#REF!"}},{"$f":"IF(RIGHT('CROSS PSPB'!#REF!,3)=\" IT\",'CROSS PSPB'!#REF!,\"\")","v":{"$error":"#REF!"}},{"$f":"IF(RIGHT('CROSS PSPB'!#REF!,3)=\" IT\",'CROSS PSPB'!#REF!,\"\")","v":{"$error":"#REF!"}},{"$f":"IF(RIGHT('CROSS PSPB'!#REF!,3)=\" IT\",'CROSS PSPB'!#REF!,\"\")","v":{"$error":"#REF!"}},{"$f":"IF(RIGHT('CROSS PSPB'!#REF!,3)=\" IT\",'CROSS PSPB'!#REF!,\"\")","v":{"$error":"#REF!"}},{"$f":"IF(RIGHT('CROSS PSPB'!#REF!,3)=\" IT\",'CROSS PSPB'!#REF!,\"\")","v":{"$error":"#REF!"}},{"$f":"IF(RIGHT('CROSS PSPB'!#REF!,3)=\" IT\",'CROSS PSPB'!#REF!,\"\")","v":{"$error":"#REF!"}},{"$f":"IF(RIGHT('CROSS PSPB'!#REF!,3)=\" IT\",'CROSS PSPB'!#REF!,\"\")","v":{"$error":"#REF!"}},{"$f":"IF(RIGHT('CROSS PSPB'!#REF!,3)=\" IT\",'CROSS PSPB'!#REF!,\"\")","v":{"$error":"#REF!"}},{"$f":"IF(RIGHT('CROSS PSPB'!#REF!,3)=\" IT\",'CROSS PSPB'!#REF!,\"\")","v":{"$error":"#REF!"}},{"$f":"IF(RIGHT('CROSS PSPB'!#REF!,3)=\" IT\",'CROSS PSPB'!#REF!,\"\")","v":{"$error":"#REF!"}},{"$f":"IF(RIGHT('CROSS PSPB'!#REF!,3)=\" IT\",'CROSS PSPB'!#REF!,\"\")","v":{"$error":"#REF!"}},{"$f":"IF(RIGHT('CROSS PSPB'!#REF!,3)=\" IT\",'CROSS PSPB'!#REF!,\"\")","v":{"$error":"#REF!"}},{"$f":"IF(RIGHT('CROSS PSPB'!#REF!,3)=\" IT\",'CROSS PSPB'!#REF!,\"\")","v":{"$error":"#REF!"}},{"$f":"IF(RIGHT('CROSS PSPB'!#REF!,3)=\" IT\",'CROSS PSPB'!#REF!,\"\")","v":{"$error":"#REF!"}},{"$f":"IF(RIGHT('CROSS PSPB'!#REF!,3)=\" IT\",'CROSS PSPB'!#REF!,\"\")","v":{"$error":"#REF!"}},{"$f":"IF(RIGHT('CROSS PSPB'!#REF!,3)=\" IT\",'CROSS PSPB'!#REF!,\"\")","v":{"$error":"#REF!"}},{"$f":"IF(RIGHT('CROSS PSPB'!#REF!,3)=\" IT\",'CROSS PSPB'!#REF!,\"\")","v":{"$error":"#REF!"}},{"$f":"IF(RIGHT('CROSS PSPB'!#REF!,3)=\" IT\",'CROSS PSPB'!#REF!,\"\")","v":{"$error":"#REF!"}},{"$f":"IF(RIGHT('CROSS PSPB'!#REF!,3)=\" IT\",'CROSS PSPB'!#REF!,\"\")","v":{"$error":"#REF!"}},{"$f":"IF(RIGHT('CROSS PSPB'!#REF!,3)=\" IT\",'CROSS PSPB'!#REF!,\"\")","v":{"$error":"#REF!"}},{"$f":"IF(RIGHT('CROSS PSPB'!#REF!,3)=\" IT\",'CROSS PSPB'!#REF!,\"\")","v":{"$error":"#REF!"}},{"$f":"IF(RIGHT('CROSS PSPB'!#REF!,3)=\" IT\",'CROSS PSPB'!#REF!,\"\")","v":{"$error":"#REF!"}},{"$f":"IF(RIGHT('CROSS PSPB'!#REF!,3)=\" IT\",'CROSS PSPB'!#REF!,\"\")","v":{"$error":"#REF!"}},{"$f":"IF(RIGHT('CROSS PSPB'!#REF!,3)=\" IT\",'CROSS PSPB'!#REF!,\"\")","v":{"$error":"#REF!"}},{"$f":"IF(RIGHT('CROSS PSPB'!#REF!,3)=\" IT\",'CROSS PSPB'!#REF!,\"\")","v":{"$error":"#REF!"}},{"$f":"IF(RIGHT('CROSS PSPB'!#REF!,3)=\" IT\",'CROSS PSPB'!#REF!,\"\")","v":{"$error":"#REF!"}},{"$f":"IF(RIGHT('CROSS PSPB'!#REF!,3)=\" IT\",'CROSS PSPB'!#REF!,\"\")","v":{"$error":"#REF!"}},{"$f":"IF(RIGHT('CROSS PSPB'!#REF!,3)=\" IT\",'CROSS PSPB'!#REF!,\"\")","v":{"$error":"#REF!"}},{"$f":"IF(RIGHT('CROSS PSPB'!#REF!,3)=\" IT\",'CROSS PSPB'!#REF!,\"\")","v":{"$error":"#REF!"}},{"$f":"IF(RIGHT('CROSS PSPB'!#REF!,3)=\" IT\",'CROSS PSPB'!#REF!,\"\")","v":{"$error":"#REF!"}},{"$f":"IF(RIGHT('CROSS PSPB'!#REF!,3)=\" IT\",'CROSS PSPB'!#REF!,\"\")","v":{"$error":"#REF!"}},{"$f":"IF(RIGHT('CROSS PSPB'!#REF!,3)=\" IT\",'CROSS PSPB'!#REF!,\"\")","v":{"$error":"#REF!"}},{"$f":"IF(RIGHT('CROSS PSPB'!#REF!,3)=\" IT\",'CROSS PSPB'!#REF!,\"\")","v":{"$error":"#REF!"}},{"$f":"IF(RIGHT('CROSS PSPB'!#REF!,3)=\" IT\",'CROSS PSPB'!#REF!,\"\")","v":{"$error":"#REF!"}},{"$f":"IF(RIGHT('CROSS PSPB'!#REF!,3)=\" IT\",'CROSS PSPB'!#REF!,\"\")","v":{"$error":"#REF!"}},{"$f":"IF(RIGHT('CROSS PSPB'!#REF!,3)=\" IT\",'CROSS PSPB'!#REF!,\"\")","v":{"$error":"#REF!"}},{"$error":"#REF!"},{"$error":"#REF!"},{"$error":"#REF!"},{"$error":"#REF!"}]
[null,{"$f":"IF(RIGHT('CROSS PSPB'!#REF!,3)=\" IT\",'CROSS PSPB'!#REF!,\"\")","v":{"$error":"#REF!"}},{"$f":"IF(RIGHT('CROSS PSPB'!#REF!,3)=\" IT\",'CROSS PSPB'!#REF!,\"\")","v":{"$error":"#REF!"}},{"$f":"IF(RIGHT('CROSS PSPB'!#REF!,3)=\" IT\",'CROSS PSPB'!#REF!,\"\")","v":{"$error":"#REF!"}},{"$f":"IF(RIGHT('CROSS PSPB'!#REF!,3)=\" IT\",'CROSS PSPB'!#REF!,\"\")","v":{"$error":"#REF!"}},{"$f":"IF(RIGHT('CROSS PSPB'!#REF!,3)=\" IT\",'CROSS PSPB'!#REF!,\"\")","v":{"$error":"#REF!"}},{"$f":"IF(RIGHT('CROSS PSPB'!#REF!,3)=\" IT\",'CROSS PSPB'!#REF!,\"\")","v":{"$error":"#REF!"}},{"$f":"IF(RIGHT('CROSS PSPB'!#REF!,3)=\" IT\",'CROSS PSPB'!#REF!,\"\")","v":{"$error":"#REF!"}},{"$f":"IF(RIGHT('CROSS PSPB'!#REF!,3)=\" IT\",'CROSS PSPB'!#REF!,\"\")","v":{"$error":"#REF!"}},{"$f":"IF(RIGHT('CROSS PSPB'!#REF!,3)=\" IT\",'CROSS PSPB'!#REF!,\"\")","v":{"$error":"#REF!"}},{"$f":"IF(RIGHT('CROSS PSPB'!#REF!,3)=\" IT\",'CROSS PSPB'!#REF!,\"\")","v":{"$error":"#REF!"}},{"$f":"IF(RIGHT('CROSS PSPB'!#REF!,3)=\" IT\",'CROSS PSPB'!#REF!,\"\")","v":{"$error":"#REF!"}},{"$f":"IF(RIGHT('CROSS PSPB'!#REF!,3)=\" IT\",'CROSS PSPB'!#REF!,\"\")","v":{"$error":"#REF!"}},{"$f":"IF(RIGHT('CROSS PSPB'!#REF!,3)=\" IT\",'CROSS PSPB'!#REF!,\"\")","v":{"$error":"#REF!"}},{"$f":"IF(RIGHT('CROSS PSPB'!#REF!,3)=\" IT\",'CROSS PSPB'!#REF!,\"\")","v":{"$error":"#REF!"}},{"$f":"IF(RIGHT('CROSS PSPB'!#REF!,3)=\" IT\",'CROSS PSPB'!#REF!,\"\")","v":{"$error":"#REF!"}},{"$f":"IF(RIGHT('CROSS PSPB'!#REF!,3)=\" IT\",'CROSS PSPB'!#REF!,\"\")","v":{"$error":"#REF!"}},{"$f":"IF(RIGHT('CROSS PSPB'!#REF!,3)=\" IT\",'CROSS PSPB'!#REF!,\"\")","v":{"$error":"#REF!"}},{"$f":"IF(RIGHT('CROSS PSPB'!#REF!,3)=\" IT\",'CROSS PSPB'!#REF!,\"\")","v":{"$error":"#REF!"}},{"$f":"IF(RIGHT('CROSS PSPB'!#REF!,3)=\" IT\",'CROSS PSPB'!#REF!,\"\")","v":{"$error":"#REF!"}},{"$f":"IF(RIGHT('CROSS PSPB'!#REF!,3)=\" IT\",'CROSS PSPB'!#REF!,\"\")","v":{"$error":"#REF!"}},{"$f":"IF(RIGHT('CROSS PSPB'!#REF!,3)=\" IT\",'CROSS PSPB'!#REF!,\"\")","v":{"$error":"#REF!"}},{"$f":"IF(RIGHT('CROSS PSPB'!#REF!,3)=\" IT\",'CROSS PSPB'!#REF!,\"\")","v":{"$error":"#REF!"}},{"$f":"IF(RIGHT('CROSS PSPB'!#REF!,3)=\" IT\",'CROSS PSPB'!#REF!,\"\")","v":{"$error":"#REF!"}},{"$f":"IF(RIGHT('CROSS PSPB'!#REF!,3)=\" IT\",'CROSS PSPB'!#REF!,\"\")","v":{"$error":"#REF!"}},{"$f":"IF(RIGHT('CROSS PSPB'!#REF!,3)=\" IT\",'CROSS PSPB'!#REF!,\"\")","v":{"$error":"#REF!"}},{"$f":"IF(RIGHT('CROSS PSPB'!#REF!,3)=\" IT\",'CROSS PSPB'!#REF!,\"\")","v":{"$error":"#REF!"}},{"$f":"IF(RIGHT('CROSS PSPB'!#REF!,3)=\" IT\",'CROSS PSPB'!#REF!,\"\")","v":{"$error":"#REF!"}},{"$f":"IF(RIGHT('CROSS PSPB'!#REF!,3)=\" IT\",'CROSS PSPB'!#REF!,\"\")","v":{"$error":"#REF!"}},{"$f":"IF(RIGHT('CROSS PSPB'!#REF!,3)=\" IT\",'CROSS PSPB'!#REF!,\"\")","v":{"$error":"#REF!"}},{"$f":"IF(RIGHT('CROSS PSPB'!#REF!,3)=\" IT\",'CROSS PSPB'!#REF!,\"\")","v":{"$error":"#REF!"}},{"$f":"IF(RIGHT('CROSS PSPB'!#REF!,3)=\" IT\",'CROSS PSPB'!#REF!,\"\")","v":{"$error":"#REF!"}},{"$f":"IF(RIGHT('CROSS PSPB'!#REF!,3)=\" IT\",'CROSS PSPB'!#REF!,\"\")","v":{"$error":"#REF!"}},{"$f":"IF(RIGHT('CROSS PSPB'!#REF!,3)=\" IT\",'CROSS PSPB'!#REF!,\"\")","v":{"$error":"#REF!"}},{"$f":"IF(RIGHT('CROSS PSPB'!#REF!,3)=\" IT\",'CROSS PSPB'!#REF!,\"\")","v":{"$error":"#REF!"}},{"$f":"IF(RIGHT('CROSS PSPB'!#REF!,3)=\" IT\",'CROSS PSPB'!#REF!,\"\")","v":{"$error":"#REF!"}},{"$f":"IF(RIGHT('CROSS PSPB'!#REF!,3)=\" IT\",'CROSS PSPB'!#REF!,\"\")","v":{"$error":"#REF!"}},{"$f":"IF(RIGHT('CROSS PSPB'!#REF!,3)=\" IT\",'CROSS PSPB'!#REF!,\"\")","v":{"$error":"#REF!"}},{"$f":"IF(RIGHT('CROSS PSPB'!#REF!,3)=\" IT\",'CROSS PSPB'!#REF!,\"\")","v":{"$error":"#REF!"}},{"$f":"IF(RIGHT('CROSS PSPB'!#REF!,3)=\" IT\",'CROSS PSPB'!#REF!,\"\")","v":{"$error":"#REF!"}},{"$f":"IF(RIGHT('CROSS PSPB'!#REF!,3)=\" IT\",'CROSS PSPB'!#REF!,\"\")","v":{"$error":"#REF!"}},{"$f":"IF(RIGHT('CROSS PSPB'!#REF!,3)=\" IT\",'CROSS PSPB'!#REF!,\"\")","v":{"$error":"#REF!"}},{"$f":"IF(RIGHT('CROSS PSPB'!#REF!,3)=\" IT\",'CROSS PSPB'!#REF!,\"\")","v":{"$error":"#REF!"}},{"$f":"IF(RIGHT('CROSS PSPB'!#REF!,3)=\" IT\",'CROSS PSPB'!#REF!,\"\")","v":{"$error":"#REF!"}},{"$f":"IF(RIGHT('CROSS PSPB'!#REF!,3)=\" IT\",'CROSS PSPB'!#REF!,\"\")","v":{"$error":"#REF!"}},{"$f":"IF(RIGHT('CROSS PSPB'!#REF!,3)=\" IT\",'CROSS PSPB'!#REF!,\"\")","v":{"$error":"#REF!"}},{"$f":"IF(RIGHT('CROSS PSPB'!#REF!,3)=\" IT\",'CROSS PSPB'!#REF!,\"\")","v":{"$error":"#REF!"}},{"$f":"IF(RIGHT('CROSS PSPB'!#REF!,3)=\" IT\",'CROSS PSPB'!#REF!,\"\")","v":{"$error":"#REF!"}},{"$f":"IF(RIGHT('CROSS PSPB'!#REF!,3)=\" IT\",'CROSS PSPB'!#REF!,\"\")","v":{"$error":"#REF!"}},{"$f":"IF(RIGHT('CROSS PSPB'!#REF!,3)=\" IT\",'CROSS PSPB'!#REF!,\"\")","v":{"$error":"#REF!"}},{"$f":"IF(RIGHT('CROSS PSPB'!#REF!,3)=\" IT\",'CROSS PSPB'!#REF!,\"\")","v":{"$error":"#REF!"}},{"$f":"IF(RIGHT('CROSS PSPB'!#REF!,3)=\" IT\",'CROSS PSPB'!#REF!,\"\")","v":{"$error":"#REF!"}},{"$error":"#REF!"},{"$error":"#REF!"},{"$error":"#REF!"},{"$error":"#REF!"}]
[null,{"$f":"IF(RIGHT('CROSS PSPB'!#REF!,3)=\" IT\",'CROSS PSPB'!#REF!,\"\")","v":{"$error":"#REF!"}},{"$f":"IF(RIGHT('CROSS PSPB'!#REF!,3)=\" IT\",'CROSS PSPB'!#REF!,\"\")","v":{"$error":"#REF!"}},{"$f":"IF(RIGHT('CROSS PSPB'!#REF!,3)=\" IT\",'CROSS PSPB'!#REF!,\"\")","v":{"$error":"#REF!"}},{"$f":"IF(RIGHT('CROSS PSPB'!#REF!,3)=\" IT\",'CROSS PSPB'!#REF!,\"\")","v":{"$error":"#REF!"}},{"$f":"IF(RIGHT('CROSS PSPB'!#REF!,3)=\" IT\",'CROSS PSPB'!#REF!,\"\")","v":{"$error":"#REF!"}},{"$f":"IF(RIGHT('CROSS PSPB'!#REF!,3)=\" IT\",'CROSS PSPB'!#REF!,\"\")","v":{"$error":"#REF!"}},{"$f":"IF(RIGHT('CROSS PSPB'!#REF!,3)=\" IT\",'CROSS PSPB'!#REF!,\"\")","v":{"$error":"#REF!"}},{"$f":"IF(RIGHT('CROSS PSPB'!#REF!,3)=\" IT\",'CROSS PSPB'!#REF!,\"\")","v":{"$error":"#REF!"}},{"$f":"IF(RIGHT('CROSS PSPB'!#REF!,3)=\" IT\",'CROSS PSPB'!#REF!,\"\")","v":{"$error":"#REF!"}},{"$f":"IF(RIGHT('CROSS PSPB'!#REF!,3)=\" IT\",'CROSS PSPB'!#REF!,\"\")","v":{"$error":"#REF!"}},{"$f":"IF(RIGHT('CROSS PSPB'!#REF!,3)=\" IT\",'CROSS PSPB'!#REF!,\"\")","v":{"$error":"#REF!"}},{"$f":"IF(RIGHT('CROSS PSPB'!#REF!,3)=\" IT\",'CROSS PSPB'!#REF!,\"\")","v":{"$error":"#REF!"}},{"$f":"IF(RIGHT('CROSS PSPB'!#REF!,3)=\" IT\",'CROSS PSPB'!#REF!,\"\")","v":{"$error":"#REF!"}},{"$f":"IF(RIGHT('CROSS PSPB'!#REF!,3)=\" IT\",'CROSS PSPB'!#REF!,\"\")","v":{"$error":"#REF!"}},{"$f":"IF(RIGHT('CROSS PSPB'!#REF!,3)=\" IT\",'CROSS PSPB'!#REF!,\"\")","v":{"$error":"#REF!"}},{"$f":"IF(RIGHT('CROSS PSPB'!#REF!,3)=\" IT\",'CROSS PSPB'!#REF!,\"\")","v":{"$error":"#REF!"}},{"$f":"IF(RIGHT('CROSS PSPB'!#REF!,3)=\" IT\",'CROSS PSPB'!#REF!,\"\")","v":{"$error":"#REF!"}},{"$f":"IF(RIGHT('CROSS PSPB'!#REF!,3)=\" IT\",'CROSS PSPB'!#REF!,\"\")","v":{"$error":"#REF!"}},{"$f":"IF(RIGHT('CROSS PSPB'!#REF!,3)=\" IT\",'CROSS PSPB'!#REF!,\"\")","v":{"$error":"#REF!"}},{"$f":"IF(RIGHT('CROSS PSPB'!#REF!,3)=\" IT\",'CROSS PSPB'!#REF!,\"\")","v":{"$error":"#REF!"}},{"$f":"IF(RIGHT('CROSS PSPB'!#REF!,3)=\" IT\",'CROSS PSPB'!#REF!,\"\")","v":{"$error":"#REF!"}},{"$f":"IF(RIGHT('CROSS PSPB'!#REF!,3)=\" IT\",'CROSS PSPB'!#REF!,\"\")","v":{"$error":"#REF!"}},{"$f":"IF(RIGHT('CROSS PSPB'!#REF!,3)=\" IT\",'CROSS PSPB'!#REF!,\"\")","v":{"$error":"#REF!"}},{"$f":"IF(RIGHT('CROSS PSPB'!#REF!,3)=\" IT\",'CROSS PSPB'!#REF!,\"\")","v":{"$error":"#REF!"}},{"$f":"IF(RIGHT('CROSS PSPB'!#REF!,3)=\" IT\",'CROSS PSPB'!#REF!,\"\")","v":{"$error":"#REF!"}},{"$f":"IF(RIGHT('CROSS PSPB'!#REF!,3)=\" IT\",'CROSS PSPB'!#REF!,\"\")","v":{"$error":"#REF!"}},{"$f":"IF(RIGHT('CROSS PSPB'!#REF!,3)=\" IT\",'CROSS PSPB'!#REF!,\"\")","v":{"$error":"#REF!"}},{"$f":"IF(RIGHT('CROSS PSPB'!#REF!,3)=\" IT\",'CROSS PSPB'!#REF!,\"\")","v":{"$error":"#REF!"}},{"$f":"IF(RIGHT('CROSS PSPB'!#REF!,3)=\" IT\",'CROSS PSPB'!#REF!,\"\")","v":{"$error":"#REF!"}},{"$f":"IF(RIGHT('CROSS PSPB'!#REF!,3)=\" IT\",'CROSS PSPB'!#REF!,\"\")","v":{"$error":"#REF!"}},{"$f":"IF(RIGHT('CROSS PSPB'!#REF!,3)=\" IT\",'CROSS PSPB'!#REF!,\"\")","v":{"$error":"#REF!"}},{"$f":"IF(RIGHT('CROSS PSPB'!#REF!,3)=\" IT\",'CROSS PSPB'!#REF!,\"\")","v":{"$error":"#REF!"}},{"$f":"IF(RIGHT('CROSS PSPB'!#REF!,3)=\" IT\",'CROSS PSPB'!#REF!,\"\")","v":{"$error":"#REF!"}},{"$f":"IF(RIGHT('CROSS PSPB'!#REF!,3)=\" IT\",'CROSS PSPB'!#REF!,\"\")","v":{"$error":"#REF!"}},{"$f":"IF(RIGHT('CROSS PSPB'!#REF!,3)=\" IT\",'CROSS PSPB'!#REF!,\"\")","v":{"$error":"#REF!"}},{"$f":"IF(RIGHT('CROSS PSPB'!#REF!,3)=\" IT\",'CROSS PSPB'!#REF!,\"\")","v":{"$error":"#REF!"}},{"$f":"IF(RIGHT('CROSS PSPB'!#REF!,3)=\" IT\",'CROSS PSPB'!#REF!,\"\")","v":{"$error":"#REF!"}},{"$f":"IF(RIGHT('CROSS PSPB'!#REF!,3)=\" IT\",'CROSS PSPB'!#REF!,\"\")","v":{"$error":"#REF!"}},{"$f":"IF(RIGHT('CROSS PSPB'!#REF!,3)=\" IT\",'CROSS PSPB'!#REF!,\"\")","v":{"$error":"#REF!"}},{"$f":"IF(RIGHT('CROSS PSPB'!#REF!,3)=\" IT\",'CROSS PSPB'!#REF!,\"\")","v":{"$error":"#REF!"}},{"$f":"IF(RIGHT('CROSS PSPB'!#REF!,3)=\" IT\",'CROSS PSPB'!#REF!,\"\")","v":{"$error":"#REF!"}},{"$f":"IF(RIGHT('CROSS PSPB'!#REF!,3)=\" IT\",'CROSS PSPB'!#REF!,\"\")","v":{"$error":"#REF!"}},{"$f":"IF(RIGHT('CROSS PSPB'!#REF!,3)=\" IT\",'CROSS PSPB'!#REF!,\"\")","v":{"$error":"#REF!"}},{"$f":"IF(RIGHT('CROSS PSPB'!#REF!,3)=\" IT\",'CROSS PSPB'!#REF!,\"\")","v":{"$error":"#REF!"}},{"$f":"IF(RIGHT('CROSS PSPB'!#REF!,3)=\" IT\",'CROSS PSPB'!#REF!,\"\")","v":{"$error":"#REF!"}},{"$f":"IF(RIGHT('CROSS PSPB'!#REF!,3)=\" IT\",'CROSS PSPB'!#REF!,\"\")","v":{"$error":"#REF!"}},{"$f":"IF(RIGHT('CROSS PSPB'!#REF!,3)=\" IT\",'CROSS PSPB'!#REF!,\"\")","v":{"$error":"#REF!"}},{"$f":"IF(RIGHT('CROSS PSPB'!#REF!,3)=\" IT\",'CROSS PSPB'!#REF!,\"\")","v":{"$error":"#REF!"}},{"$f":"IF(RIGHT('CROSS PSPB'!#REF!,3)=\" IT\",'CROSS PSPB'!#REF!,\"\")","v":{"$error":"#REF!"}},{"$f":"IF(RIGHT('CROSS PSPB'!#REF!,3)=\" IT\",'CROSS PSPB'!#REF!,\"\")","v":{"$error":"#REF!"}},{"$f":"IF(RIGHT('CROSS PSPB'!#REF!,3)=\" IT\",'CROSS PSPB'!#REF!,\"\")","v":{"$error":"#REF!"}},{"$error":"#REF!"},{"$error":"#REF!"},{"$error":"#REF!"},{"$error":"#REF!"}]
[null,{"$f":"IF(RIGHT('CROSS PSPB'!#REF!,3)=\" IT\",'CROSS PSPB'!#REF!,\"\")","v":{"$error":"#REF!"}},{"$f":"IF(RIGHT('CROSS PSPB'!#REF!,3)=\" IT\",'CROSS PSPB'!#REF!,\"\")","v":{"$error":"#REF!"}},{"$f":"IF(RIGHT('CROSS PSPB'!#REF!,3)=\" IT\",'CROSS PSPB'!#REF!,\"\")","v":{"$error":"#REF!"}},{"$f":"IF(RIGHT('CROSS PSPB'!#REF!,3)=\" IT\",'CROSS PSPB'!#REF!,\"\")","v":{"$error":"#REF!"}},{"$f":"IF(RIGHT('CROSS PSPB'!#REF!,3)=\" IT\",'CROSS PSPB'!#REF!,\"\")","v":{"$error":"#REF!"}},{"$f":"IF(RIGHT('CROSS PSPB'!#REF!,3)=\" IT\",'CROSS PSPB'!#REF!,\"\")","v":{"$error":"#REF!"}},{"$f":"IF(RIGHT('CROSS PSPB'!#REF!,3)=\" IT\",'CROSS PSPB'!#REF!,\"\")","v":{"$error":"#REF!"}},{"$f":"IF(RIGHT('CROSS PSPB'!#REF!,3)=\" IT\",'CROSS PSPB'!#REF!,\"\")","v":{"$error":"#REF!"}},{"$f":"IF(RIGHT('CROSS PSPB'!#REF!,3)=\" IT\",'CROSS PSPB'!#REF!,\"\")","v":{"$error":"#REF!"}},{"$f":"IF(RIGHT('CROSS PSPB'!#REF!,3)=\" IT\",'CROSS PSPB'!#REF!,\"\")","v":{"$error":"#REF!"}},{"$f":"IF(RIGHT('CROSS PSPB'!#REF!,3)=\" IT\",'CROSS PSPB'!#REF!,\"\")","v":{"$error":"#REF!"}},{"$f":"IF(RIGHT('CROSS PSPB'!#REF!,3)=\" IT\",'CROSS PSPB'!#REF!,\"\")","v":{"$error":"#REF!"}},{"$f":"IF(RIGHT('CROSS PSPB'!#REF!,3)=\" IT\",'CROSS PSPB'!#REF!,\"\")","v":{"$error":"#REF!"}},{"$f":"IF(RIGHT('CROSS PSPB'!#REF!,3)=\" IT\",'CROSS PSPB'!#REF!,\"\")","v":{"$error":"#REF!"}},{"$f":"IF(RIGHT('CROSS PSPB'!#REF!,3)=\" IT\",'CROSS PSPB'!#REF!,\"\")","v":{"$error":"#REF!"}},{"$f":"IF(RIGHT('CROSS PSPB'!#REF!,3)=\" IT\",'CROSS PSPB'!#REF!,\"\")","v":{"$error":"#REF!"}},{"$f":"IF(RIGHT('CROSS PSPB'!#REF!,3)=\" IT\",'CROSS PSPB'!#REF!,\"\")","v":{"$error":"#REF!"}},{"$f":"IF(RIGHT('CROSS PSPB'!#REF!,3)=\" IT\",'CROSS PSPB'!#REF!,\"\")","v":{"$error":"#REF!"}},{"$f":"IF(RIGHT('CROSS PSPB'!#REF!,3)=\" IT\",'CROSS PSPB'!#REF!,\"\")","v":{"$error":"#REF!"}},{"$f":"IF(RIGHT('CROSS PSPB'!#REF!,3)=\" IT\",'CROSS PSPB'!#REF!,\"\")","v":{"$error":"#REF!"}},{"$f":"IF(RIGHT('CROSS PSPB'!#REF!,3)=\" IT\",'CROSS PSPB'!#REF!,\"\")","v":{"$error":"#REF!"}},{"$f":"IF(RIGHT('CROSS PSPB'!#REF!,3)=\" IT\",'CROSS PSPB'!#REF!,\"\")","v":{"$error":"#REF!"}},{"$f":"IF(RIGHT('CROSS PSPB'!#REF!,3)=\" IT\",'CROSS PSPB'!#REF!,\"\")","v":{"$error":"#REF!"}},{"$f":"IF(RIGHT('CROSS PSPB'!#REF!,3)=\" IT\",'CROSS PSPB'!#REF!,\"\")","v":{"$error":"#REF!"}},{"$f":"IF(RIGHT('CROSS PSPB'!#REF!,3)=\" IT\",'CROSS PSPB'!#REF!,\"\")","v":{"$error":"#REF!"}},{"$f":"IF(RIGHT('CROSS PSPB'!#REF!,3)=\" IT\",'CROSS PSPB'!#REF!,\"\")","v":{"$error":"#REF!"}},{"$f":"IF(RIGHT('CROSS PSPB'!#REF!,3)=\" IT\",'CROSS PSPB'!#REF!,\"\")","v":{"$error":"#REF!"}},{"$f":"IF(RIGHT('CROSS PSPB'!#REF!,3)=\" IT\",'CROSS PSPB'!#REF!,\"\")","v":{"$error":"#REF!"}},{"$f":"IF(RIGHT('CROSS PSPB'!#REF!,3)=\" IT\",'CROSS PSPB'!#REF!,\"\")","v":{"$error":"#REF!"}},{"$f":"IF(RIGHT('CROSS PSPB'!#REF!,3)=\" IT\",'CROSS PSPB'!#REF!,\"\")","v":{"$error":"#REF!"}},{"$f":"IF(RIGHT('CROSS PSPB'!#REF!,3)=\" IT\",'CROSS PSPB'!#REF!,\"\")","v":{"$error":"#REF!"}},{"$f":"IF(RIGHT('CROSS PSPB'!#REF!,3)=\" IT\",'CROSS PSPB'!#REF!,\"\")","v":{"$error":"#REF!"}},{"$f":"IF(RIGHT('CROSS PSPB'!#REF!,3)=\" IT\",'CROSS PSPB'!#REF!,\"\")","v":{"$error":"#REF!"}},{"$f":"IF(RIGHT('CROSS PSPB'!#REF!,3)=\" IT\",'CROSS PSPB'!#REF!,\"\")","v":{"$error":"#REF!"}},{"$f":"IF(RIGHT('CROSS PSPB'!#REF!,3)=\" IT\",'CROSS PSPB'!#REF!,\"\")","v":{"$error":"#REF!"}},{"$f":"IF(RIGHT('CROSS PSPB'!#REF!,3)=\" IT\",'CROSS PSPB'!#REF!,\"\")","v":{"$error":"#REF!"}},{"$f":"IF(RIGHT('CROSS PSPB'!#REF!,3)=\" IT\",'CROSS PSPB'!#REF!,\"\")","v":{"$error":"#REF!"}},{"$f":"IF(RIGHT('CROSS PSPB'!#REF!,3)=\" IT\",'CROSS PSPB'!#REF!,\"\")","v":{"$error":"#REF!"}},{"$f":"IF(RIGHT('CROSS PSPB'!#REF!,3)=\" IT\",'CROSS PSPB'!#REF!,\"\")","v":{"$error":"#REF!"}},{"$f":"IF(RIGHT('CROSS PSPB'!#REF!,3)=\" IT\",'CROSS PSPB'!#REF!,\"\")","v":{"$error":"#REF!"}},{"$f":"IF(RIGHT('CROSS PSPB'!#REF!,3)=\" IT\",'CROSS PSPB'!#REF!,\"\")","v":{"$error":"#REF!"}},{"$f":"IF(RIGHT('CROSS PSPB'!#REF!,3)=\" IT\",'CROSS PSPB'!#REF!,\"\")","v":{"$error":"#REF!"}},{"$f":"IF(RIGHT('CROSS PSPB'!#REF!,3)=\" IT\",'CROSS PSPB'!#REF!,\"\")","v":{"$error":"#REF!"}},{"$f":"IF(RIGHT('CROSS PSPB'!#REF!,3)=\" IT\",'CROSS PSPB'!#REF!,\"\")","v":{"$error":"#REF!"}},{"$f":"IF(RIGHT('CROSS PSPB'!#REF!,3)=\" IT\",'CROSS PSPB'!#REF!,\"\")","v":{"$error":"#REF!"}},{"$f":"IF(RIGHT('CROSS PSPB'!#REF!,3)=\" IT\",'CROSS PSPB'!#REF!,\"\")","v":{"$error":"#REF!"}},{"$f":"IF(RIGHT('CROSS PSPB'!#REF!,3)=\" IT\",'CROSS PSPB'!#REF!,\"\")","v":{"$error":"#REF!"}},{"$f":"IF(RIGHT('CROSS PSPB'!#REF!,3)=\" IT\",'CROSS PSPB'!#REF!,\"\")","v":{"$error":"#REF!"}},{"$f":"IF(RIGHT('CROSS PSPB'!#REF!,3)=\" IT\",'CROSS PSPB'!#REF!,\"\")","v":{"$error":"#REF!"}},{"$f":"IF(RIGHT('CROSS PSPB'!#REF!,3)=\" IT\",'CROSS PSPB'!#REF!,\"\")","v":{"$error":"#REF!"}},{"$f":"IF(RIGHT('CROSS PSPB'!#REF!,3)=\" IT\",'CROSS PSPB'!#REF!,\"\")","v":{"$error":"#REF!"}},{"$error":"#REF!"},{"$error":"#REF!"},{"$error":"#REF!"},{"$error":"#REF!"}]
[null,{"$f":"IF(RIGHT('CROSS PSPB'!#REF!,3)=\" IT\",'CROSS PSPB'!#REF!,\"\")","v":{"$error":"#REF!"}},{"$f":"IF(RIGHT('CROSS PSPB'!#REF!,3)=\" IT\",'CROSS PSPB'!#REF!,\"\")","v":{"$error":"#REF!"}},{"$f":"IF(RIGHT('CROSS PSPB'!#REF!,3)=\" IT\",'CROSS PSPB'!#REF!,\"\")","v":{"$error":"#REF!"}},{"$f":"IF(RIGHT('CROSS PSPB'!#REF!,3)=\" IT\",'CROSS PSPB'!#REF!,\"\")","v":{"$error":"#REF!"}},{"$f":"IF(RIGHT('CROSS PSPB'!#REF!,3)=\" IT\",'CROSS PSPB'!#REF!,\"\")","v":{"$error":"#REF!"}},{"$f":"IF(RIGHT('CROSS PSPB'!#REF!,3)=\" IT\",'CROSS PSPB'!#REF!,\"\")","v":{"$error":"#REF!"}},{"$f":"IF(RIGHT('CROSS PSPB'!#REF!,3)=\" IT\",'CROSS PSPB'!#REF!,\"\")","v":{"$error":"#REF!"}},{"$f":"IF(RIGHT('CROSS PSPB'!#REF!,3)=\" IT\",'CROSS PSPB'!#REF!,\"\")","v":{"$error":"#REF!"}},{"$f":"IF(RIGHT('CROSS PSPB'!#REF!,3)=\" IT\",'CROSS PSPB'!#REF!,\"\")","v":{"$error":"#REF!"}},{"$f":"IF(RIGHT('CROSS PSPB'!#REF!,3)=\" IT\",'CROSS PSPB'!#REF!,\"\")","v":{"$error":"#REF!"}},{"$f":"IF(RIGHT('CROSS PSPB'!#REF!,3)=\" IT\",'CROSS PSPB'!#REF!,\"\")","v":{"$error":"#REF!"}},{"$f":"IF(RIGHT('CROSS PSPB'!#REF!,3)=\" IT\",'CROSS PSPB'!#REF!,\"\")","v":{"$error":"#REF!"}},{"$f":"IF(RIGHT('CROSS PSPB'!#REF!,3)=\" IT\",'CROSS PSPB'!#REF!,\"\")","v":{"$error":"#REF!"}},{"$f":"IF(RIGHT('CROSS PSPB'!#REF!,3)=\" IT\",'CROSS PSPB'!#REF!,\"\")","v":{"$error":"#REF!"}},{"$f":"IF(RIGHT('CROSS PSPB'!#REF!,3)=\" IT\",'CROSS PSPB'!#REF!,\"\")","v":{"$error":"#REF!"}},{"$f":"IF(RIGHT('CROSS PSPB'!#REF!,3)=\" IT\",'CROSS PSPB'!#REF!,\"\")","v":{"$error":"#REF!"}},{"$f":"IF(RIGHT('CROSS PSPB'!#REF!,3)=\" IT\",'CROSS PSPB'!#REF!,\"\")","v":{"$error":"#REF!"}},{"$f":"IF(RIGHT('CROSS PSPB'!#REF!,3)=\" IT\",'CROSS PSPB'!#REF!,\"\")","v":{"$error":"#REF!"}},{"$f":"IF(RIGHT('CROSS PSPB'!#REF!,3)=\" IT\",'CROSS PSPB'!#REF!,\"\")","v":{"$error":"#REF!"}},{"$f":"IF(RIGHT('CROSS PSPB'!#REF!,3)=\" IT\",'CROSS PSPB'!#REF!,\"\")","v":{"$error":"#REF!"}},{"$f":"IF(RIGHT('CROSS PSPB'!#REF!,3)=\" IT\",'CROSS PSPB'!#REF!,\"\")","v":{"$error":"#REF!"}},{"$f":"IF(RIGHT('CROSS PSPB'!#REF!,3)=\" IT\",'CROSS PSPB'!#REF!,\"\")","v":{"$error":"#REF!"}},{"$f":"IF(RIGHT('CROSS PSPB'!#REF!,3)=\" IT\",'CROSS PSPB'!#REF!,\"\")","v":{"$error":"#REF!"}},{"$f":"IF(RIGHT('CROSS PSPB'!#REF!,3)=\" IT\",'CROSS PSPB'!#REF!,\"\")","v":{"$error":"#REF!"}},{"$f":"IF(RIGHT('CROSS PSPB'!#REF!,3)=\" IT\",'CROSS PSPB'!#REF!,\"\")","v":{"$error":"#REF!"}},{"$f":"IF(RIGHT('CROSS PSPB'!#REF!,3)=\" IT\",'CROSS PSPB'!#REF!,\"\")","v":{"$error":"#REF!"}},{"$f":"IF(RIGHT('CROSS PSPB'!#REF!,3)=\" IT\",'CROSS PSPB'!#REF!,\"\")","v":{"$error":"#REF!"}},{"$f":"IF(RIGHT('CROSS PSPB'!#REF!,3)=\" IT\",'CROSS PSPB'!#REF!,\"\")","v":{"$error":"#REF!"}},{"$f":"IF(RIGHT('CROSS PSPB'!#REF!,3)=\" IT\",'CROSS PSPB'!#REF!,\"\")","v":{"$error":"#REF!"}},{"$f":"IF(RIGHT('CROSS PSPB'!#REF!,3)=\" IT\",'CROSS PSPB'!#REF!,\"\")","v":{"$error":"#REF!"}},{"$f":"IF(RIGHT('CROSS PSPB'!#REF!,3)=\" IT\",'CROSS PSPB'!#REF!,\"\")","v":{"$error":"#REF!"}},{"$f":"IF(RIGHT('CROSS PSPB'!#REF!,3)=\" IT\",'CROSS PSPB'!#REF!,\"\")","v":{"$error":"#REF!"}},{"$f":"IF(RIGHT('CROSS PSPB'!#REF!,3)=\" IT\",'CROSS PSPB'!#REF!,\"\")","v":{"$error":"#REF!"}},{"$f":"IF(RIGHT('CROSS PSPB'!#REF!,3)=\" IT\",'CROSS PSPB'!#REF!,\"\")","v":{"$error":"#REF!"}},{"$f":"IF(RIGHT('CROSS PSPB'!#REF!,3)=\" IT\",'CROSS PSPB'!#REF!,\"\")","v":{"$error":"#REF!"}},{"$f":"IF(RIGHT('CROSS PSPB'!#REF!,3)=\" IT\",'CROSS PSPB'!#REF!,\"\")","v":{"$error":"#REF!"}},{"$f":"IF(RIGHT('CROSS PSPB'!#REF!,3)=\" IT\",'CROSS PSPB'!#REF!,\"\")","v":{"$error":"#REF!"}},{"$f":"IF(RIGHT('CROSS PSPB'!#REF!,3)=\" IT\",'CROSS PSPB'!#REF!,\"\")","v":{"$error":"#REF!"}},{"$f":"IF(RIGHT('CROSS PSPB'!#REF!,3)=\" IT\",'CROSS PSPB'!#REF!,\"\")","v":{"$error":"#REF!"}},{"$f":"IF(RIGHT('CROSS PSPB'!#REF!,3)=\" IT\",'CROSS PSPB'!#REF!,\"\")","v":{"$error":"#REF!"}},{"$f":"IF(RIGHT('CROSS PSPB'!#REF!,3)=\" IT\",'CROSS PSPB'!#REF!,\"\")","v":{"$error":"#REF!"}},{"$f":"IF(RIGHT('CROSS PSPB'!#REF!,3)=\" IT\",'CROSS PSPB'!#REF!,\"\")","v":{"$error":"#REF!"}},{"$f":"IF(RIGHT('CROSS PSPB'!#REF!,3)=\" IT\",'CROSS PSPB'!#REF!,\"\")","v":{"$error":"#REF!"}},{"$f":"IF(RIGHT('CROSS PSPB'!#REF!,3)=\" IT\",'CROSS PSPB'!#REF!,\"\")","v":{"$error":"#REF!"}},{"$f":"IF(RIGHT('CROSS PSPB'!#REF!,3)=\" IT\",'CROSS PSPB'!#REF!,\"\")","v":{"$error":"#REF!"}},{"$f":"IF(RIGHT('CROSS PSPB'!#REF!,3)=\" IT\",'CROSS PSPB'!#REF!,\"\")","v":{"$error":"#REF!"}},{"$f":"IF(RIGHT('CROSS PSPB'!#REF!,3)=\" IT\",'CROSS PSPB'!#REF!,\"\")","v":{"$error":"#REF!"}},{"$f":"IF(RIGHT('CROSS PSPB'!#REF!,3)=\" IT\",'CROSS PSPB'!#REF!,\"\")","v":{"$error":"#REF!"}},{"$f":"IF(RIGHT('CROSS PSPB'!#REF!,3)=\" IT\",'CROSS PSPB'!#REF!,\"\")","v":{"$error":"#REF!"}},{"$f":"IF(RIGHT('CROSS PSPB'!#REF!,3)=\" IT\",'CROSS PSPB'!#REF!,\"\")","v":{"$error":"#REF!"}},{"$f":"IF(RIGHT('CROSS PSPB'!#REF!,3)=\" IT\",'CROSS PSPB'!#REF!,\"\")","v":{"$error":"#REF!"}},{"$error":"#REF!"},{"$error":"#REF!"},{"$error":"#REF!"},{"$error":"#REF!"}]
[null,{"$f":"IF(RIGHT('CROSS PSPB'!#REF!,3)=\" IT\",'CROSS PSPB'!#REF!,\"\")","v":{"$error":"#REF!"}},{"$f":"IF(RIGHT('CROSS PSPB'!#REF!,3)=\" IT\",'CROSS PSPB'!#REF!,\"\")","v":{"$error":"#REF!"}},{"$f":"IF(RIGHT('CROSS PSPB'!#REF!,3)=\" IT\",'CROSS PSPB'!#REF!,\"\")","v":{"$error":"#REF!"}},{"$f":"IF(RIGHT('CROSS PSPB'!#REF!,3)=\" IT\",'CROSS PSPB'!#REF!,\"\")","v":{"$error":"#REF!"}},{"$f":"IF(RIGHT('CROSS PSPB'!#REF!,3)=\" IT\",'CROSS PSPB'!#REF!,\"\")","v":{"$error":"#REF!"}},{"$f":"IF(RIGHT('CROSS PSPB'!#REF!,3)=\" IT\",'CROSS PSPB'!#REF!,\"\")","v":{"$error":"#REF!"}},{"$f":"IF(RIGHT('CROSS PSPB'!#REF!,3)=\" IT\",'CROSS PSPB'!#REF!,\"\")","v":{"$error":"#REF!"}},{"$f":"IF(RIGHT('CROSS PSPB'!#REF!,3)=\" IT\",'CROSS PSPB'!#REF!,\"\")","v":{"$error":"#REF!"}},{"$f":"IF(RIGHT('CROSS PSPB'!#REF!,3)=\" IT\",'CROSS PSPB'!#REF!,\"\")","v":{"$error":"#REF!"}},{"$f":"IF(RIGHT('CROSS PSPB'!#REF!,3)=\" IT\",'CROSS PSPB'!#REF!,\"\")","v":{"$error":"#REF!"}},{"$f":"IF(RIGHT('CROSS PSPB'!#REF!,3)=\" IT\",'CROSS PSPB'!#REF!,\"\")","v":{"$error":"#REF!"}},{"$f":"IF(RIGHT('CROSS PSPB'!#REF!,3)=\" IT\",'CROSS PSPB'!#REF!,\"\")","v":{"$error":"#REF!"}},{"$f":"IF(RIGHT('CROSS PSPB'!#REF!,3)=\" IT\",'CROSS PSPB'!#REF!,\"\")","v":{"$error":"#REF!"}},{"$f":"IF(RIGHT('CROSS PSPB'!#REF!,3)=\" IT\",'CROSS PSPB'!#REF!,\"\")","v":{"$error":"#REF!"}},{"$f":"IF(RIGHT('CROSS PSPB'!#REF!,3)=\" IT\",'CROSS PSPB'!#REF!,\"\")","v":{"$error":"#REF!"}},{"$f":"IF(RIGHT('CROSS PSPB'!#REF!,3)=\" IT\",'CROSS PSPB'!#REF!,\"\")","v":{"$error":"#REF!"}},{"$f":"IF(RIGHT('CROSS PSPB'!#REF!,3)=\" IT\",'CROSS PSPB'!#REF!,\"\")","v":{"$error":"#REF!"}},{"$f":"IF(RIGHT('CROSS PSPB'!#REF!,3)=\" IT\",'CROSS PSPB'!#REF!,\"\")","v":{"$error":"#REF!"}},{"$f":"IF(RIGHT('CROSS PSPB'!#REF!,3)=\" IT\",'CROSS PSPB'!#REF!,\"\")","v":{"$error":"#REF!"}},{"$f":"IF(RIGHT('CROSS PSPB'!#REF!,3)=\" IT\",'CROSS PSPB'!#REF!,\"\")","v":{"$error":"#REF!"}},{"$f":"IF(RIGHT('CROSS PSPB'!#REF!,3)=\" IT\",'CROSS PSPB'!#REF!,\"\")","v":{"$error":"#REF!"}},{"$f":"IF(RIGHT('CROSS PSPB'!#REF!,3)=\" IT\",'CROSS PSPB'!#REF!,\"\")","v":{"$error":"#REF!"}},{"$f":"IF(RIGHT('CROSS PSPB'!#REF!,3)=\" IT\",'CROSS PSPB'!#REF!,\"\")","v":{"$error":"#REF!"}},{"$f":"IF(RIGHT('CROSS PSPB'!#REF!,3)=\" IT\",'CROSS PSPB'!#REF!,\"\")","v":{"$error":"#REF!"}},{"$f":"IF(RIGHT('CROSS PSPB'!#REF!,3)=\" IT\",'CROSS PSPB'!#REF!,\"\")","v":{"$error":"#REF!"}},{"$f":"IF(RIGHT('CROSS PSPB'!#REF!,3)=\" IT\",'CROSS PSPB'!#REF!,\"\")","v":{"$error":"#REF!"}},{"$f":"IF(RIGHT('CROSS PSPB'!#REF!,3)=\" IT\",'CROSS PSPB'!#REF!,\"\")","v":{"$error":"#REF!"}},{"$f":"IF(RIGHT('CROSS PSPB'!#REF!,3)=\" IT\",'CROSS PSPB'!#REF!,\"\")","v":{"$error":"#REF!"}},{"$f":"IF(RIGHT('CROSS PSPB'!#REF!,3)=\" IT\",'CROSS PSPB'!#REF!,\"\")","v":{"$error":"#REF!"}},{"$f":"IF(RIGHT('CROSS PSPB'!#REF!,3)=\" IT\",'CROSS PSPB'!#REF!,\"\")","v":{"$error":"#REF!"}},{"$f":"IF(RIGHT('CROSS PSPB'!#REF!,3)=\" IT\",'CROSS PSPB'!#REF!,\"\")","v":{"$error":"#REF!"}},{"$f":"IF(RIGHT('CROSS PSPB'!#REF!,3)=\" IT\",'CROSS PSPB'!#REF!,\"\")","v":{"$error":"#REF!"}},{"$f":"IF(RIGHT('CROSS PSPB'!#REF!,3)=\" IT\",'CROSS PSPB'!#REF!,\"\")","v":{"$error":"#REF!"}},{"$f":"IF(RIGHT('CROSS PSPB'!#REF!,3)=\" IT\",'CROSS PSPB'!#REF!,\"\")","v":{"$error":"#REF!"}},{"$f":"IF(RIGHT('CROSS PSPB'!#REF!,3)=\" IT\",'CROSS PSPB'!#REF!,\"\")","v":{"$error":"#REF!"}},{"$f":"IF(RIGHT('CROSS PSPB'!#REF!,3)=\" IT\",'CROSS PSPB'!#REF!,\"\")","v":{"$error":"#REF!"}},{"$f":"IF(RIGHT('CROSS PSPB'!#REF!,3)=\" IT\",'CROSS PSPB'!#REF!,\"\")","v":{"$error":"#REF!"}},{"$f":"IF(RIGHT('CROSS PSPB'!#REF!,3)=\" IT\",'CROSS PSPB'!#REF!,\"\")","v":{"$error":"#REF!"}},{"$f":"IF(RIGHT('CROSS PSPB'!#REF!,3)=\" IT\",'CROSS PSPB'!#REF!,\"\")","v":{"$error":"#REF!"}},{"$f":"IF(RIGHT('CROSS PSPB'!#REF!,3)=\" IT\",'CROSS PSPB'!#REF!,\"\")","v":{"$error":"#REF!"}},{"$f":"IF(RIGHT('CROSS PSPB'!#REF!,3)=\" IT\",'CROSS PSPB'!#REF!,\"\")","v":{"$error":"#REF!"}},{"$f":"IF(RIGHT('CROSS PSPB'!#REF!,3)=\" IT\",'CROSS PSPB'!#REF!,\"\")","v":{"$error":"#REF!"}},{"$f":"IF(RIGHT('CROSS PSPB'!#REF!,3)=\" IT\",'CROSS PSPB'!#REF!,\"\")","v":{"$error":"#REF!"}},{"$f":"IF(RIGHT('CROSS PSPB'!#REF!,3)=\" IT\",'CROSS PSPB'!#REF!,\"\")","v":{"$error":"#REF!"}},{"$f":"IF(RIGHT('CROSS PSPB'!#REF!,3)=\" IT\",'CROSS PSPB'!#REF!,\"\")","v":{"$error":"#REF!"}},{"$f":"IF(RIGHT('CROSS PSPB'!#REF!,3)=\" IT\",'CROSS PSPB'!#REF!,\"\")","v":{"$error":"#REF!"}},{"$f":"IF(RIGHT('CROSS PSPB'!#REF!,3)=\" IT\",'CROSS PSPB'!#REF!,\"\")","v":{"$error":"#REF!"}},{"$f":"IF(RIGHT('CROSS PSPB'!#REF!,3)=\" IT\",'CROSS PSPB'!#REF!,\"\")","v":{"$error":"#REF!"}},{"$f":"IF(RIGHT('CROSS PSPB'!#REF!,3)=\" IT\",'CROSS PSPB'!#REF!,\"\")","v":{"$error":"#REF!"}},{"$f":"IF(RIGHT('CROSS PSPB'!#REF!,3)=\" IT\",'CROSS PSPB'!#REF!,\"\")","v":{"$error":"#REF!"}},{"$f":"IF(RIGHT('CROSS PSPB'!#REF!,3)=\" IT\",'CROSS PSPB'!#REF!,\"\")","v":{"$error":"#REF!"}},{"$error":"#REF!"},{"$error":"#REF!"},{"$error":"#REF!"},{"$error":"#REF!"}]
[null,{"$f":"IF(RIGHT('CROSS PSPB'!#REF!,3)=\" IT\",'CROSS PSPB'!#REF!,\"\")","v":{"$error":"#REF!"}},{"$f":"IF(RIGHT('CROSS PSPB'!#REF!,3)=\" IT\",'CROSS PSPB'!#REF!,\"\")","v":{"$error":"#REF!"}},{"$f":"IF(RIGHT('CROSS PSPB'!#REF!,3)=\" IT\",'CROSS PSPB'!#REF!,\"\")","v":{"$error":"#REF!"}},{"$f":"IF(RIGHT('CROSS PSPB'!#REF!,3)=\" IT\",'CROSS PSPB'!#REF!,\"\")","v":{"$error":"#REF!"}},{"$f":"IF(RIGHT('CROSS PSPB'!#REF!,3)=\" IT\",'CROSS PSPB'!#REF!,\"\")","v":{"$error":"#REF!"}},{"$f":"IF(RIGHT('CROSS PSPB'!#REF!,3)=\" IT\",'CROSS PSPB'!#REF!,\"\")","v":{"$error":"#REF!"}},{"$f":"IF(RIGHT('CROSS PSPB'!#REF!,3)=\" IT\",'CROSS PSPB'!#REF!,\"\")","v":{"$error":"#REF!"}},{"$f":"IF(RIGHT('CROSS PSPB'!#REF!,3)=\" IT\",'CROSS PSPB'!#REF!,\"\")","v":{"$error":"#REF!"}},{"$f":"IF(RIGHT('CROSS PSPB'!#REF!,3)=\" IT\",'CROSS PSPB'!#REF!,\"\")","v":{"$error":"#REF!"}},{"$f":"IF(RIGHT('CROSS PSPB'!#REF!,3)=\" IT\",'CROSS PSPB'!#REF!,\"\")","v":{"$error":"#REF!"}},{"$f":"IF(RIGHT('CROSS PSPB'!#REF!,3)=\" IT\",'CROSS PSPB'!#REF!,\"\")","v":{"$error":"#REF!"}},{"$f":"IF(RIGHT('CROSS PSPB'!#REF!,3)=\" IT\",'CROSS PSPB'!#REF!,\"\")","v":{"$error":"#REF!"}},{"$f":"IF(RIGHT('CROSS PSPB'!#REF!,3)=\" IT\",'CROSS PSPB'!#REF!,\"\")","v":{"$error":"#REF!"}},{"$f":"IF(RIGHT('CROSS PSPB'!#REF!,3)=\" IT\",'CROSS PSPB'!#REF!,\"\")","v":{"$error":"#REF!"}},{"$f":"IF(RIGHT('CROSS PSPB'!#REF!,3)=\" IT\",'CROSS PSPB'!#REF!,\"\")","v":{"$error":"#REF!"}},{"$f":"IF(RIGHT('CROSS PSPB'!#REF!,3)=\" IT\",'CROSS PSPB'!#REF!,\"\")","v":{"$error":"#REF!"}},{"$f":"IF(RIGHT('CROSS PSPB'!#REF!,3)=\" IT\",'CROSS PSPB'!#REF!,\"\")","v":{"$error":"#REF!"}},{"$f":"IF(RIGHT('CROSS PSPB'!#REF!,3)=\" IT\",'CROSS PSPB'!#REF!,\"\")","v":{"$error":"#REF!"}},{"$f":"IF(RIGHT('CROSS PSPB'!#REF!,3)=\" IT\",'CROSS PSPB'!#REF!,\"\")","v":{"$error":"#REF!"}},{"$f":"IF(RIGHT('CROSS PSPB'!#REF!,3)=\" IT\",'CROSS PSPB'!#REF!,\"\")","v":{"$error":"#REF!"}},{"$f":"IF(RIGHT('CROSS PSPB'!#REF!,3)=\" IT\",'CROSS PSPB'!#REF!,\"\")","v":{"$error":"#REF!"}},{"$f":"IF(RIGHT('CROSS PSPB'!#REF!,3)=\" IT\",'CROSS PSPB'!#REF!,\"\")","v":{"$error":"#REF!"}},{"$f":"IF(RIGHT('CROSS PSPB'!#REF!,3)=\" IT\",'CROSS PSPB'!#REF!,\"\")","v":{"$error":"#REF!"}},{"$f":"IF(RIGHT('CROSS PSPB'!#REF!,3)=\" IT\",'CROSS PSPB'!#REF!,\"\")","v":{"$error":"#REF!"}},{"$f":"IF(RIGHT('CROSS PSPB'!#REF!,3)=\" IT\",'CROSS PSPB'!#REF!,\"\")","v":{"$error":"#REF!"}},{"$f":"IF(RIGHT('CROSS PSPB'!#REF!,3)=\" IT\",'CROSS PSPB'!#REF!,\"\")","v":{"$error":"#REF!"}},{"$f":"IF(RIGHT('CROSS PSPB'!#REF!,3)=\" IT\",'CROSS PSPB'!#REF!,\"\")","v":{"$error":"#REF!"}},{"$f":"IF(RIGHT('CROSS PSPB'!#REF!,3)=\" IT\",'CROSS PSPB'!#REF!,\"\")","v":{"$error":"#REF!"}},{"$f":"IF(RIGHT('CROSS PSPB'!#REF!,3)=\" IT\",'CROSS PSPB'!#REF!,\"\")","v":{"$error":"#REF!"}},{"$f":"IF(RIGHT('CROSS PSPB'!#REF!,3)=\" IT\",'CROSS PSPB'!#REF!,\"\")","v":{"$error":"#REF!"}},{"$f":"IF(RIGHT('CROSS PSPB'!#REF!,3)=\" IT\",'CROSS PSPB'!#REF!,\"\")","v":{"$error":"#REF!"}},{"$f":"IF(RIGHT('CROSS PSPB'!#REF!,3)=\" IT\",'CROSS PSPB'!#REF!,\"\")","v":{"$error":"#REF!"}},{"$f":"IF(RIGHT('CROSS PSPB'!#REF!,3)=\" IT\",'CROSS PSPB'!#REF!,\"\")","v":{"$error":"#REF!"}},{"$f":"IF(RIGHT('CROSS PSPB'!#REF!,3)=\" IT\",'CROSS PSPB'!#REF!,\"\")","v":{"$error":"#REF!"}},{"$f":"IF(RIGHT('CROSS PSPB'!#REF!,3)=\" IT\",'CROSS PSPB'!#REF!,\"\")","v":{"$error":"#REF!"}},{"$f":"IF(RIGHT('CROSS PSPB'!#REF!,3)=\" IT\",'CROSS PSPB'!#REF!,\"\")","v":{"$error":"#REF!"}},{"$f":"IF(RIGHT('CROSS PSPB'!#REF!,3)=\" IT\",'CROSS PSPB'!#REF!,\"\")","v":{"$error":"#REF!"}},{"$f":"IF(RIGHT('CROSS PSPB'!#REF!,3)=\" IT\",'CROSS PSPB'!#REF!,\"\")","v":{"$error":"#REF!"}},{"$f":"IF(RIGHT('CROSS PSPB'!#REF!,3)=\" IT\",'CROSS PSPB'!#REF!,\"\")","v":{"$error":"#REF!"}},{"$f":"IF(RIGHT('CROSS PSPB'!#REF!,3)=\" IT\",'CROSS PSPB'!#REF!,\"\")","v":{"$error":"#REF!"}},{"$f":"IF(RIGHT('CROSS PSPB'!#REF!,3)=\" IT\",'CROSS PSPB'!#REF!,\"\")","v":{"$error":"#REF!"}},{"$f":"IF(RIGHT('CROSS PSPB'!#REF!,3)=\" IT\",'CROSS PSPB'!#REF!,\"\")","v":{"$error":"#REF!"}},{"$f":"IF(RIGHT('CROSS PSPB'!#REF!,3)=\" IT\",'CROSS PSPB'!#REF!,\"\")","v":{"$error":"#REF!"}},{"$f":"IF(RIGHT('CROSS PSPB'!#REF!,3)=\" IT\",'CROSS PSPB'!#REF!,\"\")","v":{"$error":"#REF!"}},{"$f":"IF(RIGHT('CROSS PSPB'!#REF!,3)=\" IT\",'CROSS PSPB'!#REF!,\"\")","v":{"$error":"#REF!"}},{"$f":"IF(RIGHT('CROSS PSPB'!#REF!,3)=\" IT\",'CROSS PSPB'!#REF!,\"\")","v":{"$error":"#REF!"}},{"$f":"IF(RIGHT('CROSS PSPB'!#REF!,3)=\" IT\",'CROSS PSPB'!#REF!,\"\")","v":{"$error":"#REF!"}},{"$f":"IF(RIGHT('CROSS PSPB'!#REF!,3)=\" IT\",'CROSS PSPB'!#REF!,\"\")","v":{"$error":"#REF!"}},{"$f":"IF(RIGHT('CROSS PSPB'!#REF!,3)=\" IT\",'CROSS PSPB'!#REF!,\"\")","v":{"$error":"#REF!"}},{"$f":"IF(RIGHT('CROSS PSPB'!#REF!,3)=\" IT\",'CROSS PSPB'!#REF!,\"\")","v":{"$error":"#REF!"}},{"$f":"IF(RIGHT('CROSS PSPB'!#REF!,3)=\" IT\",'CROSS PSPB'!#REF!,\"\")","v":{"$error":"#REF!"}},{"$f":"SUM(I70,M70,Q70,U70,Y70,AC70,AG70,AK70,AO70,AS70,AW70)-E70","v":{"$error":"#REF!"}},{"$error":"#REF!"},{"$error":"#REF!"},{"$error":"#REF!"}]
[null,{"$f":"IF(RIGHT('CROSS PSPB'!#REF!,3)=\" IT\",'CROSS PSPB'!#REF!,\"\")","v":{"$error":"#REF!"}},{"$f":"IF(RIGHT('CROSS PSPB'!#REF!,3)=\" IT\",'CROSS PSPB'!#REF!,\"\")","v":{"$error":"#REF!"}},{"$f":"IF(RIGHT('CROSS PSPB'!#REF!,3)=\" IT\",'CROSS PSPB'!#REF!,\"\")","v":{"$error":"#REF!"}},{"$f":"IF(RIGHT('CROSS PSPB'!#REF!,3)=\" IT\",'CROSS PSPB'!#REF!,\"\")","v":{"$error":"#REF!"}},{"$f":"IF(RIGHT('CROSS PSPB'!#REF!,3)=\" IT\",'CROSS PSPB'!#REF!,\"\")","v":{"$error":"#REF!"}},{"$f":"IF(RIGHT('CROSS PSPB'!#REF!,3)=\" IT\",'CROSS PSPB'!#REF!,\"\")","v":{"$error":"#REF!"}},{"$f":"IF(RIGHT('CROSS PSPB'!#REF!,3)=\" IT\",'CROSS PSPB'!#REF!,\"\")","v":{"$error":"#REF!"}},{"$f":"IF(RIGHT('CROSS PSPB'!#REF!,3)=\" IT\",'CROSS PSPB'!#REF!,\"\")","v":{"$error":"#REF!"}},{"$f":"IF(RIGHT('CROSS PSPB'!#REF!,3)=\" IT\",'CROSS PSPB'!#REF!,\"\")","v":{"$error":"#REF!"}},{"$f":"IF(RIGHT('CROSS PSPB'!#REF!,3)=\" IT\",'CROSS PSPB'!#REF!,\"\")","v":{"$error":"#REF!"}},{"$f":"IF(RIGHT('CROSS PSPB'!#REF!,3)=\" IT\",'CROSS PSPB'!#REF!,\"\")","v":{"$error":"#REF!"}},{"$f":"IF(RIGHT('CROSS PSPB'!#REF!,3)=\" IT\",'CROSS PSPB'!#REF!,\"\")","v":{"$error":"#REF!"}},{"$f":"IF(RIGHT('CROSS PSPB'!#REF!,3)=\" IT\",'CROSS PSPB'!#REF!,\"\")","v":{"$error":"#REF!"}},{"$f":"IF(RIGHT('CROSS PSPB'!#REF!,3)=\" IT\",'CROSS PSPB'!#REF!,\"\")","v":{"$error":"#REF!"}},{"$f":"IF(RIGHT('CROSS PSPB'!#REF!,3)=\" IT\",'CROSS PSPB'!#REF!,\"\")","v":{"$error":"#REF!"}},{"$f":"IF(RIGHT('CROSS PSPB'!#REF!,3)=\" IT\",'CROSS PSPB'!#REF!,\"\")","v":{"$error":"#REF!"}},{"$f":"IF(RIGHT('CROSS PSPB'!#REF!,3)=\" IT\",'CROSS PSPB'!#REF!,\"\")","v":{"$error":"#REF!"}},{"$f":"IF(RIGHT('CROSS PSPB'!#REF!,3)=\" IT\",'CROSS PSPB'!#REF!,\"\")","v":{"$error":"#REF!"}},{"$f":"IF(RIGHT('CROSS PSPB'!#REF!,3)=\" IT\",'CROSS PSPB'!#REF!,\"\")","v":{"$error":"#REF!"}},{"$f":"IF(RIGHT('CROSS PSPB'!#REF!,3)=\" IT\",'CROSS PSPB'!#REF!,\"\")","v":{"$error":"#REF!"}},{"$f":"IF(RIGHT('CROSS PSPB'!#REF!,3)=\" IT\",'CROSS PSPB'!#REF!,\"\")","v":{"$error":"#REF!"}},{"$f":"IF(RIGHT('CROSS PSPB'!#REF!,3)=\" IT\",'CROSS PSPB'!#REF!,\"\")","v":{"$error":"#REF!"}},{"$f":"IF(RIGHT('CROSS PSPB'!#REF!,3)=\" IT\",'CROSS PSPB'!#REF!,\"\")","v":{"$error":"#REF!"}},{"$f":"IF(RIGHT('CROSS PSPB'!#REF!,3)=\" IT\",'CROSS PSPB'!#REF!,\"\")","v":{"$error":"#REF!"}},{"$f":"IF(RIGHT('CROSS PSPB'!#REF!,3)=\" IT\",'CROSS PSPB'!#REF!,\"\")","v":{"$error":"#REF!"}},{"$f":"IF(RIGHT('CROSS PSPB'!#REF!,3)=\" IT\",'CROSS PSPB'!#REF!,\"\")","v":{"$error":"#REF!"}},{"$f":"IF(RIGHT('CROSS PSPB'!#REF!,3)=\" IT\",'CROSS PSPB'!#REF!,\"\")","v":{"$error":"#REF!"}},{"$f":"IF(RIGHT('CROSS PSPB'!#REF!,3)=\" IT\",'CROSS PSPB'!#REF!,\"\")","v":{"$error":"#REF!"}},{"$f":"IF(RIGHT('CROSS PSPB'!#REF!,3)=\" IT\",'CROSS PSPB'!#REF!,\"\")","v":{"$error":"#REF!"}},{"$f":"IF(RIGHT('CROSS PSPB'!#REF!,3)=\" IT\",'CROSS PSPB'!#REF!,\"\")","v":{"$error":"#REF!"}},{"$f":"IF(RIGHT('CROSS PSPB'!#REF!,3)=\" IT\",'CROSS PSPB'!#REF!,\"\")","v":{"$error":"#REF!"}},{"$f":"IF(RIGHT('CROSS PSPB'!#REF!,3)=\" IT\",'CROSS PSPB'!#REF!,\"\")","v":{"$error":"#REF!"}},{"$f":"IF(RIGHT('CROSS PSPB'!#REF!,3)=\" IT\",'CROSS PSPB'!#REF!,\"\")","v":{"$error":"#REF!"}},{"$f":"IF(RIGHT('CROSS PSPB'!#REF!,3)=\" IT\",'CROSS PSPB'!#REF!,\"\")","v":{"$error":"#REF!"}},{"$f":"IF(RIGHT('CROSS PSPB'!#REF!,3)=\" IT\",'CROSS PSPB'!#REF!,\"\")","v":{"$error":"#REF!"}},{"$f":"IF(RIGHT('CROSS PSPB'!#REF!,3)=\" IT\",'CROSS PSPB'!#REF!,\"\")","v":{"$error":"#REF!"}},{"$f":"IF(RIGHT('CROSS PSPB'!#REF!,3)=\" IT\",'CROSS PSPB'!#REF!,\"\")","v":{"$error":"#REF!"}},{"$f":"IF(RIGHT('CROSS PSPB'!#REF!,3)=\" IT\",'CROSS PSPB'!#REF!,\"\")","v":{"$error":"#REF!"}},{"$f":"IF(RIGHT('CROSS PSPB'!#REF!,3)=\" IT\",'CROSS PSPB'!#REF!,\"\")","v":{"$error":"#REF!"}},{"$f":"IF(RIGHT('CROSS PSPB'!#REF!,3)=\" IT\",'CROSS PSPB'!#REF!,\"\")","v":{"$error":"#REF!"}},{"$f":"IF(RIGHT('CROSS PSPB'!#REF!,3)=\" IT\",'CROSS PSPB'!#REF!,\"\")","v":{"$error":"#REF!"}},{"$f":"IF(RIGHT('CROSS PSPB'!#REF!,3)=\" IT\",'CROSS PSPB'!#REF!,\"\")","v":{"$error":"#REF!"}},{"$f":"IF(RIGHT('CROSS PSPB'!#REF!,3)=\" IT\",'CROSS PSPB'!#REF!,\"\")","v":{"$error":"#REF!"}},{"$f":"IF(RIGHT('CROSS PSPB'!#REF!,3)=\" IT\",'CROSS PSPB'!#REF!,\"\")","v":{"$error":"#REF!"}},{"$f":"IF(RIGHT('CROSS PSPB'!#REF!,3)=\" IT\",'CROSS PSPB'!#REF!,\"\")","v":{"$error":"#REF!"}},{"$f":"IF(RIGHT('CROSS PSPB'!#REF!,3)=\" IT\",'CROSS PSPB'!#REF!,\"\")","v":{"$error":"#REF!"}},{"$f":"IF(RIGHT('CROSS PSPB'!#REF!,3)=\" IT\",'CROSS PSPB'!#REF!,\"\")","v":{"$error":"#REF!"}},{"$f":"IF(RIGHT('CROSS PSPB'!#REF!,3)=\" IT\",'CROSS PSPB'!#REF!,\"\")","v":{"$error":"#REF!"}},{"$f":"IF(RIGHT('CROSS PSPB'!#REF!,3)=\" IT\",'CROSS PSPB'!#REF!,\"\")","v":{"$error":"#REF!"}},{"$f":"IF(RIGHT('CROSS PSPB'!#REF!,3)=\" IT\",'CROSS PSPB'!#REF!,\"\")","v":{"$error":"#REF!"}},{"$f":"IF(RIGHT('CROSS PSPB'!#REF!,3)=\" IT\",'CROSS PSPB'!#REF!,\"\")","v":{"$error":"#REF!"}},{"$error":"#REF!"},{"$error":"#REF!"},{"$error":"#REF!"},{"$error":"#REF!"}]
[null,{"$f":"IF(RIGHT('CROSS PSPB'!#REF!,3)=\" IT\",'CROSS PSPB'!#REF!,\"\")","v":{"$error":"#REF!"}},{"$f":"IF(RIGHT('CROSS PSPB'!#REF!,3)=\" IT\",'CROSS PSPB'!#REF!,\"\")","v":{"$error":"#REF!"}},{"$f":"IF(RIGHT('CROSS PSPB'!#REF!,3)=\" IT\",'CROSS PSPB'!#REF!,\"\")","v":{"$error":"#REF!"}},{"$f":"IF(RIGHT('CROSS PSPB'!#REF!,3)=\" IT\",'CROSS PSPB'!#REF!,\"\")","v":{"$error":"#REF!"}},{"$f":"IF(RIGHT('CROSS PSPB'!#REF!,3)=\" IT\",'CROSS PSPB'!#REF!,\"\")","v":{"$error":"#REF!"}},{"$f":"IF(RIGHT('CROSS PSPB'!#REF!,3)=\" IT\",'CROSS PSPB'!#REF!,\"\")","v":{"$error":"#REF!"}},{"$f":"IF(RIGHT('CROSS PSPB'!#REF!,3)=\" IT\",'CROSS PSPB'!#REF!,\"\")","v":{"$error":"#REF!"}},{"$f":"IF(RIGHT('CROSS PSPB'!#REF!,3)=\" IT\",'CROSS PSPB'!#REF!,\"\")","v":{"$error":"#REF!"}},{"$f":"IF(RIGHT('CROSS PSPB'!#REF!,3)=\" IT\",'CROSS PSPB'!#REF!,\"\")","v":{"$error":"#REF!"}},{"$f":"IF(RIGHT('CROSS PSPB'!#REF!,3)=\" IT\",'CROSS PSPB'!#REF!,\"\")","v":{"$error":"#REF!"}},{"$f":"IF(RIGHT('CROSS PSPB'!#REF!,3)=\" IT\",'CROSS PSPB'!#REF!,\"\")","v":{"$error":"#REF!"}},{"$f":"IF(RIGHT('CROSS PSPB'!#REF!,3)=\" IT\",'CROSS PSPB'!#REF!,\"\")","v":{"$error":"#REF!"}},{"$f":"IF(RIGHT('CROSS PSPB'!#REF!,3)=\" IT\",'CROSS PSPB'!#REF!,\"\")","v":{"$error":"#REF!"}},{"$f":"IF(RIGHT('CROSS PSPB'!#REF!,3)=\" IT\",'CROSS PSPB'!#REF!,\"\")","v":{"$error":"#REF!"}},{"$f":"IF(RIGHT('CROSS PSPB'!#REF!,3)=\" IT\",'CROSS PSPB'!#REF!,\"\")","v":{"$error":"#REF!"}},{"$f":"IF(RIGHT('CROSS PSPB'!#REF!,3)=\" IT\",'CROSS PSPB'!#REF!,\"\")","v":{"$error":"#REF!"}},{"$f":"IF(RIGHT('CROSS PSPB'!#REF!,3)=\" IT\",'CROSS PSPB'!#REF!,\"\")","v":{"$error":"#REF!"}},{"$f":"IF(RIGHT('CROSS PSPB'!#REF!,3)=\" IT\",'CROSS PSPB'!#REF!,\"\")","v":{"$error":"#REF!"}},{"$f":"IF(RIGHT('CROSS PSPB'!#REF!,3)=\" IT\",'CROSS PSPB'!#REF!,\"\")","v":{"$error":"#REF!"}},{"$f":"IF(RIGHT('CROSS PSPB'!#REF!,3)=\" IT\",'CROSS PSPB'!#REF!,\"\")","v":{"$error":"#REF!"}},{"$f":"IF(RIGHT('CROSS PSPB'!#REF!,3)=\" IT\",'CROSS PSPB'!#REF!,\"\")","v":{"$error":"#REF!"}},{"$f":"IF(RIGHT('CROSS PSPB'!#REF!,3)=\" IT\",'CROSS PSPB'!#REF!,\"\")","v":{"$error":"#REF!"}},{"$f":"IF(RIGHT('CROSS PSPB'!#REF!,3)=\" IT\",'CROSS PSPB'!#REF!,\"\")","v":{"$error":"#REF!"}},{"$f":"IF(RIGHT('CROSS PSPB'!#REF!,3)=\" IT\",'CROSS PSPB'!#REF!,\"\")","v":{"$error":"#REF!"}},{"$f":"IF(RIGHT('CROSS PSPB'!#REF!,3)=\" IT\",'CROSS PSPB'!#REF!,\"\")","v":{"$error":"#REF!"}},{"$f":"IF(RIGHT('CROSS PSPB'!#REF!,3)=\" IT\",'CROSS PSPB'!#REF!,\"\")","v":{"$error":"#REF!"}},{"$f":"IF(RIGHT('CROSS PSPB'!#REF!,3)=\" IT\",'CROSS PSPB'!#REF!,\"\")","v":{"$error":"#REF!"}},{"$f":"IF(RIGHT('CROSS PSPB'!#REF!,3)=\" IT\",'CROSS PSPB'!#REF!,\"\")","v":{"$error":"#REF!"}},{"$f":"IF(RIGHT('CROSS PSPB'!#REF!,3)=\" IT\",'CROSS PSPB'!#REF!,\"\")","v":{"$error":"#REF!"}},{"$f":"IF(RIGHT('CROSS PSPB'!#REF!,3)=\" IT\",'CROSS PSPB'!#REF!,\"\")","v":{"$error":"#REF!"}},{"$f":"IF(RIGHT('CROSS PSPB'!#REF!,3)=\" IT\",'CROSS PSPB'!#REF!,\"\")","v":{"$error":"#REF!"}},{"$f":"IF(RIGHT('CROSS PSPB'!#REF!,3)=\" IT\",'CROSS PSPB'!#REF!,\"\")","v":{"$error":"#REF!"}},{"$f":"IF(RIGHT('CROSS PSPB'!#REF!,3)=\" IT\",'CROSS PSPB'!#REF!,\"\")","v":{"$error":"#REF!"}},{"$f":"IF(RIGHT('CROSS PSPB'!#REF!,3)=\" IT\",'CROSS PSPB'!#REF!,\"\")","v":{"$error":"#REF!"}},{"$f":"IF(RIGHT('CROSS PSPB'!#REF!,3)=\" IT\",'CROSS PSPB'!#REF!,\"\")","v":{"$error":"#REF!"}},{"$f":"IF(RIGHT('CROSS PSPB'!#REF!,3)=\" IT\",'CROSS PSPB'!#REF!,\"\")","v":{"$error":"#REF!"}},{"$f":"IF(RIGHT('CROSS PSPB'!#REF!,3)=\" IT\",'CROSS PSPB'!#REF!,\"\")","v":{"$error":"#REF!"}},{"$f":"IF(RIGHT('CROSS PSPB'!#REF!,3)=\" IT\",'CROSS PSPB'!#REF!,\"\")","v":{"$error":"#REF!"}},{"$f":"IF(RIGHT('CROSS PSPB'!#REF!,3)=\" IT\",'CROSS PSPB'!#REF!,\"\")","v":{"$error":"#REF!"}},{"$f":"IF(RIGHT('CROSS PSPB'!#REF!,3)=\" IT\",'CROSS PSPB'!#REF!,\"\")","v":{"$error":"#REF!"}},{"$f":"IF(RIGHT('CROSS PSPB'!#REF!,3)=\" IT\",'CROSS PSPB'!#REF!,\"\")","v":{"$error":"#REF!"}},{"$f":"IF(RIGHT('CROSS PSPB'!#REF!,3)=\" IT\",'CROSS PSPB'!#REF!,\"\")","v":{"$error":"#REF!"}},{"$f":"IF(RIGHT('CROSS PSPB'!#REF!,3)=\" IT\",'CROSS PSPB'!#REF!,\"\")","v":{"$error":"#REF!"}},{"$f":"IF(RIGHT('CROSS PSPB'!#REF!,3)=\" IT\",'CROSS PSPB'!#REF!,\"\")","v":{"$error":"#REF!"}},{"$f":"IF(RIGHT('CROSS PSPB'!#REF!,3)=\" IT\",'CROSS PSPB'!#REF!,\"\")","v":{"$error":"#REF!"}},{"$f":"IF(RIGHT('CROSS PSPB'!#REF!,3)=\" IT\",'CROSS PSPB'!#REF!,\"\")","v":{"$error":"#REF!"}},{"$f":"IF(RIGHT('CROSS PSPB'!#REF!,3)=\" IT\",'CROSS PSPB'!#REF!,\"\")","v":{"$error":"#REF!"}},{"$f":"IF(RIGHT('CROSS PSPB'!#REF!,3)=\" IT\",'CROSS PSPB'!#REF!,\"\")","v":{"$error":"#REF!"}},{"$f":"IF(RIGHT('CROSS PSPB'!#REF!,3)=\" IT\",'CROSS PSPB'!#REF!,\"\")","v":{"$error":"#REF!"}},{"$f":"IF(RIGHT('CROSS PSPB'!#REF!,3)=\" IT\",'CROSS PSPB'!#REF!,\"\")","v":{"$error":"#REF!"}},{"$f":"IF(RIGHT('CROSS PSPB'!#REF!,3)=\" IT\",'CROSS PSPB'!#REF!,\"\")","v":{"$error":"#REF!"}},{"$error":"#REF!"},{"$error":"#REF!"},{"$error":"#REF!"},{"$error":"#REF!"}]
[null,{"$f":"IF(RIGHT('CROSS PSPB'!#REF!,3)=\" IT\",'CROSS PSPB'!#REF!,\"\")","v":{"$error":"#REF!"}},{"$f":"IF(RIGHT('CROSS PSPB'!#REF!,3)=\" IT\",'CROSS PSPB'!#REF!,\"\")","v":{"$error":"#REF!"}},{"$f":"IF(RIGHT('CROSS PSPB'!#REF!,3)=\" IT\",'CROSS PSPB'!#REF!,\"\")","v":{"$error":"#REF!"}},{"$f":"IF(RIGHT('CROSS PSPB'!#REF!,3)=\" IT\",'CROSS PSPB'!#REF!,\"\")","v":{"$error":"#REF!"}},{"$f":"IF(RIGHT('CROSS PSPB'!#REF!,3)=\" IT\",'CROSS PSPB'!#REF!,\"\")","v":{"$error":"#REF!"}},{"$f":"IF(RIGHT('CROSS PSPB'!#REF!,3)=\" IT\",'CROSS PSPB'!#REF!,\"\")","v":{"$error":"#REF!"}},{"$f":"IF(RIGHT('CROSS PSPB'!#REF!,3)=\" IT\",'CROSS PSPB'!#REF!,\"\")","v":{"$error":"#REF!"}},{"$f":"IF(RIGHT('CROSS PSPB'!#REF!,3)=\" IT\",'CROSS PSPB'!#REF!,\"\")","v":{"$error":"#REF!"}},{"$f":"IF(RIGHT('CROSS PSPB'!#REF!,3)=\" IT\",'CROSS PSPB'!#REF!,\"\")","v":{"$error":"#REF!"}},{"$f":"IF(RIGHT('CROSS PSPB'!#REF!,3)=\" IT\",'CROSS PSPB'!#REF!,\"\")","v":{"$error":"#REF!"}},{"$f":"IF(RIGHT('CROSS PSPB'!#REF!,3)=\" IT\",'CROSS PSPB'!#REF!,\"\")","v":{"$error":"#REF!"}},{"$f":"IF(RIGHT('CROSS PSPB'!#REF!,3)=\" IT\",'CROSS PSPB'!#REF!,\"\")","v":{"$error":"#REF!"}},{"$f":"IF(RIGHT('CROSS PSPB'!#REF!,3)=\" IT\",'CROSS PSPB'!#REF!,\"\")","v":{"$error":"#REF!"}},{"$f":"IF(RIGHT('CROSS PSPB'!#REF!,3)=\" IT\",'CROSS PSPB'!#REF!,\"\")","v":{"$error":"#REF!"}},{"$f":"IF(RIGHT('CROSS PSPB'!#REF!,3)=\" IT\",'CROSS PSPB'!#REF!,\"\")","v":{"$error":"#REF!"}},{"$f":"IF(RIGHT('CROSS PSPB'!#REF!,3)=\" IT\",'CROSS PSPB'!#REF!,\"\")","v":{"$error":"#REF!"}},{"$f":"IF(RIGHT('CROSS PSPB'!#REF!,3)=\" IT\",'CROSS PSPB'!#REF!,\"\")","v":{"$error":"#REF!"}},{"$f":"IF(RIGHT('CROSS PSPB'!#REF!,3)=\" IT\",'CROSS PSPB'!#REF!,\"\")","v":{"$error":"#REF!"}},{"$f":"IF(RIGHT('CROSS PSPB'!#REF!,3)=\" IT\",'CROSS PSPB'!#REF!,\"\")","v":{"$error":"#REF!"}},{"$f":"IF(RIGHT('CROSS PSPB'!#REF!,3)=\" IT\",'CROSS PSPB'!#REF!,\"\")","v":{"$error":"#REF!"}},{"$f":"IF(RIGHT('CROSS PSPB'!#REF!,3)=\" IT\",'CROSS PSPB'!#REF!,\"\")","v":{"$error":"#REF!"}},{"$f":"IF(RIGHT('CROSS PSPB'!#REF!,3)=\" IT\",'CROSS PSPB'!#REF!,\"\")","v":{"$error":"#REF!"}},{"$f":"IF(RIGHT('CROSS PSPB'!#REF!,3)=\" IT\",'CROSS PSPB'!#REF!,\"\")","v":{"$error":"#REF!"}},{"$f":"IF(RIGHT('CROSS PSPB'!#REF!,3)=\" IT\",'CROSS PSPB'!#REF!,\"\")","v":{"$error":"#REF!"}},{"$f":"IF(RIGHT('CROSS PSPB'!#REF!,3)=\" IT\",'CROSS PSPB'!#REF!,\"\")","v":{"$error":"#REF!"}},{"$f":"IF(RIGHT('CROSS PSPB'!#REF!,3)=\" IT\",'CROSS PSPB'!#REF!,\"\")","v":{"$error":"#REF!"}},{"$f":"IF(RIGHT('CROSS PSPB'!#REF!,3)=\" IT\",'CROSS PSPB'!#REF!,\"\")","v":{"$error":"#REF!"}},{"$f":"IF(RIGHT('CROSS PSPB'!#REF!,3)=\" IT\",'CROSS PSPB'!#REF!,\"\")","v":{"$error":"#REF!"}},{"$f":"IF(RIGHT('CROSS PSPB'!#REF!,3)=\" IT\",'CROSS PSPB'!#REF!,\"\")","v":{"$error":"#REF!"}},{"$f":"IF(RIGHT('CROSS PSPB'!#REF!,3)=\" IT\",'CROSS PSPB'!#REF!,\"\")","v":{"$error":"#REF!"}},{"$f":"IF(RIGHT('CROSS PSPB'!#REF!,3)=\" IT\",'CROSS PSPB'!#REF!,\"\")","v":{"$error":"#REF!"}},{"$f":"IF(RIGHT('CROSS PSPB'!#REF!,3)=\" IT\",'CROSS PSPB'!#REF!,\"\")","v":{"$error":"#REF!"}},{"$f":"IF(RIGHT('CROSS PSPB'!#REF!,3)=\" IT\",'CROSS PSPB'!#REF!,\"\")","v":{"$error":"#REF!"}},{"$f":"IF(RIGHT('CROSS PSPB'!#REF!,3)=\" IT\",'CROSS PSPB'!#REF!,\"\")","v":{"$error":"#REF!"}},{"$f":"IF(RIGHT('CROSS PSPB'!#REF!,3)=\" IT\",'CROSS PSPB'!#REF!,\"\")","v":{"$error":"#REF!"}},{"$f":"IF(RIGHT('CROSS PSPB'!#REF!,3)=\" IT\",'CROSS PSPB'!#REF!,\"\")","v":{"$error":"#REF!"}},{"$f":"IF(RIGHT('CROSS PSPB'!#REF!,3)=\" IT\",'CROSS PSPB'!#REF!,\"\")","v":{"$error":"#REF!"}},{"$f":"IF(RIGHT('CROSS PSPB'!#REF!,3)=\" IT\",'CROSS PSPB'!#REF!,\"\")","v":{"$error":"#REF!"}},{"$f":"IF(RIGHT('CROSS PSPB'!#REF!,3)=\" IT\",'CROSS PSPB'!#REF!,\"\")","v":{"$error":"#REF!"}},{"$f":"IF(RIGHT('CROSS PSPB'!#REF!,3)=\" IT\",'CROSS PSPB'!#REF!,\"\")","v":{"$error":"#REF!"}},{"$f":"IF(RIGHT('CROSS PSPB'!#REF!,3)=\" IT\",'CROSS PSPB'!#REF!,\"\")","v":{"$error":"#REF!"}},{"$f":"IF(RIGHT('CROSS PSPB'!#REF!,3)=\" IT\",'CROSS PSPB'!#REF!,\"\")","v":{"$error":"#REF!"}},{"$f":"IF(RIGHT('CROSS PSPB'!#REF!,3)=\" IT\",'CROSS PSPB'!#REF!,\"\")","v":{"$error":"#REF!"}},{"$f":"IF(RIGHT('CROSS PSPB'!#REF!,3)=\" IT\",'CROSS PSPB'!#REF!,\"\")","v":{"$error":"#REF!"}},{"$f":"IF(RIGHT('CROSS PSPB'!#REF!,3)=\" IT\",'CROSS PSPB'!#REF!,\"\")","v":{"$error":"#REF!"}},{"$f":"IF(RIGHT('CROSS PSPB'!#REF!,3)=\" IT\",'CROSS PSPB'!#REF!,\"\")","v":{"$error":"#REF!"}},{"$f":"IF(RIGHT('CROSS PSPB'!#REF!,3)=\" IT\",'CROSS PSPB'!#REF!,\"\")","v":{"$error":"#REF!"}},{"$f":"IF(RIGHT('CROSS PSPB'!#REF!,3)=\" IT\",'CROSS PSPB'!#REF!,\"\")","v":{"$error":"#REF!"}},{"$f":"IF(RIGHT('CROSS PSPB'!#REF!,3)=\" IT\",'CROSS PSPB'!#REF!,\"\")","v":{"$error":"#REF!"}},{"$f":"IF(RIGHT('CROSS PSPB'!#REF!,3)=\" IT\",'CROSS PSPB'!#REF!,\"\")","v":{"$error":"#REF!"}},{"$f":"IF(RIGHT('CROSS PSPB'!#REF!,3)=\" IT\",'CROSS PSPB'!#REF!,\"\")","v":{"$error":"#REF!"}},{"$error":"#REF!"},{"$error":"#REF!"},{"$error":"#REF!"},{"$error":"#REF!"}]
[null,{"$f":"IF(RIGHT('CROSS PSPB'!#REF!,3)=\" IT\",'CROSS PSPB'!#REF!,\"\")","v":{"$error":"#REF!"}},{"$f":"IF(RIGHT('CROSS PSPB'!#REF!,3)=\" IT\",'CROSS PSPB'!#REF!,\"\")","v":{"$error":"#REF!"}},{"$f":"IF(RIGHT('CROSS PSPB'!#REF!,3)=\" IT\",'CROSS PSPB'!#REF!,\"\")","v":{"$error":"#REF!"}},{"$f":"IF(RIGHT('CROSS PSPB'!#REF!,3)=\" IT\",'CROSS PSPB'!#REF!,\"\")","v":{"$error":"#REF!"}},{"$f":"IF(RIGHT('CROSS PSPB'!#REF!,3)=\" IT\",'CROSS PSPB'!#REF!,\"\")","v":{"$error":"#REF!"}},{"$f":"IF(RIGHT('CROSS PSPB'!#REF!,3)=\" IT\",'CROSS PSPB'!#REF!,\"\")","v":{"$error":"#REF!"}},{"$f":"IF(RIGHT('CROSS PSPB'!#REF!,3)=\" IT\",'CROSS PSPB'!#REF!,\"\")","v":{"$error":"#REF!"}},{"$f":"IF(RIGHT('CROSS PSPB'!#REF!,3)=\" IT\",'CROSS PSPB'!#REF!,\"\")","v":{"$error":"#REF!"}},{"$f":"IF(RIGHT('CROSS PSPB'!#REF!,3)=\" IT\",'CROSS PSPB'!#REF!,\"\")","v":{"$error":"#REF!"}},{"$f":"IF(RIGHT('CROSS PSPB'!#REF!,3)=\" IT\",'CROSS PSPB'!#REF!,\"\")","v":{"$error":"#REF!"}},{"$f":"IF(RIGHT('CROSS PSPB'!#REF!,3)=\" IT\",'CROSS PSPB'!#REF!,\"\")","v":{"$error":"#REF!"}},{"$f":"IF(RIGHT('CROSS PSPB'!#REF!,3)=\" IT\",'CROSS PSPB'!#REF!,\"\")","v":{"$error":"#REF!"}},{"$f":"IF(RIGHT('CROSS PSPB'!#REF!,3)=\" IT\",'CROSS PSPB'!#REF!,\"\")","v":{"$error":"#REF!"}},{"$f":"IF(RIGHT('CROSS PSPB'!#REF!,3)=\" IT\",'CROSS PSPB'!#REF!,\"\")","v":{"$error":"#REF!"}},{"$f":"IF(RIGHT('CROSS PSPB'!#REF!,3)=\" IT\",'CROSS PSPB'!#REF!,\"\")","v":{"$error":"#REF!"}},{"$f":"IF(RIGHT('CROSS PSPB'!#REF!,3)=\" IT\",'CROSS PSPB'!#REF!,\"\")","v":{"$error":"#REF!"}},{"$f":"IF(RIGHT('CROSS PSPB'!#REF!,3)=\" IT\",'CROSS PSPB'!#REF!,\"\")","v":{"$error":"#REF!"}},{"$f":"IF(RIGHT('CROSS PSPB'!#REF!,3)=\" IT\",'CROSS PSPB'!#REF!,\"\")","v":{"$error":"#REF!"}},{"$f":"IF(RIGHT('CROSS PSPB'!#REF!,3)=\" IT\",'CROSS PSPB'!#REF!,\"\")","v":{"$error":"#REF!"}},{"$f":"IF(RIGHT('CROSS PSPB'!#REF!,3)=\" IT\",'CROSS PSPB'!#REF!,\"\")","v":{"$error":"#REF!"}},{"$f":"IF(RIGHT('CROSS PSPB'!#REF!,3)=\" IT\",'CROSS PSPB'!#REF!,\"\")","v":{"$error":"#REF!"}},{"$f":"IF(RIGHT('CROSS PSPB'!#REF!,3)=\" IT\",'CROSS PSPB'!#REF!,\"\")","v":{"$error":"#REF!"}},{"$f":"IF(RIGHT('CROSS PSPB'!#REF!,3)=\" IT\",'CROSS PSPB'!#REF!,\"\")","v":{"$error":"#REF!"}},{"$f":"IF(RIGHT('CROSS PSPB'!#REF!,3)=\" IT\",'CROSS PSPB'!#REF!,\"\")","v":{"$error":"#REF!"}},{"$f":"IF(RIGHT('CROSS PSPB'!#REF!,3)=\" IT\",'CROSS PSPB'!#REF!,\"\")","v":{"$error":"#REF!"}},{"$f":"IF(RIGHT('CROSS PSPB'!#REF!,3)=\" IT\",'CROSS PSPB'!#REF!,\"\")","v":{"$error":"#REF!"}},{"$f":"IF(RIGHT('CROSS PSPB'!#REF!,3)=\" IT\",'CROSS PSPB'!#REF!,\"\")","v":{"$error":"#REF!"}},{"$f":"IF(RIGHT('CROSS PSPB'!#REF!,3)=\" IT\",'CROSS PSPB'!#REF!,\"\")","v":{"$error":"#REF!"}},{"$f":"IF(RIGHT('CROSS PSPB'!#REF!,3)=\" IT\",'CROSS PSPB'!#REF!,\"\")","v":{"$error":"#REF!"}},{"$f":"IF(RIGHT('CROSS PSPB'!#REF!,3)=\" IT\",'CROSS PSPB'!#REF!,\"\")","v":{"$error":"#REF!"}},{"$f":"IF(RIGHT('CROSS PSPB'!#REF!,3)=\" IT\",'CROSS PSPB'!#REF!,\"\")","v":{"$error":"#REF!"}},{"$f":"IF(RIGHT('CROSS PSPB'!#REF!,3)=\" IT\",'CROSS PSPB'!#REF!,\"\")","v":{"$error":"#REF!"}},{"$f":"IF(RIGHT('CROSS PSPB'!#REF!,3)=\" IT\",'CROSS PSPB'!#REF!,\"\")","v":{"$error":"#REF!"}},{"$f":"IF(RIGHT('CROSS PSPB'!#REF!,3)=\" IT\",'CROSS PSPB'!#REF!,\"\")","v":{"$error":"#REF!"}},{"$f":"IF(RIGHT('CROSS PSPB'!#REF!,3)=\" IT\",'CROSS PSPB'!#REF!,\"\")","v":{"$error":"#REF!"}},{"$f":"IF(RIGHT('CROSS PSPB'!#REF!,3)=\" IT\",'CROSS PSPB'!#REF!,\"\")","v":{"$error":"#REF!"}},{"$f":"IF(RIGHT('CROSS PSPB'!#REF!,3)=\" IT\",'CROSS PSPB'!#REF!,\"\")","v":{"$error":"#REF!"}},{"$f":"IF(RIGHT('CROSS PSPB'!#REF!,3)=\" IT\",'CROSS PSPB'!#REF!,\"\")","v":{"$error":"#REF!"}},{"$f":"IF(RIGHT('CROSS PSPB'!#REF!,3)=\" IT\",'CROSS PSPB'!#REF!,\"\")","v":{"$error":"#REF!"}},{"$f":"IF(RIGHT('CROSS PSPB'!#REF!,3)=\" IT\",'CROSS PSPB'!#REF!,\"\")","v":{"$error":"#REF!"}},{"$f":"IF(RIGHT('CROSS PSPB'!#REF!,3)=\" IT\",'CROSS PSPB'!#REF!,\"\")","v":{"$error":"#REF!"}},{"$f":"IF(RIGHT('CROSS PSPB'!#REF!,3)=\" IT\",'CROSS PSPB'!#REF!,\"\")","v":{"$error":"#REF!"}},{"$f":"IF(RIGHT('CROSS PSPB'!#REF!,3)=\" IT\",'CROSS PSPB'!#REF!,\"\")","v":{"$error":"#REF!"}},{"$f":"IF(RIGHT('CROSS PSPB'!#REF!,3)=\" IT\",'CROSS PSPB'!#REF!,\"\")","v":{"$error":"#REF!"}},{"$f":"IF(RIGHT('CROSS PSPB'!#REF!,3)=\" IT\",'CROSS PSPB'!#REF!,\"\")","v":{"$error":"#REF!"}},{"$f":"IF(RIGHT('CROSS PSPB'!#REF!,3)=\" IT\",'CROSS PSPB'!#REF!,\"\")","v":{"$error":"#REF!"}},{"$f":"IF(RIGHT('CROSS PSPB'!#REF!,3)=\" IT\",'CROSS PSPB'!#REF!,\"\")","v":{"$error":"#REF!"}},{"$f":"IF(RIGHT('CROSS PSPB'!#REF!,3)=\" IT\",'CROSS PSPB'!#REF!,\"\")","v":{"$error":"#REF!"}},{"$f":"IF(RIGHT('CROSS PSPB'!#REF!,3)=\" IT\",'CROSS PSPB'!#REF!,\"\")","v":{"$error":"#REF!"}},{"$f":"IF(RIGHT('CROSS PSPB'!#REF!,3)=\" IT\",'CROSS PSPB'!#REF!,\"\")","v":{"$error":"#REF!"}},{"$f":"IF(RIGHT('CROSS PSPB'!#REF!,3)=\" IT\",'CROSS PSPB'!#REF!,\"\")","v":{"$error":"#REF!"}},{"$error":"#REF!"},{"$error":"#REF!"},{"$error":"#REF!"},{"$error":"#REF!"}]
[null,{"$f":"IF(RIGHT('CROSS PSPB'!#REF!,3)=\" IT\",'CROSS PSPB'!#REF!,\"\")","v":{"$error":"#REF!"}},{"$f":"IF(RIGHT('CROSS PSPB'!#REF!,3)=\" IT\",'CROSS PSPB'!#REF!,\"\")","v":{"$error":"#REF!"}},{"$f":"IF(RIGHT('CROSS PSPB'!#REF!,3)=\" IT\",'CROSS PSPB'!#REF!,\"\")","v":{"$error":"#REF!"}},{"$f":"IF(RIGHT('CROSS PSPB'!#REF!,3)=\" IT\",'CROSS PSPB'!#REF!,\"\")","v":{"$error":"#REF!"}},{"$f":"IF(RIGHT('CROSS PSPB'!#REF!,3)=\" IT\",'CROSS PSPB'!#REF!,\"\")","v":{"$error":"#REF!"}},{"$f":"IF(RIGHT('CROSS PSPB'!#REF!,3)=\" IT\",'CROSS PSPB'!#REF!,\"\")","v":{"$error":"#REF!"}},{"$f":"IF(RIGHT('CROSS PSPB'!#REF!,3)=\" IT\",'CROSS PSPB'!#REF!,\"\")","v":{"$error":"#REF!"}},{"$f":"IF(RIGHT('CROSS PSPB'!#REF!,3)=\" IT\",'CROSS PSPB'!#REF!,\"\")","v":{"$error":"#REF!"}},{"$f":"IF(RIGHT('CROSS PSPB'!#REF!,3)=\" IT\",'CROSS PSPB'!#REF!,\"\")","v":{"$error":"#REF!"}},{"$f":"IF(RIGHT('CROSS PSPB'!#REF!,3)=\" IT\",'CROSS PSPB'!#REF!,\"\")","v":{"$error":"#REF!"}},{"$f":"IF(RIGHT('CROSS PSPB'!#REF!,3)=\" IT\",'CROSS PSPB'!#REF!,\"\")","v":{"$error":"#REF!"}},{"$f":"IF(RIGHT('CROSS PSPB'!#REF!,3)=\" IT\",'CROSS PSPB'!#REF!,\"\")","v":{"$error":"#REF!"}},{"$f":"IF(RIGHT('CROSS PSPB'!#REF!,3)=\" IT\",'CROSS PSPB'!#REF!,\"\")","v":{"$error":"#REF!"}},{"$f":"IF(RIGHT('CROSS PSPB'!#REF!,3)=\" IT\",'CROSS PSPB'!#REF!,\"\")","v":{"$error":"#REF!"}},{"$f":"IF(RIGHT('CROSS PSPB'!#REF!,3)=\" IT\",'CROSS PSPB'!#REF!,\"\")","v":{"$error":"#REF!"}},{"$f":"IF(RIGHT('CROSS PSPB'!#REF!,3)=\" IT\",'CROSS PSPB'!#REF!,\"\")","v":{"$error":"#REF!"}},{"$f":"IF(RIGHT('CROSS PSPB'!#REF!,3)=\" IT\",'CROSS PSPB'!#REF!,\"\")","v":{"$error":"#REF!"}},{"$f":"IF(RIGHT('CROSS PSPB'!#REF!,3)=\" IT\",'CROSS PSPB'!#REF!,\"\")","v":{"$error":"#REF!"}},{"$f":"IF(RIGHT('CROSS PSPB'!#REF!,3)=\" IT\",'CROSS PSPB'!#REF!,\"\")","v":{"$error":"#REF!"}},{"$f":"IF(RIGHT('CROSS PSPB'!#REF!,3)=\" IT\",'CROSS PSPB'!#REF!,\"\")","v":{"$error":"#REF!"}},{"$f":"IF(RIGHT('CROSS PSPB'!#REF!,3)=\" IT\",'CROSS PSPB'!#REF!,\"\")","v":{"$error":"#REF!"}},{"$f":"IF(RIGHT('CROSS PSPB'!#REF!,3)=\" IT\",'CROSS PSPB'!#REF!,\"\")","v":{"$error":"#REF!"}},{"$f":"IF(RIGHT('CROSS PSPB'!#REF!,3)=\" IT\",'CROSS PSPB'!#REF!,\"\")","v":{"$error":"#REF!"}},{"$f":"IF(RIGHT('CROSS PSPB'!#REF!,3)=\" IT\",'CROSS PSPB'!#REF!,\"\")","v":{"$error":"#REF!"}},{"$f":"IF(RIGHT('CROSS PSPB'!#REF!,3)=\" IT\",'CROSS PSPB'!#REF!,\"\")","v":{"$error":"#REF!"}},{"$f":"IF(RIGHT('CROSS PSPB'!#REF!,3)=\" IT\",'CROSS PSPB'!#REF!,\"\")","v":{"$error":"#REF!"}},{"$f":"IF(RIGHT('CROSS PSPB'!#REF!,3)=\" IT\",'CROSS PSPB'!#REF!,\"\")","v":{"$error":"#REF!"}},{"$f":"IF(RIGHT('CROSS PSPB'!#REF!,3)=\" IT\",'CROSS PSPB'!#REF!,\"\")","v":{"$error":"#REF!"}},{"$f":"IF(RIGHT('CROSS PSPB'!#REF!,3)=\" IT\",'CROSS PSPB'!#REF!,\"\")","v":{"$error":"#REF!"}},{"$f":"IF(RIGHT('CROSS PSPB'!#REF!,3)=\" IT\",'CROSS PSPB'!#REF!,\"\")","v":{"$error":"#REF!"}},{"$f":"IF(RIGHT('CROSS PSPB'!#REF!,3)=\" IT\",'CROSS PSPB'!#REF!,\"\")","v":{"$error":"#REF!"}},{"$f":"IF(RIGHT('CROSS PSPB'!#REF!,3)=\" IT\",'CROSS PSPB'!#REF!,\"\")","v":{"$error":"#REF!"}},{"$f":"IF(RIGHT('CROSS PSPB'!#REF!,3)=\" IT\",'CROSS PSPB'!#REF!,\"\")","v":{"$error":"#REF!"}},{"$f":"IF(RIGHT('CROSS PSPB'!#REF!,3)=\" IT\",'CROSS PSPB'!#REF!,\"\")","v":{"$error":"#REF!"}},{"$f":"IF(RIGHT('CROSS PSPB'!#REF!,3)=\" IT\",'CROSS PSPB'!#REF!,\"\")","v":{"$error":"#REF!"}},{"$f":"IF(RIGHT('CROSS PSPB'!#REF!,3)=\" IT\",'CROSS PSPB'!#REF!,\"\")","v":{"$error":"#REF!"}},{"$f":"IF(RIGHT('CROSS PSPB'!#REF!,3)=\" IT\",'CROSS PSPB'!#REF!,\"\")","v":{"$error":"#REF!"}},{"$f":"IF(RIGHT('CROSS PSPB'!#REF!,3)=\" IT\",'CROSS PSPB'!#REF!,\"\")","v":{"$error":"#REF!"}},{"$f":"IF(RIGHT('CROSS PSPB'!#REF!,3)=\" IT\",'CROSS PSPB'!#REF!,\"\")","v":{"$error":"#REF!"}},{"$f":"IF(RIGHT('CROSS PSPB'!#REF!,3)=\" IT\",'CROSS PSPB'!#REF!,\"\")","v":{"$error":"#REF!"}},{"$f":"IF(RIGHT('CROSS PSPB'!#REF!,3)=\" IT\",'CROSS PSPB'!#REF!,\"\")","v":{"$error":"#REF!"}},{"$f":"IF(RIGHT('CROSS PSPB'!#REF!,3)=\" IT\",'CROSS PSPB'!#REF!,\"\")","v":{"$error":"#REF!"}},{"$f":"IF(RIGHT('CROSS PSPB'!#REF!,3)=\" IT\",'CROSS PSPB'!#REF!,\"\")","v":{"$error":"#REF!"}},{"$f":"IF(RIGHT('CROSS PSPB'!#REF!,3)=\" IT\",'CROSS PSPB'!#REF!,\"\")","v":{"$error":"#REF!"}},{"$f":"IF(RIGHT('CROSS PSPB'!#REF!,3)=\" IT\",'CROSS PSPB'!#REF!,\"\")","v":{"$error":"#REF!"}},{"$f":"IF(RIGHT('CROSS PSPB'!#REF!,3)=\" IT\",'CROSS PSPB'!#REF!,\"\")","v":{"$error":"#REF!"}},{"$f":"IF(RIGHT('CROSS PSPB'!#REF!,3)=\" IT\",'CROSS PSPB'!#REF!,\"\")","v":{"$error":"#REF!"}},{"$f":"IF(RIGHT('CROSS PSPB'!#REF!,3)=\" IT\",'CROSS PSPB'!#REF!,\"\")","v":{"$error":"#REF!"}},{"$f":"IF(RIGHT('CROSS PSPB'!#REF!,3)=\" IT\",'CROSS PSPB'!#REF!,\"\")","v":{"$error":"#REF!"}},{"$f":"IF(RIGHT('CROSS PSPB'!#REF!,3)=\" IT\",'CROSS PSPB'!#REF!,\"\")","v":{"$error":"#REF!"}},{"$f":"IF(RIGHT('CROSS PSPB'!#REF!,3)=\" IT\",'CROSS PSPB'!#REF!,\"\")","v":{"$error":"#REF!"}},{"$error":"#REF!"},{"$error":"#REF!"},{"$error":"#REF!"},{"$error":"#REF!"}]
[null,{"$f":"IF(RIGHT('CROSS PSPB'!#REF!,3)=\" IT\",'CROSS PSPB'!#REF!,\"\")","v":{"$error":"#REF!"}},{"$f":"IF(RIGHT('CROSS PSPB'!#REF!,3)=\" IT\",'CROSS PSPB'!#REF!,\"\")","v":{"$error":"#REF!"}},{"$f":"IF(RIGHT('CROSS PSPB'!#REF!,3)=\" IT\",'CROSS PSPB'!#REF!,\"\")","v":{"$error":"#REF!"}},{"$f":"IF(RIGHT('CROSS PSPB'!#REF!,3)=\" IT\",'CROSS PSPB'!#REF!,\"\")","v":{"$error":"#REF!"}},{"$f":"IF(RIGHT('CROSS PSPB'!#REF!,3)=\" IT\",'CROSS PSPB'!#REF!,\"\")","v":{"$error":"#REF!"}},{"$f":"IF(RIGHT('CROSS PSPB'!#REF!,3)=\" IT\",'CROSS PSPB'!#REF!,\"\")","v":{"$error":"#REF!"}},{"$f":"IF(RIGHT('CROSS PSPB'!#REF!,3)=\" IT\",'CROSS PSPB'!#REF!,\"\")","v":{"$error":"#REF!"}},{"$f":"IF(RIGHT('CROSS PSPB'!#REF!,3)=\" IT\",'CROSS PSPB'!#REF!,\"\")","v":{"$error":"#REF!"}},{"$f":"IF(RIGHT('CROSS PSPB'!#REF!,3)=\" IT\",'CROSS PSPB'!#REF!,\"\")","v":{"$error":"#REF!"}},{"$f":"IF(RIGHT('CROSS PSPB'!#REF!,3)=\" IT\",'CROSS PSPB'!#REF!,\"\")","v":{"$error":"#REF!"}},{"$f":"IF(RIGHT('CROSS PSPB'!#REF!,3)=\" IT\",'CROSS PSPB'!#REF!,\"\")","v":{"$error":"#REF!"}},{"$f":"IF(RIGHT('CROSS PSPB'!#REF!,3)=\" IT\",'CROSS PSPB'!#REF!,\"\")","v":{"$error":"#REF!"}},{"$f":"IF(RIGHT('CROSS PSPB'!#REF!,3)=\" IT\",'CROSS PSPB'!#REF!,\"\")","v":{"$error":"#REF!"}},{"$f":"IF(RIGHT('CROSS PSPB'!#REF!,3)=\" IT\",'CROSS PSPB'!#REF!,\"\")","v":{"$error":"#REF!"}},{"$f":"IF(RIGHT('CROSS PSPB'!#REF!,3)=\" IT\",'CROSS PSPB'!#REF!,\"\")","v":{"$error":"#REF!"}},{"$f":"IF(RIGHT('CROSS PSPB'!#REF!,3)=\" IT\",'CROSS PSPB'!#REF!,\"\")","v":{"$error":"#REF!"}},{"$f":"IF(RIGHT('CROSS PSPB'!#REF!,3)=\" IT\",'CROSS PSPB'!#REF!,\"\")","v":{"$error":"#REF!"}},{"$f":"IF(RIGHT('CROSS PSPB'!#REF!,3)=\" IT\",'CROSS PSPB'!#REF!,\"\")","v":{"$error":"#REF!"}},{"$f":"IF(RIGHT('CROSS PSPB'!#REF!,3)=\" IT\",'CROSS PSPB'!#REF!,\"\")","v":{"$error":"#REF!"}},{"$f":"IF(RIGHT('CROSS PSPB'!#REF!,3)=\" IT\",'CROSS PSPB'!#REF!,\"\")","v":{"$error":"#REF!"}},{"$f":"IF(RIGHT('CROSS PSPB'!#REF!,3)=\" IT\",'CROSS PSPB'!#REF!,\"\")","v":{"$error":"#REF!"}},{"$f":"IF(RIGHT('CROSS PSPB'!#REF!,3)=\" IT\",'CROSS PSPB'!#REF!,\"\")","v":{"$error":"#REF!"}},{"$f":"IF(RIGHT('CROSS PSPB'!#REF!,3)=\" IT\",'CROSS PSPB'!#REF!,\"\")","v":{"$error":"#REF!"}},{"$f":"IF(RIGHT('CROSS PSPB'!#REF!,3)=\" IT\",'CROSS PSPB'!#REF!,\"\")","v":{"$error":"#REF!"}},{"$f":"IF(RIGHT('CROSS PSPB'!#REF!,3)=\" IT\",'CROSS PSPB'!#REF!,\"\")","v":{"$error":"#REF!"}},{"$f":"IF(RIGHT('CROSS PSPB'!#REF!,3)=\" IT\",'CROSS PSPB'!#REF!,\"\")","v":{"$error":"#REF!"}},{"$f":"IF(RIGHT('CROSS PSPB'!#REF!,3)=\" IT\",'CROSS PSPB'!#REF!,\"\")","v":{"$error":"#REF!"}},{"$f":"IF(RIGHT('CROSS PSPB'!#REF!,3)=\" IT\",'CROSS PSPB'!#REF!,\"\")","v":{"$error":"#REF!"}},{"$f":"IF(RIGHT('CROSS PSPB'!#REF!,3)=\" IT\",'CROSS PSPB'!#REF!,\"\")","v":{"$error":"#REF!"}},{"$f":"IF(RIGHT('CROSS PSPB'!#REF!,3)=\" IT\",'CROSS PSPB'!#REF!,\"\")","v":{"$error":"#REF!"}},{"$f":"IF(RIGHT('CROSS PSPB'!#REF!,3)=\" IT\",'CROSS PSPB'!#REF!,\"\")","v":{"$error":"#REF!"}},{"$f":"IF(RIGHT('CROSS PSPB'!#REF!,3)=\" IT\",'CROSS PSPB'!#REF!,\"\")","v":{"$error":"#REF!"}},{"$f":"IF(RIGHT('CROSS PSPB'!#REF!,3)=\" IT\",'CROSS PSPB'!#REF!,\"\")","v":{"$error":"#REF!"}},{"$f":"IF(RIGHT('CROSS PSPB'!#REF!,3)=\" IT\",'CROSS PSPB'!#REF!,\"\")","v":{"$error":"#REF!"}},{"$f":"IF(RIGHT('CROSS PSPB'!#REF!,3)=\" IT\",'CROSS PSPB'!#REF!,\"\")","v":{"$error":"#REF!"}},{"$f":"IF(RIGHT('CROSS PSPB'!#REF!,3)=\" IT\",'CROSS PSPB'!#REF!,\"\")","v":{"$error":"#REF!"}},{"$f":"IF(RIGHT('CROSS PSPB'!#REF!,3)=\" IT\",'CROSS PSPB'!#REF!,\"\")","v":{"$error":"#REF!"}},{"$f":"IF(RIGHT('CROSS PSPB'!#REF!,3)=\" IT\",'CROSS PSPB'!#REF!,\"\")","v":{"$error":"#REF!"}},{"$f":"IF(RIGHT('CROSS PSPB'!#REF!,3)=\" IT\",'CROSS PSPB'!#REF!,\"\")","v":{"$error":"#REF!"}},{"$f":"IF(RIGHT('CROSS PSPB'!#REF!,3)=\" IT\",'CROSS PSPB'!#REF!,\"\")","v":{"$error":"#REF!"}},{"$f":"IF(RIGHT('CROSS PSPB'!#REF!,3)=\" IT\",'CROSS PSPB'!#REF!,\"\")","v":{"$error":"#REF!"}},{"$f":"IF(RIGHT('CROSS PSPB'!#REF!,3)=\" IT\",'CROSS PSPB'!#REF!,\"\")","v":{"$error":"#REF!"}},{"$f":"IF(RIGHT('CROSS PSPB'!#REF!,3)=\" IT\",'CROSS PSPB'!#REF!,\"\")","v":{"$error":"#REF!"}},{"$f":"IF(RIGHT('CROSS PSPB'!#REF!,3)=\" IT\",'CROSS PSPB'!#REF!,\"\")","v":{"$error":"#REF!"}},{"$f":"IF(RIGHT('CROSS PSPB'!#REF!,3)=\" IT\",'CROSS PSPB'!#REF!,\"\")","v":{"$error":"#REF!"}},{"$f":"IF(RIGHT('CROSS PSPB'!#REF!,3)=\" IT\",'CROSS PSPB'!#REF!,\"\")","v":{"$error":"#REF!"}},{"$f":"IF(RIGHT('CROSS PSPB'!#REF!,3)=\" IT\",'CROSS PSPB'!#REF!,\"\")","v":{"$error":"#REF!"}},{"$f":"IF(RIGHT('CROSS PSPB'!#REF!,3)=\" IT\",'CROSS PSPB'!#REF!,\"\")","v":{"$error":"#REF!"}},{"$f":"IF(RIGHT('CROSS PSPB'!#REF!,3)=\" IT\",'CROSS PSPB'!#REF!,\"\")","v":{"$error":"#REF!"}},{"$f":"IF(RIGHT('CROSS PSPB'!#REF!,3)=\" IT\",'CROSS PSPB'!#REF!,\"\")","v":{"$error":"#REF!"}},{"$f":"IF(RIGHT('CROSS PSPB'!#REF!,3)=\" IT\",'CROSS PSPB'!#REF!,\"\")","v":{"$error":"#REF!"}},{"$error":"#REF!"},{"$error":"#REF!"},{"$error":"#REF!"},{"$error":"#REF!"}]
[null,{"$f":"IF(RIGHT('CROSS PSPB'!#REF!,3)=\" IT\",'CROSS PSPB'!#REF!,\"\")","v":{"$error":"#REF!"}},{"$f":"IF(RIGHT('CROSS PSPB'!#REF!,3)=\" IT\",'CROSS PSPB'!#REF!,\"\")","v":{"$error":"#REF!"}},{"$f":"IF(RIGHT('CROSS PSPB'!#REF!,3)=\" IT\",'CROSS PSPB'!#REF!,\"\")","v":{"$error":"#REF!"}},{"$f":"IF(RIGHT('CROSS PSPB'!#REF!,3)=\" IT\",'CROSS PSPB'!#REF!,\"\")","v":{"$error":"#REF!"}},{"$f":"IF(RIGHT('CROSS PSPB'!#REF!,3)=\" IT\",'CROSS PSPB'!#REF!,\"\")","v":{"$error":"#REF!"}},{"$f":"IF(RIGHT('CROSS PSPB'!#REF!,3)=\" IT\",'CROSS PSPB'!#REF!,\"\")","v":{"$error":"#REF!"}},{"$f":"IF(RIGHT('CROSS PSPB'!#REF!,3)=\" IT\",'CROSS PSPB'!#REF!,\"\")","v":{"$error":"#REF!"}},{"$f":"IF(RIGHT('CROSS PSPB'!#REF!,3)=\" IT\",'CROSS PSPB'!#REF!,\"\")","v":{"$error":"#REF!"}},{"$f":"IF(RIGHT('CROSS PSPB'!#REF!,3)=\" IT\",'CROSS PSPB'!#REF!,\"\")","v":{"$error":"#REF!"}},{"$f":"IF(RIGHT('CROSS PSPB'!#REF!,3)=\" IT\",'CROSS PSPB'!#REF!,\"\")","v":{"$error":"#REF!"}},{"$f":"IF(RIGHT('CROSS PSPB'!#REF!,3)=\" IT\",'CROSS PSPB'!#REF!,\"\")","v":{"$error":"#REF!"}},{"$f":"IF(RIGHT('CROSS PSPB'!#REF!,3)=\" IT\",'CROSS PSPB'!#REF!,\"\")","v":{"$error":"#REF!"}},{"$f":"IF(RIGHT('CROSS PSPB'!#REF!,3)=\" IT\",'CROSS PSPB'!#REF!,\"\")","v":{"$error":"#REF!"}},{"$f":"IF(RIGHT('CROSS PSPB'!#REF!,3)=\" IT\",'CROSS PSPB'!#REF!,\"\")","v":{"$error":"#REF!"}},{"$f":"IF(RIGHT('CROSS PSPB'!#REF!,3)=\" IT\",'CROSS PSPB'!#REF!,\"\")","v":{"$error":"#REF!"}},{"$f":"IF(RIGHT('CROSS PSPB'!#REF!,3)=\" IT\",'CROSS PSPB'!#REF!,\"\")","v":{"$error":"#REF!"}},{"$f":"IF(RIGHT('CROSS PSPB'!#REF!,3)=\" IT\",'CROSS PSPB'!#REF!,\"\")","v":{"$error":"#REF!"}},{"$f":"IF(RIGHT('CROSS PSPB'!#REF!,3)=\" IT\",'CROSS PSPB'!#REF!,\"\")","v":{"$error":"#REF!"}},{"$f":"IF(RIGHT('CROSS PSPB'!#REF!,3)=\" IT\",'CROSS PSPB'!#REF!,\"\")","v":{"$error":"#REF!"}},{"$f":"IF(RIGHT('CROSS PSPB'!#REF!,3)=\" IT\",'CROSS PSPB'!#REF!,\"\")","v":{"$error":"#REF!"}},{"$f":"IF(RIGHT('CROSS PSPB'!#REF!,3)=\" IT\",'CROSS PSPB'!#REF!,\"\")","v":{"$error":"#REF!"}},{"$f":"IF(RIGHT('CROSS PSPB'!#REF!,3)=\" IT\",'CROSS PSPB'!#REF!,\"\")","v":{"$error":"#REF!"}},{"$f":"IF(RIGHT('CROSS PSPB'!#REF!,3)=\" IT\",'CROSS PSPB'!#REF!,\"\")","v":{"$error":"#REF!"}},{"$f":"IF(RIGHT('CROSS PSPB'!#REF!,3)=\" IT\",'CROSS PSPB'!#REF!,\"\")","v":{"$error":"#REF!"}},{"$f":"IF(RIGHT('CROSS PSPB'!#REF!,3)=\" IT\",'CROSS PSPB'!#REF!,\"\")","v":{"$error":"#REF!"}},{"$f":"IF(RIGHT('CROSS PSPB'!#REF!,3)=\" IT\",'CROSS PSPB'!#REF!,\"\")","v":{"$error":"#REF!"}},{"$f":"IF(RIGHT('CROSS PSPB'!#REF!,3)=\" IT\",'CROSS PSPB'!#REF!,\"\")","v":{"$error":"#REF!"}},{"$f":"IF(RIGHT('CROSS PSPB'!#REF!,3)=\" IT\",'CROSS PSPB'!#REF!,\"\")","v":{"$error":"#REF!"}},{"$f":"IF(RIGHT('CROSS PSPB'!#REF!,3)=\" IT\",'CROSS PSPB'!#REF!,\"\")","v":{"$error":"#REF!"}},{"$f":"IF(RIGHT('CROSS PSPB'!#REF!,3)=\" IT\",'CROSS PSPB'!#REF!,\"\")","v":{"$error":"#REF!"}},{"$f":"IF(RIGHT('CROSS PSPB'!#REF!,3)=\" IT\",'CROSS PSPB'!#REF!,\"\")","v":{"$error":"#REF!"}},{"$f":"IF(RIGHT('CROSS PSPB'!#REF!,3)=\" IT\",'CROSS PSPB'!#REF!,\"\")","v":{"$error":"#REF!"}},{"$f":"IF(RIGHT('CROSS PSPB'!#REF!,3)=\" IT\",'CROSS PSPB'!#REF!,\"\")","v":{"$error":"#REF!"}},{"$f":"IF(RIGHT('CROSS PSPB'!#REF!,3)=\" IT\",'CROSS PSPB'!#REF!,\"\")","v":{"$error":"#REF!"}},{"$f":"IF(RIGHT('CROSS PSPB'!#REF!,3)=\" IT\",'CROSS PSPB'!#REF!,\"\")","v":{"$error":"#REF!"}},{"$f":"IF(RIGHT('CROSS PSPB'!#REF!,3)=\" IT\",'CROSS PSPB'!#REF!,\"\")","v":{"$error":"#REF!"}},{"$f":"IF(RIGHT('CROSS PSPB'!#REF!,3)=\" IT\",'CROSS PSPB'!#REF!,\"\")","v":{"$error":"#REF!"}},{"$f":"IF(RIGHT('CROSS PSPB'!#REF!,3)=\" IT\",'CROSS PSPB'!#REF!,\"\")","v":{"$error":"#REF!"}},{"$f":"IF(RIGHT('CROSS PSPB'!#REF!,3)=\" IT\",'CROSS PSPB'!#REF!,\"\")","v":{"$error":"#REF!"}},{"$f":"IF(RIGHT('CROSS PSPB'!#REF!,3)=\" IT\",'CROSS PSPB'!#REF!,\"\")","v":{"$error":"#REF!"}},{"$f":"IF(RIGHT('CROSS PSPB'!#REF!,3)=\" IT\",'CROSS PSPB'!#REF!,\"\")","v":{"$error":"#REF!"}},{"$f":"IF(RIGHT('CROSS PSPB'!#REF!,3)=\" IT\",'CROSS PSPB'!#REF!,\"\")","v":{"$error":"#REF!"}},{"$f":"IF(RIGHT('CROSS PSPB'!#REF!,3)=\" IT\",'CROSS PSPB'!#REF!,\"\")","v":{"$error":"#REF!"}},{"$f":"IF(RIGHT('CROSS PSPB'!#REF!,3)=\" IT\",'CROSS PSPB'!#REF!,\"\")","v":{"$error":"#REF!"}},{"$f":"IF(RIGHT('CROSS PSPB'!#REF!,3)=\" IT\",'CROSS PSPB'!#REF!,\"\")","v":{"$error":"#REF!"}},{"$f":"IF(RIGHT('CROSS PSPB'!#REF!,3)=\" IT\",'CROSS PSPB'!#REF!,\"\")","v":{"$error":"#REF!"}},{"$f":"IF(RIGHT('CROSS PSPB'!#REF!,3)=\" IT\",'CROSS PSPB'!#REF!,\"\")","v":{"$error":"#REF!"}},{"$f":"IF(RIGHT('CROSS PSPB'!#REF!,3)=\" IT\",'CROSS PSPB'!#REF!,\"\")","v":{"$error":"#REF!"}},{"$f":"IF(RIGHT('CROSS PSPB'!#REF!,3)=\" IT\",'CROSS PSPB'!#REF!,\"\")","v":{"$error":"#REF!"}},{"$f":"IF(RIGHT('CROSS PSPB'!#REF!,3)=\" IT\",'CROSS PSPB'!#REF!,\"\")","v":{"$error":"#REF!"}},{"$f":"IF(RIGHT('CROSS PSPB'!#REF!,3)=\" IT\",'CROSS PSPB'!#REF!,\"\")","v":{"$error":"#REF!"}},{"$error":"#REF!"},{"$error":"#REF!"},{"$error":"#REF!"},{"$error":"#REF!"}]
[null,{"$f":"IF(RIGHT('CROSS PSPB'!#REF!,3)=\" IT\",'CROSS PSPB'!#REF!,\"\")","v":{"$error":"#REF!"}},{"$f":"IF(RIGHT('CROSS PSPB'!#REF!,3)=\" IT\",'CROSS PSPB'!#REF!,\"\")","v":{"$error":"#REF!"}},{"$f":"IF(RIGHT('CROSS PSPB'!#REF!,3)=\" IT\",'CROSS PSPB'!#REF!,\"\")","v":{"$error":"#REF!"}},{"$f":"IF(RIGHT('CROSS PSPB'!#REF!,3)=\" IT\",'CROSS PSPB'!#REF!,\"\")","v":{"$error":"#REF!"}},{"$f":"IF(RIGHT('CROSS PSPB'!#REF!,3)=\" IT\",'CROSS PSPB'!#REF!,\"\")","v":{"$error":"#REF!"}},{"$f":"IF(RIGHT('CROSS PSPB'!#REF!,3)=\" IT\",'CROSS PSPB'!#REF!,\"\")","v":{"$error":"#REF!"}},{"$f":"IF(RIGHT('CROSS PSPB'!#REF!,3)=\" IT\",'CROSS PSPB'!#REF!,\"\")","v":{"$error":"#REF!"}},{"$f":"IF(RIGHT('CROSS PSPB'!#REF!,3)=\" IT\",'CROSS PSPB'!#REF!,\"\")","v":{"$error":"#REF!"}},{"$f":"IF(RIGHT('CROSS PSPB'!#REF!,3)=\" IT\",'CROSS PSPB'!#REF!,\"\")","v":{"$error":"#REF!"}},{"$f":"IF(RIGHT('CROSS PSPB'!#REF!,3)=\" IT\",'CROSS PSPB'!#REF!,\"\")","v":{"$error":"#REF!"}},{"$f":"IF(RIGHT('CROSS PSPB'!#REF!,3)=\" IT\",'CROSS PSPB'!#REF!,\"\")","v":{"$error":"#REF!"}},{"$f":"IF(RIGHT('CROSS PSPB'!#REF!,3)=\" IT\",'CROSS PSPB'!#REF!,\"\")","v":{"$error":"#REF!"}},{"$f":"IF(RIGHT('CROSS PSPB'!#REF!,3)=\" IT\",'CROSS PSPB'!#REF!,\"\")","v":{"$error":"#REF!"}},{"$f":"IF(RIGHT('CROSS PSPB'!#REF!,3)=\" IT\",'CROSS PSPB'!#REF!,\"\")","v":{"$error":"#REF!"}},{"$f":"IF(RIGHT('CROSS PSPB'!#REF!,3)=\" IT\",'CROSS PSPB'!#REF!,\"\")","v":{"$error":"#REF!"}},{"$f":"IF(RIGHT('CROSS PSPB'!#REF!,3)=\" IT\",'CROSS PSPB'!#REF!,\"\")","v":{"$error":"#REF!"}},{"$f":"IF(RIGHT('CROSS PSPB'!#REF!,3)=\" IT\",'CROSS PSPB'!#REF!,\"\")","v":{"$error":"#REF!"}},{"$f":"IF(RIGHT('CROSS PSPB'!#REF!,3)=\" IT\",'CROSS PSPB'!#REF!,\"\")","v":{"$error":"#REF!"}},{"$f":"IF(RIGHT('CROSS PSPB'!#REF!,3)=\" IT\",'CROSS PSPB'!#REF!,\"\")","v":{"$error":"#REF!"}},{"$f":"IF(RIGHT('CROSS PSPB'!#REF!,3)=\" IT\",'CROSS PSPB'!#REF!,\"\")","v":{"$error":"#REF!"}},{"$f":"IF(RIGHT('CROSS PSPB'!#REF!,3)=\" IT\",'CROSS PSPB'!#REF!,\"\")","v":{"$error":"#REF!"}},{"$f":"IF(RIGHT('CROSS PSPB'!#REF!,3)=\" IT\",'CROSS PSPB'!#REF!,\"\")","v":{"$error":"#REF!"}},{"$f":"IF(RIGHT('CROSS PSPB'!#REF!,3)=\" IT\",'CROSS PSPB'!#REF!,\"\")","v":{"$error":"#REF!"}},{"$f":"IF(RIGHT('CROSS PSPB'!#REF!,3)=\" IT\",'CROSS PSPB'!#REF!,\"\")","v":{"$error":"#REF!"}},{"$f":"IF(RIGHT('CROSS PSPB'!#REF!,3)=\" IT\",'CROSS PSPB'!#REF!,\"\")","v":{"$error":"#REF!"}},{"$f":"IF(RIGHT('CROSS PSPB'!#REF!,3)=\" IT\",'CROSS PSPB'!#REF!,\"\")","v":{"$error":"#REF!"}},{"$f":"IF(RIGHT('CROSS PSPB'!#REF!,3)=\" IT\",'CROSS PSPB'!#REF!,\"\")","v":{"$error":"#REF!"}},{"$f":"IF(RIGHT('CROSS PSPB'!#REF!,3)=\" IT\",'CROSS PSPB'!#REF!,\"\")","v":{"$error":"#REF!"}},{"$f":"IF(RIGHT('CROSS PSPB'!#REF!,3)=\" IT\",'CROSS PSPB'!#REF!,\"\")","v":{"$error":"#REF!"}},{"$f":"IF(RIGHT('CROSS PSPB'!#REF!,3)=\" IT\",'CROSS PSPB'!#REF!,\"\")","v":{"$error":"#REF!"}},{"$f":"IF(RIGHT('CROSS PSPB'!#REF!,3)=\" IT\",'CROSS PSPB'!#REF!,\"\")","v":{"$error":"#REF!"}},{"$f":"IF(RIGHT('CROSS PSPB'!#REF!,3)=\" IT\",'CROSS PSPB'!#REF!,\"\")","v":{"$error":"#REF!"}},{"$f":"IF(RIGHT('CROSS PSPB'!#REF!,3)=\" IT\",'CROSS PSPB'!#REF!,\"\")","v":{"$error":"#REF!"}},{"$f":"IF(RIGHT('CROSS PSPB'!#REF!,3)=\" IT\",'CROSS PSPB'!#REF!,\"\")","v":{"$error":"#REF!"}},{"$f":"IF(RIGHT('CROSS PSPB'!#REF!,3)=\" IT\",'CROSS PSPB'!#REF!,\"\")","v":{"$error":"#REF!"}},{"$f":"IF(RIGHT('CROSS PSPB'!#REF!,3)=\" IT\",'CROSS PSPB'!#REF!,\"\")","v":{"$error":"#REF!"}},{"$f":"IF(RIGHT('CROSS PSPB'!#REF!,3)=\" IT\",'CROSS PSPB'!#REF!,\"\")","v":{"$error":"#REF!"}},{"$f":"IF(RIGHT('CROSS PSPB'!#REF!,3)=\" IT\",'CROSS PSPB'!#REF!,\"\")","v":{"$error":"#REF!"}},{"$f":"IF(RIGHT('CROSS PSPB'!#REF!,3)=\" IT\",'CROSS PSPB'!#REF!,\"\")","v":{"$error":"#REF!"}},{"$f":"IF(RIGHT('CROSS PSPB'!#REF!,3)=\" IT\",'CROSS PSPB'!#REF!,\"\")","v":{"$error":"#REF!"}},{"$f":"IF(RIGHT('CROSS PSPB'!#REF!,3)=\" IT\",'CROSS PSPB'!#REF!,\"\")","v":{"$error":"#REF!"}},{"$f":"IF(RIGHT('CROSS PSPB'!#REF!,3)=\" IT\",'CROSS PSPB'!#REF!,\"\")","v":{"$error":"#REF!"}},{"$f":"IF(RIGHT('CROSS PSPB'!#REF!,3)=\" IT\",'CROSS PSPB'!#REF!,\"\")","v":{"$error":"#REF!"}},{"$f":"IF(RIGHT('CROSS PSPB'!#REF!,3)=\" IT\",'CROSS PSPB'!#REF!,\"\")","v":{"$error":"#REF!"}},{"$f":"IF(RIGHT('CROSS PSPB'!#REF!,3)=\" IT\",'CROSS PSPB'!#REF!,\"\")","v":{"$error":"#REF!"}},{"$f":"IF(RIGHT('CROSS PSPB'!#REF!,3)=\" IT\",'CROSS PSPB'!#REF!,\"\")","v":{"$error":"#REF!"}},{"$f":"IF(RIGHT('CROSS PSPB'!#REF!,3)=\" IT\",'CROSS PSPB'!#REF!,\"\")","v":{"$error":"#REF!"}},{"$f":"IF(RIGHT('CROSS PSPB'!#REF!,3)=\" IT\",'CROSS PSPB'!#REF!,\"\")","v":{"$error":"#REF!"}},{"$f":"IF(RIGHT('CROSS PSPB'!#REF!,3)=\" IT\",'CROSS PSPB'!#REF!,\"\")","v":{"$error":"#REF!"}},{"$f":"IF(RIGHT('CROSS PSPB'!#REF!,3)=\" IT\",'CROSS PSPB'!#REF!,\"\")","v":{"$error":"#REF!"}},{"$f":"IF(RIGHT('CROSS PSPB'!#REF!,3)=\" IT\",'CROSS PSPB'!#REF!,\"\")","v":{"$error":"#REF!"}},{"$error":"#REF!"},{"$error":"#REF!"},{"$error":"#REF!"},{"$error":"#REF!"}]
[null,{"$f":"IF(RIGHT('CROSS PSPB'!#REF!,3)=\" IT\",'CROSS PSPB'!#REF!,\"\")","v":{"$error":"#REF!"}},{"$f":"IF(RIGHT('CROSS PSPB'!#REF!,3)=\" IT\",'CROSS PSPB'!#REF!,\"\")","v":{"$error":"#REF!"}},{"$f":"IF(RIGHT('CROSS PSPB'!#REF!,3)=\" IT\",'CROSS PSPB'!#REF!,\"\")","v":{"$error":"#REF!"}},{"$f":"IF(RIGHT('CROSS PSPB'!#REF!,3)=\" IT\",'CROSS PSPB'!#REF!,\"\")","v":{"$error":"#REF!"}},{"$f":"IF(RIGHT('CROSS PSPB'!#REF!,3)=\" IT\",'CROSS PSPB'!#REF!,\"\")","v":{"$error":"#REF!"}},{"$f":"IF(RIGHT('CROSS PSPB'!#REF!,3)=\" IT\",'CROSS PSPB'!#REF!,\"\")","v":{"$error":"#REF!"}},{"$f":"IF(RIGHT('CROSS PSPB'!#REF!,3)=\" IT\",'CROSS PSPB'!#REF!,\"\")","v":{"$error":"#REF!"}},{"$f":"IF(RIGHT('CROSS PSPB'!#REF!,3)=\" IT\",'CROSS PSPB'!#REF!,\"\")","v":{"$error":"#REF!"}},{"$f":"IF(RIGHT('CROSS PSPB'!#REF!,3)=\" IT\",'CROSS PSPB'!#REF!,\"\")","v":{"$error":"#REF!"}},{"$f":"IF(RIGHT('CROSS PSPB'!#REF!,3)=\" IT\",'CROSS PSPB'!#REF!,\"\")","v":{"$error":"#REF!"}},{"$f":"IF(RIGHT('CROSS PSPB'!#REF!,3)=\" IT\",'CROSS PSPB'!#REF!,\"\")","v":{"$error":"#REF!"}},{"$f":"IF(RIGHT('CROSS PSPB'!#REF!,3)=\" IT\",'CROSS PSPB'!#REF!,\"\")","v":{"$error":"#REF!"}},{"$f":"IF(RIGHT('CROSS PSPB'!#REF!,3)=\" IT\",'CROSS PSPB'!#REF!,\"\")","v":{"$error":"#REF!"}},{"$f":"IF(RIGHT('CROSS PSPB'!#REF!,3)=\" IT\",'CROSS PSPB'!#REF!,\"\")","v":{"$error":"#REF!"}},{"$f":"IF(RIGHT('CROSS PSPB'!#REF!,3)=\" IT\",'CROSS PSPB'!#REF!,\"\")","v":{"$error":"#REF!"}},{"$f":"IF(RIGHT('CROSS PSPB'!#REF!,3)=\" IT\",'CROSS PSPB'!#REF!,\"\")","v":{"$error":"#REF!"}},{"$f":"IF(RIGHT('CROSS PSPB'!#REF!,3)=\" IT\",'CROSS PSPB'!#REF!,\"\")","v":{"$error":"#REF!"}},{"$f":"IF(RIGHT('CROSS PSPB'!#REF!,3)=\" IT\",'CROSS PSPB'!#REF!,\"\")","v":{"$error":"#REF!"}},{"$f":"IF(RIGHT('CROSS PSPB'!#REF!,3)=\" IT\",'CROSS PSPB'!#REF!,\"\")","v":{"$error":"#REF!"}},{"$f":"IF(RIGHT('CROSS PSPB'!#REF!,3)=\" IT\",'CROSS PSPB'!#REF!,\"\")","v":{"$error":"#REF!"}},{"$f":"IF(RIGHT('CROSS PSPB'!#REF!,3)=\" IT\",'CROSS PSPB'!#REF!,\"\")","v":{"$error":"#REF!"}},{"$f":"IF(RIGHT('CROSS PSPB'!#REF!,3)=\" IT\",'CROSS PSPB'!#REF!,\"\")","v":{"$error":"#REF!"}},{"$f":"IF(RIGHT('CROSS PSPB'!#REF!,3)=\" IT\",'CROSS PSPB'!#REF!,\"\")","v":{"$error":"#REF!"}},{"$f":"IF(RIGHT('CROSS PSPB'!#REF!,3)=\" IT\",'CROSS PSPB'!#REF!,\"\")","v":{"$error":"#REF!"}},{"$f":"IF(RIGHT('CROSS PSPB'!#REF!,3)=\" IT\",'CROSS PSPB'!#REF!,\"\")","v":{"$error":"#REF!"}},{"$f":"IF(RIGHT('CROSS PSPB'!#REF!,3)=\" IT\",'CROSS PSPB'!#REF!,\"\")","v":{"$error":"#REF!"}},{"$f":"IF(RIGHT('CROSS PSPB'!#REF!,3)=\" IT\",'CROSS PSPB'!#REF!,\"\")","v":{"$error":"#REF!"}},{"$f":"IF(RIGHT('CROSS PSPB'!#REF!,3)=\" IT\",'CROSS PSPB'!#REF!,\"\")","v":{"$error":"#REF!"}},{"$f":"IF(RIGHT('CROSS PSPB'!#REF!,3)=\" IT\",'CROSS PSPB'!#REF!,\"\")","v":{"$error":"#REF!"}},{"$f":"IF(RIGHT('CROSS PSPB'!#REF!,3)=\" IT\",'CROSS PSPB'!#REF!,\"\")","v":{"$error":"#REF!"}},{"$f":"IF(RIGHT('CROSS PSPB'!#REF!,3)=\" IT\",'CROSS PSPB'!#REF!,\"\")","v":{"$error":"#REF!"}},{"$f":"IF(RIGHT('CROSS PSPB'!#REF!,3)=\" IT\",'CROSS PSPB'!#REF!,\"\")","v":{"$error":"#REF!"}},{"$f":"IF(RIGHT('CROSS PSPB'!#REF!,3)=\" IT\",'CROSS PSPB'!#REF!,\"\")","v":{"$error":"#REF!"}},{"$f":"IF(RIGHT('CROSS PSPB'!#REF!,3)=\" IT\",'CROSS PSPB'!#REF!,\"\")","v":{"$error":"#REF!"}},{"$f":"IF(RIGHT('CROSS PSPB'!#REF!,3)=\" IT\",'CROSS PSPB'!#REF!,\"\")","v":{"$error":"#REF!"}},{"$f":"IF(RIGHT('CROSS PSPB'!#REF!,3)=\" IT\",'CROSS PSPB'!#REF!,\"\")","v":{"$error":"#REF!"}},{"$f":"IF(RIGHT('CROSS PSPB'!#REF!,3)=\" IT\",'CROSS PSPB'!#REF!,\"\")","v":{"$error":"#REF!"}},{"$f":"IF(RIGHT('CROSS PSPB'!#REF!,3)=\" IT\",'CROSS PSPB'!#REF!,\"\")","v":{"$error":"#REF!"}},{"$f":"IF(RIGHT('CROSS PSPB'!#REF!,3)=\" IT\",'CROSS PSPB'!#REF!,\"\")","v":{"$error":"#REF!"}},{"$f":"IF(RIGHT('CROSS PSPB'!#REF!,3)=\" IT\",'CROSS PSPB'!#REF!,\"\")","v":{"$error":"#REF!"}},{"$f":"IF(RIGHT('CROSS PSPB'!#REF!,3)=\" IT\",'CROSS PSPB'!#REF!,\"\")","v":{"$error":"#REF!"}},{"$f":"IF(RIGHT('CROSS PSPB'!#REF!,3)=\" IT\",'CROSS PSPB'!#REF!,\"\")","v":{"$error":"#REF!"}},{"$f":"IF(RIGHT('CROSS PSPB'!#REF!,3)=\" IT\",'CROSS PSPB'!#REF!,\"\")","v":{"$error":"#REF!"}},{"$f":"IF(RIGHT('CROSS PSPB'!#REF!,3)=\" IT\",'CROSS PSPB'!#REF!,\"\")","v":{"$error":"#REF!"}},{"$f":"IF(RIGHT('CROSS PSPB'!#REF!,3)=\" IT\",'CROSS PSPB'!#REF!,\"\")","v":{"$error":"#REF!"}},{"$f":"IF(RIGHT('CROSS PSPB'!#REF!,3)=\" IT\",'CROSS PSPB'!#REF!,\"\")","v":{"$error":"#REF!"}},{"$f":"IF(RIGHT('CROSS PSPB'!#REF!,3)=\" IT\",'CROSS PSPB'!#REF!,\"\")","v":{"$error":"#REF!"}},{"$f":"IF(RIGHT('CROSS PSPB'!#REF!,3)=\" IT\",'CROSS PSPB'!#REF!,\"\")","v":{"$error":"#REF!"}},{"$f":"IF(RIGHT('CROSS PSPB'!#REF!,3)=\" IT\",'CROSS PSPB'!#REF!,\"\")","v":{"$error":"#REF!"}},{"$f":"IF(RIGHT('CROSS PSPB'!#REF!,3)=\" IT\",'CROSS PSPB'!#REF!,\"\")","v":{"$error":"#REF!"}},{"$f":"IF(RIGHT('CROSS PSPB'!#REF!,3)=\" IT\",'CROSS PSPB'!#REF!,\"\")","v":{"$error":"#REF!"}},{"$error":"#REF!"},{"$error":"#REF!"},{"$error":"#REF!"},{"$error":"#REF!"}]
[null,{"$f":"IF(RIGHT('CROSS PSPB'!#REF!,3)=\" IT\",'CROSS PSPB'!#REF!,\"\")","v":{"$error":"#REF!"}},{"$f":"IF(RIGHT('CROSS PSPB'!#REF!,3)=\" IT\",'CROSS PSPB'!#REF!,\"\")","v":{"$error":"#REF!"}},{"$f":"IF(RIGHT('CROSS PSPB'!#REF!,3)=\" IT\",'CROSS PSPB'!#REF!,\"\")","v":{"$error":"#REF!"}},{"$f":"IF(RIGHT('CROSS PSPB'!#REF!,3)=\" IT\",'CROSS PSPB'!#REF!,\"\")","v":{"$error":"#REF!"}},{"$f":"IF(RIGHT('CROSS PSPB'!#REF!,3)=\" IT\",'CROSS PSPB'!#REF!,\"\")","v":{"$error":"#REF!"}},{"$f":"IF(RIGHT('CROSS PSPB'!#REF!,3)=\" IT\",'CROSS PSPB'!#REF!,\"\")","v":{"$error":"#REF!"}},{"$f":"IF(RIGHT('CROSS PSPB'!#REF!,3)=\" IT\",'CROSS PSPB'!#REF!,\"\")","v":{"$error":"#REF!"}},{"$f":"IF(RIGHT('CROSS PSPB'!#REF!,3)=\" IT\",'CROSS PSPB'!#REF!,\"\")","v":{"$error":"#REF!"}},{"$f":"IF(RIGHT('CROSS PSPB'!#REF!,3)=\" IT\",'CROSS PSPB'!#REF!,\"\")","v":{"$error":"#REF!"}},{"$f":"IF(RIGHT('CROSS PSPB'!#REF!,3)=\" IT\",'CROSS PSPB'!#REF!,\"\")","v":{"$error":"#REF!"}},{"$f":"IF(RIGHT('CROSS PSPB'!#REF!,3)=\" IT\",'CROSS PSPB'!#REF!,\"\")","v":{"$error":"#REF!"}},{"$f":"IF(RIGHT('CROSS PSPB'!#REF!,3)=\" IT\",'CROSS PSPB'!#REF!,\"\")","v":{"$error":"#REF!"}},{"$f":"IF(RIGHT('CROSS PSPB'!#REF!,3)=\" IT\",'CROSS PSPB'!#REF!,\"\")","v":{"$error":"#REF!"}},{"$f":"IF(RIGHT('CROSS PSPB'!#REF!,3)=\" IT\",'CROSS PSPB'!#REF!,\"\")","v":{"$error":"#REF!"}},{"$f":"IF(RIGHT('CROSS PSPB'!#REF!,3)=\" IT\",'CROSS PSPB'!#REF!,\"\")","v":{"$error":"#REF!"}},{"$f":"IF(RIGHT('CROSS PSPB'!#REF!,3)=\" IT\",'CROSS PSPB'!#REF!,\"\")","v":{"$error":"#REF!"}},{"$f":"IF(RIGHT('CROSS PSPB'!#REF!,3)=\" IT\",'CROSS PSPB'!#REF!,\"\")","v":{"$error":"#REF!"}},{"$f":"IF(RIGHT('CROSS PSPB'!#REF!,3)=\" IT\",'CROSS PSPB'!#REF!,\"\")","v":{"$error":"#REF!"}},{"$f":"IF(RIGHT('CROSS PSPB'!#REF!,3)=\" IT\",'CROSS PSPB'!#REF!,\"\")","v":{"$error":"#REF!"}},{"$f":"IF(RIGHT('CROSS PSPB'!#REF!,3)=\" IT\",'CROSS PSPB'!#REF!,\"\")","v":{"$error":"#REF!"}},{"$f":"IF(RIGHT('CROSS PSPB'!#REF!,3)=\" IT\",'CROSS PSPB'!#REF!,\"\")","v":{"$error":"#REF!"}},{"$f":"IF(RIGHT('CROSS PSPB'!#REF!,3)=\" IT\",'CROSS PSPB'!#REF!,\"\")","v":{"$error":"#REF!"}},{"$f":"IF(RIGHT('CROSS PSPB'!#REF!,3)=\" IT\",'CROSS PSPB'!#REF!,\"\")","v":{"$error":"#REF!"}},{"$f":"IF(RIGHT('CROSS PSPB'!#REF!,3)=\" IT\",'CROSS PSPB'!#REF!,\"\")","v":{"$error":"#REF!"}},{"$f":"IF(RIGHT('CROSS PSPB'!#REF!,3)=\" IT\",'CROSS PSPB'!#REF!,\"\")","v":{"$error":"#REF!"}},{"$f":"IF(RIGHT('CROSS PSPB'!#REF!,3)=\" IT\",'CROSS PSPB'!#REF!,\"\")","v":{"$error":"#REF!"}},{"$f":"IF(RIGHT('CROSS PSPB'!#REF!,3)=\" IT\",'CROSS PSPB'!#REF!,\"\")","v":{"$error":"#REF!"}},{"$f":"IF(RIGHT('CROSS PSPB'!#REF!,3)=\" IT\",'CROSS PSPB'!#REF!,\"\")","v":{"$error":"#REF!"}},{"$f":"IF(RIGHT('CROSS PSPB'!#REF!,3)=\" IT\",'CROSS PSPB'!#REF!,\"\")","v":{"$error":"#REF!"}},{"$f":"IF(RIGHT('CROSS PSPB'!#REF!,3)=\" IT\",'CROSS PSPB'!#REF!,\"\")","v":{"$error":"#REF!"}},{"$f":"IF(RIGHT('CROSS PSPB'!#REF!,3)=\" IT\",'CROSS PSPB'!#REF!,\"\")","v":{"$error":"#REF!"}},{"$f":"IF(RIGHT('CROSS PSPB'!#REF!,3)=\" IT\",'CROSS PSPB'!#REF!,\"\")","v":{"$error":"#REF!"}},{"$f":"IF(RIGHT('CROSS PSPB'!#REF!,3)=\" IT\",'CROSS PSPB'!#REF!,\"\")","v":{"$error":"#REF!"}},{"$f":"IF(RIGHT('CROSS PSPB'!#REF!,3)=\" IT\",'CROSS PSPB'!#REF!,\"\")","v":{"$error":"#REF!"}},{"$f":"IF(RIGHT('CROSS PSPB'!#REF!,3)=\" IT\",'CROSS PSPB'!#REF!,\"\")","v":{"$error":"#REF!"}},{"$f":"IF(RIGHT('CROSS PSPB'!#REF!,3)=\" IT\",'CROSS PSPB'!#REF!,\"\")","v":{"$error":"#REF!"}},{"$f":"IF(RIGHT('CROSS PSPB'!#REF!,3)=\" IT\",'CROSS PSPB'!#REF!,\"\")","v":{"$error":"#REF!"}},{"$f":"IF(RIGHT('CROSS PSPB'!#REF!,3)=\" IT\",'CROSS PSPB'!#REF!,\"\")","v":{"$error":"#REF!"}},{"$f":"IF(RIGHT('CROSS PSPB'!#REF!,3)=\" IT\",'CROSS PSPB'!#REF!,\"\")","v":{"$error":"#REF!"}},{"$f":"IF(RIGHT('CROSS PSPB'!#REF!,3)=\" IT\",'CROSS PSPB'!#REF!,\"\")","v":{"$error":"#REF!"}},{"$f":"IF(RIGHT('CROSS PSPB'!#REF!,3)=\" IT\",'CROSS PSPB'!#REF!,\"\")","v":{"$error":"#REF!"}},{"$f":"IF(RIGHT('CROSS PSPB'!#REF!,3)=\" IT\",'CROSS PSPB'!#REF!,\"\")","v":{"$error":"#REF!"}},{"$f":"IF(RIGHT('CROSS PSPB'!#REF!,3)=\" IT\",'CROSS PSPB'!#REF!,\"\")","v":{"$error":"#REF!"}},{"$f":"IF(RIGHT('CROSS PSPB'!#REF!,3)=\" IT\",'CROSS PSPB'!#REF!,\"\")","v":{"$error":"#REF!"}},{"$f":"IF(RIGHT('CROSS PSPB'!#REF!,3)=\" IT\",'CROSS PSPB'!#REF!,\"\")","v":{"$error":"#REF!"}},{"$f":"IF(RIGHT('CROSS PSPB'!#REF!,3)=\" IT\",'CROSS PSPB'!#REF!,\"\")","v":{"$error":"#REF!"}},{"$f":"IF(RIGHT('CROSS PSPB'!#REF!,3)=\" IT\",'CROSS PSPB'!#REF!,\"\")","v":{"$error":"#REF!"}},{"$f":"IF(RIGHT('CROSS PSPB'!#REF!,3)=\" IT\",'CROSS PSPB'!#REF!,\"\")","v":{"$error":"#REF!"}},{"$f":"IF(RIGHT('CROSS PSPB'!#REF!,3)=\" IT\",'CROSS PSPB'!#REF!,\"\")","v":{"$error":"#REF!"}},{"$f":"IF(RIGHT('CROSS PSPB'!#REF!,3)=\" IT\",'CROSS PSPB'!#REF!,\"\")","v":{"$error":"#REF!"}},{"$f":"IF(RIGHT('CROSS PSPB'!#REF!,3)=\" IT\",'CROSS PSPB'!#REF!,\"\")","v":{"$error":"#REF!"}},{"$error":"#REF!"},{"$error":"#REF!"},{"$error":"#REF!"},{"$error":"#REF!"}]
[null,{"$f":"IF(RIGHT('CROSS PSPB'!#REF!,3)=\" IT\",'CROSS PSPB'!#REF!,\"\")","v":{"$error":"#REF!"}},{"$f":"IF(RIGHT('CROSS PSPB'!#REF!,3)=\" IT\",'CROSS PSPB'!#REF!,\"\")","v":{"$error":"#REF!"}},{"$f":"IF(RIGHT('CROSS PSPB'!#REF!,3)=\" IT\",'CROSS PSPB'!#REF!,\"\")","v":{"$error":"#REF!"}},{"$f":"IF(RIGHT('CROSS PSPB'!#REF!,3)=\" IT\",'CROSS PSPB'!#REF!,\"\")","v":{"$error":"#REF!"}},{"$f":"IF(RIGHT('CROSS PSPB'!#REF!,3)=\" IT\",'CROSS PSPB'!#REF!,\"\")","v":{"$error":"#REF!"}},{"$f":"IF(RIGHT('CROSS PSPB'!#REF!,3)=\" IT\",'CROSS PSPB'!#REF!,\"\")","v":{"$error":"#REF!"}},{"$f":"IF(RIGHT('CROSS PSPB'!#REF!,3)=\" IT\",'CROSS PSPB'!#REF!,\"\")","v":{"$error":"#REF!"}},{"$f":"IF(RIGHT('CROSS PSPB'!#REF!,3)=\" IT\",'CROSS PSPB'!#REF!,\"\")","v":{"$error":"#REF!"}},{"$f":"IF(RIGHT('CROSS PSPB'!#REF!,3)=\" IT\",'CROSS PSPB'!#REF!,\"\")","v":{"$error":"#REF!"}},{"$f":"IF(RIGHT('CROSS PSPB'!#REF!,3)=\" IT\",'CROSS PSPB'!#REF!,\"\")","v":{"$error":"#REF!"}},{"$f":"IF(RIGHT('CROSS PSPB'!#REF!,3)=\" IT\",'CROSS PSPB'!#REF!,\"\")","v":{"$error":"#REF!"}},{"$f":"IF(RIGHT('CROSS PSPB'!#REF!,3)=\" IT\",'CROSS PSPB'!#REF!,\"\")","v":{"$error":"#REF!"}},{"$f":"IF(RIGHT('CROSS PSPB'!#REF!,3)=\" IT\",'CROSS PSPB'!#REF!,\"\")","v":{"$error":"#REF!"}},{"$f":"IF(RIGHT('CROSS PSPB'!#REF!,3)=\" IT\",'CROSS PSPB'!#REF!,\"\")","v":{"$error":"#REF!"}},{"$f":"IF(RIGHT('CROSS PSPB'!#REF!,3)=\" IT\",'CROSS PSPB'!#REF!,\"\")","v":{"$error":"#REF!"}},{"$f":"IF(RIGHT('CROSS PSPB'!#REF!,3)=\" IT\",'CROSS PSPB'!#REF!,\"\")","v":{"$error":"#REF!"}},{"$f":"IF(RIGHT('CROSS PSPB'!#REF!,3)=\" IT\",'CROSS PSPB'!#REF!,\"\")","v":{"$error":"#REF!"}},{"$f":"IF(RIGHT('CROSS PSPB'!#REF!,3)=\" IT\",'CROSS PSPB'!#REF!,\"\")","v":{"$error":"#REF!"}},{"$f":"IF(RIGHT('CROSS PSPB'!#REF!,3)=\" IT\",'CROSS PSPB'!#REF!,\"\")","v":{"$error":"#REF!"}},{"$f":"IF(RIGHT('CROSS PSPB'!#REF!,3)=\" IT\",'CROSS PSPB'!#REF!,\"\")","v":{"$error":"#REF!"}},{"$f":"IF(RIGHT('CROSS PSPB'!#REF!,3)=\" IT\",'CROSS PSPB'!#REF!,\"\")","v":{"$error":"#REF!"}},{"$f":"IF(RIGHT('CROSS PSPB'!#REF!,3)=\" IT\",'CROSS PSPB'!#REF!,\"\")","v":{"$error":"#REF!"}},{"$f":"IF(RIGHT('CROSS PSPB'!#REF!,3)=\" IT\",'CROSS PSPB'!#REF!,\"\")","v":{"$error":"#REF!"}},{"$f":"IF(RIGHT('CROSS PSPB'!#REF!,3)=\" IT\",'CROSS PSPB'!#REF!,\"\")","v":{"$error":"#REF!"}},{"$f":"IF(RIGHT('CROSS PSPB'!#REF!,3)=\" IT\",'CROSS PSPB'!#REF!,\"\")","v":{"$error":"#REF!"}},{"$f":"IF(RIGHT('CROSS PSPB'!#REF!,3)=\" IT\",'CROSS PSPB'!#REF!,\"\")","v":{"$error":"#REF!"}},{"$f":"IF(RIGHT('CROSS PSPB'!#REF!,3)=\" IT\",'CROSS PSPB'!#REF!,\"\")","v":{"$error":"#REF!"}},{"$f":"IF(RIGHT('CROSS PSPB'!#REF!,3)=\" IT\",'CROSS PSPB'!#REF!,\"\")","v":{"$error":"#REF!"}},{"$f":"IF(RIGHT('CROSS PSPB'!#REF!,3)=\" IT\",'CROSS PSPB'!#REF!,\"\")","v":{"$error":"#REF!"}},{"$f":"IF(RIGHT('CROSS PSPB'!#REF!,3)=\" IT\",'CROSS PSPB'!#REF!,\"\")","v":{"$error":"#REF!"}},{"$f":"IF(RIGHT('CROSS PSPB'!#REF!,3)=\" IT\",'CROSS PSPB'!#REF!,\"\")","v":{"$error":"#REF!"}},{"$f":"IF(RIGHT('CROSS PSPB'!#REF!,3)=\" IT\",'CROSS PSPB'!#REF!,\"\")","v":{"$error":"#REF!"}},{"$f":"IF(RIGHT('CROSS PSPB'!#REF!,3)=\" IT\",'CROSS PSPB'!#REF!,\"\")","v":{"$error":"#REF!"}},{"$f":"IF(RIGHT('CROSS PSPB'!#REF!,3)=\" IT\",'CROSS PSPB'!#REF!,\"\")","v":{"$error":"#REF!"}},{"$f":"IF(RIGHT('CROSS PSPB'!#REF!,3)=\" IT\",'CROSS PSPB'!#REF!,\"\")","v":{"$error":"#REF!"}},{"$f":"IF(RIGHT('CROSS PSPB'!#REF!,3)=\" IT\",'CROSS PSPB'!#REF!,\"\")","v":{"$error":"#REF!"}},{"$f":"IF(RIGHT('CROSS PSPB'!#REF!,3)=\" IT\",'CROSS PSPB'!#REF!,\"\")","v":{"$error":"#REF!"}},{"$f":"IF(RIGHT('CROSS PSPB'!#REF!,3)=\" IT\",'CROSS PSPB'!#REF!,\"\")","v":{"$error":"#REF!"}},{"$f":"IF(RIGHT('CROSS PSPB'!#REF!,3)=\" IT\",'CROSS PSPB'!#REF!,\"\")","v":{"$error":"#REF!"}},{"$f":"IF(RIGHT('CROSS PSPB'!#REF!,3)=\" IT\",'CROSS PSPB'!#REF!,\"\")","v":{"$error":"#REF!"}},{"$f":"IF(RIGHT('CROSS PSPB'!#REF!,3)=\" IT\",'CROSS PSPB'!#REF!,\"\")","v":{"$error":"#REF!"}},{"$f":"IF(RIGHT('CROSS PSPB'!#REF!,3)=\" IT\",'CROSS PSPB'!#REF!,\"\")","v":{"$error":"#REF!"}},{"$f":"IF(RIGHT('CROSS PSPB'!#REF!,3)=\" IT\",'CROSS PSPB'!#REF!,\"\")","v":{"$error":"#REF!"}},{"$f":"IF(RIGHT('CROSS PSPB'!#REF!,3)=\" IT\",'CROSS PSPB'!#REF!,\"\")","v":{"$error":"#REF!"}},{"$f":"IF(RIGHT('CROSS PSPB'!#REF!,3)=\" IT\",'CROSS PSPB'!#REF!,\"\")","v":{"$error":"#REF!"}},{"$f":"IF(RIGHT('CROSS PSPB'!#REF!,3)=\" IT\",'CROSS PSPB'!#REF!,\"\")","v":{"$error":"#REF!"}},{"$f":"IF(RIGHT('CROSS PSPB'!#REF!,3)=\" IT\",'CROSS PSPB'!#REF!,\"\")","v":{"$error":"#REF!"}},{"$f":"IF(RIGHT('CROSS PSPB'!#REF!,3)=\" IT\",'CROSS PSPB'!#REF!,\"\")","v":{"$error":"#REF!"}},{"$f":"IF(RIGHT('CROSS PSPB'!#REF!,3)=\" IT\",'CROSS PSPB'!#REF!,\"\")","v":{"$error":"#REF!"}},{"$f":"IF(RIGHT('CROSS PSPB'!#REF!,3)=\" IT\",'CROSS PSPB'!#REF!,\"\")","v":{"$error":"#REF!"}},{"$f":"IF(RIGHT('CROSS PSPB'!#REF!,3)=\" IT\",'CROSS PSPB'!#REF!,\"\")","v":{"$error":"#REF!"}},{"$error":"#REF!"},{"$error":"#REF!"},{"$error":"#REF!"},{"$error":"#REF!"}]
[null,{"$f":"IF(RIGHT('CROSS PSPB'!#REF!,3)=\" IT\",'CROSS PSPB'!#REF!,\"\")","v":{"$error":"#REF!"}},{"$f":"IF(RIGHT('CROSS PSPB'!#REF!,3)=\" IT\",'CROSS PSPB'!#REF!,\"\")","v":{"$error":"#REF!"}},{"$f":"IF(RIGHT('CROSS PSPB'!#REF!,3)=\" IT\",'CROSS PSPB'!#REF!,\"\")","v":{"$error":"#REF!"}},{"$f":"IF(RIGHT('CROSS PSPB'!#REF!,3)=\" IT\",'CROSS PSPB'!#REF!,\"\")","v":{"$error":"#REF!"}},{"$f":"IF(RIGHT('CROSS PSPB'!#REF!,3)=\" IT\",'CROSS PSPB'!#REF!,\"\")","v":{"$error":"#REF!"}},{"$f":"IF(RIGHT('CROSS PSPB'!#REF!,3)=\" IT\",'CROSS PSPB'!#REF!,\"\")","v":{"$error":"#REF!"}},{"$f":"IF(RIGHT('CROSS PSPB'!#REF!,3)=\" IT\",'CROSS PSPB'!#REF!,\"\")","v":{"$error":"#REF!"}},{"$f":"IF(RIGHT('CROSS PSPB'!#REF!,3)=\" IT\",'CROSS PSPB'!#REF!,\"\")","v":{"$error":"#REF!"}},{"$f":"IF(RIGHT('CROSS PSPB'!#REF!,3)=\" IT\",'CROSS PSPB'!#REF!,\"\")","v":{"$error":"#REF!"}},{"$f":"IF(RIGHT('CROSS PSPB'!#REF!,3)=\" IT\",'CROSS PSPB'!#REF!,\"\")","v":{"$error":"#REF!"}},{"$f":"IF(RIGHT('CROSS PSPB'!#REF!,3)=\" IT\",'CROSS PSPB'!#REF!,\"\")","v":{"$error":"#REF!"}},{"$f":"IF(RIGHT('CROSS PSPB'!#REF!,3)=\" IT\",'CROSS PSPB'!#REF!,\"\")","v":{"$error":"#REF!"}},{"$f":"IF(RIGHT('CROSS PSPB'!#REF!,3)=\" IT\",'CROSS PSPB'!#REF!,\"\")","v":{"$error":"#REF!"}},{"$f":"IF(RIGHT('CROSS PSPB'!#REF!,3)=\" IT\",'CROSS PSPB'!#REF!,\"\")","v":{"$error":"#REF!"}},{"$f":"IF(RIGHT('CROSS PSPB'!#REF!,3)=\" IT\",'CROSS PSPB'!#REF!,\"\")","v":{"$error":"#REF!"}},{"$f":"IF(RIGHT('CROSS PSPB'!#REF!,3)=\" IT\",'CROSS PSPB'!#REF!,\"\")","v":{"$error":"#REF!"}},{"$f":"IF(RIGHT('CROSS PSPB'!#REF!,3)=\" IT\",'CROSS PSPB'!#REF!,\"\")","v":{"$error":"#REF!"}},{"$f":"IF(RIGHT('CROSS PSPB'!#REF!,3)=\" IT\",'CROSS PSPB'!#REF!,\"\")","v":{"$error":"#REF!"}},{"$f":"IF(RIGHT('CROSS PSPB'!#REF!,3)=\" IT\",'CROSS PSPB'!#REF!,\"\")","v":{"$error":"#REF!"}},{"$f":"IF(RIGHT('CROSS PSPB'!#REF!,3)=\" IT\",'CROSS PSPB'!#REF!,\"\")","v":{"$error":"#REF!"}},{"$f":"IF(RIGHT('CROSS PSPB'!#REF!,3)=\" IT\",'CROSS PSPB'!#REF!,\"\")","v":{"$error":"#REF!"}},{"$f":"IF(RIGHT('CROSS PSPB'!#REF!,3)=\" IT\",'CROSS PSPB'!#REF!,\"\")","v":{"$error":"#REF!"}},{"$f":"IF(RIGHT('CROSS PSPB'!#REF!,3)=\" IT\",'CROSS PSPB'!#REF!,\"\")","v":{"$error":"#REF!"}},{"$f":"IF(RIGHT('CROSS PSPB'!#REF!,3)=\" IT\",'CROSS PSPB'!#REF!,\"\")","v":{"$error":"#REF!"}},{"$f":"IF(RIGHT('CROSS PSPB'!#REF!,3)=\" IT\",'CROSS PSPB'!#REF!,\"\")","v":{"$error":"#REF!"}},{"$f":"IF(RIGHT('CROSS PSPB'!#REF!,3)=\" IT\",'CROSS PSPB'!#REF!,\"\")","v":{"$error":"#REF!"}},{"$f":"IF(RIGHT('CROSS PSPB'!#REF!,3)=\" IT\",'CROSS PSPB'!#REF!,\"\")","v":{"$error":"#REF!"}},{"$f":"IF(RIGHT('CROSS PSPB'!#REF!,3)=\" IT\",'CROSS PSPB'!#REF!,\"\")","v":{"$error":"#REF!"}},{"$f":"IF(RIGHT('CROSS PSPB'!#REF!,3)=\" IT\",'CROSS PSPB'!#REF!,\"\")","v":{"$error":"#REF!"}},{"$f":"IF(RIGHT('CROSS PSPB'!#REF!,3)=\" IT\",'CROSS PSPB'!#REF!,\"\")","v":{"$error":"#REF!"}},{"$f":"IF(RIGHT('CROSS PSPB'!#REF!,3)=\" IT\",'CROSS PSPB'!#REF!,\"\")","v":{"$error":"#REF!"}},{"$f":"IF(RIGHT('CROSS PSPB'!#REF!,3)=\" IT\",'CROSS PSPB'!#REF!,\"\")","v":{"$error":"#REF!"}},{"$f":"IF(RIGHT('CROSS PSPB'!#REF!,3)=\" IT\",'CROSS PSPB'!#REF!,\"\")","v":{"$error":"#REF!"}},{"$f":"IF(RIGHT('CROSS PSPB'!#REF!,3)=\" IT\",'CROSS PSPB'!#REF!,\"\")","v":{"$error":"#REF!"}},{"$f":"IF(RIGHT('CROSS PSPB'!#REF!,3)=\" IT\",'CROSS PSPB'!#REF!,\"\")","v":{"$error":"#REF!"}},{"$f":"IF(RIGHT('CROSS PSPB'!#REF!,3)=\" IT\",'CROSS PSPB'!#REF!,\"\")","v":{"$error":"#REF!"}},{"$f":"IF(RIGHT('CROSS PSPB'!#REF!,3)=\" IT\",'CROSS PSPB'!#REF!,\"\")","v":{"$error":"#REF!"}},{"$f":"IF(RIGHT('CROSS PSPB'!#REF!,3)=\" IT\",'CROSS PSPB'!#REF!,\"\")","v":{"$error":"#REF!"}},{"$f":"IF(RIGHT('CROSS PSPB'!#REF!,3)=\" IT\",'CROSS PSPB'!#REF!,\"\")","v":{"$error":"#REF!"}},{"$f":"IF(RIGHT('CROSS PSPB'!#REF!,3)=\" IT\",'CROSS PSPB'!#REF!,\"\")","v":{"$error":"#REF!"}},{"$f":"IF(RIGHT('CROSS PSPB'!#REF!,3)=\" IT\",'CROSS PSPB'!#REF!,\"\")","v":{"$error":"#REF!"}},{"$f":"IF(RIGHT('CROSS PSPB'!#REF!,3)=\" IT\",'CROSS PSPB'!#REF!,\"\")","v":{"$error":"#REF!"}},{"$f":"IF(RIGHT('CROSS PSPB'!#REF!,3)=\" IT\",'CROSS PSPB'!#REF!,\"\")","v":{"$error":"#REF!"}},{"$f":"IF(RIGHT('CROSS PSPB'!#REF!,3)=\" IT\",'CROSS PSPB'!#REF!,\"\")","v":{"$error":"#REF!"}},{"$f":"IF(RIGHT('CROSS PSPB'!#REF!,3)=\" IT\",'CROSS PSPB'!#REF!,\"\")","v":{"$error":"#REF!"}},{"$f":"IF(RIGHT('CROSS PSPB'!#REF!,3)=\" IT\",'CROSS PSPB'!#REF!,\"\")","v":{"$error":"#REF!"}},{"$f":"IF(RIGHT('CROSS PSPB'!#REF!,3)=\" IT\",'CROSS PSPB'!#REF!,\"\")","v":{"$error":"#REF!"}},{"$f":"IF(RIGHT('CROSS PSPB'!#REF!,3)=\" IT\",'CROSS PSPB'!#REF!,\"\")","v":{"$error":"#REF!"}},{"$f":"IF(RIGHT('CROSS PSPB'!#REF!,3)=\" IT\",'CROSS PSPB'!#REF!,\"\")","v":{"$error":"#REF!"}},{"$f":"IF(RIGHT('CROSS PSPB'!#REF!,3)=\" IT\",'CROSS PSPB'!#REF!,\"\")","v":{"$error":"#REF!"}},{"$f":"IF(RIGHT('CROSS PSPB'!#REF!,3)=\" IT\",'CROSS PSPB'!#REF!,\"\")","v":{"$error":"#REF!"}},{"$error":"#REF!"},{"$error":"#REF!"},{"$error":"#REF!"},{"$error":"#REF!"}]
[null,{"$f":"IF(RIGHT('CROSS PSPB'!#REF!,3)=\" IT\",'CROSS PSPB'!#REF!,\"\")","v":{"$error":"#REF!"}},{"$f":"IF(RIGHT('CROSS PSPB'!#REF!,3)=\" IT\",'CROSS PSPB'!#REF!,\"\")","v":{"$error":"#REF!"}},{"$f":"IF(RIGHT('CROSS PSPB'!#REF!,3)=\" IT\",'CROSS PSPB'!#REF!,\"\")","v":{"$error":"#REF!"}},{"$f":"IF(RIGHT('CROSS PSPB'!#REF!,3)=\" IT\",'CROSS PSPB'!#REF!,\"\")","v":{"$error":"#REF!"}},{"$f":"IF(RIGHT('CROSS PSPB'!#REF!,3)=\" IT\",'CROSS PSPB'!#REF!,\"\")","v":{"$error":"#REF!"}},{"$f":"IF(RIGHT('CROSS PSPB'!#REF!,3)=\" IT\",'CROSS PSPB'!#REF!,\"\")","v":{"$error":"#REF!"}},{"$f":"IF(RIGHT('CROSS PSPB'!#REF!,3)=\" IT\",'CROSS PSPB'!#REF!,\"\")","v":{"$error":"#REF!"}},{"$f":"IF(RIGHT('CROSS PSPB'!#REF!,3)=\" IT\",'CROSS PSPB'!#REF!,\"\")","v":{"$error":"#REF!"}},{"$f":"IF(RIGHT('CROSS PSPB'!#REF!,3)=\" IT\",'CROSS PSPB'!#REF!,\"\")","v":{"$error":"#REF!"}},{"$f":"IF(RIGHT('CROSS PSPB'!#REF!,3)=\" IT\",'CROSS PSPB'!#REF!,\"\")","v":{"$error":"#REF!"}},{"$f":"IF(RIGHT('CROSS PSPB'!#REF!,3)=\" IT\",'CROSS PSPB'!#REF!,\"\")","v":{"$error":"#REF!"}},{"$f":"IF(RIGHT('CROSS PSPB'!#REF!,3)=\" IT\",'CROSS PSPB'!#REF!,\"\")","v":{"$error":"#REF!"}},{"$f":"IF(RIGHT('CROSS PSPB'!#REF!,3)=\" IT\",'CROSS PSPB'!#REF!,\"\")","v":{"$error":"#REF!"}},{"$f":"IF(RIGHT('CROSS PSPB'!#REF!,3)=\" IT\",'CROSS PSPB'!#REF!,\"\")","v":{"$error":"#REF!"}},{"$f":"IF(RIGHT('CROSS PSPB'!#REF!,3)=\" IT\",'CROSS PSPB'!#REF!,\"\")","v":{"$error":"#REF!"}},{"$f":"IF(RIGHT('CROSS PSPB'!#REF!,3)=\" IT\",'CROSS PSPB'!#REF!,\"\")","v":{"$error":"#REF!"}},{"$f":"IF(RIGHT('CROSS PSPB'!#REF!,3)=\" IT\",'CROSS PSPB'!#REF!,\"\")","v":{"$error":"#REF!"}},{"$f":"IF(RIGHT('CROSS PSPB'!#REF!,3)=\" IT\",'CROSS PSPB'!#REF!,\"\")","v":{"$error":"#REF!"}},{"$f":"IF(RIGHT('CROSS PSPB'!#REF!,3)=\" IT\",'CROSS PSPB'!#REF!,\"\")","v":{"$error":"#REF!"}},{"$f":"IF(RIGHT('CROSS PSPB'!#REF!,3)=\" IT\",'CROSS PSPB'!#REF!,\"\")","v":{"$error":"#REF!"}},{"$f":"IF(RIGHT('CROSS PSPB'!#REF!,3)=\" IT\",'CROSS PSPB'!#REF!,\"\")","v":{"$error":"#REF!"}},{"$f":"IF(RIGHT('CROSS PSPB'!#REF!,3)=\" IT\",'CROSS PSPB'!#REF!,\"\")","v":{"$error":"#REF!"}},{"$f":"IF(RIGHT('CROSS PSPB'!#REF!,3)=\" IT\",'CROSS PSPB'!#REF!,\"\")","v":{"$error":"#REF!"}},{"$f":"IF(RIGHT('CROSS PSPB'!#REF!,3)=\" IT\",'CROSS PSPB'!#REF!,\"\")","v":{"$error":"#REF!"}},{"$f":"IF(RIGHT('CROSS PSPB'!#REF!,3)=\" IT\",'CROSS PSPB'!#REF!,\"\")","v":{"$error":"#REF!"}},{"$f":"IF(RIGHT('CROSS PSPB'!#REF!,3)=\" IT\",'CROSS PSPB'!#REF!,\"\")","v":{"$error":"#REF!"}},{"$f":"IF(RIGHT('CROSS PSPB'!#REF!,3)=\" IT\",'CROSS PSPB'!#REF!,\"\")","v":{"$error":"#REF!"}},{"$f":"IF(RIGHT('CROSS PSPB'!#REF!,3)=\" IT\",'CROSS PSPB'!#REF!,\"\")","v":{"$error":"#REF!"}},{"$f":"IF(RIGHT('CROSS PSPB'!#REF!,3)=\" IT\",'CROSS PSPB'!#REF!,\"\")","v":{"$error":"#REF!"}},{"$f":"IF(RIGHT('CROSS PSPB'!#REF!,3)=\" IT\",'CROSS PSPB'!#REF!,\"\")","v":{"$error":"#REF!"}},{"$f":"IF(RIGHT('CROSS PSPB'!#REF!,3)=\" IT\",'CROSS PSPB'!#REF!,\"\")","v":{"$error":"#REF!"}},{"$f":"IF(RIGHT('CROSS PSPB'!#REF!,3)=\" IT\",'CROSS PSPB'!#REF!,\"\")","v":{"$error":"#REF!"}},{"$f":"IF(RIGHT('CROSS PSPB'!#REF!,3)=\" IT\",'CROSS PSPB'!#REF!,\"\")","v":{"$error":"#REF!"}},{"$f":"IF(RIGHT('CROSS PSPB'!#REF!,3)=\" IT\",'CROSS PSPB'!#REF!,\"\")","v":{"$error":"#REF!"}},{"$f":"IF(RIGHT('CROSS PSPB'!#REF!,3)=\" IT\",'CROSS PSPB'!#REF!,\"\")","v":{"$error":"#REF!"}},{"$f":"IF(RIGHT('CROSS PSPB'!#REF!,3)=\" IT\",'CROSS PSPB'!#REF!,\"\")","v":{"$error":"#REF!"}},{"$f":"IF(RIGHT('CROSS PSPB'!#REF!,3)=\" IT\",'CROSS PSPB'!#REF!,\"\")","v":{"$error":"#REF!"}},{"$f":"IF(RIGHT('CROSS PSPB'!#REF!,3)=\" IT\",'CROSS PSPB'!#REF!,\"\")","v":{"$error":"#REF!"}},{"$f":"IF(RIGHT('CROSS PSPB'!#REF!,3)=\" IT\",'CROSS PSPB'!#REF!,\"\")","v":{"$error":"#REF!"}},{"$f":"IF(RIGHT('CROSS PSPB'!#REF!,3)=\" IT\",'CROSS PSPB'!#REF!,\"\")","v":{"$error":"#REF!"}},{"$f":"IF(RIGHT('CROSS PSPB'!#REF!,3)=\" IT\",'CROSS PSPB'!#REF!,\"\")","v":{"$error":"#REF!"}},{"$f":"IF(RIGHT('CROSS PSPB'!#REF!,3)=\" IT\",'CROSS PSPB'!#REF!,\"\")","v":{"$error":"#REF!"}},{"$f":"IF(RIGHT('CROSS PSPB'!#REF!,3)=\" IT\",'CROSS PSPB'!#REF!,\"\")","v":{"$error":"#REF!"}},{"$f":"IF(RIGHT('CROSS PSPB'!#REF!,3)=\" IT\",'CROSS PSPB'!#REF!,\"\")","v":{"$error":"#REF!"}},{"$f":"IF(RIGHT('CROSS PSPB'!#REF!,3)=\" IT\",'CROSS PSPB'!#REF!,\"\")","v":{"$error":"#REF!"}},{"$f":"IF(RIGHT('CROSS PSPB'!#REF!,3)=\" IT\",'CROSS PSPB'!#REF!,\"\")","v":{"$error":"#REF!"}},{"$f":"IF(RIGHT('CROSS PSPB'!#REF!,3)=\" IT\",'CROSS PSPB'!#REF!,\"\")","v":{"$error":"#REF!"}},{"$f":"IF(RIGHT('CROSS PSPB'!#REF!,3)=\" IT\",'CROSS PSPB'!#REF!,\"\")","v":{"$error":"#REF!"}},{"$f":"IF(RIGHT('CROSS PSPB'!#REF!,3)=\" IT\",'CROSS PSPB'!#REF!,\"\")","v":{"$error":"#REF!"}},{"$f":"IF(RIGHT('CROSS PSPB'!#REF!,3)=\" IT\",'CROSS PSPB'!#REF!,\"\")","v":{"$error":"#REF!"}},{"$f":"IF(RIGHT('CROSS PSPB'!#REF!,3)=\" IT\",'CROSS PSPB'!#REF!,\"\")","v":{"$error":"#REF!"}},{"$error":"#REF!"},{"$error":"#REF!"},{"$error":"#REF!"},{"$error":"#REF!"}]
[null,{"$f":"IF(RIGHT('CROSS PSPB'!#REF!,3)=\" IT\",'CROSS PSPB'!#REF!,\"\")","v":{"$error":"#REF!"}},{"$f":"IF(RIGHT('CROSS PSPB'!#REF!,3)=\" IT\",'CROSS PSPB'!#REF!,\"\")","v":{"$error":"#REF!"}},{"$f":"IF(RIGHT('CROSS PSPB'!#REF!,3)=\" IT\",'CROSS PSPB'!#REF!,\"\")","v":{"$error":"#REF!"}},{"$f":"IF(RIGHT('CROSS PSPB'!#REF!,3)=\" IT\",'CROSS PSPB'!#REF!,\"\")","v":{"$error":"#REF!"}},{"$f":"IF(RIGHT('CROSS PSPB'!#REF!,3)=\" IT\",'CROSS PSPB'!#REF!,\"\")","v":{"$error":"#REF!"}},{"$f":"IF(RIGHT('CROSS PSPB'!#REF!,3)=\" IT\",'CROSS PSPB'!#REF!,\"\")","v":{"$error":"#REF!"}},{"$f":"IF(RIGHT('CROSS PSPB'!#REF!,3)=\" IT\",'CROSS PSPB'!#REF!,\"\")","v":{"$error":"#REF!"}},{"$f":"IF(RIGHT('CROSS PSPB'!#REF!,3)=\" IT\",'CROSS PSPB'!#REF!,\"\")","v":{"$error":"#REF!"}},{"$f":"IF(RIGHT('CROSS PSPB'!#REF!,3)=\" IT\",'CROSS PSPB'!#REF!,\"\")","v":{"$error":"#REF!"}},{"$f":"IF(RIGHT('CROSS PSPB'!#REF!,3)=\" IT\",'CROSS PSPB'!#REF!,\"\")","v":{"$error":"#REF!"}},{"$f":"IF(RIGHT('CROSS PSPB'!#REF!,3)=\" IT\",'CROSS PSPB'!#REF!,\"\")","v":{"$error":"#REF!"}},{"$f":"IF(RIGHT('CROSS PSPB'!#REF!,3)=\" IT\",'CROSS PSPB'!#REF!,\"\")","v":{"$error":"#REF!"}},{"$f":"IF(RIGHT('CROSS PSPB'!#REF!,3)=\" IT\",'CROSS PSPB'!#REF!,\"\")","v":{"$error":"#REF!"}},{"$f":"IF(RIGHT('CROSS PSPB'!#REF!,3)=\" IT\",'CROSS PSPB'!#REF!,\"\")","v":{"$error":"#REF!"}},{"$f":"IF(RIGHT('CROSS PSPB'!#REF!,3)=\" IT\",'CROSS PSPB'!#REF!,\"\")","v":{"$error":"#REF!"}},{"$f":"IF(RIGHT('CROSS PSPB'!#REF!,3)=\" IT\",'CROSS PSPB'!#REF!,\"\")","v":{"$error":"#REF!"}},{"$f":"IF(RIGHT('CROSS PSPB'!#REF!,3)=\" IT\",'CROSS PSPB'!#REF!,\"\")","v":{"$error":"#REF!"}},{"$f":"IF(RIGHT('CROSS PSPB'!#REF!,3)=\" IT\",'CROSS PSPB'!#REF!,\"\")","v":{"$error":"#REF!"}},{"$f":"IF(RIGHT('CROSS PSPB'!#REF!,3)=\" IT\",'CROSS PSPB'!#REF!,\"\")","v":{"$error":"#REF!"}},{"$f":"IF(RIGHT('CROSS PSPB'!#REF!,3)=\" IT\",'CROSS PSPB'!#REF!,\"\")","v":{"$error":"#REF!"}},{"$f":"IF(RIGHT('CROSS PSPB'!#REF!,3)=\" IT\",'CROSS PSPB'!#REF!,\"\")","v":{"$error":"#REF!"}},{"$f":"IF(RIGHT('CROSS PSPB'!#REF!,3)=\" IT\",'CROSS PSPB'!#REF!,\"\")","v":{"$error":"#REF!"}},{"$f":"IF(RIGHT('CROSS PSPB'!#REF!,3)=\" IT\",'CROSS PSPB'!#REF!,\"\")","v":{"$error":"#REF!"}},{"$f":"IF(RIGHT('CROSS PSPB'!#REF!,3)=\" IT\",'CROSS PSPB'!#REF!,\"\")","v":{"$error":"#REF!"}},{"$f":"IF(RIGHT('CROSS PSPB'!#REF!,3)=\" IT\",'CROSS PSPB'!#REF!,\"\")","v":{"$error":"#REF!"}},{"$f":"IF(RIGHT('CROSS PSPB'!#REF!,3)=\" IT\",'CROSS PSPB'!#REF!,\"\")","v":{"$error":"#REF!"}},{"$f":"IF(RIGHT('CROSS PSPB'!#REF!,3)=\" IT\",'CROSS PSPB'!#REF!,\"\")","v":{"$error":"#REF!"}},{"$f":"IF(RIGHT('CROSS PSPB'!#REF!,3)=\" IT\",'CROSS PSPB'!#REF!,\"\")","v":{"$error":"#REF!"}},{"$f":"IF(RIGHT('CROSS PSPB'!#REF!,3)=\" IT\",'CROSS PSPB'!#REF!,\"\")","v":{"$error":"#REF!"}},{"$f":"IF(RIGHT('CROSS PSPB'!#REF!,3)=\" IT\",'CROSS PSPB'!#REF!,\"\")","v":{"$error":"#REF!"}},{"$f":"IF(RIGHT('CROSS PSPB'!#REF!,3)=\" IT\",'CROSS PSPB'!#REF!,\"\")","v":{"$error":"#REF!"}},{"$f":"IF(RIGHT('CROSS PSPB'!#REF!,3)=\" IT\",'CROSS PSPB'!#REF!,\"\")","v":{"$error":"#REF!"}},{"$f":"IF(RIGHT('CROSS PSPB'!#REF!,3)=\" IT\",'CROSS PSPB'!#REF!,\"\")","v":{"$error":"#REF!"}},{"$f":"IF(RIGHT('CROSS PSPB'!#REF!,3)=\" IT\",'CROSS PSPB'!#REF!,\"\")","v":{"$error":"#REF!"}},{"$f":"IF(RIGHT('CROSS PSPB'!#REF!,3)=\" IT\",'CROSS PSPB'!#REF!,\"\")","v":{"$error":"#REF!"}},{"$f":"IF(RIGHT('CROSS PSPB'!#REF!,3)=\" IT\",'CROSS PSPB'!#REF!,\"\")","v":{"$error":"#REF!"}},{"$f":"IF(RIGHT('CROSS PSPB'!#REF!,3)=\" IT\",'CROSS PSPB'!#REF!,\"\")","v":{"$error":"#REF!"}},{"$f":"IF(RIGHT('CROSS PSPB'!#REF!,3)=\" IT\",'CROSS PSPB'!#REF!,\"\")","v":{"$error":"#REF!"}},{"$f":"IF(RIGHT('CROSS PSPB'!#REF!,3)=\" IT\",'CROSS PSPB'!#REF!,\"\")","v":{"$error":"#REF!"}},{"$f":"IF(RIGHT('CROSS PSPB'!#REF!,3)=\" IT\",'CROSS PSPB'!#REF!,\"\")","v":{"$error":"#REF!"}},{"$f":"IF(RIGHT('CROSS PSPB'!#REF!,3)=\" IT\",'CROSS PSPB'!#REF!,\"\")","v":{"$error":"#REF!"}},{"$f":"IF(RIGHT('CROSS PSPB'!#REF!,3)=\" IT\",'CROSS PSPB'!#REF!,\"\")","v":{"$error":"#REF!"}},{"$f":"IF(RIGHT('CROSS PSPB'!#REF!,3)=\" IT\",'CROSS PSPB'!#REF!,\"\")","v":{"$error":"#REF!"}},{"$f":"IF(RIGHT('CROSS PSPB'!#REF!,3)=\" IT\",'CROSS PSPB'!#REF!,\"\")","v":{"$error":"#REF!"}},{"$f":"IF(RIGHT('CROSS PSPB'!#REF!,3)=\" IT\",'CROSS PSPB'!#REF!,\"\")","v":{"$error":"#REF!"}},{"$f":"IF(RIGHT('CROSS PSPB'!#REF!,3)=\" IT\",'CROSS PSPB'!#REF!,\"\")","v":{"$error":"#REF!"}},{"$f":"IF(RIGHT('CROSS PSPB'!#REF!,3)=\" IT\",'CROSS PSPB'!#REF!,\"\")","v":{"$error":"#REF!"}},{"$f":"IF(RIGHT('CROSS PSPB'!#REF!,3)=\" IT\",'CROSS PSPB'!#REF!,\"\")","v":{"$error":"#REF!"}},{"$f":"IF(RIGHT('CROSS PSPB'!#REF!,3)=\" IT\",'CROSS PSPB'!#REF!,\"\")","v":{"$error":"#REF!"}},{"$f":"IF(RIGHT('CROSS PSPB'!#REF!,3)=\" IT\",'CROSS PSPB'!#REF!,\"\")","v":{"$error":"#REF!"}},{"$f":"IF(RIGHT('CROSS PSPB'!#REF!,3)=\" IT\",'CROSS PSPB'!#REF!,\"\")","v":{"$error":"#REF!"}},{"$error":"#REF!"},{"$error":"#REF!"},{"$error":"#REF!"},{"$error":"#REF!"}]
[null,{"$f":"IF(RIGHT('CROSS PSPB'!#REF!,3)=\" IT\",'CROSS PSPB'!#REF!,\"\")","v":{"$error":"#REF!"}},{"$f":"IF(RIGHT('CROSS PSPB'!#REF!,3)=\" IT\",'CROSS PSPB'!#REF!,\"\")","v":{"$error":"#REF!"}},{"$f":"IF(RIGHT('CROSS PSPB'!#REF!,3)=\" IT\",'CROSS PSPB'!#REF!,\"\")","v":{"$error":"#REF!"}},{"$f":"IF(RIGHT('CROSS PSPB'!#REF!,3)=\" IT\",'CROSS PSPB'!#REF!,\"\")","v":{"$error":"#REF!"}},{"$f":"IF(RIGHT('CROSS PSPB'!#REF!,3)=\" IT\",'CROSS PSPB'!#REF!,\"\")","v":{"$error":"#REF!"}},{"$f":"IF(RIGHT('CROSS PSPB'!#REF!,3)=\" IT\",'CROSS PSPB'!#REF!,\"\")","v":{"$error":"#REF!"}},{"$f":"IF(RIGHT('CROSS PSPB'!#REF!,3)=\" IT\",'CROSS PSPB'!#REF!,\"\")","v":{"$error":"#REF!"}},{"$f":"IF(RIGHT('CROSS PSPB'!#REF!,3)=\" IT\",'CROSS PSPB'!#REF!,\"\")","v":{"$error":"#REF!"}},{"$f":"IF(RIGHT('CROSS PSPB'!#REF!,3)=\" IT\",'CROSS PSPB'!#REF!,\"\")","v":{"$error":"#REF!"}},{"$f":"IF(RIGHT('CROSS PSPB'!#REF!,3)=\" IT\",'CROSS PSPB'!#REF!,\"\")","v":{"$error":"#REF!"}},{"$f":"IF(RIGHT('CROSS PSPB'!#REF!,3)=\" IT\",'CROSS PSPB'!#REF!,\"\")","v":{"$error":"#REF!"}},{"$f":"IF(RIGHT('CROSS PSPB'!#REF!,3)=\" IT\",'CROSS PSPB'!#REF!,\"\")","v":{"$error":"#REF!"}},{"$f":"IF(RIGHT('CROSS PSPB'!#REF!,3)=\" IT\",'CROSS PSPB'!#REF!,\"\")","v":{"$error":"#REF!"}},{"$f":"IF(RIGHT('CROSS PSPB'!#REF!,3)=\" IT\",'CROSS PSPB'!#REF!,\"\")","v":{"$error":"#REF!"}},{"$f":"IF(RIGHT('CROSS PSPB'!#REF!,3)=\" IT\",'CROSS PSPB'!#REF!,\"\")","v":{"$error":"#REF!"}},{"$f":"IF(RIGHT('CROSS PSPB'!#REF!,3)=\" IT\",'CROSS PSPB'!#REF!,\"\")","v":{"$error":"#REF!"}},{"$f":"IF(RIGHT('CROSS PSPB'!#REF!,3)=\" IT\",'CROSS PSPB'!#REF!,\"\")","v":{"$error":"#REF!"}},{"$f":"IF(RIGHT('CROSS PSPB'!#REF!,3)=\" IT\",'CROSS PSPB'!#REF!,\"\")","v":{"$error":"#REF!"}},{"$f":"IF(RIGHT('CROSS PSPB'!#REF!,3)=\" IT\",'CROSS PSPB'!#REF!,\"\")","v":{"$error":"#REF!"}},{"$f":"IF(RIGHT('CROSS PSPB'!#REF!,3)=\" IT\",'CROSS PSPB'!#REF!,\"\")","v":{"$error":"#REF!"}},{"$f":"IF(RIGHT('CROSS PSPB'!#REF!,3)=\" IT\",'CROSS PSPB'!#REF!,\"\")","v":{"$error":"#REF!"}},{"$f":"IF(RIGHT('CROSS PSPB'!#REF!,3)=\" IT\",'CROSS PSPB'!#REF!,\"\")","v":{"$error":"#REF!"}},{"$f":"IF(RIGHT('CROSS PSPB'!#REF!,3)=\" IT\",'CROSS PSPB'!#REF!,\"\")","v":{"$error":"#REF!"}},{"$f":"IF(RIGHT('CROSS PSPB'!#REF!,3)=\" IT\",'CROSS PSPB'!#REF!,\"\")","v":{"$error":"#REF!"}},{"$f":"IF(RIGHT('CROSS PSPB'!#REF!,3)=\" IT\",'CROSS PSPB'!#REF!,\"\")","v":{"$error":"#REF!"}},{"$f":"IF(RIGHT('CROSS PSPB'!#REF!,3)=\" IT\",'CROSS PSPB'!#REF!,\"\")","v":{"$error":"#REF!"}},{"$f":"IF(RIGHT('CROSS PSPB'!#REF!,3)=\" IT\",'CROSS PSPB'!#REF!,\"\")","v":{"$error":"#REF!"}},{"$f":"IF(RIGHT('CROSS PSPB'!#REF!,3)=\" IT\",'CROSS PSPB'!#REF!,\"\")","v":{"$error":"#REF!"}},{"$f":"IF(RIGHT('CROSS PSPB'!#REF!,3)=\" IT\",'CROSS PSPB'!#REF!,\"\")","v":{"$error":"#REF!"}},{"$f":"IF(RIGHT('CROSS PSPB'!#REF!,3)=\" IT\",'CROSS PSPB'!#REF!,\"\")","v":{"$error":"#REF!"}},{"$f":"IF(RIGHT('CROSS PSPB'!#REF!,3)=\" IT\",'CROSS PSPB'!#REF!,\"\")","v":{"$error":"#REF!"}},{"$f":"IF(RIGHT('CROSS PSPB'!#REF!,3)=\" IT\",'CROSS PSPB'!#REF!,\"\")","v":{"$error":"#REF!"}},{"$f":"IF(RIGHT('CROSS PSPB'!#REF!,3)=\" IT\",'CROSS PSPB'!#REF!,\"\")","v":{"$error":"#REF!"}},{"$f":"IF(RIGHT('CROSS PSPB'!#REF!,3)=\" IT\",'CROSS PSPB'!#REF!,\"\")","v":{"$error":"#REF!"}},{"$f":"IF(RIGHT('CROSS PSPB'!#REF!,3)=\" IT\",'CROSS PSPB'!#REF!,\"\")","v":{"$error":"#REF!"}},{"$f":"IF(RIGHT('CROSS PSPB'!#REF!,3)=\" IT\",'CROSS PSPB'!#REF!,\"\")","v":{"$error":"#REF!"}},{"$f":"IF(RIGHT('CROSS PSPB'!#REF!,3)=\" IT\",'CROSS PSPB'!#REF!,\"\")","v":{"$error":"#REF!"}},{"$f":"IF(RIGHT('CROSS PSPB'!#REF!,3)=\" IT\",'CROSS PSPB'!#REF!,\"\")","v":{"$error":"#REF!"}},{"$f":"IF(RIGHT('CROSS PSPB'!#REF!,3)=\" IT\",'CROSS PSPB'!#REF!,\"\")","v":{"$error":"#REF!"}},{"$f":"IF(RIGHT('CROSS PSPB'!#REF!,3)=\" IT\",'CROSS PSPB'!#REF!,\"\")","v":{"$error":"#REF!"}},{"$f":"IF(RIGHT('CROSS PSPB'!#REF!,3)=\" IT\",'CROSS PSPB'!#REF!,\"\")","v":{"$error":"#REF!"}},{"$f":"IF(RIGHT('CROSS PSPB'!#REF!,3)=\" IT\",'CROSS PSPB'!#REF!,\"\")","v":{"$error":"#REF!"}},{"$f":"IF(RIGHT('CROSS PSPB'!#REF!,3)=\" IT\",'CROSS PSPB'!#REF!,\"\")","v":{"$error":"#REF!"}},{"$f":"IF(RIGHT('CROSS PSPB'!#REF!,3)=\" IT\",'CROSS PSPB'!#REF!,\"\")","v":{"$error":"#REF!"}},{"$f":"IF(RIGHT('CROSS PSPB'!#REF!,3)=\" IT\",'CROSS PSPB'!#REF!,\"\")","v":{"$error":"#REF!"}},{"$f":"IF(RIGHT('CROSS PSPB'!#REF!,3)=\" IT\",'CROSS PSPB'!#REF!,\"\")","v":{"$error":"#REF!"}},{"$f":"IF(RIGHT('CROSS PSPB'!#REF!,3)=\" IT\",'CROSS PSPB'!#REF!,\"\")","v":{"$error":"#REF!"}},{"$f":"IF(RIGHT('CROSS PSPB'!#REF!,3)=\" IT\",'CROSS PSPB'!#REF!,\"\")","v":{"$error":"#REF!"}},{"$f":"IF(RIGHT('CROSS PSPB'!#REF!,3)=\" IT\",'CROSS PSPB'!#REF!,\"\")","v":{"$error":"#REF!"}},{"$f":"IF(RIGHT('CROSS PSPB'!#REF!,3)=\" IT\",'CROSS PSPB'!#REF!,\"\")","v":{"$error":"#REF!"}},{"$f":"IF(RIGHT('CROSS PSPB'!#REF!,3)=\" IT\",'CROSS PSPB'!#REF!,\"\")","v":{"$error":"#REF!"}},{"$error":"#REF!"},{"$error":"#REF!"},{"$error":"#REF!"},{"$error":"#REF!"}]
[null,{"$f":"IF(RIGHT('CROSS PSPB'!$D48,3)=\" IT\",'CROSS PSPB'!B48,\"\")","v":""},{"$f":"IF(RIGHT('CROSS PSPB'!$D48,3)=\" IT\",'CROSS PSPB'!C48,\"\")","v":""},{"$f":"IF(RIGHT('CROSS PSPB'!$D48,3)=\" IT\",'CROSS PSPB'!D48,\"\")","v":""},{"$f":"IF(RIGHT('CROSS PSPB'!$D48,3)=\" IT\",'CROSS PSPB'!E48,\"\")","v":""},{"$f":"IF(RIGHT('CROSS PSPB'!$D48,3)=\" IT\",'CROSS PSPB'!F48,\"\")","v":""},{"$f":"IF(RIGHT('CROSS PSPB'!$D48,3)=\" IT\",'CROSS PSPB'!G48,\"\")","v":""},{"$f":"IF(RIGHT('CROSS PSPB'!$D48,3)=\" IT\",'CROSS PSPB'!H48,\"\")","v":""},{"$f":"IF(RIGHT('CROSS PSPB'!$D48,3)=\" IT\",'CROSS PSPB'!I48,\"\")","v":""},{"$f":"IF(RIGHT('CROSS PSPB'!$D48,3)=\" IT\",'CROSS PSPB'!J48,\"\")","v":""},{"$f":"IF(RIGHT('CROSS PSPB'!$D48,3)=\" IT\",'CROSS PSPB'!K48,\"\")","v":""},{"$f":"IF(RIGHT('CROSS PSPB'!$D48,3)=\" IT\",'CROSS PSPB'!L48,\"\")","v":""},{"$f":"IF(RIGHT('CROSS PSPB'!$D48,3)=\" IT\",'CROSS PSPB'!M48,\"\")","v":""},{"$f":"IF(RIGHT('CROSS PSPB'!$D48,3)=\" IT\",'CROSS PSPB'!N48,\"\")","v":""},{"$f":"IF(RIGHT('CROSS PSPB'!$D48,3)=\" IT\",'CROSS PSPB'!O48,\"\")","v":""},{"$f":"IF(RIGHT('CROSS PSPB'!$D48,3)=\" IT\",'CROSS PSPB'!P48,\"\")","v":""},{"$f":"IF(RIGHT('CROSS PSPB'!$D48,3)=\" IT\",'CROSS PSPB'!Q48,\"\")","v":""},{"$f":"IF(RIGHT('CROSS PSPB'!$D48,3)=\" IT\",'CROSS PSPB'!R48,\"\")","v":""},{"$f":"IF(RIGHT('CROSS PSPB'!$D48,3)=\" IT\",'CROSS PSPB'!S48,\"\")","v":""},{"$f":"IF(RIGHT('CROSS PSPB'!$D48,3)=\" IT\",'CROSS PSPB'!T48,\"\")","v":""},{"$f":"IF(RIGHT('CROSS PSPB'!$D48,3)=\" IT\",'CROSS PSPB'!U48,\"\")","v":""},{"$f":"IF(RIGHT('CROSS PSPB'!$D48,3)=\" IT\",'CROSS PSPB'!V48,\"\")","v":""},{"$f":"IF(RIGHT('CROSS PSPB'!$D48,3)=\" IT\",'CROSS PSPB'!W48,\"\")","v":""},{"$f":"IF(RIGHT('CROSS PSPB'!$D48,3)=\" IT\",'CROSS PSPB'!X48,\"\")","v":""},{"$f":"IF(RIGHT('CROSS PSPB'!$D48,3)=\" IT\",'CROSS PSPB'!Y48,\"\")","v":""},{"$f":"IF(RIGHT('CROSS PSPB'!$D48,3)=\" IT\",'CROSS PSPB'!Z48,\"\")","v":""},{"$f":"IF(RIGHT('CROSS PSPB'!$D48,3)=\" IT\",'CROSS PSPB'!AA48,\"\")","v":""},{"$f":"IF(RIGHT('CROSS PSPB'!$D48,3)=\" IT\",'CROSS PSPB'!AB48,\"\")","v":""},{"$f":"IF(RIGHT('CROSS PSPB'!$D48,3)=\" IT\",'CROSS PSPB'!AC48,\"\")","v":""},{"$f":"IF(RIGHT('CROSS PSPB'!$D48,3)=\" IT\",'CROSS PSPB'!AD48,\"\")","v":""},{"$f":"IF(RIGHT('CROSS PSPB'!$D48,3)=\" IT\",'CROSS PSPB'!AE48,\"\")","v":""},{"$f":"IF(RIGHT('CROSS PSPB'!$D48,3)=\" IT\",'CROSS PSPB'!AF48,\"\")","v":""},{"$f":"IF(RIGHT('CROSS PSPB'!$D48,3)=\" IT\",'CROSS PSPB'!AG48,\"\")","v":""},{"$f":"IF(RIGHT('CROSS PSPB'!$D48,3)=\" IT\",'CROSS PSPB'!AH48,\"\")","v":""},{"$f":"IF(RIGHT('CROSS PSPB'!$D48,3)=\" IT\",'CROSS PSPB'!AI48,\"\")","v":""},{"$f":"IF(RIGHT('CROSS PSPB'!$D48,3)=\" IT\",'CROSS PSPB'!AJ48,\"\")","v":""},{"$f":"IF(RIGHT('CROSS PSPB'!$D48,3)=\" IT\",'CROSS PSPB'!AK48,\"\")","v":""},{"$f":"IF(RIGHT('CROSS PSPB'!$D48,3)=\" IT\",'CROSS PSPB'!AL48,\"\")","v":""},{"$f":"IF(RIGHT('CROSS PSPB'!$D48,3)=\" IT\",'CROSS PSPB'!AM48,\"\")","v":""},{"$f":"IF(RIGHT('CROSS PSPB'!$D48,3)=\" IT\",'CROSS PSPB'!AN48,\"\")","v":""},{"$f":"IF(RIGHT('CROSS PSPB'!$D48,3)=\" IT\",'CROSS PSPB'!AO48,\"\")","v":""},{"$f":"IF(RIGHT('CROSS PSPB'!$D48,3)=\" IT\",'CROSS PSPB'!AP48,\"\")","v":""},{"$f":"IF(RIGHT('CROSS PSPB'!$D48,3)=\" IT\",'CROSS PSPB'!AQ48,\"\")","v":""},{"$f":"IF(RIGHT('CROSS PSPB'!$D48,3)=\" IT\",'CROSS PSPB'!AR48,\"\")","v":""},{"$f":"IF(RIGHT('CROSS PSPB'!$D48,3)=\" IT\",'CROSS PSPB'!AS48,\"\")","v":""},{"$f":"IF(RIGHT('CROSS PSPB'!$D48,3)=\" IT\",'CROSS PSPB'!AT48,\"\")","v":""},{"$f":"IF(RIGHT('CROSS PSPB'!$D48,3)=\" IT\",'CROSS PSPB'!AU48,\"\")","v":""},{"$f":"IF(RIGHT('CROSS PSPB'!$D48,3)=\" IT\",'CROSS PSPB'!AV48,\"\")","v":""},{"$f":"IF(RIGHT('CROSS PSPB'!$D48,3)=\" IT\",'CROSS PSPB'!AW48,\"\")","v":""},{"$f":"IF(RIGHT('CROSS PSPB'!$D48,3)=\" IT\",'CROSS PSPB'!AX48,\"\")","v":""},{"$f":"IF(RIGHT('CROSS PSPB'!$D48,3)=\" IT\",'CROSS PSPB'!AY48,\"\")","v":""},{"$f":"IF(RIGHT('CROSS PSPB'!$D48,3)=\" IT\",'CROSS PSPB'!AZ48,\"\")","v":""},{"$error":"#VALUE!"},{"$error":"#VALUE!"},{"$error":"#VALUE!"},{"$error":"#VALUE!"}]
[null,{"$f":"IF(RIGHT('CROSS PSPB'!$D49,3)=\" IT\",'CROSS PSPB'!B49,\"\")","v":""},{"$f":"IF(RIGHT('CROSS PSPB'!$D49,3)=\" IT\",'CROSS PSPB'!C49,\"\")","v":""},{"$f":"IF(RIGHT('CROSS PSPB'!$D49,3)=\" IT\",'CROSS PSPB'!D49,\"\")","v":""},{"$f":"IF(RIGHT('CROSS PSPB'!$D49,3)=\" IT\",'CROSS PSPB'!E49,\"\")","v":""},{"$f":"IF(RIGHT('CROSS PSPB'!$D49,3)=\" IT\",'CROSS PSPB'!F49,\"\")","v":""},{"$f":"IF(RIGHT('CROSS PSPB'!$D49,3)=\" IT\",'CROSS PSPB'!G49,\"\")","v":""},{"$f":"IF(RIGHT('CROSS PSPB'!$D49,3)=\" IT\",'CROSS PSPB'!H49,\"\")","v":""},{"$f":"IF(RIGHT('CROSS PSPB'!$D49,3)=\" IT\",'CROSS PSPB'!I49,\"\")","v":""},{"$f":"IF(RIGHT('CROSS PSPB'!$D49,3)=\" IT\",'CROSS PSPB'!J49,\"\")","v":""},{"$f":"IF(RIGHT('CROSS PSPB'!$D49,3)=\" IT\",'CROSS PSPB'!K49,\"\")","v":""},{"$f":"IF(RIGHT('CROSS PSPB'!$D49,3)=\" IT\",'CROSS PSPB'!L49,\"\")","v":""},{"$f":"IF(RIGHT('CROSS PSPB'!$D49,3)=\" IT\",'CROSS PSPB'!M49,\"\")","v":""},{"$f":"IF(RIGHT('CROSS PSPB'!$D49,3)=\" IT\",'CROSS PSPB'!N49,\"\")","v":""},{"$f":"IF(RIGHT('CROSS PSPB'!$D49,3)=\" IT\",'CROSS PSPB'!O49,\"\")","v":""},{"$f":"IF(RIGHT('CROSS PSPB'!$D49,3)=\" IT\",'CROSS PSPB'!P49,\"\")","v":""},{"$f":"IF(RIGHT('CROSS PSPB'!$D49,3)=\" IT\",'CROSS PSPB'!Q49,\"\")","v":""},{"$f":"IF(RIGHT('CROSS PSPB'!$D49,3)=\" IT\",'CROSS PSPB'!R49,\"\")","v":""},{"$f":"IF(RIGHT('CROSS PSPB'!$D49,3)=\" IT\",'CROSS PSPB'!S49,\"\")","v":""},{"$f":"IF(RIGHT('CROSS PSPB'!$D49,3)=\" IT\",'CROSS PSPB'!T49,\"\")","v":""},{"$f":"IF(RIGHT('CROSS PSPB'!$D49,3)=\" IT\",'CROSS PSPB'!U49,\"\")","v":""},{"$f":"IF(RIGHT('CROSS PSPB'!$D49,3)=\" IT\",'CROSS PSPB'!V49,\"\")","v":""},{"$f":"IF(RIGHT('CROSS PSPB'!$D49,3)=\" IT\",'CROSS PSPB'!W49,\"\")","v":""},{"$f":"IF(RIGHT('CROSS PSPB'!$D49,3)=\" IT\",'CROSS PSPB'!X49,\"\")","v":""},{"$f":"IF(RIGHT('CROSS PSPB'!$D49,3)=\" IT\",'CROSS PSPB'!Y49,\"\")","v":""},{"$f":"IF(RIGHT('CROSS PSPB'!$D49,3)=\" IT\",'CROSS PSPB'!Z49,\"\")","v":""},{"$f":"IF(RIGHT('CROSS PSPB'!$D49,3)=\" IT\",'CROSS PSPB'!AA49,\"\")","v":""},{"$f":"IF(RIGHT('CROSS PSPB'!$D49,3)=\" IT\",'CROSS PSPB'!AB49,\"\")","v":""},{"$f":"IF(RIGHT('CROSS PSPB'!$D49,3)=\" IT\",'CROSS PSPB'!AC49,\"\")","v":""},{"$f":"IF(RIGHT('CROSS PSPB'!$D49,3)=\" IT\",'CROSS PSPB'!AD49,\"\")","v":""},{"$f":"IF(RIGHT('CROSS PSPB'!$D49,3)=\" IT\",'CROSS PSPB'!AE49,\"\")","v":""},{"$f":"IF(RIGHT('CROSS PSPB'!$D49,3)=\" IT\",'CROSS PSPB'!AF49,\"\")","v":""},{"$f":"IF(RIGHT('CROSS PSPB'!$D49,3)=\" IT\",'CROSS PSPB'!AG49,\"\")","v":""},{"$f":"IF(RIGHT('CROSS PSPB'!$D49,3)=\" IT\",'CROSS PSPB'!AH49,\"\")","v":""},{"$f":"IF(RIGHT('CROSS PSPB'!$D49,3)=\" IT\",'CROSS PSPB'!AI49,\"\")","v":""},{"$f":"IF(RIGHT('CROSS PSPB'!$D49,3)=\" IT\",'CROSS PSPB'!AJ49,\"\")","v":""},{"$f":"IF(RIGHT('CROSS PSPB'!$D49,3)=\" IT\",'CROSS PSPB'!AK49,\"\")","v":""},{"$f":"IF(RIGHT('CROSS PSPB'!$D49,3)=\" IT\",'CROSS PSPB'!AL49,\"\")","v":""},{"$f":"IF(RIGHT('CROSS PSPB'!$D49,3)=\" IT\",'CROSS PSPB'!AM49,\"\")","v":""},{"$f":"IF(RIGHT('CROSS PSPB'!$D49,3)=\" IT\",'CROSS PSPB'!AN49,\"\")","v":""},{"$f":"IF(RIGHT('CROSS PSPB'!$D49,3)=\" IT\",'CROSS PSPB'!AO49,\"\")","v":""},{"$f":"IF(RIGHT('CROSS PSPB'!$D49,3)=\" IT\",'CROSS PSPB'!AP49,\"\")","v":""},{"$f":"IF(RIGHT('CROSS PSPB'!$D49,3)=\" IT\",'CROSS PSPB'!AQ49,\"\")","v":""},{"$f":"IF(RIGHT('CROSS PSPB'!$D49,3)=\" IT\",'CROSS PSPB'!AR49,\"\")","v":""},{"$f":"IF(RIGHT('CROSS PSPB'!$D49,3)=\" IT\",'CROSS PSPB'!AS49,\"\")","v":""},{"$f":"IF(RIGHT('CROSS PSPB'!$D49,3)=\" IT\",'CROSS PSPB'!AT49,\"\")","v":""},{"$f":"IF(RIGHT('CROSS PSPB'!$D49,3)=\" IT\",'CROSS PSPB'!AU49,\"\")","v":""},{"$f":"IF(RIGHT('CROSS PSPB'!$D49,3)=\" IT\",'CROSS PSPB'!AV49,\"\")","v":""},{"$f":"IF(RIGHT('CROSS PSPB'!$D49,3)=\" IT\",'CROSS PSPB'!AW49,\"\")","v":""},{"$f":"IF(RIGHT('CROSS PSPB'!$D49,3)=\" IT\",'CROSS PSPB'!AX49,\"\")","v":""},{"$f":"IF(RIGHT('CROSS PSPB'!$D49,3)=\" IT\",'CROSS PSPB'!AY49,\"\")","v":""},{"$f":"IF(RIGHT('CROSS PSPB'!$D49,3)=\" IT\",'CROSS PSPB'!AZ49,\"\")","v":""},{"$error":"#VALUE!"},{"$error":"#VALUE!"},{"$error":"#VALUE!"},{"$error":"#VALUE!"}]
[null,{"$f":"IF(RIGHT('CROSS PSPB'!$D50,3)=\" IT\",'CROSS PSPB'!B50,\"\")","v":""},{"$f":"IF(RIGHT('CROSS PSPB'!$D50,3)=\" IT\",'CROSS PSPB'!C50,\"\")","v":""},{"$f":"IF(RIGHT('CROSS PSPB'!$D50,3)=\" IT\",'CROSS PSPB'!D50,\"\")","v":""},{"$f":"IF(RIGHT('CROSS PSPB'!$D50,3)=\" IT\",'CROSS PSPB'!E50,\"\")","v":""},{"$f":"IF(RIGHT('CROSS PSPB'!$D50,3)=\" IT\",'CROSS PSPB'!F50,\"\")","v":""},{"$f":"IF(RIGHT('CROSS PSPB'!$D50,3)=\" IT\",'CROSS PSPB'!G50,\"\")","v":""},{"$f":"IF(RIGHT('CROSS PSPB'!$D50,3)=\" IT\",'CROSS PSPB'!H50,\"\")","v":""},{"$f":"IF(RIGHT('CROSS PSPB'!$D50,3)=\" IT\",'CROSS PSPB'!I50,\"\")","v":""},{"$f":"IF(RIGHT('CROSS PSPB'!$D50,3)=\" IT\",'CROSS PSPB'!J50,\"\")","v":""},{"$f":"IF(RIGHT('CROSS PSPB'!$D50,3)=\" IT\",'CROSS PSPB'!K50,\"\")","v":""},{"$f":"IF(RIGHT('CROSS PSPB'!$D50,3)=\" IT\",'CROSS PSPB'!L50,\"\")","v":""},{"$f":"IF(RIGHT('CROSS PSPB'!$D50,3)=\" IT\",'CROSS PSPB'!M50,\"\")","v":""},{"$f":"IF(RIGHT('CROSS PSPB'!$D50,3)=\" IT\",'CROSS PSPB'!N50,\"\")","v":""},{"$f":"IF(RIGHT('CROSS PSPB'!$D50,3)=\" IT\",'CROSS PSPB'!O50,\"\")","v":""},{"$f":"IF(RIGHT('CROSS PSPB'!$D50,3)=\" IT\",'CROSS PSPB'!P50,\"\")","v":""},{"$f":"IF(RIGHT('CROSS PSPB'!$D50,3)=\" IT\",'CROSS PSPB'!Q50,\"\")","v":""},{"$f":"IF(RIGHT('CROSS PSPB'!$D50,3)=\" IT\",'CROSS PSPB'!R50,\"\")","v":""},{"$f":"IF(RIGHT('CROSS PSPB'!$D50,3)=\" IT\",'CROSS PSPB'!S50,\"\")","v":""},{"$f":"IF(RIGHT('CROSS PSPB'!$D50,3)=\" IT\",'CROSS PSPB'!T50,\"\")","v":""},{"$f":"IF(RIGHT('CROSS PSPB'!$D50,3)=\" IT\",'CROSS PSPB'!U50,\"\")","v":""},{"$f":"IF(RIGHT('CROSS PSPB'!$D50,3)=\" IT\",'CROSS PSPB'!V50,\"\")","v":""},{"$f":"IF(RIGHT('CROSS PSPB'!$D50,3)=\" IT\",'CROSS PSPB'!W50,\"\")","v":""},{"$f":"IF(RIGHT('CROSS PSPB'!$D50,3)=\" IT\",'CROSS PSPB'!X50,\"\")","v":""},{"$f":"IF(RIGHT('CROSS PSPB'!$D50,3)=\" IT\",'CROSS PSPB'!Y50,\"\")","v":""},{"$f":"IF(RIGHT('CROSS PSPB'!$D50,3)=\" IT\",'CROSS PSPB'!Z50,\"\")","v":""},{"$f":"IF(RIGHT('CROSS PSPB'!$D50,3)=\" IT\",'CROSS PSPB'!AA50,\"\")","v":""},{"$f":"IF(RIGHT('CROSS PSPB'!$D50,3)=\" IT\",'CROSS PSPB'!AB50,\"\")","v":""},{"$f":"IF(RIGHT('CROSS PSPB'!$D50,3)=\" IT\",'CROSS PSPB'!AC50,\"\")","v":""},{"$f":"IF(RIGHT('CROSS PSPB'!$D50,3)=\" IT\",'CROSS PSPB'!AD50,\"\")","v":""},{"$f":"IF(RIGHT('CROSS PSPB'!$D50,3)=\" IT\",'CROSS PSPB'!AE50,\"\")","v":""},{"$f":"IF(RIGHT('CROSS PSPB'!$D50,3)=\" IT\",'CROSS PSPB'!AF50,\"\")","v":""},{"$f":"IF(RIGHT('CROSS PSPB'!$D50,3)=\" IT\",'CROSS PSPB'!AG50,\"\")","v":""},{"$f":"IF(RIGHT('CROSS PSPB'!$D50,3)=\" IT\",'CROSS PSPB'!AH50,\"\")","v":""},{"$f":"IF(RIGHT('CROSS PSPB'!$D50,3)=\" IT\",'CROSS PSPB'!AI50,\"\")","v":""},{"$f":"IF(RIGHT('CROSS PSPB'!$D50,3)=\" IT\",'CROSS PSPB'!AJ50,\"\")","v":""},{"$f":"IF(RIGHT('CROSS PSPB'!$D50,3)=\" IT\",'CROSS PSPB'!AK50,\"\")","v":""},{"$f":"IF(RIGHT('CROSS PSPB'!$D50,3)=\" IT\",'CROSS PSPB'!AL50,\"\")","v":""},{"$f":"IF(RIGHT('CROSS PSPB'!$D50,3)=\" IT\",'CROSS PSPB'!AM50,\"\")","v":""},{"$f":"IF(RIGHT('CROSS PSPB'!$D50,3)=\" IT\",'CROSS PSPB'!AN50,\"\")","v":""},{"$f":"IF(RIGHT('CROSS PSPB'!$D50,3)=\" IT\",'CROSS PSPB'!AO50,\"\")","v":""},{"$f":"IF(RIGHT('CROSS PSPB'!$D50,3)=\" IT\",'CROSS PSPB'!AP50,\"\")","v":""},{"$f":"IF(RIGHT('CROSS PSPB'!$D50,3)=\" IT\",'CROSS PSPB'!AQ50,\"\")","v":""},{"$f":"IF(RIGHT('CROSS PSPB'!$D50,3)=\" IT\",'CROSS PSPB'!AR50,\"\")","v":""},{"$f":"IF(RIGHT('CROSS PSPB'!$D50,3)=\" IT\",'CROSS PSPB'!AS50,\"\")","v":""},{"$f":"IF(RIGHT('CROSS PSPB'!$D50,3)=\" IT\",'CROSS PSPB'!AT50,\"\")","v":""},{"$f":"IF(RIGHT('CROSS PSPB'!$D50,3)=\" IT\",'CROSS PSPB'!AU50,\"\")","v":""},{"$f":"IF(RIGHT('CROSS PSPB'!$D50,3)=\" IT\",'CROSS PSPB'!AV50,\"\")","v":""},{"$f":"IF(RIGHT('CROSS PSPB'!$D50,3)=\" IT\",'CROSS PSPB'!AW50,\"\")","v":""},{"$f":"IF(RIGHT('CROSS PSPB'!$D50,3)=\" IT\",'CROSS PSPB'!AX50,\"\")","v":""},{"$f":"IF(RIGHT('CROSS PSPB'!$D50,3)=\" IT\",'CROSS PSPB'!AY50,\"\")","v":""},{"$f":"IF(RIGHT('CROSS PSPB'!$D50,3)=\" IT\",'CROSS PSPB'!AZ50,\"\")","v":""},{"$error":"#VALUE!"},{"$error":"#VALUE!"},{"$error":"#VALUE!"},{"$error":"#VALUE!"}]
[null,{"$f":"IF(RIGHT('CROSS PSPB'!$D51,3)=\" IT\",'CROSS PSPB'!B51,\"\")","v":""},{"$f":"IF(RIGHT('CROSS PSPB'!$D51,3)=\" IT\",'CROSS PSPB'!C51,\"\")","v":""},{"$f":"IF(RIGHT('CROSS PSPB'!$D51,3)=\" IT\",'CROSS PSPB'!D51,\"\")","v":""},{"$f":"IF(RIGHT('CROSS PSPB'!$D51,3)=\" IT\",'CROSS PSPB'!E51,\"\")","v":""},{"$f":"IF(RIGHT('CROSS PSPB'!$D51,3)=\" IT\",'CROSS PSPB'!F51,\"\")","v":""},{"$f":"IF(RIGHT('CROSS PSPB'!$D51,3)=\" IT\",'CROSS PSPB'!G51,\"\")","v":""},{"$f":"IF(RIGHT('CROSS PSPB'!$D51,3)=\" IT\",'CROSS PSPB'!H51,\"\")","v":""},{"$f":"IF(RIGHT('CROSS PSPB'!$D51,3)=\" IT\",'CROSS PSPB'!I51,\"\")","v":""},{"$f":"IF(RIGHT('CROSS PSPB'!$D51,3)=\" IT\",'CROSS PSPB'!J51,\"\")","v":""},{"$f":"IF(RIGHT('CROSS PSPB'!$D51,3)=\" IT\",'CROSS PSPB'!K51,\"\")","v":""},{"$f":"IF(RIGHT('CROSS PSPB'!$D51,3)=\" IT\",'CROSS PSPB'!L51,\"\")","v":""},{"$f":"IF(RIGHT('CROSS PSPB'!$D51,3)=\" IT\",'CROSS PSPB'!M51,\"\")","v":""},{"$f":"IF(RIGHT('CROSS PSPB'!$D51,3)=\" IT\",'CROSS PSPB'!N51,\"\")","v":""},{"$f":"IF(RIGHT('CROSS PSPB'!$D51,3)=\" IT\",'CROSS PSPB'!O51,\"\")","v":""},{"$f":"IF(RIGHT('CROSS PSPB'!$D51,3)=\" IT\",'CROSS PSPB'!P51,\"\")","v":""},{"$f":"IF(RIGHT('CROSS PSPB'!$D51,3)=\" IT\",'CROSS PSPB'!Q51,\"\")","v":""},{"$f":"IF(RIGHT('CROSS PSPB'!$D51,3)=\" IT\",'CROSS PSPB'!R51,\"\")","v":""},{"$f":"IF(RIGHT('CROSS PSPB'!$D51,3)=\" IT\",'CROSS PSPB'!S51,\"\")","v":""},{"$f":"IF(RIGHT('CROSS PSPB'!$D51,3)=\" IT\",'CROSS PSPB'!T51,\"\")","v":""},{"$f":"IF(RIGHT('CROSS PSPB'!$D51,3)=\" IT\",'CROSS PSPB'!U51,\"\")","v":""},{"$f":"IF(RIGHT('CROSS PSPB'!$D51,3)=\" IT\",'CROSS PSPB'!V51,\"\")","v":""},{"$f":"IF(RIGHT('CROSS PSPB'!$D51,3)=\" IT\",'CROSS PSPB'!W51,\"\")","v":""},{"$f":"IF(RIGHT('CROSS PSPB'!$D51,3)=\" IT\",'CROSS PSPB'!X51,\"\")","v":""},{"$f":"IF(RIGHT('CROSS PSPB'!$D51,3)=\" IT\",'CROSS PSPB'!Y51,\"\")","v":""},{"$f":"IF(RIGHT('CROSS PSPB'!$D51,3)=\" IT\",'CROSS PSPB'!Z51,\"\")","v":""},{"$f":"IF(RIGHT('CROSS PSPB'!$D51,3)=\" IT\",'CROSS PSPB'!AA51,\"\")","v":""},{"$f":"IF(RIGHT('CROSS PSPB'!$D51,3)=\" IT\",'CROSS PSPB'!AB51,\"\")","v":""},{"$f":"IF(RIGHT('CROSS PSPB'!$D51,3)=\" IT\",'CROSS PSPB'!AC51,\"\")","v":""},{"$f":"IF(RIGHT('CROSS PSPB'!$D51,3)=\" IT\",'CROSS PSPB'!AD51,\"\")","v":""},{"$f":"IF(RIGHT('CROSS PSPB'!$D51,3)=\" IT\",'CROSS PSPB'!AE51,\"\")","v":""},{"$f":"IF(RIGHT('CROSS PSPB'!$D51,3)=\" IT\",'CROSS PSPB'!AF51,\"\")","v":""},{"$f":"IF(RIGHT('CROSS PSPB'!$D51,3)=\" IT\",'CROSS PSPB'!AG51,\"\")","v":""},{"$f":"IF(RIGHT('CROSS PSPB'!$D51,3)=\" IT\",'CROSS PSPB'!AH51,\"\")","v":""},{"$f":"IF(RIGHT('CROSS PSPB'!$D51,3)=\" IT\",'CROSS PSPB'!AI51,\"\")","v":""},{"$f":"IF(RIGHT('CROSS PSPB'!$D51,3)=\" IT\",'CROSS PSPB'!AJ51,\"\")","v":""},{"$f":"IF(RIGHT('CROSS PSPB'!$D51,3)=\" IT\",'CROSS PSPB'!AK51,\"\")","v":""},{"$f":"IF(RIGHT('CROSS PSPB'!$D51,3)=\" IT\",'CROSS PSPB'!AL51,\"\")","v":""},{"$f":"IF(RIGHT('CROSS PSPB'!$D51,3)=\" IT\",'CROSS PSPB'!AM51,\"\")","v":""},{"$f":"IF(RIGHT('CROSS PSPB'!$D51,3)=\" IT\",'CROSS PSPB'!AN51,\"\")","v":""},{"$f":"IF(RIGHT('CROSS PSPB'!$D51,3)=\" IT\",'CROSS PSPB'!AO51,\"\")","v":""},{"$f":"IF(RIGHT('CROSS PSPB'!$D51,3)=\" IT\",'CROSS PSPB'!AP51,\"\")","v":""},{"$f":"IF(RIGHT('CROSS PSPB'!$D51,3)=\" IT\",'CROSS PSPB'!AQ51,\"\")","v":""},{"$f":"IF(RIGHT('CROSS PSPB'!$D51,3)=\" IT\",'CROSS PSPB'!AR51,\"\")","v":""},{"$f":"IF(RIGHT('CROSS PSPB'!$D51,3)=\" IT\",'CROSS PSPB'!AS51,\"\")","v":""},{"$f":"IF(RIGHT('CROSS PSPB'!$D51,3)=\" IT\",'CROSS PSPB'!AT51,\"\")","v":""},{"$f":"IF(RIGHT('CROSS PSPB'!$D51,3)=\" IT\",'CROSS PSPB'!AU51,\"\")","v":""},{"$f":"IF(RIGHT('CROSS PSPB'!$D51,3)=\" IT\",'CROSS PSPB'!AV51,\"\")","v":""},{"$f":"IF(RIGHT('CROSS PSPB'!$D51,3)=\" IT\",'CROSS PSPB'!AW51,\"\")","v":""},{"$f":"IF(RIGHT('CROSS PSPB'!$D51,3)=\" IT\",'CROSS PSPB'!AX51,\"\")","v":""},{"$f":"IF(RIGHT('CROSS PSPB'!$D51,3)=\" IT\",'CROSS PSPB'!AY51,\"\")","v":""},{"$f":"IF(RIGHT('CROSS PSPB'!$D51,3)=\" IT\",'CROSS PSPB'!AZ51,\"\")","v":""},{"$f":"SUM(I89,M89,Q89,U89,Y89,AC89,AG89,AK89,AO89,AS89,AW89)-E89","v":{"$error":"#VALUE!"}},{"$error":"#VALUE!"},{"$error":"#VALUE!"},{"$error":"#VALUE!"}]
[null,0," ",0,0,0,0,0,0,0,0,0,0,0,0,0,0,0,0,0,0,0,0,0,0,0,0,0,0,0,0,0,0,0,0,0,0,0,0,0,0,0,0,0,0,0,0,0,0,0,0,0]
["TOTAL",{"$nulls":3},{"$f":"SUM(E12:E90)","v":{"$error":"#REF!"}},{"$error":"#REF!"},{"$error":"#REF!"},{"$error":"#REF!"},{"$error":"#REF!"},{"$error":"#REF!"},{"$error":"#REF!"},{"$error":"#REF!"},{"$error":"#REF!"},{"$error":"#REF!"},{"$error":"#REF!"},{"$error":"#REF!"},{"$error":"#REF!"},{"$error":"#REF!"},{"$error":"#REF!"},{"$error":"#REF!"},{"$error":"#REF!"},{"$error":"#REF!"},{"$error":"#REF!"},{"$error":"#REF!"},{"$error":"#REF!"},{"$error":"#REF!"},{"$error":"#REF!"},{"$error":"#REF!"},{"$error":"#REF!"},{"$error":"#REF!"},{"$error":"#REF!"},{"$error":"#REF!"},{"$error":"#REF!"},{"$error":"#REF!"},{"$error":"#REF!"},{"$error":"#REF!"},{"$error":"#REF!"},{"$error":"#REF!"},{"$error":"#REF!"},{"$error":"#REF!"},{"$error":"#REF!"},{"$error":"#REF!"},{"$error":"#REF!"},{"$error":"#REF!"},{"$error":"#REF!"},{"$error":"#REF!"},{"$error":"#REF!"},{"$error":"#REF!"},{"$error":"#REF!"},{"$error":"#REF!"},{"$error":"#REF!"},{"$error":"#REF!"},{"$f":"SUM(I91,M91,Q91,U91,Y91,AC91,AG91,AK91,AO91,AS91,AW91)-E91","v":{"$error":"#REF!"}},{"$f":"SUM(J91,N91,R91,V91,Z91,AD91,AH91,AL91,AP91,AT91,AX91)-F91","v":{"$error":"#REF!"}},{"$f":"SUM(K91,O91,S91,W91,AA91,AE91,AI91,AM91,AQ91,AU91,AY91)-G91","v":{"$error":"#REF!"}},{"$f":"SUM(L91,P91,T91,X91,AB91,AF91,AJ91,AN91,AR91,AV91,AZ91)-H91","v":{"$error":"#REF!"}}]
[]
["ALLOCATED",{"$nulls":3},{"$f":"I91+M91+Q91+U91+Y91+AC91+AG91+AK91+AO91+AS91+AW91","v":{"$error":"#REF!"}},{"$f":"J91+N91+R91+V91+Z91+AD91+AH91+AL91+AP91+AT91+AX91","v":{"$error":"#REF!"}},{"$f":"K91+O91+S91+W91+AA91+AE91+AI91+AM91+AQ91+AU91+AY91","v":{"$error":"#REF!"}},{"$f":"L91+P91+T91+X91+AB91+AF91+AJ91+AN91+AR91+AV91+AZ91","v":{"$error":"#REF!"}}]
[]
["DIFFERENCE",{"$nulls":3},{"$f":"E91-E93","v":{"$error":"#REF!"}},{"$f":"F91-F93","v":{"$error":"#REF!"}},{"$f":"G91-G93","v":{"$error":"#REF!"}},{"$f":"H91-H93","v":{"$error":"#REF!"}}]
[]
[]
["ADJUSTMENTS",0,0,0,0,0,0,0,0,0,0,0,0,0,0,0,0,0,0,0,0,0,0,0,0,0,0,0,0,0,0,0,0,0,0,0,0,0,0,0,0,0,0,0,0,0,0,0,0,0,0,0]
["GAL 4-91",{"$f":"IF(RIGHT('CROSS PSPB'!$D89,3)=\" IT\",'CROSS PSPB'!B89,\"\")","v":""},{"$f":"IF(RIGHT('CROSS PSPB'!$D89,3)=\" IT\",'CROSS PSPB'!C89,\"\")","v":""},{"$f":"IF(RIGHT('CROSS PSPB'!$D89,3)=\" IT\",'CROSS PSPB'!D89,\"\")","v":""},{"$f":"IF(RIGHT('CROSS PSPB'!$D89,3)=\" IT\",'CROSS PSPB'!E89,\"\")","v":""},{"$f":"IF(RIGHT('CROSS PSPB'!$D89,3)=\" IT\",'CROSS PSPB'!F89,\"\")","v":""},{"$f":"IF(RIGHT('CROSS PSPB'!$D89,3)=\" IT\",'CROSS PSPB'!G89,\"\")","v":""},{"$f":"IF(RIGHT('CROSS PSPB'!$D89,3)=\" IT\",'CROSS PSPB'!H89,\"\")","v":""},{"$f":"IF(RIGHT('CROSS PSPB'!$D89,3)=\" IT\",'CROSS PSPB'!I89,\"\")","v":""},{"$f":"IF(RIGHT('CROSS PSPB'!$D89,3)=\" IT\",'CROSS PSPB'!J89,\"\")","v":""},{"$f":"IF(RIGHT('CROSS PSPB'!$D89,3)=\" IT\",'CROSS PSPB'!K89,\"\")","v":""},{"$f":"IF(RIGHT('CROSS PSPB'!$D89,3)=\" IT\",'CROSS PSPB'!L89,\"\")","v":""},{"$f":"IF(RIGHT('CROSS PSPB'!$D89,3)=\" IT\",'CROSS PSPB'!M89,\"\")","v":""},{"$f":"IF(RIGHT('CROSS PSPB'!$D89,3)=\" IT\",'CROSS PSPB'!N89,\"\")","v":""},{"$f":"IF(RIGHT('CROSS PSPB'!$D89,3)=\" IT\",'CROSS PSPB'!O89,\"\")","v":""},{"$f":"IF(RIGHT('CROSS PSPB'!$D89,3)=\" IT\",'CROSS PSPB'!P89,\"\")","v":""},{"$f":"IF(RIGHT('CROSS PSPB'!$D89,3)=\" IT\",'CROSS PSPB'!Q89,\"\")","v":""},{"$f":"IF(RIGHT('CROSS PSPB'!$D89,3)=\" IT\",'CROSS PSPB'!R89,\"\")","v":""},{"$f":"IF(RIGHT('CROSS PSPB'!$D89,3)=\" IT\",'CROSS PSPB'!S89,\"\")","v":""},{"$f":"IF(RIGHT('CROSS PSPB'!$D89,3)=\" IT\",'CROSS PSPB'!T89,\"\")","v":""},{"$f":"IF(RIGHT('CROSS PSPB'!$D89,3)=\" IT\",'CROSS PSPB'!U89,\"\")","v":""},{"$f":"IF(RIGHT('CROSS PSPB'!$D89,3)=\" IT\",'CROSS PSPB'!V89,\"\")","v":""},{"$f":"IF(RIGHT('CROSS PSPB'!$D89,3)=\" IT\",'CROSS PSPB'!W89,\"\")","v":""},{"$f":"IF(RIGHT('CROSS PSPB'!$D89,3)=\" IT\",'CROSS PSPB'!X89,\"\")","v":""},{"$f":"IF(RIGHT('CROSS PSPB'!$D89,3)=\" IT\",'CROSS PSPB'!Y89,\"\")","v":""},{"$f":"IF(RIGHT('CROSS PSPB'!$D89,3)=\" IT\",'CROSS PSPB'!Z89,\"\")","v":""},{"$f":"IF(RIGHT('CROSS PSPB'!$D89,3)=\" IT\",'CROSS PSPB'!AA89,\"\")","v":""},{"$f":"IF(RIGHT('CROSS PSPB'!$D89,3)=\" IT\",'CROSS PSPB'!AB89,\"\")","v":""},{"$f":"IF(RIGHT('CROSS PSPB'!$D89,3)=\" IT\",'CROSS PSPB'!AC89,\"\")","v":""},{"$f":"IF(RIGHT('CROSS PSPB'!$D89,3)=\" IT\",'CROSS PSPB'!AD89,\"\")","v":""},{"$f":"IF(RIGHT('CROSS PSPB'!$D89,3)=\" IT\",'CROSS PSPB'!AE89,\"\")","v":""},{"$f":"IF(RIGHT('CROSS PSPB'!$D89,3)=\" IT\",'CROSS PSPB'!AF89,\"\")","v":""},{"$f":"IF(RIGHT('CROSS PSPB'!$D89,3)=\" IT\",'CROSS PSPB'!AG89,\"\")","v":""},{"$f":"IF(RIGHT('CROSS PSPB'!$D89,3)=\" IT\",'CROSS PSPB'!AH89,\"\")","v":""},{"$f":"IF(RIGHT('CROSS PSPB'!$D89,3)=\" IT\",'CROSS PSPB'!AI89,\"\")","v":""},{"$f":"IF(RIGHT('CROSS PSPB'!$D89,3)=\" IT\",'CROSS PSPB'!AJ89,\"\")","v":""},{"$f":"IF(RIGHT('CROSS PSPB'!$D89,3)=\" IT\",'CROSS PSPB'!AK89,\"\")","v":""},{"$f":"IF(RIGHT('CROSS PSPB'!$D89,3)=\" IT\",'CROSS PSPB'!AL89,\"\")","v":""},{"$f":"IF(RIGHT('CROSS PSPB'!$D89,3)=\" IT\",'CROSS PSPB'!AM89,\"\")","v":""},{"$f":"IF(RIGHT('CROSS PSPB'!$D89,3)=\" IT\",'CROSS PSPB'!AN89,\"\")","v":""},{"$f":"IF(RIGHT('CROSS PSPB'!$D89,3)=\" IT\",'CROSS PSPB'!AO89,\"\")","v":""},{"$f":"IF(RIGHT('CROSS PSPB'!$D89,3)=\" IT\",'CROSS PSPB'!AP89,\"\")","v":""},{"$f":"IF(RIGHT('CROSS PSPB'!$D89,3)=\" IT\",'CROSS PSPB'!AQ89,\"\")","v":""},{"$f":"IF(RIGHT('CROSS PSPB'!$D89,3)=\" IT\",'CROSS PSPB'!AR89,\"\")","v":""},{"$f":"IF(RIGHT('CROSS PSPB'!$D89,3)=\" IT\",'CROSS PSPB'!AS89,\"\")","v":""},{"$f":"IF(RIGHT('CROSS PSPB'!$D89,3)=\" IT\",'CROSS PSPB'!AT89,\"\")","v":""},{"$f":"IF(RIGHT('CROSS PSPB'!$D89,3)=\" IT\",'CROSS PSPB'!AU89,\"\")","v":""},{"$f":"IF(RIGHT('CROSS PSPB'!$D89,3)=\" IT\",'CROSS PSPB'!AV89,\"\")","v":""},{"$f":"IF(RIGHT('CROSS PSPB'!$D89,3)=\" IT\",'CROSS PSPB'!AW89,\"\")","v":""},{"$f":"IF(RIGHT('CROSS PSPB'!$D89,3)=\" IT\",'CROSS PSPB'!AX89,\"\")","v":""},{"$f":"IF(RIGHT('CROSS PSPB'!$D89,3)=\" IT\",'CROSS PSPB'!AY89,\"\")","v":""},{"$f":"IF(RIGHT('CROSS PSPB'!$D89,3)=\" IT\",'CROSS PSPB'!AZ89,\"\")","v":""},{"$f":"SUM(I99,M99,Q99,U99,Y99,AC99,AG99,AK99,AO99,AS99,AW99)-E99","v":{"$error":"#VALUE!"}},{"$f":"SUM(J99,N99,R99,V99,Z99,AD99,AH99,AL99,AP99,AT99,AX99)-F99","v":{"$error":"#VALUE!"}},{"$f":"SUM(K99,O99,S99,W99,AA99,AE99,AI99,AM99,AQ99,AU99,AY99)-G99","v":{"$error":"#VALUE!"}},{"$f":"SUM(L99,P99,T99,X99,AB99,AF99,AJ99,AN99,AR99,AV99,AZ99)-H99","v":{"$error":"#VALUE!"}}]
[null,{"$f":"IF(RIGHT('CROSS PSPB'!$D90,3)=\" IT\",'CROSS PSPB'!B90,\"\")","v":""},{"$f":"IF(RIGHT('CROSS PSPB'!$D90,3)=\" IT\",'CROSS PSPB'!C90,\"\")","v":""},{"$f":"IF(RIGHT('CROSS PSPB'!$D90,3)=\" IT\",'CROSS PSPB'!D90,\"\")","v":""},{"$f":"IF(RIGHT('CROSS PSPB'!$D90,3)=\" IT\",'CROSS PSPB'!E90,\"\")","v":""},{"$f":"IF(RIGHT('CROSS PSPB'!$D90,3)=\" IT\",'CROSS PSPB'!F90,\"\")","v":""},{"$f":"IF(RIGHT('CROSS PSPB'!$D90,3)=\" IT\",'CROSS PSPB'!G90,\"\")","v":""},{"$f":"IF(RIGHT('CROSS PSPB'!$D90,3)=\" IT\",'CROSS PSPB'!H90,\"\")","v":""},{"$f":"IF(RIGHT('CROSS PSPB'!$D90,3)=\" IT\",'CROSS PSPB'!I90,\"\")","v":""},{"$f":"IF(RIGHT('CROSS PSPB'!$D90,3)=\" IT\",'CROSS PSPB'!J90,\"\")","v":""},{"$f":"IF(RIGHT('CROSS PSPB'!$D90,3)=\" IT\",'CROSS PSPB'!K90,\"\")","v":""},{"$f":"IF(RIGHT('CROSS PSPB'!$D90,3)=\" IT\",'CROSS PSPB'!L90,\"\")","v":""},{"$f":"IF(RIGHT('CROSS PSPB'!$D90,3)=\" IT\",'CROSS PSPB'!M90,\"\")","v":""},{"$f":"IF(RIGHT('CROSS PSPB'!$D90,3)=\" IT\",'CROSS PSPB'!N90,\"\")","v":""},{"$f":"IF(RIGHT('CROSS PSPB'!$D90,3)=\" IT\",'CROSS PSPB'!O90,\"\")","v":""},{"$f":"IF(RIGHT('CROSS PSPB'!$D90,3)=\" IT\",'CROSS PSPB'!P90,\"\")","v":""},{"$f":"IF(RIGHT('CROSS PSPB'!$D90,3)=\" IT\",'CROSS PSPB'!Q90,\"\")","v":""},{"$f":"IF(RIGHT('CROSS PSPB'!$D90,3)=\" IT\",'CROSS PSPB'!R90,\"\")","v":""},{"$f":"IF(RIGHT('CROSS PSPB'!$D90,3)=\" IT\",'CROSS PSPB'!S90,\"\")","v":""},{"$f":"IF(RIGHT('CROSS PSPB'!$D90,3)=\" IT\",'CROSS PSPB'!T90,\"\")","v":""},{"$f":"IF(RIGHT('CROSS PSPB'!$D90,3)=\" IT\",'CROSS PSPB'!U90,\"\")","v":""},{"$f":"IF(RIGHT('CROSS PSPB'!$D90,3)=\" IT\",'CROSS PSPB'!V90,\"\")","v":""},{"$f":"IF(RIGHT('CROSS PSPB'!$D90,3)=\" IT\",'CROSS PSPB'!W90,\"\")","v":""},{"$f":"IF(RIGHT('CROSS PSPB'!$D90,3)=\" IT\",'CROSS PSPB'!X90,\"\")","v":""},{"$f":"IF(RIGHT('CROSS PSPB'!$D90,3)=\" IT\",'CROSS PSPB'!Y90,\"\")","v":""},{"$f":"IF(RIGHT('CROSS PSPB'!$D90,3)=\" IT\",'CROSS PSPB'!Z90,\"\")","v":""},{"$f":"IF(RIGHT('CROSS PSPB'!$D90,3)=\" IT\",'CROSS PSPB'!AA90,\"\")","v":""},{"$f":"IF(RIGHT('CROSS PSPB'!$D90,3)=\" IT\",'CROSS PSPB'!AB90,\"\")","v":""},{"$f":"IF(RIGHT('CROSS PSPB'!$D90,3)=\" IT\",'CROSS PSPB'!AC90,\"\")","v":""},{"$f":"IF(RIGHT('CROSS PSPB'!$D90,3)=\" IT\",'CROSS PSPB'!AD90,\"\")","v":""},{"$f":"IF(RIGHT('CROSS PSPB'!$D90,3)=\" IT\",'CROSS PSPB'!AE90,\"\")","v":""},{"$f":"IF(RIGHT('CROSS PSPB'!$D90,3)=\" IT\",'CROSS PSPB'!AF90,\"\")","v":""},{"$f":"IF(RIGHT('CROSS PSPB'!$D90,3)=\" IT\",'CROSS PSPB'!AG90,\"\")","v":""},{"$f":"IF(RIGHT('CROSS PSPB'!$D90,3)=\" IT\",'CROSS PSPB'!AH90,\"\")","v":""},{"$f":"IF(RIGHT('CROSS PSPB'!$D90,3)=\" IT\",'CROSS PSPB'!AI90,\"\")","v":""},{"$f":"IF(RIGHT('CROSS PSPB'!$D90,3)=\" IT\",'CROSS PSPB'!AJ90,\"\")","v":""},{"$f":"IF(RIGHT('CROSS PSPB'!$D90,3)=\" IT\",'CROSS PSPB'!AK90,\"\")","v":""},{"$f":"IF(RIGHT('CROSS PSPB'!$D90,3)=\" IT\",'CROSS PSPB'!AL90,\"\")","v":""},{"$f":"IF(RIGHT('CROSS PSPB'!$D90,3)=\" IT\",'CROSS PSPB'!AM90,\"\")","v":""},{"$f":"IF(RIGHT('CROSS PSPB'!$D90,3)=\" IT\",'CROSS PSPB'!AN90,\"\")","v":""},{"$f":"IF(RIGHT('CROSS PSPB'!$D90,3)=\" IT\",'CROSS PSPB'!AO90,\"\")","v":""},{"$f":"IF(RIGHT('CROSS PSPB'!$D90,3)=\" IT\",'CROSS PSPB'!AP90,\"\")","v":""},{"$f":"IF(RIGHT('CROSS PSPB'!$D90,3)=\" IT\",'CROSS PSPB'!AQ90,\"\")","v":""},{"$f":"IF(RIGHT('CROSS PSPB'!$D90,3)=\" IT\",'CROSS PSPB'!AR90,\"\")","v":""},{"$f":"IF(RIGHT('CROSS PSPB'!$D90,3)=\" IT\",'CROSS PSPB'!AS90,\"\")","v":""},{"$f":"IF(RIGHT('CROSS PSPB'!$D90,3)=\" IT\",'CROSS PSPB'!AT90,\"\")","v":""},{"$f":"IF(RIGHT('CROSS PSPB'!$D90,3)=\" IT\",'CROSS PSPB'!AU90,\"\")","v":""},{"$f":"IF(RIGHT('CROSS PSPB'!$D90,3)=\" IT\",'CROSS PSPB'!AV90,\"\")","v":""},{"$f":"IF(RIGHT('CROSS PSPB'!$D90,3)=\" IT\",'CROSS PSPB'!AW90,\"\")","v":""},{"$f":"IF(RIGHT('CROSS PSPB'!$D90,3)=\" IT\",'CROSS PSPB'!AX90,\"\")","v":""},{"$f":"IF(RIGHT('CROSS PSPB'!$D90,3)=\" IT\",'CROSS PSPB'!AY90,\"\")","v":""},{"$f":"IF(RIGHT('CROSS PSPB'!$D90,3)=\" IT\",'CROSS PSPB'!AZ90,\"\")","v":""},{"$f":"SUM(I100,M100,Q100,U100,Y100,AC100,AG100,AK100,AO100,AS100,AW100)-E100","v":{"$error":"#VALUE!"}},{"$error":"#VALUE!"},{"$error":"#VALUE!"},{"$error":"#VALUE!"}]
[null,{"$f":"IF(RIGHT('CROSS PSPB'!$D91,3)=\" IT\",'CROSS PSPB'!B91,\"\")","v":""},{"$f":"IF(RIGHT('CROSS PSPB'!$D91,3)=\" IT\",'CROSS PSPB'!C91,\"\")","v":""},{"$f":"IF(RIGHT('CROSS PSPB'!$D91,3)=\" IT\",'CROSS PSPB'!D91,\"\")","v":""},{"$f":"IF(RIGHT('CROSS PSPB'!$D91,3)=\" IT\",'CROSS PSPB'!E91,\"\")","v":""},{"$f":"IF(RIGHT('CROSS PSPB'!$D91,3)=\" IT\",'CROSS PSPB'!F91,\"\")","v":""},{"$f":"IF(RIGHT('CROSS PSPB'!$D91,3)=\" IT\",'CROSS PSPB'!G91,\"\")","v":""},{"$f":"IF(RIGHT('CROSS PSPB'!$D91,3)=\" IT\",'CROSS PSPB'!H91,\"\")","v":""},{"$f":"IF(RIGHT('CROSS PSPB'!$D91,3)=\" IT\",'CROSS PSPB'!I91,\"\")","v":""},{"$f":"IF(RIGHT('CROSS PSPB'!$D91,3)=\" IT\",'CROSS PSPB'!J91,\"\")","v":""},{"$f":"IF(RIGHT('CROSS PSPB'!$D91,3)=\" IT\",'CROSS PSPB'!K91,\"\")","v":""},{"$f":"IF(RIGHT('CROSS PSPB'!$D91,3)=\" IT\",'CROSS PSPB'!L91,\"\")","v":""},{"$f":"IF(RIGHT('CROSS PSPB'!$D91,3)=\" IT\",'CROSS PSPB'!M91,\"\")","v":""},{"$f":"IF(RIGHT('CROSS PSPB'!$D91,3)=\" IT\",'CROSS PSPB'!N91,\"\")","v":""},{"$f":"IF(RIGHT('CROSS PSPB'!$D91,3)=\" IT\",'CROSS PSPB'!O91,\"\")","v":""},{"$f":"IF(RIGHT('CROSS PSPB'!$D91,3)=\" IT\",'CROSS PSPB'!P91,\"\")","v":""},{"$f":"IF(RIGHT('CROSS PSPB'!$D91,3)=\" IT\",'CROSS PSPB'!Q91,\"\")","v":""},{"$f":"IF(RIGHT('CROSS PSPB'!$D91,3)=\" IT\",'CROSS PSPB'!R91,\"\")","v":""},{"$f":"IF(RIGHT('CROSS PSPB'!$D91,3)=\" IT\",'CROSS PSPB'!S91,\"\")","v":""},{"$f":"IF(RIGHT('CROSS PSPB'!$D91,3)=\" IT\",'CROSS PSPB'!T91,\"\")","v":""},{"$f":"IF(RIGHT('CROSS PSPB'!$D91,3)=\" IT\",'CROSS PSPB'!U91,\"\")","v":""},{"$f":"IF(RIGHT('CROSS PSPB'!$D91,3)=\" IT\",'CROSS PSPB'!V91,\"\")","v":""},{"$f":"IF(RIGHT('CROSS PSPB'!$D91,3)=\" IT\",'CROSS PSPB'!W91,\"\")","v":""},{"$f":"IF(RIGHT('CROSS PSPB'!$D91,3)=\" IT\",'CROSS PSPB'!X91,\"\")","v":""},{"$f":"IF(RIGHT('CROSS PSPB'!$D91,3)=\" IT\",'CROSS PSPB'!Y91,\"\")","v":""},{"$f":"IF(RIGHT('CROSS PSPB'!$D91,3)=\" IT\",'CROSS PSPB'!Z91,\"\")","v":""},{"$f":"IF(RIGHT('CROSS PSPB'!$D91,3)=\" IT\",'CROSS PSPB'!AA91,\"\")","v":""},{"$f":"IF(RIGHT('CROSS PSPB'!$D91,3)=\" IT\",'CROSS PSPB'!AB91,\"\")","v":""},{"$f":"IF(RIGHT('CROSS PSPB'!$D91,3)=\" IT\",'CROSS PSPB'!AC91,\"\")","v":""},{"$f":"IF(RIGHT('CROSS PSPB'!$D91,3)=\" IT\",'CROSS PSPB'!AD91,\"\")","v":""},{"$f":"IF(RIGHT('CROSS PSPB'!$D91,3)=\" IT\",'CROSS PSPB'!AE91,\"\")","v":""},{"$f":"IF(RIGHT('CROSS PSPB'!$D91,3)=\" IT\",'CROSS PSPB'!AF91,\"\")","v":""},{"$f":"IF(RIGHT('CROSS PSPB'!$D91,3)=\" IT\",'CROSS PSPB'!AG91,\"\")","v":""},{"$f":"IF(RIGHT('CROSS PSPB'!$D91,3)=\" IT\",'CROSS PSPB'!AH91,\"\")","v":""},{"$f":"IF(RIGHT('CROSS PSPB'!$D91,3)=\" IT\",'CROSS PSPB'!AI91,\"\")","v":""},{"$f":"IF(RIGHT('CROSS PSPB'!$D91,3)=\" IT\",'CROSS PSPB'!AJ91,\"\")","v":""},{"$f":"IF(RIGHT('CROSS PSPB'!$D91,3)=\" IT\",'CROSS PSPB'!AK91,\"\")","v":""},{"$f":"IF(RIGHT('CROSS PSPB'!$D91,3)=\" IT\",'CROSS PSPB'!AL91,\"\")","v":""},{"$f":"IF(RIGHT('CROSS PSPB'!$D91,3)=\" IT\",'CROSS PSPB'!AM91,\"\")","v":""},{"$f":"IF(RIGHT('CROSS PSPB'!$D91,3)=\" IT\",'CROSS PSPB'!AN91,\"\")","v":""},{"$f":"IF(RIGHT('CROSS PSPB'!$D91,3)=\" IT\",'CROSS PSPB'!AO91,\"\")","v":""},{"$f":"IF(RIGHT('CROSS PSPB'!$D91,3)=\" IT\",'CROSS PSPB'!AP91,\"\")","v":""},{"$f":"IF(RIGHT('CROSS PSPB'!$D91,3)=\" IT\",'CROSS PSPB'!AQ91,\"\")","v":""},{"$f":"IF(RIGHT('CROSS PSPB'!$D91,3)=\" IT\",'CROSS PSPB'!AR91,\"\")","v":""},{"$f":"IF(RIGHT('CROSS PSPB'!$D91,3)=\" IT\",'CROSS PSPB'!AS91,\"\")","v":""},{"$f":"IF(RIGHT('CROSS PSPB'!$D91,3)=\" IT\",'CROSS PSPB'!AT91,\"\")","v":""},{"$f":"IF(RIGHT('CROSS PSPB'!$D91,3)=\" IT\",'CROSS PSPB'!AU91,\"\")","v":""},{"$f":"IF(RIGHT('CROSS PSPB'!$D91,3)=\" IT\",'CROSS PSPB'!AV91,\"\")","v":""},{"$f":"IF(RIGHT('CROSS PSPB'!$D91,3)=\" IT\",'CROSS PSPB'!AW91,\"\")","v":""},{"$f":"IF(RIGHT('CROSS PSPB'!$D91,3)=\" IT\",'CROSS PSPB'!AX91,\"\")","v":""},{"$f":"IF(RIGHT('CROSS PSPB'!$D91,3)=\" IT\",'CROSS PSPB'!AY91,\"\")","v":""},{"$f":"IF(RIGHT('CROSS PSPB'!$D91,3)=\" IT\",'CROSS PSPB'!AZ91,\"\")","v":""},{"$error":"#VALUE!"},{"$error":"#VALUE!"},{"$error":"#VALUE!"},{"$error":"#VALUE!"}]
[null,{"$f":"IF(RIGHT('CROSS PSPB'!$D92,3)=\" IT\",'CROSS PSPB'!B92,\"\")","v":""},{"$f":"IF(RIGHT('CROSS PSPB'!$D92,3)=\" IT\",'CROSS PSPB'!C92,\"\")","v":""},{"$f":"IF(RIGHT('CROSS PSPB'!$D92,3)=\" IT\",'CROSS PSPB'!D92,\"\")","v":""},{"$f":"IF(RIGHT('CROSS PSPB'!$D92,3)=\" IT\",'CROSS PSPB'!E92,\"\")","v":""},{"$f":"IF(RIGHT('CROSS PSPB'!$D92,3)=\" IT\",'CROSS PSPB'!F92,\"\")","v":""},{"$f":"IF(RIGHT('CROSS PSPB'!$D92,3)=\" IT\",'CROSS PSPB'!G92,\"\")","v":""},{"$f":"IF(RIGHT('CROSS PSPB'!$D92,3)=\" IT\",'CROSS PSPB'!H92,\"\")","v":""},{"$f":"IF(RIGHT('CROSS PSPB'!$D92,3)=\" IT\",'CROSS PSPB'!I92,\"\")","v":""},{"$f":"IF(RIGHT('CROSS PSPB'!$D92,3)=\" IT\",'CROSS PSPB'!J92,\"\")","v":""},{"$f":"IF(RIGHT('CROSS PSPB'!$D92,3)=\" IT\",'CROSS PSPB'!K92,\"\")","v":""},{"$f":"IF(RIGHT('CROSS PSPB'!$D92,3)=\" IT\",'CROSS PSPB'!L92,\"\")","v":""},{"$f":"IF(RIGHT('CROSS PSPB'!$D92,3)=\" IT\",'CROSS PSPB'!M92,\"\")","v":""},{"$f":"IF(RIGHT('CROSS PSPB'!$D92,3)=\" IT\",'CROSS PSPB'!N92,\"\")","v":""},{"$f":"IF(RIGHT('CROSS PSPB'!$D92,3)=\" IT\",'CROSS PSPB'!O92,\"\")","v":""},{"$f":"IF(RIGHT('CROSS PSPB'!$D92,3)=\" IT\",'CROSS PSPB'!P92,\"\")","v":""},{"$f":"IF(RIGHT('CROSS PSPB'!$D92,3)=\" IT\",'CROSS PSPB'!Q92,\"\")","v":""},{"$f":"IF(RIGHT('CROSS PSPB'!$D92,3)=\" IT\",'CROSS PSPB'!R92,\"\")","v":""},{"$f":"IF(RIGHT('CROSS PSPB'!$D92,3)=\" IT\",'CROSS PSPB'!S92,\"\")","v":""},{"$f":"IF(RIGHT('CROSS PSPB'!$D92,3)=\" IT\",'CROSS PSPB'!T92,\"\")","v":""},{"$f":"IF(RIGHT('CROSS PSPB'!$D92,3)=\" IT\",'CROSS PSPB'!U92,\"\")","v":""},{"$f":"IF(RIGHT('CROSS PSPB'!$D92,3)=\" IT\",'CROSS PSPB'!V92,\"\")","v":""},{"$f":"IF(RIGHT('CROSS PSPB'!$D92,3)=\" IT\",'CROSS PSPB'!W92,\"\")","v":""},{"$f":"IF(RIGHT('CROSS PSPB'!$D92,3)=\" IT\",'CROSS PSPB'!X92,\"\")","v":""},{"$f":"IF(RIGHT('CROSS PSPB'!$D92,3)=\" IT\",'CROSS PSPB'!Y92,\"\")","v":""},{"$f":"IF(RIGHT('CROSS PSPB'!$D92,3)=\" IT\",'CROSS PSPB'!Z92,\"\")","v":""},{"$f":"IF(RIGHT('CROSS PSPB'!$D92,3)=\" IT\",'CROSS PSPB'!AA92,\"\")","v":""},{"$f":"IF(RIGHT('CROSS PSPB'!$D92,3)=\" IT\",'CROSS PSPB'!AB92,\"\")","v":""},{"$f":"IF(RIGHT('CROSS PSPB'!$D92,3)=\" IT\",'CROSS PSPB'!AC92,\"\")","v":""},{"$f":"IF(RIGHT('CROSS PSPB'!$D92,3)=\" IT\",'CROSS PSPB'!AD92,\"\")","v":""},{"$f":"IF(RIGHT('CROSS PSPB'!$D92,3)=\" IT\",'CROSS PSPB'!AE92,\"\")","v":""},{"$f":"IF(RIGHT('CROSS PSPB'!$D92,3)=\" IT\",'CROSS PSPB'!AF92,\"\")","v":""},{"$f":"IF(RIGHT('CROSS PSPB'!$D92,3)=\" IT\",'CROSS PSPB'!AG92,\"\")","v":""},{"$f":"IF(RIGHT('CROSS PSPB'!$D92,3)=\" IT\",'CROSS PSPB'!AH92,\"\")","v":""},{"$f":"IF(RIGHT('CROSS PSPB'!$D92,3)=\" IT\",'CROSS PSPB'!AI92,\"\")","v":""},{"$f":"IF(RIGHT('CROSS PSPB'!$D92,3)=\" IT\",'CROSS PSPB'!AJ92,\"\")","v":""},{"$f":"IF(RIGHT('CROSS PSPB'!$D92,3)=\" IT\",'CROSS PSPB'!AK92,\"\")","v":""},{"$f":"IF(RIGHT('CROSS PSPB'!$D92,3)=\" IT\",'CROSS PSPB'!AL92,\"\")","v":""},{"$f":"IF(RIGHT('CROSS PSPB'!$D92,3)=\" IT\",'CROSS PSPB'!AM92,\"\")","v":""},{"$f":"IF(RIGHT('CROSS PSPB'!$D92,3)=\" IT\",'CROSS PSPB'!AN92,\"\")","v":""},{"$f":"IF(RIGHT('CROSS PSPB'!$D92,3)=\" IT\",'CROSS PSPB'!AO92,\"\")","v":""},{"$f":"IF(RIGHT('CROSS PSPB'!$D92,3)=\" IT\",'CROSS PSPB'!AP92,\"\")","v":""},{"$f":"IF(RIGHT('CROSS PSPB'!$D92,3)=\" IT\",'CROSS PSPB'!AQ92,\"\")","v":""},{"$f":"IF(RIGHT('CROSS PSPB'!$D92,3)=\" IT\",'CROSS PSPB'!AR92,\"\")","v":""},{"$f":"IF(RIGHT('CROSS PSPB'!$D92,3)=\" IT\",'CROSS PSPB'!AS92,\"\")","v":""},{"$f":"IF(RIGHT('CROSS PSPB'!$D92,3)=\" IT\",'CROSS PSPB'!AT92,\"\")","v":""},{"$f":"IF(RIGHT('CROSS PSPB'!$D92,3)=\" IT\",'CROSS PSPB'!AU92,\"\")","v":""},{"$f":"IF(RIGHT('CROSS PSPB'!$D92,3)=\" IT\",'CROSS PSPB'!AV92,\"\")","v":""},{"$f":"IF(RIGHT('CROSS PSPB'!$D92,3)=\" IT\",'CROSS PSPB'!AW92,\"\")","v":""},{"$f":"IF(RIGHT('CROSS PSPB'!$D92,3)=\" IT\",'CROSS PSPB'!AX92,\"\")","v":""},{"$f":"IF(RIGHT('CROSS PSPB'!$D92,3)=\" IT\",'CROSS PSPB'!AY92,\"\")","v":""},{"$f":"IF(RIGHT('CROSS PSPB'!$D92,3)=\" IT\",'CROSS PSPB'!AZ92,\"\")","v":""},{"$error":"#VALUE!"},{"$error":"#VALUE!"},{"$error":"#VALUE!"},{"$error":"#VALUE!"}]
[null,{"$f":"IF(RIGHT('CROSS PSPB'!$D93,3)=\" IT\",'CROSS PSPB'!B93,\"\")","v":""},{"$f":"IF(RIGHT('CROSS PSPB'!$D93,3)=\" IT\",'CROSS PSPB'!C93,\"\")","v":""},{"$f":"IF(RIGHT('CROSS PSPB'!$D93,3)=\" IT\",'CROSS PSPB'!D93,\"\")","v":""},{"$f":"IF(RIGHT('CROSS PSPB'!$D93,3)=\" IT\",'CROSS PSPB'!E93,\"\")","v":""},{"$f":"IF(RIGHT('CROSS PSPB'!$D93,3)=\" IT\",'CROSS PSPB'!F93,\"\")","v":""},{"$f":"IF(RIGHT('CROSS PSPB'!$D93,3)=\" IT\",'CROSS PSPB'!G93,\"\")","v":""},{"$f":"IF(RIGHT('CROSS PSPB'!$D93,3)=\" IT\",'CROSS PSPB'!H93,\"\")","v":""},{"$f":"IF(RIGHT('CROSS PSPB'!$D93,3)=\" IT\",'CROSS PSPB'!I93,\"\")","v":""},{"$f":"IF(RIGHT('CROSS PSPB'!$D93,3)=\" IT\",'CROSS PSPB'!J93,\"\")","v":""},{"$f":"IF(RIGHT('CROSS PSPB'!$D93,3)=\" IT\",'CROSS PSPB'!K93,\"\")","v":""},{"$f":"IF(RIGHT('CROSS PSPB'!$D93,3)=\" IT\",'CROSS PSPB'!L93,\"\")","v":""},{"$f":"IF(RIGHT('CROSS PSPB'!$D93,3)=\" IT\",'CROSS PSPB'!M93,\"\")","v":""},{"$f":"IF(RIGHT('CROSS PSPB'!$D93,3)=\" IT\",'CROSS PSPB'!N93,\"\")","v":""},{"$f":"IF(RIGHT('CROSS PSPB'!$D93,3)=\" IT\",'CROSS PSPB'!O93,\"\")","v":""},{"$f":"IF(RIGHT('CROSS PSPB'!$D93,3)=\" IT\",'CROSS PSPB'!P93,\"\")","v":""},{"$f":"IF(RIGHT('CROSS PSPB'!$D93,3)=\" IT\",'CROSS PSPB'!Q93,\"\")","v":""},{"$f":"IF(RIGHT('CROSS PSPB'!$D93,3)=\" IT\",'CROSS PSPB'!R93,\"\")","v":""},{"$f":"IF(RIGHT('CROSS PSPB'!$D93,3)=\" IT\",'CROSS PSPB'!S93,\"\")","v":""},{"$f":"IF(RIGHT('CROSS PSPB'!$D93,3)=\" IT\",'CROSS PSPB'!T93,\"\")","v":""},{"$f":"IF(RIGHT('CROSS PSPB'!$D93,3)=\" IT\",'CROSS PSPB'!U93,\"\")","v":""},{"$f":"IF(RIGHT('CROSS PSPB'!$D93,3)=\" IT\",'CROSS PSPB'!V93,\"\")","v":""},{"$f":"IF(RIGHT('CROSS PSPB'!$D93,3)=\" IT\",'CROSS PSPB'!W93,\"\")","v":""},{"$f":"IF(RIGHT('CROSS PSPB'!$D93,3)=\" IT\",'CROSS PSPB'!X93,\"\")","v":""},{"$f":"IF(RIGHT('CROSS PSPB'!$D93,3)=\" IT\",'CROSS PSPB'!Y93,\"\")","v":""},{"$f":"IF(RIGHT('CROSS PSPB'!$D93,3)=\" IT\",'CROSS PSPB'!Z93,\"\")","v":""},{"$f":"IF(RIGHT('CROSS PSPB'!$D93,3)=\" IT\",'CROSS PSPB'!AA93,\"\")","v":""},{"$f":"IF(RIGHT('CROSS PSPB'!$D93,3)=\" IT\",'CROSS PSPB'!AB93,\"\")","v":""},{"$f":"IF(RIGHT('CROSS PSPB'!$D93,3)=\" IT\",'CROSS PSPB'!AC93,\"\")","v":""},{"$f":"IF(RIGHT('CROSS PSPB'!$D93,3)=\" IT\",'CROSS PSPB'!AD93,\"\")","v":""},{"$f":"IF(RIGHT('CROSS PSPB'!$D93,3)=\" IT\",'CROSS PSPB'!AE93,\"\")","v":""},{"$f":"IF(RIGHT('CROSS PSPB'!$D93,3)=\" IT\",'CROSS PSPB'!AF93,\"\")","v":""},{"$f":"IF(RIGHT('CROSS PSPB'!$D93,3)=\" IT\",'CROSS PSPB'!AG93,\"\")","v":""},{"$f":"IF(RIGHT('CROSS PSPB'!$D93,3)=\" IT\",'CROSS PSPB'!AH93,\"\")","v":""},{"$f":"IF(RIGHT('CROSS PSPB'!$D93,3)=\" IT\",'CROSS PSPB'!AI93,\"\")","v":""},{"$f":"IF(RIGHT('CROSS PSPB'!$D93,3)=\" IT\",'CROSS PSPB'!AJ93,\"\")","v":""},{"$f":"IF(RIGHT('CROSS PSPB'!$D93,3)=\" IT\",'CROSS PSPB'!AK93,\"\")","v":""},{"$f":"IF(RIGHT('CROSS PSPB'!$D93,3)=\" IT\",'CROSS PSPB'!AL93,\"\")","v":""},{"$f":"IF(RIGHT('CROSS PSPB'!$D93,3)=\" IT\",'CROSS PSPB'!AM93,\"\")","v":""},{"$f":"IF(RIGHT('CROSS PSPB'!$D93,3)=\" IT\",'CROSS PSPB'!AN93,\"\")","v":""},{"$f":"IF(RIGHT('CROSS PSPB'!$D93,3)=\" IT\",'CROSS PSPB'!AO93,\"\")","v":""},{"$f":"IF(RIGHT('CROSS PSPB'!$D93,3)=\" IT\",'CROSS PSPB'!AP93,\"\")","v":""},{"$f":"IF(RIGHT('CROSS PSPB'!$D93,3)=\" IT\",'CROSS PSPB'!AQ93,\"\")","v":""},{"$f":"IF(RIGHT('CROSS PSPB'!$D93,3)=\" IT\",'CROSS PSPB'!AR93,\"\")","v":""},{"$f":"IF(RIGHT('CROSS PSPB'!$D93,3)=\" IT\",'CROSS PSPB'!AS93,\"\")","v":""},{"$f":"IF(RIGHT('CROSS PSPB'!$D93,3)=\" IT\",'CROSS PSPB'!AT93,\"\")","v":""},{"$f":"IF(RIGHT('CROSS PSPB'!$D93,3)=\" IT\",'CROSS PSPB'!AU93,\"\")","v":""},{"$f":"IF(RIGHT('CROSS PSPB'!$D93,3)=\" IT\",'CROSS PSPB'!AV93,\"\")","v":""},{"$f":"IF(RIGHT('CROSS PSPB'!$D93,3)=\" IT\",'CROSS PSPB'!AW93,\"\")","v":""},{"$f":"IF(RIGHT('CROSS PSPB'!$D93,3)=\" IT\",'CROSS PSPB'!AX93,\"\")","v":""},{"$f":"IF(RIGHT('CROSS PSPB'!$D93,3)=\" IT\",'CROSS PSPB'!AY93,\"\")","v":""},{"$f":"IF(RIGHT('CROSS PSPB'!$D93,3)=\" IT\",'CROSS PSPB'!AZ93,\"\")","v":""},{"$error":"#VALUE!"},{"$error":"#VALUE!"},{"$error":"#VALUE!"},{"$error":"#VALUE!"}]
[null,{"$f":"IF(RIGHT('CROSS PSPB'!$D94,3)=\" IT\",'CROSS PSPB'!B94,\"\")","v":""},{"$f":"IF(RIGHT('CROSS PSPB'!$D94,3)=\" IT\",'CROSS PSPB'!C94,\"\")","v":""},{"$f":"IF(RIGHT('CROSS PSPB'!$D94,3)=\" IT\",'CROSS PSPB'!D94,\"\")","v":""},{"$f":"IF(RIGHT('CROSS PSPB'!$D94,3)=\" IT\",'CROSS PSPB'!E94,\"\")","v":""},{"$f":"IF(RIGHT('CROSS PSPB'!$D94,3)=\" IT\",'CROSS PSPB'!F94,\"\")","v":""},{"$f":"IF(RIGHT('CROSS PSPB'!$D94,3)=\" IT\",'CROSS PSPB'!G94,\"\")","v":""},{"$f":"IF(RIGHT('CROSS PSPB'!$D94,3)=\" IT\",'CROSS PSPB'!H94,\"\")","v":""},{"$f":"IF(RIGHT('CROSS PSPB'!$D94,3)=\" IT\",'CROSS PSPB'!I94,\"\")","v":""},{"$f":"IF(RIGHT('CROSS PSPB'!$D94,3)=\" IT\",'CROSS PSPB'!J94,\"\")","v":""},{"$f":"IF(RIGHT('CROSS PSPB'!$D94,3)=\" IT\",'CROSS PSPB'!K94,\"\")","v":""},{"$f":"IF(RIGHT('CROSS PSPB'!$D94,3)=\" IT\",'CROSS PSPB'!L94,\"\")","v":""},{"$f":"IF(RIGHT('CROSS PSPB'!$D94,3)=\" IT\",'CROSS PSPB'!M94,\"\")","v":""},{"$f":"IF(RIGHT('CROSS PSPB'!$D94,3)=\" IT\",'CROSS PSPB'!N94,\"\")","v":""},{"$f":"IF(RIGHT('CROSS PSPB'!$D94,3)=\" IT\",'CROSS PSPB'!O94,\"\")","v":""},{"$f":"IF(RIGHT('CROSS PSPB'!$D94,3)=\" IT\",'CROSS PSPB'!P94,\"\")","v":""},{"$f":"IF(RIGHT('CROSS PSPB'!$D94,3)=\" IT\",'CROSS PSPB'!Q94,\"\")","v":""},{"$f":"IF(RIGHT('CROSS PSPB'!$D94,3)=\" IT\",'CROSS PSPB'!R94,\"\")","v":""},{"$f":"IF(RIGHT('CROSS PSPB'!$D94,3)=\" IT\",'CROSS PSPB'!S94,\"\")","v":""},{"$f":"IF(RIGHT('CROSS PSPB'!$D94,3)=\" IT\",'CROSS PSPB'!T94,\"\")","v":""},{"$f":"IF(RIGHT('CROSS PSPB'!$D94,3)=\" IT\",'CROSS PSPB'!U94,\"\")","v":""},{"$f":"IF(RIGHT('CROSS PSPB'!$D94,3)=\" IT\",'CROSS PSPB'!V94,\"\")","v":""},{"$f":"IF(RIGHT('CROSS PSPB'!$D94,3)=\" IT\",'CROSS PSPB'!W94,\"\")","v":""},{"$f":"IF(RIGHT('CROSS PSPB'!$D94,3)=\" IT\",'CROSS PSPB'!X94,\"\")","v":""},{"$f":"IF(RIGHT('CROSS PSPB'!$D94,3)=\" IT\",'CROSS PSPB'!Y94,\"\")","v":""},{"$f":"IF(RIGHT('CROSS PSPB'!$D94,3)=\" IT\",'CROSS PSPB'!Z94,\"\")","v":""},{"$f":"IF(RIGHT('CROSS PSPB'!$D94,3)=\" IT\",'CROSS PSPB'!AA94,\"\")","v":""},{"$f":"IF(RIGHT('CROSS PSPB'!$D94,3)=\" IT\",'CROSS PSPB'!AB94,\"\")","v":""},{"$f":"IF(RIGHT('CROSS PSPB'!$D94,3)=\" IT\",'CROSS PSPB'!AC94,\"\")","v":""},{"$f":"IF(RIGHT('CROSS PSPB'!$D94,3)=\" IT\",'CROSS PSPB'!AD94,\"\")","v":""},{"$f":"IF(RIGHT('CROSS PSPB'!$D94,3)=\" IT\",'CROSS PSPB'!AE94,\"\")","v":""},{"$f":"IF(RIGHT('CROSS PSPB'!$D94,3)=\" IT\",'CROSS PSPB'!AF94,\"\")","v":""},{"$f":"IF(RIGHT('CROSS PSPB'!$D94,3)=\" IT\",'CROSS PSPB'!AG94,\"\")","v":""},{"$f":"IF(RIGHT('CROSS PSPB'!$D94,3)=\" IT\",'CROSS PSPB'!AH94,\"\")","v":""},{"$f":"IF(RIGHT('CROSS PSPB'!$D94,3)=\" IT\",'CROSS PSPB'!AI94,\"\")","v":""},{"$f":"IF(RIGHT('CROSS PSPB'!$D94,3)=\" IT\",'CROSS PSPB'!AJ94,\"\")","v":""},{"$f":"IF(RIGHT('CROSS PSPB'!$D94,3)=\" IT\",'CROSS PSPB'!AK94,\"\")","v":""},{"$f":"IF(RIGHT('CROSS PSPB'!$D94,3)=\" IT\",'CROSS PSPB'!AL94,\"\")","v":""},{"$f":"IF(RIGHT('CROSS PSPB'!$D94,3)=\" IT\",'CROSS PSPB'!AM94,\"\")","v":""},{"$f":"IF(RIGHT('CROSS PSPB'!$D94,3)=\" IT\",'CROSS PSPB'!AN94,\"\")","v":""},{"$f":"IF(RIGHT('CROSS PSPB'!$D94,3)=\" IT\",'CROSS PSPB'!AO94,\"\")","v":""},{"$f":"IF(RIGHT('CROSS PSPB'!$D94,3)=\" IT\",'CROSS PSPB'!AP94,\"\")","v":""},{"$f":"IF(RIGHT('CROSS PSPB'!$D94,3)=\" IT\",'CROSS PSPB'!AQ94,\"\")","v":""},{"$f":"IF(RIGHT('CROSS PSPB'!$D94,3)=\" IT\",'CROSS PSPB'!AR94,\"\")","v":""},{"$f":"IF(RIGHT('CROSS PSPB'!$D94,3)=\" IT\",'CROSS PSPB'!AS94,\"\")","v":""},{"$f":"IF(RIGHT('CROSS PSPB'!$D94,3)=\" IT\",'CROSS PSPB'!AT94,\"\")","v":""},{"$f":"IF(RIGHT('CROSS PSPB'!$D94,3)=\" IT\",'CROSS PSPB'!AU94,\"\")","v":""},{"$f":"IF(RIGHT('CROSS PSPB'!$D94,3)=\" IT\",'CROSS PSPB'!AV94,\"\")","v":""},{"$f":"IF(RIGHT('CROSS PSPB'!$D94,3)=\" IT\",'CROSS PSPB'!AW94,\"\")","v":""},{"$f":"IF(RIGHT('CROSS PSPB'!$D94,3)=\" IT\",'CROSS PSPB'!AX94,\"\")","v":""},{"$f":"IF(RIGHT('CROSS PSPB'!$D94,3)=\" IT\",'CROSS PSPB'!AY94,\"\")","v":""},{"$f":"IF(RIGHT('CROSS PSPB'!$D94,3)=\" IT\",'CROSS PSPB'!AZ94,\"\")","v":""},{"$error":"#VALUE!"},{"$error":"#VALUE!"},{"$error":"#VALUE!"},{"$error":"#VALUE!"}]
[null,{"$f":"IF(RIGHT('CROSS PSPB'!$D95,3)=\" IT\",'CROSS PSPB'!B95,\"\")","v":""},{"$f":"IF(RIGHT('CROSS PSPB'!$D95,3)=\" IT\",'CROSS PSPB'!C95,\"\")","v":""},{"$f":"IF(RIGHT('CROSS PSPB'!$D95,3)=\" IT\",'CROSS PSPB'!D95,\"\")","v":""},{"$f":"IF(RIGHT('CROSS PSPB'!$D95,3)=\" IT\",'CROSS PSPB'!E95,\"\")","v":""},{"$f":"IF(RIGHT('CROSS PSPB'!$D95,3)=\" IT\",'CROSS PSPB'!F95,\"\")","v":""},{"$f":"IF(RIGHT('CROSS PSPB'!$D95,3)=\" IT\",'CROSS PSPB'!G95,\"\")","v":""},{"$f":"IF(RIGHT('CROSS PSPB'!$D95,3)=\" IT\",'CROSS PSPB'!H95,\"\")","v":""},{"$f":"IF(RIGHT('CROSS PSPB'!$D95,3)=\" IT\",'CROSS PSPB'!I95,\"\")","v":""},{"$f":"IF(RIGHT('CROSS PSPB'!$D95,3)=\" IT\",'CROSS PSPB'!J95,\"\")","v":""},{"$f":"IF(RIGHT('CROSS PSPB'!$D95,3)=\" IT\",'CROSS PSPB'!K95,\"\")","v":""},{"$f":"IF(RIGHT('CROSS PSPB'!$D95,3)=\" IT\",'CROSS PSPB'!L95,\"\")","v":""},{"$f":"IF(RIGHT('CROSS PSPB'!$D95,3)=\" IT\",'CROSS PSPB'!M95,\"\")","v":""},{"$f":"IF(RIGHT('CROSS PSPB'!$D95,3)=\" IT\",'CROSS PSPB'!N95,\"\")","v":""},{"$f":"IF(RIGHT('CROSS PSPB'!$D95,3)=\" IT\",'CROSS PSPB'!O95,\"\")","v":""},{"$f":"IF(RIGHT('CROSS PSPB'!$D95,3)=\" IT\",'CROSS PSPB'!P95,\"\")","v":""},{"$f":"IF(RIGHT('CROSS PSPB'!$D95,3)=\" IT\",'CROSS PSPB'!Q95,\"\")","v":""},{"$f":"IF(RIGHT('CROSS PSPB'!$D95,3)=\" IT\",'CROSS PSPB'!R95,\"\")","v":""},{"$f":"IF(RIGHT('CROSS PSPB'!$D95,3)=\" IT\",'CROSS PSPB'!S95,\"\")","v":""},{"$f":"IF(RIGHT('CROSS PSPB'!$D95,3)=\" IT\",'CROSS PSPB'!T95,\"\")","v":""},{"$f":"IF(RIGHT('CROSS PSPB'!$D95,3)=\" IT\",'CROSS PSPB'!U95,\"\")","v":""},{"$f":"IF(RIGHT('CROSS PSPB'!$D95,3)=\" IT\",'CROSS PSPB'!V95,\"\")","v":""},{"$f":"IF(RIGHT('CROSS PSPB'!$D95,3)=\" IT\",'CROSS PSPB'!W95,\"\")","v":""},{"$f":"IF(RIGHT('CROSS PSPB'!$D95,3)=\" IT\",'CROSS PSPB'!X95,\"\")","v":""},{"$f":"IF(RIGHT('CROSS PSPB'!$D95,3)=\" IT\",'CROSS PSPB'!Y95,\"\")","v":""},{"$f":"IF(RIGHT('CROSS PSPB'!$D95,3)=\" IT\",'CROSS PSPB'!Z95,\"\")","v":""},{"$f":"IF(RIGHT('CROSS PSPB'!$D95,3)=\" IT\",'CROSS PSPB'!AA95,\"\")","v":""},{"$f":"IF(RIGHT('CROSS PSPB'!$D95,3)=\" IT\",'CROSS PSPB'!AB95,\"\")","v":""},{"$f":"IF(RIGHT('CROSS PSPB'!$D95,3)=\" IT\",'CROSS PSPB'!AC95,\"\")","v":""},{"$f":"IF(RIGHT('CROSS PSPB'!$D95,3)=\" IT\",'CROSS PSPB'!AD95,\"\")","v":""},{"$f":"IF(RIGHT('CROSS PSPB'!$D95,3)=\" IT\",'CROSS PSPB'!AE95,\"\")","v":""},{"$f":"IF(RIGHT('CROSS PSPB'!$D95,3)=\" IT\",'CROSS PSPB'!AF95,\"\")","v":""},{"$f":"IF(RIGHT('CROSS PSPB'!$D95,3)=\" IT\",'CROSS PSPB'!AG95,\"\")","v":""},{"$f":"IF(RIGHT('CROSS PSPB'!$D95,3)=\" IT\",'CROSS PSPB'!AH95,\"\")","v":""},{"$f":"IF(RIGHT('CROSS PSPB'!$D95,3)=\" IT\",'CROSS PSPB'!AI95,\"\")","v":""},{"$f":"IF(RIGHT('CROSS PSPB'!$D95,3)=\" IT\",'CROSS PSPB'!AJ95,\"\")","v":""},{"$f":"IF(RIGHT('CROSS PSPB'!$D95,3)=\" IT\",'CROSS PSPB'!AK95,\"\")","v":""},{"$f":"IF(RIGHT('CROSS PSPB'!$D95,3)=\" IT\",'CROSS PSPB'!AL95,\"\")","v":""},{"$f":"IF(RIGHT('CROSS PSPB'!$D95,3)=\" IT\",'CROSS PSPB'!AM95,\"\")","v":""},{"$f":"IF(RIGHT('CROSS PSPB'!$D95,3)=\" IT\",'CROSS PSPB'!AN95,\"\")","v":""},{"$f":"IF(RIGHT('CROSS PSPB'!$D95,3)=\" IT\",'CROSS PSPB'!AO95,\"\")","v":""},{"$f":"IF(RIGHT('CROSS PSPB'!$D95,3)=\" IT\",'CROSS PSPB'!AP95,\"\")","v":""},{"$f":"IF(RIGHT('CROSS PSPB'!$D95,3)=\" IT\",'CROSS PSPB'!AQ95,\"\")","v":""},{"$f":"IF(RIGHT('CROSS PSPB'!$D95,3)=\" IT\",'CROSS PSPB'!AR95,\"\")","v":""},{"$f":"IF(RIGHT('CROSS PSPB'!$D95,3)=\" IT\",'CROSS PSPB'!AS95,\"\")","v":""},{"$f":"IF(RIGHT('CROSS PSPB'!$D95,3)=\" IT\",'CROSS PSPB'!AT95,\"\")","v":""},{"$f":"IF(RIGHT('CROSS PSPB'!$D95,3)=\" IT\",'CROSS PSPB'!AU95,\"\")","v":""},{"$f":"IF(RIGHT('CROSS PSPB'!$D95,3)=\" IT\",'CROSS PSPB'!AV95,\"\")","v":""},{"$f":"IF(RIGHT('CROSS PSPB'!$D95,3)=\" IT\",'CROSS PSPB'!AW95,\"\")","v":""},{"$f":"IF(RIGHT('CROSS PSPB'!$D95,3)=\" IT\",'CROSS PSPB'!AX95,\"\")","v":""},{"$f":"IF(RIGHT('CROSS PSPB'!$D95,3)=\" IT\",'CROSS PSPB'!AY95,\"\")","v":""},{"$f":"IF(RIGHT('CROSS PSPB'!$D95,3)=\" IT\",'CROSS PSPB'!AZ95,\"\")","v":""},{"$f":"SUM(I105,M105,Q105,U105,Y105,AC105,AG105,AK105,AO105,AS105,AW105)-E105","v":{"$error":"#VALUE!"}},{"$f":"SUM(J105,N105,R105,V105,Z105,AD105,AH105,AL105,AP105,AT105,AX105)-F105","v":{"$error":"#VALUE!"}},{"$f":"SUM(K105,O105,S105,W105,AA105,AE105,AI105,AM105,AQ105,AU105,AY105)-G105","v":{"$error":"#VALUE!"}},{"$f":"SUM(L105,P105,T105,X105,AB105,AF105,AJ105,AN105,AR105,AV105,AZ105)-H105","v":{"$error":"#VALUE!"}}]
[null,0,0,0,0,0,0,0,0,0,0,0,0,0,0,0,0,0,0,0,0,0,0,0,0,0,0,0,0,0,0,0,0,0,0,0,0,0,0,0,0,0,0,0,0,0,0,0,0,0,0,0]
["TOTAL ADJUSTMENTS",{"$nulls":3},{"$f":"SUM(E99:E106)","v":{"v":0,"d":"0.00"}},0,0,{"v":0,"d":"0.00"},{"v":0,"d":"0.00"},0,0,{"v":0,"d":"0.00"},{"v":0,"d":"0.00"},0,0,{"v":0,"d":"0.00"},{"v":0,"d":"0.00"},0,0,{"v":0,"d":"0.00"},{"v":0,"d":"0.00"},0,0,{"v":0,"d":"0.00"},{"v":0,"d":"0.00"},0,0,{"v":0,"d":"0.00"},{"v":0,"d":"0.00"},0,0,{"v":0,"d":"0.00"},{"v":0,"d":"0.00"},0,0,{"v":0,"d":"0.00"},{"v":0,"d":"0.00"},0,0,{"v":0,"d":"0.00"},{"v":0,"d":"0.00"},0,0,{"v":0,"d":"0.00"},{"v":0,"d":"0.00"},0,0,{"v":0,"d":"0.00"},{"v":0,"d":"0.00"},0,0,{"v":0,"d":"0.00"},{"$f":"SUM(I107,M107,Q107,U107,Y107,AC107,AK107,AO107,AS107,AG107,AW107)-E107","v":{"v":0,"d":"0.00"}},{"$f":"SUM(J107,N107,R107,V107,Z107,AD107,AL107,AP107,AT107,AH107,AX107)-F107","v":0},{"$f":"SUM(K107,O107,S107,W107,AA107,AE107,AM107,AQ107,AU107,AI107,AY107)-G107","v":0},{"$f":"SUM(L107,P107,T107,X107,AB107,AF107,AN107,AR107,AV107,AJ107,AZ107)-H107","v":{"v":0,"d":"0.00"}}]
[]
["RJM COSTS",{"$nulls":3},{"$f":"E91-E107","v":{"$error":"#REF!"}},{"$error":"#REF!"},{"$error":"#REF!"},{"$error":"#REF!"},{"$error":"#REF!"},{"$error":"#REF!"},{"$error":"#REF!"},{"$error":"#REF!"},{"$error":"#REF!"},{"$error":"#REF!"},{"$error":"#REF!"},{"$error":"#REF!"},{"$error":"#REF!"},{"$error":"#REF!"},{"$error":"#REF!"},{"$error":"#REF!"},{"$error":"#REF!"},{"$error":"#REF!"},{"$error":"#REF!"},{"$error":"#REF!"},{"$error":"#REF!"},{"$error":"#REF!"},{"$error":"#REF!"},{"$error":"#REF!"},{"$error":"#REF!"},{"$error":"#REF!"},{"$error":"#REF!"},{"$error":"#REF!"},{"$error":"#REF!"},{"$error":"#REF!"},{"$error":"#REF!"},{"$error":"#REF!"},{"$error":"#REF!"},{"$error":"#REF!"},{"$error":"#REF!"},{"$error":"#REF!"},{"$error":"#REF!"},{"$error":"#REF!"},{"$error":"#REF!"},{"$error":"#REF!"},{"$error":"#REF!"},{"$error":"#REF!"},{"$error":"#REF!"},{"$error":"#REF!"},{"$error":"#REF!"},{"$error":"#REF!"},{"$error":"#REF!"},{"$error":"#REF!"},{"$f":"SUM(I109,M109,Q109,U109,Y109,AC109,AK109,AO109,AS109,AG109,AW109)-E109","v":{"$error":"#REF!"}},{"$f":"SUM(J109,N109,R109,V109,Z109,AD109,AL109,AP109,AT109,AH109,AX109)-F109","v":{"$error":"#REF!"}},{"$f":"SUM(K109,O109,S109,W109,AA109,AE109,AM109,AQ109,AU109,AI109,AY109)-G109","v":{"$error":"#REF!"}},{"$f":"SUM(L109,P109,T109,X109,AB109,AF109,AN109,AR109,AV109,AJ109,AZ109)-H109","v":{"$error":"#REF!"}}]
[]
[]
[]
[]
["SHEET IS DESIGNED TO ALLOW ADDITIONAL ROWS TO BE INSERTED - IF DONE MANUALLY INSTEAD OF BY USING BUTTONS AT TOP OF WORKSHEET, COPY FORMULAS IN C13 and FROM H13 through BC13 TO ALL INSERTED ROWS."]
{"$rows_empty":13}
["STATE TABLE"]
["ALABAMA"]
["ALASKA"]
["ARIZONA"]
["ARKANSAS"]
["CALIFORNIA"]
["COLORADO"]
["CONNECTICUT"]
["DELAWARE"]
["DISTRICT OF COLUMBIA"]
["FLORIDA"]
["GEORGIA"]
["HAWAII"]
["IDAHO"]
["ILLINOIS"]
["INDIANA"]
["IOWA"]
["KANSAS"]
["KENTUCKY"]
["LOUISIANA"]
["MAINE"]
["MARYLAND"]
["MASSACHUSETTS"]
["MICHIGAN"]
["MINNESOTA"]
["MISSISSIPPI"]
["MISSOURI"]
["MONTANA"]
["NEBRASKA"]
["NEVADA"]
["NEW HAMPSHIRE"]
["NEW JERSEY"]
["NEW MEXICO"]
["NEW YORK"]
["NORTH CAROLINA"]
["NORTH DAKOTA"]
["OHIO"]
["OKLAHOMA"]
["OREGON"]
["PENNSYLVANIA"]
["PUERTO RICO"]
["RHODE ISLAND"]
["SOUTH CAROLINA"]
["SOUTH DAKOTA"]
["TENNESSEE"]
["TEXAS"]
["UTAH"]
["VERMONT"]
["VIRGIN ISLANDS"]
["VIRGINIA"]
["WASHINGTON"]
["WEST VIRGINIA"]
["WISCONSIN"]
["WYOMING"]
["STATE NAME"]
[]
[]
[]
["SPLIT"]
["SPLIT IT"]
["AS&T"]
["AS&T IT"]
["IC"]
["IC IT"]
["WC"]
["WC IT"]
["NMD"]
["NMD IT"]
["APP"]
["APP IT"]
["WR"]
["WR IT"]
["TAX"]
["TAX IT"]
["BPC"]
["BPC IT"]
["UIP"]
["UIP IT"]
["SUP"]
["SUP IT"]
["NRJM"]
["NRJM IT"]
[]
[]
[]
[]
[{"$nulls":8},{"$f":"IF(OR($D214=\"AS&T\",$D214=\"AS&T IT\"),$E214,\"\")","v":""},{"$f":"IF(OR($D214=\"AS&T\",$D214=\"AS&T IT\"),$F214,\"\")","v":""},{"$f":"IF(OR($D214=\"AS&T\",$D214=\"AS&T IT\"),$G214,\"\")","v":""},{"$f":"IF(OR($D214=\"AS&T\",$D214=\"AS&T IT\"),$H214,\"\")","v":""},{"$f":"IF(OR($D214=\"IC\",$D214=\"IC IT\"),$E214,\"\")","v":""},{"$f":"IF(OR($D214=\"IC\",$D214=\"IC IT\"),$F214,\"\")","v":""},{"$f":"IF(OR($D214=\"IC\",$D214=\"IC IT\"),$G214,\"\")","v":""},{"$f":"IF(OR($D214=\"IC\",$D214=\"IC IT\"),$H214,\"\")","v":""},{"$f":"IF(OR($D214=\"WC\",$D214=\"WC IT\"),$E214,\"\")","v":""},{"$f":"IF(OR($D214=\"WC\",$D214=\"WC IT\"),$F214,\"\")","v":""},{"$f":"IF(OR($D214=\"WC\",$D214=\"WC IT\"),$G214,\"\")","v":""},{"$f":"IF(OR($D214=\"WC\",$D214=\"WC IT\"),$H214,\"\")","v":""},{"$f":"IF(OR($D214=\"NMD\",$D214=\"NMD IT\"),$E214,\"\")","v":""},{"$f":"IF(OR($D214=\"NMD\",$D214=\"NMD IT\"),$F214,\"\")","v":""},{"$f":"IF(OR($D214=\"NMD\",$D214=\"NMD IT\"),$G214,\"\")","v":""},{"$f":"IF(OR($D214=\"NMD\",$D214=\"NMD IT\"),$H214,\"\")","v":""},{"$f":"IF(OR($D214=\"APP\",$D214=\"APP IT\"),$E214,\"\")","v":""},{"$f":"IF(OR($D214=\"APP\",$D214=\"APP IT\"),$F214,\"\")","v":""},{"$f":"IF(OR($D214=\"APP\",$D214=\"APP IT\"),$G214,\"\")","v":""},{"$f":"IF(OR($D214=\"APP\",$D214=\"APP IT\"),$H214,\"\")","v":""},{"$f":"IF(OR($D214=\"WR\",$D214=\"WR IT\"),$E214,\"\")","v":""},{"$f":"IF(OR($D214=\"WR\",$D214=\"WR IT\"),$F214,\"\")","v":""},{"$f":"IF(OR($D214=\"WR\",$D214=\"WR IT\"),$G214,\"\")","v":""},{"$f":"IF(OR($D214=\"WR\",$D214=\"WR IT\"),$H214,\"\")","v":""},{"$f":"IF(OR($D214=\"TAX\",$D214=\"TAX IT\"),$E214,\"\")","v":""},{"$f":"IF(OR($D214=\"TAX\",$D214=\"TAX IT\"),$F214,\"\")","v":""},{"$f":"IF(OR($D214=\"TAX\",$D214=\"TAX IT\"),$G214,\"\")","v":""},{"$f":"IF(OR($D214=\"TAX\",$D214=\"TAX IT\"),$H214,\"\")","v":""},{"$f":"IF(OR($D214=\"BPC\",$D214=\"BPC IT\"),$E214,\"\")","v":""},{"$f":"IF(OR($D214=\"BPC\",$D214=\"BPC IT\"),$F214,\"\")","v":""},{"$f":"IF(OR($D214=\"BPC\",$D214=\"BPC IT\"),$G214,\"\")","v":""},{"$f":"IF(OR($D214=\"BPC\",$D214=\"BPC IT\"),$H214,\"\")","v":""},{"$f":"IF(OR($D214=\"UIP\",$D214=\"UIP IT\"),$E214,\"\")","v":""},{"$f":"IF(OR($D214=\"UIP\",$D214=\"UIP IT\"),$F214,\"\")","v":""},{"$f":"IF(OR($D214=\"UIP\",$D214=\"UIP IT\"),$G214,\"\")","v":""},{"$f":"IF(OR($D214=\"UIP\",$D214=\"UIP IT\"),$H214,\"\")","v":""},{"$f":"IF(OR($D214=\"SUP\",$D214=\"SUP IT\"),$E214,\"\")","v":""},{"$f":"IF(OR($D214=\"SUP\",$D214=\"SUP IT\"),$F214,\"\")","v":""},{"$f":"IF(OR($D214=\"SUP\",$D214=\"SUP IT\"),$G214,\"\")","v":""},{"$f":"IF(OR($D214=\"SUP\",$D214=\"SUP IT\"),$H214,\"\")","v":""},{"$f":"IF(OR($D214=\"NRJM\",$D214=\"NRJM IT\"),$E214,\"\")","v":""},{"$f":"IF(OR($D214=\"NRJM\",$D214=\"NRJM IT\"),$F214,\"\")","v":""},{"$f":"IF(OR($D214=\"NRJM\",$D214=\"NRJM IT\"),$G214,\"\")","v":""},{"$f":"IF(OR($D214=\"NRJM\",$D214=\"NRJM IT\"),$H214,\"\")","v":""},{"$f":"SUM(I214,M214,Q214,U214,Y214,AC214,AG214,AK214,AO214,AS214,AW214)-E214","v":{"v":0,"d":"0.00"}},{"$f":"SUM(J214,N214,R214,V214,Z214,AD214,AH214,AL214,AP214,AT214,AX214)-F214","v":0},{"$f":"SUM(K214,O214,S214,W214,AA214,AE214,AI214,AM214,AQ214,AU214,AY214)-G214","v":0},{"$f":"SUM(L214,P214,T214,X214,AB214,AF214,AJ214,AN214,AR214,AV214,AZ214)-H214","v":{"v":0,"d":"0.00"}}]

{"sheet":"1-AST INC","index":6,"n_rows":63,"n_cols":7,"rows_kept":63,"merged":[[0,0,0,6],[2,0,2,6],[4,0,4,6],[5,0,5,6]]}
["COST PER POSITION - AS&T"]
[{"$f":"STARTUPCW!A2","v":"Crosswalk Version: 2.5.1"}]
["1-AST"]
[{"$f":"STATENAME","v":"YOUR STATE"}]
["NEXT YEAR"]
[{"$f":"F7","v":"FY "}]
[null,{"$f":"PREVIOUSFY","v":"FY "},null,null,{"$f":"CURRENTFY","v":"FY "},{"$f":"NEXTFY","v":"FY "},{"$f":"REQUESTFY","v":"FY 1"}]
[null,"PREVIOUS",null,null,"CURRENT","NEXT","REQUEST"]
[" ","FISCAL YEAR",null,null,"FISCAL YEAR","FISCAL YEAR","FISCAL YEAR"]
[]
["TOTAL PERSONAL SERVICE COST",{"$f":"'CROSS PSPB'!J9","v":{"v":0,"d":"$0"}}]
["TOTAL POSITIONS PAID",{"$f":"IF(STARTUPCW!B16=0,0,'CROSS PSPB'!I9/STARTUPCW!B16)","v":{"v":0,"d":"0.00"}}]
["STRAIGHT LINE  PS COST PER POSITION",{"$nulls":3},{"$f":"IF(ISERROR($B$30),0,$B$30)","v":{"v":0,"d":"$0"}},{"$f":"IF(ISERROR($E$30),0,$E$30)","v":{"v":0,"d":"$0"}},{"$f":"IF(ISERROR($F$30),0,$F$30)","v":{"v":0,"d":"$0"}}]
["PRIOR YEAR - PARTIAL","EFF. DATE","MOS.","%"]
["1. ",{"$nulls":3},{"$f":"IF(OR(D15=0,C15=0),0,$E$13/(1+(D15*(C15/12)))*(D15/12*(12-C15)))","v":{"v":0,"d":"$0"}}]
["2.",{"$nulls":3},{"$f":"IF(OR(D16=0,C16=0),0,$E$13/(1+(D16*(C16/12)))*(D16/12*(12-C16)))","v":{"v":0,"d":"$0"}}]
["3.",{"$nulls":3},{"$f":"IF(OR(D17=0,C17=0),0,$E$13/(1+(D17*(C17/12)))*(D17/12*(12-C17)))","v":{"v":0,"d":"$0"}}]
["CURRENT YEAR"]
["1. Default",null,{"v":12,"d":"12 "},{"v":0.03,"d":"3.00%"},{"$f":"IF(ISERROR(SUM($E$13,$E$15:$E$17)*(D19/12*C19)),0,SUM($E$13,$E$15:$E$17)*(D19/12*C19))","v":{"v":0,"d":"$0"}},{"$f":"IF(ISERROR((E19/C19)*(12-C19)),0,(E19/C19)*(12-C19))","v":{"v":0,"d":"$0"}}]
["2.",{"$nulls":3},{"$f":"IF(ISERROR(SUM($E$13,$E$15:$E$17)*(D20/12*C20)),0,SUM($E$13,$E$15:$E$17)*(D20/12*C20))","v":{"v":0,"d":"$0"}},{"$f":"IF(ISERROR((E20/C20)*(12-C20)),0,(E20/C20)*(12-C20))","v":{"v":0,"d":"$0"}}]
["3.",{"$nulls":3},{"$f":"IF(ISERROR(SUM($E$13,$E$15:$E$17)*(D21/12*C21)),0,SUM($E$13,$E$15:$E$17)*(D21/12*C21))","v":{"v":0,"d":"$0"}},{"$f":"IF(ISERROR((E21/C21)*(12-C21)),0,(E21/C21)*(12-C21))","v":{"v":0,"d":"$0"}}]
["NEXT YEAR"]
["1. Default",null,{"v":12,"d":"12 "},{"v":0.03,"d":"3.00%"},null,{"$f":"IF(ISERROR(SUM($F$13,$F$19:$F$21)*(D23/12*C23)),0,SUM($F$13,$F$19:$F$21)*(D23/12*C23))","v":{"v":0,"d":"$0"}},{"$f":"IF(ISERROR((F23/C23)*(12-C23)),0,(F23/C23)*(12-C23))","v":{"v":0,"d":"$0"}}]
["2.",{"$nulls":4},{"$f":"IF(ISERROR(SUM($F$13,$F$19:$F$21)*(D24/12*C24)),0,SUM($F$13,$F$19:$F$21)*(D24/12*C24))","v":{"v":0,"d":"$0"}},{"$f":"IF(ISERROR((F24/C24)*(12-C24)),0,(F24/C24)*(12-C24))","v":{"v":0,"d":"$0"}}]
["3.",{"$nulls":4},{"$f":"IF(ISERROR(SUM($F$13,$F$19:$F$21)*(D25/12*C25)),0,SUM($F$13,$F$19:$F$21)*(D25/12*C25))","v":{"v":0,"d":"$0"}},{"$f":"IF(ISERROR((F25/C25)*(12-C25)),0,(F25/C25)*(12-C25))","v":{"v":0,"d":"$0"}}]
["REQUEST YEAR"]
["1. ",{"$nulls":5},{"$f":"IF(ISERROR(SUM($G$13,$G$23:$G$25)*(D27/12*C27)),0,SUM($G$13,$G$23:$G$25)*(D27/12*C27))","v":{"v":0,"d":"$0"}}]
["2.",{"$nulls":5},{"$f":"IF(ISERROR(SUM($G$13,$G$23:$G$25)*(D28/12*C28)),0,SUM($G$13,$G$23:$G$25)*(D28/12*C28))","v":{"v":0,"d":"$0"}}]
["3.",{"$nulls":5},{"$f":"IF(ISERROR(SUM($G$13,$G$23:$G$25)*(D29/12*C29)),0,SUM($G$13,$G$23:$G$25)*(D29/12*C29))","v":{"v":0,"d":"$0"}}]
["PS COST PER POSITION",{"$f":"IF(ISERROR(B11/B12),0,B11/B12)","v":{"v":0,"d":"$0"}},null,null,{"$f":"E13+SUM(E15:E29)","v":{"v":0,"d":"$0"}},{"$f":"F13+SUM(F15:F29)","v":{"v":0,"d":"$0"}},{"$f":"G13+SUM(G15:G29)","v":{"v":0,"d":"$0"}}]
["INCREASE PER YEAR",{"$nulls":3},{"$f":"E30-E13","v":{"v":0,"d":"$0"}},{"$f":"F30-F13","v":{"v":0,"d":"$0"}},{"$f":"G30-G13","v":{"v":0,"d":"$0"}}]
[]
["TOTAL PERSONNEL BENEFIT COST",{"$f":"'CROSS PSPB'!K9","v":{"v":0,"d":"$0"}}]
[{"$f":"A$12","v":"TOTAL POSITIONS PAID"},{"$f":"B$12","v":{"v":0,"d":"0.00"}}]
["STRAIGHT LINE  PB COST PER POSITION",{"$nulls":3},{"$f":"$B$60","v":{"v":0,"d":"$0"}},{"$f":"$E$60","v":{"v":0,"d":"$0"}},{"$f":"$F$60","v":{"v":0,"d":"$0"}}]
["CURRENT YEAR",null,null,"%"]
["FICA",{"$nulls":3},{"$f":"$E$31*D37","v":{"v":0,"d":"$0"}}]
["RETIREMENT MATCH",{"$nulls":3},{"$f":"$E$31*D38","v":{"v":0,"d":"$0"}}]
["OTHER PERCENT ",{"$nulls":3},{"$f":"$E$31*D39","v":{"v":0,"d":"$0"}}]
[null,"EFF. DATE","MOS.","INC."]
["BENEFIT RATE INCREASE",{"$nulls":3},{"$f":"IF(ISERROR((D41/12*C41)*E30),0,((D41/12*C41)*E30))","v":{"v":0,"d":"$0"}},{"$f":"IF(ISERROR((E41/C41)*(12-C41)),0,(E41/C41)*(12-C41))","v":{"v":0,"d":"$0"}}]
["INFLATIONARY INCREASE (DEFAULT)",null,{"v":12,"d":"12 "},{"v":0.03,"d":"3.00%"},{"$f":"B60*D42","v":{"v":0,"d":"$0"}},{"$f":"IF(ISERROR((E42/C42)*(12-C42)),0,(E42/C42)*(12-C42))","v":{"v":0,"d":"$0"}}]
["PER POSITION INCREASE",{"$nulls":3},{"$f":"IF(ISERROR(D43/12*C43),0,D43/12*C43)","v":{"v":0,"d":"$0"}},{"$f":"IF(ISERROR((E43/C43)*(12-C43)),0,(E43/C43)*(12-C43))","v":{"v":0,"d":"$0"}}]
["NEXT YEAR",null,null,"%"]
["FICA",{"$nulls":4},{"$f":"IF(ISERROR($F$31*D45),0,$F$31*D45)","v":{"v":0,"d":"$0"}}]
["RETIREMENT MATCH",{"$nulls":4},{"$f":"IF(ISERROR($F$31*D46),0,$F$31*D46)","v":{"v":0,"d":"$0"}}]
["OTHER PERCENT ",{"$nulls":4},{"$f":"IF(ISERROR($F$31*D47),0,$F$31*D47)","v":{"v":0,"d":"$0"}}]
[null,"EFF. DATE","MOS.","INC."]
["BENEFIT RATE INCREASE ",{"$nulls":4},{"$f":"IF(ISERROR((D49/12*C49)*F30),0,((D49/12*C49)*F30))","v":{"v":0,"d":"$0"}},{"$f":"IF(ISERROR((F49/C49)*(12-C49)),0,(F49/C49)*(12-C49))","v":{"v":0,"d":"$0"}}]
["INFLATIONARY INCREASE (DEFAULT)",null,{"v":12,"d":"12 "},{"v":0.03,"d":"3.00%"},null,{"$f":"E60*D50","v":{"v":0,"d":"$0"}},{"$f":"IF(ISERROR((F50/C50)*(12-C50)),0,(F50/C50)*(12-C50))","v":{"v":0,"d":"$0"}}]
["PER POSITION INCREASE",{"$nulls":4},{"$f":"IF(ISERROR(D51/12*C51),0,D51/12*C51)","v":{"v":0,"d":"$0"}},{"$f":"IF(ISERROR((F51/C51)*(12-C51)),0,(F51/C51)*(12-C51))","v":{"v":0,"d":"$0"}}]
["REQUEST YEAR",null,null,"%"]
["FICA",{"$nulls":5},{"$f":"IF(ISERROR($G$31*D53),0,$G$31*D53)","v":{"v":0,"d":"$0"}}]
["RETIREMENT MATCH",{"$nulls":5},{"$f":"IF(ISERROR($G$31*D54),0,$G$31*D54)","v":{"v":0,"d":"$0"}}]
["OTHER PERCENT ",{"$nulls":5},{"$f":"IF(ISERROR($G$31*D55),0,$G$31*D55)","v":{"v":0,"d":"$0"}}]
[null,"EFF. DATE","MOS.","INC."]
["BENEFIT RATE INCREASE",{"$nulls":5},{"$f":"IF(ISERROR((D57/12*C57)*G30),0,((D57/12*C57)*G30))","v":{"v":0,"d":"$0"}}]
["PER POSITION INCREASE",{"$nulls":5},{"$f":"IF(ISERROR(D58/12*C58),0,D58/12*C58)","v":{"v":0,"d":"$0"}}]
["PER POSITION INCREASE",{"$nulls":5},{"$f":"IF(ISERROR(D59/12*C59),0,D59/12*C59)","v":{"v":0,"d":"$0"}}]
["PB COST PER POSITION",{"$f":"IF(ISERROR(B33/B34),0,B33/B34)","v":{"v":0,"d":"$0"}},null,null,{"$f":"SUM(E35:E59)","v":{"v":0,"d":"$0"}},{"$f":"SUM(F35:F59)","v":{"v":0,"d":"$0"}},{"$f":"SUM(G35:G59)","v":{"v":0,"d":"$0"}}]
["INCREASE PER YEAR",{"$nulls":3},{"$f":"E60-E35","v":{"v":0,"d":"$0"}},{"$f":"F60-F35","v":{"v":0,"d":"$0"}},{"$f":"G60-G35","v":{"v":0,"d":"$0"}}]
[]
["PS/PB COST PER POSITION",{"$f":"B30+B60","v":{"v":0,"d":"$0"}},null,null,{"$f":"E30+E60","v":{"v":0,"d":"$0"}},{"$f":"F30+F60","v":{"v":0,"d":"$0"}},{"$f":"G30+G60","v":{"v":0,"d":"$0"}}]

{"sheet":"1-IC INC","index":7,"n_rows":63,"n_cols":7,"rows_kept":63,"merged":[[0,0,0,6],[2,0,2,6],[4,0,4,6],[5,0,5,6]]}
["COST PER POSITION - INITIAL CLAIMS"]
[{"$f":"STARTUPCW!A2","v":"Crosswalk Version: 2.5.1"}]
["1-IC "]
[{"$f":"'1-AST INC'!A4","v":"YOUR STATE"}]
[{"$f":"'1-AST INC'!A5:G5","v":"NEXT YEAR"}]
[{"$f":"F7","v":"FY "}]
[null,{"$f":"'1-AST INC'!B7","v":"FY "},null,null,{"$f":"'1-AST INC'!E7","v":"FY "},{"$f":"NEXTFY","v":"FY "},{"$f":"'1-AST INC'!G7","v":"FY 1"}]
[null,"PREVIOUS",null,null,"CURRENT","NEXT","REQUEST"]
[" ","FISCAL YEAR",null,null,"FISCAL YEAR","FISCAL YEAR","FISCAL YEAR"]
[]
["TOTAL PERSONAL SERVICE COST",{"$f":"'CROSS PSPB'!N9","v":{"v":0,"d":"$0"}}]
["TOTAL POSITIONS PAID",{"$f":"IF(STARTUPCW!B16=0,0,'CROSS PSPB'!M9/STARTUPCW!B16)","v":{"v":0,"d":"0.00"}}]
["STRAIGHT LINE  PS COST PER POSITION",{"$nulls":3},{"$f":"IF(ISERROR($B$30),0,$B$30)","v":{"v":0,"d":"$0"}},{"$f":"IF(ISERROR($E$30),0,$E$30)","v":{"v":0,"d":"$0"}},{"$f":"IF(ISERROR($F$30),0,$F$30)","v":{"v":0,"d":"$0"}}]
["PRIOR YEAR - PARTIAL","EFF. DATE","MOS.","%"]
[{"$f":"'1-AST INC'!A15","v":"1. "},{"$f":"IF('1-AST INC'!B15>0,'1-AST INC'!B15,\"N/A\")","v":"N/A"},{"$f":"'1-AST INC'!C15","v":{"v":0,"d":"0 "}},{"$f":"'1-AST INC'!D15","v":{"v":0,"d":"0.00%"}},{"$f":"IF(OR(D15=0,C15=0),0,$E$13/(1+(D15*(C15/12)))*(D15/12*(12-C15)))","v":{"v":0,"d":"$0"}}]
[{"$f":"'1-AST INC'!A16","v":"2."},{"$f":"IF('1-AST INC'!B16>0,'1-AST INC'!B16,\"N/A\")","v":"N/A"},{"$f":"'1-AST INC'!C16","v":{"v":0,"d":"0 "}},{"$f":"'1-AST INC'!D16","v":{"v":0,"d":"0.00%"}},{"$f":"IF(OR(D16=0,C16=0),0,$E$13/(1+(D16*(C16/12)))*(D16/12*(12-C16)))","v":{"v":0,"d":"$0"}}]
[{"$f":"'1-AST INC'!A17","v":"3."},{"$f":"IF('1-AST INC'!B17>0,'1-AST INC'!B17,\"N/A\")","v":"N/A"},{"$f":"'1-AST INC'!C17","v":{"v":0,"d":"0 "}},{"$f":"'1-AST INC'!D17","v":{"v":0,"d":"0.00%"}},{"$f":"IF(OR(D17=0,C17=0),0,$E$13/(1+(D17*(C17/12)))*(D17/12*(12-C17)))","v":{"v":0,"d":"$0"}}]
["CURRENT YEAR"]
[{"$f":"'1-AST INC'!A19","v":"1. Default"},{"$f":"IF('1-AST INC'!B19>0,'1-AST INC'!B19,\"N/A\")","v":"N/A"},{"$f":"'1-AST INC'!C19","v":{"v":12,"d":"12 "}},{"$f":"'1-AST INC'!D19","v":{"v":0.03,"d":"3.00%"}},{"$f":"IF(ISERROR(SUM($E$13,$E$15:$E$17)*(D19/12*C19)),0,SUM($E$13,$E$15:$E$17)*(D19/12*C19))","v":{"v":0,"d":"$0"}},{"$f":"IF(ISERROR((E19/C19)*(12-C19)),0,(E19/C19)*(12-C19))","v":{"v":0,"d":"$0"}}]
[{"$f":"'1-AST INC'!A20","v":"2."},{"$f":"IF('1-AST INC'!B20>0,'1-AST INC'!B20,\"N/A\")","v":"N/A"},{"$f":"'1-AST INC'!C20","v":{"v":0,"d":"0 "}},{"$f":"'1-AST INC'!D20","v":{"v":0,"d":"0.00%"}},{"$f":"IF(ISERROR(SUM($E$13,$E$15:$E$17)*(D20/12*C20)),0,SUM($E$13,$E$15:$E$17)*(D20/12*C20))","v":{"v":0,"d":"$0"}},{"$f":"IF(ISERROR((E20/C20)*(12-C20)),0,(E20/C20)*(12-C20))","v":{"v":0,"d":"$0"}}]
[{"$f":"'1-AST INC'!A21","v":"3."},{"$f":"IF('1-AST INC'!B21>0,'1-AST INC'!B21,\"N/A\")","v":"N/A"},{"$f":"'1-AST INC'!C21","v":{"v":0,"d":"0 "}},{"$f":"'1-AST INC'!D21","v":{"v":0,"d":"0.00%"}},{"$f":"IF(ISERROR(SUM($E$13,$E$15:$E$17)*(D21/12*C21)),0,SUM($E$13,$E$15:$E$17)*(D21/12*C21))","v":{"v":0,"d":"$0"}},{"$f":"IF(ISERROR((E21/C21)*(12-C21)),0,(E21/C21)*(12-C21))","v":{"v":0,"d":"$0"}}]
["NEXT YEAR"]
[{"$f":"'1-AST INC'!A23","v":"1. Default"},{"$f":"IF('1-AST INC'!B23>0,'1-AST INC'!B23,\"N/A\")","v":"N/A"},{"$f":"'1-AST INC'!C23","v":{"v":12,"d":"12 "}},{"$f":"'1-AST INC'!D23","v":{"v":0.03,"d":"3.00%"}},null,{"$f":"IF(ISERROR(SUM($F$13,$F$19:$F$21)*(D23/12*C23)),0,SUM($F$13,$F$19:$F$21)*(D23/12*C23))","v":{"v":0,"d":"$0"}},{"$f":"IF(ISERROR((F23/C23)*(12-C23)),0,(F23/C23)*(12-C23))","v":{"v":0,"d":"$0"}}]
[{"$f":"'1-AST INC'!A24","v":"2."},{"$f":"IF('1-AST INC'!B24>0,'1-AST INC'!B24,\"N/A\")","v":"N/A"},{"$f":"'1-AST INC'!C24","v":{"v":0,"d":"0 "}},{"$f":"'1-AST INC'!D24","v":{"v":0,"d":"0.00%"}},null,{"$f":"IF(ISERROR(SUM($F$13,$F$19:$F$21)*(D24/12*C24)),0,SUM($F$13,$F$19:$F$21)*(D24/12*C24))","v":{"v":0,"d":"$0"}},{"$f":"IF(ISERROR((F24/C24)*(12-C24)),0,(F24/C24)*(12-C24))","v":{"v":0,"d":"$0"}}]
[{"$f":"'1-AST INC'!A25","v":"3."},{"$f":"IF('1-AST INC'!B25>0,'1-AST INC'!B25,\"N/A\")","v":"N/A"},{"$f":"'1-AST INC'!C25","v":{"v":0,"d":"0 "}},{"$f":"'1-AST INC'!D25","v":{"v":0,"d":"0.00%"}},null,{"$f":"IF(ISERROR(SUM($F$13,$F$19:$F$21)*(D25/12*C25)),0,SUM($F$13,$F$19:$F$21)*(D25/12*C25))","v":{"v":0,"d":"$0"}},{"$f":"IF(ISERROR((F25/C25)*(12-C25)),0,(F25/C25)*(12-C25))","v":{"v":0,"d":"$0"}}]
["REQUEST YEAR"]
[{"$f":"'1-AST INC'!A27","v":"1. "},{"$f":"IF('1-AST INC'!B27>0,'1-AST INC'!B27,\"N/A\")","v":"N/A"},{"$f":"'1-AST INC'!C27","v":{"v":0,"d":"0 "}},{"$f":"'1-AST INC'!D27","v":{"v":0,"d":"0.00%"}},null,null,{"$f":"IF(ISERROR(SUM($G$13,$G$23:$G$25)*(D27/12*C27)),0,SUM($G$13,$G$23:$G$25)*(D27/12*C27))","v":{"v":0,"d":"$0"}}]
[{"$f":"'1-AST INC'!A28","v":"2."},{"$f":"IF('1-AST INC'!B28>0,'1-AST INC'!B28,\"N/A\")","v":"N/A"},{"$f":"'1-AST INC'!C28","v":{"v":0,"d":"0 "}},{"$f":"'1-AST INC'!D28","v":{"v":0,"d":"0.00%"}},null,null,{"$f":"IF(ISERROR(SUM($G$13,$G$23:$G$25)*(D28/12*C28)),0,SUM($G$13,$G$23:$G$25)*(D28/12*C28))","v":{"v":0,"d":"$0"}}]
[{"$f":"'1-AST INC'!A29","v":"3."},{"$f":"IF('1-AST INC'!B29>0,'1-AST INC'!B29,\"N/A\")","v":"N/A"},{"$f":"'1-AST INC'!C29","v":{"v":0,"d":"0 "}},{"$f":"'1-AST INC'!D29","v":{"v":0,"d":"0.00%"}},null,null,{"$f":"IF(ISERROR(SUM($G$13,$G$23:$G$25)*(D29/12*C29)),0,SUM($G$13,$G$23:$G$25)*(D29/12*C29))","v":{"v":0,"d":"$0"}}]
["PS COST PER POSITION",{"$f":"IF(ISERROR(B11/B12),0,B11/B12)","v":{"v":0,"d":"$0"}},null,null,{"$f":"E13+SUM(E15:E29)","v":{"v":0,"d":"$0"}},{"$f":"F13+SUM(F15:F29)","v":{"v":0,"d":"$0"}},{"$f":"G13+SUM(G15:G29)","v":{"v":0,"d":"$0"}}]
["INCREASE PER YEAR",{"$nulls":3},{"$f":"E30-E13","v":{"v":0,"d":"$0"}},{"$f":"F30-F13","v":{"v":0,"d":"$0"}},{"$f":"G30-G13","v":{"v":0,"d":"$0"}}]
[]
["TOTAL PERSONNEL BENEFIT COST",{"$f":"'CROSS PSPB'!O9","v":{"v":0,"d":"$0"}}]
[{"$f":"A$12","v":"TOTAL POSITIONS PAID"},{"$f":"B$12","v":{"v":0,"d":"0.00"}}]
["STRAIGHT LINE  PB COST PER POSITION",{"$nulls":3},{"$f":"$B$60","v":{"v":0,"d":"$0"}},{"$f":"$E$60","v":{"v":0,"d":"$0"}},{"$f":"$F$60","v":{"v":0,"d":"$0"}}]
["CURRENT YEAR",null,null,"%"]
["FICA",{"$f":"IF('1-AST INC'!B37>0,'1-AST INC'!B37,\"N/A\")","v":"N/A"},{"$f":"'1-AST INC'!C37","v":{"v":0,"d":"0 "}},{"$f":"'1-AST INC'!D37","v":{"v":0,"d":"0.00%"}},{"$f":"$E$31*D37","v":{"v":0,"d":"$0"}}]
["RETIREMENT MATCH",{"$f":"IF('1-AST INC'!B38>0,'1-AST INC'!B38,\"N/A\")","v":"N/A"},{"$f":"'1-AST INC'!C38","v":{"v":0,"d":"0 "}},{"$f":"'1-AST INC'!D38","v":{"v":0,"d":"0.00%"}},{"$f":"$E$31*D38","v":{"v":0,"d":"$0"}}]
["OTHER PERCENT ",{"$f":"IF('1-AST INC'!B39>0,'1-AST INC'!B39,\"N/A\")","v":"N/A"},{"$f":"'1-AST INC'!C39","v":{"v":0,"d":"0 "}},{"$f":"'1-AST INC'!D39","v":{"v":0,"d":"0.00%"}},{"$f":"$E$31*D39","v":{"v":0,"d":"$0"}}]
[null,"EFF. DATE","MOS.","INC."]
["BENEFIT RATE INCREASE",{"$f":"IF('1-AST INC'!B41>0,'1-AST INC'!B41,\"N/A\")","v":"N/A"},{"$f":"'1-AST INC'!C41","v":{"v":0,"d":"0 "}},{"$f":"'1-AST INC'!D41","v":{"v":0,"d":"0.00%"}},{"$f":"IF(ISERROR((D41/12*C41)*E30),0,((D41/12*C41)*E30))","v":{"v":0,"d":"$0"}},{"$f":"IF(ISERROR((E41/C41)*(12-C41)),0,(E41/C41)*(12-C41))","v":{"v":0,"d":"$0"}}]
["INFLATIONARY INCREASE (DEFAULT)",{"$f":"IF('1-AST INC'!B42>0,'1-AST INC'!B42,\"N/A\")","v":"N/A"},{"$f":"'1-AST INC'!C42","v":{"v":12,"d":"12 "}},{"$f":"'1-AST INC'!D42","v":{"v":0.03,"d":"3.00%"}},{"$f":"B60*D42","v":{"v":0,"d":"$0"}},{"$f":"IF(ISERROR((E42/C42)*(12-C42)),0,(E42/C42)*(12-C42))","v":{"v":0,"d":"$0"}}]
["PER POSITION INCREASE",{"$f":"IF('1-AST INC'!B43>0,'1-AST INC'!B43,\"N/A\")","v":"N/A"},{"$f":"'1-AST INC'!C43","v":{"v":0,"d":"0 "}},{"$f":"'1-AST INC'!D43","v":0},{"$f":"IF(ISERROR(D43/12*C43),0,D43/12*C43)","v":{"v":0,"d":"$0"}},{"$f":"IF(ISERROR((E43/C43)*(12-C43)),0,(E43/C43)*(12-C43))","v":{"v":0,"d":"$0"}}]
["NEXT YEAR",null,null,"%"]
["FICA",{"$f":"IF('1-AST INC'!B45>0,'1-AST INC'!B45,\"N/A\")","v":"N/A"},{"$f":"'1-AST INC'!C45","v":{"v":0,"d":"0 "}},{"$f":"'1-AST INC'!D45","v":{"v":0,"d":"0.00%"}},null,{"$f":"IF(ISERROR($F$31*D45),0,$F$31*D45)","v":{"v":0,"d":"$0"}}]
["RETIREMENT MATCH",{"$f":"IF('1-AST INC'!B46>0,'1-AST INC'!B46,\"N/A\")","v":"N/A"},{"$f":"'1-AST INC'!C46","v":{"v":0,"d":"0 "}},{"$f":"'1-AST INC'!D46","v":{"v":0,"d":"0.00%"}},null,{"$f":"IF(ISERROR($F$31*D46),0,$F$31*D46)","v":{"v":0,"d":"$0"}}]
["OTHER PERCENT ",{"$f":"IF('1-AST INC'!B47>0,'1-AST INC'!B47,\"N/A\")","v":"N/A"},{"$f":"'1-AST INC'!C47","v":{"v":0,"d":"0 "}},{"$f":"'1-AST INC'!D47","v":{"v":0,"d":"0.00%"}},null,{"$f":"IF(ISERROR($F$31*D47),0,$F$31*D47)","v":{"v":0,"d":"$0"}}]
[null,"EFF. DATE","MOS.","INC."]
["BENEFIT RATE INCREASE",{"$f":"IF('1-AST INC'!B49>0,'1-AST INC'!B49,\"N/A\")","v":"N/A"},{"$f":"'1-AST INC'!C49","v":{"v":0,"d":"0 "}},{"$f":"'1-AST INC'!D49","v":{"v":0,"d":"0.00%"}},null,{"$f":"IF(ISERROR((D49/12*C49)*F30),0,((D49/12*C49)*F30))","v":{"v":0,"d":"$0"}},{"$f":"IF(ISERROR((F49/C49)*(12-C49)),0,(F49/C49)*(12-C49))","v":{"v":0,"d":"$0"}}]
["INFLATIONARY INCREASE (DEFAULT)",{"$f":"IF('1-AST INC'!B50>0,'1-AST INC'!B50,\"N/A\")","v":"N/A"},{"$f":"'1-AST INC'!C50","v":{"v":12,"d":"12 "}},{"$f":"'1-AST INC'!D50","v":{"v":0.03,"d":"3.00%"}},null,{"$f":"E60*D50","v":{"v":0,"d":"$0"}},{"$f":"IF(ISERROR((F50/C50)*(12-C50)),0,(F50/C50)*(12-C50))","v":{"v":0,"d":"$0"}}]
["PER POSITION INCREASE",{"$f":"IF('1-AST INC'!B51>0,'1-AST INC'!B51,\"N/A\")","v":"N/A"},{"$f":"'1-AST INC'!C51","v":{"v":0,"d":"0 "}},{"$f":"'1-AST INC'!D51","v":0},null,{"$f":"IF(ISERROR(D51/12*C51),0,D51/12*C51)","v":{"v":0,"d":"$0"}},{"$f":"IF(ISERROR((F51/C51)*(12-C51)),0,(F51/C51)*(12-C51))","v":{"v":0,"d":"$0"}}]
["REQUEST YEAR",null,null,"%"]
["FICA",{"$f":"IF('1-AST INC'!B53>0,'1-AST INC'!B53,\"N/A\")","v":"N/A"},{"$f":"'1-AST INC'!C53","v":{"v":0,"d":"0 "}},{"$f":"'1-AST INC'!D53","v":{"v":0,"d":"0.00%"}},null,null,{"$f":"IF(ISERROR($G$31*D53),0,$G$31*D53)","v":{"v":0,"d":"$0"}}]
["RETIREMENT MATCH",{"$f":"IF('1-AST INC'!B54>0,'1-AST INC'!B54,\"N/A\")","v":"N/A"},{"$f":"'1-AST INC'!C54","v":{"v":0,"d":"0 "}},{"$f":"'1-AST INC'!D54","v":{"v":0,"d":"0.00%"}},null,null,{"$f":"IF(ISERROR($G$31*D54),0,$G$31*D54)","v":{"v":0,"d":"$0"}}]
["OTHER PERCENT ",{"$f":"IF('1-AST INC'!B55>0,'1-AST INC'!B55,\"N/A\")","v":"N/A"},{"$f":"'1-AST INC'!C55","v":{"v":0,"d":"0 "}},{"$f":"'1-AST INC'!D55","v":{"v":0,"d":"0.00%"}},null,null,{"$f":"IF(ISERROR($G$31*D55),0,$G$31*D55)","v":{"v":0,"d":"$0"}}]
[null,"EFF. DATE","MOS.","INC."]
["BENEFIT RATE INCREASE",{"$f":"IF('1-AST INC'!B57>0,'1-AST INC'!B57,\"N/A\")","v":"N/A"},{"$f":"'1-AST INC'!C57","v":{"v":0,"d":"0 "}},{"$f":"'1-AST INC'!D57","v":{"v":0,"d":"0.00%"}},null,null,{"$f":"IF(ISERROR((D57/12*C57)*G30),0,((D57/12*C57)*G30))","v":{"v":0,"d":"$0"}}]
["PER POSITION INCREASE",{"$f":"IF('1-AST INC'!B58>0,'1-AST INC'!B58,\"N/A\")","v":"N/A"},{"$f":"'1-AST INC'!C58","v":{"v":0,"d":"0 "}},{"$f":"'1-AST INC'!D58","v":0},null,null,{"$f":"IF(ISERROR(D58/12*C58),0,D58/12*C58)","v":{"v":0,"d":"$0"}}]
["PER POSITION INCREASE",{"$f":"IF('1-AST INC'!B59>0,'1-AST INC'!B59,\"N/A\")","v":"N/A"},{"$f":"'1-AST INC'!C59","v":{"v":0,"d":"0 "}},{"$f":"'1-AST INC'!D59","v":0},null,null,{"$f":"IF(ISERROR(D59/12*C59),0,D59/12*C59)","v":{"v":0,"d":"$0"}}]
["PB COST PER POSITION",{"$f":"IF(ISERROR(B33/B34),0,B33/B34)","v":{"v":0,"d":"$0"}},null,null,{"$f":"SUM(E35:E59)","v":{"v":0,"d":"$0"}},{"$f":"SUM(F35:F59)","v":{"v":0,"d":"$0"}},{"$f":"SUM(G35:G59)","v":{"v":0,"d":"$0"}}]
["INCREASE PER YEAR",{"$nulls":3},{"$f":"E60-E35","v":{"v":0,"d":"$0"}},{"$f":"F60-F35","v":{"v":0,"d":"$0"}},{"$f":"G60-G35","v":{"v":0,"d":"$0"}}]
[]
["PS/PB COST PER POSITION",{"$f":"B30+B60","v":{"v":0,"d":"$0"}},null,null,{"$f":"E30+E60","v":{"v":0,"d":"$0"}},{"$f":"F30+F60","v":{"v":0,"d":"$0"}},{"$f":"G30+G60","v":{"v":0,"d":"$0"}}]

{"sheet":"1-WK INC","index":8,"n_rows":63,"n_cols":7,"rows_kept":63,"merged":[[0,0,0,6],[2,0,2,6],[4,0,4,6],[5,0,5,6]]}
["COST PER POSITION - WEEKS CLAIMED"]
[{"$f":"STARTUPCW!A2","v":"Crosswalk Version: 2.5.1"}]
["1-WK "]
[{"$f":"'1-AST INC'!A4","v":"YOUR STATE"}]
[{"$f":"'1-AST INC'!A5:G5","v":"NEXT YEAR"}]
[{"$f":"F7","v":"FY "}]
[null,{"$f":"'1-AST INC'!B7","v":"FY "},null,null,{"$f":"'1-AST INC'!E7","v":"FY "},{"$f":"NEXTFY","v":"FY "},{"$f":"'1-AST INC'!G7","v":"FY 1"}]
[null,"PREVIOUS",null,null,"CURRENT","NEXT","REQUEST"]
[" ","FISCAL YEAR",null,null,"FISCAL YEAR","FISCAL YEAR","FISCAL YEAR"]
[]
["TOTAL PERSONAL SERVICE COST",{"$f":"'CROSS PSPB'!R9","v":{"v":0,"d":"$0"}}]
["TOTAL POSITIONS PAID",{"$f":"IF(STARTUPCW!B16=0,0,'CROSS PSPB'!Q9/STARTUPCW!B16)","v":{"v":0,"d":"0.00"}}]
["STRAIGHT LINE  PS COST PER POSITION",{"$nulls":3},{"$f":"IF(ISERROR($B$30),0,$B$30)","v":{"v":0,"d":"$0"}},{"$f":"IF(ISERROR($E$30),0,$E$30)","v":{"v":0,"d":"$0"}},{"$f":"IF(ISERROR($F$30),0,$F$30)","v":{"v":0,"d":"$0"}}]
["PRIOR YEAR - PARTIAL","EFF. DATE","MOS.","%"]
[{"$f":"'1-AST INC'!A15","v":"1. "},{"$f":"IF('1-AST INC'!B15>0,'1-AST INC'!B15,\"N/A\")","v":"N/A"},{"$f":"'1-AST INC'!C15","v":{"v":0,"d":"0 "}},{"$f":"'1-AST INC'!D15","v":{"v":0,"d":"0.00%"}},{"$f":"IF(OR(D15=0,C15=0),0,$E$13/(1+(D15*(C15/12)))*(D15/12*(12-C15)))","v":{"v":0,"d":"$0"}}]
[{"$f":"'1-AST INC'!A16","v":"2."},{"$f":"IF('1-AST INC'!B16>0,'1-AST INC'!B16,\"N/A\")","v":"N/A"},{"$f":"'1-AST INC'!C16","v":{"v":0,"d":"0 "}},{"$f":"'1-AST INC'!D16","v":{"v":0,"d":"0.00%"}},{"$f":"IF(OR(D16=0,C16=0),0,$E$13/(1+(D16*(C16/12)))*(D16/12*(12-C16)))","v":{"v":0,"d":"$0"}}]
[{"$f":"'1-AST INC'!A17","v":"3."},{"$f":"IF('1-AST INC'!B17>0,'1-AST INC'!B17,\"N/A\")","v":"N/A"},{"$f":"'1-AST INC'!C17","v":{"v":0,"d":"0 "}},{"$f":"'1-AST INC'!D17","v":{"v":0,"d":"0.00%"}},{"$f":"IF(OR(D17=0,C17=0),0,$E$13/(1+(D17*(C17/12)))*(D17/12*(12-C17)))","v":{"v":0,"d":"$0"}}]
["CURRENT YEAR"]
[{"$f":"'1-AST INC'!A19","v":"1. Default"},{"$f":"IF('1-AST INC'!B19>0,'1-AST INC'!B19,\"N/A\")","v":"N/A"},{"$f":"'1-AST INC'!C19","v":{"v":12,"d":"12 "}},{"$f":"'1-AST INC'!D19","v":{"v":0.03,"d":"3.00%"}},{"$f":"IF(ISERROR(SUM($E$13,$E$15:$E$17)*(D19/12*C19)),0,SUM($E$13,$E$15:$E$17)*(D19/12*C19))","v":{"v":0,"d":"$0"}},{"$f":"IF(ISERROR((E19/C19)*(12-C19)),0,(E19/C19)*(12-C19))","v":{"v":0,"d":"$0"}}]
[{"$f":"'1-AST INC'!A20","v":"2."},{"$f":"IF('1-AST INC'!B20>0,'1-AST INC'!B20,\"N/A\")","v":"N/A"},{"$f":"'1-AST INC'!C20","v":{"v":0,"d":"0 "}},{"$f":"'1-AST INC'!D20","v":{"v":0,"d":"0.00%"}},{"$f":"IF(ISERROR(SUM($E$13,$E$15:$E$17)*(D20/12*C20)),0,SUM($E$13,$E$15:$E$17)*(D20/12*C20))","v":{"v":0,"d":"$0"}},{"$f":"IF(ISERROR((E20/C20)*(12-C20)),0,(E20/C20)*(12-C20))","v":{"v":0,"d":"$0"}}]
[{"$f":"'1-AST INC'!A21","v":"3."},{"$f":"IF('1-AST INC'!B21>0,'1-AST INC'!B21,\"N/A\")","v":"N/A"},{"$f":"'1-AST INC'!C21","v":{"v":0,"d":"0 "}},{"$f":"'1-AST INC'!D21","v":{"v":0,"d":"0.00%"}},{"$f":"IF(ISERROR(SUM($E$13,$E$15:$E$17)*(D21/12*C21)),0,SUM($E$13,$E$15:$E$17)*(D21/12*C21))","v":{"v":0,"d":"$0"}},{"$f":"IF(ISERROR((E21/C21)*(12-C21)),0,(E21/C21)*(12-C21))","v":{"v":0,"d":"$0"}}]
["NEXT YEAR"]
[{"$f":"'1-AST INC'!A23","v":"1. Default"},{"$f":"IF('1-AST INC'!B23>0,'1-AST INC'!B23,\"N/A\")","v":"N/A"},{"$f":"'1-AST INC'!C23","v":{"v":12,"d":"12 "}},{"$f":"'1-AST INC'!D23","v":{"v":0.03,"d":"3.00%"}},null,{"$f":"IF(ISERROR(SUM($F$13,$F$19:$F$21)*(D23/12*C23)),0,SUM($F$13,$F$19:$F$21)*(D23/12*C23))","v":{"v":0,"d":"$0"}},{"$f":"IF(ISERROR((F23/C23)*(12-C23)),0,(F23/C23)*(12-C23))","v":{"v":0,"d":"$0"}}]
[{"$f":"'1-AST INC'!A24","v":"2."},{"$f":"IF('1-AST INC'!B24>0,'1-AST INC'!B24,\"N/A\")","v":"N/A"},{"$f":"'1-AST INC'!C24","v":{"v":0,"d":"0 "}},{"$f":"'1-AST INC'!D24","v":{"v":0,"d":"0.00%"}},null,{"$f":"IF(ISERROR(SUM($F$13,$F$19:$F$21)*(D24/12*C24)),0,SUM($F$13,$F$19:$F$21)*(D24/12*C24))","v":{"v":0,"d":"$0"}},{"$f":"IF(ISERROR((F24/C24)*(12-C24)),0,(F24/C24)*(12-C24))","v":{"v":0,"d":"$0"}}]
[{"$f":"'1-AST INC'!A25","v":"3."},{"$f":"IF('1-AST INC'!B25>0,'1-AST INC'!B25,\"N/A\")","v":"N/A"},{"$f":"'1-AST INC'!C25","v":{"v":0,"d":"0 "}},{"$f":"'1-AST INC'!D25","v":{"v":0,"d":"0.00%"}},null,{"$f":"IF(ISERROR(SUM($F$13,$F$19:$F$21)*(D25/12*C25)),0,SUM($F$13,$F$19:$F$21)*(D25/12*C25))","v":{"v":0,"d":"$0"}},{"$f":"IF(ISERROR((F25/C25)*(12-C25)),0,(F25/C25)*(12-C25))","v":{"v":0,"d":"$0"}}]
["REQUEST YEAR"]
[{"$f":"'1-AST INC'!A27","v":"1. "},{"$f":"IF('1-AST INC'!B27>0,'1-AST INC'!B27,\"N/A\")","v":"N/A"},{"$f":"'1-AST INC'!C27","v":{"v":0,"d":"0 "}},{"$f":"'1-AST INC'!D27","v":{"v":0,"d":"0.00%"}},null,null,{"$f":"IF(ISERROR(SUM($G$13,$G$23:$G$25)*(D27/12*C27)),0,SUM($G$13,$G$23:$G$25)*(D27/12*C27))","v":{"v":0,"d":"$0"}}]
[{"$f":"'1-AST INC'!A28","v":"2."},{"$f":"IF('1-AST INC'!B28>0,'1-AST INC'!B28,\"N/A\")","v":"N/A"},{"$f":"'1-AST INC'!C28","v":{"v":0,"d":"0 "}},{"$f":"'1-AST INC'!D28","v":{"v":0,"d":"0.00%"}},null,null,{"$f":"IF(ISERROR(SUM($G$13,$G$23:$G$25)*(D28/12*C28)),0,SUM($G$13,$G$23:$G$25)*(D28/12*C28))","v":{"v":0,"d":"$0"}}]
[{"$f":"'1-AST INC'!A29","v":"3."},{"$f":"IF('1-AST INC'!B29>0,'1-AST INC'!B29,\"N/A\")","v":"N/A"},{"$f":"'1-AST INC'!C29","v":{"v":0,"d":"0 "}},{"$f":"'1-AST INC'!D29","v":{"v":0,"d":"0.00%"}},null,null,{"$f":"IF(ISERROR(SUM($G$13,$G$23:$G$25)*(D29/12*C29)),0,SUM($G$13,$G$23:$G$25)*(D29/12*C29))","v":{"v":0,"d":"$0"}}]
["PS COST PER POSITION",{"$f":"IF(ISERROR(B11/B12),0,B11/B12)","v":{"v":0,"d":"$0"}},null,null,{"$f":"E13+SUM(E15:E29)","v":{"v":0,"d":"$0"}},{"$f":"F13+SUM(F15:F29)","v":{"v":0,"d":"$0"}},{"$f":"G13+SUM(G15:G29)","v":{"v":0,"d":"$0"}}]
["INCREASE PER YEAR",{"$nulls":3},{"$f":"E30-E13","v":{"v":0,"d":"$0"}},{"$f":"F30-F13","v":{"v":0,"d":"$0"}},{"$f":"G30-G13","v":{"v":0,"d":"$0"}}]
[]
["TOTAL PERSONNEL BENEFIT COST",{"$f":"'CROSS PSPB'!S9","v":{"v":0,"d":"$0"}}]
[{"$f":"A$12","v":"TOTAL POSITIONS PAID"},{"$f":"B$12","v":{"v":0,"d":"0.00"}}]
["STRAIGHT LINE  PB COST PER POSITION",{"$nulls":3},{"$f":"$B$60","v":{"v":0,"d":"$0"}},{"$f":"$E$60","v":{"v":0,"d":"$0"}},{"$f":"$F$60","v":{"v":0,"d":"$0"}}]
["CURRENT YEAR",null,null,"%"]
["FICA",{"$f":"IF('1-AST INC'!B37>0,'1-AST INC'!B37,\"N/A\")","v":"N/A"},{"$f":"'1-AST INC'!C37","v":{"v":0,"d":"0 "}},{"$f":"'1-AST INC'!D37","v":{"v":0,"d":"0.00%"}},{"$f":"$E$31*D37","v":{"v":0,"d":"$0"}}]
["RETIREMENT MATCH",{"$f":"IF('1-AST INC'!B38>0,'1-AST INC'!B38,\"N/A\")","v":"N/A"},{"$f":"'1-AST INC'!C38","v":{"v":0,"d":"0 "}},{"$f":"'1-AST INC'!D38","v":{"v":0,"d":"0.00%"}},{"$f":"$E$31*D38","v":{"v":0,"d":"$0"}}]
["OTHER PERCENT ",{"$f":"IF('1-AST INC'!B39>0,'1-AST INC'!B39,\"N/A\")","v":"N/A"},{"$f":"'1-AST INC'!C39","v":{"v":0,"d":"0 "}},{"$f":"'1-AST INC'!D39","v":{"v":0,"d":"0.00%"}},{"$f":"$E$31*D39","v":{"v":0,"d":"$0"}}]
[null,"EFF. DATE","MOS.","INC."]
["BENEFIT RATE INCREASE",{"$f":"IF('1-AST INC'!B41>0,'1-AST INC'!B41,\"N/A\")","v":"N/A"},{"$f":"'1-AST INC'!C41","v":{"v":0,"d":"0 "}},{"$f":"'1-AST INC'!D41","v":{"v":0,"d":"0.00%"}},{"$f":"IF(ISERROR((D41/12*C41)*E30),0,((D41/12*C41)*E30))","v":{"v":0,"d":"$0"}},{"$f":"IF(ISERROR((E41/C41)*(12-C41)),0,(E41/C41)*(12-C41))","v":{"v":0,"d":"$0"}}]
["INFLATIONARY INCREASE (DEFAULT)",{"$f":"IF('1-AST INC'!B42>0,'1-AST INC'!B42,\"N/A\")","v":"N/A"},{"$f":"'1-AST INC'!C42","v":{"v":12,"d":"12 "}},{"$f":"'1-AST INC'!D42","v":{"v":0.03,"d":"3.00%"}},{"$f":"B60*D42","v":{"v":0,"d":"$0"}},{"$f":"IF(ISERROR((E42/C42)*(12-C42)),0,(E42/C42)*(12-C42))","v":{"v":0,"d":"$0"}}]
["PER POSITION INCREASE",{"$f":"IF('1-AST INC'!B43>0,'1-AST INC'!B43,\"N/A\")","v":"N/A"},{"$f":"'1-AST INC'!C43","v":{"v":0,"d":"0 "}},{"$f":"'1-AST INC'!D43","v":0},{"$f":"IF(ISERROR(D43/12*C43),0,D43/12*C43)","v":{"v":0,"d":"$0"}},{"$f":"IF(ISERROR((E43/C43)*(12-C43)),0,(E43/C43)*(12-C43))","v":{"v":0,"d":"$0"}}]
["NEXT YEAR",null,null,"%"]
["FICA",{"$f":"IF('1-AST INC'!B45>0,'1-AST INC'!B45,\"N/A\")","v":"N/A"},{"$f":"'1-AST INC'!C45","v":{"v":0,"d":"0 "}},{"$f":"'1-AST INC'!D45","v":{"v":0,"d":"0.00%"}},null,{"$f":"IF(ISERROR($F$31*D45),0,$F$31*D45)","v":{"v":0,"d":"$0"}}]
["RETIREMENT MATCH",{"$f":"IF('1-AST INC'!B46>0,'1-AST INC'!B46,\"N/A\")","v":"N/A"},{"$f":"'1-AST INC'!C46","v":{"v":0,"d":"0 "}},{"$f":"'1-AST INC'!D46","v":{"v":0,"d":"0.00%"}},null,{"$f":"IF(ISERROR($F$31*D46),0,$F$31*D46)","v":{"v":0,"d":"$0"}}]
["OTHER PERCENT ",{"$f":"IF('1-AST INC'!B47>0,'1-AST INC'!B47,\"N/A\")","v":"N/A"},{"$f":"'1-AST INC'!C47","v":{"v":0,"d":"0 "}},{"$f":"'1-AST INC'!D47","v":{"v":0,"d":"0.00%"}},null,{"$f":"IF(ISERROR($F$31*D47),0,$F$31*D47)","v":{"v":0,"d":"$0"}}]
[null,"EFF. DATE","MOS.","INC."]
["BENEFIT RATE INCREASE",{"$f":"IF('1-AST INC'!B49>0,'1-AST INC'!B49,\"N/A\")","v":"N/A"},{"$f":"'1-AST INC'!C49","v":{"v":0,"d":"0 "}},{"$f":"'1-AST INC'!D49","v":{"v":0,"d":"0.00%"}},null,{"$f":"IF(ISERROR((D49/12*C49)*F30),0,((D49/12*C49)*F30))","v":{"v":0,"d":"$0"}},{"$f":"IF(ISERROR((F49/C49)*(12-C49)),0,(F49/C49)*(12-C49))","v":{"v":0,"d":"$0"}}]
["INFLATIONARY INCREASE (DEFAULT)",{"$f":"IF('1-AST INC'!B50>0,'1-AST INC'!B50,\"N/A\")","v":"N/A"},{"$f":"'1-AST INC'!C50","v":{"v":12,"d":"12 "}},{"$f":"'1-AST INC'!D50","v":{"v":0.03,"d":"3.00%"}},null,{"$f":"E60*D50","v":{"v":0,"d":"$0"}},{"$f":"IF(ISERROR((F50/C50)*(12-C50)),0,(F50/C50)*(12-C50))","v":{"v":0,"d":"$0"}}]
["PER POSITION INCREASE",{"$f":"IF('1-AST INC'!B51>0,'1-AST INC'!B51,\"N/A\")","v":"N/A"},{"$f":"'1-AST INC'!C51","v":{"v":0,"d":"0 "}},{"$f":"'1-AST INC'!D51","v":0},null,{"$f":"IF(ISERROR(D51/12*C51),0,D51/12*C51)","v":{"v":0,"d":"$0"}},{"$f":"IF(ISERROR((F51/C51)*(12-C51)),0,(F51/C51)*(12-C51))","v":{"v":0,"d":"$0"}}]
["REQUEST YEAR",null,null,"%"]
["FICA",{"$f":"IF('1-AST INC'!B53>0,'1-AST INC'!B53,\"N/A\")","v":"N/A"},{"$f":"'1-AST INC'!C53","v":{"v":0,"d":"0 "}},{"$f":"'1-AST INC'!D53","v":{"v":0,"d":"0.00%"}},null,null,{"$f":"IF(ISERROR($G$31*D53),0,$G$31*D53)","v":{"v":0,"d":"$0"}}]
["RETIREMENT MATCH",{"$f":"IF('1-AST INC'!B54>0,'1-AST INC'!B54,\"N/A\")","v":"N/A"},{"$f":"'1-AST INC'!C54","v":{"v":0,"d":"0 "}},{"$f":"'1-AST INC'!D54","v":{"v":0,"d":"0.00%"}},null,null,{"$f":"IF(ISERROR($G$31*D54),0,$G$31*D54)","v":{"v":0,"d":"$0"}}]
["OTHER PERCENT ",{"$f":"IF('1-AST INC'!B55>0,'1-AST INC'!B55,\"N/A\")","v":"N/A"},{"$f":"'1-AST INC'!C55","v":{"v":0,"d":"0 "}},{"$f":"'1-AST INC'!D55","v":{"v":0,"d":"0.00%"}},null,null,{"$f":"IF(ISERROR($G$31*D55),0,$G$31*D55)","v":{"v":0,"d":"$0"}}]
[null,"EFF. DATE","MOS.","INC."]
["BENEFIT RATE INCREASE",{"$f":"IF('1-AST INC'!B57>0,'1-AST INC'!B57,\"N/A\")","v":"N/A"},{"$f":"'1-AST INC'!C57","v":{"v":0,"d":"0 "}},{"$f":"'1-AST INC'!D57","v":{"v":0,"d":"0.00%"}},null,null,{"$f":"IF(ISERROR((D57/12*C57)*G30),0,((D57/12*C57)*G30))","v":{"v":0,"d":"$0"}}]
["PER POSITION INCREASE",{"$f":"IF('1-AST INC'!B58>0,'1-AST INC'!B58,\"N/A\")","v":"N/A"},{"$f":"'1-AST INC'!C58","v":{"v":0,"d":"0 "}},{"$f":"'1-AST INC'!D58","v":0},null,null,{"$f":"IF(ISERROR(D58/12*C58),0,D58/12*C58)","v":{"v":0,"d":"$0"}}]
["PER POSITION INCREASE",{"$f":"IF('1-AST INC'!B59>0,'1-AST INC'!B59,\"N/A\")","v":"N/A"},{"$f":"'1-AST INC'!C59","v":{"v":0,"d":"0 "}},{"$f":"'1-AST INC'!D59","v":0},null,null,{"$f":"IF(ISERROR(D59/12*C59),0,D59/12*C59)","v":{"v":0,"d":"$0"}}]
["PB COST PER POSITION",{"$f":"IF(ISERROR(B33/B34),0,B33/B34)","v":{"v":0,"d":"$0"}},null,null,{"$f":"SUM(E35:E59)","v":{"v":0,"d":"$0"}},{"$f":"SUM(F35:F59)","v":{"v":0,"d":"$0"}},{"$f":"SUM(G35:G59)","v":{"v":0,"d":"$0"}}]
["INCREASE PER YEAR",{"$nulls":3},{"$f":"E60-E35","v":{"v":0,"d":"$0"}},{"$f":"F60-F35","v":{"v":0,"d":"$0"}},{"$f":"G60-G35","v":{"v":0,"d":"$0"}}]
[]
["PS/PB COST PER POSITION",{"$f":"B30+B60","v":{"v":0,"d":"$0"}},null,null,{"$f":"E30+E60","v":{"v":0,"d":"$0"}},{"$f":"F30+F60","v":{"v":0,"d":"$0"}},{"$f":"G30+G60","v":{"v":0,"d":"$0"}}]

{"sheet":"1-NMD INC","index":9,"n_rows":63,"n_cols":7,"rows_kept":63,"merged":[[0,0,0,6],[2,0,2,6],[4,0,4,6],[5,0,5,6]]}
["COST PER POSITION - NON-MONETARY DETERMINATIONS"]
[{"$f":"STARTUPCW!A2","v":"Crosswalk Version: 2.5.1"}]
["1-NMD "]
[{"$f":"'1-AST INC'!A4","v":"YOUR STATE"}]
[{"$f":"'1-AST INC'!A5:G5","v":"NEXT YEAR"}]
[{"$f":"F7","v":"FY "}]
[null,{"$f":"'1-AST INC'!B7","v":"FY "},null,null,{"$f":"'1-AST INC'!E7","v":"FY "},{"$f":"NEXTFY","v":"FY "},{"$f":"'1-AST INC'!G7","v":"FY 1"}]
[null,"PREVIOUS",null,null,"CURRENT","NEXT","REQUEST"]
[" ","FISCAL YEAR",null,null,"FISCAL YEAR","FISCAL YEAR","FISCAL YEAR"]
[]
["TOTAL PERSONAL SERVICE COST",{"$f":"'CROSS PSPB'!V9","v":{"v":0,"d":"$0"}}]
["TOTAL POSITIONS PAID",{"$f":"IF(STARTUPCW!B16=0,0,'CROSS PSPB'!U9/STARTUPCW!B16)","v":{"v":0,"d":"0.00"}}]
["STRAIGHT LINE  PS COST PER POSITION",{"$nulls":3},{"$f":"IF(ISERROR($B$30),0,$B$30)","v":{"v":0,"d":"$0"}},{"$f":"IF(ISERROR($E$30),0,$E$30)","v":{"v":0,"d":"$0"}},{"$f":"IF(ISERROR($F$30),0,$F$30)","v":{"v":0,"d":"$0"}}]
["PRIOR YEAR - PARTIAL","EFF. DATE","MOS.","%"]
[{"$f":"'1-AST INC'!A15","v":"1. "},{"$f":"IF('1-AST INC'!B15>0,'1-AST INC'!B15,\"N/A\")","v":"N/A"},{"$f":"'1-AST INC'!C15","v":{"v":0,"d":"0 "}},{"$f":"'1-AST INC'!D15","v":{"v":0,"d":"0.00%"}},{"$f":"IF(OR(D15=0,C15=0),0,$E$13/(1+(D15*(C15/12)))*(D15/12*(12-C15)))","v":{"v":0,"d":"$0"}}]
[{"$f":"'1-AST INC'!A16","v":"2."},{"$f":"IF('1-AST INC'!B16>0,'1-AST INC'!B16,\"N/A\")","v":"N/A"},{"$f":"'1-AST INC'!C16","v":{"v":0,"d":"0 "}},{"$f":"'1-AST INC'!D16","v":{"v":0,"d":"0.00%"}},{"$f":"IF(OR(D16=0,C16=0),0,$E$13/(1+(D16*(C16/12)))*(D16/12*(12-C16)))","v":{"v":0,"d":"$0"}}]
[{"$f":"'1-AST INC'!A17","v":"3."},{"$f":"IF('1-AST INC'!B17>0,'1-AST INC'!B17,\"N/A\")","v":"N/A"},{"$f":"'1-AST INC'!C17","v":{"v":0,"d":"0 "}},{"$f":"'1-AST INC'!D17","v":{"v":0,"d":"0.00%"}},{"$f":"IF(OR(D17=0,C17=0),0,$E$13/(1+(D17*(C17/12)))*(D17/12*(12-C17)))","v":{"v":0,"d":"$0"}}]
["CURRENT YEAR"]
[{"$f":"'1-AST INC'!A19","v":"1. Default"},{"$f":"IF('1-AST INC'!B19>0,'1-AST INC'!B19,\"N/A\")","v":"N/A"},{"$f":"'1-AST INC'!C19","v":{"v":12,"d":"12 "}},{"$f":"'1-AST INC'!D19","v":{"v":0.03,"d":"3.00%"}},{"$f":"IF(ISERROR(SUM($E$13,$E$15:$E$17)*(D19/12*C19)),0,SUM($E$13,$E$15:$E$17)*(D19/12*C19))","v":{"v":0,"d":"$0"}},{"$f":"IF(ISERROR((E19/C19)*(12-C19)),0,(E19/C19)*(12-C19))","v":{"v":0,"d":"$0"}}]
[{"$f":"'1-AST INC'!A20","v":"2."},{"$f":"IF('1-AST INC'!B20>0,'1-AST INC'!B20,\"N/A\")","v":"N/A"},{"$f":"'1-AST INC'!C20","v":{"v":0,"d":"0 "}},{"$f":"'1-AST INC'!D20","v":{"v":0,"d":"0.00%"}},{"$f":"IF(ISERROR(SUM($E$13,$E$15:$E$17)*(D20/12*C20)),0,SUM($E$13,$E$15:$E$17)*(D20/12*C20))","v":{"v":0,"d":"$0"}},{"$f":"IF(ISERROR((E20/C20)*(12-C20)),0,(E20/C20)*(12-C20))","v":{"v":0,"d":"$0"}}]
[{"$f":"'1-AST INC'!A21","v":"3."},{"$f":"IF('1-AST INC'!B21>0,'1-AST INC'!B21,\"N/A\")","v":"N/A"},{"$f":"'1-AST INC'!C21","v":{"v":0,"d":"0 "}},{"$f":"'1-AST INC'!D21","v":{"v":0,"d":"0.00%"}},{"$f":"IF(ISERROR(SUM($E$13,$E$15:$E$17)*(D21/12*C21)),0,SUM($E$13,$E$15:$E$17)*(D21/12*C21))","v":{"v":0,"d":"$0"}},{"$f":"IF(ISERROR((E21/C21)*(12-C21)),0,(E21/C21)*(12-C21))","v":{"v":0,"d":"$0"}}]
["NEXT YEAR"]
[{"$f":"'1-AST INC'!A23","v":"1. Default"},{"$f":"IF('1-AST INC'!B23>0,'1-AST INC'!B23,\"N/A\")","v":"N/A"},{"$f":"'1-AST INC'!C23","v":{"v":12,"d":"12 "}},{"$f":"'1-AST INC'!D23","v":{"v":0.03,"d":"3.00%"}},null,{"$f":"IF(ISERROR(SUM($F$13,$F$19:$F$21)*(D23/12*C23)),0,SUM($F$13,$F$19:$F$21)*(D23/12*C23))","v":{"v":0,"d":"$0"}},{"$f":"IF(ISERROR((F23/C23)*(12-C23)),0,(F23/C23)*(12-C23))","v":{"v":0,"d":"$0"}}]
[{"$f":"'1-AST INC'!A24","v":"2."},{"$f":"IF('1-AST INC'!B24>0,'1-AST INC'!B24,\"N/A\")","v":"N/A"},{"$f":"'1-AST INC'!C24","v":{"v":0,"d":"0 "}},{"$f":"'1-AST INC'!D24","v":{"v":0,"d":"0.00%"}},null,{"$f":"IF(ISERROR(SUM($F$13,$F$19:$F$21)*(D24/12*C24)),0,SUM($F$13,$F$19:$F$21)*(D24/12*C24))","v":{"v":0,"d":"$0"}},{"$f":"IF(ISERROR((F24/C24)*(12-C24)),0,(F24/C24)*(12-C24))","v":{"v":0,"d":"$0"}}]
[{"$f":"'1-AST INC'!A25","v":"3."},{"$f":"IF('1-AST INC'!B25>0,'1-AST INC'!B25,\"N/A\")","v":"N/A"},{"$f":"'1-AST INC'!C25","v":{"v":0,"d":"0 "}},{"$f":"'1-AST INC'!D25","v":{"v":0,"d":"0.00%"}},null,{"$f":"IF(ISERROR(SUM($F$13,$F$19:$F$21)*(D25/12*C25)),0,SUM($F$13,$F$19:$F$21)*(D25/12*C25))","v":{"v":0,"d":"$0"}},{"$f":"IF(ISERROR((F25/C25)*(12-C25)),0,(F25/C25)*(12-C25))","v":{"v":0,"d":"$0"}}]
["REQUEST YEAR"]
[{"$f":"'1-AST INC'!A27","v":"1. "},{"$f":"IF('1-AST INC'!B27>0,'1-AST INC'!B27,\"N/A\")","v":"N/A"},{"$f":"'1-AST INC'!C27","v":{"v":0,"d":"0 "}},{"$f":"'1-AST INC'!D27","v":{"v":0,"d":"0.00%"}},null,null,{"$f":"IF(ISERROR(SUM($G$13,$G$23:$G$25)*(D27/12*C27)),0,SUM($G$13,$G$23:$G$25)*(D27/12*C27))","v":{"v":0,"d":"$0"}}]
[{"$f":"'1-AST INC'!A28","v":"2."},{"$f":"IF('1-AST INC'!B28>0,'1-AST INC'!B28,\"N/A\")","v":"N/A"},{"$f":"'1-AST INC'!C28","v":{"v":0,"d":"0 "}},{"$f":"'1-AST INC'!D28","v":{"v":0,"d":"0.00%"}},null,null,{"$f":"IF(ISERROR(SUM($G$13,$G$23:$G$25)*(D28/12*C28)),0,SUM($G$13,$G$23:$G$25)*(D28/12*C28))","v":{"v":0,"d":"$0"}}]
[{"$f":"'1-AST INC'!A29","v":"3."},{"$f":"IF('1-AST INC'!B29>0,'1-AST INC'!B29,\"N/A\")","v":"N/A"},{"$f":"'1-AST INC'!C29","v":{"v":0,"d":"0 "}},{"$f":"'1-AST INC'!D29","v":{"v":0,"d":"0.00%"}},null,null,{"$f":"IF(ISERROR(SUM($G$13,$G$23:$G$25)*(D29/12*C29)),0,SUM($G$13,$G$23:$G$25)*(D29/12*C29))","v":{"v":0,"d":"$0"}}]
["PS COST PER POSITION",{"$f":"IF(ISERROR(B11/B12),0,B11/B12)","v":{"v":0,"d":"$0"}},null,null,{"$f":"E13+SUM(E15:E29)","v":{"v":0,"d":"$0"}},{"$f":"F13+SUM(F15:F29)","v":{"v":0,"d":"$0"}},{"$f":"G13+SUM(G15:G29)","v":{"v":0,"d":"$0"}}]
["INCREASE PER YEAR",{"$nulls":3},{"$f":"E30-E13","v":{"v":0,"d":"$0"}},{"$f":"F30-F13","v":{"v":0,"d":"$0"}},{"$f":"G30-G13","v":{"v":0,"d":"$0"}}]
[]
["TOTAL PERSONNEL BENEFIT COST",{"$f":"'CROSS PSPB'!W9","v":{"v":0,"d":"$0"}}]
[{"$f":"A$12","v":"TOTAL POSITIONS PAID"},{"$f":"B$12","v":{"v":0,"d":"0.00"}}]
["STRAIGHT LINE  PB COST PER POSITION",{"$nulls":3},{"$f":"$B$60","v":{"v":0,"d":"$0"}},{"$f":"$E$60","v":{"v":0,"d":"$0"}},{"$f":"$F$60","v":{"v":0,"d":"$0"}}]
["CURRENT YEAR",null,null,"%"]
["FICA",{"$f":"IF('1-AST INC'!B37>0,'1-AST INC'!B37,\"N/A\")","v":"N/A"},{"$f":"'1-AST INC'!C37","v":{"v":0,"d":"0 "}},{"$f":"'1-AST INC'!D37","v":{"v":0,"d":"0.00%"}},{"$f":"$E$31*D37","v":{"v":0,"d":"$0"}}]
["RETIREMENT MATCH",{"$f":"IF('1-AST INC'!B38>0,'1-AST INC'!B38,\"N/A\")","v":"N/A"},{"$f":"'1-AST INC'!C38","v":{"v":0,"d":"0 "}},{"$f":"'1-AST INC'!D38","v":{"v":0,"d":"0.00%"}},{"$f":"$E$31*D38","v":{"v":0,"d":"$0"}}]
["OTHER PERCENT ",{"$f":"IF('1-AST INC'!B39>0,'1-AST INC'!B39,\"N/A\")","v":"N/A"},{"$f":"'1-AST INC'!C39","v":{"v":0,"d":"0 "}},{"$f":"'1-AST INC'!D39","v":{"v":0,"d":"0.00%"}},{"$f":"$E$31*D39","v":{"v":0,"d":"$0"}}]
[null,"EFF. DATE","MOS.","INC."]
["BENEFIT RATE INCREASE",{"$f":"IF('1-AST INC'!B41>0,'1-AST INC'!B41,\"N/A\")","v":"N/A"},{"$f":"'1-AST INC'!C41","v":{"v":0,"d":"0 "}},{"$f":"'1-AST INC'!D41","v":{"v":0,"d":"0.00%"}},{"$f":"IF(ISERROR((D41/12*C41)*E30),0,((D41/12*C41)*E30))","v":{"v":0,"d":"$0"}},{"$f":"IF(ISERROR((E41/C41)*(12-C41)),0,(E41/C41)*(12-C41))","v":{"v":0,"d":"$0"}}]
["INFLATIONARY INCREASE (DEFAULT)",{"$f":"IF('1-AST INC'!B42>0,'1-AST INC'!B42,\"N/A\")","v":"N/A"},{"$f":"'1-AST INC'!C42","v":{"v":12,"d":"12 "}},{"$f":"'1-AST INC'!D42","v":{"v":0.03,"d":"3.00%"}},{"$f":"B60*D42","v":{"v":0,"d":"$0"}},{"$f":"IF(ISERROR((E42/C42)*(12-C42)),0,(E42/C42)*(12-C42))","v":{"v":0,"d":"$0"}}]
["PER POSITION INCREASE",{"$f":"IF('1-AST INC'!B43>0,'1-AST INC'!B43,\"N/A\")","v":"N/A"},{"$f":"'1-AST INC'!C43","v":{"v":0,"d":"0 "}},{"$f":"'1-AST INC'!D43","v":0},{"$f":"IF(ISERROR(D43/12*C43),0,D43/12*C43)","v":{"v":0,"d":"$0"}},{"$f":"IF(ISERROR((E43/C43)*(12-C43)),0,(E43/C43)*(12-C43))","v":{"v":0,"d":"$0"}}]
["NEXT YEAR",null,null,"%"]
["FICA",{"$f":"IF('1-AST INC'!B45>0,'1-AST INC'!B45,\"N/A\")","v":"N/A"},{"$f":"'1-AST INC'!C45","v":{"v":0,"d":"0 "}},{"$f":"'1-AST INC'!D45","v":{"v":0,"d":"0.00%"}},null,{"$f":"IF(ISERROR($F$31*D45),0,$F$31*D45)","v":{"v":0,"d":"$0"}}]
["RETIREMENT MATCH",{"$f":"IF('1-AST INC'!B46>0,'1-AST INC'!B46,\"N/A\")","v":"N/A"},{"$f":"'1-AST INC'!C46","v":{"v":0,"d":"0 "}},{"$f":"'1-AST INC'!D46","v":{"v":0,"d":"0.00%"}},null,{"$f":"IF(ISERROR($F$31*D46),0,$F$31*D46)","v":{"v":0,"d":"$0"}}]
["OTHER PERCENT ",{"$f":"IF('1-AST INC'!B47>0,'1-AST INC'!B47,\"N/A\")","v":"N/A"},{"$f":"'1-AST INC'!C47","v":{"v":0,"d":"0 "}},{"$f":"'1-AST INC'!D47","v":{"v":0,"d":"0.00%"}},null,{"$f":"IF(ISERROR($F$31*D47),0,$F$31*D47)","v":{"v":0,"d":"$0"}}]
[null,"EFF. DATE","MOS.","INC."]
["BENEFIT RATE INCREASE",{"$f":"IF('1-AST INC'!B49>0,'1-AST INC'!B49,\"N/A\")","v":"N/A"},{"$f":"'1-AST INC'!C49","v":{"v":0,"d":"0 "}},{"$f":"'1-AST INC'!D49","v":{"v":0,"d":"0.00%"}},null,{"$f":"IF(ISERROR((D49/12*C49)*F30),0,((D49/12*C49)*F30))","v":{"v":0,"d":"$0"}},{"$f":"IF(ISERROR((F49/C49)*(12-C49)),0,(F49/C49)*(12-C49))","v":{"v":0,"d":"$0"}}]
["INFLATIONARY INCREASE (DEFAULT)",{"$f":"IF('1-AST INC'!B50>0,'1-AST INC'!B50,\"N/A\")","v":"N/A"},{"$f":"'1-AST INC'!C50","v":{"v":12,"d":"12 "}},{"$f":"'1-AST INC'!D50","v":{"v":0.03,"d":"3.00%"}},null,{"$f":"E60*D50","v":{"v":0,"d":"$0"}},{"$f":"IF(ISERROR((F50/C50)*(12-C50)),0,(F50/C50)*(12-C50))","v":{"v":0,"d":"$0"}}]
["PER POSITION INCREASE",{"$f":"IF('1-AST INC'!B51>0,'1-AST INC'!B51,\"N/A\")","v":"N/A"},{"$f":"'1-AST INC'!C51","v":{"v":0,"d":"0 "}},{"$f":"'1-AST INC'!D51","v":0},null,{"$f":"IF(ISERROR(D51/12*C51),0,D51/12*C51)","v":{"v":0,"d":"$0"}},{"$f":"IF(ISERROR((F51/C51)*(12-C51)),0,(F51/C51)*(12-C51))","v":{"v":0,"d":"$0"}}]
["REQUEST YEAR",null,null,"%"]
["FICA",{"$f":"IF('1-AST INC'!B53>0,'1-AST INC'!B53,\"N/A\")","v":"N/A"},{"$f":"'1-AST INC'!C53","v":{"v":0,"d":"0 "}},{"$f":"'1-AST INC'!D53","v":{"v":0,"d":"0.00%"}},null,null,{"$f":"IF(ISERROR($G$31*D53),0,$G$31*D53)","v":{"v":0,"d":"$0"}}]
["RETIREMENT MATCH",{"$f":"IF('1-AST INC'!B54>0,'1-AST INC'!B54,\"N/A\")","v":"N/A"},{"$f":"'1-AST INC'!C54","v":{"v":0,"d":"0 "}},{"$f":"'1-AST INC'!D54","v":{"v":0,"d":"0.00%"}},null,null,{"$f":"IF(ISERROR($G$31*D54),0,$G$31*D54)","v":{"v":0,"d":"$0"}}]
["OTHER PERCENT ",{"$f":"IF('1-AST INC'!B55>0,'1-AST INC'!B55,\"N/A\")","v":"N/A"},{"$f":"'1-AST INC'!C55","v":{"v":0,"d":"0 "}},{"$f":"'1-AST INC'!D55","v":{"v":0,"d":"0.00%"}},null,null,{"$f":"IF(ISERROR($G$31*D55),0,$G$31*D55)","v":{"v":0,"d":"$0"}}]
[null,"EFF. DATE","MOS.","INC."]
["BENEFIT RATE INCREASE",{"$f":"IF('1-AST INC'!B57>0,'1-AST INC'!B57,\"N/A\")","v":"N/A"},{"$f":"'1-AST INC'!C57","v":{"v":0,"d":"0 "}},{"$f":"'1-AST INC'!D57","v":{"v":0,"d":"0.00%"}},null,null,{"$f":"IF(ISERROR((D57/12*C57)*G30),0,((D57/12*C57)*G30))","v":{"v":0,"d":"$0"}}]
["PER POSITION INCREASE",{"$f":"IF('1-AST INC'!B58>0,'1-AST INC'!B58,\"N/A\")","v":"N/A"},{"$f":"'1-AST INC'!C58","v":{"v":0,"d":"0 "}},{"$f":"'1-AST INC'!D58","v":0},null,null,{"$f":"IF(ISERROR(D58/12*C58),0,D58/12*C58)","v":{"v":0,"d":"$0"}}]
["PER POSITION INCREASE",{"$f":"IF('1-AST INC'!B59>0,'1-AST INC'!B59,\"N/A\")","v":"N/A"},{"$f":"'1-AST INC'!C59","v":{"v":0,"d":"0 "}},{"$f":"'1-AST INC'!D59","v":0},null,null,{"$f":"IF(ISERROR(D59/12*C59),0,D59/12*C59)","v":{"v":0,"d":"$0"}}]
["PB COST PER POSITION",{"$f":"IF(ISERROR(B33/B34),0,B33/B34)","v":{"v":0,"d":"$0"}},null,null,{"$f":"SUM(E35:E59)","v":{"v":0,"d":"$0"}},{"$f":"SUM(F35:F59)","v":{"v":0,"d":"$0"}},{"$f":"SUM(G35:G59)","v":{"v":0,"d":"$0"}}]
["INCREASE PER YEAR",{"$nulls":3},{"$f":"E60-E35","v":{"v":0,"d":"$0"}},{"$f":"F60-F35","v":{"v":0,"d":"$0"}},{"$f":"G60-G35","v":{"v":0,"d":"$0"}}]
[]
["PS/PB COST PER POSITION",{"$f":"B30+B60","v":{"v":0,"d":"$0"}},null,null,{"$f":"E30+E60","v":{"v":0,"d":"$0"}},{"$f":"F30+F60","v":{"v":0,"d":"$0"}},{"$f":"G30+G60","v":{"v":0,"d":"$0"}}]

{"sheet":"1-APP INC","index":10,"n_rows":63,"n_cols":7,"rows_kept":63,"merged":[[0,0,0,6],[2,0,2,6],[4,0,4,6],[5,0,5,6]]}
["COST PER POSITION - APPEALS"]
[{"$f":"STARTUPCW!A2","v":"Crosswalk Version: 2.5.1"}]
["1-APP "]
[{"$f":"'1-AST INC'!A4","v":"YOUR STATE"}]
[{"$f":"'1-AST INC'!A5:G5","v":"NEXT YEAR"}]
[{"$f":"F7","v":"FY "}]
[null,{"$f":"'1-AST INC'!B7","v":"FY "},null,null,{"$f":"'1-AST INC'!E7","v":"FY "},{"$f":"NEXTFY","v":"FY "},{"$f":"'1-AST INC'!G7","v":"FY 1"}]
[null,"PREVIOUS",null,null,"CURRENT","NEXT","REQUEST"]
[" ","FISCAL YEAR",null,null,"FISCAL YEAR","FISCAL YEAR","FISCAL YEAR"]
[]
["TOTAL PERSONAL SERVICE COST",{"$f":"'CROSS PSPB'!Z9","v":{"v":0,"d":"$0"}}]
["TOTAL POSITIONS PAID",{"$f":"IF(STARTUPCW!B16=0,0,'CROSS PSPB'!Y9/STARTUPCW!B16)","v":{"v":0,"d":"0.00"}}]
["STRAIGHT LINE  PS COST PER POSITION",{"$nulls":3},{"$f":"IF(ISERROR($B$30),0,$B$30)","v":{"v":0,"d":"$0"}},{"$f":"IF(ISERROR($E$30),0,$E$30)","v":{"v":0,"d":"$0"}},{"$f":"IF(ISERROR($F$30),0,$F$30)","v":{"v":0,"d":"$0"}}]
["PRIOR YEAR - PARTIAL","EFF. DATE","MOS.","%"]
[{"$f":"'1-AST INC'!A15","v":"1. "},{"$f":"IF('1-AST INC'!B15>0,'1-AST INC'!B15,\"N/A\")","v":"N/A"},{"$f":"'1-AST INC'!C15","v":{"v":0,"d":"0 "}},{"$f":"'1-AST INC'!D15","v":{"v":0,"d":"0.00%"}},{"$f":"IF(OR(D15=0,C15=0),0,$E$13/(1+(D15*(C15/12)))*(D15/12*(12-C15)))","v":{"v":0,"d":"$0"}}]
[{"$f":"'1-AST INC'!A16","v":"2."},{"$f":"IF('1-AST INC'!B16>0,'1-AST INC'!B16,\"N/A\")","v":"N/A"},{"$f":"'1-AST INC'!C16","v":{"v":0,"d":"0 "}},{"$f":"'1-AST INC'!D16","v":{"v":0,"d":"0.00%"}},{"$f":"IF(OR(D16=0,C16=0),0,$E$13/(1+(D16*(C16/12)))*(D16/12*(12-C16)))","v":{"v":0,"d":"$0"}}]
[{"$f":"'1-AST INC'!A17","v":"3."},{"$f":"IF('1-AST INC'!B17>0,'1-AST INC'!B17,\"N/A\")","v":"N/A"},{"$f":"'1-AST INC'!C17","v":{"v":0,"d":"0 "}},{"$f":"'1-AST INC'!D17","v":{"v":0,"d":"0.00%"}},{"$f":"IF(OR(D17=0,C17=0),0,$E$13/(1+(D17*(C17/12)))*(D17/12*(12-C17)))","v":{"v":0,"d":"$0"}}]
["CURRENT YEAR"]
[{"$f":"'1-AST INC'!A19","v":"1. Default"},{"$f":"IF('1-AST INC'!B19>0,'1-AST INC'!B19,\"N/A\")","v":"N/A"},{"$f":"'1-AST INC'!C19","v":{"v":12,"d":"12 "}},{"$f":"'1-AST INC'!D19","v":{"v":0.03,"d":"3.00%"}},{"$f":"IF(ISERROR(SUM($E$13,$E$15:$E$17)*(D19/12*C19)),0,SUM($E$13,$E$15:$E$17)*(D19/12*C19))","v":{"v":0,"d":"$0"}},{"$f":"IF(ISERROR((E19/C19)*(12-C19)),0,(E19/C19)*(12-C19))","v":{"v":0,"d":"$0"}}]
[{"$f":"'1-AST INC'!A20","v":"2."},{"$f":"IF('1-AST INC'!B20>0,'1-AST INC'!B20,\"N/A\")","v":"N/A"},{"$f":"'1-AST INC'!C20","v":{"v":0,"d":"0 "}},{"$f":"'1-AST INC'!D20","v":{"v":0,"d":"0.00%"}},{"$f":"IF(ISERROR(SUM($E$13,$E$15:$E$17)*(D20/12*C20)),0,SUM($E$13,$E$15:$E$17)*(D20/12*C20))","v":{"v":0,"d":"$0"}},{"$f":"IF(ISERROR((E20/C20)*(12-C20)),0,(E20/C20)*(12-C20))","v":{"v":0,"d":"$0"}}]
[{"$f":"'1-AST INC'!A21","v":"3."},{"$f":"IF('1-AST INC'!B21>0,'1-AST INC'!B21,\"N/A\")","v":"N/A"},{"$f":"'1-AST INC'!C21","v":{"v":0,"d":"0 "}},{"$f":"'1-AST INC'!D21","v":{"v":0,"d":"0.00%"}},{"$f":"IF(ISERROR(SUM($E$13,$E$15:$E$17)*(D21/12*C21)),0,SUM($E$13,$E$15:$E$17)*(D21/12*C21))","v":{"v":0,"d":"$0"}},{"$f":"IF(ISERROR((E21/C21)*(12-C21)),0,(E21/C21)*(12-C21))","v":{"v":0,"d":"$0"}}]
["NEXT YEAR"]
[{"$f":"'1-AST INC'!A23","v":"1. Default"},{"$f":"IF('1-AST INC'!B23>0,'1-AST INC'!B23,\"N/A\")","v":"N/A"},{"$f":"'1-AST INC'!C23","v":{"v":12,"d":"12 "}},{"$f":"'1-AST INC'!D23","v":{"v":0.03,"d":"3.00%"}},null,{"$f":"IF(ISERROR(SUM($F$13,$F$19:$F$21)*(D23/12*C23)),0,SUM($F$13,$F$19:$F$21)*(D23/12*C23))","v":{"v":0,"d":"$0"}},{"$f":"IF(ISERROR((F23/C23)*(12-C23)),0,(F23/C23)*(12-C23))","v":{"v":0,"d":"$0"}}]
[{"$f":"'1-AST INC'!A24","v":"2."},{"$f":"IF('1-AST INC'!B24>0,'1-AST INC'!B24,\"N/A\")","v":"N/A"},{"$f":"'1-AST INC'!C24","v":{"v":0,"d":"0 "}},{"$f":"'1-AST INC'!D24","v":{"v":0,"d":"0.00%"}},null,{"$f":"IF(ISERROR(SUM($F$13,$F$19:$F$21)*(D24/12*C24)),0,SUM($F$13,$F$19:$F$21)*(D24/12*C24))","v":{"v":0,"d":"$0"}},{"$f":"IF(ISERROR((F24/C24)*(12-C24)),0,(F24/C24)*(12-C24))","v":{"v":0,"d":"$0"}}]
[{"$f":"'1-AST INC'!A25","v":"3."},{"$f":"IF('1-AST INC'!B25>0,'1-AST INC'!B25,\"N/A\")","v":"N/A"},{"$f":"'1-AST INC'!C25","v":{"v":0,"d":"0 "}},{"$f":"'1-AST INC'!D25","v":{"v":0,"d":"0.00%"}},null,{"$f":"IF(ISERROR(SUM($F$13,$F$19:$F$21)*(D25/12*C25)),0,SUM($F$13,$F$19:$F$21)*(D25/12*C25))","v":{"v":0,"d":"$0"}},{"$f":"IF(ISERROR((F25/C25)*(12-C25)),0,(F25/C25)*(12-C25))","v":{"v":0,"d":"$0"}}]
["REQUEST YEAR"]
[{"$f":"'1-AST INC'!A27","v":"1. "},{"$f":"IF('1-AST INC'!B27>0,'1-AST INC'!B27,\"N/A\")","v":"N/A"},{"$f":"'1-AST INC'!C27","v":{"v":0,"d":"0 "}},{"$f":"'1-AST INC'!D27","v":{"v":0,"d":"0.00%"}},null,null,{"$f":"IF(ISERROR(SUM($G$13,$G$23:$G$25)*(D27/12*C27)),0,SUM($G$13,$G$23:$G$25)*(D27/12*C27))","v":{"v":0,"d":"$0"}}]
[{"$f":"'1-AST INC'!A28","v":"2."},{"$f":"IF('1-AST INC'!B28>0,'1-AST INC'!B28,\"N/A\")","v":"N/A"},{"$f":"'1-AST INC'!C28","v":{"v":0,"d":"0 "}},{"$f":"'1-AST INC'!D28","v":{"v":0,"d":"0.00%"}},null,null,{"$f":"IF(ISERROR(SUM($G$13,$G$23:$G$25)*(D28/12*C28)),0,SUM($G$13,$G$23:$G$25)*(D28/12*C28))","v":{"v":0,"d":"$0"}}]
[{"$f":"'1-AST INC'!A29","v":"3."},{"$f":"IF('1-AST INC'!B29>0,'1-AST INC'!B29,\"N/A\")","v":"N/A"},{"$f":"'1-AST INC'!C29","v":{"v":0,"d":"0 "}},{"$f":"'1-AST INC'!D29","v":{"v":0,"d":"0.00%"}},null,null,{"$f":"IF(ISERROR(SUM($G$13,$G$23:$G$25)*(D29/12*C29)),0,SUM($G$13,$G$23:$G$25)*(D29/12*C29))","v":{"v":0,"d":"$0"}}]
["PS COST PER POSITION",{"$f":"IF(ISERROR(B11/B12),0,B11/B12)","v":{"v":0,"d":"$0"}},null,null,{"$f":"E13+SUM(E15:E29)","v":{"v":0,"d":"$0"}},{"$f":"F13+SUM(F15:F29)","v":{"v":0,"d":"$0"}},{"$f":"G13+SUM(G15:G29)","v":{"v":0,"d":"$0"}}]
["INCREASE PER YEAR",{"$nulls":3},{"$f":"E30-E13","v":{"v":0,"d":"$0"}},{"$f":"F30-F13","v":{"v":0,"d":"$0"}},{"$f":"G30-G13","v":{"v":0,"d":"$0"}}]
[]
["TOTAL PERSONNEL BENEFIT COST",{"$f":"'CROSS PSPB'!AA9","v":{"v":0,"d":"$0"}}]
[{"$f":"A$12","v":"TOTAL POSITIONS PAID"},{"$f":"B$12","v":{"v":0,"d":"0.00"}}]
["STRAIGHT LINE  PB COST PER POSITION",{"$nulls":3},{"$f":"$B$60","v":{"v":0,"d":"$0"}},{"$f":"$E$60","v":{"v":0,"d":"$0"}},{"$f":"$F$60","v":{"v":0,"d":"$0"}}]
["CURRENT YEAR",null,null,"%"]
["FICA",{"$f":"IF('1-AST INC'!B37>0,'1-AST INC'!B37,\"N/A\")","v":"N/A"},{"$f":"'1-AST INC'!C37","v":{"v":0,"d":"0 "}},{"$f":"'1-AST INC'!D37","v":{"v":0,"d":"0.00%"}},{"$f":"$E$31*D37","v":{"v":0,"d":"$0"}}]
["RETIREMENT MATCH",{"$f":"IF('1-AST INC'!B38>0,'1-AST INC'!B38,\"N/A\")","v":"N/A"},{"$f":"'1-AST INC'!C38","v":{"v":0,"d":"0 "}},{"$f":"'1-AST INC'!D38","v":{"v":0,"d":"0.00%"}},{"$f":"$E$31*D38","v":{"v":0,"d":"$0"}}]
["OTHER PERCENT ",{"$f":"IF('1-AST INC'!B39>0,'1-AST INC'!B39,\"N/A\")","v":"N/A"},{"$f":"'1-AST INC'!C39","v":{"v":0,"d":"0 "}},{"$f":"'1-AST INC'!D39","v":{"v":0,"d":"0.00%"}},{"$f":"$E$31*D39","v":{"v":0,"d":"$0"}}]
[null,"EFF. DATE","MOS.","INC."]
["BENEFIT RATE INCREASE",{"$f":"IF('1-AST INC'!B41>0,'1-AST INC'!B41,\"N/A\")","v":"N/A"},{"$f":"'1-AST INC'!C41","v":{"v":0,"d":"0 "}},{"$f":"'1-AST INC'!D41","v":{"v":0,"d":"0.00%"}},{"$f":"IF(ISERROR((D41/12*C41)*E30),0,((D41/12*C41)*E30))","v":{"v":0,"d":"$0"}},{"$f":"IF(ISERROR((E41/C41)*(12-C41)),0,(E41/C41)*(12-C41))","v":{"v":0,"d":"$0"}}]
["INFLATIONARY INCREASE (DEFAULT)",{"$f":"IF('1-AST INC'!B42>0,'1-AST INC'!B42,\"N/A\")","v":"N/A"},{"$f":"'1-AST INC'!C42","v":{"v":12,"d":"12 "}},{"$f":"'1-AST INC'!D42","v":{"v":0.03,"d":"3.00%"}},{"$f":"B60*D42","v":{"v":0,"d":"$0"}},{"$f":"IF(ISERROR((E42/C42)*(12-C42)),0,(E42/C42)*(12-C42))","v":{"v":0,"d":"$0"}}]
["PER POSITION INCREASE",{"$f":"IF('1-AST INC'!B43>0,'1-AST INC'!B43,\"N/A\")","v":"N/A"},{"$f":"'1-AST INC'!C43","v":{"v":0,"d":"0 "}},{"$f":"'1-AST INC'!D43","v":0},{"$f":"IF(ISERROR(D43/12*C43),0,D43/12*C43)","v":{"v":0,"d":"$0"}},{"$f":"IF(ISERROR((E43/C43)*(12-C43)),0,(E43/C43)*(12-C43))","v":{"v":0,"d":"$0"}}]
["NEXT YEAR",null,null,"%"]
["FICA",{"$f":"IF('1-AST INC'!B45>0,'1-AST INC'!B45,\"N/A\")","v":"N/A"},{"$f":"'1-AST INC'!C45","v":{"v":0,"d":"0 "}},{"$f":"'1-AST INC'!D45","v":{"v":0,"d":"0.00%"}},null,{"$f":"IF(ISERROR($F$31*D45),0,$F$31*D45)","v":{"v":0,"d":"$0"}}]
["RETIREMENT MATCH",{"$f":"IF('1-AST INC'!B46>0,'1-AST INC'!B46,\"N/A\")","v":"N/A"},{"$f":"'1-AST INC'!C46","v":{"v":0,"d":"0 "}},{"$f":"'1-AST INC'!D46","v":{"v":0,"d":"0.00%"}},null,{"$f":"IF(ISERROR($F$31*D46),0,$F$31*D46)","v":{"v":0,"d":"$0"}}]
["OTHER PERCENT ",{"$f":"IF('1-AST INC'!B47>0,'1-AST INC'!B47,\"N/A\")","v":"N/A"},{"$f":"'1-AST INC'!C47","v":{"v":0,"d":"0 "}},{"$f":"'1-AST INC'!D47","v":{"v":0,"d":"0.00%"}},null,{"$f":"IF(ISERROR($F$31*D47),0,$F$31*D47)","v":{"v":0,"d":"$0"}}]
[null,"EFF. DATE","MOS.","INC."]
["BENEFIT RATE INCREASE",{"$f":"IF('1-AST INC'!B49>0,'1-AST INC'!B49,\"N/A\")","v":"N/A"},{"$f":"'1-AST INC'!C49","v":{"v":0,"d":"0 "}},{"$f":"'1-AST INC'!D49","v":{"v":0,"d":"0.00%"}},null,{"$f":"IF(ISERROR((D49/12*C49)*F30),0,((D49/12*C49)*F30))","v":{"v":0,"d":"$0"}},{"$f":"IF(ISERROR((F49/C49)*(12-C49)),0,(F49/C49)*(12-C49))","v":{"v":0,"d":"$0"}}]
["INFLATIONARY INCREASE (DEFAULT)",{"$f":"IF('1-AST INC'!B50>0,'1-AST INC'!B50,\"N/A\")","v":"N/A"},{"$f":"'1-AST INC'!C50","v":{"v":12,"d":"12 "}},{"$f":"'1-AST INC'!D50","v":{"v":0.03,"d":"3.00%"}},null,{"$f":"E60*D50","v":{"v":0,"d":"$0"}},{"$f":"IF(ISERROR((F50/C50)*(12-C50)),0,(F50/C50)*(12-C50))","v":{"v":0,"d":"$0"}}]
["PER POSITION INCREASE",{"$f":"IF('1-AST INC'!B51>0,'1-AST INC'!B51,\"N/A\")","v":"N/A"},{"$f":"'1-AST INC'!C51","v":{"v":0,"d":"0 "}},{"$f":"'1-AST INC'!D51","v":0},null,{"$f":"IF(ISERROR(D51/12*C51),0,D51/12*C51)","v":{"v":0,"d":"$0"}},{"$f":"IF(ISERROR((F51/C51)*(12-C51)),0,(F51/C51)*(12-C51))","v":{"v":0,"d":"$0"}}]
["REQUEST YEAR",null,null,"%"]
["FICA",{"$f":"IF('1-AST INC'!B53>0,'1-AST INC'!B53,\"N/A\")","v":"N/A"},{"$f":"'1-AST INC'!C53","v":{"v":0,"d":"0 "}},{"$f":"'1-AST INC'!D53","v":{"v":0,"d":"0.00%"}},null,null,{"$f":"IF(ISERROR($G$31*D53),0,$G$31*D53)","v":{"v":0,"d":"$0"}}]
["RETIREMENT MATCH",{"$f":"IF('1-AST INC'!B54>0,'1-AST INC'!B54,\"N/A\")","v":"N/A"},{"$f":"'1-AST INC'!C54","v":{"v":0,"d":"0 "}},{"$f":"'1-AST INC'!D54","v":{"v":0,"d":"0.00%"}},null,null,{"$f":"IF(ISERROR($G$31*D54),0,$G$31*D54)","v":{"v":0,"d":"$0"}}]
["OTHER PERCENT ",{"$f":"IF('1-AST INC'!B55>0,'1-AST INC'!B55,\"N/A\")","v":"N/A"},{"$f":"'1-AST INC'!C55","v":{"v":0,"d":"0 "}},{"$f":"'1-AST INC'!D55","v":{"v":0,"d":"0.00%"}},null,null,{"$f":"IF(ISERROR($G$31*D55),0,$G$31*D55)","v":{"v":0,"d":"$0"}}]
[null,"EFF. DATE","MOS.","INC."]
["BENEFIT RATE INCREASE",{"$f":"IF('1-AST INC'!B57>0,'1-AST INC'!B57,\"N/A\")","v":"N/A"},{"$f":"'1-AST INC'!C57","v":{"v":0,"d":"0 "}},{"$f":"'1-AST INC'!D57","v":{"v":0,"d":"0.00%"}},null,null,{"$f":"IF(ISERROR((D57/12*C57)*G30),0,((D57/12*C57)*G30))","v":{"v":0,"d":"$0"}}]
["PER POSITION INCREASE",{"$f":"IF('1-AST INC'!B58>0,'1-AST INC'!B58,\"N/A\")","v":"N/A"},{"$f":"'1-AST INC'!C58","v":{"v":0,"d":"0 "}},{"$f":"'1-AST INC'!D58","v":0},null,null,{"$f":"IF(ISERROR(D58/12*C58),0,D58/12*C58)","v":{"v":0,"d":"$0"}}]
["PER POSITION INCREASE",{"$f":"IF('1-AST INC'!B59>0,'1-AST INC'!B59,\"N/A\")","v":"N/A"},{"$f":"'1-AST INC'!C59","v":{"v":0,"d":"0 "}},{"$f":"'1-AST INC'!D59","v":0},null,null,{"$f":"IF(ISERROR(D59/12*C59),0,D59/12*C59)","v":{"v":0,"d":"$0"}}]
["PB COST PER POSITION",{"$f":"IF(ISERROR(B33/B34),0,B33/B34)","v":{"v":0,"d":"$0"}},null,null,{"$f":"SUM(E35:E59)","v":{"v":0,"d":"$0"}},{"$f":"SUM(F35:F59)","v":{"v":0,"d":"$0"}},{"$f":"SUM(G35:G59)","v":{"v":0,"d":"$0"}}]
["INCREASE PER YEAR",{"$nulls":3},{"$f":"E60-E35","v":{"v":0,"d":"$0"}},{"$f":"F60-F35","v":{"v":0,"d":"$0"}},{"$f":"G60-G35","v":{"v":0,"d":"$0"}}]
[]
["PS/PB COST PER POSITION",{"$f":"B30+B60","v":{"v":0,"d":"$0"}},null,null,{"$f":"E30+E60","v":{"v":0,"d":"$0"}},{"$f":"F30+F60","v":{"v":0,"d":"$0"}},{"$f":"G30+G60","v":{"v":0,"d":"$0"}}]

{"sheet":"1-WR INC","index":11,"n_rows":63,"n_cols":7,"rows_kept":63,"merged":[[0,0,0,6],[2,0,2,6],[4,0,4,6],[5,0,5,6]]}
["COST PER POSITION - WAGE RECORDS"]
[{"$f":"STARTUPCW!A2","v":"Crosswalk Version: 2.5.1"}]
["1-WR "]
[{"$f":"'1-AST INC'!A4","v":"YOUR STATE"}]
[{"$f":"'1-AST INC'!A5:G5","v":"NEXT YEAR"}]
[{"$f":"F7","v":"FY "}]
[null,{"$f":"'1-AST INC'!B7","v":"FY "},null,null,{"$f":"'1-AST INC'!E7","v":"FY "},{"$f":"NEXTFY","v":"FY "},{"$f":"'1-AST INC'!G7","v":"FY 1"}]
[null,"PREVIOUS",null,null,"CURRENT","NEXT","REQUEST"]
[" ","FISCAL YEAR",null,null,"FISCAL YEAR","FISCAL YEAR","FISCAL YEAR"]
[]
["TOTAL PERSONAL SERVICE COST",{"$f":"'CROSS PSPB'!AD9","v":{"v":0,"d":"$0"}}]
["TOTAL POSITIONS PAID",{"$f":"IF(STARTUPCW!B16=0,0,'CROSS PSPB'!AC9/STARTUPCW!B16)","v":{"v":0,"d":"0.00"}}]
["STRAIGHT LINE  PS COST PER POSITION",{"$nulls":3},{"$f":"IF(ISERROR($B$30),0,$B$30)","v":{"v":0,"d":"$0"}},{"$f":"IF(ISERROR($E$30),0,$E$30)","v":{"v":0,"d":"$0"}},{"$f":"IF(ISERROR($F$30),0,$F$30)","v":{"v":0,"d":"$0"}}]
["PRIOR YEAR - PARTIAL","EFF. DATE","MOS.","%"]
[{"$f":"'1-AST INC'!A15","v":"1. "},{"$f":"IF('1-AST INC'!B15>0,'1-AST INC'!B15,\"N/A\")","v":"N/A"},{"$f":"'1-AST INC'!C15","v":{"v":0,"d":"0 "}},{"$f":"'1-AST INC'!D15","v":{"v":0,"d":"0.00%"}},{"$f":"IF(OR(D15=0,C15=0),0,$E$13/(1+(D15*(C15/12)))*(D15/12*(12-C15)))","v":{"v":0,"d":"$0"}}]
[{"$f":"'1-AST INC'!A16","v":"2."},{"$f":"IF('1-AST INC'!B16>0,'1-AST INC'!B16,\"N/A\")","v":"N/A"},{"$f":"'1-AST INC'!C16","v":{"v":0,"d":"0 "}},{"$f":"'1-AST INC'!D16","v":{"v":0,"d":"0.00%"}},{"$f":"IF(OR(D16=0,C16=0),0,$E$13/(1+(D16*(C16/12)))*(D16/12*(12-C16)))","v":{"v":0,"d":"$0"}}]
[{"$f":"'1-AST INC'!A17","v":"3."},{"$f":"IF('1-AST INC'!B17>0,'1-AST INC'!B17,\"N/A\")","v":"N/A"},{"$f":"'1-AST INC'!C17","v":{"v":0,"d":"0 "}},{"$f":"'1-AST INC'!D17","v":{"v":0,"d":"0.00%"}},{"$f":"IF(OR(D17=0,C17=0),0,$E$13/(1+(D17*(C17/12)))*(D17/12*(12-C17)))","v":{"v":0,"d":"$0"}}]
["CURRENT YEAR"]
[{"$f":"'1-AST INC'!A19","v":"1. Default"},{"$f":"IF('1-AST INC'!B19>0,'1-AST INC'!B19,\"N/A\")","v":"N/A"},{"$f":"'1-AST INC'!C19","v":{"v":12,"d":"12 "}},{"$f":"'1-AST INC'!D19","v":{"v":0.03,"d":"3.00%"}},{"$f":"IF(ISERROR(SUM($E$13,$E$15:$E$17)*(D19/12*C19)),0,SUM($E$13,$E$15:$E$17)*(D19/12*C19))","v":{"v":0,"d":"$0"}},{"$f":"IF(ISERROR((E19/C19)*(12-C19)),0,(E19/C19)*(12-C19))","v":{"v":0,"d":"$0"}}]
[{"$f":"'1-AST INC'!A20","v":"2."},{"$f":"IF('1-AST INC'!B20>0,'1-AST INC'!B20,\"N/A\")","v":"N/A"},{"$f":"'1-AST INC'!C20","v":{"v":0,"d":"0 "}},{"$f":"'1-AST INC'!D20","v":{"v":0,"d":"0.00%"}},{"$f":"IF(ISERROR(SUM($E$13,$E$15:$E$17)*(D20/12*C20)),0,SUM($E$13,$E$15:$E$17)*(D20/12*C20))","v":{"v":0,"d":"$0"}},{"$f":"IF(ISERROR((E20/C20)*(12-C20)),0,(E20/C20)*(12-C20))","v":{"v":0,"d":"$0"}}]
[{"$f":"'1-AST INC'!A21","v":"3."},{"$f":"IF('1-AST INC'!B21>0,'1-AST INC'!B21,\"N/A\")","v":"N/A"},{"$f":"'1-AST INC'!C21","v":{"v":0,"d":"0 "}},{"$f":"'1-AST INC'!D21","v":{"v":0,"d":"0.00%"}},{"$f":"IF(ISERROR(SUM($E$13,$E$15:$E$17)*(D21/12*C21)),0,SUM($E$13,$E$15:$E$17)*(D21/12*C21))","v":{"v":0,"d":"$0"}},{"$f":"IF(ISERROR((E21/C21)*(12-C21)),0,(E21/C21)*(12-C21))","v":{"v":0,"d":"$0"}}]
["NEXT YEAR"]
[{"$f":"'1-AST INC'!A23","v":"1. Default"},{"$f":"IF('1-AST INC'!B23>0,'1-AST INC'!B23,\"N/A\")","v":"N/A"},{"$f":"'1-AST INC'!C23","v":{"v":12,"d":"12 "}},{"$f":"'1-AST INC'!D23","v":{"v":0.03,"d":"3.00%"}},null,{"$f":"IF(ISERROR(SUM($F$13,$F$19:$F$21)*(D23/12*C23)),0,SUM($F$13,$F$19:$F$21)*(D23/12*C23))","v":{"v":0,"d":"$0"}},{"$f":"IF(ISERROR((F23/C23)*(12-C23)),0,(F23/C23)*(12-C23))","v":{"v":0,"d":"$0"}}]
[{"$f":"'1-AST INC'!A24","v":"2."},{"$f":"IF('1-AST INC'!B24>0,'1-AST INC'!B24,\"N/A\")","v":"N/A"},{"$f":"'1-AST INC'!C24","v":{"v":0,"d":"0 "}},{"$f":"'1-AST INC'!D24","v":{"v":0,"d":"0.00%"}},null,{"$f":"IF(ISERROR(SUM($F$13,$F$19:$F$21)*(D24/12*C24)),0,SUM($F$13,$F$19:$F$21)*(D24/12*C24))","v":{"v":0,"d":"$0"}},{"$f":"IF(ISERROR((F24/C24)*(12-C24)),0,(F24/C24)*(12-C24))","v":{"v":0,"d":"$0"}}]
[{"$f":"'1-AST INC'!A25","v":"3."},{"$f":"IF('1-AST INC'!B25>0,'1-AST INC'!B25,\"N/A\")","v":"N/A"},{"$f":"'1-AST INC'!C25","v":{"v":0,"d":"0 "}},{"$f":"'1-AST INC'!D25","v":{"v":0,"d":"0.00%"}},null,{"$f":"IF(ISERROR(SUM($F$13,$F$19:$F$21)*(D25/12*C25)),0,SUM($F$13,$F$19:$F$21)*(D25/12*C25))","v":{"v":0,"d":"$0"}},{"$f":"IF(ISERROR((F25/C25)*(12-C25)),0,(F25/C25)*(12-C25))","v":{"v":0,"d":"$0"}}]
["REQUEST YEAR"]
[{"$f":"'1-AST INC'!A27","v":"1. "},{"$f":"IF('1-AST INC'!B27>0,'1-AST INC'!B27,\"N/A\")","v":"N/A"},{"$f":"'1-AST INC'!C27","v":{"v":0,"d":"0 "}},{"$f":"'1-AST INC'!D27","v":{"v":0,"d":"0.00%"}},null,null,{"$f":"IF(ISERROR(SUM($G$13,$G$23:$G$25)*(D27/12*C27)),0,SUM($G$13,$G$23:$G$25)*(D27/12*C27))","v":{"v":0,"d":"$0"}}]
[{"$f":"'1-AST INC'!A28","v":"2."},{"$f":"IF('1-AST INC'!B28>0,'1-AST INC'!B28,\"N/A\")","v":"N/A"},{"$f":"'1-AST INC'!C28","v":{"v":0,"d":"0 "}},{"$f":"'1-AST INC'!D28","v":{"v":0,"d":"0.00%"}},null,null,{"$f":"IF(ISERROR(SUM($G$13,$G$23:$G$25)*(D28/12*C28)),0,SUM($G$13,$G$23:$G$25)*(D28/12*C28))","v":{"v":0,"d":"$0"}}]
[{"$f":"'1-AST INC'!A29","v":"3."},{"$f":"IF('1-AST INC'!B29>0,'1-AST INC'!B29,\"N/A\")","v":"N/A"},{"$f":"'1-AST INC'!C29","v":{"v":0,"d":"0 "}},{"$f":"'1-AST INC'!D29","v":{"v":0,"d":"0.00%"}},null,null,{"$f":"IF(ISERROR(SUM($G$13,$G$23:$G$25)*(D29/12*C29)),0,SUM($G$13,$G$23:$G$25)*(D29/12*C29))","v":{"v":0,"d":"$0"}}]
["PS COST PER POSITION",{"$f":"IF(ISERROR(B11/B12),0,B11/B12)","v":{"v":0,"d":"$0"}},null,null,{"$f":"E13+SUM(E15:E29)","v":{"v":0,"d":"$0"}},{"$f":"F13+SUM(F15:F29)","v":{"v":0,"d":"$0"}},{"$f":"G13+SUM(G15:G29)","v":{"v":0,"d":"$0"}}]
["INCREASE PER YEAR",{"$nulls":3},{"$f":"E30-E13","v":{"v":0,"d":"$0"}},{"$f":"F30-F13","v":{"v":0,"d":"$0"}},{"$f":"G30-G13","v":{"v":0,"d":"$0"}}]
[]
["TOTAL PERSONNEL BENEFIT COST",{"$f":"'CROSS PSPB'!AE9","v":{"v":0,"d":"$0"}}]
[{"$f":"A$12","v":"TOTAL POSITIONS PAID"},{"$f":"B$12","v":{"v":0,"d":"0.00"}}]
["STRAIGHT LINE  PB COST PER POSITION",{"$nulls":3},{"$f":"$B$60","v":{"v":0,"d":"$0"}},{"$f":"$E$60","v":{"v":0,"d":"$0"}},{"$f":"$F$60","v":{"v":0,"d":"$0"}}]
["CURRENT YEAR",null,null,"%"]
["FICA",{"$f":"IF('1-AST INC'!B37>0,'1-AST INC'!B37,\"N/A\")","v":"N/A"},{"$f":"'1-AST INC'!C37","v":{"v":0,"d":"0 "}},{"$f":"'1-AST INC'!D37","v":{"v":0,"d":"0.00%"}},{"$f":"$E$31*D37","v":{"v":0,"d":"$0"}}]
["RETIREMENT MATCH",{"$f":"IF('1-AST INC'!B38>0,'1-AST INC'!B38,\"N/A\")","v":"N/A"},{"$f":"'1-AST INC'!C38","v":{"v":0,"d":"0 "}},{"$f":"'1-AST INC'!D38","v":{"v":0,"d":"0.00%"}},{"$f":"$E$31*D38","v":{"v":0,"d":"$0"}}]
["OTHER PERCENT ",{"$f":"IF('1-AST INC'!B39>0,'1-AST INC'!B39,\"N/A\")","v":"N/A"},{"$f":"'1-AST INC'!C39","v":{"v":0,"d":"0 "}},{"$f":"'1-AST INC'!D39","v":{"v":0,"d":"0.00%"}},{"$f":"$E$31*D39","v":{"v":0,"d":"$0"}}]
[null,"EFF. DATE","MOS.","INC."]
["BENEFIT RATE INCREASE",{"$f":"IF('1-AST INC'!B41>0,'1-AST INC'!B41,\"N/A\")","v":"N/A"},{"$f":"'1-AST INC'!C41","v":{"v":0,"d":"0 "}},{"$f":"'1-AST INC'!D41","v":{"v":0,"d":"0.00%"}},{"$f":"IF(ISERROR((D41/12*C41)*E30),0,((D41/12*C41)*E30))","v":{"v":0,"d":"$0"}},{"$f":"IF(ISERROR((E41/C41)*(12-C41)),0,(E41/C41)*(12-C41))","v":{"v":0,"d":"$0"}}]
["INFLATIONARY INCREASE (DEFAULT)",{"$f":"IF('1-AST INC'!B42>0,'1-AST INC'!B42,\"N/A\")","v":"N/A"},{"$f":"'1-AST INC'!C42","v":{"v":12,"d":"12 "}},{"$f":"'1-AST INC'!D42","v":{"v":0.03,"d":"3.00%"}},{"$f":"B60*D42","v":{"v":0,"d":"$0"}},{"$f":"IF(ISERROR((E42/C42)*(12-C42)),0,(E42/C42)*(12-C42))","v":{"v":0,"d":"$0"}}]
["PER POSITION INCREASE",{"$f":"IF('1-AST INC'!B43>0,'1-AST INC'!B43,\"N/A\")","v":"N/A"},{"$f":"'1-AST INC'!C43","v":{"v":0,"d":"0 "}},{"$f":"'1-AST INC'!D43","v":0},{"$f":"IF(ISERROR(D43/12*C43),0,D43/12*C43)","v":{"v":0,"d":"$0"}},{"$f":"IF(ISERROR((E43/C43)*(12-C43)),0,(E43/C43)*(12-C43))","v":{"v":0,"d":"$0"}}]
["NEXT YEAR",null,null,"%"]
["FICA",{"$f":"IF('1-AST INC'!B45>0,'1-AST INC'!B45,\"N/A\")","v":"N/A"},{"$f":"'1-AST INC'!C45","v":{"v":0,"d":"0 "}},{"$f":"'1-AST INC'!D45","v":{"v":0,"d":"0.00%"}},null,{"$f":"IF(ISERROR($F$31*D45),0,$F$31*D45)","v":{"v":0,"d":"$0"}}]
["RETIREMENT MATCH",{"$f":"IF('1-AST INC'!B46>0,'1-AST INC'!B46,\"N/A\")","v":"N/A"},{"$f":"'1-AST INC'!C46","v":{"v":0,"d":"0 "}},{"$f":"'1-AST INC'!D46","v":{"v":0,"d":"0.00%"}},null,{"$f":"IF(ISERROR($F$31*D46),0,$F$31*D46)","v":{"v":0,"d":"$0"}}]
["OTHER PERCENT ",{"$f":"IF('1-AST INC'!B47>0,'1-AST INC'!B47,\"N/A\")","v":"N/A"},{"$f":"'1-AST INC'!C47","v":{"v":0,"d":"0 "}},{"$f":"'1-AST INC'!D47","v":{"v":0,"d":"0.00%"}},null,{"$f":"IF(ISERROR($F$31*D47),0,$F$31*D47)","v":{"v":0,"d":"$0"}}]
[null,"EFF. DATE","MOS.","INC."]
["BENEFIT RATE INCREASE",{"$f":"IF('1-AST INC'!B49>0,'1-AST INC'!B49,\"N/A\")","v":"N/A"},{"$f":"'1-AST INC'!C49","v":{"v":0,"d":"0 "}},{"$f":"'1-AST INC'!D49","v":{"v":0,"d":"0.00%"}},null,{"$f":"IF(ISERROR((D49/12*C49)*F30),0,((D49/12*C49)*F30))","v":{"v":0,"d":"$0"}},{"$f":"IF(ISERROR((F49/C49)*(12-C49)),0,(F49/C49)*(12-C49))","v":{"v":0,"d":"$0"}}]
["INFLATIONARY INCREASE (DEFAULT)",{"$f":"IF('1-AST INC'!B50>0,'1-AST INC'!B50,\"N/A\")","v":"N/A"},{"$f":"'1-AST INC'!C50","v":{"v":12,"d":"12 "}},{"$f":"'1-AST INC'!D50","v":{"v":0.03,"d":"3.00%"}},null,{"$f":"E60*D50","v":{"v":0,"d":"$0"}},{"$f":"IF(ISERROR((F50/C50)*(12-C50)),0,(F50/C50)*(12-C50))","v":{"v":0,"d":"$0"}}]
["PER POSITION INCREASE",{"$f":"IF('1-AST INC'!B51>0,'1-AST INC'!B51,\"N/A\")","v":"N/A"},{"$f":"'1-AST INC'!C51","v":{"v":0,"d":"0 "}},{"$f":"'1-AST INC'!D51","v":0},null,{"$f":"IF(ISERROR(D51/12*C51),0,D51/12*C51)","v":{"v":0,"d":"$0"}},{"$f":"IF(ISERROR((F51/C51)*(12-C51)),0,(F51/C51)*(12-C51))","v":{"v":0,"d":"$0"}}]
["REQUEST YEAR",null,null,"%"]
["FICA",{"$f":"IF('1-AST INC'!B53>0,'1-AST INC'!B53,\"N/A\")","v":"N/A"},{"$f":"'1-AST INC'!C53","v":{"v":0,"d":"0 "}},{"$f":"'1-AST INC'!D53","v":{"v":0,"d":"0.00%"}},null,null,{"$f":"IF(ISERROR($G$31*D53),0,$G$31*D53)","v":{"v":0,"d":"$0"}}]
["RETIREMENT MATCH",{"$f":"IF('1-AST INC'!B54>0,'1-AST INC'!B54,\"N/A\")","v":"N/A"},{"$f":"'1-AST INC'!C54","v":{"v":0,"d":"0 "}},{"$f":"'1-AST INC'!D54","v":{"v":0,"d":"0.00%"}},null,null,{"$f":"IF(ISERROR($G$31*D54),0,$G$31*D54)","v":{"v":0,"d":"$0"}}]
["OTHER PERCENT ",{"$f":"IF('1-AST INC'!B55>0,'1-AST INC'!B55,\"N/A\")","v":"N/A"},{"$f":"'1-AST INC'!C55","v":{"v":0,"d":"0 "}},{"$f":"'1-AST INC'!D55","v":{"v":0,"d":"0.00%"}},null,null,{"$f":"IF(ISERROR($G$31*D55),0,$G$31*D55)","v":{"v":0,"d":"$0"}}]
[null,"EFF. DATE","MOS.","INC."]
["BENEFIT RATE INCREASE",{"$f":"IF('1-AST INC'!B57>0,'1-AST INC'!B57,\"N/A\")","v":"N/A"},{"$f":"'1-AST INC'!C57","v":{"v":0,"d":"0 "}},{"$f":"'1-AST INC'!D57","v":{"v":0,"d":"0.00%"}},null,null,{"$f":"IF(ISERROR((D57/12*C57)*G30),0,((D57/12*C57)*G30))","v":{"v":0,"d":"$0"}}]
["PER POSITION INCREASE",{"$f":"IF('1-AST INC'!B58>0,'1-AST INC'!B58,\"N/A\")","v":"N/A"},{"$f":"'1-AST INC'!C58","v":{"v":0,"d":"0 "}},{"$f":"'1-AST INC'!D58","v":0},null,null,{"$f":"IF(ISERROR(D58/12*C58),0,D58/12*C58)","v":{"v":0,"d":"$0"}}]
["PER POSITION INCREASE",{"$f":"IF('1-AST INC'!B59>0,'1-AST INC'!B59,\"N/A\")","v":"N/A"},{"$f":"'1-AST INC'!C59","v":{"v":0,"d":"0 "}},{"$f":"'1-AST INC'!D59","v":0},null,null,{"$f":"IF(ISERROR(D59/12*C59),0,D59/12*C59)","v":{"v":0,"d":"$0"}}]
["PB COST PER POSITION",{"$f":"IF(ISERROR(B33/B34),0,B33/B34)","v":{"v":0,"d":"$0"}},null,null,{"$f":"SUM(E35:E59)","v":{"v":0,"d":"$0"}},{"$f":"SUM(F35:F59)","v":{"v":0,"d":"$0"}},{"$f":"SUM(G35:G59)","v":{"v":0,"d":"$0"}}]
["INCREASE PER YEAR",{"$nulls":3},{"$f":"E60-E35","v":{"v":0,"d":"$0"}},{"$f":"F60-F35","v":{"v":0,"d":"$0"}},{"$f":"G60-G35","v":{"v":0,"d":"$0"}}]
[]
["PS/PB COST PER POSITION",{"$f":"B30+B60","v":{"v":0,"d":"$0"}},null,null,{"$f":"E30+E60","v":{"v":0,"d":"$0"}},{"$f":"F30+F60","v":{"v":0,"d":"$0"}},{"$f":"G30+G60","v":{"v":0,"d":"$0"}}]

{"sheet":"1-TAX INC","index":12,"n_rows":63,"n_cols":7,"rows_kept":63,"merged":[[0,0,0,6],[2,0,2,6],[4,0,4,6],[5,0,5,6]]}
["COST PER POSITION - TAX"]
[{"$f":"STARTUPCW!A2","v":"Crosswalk Version: 2.5.1"}]
["1-TAX"]
[{"$f":"'1-AST INC'!A4","v":"YOUR STATE"}]
[{"$f":"'1-AST INC'!A5:G5","v":"NEXT YEAR"}]
[{"$f":"F7","v":"FY "}]
[null,{"$f":"'1-AST INC'!B7","v":"FY "},null,null,{"$f":"'1-AST INC'!E7","v":"FY "},{"$f":"NEXTFY","v":"FY "},{"$f":"'1-AST INC'!G7","v":"FY 1"}]
[null,"PREVIOUS",null,null,"CURRENT","NEXT","REQUEST"]
[" ","FISCAL YEAR",null,null,"FISCAL YEAR","FISCAL YEAR","FISCAL YEAR"]
[]
["TOTAL PERSONAL SERVICE COST",{"$f":"'CROSS PSPB'!AH9","v":{"v":0,"d":"$0"}}]
["TOTAL POSITIONS PAID",{"$f":"IF(STARTUPCW!B16=0,0,'CROSS PSPB'!AG9/STARTUPCW!B16)","v":{"v":0,"d":"0.00"}}]
["STRAIGHT LINE  PS COST PER POSITION",{"$nulls":3},{"$f":"IF(ISERROR($B$30),0,$B$30)","v":{"v":0,"d":"$0"}},{"$f":"IF(ISERROR($E$30),0,$E$30)","v":{"v":0,"d":"$0"}},{"$f":"IF(ISERROR($F$30),0,$F$30)","v":{"v":0,"d":"$0"}}]
["PRIOR YEAR - PARTIAL","EFF. DATE","MOS.","%"]
[{"$f":"'1-AST INC'!A15","v":"1. "},{"$f":"IF('1-AST INC'!B15>0,'1-AST INC'!B15,\"N/A\")","v":"N/A"},{"$f":"'1-AST INC'!C15","v":{"v":0,"d":"0 "}},{"$f":"'1-AST INC'!D15","v":{"v":0,"d":"0.00%"}},{"$f":"IF(OR(D15=0,C15=0),0,$E$13/(1+(D15*(C15/12)))*(D15/12*(12-C15)))","v":{"v":0,"d":"$0"}}]
[{"$f":"'1-AST INC'!A16","v":"2."},{"$f":"IF('1-AST INC'!B16>0,'1-AST INC'!B16,\"N/A\")","v":"N/A"},{"$f":"'1-AST INC'!C16","v":{"v":0,"d":"0 "}},{"$f":"'1-AST INC'!D16","v":{"v":0,"d":"0.00%"}},{"$f":"IF(OR(D16=0,C16=0),0,$E$13/(1+(D16*(C16/12)))*(D16/12*(12-C16)))","v":{"v":0,"d":"$0"}}]
[{"$f":"'1-AST INC'!A17","v":"3."},{"$f":"IF('1-AST INC'!B17>0,'1-AST INC'!B17,\"N/A\")","v":"N/A"},{"$f":"'1-AST INC'!C17","v":{"v":0,"d":"0 "}},{"$f":"'1-AST INC'!D17","v":{"v":0,"d":"0.00%"}},{"$f":"IF(OR(D17=0,C17=0),0,$E$13/(1+(D17*(C17/12)))*(D17/12*(12-C17)))","v":{"v":0,"d":"$0"}}]
["CURRENT YEAR"]
[{"$f":"'1-AST INC'!A19","v":"1. Default"},{"$f":"IF('1-AST INC'!B19>0,'1-AST INC'!B19,\"N/A\")","v":"N/A"},{"$f":"'1-AST INC'!C19","v":{"v":12,"d":"12 "}},{"$f":"'1-AST INC'!D19","v":{"v":0.03,"d":"3.00%"}},{"$f":"IF(ISERROR(SUM($E$13,$E$15:$E$17)*(D19/12*C19)),0,SUM($E$13,$E$15:$E$17)*(D19/12*C19))","v":{"v":0,"d":"$0"}},{"$f":"IF(ISERROR((E19/C19)*(12-C19)),0,(E19/C19)*(12-C19))","v":{"v":0,"d":"$0"}}]
[{"$f":"'1-AST INC'!A20","v":"2."},{"$f":"IF('1-AST INC'!B20>0,'1-AST INC'!B20,\"N/A\")","v":"N/A"},{"$f":"'1-AST INC'!C20","v":{"v":0,"d":"0 "}},{"$f":"'1-AST INC'!D20","v":{"v":0,"d":"0.00%"}},{"$f":"IF(ISERROR(SUM($E$13,$E$15:$E$17)*(D20/12*C20)),0,SUM($E$13,$E$15:$E$17)*(D20/12*C20))","v":{"v":0,"d":"$0"}},{"$f":"IF(ISERROR((E20/C20)*(12-C20)),0,(E20/C20)*(12-C20))","v":{"v":0,"d":"$0"}}]
[{"$f":"'1-AST INC'!A21","v":"3."},{"$f":"IF('1-AST INC'!B21>0,'1-AST INC'!B21,\"N/A\")","v":"N/A"},{"$f":"'1-AST INC'!C21","v":{"v":0,"d":"0 "}},{"$f":"'1-AST INC'!D21","v":{"v":0,"d":"0.00%"}},{"$f":"IF(ISERROR(SUM($E$13,$E$15:$E$17)*(D21/12*C21)),0,SUM($E$13,$E$15:$E$17)*(D21/12*C21))","v":{"v":0,"d":"$0"}},{"$f":"IF(ISERROR((E21/C21)*(12-C21)),0,(E21/C21)*(12-C21))","v":{"v":0,"d":"$0"}}]
["NEXT YEAR"]
[{"$f":"'1-AST INC'!A23","v":"1. Default"},{"$f":"IF('1-AST INC'!B23>0,'1-AST INC'!B23,\"N/A\")","v":"N/A"},{"$f":"'1-AST INC'!C23","v":{"v":12,"d":"12 "}},{"$f":"'1-AST INC'!D23","v":{"v":0.03,"d":"3.00%"}},null,{"$f":"IF(ISERROR(SUM($F$13,$F$19:$F$21)*(D23/12*C23)),0,SUM($F$13,$F$19:$F$21)*(D23/12*C23))","v":{"v":0,"d":"$0"}},{"$f":"IF(ISERROR((F23/C23)*(12-C23)),0,(F23/C23)*(12-C23))","v":{"v":0,"d":"$0"}}]
[{"$f":"'1-AST INC'!A24","v":"2."},{"$f":"IF('1-AST INC'!B24>0,'1-AST INC'!B24,\"N/A\")","v":"N/A"},{"$f":"'1-AST INC'!C24","v":{"v":0,"d":"0 "}},{"$f":"'1-AST INC'!D24","v":{"v":0,"d":"0.00%"}},null,{"$f":"IF(ISERROR(SUM($F$13,$F$19:$F$21)*(D24/12*C24)),0,SUM($F$13,$F$19:$F$21)*(D24/12*C24))","v":{"v":0,"d":"$0"}},{"$f":"IF(ISERROR((F24/C24)*(12-C24)),0,(F24/C24)*(12-C24))","v":{"v":0,"d":"$0"}}]
[{"$f":"'1-AST INC'!A25","v":"3."},{"$f":"IF('1-AST INC'!B25>0,'1-AST INC'!B25,\"N/A\")","v":"N/A"},{"$f":"'1-AST INC'!C25","v":{"v":0,"d":"0 "}},{"$f":"'1-AST INC'!D25","v":{"v":0,"d":"0.00%"}},null,{"$f":"IF(ISERROR(SUM($F$13,$F$19:$F$21)*(D25/12*C25)),0,SUM($F$13,$F$19:$F$21)*(D25/12*C25))","v":{"v":0,"d":"$0"}},{"$f":"IF(ISERROR((F25/C25)*(12-C25)),0,(F25/C25)*(12-C25))","v":{"v":0,"d":"$0"}}]
["REQUEST YEAR"]
[{"$f":"'1-AST INC'!A27","v":"1. "},{"$f":"IF('1-AST INC'!B27>0,'1-AST INC'!B27,\"N/A\")","v":"N/A"},{"$f":"'1-AST INC'!C27","v":{"v":0,"d":"0 "}},{"$f":"'1-AST INC'!D27","v":{"v":0,"d":"0.00%"}},null,null,{"$f":"IF(ISERROR(SUM($G$13,$G$23:$G$25)*(D27/12*C27)),0,SUM($G$13,$G$23:$G$25)*(D27/12*C27))","v":{"v":0,"d":"$0"}}]
[{"$f":"'1-AST INC'!A28","v":"2."},{"$f":"IF('1-AST INC'!B28>0,'1-AST INC'!B28,\"N/A\")","v":"N/A"},{"$f":"'1-AST INC'!C28","v":{"v":0,"d":"0 "}},{"$f":"'1-AST INC'!D28","v":{"v":0,"d":"0.00%"}},null,null,{"$f":"IF(ISERROR(SUM($G$13,$G$23:$G$25)*(D28/12*C28)),0,SUM($G$13,$G$23:$G$25)*(D28/12*C28))","v":{"v":0,"d":"$0"}}]
[{"$f":"'1-AST INC'!A29","v":"3."},{"$f":"IF('1-AST INC'!B29>0,'1-AST INC'!B29,\"N/A\")","v":"N/A"},{"$f":"'1-AST INC'!C29","v":{"v":0,"d":"0 "}},{"$f":"'1-AST INC'!D29","v":{"v":0,"d":"0.00%"}},null,null,{"$f":"IF(ISERROR(SUM($G$13,$G$23:$G$25)*(D29/12*C29)),0,SUM($G$13,$G$23:$G$25)*(D29/12*C29))","v":{"v":0,"d":"$0"}}]
["PS COST PER POSITION",{"$f":"IF(ISERROR(B11/B12),0,B11/B12)","v":{"v":0,"d":"$0"}},null,null,{"$f":"E13+SUM(E15:E29)","v":{"v":0,"d":"$0"}},{"$f":"F13+SUM(F15:F29)","v":{"v":0,"d":"$0"}},{"$f":"G13+SUM(G15:G29)","v":{"v":0,"d":"$0"}}]
["INCREASE PER YEAR",{"$nulls":3},{"$f":"E30-E13","v":{"v":0,"d":"$0"}},{"$f":"F30-F13","v":{"v":0,"d":"$0"}},{"$f":"G30-G13","v":{"v":0,"d":"$0"}}]
[]
["TOTAL PERSONNEL BENEFIT COST",{"$f":"'CROSS PSPB'!AI9","v":{"v":0,"d":"$0"}}]
[{"$f":"A$12","v":"TOTAL POSITIONS PAID"},{"$f":"B$12","v":{"v":0,"d":"0.00"}}]
["STRAIGHT LINE  PB COST PER POSITION",{"$nulls":3},{"$f":"$B$60","v":{"v":0,"d":"$0"}},{"$f":"$E$60","v":{"v":0,"d":"$0"}},{"$f":"$F$60","v":{"v":0,"d":"$0"}}]
["CURRENT YEAR",null,null,"%"]
["FICA",{"$f":"IF('1-AST INC'!B37>0,'1-AST INC'!B37,\"N/A\")","v":"N/A"},{"$f":"'1-AST INC'!C37","v":{"v":0,"d":"0 "}},{"$f":"'1-AST INC'!D37","v":{"v":0,"d":"0.00%"}},{"$f":"$E$31*D37","v":{"v":0,"d":"$0"}}]
["RETIREMENT MATCH",{"$f":"IF('1-AST INC'!B38>0,'1-AST INC'!B38,\"N/A\")","v":"N/A"},{"$f":"'1-AST INC'!C38","v":{"v":0,"d":"0 "}},{"$f":"'1-AST INC'!D38","v":{"v":0,"d":"0.00%"}},{"$f":"$E$31*D38","v":{"v":0,"d":"$0"}}]
["OTHER PERCENT ",{"$f":"IF('1-AST INC'!B39>0,'1-AST INC'!B39,\"N/A\")","v":"N/A"},{"$f":"'1-AST INC'!C39","v":{"v":0,"d":"0 "}},{"$f":"'1-AST INC'!D39","v":{"v":0,"d":"0.00%"}},{"$f":"$E$31*D39","v":{"v":0,"d":"$0"}}]
[null,"EFF. DATE","MOS.","INC."]
["BENEFIT RATE INCREASE",{"$f":"IF('1-AST INC'!B41>0,'1-AST INC'!B41,\"N/A\")","v":"N/A"},{"$f":"'1-AST INC'!C41","v":{"v":0,"d":"0 "}},{"$f":"'1-AST INC'!D41","v":{"v":0,"d":"0.00%"}},{"$f":"IF(ISERROR((D41/12*C41)*E30),0,((D41/12*C41)*E30))","v":{"v":0,"d":"$0"}},{"$f":"IF(ISERROR((E41/C41)*(12-C41)),0,(E41/C41)*(12-C41))","v":{"v":0,"d":"$0"}}]
["INFLATIONARY INCREASE (DEFAULT)",{"$f":"IF('1-AST INC'!B42>0,'1-AST INC'!B42,\"N/A\")","v":"N/A"},{"$f":"'1-AST INC'!C42","v":{"v":12,"d":"12 "}},{"$f":"'1-AST INC'!D42","v":{"v":0.03,"d":"3.00%"}},{"$f":"B60*D42","v":{"v":0,"d":"$0"}},{"$f":"IF(ISERROR((E42/C42)*(12-C42)),0,(E42/C42)*(12-C42))","v":{"v":0,"d":"$0"}}]
["PER POSITION INCREASE",{"$f":"IF('1-AST INC'!B43>0,'1-AST INC'!B43,\"N/A\")","v":"N/A"},{"$f":"'1-AST INC'!C43","v":{"v":0,"d":"0 "}},{"$f":"'1-AST INC'!D43","v":0},{"$f":"IF(ISERROR(D43/12*C43),0,D43/12*C43)","v":{"v":0,"d":"$0"}},{"$f":"IF(ISERROR((E43/C43)*(12-C43)),0,(E43/C43)*(12-C43))","v":{"v":0,"d":"$0"}}]
["NEXT YEAR",null,null,"%"]
["FICA",{"$f":"IF('1-AST INC'!B45>0,'1-AST INC'!B45,\"N/A\")","v":"N/A"},{"$f":"'1-AST INC'!C45","v":{"v":0,"d":"0 "}},{"$f":"'1-AST INC'!D45","v":{"v":0,"d":"0.00%"}},null,{"$f":"IF(ISERROR($F$31*D45),0,$F$31*D45)","v":{"v":0,"d":"$0"}}]
["RETIREMENT MATCH",{"$f":"IF('1-AST INC'!B46>0,'1-AST INC'!B46,\"N/A\")","v":"N/A"},{"$f":"'1-AST INC'!C46","v":{"v":0,"d":"0 "}},{"$f":"'1-AST INC'!D46","v":{"v":0,"d":"0.00%"}},null,{"$f":"IF(ISERROR($F$31*D46),0,$F$31*D46)","v":{"v":0,"d":"$0"}}]
["OTHER PERCENT ",{"$f":"IF('1-AST INC'!B47>0,'1-AST INC'!B47,\"N/A\")","v":"N/A"},{"$f":"'1-AST INC'!C47","v":{"v":0,"d":"0 "}},{"$f":"'1-AST INC'!D47","v":{"v":0,"d":"0.00%"}},null,{"$f":"IF(ISERROR($F$31*D47),0,$F$31*D47)","v":{"v":0,"d":"$0"}}]
[null,"EFF. DATE","MOS.","INC."]
["BENEFIT RATE INCREASE",{"$f":"IF('1-AST INC'!B49>0,'1-AST INC'!B49,\"N/A\")","v":"N/A"},{"$f":"'1-AST INC'!C49","v":{"v":0,"d":"0 "}},{"$f":"'1-AST INC'!D49","v":{"v":0,"d":"0.00%"}},null,{"$f":"IF(ISERROR((D49/12*C49)*F30),0,((D49/12*C49)*F30))","v":{"v":0,"d":"$0"}},{"$f":"IF(ISERROR((F49/C49)*(12-C49)),0,(F49/C49)*(12-C49))","v":{"v":0,"d":"$0"}}]
["INFLATIONARY INCREASE (DEFAULT)",{"$f":"IF('1-AST INC'!B50>0,'1-AST INC'!B50,\"N/A\")","v":"N/A"},{"$f":"'1-AST INC'!C50","v":{"v":12,"d":"12 "}},{"$f":"'1-AST INC'!D50","v":{"v":0.03,"d":"3.00%"}},null,{"$f":"E60*D50","v":{"v":0,"d":"$0"}},{"$f":"IF(ISERROR((F50/C50)*(12-C50)),0,(F50/C50)*(12-C50))","v":{"v":0,"d":"$0"}}]
["PER POSITION INCREASE",{"$f":"IF('1-AST INC'!B51>0,'1-AST INC'!B51,\"N/A\")","v":"N/A"},{"$f":"'1-AST INC'!C51","v":{"v":0,"d":"0 "}},{"$f":"'1-AST INC'!D51","v":0},null,{"$f":"IF(ISERROR(D51/12*C51),0,D51/12*C51)","v":{"v":0,"d":"$0"}},{"$f":"IF(ISERROR((F51/C51)*(12-C51)),0,(F51/C51)*(12-C51))","v":{"v":0,"d":"$0"}}]
["REQUEST YEAR",null,null,"%"]
["FICA",{"$f":"IF('1-AST INC'!B53>0,'1-AST INC'!B53,\"N/A\")","v":"N/A"},{"$f":"'1-AST INC'!C53","v":{"v":0,"d":"0 "}},{"$f":"'1-AST INC'!D53","v":{"v":0,"d":"0.00%"}},null,null,{"$f":"IF(ISERROR($G$31*D53),0,$G$31*D53)","v":{"v":0,"d":"$0"}}]
["RETIREMENT MATCH",{"$f":"IF('1-AST INC'!B54>0,'1-AST INC'!B54,\"N/A\")","v":"N/A"},{"$f":"'1-AST INC'!C54","v":{"v":0,"d":"0 "}},{"$f":"'1-AST INC'!D54","v":{"v":0,"d":"0.00%"}},null,null,{"$f":"IF(ISERROR($G$31*D54),0,$G$31*D54)","v":{"v":0,"d":"$0"}}]
["OTHER PERCENT ",{"$f":"IF('1-AST INC'!B55>0,'1-AST INC'!B55,\"N/A\")","v":"N/A"},{"$f":"'1-AST INC'!C55","v":{"v":0,"d":"0 "}},{"$f":"'1-AST INC'!D55","v":{"v":0,"d":"0.00%"}},null,null,{"$f":"IF(ISERROR($G$31*D55),0,$G$31*D55)","v":{"v":0,"d":"$0"}}]
[null,"EFF. DATE","MOS.","INC."]
["BENEFIT RATE INCREASE",{"$f":"IF('1-AST INC'!B57>0,'1-AST INC'!B57,\"N/A\")","v":"N/A"},{"$f":"'1-AST INC'!C57","v":{"v":0,"d":"0 "}},{"$f":"'1-AST INC'!D57","v":{"v":0,"d":"0.00%"}},null,null,{"$f":"IF(ISERROR((D57/12*C57)*G30),0,((D57/12*C57)*G30))","v":{"v":0,"d":"$0"}}]
["PER POSITION INCREASE",{"$f":"IF('1-AST INC'!B58>0,'1-AST INC'!B58,\"N/A\")","v":"N/A"},{"$f":"'1-AST INC'!C58","v":{"v":0,"d":"0 "}},{"$f":"'1-AST INC'!D58","v":0},null,null,{"$f":"IF(ISERROR(D58/12*C58),0,D58/12*C58)","v":{"v":0,"d":"$0"}}]
["PER POSITION INCREASE",{"$f":"IF('1-AST INC'!B59>0,'1-AST INC'!B59,\"N/A\")","v":"N/A"},{"$f":"'1-AST INC'!C59","v":{"v":0,"d":"0 "}},{"$f":"'1-AST INC'!D59","v":0},null,null,{"$f":"IF(ISERROR(D59/12*C59),0,D59/12*C59)","v":{"v":0,"d":"$0"}}]
["PB COST PER POSITION",{"$f":"IF(ISERROR(B33/B34),0,B33/B34)","v":{"v":0,"d":"$0"}},null,null,{"$f":"SUM(E35:E59)","v":{"v":0,"d":"$0"}},{"$f":"SUM(F35:F59)","v":{"v":0,"d":"$0"}},{"$f":"SUM(G35:G59)","v":{"v":0,"d":"$0"}}]
["INCREASE PER YEAR",{"$nulls":3},{"$f":"E60-E35","v":{"v":0,"d":"$0"}},{"$f":"F60-F35","v":{"v":0,"d":"$0"}},{"$f":"G60-G35","v":{"v":0,"d":"$0"}}]
[]
["PS/PB COST PER POSITION",{"$f":"B30+B60","v":{"v":0,"d":"$0"}},null,null,{"$f":"E30+E60","v":{"v":0,"d":"$0"}},{"$f":"F30+F60","v":{"v":0,"d":"$0"}},{"$f":"G30+G60","v":{"v":0,"d":"$0"}}]

{"sheet":"1-BPC INC","index":13,"n_rows":63,"n_cols":7,"rows_kept":63,"merged":[[0,0,0,6],[2,0,2,6],[4,0,4,6],[5,0,5,6]]}
["COST PER POSITION - BENEFIT PAYMENT CONTROL"]
[{"$f":"STARTUPCW!A2","v":"Crosswalk Version: 2.5.1"}]
["1-BPC"]
[{"$f":"'1-AST INC'!A4","v":"YOUR STATE"}]
[{"$f":"'1-AST INC'!A5:G5","v":"NEXT YEAR"}]
[{"$f":"F7","v":"FY "}]
[null,{"$f":"'1-AST INC'!B7","v":"FY "},null,null,{"$f":"'1-AST INC'!E7","v":"FY "},{"$f":"NEXTFY","v":"FY "},{"$f":"'1-AST INC'!G7","v":"FY 1"}]
[null,"PREVIOUS",null,null,"CURRENT","NEXT","REQUEST"]
[" ","FISCAL YEAR",null,null,"FISCAL YEAR","FISCAL YEAR","FISCAL YEAR"]
[]
["TOTAL PERSONAL SERVICE COST",{"$f":"'CROSS PSPB'!AL9","v":{"v":0,"d":"$0"}}]
["TOTAL POSITIONS PAID",{"$f":"IF(STARTUPCW!B16=0,0,'CROSS PSPB'!AK9/STARTUPCW!B16)","v":{"v":0,"d":"0.00"}}]
["STRAIGHT LINE  PS COST PER POSITION",{"$nulls":3},{"$f":"IF(ISERROR($B$30),0,$B$30)","v":{"v":0,"d":"$0"}},{"$f":"IF(ISERROR($E$30),0,$E$30)","v":{"v":0,"d":"$0"}},{"$f":"IF(ISERROR($F$30),0,$F$30)","v":{"v":0,"d":"$0"}}]
["PRIOR YEAR - PARTIAL","EFF. DATE","MOS.","%"]
[{"$f":"'1-AST INC'!A15","v":"1. "},{"$f":"IF('1-AST INC'!B15>0,'1-AST INC'!B15,\"N/A\")","v":"N/A"},{"$f":"'1-AST INC'!C15","v":{"v":0,"d":"0 "}},{"$f":"'1-AST INC'!D15","v":{"v":0,"d":"0.00%"}},{"$f":"IF(OR(D15=0,C15=0),0,$E$13/(1+(D15*(C15/12)))*(D15/12*(12-C15)))","v":{"v":0,"d":"$0"}}]
[{"$f":"'1-AST INC'!A16","v":"2."},{"$f":"IF('1-AST INC'!B16>0,'1-AST INC'!B16,\"N/A\")","v":"N/A"},{"$f":"'1-AST INC'!C16","v":{"v":0,"d":"0 "}},{"$f":"'1-AST INC'!D16","v":{"v":0,"d":"0.00%"}},{"$f":"IF(OR(D16=0,C16=0),0,$E$13/(1+(D16*(C16/12)))*(D16/12*(12-C16)))","v":{"v":0,"d":"$0"}}]
[{"$f":"'1-AST INC'!A17","v":"3."},{"$f":"IF('1-AST INC'!B17>0,'1-AST INC'!B17,\"N/A\")","v":"N/A"},{"$f":"'1-AST INC'!C17","v":{"v":0,"d":"0 "}},{"$f":"'1-AST INC'!D17","v":{"v":0,"d":"0.00%"}},{"$f":"IF(OR(D17=0,C17=0),0,$E$13/(1+(D17*(C17/12)))*(D17/12*(12-C17)))","v":{"v":0,"d":"$0"}}]
["CURRENT YEAR"]
[{"$f":"'1-AST INC'!A19","v":"1. Default"},{"$f":"IF('1-AST INC'!B19>0,'1-AST INC'!B19,\"N/A\")","v":"N/A"},{"$f":"'1-AST INC'!C19","v":{"v":12,"d":"12 "}},{"$f":"'1-AST INC'!D19","v":{"v":0.03,"d":"3.00%"}},{"$f":"IF(ISERROR(SUM($E$13,$E$15:$E$17)*(D19/12*C19)),0,SUM($E$13,$E$15:$E$17)*(D19/12*C19))","v":{"v":0,"d":"$0"}},{"$f":"IF(ISERROR((E19/C19)*(12-C19)),0,(E19/C19)*(12-C19))","v":{"v":0,"d":"$0"}}]
[{"$f":"'1-AST INC'!A20","v":"2."},{"$f":"IF('1-AST INC'!B20>0,'1-AST INC'!B20,\"N/A\")","v":"N/A"},{"$f":"'1-AST INC'!C20","v":{"v":0,"d":"0 "}},{"$f":"'1-AST INC'!D20","v":{"v":0,"d":"0.00%"}},{"$f":"IF(ISERROR(SUM($E$13,$E$15:$E$17)*(D20/12*C20)),0,SUM($E$13,$E$15:$E$17)*(D20/12*C20))","v":{"v":0,"d":"$0"}},{"$f":"IF(ISERROR((E20/C20)*(12-C20)),0,(E20/C20)*(12-C20))","v":{"v":0,"d":"$0"}}]
[{"$f":"'1-AST INC'!A21","v":"3."},{"$f":"IF('1-AST INC'!B21>0,'1-AST INC'!B21,\"N/A\")","v":"N/A"},{"$f":"'1-AST INC'!C21","v":{"v":0,"d":"0 "}},{"$f":"'1-AST INC'!D21","v":{"v":0,"d":"0.00%"}},{"$f":"IF(ISERROR(SUM($E$13,$E$15:$E$17)*(D21/12*C21)),0,SUM($E$13,$E$15:$E$17)*(D21/12*C21))","v":{"v":0,"d":"$0"}},{"$f":"IF(ISERROR((E21/C21)*(12-C21)),0,(E21/C21)*(12-C21))","v":{"v":0,"d":"$0"}}]
["NEXT YEAR"]
[{"$f":"'1-AST INC'!A23","v":"1. Default"},{"$f":"IF('1-AST INC'!B23>0,'1-AST INC'!B23,\"N/A\")","v":"N/A"},{"$f":"'1-AST INC'!C23","v":{"v":12,"d":"12 "}},{"$f":"'1-AST INC'!D23","v":{"v":0.03,"d":"3.00%"}},null,{"$f":"IF(ISERROR(SUM($F$13,$F$19:$F$21)*(D23/12*C23)),0,SUM($F$13,$F$19:$F$21)*(D23/12*C23))","v":{"v":0,"d":"$0"}},{"$f":"IF(ISERROR((F23/C23)*(12-C23)),0,(F23/C23)*(12-C23))","v":{"v":0,"d":"$0"}}]
[{"$f":"'1-AST INC'!A24","v":"2."},{"$f":"IF('1-AST INC'!B24>0,'1-AST INC'!B24,\"N/A\")","v":"N/A"},{"$f":"'1-AST INC'!C24","v":{"v":0,"d":"0 "}},{"$f":"'1-AST INC'!D24","v":{"v":0,"d":"0.00%"}},null,{"$f":"IF(ISERROR(SUM($F$13,$F$19:$F$21)*(D24/12*C24)),0,SUM($F$13,$F$19:$F$21)*(D24/12*C24))","v":{"v":0,"d":"$0"}},{"$f":"IF(ISERROR((F24/C24)*(12-C24)),0,(F24/C24)*(12-C24))","v":{"v":0,"d":"$0"}}]
[{"$f":"'1-AST INC'!A25","v":"3."},{"$f":"IF('1-AST INC'!B25>0,'1-AST INC'!B25,\"N/A\")","v":"N/A"},{"$f":"'1-AST INC'!C25","v":{"v":0,"d":"0 "}},{"$f":"'1-AST INC'!D25","v":{"v":0,"d":"0.00%"}},null,{"$f":"IF(ISERROR(SUM($F$13,$F$19:$F$21)*(D25/12*C25)),0,SUM($F$13,$F$19:$F$21)*(D25/12*C25))","v":{"v":0,"d":"$0"}},{"$f":"IF(ISERROR((F25/C25)*(12-C25)),0,(F25/C25)*(12-C25))","v":{"v":0,"d":"$0"}}]
["REQUEST YEAR"]
[{"$f":"'1-AST INC'!A27","v":"1. "},{"$f":"IF('1-AST INC'!B27>0,'1-AST INC'!B27,\"N/A\")","v":"N/A"},{"$f":"'1-AST INC'!C27","v":{"v":0,"d":"0 "}},{"$f":"'1-AST INC'!D27","v":{"v":0,"d":"0.00%"}},null,null,{"$f":"IF(ISERROR(SUM($G$13,$G$23:$G$25)*(D27/12*C27)),0,SUM($G$13,$G$23:$G$25)*(D27/12*C27))","v":{"v":0,"d":"$0"}}]
[{"$f":"'1-AST INC'!A28","v":"2."},{"$f":"IF('1-AST INC'!B28>0,'1-AST INC'!B28,\"N/A\")","v":"N/A"},{"$f":"'1-AST INC'!C28","v":{"v":0,"d":"0 "}},{"$f":"'1-AST INC'!D28","v":{"v":0,"d":"0.00%"}},null,null,{"$f":"IF(ISERROR(SUM($G$13,$G$23:$G$25)*(D28/12*C28)),0,SUM($G$13,$G$23:$G$25)*(D28/12*C28))","v":{"v":0,"d":"$0"}}]
[{"$f":"'1-AST INC'!A29","v":"3."},{"$f":"IF('1-AST INC'!B29>0,'1-AST INC'!B29,\"N/A\")","v":"N/A"},{"$f":"'1-AST INC'!C29","v":{"v":0,"d":"0 "}},{"$f":"'1-AST INC'!D29","v":{"v":0,"d":"0.00%"}},null,null,{"$f":"IF(ISERROR(SUM($G$13,$G$23:$G$25)*(D29/12*C29)),0,SUM($G$13,$G$23:$G$25)*(D29/12*C29))","v":{"v":0,"d":"$0"}}]
["PS COST PER POSITION",{"$f":"IF(ISERROR(B11/B12),0,B11/B12)","v":{"v":0,"d":"$0"}},null,null,{"$f":"E13+SUM(E15:E29)","v":{"v":0,"d":"$0"}},{"$f":"F13+SUM(F15:F29)","v":{"v":0,"d":"$0"}},{"$f":"G13+SUM(G15:G29)","v":{"v":0,"d":"$0"}}]
["INCREASE PER YEAR",{"$nulls":3},{"$f":"E30-E13","v":{"v":0,"d":"$0"}},{"$f":"F30-F13","v":{"v":0,"d":"$0"}},{"$f":"G30-G13","v":{"v":0,"d":"$0"}}]
[]
["TOTAL PERSONNEL BENEFIT COST",{"$f":"'CROSS PSPB'!AM9","v":{"v":0,"d":"$0"}}]
[{"$f":"A$12","v":"TOTAL POSITIONS PAID"},{"$f":"B$12","v":{"v":0,"d":"0.00"}}]
["STRAIGHT LINE  PB COST PER POSITION",{"$nulls":3},{"$f":"$B$60","v":{"v":0,"d":"$0"}},{"$f":"$E$60","v":{"v":0,"d":"$0"}},{"$f":"$F$60","v":{"v":0,"d":"$0"}}]
["CURRENT YEAR",null,null,"%"]
["FICA",{"$f":"IF('1-AST INC'!B37>0,'1-AST INC'!B37,\"N/A\")","v":"N/A"},{"$f":"'1-AST INC'!C37","v":{"v":0,"d":"0 "}},{"$f":"'1-AST INC'!D37","v":{"v":0,"d":"0.00%"}},{"$f":"$E$31*D37","v":{"v":0,"d":"$0"}}]
["RETIREMENT MATCH",{"$f":"IF('1-AST INC'!B38>0,'1-AST INC'!B38,\"N/A\")","v":"N/A"},{"$f":"'1-AST INC'!C38","v":{"v":0,"d":"0 "}},{"$f":"'1-AST INC'!D38","v":{"v":0,"d":"0.00%"}},{"$f":"$E$31*D38","v":{"v":0,"d":"$0"}}]
["OTHER PERCENT ",{"$f":"IF('1-AST INC'!B39>0,'1-AST INC'!B39,\"N/A\")","v":"N/A"},{"$f":"'1-AST INC'!C39","v":{"v":0,"d":"0 "}},{"$f":"'1-AST INC'!D39","v":{"v":0,"d":"0.00%"}},{"$f":"$E$31*D39","v":{"v":0,"d":"$0"}}]
[null,"EFF. DATE","MOS.","INC."]
["BENEFIT RATE INCREASE",{"$f":"IF('1-AST INC'!B41>0,'1-AST INC'!B41,\"N/A\")","v":"N/A"},{"$f":"'1-AST INC'!C41","v":{"v":0,"d":"0 "}},{"$f":"'1-AST INC'!D41","v":{"v":0,"d":"0.00%"}},{"$f":"IF(ISERROR((D41/12*C41)*E30),0,((D41/12*C41)*E30))","v":{"v":0,"d":"$0"}},{"$f":"IF(ISERROR((E41/C41)*(12-C41)),0,(E41/C41)*(12-C41))","v":{"v":0,"d":"$0"}}]
["INFLATIONARY INCREASE (DEFAULT)",{"$f":"IF('1-AST INC'!B42>0,'1-AST INC'!B42,\"N/A\")","v":"N/A"},{"$f":"'1-AST INC'!C42","v":{"v":12,"d":"12 "}},{"$f":"'1-AST INC'!D42","v":{"v":0.03,"d":"3.00%"}},{"$f":"B60*D42","v":{"v":0,"d":"$0"}},{"$f":"IF(ISERROR((E42/C42)*(12-C42)),0,(E42/C42)*(12-C42))","v":{"v":0,"d":"$0"}}]
["PER POSITION INCREASE",{"$f":"IF('1-AST INC'!B43>0,'1-AST INC'!B43,\"N/A\")","v":"N/A"},{"$f":"'1-AST INC'!C43","v":{"v":0,"d":"0 "}},{"$f":"'1-AST INC'!D43","v":0},{"$f":"IF(ISERROR(D43/12*C43),0,D43/12*C43)","v":{"v":0,"d":"$0"}},{"$f":"IF(ISERROR((E43/C43)*(12-C43)),0,(E43/C43)*(12-C43))","v":{"v":0,"d":"$0"}}]
["NEXT YEAR",null,null,"%"]
["FICA",{"$f":"IF('1-AST INC'!B45>0,'1-AST INC'!B45,\"N/A\")","v":"N/A"},{"$f":"'1-AST INC'!C45","v":{"v":0,"d":"0 "}},{"$f":"'1-AST INC'!D45","v":{"v":0,"d":"0.00%"}},null,{"$f":"IF(ISERROR($F$31*D45),0,$F$31*D45)","v":{"v":0,"d":"$0"}}]
["RETIREMENT MATCH",{"$f":"IF('1-AST INC'!B46>0,'1-AST INC'!B46,\"N/A\")","v":"N/A"},{"$f":"'1-AST INC'!C46","v":{"v":0,"d":"0 "}},{"$f":"'1-AST INC'!D46","v":{"v":0,"d":"0.00%"}},null,{"$f":"IF(ISERROR($F$31*D46),0,$F$31*D46)","v":{"v":0,"d":"$0"}}]
["OTHER PERCENT ",{"$f":"IF('1-AST INC'!B47>0,'1-AST INC'!B47,\"N/A\")","v":"N/A"},{"$f":"'1-AST INC'!C47","v":{"v":0,"d":"0 "}},{"$f":"'1-AST INC'!D47","v":{"v":0,"d":"0.00%"}},null,{"$f":"IF(ISERROR($F$31*D47),0,$F$31*D47)","v":{"v":0,"d":"$0"}}]
[null,"EFF. DATE","MOS.","INC."]
["BENEFIT RATE INCREASE",{"$f":"IF('1-AST INC'!B49>0,'1-AST INC'!B49,\"N/A\")","v":"N/A"},{"$f":"'1-AST INC'!C49","v":{"v":0,"d":"0 "}},{"$f":"'1-AST INC'!D49","v":{"v":0,"d":"0.00%"}},null,{"$f":"IF(ISERROR((D49/12*C49)*F30),0,((D49/12*C49)*F30))","v":{"v":0,"d":"$0"}},{"$f":"IF(ISERROR((F49/C49)*(12-C49)),0,(F49/C49)*(12-C49))","v":{"v":0,"d":"$0"}}]
["INFLATIONARY INCREASE (DEFAULT)",{"$f":"IF('1-AST INC'!B50>0,'1-AST INC'!B50,\"N/A\")","v":"N/A"},{"$f":"'1-AST INC'!C50","v":{"v":12,"d":"12 "}},{"$f":"'1-AST INC'!D50","v":{"v":0.03,"d":"3.00%"}},null,{"$f":"E60*D50","v":{"v":0,"d":"$0"}},{"$f":"IF(ISERROR((F50/C50)*(12-C50)),0,(F50/C50)*(12-C50))","v":{"v":0,"d":"$0"}}]
["PER POSITION INCREASE",{"$f":"IF('1-AST INC'!B51>0,'1-AST INC'!B51,\"N/A\")","v":"N/A"},{"$f":"'1-AST INC'!C51","v":{"v":0,"d":"0 "}},{"$f":"'1-AST INC'!D51","v":0},null,{"$f":"IF(ISERROR(D51/12*C51),0,D51/12*C51)","v":{"v":0,"d":"$0"}},{"$f":"IF(ISERROR((F51/C51)*(12-C51)),0,(F51/C51)*(12-C51))","v":{"v":0,"d":"$0"}}]
["REQUEST YEAR",null,null,"%"]
["FICA",{"$f":"IF('1-AST INC'!B53>0,'1-AST INC'!B53,\"N/A\")","v":"N/A"},{"$f":"'1-AST INC'!C53","v":{"v":0,"d":"0 "}},{"$f":"'1-AST INC'!D53","v":{"v":0,"d":"0.00%"}},null,null,{"$f":"IF(ISERROR($G$31*D53),0,$G$31*D53)","v":{"v":0,"d":"$0"}}]
["RETIREMENT MATCH",{"$f":"IF('1-AST INC'!B54>0,'1-AST INC'!B54,\"N/A\")","v":"N/A"},{"$f":"'1-AST INC'!C54","v":{"v":0,"d":"0 "}},{"$f":"'1-AST INC'!D54","v":{"v":0,"d":"0.00%"}},null,null,{"$f":"IF(ISERROR($G$31*D54),0,$G$31*D54)","v":{"v":0,"d":"$0"}}]
["OTHER PERCENT ",{"$f":"IF('1-AST INC'!B55>0,'1-AST INC'!B55,\"N/A\")","v":"N/A"},{"$f":"'1-AST INC'!C55","v":{"v":0,"d":"0 "}},{"$f":"'1-AST INC'!D55","v":{"v":0,"d":"0.00%"}},null,null,{"$f":"IF(ISERROR($G$31*D55),0,$G$31*D55)","v":{"v":0,"d":"$0"}}]
[null,"EFF. DATE","MOS.","INC."]
["BENEFIT RATE INCREASE",{"$f":"IF('1-AST INC'!B57>0,'1-AST INC'!B57,\"N/A\")","v":"N/A"},{"$f":"'1-AST INC'!C57","v":{"v":0,"d":"0 "}},{"$f":"'1-AST INC'!D57","v":{"v":0,"d":"0.00%"}},null,null,{"$f":"IF(ISERROR((D57/12*C57)*G30),0,((D57/12*C57)*G30))","v":{"v":0,"d":"$0"}}]
["PER POSITION INCREASE",{"$f":"IF('1-AST INC'!B58>0,'1-AST INC'!B58,\"N/A\")","v":"N/A"},{"$f":"'1-AST INC'!C58","v":{"v":0,"d":"0 "}},{"$f":"'1-AST INC'!D58","v":0},null,null,{"$f":"IF(ISERROR(D58/12*C58),0,D58/12*C58)","v":{"v":0,"d":"$0"}}]
["PER POSITION INCREASE",{"$f":"IF('1-AST INC'!B59>0,'1-AST INC'!B59,\"N/A\")","v":"N/A"},{"$f":"'1-AST INC'!C59","v":{"v":0,"d":"0 "}},{"$f":"'1-AST INC'!D59","v":0},null,null,{"$f":"IF(ISERROR(D59/12*C59),0,D59/12*C59)","v":{"v":0,"d":"$0"}}]
["PB COST PER POSITION",{"$f":"IF(ISERROR(B33/B34),0,B33/B34)","v":{"v":0,"d":"$0"}},null,null,{"$f":"SUM(E35:E59)","v":{"v":0,"d":"$0"}},{"$f":"SUM(F35:F59)","v":{"v":0,"d":"$0"}},{"$f":"SUM(G35:G59)","v":{"v":0,"d":"$0"}}]
["INCREASE PER YEAR",{"$nulls":3},{"$f":"E60-E35","v":{"v":0,"d":"$0"}},{"$f":"F60-F35","v":{"v":0,"d":"$0"}},{"$f":"G60-G35","v":{"v":0,"d":"$0"}}]
[]
["PS/PB COST PER POSITION",{"$f":"B30+B60","v":{"v":0,"d":"$0"}},null,null,{"$f":"E30+E60","v":{"v":0,"d":"$0"}},{"$f":"F30+F60","v":{"v":0,"d":"$0"}},{"$f":"G30+G60","v":{"v":0,"d":"$0"}}]

{"sheet":"1-UIP INC","index":14,"n_rows":63,"n_cols":7,"rows_kept":63,"merged":[[0,0,0,6],[2,0,2,6],[4,0,4,6],[5,0,5,6]]}
["COST PER POSITION - UI PERFORMS"]
[{"$f":"STARTUPCW!A2","v":"Crosswalk Version: 2.5.1"}]
["1-UIP "]
[{"$f":"'1-AST INC'!A4","v":"YOUR STATE"}]
[{"$f":"'1-AST INC'!A5:G5","v":"NEXT YEAR"}]
[{"$f":"F7","v":"FY "}]
[null,{"$f":"'1-AST INC'!B7","v":"FY "},null,null,{"$f":"'1-AST INC'!E7","v":"FY "},{"$f":"NEXTFY","v":"FY "},{"$f":"'1-AST INC'!G7","v":"FY 1"}]
[null,"PREVIOUS",null,null,"CURRENT","NEXT","REQUEST"]
[" ","FISCAL YEAR",null,null,"FISCAL YEAR","FISCAL YEAR","FISCAL YEAR"]
[]
["TOTAL PERSONAL SERVICE COST",{"$f":"'CROSS PSPB'!AP9","v":{"v":0,"d":"$0"}}]
["TOTAL POSITIONS PAID",{"$f":"IF(STARTUPCW!B16=0,0,'CROSS PSPB'!AO9/STARTUPCW!B16)","v":{"v":0,"d":"0.00"}}]
["STRAIGHT LINE  PS COST PER POSITION",{"$nulls":3},{"$f":"IF(ISERROR($B$30),0,$B$30)","v":{"v":0,"d":"$0"}},{"$f":"IF(ISERROR($E$30),0,$E$30)","v":{"v":0,"d":"$0"}},{"$f":"IF(ISERROR($F$30),0,$F$30)","v":{"v":0,"d":"$0"}}]
["PRIOR YEAR - PARTIAL","EFF. DATE","MOS.","%"]
[{"$f":"'1-AST INC'!A15","v":"1. "},{"$f":"IF('1-AST INC'!B15>0,'1-AST INC'!B15,\"N/A\")","v":"N/A"},{"$f":"'1-AST INC'!C15","v":{"v":0,"d":"0 "}},{"$f":"'1-AST INC'!D15","v":{"v":0,"d":"0.00%"}},{"$f":"IF(OR(D15=0,C15=0),0,$E$13/(1+(D15*(C15/12)))*(D15/12*(12-C15)))","v":{"v":0,"d":"$0"}}]
[{"$f":"'1-AST INC'!A16","v":"2."},{"$f":"IF('1-AST INC'!B16>0,'1-AST INC'!B16,\"N/A\")","v":"N/A"},{"$f":"'1-AST INC'!C16","v":{"v":0,"d":"0 "}},{"$f":"'1-AST INC'!D16","v":{"v":0,"d":"0.00%"}},{"$f":"IF(OR(D16=0,C16=0),0,$E$13/(1+(D16*(C16/12)))*(D16/12*(12-C16)))","v":{"v":0,"d":"$0"}}]
[{"$f":"'1-AST INC'!A17","v":"3."},{"$f":"IF('1-AST INC'!B17>0,'1-AST INC'!B17,\"N/A\")","v":"N/A"},{"$f":"'1-AST INC'!C17","v":{"v":0,"d":"0 "}},{"$f":"'1-AST INC'!D17","v":{"v":0,"d":"0.00%"}},{"$f":"IF(OR(D17=0,C17=0),0,$E$13/(1+(D17*(C17/12)))*(D17/12*(12-C17)))","v":{"v":0,"d":"$0"}}]
["CURRENT YEAR"]
[{"$f":"'1-AST INC'!A19","v":"1. Default"},{"$f":"IF('1-AST INC'!B19>0,'1-AST INC'!B19,\"N/A\")","v":"N/A"},{"$f":"'1-AST INC'!C19","v":{"v":12,"d":"12 "}},{"$f":"'1-AST INC'!D19","v":{"v":0.03,"d":"3.00%"}},{"$f":"IF(ISERROR(SUM($E$13,$E$15:$E$17)*(D19/12*C19)),0,SUM($E$13,$E$15:$E$17)*(D19/12*C19))","v":{"v":0,"d":"$0"}},{"$f":"IF(ISERROR((E19/C19)*(12-C19)),0,(E19/C19)*(12-C19))","v":{"v":0,"d":"$0"}}]
[{"$f":"'1-AST INC'!A20","v":"2."},{"$f":"IF('1-AST INC'!B20>0,'1-AST INC'!B20,\"N/A\")","v":"N/A"},{"$f":"'1-AST INC'!C20","v":{"v":0,"d":"0 "}},{"$f":"'1-AST INC'!D20","v":{"v":0,"d":"0.00%"}},{"$f":"IF(ISERROR(SUM($E$13,$E$15:$E$17)*(D20/12*C20)),0,SUM($E$13,$E$15:$E$17)*(D20/12*C20))","v":{"v":0,"d":"$0"}},{"$f":"IF(ISERROR((E20/C20)*(12-C20)),0,(E20/C20)*(12-C20))","v":{"v":0,"d":"$0"}}]
[{"$f":"'1-AST INC'!A21","v":"3."},{"$f":"IF('1-AST INC'!B21>0,'1-AST INC'!B21,\"N/A\")","v":"N/A"},{"$f":"'1-AST INC'!C21","v":{"v":0,"d":"0 "}},{"$f":"'1-AST INC'!D21","v":{"v":0,"d":"0.00%"}},{"$f":"IF(ISERROR(SUM($E$13,$E$15:$E$17)*(D21/12*C21)),0,SUM($E$13,$E$15:$E$17)*(D21/12*C21))","v":{"v":0,"d":"$0"}},{"$f":"IF(ISERROR((E21/C21)*(12-C21)),0,(E21/C21)*(12-C21))","v":{"v":0,"d":"$0"}}]
["NEXT YEAR"]
[{"$f":"'1-AST INC'!A23","v":"1. Default"},{"$f":"IF('1-AST INC'!B23>0,'1-AST INC'!B23,\"N/A\")","v":"N/A"},{"$f":"'1-AST INC'!C23","v":{"v":12,"d":"12 "}},{"$f":"'1-AST INC'!D23","v":{"v":0.03,"d":"3.00%"}},null,{"$f":"IF(ISERROR(SUM($F$13,$F$19:$F$21)*(D23/12*C23)),0,SUM($F$13,$F$19:$F$21)*(D23/12*C23))","v":{"v":0,"d":"$0"}},{"$f":"IF(ISERROR((F23/C23)*(12-C23)),0,(F23/C23)*(12-C23))","v":{"v":0,"d":"$0"}}]
[{"$f":"'1-AST INC'!A24","v":"2."},{"$f":"IF('1-AST INC'!B24>0,'1-AST INC'!B24,\"N/A\")","v":"N/A"},{"$f":"'1-AST INC'!C24","v":{"v":0,"d":"0 "}},{"$f":"'1-AST INC'!D24","v":{"v":0,"d":"0.00%"}},null,{"$f":"IF(ISERROR(SUM($F$13,$F$19:$F$21)*(D24/12*C24)),0,SUM($F$13,$F$19:$F$21)*(D24/12*C24))","v":{"v":0,"d":"$0"}},{"$f":"IF(ISERROR((F24/C24)*(12-C24)),0,(F24/C24)*(12-C24))","v":{"v":0,"d":"$0"}}]
[{"$f":"'1-AST INC'!A25","v":"3."},{"$f":"IF('1-AST INC'!B25>0,'1-AST INC'!B25,\"N/A\")","v":"N/A"},{"$f":"'1-AST INC'!C25","v":{"v":0,"d":"0 "}},{"$f":"'1-AST INC'!D25","v":{"v":0,"d":"0.00%"}},null,{"$f":"IF(ISERROR(SUM($F$13,$F$19:$F$21)*(D25/12*C25)),0,SUM($F$13,$F$19:$F$21)*(D25/12*C25))","v":{"v":0,"d":"$0"}},{"$f":"IF(ISERROR((F25/C25)*(12-C25)),0,(F25/C25)*(12-C25))","v":{"v":0,"d":"$0"}}]
["REQUEST YEAR"]
[{"$f":"'1-AST INC'!A27","v":"1. "},{"$f":"IF('1-AST INC'!B27>0,'1-AST INC'!B27,\"N/A\")","v":"N/A"},{"$f":"'1-AST INC'!C27","v":{"v":0,"d":"0 "}},{"$f":"'1-AST INC'!D27","v":{"v":0,"d":"0.00%"}},null,null,{"$f":"IF(ISERROR(SUM($G$13,$G$23:$G$25)*(D27/12*C27)),0,SUM($G$13,$G$23:$G$25)*(D27/12*C27))","v":{"v":0,"d":"$0"}}]
[{"$f":"'1-AST INC'!A28","v":"2."},{"$f":"IF('1-AST INC'!B28>0,'1-AST INC'!B28,\"N/A\")","v":"N/A"},{"$f":"'1-AST INC'!C28","v":{"v":0,"d":"0 "}},{"$f":"'1-AST INC'!D28","v":{"v":0,"d":"0.00%"}},null,null,{"$f":"IF(ISERROR(SUM($G$13,$G$23:$G$25)*(D28/12*C28)),0,SUM($G$13,$G$23:$G$25)*(D28/12*C28))","v":{"v":0,"d":"$0"}}]
[{"$f":"'1-AST INC'!A29","v":"3."},{"$f":"IF('1-AST INC'!B29>0,'1-AST INC'!B29,\"N/A\")","v":"N/A"},{"$f":"'1-AST INC'!C29","v":{"v":0,"d":"0 "}},{"$f":"'1-AST INC'!D29","v":{"v":0,"d":"0.00%"}},null,null,{"$f":"IF(ISERROR(SUM($G$13,$G$23:$G$25)*(D29/12*C29)),0,SUM($G$13,$G$23:$G$25)*(D29/12*C29))","v":{"v":0,"d":"$0"}}]
["PS COST PER POSITION",{"$f":"IF(ISERROR(B11/B12),0,B11/B12)","v":{"v":0,"d":"$0"}},null,null,{"$f":"E13+SUM(E15:E29)","v":{"v":0,"d":"$0"}},{"$f":"F13+SUM(F15:F29)","v":{"v":0,"d":"$0"}},{"$f":"G13+SUM(G15:G29)","v":{"v":0,"d":"$0"}}]
["INCREASE PER YEAR",{"$nulls":3},{"$f":"E30-E13","v":{"v":0,"d":"$0"}},{"$f":"F30-F13","v":{"v":0,"d":"$0"}},{"$f":"G30-G13","v":{"v":0,"d":"$0"}}]
[]
["TOTAL PERSONNEL BENEFIT COST",{"$f":"'CROSS PSPB'!AQ9","v":{"v":0,"d":"$0"}}]
[{"$f":"A$12","v":"TOTAL POSITIONS PAID"},{"$f":"B$12","v":{"v":0,"d":"0.00"}}]
["STRAIGHT LINE  PB COST PER POSITION",{"$nulls":3},{"$f":"$B$60","v":{"v":0,"d":"$0"}},{"$f":"$E$60","v":{"v":0,"d":"$0"}},{"$f":"$F$60","v":{"v":0,"d":"$0"}}]
["CURRENT YEAR",null,null,"%"]
["FICA",{"$f":"IF('1-AST INC'!B37>0,'1-AST INC'!B37,\"N/A\")","v":"N/A"},{"$f":"'1-AST INC'!C37","v":{"v":0,"d":"0 "}},{"$f":"'1-AST INC'!D37","v":{"v":0,"d":"0.00%"}},{"$f":"$E$31*D37","v":{"v":0,"d":"$0"}}]
["RETIREMENT MATCH",{"$f":"IF('1-AST INC'!B38>0,'1-AST INC'!B38,\"N/A\")","v":"N/A"},{"$f":"'1-AST INC'!C38","v":{"v":0,"d":"0 "}},{"$f":"'1-AST INC'!D38","v":{"v":0,"d":"0.00%"}},{"$f":"$E$31*D38","v":{"v":0,"d":"$0"}}]
["OTHER PERCENT ",{"$f":"IF('1-AST INC'!B39>0,'1-AST INC'!B39,\"N/A\")","v":"N/A"},{"$f":"'1-AST INC'!C39","v":{"v":0,"d":"0 "}},{"$f":"'1-AST INC'!D39","v":{"v":0,"d":"0.00%"}},{"$f":"$E$31*D39","v":{"v":0,"d":"$0"}}]
[null,"EFF. DATE","MOS.","INC."]
["BENEFIT RATE INCREASE",{"$f":"IF('1-AST INC'!B41>0,'1-AST INC'!B41,\"N/A\")","v":"N/A"},{"$f":"'1-AST INC'!C41","v":{"v":0,"d":"0 "}},{"$f":"'1-AST INC'!D41","v":{"v":0,"d":"0.00%"}},{"$f":"IF(ISERROR((D41/12*C41)*E30),0,((D41/12*C41)*E30))","v":{"v":0,"d":"$0"}},{"$f":"IF(ISERROR((E41/C41)*(12-C41)),0,(E41/C41)*(12-C41))","v":{"v":0,"d":"$0"}}]
["INFLATIONARY INCREASE (DEFAULT)",{"$f":"IF('1-AST INC'!B42>0,'1-AST INC'!B42,\"N/A\")","v":"N/A"},{"$f":"'1-AST INC'!C42","v":{"v":12,"d":"12 "}},{"$f":"'1-AST INC'!D42","v":{"v":0.03,"d":"3.00%"}},{"$f":"B60*D42","v":{"v":0,"d":"$0"}},{"$f":"IF(ISERROR((E42/C42)*(12-C42)),0,(E42/C42)*(12-C42))","v":{"v":0,"d":"$0"}}]
["PER POSITION INCREASE",{"$f":"IF('1-AST INC'!B43>0,'1-AST INC'!B43,\"N/A\")","v":"N/A"},{"$f":"'1-AST INC'!C43","v":{"v":0,"d":"0 "}},{"$f":"'1-AST INC'!D43","v":0},{"$f":"IF(ISERROR(D43/12*C43),0,D43/12*C43)","v":{"v":0,"d":"$0"}},{"$f":"IF(ISERROR((E43/C43)*(12-C43)),0,(E43/C43)*(12-C43))","v":{"v":0,"d":"$0"}}]
["NEXT YEAR",null,null,"%"]
["FICA",{"$f":"IF('1-AST INC'!B45>0,'1-AST INC'!B45,\"N/A\")","v":"N/A"},{"$f":"'1-AST INC'!C45","v":{"v":0,"d":"0 "}},{"$f":"'1-AST INC'!D45","v":{"v":0,"d":"0.00%"}},null,{"$f":"IF(ISERROR($F$31*D45),0,$F$31*D45)","v":{"v":0,"d":"$0"}}]
["RETIREMENT MATCH",{"$f":"IF('1-AST INC'!B46>0,'1-AST INC'!B46,\"N/A\")","v":"N/A"},{"$f":"'1-AST INC'!C46","v":{"v":0,"d":"0 "}},{"$f":"'1-AST INC'!D46","v":{"v":0,"d":"0.00%"}},null,{"$f":"IF(ISERROR($F$31*D46),0,$F$31*D46)","v":{"v":0,"d":"$0"}}]
["OTHER PERCENT ",{"$f":"IF('1-AST INC'!B47>0,'1-AST INC'!B47,\"N/A\")","v":"N/A"},{"$f":"'1-AST INC'!C47","v":{"v":0,"d":"0 "}},{"$f":"'1-AST INC'!D47","v":{"v":0,"d":"0.00%"}},null,{"$f":"IF(ISERROR($F$31*D47),0,$F$31*D47)","v":{"v":0,"d":"$0"}}]
[null,"EFF. DATE","MOS.","INC."]
["BENEFIT RATE INCREASE",{"$f":"IF('1-AST INC'!B49>0,'1-AST INC'!B49,\"N/A\")","v":"N/A"},{"$f":"'1-AST INC'!C49","v":{"v":0,"d":"0 "}},{"$f":"'1-AST INC'!D49","v":{"v":0,"d":"0.00%"}},null,{"$f":"IF(ISERROR((D49/12*C49)*F30),0,((D49/12*C49)*F30))","v":{"v":0,"d":"$0"}},{"$f":"IF(ISERROR((F49/C49)*(12-C49)),0,(F49/C49)*(12-C49))","v":{"v":0,"d":"$0"}}]
["INFLATIONARY INCREASE (DEFAULT)",{"$f":"IF('1-AST INC'!B50>0,'1-AST INC'!B50,\"N/A\")","v":"N/A"},{"$f":"'1-AST INC'!C50","v":{"v":12,"d":"12 "}},{"$f":"'1-AST INC'!D50","v":{"v":0.03,"d":"3.00%"}},null,{"$f":"E60*D50","v":{"v":0,"d":"$0"}},{"$f":"IF(ISERROR((F50/C50)*(12-C50)),0,(F50/C50)*(12-C50))","v":{"v":0,"d":"$0"}}]
["PER POSITION INCREASE",{"$f":"IF('1-AST INC'!B51>0,'1-AST INC'!B51,\"N/A\")","v":"N/A"},{"$f":"'1-AST INC'!C51","v":{"v":0,"d":"0 "}},{"$f":"'1-AST INC'!D51","v":0},null,{"$f":"IF(ISERROR(D51/12*C51),0,D51/12*C51)","v":{"v":0,"d":"$0"}},{"$f":"IF(ISERROR((F51/C51)*(12-C51)),0,(F51/C51)*(12-C51))","v":{"v":0,"d":"$0"}}]
["REQUEST YEAR",null,null,"%"]
["FICA",{"$f":"IF('1-AST INC'!B53>0,'1-AST INC'!B53,\"N/A\")","v":"N/A"},{"$f":"'1-AST INC'!C53","v":{"v":0,"d":"0 "}},{"$f":"'1-AST INC'!D53","v":{"v":0,"d":"0.00%"}},null,null,{"$f":"IF(ISERROR($G$31*D53),0,$G$31*D53)","v":{"v":0,"d":"$0"}}]
["RETIREMENT MATCH",{"$f":"IF('1-AST INC'!B54>0,'1-AST INC'!B54,\"N/A\")","v":"N/A"},{"$f":"'1-AST INC'!C54","v":{"v":0,"d":"0 "}},{"$f":"'1-AST INC'!D54","v":{"v":0,"d":"0.00%"}},null,null,{"$f":"IF(ISERROR($G$31*D54),0,$G$31*D54)","v":{"v":0,"d":"$0"}}]
["OTHER PERCENT ",{"$f":"IF('1-AST INC'!B55>0,'1-AST INC'!B55,\"N/A\")","v":"N/A"},{"$f":"'1-AST INC'!C55","v":{"v":0,"d":"0 "}},{"$f":"'1-AST INC'!D55","v":{"v":0,"d":"0.00%"}},null,null,{"$f":"IF(ISERROR($G$31*D55),0,$G$31*D55)","v":{"v":0,"d":"$0"}}]
[null,"EFF. DATE","MOS.","INC."]
["BENEFIT RATE INCREASE",{"$f":"IF('1-AST INC'!B57>0,'1-AST INC'!B57,\"N/A\")","v":"N/A"},{"$f":"'1-AST INC'!C57","v":{"v":0,"d":"0 "}},{"$f":"'1-AST INC'!D57","v":{"v":0,"d":"0.00%"}},null,null,{"$f":"IF(ISERROR((D57/12*C57)*G30),0,((D57/12*C57)*G30))","v":{"v":0,"d":"$0"}}]
["PER POSITION INCREASE",{"$f":"IF('1-AST INC'!B58>0,'1-AST INC'!B58,\"N/A\")","v":"N/A"},{"$f":"'1-AST INC'!C58","v":{"v":0,"d":"0 "}},{"$f":"'1-AST INC'!D58","v":0},null,null,{"$f":"IF(ISERROR(D58/12*C58),0,D58/12*C58)","v":{"v":0,"d":"$0"}}]
["PER POSITION INCREASE",{"$f":"IF('1-AST INC'!B59>0,'1-AST INC'!B59,\"N/A\")","v":"N/A"},{"$f":"'1-AST INC'!C59","v":{"v":0,"d":"0 "}},{"$f":"'1-AST INC'!D59","v":0},null,null,{"$f":"IF(ISERROR(D59/12*C59),0,D59/12*C59)","v":{"v":0,"d":"$0"}}]
["PB COST PER POSITION",{"$f":"IF(ISERROR(B33/B34),0,B33/B34)","v":{"v":0,"d":"$0"}},null,null,{"$f":"SUM(E35:E59)","v":{"v":0,"d":"$0"}},{"$f":"SUM(F35:F59)","v":{"v":0,"d":"$0"}},{"$f":"SUM(G35:G59)","v":{"v":0,"d":"$0"}}]
["INCREASE PER YEAR",{"$nulls":3},{"$f":"E60-E35","v":{"v":0,"d":"$0"}},{"$f":"F60-F35","v":{"v":0,"d":"$0"}},{"$f":"G60-G35","v":{"v":0,"d":"$0"}}]
[]
["PS/PB COST PER POSITION",{"$f":"B30+B60","v":{"v":0,"d":"$0"}},null,null,{"$f":"E30+E60","v":{"v":0,"d":"$0"}},{"$f":"F30+F60","v":{"v":0,"d":"$0"}},{"$f":"G30+G60","v":{"v":0,"d":"$0"}}]

{"sheet":"1-SUP INC","index":15,"n_rows":63,"n_cols":7,"rows_kept":63,"merged":[[0,0,0,6],[2,0,2,6],[4,0,4,6],[5,0,5,6]]}
["COST PER POSITION - SUPPORT"]
[{"$f":"STARTUPCW!A2","v":"Crosswalk Version: 2.5.1"}]
["1-SUP "]
[{"$f":"'1-AST INC'!A4","v":"YOUR STATE"}]
[{"$f":"'1-AST INC'!A5:G5","v":"NEXT YEAR"}]
[{"$f":"F7","v":"FY "}]
[null,{"$f":"'1-AST INC'!B7","v":"FY "},null,null,{"$f":"'1-AST INC'!E7","v":"FY "},{"$f":"NEXTFY","v":"FY "},{"$f":"NEXTFY","v":"FY "}]
[null,"PREVIOUS",null,null,"CURRENT","NEXT","REQUEST"]
[" ","FISCAL YEAR",null,null,"FISCAL YEAR","FISCAL YEAR","FISCAL YEAR"]
[]
["TOTAL PERSONAL SERVICE COST",{"$f":"'CROSS PSPB'!AT9","v":{"v":0,"d":"$0"}}]
["TOTAL POSITIONS PAID",{"$f":"IF(STARTUPCW!B16=0,0,'CROSS PSPB'!AS9/STARTUPCW!B16)","v":{"v":0,"d":"0.00"}}]
["STRAIGHT LINE  PS COST PER POSITION",{"$nulls":3},{"$f":"IF(ISERROR($B$30),0,$B$30)","v":{"v":0,"d":"$0"}},{"$f":"IF(ISERROR($E$30),0,$E$30)","v":{"v":0,"d":"$0"}},{"$f":"IF(ISERROR($F$30),0,$F$30)","v":{"v":0,"d":"$0"}}]
["PRIOR YEAR - PARTIAL","EFF. DATE","MOS.","%"]
[{"$f":"'1-AST INC'!A15","v":"1. "},{"$f":"IF('1-AST INC'!B15>0,'1-AST INC'!B15,\"N/A\")","v":"N/A"},{"$f":"'1-AST INC'!C15","v":{"v":0,"d":"0 "}},{"$f":"'1-AST INC'!D15","v":{"v":0,"d":"0.00%"}},{"$f":"IF(OR(D15=0,C15=0),0,$E$13/(1+(D15*(C15/12)))*(D15/12*(12-C15)))","v":{"v":0,"d":"$0"}}]
[{"$f":"'1-AST INC'!A16","v":"2."},{"$f":"IF('1-AST INC'!B16>0,'1-AST INC'!B16,\"N/A\")","v":"N/A"},{"$f":"'1-AST INC'!C16","v":{"v":0,"d":"0 "}},{"$f":"'1-AST INC'!D16","v":{"v":0,"d":"0.00%"}},{"$f":"IF(OR(D16=0,C16=0),0,$E$13/(1+(D16*(C16/12)))*(D16/12*(12-C16)))","v":{"v":0,"d":"$0"}}]
[{"$f":"'1-AST INC'!A17","v":"3."},{"$f":"IF('1-AST INC'!B17>0,'1-AST INC'!B17,\"N/A\")","v":"N/A"},{"$f":"'1-AST INC'!C17","v":{"v":0,"d":"0 "}},{"$f":"'1-AST INC'!D17","v":{"v":0,"d":"0.00%"}},{"$f":"IF(OR(D17=0,C17=0),0,$E$13/(1+(D17*(C17/12)))*(D17/12*(12-C17)))","v":{"v":0,"d":"$0"}}]
["CURRENT YEAR"]
[{"$f":"'1-AST INC'!A19","v":"1. Default"},{"$f":"IF('1-AST INC'!B19>0,'1-AST INC'!B19,\"N/A\")","v":"N/A"},{"$f":"'1-AST INC'!C19","v":{"v":12,"d":"12 "}},{"$f":"'1-AST INC'!D19","v":{"v":0.03,"d":"3.00%"}},{"$f":"IF(ISERROR(SUM($E$13,$E$15:$E$17)*(D19/12*C19)),0,SUM($E$13,$E$15:$E$17)*(D19/12*C19))","v":{"v":0,"d":"$0"}},{"$f":"IF(ISERROR((E19/C19)*(12-C19)),0,(E19/C19)*(12-C19))","v":{"v":0,"d":"$0"}}]
[{"$f":"'1-AST INC'!A20","v":"2."},{"$f":"IF('1-AST INC'!B20>0,'1-AST INC'!B20,\"N/A\")","v":"N/A"},{"$f":"'1-AST INC'!C20","v":{"v":0,"d":"0 "}},{"$f":"'1-AST INC'!D20","v":{"v":0,"d":"0.00%"}},{"$f":"IF(ISERROR(SUM($E$13,$E$15:$E$17)*(D20/12*C20)),0,SUM($E$13,$E$15:$E$17)*(D20/12*C20))","v":{"v":0,"d":"$0"}},{"$f":"IF(ISERROR((E20/C20)*(12-C20)),0,(E20/C20)*(12-C20))","v":{"v":0,"d":"$0"}}]
[{"$f":"'1-AST INC'!A21","v":"3."},{"$f":"IF('1-AST INC'!B21>0,'1-AST INC'!B21,\"N/A\")","v":"N/A"},{"$f":"'1-AST INC'!C21","v":{"v":0,"d":"0 "}},{"$f":"'1-AST INC'!D21","v":{"v":0,"d":"0.00%"}},{"$f":"IF(ISERROR(SUM($E$13,$E$15:$E$17)*(D21/12*C21)),0,SUM($E$13,$E$15:$E$17)*(D21/12*C21))","v":{"v":0,"d":"$0"}},{"$f":"IF(ISERROR((E21/C21)*(12-C21)),0,(E21/C21)*(12-C21))","v":{"v":0,"d":"$0"}}]
["NEXT YEAR"]
[{"$f":"'1-AST INC'!A23","v":"1. Default"},{"$f":"IF('1-AST INC'!B23>0,'1-AST INC'!B23,\"N/A\")","v":"N/A"},{"$f":"'1-AST INC'!C23","v":{"v":12,"d":"12 "}},{"$f":"'1-AST INC'!D23","v":{"v":0.03,"d":"3.00%"}},null,{"$f":"IF(ISERROR(SUM($F$13,$F$19:$F$21)*(D23/12*C23)),0,SUM($F$13,$F$19:$F$21)*(D23/12*C23))","v":{"v":0,"d":"$0"}},{"$f":"IF(ISERROR((F23/C23)*(12-C23)),0,(F23/C23)*(12-C23))","v":{"v":0,"d":"$0"}}]
[{"$f":"'1-AST INC'!A24","v":"2."},{"$f":"IF('1-AST INC'!B24>0,'1-AST INC'!B24,\"N/A\")","v":"N/A"},{"$f":"'1-AST INC'!C24","v":{"v":0,"d":"0 "}},{"$f":"'1-AST INC'!D24","v":{"v":0,"d":"0.00%"}},null,{"$f":"IF(ISERROR(SUM($F$13,$F$19:$F$21)*(D24/12*C24)),0,SUM($F$13,$F$19:$F$21)*(D24/12*C24))","v":{"v":0,"d":"$0"}},{"$f":"IF(ISERROR((F24/C24)*(12-C24)),0,(F24/C24)*(12-C24))","v":{"v":0,"d":"$0"}}]
[{"$f":"'1-AST INC'!A25","v":"3."},{"$f":"IF('1-AST INC'!B25>0,'1-AST INC'!B25,\"N/A\")","v":"N/A"},{"$f":"'1-AST INC'!C25","v":{"v":0,"d":"0 "}},{"$f":"'1-AST INC'!D25","v":{"v":0,"d":"0.00%"}},null,{"$f":"IF(ISERROR(SUM($F$13,$F$19:$F$21)*(D25/12*C25)),0,SUM($F$13,$F$19:$F$21)*(D25/12*C25))","v":{"v":0,"d":"$0"}},{"$f":"IF(ISERROR((F25/C25)*(12-C25)),0,(F25/C25)*(12-C25))","v":{"v":0,"d":"$0"}}]
["REQUEST YEAR"]
[{"$f":"'1-AST INC'!A27","v":"1. "},{"$f":"IF('1-AST INC'!B27>0,'1-AST INC'!B27,\"N/A\")","v":"N/A"},{"$f":"'1-AST INC'!C27","v":{"v":0,"d":"0 "}},{"$f":"'1-AST INC'!D27","v":{"v":0,"d":"0.00%"}},null,null,{"$f":"IF(ISERROR(SUM($G$13,$G$23:$G$25)*(D27/12*C27)),0,SUM($G$13,$G$23:$G$25)*(D27/12*C27))","v":{"v":0,"d":"$0"}}]
[{"$f":"'1-AST INC'!A28","v":"2."},{"$f":"IF('1-AST INC'!B28>0,'1-AST INC'!B28,\"N/A\")","v":"N/A"},{"$f":"'1-AST INC'!C28","v":{"v":0,"d":"0 "}},{"$f":"'1-AST INC'!D28","v":{"v":0,"d":"0.00%"}},null,null,{"$f":"IF(ISERROR(SUM($G$13,$G$23:$G$25)*(D28/12*C28)),0,SUM($G$13,$G$23:$G$25)*(D28/12*C28))","v":{"v":0,"d":"$0"}}]
[{"$f":"'1-AST INC'!A29","v":"3."},{"$f":"IF('1-AST INC'!B29>0,'1-AST INC'!B29,\"N/A\")","v":"N/A"},{"$f":"'1-AST INC'!C29","v":{"v":0,"d":"0 "}},{"$f":"'1-AST INC'!D29","v":{"v":0,"d":"0.00%"}},null,null,{"$f":"IF(ISERROR(SUM($G$13,$G$23:$G$25)*(D29/12*C29)),0,SUM($G$13,$G$23:$G$25)*(D29/12*C29))","v":{"v":0,"d":"$0"}}]
["PS COST PER POSITION",{"$f":"IF(ISERROR(B11/B12),0,B11/B12)","v":{"v":0,"d":"$0"}},null,null,{"$f":"E13+SUM(E15:E29)","v":{"v":0,"d":"$0"}},{"$f":"F13+SUM(F15:F29)","v":{"v":0,"d":"$0"}},{"$f":"G13+SUM(G15:G29)","v":{"v":0,"d":"$0"}}]
["INCREASE PER YEAR",{"$nulls":3},{"$f":"E30-E13","v":{"v":0,"d":"$0"}},{"$f":"F30-F13","v":{"v":0,"d":"$0"}},{"$f":"G30-G13","v":{"v":0,"d":"$0"}}]
[]
["TOTAL PERSONNEL BENEFIT COST",{"$f":"'CROSS PSPB'!AU9","v":{"v":0,"d":"$0"}}]
[{"$f":"A$12","v":"TOTAL POSITIONS PAID"},{"$f":"B$12","v":{"v":0,"d":"0.00"}}]
["STRAIGHT LINE  PB COST PER POSITION",{"$nulls":3},{"$f":"$B$60","v":{"v":0,"d":"$0"}},{"$f":"$E$60","v":{"v":0,"d":"$0"}},{"$f":"$F$60","v":{"v":0,"d":"$0"}}]
["CURRENT YEAR",null,null,"%"]
["FICA",{"$f":"IF('1-AST INC'!B37>0,'1-AST INC'!B37,\"N/A\")","v":"N/A"},{"$f":"'1-AST INC'!C37","v":{"v":0,"d":"0 "}},{"$f":"'1-AST INC'!D37","v":{"v":0,"d":"0.00%"}},{"$f":"$E$31*D37","v":{"v":0,"d":"$0"}}]
["RETIREMENT MATCH",{"$f":"IF('1-AST INC'!B38>0,'1-AST INC'!B38,\"N/A\")","v":"N/A"},{"$f":"'1-AST INC'!C38","v":{"v":0,"d":"0 "}},{"$f":"'1-AST INC'!D38","v":{"v":0,"d":"0.00%"}},{"$f":"$E$31*D38","v":{"v":0,"d":"$0"}}]
["OTHER PERCENT ",{"$f":"IF('1-AST INC'!B39>0,'1-AST INC'!B39,\"N/A\")","v":"N/A"},{"$f":"'1-AST INC'!C39","v":{"v":0,"d":"0 "}},{"$f":"'1-AST INC'!D39","v":{"v":0,"d":"0.00%"}},{"$f":"$E$31*D39","v":{"v":0,"d":"$0"}}]
[null,"EFF. DATE","MOS.","INC."]
["BENEFIT RATE INCREASE",{"$f":"IF('1-AST INC'!B41>0,'1-AST INC'!B41,\"N/A\")","v":"N/A"},{"$f":"'1-AST INC'!C41","v":{"v":0,"d":"0 "}},{"$f":"'1-AST INC'!D41","v":{"v":0,"d":"0.00%"}},{"$f":"IF(ISERROR((D41/12*C41)*E30),0,((D41/12*C41)*E30))","v":{"v":0,"d":"$0"}},{"$f":"IF(ISERROR((E41/C41)*(12-C41)),0,(E41/C41)*(12-C41))","v":{"v":0,"d":"$0"}}]
["INFLATIONARY INCREASE (DEFAULT)",{"$f":"IF('1-AST INC'!B42>0,'1-AST INC'!B42,\"N/A\")","v":"N/A"},{"$f":"'1-AST INC'!C42","v":{"v":12,"d":"12 "}},{"$f":"'1-AST INC'!D42","v":{"v":0.03,"d":"3.00%"}},{"$f":"B60*D42","v":{"v":0,"d":"$0"}},{"$f":"IF(ISERROR((E42/C42)*(12-C42)),0,(E42/C42)*(12-C42))","v":{"v":0,"d":"$0"}}]
["PER POSITION INCREASE",{"$f":"IF('1-AST INC'!B43>0,'1-AST INC'!B43,\"N/A\")","v":"N/A"},{"$f":"'1-AST INC'!C43","v":{"v":0,"d":"0 "}},{"$f":"'1-AST INC'!D43","v":0},{"$f":"IF(ISERROR(D43/12*C43),0,D43/12*C43)","v":{"v":0,"d":"$0"}},{"$f":"IF(ISERROR((E43/C43)*(12-C43)),0,(E43/C43)*(12-C43))","v":{"v":0,"d":"$0"}}]
["NEXT YEAR",null,null,"%"]
["FICA",{"$f":"IF('1-AST INC'!B45>0,'1-AST INC'!B45,\"N/A\")","v":"N/A"},{"$f":"'1-AST INC'!C45","v":{"v":0,"d":"0 "}},{"$f":"'1-AST INC'!D45","v":{"v":0,"d":"0.00%"}},null,{"$f":"IF(ISERROR($F$31*D45),0,$F$31*D45)","v":{"v":0,"d":"$0"}}]
["RETIREMENT MATCH",{"$f":"IF('1-AST INC'!B46>0,'1-AST INC'!B46,\"N/A\")","v":"N/A"},{"$f":"'1-AST INC'!C46","v":{"v":0,"d":"0 "}},{"$f":"'1-AST INC'!D46","v":{"v":0,"d":"0.00%"}},null,{"$f":"IF(ISERROR($F$31*D46),0,$F$31*D46)","v":{"v":0,"d":"$0"}}]
["OTHER PERCENT ",{"$f":"IF('1-AST INC'!B47>0,'1-AST INC'!B47,\"N/A\")","v":"N/A"},{"$f":"'1-AST INC'!C47","v":{"v":0,"d":"0 "}},{"$f":"'1-AST INC'!D47","v":{"v":0,"d":"0.00%"}},null,{"$f":"IF(ISERROR($F$31*D47),0,$F$31*D47)","v":{"v":0,"d":"$0"}}]
[null,"EFF. DATE","MOS.","INC."]
["BENEFIT RATE INCREASE",{"$f":"IF('1-AST INC'!B49>0,'1-AST INC'!B49,\"N/A\")","v":"N/A"},{"$f":"'1-AST INC'!C49","v":{"v":0,"d":"0 "}},{"$f":"'1-AST INC'!D49","v":{"v":0,"d":"0.00%"}},null,{"$f":"IF(ISERROR((D49/12*C49)*F30),0,((D49/12*C49)*F30))","v":{"v":0,"d":"$0"}},{"$f":"IF(ISERROR((F49/C49)*(12-C49)),0,(F49/C49)*(12-C49))","v":{"v":0,"d":"$0"}}]
["INFLATIONARY INCREASE (DEFAULT)",{"$f":"IF('1-AST INC'!B50>0,'1-AST INC'!B50,\"N/A\")","v":"N/A"},{"$f":"'1-AST INC'!C50","v":{"v":12,"d":"12 "}},{"$f":"'1-AST INC'!D50","v":{"v":0.03,"d":"3.00%"}},null,{"$f":"E60*D50","v":{"v":0,"d":"$0"}},{"$f":"IF(ISERROR((F50/C50)*(12-C50)),0,(F50/C50)*(12-C50))","v":{"v":0,"d":"$0"}}]
["PER POSITION INCREASE",{"$f":"IF('1-AST INC'!B51>0,'1-AST INC'!B51,\"N/A\")","v":"N/A"},{"$f":"'1-AST INC'!C51","v":{"v":0,"d":"0 "}},{"$f":"'1-AST INC'!D51","v":0},null,{"$f":"IF(ISERROR(D51/12*C51),0,D51/12*C51)","v":{"v":0,"d":"$0"}},{"$f":"IF(ISERROR((F51/C51)*(12-C51)),0,(F51/C51)*(12-C51))","v":{"v":0,"d":"$0"}}]
["REQUEST YEAR",null,null,"%"]
["FICA",{"$f":"IF('1-AST INC'!B53>0,'1-AST INC'!B53,\"N/A\")","v":"N/A"},{"$f":"'1-AST INC'!C53","v":{"v":0,"d":"0 "}},{"$f":"'1-AST INC'!D53","v":{"v":0,"d":"0.00%"}},null,null,{"$f":"IF(ISERROR($G$31*D53),0,$G$31*D53)","v":{"v":0,"d":"$0"}}]
["RETIREMENT MATCH",{"$f":"IF('1-AST INC'!B54>0,'1-AST INC'!B54,\"N/A\")","v":"N/A"},{"$f":"'1-AST INC'!C54","v":{"v":0,"d":"0 "}},{"$f":"'1-AST INC'!D54","v":{"v":0,"d":"0.00%"}},null,null,{"$f":"IF(ISERROR($G$31*D54),0,$G$31*D54)","v":{"v":0,"d":"$0"}}]
["OTHER PERCENT ",{"$f":"IF('1-AST INC'!B55>0,'1-AST INC'!B55,\"N/A\")","v":"N/A"},{"$f":"'1-AST INC'!C55","v":{"v":0,"d":"0 "}},{"$f":"'1-AST INC'!D55","v":{"v":0,"d":"0.00%"}},null,null,{"$f":"IF(ISERROR($G$31*D55),0,$G$31*D55)","v":{"v":0,"d":"$0"}}]
[null,"EFF. DATE","MOS.","INC."]
["BENEFIT RATE INCREASE",{"$f":"IF('1-AST INC'!B57>0,'1-AST INC'!B57,\"N/A\")","v":"N/A"},{"$f":"'1-AST INC'!C57","v":{"v":0,"d":"0 "}},{"$f":"'1-AST INC'!D57","v":{"v":0,"d":"0.00%"}},null,null,{"$f":"IF(ISERROR((D57/12*C57)*G30),0,((D57/12*C57)*G30))","v":{"v":0,"d":"$0"}}]
["PER POSITION INCREASE",{"$f":"IF('1-AST INC'!B58>0,'1-AST INC'!B58,\"N/A\")","v":"N/A"},{"$f":"'1-AST INC'!C58","v":{"v":0,"d":"0 "}},{"$f":"'1-AST INC'!D58","v":0},null,null,{"$f":"IF(ISERROR(D58/12*C58),0,D58/12*C58)","v":{"v":0,"d":"$0"}}]
["PER POSITION INCREASE",{"$f":"IF('1-AST INC'!B59>0,'1-AST INC'!B59,\"N/A\")","v":"N/A"},{"$f":"'1-AST INC'!C59","v":{"v":0,"d":"0 "}},{"$f":"'1-AST INC'!D59","v":0},null,null,{"$f":"IF(ISERROR(D59/12*C59),0,D59/12*C59)","v":{"v":0,"d":"$0"}}]
["PB COST PER POSITION",{"$f":"IF(ISERROR(B33/B34),0,B33/B34)","v":{"v":0,"d":"$0"}},null,null,{"$f":"SUM(E35:E59)","v":{"v":0,"d":"$0"}},{"$f":"SUM(F35:F59)","v":{"v":0,"d":"$0"}},{"$f":"SUM(G35:G59)","v":{"v":0,"d":"$0"}}]
["INCREASE PER YEAR",{"$nulls":3},{"$f":"E60-E35","v":{"v":0,"d":"$0"}},{"$f":"F60-F35","v":{"v":0,"d":"$0"}},{"$f":"G60-G35","v":{"v":0,"d":"$0"}}]
[]
["PS/PB COST PER POSITION",{"$f":"B30+B60","v":{"v":0,"d":"$0"}},null,null,{"$f":"E30+E60","v":{"v":0,"d":"$0"}},{"$f":"F30+F60","v":{"v":0,"d":"$0"}},{"$f":"G30+G60","v":{"v":0,"d":"$0"}}]

{"sheet":"PS CONT CROSS","index":16,"n_rows":143,"n_cols":108,"rows_kept":143,"merged":[[0,0,0,2],[1,2,1,3],[2,0,2,2],[3,0,3,2],[109,0,109,2]]}
["PS CONTRACTS CROSSWALK",{"$nulls":106},15]
[{"$f":"STARTUPCW!A2","v":"Crosswalk Version: 2.5.1"}]
[{"$f":"STATENAME","v":"YOUR STATE"},{"$nulls":3},""]
[{"$f":"'CROSS PSPB'!A7","v":"FY "}]
[{"$nulls":3},"INITIAL ","WEEKS","NONMONETARY",null,"WAGE",{"$nulls":5},"NOT"]
["TOTAL PS CONTRACTS","Alloc","DOLLARS","CLAIMS","CLAIMED","DETER.","APPEALS","RECORDS","TAX","BPC","UI PERFORMS","SUPPORT","AS&T","CONVERTED","Balance"]
[null,null,{"$f":"'CROSS NPS'!G7+'CROSS NPS'!H7","v":0},{"$nulls":11},{"$f":"C7-N102","v":0}]
["TOTAL",null,{"$f":"C102","v":0},0,0,0,0,0,0,0,0,0,0,0,{"$f":"SUM(D8:N8)-C8","v":0}]
["CONTRACT IDENTIFIER"]
["FEDERAL SOURCES"]
[{"$nulls":3},{"$f":"IF(OR($B11=\"IC\",$B11=\"IC IT\"),$C11,\"\")","v":""},{"$f":"IF(OR($B11=\"WC\",$B11=\"WC IT\"),$C11,\"\")","v":""},{"$f":"IF(OR($B11=\"NMD\",$B11=\"NMD IT\"),$C11,\"\")","v":""},{"$f":"IF(OR($B11=\"APP\",$B11=\"APP IT\"),$C11,\"\")","v":""},{"$f":"IF(OR($B11=\"WR\",$B11=\"WR IT\"),$C11,\"\")","v":""},{"$f":"IF(OR($B11=\"TAX\",$B11=\"TAX IT\"),$C11,\"\")","v":""},{"$f":"IF(OR($B11=\"BPC\",$B11=\"BPC IT\"),$C11,\"\")","v":""},{"$f":"IF(OR($B11=\"UIP\",$B11=\"UIP IT\"),$C11,\"\")","v":""},{"$f":"IF(OR($B11=\"SUP\",$B11=\"SUP IT\"),$C11,\"\")","v":""},{"$f":"IF(OR($B11=\"AS&T\",$B11=\"AS&T IT\"),$C11,\"\")","v":""},{"$f":"IF(OR($B11=\"NOT CONV\",$B11=\"NO CNVT IT\"),$C11,\"\")","v":""},{"$f":"SUM(D11:N11)-C11","v":0}]
[{"$nulls":3},"","","","","","","","","","",{"$f":"IF(OR($B12=\"NOT CONV\",$B12=\"NO CNVT IT\"),$C12,\"\")","v":""},0]
[{"$nulls":3},"","","","","","","","","","","",0]
[{"$nulls":3},"","","","","","","","","","","",0]
[{"$nulls":3},"","","","","","","","","","","",0]
[{"$nulls":3},"","","","","","","","","","","",0]
[{"$nulls":3},"","","","","","","","","","","",0]
[{"$nulls":3},"","","","","","","","","","","",0]
[{"$nulls":3},"","","","","","","","","","","",0]
[{"$nulls":3},"","","","","","","","","","","",0]
[{"$nulls":3},"","","","","","","","","","","",0]
[{"$nulls":3},"","","","","","","","","","","",0]
[{"$nulls":3},"","","","","","","","","","","",0]
[{"$nulls":3},"","","","","","","","","","","",0]
[{"$nulls":3},"","","","","","","","","","","",0]
[{"$nulls":3},"","","","","","","","","","","",0]
[{"$nulls":3},"","","","","","","","","","","",0]
[{"$nulls":3},"","","","","","","","","","","",0]
[{"$nulls":3},"","","","","","","","","","","",0]
[{"$nulls":3},"","","","","","","","","","","",0]
[{"$nulls":3},"","","","","","","","","","","",0]
[{"$nulls":3},"","","","","","","","","","","",0]
[{"$nulls":3},"","","","","","","","","","","",0]
[{"$nulls":3},"","","","","","","","","","","",0]
[{"$nulls":3},"","","","","","","","","","","",0]
[{"$nulls":3},"","","","","","","","","","","",0]
[{"$nulls":3},"","","","","","","","","","","",0]
[{"$nulls":3},"","","","","","","","","","","",0]
[{"$nulls":3},"","","","","","","","","","","",0]
[{"$nulls":3},"","","","","","","","","","","",0]
[{"$nulls":3},"","","","","","","","","","","",0]
[{"$nulls":3},"","","","","","","","","","","",0]
[{"$nulls":3},"","","","","","","","","","","",0]
[{"$nulls":3},"","","","","","","","","","","",0]
[{"$nulls":3},"","","","","","","","","","","",0]
[{"$nulls":3},"","","","","","","","","","","",0]
[{"$nulls":3},"","","","","","","","","","","",0]
[{"$nulls":3},"","","","","","","","","","","",0]
[{"$nulls":3},"","","","","","","","","","","",0]
[{"$nulls":3},"","","","","","","","","","","",{"$f":"SUM(D50:N50)-C50","v":0}]
["STATE SOURCES"]
[{"$nulls":3},"","","","","","","","","","","",0]
[{"$nulls":3},"","","","","","","","","","","",0]
[{"$nulls":3},"","","","","","","","","","","",0]
[{"$nulls":3},"","","","","","","","","","","",0]
[{"$nulls":3},"","","","","","","","","","","",0]
[{"$nulls":3},"","","","","","","","","","","",0]
[{"$nulls":3},"","","","","","","","","","","",0]
[{"$nulls":3},"","","","","","","","","","","",0]
[{"$nulls":3},"","","","","","","","","","","",0]
[{"$nulls":3},"","","","","","","","","","","",0]
[{"$nulls":3},"","","","","","","","","","","",0]
[{"$nulls":3},"","","","","","","","","","","",0]
[{"$nulls":3},"","","","","","","","","","","",0]
[{"$nulls":3},"","","","","","","","","","","",0]
[{"$nulls":3},"","","","","","","","","","","",0]
[{"$nulls":3},"","","","","","","","","","","",0]
[{"$nulls":3},"","","","","","","","","","","",0]
[{"$nulls":3},"","","","","","","","","","","",0]
[{"$nulls":3},"","","","","","","","","","","",0]
[{"$nulls":3},"","","","","","","","","","","",0]
[{"$nulls":3},"","","","","","","","","","","",0]
[{"$nulls":3},"","","","","","","","","","","",0]
[{"$nulls":3},"","","","","","","","","","","",0]
[{"$nulls":3},"","","","","","","","","","","",0]
[{"$nulls":3},{"$f":"IF(OR($B76=\"IC\",$B76=\"IC IT\"),$C76,\"\")","v":""},{"$f":"IF(OR($B76=\"WC\",$B76=\"WC IT\"),$C76,\"\")","v":""},{"$f":"IF(OR($B76=\"NMD\",$B76=\"NMD IT\"),$C76,\"\")","v":""},{"$f":"IF(OR($B76=\"APP\",$B76=\"APP IT\"),$C76,\"\")","v":""},{"$f":"IF(OR($B76=\"WR\",$B76=\"WR IT\"),$C76,\"\")","v":""},{"$f":"IF(OR($B76=\"TAX\",$B76=\"TAX IT\"),$C76,\"\")","v":""},{"$f":"IF(OR($B76=\"BPC\",$B76=\"BPC IT\"),$C76,\"\")","v":""},{"$f":"IF(OR($B76=\"UIP\",$B76=\"UIP IT\"),$C76,\"\")","v":""},{"$f":"IF(OR($B76=\"SUP\",$B76=\"SUP IT\"),$C76,\"\")","v":""},{"$f":"IF(OR($B76=\"AS&T\",$B76=\"AS&T IT\"),$C76,\"\")","v":""},"",0]
[{"$nulls":3},"","","","","","","","","","",{"$f":"IF(OR($B77=\"NOT CONV\",$B77=\"NO CNVT IT\"),$C77,\"\")","v":""},0]
[{"$nulls":3},"","","","","","","","","","","",0]
[{"$nulls":3},"","","","","","","","","","","",0]
[{"$nulls":3},"","","","","","","","","","","",0]
[{"$nulls":3},"","","","","","","","","","","",0]
[{"$nulls":3},"","","","","","","","","","","",0]
[{"$nulls":3},"","","","","","","","","","","",0]
[{"$nulls":3},"","","","","","","","","","","",0]
[{"$nulls":3},"","","","","","","","","","","",0]
[{"$nulls":3},"","","","","","","","","","","",0]
[{"$nulls":3},"","","","","","","","","","","",0]
[{"$nulls":3},"","","","","","","","","","","",0]
[{"$nulls":3},"","","","","","","","","","","",0]
[{"$nulls":3},"","","","","","","","","","","",0]
[{"$nulls":3},"","","","","","","","","","","",0]
[{"$nulls":3},"","","","","","","","","","","",0]
[{"$nulls":3},"","","","","","","","","","","",0]
[{"$nulls":3},"","","","","","","","","","","",0]
[{"$nulls":3},"","","","","","","","","","","",0]
[{"$nulls":3},"","","","","","","","","","","",0]
[{"$nulls":3},"","","","","","","","","","","",0]
[{"$nulls":3},"","","","","","","","","","","",0]
[{"$nulls":3},"","","","","","","","","","","",0]
[{"$nulls":3},"","","","","","","","","","","",0]
[]
["TOTAL",null,{"$f":"SUM(C10:C101)","v":0},0,0,0,0,0,0,0,0,0,0,0,0]
[]
["ALLOCATED",null,{"$f":"SUM(D102:N102)","v":0}]
[]
["DIFFERENCE-ALL TO CODES",null,{"$f":"C102-C104","v":0}]
[]
["DIFFERENCE-TOTAL PS CONT",null,{"$f":"C7-C104","v":0}]
[]
["SHEET IS DESIGNED TO ALLOW ADDITIONAL ROWS TO BE INSERTED - IF DONE MANUALLY INSTEAD OF BY USING BUTTONS AT TOP OF WORKSHEET, COPY FORMULAS IN B11 and FROM D11 through O11 TO ALL INSERTED ROWS."]
[]
[]
[]
["SPLIT"]
["SPLIT IT"]
["IC"]
["IC IT"]
["WC"]
["WC IT"]
["NMD"]
["NMD IT"]
["APP"]
["APP IT"]
["WR"]
["WR IT"]
["TAX"]
["TAX IT"]
["BPC"]
["BPC IT"]
["UIP"]
["UIP IT"]
["SUP"]
["SUP IT"]
["AS&T"]
["AS&T IT"]
["NOT CONV"]
["NO CNVT IT"]
[]
[]
[]
[]
[]
[{"$nulls":3},{"$f":"IF(OR($B143=\"IC\",$B143=\"IC IT\"),$C143,\"\")","v":""},{"$f":"IF(OR($B143=\"WC\",$B143=\"WC IT\"),$C143,\"\")","v":""},{"$f":"IF(OR($B143=\"NMD\",$B143=\"NMD IT\"),$C143,\"\")","v":""},{"$f":"IF(OR($B143=\"APP\",$B143=\"APP IT\"),$C143,\"\")","v":""},{"$f":"IF(OR($B143=\"WR\",$B143=\"WR IT\"),$C143,\"\")","v":""},{"$f":"IF(OR($B143=\"TAX\",$B143=\"TAX IT\"),$C143,\"\")","v":""},{"$f":"IF(OR($B143=\"BPC\",$B143=\"BPC IT\"),$C143,\"\")","v":""},{"$f":"IF(OR($B143=\"UIP\",$B143=\"UIP IT\"),$C143,\"\")","v":""},{"$f":"IF(OR($B143=\"SUP\",$B143=\"SUP IT\"),$C143,\"\")","v":""},{"$f":"IF(OR($B143=\"AS&T\",$B143=\"AS&T IT\"),$C143,\"\")","v":""},{"$f":"IF(OR($B143=\"NOT CONV\",$B143=\"NO CNVT IT\"),$C143,\"\")","v":""},{"$f":"SUM(D143:N143)-C143","v":0}]