{"text_format":"3","workbook":"xlsx","n_sheets":38,"sheets":["Welcome","Facility_Info","Facility_Info_upload","Unit_Info","Monitoring_Equipment","COMS_Summary","CPMS_Summary","COMS1","CPMS1","COMS2","CPMS2","COMS3","CPMS3","COMS4","CPMS4","COMS5","CPMS5","COMS6","CPMS6","COMS7","CPMS7","COMS8","CPMS8","COMS9","CPMS9","COMS10","CPMS10","CMS_Process_Control_Changes","Certification","CMS_Detail (_____)","EE_Detail (_____)","Failures (_____)","Revisions","Worksheet Map","Violations","Lists","dropdown menus","ESRI_MAPINFO_SHEET"],"not_rendered":{"macros":1,"defined_names":51},"read":"whole","date_system":"1900"}

{"sheet":"Welcome","index":0,"n_rows":33,"n_cols":2,"rows_kept":33}
["DO NOT REMOVE OR EDIT INFORMATION IN THIS SECTION\nFOR INTERNAL USE ONLY"]
["Template Name","63.860(c) Excess Emissions Report"]
["CitationID","63.867(d)(2)"]
["Template Version","DRAFT"]
["Last Updated Date","2021-07-16"]
[null,"OMB No.: 2060-0377 Form 5900-520 For further Paperwork Reduction Act information see: \nhttps://www.epa.gov/electronic-reporting-air-emissions/paperwork-reduction-act-pra-cedri-and-ert"]
[null,"40 CFR Part 63, Subpart MM -- Pulp and Paper Combustion Sources"]
[null,"Excess Emissions Reporting Spreadsheet Template"]
[null,"Welcome and Instructions"]
[null,"Purpose:"]
[null,"This spreadsheet template was designed by the U.S. EPA to facilitate semiannual excess emissions reporting under 40 CFR part 63, subpart MM."]
[null,"The semiannual reporting requirements included in this report are found in §63.867(c) and (d)."]
[null,"Electronic reporting:"]
[null,"Electronic submission of semiannual excess emissions reports through the EPA's Compliance and Emissions Data Reporting (CEDRI) is required under §63.867(d)(2)."]
[null,"CEDRI is accessed through the EPA's Central Data Exchange: https://cdx.epa.gov"]
[null,"This spreadsheet template may be uploaded to CEDRI to fulfill the electronic reporting requirement under §63.867(d)(2)."]
[null,"For semiannual report, you may reference a single file attachment that includes additional information on the \"Facility_Info\" tab. "]
[null,"Do not submit information you claim as confidential business information (CBI) to EPA via CEDRI. EPA will make all the information submitted through CEDRI available to the public without further notice to you. Anything submitted using CEDRI cannot later be claimed to be CBI. Furthermore, under CAA section 114(c) emissions data is not entitled to confidential treatment and requires EPA to make emissions data available to the public. Thus, emissions data will not be protected as CBI and will be made publicly available.\n"]
[null,"Although we do not expect persons to assert a claim of CBI, if persons wish to assert a CBI claim, you must submit the report via CEDRI with the CBI omitted and mail a complete report, including any information claimed to be CBI, to EPA on a compact disc, flash drive, or other commonly used electronic storage media via U.S. postal service. You must mark the outside of the digital storage media as CBI and then identify electronically within the digital storage media the specific information that is claimed as CBI. Mail the media to the address in the referencing federal regulation. If no address is specified, mail the media to:\n\nU.S. EPA/OAQPS/CORE CBI Office Attention: Group Leader, \nMeasurement Policy Group MD C404-02\n4930 Old Page Rd\nDurham, North Carolina 27703"]
[null,"IMPORTANT: The spreadsheet must be uploaded into CEDRI as a single ZIP file, which must include this Excel workbook and any related attachments that were referenced in the workbook (i.e., additional information file found in the \"Company Information\" worksheet).\n\nNote: If you are uploading file attachments for your report, the uploaded files may be in any format (e.g., zip, docx, PDF). If you would like to include an Excel file(s) as an attachment, you must first zip the excel file(s) into a separate ZIP file to the master ZIP file that will be uploaded into CEDRI."]
[null,"Once all data have been entered in the worksheet, combine this Excel workbook and all attachment files (including any ZIP file containing separate excel file(s), if applicable) into a single ZIP file for upload to CEDRI.\n\nPlease ensure your report includes all of the required data elements found in the listed citations below for this spreadsheet upload submission."]
[null,"Template Navigation and Tabs to Complete:"]
[null,"Gray tabs:  All semiannual excess emissions reports will include information in the gray tabs (Facility_Info, Unit_Info, and Monitoring_Equipment). The information in the gray tabs varies very little from one semiannual reporting period to the next.  You can complete the gray tabs once and save the workbook for subsequent reporting periods in which you would only need to review the data provided and update it if needed."]
[null,"Green tabs:  In addition to the gray tabs, the green tabs (COMS1 through COMS10, CPMS1 through CPMS10, CMS_Process_Control_Changes, and Certification) comprise the Summary Report - Gaseous and Opacity Excess Emissions and Continuous Monitoring Systems Performance Report required under §63.867(c)(1).  Each semiannual report must include the summary information for each emission unit and required monitoring system.  Green tabs for continuous opacity (COMS1 through COMS10) or parameter monitors (CPMS1 through CPMS10) appear depending on your selections within the Unit_Info tab.  \nThe CMS_Process_Control_Changes tab is available to describe any process control changes over the reporting period per §63.867(c)(1)(ix).\nThe Certification tab contains the certification statements of §63.10(e)(v) that must be indicated if they are applicable each semiannual report."]
[null,"Orange tabs:  A detailed report titled Excess Emissions and Continuous Monitoring System Performance Report is required under §63.867(c)(3) if: "]
[null,"● Total CMS downtime is 5 percent or greater of the total source operating time during the reporting period, or "]
[null,"● The CMS shows excess emissions for 1 percent or more of the operating time in the reporting period, or"]
[null,"● There was a violation according to 40 CFR 63.864(k)(2) of subpart MM. "]
[null,"Submit the detailed report using the format provided in the orange tabs in this spreadsheet (CMS Detail, EE Detail, and Failures), or you may upload a separate file into CEDRI containing the information required for the detailed report in an alternative file format. If you populate the orange tabs in ths spreadsheet, copy/paste extra template tabs as needed for different process units and monitors that require detailed reporting."]
[null,"Reporting the information in the Failures tab is required when a violation of the standards has occurred."]
[null,"The information in the orange tabs must be provided in addition to completing the gray and green summary report tabs when detailed reports are required.  "]
[null,"Certification per §63.867(c)(1)(x):"]
[null,"Certification of your report in CEDRI satisfies the requirement in §63.867(c)(1)(x) that a certifying official certify based on information and belief formed after reasonable inquiry, the statements and information in the document are true, accurate, and complete."]

{"sheet":"Facility_Info","index":1,"n_rows":33,"n_cols":2,"rows_kept":33}
[{"$f":"+Welcome!B6","v":"OMB No.: 2060-0377 Form 5900-520 For further Paperwork Reduction Act information see: \nhttps://www.epa.gov/electronic-reporting-air-emissions/paperwork-reduction-act-pra-cedri-and-ert"}]
["Summary Report – Gaseous and Opacity Excess Emissions and Continuous Monitoring "]
["System Performance"]
["Facility Information"]
["Provide the company name, facility site name associated with the affected facility, the FRS ID, and the address of the"]
["affected facility. If an address is not available for the site, include a description of the site location and provide the "]
["latitude and longitude coordinates of the site in decimal degrees to an accuracy and precision of five (5) decimals of "]
["a degree using the North American Datum of 1983. [§63.867(c)(1)(i)] "]
["Additional information and any additonal files may be specified below."]
["Facility Record No. *\n(Field value will automatically generate if a value is not entered.)",{"$f":"IF(B11=\"\",\"\",1)","v":""}]
["1. Company Name:"]
["2. Facility site name associated with the affected facility:"]
["3. Facility Registry Service (FRS) number for the affected facility:"]
["4. Address of the affected facility:"]
["A. Address1"]
["B. Address2"]
["C. City"]
["D. County"]
["E. State Abbreviation"]
["F. Zip Code"]
["5. If an address is not available for the site, include a description of the site location and provide the latitude and"]
[" longitude coordinates of the site:"]
["   A. Description of the site location:"]
["   B. Latitude:"]
["   C. Longitude:"]
["Reporting Period Dates"]
["Provide the beginning and ending date of the reporting period in MM/DD/YYYY format. [§63.867(c)(1)(ii)]"]
["1. Beginning date:"]
["2. Ending date:"]
["Additional Information"]
["Provide any additional information and the filenames of any attached files related to this report below."]
["1. Additional Information"]
["2. Name of Additonal File"]

{"sheet":"Facility_Info_upload","index":2,"n_rows":24,"n_cols":18,"rows_kept":24,"hidden":true,"merged":[[0,1,0,4],[1,2,1,4],[10,11,10,13],[10,14,10,15],[10,16,10,17]]}
[null,"DO NOT REMOVE OR EDIT INFORMATION IN THIS SECTION\nFOR INTERNAL USE ONLY"]
[null,"Template Name",{"$f":"+Welcome!$B$2","v":"63.860(c) Excess Emissions Report"}]
[null,"CitationID",{"$f":"+Welcome!$B$3","v":"63.867(d)(2)"}]
[null,"Template Version",{"$f":"+Welcome!$B$4","v":"DRAFT"}]
[null,"Last Updated Date",{"$f":"+Welcome!$B$5","v":"2021-07-16"}]
[]
[null,"Summary Report – Gaseous and Opacity Excess Emissions and Continuous Monitoring System Performance"]
[null,"Facility Information"]
[null,"This table presents a summary of the Facility_Info tab. \nThis is the data used in importing to the CEDRI database.  \nThese cells are locked, any changes necessary should be made on the Facility_Info tab."]
[]
[{"$nulls":11},"5. If an address is not available for the site, include a description of the site location and provide the latitude and longitude coordinates of the site (63.860(c)(1)(i))",null,null,"Reporting Period Dates (63.860(c)(1)(ii))",null,"Additional Information"]
[null,"Facility Record No.","1. Company Name (63.860(c)(1)(i))","2. Facility site name associated with the affected facility (63.860(c)(1)(i))","3. Facility Registry Service (FRS) number for the affected facility","4. Address of the affected facility (63.860(c)(1)(i))","Address 2","City","County","State Abbreviation","Zip Code","   A. Description of the site location","   B. Latitude","   C. Longitude","1. Beginning date (MM/DD/YYYY)","2. Ending date (MM/DD/YYYY)","Please Enter Any Additional Information","Name of Additional Files"]
[null,"RecordId","CompanyName","FacilityName","FrsSiteId","AddressLine1","AddressLine2","CityName","CountyName","StateName","ZipCode","SiteDescription","SiteLatitude","SiteLongitude","PeriodStartDate","PeriodEndDate","AddInfo","AddFile"]
{"$rows_empty":10}
[null,{"$f":"+Facility_Info!B10","v":""},{"$f":"+Facility_Info!B11","v":0},{"$f":"+Facility_Info!B12","v":0},{"$f":"+Facility_Info!B13","v":0},{"$f":"IF(+Facility_Info!$B$15=\"\",\"\",+Facility_Info!$B$15)","v":""},{"$f":"IF(+Facility_Info!$B$16=\"\",\"\",+Facility_Info!$B$16)","v":""},{"$f":"IF(+Facility_Info!$B$17=\"\",\"\",+Facility_Info!$B$17)","v":""},{"$f":"IF(+Facility_Info!$B$18=\"\",\"\",+Facility_Info!$B$18)","v":""},{"$f":"IF(+Facility_Info!$B$19=\"\",\"\",+Facility_Info!$B$19)","v":""},{"$f":"IF(+Facility_Info!$B$20=\"\",\"\",+Facility_Info!$B$20)","v":""},{"$f":"IF(+Facility_Info!$B$23=\"\",\"\",+Facility_Info!$B$23)","v":""},{"$f":"IF(+Facility_Info!$B$24=\"\",\"\",+Facility_Info!$B$24)","v":""},{"$f":"IF(+Facility_Info!$B$25=\"\",\"\",+Facility_Info!$B$25)","v":""},{"$f":"IF(+Facility_Info!$B$28=\"\",\"\",+Facility_Info!$B$28)","v":""},{"$f":"IF(+Facility_Info!$B$29=\"\",\"\",+Facility_Info!$B$29)","v":""},{"$f":"IF(+Facility_Info!$B$32=\"\",\"\",+Facility_Info!$B$32)","v":""},{"$f":"IF(+Facility_Info!$B$33=\"\",\"\",+Facility_Info!$B$33)","v":""}]

{"sheet":"Unit_Info","index":3,"n_rows":62,"n_cols":29,"rows_kept":62}
[null,"DO NOT REMOVE OR EDIT INFORMATION IN THIS SECTION\nFOR INTERNAL USE ONLY",{"$f":"Welcome!B6","v":"OMB No.: 2060-0377 Form 5900-520 For further Paperwork Reduction Act information see: \nhttps://www.epa.gov/electronic-reporting-air-emissions/paperwork-reduction-act-pra-cedri-and-ert"}]
[null,"Template Name",{"$f":"+Welcome!$B$2","v":"63.860(c) Excess Emissions Report"}]
[null,"CitationID",{"$f":"+Welcome!$B$3","v":"63.867(d)(2)"}]
[null,"Template Version",{"$f":"+Welcome!$B$4","v":"DRAFT"}]
[null,"Last Updated Date",{"$f":"+Welcome!$B$5","v":"2021-07-16"}]
[null,null,"Summary Report – Gaseous and Opacity Excess Emissions and Continuous Monitoring System Performance"]
[null,null,"Process Unit Information -- 40 CFR Part 63, Subpart MM"]
[null,null,"Facility:",{"$f":"Facility_Info_upload!$C$24&\"--\"&Facility_Info_upload!$D$24","v":"0--0"}]
[null,null,"Reporting period:",{"$f":"Facility_Info_upload!$O$24&\" - \"&Facility_Info_upload!$P$24","v":" - "}]
[null,null,"Identify each affected process unit being included in the semiannual excess emissions report"]
[null,null,"Describe each process unit included in this semiannual excess emissions report below. Select the \"Process Unit Type\" from the dropdown menu (e.g., recovery furnace, smelt dissolving tank, or lime kiln). The \"Process Unit ID\" should correspond to the ID in the Title V permit (e.g., EU28). The \"Source ID\" should correspond to the commonly used description of the unit (e.g., recovery furnace 04). The \"Process Unit Description\" should describe what the process unit is. [§63.867(c)(1)(iii)-(iv)] Identify the applicable emission limits for each process unit. [§63.867(c)(1)(iv)] Indicate \"Yes\" in column M or N if you are required to report continuous opacity monitoring system (COMS) or continuous parameter monitoring system (CPMS) data. A green COMS or CPMS reporting tab will appear when \"Yes\" is selected. APCD = air pollution control device, ESP - electrostatic precipitator, RTO = regenerative thermal oxidizer, Other = write in control device type"]
[null,"Facility Record No.","Process Unit ID","Process Unit Type","Source ID","Process Unit Description","New or Existing Unit","Multiple Process Unit Stacks","APCD Type","Operating Scenario","PM emission limit (numeric)","PM limit units of measure","Gaseous organic HAP limit (numeric)","Gaseous organic HAP limit units of measure","Is the Process Unit included in the subpart MM PM bubble compliance alternative in §63.862(a)(1)(ii)?","Does the Process Unit use an Administrator-approved air pollution control system other than an ESP, wet scrubber, RTO, or fabric filter per §63.864(e)(14)?","Tab no.","Does the Process Unit require COMS reporting?","Does the Process Unit require CPMS reporting?","COMS Tab Name","CPMS Tab Name"]
[null,"RecordId","ProcessUnitId","ProcessUnitType","SourceID","ProcessUnitDesc","NewExist","MultiStack","ApcdType","OpScenario","PmEmLimit","PmEmUnit","GasHapLimit","GasHapUnit","ProcessUnitBubComp","ProcessUnitApcSystem",null,"ComsReporting","CpmsReporting"]
{"$rows_empty":10}
[null,{"$f":"IF(C24=\"\",\"\",Facility_Info_upload!$B$24)","v":""},{"$nulls":14},1,null,null,{"$f":"IF($R24=\"Yes\",\"COMS1\",IF($R24=\"No\",\"N/A\",\"\"))","v":""},{"$f":"IF($S24=\"Yes\",\"CPMS1\",IF($S24=\"No\",\"N/A\",\"\"))","v":""}]
[null,{"$f":"IF(C25=\"\",\"\",Facility_Info_upload!$B$24)","v":""},{"$nulls":14},2,null,null,{"$f":"IF($R25=\"Yes\",\"COMS2\",IF($R25=\"No\",\"N/A\",\"\"))","v":""},{"$f":"IF($S25=\"Yes\",\"CPMS2\",IF($S25=\"No\",\"N/A\",\"\"))","v":""}]
[null,{"$f":"IF(C26=\"\",\"\",Facility_Info_upload!$B$24)","v":""},{"$nulls":14},3,null,null,{"$f":"IF($R26=\"Yes\",\"COMS3\",IF($R26=\"No\",\"N/A\",\"\"))","v":""},{"$f":"IF($S26=\"Yes\",\"CPMS3\",IF($S26=\"No\",\"N/A\",\"\"))","v":""}]
[null,{"$f":"IF(C27=\"\",\"\",Facility_Info_upload!$B$24)","v":""},{"$nulls":14},4,null,null,{"$f":"IF($R27=\"Yes\",\"COMS4\",IF($R27=\"No\",\"N/A\",\"\"))","v":""},{"$f":"IF($S27=\"Yes\",\"CPMS4\",IF($S27=\"No\",\"N/A\",\"\"))","v":""}]
[null,{"$f":"IF(C28=\"\",\"\",Facility_Info_upload!$B$24)","v":""},{"$nulls":14},5,null,null,{"$f":"IF($R28=\"Yes\",\"COMS5\",IF($R28=\"No\",\"N/A\",\"\"))","v":""},{"$f":"IF($S28=\"Yes\",\"CPMS5\",IF($S28=\"No\",\"N/A\",\"\"))","v":""}]
[null,{"$f":"IF(C29=\"\",\"\",Facility_Info_upload!$B$24)","v":""},{"$nulls":14},6,null,null,{"$f":"IF($R29=\"Yes\",\"COMS6\",IF($R29=\"No\",\"N/A\",\"\"))","v":""},{"$f":"IF($S29=\"Yes\",\"CPMS6\",IF($S29=\"No\",\"N/A\",\"\"))","v":""}]
[null,{"$f":"IF(C30=\"\",\"\",Facility_Info_upload!$B$24)","v":""},{"$nulls":14},7,null,null,{"$f":"IF($R30=\"Yes\",\"COMS7\",IF($R30=\"No\",\"N/A\",\"\"))","v":""},{"$f":"IF($S30=\"Yes\",\"CPMS7\",IF($S30=\"No\",\"N/A\",\"\"))","v":""}]
[null,{"$f":"IF(C31=\"\",\"\",Facility_Info_upload!$B$24)","v":""},{"$nulls":14},8,null,null,{"$f":"IF($R31=\"Yes\",\"COMS8\",IF($R31=\"No\",\"N/A\",\"\"))","v":""},{"$f":"IF($S31=\"Yes\",\"CPMS8\",IF($S31=\"No\",\"N/A\",\"\"))","v":""}]
[null,{"$f":"IF(C32=\"\",\"\",Facility_Info_upload!$B$24)","v":""},{"$nulls":14},9,null,null,{"$f":"IF($R32=\"Yes\",\"COMS9\",IF($R32=\"No\",\"N/A\",\"\"))","v":""},{"$f":"IF($S32=\"Yes\",\"CPMS9\",IF($S32=\"No\",\"N/A\",\"\"))","v":""}]
[null,{"$f":"IF(C33=\"\",\"\",Facility_Info_upload!$B$24)","v":""},{"$nulls":14},10,null,null,{"$f":"IF($R33=\"Yes\",\"COMS10\",IF($R33=\"No\",\"N/A\",\"\"))","v":""},{"$f":"IF($S33=\"Yes\",\"CPMS10\",IF($S33=\"No\",\"N/A\",\"\"))","v":""}]
{"$rows_empty":7}
[{"$nulls":24},"Summary Tab Index"]
[{"$nulls":24},"Tab Name","Process Unit ID","Process Unit Type","Process Unit Description","Air Pollution Control Device Type"]
[{"$nulls":24},{"$f":"T24","v":""},{"$f":"C24","v":0},{"$f":"D24","v":0},{"$f":"F24","v":0},{"$f":"I24","v":0}]
[{"$nulls":24},"",0,0,0,0]
[{"$nulls":24},"",0,0,0,0]
[{"$nulls":24},"",0,0,0,0]
[{"$nulls":24},"",0,0,0,0]
[{"$nulls":24},"",0,0,0,0]
[{"$nulls":24},"",0,0,0,0]
[{"$nulls":24},"",0,0,0,0]
[{"$nulls":24},"",0,0,0,0]
[{"$nulls":24},"",0,0,0,0]
[{"$nulls":24},{"$f":"U24","v":""},{"$f":"C24","v":0},{"$f":"D24","v":0},{"$f":"F24","v":0},{"$f":"I24","v":0}]
[{"$nulls":24},"",0,0,0,0]
[{"$nulls":24},"",0,0,0,0]
[{"$nulls":24},"",0,0,0,0]
[{"$nulls":24},"",0,0,0,0]
[{"$nulls":24},"",0,0,0,0]
[{"$nulls":24},"",0,0,0,0]
[{"$nulls":24},"",0,0,0,0]
[{"$nulls":24},"",0,0,0,0]
[{"$nulls":24},"",0,0,0,0]

{"sheet":"Monitoring_Equipment","index":4,"n_rows":52,"n_cols":9,"rows_kept":52}
[null,"DO NOT REMOVE OR EDIT INFORMATION IN THIS SECTION\nFOR INTERNAL USE ONLY",null,null,{"$f":"Welcome!B6","v":"OMB No.: 2060-0377 Form 5900-520 For further Paperwork Reduction Act information see: \nhttps://www.epa.gov/electronic-reporting-air-emissions/paperwork-reduction-act-pra-cedri-and-ert"}]
[null,"Template Name",null,null,{"$f":"+Welcome!$B$2","v":"63.860(c) Excess Emissions Report"}]
[null,"CitationID",null,null,{"$f":"+Welcome!$B$3","v":"63.867(d)(2)"}]
[null,"Template Version",null,null,{"$f":"+Welcome!$B$4","v":"DRAFT"}]
[null,"Last Updated Date",null,null,{"$f":"+Welcome!$B$5","v":"2021-07-16"}]
[null,null,"Summary Report – Gaseous and Opacity Excess Emissions and Continuous Monitoring System Performance"]
[null,null,"Monitoring Equipment -- 40 CFR Part 63, Subpart MM"]
[null,null,"Facility:",null,null,{"$f":"Facility_Info_upload!$C$24&\"--\"&Facility_Info_upload!$D$24","v":"0--0"}]
[null,null,"Reporting period:",null,null,{"$f":"Facility_Info_upload!$O$24&\" - \"&Facility_Info_upload!$P$24","v":" - "}]
[null,null,"Identify the monitoring equipment and corresponding model number used to comply with subpart MM for each affected emission unit, as well as the date of the last CMS certification or audit.  [§63.867(c)(1)(v) and (vi)]\n"]
[null,null,"If the process unit has multiple stacks or emission points with different monitors, indicate the emission points in column D. For example: RB1 (stack A), RB1 (stack B)"]
[null,"Facility Record No.","Process Unit ID","Emission Point (Stack) ID","Combined Process Unit ID and Emission Point ID"," Monitoring Equipment Description","Monitoring Equipment Manufacturer","Model Number","Date of Last CMS Certification or Audit"]
[null,"RecordId","ProcessUnitId","EPId","ReleasePtId","MonitorEqDesc","MonitorEqMfr","ModelNumber","CmsCertAudit"]
{"$rows_empty":10}
[null,{"$f":"IF(E24=\"\",\"\",Facility_Info_upload!$B$24)","v":""}]
[null,{"$f":"IF(E25=\"\",\"\",Facility_Info_upload!$B$24)","v":""}]
[null,{"$f":"IF(E26=\"\",\"\",Facility_Info_upload!$B$24)","v":""}]
[null,{"$f":"IF(E27=\"\",\"\",Facility_Info_upload!$B$24)","v":""}]
[null,{"$f":"IF(E28=\"\",\"\",Facility_Info_upload!$B$24)","v":""}]
[null,{"$f":"IF(E29=\"\",\"\",Facility_Info_upload!$B$24)","v":""}]
[null,{"$f":"IF(E30=\"\",\"\",Facility_Info_upload!$B$24)","v":""}]
[null,{"$f":"IF(E31=\"\",\"\",Facility_Info_upload!$B$24)","v":""}]
[null,{"$f":"IF(E32=\"\",\"\",Facility_Info_upload!$B$24)","v":""}]
[null,{"$f":"IF(E33=\"\",\"\",Facility_Info_upload!$B$24)","v":""}]
[null,{"$f":"IF(E34=\"\",\"\",Facility_Info_upload!$B$24)","v":""}]
[null,{"$f":"IF(E35=\"\",\"\",Facility_Info_upload!$B$24)","v":""}]
[null,{"$f":"IF(E36=\"\",\"\",Facility_Info_upload!$B$24)","v":""}]
[null,{"$f":"IF(E37=\"\",\"\",Facility_Info_upload!$B$24)","v":""}]
[null,{"$f":"IF(E38=\"\",\"\",Facility_Info_upload!$B$24)","v":""}]
[null,{"$f":"IF(E39=\"\",\"\",Facility_Info_upload!$B$24)","v":""}]
[null,{"$f":"IF(E40=\"\",\"\",Facility_Info_upload!$B$24)","v":""}]
[null,{"$f":"IF(E41=\"\",\"\",Facility_Info_upload!$B$24)","v":""}]
[null,{"$f":"IF(E42=\"\",\"\",Facility_Info_upload!$B$24)","v":""}]
[null,{"$f":"IF(E43=\"\",\"\",Facility_Info_upload!$B$24)","v":""}]
[null,{"$f":"IF(E44=\"\",\"\",Facility_Info_upload!$B$24)","v":""}]
[null,{"$f":"IF(E45=\"\",\"\",Facility_Info_upload!$B$24)","v":""}]
[null,{"$f":"IF(E46=\"\",\"\",Facility_Info_upload!$B$24)","v":""}]
[null,{"$f":"IF(E47=\"\",\"\",Facility_Info_upload!$B$24)","v":""}]
[null,{"$f":"IF(E48=\"\",\"\",Facility_Info_upload!$B$24)","v":""}]
[null,{"$f":"IF(E49=\"\",\"\",Facility_Info_upload!$B$24)","v":""}]
[null,{"$f":"IF(E50=\"\",\"\",Facility_Info_upload!$B$24)","v":""}]
[null,{"$f":"IF(E51=\"\",\"\",Facility_Info_upload!$B$24)","v":""}]
[null,{"$f":"IF(E52=\"\",\"\",Facility_Info_upload!$B$24)","v":""}]

{"sheet":"COMS_Summary","index":5,"n_rows":63,"n_cols":45,"rows_kept":63,"hidden":true,"merged":[[0,1,0,5],[1,2,1,5],[8,7,8,28],[8,35,8,44],[9,13,9,28],[9,36,9,40],[9,44,11,44],[10,13,10,20],[10,21,10,28]]}
[null,"DO NOT REMOVE OR EDIT INFORMATION IN THIS SECTION\nFOR INTERNAL USE ONLY"]
[null,"Template Name",{"$f":"+Welcome!$B$2","v":"63.860(c) Excess Emissions Report"}]
[null,"CitationID",{"$f":"+Welcome!$B$3","v":"63.867(d)(2)"}]
[null,"Template Version",{"$f":"+Welcome!$B$4","v":"DRAFT"}]
[null,"Last Updated Date",{"$f":"+Welcome!$B$5","v":"2021-07-16"}]
[null,"Summary Report – Gaseous and Opacity Excess Emissions and Continuous Monitoring System Performance"]
[null,"Continuous Opacity Monitoring Systems and ESP Parameter Monitoring -- 40 CFR Part 63, Subpart MM\n"]
[null,"This table presents a summary of all of the individual COMS tabs.  \nThis is the data used in importing to the CEDRI database.  \nThese cells are locked, any changes necessary should be made on the individual COMS tabs."]
[{"$nulls":7},"Emission Data Summary -- Opacity [§63.867(c)(1)(iv) and (vii)]",{"$nulls":27}," CMS Performance Summary [§63.867(c)(1)(viii)]"]
[{"$nulls":13},"1. Duration of excess emissions in reporting period due to:",{"$nulls":15},"4. Count of exceedances of corrective action level in reporting period due to:",{"$nulls":6},"1. CMS downtime in reporting period due to:",{"$nulls":7},"If detailed reporting is required, enter the type and/or filename of the detailed report provided"]
[{"$nulls":13},"(Duration (Minutes))"]
[null,"Facility Record No. ","Process Unit ID","Process Unit Type","Process Unit Description","Air Pollution Control Device Type","Total Source Operating Time* (minutes)","Process Unit Emission Point","Operating parameter","Opacity limit, %","Mark with an \"X\" if no excess emissions or exceedances of a parameter have occurred during the reporting period. [§63.10(e)(3)(v)]","Mark with an \"X\" if the CMS has not been inoperative, out of control, repaired, or adjusted during the reporting period. [§63.10(e)(3)(v)]","Mark with an \"X\" if the AVC was operated properly during the reporting period. [§63.8641(e)(1)]","a. Startup/ Shutdown","b. Control Equipment Problems","c. Process Problems","d. Other known causes","e. Unknown causes","2. Total duration of excess emissions","3. (Total duration of excess emissions) / (Total Source Operating Time) x (100) %","Do excess emissions equal or exceed 1% of operating time?","a. Startup/ Shutdown","b. Control Equipment Problems","c. Process Problems","d. Other known causes","e. Unknown causes","2. Total duration of excess emissions","3. (Total duration of excess emissions) / (Total Source Operating Time) x (100) %2","Is the opacity violation level triggered?\nViolation level (count) = 2% or more of 6-min averages for recovery furnaces, or 3% or more of 6-min averages for lime kilns  [§63.864(k)(2)(i)-(ii)]","a. Startup/ Shutdown","b. Control Equipment Problems","c. Process Problems","d. Other known causes","e. Unknown causes","5. Total count of exceedances of corrective action level","Operating parameter","a. Monitoring equipment malfunctions","b. Non-monitor equipment malfunctions","c. Quality assurance/quality control calibration","d. Other known causes","e. Unknown causes","2. Total CMS downtime","3. (Total CMS downtime) / (Total Source Operating Time) x (100) %","Is total CMS downtime greater than 5% of total source operating time?"]
[null,"RecordId","ProcessUnitId","ProcessUnitType","ProcessUnitDesc","ApcdType","SourceOperatingTimeMin","ReleasePtId","EmOperatingParameter","OpacityLimitPercent","ExcessEmInReportPeriod","CmsInReportingPeriod","AVCReportingPeriod","EmStartupShutdownMin","EmEquipProbMin","EmProcessProbMin","EmOtherCausesMin","EmUnknownCausesMin","EmTotalMin","EmTotalMinPercent","EmOnePercent","EmStartupShutdownCount","EmEquipProbCount","EmProcessProbCount","EmOtherCausesCount","EmUnknownCausesCount","EmTotalCount","EmTotalCountPercent","EmOpacityViolation","EmStartupShutdownExcCount","EmEquipProbExcCount","EmProcessProbExcCount","EmOtherCausesExcCount","EmUnknownCausesExcCount","EmTotalExcCount","CmsOperatingParameter","CmsEquipMal","CmsNonEquipMal","CmsQaCalibration","CmsOtherCauses","CmsUnkownCauses","CmsTotalDowntime","CmsTotalPercent","CmsFivePercent","CmsDetailFile"]
[null,null,6,7,8,9,10,14,{"$f":"+H14+1","v":15},{"$f":"+I14+1","v":16},{"$f":"+J14+1","v":17},18,19,22,{"$f":"+N14+1","v":23},{"$f":"+O14+1","v":24},25,26,27,28,29,22,{"$f":"+V14+1","v":23},{"$f":"+W14+1","v":24},25,26,27,28,30,33,{"$f":"+AD14+1","v":34},{"$f":"+AE14+1","v":35},36,37,38,40,43,{"$f":"+AK14+1","v":44},{"$f":"+AL14+1","v":45},46,47,48,49,50,51]
{"$rows_empty":9}
[null,{"$f":"IF(C24=\"\",\"\",Facility_Info_upload!$B$24)","v":""},{"$f":"IF(ISNA(Lists!$C2),\"\",IF(INDIRECT(\"'\"&Lists!$C2&\"'!\"&\"B\"&C$14)=\"\",\"\",(INDIRECT(\"'\"&Lists!$C2&\"'!\"&\"B\"&C$14))))","v":""},{"$f":"IF(ISNA(Lists!$C2),\"\",IF(INDIRECT(\"'\"&Lists!$C2&\"'!\"&\"B\"&D$14)=\"\",\"\",(INDIRECT(\"'\"&Lists!$C2&\"'!\"&\"B\"&D$14))))","v":""},{"$f":"IF(ISNA(Lists!$C2),\"\",IF(INDIRECT(\"'\"&Lists!$C2&\"'!\"&\"B\"&E$14)=\"\",\"\",(INDIRECT(\"'\"&Lists!$C2&\"'!\"&\"B\"&E$14))))","v":""},{"$f":"IF(ISNA(Lists!$C2),\"\",IF(INDIRECT(\"'\"&Lists!$C2&\"'!\"&\"B\"&F$14)=\"\",\"\",(INDIRECT(\"'\"&Lists!$C2&\"'!\"&\"B\"&F$14))))","v":""},{"$f":"IF(ISNA(Lists!$C2),\"\",IF(INDIRECT(\"'\"&Lists!$C2&\"'!\"&\"B\"&G$14)=\"\",\"\",(INDIRECT(\"'\"&Lists!$C2&\"'!\"&\"B\"&G$14))))","v":""},{"$f":"IF(ISNA(Lists!$C2),\"\",IF((INDIRECT(\"'\"&Lists!$C2&\"'!\"&Lists!$D2&H$14))=\"\",\"\",(INDIRECT(\"'\"&Lists!$C2&\"'!\"&Lists!$D2&H$14))))","v":""},{"$f":"IF(ISNA(Lists!$C2),\"\",IF((INDIRECT(\"'\"&Lists!$C2&\"'!\"&Lists!$D2&I$14))=\"\",\"\",(INDIRECT(\"'\"&Lists!$C2&\"'!\"&Lists!$D2&I$14))))","v":""},{"$f":"IF(ISNA(Lists!$C2),\"\",IF((INDIRECT(\"'\"&Lists!$C2&\"'!\"&Lists!$D2&J$14))=\"\",\"\",(INDIRECT(\"'\"&Lists!$C2&\"'!\"&Lists!$D2&J$14))))","v":""},{"$f":"IF(ISNA(Lists!$C2),\"\",IF((INDIRECT(\"'\"&Lists!$C2&\"'!\"&Lists!$D2&K$14))=\"\",\"\",(INDIRECT(\"'\"&Lists!$C2&\"'!\"&Lists!$D2&K$14))))","v":""},{"$f":"IF(ISNA(Lists!$C2),\"\",IF((INDIRECT(\"'\"&Lists!$C2&\"'!\"&Lists!$D2&L$14))=\"\",\"\",(INDIRECT(\"'\"&Lists!$C2&\"'!\"&Lists!$D2&L$14))))","v":""},{"$f":"IF(ISNA(Lists!$C2),\"\",IF((INDIRECT(\"'\"&Lists!$C2&\"'!\"&Lists!$D2&M$14))=\"\",\"\",(INDIRECT(\"'\"&Lists!$C2&\"'!\"&Lists!$D2&M$14))))","v":""},{"$f":"IF(ISNA(Lists!$C2),\"\",IF((INDIRECT(\"'\"&Lists!$C2&\"'!\"&Lists!$D2&N$14))=\"\",\"\",(INDIRECT(\"'\"&Lists!$C2&\"'!\"&Lists!$D2&N$14))))","v":""},{"$f":"IF(ISNA(Lists!$C2),\"\",IF((INDIRECT(\"'\"&Lists!$C2&\"'!\"&Lists!$D2&O$14))=\"\",\"\",(INDIRECT(\"'\"&Lists!$C2&\"'!\"&Lists!$D2&O$14))))","v":""},{"$f":"IF(ISNA(Lists!$C2),\"\",IF((INDIRECT(\"'\"&Lists!$C2&\"'!\"&Lists!$D2&P$14))=\"\",\"\",(INDIRECT(\"'\"&Lists!$C2&\"'!\"&Lists!$D2&P$14))))","v":""},{"$f":"IF(ISNA(Lists!$C2),\"\",IF((INDIRECT(\"'\"&Lists!$C2&\"'!\"&Lists!$D2&Q$14))=\"\",\"\",(INDIRECT(\"'\"&Lists!$C2&\"'!\"&Lists!$D2&Q$14))))","v":""},{"$f":"IF(ISNA(Lists!$C2),\"\",IF((INDIRECT(\"'\"&Lists!$C2&\"'!\"&Lists!$D2&R$14))=\"\",\"\",(INDIRECT(\"'\"&Lists!$C2&\"'!\"&Lists!$D2&R$14))))","v":""},{"$f":"IF(ISNA(Lists!$C2),\"\",IF((INDIRECT(\"'\"&Lists!$C2&\"'!\"&Lists!$D2&S$14))=\"\",\"\",(INDIRECT(\"'\"&Lists!$C2&\"'!\"&Lists!$D2&S$14))))","v":""},{"$f":"IF(ISNA(Lists!$C2),\"\",IF((INDIRECT(\"'\"&Lists!$C2&\"'!\"&Lists!$D2&T$14))=\"\",\"\",(INDIRECT(\"'\"&Lists!$C2&\"'!\"&Lists!$D2&T$14))))","v":""},{"$f":"IF(ISNA(Lists!$C2),\"\",IF((INDIRECT(\"'\"&Lists!$C2&\"'!\"&Lists!$D2&U$14))=\"\",\"\",(INDIRECT(\"'\"&Lists!$C2&\"'!\"&Lists!$D2&U$14))))","v":""},{"$f":"IF(ISNA(Lists!$C2),\"\",IF((INDIRECT(\"'\"&Lists!$C2&\"'!\"&Lists!$E2&V$14))=\"\",\"\",(INDIRECT(\"'\"&Lists!$C2&\"'!\"&Lists!$E2&V$14))))","v":""},{"$f":"IF(ISNA(Lists!$C2),\"\",IF((INDIRECT(\"'\"&Lists!$C2&\"'!\"&Lists!$E2&W$14))=\"\",\"\",(INDIRECT(\"'\"&Lists!$C2&\"'!\"&Lists!$E2&W$14))))","v":""},{"$f":"IF(ISNA(Lists!$C2),\"\",IF((INDIRECT(\"'\"&Lists!$C2&\"'!\"&Lists!$E2&X$14))=\"\",\"\",(INDIRECT(\"'\"&Lists!$C2&\"'!\"&Lists!$E2&X$14))))","v":""},{"$f":"IF(ISNA(Lists!$C2),\"\",IF((INDIRECT(\"'\"&Lists!$C2&\"'!\"&Lists!$E2&Y$14))=\"\",\"\",(INDIRECT(\"'\"&Lists!$C2&\"'!\"&Lists!$E2&Y$14))))","v":""},{"$f":"IF(ISNA(Lists!$C2),\"\",IF((INDIRECT(\"'\"&Lists!$C2&\"'!\"&Lists!$E2&Z$14))=\"\",\"\",(INDIRECT(\"'\"&Lists!$C2&\"'!\"&Lists!$E2&Z$14))))","v":""},{"$f":"IF(ISNA(Lists!$C2),\"\",IF((INDIRECT(\"'\"&Lists!$C2&\"'!\"&Lists!$E2&AA$14))=\"\",\"\",(INDIRECT(\"'\"&Lists!$C2&\"'!\"&Lists!$E2&AA$14))))","v":""},{"$f":"IF(ISNA(Lists!$C2),\"\",IF((INDIRECT(\"'\"&Lists!$C2&\"'!\"&Lists!$E2&AB$14))=\"\",\"\",(INDIRECT(\"'\"&Lists!$C2&\"'!\"&Lists!$E2&AB$14))))","v":""},{"$f":"IF(ISNA(Lists!$C2),\"\",IF((INDIRECT(\"'\"&Lists!$C2&\"'!\"&Lists!$E2&AC$14))=\"\",\"\",(INDIRECT(\"'\"&Lists!$C2&\"'!\"&Lists!$E2&AC$14))))","v":""},{"$f":"IF(ISNA(Lists!$C2),\"\",IF((INDIRECT(\"'\"&Lists!$C2&\"'!\"&Lists!$E2&AD$14))=\"\",\"\",(INDIRECT(\"'\"&Lists!$C2&\"'!\"&Lists!$E2&AD$14))))","v":""},{"$f":"IF(ISNA(Lists!$C2),\"\",IF((INDIRECT(\"'\"&Lists!$C2&\"'!\"&Lists!$E2&AE$14))=\"\",\"\",(INDIRECT(\"'\"&Lists!$C2&\"'!\"&Lists!$E2&AE$14))))","v":""},{"$f":"IF(ISNA(Lists!$C2),\"\",IF((INDIRECT(\"'\"&Lists!$C2&\"'!\"&Lists!$E2&AF$14))=\"\",\"\",(INDIRECT(\"'\"&Lists!$C2&\"'!\"&Lists!$E2&AF$14))))","v":""},{"$f":"IF(ISNA(Lists!$C2),\"\",IF((INDIRECT(\"'\"&Lists!$C2&\"'!\"&Lists!$E2&AG$14))=\"\",\"\",(INDIRECT(\"'\"&Lists!$C2&\"'!\"&Lists!$E2&AG$14))))","v":""},{"$f":"IF(ISNA(Lists!$C2),\"\",IF((INDIRECT(\"'\"&Lists!$C2&\"'!\"&Lists!$E2&AH$14))=\"\",\"\",(INDIRECT(\"'\"&Lists!$C2&\"'!\"&Lists!$E2&AH$14))))","v":""},{"$f":"IF(ISNA(Lists!$C2),\"\",IF((INDIRECT(\"'\"&Lists!$C2&\"'!\"&Lists!$E2&AI$14))=\"\",\"\",(INDIRECT(\"'\"&Lists!$C2&\"'!\"&Lists!$E2&AI$14))))","v":""},{"$f":"IF(ISNA(Lists!$C2),\"\",IF((INDIRECT(\"'\"&Lists!$C2&\"'!\"&Lists!$D2&AJ$14))=\"\",\"\",(INDIRECT(\"'\"&Lists!$C2&\"'!\"&Lists!$D2&AJ$14))))","v":""},{"$f":"IF(ISNA(Lists!$C2),\"\",IF((INDIRECT(\"'\"&Lists!$C2&\"'!\"&Lists!$D2&AK$14))=\"\",\"\",(INDIRECT(\"'\"&Lists!$C2&\"'!\"&Lists!$D2&AK$14))))","v":""},{"$f":"IF(ISNA(Lists!$C2),\"\",IF((INDIRECT(\"'\"&Lists!$C2&\"'!\"&Lists!$D2&AL$14))=\"\",\"\",(INDIRECT(\"'\"&Lists!$C2&\"'!\"&Lists!$D2&AL$14))))","v":""},{"$f":"IF(ISNA(Lists!$C2),\"\",IF((INDIRECT(\"'\"&Lists!$C2&\"'!\"&Lists!$D2&AM$14))=\"\",\"\",(INDIRECT(\"'\"&Lists!$C2&\"'!\"&Lists!$D2&AM$14))))","v":""},{"$f":"IF(ISNA(Lists!$C2),\"\",IF((INDIRECT(\"'\"&Lists!$C2&\"'!\"&Lists!$D2&AN$14))=\"\",\"\",(INDIRECT(\"'\"&Lists!$C2&\"'!\"&Lists!$D2&AN$14))))","v":""},{"$f":"IF(ISNA(Lists!$C2),\"\",IF((INDIRECT(\"'\"&Lists!$C2&\"'!\"&Lists!$D2&AO$14))=\"\",\"\",(INDIRECT(\"'\"&Lists!$C2&\"'!\"&Lists!$D2&AO$14))))","v":""},{"$f":"IF(ISNA(Lists!$C2),\"\",IF((INDIRECT(\"'\"&Lists!$C2&\"'!\"&Lists!$D2&AP$14))=\"\",\"\",(INDIRECT(\"'\"&Lists!$C2&\"'!\"&Lists!$D2&AP$14))))","v":""},{"$f":"IF(ISNA(Lists!$C2),\"\",IF((INDIRECT(\"'\"&Lists!$C2&\"'!\"&Lists!$D2&AQ$14))=\"\",\"\",(INDIRECT(\"'\"&Lists!$C2&\"'!\"&Lists!$D2&AQ$14))))","v":""},{"$f":"IF(ISNA(Lists!$C2),\"\",IF((INDIRECT(\"'\"&Lists!$C2&\"'!\"&Lists!$D2&AR$14))=\"\",\"\",(INDIRECT(\"'\"&Lists!$C2&\"'!\"&Lists!$D2&AR$14))))","v":""},{"$f":"IF(ISNA(Lists!$C2),\"\",IF((INDIRECT(\"'\"&Lists!$C2&\"'!\"&Lists!$D2&AS$14))=\"\",\"\",(INDIRECT(\"'\"&Lists!$C2&\"'!\"&Lists!$D2&AS$14))))","v":""}]
[null,{"$f":"IF(C25=\"\",\"\",Facility_Info_upload!$B$24)","v":""},{"$f":"IF(ISNA(Lists!$C3),\"\",IF(INDIRECT(\"'\"&Lists!$C3&\"'!\"&\"B\"&C$14)=\"\",\"\",(INDIRECT(\"'\"&Lists!$C3&\"'!\"&\"B\"&C$14))))","v":""},{"$f":"IF(ISNA(Lists!$C3),\"\",IF(INDIRECT(\"'\"&Lists!$C3&\"'!\"&\"B\"&D$14)=\"\",\"\",(INDIRECT(\"'\"&Lists!$C3&\"'!\"&\"B\"&D$14))))","v":""},{"$f":"IF(ISNA(Lists!$C3),\"\",IF(INDIRECT(\"'\"&Lists!$C3&\"'!\"&\"B\"&E$14)=\"\",\"\",(INDIRECT(\"'\"&Lists!$C3&\"'!\"&\"B\"&E$14))))","v":""},{"$f":"IF(ISNA(Lists!$C3),\"\",IF(INDIRECT(\"'\"&Lists!$C3&\"'!\"&\"B\"&F$14)=\"\",\"\",(INDIRECT(\"'\"&Lists!$C3&\"'!\"&\"B\"&F$14))))","v":""},{"$f":"IF(ISNA(Lists!$C3),\"\",IF(INDIRECT(\"'\"&Lists!$C3&\"'!\"&\"B\"&G$14)=\"\",\"\",(INDIRECT(\"'\"&Lists!$C3&\"'!\"&\"B\"&G$14))))","v":""},{"$f":"IF(ISNA(Lists!$C3),\"\",IF((INDIRECT(\"'\"&Lists!$C3&\"'!\"&Lists!$D3&H$14))=\"\",\"\",(INDIRECT(\"'\"&Lists!$C3&\"'!\"&Lists!$D3&H$14))))","v":""},{"$f":"IF(ISNA(Lists!$C3),\"\",IF((INDIRECT(\"'\"&Lists!$C3&\"'!\"&Lists!$D3&I$14))=\"\",\"\",(INDIRECT(\"'\"&Lists!$C3&\"'!\"&Lists!$D3&I$14))))","v":""},{"$f":"IF(ISNA(Lists!$C3),\"\",IF((INDIRECT(\"'\"&Lists!$C3&\"'!\"&Lists!$D3&J$14))=\"\",\"\",(INDIRECT(\"'\"&Lists!$C3&\"'!\"&Lists!$D3&J$14))))","v":""},{"$f":"IF(ISNA(Lists!$C3),\"\",IF((INDIRECT(\"'\"&Lists!$C3&\"'!\"&Lists!$D3&K$14))=\"\",\"\",(INDIRECT(\"'\"&Lists!$C3&\"'!\"&Lists!$D3&K$14))))","v":""},{"$f":"IF(ISNA(Lists!$C3),\"\",IF((INDIRECT(\"'\"&Lists!$C3&\"'!\"&Lists!$D3&L$14))=\"\",\"\",(INDIRECT(\"'\"&Lists!$C3&\"'!\"&Lists!$D3&L$14))))","v":""},{"$f":"IF(ISNA(Lists!$C3),\"\",IF((INDIRECT(\"'\"&Lists!$C3&\"'!\"&Lists!$D3&M$14))=\"\",\"\",(INDIRECT(\"'\"&Lists!$C3&\"'!\"&Lists!$D3&M$14))))","v":""},{"$f":"IF(ISNA(Lists!$C3),\"\",IF((INDIRECT(\"'\"&Lists!$C3&\"'!\"&Lists!$D3&N$14))=\"\",\"\",(INDIRECT(\"'\"&Lists!$C3&\"'!\"&Lists!$D3&N$14))))","v":""},{"$f":"IF(ISNA(Lists!$C3),\"\",IF((INDIRECT(\"'\"&Lists!$C3&\"'!\"&Lists!$D3&O$14))=\"\",\"\",(INDIRECT(\"'\"&Lists!$C3&\"'!\"&Lists!$D3&O$14))))","v":""},{"$f":"IF(ISNA(Lists!$C3),\"\",IF((INDIRECT(\"'\"&Lists!$C3&\"'!\"&Lists!$D3&P$14))=\"\",\"\",(INDIRECT(\"'\"&Lists!$C3&\"'!\"&Lists!$D3&P$14))))","v":""},{"$f":"IF(ISNA(Lists!$C3),\"\",IF((INDIRECT(\"'\"&Lists!$C3&\"'!\"&Lists!$D3&Q$14))=\"\",\"\",(INDIRECT(\"'\"&Lists!$C3&\"'!\"&Lists!$D3&Q$14))))","v":""},{"$f":"IF(ISNA(Lists!$C3),\"\",IF((INDIRECT(\"'\"&Lists!$C3&\"'!\"&Lists!$D3&R$14))=\"\",\"\",(INDIRECT(\"'\"&Lists!$C3&\"'!\"&Lists!$D3&R$14))))","v":""},{"$f":"IF(ISNA(Lists!$C3),\"\",IF((INDIRECT(\"'\"&Lists!$C3&\"'!\"&Lists!$D3&S$14))=\"\",\"\",(INDIRECT(\"'\"&Lists!$C3&\"'!\"&Lists!$D3&S$14))))","v":""},{"$f":"IF(ISNA(Lists!$C3),\"\",IF((INDIRECT(\"'\"&Lists!$C3&\"'!\"&Lists!$D3&T$14))=\"\",\"\",(INDIRECT(\"'\"&Lists!$C3&\"'!\"&Lists!$D3&T$14))))","v":""},{"$f":"IF(ISNA(Lists!$C3),\"\",IF((INDIRECT(\"'\"&Lists!$C3&\"'!\"&Lists!$D3&U$14))=\"\",\"\",(INDIRECT(\"'\"&Lists!$C3&\"'!\"&Lists!$D3&U$14))))","v":""},{"$f":"IF(ISNA(Lists!$C3),\"\",IF((INDIRECT(\"'\"&Lists!$C3&\"'!\"&Lists!$E3&V$14))=\"\",\"\",(INDIRECT(\"'\"&Lists!$C3&\"'!\"&Lists!$E3&V$14))))","v":""},{"$f":"IF(ISNA(Lists!$C3),\"\",IF((INDIRECT(\"'\"&Lists!$C3&\"'!\"&Lists!$E3&W$14))=\"\",\"\",(INDIRECT(\"'\"&Lists!$C3&\"'!\"&Lists!$E3&W$14))))","v":""},{"$f":"IF(ISNA(Lists!$C3),\"\",IF((INDIRECT(\"'\"&Lists!$C3&\"'!\"&Lists!$E3&X$14))=\"\",\"\",(INDIRECT(\"'\"&Lists!$C3&\"'!\"&Lists!$E3&X$14))))","v":""},{"$f":"IF(ISNA(Lists!$C3),\"\",IF((INDIRECT(\"'\"&Lists!$C3&\"'!\"&Lists!$E3&Y$14))=\"\",\"\",(INDIRECT(\"'\"&Lists!$C3&\"'!\"&Lists!$E3&Y$14))))","v":""},{"$f":"IF(ISNA(Lists!$C3),\"\",IF((INDIRECT(\"'\"&Lists!$C3&\"'!\"&Lists!$E3&Z$14))=\"\",\"\",(INDIRECT(\"'\"&Lists!$C3&\"'!\"&Lists!$E3&Z$14))))","v":""},{"$f":"IF(ISNA(Lists!$C3),\"\",IF((INDIRECT(\"'\"&Lists!$C3&\"'!\"&Lists!$E3&AA$14))=\"\",\"\",(INDIRECT(\"'\"&Lists!$C3&\"'!\"&Lists!$E3&AA$14))))","v":""},{"$f":"IF(ISNA(Lists!$C3),\"\",IF((INDIRECT(\"'\"&Lists!$C3&\"'!\"&Lists!$E3&AB$14))=\"\",\"\",(INDIRECT(\"'\"&Lists!$C3&\"'!\"&Lists!$E3&AB$14))))","v":""},{"$f":"IF(ISNA(Lists!$C3),\"\",IF((INDIRECT(\"'\"&Lists!$C3&\"'!\"&Lists!$E3&AC$14))=\"\",\"\",(INDIRECT(\"'\"&Lists!$C3&\"'!\"&Lists!$E3&AC$14))))","v":""},{"$f":"IF(ISNA(Lists!$C3),\"\",IF((INDIRECT(\"'\"&Lists!$C3&\"'!\"&Lists!$E3&AD$14))=\"\",\"\",(INDIRECT(\"'\"&Lists!$C3&\"'!\"&Lists!$E3&AD$14))))","v":""},{"$f":"IF(ISNA(Lists!$C3),\"\",IF((INDIRECT(\"'\"&Lists!$C3&\"'!\"&Lists!$E3&AE$14))=\"\",\"\",(INDIRECT(\"'\"&Lists!$C3&\"'!\"&Lists!$E3&AE$14))))","v":""},{"$f":"IF(ISNA(Lists!$C3),\"\",IF((INDIRECT(\"'\"&Lists!$C3&\"'!\"&Lists!$E3&AF$14))=\"\",\"\",(INDIRECT(\"'\"&Lists!$C3&\"'!\"&Lists!$E3&AF$14))))","v":""},{"$f":"IF(ISNA(Lists!$C3),\"\",IF((INDIRECT(\"'\"&Lists!$C3&\"'!\"&Lists!$E3&AG$14))=\"\",\"\",(INDIRECT(\"'\"&Lists!$C3&\"'!\"&Lists!$E3&AG$14))))","v":""},{"$f":"IF(ISNA(Lists!$C3),\"\",IF((INDIRECT(\"'\"&Lists!$C3&\"'!\"&Lists!$E3&AH$14))=\"\",\"\",(INDIRECT(\"'\"&Lists!$C3&\"'!\"&Lists!$E3&AH$14))))","v":""},{"$f":"IF(ISNA(Lists!$C3),\"\",IF((INDIRECT(\"'\"&Lists!$C3&\"'!\"&Lists!$E3&AI$14))=\"\",\"\",(INDIRECT(\"'\"&Lists!$C3&\"'!\"&Lists!$E3&AI$14))))","v":""},{"$f":"IF(ISNA(Lists!$C3),\"\",IF((INDIRECT(\"'\"&Lists!$C3&\"'!\"&Lists!$D3&AJ$14))=\"\",\"\",(INDIRECT(\"'\"&Lists!$C3&\"'!\"&Lists!$D3&AJ$14))))","v":""},{"$f":"IF(ISNA(Lists!$C3),\"\",IF((INDIRECT(\"'\"&Lists!$C3&\"'!\"&Lists!$D3&AK$14))=\"\",\"\",(INDIRECT(\"'\"&Lists!$C3&\"'!\"&Lists!$D3&AK$14))))","v":""},{"$f":"IF(ISNA(Lists!$C3),\"\",IF((INDIRECT(\"'\"&Lists!$C3&\"'!\"&Lists!$D3&AL$14))=\"\",\"\",(INDIRECT(\"'\"&Lists!$C3&\"'!\"&Lists!$D3&AL$14))))","v":""},{"$f":"IF(ISNA(Lists!$C3),\"\",IF((INDIRECT(\"'\"&Lists!$C3&\"'!\"&Lists!$D3&AM$14))=\"\",\"\",(INDIRECT(\"'\"&Lists!$C3&\"'!\"&Lists!$D3&AM$14))))","v":""},{"$f":"IF(ISNA(Lists!$C3),\"\",IF((INDIRECT(\"'\"&Lists!$C3&\"'!\"&Lists!$D3&AN$14))=\"\",\"\",(INDIRECT(\"'\"&Lists!$C3&\"'!\"&Lists!$D3&AN$14))))","v":""},{"$f":"IF(ISNA(Lists!$C3),\"\",IF((INDIRECT(\"'\"&Lists!$C3&\"'!\"&Lists!$D3&AO$14))=\"\",\"\",(INDIRECT(\"'\"&Lists!$C3&\"'!\"&Lists!$D3&AO$14))))","v":""},{"$f":"IF(ISNA(Lists!$C3),\"\",IF((INDIRECT(\"'\"&Lists!$C3&\"'!\"&Lists!$D3&AP$14))=\"\",\"\",(INDIRECT(\"'\"&Lists!$C3&\"'!\"&Lists!$D3&AP$14))))","v":""},{"$f":"IF(ISNA(Lists!$C3),\"\",IF((INDIRECT(\"'\"&Lists!$C3&\"'!\"&Lists!$D3&AQ$14))=\"\",\"\",(INDIRECT(\"'\"&Lists!$C3&\"'!\"&Lists!$D3&AQ$14))))","v":""},{"$f":"IF(ISNA(Lists!$C3),\"\",IF((INDIRECT(\"'\"&Lists!$C3&\"'!\"&Lists!$D3&AR$14))=\"\",\"\",(INDIRECT(\"'\"&Lists!$C3&\"'!\"&Lists!$D3&AR$14))))","v":""},{"$f":"IF(ISNA(Lists!$C3),\"\",IF((INDIRECT(\"'\"&Lists!$C3&\"'!\"&Lists!$D3&AS$14))=\"\",\"\",(INDIRECT(\"'\"&Lists!$C3&\"'!\"&Lists!$D3&AS$14))))","v":""}]
[null,{"$f":"IF(C26=\"\",\"\",Facility_Info_upload!$B$24)","v":""},{"$f":"IF(ISNA(Lists!$C4),\"\",IF(INDIRECT(\"'\"&Lists!$C4&\"'!\"&\"B\"&C$14)=\"\",\"\",(INDIRECT(\"'\"&Lists!$C4&\"'!\"&\"B\"&C$14))))","v":""},{"$f":"IF(ISNA(Lists!$C4),\"\",IF(INDIRECT(\"'\"&Lists!$C4&\"'!\"&\"B\"&D$14)=\"\",\"\",(INDIRECT(\"'\"&Lists!$C4&\"'!\"&\"B\"&D$14))))","v":""},{"$f":"IF(ISNA(Lists!$C4),\"\",IF(INDIRECT(\"'\"&Lists!$C4&\"'!\"&\"B\"&E$14)=\"\",\"\",(INDIRECT(\"'\"&Lists!$C4&\"'!\"&\"B\"&E$14))))","v":""},{"$f":"IF(ISNA(Lists!$C4),\"\",IF(INDIRECT(\"'\"&Lists!$C4&\"'!\"&\"B\"&F$14)=\"\",\"\",(INDIRECT(\"'\"&Lists!$C4&\"'!\"&\"B\"&F$14))))","v":""},{"$f":"IF(ISNA(Lists!$C4),\"\",IF(INDIRECT(\"'\"&Lists!$C4&\"'!\"&\"B\"&G$14)=\"\",\"\",(INDIRECT(\"'\"&Lists!$C4&\"'!\"&\"B\"&G$14))))","v":""},{"$f":"IF(ISNA(Lists!$C4),\"\",IF((INDIRECT(\"'\"&Lists!$C4&\"'!\"&Lists!$D4&H$14))=\"\",\"\",(INDIRECT(\"'\"&Lists!$C4&\"'!\"&Lists!$D4&H$14))))","v":""},{"$f":"IF(ISNA(Lists!$C4),\"\",IF((INDIRECT(\"'\"&Lists!$C4&\"'!\"&Lists!$D4&I$14))=\"\",\"\",(INDIRECT(\"'\"&Lists!$C4&\"'!\"&Lists!$D4&I$14))))","v":""},{"$f":"IF(ISNA(Lists!$C4),\"\",IF((INDIRECT(\"'\"&Lists!$C4&\"'!\"&Lists!$D4&J$14))=\"\",\"\",(INDIRECT(\"'\"&Lists!$C4&\"'!\"&Lists!$D4&J$14))))","v":""},{"$f":"IF(ISNA(Lists!$C4),\"\",IF((INDIRECT(\"'\"&Lists!$C4&\"'!\"&Lists!$D4&K$14))=\"\",\"\",(INDIRECT(\"'\"&Lists!$C4&\"'!\"&Lists!$D4&K$14))))","v":""},{"$f":"IF(ISNA(Lists!$C4),\"\",IF((INDIRECT(\"'\"&Lists!$C4&\"'!\"&Lists!$D4&L$14))=\"\",\"\",(INDIRECT(\"'\"&Lists!$C4&\"'!\"&Lists!$D4&L$14))))","v":""},{"$f":"IF(ISNA(Lists!$C4),\"\",IF((INDIRECT(\"'\"&Lists!$C4&\"'!\"&Lists!$D4&M$14))=\"\",\"\",(INDIRECT(\"'\"&Lists!$C4&\"'!\"&Lists!$D4&M$14))))","v":""},{"$f":"IF(ISNA(Lists!$C4),\"\",IF((INDIRECT(\"'\"&Lists!$C4&\"'!\"&Lists!$D4&N$14))=\"\",\"\",(INDIRECT(\"'\"&Lists!$C4&\"'!\"&Lists!$D4&N$14))))","v":""},{"$f":"IF(ISNA(Lists!$C4),\"\",IF((INDIRECT(\"'\"&Lists!$C4&\"'!\"&Lists!$D4&O$14))=\"\",\"\",(INDIRECT(\"'\"&Lists!$C4&\"'!\"&Lists!$D4&O$14))))","v":""},{"$f":"IF(ISNA(Lists!$C4),\"\",IF((INDIRECT(\"'\"&Lists!$C4&\"'!\"&Lists!$D4&P$14))=\"\",\"\",(INDIRECT(\"'\"&Lists!$C4&\"'!\"&Lists!$D4&P$14))))","v":""},{"$f":"IF(ISNA(Lists!$C4),\"\",IF((INDIRECT(\"'\"&Lists!$C4&\"'!\"&Lists!$D4&Q$14))=\"\",\"\",(INDIRECT(\"'\"&Lists!$C4&\"'!\"&Lists!$D4&Q$14))))","v":""},{"$f":"IF(ISNA(Lists!$C4),\"\",IF((INDIRECT(\"'\"&Lists!$C4&\"'!\"&Lists!$D4&R$14))=\"\",\"\",(INDIRECT(\"'\"&Lists!$C4&\"'!\"&Lists!$D4&R$14))))","v":""},{"$f":"IF(ISNA(Lists!$C4),\"\",IF((INDIRECT(\"'\"&Lists!$C4&\"'!\"&Lists!$D4&S$14))=\"\",\"\",(INDIRECT(\"'\"&Lists!$C4&\"'!\"&Lists!$D4&S$14))))","v":""},{"$f":"IF(ISNA(Lists!$C4),\"\",IF((INDIRECT(\"'\"&Lists!$C4&\"'!\"&Lists!$D4&T$14))=\"\",\"\",(INDIRECT(\"'\"&Lists!$C4&\"'!\"&Lists!$D4&T$14))))","v":""},{"$f":"IF(ISNA(Lists!$C4),\"\",IF((INDIRECT(\"'\"&Lists!$C4&\"'!\"&Lists!$D4&U$14))=\"\",\"\",(INDIRECT(\"'\"&Lists!$C4&\"'!\"&Lists!$D4&U$14))))","v":""},{"$f":"IF(ISNA(Lists!$C4),\"\",IF((INDIRECT(\"'\"&Lists!$C4&\"'!\"&Lists!$E4&V$14))=\"\",\"\",(INDIRECT(\"'\"&Lists!$C4&\"'!\"&Lists!$E4&V$14))))","v":""},{"$f":"IF(ISNA(Lists!$C4),\"\",IF((INDIRECT(\"'\"&Lists!$C4&\"'!\"&Lists!$E4&W$14))=\"\",\"\",(INDIRECT(\"'\"&Lists!$C4&\"'!\"&Lists!$E4&W$14))))","v":""},{"$f":"IF(ISNA(Lists!$C4),\"\",IF((INDIRECT(\"'\"&Lists!$C4&\"'!\"&Lists!$E4&X$14))=\"\",\"\",(INDIRECT(\"'\"&Lists!$C4&\"'!\"&Lists!$E4&X$14))))","v":""},{"$f":"IF(ISNA(Lists!$C4),\"\",IF((INDIRECT(\"'\"&Lists!$C4&\"'!\"&Lists!$E4&Y$14))=\"\",\"\",(INDIRECT(\"'\"&Lists!$C4&\"'!\"&Lists!$E4&Y$14))))","v":""},{"$f":"IF(ISNA(Lists!$C4),\"\",IF((INDIRECT(\"'\"&Lists!$C4&\"'!\"&Lists!$E4&Z$14))=\"\",\"\",(INDIRECT(\"'\"&Lists!$C4&\"'!\"&Lists!$E4&Z$14))))","v":""},{"$f":"IF(ISNA(Lists!$C4),\"\",IF((INDIRECT(\"'\"&Lists!$C4&\"'!\"&Lists!$E4&AA$14))=\"\",\"\",(INDIRECT(\"'\"&Lists!$C4&\"'!\"&Lists!$E4&AA$14))))","v":""},{"$f":"IF(ISNA(Lists!$C4),\"\",IF((INDIRECT(\"'\"&Lists!$C4&\"'!\"&Lists!$E4&AB$14))=\"\",\"\",(INDIRECT(\"'\"&Lists!$C4&\"'!\"&Lists!$E4&AB$14))))","v":""},{"$f":"IF(ISNA(Lists!$C4),\"\",IF((INDIRECT(\"'\"&Lists!$C4&\"'!\"&Lists!$E4&AC$14))=\"\",\"\",(INDIRECT(\"'\"&Lists!$C4&\"'!\"&Lists!$E4&AC$14))))","v":""},{"$f":"IF(ISNA(Lists!$C4),\"\",IF((INDIRECT(\"'\"&Lists!$C4&\"'!\"&Lists!$E4&AD$14))=\"\",\"\",(INDIRECT(\"'\"&Lists!$C4&\"'!\"&Lists!$E4&AD$14))))","v":""},{"$f":"IF(ISNA(Lists!$C4),\"\",IF((INDIRECT(\"'\"&Lists!$C4&\"'!\"&Lists!$E4&AE$14))=\"\",\"\",(INDIRECT(\"'\"&Lists!$C4&\"'!\"&Lists!$E4&AE$14))))","v":""},{"$f":"IF(ISNA(Lists!$C4),\"\",IF((INDIRECT(\"'\"&Lists!$C4&\"'!\"&Lists!$E4&AF$14))=\"\",\"\",(INDIRECT(\"'\"&Lists!$C4&\"'!\"&Lists!$E4&AF$14))))","v":""},{"$f":"IF(ISNA(Lists!$C4),\"\",IF((INDIRECT(\"'\"&Lists!$C4&\"'!\"&Lists!$E4&AG$14))=\"\",\"\",(INDIRECT(\"'\"&Lists!$C4&\"'!\"&Lists!$E4&AG$14))))","v":""},{"$f":"IF(ISNA(Lists!$C4),\"\",IF((INDIRECT(\"'\"&Lists!$C4&\"'!\"&Lists!$E4&AH$14))=\"\",\"\",(INDIRECT(\"'\"&Lists!$C4&\"'!\"&Lists!$E4&AH$14))))","v":""},{"$f":"IF(ISNA(Lists!$C4),\"\",IF((INDIRECT(\"'\"&Lists!$C4&\"'!\"&Lists!$E4&AI$14))=\"\",\"\",(INDIRECT(\"'\"&Lists!$C4&\"'!\"&Lists!$E4&AI$14))))","v":""},{"$f":"IF(ISNA(Lists!$C4),\"\",IF((INDIRECT(\"'\"&Lists!$C4&\"'!\"&Lists!$D4&AJ$14))=\"\",\"\",(INDIRECT(\"'\"&Lists!$C4&\"'!\"&Lists!$D4&AJ$14))))","v":""},{"$f":"IF(ISNA(Lists!$C4),\"\",IF((INDIRECT(\"'\"&Lists!$C4&\"'!\"&Lists!$D4&AK$14))=\"\",\"\",(INDIRECT(\"'\"&Lists!$C4&\"'!\"&Lists!$D4&AK$14))))","v":""},{"$f":"IF(ISNA(Lists!$C4),\"\",IF((INDIRECT(\"'\"&Lists!$C4&\"'!\"&Lists!$D4&AL$14))=\"\",\"\",(INDIRECT(\"'\"&Lists!$C4&\"'!\"&Lists!$D4&AL$14))))","v":""},{"$f":"IF(ISNA(Lists!$C4),\"\",IF((INDIRECT(\"'\"&Lists!$C4&\"'!\"&Lists!$D4&AM$14))=\"\",\"\",(INDIRECT(\"'\"&Lists!$C4&\"'!\"&Lists!$D4&AM$14))))","v":""},{"$f":"IF(ISNA(Lists!$C4),\"\",IF((INDIRECT(\"'\"&Lists!$C4&\"'!\"&Lists!$D4&AN$14))=\"\",\"\",(INDIRECT(\"'\"&Lists!$C4&\"'!\"&Lists!$D4&AN$14))))","v":""},{"$f":"IF(ISNA(Lists!$C4),\"\",IF((INDIRECT(\"'\"&Lists!$C4&\"'!\"&Lists!$D4&AO$14))=\"\",\"\",(INDIRECT(\"'\"&Lists!$C4&\"'!\"&Lists!$D4&AO$14))))","v":""},{"$f":"IF(ISNA(Lists!$C4),\"\",IF((INDIRECT(\"'\"&Lists!$C4&\"'!\"&Lists!$D4&AP$14))=\"\",\"\",(INDIRECT(\"'\"&Lists!$C4&\"'!\"&Lists!$D4&AP$14))))","v":""},{"$f":"IF(ISNA(Lists!$C4),\"\",IF((INDIRECT(\"'\"&Lists!$C4&\"'!\"&Lists!$D4&AQ$14))=\"\",\"\",(INDIRECT(\"'\"&Lists!$C4&\"'!\"&Lists!$D4&AQ$14))))","v":""},{"$f":"IF(ISNA(Lists!$C4),\"\",IF((INDIRECT(\"'\"&Lists!$C4&\"'!\"&Lists!$D4&AR$14))=\"\",\"\",(INDIRECT(\"'\"&Lists!$C4&\"'!\"&Lists!$D4&AR$14))))","v":""},{"$f":"IF(ISNA(Lists!$C4),\"\",IF((INDIRECT(\"'\"&Lists!$C4&\"'!\"&Lists!$D4&AS$14))=\"\",\"\",(INDIRECT(\"'\"&Lists!$C4&\"'!\"&Lists!$D4&AS$14))))","v":""}]
[null,{"$f":"IF(C27=\"\",\"\",Facility_Info_upload!$B$24)","v":""},{"$f":"IF(ISNA(Lists!$C5),\"\",IF(INDIRECT(\"'\"&Lists!$C5&\"'!\"&\"B\"&C$14)=\"\",\"\",(INDIRECT(\"'\"&Lists!$C5&\"'!\"&\"B\"&C$14))))","v":""},{"$f":"IF(ISNA(Lists!$C5),\"\",IF(INDIRECT(\"'\"&Lists!$C5&\"'!\"&\"B\"&D$14)=\"\",\"\",(INDIRECT(\"'\"&Lists!$C5&\"'!\"&\"B\"&D$14))))","v":""},{"$f":"IF(ISNA(Lists!$C5),\"\",IF(INDIRECT(\"'\"&Lists!$C5&\"'!\"&\"B\"&E$14)=\"\",\"\",(INDIRECT(\"'\"&Lists!$C5&\"'!\"&\"B\"&E$14))))","v":""},{"$f":"IF(ISNA(Lists!$C5),\"\",IF(INDIRECT(\"'\"&Lists!$C5&\"'!\"&\"B\"&F$14)=\"\",\"\",(INDIRECT(\"'\"&Lists!$C5&\"'!\"&\"B\"&F$14))))","v":""},{"$f":"IF(ISNA(Lists!$C5),\"\",IF(INDIRECT(\"'\"&Lists!$C5&\"'!\"&\"B\"&G$14)=\"\",\"\",(INDIRECT(\"'\"&Lists!$C5&\"'!\"&\"B\"&G$14))))","v":""},{"$f":"IF(ISNA(Lists!$C5),\"\",IF((INDIRECT(\"'\"&Lists!$C5&\"'!\"&Lists!$D5&H$14))=\"\",\"\",(INDIRECT(\"'\"&Lists!$C5&\"'!\"&Lists!$D5&H$14))))","v":""},{"$f":"IF(ISNA(Lists!$C5),\"\",IF((INDIRECT(\"'\"&Lists!$C5&\"'!\"&Lists!$D5&I$14))=\"\",\"\",(INDIRECT(\"'\"&Lists!$C5&\"'!\"&Lists!$D5&I$14))))","v":""},{"$f":"IF(ISNA(Lists!$C5),\"\",IF((INDIRECT(\"'\"&Lists!$C5&\"'!\"&Lists!$D5&J$14))=\"\",\"\",(INDIRECT(\"'\"&Lists!$C5&\"'!\"&Lists!$D5&J$14))))","v":""},{"$f":"IF(ISNA(Lists!$C5),\"\",IF((INDIRECT(\"'\"&Lists!$C5&\"'!\"&Lists!$D5&K$14))=\"\",\"\",(INDIRECT(\"'\"&Lists!$C5&\"'!\"&Lists!$D5&K$14))))","v":""},{"$f":"IF(ISNA(Lists!$C5),\"\",IF((INDIRECT(\"'\"&Lists!$C5&\"'!\"&Lists!$D5&L$14))=\"\",\"\",(INDIRECT(\"'\"&Lists!$C5&\"'!\"&Lists!$D5&L$14))))","v":""},{"$f":"IF(ISNA(Lists!$C5),\"\",IF((INDIRECT(\"'\"&Lists!$C5&\"'!\"&Lists!$D5&M$14))=\"\",\"\",(INDIRECT(\"'\"&Lists!$C5&\"'!\"&Lists!$D5&M$14))))","v":""},{"$f":"IF(ISNA(Lists!$C5),\"\",IF((INDIRECT(\"'\"&Lists!$C5&\"'!\"&Lists!$D5&N$14))=\"\",\"\",(INDIRECT(\"'\"&Lists!$C5&\"'!\"&Lists!$D5&N$14))))","v":""},{"$f":"IF(ISNA(Lists!$C5),\"\",IF((INDIRECT(\"'\"&Lists!$C5&\"'!\"&Lists!$D5&O$14))=\"\",\"\",(INDIRECT(\"'\"&Lists!$C5&\"'!\"&Lists!$D5&O$14))))","v":""},{"$f":"IF(ISNA(Lists!$C5),\"\",IF((INDIRECT(\"'\"&Lists!$C5&\"'!\"&Lists!$D5&P$14))=\"\",\"\",(INDIRECT(\"'\"&Lists!$C5&\"'!\"&Lists!$D5&P$14))))","v":""},{"$f":"IF(ISNA(Lists!$C5),\"\",IF((INDIRECT(\"'\"&Lists!$C5&\"'!\"&Lists!$D5&Q$14))=\"\",\"\",(INDIRECT(\"'\"&Lists!$C5&\"'!\"&Lists!$D5&Q$14))))","v":""},{"$f":"IF(ISNA(Lists!$C5),\"\",IF((INDIRECT(\"'\"&Lists!$C5&\"'!\"&Lists!$D5&R$14))=\"\",\"\",(INDIRECT(\"'\"&Lists!$C5&\"'!\"&Lists!$D5&R$14))))","v":""},{"$f":"IF(ISNA(Lists!$C5),\"\",IF((INDIRECT(\"'\"&Lists!$C5&\"'!\"&Lists!$D5&S$14))=\"\",\"\",(INDIRECT(\"'\"&Lists!$C5&\"'!\"&Lists!$D5&S$14))))","v":""},{"$f":"IF(ISNA(Lists!$C5),\"\",IF((INDIRECT(\"'\"&Lists!$C5&\"'!\"&Lists!$D5&T$14))=\"\",\"\",(INDIRECT(\"'\"&Lists!$C5&\"'!\"&Lists!$D5&T$14))))","v":""},{"$f":"IF(ISNA(Lists!$C5),\"\",IF((INDIRECT(\"'\"&Lists!$C5&\"'!\"&Lists!$D5&U$14))=\"\",\"\",(INDIRECT(\"'\"&Lists!$C5&\"'!\"&Lists!$D5&U$14))))","v":""},{"$f":"IF(ISNA(Lists!$C5),\"\",IF((INDIRECT(\"'\"&Lists!$C5&\"'!\"&Lists!$E5&V$14))=\"\",\"\",(INDIRECT(\"'\"&Lists!$C5&\"'!\"&Lists!$E5&V$14))))","v":""},{"$f":"IF(ISNA(Lists!$C5),\"\",IF((INDIRECT(\"'\"&Lists!$C5&\"'!\"&Lists!$E5&W$14))=\"\",\"\",(INDIRECT(\"'\"&Lists!$C5&\"'!\"&Lists!$E5&W$14))))","v":""},{"$f":"IF(ISNA(Lists!$C5),\"\",IF((INDIRECT(\"'\"&Lists!$C5&\"'!\"&Lists!$E5&X$14))=\"\",\"\",(INDIRECT(\"'\"&Lists!$C5&\"'!\"&Lists!$E5&X$14))))","v":""},{"$f":"IF(ISNA(Lists!$C5),\"\",IF((INDIRECT(\"'\"&Lists!$C5&\"'!\"&Lists!$E5&Y$14))=\"\",\"\",(INDIRECT(\"'\"&Lists!$C5&\"'!\"&Lists!$E5&Y$14))))","v":""},{"$f":"IF(ISNA(Lists!$C5),\"\",IF((INDIRECT(\"'\"&Lists!$C5&\"'!\"&Lists!$E5&Z$14))=\"\",\"\",(INDIRECT(\"'\"&Lists!$C5&\"'!\"&Lists!$E5&Z$14))))","v":""},{"$f":"IF(ISNA(Lists!$C5),\"\",IF((INDIRECT(\"'\"&Lists!$C5&\"'!\"&Lists!$E5&AA$14))=\"\",\"\",(INDIRECT(\"'\"&Lists!$C5&\"'!\"&Lists!$E5&AA$14))))","v":""},{"$f":"IF(ISNA(Lists!$C5),\"\",IF((INDIRECT(\"'\"&Lists!$C5&\"'!\"&Lists!$E5&AB$14))=\"\",\"\",(INDIRECT(\"'\"&Lists!$C5&\"'!\"&Lists!$E5&AB$14))))","v":""},{"$f":"IF(ISNA(Lists!$C5),\"\",IF((INDIRECT(\"'\"&Lists!$C5&\"'!\"&Lists!$E5&AC$14))=\"\",\"\",(INDIRECT(\"'\"&Lists!$C5&\"'!\"&Lists!$E5&AC$14))))","v":""},{"$f":"IF(ISNA(Lists!$C5),\"\",IF((INDIRECT(\"'\"&Lists!$C5&\"'!\"&Lists!$E5&AD$14))=\"\",\"\",(INDIRECT(\"'\"&Lists!$C5&\"'!\"&Lists!$E5&AD$14))))","v":""},{"$f":"IF(ISNA(Lists!$C5),\"\",IF((INDIRECT(\"'\"&Lists!$C5&\"'!\"&Lists!$E5&AE$14))=\"\",\"\",(INDIRECT(\"'\"&Lists!$C5&\"'!\"&Lists!$E5&AE$14))))","v":""},{"$f":"IF(ISNA(Lists!$C5),\"\",IF((INDIRECT(\"'\"&Lists!$C5&\"'!\"&Lists!$E5&AF$14))=\"\",\"\",(INDIRECT(\"'\"&Lists!$C5&\"'!\"&Lists!$E5&AF$14))))","v":""},{"$f":"IF(ISNA(Lists!$C5),\"\",IF((INDIRECT(\"'\"&Lists!$C5&\"'!\"&Lists!$E5&AG$14))=\"\",\"\",(INDIRECT(\"'\"&Lists!$C5&\"'!\"&Lists!$E5&AG$14))))","v":""},{"$f":"IF(ISNA(Lists!$C5),\"\",IF((INDIRECT(\"'\"&Lists!$C5&\"'!\"&Lists!$E5&AH$14))=\"\",\"\",(INDIRECT(\"'\"&Lists!$C5&\"'!\"&Lists!$E5&AH$14))))","v":""},{"$f":"IF(ISNA(Lists!$C5),\"\",IF((INDIRECT(\"'\"&Lists!$C5&\"'!\"&Lists!$E5&AI$14))=\"\",\"\",(INDIRECT(\"'\"&Lists!$C5&\"'!\"&Lists!$E5&AI$14))))","v":""},{"$f":"IF(ISNA(Lists!$C5),\"\",IF((INDIRECT(\"'\"&Lists!$C5&\"'!\"&Lists!$D5&AJ$14))=\"\",\"\",(INDIRECT(\"'\"&Lists!$C5&\"'!\"&Lists!$D5&AJ$14))))","v":""},{"$f":"IF(ISNA(Lists!$C5),\"\",IF((INDIRECT(\"'\"&Lists!$C5&\"'!\"&Lists!$D5&AK$14))=\"\",\"\",(INDIRECT(\"'\"&Lists!$C5&\"'!\"&Lists!$D5&AK$14))))","v":""},{"$f":"IF(ISNA(Lists!$C5),\"\",IF((INDIRECT(\"'\"&Lists!$C5&\"'!\"&Lists!$D5&AL$14))=\"\",\"\",(INDIRECT(\"'\"&Lists!$C5&\"'!\"&Lists!$D5&AL$14))))","v":""},{"$f":"IF(ISNA(Lists!$C5),\"\",IF((INDIRECT(\"'\"&Lists!$C5&\"'!\"&Lists!$D5&AM$14))=\"\",\"\",(INDIRECT(\"'\"&Lists!$C5&\"'!\"&Lists!$D5&AM$14))))","v":""},{"$f":"IF(ISNA(Lists!$C5),\"\",IF((INDIRECT(\"'\"&Lists!$C5&\"'!\"&Lists!$D5&AN$14))=\"\",\"\",(INDIRECT(\"'\"&Lists!$C5&\"'!\"&Lists!$D5&AN$14))))","v":""},{"$f":"IF(ISNA(Lists!$C5),\"\",IF((INDIRECT(\"'\"&Lists!$C5&\"'!\"&Lists!$D5&AO$14))=\"\",\"\",(INDIRECT(\"'\"&Lists!$C5&\"'!\"&Lists!$D5&AO$14))))","v":""},{"$f":"IF(ISNA(Lists!$C5),\"\",IF((INDIRECT(\"'\"&Lists!$C5&\"'!\"&Lists!$D5&AP$14))=\"\",\"\",(INDIRECT(\"'\"&Lists!$C5&\"'!\"&Lists!$D5&AP$14))))","v":""},{"$f":"IF(ISNA(Lists!$C5),\"\",IF((INDIRECT(\"'\"&Lists!$C5&\"'!\"&Lists!$D5&AQ$14))=\"\",\"\",(INDIRECT(\"'\"&Lists!$C5&\"'!\"&Lists!$D5&AQ$14))))","v":""},{"$f":"IF(ISNA(Lists!$C5),\"\",IF((INDIRECT(\"'\"&Lists!$C5&\"'!\"&Lists!$D5&AR$14))=\"\",\"\",(INDIRECT(\"'\"&Lists!$C5&\"'!\"&Lists!$D5&AR$14))))","v":""},{"$f":"IF(ISNA(Lists!$C5),\"\",IF((INDIRECT(\"'\"&Lists!$C5&\"'!\"&Lists!$D5&AS$14))=\"\",\"\",(INDIRECT(\"'\"&Lists!$C5&\"'!\"&Lists!$D5&AS$14))))","v":""}]
[null,{"$f":"IF(C28=\"\",\"\",Facility_Info_upload!$B$24)","v":""},{"$f":"IF(ISNA(Lists!$C6),\"\",IF(INDIRECT(\"'\"&Lists!$C6&\"'!\"&\"B\"&C$14)=\"\",\"\",(INDIRECT(\"'\"&Lists!$C6&\"'!\"&\"B\"&C$14))))","v":""},{"$f":"IF(ISNA(Lists!$C6),\"\",IF(INDIRECT(\"'\"&Lists!$C6&\"'!\"&\"B\"&D$14)=\"\",\"\",(INDIRECT(\"'\"&Lists!$C6&\"'!\"&\"B\"&D$14))))","v":""},{"$f":"IF(ISNA(Lists!$C6),\"\",IF(INDIRECT(\"'\"&Lists!$C6&\"'!\"&\"B\"&E$14)=\"\",\"\",(INDIRECT(\"'\"&Lists!$C6&\"'!\"&\"B\"&E$14))))","v":""},{"$f":"IF(ISNA(Lists!$C6),\"\",IF(INDIRECT(\"'\"&Lists!$C6&\"'!\"&\"B\"&F$14)=\"\",\"\",(INDIRECT(\"'\"&Lists!$C6&\"'!\"&\"B\"&F$14))))","v":""},{"$f":"IF(ISNA(Lists!$C6),\"\",IF(INDIRECT(\"'\"&Lists!$C6&\"'!\"&\"B\"&G$14)=\"\",\"\",(INDIRECT(\"'\"&Lists!$C6&\"'!\"&\"B\"&G$14))))","v":""},{"$f":"IF(ISNA(Lists!$C6),\"\",IF((INDIRECT(\"'\"&Lists!$C6&\"'!\"&Lists!$D6&H$14))=\"\",\"\",(INDIRECT(\"'\"&Lists!$C6&\"'!\"&Lists!$D6&H$14))))","v":""},{"$f":"IF(ISNA(Lists!$C6),\"\",IF((INDIRECT(\"'\"&Lists!$C6&\"'!\"&Lists!$D6&I$14))=\"\",\"\",(INDIRECT(\"'\"&Lists!$C6&\"'!\"&Lists!$D6&I$14))))","v":""},{"$f":"IF(ISNA(Lists!$C6),\"\",IF((INDIRECT(\"'\"&Lists!$C6&\"'!\"&Lists!$D6&J$14))=\"\",\"\",(INDIRECT(\"'\"&Lists!$C6&\"'!\"&Lists!$D6&J$14))))","v":""},{"$f":"IF(ISNA(Lists!$C6),\"\",IF((INDIRECT(\"'\"&Lists!$C6&\"'!\"&Lists!$D6&K$14))=\"\",\"\",(INDIRECT(\"'\"&Lists!$C6&\"'!\"&Lists!$D6&K$14))))","v":""},{"$f":"IF(ISNA(Lists!$C6),\"\",IF((INDIRECT(\"'\"&Lists!$C6&\"'!\"&Lists!$D6&L$14))=\"\",\"\",(INDIRECT(\"'\"&Lists!$C6&\"'!\"&Lists!$D6&L$14))))","v":""},{"$f":"IF(ISNA(Lists!$C6),\"\",IF((INDIRECT(\"'\"&Lists!$C6&\"'!\"&Lists!$D6&M$14))=\"\",\"\",(INDIRECT(\"'\"&Lists!$C6&\"'!\"&Lists!$D6&M$14))))","v":""},{"$f":"IF(ISNA(Lists!$C6),\"\",IF((INDIRECT(\"'\"&Lists!$C6&\"'!\"&Lists!$D6&N$14))=\"\",\"\",(INDIRECT(\"'\"&Lists!$C6&\"'!\"&Lists!$D6&N$14))))","v":""},{"$f":"IF(ISNA(Lists!$C6),\"\",IF((INDIRECT(\"'\"&Lists!$C6&\"'!\"&Lists!$D6&O$14))=\"\",\"\",(INDIRECT(\"'\"&Lists!$C6&\"'!\"&Lists!$D6&O$14))))","v":""},{"$f":"IF(ISNA(Lists!$C6),\"\",IF((INDIRECT(\"'\"&Lists!$C6&\"'!\"&Lists!$D6&P$14))=\"\",\"\",(INDIRECT(\"'\"&Lists!$C6&\"'!\"&Lists!$D6&P$14))))","v":""},{"$f":"IF(ISNA(Lists!$C6),\"\",IF((INDIRECT(\"'\"&Lists!$C6&\"'!\"&Lists!$D6&Q$14))=\"\",\"\",(INDIRECT(\"'\"&Lists!$C6&\"'!\"&Lists!$D6&Q$14))))","v":""},{"$f":"IF(ISNA(Lists!$C6),\"\",IF((INDIRECT(\"'\"&Lists!$C6&\"'!\"&Lists!$D6&R$14))=\"\",\"\",(INDIRECT(\"'\"&Lists!$C6&\"'!\"&Lists!$D6&R$14))))","v":""},{"$f":"IF(ISNA(Lists!$C6),\"\",IF((INDIRECT(\"'\"&Lists!$C6&\"'!\"&Lists!$D6&S$14))=\"\",\"\",(INDIRECT(\"'\"&Lists!$C6&\"'!\"&Lists!$D6&S$14))))","v":""},{"$f":"IF(ISNA(Lists!$C6),\"\",IF((INDIRECT(\"'\"&Lists!$C6&\"'!\"&Lists!$D6&T$14))=\"\",\"\",(INDIRECT(\"'\"&Lists!$C6&\"'!\"&Lists!$D6&T$14))))","v":""},{"$f":"IF(ISNA(Lists!$C6),\"\",IF((INDIRECT(\"'\"&Lists!$C6&\"'!\"&Lists!$D6&U$14))=\"\",\"\",(INDIRECT(\"'\"&Lists!$C6&\"'!\"&Lists!$D6&U$14))))","v":""},{"$f":"IF(ISNA(Lists!$C6),\"\",IF((INDIRECT(\"'\"&Lists!$C6&\"'!\"&Lists!$E6&V$14))=\"\",\"\",(INDIRECT(\"'\"&Lists!$C6&\"'!\"&Lists!$E6&V$14))))","v":""},{"$f":"IF(ISNA(Lists!$C6),\"\",IF((INDIRECT(\"'\"&Lists!$C6&\"'!\"&Lists!$E6&W$14))=\"\",\"\",(INDIRECT(\"'\"&Lists!$C6&\"'!\"&Lists!$E6&W$14))))","v":""},{"$f":"IF(ISNA(Lists!$C6),\"\",IF((INDIRECT(\"'\"&Lists!$C6&\"'!\"&Lists!$E6&X$14))=\"\",\"\",(INDIRECT(\"'\"&Lists!$C6&\"'!\"&Lists!$E6&X$14))))","v":""},{"$f":"IF(ISNA(Lists!$C6),\"\",IF((INDIRECT(\"'\"&Lists!$C6&\"'!\"&Lists!$E6&Y$14))=\"\",\"\",(INDIRECT(\"'\"&Lists!$C6&\"'!\"&Lists!$E6&Y$14))))","v":""},{"$f":"IF(ISNA(Lists!$C6),\"\",IF((INDIRECT(\"'\"&Lists!$C6&\"'!\"&Lists!$E6&Z$14))=\"\",\"\",(INDIRECT(\"'\"&Lists!$C6&\"'!\"&Lists!$E6&Z$14))))","v":""},{"$f":"IF(ISNA(Lists!$C6),\"\",IF((INDIRECT(\"'\"&Lists!$C6&\"'!\"&Lists!$E6&AA$14))=\"\",\"\",(INDIRECT(\"'\"&Lists!$C6&\"'!\"&Lists!$E6&AA$14))))","v":""},{"$f":"IF(ISNA(Lists!$C6),\"\",IF((INDIRECT(\"'\"&Lists!$C6&\"'!\"&Lists!$E6&AB$14))=\"\",\"\",(INDIRECT(\"'\"&Lists!$C6&\"'!\"&Lists!$E6&AB$14))))","v":""},{"$f":"IF(ISNA(Lists!$C6),\"\",IF((INDIRECT(\"'\"&Lists!$C6&\"'!\"&Lists!$E6&AC$14))=\"\",\"\",(INDIRECT(\"'\"&Lists!$C6&\"'!\"&Lists!$E6&AC$14))))","v":""},{"$f":"IF(ISNA(Lists!$C6),\"\",IF((INDIRECT(\"'\"&Lists!$C6&\"'!\"&Lists!$E6&AD$14))=\"\",\"\",(INDIRECT(\"'\"&Lists!$C6&\"'!\"&Lists!$E6&AD$14))))","v":""},{"$f":"IF(ISNA(Lists!$C6),\"\",IF((INDIRECT(\"'\"&Lists!$C6&\"'!\"&Lists!$E6&AE$14))=\"\",\"\",(INDIRECT(\"'\"&Lists!$C6&\"'!\"&Lists!$E6&AE$14))))","v":""},{"$f":"IF(ISNA(Lists!$C6),\"\",IF((INDIRECT(\"'\"&Lists!$C6&\"'!\"&Lists!$E6&AF$14))=\"\",\"\",(INDIRECT(\"'\"&Lists!$C6&\"'!\"&Lists!$E6&AF$14))))","v":""},{"$f":"IF(ISNA(Lists!$C6),\"\",IF((INDIRECT(\"'\"&Lists!$C6&\"'!\"&Lists!$E6&AG$14))=\"\",\"\",(INDIRECT(\"'\"&Lists!$C6&\"'!\"&Lists!$E6&AG$14))))","v":""},{"$f":"IF(ISNA(Lists!$C6),\"\",IF((INDIRECT(\"'\"&Lists!$C6&\"'!\"&Lists!$E6&AH$14))=\"\",\"\",(INDIRECT(\"'\"&Lists!$C6&\"'!\"&Lists!$E6&AH$14))))","v":""},{"$f":"IF(ISNA(Lists!$C6),\"\",IF((INDIRECT(\"'\"&Lists!$C6&\"'!\"&Lists!$E6&AI$14))=\"\",\"\",(INDIRECT(\"'\"&Lists!$C6&\"'!\"&Lists!$E6&AI$14))))","v":""},{"$f":"IF(ISNA(Lists!$C6),\"\",IF((INDIRECT(\"'\"&Lists!$C6&\"'!\"&Lists!$D6&AJ$14))=\"\",\"\",(INDIRECT(\"'\"&Lists!$C6&\"'!\"&Lists!$D6&AJ$14))))","v":""},{"$f":"IF(ISNA(Lists!$C6),\"\",IF((INDIRECT(\"'\"&Lists!$C6&\"'!\"&Lists!$D6&AK$14))=\"\",\"\",(INDIRECT(\"'\"&Lists!$C6&\"'!\"&Lists!$D6&AK$14))))","v":""},{"$f":"IF(ISNA(Lists!$C6),\"\",IF((INDIRECT(\"'\"&Lists!$C6&\"'!\"&Lists!$D6&AL$14))=\"\",\"\",(INDIRECT(\"'\"&Lists!$C6&\"'!\"&Lists!$D6&AL$14))))","v":""},{"$f":"IF(ISNA(Lists!$C6),\"\",IF((INDIRECT(\"'\"&Lists!$C6&\"'!\"&Lists!$D6&AM$14))=\"\",\"\",(INDIRECT(\"'\"&Lists!$C6&\"'!\"&Lists!$D6&AM$14))))","v":""},{"$f":"IF(ISNA(Lists!$C6),\"\",IF((INDIRECT(\"'\"&Lists!$C6&\"'!\"&Lists!$D6&AN$14))=\"\",\"\",(INDIRECT(\"'\"&Lists!$C6&\"'!\"&Lists!$D6&AN$14))))","v":""},{"$f":"IF(ISNA(Lists!$C6),\"\",IF((INDIRECT(\"'\"&Lists!$C6&\"'!\"&Lists!$D6&AO$14))=\"\",\"\",(INDIRECT(\"'\"&Lists!$C6&\"'!\"&Lists!$D6&AO$14))))","v":""},{"$f":"IF(ISNA(Lists!$C6),\"\",IF((INDIRECT(\"'\"&Lists!$C6&\"'!\"&Lists!$D6&AP$14))=\"\",\"\",(INDIRECT(\"'\"&Lists!$C6&\"'!\"&Lists!$D6&AP$14))))","v":""},{"$f":"IF(ISNA(Lists!$C6),\"\",IF((INDIRECT(\"'\"&Lists!$C6&\"'!\"&Lists!$D6&AQ$14))=\"\",\"\",(INDIRECT(\"'\"&Lists!$C6&\"'!\"&Lists!$D6&AQ$14))))","v":""},{"$f":"IF(ISNA(Lists!$C6),\"\",IF((INDIRECT(\"'\"&Lists!$C6&\"'!\"&Lists!$D6&AR$14))=\"\",\"\",(INDIRECT(\"'\"&Lists!$C6&\"'!\"&Lists!$D6&AR$14))))","v":""},{"$f":"IF(ISNA(Lists!$C6),\"\",IF((INDIRECT(\"'\"&Lists!$C6&\"'!\"&Lists!$D6&AS$14))=\"\",\"\",(INDIRECT(\"'\"&Lists!$C6&\"'!\"&Lists!$D6&AS$14))))","v":""}]
[null,{"$f":"IF(C29=\"\",\"\",Facility_Info_upload!$B$24)","v":""},{"$f":"IF(ISNA(Lists!$C7),\"\",IF(INDIRECT(\"'\"&Lists!$C7&\"'!\"&\"B\"&C$14)=\"\",\"\",(INDIRECT(\"'\"&Lists!$C7&\"'!\"&\"B\"&C$14))))","v":""},{"$f":"IF(ISNA(Lists!$C7),\"\",IF(INDIRECT(\"'\"&Lists!$C7&\"'!\"&\"B\"&D$14)=\"\",\"\",(INDIRECT(\"'\"&Lists!$C7&\"'!\"&\"B\"&D$14))))","v":""},{"$f":"IF(ISNA(Lists!$C7),\"\",IF(INDIRECT(\"'\"&Lists!$C7&\"'!\"&\"B\"&E$14)=\"\",\"\",(INDIRECT(\"'\"&Lists!$C7&\"'!\"&\"B\"&E$14))))","v":""},{"$f":"IF(ISNA(Lists!$C7),\"\",IF(INDIRECT(\"'\"&Lists!$C7&\"'!\"&\"B\"&F$14)=\"\",\"\",(INDIRECT(\"'\"&Lists!$C7&\"'!\"&\"B\"&F$14))))","v":""},{"$f":"IF(ISNA(Lists!$C7),\"\",IF(INDIRECT(\"'\"&Lists!$C7&\"'!\"&\"B\"&G$14)=\"\",\"\",(INDIRECT(\"'\"&Lists!$C7&\"'!\"&\"B\"&G$14))))","v":""},{"$f":"IF(ISNA(Lists!$C7),\"\",IF((INDIRECT(\"'\"&Lists!$C7&\"'!\"&Lists!$D7&H$14))=\"\",\"\",(INDIRECT(\"'\"&Lists!$C7&\"'!\"&Lists!$D7&H$14))))","v":""},{"$f":"IF(ISNA(Lists!$C7),\"\",IF((INDIRECT(\"'\"&Lists!$C7&\"'!\"&Lists!$D7&I$14))=\"\",\"\",(INDIRECT(\"'\"&Lists!$C7&\"'!\"&Lists!$D7&I$14))))","v":""},{"$f":"IF(ISNA(Lists!$C7),\"\",IF((INDIRECT(\"'\"&Lists!$C7&\"'!\"&Lists!$D7&J$14))=\"\",\"\",(INDIRECT(\"'\"&Lists!$C7&\"'!\"&Lists!$D7&J$14))))","v":""},{"$f":"IF(ISNA(Lists!$C7),\"\",IF((INDIRECT(\"'\"&Lists!$C7&\"'!\"&Lists!$D7&K$14))=\"\",\"\",(INDIRECT(\"'\"&Lists!$C7&\"'!\"&Lists!$D7&K$14))))","v":""},{"$f":"IF(ISNA(Lists!$C7),\"\",IF((INDIRECT(\"'\"&Lists!$C7&\"'!\"&Lists!$D7&L$14))=\"\",\"\",(INDIRECT(\"'\"&Lists!$C7&\"'!\"&Lists!$D7&L$14))))","v":""},{"$f":"IF(ISNA(Lists!$C7),\"\",IF((INDIRECT(\"'\"&Lists!$C7&\"'!\"&Lists!$D7&M$14))=\"\",\"\",(INDIRECT(\"'\"&Lists!$C7&\"'!\"&Lists!$D7&M$14))))","v":""},{"$f":"IF(ISNA(Lists!$C7),\"\",IF((INDIRECT(\"'\"&Lists!$C7&\"'!\"&Lists!$D7&N$14))=\"\",\"\",(INDIRECT(\"'\"&Lists!$C7&\"'!\"&Lists!$D7&N$14))))","v":""},{"$f":"IF(ISNA(Lists!$C7),\"\",IF((INDIRECT(\"'\"&Lists!$C7&\"'!\"&Lists!$D7&O$14))=\"\",\"\",(INDIRECT(\"'\"&Lists!$C7&\"'!\"&Lists!$D7&O$14))))","v":""},{"$f":"IF(ISNA(Lists!$C7),\"\",IF((INDIRECT(\"'\"&Lists!$C7&\"'!\"&Lists!$D7&P$14))=\"\",\"\",(INDIRECT(\"'\"&Lists!$C7&\"'!\"&Lists!$D7&P$14))))","v":""},{"$f":"IF(ISNA(Lists!$C7),\"\",IF((INDIRECT(\"'\"&Lists!$C7&\"'!\"&Lists!$D7&Q$14))=\"\",\"\",(INDIRECT(\"'\"&Lists!$C7&\"'!\"&Lists!$D7&Q$14))))","v":""},{"$f":"IF(ISNA(Lists!$C7),\"\",IF((INDIRECT(\"'\"&Lists!$C7&\"'!\"&Lists!$D7&R$14))=\"\",\"\",(INDIRECT(\"'\"&Lists!$C7&\"'!\"&Lists!$D7&R$14))))","v":""},{"$f":"IF(ISNA(Lists!$C7),\"\",IF((INDIRECT(\"'\"&Lists!$C7&\"'!\"&Lists!$D7&S$14))=\"\",\"\",(INDIRECT(\"'\"&Lists!$C7&\"'!\"&Lists!$D7&S$14))))","v":""},{"$f":"IF(ISNA(Lists!$C7),\"\",IF((INDIRECT(\"'\"&Lists!$C7&\"'!\"&Lists!$D7&T$14))=\"\",\"\",(INDIRECT(\"'\"&Lists!$C7&\"'!\"&Lists!$D7&T$14))))","v":""},{"$f":"IF(ISNA(Lists!$C7),\"\",IF((INDIRECT(\"'\"&Lists!$C7&\"'!\"&Lists!$D7&U$14))=\"\",\"\",(INDIRECT(\"'\"&Lists!$C7&\"'!\"&Lists!$D7&U$14))))","v":""},{"$f":"IF(ISNA(Lists!$C7),\"\",IF((INDIRECT(\"'\"&Lists!$C7&\"'!\"&Lists!$E7&V$14))=\"\",\"\",(INDIRECT(\"'\"&Lists!$C7&\"'!\"&Lists!$E7&V$14))))","v":""},{"$f":"IF(ISNA(Lists!$C7),\"\",IF((INDIRECT(\"'\"&Lists!$C7&\"'!\"&Lists!$E7&W$14))=\"\",\"\",(INDIRECT(\"'\"&Lists!$C7&\"'!\"&Lists!$E7&W$14))))","v":""},{"$f":"IF(ISNA(Lists!$C7),\"\",IF((INDIRECT(\"'\"&Lists!$C7&\"'!\"&Lists!$E7&X$14))=\"\",\"\",(INDIRECT(\"'\"&Lists!$C7&\"'!\"&Lists!$E7&X$14))))","v":""},{"$f":"IF(ISNA(Lists!$C7),\"\",IF((INDIRECT(\"'\"&Lists!$C7&\"'!\"&Lists!$E7&Y$14))=\"\",\"\",(INDIRECT(\"'\"&Lists!$C7&\"'!\"&Lists!$E7&Y$14))))","v":""},{"$f":"IF(ISNA(Lists!$C7),\"\",IF((INDIRECT(\"'\"&Lists!$C7&\"'!\"&Lists!$E7&Z$14))=\"\",\"\",(INDIRECT(\"'\"&Lists!$C7&\"'!\"&Lists!$E7&Z$14))))","v":""},{"$f":"IF(ISNA(Lists!$C7),\"\",IF((INDIRECT(\"'\"&Lists!$C7&\"'!\"&Lists!$E7&AA$14))=\"\",\"\",(INDIRECT(\"'\"&Lists!$C7&\"'!\"&Lists!$E7&AA$14))))","v":""},{"$f":"IF(ISNA(Lists!$C7),\"\",IF((INDIRECT(\"'\"&Lists!$C7&\"'!\"&Lists!$E7&AB$14))=\"\",\"\",(INDIRECT(\"'\"&Lists!$C7&\"'!\"&Lists!$E7&AB$14))))","v":""},{"$f":"IF(ISNA(Lists!$C7),\"\",IF((INDIRECT(\"'\"&Lists!$C7&\"'!\"&Lists!$E7&AC$14))=\"\",\"\",(INDIRECT(\"'\"&Lists!$C7&\"'!\"&Lists!$E7&AC$14))))","v":""},{"$f":"IF(ISNA(Lists!$C7),\"\",IF((INDIRECT(\"'\"&Lists!$C7&\"'!\"&Lists!$E7&AD$14))=\"\",\"\",(INDIRECT(\"'\"&Lists!$C7&\"'!\"&Lists!$E7&AD$14))))","v":""},{"$f":"IF(ISNA(Lists!$C7),\"\",IF((INDIRECT(\"'\"&Lists!$C7&\"'!\"&Lists!$E7&AE$14))=\"\",\"\",(INDIRECT(\"'\"&Lists!$C7&\"'!\"&Lists!$E7&AE$14))))","v":""},{"$f":"IF(ISNA(Lists!$C7),\"\",IF((INDIRECT(\"'\"&Lists!$C7&\"'!\"&Lists!$E7&AF$14))=\"\",\"\",(INDIRECT(\"'\"&Lists!$C7&\"'!\"&Lists!$E7&AF$14))))","v":""},{"$f":"IF(ISNA(Lists!$C7),\"\",IF((INDIRECT(\"'\"&Lists!$C7&\"'!\"&Lists!$E7&AG$14))=\"\",\"\",(INDIRECT(\"'\"&Lists!$C7&\"'!\"&Lists!$E7&AG$14))))","v":""},{"$f":"IF(ISNA(Lists!$C7),\"\",IF((INDIRECT(\"'\"&Lists!$C7&\"'!\"&Lists!$E7&AH$14))=\"\",\"\",(INDIRECT(\"'\"&Lists!$C7&\"'!\"&Lists!$E7&AH$14))))","v":""},{"$f":"IF(ISNA(Lists!$C7),\"\",IF((INDIRECT(\"'\"&Lists!$C7&\"'!\"&Lists!$E7&AI$14))=\"\",\"\",(INDIRECT(\"'\"&Lists!$C7&\"'!\"&Lists!$E7&AI$14))))","v":""},{"$f":"IF(ISNA(Lists!$C7),\"\",IF((INDIRECT(\"'\"&Lists!$C7&\"'!\"&Lists!$D7&AJ$14))=\"\",\"\",(INDIRECT(\"'\"&Lists!$C7&\"'!\"&Lists!$D7&AJ$14))))","v":""},{"$f":"IF(ISNA(Lists!$C7),\"\",IF((INDIRECT(\"'\"&Lists!$C7&\"'!\"&Lists!$D7&AK$14))=\"\",\"\",(INDIRECT(\"'\"&Lists!$C7&\"'!\"&Lists!$D7&AK$14))))","v":""},{"$f":"IF(ISNA(Lists!$C7),\"\",IF((INDIRECT(\"'\"&Lists!$C7&\"'!\"&Lists!$D7&AL$14))=\"\",\"\",(INDIRECT(\"'\"&Lists!$C7&\"'!\"&Lists!$D7&AL$14))))","v":""},{"$f":"IF(ISNA(Lists!$C7),\"\",IF((INDIRECT(\"'\"&Lists!$C7&\"'!\"&Lists!$D7&AM$14))=\"\",\"\",(INDIRECT(\"'\"&Lists!$C7&\"'!\"&Lists!$D7&AM$14))))","v":""},{"$f":"IF(ISNA(Lists!$C7),\"\",IF((INDIRECT(\"'\"&Lists!$C7&\"'!\"&Lists!$D7&AN$14))=\"\",\"\",(INDIRECT(\"'\"&Lists!$C7&\"'!\"&Lists!$D7&AN$14))))","v":""},{"$f":"IF(ISNA(Lists!$C7),\"\",IF((INDIRECT(\"'\"&Lists!$C7&\"'!\"&Lists!$D7&AO$14))=\"\",\"\",(INDIRECT(\"'\"&Lists!$C7&\"'!\"&Lists!$D7&AO$14))))","v":""},{"$f":"IF(ISNA(Lists!$C7),\"\",IF((INDIRECT(\"'\"&Lists!$C7&\"'!\"&Lists!$D7&AP$14))=\"\",\"\",(INDIRECT(\"'\"&Lists!$C7&\"'!\"&Lists!$D7&AP$14))))","v":""},{"$f":"IF(ISNA(Lists!$C7),\"\",IF((INDIRECT(\"'\"&Lists!$C7&\"'!\"&Lists!$D7&AQ$14))=\"\",\"\",(INDIRECT(\"'\"&Lists!$C7&\"'!\"&Lists!$D7&AQ$14))))","v":""},{"$f":"IF(ISNA(Lists!$C7),\"\",IF((INDIRECT(\"'\"&Lists!$C7&\"'!\"&Lists!$D7&AR$14))=\"\",\"\",(INDIRECT(\"'\"&Lists!$C7&\"'!\"&Lists!$D7&AR$14))))","v":""},{"$f":"IF(ISNA(Lists!$C7),\"\",IF((INDIRECT(\"'\"&Lists!$C7&\"'!\"&Lists!$D7&AS$14))=\"\",\"\",(INDIRECT(\"'\"&Lists!$C7&\"'!\"&Lists!$D7&AS$14))))","v":""}]
[null,{"$f":"IF(C30=\"\",\"\",Facility_Info_upload!$B$24)","v":""},{"$f":"IF(ISNA(Lists!$C8),\"\",IF(INDIRECT(\"'\"&Lists!$C8&\"'!\"&\"B\"&C$14)=\"\",\"\",(INDIRECT(\"'\"&Lists!$C8&\"'!\"&\"B\"&C$14))))","v":""},{"$f":"IF(ISNA(Lists!$C8),\"\",IF(INDIRECT(\"'\"&Lists!$C8&\"'!\"&\"B\"&D$14)=\"\",\"\",(INDIRECT(\"'\"&Lists!$C8&\"'!\"&\"B\"&D$14))))","v":""},{"$f":"IF(ISNA(Lists!$C8),\"\",IF(INDIRECT(\"'\"&Lists!$C8&\"'!\"&\"B\"&E$14)=\"\",\"\",(INDIRECT(\"'\"&Lists!$C8&\"'!\"&\"B\"&E$14))))","v":""},{"$f":"IF(ISNA(Lists!$C8),\"\",IF(INDIRECT(\"'\"&Lists!$C8&\"'!\"&\"B\"&F$14)=\"\",\"\",(INDIRECT(\"'\"&Lists!$C8&\"'!\"&\"B\"&F$14))))","v":""},{"$f":"IF(ISNA(Lists!$C8),\"\",IF(INDIRECT(\"'\"&Lists!$C8&\"'!\"&\"B\"&G$14)=\"\",\"\",(INDIRECT(\"'\"&Lists!$C8&\"'!\"&\"B\"&G$14))))","v":""},{"$f":"IF(ISNA(Lists!$C8),\"\",IF((INDIRECT(\"'\"&Lists!$C8&\"'!\"&Lists!$D8&H$14))=\"\",\"\",(INDIRECT(\"'\"&Lists!$C8&\"'!\"&Lists!$D8&H$14))))","v":""},{"$f":"IF(ISNA(Lists!$C8),\"\",IF((INDIRECT(\"'\"&Lists!$C8&\"'!\"&Lists!$D8&I$14))=\"\",\"\",(INDIRECT(\"'\"&Lists!$C8&\"'!\"&Lists!$D8&I$14))))","v":""},{"$f":"IF(ISNA(Lists!$C8),\"\",IF((INDIRECT(\"'\"&Lists!$C8&\"'!\"&Lists!$D8&J$14))=\"\",\"\",(INDIRECT(\"'\"&Lists!$C8&\"'!\"&Lists!$D8&J$14))))","v":""},{"$f":"IF(ISNA(Lists!$C8),\"\",IF((INDIRECT(\"'\"&Lists!$C8&\"'!\"&Lists!$D8&K$14))=\"\",\"\",(INDIRECT(\"'\"&Lists!$C8&\"'!\"&Lists!$D8&K$14))))","v":""},{"$f":"IF(ISNA(Lists!$C8),\"\",IF((INDIRECT(\"'\"&Lists!$C8&\"'!\"&Lists!$D8&L$14))=\"\",\"\",(INDIRECT(\"'\"&Lists!$C8&\"'!\"&Lists!$D8&L$14))))","v":""},{"$f":"IF(ISNA(Lists!$C8),\"\",IF((INDIRECT(\"'\"&Lists!$C8&\"'!\"&Lists!$D8&M$14))=\"\",\"\",(INDIRECT(\"'\"&Lists!$C8&\"'!\"&Lists!$D8&M$14))))","v":""},{"$f":"IF(ISNA(Lists!$C8),\"\",IF((INDIRECT(\"'\"&Lists!$C8&\"'!\"&Lists!$D8&N$14))=\"\",\"\",(INDIRECT(\"'\"&Lists!$C8&\"'!\"&Lists!$D8&N$14))))","v":""},{"$f":"IF(ISNA(Lists!$C8),\"\",IF((INDIRECT(\"'\"&Lists!$C8&\"'!\"&Lists!$D8&O$14))=\"\",\"\",(INDIRECT(\"'\"&Lists!$C8&\"'!\"&Lists!$D8&O$14))))","v":""},{"$f":"IF(ISNA(Lists!$C8),\"\",IF((INDIRECT(\"'\"&Lists!$C8&\"'!\"&Lists!$D8&P$14))=\"\",\"\",(INDIRECT(\"'\"&Lists!$C8&\"'!\"&Lists!$D8&P$14))))","v":""},{"$f":"IF(ISNA(Lists!$C8),\"\",IF((INDIRECT(\"'\"&Lists!$C8&\"'!\"&Lists!$D8&Q$14))=\"\",\"\",(INDIRECT(\"'\"&Lists!$C8&\"'!\"&Lists!$D8&Q$14))))","v":""},{"$f":"IF(ISNA(Lists!$C8),\"\",IF((INDIRECT(\"'\"&Lists!$C8&\"'!\"&Lists!$D8&R$14))=\"\",\"\",(INDIRECT(\"'\"&Lists!$C8&\"'!\"&Lists!$D8&R$14))))","v":""},{"$f":"IF(ISNA(Lists!$C8),\"\",IF((INDIRECT(\"'\"&Lists!$C8&\"'!\"&Lists!$D8&S$14))=\"\",\"\",(INDIRECT(\"'\"&Lists!$C8&\"'!\"&Lists!$D8&S$14))))","v":""},{"$f":"IF(ISNA(Lists!$C8),\"\",IF((INDIRECT(\"'\"&Lists!$C8&\"'!\"&Lists!$D8&T$14))=\"\",\"\",(INDIRECT(\"'\"&Lists!$C8&\"'!\"&Lists!$D8&T$14))))","v":""},{"$f":"IF(ISNA(Lists!$C8),\"\",IF((INDIRECT(\"'\"&Lists!$C8&\"'!\"&Lists!$D8&U$14))=\"\",\"\",(INDIRECT(\"'\"&Lists!$C8&\"'!\"&Lists!$D8&U$14))))","v":""},{"$f":"IF(ISNA(Lists!$C8),\"\",IF((INDIRECT(\"'\"&Lists!$C8&\"'!\"&Lists!$E8&V$14))=\"\",\"\",(INDIRECT(\"'\"&Lists!$C8&\"'!\"&Lists!$E8&V$14))))","v":""},{"$f":"IF(ISNA(Lists!$C8),\"\",IF((INDIRECT(\"'\"&Lists!$C8&\"'!\"&Lists!$E8&W$14))=\"\",\"\",(INDIRECT(\"'\"&Lists!$C8&\"'!\"&Lists!$E8&W$14))))","v":""},{"$f":"IF(ISNA(Lists!$C8),\"\",IF((INDIRECT(\"'\"&Lists!$C8&\"'!\"&Lists!$E8&X$14))=\"\",\"\",(INDIRECT(\"'\"&Lists!$C8&\"'!\"&Lists!$E8&X$14))))","v":""},{"$f":"IF(ISNA(Lists!$C8),\"\",IF((INDIRECT(\"'\"&Lists!$C8&\"'!\"&Lists!$E8&Y$14))=\"\",\"\",(INDIRECT(\"'\"&Lists!$C8&\"'!\"&Lists!$E8&Y$14))))","v":""},{"$f":"IF(ISNA(Lists!$C8),\"\",IF((INDIRECT(\"'\"&Lists!$C8&\"'!\"&Lists!$E8&Z$14))=\"\",\"\",(INDIRECT(\"'\"&Lists!$C8&\"'!\"&Lists!$E8&Z$14))))","v":""},{"$f":"IF(ISNA(Lists!$C8),\"\",IF((INDIRECT(\"'\"&Lists!$C8&\"'!\"&Lists!$E8&AA$14))=\"\",\"\",(INDIRECT(\"'\"&Lists!$C8&\"'!\"&Lists!$E8&AA$14))))","v":""},{"$f":"IF(ISNA(Lists!$C8),\"\",IF((INDIRECT(\"'\"&Lists!$C8&\"'!\"&Lists!$E8&AB$14))=\"\",\"\",(INDIRECT(\"'\"&Lists!$C8&\"'!\"&Lists!$E8&AB$14))))","v":""},{"$f":"IF(ISNA(Lists!$C8),\"\",IF((INDIRECT(\"'\"&Lists!$C8&\"'!\"&Lists!$E8&AC$14))=\"\",\"\",(INDIRECT(\"'\"&Lists!$C8&\"'!\"&Lists!$E8&AC$14))))","v":""},{"$f":"IF(ISNA(Lists!$C8),\"\",IF((INDIRECT(\"'\"&Lists!$C8&\"'!\"&Lists!$E8&AD$14))=\"\",\"\",(INDIRECT(\"'\"&Lists!$C8&\"'!\"&Lists!$E8&AD$14))))","v":""},{"$f":"IF(ISNA(Lists!$C8),\"\",IF((INDIRECT(\"'\"&Lists!$C8&\"'!\"&Lists!$E8&AE$14))=\"\",\"\",(INDIRECT(\"'\"&Lists!$C8&\"'!\"&Lists!$E8&AE$14))))","v":""},{"$f":"IF(ISNA(Lists!$C8),\"\",IF((INDIRECT(\"'\"&Lists!$C8&\"'!\"&Lists!$E8&AF$14))=\"\",\"\",(INDIRECT(\"'\"&Lists!$C8&\"'!\"&Lists!$E8&AF$14))))","v":""},{"$f":"IF(ISNA(Lists!$C8),\"\",IF((INDIRECT(\"'\"&Lists!$C8&\"'!\"&Lists!$E8&AG$14))=\"\",\"\",(INDIRECT(\"'\"&Lists!$C8&\"'!\"&Lists!$E8&AG$14))))","v":""},{"$f":"IF(ISNA(Lists!$C8),\"\",IF((INDIRECT(\"'\"&Lists!$C8&\"'!\"&Lists!$E8&AH$14))=\"\",\"\",(INDIRECT(\"'\"&Lists!$C8&\"'!\"&Lists!$E8&AH$14))))","v":""},{"$f":"IF(ISNA(Lists!$C8),\"\",IF((INDIRECT(\"'\"&Lists!$C8&\"'!\"&Lists!$E8&AI$14))=\"\",\"\",(INDIRECT(\"'\"&Lists!$C8&\"'!\"&Lists!$E8&AI$14))))","v":""},{"$f":"IF(ISNA(Lists!$C8),\"\",IF((INDIRECT(\"'\"&Lists!$C8&\"'!\"&Lists!$D8&AJ$14))=\"\",\"\",(INDIRECT(\"'\"&Lists!$C8&\"'!\"&Lists!$D8&AJ$14))))","v":""},{"$f":"IF(ISNA(Lists!$C8),\"\",IF((INDIRECT(\"'\"&Lists!$C8&\"'!\"&Lists!$D8&AK$14))=\"\",\"\",(INDIRECT(\"'\"&Lists!$C8&\"'!\"&Lists!$D8&AK$14))))","v":""},{"$f":"IF(ISNA(Lists!$C8),\"\",IF((INDIRECT(\"'\"&Lists!$C8&\"'!\"&Lists!$D8&AL$14))=\"\",\"\",(INDIRECT(\"'\"&Lists!$C8&\"'!\"&Lists!$D8&AL$14))))","v":""},{"$f":"IF(ISNA(Lists!$C8),\"\",IF((INDIRECT(\"'\"&Lists!$C8&\"'!\"&Lists!$D8&AM$14))=\"\",\"\",(INDIRECT(\"'\"&Lists!$C8&\"'!\"&Lists!$D8&AM$14))))","v":""},{"$f":"IF(ISNA(Lists!$C8),\"\",IF((INDIRECT(\"'\"&Lists!$C8&\"'!\"&Lists!$D8&AN$14))=\"\",\"\",(INDIRECT(\"'\"&Lists!$C8&\"'!\"&Lists!$D8&AN$14))))","v":""},{"$f":"IF(ISNA(Lists!$C8),\"\",IF((INDIRECT(\"'\"&Lists!$C8&\"'!\"&Lists!$D8&AO$14))=\"\",\"\",(INDIRECT(\"'\"&Lists!$C8&\"'!\"&Lists!$D8&AO$14))))","v":""},{"$f":"IF(ISNA(Lists!$C8),\"\",IF((INDIRECT(\"'\"&Lists!$C8&\"'!\"&Lists!$D8&AP$14))=\"\",\"\",(INDIRECT(\"'\"&Lists!$C8&\"'!\"&Lists!$D8&AP$14))))","v":""},{"$f":"IF(ISNA(Lists!$C8),\"\",IF((INDIRECT(\"'\"&Lists!$C8&\"'!\"&Lists!$D8&AQ$14))=\"\",\"\",(INDIRECT(\"'\"&Lists!$C8&\"'!\"&Lists!$D8&AQ$14))))","v":""},{"$f":"IF(ISNA(Lists!$C8),\"\",IF((INDIRECT(\"'\"&Lists!$C8&\"'!\"&Lists!$D8&AR$14))=\"\",\"\",(INDIRECT(\"'\"&Lists!$C8&\"'!\"&Lists!$D8&AR$14))))","v":""},{"$f":"IF(ISNA(Lists!$C8),\"\",IF((INDIRECT(\"'\"&Lists!$C8&\"'!\"&Lists!$D8&AS$14))=\"\",\"\",(INDIRECT(\"'\"&Lists!$C8&\"'!\"&Lists!$D8&AS$14))))","v":""}]
[null,{"$f":"IF(C31=\"\",\"\",Facility_Info_upload!$B$24)","v":""},{"$f":"IF(ISNA(Lists!$C9),\"\",IF(INDIRECT(\"'\"&Lists!$C9&\"'!\"&\"B\"&C$14)=\"\",\"\",(INDIRECT(\"'\"&Lists!$C9&\"'!\"&\"B\"&C$14))))","v":""},{"$f":"IF(ISNA(Lists!$C9),\"\",IF(INDIRECT(\"'\"&Lists!$C9&\"'!\"&\"B\"&D$14)=\"\",\"\",(INDIRECT(\"'\"&Lists!$C9&\"'!\"&\"B\"&D$14))))","v":""},{"$f":"IF(ISNA(Lists!$C9),\"\",IF(INDIRECT(\"'\"&Lists!$C9&\"'!\"&\"B\"&E$14)=\"\",\"\",(INDIRECT(\"'\"&Lists!$C9&\"'!\"&\"B\"&E$14))))","v":""},{"$f":"IF(ISNA(Lists!$C9),\"\",IF(INDIRECT(\"'\"&Lists!$C9&\"'!\"&\"B\"&F$14)=\"\",\"\",(INDIRECT(\"'\"&Lists!$C9&\"'!\"&\"B\"&F$14))))","v":""},{"$f":"IF(ISNA(Lists!$C9),\"\",IF(INDIRECT(\"'\"&Lists!$C9&\"'!\"&\"B\"&G$14)=\"\",\"\",(INDIRECT(\"'\"&Lists!$C9&\"'!\"&\"B\"&G$14))))","v":""},{"$f":"IF(ISNA(Lists!$C9),\"\",IF((INDIRECT(\"'\"&Lists!$C9&\"'!\"&Lists!$D9&H$14))=\"\",\"\",(INDIRECT(\"'\"&Lists!$C9&\"'!\"&Lists!$D9&H$14))))","v":""},{"$f":"IF(ISNA(Lists!$C9),\"\",IF((INDIRECT(\"'\"&Lists!$C9&\"'!\"&Lists!$D9&I$14))=\"\",\"\",(INDIRECT(\"'\"&Lists!$C9&\"'!\"&Lists!$D9&I$14))))","v":""},{"$f":"IF(ISNA(Lists!$C9),\"\",IF((INDIRECT(\"'\"&Lists!$C9&\"'!\"&Lists!$D9&J$14))=\"\",\"\",(INDIRECT(\"'\"&Lists!$C9&\"'!\"&Lists!$D9&J$14))))","v":""},{"$f":"IF(ISNA(Lists!$C9),\"\",IF((INDIRECT(\"'\"&Lists!$C9&\"'!\"&Lists!$D9&K$14))=\"\",\"\",(INDIRECT(\"'\"&Lists!$C9&\"'!\"&Lists!$D9&K$14))))","v":""},{"$f":"IF(ISNA(Lists!$C9),\"\",IF((INDIRECT(\"'\"&Lists!$C9&\"'!\"&Lists!$D9&L$14))=\"\",\"\",(INDIRECT(\"'\"&Lists!$C9&\"'!\"&Lists!$D9&L$14))))","v":""},{"$f":"IF(ISNA(Lists!$C9),\"\",IF((INDIRECT(\"'\"&Lists!$C9&\"'!\"&Lists!$D9&M$14))=\"\",\"\",(INDIRECT(\"'\"&Lists!$C9&\"'!\"&Lists!$D9&M$14))))","v":""},{"$f":"IF(ISNA(Lists!$C9),\"\",IF((INDIRECT(\"'\"&Lists!$C9&\"'!\"&Lists!$D9&N$14))=\"\",\"\",(INDIRECT(\"'\"&Lists!$C9&\"'!\"&Lists!$D9&N$14))))","v":""},{"$f":"IF(ISNA(Lists!$C9),\"\",IF((INDIRECT(\"'\"&Lists!$C9&\"'!\"&Lists!$D9&O$14))=\"\",\"\",(INDIRECT(\"'\"&Lists!$C9&\"'!\"&Lists!$D9&O$14))))","v":""},{"$f":"IF(ISNA(Lists!$C9),\"\",IF((INDIRECT(\"'\"&Lists!$C9&\"'!\"&Lists!$D9&P$14))=\"\",\"\",(INDIRECT(\"'\"&Lists!$C9&\"'!\"&Lists!$D9&P$14))))","v":""},{"$f":"IF(ISNA(Lists!$C9),\"\",IF((INDIRECT(\"'\"&Lists!$C9&\"'!\"&Lists!$D9&Q$14))=\"\",\"\",(INDIRECT(\"'\"&Lists!$C9&\"'!\"&Lists!$D9&Q$14))))","v":""},{"$f":"IF(ISNA(Lists!$C9),\"\",IF((INDIRECT(\"'\"&Lists!$C9&\"'!\"&Lists!$D9&R$14))=\"\",\"\",(INDIRECT(\"'\"&Lists!$C9&\"'!\"&Lists!$D9&R$14))))","v":""},{"$f":"IF(ISNA(Lists!$C9),\"\",IF((INDIRECT(\"'\"&Lists!$C9&\"'!\"&Lists!$D9&S$14))=\"\",\"\",(INDIRECT(\"'\"&Lists!$C9&\"'!\"&Lists!$D9&S$14))))","v":""},{"$f":"IF(ISNA(Lists!$C9),\"\",IF((INDIRECT(\"'\"&Lists!$C9&\"'!\"&Lists!$D9&T$14))=\"\",\"\",(INDIRECT(\"'\"&Lists!$C9&\"'!\"&Lists!$D9&T$14))))","v":""},{"$f":"IF(ISNA(Lists!$C9),\"\",IF((INDIRECT(\"'\"&Lists!$C9&\"'!\"&Lists!$D9&U$14))=\"\",\"\",(INDIRECT(\"'\"&Lists!$C9&\"'!\"&Lists!$D9&U$14))))","v":""},{"$f":"IF(ISNA(Lists!$C9),\"\",IF((INDIRECT(\"'\"&Lists!$C9&\"'!\"&Lists!$E9&V$14))=\"\",\"\",(INDIRECT(\"'\"&Lists!$C9&\"'!\"&Lists!$E9&V$14))))","v":""},{"$f":"IF(ISNA(Lists!$C9),\"\",IF((INDIRECT(\"'\"&Lists!$C9&\"'!\"&Lists!$E9&W$14))=\"\",\"\",(INDIRECT(\"'\"&Lists!$C9&\"'!\"&Lists!$E9&W$14))))","v":""},{"$f":"IF(ISNA(Lists!$C9),\"\",IF((INDIRECT(\"'\"&Lists!$C9&\"'!\"&Lists!$E9&X$14))=\"\",\"\",(INDIRECT(\"'\"&Lists!$C9&\"'!\"&Lists!$E9&X$14))))","v":""},{"$f":"IF(ISNA(Lists!$C9),\"\",IF((INDIRECT(\"'\"&Lists!$C9&\"'!\"&Lists!$E9&Y$14))=\"\",\"\",(INDIRECT(\"'\"&Lists!$C9&\"'!\"&Lists!$E9&Y$14))))","v":""},{"$f":"IF(ISNA(Lists!$C9),\"\",IF((INDIRECT(\"'\"&Lists!$C9&\"'!\"&Lists!$E9&Z$14))=\"\",\"\",(INDIRECT(\"'\"&Lists!$C9&\"'!\"&Lists!$E9&Z$14))))","v":""},{"$f":"IF(ISNA(Lists!$C9),\"\",IF((INDIRECT(\"'\"&Lists!$C9&\"'!\"&Lists!$E9&AA$14))=\"\",\"\",(INDIRECT(\"'\"&Lists!$C9&\"'!\"&Lists!$E9&AA$14))))","v":""},{"$f":"IF(ISNA(Lists!$C9),\"\",IF((INDIRECT(\"'\"&Lists!$C9&\"'!\"&Lists!$E9&AB$14))=\"\",\"\",(INDIRECT(\"'\"&Lists!$C9&\"'!\"&Lists!$E9&AB$14))))","v":""},{"$f":"IF(ISNA(Lists!$C9),\"\",IF((INDIRECT(\"'\"&Lists!$C9&\"'!\"&Lists!$E9&AC$14))=\"\",\"\",(INDIRECT(\"'\"&Lists!$C9&\"'!\"&Lists!$E9&AC$14))))","v":""},{"$f":"IF(ISNA(Lists!$C9),\"\",IF((INDIRECT(\"'\"&Lists!$C9&\"'!\"&Lists!$E9&AD$14))=\"\",\"\",(INDIRECT(\"'\"&Lists!$C9&\"'!\"&Lists!$E9&AD$14))))","v":""},{"$f":"IF(ISNA(Lists!$C9),\"\",IF((INDIRECT(\"'\"&Lists!$C9&\"'!\"&Lists!$E9&AE$14))=\"\",\"\",(INDIRECT(\"'\"&Lists!$C9&\"'!\"&Lists!$E9&AE$14))))","v":""},{"$f":"IF(ISNA(Lists!$C9),\"\",IF((INDIRECT(\"'\"&Lists!$C9&\"'!\"&Lists!$E9&AF$14))=\"\",\"\",(INDIRECT(\"'\"&Lists!$C9&\"'!\"&Lists!$E9&AF$14))))","v":""},{"$f":"IF(ISNA(Lists!$C9),\"\",IF((INDIRECT(\"'\"&Lists!$C9&\"'!\"&Lists!$E9&AG$14))=\"\",\"\",(INDIRECT(\"'\"&Lists!$C9&\"'!\"&Lists!$E9&AG$14))))","v":""},{"$f":"IF(ISNA(Lists!$C9),\"\",IF((INDIRECT(\"'\"&Lists!$C9&\"'!\"&Lists!$E9&AH$14))=\"\",\"\",(INDIRECT(\"'\"&Lists!$C9&\"'!\"&Lists!$E9&AH$14))))","v":""},{"$f":"IF(ISNA(Lists!$C9),\"\",IF((INDIRECT(\"'\"&Lists!$C9&\"'!\"&Lists!$E9&AI$14))=\"\",\"\",(INDIRECT(\"'\"&Lists!$C9&\"'!\"&Lists!$E9&AI$14))))","v":""},{"$f":"IF(ISNA(Lists!$C9),\"\",IF((INDIRECT(\"'\"&Lists!$C9&\"'!\"&Lists!$D9&AJ$14))=\"\",\"\",(INDIRECT(\"'\"&Lists!$C9&\"'!\"&Lists!$D9&AJ$14))))","v":""},{"$f":"IF(ISNA(Lists!$C9),\"\",IF((INDIRECT(\"'\"&Lists!$C9&\"'!\"&Lists!$D9&AK$14))=\"\",\"\",(INDIRECT(\"'\"&Lists!$C9&\"'!\"&Lists!$D9&AK$14))))","v":""},{"$f":"IF(ISNA(Lists!$C9),\"\",IF((INDIRECT(\"'\"&Lists!$C9&\"'!\"&Lists!$D9&AL$14))=\"\",\"\",(INDIRECT(\"'\"&Lists!$C9&\"'!\"&Lists!$D9&AL$14))))","v":""},{"$f":"IF(ISNA(Lists!$C9),\"\",IF((INDIRECT(\"'\"&Lists!$C9&\"'!\"&Lists!$D9&AM$14))=\"\",\"\",(INDIRECT(\"'\"&Lists!$C9&\"'!\"&Lists!$D9&AM$14))))","v":""},{"$f":"IF(ISNA(Lists!$C9),\"\",IF((INDIRECT(\"'\"&Lists!$C9&\"'!\"&Lists!$D9&AN$14))=\"\",\"\",(INDIRECT(\"'\"&Lists!$C9&\"'!\"&Lists!$D9&AN$14))))","v":""},{"$f":"IF(ISNA(Lists!$C9),\"\",IF((INDIRECT(\"'\"&Lists!$C9&\"'!\"&Lists!$D9&AO$14))=\"\",\"\",(INDIRECT(\"'\"&Lists!$C9&\"'!\"&Lists!$D9&AO$14))))","v":""},{"$f":"IF(ISNA(Lists!$C9),\"\",IF((INDIRECT(\"'\"&Lists!$C9&\"'!\"&Lists!$D9&AP$14))=\"\",\"\",(INDIRECT(\"'\"&Lists!$C9&\"'!\"&Lists!$D9&AP$14))))","v":""},{"$f":"IF(ISNA(Lists!$C9),\"\",IF((INDIRECT(\"'\"&Lists!$C9&\"'!\"&Lists!$D9&AQ$14))=\"\",\"\",(INDIRECT(\"'\"&Lists!$C9&\"'!\"&Lists!$D9&AQ$14))))","v":""},{"$f":"IF(ISNA(Lists!$C9),\"\",IF((INDIRECT(\"'\"&Lists!$C9&\"'!\"&Lists!$D9&AR$14))=\"\",\"\",(INDIRECT(\"'\"&Lists!$C9&\"'!\"&Lists!$D9&AR$14))))","v":""},{"$f":"IF(ISNA(Lists!$C9),\"\",IF((INDIRECT(\"'\"&Lists!$C9&\"'!\"&Lists!$D9&AS$14))=\"\",\"\",(INDIRECT(\"'\"&Lists!$C9&\"'!\"&Lists!$D9&AS$14))))","v":""}]
[null,{"$f":"IF(C32=\"\",\"\",Facility_Info_upload!$B$24)","v":""},{"$f":"IF(ISNA(Lists!$C10),\"\",IF(INDIRECT(\"'\"&Lists!$C10&\"'!\"&\"B\"&C$14)=\"\",\"\",(INDIRECT(\"'\"&Lists!$C10&\"'!\"&\"B\"&C$14))))","v":""},{"$f":"IF(ISNA(Lists!$C10),\"\",IF(INDIRECT(\"'\"&Lists!$C10&\"'!\"&\"B\"&D$14)=\"\",\"\",(INDIRECT(\"'\"&Lists!$C10&\"'!\"&\"B\"&D$14))))","v":""},{"$f":"IF(ISNA(Lists!$C10),\"\",IF(INDIRECT(\"'\"&Lists!$C10&\"'!\"&\"B\"&E$14)=\"\",\"\",(INDIRECT(\"'\"&Lists!$C10&\"'!\"&\"B\"&E$14))))","v":""},{"$f":"IF(ISNA(Lists!$C10),\"\",IF(INDIRECT(\"'\"&Lists!$C10&\"'!\"&\"B\"&F$14)=\"\",\"\",(INDIRECT(\"'\"&Lists!$C10&\"'!\"&\"B\"&F$14))))","v":""},{"$f":"IF(ISNA(Lists!$C10),\"\",IF(INDIRECT(\"'\"&Lists!$C10&\"'!\"&\"B\"&G$14)=\"\",\"\",(INDIRECT(\"'\"&Lists!$C10&\"'!\"&\"B\"&G$14))))","v":""},{"$f":"IF(ISNA(Lists!$C10),\"\",IF((INDIRECT(\"'\"&Lists!$C10&\"'!\"&Lists!$D10&H$14))=\"\",\"\",(INDIRECT(\"'\"&Lists!$C10&\"'!\"&Lists!$D10&H$14))))","v":""},{"$f":"IF(ISNA(Lists!$C10),\"\",IF((INDIRECT(\"'\"&Lists!$C10&\"'!\"&Lists!$D10&I$14))=\"\",\"\",(INDIRECT(\"'\"&Lists!$C10&\"'!\"&Lists!$D10&I$14))))","v":""},{"$f":"IF(ISNA(Lists!$C10),\"\",IF((INDIRECT(\"'\"&Lists!$C10&\"'!\"&Lists!$D10&J$14))=\"\",\"\",(INDIRECT(\"'\"&Lists!$C10&\"'!\"&Lists!$D10&J$14))))","v":""},{"$f":"IF(ISNA(Lists!$C10),\"\",IF((INDIRECT(\"'\"&Lists!$C10&\"'!\"&Lists!$D10&K$14))=\"\",\"\",(INDIRECT(\"'\"&Lists!$C10&\"'!\"&Lists!$D10&K$14))))","v":""},{"$f":"IF(ISNA(Lists!$C10),\"\",IF((INDIRECT(\"'\"&Lists!$C10&\"'!\"&Lists!$D10&L$14))=\"\",\"\",(INDIRECT(\"'\"&Lists!$C10&\"'!\"&Lists!$D10&L$14))))","v":""},{"$f":"IF(ISNA(Lists!$C10),\"\",IF((INDIRECT(\"'\"&Lists!$C10&\"'!\"&Lists!$D10&M$14))=\"\",\"\",(INDIRECT(\"'\"&Lists!$C10&\"'!\"&Lists!$D10&M$14))))","v":""},{"$f":"IF(ISNA(Lists!$C10),\"\",IF((INDIRECT(\"'\"&Lists!$C10&\"'!\"&Lists!$D10&N$14))=\"\",\"\",(INDIRECT(\"'\"&Lists!$C10&\"'!\"&Lists!$D10&N$14))))","v":""},{"$f":"IF(ISNA(Lists!$C10),\"\",IF((INDIRECT(\"'\"&Lists!$C10&\"'!\"&Lists!$D10&O$14))=\"\",\"\",(INDIRECT(\"'\"&Lists!$C10&\"'!\"&Lists!$D10&O$14))))","v":""},{"$f":"IF(ISNA(Lists!$C10),\"\",IF((INDIRECT(\"'\"&Lists!$C10&\"'!\"&Lists!$D10&P$14))=\"\",\"\",(INDIRECT(\"'\"&Lists!$C10&\"'!\"&Lists!$D10&P$14))))","v":""},{"$f":"IF(ISNA(Lists!$C10),\"\",IF((INDIRECT(\"'\"&Lists!$C10&\"'!\"&Lists!$D10&Q$14))=\"\",\"\",(INDIRECT(\"'\"&Lists!$C10&\"'!\"&Lists!$D10&Q$14))))","v":""},{"$f":"IF(ISNA(Lists!$C10),\"\",IF((INDIRECT(\"'\"&Lists!$C10&\"'!\"&Lists!$D10&R$14))=\"\",\"\",(INDIRECT(\"'\"&Lists!$C10&\"'!\"&Lists!$D10&R$14))))","v":""},{"$f":"IF(ISNA(Lists!$C10),\"\",IF((INDIRECT(\"'\"&Lists!$C10&\"'!\"&Lists!$D10&S$14))=\"\",\"\",(INDIRECT(\"'\"&Lists!$C10&\"'!\"&Lists!$D10&S$14))))","v":""},{"$f":"IF(ISNA(Lists!$C10),\"\",IF((INDIRECT(\"'\"&Lists!$C10&\"'!\"&Lists!$D10&T$14))=\"\",\"\",(INDIRECT(\"'\"&Lists!$C10&\"'!\"&Lists!$D10&T$14))))","v":""},{"$f":"IF(ISNA(Lists!$C10),\"\",IF((INDIRECT(\"'\"&Lists!$C10&\"'!\"&Lists!$D10&U$14))=\"\",\"\",(INDIRECT(\"'\"&Lists!$C10&\"'!\"&Lists!$D10&U$14))))","v":""},{"$f":"IF(ISNA(Lists!$C10),\"\",IF((INDIRECT(\"'\"&Lists!$C10&\"'!\"&Lists!$E10&V$14))=\"\",\"\",(INDIRECT(\"'\"&Lists!$C10&\"'!\"&Lists!$E10&V$14))))","v":""},{"$f":"IF(ISNA(Lists!$C10),\"\",IF((INDIRECT(\"'\"&Lists!$C10&\"'!\"&Lists!$E10&W$14))=\"\",\"\",(INDIRECT(\"'\"&Lists!$C10&\"'!\"&Lists!$E10&W$14))))","v":""},{"$f":"IF(ISNA(Lists!$C10),\"\",IF((INDIRECT(\"'\"&Lists!$C10&\"'!\"&Lists!$E10&X$14))=\"\",\"\",(INDIRECT(\"'\"&Lists!$C10&\"'!\"&Lists!$E10&X$14))))","v":""},{"$f":"IF(ISNA(Lists!$C10),\"\",IF((INDIRECT(\"'\"&Lists!$C10&\"'!\"&Lists!$E10&Y$14))=\"\",\"\",(INDIRECT(\"'\"&Lists!$C10&\"'!\"&Lists!$E10&Y$14))))","v":""},{"$f":"IF(ISNA(Lists!$C10),\"\",IF((INDIRECT(\"'\"&Lists!$C10&\"'!\"&Lists!$E10&Z$14))=\"\",\"\",(INDIRECT(\"'\"&Lists!$C10&\"'!\"&Lists!$E10&Z$14))))","v":""},{"$f":"IF(ISNA(Lists!$C10),\"\",IF((INDIRECT(\"'\"&Lists!$C10&\"'!\"&Lists!$E10&AA$14))=\"\",\"\",(INDIRECT(\"'\"&Lists!$C10&\"'!\"&Lists!$E10&AA$14))))","v":""},{"$f":"IF(ISNA(Lists!$C10),\"\",IF((INDIRECT(\"'\"&Lists!$C10&\"'!\"&Lists!$E10&AB$14))=\"\",\"\",(INDIRECT(\"'\"&Lists!$C10&\"'!\"&Lists!$E10&AB$14))))","v":""},{"$f":"IF(ISNA(Lists!$C10),\"\",IF((INDIRECT(\"'\"&Lists!$C10&\"'!\"&Lists!$E10&AC$14))=\"\",\"\",(INDIRECT(\"'\"&Lists!$C10&\"'!\"&Lists!$E10&AC$14))))","v":""},{"$f":"IF(ISNA(Lists!$C10),\"\",IF((INDIRECT(\"'\"&Lists!$C10&\"'!\"&Lists!$E10&AD$14))=\"\",\"\",(INDIRECT(\"'\"&Lists!$C10&\"'!\"&Lists!$E10&AD$14))))","v":""},{"$f":"IF(ISNA(Lists!$C10),\"\",IF((INDIRECT(\"'\"&Lists!$C10&\"'!\"&Lists!$E10&AE$14))=\"\",\"\",(INDIRECT(\"'\"&Lists!$C10&\"'!\"&Lists!$E10&AE$14))))","v":""},{"$f":"IF(ISNA(Lists!$C10),\"\",IF((INDIRECT(\"'\"&Lists!$C10&\"'!\"&Lists!$E10&AF$14))=\"\",\"\",(INDIRECT(\"'\"&Lists!$C10&\"'!\"&Lists!$E10&AF$14))))","v":""},{"$f":"IF(ISNA(Lists!$C10),\"\",IF((INDIRECT(\"'\"&Lists!$C10&\"'!\"&Lists!$E10&AG$14))=\"\",\"\",(INDIRECT(\"'\"&Lists!$C10&\"'!\"&Lists!$E10&AG$14))))","v":""},{"$f":"IF(ISNA(Lists!$C10),\"\",IF((INDIRECT(\"'\"&Lists!$C10&\"'!\"&Lists!$E10&AH$14))=\"\",\"\",(INDIRECT(\"'\"&Lists!$C10&\"'!\"&Lists!$E10&AH$14))))","v":""},{"$f":"IF(ISNA(Lists!$C10),\"\",IF((INDIRECT(\"'\"&Lists!$C10&\"'!\"&Lists!$E10&AI$14))=\"\",\"\",(INDIRECT(\"'\"&Lists!$C10&\"'!\"&Lists!$E10&AI$14))))","v":""},{"$f":"IF(ISNA(Lists!$C10),\"\",IF((INDIRECT(\"'\"&Lists!$C10&\"'!\"&Lists!$D10&AJ$14))=\"\",\"\",(INDIRECT(\"'\"&Lists!$C10&\"'!\"&Lists!$D10&AJ$14))))","v":""},{"$f":"IF(ISNA(Lists!$C10),\"\",IF((INDIRECT(\"'\"&Lists!$C10&\"'!\"&Lists!$D10&AK$14))=\"\",\"\",(INDIRECT(\"'\"&Lists!$C10&\"'!\"&Lists!$D10&AK$14))))","v":""},{"$f":"IF(ISNA(Lists!$C10),\"\",IF((INDIRECT(\"'\"&Lists!$C10&\"'!\"&Lists!$D10&AL$14))=\"\",\"\",(INDIRECT(\"'\"&Lists!$C10&\"'!\"&Lists!$D10&AL$14))))","v":""},{"$f":"IF(ISNA(Lists!$C10),\"\",IF((INDIRECT(\"'\"&Lists!$C10&\"'!\"&Lists!$D10&AM$14))=\"\",\"\",(INDIRECT(\"'\"&Lists!$C10&\"'!\"&Lists!$D10&AM$14))))","v":""},{"$f":"IF(ISNA(Lists!$C10),\"\",IF((INDIRECT(\"'\"&Lists!$C10&\"'!\"&Lists!$D10&AN$14))=\"\",\"\",(INDIRECT(\"'\"&Lists!$C10&\"'!\"&Lists!$D10&AN$14))))","v":""},{"$f":"IF(ISNA(Lists!$C10),\"\",IF((INDIRECT(\"'\"&Lists!$C10&\"'!\"&Lists!$D10&AO$14))=\"\",\"\",(INDIRECT(\"'\"&Lists!$C10&\"'!\"&Lists!$D10&AO$14))))","v":""},{"$f":"IF(ISNA(Lists!$C10),\"\",IF((INDIRECT(\"'\"&Lists!$C10&\"'!\"&Lists!$D10&AP$14))=\"\",\"\",(INDIRECT(\"'\"&Lists!$C10&\"'!\"&Lists!$D10&AP$14))))","v":""},{"$f":"IF(ISNA(Lists!$C10),\"\",IF((INDIRECT(\"'\"&Lists!$C10&\"'!\"&Lists!$D10&AQ$14))=\"\",\"\",(INDIRECT(\"'\"&Lists!$C10&\"'!\"&Lists!$D10&AQ$14))))","v":""},{"$f":"IF(ISNA(Lists!$C10),\"\",IF((INDIRECT(\"'\"&Lists!$C10&\"'!\"&Lists!$D10&AR$14))=\"\",\"\",(INDIRECT(\"'\"&Lists!$C10&\"'!\"&Lists!$D10&AR$14))))","v":""},{"$f":"IF(ISNA(Lists!$C10),\"\",IF((INDIRECT(\"'\"&Lists!$C10&\"'!\"&Lists!$D10&AS$14))=\"\",\"\",(INDIRECT(\"'\"&Lists!$C10&\"'!\"&Lists!$D10&AS$14))))","v":""}]
[null,{"$f":"IF(C33=\"\",\"\",Facility_Info_upload!$B$24)","v":""},{"$f":"IF(ISNA(Lists!$C11),\"\",IF(INDIRECT(\"'\"&Lists!$C11&\"'!\"&\"B\"&C$14)=\"\",\"\",(INDIRECT(\"'\"&Lists!$C11&\"'!\"&\"B\"&C$14))))","v":""},{"$f":"IF(ISNA(Lists!$C11),\"\",IF(INDIRECT(\"'\"&Lists!$C11&\"'!\"&\"B\"&D$14)=\"\",\"\",(INDIRECT(\"'\"&Lists!$C11&\"'!\"&\"B\"&D$14))))","v":""},{"$f":"IF(ISNA(Lists!$C11),\"\",IF(INDIRECT(\"'\"&Lists!$C11&\"'!\"&\"B\"&E$14)=\"\",\"\",(INDIRECT(\"'\"&Lists!$C11&\"'!\"&\"B\"&E$14))))","v":""},{"$f":"IF(ISNA(Lists!$C11),\"\",IF(INDIRECT(\"'\"&Lists!$C11&\"'!\"&\"B\"&F$14)=\"\",\"\",(INDIRECT(\"'\"&Lists!$C11&\"'!\"&\"B\"&F$14))))","v":""},{"$f":"IF(ISNA(Lists!$C11),\"\",IF(INDIRECT(\"'\"&Lists!$C11&\"'!\"&\"B\"&G$14)=\"\",\"\",(INDIRECT(\"'\"&Lists!$C11&\"'!\"&\"B\"&G$14))))","v":""},{"$f":"IF(ISNA(Lists!$C11),\"\",IF((INDIRECT(\"'\"&Lists!$C11&\"'!\"&Lists!$D11&H$14))=\"\",\"\",(INDIRECT(\"'\"&Lists!$C11&\"'!\"&Lists!$D11&H$14))))","v":""},{"$f":"IF(ISNA(Lists!$C11),\"\",IF((INDIRECT(\"'\"&Lists!$C11&\"'!\"&Lists!$D11&I$14))=\"\",\"\",(INDIRECT(\"'\"&Lists!$C11&\"'!\"&Lists!$D11&I$14))))","v":""},{"$f":"IF(ISNA(Lists!$C11),\"\",IF((INDIRECT(\"'\"&Lists!$C11&\"'!\"&Lists!$D11&J$14))=\"\",\"\",(INDIRECT(\"'\"&Lists!$C11&\"'!\"&Lists!$D11&J$14))))","v":""},{"$f":"IF(ISNA(Lists!$C11),\"\",IF((INDIRECT(\"'\"&Lists!$C11&\"'!\"&Lists!$D11&K$14))=\"\",\"\",(INDIRECT(\"'\"&Lists!$C11&\"'!\"&Lists!$D11&K$14))))","v":""},{"$f":"IF(ISNA(Lists!$C11),\"\",IF((INDIRECT(\"'\"&Lists!$C11&\"'!\"&Lists!$D11&L$14))=\"\",\"\",(INDIRECT(\"'\"&Lists!$C11&\"'!\"&Lists!$D11&L$14))))","v":""},{"$f":"IF(ISNA(Lists!$C11),\"\",IF((INDIRECT(\"'\"&Lists!$C11&\"'!\"&Lists!$D11&M$14))=\"\",\"\",(INDIRECT(\"'\"&Lists!$C11&\"'!\"&Lists!$D11&M$14))))","v":""},{"$f":"IF(ISNA(Lists!$C11),\"\",IF((INDIRECT(\"'\"&Lists!$C11&\"'!\"&Lists!$D11&N$14))=\"\",\"\",(INDIRECT(\"'\"&Lists!$C11&\"'!\"&Lists!$D11&N$14))))","v":""},{"$f":"IF(ISNA(Lists!$C11),\"\",IF((INDIRECT(\"'\"&Lists!$C11&\"'!\"&Lists!$D11&O$14))=\"\",\"\",(INDIRECT(\"'\"&Lists!$C11&\"'!\"&Lists!$D11&O$14))))","v":""},{"$f":"IF(ISNA(Lists!$C11),\"\",IF((INDIRECT(\"'\"&Lists!$C11&\"'!\"&Lists!$D11&P$14))=\"\",\"\",(INDIRECT(\"'\"&Lists!$C11&\"'!\"&Lists!$D11&P$14))))","v":""},{"$f":"IF(ISNA(Lists!$C11),\"\",IF((INDIRECT(\"'\"&Lists!$C11&\"'!\"&Lists!$D11&Q$14))=\"\",\"\",(INDIRECT(\"'\"&Lists!$C11&\"'!\"&Lists!$D11&Q$14))))","v":""},{"$f":"IF(ISNA(Lists!$C11),\"\",IF((INDIRECT(\"'\"&Lists!$C11&\"'!\"&Lists!$D11&R$14))=\"\",\"\",(INDIRECT(\"'\"&Lists!$C11&\"'!\"&Lists!$D11&R$14))))","v":""},{"$f":"IF(ISNA(Lists!$C11),\"\",IF((INDIRECT(\"'\"&Lists!$C11&\"'!\"&Lists!$D11&S$14))=\"\",\"\",(INDIRECT(\"'\"&Lists!$C11&\"'!\"&Lists!$D11&S$14))))","v":""},{"$f":"IF(ISNA(Lists!$C11),\"\",IF((INDIRECT(\"'\"&Lists!$C11&\"'!\"&Lists!$D11&T$14))=\"\",\"\",(INDIRECT(\"'\"&Lists!$C11&\"'!\"&Lists!$D11&T$14))))","v":""},{"$f":"IF(ISNA(Lists!$C11),\"\",IF((INDIRECT(\"'\"&Lists!$C11&\"'!\"&Lists!$D11&U$14))=\"\",\"\",(INDIRECT(\"'\"&Lists!$C11&\"'!\"&Lists!$D11&U$14))))","v":""},{"$f":"IF(ISNA(Lists!$C11),\"\",IF((INDIRECT(\"'\"&Lists!$C11&\"'!\"&Lists!$E11&V$14))=\"\",\"\",(INDIRECT(\"'\"&Lists!$C11&\"'!\"&Lists!$E11&V$14))))","v":""},{"$f":"IF(ISNA(Lists!$C11),\"\",IF((INDIRECT(\"'\"&Lists!$C11&\"'!\"&Lists!$E11&W$14))=\"\",\"\",(INDIRECT(\"'\"&Lists!$C11&\"'!\"&Lists!$E11&W$14))))","v":""},{"$f":"IF(ISNA(Lists!$C11),\"\",IF((INDIRECT(\"'\"&Lists!$C11&\"'!\"&Lists!$E11&X$14))=\"\",\"\",(INDIRECT(\"'\"&Lists!$C11&\"'!\"&Lists!$E11&X$14))))","v":""},{"$f":"IF(ISNA(Lists!$C11),\"\",IF((INDIRECT(\"'\"&Lists!$C11&\"'!\"&Lists!$E11&Y$14))=\"\",\"\",(INDIRECT(\"'\"&Lists!$C11&\"'!\"&Lists!$E11&Y$14))))","v":""},{"$f":"IF(ISNA(Lists!$C11),\"\",IF((INDIRECT(\"'\"&Lists!$C11&\"'!\"&Lists!$E11&Z$14))=\"\",\"\",(INDIRECT(\"'\"&Lists!$C11&\"'!\"&Lists!$E11&Z$14))))","v":""},{"$f":"IF(ISNA(Lists!$C11),\"\",IF((INDIRECT(\"'\"&Lists!$C11&\"'!\"&Lists!$E11&AA$14))=\"\",\"\",(INDIRECT(\"'\"&Lists!$C11&\"'!\"&Lists!$E11&AA$14))))","v":""},{"$f":"IF(ISNA(Lists!$C11),\"\",IF((INDIRECT(\"'\"&Lists!$C11&\"'!\"&Lists!$E11&AB$14))=\"\",\"\",(INDIRECT(\"'\"&Lists!$C11&\"'!\"&Lists!$E11&AB$14))))","v":""},{"$f":"IF(ISNA(Lists!$C11),\"\",IF((INDIRECT(\"'\"&Lists!$C11&\"'!\"&Lists!$E11&AC$14))=\"\",\"\",(INDIRECT(\"'\"&Lists!$C11&\"'!\"&Lists!$E11&AC$14))))","v":""},{"$f":"IF(ISNA(Lists!$C11),\"\",IF((INDIRECT(\"'\"&Lists!$C11&\"'!\"&Lists!$E11&AD$14))=\"\",\"\",(INDIRECT(\"'\"&Lists!$C11&\"'!\"&Lists!$E11&AD$14))))","v":""},{"$f":"IF(ISNA(Lists!$C11),\"\",IF((INDIRECT(\"'\"&Lists!$C11&\"'!\"&Lists!$E11&AE$14))=\"\",\"\",(INDIRECT(\"'\"&Lists!$C11&\"'!\"&Lists!$E11&AE$14))))","v":""},{"$f":"IF(ISNA(Lists!$C11),\"\",IF((INDIRECT(\"'\"&Lists!$C11&\"'!\"&Lists!$E11&AF$14))=\"\",\"\",(INDIRECT(\"'\"&Lists!$C11&\"'!\"&Lists!$E11&AF$14))))","v":""},{"$f":"IF(ISNA(Lists!$C11),\"\",IF((INDIRECT(\"'\"&Lists!$C11&\"'!\"&Lists!$E11&AG$14))=\"\",\"\",(INDIRECT(\"'\"&Lists!$C11&\"'!\"&Lists!$E11&AG$14))))","v":""},{"$f":"IF(ISNA(Lists!$C11),\"\",IF((INDIRECT(\"'\"&Lists!$C11&\"'!\"&Lists!$E11&AH$14))=\"\",\"\",(INDIRECT(\"'\"&Lists!$C11&\"'!\"&Lists!$E11&AH$14))))","v":""},{"$f":"IF(ISNA(Lists!$C11),\"\",IF((INDIRECT(\"'\"&Lists!$C11&\"'!\"&Lists!$E11&AI$14))=\"\",\"\",(INDIRECT(\"'\"&Lists!$C11&\"'!\"&Lists!$E11&AI$14))))","v":""},{"$f":"IF(ISNA(Lists!$C11),\"\",IF((INDIRECT(\"'\"&Lists!$C11&\"'!\"&Lists!$D11&AJ$14))=\"\",\"\",(INDIRECT(\"'\"&Lists!$C11&\"'!\"&Lists!$D11&AJ$14))))","v":""},{"$f":"IF(ISNA(Lists!$C11),\"\",IF((INDIRECT(\"'\"&Lists!$C11&\"'!\"&Lists!$D11&AK$14))=\"\",\"\",(INDIRECT(\"'\"&Lists!$C11&\"'!\"&Lists!$D11&AK$14))))","v":""},{"$f":"IF(ISNA(Lists!$C11),\"\",IF((INDIRECT(\"'\"&Lists!$C11&\"'!\"&Lists!$D11&AL$14))=\"\",\"\",(INDIRECT(\"'\"&Lists!$C11&\"'!\"&Lists!$D11&AL$14))))","v":""},{"$f":"IF(ISNA(Lists!$C11),\"\",IF((INDIRECT(\"'\"&Lists!$C11&\"'!\"&Lists!$D11&AM$14))=\"\",\"\",(INDIRECT(\"'\"&Lists!$C11&\"'!\"&Lists!$D11&AM$14))))","v":""},{"$f":"IF(ISNA(Lists!$C11),\"\",IF((INDIRECT(\"'\"&Lists!$C11&\"'!\"&Lists!$D11&AN$14))=\"\",\"\",(INDIRECT(\"'\"&Lists!$C11&\"'!\"&Lists!$D11&AN$14))))","v":""},{"$f":"IF(ISNA(Lists!$C11),\"\",IF((INDIRECT(\"'\"&Lists!$C11&\"'!\"&Lists!$D11&AO$14))=\"\",\"\",(INDIRECT(\"'\"&Lists!$C11&\"'!\"&Lists!$D11&AO$14))))","v":""},{"$f":"IF(ISNA(Lists!$C11),\"\",IF((INDIRECT(\"'\"&Lists!$C11&\"'!\"&Lists!$D11&AP$14))=\"\",\"\",(INDIRECT(\"'\"&Lists!$C11&\"'!\"&Lists!$D11&AP$14))))","v":""},{"$f":"IF(ISNA(Lists!$C11),\"\",IF((INDIRECT(\"'\"&Lists!$C11&\"'!\"&Lists!$D11&AQ$14))=\"\",\"\",(INDIRECT(\"'\"&Lists!$C11&\"'!\"&Lists!$D11&AQ$14))))","v":""},{"$f":"IF(ISNA(Lists!$C11),\"\",IF((INDIRECT(\"'\"&Lists!$C11&\"'!\"&Lists!$D11&AR$14))=\"\",\"\",(INDIRECT(\"'\"&Lists!$C11&\"'!\"&Lists!$D11&AR$14))))","v":""},{"$f":"IF(ISNA(Lists!$C11),\"\",IF((INDIRECT(\"'\"&Lists!$C11&\"'!\"&Lists!$D11&AS$14))=\"\",\"\",(INDIRECT(\"'\"&Lists!$C11&\"'!\"&Lists!$D11&AS$14))))","v":""}]
[null,{"$f":"IF(C34=\"\",\"\",Facility_Info_upload!$B$24)","v":""},{"$f":"IF(ISNA(Lists!$C12),\"\",IF(INDIRECT(\"'\"&Lists!$C12&\"'!\"&\"B\"&C$14)=\"\",\"\",(INDIRECT(\"'\"&Lists!$C12&\"'!\"&\"B\"&C$14))))","v":""},{"$f":"IF(ISNA(Lists!$C12),\"\",IF(INDIRECT(\"'\"&Lists!$C12&\"'!\"&\"B\"&D$14)=\"\",\"\",(INDIRECT(\"'\"&Lists!$C12&\"'!\"&\"B\"&D$14))))","v":""},{"$f":"IF(ISNA(Lists!$C12),\"\",IF(INDIRECT(\"'\"&Lists!$C12&\"'!\"&\"B\"&E$14)=\"\",\"\",(INDIRECT(\"'\"&Lists!$C12&\"'!\"&\"B\"&E$14))))","v":""},{"$f":"IF(ISNA(Lists!$C12),\"\",IF(INDIRECT(\"'\"&Lists!$C12&\"'!\"&\"B\"&F$14)=\"\",\"\",(INDIRECT(\"'\"&Lists!$C12&\"'!\"&\"B\"&F$14))))","v":""},{"$f":"IF(ISNA(Lists!$C12),\"\",IF(INDIRECT(\"'\"&Lists!$C12&\"'!\"&\"B\"&G$14)=\"\",\"\",(INDIRECT(\"'\"&Lists!$C12&\"'!\"&\"B\"&G$14))))","v":""},{"$f":"IF(ISNA(Lists!$C12),\"\",IF((INDIRECT(\"'\"&Lists!$C12&\"'!\"&Lists!$D12&H$14))=\"\",\"\",(INDIRECT(\"'\"&Lists!$C12&\"'!\"&Lists!$D12&H$14))))","v":""},{"$f":"IF(ISNA(Lists!$C12),\"\",IF((INDIRECT(\"'\"&Lists!$C12&\"'!\"&Lists!$D12&I$14))=\"\",\"\",(INDIRECT(\"'\"&Lists!$C12&\"'!\"&Lists!$D12&I$14))))","v":""},{"$f":"IF(ISNA(Lists!$C12),\"\",IF((INDIRECT(\"'\"&Lists!$C12&\"'!\"&Lists!$D12&J$14))=\"\",\"\",(INDIRECT(\"'\"&Lists!$C12&\"'!\"&Lists!$D12&J$14))))","v":""},{"$f":"IF(ISNA(Lists!$C12),\"\",IF((INDIRECT(\"'\"&Lists!$C12&\"'!\"&Lists!$D12&K$14))=\"\",\"\",(INDIRECT(\"'\"&Lists!$C12&\"'!\"&Lists!$D12&K$14))))","v":""},{"$f":"IF(ISNA(Lists!$C12),\"\",IF((INDIRECT(\"'\"&Lists!$C12&\"'!\"&Lists!$D12&L$14))=\"\",\"\",(INDIRECT(\"'\"&Lists!$C12&\"'!\"&Lists!$D12&L$14))))","v":""},{"$f":"IF(ISNA(Lists!$C12),\"\",IF((INDIRECT(\"'\"&Lists!$C12&\"'!\"&Lists!$D12&M$14))=\"\",\"\",(INDIRECT(\"'\"&Lists!$C12&\"'!\"&Lists!$D12&M$14))))","v":""},{"$f":"IF(ISNA(Lists!$C12),\"\",IF((INDIRECT(\"'\"&Lists!$C12&\"'!\"&Lists!$D12&N$14))=\"\",\"\",(INDIRECT(\"'\"&Lists!$C12&\"'!\"&Lists!$D12&N$14))))","v":""},{"$f":"IF(ISNA(Lists!$C12),\"\",IF((INDIRECT(\"'\"&Lists!$C12&\"'!\"&Lists!$D12&O$14))=\"\",\"\",(INDIRECT(\"'\"&Lists!$C12&\"'!\"&Lists!$D12&O$14))))","v":""},{"$f":"IF(ISNA(Lists!$C12),\"\",IF((INDIRECT(\"'\"&Lists!$C12&\"'!\"&Lists!$D12&P$14))=\"\",\"\",(INDIRECT(\"'\"&Lists!$C12&\"'!\"&Lists!$D12&P$14))))","v":""},{"$f":"IF(ISNA(Lists!$C12),\"\",IF((INDIRECT(\"'\"&Lists!$C12&\"'!\"&Lists!$D12&Q$14))=\"\",\"\",(INDIRECT(\"'\"&Lists!$C12&\"'!\"&Lists!$D12&Q$14))))","v":""},{"$f":"IF(ISNA(Lists!$C12),\"\",IF((INDIRECT(\"'\"&Lists!$C12&\"'!\"&Lists!$D12&R$14))=\"\",\"\",(INDIRECT(\"'\"&Lists!$C12&\"'!\"&Lists!$D12&R$14))))","v":""},{"$f":"IF(ISNA(Lists!$C12),\"\",IF((INDIRECT(\"'\"&Lists!$C12&\"'!\"&Lists!$D12&S$14))=\"\",\"\",(INDIRECT(\"'\"&Lists!$C12&\"'!\"&Lists!$D12&S$14))))","v":""},{"$f":"IF(ISNA(Lists!$C12),\"\",IF((INDIRECT(\"'\"&Lists!$C12&\"'!\"&Lists!$D12&T$14))=\"\",\"\",(INDIRECT(\"'\"&Lists!$C12&\"'!\"&Lists!$D12&T$14))))","v":""},{"$f":"IF(ISNA(Lists!$C12),\"\",IF((INDIRECT(\"'\"&Lists!$C12&\"'!\"&Lists!$D12&U$14))=\"\",\"\",(INDIRECT(\"'\"&Lists!$C12&\"'!\"&Lists!$D12&U$14))))","v":""},{"$f":"IF(ISNA(Lists!$C12),\"\",IF((INDIRECT(\"'\"&Lists!$C12&\"'!\"&Lists!$E12&V$14))=\"\",\"\",(INDIRECT(\"'\"&Lists!$C12&\"'!\"&Lists!$E12&V$14))))","v":""},{"$f":"IF(ISNA(Lists!$C12),\"\",IF((INDIRECT(\"'\"&Lists!$C12&\"'!\"&Lists!$E12&W$14))=\"\",\"\",(INDIRECT(\"'\"&Lists!$C12&\"'!\"&Lists!$E12&W$14))))","v":""},{"$f":"IF(ISNA(Lists!$C12),\"\",IF((INDIRECT(\"'\"&Lists!$C12&\"'!\"&Lists!$E12&X$14))=\"\",\"\",(INDIRECT(\"'\"&Lists!$C12&\"'!\"&Lists!$E12&X$14))))","v":""},{"$f":"IF(ISNA(Lists!$C12),\"\",IF((INDIRECT(\"'\"&Lists!$C12&\"'!\"&Lists!$E12&Y$14))=\"\",\"\",(INDIRECT(\"'\"&Lists!$C12&\"'!\"&Lists!$E12&Y$14))))","v":""},{"$f":"IF(ISNA(Lists!$C12),\"\",IF((INDIRECT(\"'\"&Lists!$C12&\"'!\"&Lists!$E12&Z$14))=\"\",\"\",(INDIRECT(\"'\"&Lists!$C12&\"'!\"&Lists!$E12&Z$14))))","v":""},{"$f":"IF(ISNA(Lists!$C12),\"\",IF((INDIRECT(\"'\"&Lists!$C12&\"'!\"&Lists!$E12&AA$14))=\"\",\"\",(INDIRECT(\"'\"&Lists!$C12&\"'!\"&Lists!$E12&AA$14))))","v":""},{"$f":"IF(ISNA(Lists!$C12),\"\",IF((INDIRECT(\"'\"&Lists!$C12&\"'!\"&Lists!$E12&AB$14))=\"\",\"\",(INDIRECT(\"'\"&Lists!$C12&\"'!\"&Lists!$E12&AB$14))))","v":""},{"$f":"IF(ISNA(Lists!$C12),\"\",IF((INDIRECT(\"'\"&Lists!$C12&\"'!\"&Lists!$E12&AC$14))=\"\",\"\",(INDIRECT(\"'\"&Lists!$C12&\"'!\"&Lists!$E12&AC$14))))","v":""},{"$f":"IF(ISNA(Lists!$C12),\"\",IF((INDIRECT(\"'\"&Lists!$C12&\"'!\"&Lists!$E12&AD$14))=\"\",\"\",(INDIRECT(\"'\"&Lists!$C12&\"'!\"&Lists!$E12&AD$14))))","v":""},{"$f":"IF(ISNA(Lists!$C12),\"\",IF((INDIRECT(\"'\"&Lists!$C12&\"'!\"&Lists!$E12&AE$14))=\"\",\"\",(INDIRECT(\"'\"&Lists!$C12&\"'!\"&Lists!$E12&AE$14))))","v":""},{"$f":"IF(ISNA(Lists!$C12),\"\",IF((INDIRECT(\"'\"&Lists!$C12&\"'!\"&Lists!$E12&AF$14))=\"\",\"\",(INDIRECT(\"'\"&Lists!$C12&\"'!\"&Lists!$E12&AF$14))))","v":""},{"$f":"IF(ISNA(Lists!$C12),\"\",IF((INDIRECT(\"'\"&Lists!$C12&\"'!\"&Lists!$E12&AG$14))=\"\",\"\",(INDIRECT(\"'\"&Lists!$C12&\"'!\"&Lists!$E12&AG$14))))","v":""},{"$f":"IF(ISNA(Lists!$C12),\"\",IF((INDIRECT(\"'\"&Lists!$C12&\"'!\"&Lists!$E12&AH$14))=\"\",\"\",(INDIRECT(\"'\"&Lists!$C12&\"'!\"&Lists!$E12&AH$14))))","v":""},{"$f":"IF(ISNA(Lists!$C12),\"\",IF((INDIRECT(\"'\"&Lists!$C12&\"'!\"&Lists!$E12&AI$14))=\"\",\"\",(INDIRECT(\"'\"&Lists!$C12&\"'!\"&Lists!$E12&AI$14))))","v":""},{"$f":"IF(ISNA(Lists!$C12),\"\",IF((INDIRECT(\"'\"&Lists!$C12&\"'!\"&Lists!$D12&AJ$14))=\"\",\"\",(INDIRECT(\"'\"&Lists!$C12&\"'!\"&Lists!$D12&AJ$14))))","v":""},{"$f":"IF(ISNA(Lists!$C12),\"\",IF((INDIRECT(\"'\"&Lists!$C12&\"'!\"&Lists!$D12&AK$14))=\"\",\"\",(INDIRECT(\"'\"&Lists!$C12&\"'!\"&Lists!$D12&AK$14))))","v":""},{"$f":"IF(ISNA(Lists!$C12),\"\",IF((INDIRECT(\"'\"&Lists!$C12&\"'!\"&Lists!$D12&AL$14))=\"\",\"\",(INDIRECT(\"'\"&Lists!$C12&\"'!\"&Lists!$D12&AL$14))))","v":""},{"$f":"IF(ISNA(Lists!$C12),\"\",IF((INDIRECT(\"'\"&Lists!$C12&\"'!\"&Lists!$D12&AM$14))=\"\",\"\",(INDIRECT(\"'\"&Lists!$C12&\"'!\"&Lists!$D12&AM$14))))","v":""},{"$f":"IF(ISNA(Lists!$C12),\"\",IF((INDIRECT(\"'\"&Lists!$C12&\"'!\"&Lists!$D12&AN$14))=\"\",\"\",(INDIRECT(\"'\"&Lists!$C12&\"'!\"&Lists!$D12&AN$14))))","v":""},{"$f":"IF(ISNA(Lists!$C12),\"\",IF((INDIRECT(\"'\"&Lists!$C12&\"'!\"&Lists!$D12&AO$14))=\"\",\"\",(INDIRECT(\"'\"&Lists!$C12&\"'!\"&Lists!$D12&AO$14))))","v":""},{"$f":"IF(ISNA(Lists!$C12),\"\",IF((INDIRECT(\"'\"&Lists!$C12&\"'!\"&Lists!$D12&AP$14))=\"\",\"\",(INDIRECT(\"'\"&Lists!$C12&\"'!\"&Lists!$D12&AP$14))))","v":""},{"$f":"IF(ISNA(Lists!$C12),\"\",IF((INDIRECT(\"'\"&Lists!$C12&\"'!\"&Lists!$D12&AQ$14))=\"\",\"\",(INDIRECT(\"'\"&Lists!$C12&\"'!\"&Lists!$D12&AQ$14))))","v":""},{"$f":"IF(ISNA(Lists!$C12),\"\",IF((INDIRECT(\"'\"&Lists!$C12&\"'!\"&Lists!$D12&AR$14))=\"\",\"\",(INDIRECT(\"'\"&Lists!$C12&\"'!\"&Lists!$D12&AR$14))))","v":""},{"$f":"IF(ISNA(Lists!$C12),\"\",IF((INDIRECT(\"'\"&Lists!$C12&\"'!\"&Lists!$D12&AS$14))=\"\",\"\",(INDIRECT(\"'\"&Lists!$C12&\"'!\"&Lists!$D12&AS$14))))","v":""}]
[null,{"$f":"IF(C35=\"\",\"\",Facility_Info_upload!$B$24)","v":""},{"$f":"IF(ISNA(Lists!$C13),\"\",IF(INDIRECT(\"'\"&Lists!$C13&\"'!\"&\"B\"&C$14)=\"\",\"\",(INDIRECT(\"'\"&Lists!$C13&\"'!\"&\"B\"&C$14))))","v":""},{"$f":"IF(ISNA(Lists!$C13),\"\",IF(INDIRECT(\"'\"&Lists!$C13&\"'!\"&\"B\"&D$14)=\"\",\"\",(INDIRECT(\"'\"&Lists!$C13&\"'!\"&\"B\"&D$14))))","v":""},{"$f":"IF(ISNA(Lists!$C13),\"\",IF(INDIRECT(\"'\"&Lists!$C13&\"'!\"&\"B\"&E$14)=\"\",\"\",(INDIRECT(\"'\"&Lists!$C13&\"'!\"&\"B\"&E$14))))","v":""},{"$f":"IF(ISNA(Lists!$C13),\"\",IF(INDIRECT(\"'\"&Lists!$C13&\"'!\"&\"B\"&F$14)=\"\",\"\",(INDIRECT(\"'\"&Lists!$C13&\"'!\"&\"B\"&F$14))))","v":""},{"$f":"IF(ISNA(Lists!$C13),\"\",IF(INDIRECT(\"'\"&Lists!$C13&\"'!\"&\"B\"&G$14)=\"\",\"\",(INDIRECT(\"'\"&Lists!$C13&\"'!\"&\"B\"&G$14))))","v":""},{"$f":"IF(ISNA(Lists!$C13),\"\",IF((INDIRECT(\"'\"&Lists!$C13&\"'!\"&Lists!$D13&H$14))=\"\",\"\",(INDIRECT(\"'\"&Lists!$C13&\"'!\"&Lists!$D13&H$14))))","v":""},{"$f":"IF(ISNA(Lists!$C13),\"\",IF((INDIRECT(\"'\"&Lists!$C13&\"'!\"&Lists!$D13&I$14))=\"\",\"\",(INDIRECT(\"'\"&Lists!$C13&\"'!\"&Lists!$D13&I$14))))","v":""},{"$f":"IF(ISNA(Lists!$C13),\"\",IF((INDIRECT(\"'\"&Lists!$C13&\"'!\"&Lists!$D13&J$14))=\"\",\"\",(INDIRECT(\"'\"&Lists!$C13&\"'!\"&Lists!$D13&J$14))))","v":""},{"$f":"IF(ISNA(Lists!$C13),\"\",IF((INDIRECT(\"'\"&Lists!$C13&\"'!\"&Lists!$D13&K$14))=\"\",\"\",(INDIRECT(\"'\"&Lists!$C13&\"'!\"&Lists!$D13&K$14))))","v":""},{"$f":"IF(ISNA(Lists!$C13),\"\",IF((INDIRECT(\"'\"&Lists!$C13&\"'!\"&Lists!$D13&L$14))=\"\",\"\",(INDIRECT(\"'\"&Lists!$C13&\"'!\"&Lists!$D13&L$14))))","v":""},{"$f":"IF(ISNA(Lists!$C13),\"\",IF((INDIRECT(\"'\"&Lists!$C13&\"'!\"&Lists!$D13&M$14))=\"\",\"\",(INDIRECT(\"'\"&Lists!$C13&\"'!\"&Lists!$D13&M$14))))","v":""},{"$f":"IF(ISNA(Lists!$C13),\"\",IF((INDIRECT(\"'\"&Lists!$C13&\"'!\"&Lists!$D13&N$14))=\"\",\"\",(INDIRECT(\"'\"&Lists!$C13&\"'!\"&Lists!$D13&N$14))))","v":""},{"$f":"IF(ISNA(Lists!$C13),\"\",IF((INDIRECT(\"'\"&Lists!$C13&\"'!\"&Lists!$D13&O$14))=\"\",\"\",(INDIRECT(\"'\"&Lists!$C13&\"'!\"&Lists!$D13&O$14))))","v":""},{"$f":"IF(ISNA(Lists!$C13),\"\",IF((INDIRECT(\"'\"&Lists!$C13&\"'!\"&Lists!$D13&P$14))=\"\",\"\",(INDIRECT(\"'\"&Lists!$C13&\"'!\"&Lists!$D13&P$14))))","v":""},{"$f":"IF(ISNA(Lists!$C13),\"\",IF((INDIRECT(\"'\"&Lists!$C13&\"'!\"&Lists!$D13&Q$14))=\"\",\"\",(INDIRECT(\"'\"&Lists!$C13&\"'!\"&Lists!$D13&Q$14))))","v":""},{"$f":"IF(ISNA(Lists!$C13),\"\",IF((INDIRECT(\"'\"&Lists!$C13&\"'!\"&Lists!$D13&R$14))=\"\",\"\",(INDIRECT(\"'\"&Lists!$C13&\"'!\"&Lists!$D13&R$14))))","v":""},{"$f":"IF(ISNA(Lists!$C13),\"\",IF((INDIRECT(\"'\"&Lists!$C13&\"'!\"&Lists!$D13&S$14))=\"\",\"\",(INDIRECT(\"'\"&Lists!$C13&\"'!\"&Lists!$D13&S$14))))","v":""},{"$f":"IF(ISNA(Lists!$C13),\"\",IF((INDIRECT(\"'\"&Lists!$C13&\"'!\"&Lists!$D13&T$14))=\"\",\"\",(INDIRECT(\"'\"&Lists!$C13&\"'!\"&Lists!$D13&T$14))))","v":""},{"$f":"IF(ISNA(Lists!$C13),\"\",IF((INDIRECT(\"'\"&Lists!$C13&\"'!\"&Lists!$D13&U$14))=\"\",\"\",(INDIRECT(\"'\"&Lists!$C13&\"'!\"&Lists!$D13&U$14))))","v":""},{"$f":"IF(ISNA(Lists!$C13),\"\",IF((INDIRECT(\"'\"&Lists!$C13&\"'!\"&Lists!$E13&V$14))=\"\",\"\",(INDIRECT(\"'\"&Lists!$C13&\"'!\"&Lists!$E13&V$14))))","v":""},{"$f":"IF(ISNA(Lists!$C13),\"\",IF((INDIRECT(\"'\"&Lists!$C13&\"'!\"&Lists!$E13&W$14))=\"\",\"\",(INDIRECT(\"'\"&Lists!$C13&\"'!\"&Lists!$E13&W$14))))","v":""},{"$f":"IF(ISNA(Lists!$C13),\"\",IF((INDIRECT(\"'\"&Lists!$C13&\"'!\"&Lists!$E13&X$14))=\"\",\"\",(INDIRECT(\"'\"&Lists!$C13&\"'!\"&Lists!$E13&X$14))))","v":""},{"$f":"IF(ISNA(Lists!$C13),\"\",IF((INDIRECT(\"'\"&Lists!$C13&\"'!\"&Lists!$E13&Y$14))=\"\",\"\",(INDIRECT(\"'\"&Lists!$C13&\"'!\"&Lists!$E13&Y$14))))","v":""},{"$f":"IF(ISNA(Lists!$C13),\"\",IF((INDIRECT(\"'\"&Lists!$C13&\"'!\"&Lists!$E13&Z$14))=\"\",\"\",(INDIRECT(\"'\"&Lists!$C13&\"'!\"&Lists!$E13&Z$14))))","v":""},{"$f":"IF(ISNA(Lists!$C13),\"\",IF((INDIRECT(\"'\"&Lists!$C13&\"'!\"&Lists!$E13&AA$14))=\"\",\"\",(INDIRECT(\"'\"&Lists!$C13&\"'!\"&Lists!$E13&AA$14))))","v":""},{"$f":"IF(ISNA(Lists!$C13),\"\",IF((INDIRECT(\"'\"&Lists!$C13&\"'!\"&Lists!$E13&AB$14))=\"\",\"\",(INDIRECT(\"'\"&Lists!$C13&\"'!\"&Lists!$E13&AB$14))))","v":""},{"$f":"IF(ISNA(Lists!$C13),\"\",IF((INDIRECT(\"'\"&Lists!$C13&\"'!\"&Lists!$E13&AC$14))=\"\",\"\",(INDIRECT(\"'\"&Lists!$C13&\"'!\"&Lists!$E13&AC$14))))","v":""},{"$f":"IF(ISNA(Lists!$C13),\"\",IF((INDIRECT(\"'\"&Lists!$C13&\"'!\"&Lists!$E13&AD$14))=\"\",\"\",(INDIRECT(\"'\"&Lists!$C13&\"'!\"&Lists!$E13&AD$14))))","v":""},{"$f":"IF(ISNA(Lists!$C13),\"\",IF((INDIRECT(\"'\"&Lists!$C13&\"'!\"&Lists!$E13&AE$14))=\"\",\"\",(INDIRECT(\"'\"&Lists!$C13&\"'!\"&Lists!$E13&AE$14))))","v":""},{"$f":"IF(ISNA(Lists!$C13),\"\",IF((INDIRECT(\"'\"&Lists!$C13&\"'!\"&Lists!$E13&AF$14))=\"\",\"\",(INDIRECT(\"'\"&Lists!$C13&\"'!\"&Lists!$E13&AF$14))))","v":""},{"$f":"IF(ISNA(Lists!$C13),\"\",IF((INDIRECT(\"'\"&Lists!$C13&\"'!\"&Lists!$E13&AG$14))=\"\",\"\",(INDIRECT(\"'\"&Lists!$C13&\"'!\"&Lists!$E13&AG$14))))","v":""},{"$f":"IF(ISNA(Lists!$C13),\"\",IF((INDIRECT(\"'\"&Lists!$C13&\"'!\"&Lists!$E13&AH$14))=\"\",\"\",(INDIRECT(\"'\"&Lists!$C13&\"'!\"&Lists!$E13&AH$14))))","v":""},{"$f":"IF(ISNA(Lists!$C13),\"\",IF((INDIRECT(\"'\"&Lists!$C13&\"'!\"&Lists!$E13&AI$14))=\"\",\"\",(INDIRECT(\"'\"&Lists!$C13&\"'!\"&Lists!$E13&AI$14))))","v":""},{"$f":"IF(ISNA(Lists!$C13),\"\",IF((INDIRECT(\"'\"&Lists!$C13&\"'!\"&Lists!$D13&AJ$14))=\"\",\"\",(INDIRECT(\"'\"&Lists!$C13&\"'!\"&Lists!$D13&AJ$14))))","v":""},{"$f":"IF(ISNA(Lists!$C13),\"\",IF((INDIRECT(\"'\"&Lists!$C13&\"'!\"&Lists!$D13&AK$14))=\"\",\"\",(INDIRECT(\"'\"&Lists!$C13&\"'!\"&Lists!$D13&AK$14))))","v":""},{"$f":"IF(ISNA(Lists!$C13),\"\",IF((INDIRECT(\"'\"&Lists!$C13&\"'!\"&Lists!$D13&AL$14))=\"\",\"\",(INDIRECT(\"'\"&Lists!$C13&\"'!\"&Lists!$D13&AL$14))))","v":""},{"$f":"IF(ISNA(Lists!$C13),\"\",IF((INDIRECT(\"'\"&Lists!$C13&\"'!\"&Lists!$D13&AM$14))=\"\",\"\",(INDIRECT(\"'\"&Lists!$C13&\"'!\"&Lists!$D13&AM$14))))","v":""},{"$f":"IF(ISNA(Lists!$C13),\"\",IF((INDIRECT(\"'\"&Lists!$C13&\"'!\"&Lists!$D13&AN$14))=\"\",\"\",(INDIRECT(\"'\"&Lists!$C13&\"'!\"&Lists!$D13&AN$14))))","v":""},{"$f":"IF(ISNA(Lists!$C13),\"\",IF((INDIRECT(\"'\"&Lists!$C13&\"'!\"&Lists!$D13&AO$14))=\"\",\"\",(INDIRECT(\"'\"&Lists!$C13&\"'!\"&Lists!$D13&AO$14))))","v":""},{"$f":"IF(ISNA(Lists!$C13),\"\",IF((INDIRECT(\"'\"&Lists!$C13&\"'!\"&Lists!$D13&AP$14))=\"\",\"\",(INDIRECT(\"'\"&Lists!$C13&\"'!\"&Lists!$D13&AP$14))))","v":""},{"$f":"IF(ISNA(Lists!$C13),\"\",IF((INDIRECT(\"'\"&Lists!$C13&\"'!\"&Lists!$D13&AQ$14))=\"\",\"\",(INDIRECT(\"'\"&Lists!$C13&\"'!\"&Lists!$D13&AQ$14))))","v":""},{"$f":"IF(ISNA(Lists!$C13),\"\",IF((INDIRECT(\"'\"&Lists!$C13&\"'!\"&Lists!$D13&AR$14))=\"\",\"\",(INDIRECT(\"'\"&Lists!$C13&\"'!\"&Lists!$D13&AR$14))))","v":""},{"$f":"IF(ISNA(Lists!$C13),\"\",IF((INDIRECT(\"'\"&Lists!$C13&\"'!\"&Lists!$D13&AS$14))=\"\",\"\",(INDIRECT(\"'\"&Lists!$C13&\"'!\"&Lists!$D13&AS$14))))","v":""}]
[null,{"$f":"IF(C36=\"\",\"\",Facility_Info_upload!$B$24)","v":""},{"$f":"IF(ISNA(Lists!$C14),\"\",IF(INDIRECT(\"'\"&Lists!$C14&\"'!\"&\"B\"&C$14)=\"\",\"\",(INDIRECT(\"'\"&Lists!$C14&\"'!\"&\"B\"&C$14))))","v":""},{"$f":"IF(ISNA(Lists!$C14),\"\",IF(INDIRECT(\"'\"&Lists!$C14&\"'!\"&\"B\"&D$14)=\"\",\"\",(INDIRECT(\"'\"&Lists!$C14&\"'!\"&\"B\"&D$14))))","v":""},{"$f":"IF(ISNA(Lists!$C14),\"\",IF(INDIRECT(\"'\"&Lists!$C14&\"'!\"&\"B\"&E$14)=\"\",\"\",(INDIRECT(\"'\"&Lists!$C14&\"'!\"&\"B\"&E$14))))","v":""},{"$f":"IF(ISNA(Lists!$C14),\"\",IF(INDIRECT(\"'\"&Lists!$C14&\"'!\"&\"B\"&F$14)=\"\",\"\",(INDIRECT(\"'\"&Lists!$C14&\"'!\"&\"B\"&F$14))))","v":""},{"$f":"IF(ISNA(Lists!$C14),\"\",IF(INDIRECT(\"'\"&Lists!$C14&\"'!\"&\"B\"&G$14)=\"\",\"\",(INDIRECT(\"'\"&Lists!$C14&\"'!\"&\"B\"&G$14))))","v":""},{"$f":"IF(ISNA(Lists!$C14),\"\",IF((INDIRECT(\"'\"&Lists!$C14&\"'!\"&Lists!$D14&H$14))=\"\",\"\",(INDIRECT(\"'\"&Lists!$C14&\"'!\"&Lists!$D14&H$14))))","v":""},{"$f":"IF(ISNA(Lists!$C14),\"\",IF((INDIRECT(\"'\"&Lists!$C14&\"'!\"&Lists!$D14&I$14))=\"\",\"\",(INDIRECT(\"'\"&Lists!$C14&\"'!\"&Lists!$D14&I$14))))","v":""},{"$f":"IF(ISNA(Lists!$C14),\"\",IF((INDIRECT(\"'\"&Lists!$C14&\"'!\"&Lists!$D14&J$14))=\"\",\"\",(INDIRECT(\"'\"&Lists!$C14&\"'!\"&Lists!$D14&J$14))))","v":""},{"$f":"IF(ISNA(Lists!$C14),\"\",IF((INDIRECT(\"'\"&Lists!$C14&\"'!\"&Lists!$D14&K$14))=\"\",\"\",(INDIRECT(\"'\"&Lists!$C14&\"'!\"&Lists!$D14&K$14))))","v":""},{"$f":"IF(ISNA(Lists!$C14),\"\",IF((INDIRECT(\"'\"&Lists!$C14&\"'!\"&Lists!$D14&L$14))=\"\",\"\",(INDIRECT(\"'\"&Lists!$C14&\"'!\"&Lists!$D14&L$14))))","v":""},{"$f":"IF(ISNA(Lists!$C14),\"\",IF((INDIRECT(\"'\"&Lists!$C14&\"'!\"&Lists!$D14&M$14))=\"\",\"\",(INDIRECT(\"'\"&Lists!$C14&\"'!\"&Lists!$D14&M$14))))","v":""},{"$f":"IF(ISNA(Lists!$C14),\"\",IF((INDIRECT(\"'\"&Lists!$C14&\"'!\"&Lists!$D14&N$14))=\"\",\"\",(INDIRECT(\"'\"&Lists!$C14&\"'!\"&Lists!$D14&N$14))))","v":""},{"$f":"IF(ISNA(Lists!$C14),\"\",IF((INDIRECT(\"'\"&Lists!$C14&\"'!\"&Lists!$D14&O$14))=\"\",\"\",(INDIRECT(\"'\"&Lists!$C14&\"'!\"&Lists!$D14&O$14))))","v":""},{"$f":"IF(ISNA(Lists!$C14),\"\",IF((INDIRECT(\"'\"&Lists!$C14&\"'!\"&Lists!$D14&P$14))=\"\",\"\",(INDIRECT(\"'\"&Lists!$C14&\"'!\"&Lists!$D14&P$14))))","v":""},{"$f":"IF(ISNA(Lists!$C14),\"\",IF((INDIRECT(\"'\"&Lists!$C14&\"'!\"&Lists!$D14&Q$14))=\"\",\"\",(INDIRECT(\"'\"&Lists!$C14&\"'!\"&Lists!$D14&Q$14))))","v":""},{"$f":"IF(ISNA(Lists!$C14),\"\",IF((INDIRECT(\"'\"&Lists!$C14&\"'!\"&Lists!$D14&R$14))=\"\",\"\",(INDIRECT(\"'\"&Lists!$C14&\"'!\"&Lists!$D14&R$14))))","v":""},{"$f":"IF(ISNA(Lists!$C14),\"\",IF((INDIRECT(\"'\"&Lists!$C14&\"'!\"&Lists!$D14&S$14))=\"\",\"\",(INDIRECT(\"'\"&Lists!$C14&\"'!\"&Lists!$D14&S$14))))","v":""},{"$f":"IF(ISNA(Lists!$C14),\"\",IF((INDIRECT(\"'\"&Lists!$C14&\"'!\"&Lists!$D14&T$14))=\"\",\"\",(INDIRECT(\"'\"&Lists!$C14&\"'!\"&Lists!$D14&T$14))))","v":""},{"$f":"IF(ISNA(Lists!$C14),\"\",IF((INDIRECT(\"'\"&Lists!$C14&\"'!\"&Lists!$D14&U$14))=\"\",\"\",(INDIRECT(\"'\"&Lists!$C14&\"'!\"&Lists!$D14&U$14))))","v":""},{"$f":"IF(ISNA(Lists!$C14),\"\",IF((INDIRECT(\"'\"&Lists!$C14&\"'!\"&Lists!$E14&V$14))=\"\",\"\",(INDIRECT(\"'\"&Lists!$C14&\"'!\"&Lists!$E14&V$14))))","v":""},{"$f":"IF(ISNA(Lists!$C14),\"\",IF((INDIRECT(\"'\"&Lists!$C14&\"'!\"&Lists!$E14&W$14))=\"\",\"\",(INDIRECT(\"'\"&Lists!$C14&\"'!\"&Lists!$E14&W$14))))","v":""},{"$f":"IF(ISNA(Lists!$C14),\"\",IF((INDIRECT(\"'\"&Lists!$C14&\"'!\"&Lists!$E14&X$14))=\"\",\"\",(INDIRECT(\"'\"&Lists!$C14&\"'!\"&Lists!$E14&X$14))))","v":""},{"$f":"IF(ISNA(Lists!$C14),\"\",IF((INDIRECT(\"'\"&Lists!$C14&\"'!\"&Lists!$E14&Y$14))=\"\",\"\",(INDIRECT(\"'\"&Lists!$C14&\"'!\"&Lists!$E14&Y$14))))","v":""},{"$f":"IF(ISNA(Lists!$C14),\"\",IF((INDIRECT(\"'\"&Lists!$C14&\"'!\"&Lists!$E14&Z$14))=\"\",\"\",(INDIRECT(\"'\"&Lists!$C14&\"'!\"&Lists!$E14&Z$14))))","v":""},{"$f":"IF(ISNA(Lists!$C14),\"\",IF((INDIRECT(\"'\"&Lists!$C14&\"'!\"&Lists!$E14&AA$14))=\"\",\"\",(INDIRECT(\"'\"&Lists!$C14&\"'!\"&Lists!$E14&AA$14))))","v":""},{"$f":"IF(ISNA(Lists!$C14),\"\",IF((INDIRECT(\"'\"&Lists!$C14&\"'!\"&Lists!$E14&AB$14))=\"\",\"\",(INDIRECT(\"'\"&Lists!$C14&\"'!\"&Lists!$E14&AB$14))))","v":""},{"$f":"IF(ISNA(Lists!$C14),\"\",IF((INDIRECT(\"'\"&Lists!$C14&\"'!\"&Lists!$E14&AC$14))=\"\",\"\",(INDIRECT(\"'\"&Lists!$C14&\"'!\"&Lists!$E14&AC$14))))","v":""},{"$f":"IF(ISNA(Lists!$C14),\"\",IF((INDIRECT(\"'\"&Lists!$C14&\"'!\"&Lists!$E14&AD$14))=\"\",\"\",(INDIRECT(\"'\"&Lists!$C14&\"'!\"&Lists!$E14&AD$14))))","v":""},{"$f":"IF(ISNA(Lists!$C14),\"\",IF((INDIRECT(\"'\"&Lists!$C14&\"'!\"&Lists!$E14&AE$14))=\"\",\"\",(INDIRECT(\"'\"&Lists!$C14&\"'!\"&Lists!$E14&AE$14))))","v":""},{"$f":"IF(ISNA(Lists!$C14),\"\",IF((INDIRECT(\"'\"&Lists!$C14&\"'!\"&Lists!$E14&AF$14))=\"\",\"\",(INDIRECT(\"'\"&Lists!$C14&\"'!\"&Lists!$E14&AF$14))))","v":""},{"$f":"IF(ISNA(Lists!$C14),\"\",IF((INDIRECT(\"'\"&Lists!$C14&\"'!\"&Lists!$E14&AG$14))=\"\",\"\",(INDIRECT(\"'\"&Lists!$C14&\"'!\"&Lists!$E14&AG$14))))","v":""},{"$f":"IF(ISNA(Lists!$C14),\"\",IF((INDIRECT(\"'\"&Lists!$C14&\"'!\"&Lists!$E14&AH$14))=\"\",\"\",(INDIRECT(\"'\"&Lists!$C14&\"'!\"&Lists!$E14&AH$14))))","v":""},{"$f":"IF(ISNA(Lists!$C14),\"\",IF((INDIRECT(\"'\"&Lists!$C14&\"'!\"&Lists!$E14&AI$14))=\"\",\"\",(INDIRECT(\"'\"&Lists!$C14&\"'!\"&Lists!$E14&AI$14))))","v":""},{"$f":"IF(ISNA(Lists!$C14),\"\",IF((INDIRECT(\"'\"&Lists!$C14&\"'!\"&Lists!$D14&AJ$14))=\"\",\"\",(INDIRECT(\"'\"&Lists!$C14&\"'!\"&Lists!$D14&AJ$14))))","v":""},{"$f":"IF(ISNA(Lists!$C14),\"\",IF((INDIRECT(\"'\"&Lists!$C14&\"'!\"&Lists!$D14&AK$14))=\"\",\"\",(INDIRECT(\"'\"&Lists!$C14&\"'!\"&Lists!$D14&AK$14))))","v":""},{"$f":"IF(ISNA(Lists!$C14),\"\",IF((INDIRECT(\"'\"&Lists!$C14&\"'!\"&Lists!$D14&AL$14))=\"\",\"\",(INDIRECT(\"'\"&Lists!$C14&\"'!\"&Lists!$D14&AL$14))))","v":""},{"$f":"IF(ISNA(Lists!$C14),\"\",IF((INDIRECT(\"'\"&Lists!$C14&\"'!\"&Lists!$D14&AM$14))=\"\",\"\",(INDIRECT(\"'\"&Lists!$C14&\"'!\"&Lists!$D14&AM$14))))","v":""},{"$f":"IF(ISNA(Lists!$C14),\"\",IF((INDIRECT(\"'\"&Lists!$C14&\"'!\"&Lists!$D14&AN$14))=\"\",\"\",(INDIRECT(\"'\"&Lists!$C14&\"'!\"&Lists!$D14&AN$14))))","v":""},{"$f":"IF(ISNA(Lists!$C14),\"\",IF((INDIRECT(\"'\"&Lists!$C14&\"'!\"&Lists!$D14&AO$14))=\"\",\"\",(INDIRECT(\"'\"&Lists!$C14&\"'!\"&Lists!$D14&AO$14))))","v":""},{"$f":"IF(ISNA(Lists!$C14),\"\",IF((INDIRECT(\"'\"&Lists!$C14&\"'!\"&Lists!$D14&AP$14))=\"\",\"\",(INDIRECT(\"'\"&Lists!$C14&\"'!\"&Lists!$D14&AP$14))))","v":""},{"$f":"IF(ISNA(Lists!$C14),\"\",IF((INDIRECT(\"'\"&Lists!$C14&\"'!\"&Lists!$D14&AQ$14))=\"\",\"\",(INDIRECT(\"'\"&Lists!$C14&\"'!\"&Lists!$D14&AQ$14))))","v":""},{"$f":"IF(ISNA(Lists!$C14),\"\",IF((INDIRECT(\"'\"&Lists!$C14&\"'!\"&Lists!$D14&AR$14))=\"\",\"\",(INDIRECT(\"'\"&Lists!$C14&\"'!\"&Lists!$D14&AR$14))))","v":""},{"$f":"IF(ISNA(Lists!$C14),\"\",IF((INDIRECT(\"'\"&Lists!$C14&\"'!\"&Lists!$D14&AS$14))=\"\",\"\",(INDIRECT(\"'\"&Lists!$C14&\"'!\"&Lists!$D14&AS$14))))","v":""}]
[null,{"$f":"IF(C37=\"\",\"\",Facility_Info_upload!$B$24)","v":""},{"$f":"IF(ISNA(Lists!$C15),\"\",IF(INDIRECT(\"'\"&Lists!$C15&\"'!\"&\"B\"&C$14)=\"\",\"\",(INDIRECT(\"'\"&Lists!$C15&\"'!\"&\"B\"&C$14))))","v":""},{"$f":"IF(ISNA(Lists!$C15),\"\",IF(INDIRECT(\"'\"&Lists!$C15&\"'!\"&\"B\"&D$14)=\"\",\"\",(INDIRECT(\"'\"&Lists!$C15&\"'!\"&\"B\"&D$14))))","v":""},{"$f":"IF(ISNA(Lists!$C15),\"\",IF(INDIRECT(\"'\"&Lists!$C15&\"'!\"&\"B\"&E$14)=\"\",\"\",(INDIRECT(\"'\"&Lists!$C15&\"'!\"&\"B\"&E$14))))","v":""},{"$f":"IF(ISNA(Lists!$C15),\"\",IF(INDIRECT(\"'\"&Lists!$C15&\"'!\"&\"B\"&F$14)=\"\",\"\",(INDIRECT(\"'\"&Lists!$C15&\"'!\"&\"B\"&F$14))))","v":""},{"$f":"IF(ISNA(Lists!$C15),\"\",IF(INDIRECT(\"'\"&Lists!$C15&\"'!\"&\"B\"&G$14)=\"\",\"\",(INDIRECT(\"'\"&Lists!$C15&\"'!\"&\"B\"&G$14))))","v":""},{"$f":"IF(ISNA(Lists!$C15),\"\",IF((INDIRECT(\"'\"&Lists!$C15&\"'!\"&Lists!$D15&H$14))=\"\",\"\",(INDIRECT(\"'\"&Lists!$C15&\"'!\"&Lists!$D15&H$14))))","v":""},{"$f":"IF(ISNA(Lists!$C15),\"\",IF((INDIRECT(\"'\"&Lists!$C15&\"'!\"&Lists!$D15&I$14))=\"\",\"\",(INDIRECT(\"'\"&Lists!$C15&\"'!\"&Lists!$D15&I$14))))","v":""},{"$f":"IF(ISNA(Lists!$C15),\"\",IF((INDIRECT(\"'\"&Lists!$C15&\"'!\"&Lists!$D15&J$14))=\"\",\"\",(INDIRECT(\"'\"&Lists!$C15&\"'!\"&Lists!$D15&J$14))))","v":""},{"$f":"IF(ISNA(Lists!$C15),\"\",IF((INDIRECT(\"'\"&Lists!$C15&\"'!\"&Lists!$D15&K$14))=\"\",\"\",(INDIRECT(\"'\"&Lists!$C15&\"'!\"&Lists!$D15&K$14))))","v":""},{"$f":"IF(ISNA(Lists!$C15),\"\",IF((INDIRECT(\"'\"&Lists!$C15&\"'!\"&Lists!$D15&L$14))=\"\",\"\",(INDIRECT(\"'\"&Lists!$C15&\"'!\"&Lists!$D15&L$14))))","v":""},{"$f":"IF(ISNA(Lists!$C15),\"\",IF((INDIRECT(\"'\"&Lists!$C15&\"'!\"&Lists!$D15&M$14))=\"\",\"\",(INDIRECT(\"'\"&Lists!$C15&\"'!\"&Lists!$D15&M$14))))","v":""},{"$f":"IF(ISNA(Lists!$C15),\"\",IF((INDIRECT(\"'\"&Lists!$C15&\"'!\"&Lists!$D15&N$14))=\"\",\"\",(INDIRECT(\"'\"&Lists!$C15&\"'!\"&Lists!$D15&N$14))))","v":""},{"$f":"IF(ISNA(Lists!$C15),\"\",IF((INDIRECT(\"'\"&Lists!$C15&\"'!\"&Lists!$D15&O$14))=\"\",\"\",(INDIRECT(\"'\"&Lists!$C15&\"'!\"&Lists!$D15&O$14))))","v":""},{"$f":"IF(ISNA(Lists!$C15),\"\",IF((INDIRECT(\"'\"&Lists!$C15&\"'!\"&Lists!$D15&P$14))=\"\",\"\",(INDIRECT(\"'\"&Lists!$C15&\"'!\"&Lists!$D15&P$14))))","v":""},{"$f":"IF(ISNA(Lists!$C15),\"\",IF((INDIRECT(\"'\"&Lists!$C15&\"'!\"&Lists!$D15&Q$14))=\"\",\"\",(INDIRECT(\"'\"&Lists!$C15&\"'!\"&Lists!$D15&Q$14))))","v":""},{"$f":"IF(ISNA(Lists!$C15),\"\",IF((INDIRECT(\"'\"&Lists!$C15&\"'!\"&Lists!$D15&R$14))=\"\",\"\",(INDIRECT(\"'\"&Lists!$C15&\"'!\"&Lists!$D15&R$14))))","v":""},{"$f":"IF(ISNA(Lists!$C15),\"\",IF((INDIRECT(\"'\"&Lists!$C15&\"'!\"&Lists!$D15&S$14))=\"\",\"\",(INDIRECT(\"'\"&Lists!$C15&\"'!\"&Lists!$D15&S$14))))","v":""},{"$f":"IF(ISNA(Lists!$C15),\"\",IF((INDIRECT(\"'\"&Lists!$C15&\"'!\"&Lists!$D15&T$14))=\"\",\"\",(INDIRECT(\"'\"&Lists!$C15&\"'!\"&Lists!$D15&T$14))))","v":""},{"$f":"IF(ISNA(Lists!$C15),\"\",IF((INDIRECT(\"'\"&Lists!$C15&\"'!\"&Lists!$D15&U$14))=\"\",\"\",(INDIRECT(\"'\"&Lists!$C15&\"'!\"&Lists!$D15&U$14))))","v":""},{"$f":"IF(ISNA(Lists!$C15),\"\",IF((INDIRECT(\"'\"&Lists!$C15&\"'!\"&Lists!$E15&V$14))=\"\",\"\",(INDIRECT(\"'\"&Lists!$C15&\"'!\"&Lists!$E15&V$14))))","v":""},{"$f":"IF(ISNA(Lists!$C15),\"\",IF((INDIRECT(\"'\"&Lists!$C15&\"'!\"&Lists!$E15&W$14))=\"\",\"\",(INDIRECT(\"'\"&Lists!$C15&\"'!\"&Lists!$E15&W$14))))","v":""},{"$f":"IF(ISNA(Lists!$C15),\"\",IF((INDIRECT(\"'\"&Lists!$C15&\"'!\"&Lists!$E15&X$14))=\"\",\"\",(INDIRECT(\"'\"&Lists!$C15&\"'!\"&Lists!$E15&X$14))))","v":""},{"$f":"IF(ISNA(Lists!$C15),\"\",IF((INDIRECT(\"'\"&Lists!$C15&\"'!\"&Lists!$E15&Y$14))=\"\",\"\",(INDIRECT(\"'\"&Lists!$C15&\"'!\"&Lists!$E15&Y$14))))","v":""},{"$f":"IF(ISNA(Lists!$C15),\"\",IF((INDIRECT(\"'\"&Lists!$C15&\"'!\"&Lists!$E15&Z$14))=\"\",\"\",(INDIRECT(\"'\"&Lists!$C15&\"'!\"&Lists!$E15&Z$14))))","v":""},{"$f":"IF(ISNA(Lists!$C15),\"\",IF((INDIRECT(\"'\"&Lists!$C15&\"'!\"&Lists!$E15&AA$14))=\"\",\"\",(INDIRECT(\"'\"&Lists!$C15&\"'!\"&Lists!$E15&AA$14))))","v":""},{"$f":"IF(ISNA(Lists!$C15),\"\",IF((INDIRECT(\"'\"&Lists!$C15&\"'!\"&Lists!$E15&AB$14))=\"\",\"\",(INDIRECT(\"'\"&Lists!$C15&\"'!\"&Lists!$E15&AB$14))))","v":""},{"$f":"IF(ISNA(Lists!$C15),\"\",IF((INDIRECT(\"'\"&Lists!$C15&\"'!\"&Lists!$E15&AC$14))=\"\",\"\",(INDIRECT(\"'\"&Lists!$C15&\"'!\"&Lists!$E15&AC$14))))","v":""},{"$f":"IF(ISNA(Lists!$C15),\"\",IF((INDIRECT(\"'\"&Lists!$C15&\"'!\"&Lists!$E15&AD$14))=\"\",\"\",(INDIRECT(\"'\"&Lists!$C15&\"'!\"&Lists!$E15&AD$14))))","v":""},{"$f":"IF(ISNA(Lists!$C15),\"\",IF((INDIRECT(\"'\"&Lists!$C15&\"'!\"&Lists!$E15&AE$14))=\"\",\"\",(INDIRECT(\"'\"&Lists!$C15&\"'!\"&Lists!$E15&AE$14))))","v":""},{"$f":"IF(ISNA(Lists!$C15),\"\",IF((INDIRECT(\"'\"&Lists!$C15&\"'!\"&Lists!$E15&AF$14))=\"\",\"\",(INDIRECT(\"'\"&Lists!$C15&\"'!\"&Lists!$E15&AF$14))))","v":""},{"$f":"IF(ISNA(Lists!$C15),\"\",IF((INDIRECT(\"'\"&Lists!$C15&\"'!\"&Lists!$E15&AG$14))=\"\",\"\",(INDIRECT(\"'\"&Lists!$C15&\"'!\"&Lists!$E15&AG$14))))","v":""},{"$f":"IF(ISNA(Lists!$C15),\"\",IF((INDIRECT(\"'\"&Lists!$C15&\"'!\"&Lists!$E15&AH$14))=\"\",\"\",(INDIRECT(\"'\"&Lists!$C15&\"'!\"&Lists!$E15&AH$14))))","v":""},{"$f":"IF(ISNA(Lists!$C15),\"\",IF((INDIRECT(\"'\"&Lists!$C15&\"'!\"&Lists!$E15&AI$14))=\"\",\"\",(INDIRECT(\"'\"&Lists!$C15&\"'!\"&Lists!$E15&AI$14))))","v":""},{"$f":"IF(ISNA(Lists!$C15),\"\",IF((INDIRECT(\"'\"&Lists!$C15&\"'!\"&Lists!$D15&AJ$14))=\"\",\"\",(INDIRECT(\"'\"&Lists!$C15&\"'!\"&Lists!$D15&AJ$14))))","v":""},{"$f":"IF(ISNA(Lists!$C15),\"\",IF((INDIRECT(\"'\"&Lists!$C15&\"'!\"&Lists!$D15&AK$14))=\"\",\"\",(INDIRECT(\"'\"&Lists!$C15&\"'!\"&Lists!$D15&AK$14))))","v":""},{"$f":"IF(ISNA(Lists!$C15),\"\",IF((INDIRECT(\"'\"&Lists!$C15&\"'!\"&Lists!$D15&AL$14))=\"\",\"\",(INDIRECT(\"'\"&Lists!$C15&\"'!\"&Lists!$D15&AL$14))))","v":""},{"$f":"IF(ISNA(Lists!$C15),\"\",IF((INDIRECT(\"'\"&Lists!$C15&\"'!\"&Lists!$D15&AM$14))=\"\",\"\",(INDIRECT(\"'\"&Lists!$C15&\"'!\"&Lists!$D15&AM$14))))","v":""},{"$f":"IF(ISNA(Lists!$C15),\"\",IF((INDIRECT(\"'\"&Lists!$C15&\"'!\"&Lists!$D15&AN$14))=\"\",\"\",(INDIRECT(\"'\"&Lists!$C15&\"'!\"&Lists!$D15&AN$14))))","v":""},{"$f":"IF(ISNA(Lists!$C15),\"\",IF((INDIRECT(\"'\"&Lists!$C15&\"'!\"&Lists!$D15&AO$14))=\"\",\"\",(INDIRECT(\"'\"&Lists!$C15&\"'!\"&Lists!$D15&AO$14))))","v":""},{"$f":"IF(ISNA(Lists!$C15),\"\",IF((INDIRECT(\"'\"&Lists!$C15&\"'!\"&Lists!$D15&AP$14))=\"\",\"\",(INDIRECT(\"'\"&Lists!$C15&\"'!\"&Lists!$D15&AP$14))))","v":""},{"$f":"IF(ISNA(Lists!$C15),\"\",IF((INDIRECT(\"'\"&Lists!$C15&\"'!\"&Lists!$D15&AQ$14))=\"\",\"\",(INDIRECT(\"'\"&Lists!$C15&\"'!\"&Lists!$D15&AQ$14))))","v":""},{"$f":"IF(ISNA(Lists!$C15),\"\",IF((INDIRECT(\"'\"&Lists!$C15&\"'!\"&Lists!$D15&AR$14))=\"\",\"\",(INDIRECT(\"'\"&Lists!$C15&\"'!\"&Lists!$D15&AR$14))))","v":""},{"$f":"IF(ISNA(Lists!$C15),\"\",IF((INDIRECT(\"'\"&Lists!$C15&\"'!\"&Lists!$D15&AS$14))=\"\",\"\",(INDIRECT(\"'\"&Lists!$C15&\"'!\"&Lists!$D15&AS$14))))","v":""}]
[null,{"$f":"IF(C38=\"\",\"\",Facility_Info_upload!$B$24)","v":""},{"$f":"IF(ISNA(Lists!$C16),\"\",IF(INDIRECT(\"'\"&Lists!$C16&\"'!\"&\"B\"&C$14)=\"\",\"\",(INDIRECT(\"'\"&Lists!$C16&\"'!\"&\"B\"&C$14))))","v":""},{"$f":"IF(ISNA(Lists!$C16),\"\",IF(INDIRECT(\"'\"&Lists!$C16&\"'!\"&\"B\"&D$14)=\"\",\"\",(INDIRECT(\"'\"&Lists!$C16&\"'!\"&\"B\"&D$14))))","v":""},{"$f":"IF(ISNA(Lists!$C16),\"\",IF(INDIRECT(\"'\"&Lists!$C16&\"'!\"&\"B\"&E$14)=\"\",\"\",(INDIRECT(\"'\"&Lists!$C16&\"'!\"&\"B\"&E$14))))","v":""},{"$f":"IF(ISNA(Lists!$C16),\"\",IF(INDIRECT(\"'\"&Lists!$C16&\"'!\"&\"B\"&F$14)=\"\",\"\",(INDIRECT(\"'\"&Lists!$C16&\"'!\"&\"B\"&F$14))))","v":""},{"$f":"IF(ISNA(Lists!$C16),\"\",IF(INDIRECT(\"'\"&Lists!$C16&\"'!\"&\"B\"&G$14)=\"\",\"\",(INDIRECT(\"'\"&Lists!$C16&\"'!\"&\"B\"&G$14))))","v":""},{"$f":"IF(ISNA(Lists!$C16),\"\",IF((INDIRECT(\"'\"&Lists!$C16&\"'!\"&Lists!$D16&H$14))=\"\",\"\",(INDIRECT(\"'\"&Lists!$C16&\"'!\"&Lists!$D16&H$14))))","v":""},{"$f":"IF(ISNA(Lists!$C16),\"\",IF((INDIRECT(\"'\"&Lists!$C16&\"'!\"&Lists!$D16&I$14))=\"\",\"\",(INDIRECT(\"'\"&Lists!$C16&\"'!\"&Lists!$D16&I$14))))","v":""},{"$f":"IF(ISNA(Lists!$C16),\"\",IF((INDIRECT(\"'\"&Lists!$C16&\"'!\"&Lists!$D16&J$14))=\"\",\"\",(INDIRECT(\"'\"&Lists!$C16&\"'!\"&Lists!$D16&J$14))))","v":""},{"$f":"IF(ISNA(Lists!$C16),\"\",IF((INDIRECT(\"'\"&Lists!$C16&\"'!\"&Lists!$D16&K$14))=\"\",\"\",(INDIRECT(\"'\"&Lists!$C16&\"'!\"&Lists!$D16&K$14))))","v":""},{"$f":"IF(ISNA(Lists!$C16),\"\",IF((INDIRECT(\"'\"&Lists!$C16&\"'!\"&Lists!$D16&L$14))=\"\",\"\",(INDIRECT(\"'\"&Lists!$C16&\"'!\"&Lists!$D16&L$14))))","v":""},{"$f":"IF(ISNA(Lists!$C16),\"\",IF((INDIRECT(\"'\"&Lists!$C16&\"'!\"&Lists!$D16&M$14))=\"\",\"\",(INDIRECT(\"'\"&Lists!$C16&\"'!\"&Lists!$D16&M$14))))","v":""},{"$f":"IF(ISNA(Lists!$C16),\"\",IF((INDIRECT(\"'\"&Lists!$C16&\"'!\"&Lists!$D16&N$14))=\"\",\"\",(INDIRECT(\"'\"&Lists!$C16&\"'!\"&Lists!$D16&N$14))))","v":""},{"$f":"IF(ISNA(Lists!$C16),\"\",IF((INDIRECT(\"'\"&Lists!$C16&\"'!\"&Lists!$D16&O$14))=\"\",\"\",(INDIRECT(\"'\"&Lists!$C16&\"'!\"&Lists!$D16&O$14))))","v":""},{"$f":"IF(ISNA(Lists!$C16),\"\",IF((INDIRECT(\"'\"&Lists!$C16&\"'!\"&Lists!$D16&P$14))=\"\",\"\",(INDIRECT(\"'\"&Lists!$C16&\"'!\"&Lists!$D16&P$14))))","v":""},{"$f":"IF(ISNA(Lists!$C16),\"\",IF((INDIRECT(\"'\"&Lists!$C16&\"'!\"&Lists!$D16&Q$14))=\"\",\"\",(INDIRECT(\"'\"&Lists!$C16&\"'!\"&Lists!$D16&Q$14))))","v":""},{"$f":"IF(ISNA(Lists!$C16),\"\",IF((INDIRECT(\"'\"&Lists!$C16&\"'!\"&Lists!$D16&R$14))=\"\",\"\",(INDIRECT(\"'\"&Lists!$C16&\"'!\"&Lists!$D16&R$14))))","v":""},{"$f":"IF(ISNA(Lists!$C16),\"\",IF((INDIRECT(\"'\"&Lists!$C16&\"'!\"&Lists!$D16&S$14))=\"\",\"\",(INDIRECT(\"'\"&Lists!$C16&\"'!\"&Lists!$D16&S$14))))","v":""},{"$f":"IF(ISNA(Lists!$C16),\"\",IF((INDIRECT(\"'\"&Lists!$C16&\"'!\"&Lists!$D16&T$14))=\"\",\"\",(INDIRECT(\"'\"&Lists!$C16&\"'!\"&Lists!$D16&T$14))))","v":""},{"$f":"IF(ISNA(Lists!$C16),\"\",IF((INDIRECT(\"'\"&Lists!$C16&\"'!\"&Lists!$D16&U$14))=\"\",\"\",(INDIRECT(\"'\"&Lists!$C16&\"'!\"&Lists!$D16&U$14))))","v":""},{"$f":"IF(ISNA(Lists!$C16),\"\",IF((INDIRECT(\"'\"&Lists!$C16&\"'!\"&Lists!$E16&V$14))=\"\",\"\",(INDIRECT(\"'\"&Lists!$C16&\"'!\"&Lists!$E16&V$14))))","v":""},{"$f":"IF(ISNA(Lists!$C16),\"\",IF((INDIRECT(\"'\"&Lists!$C16&\"'!\"&Lists!$E16&W$14))=\"\",\"\",(INDIRECT(\"'\"&Lists!$C16&\"'!\"&Lists!$E16&W$14))))","v":""},{"$f":"IF(ISNA(Lists!$C16),\"\",IF((INDIRECT(\"'\"&Lists!$C16&\"'!\"&Lists!$E16&X$14))=\"\",\"\",(INDIRECT(\"'\"&Lists!$C16&\"'!\"&Lists!$E16&X$14))))","v":""},{"$f":"IF(ISNA(Lists!$C16),\"\",IF((INDIRECT(\"'\"&Lists!$C16&\"'!\"&Lists!$E16&Y$14))=\"\",\"\",(INDIRECT(\"'\"&Lists!$C16&\"'!\"&Lists!$E16&Y$14))))","v":""},{"$f":"IF(ISNA(Lists!$C16),\"\",IF((INDIRECT(\"'\"&Lists!$C16&\"'!\"&Lists!$E16&Z$14))=\"\",\"\",(INDIRECT(\"'\"&Lists!$C16&\"'!\"&Lists!$E16&Z$14))))","v":""},{"$f":"IF(ISNA(Lists!$C16),\"\",IF((INDIRECT(\"'\"&Lists!$C16&\"'!\"&Lists!$E16&AA$14))=\"\",\"\",(INDIRECT(\"'\"&Lists!$C16&\"'!\"&Lists!$E16&AA$14))))","v":""},{"$f":"IF(ISNA(Lists!$C16),\"\",IF((INDIRECT(\"'\"&Lists!$C16&\"'!\"&Lists!$E16&AB$14))=\"\",\"\",(INDIRECT(\"'\"&Lists!$C16&\"'!\"&Lists!$E16&AB$14))))","v":""},{"$f":"IF(ISNA(Lists!$C16),\"\",IF((INDIRECT(\"'\"&Lists!$C16&\"'!\"&Lists!$E16&AC$14))=\"\",\"\",(INDIRECT(\"'\"&Lists!$C16&\"'!\"&Lists!$E16&AC$14))))","v":""},{"$f":"IF(ISNA(Lists!$C16),\"\",IF((INDIRECT(\"'\"&Lists!$C16&\"'!\"&Lists!$E16&AD$14))=\"\",\"\",(INDIRECT(\"'\"&Lists!$C16&\"'!\"&Lists!$E16&AD$14))))","v":""},{"$f":"IF(ISNA(Lists!$C16),\"\",IF((INDIRECT(\"'\"&Lists!$C16&\"'!\"&Lists!$E16&AE$14))=\"\",\"\",(INDIRECT(\"'\"&Lists!$C16&\"'!\"&Lists!$E16&AE$14))))","v":""},{"$f":"IF(ISNA(Lists!$C16),\"\",IF((INDIRECT(\"'\"&Lists!$C16&\"'!\"&Lists!$E16&AF$14))=\"\",\"\",(INDIRECT(\"'\"&Lists!$C16&\"'!\"&Lists!$E16&AF$14))))","v":""},{"$f":"IF(ISNA(Lists!$C16),\"\",IF((INDIRECT(\"'\"&Lists!$C16&\"'!\"&Lists!$E16&AG$14))=\"\",\"\",(INDIRECT(\"'\"&Lists!$C16&\"'!\"&Lists!$E16&AG$14))))","v":""},{"$f":"IF(ISNA(Lists!$C16),\"\",IF((INDIRECT(\"'\"&Lists!$C16&\"'!\"&Lists!$E16&AH$14))=\"\",\"\",(INDIRECT(\"'\"&Lists!$C16&\"'!\"&Lists!$E16&AH$14))))","v":""},{"$f":"IF(ISNA(Lists!$C16),\"\",IF((INDIRECT(\"'\"&Lists!$C16&\"'!\"&Lists!$E16&AI$14))=\"\",\"\",(INDIRECT(\"'\"&Lists!$C16&\"'!\"&Lists!$E16&AI$14))))","v":""},{"$f":"IF(ISNA(Lists!$C16),\"\",IF((INDIRECT(\"'\"&Lists!$C16&\"'!\"&Lists!$D16&AJ$14))=\"\",\"\",(INDIRECT(\"'\"&Lists!$C16&\"'!\"&Lists!$D16&AJ$14))))","v":""},{"$f":"IF(ISNA(Lists!$C16),\"\",IF((INDIRECT(\"'\"&Lists!$C16&\"'!\"&Lists!$D16&AK$14))=\"\",\"\",(INDIRECT(\"'\"&Lists!$C16&\"'!\"&Lists!$D16&AK$14))))","v":""},{"$f":"IF(ISNA(Lists!$C16),\"\",IF((INDIRECT(\"'\"&Lists!$C16&\"'!\"&Lists!$D16&AL$14))=\"\",\"\",(INDIRECT(\"'\"&Lists!$C16&\"'!\"&Lists!$D16&AL$14))))","v":""},{"$f":"IF(ISNA(Lists!$C16),\"\",IF((INDIRECT(\"'\"&Lists!$C16&\"'!\"&Lists!$D16&AM$14))=\"\",\"\",(INDIRECT(\"'\"&Lists!$C16&\"'!\"&Lists!$D16&AM$14))))","v":""},{"$f":"IF(ISNA(Lists!$C16),\"\",IF((INDIRECT(\"'\"&Lists!$C16&\"'!\"&Lists!$D16&AN$14))=\"\",\"\",(INDIRECT(\"'\"&Lists!$C16&\"'!\"&Lists!$D16&AN$14))))","v":""},{"$f":"IF(ISNA(Lists!$C16),\"\",IF((INDIRECT(\"'\"&Lists!$C16&\"'!\"&Lists!$D16&AO$14))=\"\",\"\",(INDIRECT(\"'\"&Lists!$C16&\"'!\"&Lists!$D16&AO$14))))","v":""},{"$f":"IF(ISNA(Lists!$C16),\"\",IF((INDIRECT(\"'\"&Lists!$C16&\"'!\"&Lists!$D16&AP$14))=\"\",\"\",(INDIRECT(\"'\"&Lists!$C16&\"'!\"&Lists!$D16&AP$14))))","v":""},{"$f":"IF(ISNA(Lists!$C16),\"\",IF((INDIRECT(\"'\"&Lists!$C16&\"'!\"&Lists!$D16&AQ$14))=\"\",\"\",(INDIRECT(\"'\"&Lists!$C16&\"'!\"&Lists!$D16&AQ$14))))","v":""},{"$f":"IF(ISNA(Lists!$C16),\"\",IF((INDIRECT(\"'\"&Lists!$C16&\"'!\"&Lists!$D16&AR$14))=\"\",\"\",(INDIRECT(\"'\"&Lists!$C16&\"'!\"&Lists!$D16&AR$14))))","v":""},{"$f":"IF(ISNA(Lists!$C16),\"\",IF((INDIRECT(\"'\"&Lists!$C16&\"'!\"&Lists!$D16&AS$14))=\"\",\"\",(INDIRECT(\"'\"&Lists!$C16&\"'!\"&Lists!$D16&AS$14))))","v":""}]
[null,{"$f":"IF(C39=\"\",\"\",Facility_Info_upload!$B$24)","v":""},{"$f":"IF(ISNA(Lists!$C17),\"\",IF(INDIRECT(\"'\"&Lists!$C17&\"'!\"&\"B\"&C$14)=\"\",\"\",(INDIRECT(\"'\"&Lists!$C17&\"'!\"&\"B\"&C$14))))","v":""},{"$f":"IF(ISNA(Lists!$C17),\"\",IF(INDIRECT(\"'\"&Lists!$C17&\"'!\"&\"B\"&D$14)=\"\",\"\",(INDIRECT(\"'\"&Lists!$C17&\"'!\"&\"B\"&D$14))))","v":""},{"$f":"IF(ISNA(Lists!$C17),\"\",IF(INDIRECT(\"'\"&Lists!$C17&\"'!\"&\"B\"&E$14)=\"\",\"\",(INDIRECT(\"'\"&Lists!$C17&\"'!\"&\"B\"&E$14))))","v":""},{"$f":"IF(ISNA(Lists!$C17),\"\",IF(INDIRECT(\"'\"&Lists!$C17&\"'!\"&\"B\"&F$14)=\"\",\"\",(INDIRECT(\"'\"&Lists!$C17&\"'!\"&\"B\"&F$14))))","v":""},{"$f":"IF(ISNA(Lists!$C17),\"\",IF(INDIRECT(\"'\"&Lists!$C17&\"'!\"&\"B\"&G$14)=\"\",\"\",(INDIRECT(\"'\"&Lists!$C17&\"'!\"&\"B\"&G$14))))","v":""},{"$f":"IF(ISNA(Lists!$C17),\"\",IF((INDIRECT(\"'\"&Lists!$C17&\"'!\"&Lists!$D17&H$14))=\"\",\"\",(INDIRECT(\"'\"&Lists!$C17&\"'!\"&Lists!$D17&H$14))))","v":""},{"$f":"IF(ISNA(Lists!$C17),\"\",IF((INDIRECT(\"'\"&Lists!$C17&\"'!\"&Lists!$D17&I$14))=\"\",\"\",(INDIRECT(\"'\"&Lists!$C17&\"'!\"&Lists!$D17&I$14))))","v":""},{"$f":"IF(ISNA(Lists!$C17),\"\",IF((INDIRECT(\"'\"&Lists!$C17&\"'!\"&Lists!$D17&J$14))=\"\",\"\",(INDIRECT(\"'\"&Lists!$C17&\"'!\"&Lists!$D17&J$14))))","v":""},{"$f":"IF(ISNA(Lists!$C17),\"\",IF((INDIRECT(\"'\"&Lists!$C17&\"'!\"&Lists!$D17&K$14))=\"\",\"\",(INDIRECT(\"'\"&Lists!$C17&\"'!\"&Lists!$D17&K$14))))","v":""},{"$f":"IF(ISNA(Lists!$C17),\"\",IF((INDIRECT(\"'\"&Lists!$C17&\"'!\"&Lists!$D17&L$14))=\"\",\"\",(INDIRECT(\"'\"&Lists!$C17&\"'!\"&Lists!$D17&L$14))))","v":""},{"$f":"IF(ISNA(Lists!$C17),\"\",IF((INDIRECT(\"'\"&Lists!$C17&\"'!\"&Lists!$D17&M$14))=\"\",\"\",(INDIRECT(\"'\"&Lists!$C17&\"'!\"&Lists!$D17&M$14))))","v":""},{"$f":"IF(ISNA(Lists!$C17),\"\",IF((INDIRECT(\"'\"&Lists!$C17&\"'!\"&Lists!$D17&N$14))=\"\",\"\",(INDIRECT(\"'\"&Lists!$C17&\"'!\"&Lists!$D17&N$14))))","v":""},{"$f":"IF(ISNA(Lists!$C17),\"\",IF((INDIRECT(\"'\"&Lists!$C17&\"'!\"&Lists!$D17&O$14))=\"\",\"\",(INDIRECT(\"'\"&Lists!$C17&\"'!\"&Lists!$D17&O$14))))","v":""},{"$f":"IF(ISNA(Lists!$C17),\"\",IF((INDIRECT(\"'\"&Lists!$C17&\"'!\"&Lists!$D17&P$14))=\"\",\"\",(INDIRECT(\"'\"&Lists!$C17&\"'!\"&Lists!$D17&P$14))))","v":""},{"$f":"IF(ISNA(Lists!$C17),\"\",IF((INDIRECT(\"'\"&Lists!$C17&\"'!\"&Lists!$D17&Q$14))=\"\",\"\",(INDIRECT(\"'\"&Lists!$C17&\"'!\"&Lists!$D17&Q$14))))","v":""},{"$f":"IF(ISNA(Lists!$C17),\"\",IF((INDIRECT(\"'\"&Lists!$C17&\"'!\"&Lists!$D17&R$14))=\"\",\"\",(INDIRECT(\"'\"&Lists!$C17&\"'!\"&Lists!$D17&R$14))))","v":""},{"$f":"IF(ISNA(Lists!$C17),\"\",IF((INDIRECT(\"'\"&Lists!$C17&\"'!\"&Lists!$D17&S$14))=\"\",\"\",(INDIRECT(\"'\"&Lists!$C17&\"'!\"&Lists!$D17&S$14))))","v":""},{"$f":"IF(ISNA(Lists!$C17),\"\",IF((INDIRECT(\"'\"&Lists!$C17&\"'!\"&Lists!$D17&T$14))=\"\",\"\",(INDIRECT(\"'\"&Lists!$C17&\"'!\"&Lists!$D17&T$14))))","v":""},{"$f":"IF(ISNA(Lists!$C17),\"\",IF((INDIRECT(\"'\"&Lists!$C17&\"'!\"&Lists!$D17&U$14))=\"\",\"\",(INDIRECT(\"'\"&Lists!$C17&\"'!\"&Lists!$D17&U$14))))","v":""},{"$f":"IF(ISNA(Lists!$C17),\"\",IF((INDIRECT(\"'\"&Lists!$C17&\"'!\"&Lists!$E17&V$14))=\"\",\"\",(INDIRECT(\"'\"&Lists!$C17&\"'!\"&Lists!$E17&V$14))))","v":""},{"$f":"IF(ISNA(Lists!$C17),\"\",IF((INDIRECT(\"'\"&Lists!$C17&\"'!\"&Lists!$E17&W$14))=\"\",\"\",(INDIRECT(\"'\"&Lists!$C17&\"'!\"&Lists!$E17&W$14))))","v":""},{"$f":"IF(ISNA(Lists!$C17),\"\",IF((INDIRECT(\"'\"&Lists!$C17&\"'!\"&Lists!$E17&X$14))=\"\",\"\",(INDIRECT(\"'\"&Lists!$C17&\"'!\"&Lists!$E17&X$14))))","v":""},{"$f":"IF(ISNA(Lists!$C17),\"\",IF((INDIRECT(\"'\"&Lists!$C17&\"'!\"&Lists!$E17&Y$14))=\"\",\"\",(INDIRECT(\"'\"&Lists!$C17&\"'!\"&Lists!$E17&Y$14))))","v":""},{"$f":"IF(ISNA(Lists!$C17),\"\",IF((INDIRECT(\"'\"&Lists!$C17&\"'!\"&Lists!$E17&Z$14))=\"\",\"\",(INDIRECT(\"'\"&Lists!$C17&\"'!\"&Lists!$E17&Z$14))))","v":""},{"$f":"IF(ISNA(Lists!$C17),\"\",IF((INDIRECT(\"'\"&Lists!$C17&\"'!\"&Lists!$E17&AA$14))=\"\",\"\",(INDIRECT(\"'\"&Lists!$C17&\"'!\"&Lists!$E17&AA$14))))","v":""},{"$f":"IF(ISNA(Lists!$C17),\"\",IF((INDIRECT(\"'\"&Lists!$C17&\"'!\"&Lists!$E17&AB$14))=\"\",\"\",(INDIRECT(\"'\"&Lists!$C17&\"'!\"&Lists!$E17&AB$14))))","v":""},{"$f":"IF(ISNA(Lists!$C17),\"\",IF((INDIRECT(\"'\"&Lists!$C17&\"'!\"&Lists!$E17&AC$14))=\"\",\"\",(INDIRECT(\"'\"&Lists!$C17&\"'!\"&Lists!$E17&AC$14))))","v":""},{"$f":"IF(ISNA(Lists!$C17),\"\",IF((INDIRECT(\"'\"&Lists!$C17&\"'!\"&Lists!$E17&AD$14))=\"\",\"\",(INDIRECT(\"'\"&Lists!$C17&\"'!\"&Lists!$E17&AD$14))))","v":""},{"$f":"IF(ISNA(Lists!$C17),\"\",IF((INDIRECT(\"'\"&Lists!$C17&\"'!\"&Lists!$E17&AE$14))=\"\",\"\",(INDIRECT(\"'\"&Lists!$C17&\"'!\"&Lists!$E17&AE$14))))","v":""},{"$f":"IF(ISNA(Lists!$C17),\"\",IF((INDIRECT(\"'\"&Lists!$C17&\"'!\"&Lists!$E17&AF$14))=\"\",\"\",(INDIRECT(\"'\"&Lists!$C17&\"'!\"&Lists!$E17&AF$14))))","v":""},{"$f":"IF(ISNA(Lists!$C17),\"\",IF((INDIRECT(\"'\"&Lists!$C17&\"'!\"&Lists!$E17&AG$14))=\"\",\"\",(INDIRECT(\"'\"&Lists!$C17&\"'!\"&Lists!$E17&AG$14))))","v":""},{"$f":"IF(ISNA(Lists!$C17),\"\",IF((INDIRECT(\"'\"&Lists!$C17&\"'!\"&Lists!$E17&AH$14))=\"\",\"\",(INDIRECT(\"'\"&Lists!$C17&\"'!\"&Lists!$E17&AH$14))))","v":""},{"$f":"IF(ISNA(Lists!$C17),\"\",IF((INDIRECT(\"'\"&Lists!$C17&\"'!\"&Lists!$E17&AI$14))=\"\",\"\",(INDIRECT(\"'\"&Lists!$C17&\"'!\"&Lists!$E17&AI$14))))","v":""},{"$f":"IF(ISNA(Lists!$C17),\"\",IF((INDIRECT(\"'\"&Lists!$C17&\"'!\"&Lists!$D17&AJ$14))=\"\",\"\",(INDIRECT(\"'\"&Lists!$C17&\"'!\"&Lists!$D17&AJ$14))))","v":""},{"$f":"IF(ISNA(Lists!$C17),\"\",IF((INDIRECT(\"'\"&Lists!$C17&\"'!\"&Lists!$D17&AK$14))=\"\",\"\",(INDIRECT(\"'\"&Lists!$C17&\"'!\"&Lists!$D17&AK$14))))","v":""},{"$f":"IF(ISNA(Lists!$C17),\"\",IF((INDIRECT(\"'\"&Lists!$C17&\"'!\"&Lists!$D17&AL$14))=\"\",\"\",(INDIRECT(\"'\"&Lists!$C17&\"'!\"&Lists!$D17&AL$14))))","v":""},{"$f":"IF(ISNA(Lists!$C17),\"\",IF((INDIRECT(\"'\"&Lists!$C17&\"'!\"&Lists!$D17&AM$14))=\"\",\"\",(INDIRECT(\"'\"&Lists!$C17&\"'!\"&Lists!$D17&AM$14))))","v":""},{"$f":"IF(ISNA(Lists!$C17),\"\",IF((INDIRECT(\"'\"&Lists!$C17&\"'!\"&Lists!$D17&AN$14))=\"\",\"\",(INDIRECT(\"'\"&Lists!$C17&\"'!\"&Lists!$D17&AN$14))))","v":""},{"$f":"IF(ISNA(Lists!$C17),\"\",IF((INDIRECT(\"'\"&Lists!$C17&\"'!\"&Lists!$D17&AO$14))=\"\",\"\",(INDIRECT(\"'\"&Lists!$C17&\"'!\"&Lists!$D17&AO$14))))","v":""},{"$f":"IF(ISNA(Lists!$C17),\"\",IF((INDIRECT(\"'\"&Lists!$C17&\"'!\"&Lists!$D17&AP$14))=\"\",\"\",(INDIRECT(\"'\"&Lists!$C17&\"'!\"&Lists!$D17&AP$14))))","v":""},{"$f":"IF(ISNA(Lists!$C17),\"\",IF((INDIRECT(\"'\"&Lists!$C17&\"'!\"&Lists!$D17&AQ$14))=\"\",\"\",(INDIRECT(\"'\"&Lists!$C17&\"'!\"&Lists!$D17&AQ$14))))","v":""},{"$f":"IF(ISNA(Lists!$C17),\"\",IF((INDIRECT(\"'\"&Lists!$C17&\"'!\"&Lists!$D17&AR$14))=\"\",\"\",(INDIRECT(\"'\"&Lists!$C17&\"'!\"&Lists!$D17&AR$14))))","v":""},{"$f":"IF(ISNA(Lists!$C17),\"\",IF((INDIRECT(\"'\"&Lists!$C17&\"'!\"&Lists!$D17&AS$14))=\"\",\"\",(INDIRECT(\"'\"&Lists!$C17&\"'!\"&Lists!$D17&AS$14))))","v":""}]
[null,{"$f":"IF(C40=\"\",\"\",Facility_Info_upload!$B$24)","v":""},{"$f":"IF(ISNA(Lists!$C18),\"\",IF(INDIRECT(\"'\"&Lists!$C18&\"'!\"&\"B\"&C$14)=\"\",\"\",(INDIRECT(\"'\"&Lists!$C18&\"'!\"&\"B\"&C$14))))","v":""},{"$f":"IF(ISNA(Lists!$C18),\"\",IF(INDIRECT(\"'\"&Lists!$C18&\"'!\"&\"B\"&D$14)=\"\",\"\",(INDIRECT(\"'\"&Lists!$C18&\"'!\"&\"B\"&D$14))))","v":""},{"$f":"IF(ISNA(Lists!$C18),\"\",IF(INDIRECT(\"'\"&Lists!$C18&\"'!\"&\"B\"&E$14)=\"\",\"\",(INDIRECT(\"'\"&Lists!$C18&\"'!\"&\"B\"&E$14))))","v":""},{"$f":"IF(ISNA(Lists!$C18),\"\",IF(INDIRECT(\"'\"&Lists!$C18&\"'!\"&\"B\"&F$14)=\"\",\"\",(INDIRECT(\"'\"&Lists!$C18&\"'!\"&\"B\"&F$14))))","v":""},{"$f":"IF(ISNA(Lists!$C18),\"\",IF(INDIRECT(\"'\"&Lists!$C18&\"'!\"&\"B\"&G$14)=\"\",\"\",(INDIRECT(\"'\"&Lists!$C18&\"'!\"&\"B\"&G$14))))","v":""},{"$f":"IF(ISNA(Lists!$C18),\"\",IF((INDIRECT(\"'\"&Lists!$C18&\"'!\"&Lists!$D18&H$14))=\"\",\"\",(INDIRECT(\"'\"&Lists!$C18&\"'!\"&Lists!$D18&H$14))))","v":""},{"$f":"IF(ISNA(Lists!$C18),\"\",IF((INDIRECT(\"'\"&Lists!$C18&\"'!\"&Lists!$D18&I$14))=\"\",\"\",(INDIRECT(\"'\"&Lists!$C18&\"'!\"&Lists!$D18&I$14))))","v":""},{"$f":"IF(ISNA(Lists!$C18),\"\",IF((INDIRECT(\"'\"&Lists!$C18&\"'!\"&Lists!$D18&J$14))=\"\",\"\",(INDIRECT(\"'\"&Lists!$C18&\"'!\"&Lists!$D18&J$14))))","v":""},{"$f":"IF(ISNA(Lists!$C18),\"\",IF((INDIRECT(\"'\"&Lists!$C18&\"'!\"&Lists!$D18&K$14))=\"\",\"\",(INDIRECT(\"'\"&Lists!$C18&\"'!\"&Lists!$D18&K$14))))","v":""},{"$f":"IF(ISNA(Lists!$C18),\"\",IF((INDIRECT(\"'\"&Lists!$C18&\"'!\"&Lists!$D18&L$14))=\"\",\"\",(INDIRECT(\"'\"&Lists!$C18&\"'!\"&Lists!$D18&L$14))))","v":""},{"$f":"IF(ISNA(Lists!$C18),\"\",IF((INDIRECT(\"'\"&Lists!$C18&\"'!\"&Lists!$D18&M$14))=\"\",\"\",(INDIRECT(\"'\"&Lists!$C18&\"'!\"&Lists!$D18&M$14))))","v":""},{"$f":"IF(ISNA(Lists!$C18),\"\",IF((INDIRECT(\"'\"&Lists!$C18&\"'!\"&Lists!$D18&N$14))=\"\",\"\",(INDIRECT(\"'\"&Lists!$C18&\"'!\"&Lists!$D18&N$14))))","v":""},{"$f":"IF(ISNA(Lists!$C18),\"\",IF((INDIRECT(\"'\"&Lists!$C18&\"'!\"&Lists!$D18&O$14))=\"\",\"\",(INDIRECT(\"'\"&Lists!$C18&\"'!\"&Lists!$D18&O$14))))","v":""},{"$f":"IF(ISNA(Lists!$C18),\"\",IF((INDIRECT(\"'\"&Lists!$C18&\"'!\"&Lists!$D18&P$14))=\"\",\"\",(INDIRECT(\"'\"&Lists!$C18&\"'!\"&Lists!$D18&P$14))))","v":""},{"$f":"IF(ISNA(Lists!$C18),\"\",IF((INDIRECT(\"'\"&Lists!$C18&\"'!\"&Lists!$D18&Q$14))=\"\",\"\",(INDIRECT(\"'\"&Lists!$C18&\"'!\"&Lists!$D18&Q$14))))","v":""},{"$f":"IF(ISNA(Lists!$C18),\"\",IF((INDIRECT(\"'\"&Lists!$C18&\"'!\"&Lists!$D18&R$14))=\"\",\"\",(INDIRECT(\"'\"&Lists!$C18&\"'!\"&Lists!$D18&R$14))))","v":""},{"$f":"IF(ISNA(Lists!$C18),\"\",IF((INDIRECT(\"'\"&Lists!$C18&\"'!\"&Lists!$D18&S$14))=\"\",\"\",(INDIRECT(\"'\"&Lists!$C18&\"'!\"&Lists!$D18&S$14))))","v":""},{"$f":"IF(ISNA(Lists!$C18),\"\",IF((INDIRECT(\"'\"&Lists!$C18&\"'!\"&Lists!$D18&T$14))=\"\",\"\",(INDIRECT(\"'\"&Lists!$C18&\"'!\"&Lists!$D18&T$14))))","v":""},{"$f":"IF(ISNA(Lists!$C18),\"\",IF((INDIRECT(\"'\"&Lists!$C18&\"'!\"&Lists!$D18&U$14))=\"\",\"\",(INDIRECT(\"'\"&Lists!$C18&\"'!\"&Lists!$D18&U$14))))","v":""},{"$f":"IF(ISNA(Lists!$C18),\"\",IF((INDIRECT(\"'\"&Lists!$C18&\"'!\"&Lists!$E18&V$14))=\"\",\"\",(INDIRECT(\"'\"&Lists!$C18&\"'!\"&Lists!$E18&V$14))))","v":""},{"$f":"IF(ISNA(Lists!$C18),\"\",IF((INDIRECT(\"'\"&Lists!$C18&\"'!\"&Lists!$E18&W$14))=\"\",\"\",(INDIRECT(\"'\"&Lists!$C18&\"'!\"&Lists!$E18&W$14))))","v":""},{"$f":"IF(ISNA(Lists!$C18),\"\",IF((INDIRECT(\"'\"&Lists!$C18&\"'!\"&Lists!$E18&X$14))=\"\",\"\",(INDIRECT(\"'\"&Lists!$C18&\"'!\"&Lists!$E18&X$14))))","v":""},{"$f":"IF(ISNA(Lists!$C18),\"\",IF((INDIRECT(\"'\"&Lists!$C18&\"'!\"&Lists!$E18&Y$14))=\"\",\"\",(INDIRECT(\"'\"&Lists!$C18&\"'!\"&Lists!$E18&Y$14))))","v":""},{"$f":"IF(ISNA(Lists!$C18),\"\",IF((INDIRECT(\"'\"&Lists!$C18&\"'!\"&Lists!$E18&Z$14))=\"\",\"\",(INDIRECT(\"'\"&Lists!$C18&\"'!\"&Lists!$E18&Z$14))))","v":""},{"$f":"IF(ISNA(Lists!$C18),\"\",IF((INDIRECT(\"'\"&Lists!$C18&\"'!\"&Lists!$E18&AA$14))=\"\",\"\",(INDIRECT(\"'\"&Lists!$C18&\"'!\"&Lists!$E18&AA$14))))","v":""},{"$f":"IF(ISNA(Lists!$C18),\"\",IF((INDIRECT(\"'\"&Lists!$C18&\"'!\"&Lists!$E18&AB$14))=\"\",\"\",(INDIRECT(\"'\"&Lists!$C18&\"'!\"&Lists!$E18&AB$14))))","v":""},{"$f":"IF(ISNA(Lists!$C18),\"\",IF((INDIRECT(\"'\"&Lists!$C18&\"'!\"&Lists!$E18&AC$14))=\"\",\"\",(INDIRECT(\"'\"&Lists!$C18&\"'!\"&Lists!$E18&AC$14))))","v":""},{"$f":"IF(ISNA(Lists!$C18),\"\",IF((INDIRECT(\"'\"&Lists!$C18&\"'!\"&Lists!$E18&AD$14))=\"\",\"\",(INDIRECT(\"'\"&Lists!$C18&\"'!\"&Lists!$E18&AD$14))))","v":""},{"$f":"IF(ISNA(Lists!$C18),\"\",IF((INDIRECT(\"'\"&Lists!$C18&\"'!\"&Lists!$E18&AE$14))=\"\",\"\",(INDIRECT(\"'\"&Lists!$C18&\"'!\"&Lists!$E18&AE$14))))","v":""},{"$f":"IF(ISNA(Lists!$C18),\"\",IF((INDIRECT(\"'\"&Lists!$C18&\"'!\"&Lists!$E18&AF$14))=\"\",\"\",(INDIRECT(\"'\"&Lists!$C18&\"'!\"&Lists!$E18&AF$14))))","v":""},{"$f":"IF(ISNA(Lists!$C18),\"\",IF((INDIRECT(\"'\"&Lists!$C18&\"'!\"&Lists!$E18&AG$14))=\"\",\"\",(INDIRECT(\"'\"&Lists!$C18&\"'!\"&Lists!$E18&AG$14))))","v":""},{"$f":"IF(ISNA(Lists!$C18),\"\",IF((INDIRECT(\"'\"&Lists!$C18&\"'!\"&Lists!$E18&AH$14))=\"\",\"\",(INDIRECT(\"'\"&Lists!$C18&\"'!\"&Lists!$E18&AH$14))))","v":""},{"$f":"IF(ISNA(Lists!$C18),\"\",IF((INDIRECT(\"'\"&Lists!$C18&\"'!\"&Lists!$E18&AI$14))=\"\",\"\",(INDIRECT(\"'\"&Lists!$C18&\"'!\"&Lists!$E18&AI$14))))","v":""},{"$f":"IF(ISNA(Lists!$C18),\"\",IF((INDIRECT(\"'\"&Lists!$C18&\"'!\"&Lists!$D18&AJ$14))=\"\",\"\",(INDIRECT(\"'\"&Lists!$C18&\"'!\"&Lists!$D18&AJ$14))))","v":""},{"$f":"IF(ISNA(Lists!$C18),\"\",IF((INDIRECT(\"'\"&Lists!$C18&\"'!\"&Lists!$D18&AK$14))=\"\",\"\",(INDIRECT(\"'\"&Lists!$C18&\"'!\"&Lists!$D18&AK$14))))","v":""},{"$f":"IF(ISNA(Lists!$C18),\"\",IF((INDIRECT(\"'\"&Lists!$C18&\"'!\"&Lists!$D18&AL$14))=\"\",\"\",(INDIRECT(\"'\"&Lists!$C18&\"'!\"&Lists!$D18&AL$14))))","v":""},{"$f":"IF(ISNA(Lists!$C18),\"\",IF((INDIRECT(\"'\"&Lists!$C18&\"'!\"&Lists!$D18&AM$14))=\"\",\"\",(INDIRECT(\"'\"&Lists!$C18&\"'!\"&Lists!$D18&AM$14))))","v":""},{"$f":"IF(ISNA(Lists!$C18),\"\",IF((INDIRECT(\"'\"&Lists!$C18&\"'!\"&Lists!$D18&AN$14))=\"\",\"\",(INDIRECT(\"'\"&Lists!$C18&\"'!\"&Lists!$D18&AN$14))))","v":""},{"$f":"IF(ISNA(Lists!$C18),\"\",IF((INDIRECT(\"'\"&Lists!$C18&\"'!\"&Lists!$D18&AO$14))=\"\",\"\",(INDIRECT(\"'\"&Lists!$C18&\"'!\"&Lists!$D18&AO$14))))","v":""},{"$f":"IF(ISNA(Lists!$C18),\"\",IF((INDIRECT(\"'\"&Lists!$C18&\"'!\"&Lists!$D18&AP$14))=\"\",\"\",(INDIRECT(\"'\"&Lists!$C18&\"'!\"&Lists!$D18&AP$14))))","v":""},{"$f":"IF(ISNA(Lists!$C18),\"\",IF((INDIRECT(\"'\"&Lists!$C18&\"'!\"&Lists!$D18&AQ$14))=\"\",\"\",(INDIRECT(\"'\"&Lists!$C18&\"'!\"&Lists!$D18&AQ$14))))","v":""},{"$f":"IF(ISNA(Lists!$C18),\"\",IF((INDIRECT(\"'\"&Lists!$C18&\"'!\"&Lists!$D18&AR$14))=\"\",\"\",(INDIRECT(\"'\"&Lists!$C18&\"'!\"&Lists!$D18&AR$14))))","v":""},{"$f":"IF(ISNA(Lists!$C18),\"\",IF((INDIRECT(\"'\"&Lists!$C18&\"'!\"&Lists!$D18&AS$14))=\"\",\"\",(INDIRECT(\"'\"&Lists!$C18&\"'!\"&Lists!$D18&AS$14))))","v":""}]
[null,{"$f":"IF(C41=\"\",\"\",Facility_Info_upload!$B$24)","v":""},{"$f":"IF(ISNA(Lists!$C19),\"\",IF(INDIRECT(\"'\"&Lists!$C19&\"'!\"&\"B\"&C$14)=\"\",\"\",(INDIRECT(\"'\"&Lists!$C19&\"'!\"&\"B\"&C$14))))","v":""},{"$f":"IF(ISNA(Lists!$C19),\"\",IF(INDIRECT(\"'\"&Lists!$C19&\"'!\"&\"B\"&D$14)=\"\",\"\",(INDIRECT(\"'\"&Lists!$C19&\"'!\"&\"B\"&D$14))))","v":""},{"$f":"IF(ISNA(Lists!$C19),\"\",IF(INDIRECT(\"'\"&Lists!$C19&\"'!\"&\"B\"&E$14)=\"\",\"\",(INDIRECT(\"'\"&Lists!$C19&\"'!\"&\"B\"&E$14))))","v":""},{"$f":"IF(ISNA(Lists!$C19),\"\",IF(INDIRECT(\"'\"&Lists!$C19&\"'!\"&\"B\"&F$14)=\"\",\"\",(INDIRECT(\"'\"&Lists!$C19&\"'!\"&\"B\"&F$14))))","v":""},{"$f":"IF(ISNA(Lists!$C19),\"\",IF(INDIRECT(\"'\"&Lists!$C19&\"'!\"&\"B\"&G$14)=\"\",\"\",(INDIRECT(\"'\"&Lists!$C19&\"'!\"&\"B\"&G$14))))","v":""},{"$f":"IF(ISNA(Lists!$C19),\"\",IF((INDIRECT(\"'\"&Lists!$C19&\"'!\"&Lists!$D19&H$14))=\"\",\"\",(INDIRECT(\"'\"&Lists!$C19&\"'!\"&Lists!$D19&H$14))))","v":""},{"$f":"IF(ISNA(Lists!$C19),\"\",IF((INDIRECT(\"'\"&Lists!$C19&\"'!\"&Lists!$D19&I$14))=\"\",\"\",(INDIRECT(\"'\"&Lists!$C19&\"'!\"&Lists!$D19&I$14))))","v":""},{"$f":"IF(ISNA(Lists!$C19),\"\",IF((INDIRECT(\"'\"&Lists!$C19&\"'!\"&Lists!$D19&J$14))=\"\",\"\",(INDIRECT(\"'\"&Lists!$C19&\"'!\"&Lists!$D19&J$14))))","v":""},{"$f":"IF(ISNA(Lists!$C19),\"\",IF((INDIRECT(\"'\"&Lists!$C19&\"'!\"&Lists!$D19&K$14))=\"\",\"\",(INDIRECT(\"'\"&Lists!$C19&\"'!\"&Lists!$D19&K$14))))","v":""},{"$f":"IF(ISNA(Lists!$C19),\"\",IF((INDIRECT(\"'\"&Lists!$C19&\"'!\"&Lists!$D19&L$14))=\"\",\"\",(INDIRECT(\"'\"&Lists!$C19&\"'!\"&Lists!$D19&L$14))))","v":""},{"$f":"IF(ISNA(Lists!$C19),\"\",IF((INDIRECT(\"'\"&Lists!$C19&\"'!\"&Lists!$D19&M$14))=\"\",\"\",(INDIRECT(\"'\"&Lists!$C19&\"'!\"&Lists!$D19&M$14))))","v":""},{"$f":"IF(ISNA(Lists!$C19),\"\",IF((INDIRECT(\"'\"&Lists!$C19&\"'!\"&Lists!$D19&N$14))=\"\",\"\",(INDIRECT(\"'\"&Lists!$C19&\"'!\"&Lists!$D19&N$14))))","v":""},{"$f":"IF(ISNA(Lists!$C19),\"\",IF((INDIRECT(\"'\"&Lists!$C19&\"'!\"&Lists!$D19&O$14))=\"\",\"\",(INDIRECT(\"'\"&Lists!$C19&\"'!\"&Lists!$D19&O$14))))","v":""},{"$f":"IF(ISNA(Lists!$C19),\"\",IF((INDIRECT(\"'\"&Lists!$C19&\"'!\"&Lists!$D19&P$14))=\"\",\"\",(INDIRECT(\"'\"&Lists!$C19&\"'!\"&Lists!$D19&P$14))))","v":""},{"$f":"IF(ISNA(Lists!$C19),\"\",IF((INDIRECT(\"'\"&Lists!$C19&\"'!\"&Lists!$D19&Q$14))=\"\",\"\",(INDIRECT(\"'\"&Lists!$C19&\"'!\"&Lists!$D19&Q$14))))","v":""},{"$f":"IF(ISNA(Lists!$C19),\"\",IF((INDIRECT(\"'\"&Lists!$C19&\"'!\"&Lists!$D19&R$14))=\"\",\"\",(INDIRECT(\"'\"&Lists!$C19&\"'!\"&Lists!$D19&R$14))))","v":""},{"$f":"IF(ISNA(Lists!$C19),\"\",IF((INDIRECT(\"'\"&Lists!$C19&\"'!\"&Lists!$D19&S$14))=\"\",\"\",(INDIRECT(\"'\"&Lists!$C19&\"'!\"&Lists!$D19&S$14))))","v":""},{"$f":"IF(ISNA(Lists!$C19),\"\",IF((INDIRECT(\"'\"&Lists!$C19&\"'!\"&Lists!$D19&T$14))=\"\",\"\",(INDIRECT(\"'\"&Lists!$C19&\"'!\"&Lists!$D19&T$14))))","v":""},{"$f":"IF(ISNA(Lists!$C19),\"\",IF((INDIRECT(\"'\"&Lists!$C19&\"'!\"&Lists!$D19&U$14))=\"\",\"\",(INDIRECT(\"'\"&Lists!$C19&\"'!\"&Lists!$D19&U$14))))","v":""},{"$f":"IF(ISNA(Lists!$C19),\"\",IF((INDIRECT(\"'\"&Lists!$C19&\"'!\"&Lists!$E19&V$14))=\"\",\"\",(INDIRECT(\"'\"&Lists!$C19&\"'!\"&Lists!$E19&V$14))))","v":""},{"$f":"IF(ISNA(Lists!$C19),\"\",IF((INDIRECT(\"'\"&Lists!$C19&\"'!\"&Lists!$E19&W$14))=\"\",\"\",(INDIRECT(\"'\"&Lists!$C19&\"'!\"&Lists!$E19&W$14))))","v":""},{"$f":"IF(ISNA(Lists!$C19),\"\",IF((INDIRECT(\"'\"&Lists!$C19&\"'!\"&Lists!$E19&X$14))=\"\",\"\",(INDIRECT(\"'\"&Lists!$C19&\"'!\"&Lists!$E19&X$14))))","v":""},{"$f":"IF(ISNA(Lists!$C19),\"\",IF((INDIRECT(\"'\"&Lists!$C19&\"'!\"&Lists!$E19&Y$14))=\"\",\"\",(INDIRECT(\"'\"&Lists!$C19&\"'!\"&Lists!$E19&Y$14))))","v":""},{"$f":"IF(ISNA(Lists!$C19),\"\",IF((INDIRECT(\"'\"&Lists!$C19&\"'!\"&Lists!$E19&Z$14))=\"\",\"\",(INDIRECT(\"'\"&Lists!$C19&\"'!\"&Lists!$E19&Z$14))))","v":""},{"$f":"IF(ISNA(Lists!$C19),\"\",IF((INDIRECT(\"'\"&Lists!$C19&\"'!\"&Lists!$E19&AA$14))=\"\",\"\",(INDIRECT(\"'\"&Lists!$C19&\"'!\"&Lists!$E19&AA$14))))","v":""},{"$f":"IF(ISNA(Lists!$C19),\"\",IF((INDIRECT(\"'\"&Lists!$C19&\"'!\"&Lists!$E19&AB$14))=\"\",\"\",(INDIRECT(\"'\"&Lists!$C19&\"'!\"&Lists!$E19&AB$14))))","v":""},{"$f":"IF(ISNA(Lists!$C19),\"\",IF((INDIRECT(\"'\"&Lists!$C19&\"'!\"&Lists!$E19&AC$14))=\"\",\"\",(INDIRECT(\"'\"&Lists!$C19&\"'!\"&Lists!$E19&AC$14))))","v":""},{"$f":"IF(ISNA(Lists!$C19),\"\",IF((INDIRECT(\"'\"&Lists!$C19&\"'!\"&Lists!$E19&AD$14))=\"\",\"\",(INDIRECT(\"'\"&Lists!$C19&\"'!\"&Lists!$E19&AD$14))))","v":""},{"$f":"IF(ISNA(Lists!$C19),\"\",IF((INDIRECT(\"'\"&Lists!$C19&\"'!\"&Lists!$E19&AE$14))=\"\",\"\",(INDIRECT(\"'\"&Lists!$C19&\"'!\"&Lists!$E19&AE$14))))","v":""},{"$f":"IF(ISNA(Lists!$C19),\"\",IF((INDIRECT(\"'\"&Lists!$C19&\"'!\"&Lists!$E19&AF$14))=\"\",\"\",(INDIRECT(\"'\"&Lists!$C19&\"'!\"&Lists!$E19&AF$14))))","v":""},{"$f":"IF(ISNA(Lists!$C19),\"\",IF((INDIRECT(\"'\"&Lists!$C19&\"'!\"&Lists!$E19&AG$14))=\"\",\"\",(INDIRECT(\"'\"&Lists!$C19&\"'!\"&Lists!$E19&AG$14))))","v":""},{"$f":"IF(ISNA(Lists!$C19),\"\",IF((INDIRECT(\"'\"&Lists!$C19&\"'!\"&Lists!$E19&AH$14))=\"\",\"\",(INDIRECT(\"'\"&Lists!$C19&\"'!\"&Lists!$E19&AH$14))))","v":""},{"$f":"IF(ISNA(Lists!$C19),\"\",IF((INDIRECT(\"'\"&Lists!$C19&\"'!\"&Lists!$E19&AI$14))=\"\",\"\",(INDIRECT(\"'\"&Lists!$C19&\"'!\"&Lists!$E19&AI$14))))","v":""},{"$f":"IF(ISNA(Lists!$C19),\"\",IF((INDIRECT(\"'\"&Lists!$C19&\"'!\"&Lists!$D19&AJ$14))=\"\",\"\",(INDIRECT(\"'\"&Lists!$C19&\"'!\"&Lists!$D19&AJ$14))))","v":""},{"$f":"IF(ISNA(Lists!$C19),\"\",IF((INDIRECT(\"'\"&Lists!$C19&\"'!\"&Lists!$D19&AK$14))=\"\",\"\",(INDIRECT(\"'\"&Lists!$C19&\"'!\"&Lists!$D19&AK$14))))","v":""},{"$f":"IF(ISNA(Lists!$C19),\"\",IF((INDIRECT(\"'\"&Lists!$C19&\"'!\"&Lists!$D19&AL$14))=\"\",\"\",(INDIRECT(\"'\"&Lists!$C19&\"'!\"&Lists!$D19&AL$14))))","v":""},{"$f":"IF(ISNA(Lists!$C19),\"\",IF((INDIRECT(\"'\"&Lists!$C19&\"'!\"&Lists!$D19&AM$14))=\"\",\"\",(INDIRECT(\"'\"&Lists!$C19&\"'!\"&Lists!$D19&AM$14))))","v":""},{"$f":"IF(ISNA(Lists!$C19),\"\",IF((INDIRECT(\"'\"&Lists!$C19&\"'!\"&Lists!$D19&AN$14))=\"\",\"\",(INDIRECT(\"'\"&Lists!$C19&\"'!\"&Lists!$D19&AN$14))))","v":""},{"$f":"IF(ISNA(Lists!$C19),\"\",IF((INDIRECT(\"'\"&Lists!$C19&\"'!\"&Lists!$D19&AO$14))=\"\",\"\",(INDIRECT(\"'\"&Lists!$C19&\"'!\"&Lists!$D19&AO$14))))","v":""},{"$f":"IF(ISNA(Lists!$C19),\"\",IF((INDIRECT(\"'\"&Lists!$C19&\"'!\"&Lists!$D19&AP$14))=\"\",\"\",(INDIRECT(\"'\"&Lists!$C19&\"'!\"&Lists!$D19&AP$14))))","v":""},{"$f":"IF(ISNA(Lists!$C19),\"\",IF((INDIRECT(\"'\"&Lists!$C19&\"'!\"&Lists!$D19&AQ$14))=\"\",\"\",(INDIRECT(\"'\"&Lists!$C19&\"'!\"&Lists!$D19&AQ$14))))","v":""},{"$f":"IF(ISNA(Lists!$C19),\"\",IF((INDIRECT(\"'\"&Lists!$C19&\"'!\"&Lists!$D19&AR$14))=\"\",\"\",(INDIRECT(\"'\"&Lists!$C19&\"'!\"&Lists!$D19&AR$14))))","v":""},{"$f":"IF(ISNA(Lists!$C19),\"\",IF((INDIRECT(\"'\"&Lists!$C19&\"'!\"&Lists!$D19&AS$14))=\"\",\"\",(INDIRECT(\"'\"&Lists!$C19&\"'!\"&Lists!$D19&AS$14))))","v":""}]
[null,{"$f":"IF(C42=\"\",\"\",Facility_Info_upload!$B$24)","v":""},{"$f":"IF(ISNA(Lists!$C20),\"\",IF(INDIRECT(\"'\"&Lists!$C20&\"'!\"&\"B\"&C$14)=\"\",\"\",(INDIRECT(\"'\"&Lists!$C20&\"'!\"&\"B\"&C$14))))","v":""},{"$f":"IF(ISNA(Lists!$C20),\"\",IF(INDIRECT(\"'\"&Lists!$C20&\"'!\"&\"B\"&D$14)=\"\",\"\",(INDIRECT(\"'\"&Lists!$C20&\"'!\"&\"B\"&D$14))))","v":""},{"$f":"IF(ISNA(Lists!$C20),\"\",IF(INDIRECT(\"'\"&Lists!$C20&\"'!\"&\"B\"&E$14)=\"\",\"\",(INDIRECT(\"'\"&Lists!$C20&\"'!\"&\"B\"&E$14))))","v":""},{"$f":"IF(ISNA(Lists!$C20),\"\",IF(INDIRECT(\"'\"&Lists!$C20&\"'!\"&\"B\"&F$14)=\"\",\"\",(INDIRECT(\"'\"&Lists!$C20&\"'!\"&\"B\"&F$14))))","v":""},{"$f":"IF(ISNA(Lists!$C20),\"\",IF(INDIRECT(\"'\"&Lists!$C20&\"'!\"&\"B\"&G$14)=\"\",\"\",(INDIRECT(\"'\"&Lists!$C20&\"'!\"&\"B\"&G$14))))","v":""},{"$f":"IF(ISNA(Lists!$C20),\"\",IF((INDIRECT(\"'\"&Lists!$C20&\"'!\"&Lists!$D20&H$14))=\"\",\"\",(INDIRECT(\"'\"&Lists!$C20&\"'!\"&Lists!$D20&H$14))))","v":""},{"$f":"IF(ISNA(Lists!$C20),\"\",IF((INDIRECT(\"'\"&Lists!$C20&\"'!\"&Lists!$D20&I$14))=\"\",\"\",(INDIRECT(\"'\"&Lists!$C20&\"'!\"&Lists!$D20&I$14))))","v":""},{"$f":"IF(ISNA(Lists!$C20),\"\",IF((INDIRECT(\"'\"&Lists!$C20&\"'!\"&Lists!$D20&J$14))=\"\",\"\",(INDIRECT(\"'\"&Lists!$C20&\"'!\"&Lists!$D20&J$14))))","v":""},{"$f":"IF(ISNA(Lists!$C20),\"\",IF((INDIRECT(\"'\"&Lists!$C20&\"'!\"&Lists!$D20&K$14))=\"\",\"\",(INDIRECT(\"'\"&Lists!$C20&\"'!\"&Lists!$D20&K$14))))","v":""},{"$f":"IF(ISNA(Lists!$C20),\"\",IF((INDIRECT(\"'\"&Lists!$C20&\"'!\"&Lists!$D20&L$14))=\"\",\"\",(INDIRECT(\"'\"&Lists!$C20&\"'!\"&Lists!$D20&L$14))))","v":""},{"$f":"IF(ISNA(Lists!$C20),\"\",IF((INDIRECT(\"'\"&Lists!$C20&\"'!\"&Lists!$D20&M$14))=\"\",\"\",(INDIRECT(\"'\"&Lists!$C20&\"'!\"&Lists!$D20&M$14))))","v":""},{"$f":"IF(ISNA(Lists!$C20),\"\",IF((INDIRECT(\"'\"&Lists!$C20&\"'!\"&Lists!$D20&N$14))=\"\",\"\",(INDIRECT(\"'\"&Lists!$C20&\"'!\"&Lists!$D20&N$14))))","v":""},{"$f":"IF(ISNA(Lists!$C20),\"\",IF((INDIRECT(\"'\"&Lists!$C20&\"'!\"&Lists!$D20&O$14))=\"\",\"\",(INDIRECT(\"'\"&Lists!$C20&\"'!\"&Lists!$D20&O$14))))","v":""},{"$f":"IF(ISNA(Lists!$C20),\"\",IF((INDIRECT(\"'\"&Lists!$C20&\"'!\"&Lists!$D20&P$14))=\"\",\"\",(INDIRECT(\"'\"&Lists!$C20&\"'!\"&Lists!$D20&P$14))))","v":""},{"$f":"IF(ISNA(Lists!$C20),\"\",IF((INDIRECT(\"'\"&Lists!$C20&\"'!\"&Lists!$D20&Q$14))=\"\",\"\",(INDIRECT(\"'\"&Lists!$C20&\"'!\"&Lists!$D20&Q$14))))","v":""},{"$f":"IF(ISNA(Lists!$C20),\"\",IF((INDIRECT(\"'\"&Lists!$C20&\"'!\"&Lists!$D20&R$14))=\"\",\"\",(INDIRECT(\"'\"&Lists!$C20&\"'!\"&Lists!$D20&R$14))))","v":""},{"$f":"IF(ISNA(Lists!$C20),\"\",IF((INDIRECT(\"'\"&Lists!$C20&\"'!\"&Lists!$D20&S$14))=\"\",\"\",(INDIRECT(\"'\"&Lists!$C20&\"'!\"&Lists!$D20&S$14))))","v":""},{"$f":"IF(ISNA(Lists!$C20),\"\",IF((INDIRECT(\"'\"&Lists!$C20&\"'!\"&Lists!$D20&T$14))=\"\",\"\",(INDIRECT(\"'\"&Lists!$C20&\"'!\"&Lists!$D20&T$14))))","v":""},{"$f":"IF(ISNA(Lists!$C20),\"\",IF((INDIRECT(\"'\"&Lists!$C20&\"'!\"&Lists!$D20&U$14))=\"\",\"\",(INDIRECT(\"'\"&Lists!$C20&\"'!\"&Lists!$D20&U$14))))","v":""},{"$f":"IF(ISNA(Lists!$C20),\"\",IF((INDIRECT(\"'\"&Lists!$C20&\"'!\"&Lists!$E20&V$14))=\"\",\"\",(INDIRECT(\"'\"&Lists!$C20&\"'!\"&Lists!$E20&V$14))))","v":""},{"$f":"IF(ISNA(Lists!$C20),\"\",IF((INDIRECT(\"'\"&Lists!$C20&\"'!\"&Lists!$E20&W$14))=\"\",\"\",(INDIRECT(\"'\"&Lists!$C20&\"'!\"&Lists!$E20&W$14))))","v":""},{"$f":"IF(ISNA(Lists!$C20),\"\",IF((INDIRECT(\"'\"&Lists!$C20&\"'!\"&Lists!$E20&X$14))=\"\",\"\",(INDIRECT(\"'\"&Lists!$C20&\"'!\"&Lists!$E20&X$14))))","v":""},{"$f":"IF(ISNA(Lists!$C20),\"\",IF((INDIRECT(\"'\"&Lists!$C20&\"'!\"&Lists!$E20&Y$14))=\"\",\"\",(INDIRECT(\"'\"&Lists!$C20&\"'!\"&Lists!$E20&Y$14))))","v":""},{"$f":"IF(ISNA(Lists!$C20),\"\",IF((INDIRECT(\"'\"&Lists!$C20&\"'!\"&Lists!$E20&Z$14))=\"\",\"\",(INDIRECT(\"'\"&Lists!$C20&\"'!\"&Lists!$E20&Z$14))))","v":""},{"$f":"IF(ISNA(Lists!$C20),\"\",IF((INDIRECT(\"'\"&Lists!$C20&\"'!\"&Lists!$E20&AA$14))=\"\",\"\",(INDIRECT(\"'\"&Lists!$C20&\"'!\"&Lists!$E20&AA$14))))","v":""},{"$f":"IF(ISNA(Lists!$C20),\"\",IF((INDIRECT(\"'\"&Lists!$C20&\"'!\"&Lists!$E20&AB$14))=\"\",\"\",(INDIRECT(\"'\"&Lists!$C20&\"'!\"&Lists!$E20&AB$14))))","v":""},{"$f":"IF(ISNA(Lists!$C20),\"\",IF((INDIRECT(\"'\"&Lists!$C20&\"'!\"&Lists!$E20&AC$14))=\"\",\"\",(INDIRECT(\"'\"&Lists!$C20&\"'!\"&Lists!$E20&AC$14))))","v":""},{"$f":"IF(ISNA(Lists!$C20),\"\",IF((INDIRECT(\"'\"&Lists!$C20&\"'!\"&Lists!$E20&AD$14))=\"\",\"\",(INDIRECT(\"'\"&Lists!$C20&\"'!\"&Lists!$E20&AD$14))))","v":""},{"$f":"IF(ISNA(Lists!$C20),\"\",IF((INDIRECT(\"'\"&Lists!$C20&\"'!\"&Lists!$E20&AE$14))=\"\",\"\",(INDIRECT(\"'\"&Lists!$C20&\"'!\"&Lists!$E20&AE$14))))","v":""},{"$f":"IF(ISNA(Lists!$C20),\"\",IF((INDIRECT(\"'\"&Lists!$C20&\"'!\"&Lists!$E20&AF$14))=\"\",\"\",(INDIRECT(\"'\"&Lists!$C20&\"'!\"&Lists!$E20&AF$14))))","v":""},{"$f":"IF(ISNA(Lists!$C20),\"\",IF((INDIRECT(\"'\"&Lists!$C20&\"'!\"&Lists!$E20&AG$14))=\"\",\"\",(INDIRECT(\"'\"&Lists!$C20&\"'!\"&Lists!$E20&AG$14))))","v":""},{"$f":"IF(ISNA(Lists!$C20),\"\",IF((INDIRECT(\"'\"&Lists!$C20&\"'!\"&Lists!$E20&AH$14))=\"\",\"\",(INDIRECT(\"'\"&Lists!$C20&\"'!\"&Lists!$E20&AH$14))))","v":""},{"$f":"IF(ISNA(Lists!$C20),\"\",IF((INDIRECT(\"'\"&Lists!$C20&\"'!\"&Lists!$E20&AI$14))=\"\",\"\",(INDIRECT(\"'\"&Lists!$C20&\"'!\"&Lists!$E20&AI$14))))","v":""},{"$f":"IF(ISNA(Lists!$C20),\"\",IF((INDIRECT(\"'\"&Lists!$C20&\"'!\"&Lists!$D20&AJ$14))=\"\",\"\",(INDIRECT(\"'\"&Lists!$C20&\"'!\"&Lists!$D20&AJ$14))))","v":""},{"$f":"IF(ISNA(Lists!$C20),\"\",IF((INDIRECT(\"'\"&Lists!$C20&\"'!\"&Lists!$D20&AK$14))=\"\",\"\",(INDIRECT(\"'\"&Lists!$C20&\"'!\"&Lists!$D20&AK$14))))","v":""},{"$f":"IF(ISNA(Lists!$C20),\"\",IF((INDIRECT(\"'\"&Lists!$C20&\"'!\"&Lists!$D20&AL$14))=\"\",\"\",(INDIRECT(\"'\"&Lists!$C20&\"'!\"&Lists!$D20&AL$14))))","v":""},{"$f":"IF(ISNA(Lists!$C20),\"\",IF((INDIRECT(\"'\"&Lists!$C20&\"'!\"&Lists!$D20&AM$14))=\"\",\"\",(INDIRECT(\"'\"&Lists!$C20&\"'!\"&Lists!$D20&AM$14))))","v":""},{"$f":"IF(ISNA(Lists!$C20),\"\",IF((INDIRECT(\"'\"&Lists!$C20&\"'!\"&Lists!$D20&AN$14))=\"\",\"\",(INDIRECT(\"'\"&Lists!$C20&\"'!\"&Lists!$D20&AN$14))))","v":""},{"$f":"IF(ISNA(Lists!$C20),\"\",IF((INDIRECT(\"'\"&Lists!$C20&\"'!\"&Lists!$D20&AO$14))=\"\",\"\",(INDIRECT(\"'\"&Lists!$C20&\"'!\"&Lists!$D20&AO$14))))","v":""},{"$f":"IF(ISNA(Lists!$C20),\"\",IF((INDIRECT(\"'\"&Lists!$C20&\"'!\"&Lists!$D20&AP$14))=\"\",\"\",(INDIRECT(\"'\"&Lists!$C20&\"'!\"&Lists!$D20&AP$14))))","v":""},{"$f":"IF(ISNA(Lists!$C20),\"\",IF((INDIRECT(\"'\"&Lists!$C20&\"'!\"&Lists!$D20&AQ$14))=\"\",\"\",(INDIRECT(\"'\"&Lists!$C20&\"'!\"&Lists!$D20&AQ$14))))","v":""},{"$f":"IF(ISNA(Lists!$C20),\"\",IF((INDIRECT(\"'\"&Lists!$C20&\"'!\"&Lists!$D20&AR$14))=\"\",\"\",(INDIRECT(\"'\"&Lists!$C20&\"'!\"&Lists!$D20&AR$14))))","v":""},{"$f":"IF(ISNA(Lists!$C20),\"\",IF((INDIRECT(\"'\"&Lists!$C20&\"'!\"&Lists!$D20&AS$14))=\"\",\"\",(INDIRECT(\"'\"&Lists!$C20&\"'!\"&Lists!$D20&AS$14))))","v":""}]
[null,{"$f":"IF(C43=\"\",\"\",Facility_Info_upload!$B$24)","v":""},{"$f":"IF(ISNA(Lists!$C21),\"\",IF(INDIRECT(\"'\"&Lists!$C21&\"'!\"&\"B\"&C$14)=\"\",\"\",(INDIRECT(\"'\"&Lists!$C21&\"'!\"&\"B\"&C$14))))","v":""},{"$f":"IF(ISNA(Lists!$C21),\"\",IF(INDIRECT(\"'\"&Lists!$C21&\"'!\"&\"B\"&D$14)=\"\",\"\",(INDIRECT(\"'\"&Lists!$C21&\"'!\"&\"B\"&D$14))))","v":""},{"$f":"IF(ISNA(Lists!$C21),\"\",IF(INDIRECT(\"'\"&Lists!$C21&\"'!\"&\"B\"&E$14)=\"\",\"\",(INDIRECT(\"'\"&Lists!$C21&\"'!\"&\"B\"&E$14))))","v":""},{"$f":"IF(ISNA(Lists!$C21),\"\",IF(INDIRECT(\"'\"&Lists!$C21&\"'!\"&\"B\"&F$14)=\"\",\"\",(INDIRECT(\"'\"&Lists!$C21&\"'!\"&\"B\"&F$14))))","v":""},{"$f":"IF(ISNA(Lists!$C21),\"\",IF(INDIRECT(\"'\"&Lists!$C21&\"'!\"&\"B\"&G$14)=\"\",\"\",(INDIRECT(\"'\"&Lists!$C21&\"'!\"&\"B\"&G$14))))","v":""},{"$f":"IF(ISNA(Lists!$C21),\"\",IF((INDIRECT(\"'\"&Lists!$C21&\"'!\"&Lists!$D21&H$14))=\"\",\"\",(INDIRECT(\"'\"&Lists!$C21&\"'!\"&Lists!$D21&H$14))))","v":""},{"$f":"IF(ISNA(Lists!$C21),\"\",IF((INDIRECT(\"'\"&Lists!$C21&\"'!\"&Lists!$D21&I$14))=\"\",\"\",(INDIRECT(\"'\"&Lists!$C21&\"'!\"&Lists!$D21&I$14))))","v":""},{"$f":"IF(ISNA(Lists!$C21),\"\",IF((INDIRECT(\"'\"&Lists!$C21&\"'!\"&Lists!$D21&J$14))=\"\",\"\",(INDIRECT(\"'\"&Lists!$C21&\"'!\"&Lists!$D21&J$14))))","v":""},{"$f":"IF(ISNA(Lists!$C21),\"\",IF((INDIRECT(\"'\"&Lists!$C21&\"'!\"&Lists!$D21&K$14))=\"\",\"\",(INDIRECT(\"'\"&Lists!$C21&\"'!\"&Lists!$D21&K$14))))","v":""},{"$f":"IF(ISNA(Lists!$C21),\"\",IF((INDIRECT(\"'\"&Lists!$C21&\"'!\"&Lists!$D21&L$14))=\"\",\"\",(INDIRECT(\"'\"&Lists!$C21&\"'!\"&Lists!$D21&L$14))))","v":""},{"$f":"IF(ISNA(Lists!$C21),\"\",IF((INDIRECT(\"'\"&Lists!$C21&\"'!\"&Lists!$D21&M$14))=\"\",\"\",(INDIRECT(\"'\"&Lists!$C21&\"'!\"&Lists!$D21&M$14))))","v":""},{"$f":"IF(ISNA(Lists!$C21),\"\",IF((INDIRECT(\"'\"&Lists!$C21&\"'!\"&Lists!$D21&N$14))=\"\",\"\",(INDIRECT(\"'\"&Lists!$C21&\"'!\"&Lists!$D21&N$14))))","v":""},{"$f":"IF(ISNA(Lists!$C21),\"\",IF((INDIRECT(\"'\"&Lists!$C21&\"'!\"&Lists!$D21&O$14))=\"\",\"\",(INDIRECT(\"'\"&Lists!$C21&\"'!\"&Lists!$D21&O$14))))","v":""},{"$f":"IF(ISNA(Lists!$C21),\"\",IF((INDIRECT(\"'\"&Lists!$C21&\"'!\"&Lists!$D21&P$14))=\"\",\"\",(INDIRECT(\"'\"&Lists!$C21&\"'!\"&Lists!$D21&P$14))))","v":""},{"$f":"IF(ISNA(Lists!$C21),\"\",IF((INDIRECT(\"'\"&Lists!$C21&\"'!\"&Lists!$D21&Q$14))=\"\",\"\",(INDIRECT(\"'\"&Lists!$C21&\"'!\"&Lists!$D21&Q$14))))","v":""},{"$f":"IF(ISNA(Lists!$C21),\"\",IF((INDIRECT(\"'\"&Lists!$C21&\"'!\"&Lists!$D21&R$14))=\"\",\"\",(INDIRECT(\"'\"&Lists!$C21&\"'!\"&Lists!$D21&R$14))))","v":""},{"$f":"IF(ISNA(Lists!$C21),\"\",IF((INDIRECT(\"'\"&Lists!$C21&\"'!\"&Lists!$D21&S$14))=\"\",\"\",(INDIRECT(\"'\"&Lists!$C21&\"'!\"&Lists!$D21&S$14))))","v":""},{"$f":"IF(ISNA(Lists!$C21),\"\",IF((INDIRECT(\"'\"&Lists!$C21&\"'!\"&Lists!$D21&T$14))=\"\",\"\",(INDIRECT(\"'\"&Lists!$C21&\"'!\"&Lists!$D21&T$14))))","v":""},{"$f":"IF(ISNA(Lists!$C21),\"\",IF((INDIRECT(\"'\"&Lists!$C21&\"'!\"&Lists!$D21&U$14))=\"\",\"\",(INDIRECT(\"'\"&Lists!$C21&\"'!\"&Lists!$D21&U$14))))","v":""},{"$f":"IF(ISNA(Lists!$C21),\"\",IF((INDIRECT(\"'\"&Lists!$C21&\"'!\"&Lists!$E21&V$14))=\"\",\"\",(INDIRECT(\"'\"&Lists!$C21&\"'!\"&Lists!$E21&V$14))))","v":""},{"$f":"IF(ISNA(Lists!$C21),\"\",IF((INDIRECT(\"'\"&Lists!$C21&\"'!\"&Lists!$E21&W$14))=\"\",\"\",(INDIRECT(\"'\"&Lists!$C21&\"'!\"&Lists!$E21&W$14))))","v":""},{"$f":"IF(ISNA(Lists!$C21),\"\",IF((INDIRECT(\"'\"&Lists!$C21&\"'!\"&Lists!$E21&X$14))=\"\",\"\",(INDIRECT(\"'\"&Lists!$C21&\"'!\"&Lists!$E21&X$14))))","v":""},{"$f":"IF(ISNA(Lists!$C21),\"\",IF((INDIRECT(\"'\"&Lists!$C21&\"'!\"&Lists!$E21&Y$14))=\"\",\"\",(INDIRECT(\"'\"&Lists!$C21&\"'!\"&Lists!$E21&Y$14))))","v":""},{"$f":"IF(ISNA(Lists!$C21),\"\",IF((INDIRECT(\"'\"&Lists!$C21&\"'!\"&Lists!$E21&Z$14))=\"\",\"\",(INDIRECT(\"'\"&Lists!$C21&\"'!\"&Lists!$E21&Z$14))))","v":""},{"$f":"IF(ISNA(Lists!$C21),\"\",IF((INDIRECT(\"'\"&Lists!$C21&\"'!\"&Lists!$E21&AA$14))=\"\",\"\",(INDIRECT(\"'\"&Lists!$C21&\"'!\"&Lists!$E21&AA$14))))","v":""},{"$f":"IF(ISNA(Lists!$C21),\"\",IF((INDIRECT(\"'\"&Lists!$C21&\"'!\"&Lists!$E21&AB$14))=\"\",\"\",(INDIRECT(\"'\"&Lists!$C21&\"'!\"&Lists!$E21&AB$14))))","v":""},{"$f":"IF(ISNA(Lists!$C21),\"\",IF((INDIRECT(\"'\"&Lists!$C21&\"'!\"&Lists!$E21&AC$14))=\"\",\"\",(INDIRECT(\"'\"&Lists!$C21&\"'!\"&Lists!$E21&AC$14))))","v":""},{"$f":"IF(ISNA(Lists!$C21),\"\",IF((INDIRECT(\"'\"&Lists!$C21&\"'!\"&Lists!$E21&AD$14))=\"\",\"\",(INDIRECT(\"'\"&Lists!$C21&\"'!\"&Lists!$E21&AD$14))))","v":""},{"$f":"IF(ISNA(Lists!$C21),\"\",IF((INDIRECT(\"'\"&Lists!$C21&\"'!\"&Lists!$E21&AE$14))=\"\",\"\",(INDIRECT(\"'\"&Lists!$C21&\"'!\"&Lists!$E21&AE$14))))","v":""},{"$f":"IF(ISNA(Lists!$C21),\"\",IF((INDIRECT(\"'\"&Lists!$C21&\"'!\"&Lists!$E21&AF$14))=\"\",\"\",(INDIRECT(\"'\"&Lists!$C21&\"'!\"&Lists!$E21&AF$14))))","v":""},{"$f":"IF(ISNA(Lists!$C21),\"\",IF((INDIRECT(\"'\"&Lists!$C21&\"'!\"&Lists!$E21&AG$14))=\"\",\"\",(INDIRECT(\"'\"&Lists!$C21&\"'!\"&Lists!$E21&AG$14))))","v":""},{"$f":"IF(ISNA(Lists!$C21),\"\",IF((INDIRECT(\"'\"&Lists!$C21&\"'!\"&Lists!$E21&AH$14))=\"\",\"\",(INDIRECT(\"'\"&Lists!$C21&\"'!\"&Lists!$E21&AH$14))))","v":""},{"$f":"IF(ISNA(Lists!$C21),\"\",IF((INDIRECT(\"'\"&Lists!$C21&\"'!\"&Lists!$E21&AI$14))=\"\",\"\",(INDIRECT(\"'\"&Lists!$C21&\"'!\"&Lists!$E21&AI$14))))","v":""},{"$f":"IF(ISNA(Lists!$C21),\"\",IF((INDIRECT(\"'\"&Lists!$C21&\"'!\"&Lists!$D21&AJ$14))=\"\",\"\",(INDIRECT(\"'\"&Lists!$C21&\"'!\"&Lists!$D21&AJ$14))))","v":""},{"$f":"IF(ISNA(Lists!$C21),\"\",IF((INDIRECT(\"'\"&Lists!$C21&\"'!\"&Lists!$D21&AK$14))=\"\",\"\",(INDIRECT(\"'\"&Lists!$C21&\"'!\"&Lists!$D21&AK$14))))","v":""},{"$f":"IF(ISNA(Lists!$C21),\"\",IF((INDIRECT(\"'\"&Lists!$C21&\"'!\"&Lists!$D21&AL$14))=\"\",\"\",(INDIRECT(\"'\"&Lists!$C21&\"'!\"&Lists!$D21&AL$14))))","v":""},{"$f":"IF(ISNA(Lists!$C21),\"\",IF((INDIRECT(\"'\"&Lists!$C21&\"'!\"&Lists!$D21&AM$14))=\"\",\"\",(INDIRECT(\"'\"&Lists!$C21&\"'!\"&Lists!$D21&AM$14))))","v":""},{"$f":"IF(ISNA(Lists!$C21),\"\",IF((INDIRECT(\"'\"&Lists!$C21&\"'!\"&Lists!$D21&AN$14))=\"\",\"\",(INDIRECT(\"'\"&Lists!$C21&\"'!\"&Lists!$D21&AN$14))))","v":""},{"$f":"IF(ISNA(Lists!$C21),\"\",IF((INDIRECT(\"'\"&Lists!$C21&\"'!\"&Lists!$D21&AO$14))=\"\",\"\",(INDIRECT(\"'\"&Lists!$C21&\"'!\"&Lists!$D21&AO$14))))","v":""},{"$f":"IF(ISNA(Lists!$C21),\"\",IF((INDIRECT(\"'\"&Lists!$C21&\"'!\"&Lists!$D21&AP$14))=\"\",\"\",(INDIRECT(\"'\"&Lists!$C21&\"'!\"&Lists!$D21&AP$14))))","v":""},{"$f":"IF(ISNA(Lists!$C21),\"\",IF((INDIRECT(\"'\"&Lists!$C21&\"'!\"&Lists!$D21&AQ$14))=\"\",\"\",(INDIRECT(\"'\"&Lists!$C21&\"'!\"&Lists!$D21&AQ$14))))","v":""},{"$f":"IF(ISNA(Lists!$C21),\"\",IF((INDIRECT(\"'\"&Lists!$C21&\"'!\"&Lists!$D21&AR$14))=\"\",\"\",(INDIRECT(\"'\"&Lists!$C21&\"'!\"&Lists!$D21&AR$14))))","v":""},{"$f":"IF(ISNA(Lists!$C21),\"\",IF((INDIRECT(\"'\"&Lists!$C21&\"'!\"&Lists!$D21&AS$14))=\"\",\"\",(INDIRECT(\"'\"&Lists!$C21&\"'!\"&Lists!$D21&AS$14))))","v":""}]
[null,{"$f":"IF(C44=\"\",\"\",Facility_Info_upload!$B$24)","v":""},{"$f":"IF(ISNA(Lists!$C22),\"\",IF(INDIRECT(\"'\"&Lists!$C22&\"'!\"&\"B\"&C$14)=\"\",\"\",(INDIRECT(\"'\"&Lists!$C22&\"'!\"&\"B\"&C$14))))","v":""},{"$f":"IF(ISNA(Lists!$C22),\"\",IF(INDIRECT(\"'\"&Lists!$C22&\"'!\"&\"B\"&D$14)=\"\",\"\",(INDIRECT(\"'\"&Lists!$C22&\"'!\"&\"B\"&D$14))))","v":""},{"$f":"IF(ISNA(Lists!$C22),\"\",IF(INDIRECT(\"'\"&Lists!$C22&\"'!\"&\"B\"&E$14)=\"\",\"\",(INDIRECT(\"'\"&Lists!$C22&\"'!\"&\"B\"&E$14))))","v":""},{"$f":"IF(ISNA(Lists!$C22),\"\",IF(INDIRECT(\"'\"&Lists!$C22&\"'!\"&\"B\"&F$14)=\"\",\"\",(INDIRECT(\"'\"&Lists!$C22&\"'!\"&\"B\"&F$14))))","v":""},{"$f":"IF(ISNA(Lists!$C22),\"\",IF(INDIRECT(\"'\"&Lists!$C22&\"'!\"&\"B\"&G$14)=\"\",\"\",(INDIRECT(\"'\"&Lists!$C22&\"'!\"&\"B\"&G$14))))","v":""},{"$f":"IF(ISNA(Lists!$C22),\"\",IF((INDIRECT(\"'\"&Lists!$C22&\"'!\"&Lists!$D22&H$14))=\"\",\"\",(INDIRECT(\"'\"&Lists!$C22&\"'!\"&Lists!$D22&H$14))))","v":""},{"$f":"IF(ISNA(Lists!$C22),\"\",IF((INDIRECT(\"'\"&Lists!$C22&\"'!\"&Lists!$D22&I$14))=\"\",\"\",(INDIRECT(\"'\"&Lists!$C22&\"'!\"&Lists!$D22&I$14))))","v":""},{"$f":"IF(ISNA(Lists!$C22),\"\",IF((INDIRECT(\"'\"&Lists!$C22&\"'!\"&Lists!$D22&J$14))=\"\",\"\",(INDIRECT(\"'\"&Lists!$C22&\"'!\"&Lists!$D22&J$14))))","v":""},{"$f":"IF(ISNA(Lists!$C22),\"\",IF((INDIRECT(\"'\"&Lists!$C22&\"'!\"&Lists!$D22&K$14))=\"\",\"\",(INDIRECT(\"'\"&Lists!$C22&\"'!\"&Lists!$D22&K$14))))","v":""},{"$f":"IF(ISNA(Lists!$C22),\"\",IF((INDIRECT(\"'\"&Lists!$C22&\"'!\"&Lists!$D22&L$14))=\"\",\"\",(INDIRECT(\"'\"&Lists!$C22&\"'!\"&Lists!$D22&L$14))))","v":""},{"$f":"IF(ISNA(Lists!$C22),\"\",IF((INDIRECT(\"'\"&Lists!$C22&\"'!\"&Lists!$D22&M$14))=\"\",\"\",(INDIRECT(\"'\"&Lists!$C22&\"'!\"&Lists!$D22&M$14))))","v":""},{"$f":"IF(ISNA(Lists!$C22),\"\",IF((INDIRECT(\"'\"&Lists!$C22&\"'!\"&Lists!$D22&N$14))=\"\",\"\",(INDIRECT(\"'\"&Lists!$C22&\"'!\"&Lists!$D22&N$14))))","v":""},{"$f":"IF(ISNA(Lists!$C22),\"\",IF((INDIRECT(\"'\"&Lists!$C22&\"'!\"&Lists!$D22&O$14))=\"\",\"\",(INDIRECT(\"'\"&Lists!$C22&\"'!\"&Lists!$D22&O$14))))","v":""},{"$f":"IF(ISNA(Lists!$C22),\"\",IF((INDIRECT(\"'\"&Lists!$C22&\"'!\"&Lists!$D22&P$14))=\"\",\"\",(INDIRECT(\"'\"&Lists!$C22&\"'!\"&Lists!$D22&P$14))))","v":""},{"$f":"IF(ISNA(Lists!$C22),\"\",IF((INDIRECT(\"'\"&Lists!$C22&\"'!\"&Lists!$D22&Q$14))=\"\",\"\",(INDIRECT(\"'\"&Lists!$C22&\"'!\"&Lists!$D22&Q$14))))","v":""},{"$f":"IF(ISNA(Lists!$C22),\"\",IF((INDIRECT(\"'\"&Lists!$C22&\"'!\"&Lists!$D22&R$14))=\"\",\"\",(INDIRECT(\"'\"&Lists!$C22&\"'!\"&Lists!$D22&R$14))))","v":""},{"$f":"IF(ISNA(Lists!$C22),\"\",IF((INDIRECT(\"'\"&Lists!$C22&\"'!\"&Lists!$D22&S$14))=\"\",\"\",(INDIRECT(\"'\"&Lists!$C22&\"'!\"&Lists!$D22&S$14))))","v":""},{"$f":"IF(ISNA(Lists!$C22),\"\",IF((INDIRECT(\"'\"&Lists!$C22&\"'!\"&Lists!$D22&T$14))=\"\",\"\",(INDIRECT(\"'\"&Lists!$C22&\"'!\"&Lists!$D22&T$14))))","v":""},{"$f":"IF(ISNA(Lists!$C22),\"\",IF((INDIRECT(\"'\"&Lists!$C22&\"'!\"&Lists!$D22&U$14))=\"\",\"\",(INDIRECT(\"'\"&Lists!$C22&\"'!\"&Lists!$D22&U$14))))","v":""},{"$f":"IF(ISNA(Lists!$C22),\"\",IF((INDIRECT(\"'\"&Lists!$C22&\"'!\"&Lists!$E22&V$14))=\"\",\"\",(INDIRECT(\"'\"&Lists!$C22&\"'!\"&Lists!$E22&V$14))))","v":""},{"$f":"IF(ISNA(Lists!$C22),\"\",IF((INDIRECT(\"'\"&Lists!$C22&\"'!\"&Lists!$E22&W$14))=\"\",\"\",(INDIRECT(\"'\"&Lists!$C22&\"'!\"&Lists!$E22&W$14))))","v":""},{"$f":"IF(ISNA(Lists!$C22),\"\",IF((INDIRECT(\"'\"&Lists!$C22&\"'!\"&Lists!$E22&X$14))=\"\",\"\",(INDIRECT(\"'\"&Lists!$C22&\"'!\"&Lists!$E22&X$14))))","v":""},{"$f":"IF(ISNA(Lists!$C22),\"\",IF((INDIRECT(\"'\"&Lists!$C22&\"'!\"&Lists!$E22&Y$14))=\"\",\"\",(INDIRECT(\"'\"&Lists!$C22&\"'!\"&Lists!$E22&Y$14))))","v":""},{"$f":"IF(ISNA(Lists!$C22),\"\",IF((INDIRECT(\"'\"&Lists!$C22&\"'!\"&Lists!$E22&Z$14))=\"\",\"\",(INDIRECT(\"'\"&Lists!$C22&\"'!\"&Lists!$E22&Z$14))))","v":""},{"$f":"IF(ISNA(Lists!$C22),\"\",IF((INDIRECT(\"'\"&Lists!$C22&\"'!\"&Lists!$E22&AA$14))=\"\",\"\",(INDIRECT(\"'\"&Lists!$C22&\"'!\"&Lists!$E22&AA$14))))","v":""},{"$f":"IF(ISNA(Lists!$C22),\"\",IF((INDIRECT(\"'\"&Lists!$C22&\"'!\"&Lists!$E22&AB$14))=\"\",\"\",(INDIRECT(\"'\"&Lists!$C22&\"'!\"&Lists!$E22&AB$14))))","v":""},{"$f":"IF(ISNA(Lists!$C22),\"\",IF((INDIRECT(\"'\"&Lists!$C22&\"'!\"&Lists!$E22&AC$14))=\"\",\"\",(INDIRECT(\"'\"&Lists!$C22&\"'!\"&Lists!$E22&AC$14))))","v":""},{"$f":"IF(ISNA(Lists!$C22),\"\",IF((INDIRECT(\"'\"&Lists!$C22&\"'!\"&Lists!$E22&AD$14))=\"\",\"\",(INDIRECT(\"'\"&Lists!$C22&\"'!\"&Lists!$E22&AD$14))))","v":""},{"$f":"IF(ISNA(Lists!$C22),\"\",IF((INDIRECT(\"'\"&Lists!$C22&\"'!\"&Lists!$E22&AE$14))=\"\",\"\",(INDIRECT(\"'\"&Lists!$C22&\"'!\"&Lists!$E22&AE$14))))","v":""},{"$f":"IF(ISNA(Lists!$C22),\"\",IF((INDIRECT(\"'\"&Lists!$C22&\"'!\"&Lists!$E22&AF$14))=\"\",\"\",(INDIRECT(\"'\"&Lists!$C22&\"'!\"&Lists!$E22&AF$14))))","v":""},{"$f":"IF(ISNA(Lists!$C22),\"\",IF((INDIRECT(\"'\"&Lists!$C22&\"'!\"&Lists!$E22&AG$14))=\"\",\"\",(INDIRECT(\"'\"&Lists!$C22&\"'!\"&Lists!$E22&AG$14))))","v":""},{"$f":"IF(ISNA(Lists!$C22),\"\",IF((INDIRECT(\"'\"&Lists!$C22&\"'!\"&Lists!$E22&AH$14))=\"\",\"\",(INDIRECT(\"'\"&Lists!$C22&\"'!\"&Lists!$E22&AH$14))))","v":""},{"$f":"IF(ISNA(Lists!$C22),\"\",IF((INDIRECT(\"'\"&Lists!$C22&\"'!\"&Lists!$E22&AI$14))=\"\",\"\",(INDIRECT(\"'\"&Lists!$C22&\"'!\"&Lists!$E22&AI$14))))","v":""},{"$f":"IF(ISNA(Lists!$C22),\"\",IF((INDIRECT(\"'\"&Lists!$C22&\"'!\"&Lists!$D22&AJ$14))=\"\",\"\",(INDIRECT(\"'\"&Lists!$C22&\"'!\"&Lists!$D22&AJ$14))))","v":""},{"$f":"IF(ISNA(Lists!$C22),\"\",IF((INDIRECT(\"'\"&Lists!$C22&\"'!\"&Lists!$D22&AK$14))=\"\",\"\",(INDIRECT(\"'\"&Lists!$C22&\"'!\"&Lists!$D22&AK$14))))","v":""},{"$f":"IF(ISNA(Lists!$C22),\"\",IF((INDIRECT(\"'\"&Lists!$C22&\"'!\"&Lists!$D22&AL$14))=\"\",\"\",(INDIRECT(\"'\"&Lists!$C22&\"'!\"&Lists!$D22&AL$14))))","v":""},{"$f":"IF(ISNA(Lists!$C22),\"\",IF((INDIRECT(\"'\"&Lists!$C22&\"'!\"&Lists!$D22&AM$14))=\"\",\"\",(INDIRECT(\"'\"&Lists!$C22&\"'!\"&Lists!$D22&AM$14))))","v":""},{"$f":"IF(ISNA(Lists!$C22),\"\",IF((INDIRECT(\"'\"&Lists!$C22&\"'!\"&Lists!$D22&AN$14))=\"\",\"\",(INDIRECT(\"'\"&Lists!$C22&\"'!\"&Lists!$D22&AN$14))))","v":""},{"$f":"IF(ISNA(Lists!$C22),\"\",IF((INDIRECT(\"'\"&Lists!$C22&\"'!\"&Lists!$D22&AO$14))=\"\",\"\",(INDIRECT(\"'\"&Lists!$C22&\"'!\"&Lists!$D22&AO$14))))","v":""},{"$f":"IF(ISNA(Lists!$C22),\"\",IF((INDIRECT(\"'\"&Lists!$C22&\"'!\"&Lists!$D22&AP$14))=\"\",\"\",(INDIRECT(\"'\"&Lists!$C22&\"'!\"&Lists!$D22&AP$14))))","v":""},{"$f":"IF(ISNA(Lists!$C22),\"\",IF((INDIRECT(\"'\"&Lists!$C22&\"'!\"&Lists!$D22&AQ$14))=\"\",\"\",(INDIRECT(\"'\"&Lists!$C22&\"'!\"&Lists!$D22&AQ$14))))","v":""},{"$f":"IF(ISNA(Lists!$C22),\"\",IF((INDIRECT(\"'\"&Lists!$C22&\"'!\"&Lists!$D22&AR$14))=\"\",\"\",(INDIRECT(\"'\"&Lists!$C22&\"'!\"&Lists!$D22&AR$14))))","v":""},{"$f":"IF(ISNA(Lists!$C22),\"\",IF((INDIRECT(\"'\"&Lists!$C22&\"'!\"&Lists!$D22&AS$14))=\"\",\"\",(INDIRECT(\"'\"&Lists!$C22&\"'!\"&Lists!$D22&AS$14))))","v":""}]
[null,{"$f":"IF(C45=\"\",\"\",Facility_Info_upload!$B$24)","v":""},{"$f":"IF(ISNA(Lists!$C23),\"\",IF(INDIRECT(\"'\"&Lists!$C23&\"'!\"&\"B\"&C$14)=\"\",\"\",(INDIRECT(\"'\"&Lists!$C23&\"'!\"&\"B\"&C$14))))","v":""},{"$f":"IF(ISNA(Lists!$C23),\"\",IF(INDIRECT(\"'\"&Lists!$C23&\"'!\"&\"B\"&D$14)=\"\",\"\",(INDIRECT(\"'\"&Lists!$C23&\"'!\"&\"B\"&D$14))))","v":""},{"$f":"IF(ISNA(Lists!$C23),\"\",IF(INDIRECT(\"'\"&Lists!$C23&\"'!\"&\"B\"&E$14)=\"\",\"\",(INDIRECT(\"'\"&Lists!$C23&\"'!\"&\"B\"&E$14))))","v":""},{"$f":"IF(ISNA(Lists!$C23),\"\",IF(INDIRECT(\"'\"&Lists!$C23&\"'!\"&\"B\"&F$14)=\"\",\"\",(INDIRECT(\"'\"&Lists!$C23&\"'!\"&\"B\"&F$14))))","v":""},{"$f":"IF(ISNA(Lists!$C23),\"\",IF(INDIRECT(\"'\"&Lists!$C23&\"'!\"&\"B\"&G$14)=\"\",\"\",(INDIRECT(\"'\"&Lists!$C23&\"'!\"&\"B\"&G$14))))","v":""},{"$f":"IF(ISNA(Lists!$C23),\"\",IF((INDIRECT(\"'\"&Lists!$C23&\"'!\"&Lists!$D23&H$14))=\"\",\"\",(INDIRECT(\"'\"&Lists!$C23&\"'!\"&Lists!$D23&H$14))))","v":""},{"$f":"IF(ISNA(Lists!$C23),\"\",IF((INDIRECT(\"'\"&Lists!$C23&\"'!\"&Lists!$D23&I$14))=\"\",\"\",(INDIRECT(\"'\"&Lists!$C23&\"'!\"&Lists!$D23&I$14))))","v":""},{"$f":"IF(ISNA(Lists!$C23),\"\",IF((INDIRECT(\"'\"&Lists!$C23&\"'!\"&Lists!$D23&J$14))=\"\",\"\",(INDIRECT(\"'\"&Lists!$C23&\"'!\"&Lists!$D23&J$14))))","v":""},{"$f":"IF(ISNA(Lists!$C23),\"\",IF((INDIRECT(\"'\"&Lists!$C23&\"'!\"&Lists!$D23&K$14))=\"\",\"\",(INDIRECT(\"'\"&Lists!$C23&\"'!\"&Lists!$D23&K$14))))","v":""},{"$f":"IF(ISNA(Lists!$C23),\"\",IF((INDIRECT(\"'\"&Lists!$C23&\"'!\"&Lists!$D23&L$14))=\"\",\"\",(INDIRECT(\"'\"&Lists!$C23&\"'!\"&Lists!$D23&L$14))))","v":""},{"$f":"IF(ISNA(Lists!$C23),\"\",IF((INDIRECT(\"'\"&Lists!$C23&\"'!\"&Lists!$D23&M$14))=\"\",\"\",(INDIRECT(\"'\"&Lists!$C23&\"'!\"&Lists!$D23&M$14))))","v":""},{"$f":"IF(ISNA(Lists!$C23),\"\",IF((INDIRECT(\"'\"&Lists!$C23&\"'!\"&Lists!$D23&N$14))=\"\",\"\",(INDIRECT(\"'\"&Lists!$C23&\"'!\"&Lists!$D23&N$14))))","v":""},{"$f":"IF(ISNA(Lists!$C23),\"\",IF((INDIRECT(\"'\"&Lists!$C23&\"'!\"&Lists!$D23&O$14))=\"\",\"\",(INDIRECT(\"'\"&Lists!$C23&\"'!\"&Lists!$D23&O$14))))","v":""},{"$f":"IF(ISNA(Lists!$C23),\"\",IF((INDIRECT(\"'\"&Lists!$C23&\"'!\"&Lists!$D23&P$14))=\"\",\"\",(INDIRECT(\"'\"&Lists!$C23&\"'!\"&Lists!$D23&P$14))))","v":""},{"$f":"IF(ISNA(Lists!$C23),\"\",IF((INDIRECT(\"'\"&Lists!$C23&\"'!\"&Lists!$D23&Q$14))=\"\",\"\",(INDIRECT(\"'\"&Lists!$C23&\"'!\"&Lists!$D23&Q$14))))","v":""},{"$f":"IF(ISNA(Lists!$C23),\"\",IF((INDIRECT(\"'\"&Lists!$C23&\"'!\"&Lists!$D23&R$14))=\"\",\"\",(INDIRECT(\"'\"&Lists!$C23&\"'!\"&Lists!$D23&R$14))))","v":""},{"$f":"IF(ISNA(Lists!$C23),\"\",IF((INDIRECT(\"'\"&Lists!$C23&\"'!\"&Lists!$D23&S$14))=\"\",\"\",(INDIRECT(\"'\"&Lists!$C23&\"'!\"&Lists!$D23&S$14))))","v":""},{"$f":"IF(ISNA(Lists!$C23),\"\",IF((INDIRECT(\"'\"&Lists!$C23&\"'!\"&Lists!$D23&T$14))=\"\",\"\",(INDIRECT(\"'\"&Lists!$C23&\"'!\"&Lists!$D23&T$14))))","v":""},{"$f":"IF(ISNA(Lists!$C23),\"\",IF((INDIRECT(\"'\"&Lists!$C23&\"'!\"&Lists!$D23&U$14))=\"\",\"\",(INDIRECT(\"'\"&Lists!$C23&\"'!\"&Lists!$D23&U$14))))","v":""},{"$f":"IF(ISNA(Lists!$C23),\"\",IF((INDIRECT(\"'\"&Lists!$C23&\"'!\"&Lists!$E23&V$14))=\"\",\"\",(INDIRECT(\"'\"&Lists!$C23&\"'!\"&Lists!$E23&V$14))))","v":""},{"$f":"IF(ISNA(Lists!$C23),\"\",IF((INDIRECT(\"'\"&Lists!$C23&\"'!\"&Lists!$E23&W$14))=\"\",\"\",(INDIRECT(\"'\"&Lists!$C23&\"'!\"&Lists!$E23&W$14))))","v":""},{"$f":"IF(ISNA(Lists!$C23),\"\",IF((INDIRECT(\"'\"&Lists!$C23&\"'!\"&Lists!$E23&X$14))=\"\",\"\",(INDIRECT(\"'\"&Lists!$C23&\"'!\"&Lists!$E23&X$14))))","v":""},{"$f":"IF(ISNA(Lists!$C23),\"\",IF((INDIRECT(\"'\"&Lists!$C23&\"'!\"&Lists!$E23&Y$14))=\"\",\"\",(INDIRECT(\"'\"&Lists!$C23&\"'!\"&Lists!$E23&Y$14))))","v":""},{"$f":"IF(ISNA(Lists!$C23),\"\",IF((INDIRECT(\"'\"&Lists!$C23&\"'!\"&Lists!$E23&Z$14))=\"\",\"\",(INDIRECT(\"'\"&Lists!$C23&\"'!\"&Lists!$E23&Z$14))))","v":""},{"$f":"IF(ISNA(Lists!$C23),\"\",IF((INDIRECT(\"'\"&Lists!$C23&\"'!\"&Lists!$E23&AA$14))=\"\",\"\",(INDIRECT(\"'\"&Lists!$C23&\"'!\"&Lists!$E23&AA$14))))","v":""},{"$f":"IF(ISNA(Lists!$C23),\"\",IF((INDIRECT(\"'\"&Lists!$C23&\"'!\"&Lists!$E23&AB$14))=\"\",\"\",(INDIRECT(\"'\"&Lists!$C23&\"'!\"&Lists!$E23&AB$14))))","v":""},{"$f":"IF(ISNA(Lists!$C23),\"\",IF((INDIRECT(\"'\"&Lists!$C23&\"'!\"&Lists!$E23&AC$14))=\"\",\"\",(INDIRECT(\"'\"&Lists!$C23&\"'!\"&Lists!$E23&AC$14))))","v":""},{"$f":"IF(ISNA(Lists!$C23),\"\",IF((INDIRECT(\"'\"&Lists!$C23&\"'!\"&Lists!$E23&AD$14))=\"\",\"\",(INDIRECT(\"'\"&Lists!$C23&\"'!\"&Lists!$E23&AD$14))))","v":""},{"$f":"IF(ISNA(Lists!$C23),\"\",IF((INDIRECT(\"'\"&Lists!$C23&\"'!\"&Lists!$E23&AE$14))=\"\",\"\",(INDIRECT(\"'\"&Lists!$C23&\"'!\"&Lists!$E23&AE$14))))","v":""},{"$f":"IF(ISNA(Lists!$C23),\"\",IF((INDIRECT(\"'\"&Lists!$C23&\"'!\"&Lists!$E23&AF$14))=\"\",\"\",(INDIRECT(\"'\"&Lists!$C23&\"'!\"&Lists!$E23&AF$14))))","v":""},{"$f":"IF(ISNA(Lists!$C23),\"\",IF((INDIRECT(\"'\"&Lists!$C23&\"'!\"&Lists!$E23&AG$14))=\"\",\"\",(INDIRECT(\"'\"&Lists!$C23&\"'!\"&Lists!$E23&AG$14))))","v":""},{"$f":"IF(ISNA(Lists!$C23),\"\",IF((INDIRECT(\"'\"&Lists!$C23&\"'!\"&Lists!$E23&AH$14))=\"\",\"\",(INDIRECT(\"'\"&Lists!$C23&\"'!\"&Lists!$E23&AH$14))))","v":""},{"$f":"IF(ISNA(Lists!$C23),\"\",IF((INDIRECT(\"'\"&Lists!$C23&\"'!\"&Lists!$E23&AI$14))=\"\",\"\",(INDIRECT(\"'\"&Lists!$C23&\"'!\"&Lists!$E23&AI$14))))","v":""},{"$f":"IF(ISNA(Lists!$C23),\"\",IF((INDIRECT(\"'\"&Lists!$C23&\"'!\"&Lists!$D23&AJ$14))=\"\",\"\",(INDIRECT(\"'\"&Lists!$C23&\"'!\"&Lists!$D23&AJ$14))))","v":""},{"$f":"IF(ISNA(Lists!$C23),\"\",IF((INDIRECT(\"'\"&Lists!$C23&\"'!\"&Lists!$D23&AK$14))=\"\",\"\",(INDIRECT(\"'\"&Lists!$C23&\"'!\"&Lists!$D23&AK$14))))","v":""},{"$f":"IF(ISNA(Lists!$C23),\"\",IF((INDIRECT(\"'\"&Lists!$C23&\"'!\"&Lists!$D23&AL$14))=\"\",\"\",(INDIRECT(\"'\"&Lists!$C23&\"'!\"&Lists!$D23&AL$14))))","v":""},{"$f":"IF(ISNA(Lists!$C23),\"\",IF((INDIRECT(\"'\"&Lists!$C23&\"'!\"&Lists!$D23&AM$14))=\"\",\"\",(INDIRECT(\"'\"&Lists!$C23&\"'!\"&Lists!$D23&AM$14))))","v":""},{"$f":"IF(ISNA(Lists!$C23),\"\",IF((INDIRECT(\"'\"&Lists!$C23&\"'!\"&Lists!$D23&AN$14))=\"\",\"\",(INDIRECT(\"'\"&Lists!$C23&\"'!\"&Lists!$D23&AN$14))))","v":""},{"$f":"IF(ISNA(Lists!$C23),\"\",IF((INDIRECT(\"'\"&Lists!$C23&\"'!\"&Lists!$D23&AO$14))=\"\",\"\",(INDIRECT(\"'\"&Lists!$C23&\"'!\"&Lists!$D23&AO$14))))","v":""},{"$f":"IF(ISNA(Lists!$C23),\"\",IF((INDIRECT(\"'\"&Lists!$C23&\"'!\"&Lists!$D23&AP$14))=\"\",\"\",(INDIRECT(\"'\"&Lists!$C23&\"'!\"&Lists!$D23&AP$14))))","v":""},{"$f":"IF(ISNA(Lists!$C23),\"\",IF((INDIRECT(\"'\"&Lists!$C23&\"'!\"&Lists!$D23&AQ$14))=\"\",\"\",(INDIRECT(\"'\"&Lists!$C23&\"'!\"&Lists!$D23&AQ$14))))","v":""},{"$f":"IF(ISNA(Lists!$C23),\"\",IF((INDIRECT(\"'\"&Lists!$C23&\"'!\"&Lists!$D23&AR$14))=\"\",\"\",(INDIRECT(\"'\"&Lists!$C23&\"'!\"&Lists!$D23&AR$14))))","v":""},{"$f":"IF(ISNA(Lists!$C23),\"\",IF((INDIRECT(\"'\"&Lists!$C23&\"'!\"&Lists!$D23&AS$14))=\"\",\"\",(INDIRECT(\"'\"&Lists!$C23&\"'!\"&Lists!$D23&AS$14))))","v":""}]
[null,{"$f":"IF(C46=\"\",\"\",Facility_Info_upload!$B$24)","v":""},{"$f":"IF(ISNA(Lists!$C24),\"\",IF(INDIRECT(\"'\"&Lists!$C24&\"'!\"&\"B\"&C$14)=\"\",\"\",(INDIRECT(\"'\"&Lists!$C24&\"'!\"&\"B\"&C$14))))","v":""},{"$f":"IF(ISNA(Lists!$C24),\"\",IF(INDIRECT(\"'\"&Lists!$C24&\"'!\"&\"B\"&D$14)=\"\",\"\",(INDIRECT(\"'\"&Lists!$C24&\"'!\"&\"B\"&D$14))))","v":""},{"$f":"IF(ISNA(Lists!$C24),\"\",IF(INDIRECT(\"'\"&Lists!$C24&\"'!\"&\"B\"&E$14)=\"\",\"\",(INDIRECT(\"'\"&Lists!$C24&\"'!\"&\"B\"&E$14))))","v":""},{"$f":"IF(ISNA(Lists!$C24),\"\",IF(INDIRECT(\"'\"&Lists!$C24&\"'!\"&\"B\"&F$14)=\"\",\"\",(INDIRECT(\"'\"&Lists!$C24&\"'!\"&\"B\"&F$14))))","v":""},{"$f":"IF(ISNA(Lists!$C24),\"\",IF(INDIRECT(\"'\"&Lists!$C24&\"'!\"&\"B\"&G$14)=\"\",\"\",(INDIRECT(\"'\"&Lists!$C24&\"'!\"&\"B\"&G$14))))","v":""},{"$f":"IF(ISNA(Lists!$C24),\"\",IF((INDIRECT(\"'\"&Lists!$C24&\"'!\"&Lists!$D24&H$14))=\"\",\"\",(INDIRECT(\"'\"&Lists!$C24&\"'!\"&Lists!$D24&H$14))))","v":""},{"$f":"IF(ISNA(Lists!$C24),\"\",IF((INDIRECT(\"'\"&Lists!$C24&\"'!\"&Lists!$D24&I$14))=\"\",\"\",(INDIRECT(\"'\"&Lists!$C24&\"'!\"&Lists!$D24&I$14))))","v":""},{"$f":"IF(ISNA(Lists!$C24),\"\",IF((INDIRECT(\"'\"&Lists!$C24&\"'!\"&Lists!$D24&J$14))=\"\",\"\",(INDIRECT(\"'\"&Lists!$C24&\"'!\"&Lists!$D24&J$14))))","v":""},{"$f":"IF(ISNA(Lists!$C24),\"\",IF((INDIRECT(\"'\"&Lists!$C24&\"'!\"&Lists!$D24&K$14))=\"\",\"\",(INDIRECT(\"'\"&Lists!$C24&\"'!\"&Lists!$D24&K$14))))","v":""},{"$f":"IF(ISNA(Lists!$C24),\"\",IF((INDIRECT(\"'\"&Lists!$C24&\"'!\"&Lists!$D24&L$14))=\"\",\"\",(INDIRECT(\"'\"&Lists!$C24&\"'!\"&Lists!$D24&L$14))))","v":""},{"$f":"IF(ISNA(Lists!$C24),\"\",IF((INDIRECT(\"'\"&Lists!$C24&\"'!\"&Lists!$D24&M$14))=\"\",\"\",(INDIRECT(\"'\"&Lists!$C24&\"'!\"&Lists!$D24&M$14))))","v":""},{"$f":"IF(ISNA(Lists!$C24),\"\",IF((INDIRECT(\"'\"&Lists!$C24&\"'!\"&Lists!$D24&N$14))=\"\",\"\",(INDIRECT(\"'\"&Lists!$C24&\"'!\"&Lists!$D24&N$14))))","v":""},{"$f":"IF(ISNA(Lists!$C24),\"\",IF((INDIRECT(\"'\"&Lists!$C24&\"'!\"&Lists!$D24&O$14))=\"\",\"\",(INDIRECT(\"'\"&Lists!$C24&\"'!\"&Lists!$D24&O$14))))","v":""},{"$f":"IF(ISNA(Lists!$C24),\"\",IF((INDIRECT(\"'\"&Lists!$C24&\"'!\"&Lists!$D24&P$14))=\"\",\"\",(INDIRECT(\"'\"&Lists!$C24&\"'!\"&Lists!$D24&P$14))))","v":""},{"$f":"IF(ISNA(Lists!$C24),\"\",IF((INDIRECT(\"'\"&Lists!$C24&\"'!\"&Lists!$D24&Q$14))=\"\",\"\",(INDIRECT(\"'\"&Lists!$C24&\"'!\"&Lists!$D24&Q$14))))","v":""},{"$f":"IF(ISNA(Lists!$C24),\"\",IF((INDIRECT(\"'\"&Lists!$C24&\"'!\"&Lists!$D24&R$14))=\"\",\"\",(INDIRECT(\"'\"&Lists!$C24&\"'!\"&Lists!$D24&R$14))))","v":""},{"$f":"IF(ISNA(Lists!$C24),\"\",IF((INDIRECT(\"'\"&Lists!$C24&\"'!\"&Lists!$D24&S$14))=\"\",\"\",(INDIRECT(\"'\"&Lists!$C24&\"'!\"&Lists!$D24&S$14))))","v":""},{"$f":"IF(ISNA(Lists!$C24),\"\",IF((INDIRECT(\"'\"&Lists!$C24&\"'!\"&Lists!$D24&T$14))=\"\",\"\",(INDIRECT(\"'\"&Lists!$C24&\"'!\"&Lists!$D24&T$14))))","v":""},{"$f":"IF(ISNA(Lists!$C24),\"\",IF((INDIRECT(\"'\"&Lists!$C24&\"'!\"&Lists!$D24&U$14))=\"\",\"\",(INDIRECT(\"'\"&Lists!$C24&\"'!\"&Lists!$D24&U$14))))","v":""},{"$f":"IF(ISNA(Lists!$C24),\"\",IF((INDIRECT(\"'\"&Lists!$C24&\"'!\"&Lists!$E24&V$14))=\"\",\"\",(INDIRECT(\"'\"&Lists!$C24&\"'!\"&Lists!$E24&V$14))))","v":""},{"$f":"IF(ISNA(Lists!$C24),\"\",IF((INDIRECT(\"'\"&Lists!$C24&\"'!\"&Lists!$E24&W$14))=\"\",\"\",(INDIRECT(\"'\"&Lists!$C24&\"'!\"&Lists!$E24&W$14))))","v":""},{"$f":"IF(ISNA(Lists!$C24),\"\",IF((INDIRECT(\"'\"&Lists!$C24&\"'!\"&Lists!$E24&X$14))=\"\",\"\",(INDIRECT(\"'\"&Lists!$C24&\"'!\"&Lists!$E24&X$14))))","v":""},{"$f":"IF(ISNA(Lists!$C24),\"\",IF((INDIRECT(\"'\"&Lists!$C24&\"'!\"&Lists!$E24&Y$14))=\"\",\"\",(INDIRECT(\"'\"&Lists!$C24&\"'!\"&Lists!$E24&Y$14))))","v":""},{"$f":"IF(ISNA(Lists!$C24),\"\",IF((INDIRECT(\"'\"&Lists!$C24&\"'!\"&Lists!$E24&Z$14))=\"\",\"\",(INDIRECT(\"'\"&Lists!$C24&\"'!\"&Lists!$E24&Z$14))))","v":""},{"$f":"IF(ISNA(Lists!$C24),\"\",IF((INDIRECT(\"'\"&Lists!$C24&\"'!\"&Lists!$E24&AA$14))=\"\",\"\",(INDIRECT(\"'\"&Lists!$C24&\"'!\"&Lists!$E24&AA$14))))","v":""},{"$f":"IF(ISNA(Lists!$C24),\"\",IF((INDIRECT(\"'\"&Lists!$C24&\"'!\"&Lists!$E24&AB$14))=\"\",\"\",(INDIRECT(\"'\"&Lists!$C24&\"'!\"&Lists!$E24&AB$14))))","v":""},{"$f":"IF(ISNA(Lists!$C24),\"\",IF((INDIRECT(\"'\"&Lists!$C24&\"'!\"&Lists!$E24&AC$14))=\"\",\"\",(INDIRECT(\"'\"&Lists!$C24&\"'!\"&Lists!$E24&AC$14))))","v":""},{"$f":"IF(ISNA(Lists!$C24),\"\",IF((INDIRECT(\"'\"&Lists!$C24&\"'!\"&Lists!$E24&AD$14))=\"\",\"\",(INDIRECT(\"'\"&Lists!$C24&\"'!\"&Lists!$E24&AD$14))))","v":""},{"$f":"IF(ISNA(Lists!$C24),\"\",IF((INDIRECT(\"'\"&Lists!$C24&\"'!\"&Lists!$E24&AE$14))=\"\",\"\",(INDIRECT(\"'\"&Lists!$C24&\"'!\"&Lists!$E24&AE$14))))","v":""},{"$f":"IF(ISNA(Lists!$C24),\"\",IF((INDIRECT(\"'\"&Lists!$C24&\"'!\"&Lists!$E24&AF$14))=\"\",\"\",(INDIRECT(\"'\"&Lists!$C24&\"'!\"&Lists!$E24&AF$14))))","v":""},{"$f":"IF(ISNA(Lists!$C24),\"\",IF((INDIRECT(\"'\"&Lists!$C24&\"'!\"&Lists!$E24&AG$14))=\"\",\"\",(INDIRECT(\"'\"&Lists!$C24&\"'!\"&Lists!$E24&AG$14))))","v":""},{"$f":"IF(ISNA(Lists!$C24),\"\",IF((INDIRECT(\"'\"&Lists!$C24&\"'!\"&Lists!$E24&AH$14))=\"\",\"\",(INDIRECT(\"'\"&Lists!$C24&\"'!\"&Lists!$E24&AH$14))))","v":""},{"$f":"IF(ISNA(Lists!$C24),\"\",IF((INDIRECT(\"'\"&Lists!$C24&\"'!\"&Lists!$E24&AI$14))=\"\",\"\",(INDIRECT(\"'\"&Lists!$C24&\"'!\"&Lists!$E24&AI$14))))","v":""},{"$f":"IF(ISNA(Lists!$C24),\"\",IF((INDIRECT(\"'\"&Lists!$C24&\"'!\"&Lists!$D24&AJ$14))=\"\",\"\",(INDIRECT(\"'\"&Lists!$C24&\"'!\"&Lists!$D24&AJ$14))))","v":""},{"$f":"IF(ISNA(Lists!$C24),\"\",IF((INDIRECT(\"'\"&Lists!$C24&\"'!\"&Lists!$D24&AK$14))=\"\",\"\",(INDIRECT(\"'\"&Lists!$C24&\"'!\"&Lists!$D24&AK$14))))","v":""},{"$f":"IF(ISNA(Lists!$C24),\"\",IF((INDIRECT(\"'\"&Lists!$C24&\"'!\"&Lists!$D24&AL$14))=\"\",\"\",(INDIRECT(\"'\"&Lists!$C24&\"'!\"&Lists!$D24&AL$14))))","v":""},{"$f":"IF(ISNA(Lists!$C24),\"\",IF((INDIRECT(\"'\"&Lists!$C24&\"'!\"&Lists!$D24&AM$14))=\"\",\"\",(INDIRECT(\"'\"&Lists!$C24&\"'!\"&Lists!$D24&AM$14))))","v":""},{"$f":"IF(ISNA(Lists!$C24),\"\",IF((INDIRECT(\"'\"&Lists!$C24&\"'!\"&Lists!$D24&AN$14))=\"\",\"\",(INDIRECT(\"'\"&Lists!$C24&\"'!\"&Lists!$D24&AN$14))))","v":""},{"$f":"IF(ISNA(Lists!$C24),\"\",IF((INDIRECT(\"'\"&Lists!$C24&\"'!\"&Lists!$D24&AO$14))=\"\",\"\",(INDIRECT(\"'\"&Lists!$C24&\"'!\"&Lists!$D24&AO$14))))","v":""},{"$f":"IF(ISNA(Lists!$C24),\"\",IF((INDIRECT(\"'\"&Lists!$C24&\"'!\"&Lists!$D24&AP$14))=\"\",\"\",(INDIRECT(\"'\"&Lists!$C24&\"'!\"&Lists!$D24&AP$14))))","v":""},{"$f":"IF(ISNA(Lists!$C24),\"\",IF((INDIRECT(\"'\"&Lists!$C24&\"'!\"&Lists!$D24&AQ$14))=\"\",\"\",(INDIRECT(\"'\"&Lists!$C24&\"'!\"&Lists!$D24&AQ$14))))","v":""},{"$f":"IF(ISNA(Lists!$C24),\"\",IF((INDIRECT(\"'\"&Lists!$C24&\"'!\"&Lists!$D24&AR$14))=\"\",\"\",(INDIRECT(\"'\"&Lists!$C24&\"'!\"&Lists!$D24&AR$14))))","v":""},{"$f":"IF(ISNA(Lists!$C24),\"\",IF((INDIRECT(\"'\"&Lists!$C24&\"'!\"&Lists!$D24&AS$14))=\"\",\"\",(INDIRECT(\"'\"&Lists!$C24&\"'!\"&Lists!$D24&AS$14))))","v":""}]
[null,{"$f":"IF(C47=\"\",\"\",Facility_Info_upload!$B$24)","v":""},{"$f":"IF(ISNA(Lists!$C25),\"\",IF(INDIRECT(\"'\"&Lists!$C25&\"'!\"&\"B\"&C$14)=\"\",\"\",(INDIRECT(\"'\"&Lists!$C25&\"'!\"&\"B\"&C$14))))","v":""},{"$f":"IF(ISNA(Lists!$C25),\"\",IF(INDIRECT(\"'\"&Lists!$C25&\"'!\"&\"B\"&D$14)=\"\",\"\",(INDIRECT(\"'\"&Lists!$C25&\"'!\"&\"B\"&D$14))))","v":""},{"$f":"IF(ISNA(Lists!$C25),\"\",IF(INDIRECT(\"'\"&Lists!$C25&\"'!\"&\"B\"&E$14)=\"\",\"\",(INDIRECT(\"'\"&Lists!$C25&\"'!\"&\"B\"&E$14))))","v":""},{"$f":"IF(ISNA(Lists!$C25),\"\",IF(INDIRECT(\"'\"&Lists!$C25&\"'!\"&\"B\"&F$14)=\"\",\"\",(INDIRECT(\"'\"&Lists!$C25&\"'!\"&\"B\"&F$14))))","v":""},{"$f":"IF(ISNA(Lists!$C25),\"\",IF(INDIRECT(\"'\"&Lists!$C25&\"'!\"&\"B\"&G$14)=\"\",\"\",(INDIRECT(\"'\"&Lists!$C25&\"'!\"&\"B\"&G$14))))","v":""},{"$f":"IF(ISNA(Lists!$C25),\"\",IF((INDIRECT(\"'\"&Lists!$C25&\"'!\"&Lists!$D25&H$14))=\"\",\"\",(INDIRECT(\"'\"&Lists!$C25&\"'!\"&Lists!$D25&H$14))))","v":""},{"$f":"IF(ISNA(Lists!$C25),\"\",IF((INDIRECT(\"'\"&Lists!$C25&\"'!\"&Lists!$D25&I$14))=\"\",\"\",(INDIRECT(\"'\"&Lists!$C25&\"'!\"&Lists!$D25&I$14))))","v":""},{"$f":"IF(ISNA(Lists!$C25),\"\",IF((INDIRECT(\"'\"&Lists!$C25&\"'!\"&Lists!$D25&J$14))=\"\",\"\",(INDIRECT(\"'\"&Lists!$C25&\"'!\"&Lists!$D25&J$14))))","v":""},{"$f":"IF(ISNA(Lists!$C25),\"\",IF((INDIRECT(\"'\"&Lists!$C25&\"'!\"&Lists!$D25&K$14))=\"\",\"\",(INDIRECT(\"'\"&Lists!$C25&\"'!\"&Lists!$D25&K$14))))","v":""},{"$f":"IF(ISNA(Lists!$C25),\"\",IF((INDIRECT(\"'\"&Lists!$C25&\"'!\"&Lists!$D25&L$14))=\"\",\"\",(INDIRECT(\"'\"&Lists!$C25&\"'!\"&Lists!$D25&L$14))))","v":""},{"$f":"IF(ISNA(Lists!$C25),\"\",IF((INDIRECT(\"'\"&Lists!$C25&\"'!\"&Lists!$D25&M$14))=\"\",\"\",(INDIRECT(\"'\"&Lists!$C25&\"'!\"&Lists!$D25&M$14))))","v":""},{"$f":"IF(ISNA(Lists!$C25),\"\",IF((INDIRECT(\"'\"&Lists!$C25&\"'!\"&Lists!$D25&N$14))=\"\",\"\",(INDIRECT(\"'\"&Lists!$C25&\"'!\"&Lists!$D25&N$14))))","v":""},{"$f":"IF(ISNA(Lists!$C25),\"\",IF((INDIRECT(\"'\"&Lists!$C25&\"'!\"&Lists!$D25&O$14))=\"\",\"\",(INDIRECT(\"'\"&Lists!$C25&\"'!\"&Lists!$D25&O$14))))","v":""},{"$f":"IF(ISNA(Lists!$C25),\"\",IF((INDIRECT(\"'\"&Lists!$C25&\"'!\"&Lists!$D25&P$14))=\"\",\"\",(INDIRECT(\"'\"&Lists!$C25&\"'!\"&Lists!$D25&P$14))))","v":""},{"$f":"IF(ISNA(Lists!$C25),\"\",IF((INDIRECT(\"'\"&Lists!$C25&\"'!\"&Lists!$D25&Q$14))=\"\",\"\",(INDIRECT(\"'\"&Lists!$C25&\"'!\"&Lists!$D25&Q$14))))","v":""},{"$f":"IF(ISNA(Lists!$C25),\"\",IF((INDIRECT(\"'\"&Lists!$C25&\"'!\"&Lists!$D25&R$14))=\"\",\"\",(INDIRECT(\"'\"&Lists!$C25&\"'!\"&Lists!$D25&R$14))))","v":""},{"$f":"IF(ISNA(Lists!$C25),\"\",IF((INDIRECT(\"'\"&Lists!$C25&\"'!\"&Lists!$D25&S$14))=\"\",\"\",(INDIRECT(\"'\"&Lists!$C25&\"'!\"&Lists!$D25&S$14))))","v":""},{"$f":"IF(ISNA(Lists!$C25),\"\",IF((INDIRECT(\"'\"&Lists!$C25&\"'!\"&Lists!$D25&T$14))=\"\",\"\",(INDIRECT(\"'\"&Lists!$C25&\"'!\"&Lists!$D25&T$14))))","v":""},{"$f":"IF(ISNA(Lists!$C25),\"\",IF((INDIRECT(\"'\"&Lists!$C25&\"'!\"&Lists!$D25&U$14))=\"\",\"\",(INDIRECT(\"'\"&Lists!$C25&\"'!\"&Lists!$D25&U$14))))","v":""},{"$f":"IF(ISNA(Lists!$C25),\"\",IF((INDIRECT(\"'\"&Lists!$C25&\"'!\"&Lists!$E25&V$14))=\"\",\"\",(INDIRECT(\"'\"&Lists!$C25&\"'!\"&Lists!$E25&V$14))))","v":""},{"$f":"IF(ISNA(Lists!$C25),\"\",IF((INDIRECT(\"'\"&Lists!$C25&\"'!\"&Lists!$E25&W$14))=\"\",\"\",(INDIRECT(\"'\"&Lists!$C25&\"'!\"&Lists!$E25&W$14))))","v":""},{"$f":"IF(ISNA(Lists!$C25),\"\",IF((INDIRECT(\"'\"&Lists!$C25&\"'!\"&Lists!$E25&X$14))=\"\",\"\",(INDIRECT(\"'\"&Lists!$C25&\"'!\"&Lists!$E25&X$14))))","v":""},{"$f":"IF(ISNA(Lists!$C25),\"\",IF((INDIRECT(\"'\"&Lists!$C25&\"'!\"&Lists!$E25&Y$14))=\"\",\"\",(INDIRECT(\"'\"&Lists!$C25&\"'!\"&Lists!$E25&Y$14))))","v":""},{"$f":"IF(ISNA(Lists!$C25),\"\",IF((INDIRECT(\"'\"&Lists!$C25&\"'!\"&Lists!$E25&Z$14))=\"\",\"\",(INDIRECT(\"'\"&Lists!$C25&\"'!\"&Lists!$E25&Z$14))))","v":""},{"$f":"IF(ISNA(Lists!$C25),\"\",IF((INDIRECT(\"'\"&Lists!$C25&\"'!\"&Lists!$E25&AA$14))=\"\",\"\",(INDIRECT(\"'\"&Lists!$C25&\"'!\"&Lists!$E25&AA$14))))","v":""},{"$f":"IF(ISNA(Lists!$C25),\"\",IF((INDIRECT(\"'\"&Lists!$C25&\"'!\"&Lists!$E25&AB$14))=\"\",\"\",(INDIRECT(\"'\"&Lists!$C25&\"'!\"&Lists!$E25&AB$14))))","v":""},{"$f":"IF(ISNA(Lists!$C25),\"\",IF((INDIRECT(\"'\"&Lists!$C25&\"'!\"&Lists!$E25&AC$14))=\"\",\"\",(INDIRECT(\"'\"&Lists!$C25&\"'!\"&Lists!$E25&AC$14))))","v":""},{"$f":"IF(ISNA(Lists!$C25),\"\",IF((INDIRECT(\"'\"&Lists!$C25&\"'!\"&Lists!$E25&AD$14))=\"\",\"\",(INDIRECT(\"'\"&Lists!$C25&\"'!\"&Lists!$E25&AD$14))))","v":""},{"$f":"IF(ISNA(Lists!$C25),\"\",IF((INDIRECT(\"'\"&Lists!$C25&\"'!\"&Lists!$E25&AE$14))=\"\",\"\",(INDIRECT(\"'\"&Lists!$C25&\"'!\"&Lists!$E25&AE$14))))","v":""},{"$f":"IF(ISNA(Lists!$C25),\"\",IF((INDIRECT(\"'\"&Lists!$C25&\"'!\"&Lists!$E25&AF$14))=\"\",\"\",(INDIRECT(\"'\"&Lists!$C25&\"'!\"&Lists!$E25&AF$14))))","v":""},{"$f":"IF(ISNA(Lists!$C25),\"\",IF((INDIRECT(\"'\"&Lists!$C25&\"'!\"&Lists!$E25&AG$14))=\"\",\"\",(INDIRECT(\"'\"&Lists!$C25&\"'!\"&Lists!$E25&AG$14))))","v":""},{"$f":"IF(ISNA(Lists!$C25),\"\",IF((INDIRECT(\"'\"&Lists!$C25&\"'!\"&Lists!$E25&AH$14))=\"\",\"\",(INDIRECT(\"'\"&Lists!$C25&\"'!\"&Lists!$E25&AH$14))))","v":""},{"$f":"IF(ISNA(Lists!$C25),\"\",IF((INDIRECT(\"'\"&Lists!$C25&\"'!\"&Lists!$E25&AI$14))=\"\",\"\",(INDIRECT(\"'\"&Lists!$C25&\"'!\"&Lists!$E25&AI$14))))","v":""},{"$f":"IF(ISNA(Lists!$C25),\"\",IF((INDIRECT(\"'\"&Lists!$C25&\"'!\"&Lists!$D25&AJ$14))=\"\",\"\",(INDIRECT(\"'\"&Lists!$C25&\"'!\"&Lists!$D25&AJ$14))))","v":""},{"$f":"IF(ISNA(Lists!$C25),\"\",IF((INDIRECT(\"'\"&Lists!$C25&\"'!\"&Lists!$D25&AK$14))=\"\",\"\",(INDIRECT(\"'\"&Lists!$C25&\"'!\"&Lists!$D25&AK$14))))","v":""},{"$f":"IF(ISNA(Lists!$C25),\"\",IF((INDIRECT(\"'\"&Lists!$C25&\"'!\"&Lists!$D25&AL$14))=\"\",\"\",(INDIRECT(\"'\"&Lists!$C25&\"'!\"&Lists!$D25&AL$14))))","v":""},{"$f":"IF(ISNA(Lists!$C25),\"\",IF((INDIRECT(\"'\"&Lists!$C25&\"'!\"&Lists!$D25&AM$14))=\"\",\"\",(INDIRECT(\"'\"&Lists!$C25&\"'!\"&Lists!$D25&AM$14))))","v":""},{"$f":"IF(ISNA(Lists!$C25),\"\",IF((INDIRECT(\"'\"&Lists!$C25&\"'!\"&Lists!$D25&AN$14))=\"\",\"\",(INDIRECT(\"'\"&Lists!$C25&\"'!\"&Lists!$D25&AN$14))))","v":""},{"$f":"IF(ISNA(Lists!$C25),\"\",IF((INDIRECT(\"'\"&Lists!$C25&\"'!\"&Lists!$D25&AO$14))=\"\",\"\",(INDIRECT(\"'\"&Lists!$C25&\"'!\"&Lists!$D25&AO$14))))","v":""},{"$f":"IF(ISNA(Lists!$C25),\"\",IF((INDIRECT(\"'\"&Lists!$C25&\"'!\"&Lists!$D25&AP$14))=\"\",\"\",(INDIRECT(\"'\"&Lists!$C25&\"'!\"&Lists!$D25&AP$14))))","v":""},{"$f":"IF(ISNA(Lists!$C25),\"\",IF((INDIRECT(\"'\"&Lists!$C25&\"'!\"&Lists!$D25&AQ$14))=\"\",\"\",(INDIRECT(\"'\"&Lists!$C25&\"'!\"&Lists!$D25&AQ$14))))","v":""},{"$f":"IF(ISNA(Lists!$C25),\"\",IF((INDIRECT(\"'\"&Lists!$C25&\"'!\"&Lists!$D25&AR$14))=\"\",\"\",(INDIRECT(\"'\"&Lists!$C25&\"'!\"&Lists!$D25&AR$14))))","v":""},{"$f":"IF(ISNA(Lists!$C25),\"\",IF((INDIRECT(\"'\"&Lists!$C25&\"'!\"&Lists!$D25&AS$14))=\"\",\"\",(INDIRECT(\"'\"&Lists!$C25&\"'!\"&Lists!$D25&AS$14))))","v":""}]
[null,{"$f":"IF(C48=\"\",\"\",Facility_Info_upload!$B$24)","v":""},{"$f":"IF(ISNA(Lists!$C26),\"\",IF(INDIRECT(\"'\"&Lists!$C26&\"'!\"&\"B\"&C$14)=\"\",\"\",(INDIRECT(\"'\"&Lists!$C26&\"'!\"&\"B\"&C$14))))","v":""},{"$f":"IF(ISNA(Lists!$C26),\"\",IF(INDIRECT(\"'\"&Lists!$C26&\"'!\"&\"B\"&D$14)=\"\",\"\",(INDIRECT(\"'\"&Lists!$C26&\"'!\"&\"B\"&D$14))))","v":""},{"$f":"IF(ISNA(Lists!$C26),\"\",IF(INDIRECT(\"'\"&Lists!$C26&\"'!\"&\"B\"&E$14)=\"\",\"\",(INDIRECT(\"'\"&Lists!$C26&\"'!\"&\"B\"&E$14))))","v":""},{"$f":"IF(ISNA(Lists!$C26),\"\",IF(INDIRECT(\"'\"&Lists!$C26&\"'!\"&\"B\"&F$14)=\"\",\"\",(INDIRECT(\"'\"&Lists!$C26&\"'!\"&\"B\"&F$14))))","v":""},{"$f":"IF(ISNA(Lists!$C26),\"\",IF(INDIRECT(\"'\"&Lists!$C26&\"'!\"&\"B\"&G$14)=\"\",\"\",(INDIRECT(\"'\"&Lists!$C26&\"'!\"&\"B\"&G$14))))","v":""},{"$f":"IF(ISNA(Lists!$C26),\"\",IF((INDIRECT(\"'\"&Lists!$C26&\"'!\"&Lists!$D26&H$14))=\"\",\"\",(INDIRECT(\"'\"&Lists!$C26&\"'!\"&Lists!$D26&H$14))))","v":""},{"$f":"IF(ISNA(Lists!$C26),\"\",IF((INDIRECT(\"'\"&Lists!$C26&\"'!\"&Lists!$D26&I$14))=\"\",\"\",(INDIRECT(\"'\"&Lists!$C26&\"'!\"&Lists!$D26&I$14))))","v":""},{"$f":"IF(ISNA(Lists!$C26),\"\",IF((INDIRECT(\"'\"&Lists!$C26&\"'!\"&Lists!$D26&J$14))=\"\",\"\",(INDIRECT(\"'\"&Lists!$C26&\"'!\"&Lists!$D26&J$14))))","v":""},{"$f":"IF(ISNA(Lists!$C26),\"\",IF((INDIRECT(\"'\"&Lists!$C26&\"'!\"&Lists!$D26&K$14))=\"\",\"\",(INDIRECT(\"'\"&Lists!$C26&\"'!\"&Lists!$D26&K$14))))","v":""},{"$f":"IF(ISNA(Lists!$C26),\"\",IF((INDIRECT(\"'\"&Lists!$C26&\"'!\"&Lists!$D26&L$14))=\"\",\"\",(INDIRECT(\"'\"&Lists!$C26&\"'!\"&Lists!$D26&L$14))))","v":""},{"$f":"IF(ISNA(Lists!$C26),\"\",IF((INDIRECT(\"'\"&Lists!$C26&\"'!\"&Lists!$D26&M$14))=\"\",\"\",(INDIRECT(\"'\"&Lists!$C26&\"'!\"&Lists!$D26&M$14))))","v":""},{"$f":"IF(ISNA(Lists!$C26),\"\",IF((INDIRECT(\"'\"&Lists!$C26&\"'!\"&Lists!$D26&N$14))=\"\",\"\",(INDIRECT(\"'\"&Lists!$C26&\"'!\"&Lists!$D26&N$14))))","v":""},{"$f":"IF(ISNA(Lists!$C26),\"\",IF((INDIRECT(\"'\"&Lists!$C26&\"'!\"&Lists!$D26&O$14))=\"\",\"\",(INDIRECT(\"'\"&Lists!$C26&\"'!\"&Lists!$D26&O$14))))","v":""},{"$f":"IF(ISNA(Lists!$C26),\"\",IF((INDIRECT(\"'\"&Lists!$C26&\"'!\"&Lists!$D26&P$14))=\"\",\"\",(INDIRECT(\"'\"&Lists!$C26&\"'!\"&Lists!$D26&P$14))))","v":""},{"$f":"IF(ISNA(Lists!$C26),\"\",IF((INDIRECT(\"'\"&Lists!$C26&\"'!\"&Lists!$D26&Q$14))=\"\",\"\",(INDIRECT(\"'\"&Lists!$C26&\"'!\"&Lists!$D26&Q$14))))","v":""},{"$f":"IF(ISNA(Lists!$C26),\"\",IF((INDIRECT(\"'\"&Lists!$C26&\"'!\"&Lists!$D26&R$14))=\"\",\"\",(INDIRECT(\"'\"&Lists!$C26&\"'!\"&Lists!$D26&R$14))))","v":""},{"$f":"IF(ISNA(Lists!$C26),\"\",IF((INDIRECT(\"'\"&Lists!$C26&\"'!\"&Lists!$D26&S$14))=\"\",\"\",(INDIRECT(\"'\"&Lists!$C26&\"'!\"&Lists!$D26&S$14))))","v":""},{"$f":"IF(ISNA(Lists!$C26),\"\",IF((INDIRECT(\"'\"&Lists!$C26&\"'!\"&Lists!$D26&T$14))=\"\",\"\",(INDIRECT(\"'\"&Lists!$C26&\"'!\"&Lists!$D26&T$14))))","v":""},{"$f":"IF(ISNA(Lists!$C26),\"\",IF((INDIRECT(\"'\"&Lists!$C26&\"'!\"&Lists!$D26&U$14))=\"\",\"\",(INDIRECT(\"'\"&Lists!$C26&\"'!\"&Lists!$D26&U$14))))","v":""},{"$f":"IF(ISNA(Lists!$C26),\"\",IF((INDIRECT(\"'\"&Lists!$C26&\"'!\"&Lists!$E26&V$14))=\"\",\"\",(INDIRECT(\"'\"&Lists!$C26&\"'!\"&Lists!$E26&V$14))))","v":""},{"$f":"IF(ISNA(Lists!$C26),\"\",IF((INDIRECT(\"'\"&Lists!$C26&\"'!\"&Lists!$E26&W$14))=\"\",\"\",(INDIRECT(\"'\"&Lists!$C26&\"'!\"&Lists!$E26&W$14))))","v":""},{"$f":"IF(ISNA(Lists!$C26),\"\",IF((INDIRECT(\"'\"&Lists!$C26&\"'!\"&Lists!$E26&X$14))=\"\",\"\",(INDIRECT(\"'\"&Lists!$C26&\"'!\"&Lists!$E26&X$14))))","v":""},{"$f":"IF(ISNA(Lists!$C26),\"\",IF((INDIRECT(\"'\"&Lists!$C26&\"'!\"&Lists!$E26&Y$14))=\"\",\"\",(INDIRECT(\"'\"&Lists!$C26&\"'!\"&Lists!$E26&Y$14))))","v":""},{"$f":"IF(ISNA(Lists!$C26),\"\",IF((INDIRECT(\"'\"&Lists!$C26&\"'!\"&Lists!$E26&Z$14))=\"\",\"\",(INDIRECT(\"'\"&Lists!$C26&\"'!\"&Lists!$E26&Z$14))))","v":""},{"$f":"IF(ISNA(Lists!$C26),\"\",IF((INDIRECT(\"'\"&Lists!$C26&\"'!\"&Lists!$E26&AA$14))=\"\",\"\",(INDIRECT(\"'\"&Lists!$C26&\"'!\"&Lists!$E26&AA$14))))","v":""},{"$f":"IF(ISNA(Lists!$C26),\"\",IF((INDIRECT(\"'\"&Lists!$C26&\"'!\"&Lists!$E26&AB$14))=\"\",\"\",(INDIRECT(\"'\"&Lists!$C26&\"'!\"&Lists!$E26&AB$14))))","v":""},{"$f":"IF(ISNA(Lists!$C26),\"\",IF((INDIRECT(\"'\"&Lists!$C26&\"'!\"&Lists!$E26&AC$14))=\"\",\"\",(INDIRECT(\"'\"&Lists!$C26&\"'!\"&Lists!$E26&AC$14))))","v":""},{"$f":"IF(ISNA(Lists!$C26),\"\",IF((INDIRECT(\"'\"&Lists!$C26&\"'!\"&Lists!$E26&AD$14))=\"\",\"\",(INDIRECT(\"'\"&Lists!$C26&\"'!\"&Lists!$E26&AD$14))))","v":""},{"$f":"IF(ISNA(Lists!$C26),\"\",IF((INDIRECT(\"'\"&Lists!$C26&\"'!\"&Lists!$E26&AE$14))=\"\",\"\",(INDIRECT(\"'\"&Lists!$C26&\"'!\"&Lists!$E26&AE$14))))","v":""},{"$f":"IF(ISNA(Lists!$C26),\"\",IF((INDIRECT(\"'\"&Lists!$C26&\"'!\"&Lists!$E26&AF$14))=\"\",\"\",(INDIRECT(\"'\"&Lists!$C26&\"'!\"&Lists!$E26&AF$14))))","v":""},{"$f":"IF(ISNA(Lists!$C26),\"\",IF((INDIRECT(\"'\"&Lists!$C26&\"'!\"&Lists!$E26&AG$14))=\"\",\"\",(INDIRECT(\"'\"&Lists!$C26&\"'!\"&Lists!$E26&AG$14))))","v":""},{"$f":"IF(ISNA(Lists!$C26),\"\",IF((INDIRECT(\"'\"&Lists!$C26&\"'!\"&Lists!$E26&AH$14))=\"\",\"\",(INDIRECT(\"'\"&Lists!$C26&\"'!\"&Lists!$E26&AH$14))))","v":""},{"$f":"IF(ISNA(Lists!$C26),\"\",IF((INDIRECT(\"'\"&Lists!$C26&\"'!\"&Lists!$E26&AI$14))=\"\",\"\",(INDIRECT(\"'\"&Lists!$C26&\"'!\"&Lists!$E26&AI$14))))","v":""},{"$f":"IF(ISNA(Lists!$C26),\"\",IF((INDIRECT(\"'\"&Lists!$C26&\"'!\"&Lists!$D26&AJ$14))=\"\",\"\",(INDIRECT(\"'\"&Lists!$C26&\"'!\"&Lists!$D26&AJ$14))))","v":""},{"$f":"IF(ISNA(Lists!$C26),\"\",IF((INDIRECT(\"'\"&Lists!$C26&\"'!\"&Lists!$D26&AK$14))=\"\",\"\",(INDIRECT(\"'\"&Lists!$C26&\"'!\"&Lists!$D26&AK$14))))","v":""},{"$f":"IF(ISNA(Lists!$C26),\"\",IF((INDIRECT(\"'\"&Lists!$C26&\"'!\"&Lists!$D26&AL$14))=\"\",\"\",(INDIRECT(\"'\"&Lists!$C26&\"'!\"&Lists!$D26&AL$14))))","v":""},{"$f":"IF(ISNA(Lists!$C26),\"\",IF((INDIRECT(\"'\"&Lists!$C26&\"'!\"&Lists!$D26&AM$14))=\"\",\"\",(INDIRECT(\"'\"&Lists!$C26&\"'!\"&Lists!$D26&AM$14))))","v":""},{"$f":"IF(ISNA(Lists!$C26),\"\",IF((INDIRECT(\"'\"&Lists!$C26&\"'!\"&Lists!$D26&AN$14))=\"\",\"\",(INDIRECT(\"'\"&Lists!$C26&\"'!\"&Lists!$D26&AN$14))))","v":""},{"$f":"IF(ISNA(Lists!$C26),\"\",IF((INDIRECT(\"'\"&Lists!$C26&\"'!\"&Lists!$D26&AO$14))=\"\",\"\",(INDIRECT(\"'\"&Lists!$C26&\"'!\"&Lists!$D26&AO$14))))","v":""},{"$f":"IF(ISNA(Lists!$C26),\"\",IF((INDIRECT(\"'\"&Lists!$C26&\"'!\"&Lists!$D26&AP$14))=\"\",\"\",(INDIRECT(\"'\"&Lists!$C26&\"'!\"&Lists!$D26&AP$14))))","v":""},{"$f":"IF(ISNA(Lists!$C26),\"\",IF((INDIRECT(\"'\"&Lists!$C26&\"'!\"&Lists!$D26&AQ$14))=\"\",\"\",(INDIRECT(\"'\"&Lists!$C26&\"'!\"&Lists!$D26&AQ$14))))","v":""},{"$f":"IF(ISNA(Lists!$C26),\"\",IF((INDIRECT(\"'\"&Lists!$C26&\"'!\"&Lists!$D26&AR$14))=\"\",\"\",(INDIRECT(\"'\"&Lists!$C26&\"'!\"&Lists!$D26&AR$14))))","v":""},{"$f":"IF(ISNA(Lists!$C26),\"\",IF((INDIRECT(\"'\"&Lists!$C26&\"'!\"&Lists!$D26&AS$14))=\"\",\"\",(INDIRECT(\"'\"&Lists!$C26&\"'!\"&Lists!$D26&AS$14))))","v":""}]
[null,{"$f":"IF(C49=\"\",\"\",Facility_Info_upload!$B$24)","v":""},{"$f":"IF(ISNA(Lists!$C27),\"\",IF(INDIRECT(\"'\"&Lists!$C27&\"'!\"&\"B\"&C$14)=\"\",\"\",(INDIRECT(\"'\"&Lists!$C27&\"'!\"&\"B\"&C$14))))","v":""},{"$f":"IF(ISNA(Lists!$C27),\"\",IF(INDIRECT(\"'\"&Lists!$C27&\"'!\"&\"B\"&D$14)=\"\",\"\",(INDIRECT(\"'\"&Lists!$C27&\"'!\"&\"B\"&D$14))))","v":""},{"$f":"IF(ISNA(Lists!$C27),\"\",IF(INDIRECT(\"'\"&Lists!$C27&\"'!\"&\"B\"&E$14)=\"\",\"\",(INDIRECT(\"'\"&Lists!$C27&\"'!\"&\"B\"&E$14))))","v":""},{"$f":"IF(ISNA(Lists!$C27),\"\",IF(INDIRECT(\"'\"&Lists!$C27&\"'!\"&\"B\"&F$14)=\"\",\"\",(INDIRECT(\"'\"&Lists!$C27&\"'!\"&\"B\"&F$14))))","v":""},{"$f":"IF(ISNA(Lists!$C27),\"\",IF(INDIRECT(\"'\"&Lists!$C27&\"'!\"&\"B\"&G$14)=\"\",\"\",(INDIRECT(\"'\"&Lists!$C27&\"'!\"&\"B\"&G$14))))","v":""},{"$f":"IF(ISNA(Lists!$C27),\"\",IF((INDIRECT(\"'\"&Lists!$C27&\"'!\"&Lists!$D27&H$14))=\"\",\"\",(INDIRECT(\"'\"&Lists!$C27&\"'!\"&Lists!$D27&H$14))))","v":""},{"$f":"IF(ISNA(Lists!$C27),\"\",IF((INDIRECT(\"'\"&Lists!$C27&\"'!\"&Lists!$D27&I$14))=\"\",\"\",(INDIRECT(\"'\"&Lists!$C27&\"'!\"&Lists!$D27&I$14))))","v":""},{"$f":"IF(ISNA(Lists!$C27),\"\",IF((INDIRECT(\"'\"&Lists!$C27&\"'!\"&Lists!$D27&J$14))=\"\",\"\",(INDIRECT(\"'\"&Lists!$C27&\"'!\"&Lists!$D27&J$14))))","v":""},{"$f":"IF(ISNA(Lists!$C27),\"\",IF((INDIRECT(\"'\"&Lists!$C27&\"'!\"&Lists!$D27&K$14))=\"\",\"\",(INDIRECT(\"'\"&Lists!$C27&\"'!\"&Lists!$D27&K$14))))","v":""},{"$f":"IF(ISNA(Lists!$C27),\"\",IF((INDIRECT(\"'\"&Lists!$C27&\"'!\"&Lists!$D27&L$14))=\"\",\"\",(INDIRECT(\"'\"&Lists!$C27&\"'!\"&Lists!$D27&L$14))))","v":""},{"$f":"IF(ISNA(Lists!$C27),\"\",IF((INDIRECT(\"'\"&Lists!$C27&\"'!\"&Lists!$D27&M$14))=\"\",\"\",(INDIRECT(\"'\"&Lists!$C27&\"'!\"&Lists!$D27&M$14))))","v":""},{"$f":"IF(ISNA(Lists!$C27),\"\",IF((INDIRECT(\"'\"&Lists!$C27&\"'!\"&Lists!$D27&N$14))=\"\",\"\",(INDIRECT(\"'\"&Lists!$C27&\"'!\"&Lists!$D27&N$14))))","v":""},{"$f":"IF(ISNA(Lists!$C27),\"\",IF((INDIRECT(\"'\"&Lists!$C27&\"'!\"&Lists!$D27&O$14))=\"\",\"\",(INDIRECT(\"'\"&Lists!$C27&\"'!\"&Lists!$D27&O$14))))","v":""},{"$f":"IF(ISNA(Lists!$C27),\"\",IF((INDIRECT(\"'\"&Lists!$C27&\"'!\"&Lists!$D27&P$14))=\"\",\"\",(INDIRECT(\"'\"&Lists!$C27&\"'!\"&Lists!$D27&P$14))))","v":""},{"$f":"IF(ISNA(Lists!$C27),\"\",IF((INDIRECT(\"'\"&Lists!$C27&\"'!\"&Lists!$D27&Q$14))=\"\",\"\",(INDIRECT(\"'\"&Lists!$C27&\"'!\"&Lists!$D27&Q$14))))","v":""},{"$f":"IF(ISNA(Lists!$C27),\"\",IF((INDIRECT(\"'\"&Lists!$C27&\"'!\"&Lists!$D27&R$14))=\"\",\"\",(INDIRECT(\"'\"&Lists!$C27&\"'!\"&Lists!$D27&R$14))))","v":""},{"$f":"IF(ISNA(Lists!$C27),\"\",IF((INDIRECT(\"'\"&Lists!$C27&\"'!\"&Lists!$D27&S$14))=\"\",\"\",(INDIRECT(\"'\"&Lists!$C27&\"'!\"&Lists!$D27&S$14))))","v":""},{"$f":"IF(ISNA(Lists!$C27),\"\",IF((INDIRECT(\"'\"&Lists!$C27&\"'!\"&Lists!$D27&T$14))=\"\",\"\",(INDIRECT(\"'\"&Lists!$C27&\"'!\"&Lists!$D27&T$14))))","v":""},{"$f":"IF(ISNA(Lists!$C27),\"\",IF((INDIRECT(\"'\"&Lists!$C27&\"'!\"&Lists!$D27&U$14))=\"\",\"\",(INDIRECT(\"'\"&Lists!$C27&\"'!\"&Lists!$D27&U$14))))","v":""},{"$f":"IF(ISNA(Lists!$C27),\"\",IF((INDIRECT(\"'\"&Lists!$C27&\"'!\"&Lists!$E27&V$14))=\"\",\"\",(INDIRECT(\"'\"&Lists!$C27&\"'!\"&Lists!$E27&V$14))))","v":""},{"$f":"IF(ISNA(Lists!$C27),\"\",IF((INDIRECT(\"'\"&Lists!$C27&\"'!\"&Lists!$E27&W$14))=\"\",\"\",(INDIRECT(\"'\"&Lists!$C27&\"'!\"&Lists!$E27&W$14))))","v":""},{"$f":"IF(ISNA(Lists!$C27),\"\",IF((INDIRECT(\"'\"&Lists!$C27&\"'!\"&Lists!$E27&X$14))=\"\",\"\",(INDIRECT(\"'\"&Lists!$C27&\"'!\"&Lists!$E27&X$14))))","v":""},{"$f":"IF(ISNA(Lists!$C27),\"\",IF((INDIRECT(\"'\"&Lists!$C27&\"'!\"&Lists!$E27&Y$14))=\"\",\"\",(INDIRECT(\"'\"&Lists!$C27&\"'!\"&Lists!$E27&Y$14))))","v":""},{"$f":"IF(ISNA(Lists!$C27),\"\",IF((INDIRECT(\"'\"&Lists!$C27&\"'!\"&Lists!$E27&Z$14))=\"\",\"\",(INDIRECT(\"'\"&Lists!$C27&\"'!\"&Lists!$E27&Z$14))))","v":""},{"$f":"IF(ISNA(Lists!$C27),\"\",IF((INDIRECT(\"'\"&Lists!$C27&\"'!\"&Lists!$E27&AA$14))=\"\",\"\",(INDIRECT(\"'\"&Lists!$C27&\"'!\"&Lists!$E27&AA$14))))","v":""},{"$f":"IF(ISNA(Lists!$C27),\"\",IF((INDIRECT(\"'\"&Lists!$C27&\"'!\"&Lists!$E27&AB$14))=\"\",\"\",(INDIRECT(\"'\"&Lists!$C27&\"'!\"&Lists!$E27&AB$14))))","v":""},{"$f":"IF(ISNA(Lists!$C27),\"\",IF((INDIRECT(\"'\"&Lists!$C27&\"'!\"&Lists!$E27&AC$14))=\"\",\"\",(INDIRECT(\"'\"&Lists!$C27&\"'!\"&Lists!$E27&AC$14))))","v":""},{"$f":"IF(ISNA(Lists!$C27),\"\",IF((INDIRECT(\"'\"&Lists!$C27&\"'!\"&Lists!$E27&AD$14))=\"\",\"\",(INDIRECT(\"'\"&Lists!$C27&\"'!\"&Lists!$E27&AD$14))))","v":""},{"$f":"IF(ISNA(Lists!$C27),\"\",IF((INDIRECT(\"'\"&Lists!$C27&\"'!\"&Lists!$E27&AE$14))=\"\",\"\",(INDIRECT(\"'\"&Lists!$C27&\"'!\"&Lists!$E27&AE$14))))","v":""},{"$f":"IF(ISNA(Lists!$C27),\"\",IF((INDIRECT(\"'\"&Lists!$C27&\"'!\"&Lists!$E27&AF$14))=\"\",\"\",(INDIRECT(\"'\"&Lists!$C27&\"'!\"&Lists!$E27&AF$14))))","v":""},{"$f":"IF(ISNA(Lists!$C27),\"\",IF((INDIRECT(\"'\"&Lists!$C27&\"'!\"&Lists!$E27&AG$14))=\"\",\"\",(INDIRECT(\"'\"&Lists!$C27&\"'!\"&Lists!$E27&AG$14))))","v":""},{"$f":"IF(ISNA(Lists!$C27),\"\",IF((INDIRECT(\"'\"&Lists!$C27&\"'!\"&Lists!$E27&AH$14))=\"\",\"\",(INDIRECT(\"'\"&Lists!$C27&\"'!\"&Lists!$E27&AH$14))))","v":""},{"$f":"IF(ISNA(Lists!$C27),\"\",IF((INDIRECT(\"'\"&Lists!$C27&\"'!\"&Lists!$E27&AI$14))=\"\",\"\",(INDIRECT(\"'\"&Lists!$C27&\"'!\"&Lists!$E27&AI$14))))","v":""},{"$f":"IF(ISNA(Lists!$C27),\"\",IF((INDIRECT(\"'\"&Lists!$C27&\"'!\"&Lists!$D27&AJ$14))=\"\",\"\",(INDIRECT(\"'\"&Lists!$C27&\"'!\"&Lists!$D27&AJ$14))))","v":""},{"$f":"IF(ISNA(Lists!$C27),\"\",IF((INDIRECT(\"'\"&Lists!$C27&\"'!\"&Lists!$D27&AK$14))=\"\",\"\",(INDIRECT(\"'\"&Lists!$C27&\"'!\"&Lists!$D27&AK$14))))","v":""},{"$f":"IF(ISNA(Lists!$C27),\"\",IF((INDIRECT(\"'\"&Lists!$C27&\"'!\"&Lists!$D27&AL$14))=\"\",\"\",(INDIRECT(\"'\"&Lists!$C27&\"'!\"&Lists!$D27&AL$14))))","v":""},{"$f":"IF(ISNA(Lists!$C27),\"\",IF((INDIRECT(\"'\"&Lists!$C27&\"'!\"&Lists!$D27&AM$14))=\"\",\"\",(INDIRECT(\"'\"&Lists!$C27&\"'!\"&Lists!$D27&AM$14))))","v":""},{"$f":"IF(ISNA(Lists!$C27),\"\",IF((INDIRECT(\"'\"&Lists!$C27&\"'!\"&Lists!$D27&AN$14))=\"\",\"\",(INDIRECT(\"'\"&Lists!$C27&\"'!\"&Lists!$D27&AN$14))))","v":""},{"$f":"IF(ISNA(Lists!$C27),\"\",IF((INDIRECT(\"'\"&Lists!$C27&\"'!\"&Lists!$D27&AO$14))=\"\",\"\",(INDIRECT(\"'\"&Lists!$C27&\"'!\"&Lists!$D27&AO$14))))","v":""},{"$f":"IF(ISNA(Lists!$C27),\"\",IF((INDIRECT(\"'\"&Lists!$C27&\"'!\"&Lists!$D27&AP$14))=\"\",\"\",(INDIRECT(\"'\"&Lists!$C27&\"'!\"&Lists!$D27&AP$14))))","v":""},{"$f":"IF(ISNA(Lists!$C27),\"\",IF((INDIRECT(\"'\"&Lists!$C27&\"'!\"&Lists!$D27&AQ$14))=\"\",\"\",(INDIRECT(\"'\"&Lists!$C27&\"'!\"&Lists!$D27&AQ$14))))","v":""},{"$f":"IF(ISNA(Lists!$C27),\"\",IF((INDIRECT(\"'\"&Lists!$C27&\"'!\"&Lists!$D27&AR$14))=\"\",\"\",(INDIRECT(\"'\"&Lists!$C27&\"'!\"&Lists!$D27&AR$14))))","v":""},{"$f":"IF(ISNA(Lists!$C27),\"\",IF((INDIRECT(\"'\"&Lists!$C27&\"'!\"&Lists!$D27&AS$14))=\"\",\"\",(INDIRECT(\"'\"&Lists!$C27&\"'!\"&Lists!$D27&AS$14))))","v":""}]
[null,{"$f":"IF(C50=\"\",\"\",Facility_Info_upload!$B$24)","v":""},{"$f":"IF(ISNA(Lists!$C28),\"\",IF(INDIRECT(\"'\"&Lists!$C28&\"'!\"&\"B\"&C$14)=\"\",\"\",(INDIRECT(\"'\"&Lists!$C28&\"'!\"&\"B\"&C$14))))","v":""},{"$f":"IF(ISNA(Lists!$C28),\"\",IF(INDIRECT(\"'\"&Lists!$C28&\"'!\"&\"B\"&D$14)=\"\",\"\",(INDIRECT(\"'\"&Lists!$C28&\"'!\"&\"B\"&D$14))))","v":""},{"$f":"IF(ISNA(Lists!$C28),\"\",IF(INDIRECT(\"'\"&Lists!$C28&\"'!\"&\"B\"&E$14)=\"\",\"\",(INDIRECT(\"'\"&Lists!$C28&\"'!\"&\"B\"&E$14))))","v":""},{"$f":"IF(ISNA(Lists!$C28),\"\",IF(INDIRECT(\"'\"&Lists!$C28&\"'!\"&\"B\"&F$14)=\"\",\"\",(INDIRECT(\"'\"&Lists!$C28&\"'!\"&\"B\"&F$14))))","v":""},{"$f":"IF(ISNA(Lists!$C28),\"\",IF(INDIRECT(\"'\"&Lists!$C28&\"'!\"&\"B\"&G$14)=\"\",\"\",(INDIRECT(\"'\"&Lists!$C28&\"'!\"&\"B\"&G$14))))","v":""},{"$f":"IF(ISNA(Lists!$C28),\"\",IF((INDIRECT(\"'\"&Lists!$C28&\"'!\"&Lists!$D28&H$14))=\"\",\"\",(INDIRECT(\"'\"&Lists!$C28&\"'!\"&Lists!$D28&H$14))))","v":""},{"$f":"IF(ISNA(Lists!$C28),\"\",IF((INDIRECT(\"'\"&Lists!$C28&\"'!\"&Lists!$D28&I$14))=\"\",\"\",(INDIRECT(\"'\"&Lists!$C28&\"'!\"&Lists!$D28&I$14))))","v":""},{"$f":"IF(ISNA(Lists!$C28),\"\",IF((INDIRECT(\"'\"&Lists!$C28&\"'!\"&Lists!$D28&J$14))=\"\",\"\",(INDIRECT(\"'\"&Lists!$C28&\"'!\"&Lists!$D28&J$14))))","v":""},{"$f":"IF(ISNA(Lists!$C28),\"\",IF((INDIRECT(\"'\"&Lists!$C28&\"'!\"&Lists!$D28&K$14))=\"\",\"\",(INDIRECT(\"'\"&Lists!$C28&\"'!\"&Lists!$D28&K$14))))","v":""},{"$f":"IF(ISNA(Lists!$C28),\"\",IF((INDIRECT(\"'\"&Lists!$C28&\"'!\"&Lists!$D28&L$14))=\"\",\"\",(INDIRECT(\"'\"&Lists!$C28&\"'!\"&Lists!$D28&L$14))))","v":""},{"$f":"IF(ISNA(Lists!$C28),\"\",IF((INDIRECT(\"'\"&Lists!$C28&\"'!\"&Lists!$D28&M$14))=\"\",\"\",(INDIRECT(\"'\"&Lists!$C28&\"'!\"&Lists!$D28&M$14))))","v":""},{"$f":"IF(ISNA(Lists!$C28),\"\",IF((INDIRECT(\"'\"&Lists!$C28&\"'!\"&Lists!$D28&N$14))=\"\",\"\",(INDIRECT(\"'\"&Lists!$C28&\"'!\"&Lists!$D28&N$14))))","v":""},{"$f":"IF(ISNA(Lists!$C28),\"\",IF((INDIRECT(\"'\"&Lists!$C28&\"'!\"&Lists!$D28&O$14))=\"\",\"\",(INDIRECT(\"'\"&Lists!$C28&\"'!\"&Lists!$D28&O$14))))","v":""},{"$f":"IF(ISNA(Lists!$C28),\"\",IF((INDIRECT(\"'\"&Lists!$C28&\"'!\"&Lists!$D28&P$14))=\"\",\"\",(INDIRECT(\"'\"&Lists!$C28&\"'!\"&Lists!$D28&P$14))))","v":""},{"$f":"IF(ISNA(Lists!$C28),\"\",IF((INDIRECT(\"'\"&Lists!$C28&\"'!\"&Lists!$D28&Q$14))=\"\",\"\",(INDIRECT(\"'\"&Lists!$C28&\"'!\"&Lists!$D28&Q$14))))","v":""},{"$f":"IF(ISNA(Lists!$C28),\"\",IF((INDIRECT(\"'\"&Lists!$C28&\"'!\"&Lists!$D28&R$14))=\"\",\"\",(INDIRECT(\"'\"&Lists!$C28&\"'!\"&Lists!$D28&R$14))))","v":""},{"$f":"IF(ISNA(Lists!$C28),\"\",IF((INDIRECT(\"'\"&Lists!$C28&\"'!\"&Lists!$D28&S$14))=\"\",\"\",(INDIRECT(\"'\"&Lists!$C28&\"'!\"&Lists!$D28&S$14))))","v":""},{"$f":"IF(ISNA(Lists!$C28),\"\",IF((INDIRECT(\"'\"&Lists!$C28&\"'!\"&Lists!$D28&T$14))=\"\",\"\",(INDIRECT(\"'\"&Lists!$C28&\"'!\"&Lists!$D28&T$14))))","v":""},{"$f":"IF(ISNA(Lists!$C28),\"\",IF((INDIRECT(\"'\"&Lists!$C28&\"'!\"&Lists!$D28&U$14))=\"\",\"\",(INDIRECT(\"'\"&Lists!$C28&\"'!\"&Lists!$D28&U$14))))","v":""},{"$f":"IF(ISNA(Lists!$C28),\"\",IF((INDIRECT(\"'\"&Lists!$C28&\"'!\"&Lists!$E28&V$14))=\"\",\"\",(INDIRECT(\"'\"&Lists!$C28&\"'!\"&Lists!$E28&V$14))))","v":""},{"$f":"IF(ISNA(Lists!$C28),\"\",IF((INDIRECT(\"'\"&Lists!$C28&\"'!\"&Lists!$E28&W$14))=\"\",\"\",(INDIRECT(\"'\"&Lists!$C28&\"'!\"&Lists!$E28&W$14))))","v":""},{"$f":"IF(ISNA(Lists!$C28),\"\",IF((INDIRECT(\"'\"&Lists!$C28&\"'!\"&Lists!$E28&X$14))=\"\",\"\",(INDIRECT(\"'\"&Lists!$C28&\"'!\"&Lists!$E28&X$14))))","v":""},{"$f":"IF(ISNA(Lists!$C28),\"\",IF((INDIRECT(\"'\"&Lists!$C28&\"'!\"&Lists!$E28&Y$14))=\"\",\"\",(INDIRECT(\"'\"&Lists!$C28&\"'!\"&Lists!$E28&Y$14))))","v":""},{"$f":"IF(ISNA(Lists!$C28),\"\",IF((INDIRECT(\"'\"&Lists!$C28&\"'!\"&Lists!$E28&Z$14))=\"\",\"\",(INDIRECT(\"'\"&Lists!$C28&\"'!\"&Lists!$E28&Z$14))))","v":""},{"$f":"IF(ISNA(Lists!$C28),\"\",IF((INDIRECT(\"'\"&Lists!$C28&\"'!\"&Lists!$E28&AA$14))=\"\",\"\",(INDIRECT(\"'\"&Lists!$C28&\"'!\"&Lists!$E28&AA$14))))","v":""},{"$f":"IF(ISNA(Lists!$C28),\"\",IF((INDIRECT(\"'\"&Lists!$C28&\"'!\"&Lists!$E28&AB$14))=\"\",\"\",(INDIRECT(\"'\"&Lists!$C28&\"'!\"&Lists!$E28&AB$14))))","v":""},{"$f":"IF(ISNA(Lists!$C28),\"\",IF((INDIRECT(\"'\"&Lists!$C28&\"'!\"&Lists!$E28&AC$14))=\"\",\"\",(INDIRECT(\"'\"&Lists!$C28&\"'!\"&Lists!$E28&AC$14))))","v":""},{"$f":"IF(ISNA(Lists!$C28),\"\",IF((INDIRECT(\"'\"&Lists!$C28&\"'!\"&Lists!$E28&AD$14))=\"\",\"\",(INDIRECT(\"'\"&Lists!$C28&\"'!\"&Lists!$E28&AD$14))))","v":""},{"$f":"IF(ISNA(Lists!$C28),\"\",IF((INDIRECT(\"'\"&Lists!$C28&\"'!\"&Lists!$E28&AE$14))=\"\",\"\",(INDIRECT(\"'\"&Lists!$C28&\"'!\"&Lists!$E28&AE$14))))","v":""},{"$f":"IF(ISNA(Lists!$C28),\"\",IF((INDIRECT(\"'\"&Lists!$C28&\"'!\"&Lists!$E28&AF$14))=\"\",\"\",(INDIRECT(\"'\"&Lists!$C28&\"'!\"&Lists!$E28&AF$14))))","v":""},{"$f":"IF(ISNA(Lists!$C28),\"\",IF((INDIRECT(\"'\"&Lists!$C28&\"'!\"&Lists!$E28&AG$14))=\"\",\"\",(INDIRECT(\"'\"&Lists!$C28&\"'!\"&Lists!$E28&AG$14))))","v":""},{"$f":"IF(ISNA(Lists!$C28),\"\",IF((INDIRECT(\"'\"&Lists!$C28&\"'!\"&Lists!$E28&AH$14))=\"\",\"\",(INDIRECT(\"'\"&Lists!$C28&\"'!\"&Lists!$E28&AH$14))))","v":""},{"$f":"IF(ISNA(Lists!$C28),\"\",IF((INDIRECT(\"'\"&Lists!$C28&\"'!\"&Lists!$E28&AI$14))=\"\",\"\",(INDIRECT(\"'\"&Lists!$C28&\"'!\"&Lists!$E28&AI$14))))","v":""},{"$f":"IF(ISNA(Lists!$C28),\"\",IF((INDIRECT(\"'\"&Lists!$C28&\"'!\"&Lists!$D28&AJ$14))=\"\",\"\",(INDIRECT(\"'\"&Lists!$C28&\"'!\"&Lists!$D28&AJ$14))))","v":""},{"$f":"IF(ISNA(Lists!$C28),\"\",IF((INDIRECT(\"'\"&Lists!$C28&\"'!\"&Lists!$D28&AK$14))=\"\",\"\",(INDIRECT(\"'\"&Lists!$C28&\"'!\"&Lists!$D28&AK$14))))","v":""},{"$f":"IF(ISNA(Lists!$C28),\"\",IF((INDIRECT(\"'\"&Lists!$C28&\"'!\"&Lists!$D28&AL$14))=\"\",\"\",(INDIRECT(\"'\"&Lists!$C28&\"'!\"&Lists!$D28&AL$14))))","v":""},{"$f":"IF(ISNA(Lists!$C28),\"\",IF((INDIRECT(\"'\"&Lists!$C28&\"'!\"&Lists!$D28&AM$14))=\"\",\"\",(INDIRECT(\"'\"&Lists!$C28&\"'!\"&Lists!$D28&AM$14))))","v":""},{"$f":"IF(ISNA(Lists!$C28),\"\",IF((INDIRECT(\"'\"&Lists!$C28&\"'!\"&Lists!$D28&AN$14))=\"\",\"\",(INDIRECT(\"'\"&Lists!$C28&\"'!\"&Lists!$D28&AN$14))))","v":""},{"$f":"IF(ISNA(Lists!$C28),\"\",IF((INDIRECT(\"'\"&Lists!$C28&\"'!\"&Lists!$D28&AO$14))=\"\",\"\",(INDIRECT(\"'\"&Lists!$C28&\"'!\"&Lists!$D28&AO$14))))","v":""},{"$f":"IF(ISNA(Lists!$C28),\"\",IF((INDIRECT(\"'\"&Lists!$C28&\"'!\"&Lists!$D28&AP$14))=\"\",\"\",(INDIRECT(\"'\"&Lists!$C28&\"'!\"&Lists!$D28&AP$14))))","v":""},{"$f":"IF(ISNA(Lists!$C28),\"\",IF((INDIRECT(\"'\"&Lists!$C28&\"'!\"&Lists!$D28&AQ$14))=\"\",\"\",(INDIRECT(\"'\"&Lists!$C28&\"'!\"&Lists!$D28&AQ$14))))","v":""},{"$f":"IF(ISNA(Lists!$C28),\"\",IF((INDIRECT(\"'\"&Lists!$C28&\"'!\"&Lists!$D28&AR$14))=\"\",\"\",(INDIRECT(\"'\"&Lists!$C28&\"'!\"&Lists!$D28&AR$14))))","v":""},{"$f":"IF(ISNA(Lists!$C28),\"\",IF((INDIRECT(\"'\"&Lists!$C28&\"'!\"&Lists!$D28&AS$14))=\"\",\"\",(INDIRECT(\"'\"&Lists!$C28&\"'!\"&Lists!$D28&AS$14))))","v":""}]
[null,{"$f":"IF(C51=\"\",\"\",Facility_Info_upload!$B$24)","v":""},{"$f":"IF(ISNA(Lists!$C29),\"\",IF(INDIRECT(\"'\"&Lists!$C29&\"'!\"&\"B\"&C$14)=\"\",\"\",(INDIRECT(\"'\"&Lists!$C29&\"'!\"&\"B\"&C$14))))","v":""},{"$f":"IF(ISNA(Lists!$C29),\"\",IF(INDIRECT(\"'\"&Lists!$C29&\"'!\"&\"B\"&D$14)=\"\",\"\",(INDIRECT(\"'\"&Lists!$C29&\"'!\"&\"B\"&D$14))))","v":""},{"$f":"IF(ISNA(Lists!$C29),\"\",IF(INDIRECT(\"'\"&Lists!$C29&\"'!\"&\"B\"&E$14)=\"\",\"\",(INDIRECT(\"'\"&Lists!$C29&\"'!\"&\"B\"&E$14))))","v":""},{"$f":"IF(ISNA(Lists!$C29),\"\",IF(INDIRECT(\"'\"&Lists!$C29&\"'!\"&\"B\"&F$14)=\"\",\"\",(INDIRECT(\"'\"&Lists!$C29&\"'!\"&\"B\"&F$14))))","v":""},{"$f":"IF(ISNA(Lists!$C29),\"\",IF(INDIRECT(\"'\"&Lists!$C29&\"'!\"&\"B\"&G$14)=\"\",\"\",(INDIRECT(\"'\"&Lists!$C29&\"'!\"&\"B\"&G$14))))","v":""},{"$f":"IF(ISNA(Lists!$C29),\"\",IF((INDIRECT(\"'\"&Lists!$C29&\"'!\"&Lists!$D29&H$14))=\"\",\"\",(INDIRECT(\"'\"&Lists!$C29&\"'!\"&Lists!$D29&H$14))))","v":""},{"$f":"IF(ISNA(Lists!$C29),\"\",IF((INDIRECT(\"'\"&Lists!$C29&\"'!\"&Lists!$D29&I$14))=\"\",\"\",(INDIRECT(\"'\"&Lists!$C29&\"'!\"&Lists!$D29&I$14))))","v":""},{"$f":"IF(ISNA(Lists!$C29),\"\",IF((INDIRECT(\"'\"&Lists!$C29&\"'!\"&Lists!$D29&J$14))=\"\",\"\",(INDIRECT(\"'\"&Lists!$C29&\"'!\"&Lists!$D29&J$14))))","v":""},{"$f":"IF(ISNA(Lists!$C29),\"\",IF((INDIRECT(\"'\"&Lists!$C29&\"'!\"&Lists!$D29&K$14))=\"\",\"\",(INDIRECT(\"'\"&Lists!$C29&\"'!\"&Lists!$D29&K$14))))","v":""},{"$f":"IF(ISNA(Lists!$C29),\"\",IF((INDIRECT(\"'\"&Lists!$C29&\"'!\"&Lists!$D29&L$14))=\"\",\"\",(INDIRECT(\"'\"&Lists!$C29&\"'!\"&Lists!$D29&L$14))))","v":""},{"$f":"IF(ISNA(Lists!$C29),\"\",IF((INDIRECT(\"'\"&Lists!$C29&\"'!\"&Lists!$D29&M$14))=\"\",\"\",(INDIRECT(\"'\"&Lists!$C29&\"'!\"&Lists!$D29&M$14))))","v":""},{"$f":"IF(ISNA(Lists!$C29),\"\",IF((INDIRECT(\"'\"&Lists!$C29&\"'!\"&Lists!$D29&N$14))=\"\",\"\",(INDIRECT(\"'\"&Lists!$C29&\"'!\"&Lists!$D29&N$14))))","v":""},{"$f":"IF(ISNA(Lists!$C29),\"\",IF((INDIRECT(\"'\"&Lists!$C29&\"'!\"&Lists!$D29&O$14))=\"\",\"\",(INDIRECT(\"'\"&Lists!$C29&\"'!\"&Lists!$D29&O$14))))","v":""},{"$f":"IF(ISNA(Lists!$C29),\"\",IF((INDIRECT(\"'\"&Lists!$C29&\"'!\"&Lists!$D29&P$14))=\"\",\"\",(INDIRECT(\"'\"&Lists!$C29&\"'!\"&Lists!$D29&P$14))))","v":""},{"$f":"IF(ISNA(Lists!$C29),\"\",IF((INDIRECT(\"'\"&Lists!$C29&\"'!\"&Lists!$D29&Q$14))=\"\",\"\",(INDIRECT(\"'\"&Lists!$C29&\"'!\"&Lists!$D29&Q$14))))","v":""},{"$f":"IF(ISNA(Lists!$C29),\"\",IF((INDIRECT(\"'\"&Lists!$C29&\"'!\"&Lists!$D29&R$14))=\"\",\"\",(INDIRECT(\"'\"&Lists!$C29&\"'!\"&Lists!$D29&R$14))))","v":""},{"$f":"IF(ISNA(Lists!$C29),\"\",IF((INDIRECT(\"'\"&Lists!$C29&\"'!\"&Lists!$D29&S$14))=\"\",\"\",(INDIRECT(\"'\"&Lists!$C29&\"'!\"&Lists!$D29&S$14))))","v":""},{"$f":"IF(ISNA(Lists!$C29),\"\",IF((INDIRECT(\"'\"&Lists!$C29&\"'!\"&Lists!$D29&T$14))=\"\",\"\",(INDIRECT(\"'\"&Lists!$C29&\"'!\"&Lists!$D29&T$14))))","v":""},{"$f":"IF(ISNA(Lists!$C29),\"\",IF((INDIRECT(\"'\"&Lists!$C29&\"'!\"&Lists!$D29&U$14))=\"\",\"\",(INDIRECT(\"'\"&Lists!$C29&\"'!\"&Lists!$D29&U$14))))","v":""},{"$f":"IF(ISNA(Lists!$C29),\"\",IF((INDIRECT(\"'\"&Lists!$C29&\"'!\"&Lists!$E29&V$14))=\"\",\"\",(INDIRECT(\"'\"&Lists!$C29&\"'!\"&Lists!$E29&V$14))))","v":""},{"$f":"IF(ISNA(Lists!$C29),\"\",IF((INDIRECT(\"'\"&Lists!$C29&\"'!\"&Lists!$E29&W$14))=\"\",\"\",(INDIRECT(\"'\"&Lists!$C29&\"'!\"&Lists!$E29&W$14))))","v":""},{"$f":"IF(ISNA(Lists!$C29),\"\",IF((INDIRECT(\"'\"&Lists!$C29&\"'!\"&Lists!$E29&X$14))=\"\",\"\",(INDIRECT(\"'\"&Lists!$C29&\"'!\"&Lists!$E29&X$14))))","v":""},{"$f":"IF(ISNA(Lists!$C29),\"\",IF((INDIRECT(\"'\"&Lists!$C29&\"'!\"&Lists!$E29&Y$14))=\"\",\"\",(INDIRECT(\"'\"&Lists!$C29&\"'!\"&Lists!$E29&Y$14))))","v":""},{"$f":"IF(ISNA(Lists!$C29),\"\",IF((INDIRECT(\"'\"&Lists!$C29&\"'!\"&Lists!$E29&Z$14))=\"\",\"\",(INDIRECT(\"'\"&Lists!$C29&\"'!\"&Lists!$E29&Z$14))))","v":""},{"$f":"IF(ISNA(Lists!$C29),\"\",IF((INDIRECT(\"'\"&Lists!$C29&\"'!\"&Lists!$E29&AA$14))=\"\",\"\",(INDIRECT(\"'\"&Lists!$C29&\"'!\"&Lists!$E29&AA$14))))","v":""},{"$f":"IF(ISNA(Lists!$C29),\"\",IF((INDIRECT(\"'\"&Lists!$C29&\"'!\"&Lists!$E29&AB$14))=\"\",\"\",(INDIRECT(\"'\"&Lists!$C29&\"'!\"&Lists!$E29&AB$14))))","v":""},{"$f":"IF(ISNA(Lists!$C29),\"\",IF((INDIRECT(\"'\"&Lists!$C29&\"'!\"&Lists!$E29&AC$14))=\"\",\"\",(INDIRECT(\"'\"&Lists!$C29&\"'!\"&Lists!$E29&AC$14))))","v":""},{"$f":"IF(ISNA(Lists!$C29),\"\",IF((INDIRECT(\"'\"&Lists!$C29&\"'!\"&Lists!$E29&AD$14))=\"\",\"\",(INDIRECT(\"'\"&Lists!$C29&\"'!\"&Lists!$E29&AD$14))))","v":""},{"$f":"IF(ISNA(Lists!$C29),\"\",IF((INDIRECT(\"'\"&Lists!$C29&\"'!\"&Lists!$E29&AE$14))=\"\",\"\",(INDIRECT(\"'\"&Lists!$C29&\"'!\"&Lists!$E29&AE$14))))","v":""},{"$f":"IF(ISNA(Lists!$C29),\"\",IF((INDIRECT(\"'\"&Lists!$C29&\"'!\"&Lists!$E29&AF$14))=\"\",\"\",(INDIRECT(\"'\"&Lists!$C29&\"'!\"&Lists!$E29&AF$14))))","v":""},{"$f":"IF(ISNA(Lists!$C29),\"\",IF((INDIRECT(\"'\"&Lists!$C29&\"'!\"&Lists!$E29&AG$14))=\"\",\"\",(INDIRECT(\"'\"&Lists!$C29&\"'!\"&Lists!$E29&AG$14))))","v":""},{"$f":"IF(ISNA(Lists!$C29),\"\",IF((INDIRECT(\"'\"&Lists!$C29&\"'!\"&Lists!$E29&AH$14))=\"\",\"\",(INDIRECT(\"'\"&Lists!$C29&\"'!\"&Lists!$E29&AH$14))))","v":""},{"$f":"IF(ISNA(Lists!$C29),\"\",IF((INDIRECT(\"'\"&Lists!$C29&\"'!\"&Lists!$E29&AI$14))=\"\",\"\",(INDIRECT(\"'\"&Lists!$C29&\"'!\"&Lists!$E29&AI$14))))","v":""},{"$f":"IF(ISNA(Lists!$C29),\"\",IF((INDIRECT(\"'\"&Lists!$C29&\"'!\"&Lists!$D29&AJ$14))=\"\",\"\",(INDIRECT(\"'\"&Lists!$C29&\"'!\"&Lists!$D29&AJ$14))))","v":""},{"$f":"IF(ISNA(Lists!$C29),\"\",IF((INDIRECT(\"'\"&Lists!$C29&\"'!\"&Lists!$D29&AK$14))=\"\",\"\",(INDIRECT(\"'\"&Lists!$C29&\"'!\"&Lists!$D29&AK$14))))","v":""},{"$f":"IF(ISNA(Lists!$C29),\"\",IF((INDIRECT(\"'\"&Lists!$C29&\"'!\"&Lists!$D29&AL$14))=\"\",\"\",(INDIRECT(\"'\"&Lists!$C29&\"'!\"&Lists!$D29&AL$14))))","v":""},{"$f":"IF(ISNA(Lists!$C29),\"\",IF((INDIRECT(\"'\"&Lists!$C29&\"'!\"&Lists!$D29&AM$14))=\"\",\"\",(INDIRECT(\"'\"&Lists!$C29&\"'!\"&Lists!$D29&AM$14))))","v":""},{"$f":"IF(ISNA(Lists!$C29),\"\",IF((INDIRECT(\"'\"&Lists!$C29&\"'!\"&Lists!$D29&AN$14))=\"\",\"\",(INDIRECT(\"'\"&Lists!$C29&\"'!\"&Lists!$D29&AN$14))))","v":""},{"$f":"IF(ISNA(Lists!$C29),\"\",IF((INDIRECT(\"'\"&Lists!$C29&\"'!\"&Lists!$D29&AO$14))=\"\",\"\",(INDIRECT(\"'\"&Lists!$C29&\"'!\"&Lists!$D29&AO$14))))","v":""},{"$f":"IF(ISNA(Lists!$C29),\"\",IF((INDIRECT(\"'\"&Lists!$C29&\"'!\"&Lists!$D29&AP$14))=\"\",\"\",(INDIRECT(\"'\"&Lists!$C29&\"'!\"&Lists!$D29&AP$14))))","v":""},{"$f":"IF(ISNA(Lists!$C29),\"\",IF((INDIRECT(\"'\"&Lists!$C29&\"'!\"&Lists!$D29&AQ$14))=\"\",\"\",(INDIRECT(\"'\"&Lists!$C29&\"'!\"&Lists!$D29&AQ$14))))","v":""},{"$f":"IF(ISNA(Lists!$C29),\"\",IF((INDIRECT(\"'\"&Lists!$C29&\"'!\"&Lists!$D29&AR$14))=\"\",\"\",(INDIRECT(\"'\"&Lists!$C29&\"'!\"&Lists!$D29&AR$14))))","v":""},{"$f":"IF(ISNA(Lists!$C29),\"\",IF((INDIRECT(\"'\"&Lists!$C29&\"'!\"&Lists!$D29&AS$14))=\"\",\"\",(INDIRECT(\"'\"&Lists!$C29&\"'!\"&Lists!$D29&AS$14))))","v":""}]
[null,{"$f":"IF(C52=\"\",\"\",Facility_Info_upload!$B$24)","v":""},{"$f":"IF(ISNA(Lists!$C30),\"\",IF(INDIRECT(\"'\"&Lists!$C30&\"'!\"&\"B\"&C$14)=\"\",\"\",(INDIRECT(\"'\"&Lists!$C30&\"'!\"&\"B\"&C$14))))","v":""},{"$f":"IF(ISNA(Lists!$C30),\"\",IF(INDIRECT(\"'\"&Lists!$C30&\"'!\"&\"B\"&D$14)=\"\",\"\",(INDIRECT(\"'\"&Lists!$C30&\"'!\"&\"B\"&D$14))))","v":""},{"$f":"IF(ISNA(Lists!$C30),\"\",IF(INDIRECT(\"'\"&Lists!$C30&\"'!\"&\"B\"&E$14)=\"\",\"\",(INDIRECT(\"'\"&Lists!$C30&\"'!\"&\"B\"&E$14))))","v":""},{"$f":"IF(ISNA(Lists!$C30),\"\",IF(INDIRECT(\"'\"&Lists!$C30&\"'!\"&\"B\"&F$14)=\"\",\"\",(INDIRECT(\"'\"&Lists!$C30&\"'!\"&\"B\"&F$14))))","v":""},{"$f":"IF(ISNA(Lists!$C30),\"\",IF(INDIRECT(\"'\"&Lists!$C30&\"'!\"&\"B\"&G$14)=\"\",\"\",(INDIRECT(\"'\"&Lists!$C30&\"'!\"&\"B\"&G$14))))","v":""},{"$f":"IF(ISNA(Lists!$C30),\"\",IF((INDIRECT(\"'\"&Lists!$C30&\"'!\"&Lists!$D30&H$14))=\"\",\"\",(INDIRECT(\"'\"&Lists!$C30&\"'!\"&Lists!$D30&H$14))))","v":""},{"$f":"IF(ISNA(Lists!$C30),\"\",IF((INDIRECT(\"'\"&Lists!$C30&\"'!\"&Lists!$D30&I$14))=\"\",\"\",(INDIRECT(\"'\"&Lists!$C30&\"'!\"&Lists!$D30&I$14))))","v":""},{"$f":"IF(ISNA(Lists!$C30),\"\",IF((INDIRECT(\"'\"&Lists!$C30&\"'!\"&Lists!$D30&J$14))=\"\",\"\",(INDIRECT(\"'\"&Lists!$C30&\"'!\"&Lists!$D30&J$14))))","v":""},{"$f":"IF(ISNA(Lists!$C30),\"\",IF((INDIRECT(\"'\"&Lists!$C30&\"'!\"&Lists!$D30&K$14))=\"\",\"\",(INDIRECT(\"'\"&Lists!$C30&\"'!\"&Lists!$D30&K$14))))","v":""},{"$f":"IF(ISNA(Lists!$C30),\"\",IF((INDIRECT(\"'\"&Lists!$C30&\"'!\"&Lists!$D30&L$14))=\"\",\"\",(INDIRECT(\"'\"&Lists!$C30&\"'!\"&Lists!$D30&L$14))))","v":""},{"$f":"IF(ISNA(Lists!$C30),\"\",IF((INDIRECT(\"'\"&Lists!$C30&\"'!\"&Lists!$D30&M$14))=\"\",\"\",(INDIRECT(\"'\"&Lists!$C30&\"'!\"&Lists!$D30&M$14))))","v":""},{"$f":"IF(ISNA(Lists!$C30),\"\",IF((INDIRECT(\"'\"&Lists!$C30&\"'!\"&Lists!$D30&N$14))=\"\",\"\",(INDIRECT(\"'\"&Lists!$C30&\"'!\"&Lists!$D30&N$14))))","v":""},{"$f":"IF(ISNA(Lists!$C30),\"\",IF((INDIRECT(\"'\"&Lists!$C30&\"'!\"&Lists!$D30&O$14))=\"\",\"\",(INDIRECT(\"'\"&Lists!$C30&\"'!\"&Lists!$D30&O$14))))","v":""},{"$f":"IF(ISNA(Lists!$C30),\"\",IF((INDIRECT(\"'\"&Lists!$C30&\"'!\"&Lists!$D30&P$14))=\"\",\"\",(INDIRECT(\"'\"&Lists!$C30&\"'!\"&Lists!$D30&P$14))))","v":""},{"$f":"IF(ISNA(Lists!$C30),\"\",IF((INDIRECT(\"'\"&Lists!$C30&\"'!\"&Lists!$D30&Q$14))=\"\",\"\",(INDIRECT(\"'\"&Lists!$C30&\"'!\"&Lists!$D30&Q$14))))","v":""},{"$f":"IF(ISNA(Lists!$C30),\"\",IF((INDIRECT(\"'\"&Lists!$C30&\"'!\"&Lists!$D30&R$14))=\"\",\"\",(INDIRECT(\"'\"&Lists!$C30&\"'!\"&Lists!$D30&R$14))))","v":""},{"$f":"IF(ISNA(Lists!$C30),\"\",IF((INDIRECT(\"'\"&Lists!$C30&\"'!\"&Lists!$D30&S$14))=\"\",\"\",(INDIRECT(\"'\"&Lists!$C30&\"'!\"&Lists!$D30&S$14))))","v":""},{"$f":"IF(ISNA(Lists!$C30),\"\",IF((INDIRECT(\"'\"&Lists!$C30&\"'!\"&Lists!$D30&T$14))=\"\",\"\",(INDIRECT(\"'\"&Lists!$C30&\"'!\"&Lists!$D30&T$14))))","v":""},{"$f":"IF(ISNA(Lists!$C30),\"\",IF((INDIRECT(\"'\"&Lists!$C30&\"'!\"&Lists!$D30&U$14))=\"\",\"\",(INDIRECT(\"'\"&Lists!$C30&\"'!\"&Lists!$D30&U$14))))","v":""},{"$f":"IF(ISNA(Lists!$C30),\"\",IF((INDIRECT(\"'\"&Lists!$C30&\"'!\"&Lists!$E30&V$14))=\"\",\"\",(INDIRECT(\"'\"&Lists!$C30&\"'!\"&Lists!$E30&V$14))))","v":""},{"$f":"IF(ISNA(Lists!$C30),\"\",IF((INDIRECT(\"'\"&Lists!$C30&\"'!\"&Lists!$E30&W$14))=\"\",\"\",(INDIRECT(\"'\"&Lists!$C30&\"'!\"&Lists!$E30&W$14))))","v":""},{"$f":"IF(ISNA(Lists!$C30),\"\",IF((INDIRECT(\"'\"&Lists!$C30&\"'!\"&Lists!$E30&X$14))=\"\",\"\",(INDIRECT(\"'\"&Lists!$C30&\"'!\"&Lists!$E30&X$14))))","v":""},{"$f":"IF(ISNA(Lists!$C30),\"\",IF((INDIRECT(\"'\"&Lists!$C30&\"'!\"&Lists!$E30&Y$14))=\"\",\"\",(INDIRECT(\"'\"&Lists!$C30&\"'!\"&Lists!$E30&Y$14))))","v":""},{"$f":"IF(ISNA(Lists!$C30),\"\",IF((INDIRECT(\"'\"&Lists!$C30&\"'!\"&Lists!$E30&Z$14))=\"\",\"\",(INDIRECT(\"'\"&Lists!$C30&\"'!\"&Lists!$E30&Z$14))))","v":""},{"$f":"IF(ISNA(Lists!$C30),\"\",IF((INDIRECT(\"'\"&Lists!$C30&\"'!\"&Lists!$E30&AA$14))=\"\",\"\",(INDIRECT(\"'\"&Lists!$C30&\"'!\"&Lists!$E30&AA$14))))","v":""},{"$f":"IF(ISNA(Lists!$C30),\"\",IF((INDIRECT(\"'\"&Lists!$C30&\"'!\"&Lists!$E30&AB$14))=\"\",\"\",(INDIRECT(\"'\"&Lists!$C30&\"'!\"&Lists!$E30&AB$14))))","v":""},{"$f":"IF(ISNA(Lists!$C30),\"\",IF((INDIRECT(\"'\"&Lists!$C30&\"'!\"&Lists!$E30&AC$14))=\"\",\"\",(INDIRECT(\"'\"&Lists!$C30&\"'!\"&Lists!$E30&AC$14))))","v":""},{"$f":"IF(ISNA(Lists!$C30),\"\",IF((INDIRECT(\"'\"&Lists!$C30&\"'!\"&Lists!$E30&AD$14))=\"\",\"\",(INDIRECT(\"'\"&Lists!$C30&\"'!\"&Lists!$E30&AD$14))))","v":""},{"$f":"IF(ISNA(Lists!$C30),\"\",IF((INDIRECT(\"'\"&Lists!$C30&\"'!\"&Lists!$E30&AE$14))=\"\",\"\",(INDIRECT(\"'\"&Lists!$C30&\"'!\"&Lists!$E30&AE$14))))","v":""},{"$f":"IF(ISNA(Lists!$C30),\"\",IF((INDIRECT(\"'\"&Lists!$C30&\"'!\"&Lists!$E30&AF$14))=\"\",\"\",(INDIRECT(\"'\"&Lists!$C30&\"'!\"&Lists!$E30&AF$14))))","v":""},{"$f":"IF(ISNA(Lists!$C30),\"\",IF((INDIRECT(\"'\"&Lists!$C30&\"'!\"&Lists!$E30&AG$14))=\"\",\"\",(INDIRECT(\"'\"&Lists!$C30&\"'!\"&Lists!$E30&AG$14))))","v":""},{"$f":"IF(ISNA(Lists!$C30),\"\",IF((INDIRECT(\"'\"&Lists!$C30&\"'!\"&Lists!$E30&AH$14))=\"\",\"\",(INDIRECT(\"'\"&Lists!$C30&\"'!\"&Lists!$E30&AH$14))))","v":""},{"$f":"IF(ISNA(Lists!$C30),\"\",IF((INDIRECT(\"'\"&Lists!$C30&\"'!\"&Lists!$E30&AI$14))=\"\",\"\",(INDIRECT(\"'\"&Lists!$C30&\"'!\"&Lists!$E30&AI$14))))","v":""},{"$f":"IF(ISNA(Lists!$C30),\"\",IF((INDIRECT(\"'\"&Lists!$C30&\"'!\"&Lists!$D30&AJ$14))=\"\",\"\",(INDIRECT(\"'\"&Lists!$C30&\"'!\"&Lists!$D30&AJ$14))))","v":""},{"$f":"IF(ISNA(Lists!$C30),\"\",IF((INDIRECT(\"'\"&Lists!$C30&\"'!\"&Lists!$D30&AK$14))=\"\",\"\",(INDIRECT(\"'\"&Lists!$C30&\"'!\"&Lists!$D30&AK$14))))","v":""},{"$f":"IF(ISNA(Lists!$C30),\"\",IF((INDIRECT(\"'\"&Lists!$C30&\"'!\"&Lists!$D30&AL$14))=\"\",\"\",(INDIRECT(\"'\"&Lists!$C30&\"'!\"&Lists!$D30&AL$14))))","v":""},{"$f":"IF(ISNA(Lists!$C30),\"\",IF((INDIRECT(\"'\"&Lists!$C30&\"'!\"&Lists!$D30&AM$14))=\"\",\"\",(INDIRECT(\"'\"&Lists!$C30&\"'!\"&Lists!$D30&AM$14))))","v":""},{"$f":"IF(ISNA(Lists!$C30),\"\",IF((INDIRECT(\"'\"&Lists!$C30&\"'!\"&Lists!$D30&AN$14))=\"\",\"\",(INDIRECT(\"'\"&Lists!$C30&\"'!\"&Lists!$D30&AN$14))))","v":""},{"$f":"IF(ISNA(Lists!$C30),\"\",IF((INDIRECT(\"'\"&Lists!$C30&\"'!\"&Lists!$D30&AO$14))=\"\",\"\",(INDIRECT(\"'\"&Lists!$C30&\"'!\"&Lists!$D30&AO$14))))","v":""},{"$f":"IF(ISNA(Lists!$C30),\"\",IF((INDIRECT(\"'\"&Lists!$C30&\"'!\"&Lists!$D30&AP$14))=\"\",\"\",(INDIRECT(\"'\"&Lists!$C30&\"'!\"&Lists!$D30&AP$14))))","v":""},{"$f":"IF(ISNA(Lists!$C30),\"\",IF((INDIRECT(\"'\"&Lists!$C30&\"'!\"&Lists!$D30&AQ$14))=\"\",\"\",(INDIRECT(\"'\"&Lists!$C30&\"'!\"&Lists!$D30&AQ$14))))","v":""},{"$f":"IF(ISNA(Lists!$C30),\"\",IF((INDIRECT(\"'\"&Lists!$C30&\"'!\"&Lists!$D30&AR$14))=\"\",\"\",(INDIRECT(\"'\"&Lists!$C30&\"'!\"&Lists!$D30&AR$14))))","v":""},{"$f":"IF(ISNA(Lists!$C30),\"\",IF((INDIRECT(\"'\"&Lists!$C30&\"'!\"&Lists!$D30&AS$14))=\"\",\"\",(INDIRECT(\"'\"&Lists!$C30&\"'!\"&Lists!$D30&AS$14))))","v":""}]
[null,{"$f":"IF(C53=\"\",\"\",Facility_Info_upload!$B$24)","v":""},{"$f":"IF(ISNA(Lists!$C31),\"\",IF(INDIRECT(\"'\"&Lists!$C31&\"'!\"&\"B\"&C$14)=\"\",\"\",(INDIRECT(\"'\"&Lists!$C31&\"'!\"&\"B\"&C$14))))","v":""},{"$f":"IF(ISNA(Lists!$C31),\"\",IF(INDIRECT(\"'\"&Lists!$C31&\"'!\"&\"B\"&D$14)=\"\",\"\",(INDIRECT(\"'\"&Lists!$C31&\"'!\"&\"B\"&D$14))))","v":""},{"$f":"IF(ISNA(Lists!$C31),\"\",IF(INDIRECT(\"'\"&Lists!$C31&\"'!\"&\"B\"&E$14)=\"\",\"\",(INDIRECT(\"'\"&Lists!$C31&\"'!\"&\"B\"&E$14))))","v":""},{"$f":"IF(ISNA(Lists!$C31),\"\",IF(INDIRECT(\"'\"&Lists!$C31&\"'!\"&\"B\"&F$14)=\"\",\"\",(INDIRECT(\"'\"&Lists!$C31&\"'!\"&\"B\"&F$14))))","v":""},{"$f":"IF(ISNA(Lists!$C31),\"\",IF(INDIRECT(\"'\"&Lists!$C31&\"'!\"&\"B\"&G$14)=\"\",\"\",(INDIRECT(\"'\"&Lists!$C31&\"'!\"&\"B\"&G$14))))","v":""},{"$f":"IF(ISNA(Lists!$C31),\"\",IF((INDIRECT(\"'\"&Lists!$C31&\"'!\"&Lists!$D31&H$14))=\"\",\"\",(INDIRECT(\"'\"&Lists!$C31&\"'!\"&Lists!$D31&H$14))))","v":""},{"$f":"IF(ISNA(Lists!$C31),\"\",IF((INDIRECT(\"'\"&Lists!$C31&\"'!\"&Lists!$D31&I$14))=\"\",\"\",(INDIRECT(\"'\"&Lists!$C31&\"'!\"&Lists!$D31&I$14))))","v":""},{"$f":"IF(ISNA(Lists!$C31),\"\",IF((INDIRECT(\"'\"&Lists!$C31&\"'!\"&Lists!$D31&J$14))=\"\",\"\",(INDIRECT(\"'\"&Lists!$C31&\"'!\"&Lists!$D31&J$14))))","v":""},{"$f":"IF(ISNA(Lists!$C31),\"\",IF((INDIRECT(\"'\"&Lists!$C31&\"'!\"&Lists!$D31&K$14))=\"\",\"\",(INDIRECT(\"'\"&Lists!$C31&\"'!\"&Lists!$D31&K$14))))","v":""},{"$f":"IF(ISNA(Lists!$C31),\"\",IF((INDIRECT(\"'\"&Lists!$C31&\"'!\"&Lists!$D31&L$14))=\"\",\"\",(INDIRECT(\"'\"&Lists!$C31&\"'!\"&Lists!$D31&L$14))))","v":""},{"$f":"IF(ISNA(Lists!$C31),\"\",IF((INDIRECT(\"'\"&Lists!$C31&\"'!\"&Lists!$D31&M$14))=\"\",\"\",(INDIRECT(\"'\"&Lists!$C31&\"'!\"&Lists!$D31&M$14))))","v":""},{"$f":"IF(ISNA(Lists!$C31),\"\",IF((INDIRECT(\"'\"&Lists!$C31&\"'!\"&Lists!$D31&N$14))=\"\",\"\",(INDIRECT(\"'\"&Lists!$C31&\"'!\"&Lists!$D31&N$14))))","v":""},{"$f":"IF(ISNA(Lists!$C31),\"\",IF((INDIRECT(\"'\"&Lists!$C31&\"'!\"&Lists!$D31&O$14))=\"\",\"\",(INDIRECT(\"'\"&Lists!$C31&\"'!\"&Lists!$D31&O$14))))","v":""},{"$f":"IF(ISNA(Lists!$C31),\"\",IF((INDIRECT(\"'\"&Lists!$C31&\"'!\"&Lists!$D31&P$14))=\"\",\"\",(INDIRECT(\"'\"&Lists!$C31&\"'!\"&Lists!$D31&P$14))))","v":""},{"$f":"IF(ISNA(Lists!$C31),\"\",IF((INDIRECT(\"'\"&Lists!$C31&\"'!\"&Lists!$D31&Q$14))=\"\",\"\",(INDIRECT(\"'\"&Lists!$C31&\"'!\"&Lists!$D31&Q$14))))","v":""},{"$f":"IF(ISNA(Lists!$C31),\"\",IF((INDIRECT(\"'\"&Lists!$C31&\"'!\"&Lists!$D31&R$14))=\"\",\"\",(INDIRECT(\"'\"&Lists!$C31&\"'!\"&Lists!$D31&R$14))))","v":""},{"$f":"IF(ISNA(Lists!$C31),\"\",IF((INDIRECT(\"'\"&Lists!$C31&\"'!\"&Lists!$D31&S$14))=\"\",\"\",(INDIRECT(\"'\"&Lists!$C31&\"'!\"&Lists!$D31&S$14))))","v":""},{"$f":"IF(ISNA(Lists!$C31),\"\",IF((INDIRECT(\"'\"&Lists!$C31&\"'!\"&Lists!$D31&T$14))=\"\",\"\",(INDIRECT(\"'\"&Lists!$C31&\"'!\"&Lists!$D31&T$14))))","v":""},{"$f":"IF(ISNA(Lists!$C31),\"\",IF((INDIRECT(\"'\"&Lists!$C31&\"'!\"&Lists!$D31&U$14))=\"\",\"\",(INDIRECT(\"'\"&Lists!$C31&\"'!\"&Lists!$D31&U$14))))","v":""},{"$f":"IF(ISNA(Lists!$C31),\"\",IF((INDIRECT(\"'\"&Lists!$C31&\"'!\"&Lists!$E31&V$14))=\"\",\"\",(INDIRECT(\"'\"&Lists!$C31&\"'!\"&Lists!$E31&V$14))))","v":""},{"$f":"IF(ISNA(Lists!$C31),\"\",IF((INDIRECT(\"'\"&Lists!$C31&\"'!\"&Lists!$E31&W$14))=\"\",\"\",(INDIRECT(\"'\"&Lists!$C31&\"'!\"&Lists!$E31&W$14))))","v":""},{"$f":"IF(ISNA(Lists!$C31),\"\",IF((INDIRECT(\"'\"&Lists!$C31&\"'!\"&Lists!$E31&X$14))=\"\",\"\",(INDIRECT(\"'\"&Lists!$C31&\"'!\"&Lists!$E31&X$14))))","v":""},{"$f":"IF(ISNA(Lists!$C31),\"\",IF((INDIRECT(\"'\"&Lists!$C31&\"'!\"&Lists!$E31&Y$14))=\"\",\"\",(INDIRECT(\"'\"&Lists!$C31&\"'!\"&Lists!$E31&Y$14))))","v":""},{"$f":"IF(ISNA(Lists!$C31),\"\",IF((INDIRECT(\"'\"&Lists!$C31&\"'!\"&Lists!$E31&Z$14))=\"\",\"\",(INDIRECT(\"'\"&Lists!$C31&\"'!\"&Lists!$E31&Z$14))))","v":""},{"$f":"IF(ISNA(Lists!$C31),\"\",IF((INDIRECT(\"'\"&Lists!$C31&\"'!\"&Lists!$E31&AA$14))=\"\",\"\",(INDIRECT(\"'\"&Lists!$C31&\"'!\"&Lists!$E31&AA$14))))","v":""},{"$f":"IF(ISNA(Lists!$C31),\"\",IF((INDIRECT(\"'\"&Lists!$C31&\"'!\"&Lists!$E31&AB$14))=\"\",\"\",(INDIRECT(\"'\"&Lists!$C31&\"'!\"&Lists!$E31&AB$14))))","v":""},{"$f":"IF(ISNA(Lists!$C31),\"\",IF((INDIRECT(\"'\"&Lists!$C31&\"'!\"&Lists!$E31&AC$14))=\"\",\"\",(INDIRECT(\"'\"&Lists!$C31&\"'!\"&Lists!$E31&AC$14))))","v":""},{"$f":"IF(ISNA(Lists!$C31),\"\",IF((INDIRECT(\"'\"&Lists!$C31&\"'!\"&Lists!$E31&AD$14))=\"\",\"\",(INDIRECT(\"'\"&Lists!$C31&\"'!\"&Lists!$E31&AD$14))))","v":""},{"$f":"IF(ISNA(Lists!$C31),\"\",IF((INDIRECT(\"'\"&Lists!$C31&\"'!\"&Lists!$E31&AE$14))=\"\",\"\",(INDIRECT(\"'\"&Lists!$C31&\"'!\"&Lists!$E31&AE$14))))","v":""},{"$f":"IF(ISNA(Lists!$C31),\"\",IF((INDIRECT(\"'\"&Lists!$C31&\"'!\"&Lists!$E31&AF$14))=\"\",\"\",(INDIRECT(\"'\"&Lists!$C31&\"'!\"&Lists!$E31&AF$14))))","v":""},{"$f":"IF(ISNA(Lists!$C31),\"\",IF((INDIRECT(\"'\"&Lists!$C31&\"'!\"&Lists!$E31&AG$14))=\"\",\"\",(INDIRECT(\"'\"&Lists!$C31&\"'!\"&Lists!$E31&AG$14))))","v":""},{"$f":"IF(ISNA(Lists!$C31),\"\",IF((INDIRECT(\"'\"&Lists!$C31&\"'!\"&Lists!$E31&AH$14))=\"\",\"\",(INDIRECT(\"'\"&Lists!$C31&\"'!\"&Lists!$E31&AH$14))))","v":""},{"$f":"IF(ISNA(Lists!$C31),\"\",IF((INDIRECT(\"'\"&Lists!$C31&\"'!\"&Lists!$E31&AI$14))=\"\",\"\",(INDIRECT(\"'\"&Lists!$C31&\"'!\"&Lists!$E31&AI$14))))","v":""},{"$f":"IF(ISNA(Lists!$C31),\"\",IF((INDIRECT(\"'\"&Lists!$C31&\"'!\"&Lists!$D31&AJ$14))=\"\",\"\",(INDIRECT(\"'\"&Lists!$C31&\"'!\"&Lists!$D31&AJ$14))))","v":""},{"$f":"IF(ISNA(Lists!$C31),\"\",IF((INDIRECT(\"'\"&Lists!$C31&\"'!\"&Lists!$D31&AK$14))=\"\",\"\",(INDIRECT(\"'\"&Lists!$C31&\"'!\"&Lists!$D31&AK$14))))","v":""},{"$f":"IF(ISNA(Lists!$C31),\"\",IF((INDIRECT(\"'\"&Lists!$C31&\"'!\"&Lists!$D31&AL$14))=\"\",\"\",(INDIRECT(\"'\"&Lists!$C31&\"'!\"&Lists!$D31&AL$14))))","v":""},{"$f":"IF(ISNA(Lists!$C31),\"\",IF((INDIRECT(\"'\"&Lists!$C31&\"'!\"&Lists!$D31&AM$14))=\"\",\"\",(INDIRECT(\"'\"&Lists!$C31&\"'!\"&Lists!$D31&AM$14))))","v":""},{"$f":"IF(ISNA(Lists!$C31),\"\",IF((INDIRECT(\"'\"&Lists!$C31&\"'!\"&Lists!$D31&AN$14))=\"\",\"\",(INDIRECT(\"'\"&Lists!$C31&\"'!\"&Lists!$D31&AN$14))))","v":""},{"$f":"IF(ISNA(Lists!$C31),\"\",IF((INDIRECT(\"'\"&Lists!$C31&\"'!\"&Lists!$D31&AO$14))=\"\",\"\",(INDIRECT(\"'\"&Lists!$C31&\"'!\"&Lists!$D31&AO$14))))","v":""},{"$f":"IF(ISNA(Lists!$C31),\"\",IF((INDIRECT(\"'\"&Lists!$C31&\"'!\"&Lists!$D31&AP$14))=\"\",\"\",(INDIRECT(\"'\"&Lists!$C31&\"'!\"&Lists!$D31&AP$14))))","v":""},{"$f":"IF(ISNA(Lists!$C31),\"\",IF((INDIRECT(\"'\"&Lists!$C31&\"'!\"&Lists!$D31&AQ$14))=\"\",\"\",(INDIRECT(\"'\"&Lists!$C31&\"'!\"&Lists!$D31&AQ$14))))","v":""},{"$f":"IF(ISNA(Lists!$C31),\"\",IF((INDIRECT(\"'\"&Lists!$C31&\"'!\"&Lists!$D31&AR$14))=\"\",\"\",(INDIRECT(\"'\"&Lists!$C31&\"'!\"&Lists!$D31&AR$14))))","v":""},{"$f":"IF(ISNA(Lists!$C31),\"\",IF((INDIRECT(\"'\"&Lists!$C31&\"'!\"&Lists!$D31&AS$14))=\"\",\"\",(INDIRECT(\"'\"&Lists!$C31&\"'!\"&Lists!$D31&AS$14))))","v":""}]
[null,{"$f":"IF(C54=\"\",\"\",Facility_Info_upload!$B$24)","v":""},{"$f":"IF(ISNA(Lists!$C32),\"\",IF(INDIRECT(\"'\"&Lists!$C32&\"'!\"&\"B\"&C$14)=\"\",\"\",(INDIRECT(\"'\"&Lists!$C32&\"'!\"&\"B\"&C$14))))","v":""},{"$f":"IF(ISNA(Lists!$C32),\"\",IF(INDIRECT(\"'\"&Lists!$C32&\"'!\"&\"B\"&D$14)=\"\",\"\",(INDIRECT(\"'\"&Lists!$C32&\"'!\"&\"B\"&D$14))))","v":""},{"$f":"IF(ISNA(Lists!$C32),\"\",IF(INDIRECT(\"'\"&Lists!$C32&\"'!\"&\"B\"&E$14)=\"\",\"\",(INDIRECT(\"'\"&Lists!$C32&\"'!\"&\"B\"&E$14))))","v":""},{"$f":"IF(ISNA(Lists!$C32),\"\",IF(INDIRECT(\"'\"&Lists!$C32&\"'!\"&\"B\"&F$14)=\"\",\"\",(INDIRECT(\"'\"&Lists!$C32&\"'!\"&\"B\"&F$14))))","v":""},{"$f":"IF(ISNA(Lists!$C32),\"\",IF(INDIRECT(\"'\"&Lists!$C32&\"'!\"&\"B\"&G$14)=\"\",\"\",(INDIRECT(\"'\"&Lists!$C32&\"'!\"&\"B\"&G$14))))","v":""},{"$f":"IF(ISNA(Lists!$C32),\"\",IF((INDIRECT(\"'\"&Lists!$C32&\"'!\"&Lists!$D32&H$14))=\"\",\"\",(INDIRECT(\"'\"&Lists!$C32&\"'!\"&Lists!$D32&H$14))))","v":""},{"$f":"IF(ISNA(Lists!$C32),\"\",IF((INDIRECT(\"'\"&Lists!$C32&\"'!\"&Lists!$D32&I$14))=\"\",\"\",(INDIRECT(\"'\"&Lists!$C32&\"'!\"&Lists!$D32&I$14))))","v":""},{"$f":"IF(ISNA(Lists!$C32),\"\",IF((INDIRECT(\"'\"&Lists!$C32&\"'!\"&Lists!$D32&J$14))=\"\",\"\",(INDIRECT(\"'\"&Lists!$C32&\"'!\"&Lists!$D32&J$14))))","v":""},{"$f":"IF(ISNA(Lists!$C32),\"\",IF((INDIRECT(\"'\"&Lists!$C32&\"'!\"&Lists!$D32&K$14))=\"\",\"\",(INDIRECT(\"'\"&Lists!$C32&\"'!\"&Lists!$D32&K$14))))","v":""},{"$f":"IF(ISNA(Lists!$C32),\"\",IF((INDIRECT(\"'\"&Lists!$C32&\"'!\"&Lists!$D32&L$14))=\"\",\"\",(INDIRECT(\"'\"&Lists!$C32&\"'!\"&Lists!$D32&L$14))))","v":""},{"$f":"IF(ISNA(Lists!$C32),\"\",IF((INDIRECT(\"'\"&Lists!$C32&\"'!\"&Lists!$D32&M$14))=\"\",\"\",(INDIRECT(\"'\"&Lists!$C32&\"'!\"&Lists!$D32&M$14))))","v":""},{"$f":"IF(ISNA(Lists!$C32),\"\",IF((INDIRECT(\"'\"&Lists!$C32&\"'!\"&Lists!$D32&N$14))=\"\",\"\",(INDIRECT(\"'\"&Lists!$C32&\"'!\"&Lists!$D32&N$14))))","v":""},{"$f":"IF(ISNA(Lists!$C32),\"\",IF((INDIRECT(\"'\"&Lists!$C32&\"'!\"&Lists!$D32&O$14))=\"\",\"\",(INDIRECT(\"'\"&Lists!$C32&\"'!\"&Lists!$D32&O$14))))","v":""},{"$f":"IF(ISNA(Lists!$C32),\"\",IF((INDIRECT(\"'\"&Lists!$C32&\"'!\"&Lists!$D32&P$14))=\"\",\"\",(INDIRECT(\"'\"&Lists!$C32&\"'!\"&Lists!$D32&P$14))))","v":""},{"$f":"IF(ISNA(Lists!$C32),\"\",IF((INDIRECT(\"'\"&Lists!$C32&\"'!\"&Lists!$D32&Q$14))=\"\",\"\",(INDIRECT(\"'\"&Lists!$C32&\"'!\"&Lists!$D32&Q$14))))","v":""},{"$f":"IF(ISNA(Lists!$C32),\"\",IF((INDIRECT(\"'\"&Lists!$C32&\"'!\"&Lists!$D32&R$14))=\"\",\"\",(INDIRECT(\"'\"&Lists!$C32&\"'!\"&Lists!$D32&R$14))))","v":""},{"$f":"IF(ISNA(Lists!$C32),\"\",IF((INDIRECT(\"'\"&Lists!$C32&\"'!\"&Lists!$D32&S$14))=\"\",\"\",(INDIRECT(\"'\"&Lists!$C32&\"'!\"&Lists!$D32&S$14))))","v":""},{"$f":"IF(ISNA(Lists!$C32),\"\",IF((INDIRECT(\"'\"&Lists!$C32&\"'!\"&Lists!$D32&T$14))=\"\",\"\",(INDIRECT(\"'\"&Lists!$C32&\"'!\"&Lists!$D32&T$14))))","v":""},{"$f":"IF(ISNA(Lists!$C32),\"\",IF((INDIRECT(\"'\"&Lists!$C32&\"'!\"&Lists!$D32&U$14))=\"\",\"\",(INDIRECT(\"'\"&Lists!$C32&\"'!\"&Lists!$D32&U$14))))","v":""},{"$f":"IF(ISNA(Lists!$C32),\"\",IF((INDIRECT(\"'\"&Lists!$C32&\"'!\"&Lists!$E32&V$14))=\"\",\"\",(INDIRECT(\"'\"&Lists!$C32&\"'!\"&Lists!$E32&V$14))))","v":""},{"$f":"IF(ISNA(Lists!$C32),\"\",IF((INDIRECT(\"'\"&Lists!$C32&\"'!\"&Lists!$E32&W$14))=\"\",\"\",(INDIRECT(\"'\"&Lists!$C32&\"'!\"&Lists!$E32&W$14))))","v":""},{"$f":"IF(ISNA(Lists!$C32),\"\",IF((INDIRECT(\"'\"&Lists!$C32&\"'!\"&Lists!$E32&X$14))=\"\",\"\",(INDIRECT(\"'\"&Lists!$C32&\"'!\"&Lists!$E32&X$14))))","v":""},{"$f":"IF(ISNA(Lists!$C32),\"\",IF((INDIRECT(\"'\"&Lists!$C32&\"'!\"&Lists!$E32&Y$14))=\"\",\"\",(INDIRECT(\"'\"&Lists!$C32&\"'!\"&Lists!$E32&Y$14))))","v":""},{"$f":"IF(ISNA(Lists!$C32),\"\",IF((INDIRECT(\"'\"&Lists!$C32&\"'!\"&Lists!$E32&Z$14))=\"\",\"\",(INDIRECT(\"'\"&Lists!$C32&\"'!\"&Lists!$E32&Z$14))))","v":""},{"$f":"IF(ISNA(Lists!$C32),\"\",IF((INDIRECT(\"'\"&Lists!$C32&\"'!\"&Lists!$E32&AA$14))=\"\",\"\",(INDIRECT(\"'\"&Lists!$C32&\"'!\"&Lists!$E32&AA$14))))","v":""},{"$f":"IF(ISNA(Lists!$C32),\"\",IF((INDIRECT(\"'\"&Lists!$C32&\"'!\"&Lists!$E32&AB$14))=\"\",\"\",(INDIRECT(\"'\"&Lists!$C32&\"'!\"&Lists!$E32&AB$14))))","v":""},{"$f":"IF(ISNA(Lists!$C32),\"\",IF((INDIRECT(\"'\"&Lists!$C32&\"'!\"&Lists!$E32&AC$14))=\"\",\"\",(INDIRECT(\"'\"&Lists!$C32&\"'!\"&Lists!$E32&AC$14))))","v":""},{"$f":"IF(ISNA(Lists!$C32),\"\",IF((INDIRECT(\"'\"&Lists!$C32&\"'!\"&Lists!$E32&AD$14))=\"\",\"\",(INDIRECT(\"'\"&Lists!$C32&\"'!\"&Lists!$E32&AD$14))))","v":""},{"$f":"IF(ISNA(Lists!$C32),\"\",IF((INDIRECT(\"'\"&Lists!$C32&\"'!\"&Lists!$E32&AE$14))=\"\",\"\",(INDIRECT(\"'\"&Lists!$C32&\"'!\"&Lists!$E32&AE$14))))","v":""},{"$f":"IF(ISNA(Lists!$C32),\"\",IF((INDIRECT(\"'\"&Lists!$C32&\"'!\"&Lists!$E32&AF$14))=\"\",\"\",(INDIRECT(\"'\"&Lists!$C32&\"'!\"&Lists!$E32&AF$14))))","v":""},{"$f":"IF(ISNA(Lists!$C32),\"\",IF((INDIRECT(\"'\"&Lists!$C32&\"'!\"&Lists!$E32&AG$14))=\"\",\"\",(INDIRECT(\"'\"&Lists!$C32&\"'!\"&Lists!$E32&AG$14))))","v":""},{"$f":"IF(ISNA(Lists!$C32),\"\",IF((INDIRECT(\"'\"&Lists!$C32&\"'!\"&Lists!$E32&AH$14))=\"\",\"\",(INDIRECT(\"'\"&Lists!$C32&\"'!\"&Lists!$E32&AH$14))))","v":""},{"$f":"IF(ISNA(Lists!$C32),\"\",IF((INDIRECT(\"'\"&Lists!$C32&\"'!\"&Lists!$E32&AI$14))=\"\",\"\",(INDIRECT(\"'\"&Lists!$C32&\"'!\"&Lists!$E32&AI$14))))","v":""},{"$f":"IF(ISNA(Lists!$C32),\"\",IF((INDIRECT(\"'\"&Lists!$C32&\"'!\"&Lists!$D32&AJ$14))=\"\",\"\",(INDIRECT(\"'\"&Lists!$C32&\"'!\"&Lists!$D32&AJ$14))))","v":""},{"$f":"IF(ISNA(Lists!$C32),\"\",IF((INDIRECT(\"'\"&Lists!$C32&\"'!\"&Lists!$D32&AK$14))=\"\",\"\",(INDIRECT(\"'\"&Lists!$C32&\"'!\"&Lists!$D32&AK$14))))","v":""},{"$f":"IF(ISNA(Lists!$C32),\"\",IF((INDIRECT(\"'\"&Lists!$C32&\"'!\"&Lists!$D32&AL$14))=\"\",\"\",(INDIRECT(\"'\"&Lists!$C32&\"'!\"&Lists!$D32&AL$14))))","v":""},{"$f":"IF(ISNA(Lists!$C32),\"\",IF((INDIRECT(\"'\"&Lists!$C32&\"'!\"&Lists!$D32&AM$14))=\"\",\"\",(INDIRECT(\"'\"&Lists!$C32&\"'!\"&Lists!$D32&AM$14))))","v":""},{"$f":"IF(ISNA(Lists!$C32),\"\",IF((INDIRECT(\"'\"&Lists!$C32&\"'!\"&Lists!$D32&AN$14))=\"\",\"\",(INDIRECT(\"'\"&Lists!$C32&\"'!\"&Lists!$D32&AN$14))))","v":""},{"$f":"IF(ISNA(Lists!$C32),\"\",IF((INDIRECT(\"'\"&Lists!$C32&\"'!\"&Lists!$D32&AO$14))=\"\",\"\",(INDIRECT(\"'\"&Lists!$C32&\"'!\"&Lists!$D32&AO$14))))","v":""},{"$f":"IF(ISNA(Lists!$C32),\"\",IF((INDIRECT(\"'\"&Lists!$C32&\"'!\"&Lists!$D32&AP$14))=\"\",\"\",(INDIRECT(\"'\"&Lists!$C32&\"'!\"&Lists!$D32&AP$14))))","v":""},{"$f":"IF(ISNA(Lists!$C32),\"\",IF((INDIRECT(\"'\"&Lists!$C32&\"'!\"&Lists!$D32&AQ$14))=\"\",\"\",(INDIRECT(\"'\"&Lists!$C32&\"'!\"&Lists!$D32&AQ$14))))","v":""},{"$f":"IF(ISNA(Lists!$C32),\"\",IF((INDIRECT(\"'\"&Lists!$C32&\"'!\"&Lists!$D32&AR$14))=\"\",\"\",(INDIRECT(\"'\"&Lists!$C32&\"'!\"&Lists!$D32&AR$14))))","v":""},{"$f":"IF(ISNA(Lists!$C32),\"\",IF((INDIRECT(\"'\"&Lists!$C32&\"'!\"&Lists!$D32&AS$14))=\"\",\"\",(INDIRECT(\"'\"&Lists!$C32&\"'!\"&Lists!$D32&AS$14))))","v":""}]
[null,{"$f":"IF(C55=\"\",\"\",Facility_Info_upload!$B$24)","v":""},{"$f":"IF(ISNA(Lists!$C33),\"\",IF(INDIRECT(\"'\"&Lists!$C33&\"'!\"&\"B\"&C$14)=\"\",\"\",(INDIRECT(\"'\"&Lists!$C33&\"'!\"&\"B\"&C$14))))","v":""},{"$f":"IF(ISNA(Lists!$C33),\"\",IF(INDIRECT(\"'\"&Lists!$C33&\"'!\"&\"B\"&D$14)=\"\",\"\",(INDIRECT(\"'\"&Lists!$C33&\"'!\"&\"B\"&D$14))))","v":""},{"$f":"IF(ISNA(Lists!$C33),\"\",IF(INDIRECT(\"'\"&Lists!$C33&\"'!\"&\"B\"&E$14)=\"\",\"\",(INDIRECT(\"'\"&Lists!$C33&\"'!\"&\"B\"&E$14))))","v":""},{"$f":"IF(ISNA(Lists!$C33),\"\",IF(INDIRECT(\"'\"&Lists!$C33&\"'!\"&\"B\"&F$14)=\"\",\"\",(INDIRECT(\"'\"&Lists!$C33&\"'!\"&\"B\"&F$14))))","v":""},{"$f":"IF(ISNA(Lists!$C33),\"\",IF(INDIRECT(\"'\"&Lists!$C33&\"'!\"&\"B\"&G$14)=\"\",\"\",(INDIRECT(\"'\"&Lists!$C33&\"'!\"&\"B\"&G$14))))","v":""},{"$f":"IF(ISNA(Lists!$C33),\"\",IF((INDIRECT(\"'\"&Lists!$C33&\"'!\"&Lists!$D33&H$14))=\"\",\"\",(INDIRECT(\"'\"&Lists!$C33&\"'!\"&Lists!$D33&H$14))))","v":""},{"$f":"IF(ISNA(Lists!$C33),\"\",IF((INDIRECT(\"'\"&Lists!$C33&\"'!\"&Lists!$D33&I$14))=\"\",\"\",(INDIRECT(\"'\"&Lists!$C33&\"'!\"&Lists!$D33&I$14))))","v":""},{"$f":"IF(ISNA(Lists!$C33),\"\",IF((INDIRECT(\"'\"&Lists!$C33&\"'!\"&Lists!$D33&J$14))=\"\",\"\",(INDIRECT(\"'\"&Lists!$C33&\"'!\"&Lists!$D33&J$14))))","v":""},{"$f":"IF(ISNA(Lists!$C33),\"\",IF((INDIRECT(\"'\"&Lists!$C33&\"'!\"&Lists!$D33&K$14))=\"\",\"\",(INDIRECT(\"'\"&Lists!$C33&\"'!\"&Lists!$D33&K$14))))","v":""},{"$f":"IF(ISNA(Lists!$C33),\"\",IF((INDIRECT(\"'\"&Lists!$C33&\"'!\"&Lists!$D33&L$14))=\"\",\"\",(INDIRECT(\"'\"&Lists!$C33&\"'!\"&Lists!$D33&L$14))))","v":""},{"$f":"IF(ISNA(Lists!$C33),\"\",IF((INDIRECT(\"'\"&Lists!$C33&\"'!\"&Lists!$D33&M$14))=\"\",\"\",(INDIRECT(\"'\"&Lists!$C33&\"'!\"&Lists!$D33&M$14))))","v":""},{"$f":"IF(ISNA(Lists!$C33),\"\",IF((INDIRECT(\"'\"&Lists!$C33&\"'!\"&Lists!$D33&N$14))=\"\",\"\",(INDIRECT(\"'\"&Lists!$C33&\"'!\"&Lists!$D33&N$14))))","v":""},{"$f":"IF(ISNA(Lists!$C33),\"\",IF((INDIRECT(\"'\"&Lists!$C33&\"'!\"&Lists!$D33&O$14))=\"\",\"\",(INDIRECT(\"'\"&Lists!$C33&\"'!\"&Lists!$D33&O$14))))","v":""},{"$f":"IF(ISNA(Lists!$C33),\"\",IF((INDIRECT(\"'\"&Lists!$C33&\"'!\"&Lists!$D33&P$14))=\"\",\"\",(INDIRECT(\"'\"&Lists!$C33&\"'!\"&Lists!$D33&P$14))))","v":""},{"$f":"IF(ISNA(Lists!$C33),\"\",IF((INDIRECT(\"'\"&Lists!$C33&\"'!\"&Lists!$D33&Q$14))=\"\",\"\",(INDIRECT(\"'\"&Lists!$C33&\"'!\"&Lists!$D33&Q$14))))","v":""},{"$f":"IF(ISNA(Lists!$C33),\"\",IF((INDIRECT(\"'\"&Lists!$C33&\"'!\"&Lists!$D33&R$14))=\"\",\"\",(INDIRECT(\"'\"&Lists!$C33&\"'!\"&Lists!$D33&R$14))))","v":""},{"$f":"IF(ISNA(Lists!$C33),\"\",IF((INDIRECT(\"'\"&Lists!$C33&\"'!\"&Lists!$D33&S$14))=\"\",\"\",(INDIRECT(\"'\"&Lists!$C33&\"'!\"&Lists!$D33&S$14))))","v":""},{"$f":"IF(ISNA(Lists!$C33),\"\",IF((INDIRECT(\"'\"&Lists!$C33&\"'!\"&Lists!$D33&T$14))=\"\",\"\",(INDIRECT(\"'\"&Lists!$C33&\"'!\"&Lists!$D33&T$14))))","v":""},{"$f":"IF(ISNA(Lists!$C33),\"\",IF((INDIRECT(\"'\"&Lists!$C33&\"'!\"&Lists!$D33&U$14))=\"\",\"\",(INDIRECT(\"'\"&Lists!$C33&\"'!\"&Lists!$D33&U$14))))","v":""},{"$f":"IF(ISNA(Lists!$C33),\"\",IF((INDIRECT(\"'\"&Lists!$C33&\"'!\"&Lists!$E33&V$14))=\"\",\"\",(INDIRECT(\"'\"&Lists!$C33&\"'!\"&Lists!$E33&V$14))))","v":""},{"$f":"IF(ISNA(Lists!$C33),\"\",IF((INDIRECT(\"'\"&Lists!$C33&\"'!\"&Lists!$E33&W$14))=\"\",\"\",(INDIRECT(\"'\"&Lists!$C33&\"'!\"&Lists!$E33&W$14))))","v":""},{"$f":"IF(ISNA(Lists!$C33),\"\",IF((INDIRECT(\"'\"&Lists!$C33&\"'!\"&Lists!$E33&X$14))=\"\",\"\",(INDIRECT(\"'\"&Lists!$C33&\"'!\"&Lists!$E33&X$14))))","v":""},{"$f":"IF(ISNA(Lists!$C33),\"\",IF((INDIRECT(\"'\"&Lists!$C33&\"'!\"&Lists!$E33&Y$14))=\"\",\"\",(INDIRECT(\"'\"&Lists!$C33&\"'!\"&Lists!$E33&Y$14))))","v":""},{"$f":"IF(ISNA(Lists!$C33),\"\",IF((INDIRECT(\"'\"&Lists!$C33&\"'!\"&Lists!$E33&Z$14))=\"\",\"\",(INDIRECT(\"'\"&Lists!$C33&\"'!\"&Lists!$E33&Z$14))))","v":""},{"$f":"IF(ISNA(Lists!$C33),\"\",IF((INDIRECT(\"'\"&Lists!$C33&\"'!\"&Lists!$E33&AA$14))=\"\",\"\",(INDIRECT(\"'\"&Lists!$C33&\"'!\"&Lists!$E33&AA$14))))","v":""},{"$f":"IF(ISNA(Lists!$C33),\"\",IF((INDIRECT(\"'\"&Lists!$C33&\"'!\"&Lists!$E33&AB$14))=\"\",\"\",(INDIRECT(\"'\"&Lists!$C33&\"'!\"&Lists!$E33&AB$14))))","v":""},{"$f":"IF(ISNA(Lists!$C33),\"\",IF((INDIRECT(\"'\"&Lists!$C33&\"'!\"&Lists!$E33&AC$14))=\"\",\"\",(INDIRECT(\"'\"&Lists!$C33&\"'!\"&Lists!$E33&AC$14))))","v":""},{"$f":"IF(ISNA(Lists!$C33),\"\",IF((INDIRECT(\"'\"&Lists!$C33&\"'!\"&Lists!$E33&AD$14))=\"\",\"\",(INDIRECT(\"'\"&Lists!$C33&\"'!\"&Lists!$E33&AD$14))))","v":""},{"$f":"IF(ISNA(Lists!$C33),\"\",IF((INDIRECT(\"'\"&Lists!$C33&\"'!\"&Lists!$E33&AE$14))=\"\",\"\",(INDIRECT(\"'\"&Lists!$C33&\"'!\"&Lists!$E33&AE$14))))","v":""},{"$f":"IF(ISNA(Lists!$C33),\"\",IF((INDIRECT(\"'\"&Lists!$C33&\"'!\"&Lists!$E33&AF$14))=\"\",\"\",(INDIRECT(\"'\"&Lists!$C33&\"'!\"&Lists!$E33&AF$14))))","v":""},{"$f":"IF(ISNA(Lists!$C33),\"\",IF((INDIRECT(\"'\"&Lists!$C33&\"'!\"&Lists!$E33&AG$14))=\"\",\"\",(INDIRECT(\"'\"&Lists!$C33&\"'!\"&Lists!$E33&AG$14))))","v":""},{"$f":"IF(ISNA(Lists!$C33),\"\",IF((INDIRECT(\"'\"&Lists!$C33&\"'!\"&Lists!$E33&AH$14))=\"\",\"\",(INDIRECT(\"'\"&Lists!$C33&\"'!\"&Lists!$E33&AH$14))))","v":""},{"$f":"IF(ISNA(Lists!$C33),\"\",IF((INDIRECT(\"'\"&Lists!$C33&\"'!\"&Lists!$E33&AI$14))=\"\",\"\",(INDIRECT(\"'\"&Lists!$C33&\"'!\"&Lists!$E33&AI$14))))","v":""},{"$f":"IF(ISNA(Lists!$C33),\"\",IF((INDIRECT(\"'\"&Lists!$C33&\"'!\"&Lists!$D33&AJ$14))=\"\",\"\",(INDIRECT(\"'\"&Lists!$C33&\"'!\"&Lists!$D33&AJ$14))))","v":""},{"$f":"IF(ISNA(Lists!$C33),\"\",IF((INDIRECT(\"'\"&Lists!$C33&\"'!\"&Lists!$D33&AK$14))=\"\",\"\",(INDIRECT(\"'\"&Lists!$C33&\"'!\"&Lists!$D33&AK$14))))","v":""},{"$f":"IF(ISNA(Lists!$C33),\"\",IF((INDIRECT(\"'\"&Lists!$C33&\"'!\"&Lists!$D33&AL$14))=\"\",\"\",(INDIRECT(\"'\"&Lists!$C33&\"'!\"&Lists!$D33&AL$14))))","v":""},{"$f":"IF(ISNA(Lists!$C33),\"\",IF((INDIRECT(\"'\"&Lists!$C33&\"'!\"&Lists!$D33&AM$14))=\"\",\"\",(INDIRECT(\"'\"&Lists!$C33&\"'!\"&Lists!$D33&AM$14))))","v":""},{"$f":"IF(ISNA(Lists!$C33),\"\",IF((INDIRECT(\"'\"&Lists!$C33&\"'!\"&Lists!$D33&AN$14))=\"\",\"\",(INDIRECT(\"'\"&Lists!$C33&\"'!\"&Lists!$D33&AN$14))))","v":""},{"$f":"IF(ISNA(Lists!$C33),\"\",IF((INDIRECT(\"'\"&Lists!$C33&\"'!\"&Lists!$D33&AO$14))=\"\",\"\",(INDIRECT(\"'\"&Lists!$C33&\"'!\"&Lists!$D33&AO$14))))","v":""},{"$f":"IF(ISNA(Lists!$C33),\"\",IF((INDIRECT(\"'\"&Lists!$C33&\"'!\"&Lists!$D33&AP$14))=\"\",\"\",(INDIRECT(\"'\"&Lists!$C33&\"'!\"&Lists!$D33&AP$14))))","v":""},{"$f":"IF(ISNA(Lists!$C33),\"\",IF((INDIRECT(\"'\"&Lists!$C33&\"'!\"&Lists!$D33&AQ$14))=\"\",\"\",(INDIRECT(\"'\"&Lists!$C33&\"'!\"&Lists!$D33&AQ$14))))","v":""},{"$f":"IF(ISNA(Lists!$C33),\"\",IF((INDIRECT(\"'\"&Lists!$C33&\"'!\"&Lists!$D33&AR$14))=\"\",\"\",(INDIRECT(\"'\"&Lists!$C33&\"'!\"&Lists!$D33&AR$14))))","v":""},{"$f":"IF(ISNA(Lists!$C33),\"\",IF((INDIRECT(\"'\"&Lists!$C33&\"'!\"&Lists!$D33&AS$14))=\"\",\"\",(INDIRECT(\"'\"&Lists!$C33&\"'!\"&Lists!$D33&AS$14))))","v":""}]
[null,{"$f":"IF(C56=\"\",\"\",Facility_Info_upload!$B$24)","v":""},{"$f":"IF(ISNA(Lists!$C34),\"\",IF(INDIRECT(\"'\"&Lists!$C34&\"'!\"&\"B\"&C$14)=\"\",\"\",(INDIRECT(\"'\"&Lists!$C34&\"'!\"&\"B\"&C$14))))","v":""},{"$f":"IF(ISNA(Lists!$C34),\"\",IF(INDIRECT(\"'\"&Lists!$C34&\"'!\"&\"B\"&D$14)=\"\",\"\",(INDIRECT(\"'\"&Lists!$C34&\"'!\"&\"B\"&D$14))))","v":""},{"$f":"IF(ISNA(Lists!$C34),\"\",IF(INDIRECT(\"'\"&Lists!$C34&\"'!\"&\"B\"&E$14)=\"\",\"\",(INDIRECT(\"'\"&Lists!$C34&\"'!\"&\"B\"&E$14))))","v":""},{"$f":"IF(ISNA(Lists!$C34),\"\",IF(INDIRECT(\"'\"&Lists!$C34&\"'!\"&\"B\"&F$14)=\"\",\"\",(INDIRECT(\"'\"&Lists!$C34&\"'!\"&\"B\"&F$14))))","v":""},{"$f":"IF(ISNA(Lists!$C34),\"\",IF(INDIRECT(\"'\"&Lists!$C34&\"'!\"&\"B\"&G$14)=\"\",\"\",(INDIRECT(\"'\"&Lists!$C34&\"'!\"&\"B\"&G$14))))","v":""},{"$f":"IF(ISNA(Lists!$C34),\"\",IF((INDIRECT(\"'\"&Lists!$C34&\"'!\"&Lists!$D34&H$14))=\"\",\"\",(INDIRECT(\"'\"&Lists!$C34&\"'!\"&Lists!$D34&H$14))))","v":""},{"$f":"IF(ISNA(Lists!$C34),\"\",IF((INDIRECT(\"'\"&Lists!$C34&\"'!\"&Lists!$D34&I$14))=\"\",\"\",(INDIRECT(\"'\"&Lists!$C34&\"'!\"&Lists!$D34&I$14))))","v":""},{"$f":"IF(ISNA(Lists!$C34),\"\",IF((INDIRECT(\"'\"&Lists!$C34&\"'!\"&Lists!$D34&J$14))=\"\",\"\",(INDIRECT(\"'\"&Lists!$C34&\"'!\"&Lists!$D34&J$14))))","v":""},{"$f":"IF(ISNA(Lists!$C34),\"\",IF((INDIRECT(\"'\"&Lists!$C34&\"'!\"&Lists!$D34&K$14))=\"\",\"\",(INDIRECT(\"'\"&Lists!$C34&\"'!\"&Lists!$D34&K$14))))","v":""},{"$f":"IF(ISNA(Lists!$C34),\"\",IF((INDIRECT(\"'\"&Lists!$C34&\"'!\"&Lists!$D34&L$14))=\"\",\"\",(INDIRECT(\"'\"&Lists!$C34&\"'!\"&Lists!$D34&L$14))))","v":""},{"$f":"IF(ISNA(Lists!$C34),\"\",IF((INDIRECT(\"'\"&Lists!$C34&\"'!\"&Lists!$D34&M$14))=\"\",\"\",(INDIRECT(\"'\"&Lists!$C34&\"'!\"&Lists!$D34&M$14))))","v":""},{"$f":"IF(ISNA(Lists!$C34),\"\",IF((INDIRECT(\"'\"&Lists!$C34&\"'!\"&Lists!$D34&N$14))=\"\",\"\",(INDIRECT(\"'\"&Lists!$C34&\"'!\"&Lists!$D34&N$14))))","v":""},{"$f":"IF(ISNA(Lists!$C34),\"\",IF((INDIRECT(\"'\"&Lists!$C34&\"'!\"&Lists!$D34&O$14))=\"\",\"\",(INDIRECT(\"'\"&Lists!$C34&\"'!\"&Lists!$D34&O$14))))","v":""},{"$f":"IF(ISNA(Lists!$C34),\"\",IF((INDIRECT(\"'\"&Lists!$C34&\"'!\"&Lists!$D34&P$14))=\"\",\"\",(INDIRECT(\"'\"&Lists!$C34&\"'!\"&Lists!$D34&P$14))))","v":""},{"$f":"IF(ISNA(Lists!$C34),\"\",IF((INDIRECT(\"'\"&Lists!$C34&\"'!\"&Lists!$D34&Q$14))=\"\",\"\",(INDIRECT(\"'\"&Lists!$C34&\"'!\"&Lists!$D34&Q$14))))","v":""},{"$f":"IF(ISNA(Lists!$C34),\"\",IF((INDIRECT(\"'\"&Lists!$C34&\"'!\"&Lists!$D34&R$14))=\"\",\"\",(INDIRECT(\"'\"&Lists!$C34&\"'!\"&Lists!$D34&R$14))))","v":""},{"$f":"IF(ISNA(Lists!$C34),\"\",IF((INDIRECT(\"'\"&Lists!$C34&\"'!\"&Lists!$D34&S$14))=\"\",\"\",(INDIRECT(\"'\"&Lists!$C34&\"'!\"&Lists!$D34&S$14))))","v":""},{"$f":"IF(ISNA(Lists!$C34),\"\",IF((INDIRECT(\"'\"&Lists!$C34&\"'!\"&Lists!$D34&T$14))=\"\",\"\",(INDIRECT(\"'\"&Lists!$C34&\"'!\"&Lists!$D34&T$14))))","v":""},{"$f":"IF(ISNA(Lists!$C34),\"\",IF((INDIRECT(\"'\"&Lists!$C34&\"'!\"&Lists!$D34&U$14))=\"\",\"\",(INDIRECT(\"'\"&Lists!$C34&\"'!\"&Lists!$D34&U$14))))","v":""},{"$f":"IF(ISNA(Lists!$C34),\"\",IF((INDIRECT(\"'\"&Lists!$C34&\"'!\"&Lists!$E34&V$14))=\"\",\"\",(INDIRECT(\"'\"&Lists!$C34&\"'!\"&Lists!$E34&V$14))))","v":""},{"$f":"IF(ISNA(Lists!$C34),\"\",IF((INDIRECT(\"'\"&Lists!$C34&\"'!\"&Lists!$E34&W$14))=\"\",\"\",(INDIRECT(\"'\"&Lists!$C34&\"'!\"&Lists!$E34&W$14))))","v":""},{"$f":"IF(ISNA(Lists!$C34),\"\",IF((INDIRECT(\"'\"&Lists!$C34&\"'!\"&Lists!$E34&X$14))=\"\",\"\",(INDIRECT(\"'\"&Lists!$C34&\"'!\"&Lists!$E34&X$14))))","v":""},{"$f":"IF(ISNA(Lists!$C34),\"\",IF((INDIRECT(\"'\"&Lists!$C34&\"'!\"&Lists!$E34&Y$14))=\"\",\"\",(INDIRECT(\"'\"&Lists!$C34&\"'!\"&Lists!$E34&Y$14))))","v":""},{"$f":"IF(ISNA(Lists!$C34),\"\",IF((INDIRECT(\"'\"&Lists!$C34&\"'!\"&Lists!$E34&Z$14))=\"\",\"\",(INDIRECT(\"'\"&Lists!$C34&\"'!\"&Lists!$E34&Z$14))))","v":""},{"$f":"IF(ISNA(Lists!$C34),\"\",IF((INDIRECT(\"'\"&Lists!$C34&\"'!\"&Lists!$E34&AA$14))=\"\",\"\",(INDIRECT(\"'\"&Lists!$C34&\"'!\"&Lists!$E34&AA$14))))","v":""},{"$f":"IF(ISNA(Lists!$C34),\"\",IF((INDIRECT(\"'\"&Lists!$C34&\"'!\"&Lists!$E34&AB$14))=\"\",\"\",(INDIRECT(\"'\"&Lists!$C34&\"'!\"&Lists!$E34&AB$14))))","v":""},{"$f":"IF(ISNA(Lists!$C34),\"\",IF((INDIRECT(\"'\"&Lists!$C34&\"'!\"&Lists!$E34&AC$14))=\"\",\"\",(INDIRECT(\"'\"&Lists!$C34&\"'!\"&Lists!$E34&AC$14))))","v":""},{"$f":"IF(ISNA(Lists!$C34),\"\",IF((INDIRECT(\"'\"&Lists!$C34&\"'!\"&Lists!$E34&AD$14))=\"\",\"\",(INDIRECT(\"'\"&Lists!$C34&\"'!\"&Lists!$E34&AD$14))))","v":""},{"$f":"IF(ISNA(Lists!$C34),\"\",IF((INDIRECT(\"'\"&Lists!$C34&\"'!\"&Lists!$E34&AE$14))=\"\",\"\",(INDIRECT(\"'\"&Lists!$C34&\"'!\"&Lists!$E34&AE$14))))","v":""},{"$f":"IF(ISNA(Lists!$C34),\"\",IF((INDIRECT(\"'\"&Lists!$C34&\"'!\"&Lists!$E34&AF$14))=\"\",\"\",(INDIRECT(\"'\"&Lists!$C34&\"'!\"&Lists!$E34&AF$14))))","v":""},{"$f":"IF(ISNA(Lists!$C34),\"\",IF((INDIRECT(\"'\"&Lists!$C34&\"'!\"&Lists!$E34&AG$14))=\"\",\"\",(INDIRECT(\"'\"&Lists!$C34&\"'!\"&Lists!$E34&AG$14))))","v":""},{"$f":"IF(ISNA(Lists!$C34),\"\",IF((INDIRECT(\"'\"&Lists!$C34&\"'!\"&Lists!$E34&AH$14))=\"\",\"\",(INDIRECT(\"'\"&Lists!$C34&\"'!\"&Lists!$E34&AH$14))))","v":""},{"$f":"IF(ISNA(Lists!$C34),\"\",IF((INDIRECT(\"'\"&Lists!$C34&\"'!\"&Lists!$E34&AI$14))=\"\",\"\",(INDIRECT(\"'\"&Lists!$C34&\"'!\"&Lists!$E34&AI$14))))","v":""},{"$f":"IF(ISNA(Lists!$C34),\"\",IF((INDIRECT(\"'\"&Lists!$C34&\"'!\"&Lists!$D34&AJ$14))=\"\",\"\",(INDIRECT(\"'\"&Lists!$C34&\"'!\"&Lists!$D34&AJ$14))))","v":""},{"$f":"IF(ISNA(Lists!$C34),\"\",IF((INDIRECT(\"'\"&Lists!$C34&\"'!\"&Lists!$D34&AK$14))=\"\",\"\",(INDIRECT(\"'\"&Lists!$C34&\"'!\"&Lists!$D34&AK$14))))","v":""},{"$f":"IF(ISNA(Lists!$C34),\"\",IF((INDIRECT(\"'\"&Lists!$C34&\"'!\"&Lists!$D34&AL$14))=\"\",\"\",(INDIRECT(\"'\"&Lists!$C34&\"'!\"&Lists!$D34&AL$14))))","v":""},{"$f":"IF(ISNA(Lists!$C34),\"\",IF((INDIRECT(\"'\"&Lists!$C34&\"'!\"&Lists!$D34&AM$14))=\"\",\"\",(INDIRECT(\"'\"&Lists!$C34&\"'!\"&Lists!$D34&AM$14))))","v":""},{"$f":"IF(ISNA(Lists!$C34),\"\",IF((INDIRECT(\"'\"&Lists!$C34&\"'!\"&Lists!$D34&AN$14))=\"\",\"\",(INDIRECT(\"'\"&Lists!$C34&\"'!\"&Lists!$D34&AN$14))))","v":""},{"$f":"IF(ISNA(Lists!$C34),\"\",IF((INDIRECT(\"'\"&Lists!$C34&\"'!\"&Lists!$D34&AO$14))=\"\",\"\",(INDIRECT(\"'\"&Lists!$C34&\"'!\"&Lists!$D34&AO$14))))","v":""},{"$f":"IF(ISNA(Lists!$C34),\"\",IF((INDIRECT(\"'\"&Lists!$C34&\"'!\"&Lists!$D34&AP$14))=\"\",\"\",(INDIRECT(\"'\"&Lists!$C34&\"'!\"&Lists!$D34&AP$14))))","v":""},{"$f":"IF(ISNA(Lists!$C34),\"\",IF((INDIRECT(\"'\"&Lists!$C34&\"'!\"&Lists!$D34&AQ$14))=\"\",\"\",(INDIRECT(\"'\"&Lists!$C34&\"'!\"&Lists!$D34&AQ$14))))","v":""},{"$f":"IF(ISNA(Lists!$C34),\"\",IF((INDIRECT(\"'\"&Lists!$C34&\"'!\"&Lists!$D34&AR$14))=\"\",\"\",(INDIRECT(\"'\"&Lists!$C34&\"'!\"&Lists!$D34&AR$14))))","v":""},{"$f":"IF(ISNA(Lists!$C34),\"\",IF((INDIRECT(\"'\"&Lists!$C34&\"'!\"&Lists!$D34&AS$14))=\"\",\"\",(INDIRECT(\"'\"&Lists!$C34&\"'!\"&Lists!$D34&AS$14))))","v":""}]
[null,{"$f":"IF(C57=\"\",\"\",Facility_Info_upload!$B$24)","v":""},{"$f":"IF(ISNA(Lists!$C35),\"\",IF(INDIRECT(\"'\"&Lists!$C35&\"'!\"&\"B\"&C$14)=\"\",\"\",(INDIRECT(\"'\"&Lists!$C35&\"'!\"&\"B\"&C$14))))","v":""},{"$f":"IF(ISNA(Lists!$C35),\"\",IF(INDIRECT(\"'\"&Lists!$C35&\"'!\"&\"B\"&D$14)=\"\",\"\",(INDIRECT(\"'\"&Lists!$C35&\"'!\"&\"B\"&D$14))))","v":""},{"$f":"IF(ISNA(Lists!$C35),\"\",IF(INDIRECT(\"'\"&Lists!$C35&\"'!\"&\"B\"&E$14)=\"\",\"\",(INDIRECT(\"'\"&Lists!$C35&\"'!\"&\"B\"&E$14))))","v":""},{"$f":"IF(ISNA(Lists!$C35),\"\",IF(INDIRECT(\"'\"&Lists!$C35&\"'!\"&\"B\"&F$14)=\"\",\"\",(INDIRECT(\"'\"&Lists!$C35&\"'!\"&\"B\"&F$14))))","v":""},{"$f":"IF(ISNA(Lists!$C35),\"\",IF(INDIRECT(\"'\"&Lists!$C35&\"'!\"&\"B\"&G$14)=\"\",\"\",(INDIRECT(\"'\"&Lists!$C35&\"'!\"&\"B\"&G$14))))","v":""},{"$f":"IF(ISNA(Lists!$C35),\"\",IF((INDIRECT(\"'\"&Lists!$C35&\"'!\"&Lists!$D35&H$14))=\"\",\"\",(INDIRECT(\"'\"&Lists!$C35&\"'!\"&Lists!$D35&H$14))))","v":""},{"$f":"IF(ISNA(Lists!$C35),\"\",IF((INDIRECT(\"'\"&Lists!$C35&\"'!\"&Lists!$D35&I$14))=\"\",\"\",(INDIRECT(\"'\"&Lists!$C35&\"'!\"&Lists!$D35&I$14))))","v":""},{"$f":"IF(ISNA(Lists!$C35),\"\",IF((INDIRECT(\"'\"&Lists!$C35&\"'!\"&Lists!$D35&J$14))=\"\",\"\",(INDIRECT(\"'\"&Lists!$C35&\"'!\"&Lists!$D35&J$14))))","v":""},{"$f":"IF(ISNA(Lists!$C35),\"\",IF((INDIRECT(\"'\"&Lists!$C35&\"'!\"&Lists!$D35&K$14))=\"\",\"\",(INDIRECT(\"'\"&Lists!$C35&\"'!\"&Lists!$D35&K$14))))","v":""},{"$f":"IF(ISNA(Lists!$C35),\"\",IF((INDIRECT(\"'\"&Lists!$C35&\"'!\"&Lists!$D35&L$14))=\"\",\"\",(INDIRECT(\"'\"&Lists!$C35&\"'!\"&Lists!$D35&L$14))))","v":""},{"$f":"IF(ISNA(Lists!$C35),\"\",IF((INDIRECT(\"'\"&Lists!$C35&\"'!\"&Lists!$D35&M$14))=\"\",\"\",(INDIRECT(\"'\"&Lists!$C35&\"'!\"&Lists!$D35&M$14))))","v":""},{"$f":"IF(ISNA(Lists!$C35),\"\",IF((INDIRECT(\"'\"&Lists!$C35&\"'!\"&Lists!$D35&N$14))=\"\",\"\",(INDIRECT(\"'\"&Lists!$C35&\"'!\"&Lists!$D35&N$14))))","v":""},{"$f":"IF(ISNA(Lists!$C35),\"\",IF((INDIRECT(\"'\"&Lists!$C35&\"'!\"&Lists!$D35&O$14))=\"\",\"\",(INDIRECT(\"'\"&Lists!$C35&\"'!\"&Lists!$D35&O$14))))","v":""},{"$f":"IF(ISNA(Lists!$C35),\"\",IF((INDIRECT(\"'\"&Lists!$C35&\"'!\"&Lists!$D35&P$14))=\"\",\"\",(INDIRECT(\"'\"&Lists!$C35&\"'!\"&Lists!$D35&P$14))))","v":""},{"$f":"IF(ISNA(Lists!$C35),\"\",IF((INDIRECT(\"'\"&Lists!$C35&\"'!\"&Lists!$D35&Q$14))=\"\",\"\",(INDIRECT(\"'\"&Lists!$C35&\"'!\"&Lists!$D35&Q$14))))","v":""},{"$f":"IF(ISNA(Lists!$C35),\"\",IF((INDIRECT(\"'\"&Lists!$C35&\"'!\"&Lists!$D35&R$14))=\"\",\"\",(INDIRECT(\"'\"&Lists!$C35&\"'!\"&Lists!$D35&R$14))))","v":""},{"$f":"IF(ISNA(Lists!$C35),\"\",IF((INDIRECT(\"'\"&Lists!$C35&\"'!\"&Lists!$D35&S$14))=\"\",\"\",(INDIRECT(\"'\"&Lists!$C35&\"'!\"&Lists!$D35&S$14))))","v":""},{"$f":"IF(ISNA(Lists!$C35),\"\",IF((INDIRECT(\"'\"&Lists!$C35&\"'!\"&Lists!$D35&T$14))=\"\",\"\",(INDIRECT(\"'\"&Lists!$C35&\"'!\"&Lists!$D35&T$14))))","v":""},{"$f":"IF(ISNA(Lists!$C35),\"\",IF((INDIRECT(\"'\"&Lists!$C35&\"'!\"&Lists!$D35&U$14))=\"\",\"\",(INDIRECT(\"'\"&Lists!$C35&\"'!\"&Lists!$D35&U$14))))","v":""},{"$f":"IF(ISNA(Lists!$C35),\"\",IF((INDIRECT(\"'\"&Lists!$C35&\"'!\"&Lists!$E35&V$14))=\"\",\"\",(INDIRECT(\"'\"&Lists!$C35&\"'!\"&Lists!$E35&V$14))))","v":""},{"$f":"IF(ISNA(Lists!$C35),\"\",IF((INDIRECT(\"'\"&Lists!$C35&\"'!\"&Lists!$E35&W$14))=\"\",\"\",(INDIRECT(\"'\"&Lists!$C35&\"'!\"&Lists!$E35&W$14))))","v":""},{"$f":"IF(ISNA(Lists!$C35),\"\",IF((INDIRECT(\"'\"&Lists!$C35&\"'!\"&Lists!$E35&X$14))=\"\",\"\",(INDIRECT(\"'\"&Lists!$C35&\"'!\"&Lists!$E35&X$14))))","v":""},{"$f":"IF(ISNA(Lists!$C35),\"\",IF((INDIRECT(\"'\"&Lists!$C35&\"'!\"&Lists!$E35&Y$14))=\"\",\"\",(INDIRECT(\"'\"&Lists!$C35&\"'!\"&Lists!$E35&Y$14))))","v":""},{"$f":"IF(ISNA(Lists!$C35),\"\",IF((INDIRECT(\"'\"&Lists!$C35&\"'!\"&Lists!$E35&Z$14))=\"\",\"\",(INDIRECT(\"'\"&Lists!$C35&\"'!\"&Lists!$E35&Z$14))))","v":""},{"$f":"IF(ISNA(Lists!$C35),\"\",IF((INDIRECT(\"'\"&Lists!$C35&\"'!\"&Lists!$E35&AA$14))=\"\",\"\",(INDIRECT(\"'\"&Lists!$C35&\"'!\"&Lists!$E35&AA$14))))","v":""},{"$f":"IF(ISNA(Lists!$C35),\"\",IF((INDIRECT(\"'\"&Lists!$C35&\"'!\"&Lists!$E35&AB$14))=\"\",\"\",(INDIRECT(\"'\"&Lists!$C35&\"'!\"&Lists!$E35&AB$14))))","v":""},{"$f":"IF(ISNA(Lists!$C35),\"\",IF((INDIRECT(\"'\"&Lists!$C35&\"'!\"&Lists!$E35&AC$14))=\"\",\"\",(INDIRECT(\"'\"&Lists!$C35&\"'!\"&Lists!$E35&AC$14))))","v":""},{"$f":"IF(ISNA(Lists!$C35),\"\",IF((INDIRECT(\"'\"&Lists!$C35&\"'!\"&Lists!$E35&AD$14))=\"\",\"\",(INDIRECT(\"'\"&Lists!$C35&\"'!\"&Lists!$E35&AD$14))))","v":""},{"$f":"IF(ISNA(Lists!$C35),\"\",IF((INDIRECT(\"'\"&Lists!$C35&\"'!\"&Lists!$E35&AE$14))=\"\",\"\",(INDIRECT(\"'\"&Lists!$C35&\"'!\"&Lists!$E35&AE$14))))","v":""},{"$f":"IF(ISNA(Lists!$C35),\"\",IF((INDIRECT(\"'\"&Lists!$C35&\"'!\"&Lists!$E35&AF$14))=\"\",\"\",(INDIRECT(\"'\"&Lists!$C35&\"'!\"&Lists!$E35&AF$14))))","v":""},{"$f":"IF(ISNA(Lists!$C35),\"\",IF((INDIRECT(\"'\"&Lists!$C35&\"'!\"&Lists!$E35&AG$14))=\"\",\"\",(INDIRECT(\"'\"&Lists!$C35&\"'!\"&Lists!$E35&AG$14))))","v":""},{"$f":"IF(ISNA(Lists!$C35),\"\",IF((INDIRECT(\"'\"&Lists!$C35&\"'!\"&Lists!$E35&AH$14))=\"\",\"\",(INDIRECT(\"'\"&Lists!$C35&\"'!\"&Lists!$E35&AH$14))))","v":""},{"$f":"IF(ISNA(Lists!$C35),\"\",IF((INDIRECT(\"'\"&Lists!$C35&\"'!\"&Lists!$E35&AI$14))=\"\",\"\",(INDIRECT(\"'\"&Lists!$C35&\"'!\"&Lists!$E35&AI$14))))","v":""},{"$f":"IF(ISNA(Lists!$C35),\"\",IF((INDIRECT(\"'\"&Lists!$C35&\"'!\"&Lists!$D35&AJ$14))=\"\",\"\",(INDIRECT(\"'\"&Lists!$C35&\"'!\"&Lists!$D35&AJ$14))))","v":""},{"$f":"IF(ISNA(Lists!$C35),\"\",IF((INDIRECT(\"'\"&Lists!$C35&\"'!\"&Lists!$D35&AK$14))=\"\",\"\",(INDIRECT(\"'\"&Lists!$C35&\"'!\"&Lists!$D35&AK$14))))","v":""},{"$f":"IF(ISNA(Lists!$C35),\"\",IF((INDIRECT(\"'\"&Lists!$C35&\"'!\"&Lists!$D35&AL$14))=\"\",\"\",(INDIRECT(\"'\"&Lists!$C35&\"'!\"&Lists!$D35&AL$14))))","v":""},{"$f":"IF(ISNA(Lists!$C35),\"\",IF((INDIRECT(\"'\"&Lists!$C35&\"'!\"&Lists!$D35&AM$14))=\"\",\"\",(INDIRECT(\"'\"&Lists!$C35&\"'!\"&Lists!$D35&AM$14))))","v":""},{"$f":"IF(ISNA(Lists!$C35),\"\",IF((INDIRECT(\"'\"&Lists!$C35&\"'!\"&Lists!$D35&AN$14))=\"\",\"\",(INDIRECT(\"'\"&Lists!$C35&\"'!\"&Lists!$D35&AN$14))))","v":""},{"$f":"IF(ISNA(Lists!$C35),\"\",IF((INDIRECT(\"'\"&Lists!$C35&\"'!\"&Lists!$D35&AO$14))=\"\",\"\",(INDIRECT(\"'\"&Lists!$C35&\"'!\"&Lists!$D35&AO$14))))","v":""},{"$f":"IF(ISNA(Lists!$C35),\"\",IF((INDIRECT(\"'\"&Lists!$C35&\"'!\"&Lists!$D35&AP$14))=\"\",\"\",(INDIRECT(\"'\"&Lists!$C35&\"'!\"&Lists!$D35&AP$14))))","v":""},{"$f":"IF(ISNA(Lists!$C35),\"\",IF((INDIRECT(\"'\"&Lists!$C35&\"'!\"&Lists!$D35&AQ$14))=\"\",\"\",(INDIRECT(\"'\"&Lists!$C35&\"'!\"&Lists!$D35&AQ$14))))","v":""},{"$f":"IF(ISNA(Lists!$C35),\"\",IF((INDIRECT(\"'\"&Lists!$C35&\"'!\"&Lists!$D35&AR$14))=\"\",\"\",(INDIRECT(\"'\"&Lists!$C35&\"'!\"&Lists!$D35&AR$14))))","v":""},{"$f":"IF(ISNA(Lists!$C35),\"\",IF((INDIRECT(\"'\"&Lists!$C35&\"'!\"&Lists!$D35&AS$14))=\"\",\"\",(INDIRECT(\"'\"&Lists!$C35&\"'!\"&Lists!$D35&AS$14))))","v":""}]
[null,{"$f":"IF(C58=\"\",\"\",Facility_Info_upload!$B$24)","v":""},{"$f":"IF(ISNA(Lists!$C36),\"\",IF(INDIRECT(\"'\"&Lists!$C36&\"'!\"&\"B\"&C$14)=\"\",\"\",(INDIRECT(\"'\"&Lists!$C36&\"'!\"&\"B\"&C$14))))","v":""},{"$f":"IF(ISNA(Lists!$C36),\"\",IF(INDIRECT(\"'\"&Lists!$C36&\"'!\"&\"B\"&D$14)=\"\",\"\",(INDIRECT(\"'\"&Lists!$C36&\"'!\"&\"B\"&D$14))))","v":""},{"$f":"IF(ISNA(Lists!$C36),\"\",IF(INDIRECT(\"'\"&Lists!$C36&\"'!\"&\"B\"&E$14)=\"\",\"\",(INDIRECT(\"'\"&Lists!$C36&\"'!\"&\"B\"&E$14))))","v":""},{"$f":"IF(ISNA(Lists!$C36),\"\",IF(INDIRECT(\"'\"&Lists!$C36&\"'!\"&\"B\"&F$14)=\"\",\"\",(INDIRECT(\"'\"&Lists!$C36&\"'!\"&\"B\"&F$14))))","v":""},{"$f":"IF(ISNA(Lists!$C36),\"\",IF(INDIRECT(\"'\"&Lists!$C36&\"'!\"&\"B\"&G$14)=\"\",\"\",(INDIRECT(\"'\"&Lists!$C36&\"'!\"&\"B\"&G$14))))","v":""},{"$f":"IF(ISNA(Lists!$C36),\"\",IF((INDIRECT(\"'\"&Lists!$C36&\"'!\"&Lists!$D36&H$14))=\"\",\"\",(INDIRECT(\"'\"&Lists!$C36&\"'!\"&Lists!$D36&H$14))))","v":""},{"$f":"IF(ISNA(Lists!$C36),\"\",IF((INDIRECT(\"'\"&Lists!$C36&\"'!\"&Lists!$D36&I$14))=\"\",\"\",(INDIRECT(\"'\"&Lists!$C36&\"'!\"&Lists!$D36&I$14))))","v":""},{"$f":"IF(ISNA(Lists!$C36),\"\",IF((INDIRECT(\"'\"&Lists!$C36&\"'!\"&Lists!$D36&J$14))=\"\",\"\",(INDIRECT(\"'\"&Lists!$C36&\"'!\"&Lists!$D36&J$14))))","v":""},{"$f":"IF(ISNA(Lists!$C36),\"\",IF((INDIRECT(\"'\"&Lists!$C36&\"'!\"&Lists!$D36&K$14))=\"\",\"\",(INDIRECT(\"'\"&Lists!$C36&\"'!\"&Lists!$D36&K$14))))","v":""},{"$f":"IF(ISNA(Lists!$C36),\"\",IF((INDIRECT(\"'\"&Lists!$C36&\"'!\"&Lists!$D36&L$14))=\"\",\"\",(INDIRECT(\"'\"&Lists!$C36&\"'!\"&Lists!$D36&L$14))))","v":""},{"$f":"IF(ISNA(Lists!$C36),\"\",IF((INDIRECT(\"'\"&Lists!$C36&\"'!\"&Lists!$D36&M$14))=\"\",\"\",(INDIRECT(\"'\"&Lists!$C36&\"'!\"&Lists!$D36&M$14))))","v":""},{"$f":"IF(ISNA(Lists!$C36),\"\",IF((INDIRECT(\"'\"&Lists!$C36&\"'!\"&Lists!$D36&N$14))=\"\",\"\",(INDIRECT(\"'\"&Lists!$C36&\"'!\"&Lists!$D36&N$14))))","v":""},{"$f":"IF(ISNA(Lists!$C36),\"\",IF((INDIRECT(\"'\"&Lists!$C36&\"'!\"&Lists!$D36&O$14))=\"\",\"\",(INDIRECT(\"'\"&Lists!$C36&\"'!\"&Lists!$D36&O$14))))","v":""},{"$f":"IF(ISNA(Lists!$C36),\"\",IF((INDIRECT(\"'\"&Lists!$C36&\"'!\"&Lists!$D36&P$14))=\"\",\"\",(INDIRECT(\"'\"&Lists!$C36&\"'!\"&Lists!$D36&P$14))))","v":""},{"$f":"IF(ISNA(Lists!$C36),\"\",IF((INDIRECT(\"'\"&Lists!$C36&\"'!\"&Lists!$D36&Q$14))=\"\",\"\",(INDIRECT(\"'\"&Lists!$C36&\"'!\"&Lists!$D36&Q$14))))","v":""},{"$f":"IF(ISNA(Lists!$C36),\"\",IF((INDIRECT(\"'\"&Lists!$C36&\"'!\"&Lists!$D36&R$14))=\"\",\"\",(INDIRECT(\"'\"&Lists!$C36&\"'!\"&Lists!$D36&R$14))))","v":""},{"$f":"IF(ISNA(Lists!$C36),\"\",IF((INDIRECT(\"'\"&Lists!$C36&\"'!\"&Lists!$D36&S$14))=\"\",\"\",(INDIRECT(\"'\"&Lists!$C36&\"'!\"&Lists!$D36&S$14))))","v":""},{"$f":"IF(ISNA(Lists!$C36),\"\",IF((INDIRECT(\"'\"&Lists!$C36&\"'!\"&Lists!$D36&T$14))=\"\",\"\",(INDIRECT(\"'\"&Lists!$C36&\"'!\"&Lists!$D36&T$14))))","v":""},{"$f":"IF(ISNA(Lists!$C36),\"\",IF((INDIRECT(\"'\"&Lists!$C36&\"'!\"&Lists!$D36&U$14))=\"\",\"\",(INDIRECT(\"'\"&Lists!$C36&\"'!\"&Lists!$D36&U$14))))","v":""},{"$f":"IF(ISNA(Lists!$C36),\"\",IF((INDIRECT(\"'\"&Lists!$C36&\"'!\"&Lists!$E36&V$14))=\"\",\"\",(INDIRECT(\"'\"&Lists!$C36&\"'!\"&Lists!$E36&V$14))))","v":""},{"$f":"IF(ISNA(Lists!$C36),\"\",IF((INDIRECT(\"'\"&Lists!$C36&\"'!\"&Lists!$E36&W$14))=\"\",\"\",(INDIRECT(\"'\"&Lists!$C36&\"'!\"&Lists!$E36&W$14))))","v":""},{"$f":"IF(ISNA(Lists!$C36),\"\",IF((INDIRECT(\"'\"&Lists!$C36&\"'!\"&Lists!$E36&X$14))=\"\",\"\",(INDIRECT(\"'\"&Lists!$C36&\"'!\"&Lists!$E36&X$14))))","v":""},{"$f":"IF(ISNA(Lists!$C36),\"\",IF((INDIRECT(\"'\"&Lists!$C36&\"'!\"&Lists!$E36&Y$14))=\"\",\"\",(INDIRECT(\"'\"&Lists!$C36&\"'!\"&Lists!$E36&Y$14))))","v":""},{"$f":"IF(ISNA(Lists!$C36),\"\",IF((INDIRECT(\"'\"&Lists!$C36&\"'!\"&Lists!$E36&Z$14))=\"\",\"\",(INDIRECT(\"'\"&Lists!$C36&\"'!\"&Lists!$E36&Z$14))))","v":""},{"$f":"IF(ISNA(Lists!$C36),\"\",IF((INDIRECT(\"'\"&Lists!$C36&\"'!\"&Lists!$E36&AA$14))=\"\",\"\",(INDIRECT(\"'\"&Lists!$C36&\"'!\"&Lists!$E36&AA$14))))","v":""},{"$f":"IF(ISNA(Lists!$C36),\"\",IF((INDIRECT(\"'\"&Lists!$C36&\"'!\"&Lists!$E36&AB$14))=\"\",\"\",(INDIRECT(\"'\"&Lists!$C36&\"'!\"&Lists!$E36&AB$14))))","v":""},{"$f":"IF(ISNA(Lists!$C36),\"\",IF((INDIRECT(\"'\"&Lists!$C36&\"'!\"&Lists!$E36&AC$14))=\"\",\"\",(INDIRECT(\"'\"&Lists!$C36&\"'!\"&Lists!$E36&AC$14))))","v":""},{"$f":"IF(ISNA(Lists!$C36),\"\",IF((INDIRECT(\"'\"&Lists!$C36&\"'!\"&Lists!$E36&AD$14))=\"\",\"\",(INDIRECT(\"'\"&Lists!$C36&\"'!\"&Lists!$E36&AD$14))))","v":""},{"$f":"IF(ISNA(Lists!$C36),\"\",IF((INDIRECT(\"'\"&Lists!$C36&\"'!\"&Lists!$E36&AE$14))=\"\",\"\",(INDIRECT(\"'\"&Lists!$C36&\"'!\"&Lists!$E36&AE$14))))","v":""},{"$f":"IF(ISNA(Lists!$C36),\"\",IF((INDIRECT(\"'\"&Lists!$C36&\"'!\"&Lists!$E36&AF$14))=\"\",\"\",(INDIRECT(\"'\"&Lists!$C36&\"'!\"&Lists!$E36&AF$14))))","v":""},{"$f":"IF(ISNA(Lists!$C36),\"\",IF((INDIRECT(\"'\"&Lists!$C36&\"'!\"&Lists!$E36&AG$14))=\"\",\"\",(INDIRECT(\"'\"&Lists!$C36&\"'!\"&Lists!$E36&AG$14))))","v":""},{"$f":"IF(ISNA(Lists!$C36),\"\",IF((INDIRECT(\"'\"&Lists!$C36&\"'!\"&Lists!$E36&AH$14))=\"\",\"\",(INDIRECT(\"'\"&Lists!$C36&\"'!\"&Lists!$E36&AH$14))))","v":""},{"$f":"IF(ISNA(Lists!$C36),\"\",IF((INDIRECT(\"'\"&Lists!$C36&\"'!\"&Lists!$E36&AI$14))=\"\",\"\",(INDIRECT(\"'\"&Lists!$C36&\"'!\"&Lists!$E36&AI$14))))","v":""},{"$f":"IF(ISNA(Lists!$C36),\"\",IF((INDIRECT(\"'\"&Lists!$C36&\"'!\"&Lists!$D36&AJ$14))=\"\",\"\",(INDIRECT(\"'\"&Lists!$C36&\"'!\"&Lists!$D36&AJ$14))))","v":""},{"$f":"IF(ISNA(Lists!$C36),\"\",IF((INDIRECT(\"'\"&Lists!$C36&\"'!\"&Lists!$D36&AK$14))=\"\",\"\",(INDIRECT(\"'\"&Lists!$C36&\"'!\"&Lists!$D36&AK$14))))","v":""},{"$f":"IF(ISNA(Lists!$C36),\"\",IF((INDIRECT(\"'\"&Lists!$C36&\"'!\"&Lists!$D36&AL$14))=\"\",\"\",(INDIRECT(\"'\"&Lists!$C36&\"'!\"&Lists!$D36&AL$14))))","v":""},{"$f":"IF(ISNA(Lists!$C36),\"\",IF((INDIRECT(\"'\"&Lists!$C36&\"'!\"&Lists!$D36&AM$14))=\"\",\"\",(INDIRECT(\"'\"&Lists!$C36&\"'!\"&Lists!$D36&AM$14))))","v":""},{"$f":"IF(ISNA(Lists!$C36),\"\",IF((INDIRECT(\"'\"&Lists!$C36&\"'!\"&Lists!$D36&AN$14))=\"\",\"\",(INDIRECT(\"'\"&Lists!$C36&\"'!\"&Lists!$D36&AN$14))))","v":""},{"$f":"IF(ISNA(Lists!$C36),\"\",IF((INDIRECT(\"'\"&Lists!$C36&\"'!\"&Lists!$D36&AO$14))=\"\",\"\",(INDIRECT(\"'\"&Lists!$C36&\"'!\"&Lists!$D36&AO$14))))","v":""},{"$f":"IF(ISNA(Lists!$C36),\"\",IF((INDIRECT(\"'\"&Lists!$C36&\"'!\"&Lists!$D36&AP$14))=\"\",\"\",(INDIRECT(\"'\"&Lists!$C36&\"'!\"&Lists!$D36&AP$14))))","v":""},{"$f":"IF(ISNA(Lists!$C36),\"\",IF((INDIRECT(\"'\"&Lists!$C36&\"'!\"&Lists!$D36&AQ$14))=\"\",\"\",(INDIRECT(\"'\"&Lists!$C36&\"'!\"&Lists!$D36&AQ$14))))","v":""},{"$f":"IF(ISNA(Lists!$C36),\"\",IF((INDIRECT(\"'\"&Lists!$C36&\"'!\"&Lists!$D36&AR$14))=\"\",\"\",(INDIRECT(\"'\"&Lists!$C36&\"'!\"&Lists!$D36&AR$14))))","v":""},{"$f":"IF(ISNA(Lists!$C36),\"\",IF((INDIRECT(\"'\"&Lists!$C36&\"'!\"&Lists!$D36&AS$14))=\"\",\"\",(INDIRECT(\"'\"&Lists!$C36&\"'!\"&Lists!$D36&AS$14))))","v":""}]
[null,{"$f":"IF(C59=\"\",\"\",Facility_Info_upload!$B$24)","v":""},{"$f":"IF(ISNA(Lists!$C37),\"\",IF(INDIRECT(\"'\"&Lists!$C37&\"'!\"&\"B\"&C$14)=\"\",\"\",(INDIRECT(\"'\"&Lists!$C37&\"'!\"&\"B\"&C$14))))","v":""},{"$f":"IF(ISNA(Lists!$C37),\"\",IF(INDIRECT(\"'\"&Lists!$C37&\"'!\"&\"B\"&D$14)=\"\",\"\",(INDIRECT(\"'\"&Lists!$C37&\"'!\"&\"B\"&D$14))))","v":""},{"$f":"IF(ISNA(Lists!$C37),\"\",IF(INDIRECT(\"'\"&Lists!$C37&\"'!\"&\"B\"&E$14)=\"\",\"\",(INDIRECT(\"'\"&Lists!$C37&\"'!\"&\"B\"&E$14))))","v":""},{"$f":"IF(ISNA(Lists!$C37),\"\",IF(INDIRECT(\"'\"&Lists!$C37&\"'!\"&\"B\"&F$14)=\"\",\"\",(INDIRECT(\"'\"&Lists!$C37&\"'!\"&\"B\"&F$14))))","v":""},{"$f":"IF(ISNA(Lists!$C37),\"\",IF(INDIRECT(\"'\"&Lists!$C37&\"'!\"&\"B\"&G$14)=\"\",\"\",(INDIRECT(\"'\"&Lists!$C37&\"'!\"&\"B\"&G$14))))","v":""},{"$f":"IF(ISNA(Lists!$C37),\"\",IF((INDIRECT(\"'\"&Lists!$C37&\"'!\"&Lists!$D37&H$14))=\"\",\"\",(INDIRECT(\"'\"&Lists!$C37&\"'!\"&Lists!$D37&H$14))))","v":""},{"$f":"IF(ISNA(Lists!$C37),\"\",IF((INDIRECT(\"'\"&Lists!$C37&\"'!\"&Lists!$D37&I$14))=\"\",\"\",(INDIRECT(\"'\"&Lists!$C37&\"'!\"&Lists!$D37&I$14))))","v":""},{"$f":"IF(ISNA(Lists!$C37),\"\",IF((INDIRECT(\"'\"&Lists!$C37&\"'!\"&Lists!$D37&J$14))=\"\",\"\",(INDIRECT(\"'\"&Lists!$C37&\"'!\"&Lists!$D37&J$14))))","v":""},{"$f":"IF(ISNA(Lists!$C37),\"\",IF((INDIRECT(\"'\"&Lists!$C37&\"'!\"&Lists!$D37&K$14))=\"\",\"\",(INDIRECT(\"'\"&Lists!$C37&\"'!\"&Lists!$D37&K$14))))","v":""},{"$f":"IF(ISNA(Lists!$C37),\"\",IF((INDIRECT(\"'\"&Lists!$C37&\"'!\"&Lists!$D37&L$14))=\"\",\"\",(INDIRECT(\"'\"&Lists!$C37&\"'!\"&Lists!$D37&L$14))))","v":""},{"$f":"IF(ISNA(Lists!$C37),\"\",IF((INDIRECT(\"'\"&Lists!$C37&\"'!\"&Lists!$D37&M$14))=\"\",\"\",(INDIRECT(\"'\"&Lists!$C37&\"'!\"&Lists!$D37&M$14))))","v":""},{"$f":"IF(ISNA(Lists!$C37),\"\",IF((INDIRECT(\"'\"&Lists!$C37&\"'!\"&Lists!$D37&N$14))=\"\",\"\",(INDIRECT(\"'\"&Lists!$C37&\"'!\"&Lists!$D37&N$14))))","v":""},{"$f":"IF(ISNA(Lists!$C37),\"\",IF((INDIRECT(\"'\"&Lists!$C37&\"'!\"&Lists!$D37&O$14))=\"\",\"\",(INDIRECT(\"'\"&Lists!$C37&\"'!\"&Lists!$D37&O$14))))","v":""},{"$f":"IF(ISNA(Lists!$C37),\"\",IF((INDIRECT(\"'\"&Lists!$C37&\"'!\"&Lists!$D37&P$14))=\"\",\"\",(INDIRECT(\"'\"&Lists!$C37&\"'!\"&Lists!$D37&P$14))))","v":""},{"$f":"IF(ISNA(Lists!$C37),\"\",IF((INDIRECT(\"'\"&Lists!$C37&\"'!\"&Lists!$D37&Q$14))=\"\",\"\",(INDIRECT(\"'\"&Lists!$C37&\"'!\"&Lists!$D37&Q$14))))","v":""},{"$f":"IF(ISNA(Lists!$C37),\"\",IF((INDIRECT(\"'\"&Lists!$C37&\"'!\"&Lists!$D37&R$14))=\"\",\"\",(INDIRECT(\"'\"&Lists!$C37&\"'!\"&Lists!$D37&R$14))))","v":""},{"$f":"IF(ISNA(Lists!$C37),\"\",IF((INDIRECT(\"'\"&Lists!$C37&\"'!\"&Lists!$D37&S$14))=\"\",\"\",(INDIRECT(\"'\"&Lists!$C37&\"'!\"&Lists!$D37&S$14))))","v":""},{"$f":"IF(ISNA(Lists!$C37),\"\",IF((INDIRECT(\"'\"&Lists!$C37&\"'!\"&Lists!$D37&T$14))=\"\",\"\",(INDIRECT(\"'\"&Lists!$C37&\"'!\"&Lists!$D37&T$14))))","v":""},{"$f":"IF(ISNA(Lists!$C37),\"\",IF((INDIRECT(\"'\"&Lists!$C37&\"'!\"&Lists!$D37&U$14))=\"\",\"\",(INDIRECT(\"'\"&Lists!$C37&\"'!\"&Lists!$D37&U$14))))","v":""},{"$f":"IF(ISNA(Lists!$C37),\"\",IF((INDIRECT(\"'\"&Lists!$C37&\"'!\"&Lists!$E37&V$14))=\"\",\"\",(INDIRECT(\"'\"&Lists!$C37&\"'!\"&Lists!$E37&V$14))))","v":""},{"$f":"IF(ISNA(Lists!$C37),\"\",IF((INDIRECT(\"'\"&Lists!$C37&\"'!\"&Lists!$E37&W$14))=\"\",\"\",(INDIRECT(\"'\"&Lists!$C37&\"'!\"&Lists!$E37&W$14))))","v":""},{"$f":"IF(ISNA(Lists!$C37),\"\",IF((INDIRECT(\"'\"&Lists!$C37&\"'!\"&Lists!$E37&X$14))=\"\",\"\",(INDIRECT(\"'\"&Lists!$C37&\"'!\"&Lists!$E37&X$14))))","v":""},{"$f":"IF(ISNA(Lists!$C37),\"\",IF((INDIRECT(\"'\"&Lists!$C37&\"'!\"&Lists!$E37&Y$14))=\"\",\"\",(INDIRECT(\"'\"&Lists!$C37&\"'!\"&Lists!$E37&Y$14))))","v":""},{"$f":"IF(ISNA(Lists!$C37),\"\",IF((INDIRECT(\"'\"&Lists!$C37&\"'!\"&Lists!$E37&Z$14))=\"\",\"\",(INDIRECT(\"'\"&Lists!$C37&\"'!\"&Lists!$E37&Z$14))))","v":""},{"$f":"IF(ISNA(Lists!$C37),\"\",IF((INDIRECT(\"'\"&Lists!$C37&\"'!\"&Lists!$E37&AA$14))=\"\",\"\",(INDIRECT(\"'\"&Lists!$C37&\"'!\"&Lists!$E37&AA$14))))","v":""},{"$f":"IF(ISNA(Lists!$C37),\"\",IF((INDIRECT(\"'\"&Lists!$C37&\"'!\"&Lists!$E37&AB$14))=\"\",\"\",(INDIRECT(\"'\"&Lists!$C37&\"'!\"&Lists!$E37&AB$14))))","v":""},{"$f":"IF(ISNA(Lists!$C37),\"\",IF((INDIRECT(\"'\"&Lists!$C37&\"'!\"&Lists!$E37&AC$14))=\"\",\"\",(INDIRECT(\"'\"&Lists!$C37&\"'!\"&Lists!$E37&AC$14))))","v":""},{"$f":"IF(ISNA(Lists!$C37),\"\",IF((INDIRECT(\"'\"&Lists!$C37&\"'!\"&Lists!$E37&AD$14))=\"\",\"\",(INDIRECT(\"'\"&Lists!$C37&\"'!\"&Lists!$E37&AD$14))))","v":""},{"$f":"IF(ISNA(Lists!$C37),\"\",IF((INDIRECT(\"'\"&Lists!$C37&\"'!\"&Lists!$E37&AE$14))=\"\",\"\",(INDIRECT(\"'\"&Lists!$C37&\"'!\"&Lists!$E37&AE$14))))","v":""},{"$f":"IF(ISNA(Lists!$C37),\"\",IF((INDIRECT(\"'\"&Lists!$C37&\"'!\"&Lists!$E37&AF$14))=\"\",\"\",(INDIRECT(\"'\"&Lists!$C37&\"'!\"&Lists!$E37&AF$14))))","v":""},{"$f":"IF(ISNA(Lists!$C37),\"\",IF((INDIRECT(\"'\"&Lists!$C37&\"'!\"&Lists!$E37&AG$14))=\"\",\"\",(INDIRECT(\"'\"&Lists!$C37&\"'!\"&Lists!$E37&AG$14))))","v":""},{"$f":"IF(ISNA(Lists!$C37),\"\",IF((INDIRECT(\"'\"&Lists!$C37&\"'!\"&Lists!$E37&AH$14))=\"\",\"\",(INDIRECT(\"'\"&Lists!$C37&\"'!\"&Lists!$E37&AH$14))))","v":""},{"$f":"IF(ISNA(Lists!$C37),\"\",IF((INDIRECT(\"'\"&Lists!$C37&\"'!\"&Lists!$E37&AI$14))=\"\",\"\",(INDIRECT(\"'\"&Lists!$C37&\"'!\"&Lists!$E37&AI$14))))","v":""},{"$f":"IF(ISNA(Lists!$C37),\"\",IF((INDIRECT(\"'\"&Lists!$C37&\"'!\"&Lists!$D37&AJ$14))=\"\",\"\",(INDIRECT(\"'\"&Lists!$C37&\"'!\"&Lists!$D37&AJ$14))))","v":""},{"$f":"IF(ISNA(Lists!$C37),\"\",IF((INDIRECT(\"'\"&Lists!$C37&\"'!\"&Lists!$D37&AK$14))=\"\",\"\",(INDIRECT(\"'\"&Lists!$C37&\"'!\"&Lists!$D37&AK$14))))","v":""},{"$f":"IF(ISNA(Lists!$C37),\"\",IF((INDIRECT(\"'\"&Lists!$C37&\"'!\"&Lists!$D37&AL$14))=\"\",\"\",(INDIRECT(\"'\"&Lists!$C37&\"'!\"&Lists!$D37&AL$14))))","v":""},{"$f":"IF(ISNA(Lists!$C37),\"\",IF((INDIRECT(\"'\"&Lists!$C37&\"'!\"&Lists!$D37&AM$14))=\"\",\"\",(INDIRECT(\"'\"&Lists!$C37&\"'!\"&Lists!$D37&AM$14))))","v":""},{"$f":"IF(ISNA(Lists!$C37),\"\",IF((INDIRECT(\"'\"&Lists!$C37&\"'!\"&Lists!$D37&AN$14))=\"\",\"\",(INDIRECT(\"'\"&Lists!$C37&\"'!\"&Lists!$D37&AN$14))))","v":""},{"$f":"IF(ISNA(Lists!$C37),\"\",IF((INDIRECT(\"'\"&Lists!$C37&\"'!\"&Lists!$D37&AO$14))=\"\",\"\",(INDIRECT(\"'\"&Lists!$C37&\"'!\"&Lists!$D37&AO$14))))","v":""},{"$f":"IF(ISNA(Lists!$C37),\"\",IF((INDIRECT(\"'\"&Lists!$C37&\"'!\"&Lists!$D37&AP$14))=\"\",\"\",(INDIRECT(\"'\"&Lists!$C37&\"'!\"&Lists!$D37&AP$14))))","v":""},{"$f":"IF(ISNA(Lists!$C37),\"\",IF((INDIRECT(\"'\"&Lists!$C37&\"'!\"&Lists!$D37&AQ$14))=\"\",\"\",(INDIRECT(\"'\"&Lists!$C37&\"'!\"&Lists!$D37&AQ$14))))","v":""},{"$f":"IF(ISNA(Lists!$C37),\"\",IF((INDIRECT(\"'\"&Lists!$C37&\"'!\"&Lists!$D37&AR$14))=\"\",\"\",(INDIRECT(\"'\"&Lists!$C37&\"'!\"&Lists!$D37&AR$14))))","v":""},{"$f":"IF(ISNA(Lists!$C37),\"\",IF((INDIRECT(\"'\"&Lists!$C37&\"'!\"&Lists!$D37&AS$14))=\"\",\"\",(INDIRECT(\"'\"&Lists!$C37&\"'!\"&Lists!$D37&AS$14))))","v":""}]
[null,{"$f":"IF(C60=\"\",\"\",Facility_Info_upload!$B$24)","v":""},{"$f":"IF(ISNA(Lists!$C38),\"\",IF(INDIRECT(\"'\"&Lists!$C38&\"'!\"&\"B\"&C$14)=\"\",\"\",(INDIRECT(\"'\"&Lists!$C38&\"'!\"&\"B\"&C$14))))","v":""},{"$f":"IF(ISNA(Lists!$C38),\"\",IF(INDIRECT(\"'\"&Lists!$C38&\"'!\"&\"B\"&D$14)=\"\",\"\",(INDIRECT(\"'\"&Lists!$C38&\"'!\"&\"B\"&D$14))))","v":""},{"$f":"IF(ISNA(Lists!$C38),\"\",IF(INDIRECT(\"'\"&Lists!$C38&\"'!\"&\"B\"&E$14)=\"\",\"\",(INDIRECT(\"'\"&Lists!$C38&\"'!\"&\"B\"&E$14))))","v":""},{"$f":"IF(ISNA(Lists!$C38),\"\",IF(INDIRECT(\"'\"&Lists!$C38&\"'!\"&\"B\"&F$14)=\"\",\"\",(INDIRECT(\"'\"&Lists!$C38&\"'!\"&\"B\"&F$14))))","v":""},{"$f":"IF(ISNA(Lists!$C38),\"\",IF(INDIRECT(\"'\"&Lists!$C38&\"'!\"&\"B\"&G$14)=\"\",\"\",(INDIRECT(\"'\"&Lists!$C38&\"'!\"&\"B\"&G$14))))","v":""},{"$f":"IF(ISNA(Lists!$C38),\"\",IF((INDIRECT(\"'\"&Lists!$C38&\"'!\"&Lists!$D38&H$14))=\"\",\"\",(INDIRECT(\"'\"&Lists!$C38&\"'!\"&Lists!$D38&H$14))))","v":""},{"$f":"IF(ISNA(Lists!$C38),\"\",IF((INDIRECT(\"'\"&Lists!$C38&\"'!\"&Lists!$D38&I$14))=\"\",\"\",(INDIRECT(\"'\"&Lists!$C38&\"'!\"&Lists!$D38&I$14))))","v":""},{"$f":"IF(ISNA(Lists!$C38),\"\",IF((INDIRECT(\"'\"&Lists!$C38&\"'!\"&Lists!$D38&J$14))=\"\",\"\",(INDIRECT(\"'\"&Lists!$C38&\"'!\"&Lists!$D38&J$14))))","v":""},{"$f":"IF(ISNA(Lists!$C38),\"\",IF((INDIRECT(\"'\"&Lists!$C38&\"'!\"&Lists!$D38&K$14))=\"\",\"\",(INDIRECT(\"'\"&Lists!$C38&\"'!\"&Lists!$D38&K$14))))","v":""},{"$f":"IF(ISNA(Lists!$C38),\"\",IF((INDIRECT(\"'\"&Lists!$C38&\"'!\"&Lists!$D38&L$14))=\"\",\"\",(INDIRECT(\"'\"&Lists!$C38&\"'!\"&Lists!$D38&L$14))))","v":""},{"$f":"IF(ISNA(Lists!$C38),\"\",IF((INDIRECT(\"'\"&Lists!$C38&\"'!\"&Lists!$D38&M$14))=\"\",\"\",(INDIRECT(\"'\"&Lists!$C38&\"'!\"&Lists!$D38&M$14))))","v":""},{"$f":"IF(ISNA(Lists!$C38),\"\",IF((INDIRECT(\"'\"&Lists!$C38&\"'!\"&Lists!$D38&N$14))=\"\",\"\",(INDIRECT(\"'\"&Lists!$C38&\"'!\"&Lists!$D38&N$14))))","v":""},{"$f":"IF(ISNA(Lists!$C38),\"\",IF((INDIRECT(\"'\"&Lists!$C38&\"'!\"&Lists!$D38&O$14))=\"\",\"\",(INDIRECT(\"'\"&Lists!$C38&\"'!\"&Lists!$D38&O$14))))","v":""},{"$f":"IF(ISNA(Lists!$C38),\"\",IF((INDIRECT(\"'\"&Lists!$C38&\"'!\"&Lists!$D38&P$14))=\"\",\"\",(INDIRECT(\"'\"&Lists!$C38&\"'!\"&Lists!$D38&P$14))))","v":""},{"$f":"IF(ISNA(Lists!$C38),\"\",IF((INDIRECT(\"'\"&Lists!$C38&\"'!\"&Lists!$D38&Q$14))=\"\",\"\",(INDIRECT(\"'\"&Lists!$C38&\"'!\"&Lists!$D38&Q$14))))","v":""},{"$f":"IF(ISNA(Lists!$C38),\"\",IF((INDIRECT(\"'\"&Lists!$C38&\"'!\"&Lists!$D38&R$14))=\"\",\"\",(INDIRECT(\"'\"&Lists!$C38&\"'!\"&Lists!$D38&R$14))))","v":""},{"$f":"IF(ISNA(Lists!$C38),\"\",IF((INDIRECT(\"'\"&Lists!$C38&\"'!\"&Lists!$D38&S$14))=\"\",\"\",(INDIRECT(\"'\"&Lists!$C38&\"'!\"&Lists!$D38&S$14))))","v":""},{"$f":"IF(ISNA(Lists!$C38),\"\",IF((INDIRECT(\"'\"&Lists!$C38&\"'!\"&Lists!$D38&T$14))=\"\",\"\",(INDIRECT(\"'\"&Lists!$C38&\"'!\"&Lists!$D38&T$14))))","v":""},{"$f":"IF(ISNA(Lists!$C38),\"\",IF((INDIRECT(\"'\"&Lists!$C38&\"'!\"&Lists!$D38&U$14))=\"\",\"\",(INDIRECT(\"'\"&Lists!$C38&\"'!\"&Lists!$D38&U$14))))","v":""},{"$f":"IF(ISNA(Lists!$C38),\"\",IF((INDIRECT(\"'\"&Lists!$C38&\"'!\"&Lists!$E38&V$14))=\"\",\"\",(INDIRECT(\"'\"&Lists!$C38&\"'!\"&Lists!$E38&V$14))))","v":""},{"$f":"IF(ISNA(Lists!$C38),\"\",IF((INDIRECT(\"'\"&Lists!$C38&\"'!\"&Lists!$E38&W$14))=\"\",\"\",(INDIRECT(\"'\"&Lists!$C38&\"'!\"&Lists!$E38&W$14))))","v":""},{"$f":"IF(ISNA(Lists!$C38),\"\",IF((INDIRECT(\"'\"&Lists!$C38&\"'!\"&Lists!$E38&X$14))=\"\",\"\",(INDIRECT(\"'\"&Lists!$C38&\"'!\"&Lists!$E38&X$14))))","v":""},{"$f":"IF(ISNA(Lists!$C38),\"\",IF((INDIRECT(\"'\"&Lists!$C38&\"'!\"&Lists!$E38&Y$14))=\"\",\"\",(INDIRECT(\"'\"&Lists!$C38&\"'!\"&Lists!$E38&Y$14))))","v":""},{"$f":"IF(ISNA(Lists!$C38),\"\",IF((INDIRECT(\"'\"&Lists!$C38&\"'!\"&Lists!$E38&Z$14))=\"\",\"\",(INDIRECT(\"'\"&Lists!$C38&\"'!\"&Lists!$E38&Z$14))))","v":""},{"$f":"IF(ISNA(Lists!$C38),\"\",IF((INDIRECT(\"'\"&Lists!$C38&\"'!\"&Lists!$E38&AA$14))=\"\",\"\",(INDIRECT(\"'\"&Lists!$C38&\"'!\"&Lists!$E38&AA$14))))","v":""},{"$f":"IF(ISNA(Lists!$C38),\"\",IF((INDIRECT(\"'\"&Lists!$C38&\"'!\"&Lists!$E38&AB$14))=\"\",\"\",(INDIRECT(\"'\"&Lists!$C38&\"'!\"&Lists!$E38&AB$14))))","v":""},{"$f":"IF(ISNA(Lists!$C38),\"\",IF((INDIRECT(\"'\"&Lists!$C38&\"'!\"&Lists!$E38&AC$14))=\"\",\"\",(INDIRECT(\"'\"&Lists!$C38&\"'!\"&Lists!$E38&AC$14))))","v":""},{"$f":"IF(ISNA(Lists!$C38),\"\",IF((INDIRECT(\"'\"&Lists!$C38&\"'!\"&Lists!$E38&AD$14))=\"\",\"\",(INDIRECT(\"'\"&Lists!$C38&\"'!\"&Lists!$E38&AD$14))))","v":""},{"$f":"IF(ISNA(Lists!$C38),\"\",IF((INDIRECT(\"'\"&Lists!$C38&\"'!\"&Lists!$E38&AE$14))=\"\",\"\",(INDIRECT(\"'\"&Lists!$C38&\"'!\"&Lists!$E38&AE$14))))","v":""},{"$f":"IF(ISNA(Lists!$C38),\"\",IF((INDIRECT(\"'\"&Lists!$C38&\"'!\"&Lists!$E38&AF$14))=\"\",\"\",(INDIRECT(\"'\"&Lists!$C38&\"'!\"&Lists!$E38&AF$14))))","v":""},{"$f":"IF(ISNA(Lists!$C38),\"\",IF((INDIRECT(\"'\"&Lists!$C38&\"'!\"&Lists!$E38&AG$14))=\"\",\"\",(INDIRECT(\"'\"&Lists!$C38&\"'!\"&Lists!$E38&AG$14))))","v":""},{"$f":"IF(ISNA(Lists!$C38),\"\",IF((INDIRECT(\"'\"&Lists!$C38&\"'!\"&Lists!$E38&AH$14))=\"\",\"\",(INDIRECT(\"'\"&Lists!$C38&\"'!\"&Lists!$E38&AH$14))))","v":""},{"$f":"IF(ISNA(Lists!$C38),\"\",IF((INDIRECT(\"'\"&Lists!$C38&\"'!\"&Lists!$E38&AI$14))=\"\",\"\",(INDIRECT(\"'\"&Lists!$C38&\"'!\"&Lists!$E38&AI$14))))","v":""},{"$f":"IF(ISNA(Lists!$C38),\"\",IF((INDIRECT(\"'\"&Lists!$C38&\"'!\"&Lists!$D38&AJ$14))=\"\",\"\",(INDIRECT(\"'\"&Lists!$C38&\"'!\"&Lists!$D38&AJ$14))))","v":""},{"$f":"IF(ISNA(Lists!$C38),\"\",IF((INDIRECT(\"'\"&Lists!$C38&\"'!\"&Lists!$D38&AK$14))=\"\",\"\",(INDIRECT(\"'\"&Lists!$C38&\"'!\"&Lists!$D38&AK$14))))","v":""},{"$f":"IF(ISNA(Lists!$C38),\"\",IF((INDIRECT(\"'\"&Lists!$C38&\"'!\"&Lists!$D38&AL$14))=\"\",\"\",(INDIRECT(\"'\"&Lists!$C38&\"'!\"&Lists!$D38&AL$14))))","v":""},{"$f":"IF(ISNA(Lists!$C38),\"\",IF((INDIRECT(\"'\"&Lists!$C38&\"'!\"&Lists!$D38&AM$14))=\"\",\"\",(INDIRECT(\"'\"&Lists!$C38&\"'!\"&Lists!$D38&AM$14))))","v":""},{"$f":"IF(ISNA(Lists!$C38),\"\",IF((INDIRECT(\"'\"&Lists!$C38&\"'!\"&Lists!$D38&AN$14))=\"\",\"\",(INDIRECT(\"'\"&Lists!$C38&\"'!\"&Lists!$D38&AN$14))))","v":""},{"$f":"IF(ISNA(Lists!$C38),\"\",IF((INDIRECT(\"'\"&Lists!$C38&\"'!\"&Lists!$D38&AO$14))=\"\",\"\",(INDIRECT(\"'\"&Lists!$C38&\"'!\"&Lists!$D38&AO$14))))","v":""},{"$f":"IF(ISNA(Lists!$C38),\"\",IF((INDIRECT(\"'\"&Lists!$C38&\"'!\"&Lists!$D38&AP$14))=\"\",\"\",(INDIRECT(\"'\"&Lists!$C38&\"'!\"&Lists!$D38&AP$14))))","v":""},{"$f":"IF(ISNA(Lists!$C38),\"\",IF((INDIRECT(\"'\"&Lists!$C38&\"'!\"&Lists!$D38&AQ$14))=\"\",\"\",(INDIRECT(\"'\"&Lists!$C38&\"'!\"&Lists!$D38&AQ$14))))","v":""},{"$f":"IF(ISNA(Lists!$C38),\"\",IF((INDIRECT(\"'\"&Lists!$C38&\"'!\"&Lists!$D38&AR$14))=\"\",\"\",(INDIRECT(\"'\"&Lists!$C38&\"'!\"&Lists!$D38&AR$14))))","v":""},{"$f":"IF(ISNA(Lists!$C38),\"\",IF((INDIRECT(\"'\"&Lists!$C38&\"'!\"&Lists!$D38&AS$14))=\"\",\"\",(INDIRECT(\"'\"&Lists!$C38&\"'!\"&Lists!$D38&AS$14))))","v":""}]
[null,{"$f":"IF(C61=\"\",\"\",Facility_Info_upload!$B$24)","v":""},{"$f":"IF(ISNA(Lists!$C39),\"\",IF(INDIRECT(\"'\"&Lists!$C39&\"'!\"&\"B\"&C$14)=\"\",\"\",(INDIRECT(\"'\"&Lists!$C39&\"'!\"&\"B\"&C$14))))","v":""},{"$f":"IF(ISNA(Lists!$C39),\"\",IF(INDIRECT(\"'\"&Lists!$C39&\"'!\"&\"B\"&D$14)=\"\",\"\",(INDIRECT(\"'\"&Lists!$C39&\"'!\"&\"B\"&D$14))))","v":""},{"$f":"IF(ISNA(Lists!$C39),\"\",IF(INDIRECT(\"'\"&Lists!$C39&\"'!\"&\"B\"&E$14)=\"\",\"\",(INDIRECT(\"'\"&Lists!$C39&\"'!\"&\"B\"&E$14))))","v":""},{"$f":"IF(ISNA(Lists!$C39),\"\",IF(INDIRECT(\"'\"&Lists!$C39&\"'!\"&\"B\"&F$14)=\"\",\"\",(INDIRECT(\"'\"&Lists!$C39&\"'!\"&\"B\"&F$14))))","v":""},{"$f":"IF(ISNA(Lists!$C39),\"\",IF(INDIRECT(\"'\"&Lists!$C39&\"'!\"&\"B\"&G$14)=\"\",\"\",(INDIRECT(\"'\"&Lists!$C39&\"'!\"&\"B\"&G$14))))","v":""},{"$f":"IF(ISNA(Lists!$C39),\"\",IF((INDIRECT(\"'\"&Lists!$C39&\"'!\"&Lists!$D39&H$14))=\"\",\"\",(INDIRECT(\"'\"&Lists!$C39&\"'!\"&Lists!$D39&H$14))))","v":""},{"$f":"IF(ISNA(Lists!$C39),\"\",IF((INDIRECT(\"'\"&Lists!$C39&\"'!\"&Lists!$D39&I$14))=\"\",\"\",(INDIRECT(\"'\"&Lists!$C39&\"'!\"&Lists!$D39&I$14))))","v":""},{"$f":"IF(ISNA(Lists!$C39),\"\",IF((INDIRECT(\"'\"&Lists!$C39&\"'!\"&Lists!$D39&J$14))=\"\",\"\",(INDIRECT(\"'\"&Lists!$C39&\"'!\"&Lists!$D39&J$14))))","v":""},{"$f":"IF(ISNA(Lists!$C39),\"\",IF((INDIRECT(\"'\"&Lists!$C39&\"'!\"&Lists!$D39&K$14))=\"\",\"\",(INDIRECT(\"'\"&Lists!$C39&\"'!\"&Lists!$D39&K$14))))","v":""},{"$f":"IF(ISNA(Lists!$C39),\"\",IF((INDIRECT(\"'\"&Lists!$C39&\"'!\"&Lists!$D39&L$14))=\"\",\"\",(INDIRECT(\"'\"&Lists!$C39&\"'!\"&Lists!$D39&L$14))))","v":""},{"$f":"IF(ISNA(Lists!$C39),\"\",IF((INDIRECT(\"'\"&Lists!$C39&\"'!\"&Lists!$D39&M$14))=\"\",\"\",(INDIRECT(\"'\"&Lists!$C39&\"'!\"&Lists!$D39&M$14))))","v":""},{"$f":"IF(ISNA(Lists!$C39),\"\",IF((INDIRECT(\"'\"&Lists!$C39&\"'!\"&Lists!$D39&N$14))=\"\",\"\",(INDIRECT(\"'\"&Lists!$C39&\"'!\"&Lists!$D39&N$14))))","v":""},{"$f":"IF(ISNA(Lists!$C39),\"\",IF((INDIRECT(\"'\"&Lists!$C39&\"'!\"&Lists!$D39&O$14))=\"\",\"\",(INDIRECT(\"'\"&Lists!$C39&\"'!\"&Lists!$D39&O$14))))","v":""},{"$f":"IF(ISNA(Lists!$C39),\"\",IF((INDIRECT(\"'\"&Lists!$C39&\"'!\"&Lists!$D39&P$14))=\"\",\"\",(INDIRECT(\"'\"&Lists!$C39&\"'!\"&Lists!$D39&P$14))))","v":""},{"$f":"IF(ISNA(Lists!$C39),\"\",IF((INDIRECT(\"'\"&Lists!$C39&\"'!\"&Lists!$D39&Q$14))=\"\",\"\",(INDIRECT(\"'\"&Lists!$C39&\"'!\"&Lists!$D39&Q$14))))","v":""},{"$f":"IF(ISNA(Lists!$C39),\"\",IF((INDIRECT(\"'\"&Lists!$C39&\"'!\"&Lists!$D39&R$14))=\"\",\"\",(INDIRECT(\"'\"&Lists!$C39&\"'!\"&Lists!$D39&R$14))))","v":""},{"$f":"IF(ISNA(Lists!$C39),\"\",IF((INDIRECT(\"'\"&Lists!$C39&\"'!\"&Lists!$D39&S$14))=\"\",\"\",(INDIRECT(\"'\"&Lists!$C39&\"'!\"&Lists!$D39&S$14))))","v":""},{"$f":"IF(ISNA(Lists!$C39),\"\",IF((INDIRECT(\"'\"&Lists!$C39&\"'!\"&Lists!$D39&T$14))=\"\",\"\",(INDIRECT(\"'\"&Lists!$C39&\"'!\"&Lists!$D39&T$14))))","v":""},{"$f":"IF(ISNA(Lists!$C39),\"\",IF((INDIRECT(\"'\"&Lists!$C39&\"'!\"&Lists!$D39&U$14))=\"\",\"\",(INDIRECT(\"'\"&Lists!$C39&\"'!\"&Lists!$D39&U$14))))","v":""},{"$f":"IF(ISNA(Lists!$C39),\"\",IF((INDIRECT(\"'\"&Lists!$C39&\"'!\"&Lists!$E39&V$14))=\"\",\"\",(INDIRECT(\"'\"&Lists!$C39&\"'!\"&Lists!$E39&V$14))))","v":""},{"$f":"IF(ISNA(Lists!$C39),\"\",IF((INDIRECT(\"'\"&Lists!$C39&\"'!\"&Lists!$E39&W$14))=\"\",\"\",(INDIRECT(\"'\"&Lists!$C39&\"'!\"&Lists!$E39&W$14))))","v":""},{"$f":"IF(ISNA(Lists!$C39),\"\",IF((INDIRECT(\"'\"&Lists!$C39&\"'!\"&Lists!$E39&X$14))=\"\",\"\",(INDIRECT(\"'\"&Lists!$C39&\"'!\"&Lists!$E39&X$14))))","v":""},{"$f":"IF(ISNA(Lists!$C39),\"\",IF((INDIRECT(\"'\"&Lists!$C39&\"'!\"&Lists!$E39&Y$14))=\"\",\"\",(INDIRECT(\"'\"&Lists!$C39&\"'!\"&Lists!$E39&Y$14))))","v":""},{"$f":"IF(ISNA(Lists!$C39),\"\",IF((INDIRECT(\"'\"&Lists!$C39&\"'!\"&Lists!$E39&Z$14))=\"\",\"\",(INDIRECT(\"'\"&Lists!$C39&\"'!\"&Lists!$E39&Z$14))))","v":""},{"$f":"IF(ISNA(Lists!$C39),\"\",IF((INDIRECT(\"'\"&Lists!$C39&\"'!\"&Lists!$E39&AA$14))=\"\",\"\",(INDIRECT(\"'\"&Lists!$C39&\"'!\"&Lists!$E39&AA$14))))","v":""},{"$f":"IF(ISNA(Lists!$C39),\"\",IF((INDIRECT(\"'\"&Lists!$C39&\"'!\"&Lists!$E39&AB$14))=\"\",\"\",(INDIRECT(\"'\"&Lists!$C39&\"'!\"&Lists!$E39&AB$14))))","v":""},{"$f":"IF(ISNA(Lists!$C39),\"\",IF((INDIRECT(\"'\"&Lists!$C39&\"'!\"&Lists!$E39&AC$14))=\"\",\"\",(INDIRECT(\"'\"&Lists!$C39&\"'!\"&Lists!$E39&AC$14))))","v":""},{"$f":"IF(ISNA(Lists!$C39),\"\",IF((INDIRECT(\"'\"&Lists!$C39&\"'!\"&Lists!$E39&AD$14))=\"\",\"\",(INDIRECT(\"'\"&Lists!$C39&\"'!\"&Lists!$E39&AD$14))))","v":""},{"$f":"IF(ISNA(Lists!$C39),\"\",IF((INDIRECT(\"'\"&Lists!$C39&\"'!\"&Lists!$E39&AE$14))=\"\",\"\",(INDIRECT(\"'\"&Lists!$C39&\"'!\"&Lists!$E39&AE$14))))","v":""},{"$f":"IF(ISNA(Lists!$C39),\"\",IF((INDIRECT(\"'\"&Lists!$C39&\"'!\"&Lists!$E39&AF$14))=\"\",\"\",(INDIRECT(\"'\"&Lists!$C39&\"'!\"&Lists!$E39&AF$14))))","v":""},{"$f":"IF(ISNA(Lists!$C39),\"\",IF((INDIRECT(\"'\"&Lists!$C39&\"'!\"&Lists!$E39&AG$14))=\"\",\"\",(INDIRECT(\"'\"&Lists!$C39&\"'!\"&Lists!$E39&AG$14))))","v":""},{"$f":"IF(ISNA(Lists!$C39),\"\",IF((INDIRECT(\"'\"&Lists!$C39&\"'!\"&Lists!$E39&AH$14))=\"\",\"\",(INDIRECT(\"'\"&Lists!$C39&\"'!\"&Lists!$E39&AH$14))))","v":""},{"$f":"IF(ISNA(Lists!$C39),\"\",IF((INDIRECT(\"'\"&Lists!$C39&\"'!\"&Lists!$E39&AI$14))=\"\",\"\",(INDIRECT(\"'\"&Lists!$C39&\"'!\"&Lists!$E39&AI$14))))","v":""},{"$f":"IF(ISNA(Lists!$C39),\"\",IF((INDIRECT(\"'\"&Lists!$C39&\"'!\"&Lists!$D39&AJ$14))=\"\",\"\",(INDIRECT(\"'\"&Lists!$C39&\"'!\"&Lists!$D39&AJ$14))))","v":""},{"$f":"IF(ISNA(Lists!$C39),\"\",IF((INDIRECT(\"'\"&Lists!$C39&\"'!\"&Lists!$D39&AK$14))=\"\",\"\",(INDIRECT(\"'\"&Lists!$C39&\"'!\"&Lists!$D39&AK$14))))","v":""},{"$f":"IF(ISNA(Lists!$C39),\"\",IF((INDIRECT(\"'\"&Lists!$C39&\"'!\"&Lists!$D39&AL$14))=\"\",\"\",(INDIRECT(\"'\"&Lists!$C39&\"'!\"&Lists!$D39&AL$14))))","v":""},{"$f":"IF(ISNA(Lists!$C39),\"\",IF((INDIRECT(\"'\"&Lists!$C39&\"'!\"&Lists!$D39&AM$14))=\"\",\"\",(INDIRECT(\"'\"&Lists!$C39&\"'!\"&Lists!$D39&AM$14))))","v":""},{"$f":"IF(ISNA(Lists!$C39),\"\",IF((INDIRECT(\"'\"&Lists!$C39&\"'!\"&Lists!$D39&AN$14))=\"\",\"\",(INDIRECT(\"'\"&Lists!$C39&\"'!\"&Lists!$D39&AN$14))))","v":""},{"$f":"IF(ISNA(Lists!$C39),\"\",IF((INDIRECT(\"'\"&Lists!$C39&\"'!\"&Lists!$D39&AO$14))=\"\",\"\",(INDIRECT(\"'\"&Lists!$C39&\"'!\"&Lists!$D39&AO$14))))","v":""},{"$f":"IF(ISNA(Lists!$C39),\"\",IF((INDIRECT(\"'\"&Lists!$C39&\"'!\"&Lists!$D39&AP$14))=\"\",\"\",(INDIRECT(\"'\"&Lists!$C39&\"'!\"&Lists!$D39&AP$14))))","v":""},{"$f":"IF(ISNA(Lists!$C39),\"\",IF((INDIRECT(\"'\"&Lists!$C39&\"'!\"&Lists!$D39&AQ$14))=\"\",\"\",(INDIRECT(\"'\"&Lists!$C39&\"'!\"&Lists!$D39&AQ$14))))","v":""},{"$f":"IF(ISNA(Lists!$C39),\"\",IF((INDIRECT(\"'\"&Lists!$C39&\"'!\"&Lists!$D39&AR$14))=\"\",\"\",(INDIRECT(\"'\"&Lists!$C39&\"'!\"&Lists!$D39&AR$14))))","v":""},{"$f":"IF(ISNA(Lists!$C39),\"\",IF((INDIRECT(\"'\"&Lists!$C39&\"'!\"&Lists!$D39&AS$14))=\"\",\"\",(INDIRECT(\"'\"&Lists!$C39&\"'!\"&Lists!$D39&AS$14))))","v":""}]
[null,{"$f":"IF(C62=\"\",\"\",Facility_Info_upload!$B$24)","v":""},{"$f":"IF(ISNA(Lists!$C40),\"\",IF(INDIRECT(\"'\"&Lists!$C40&\"'!\"&\"B\"&C$14)=\"\",\"\",(INDIRECT(\"'\"&Lists!$C40&\"'!\"&\"B\"&C$14))))","v":""},{"$f":"IF(ISNA(Lists!$C40),\"\",IF(INDIRECT(\"'\"&Lists!$C40&\"'!\"&\"B\"&D$14)=\"\",\"\",(INDIRECT(\"'\"&Lists!$C40&\"'!\"&\"B\"&D$14))))","v":""},{"$f":"IF(ISNA(Lists!$C40),\"\",IF(INDIRECT(\"'\"&Lists!$C40&\"'!\"&\"B\"&E$14)=\"\",\"\",(INDIRECT(\"'\"&Lists!$C40&\"'!\"&\"B\"&E$14))))","v":""},{"$f":"IF(ISNA(Lists!$C40),\"\",IF(INDIRECT(\"'\"&Lists!$C40&\"'!\"&\"B\"&F$14)=\"\",\"\",(INDIRECT(\"'\"&Lists!$C40&\"'!\"&\"B\"&F$14))))","v":""},{"$f":"IF(ISNA(Lists!$C40),\"\",IF(INDIRECT(\"'\"&Lists!$C40&\"'!\"&\"B\"&G$14)=\"\",\"\",(INDIRECT(\"'\"&Lists!$C40&\"'!\"&\"B\"&G$14))))","v":""},{"$f":"IF(ISNA(Lists!$C40),\"\",IF((INDIRECT(\"'\"&Lists!$C40&\"'!\"&Lists!$D40&H$14))=\"\",\"\",(INDIRECT(\"'\"&Lists!$C40&\"'!\"&Lists!$D40&H$14))))","v":""},{"$f":"IF(ISNA(Lists!$C40),\"\",IF((INDIRECT(\"'\"&Lists!$C40&\"'!\"&Lists!$D40&I$14))=\"\",\"\",(INDIRECT(\"'\"&Lists!$C40&\"'!\"&Lists!$D40&I$14))))","v":""},{"$f":"IF(ISNA(Lists!$C40),\"\",IF((INDIRECT(\"'\"&Lists!$C40&\"'!\"&Lists!$D40&J$14))=\"\",\"\",(INDIRECT(\"'\"&Lists!$C40&\"'!\"&Lists!$D40&J$14))))","v":""},{"$f":"IF(ISNA(Lists!$C40),\"\",IF((INDIRECT(\"'\"&Lists!$C40&\"'!\"&Lists!$D40&K$14))=\"\",\"\",(INDIRECT(\"'\"&Lists!$C40&\"'!\"&Lists!$D40&K$14))))","v":""},{"$f":"IF(ISNA(Lists!$C40),\"\",IF((INDIRECT(\"'\"&Lists!$C40&\"'!\"&Lists!$D40&L$14))=\"\",\"\",(INDIRECT(\"'\"&Lists!$C40&\"'!\"&Lists!$D40&L$14))))","v":""},{"$f":"IF(ISNA(Lists!$C40),\"\",IF((INDIRECT(\"'\"&Lists!$C40&\"'!\"&Lists!$D40&M$14))=\"\",\"\",(INDIRECT(\"'\"&Lists!$C40&\"'!\"&Lists!$D40&M$14))))","v":""},{"$f":"IF(ISNA(Lists!$C40),\"\",IF((INDIRECT(\"'\"&Lists!$C40&\"'!\"&Lists!$D40&N$14))=\"\",\"\",(INDIRECT(\"'\"&Lists!$C40&\"'!\"&Lists!$D40&N$14))))","v":""},{"$f":"IF(ISNA(Lists!$C40),\"\",IF((INDIRECT(\"'\"&Lists!$C40&\"'!\"&Lists!$D40&O$14))=\"\",\"\",(INDIRECT(\"'\"&Lists!$C40&\"'!\"&Lists!$D40&O$14))))","v":""},{"$f":"IF(ISNA(Lists!$C40),\"\",IF((INDIRECT(\"'\"&Lists!$C40&\"'!\"&Lists!$D40&P$14))=\"\",\"\",(INDIRECT(\"'\"&Lists!$C40&\"'!\"&Lists!$D40&P$14))))","v":""},{"$f":"IF(ISNA(Lists!$C40),\"\",IF((INDIRECT(\"'\"&Lists!$C40&\"'!\"&Lists!$D40&Q$14))=\"\",\"\",(INDIRECT(\"'\"&Lists!$C40&\"'!\"&Lists!$D40&Q$14))))","v":""},{"$f":"IF(ISNA(Lists!$C40),\"\",IF((INDIRECT(\"'\"&Lists!$C40&\"'!\"&Lists!$D40&R$14))=\"\",\"\",(INDIRECT(\"'\"&Lists!$C40&\"'!\"&Lists!$D40&R$14))))","v":""},{"$f":"IF(ISNA(Lists!$C40),\"\",IF((INDIRECT(\"'\"&Lists!$C40&\"'!\"&Lists!$D40&S$14))=\"\",\"\",(INDIRECT(\"'\"&Lists!$C40&\"'!\"&Lists!$D40&S$14))))","v":""},{"$f":"IF(ISNA(Lists!$C40),\"\",IF((INDIRECT(\"'\"&Lists!$C40&\"'!\"&Lists!$D40&T$14))=\"\",\"\",(INDIRECT(\"'\"&Lists!$C40&\"'!\"&Lists!$D40&T$14))))","v":""},{"$f":"IF(ISNA(Lists!$C40),\"\",IF((INDIRECT(\"'\"&Lists!$C40&\"'!\"&Lists!$D40&U$14))=\"\",\"\",(INDIRECT(\"'\"&Lists!$C40&\"'!\"&Lists!$D40&U$14))))","v":""},{"$f":"IF(ISNA(Lists!$C40),\"\",IF((INDIRECT(\"'\"&Lists!$C40&\"'!\"&Lists!$E40&V$14))=\"\",\"\",(INDIRECT(\"'\"&Lists!$C40&\"'!\"&Lists!$E40&V$14))))","v":""},{"$f":"IF(ISNA(Lists!$C40),\"\",IF((INDIRECT(\"'\"&Lists!$C40&\"'!\"&Lists!$E40&W$14))=\"\",\"\",(INDIRECT(\"'\"&Lists!$C40&\"'!\"&Lists!$E40&W$14))))","v":""},{"$f":"IF(ISNA(Lists!$C40),\"\",IF((INDIRECT(\"'\"&Lists!$C40&\"'!\"&Lists!$E40&X$14))=\"\",\"\",(INDIRECT(\"'\"&Lists!$C40&\"'!\"&Lists!$E40&X$14))))","v":""},{"$f":"IF(ISNA(Lists!$C40),\"\",IF((INDIRECT(\"'\"&Lists!$C40&\"'!\"&Lists!$E40&Y$14))=\"\",\"\",(INDIRECT(\"'\"&Lists!$C40&\"'!\"&Lists!$E40&Y$14))))","v":""},{"$f":"IF(ISNA(Lists!$C40),\"\",IF((INDIRECT(\"'\"&Lists!$C40&\"'!\"&Lists!$E40&Z$14))=\"\",\"\",(INDIRECT(\"'\"&Lists!$C40&\"'!\"&Lists!$E40&Z$14))))","v":""},{"$f":"IF(ISNA(Lists!$C40),\"\",IF((INDIRECT(\"'\"&Lists!$C40&\"'!\"&Lists!$E40&AA$14))=\"\",\"\",(INDIRECT(\"'\"&Lists!$C40&\"'!\"&Lists!$E40&AA$14))))","v":""},{"$f":"IF(ISNA(Lists!$C40),\"\",IF((INDIRECT(\"'\"&Lists!$C40&\"'!\"&Lists!$E40&AB$14))=\"\",\"\",(INDIRECT(\"'\"&Lists!$C40&\"'!\"&Lists!$E40&AB$14))))","v":""},{"$f":"IF(ISNA(Lists!$C40),\"\",IF((INDIRECT(\"'\"&Lists!$C40&\"'!\"&Lists!$E40&AC$14))=\"\",\"\",(INDIRECT(\"'\"&Lists!$C40&\"'!\"&Lists!$E40&AC$14))))","v":""},{"$f":"IF(ISNA(Lists!$C40),\"\",IF((INDIRECT(\"'\"&Lists!$C40&\"'!\"&Lists!$E40&AD$14))=\"\",\"\",(INDIRECT(\"'\"&Lists!$C40&\"'!\"&Lists!$E40&AD$14))))","v":""},{"$f":"IF(ISNA(Lists!$C40),\"\",IF((INDIRECT(\"'\"&Lists!$C40&\"'!\"&Lists!$E40&AE$14))=\"\",\"\",(INDIRECT(\"'\"&Lists!$C40&\"'!\"&Lists!$E40&AE$14))))","v":""},{"$f":"IF(ISNA(Lists!$C40),\"\",IF((INDIRECT(\"'\"&Lists!$C40&\"'!\"&Lists!$E40&AF$14))=\"\",\"\",(INDIRECT(\"'\"&Lists!$C40&\"'!\"&Lists!$E40&AF$14))))","v":""},{"$f":"IF(ISNA(Lists!$C40),\"\",IF((INDIRECT(\"'\"&Lists!$C40&\"'!\"&Lists!$E40&AG$14))=\"\",\"\",(INDIRECT(\"'\"&Lists!$C40&\"'!\"&Lists!$E40&AG$14))))","v":""},{"$f":"IF(ISNA(Lists!$C40),\"\",IF((INDIRECT(\"'\"&Lists!$C40&\"'!\"&Lists!$E40&AH$14))=\"\",\"\",(INDIRECT(\"'\"&Lists!$C40&\"'!\"&Lists!$E40&AH$14))))","v":""},{"$f":"IF(ISNA(Lists!$C40),\"\",IF((INDIRECT(\"'\"&Lists!$C40&\"'!\"&Lists!$E40&AI$14))=\"\",\"\",(INDIRECT(\"'\"&Lists!$C40&\"'!\"&Lists!$E40&AI$14))))","v":""},{"$f":"IF(ISNA(Lists!$C40),\"\",IF((INDIRECT(\"'\"&Lists!$C40&\"'!\"&Lists!$D40&AJ$14))=\"\",\"\",(INDIRECT(\"'\"&Lists!$C40&\"'!\"&Lists!$D40&AJ$14))))","v":""},{"$f":"IF(ISNA(Lists!$C40),\"\",IF((INDIRECT(\"'\"&Lists!$C40&\"'!\"&Lists!$D40&AK$14))=\"\",\"\",(INDIRECT(\"'\"&Lists!$C40&\"'!\"&Lists!$D40&AK$14))))","v":""},{"$f":"IF(ISNA(Lists!$C40),\"\",IF((INDIRECT(\"'\"&Lists!$C40&\"'!\"&Lists!$D40&AL$14))=\"\",\"\",(INDIRECT(\"'\"&Lists!$C40&\"'!\"&Lists!$D40&AL$14))))","v":""},{"$f":"IF(ISNA(Lists!$C40),\"\",IF((INDIRECT(\"'\"&Lists!$C40&\"'!\"&Lists!$D40&AM$14))=\"\",\"\",(INDIRECT(\"'\"&Lists!$C40&\"'!\"&Lists!$D40&AM$14))))","v":""},{"$f":"IF(ISNA(Lists!$C40),\"\",IF((INDIRECT(\"'\"&Lists!$C40&\"'!\"&Lists!$D40&AN$14))=\"\",\"\",(INDIRECT(\"'\"&Lists!$C40&\"'!\"&Lists!$D40&AN$14))))","v":""},{"$f":"IF(ISNA(Lists!$C40),\"\",IF((INDIRECT(\"'\"&Lists!$C40&\"'!\"&Lists!$D40&AO$14))=\"\",\"\",(INDIRECT(\"'\"&Lists!$C40&\"'!\"&Lists!$D40&AO$14))))","v":""},{"$f":"IF(ISNA(Lists!$C40),\"\",IF((INDIRECT(\"'\"&Lists!$C40&\"'!\"&Lists!$D40&AP$14))=\"\",\"\",(INDIRECT(\"'\"&Lists!$C40&\"'!\"&Lists!$D40&AP$14))))","v":""},{"$f":"IF(ISNA(Lists!$C40),\"\",IF((INDIRECT(\"'\"&Lists!$C40&\"'!\"&Lists!$D40&AQ$14))=\"\",\"\",(INDIRECT(\"'\"&Lists!$C40&\"'!\"&Lists!$D40&AQ$14))))","v":""},{"$f":"IF(ISNA(Lists!$C40),\"\",IF((INDIRECT(\"'\"&Lists!$C40&\"'!\"&Lists!$D40&AR$14))=\"\",\"\",(INDIRECT(\"'\"&Lists!$C40&\"'!\"&Lists!$D40&AR$14))))","v":""},{"$f":"IF(ISNA(Lists!$C40),\"\",IF((INDIRECT(\"'\"&Lists!$C40&\"'!\"&Lists!$D40&AS$14))=\"\",\"\",(INDIRECT(\"'\"&Lists!$C40&\"'!\"&Lists!$D40&AS$14))))","v":""}]
[null,{"$f":"IF(C63=\"\",\"\",Facility_Info_upload!$B$24)","v":""},{"$f":"IF(ISNA(Lists!$C41),\"\",IF(INDIRECT(\"'\"&Lists!$C41&\"'!\"&\"B\"&C$14)=\"\",\"\",(INDIRECT(\"'\"&Lists!$C41&\"'!\"&\"B\"&C$14))))","v":""},{"$f":"IF(ISNA(Lists!$C41),\"\",IF(INDIRECT(\"'\"&Lists!$C41&\"'!\"&\"B\"&D$14)=\"\",\"\",(INDIRECT(\"'\"&Lists!$C41&\"'!\"&\"B\"&D$14))))","v":""},{"$f":"IF(ISNA(Lists!$C41),\"\",IF(INDIRECT(\"'\"&Lists!$C41&\"'!\"&\"B\"&E$14)=\"\",\"\",(INDIRECT(\"'\"&Lists!$C41&\"'!\"&\"B\"&E$14))))","v":""},{"$f":"IF(ISNA(Lists!$C41),\"\",IF(INDIRECT(\"'\"&Lists!$C41&\"'!\"&\"B\"&F$14)=\"\",\"\",(INDIRECT(\"'\"&Lists!$C41&\"'!\"&\"B\"&F$14))))","v":""},{"$f":"IF(ISNA(Lists!$C41),\"\",IF(INDIRECT(\"'\"&Lists!$C41&\"'!\"&\"B\"&G$14)=\"\",\"\",(INDIRECT(\"'\"&Lists!$C41&\"'!\"&\"B\"&G$14))))","v":""},{"$f":"IF(ISNA(Lists!$C41),\"\",IF((INDIRECT(\"'\"&Lists!$C41&\"'!\"&Lists!$D41&H$14))=\"\",\"\",(INDIRECT(\"'\"&Lists!$C41&\"'!\"&Lists!$D41&H$14))))","v":""},{"$f":"IF(ISNA(Lists!$C41),\"\",IF((INDIRECT(\"'\"&Lists!$C41&\"'!\"&Lists!$D41&I$14))=\"\",\"\",(INDIRECT(\"'\"&Lists!$C41&\"'!\"&Lists!$D41&I$14))))","v":""},{"$f":"IF(ISNA(Lists!$C41),\"\",IF((INDIRECT(\"'\"&Lists!$C41&\"'!\"&Lists!$D41&J$14))=\"\",\"\",(INDIRECT(\"'\"&Lists!$C41&\"'!\"&Lists!$D41&J$14))))","v":""},{"$f":"IF(ISNA(Lists!$C41),\"\",IF((INDIRECT(\"'\"&Lists!$C41&\"'!\"&Lists!$D41&K$14))=\"\",\"\",(INDIRECT(\"'\"&Lists!$C41&\"'!\"&Lists!$D41&K$14))))","v":""},{"$f":"IF(ISNA(Lists!$C41),\"\",IF((INDIRECT(\"'\"&Lists!$C41&\"'!\"&Lists!$D41&L$14))=\"\",\"\",(INDIRECT(\"'\"&Lists!$C41&\"'!\"&Lists!$D41&L$14))))","v":""},{"$f":"IF(ISNA(Lists!$C41),\"\",IF((INDIRECT(\"'\"&Lists!$C41&\"'!\"&Lists!$D41&M$14))=\"\",\"\",(INDIRECT(\"'\"&Lists!$C41&\"'!\"&Lists!$D41&M$14))))","v":""},{"$f":"IF(ISNA(Lists!$C41),\"\",IF((INDIRECT(\"'\"&Lists!$C41&\"'!\"&Lists!$D41&N$14))=\"\",\"\",(INDIRECT(\"'\"&Lists!$C41&\"'!\"&Lists!$D41&N$14))))","v":""},{"$f":"IF(ISNA(Lists!$C41),\"\",IF((INDIRECT(\"'\"&Lists!$C41&\"'!\"&Lists!$D41&O$14))=\"\",\"\",(INDIRECT(\"'\"&Lists!$C41&\"'!\"&Lists!$D41&O$14))))","v":""},{"$f":"IF(ISNA(Lists!$C41),\"\",IF((INDIRECT(\"'\"&Lists!$C41&\"'!\"&Lists!$D41&P$14))=\"\",\"\",(INDIRECT(\"'\"&Lists!$C41&\"'!\"&Lists!$D41&P$14))))","v":""},{"$f":"IF(ISNA(Lists!$C41),\"\",IF((INDIRECT(\"'\"&Lists!$C41&\"'!\"&Lists!$D41&Q$14))=\"\",\"\",(INDIRECT(\"'\"&Lists!$C41&\"'!\"&Lists!$D41&Q$14))))","v":""},{"$f":"IF(ISNA(Lists!$C41),\"\",IF((INDIRECT(\"'\"&Lists!$C41&\"'!\"&Lists!$D41&R$14))=\"\",\"\",(INDIRECT(\"'\"&Lists!$C41&\"'!\"&Lists!$D41&R$14))))","v":""},{"$f":"IF(ISNA(Lists!$C41),\"\",IF((INDIRECT(\"'\"&Lists!$C41&\"'!\"&Lists!$D41&S$14))=\"\",\"\",(INDIRECT(\"'\"&Lists!$C41&\"'!\"&Lists!$D41&S$14))))","v":""},{"$f":"IF(ISNA(Lists!$C41),\"\",IF((INDIRECT(\"'\"&Lists!$C41&\"'!\"&Lists!$D41&T$14))=\"\",\"\",(INDIRECT(\"'\"&Lists!$C41&\"'!\"&Lists!$D41&T$14))))","v":""},{"$f":"IF(ISNA(Lists!$C41),\"\",IF((INDIRECT(\"'\"&Lists!$C41&\"'!\"&Lists!$D41&U$14))=\"\",\"\",(INDIRECT(\"'\"&Lists!$C41&\"'!\"&Lists!$D41&U$14))))","v":""},{"$f":"IF(ISNA(Lists!$C41),\"\",IF((INDIRECT(\"'\"&Lists!$C41&\"'!\"&Lists!$E41&V$14))=\"\",\"\",(INDIRECT(\"'\"&Lists!$C41&\"'!\"&Lists!$E41&V$14))))","v":""},{"$f":"IF(ISNA(Lists!$C41),\"\",IF((INDIRECT(\"'\"&Lists!$C41&\"'!\"&Lists!$E41&W$14))=\"\",\"\",(INDIRECT(\"'\"&Lists!$C41&\"'!\"&Lists!$E41&W$14))))","v":""},{"$f":"IF(ISNA(Lists!$C41),\"\",IF((INDIRECT(\"'\"&Lists!$C41&\"'!\"&Lists!$E41&X$14))=\"\",\"\",(INDIRECT(\"'\"&Lists!$C41&\"'!\"&Lists!$E41&X$14))))","v":""},{"$f":"IF(ISNA(Lists!$C41),\"\",IF((INDIRECT(\"'\"&Lists!$C41&\"'!\"&Lists!$E41&Y$14))=\"\",\"\",(INDIRECT(\"'\"&Lists!$C41&\"'!\"&Lists!$E41&Y$14))))","v":""},{"$f":"IF(ISNA(Lists!$C41),\"\",IF((INDIRECT(\"'\"&Lists!$C41&\"'!\"&Lists!$E41&Z$14))=\"\",\"\",(INDIRECT(\"'\"&Lists!$C41&\"'!\"&Lists!$E41&Z$14))))","v":""},{"$f":"IF(ISNA(Lists!$C41),\"\",IF((INDIRECT(\"'\"&Lists!$C41&\"'!\"&Lists!$E41&AA$14))=\"\",\"\",(INDIRECT(\"'\"&Lists!$C41&\"'!\"&Lists!$E41&AA$14))))","v":""},{"$f":"IF(ISNA(Lists!$C41),\"\",IF((INDIRECT(\"'\"&Lists!$C41&\"'!\"&Lists!$E41&AB$14))=\"\",\"\",(INDIRECT(\"'\"&Lists!$C41&\"'!\"&Lists!$E41&AB$14))))","v":""},{"$f":"IF(ISNA(Lists!$C41),\"\",IF((INDIRECT(\"'\"&Lists!$C41&\"'!\"&Lists!$E41&AC$14))=\"\",\"\",(INDIRECT(\"'\"&Lists!$C41&\"'!\"&Lists!$E41&AC$14))))","v":""},{"$f":"IF(ISNA(Lists!$C41),\"\",IF((INDIRECT(\"'\"&Lists!$C41&\"'!\"&Lists!$E41&AD$14))=\"\",\"\",(INDIRECT(\"'\"&Lists!$C41&\"'!\"&Lists!$E41&AD$14))))","v":""},{"$f":"IF(ISNA(Lists!$C41),\"\",IF((INDIRECT(\"'\"&Lists!$C41&\"'!\"&Lists!$E41&AE$14))=\"\",\"\",(INDIRECT(\"'\"&Lists!$C41&\"'!\"&Lists!$E41&AE$14))))","v":""},{"$f":"IF(ISNA(Lists!$C41),\"\",IF((INDIRECT(\"'\"&Lists!$C41&\"'!\"&Lists!$E41&AF$14))=\"\",\"\",(INDIRECT(\"'\"&Lists!$C41&\"'!\"&Lists!$E41&AF$14))))","v":""},{"$f":"IF(ISNA(Lists!$C41),\"\",IF((INDIRECT(\"'\"&Lists!$C41&\"'!\"&Lists!$E41&AG$14))=\"\",\"\",(INDIRECT(\"'\"&Lists!$C41&\"'!\"&Lists!$E41&AG$14))))","v":""},{"$f":"IF(ISNA(Lists!$C41),\"\",IF((INDIRECT(\"'\"&Lists!$C41&\"'!\"&Lists!$E41&AH$14))=\"\",\"\",(INDIRECT(\"'\"&Lists!$C41&\"'!\"&Lists!$E41&AH$14))))","v":""},{"$f":"IF(ISNA(Lists!$C41),\"\",IF((INDIRECT(\"'\"&Lists!$C41&\"'!\"&Lists!$E41&AI$14))=\"\",\"\",(INDIRECT(\"'\"&Lists!$C41&\"'!\"&Lists!$E41&AI$14))))","v":""},{"$f":"IF(ISNA(Lists!$C41),\"\",IF((INDIRECT(\"'\"&Lists!$C41&\"'!\"&Lists!$D41&AJ$14))=\"\",\"\",(INDIRECT(\"'\"&Lists!$C41&\"'!\"&Lists!$D41&AJ$14))))","v":""},{"$f":"IF(ISNA(Lists!$C41),\"\",IF((INDIRECT(\"'\"&Lists!$C41&\"'!\"&Lists!$D41&AK$14))=\"\",\"\",(INDIRECT(\"'\"&Lists!$C41&\"'!\"&Lists!$D41&AK$14))))","v":""},{"$f":"IF(ISNA(Lists!$C41),\"\",IF((INDIRECT(\"'\"&Lists!$C41&\"'!\"&Lists!$D41&AL$14))=\"\",\"\",(INDIRECT(\"'\"&Lists!$C41&\"'!\"&Lists!$D41&AL$14))))","v":""},{"$f":"IF(ISNA(Lists!$C41),\"\",IF((INDIRECT(\"'\"&Lists!$C41&\"'!\"&Lists!$D41&AM$14))=\"\",\"\",(INDIRECT(\"'\"&Lists!$C41&\"'!\"&Lists!$D41&AM$14))))","v":""},{"$f":"IF(ISNA(Lists!$C41),\"\",IF((INDIRECT(\"'\"&Lists!$C41&\"'!\"&Lists!$D41&AN$14))=\"\",\"\",(INDIRECT(\"'\"&Lists!$C41&\"'!\"&Lists!$D41&AN$14))))","v":""},{"$f":"IF(ISNA(Lists!$C41),\"\",IF((INDIRECT(\"'\"&Lists!$C41&\"'!\"&Lists!$D41&AO$14))=\"\",\"\",(INDIRECT(\"'\"&Lists!$C41&\"'!\"&Lists!$D41&AO$14))))","v":""},{"$f":"IF(ISNA(Lists!$C41),\"\",IF((INDIRECT(\"'\"&Lists!$C41&\"'!\"&Lists!$D41&AP$14))=\"\",\"\",(INDIRECT(\"'\"&Lists!$C41&\"'!\"&Lists!$D41&AP$14))))","v":""},{"$f":"IF(ISNA(Lists!$C41),\"\",IF((INDIRECT(\"'\"&Lists!$C41&\"'!\"&Lists!$D41&AQ$14))=\"\",\"\",(INDIRECT(\"'\"&Lists!$C41&\"'!\"&Lists!$D41&AQ$14))))","v":""},{"$f":"IF(ISNA(Lists!$C41),\"\",IF((INDIRECT(\"'\"&Lists!$C41&\"'!\"&Lists!$D41&AR$14))=\"\",\"\",(INDIRECT(\"'\"&Lists!$C41&\"'!\"&Lists!$D41&AR$14))))","v":""},{"$f":"IF(ISNA(Lists!$C41),\"\",IF((INDIRECT(\"'\"&Lists!$C41&\"'!\"&Lists!$D41&AS$14))=\"\",\"\",(INDIRECT(\"'\"&Lists!$C41&\"'!\"&Lists!$D41&AS$14))))","v":""}]

{"sheet":"CPMS_Summary","index":6,"n_rows":103,"n_cols":41,"rows_kept":103,"hidden":true}
[null,"DO NOT REMOVE OR EDIT INFORMATION IN THIS SECTION\nFOR INTERNAL USE ONLY"]
[null,"Template Name",{"$f":"+Welcome!$B$2","v":"63.860(c) Excess Emissions Report"}]
[null,"CitationID",{"$f":"+Welcome!$B$3","v":"63.867(d)(2)"}]
[null,"Template Version",{"$f":"+Welcome!$B$4","v":"DRAFT"}]
[null,"Last Updated Date",{"$f":"+Welcome!$B$5","v":"2021-07-16"}]
[null,"Summary Report – Gaseous and Opacity Excess Emissions and Continuous Monitoring System Performance"]
[null,"Continuous Parameter Monitoring Systems -- 40 CFR Part 63, Subpart MM\n"]
[null,"This table presents a summary of all of the individual CPMS tabs.  This is the data used in importing to the CEDRI database.  These cells are locked, any changes necessary should be made on the individual CPMS tabs."]
[{"$nulls":7},"Emission Data Summary [§63.867(c)(1)(iv) and (vii)]",{"$nulls":22}," CMS Performance Summary [§63.867(c)(1)(viii)]"]
[{"$nulls":13},"1. Duration of excess emissions in reporting period due to:",{"$nulls":17},"1. CMS downtime in reporting period due to:"]
[{"$nulls":13},"(Duration (Hours))"]
[null,"Facility Record No. ","Process Unit ID","Process Unit Type","Process Unit Description","Air Pollution Control Device Type","Total Source Operating Time* (hours)","Operating parameter","Averaging Period","Operating Parameter Limit","Operating limit units","Mark with an \"X\" if no excess emissions or exceedances of a parameter have occurred during the reporting period. [§63.10(e)(3)(v)]","Mark with an \"X\" if the CMS has not been inoperative, out of control, repaired, or adjusted during the reporting period. [§63.10(e)(3)(v)]","a. Startup/ Shutdown","b. Control Equipment Problems","c. Process Problems","d. Other known causes","e. Unknown causes","2. Total duration of excess emissions","3. (Total duration of excess emissions) / (Total Source Operating Time) x (100) %","Do excess emissions equal or exceed 1% of operating time?","a. Startup/ Shutdown","b. Control Equipment Problems","c. Process Problems","d. Other known causes","e. Unknown causes","2. Total duration of excess emissions","Is the violation level triggered in line 2 above?  \nViolation level: Six or more 3-hour average parameter values or any 3-hour average RTO temperature per semiannual period.","Do any of the Count of No. of Averages in item 2 above occur concurrently? ","Number of Concurrent","Operating parameter","a. Monitoring equipment malfunctions","b. Non-monitor equipment malfunctions","c. Quality assurance/quality control calibration","d. Other known causes","e. Unknown causes","2. Total CMS downtime","3. (Total CMS downtime) / (Total Source Operating Time) x (100) %","Is total CMS downtime greater than 5% of total source operating time?","If detailed reporting is required, enter the type and/or filename of the detailed report provided","Comments"]
[null,"RecordId","ProcessUnitId","ProcessUnitType","ProcessUnitDesc","ApcdType","SourceOperatingTimeHrs","EmOperatingParameter","EmAveragingPeriod","EmOperatingLimit","EmOperatingLimitUnit","ExcessEmInReportPeriod","CmsInReportingPeriod","EmStartupShutdownHr","EmEquipProbHr","EmProcessProbHr","EmOtherCausesHr","EmUnknownCausesHr","EmTotalHr","EmTotalHrPercent","EmOnePercent","EmStartupShutdownCount","EmEquipProbCount","EmProcessProbCount","EmOtherCausesCount","EmUnknownCausesCount","EmTotalCount","EmTotalCountViolation","ConcurrentFlag","NumConcurrent","CmsOperatingParameter","CmsEquipMal","CmsNonEquipMal","CmsQaCalibration","CmsOtherCauses","CmsUnkownCauses","CmsTotalDowntime","CmsTotalPercent","CmsFivePercent","CmsDetailFile","CMSComments"]
{"$rows_empty":9}
[null,null,6,7,8,9,10,14,15,16,17,18,19,22,{"$f":"+N23+1","v":23},{"$f":"+O23+1","v":24},25,26,27,28,29,22,{"$f":"+V23+1","v":23},{"$f":"+W23+1","v":24},25,26,27,30,31,31,34,37,{"$f":"+AF23+1","v":38},{"$f":"+AG23+1","v":39},40,41,42,43,44,45,46]
[null,{"$f":"IF(C24=\"\",\"\",Facility_Info_upload!$B$24)","v":""},{"$f":"IF(ISNA(Lists!$J2),\"\",IF(INDIRECT(\"'\"&Lists!$J2&\"'!\"&\"B\"&C$23)=\"\",\"\",(INDIRECT(\"'\"&Lists!$J2&\"'!\"&\"B\"&C$23))))","v":""},{"$f":"IF(ISNA(Lists!$J2),\"\",IF(INDIRECT(\"'\"&Lists!$J2&\"'!\"&\"B\"&D$23)=\"\",\"\",(INDIRECT(\"'\"&Lists!$J2&\"'!\"&\"B\"&D$23))))","v":""},{"$f":"IF(ISNA(Lists!$J2),\"\",IF(INDIRECT(\"'\"&Lists!$J2&\"'!\"&\"B\"&E$23)=\"\",\"\",(INDIRECT(\"'\"&Lists!$J2&\"'!\"&\"B\"&E$23))))","v":""},{"$f":"IF(ISNA(Lists!$J2),\"\",IF(INDIRECT(\"'\"&Lists!$J2&\"'!\"&\"B\"&F$23)=\"\",\"\",(INDIRECT(\"'\"&Lists!$J2&\"'!\"&\"B\"&F$23))))","v":""},{"$f":"IF(ISNA(Lists!$J2),\"\",IF(INDIRECT(\"'\"&Lists!$J2&\"'!\"&\"B\"&G$23)=\"\",\"\",(INDIRECT(\"'\"&Lists!$J2&\"'!\"&\"B\"&G$23))))","v":""},{"$f":"IF(ISNA(Lists!$J2),\"\",IF((INDIRECT(\"'\"&Lists!$J2&\"'!\"&Lists!$K2&H$23))=\"\",\"\",(INDIRECT(\"'\"&Lists!$J2&\"'!\"&Lists!$K2&H$23))))","v":""},{"$f":"IF(ISNA(Lists!$J2),\"\",IF((INDIRECT(\"'\"&Lists!$J2&\"'!\"&Lists!$K2&I$23))=\"\",\"\",(INDIRECT(\"'\"&Lists!$J2&\"'!\"&Lists!$K2&I$23))))","v":""},{"$f":"IF(ISNA(Lists!$J2),\"\",IF((INDIRECT(\"'\"&Lists!$J2&\"'!\"&Lists!$K2&J$23))=\"\",\"\",(INDIRECT(\"'\"&Lists!$J2&\"'!\"&Lists!$K2&J$23))))","v":""},{"$f":"IF(ISNA(Lists!$J2),\"\",IF((INDIRECT(\"'\"&Lists!$J2&\"'!\"&Lists!$K2&K$23))=\"\",\"\",(INDIRECT(\"'\"&Lists!$J2&\"'!\"&Lists!$K2&K$23))))","v":""},{"$f":"IF(ISNA(Lists!$J2),\"\",IF((INDIRECT(\"'\"&Lists!$J2&\"'!\"&Lists!$K2&L$23))=\"\",\"\",(INDIRECT(\"'\"&Lists!$J2&\"'!\"&Lists!$K2&L$23))))","v":""},{"$f":"IF(ISNA(Lists!$J2),\"\",IF((INDIRECT(\"'\"&Lists!$J2&\"'!\"&Lists!$K2&M$23))=\"\",\"\",(INDIRECT(\"'\"&Lists!$J2&\"'!\"&Lists!$K2&M$23))))","v":""},{"$f":"IF(ISNA(Lists!$J2),\"\",IF((INDIRECT(\"'\"&Lists!$J2&\"'!\"&Lists!$K2&N$23))=\"\",\"\",(INDIRECT(\"'\"&Lists!$J2&\"'!\"&Lists!$K2&N$23))))","v":""},{"$f":"IF(ISNA(Lists!$J2),\"\",IF((INDIRECT(\"'\"&Lists!$J2&\"'!\"&Lists!$K2&O$23))=\"\",\"\",(INDIRECT(\"'\"&Lists!$J2&\"'!\"&Lists!$K2&O$23))))","v":""},{"$f":"IF(ISNA(Lists!$J2),\"\",IF((INDIRECT(\"'\"&Lists!$J2&\"'!\"&Lists!$K2&P$23))=\"\",\"\",(INDIRECT(\"'\"&Lists!$J2&\"'!\"&Lists!$K2&P$23))))","v":""},{"$f":"IF(ISNA(Lists!$J2),\"\",IF((INDIRECT(\"'\"&Lists!$J2&\"'!\"&Lists!$K2&Q$23))=\"\",\"\",(INDIRECT(\"'\"&Lists!$J2&\"'!\"&Lists!$K2&Q$23))))","v":""},{"$f":"IF(ISNA(Lists!$J2),\"\",IF((INDIRECT(\"'\"&Lists!$J2&\"'!\"&Lists!$K2&R$23))=\"\",\"\",(INDIRECT(\"'\"&Lists!$J2&\"'!\"&Lists!$K2&R$23))))","v":""},{"$f":"IF(ISNA(Lists!$J2),\"\",IF((INDIRECT(\"'\"&Lists!$J2&\"'!\"&Lists!$K2&S$23))=\"\",\"\",(INDIRECT(\"'\"&Lists!$J2&\"'!\"&Lists!$K2&S$23))))","v":""},{"$f":"IF(ISNA(Lists!$J2),\"\",IF((INDIRECT(\"'\"&Lists!$J2&\"'!\"&Lists!$K2&T$23))=\"\",\"\",(INDIRECT(\"'\"&Lists!$J2&\"'!\"&Lists!$K2&T$23))))","v":""},{"$f":"IF(ISNA(Lists!$J2),\"\",IF((INDIRECT(\"'\"&Lists!$J2&\"'!\"&Lists!$K2&U$23))=\"\",\"\",(INDIRECT(\"'\"&Lists!$J2&\"'!\"&Lists!$K2&U$23))))","v":""},{"$f":"IF(ISNA(Lists!$J2),\"\",IF((INDIRECT(\"'\"&Lists!$J2&\"'!\"&Lists!$L2&V$23))=\"\",\"\",(INDIRECT(\"'\"&Lists!$J2&\"'!\"&Lists!$L2&V$23))))","v":""},{"$f":"IF(ISNA(Lists!$J2),\"\",IF((INDIRECT(\"'\"&Lists!$J2&\"'!\"&Lists!$L2&W$23))=\"\",\"\",(INDIRECT(\"'\"&Lists!$J2&\"'!\"&Lists!$L2&W$23))))","v":""},{"$f":"IF(ISNA(Lists!$J2),\"\",IF((INDIRECT(\"'\"&Lists!$J2&\"'!\"&Lists!$L2&X$23))=\"\",\"\",(INDIRECT(\"'\"&Lists!$J2&\"'!\"&Lists!$L2&X$23))))","v":""},{"$f":"IF(ISNA(Lists!$J2),\"\",IF((INDIRECT(\"'\"&Lists!$J2&\"'!\"&Lists!$L2&Y$23))=\"\",\"\",(INDIRECT(\"'\"&Lists!$J2&\"'!\"&Lists!$L2&Y$23))))","v":""},{"$f":"IF(ISNA(Lists!$J2),\"\",IF((INDIRECT(\"'\"&Lists!$J2&\"'!\"&Lists!$L2&Z$23))=\"\",\"\",(INDIRECT(\"'\"&Lists!$J2&\"'!\"&Lists!$L2&Z$23))))","v":""},{"$f":"IF(ISNA(Lists!$J2),\"\",IF((INDIRECT(\"'\"&Lists!$J2&\"'!\"&Lists!$L2&AA$23))=\"\",\"\",(INDIRECT(\"'\"&Lists!$J2&\"'!\"&Lists!$L2&AA$23))))","v":""},{"$f":"IF(ISNA(Lists!$J2),\"\",IF((INDIRECT(\"'\"&Lists!$J2&\"'!\"&Lists!$L2&AB$23))=\"\",\"\",(INDIRECT(\"'\"&Lists!$J2&\"'!\"&Lists!$L2&AB$23))))","v":""},{"$f":"IF(ISNA(Lists!$J2),\"\",IF((INDIRECT(\"'\"&Lists!$J2&\"'!\"&Lists!$K2&AC$23))=\"\",\"\",(INDIRECT(\"'\"&Lists!$J2&\"'!\"&Lists!$K2&AC$23))))","v":""},{"$f":"IF(ISNA(Lists!$J2),\"\",IF((INDIRECT(\"'\"&Lists!$J2&\"'!\"&Lists!$L2&AD$23))=\"\",\"\",(INDIRECT(\"'\"&Lists!$J2&\"'!\"&Lists!$L2&AD$23))))","v":""},{"$f":"IF(ISNA(Lists!$J2),\"\",IF((INDIRECT(\"'\"&Lists!$J2&\"'!\"&Lists!$K2&AE$23))=\"\",\"\",(INDIRECT(\"'\"&Lists!$J2&\"'!\"&Lists!$K2&AE$23))))","v":""},{"$f":"IF(ISNA(Lists!$J2),\"\",IF((INDIRECT(\"'\"&Lists!$J2&\"'!\"&Lists!$K2&AF$23))=\"\",\"\",(INDIRECT(\"'\"&Lists!$J2&\"'!\"&Lists!$K2&AF$23))))","v":""},{"$f":"IF(ISNA(Lists!$J2),\"\",IF((INDIRECT(\"'\"&Lists!$J2&\"'!\"&Lists!$K2&AG$23))=\"\",\"\",(INDIRECT(\"'\"&Lists!$J2&\"'!\"&Lists!$K2&AG$23))))","v":""},{"$f":"IF(ISNA(Lists!$J2),\"\",IF((INDIRECT(\"'\"&Lists!$J2&\"'!\"&Lists!$K2&AH$23))=\"\",\"\",(INDIRECT(\"'\"&Lists!$J2&\"'!\"&Lists!$K2&AH$23))))","v":""},{"$f":"IF(ISNA(Lists!$J2),\"\",IF((INDIRECT(\"'\"&Lists!$J2&\"'!\"&Lists!$K2&AI$23))=\"\",\"\",(INDIRECT(\"'\"&Lists!$J2&\"'!\"&Lists!$K2&AI$23))))","v":""},{"$f":"IF(ISNA(Lists!$J2),\"\",IF((INDIRECT(\"'\"&Lists!$J2&\"'!\"&Lists!$K2&AJ$23))=\"\",\"\",(INDIRECT(\"'\"&Lists!$J2&\"'!\"&Lists!$K2&AJ$23))))","v":""},{"$f":"IF(ISNA(Lists!$J2),\"\",IF((INDIRECT(\"'\"&Lists!$J2&\"'!\"&Lists!$K2&AK$23))=\"\",\"\",(INDIRECT(\"'\"&Lists!$J2&\"'!\"&Lists!$K2&AK$23))))","v":""},{"$f":"IF(ISNA(Lists!$J2),\"\",IF((INDIRECT(\"'\"&Lists!$J2&\"'!\"&Lists!$K2&AL$23))=\"\",\"\",(INDIRECT(\"'\"&Lists!$J2&\"'!\"&Lists!$K2&AL$23))))","v":""},{"$f":"IF(ISNA(Lists!$J2),\"\",IF((INDIRECT(\"'\"&Lists!$J2&\"'!\"&Lists!$K2&AM$23))=\"\",\"\",(INDIRECT(\"'\"&Lists!$J2&\"'!\"&Lists!$K2&AM$23))))","v":""},{"$f":"IF(ISNA(Lists!$J2),\"\",IF((INDIRECT(\"'\"&Lists!$J2&\"'!\"&Lists!$K2&AN$23))=\"\",\"\",(INDIRECT(\"'\"&Lists!$J2&\"'!\"&Lists!$K2&AN$23))))","v":""},{"$f":"IF(ISNA(Lists!$J2),\"\",IF((INDIRECT(\"'\"&Lists!$J2&\"'!\"&Lists!$K2&AO$23))=\"\",\"\",(INDIRECT(\"'\"&Lists!$J2&\"'!\"&Lists!$K2&AO$23))))","v":""}]
[null,{"$f":"IF(C25=\"\",\"\",Facility_Info_upload!$B$24)","v":""},{"$f":"IF(ISNA(Lists!$J3),\"\",IF(INDIRECT(\"'\"&Lists!$J3&\"'!\"&\"B\"&C$23)=\"\",\"\",(INDIRECT(\"'\"&Lists!$J3&\"'!\"&\"B\"&C$23))))","v":""},{"$f":"IF(ISNA(Lists!$J3),\"\",IF(INDIRECT(\"'\"&Lists!$J3&\"'!\"&\"B\"&D$23)=\"\",\"\",(INDIRECT(\"'\"&Lists!$J3&\"'!\"&\"B\"&D$23))))","v":""},{"$f":"IF(ISNA(Lists!$J3),\"\",IF(INDIRECT(\"'\"&Lists!$J3&\"'!\"&\"B\"&E$23)=\"\",\"\",(INDIRECT(\"'\"&Lists!$J3&\"'!\"&\"B\"&E$23))))","v":""},{"$f":"IF(ISNA(Lists!$J3),\"\",IF(INDIRECT(\"'\"&Lists!$J3&\"'!\"&\"B\"&F$23)=\"\",\"\",(INDIRECT(\"'\"&Lists!$J3&\"'!\"&\"B\"&F$23))))","v":""},{"$f":"IF(ISNA(Lists!$J3),\"\",IF(INDIRECT(\"'\"&Lists!$J3&\"'!\"&\"B\"&G$23)=\"\",\"\",(INDIRECT(\"'\"&Lists!$J3&\"'!\"&\"B\"&G$23))))","v":""},{"$f":"IF(ISNA(Lists!$J3),\"\",IF((INDIRECT(\"'\"&Lists!$J3&\"'!\"&Lists!$K3&H$23))=\"\",\"\",(INDIRECT(\"'\"&Lists!$J3&\"'!\"&Lists!$K3&H$23))))","v":""},{"$f":"IF(ISNA(Lists!$J3),\"\",IF((INDIRECT(\"'\"&Lists!$J3&\"'!\"&Lists!$K3&I$23))=\"\",\"\",(INDIRECT(\"'\"&Lists!$J3&\"'!\"&Lists!$K3&I$23))))","v":""},{"$f":"IF(ISNA(Lists!$J3),\"\",IF((INDIRECT(\"'\"&Lists!$J3&\"'!\"&Lists!$K3&J$23))=\"\",\"\",(INDIRECT(\"'\"&Lists!$J3&\"'!\"&Lists!$K3&J$23))))","v":""},{"$f":"IF(ISNA(Lists!$J3),\"\",IF((INDIRECT(\"'\"&Lists!$J3&\"'!\"&Lists!$K3&K$23))=\"\",\"\",(INDIRECT(\"'\"&Lists!$J3&\"'!\"&Lists!$K3&K$23))))","v":""},{"$f":"IF(ISNA(Lists!$J3),\"\",IF((INDIRECT(\"'\"&Lists!$J3&\"'!\"&Lists!$K3&L$23))=\"\",\"\",(INDIRECT(\"'\"&Lists!$J3&\"'!\"&Lists!$K3&L$23))))","v":""},{"$f":"IF(ISNA(Lists!$J3),\"\",IF((INDIRECT(\"'\"&Lists!$J3&\"'!\"&Lists!$K3&M$23))=\"\",\"\",(INDIRECT(\"'\"&Lists!$J3&\"'!\"&Lists!$K3&M$23))))","v":""},{"$f":"IF(ISNA(Lists!$J3),\"\",IF((INDIRECT(\"'\"&Lists!$J3&\"'!\"&Lists!$K3&N$23))=\"\",\"\",(INDIRECT(\"'\"&Lists!$J3&\"'!\"&Lists!$K3&N$23))))","v":""},{"$f":"IF(ISNA(Lists!$J3),\"\",IF((INDIRECT(\"'\"&Lists!$J3&\"'!\"&Lists!$K3&O$23))=\"\",\"\",(INDIRECT(\"'\"&Lists!$J3&\"'!\"&Lists!$K3&O$23))))","v":""},{"$f":"IF(ISNA(Lists!$J3),\"\",IF((INDIRECT(\"'\"&Lists!$J3&\"'!\"&Lists!$K3&P$23))=\"\",\"\",(INDIRECT(\"'\"&Lists!$J3&\"'!\"&Lists!$K3&P$23))))","v":""},{"$f":"IF(ISNA(Lists!$J3),\"\",IF((INDIRECT(\"'\"&Lists!$J3&\"'!\"&Lists!$K3&Q$23))=\"\",\"\",(INDIRECT(\"'\"&Lists!$J3&\"'!\"&Lists!$K3&Q$23))))","v":""},{"$f":"IF(ISNA(Lists!$J3),\"\",IF((INDIRECT(\"'\"&Lists!$J3&\"'!\"&Lists!$K3&R$23))=\"\",\"\",(INDIRECT(\"'\"&Lists!$J3&\"'!\"&Lists!$K3&R$23))))","v":""},{"$f":"IF(ISNA(Lists!$J3),\"\",IF((INDIRECT(\"'\"&Lists!$J3&\"'!\"&Lists!$K3&S$23))=\"\",\"\",(INDIRECT(\"'\"&Lists!$J3&\"'!\"&Lists!$K3&S$23))))","v":""},{"$f":"IF(ISNA(Lists!$J3),\"\",IF((INDIRECT(\"'\"&Lists!$J3&\"'!\"&Lists!$K3&T$23))=\"\",\"\",(INDIRECT(\"'\"&Lists!$J3&\"'!\"&Lists!$K3&T$23))))","v":""},{"$f":"IF(ISNA(Lists!$J3),\"\",IF((INDIRECT(\"'\"&Lists!$J3&\"'!\"&Lists!$K3&U$23))=\"\",\"\",(INDIRECT(\"'\"&Lists!$J3&\"'!\"&Lists!$K3&U$23))))","v":""},{"$f":"IF(ISNA(Lists!$J3),\"\",IF((INDIRECT(\"'\"&Lists!$J3&\"'!\"&Lists!$L3&V$23))=\"\",\"\",(INDIRECT(\"'\"&Lists!$J3&\"'!\"&Lists!$L3&V$23))))","v":""},{"$f":"IF(ISNA(Lists!$J3),\"\",IF((INDIRECT(\"'\"&Lists!$J3&\"'!\"&Lists!$L3&W$23))=\"\",\"\",(INDIRECT(\"'\"&Lists!$J3&\"'!\"&Lists!$L3&W$23))))","v":""},{"$f":"IF(ISNA(Lists!$J3),\"\",IF((INDIRECT(\"'\"&Lists!$J3&\"'!\"&Lists!$L3&X$23))=\"\",\"\",(INDIRECT(\"'\"&Lists!$J3&\"'!\"&Lists!$L3&X$23))))","v":""},{"$f":"IF(ISNA(Lists!$J3),\"\",IF((INDIRECT(\"'\"&Lists!$J3&\"'!\"&Lists!$L3&Y$23))=\"\",\"\",(INDIRECT(\"'\"&Lists!$J3&\"'!\"&Lists!$L3&Y$23))))","v":""},{"$f":"IF(ISNA(Lists!$J3),\"\",IF((INDIRECT(\"'\"&Lists!$J3&\"'!\"&Lists!$L3&Z$23))=\"\",\"\",(INDIRECT(\"'\"&Lists!$J3&\"'!\"&Lists!$L3&Z$23))))","v":""},{"$f":"IF(ISNA(Lists!$J3),\"\",IF((INDIRECT(\"'\"&Lists!$J3&\"'!\"&Lists!$L3&AA$23))=\"\",\"\",(INDIRECT(\"'\"&Lists!$J3&\"'!\"&Lists!$L3&AA$23))))","v":""},{"$f":"IF(ISNA(Lists!$J3),\"\",IF((INDIRECT(\"'\"&Lists!$J3&\"'!\"&Lists!$L3&AB$23))=\"\",\"\",(INDIRECT(\"'\"&Lists!$J3&\"'!\"&Lists!$L3&AB$23))))","v":""},{"$f":"IF(ISNA(Lists!$J3),\"\",IF((INDIRECT(\"'\"&Lists!$J3&\"'!\"&Lists!$K3&AC$23))=\"\",\"\",(INDIRECT(\"'\"&Lists!$J3&\"'!\"&Lists!$K3&AC$23))))","v":""},{"$f":"IF(ISNA(Lists!$J3),\"\",IF((INDIRECT(\"'\"&Lists!$J3&\"'!\"&Lists!$L3&AD$23))=\"\",\"\",(INDIRECT(\"'\"&Lists!$J3&\"'!\"&Lists!$L3&AD$23))))","v":""},{"$f":"IF(ISNA(Lists!$J3),\"\",IF((INDIRECT(\"'\"&Lists!$J3&\"'!\"&Lists!$K3&AE$23))=\"\",\"\",(INDIRECT(\"'\"&Lists!$J3&\"'!\"&Lists!$K3&AE$23))))","v":""},{"$f":"IF(ISNA(Lists!$J3),\"\",IF((INDIRECT(\"'\"&Lists!$J3&\"'!\"&Lists!$K3&AF$23))=\"\",\"\",(INDIRECT(\"'\"&Lists!$J3&\"'!\"&Lists!$K3&AF$23))))","v":""},{"$f":"IF(ISNA(Lists!$J3),\"\",IF((INDIRECT(\"'\"&Lists!$J3&\"'!\"&Lists!$K3&AG$23))=\"\",\"\",(INDIRECT(\"'\"&Lists!$J3&\"'!\"&Lists!$K3&AG$23))))","v":""},{"$f":"IF(ISNA(Lists!$J3),\"\",IF((INDIRECT(\"'\"&Lists!$J3&\"'!\"&Lists!$K3&AH$23))=\"\",\"\",(INDIRECT(\"'\"&Lists!$J3&\"'!\"&Lists!$K3&AH$23))))","v":""},{"$f":"IF(ISNA(Lists!$J3),\"\",IF((INDIRECT(\"'\"&Lists!$J3&\"'!\"&Lists!$K3&AI$23))=\"\",\"\",(INDIRECT(\"'\"&Lists!$J3&\"'!\"&Lists!$K3&AI$23))))","v":""},{"$f":"IF(ISNA(Lists!$J3),\"\",IF((INDIRECT(\"'\"&Lists!$J3&\"'!\"&Lists!$K3&AJ$23))=\"\",\"\",(INDIRECT(\"'\"&Lists!$J3&\"'!\"&Lists!$K3&AJ$23))))","v":""},{"$f":"IF(ISNA(Lists!$J3),\"\",IF((INDIRECT(\"'\"&Lists!$J3&\"'!\"&Lists!$K3&AK$23))=\"\",\"\",(INDIRECT(\"'\"&Lists!$J3&\"'!\"&Lists!$K3&AK$23))))","v":""},{"$f":"IF(ISNA(Lists!$J3),\"\",IF((INDIRECT(\"'\"&Lists!$J3&\"'!\"&Lists!$K3&AL$23))=\"\",\"\",(INDIRECT(\"'\"&Lists!$J3&\"'!\"&Lists!$K3&AL$23))))","v":""},{"$f":"IF(ISNA(Lists!$J3),\"\",IF((INDIRECT(\"'\"&Lists!$J3&\"'!\"&Lists!$K3&AM$23))=\"\",\"\",(INDIRECT(\"'\"&Lists!$J3&\"'!\"&Lists!$K3&AM$23))))","v":""},{"$f":"IF(ISNA(Lists!$J3),\"\",IF((INDIRECT(\"'\"&Lists!$J3&\"'!\"&Lists!$K3&AN$23))=\"\",\"\",(INDIRECT(\"'\"&Lists!$J3&\"'!\"&Lists!$K3&AN$23))))","v":""},{"$f":"IF(ISNA(Lists!$J3),\"\",IF((INDIRECT(\"'\"&Lists!$J3&\"'!\"&Lists!$K3&AO$23))=\"\",\"\",(INDIRECT(\"'\"&Lists!$J3&\"'!\"&Lists!$K3&AO$23))))","v":""}]
[null,{"$f":"IF(C26=\"\",\"\",Facility_Info_upload!$B$24)","v":""},{"$f":"IF(ISNA(Lists!$J4),\"\",IF(INDIRECT(\"'\"&Lists!$J4&\"'!\"&\"B\"&C$23)=\"\",\"\",(INDIRECT(\"'\"&Lists!$J4&\"'!\"&\"B\"&C$23))))","v":""},{"$f":"IF(ISNA(Lists!$J4),\"\",IF(INDIRECT(\"'\"&Lists!$J4&\"'!\"&\"B\"&D$23)=\"\",\"\",(INDIRECT(\"'\"&Lists!$J4&\"'!\"&\"B\"&D$23))))","v":""},{"$f":"IF(ISNA(Lists!$J4),\"\",IF(INDIRECT(\"'\"&Lists!$J4&\"'!\"&\"B\"&E$23)=\"\",\"\",(INDIRECT(\"'\"&Lists!$J4&\"'!\"&\"B\"&E$23))))","v":""},{"$f":"IF(ISNA(Lists!$J4),\"\",IF(INDIRECT(\"'\"&Lists!$J4&\"'!\"&\"B\"&F$23)=\"\",\"\",(INDIRECT(\"'\"&Lists!$J4&\"'!\"&\"B\"&F$23))))","v":""},{"$f":"IF(ISNA(Lists!$J4),\"\",IF(INDIRECT(\"'\"&Lists!$J4&\"'!\"&\"B\"&G$23)=\"\",\"\",(INDIRECT(\"'\"&Lists!$J4&\"'!\"&\"B\"&G$23))))","v":""},{"$f":"IF(ISNA(Lists!$J4),\"\",IF((INDIRECT(\"'\"&Lists!$J4&\"'!\"&Lists!$K4&H$23))=\"\",\"\",(INDIRECT(\"'\"&Lists!$J4&\"'!\"&Lists!$K4&H$23))))","v":""},{"$f":"IF(ISNA(Lists!$J4),\"\",IF((INDIRECT(\"'\"&Lists!$J4&\"'!\"&Lists!$K4&I$23))=\"\",\"\",(INDIRECT(\"'\"&Lists!$J4&\"'!\"&Lists!$K4&I$23))))","v":""},{"$f":"IF(ISNA(Lists!$J4),\"\",IF((INDIRECT(\"'\"&Lists!$J4&\"'!\"&Lists!$K4&J$23))=\"\",\"\",(INDIRECT(\"'\"&Lists!$J4&\"'!\"&Lists!$K4&J$23))))","v":""},{"$f":"IF(ISNA(Lists!$J4),\"\",IF((INDIRECT(\"'\"&Lists!$J4&\"'!\"&Lists!$K4&K$23))=\"\",\"\",(INDIRECT(\"'\"&Lists!$J4&\"'!\"&Lists!$K4&K$23))))","v":""},{"$f":"IF(ISNA(Lists!$J4),\"\",IF((INDIRECT(\"'\"&Lists!$J4&\"'!\"&Lists!$K4&L$23))=\"\",\"\",(INDIRECT(\"'\"&Lists!$J4&\"'!\"&Lists!$K4&L$23))))","v":""},{"$f":"IF(ISNA(Lists!$J4),\"\",IF((INDIRECT(\"'\"&Lists!$J4&\"'!\"&Lists!$K4&M$23))=\"\",\"\",(INDIRECT(\"'\"&Lists!$J4&\"'!\"&Lists!$K4&M$23))))","v":""},{"$f":"IF(ISNA(Lists!$J4),\"\",IF((INDIRECT(\"'\"&Lists!$J4&\"'!\"&Lists!$K4&N$23))=\"\",\"\",(INDIRECT(\"'\"&Lists!$J4&\"'!\"&Lists!$K4&N$23))))","v":""},{"$f":"IF(ISNA(Lists!$J4),\"\",IF((INDIRECT(\"'\"&Lists!$J4&\"'!\"&Lists!$K4&O$23))=\"\",\"\",(INDIRECT(\"'\"&Lists!$J4&\"'!\"&Lists!$K4&O$23))))","v":""},{"$f":"IF(ISNA(Lists!$J4),\"\",IF((INDIRECT(\"'\"&Lists!$J4&\"'!\"&Lists!$K4&P$23))=\"\",\"\",(INDIRECT(\"'\"&Lists!$J4&\"'!\"&Lists!$K4&P$23))))","v":""},{"$f":"IF(ISNA(Lists!$J4),\"\",IF((INDIRECT(\"'\"&Lists!$J4&\"'!\"&Lists!$K4&Q$23))=\"\",\"\",(INDIRECT(\"'\"&Lists!$J4&\"'!\"&Lists!$K4&Q$23))))","v":""},{"$f":"IF(ISNA(Lists!$J4),\"\",IF((INDIRECT(\"'\"&Lists!$J4&\"'!\"&Lists!$K4&R$23))=\"\",\"\",(INDIRECT(\"'\"&Lists!$J4&\"'!\"&Lists!$K4&R$23))))","v":""},{"$f":"IF(ISNA(Lists!$J4),\"\",IF((INDIRECT(\"'\"&Lists!$J4&\"'!\"&Lists!$K4&S$23))=\"\",\"\",(INDIRECT(\"'\"&Lists!$J4&\"'!\"&Lists!$K4&S$23))))","v":""},{"$f":"IF(ISNA(Lists!$J4),\"\",IF((INDIRECT(\"'\"&Lists!$J4&\"'!\"&Lists!$K4&T$23))=\"\",\"\",(INDIRECT(\"'\"&Lists!$J4&\"'!\"&Lists!$K4&T$23))))","v":""},{"$f":"IF(ISNA(Lists!$J4),\"\",IF((INDIRECT(\"'\"&Lists!$J4&\"'!\"&Lists!$K4&U$23))=\"\",\"\",(INDIRECT(\"'\"&Lists!$J4&\"'!\"&Lists!$K4&U$23))))","v":""},{"$f":"IF(ISNA(Lists!$J4),\"\",IF((INDIRECT(\"'\"&Lists!$J4&\"'!\"&Lists!$L4&V$23))=\"\",\"\",(INDIRECT(\"'\"&Lists!$J4&\"'!\"&Lists!$L4&V$23))))","v":""},{"$f":"IF(ISNA(Lists!$J4),\"\",IF((INDIRECT(\"'\"&Lists!$J4&\"'!\"&Lists!$L4&W$23))=\"\",\"\",(INDIRECT(\"'\"&Lists!$J4&\"'!\"&Lists!$L4&W$23))))","v":""},{"$f":"IF(ISNA(Lists!$J4),\"\",IF((INDIRECT(\"'\"&Lists!$J4&\"'!\"&Lists!$L4&X$23))=\"\",\"\",(INDIRECT(\"'\"&Lists!$J4&\"'!\"&Lists!$L4&X$23))))","v":""},{"$f":"IF(ISNA(Lists!$J4),\"\",IF((INDIRECT(\"'\"&Lists!$J4&\"'!\"&Lists!$L4&Y$23))=\"\",\"\",(INDIRECT(\"'\"&Lists!$J4&\"'!\"&Lists!$L4&Y$23))))","v":""},{"$f":"IF(ISNA(Lists!$J4),\"\",IF((INDIRECT(\"'\"&Lists!$J4&\"'!\"&Lists!$L4&Z$23))=\"\",\"\",(INDIRECT(\"'\"&Lists!$J4&\"'!\"&Lists!$L4&Z$23))))","v":""},{"$f":"IF(ISNA(Lists!$J4),\"\",IF((INDIRECT(\"'\"&Lists!$J4&\"'!\"&Lists!$L4&AA$23))=\"\",\"\",(INDIRECT(\"'\"&Lists!$J4&\"'!\"&Lists!$L4&AA$23))))","v":""},{"$f":"IF(ISNA(Lists!$J4),\"\",IF((INDIRECT(\"'\"&Lists!$J4&\"'!\"&Lists!$L4&AB$23))=\"\",\"\",(INDIRECT(\"'\"&Lists!$J4&\"'!\"&Lists!$L4&AB$23))))","v":""},{"$f":"IF(ISNA(Lists!$J4),\"\",IF((INDIRECT(\"'\"&Lists!$J4&\"'!\"&Lists!$K4&AC$23))=\"\",\"\",(INDIRECT(\"'\"&Lists!$J4&\"'!\"&Lists!$K4&AC$23))))","v":""},{"$f":"IF(ISNA(Lists!$J4),\"\",IF((INDIRECT(\"'\"&Lists!$J4&\"'!\"&Lists!$L4&AD$23))=\"\",\"\",(INDIRECT(\"'\"&Lists!$J4&\"'!\"&Lists!$L4&AD$23))))","v":""},{"$f":"IF(ISNA(Lists!$J4),\"\",IF((INDIRECT(\"'\"&Lists!$J4&\"'!\"&Lists!$K4&AE$23))=\"\",\"\",(INDIRECT(\"'\"&Lists!$J4&\"'!\"&Lists!$K4&AE$23))))","v":""},{"$f":"IF(ISNA(Lists!$J4),\"\",IF((INDIRECT(\"'\"&Lists!$J4&\"'!\"&Lists!$K4&AF$23))=\"\",\"\",(INDIRECT(\"'\"&Lists!$J4&\"'!\"&Lists!$K4&AF$23))))","v":""},{"$f":"IF(ISNA(Lists!$J4),\"\",IF((INDIRECT(\"'\"&Lists!$J4&\"'!\"&Lists!$K4&AG$23))=\"\",\"\",(INDIRECT(\"'\"&Lists!$J4&\"'!\"&Lists!$K4&AG$23))))","v":""},{"$f":"IF(ISNA(Lists!$J4),\"\",IF((INDIRECT(\"'\"&Lists!$J4&\"'!\"&Lists!$K4&AH$23))=\"\",\"\",(INDIRECT(\"'\"&Lists!$J4&\"'!\"&Lists!$K4&AH$23))))","v":""},{"$f":"IF(ISNA(Lists!$J4),\"\",IF((INDIRECT(\"'\"&Lists!$J4&\"'!\"&Lists!$K4&AI$23))=\"\",\"\",(INDIRECT(\"'\"&Lists!$J4&\"'!\"&Lists!$K4&AI$23))))","v":""},{"$f":"IF(ISNA(Lists!$J4),\"\",IF((INDIRECT(\"'\"&Lists!$J4&\"'!\"&Lists!$K4&AJ$23))=\"\",\"\",(INDIRECT(\"'\"&Lists!$J4&\"'!\"&Lists!$K4&AJ$23))))","v":""},{"$f":"IF(ISNA(Lists!$J4),\"\",IF((INDIRECT(\"'\"&Lists!$J4&\"'!\"&Lists!$K4&AK$23))=\"\",\"\",(INDIRECT(\"'\"&Lists!$J4&\"'!\"&Lists!$K4&AK$23))))","v":""},{"$f":"IF(ISNA(Lists!$J4),\"\",IF((INDIRECT(\"'\"&Lists!$J4&\"'!\"&Lists!$K4&AL$23))=\"\",\"\",(INDIRECT(\"'\"&Lists!$J4&\"'!\"&Lists!$K4&AL$23))))","v":""},{"$f":"IF(ISNA(Lists!$J4),\"\",IF((INDIRECT(\"'\"&Lists!$J4&\"'!\"&Lists!$K4&AM$23))=\"\",\"\",(INDIRECT(\"'\"&Lists!$J4&\"'!\"&Lists!$K4&AM$23))))","v":""},{"$f":"IF(ISNA(Lists!$J4),\"\",IF((INDIRECT(\"'\"&Lists!$J4&\"'!\"&Lists!$K4&AN$23))=\"\",\"\",(INDIRECT(\"'\"&Lists!$J4&\"'!\"&Lists!$K4&AN$23))))","v":""},{"$f":"IF(ISNA(Lists!$J4),\"\",IF((INDIRECT(\"'\"&Lists!$J4&\"'!\"&Lists!$K4&AO$23))=\"\",\"\",(INDIRECT(\"'\"&Lists!$J4&\"'!\"&Lists!$K4&AO$23))))","v":""}]
[null,{"$f":"IF(C27=\"\",\"\",Facility_Info_upload!$B$24)","v":""},{"$f":"IF(ISNA(Lists!$J5),\"\",IF(INDIRECT(\"'\"&Lists!$J5&\"'!\"&\"B\"&C$23)=\"\",\"\",(INDIRECT(\"'\"&Lists!$J5&\"'!\"&\"B\"&C$23))))","v":""},{"$f":"IF(ISNA(Lists!$J5),\"\",IF(INDIRECT(\"'\"&Lists!$J5&\"'!\"&\"B\"&D$23)=\"\",\"\",(INDIRECT(\"'\"&Lists!$J5&\"'!\"&\"B\"&D$23))))","v":""},{"$f":"IF(ISNA(Lists!$J5),\"\",IF(INDIRECT(\"'\"&Lists!$J5&\"'!\"&\"B\"&E$23)=\"\",\"\",(INDIRECT(\"'\"&Lists!$J5&\"'!\"&\"B\"&E$23))))","v":""},{"$f":"IF(ISNA(Lists!$J5),\"\",IF(INDIRECT(\"'\"&Lists!$J5&\"'!\"&\"B\"&F$23)=\"\",\"\",(INDIRECT(\"'\"&Lists!$J5&\"'!\"&\"B\"&F$23))))","v":""},{"$f":"IF(ISNA(Lists!$J5),\"\",IF(INDIRECT(\"'\"&Lists!$J5&\"'!\"&\"B\"&G$23)=\"\",\"\",(INDIRECT(\"'\"&Lists!$J5&\"'!\"&\"B\"&G$23))))","v":""},{"$f":"IF(ISNA(Lists!$J5),\"\",IF((INDIRECT(\"'\"&Lists!$J5&\"'!\"&Lists!$K5&H$23))=\"\",\"\",(INDIRECT(\"'\"&Lists!$J5&\"'!\"&Lists!$K5&H$23))))","v":""},{"$f":"IF(ISNA(Lists!$J5),\"\",IF((INDIRECT(\"'\"&Lists!$J5&\"'!\"&Lists!$K5&I$23))=\"\",\"\",(INDIRECT(\"'\"&Lists!$J5&\"'!\"&Lists!$K5&I$23))))","v":""},{"$f":"IF(ISNA(Lists!$J5),\"\",IF((INDIRECT(\"'\"&Lists!$J5&\"'!\"&Lists!$K5&J$23))=\"\",\"\",(INDIRECT(\"'\"&Lists!$J5&\"'!\"&Lists!$K5&J$23))))","v":""},{"$f":"IF(ISNA(Lists!$J5),\"\",IF((INDIRECT(\"'\"&Lists!$J5&\"'!\"&Lists!$K5&K$23))=\"\",\"\",(INDIRECT(\"'\"&Lists!$J5&\"'!\"&Lists!$K5&K$23))))","v":""},{"$f":"IF(ISNA(Lists!$J5),\"\",IF((INDIRECT(\"'\"&Lists!$J5&\"'!\"&Lists!$K5&L$23))=\"\",\"\",(INDIRECT(\"'\"&Lists!$J5&\"'!\"&Lists!$K5&L$23))))","v":""},{"$f":"IF(ISNA(Lists!$J5),\"\",IF((INDIRECT(\"'\"&Lists!$J5&\"'!\"&Lists!$K5&M$23))=\"\",\"\",(INDIRECT(\"'\"&Lists!$J5&\"'!\"&Lists!$K5&M$23))))","v":""},{"$f":"IF(ISNA(Lists!$J5),\"\",IF((INDIRECT(\"'\"&Lists!$J5&\"'!\"&Lists!$K5&N$23))=\"\",\"\",(INDIRECT(\"'\"&Lists!$J5&\"'!\"&Lists!$K5&N$23))))","v":""},{"$f":"IF(ISNA(Lists!$J5),\"\",IF((INDIRECT(\"'\"&Lists!$J5&\"'!\"&Lists!$K5&O$23))=\"\",\"\",(INDIRECT(\"'\"&Lists!$J5&\"'!\"&Lists!$K5&O$23))))","v":""},{"$f":"IF(ISNA(Lists!$J5),\"\",IF((INDIRECT(\"'\"&Lists!$J5&\"'!\"&Lists!$K5&P$23))=\"\",\"\",(INDIRECT(\"'\"&Lists!$J5&\"'!\"&Lists!$K5&P$23))))","v":""},{"$f":"IF(ISNA(Lists!$J5),\"\",IF((INDIRECT(\"'\"&Lists!$J5&\"'!\"&Lists!$K5&Q$23))=\"\",\"\",(INDIRECT(\"'\"&Lists!$J5&\"'!\"&Lists!$K5&Q$23))))","v":""},{"$f":"IF(ISNA(Lists!$J5),\"\",IF((INDIRECT(\"'\"&Lists!$J5&\"'!\"&Lists!$K5&R$23))=\"\",\"\",(INDIRECT(\"'\"&Lists!$J5&\"'!\"&Lists!$K5&R$23))))","v":""},{"$f":"IF(ISNA(Lists!$J5),\"\",IF((INDIRECT(\"'\"&Lists!$J5&\"'!\"&Lists!$K5&S$23))=\"\",\"\",(INDIRECT(\"'\"&Lists!$J5&\"'!\"&Lists!$K5&S$23))))","v":""},{"$f":"IF(ISNA(Lists!$J5),\"\",IF((INDIRECT(\"'\"&Lists!$J5&\"'!\"&Lists!$K5&T$23))=\"\",\"\",(INDIRECT(\"'\"&Lists!$J5&\"'!\"&Lists!$K5&T$23))))","v":""},{"$f":"IF(ISNA(Lists!$J5),\"\",IF((INDIRECT(\"'\"&Lists!$J5&\"'!\"&Lists!$K5&U$23))=\"\",\"\",(INDIRECT(\"'\"&Lists!$J5&\"'!\"&Lists!$K5&U$23))))","v":""},{"$f":"IF(ISNA(Lists!$J5),\"\",IF((INDIRECT(\"'\"&Lists!$J5&\"'!\"&Lists!$L5&V$23))=\"\",\"\",(INDIRECT(\"'\"&Lists!$J5&\"'!\"&Lists!$L5&V$23))))","v":""},{"$f":"IF(ISNA(Lists!$J5),\"\",IF((INDIRECT(\"'\"&Lists!$J5&\"'!\"&Lists!$L5&W$23))=\"\",\"\",(INDIRECT(\"'\"&Lists!$J5&\"'!\"&Lists!$L5&W$23))))","v":""},{"$f":"IF(ISNA(Lists!$J5),\"\",IF((INDIRECT(\"'\"&Lists!$J5&\"'!\"&Lists!$L5&X$23))=\"\",\"\",(INDIRECT(\"'\"&Lists!$J5&\"'!\"&Lists!$L5&X$23))))","v":""},{"$f":"IF(ISNA(Lists!$J5),\"\",IF((INDIRECT(\"'\"&Lists!$J5&\"'!\"&Lists!$L5&Y$23))=\"\",\"\",(INDIRECT(\"'\"&Lists!$J5&\"'!\"&Lists!$L5&Y$23))))","v":""},{"$f":"IF(ISNA(Lists!$J5),\"\",IF((INDIRECT(\"'\"&Lists!$J5&\"'!\"&Lists!$L5&Z$23))=\"\",\"\",(INDIRECT(\"'\"&Lists!$J5&\"'!\"&Lists!$L5&Z$23))))","v":""},{"$f":"IF(ISNA(Lists!$J5),\"\",IF((INDIRECT(\"'\"&Lists!$J5&\"'!\"&Lists!$L5&AA$23))=\"\",\"\",(INDIRECT(\"'\"&Lists!$J5&\"'!\"&Lists!$L5&AA$23))))","v":""},{"$f":"IF(ISNA(Lists!$J5),\"\",IF((INDIRECT(\"'\"&Lists!$J5&\"'!\"&Lists!$L5&AB$23))=\"\",\"\",(INDIRECT(\"'\"&Lists!$J5&\"'!\"&Lists!$L5&AB$23))))","v":""},{"$f":"IF(ISNA(Lists!$J5),\"\",IF((INDIRECT(\"'\"&Lists!$J5&\"'!\"&Lists!$K5&AC$23))=\"\",\"\",(INDIRECT(\"'\"&Lists!$J5&\"'!\"&Lists!$K5&AC$23))))","v":""},{"$f":"IF(ISNA(Lists!$J5),\"\",IF((INDIRECT(\"'\"&Lists!$J5&\"'!\"&Lists!$L5&AD$23))=\"\",\"\",(INDIRECT(\"'\"&Lists!$J5&\"'!\"&Lists!$L5&AD$23))))","v":""},{"$f":"IF(ISNA(Lists!$J5),\"\",IF((INDIRECT(\"'\"&Lists!$J5&\"'!\"&Lists!$K5&AE$23))=\"\",\"\",(INDIRECT(\"'\"&Lists!$J5&\"'!\"&Lists!$K5&AE$23))))","v":""},{"$f":"IF(ISNA(Lists!$J5),\"\",IF((INDIRECT(\"'\"&Lists!$J5&\"'!\"&Lists!$K5&AF$23))=\"\",\"\",(INDIRECT(\"'\"&Lists!$J5&\"'!\"&Lists!$K5&AF$23))))","v":""},{"$f":"IF(ISNA(Lists!$J5),\"\",IF((INDIRECT(\"'\"&Lists!$J5&\"'!\"&Lists!$K5&AG$23))=\"\",\"\",(INDIRECT(\"'\"&Lists!$J5&\"'!\"&Lists!$K5&AG$23))))","v":""},{"$f":"IF(ISNA(Lists!$J5),\"\",IF((INDIRECT(\"'\"&Lists!$J5&\"'!\"&Lists!$K5&AH$23))=\"\",\"\",(INDIRECT(\"'\"&Lists!$J5&\"'!\"&Lists!$K5&AH$23))))","v":""},{"$f":"IF(ISNA(Lists!$J5),\"\",IF((INDIRECT(\"'\"&Lists!$J5&\"'!\"&Lists!$K5&AI$23))=\"\",\"\",(INDIRECT(\"'\"&Lists!$J5&\"'!\"&Lists!$K5&AI$23))))","v":""},{"$f":"IF(ISNA(Lists!$J5),\"\",IF((INDIRECT(\"'\"&Lists!$J5&\"'!\"&Lists!$K5&AJ$23))=\"\",\"\",(INDIRECT(\"'\"&Lists!$J5&\"'!\"&Lists!$K5&AJ$23))))","v":""},{"$f":"IF(ISNA(Lists!$J5),\"\",IF((INDIRECT(\"'\"&Lists!$J5&\"'!\"&Lists!$K5&AK$23))=\"\",\"\",(INDIRECT(\"'\"&Lists!$J5&\"'!\"&Lists!$K5&AK$23))))","v":""},{"$f":"IF(ISNA(Lists!$J5),\"\",IF((INDIRECT(\"'\"&Lists!$J5&\"'!\"&Lists!$K5&AL$23))=\"\",\"\",(INDIRECT(\"'\"&Lists!$J5&\"'!\"&Lists!$K5&AL$23))))","v":""},{"$f":"IF(ISNA(Lists!$J5),\"\",IF((INDIRECT(\"'\"&Lists!$J5&\"'!\"&Lists!$K5&AM$23))=\"\",\"\",(INDIRECT(\"'\"&Lists!$J5&\"'!\"&Lists!$K5&AM$23))))","v":""},{"$f":"IF(ISNA(Lists!$J5),\"\",IF((INDIRECT(\"'\"&Lists!$J5&\"'!\"&Lists!$K5&AN$23))=\"\",\"\",(INDIRECT(\"'\"&Lists!$J5&\"'!\"&Lists!$K5&AN$23))))","v":""},{"$f":"IF(ISNA(Lists!$J5),\"\",IF((INDIRECT(\"'\"&Lists!$J5&\"'!\"&Lists!$K5&AO$23))=\"\",\"\",(INDIRECT(\"'\"&Lists!$J5&\"'!\"&Lists!$K5&AO$23))))","v":""}]
[null,{"$f":"IF(C28=\"\",\"\",Facility_Info_upload!$B$24)","v":""},{"$f":"IF(ISNA(Lists!$J6),\"\",IF(INDIRECT(\"'\"&Lists!$J6&\"'!\"&\"B\"&C$23)=\"\",\"\",(INDIRECT(\"'\"&Lists!$J6&\"'!\"&\"B\"&C$23))))","v":""},{"$f":"IF(ISNA(Lists!$J6),\"\",IF(INDIRECT(\"'\"&Lists!$J6&\"'!\"&\"B\"&D$23)=\"\",\"\",(INDIRECT(\"'\"&Lists!$J6&\"'!\"&\"B\"&D$23))))","v":""},{"$f":"IF(ISNA(Lists!$J6),\"\",IF(INDIRECT(\"'\"&Lists!$J6&\"'!\"&\"B\"&E$23)=\"\",\"\",(INDIRECT(\"'\"&Lists!$J6&\"'!\"&\"B\"&E$23))))","v":""},{"$f":"IF(ISNA(Lists!$J6),\"\",IF(INDIRECT(\"'\"&Lists!$J6&\"'!\"&\"B\"&F$23)=\"\",\"\",(INDIRECT(\"'\"&Lists!$J6&\"'!\"&\"B\"&F$23))))","v":""},{"$f":"IF(ISNA(Lists!$J6),\"\",IF(INDIRECT(\"'\"&Lists!$J6&\"'!\"&\"B\"&G$23)=\"\",\"\",(INDIRECT(\"'\"&Lists!$J6&\"'!\"&\"B\"&G$23))))","v":""},{"$f":"IF(ISNA(Lists!$J6),\"\",IF((INDIRECT(\"'\"&Lists!$J6&\"'!\"&Lists!$K6&H$23))=\"\",\"\",(INDIRECT(\"'\"&Lists!$J6&\"'!\"&Lists!$K6&H$23))))","v":""},{"$f":"IF(ISNA(Lists!$J6),\"\",IF((INDIRECT(\"'\"&Lists!$J6&\"'!\"&Lists!$K6&I$23))=\"\",\"\",(INDIRECT(\"'\"&Lists!$J6&\"'!\"&Lists!$K6&I$23))))","v":""},{"$f":"IF(ISNA(Lists!$J6),\"\",IF((INDIRECT(\"'\"&Lists!$J6&\"'!\"&Lists!$K6&J$23))=\"\",\"\",(INDIRECT(\"'\"&Lists!$J6&\"'!\"&Lists!$K6&J$23))))","v":""},{"$f":"IF(ISNA(Lists!$J6),\"\",IF((INDIRECT(\"'\"&Lists!$J6&\"'!\"&Lists!$K6&K$23))=\"\",\"\",(INDIRECT(\"'\"&Lists!$J6&\"'!\"&Lists!$K6&K$23))))","v":""},{"$f":"IF(ISNA(Lists!$J6),\"\",IF((INDIRECT(\"'\"&Lists!$J6&\"'!\"&Lists!$K6&L$23))=\"\",\"\",(INDIRECT(\"'\"&Lists!$J6&\"'!\"&Lists!$K6&L$23))))","v":""},{"$f":"IF(ISNA(Lists!$J6),\"\",IF((INDIRECT(\"'\"&Lists!$J6&\"'!\"&Lists!$K6&M$23))=\"\",\"\",(INDIRECT(\"'\"&Lists!$J6&\"'!\"&Lists!$K6&M$23))))","v":""},{"$f":"IF(ISNA(Lists!$J6),\"\",IF((INDIRECT(\"'\"&Lists!$J6&\"'!\"&Lists!$K6&N$23))=\"\",\"\",(INDIRECT(\"'\"&Lists!$J6&\"'!\"&Lists!$K6&N$23))))","v":""},{"$f":"IF(ISNA(Lists!$J6),\"\",IF((INDIRECT(\"'\"&Lists!$J6&\"'!\"&Lists!$K6&O$23))=\"\",\"\",(INDIRECT(\"'\"&Lists!$J6&\"'!\"&Lists!$K6&O$23))))","v":""},{"$f":"IF(ISNA(Lists!$J6),\"\",IF((INDIRECT(\"'\"&Lists!$J6&\"'!\"&Lists!$K6&P$23))=\"\",\"\",(INDIRECT(\"'\"&Lists!$J6&\"'!\"&Lists!$K6&P$23))))","v":""},{"$f":"IF(ISNA(Lists!$J6),\"\",IF((INDIRECT(\"'\"&Lists!$J6&\"'!\"&Lists!$K6&Q$23))=\"\",\"\",(INDIRECT(\"'\"&Lists!$J6&\"'!\"&Lists!$K6&Q$23))))","v":""},{"$f":"IF(ISNA(Lists!$J6),\"\",IF((INDIRECT(\"'\"&Lists!$J6&\"'!\"&Lists!$K6&R$23))=\"\",\"\",(INDIRECT(\"'\"&Lists!$J6&\"'!\"&Lists!$K6&R$23))))","v":""},{"$f":"IF(ISNA(Lists!$J6),\"\",IF((INDIRECT(\"'\"&Lists!$J6&\"'!\"&Lists!$K6&S$23))=\"\",\"\",(INDIRECT(\"'\"&Lists!$J6&\"'!\"&Lists!$K6&S$23))))","v":""},{"$f":"IF(ISNA(Lists!$J6),\"\",IF((INDIRECT(\"'\"&Lists!$J6&\"'!\"&Lists!$K6&T$23))=\"\",\"\",(INDIRECT(\"'\"&Lists!$J6&\"'!\"&Lists!$K6&T$23))))","v":""},{"$f":"IF(ISNA(Lists!$J6),\"\",IF((INDIRECT(\"'\"&Lists!$J6&\"'!\"&Lists!$K6&U$23))=\"\",\"\",(INDIRECT(\"'\"&Lists!$J6&\"'!\"&Lists!$K6&U$23))))","v":""},{"$f":"IF(ISNA(Lists!$J6),\"\",IF((INDIRECT(\"'\"&Lists!$J6&\"'!\"&Lists!$L6&V$23))=\"\",\"\",(INDIRECT(\"'\"&Lists!$J6&\"'!\"&Lists!$L6&V$23))))","v":""},{"$f":"IF(ISNA(Lists!$J6),\"\",IF((INDIRECT(\"'\"&Lists!$J6&\"'!\"&Lists!$L6&W$23))=\"\",\"\",(INDIRECT(\"'\"&Lists!$J6&\"'!\"&Lists!$L6&W$23))))","v":""},{"$f":"IF(ISNA(Lists!$J6),\"\",IF((INDIRECT(\"'\"&Lists!$J6&\"'!\"&Lists!$L6&X$23))=\"\",\"\",(INDIRECT(\"'\"&Lists!$J6&\"'!\"&Lists!$L6&X$23))))","v":""},{"$f":"IF(ISNA(Lists!$J6),\"\",IF((INDIRECT(\"'\"&Lists!$J6&\"'!\"&Lists!$L6&Y$23))=\"\",\"\",(INDIRECT(\"'\"&Lists!$J6&\"'!\"&Lists!$L6&Y$23))))","v":""},{"$f":"IF(ISNA(Lists!$J6),\"\",IF((INDIRECT(\"'\"&Lists!$J6&\"'!\"&Lists!$L6&Z$23))=\"\",\"\",(INDIRECT(\"'\"&Lists!$J6&\"'!\"&Lists!$L6&Z$23))))","v":""},{"$f":"IF(ISNA(Lists!$J6),\"\",IF((INDIRECT(\"'\"&Lists!$J6&\"'!\"&Lists!$L6&AA$23))=\"\",\"\",(INDIRECT(\"'\"&Lists!$J6&\"'!\"&Lists!$L6&AA$23))))","v":""},{"$f":"IF(ISNA(Lists!$J6),\"\",IF((INDIRECT(\"'\"&Lists!$J6&\"'!\"&Lists!$L6&AB$23))=\"\",\"\",(INDIRECT(\"'\"&Lists!$J6&\"'!\"&Lists!$L6&AB$23))))","v":""},{"$f":"IF(ISNA(Lists!$J6),\"\",IF((INDIRECT(\"'\"&Lists!$J6&\"'!\"&Lists!$K6&AC$23))=\"\",\"\",(INDIRECT(\"'\"&Lists!$J6&\"'!\"&Lists!$K6&AC$23))))","v":""},{"$f":"IF(ISNA(Lists!$J6),\"\",IF((INDIRECT(\"'\"&Lists!$J6&\"'!\"&Lists!$L6&AD$23))=\"\",\"\",(INDIRECT(\"'\"&Lists!$J6&\"'!\"&Lists!$L6&AD$23))))","v":""},{"$f":"IF(ISNA(Lists!$J6),\"\",IF((INDIRECT(\"'\"&Lists!$J6&\"'!\"&Lists!$K6&AE$23))=\"\",\"\",(INDIRECT(\"'\"&Lists!$J6&\"'!\"&Lists!$K6&AE$23))))","v":""},{"$f":"IF(ISNA(Lists!$J6),\"\",IF((INDIRECT(\"'\"&Lists!$J6&\"'!\"&Lists!$K6&AF$23))=\"\",\"\",(INDIRECT(\"'\"&Lists!$J6&\"'!\"&Lists!$K6&AF$23))))","v":""},{"$f":"IF(ISNA(Lists!$J6),\"\",IF((INDIRECT(\"'\"&Lists!$J6&\"'!\"&Lists!$K6&AG$23))=\"\",\"\",(INDIRECT(\"'\"&Lists!$J6&\"'!\"&Lists!$K6&AG$23))))","v":""},{"$f":"IF(ISNA(Lists!$J6),\"\",IF((INDIRECT(\"'\"&Lists!$J6&\"'!\"&Lists!$K6&AH$23))=\"\",\"\",(INDIRECT(\"'\"&Lists!$J6&\"'!\"&Lists!$K6&AH$23))))","v":""},{"$f":"IF(ISNA(Lists!$J6),\"\",IF((INDIRECT(\"'\"&Lists!$J6&\"'!\"&Lists!$K6&AI$23))=\"\",\"\",(INDIRECT(\"'\"&Lists!$J6&\"'!\"&Lists!$K6&AI$23))))","v":""},{"$f":"IF(ISNA(Lists!$J6),\"\",IF((INDIRECT(\"'\"&Lists!$J6&\"'!\"&Lists!$K6&AJ$23))=\"\",\"\",(INDIRECT(\"'\"&Lists!$J6&\"'!\"&Lists!$K6&AJ$23))))","v":""},{"$f":"IF(ISNA(Lists!$J6),\"\",IF((INDIRECT(\"'\"&Lists!$J6&\"'!\"&Lists!$K6&AK$23))=\"\",\"\",(INDIRECT(\"'\"&Lists!$J6&\"'!\"&Lists!$K6&AK$23))))","v":""},{"$f":"IF(ISNA(Lists!$J6),\"\",IF((INDIRECT(\"'\"&Lists!$J6&\"'!\"&Lists!$K6&AL$23))=\"\",\"\",(INDIRECT(\"'\"&Lists!$J6&\"'!\"&Lists!$K6&AL$23))))","v":""},{"$f":"IF(ISNA(Lists!$J6),\"\",IF((INDIRECT(\"'\"&Lists!$J6&\"'!\"&Lists!$K6&AM$23))=\"\",\"\",(INDIRECT(\"'\"&Lists!$J6&\"'!\"&Lists!$K6&AM$23))))","v":""},{"$f":"IF(ISNA(Lists!$J6),\"\",IF((INDIRECT(\"'\"&Lists!$J6&\"'!\"&Lists!$K6&AN$23))=\"\",\"\",(INDIRECT(\"'\"&Lists!$J6&\"'!\"&Lists!$K6&AN$23))))","v":""},{"$f":"IF(ISNA(Lists!$J6),\"\",IF((INDIRECT(\"'\"&Lists!$J6&\"'!\"&Lists!$K6&AO$23))=\"\",\"\",(INDIRECT(\"'\"&Lists!$J6&\"'!\"&Lists!$K6&AO$23))))","v":""}]
[null,{"$f":"IF(C29=\"\",\"\",Facility_Info_upload!$B$24)","v":""},{"$f":"IF(ISNA(Lists!$J7),\"\",IF(INDIRECT(\"'\"&Lists!$J7&\"'!\"&\"B\"&C$23)=\"\",\"\",(INDIRECT(\"'\"&Lists!$J7&\"'!\"&\"B\"&C$23))))","v":""},{"$f":"IF(ISNA(Lists!$J7),\"\",IF(INDIRECT(\"'\"&Lists!$J7&\"'!\"&\"B\"&D$23)=\"\",\"\",(INDIRECT(\"'\"&Lists!$J7&\"'!\"&\"B\"&D$23))))","v":""},{"$f":"IF(ISNA(Lists!$J7),\"\",IF(INDIRECT(\"'\"&Lists!$J7&\"'!\"&\"B\"&E$23)=\"\",\"\",(INDIRECT(\"'\"&Lists!$J7&\"'!\"&\"B\"&E$23))))","v":""},{"$f":"IF(ISNA(Lists!$J7),\"\",IF(INDIRECT(\"'\"&Lists!$J7&\"'!\"&\"B\"&F$23)=\"\",\"\",(INDIRECT(\"'\"&Lists!$J7&\"'!\"&\"B\"&F$23))))","v":""},{"$f":"IF(ISNA(Lists!$J7),\"\",IF(INDIRECT(\"'\"&Lists!$J7&\"'!\"&\"B\"&G$23)=\"\",\"\",(INDIRECT(\"'\"&Lists!$J7&\"'!\"&\"B\"&G$23))))","v":""},{"$f":"IF(ISNA(Lists!$J7),\"\",IF((INDIRECT(\"'\"&Lists!$J7&\"'!\"&Lists!$K7&H$23))=\"\",\"\",(INDIRECT(\"'\"&Lists!$J7&\"'!\"&Lists!$K7&H$23))))","v":""},{"$f":"IF(ISNA(Lists!$J7),\"\",IF((INDIRECT(\"'\"&Lists!$J7&\"'!\"&Lists!$K7&I$23))=\"\",\"\",(INDIRECT(\"'\"&Lists!$J7&\"'!\"&Lists!$K7&I$23))))","v":""},{"$f":"IF(ISNA(Lists!$J7),\"\",IF((INDIRECT(\"'\"&Lists!$J7&\"'!\"&Lists!$K7&J$23))=\"\",\"\",(INDIRECT(\"'\"&Lists!$J7&\"'!\"&Lists!$K7&J$23))))","v":""},{"$f":"IF(ISNA(Lists!$J7),\"\",IF((INDIRECT(\"'\"&Lists!$J7&\"'!\"&Lists!$K7&K$23))=\"\",\"\",(INDIRECT(\"'\"&Lists!$J7&\"'!\"&Lists!$K7&K$23))))","v":""},{"$f":"IF(ISNA(Lists!$J7),\"\",IF((INDIRECT(\"'\"&Lists!$J7&\"'!\"&Lists!$K7&L$23))=\"\",\"\",(INDIRECT(\"'\"&Lists!$J7&\"'!\"&Lists!$K7&L$23))))","v":""},{"$f":"IF(ISNA(Lists!$J7),\"\",IF((INDIRECT(\"'\"&Lists!$J7&\"'!\"&Lists!$K7&M$23))=\"\",\"\",(INDIRECT(\"'\"&Lists!$J7&\"'!\"&Lists!$K7&M$23))))","v":""},{"$f":"IF(ISNA(Lists!$J7),\"\",IF((INDIRECT(\"'\"&Lists!$J7&\"'!\"&Lists!$K7&N$23))=\"\",\"\",(INDIRECT(\"'\"&Lists!$J7&\"'!\"&Lists!$K7&N$23))))","v":""},{"$f":"IF(ISNA(Lists!$J7),\"\",IF((INDIRECT(\"'\"&Lists!$J7&\"'!\"&Lists!$K7&O$23))=\"\",\"\",(INDIRECT(\"'\"&Lists!$J7&\"'!\"&Lists!$K7&O$23))))","v":""},{"$f":"IF(ISNA(Lists!$J7),\"\",IF((INDIRECT(\"'\"&Lists!$J7&\"'!\"&Lists!$K7&P$23))=\"\",\"\",(INDIRECT(\"'\"&Lists!$J7&\"'!\"&Lists!$K7&P$23))))","v":""},{"$f":"IF(ISNA(Lists!$J7),\"\",IF((INDIRECT(\"'\"&Lists!$J7&\"'!\"&Lists!$K7&Q$23))=\"\",\"\",(INDIRECT(\"'\"&Lists!$J7&\"'!\"&Lists!$K7&Q$23))))","v":""},{"$f":"IF(ISNA(Lists!$J7),\"\",IF((INDIRECT(\"'\"&Lists!$J7&\"'!\"&Lists!$K7&R$23))=\"\",\"\",(INDIRECT(\"'\"&Lists!$J7&\"'!\"&Lists!$K7&R$23))))","v":""},{"$f":"IF(ISNA(Lists!$J7),\"\",IF((INDIRECT(\"'\"&Lists!$J7&\"'!\"&Lists!$K7&S$23))=\"\",\"\",(INDIRECT(\"'\"&Lists!$J7&\"'!\"&Lists!$K7&S$23))))","v":""},{"$f":"IF(ISNA(Lists!$J7),\"\",IF((INDIRECT(\"'\"&Lists!$J7&\"'!\"&Lists!$K7&T$23))=\"\",\"\",(INDIRECT(\"'\"&Lists!$J7&\"'!\"&Lists!$K7&T$23))))","v":""},{"$f":"IF(ISNA(Lists!$J7),\"\",IF((INDIRECT(\"'\"&Lists!$J7&\"'!\"&Lists!$K7&U$23))=\"\",\"\",(INDIRECT(\"'\"&Lists!$J7&\"'!\"&Lists!$K7&U$23))))","v":""},{"$f":"IF(ISNA(Lists!$J7),\"\",IF((INDIRECT(\"'\"&Lists!$J7&\"'!\"&Lists!$L7&V$23))=\"\",\"\",(INDIRECT(\"'\"&Lists!$J7&\"'!\"&Lists!$L7&V$23))))","v":""},{"$f":"IF(ISNA(Lists!$J7),\"\",IF((INDIRECT(\"'\"&Lists!$J7&\"'!\"&Lists!$L7&W$23))=\"\",\"\",(INDIRECT(\"'\"&Lists!$J7&\"'!\"&Lists!$L7&W$23))))","v":""},{"$f":"IF(ISNA(Lists!$J7),\"\",IF((INDIRECT(\"'\"&Lists!$J7&\"'!\"&Lists!$L7&X$23))=\"\",\"\",(INDIRECT(\"'\"&Lists!$J7&\"'!\"&Lists!$L7&X$23))))","v":""},{"$f":"IF(ISNA(Lists!$J7),\"\",IF((INDIRECT(\"'\"&Lists!$J7&\"'!\"&Lists!$L7&Y$23))=\"\",\"\",(INDIRECT(\"'\"&Lists!$J7&\"'!\"&Lists!$L7&Y$23))))","v":""},{"$f":"IF(ISNA(Lists!$J7),\"\",IF((INDIRECT(\"'\"&Lists!$J7&\"'!\"&Lists!$L7&Z$23))=\"\",\"\",(INDIRECT(\"'\"&Lists!$J7&\"'!\"&Lists!$L7&Z$23))))","v":""},{"$f":"IF(ISNA(Lists!$J7),\"\",IF((INDIRECT(\"'\"&Lists!$J7&\"'!\"&Lists!$L7&AA$23))=\"\",\"\",(INDIRECT(\"'\"&Lists!$J7&\"'!\"&Lists!$L7&AA$23))))","v":""},{"$f":"IF(ISNA(Lists!$J7),\"\",IF((INDIRECT(\"'\"&Lists!$J7&\"'!\"&Lists!$L7&AB$23))=\"\",\"\",(INDIRECT(\"'\"&Lists!$J7&\"'!\"&Lists!$L7&AB$23))))","v":""},{"$f":"IF(ISNA(Lists!$J7),\"\",IF((INDIRECT(\"'\"&Lists!$J7&\"'!\"&Lists!$K7&AC$23))=\"\",\"\",(INDIRECT(\"'\"&Lists!$J7&\"'!\"&Lists!$K7&AC$23))))","v":""},{"$f":"IF(ISNA(Lists!$J7),\"\",IF((INDIRECT(\"'\"&Lists!$J7&\"'!\"&Lists!$L7&AD$23))=\"\",\"\",(INDIRECT(\"'\"&Lists!$J7&\"'!\"&Lists!$L7&AD$23))))","v":""},{"$f":"IF(ISNA(Lists!$J7),\"\",IF((INDIRECT(\"'\"&Lists!$J7&\"'!\"&Lists!$K7&AE$23))=\"\",\"\",(INDIRECT(\"'\"&Lists!$J7&\"'!\"&Lists!$K7&AE$23))))","v":""},{"$f":"IF(ISNA(Lists!$J7),\"\",IF((INDIRECT(\"'\"&Lists!$J7&\"'!\"&Lists!$K7&AF$23))=\"\",\"\",(INDIRECT(\"'\"&Lists!$J7&\"'!\"&Lists!$K7&AF$23))))","v":""},{"$f":"IF(ISNA(Lists!$J7),\"\",IF((INDIRECT(\"'\"&Lists!$J7&\"'!\"&Lists!$K7&AG$23))=\"\",\"\",(INDIRECT(\"'\"&Lists!$J7&\"'!\"&Lists!$K7&AG$23))))","v":""},{"$f":"IF(ISNA(Lists!$J7),\"\",IF((INDIRECT(\"'\"&Lists!$J7&\"'!\"&Lists!$K7&AH$23))=\"\",\"\",(INDIRECT(\"'\"&Lists!$J7&\"'!\"&Lists!$K7&AH$23))))","v":""},{"$f":"IF(ISNA(Lists!$J7),\"\",IF((INDIRECT(\"'\"&Lists!$J7&\"'!\"&Lists!$K7&AI$23))=\"\",\"\",(INDIRECT(\"'\"&Lists!$J7&\"'!\"&Lists!$K7&AI$23))))","v":""},{"$f":"IF(ISNA(Lists!$J7),\"\",IF((INDIRECT(\"'\"&Lists!$J7&\"'!\"&Lists!$K7&AJ$23))=\"\",\"\",(INDIRECT(\"'\"&Lists!$J7&\"'!\"&Lists!$K7&AJ$23))))","v":""},{"$f":"IF(ISNA(Lists!$J7),\"\",IF((INDIRECT(\"'\"&Lists!$J7&\"'!\"&Lists!$K7&AK$23))=\"\",\"\",(INDIRECT(\"'\"&Lists!$J7&\"'!\"&Lists!$K7&AK$23))))","v":""},{"$f":"IF(ISNA(Lists!$J7),\"\",IF((INDIRECT(\"'\"&Lists!$J7&\"'!\"&Lists!$K7&AL$23))=\"\",\"\",(INDIRECT(\"'\"&Lists!$J7&\"'!\"&Lists!$K7&AL$23))))","v":""},{"$f":"IF(ISNA(Lists!$J7),\"\",IF((INDIRECT(\"'\"&Lists!$J7&\"'!\"&Lists!$K7&AM$23))=\"\",\"\",(INDIRECT(\"'\"&Lists!$J7&\"'!\"&Lists!$K7&AM$23))))","v":""},{"$f":"IF(ISNA(Lists!$J7),\"\",IF((INDIRECT(\"'\"&Lists!$J7&\"'!\"&Lists!$K7&AN$23))=\"\",\"\",(INDIRECT(\"'\"&Lists!$J7&\"'!\"&Lists!$K7&AN$23))))","v":""},{"$f":"IF(ISNA(Lists!$J7),\"\",IF((INDIRECT(\"'\"&Lists!$J7&\"'!\"&Lists!$K7&AO$23))=\"\",\"\",(INDIRECT(\"'\"&Lists!$J7&\"'!\"&Lists!$K7&AO$23))))","v":""}]
[null,{"$f":"IF(C30=\"\",\"\",Facility_Info_upload!$B$24)","v":""},{"$f":"IF(ISNA(Lists!$J8),\"\",IF(INDIRECT(\"'\"&Lists!$J8&\"'!\"&\"B\"&C$23)=\"\",\"\",(INDIRECT(\"'\"&Lists!$J8&\"'!\"&\"B\"&C$23))))","v":""},{"$f":"IF(ISNA(Lists!$J8),\"\",IF(INDIRECT(\"'\"&Lists!$J8&\"'!\"&\"B\"&D$23)=\"\",\"\",(INDIRECT(\"'\"&Lists!$J8&\"'!\"&\"B\"&D$23))))","v":""},{"$f":"IF(ISNA(Lists!$J8),\"\",IF(INDIRECT(\"'\"&Lists!$J8&\"'!\"&\"B\"&E$23)=\"\",\"\",(INDIRECT(\"'\"&Lists!$J8&\"'!\"&\"B\"&E$23))))","v":""},{"$f":"IF(ISNA(Lists!$J8),\"\",IF(INDIRECT(\"'\"&Lists!$J8&\"'!\"&\"B\"&F$23)=\"\",\"\",(INDIRECT(\"'\"&Lists!$J8&\"'!\"&\"B\"&F$23))))","v":""},{"$f":"IF(ISNA(Lists!$J8),\"\",IF(INDIRECT(\"'\"&Lists!$J8&\"'!\"&\"B\"&G$23)=\"\",\"\",(INDIRECT(\"'\"&Lists!$J8&\"'!\"&\"B\"&G$23))))","v":""},{"$f":"IF(ISNA(Lists!$J8),\"\",IF((INDIRECT(\"'\"&Lists!$J8&\"'!\"&Lists!$K8&H$23))=\"\",\"\",(INDIRECT(\"'\"&Lists!$J8&\"'!\"&Lists!$K8&H$23))))","v":""},{"$f":"IF(ISNA(Lists!$J8),\"\",IF((INDIRECT(\"'\"&Lists!$J8&\"'!\"&Lists!$K8&I$23))=\"\",\"\",(INDIRECT(\"'\"&Lists!$J8&\"'!\"&Lists!$K8&I$23))))","v":""},{"$f":"IF(ISNA(Lists!$J8),\"\",IF((INDIRECT(\"'\"&Lists!$J8&\"'!\"&Lists!$K8&J$23))=\"\",\"\",(INDIRECT(\"'\"&Lists!$J8&\"'!\"&Lists!$K8&J$23))))","v":""},{"$f":"IF(ISNA(Lists!$J8),\"\",IF((INDIRECT(\"'\"&Lists!$J8&\"'!\"&Lists!$K8&K$23))=\"\",\"\",(INDIRECT(\"'\"&Lists!$J8&\"'!\"&Lists!$K8&K$23))))","v":""},{"$f":"IF(ISNA(Lists!$J8),\"\",IF((INDIRECT(\"'\"&Lists!$J8&\"'!\"&Lists!$K8&L$23))=\"\",\"\",(INDIRECT(\"'\"&Lists!$J8&\"'!\"&Lists!$K8&L$23))))","v":""},{"$f":"IF(ISNA(Lists!$J8),\"\",IF((INDIRECT(\"'\"&Lists!$J8&\"'!\"&Lists!$K8&M$23))=\"\",\"\",(INDIRECT(\"'\"&Lists!$J8&\"'!\"&Lists!$K8&M$23))))","v":""},{"$f":"IF(ISNA(Lists!$J8),\"\",IF((INDIRECT(\"'\"&Lists!$J8&\"'!\"&Lists!$K8&N$23))=\"\",\"\",(INDIRECT(\"'\"&Lists!$J8&\"'!\"&Lists!$K8&N$23))))","v":""},{"$f":"IF(ISNA(Lists!$J8),\"\",IF((INDIRECT(\"'\"&Lists!$J8&\"'!\"&Lists!$K8&O$23))=\"\",\"\",(INDIRECT(\"'\"&Lists!$J8&\"'!\"&Lists!$K8&O$23))))","v":""},{"$f":"IF(ISNA(Lists!$J8),\"\",IF((INDIRECT(\"'\"&Lists!$J8&\"'!\"&Lists!$K8&P$23))=\"\",\"\",(INDIRECT(\"'\"&Lists!$J8&\"'!\"&Lists!$K8&P$23))))","v":""},{"$f":"IF(ISNA(Lists!$J8),\"\",IF((INDIRECT(\"'\"&Lists!$J8&\"'!\"&Lists!$K8&Q$23))=\"\",\"\",(INDIRECT(\"'\"&Lists!$J8&\"'!\"&Lists!$K8&Q$23))))","v":""},{"$f":"IF(ISNA(Lists!$J8),\"\",IF((INDIRECT(\"'\"&Lists!$J8&\"'!\"&Lists!$K8&R$23))=\"\",\"\",(INDIRECT(\"'\"&Lists!$J8&\"'!\"&Lists!$K8&R$23))))","v":""},{"$f":"IF(ISNA(Lists!$J8),\"\",IF((INDIRECT(\"'\"&Lists!$J8&\"'!\"&Lists!$K8&S$23))=\"\",\"\",(INDIRECT(\"'\"&Lists!$J8&\"'!\"&Lists!$K8&S$23))))","v":""},{"$f":"IF(ISNA(Lists!$J8),\"\",IF((INDIRECT(\"'\"&Lists!$J8&\"'!\"&Lists!$K8&T$23))=\"\",\"\",(INDIRECT(\"'\"&Lists!$J8&\"'!\"&Lists!$K8&T$23))))","v":""},{"$f":"IF(ISNA(Lists!$J8),\"\",IF((INDIRECT(\"'\"&Lists!$J8&\"'!\"&Lists!$K8&U$23))=\"\",\"\",(INDIRECT(\"'\"&Lists!$J8&\"'!\"&Lists!$K8&U$23))))","v":""},{"$f":"IF(ISNA(Lists!$J8),\"\",IF((INDIRECT(\"'\"&Lists!$J8&\"'!\"&Lists!$L8&V$23))=\"\",\"\",(INDIRECT(\"'\"&Lists!$J8&\"'!\"&Lists!$L8&V$23))))","v":""},{"$f":"IF(ISNA(Lists!$J8),\"\",IF((INDIRECT(\"'\"&Lists!$J8&\"'!\"&Lists!$L8&W$23))=\"\",\"\",(INDIRECT(\"'\"&Lists!$J8&\"'!\"&Lists!$L8&W$23))))","v":""},{"$f":"IF(ISNA(Lists!$J8),\"\",IF((INDIRECT(\"'\"&Lists!$J8&\"'!\"&Lists!$L8&X$23))=\"\",\"\",(INDIRECT(\"'\"&Lists!$J8&\"'!\"&Lists!$L8&X$23))))","v":""},{"$f":"IF(ISNA(Lists!$J8),\"\",IF((INDIRECT(\"'\"&Lists!$J8&\"'!\"&Lists!$L8&Y$23))=\"\",\"\",(INDIRECT(\"'\"&Lists!$J8&\"'!\"&Lists!$L8&Y$23))))","v":""},{"$f":"IF(ISNA(Lists!$J8),\"\",IF((INDIRECT(\"'\"&Lists!$J8&\"'!\"&Lists!$L8&Z$23))=\"\",\"\",(INDIRECT(\"'\"&Lists!$J8&\"'!\"&Lists!$L8&Z$23))))","v":""},{"$f":"IF(ISNA(Lists!$J8),\"\",IF((INDIRECT(\"'\"&Lists!$J8&\"'!\"&Lists!$L8&AA$23))=\"\",\"\",(INDIRECT(\"'\"&Lists!$J8&\"'!\"&Lists!$L8&AA$23))))","v":""},{"$f":"IF(ISNA(Lists!$J8),\"\",IF((INDIRECT(\"'\"&Lists!$J8&\"'!\"&Lists!$L8&AB$23))=\"\",\"\",(INDIRECT(\"'\"&Lists!$J8&\"'!\"&Lists!$L8&AB$23))))","v":""},{"$f":"IF(ISNA(Lists!$J8),\"\",IF((INDIRECT(\"'\"&Lists!$J8&\"'!\"&Lists!$K8&AC$23))=\"\",\"\",(INDIRECT(\"'\"&Lists!$J8&\"'!\"&Lists!$K8&AC$23))))","v":""},{"$f":"IF(ISNA(Lists!$J8),\"\",IF((INDIRECT(\"'\"&Lists!$J8&\"'!\"&Lists!$L8&AD$23))=\"\",\"\",(INDIRECT(\"'\"&Lists!$J8&\"'!\"&Lists!$L8&AD$23))))","v":""},{"$f":"IF(ISNA(Lists!$J8),\"\",IF((INDIRECT(\"'\"&Lists!$J8&\"'!\"&Lists!$K8&AE$23))=\"\",\"\",(INDIRECT(\"'\"&Lists!$J8&\"'!\"&Lists!$K8&AE$23))))","v":""},{"$f":"IF(ISNA(Lists!$J8),\"\",IF((INDIRECT(\"'\"&Lists!$J8&\"'!\"&Lists!$K8&AF$23))=\"\",\"\",(INDIRECT(\"'\"&Lists!$J8&\"'!\"&Lists!$K8&AF$23))))","v":""},{"$f":"IF(ISNA(Lists!$J8),\"\",IF((INDIRECT(\"'\"&Lists!$J8&\"'!\"&Lists!$K8&AG$23))=\"\",\"\",(INDIRECT(\"'\"&Lists!$J8&\"'!\"&Lists!$K8&AG$23))))","v":""},{"$f":"IF(ISNA(Lists!$J8),\"\",IF((INDIRECT(\"'\"&Lists!$J8&\"'!\"&Lists!$K8&AH$23))=\"\",\"\",(INDIRECT(\"'\"&Lists!$J8&\"'!\"&Lists!$K8&AH$23))))","v":""},{"$f":"IF(ISNA(Lists!$J8),\"\",IF((INDIRECT(\"'\"&Lists!$J8&\"'!\"&Lists!$K8&AI$23))=\"\",\"\",(INDIRECT(\"'\"&Lists!$J8&\"'!\"&Lists!$K8&AI$23))))","v":""},{"$f":"IF(ISNA(Lists!$J8),\"\",IF((INDIRECT(\"'\"&Lists!$J8&\"'!\"&Lists!$K8&AJ$23))=\"\",\"\",(INDIRECT(\"'\"&Lists!$J8&\"'!\"&Lists!$K8&AJ$23))))","v":""},{"$f":"IF(ISNA(Lists!$J8),\"\",IF((INDIRECT(\"'\"&Lists!$J8&\"'!\"&Lists!$K8&AK$23))=\"\",\"\",(INDIRECT(\"'\"&Lists!$J8&\"'!\"&Lists!$K8&AK$23))))","v":""},{"$f":"IF(ISNA(Lists!$J8),\"\",IF((INDIRECT(\"'\"&Lists!$J8&\"'!\"&Lists!$K8&AL$23))=\"\",\"\",(INDIRECT(\"'\"&Lists!$J8&\"'!\"&Lists!$K8&AL$23))))","v":""},{"$f":"IF(ISNA(Lists!$J8),\"\",IF((INDIRECT(\"'\"&Lists!$J8&\"'!\"&Lists!$K8&AM$23))=\"\",\"\",(INDIRECT(\"'\"&Lists!$J8&\"'!\"&Lists!$K8&AM$23))))","v":""},{"$f":"IF(ISNA(Lists!$J8),\"\",IF((INDIRECT(\"'\"&Lists!$J8&\"'!\"&Lists!$K8&AN$23))=\"\",\"\",(INDIRECT(\"'\"&Lists!$J8&\"'!\"&Lists!$K8&AN$23))))","v":""},{"$f":"IF(ISNA(Lists!$J8),\"\",IF((INDIRECT(\"'\"&Lists!$J8&\"'!\"&Lists!$K8&AO$23))=\"\",\"\",(INDIRECT(\"'\"&Lists!$J8&\"'!\"&Lists!$K8&AO$23))))","v":""}]
[null,{"$f":"IF(C31=\"\",\"\",Facility_Info_upload!$B$24)","v":""},{"$f":"IF(ISNA(Lists!$J9),\"\",IF(INDIRECT(\"'\"&Lists!$J9&\"'!\"&\"B\"&C$23)=\"\",\"\",(INDIRECT(\"'\"&Lists!$J9&\"'!\"&\"B\"&C$23))))","v":""},{"$f":"IF(ISNA(Lists!$J9),\"\",IF(INDIRECT(\"'\"&Lists!$J9&\"'!\"&\"B\"&D$23)=\"\",\"\",(INDIRECT(\"'\"&Lists!$J9&\"'!\"&\"B\"&D$23))))","v":""},{"$f":"IF(ISNA(Lists!$J9),\"\",IF(INDIRECT(\"'\"&Lists!$J9&\"'!\"&\"B\"&E$23)=\"\",\"\",(INDIRECT(\"'\"&Lists!$J9&\"'!\"&\"B\"&E$23))))","v":""},{"$f":"IF(ISNA(Lists!$J9),\"\",IF(INDIRECT(\"'\"&Lists!$J9&\"'!\"&\"B\"&F$23)=\"\",\"\",(INDIRECT(\"'\"&Lists!$J9&\"'!\"&\"B\"&F$23))))","v":""},{"$f":"IF(ISNA(Lists!$J9),\"\",IF(INDIRECT(\"'\"&Lists!$J9&\"'!\"&\"B\"&G$23)=\"\",\"\",(INDIRECT(\"'\"&Lists!$J9&\"'!\"&\"B\"&G$23))))","v":""},{"$f":"IF(ISNA(Lists!$J9),\"\",IF((INDIRECT(\"'\"&Lists!$J9&\"'!\"&Lists!$K9&H$23))=\"\",\"\",(INDIRECT(\"'\"&Lists!$J9&\"'!\"&Lists!$K9&H$23))))","v":""},{"$f":"IF(ISNA(Lists!$J9),\"\",IF((INDIRECT(\"'\"&Lists!$J9&\"'!\"&Lists!$K9&I$23))=\"\",\"\",(INDIRECT(\"'\"&Lists!$J9&\"'!\"&Lists!$K9&I$23))))","v":""},{"$f":"IF(ISNA(Lists!$J9),\"\",IF((INDIRECT(\"'\"&Lists!$J9&\"'!\"&Lists!$K9&J$23))=\"\",\"\",(INDIRECT(\"'\"&Lists!$J9&\"'!\"&Lists!$K9&J$23))))","v":""},{"$f":"IF(ISNA(Lists!$J9),\"\",IF((INDIRECT(\"'\"&Lists!$J9&\"'!\"&Lists!$K9&K$23))=\"\",\"\",(INDIRECT(\"'\"&Lists!$J9&\"'!\"&Lists!$K9&K$23))))","v":""},{"$f":"IF(ISNA(Lists!$J9),\"\",IF((INDIRECT(\"'\"&Lists!$J9&\"'!\"&Lists!$K9&L$23))=\"\",\"\",(INDIRECT(\"'\"&Lists!$J9&\"'!\"&Lists!$K9&L$23))))","v":""},{"$f":"IF(ISNA(Lists!$J9),\"\",IF((INDIRECT(\"'\"&Lists!$J9&\"'!\"&Lists!$K9&M$23))=\"\",\"\",(INDIRECT(\"'\"&Lists!$J9&\"'!\"&Lists!$K9&M$23))))","v":""},{"$f":"IF(ISNA(Lists!$J9),\"\",IF((INDIRECT(\"'\"&Lists!$J9&\"'!\"&Lists!$K9&N$23))=\"\",\"\",(INDIRECT(\"'\"&Lists!$J9&\"'!\"&Lists!$K9&N$23))))","v":""},{"$f":"IF(ISNA(Lists!$J9),\"\",IF((INDIRECT(\"'\"&Lists!$J9&\"'!\"&Lists!$K9&O$23))=\"\",\"\",(INDIRECT(\"'\"&Lists!$J9&\"'!\"&Lists!$K9&O$23))))","v":""},{"$f":"IF(ISNA(Lists!$J9),\"\",IF((INDIRECT(\"'\"&Lists!$J9&\"'!\"&Lists!$K9&P$23))=\"\",\"\",(INDIRECT(\"'\"&Lists!$J9&\"'!\"&Lists!$K9&P$23))))","v":""},{"$f":"IF(ISNA(Lists!$J9),\"\",IF((INDIRECT(\"'\"&Lists!$J9&\"'!\"&Lists!$K9&Q$23))=\"\",\"\",(INDIRECT(\"'\"&Lists!$J9&\"'!\"&Lists!$K9&Q$23))))","v":""},{"$f":"IF(ISNA(Lists!$J9),\"\",IF((INDIRECT(\"'\"&Lists!$J9&\"'!\"&Lists!$K9&R$23))=\"\",\"\",(INDIRECT(\"'\"&Lists!$J9&\"'!\"&Lists!$K9&R$23))))","v":""},{"$f":"IF(ISNA(Lists!$J9),\"\",IF((INDIRECT(\"'\"&Lists!$J9&\"'!\"&Lists!$K9&S$23))=\"\",\"\",(INDIRECT(\"'\"&Lists!$J9&\"'!\"&Lists!$K9&S$23))))","v":""},{"$f":"IF(ISNA(Lists!$J9),\"\",IF((INDIRECT(\"'\"&Lists!$J9&\"'!\"&Lists!$K9&T$23))=\"\",\"\",(INDIRECT(\"'\"&Lists!$J9&\"'!\"&Lists!$K9&T$23))))","v":""},{"$f":"IF(ISNA(Lists!$J9),\"\",IF((INDIRECT(\"'\"&Lists!$J9&\"'!\"&Lists!$K9&U$23))=\"\",\"\",(INDIRECT(\"'\"&Lists!$J9&\"'!\"&Lists!$K9&U$23))))","v":""},{"$f":"IF(ISNA(Lists!$J9),\"\",IF((INDIRECT(\"'\"&Lists!$J9&\"'!\"&Lists!$L9&V$23))=\"\",\"\",(INDIRECT(\"'\"&Lists!$J9&\"'!\"&Lists!$L9&V$23))))","v":""},{"$f":"IF(ISNA(Lists!$J9),\"\",IF((INDIRECT(\"'\"&Lists!$J9&\"'!\"&Lists!$L9&W$23))=\"\",\"\",(INDIRECT(\"'\"&Lists!$J9&\"'!\"&Lists!$L9&W$23))))","v":""},{"$f":"IF(ISNA(Lists!$J9),\"\",IF((INDIRECT(\"'\"&Lists!$J9&\"'!\"&Lists!$L9&X$23))=\"\",\"\",(INDIRECT(\"'\"&Lists!$J9&\"'!\"&Lists!$L9&X$23))))","v":""},{"$f":"IF(ISNA(Lists!$J9),\"\",IF((INDIRECT(\"'\"&Lists!$J9&\"'!\"&Lists!$L9&Y$23))=\"\",\"\",(INDIRECT(\"'\"&Lists!$J9&\"'!\"&Lists!$L9&Y$23))))","v":""},{"$f":"IF(ISNA(Lists!$J9),\"\",IF((INDIRECT(\"'\"&Lists!$J9&\"'!\"&Lists!$L9&Z$23))=\"\",\"\",(INDIRECT(\"'\"&Lists!$J9&\"'!\"&Lists!$L9&Z$23))))","v":""},{"$f":"IF(ISNA(Lists!$J9),\"\",IF((INDIRECT(\"'\"&Lists!$J9&\"'!\"&Lists!$L9&AA$23))=\"\",\"\",(INDIRECT(\"'\"&Lists!$J9&\"'!\"&Lists!$L9&AA$23))))","v":""},{"$f":"IF(ISNA(Lists!$J9),\"\",IF((INDIRECT(\"'\"&Lists!$J9&\"'!\"&Lists!$L9&AB$23))=\"\",\"\",(INDIRECT(\"'\"&Lists!$J9&\"'!\"&Lists!$L9&AB$23))))","v":""},{"$f":"IF(ISNA(Lists!$J9),\"\",IF((INDIRECT(\"'\"&Lists!$J9&\"'!\"&Lists!$K9&AC$23))=\"\",\"\",(INDIRECT(\"'\"&Lists!$J9&\"'!\"&Lists!$K9&AC$23))))","v":""},{"$f":"IF(ISNA(Lists!$J9),\"\",IF((INDIRECT(\"'\"&Lists!$J9&\"'!\"&Lists!$L9&AD$23))=\"\",\"\",(INDIRECT(\"'\"&Lists!$J9&\"'!\"&Lists!$L9&AD$23))))","v":""},{"$f":"IF(ISNA(Lists!$J9),\"\",IF((INDIRECT(\"'\"&Lists!$J9&\"'!\"&Lists!$K9&AE$23))=\"\",\"\",(INDIRECT(\"'\"&Lists!$J9&\"'!\"&Lists!$K9&AE$23))))","v":""},{"$f":"IF(ISNA(Lists!$J9),\"\",IF((INDIRECT(\"'\"&Lists!$J9&\"'!\"&Lists!$K9&AF$23))=\"\",\"\",(INDIRECT(\"'\"&Lists!$J9&\"'!\"&Lists!$K9&AF$23))))","v":""},{"$f":"IF(ISNA(Lists!$J9),\"\",IF((INDIRECT(\"'\"&Lists!$J9&\"'!\"&Lists!$K9&AG$23))=\"\",\"\",(INDIRECT(\"'\"&Lists!$J9&\"'!\"&Lists!$K9&AG$23))))","v":""},{"$f":"IF(ISNA(Lists!$J9),\"\",IF((INDIRECT(\"'\"&Lists!$J9&\"'!\"&Lists!$K9&AH$23))=\"\",\"\",(INDIRECT(\"'\"&Lists!$J9&\"'!\"&Lists!$K9&AH$23))))","v":""},{"$f":"IF(ISNA(Lists!$J9),\"\",IF((INDIRECT(\"'\"&Lists!$J9&\"'!\"&Lists!$K9&AI$23))=\"\",\"\",(INDIRECT(\"'\"&Lists!$J9&\"'!\"&Lists!$K9&AI$23))))","v":""},{"$f":"IF(ISNA(Lists!$J9),\"\",IF((INDIRECT(\"'\"&Lists!$J9&\"'!\"&Lists!$K9&AJ$23))=\"\",\"\",(INDIRECT(\"'\"&Lists!$J9&\"'!\"&Lists!$K9&AJ$23))))","v":""},{"$f":"IF(ISNA(Lists!$J9),\"\",IF((INDIRECT(\"'\"&Lists!$J9&\"'!\"&Lists!$K9&AK$23))=\"\",\"\",(INDIRECT(\"'\"&Lists!$J9&\"'!\"&Lists!$K9&AK$23))))","v":""},{"$f":"IF(ISNA(Lists!$J9),\"\",IF((INDIRECT(\"'\"&Lists!$J9&\"'!\"&Lists!$K9&AL$23))=\"\",\"\",(INDIRECT(\"'\"&Lists!$J9&\"'!\"&Lists!$K9&AL$23))))","v":""},{"$f":"IF(ISNA(Lists!$J9),\"\",IF((INDIRECT(\"'\"&Lists!$J9&\"'!\"&Lists!$K9&AM$23))=\"\",\"\",(INDIRECT(\"'\"&Lists!$J9&\"'!\"&Lists!$K9&AM$23))))","v":""},{"$f":"IF(ISNA(Lists!$J9),\"\",IF((INDIRECT(\"'\"&Lists!$J9&\"'!\"&Lists!$K9&AN$23))=\"\",\"\",(INDIRECT(\"'\"&Lists!$J9&\"'!\"&Lists!$K9&AN$23))))","v":""},{"$f":"IF(ISNA(Lists!$J9),\"\",IF((INDIRECT(\"'\"&Lists!$J9&\"'!\"&Lists!$K9&AO$23))=\"\",\"\",(INDIRECT(\"'\"&Lists!$J9&\"'!\"&Lists!$K9&AO$23))))","v":""}]
[null,{"$f":"IF(C32=\"\",\"\",Facility_Info_upload!$B$24)","v":""},{"$f":"IF(ISNA(Lists!$J10),\"\",IF(INDIRECT(\"'\"&Lists!$J10&\"'!\"&\"B\"&C$23)=\"\",\"\",(INDIRECT(\"'\"&Lists!$J10&\"'!\"&\"B\"&C$23))))","v":""},{"$f":"IF(ISNA(Lists!$J10),\"\",IF(INDIRECT(\"'\"&Lists!$J10&\"'!\"&\"B\"&D$23)=\"\",\"\",(INDIRECT(\"'\"&Lists!$J10&\"'!\"&\"B\"&D$23))))","v":""},{"$f":"IF(ISNA(Lists!$J10),\"\",IF(INDIRECT(\"'\"&Lists!$J10&\"'!\"&\"B\"&E$23)=\"\",\"\",(INDIRECT(\"'\"&Lists!$J10&\"'!\"&\"B\"&E$23))))","v":""},{"$f":"IF(ISNA(Lists!$J10),\"\",IF(INDIRECT(\"'\"&Lists!$J10&\"'!\"&\"B\"&F$23)=\"\",\"\",(INDIRECT(\"'\"&Lists!$J10&\"'!\"&\"B\"&F$23))))","v":""},{"$f":"IF(ISNA(Lists!$J10),\"\",IF(INDIRECT(\"'\"&Lists!$J10&\"'!\"&\"B\"&G$23)=\"\",\"\",(INDIRECT(\"'\"&Lists!$J10&\"'!\"&\"B\"&G$23))))","v":""},{"$f":"IF(ISNA(Lists!$J10),\"\",IF((INDIRECT(\"'\"&Lists!$J10&\"'!\"&Lists!$K10&H$23))=\"\",\"\",(INDIRECT(\"'\"&Lists!$J10&\"'!\"&Lists!$K10&H$23))))","v":""},{"$f":"IF(ISNA(Lists!$J10),\"\",IF((INDIRECT(\"'\"&Lists!$J10&\"'!\"&Lists!$K10&I$23))=\"\",\"\",(INDIRECT(\"'\"&Lists!$J10&\"'!\"&Lists!$K10&I$23))))","v":""},{"$f":"IF(ISNA(Lists!$J10),\"\",IF((INDIRECT(\"'\"&Lists!$J10&\"'!\"&Lists!$K10&J$23))=\"\",\"\",(INDIRECT(\"'\"&Lists!$J10&\"'!\"&Lists!$K10&J$23))))","v":""},{"$f":"IF(ISNA(Lists!$J10),\"\",IF((INDIRECT(\"'\"&Lists!$J10&\"'!\"&Lists!$K10&K$23))=\"\",\"\",(INDIRECT(\"'\"&Lists!$J10&\"'!\"&Lists!$K10&K$23))))","v":""},{"$f":"IF(ISNA(Lists!$J10),\"\",IF((INDIRECT(\"'\"&Lists!$J10&\"'!\"&Lists!$K10&L$23))=\"\",\"\",(INDIRECT(\"'\"&Lists!$J10&\"'!\"&Lists!$K10&L$23))))","v":""},{"$f":"IF(ISNA(Lists!$J10),\"\",IF((INDIRECT(\"'\"&Lists!$J10&\"'!\"&Lists!$K10&M$23))=\"\",\"\",(INDIRECT(\"'\"&Lists!$J10&\"'!\"&Lists!$K10&M$23))))","v":""},{"$f":"IF(ISNA(Lists!$J10),\"\",IF((INDIRECT(\"'\"&Lists!$J10&\"'!\"&Lists!$K10&N$23))=\"\",\"\",(INDIRECT(\"'\"&Lists!$J10&\"'!\"&Lists!$K10&N$23))))","v":""},{"$f":"IF(ISNA(Lists!$J10),\"\",IF((INDIRECT(\"'\"&Lists!$J10&\"'!\"&Lists!$K10&O$23))=\"\",\"\",(INDIRECT(\"'\"&Lists!$J10&\"'!\"&Lists!$K10&O$23))))","v":""},{"$f":"IF(ISNA(Lists!$J10),\"\",IF((INDIRECT(\"'\"&Lists!$J10&\"'!\"&Lists!$K10&P$23))=\"\",\"\",(INDIRECT(\"'\"&Lists!$J10&\"'!\"&Lists!$K10&P$23))))","v":""},{"$f":"IF(ISNA(Lists!$J10),\"\",IF((INDIRECT(\"'\"&Lists!$J10&\"'!\"&Lists!$K10&Q$23))=\"\",\"\",(INDIRECT(\"'\"&Lists!$J10&\"'!\"&Lists!$K10&Q$23))))","v":""},{"$f":"IF(ISNA(Lists!$J10),\"\",IF((INDIRECT(\"'\"&Lists!$J10&\"'!\"&Lists!$K10&R$23))=\"\",\"\",(INDIRECT(\"'\"&Lists!$J10&\"'!\"&Lists!$K10&R$23))))","v":""},{"$f":"IF(ISNA(Lists!$J10),\"\",IF((INDIRECT(\"'\"&Lists!$J10&\"'!\"&Lists!$K10&S$23))=\"\",\"\",(INDIRECT(\"'\"&Lists!$J10&\"'!\"&Lists!$K10&S$23))))","v":""},{"$f":"IF(ISNA(Lists!$J10),\"\",IF((INDIRECT(\"'\"&Lists!$J10&\"'!\"&Lists!$K10&T$23))=\"\",\"\",(INDIRECT(\"'\"&Lists!$J10&\"'!\"&Lists!$K10&T$23))))","v":""},{"$f":"IF(ISNA(Lists!$J10),\"\",IF((INDIRECT(\"'\"&Lists!$J10&\"'!\"&Lists!$K10&U$23))=\"\",\"\",(INDIRECT(\"'\"&Lists!$J10&\"'!\"&Lists!$K10&U$23))))","v":""},{"$f":"IF(ISNA(Lists!$J10),\"\",IF((INDIRECT(\"'\"&Lists!$J10&\"'!\"&Lists!$L10&V$23))=\"\",\"\",(INDIRECT(\"'\"&Lists!$J10&\"'!\"&Lists!$L10&V$23))))","v":""},{"$f":"IF(ISNA(Lists!$J10),\"\",IF((INDIRECT(\"'\"&Lists!$J10&\"'!\"&Lists!$L10&W$23))=\"\",\"\",(INDIRECT(\"'\"&Lists!$J10&\"'!\"&Lists!$L10&W$23))))","v":""},{"$f":"IF(ISNA(Lists!$J10),\"\",IF((INDIRECT(\"'\"&Lists!$J10&\"'!\"&Lists!$L10&X$23))=\"\",\"\",(INDIRECT(\"'\"&Lists!$J10&\"'!\"&Lists!$L10&X$23))))","v":""},{"$f":"IF(ISNA(Lists!$J10),\"\",IF((INDIRECT(\"'\"&Lists!$J10&\"'!\"&Lists!$L10&Y$23))=\"\",\"\",(INDIRECT(\"'\"&Lists!$J10&\"'!\"&Lists!$L10&Y$23))))","v":""},{"$f":"IF(ISNA(Lists!$J10),\"\",IF((INDIRECT(\"'\"&Lists!$J10&\"'!\"&Lists!$L10&Z$23))=\"\",\"\",(INDIRECT(\"'\"&Lists!$J10&\"'!\"&Lists!$L10&Z$23))))","v":""},{"$f":"IF(ISNA(Lists!$J10),\"\",IF((INDIRECT(\"'\"&Lists!$J10&\"'!\"&Lists!$L10&AA$23))=\"\",\"\",(INDIRECT(\"'\"&Lists!$J10&\"'!\"&Lists!$L10&AA$23))))","v":""},{"$f":"IF(ISNA(Lists!$J10),\"\",IF((INDIRECT(\"'\"&Lists!$J10&\"'!\"&Lists!$L10&AB$23))=\"\",\"\",(INDIRECT(\"'\"&Lists!$J10&\"'!\"&Lists!$L10&AB$23))))","v":""},{"$f":"IF(ISNA(Lists!$J10),\"\",IF((INDIRECT(\"'\"&Lists!$J10&\"'!\"&Lists!$K10&AC$23))=\"\",\"\",(INDIRECT(\"'\"&Lists!$J10&\"'!\"&Lists!$K10&AC$23))))","v":""},{"$f":"IF(ISNA(Lists!$J10),\"\",IF((INDIRECT(\"'\"&Lists!$J10&\"'!\"&Lists!$L10&AD$23))=\"\",\"\",(INDIRECT(\"'\"&Lists!$J10&\"'!\"&Lists!$L10&AD$23))))","v":""},{"$f":"IF(ISNA(Lists!$J10),\"\",IF((INDIRECT(\"'\"&Lists!$J10&\"'!\"&Lists!$K10&AE$23))=\"\",\"\",(INDIRECT(\"'\"&Lists!$J10&\"'!\"&Lists!$K10&AE$23))))","v":""},{"$f":"IF(ISNA(Lists!$J10),\"\",IF((INDIRECT(\"'\"&Lists!$J10&\"'!\"&Lists!$K10&AF$23))=\"\",\"\",(INDIRECT(\"'\"&Lists!$J10&\"'!\"&Lists!$K10&AF$23))))","v":""},{"$f":"IF(ISNA(Lists!$J10),\"\",IF((INDIRECT(\"'\"&Lists!$J10&\"'!\"&Lists!$K10&AG$23))=\"\",\"\",(INDIRECT(\"'\"&Lists!$J10&\"'!\"&Lists!$K10&AG$23))))","v":""},{"$f":"IF(ISNA(Lists!$J10),\"\",IF((INDIRECT(\"'\"&Lists!$J10&\"'!\"&Lists!$K10&AH$23))=\"\",\"\",(INDIRECT(\"'\"&Lists!$J10&\"'!\"&Lists!$K10&AH$23))))","v":""},{"$f":"IF(ISNA(Lists!$J10),\"\",IF((INDIRECT(\"'\"&Lists!$J10&\"'!\"&Lists!$K10&AI$23))=\"\",\"\",(INDIRECT(\"'\"&Lists!$J10&\"'!\"&Lists!$K10&AI$23))))","v":""},{"$f":"IF(ISNA(Lists!$J10),\"\",IF((INDIRECT(\"'\"&Lists!$J10&\"'!\"&Lists!$K10&AJ$23))=\"\",\"\",(INDIRECT(\"'\"&Lists!$J10&\"'!\"&Lists!$K10&AJ$23))))","v":""},{"$f":"IF(ISNA(Lists!$J10),\"\",IF((INDIRECT(\"'\"&Lists!$J10&\"'!\"&Lists!$K10&AK$23))=\"\",\"\",(INDIRECT(\"'\"&Lists!$J10&\"'!\"&Lists!$K10&AK$23))))","v":""},{"$f":"IF(ISNA(Lists!$J10),\"\",IF((INDIRECT(\"'\"&Lists!$J10&\"'!\"&Lists!$K10&AL$23))=\"\",\"\",(INDIRECT(\"'\"&Lists!$J10&\"'!\"&Lists!$K10&AL$23))))","v":""},{"$f":"IF(ISNA(Lists!$J10),\"\",IF((INDIRECT(\"'\"&Lists!$J10&\"'!\"&Lists!$K10&AM$23))=\"\",\"\",(INDIRECT(\"'\"&Lists!$J10&\"'!\"&Lists!$K10&AM$23))))","v":""},{"$f":"IF(ISNA(Lists!$J10),\"\",IF((INDIRECT(\"'\"&Lists!$J10&\"'!\"&Lists!$K10&AN$23))=\"\",\"\",(INDIRECT(\"'\"&Lists!$J10&\"'!\"&Lists!$K10&AN$23))))","v":""},{"$f":"IF(ISNA(Lists!$J10),\"\",IF((INDIRECT(\"'\"&Lists!$J10&\"'!\"&Lists!$K10&AO$23))=\"\",\"\",(INDIRECT(\"'\"&Lists!$J10&\"'!\"&Lists!$K10&AO$23))))","v":""}]
[null,{"$f":"IF(C33=\"\",\"\",Facility_Info_upload!$B$24)","v":""},{"$f":"IF(ISNA(Lists!$J11),\"\",IF(INDIRECT(\"'\"&Lists!$J11&\"'!\"&\"B\"&C$23)=\"\",\"\",(INDIRECT(\"'\"&Lists!$J11&\"'!\"&\"B\"&C$23))))","v":""},{"$f":"IF(ISNA(Lists!$J11),\"\",IF(INDIRECT(\"'\"&Lists!$J11&\"'!\"&\"B\"&D$23)=\"\",\"\",(INDIRECT(\"'\"&Lists!$J11&\"'!\"&\"B\"&D$23))))","v":""},{"$f":"IF(ISNA(Lists!$J11),\"\",IF(INDIRECT(\"'\"&Lists!$J11&\"'!\"&\"B\"&E$23)=\"\",\"\",(INDIRECT(\"'\"&Lists!$J11&\"'!\"&\"B\"&E$23))))","v":""},{"$f":"IF(ISNA(Lists!$J11),\"\",IF(INDIRECT(\"'\"&Lists!$J11&\"'!\"&\"B\"&F$23)=\"\",\"\",(INDIRECT(\"'\"&Lists!$J11&\"'!\"&\"B\"&F$23))))","v":""},{"$f":"IF(ISNA(Lists!$J11),\"\",IF(INDIRECT(\"'\"&Lists!$J11&\"'!\"&\"B\"&G$23)=\"\",\"\",(INDIRECT(\"'\"&Lists!$J11&\"'!\"&\"B\"&G$23))))","v":""},{"$f":"IF(ISNA(Lists!$J11),\"\",IF((INDIRECT(\"'\"&Lists!$J11&\"'!\"&Lists!$K11&H$23))=\"\",\"\",(INDIRECT(\"'\"&Lists!$J11&\"'!\"&Lists!$K11&H$23))))","v":""},{"$f":"IF(ISNA(Lists!$J11),\"\",IF((INDIRECT(\"'\"&Lists!$J11&\"'!\"&Lists!$K11&I$23))=\"\",\"\",(INDIRECT(\"'\"&Lists!$J11&\"'!\"&Lists!$K11&I$23))))","v":""},{"$f":"IF(ISNA(Lists!$J11),\"\",IF((INDIRECT(\"'\"&Lists!$J11&\"'!\"&Lists!$K11&J$23))=\"\",\"\",(INDIRECT(\"'\"&Lists!$J11&\"'!\"&Lists!$K11&J$23))))","v":""},{"$f":"IF(ISNA(Lists!$J11),\"\",IF((INDIRECT(\"'\"&Lists!$J11&\"'!\"&Lists!$K11&K$23))=\"\",\"\",(INDIRECT(\"'\"&Lists!$J11&\"'!\"&Lists!$K11&K$23))))","v":""},{"$f":"IF(ISNA(Lists!$J11),\"\",IF((INDIRECT(\"'\"&Lists!$J11&\"'!\"&Lists!$K11&L$23))=\"\",\"\",(INDIRECT(\"'\"&Lists!$J11&\"'!\"&Lists!$K11&L$23))))","v":""},{"$f":"IF(ISNA(Lists!$J11),\"\",IF((INDIRECT(\"'\"&Lists!$J11&\"'!\"&Lists!$K11&M$23))=\"\",\"\",(INDIRECT(\"'\"&Lists!$J11&\"'!\"&Lists!$K11&M$23))))","v":""},{"$f":"IF(ISNA(Lists!$J11),\"\",IF((INDIRECT(\"'\"&Lists!$J11&\"'!\"&Lists!$K11&N$23))=\"\",\"\",(INDIRECT(\"'\"&Lists!$J11&\"'!\"&Lists!$K11&N$23))))","v":""},{"$f":"IF(ISNA(Lists!$J11),\"\",IF((INDIRECT(\"'\"&Lists!$J11&\"'!\"&Lists!$K11&O$23))=\"\",\"\",(INDIRECT(\"'\"&Lists!$J11&\"'!\"&Lists!$K11&O$23))))","v":""},{"$f":"IF(ISNA(Lists!$J11),\"\",IF((INDIRECT(\"'\"&Lists!$J11&\"'!\"&Lists!$K11&P$23))=\"\",\"\",(INDIRECT(\"'\"&Lists!$J11&\"'!\"&Lists!$K11&P$23))))","v":""},{"$f":"IF(ISNA(Lists!$J11),\"\",IF((INDIRECT(\"'\"&Lists!$J11&\"'!\"&Lists!$K11&Q$23))=\"\",\"\",(INDIRECT(\"'\"&Lists!$J11&\"'!\"&Lists!$K11&Q$23))))","v":""},{"$f":"IF(ISNA(Lists!$J11),\"\",IF((INDIRECT(\"'\"&Lists!$J11&\"'!\"&Lists!$K11&R$23))=\"\",\"\",(INDIRECT(\"'\"&Lists!$J11&\"'!\"&Lists!$K11&R$23))))","v":""},{"$f":"IF(ISNA(Lists!$J11),\"\",IF((INDIRECT(\"'\"&Lists!$J11&\"'!\"&Lists!$K11&S$23))=\"\",\"\",(INDIRECT(\"'\"&Lists!$J11&\"'!\"&Lists!$K11&S$23))))","v":""},{"$f":"IF(ISNA(Lists!$J11),\"\",IF((INDIRECT(\"'\"&Lists!$J11&\"'!\"&Lists!$K11&T$23))=\"\",\"\",(INDIRECT(\"'\"&Lists!$J11&\"'!\"&Lists!$K11&T$23))))","v":""},{"$f":"IF(ISNA(Lists!$J11),\"\",IF((INDIRECT(\"'\"&Lists!$J11&\"'!\"&Lists!$K11&U$23))=\"\",\"\",(INDIRECT(\"'\"&Lists!$J11&\"'!\"&Lists!$K11&U$23))))","v":""},{"$f":"IF(ISNA(Lists!$J11),\"\",IF((INDIRECT(\"'\"&Lists!$J11&\"'!\"&Lists!$L11&V$23))=\"\",\"\",(INDIRECT(\"'\"&Lists!$J11&\"'!\"&Lists!$L11&V$23))))","v":""},{"$f":"IF(ISNA(Lists!$J11),\"\",IF((INDIRECT(\"'\"&Lists!$J11&\"'!\"&Lists!$L11&W$23))=\"\",\"\",(INDIRECT(\"'\"&Lists!$J11&\"'!\"&Lists!$L11&W$23))))","v":""},{"$f":"IF(ISNA(Lists!$J11),\"\",IF((INDIRECT(\"'\"&Lists!$J11&\"'!\"&Lists!$L11&X$23))=\"\",\"\",(INDIRECT(\"'\"&Lists!$J11&\"'!\"&Lists!$L11&X$23))))","v":""},{"$f":"IF(ISNA(Lists!$J11),\"\",IF((INDIRECT(\"'\"&Lists!$J11&\"'!\"&Lists!$L11&Y$23))=\"\",\"\",(INDIRECT(\"'\"&Lists!$J11&\"'!\"&Lists!$L11&Y$23))))","v":""},{"$f":"IF(ISNA(Lists!$J11),\"\",IF((INDIRECT(\"'\"&Lists!$J11&\"'!\"&Lists!$L11&Z$23))=\"\",\"\",(INDIRECT(\"'\"&Lists!$J11&\"'!\"&Lists!$L11&Z$23))))","v":""},{"$f":"IF(ISNA(Lists!$J11),\"\",IF((INDIRECT(\"'\"&Lists!$J11&\"'!\"&Lists!$L11&AA$23))=\"\",\"\",(INDIRECT(\"'\"&Lists!$J11&\"'!\"&Lists!$L11&AA$23))))","v":""},{"$f":"IF(ISNA(Lists!$J11),\"\",IF((INDIRECT(\"'\"&Lists!$J11&\"'!\"&Lists!$L11&AB$23))=\"\",\"\",(INDIRECT(\"'\"&Lists!$J11&\"'!\"&Lists!$L11&AB$23))))","v":""},{"$f":"IF(ISNA(Lists!$J11),\"\",IF((INDIRECT(\"'\"&Lists!$J11&\"'!\"&Lists!$K11&AC$23))=\"\",\"\",(INDIRECT(\"'\"&Lists!$J11&\"'!\"&Lists!$K11&AC$23))))","v":""},{"$f":"IF(ISNA(Lists!$J11),\"\",IF((INDIRECT(\"'\"&Lists!$J11&\"'!\"&Lists!$L11&AD$23))=\"\",\"\",(INDIRECT(\"'\"&Lists!$J11&\"'!\"&Lists!$L11&AD$23))))","v":""},{"$f":"IF(ISNA(Lists!$J11),\"\",IF((INDIRECT(\"'\"&Lists!$J11&\"'!\"&Lists!$K11&AE$23))=\"\",\"\",(INDIRECT(\"'\"&Lists!$J11&\"'!\"&Lists!$K11&AE$23))))","v":""},{"$f":"IF(ISNA(Lists!$J11),\"\",IF((INDIRECT(\"'\"&Lists!$J11&\"'!\"&Lists!$K11&AF$23))=\"\",\"\",(INDIRECT(\"'\"&Lists!$J11&\"'!\"&Lists!$K11&AF$23))))","v":""},{"$f":"IF(ISNA(Lists!$J11),\"\",IF((INDIRECT(\"'\"&Lists!$J11&\"'!\"&Lists!$K11&AG$23))=\"\",\"\",(INDIRECT(\"'\"&Lists!$J11&\"'!\"&Lists!$K11&AG$23))))","v":""},{"$f":"IF(ISNA(Lists!$J11),\"\",IF((INDIRECT(\"'\"&Lists!$J11&\"'!\"&Lists!$K11&AH$23))=\"\",\"\",(INDIRECT(\"'\"&Lists!$J11&\"'!\"&Lists!$K11&AH$23))))","v":""},{"$f":"IF(ISNA(Lists!$J11),\"\",IF((INDIRECT(\"'\"&Lists!$J11&\"'!\"&Lists!$K11&AI$23))=\"\",\"\",(INDIRECT(\"'\"&Lists!$J11&\"'!\"&Lists!$K11&AI$23))))","v":""},{"$f":"IF(ISNA(Lists!$J11),\"\",IF((INDIRECT(\"'\"&Lists!$J11&\"'!\"&Lists!$K11&AJ$23))=\"\",\"\",(INDIRECT(\"'\"&Lists!$J11&\"'!\"&Lists!$K11&AJ$23))))","v":""},{"$f":"IF(ISNA(Lists!$J11),\"\",IF((INDIRECT(\"'\"&Lists!$J11&\"'!\"&Lists!$K11&AK$23))=\"\",\"\",(INDIRECT(\"'\"&Lists!$J11&\"'!\"&Lists!$K11&AK$23))))","v":""},{"$f":"IF(ISNA(Lists!$J11),\"\",IF((INDIRECT(\"'\"&Lists!$J11&\"'!\"&Lists!$K11&AL$23))=\"\",\"\",(INDIRECT(\"'\"&Lists!$J11&\"'!\"&Lists!$K11&AL$23))))","v":""},{"$f":"IF(ISNA(Lists!$J11),\"\",IF((INDIRECT(\"'\"&Lists!$J11&\"'!\"&Lists!$K11&AM$23))=\"\",\"\",(INDIRECT(\"'\"&Lists!$J11&\"'!\"&Lists!$K11&AM$23))))","v":""},{"$f":"IF(ISNA(Lists!$J11),\"\",IF((INDIRECT(\"'\"&Lists!$J11&\"'!\"&Lists!$K11&AN$23))=\"\",\"\",(INDIRECT(\"'\"&Lists!$J11&\"'!\"&Lists!$K11&AN$23))))","v":""},{"$f":"IF(ISNA(Lists!$J11),\"\",IF((INDIRECT(\"'\"&Lists!$J11&\"'!\"&Lists!$K11&AO$23))=\"\",\"\",(INDIRECT(\"'\"&Lists!$J11&\"'!\"&Lists!$K11&AO$23))))","v":""}]
[null,{"$f":"IF(C34=\"\",\"\",Facility_Info_upload!$B$24)","v":""},{"$f":"IF(ISNA(Lists!$J12),\"\",IF(INDIRECT(\"'\"&Lists!$J12&\"'!\"&\"B\"&C$23)=\"\",\"\",(INDIRECT(\"'\"&Lists!$J12&\"'!\"&\"B\"&C$23))))","v":""},{"$f":"IF(ISNA(Lists!$J12),\"\",IF(INDIRECT(\"'\"&Lists!$J12&\"'!\"&\"B\"&D$23)=\"\",\"\",(INDIRECT(\"'\"&Lists!$J12&\"'!\"&\"B\"&D$23))))","v":""},{"$f":"IF(ISNA(Lists!$J12),\"\",IF(INDIRECT(\"'\"&Lists!$J12&\"'!\"&\"B\"&E$23)=\"\",\"\",(INDIRECT(\"'\"&Lists!$J12&\"'!\"&\"B\"&E$23))))","v":""},{"$f":"IF(ISNA(Lists!$J12),\"\",IF(INDIRECT(\"'\"&Lists!$J12&\"'!\"&\"B\"&F$23)=\"\",\"\",(INDIRECT(\"'\"&Lists!$J12&\"'!\"&\"B\"&F$23))))","v":""},{"$f":"IF(ISNA(Lists!$J12),\"\",IF(INDIRECT(\"'\"&Lists!$J12&\"'!\"&\"B\"&G$23)=\"\",\"\",(INDIRECT(\"'\"&Lists!$J12&\"'!\"&\"B\"&G$23))))","v":""},{"$f":"IF(ISNA(Lists!$J12),\"\",IF((INDIRECT(\"'\"&Lists!$J12&\"'!\"&Lists!$K12&H$23))=\"\",\"\",(INDIRECT(\"'\"&Lists!$J12&\"'!\"&Lists!$K12&H$23))))","v":""},{"$f":"IF(ISNA(Lists!$J12),\"\",IF((INDIRECT(\"'\"&Lists!$J12&\"'!\"&Lists!$K12&I$23))=\"\",\"\",(INDIRECT(\"'\"&Lists!$J12&\"'!\"&Lists!$K12&I$23))))","v":""},{"$f":"IF(ISNA(Lists!$J12),\"\",IF((INDIRECT(\"'\"&Lists!$J12&\"'!\"&Lists!$K12&J$23))=\"\",\"\",(INDIRECT(\"'\"&Lists!$J12&\"'!\"&Lists!$K12&J$23))))","v":""},{"$f":"IF(ISNA(Lists!$J12),\"\",IF((INDIRECT(\"'\"&Lists!$J12&\"'!\"&Lists!$K12&K$23))=\"\",\"\",(INDIRECT(\"'\"&Lists!$J12&\"'!\"&Lists!$K12&K$23))))","v":""},{"$f":"IF(ISNA(Lists!$J12),\"\",IF((INDIRECT(\"'\"&Lists!$J12&\"'!\"&Lists!$K12&L$23))=\"\",\"\",(INDIRECT(\"'\"&Lists!$J12&\"'!\"&Lists!$K12&L$23))))","v":""},{"$f":"IF(ISNA(Lists!$J12),\"\",IF((INDIRECT(\"'\"&Lists!$J12&\"'!\"&Lists!$K12&M$23))=\"\",\"\",(INDIRECT(\"'\"&Lists!$J12&\"'!\"&Lists!$K12&M$23))))","v":""},{"$f":"IF(ISNA(Lists!$J12),\"\",IF((INDIRECT(\"'\"&Lists!$J12&\"'!\"&Lists!$K12&N$23))=\"\",\"\",(INDIRECT(\"'\"&Lists!$J12&\"'!\"&Lists!$K12&N$23))))","v":""},{"$f":"IF(ISNA(Lists!$J12),\"\",IF((INDIRECT(\"'\"&Lists!$J12&\"'!\"&Lists!$K12&O$23))=\"\",\"\",(INDIRECT(\"'\"&Lists!$J12&\"'!\"&Lists!$K12&O$23))))","v":""},{"$f":"IF(ISNA(Lists!$J12),\"\",IF((INDIRECT(\"'\"&Lists!$J12&\"'!\"&Lists!$K12&P$23))=\"\",\"\",(INDIRECT(\"'\"&Lists!$J12&\"'!\"&Lists!$K12&P$23))))","v":""},{"$f":"IF(ISNA(Lists!$J12),\"\",IF((INDIRECT(\"'\"&Lists!$J12&\"'!\"&Lists!$K12&Q$23))=\"\",\"\",(INDIRECT(\"'\"&Lists!$J12&\"'!\"&Lists!$K12&Q$23))))","v":""},{"$f":"IF(ISNA(Lists!$J12),\"\",IF((INDIRECT(\"'\"&Lists!$J12&\"'!\"&Lists!$K12&R$23))=\"\",\"\",(INDIRECT(\"'\"&Lists!$J12&\"'!\"&Lists!$K12&R$23))))","v":""},{"$f":"IF(ISNA(Lists!$J12),\"\",IF((INDIRECT(\"'\"&Lists!$J12&\"'!\"&Lists!$K12&S$23))=\"\",\"\",(INDIRECT(\"'\"&Lists!$J12&\"'!\"&Lists!$K12&S$23))))","v":""},{"$f":"IF(ISNA(Lists!$J12),\"\",IF((INDIRECT(\"'\"&Lists!$J12&\"'!\"&Lists!$K12&T$23))=\"\",\"\",(INDIRECT(\"'\"&Lists!$J12&\"'!\"&Lists!$K12&T$23))))","v":""},{"$f":"IF(ISNA(Lists!$J12),\"\",IF((INDIRECT(\"'\"&Lists!$J12&\"'!\"&Lists!$K12&U$23))=\"\",\"\",(INDIRECT(\"'\"&Lists!$J12&\"'!\"&Lists!$K12&U$23))))","v":""},{"$f":"IF(ISNA(Lists!$J12),\"\",IF((INDIRECT(\"'\"&Lists!$J12&\"'!\"&Lists!$L12&V$23))=\"\",\"\",(INDIRECT(\"'\"&Lists!$J12&\"'!\"&Lists!$L12&V$23))))","v":""},{"$f":"IF(ISNA(Lists!$J12),\"\",IF((INDIRECT(\"'\"&Lists!$J12&\"'!\"&Lists!$L12&W$23))=\"\",\"\",(INDIRECT(\"'\"&Lists!$J12&\"'!\"&Lists!$L12&W$23))))","v":""},{"$f":"IF(ISNA(Lists!$J12),\"\",IF((INDIRECT(\"'\"&Lists!$J12&\"'!\"&Lists!$L12&X$23))=\"\",\"\",(INDIRECT(\"'\"&Lists!$J12&\"'!\"&Lists!$L12&X$23))))","v":""},{"$f":"IF(ISNA(Lists!$J12),\"\",IF((INDIRECT(\"'\"&Lists!$J12&\"'!\"&Lists!$L12&Y$23))=\"\",\"\",(INDIRECT(\"'\"&Lists!$J12&\"'!\"&Lists!$L12&Y$23))))","v":""},{"$f":"IF(ISNA(Lists!$J12),\"\",IF((INDIRECT(\"'\"&Lists!$J12&\"'!\"&Lists!$L12&Z$23))=\"\",\"\",(INDIRECT(\"'\"&Lists!$J12&\"'!\"&Lists!$L12&Z$23))))","v":""},{"$f":"IF(ISNA(Lists!$J12),\"\",IF((INDIRECT(\"'\"&Lists!$J12&\"'!\"&Lists!$L12&AA$23))=\"\",\"\",(INDIRECT(\"'\"&Lists!$J12&\"'!\"&Lists!$L12&AA$23))))","v":""},{"$f":"IF(ISNA(Lists!$J12),\"\",IF((INDIRECT(\"'\"&Lists!$J12&\"'!\"&Lists!$L12&AB$23))=\"\",\"\",(INDIRECT(\"'\"&Lists!$J12&\"'!\"&Lists!$L12&AB$23))))","v":""},{"$f":"IF(ISNA(Lists!$J12),\"\",IF((INDIRECT(\"'\"&Lists!$J12&\"'!\"&Lists!$K12&AC$23))=\"\",\"\",(INDIRECT(\"'\"&Lists!$J12&\"'!\"&Lists!$K12&AC$23))))","v":""},{"$f":"IF(ISNA(Lists!$J12),\"\",IF((INDIRECT(\"'\"&Lists!$J12&\"'!\"&Lists!$L12&AD$23))=\"\",\"\",(INDIRECT(\"'\"&Lists!$J12&\"'!\"&Lists!$L12&AD$23))))","v":""},{"$f":"IF(ISNA(Lists!$J12),\"\",IF((INDIRECT(\"'\"&Lists!$J12&\"'!\"&Lists!$K12&AE$23))=\"\",\"\",(INDIRECT(\"'\"&Lists!$J12&\"'!\"&Lists!$K12&AE$23))))","v":""},{"$f":"IF(ISNA(Lists!$J12),\"\",IF((INDIRECT(\"'\"&Lists!$J12&\"'!\"&Lists!$K12&AF$23))=\"\",\"\",(INDIRECT(\"'\"&Lists!$J12&\"'!\"&Lists!$K12&AF$23))))","v":""},{"$f":"IF(ISNA(Lists!$J12),\"\",IF((INDIRECT(\"'\"&Lists!$J12&\"'!\"&Lists!$K12&AG$23))=\"\",\"\",(INDIRECT(\"'\"&Lists!$J12&\"'!\"&Lists!$K12&AG$23))))","v":""},{"$f":"IF(ISNA(Lists!$J12),\"\",IF((INDIRECT(\"'\"&Lists!$J12&\"'!\"&Lists!$K12&AH$23))=\"\",\"\",(INDIRECT(\"'\"&Lists!$J12&\"'!\"&Lists!$K12&AH$23))))","v":""},{"$f":"IF(ISNA(Lists!$J12),\"\",IF((INDIRECT(\"'\"&Lists!$J12&\"'!\"&Lists!$K12&AI$23))=\"\",\"\",(INDIRECT(\"'\"&Lists!$J12&\"'!\"&Lists!$K12&AI$23))))","v":""},{"$f":"IF(ISNA(Lists!$J12),\"\",IF((INDIRECT(\"'\"&Lists!$J12&\"'!\"&Lists!$K12&AJ$23))=\"\",\"\",(INDIRECT(\"'\"&Lists!$J12&\"'!\"&Lists!$K12&AJ$23))))","v":""},{"$f":"IF(ISNA(Lists!$J12),\"\",IF((INDIRECT(\"'\"&Lists!$J12&\"'!\"&Lists!$K12&AK$23))=\"\",\"\",(INDIRECT(\"'\"&Lists!$J12&\"'!\"&Lists!$K12&AK$23))))","v":""},{"$f":"IF(ISNA(Lists!$J12),\"\",IF((INDIRECT(\"'\"&Lists!$J12&\"'!\"&Lists!$K12&AL$23))=\"\",\"\",(INDIRECT(\"'\"&Lists!$J12&\"'!\"&Lists!$K12&AL$23))))","v":""},{"$f":"IF(ISNA(Lists!$J12),\"\",IF((INDIRECT(\"'\"&Lists!$J12&\"'!\"&Lists!$K12&AM$23))=\"\",\"\",(INDIRECT(\"'\"&Lists!$J12&\"'!\"&Lists!$K12&AM$23))))","v":""},{"$f":"IF(ISNA(Lists!$J12),\"\",IF((INDIRECT(\"'\"&Lists!$J12&\"'!\"&Lists!$K12&AN$23))=\"\",\"\",(INDIRECT(\"'\"&Lists!$J12&\"'!\"&Lists!$K12&AN$23))))","v":""},{"$f":"IF(ISNA(Lists!$J12),\"\",IF((INDIRECT(\"'\"&Lists!$J12&\"'!\"&Lists!$K12&AO$23))=\"\",\"\",(INDIRECT(\"'\"&Lists!$J12&\"'!\"&Lists!$K12&AO$23))))","v":""}]
[null,{"$f":"IF(C35=\"\",\"\",Facility_Info_upload!$B$24)","v":""},{"$f":"IF(ISNA(Lists!$J13),\"\",IF(INDIRECT(\"'\"&Lists!$J13&\"'!\"&\"B\"&C$23)=\"\",\"\",(INDIRECT(\"'\"&Lists!$J13&\"'!\"&\"B\"&C$23))))","v":""},{"$f":"IF(ISNA(Lists!$J13),\"\",IF(INDIRECT(\"'\"&Lists!$J13&\"'!\"&\"B\"&D$23)=\"\",\"\",(INDIRECT(\"'\"&Lists!$J13&\"'!\"&\"B\"&D$23))))","v":""},{"$f":"IF(ISNA(Lists!$J13),\"\",IF(INDIRECT(\"'\"&Lists!$J13&\"'!\"&\"B\"&E$23)=\"\",\"\",(INDIRECT(\"'\"&Lists!$J13&\"'!\"&\"B\"&E$23))))","v":""},{"$f":"IF(ISNA(Lists!$J13),\"\",IF(INDIRECT(\"'\"&Lists!$J13&\"'!\"&\"B\"&F$23)=\"\",\"\",(INDIRECT(\"'\"&Lists!$J13&\"'!\"&\"B\"&F$23))))","v":""},{"$f":"IF(ISNA(Lists!$J13),\"\",IF(INDIRECT(\"'\"&Lists!$J13&\"'!\"&\"B\"&G$23)=\"\",\"\",(INDIRECT(\"'\"&Lists!$J13&\"'!\"&\"B\"&G$23))))","v":""},{"$f":"IF(ISNA(Lists!$J13),\"\",IF((INDIRECT(\"'\"&Lists!$J13&\"'!\"&Lists!$K13&H$23))=\"\",\"\",(INDIRECT(\"'\"&Lists!$J13&\"'!\"&Lists!$K13&H$23))))","v":""},{"$f":"IF(ISNA(Lists!$J13),\"\",IF((INDIRECT(\"'\"&Lists!$J13&\"'!\"&Lists!$K13&I$23))=\"\",\"\",(INDIRECT(\"'\"&Lists!$J13&\"'!\"&Lists!$K13&I$23))))","v":""},{"$f":"IF(ISNA(Lists!$J13),\"\",IF((INDIRECT(\"'\"&Lists!$J13&\"'!\"&Lists!$K13&J$23))=\"\",\"\",(INDIRECT(\"'\"&Lists!$J13&\"'!\"&Lists!$K13&J$23))))","v":""},{"$f":"IF(ISNA(Lists!$J13),\"\",IF((INDIRECT(\"'\"&Lists!$J13&\"'!\"&Lists!$K13&K$23))=\"\",\"\",(INDIRECT(\"'\"&Lists!$J13&\"'!\"&Lists!$K13&K$23))))","v":""},{"$f":"IF(ISNA(Lists!$J13),\"\",IF((INDIRECT(\"'\"&Lists!$J13&\"'!\"&Lists!$K13&L$23))=\"\",\"\",(INDIRECT(\"'\"&Lists!$J13&\"'!\"&Lists!$K13&L$23))))","v":""},{"$f":"IF(ISNA(Lists!$J13),\"\",IF((INDIRECT(\"'\"&Lists!$J13&\"'!\"&Lists!$K13&M$23))=\"\",\"\",(INDIRECT(\"'\"&Lists!$J13&\"'!\"&Lists!$K13&M$23))))","v":""},{"$f":"IF(ISNA(Lists!$J13),\"\",IF((INDIRECT(\"'\"&Lists!$J13&\"'!\"&Lists!$K13&N$23))=\"\",\"\",(INDIRECT(\"'\"&Lists!$J13&\"'!\"&Lists!$K13&N$23))))","v":""},{"$f":"IF(ISNA(Lists!$J13),\"\",IF((INDIRECT(\"'\"&Lists!$J13&\"'!\"&Lists!$K13&O$23))=\"\",\"\",(INDIRECT(\"'\"&Lists!$J13&\"'!\"&Lists!$K13&O$23))))","v":""},{"$f":"IF(ISNA(Lists!$J13),\"\",IF((INDIRECT(\"'\"&Lists!$J13&\"'!\"&Lists!$K13&P$23))=\"\",\"\",(INDIRECT(\"'\"&Lists!$J13&\"'!\"&Lists!$K13&P$23))))","v":""},{"$f":"IF(ISNA(Lists!$J13),\"\",IF((INDIRECT(\"'\"&Lists!$J13&\"'!\"&Lists!$K13&Q$23))=\"\",\"\",(INDIRECT(\"'\"&Lists!$J13&\"'!\"&Lists!$K13&Q$23))))","v":""},{"$f":"IF(ISNA(Lists!$J13),\"\",IF((INDIRECT(\"'\"&Lists!$J13&\"'!\"&Lists!$K13&R$23))=\"\",\"\",(INDIRECT(\"'\"&Lists!$J13&\"'!\"&Lists!$K13&R$23))))","v":""},{"$f":"IF(ISNA(Lists!$J13),\"\",IF((INDIRECT(\"'\"&Lists!$J13&\"'!\"&Lists!$K13&S$23))=\"\",\"\",(INDIRECT(\"'\"&Lists!$J13&\"'!\"&Lists!$K13&S$23))))","v":""},{"$f":"IF(ISNA(Lists!$J13),\"\",IF((INDIRECT(\"'\"&Lists!$J13&\"'!\"&Lists!$K13&T$23))=\"\",\"\",(INDIRECT(\"'\"&Lists!$J13&\"'!\"&Lists!$K13&T$23))))","v":""},{"$f":"IF(ISNA(Lists!$J13),\"\",IF((INDIRECT(\"'\"&Lists!$J13&\"'!\"&Lists!$K13&U$23))=\"\",\"\",(INDIRECT(\"'\"&Lists!$J13&\"'!\"&Lists!$K13&U$23))))","v":""},{"$f":"IF(ISNA(Lists!$J13),\"\",IF((INDIRECT(\"'\"&Lists!$J13&\"'!\"&Lists!$L13&V$23))=\"\",\"\",(INDIRECT(\"'\"&Lists!$J13&\"'!\"&Lists!$L13&V$23))))","v":""},{"$f":"IF(ISNA(Lists!$J13),\"\",IF((INDIRECT(\"'\"&Lists!$J13&\"'!\"&Lists!$L13&W$23))=\"\",\"\",(INDIRECT(\"'\"&Lists!$J13&\"'!\"&Lists!$L13&W$23))))","v":""},{"$f":"IF(ISNA(Lists!$J13),\"\",IF((INDIRECT(\"'\"&Lists!$J13&\"'!\"&Lists!$L13&X$23))=\"\",\"\",(INDIRECT(\"'\"&Lists!$J13&\"'!\"&Lists!$L13&X$23))))","v":""},{"$f":"IF(ISNA(Lists!$J13),\"\",IF((INDIRECT(\"'\"&Lists!$J13&\"'!\"&Lists!$L13&Y$23))=\"\",\"\",(INDIRECT(\"'\"&Lists!$J13&\"'!\"&Lists!$L13&Y$23))))","v":""},{"$f":"IF(ISNA(Lists!$J13),\"\",IF((INDIRECT(\"'\"&Lists!$J13&\"'!\"&Lists!$L13&Z$23))=\"\",\"\",(INDIRECT(\"'\"&Lists!$J13&\"'!\"&Lists!$L13&Z$23))))","v":""},{"$f":"IF(ISNA(Lists!$J13),\"\",IF((INDIRECT(\"'\"&Lists!$J13&\"'!\"&Lists!$L13&AA$23))=\"\",\"\",(INDIRECT(\"'\"&Lists!$J13&\"'!\"&Lists!$L13&AA$23))))","v":""},{"$f":"IF(ISNA(Lists!$J13),\"\",IF((INDIRECT(\"'\"&Lists!$J13&\"'!\"&Lists!$L13&AB$23))=\"\",\"\",(INDIRECT(\"'\"&Lists!$J13&\"'!\"&Lists!$L13&AB$23))))","v":""},{"$f":"IF(ISNA(Lists!$J13),\"\",IF((INDIRECT(\"'\"&Lists!$J13&\"'!\"&Lists!$K13&AC$23))=\"\",\"\",(INDIRECT(\"'\"&Lists!$J13&\"'!\"&Lists!$K13&AC$23))))","v":""},{"$f":"IF(ISNA(Lists!$J13),\"\",IF((INDIRECT(\"'\"&Lists!$J13&\"'!\"&Lists!$L13&AD$23))=\"\",\"\",(INDIRECT(\"'\"&Lists!$J13&\"'!\"&Lists!$L13&AD$23))))","v":""},{"$f":"IF(ISNA(Lists!$J13),\"\",IF((INDIRECT(\"'\"&Lists!$J13&\"'!\"&Lists!$K13&AE$23))=\"\",\"\",(INDIRECT(\"'\"&Lists!$J13&\"'!\"&Lists!$K13&AE$23))))","v":""},{"$f":"IF(ISNA(Lists!$J13),\"\",IF((INDIRECT(\"'\"&Lists!$J13&\"'!\"&Lists!$K13&AF$23))=\"\",\"\",(INDIRECT(\"'\"&Lists!$J13&\"'!\"&Lists!$K13&AF$23))))","v":""},{"$f":"IF(ISNA(Lists!$J13),\"\",IF((INDIRECT(\"'\"&Lists!$J13&\"'!\"&Lists!$K13&AG$23))=\"\",\"\",(INDIRECT(\"'\"&Lists!$J13&\"'!\"&Lists!$K13&AG$23))))","v":""},{"$f":"IF(ISNA(Lists!$J13),\"\",IF((INDIRECT(\"'\"&Lists!$J13&\"'!\"&Lists!$K13&AH$23))=\"\",\"\",(INDIRECT(\"'\"&Lists!$J13&\"'!\"&Lists!$K13&AH$23))))","v":""},{"$f":"IF(ISNA(Lists!$J13),\"\",IF((INDIRECT(\"'\"&Lists!$J13&\"'!\"&Lists!$K13&AI$23))=\"\",\"\",(INDIRECT(\"'\"&Lists!$J13&\"'!\"&Lists!$K13&AI$23))))","v":""},{"$f":"IF(ISNA(Lists!$J13),\"\",IF((INDIRECT(\"'\"&Lists!$J13&\"'!\"&Lists!$K13&AJ$23))=\"\",\"\",(INDIRECT(\"'\"&Lists!$J13&\"'!\"&Lists!$K13&AJ$23))))","v":""},{"$f":"IF(ISNA(Lists!$J13),\"\",IF((INDIRECT(\"'\"&Lists!$J13&\"'!\"&Lists!$K13&AK$23))=\"\",\"\",(INDIRECT(\"'\"&Lists!$J13&\"'!\"&Lists!$K13&AK$23))))","v":""},{"$f":"IF(ISNA(Lists!$J13),\"\",IF((INDIRECT(\"'\"&Lists!$J13&\"'!\"&Lists!$K13&AL$23))=\"\",\"\",(INDIRECT(\"'\"&Lists!$J13&\"'!\"&Lists!$K13&AL$23))))","v":""},{"$f":"IF(ISNA(Lists!$J13),\"\",IF((INDIRECT(\"'\"&Lists!$J13&\"'!\"&Lists!$K13&AM$23))=\"\",\"\",(INDIRECT(\"'\"&Lists!$J13&\"'!\"&Lists!$K13&AM$23))))","v":""},{"$f":"IF(ISNA(Lists!$J13),\"\",IF((INDIRECT(\"'\"&Lists!$J13&\"'!\"&Lists!$K13&AN$23))=\"\",\"\",(INDIRECT(\"'\"&Lists!$J13&\"'!\"&Lists!$K13&AN$23))))","v":""},{"$f":"IF(ISNA(Lists!$J13),\"\",IF((INDIRECT(\"'\"&Lists!$J13&\"'!\"&Lists!$K13&AO$23))=\"\",\"\",(INDIRECT(\"'\"&Lists!$J13&\"'!\"&Lists!$K13&AO$23))))","v":""}]
[null,{"$f":"IF(C36=\"\",\"\",Facility_Info_upload!$B$24)","v":""},{"$f":"IF(ISNA(Lists!$J14),\"\",IF(INDIRECT(\"'\"&Lists!$J14&\"'!\"&\"B\"&C$23)=\"\",\"\",(INDIRECT(\"'\"&Lists!$J14&\"'!\"&\"B\"&C$23))))","v":""},{"$f":"IF(ISNA(Lists!$J14),\"\",IF(INDIRECT(\"'\"&Lists!$J14&\"'!\"&\"B\"&D$23)=\"\",\"\",(INDIRECT(\"'\"&Lists!$J14&\"'!\"&\"B\"&D$23))))","v":""},{"$f":"IF(ISNA(Lists!$J14),\"\",IF(INDIRECT(\"'\"&Lists!$J14&\"'!\"&\"B\"&E$23)=\"\",\"\",(INDIRECT(\"'\"&Lists!$J14&\"'!\"&\"B\"&E$23))))","v":""},{"$f":"IF(ISNA(Lists!$J14),\"\",IF(INDIRECT(\"'\"&Lists!$J14&\"'!\"&\"B\"&F$23)=\"\",\"\",(INDIRECT(\"'\"&Lists!$J14&\"'!\"&\"B\"&F$23))))","v":""},{"$f":"IF(ISNA(Lists!$J14),\"\",IF(INDIRECT(\"'\"&Lists!$J14&\"'!\"&\"B\"&G$23)=\"\",\"\",(INDIRECT(\"'\"&Lists!$J14&\"'!\"&\"B\"&G$23))))","v":""},{"$f":"IF(ISNA(Lists!$J14),\"\",IF((INDIRECT(\"'\"&Lists!$J14&\"'!\"&Lists!$K14&H$23))=\"\",\"\",(INDIRECT(\"'\"&Lists!$J14&\"'!\"&Lists!$K14&H$23))))","v":""},{"$f":"IF(ISNA(Lists!$J14),\"\",IF((INDIRECT(\"'\"&Lists!$J14&\"'!\"&Lists!$K14&I$23))=\"\",\"\",(INDIRECT(\"'\"&Lists!$J14&\"'!\"&Lists!$K14&I$23))))","v":""},{"$f":"IF(ISNA(Lists!$J14),\"\",IF((INDIRECT(\"'\"&Lists!$J14&\"'!\"&Lists!$K14&J$23))=\"\",\"\",(INDIRECT(\"'\"&Lists!$J14&\"'!\"&Lists!$K14&J$23))))","v":""},{"$f":"IF(ISNA(Lists!$J14),\"\",IF((INDIRECT(\"'\"&Lists!$J14&\"'!\"&Lists!$K14&K$23))=\"\",\"\",(INDIRECT(\"'\"&Lists!$J14&\"'!\"&Lists!$K14&K$23))))","v":""},{"$f":"IF(ISNA(Lists!$J14),\"\",IF((INDIRECT(\"'\"&Lists!$J14&\"'!\"&Lists!$K14&L$23))=\"\",\"\",(INDIRECT(\"'\"&Lists!$J14&\"'!\"&Lists!$K14&L$23))))","v":""},{"$f":"IF(ISNA(Lists!$J14),\"\",IF((INDIRECT(\"'\"&Lists!$J14&\"'!\"&Lists!$K14&M$23))=\"\",\"\",(INDIRECT(\"'\"&Lists!$J14&\"'!\"&Lists!$K14&M$23))))","v":""},{"$f":"IF(ISNA(Lists!$J14),\"\",IF((INDIRECT(\"'\"&Lists!$J14&\"'!\"&Lists!$K14&N$23))=\"\",\"\",(INDIRECT(\"'\"&Lists!$J14&\"'!\"&Lists!$K14&N$23))))","v":""},{"$f":"IF(ISNA(Lists!$J14),\"\",IF((INDIRECT(\"'\"&Lists!$J14&\"'!\"&Lists!$K14&O$23))=\"\",\"\",(INDIRECT(\"'\"&Lists!$J14&\"'!\"&Lists!$K14&O$23))))","v":""},{"$f":"IF(ISNA(Lists!$J14),\"\",IF((INDIRECT(\"'\"&Lists!$J14&\"'!\"&Lists!$K14&P$23))=\"\",\"\",(INDIRECT(\"'\"&Lists!$J14&\"'!\"&Lists!$K14&P$23))))","v":""},{"$f":"IF(ISNA(Lists!$J14),\"\",IF((INDIRECT(\"'\"&Lists!$J14&\"'!\"&Lists!$K14&Q$23))=\"\",\"\",(INDIRECT(\"'\"&Lists!$J14&\"'!\"&Lists!$K14&Q$23))))","v":""},{"$f":"IF(ISNA(Lists!$J14),\"\",IF((INDIRECT(\"'\"&Lists!$J14&\"'!\"&Lists!$K14&R$23))=\"\",\"\",(INDIRECT(\"'\"&Lists!$J14&\"'!\"&Lists!$K14&R$23))))","v":""},{"$f":"IF(ISNA(Lists!$J14),\"\",IF((INDIRECT(\"'\"&Lists!$J14&\"'!\"&Lists!$K14&S$23))=\"\",\"\",(INDIRECT(\"'\"&Lists!$J14&\"'!\"&Lists!$K14&S$23))))","v":""},{"$f":"IF(ISNA(Lists!$J14),\"\",IF((INDIRECT(\"'\"&Lists!$J14&\"'!\"&Lists!$K14&T$23))=\"\",\"\",(INDIRECT(\"'\"&Lists!$J14&\"'!\"&Lists!$K14&T$23))))","v":""},{"$f":"IF(ISNA(Lists!$J14),\"\",IF((INDIRECT(\"'\"&Lists!$J14&\"'!\"&Lists!$K14&U$23))=\"\",\"\",(INDIRECT(\"'\"&Lists!$J14&\"'!\"&Lists!$K14&U$23))))","v":""},{"$f":"IF(ISNA(Lists!$J14),\"\",IF((INDIRECT(\"'\"&Lists!$J14&\"'!\"&Lists!$L14&V$23))=\"\",\"\",(INDIRECT(\"'\"&Lists!$J14&\"'!\"&Lists!$L14&V$23))))","v":""},{"$f":"IF(ISNA(Lists!$J14),\"\",IF((INDIRECT(\"'\"&Lists!$J14&\"'!\"&Lists!$L14&W$23))=\"\",\"\",(INDIRECT(\"'\"&Lists!$J14&\"'!\"&Lists!$L14&W$23))))","v":""},{"$f":"IF(ISNA(Lists!$J14),\"\",IF((INDIRECT(\"'\"&Lists!$J14&\"'!\"&Lists!$L14&X$23))=\"\",\"\",(INDIRECT(\"'\"&Lists!$J14&\"'!\"&Lists!$L14&X$23))))","v":""},{"$f":"IF(ISNA(Lists!$J14),\"\",IF((INDIRECT(\"'\"&Lists!$J14&\"'!\"&Lists!$L14&Y$23))=\"\",\"\",(INDIRECT(\"'\"&Lists!$J14&\"'!\"&Lists!$L14&Y$23))))","v":""},{"$f":"IF(ISNA(Lists!$J14),\"\",IF((INDIRECT(\"'\"&Lists!$J14&\"'!\"&Lists!$L14&Z$23))=\"\",\"\",(INDIRECT(\"'\"&Lists!$J14&\"'!\"&Lists!$L14&Z$23))))","v":""},{"$f":"IF(ISNA(Lists!$J14),\"\",IF((INDIRECT(\"'\"&Lists!$J14&\"'!\"&Lists!$L14&AA$23))=\"\",\"\",(INDIRECT(\"'\"&Lists!$J14&\"'!\"&Lists!$L14&AA$23))))","v":""},{"$f":"IF(ISNA(Lists!$J14),\"\",IF((INDIRECT(\"'\"&Lists!$J14&\"'!\"&Lists!$L14&AB$23))=\"\",\"\",(INDIRECT(\"'\"&Lists!$J14&\"'!\"&Lists!$L14&AB$23))))","v":""},{"$f":"IF(ISNA(Lists!$J14),\"\",IF((INDIRECT(\"'\"&Lists!$J14&\"'!\"&Lists!$K14&AC$23))=\"\",\"\",(INDIRECT(\"'\"&Lists!$J14&\"'!\"&Lists!$K14&AC$23))))","v":""},{"$f":"IF(ISNA(Lists!$J14),\"\",IF((INDIRECT(\"'\"&Lists!$J14&\"'!\"&Lists!$L14&AD$23))=\"\",\"\",(INDIRECT(\"'\"&Lists!$J14&\"'!\"&Lists!$L14&AD$23))))","v":""},{"$f":"IF(ISNA(Lists!$J14),\"\",IF((INDIRECT(\"'\"&Lists!$J14&\"'!\"&Lists!$K14&AE$23))=\"\",\"\",(INDIRECT(\"'\"&Lists!$J14&\"'!\"&Lists!$K14&AE$23))))","v":""},{"$f":"IF(ISNA(Lists!$J14),\"\",IF((INDIRECT(\"'\"&Lists!$J14&\"'!\"&Lists!$K14&AF$23))=\"\",\"\",(INDIRECT(\"'\"&Lists!$J14&\"'!\"&Lists!$K14&AF$23))))","v":""},{"$f":"IF(ISNA(Lists!$J14),\"\",IF((INDIRECT(\"'\"&Lists!$J14&\"'!\"&Lists!$K14&AG$23))=\"\",\"\",(INDIRECT(\"'\"&Lists!$J14&\"'!\"&Lists!$K14&AG$23))))","v":""},{"$f":"IF(ISNA(Lists!$J14),\"\",IF((INDIRECT(\"'\"&Lists!$J14&\"'!\"&Lists!$K14&AH$23))=\"\",\"\",(INDIRECT(\"'\"&Lists!$J14&\"'!\"&Lists!$K14&AH$23))))","v":""},{"$f":"IF(ISNA(Lists!$J14),\"\",IF((INDIRECT(\"'\"&Lists!$J14&\"'!\"&Lists!$K14&AI$23))=\"\",\"\",(INDIRECT(\"'\"&Lists!$J14&\"'!\"&Lists!$K14&AI$23))))","v":""},{"$f":"IF(ISNA(Lists!$J14),\"\",IF((INDIRECT(\"'\"&Lists!$J14&\"'!\"&Lists!$K14&AJ$23))=\"\",\"\",(INDIRECT(\"'\"&Lists!$J14&\"'!\"&Lists!$K14&AJ$23))))","v":""},{"$f":"IF(ISNA(Lists!$J14),\"\",IF((INDIRECT(\"'\"&Lists!$J14&\"'!\"&Lists!$K14&AK$23))=\"\",\"\",(INDIRECT(\"'\"&Lists!$J14&\"'!\"&Lists!$K14&AK$23))))","v":""},{"$f":"IF(ISNA(Lists!$J14),\"\",IF((INDIRECT(\"'\"&Lists!$J14&\"'!\"&Lists!$K14&AL$23))=\"\",\"\",(INDIRECT(\"'\"&Lists!$J14&\"'!\"&Lists!$K14&AL$23))))","v":""},{"$f":"IF(ISNA(Lists!$J14),\"\",IF((INDIRECT(\"'\"&Lists!$J14&\"'!\"&Lists!$K14&AM$23))=\"\",\"\",(INDIRECT(\"'\"&Lists!$J14&\"'!\"&Lists!$K14&AM$23))))","v":""},{"$f":"IF(ISNA(Lists!$J14),\"\",IF((INDIRECT(\"'\"&Lists!$J14&\"'!\"&Lists!$K14&AN$23))=\"\",\"\",(INDIRECT(\"'\"&Lists!$J14&\"'!\"&Lists!$K14&AN$23))))","v":""},{"$f":"IF(ISNA(Lists!$J14),\"\",IF((INDIRECT(\"'\"&Lists!$J14&\"'!\"&Lists!$K14&AO$23))=\"\",\"\",(INDIRECT(\"'\"&Lists!$J14&\"'!\"&Lists!$K14&AO$23))))","v":""}]
[null,{"$f":"IF(C37=\"\",\"\",Facility_Info_upload!$B$24)","v":""},{"$f":"IF(ISNA(Lists!$J15),\"\",IF(INDIRECT(\"'\"&Lists!$J15&\"'!\"&\"B\"&C$23)=\"\",\"\",(INDIRECT(\"'\"&Lists!$J15&\"'!\"&\"B\"&C$23))))","v":""},{"$f":"IF(ISNA(Lists!$J15),\"\",IF(INDIRECT(\"'\"&Lists!$J15&\"'!\"&\"B\"&D$23)=\"\",\"\",(INDIRECT(\"'\"&Lists!$J15&\"'!\"&\"B\"&D$23))))","v":""},{"$f":"IF(ISNA(Lists!$J15),\"\",IF(INDIRECT(\"'\"&Lists!$J15&\"'!\"&\"B\"&E$23)=\"\",\"\",(INDIRECT(\"'\"&Lists!$J15&\"'!\"&\"B\"&E$23))))","v":""},{"$f":"IF(ISNA(Lists!$J15),\"\",IF(INDIRECT(\"'\"&Lists!$J15&\"'!\"&\"B\"&F$23)=\"\",\"\",(INDIRECT(\"'\"&Lists!$J15&\"'!\"&\"B\"&F$23))))","v":""},{"$f":"IF(ISNA(Lists!$J15),\"\",IF(INDIRECT(\"'\"&Lists!$J15&\"'!\"&\"B\"&G$23)=\"\",\"\",(INDIRECT(\"'\"&Lists!$J15&\"'!\"&\"B\"&G$23))))","v":""},{"$f":"IF(ISNA(Lists!$J15),\"\",IF((INDIRECT(\"'\"&Lists!$J15&\"'!\"&Lists!$K15&H$23))=\"\",\"\",(INDIRECT(\"'\"&Lists!$J15&\"'!\"&Lists!$K15&H$23))))","v":""},{"$f":"IF(ISNA(Lists!$J15),\"\",IF((INDIRECT(\"'\"&Lists!$J15&\"'!\"&Lists!$K15&I$23))=\"\",\"\",(INDIRECT(\"'\"&Lists!$J15&\"'!\"&Lists!$K15&I$23))))","v":""},{"$f":"IF(ISNA(Lists!$J15),\"\",IF((INDIRECT(\"'\"&Lists!$J15&\"'!\"&Lists!$K15&J$23))=\"\",\"\",(INDIRECT(\"'\"&Lists!$J15&\"'!\"&Lists!$K15&J$23))))","v":""},{"$f":"IF(ISNA(Lists!$J15),\"\",IF((INDIRECT(\"'\"&Lists!$J15&\"'!\"&Lists!$K15&K$23))=\"\",\"\",(INDIRECT(\"'\"&Lists!$J15&\"'!\"&Lists!$K15&K$23))))","v":""},{"$f":"IF(ISNA(Lists!$J15),\"\",IF((INDIRECT(\"'\"&Lists!$J15&\"'!\"&Lists!$K15&L$23))=\"\",\"\",(INDIRECT(\"'\"&Lists!$J15&\"'!\"&Lists!$K15&L$23))))","v":""},{"$f":"IF(ISNA(Lists!$J15),\"\",IF((INDIRECT(\"'\"&Lists!$J15&\"'!\"&Lists!$K15&M$23))=\"\",\"\",(INDIRECT(\"'\"&Lists!$J15&\"'!\"&Lists!$K15&M$23))))","v":""},{"$f":"IF(ISNA(Lists!$J15),\"\",IF((INDIRECT(\"'\"&Lists!$J15&\"'!\"&Lists!$K15&N$23))=\"\",\"\",(INDIRECT(\"'\"&Lists!$J15&\"'!\"&Lists!$K15&N$23))))","v":""},{"$f":"IF(ISNA(Lists!$J15),\"\",IF((INDIRECT(\"'\"&Lists!$J15&\"'!\"&Lists!$K15&O$23))=\"\",\"\",(INDIRECT(\"'\"&Lists!$J15&\"'!\"&Lists!$K15&O$23))))","v":""},{"$f":"IF(ISNA(Lists!$J15),\"\",IF((INDIRECT(\"'\"&Lists!$J15&\"'!\"&Lists!$K15&P$23))=\"\",\"\",(INDIRECT(\"'\"&Lists!$J15&\"'!\"&Lists!$K15&P$23))))","v":""},{"$f":"IF(ISNA(Lists!$J15),\"\",IF((INDIRECT(\"'\"&Lists!$J15&\"'!\"&Lists!$K15&Q$23))=\"\",\"\",(INDIRECT(\"'\"&Lists!$J15&\"'!\"&Lists!$K15&Q$23))))","v":""},{"$f":"IF(ISNA(Lists!$J15),\"\",IF((INDIRECT(\"'\"&Lists!$J15&\"'!\"&Lists!$K15&R$23))=\"\",\"\",(INDIRECT(\"'\"&Lists!$J15&\"'!\"&Lists!$K15&R$23))))","v":""},{"$f":"IF(ISNA(Lists!$J15),\"\",IF((INDIRECT(\"'\"&Lists!$J15&\"'!\"&Lists!$K15&S$23))=\"\",\"\",(INDIRECT(\"'\"&Lists!$J15&\"'!\"&Lists!$K15&S$23))))","v":""},{"$f":"IF(ISNA(Lists!$J15),\"\",IF((INDIRECT(\"'\"&Lists!$J15&\"'!\"&Lists!$K15&T$23))=\"\",\"\",(INDIRECT(\"'\"&Lists!$J15&\"'!\"&Lists!$K15&T$23))))","v":""},{"$f":"IF(ISNA(Lists!$J15),\"\",IF((INDIRECT(\"'\"&Lists!$J15&\"'!\"&Lists!$K15&U$23))=\"\",\"\",(INDIRECT(\"'\"&Lists!$J15&\"'!\"&Lists!$K15&U$23))))","v":""},{"$f":"IF(ISNA(Lists!$J15),\"\",IF((INDIRECT(\"'\"&Lists!$J15&\"'!\"&Lists!$L15&V$23))=\"\",\"\",(INDIRECT(\"'\"&Lists!$J15&\"'!\"&Lists!$L15&V$23))))","v":""},{"$f":"IF(ISNA(Lists!$J15),\"\",IF((INDIRECT(\"'\"&Lists!$J15&\"'!\"&Lists!$L15&W$23))=\"\",\"\",(INDIRECT(\"'\"&Lists!$J15&\"'!\"&Lists!$L15&W$23))))","v":""},{"$f":"IF(ISNA(Lists!$J15),\"\",IF((INDIRECT(\"'\"&Lists!$J15&\"'!\"&Lists!$L15&X$23))=\"\",\"\",(INDIRECT(\"'\"&Lists!$J15&\"'!\"&Lists!$L15&X$23))))","v":""},{"$f":"IF(ISNA(Lists!$J15),\"\",IF((INDIRECT(\"'\"&Lists!$J15&\"'!\"&Lists!$L15&Y$23))=\"\",\"\",(INDIRECT(\"'\"&Lists!$J15&\"'!\"&Lists!$L15&Y$23))))","v":""},{"$f":"IF(ISNA(Lists!$J15),\"\",IF((INDIRECT(\"'\"&Lists!$J15&\"'!\"&Lists!$L15&Z$23))=\"\",\"\",(INDIRECT(\"'\"&Lists!$J15&\"'!\"&Lists!$L15&Z$23))))","v":""},{"$f":"IF(ISNA(Lists!$J15),\"\",IF((INDIRECT(\"'\"&Lists!$J15&\"'!\"&Lists!$L15&AA$23))=\"\",\"\",(INDIRECT(\"'\"&Lists!$J15&\"'!\"&Lists!$L15&AA$23))))","v":""},{"$f":"IF(ISNA(Lists!$J15),\"\",IF((INDIRECT(\"'\"&Lists!$J15&\"'!\"&Lists!$L15&AB$23))=\"\",\"\",(INDIRECT(\"'\"&Lists!$J15&\"'!\"&Lists!$L15&AB$23))))","v":""},{"$f":"IF(ISNA(Lists!$J15),\"\",IF((INDIRECT(\"'\"&Lists!$J15&\"'!\"&Lists!$K15&AC$23))=\"\",\"\",(INDIRECT(\"'\"&Lists!$J15&\"'!\"&Lists!$K15&AC$23))))","v":""},{"$f":"IF(ISNA(Lists!$J15),\"\",IF((INDIRECT(\"'\"&Lists!$J15&\"'!\"&Lists!$L15&AD$23))=\"\",\"\",(INDIRECT(\"'\"&Lists!$J15&\"'!\"&Lists!$L15&AD$23))))","v":""},{"$f":"IF(ISNA(Lists!$J15),\"\",IF((INDIRECT(\"'\"&Lists!$J15&\"'!\"&Lists!$K15&AE$23))=\"\",\"\",(INDIRECT(\"'\"&Lists!$J15&\"'!\"&Lists!$K15&AE$23))))","v":""},{"$f":"IF(ISNA(Lists!$J15),\"\",IF((INDIRECT(\"'\"&Lists!$J15&\"'!\"&Lists!$K15&AF$23))=\"\",\"\",(INDIRECT(\"'\"&Lists!$J15&\"'!\"&Lists!$K15&AF$23))))","v":""},{"$f":"IF(ISNA(Lists!$J15),\"\",IF((INDIRECT(\"'\"&Lists!$J15&\"'!\"&Lists!$K15&AG$23))=\"\",\"\",(INDIRECT(\"'\"&Lists!$J15&\"'!\"&Lists!$K15&AG$23))))","v":""},{"$f":"IF(ISNA(Lists!$J15),\"\",IF((INDIRECT(\"'\"&Lists!$J15&\"'!\"&Lists!$K15&AH$23))=\"\",\"\",(INDIRECT(\"'\"&Lists!$J15&\"'!\"&Lists!$K15&AH$23))))","v":""},{"$f":"IF(ISNA(Lists!$J15),\"\",IF((INDIRECT(\"'\"&Lists!$J15&\"'!\"&Lists!$K15&AI$23))=\"\",\"\",(INDIRECT(\"'\"&Lists!$J15&\"'!\"&Lists!$K15&AI$23))))","v":""},{"$f":"IF(ISNA(Lists!$J15),\"\",IF((INDIRECT(\"'\"&Lists!$J15&\"'!\"&Lists!$K15&AJ$23))=\"\",\"\",(INDIRECT(\"'\"&Lists!$J15&\"'!\"&Lists!$K15&AJ$23))))","v":""},{"$f":"IF(ISNA(Lists!$J15),\"\",IF((INDIRECT(\"'\"&Lists!$J15&\"'!\"&Lists!$K15&AK$23))=\"\",\"\",(INDIRECT(\"'\"&Lists!$J15&\"'!\"&Lists!$K15&AK$23))))","v":""},{"$f":"IF(ISNA(Lists!$J15),\"\",IF((INDIRECT(\"'\"&Lists!$J15&\"'!\"&Lists!$K15&AL$23))=\"\",\"\",(INDIRECT(\"'\"&Lists!$J15&\"'!\"&Lists!$K15&AL$23))))","v":""},{"$f":"IF(ISNA(Lists!$J15),\"\",IF((INDIRECT(\"'\"&Lists!$J15&\"'!\"&Lists!$K15&AM$23))=\"\",\"\",(INDIRECT(\"'\"&Lists!$J15&\"'!\"&Lists!$K15&AM$23))))","v":""},{"$f":"IF(ISNA(Lists!$J15),\"\",IF((INDIRECT(\"'\"&Lists!$J15&\"'!\"&Lists!$K15&AN$23))=\"\",\"\",(INDIRECT(\"'\"&Lists!$J15&\"'!\"&Lists!$K15&AN$23))))","v":""},{"$f":"IF(ISNA(Lists!$J15),\"\",IF((INDIRECT(\"'\"&Lists!$J15&\"'!\"&Lists!$K15&AO$23))=\"\",\"\",(INDIRECT(\"'\"&Lists!$J15&\"'!\"&Lists!$K15&AO$23))))","v":""}]
[null,{"$f":"IF(C38=\"\",\"\",Facility_Info_upload!$B$24)","v":""},{"$f":"IF(ISNA(Lists!$J16),\"\",IF(INDIRECT(\"'\"&Lists!$J16&\"'!\"&\"B\"&C$23)=\"\",\"\",(INDIRECT(\"'\"&Lists!$J16&\"'!\"&\"B\"&C$23))))","v":""},{"$f":"IF(ISNA(Lists!$J16),\"\",IF(INDIRECT(\"'\"&Lists!$J16&\"'!\"&\"B\"&D$23)=\"\",\"\",(INDIRECT(\"'\"&Lists!$J16&\"'!\"&\"B\"&D$23))))","v":""},{"$f":"IF(ISNA(Lists!$J16),\"\",IF(INDIRECT(\"'\"&Lists!$J16&\"'!\"&\"B\"&E$23)=\"\",\"\",(INDIRECT(\"'\"&Lists!$J16&\"'!\"&\"B\"&E$23))))","v":""},{"$f":"IF(ISNA(Lists!$J16),\"\",IF(INDIRECT(\"'\"&Lists!$J16&\"'!\"&\"B\"&F$23)=\"\",\"\",(INDIRECT(\"'\"&Lists!$J16&\"'!\"&\"B\"&F$23))))","v":""},{"$f":"IF(ISNA(Lists!$J16),\"\",IF(INDIRECT(\"'\"&Lists!$J16&\"'!\"&\"B\"&G$23)=\"\",\"\",(INDIRECT(\"'\"&Lists!$J16&\"'!\"&\"B\"&G$23))))","v":""},{"$f":"IF(ISNA(Lists!$J16),\"\",IF((INDIRECT(\"'\"&Lists!$J16&\"'!\"&Lists!$K16&H$23))=\"\",\"\",(INDIRECT(\"'\"&Lists!$J16&\"'!\"&Lists!$K16&H$23))))","v":""},{"$f":"IF(ISNA(Lists!$J16),\"\",IF((INDIRECT(\"'\"&Lists!$J16&\"'!\"&Lists!$K16&I$23))=\"\",\"\",(INDIRECT(\"'\"&Lists!$J16&\"'!\"&Lists!$K16&I$23))))","v":""},{"$f":"IF(ISNA(Lists!$J16),\"\",IF((INDIRECT(\"'\"&Lists!$J16&\"'!\"&Lists!$K16&J$23))=\"\",\"\",(INDIRECT(\"'\"&Lists!$J16&\"'!\"&Lists!$K16&J$23))))","v":""},{"$f":"IF(ISNA(Lists!$J16),\"\",IF((INDIRECT(\"'\"&Lists!$J16&\"'!\"&Lists!$K16&K$23))=\"\",\"\",(INDIRECT(\"'\"&Lists!$J16&\"'!\"&Lists!$K16&K$23))))","v":""},{"$f":"IF(ISNA(Lists!$J16),\"\",IF((INDIRECT(\"'\"&Lists!$J16&\"'!\"&Lists!$K16&L$23))=\"\",\"\",(INDIRECT(\"'\"&Lists!$J16&\"'!\"&Lists!$K16&L$23))))","v":""},{"$f":"IF(ISNA(Lists!$J16),\"\",IF((INDIRECT(\"'\"&Lists!$J16&\"'!\"&Lists!$K16&M$23))=\"\",\"\",(INDIRECT(\"'\"&Lists!$J16&\"'!\"&Lists!$K16&M$23))))","v":""},{"$f":"IF(ISNA(Lists!$J16),\"\",IF((INDIRECT(\"'\"&Lists!$J16&\"'!\"&Lists!$K16&N$23))=\"\",\"\",(INDIRECT(\"'\"&Lists!$J16&\"'!\"&Lists!$K16&N$23))))","v":""},{"$f":"IF(ISNA(Lists!$J16),\"\",IF((INDIRECT(\"'\"&Lists!$J16&\"'!\"&Lists!$K16&O$23))=\"\",\"\",(INDIRECT(\"'\"&Lists!$J16&\"'!\"&Lists!$K16&O$23))))","v":""},{"$f":"IF(ISNA(Lists!$J16),\"\",IF((INDIRECT(\"'\"&Lists!$J16&\"'!\"&Lists!$K16&P$23))=\"\",\"\",(INDIRECT(\"'\"&Lists!$J16&\"'!\"&Lists!$K16&P$23))))","v":""},{"$f":"IF(ISNA(Lists!$J16),\"\",IF((INDIRECT(\"'\"&Lists!$J16&\"'!\"&Lists!$K16&Q$23))=\"\",\"\",(INDIRECT(\"'\"&Lists!$J16&\"'!\"&Lists!$K16&Q$23))))","v":""},{"$f":"IF(ISNA(Lists!$J16),\"\",IF((INDIRECT(\"'\"&Lists!$J16&\"'!\"&Lists!$K16&R$23))=\"\",\"\",(INDIRECT(\"'\"&Lists!$J16&\"'!\"&Lists!$K16&R$23))))","v":""},{"$f":"IF(ISNA(Lists!$J16),\"\",IF((INDIRECT(\"'\"&Lists!$J16&\"'!\"&Lists!$K16&S$23))=\"\",\"\",(INDIRECT(\"'\"&Lists!$J16&\"'!\"&Lists!$K16&S$23))))","v":""},{"$f":"IF(ISNA(Lists!$J16),\"\",IF((INDIRECT(\"'\"&Lists!$J16&\"'!\"&Lists!$K16&T$23))=\"\",\"\",(INDIRECT(\"'\"&Lists!$J16&\"'!\"&Lists!$K16&T$23))))","v":""},{"$f":"IF(ISNA(Lists!$J16),\"\",IF((INDIRECT(\"'\"&Lists!$J16&\"'!\"&Lists!$K16&U$23))=\"\",\"\",(INDIRECT(\"'\"&Lists!$J16&\"'!\"&Lists!$K16&U$23))))","v":""},{"$f":"IF(ISNA(Lists!$J16),\"\",IF((INDIRECT(\"'\"&Lists!$J16&\"'!\"&Lists!$L16&V$23))=\"\",\"\",(INDIRECT(\"'\"&Lists!$J16&\"'!\"&Lists!$L16&V$23))))","v":""},{"$f":"IF(ISNA(Lists!$J16),\"\",IF((INDIRECT(\"'\"&Lists!$J16&\"'!\"&Lists!$L16&W$23))=\"\",\"\",(INDIRECT(\"'\"&Lists!$J16&\"'!\"&Lists!$L16&W$23))))","v":""},{"$f":"IF(ISNA(Lists!$J16),\"\",IF((INDIRECT(\"'\"&Lists!$J16&\"'!\"&Lists!$L16&X$23))=\"\",\"\",(INDIRECT(\"'\"&Lists!$J16&\"'!\"&Lists!$L16&X$23))))","v":""},{"$f":"IF(ISNA(Lists!$J16),\"\",IF((INDIRECT(\"'\"&Lists!$J16&\"'!\"&Lists!$L16&Y$23))=\"\",\"\",(INDIRECT(\"'\"&Lists!$J16&\"'!\"&Lists!$L16&Y$23))))","v":""},{"$f":"IF(ISNA(Lists!$J16),\"\",IF((INDIRECT(\"'\"&Lists!$J16&\"'!\"&Lists!$L16&Z$23))=\"\",\"\",(INDIRECT(\"'\"&Lists!$J16&\"'!\"&Lists!$L16&Z$23))))","v":""},{"$f":"IF(ISNA(Lists!$J16),\"\",IF((INDIRECT(\"'\"&Lists!$J16&\"'!\"&Lists!$L16&AA$23))=\"\",\"\",(INDIRECT(\"'\"&Lists!$J16&\"'!\"&Lists!$L16&AA$23))))","v":""},{"$f":"IF(ISNA(Lists!$J16),\"\",IF((INDIRECT(\"'\"&Lists!$J16&\"'!\"&Lists!$L16&AB$23))=\"\",\"\",(INDIRECT(\"'\"&Lists!$J16&\"'!\"&Lists!$L16&AB$23))))","v":""},{"$f":"IF(ISNA(Lists!$J16),\"\",IF((INDIRECT(\"'\"&Lists!$J16&\"'!\"&Lists!$K16&AC$23))=\"\",\"\",(INDIRECT(\"'\"&Lists!$J16&\"'!\"&Lists!$K16&AC$23))))","v":""},{"$f":"IF(ISNA(Lists!$J16),\"\",IF((INDIRECT(\"'\"&Lists!$J16&\"'!\"&Lists!$L16&AD$23))=\"\",\"\",(INDIRECT(\"'\"&Lists!$J16&\"'!\"&Lists!$L16&AD$23))))","v":""},{"$f":"IF(ISNA(Lists!$J16),\"\",IF((INDIRECT(\"'\"&Lists!$J16&\"'!\"&Lists!$K16&AE$23))=\"\",\"\",(INDIRECT(\"'\"&Lists!$J16&\"'!\"&Lists!$K16&AE$23))))","v":""},{"$f":"IF(ISNA(Lists!$J16),\"\",IF((INDIRECT(\"'\"&Lists!$J16&\"'!\"&Lists!$K16&AF$23))=\"\",\"\",(INDIRECT(\"'\"&Lists!$J16&\"'!\"&Lists!$K16&AF$23))))","v":""},{"$f":"IF(ISNA(Lists!$J16),\"\",IF((INDIRECT(\"'\"&Lists!$J16&\"'!\"&Lists!$K16&AG$23))=\"\",\"\",(INDIRECT(\"'\"&Lists!$J16&\"'!\"&Lists!$K16&AG$23))))","v":""},{"$f":"IF(ISNA(Lists!$J16),\"\",IF((INDIRECT(\"'\"&Lists!$J16&\"'!\"&Lists!$K16&AH$23))=\"\",\"\",(INDIRECT(\"'\"&Lists!$J16&\"'!\"&Lists!$K16&AH$23))))","v":""},{"$f":"IF(ISNA(Lists!$J16),\"\",IF((INDIRECT(\"'\"&Lists!$J16&\"'!\"&Lists!$K16&AI$23))=\"\",\"\",(INDIRECT(\"'\"&Lists!$J16&\"'!\"&Lists!$K16&AI$23))))","v":""},{"$f":"IF(ISNA(Lists!$J16),\"\",IF((INDIRECT(\"'\"&Lists!$J16&\"'!\"&Lists!$K16&AJ$23))=\"\",\"\",(INDIRECT(\"'\"&Lists!$J16&\"'!\"&Lists!$K16&AJ$23))))","v":""},{"$f":"IF(ISNA(Lists!$J16),\"\",IF((INDIRECT(\"'\"&Lists!$J16&\"'!\"&Lists!$K16&AK$23))=\"\",\"\",(INDIRECT(\"'\"&Lists!$J16&\"'!\"&Lists!$K16&AK$23))))","v":""},{"$f":"IF(ISNA(Lists!$J16),\"\",IF((INDIRECT(\"'\"&Lists!$J16&\"'!\"&Lists!$K16&AL$23))=\"\",\"\",(INDIRECT(\"'\"&Lists!$J16&\"'!\"&Lists!$K16&AL$23))))","v":""},{"$f":"IF(ISNA(Lists!$J16),\"\",IF((INDIRECT(\"'\"&Lists!$J16&\"'!\"&Lists!$K16&AM$23))=\"\",\"\",(INDIRECT(\"'\"&Lists!$J16&\"'!\"&Lists!$K16&AM$23))))","v":""},{"$f":"IF(ISNA(Lists!$J16),\"\",IF((INDIRECT(\"'\"&Lists!$J16&\"'!\"&Lists!$K16&AN$23))=\"\",\"\",(INDIRECT(\"'\"&Lists!$J16&\"'!\"&Lists!$K16&AN$23))))","v":""},{"$f":"IF(ISNA(Lists!$J16),\"\",IF((INDIRECT(\"'\"&Lists!$J16&\"'!\"&Lists!$K16&AO$23))=\"\",\"\",(INDIRECT(\"'\"&Lists!$J16&\"'!\"&Lists!$K16&AO$23))))","v":""}]
[null,{"$f":"IF(C39=\"\",\"\",Facility_Info_upload!$B$24)","v":""},{"$f":"IF(ISNA(Lists!$J17),\"\",IF(INDIRECT(\"'\"&Lists!$J17&\"'!\"&\"B\"&C$23)=\"\",\"\",(INDIRECT(\"'\"&Lists!$J17&\"'!\"&\"B\"&C$23))))","v":""},{"$f":"IF(ISNA(Lists!$J17),\"\",IF(INDIRECT(\"'\"&Lists!$J17&\"'!\"&\"B\"&D$23)=\"\",\"\",(INDIRECT(\"'\"&Lists!$J17&\"'!\"&\"B\"&D$23))))","v":""},{"$f":"IF(ISNA(Lists!$J17),\"\",IF(INDIRECT(\"'\"&Lists!$J17&\"'!\"&\"B\"&E$23)=\"\",\"\",(INDIRECT(\"'\"&Lists!$J17&\"'!\"&\"B\"&E$23))))","v":""},{"$f":"IF(ISNA(Lists!$J17),\"\",IF(INDIRECT(\"'\"&Lists!$J17&\"'!\"&\"B\"&F$23)=\"\",\"\",(INDIRECT(\"'\"&Lists!$J17&\"'!\"&\"B\"&F$23))))","v":""},{"$f":"IF(ISNA(Lists!$J17),\"\",IF(INDIRECT(\"'\"&Lists!$J17&\"'!\"&\"B\"&G$23)=\"\",\"\",(INDIRECT(\"'\"&Lists!$J17&\"'!\"&\"B\"&G$23))))","v":""},{"$f":"IF(ISNA(Lists!$J17),\"\",IF((INDIRECT(\"'\"&Lists!$J17&\"'!\"&Lists!$K17&H$23))=\"\",\"\",(INDIRECT(\"'\"&Lists!$J17&\"'!\"&Lists!$K17&H$23))))","v":""},{"$f":"IF(ISNA(Lists!$J17),\"\",IF((INDIRECT(\"'\"&Lists!$J17&\"'!\"&Lists!$K17&I$23))=\"\",\"\",(INDIRECT(\"'\"&Lists!$J17&\"'!\"&Lists!$K17&I$23))))","v":""},{"$f":"IF(ISNA(Lists!$J17),\"\",IF((INDIRECT(\"'\"&Lists!$J17&\"'!\"&Lists!$K17&J$23))=\"\",\"\",(INDIRECT(\"'\"&Lists!$J17&\"'!\"&Lists!$K17&J$23))))","v":""},{"$f":"IF(ISNA(Lists!$J17),\"\",IF((INDIRECT(\"'\"&Lists!$J17&\"'!\"&Lists!$K17&K$23))=\"\",\"\",(INDIRECT(\"'\"&Lists!$J17&\"'!\"&Lists!$K17&K$23))))","v":""},{"$f":"IF(ISNA(Lists!$J17),\"\",IF((INDIRECT(\"'\"&Lists!$J17&\"'!\"&Lists!$K17&L$23))=\"\",\"\",(INDIRECT(\"'\"&Lists!$J17&\"'!\"&Lists!$K17&L$23))))","v":""},{"$f":"IF(ISNA(Lists!$J17),\"\",IF((INDIRECT(\"'\"&Lists!$J17&\"'!\"&Lists!$K17&M$23))=\"\",\"\",(INDIRECT(\"'\"&Lists!$J17&\"'!\"&Lists!$K17&M$23))))","v":""},{"$f":"IF(ISNA(Lists!$J17),\"\",IF((INDIRECT(\"'\"&Lists!$J17&\"'!\"&Lists!$K17&N$23))=\"\",\"\",(INDIRECT(\"'\"&Lists!$J17&\"'!\"&Lists!$K17&N$23))))","v":""},{"$f":"IF(ISNA(Lists!$J17),\"\",IF((INDIRECT(\"'\"&Lists!$J17&\"'!\"&Lists!$K17&O$23))=\"\",\"\",(INDIRECT(\"'\"&Lists!$J17&\"'!\"&Lists!$K17&O$23))))","v":""},{"$f":"IF(ISNA(Lists!$J17),\"\",IF((INDIRECT(\"'\"&Lists!$J17&\"'!\"&Lists!$K17&P$23))=\"\",\"\",(INDIRECT(\"'\"&Lists!$J17&\"'!\"&Lists!$K17&P$23))))","v":""},{"$f":"IF(ISNA(Lists!$J17),\"\",IF((INDIRECT(\"'\"&Lists!$J17&\"'!\"&Lists!$K17&Q$23))=\"\",\"\",(INDIRECT(\"'\"&Lists!$J17&\"'!\"&Lists!$K17&Q$23))))","v":""},{"$f":"IF(ISNA(Lists!$J17),\"\",IF((INDIRECT(\"'\"&Lists!$J17&\"'!\"&Lists!$K17&R$23))=\"\",\"\",(INDIRECT(\"'\"&Lists!$J17&\"'!\"&Lists!$K17&R$23))))","v":""},{"$f":"IF(ISNA(Lists!$J17),\"\",IF((INDIRECT(\"'\"&Lists!$J17&\"'!\"&Lists!$K17&S$23))=\"\",\"\",(INDIRECT(\"'\"&Lists!$J17&\"'!\"&Lists!$K17&S$23))))","v":""},{"$f":"IF(ISNA(Lists!$J17),\"\",IF((INDIRECT(\"'\"&Lists!$J17&\"'!\"&Lists!$K17&T$23))=\"\",\"\",(INDIRECT(\"'\"&Lists!$J17&\"'!\"&Lists!$K17&T$23))))","v":""},{"$f":"IF(ISNA(Lists!$J17),\"\",IF((INDIRECT(\"'\"&Lists!$J17&\"'!\"&Lists!$K17&U$23))=\"\",\"\",(INDIRECT(\"'\"&Lists!$J17&\"'!\"&Lists!$K17&U$23))))","v":""},{"$f":"IF(ISNA(Lists!$J17),\"\",IF((INDIRECT(\"'\"&Lists!$J17&\"'!\"&Lists!$L17&V$23))=\"\",\"\",(INDIRECT(\"'\"&Lists!$J17&\"'!\"&Lists!$L17&V$23))))","v":""},{"$f":"IF(ISNA(Lists!$J17),\"\",IF((INDIRECT(\"'\"&Lists!$J17&\"'!\"&Lists!$L17&W$23))=\"\",\"\",(INDIRECT(\"'\"&Lists!$J17&\"'!\"&Lists!$L17&W$23))))","v":""},{"$f":"IF(ISNA(Lists!$J17),\"\",IF((INDIRECT(\"'\"&Lists!$J17&\"'!\"&Lists!$L17&X$23))=\"\",\"\",(INDIRECT(\"'\"&Lists!$J17&\"'!\"&Lists!$L17&X$23))))","v":""},{"$f":"IF(ISNA(Lists!$J17),\"\",IF((INDIRECT(\"'\"&Lists!$J17&\"'!\"&Lists!$L17&Y$23))=\"\",\"\",(INDIRECT(\"'\"&Lists!$J17&\"'!\"&Lists!$L17&Y$23))))","v":""},{"$f":"IF(ISNA(Lists!$J17),\"\",IF((INDIRECT(\"'\"&Lists!$J17&\"'!\"&Lists!$L17&Z$23))=\"\",\"\",(INDIRECT(\"'\"&Lists!$J17&\"'!\"&Lists!$L17&Z$23))))","v":""},{"$f":"IF(ISNA(Lists!$J17),\"\",IF((INDIRECT(\"'\"&Lists!$J17&\"'!\"&Lists!$L17&AA$23))=\"\",\"\",(INDIRECT(\"'\"&Lists!$J17&\"'!\"&Lists!$L17&AA$23))))","v":""},{"$f":"IF(ISNA(Lists!$J17),\"\",IF((INDIRECT(\"'\"&Lists!$J17&\"'!\"&Lists!$L17&AB$23))=\"\",\"\",(INDIRECT(\"'\"&Lists!$J17&\"'!\"&Lists!$L17&AB$23))))","v":""},{"$f":"IF(ISNA(Lists!$J17),\"\",IF((INDIRECT(\"'\"&Lists!$J17&\"'!\"&Lists!$K17&AC$23))=\"\",\"\",(INDIRECT(\"'\"&Lists!$J17&\"'!\"&Lists!$K17&AC$23))))","v":""},{"$f":"IF(ISNA(Lists!$J17),\"\",IF((INDIRECT(\"'\"&Lists!$J17&\"'!\"&Lists!$L17&AD$23))=\"\",\"\",(INDIRECT(\"'\"&Lists!$J17&\"'!\"&Lists!$L17&AD$23))))","v":""},{"$f":"IF(ISNA(Lists!$J17),\"\",IF((INDIRECT(\"'\"&Lists!$J17&\"'!\"&Lists!$K17&AE$23))=\"\",\"\",(INDIRECT(\"'\"&Lists!$J17&\"'!\"&Lists!$K17&AE$23))))","v":""},{"$f":"IF(ISNA(Lists!$J17),\"\",IF((INDIRECT(\"'\"&Lists!$J17&\"'!\"&Lists!$K17&AF$23))=\"\",\"\",(INDIRECT(\"'\"&Lists!$J17&\"'!\"&Lists!$K17&AF$23))))","v":""},{"$f":"IF(ISNA(Lists!$J17),\"\",IF((INDIRECT(\"'\"&Lists!$J17&\"'!\"&Lists!$K17&AG$23))=\"\",\"\",(INDIRECT(\"'\"&Lists!$J17&\"'!\"&Lists!$K17&AG$23))))","v":""},{"$f":"IF(ISNA(Lists!$J17),\"\",IF((INDIRECT(\"'\"&Lists!$J17&\"'!\"&Lists!$K17&AH$23))=\"\",\"\",(INDIRECT(\"'\"&Lists!$J17&\"'!\"&Lists!$K17&AH$23))))","v":""},{"$f":"IF(ISNA(Lists!$J17),\"\",IF((INDIRECT(\"'\"&Lists!$J17&\"'!\"&Lists!$K17&AI$23))=\"\",\"\",(INDIRECT(\"'\"&Lists!$J17&\"'!\"&Lists!$K17&AI$23))))","v":""},{"$f":"IF(ISNA(Lists!$J17),\"\",IF((INDIRECT(\"'\"&Lists!$J17&\"'!\"&Lists!$K17&AJ$23))=\"\",\"\",(INDIRECT(\"'\"&Lists!$J17&\"'!\"&Lists!$K17&AJ$23))))","v":""},{"$f":"IF(ISNA(Lists!$J17),\"\",IF((INDIRECT(\"'\"&Lists!$J17&\"'!\"&Lists!$K17&AK$23))=\"\",\"\",(INDIRECT(\"'\"&Lists!$J17&\"'!\"&Lists!$K17&AK$23))))","v":""},{"$f":"IF(ISNA(Lists!$J17),\"\",IF((INDIRECT(\"'\"&Lists!$J17&\"'!\"&Lists!$K17&AL$23))=\"\",\"\",(INDIRECT(\"'\"&Lists!$J17&\"'!\"&Lists!$K17&AL$23))))","v":""},{"$f":"IF(ISNA(Lists!$J17),\"\",IF((INDIRECT(\"'\"&Lists!$J17&\"'!\"&Lists!$K17&AM$23))=\"\",\"\",(INDIRECT(\"'\"&Lists!$J17&\"'!\"&Lists!$K17&AM$23))))","v":""},{"$f":"IF(ISNA(Lists!$J17),\"\",IF((INDIRECT(\"'\"&Lists!$J17&\"'!\"&Lists!$K17&AN$23))=\"\",\"\",(INDIRECT(\"'\"&Lists!$J17&\"'!\"&Lists!$K17&AN$23))))","v":""},{"$f":"IF(ISNA(Lists!$J17),\"\",IF((INDIRECT(\"'\"&Lists!$J17&\"'!\"&Lists!$K17&AO$23))=\"\",\"\",(INDIRECT(\"'\"&Lists!$J17&\"'!\"&Lists!$K17&AO$23))))","v":""}]
[null,{"$f":"IF(C40=\"\",\"\",Facility_Info_upload!$B$24)","v":""},{"$f":"IF(ISNA(Lists!$J18),\"\",IF(INDIRECT(\"'\"&Lists!$J18&\"'!\"&\"B\"&C$23)=\"\",\"\",(INDIRECT(\"'\"&Lists!$J18&\"'!\"&\"B\"&C$23))))","v":""},{"$f":"IF(ISNA(Lists!$J18),\"\",IF(INDIRECT(\"'\"&Lists!$J18&\"'!\"&\"B\"&D$23)=\"\",\"\",(INDIRECT(\"'\"&Lists!$J18&\"'!\"&\"B\"&D$23))))","v":""},{"$f":"IF(ISNA(Lists!$J18),\"\",IF(INDIRECT(\"'\"&Lists!$J18&\"'!\"&\"B\"&E$23)=\"\",\"\",(INDIRECT(\"'\"&Lists!$J18&\"'!\"&\"B\"&E$23))))","v":""},{"$f":"IF(ISNA(Lists!$J18),\"\",IF(INDIRECT(\"'\"&Lists!$J18&\"'!\"&\"B\"&F$23)=\"\",\"\",(INDIRECT(\"'\"&Lists!$J18&\"'!\"&\"B\"&F$23))))","v":""},{"$f":"IF(ISNA(Lists!$J18),\"\",IF(INDIRECT(\"'\"&Lists!$J18&\"'!\"&\"B\"&G$23)=\"\",\"\",(INDIRECT(\"'\"&Lists!$J18&\"'!\"&\"B\"&G$23))))","v":""},{"$f":"IF(ISNA(Lists!$J18),\"\",IF((INDIRECT(\"'\"&Lists!$J18&\"'!\"&Lists!$K18&H$23))=\"\",\"\",(INDIRECT(\"'\"&Lists!$J18&\"'!\"&Lists!$K18&H$23))))","v":""},{"$f":"IF(ISNA(Lists!$J18),\"\",IF((INDIRECT(\"'\"&Lists!$J18&\"'!\"&Lists!$K18&I$23))=\"\",\"\",(INDIRECT(\"'\"&Lists!$J18&\"'!\"&Lists!$K18&I$23))))","v":""},{"$f":"IF(ISNA(Lists!$J18),\"\",IF((INDIRECT(\"'\"&Lists!$J18&\"'!\"&Lists!$K18&J$23))=\"\",\"\",(INDIRECT(\"'\"&Lists!$J18&\"'!\"&Lists!$K18&J$23))))","v":""},{"$f":"IF(ISNA(Lists!$J18),\"\",IF((INDIRECT(\"'\"&Lists!$J18&\"'!\"&Lists!$K18&K$23))=\"\",\"\",(INDIRECT(\"'\"&Lists!$J18&\"'!\"&Lists!$K18&K$23))))","v":""},{"$f":"IF(ISNA(Lists!$J18),\"\",IF((INDIRECT(\"'\"&Lists!$J18&\"'!\"&Lists!$K18&L$23))=\"\",\"\",(INDIRECT(\"'\"&Lists!$J18&\"'!\"&Lists!$K18&L$23))))","v":""},{"$f":"IF(ISNA(Lists!$J18),\"\",IF((INDIRECT(\"'\"&Lists!$J18&\"'!\"&Lists!$K18&M$23))=\"\",\"\",(INDIRECT(\"'\"&Lists!$J18&\"'!\"&Lists!$K18&M$23))))","v":""},{"$f":"IF(ISNA(Lists!$J18),\"\",IF((INDIRECT(\"'\"&Lists!$J18&\"'!\"&Lists!$K18&N$23))=\"\",\"\",(INDIRECT(\"'\"&Lists!$J18&\"'!\"&Lists!$K18&N$23))))","v":""},{"$f":"IF(ISNA(Lists!$J18),\"\",IF((INDIRECT(\"'\"&Lists!$J18&\"'!\"&Lists!$K18&O$23))=\"\",\"\",(INDIRECT(\"'\"&Lists!$J18&\"'!\"&Lists!$K18&O$23))))","v":""},{"$f":"IF(ISNA(Lists!$J18),\"\",IF((INDIRECT(\"'\"&Lists!$J18&\"'!\"&Lists!$K18&P$23))=\"\",\"\",(INDIRECT(\"'\"&Lists!$J18&\"'!\"&Lists!$K18&P$23))))","v":""},{"$f":"IF(ISNA(Lists!$J18),\"\",IF((INDIRECT(\"'\"&Lists!$J18&\"'!\"&Lists!$K18&Q$23))=\"\",\"\",(INDIRECT(\"'\"&Lists!$J18&\"'!\"&Lists!$K18&Q$23))))","v":""},{"$f":"IF(ISNA(Lists!$J18),\"\",IF((INDIRECT(\"'\"&Lists!$J18&\"'!\"&Lists!$K18&R$23))=\"\",\"\",(INDIRECT(\"'\"&Lists!$J18&\"'!\"&Lists!$K18&R$23))))","v":""},{"$f":"IF(ISNA(Lists!$J18),\"\",IF((INDIRECT(\"'\"&Lists!$J18&\"'!\"&Lists!$K18&S$23))=\"\",\"\",(INDIRECT(\"'\"&Lists!$J18&\"'!\"&Lists!$K18&S$23))))","v":""},{"$f":"IF(ISNA(Lists!$J18),\"\",IF((INDIRECT(\"'\"&Lists!$J18&\"'!\"&Lists!$K18&T$23))=\"\",\"\",(INDIRECT(\"'\"&Lists!$J18&\"'!\"&Lists!$K18&T$23))))","v":""},{"$f":"IF(ISNA(Lists!$J18),\"\",IF((INDIRECT(\"'\"&Lists!$J18&\"'!\"&Lists!$K18&U$23))=\"\",\"\",(INDIRECT(\"'\"&Lists!$J18&\"'!\"&Lists!$K18&U$23))))","v":""},{"$f":"IF(ISNA(Lists!$J18),\"\",IF((INDIRECT(\"'\"&Lists!$J18&\"'!\"&Lists!$L18&V$23))=\"\",\"\",(INDIRECT(\"'\"&Lists!$J18&\"'!\"&Lists!$L18&V$23))))","v":""},{"$f":"IF(ISNA(Lists!$J18),\"\",IF((INDIRECT(\"'\"&Lists!$J18&\"'!\"&Lists!$L18&W$23))=\"\",\"\",(INDIRECT(\"'\"&Lists!$J18&\"'!\"&Lists!$L18&W$23))))","v":""},{"$f":"IF(ISNA(Lists!$J18),\"\",IF((INDIRECT(\"'\"&Lists!$J18&\"'!\"&Lists!$L18&X$23))=\"\",\"\",(INDIRECT(\"'\"&Lists!$J18&\"'!\"&Lists!$L18&X$23))))","v":""},{"$f":"IF(ISNA(Lists!$J18),\"\",IF((INDIRECT(\"'\"&Lists!$J18&\"'!\"&Lists!$L18&Y$23))=\"\",\"\",(INDIRECT(\"'\"&Lists!$J18&\"'!\"&Lists!$L18&Y$23))))","v":""},{"$f":"IF(ISNA(Lists!$J18),\"\",IF((INDIRECT(\"'\"&Lists!$J18&\"'!\"&Lists!$L18&Z$23))=\"\",\"\",(INDIRECT(\"'\"&Lists!$J18&\"'!\"&Lists!$L18&Z$23))))","v":""},{"$f":"IF(ISNA(Lists!$J18),\"\",IF((INDIRECT(\"'\"&Lists!$J18&\"'!\"&Lists!$L18&AA$23))=\"\",\"\",(INDIRECT(\"'\"&Lists!$J18&\"'!\"&Lists!$L18&AA$23))))","v":""},{"$f":"IF(ISNA(Lists!$J18),\"\",IF((INDIRECT(\"'\"&Lists!$J18&\"'!\"&Lists!$L18&AB$23))=\"\",\"\",(INDIRECT(\"'\"&Lists!$J18&\"'!\"&Lists!$L18&AB$23))))","v":""},{"$f":"IF(ISNA(Lists!$J18),\"\",IF((INDIRECT(\"'\"&Lists!$J18&\"'!\"&Lists!$K18&AC$23))=\"\",\"\",(INDIRECT(\"'\"&Lists!$J18&\"'!\"&Lists!$K18&AC$23))))","v":""},{"$f":"IF(ISNA(Lists!$J18),\"\",IF((INDIRECT(\"'\"&Lists!$J18&\"'!\"&Lists!$L18&AD$23))=\"\",\"\",(INDIRECT(\"'\"&Lists!$J18&\"'!\"&Lists!$L18&AD$23))))","v":""},{"$f":"IF(ISNA(Lists!$J18),\"\",IF((INDIRECT(\"'\"&Lists!$J18&\"'!\"&Lists!$K18&AE$23))=\"\",\"\",(INDIRECT(\"'\"&Lists!$J18&\"'!\"&Lists!$K18&AE$23))))","v":""},{"$f":"IF(ISNA(Lists!$J18),\"\",IF((INDIRECT(\"'\"&Lists!$J18&\"'!\"&Lists!$K18&AF$23))=\"\",\"\",(INDIRECT(\"'\"&Lists!$J18&\"'!\"&Lists!$K18&AF$23))))","v":""},{"$f":"IF(ISNA(Lists!$J18),\"\",IF((INDIRECT(\"'\"&Lists!$J18&\"'!\"&Lists!$K18&AG$23))=\"\",\"\",(INDIRECT(\"'\"&Lists!$J18&\"'!\"&Lists!$K18&AG$23))))","v":""},{"$f":"IF(ISNA(Lists!$J18),\"\",IF((INDIRECT(\"'\"&Lists!$J18&\"'!\"&Lists!$K18&AH$23))=\"\",\"\",(INDIRECT(\"'\"&Lists!$J18&\"'!\"&Lists!$K18&AH$23))))","v":""},{"$f":"IF(ISNA(Lists!$J18),\"\",IF((INDIRECT(\"'\"&Lists!$J18&\"'!\"&Lists!$K18&AI$23))=\"\",\"\",(INDIRECT(\"'\"&Lists!$J18&\"'!\"&Lists!$K18&AI$23))))","v":""},{"$f":"IF(ISNA(Lists!$J18),\"\",IF((INDIRECT(\"'\"&Lists!$J18&\"'!\"&Lists!$K18&AJ$23))=\"\",\"\",(INDIRECT(\"'\"&Lists!$J18&\"'!\"&Lists!$K18&AJ$23))))","v":""},{"$f":"IF(ISNA(Lists!$J18),\"\",IF((INDIRECT(\"'\"&Lists!$J18&\"'!\"&Lists!$K18&AK$23))=\"\",\"\",(INDIRECT(\"'\"&Lists!$J18&\"'!\"&Lists!$K18&AK$23))))","v":""},{"$f":"IF(ISNA(Lists!$J18),\"\",IF((INDIRECT(\"'\"&Lists!$J18&\"'!\"&Lists!$K18&AL$23))=\"\",\"\",(INDIRECT(\"'\"&Lists!$J18&\"'!\"&Lists!$K18&AL$23))))","v":""},{"$f":"IF(ISNA(Lists!$J18),\"\",IF((INDIRECT(\"'\"&Lists!$J18&\"'!\"&Lists!$K18&AM$23))=\"\",\"\",(INDIRECT(\"'\"&Lists!$J18&\"'!\"&Lists!$K18&AM$23))))","v":""},{"$f":"IF(ISNA(Lists!$J18),\"\",IF((INDIRECT(\"'\"&Lists!$J18&\"'!\"&Lists!$K18&AN$23))=\"\",\"\",(INDIRECT(\"'\"&Lists!$J18&\"'!\"&Lists!$K18&AN$23))))","v":""},{"$f":"IF(ISNA(Lists!$J18),\"\",IF((INDIRECT(\"'\"&Lists!$J18&\"'!\"&Lists!$K18&AO$23))=\"\",\"\",(INDIRECT(\"'\"&Lists!$J18&\"'!\"&Lists!$K18&AO$23))))","v":""}]
[null,{"$f":"IF(C41=\"\",\"\",Facility_Info_upload!$B$24)","v":""},{"$f":"IF(ISNA(Lists!$J19),\"\",IF(INDIRECT(\"'\"&Lists!$J19&\"'!\"&\"B\"&C$23)=\"\",\"\",(INDIRECT(\"'\"&Lists!$J19&\"'!\"&\"B\"&C$23))))","v":""},{"$f":"IF(ISNA(Lists!$J19),\"\",IF(INDIRECT(\"'\"&Lists!$J19&\"'!\"&\"B\"&D$23)=\"\",\"\",(INDIRECT(\"'\"&Lists!$J19&\"'!\"&\"B\"&D$23))))","v":""},{"$f":"IF(ISNA(Lists!$J19),\"\",IF(INDIRECT(\"'\"&Lists!$J19&\"'!\"&\"B\"&E$23)=\"\",\"\",(INDIRECT(\"'\"&Lists!$J19&\"'!\"&\"B\"&E$23))))","v":""},{"$f":"IF(ISNA(Lists!$J19),\"\",IF(INDIRECT(\"'\"&Lists!$J19&\"'!\"&\"B\"&F$23)=\"\",\"\",(INDIRECT(\"'\"&Lists!$J19&\"'!\"&\"B\"&F$23))))","v":""},{"$f":"IF(ISNA(Lists!$J19),\"\",IF(INDIRECT(\"'\"&Lists!$J19&\"'!\"&\"B\"&G$23)=\"\",\"\",(INDIRECT(\"'\"&Lists!$J19&\"'!\"&\"B\"&G$23))))","v":""},{"$f":"IF(ISNA(Lists!$J19),\"\",IF((INDIRECT(\"'\"&Lists!$J19&\"'!\"&Lists!$K19&H$23))=\"\",\"\",(INDIRECT(\"'\"&Lists!$J19&\"'!\"&Lists!$K19&H$23))))","v":""},{"$f":"IF(ISNA(Lists!$J19),\"\",IF((INDIRECT(\"'\"&Lists!$J19&\"'!\"&Lists!$K19&I$23))=\"\",\"\",(INDIRECT(\"'\"&Lists!$J19&\"'!\"&Lists!$K19&I$23))))","v":""},{"$f":"IF(ISNA(Lists!$J19),\"\",IF((INDIRECT(\"'\"&Lists!$J19&\"'!\"&Lists!$K19&J$23))=\"\",\"\",(INDIRECT(\"'\"&Lists!$J19&\"'!\"&Lists!$K19&J$23))))","v":""},{"$f":"IF(ISNA(Lists!$J19),\"\",IF((INDIRECT(\"'\"&Lists!$J19&\"'!\"&Lists!$K19&K$23))=\"\",\"\",(INDIRECT(\"'\"&Lists!$J19&\"'!\"&Lists!$K19&K$23))))","v":""},{"$f":"IF(ISNA(Lists!$J19),\"\",IF((INDIRECT(\"'\"&Lists!$J19&\"'!\"&Lists!$K19&L$23))=\"\",\"\",(INDIRECT(\"'\"&Lists!$J19&\"'!\"&Lists!$K19&L$23))))","v":""},{"$f":"IF(ISNA(Lists!$J19),\"\",IF((INDIRECT(\"'\"&Lists!$J19&\"'!\"&Lists!$K19&M$23))=\"\",\"\",(INDIRECT(\"'\"&Lists!$J19&\"'!\"&Lists!$K19&M$23))))","v":""},{"$f":"IF(ISNA(Lists!$J19),\"\",IF((INDIRECT(\"'\"&Lists!$J19&\"'!\"&Lists!$K19&N$23))=\"\",\"\",(INDIRECT(\"'\"&Lists!$J19&\"'!\"&Lists!$K19&N$23))))","v":""},{"$f":"IF(ISNA(Lists!$J19),\"\",IF((INDIRECT(\"'\"&Lists!$J19&\"'!\"&Lists!$K19&O$23))=\"\",\"\",(INDIRECT(\"'\"&Lists!$J19&\"'!\"&Lists!$K19&O$23))))","v":""},{"$f":"IF(ISNA(Lists!$J19),\"\",IF((INDIRECT(\"'\"&Lists!$J19&\"'!\"&Lists!$K19&P$23))=\"\",\"\",(INDIRECT(\"'\"&Lists!$J19&\"'!\"&Lists!$K19&P$23))))","v":""},{"$f":"IF(ISNA(Lists!$J19),\"\",IF((INDIRECT(\"'\"&Lists!$J19&\"'!\"&Lists!$K19&Q$23))=\"\",\"\",(INDIRECT(\"'\"&Lists!$J19&\"'!\"&Lists!$K19&Q$23))))","v":""},{"$f":"IF(ISNA(Lists!$J19),\"\",IF((INDIRECT(\"'\"&Lists!$J19&\"'!\"&Lists!$K19&R$23))=\"\",\"\",(INDIRECT(\"'\"&Lists!$J19&\"'!\"&Lists!$K19&R$23))))","v":""},{"$f":"IF(ISNA(Lists!$J19),\"\",IF((INDIRECT(\"'\"&Lists!$J19&\"'!\"&Lists!$K19&S$23))=\"\",\"\",(INDIRECT(\"'\"&Lists!$J19&\"'!\"&Lists!$K19&S$23))))","v":""},{"$f":"IF(ISNA(Lists!$J19),\"\",IF((INDIRECT(\"'\"&Lists!$J19&\"'!\"&Lists!$K19&T$23))=\"\",\"\",(INDIRECT(\"'\"&Lists!$J19&\"'!\"&Lists!$K19&T$23))))","v":""},{"$f":"IF(ISNA(Lists!$J19),\"\",IF((INDIRECT(\"'\"&Lists!$J19&\"'!\"&Lists!$K19&U$23))=\"\",\"\",(INDIRECT(\"'\"&Lists!$J19&\"'!\"&Lists!$K19&U$23))))","v":""},{"$f":"IF(ISNA(Lists!$J19),\"\",IF((INDIRECT(\"'\"&Lists!$J19&\"'!\"&Lists!$L19&V$23))=\"\",\"\",(INDIRECT(\"'\"&Lists!$J19&\"'!\"&Lists!$L19&V$23))))","v":""},{"$f":"IF(ISNA(Lists!$J19),\"\",IF((INDIRECT(\"'\"&Lists!$J19&\"'!\"&Lists!$L19&W$23))=\"\",\"\",(INDIRECT(\"'\"&Lists!$J19&\"'!\"&Lists!$L19&W$23))))","v":""},{"$f":"IF(ISNA(Lists!$J19),\"\",IF((INDIRECT(\"'\"&Lists!$J19&\"'!\"&Lists!$L19&X$23))=\"\",\"\",(INDIRECT(\"'\"&Lists!$J19&\"'!\"&Lists!$L19&X$23))))","v":""},{"$f":"IF(ISNA(Lists!$J19),\"\",IF((INDIRECT(\"'\"&Lists!$J19&\"'!\"&Lists!$L19&Y$23))=\"\",\"\",(INDIRECT(\"'\"&Lists!$J19&\"'!\"&Lists!$L19&Y$23))))","v":""},{"$f":"IF(ISNA(Lists!$J19),\"\",IF((INDIRECT(\"'\"&Lists!$J19&\"'!\"&Lists!$L19&Z$23))=\"\",\"\",(INDIRECT(\"'\"&Lists!$J19&\"'!\"&Lists!$L19&Z$23))))","v":""},{"$f":"IF(ISNA(Lists!$J19),\"\",IF((INDIRECT(\"'\"&Lists!$J19&\"'!\"&Lists!$L19&AA$23))=\"\",\"\",(INDIRECT(\"'\"&Lists!$J19&\"'!\"&Lists!$L19&AA$23))))","v":""},{"$f":"IF(ISNA(Lists!$J19),\"\",IF((INDIRECT(\"'\"&Lists!$J19&\"'!\"&Lists!$L19&AB$23))=\"\",\"\",(INDIRECT(\"'\"&Lists!$J19&\"'!\"&Lists!$L19&AB$23))))","v":""},{"$f":"IF(ISNA(Lists!$J19),\"\",IF((INDIRECT(\"'\"&Lists!$J19&\"'!\"&Lists!$K19&AC$23))=\"\",\"\",(INDIRECT(\"'\"&Lists!$J19&\"'!\"&Lists!$K19&AC$23))))","v":""},{"$f":"IF(ISNA(Lists!$J19),\"\",IF((INDIRECT(\"'\"&Lists!$J19&\"'!\"&Lists!$L19&AD$23))=\"\",\"\",(INDIRECT(\"'\"&Lists!$J19&\"'!\"&Lists!$L19&AD$23))))","v":""},{"$f":"IF(ISNA(Lists!$J19),\"\",IF((INDIRECT(\"'\"&Lists!$J19&\"'!\"&Lists!$K19&AE$23))=\"\",\"\",(INDIRECT(\"'\"&Lists!$J19&\"'!\"&Lists!$K19&AE$23))))","v":""},{"$f":"IF(ISNA(Lists!$J19),\"\",IF((INDIRECT(\"'\"&Lists!$J19&\"'!\"&Lists!$K19&AF$23))=\"\",\"\",(INDIRECT(\"'\"&Lists!$J19&\"'!\"&Lists!$K19&AF$23))))","v":""},{"$f":"IF(ISNA(Lists!$J19),\"\",IF((INDIRECT(\"'\"&Lists!$J19&\"'!\"&Lists!$K19&AG$23))=\"\",\"\",(INDIRECT(\"'\"&Lists!$J19&\"'!\"&Lists!$K19&AG$23))))","v":""},{"$f":"IF(ISNA(Lists!$J19),\"\",IF((INDIRECT(\"'\"&Lists!$J19&\"'!\"&Lists!$K19&AH$23))=\"\",\"\",(INDIRECT(\"'\"&Lists!$J19&\"'!\"&Lists!$K19&AH$23))))","v":""},{"$f":"IF(ISNA(Lists!$J19),\"\",IF((INDIRECT(\"'\"&Lists!$J19&\"'!\"&Lists!$K19&AI$23))=\"\",\"\",(INDIRECT(\"'\"&Lists!$J19&\"'!\"&Lists!$K19&AI$23))))","v":""},{"$f":"IF(ISNA(Lists!$J19),\"\",IF((INDIRECT(\"'\"&Lists!$J19&\"'!\"&Lists!$K19&AJ$23))=\"\",\"\",(INDIRECT(\"'\"&Lists!$J19&\"'!\"&Lists!$K19&AJ$23))))","v":""},{"$f":"IF(ISNA(Lists!$J19),\"\",IF((INDIRECT(\"'\"&Lists!$J19&\"'!\"&Lists!$K19&AK$23))=\"\",\"\",(INDIRECT(\"'\"&Lists!$J19&\"'!\"&Lists!$K19&AK$23))))","v":""},{"$f":"IF(ISNA(Lists!$J19),\"\",IF((INDIRECT(\"'\"&Lists!$J19&\"'!\"&Lists!$K19&AL$23))=\"\",\"\",(INDIRECT(\"'\"&Lists!$J19&\"'!\"&Lists!$K19&AL$23))))","v":""},{"$f":"IF(ISNA(Lists!$J19),\"\",IF((INDIRECT(\"'\"&Lists!$J19&\"'!\"&Lists!$K19&AM$23))=\"\",\"\",(INDIRECT(\"'\"&Lists!$J19&\"'!\"&Lists!$K19&AM$23))))","v":""},{"$f":"IF(ISNA(Lists!$J19),\"\",IF((INDIRECT(\"'\"&Lists!$J19&\"'!\"&Lists!$K19&AN$23))=\"\",\"\",(INDIRECT(\"'\"&Lists!$J19&\"'!\"&Lists!$K19&AN$23))))","v":""},{"$f":"IF(ISNA(Lists!$J19),\"\",IF((INDIRECT(\"'\"&Lists!$J19&\"'!\"&Lists!$K19&AO$23))=\"\",\"\",(INDIRECT(\"'\"&Lists!$J19&\"'!\"&Lists!$K19&AO$23))))","v":""}]
[null,{"$f":"IF(C42=\"\",\"\",Facility_Info_upload!$B$24)","v":""},{"$f":"IF(ISNA(Lists!$J20),\"\",IF(INDIRECT(\"'\"&Lists!$J20&\"'!\"&\"B\"&C$23)=\"\",\"\",(INDIRECT(\"'\"&Lists!$J20&\"'!\"&\"B\"&C$23))))","v":""},{"$f":"IF(ISNA(Lists!$J20),\"\",IF(INDIRECT(\"'\"&Lists!$J20&\"'!\"&\"B\"&D$23)=\"\",\"\",(INDIRECT(\"'\"&Lists!$J20&\"'!\"&\"B\"&D$23))))","v":""},{"$f":"IF(ISNA(Lists!$J20),\"\",IF(INDIRECT(\"'\"&Lists!$J20&\"'!\"&\"B\"&E$23)=\"\",\"\",(INDIRECT(\"'\"&Lists!$J20&\"'!\"&\"B\"&E$23))))","v":""},{"$f":"IF(ISNA(Lists!$J20),\"\",IF(INDIRECT(\"'\"&Lists!$J20&\"'!\"&\"B\"&F$23)=\"\",\"\",(INDIRECT(\"'\"&Lists!$J20&\"'!\"&\"B\"&F$23))))","v":""},{"$f":"IF(ISNA(Lists!$J20),\"\",IF(INDIRECT(\"'\"&Lists!$J20&\"'!\"&\"B\"&G$23)=\"\",\"\",(INDIRECT(\"'\"&Lists!$J20&\"'!\"&\"B\"&G$23))))","v":""},{"$f":"IF(ISNA(Lists!$J20),\"\",IF((INDIRECT(\"'\"&Lists!$J20&\"'!\"&Lists!$K20&H$23))=\"\",\"\",(INDIRECT(\"'\"&Lists!$J20&\"'!\"&Lists!$K20&H$23))))","v":""},{"$f":"IF(ISNA(Lists!$J20),\"\",IF((INDIRECT(\"'\"&Lists!$J20&\"'!\"&Lists!$K20&I$23))=\"\",\"\",(INDIRECT(\"'\"&Lists!$J20&\"'!\"&Lists!$K20&I$23))))","v":""},{"$f":"IF(ISNA(Lists!$J20),\"\",IF((INDIRECT(\"'\"&Lists!$J20&\"'!\"&Lists!$K20&J$23))=\"\",\"\",(INDIRECT(\"'\"&Lists!$J20&\"'!\"&Lists!$K20&J$23))))","v":""},{"$f":"IF(ISNA(Lists!$J20),\"\",IF((INDIRECT(\"'\"&Lists!$J20&\"'!\"&Lists!$K20&K$23))=\"\",\"\",(INDIRECT(\"'\"&Lists!$J20&\"'!\"&Lists!$K20&K$23))))","v":""},{"$f":"IF(ISNA(Lists!$J20),\"\",IF((INDIRECT(\"'\"&Lists!$J20&\"'!\"&Lists!$K20&L$23))=\"\",\"\",(INDIRECT(\"'\"&Lists!$J20&\"'!\"&Lists!$K20&L$23))))","v":""},{"$f":"IF(ISNA(Lists!$J20),\"\",IF((INDIRECT(\"'\"&Lists!$J20&\"'!\"&Lists!$K20&M$23))=\"\",\"\",(INDIRECT(\"'\"&Lists!$J20&\"'!\"&Lists!$K20&M$23))))","v":""},{"$f":"IF(ISNA(Lists!$J20),\"\",IF((INDIRECT(\"'\"&Lists!$J20&\"'!\"&Lists!$K20&N$23))=\"\",\"\",(INDIRECT(\"'\"&Lists!$J20&\"'!\"&Lists!$K20&N$23))))","v":""},{"$f":"IF(ISNA(Lists!$J20),\"\",IF((INDIRECT(\"'\"&Lists!$J20&\"'!\"&Lists!$K20&O$23))=\"\",\"\",(INDIRECT(\"'\"&Lists!$J20&\"'!\"&Lists!$K20&O$23))))","v":""},{"$f":"IF(ISNA(Lists!$J20),\"\",IF((INDIRECT(\"'\"&Lists!$J20&\"'!\"&Lists!$K20&P$23))=\"\",\"\",(INDIRECT(\"'\"&Lists!$J20&\"'!\"&Lists!$K20&P$23))))","v":""},{"$f":"IF(ISNA(Lists!$J20),\"\",IF((INDIRECT(\"'\"&Lists!$J20&\"'!\"&Lists!$K20&Q$23))=\"\",\"\",(INDIRECT(\"'\"&Lists!$J20&\"'!\"&Lists!$K20&Q$23))))","v":""},{"$f":"IF(ISNA(Lists!$J20),\"\",IF((INDIRECT(\"'\"&Lists!$J20&\"'!\"&Lists!$K20&R$23))=\"\",\"\",(INDIRECT(\"'\"&Lists!$J20&\"'!\"&Lists!$K20&R$23))))","v":""},{"$f":"IF(ISNA(Lists!$J20),\"\",IF((INDIRECT(\"'\"&Lists!$J20&\"'!\"&Lists!$K20&S$23))=\"\",\"\",(INDIRECT(\"'\"&Lists!$J20&\"'!\"&Lists!$K20&S$23))))","v":""},{"$f":"IF(ISNA(Lists!$J20),\"\",IF((INDIRECT(\"'\"&Lists!$J20&\"'!\"&Lists!$K20&T$23))=\"\",\"\",(INDIRECT(\"'\"&Lists!$J20&\"'!\"&Lists!$K20&T$23))))","v":""},{"$f":"IF(ISNA(Lists!$J20),\"\",IF((INDIRECT(\"'\"&Lists!$J20&\"'!\"&Lists!$K20&U$23))=\"\",\"\",(INDIRECT(\"'\"&Lists!$J20&\"'!\"&Lists!$K20&U$23))))","v":""},{"$f":"IF(ISNA(Lists!$J20),\"\",IF((INDIRECT(\"'\"&Lists!$J20&\"'!\"&Lists!$L20&V$23))=\"\",\"\",(INDIRECT(\"'\"&Lists!$J20&\"'!\"&Lists!$L20&V$23))))","v":""},{"$f":"IF(ISNA(Lists!$J20),\"\",IF((INDIRECT(\"'\"&Lists!$J20&\"'!\"&Lists!$L20&W$23))=\"\",\"\",(INDIRECT(\"'\"&Lists!$J20&\"'!\"&Lists!$L20&W$23))))","v":""},{"$f":"IF(ISNA(Lists!$J20),\"\",IF((INDIRECT(\"'\"&Lists!$J20&\"'!\"&Lists!$L20&X$23))=\"\",\"\",(INDIRECT(\"'\"&Lists!$J20&\"'!\"&Lists!$L20&X$23))))","v":""},{"$f":"IF(ISNA(Lists!$J20),\"\",IF((INDIRECT(\"'\"&Lists!$J20&\"'!\"&Lists!$L20&Y$23))=\"\",\"\",(INDIRECT(\"'\"&Lists!$J20&\"'!\"&Lists!$L20&Y$23))))","v":""},{"$f":"IF(ISNA(Lists!$J20),\"\",IF((INDIRECT(\"'\"&Lists!$J20&\"'!\"&Lists!$L20&Z$23))=\"\",\"\",(INDIRECT(\"'\"&Lists!$J20&\"'!\"&Lists!$L20&Z$23))))","v":""},{"$f":"IF(ISNA(Lists!$J20),\"\",IF((INDIRECT(\"'\"&Lists!$J20&\"'!\"&Lists!$L20&AA$23))=\"\",\"\",(INDIRECT(\"'\"&Lists!$J20&\"'!\"&Lists!$L20&AA$23))))","v":""},{"$f":"IF(ISNA(Lists!$J20),\"\",IF((INDIRECT(\"'\"&Lists!$J20&\"'!\"&Lists!$L20&AB$23))=\"\",\"\",(INDIRECT(\"'\"&Lists!$J20&\"'!\"&Lists!$L20&AB$23))))","v":""},{"$f":"IF(ISNA(Lists!$J20),\"\",IF((INDIRECT(\"'\"&Lists!$J20&\"'!\"&Lists!$K20&AC$23))=\"\",\"\",(INDIRECT(\"'\"&Lists!$J20&\"'!\"&Lists!$K20&AC$23))))","v":""},{"$f":"IF(ISNA(Lists!$J20),\"\",IF((INDIRECT(\"'\"&Lists!$J20&\"'!\"&Lists!$L20&AD$23))=\"\",\"\",(INDIRECT(\"'\"&Lists!$J20&\"'!\"&Lists!$L20&AD$23))))","v":""},{"$f":"IF(ISNA(Lists!$J20),\"\",IF((INDIRECT(\"'\"&Lists!$J20&\"'!\"&Lists!$K20&AE$23))=\"\",\"\",(INDIRECT(\"'\"&Lists!$J20&\"'!\"&Lists!$K20&AE$23))))","v":""},{"$f":"IF(ISNA(Lists!$J20),\"\",IF((INDIRECT(\"'\"&Lists!$J20&\"'!\"&Lists!$K20&AF$23))=\"\",\"\",(INDIRECT(\"'\"&Lists!$J20&\"'!\"&Lists!$K20&AF$23))))","v":""},{"$f":"IF(ISNA(Lists!$J20),\"\",IF((INDIRECT(\"'\"&Lists!$J20&\"'!\"&Lists!$K20&AG$23))=\"\",\"\",(INDIRECT(\"'\"&Lists!$J20&\"'!\"&Lists!$K20&AG$23))))","v":""},{"$f":"IF(ISNA(Lists!$J20),\"\",IF((INDIRECT(\"'\"&Lists!$J20&\"'!\"&Lists!$K20&AH$23))=\"\",\"\",(INDIRECT(\"'\"&Lists!$J20&\"'!\"&Lists!$K20&AH$23))))","v":""},{"$f":"IF(ISNA(Lists!$J20),\"\",IF((INDIRECT(\"'\"&Lists!$J20&\"'!\"&Lists!$K20&AI$23))=\"\",\"\",(INDIRECT(\"'\"&Lists!$J20&\"'!\"&Lists!$K20&AI$23))))","v":""},{"$f":"IF(ISNA(Lists!$J20),\"\",IF((INDIRECT(\"'\"&Lists!$J20&\"'!\"&Lists!$K20&AJ$23))=\"\",\"\",(INDIRECT(\"'\"&Lists!$J20&\"'!\"&Lists!$K20&AJ$23))))","v":""},{"$f":"IF(ISNA(Lists!$J20),\"\",IF((INDIRECT(\"'\"&Lists!$J20&\"'!\"&Lists!$K20&AK$23))=\"\",\"\",(INDIRECT(\"'\"&Lists!$J20&\"'!\"&Lists!$K20&AK$23))))","v":""},{"$f":"IF(ISNA(Lists!$J20),\"\",IF((INDIRECT(\"'\"&Lists!$J20&\"'!\"&Lists!$K20&AL$23))=\"\",\"\",(INDIRECT(\"'\"&Lists!$J20&\"'!\"&Lists!$K20&AL$23))))","v":""},{"$f":"IF(ISNA(Lists!$J20),\"\",IF((INDIRECT(\"'\"&Lists!$J20&\"'!\"&Lists!$K20&AM$23))=\"\",\"\",(INDIRECT(\"'\"&Lists!$J20&\"'!\"&Lists!$K20&AM$23))))","v":""},{"$f":"IF(ISNA(Lists!$J20),\"\",IF((INDIRECT(\"'\"&Lists!$J20&\"'!\"&Lists!$K20&AN$23))=\"\",\"\",(INDIRECT(\"'\"&Lists!$J20&\"'!\"&Lists!$K20&AN$23))))","v":""},{"$f":"IF(ISNA(Lists!$J20),\"\",IF((INDIRECT(\"'\"&Lists!$J20&\"'!\"&Lists!$K20&AO$23))=\"\",\"\",(INDIRECT(\"'\"&Lists!$J20&\"'!\"&Lists!$K20&AO$23))))","v":""}]
[null,{"$f":"IF(C43=\"\",\"\",Facility_Info_upload!$B$24)","v":""},{"$f":"IF(ISNA(Lists!$J21),\"\",IF(INDIRECT(\"'\"&Lists!$J21&\"'!\"&\"B\"&C$23)=\"\",\"\",(INDIRECT(\"'\"&Lists!$J21&\"'!\"&\"B\"&C$23))))","v":""},{"$f":"IF(ISNA(Lists!$J21),\"\",IF(INDIRECT(\"'\"&Lists!$J21&\"'!\"&\"B\"&D$23)=\"\",\"\",(INDIRECT(\"'\"&Lists!$J21&\"'!\"&\"B\"&D$23))))","v":""},{"$f":"IF(ISNA(Lists!$J21),\"\",IF(INDIRECT(\"'\"&Lists!$J21&\"'!\"&\"B\"&E$23)=\"\",\"\",(INDIRECT(\"'\"&Lists!$J21&\"'!\"&\"B\"&E$23))))","v":""},{"$f":"IF(ISNA(Lists!$J21),\"\",IF(INDIRECT(\"'\"&Lists!$J21&\"'!\"&\"B\"&F$23)=\"\",\"\",(INDIRECT(\"'\"&Lists!$J21&\"'!\"&\"B\"&F$23))))","v":""},{"$f":"IF(ISNA(Lists!$J21),\"\",IF(INDIRECT(\"'\"&Lists!$J21&\"'!\"&\"B\"&G$23)=\"\",\"\",(INDIRECT(\"'\"&Lists!$J21&\"'!\"&\"B\"&G$23))))","v":""},{"$f":"IF(ISNA(Lists!$J21),\"\",IF((INDIRECT(\"'\"&Lists!$J21&\"'!\"&Lists!$K21&H$23))=\"\",\"\",(INDIRECT(\"'\"&Lists!$J21&\"'!\"&Lists!$K21&H$23))))","v":""},{"$f":"IF(ISNA(Lists!$J21),\"\",IF((INDIRECT(\"'\"&Lists!$J21&\"'!\"&Lists!$K21&I$23))=\"\",\"\",(INDIRECT(\"'\"&Lists!$J21&\"'!\"&Lists!$K21&I$23))))","v":""},{"$f":"IF(ISNA(Lists!$J21),\"\",IF((INDIRECT(\"'\"&Lists!$J21&\"'!\"&Lists!$K21&J$23))=\"\",\"\",(INDIRECT(\"'\"&Lists!$J21&\"'!\"&Lists!$K21&J$23))))","v":""},{"$f":"IF(ISNA(Lists!$J21),\"\",IF((INDIRECT(\"'\"&Lists!$J21&\"'!\"&Lists!$K21&K$23))=\"\",\"\",(INDIRECT(\"'\"&Lists!$J21&\"'!\"&Lists!$K21&K$23))))","v":""},{"$f":"IF(ISNA(Lists!$J21),\"\",IF((INDIRECT(\"'\"&Lists!$J21&\"'!\"&Lists!$K21&L$23))=\"\",\"\",(INDIRECT(\"'\"&Lists!$J21&\"'!\"&Lists!$K21&L$23))))","v":""},{"$f":"IF(ISNA(Lists!$J21),\"\",IF((INDIRECT(\"'\"&Lists!$J21&\"'!\"&Lists!$K21&M$23))=\"\",\"\",(INDIRECT(\"'\"&Lists!$J21&\"'!\"&Lists!$K21&M$23))))","v":""},{"$f":"IF(ISNA(Lists!$J21),\"\",IF((INDIRECT(\"'\"&Lists!$J21&\"'!\"&Lists!$K21&N$23))=\"\",\"\",(INDIRECT(\"'\"&Lists!$J21&\"'!\"&Lists!$K21&N$23))))","v":""},{"$f":"IF(ISNA(Lists!$J21),\"\",IF((INDIRECT(\"'\"&Lists!$J21&\"'!\"&Lists!$K21&O$23))=\"\",\"\",(INDIRECT(\"'\"&Lists!$J21&\"'!\"&Lists!$K21&O$23))))","v":""},{"$f":"IF(ISNA(Lists!$J21),\"\",IF((INDIRECT(\"'\"&Lists!$J21&\"'!\"&Lists!$K21&P$23))=\"\",\"\",(INDIRECT(\"'\"&Lists!$J21&\"'!\"&Lists!$K21&P$23))))","v":""},{"$f":"IF(ISNA(Lists!$J21),\"\",IF((INDIRECT(\"'\"&Lists!$J21&\"'!\"&Lists!$K21&Q$23))=\"\",\"\",(INDIRECT(\"'\"&Lists!$J21&\"'!\"&Lists!$K21&Q$23))))","v":""},{"$f":"IF(ISNA(Lists!$J21),\"\",IF((INDIRECT(\"'\"&Lists!$J21&\"'!\"&Lists!$K21&R$23))=\"\",\"\",(INDIRECT(\"'\"&Lists!$J21&\"'!\"&Lists!$K21&R$23))))","v":""},{"$f":"IF(ISNA(Lists!$J21),\"\",IF((INDIRECT(\"'\"&Lists!$J21&\"'!\"&Lists!$K21&S$23))=\"\",\"\",(INDIRECT(\"'\"&Lists!$J21&\"'!\"&Lists!$K21&S$23))))","v":""},{"$f":"IF(ISNA(Lists!$J21),\"\",IF((INDIRECT(\"'\"&Lists!$J21&\"'!\"&Lists!$K21&T$23))=\"\",\"\",(INDIRECT(\"'\"&Lists!$J21&\"'!\"&Lists!$K21&T$23))))","v":""},{"$f":"IF(ISNA(Lists!$J21),\"\",IF((INDIRECT(\"'\"&Lists!$J21&\"'!\"&Lists!$K21&U$23))=\"\",\"\",(INDIRECT(\"'\"&Lists!$J21&\"'!\"&Lists!$K21&U$23))))","v":""},{"$f":"IF(ISNA(Lists!$J21),\"\",IF((INDIRECT(\"'\"&Lists!$J21&\"'!\"&Lists!$L21&V$23))=\"\",\"\",(INDIRECT(\"'\"&Lists!$J21&\"'!\"&Lists!$L21&V$23))))","v":""},{"$f":"IF(ISNA(Lists!$J21),\"\",IF((INDIRECT(\"'\"&Lists!$J21&\"'!\"&Lists!$L21&W$23))=\"\",\"\",(INDIRECT(\"'\"&Lists!$J21&\"'!\"&Lists!$L21&W$23))))","v":""},{"$f":"IF(ISNA(Lists!$J21),\"\",IF((INDIRECT(\"'\"&Lists!$J21&\"'!\"&Lists!$L21&X$23))=\"\",\"\",(INDIRECT(\"'\"&Lists!$J21&\"'!\"&Lists!$L21&X$23))))","v":""},{"$f":"IF(ISNA(Lists!$J21),\"\",IF((INDIRECT(\"'\"&Lists!$J21&\"'!\"&Lists!$L21&Y$23))=\"\",\"\",(INDIRECT(\"'\"&Lists!$J21&\"'!\"&Lists!$L21&Y$23))))","v":""},{"$f":"IF(ISNA(Lists!$J21),\"\",IF((INDIRECT(\"'\"&Lists!$J21&\"'!\"&Lists!$L21&Z$23))=\"\",\"\",(INDIRECT(\"'\"&Lists!$J21&\"'!\"&Lists!$L21&Z$23))))","v":""},{"$f":"IF(ISNA(Lists!$J21),\"\",IF((INDIRECT(\"'\"&Lists!$J21&\"'!\"&Lists!$L21&AA$23))=\"\",\"\",(INDIRECT(\"'\"&Lists!$J21&\"'!\"&Lists!$L21&AA$23))))","v":""},{"$f":"IF(ISNA(Lists!$J21),\"\",IF((INDIRECT(\"'\"&Lists!$J21&\"'!\"&Lists!$L21&AB$23))=\"\",\"\",(INDIRECT(\"'\"&Lists!$J21&\"'!\"&Lists!$L21&AB$23))))","v":""},{"$f":"IF(ISNA(Lists!$J21),\"\",IF((INDIRECT(\"'\"&Lists!$J21&\"'!\"&Lists!$K21&AC$23))=\"\",\"\",(INDIRECT(\"'\"&Lists!$J21&\"'!\"&Lists!$K21&AC$23))))","v":""},{"$f":"IF(ISNA(Lists!$J21),\"\",IF((INDIRECT(\"'\"&Lists!$J21&\"'!\"&Lists!$L21&AD$23))=\"\",\"\",(INDIRECT(\"'\"&Lists!$J21&\"'!\"&Lists!$L21&AD$23))))","v":""},{"$f":"IF(ISNA(Lists!$J21),\"\",IF((INDIRECT(\"'\"&Lists!$J21&\"'!\"&Lists!$K21&AE$23))=\"\",\"\",(INDIRECT(\"'\"&Lists!$J21&\"'!\"&Lists!$K21&AE$23))))","v":""},{"$f":"IF(ISNA(Lists!$J21),\"\",IF((INDIRECT(\"'\"&Lists!$J21&\"'!\"&Lists!$K21&AF$23))=\"\",\"\",(INDIRECT(\"'\"&Lists!$J21&\"'!\"&Lists!$K21&AF$23))))","v":""},{"$f":"IF(ISNA(Lists!$J21),\"\",IF((INDIRECT(\"'\"&Lists!$J21&\"'!\"&Lists!$K21&AG$23))=\"\",\"\",(INDIRECT(\"'\"&Lists!$J21&\"'!\"&Lists!$K21&AG$23))))","v":""},{"$f":"IF(ISNA(Lists!$J21),\"\",IF((INDIRECT(\"'\"&Lists!$J21&\"'!\"&Lists!$K21&AH$23))=\"\",\"\",(INDIRECT(\"'\"&Lists!$J21&\"'!\"&Lists!$K21&AH$23))))","v":""},{"$f":"IF(ISNA(Lists!$J21),\"\",IF((INDIRECT(\"'\"&Lists!$J21&\"'!\"&Lists!$K21&AI$23))=\"\",\"\",(INDIRECT(\"'\"&Lists!$J21&\"'!\"&Lists!$K21&AI$23))))","v":""},{"$f":"IF(ISNA(Lists!$J21),\"\",IF((INDIRECT(\"'\"&Lists!$J21&\"'!\"&Lists!$K21&AJ$23))=\"\",\"\",(INDIRECT(\"'\"&Lists!$J21&\"'!\"&Lists!$K21&AJ$23))))","v":""},{"$f":"IF(ISNA(Lists!$J21),\"\",IF((INDIRECT(\"'\"&Lists!$J21&\"'!\"&Lists!$K21&AK$23))=\"\",\"\",(INDIRECT(\"'\"&Lists!$J21&\"'!\"&Lists!$K21&AK$23))))","v":""},{"$f":"IF(ISNA(Lists!$J21),\"\",IF((INDIRECT(\"'\"&Lists!$J21&\"'!\"&Lists!$K21&AL$23))=\"\",\"\",(INDIRECT(\"'\"&Lists!$J21&\"'!\"&Lists!$K21&AL$23))))","v":""},{"$f":"IF(ISNA(Lists!$J21),\"\",IF((INDIRECT(\"'\"&Lists!$J21&\"'!\"&Lists!$K21&AM$23))=\"\",\"\",(INDIRECT(\"'\"&Lists!$J21&\"'!\"&Lists!$K21&AM$23))))","v":""},{"$f":"IF(ISNA(Lists!$J21),\"\",IF((INDIRECT(\"'\"&Lists!$J21&\"'!\"&Lists!$K21&AN$23))=\"\",\"\",(INDIRECT(\"'\"&Lists!$J21&\"'!\"&Lists!$K21&AN$23))))","v":""},{"$f":"IF(ISNA(Lists!$J21),\"\",IF((INDIRECT(\"'\"&Lists!$J21&\"'!\"&Lists!$K21&AO$23))=\"\",\"\",(INDIRECT(\"'\"&Lists!$J21&\"'!\"&Lists!$K21&AO$23))))","v":""}]
[null,{"$f":"IF(C44=\"\",\"\",Facility_Info_upload!$B$24)","v":""},{"$f":"IF(ISNA(Lists!$J22),\"\",IF(INDIRECT(\"'\"&Lists!$J22&\"'!\"&\"B\"&C$23)=\"\",\"\",(INDIRECT(\"'\"&Lists!$J22&\"'!\"&\"B\"&C$23))))","v":""},{"$f":"IF(ISNA(Lists!$J22),\"\",IF(INDIRECT(\"'\"&Lists!$J22&\"'!\"&\"B\"&D$23)=\"\",\"\",(INDIRECT(\"'\"&Lists!$J22&\"'!\"&\"B\"&D$23))))","v":""},{"$f":"IF(ISNA(Lists!$J22),\"\",IF(INDIRECT(\"'\"&Lists!$J22&\"'!\"&\"B\"&E$23)=\"\",\"\",(INDIRECT(\"'\"&Lists!$J22&\"'!\"&\"B\"&E$23))))","v":""},{"$f":"IF(ISNA(Lists!$J22),\"\",IF(INDIRECT(\"'\"&Lists!$J22&\"'!\"&\"B\"&F$23)=\"\",\"\",(INDIRECT(\"'\"&Lists!$J22&\"'!\"&\"B\"&F$23))))","v":""},{"$f":"IF(ISNA(Lists!$J22),\"\",IF(INDIRECT(\"'\"&Lists!$J22&\"'!\"&\"B\"&G$23)=\"\",\"\",(INDIRECT(\"'\"&Lists!$J22&\"'!\"&\"B\"&G$23))))","v":""},{"$f":"IF(ISNA(Lists!$J22),\"\",IF((INDIRECT(\"'\"&Lists!$J22&\"'!\"&Lists!$K22&H$23))=\"\",\"\",(INDIRECT(\"'\"&Lists!$J22&\"'!\"&Lists!$K22&H$23))))","v":""},{"$f":"IF(ISNA(Lists!$J22),\"\",IF((INDIRECT(\"'\"&Lists!$J22&\"'!\"&Lists!$K22&I$23))=\"\",\"\",(INDIRECT(\"'\"&Lists!$J22&\"'!\"&Lists!$K22&I$23))))","v":""},{"$f":"IF(ISNA(Lists!$J22),\"\",IF((INDIRECT(\"'\"&Lists!$J22&\"'!\"&Lists!$K22&J$23))=\"\",\"\",(INDIRECT(\"'\"&Lists!$J22&\"'!\"&Lists!$K22&J$23))))","v":""},{"$f":"IF(ISNA(Lists!$J22),\"\",IF((INDIRECT(\"'\"&Lists!$J22&\"'!\"&Lists!$K22&K$23))=\"\",\"\",(INDIRECT(\"'\"&Lists!$J22&\"'!\"&Lists!$K22&K$23))))","v":""},{"$f":"IF(ISNA(Lists!$J22),\"\",IF((INDIRECT(\"'\"&Lists!$J22&\"'!\"&Lists!$K22&L$23))=\"\",\"\",(INDIRECT(\"'\"&Lists!$J22&\"'!\"&Lists!$K22&L$23))))","v":""},{"$f":"IF(ISNA(Lists!$J22),\"\",IF((INDIRECT(\"'\"&Lists!$J22&\"'!\"&Lists!$K22&M$23))=\"\",\"\",(INDIRECT(\"'\"&Lists!$J22&\"'!\"&Lists!$K22&M$23))))","v":""},{"$f":"IF(ISNA(Lists!$J22),\"\",IF((INDIRECT(\"'\"&Lists!$J22&\"'!\"&Lists!$K22&N$23))=\"\",\"\",(INDIRECT(\"'\"&Lists!$J22&\"'!\"&Lists!$K22&N$23))))","v":""},{"$f":"IF(ISNA(Lists!$J22),\"\",IF((INDIRECT(\"'\"&Lists!$J22&\"'!\"&Lists!$K22&O$23))=\"\",\"\",(INDIRECT(\"'\"&Lists!$J22&\"'!\"&Lists!$K22&O$23))))","v":""},{"$f":"IF(ISNA(Lists!$J22),\"\",IF((INDIRECT(\"'\"&Lists!$J22&\"'!\"&Lists!$K22&P$23))=\"\",\"\",(INDIRECT(\"'\"&Lists!$J22&\"'!\"&Lists!$K22&P$23))))","v":""},{"$f":"IF(ISNA(Lists!$J22),\"\",IF((INDIRECT(\"'\"&Lists!$J22&\"'!\"&Lists!$K22&Q$23))=\"\",\"\",(INDIRECT(\"'\"&Lists!$J22&\"'!\"&Lists!$K22&Q$23))))","v":""},{"$f":"IF(ISNA(Lists!$J22),\"\",IF((INDIRECT(\"'\"&Lists!$J22&\"'!\"&Lists!$K22&R$23))=\"\",\"\",(INDIRECT(\"'\"&Lists!$J22&\"'!\"&Lists!$K22&R$23))))","v":""},{"$f":"IF(ISNA(Lists!$J22),\"\",IF((INDIRECT(\"'\"&Lists!$J22&\"'!\"&Lists!$K22&S$23))=\"\",\"\",(INDIRECT(\"'\"&Lists!$J22&\"'!\"&Lists!$K22&S$23))))","v":""},{"$f":"IF(ISNA(Lists!$J22),\"\",IF((INDIRECT(\"'\"&Lists!$J22&\"'!\"&Lists!$K22&T$23))=\"\",\"\",(INDIRECT(\"'\"&Lists!$J22&\"'!\"&Lists!$K22&T$23))))","v":""},{"$f":"IF(ISNA(Lists!$J22),\"\",IF((INDIRECT(\"'\"&Lists!$J22&\"'!\"&Lists!$K22&U$23))=\"\",\"\",(INDIRECT(\"'\"&Lists!$J22&\"'!\"&Lists!$K22&U$23))))","v":""},{"$f":"IF(ISNA(Lists!$J22),\"\",IF((INDIRECT(\"'\"&Lists!$J22&\"'!\"&Lists!$L22&V$23))=\"\",\"\",(INDIRECT(\"'\"&Lists!$J22&\"'!\"&Lists!$L22&V$23))))","v":""},{"$f":"IF(ISNA(Lists!$J22),\"\",IF((INDIRECT(\"'\"&Lists!$J22&\"'!\"&Lists!$L22&W$23))=\"\",\"\",(INDIRECT(\"'\"&Lists!$J22&\"'!\"&Lists!$L22&W$23))))","v":""},{"$f":"IF(ISNA(Lists!$J22),\"\",IF((INDIRECT(\"'\"&Lists!$J22&\"'!\"&Lists!$L22&X$23))=\"\",\"\",(INDIRECT(\"'\"&Lists!$J22&\"'!\"&Lists!$L22&X$23))))","v":""},{"$f":"IF(ISNA(Lists!$J22),\"\",IF((INDIRECT(\"'\"&Lists!$J22&\"'!\"&Lists!$L22&Y$23))=\"\",\"\",(INDIRECT(\"'\"&Lists!$J22&\"'!\"&Lists!$L22&Y$23))))","v":""},{"$f":"IF(ISNA(Lists!$J22),\"\",IF((INDIRECT(\"'\"&Lists!$J22&\"'!\"&Lists!$L22&Z$23))=\"\",\"\",(INDIRECT(\"'\"&Lists!$J22&\"'!\"&Lists!$L22&Z$23))))","v":""},{"$f":"IF(ISNA(Lists!$J22),\"\",IF((INDIRECT(\"'\"&Lists!$J22&\"'!\"&Lists!$L22&AA$23))=\"\",\"\",(INDIRECT(\"'\"&Lists!$J22&\"'!\"&Lists!$L22&AA$23))))","v":""},{"$f":"IF(ISNA(Lists!$J22),\"\",IF((INDIRECT(\"'\"&Lists!$J22&\"'!\"&Lists!$L22&AB$23))=\"\",\"\",(INDIRECT(\"'\"&Lists!$J22&\"'!\"&Lists!$L22&AB$23))))","v":""},{"$f":"IF(ISNA(Lists!$J22),\"\",IF((INDIRECT(\"'\"&Lists!$J22&\"'!\"&Lists!$K22&AC$23))=\"\",\"\",(INDIRECT(\"'\"&Lists!$J22&\"'!\"&Lists!$K22&AC$23))))","v":""},{"$f":"IF(ISNA(Lists!$J22),\"\",IF((INDIRECT(\"'\"&Lists!$J22&\"'!\"&Lists!$L22&AD$23))=\"\",\"\",(INDIRECT(\"'\"&Lists!$J22&\"'!\"&Lists!$L22&AD$23))))","v":""},{"$f":"IF(ISNA(Lists!$J22),\"\",IF((INDIRECT(\"'\"&Lists!$J22&\"'!\"&Lists!$K22&AE$23))=\"\",\"\",(INDIRECT(\"'\"&Lists!$J22&\"'!\"&Lists!$K22&AE$23))))","v":""},{"$f":"IF(ISNA(Lists!$J22),\"\",IF((INDIRECT(\"'\"&Lists!$J22&\"'!\"&Lists!$K22&AF$23))=\"\",\"\",(INDIRECT(\"'\"&Lists!$J22&\"'!\"&Lists!$K22&AF$23))))","v":""},{"$f":"IF(ISNA(Lists!$J22),\"\",IF((INDIRECT(\"'\"&Lists!$J22&\"'!\"&Lists!$K22&AG$23))=\"\",\"\",(INDIRECT(\"'\"&Lists!$J22&\"'!\"&Lists!$K22&AG$23))))","v":""},{"$f":"IF(ISNA(Lists!$J22),\"\",IF((INDIRECT(\"'\"&Lists!$J22&\"'!\"&Lists!$K22&AH$23))=\"\",\"\",(INDIRECT(\"'\"&Lists!$J22&\"'!\"&Lists!$K22&AH$23))))","v":""},{"$f":"IF(ISNA(Lists!$J22),\"\",IF((INDIRECT(\"'\"&Lists!$J22&\"'!\"&Lists!$K22&AI$23))=\"\",\"\",(INDIRECT(\"'\"&Lists!$J22&\"'!\"&Lists!$K22&AI$23))))","v":""},{"$f":"IF(ISNA(Lists!$J22),\"\",IF((INDIRECT(\"'\"&Lists!$J22&\"'!\"&Lists!$K22&AJ$23))=\"\",\"\",(INDIRECT(\"'\"&Lists!$J22&\"'!\"&Lists!$K22&AJ$23))))","v":""},{"$f":"IF(ISNA(Lists!$J22),\"\",IF((INDIRECT(\"'\"&Lists!$J22&\"'!\"&Lists!$K22&AK$23))=\"\",\"\",(INDIRECT(\"'\"&Lists!$J22&\"'!\"&Lists!$K22&AK$23))))","v":""},{"$f":"IF(ISNA(Lists!$J22),\"\",IF((INDIRECT(\"'\"&Lists!$J22&\"'!\"&Lists!$K22&AL$23))=\"\",\"\",(INDIRECT(\"'\"&Lists!$J22&\"'!\"&Lists!$K22&AL$23))))","v":""},{"$f":"IF(ISNA(Lists!$J22),\"\",IF((INDIRECT(\"'\"&Lists!$J22&\"'!\"&Lists!$K22&AM$23))=\"\",\"\",(INDIRECT(\"'\"&Lists!$J22&\"'!\"&Lists!$K22&AM$23))))","v":""},{"$f":"IF(ISNA(Lists!$J22),\"\",IF((INDIRECT(\"'\"&Lists!$J22&\"'!\"&Lists!$K22&AN$23))=\"\",\"\",(INDIRECT(\"'\"&Lists!$J22&\"'!\"&Lists!$K22&AN$23))))","v":""},{"$f":"IF(ISNA(Lists!$J22),\"\",IF((INDIRECT(\"'\"&Lists!$J22&\"'!\"&Lists!$K22&AO$23))=\"\",\"\",(INDIRECT(\"'\"&Lists!$J22&\"'!\"&Lists!$K22&AO$23))))","v":""}]
[null,{"$f":"IF(C45=\"\",\"\",Facility_Info_upload!$B$24)","v":""},{"$f":"IF(ISNA(Lists!$J23),\"\",IF(INDIRECT(\"'\"&Lists!$J23&\"'!\"&\"B\"&C$23)=\"\",\"\",(INDIRECT(\"'\"&Lists!$J23&\"'!\"&\"B\"&C$23))))","v":""},{"$f":"IF(ISNA(Lists!$J23),\"\",IF(INDIRECT(\"'\"&Lists!$J23&\"'!\"&\"B\"&D$23)=\"\",\"\",(INDIRECT(\"'\"&Lists!$J23&\"'!\"&\"B\"&D$23))))","v":""},{"$f":"IF(ISNA(Lists!$J23),\"\",IF(INDIRECT(\"'\"&Lists!$J23&\"'!\"&\"B\"&E$23)=\"\",\"\",(INDIRECT(\"'\"&Lists!$J23&\"'!\"&\"B\"&E$23))))","v":""},{"$f":"IF(ISNA(Lists!$J23),\"\",IF(INDIRECT(\"'\"&Lists!$J23&\"'!\"&\"B\"&F$23)=\"\",\"\",(INDIRECT(\"'\"&Lists!$J23&\"'!\"&\"B\"&F$23))))","v":""},{"$f":"IF(ISNA(Lists!$J23),\"\",IF(INDIRECT(\"'\"&Lists!$J23&\"'!\"&\"B\"&G$23)=\"\",\"\",(INDIRECT(\"'\"&Lists!$J23&\"'!\"&\"B\"&G$23))))","v":""},{"$f":"IF(ISNA(Lists!$J23),\"\",IF((INDIRECT(\"'\"&Lists!$J23&\"'!\"&Lists!$K23&H$23))=\"\",\"\",(INDIRECT(\"'\"&Lists!$J23&\"'!\"&Lists!$K23&H$23))))","v":""},{"$f":"IF(ISNA(Lists!$J23),\"\",IF((INDIRECT(\"'\"&Lists!$J23&\"'!\"&Lists!$K23&I$23))=\"\",\"\",(INDIRECT(\"'\"&Lists!$J23&\"'!\"&Lists!$K23&I$23))))","v":""},{"$f":"IF(ISNA(Lists!$J23),\"\",IF((INDIRECT(\"'\"&Lists!$J23&\"'!\"&Lists!$K23&J$23))=\"\",\"\",(INDIRECT(\"'\"&Lists!$J23&\"'!\"&Lists!$K23&J$23))))","v":""},{"$f":"IF(ISNA(Lists!$J23),\"\",IF((INDIRECT(\"'\"&Lists!$J23&\"'!\"&Lists!$K23&K$23))=\"\",\"\",(INDIRECT(\"'\"&Lists!$J23&\"'!\"&Lists!$K23&K$23))))","v":""},{"$f":"IF(ISNA(Lists!$J23),\"\",IF((INDIRECT(\"'\"&Lists!$J23&\"'!\"&Lists!$K23&L$23))=\"\",\"\",(INDIRECT(\"'\"&Lists!$J23&\"'!\"&Lists!$K23&L$23))))","v":""},{"$f":"IF(ISNA(Lists!$J23),\"\",IF((INDIRECT(\"'\"&Lists!$J23&\"'!\"&Lists!$K23&M$23))=\"\",\"\",(INDIRECT(\"'\"&Lists!$J23&\"'!\"&Lists!$K23&M$23))))","v":""},{"$f":"IF(ISNA(Lists!$J23),\"\",IF((INDIRECT(\"'\"&Lists!$J23&\"'!\"&Lists!$K23&N$23))=\"\",\"\",(INDIRECT(\"'\"&Lists!$J23&\"'!\"&Lists!$K23&N$23))))","v":""},{"$f":"IF(ISNA(Lists!$J23),\"\",IF((INDIRECT(\"'\"&Lists!$J23&\"'!\"&Lists!$K23&O$23))=\"\",\"\",(INDIRECT(\"'\"&Lists!$J23&\"'!\"&Lists!$K23&O$23))))","v":""},{"$f":"IF(ISNA(Lists!$J23),\"\",IF((INDIRECT(\"'\"&Lists!$J23&\"'!\"&Lists!$K23&P$23))=\"\",\"\",(INDIRECT(\"'\"&Lists!$J23&\"'!\"&Lists!$K23&P$23))))","v":""},{"$f":"IF(ISNA(Lists!$J23),\"\",IF((INDIRECT(\"'\"&Lists!$J23&\"'!\"&Lists!$K23&Q$23))=\"\",\"\",(INDIRECT(\"'\"&Lists!$J23&\"'!\"&Lists!$K23&Q$23))))","v":""},{"$f":"IF(ISNA(Lists!$J23),\"\",IF((INDIRECT(\"'\"&Lists!$J23&\"'!\"&Lists!$K23&R$23))=\"\",\"\",(INDIRECT(\"'\"&Lists!$J23&\"'!\"&Lists!$K23&R$23))))","v":""},{"$f":"IF(ISNA(Lists!$J23),\"\",IF((INDIRECT(\"'\"&Lists!$J23&\"'!\"&Lists!$K23&S$23))=\"\",\"\",(INDIRECT(\"'\"&Lists!$J23&\"'!\"&Lists!$K23&S$23))))","v":""},{"$f":"IF(ISNA(Lists!$J23),\"\",IF((INDIRECT(\"'\"&Lists!$J23&\"'!\"&Lists!$K23&T$23))=\"\",\"\",(INDIRECT(\"'\"&Lists!$J23&\"'!\"&Lists!$K23&T$23))))","v":""},{"$f":"IF(ISNA(Lists!$J23),\"\",IF((INDIRECT(\"'\"&Lists!$J23&\"'!\"&Lists!$K23&U$23))=\"\",\"\",(INDIRECT(\"'\"&Lists!$J23&\"'!\"&Lists!$K23&U$23))))","v":""},{"$f":"IF(ISNA(Lists!$J23),\"\",IF((INDIRECT(\"'\"&Lists!$J23&\"'!\"&Lists!$L23&V$23))=\"\",\"\",(INDIRECT(\"'\"&Lists!$J23&\"'!\"&Lists!$L23&V$23))))","v":""},{"$f":"IF(ISNA(Lists!$J23),\"\",IF((INDIRECT(\"'\"&Lists!$J23&\"'!\"&Lists!$L23&W$23))=\"\",\"\",(INDIRECT(\"'\"&Lists!$J23&\"'!\"&Lists!$L23&W$23))))","v":""},{"$f":"IF(ISNA(Lists!$J23),\"\",IF((INDIRECT(\"'\"&Lists!$J23&\"'!\"&Lists!$L23&X$23))=\"\",\"\",(INDIRECT(\"'\"&Lists!$J23&\"'!\"&Lists!$L23&X$23))))","v":""},{"$f":"IF(ISNA(Lists!$J23),\"\",IF((INDIRECT(\"'\"&Lists!$J23&\"'!\"&Lists!$L23&Y$23))=\"\",\"\",(INDIRECT(\"'\"&Lists!$J23&\"'!\"&Lists!$L23&Y$23))))","v":""},{"$f":"IF(ISNA(Lists!$J23),\"\",IF((INDIRECT(\"'\"&Lists!$J23&\"'!\"&Lists!$L23&Z$23))=\"\",\"\",(INDIRECT(\"'\"&Lists!$J23&\"'!\"&Lists!$L23&Z$23))))","v":""},{"$f":"IF(ISNA(Lists!$J23),\"\",IF((INDIRECT(\"'\"&Lists!$J23&\"'!\"&Lists!$L23&AA$23))=\"\",\"\",(INDIRECT(\"'\"&Lists!$J23&\"'!\"&Lists!$L23&AA$23))))","v":""},{"$f":"IF(ISNA(Lists!$J23),\"\",IF((INDIRECT(\"'\"&Lists!$J23&\"'!\"&Lists!$L23&AB$23))=\"\",\"\",(INDIRECT(\"'\"&Lists!$J23&\"'!\"&Lists!$L23&AB$23))))","v":""},{"$f":"IF(ISNA(Lists!$J23),\"\",IF((INDIRECT(\"'\"&Lists!$J23&\"'!\"&Lists!$K23&AC$23))=\"\",\"\",(INDIRECT(\"'\"&Lists!$J23&\"'!\"&Lists!$K23&AC$23))))","v":""},{"$f":"IF(ISNA(Lists!$J23),\"\",IF((INDIRECT(\"'\"&Lists!$J23&\"'!\"&Lists!$L23&AD$23))=\"\",\"\",(INDIRECT(\"'\"&Lists!$J23&\"'!\"&Lists!$L23&AD$23))))","v":""},{"$f":"IF(ISNA(Lists!$J23),\"\",IF((INDIRECT(\"'\"&Lists!$J23&\"'!\"&Lists!$K23&AE$23))=\"\",\"\",(INDIRECT(\"'\"&Lists!$J23&\"'!\"&Lists!$K23&AE$23))))","v":""},{"$f":"IF(ISNA(Lists!$J23),\"\",IF((INDIRECT(\"'\"&Lists!$J23&\"'!\"&Lists!$K23&AF$23))=\"\",\"\",(INDIRECT(\"'\"&Lists!$J23&\"'!\"&Lists!$K23&AF$23))))","v":""},{"$f":"IF(ISNA(Lists!$J23),\"\",IF((INDIRECT(\"'\"&Lists!$J23&\"'!\"&Lists!$K23&AG$23))=\"\",\"\",(INDIRECT(\"'\"&Lists!$J23&\"'!\"&Lists!$K23&AG$23))))","v":""},{"$f":"IF(ISNA(Lists!$J23),\"\",IF((INDIRECT(\"'\"&Lists!$J23&\"'!\"&Lists!$K23&AH$23))=\"\",\"\",(INDIRECT(\"'\"&Lists!$J23&\"'!\"&Lists!$K23&AH$23))))","v":""},{"$f":"IF(ISNA(Lists!$J23),\"\",IF((INDIRECT(\"'\"&Lists!$J23&\"'!\"&Lists!$K23&AI$23))=\"\",\"\",(INDIRECT(\"'\"&Lists!$J23&\"'!\"&Lists!$K23&AI$23))))","v":""},{"$f":"IF(ISNA(Lists!$J23),\"\",IF((INDIRECT(\"'\"&Lists!$J23&\"'!\"&Lists!$K23&AJ$23))=\"\",\"\",(INDIRECT(\"'\"&Lists!$J23&\"'!\"&Lists!$K23&AJ$23))))","v":""},{"$f":"IF(ISNA(Lists!$J23),\"\",IF((INDIRECT(\"'\"&Lists!$J23&\"'!\"&Lists!$K23&AK$23))=\"\",\"\",(INDIRECT(\"'\"&Lists!$J23&\"'!\"&Lists!$K23&AK$23))))","v":""},{"$f":"IF(ISNA(Lists!$J23),\"\",IF((INDIRECT(\"'\"&Lists!$J23&\"'!\"&Lists!$K23&AL$23))=\"\",\"\",(INDIRECT(\"'\"&Lists!$J23&\"'!\"&Lists!$K23&AL$23))))","v":""},{"$f":"IF(ISNA(Lists!$J23),\"\",IF((INDIRECT(\"'\"&Lists!$J23&\"'!\"&Lists!$K23&AM$23))=\"\",\"\",(INDIRECT(\"'\"&Lists!$J23&\"'!\"&Lists!$K23&AM$23))))","v":""},{"$f":"IF(ISNA(Lists!$J23),\"\",IF((INDIRECT(\"'\"&Lists!$J23&\"'!\"&Lists!$K23&AN$23))=\"\",\"\",(INDIRECT(\"'\"&Lists!$J23&\"'!\"&Lists!$K23&AN$23))))","v":""},{"$f":"IF(ISNA(Lists!$J23),\"\",IF((INDIRECT(\"'\"&Lists!$J23&\"'!\"&Lists!$K23&AO$23))=\"\",\"\",(INDIRECT(\"'\"&Lists!$J23&\"'!\"&Lists!$K23&AO$23))))","v":""}]
[null,{"$f":"IF(C46=\"\",\"\",Facility_Info_upload!$B$24)","v":""},{"$f":"IF(ISNA(Lists!$J24),\"\",IF(INDIRECT(\"'\"&Lists!$J24&\"'!\"&\"B\"&C$23)=\"\",\"\",(INDIRECT(\"'\"&Lists!$J24&\"'!\"&\"B\"&C$23))))","v":""},{"$f":"IF(ISNA(Lists!$J24),\"\",IF(INDIRECT(\"'\"&Lists!$J24&\"'!\"&\"B\"&D$23)=\"\",\"\",(INDIRECT(\"'\"&Lists!$J24&\"'!\"&\"B\"&D$23))))","v":""},{"$f":"IF(ISNA(Lists!$J24),\"\",IF(INDIRECT(\"'\"&Lists!$J24&\"'!\"&\"B\"&E$23)=\"\",\"\",(INDIRECT(\"'\"&Lists!$J24&\"'!\"&\"B\"&E$23))))","v":""},{"$f":"IF(ISNA(Lists!$J24),\"\",IF(INDIRECT(\"'\"&Lists!$J24&\"'!\"&\"B\"&F$23)=\"\",\"\",(INDIRECT(\"'\"&Lists!$J24&\"'!\"&\"B\"&F$23))))","v":""},{"$f":"IF(ISNA(Lists!$J24),\"\",IF(INDIRECT(\"'\"&Lists!$J24&\"'!\"&\"B\"&G$23)=\"\",\"\",(INDIRECT(\"'\"&Lists!$J24&\"'!\"&\"B\"&G$23))))","v":""},{"$f":"IF(ISNA(Lists!$J24),\"\",IF((INDIRECT(\"'\"&Lists!$J24&\"'!\"&Lists!$K24&H$23))=\"\",\"\",(INDIRECT(\"'\"&Lists!$J24&\"'!\"&Lists!$K24&H$23))))","v":""},{"$f":"IF(ISNA(Lists!$J24),\"\",IF((INDIRECT(\"'\"&Lists!$J24&\"'!\"&Lists!$K24&I$23))=\"\",\"\",(INDIRECT(\"'\"&Lists!$J24&\"'!\"&Lists!$K24&I$23))))","v":""},{"$f":"IF(ISNA(Lists!$J24),\"\",IF((INDIRECT(\"'\"&Lists!$J24&\"'!\"&Lists!$K24&J$23))=\"\",\"\",(INDIRECT(\"'\"&Lists!$J24&\"'!\"&Lists!$K24&J$23))))","v":""},{"$f":"IF(ISNA(Lists!$J24),\"\",IF((INDIRECT(\"'\"&Lists!$J24&\"'!\"&Lists!$K24&K$23))=\"\",\"\",(INDIRECT(\"'\"&Lists!$J24&\"'!\"&Lists!$K24&K$23))))","v":""},{"$f":"IF(ISNA(Lists!$J24),\"\",IF((INDIRECT(\"'\"&Lists!$J24&\"'!\"&Lists!$K24&L$23))=\"\",\"\",(INDIRECT(\"'\"&Lists!$J24&\"'!\"&Lists!$K24&L$23))))","v":""},{"$f":"IF(ISNA(Lists!$J24),\"\",IF((INDIRECT(\"'\"&Lists!$J24&\"'!\"&Lists!$K24&M$23))=\"\",\"\",(INDIRECT(\"'\"&Lists!$J24&\"'!\"&Lists!$K24&M$23))))","v":""},{"$f":"IF(ISNA(Lists!$J24),\"\",IF((INDIRECT(\"'\"&Lists!$J24&\"'!\"&Lists!$K24&N$23))=\"\",\"\",(INDIRECT(\"'\"&Lists!$J24&\"'!\"&Lists!$K24&N$23))))","v":""},{"$f":"IF(ISNA(Lists!$J24),\"\",IF((INDIRECT(\"'\"&Lists!$J24&\"'!\"&Lists!$K24&O$23))=\"\",\"\",(INDIRECT(\"'\"&Lists!$J24&\"'!\"&Lists!$K24&O$23))))","v":""},{"$f":"IF(ISNA(Lists!$J24),\"\",IF((INDIRECT(\"'\"&Lists!$J24&\"'!\"&Lists!$K24&P$23))=\"\",\"\",(INDIRECT(\"'\"&Lists!$J24&\"'!\"&Lists!$K24&P$23))))","v":""},{"$f":"IF(ISNA(Lists!$J24),\"\",IF((INDIRECT(\"'\"&Lists!$J24&\"'!\"&Lists!$K24&Q$23))=\"\",\"\",(INDIRECT(\"'\"&Lists!$J24&\"'!\"&Lists!$K24&Q$23))))","v":""},{"$f":"IF(ISNA(Lists!$J24),\"\",IF((INDIRECT(\"'\"&Lists!$J24&\"'!\"&Lists!$K24&R$23))=\"\",\"\",(INDIRECT(\"'\"&Lists!$J24&\"'!\"&Lists!$K24&R$23))))","v":""},{"$f":"IF(ISNA(Lists!$J24),\"\",IF((INDIRECT(\"'\"&Lists!$J24&\"'!\"&Lists!$K24&S$23))=\"\",\"\",(INDIRECT(\"'\"&Lists!$J24&\"'!\"&Lists!$K24&S$23))))","v":""},{"$f":"IF(ISNA(Lists!$J24),\"\",IF((INDIRECT(\"'\"&Lists!$J24&\"'!\"&Lists!$K24&T$23))=\"\",\"\",(INDIRECT(\"'\"&Lists!$J24&\"'!\"&Lists!$K24&T$23))))","v":""},{"$f":"IF(ISNA(Lists!$J24),\"\",IF((INDIRECT(\"'\"&Lists!$J24&\"'!\"&Lists!$K24&U$23))=\"\",\"\",(INDIRECT(\"'\"&Lists!$J24&\"'!\"&Lists!$K24&U$23))))","v":""},{"$f":"IF(ISNA(Lists!$J24),\"\",IF((INDIRECT(\"'\"&Lists!$J24&\"'!\"&Lists!$L24&V$23))=\"\",\"\",(INDIRECT(\"'\"&Lists!$J24&\"'!\"&Lists!$L24&V$23))))","v":""},{"$f":"IF(ISNA(Lists!$J24),\"\",IF((INDIRECT(\"'\"&Lists!$J24&\"'!\"&Lists!$L24&W$23))=\"\",\"\",(INDIRECT(\"'\"&Lists!$J24&\"'!\"&Lists!$L24&W$23))))","v":""},{"$f":"IF(ISNA(Lists!$J24),\"\",IF((INDIRECT(\"'\"&Lists!$J24&\"'!\"&Lists!$L24&X$23))=\"\",\"\",(INDIRECT(\"'\"&Lists!$J24&\"'!\"&Lists!$L24&X$23))))","v":""},{"$f":"IF(ISNA(Lists!$J24),\"\",IF((INDIRECT(\"'\"&Lists!$J24&\"'!\"&Lists!$L24&Y$23))=\"\",\"\",(INDIRECT(\"'\"&Lists!$J24&\"'!\"&Lists!$L24&Y$23))))","v":""},{"$f":"IF(ISNA(Lists!$J24),\"\",IF((INDIRECT(\"'\"&Lists!$J24&\"'!\"&Lists!$L24&Z$23))=\"\",\"\",(INDIRECT(\"'\"&Lists!$J24&\"'!\"&Lists!$L24&Z$23))))","v":""},{"$f":"IF(ISNA(Lists!$J24),\"\",IF((INDIRECT(\"'\"&Lists!$J24&\"'!\"&Lists!$L24&AA$23))=\"\",\"\",(INDIRECT(\"'\"&Lists!$J24&\"'!\"&Lists!$L24&AA$23))))","v":""},{"$f":"IF(ISNA(Lists!$J24),\"\",IF((INDIRECT(\"'\"&Lists!$J24&\"'!\"&Lists!$L24&AB$23))=\"\",\"\",(INDIRECT(\"'\"&Lists!$J24&\"'!\"&Lists!$L24&AB$23))))","v":""},{"$f":"IF(ISNA(Lists!$J24),\"\",IF((INDIRECT(\"'\"&Lists!$J24&\"'!\"&Lists!$K24&AC$23))=\"\",\"\",(INDIRECT(\"'\"&Lists!$J24&\"'!\"&Lists!$K24&AC$23))))","v":""},{"$f":"IF(ISNA(Lists!$J24),\"\",IF((INDIRECT(\"'\"&Lists!$J24&\"'!\"&Lists!$L24&AD$23))=\"\",\"\",(INDIRECT(\"'\"&Lists!$J24&\"'!\"&Lists!$L24&AD$23))))","v":""},{"$f":"IF(ISNA(Lists!$J24),\"\",IF((INDIRECT(\"'\"&Lists!$J24&\"'!\"&Lists!$K24&AE$23))=\"\",\"\",(INDIRECT(\"'\"&Lists!$J24&\"'!\"&Lists!$K24&AE$23))))","v":""},{"$f":"IF(ISNA(Lists!$J24),\"\",IF((INDIRECT(\"'\"&Lists!$J24&\"'!\"&Lists!$K24&AF$23))=\"\",\"\",(INDIRECT(\"'\"&Lists!$J24&\"'!\"&Lists!$K24&AF$23))))","v":""},{"$f":"IF(ISNA(Lists!$J24),\"\",IF((INDIRECT(\"'\"&Lists!$J24&\"'!\"&Lists!$K24&AG$23))=\"\",\"\",(INDIRECT(\"'\"&Lists!$J24&\"'!\"&Lists!$K24&AG$23))))","v":""},{"$f":"IF(ISNA(Lists!$J24),\"\",IF((INDIRECT(\"'\"&Lists!$J24&\"'!\"&Lists!$K24&AH$23))=\"\",\"\",(INDIRECT(\"'\"&Lists!$J24&\"'!\"&Lists!$K24&AH$23))))","v":""},{"$f":"IF(ISNA(Lists!$J24),\"\",IF((INDIRECT(\"'\"&Lists!$J24&\"'!\"&Lists!$K24&AI$23))=\"\",\"\",(INDIRECT(\"'\"&Lists!$J24&\"'!\"&Lists!$K24&AI$23))))","v":""},{"$f":"IF(ISNA(Lists!$J24),\"\",IF((INDIRECT(\"'\"&Lists!$J24&\"'!\"&Lists!$K24&AJ$23))=\"\",\"\",(INDIRECT(\"'\"&Lists!$J24&\"'!\"&Lists!$K24&AJ$23))))","v":""},{"$f":"IF(ISNA(Lists!$J24),\"\",IF((INDIRECT(\"'\"&Lists!$J24&\"'!\"&Lists!$K24&AK$23))=\"\",\"\",(INDIRECT(\"'\"&Lists!$J24&\"'!\"&Lists!$K24&AK$23))))","v":""},{"$f":"IF(ISNA(Lists!$J24),\"\",IF((INDIRECT(\"'\"&Lists!$J24&\"'!\"&Lists!$K24&AL$23))=\"\",\"\",(INDIRECT(\"'\"&Lists!$J24&\"'!\"&Lists!$K24&AL$23))))","v":""},{"$f":"IF(ISNA(Lists!$J24),\"\",IF((INDIRECT(\"'\"&Lists!$J24&\"'!\"&Lists!$K24&AM$23))=\"\",\"\",(INDIRECT(\"'\"&Lists!$J24&\"'!\"&Lists!$K24&AM$23))))","v":""},{"$f":"IF(ISNA(Lists!$J24),\"\",IF((INDIRECT(\"'\"&Lists!$J24&\"'!\"&Lists!$K24&AN$23))=\"\",\"\",(INDIRECT(\"'\"&Lists!$J24&\"'!\"&Lists!$K24&AN$23))))","v":""},{"$f":"IF(ISNA(Lists!$J24),\"\",IF((INDIRECT(\"'\"&Lists!$J24&\"'!\"&Lists!$K24&AO$23))=\"\",\"\",(INDIRECT(\"'\"&Lists!$J24&\"'!\"&Lists!$K24&AO$23))))","v":""}]
[null,{"$f":"IF(C47=\"\",\"\",Facility_Info_upload!$B$24)","v":""},{"$f":"IF(ISNA(Lists!$J25),\"\",IF(INDIRECT(\"'\"&Lists!$J25&\"'!\"&\"B\"&C$23)=\"\",\"\",(INDIRECT(\"'\"&Lists!$J25&\"'!\"&\"B\"&C$23))))","v":""},{"$f":"IF(ISNA(Lists!$J25),\"\",IF(INDIRECT(\"'\"&Lists!$J25&\"'!\"&\"B\"&D$23)=\"\",\"\",(INDIRECT(\"'\"&Lists!$J25&\"'!\"&\"B\"&D$23))))","v":""},{"$f":"IF(ISNA(Lists!$J25),\"\",IF(INDIRECT(\"'\"&Lists!$J25&\"'!\"&\"B\"&E$23)=\"\",\"\",(INDIRECT(\"'\"&Lists!$J25&\"'!\"&\"B\"&E$23))))","v":""},{"$f":"IF(ISNA(Lists!$J25),\"\",IF(INDIRECT(\"'\"&Lists!$J25&\"'!\"&\"B\"&F$23)=\"\",\"\",(INDIRECT(\"'\"&Lists!$J25&\"'!\"&\"B\"&F$23))))","v":""},{"$f":"IF(ISNA(Lists!$J25),\"\",IF(INDIRECT(\"'\"&Lists!$J25&\"'!\"&\"B\"&G$23)=\"\",\"\",(INDIRECT(\"'\"&Lists!$J25&\"'!\"&\"B\"&G$23))))","v":""},{"$f":"IF(ISNA(Lists!$J25),\"\",IF((INDIRECT(\"'\"&Lists!$J25&\"'!\"&Lists!$K25&H$23))=\"\",\"\",(INDIRECT(\"'\"&Lists!$J25&\"'!\"&Lists!$K25&H$23))))","v":""},{"$f":"IF(ISNA(Lists!$J25),\"\",IF((INDIRECT(\"'\"&Lists!$J25&\"'!\"&Lists!$K25&I$23))=\"\",\"\",(INDIRECT(\"'\"&Lists!$J25&\"'!\"&Lists!$K25&I$23))))","v":""},{"$f":"IF(ISNA(Lists!$J25),\"\",IF((INDIRECT(\"'\"&Lists!$J25&\"'!\"&Lists!$K25&J$23))=\"\",\"\",(INDIRECT(\"'\"&Lists!$J25&\"'!\"&Lists!$K25&J$23))))","v":""},{"$f":"IF(ISNA(Lists!$J25),\"\",IF((INDIRECT(\"'\"&Lists!$J25&\"'!\"&Lists!$K25&K$23))=\"\",\"\",(INDIRECT(\"'\"&Lists!$J25&\"'!\"&Lists!$K25&K$23))))","v":""},{"$f":"IF(ISNA(Lists!$J25),\"\",IF((INDIRECT(\"'\"&Lists!$J25&\"'!\"&Lists!$K25&L$23))=\"\",\"\",(INDIRECT(\"'\"&Lists!$J25&\"'!\"&Lists!$K25&L$23))))","v":""},{"$f":"IF(ISNA(Lists!$J25),\"\",IF((INDIRECT(\"'\"&Lists!$J25&\"'!\"&Lists!$K25&M$23))=\"\",\"\",(INDIRECT(\"'\"&Lists!$J25&\"'!\"&Lists!$K25&M$23))))","v":""},{"$f":"IF(ISNA(Lists!$J25),\"\",IF((INDIRECT(\"'\"&Lists!$J25&\"'!\"&Lists!$K25&N$23))=\"\",\"\",(INDIRECT(\"'\"&Lists!$J25&\"'!\"&Lists!$K25&N$23))))","v":""},{"$f":"IF(ISNA(Lists!$J25),\"\",IF((INDIRECT(\"'\"&Lists!$J25&\"'!\"&Lists!$K25&O$23))=\"\",\"\",(INDIRECT(\"'\"&Lists!$J25&\"'!\"&Lists!$K25&O$23))))","v":""},{"$f":"IF(ISNA(Lists!$J25),\"\",IF((INDIRECT(\"'\"&Lists!$J25&\"'!\"&Lists!$K25&P$23))=\"\",\"\",(INDIRECT(\"'\"&Lists!$J25&\"'!\"&Lists!$K25&P$23))))","v":""},{"$f":"IF(ISNA(Lists!$J25),\"\",IF((INDIRECT(\"'\"&Lists!$J25&\"'!\"&Lists!$K25&Q$23))=\"\",\"\",(INDIRECT(\"'\"&Lists!$J25&\"'!\"&Lists!$K25&Q$23))))","v":""},{"$f":"IF(ISNA(Lists!$J25),\"\",IF((INDIRECT(\"'\"&Lists!$J25&\"'!\"&Lists!$K25&R$23))=\"\",\"\",(INDIRECT(\"'\"&Lists!$J25&\"'!\"&Lists!$K25&R$23))))","v":""},{"$f":"IF(ISNA(Lists!$J25),\"\",IF((INDIRECT(\"'\"&Lists!$J25&\"'!\"&Lists!$K25&S$23))=\"\",\"\",(INDIRECT(\"'\"&Lists!$J25&\"'!\"&Lists!$K25&S$23))))","v":""},{"$f":"IF(ISNA(Lists!$J25),\"\",IF((INDIRECT(\"'\"&Lists!$J25&\"'!\"&Lists!$K25&T$23))=\"\",\"\",(INDIRECT(\"'\"&Lists!$J25&\"'!\"&Lists!$K25&T$23))))","v":""},{"$f":"IF(ISNA(Lists!$J25),\"\",IF((INDIRECT(\"'\"&Lists!$J25&\"'!\"&Lists!$K25&U$23))=\"\",\"\",(INDIRECT(\"'\"&Lists!$J25&\"'!\"&Lists!$K25&U$23))))","v":""},{"$f":"IF(ISNA(Lists!$J25),\"\",IF((INDIRECT(\"'\"&Lists!$J25&\"'!\"&Lists!$L25&V$23))=\"\",\"\",(INDIRECT(\"'\"&Lists!$J25&\"'!\"&Lists!$L25&V$23))))","v":""},{"$f":"IF(ISNA(Lists!$J25),\"\",IF((INDIRECT(\"'\"&Lists!$J25&\"'!\"&Lists!$L25&W$23))=\"\",\"\",(INDIRECT(\"'\"&Lists!$J25&\"'!\"&Lists!$L25&W$23))))","v":""},{"$f":"IF(ISNA(Lists!$J25),\"\",IF((INDIRECT(\"'\"&Lists!$J25&\"'!\"&Lists!$L25&X$23))=\"\",\"\",(INDIRECT(\"'\"&Lists!$J25&\"'!\"&Lists!$L25&X$23))))","v":""},{"$f":"IF(ISNA(Lists!$J25),\"\",IF((INDIRECT(\"'\"&Lists!$J25&\"'!\"&Lists!$L25&Y$23))=\"\",\"\",(INDIRECT(\"'\"&Lists!$J25&\"'!\"&Lists!$L25&Y$23))))","v":""},{"$f":"IF(ISNA(Lists!$J25),\"\",IF((INDIRECT(\"'\"&Lists!$J25&\"'!\"&Lists!$L25&Z$23))=\"\",\"\",(INDIRECT(\"'\"&Lists!$J25&\"'!\"&Lists!$L25&Z$23))))","v":""},{"$f":"IF(ISNA(Lists!$J25),\"\",IF((INDIRECT(\"'\"&Lists!$J25&\"'!\"&Lists!$L25&AA$23))=\"\",\"\",(INDIRECT(\"'\"&Lists!$J25&\"'!\"&Lists!$L25&AA$23))))","v":""},{"$f":"IF(ISNA(Lists!$J25),\"\",IF((INDIRECT(\"'\"&Lists!$J25&\"'!\"&Lists!$L25&AB$23))=\"\",\"\",(INDIRECT(\"'\"&Lists!$J25&\"'!\"&Lists!$L25&AB$23))))","v":""},{"$f":"IF(ISNA(Lists!$J25),\"\",IF((INDIRECT(\"'\"&Lists!$J25&\"'!\"&Lists!$K25&AC$23))=\"\",\"\",(INDIRECT(\"'\"&Lists!$J25&\"'!\"&Lists!$K25&AC$23))))","v":""},{"$f":"IF(ISNA(Lists!$J25),\"\",IF((INDIRECT(\"'\"&Lists!$J25&\"'!\"&Lists!$L25&AD$23))=\"\",\"\",(INDIRECT(\"'\"&Lists!$J25&\"'!\"&Lists!$L25&AD$23))))","v":""},{"$f":"IF(ISNA(Lists!$J25),\"\",IF((INDIRECT(\"'\"&Lists!$J25&\"'!\"&Lists!$K25&AE$23))=\"\",\"\",(INDIRECT(\"'\"&Lists!$J25&\"'!\"&Lists!$K25&AE$23))))","v":""},{"$f":"IF(ISNA(Lists!$J25),\"\",IF((INDIRECT(\"'\"&Lists!$J25&\"'!\"&Lists!$K25&AF$23))=\"\",\"\",(INDIRECT(\"'\"&Lists!$J25&\"'!\"&Lists!$K25&AF$23))))","v":""},{"$f":"IF(ISNA(Lists!$J25),\"\",IF((INDIRECT(\"'\"&Lists!$J25&\"'!\"&Lists!$K25&AG$23))=\"\",\"\",(INDIRECT(\"'\"&Lists!$J25&\"'!\"&Lists!$K25&AG$23))))","v":""},{"$f":"IF(ISNA(Lists!$J25),\"\",IF((INDIRECT(\"'\"&Lists!$J25&\"'!\"&Lists!$K25&AH$23))=\"\",\"\",(INDIRECT(\"'\"&Lists!$J25&\"'!\"&Lists!$K25&AH$23))))","v":""},{"$f":"IF(ISNA(Lists!$J25),\"\",IF((INDIRECT(\"'\"&Lists!$J25&\"'!\"&Lists!$K25&AI$23))=\"\",\"\",(INDIRECT(\"'\"&Lists!$J25&\"'!\"&Lists!$K25&AI$23))))","v":""},{"$f":"IF(ISNA(Lists!$J25),\"\",IF((INDIRECT(\"'\"&Lists!$J25&\"'!\"&Lists!$K25&AJ$23))=\"\",\"\",(INDIRECT(\"'\"&Lists!$J25&\"'!\"&Lists!$K25&AJ$23))))","v":""},{"$f":"IF(ISNA(Lists!$J25),\"\",IF((INDIRECT(\"'\"&Lists!$J25&\"'!\"&Lists!$K25&AK$23))=\"\",\"\",(INDIRECT(\"'\"&Lists!$J25&\"'!\"&Lists!$K25&AK$23))))","v":""},{"$f":"IF(ISNA(Lists!$J25),\"\",IF((INDIRECT(\"'\"&Lists!$J25&\"'!\"&Lists!$K25&AL$23))=\"\",\"\",(INDIRECT(\"'\"&Lists!$J25&\"'!\"&Lists!$K25&AL$23))))","v":""},{"$f":"IF(ISNA(Lists!$J25),\"\",IF((INDIRECT(\"'\"&Lists!$J25&\"'!\"&Lists!$K25&AM$23))=\"\",\"\",(INDIRECT(\"'\"&Lists!$J25&\"'!\"&Lists!$K25&AM$23))))","v":""},{"$f":"IF(ISNA(Lists!$J25),\"\",IF((INDIRECT(\"'\"&Lists!$J25&\"'!\"&Lists!$K25&AN$23))=\"\",\"\",(INDIRECT(\"'\"&Lists!$J25&\"'!\"&Lists!$K25&AN$23))))","v":""},{"$f":"IF(ISNA(Lists!$J25),\"\",IF((INDIRECT(\"'\"&Lists!$J25&\"'!\"&Lists!$K25&AO$23))=\"\",\"\",(INDIRECT(\"'\"&Lists!$J25&\"'!\"&Lists!$K25&AO$23))))","v":""}]
[null,{"$f":"IF(C48=\"\",\"\",Facility_Info_upload!$B$24)","v":""},{"$f":"IF(ISNA(Lists!$J26),\"\",IF(INDIRECT(\"'\"&Lists!$J26&\"'!\"&\"B\"&C$23)=\"\",\"\",(INDIRECT(\"'\"&Lists!$J26&\"'!\"&\"B\"&C$23))))","v":""},{"$f":"IF(ISNA(Lists!$J26),\"\",IF(INDIRECT(\"'\"&Lists!$J26&\"'!\"&\"B\"&D$23)=\"\",\"\",(INDIRECT(\"'\"&Lists!$J26&\"'!\"&\"B\"&D$23))))","v":""},{"$f":"IF(ISNA(Lists!$J26),\"\",IF(INDIRECT(\"'\"&Lists!$J26&\"'!\"&\"B\"&E$23)=\"\",\"\",(INDIRECT(\"'\"&Lists!$J26&\"'!\"&\"B\"&E$23))))","v":""},{"$f":"IF(ISNA(Lists!$J26),\"\",IF(INDIRECT(\"'\"&Lists!$J26&\"'!\"&\"B\"&F$23)=\"\",\"\",(INDIRECT(\"'\"&Lists!$J26&\"'!\"&\"B\"&F$23))))","v":""},{"$f":"IF(ISNA(Lists!$J26),\"\",IF(INDIRECT(\"'\"&Lists!$J26&\"'!\"&\"B\"&G$23)=\"\",\"\",(INDIRECT(\"'\"&Lists!$J26&\"'!\"&\"B\"&G$23))))","v":""},{"$f":"IF(ISNA(Lists!$J26),\"\",IF((INDIRECT(\"'\"&Lists!$J26&\"'!\"&Lists!$K26&H$23))=\"\",\"\",(INDIRECT(\"'\"&Lists!$J26&\"'!\"&Lists!$K26&H$23))))","v":""},{"$f":"IF(ISNA(Lists!$J26),\"\",IF((INDIRECT(\"'\"&Lists!$J26&\"'!\"&Lists!$K26&I$23))=\"\",\"\",(INDIRECT(\"'\"&Lists!$J26&\"'!\"&Lists!$K26&I$23))))","v":""},{"$f":"IF(ISNA(Lists!$J26),\"\",IF((INDIRECT(\"'\"&Lists!$J26&\"'!\"&Lists!$K26&J$23))=\"\",\"\",(INDIRECT(\"'\"&Lists!$J26&\"'!\"&Lists!$K26&J$23))))","v":""},{"$f":"IF(ISNA(Lists!$J26),\"\",IF((INDIRECT(\"'\"&Lists!$J26&\"'!\"&Lists!$K26&K$23))=\"\",\"\",(INDIRECT(\"'\"&Lists!$J26&\"'!\"&Lists!$K26&K$23))))","v":""},{"$f":"IF(ISNA(Lists!$J26),\"\",IF((INDIRECT(\"'\"&Lists!$J26&\"'!\"&Lists!$K26&L$23))=\"\",\"\",(INDIRECT(\"'\"&Lists!$J26&\"'!\"&Lists!$K26&L$23))))","v":""},{"$f":"IF(ISNA(Lists!$J26),\"\",IF((INDIRECT(\"'\"&Lists!$J26&\"'!\"&Lists!$K26&M$23))=\"\",\"\",(INDIRECT(\"'\"&Lists!$J26&\"'!\"&Lists!$K26&M$23))))","v":""},{"$f":"IF(ISNA(Lists!$J26),\"\",IF((INDIRECT(\"'\"&Lists!$J26&\"'!\"&Lists!$K26&N$23))=\"\",\"\",(INDIRECT(\"'\"&Lists!$J26&\"'!\"&Lists!$K26&N$23))))","v":""},{"$f":"IF(ISNA(Lists!$J26),\"\",IF((INDIRECT(\"'\"&Lists!$J26&\"'!\"&Lists!$K26&O$23))=\"\",\"\",(INDIRECT(\"'\"&Lists!$J26&\"'!\"&Lists!$K26&O$23))))","v":""},{"$f":"IF(ISNA(Lists!$J26),\"\",IF((INDIRECT(\"'\"&Lists!$J26&\"'!\"&Lists!$K26&P$23))=\"\",\"\",(INDIRECT(\"'\"&Lists!$J26&\"'!\"&Lists!$K26&P$23))))","v":""},{"$f":"IF(ISNA(Lists!$J26),\"\",IF((INDIRECT(\"'\"&Lists!$J26&\"'!\"&Lists!$K26&Q$23))=\"\",\"\",(INDIRECT(\"'\"&Lists!$J26&\"'!\"&Lists!$K26&Q$23))))","v":""},{"$f":"IF(ISNA(Lists!$J26),\"\",IF((INDIRECT(\"'\"&Lists!$J26&\"'!\"&Lists!$K26&R$23))=\"\",\"\",(INDIRECT(\"'\"&Lists!$J26&\"'!\"&Lists!$K26&R$23))))","v":""},{"$f":"IF(ISNA(Lists!$J26),\"\",IF((INDIRECT(\"'\"&Lists!$J26&\"'!\"&Lists!$K26&S$23))=\"\",\"\",(INDIRECT(\"'\"&Lists!$J26&\"'!\"&Lists!$K26&S$23))))","v":""},{"$f":"IF(ISNA(Lists!$J26),\"\",IF((INDIRECT(\"'\"&Lists!$J26&\"'!\"&Lists!$K26&T$23))=\"\",\"\",(INDIRECT(\"'\"&Lists!$J26&\"'!\"&Lists!$K26&T$23))))","v":""},{"$f":"IF(ISNA(Lists!$J26),\"\",IF((INDIRECT(\"'\"&Lists!$J26&\"'!\"&Lists!$K26&U$23))=\"\",\"\",(INDIRECT(\"'\"&Lists!$J26&\"'!\"&Lists!$K26&U$23))))","v":""},{"$f":"IF(ISNA(Lists!$J26),\"\",IF((INDIRECT(\"'\"&Lists!$J26&\"'!\"&Lists!$L26&V$23))=\"\",\"\",(INDIRECT(\"'\"&Lists!$J26&\"'!\"&Lists!$L26&V$23))))","v":""},{"$f":"IF(ISNA(Lists!$J26),\"\",IF((INDIRECT(\"'\"&Lists!$J26&\"'!\"&Lists!$L26&W$23))=\"\",\"\",(INDIRECT(\"'\"&Lists!$J26&\"'!\"&Lists!$L26&W$23))))","v":""},{"$f":"IF(ISNA(Lists!$J26),\"\",IF((INDIRECT(\"'\"&Lists!$J26&\"'!\"&Lists!$L26&X$23))=\"\",\"\",(INDIRECT(\"'\"&Lists!$J26&\"'!\"&Lists!$L26&X$23))))","v":""},{"$f":"IF(ISNA(Lists!$J26),\"\",IF((INDIRECT(\"'\"&Lists!$J26&\"'!\"&Lists!$L26&Y$23))=\"\",\"\",(INDIRECT(\"'\"&Lists!$J26&\"'!\"&Lists!$L26&Y$23))))","v":""},{"$f":"IF(ISNA(Lists!$J26),\"\",IF((INDIRECT(\"'\"&Lists!$J26&\"'!\"&Lists!$L26&Z$23))=\"\",\"\",(INDIRECT(\"'\"&Lists!$J26&\"'!\"&Lists!$L26&Z$23))))","v":""},{"$f":"IF(ISNA(Lists!$J26),\"\",IF((INDIRECT(\"'\"&Lists!$J26&\"'!\"&Lists!$L26&AA$23))=\"\",\"\",(INDIRECT(\"'\"&Lists!$J26&\"'!\"&Lists!$L26&AA$23))))","v":""},{"$f":"IF(ISNA(Lists!$J26),\"\",IF((INDIRECT(\"'\"&Lists!$J26&\"'!\"&Lists!$L26&AB$23))=\"\",\"\",(INDIRECT(\"'\"&Lists!$J26&\"'!\"&Lists!$L26&AB$23))))","v":""},{"$f":"IF(ISNA(Lists!$J26),\"\",IF((INDIRECT(\"'\"&Lists!$J26&\"'!\"&Lists!$K26&AC$23))=\"\",\"\",(INDIRECT(\"'\"&Lists!$J26&\"'!\"&Lists!$K26&AC$23))))","v":""},{"$f":"IF(ISNA(Lists!$J26),\"\",IF((INDIRECT(\"'\"&Lists!$J26&\"'!\"&Lists!$L26&AD$23))=\"\",\"\",(INDIRECT(\"'\"&Lists!$J26&\"'!\"&Lists!$L26&AD$23))))","v":""},{"$f":"IF(ISNA(Lists!$J26),\"\",IF((INDIRECT(\"'\"&Lists!$J26&\"'!\"&Lists!$K26&AE$23))=\"\",\"\",(INDIRECT(\"'\"&Lists!$J26&\"'!\"&Lists!$K26&AE$23))))","v":""},{"$f":"IF(ISNA(Lists!$J26),\"\",IF((INDIRECT(\"'\"&Lists!$J26&\"'!\"&Lists!$K26&AF$23))=\"\",\"\",(INDIRECT(\"'\"&Lists!$J26&\"'!\"&Lists!$K26&AF$23))))","v":""},{"$f":"IF(ISNA(Lists!$J26),\"\",IF((INDIRECT(\"'\"&Lists!$J26&\"'!\"&Lists!$K26&AG$23))=\"\",\"\",(INDIRECT(\"'\"&Lists!$J26&\"'!\"&Lists!$K26&AG$23))))","v":""},{"$f":"IF(ISNA(Lists!$J26),\"\",IF((INDIRECT(\"'\"&Lists!$J26&\"'!\"&Lists!$K26&AH$23))=\"\",\"\",(INDIRECT(\"'\"&Lists!$J26&\"'!\"&Lists!$K26&AH$23))))","v":""},{"$f":"IF(ISNA(Lists!$J26),\"\",IF((INDIRECT(\"'\"&Lists!$J26&\"'!\"&Lists!$K26&AI$23))=\"\",\"\",(INDIRECT(\"'\"&Lists!$J26&\"'!\"&Lists!$K26&AI$23))))","v":""},{"$f":"IF(ISNA(Lists!$J26),\"\",IF((INDIRECT(\"'\"&Lists!$J26&\"'!\"&Lists!$K26&AJ$23))=\"\",\"\",(INDIRECT(\"'\"&Lists!$J26&\"'!\"&Lists!$K26&AJ$23))))","v":""},{"$f":"IF(ISNA(Lists!$J26),\"\",IF((INDIRECT(\"'\"&Lists!$J26&\"'!\"&Lists!$K26&AK$23))=\"\",\"\",(INDIRECT(\"'\"&Lists!$J26&\"'!\"&Lists!$K26&AK$23))))","v":""},{"$f":"IF(ISNA(Lists!$J26),\"\",IF((INDIRECT(\"'\"&Lists!$J26&\"'!\"&Lists!$K26&AL$23))=\"\",\"\",(INDIRECT(\"'\"&Lists!$J26&\"'!\"&Lists!$K26&AL$23))))","v":""},{"$f":"IF(ISNA(Lists!$J26),\"\",IF((INDIRECT(\"'\"&Lists!$J26&\"'!\"&Lists!$K26&AM$23))=\"\",\"\",(INDIRECT(\"'\"&Lists!$J26&\"'!\"&Lists!$K26&AM$23))))","v":""},{"$f":"IF(ISNA(Lists!$J26),\"\",IF((INDIRECT(\"'\"&Lists!$J26&\"'!\"&Lists!$K26&AN$23))=\"\",\"\",(INDIRECT(\"'\"&Lists!$J26&\"'!\"&Lists!$K26&AN$23))))","v":""},{"$f":"IF(ISNA(Lists!$J26),\"\",IF((INDIRECT(\"'\"&Lists!$J26&\"'!\"&Lists!$K26&AO$23))=\"\",\"\",(INDIRECT(\"'\"&Lists!$J26&\"'!\"&Lists!$K26&AO$23))))","v":""}]
[null,{"$f":"IF(C49=\"\",\"\",Facility_Info_upload!$B$24)","v":""},{"$f":"IF(ISNA(Lists!$J27),\"\",IF(INDIRECT(\"'\"&Lists!$J27&\"'!\"&\"B\"&C$23)=\"\",\"\",(INDIRECT(\"'\"&Lists!$J27&\"'!\"&\"B\"&C$23))))","v":""},{"$f":"IF(ISNA(Lists!$J27),\"\",IF(INDIRECT(\"'\"&Lists!$J27&\"'!\"&\"B\"&D$23)=\"\",\"\",(INDIRECT(\"'\"&Lists!$J27&\"'!\"&\"B\"&D$23))))","v":""},{"$f":"IF(ISNA(Lists!$J27),\"\",IF(INDIRECT(\"'\"&Lists!$J27&\"'!\"&\"B\"&E$23)=\"\",\"\",(INDIRECT(\"'\"&Lists!$J27&\"'!\"&\"B\"&E$23))))","v":""},{"$f":"IF(ISNA(Lists!$J27),\"\",IF(INDIRECT(\"'\"&Lists!$J27&\"'!\"&\"B\"&F$23)=\"\",\"\",(INDIRECT(\"'\"&Lists!$J27&\"'!\"&\"B\"&F$23))))","v":""},{"$f":"IF(ISNA(Lists!$J27),\"\",IF(INDIRECT(\"'\"&Lists!$J27&\"'!\"&\"B\"&G$23)=\"\",\"\",(INDIRECT(\"'\"&Lists!$J27&\"'!\"&\"B\"&G$23))))","v":""},{"$f":"IF(ISNA(Lists!$J27),\"\",IF((INDIRECT(\"'\"&Lists!$J27&\"'!\"&Lists!$K27&H$23))=\"\",\"\",(INDIRECT(\"'\"&Lists!$J27&\"'!\"&Lists!$K27&H$23))))","v":""},{"$f":"IF(ISNA(Lists!$J27),\"\",IF((INDIRECT(\"'\"&Lists!$J27&\"'!\"&Lists!$K27&I$23))=\"\",\"\",(INDIRECT(\"'\"&Lists!$J27&\"'!\"&Lists!$K27&I$23))))","v":""},{"$f":"IF(ISNA(Lists!$J27),\"\",IF((INDIRECT(\"'\"&Lists!$J27&\"'!\"&Lists!$K27&J$23))=\"\",\"\",(INDIRECT(\"'\"&Lists!$J27&\"'!\"&Lists!$K27&J$23))))","v":""},{"$f":"IF(ISNA(Lists!$J27),\"\",IF((INDIRECT(\"'\"&Lists!$J27&\"'!\"&Lists!$K27&K$23))=\"\",\"\",(INDIRECT(\"'\"&Lists!$J27&\"'!\"&Lists!$K27&K$23))))","v":""},{"$f":"IF(ISNA(Lists!$J27),\"\",IF((INDIRECT(\"'\"&Lists!$J27&\"'!\"&Lists!$K27&L$23))=\"\",\"\",(INDIRECT(\"'\"&Lists!$J27&\"'!\"&Lists!$K27&L$23))))","v":""},{"$f":"IF(ISNA(Lists!$J27),\"\",IF((INDIRECT(\"'\"&Lists!$J27&\"'!\"&Lists!$K27&M$23))=\"\",\"\",(INDIRECT(\"'\"&Lists!$J27&\"'!\"&Lists!$K27&M$23))))","v":""},{"$f":"IF(ISNA(Lists!$J27),\"\",IF((INDIRECT(\"'\"&Lists!$J27&\"'!\"&Lists!$K27&N$23))=\"\",\"\",(INDIRECT(\"'\"&Lists!$J27&\"'!\"&Lists!$K27&N$23))))","v":""},{"$f":"IF(ISNA(Lists!$J27),\"\",IF((INDIRECT(\"'\"&Lists!$J27&\"'!\"&Lists!$K27&O$23))=\"\",\"\",(INDIRECT(\"'\"&Lists!$J27&\"'!\"&Lists!$K27&O$23))))","v":""},{"$f":"IF(ISNA(Lists!$J27),\"\",IF((INDIRECT(\"'\"&Lists!$J27&\"'!\"&Lists!$K27&P$23))=\"\",\"\",(INDIRECT(\"'\"&Lists!$J27&\"'!\"&Lists!$K27&P$23))))","v":""},{"$f":"IF(ISNA(Lists!$J27),\"\",IF((INDIRECT(\"'\"&Lists!$J27&\"'!\"&Lists!$K27&Q$23))=\"\",\"\",(INDIRECT(\"'\"&Lists!$J27&\"'!\"&Lists!$K27&Q$23))))","v":""},{"$f":"IF(ISNA(Lists!$J27),\"\",IF((INDIRECT(\"'\"&Lists!$J27&\"'!\"&Lists!$K27&R$23))=\"\",\"\",(INDIRECT(\"'\"&Lists!$J27&\"'!\"&Lists!$K27&R$23))))","v":""},{"$f":"IF(ISNA(Lists!$J27),\"\",IF((INDIRECT(\"'\"&Lists!$J27&\"'!\"&Lists!$K27&S$23))=\"\",\"\",(INDIRECT(\"'\"&Lists!$J27&\"'!\"&Lists!$K27&S$23))))","v":""},{"$f":"IF(ISNA(Lists!$J27),\"\",IF((INDIRECT(\"'\"&Lists!$J27&\"'!\"&Lists!$K27&T$23))=\"\",\"\",(INDIRECT(\"'\"&Lists!$J27&\"'!\"&Lists!$K27&T$23))))","v":""},{"$f":"IF(ISNA(Lists!$J27),\"\",IF((INDIRECT(\"'\"&Lists!$J27&\"'!\"&Lists!$K27&U$23))=\"\",\"\",(INDIRECT(\"'\"&Lists!$J27&\"'!\"&Lists!$K27&U$23))))","v":""},{"$f":"IF(ISNA(Lists!$J27),\"\",IF((INDIRECT(\"'\"&Lists!$J27&\"'!\"&Lists!$L27&V$23))=\"\",\"\",(INDIRECT(\"'\"&Lists!$J27&\"'!\"&Lists!$L27&V$23))))","v":""},{"$f":"IF(ISNA(Lists!$J27),\"\",IF((INDIRECT(\"'\"&Lists!$J27&\"'!\"&Lists!$L27&W$23))=\"\",\"\",(INDIRECT(\"'\"&Lists!$J27&\"'!\"&Lists!$L27&W$23))))","v":""},{"$f":"IF(ISNA(Lists!$J27),\"\",IF((INDIRECT(\"'\"&Lists!$J27&\"'!\"&Lists!$L27&X$23))=\"\",\"\",(INDIRECT(\"'\"&Lists!$J27&\"'!\"&Lists!$L27&X$23))))","v":""},{"$f":"IF(ISNA(Lists!$J27),\"\",IF((INDIRECT(\"'\"&Lists!$J27&\"'!\"&Lists!$L27&Y$23))=\"\",\"\",(INDIRECT(\"'\"&Lists!$J27&\"'!\"&Lists!$L27&Y$23))))","v":""},{"$f":"IF(ISNA(Lists!$J27),\"\",IF((INDIRECT(\"'\"&Lists!$J27&\"'!\"&Lists!$L27&Z$23))=\"\",\"\",(INDIRECT(\"'\"&Lists!$J27&\"'!\"&Lists!$L27&Z$23))))","v":""},{"$f":"IF(ISNA(Lists!$J27),\"\",IF((INDIRECT(\"'\"&Lists!$J27&\"'!\"&Lists!$L27&AA$23))=\"\",\"\",(INDIRECT(\"'\"&Lists!$J27&\"'!\"&Lists!$L27&AA$23))))","v":""},{"$f":"IF(ISNA(Lists!$J27),\"\",IF((INDIRECT(\"'\"&Lists!$J27&\"'!\"&Lists!$L27&AB$23))=\"\",\"\",(INDIRECT(\"'\"&Lists!$J27&\"'!\"&Lists!$L27&AB$23))))","v":""},{"$f":"IF(ISNA(Lists!$J27),\"\",IF((INDIRECT(\"'\"&Lists!$J27&\"'!\"&Lists!$K27&AC$23))=\"\",\"\",(INDIRECT(\"'\"&Lists!$J27&\"'!\"&Lists!$K27&AC$23))))","v":""},{"$f":"IF(ISNA(Lists!$J27),\"\",IF((INDIRECT(\"'\"&Lists!$J27&\"'!\"&Lists!$L27&AD$23))=\"\",\"\",(INDIRECT(\"'\"&Lists!$J27&\"'!\"&Lists!$L27&AD$23))))","v":""},{"$f":"IF(ISNA(Lists!$J27),\"\",IF((INDIRECT(\"'\"&Lists!$J27&\"'!\"&Lists!$K27&AE$23))=\"\",\"\",(INDIRECT(\"'\"&Lists!$J27&\"'!\"&Lists!$K27&AE$23))))","v":""},{"$f":"IF(ISNA(Lists!$J27),\"\",IF((INDIRECT(\"'\"&Lists!$J27&\"'!\"&Lists!$K27&AF$23))=\"\",\"\",(INDIRECT(\"'\"&Lists!$J27&\"'!\"&Lists!$K27&AF$23))))","v":""},{"$f":"IF(ISNA(Lists!$J27),\"\",IF((INDIRECT(\"'\"&Lists!$J27&\"'!\"&Lists!$K27&AG$23))=\"\",\"\",(INDIRECT(\"'\"&Lists!$J27&\"'!\"&Lists!$K27&AG$23))))","v":""},{"$f":"IF(ISNA(Lists!$J27),\"\",IF((INDIRECT(\"'\"&Lists!$J27&\"'!\"&Lists!$K27&AH$23))=\"\",\"\",(INDIRECT(\"'\"&Lists!$J27&\"'!\"&Lists!$K27&AH$23))))","v":""},{"$f":"IF(ISNA(Lists!$J27),\"\",IF((INDIRECT(\"'\"&Lists!$J27&\"'!\"&Lists!$K27&AI$23))=\"\",\"\",(INDIRECT(\"'\"&Lists!$J27&\"'!\"&Lists!$K27&AI$23))))","v":""},{"$f":"IF(ISNA(Lists!$J27),\"\",IF((INDIRECT(\"'\"&Lists!$J27&\"'!\"&Lists!$K27&AJ$23))=\"\",\"\",(INDIRECT(\"'\"&Lists!$J27&\"'!\"&Lists!$K27&AJ$23))))","v":""},{"$f":"IF(ISNA(Lists!$J27),\"\",IF((INDIRECT(\"'\"&Lists!$J27&\"'!\"&Lists!$K27&AK$23))=\"\",\"\",(INDIRECT(\"'\"&Lists!$J27&\"'!\"&Lists!$K27&AK$23))))","v":""},{"$f":"IF(ISNA(Lists!$J27),\"\",IF((INDIRECT(\"'\"&Lists!$J27&\"'!\"&Lists!$K27&AL$23))=\"\",\"\",(INDIRECT(\"'\"&Lists!$J27&\"'!\"&Lists!$K27&AL$23))))","v":""},{"$f":"IF(ISNA(Lists!$J27),\"\",IF((INDIRECT(\"'\"&Lists!$J27&\"'!\"&Lists!$K27&AM$23))=\"\",\"\",(INDIRECT(\"'\"&Lists!$J27&\"'!\"&Lists!$K27&AM$23))))","v":""},{"$f":"IF(ISNA(Lists!$J27),\"\",IF((INDIRECT(\"'\"&Lists!$J27&\"'!\"&Lists!$K27&AN$23))=\"\",\"\",(INDIRECT(\"'\"&Lists!$J27&\"'!\"&Lists!$K27&AN$23))))","v":""},{"$f":"IF(ISNA(Lists!$J27),\"\",IF((INDIRECT(\"'\"&Lists!$J27&\"'!\"&Lists!$K27&AO$23))=\"\",\"\",(INDIRECT(\"'\"&Lists!$J27&\"'!\"&Lists!$K27&AO$23))))","v":""}]
[null,{"$f":"IF(C50=\"\",\"\",Facility_Info_upload!$B$24)","v":""},{"$f":"IF(ISNA(Lists!$J28),\"\",IF(INDIRECT(\"'\"&Lists!$J28&\"'!\"&\"B\"&C$23)=\"\",\"\",(INDIRECT(\"'\"&Lists!$J28&\"'!\"&\"B\"&C$23))))","v":""},{"$f":"IF(ISNA(Lists!$J28),\"\",IF(INDIRECT(\"'\"&Lists!$J28&\"'!\"&\"B\"&D$23)=\"\",\"\",(INDIRECT(\"'\"&Lists!$J28&\"'!\"&\"B\"&D$23))))","v":""},{"$f":"IF(ISNA(Lists!$J28),\"\",IF(INDIRECT(\"'\"&Lists!$J28&\"'!\"&\"B\"&E$23)=\"\",\"\",(INDIRECT(\"'\"&Lists!$J28&\"'!\"&\"B\"&E$23))))","v":""},{"$f":"IF(ISNA(Lists!$J28),\"\",IF(INDIRECT(\"'\"&Lists!$J28&\"'!\"&\"B\"&F$23)=\"\",\"\",(INDIRECT(\"'\"&Lists!$J28&\"'!\"&\"B\"&F$23))))","v":""},{"$f":"IF(ISNA(Lists!$J28),\"\",IF(INDIRECT(\"'\"&Lists!$J28&\"'!\"&\"B\"&G$23)=\"\",\"\",(INDIRECT(\"'\"&Lists!$J28&\"'!\"&\"B\"&G$23))))","v":""},{"$f":"IF(ISNA(Lists!$J28),\"\",IF((INDIRECT(\"'\"&Lists!$J28&\"'!\"&Lists!$K28&H$23))=\"\",\"\",(INDIRECT(\"'\"&Lists!$J28&\"'!\"&Lists!$K28&H$23))))","v":""},{"$f":"IF(ISNA(Lists!$J28),\"\",IF((INDIRECT(\"'\"&Lists!$J28&\"'!\"&Lists!$K28&I$23))=\"\",\"\",(INDIRECT(\"'\"&Lists!$J28&\"'!\"&Lists!$K28&I$23))))","v":""},{"$f":"IF(ISNA(Lists!$J28),\"\",IF((INDIRECT(\"'\"&Lists!$J28&\"'!\"&Lists!$K28&J$23))=\"\",\"\",(INDIRECT(\"'\"&Lists!$J28&\"'!\"&Lists!$K28&J$23))))","v":""},{"$f":"IF(ISNA(Lists!$J28),\"\",IF((INDIRECT(\"'\"&Lists!$J28&\"'!\"&Lists!$K28&K$23))=\"\",\"\",(INDIRECT(\"'\"&Lists!$J28&\"'!\"&Lists!$K28&K$23))))","v":""},{"$f":"IF(ISNA(Lists!$J28),\"\",IF((INDIRECT(\"'\"&Lists!$J28&\"'!\"&Lists!$K28&L$23))=\"\",\"\",(INDIRECT(\"'\"&Lists!$J28&\"'!\"&Lists!$K28&L$23))))","v":""},{"$f":"IF(ISNA(Lists!$J28),\"\",IF((INDIRECT(\"'\"&Lists!$J28&\"'!\"&Lists!$K28&M$23))=\"\",\"\",(INDIRECT(\"'\"&Lists!$J28&\"'!\"&Lists!$K28&M$23))))","v":""},{"$f":"IF(ISNA(Lists!$J28),\"\",IF((INDIRECT(\"'\"&Lists!$J28&\"'!\"&Lists!$K28&N$23))=\"\",\"\",(INDIRECT(\"'\"&Lists!$J28&\"'!\"&Lists!$K28&N$23))))","v":""},{"$f":"IF(ISNA(Lists!$J28),\"\",IF((INDIRECT(\"'\"&Lists!$J28&\"'!\"&Lists!$K28&O$23))=\"\",\"\",(INDIRECT(\"'\"&Lists!$J28&\"'!\"&Lists!$K28&O$23))))","v":""},{"$f":"IF(ISNA(Lists!$J28),\"\",IF((INDIRECT(\"'\"&Lists!$J28&\"'!\"&Lists!$K28&P$23))=\"\",\"\",(INDIRECT(\"'\"&Lists!$J28&\"'!\"&Lists!$K28&P$23))))","v":""},{"$f":"IF(ISNA(Lists!$J28),\"\",IF((INDIRECT(\"'\"&Lists!$J28&\"'!\"&Lists!$K28&Q$23))=\"\",\"\",(INDIRECT(\"'\"&Lists!$J28&\"'!\"&Lists!$K28&Q$23))))","v":""},{"$f":"IF(ISNA(Lists!$J28),\"\",IF((INDIRECT(\"'\"&Lists!$J28&\"'!\"&Lists!$K28&R$23))=\"\",\"\",(INDIRECT(\"'\"&Lists!$J28&\"'!\"&Lists!$K28&R$23))))","v":""},{"$f":"IF(ISNA(Lists!$J28),\"\",IF((INDIRECT(\"'\"&Lists!$J28&\"'!\"&Lists!$K28&S$23))=\"\",\"\",(INDIRECT(\"'\"&Lists!$J28&\"'!\"&Lists!$K28&S$23))))","v":""},{"$f":"IF(ISNA(Lists!$J28),\"\",IF((INDIRECT(\"'\"&Lists!$J28&\"'!\"&Lists!$K28&T$23))=\"\",\"\",(INDIRECT(\"'\"&Lists!$J28&\"'!\"&Lists!$K28&T$23))))","v":""},{"$f":"IF(ISNA(Lists!$J28),\"\",IF((INDIRECT(\"'\"&Lists!$J28&\"'!\"&Lists!$K28&U$23))=\"\",\"\",(INDIRECT(\"'\"&Lists!$J28&\"'!\"&Lists!$K28&U$23))))","v":""},{"$f":"IF(ISNA(Lists!$J28),\"\",IF((INDIRECT(\"'\"&Lists!$J28&\"'!\"&Lists!$L28&V$23))=\"\",\"\",(INDIRECT(\"'\"&Lists!$J28&\"'!\"&Lists!$L28&V$23))))","v":""},{"$f":"IF(ISNA(Lists!$J28),\"\",IF((INDIRECT(\"'\"&Lists!$J28&\"'!\"&Lists!$L28&W$23))=\"\",\"\",(INDIRECT(\"'\"&Lists!$J28&\"'!\"&Lists!$L28&W$23))))","v":""},{"$f":"IF(ISNA(Lists!$J28),\"\",IF((INDIRECT(\"'\"&Lists!$J28&\"'!\"&Lists!$L28&X$23))=\"\",\"\",(INDIRECT(\"'\"&Lists!$J28&\"'!\"&Lists!$L28&X$23))))","v":""},{"$f":"IF(ISNA(Lists!$J28),\"\",IF((INDIRECT(\"'\"&Lists!$J28&\"'!\"&Lists!$L28&Y$23))=\"\",\"\",(INDIRECT(\"'\"&Lists!$J28&\"'!\"&Lists!$L28&Y$23))))","v":""},{"$f":"IF(ISNA(Lists!$J28),\"\",IF((INDIRECT(\"'\"&Lists!$J28&\"'!\"&Lists!$L28&Z$23))=\"\",\"\",(INDIRECT(\"'\"&Lists!$J28&\"'!\"&Lists!$L28&Z$23))))","v":""},{"$f":"IF(ISNA(Lists!$J28),\"\",IF((INDIRECT(\"'\"&Lists!$J28&\"'!\"&Lists!$L28&AA$23))=\"\",\"\",(INDIRECT(\"'\"&Lists!$J28&\"'!\"&Lists!$L28&AA$23))))","v":""},{"$f":"IF(ISNA(Lists!$J28),\"\",IF((INDIRECT(\"'\"&Lists!$J28&\"'!\"&Lists!$L28&AB$23))=\"\",\"\",(INDIRECT(\"'\"&Lists!$J28&\"'!\"&Lists!$L28&AB$23))))","v":""},{"$f":"IF(ISNA(Lists!$J28),\"\",IF((INDIRECT(\"'\"&Lists!$J28&\"'!\"&Lists!$K28&AC$23))=\"\",\"\",(INDIRECT(\"'\"&Lists!$J28&\"'!\"&Lists!$K28&AC$23))))","v":""},{"$f":"IF(ISNA(Lists!$J28),\"\",IF((INDIRECT(\"'\"&Lists!$J28&\"'!\"&Lists!$L28&AD$23))=\"\",\"\",(INDIRECT(\"'\"&Lists!$J28&\"'!\"&Lists!$L28&AD$23))))","v":""},{"$f":"IF(ISNA(Lists!$J28),\"\",IF((INDIRECT(\"'\"&Lists!$J28&\"'!\"&Lists!$K28&AE$23))=\"\",\"\",(INDIRECT(\"'\"&Lists!$J28&\"'!\"&Lists!$K28&AE$23))))","v":""},{"$f":"IF(ISNA(Lists!$J28),\"\",IF((INDIRECT(\"'\"&Lists!$J28&\"'!\"&Lists!$K28&AF$23))=\"\",\"\",(INDIRECT(\"'\"&Lists!$J28&\"'!\"&Lists!$K28&AF$23))))","v":""},{"$f":"IF(ISNA(Lists!$J28),\"\",IF((INDIRECT(\"'\"&Lists!$J28&\"'!\"&Lists!$K28&AG$23))=\"\",\"\",(INDIRECT(\"'\"&Lists!$J28&\"'!\"&Lists!$K28&AG$23))))","v":""},{"$f":"IF(ISNA(Lists!$J28),\"\",IF((INDIRECT(\"'\"&Lists!$J28&\"'!\"&Lists!$K28&AH$23))=\"\",\"\",(INDIRECT(\"'\"&Lists!$J28&\"'!\"&Lists!$K28&AH$23))))","v":""},{"$f":"IF(ISNA(Lists!$J28),\"\",IF((INDIRECT(\"'\"&Lists!$J28&\"'!\"&Lists!$K28&AI$23))=\"\",\"\",(INDIRECT(\"'\"&Lists!$J28&\"'!\"&Lists!$K28&AI$23))))","v":""},{"$f":"IF(ISNA(Lists!$J28),\"\",IF((INDIRECT(\"'\"&Lists!$J28&\"'!\"&Lists!$K28&AJ$23))=\"\",\"\",(INDIRECT(\"'\"&Lists!$J28&\"'!\"&Lists!$K28&AJ$23))))","v":""},{"$f":"IF(ISNA(Lists!$J28),\"\",IF((INDIRECT(\"'\"&Lists!$J28&\"'!\"&Lists!$K28&AK$23))=\"\",\"\",(INDIRECT(\"'\"&Lists!$J28&\"'!\"&Lists!$K28&AK$23))))","v":""},{"$f":"IF(ISNA(Lists!$J28),\"\",IF((INDIRECT(\"'\"&Lists!$J28&\"'!\"&Lists!$K28&AL$23))=\"\",\"\",(INDIRECT(\"'\"&Lists!$J28&\"'!\"&Lists!$K28&AL$23))))","v":""},{"$f":"IF(ISNA(Lists!$J28),\"\",IF((INDIRECT(\"'\"&Lists!$J28&\"'!\"&Lists!$K28&AM$23))=\"\",\"\",(INDIRECT(\"'\"&Lists!$J28&\"'!\"&Lists!$K28&AM$23))))","v":""},{"$f":"IF(ISNA(Lists!$J28),\"\",IF((INDIRECT(\"'\"&Lists!$J28&\"'!\"&Lists!$K28&AN$23))=\"\",\"\",(INDIRECT(\"'\"&Lists!$J28&\"'!\"&Lists!$K28&AN$23))))","v":""},{"$f":"IF(ISNA(Lists!$J28),\"\",IF((INDIRECT(\"'\"&Lists!$J28&\"'!\"&Lists!$K28&AO$23))=\"\",\"\",(INDIRECT(\"'\"&Lists!$J28&\"'!\"&Lists!$K28&AO$23))))","v":""}]
[null,{"$f":"IF(C51=\"\",\"\",Facility_Info_upload!$B$24)","v":""},{"$f":"IF(ISNA(Lists!$J29),\"\",IF(INDIRECT(\"'\"&Lists!$J29&\"'!\"&\"B\"&C$23)=\"\",\"\",(INDIRECT(\"'\"&Lists!$J29&\"'!\"&\"B\"&C$23))))","v":""},{"$f":"IF(ISNA(Lists!$J29),\"\",IF(INDIRECT(\"'\"&Lists!$J29&\"'!\"&\"B\"&D$23)=\"\",\"\",(INDIRECT(\"'\"&Lists!$J29&\"'!\"&\"B\"&D$23))))","v":""},{"$f":"IF(ISNA(Lists!$J29),\"\",IF(INDIRECT(\"'\"&Lists!$J29&\"'!\"&\"B\"&E$23)=\"\",\"\",(INDIRECT(\"'\"&Lists!$J29&\"'!\"&\"B\"&E$23))))","v":""},{"$f":"IF(ISNA(Lists!$J29),\"\",IF(INDIRECT(\"'\"&Lists!$J29&\"'!\"&\"B\"&F$23)=\"\",\"\",(INDIRECT(\"'\"&Lists!$J29&\"'!\"&\"B\"&F$23))))","v":""},{"$f":"IF(ISNA(Lists!$J29),\"\",IF(INDIRECT(\"'\"&Lists!$J29&\"'!\"&\"B\"&G$23)=\"\",\"\",(INDIRECT(\"'\"&Lists!$J29&\"'!\"&\"B\"&G$23))))","v":""},{"$f":"IF(ISNA(Lists!$J29),\"\",IF((INDIRECT(\"'\"&Lists!$J29&\"'!\"&Lists!$K29&H$23))=\"\",\"\",(INDIRECT(\"'\"&Lists!$J29&\"'!\"&Lists!$K29&H$23))))","v":""},{"$f":"IF(ISNA(Lists!$J29),\"\",IF((INDIRECT(\"'\"&Lists!$J29&\"'!\"&Lists!$K29&I$23))=\"\",\"\",(INDIRECT(\"'\"&Lists!$J29&\"'!\"&Lists!$K29&I$23))))","v":""},{"$f":"IF(ISNA(Lists!$J29),\"\",IF((INDIRECT(\"'\"&Lists!$J29&\"'!\"&Lists!$K29&J$23))=\"\",\"\",(INDIRECT(\"'\"&Lists!$J29&\"'!\"&Lists!$K29&J$23))))","v":""},{"$f":"IF(ISNA(Lists!$J29),\"\",IF((INDIRECT(\"'\"&Lists!$J29&\"'!\"&Lists!$K29&K$23))=\"\",\"\",(INDIRECT(\"'\"&Lists!$J29&\"'!\"&Lists!$K29&K$23))))","v":""},{"$f":"IF(ISNA(Lists!$J29),\"\",IF((INDIRECT(\"'\"&Lists!$J29&\"'!\"&Lists!$K29&L$23))=\"\",\"\",(INDIRECT(\"'\"&Lists!$J29&\"'!\"&Lists!$K29&L$23))))","v":""},{"$f":"IF(ISNA(Lists!$J29),\"\",IF((INDIRECT(\"'\"&Lists!$J29&\"'!\"&Lists!$K29&M$23))=\"\",\"\",(INDIRECT(\"'\"&Lists!$J29&\"'!\"&Lists!$K29&M$23))))","v":""},{"$f":"IF(ISNA(Lists!$J29),\"\",IF((INDIRECT(\"'\"&Lists!$J29&\"'!\"&Lists!$K29&N$23))=\"\",\"\",(INDIRECT(\"'\"&Lists!$J29&\"'!\"&Lists!$K29&N$23))))","v":""},{"$f":"IF(ISNA(Lists!$J29),\"\",IF((INDIRECT(\"'\"&Lists!$J29&\"'!\"&Lists!$K29&O$23))=\"\",\"\",(INDIRECT(\"'\"&Lists!$J29&\"'!\"&Lists!$K29&O$23))))","v":""},{"$f":"IF(ISNA(Lists!$J29),\"\",IF((INDIRECT(\"'\"&Lists!$J29&\"'!\"&Lists!$K29&P$23))=\"\",\"\",(INDIRECT(\"'\"&Lists!$J29&\"'!\"&Lists!$K29&P$23))))","v":""},{"$f":"IF(ISNA(Lists!$J29),\"\",IF((INDIRECT(\"'\"&Lists!$J29&\"'!\"&Lists!$K29&Q$23))=\"\",\"\",(INDIRECT(\"'\"&Lists!$J29&\"'!\"&Lists!$K29&Q$23))))","v":""},{"$f":"IF(ISNA(Lists!$J29),\"\",IF((INDIRECT(\"'\"&Lists!$J29&\"'!\"&Lists!$K29&R$23))=\"\",\"\",(INDIRECT(\"'\"&Lists!$J29&\"'!\"&Lists!$K29&R$23))))","v":""},{"$f":"IF(ISNA(Lists!$J29),\"\",IF((INDIRECT(\"'\"&Lists!$J29&\"'!\"&Lists!$K29&S$23))=\"\",\"\",(INDIRECT(\"'\"&Lists!$J29&\"'!\"&Lists!$K29&S$23))))","v":""},{"$f":"IF(ISNA(Lists!$J29),\"\",IF((INDIRECT(\"'\"&Lists!$J29&\"'!\"&Lists!$K29&T$23))=\"\",\"\",(INDIRECT(\"'\"&Lists!$J29&\"'!\"&Lists!$K29&T$23))))","v":""},{"$f":"IF(ISNA(Lists!$J29),\"\",IF((INDIRECT(\"'\"&Lists!$J29&\"'!\"&Lists!$K29&U$23))=\"\",\"\",(INDIRECT(\"'\"&Lists!$J29&\"'!\"&Lists!$K29&U$23))))","v":""},{"$f":"IF(ISNA(Lists!$J29),\"\",IF((INDIRECT(\"'\"&Lists!$J29&\"'!\"&Lists!$L29&V$23))=\"\",\"\",(INDIRECT(\"'\"&Lists!$J29&\"'!\"&Lists!$L29&V$23))))","v":""},{"$f":"IF(ISNA(Lists!$J29),\"\",IF((INDIRECT(\"'\"&Lists!$J29&\"'!\"&Lists!$L29&W$23))=\"\",\"\",(INDIRECT(\"'\"&Lists!$J29&\"'!\"&Lists!$L29&W$23))))","v":""},{"$f":"IF(ISNA(Lists!$J29),\"\",IF((INDIRECT(\"'\"&Lists!$J29&\"'!\"&Lists!$L29&X$23))=\"\",\"\",(INDIRECT(\"'\"&Lists!$J29&\"'!\"&Lists!$L29&X$23))))","v":""},{"$f":"IF(ISNA(Lists!$J29),\"\",IF((INDIRECT(\"'\"&Lists!$J29&\"'!\"&Lists!$L29&Y$23))=\"\",\"\",(INDIRECT(\"'\"&Lists!$J29&\"'!\"&Lists!$L29&Y$23))))","v":""},{"$f":"IF(ISNA(Lists!$J29),\"\",IF((INDIRECT(\"'\"&Lists!$J29&\"'!\"&Lists!$L29&Z$23))=\"\",\"\",(INDIRECT(\"'\"&Lists!$J29&\"'!\"&Lists!$L29&Z$23))))","v":""},{"$f":"IF(ISNA(Lists!$J29),\"\",IF((INDIRECT(\"'\"&Lists!$J29&\"'!\"&Lists!$L29&AA$23))=\"\",\"\",(INDIRECT(\"'\"&Lists!$J29&\"'!\"&Lists!$L29&AA$23))))","v":""},{"$f":"IF(ISNA(Lists!$J29),\"\",IF((INDIRECT(\"'\"&Lists!$J29&\"'!\"&Lists!$L29&AB$23))=\"\",\"\",(INDIRECT(\"'\"&Lists!$J29&\"'!\"&Lists!$L29&AB$23))))","v":""},{"$f":"IF(ISNA(Lists!$J29),\"\",IF((INDIRECT(\"'\"&Lists!$J29&\"'!\"&Lists!$K29&AC$23))=\"\",\"\",(INDIRECT(\"'\"&Lists!$J29&\"'!\"&Lists!$K29&AC$23))))","v":""},{"$f":"IF(ISNA(Lists!$J29),\"\",IF((INDIRECT(\"'\"&Lists!$J29&\"'!\"&Lists!$L29&AD$23))=\"\",\"\",(INDIRECT(\"'\"&Lists!$J29&\"'!\"&Lists!$L29&AD$23))))","v":""},{"$f":"IF(ISNA(Lists!$J29),\"\",IF((INDIRECT(\"'\"&Lists!$J29&\"'!\"&Lists!$K29&AE$23))=\"\",\"\",(INDIRECT(\"'\"&Lists!$J29&\"'!\"&Lists!$K29&AE$23))))","v":""},{"$f":"IF(ISNA(Lists!$J29),\"\",IF((INDIRECT(\"'\"&Lists!$J29&\"'!\"&Lists!$K29&AF$23))=\"\",\"\",(INDIRECT(\"'\"&Lists!$J29&\"'!\"&Lists!$K29&AF$23))))","v":""},{"$f":"IF(ISNA(Lists!$J29),\"\",IF((INDIRECT(\"'\"&Lists!$J29&\"'!\"&Lists!$K29&AG$23))=\"\",\"\",(INDIRECT(\"'\"&Lists!$J29&\"'!\"&Lists!$K29&AG$23))))","v":""},{"$f":"IF(ISNA(Lists!$J29),\"\",IF((INDIRECT(\"'\"&Lists!$J29&\"'!\"&Lists!$K29&AH$23))=\"\",\"\",(INDIRECT(\"'\"&Lists!$J29&\"'!\"&Lists!$K29&AH$23))))","v":""},{"$f":"IF(ISNA(Lists!$J29),\"\",IF((INDIRECT(\"'\"&Lists!$J29&\"'!\"&Lists!$K29&AI$23))=\"\",\"\",(INDIRECT(\"'\"&Lists!$J29&\"'!\"&Lists!$K29&AI$23))))","v":""},{"$f":"IF(ISNA(Lists!$J29),\"\",IF((INDIRECT(\"'\"&Lists!$J29&\"'!\"&Lists!$K29&AJ$23))=\"\",\"\",(INDIRECT(\"'\"&Lists!$J29&\"'!\"&Lists!$K29&AJ$23))))","v":""},{"$f":"IF(ISNA(Lists!$J29),\"\",IF((INDIRECT(\"'\"&Lists!$J29&\"'!\"&Lists!$K29&AK$23))=\"\",\"\",(INDIRECT(\"'\"&Lists!$J29&\"'!\"&Lists!$K29&AK$23))))","v":""},{"$f":"IF(ISNA(Lists!$J29),\"\",IF((INDIRECT(\"'\"&Lists!$J29&\"'!\"&Lists!$K29&AL$23))=\"\",\"\",(INDIRECT(\"'\"&Lists!$J29&\"'!\"&Lists!$K29&AL$23))))","v":""},{"$f":"IF(ISNA(Lists!$J29),\"\",IF((INDIRECT(\"'\"&Lists!$J29&\"'!\"&Lists!$K29&AM$23))=\"\",\"\",(INDIRECT(\"'\"&Lists!$J29&\"'!\"&Lists!$K29&AM$23))))","v":""},{"$f":"IF(ISNA(Lists!$J29),\"\",IF((INDIRECT(\"'\"&Lists!$J29&\"'!\"&Lists!$K29&AN$23))=\"\",\"\",(INDIRECT(\"'\"&Lists!$J29&\"'!\"&Lists!$K29&AN$23))))","v":""},{"$f":"IF(ISNA(Lists!$J29),\"\",IF((INDIRECT(\"'\"&Lists!$J29&\"'!\"&Lists!$K29&AO$23))=\"\",\"\",(INDIRECT(\"'\"&Lists!$J29&\"'!\"&Lists!$K29&AO$23))))","v":""}]
[null,{"$f":"IF(C52=\"\",\"\",Facility_Info_upload!$B$24)","v":""},{"$f":"IF(ISNA(Lists!$J30),\"\",IF(INDIRECT(\"'\"&Lists!$J30&\"'!\"&\"B\"&C$23)=\"\",\"\",(INDIRECT(\"'\"&Lists!$J30&\"'!\"&\"B\"&C$23))))","v":""},{"$f":"IF(ISNA(Lists!$J30),\"\",IF(INDIRECT(\"'\"&Lists!$J30&\"'!\"&\"B\"&D$23)=\"\",\"\",(INDIRECT(\"'\"&Lists!$J30&\"'!\"&\"B\"&D$23))))","v":""},{"$f":"IF(ISNA(Lists!$J30),\"\",IF(INDIRECT(\"'\"&Lists!$J30&\"'!\"&\"B\"&E$23)=\"\",\"\",(INDIRECT(\"'\"&Lists!$J30&\"'!\"&\"B\"&E$23))))","v":""},{"$f":"IF(ISNA(Lists!$J30),\"\",IF(INDIRECT(\"'\"&Lists!$J30&\"'!\"&\"B\"&F$23)=\"\",\"\",(INDIRECT(\"'\"&Lists!$J30&\"'!\"&\"B\"&F$23))))","v":""},{"$f":"IF(ISNA(Lists!$J30),\"\",IF(INDIRECT(\"'\"&Lists!$J30&\"'!\"&\"B\"&G$23)=\"\",\"\",(INDIRECT(\"'\"&Lists!$J30&\"'!\"&\"B\"&G$23))))","v":""},{"$f":"IF(ISNA(Lists!$J30),\"\",IF((INDIRECT(\"'\"&Lists!$J30&\"'!\"&Lists!$K30&H$23))=\"\",\"\",(INDIRECT(\"'\"&Lists!$J30&\"'!\"&Lists!$K30&H$23))))","v":""},{"$f":"IF(ISNA(Lists!$J30),\"\",IF((INDIRECT(\"'\"&Lists!$J30&\"'!\"&Lists!$K30&I$23))=\"\",\"\",(INDIRECT(\"'\"&Lists!$J30&\"'!\"&Lists!$K30&I$23))))","v":""},{"$f":"IF(ISNA(Lists!$J30),\"\",IF((INDIRECT(\"'\"&Lists!$J30&\"'!\"&Lists!$K30&J$23))=\"\",\"\",(INDIRECT(\"'\"&Lists!$J30&\"'!\"&Lists!$K30&J$23))))","v":""},{"$f":"IF(ISNA(Lists!$J30),\"\",IF((INDIRECT(\"'\"&Lists!$J30&\"'!\"&Lists!$K30&K$23))=\"\",\"\",(INDIRECT(\"'\"&Lists!$J30&\"'!\"&Lists!$K30&K$23))))","v":""},{"$f":"IF(ISNA(Lists!$J30),\"\",IF((INDIRECT(\"'\"&Lists!$J30&\"'!\"&Lists!$K30&L$23))=\"\",\"\",(INDIRECT(\"'\"&Lists!$J30&\"'!\"&Lists!$K30&L$23))))","v":""},{"$f":"IF(ISNA(Lists!$J30),\"\",IF((INDIRECT(\"'\"&Lists!$J30&\"'!\"&Lists!$K30&M$23))=\"\",\"\",(INDIRECT(\"'\"&Lists!$J30&\"'!\"&Lists!$K30&M$23))))","v":""},{"$f":"IF(ISNA(Lists!$J30),\"\",IF((INDIRECT(\"'\"&Lists!$J30&\"'!\"&Lists!$K30&N$23))=\"\",\"\",(INDIRECT(\"'\"&Lists!$J30&\"'!\"&Lists!$K30&N$23))))","v":""},{"$f":"IF(ISNA(Lists!$J30),\"\",IF((INDIRECT(\"'\"&Lists!$J30&\"'!\"&Lists!$K30&O$23))=\"\",\"\",(INDIRECT(\"'\"&Lists!$J30&\"'!\"&Lists!$K30&O$23))))","v":""},{"$f":"IF(ISNA(Lists!$J30),\"\",IF((INDIRECT(\"'\"&Lists!$J30&\"'!\"&Lists!$K30&P$23))=\"\",\"\",(INDIRECT(\"'\"&Lists!$J30&\"'!\"&Lists!$K30&P$23))))","v":""},{"$f":"IF(ISNA(Lists!$J30),\"\",IF((INDIRECT(\"'\"&Lists!$J30&\"'!\"&Lists!$K30&Q$23))=\"\",\"\",(INDIRECT(\"'\"&Lists!$J30&\"'!\"&Lists!$K30&Q$23))))","v":""},{"$f":"IF(ISNA(Lists!$J30),\"\",IF((INDIRECT(\"'\"&Lists!$J30&\"'!\"&Lists!$K30&R$23))=\"\",\"\",(INDIRECT(\"'\"&Lists!$J30&\"'!\"&Lists!$K30&R$23))))","v":""},{"$f":"IF(ISNA(Lists!$J30),\"\",IF((INDIRECT(\"'\"&Lists!$J30&\"'!\"&Lists!$K30&S$23))=\"\",\"\",(INDIRECT(\"'\"&Lists!$J30&\"'!\"&Lists!$K30&S$23))))","v":""},{"$f":"IF(ISNA(Lists!$J30),\"\",IF((INDIRECT(\"'\"&Lists!$J30&\"'!\"&Lists!$K30&T$23))=\"\",\"\",(INDIRECT(\"'\"&Lists!$J30&\"'!\"&Lists!$K30&T$23))))","v":""},{"$f":"IF(ISNA(Lists!$J30),\"\",IF((INDIRECT(\"'\"&Lists!$J30&\"'!\"&Lists!$K30&U$23))=\"\",\"\",(INDIRECT(\"'\"&Lists!$J30&\"'!\"&Lists!$K30&U$23))))","v":""},{"$f":"IF(ISNA(Lists!$J30),\"\",IF((INDIRECT(\"'\"&Lists!$J30&\"'!\"&Lists!$L30&V$23))=\"\",\"\",(INDIRECT(\"'\"&Lists!$J30&\"'!\"&Lists!$L30&V$23))))","v":""},{"$f":"IF(ISNA(Lists!$J30),\"\",IF((INDIRECT(\"'\"&Lists!$J30&\"'!\"&Lists!$L30&W$23))=\"\",\"\",(INDIRECT(\"'\"&Lists!$J30&\"'!\"&Lists!$L30&W$23))))","v":""},{"$f":"IF(ISNA(Lists!$J30),\"\",IF((INDIRECT(\"'\"&Lists!$J30&\"'!\"&Lists!$L30&X$23))=\"\",\"\",(INDIRECT(\"'\"&Lists!$J30&\"'!\"&Lists!$L30&X$23))))","v":""},{"$f":"IF(ISNA(Lists!$J30),\"\",IF((INDIRECT(\"'\"&Lists!$J30&\"'!\"&Lists!$L30&Y$23))=\"\",\"\",(INDIRECT(\"'\"&Lists!$J30&\"'!\"&Lists!$L30&Y$23))))","v":""},{"$f":"IF(ISNA(Lists!$J30),\"\",IF((INDIRECT(\"'\"&Lists!$J30&\"'!\"&Lists!$L30&Z$23))=\"\",\"\",(INDIRECT(\"'\"&Lists!$J30&\"'!\"&Lists!$L30&Z$23))))","v":""},{"$f":"IF(ISNA(Lists!$J30),\"\",IF((INDIRECT(\"'\"&Lists!$J30&\"'!\"&Lists!$L30&AA$23))=\"\",\"\",(INDIRECT(\"'\"&Lists!$J30&\"'!\"&Lists!$L30&AA$23))))","v":""},{"$f":"IF(ISNA(Lists!$J30),\"\",IF((INDIRECT(\"'\"&Lists!$J30&\"'!\"&Lists!$L30&AB$23))=\"\",\"\",(INDIRECT(\"'\"&Lists!$J30&\"'!\"&Lists!$L30&AB$23))))","v":""},{"$f":"IF(ISNA(Lists!$J30),\"\",IF((INDIRECT(\"'\"&Lists!$J30&\"'!\"&Lists!$K30&AC$23))=\"\",\"\",(INDIRECT(\"'\"&Lists!$J30&\"'!\"&Lists!$K30&AC$23))))","v":""},{"$f":"IF(ISNA(Lists!$J30),\"\",IF((INDIRECT(\"'\"&Lists!$J30&\"'!\"&Lists!$L30&AD$23))=\"\",\"\",(INDIRECT(\"'\"&Lists!$J30&\"'!\"&Lists!$L30&AD$23))))","v":""},{"$f":"IF(ISNA(Lists!$J30),\"\",IF((INDIRECT(\"'\"&Lists!$J30&\"'!\"&Lists!$K30&AE$23))=\"\",\"\",(INDIRECT(\"'\"&Lists!$J30&\"'!\"&Lists!$K30&AE$23))))","v":""},{"$f":"IF(ISNA(Lists!$J30),\"\",IF((INDIRECT(\"'\"&Lists!$J30&\"'!\"&Lists!$K30&AF$23))=\"\",\"\",(INDIRECT(\"'\"&Lists!$J30&\"'!\"&Lists!$K30&AF$23))))","v":""},{"$f":"IF(ISNA(Lists!$J30),\"\",IF((INDIRECT(\"'\"&Lists!$J30&\"'!\"&Lists!$K30&AG$23))=\"\",\"\",(INDIRECT(\"'\"&Lists!$J30&\"'!\"&Lists!$K30&AG$23))))","v":""},{"$f":"IF(ISNA(Lists!$J30),\"\",IF((INDIRECT(\"'\"&Lists!$J30&\"'!\"&Lists!$K30&AH$23))=\"\",\"\",(INDIRECT(\"'\"&Lists!$J30&\"'!\"&Lists!$K30&AH$23))))","v":""},{"$f":"IF(ISNA(Lists!$J30),\"\",IF((INDIRECT(\"'\"&Lists!$J30&\"'!\"&Lists!$K30&AI$23))=\"\",\"\",(INDIRECT(\"'\"&Lists!$J30&\"'!\"&Lists!$K30&AI$23))))","v":""},{"$f":"IF(ISNA(Lists!$J30),\"\",IF((INDIRECT(\"'\"&Lists!$J30&\"'!\"&Lists!$K30&AJ$23))=\"\",\"\",(INDIRECT(\"'\"&Lists!$J30&\"'!\"&Lists!$K30&AJ$23))))","v":""},{"$f":"IF(ISNA(Lists!$J30),\"\",IF((INDIRECT(\"'\"&Lists!$J30&\"'!\"&Lists!$K30&AK$23))=\"\",\"\",(INDIRECT(\"'\"&Lists!$J30&\"'!\"&Lists!$K30&AK$23))))","v":""},{"$f":"IF(ISNA(Lists!$J30),\"\",IF((INDIRECT(\"'\"&Lists!$J30&\"'!\"&Lists!$K30&AL$23))=\"\",\"\",(INDIRECT(\"'\"&Lists!$J30&\"'!\"&Lists!$K30&AL$23))))","v":""},{"$f":"IF(ISNA(Lists!$J30),\"\",IF((INDIRECT(\"'\"&Lists!$J30&\"'!\"&Lists!$K30&AM$23))=\"\",\"\",(INDIRECT(\"'\"&Lists!$J30&\"'!\"&Lists!$K30&AM$23))))","v":""},{"$f":"IF(ISNA(Lists!$J30),\"\",IF((INDIRECT(\"'\"&Lists!$J30&\"'!\"&Lists!$K30&AN$23))=\"\",\"\",(INDIRECT(\"'\"&Lists!$J30&\"'!\"&Lists!$K30&AN$23))))","v":""},{"$f":"IF(ISNA(Lists!$J30),\"\",IF((INDIRECT(\"'\"&Lists!$J30&\"'!\"&Lists!$K30&AO$23))=\"\",\"\",(INDIRECT(\"'\"&Lists!$J30&\"'!\"&Lists!$K30&AO$23))))","v":""}]
[null,{"$f":"IF(C53=\"\",\"\",Facility_Info_upload!$B$24)","v":""},{"$f":"IF(ISNA(Lists!$J31),\"\",IF(INDIRECT(\"'\"&Lists!$J31&\"'!\"&\"B\"&C$23)=\"\",\"\",(INDIRECT(\"'\"&Lists!$J31&\"'!\"&\"B\"&C$23))))","v":""},{"$f":"IF(ISNA(Lists!$J31),\"\",IF(INDIRECT(\"'\"&Lists!$J31&\"'!\"&\"B\"&D$23)=\"\",\"\",(INDIRECT(\"'\"&Lists!$J31&\"'!\"&\"B\"&D$23))))","v":""},{"$f":"IF(ISNA(Lists!$J31),\"\",IF(INDIRECT(\"'\"&Lists!$J31&\"'!\"&\"B\"&E$23)=\"\",\"\",(INDIRECT(\"'\"&Lists!$J31&\"'!\"&\"B\"&E$23))))","v":""},{"$f":"IF(ISNA(Lists!$J31),\"\",IF(INDIRECT(\"'\"&Lists!$J31&\"'!\"&\"B\"&F$23)=\"\",\"\",(INDIRECT(\"'\"&Lists!$J31&\"'!\"&\"B\"&F$23))))","v":""},{"$f":"IF(ISNA(Lists!$J31),\"\",IF(INDIRECT(\"'\"&Lists!$J31&\"'!\"&\"B\"&G$23)=\"\",\"\",(INDIRECT(\"'\"&Lists!$J31&\"'!\"&\"B\"&G$23))))","v":""},{"$f":"IF(ISNA(Lists!$J31),\"\",IF((INDIRECT(\"'\"&Lists!$J31&\"'!\"&Lists!$K31&H$23))=\"\",\"\",(INDIRECT(\"'\"&Lists!$J31&\"'!\"&Lists!$K31&H$23))))","v":""},{"$f":"IF(ISNA(Lists!$J31),\"\",IF((INDIRECT(\"'\"&Lists!$J31&\"'!\"&Lists!$K31&I$23))=\"\",\"\",(INDIRECT(\"'\"&Lists!$J31&\"'!\"&Lists!$K31&I$23))))","v":""},{"$f":"IF(ISNA(Lists!$J31),\"\",IF((INDIRECT(\"'\"&Lists!$J31&\"'!\"&Lists!$K31&J$23))=\"\",\"\",(INDIRECT(\"'\"&Lists!$J31&\"'!\"&Lists!$K31&J$23))))","v":""},{"$f":"IF(ISNA(Lists!$J31),\"\",IF((INDIRECT(\"'\"&Lists!$J31&\"'!\"&Lists!$K31&K$23))=\"\",\"\",(INDIRECT(\"'\"&Lists!$J31&\"'!\"&Lists!$K31&K$23))))","v":""},{"$f":"IF(ISNA(Lists!$J31),\"\",IF((INDIRECT(\"'\"&Lists!$J31&\"'!\"&Lists!$K31&L$23))=\"\",\"\",(INDIRECT(\"'\"&Lists!$J31&\"'!\"&Lists!$K31&L$23))))","v":""},{"$f":"IF(ISNA(Lists!$J31),\"\",IF((INDIRECT(\"'\"&Lists!$J31&\"'!\"&Lists!$K31&M$23))=\"\",\"\",(INDIRECT(\"'\"&Lists!$J31&\"'!\"&Lists!$K31&M$23))))","v":""},{"$f":"IF(ISNA(Lists!$J31),\"\",IF((INDIRECT(\"'\"&Lists!$J31&\"'!\"&Lists!$K31&N$23))=\"\",\"\",(INDIRECT(\"'\"&Lists!$J31&\"'!\"&Lists!$K31&N$23))))","v":""},{"$f":"IF(ISNA(Lists!$J31),\"\",IF((INDIRECT(\"'\"&Lists!$J31&\"'!\"&Lists!$K31&O$23))=\"\",\"\",(INDIRECT(\"'\"&Lists!$J31&\"'!\"&Lists!$K31&O$23))))","v":""},{"$f":"IF(ISNA(Lists!$J31),\"\",IF((INDIRECT(\"'\"&Lists!$J31&\"'!\"&Lists!$K31&P$23))=\"\",\"\",(INDIRECT(\"'\"&Lists!$J31&\"'!\"&Lists!$K31&P$23))))","v":""},{"$f":"IF(ISNA(Lists!$J31),\"\",IF((INDIRECT(\"'\"&Lists!$J31&\"'!\"&Lists!$K31&Q$23))=\"\",\"\",(INDIRECT(\"'\"&Lists!$J31&\"'!\"&Lists!$K31&Q$23))))","v":""},{"$f":"IF(ISNA(Lists!$J31),\"\",IF((INDIRECT(\"'\"&Lists!$J31&\"'!\"&Lists!$K31&R$23))=\"\",\"\",(INDIRECT(\"'\"&Lists!$J31&\"'!\"&Lists!$K31&R$23))))","v":""},{"$f":"IF(ISNA(Lists!$J31),\"\",IF((INDIRECT(\"'\"&Lists!$J31&\"'!\"&Lists!$K31&S$23))=\"\",\"\",(INDIRECT(\"'\"&Lists!$J31&\"'!\"&Lists!$K31&S$23))))","v":""},{"$f":"IF(ISNA(Lists!$J31),\"\",IF((INDIRECT(\"'\"&Lists!$J31&\"'!\"&Lists!$K31&T$23))=\"\",\"\",(INDIRECT(\"'\"&Lists!$J31&\"'!\"&Lists!$K31&T$23))))","v":""},{"$f":"IF(ISNA(Lists!$J31),\"\",IF((INDIRECT(\"'\"&Lists!$J31&\"'!\"&Lists!$K31&U$23))=\"\",\"\",(INDIRECT(\"'\"&Lists!$J31&\"'!\"&Lists!$K31&U$23))))","v":""},{"$f":"IF(ISNA(Lists!$J31),\"\",IF((INDIRECT(\"'\"&Lists!$J31&\"'!\"&Lists!$L31&V$23))=\"\",\"\",(INDIRECT(\"'\"&Lists!$J31&\"'!\"&Lists!$L31&V$23))))","v":""},{"$f":"IF(ISNA(Lists!$J31),\"\",IF((INDIRECT(\"'\"&Lists!$J31&\"'!\"&Lists!$L31&W$23))=\"\",\"\",(INDIRECT(\"'\"&Lists!$J31&\"'!\"&Lists!$L31&W$23))))","v":""},{"$f":"IF(ISNA(Lists!$J31),\"\",IF((INDIRECT(\"'\"&Lists!$J31&\"'!\"&Lists!$L31&X$23))=\"\",\"\",(INDIRECT(\"'\"&Lists!$J31&\"'!\"&Lists!$L31&X$23))))","v":""},{"$f":"IF(ISNA(Lists!$J31),\"\",IF((INDIRECT(\"'\"&Lists!$J31&\"'!\"&Lists!$L31&Y$23))=\"\",\"\",(INDIRECT(\"'\"&Lists!$J31&\"'!\"&Lists!$L31&Y$23))))","v":""},{"$f":"IF(ISNA(Lists!$J31),\"\",IF((INDIRECT(\"'\"&Lists!$J31&\"'!\"&Lists!$L31&Z$23))=\"\",\"\",(INDIRECT(\"'\"&Lists!$J31&\"'!\"&Lists!$L31&Z$23))))","v":""},{"$f":"IF(ISNA(Lists!$J31),\"\",IF((INDIRECT(\"'\"&Lists!$J31&\"'!\"&Lists!$L31&AA$23))=\"\",\"\",(INDIRECT(\"'\"&Lists!$J31&\"'!\"&Lists!$L31&AA$23))))","v":""},{"$f":"IF(ISNA(Lists!$J31),\"\",IF((INDIRECT(\"'\"&Lists!$J31&\"'!\"&Lists!$L31&AB$23))=\"\",\"\",(INDIRECT(\"'\"&Lists!$J31&\"'!\"&Lists!$L31&AB$23))))","v":""},{"$f":"IF(ISNA(Lists!$J31),\"\",IF((INDIRECT(\"'\"&Lists!$J31&\"'!\"&Lists!$K31&AC$23))=\"\",\"\",(INDIRECT(\"'\"&Lists!$J31&\"'!\"&Lists!$K31&AC$23))))","v":""},{"$f":"IF(ISNA(Lists!$J31),\"\",IF((INDIRECT(\"'\"&Lists!$J31&\"'!\"&Lists!$L31&AD$23))=\"\",\"\",(INDIRECT(\"'\"&Lists!$J31&\"'!\"&Lists!$L31&AD$23))))","v":""},{"$f":"IF(ISNA(Lists!$J31),\"\",IF((INDIRECT(\"'\"&Lists!$J31&\"'!\"&Lists!$K31&AE$23))=\"\",\"\",(INDIRECT(\"'\"&Lists!$J31&\"'!\"&Lists!$K31&AE$23))))","v":""},{"$f":"IF(ISNA(Lists!$J31),\"\",IF((INDIRECT(\"'\"&Lists!$J31&\"'!\"&Lists!$K31&AF$23))=\"\",\"\",(INDIRECT(\"'\"&Lists!$J31&\"'!\"&Lists!$K31&AF$23))))","v":""},{"$f":"IF(ISNA(Lists!$J31),\"\",IF((INDIRECT(\"'\"&Lists!$J31&\"'!\"&Lists!$K31&AG$23))=\"\",\"\",(INDIRECT(\"'\"&Lists!$J31&\"'!\"&Lists!$K31&AG$23))))","v":""},{"$f":"IF(ISNA(Lists!$J31),\"\",IF((INDIRECT(\"'\"&Lists!$J31&\"'!\"&Lists!$K31&AH$23))=\"\",\"\",(INDIRECT(\"'\"&Lists!$J31&\"'!\"&Lists!$K31&AH$23))))","v":""},{"$f":"IF(ISNA(Lists!$J31),\"\",IF((INDIRECT(\"'\"&Lists!$J31&\"'!\"&Lists!$K31&AI$23))=\"\",\"\",(INDIRECT(\"'\"&Lists!$J31&\"'!\"&Lists!$K31&AI$23))))","v":""},{"$f":"IF(ISNA(Lists!$J31),\"\",IF((INDIRECT(\"'\"&Lists!$J31&\"'!\"&Lists!$K31&AJ$23))=\"\",\"\",(INDIRECT(\"'\"&Lists!$J31&\"'!\"&Lists!$K31&AJ$23))))","v":""},{"$f":"IF(ISNA(Lists!$J31),\"\",IF((INDIRECT(\"'\"&Lists!$J31&\"'!\"&Lists!$K31&AK$23))=\"\",\"\",(INDIRECT(\"'\"&Lists!$J31&\"'!\"&Lists!$K31&AK$23))))","v":""},{"$f":"IF(ISNA(Lists!$J31),\"\",IF((INDIRECT(\"'\"&Lists!$J31&\"'!\"&Lists!$K31&AL$23))=\"\",\"\",(INDIRECT(\"'\"&Lists!$J31&\"'!\"&Lists!$K31&AL$23))))","v":""},{"$f":"IF(ISNA(Lists!$J31),\"\",IF((INDIRECT(\"'\"&Lists!$J31&\"'!\"&Lists!$K31&AM$23))=\"\",\"\",(INDIRECT(\"'\"&Lists!$J31&\"'!\"&Lists!$K31&AM$23))))","v":""},{"$f":"IF(ISNA(Lists!$J31),\"\",IF((INDIRECT(\"'\"&Lists!$J31&\"'!\"&Lists!$K31&AN$23))=\"\",\"\",(INDIRECT(\"'\"&Lists!$J31&\"'!\"&Lists!$K31&AN$23))))","v":""},{"$f":"IF(ISNA(Lists!$J31),\"\",IF((INDIRECT(\"'\"&Lists!$J31&\"'!\"&Lists!$K31&AO$23))=\"\",\"\",(INDIRECT(\"'\"&Lists!$J31&\"'!\"&Lists!$K31&AO$23))))","v":""}]
[null,{"$f":"IF(C54=\"\",\"\",Facility_Info_upload!$B$24)","v":""},{"$f":"IF(ISNA(Lists!$J32),\"\",IF(INDIRECT(\"'\"&Lists!$J32&\"'!\"&\"B\"&C$23)=\"\",\"\",(INDIRECT(\"'\"&Lists!$J32&\"'!\"&\"B\"&C$23))))","v":""},{"$f":"IF(ISNA(Lists!$J32),\"\",IF(INDIRECT(\"'\"&Lists!$J32&\"'!\"&\"B\"&D$23)=\"\",\"\",(INDIRECT(\"'\"&Lists!$J32&\"'!\"&\"B\"&D$23))))","v":""},{"$f":"IF(ISNA(Lists!$J32),\"\",IF(INDIRECT(\"'\"&Lists!$J32&\"'!\"&\"B\"&E$23)=\"\",\"\",(INDIRECT(\"'\"&Lists!$J32&\"'!\"&\"B\"&E$23))))","v":""},{"$f":"IF(ISNA(Lists!$J32),\"\",IF(INDIRECT(\"'\"&Lists!$J32&\"'!\"&\"B\"&F$23)=\"\",\"\",(INDIRECT(\"'\"&Lists!$J32&\"'!\"&\"B\"&F$23))))","v":""},{"$f":"IF(ISNA(Lists!$J32),\"\",IF(INDIRECT(\"'\"&Lists!$J32&\"'!\"&\"B\"&G$23)=\"\",\"\",(INDIRECT(\"'\"&Lists!$J32&\"'!\"&\"B\"&G$23))))","v":""},{"$f":"IF(ISNA(Lists!$J32),\"\",IF((INDIRECT(\"'\"&Lists!$J32&\"'!\"&Lists!$K32&H$23))=\"\",\"\",(INDIRECT(\"'\"&Lists!$J32&\"'!\"&Lists!$K32&H$23))))","v":""},{"$f":"IF(ISNA(Lists!$J32),\"\",IF((INDIRECT(\"'\"&Lists!$J32&\"'!\"&Lists!$K32&I$23))=\"\",\"\",(INDIRECT(\"'\"&Lists!$J32&\"'!\"&Lists!$K32&I$23))))","v":""},{"$f":"IF(ISNA(Lists!$J32),\"\",IF((INDIRECT(\"'\"&Lists!$J32&\"'!\"&Lists!$K32&J$23))=\"\",\"\",(INDIRECT(\"'\"&Lists!$J32&\"'!\"&Lists!$K32&J$23))))","v":""},{"$f":"IF(ISNA(Lists!$J32),\"\",IF((INDIRECT(\"'\"&Lists!$J32&\"'!\"&Lists!$K32&K$23))=\"\",\"\",(INDIRECT(\"'\"&Lists!$J32&\"'!\"&Lists!$K32&K$23))))","v":""},{"$f":"IF(ISNA(Lists!$J32),\"\",IF((INDIRECT(\"'\"&Lists!$J32&\"'!\"&Lists!$K32&L$23))=\"\",\"\",(INDIRECT(\"'\"&Lists!$J32&\"'!\"&Lists!$K32&L$23))))","v":""},{"$f":"IF(ISNA(Lists!$J32),\"\",IF((INDIRECT(\"'\"&Lists!$J32&\"'!\"&Lists!$K32&M$23))=\"\",\"\",(INDIRECT(\"'\"&Lists!$J32&\"'!\"&Lists!$K32&M$23))))","v":""},{"$f":"IF(ISNA(Lists!$J32),\"\",IF((INDIRECT(\"'\"&Lists!$J32&\"'!\"&Lists!$K32&N$23))=\"\",\"\",(INDIRECT(\"'\"&Lists!$J32&\"'!\"&Lists!$K32&N$23))))","v":""},{"$f":"IF(ISNA(Lists!$J32),\"\",IF((INDIRECT(\"'\"&Lists!$J32&\"'!\"&Lists!$K32&O$23))=\"\",\"\",(INDIRECT(\"'\"&Lists!$J32&\"'!\"&Lists!$K32&O$23))))","v":""},{"$f":"IF(ISNA(Lists!$J32),\"\",IF((INDIRECT(\"'\"&Lists!$J32&\"'!\"&Lists!$K32&P$23))=\"\",\"\",(INDIRECT(\"'\"&Lists!$J32&\"'!\"&Lists!$K32&P$23))))","v":""},{"$f":"IF(ISNA(Lists!$J32),\"\",IF((INDIRECT(\"'\"&Lists!$J32&\"'!\"&Lists!$K32&Q$23))=\"\",\"\",(INDIRECT(\"'\"&Lists!$J32&\"'!\"&Lists!$K32&Q$23))))","v":""},{"$f":"IF(ISNA(Lists!$J32),\"\",IF((INDIRECT(\"'\"&Lists!$J32&\"'!\"&Lists!$K32&R$23))=\"\",\"\",(INDIRECT(\"'\"&Lists!$J32&\"'!\"&Lists!$K32&R$23))))","v":""},{"$f":"IF(ISNA(Lists!$J32),\"\",IF((INDIRECT(\"'\"&Lists!$J32&\"'!\"&Lists!$K32&S$23))=\"\",\"\",(INDIRECT(\"'\"&Lists!$J32&\"'!\"&Lists!$K32&S$23))))","v":""},{"$f":"IF(ISNA(Lists!$J32),\"\",IF((INDIRECT(\"'\"&Lists!$J32&\"'!\"&Lists!$K32&T$23))=\"\",\"\",(INDIRECT(\"'\"&Lists!$J32&\"'!\"&Lists!$K32&T$23))))","v":""},{"$f":"IF(ISNA(Lists!$J32),\"\",IF((INDIRECT(\"'\"&Lists!$J32&\"'!\"&Lists!$K32&U$23))=\"\",\"\",(INDIRECT(\"'\"&Lists!$J32&\"'!\"&Lists!$K32&U$23))))","v":""},{"$f":"IF(ISNA(Lists!$J32),\"\",IF((INDIRECT(\"'\"&Lists!$J32&\"'!\"&Lists!$L32&V$23))=\"\",\"\",(INDIRECT(\"'\"&Lists!$J32&\"'!\"&Lists!$L32&V$23))))","v":""},{"$f":"IF(ISNA(Lists!$J32),\"\",IF((INDIRECT(\"'\"&Lists!$J32&\"'!\"&Lists!$L32&W$23))=\"\",\"\",(INDIRECT(\"'\"&Lists!$J32&\"'!\"&Lists!$L32&W$23))))","v":""},{"$f":"IF(ISNA(Lists!$J32),\"\",IF((INDIRECT(\"'\"&Lists!$J32&\"'!\"&Lists!$L32&X$23))=\"\",\"\",(INDIRECT(\"'\"&Lists!$J32&\"'!\"&Lists!$L32&X$23))))","v":""},{"$f":"IF(ISNA(Lists!$J32),\"\",IF((INDIRECT(\"'\"&Lists!$J32&\"'!\"&Lists!$L32&Y$23))=\"\",\"\",(INDIRECT(\"'\"&Lists!$J32&\"'!\"&Lists!$L32&Y$23))))","v":""},{"$f":"IF(ISNA(Lists!$J32),\"\",IF((INDIRECT(\"'\"&Lists!$J32&\"'!\"&Lists!$L32&Z$23))=\"\",\"\",(INDIRECT(\"'\"&Lists!$J32&\"'!\"&Lists!$L32&Z$23))))","v":""},{"$f":"IF(ISNA(Lists!$J32),\"\",IF((INDIRECT(\"'\"&Lists!$J32&\"'!\"&Lists!$L32&AA$23))=\"\",\"\",(INDIRECT(\"'\"&Lists!$J32&\"'!\"&Lists!$L32&AA$23))))","v":""},{"$f":"IF(ISNA(Lists!$J32),\"\",IF((INDIRECT(\"'\"&Lists!$J32&\"'!\"&Lists!$L32&AB$23))=\"\",\"\",(INDIRECT(\"'\"&Lists!$J32&\"'!\"&Lists!$L32&AB$23))))","v":""},{"$f":"IF(ISNA(Lists!$J32),\"\",IF((INDIRECT(\"'\"&Lists!$J32&\"'!\"&Lists!$K32&AC$23))=\"\",\"\",(INDIRECT(\"'\"&Lists!$J32&\"'!\"&Lists!$K32&AC$23))))","v":""},{"$f":"IF(ISNA(Lists!$J32),\"\",IF((INDIRECT(\"'\"&Lists!$J32&\"'!\"&Lists!$L32&AD$23))=\"\",\"\",(INDIRECT(\"'\"&Lists!$J32&\"'!\"&Lists!$L32&AD$23))))","v":""},{"$f":"IF(ISNA(Lists!$J32),\"\",IF((INDIRECT(\"'\"&Lists!$J32&\"'!\"&Lists!$K32&AE$23))=\"\",\"\",(INDIRECT(\"'\"&Lists!$J32&\"'!\"&Lists!$K32&AE$23))))","v":""},{"$f":"IF(ISNA(Lists!$J32),\"\",IF((INDIRECT(\"'\"&Lists!$J32&\"'!\"&Lists!$K32&AF$23))=\"\",\"\",(INDIRECT(\"'\"&Lists!$J32&\"'!\"&Lists!$K32&AF$23))))","v":""},{"$f":"IF(ISNA(Lists!$J32),\"\",IF((INDIRECT(\"'\"&Lists!$J32&\"'!\"&Lists!$K32&AG$23))=\"\",\"\",(INDIRECT(\"'\"&Lists!$J32&\"'!\"&Lists!$K32&AG$23))))","v":""},{"$f":"IF(ISNA(Lists!$J32),\"\",IF((INDIRECT(\"'\"&Lists!$J32&\"'!\"&Lists!$K32&AH$23))=\"\",\"\",(INDIRECT(\"'\"&Lists!$J32&\"'!\"&Lists!$K32&AH$23))))","v":""},{"$f":"IF(ISNA(Lists!$J32),\"\",IF((INDIRECT(\"'\"&Lists!$J32&\"'!\"&Lists!$K32&AI$23))=\"\",\"\",(INDIRECT(\"'\"&Lists!$J32&\"'!\"&Lists!$K32&AI$23))))","v":""},{"$f":"IF(ISNA(Lists!$J32),\"\",IF((INDIRECT(\"'\"&Lists!$J32&\"'!\"&Lists!$K32&AJ$23))=\"\",\"\",(INDIRECT(\"'\"&Lists!$J32&\"'!\"&Lists!$K32&AJ$23))))","v":""},{"$f":"IF(ISNA(Lists!$J32),\"\",IF((INDIRECT(\"'\"&Lists!$J32&\"'!\"&Lists!$K32&AK$23))=\"\",\"\",(INDIRECT(\"'\"&Lists!$J32&\"'!\"&Lists!$K32&AK$23))))","v":""},{"$f":"IF(ISNA(Lists!$J32),\"\",IF((INDIRECT(\"'\"&Lists!$J32&\"'!\"&Lists!$K32&AL$23))=\"\",\"\",(INDIRECT(\"'\"&Lists!$J32&\"'!\"&Lists!$K32&AL$23))))","v":""},{"$f":"IF(ISNA(Lists!$J32),\"\",IF((INDIRECT(\"'\"&Lists!$J32&\"'!\"&Lists!$K32&AM$23))=\"\",\"\",(INDIRECT(\"'\"&Lists!$J32&\"'!\"&Lists!$K32&AM$23))))","v":""},{"$f":"IF(ISNA(Lists!$J32),\"\",IF((INDIRECT(\"'\"&Lists!$J32&\"'!\"&Lists!$K32&AN$23))=\"\",\"\",(INDIRECT(\"'\"&Lists!$J32&\"'!\"&Lists!$K32&AN$23))))","v":""},{"$f":"IF(ISNA(Lists!$J32),\"\",IF((INDIRECT(\"'\"&Lists!$J32&\"'!\"&Lists!$K32&AO$23))=\"\",\"\",(INDIRECT(\"'\"&Lists!$J32&\"'!\"&Lists!$K32&AO$23))))","v":""}]
[null,{"$f":"IF(C55=\"\",\"\",Facility_Info_upload!$B$24)","v":""},{"$f":"IF(ISNA(Lists!$J33),\"\",IF(INDIRECT(\"'\"&Lists!$J33&\"'!\"&\"B\"&C$23)=\"\",\"\",(INDIRECT(\"'\"&Lists!$J33&\"'!\"&\"B\"&C$23))))","v":""},{"$f":"IF(ISNA(Lists!$J33),\"\",IF(INDIRECT(\"'\"&Lists!$J33&\"'!\"&\"B\"&D$23)=\"\",\"\",(INDIRECT(\"'\"&Lists!$J33&\"'!\"&\"B\"&D$23))))","v":""},{"$f":"IF(ISNA(Lists!$J33),\"\",IF(INDIRECT(\"'\"&Lists!$J33&\"'!\"&\"B\"&E$23)=\"\",\"\",(INDIRECT(\"'\"&Lists!$J33&\"'!\"&\"B\"&E$23))))","v":""},{"$f":"IF(ISNA(Lists!$J33),\"\",IF(INDIRECT(\"'\"&Lists!$J33&\"'!\"&\"B\"&F$23)=\"\",\"\",(INDIRECT(\"'\"&Lists!$J33&\"'!\"&\"B\"&F$23))))","v":""},{"$f":"IF(ISNA(Lists!$J33),\"\",IF(INDIRECT(\"'\"&Lists!$J33&\"'!\"&\"B\"&G$23)=\"\",\"\",(INDIRECT(\"'\"&Lists!$J33&\"'!\"&\"B\"&G$23))))","v":""},{"$f":"IF(ISNA(Lists!$J33),\"\",IF((INDIRECT(\"'\"&Lists!$J33&\"'!\"&Lists!$K33&H$23))=\"\",\"\",(INDIRECT(\"'\"&Lists!$J33&\"'!\"&Lists!$K33&H$23))))","v":""},{"$f":"IF(ISNA(Lists!$J33),\"\",IF((INDIRECT(\"'\"&Lists!$J33&\"'!\"&Lists!$K33&I$23))=\"\",\"\",(INDIRECT(\"'\"&Lists!$J33&\"'!\"&Lists!$K33&I$23))))","v":""},{"$f":"IF(ISNA(Lists!$J33),\"\",IF((INDIRECT(\"'\"&Lists!$J33&\"'!\"&Lists!$K33&J$23))=\"\",\"\",(INDIRECT(\"'\"&Lists!$J33&\"'!\"&Lists!$K33&J$23))))","v":""},{"$f":"IF(ISNA(Lists!$J33),\"\",IF((INDIRECT(\"'\"&Lists!$J33&\"'!\"&Lists!$K33&K$23))=\"\",\"\",(INDIRECT(\"'\"&Lists!$J33&\"'!\"&Lists!$K33&K$23))))","v":""},{"$f":"IF(ISNA(Lists!$J33),\"\",IF((INDIRECT(\"'\"&Lists!$J33&\"'!\"&Lists!$K33&L$23))=\"\",\"\",(INDIRECT(\"'\"&Lists!$J33&\"'!\"&Lists!$K33&L$23))))","v":""},{"$f":"IF(ISNA(Lists!$J33),\"\",IF((INDIRECT(\"'\"&Lists!$J33&\"'!\"&Lists!$K33&M$23))=\"\",\"\",(INDIRECT(\"'\"&Lists!$J33&\"'!\"&Lists!$K33&M$23))))","v":""},{"$f":"IF(ISNA(Lists!$J33),\"\",IF((INDIRECT(\"'\"&Lists!$J33&\"'!\"&Lists!$K33&N$23))=\"\",\"\",(INDIRECT(\"'\"&Lists!$J33&\"'!\"&Lists!$K33&N$23))))","v":""},{"$f":"IF(ISNA(Lists!$J33),\"\",IF((INDIRECT(\"'\"&Lists!$J33&\"'!\"&Lists!$K33&O$23))=\"\",\"\",(INDIRECT(\"'\"&Lists!$J33&\"'!\"&Lists!$K33&O$23))))","v":""},{"$f":"IF(ISNA(Lists!$J33),\"\",IF((INDIRECT(\"'\"&Lists!$J33&\"'!\"&Lists!$K33&P$23))=\"\",\"\",(INDIRECT(\"'\"&Lists!$J33&\"'!\"&Lists!$K33&P$23))))","v":""},{"$f":"IF(ISNA(Lists!$J33),\"\",IF((INDIRECT(\"'\"&Lists!$J33&\"'!\"&Lists!$K33&Q$23))=\"\",\"\",(INDIRECT(\"'\"&Lists!$J33&\"'!\"&Lists!$K33&Q$23))))","v":""},{"$f":"IF(ISNA(Lists!$J33),\"\",IF((INDIRECT(\"'\"&Lists!$J33&\"'!\"&Lists!$K33&R$23))=\"\",\"\",(INDIRECT(\"'\"&Lists!$J33&\"'!\"&Lists!$K33&R$23))))","v":""},{"$f":"IF(ISNA(Lists!$J33),\"\",IF((INDIRECT(\"'\"&Lists!$J33&\"'!\"&Lists!$K33&S$23))=\"\",\"\",(INDIRECT(\"'\"&Lists!$J33&\"'!\"&Lists!$K33&S$23))))","v":""},{"$f":"IF(ISNA(Lists!$J33),\"\",IF((INDIRECT(\"'\"&Lists!$J33&\"'!\"&Lists!$K33&T$23))=\"\",\"\",(INDIRECT(\"'\"&Lists!$J33&\"'!\"&Lists!$K33&T$23))))","v":""},{"$f":"IF(ISNA(Lists!$J33),\"\",IF((INDIRECT(\"'\"&Lists!$J33&\"'!\"&Lists!$K33&U$23))=\"\",\"\",(INDIRECT(\"'\"&Lists!$J33&\"'!\"&Lists!$K33&U$23))))","v":""},{"$f":"IF(ISNA(Lists!$J33),\"\",IF((INDIRECT(\"'\"&Lists!$J33&\"'!\"&Lists!$L33&V$23))=\"\",\"\",(INDIRECT(\"'\"&Lists!$J33&\"'!\"&Lists!$L33&V$23))))","v":""},{"$f":"IF(ISNA(Lists!$J33),\"\",IF((INDIRECT(\"'\"&Lists!$J33&\"'!\"&Lists!$L33&W$23))=\"\",\"\",(INDIRECT(\"'\"&Lists!$J33&\"'!\"&Lists!$L33&W$23))))","v":""},{"$f":"IF(ISNA(Lists!$J33),\"\",IF((INDIRECT(\"'\"&Lists!$J33&\"'!\"&Lists!$L33&X$23))=\"\",\"\",(INDIRECT(\"'\"&Lists!$J33&\"'!\"&Lists!$L33&X$23))))","v":""},{"$f":"IF(ISNA(Lists!$J33),\"\",IF((INDIRECT(\"'\"&Lists!$J33&\"'!\"&Lists!$L33&Y$23))=\"\",\"\",(INDIRECT(\"'\"&Lists!$J33&\"'!\"&Lists!$L33&Y$23))))","v":""},{"$f":"IF(ISNA(Lists!$J33),\"\",IF((INDIRECT(\"'\"&Lists!$J33&\"'!\"&Lists!$L33&Z$23))=\"\",\"\",(INDIRECT(\"'\"&Lists!$J33&\"'!\"&Lists!$L33&Z$23))))","v":""},{"$f":"IF(ISNA(Lists!$J33),\"\",IF((INDIRECT(\"'\"&Lists!$J33&\"'!\"&Lists!$L33&AA$23))=\"\",\"\",(INDIRECT(\"'\"&Lists!$J33&\"'!\"&Lists!$L33&AA$23))))","v":""},{"$f":"IF(ISNA(Lists!$J33),\"\",IF((INDIRECT(\"'\"&Lists!$J33&\"'!\"&Lists!$L33&AB$23))=\"\",\"\",(INDIRECT(\"'\"&Lists!$J33&\"'!\"&Lists!$L33&AB$23))))","v":""},{"$f":"IF(ISNA(Lists!$J33),\"\",IF((INDIRECT(\"'\"&Lists!$J33&\"'!\"&Lists!$K33&AC$23))=\"\",\"\",(INDIRECT(\"'\"&Lists!$J33&\"'!\"&Lists!$K33&AC$23))))","v":""},{"$f":"IF(ISNA(Lists!$J33),\"\",IF((INDIRECT(\"'\"&Lists!$J33&\"'!\"&Lists!$L33&AD$23))=\"\",\"\",(INDIRECT(\"'\"&Lists!$J33&\"'!\"&Lists!$L33&AD$23))))","v":""},{"$f":"IF(ISNA(Lists!$J33),\"\",IF((INDIRECT(\"'\"&Lists!$J33&\"'!\"&Lists!$K33&AE$23))=\"\",\"\",(INDIRECT(\"'\"&Lists!$J33&\"'!\"&Lists!$K33&AE$23))))","v":""},{"$f":"IF(ISNA(Lists!$J33),\"\",IF((INDIRECT(\"'\"&Lists!$J33&\"'!\"&Lists!$K33&AF$23))=\"\",\"\",(INDIRECT(\"'\"&Lists!$J33&\"'!\"&Lists!$K33&AF$23))))","v":""},{"$f":"IF(ISNA(Lists!$J33),\"\",IF((INDIRECT(\"'\"&Lists!$J33&\"'!\"&Lists!$K33&AG$23))=\"\",\"\",(INDIRECT(\"'\"&Lists!$J33&\"'!\"&Lists!$K33&AG$23))))","v":""},{"$f":"IF(ISNA(Lists!$J33),\"\",IF((INDIRECT(\"'\"&Lists!$J33&\"'!\"&Lists!$K33&AH$23))=\"\",\"\",(INDIRECT(\"'\"&Lists!$J33&\"'!\"&Lists!$K33&AH$23))))","v":""},{"$f":"IF(ISNA(Lists!$J33),\"\",IF((INDIRECT(\"'\"&Lists!$J33&\"'!\"&Lists!$K33&AI$23))=\"\",\"\",(INDIRECT(\"'\"&Lists!$J33&\"'!\"&Lists!$K33&AI$23))))","v":""},{"$f":"IF(ISNA(Lists!$J33),\"\",IF((INDIRECT(\"'\"&Lists!$J33&\"'!\"&Lists!$K33&AJ$23))=\"\",\"\",(INDIRECT(\"'\"&Lists!$J33&\"'!\"&Lists!$K33&AJ$23))))","v":""},{"$f":"IF(ISNA(Lists!$J33),\"\",IF((INDIRECT(\"'\"&Lists!$J33&\"'!\"&Lists!$K33&AK$23))=\"\",\"\",(INDIRECT(\"'\"&Lists!$J33&\"'!\"&Lists!$K33&AK$23))))","v":""},{"$f":"IF(ISNA(Lists!$J33),\"\",IF((INDIRECT(\"'\"&Lists!$J33&\"'!\"&Lists!$K33&AL$23))=\"\",\"\",(INDIRECT(\"'\"&Lists!$J33&\"'!\"&Lists!$K33&AL$23))))","v":""},{"$f":"IF(ISNA(Lists!$J33),\"\",IF((INDIRECT(\"'\"&Lists!$J33&\"'!\"&Lists!$K33&AM$23))=\"\",\"\",(INDIRECT(\"'\"&Lists!$J33&\"'!\"&Lists!$K33&AM$23))))","v":""},{"$f":"IF(ISNA(Lists!$J33),\"\",IF((INDIRECT(\"'\"&Lists!$J33&\"'!\"&Lists!$K33&AN$23))=\"\",\"\",(INDIRECT(\"'\"&Lists!$J33&\"'!\"&Lists!$K33&AN$23))))","v":""},{"$f":"IF(ISNA(Lists!$J33),\"\",IF((INDIRECT(\"'\"&Lists!$J33&\"'!\"&Lists!$K33&AO$23))=\"\",\"\",(INDIRECT(\"'\"&Lists!$J33&\"'!\"&Lists!$K33&AO$23))))","v":""}]
[null,{"$f":"IF(C56=\"\",\"\",Facility_Info_upload!$B$24)","v":""},{"$f":"IF(ISNA(Lists!$J34),\"\",IF(INDIRECT(\"'\"&Lists!$J34&\"'!\"&\"B\"&C$23)=\"\",\"\",(INDIRECT(\"'\"&Lists!$J34&\"'!\"&\"B\"&C$23))))","v":""},{"$f":"IF(ISNA(Lists!$J34),\"\",IF(INDIRECT(\"'\"&Lists!$J34&\"'!\"&\"B\"&D$23)=\"\",\"\",(INDIRECT(\"'\"&Lists!$J34&\"'!\"&\"B\"&D$23))))","v":""},{"$f":"IF(ISNA(Lists!$J34),\"\",IF(INDIRECT(\"'\"&Lists!$J34&\"'!\"&\"B\"&E$23)=\"\",\"\",(INDIRECT(\"'\"&Lists!$J34&\"'!\"&\"B\"&E$23))))","v":""},{"$f":"IF(ISNA(Lists!$J34),\"\",IF(INDIRECT(\"'\"&Lists!$J34&\"'!\"&\"B\"&F$23)=\"\",\"\",(INDIRECT(\"'\"&Lists!$J34&\"'!\"&\"B\"&F$23))))","v":""},{"$f":"IF(ISNA(Lists!$J34),\"\",IF(INDIRECT(\"'\"&Lists!$J34&\"'!\"&\"B\"&G$23)=\"\",\"\",(INDIRECT(\"'\"&Lists!$J34&\"'!\"&\"B\"&G$23))))","v":""},{"$f":"IF(ISNA(Lists!$J34),\"\",IF((INDIRECT(\"'\"&Lists!$J34&\"'!\"&Lists!$K34&H$23))=\"\",\"\",(INDIRECT(\"'\"&Lists!$J34&\"'!\"&Lists!$K34&H$23))))","v":""},{"$f":"IF(ISNA(Lists!$J34),\"\",IF((INDIRECT(\"'\"&Lists!$J34&\"'!\"&Lists!$K34&I$23))=\"\",\"\",(INDIRECT(\"'\"&Lists!$J34&\"'!\"&Lists!$K34&I$23))))","v":""},{"$f":"IF(ISNA(Lists!$J34),\"\",IF((INDIRECT(\"'\"&Lists!$J34&\"'!\"&Lists!$K34&J$23))=\"\",\"\",(INDIRECT(\"'\"&Lists!$J34&\"'!\"&Lists!$K34&J$23))))","v":""},{"$f":"IF(ISNA(Lists!$J34),\"\",IF((INDIRECT(\"'\"&Lists!$J34&\"'!\"&Lists!$K34&K$23))=\"\",\"\",(INDIRECT(\"'\"&Lists!$J34&\"'!\"&Lists!$K34&K$23))))","v":""},{"$f":"IF(ISNA(Lists!$J34),\"\",IF((INDIRECT(\"'\"&Lists!$J34&\"'!\"&Lists!$K34&L$23))=\"\",\"\",(INDIRECT(\"'\"&Lists!$J34&\"'!\"&Lists!$K34&L$23))))","v":""},{"$f":"IF(ISNA(Lists!$J34),\"\",IF((INDIRECT(\"'\"&Lists!$J34&\"'!\"&Lists!$K34&M$23))=\"\",\"\",(INDIRECT(\"'\"&Lists!$J34&\"'!\"&Lists!$K34&M$23))))","v":""},{"$f":"IF(ISNA(Lists!$J34),\"\",IF((INDIRECT(\"'\"&Lists!$J34&\"'!\"&Lists!$K34&N$23))=\"\",\"\",(INDIRECT(\"'\"&Lists!$J34&\"'!\"&Lists!$K34&N$23))))","v":""},{"$f":"IF(ISNA(Lists!$J34),\"\",IF((INDIRECT(\"'\"&Lists!$J34&\"'!\"&Lists!$K34&O$23))=\"\",\"\",(INDIRECT(\"'\"&Lists!$J34&\"'!\"&Lists!$K34&O$23))))","v":""},{"$f":"IF(ISNA(Lists!$J34),\"\",IF((INDIRECT(\"'\"&Lists!$J34&\"'!\"&Lists!$K34&P$23))=\"\",\"\",(INDIRECT(\"'\"&Lists!$J34&\"'!\"&Lists!$K34&P$23))))","v":""},{"$f":"IF(ISNA(Lists!$J34),\"\",IF((INDIRECT(\"'\"&Lists!$J34&\"'!\"&Lists!$K34&Q$23))=\"\",\"\",(INDIRECT(\"'\"&Lists!$J34&\"'!\"&Lists!$K34&Q$23))))","v":""},{"$f":"IF(ISNA(Lists!$J34),\"\",IF((INDIRECT(\"'\"&Lists!$J34&\"'!\"&Lists!$K34&R$23))=\"\",\"\",(INDIRECT(\"'\"&Lists!$J34&\"'!\"&Lists!$K34&R$23))))","v":""},{"$f":"IF(ISNA(Lists!$J34),\"\",IF((INDIRECT(\"'\"&Lists!$J34&\"'!\"&Lists!$K34&S$23))=\"\",\"\",(INDIRECT(\"'\"&Lists!$J34&\"'!\"&Lists!$K34&S$23))))","v":""},{"$f":"IF(ISNA(Lists!$J34),\"\",IF((INDIRECT(\"'\"&Lists!$J34&\"'!\"&Lists!$K34&T$23))=\"\",\"\",(INDIRECT(\"'\"&Lists!$J34&\"'!\"&Lists!$K34&T$23))))","v":""},{"$f":"IF(ISNA(Lists!$J34),\"\",IF((INDIRECT(\"'\"&Lists!$J34&\"'!\"&Lists!$K34&U$23))=\"\",\"\",(INDIRECT(\"'\"&Lists!$J34&\"'!\"&Lists!$K34&U$23))))","v":""},{"$f":"IF(ISNA(Lists!$J34),\"\",IF((INDIRECT(\"'\"&Lists!$J34&\"'!\"&Lists!$L34&V$23))=\"\",\"\",(INDIRECT(\"'\"&Lists!$J34&\"'!\"&Lists!$L34&V$23))))","v":""},{"$f":"IF(ISNA(Lists!$J34),\"\",IF((INDIRECT(\"'\"&Lists!$J34&\"'!\"&Lists!$L34&W$23))=\"\",\"\",(INDIRECT(\"'\"&Lists!$J34&\"'!\"&Lists!$L34&W$23))))","v":""},{"$f":"IF(ISNA(Lists!$J34),\"\",IF((INDIRECT(\"'\"&Lists!$J34&\"'!\"&Lists!$L34&X$23))=\"\",\"\",(INDIRECT(\"'\"&Lists!$J34&\"'!\"&Lists!$L34&X$23))))","v":""},{"$f":"IF(ISNA(Lists!$J34),\"\",IF((INDIRECT(\"'\"&Lists!$J34&\"'!\"&Lists!$L34&Y$23))=\"\",\"\",(INDIRECT(\"'\"&Lists!$J34&\"'!\"&Lists!$L34&Y$23))))","v":""},{"$f":"IF(ISNA(Lists!$J34),\"\",IF((INDIRECT(\"'\"&Lists!$J34&\"'!\"&Lists!$L34&Z$23))=\"\",\"\",(INDIRECT(\"'\"&Lists!$J34&\"'!\"&Lists!$L34&Z$23))))","v":""},{"$f":"IF(ISNA(Lists!$J34),\"\",IF((INDIRECT(\"'\"&Lists!$J34&\"'!\"&Lists!$L34&AA$23))=\"\",\"\",(INDIRECT(\"'\"&Lists!$J34&\"'!\"&Lists!$L34&AA$23))))","v":""},{"$f":"IF(ISNA(Lists!$J34),\"\",IF((INDIRECT(\"'\"&Lists!$J34&\"'!\"&Lists!$L34&AB$23))=\"\",\"\",(INDIRECT(\"'\"&Lists!$J34&\"'!\"&Lists!$L34&AB$23))))","v":""},{"$f":"IF(ISNA(Lists!$J34),\"\",IF((INDIRECT(\"'\"&Lists!$J34&\"'!\"&Lists!$K34&AC$23))=\"\",\"\",(INDIRECT(\"'\"&Lists!$J34&\"'!\"&Lists!$K34&AC$23))))","v":""},{"$f":"IF(ISNA(Lists!$J34),\"\",IF((INDIRECT(\"'\"&Lists!$J34&\"'!\"&Lists!$L34&AD$23))=\"\",\"\",(INDIRECT(\"'\"&Lists!$J34&\"'!\"&Lists!$L34&AD$23))))","v":""},{"$f":"IF(ISNA(Lists!$J34),\"\",IF((INDIRECT(\"'\"&Lists!$J34&\"'!\"&Lists!$K34&AE$23))=\"\",\"\",(INDIRECT(\"'\"&Lists!$J34&\"'!\"&Lists!$K34&AE$23))))","v":""},{"$f":"IF(ISNA(Lists!$J34),\"\",IF((INDIRECT(\"'\"&Lists!$J34&\"'!\"&Lists!$K34&AF$23))=\"\",\"\",(INDIRECT(\"'\"&Lists!$J34&\"'!\"&Lists!$K34&AF$23))))","v":""},{"$f":"IF(ISNA(Lists!$J34),\"\",IF((INDIRECT(\"'\"&Lists!$J34&\"'!\"&Lists!$K34&AG$23))=\"\",\"\",(INDIRECT(\"'\"&Lists!$J34&\"'!\"&Lists!$K34&AG$23))))","v":""},{"$f":"IF(ISNA(Lists!$J34),\"\",IF((INDIRECT(\"'\"&Lists!$J34&\"'!\"&Lists!$K34&AH$23))=\"\",\"\",(INDIRECT(\"'\"&Lists!$J34&\"'!\"&Lists!$K34&AH$23))))","v":""},{"$f":"IF(ISNA(Lists!$J34),\"\",IF((INDIRECT(\"'\"&Lists!$J34&\"'!\"&Lists!$K34&AI$23))=\"\",\"\",(INDIRECT(\"'\"&Lists!$J34&\"'!\"&Lists!$K34&AI$23))))","v":""},{"$f":"IF(ISNA(Lists!$J34),\"\",IF((INDIRECT(\"'\"&Lists!$J34&\"'!\"&Lists!$K34&AJ$23))=\"\",\"\",(INDIRECT(\"'\"&Lists!$J34&\"'!\"&Lists!$K34&AJ$23))))","v":""},{"$f":"IF(ISNA(Lists!$J34),\"\",IF((INDIRECT(\"'\"&Lists!$J34&\"'!\"&Lists!$K34&AK$23))=\"\",\"\",(INDIRECT(\"'\"&Lists!$J34&\"'!\"&Lists!$K34&AK$23))))","v":""},{"$f":"IF(ISNA(Lists!$J34),\"\",IF((INDIRECT(\"'\"&Lists!$J34&\"'!\"&Lists!$K34&AL$23))=\"\",\"\",(INDIRECT(\"'\"&Lists!$J34&\"'!\"&Lists!$K34&AL$23))))","v":""},{"$f":"IF(ISNA(Lists!$J34),\"\",IF((INDIRECT(\"'\"&Lists!$J34&\"'!\"&Lists!$K34&AM$23))=\"\",\"\",(INDIRECT(\"'\"&Lists!$J34&\"'!\"&Lists!$K34&AM$23))))","v":""},{"$f":"IF(ISNA(Lists!$J34),\"\",IF((INDIRECT(\"'\"&Lists!$J34&\"'!\"&Lists!$K34&AN$23))=\"\",\"\",(INDIRECT(\"'\"&Lists!$J34&\"'!\"&Lists!$K34&AN$23))))","v":""},{"$f":"IF(ISNA(Lists!$J34),\"\",IF((INDIRECT(\"'\"&Lists!$J34&\"'!\"&Lists!$K34&AO$23))=\"\",\"\",(INDIRECT(\"'\"&Lists!$J34&\"'!\"&Lists!$K34&AO$23))))","v":""}]
[null,{"$f":"IF(C57=\"\",\"\",Facility_Info_upload!$B$24)","v":""},{"$f":"IF(ISNA(Lists!$J35),\"\",IF(INDIRECT(\"'\"&Lists!$J35&\"'!\"&\"B\"&C$23)=\"\",\"\",(INDIRECT(\"'\"&Lists!$J35&\"'!\"&\"B\"&C$23))))","v":""},{"$f":"IF(ISNA(Lists!$J35),\"\",IF(INDIRECT(\"'\"&Lists!$J35&\"'!\"&\"B\"&D$23)=\"\",\"\",(INDIRECT(\"'\"&Lists!$J35&\"'!\"&\"B\"&D$23))))","v":""},{"$f":"IF(ISNA(Lists!$J35),\"\",IF(INDIRECT(\"'\"&Lists!$J35&\"'!\"&\"B\"&E$23)=\"\",\"\",(INDIRECT(\"'\"&Lists!$J35&\"'!\"&\"B\"&E$23))))","v":""},{"$f":"IF(ISNA(Lists!$J35),\"\",IF(INDIRECT(\"'\"&Lists!$J35&\"'!\"&\"B\"&F$23)=\"\",\"\",(INDIRECT(\"'\"&Lists!$J35&\"'!\"&\"B\"&F$23))))","v":""},{"$f":"IF(ISNA(Lists!$J35),\"\",IF(INDIRECT(\"'\"&Lists!$J35&\"'!\"&\"B\"&G$23)=\"\",\"\",(INDIRECT(\"'\"&Lists!$J35&\"'!\"&\"B\"&G$23))))","v":""},{"$f":"IF(ISNA(Lists!$J35),\"\",IF((INDIRECT(\"'\"&Lists!$J35&\"'!\"&Lists!$K35&H$23))=\"\",\"\",(INDIRECT(\"'\"&Lists!$J35&\"'!\"&Lists!$K35&H$23))))","v":""},{"$f":"IF(ISNA(Lists!$J35),\"\",IF((INDIRECT(\"'\"&Lists!$J35&\"'!\"&Lists!$K35&I$23))=\"\",\"\",(INDIRECT(\"'\"&Lists!$J35&\"'!\"&Lists!$K35&I$23))))","v":""},{"$f":"IF(ISNA(Lists!$J35),\"\",IF((INDIRECT(\"'\"&Lists!$J35&\"'!\"&Lists!$K35&J$23))=\"\",\"\",(INDIRECT(\"'\"&Lists!$J35&\"'!\"&Lists!$K35&J$23))))","v":""},{"$f":"IF(ISNA(Lists!$J35),\"\",IF((INDIRECT(\"'\"&Lists!$J35&\"'!\"&Lists!$K35&K$23))=\"\",\"\",(INDIRECT(\"'\"&Lists!$J35&\"'!\"&Lists!$K35&K$23))))","v":""},{"$f":"IF(ISNA(Lists!$J35),\"\",IF((INDIRECT(\"'\"&Lists!$J35&\"'!\"&Lists!$K35&L$23))=\"\",\"\",(INDIRECT(\"'\"&Lists!$J35&\"'!\"&Lists!$K35&L$23))))","v":""},{"$f":"IF(ISNA(Lists!$J35),\"\",IF((INDIRECT(\"'\"&Lists!$J35&\"'!\"&Lists!$K35&M$23))=\"\",\"\",(INDIRECT(\"'\"&Lists!$J35&\"'!\"&Lists!$K35&M$23))))","v":""},{"$f":"IF(ISNA(Lists!$J35),\"\",IF((INDIRECT(\"'\"&Lists!$J35&\"'!\"&Lists!$K35&N$23))=\"\",\"\",(INDIRECT(\"'\"&Lists!$J35&\"'!\"&Lists!$K35&N$23))))","v":""},{"$f":"IF(ISNA(Lists!$J35),\"\",IF((INDIRECT(\"'\"&Lists!$J35&\"'!\"&Lists!$K35&O$23))=\"\",\"\",(INDIRECT(\"'\"&Lists!$J35&\"'!\"&Lists!$K35&O$23))))","v":""},{"$f":"IF(ISNA(Lists!$J35),\"\",IF((INDIRECT(\"'\"&Lists!$J35&\"'!\"&Lists!$K35&P$23))=\"\",\"\",(INDIRECT(\"'\"&Lists!$J35&\"'!\"&Lists!$K35&P$23))))","v":""},{"$f":"IF(ISNA(Lists!$J35),\"\",IF((INDIRECT(\"'\"&Lists!$J35&\"'!\"&Lists!$K35&Q$23))=\"\",\"\",(INDIRECT(\"'\"&Lists!$J35&\"'!\"&Lists!$K35&Q$23))))","v":""},{"$f":"IF(ISNA(Lists!$J35),\"\",IF((INDIRECT(\"'\"&Lists!$J35&\"'!\"&Lists!$K35&R$23))=\"\",\"\",(INDIRECT(\"'\"&Lists!$J35&\"'!\"&Lists!$K35&R$23))))","v":""},{"$f":"IF(ISNA(Lists!$J35),\"\",IF((INDIRECT(\"'\"&Lists!$J35&\"'!\"&Lists!$K35&S$23))=\"\",\"\",(INDIRECT(\"'\"&Lists!$J35&\"'!\"&Lists!$K35&S$23))))","v":""},{"$f":"IF(ISNA(Lists!$J35),\"\",IF((INDIRECT(\"'\"&Lists!$J35&\"'!\"&Lists!$K35&T$23))=\"\",\"\",(INDIRECT(\"'\"&Lists!$J35&\"'!\"&Lists!$K35&T$23))))","v":""},{"$f":"IF(ISNA(Lists!$J35),\"\",IF((INDIRECT(\"'\"&Lists!$J35&\"'!\"&Lists!$K35&U$23))=\"\",\"\",(INDIRECT(\"'\"&Lists!$J35&\"'!\"&Lists!$K35&U$23))))","v":""},{"$f":"IF(ISNA(Lists!$J35),\"\",IF((INDIRECT(\"'\"&Lists!$J35&\"'!\"&Lists!$L35&V$23))=\"\",\"\",(INDIRECT(\"'\"&Lists!$J35&\"'!\"&Lists!$L35&V$23))))","v":""},{"$f":"IF(ISNA(Lists!$J35),\"\",IF((INDIRECT(\"'\"&Lists!$J35&\"'!\"&Lists!$L35&W$23))=\"\",\"\",(INDIRECT(\"'\"&Lists!$J35&\"'!\"&Lists!$L35&W$23))))","v":""},{"$f":"IF(ISNA(Lists!$J35),\"\",IF((INDIRECT(\"'\"&Lists!$J35&\"'!\"&Lists!$L35&X$23))=\"\",\"\",(INDIRECT(\"'\"&Lists!$J35&\"'!\"&Lists!$L35&X$23))))","v":""},{"$f":"IF(ISNA(Lists!$J35),\"\",IF((INDIRECT(\"'\"&Lists!$J35&\"'!\"&Lists!$L35&Y$23))=\"\",\"\",(INDIRECT(\"'\"&Lists!$J35&\"'!\"&Lists!$L35&Y$23))))","v":""},{"$f":"IF(ISNA(Lists!$J35),\"\",IF((INDIRECT(\"'\"&Lists!$J35&\"'!\"&Lists!$L35&Z$23))=\"\",\"\",(INDIRECT(\"'\"&Lists!$J35&\"'!\"&Lists!$L35&Z$23))))","v":""},{"$f":"IF(ISNA(Lists!$J35),\"\",IF((INDIRECT(\"'\"&Lists!$J35&\"'!\"&Lists!$L35&AA$23))=\"\",\"\",(INDIRECT(\"'\"&Lists!$J35&\"'!\"&Lists!$L35&AA$23))))","v":""},{"$f":"IF(ISNA(Lists!$J35),\"\",IF((INDIRECT(\"'\"&Lists!$J35&\"'!\"&Lists!$L35&AB$23))=\"\",\"\",(INDIRECT(\"'\"&Lists!$J35&\"'!\"&Lists!$L35&AB$23))))","v":""},{"$f":"IF(ISNA(Lists!$J35),\"\",IF((INDIRECT(\"'\"&Lists!$J35&\"'!\"&Lists!$K35&AC$23))=\"\",\"\",(INDIRECT(\"'\"&Lists!$J35&\"'!\"&Lists!$K35&AC$23))))","v":""},{"$f":"IF(ISNA(Lists!$J35),\"\",IF((INDIRECT(\"'\"&Lists!$J35&\"'!\"&Lists!$L35&AD$23))=\"\",\"\",(INDIRECT(\"'\"&Lists!$J35&\"'!\"&Lists!$L35&AD$23))))","v":""},{"$f":"IF(ISNA(Lists!$J35),\"\",IF((INDIRECT(\"'\"&Lists!$J35&\"'!\"&Lists!$K35&AE$23))=\"\",\"\",(INDIRECT(\"'\"&Lists!$J35&\"'!\"&Lists!$K35&AE$23))))","v":""},{"$f":"IF(ISNA(Lists!$J35),\"\",IF((INDIRECT(\"'\"&Lists!$J35&\"'!\"&Lists!$K35&AF$23))=\"\",\"\",(INDIRECT(\"'\"&Lists!$J35&\"'!\"&Lists!$K35&AF$23))))","v":""},{"$f":"IF(ISNA(Lists!$J35),\"\",IF((INDIRECT(\"'\"&Lists!$J35&\"'!\"&Lists!$K35&AG$23))=\"\",\"\",(INDIRECT(\"'\"&Lists!$J35&\"'!\"&Lists!$K35&AG$23))))","v":""},{"$f":"IF(ISNA(Lists!$J35),\"\",IF((INDIRECT(\"'\"&Lists!$J35&\"'!\"&Lists!$K35&AH$23))=\"\",\"\",(INDIRECT(\"'\"&Lists!$J35&\"'!\"&Lists!$K35&AH$23))))","v":""},{"$f":"IF(ISNA(Lists!$J35),\"\",IF((INDIRECT(\"'\"&Lists!$J35&\"'!\"&Lists!$K35&AI$23))=\"\",\"\",(INDIRECT(\"'\"&Lists!$J35&\"'!\"&Lists!$K35&AI$23))))","v":""},{"$f":"IF(ISNA(Lists!$J35),\"\",IF((INDIRECT(\"'\"&Lists!$J35&\"'!\"&Lists!$K35&AJ$23))=\"\",\"\",(INDIRECT(\"'\"&Lists!$J35&\"'!\"&Lists!$K35&AJ$23))))","v":""},{"$f":"IF(ISNA(Lists!$J35),\"\",IF((INDIRECT(\"'\"&Lists!$J35&\"'!\"&Lists!$K35&AK$23))=\"\",\"\",(INDIRECT(\"'\"&Lists!$J35&\"'!\"&Lists!$K35&AK$23))))","v":""},{"$f":"IF(ISNA(Lists!$J35),\"\",IF((INDIRECT(\"'\"&Lists!$J35&\"'!\"&Lists!$K35&AL$23))=\"\",\"\",(INDIRECT(\"'\"&Lists!$J35&\"'!\"&Lists!$K35&AL$23))))","v":""},{"$f":"IF(ISNA(Lists!$J35),\"\",IF((INDIRECT(\"'\"&Lists!$J35&\"'!\"&Lists!$K35&AM$23))=\"\",\"\",(INDIRECT(\"'\"&Lists!$J35&\"'!\"&Lists!$K35&AM$23))))","v":""},{"$f":"IF(ISNA(Lists!$J35),\"\",IF((INDIRECT(\"'\"&Lists!$J35&\"'!\"&Lists!$K35&AN$23))=\"\",\"\",(INDIRECT(\"'\"&Lists!$J35&\"'!\"&Lists!$K35&AN$23))))","v":""},{"$f":"IF(ISNA(Lists!$J35),\"\",IF((INDIRECT(\"'\"&Lists!$J35&\"'!\"&Lists!$K35&AO$23))=\"\",\"\",(INDIRECT(\"'\"&Lists!$J35&\"'!\"&Lists!$K35&AO$23))))","v":""}]
[null,{"$f":"IF(C58=\"\",\"\",Facility_Info_upload!$B$24)","v":""},{"$f":"IF(ISNA(Lists!$J36),\"\",IF(INDIRECT(\"'\"&Lists!$J36&\"'!\"&\"B\"&C$23)=\"\",\"\",(INDIRECT(\"'\"&Lists!$J36&\"'!\"&\"B\"&C$23))))","v":""},{"$f":"IF(ISNA(Lists!$J36),\"\",IF(INDIRECT(\"'\"&Lists!$J36&\"'!\"&\"B\"&D$23)=\"\",\"\",(INDIRECT(\"'\"&Lists!$J36&\"'!\"&\"B\"&D$23))))","v":""},{"$f":"IF(ISNA(Lists!$J36),\"\",IF(INDIRECT(\"'\"&Lists!$J36&\"'!\"&\"B\"&E$23)=\"\",\"\",(INDIRECT(\"'\"&Lists!$J36&\"'!\"&\"B\"&E$23))))","v":""},{"$f":"IF(ISNA(Lists!$J36),\"\",IF(INDIRECT(\"'\"&Lists!$J36&\"'!\"&\"B\"&F$23)=\"\",\"\",(INDIRECT(\"'\"&Lists!$J36&\"'!\"&\"B\"&F$23))))","v":""},{"$f":"IF(ISNA(Lists!$J36),\"\",IF(INDIRECT(\"'\"&Lists!$J36&\"'!\"&\"B\"&G$23)=\"\",\"\",(INDIRECT(\"'\"&Lists!$J36&\"'!\"&\"B\"&G$23))))","v":""},{"$f":"IF(ISNA(Lists!$J36),\"\",IF((INDIRECT(\"'\"&Lists!$J36&\"'!\"&Lists!$K36&H$23))=\"\",\"\",(INDIRECT(\"'\"&Lists!$J36&\"'!\"&Lists!$K36&H$23))))","v":""},{"$f":"IF(ISNA(Lists!$J36),\"\",IF((INDIRECT(\"'\"&Lists!$J36&\"'!\"&Lists!$K36&I$23))=\"\",\"\",(INDIRECT(\"'\"&Lists!$J36&\"'!\"&Lists!$K36&I$23))))","v":""},{"$f":"IF(ISNA(Lists!$J36),\"\",IF((INDIRECT(\"'\"&Lists!$J36&\"'!\"&Lists!$K36&J$23))=\"\",\"\",(INDIRECT(\"'\"&Lists!$J36&\"'!\"&Lists!$K36&J$23))))","v":""},{"$f":"IF(ISNA(Lists!$J36),\"\",IF((INDIRECT(\"'\"&Lists!$J36&\"'!\"&Lists!$K36&K$23))=\"\",\"\",(INDIRECT(\"'\"&Lists!$J36&\"'!\"&Lists!$K36&K$23))))","v":""},{"$f":"IF(ISNA(Lists!$J36),\"\",IF((INDIRECT(\"'\"&Lists!$J36&\"'!\"&Lists!$K36&L$23))=\"\",\"\",(INDIRECT(\"'\"&Lists!$J36&\"'!\"&Lists!$K36&L$23))))","v":""},{"$f":"IF(ISNA(Lists!$J36),\"\",IF((INDIRECT(\"'\"&Lists!$J36&\"'!\"&Lists!$K36&M$23))=\"\",\"\",(INDIRECT(\"'\"&Lists!$J36&\"'!\"&Lists!$K36&M$23))))","v":""},{"$f":"IF(ISNA(Lists!$J36),\"\",IF((INDIRECT(\"'\"&Lists!$J36&\"'!\"&Lists!$K36&N$23))=\"\",\"\",(INDIRECT(\"'\"&Lists!$J36&\"'!\"&Lists!$K36&N$23))))","v":""},{"$f":"IF(ISNA(Lists!$J36),\"\",IF((INDIRECT(\"'\"&Lists!$J36&\"'!\"&Lists!$K36&O$23))=\"\",\"\",(INDIRECT(\"'\"&Lists!$J36&\"'!\"&Lists!$K36&O$23))))","v":""},{"$f":"IF(ISNA(Lists!$J36),\"\",IF((INDIRECT(\"'\"&Lists!$J36&\"'!\"&Lists!$K36&P$23))=\"\",\"\",(INDIRECT(\"'\"&Lists!$J36&\"'!\"&Lists!$K36&P$23))))","v":""},{"$f":"IF(ISNA(Lists!$J36),\"\",IF((INDIRECT(\"'\"&Lists!$J36&\"'!\"&Lists!$K36&Q$23))=\"\",\"\",(INDIRECT(\"'\"&Lists!$J36&\"'!\"&Lists!$K36&Q$23))))","v":""},{"$f":"IF(ISNA(Lists!$J36),\"\",IF((INDIRECT(\"'\"&Lists!$J36&\"'!\"&Lists!$K36&R$23))=\"\",\"\",(INDIRECT(\"'\"&Lists!$J36&\"'!\"&Lists!$K36&R$23))))","v":""},{"$f":"IF(ISNA(Lists!$J36),\"\",IF((INDIRECT(\"'\"&Lists!$J36&\"'!\"&Lists!$K36&S$23))=\"\",\"\",(INDIRECT(\"'\"&Lists!$J36&\"'!\"&Lists!$K36&S$23))))","v":""},{"$f":"IF(ISNA(Lists!$J36),\"\",IF((INDIRECT(\"'\"&Lists!$J36&\"'!\"&Lists!$K36&T$23))=\"\",\"\",(INDIRECT(\"'\"&Lists!$J36&\"'!\"&Lists!$K36&T$23))))","v":""},{"$f":"IF(ISNA(Lists!$J36),\"\",IF((INDIRECT(\"'\"&Lists!$J36&\"'!\"&Lists!$K36&U$23))=\"\",\"\",(INDIRECT(\"'\"&Lists!$J36&\"'!\"&Lists!$K36&U$23))))","v":""},{"$f":"IF(ISNA(Lists!$J36),\"\",IF((INDIRECT(\"'\"&Lists!$J36&\"'!\"&Lists!$L36&V$23))=\"\",\"\",(INDIRECT(\"'\"&Lists!$J36&\"'!\"&Lists!$L36&V$23))))","v":""},{"$f":"IF(ISNA(Lists!$J36),\"\",IF((INDIRECT(\"'\"&Lists!$J36&\"'!\"&Lists!$L36&W$23))=\"\",\"\",(INDIRECT(\"'\"&Lists!$J36&\"'!\"&Lists!$L36&W$23))))","v":""},{"$f":"IF(ISNA(Lists!$J36),\"\",IF((INDIRECT(\"'\"&Lists!$J36&\"'!\"&Lists!$L36&X$23))=\"\",\"\",(INDIRECT(\"'\"&Lists!$J36&\"'!\"&Lists!$L36&X$23))))","v":""},{"$f":"IF(ISNA(Lists!$J36),\"\",IF((INDIRECT(\"'\"&Lists!$J36&\"'!\"&Lists!$L36&Y$23))=\"\",\"\",(INDIRECT(\"'\"&Lists!$J36&\"'!\"&Lists!$L36&Y$23))))","v":""},{"$f":"IF(ISNA(Lists!$J36),\"\",IF((INDIRECT(\"'\"&Lists!$J36&\"'!\"&Lists!$L36&Z$23))=\"\",\"\",(INDIRECT(\"'\"&Lists!$J36&\"'!\"&Lists!$L36&Z$23))))","v":""},{"$f":"IF(ISNA(Lists!$J36),\"\",IF((INDIRECT(\"'\"&Lists!$J36&\"'!\"&Lists!$L36&AA$23))=\"\",\"\",(INDIRECT(\"'\"&Lists!$J36&\"'!\"&Lists!$L36&AA$23))))","v":""},{"$f":"IF(ISNA(Lists!$J36),\"\",IF((INDIRECT(\"'\"&Lists!$J36&\"'!\"&Lists!$L36&AB$23))=\"\",\"\",(INDIRECT(\"'\"&Lists!$J36&\"'!\"&Lists!$L36&AB$23))))","v":""},{"$f":"IF(ISNA(Lists!$J36),\"\",IF((INDIRECT(\"'\"&Lists!$J36&\"'!\"&Lists!$K36&AC$23))=\"\",\"\",(INDIRECT(\"'\"&Lists!$J36&\"'!\"&Lists!$K36&AC$23))))","v":""},{"$f":"IF(ISNA(Lists!$J36),\"\",IF((INDIRECT(\"'\"&Lists!$J36&\"'!\"&Lists!$L36&AD$23))=\"\",\"\",(INDIRECT(\"'\"&Lists!$J36&\"'!\"&Lists!$L36&AD$23))))","v":""},{"$f":"IF(ISNA(Lists!$J36),\"\",IF((INDIRECT(\"'\"&Lists!$J36&\"'!\"&Lists!$K36&AE$23))=\"\",\"\",(INDIRECT(\"'\"&Lists!$J36&\"'!\"&Lists!$K36&AE$23))))","v":""},{"$f":"IF(ISNA(Lists!$J36),\"\",IF((INDIRECT(\"'\"&Lists!$J36&\"'!\"&Lists!$K36&AF$23))=\"\",\"\",(INDIRECT(\"'\"&Lists!$J36&\"'!\"&Lists!$K36&AF$23))))","v":""},{"$f":"IF(ISNA(Lists!$J36),\"\",IF((INDIRECT(\"'\"&Lists!$J36&\"'!\"&Lists!$K36&AG$23))=\"\",\"\",(INDIRECT(\"'\"&Lists!$J36&\"'!\"&Lists!$K36&AG$23))))","v":""},{"$f":"IF(ISNA(Lists!$J36),\"\",IF((INDIRECT(\"'\"&Lists!$J36&\"'!\"&Lists!$K36&AH$23))=\"\",\"\",(INDIRECT(\"'\"&Lists!$J36&\"'!\"&Lists!$K36&AH$23))))","v":""},{"$f":"IF(ISNA(Lists!$J36),\"\",IF((INDIRECT(\"'\"&Lists!$J36&\"'!\"&Lists!$K36&AI$23))=\"\",\"\",(INDIRECT(\"'\"&Lists!$J36&\"'!\"&Lists!$K36&AI$23))))","v":""},{"$f":"IF(ISNA(Lists!$J36),\"\",IF((INDIRECT(\"'\"&Lists!$J36&\"'!\"&Lists!$K36&AJ$23))=\"\",\"\",(INDIRECT(\"'\"&Lists!$J36&\"'!\"&Lists!$K36&AJ$23))))","v":""},{"$f":"IF(ISNA(Lists!$J36),\"\",IF((INDIRECT(\"'\"&Lists!$J36&\"'!\"&Lists!$K36&AK$23))=\"\",\"\",(INDIRECT(\"'\"&Lists!$J36&\"'!\"&Lists!$K36&AK$23))))","v":""},{"$f":"IF(ISNA(Lists!$J36),\"\",IF((INDIRECT(\"'\"&Lists!$J36&\"'!\"&Lists!$K36&AL$23))=\"\",\"\",(INDIRECT(\"'\"&Lists!$J36&\"'!\"&Lists!$K36&AL$23))))","v":""},{"$f":"IF(ISNA(Lists!$J36),\"\",IF((INDIRECT(\"'\"&Lists!$J36&\"'!\"&Lists!$K36&AM$23))=\"\",\"\",(INDIRECT(\"'\"&Lists!$J36&\"'!\"&Lists!$K36&AM$23))))","v":""},{"$f":"IF(ISNA(Lists!$J36),\"\",IF((INDIRECT(\"'\"&Lists!$J36&\"'!\"&Lists!$K36&AN$23))=\"\",\"\",(INDIRECT(\"'\"&Lists!$J36&\"'!\"&Lists!$K36&AN$23))))","v":""},{"$f":"IF(ISNA(Lists!$J36),\"\",IF((INDIRECT(\"'\"&Lists!$J36&\"'!\"&Lists!$K36&AO$23))=\"\",\"\",(INDIRECT(\"'\"&Lists!$J36&\"'!\"&Lists!$K36&AO$23))))","v":""}]
[null,{"$f":"IF(C59=\"\",\"\",Facility_Info_upload!$B$24)","v":""},{"$f":"IF(ISNA(Lists!$J37),\"\",IF(INDIRECT(\"'\"&Lists!$J37&\"'!\"&\"B\"&C$23)=\"\",\"\",(INDIRECT(\"'\"&Lists!$J37&\"'!\"&\"B\"&C$23))))","v":""},{"$f":"IF(ISNA(Lists!$J37),\"\",IF(INDIRECT(\"'\"&Lists!$J37&\"'!\"&\"B\"&D$23)=\"\",\"\",(INDIRECT(\"'\"&Lists!$J37&\"'!\"&\"B\"&D$23))))","v":""},{"$f":"IF(ISNA(Lists!$J37),\"\",IF(INDIRECT(\"'\"&Lists!$J37&\"'!\"&\"B\"&E$23)=\"\",\"\",(INDIRECT(\"'\"&Lists!$J37&\"'!\"&\"B\"&E$23))))","v":""},{"$f":"IF(ISNA(Lists!$J37),\"\",IF(INDIRECT(\"'\"&Lists!$J37&\"'!\"&\"B\"&F$23)=\"\",\"\",(INDIRECT(\"'\"&Lists!$J37&\"'!\"&\"B\"&F$23))))","v":""},{"$f":"IF(ISNA(Lists!$J37),\"\",IF(INDIRECT(\"'\"&Lists!$J37&\"'!\"&\"B\"&G$23)=\"\",\"\",(INDIRECT(\"'\"&Lists!$J37&\"'!\"&\"B\"&G$23))))","v":""},{"$f":"IF(ISNA(Lists!$J37),\"\",IF((INDIRECT(\"'\"&Lists!$J37&\"'!\"&Lists!$K37&H$23))=\"\",\"\",(INDIRECT(\"'\"&Lists!$J37&\"'!\"&Lists!$K37&H$23))))","v":""},{"$f":"IF(ISNA(Lists!$J37),\"\",IF((INDIRECT(\"'\"&Lists!$J37&\"'!\"&Lists!$K37&I$23))=\"\",\"\",(INDIRECT(\"'\"&Lists!$J37&\"'!\"&Lists!$K37&I$23))))","v":""},{"$f":"IF(ISNA(Lists!$J37),\"\",IF((INDIRECT(\"'\"&Lists!$J37&\"'!\"&Lists!$K37&J$23))=\"\",\"\",(INDIRECT(\"'\"&Lists!$J37&\"'!\"&Lists!$K37&J$23))))","v":""},{"$f":"IF(ISNA(Lists!$J37),\"\",IF((INDIRECT(\"'\"&Lists!$J37&\"'!\"&Lists!$K37&K$23))=\"\",\"\",(INDIRECT(\"'\"&Lists!$J37&\"'!\"&Lists!$K37&K$23))))","v":""},{"$f":"IF(ISNA(Lists!$J37),\"\",IF((INDIRECT(\"'\"&Lists!$J37&\"'!\"&Lists!$K37&L$23))=\"\",\"\",(INDIRECT(\"'\"&Lists!$J37&\"'!\"&Lists!$K37&L$23))))","v":""},{"$f":"IF(ISNA(Lists!$J37),\"\",IF((INDIRECT(\"'\"&Lists!$J37&\"'!\"&Lists!$K37&M$23))=\"\",\"\",(INDIRECT(\"'\"&Lists!$J37&\"'!\"&Lists!$K37&M$23))))","v":""},{"$f":"IF(ISNA(Lists!$J37),\"\",IF((INDIRECT(\"'\"&Lists!$J37&\"'!\"&Lists!$K37&N$23))=\"\",\"\",(INDIRECT(\"'\"&Lists!$J37&\"'!\"&Lists!$K37&N$23))))","v":""},{"$f":"IF(ISNA(Lists!$J37),\"\",IF((INDIRECT(\"'\"&Lists!$J37&\"'!\"&Lists!$K37&O$23))=\"\",\"\",(INDIRECT(\"'\"&Lists!$J37&\"'!\"&Lists!$K37&O$23))))","v":""},{"$f":"IF(ISNA(Lists!$J37),\"\",IF((INDIRECT(\"'\"&Lists!$J37&\"'!\"&Lists!$K37&P$23))=\"\",\"\",(INDIRECT(\"'\"&Lists!$J37&\"'!\"&Lists!$K37&P$23))))","v":""},{"$f":"IF(ISNA(Lists!$J37),\"\",IF((INDIRECT(\"'\"&Lists!$J37&\"'!\"&Lists!$K37&Q$23))=\"\",\"\",(INDIRECT(\"'\"&Lists!$J37&\"'!\"&Lists!$K37&Q$23))))","v":""},{"$f":"IF(ISNA(Lists!$J37),\"\",IF((INDIRECT(\"'\"&Lists!$J37&\"'!\"&Lists!$K37&R$23))=\"\",\"\",(INDIRECT(\"'\"&Lists!$J37&\"'!\"&Lists!$K37&R$23))))","v":""},{"$f":"IF(ISNA(Lists!$J37),\"\",IF((INDIRECT(\"'\"&Lists!$J37&\"'!\"&Lists!$K37&S$23))=\"\",\"\",(INDIRECT(\"'\"&Lists!$J37&\"'!\"&Lists!$K37&S$23))))","v":""},{"$f":"IF(ISNA(Lists!$J37),\"\",IF((INDIRECT(\"'\"&Lists!$J37&\"'!\"&Lists!$K37&T$23))=\"\",\"\",(INDIRECT(\"'\"&Lists!$J37&\"'!\"&Lists!$K37&T$23))))","v":""},{"$f":"IF(ISNA(Lists!$J37),\"\",IF((INDIRECT(\"'\"&Lists!$J37&\"'!\"&Lists!$K37&U$23))=\"\",\"\",(INDIRECT(\"'\"&Lists!$J37&\"'!\"&Lists!$K37&U$23))))","v":""},{"$f":"IF(ISNA(Lists!$J37),\"\",IF((INDIRECT(\"'\"&Lists!$J37&\"'!\"&Lists!$L37&V$23))=\"\",\"\",(INDIRECT(\"'\"&Lists!$J37&\"'!\"&Lists!$L37&V$23))))","v":""},{"$f":"IF(ISNA(Lists!$J37),\"\",IF((INDIRECT(\"'\"&Lists!$J37&\"'!\"&Lists!$L37&W$23))=\"\",\"\",(INDIRECT(\"'\"&Lists!$J37&\"'!\"&Lists!$L37&W$23))))","v":""},{"$f":"IF(ISNA(Lists!$J37),\"\",IF((INDIRECT(\"'\"&Lists!$J37&\"'!\"&Lists!$L37&X$23))=\"\",\"\",(INDIRECT(\"'\"&Lists!$J37&\"'!\"&Lists!$L37&X$23))))","v":""},{"$f":"IF(ISNA(Lists!$J37),\"\",IF((INDIRECT(\"'\"&Lists!$J37&\"'!\"&Lists!$L37&Y$23))=\"\",\"\",(INDIRECT(\"'\"&Lists!$J37&\"'!\"&Lists!$L37&Y$23))))","v":""},{"$f":"IF(ISNA(Lists!$J37),\"\",IF((INDIRECT(\"'\"&Lists!$J37&\"'!\"&Lists!$L37&Z$23))=\"\",\"\",(INDIRECT(\"'\"&Lists!$J37&\"'!\"&Lists!$L37&Z$23))))","v":""},{"$f":"IF(ISNA(Lists!$J37),\"\",IF((INDIRECT(\"'\"&Lists!$J37&\"'!\"&Lists!$L37&AA$23))=\"\",\"\",(INDIRECT(\"'\"&Lists!$J37&\"'!\"&Lists!$L37&AA$23))))","v":""},{"$f":"IF(ISNA(Lists!$J37),\"\",IF((INDIRECT(\"'\"&Lists!$J37&\"'!\"&Lists!$L37&AB$23))=\"\",\"\",(INDIRECT(\"'\"&Lists!$J37&\"'!\"&Lists!$L37&AB$23))))","v":""},{"$f":"IF(ISNA(Lists!$J37),\"\",IF((INDIRECT(\"'\"&Lists!$J37&\"'!\"&Lists!$K37&AC$23))=\"\",\"\",(INDIRECT(\"'\"&Lists!$J37&\"'!\"&Lists!$K37&AC$23))))","v":""},{"$f":"IF(ISNA(Lists!$J37),\"\",IF((INDIRECT(\"'\"&Lists!$J37&\"'!\"&Lists!$L37&AD$23))=\"\",\"\",(INDIRECT(\"'\"&Lists!$J37&\"'!\"&Lists!$L37&AD$23))))","v":""},{"$f":"IF(ISNA(Lists!$J37),\"\",IF((INDIRECT(\"'\"&Lists!$J37&\"'!\"&Lists!$K37&AE$23))=\"\",\"\",(INDIRECT(\"'\"&Lists!$J37&\"'!\"&Lists!$K37&AE$23))))","v":""},{"$f":"IF(ISNA(Lists!$J37),\"\",IF((INDIRECT(\"'\"&Lists!$J37&\"'!\"&Lists!$K37&AF$23))=\"\",\"\",(INDIRECT(\"'\"&Lists!$J37&\"'!\"&Lists!$K37&AF$23))))","v":""},{"$f":"IF(ISNA(Lists!$J37),\"\",IF((INDIRECT(\"'\"&Lists!$J37&\"'!\"&Lists!$K37&AG$23))=\"\",\"\",(INDIRECT(\"'\"&Lists!$J37&\"'!\"&Lists!$K37&AG$23))))","v":""},{"$f":"IF(ISNA(Lists!$J37),\"\",IF((INDIRECT(\"'\"&Lists!$J37&\"'!\"&Lists!$K37&AH$23))=\"\",\"\",(INDIRECT(\"'\"&Lists!$J37&\"'!\"&Lists!$K37&AH$23))))","v":""},{"$f":"IF(ISNA(Lists!$J37),\"\",IF((INDIRECT(\"'\"&Lists!$J37&\"'!\"&Lists!$K37&AI$23))=\"\",\"\",(INDIRECT(\"'\"&Lists!$J37&\"'!\"&Lists!$K37&AI$23))))","v":""},{"$f":"IF(ISNA(Lists!$J37),\"\",IF((INDIRECT(\"'\"&Lists!$J37&\"'!\"&Lists!$K37&AJ$23))=\"\",\"\",(INDIRECT(\"'\"&Lists!$J37&\"'!\"&Lists!$K37&AJ$23))))","v":""},{"$f":"IF(ISNA(Lists!$J37),\"\",IF((INDIRECT(\"'\"&Lists!$J37&\"'!\"&Lists!$K37&AK$23))=\"\",\"\",(INDIRECT(\"'\"&Lists!$J37&\"'!\"&Lists!$K37&AK$23))))","v":""},{"$f":"IF(ISNA(Lists!$J37),\"\",IF((INDIRECT(\"'\"&Lists!$J37&\"'!\"&Lists!$K37&AL$23))=\"\",\"\",(INDIRECT(\"'\"&Lists!$J37&\"'!\"&Lists!$K37&AL$23))))","v":""},{"$f":"IF(ISNA(Lists!$J37),\"\",IF((INDIRECT(\"'\"&Lists!$J37&\"'!\"&Lists!$K37&AM$23))=\"\",\"\",(INDIRECT(\"'\"&Lists!$J37&\"'!\"&Lists!$K37&AM$23))))","v":""},{"$f":"IF(ISNA(Lists!$J37),\"\",IF((INDIRECT(\"'\"&Lists!$J37&\"'!\"&Lists!$K37&AN$23))=\"\",\"\",(INDIRECT(\"'\"&Lists!$J37&\"'!\"&Lists!$K37&AN$23))))","v":""},{"$f":"IF(ISNA(Lists!$J37),\"\",IF((INDIRECT(\"'\"&Lists!$J37&\"'!\"&Lists!$K37&AO$23))=\"\",\"\",(INDIRECT(\"'\"&Lists!$J37&\"'!\"&Lists!$K37&AO$23))))","v":""}]
[null,{"$f":"IF(C60=\"\",\"\",Facility_Info_upload!$B$24)","v":""},{"$f":"IF(ISNA(Lists!$J38),\"\",IF(INDIRECT(\"'\"&Lists!$J38&\"'!\"&\"B\"&C$23)=\"\",\"\",(INDIRECT(\"'\"&Lists!$J38&\"'!\"&\"B\"&C$23))))","v":""},{"$f":"IF(ISNA(Lists!$J38),\"\",IF(INDIRECT(\"'\"&Lists!$J38&\"'!\"&\"B\"&D$23)=\"\",\"\",(INDIRECT(\"'\"&Lists!$J38&\"'!\"&\"B\"&D$23))))","v":""},{"$f":"IF(ISNA(Lists!$J38),\"\",IF(INDIRECT(\"'\"&Lists!$J38&\"'!\"&\"B\"&E$23)=\"\",\"\",(INDIRECT(\"'\"&Lists!$J38&\"'!\"&\"B\"&E$23))))","v":""},{"$f":"IF(ISNA(Lists!$J38),\"\",IF(INDIRECT(\"'\"&Lists!$J38&\"'!\"&\"B\"&F$23)=\"\",\"\",(INDIRECT(\"'\"&Lists!$J38&\"'!\"&\"B\"&F$23))))","v":""},{"$f":"IF(ISNA(Lists!$J38),\"\",IF(INDIRECT(\"'\"&Lists!$J38&\"'!\"&\"B\"&G$23)=\"\",\"\",(INDIRECT(\"'\"&Lists!$J38&\"'!\"&\"B\"&G$23))))","v":""},{"$f":"IF(ISNA(Lists!$J38),\"\",IF((INDIRECT(\"'\"&Lists!$J38&\"'!\"&Lists!$K38&H$23))=\"\",\"\",(INDIRECT(\"'\"&Lists!$J38&\"'!\"&Lists!$K38&H$23))))","v":""},{"$f":"IF(ISNA(Lists!$J38),\"\",IF((INDIRECT(\"'\"&Lists!$J38&\"'!\"&Lists!$K38&I$23))=\"\",\"\",(INDIRECT(\"'\"&Lists!$J38&\"'!\"&Lists!$K38&I$23))))","v":""},{"$f":"IF(ISNA(Lists!$J38),\"\",IF((INDIRECT(\"'\"&Lists!$J38&\"'!\"&Lists!$K38&J$23))=\"\",\"\",(INDIRECT(\"'\"&Lists!$J38&\"'!\"&Lists!$K38&J$23))))","v":""},{"$f":"IF(ISNA(Lists!$J38),\"\",IF((INDIRECT(\"'\"&Lists!$J38&\"'!\"&Lists!$K38&K$23))=\"\",\"\",(INDIRECT(\"'\"&Lists!$J38&\"'!\"&Lists!$K38&K$23))))","v":""},{"$f":"IF(ISNA(Lists!$J38),\"\",IF((INDIRECT(\"'\"&Lists!$J38&\"'!\"&Lists!$K38&L$23))=\"\",\"\",(INDIRECT(\"'\"&Lists!$J38&\"'!\"&Lists!$K38&L$23))))","v":""},{"$f":"IF(ISNA(Lists!$J38),\"\",IF((INDIRECT(\"'\"&Lists!$J38&\"'!\"&Lists!$K38&M$23))=\"\",\"\",(INDIRECT(\"'\"&Lists!$J38&\"'!\"&Lists!$K38&M$23))))","v":""},{"$f":"IF(ISNA(Lists!$J38),\"\",IF((INDIRECT(\"'\"&Lists!$J38&\"'!\"&Lists!$K38&N$23))=\"\",\"\",(INDIRECT(\"'\"&Lists!$J38&\"'!\"&Lists!$K38&N$23))))","v":""},{"$f":"IF(ISNA(Lists!$J38),\"\",IF((INDIRECT(\"'\"&Lists!$J38&\"'!\"&Lists!$K38&O$23))=\"\",\"\",(INDIRECT(\"'\"&Lists!$J38&\"'!\"&Lists!$K38&O$23))))","v":""},{"$f":"IF(ISNA(Lists!$J38),\"\",IF((INDIRECT(\"'\"&Lists!$J38&\"'!\"&Lists!$K38&P$23))=\"\",\"\",(INDIRECT(\"'\"&Lists!$J38&\"'!\"&Lists!$K38&P$23))))","v":""},{"$f":"IF(ISNA(Lists!$J38),\"\",IF((INDIRECT(\"'\"&Lists!$J38&\"'!\"&Lists!$K38&Q$23))=\"\",\"\",(INDIRECT(\"'\"&Lists!$J38&\"'!\"&Lists!$K38&Q$23))))","v":""},{"$f":"IF(ISNA(Lists!$J38),\"\",IF((INDIRECT(\"'\"&Lists!$J38&\"'!\"&Lists!$K38&R$23))=\"\",\"\",(INDIRECT(\"'\"&Lists!$J38&\"'!\"&Lists!$K38&R$23))))","v":""},{"$f":"IF(ISNA(Lists!$J38),\"\",IF((INDIRECT(\"'\"&Lists!$J38&\"'!\"&Lists!$K38&S$23))=\"\",\"\",(INDIRECT(\"'\"&Lists!$J38&\"'!\"&Lists!$K38&S$23))))","v":""},{"$f":"IF(ISNA(Lists!$J38),\"\",IF((INDIRECT(\"'\"&Lists!$J38&\"'!\"&Lists!$K38&T$23))=\"\",\"\",(INDIRECT(\"'\"&Lists!$J38&\"'!\"&Lists!$K38&T$23))))","v":""},{"$f":"IF(ISNA(Lists!$J38),\"\",IF((INDIRECT(\"'\"&Lists!$J38&\"'!\"&Lists!$K38&U$23))=\"\",\"\",(INDIRECT(\"'\"&Lists!$J38&\"'!\"&Lists!$K38&U$23))))","v":""},{"$f":"IF(ISNA(Lists!$J38),\"\",IF((INDIRECT(\"'\"&Lists!$J38&\"'!\"&Lists!$L38&V$23))=\"\",\"\",(INDIRECT(\"'\"&Lists!$J38&\"'!\"&Lists!$L38&V$23))))","v":""},{"$f":"IF(ISNA(Lists!$J38),\"\",IF((INDIRECT(\"'\"&Lists!$J38&\"'!\"&Lists!$L38&W$23))=\"\",\"\",(INDIRECT(\"'\"&Lists!$J38&\"'!\"&Lists!$L38&W$23))))","v":""},{"$f":"IF(ISNA(Lists!$J38),\"\",IF((INDIRECT(\"'\"&Lists!$J38&\"'!\"&Lists!$L38&X$23))=\"\",\"\",(INDIRECT(\"'\"&Lists!$J38&\"'!\"&Lists!$L38&X$23))))","v":""},{"$f":"IF(ISNA(Lists!$J38),\"\",IF((INDIRECT(\"'\"&Lists!$J38&\"'!\"&Lists!$L38&Y$23))=\"\",\"\",(INDIRECT(\"'\"&Lists!$J38&\"'!\"&Lists!$L38&Y$23))))","v":""},{"$f":"IF(ISNA(Lists!$J38),\"\",IF((INDIRECT(\"'\"&Lists!$J38&\"'!\"&Lists!$L38&Z$23))=\"\",\"\",(INDIRECT(\"'\"&Lists!$J38&\"'!\"&Lists!$L38&Z$23))))","v":""},{"$f":"IF(ISNA(Lists!$J38),\"\",IF((INDIRECT(\"'\"&Lists!$J38&\"'!\"&Lists!$L38&AA$23))=\"\",\"\",(INDIRECT(\"'\"&Lists!$J38&\"'!\"&Lists!$L38&AA$23))))","v":""},{"$f":"IF(ISNA(Lists!$J38),\"\",IF((INDIRECT(\"'\"&Lists!$J38&\"'!\"&Lists!$L38&AB$23))=\"\",\"\",(INDIRECT(\"'\"&Lists!$J38&\"'!\"&Lists!$L38&AB$23))))","v":""},{"$f":"IF(ISNA(Lists!$J38),\"\",IF((INDIRECT(\"'\"&Lists!$J38&\"'!\"&Lists!$K38&AC$23))=\"\",\"\",(INDIRECT(\"'\"&Lists!$J38&\"'!\"&Lists!$K38&AC$23))))","v":""},{"$f":"IF(ISNA(Lists!$J38),\"\",IF((INDIRECT(\"'\"&Lists!$J38&\"'!\"&Lists!$L38&AD$23))=\"\",\"\",(INDIRECT(\"'\"&Lists!$J38&\"'!\"&Lists!$L38&AD$23))))","v":""},{"$f":"IF(ISNA(Lists!$J38),\"\",IF((INDIRECT(\"'\"&Lists!$J38&\"'!\"&Lists!$K38&AE$23))=\"\",\"\",(INDIRECT(\"'\"&Lists!$J38&\"'!\"&Lists!$K38&AE$23))))","v":""},{"$f":"IF(ISNA(Lists!$J38),\"\",IF((INDIRECT(\"'\"&Lists!$J38&\"'!\"&Lists!$K38&AF$23))=\"\",\"\",(INDIRECT(\"'\"&Lists!$J38&\"'!\"&Lists!$K38&AF$23))))","v":""},{"$f":"IF(ISNA(Lists!$J38),\"\",IF((INDIRECT(\"'\"&Lists!$J38&\"'!\"&Lists!$K38&AG$23))=\"\",\"\",(INDIRECT(\"'\"&Lists!$J38&\"'!\"&Lists!$K38&AG$23))))","v":""},{"$f":"IF(ISNA(Lists!$J38),\"\",IF((INDIRECT(\"'\"&Lists!$J38&\"'!\"&Lists!$K38&AH$23))=\"\",\"\",(INDIRECT(\"'\"&Lists!$J38&\"'!\"&Lists!$K38&AH$23))))","v":""},{"$f":"IF(ISNA(Lists!$J38),\"\",IF((INDIRECT(\"'\"&Lists!$J38&\"'!\"&Lists!$K38&AI$23))=\"\",\"\",(INDIRECT(\"'\"&Lists!$J38&\"'!\"&Lists!$K38&AI$23))))","v":""},{"$f":"IF(ISNA(Lists!$J38),\"\",IF((INDIRECT(\"'\"&Lists!$J38&\"'!\"&Lists!$K38&AJ$23))=\"\",\"\",(INDIRECT(\"'\"&Lists!$J38&\"'!\"&Lists!$K38&AJ$23))))","v":""},{"$f":"IF(ISNA(Lists!$J38),\"\",IF((INDIRECT(\"'\"&Lists!$J38&\"'!\"&Lists!$K38&AK$23))=\"\",\"\",(INDIRECT(\"'\"&Lists!$J38&\"'!\"&Lists!$K38&AK$23))))","v":""},{"$f":"IF(ISNA(Lists!$J38),\"\",IF((INDIRECT(\"'\"&Lists!$J38&\"'!\"&Lists!$K38&AL$23))=\"\",\"\",(INDIRECT(\"'\"&Lists!$J38&\"'!\"&Lists!$K38&AL$23))))","v":""},{"$f":"IF(ISNA(Lists!$J38),\"\",IF((INDIRECT(\"'\"&Lists!$J38&\"'!\"&Lists!$K38&AM$23))=\"\",\"\",(INDIRECT(\"'\"&Lists!$J38&\"'!\"&Lists!$K38&AM$23))))","v":""},{"$f":"IF(ISNA(Lists!$J38),\"\",IF((INDIRECT(\"'\"&Lists!$J38&\"'!\"&Lists!$K38&AN$23))=\"\",\"\",(INDIRECT(\"'\"&Lists!$J38&\"'!\"&Lists!$K38&AN$23))))","v":""},{"$f":"IF(ISNA(Lists!$J38),\"\",IF((INDIRECT(\"'\"&Lists!$J38&\"'!\"&Lists!$K38&AO$23))=\"\",\"\",(INDIRECT(\"'\"&Lists!$J38&\"'!\"&Lists!$K38&AO$23))))","v":""}]
[null,{"$f":"IF(C61=\"\",\"\",Facility_Info_upload!$B$24)","v":""},{"$f":"IF(ISNA(Lists!$J39),\"\",IF(INDIRECT(\"'\"&Lists!$J39&\"'!\"&\"B\"&C$23)=\"\",\"\",(INDIRECT(\"'\"&Lists!$J39&\"'!\"&\"B\"&C$23))))","v":""},{"$f":"IF(ISNA(Lists!$J39),\"\",IF(INDIRECT(\"'\"&Lists!$J39&\"'!\"&\"B\"&D$23)=\"\",\"\",(INDIRECT(\"'\"&Lists!$J39&\"'!\"&\"B\"&D$23))))","v":""},{"$f":"IF(ISNA(Lists!$J39),\"\",IF(INDIRECT(\"'\"&Lists!$J39&\"'!\"&\"B\"&E$23)=\"\",\"\",(INDIRECT(\"'\"&Lists!$J39&\"'!\"&\"B\"&E$23))))","v":""},{"$f":"IF(ISNA(Lists!$J39),\"\",IF(INDIRECT(\"'\"&Lists!$J39&\"'!\"&\"B\"&F$23)=\"\",\"\",(INDIRECT(\"'\"&Lists!$J39&\"'!\"&\"B\"&F$23))))","v":""},{"$f":"IF(ISNA(Lists!$J39),\"\",IF(INDIRECT(\"'\"&Lists!$J39&\"'!\"&\"B\"&G$23)=\"\",\"\",(INDIRECT(\"'\"&Lists!$J39&\"'!\"&\"B\"&G$23))))","v":""},{"$f":"IF(ISNA(Lists!$J39),\"\",IF((INDIRECT(\"'\"&Lists!$J39&\"'!\"&Lists!$K39&H$23))=\"\",\"\",(INDIRECT(\"'\"&Lists!$J39&\"'!\"&Lists!$K39&H$23))))","v":""},{"$f":"IF(ISNA(Lists!$J39),\"\",IF((INDIRECT(\"'\"&Lists!$J39&\"'!\"&Lists!$K39&I$23))=\"\",\"\",(INDIRECT(\"'\"&Lists!$J39&\"'!\"&Lists!$K39&I$23))))","v":""},{"$f":"IF(ISNA(Lists!$J39),\"\",IF((INDIRECT(\"'\"&Lists!$J39&\"'!\"&Lists!$K39&J$23))=\"\",\"\",(INDIRECT(\"'\"&Lists!$J39&\"'!\"&Lists!$K39&J$23))))","v":""},{"$f":"IF(ISNA(Lists!$J39),\"\",IF((INDIRECT(\"'\"&Lists!$J39&\"'!\"&Lists!$K39&K$23))=\"\",\"\",(INDIRECT(\"'\"&Lists!$J39&\"'!\"&Lists!$K39&K$23))))","v":""},{"$f":"IF(ISNA(Lists!$J39),\"\",IF((INDIRECT(\"'\"&Lists!$J39&\"'!\"&Lists!$K39&L$23))=\"\",\"\",(INDIRECT(\"'\"&Lists!$J39&\"'!\"&Lists!$K39&L$23))))","v":""},{"$f":"IF(ISNA(Lists!$J39),\"\",IF((INDIRECT(\"'\"&Lists!$J39&\"'!\"&Lists!$K39&M$23))=\"\",\"\",(INDIRECT(\"'\"&Lists!$J39&\"'!\"&Lists!$K39&M$23))))","v":""},{"$f":"IF(ISNA(Lists!$J39),\"\",IF((INDIRECT(\"'\"&Lists!$J39&\"'!\"&Lists!$K39&N$23))=\"\",\"\",(INDIRECT(\"'\"&Lists!$J39&\"'!\"&Lists!$K39&N$23))))","v":""},{"$f":"IF(ISNA(Lists!$J39),\"\",IF((INDIRECT(\"'\"&Lists!$J39&\"'!\"&Lists!$K39&O$23))=\"\",\"\",(INDIRECT(\"'\"&Lists!$J39&\"'!\"&Lists!$K39&O$23))))","v":""},{"$f":"IF(ISNA(Lists!$J39),\"\",IF((INDIRECT(\"'\"&Lists!$J39&\"'!\"&Lists!$K39&P$23))=\"\",\"\",(INDIRECT(\"'\"&Lists!$J39&\"'!\"&Lists!$K39&P$23))))","v":""},{"$f":"IF(ISNA(Lists!$J39),\"\",IF((INDIRECT(\"'\"&Lists!$J39&\"'!\"&Lists!$K39&Q$23))=\"\",\"\",(INDIRECT(\"'\"&Lists!$J39&\"'!\"&Lists!$K39&Q$23))))","v":""},{"$f":"IF(ISNA(Lists!$J39),\"\",IF((INDIRECT(\"'\"&Lists!$J39&\"'!\"&Lists!$K39&R$23))=\"\",\"\",(INDIRECT(\"'\"&Lists!$J39&\"'!\"&Lists!$K39&R$23))))","v":""},{"$f":"IF(ISNA(Lists!$J39),\"\",IF((INDIRECT(\"'\"&Lists!$J39&\"'!\"&Lists!$K39&S$23))=\"\",\"\",(INDIRECT(\"'\"&Lists!$J39&\"'!\"&Lists!$K39&S$23))))","v":""},{"$f":"IF(ISNA(Lists!$J39),\"\",IF((INDIRECT(\"'\"&Lists!$J39&\"'!\"&Lists!$K39&T$23))=\"\",\"\",(INDIRECT(\"'\"&Lists!$J39&\"'!\"&Lists!$K39&T$23))))","v":""},{"$f":"IF(ISNA(Lists!$J39),\"\",IF((INDIRECT(\"'\"&Lists!$J39&\"'!\"&Lists!$K39&U$23))=\"\",\"\",(INDIRECT(\"'\"&Lists!$J39&\"'!\"&Lists!$K39&U$23))))","v":""},{"$f":"IF(ISNA(Lists!$J39),\"\",IF((INDIRECT(\"'\"&Lists!$J39&\"'!\"&Lists!$L39&V$23))=\"\",\"\",(INDIRECT(\"'\"&Lists!$J39&\"'!\"&Lists!$L39&V$23))))","v":""},{"$f":"IF(ISNA(Lists!$J39),\"\",IF((INDIRECT(\"'\"&Lists!$J39&\"'!\"&Lists!$L39&W$23))=\"\",\"\",(INDIRECT(\"'\"&Lists!$J39&\"'!\"&Lists!$L39&W$23))))","v":""},{"$f":"IF(ISNA(Lists!$J39),\"\",IF((INDIRECT(\"'\"&Lists!$J39&\"'!\"&Lists!$L39&X$23))=\"\",\"\",(INDIRECT(\"'\"&Lists!$J39&\"'!\"&Lists!$L39&X$23))))","v":""},{"$f":"IF(ISNA(Lists!$J39),\"\",IF((INDIRECT(\"'\"&Lists!$J39&\"'!\"&Lists!$L39&Y$23))=\"\",\"\",(INDIRECT(\"'\"&Lists!$J39&\"'!\"&Lists!$L39&Y$23))))","v":""},{"$f":"IF(ISNA(Lists!$J39),\"\",IF((INDIRECT(\"'\"&Lists!$J39&\"'!\"&Lists!$L39&Z$23))=\"\",\"\",(INDIRECT(\"'\"&Lists!$J39&\"'!\"&Lists!$L39&Z$23))))","v":""},{"$f":"IF(ISNA(Lists!$J39),\"\",IF((INDIRECT(\"'\"&Lists!$J39&\"'!\"&Lists!$L39&AA$23))=\"\",\"\",(INDIRECT(\"'\"&Lists!$J39&\"'!\"&Lists!$L39&AA$23))))","v":""},{"$f":"IF(ISNA(Lists!$J39),\"\",IF((INDIRECT(\"'\"&Lists!$J39&\"'!\"&Lists!$L39&AB$23))=\"\",\"\",(INDIRECT(\"'\"&Lists!$J39&\"'!\"&Lists!$L39&AB$23))))","v":""},{"$f":"IF(ISNA(Lists!$J39),\"\",IF((INDIRECT(\"'\"&Lists!$J39&\"'!\"&Lists!$K39&AC$23))=\"\",\"\",(INDIRECT(\"'\"&Lists!$J39&\"'!\"&Lists!$K39&AC$23))))","v":""},{"$f":"IF(ISNA(Lists!$J39),\"\",IF((INDIRECT(\"'\"&Lists!$J39&\"'!\"&Lists!$L39&AD$23))=\"\",\"\",(INDIRECT(\"'\"&Lists!$J39&\"'!\"&Lists!$L39&AD$23))))","v":""},{"$f":"IF(ISNA(Lists!$J39),\"\",IF((INDIRECT(\"'\"&Lists!$J39&\"'!\"&Lists!$K39&AE$23))=\"\",\"\",(INDIRECT(\"'\"&Lists!$J39&\"'!\"&Lists!$K39&AE$23))))","v":""},{"$f":"IF(ISNA(Lists!$J39),\"\",IF((INDIRECT(\"'\"&Lists!$J39&\"'!\"&Lists!$K39&AF$23))=\"\",\"\",(INDIRECT(\"'\"&Lists!$J39&\"'!\"&Lists!$K39&AF$23))))","v":""},{"$f":"IF(ISNA(Lists!$J39),\"\",IF((INDIRECT(\"'\"&Lists!$J39&\"'!\"&Lists!$K39&AG$23))=\"\",\"\",(INDIRECT(\"'\"&Lists!$J39&\"'!\"&Lists!$K39&AG$23))))","v":""},{"$f":"IF(ISNA(Lists!$J39),\"\",IF((INDIRECT(\"'\"&Lists!$J39&\"'!\"&Lists!$K39&AH$23))=\"\",\"\",(INDIRECT(\"'\"&Lists!$J39&\"'!\"&Lists!$K39&AH$23))))","v":""},{"$f":"IF(ISNA(Lists!$J39),\"\",IF((INDIRECT(\"'\"&Lists!$J39&\"'!\"&Lists!$K39&AI$23))=\"\",\"\",(INDIRECT(\"'\"&Lists!$J39&\"'!\"&Lists!$K39&AI$23))))","v":""},{"$f":"IF(ISNA(Lists!$J39),\"\",IF((INDIRECT(\"'\"&Lists!$J39&\"'!\"&Lists!$K39&AJ$23))=\"\",\"\",(INDIRECT(\"'\"&Lists!$J39&\"'!\"&Lists!$K39&AJ$23))))","v":""},{"$f":"IF(ISNA(Lists!$J39),\"\",IF((INDIRECT(\"'\"&Lists!$J39&\"'!\"&Lists!$K39&AK$23))=\"\",\"\",(INDIRECT(\"'\"&Lists!$J39&\"'!\"&Lists!$K39&AK$23))))","v":""},{"$f":"IF(ISNA(Lists!$J39),\"\",IF((INDIRECT(\"'\"&Lists!$J39&\"'!\"&Lists!$K39&AL$23))=\"\",\"\",(INDIRECT(\"'\"&Lists!$J39&\"'!\"&Lists!$K39&AL$23))))","v":""},{"$f":"IF(ISNA(Lists!$J39),\"\",IF((INDIRECT(\"'\"&Lists!$J39&\"'!\"&Lists!$K39&AM$23))=\"\",\"\",(INDIRECT(\"'\"&Lists!$J39&\"'!\"&Lists!$K39&AM$23))))","v":""},{"$f":"IF(ISNA(Lists!$J39),\"\",IF((INDIRECT(\"'\"&Lists!$J39&\"'!\"&Lists!$K39&AN$23))=\"\",\"\",(INDIRECT(\"'\"&Lists!$J39&\"'!\"&Lists!$K39&AN$23))))","v":""},{"$f":"IF(ISNA(Lists!$J39),\"\",IF((INDIRECT(\"'\"&Lists!$J39&\"'!\"&Lists!$K39&AO$23))=\"\",\"\",(INDIRECT(\"'\"&Lists!$J39&\"'!\"&Lists!$K39&AO$23))))","v":""}]
[null,{"$f":"IF(C62=\"\",\"\",Facility_Info_upload!$B$24)","v":""},{"$f":"IF(ISNA(Lists!$J40),\"\",IF(INDIRECT(\"'\"&Lists!$J40&\"'!\"&\"B\"&C$23)=\"\",\"\",(INDIRECT(\"'\"&Lists!$J40&\"'!\"&\"B\"&C$23))))","v":""},{"$f":"IF(ISNA(Lists!$J40),\"\",IF(INDIRECT(\"'\"&Lists!$J40&\"'!\"&\"B\"&D$23)=\"\",\"\",(INDIRECT(\"'\"&Lists!$J40&\"'!\"&\"B\"&D$23))))","v":""},{"$f":"IF(ISNA(Lists!$J40),\"\",IF(INDIRECT(\"'\"&Lists!$J40&\"'!\"&\"B\"&E$23)=\"\",\"\",(INDIRECT(\"'\"&Lists!$J40&\"'!\"&\"B\"&E$23))))","v":""},{"$f":"IF(ISNA(Lists!$J40),\"\",IF(INDIRECT(\"'\"&Lists!$J40&\"'!\"&\"B\"&F$23)=\"\",\"\",(INDIRECT(\"'\"&Lists!$J40&\"'!\"&\"B\"&F$23))))","v":""},{"$f":"IF(ISNA(Lists!$J40),\"\",IF(INDIRECT(\"'\"&Lists!$J40&\"'!\"&\"B\"&G$23)=\"\",\"\",(INDIRECT(\"'\"&Lists!$J40&\"'!\"&\"B\"&G$23))))","v":""},{"$f":"IF(ISNA(Lists!$J40),\"\",IF((INDIRECT(\"'\"&Lists!$J40&\"'!\"&Lists!$K40&H$23))=\"\",\"\",(INDIRECT(\"'\"&Lists!$J40&\"'!\"&Lists!$K40&H$23))))","v":""},{"$f":"IF(ISNA(Lists!$J40),\"\",IF((INDIRECT(\"'\"&Lists!$J40&\"'!\"&Lists!$K40&I$23))=\"\",\"\",(INDIRECT(\"'\"&Lists!$J40&\"'!\"&Lists!$K40&I$23))))","v":""},{"$f":"IF(ISNA(Lists!$J40),\"\",IF((INDIRECT(\"'\"&Lists!$J40&\"'!\"&Lists!$K40&J$23))=\"\",\"\",(INDIRECT(\"'\"&Lists!$J40&\"'!\"&Lists!$K40&J$23))))","v":""},{"$f":"IF(ISNA(Lists!$J40),\"\",IF((INDIRECT(\"'\"&Lists!$J40&\"'!\"&Lists!$K40&K$23))=\"\",\"\",(INDIRECT(\"'\"&Lists!$J40&\"'!\"&Lists!$K40&K$23))))","v":""},{"$f":"IF(ISNA(Lists!$J40),\"\",IF((INDIRECT(\"'\"&Lists!$J40&\"'!\"&Lists!$K40&L$23))=\"\",\"\",(INDIRECT(\"'\"&Lists!$J40&\"'!\"&Lists!$K40&L$23))))","v":""},{"$f":"IF(ISNA(Lists!$J40),\"\",IF((INDIRECT(\"'\"&Lists!$J40&\"'!\"&Lists!$K40&M$23))=\"\",\"\",(INDIRECT(\"'\"&Lists!$J40&\"'!\"&Lists!$K40&M$23))))","v":""},{"$f":"IF(ISNA(Lists!$J40),\"\",IF((INDIRECT(\"'\"&Lists!$J40&\"'!\"&Lists!$K40&N$23))=\"\",\"\",(INDIRECT(\"'\"&Lists!$J40&\"'!\"&Lists!$K40&N$23))))","v":""},{"$f":"IF(ISNA(Lists!$J40),\"\",IF((INDIRECT(\"'\"&Lists!$J40&\"'!\"&Lists!$K40&O$23))=\"\",\"\",(INDIRECT(\"'\"&Lists!$J40&\"'!\"&Lists!$K40&O$23))))","v":""},{"$f":"IF(ISNA(Lists!$J40),\"\",IF((INDIRECT(\"'\"&Lists!$J40&\"'!\"&Lists!$K40&P$23))=\"\",\"\",(INDIRECT(\"'\"&Lists!$J40&\"'!\"&Lists!$K40&P$23))))","v":""},{"$f":"IF(ISNA(Lists!$J40),\"\",IF((INDIRECT(\"'\"&Lists!$J40&\"'!\"&Lists!$K40&Q$23))=\"\",\"\",(INDIRECT(\"'\"&Lists!$J40&\"'!\"&Lists!$K40&Q$23))))","v":""},{"$f":"IF(ISNA(Lists!$J40),\"\",IF((INDIRECT(\"'\"&Lists!$J40&\"'!\"&Lists!$K40&R$23))=\"\",\"\",(INDIRECT(\"'\"&Lists!$J40&\"'!\"&Lists!$K40&R$23))))","v":""},{"$f":"IF(ISNA(Lists!$J40),\"\",IF((INDIRECT(\"'\"&Lists!$J40&\"'!\"&Lists!$K40&S$23))=\"\",\"\",(INDIRECT(\"'\"&Lists!$J40&\"'!\"&Lists!$K40&S$23))))","v":""},{"$f":"IF(ISNA(Lists!$J40),\"\",IF((INDIRECT(\"'\"&Lists!$J40&\"'!\"&Lists!$K40&T$23))=\"\",\"\",(INDIRECT(\"'\"&Lists!$J40&\"'!\"&Lists!$K40&T$23))))","v":""},{"$f":"IF(ISNA(Lists!$J40),\"\",IF((INDIRECT(\"'\"&Lists!$J40&\"'!\"&Lists!$K40&U$23))=\"\",\"\",(INDIRECT(\"'\"&Lists!$J40&\"'!\"&Lists!$K40&U$23))))","v":""},{"$f":"IF(ISNA(Lists!$J40),\"\",IF((INDIRECT(\"'\"&Lists!$J40&\"'!\"&Lists!$L40&V$23))=\"\",\"\",(INDIRECT(\"'\"&Lists!$J40&\"'!\"&Lists!$L40&V$23))))","v":""},{"$f":"IF(ISNA(Lists!$J40),\"\",IF((INDIRECT(\"'\"&Lists!$J40&\"'!\"&Lists!$L40&W$23))=\"\",\"\",(INDIRECT(\"'\"&Lists!$J40&\"'!\"&Lists!$L40&W$23))))","v":""},{"$f":"IF(ISNA(Lists!$J40),\"\",IF((INDIRECT(\"'\"&Lists!$J40&\"'!\"&Lists!$L40&X$23))=\"\",\"\",(INDIRECT(\"'\"&Lists!$J40&\"'!\"&Lists!$L40&X$23))))","v":""},{"$f":"IF(ISNA(Lists!$J40),\"\",IF((INDIRECT(\"'\"&Lists!$J40&\"'!\"&Lists!$L40&Y$23))=\"\",\"\",(INDIRECT(\"'\"&Lists!$J40&\"'!\"&Lists!$L40&Y$23))))","v":""},{"$f":"IF(ISNA(Lists!$J40),\"\",IF((INDIRECT(\"'\"&Lists!$J40&\"'!\"&Lists!$L40&Z$23))=\"\",\"\",(INDIRECT(\"'\"&Lists!$J40&\"'!\"&Lists!$L40&Z$23))))","v":""},{"$f":"IF(ISNA(Lists!$J40),\"\",IF((INDIRECT(\"'\"&Lists!$J40&\"'!\"&Lists!$L40&AA$23))=\"\",\"\",(INDIRECT(\"'\"&Lists!$J40&\"'!\"&Lists!$L40&AA$23))))","v":""},{"$f":"IF(ISNA(Lists!$J40),\"\",IF((INDIRECT(\"'\"&Lists!$J40&\"'!\"&Lists!$L40&AB$23))=\"\",\"\",(INDIRECT(\"'\"&Lists!$J40&\"'!\"&Lists!$L40&AB$23))))","v":""},{"$f":"IF(ISNA(Lists!$J40),\"\",IF((INDIRECT(\"'\"&Lists!$J40&\"'!\"&Lists!$K40&AC$23))=\"\",\"\",(INDIRECT(\"'\"&Lists!$J40&\"'!\"&Lists!$K40&AC$23))))","v":""},{"$f":"IF(ISNA(Lists!$J40),\"\",IF((INDIRECT(\"'\"&Lists!$J40&\"'!\"&Lists!$L40&AD$23))=\"\",\"\",(INDIRECT(\"'\"&Lists!$J40&\"'!\"&Lists!$L40&AD$23))))","v":""},{"$f":"IF(ISNA(Lists!$J40),\"\",IF((INDIRECT(\"'\"&Lists!$J40&\"'!\"&Lists!$K40&AE$23))=\"\",\"\",(INDIRECT(\"'\"&Lists!$J40&\"'!\"&Lists!$K40&AE$23))))","v":""},{"$f":"IF(ISNA(Lists!$J40),\"\",IF((INDIRECT(\"'\"&Lists!$J40&\"'!\"&Lists!$K40&AF$23))=\"\",\"\",(INDIRECT(\"'\"&Lists!$J40&\"'!\"&Lists!$K40&AF$23))))","v":""},{"$f":"IF(ISNA(Lists!$J40),\"\",IF((INDIRECT(\"'\"&Lists!$J40&\"'!\"&Lists!$K40&AG$23))=\"\",\"\",(INDIRECT(\"'\"&Lists!$J40&\"'!\"&Lists!$K40&AG$23))))","v":""},{"$f":"IF(ISNA(Lists!$J40),\"\",IF((INDIRECT(\"'\"&Lists!$J40&\"'!\"&Lists!$K40&AH$23))=\"\",\"\",(INDIRECT(\"'\"&Lists!$J40&\"'!\"&Lists!$K40&AH$23))))","v":""},{"$f":"IF(ISNA(Lists!$J40),\"\",IF((INDIRECT(\"'\"&Lists!$J40&\"'!\"&Lists!$K40&AI$23))=\"\",\"\",(INDIRECT(\"'\"&Lists!$J40&\"'!\"&Lists!$K40&AI$23))))","v":""},{"$f":"IF(ISNA(Lists!$J40),\"\",IF((INDIRECT(\"'\"&Lists!$J40&\"'!\"&Lists!$K40&AJ$23))=\"\",\"\",(INDIRECT(\"'\"&Lists!$J40&\"'!\"&Lists!$K40&AJ$23))))","v":""},{"$f":"IF(ISNA(Lists!$J40),\"\",IF((INDIRECT(\"'\"&Lists!$J40&\"'!\"&Lists!$K40&AK$23))=\"\",\"\",(INDIRECT(\"'\"&Lists!$J40&\"'!\"&Lists!$K40&AK$23))))","v":""},{"$f":"IF(ISNA(Lists!$J40),\"\",IF((INDIRECT(\"'\"&Lists!$J40&\"'!\"&Lists!$K40&AL$23))=\"\",\"\",(INDIRECT(\"'\"&Lists!$J40&\"'!\"&Lists!$K40&AL$23))))","v":""},{"$f":"IF(ISNA(Lists!$J40),\"\",IF((INDIRECT(\"'\"&Lists!$J40&\"'!\"&Lists!$K40&AM$23))=\"\",\"\",(INDIRECT(\"'\"&Lists!$J40&\"'!\"&Lists!$K40&AM$23))))","v":""},{"$f":"IF(ISNA(Lists!$J40),\"\",IF((INDIRECT(\"'\"&Lists!$J40&\"'!\"&Lists!$K40&AN$23))=\"\",\"\",(INDIRECT(\"'\"&Lists!$J40&\"'!\"&Lists!$K40&AN$23))))","v":""},{"$f":"IF(ISNA(Lists!$J40),\"\",IF((INDIRECT(\"'\"&Lists!$J40&\"'!\"&Lists!$K40&AO$23))=\"\",\"\",(INDIRECT(\"'\"&Lists!$J40&\"'!\"&Lists!$K40&AO$23))))","v":""}]
[null,{"$f":"IF(C63=\"\",\"\",Facility_Info_upload!$B$24)","v":""},{"$f":"IF(ISNA(Lists!$J41),\"\",IF(INDIRECT(\"'\"&Lists!$J41&\"'!\"&\"B\"&C$23)=\"\",\"\",(INDIRECT(\"'\"&Lists!$J41&\"'!\"&\"B\"&C$23))))","v":""},{"$f":"IF(ISNA(Lists!$J41),\"\",IF(INDIRECT(\"'\"&Lists!$J41&\"'!\"&\"B\"&D$23)=\"\",\"\",(INDIRECT(\"'\"&Lists!$J41&\"'!\"&\"B\"&D$23))))","v":""},{"$f":"IF(ISNA(Lists!$J41),\"\",IF(INDIRECT(\"'\"&Lists!$J41&\"'!\"&\"B\"&E$23)=\"\",\"\",(INDIRECT(\"'\"&Lists!$J41&\"'!\"&\"B\"&E$23))))","v":""},{"$f":"IF(ISNA(Lists!$J41),\"\",IF(INDIRECT(\"'\"&Lists!$J41&\"'!\"&\"B\"&F$23)=\"\",\"\",(INDIRECT(\"'\"&Lists!$J41&\"'!\"&\"B\"&F$23))))","v":""},{"$f":"IF(ISNA(Lists!$J41),\"\",IF(INDIRECT(\"'\"&Lists!$J41&\"'!\"&\"B\"&G$23)=\"\",\"\",(INDIRECT(\"'\"&Lists!$J41&\"'!\"&\"B\"&G$23))))","v":""},{"$f":"IF(ISNA(Lists!$J41),\"\",IF((INDIRECT(\"'\"&Lists!$J41&\"'!\"&Lists!$K41&H$23))=\"\",\"\",(INDIRECT(\"'\"&Lists!$J41&\"'!\"&Lists!$K41&H$23))))","v":""},{"$f":"IF(ISNA(Lists!$J41),\"\",IF((INDIRECT(\"'\"&Lists!$J41&\"'!\"&Lists!$K41&I$23))=\"\",\"\",(INDIRECT(\"'\"&Lists!$J41&\"'!\"&Lists!$K41&I$23))))","v":""},{"$f":"IF(ISNA(Lists!$J41),\"\",IF((INDIRECT(\"'\"&Lists!$J41&\"'!\"&Lists!$K41&J$23))=\"\",\"\",(INDIRECT(\"'\"&Lists!$J41&\"'!\"&Lists!$K41&J$23))))","v":""},{"$f":"IF(ISNA(Lists!$J41),\"\",IF((INDIRECT(\"'\"&Lists!$J41&\"'!\"&Lists!$K41&K$23))=\"\",\"\",(INDIRECT(\"'\"&Lists!$J41&\"'!\"&Lists!$K41&K$23))))","v":""},{"$f":"IF(ISNA(Lists!$J41),\"\",IF((INDIRECT(\"'\"&Lists!$J41&\"'!\"&Lists!$K41&L$23))=\"\",\"\",(INDIRECT(\"'\"&Lists!$J41&\"'!\"&Lists!$K41&L$23))))","v":""},{"$f":"IF(ISNA(Lists!$J41),\"\",IF((INDIRECT(\"'\"&Lists!$J41&\"'!\"&Lists!$K41&M$23))=\"\",\"\",(INDIRECT(\"'\"&Lists!$J41&\"'!\"&Lists!$K41&M$23))))","v":""},{"$f":"IF(ISNA(Lists!$J41),\"\",IF((INDIRECT(\"'\"&Lists!$J41&\"'!\"&Lists!$K41&N$23))=\"\",\"\",(INDIRECT(\"'\"&Lists!$J41&\"'!\"&Lists!$K41&N$23))))","v":""},{"$f":"IF(ISNA(Lists!$J41),\"\",IF((INDIRECT(\"'\"&Lists!$J41&\"'!\"&Lists!$K41&O$23))=\"\",\"\",(INDIRECT(\"'\"&Lists!$J41&\"'!\"&Lists!$K41&O$23))))","v":""},{"$f":"IF(ISNA(Lists!$J41),\"\",IF((INDIRECT(\"'\"&Lists!$J41&\"'!\"&Lists!$K41&P$23))=\"\",\"\",(INDIRECT(\"'\"&Lists!$J41&\"'!\"&Lists!$K41&P$23))))","v":""},{"$f":"IF(ISNA(Lists!$J41),\"\",IF((INDIRECT(\"'\"&Lists!$J41&\"'!\"&Lists!$K41&Q$23))=\"\",\"\",(INDIRECT(\"'\"&Lists!$J41&\"'!\"&Lists!$K41&Q$23))))","v":""},{"$f":"IF(ISNA(Lists!$J41),\"\",IF((INDIRECT(\"'\"&Lists!$J41&\"'!\"&Lists!$K41&R$23))=\"\",\"\",(INDIRECT(\"'\"&Lists!$J41&\"'!\"&Lists!$K41&R$23))))","v":""},{"$f":"IF(ISNA(Lists!$J41),\"\",IF((INDIRECT(\"'\"&Lists!$J41&\"'!\"&Lists!$K41&S$23))=\"\",\"\",(INDIRECT(\"'\"&Lists!$J41&\"'!\"&Lists!$K41&S$23))))","v":""},{"$f":"IF(ISNA(Lists!$J41),\"\",IF((INDIRECT(\"'\"&Lists!$J41&\"'!\"&Lists!$K41&T$23))=\"\",\"\",(INDIRECT(\"'\"&Lists!$J41&\"'!\"&Lists!$K41&T$23))))","v":""},{"$f":"IF(ISNA(Lists!$J41),\"\",IF((INDIRECT(\"'\"&Lists!$J41&\"'!\"&Lists!$K41&U$23))=\"\",\"\",(INDIRECT(\"'\"&Lists!$J41&\"'!\"&Lists!$K41&U$23))))","v":""},{"$f":"IF(ISNA(Lists!$J41),\"\",IF((INDIRECT(\"'\"&Lists!$J41&\"'!\"&Lists!$L41&V$23))=\"\",\"\",(INDIRECT(\"'\"&Lists!$J41&\"'!\"&Lists!$L41&V$23))))","v":""},{"$f":"IF(ISNA(Lists!$J41),\"\",IF((INDIRECT(\"'\"&Lists!$J41&\"'!\"&Lists!$L41&W$23))=\"\",\"\",(INDIRECT(\"'\"&Lists!$J41&\"'!\"&Lists!$L41&W$23))))","v":""},{"$f":"IF(ISNA(Lists!$J41),\"\",IF((INDIRECT(\"'\"&Lists!$J41&\"'!\"&Lists!$L41&X$23))=\"\",\"\",(INDIRECT(\"'\"&Lists!$J41&\"'!\"&Lists!$L41&X$23))))","v":""},{"$f":"IF(ISNA(Lists!$J41),\"\",IF((INDIRECT(\"'\"&Lists!$J41&\"'!\"&Lists!$L41&Y$23))=\"\",\"\",(INDIRECT(\"'\"&Lists!$J41&\"'!\"&Lists!$L41&Y$23))))","v":""},{"$f":"IF(ISNA(Lists!$J41),\"\",IF((INDIRECT(\"'\"&Lists!$J41&\"'!\"&Lists!$L41&Z$23))=\"\",\"\",(INDIRECT(\"'\"&Lists!$J41&\"'!\"&Lists!$L41&Z$23))))","v":""},{"$f":"IF(ISNA(Lists!$J41),\"\",IF((INDIRECT(\"'\"&Lists!$J41&\"'!\"&Lists!$L41&AA$23))=\"\",\"\",(INDIRECT(\"'\"&Lists!$J41&\"'!\"&Lists!$L41&AA$23))))","v":""},{"$f":"IF(ISNA(Lists!$J41),\"\",IF((INDIRECT(\"'\"&Lists!$J41&\"'!\"&Lists!$L41&AB$23))=\"\",\"\",(INDIRECT(\"'\"&Lists!$J41&\"'!\"&Lists!$L41&AB$23))))","v":""},{"$f":"IF(ISNA(Lists!$J41),\"\",IF((INDIRECT(\"'\"&Lists!$J41&\"'!\"&Lists!$K41&AC$23))=\"\",\"\",(INDIRECT(\"'\"&Lists!$J41&\"'!\"&Lists!$K41&AC$23))))","v":""},{"$f":"IF(ISNA(Lists!$J41),\"\",IF((INDIRECT(\"'\"&Lists!$J41&\"'!\"&Lists!$L41&AD$23))=\"\",\"\",(INDIRECT(\"'\"&Lists!$J41&\"'!\"&Lists!$L41&AD$23))))","v":""},{"$f":"IF(ISNA(Lists!$J41),\"\",IF((INDIRECT(\"'\"&Lists!$J41&\"'!\"&Lists!$K41&AE$23))=\"\",\"\",(INDIRECT(\"'\"&Lists!$J41&\"'!\"&Lists!$K41&AE$23))))","v":""},{"$f":"IF(ISNA(Lists!$J41),\"\",IF((INDIRECT(\"'\"&Lists!$J41&\"'!\"&Lists!$K41&AF$23))=\"\",\"\",(INDIRECT(\"'\"&Lists!$J41&\"'!\"&Lists!$K41&AF$23))))","v":""},{"$f":"IF(ISNA(Lists!$J41),\"\",IF((INDIRECT(\"'\"&Lists!$J41&\"'!\"&Lists!$K41&AG$23))=\"\",\"\",(INDIRECT(\"'\"&Lists!$J41&\"'!\"&Lists!$K41&AG$23))))","v":""},{"$f":"IF(ISNA(Lists!$J41),\"\",IF((INDIRECT(\"'\"&Lists!$J41&\"'!\"&Lists!$K41&AH$23))=\"\",\"\",(INDIRECT(\"'\"&Lists!$J41&\"'!\"&Lists!$K41&AH$23))))","v":""},{"$f":"IF(ISNA(Lists!$J41),\"\",IF((INDIRECT(\"'\"&Lists!$J41&\"'!\"&Lists!$K41&AI$23))=\"\",\"\",(INDIRECT(\"'\"&Lists!$J41&\"'!\"&Lists!$K41&AI$23))))","v":""},{"$f":"IF(ISNA(Lists!$J41),\"\",IF((INDIRECT(\"'\"&Lists!$J41&\"'!\"&Lists!$K41&AJ$23))=\"\",\"\",(INDIRECT(\"'\"&Lists!$J41&\"'!\"&Lists!$K41&AJ$23))))","v":""},{"$f":"IF(ISNA(Lists!$J41),\"\",IF((INDIRECT(\"'\"&Lists!$J41&\"'!\"&Lists!$K41&AK$23))=\"\",\"\",(INDIRECT(\"'\"&Lists!$J41&\"'!\"&Lists!$K41&AK$23))))","v":""},{"$f":"IF(ISNA(Lists!$J41),\"\",IF((INDIRECT(\"'\"&Lists!$J41&\"'!\"&Lists!$K41&AL$23))=\"\",\"\",(INDIRECT(\"'\"&Lists!$J41&\"'!\"&Lists!$K41&AL$23))))","v":""},{"$f":"IF(ISNA(Lists!$J41),\"\",IF((INDIRECT(\"'\"&Lists!$J41&\"'!\"&Lists!$K41&AM$23))=\"\",\"\",(INDIRECT(\"'\"&Lists!$J41&\"'!\"&Lists!$K41&AM$23))))","v":""},{"$f":"IF(ISNA(Lists!$J41),\"\",IF((INDIRECT(\"'\"&Lists!$J41&\"'!\"&Lists!$K41&AN$23))=\"\",\"\",(INDIRECT(\"'\"&Lists!$J41&\"'!\"&Lists!$K41&AN$23))))","v":""},{"$f":"IF(ISNA(Lists!$J41),\"\",IF((INDIRECT(\"'\"&Lists!$J41&\"'!\"&Lists!$K41&AO$23))=\"\",\"\",(INDIRECT(\"'\"&Lists!$J41&\"'!\"&Lists!$K41&AO$23))))","v":""}]
[null,{"$f":"IF(C64=\"\",\"\",Facility_Info_upload!$B$24)","v":""},{"$f":"IF(ISNA(Lists!$J42),\"\",IF(INDIRECT(\"'\"&Lists!$J42&\"'!\"&\"B\"&C$23)=\"\",\"\",(INDIRECT(\"'\"&Lists!$J42&\"'!\"&\"B\"&C$23))))","v":""},{"$f":"IF(ISNA(Lists!$J42),\"\",IF(INDIRECT(\"'\"&Lists!$J42&\"'!\"&\"B\"&D$23)=\"\",\"\",(INDIRECT(\"'\"&Lists!$J42&\"'!\"&\"B\"&D$23))))","v":""},{"$f":"IF(ISNA(Lists!$J42),\"\",IF(INDIRECT(\"'\"&Lists!$J42&\"'!\"&\"B\"&E$23)=\"\",\"\",(INDIRECT(\"'\"&Lists!$J42&\"'!\"&\"B\"&E$23))))","v":""},{"$f":"IF(ISNA(Lists!$J42),\"\",IF(INDIRECT(\"'\"&Lists!$J42&\"'!\"&\"B\"&F$23)=\"\",\"\",(INDIRECT(\"'\"&Lists!$J42&\"'!\"&\"B\"&F$23))))","v":""},{"$f":"IF(ISNA(Lists!$J42),\"\",IF(INDIRECT(\"'\"&Lists!$J42&\"'!\"&\"B\"&G$23)=\"\",\"\",(INDIRECT(\"'\"&Lists!$J42&\"'!\"&\"B\"&G$23))))","v":""},{"$f":"IF(ISNA(Lists!$J42),\"\",IF((INDIRECT(\"'\"&Lists!$J42&\"'!\"&Lists!$K42&H$23))=\"\",\"\",(INDIRECT(\"'\"&Lists!$J42&\"'!\"&Lists!$K42&H$23))))","v":""},{"$f":"IF(ISNA(Lists!$J42),\"\",IF((INDIRECT(\"'\"&Lists!$J42&\"'!\"&Lists!$K42&I$23))=\"\",\"\",(INDIRECT(\"'\"&Lists!$J42&\"'!\"&Lists!$K42&I$23))))","v":""},{"$f":"IF(ISNA(Lists!$J42),\"\",IF((INDIRECT(\"'\"&Lists!$J42&\"'!\"&Lists!$K42&J$23))=\"\",\"\",(INDIRECT(\"'\"&Lists!$J42&\"'!\"&Lists!$K42&J$23))))","v":""},{"$f":"IF(ISNA(Lists!$J42),\"\",IF((INDIRECT(\"'\"&Lists!$J42&\"'!\"&Lists!$K42&K$23))=\"\",\"\",(INDIRECT(\"'\"&Lists!$J42&\"'!\"&Lists!$K42&K$23))))","v":""},{"$f":"IF(ISNA(Lists!$J42),\"\",IF((INDIRECT(\"'\"&Lists!$J42&\"'!\"&Lists!$K42&L$23))=\"\",\"\",(INDIRECT(\"'\"&Lists!$J42&\"'!\"&Lists!$K42&L$23))))","v":""},{"$f":"IF(ISNA(Lists!$J42),\"\",IF((INDIRECT(\"'\"&Lists!$J42&\"'!\"&Lists!$K42&M$23))=\"\",\"\",(INDIRECT(\"'\"&Lists!$J42&\"'!\"&Lists!$K42&M$23))))","v":""},{"$f":"IF(ISNA(Lists!$J42),\"\",IF((INDIRECT(\"'\"&Lists!$J42&\"'!\"&Lists!$K42&N$23))=\"\",\"\",(INDIRECT(\"'\"&Lists!$J42&\"'!\"&Lists!$K42&N$23))))","v":""},{"$f":"IF(ISNA(Lists!$J42),\"\",IF((INDIRECT(\"'\"&Lists!$J42&\"'!\"&Lists!$K42&O$23))=\"\",\"\",(INDIRECT(\"'\"&Lists!$J42&\"'!\"&Lists!$K42&O$23))))","v":""},{"$f":"IF(ISNA(Lists!$J42),\"\",IF((INDIRECT(\"'\"&Lists!$J42&\"'!\"&Lists!$K42&P$23))=\"\",\"\",(INDIRECT(\"'\"&Lists!$J42&\"'!\"&Lists!$K42&P$23))))","v":""},{"$f":"IF(ISNA(Lists!$J42),\"\",IF((INDIRECT(\"'\"&Lists!$J42&\"'!\"&Lists!$K42&Q$23))=\"\",\"\",(INDIRECT(\"'\"&Lists!$J42&\"'!\"&Lists!$K42&Q$23))))","v":""},{"$f":"IF(ISNA(Lists!$J42),\"\",IF((INDIRECT(\"'\"&Lists!$J42&\"'!\"&Lists!$K42&R$23))=\"\",\"\",(INDIRECT(\"'\"&Lists!$J42&\"'!\"&Lists!$K42&R$23))))","v":""},{"$f":"IF(ISNA(Lists!$J42),\"\",IF((INDIRECT(\"'\"&Lists!$J42&\"'!\"&Lists!$K42&S$23))=\"\",\"\",(INDIRECT(\"'\"&Lists!$J42&\"'!\"&Lists!$K42&S$23))))","v":""},{"$f":"IF(ISNA(Lists!$J42),\"\",IF((INDIRECT(\"'\"&Lists!$J42&\"'!\"&Lists!$K42&T$23))=\"\",\"\",(INDIRECT(\"'\"&Lists!$J42&\"'!\"&Lists!$K42&T$23))))","v":""},{"$f":"IF(ISNA(Lists!$J42),\"\",IF((INDIRECT(\"'\"&Lists!$J42&\"'!\"&Lists!$K42&U$23))=\"\",\"\",(INDIRECT(\"'\"&Lists!$J42&\"'!\"&Lists!$K42&U$23))))","v":""},{"$f":"IF(ISNA(Lists!$J42),\"\",IF((INDIRECT(\"'\"&Lists!$J42&\"'!\"&Lists!$L42&V$23))=\"\",\"\",(INDIRECT(\"'\"&Lists!$J42&\"'!\"&Lists!$L42&V$23))))","v":""},{"$f":"IF(ISNA(Lists!$J42),\"\",IF((INDIRECT(\"'\"&Lists!$J42&\"'!\"&Lists!$L42&W$23))=\"\",\"\",(INDIRECT(\"'\"&Lists!$J42&\"'!\"&Lists!$L42&W$23))))","v":""},{"$f":"IF(ISNA(Lists!$J42),\"\",IF((INDIRECT(\"'\"&Lists!$J42&\"'!\"&Lists!$L42&X$23))=\"\",\"\",(INDIRECT(\"'\"&Lists!$J42&\"'!\"&Lists!$L42&X$23))))","v":""},{"$f":"IF(ISNA(Lists!$J42),\"\",IF((INDIRECT(\"'\"&Lists!$J42&\"'!\"&Lists!$L42&Y$23))=\"\",\"\",(INDIRECT(\"'\"&Lists!$J42&\"'!\"&Lists!$L42&Y$23))))","v":""},{"$f":"IF(ISNA(Lists!$J42),\"\",IF((INDIRECT(\"'\"&Lists!$J42&\"'!\"&Lists!$L42&Z$23))=\"\",\"\",(INDIRECT(\"'\"&Lists!$J42&\"'!\"&Lists!$L42&Z$23))))","v":""},{"$f":"IF(ISNA(Lists!$J42),\"\",IF((INDIRECT(\"'\"&Lists!$J42&\"'!\"&Lists!$L42&AA$23))=\"\",\"\",(INDIRECT(\"'\"&Lists!$J42&\"'!\"&Lists!$L42&AA$23))))","v":""},{"$f":"IF(ISNA(Lists!$J42),\"\",IF((INDIRECT(\"'\"&Lists!$J42&\"'!\"&Lists!$L42&AB$23))=\"\",\"\",(INDIRECT(\"'\"&Lists!$J42&\"'!\"&Lists!$L42&AB$23))))","v":""},{"$f":"IF(ISNA(Lists!$J42),\"\",IF((INDIRECT(\"'\"&Lists!$J42&\"'!\"&Lists!$K42&AC$23))=\"\",\"\",(INDIRECT(\"'\"&Lists!$J42&\"'!\"&Lists!$K42&AC$23))))","v":""},{"$f":"IF(ISNA(Lists!$J42),\"\",IF((INDIRECT(\"'\"&Lists!$J42&\"'!\"&Lists!$L42&AD$23))=\"\",\"\",(INDIRECT(\"'\"&Lists!$J42&\"'!\"&Lists!$L42&AD$23))))","v":""},{"$f":"IF(ISNA(Lists!$J42),\"\",IF((INDIRECT(\"'\"&Lists!$J42&\"'!\"&Lists!$K42&AE$23))=\"\",\"\",(INDIRECT(\"'\"&Lists!$J42&\"'!\"&Lists!$K42&AE$23))))","v":""},{"$f":"IF(ISNA(Lists!$J42),\"\",IF((INDIRECT(\"'\"&Lists!$J42&\"'!\"&Lists!$K42&AF$23))=\"\",\"\",(INDIRECT(\"'\"&Lists!$J42&\"'!\"&Lists!$K42&AF$23))))","v":""},{"$f":"IF(ISNA(Lists!$J42),\"\",IF((INDIRECT(\"'\"&Lists!$J42&\"'!\"&Lists!$K42&AG$23))=\"\",\"\",(INDIRECT(\"'\"&Lists!$J42&\"'!\"&Lists!$K42&AG$23))))","v":""},{"$f":"IF(ISNA(Lists!$J42),\"\",IF((INDIRECT(\"'\"&Lists!$J42&\"'!\"&Lists!$K42&AH$23))=\"\",\"\",(INDIRECT(\"'\"&Lists!$J42&\"'!\"&Lists!$K42&AH$23))))","v":""},{"$f":"IF(ISNA(Lists!$J42),\"\",IF((INDIRECT(\"'\"&Lists!$J42&\"'!\"&Lists!$K42&AI$23))=\"\",\"\",(INDIRECT(\"'\"&Lists!$J42&\"'!\"&Lists!$K42&AI$23))))","v":""},{"$f":"IF(ISNA(Lists!$J42),\"\",IF((INDIRECT(\"'\"&Lists!$J42&\"'!\"&Lists!$K42&AJ$23))=\"\",\"\",(INDIRECT(\"'\"&Lists!$J42&\"'!\"&Lists!$K42&AJ$23))))","v":""},{"$f":"IF(ISNA(Lists!$J42),\"\",IF((INDIRECT(\"'\"&Lists!$J42&\"'!\"&Lists!$K42&AK$23))=\"\",\"\",(INDIRECT(\"'\"&Lists!$J42&\"'!\"&Lists!$K42&AK$23))))","v":""},{"$f":"IF(ISNA(Lists!$J42),\"\",IF((INDIRECT(\"'\"&Lists!$J42&\"'!\"&Lists!$K42&AL$23))=\"\",\"\",(INDIRECT(\"'\"&Lists!$J42&\"'!\"&Lists!$K42&AL$23))))","v":""},{"$f":"IF(ISNA(Lists!$J42),\"\",IF((INDIRECT(\"'\"&Lists!$J42&\"'!\"&Lists!$K42&AM$23))=\"\",\"\",(INDIRECT(\"'\"&Lists!$J42&\"'!\"&Lists!$K42&AM$23))))","v":""},{"$f":"IF(ISNA(Lists!$J42),\"\",IF((INDIRECT(\"'\"&Lists!$J42&\"'!\"&Lists!$K42&AN$23))=\"\",\"\",(INDIRECT(\"'\"&Lists!$J42&\"'!\"&Lists!$K42&AN$23))))","v":""},{"$f":"IF(ISNA(Lists!$J42),\"\",IF((INDIRECT(\"'\"&Lists!$J42&\"'!\"&Lists!$K42&AO$23))=\"\",\"\",(INDIRECT(\"'\"&Lists!$J42&\"'!\"&Lists!$K42&AO$23))))","v":""}]
[null,{"$f":"IF(C65=\"\",\"\",Facility_Info_upload!$B$24)","v":""},{"$f":"IF(ISNA(Lists!$J43),\"\",IF(INDIRECT(\"'\"&Lists!$J43&\"'!\"&\"B\"&C$23)=\"\",\"\",(INDIRECT(\"'\"&Lists!$J43&\"'!\"&\"B\"&C$23))))","v":""},{"$f":"IF(ISNA(Lists!$J43),\"\",IF(INDIRECT(\"'\"&Lists!$J43&\"'!\"&\"B\"&D$23)=\"\",\"\",(INDIRECT(\"'\"&Lists!$J43&\"'!\"&\"B\"&D$23))))","v":""},{"$f":"IF(ISNA(Lists!$J43),\"\",IF(INDIRECT(\"'\"&Lists!$J43&\"'!\"&\"B\"&E$23)=\"\",\"\",(INDIRECT(\"'\"&Lists!$J43&\"'!\"&\"B\"&E$23))))","v":""},{"$f":"IF(ISNA(Lists!$J43),\"\",IF(INDIRECT(\"'\"&Lists!$J43&\"'!\"&\"B\"&F$23)=\"\",\"\",(INDIRECT(\"'\"&Lists!$J43&\"'!\"&\"B\"&F$23))))","v":""},{"$f":"IF(ISNA(Lists!$J43),\"\",IF(INDIRECT(\"'\"&Lists!$J43&\"'!\"&\"B\"&G$23)=\"\",\"\",(INDIRECT(\"'\"&Lists!$J43&\"'!\"&\"B\"&G$23))))","v":""},{"$f":"IF(ISNA(Lists!$J43),\"\",IF((INDIRECT(\"'\"&Lists!$J43&\"'!\"&Lists!$K43&H$23))=\"\",\"\",(INDIRECT(\"'\"&Lists!$J43&\"'!\"&Lists!$K43&H$23))))","v":""},{"$f":"IF(ISNA(Lists!$J43),\"\",IF((INDIRECT(\"'\"&Lists!$J43&\"'!\"&Lists!$K43&I$23))=\"\",\"\",(INDIRECT(\"'\"&Lists!$J43&\"'!\"&Lists!$K43&I$23))))","v":""},{"$f":"IF(ISNA(Lists!$J43),\"\",IF((INDIRECT(\"'\"&Lists!$J43&\"'!\"&Lists!$K43&J$23))=\"\",\"\",(INDIRECT(\"'\"&Lists!$J43&\"'!\"&Lists!$K43&J$23))))","v":""},{"$f":"IF(ISNA(Lists!$J43),\"\",IF((INDIRECT(\"'\"&Lists!$J43&\"'!\"&Lists!$K43&K$23))=\"\",\"\",(INDIRECT(\"'\"&Lists!$J43&\"'!\"&Lists!$K43&K$23))))","v":""},{"$f":"IF(ISNA(Lists!$J43),\"\",IF((INDIRECT(\"'\"&Lists!$J43&\"'!\"&Lists!$K43&L$23))=\"\",\"\",(INDIRECT(\"'\"&Lists!$J43&\"'!\"&Lists!$K43&L$23))))","v":""},{"$f":"IF(ISNA(Lists!$J43),\"\",IF((INDIRECT(\"'\"&Lists!$J43&\"'!\"&Lists!$K43&M$23))=\"\",\"\",(INDIRECT(\"'\"&Lists!$J43&\"'!\"&Lists!$K43&M$23))))","v":""},{"$f":"IF(ISNA(Lists!$J43),\"\",IF((INDIRECT(\"'\"&Lists!$J43&\"'!\"&Lists!$K43&N$23))=\"\",\"\",(INDIRECT(\"'\"&Lists!$J43&\"'!\"&Lists!$K43&N$23))))","v":""},{"$f":"IF(ISNA(Lists!$J43),\"\",IF((INDIRECT(\"'\"&Lists!$J43&\"'!\"&Lists!$K43&O$23))=\"\",\"\",(INDIRECT(\"'\"&Lists!$J43&\"'!\"&Lists!$K43&O$23))))","v":""},{"$f":"IF(ISNA(Lists!$J43),\"\",IF((INDIRECT(\"'\"&Lists!$J43&\"'!\"&Lists!$K43&P$23))=\"\",\"\",(INDIRECT(\"'\"&Lists!$J43&\"'!\"&Lists!$K43&P$23))))","v":""},{"$f":"IF(ISNA(Lists!$J43),\"\",IF((INDIRECT(\"'\"&Lists!$J43&\"'!\"&Lists!$K43&Q$23))=\"\",\"\",(INDIRECT(\"'\"&Lists!$J43&\"'!\"&Lists!$K43&Q$23))))","v":""},{"$f":"IF(ISNA(Lists!$J43),\"\",IF((INDIRECT(\"'\"&Lists!$J43&\"'!\"&Lists!$K43&R$23))=\"\",\"\",(INDIRECT(\"'\"&Lists!$J43&\"'!\"&Lists!$K43&R$23))))","v":""},{"$f":"IF(ISNA(Lists!$J43),\"\",IF((INDIRECT(\"'\"&Lists!$J43&\"'!\"&Lists!$K43&S$23))=\"\",\"\",(INDIRECT(\"'\"&Lists!$J43&\"'!\"&Lists!$K43&S$23))))","v":""},{"$f":"IF(ISNA(Lists!$J43),\"\",IF((INDIRECT(\"'\"&Lists!$J43&\"'!\"&Lists!$K43&T$23))=\"\",\"\",(INDIRECT(\"'\"&Lists!$J43&\"'!\"&Lists!$K43&T$23))))","v":""},{"$f":"IF(ISNA(Lists!$J43),\"\",IF((INDIRECT(\"'\"&Lists!$J43&\"'!\"&Lists!$K43&U$23))=\"\",\"\",(INDIRECT(\"'\"&Lists!$J43&\"'!\"&Lists!$K43&U$23))))","v":""},{"$f":"IF(ISNA(Lists!$J43),\"\",IF((INDIRECT(\"'\"&Lists!$J43&\"'!\"&Lists!$L43&V$23))=\"\",\"\",(INDIRECT(\"'\"&Lists!$J43&\"'!\"&Lists!$L43&V$23))))","v":""},{"$f":"IF(ISNA(Lists!$J43),\"\",IF((INDIRECT(\"'\"&Lists!$J43&\"'!\"&Lists!$L43&W$23))=\"\",\"\",(INDIRECT(\"'\"&Lists!$J43&\"'!\"&Lists!$L43&W$23))))","v":""},{"$f":"IF(ISNA(Lists!$J43),\"\",IF((INDIRECT(\"'\"&Lists!$J43&\"'!\"&Lists!$L43&X$23))=\"\",\"\",(INDIRECT(\"'\"&Lists!$J43&\"'!\"&Lists!$L43&X$23))))","v":""},{"$f":"IF(ISNA(Lists!$J43),\"\",IF((INDIRECT(\"'\"&Lists!$J43&\"'!\"&Lists!$L43&Y$23))=\"\",\"\",(INDIRECT(\"'\"&Lists!$J43&\"'!\"&Lists!$L43&Y$23))))","v":""},{"$f":"IF(ISNA(Lists!$J43),\"\",IF((INDIRECT(\"'\"&Lists!$J43&\"'!\"&Lists!$L43&Z$23))=\"\",\"\",(INDIRECT(\"'\"&Lists!$J43&\"'!\"&Lists!$L43&Z$23))))","v":""},{"$f":"IF(ISNA(Lists!$J43),\"\",IF((INDIRECT(\"'\"&Lists!$J43&\"'!\"&Lists!$L43&AA$23))=\"\",\"\",(INDIRECT(\"'\"&Lists!$J43&\"'!\"&Lists!$L43&AA$23))))","v":""},{"$f":"IF(ISNA(Lists!$J43),\"\",IF((INDIRECT(\"'\"&Lists!$J43&\"'!\"&Lists!$L43&AB$23))=\"\",\"\",(INDIRECT(\"'\"&Lists!$J43&\"'!\"&Lists!$L43&AB$23))))","v":""},{"$f":"IF(ISNA(Lists!$J43),\"\",IF((INDIRECT(\"'\"&Lists!$J43&\"'!\"&Lists!$K43&AC$23))=\"\",\"\",(INDIRECT(\"'\"&Lists!$J43&\"'!\"&Lists!$K43&AC$23))))","v":""},{"$f":"IF(ISNA(Lists!$J43),\"\",IF((INDIRECT(\"'\"&Lists!$J43&\"'!\"&Lists!$L43&AD$23))=\"\",\"\",(INDIRECT(\"'\"&Lists!$J43&\"'!\"&Lists!$L43&AD$23))))","v":""},{"$f":"IF(ISNA(Lists!$J43),\"\",IF((INDIRECT(\"'\"&Lists!$J43&\"'!\"&Lists!$K43&AE$23))=\"\",\"\",(INDIRECT(\"'\"&Lists!$J43&\"'!\"&Lists!$K43&AE$23))))","v":""},{"$f":"IF(ISNA(Lists!$J43),\"\",IF((INDIRECT(\"'\"&Lists!$J43&\"'!\"&Lists!$K43&AF$23))=\"\",\"\",(INDIRECT(\"'\"&Lists!$J43&\"'!\"&Lists!$K43&AF$23))))","v":""},{"$f":"IF(ISNA(Lists!$J43),\"\",IF((INDIRECT(\"'\"&Lists!$J43&\"'!\"&Lists!$K43&AG$23))=\"\",\"\",(INDIRECT(\"'\"&Lists!$J43&\"'!\"&Lists!$K43&AG$23))))","v":""},{"$f":"IF(ISNA(Lists!$J43),\"\",IF((INDIRECT(\"'\"&Lists!$J43&\"'!\"&Lists!$K43&AH$23))=\"\",\"\",(INDIRECT(\"'\"&Lists!$J43&\"'!\"&Lists!$K43&AH$23))))","v":""},{"$f":"IF(ISNA(Lists!$J43),\"\",IF((INDIRECT(\"'\"&Lists!$J43&\"'!\"&Lists!$K43&AI$23))=\"\",\"\",(INDIRECT(\"'\"&Lists!$J43&\"'!\"&Lists!$K43&AI$23))))","v":""},{"$f":"IF(ISNA(Lists!$J43),\"\",IF((INDIRECT(\"'\"&Lists!$J43&\"'!\"&Lists!$K43&AJ$23))=\"\",\"\",(INDIRECT(\"'\"&Lists!$J43&\"'!\"&Lists!$K43&AJ$23))))","v":""},{"$f":"IF(ISNA(Lists!$J43),\"\",IF((INDIRECT(\"'\"&Lists!$J43&\"'!\"&Lists!$K43&AK$23))=\"\",\"\",(INDIRECT(\"'\"&Lists!$J43&\"'!\"&Lists!$K43&AK$23))))","v":""},{"$f":"IF(ISNA(Lists!$J43),\"\",IF((INDIRECT(\"'\"&Lists!$J43&\"'!\"&Lists!$K43&AL$23))=\"\",\"\",(INDIRECT(\"'\"&Lists!$J43&\"'!\"&Lists!$K43&AL$23))))","v":""},{"$f":"IF(ISNA(Lists!$J43),\"\",IF((INDIRECT(\"'\"&Lists!$J43&\"'!\"&Lists!$K43&AM$23))=\"\",\"\",(INDIRECT(\"'\"&Lists!$J43&\"'!\"&Lists!$K43&AM$23))))","v":""},{"$f":"IF(ISNA(Lists!$J43),\"\",IF((INDIRECT(\"'\"&Lists!$J43&\"'!\"&Lists!$K43&AN$23))=\"\",\"\",(INDIRECT(\"'\"&Lists!$J43&\"'!\"&Lists!$K43&AN$23))))","v":""},{"$f":"IF(ISNA(Lists!$J43),\"\",IF((INDIRECT(\"'\"&Lists!$J43&\"'!\"&Lists!$K43&AO$23))=\"\",\"\",(INDIRECT(\"'\"&Lists!$J43&\"'!\"&Lists!$K43&AO$23))))","v":""}]
[null,{"$f":"IF(C66=\"\",\"\",Facility_Info_upload!$B$24)","v":""},{"$f":"IF(ISNA(Lists!$J44),\"\",IF(INDIRECT(\"'\"&Lists!$J44&\"'!\"&\"B\"&C$23)=\"\",\"\",(INDIRECT(\"'\"&Lists!$J44&\"'!\"&\"B\"&C$23))))","v":""},{"$f":"IF(ISNA(Lists!$J44),\"\",IF(INDIRECT(\"'\"&Lists!$J44&\"'!\"&\"B\"&D$23)=\"\",\"\",(INDIRECT(\"'\"&Lists!$J44&\"'!\"&\"B\"&D$23))))","v":""},{"$f":"IF(ISNA(Lists!$J44),\"\",IF(INDIRECT(\"'\"&Lists!$J44&\"'!\"&\"B\"&E$23)=\"\",\"\",(INDIRECT(\"'\"&Lists!$J44&\"'!\"&\"B\"&E$23))))","v":""},{"$f":"IF(ISNA(Lists!$J44),\"\",IF(INDIRECT(\"'\"&Lists!$J44&\"'!\"&\"B\"&F$23)=\"\",\"\",(INDIRECT(\"'\"&Lists!$J44&\"'!\"&\"B\"&F$23))))","v":""},{"$f":"IF(ISNA(Lists!$J44),\"\",IF(INDIRECT(\"'\"&Lists!$J44&\"'!\"&\"B\"&G$23)=\"\",\"\",(INDIRECT(\"'\"&Lists!$J44&\"'!\"&\"B\"&G$23))))","v":""},{"$f":"IF(ISNA(Lists!$J44),\"\",IF((INDIRECT(\"'\"&Lists!$J44&\"'!\"&Lists!$K44&H$23))=\"\",\"\",(INDIRECT(\"'\"&Lists!$J44&\"'!\"&Lists!$K44&H$23))))","v":""},{"$f":"IF(ISNA(Lists!$J44),\"\",IF((INDIRECT(\"'\"&Lists!$J44&\"'!\"&Lists!$K44&I$23))=\"\",\"\",(INDIRECT(\"'\"&Lists!$J44&\"'!\"&Lists!$K44&I$23))))","v":""},{"$f":"IF(ISNA(Lists!$J44),\"\",IF((INDIRECT(\"'\"&Lists!$J44&\"'!\"&Lists!$K44&J$23))=\"\",\"\",(INDIRECT(\"'\"&Lists!$J44&\"'!\"&Lists!$K44&J$23))))","v":""},{"$f":"IF(ISNA(Lists!$J44),\"\",IF((INDIRECT(\"'\"&Lists!$J44&\"'!\"&Lists!$K44&K$23))=\"\",\"\",(INDIRECT(\"'\"&Lists!$J44&\"'!\"&Lists!$K44&K$23))))","v":""},{"$f":"IF(ISNA(Lists!$J44),\"\",IF((INDIRECT(\"'\"&Lists!$J44&\"'!\"&Lists!$K44&L$23))=\"\",\"\",(INDIRECT(\"'\"&Lists!$J44&\"'!\"&Lists!$K44&L$23))))","v":""},{"$f":"IF(ISNA(Lists!$J44),\"\",IF((INDIRECT(\"'\"&Lists!$J44&\"'!\"&Lists!$K44&M$23))=\"\",\"\",(INDIRECT(\"'\"&Lists!$J44&\"'!\"&Lists!$K44&M$23))))","v":""},{"$f":"IF(ISNA(Lists!$J44),\"\",IF((INDIRECT(\"'\"&Lists!$J44&\"'!\"&Lists!$K44&N$23))=\"\",\"\",(INDIRECT(\"'\"&Lists!$J44&\"'!\"&Lists!$K44&N$23))))","v":""},{"$f":"IF(ISNA(Lists!$J44),\"\",IF((INDIRECT(\"'\"&Lists!$J44&\"'!\"&Lists!$K44&O$23))=\"\",\"\",(INDIRECT(\"'\"&Lists!$J44&\"'!\"&Lists!$K44&O$23))))","v":""},{"$f":"IF(ISNA(Lists!$J44),\"\",IF((INDIRECT(\"'\"&Lists!$J44&\"'!\"&Lists!$K44&P$23))=\"\",\"\",(INDIRECT(\"'\"&Lists!$J44&\"'!\"&Lists!$K44&P$23))))","v":""},{"$f":"IF(ISNA(Lists!$J44),\"\",IF((INDIRECT(\"'\"&Lists!$J44&\"'!\"&Lists!$K44&Q$23))=\"\",\"\",(INDIRECT(\"'\"&Lists!$J44&\"'!\"&Lists!$K44&Q$23))))","v":""},{"$f":"IF(ISNA(Lists!$J44),\"\",IF((INDIRECT(\"'\"&Lists!$J44&\"'!\"&Lists!$K44&R$23))=\"\",\"\",(INDIRECT(\"'\"&Lists!$J44&\"'!\"&Lists!$K44&R$23))))","v":""},{"$f":"IF(ISNA(Lists!$J44),\"\",IF((INDIRECT(\"'\"&Lists!$J44&\"'!\"&Lists!$K44&S$23))=\"\",\"\",(INDIRECT(\"'\"&Lists!$J44&\"'!\"&Lists!$K44&S$23))))","v":""},{"$f":"IF(ISNA(Lists!$J44),\"\",IF((INDIRECT(\"'\"&Lists!$J44&\"'!\"&Lists!$K44&T$23))=\"\",\"\",(INDIRECT(\"'\"&Lists!$J44&\"'!\"&Lists!$K44&T$23))))","v":""},{"$f":"IF(ISNA(Lists!$J44),\"\",IF((INDIRECT(\"'\"&Lists!$J44&\"'!\"&Lists!$K44&U$23))=\"\",\"\",(INDIRECT(\"'\"&Lists!$J44&\"'!\"&Lists!$K44&U$23))))","v":""},{"$f":"IF(ISNA(Lists!$J44),\"\",IF((INDIRECT(\"'\"&Lists!$J44&\"'!\"&Lists!$L44&V$23))=\"\",\"\",(INDIRECT(\"'\"&Lists!$J44&\"'!\"&Lists!$L44&V$23))))","v":""},{"$f":"IF(ISNA(Lists!$J44),\"\",IF((INDIRECT(\"'\"&Lists!$J44&\"'!\"&Lists!$L44&W$23))=\"\",\"\",(INDIRECT(\"'\"&Lists!$J44&\"'!\"&Lists!$L44&W$23))))","v":""},{"$f":"IF(ISNA(Lists!$J44),\"\",IF((INDIRECT(\"'\"&Lists!$J44&\"'!\"&Lists!$L44&X$23))=\"\",\"\",(INDIRECT(\"'\"&Lists!$J44&\"'!\"&Lists!$L44&X$23))))","v":""},{"$f":"IF(ISNA(Lists!$J44),\"\",IF((INDIRECT(\"'\"&Lists!$J44&\"'!\"&Lists!$L44&Y$23))=\"\",\"\",(INDIRECT(\"'\"&Lists!$J44&\"'!\"&Lists!$L44&Y$23))))","v":""},{"$f":"IF(ISNA(Lists!$J44),\"\",IF((INDIRECT(\"'\"&Lists!$J44&\"'!\"&Lists!$L44&Z$23))=\"\",\"\",(INDIRECT(\"'\"&Lists!$J44&\"'!\"&Lists!$L44&Z$23))))","v":""},{"$f":"IF(ISNA(Lists!$J44),\"\",IF((INDIRECT(\"'\"&Lists!$J44&\"'!\"&Lists!$L44&AA$23))=\"\",\"\",(INDIRECT(\"'\"&Lists!$J44&\"'!\"&Lists!$L44&AA$23))))","v":""},{"$f":"IF(ISNA(Lists!$J44),\"\",IF((INDIRECT(\"'\"&Lists!$J44&\"'!\"&Lists!$L44&AB$23))=\"\",\"\",(INDIRECT(\"'\"&Lists!$J44&\"'!\"&Lists!$L44&AB$23))))","v":""},{"$f":"IF(ISNA(Lists!$J44),\"\",IF((INDIRECT(\"'\"&Lists!$J44&\"'!\"&Lists!$K44&AC$23))=\"\",\"\",(INDIRECT(\"'\"&Lists!$J44&\"'!\"&Lists!$K44&AC$23))))","v":""},{"$f":"IF(ISNA(Lists!$J44),\"\",IF((INDIRECT(\"'\"&Lists!$J44&\"'!\"&Lists!$L44&AD$23))=\"\",\"\",(INDIRECT(\"'\"&Lists!$J44&\"'!\"&Lists!$L44&AD$23))))","v":""},{"$f":"IF(ISNA(Lists!$J44),\"\",IF((INDIRECT(\"'\"&Lists!$J44&\"'!\"&Lists!$K44&AE$23))=\"\",\"\",(INDIRECT(\"'\"&Lists!$J44&\"'!\"&Lists!$K44&AE$23))))","v":""},{"$f":"IF(ISNA(Lists!$J44),\"\",IF((INDIRECT(\"'\"&Lists!$J44&\"'!\"&Lists!$K44&AF$23))=\"\",\"\",(INDIRECT(\"'\"&Lists!$J44&\"'!\"&Lists!$K44&AF$23))))","v":""},{"$f":"IF(ISNA(Lists!$J44),\"\",IF((INDIRECT(\"'\"&Lists!$J44&\"'!\"&Lists!$K44&AG$23))=\"\",\"\",(INDIRECT(\"'\"&Lists!$J44&\"'!\"&Lists!$K44&AG$23))))","v":""},{"$f":"IF(ISNA(Lists!$J44),\"\",IF((INDIRECT(\"'\"&Lists!$J44&\"'!\"&Lists!$K44&AH$23))=\"\",\"\",(INDIRECT(\"'\"&Lists!$J44&\"'!\"&Lists!$K44&AH$23))))","v":""},{"$f":"IF(ISNA(Lists!$J44),\"\",IF((INDIRECT(\"'\"&Lists!$J44&\"'!\"&Lists!$K44&AI$23))=\"\",\"\",(INDIRECT(\"'\"&Lists!$J44&\"'!\"&Lists!$K44&AI$23))))","v":""},{"$f":"IF(ISNA(Lists!$J44),\"\",IF((INDIRECT(\"'\"&Lists!$J44&\"'!\"&Lists!$K44&AJ$23))=\"\",\"\",(INDIRECT(\"'\"&Lists!$J44&\"'!\"&Lists!$K44&AJ$23))))","v":""},{"$f":"IF(ISNA(Lists!$J44),\"\",IF((INDIRECT(\"'\"&Lists!$J44&\"'!\"&Lists!$K44&AK$23))=\"\",\"\",(INDIRECT(\"'\"&Lists!$J44&\"'!\"&Lists!$K44&AK$23))))","v":""},{"$f":"IF(ISNA(Lists!$J44),\"\",IF((INDIRECT(\"'\"&Lists!$J44&\"'!\"&Lists!$K44&AL$23))=\"\",\"\",(INDIRECT(\"'\"&Lists!$J44&\"'!\"&Lists!$K44&AL$23))))","v":""},{"$f":"IF(ISNA(Lists!$J44),\"\",IF((INDIRECT(\"'\"&Lists!$J44&\"'!\"&Lists!$K44&AM$23))=\"\",\"\",(INDIRECT(\"'\"&Lists!$J44&\"'!\"&Lists!$K44&AM$23))))","v":""},{"$f":"IF(ISNA(Lists!$J44),\"\",IF((INDIRECT(\"'\"&Lists!$J44&\"'!\"&Lists!$K44&AN$23))=\"\",\"\",(INDIRECT(\"'\"&Lists!$J44&\"'!\"&Lists!$K44&AN$23))))","v":""},{"$f":"IF(ISNA(Lists!$J44),\"\",IF((INDIRECT(\"'\"&Lists!$J44&\"'!\"&Lists!$K44&AO$23))=\"\",\"\",(INDIRECT(\"'\"&Lists!$J44&\"'!\"&Lists!$K44&AO$23))))","v":""}]
[null,{"$f":"IF(C67=\"\",\"\",Facility_Info_upload!$B$24)","v":""},{"$f":"IF(ISNA(Lists!$J45),\"\",IF(INDIRECT(\"'\"&Lists!$J45&\"'!\"&\"B\"&C$23)=\"\",\"\",(INDIRECT(\"'\"&Lists!$J45&\"'!\"&\"B\"&C$23))))","v":""},{"$f":"IF(ISNA(Lists!$J45),\"\",IF(INDIRECT(\"'\"&Lists!$J45&\"'!\"&\"B\"&D$23)=\"\",\"\",(INDIRECT(\"'\"&Lists!$J45&\"'!\"&\"B\"&D$23))))","v":""},{"$f":"IF(ISNA(Lists!$J45),\"\",IF(INDIRECT(\"'\"&Lists!$J45&\"'!\"&\"B\"&E$23)=\"\",\"\",(INDIRECT(\"'\"&Lists!$J45&\"'!\"&\"B\"&E$23))))","v":""},{"$f":"IF(ISNA(Lists!$J45),\"\",IF(INDIRECT(\"'\"&Lists!$J45&\"'!\"&\"B\"&F$23)=\"\",\"\",(INDIRECT(\"'\"&Lists!$J45&\"'!\"&\"B\"&F$23))))","v":""},{"$f":"IF(ISNA(Lists!$J45),\"\",IF(INDIRECT(\"'\"&Lists!$J45&\"'!\"&\"B\"&G$23)=\"\",\"\",(INDIRECT(\"'\"&Lists!$J45&\"'!\"&\"B\"&G$23))))","v":""},{"$f":"IF(ISNA(Lists!$J45),\"\",IF((INDIRECT(\"'\"&Lists!$J45&\"'!\"&Lists!$K45&H$23))=\"\",\"\",(INDIRECT(\"'\"&Lists!$J45&\"'!\"&Lists!$K45&H$23))))","v":""},{"$f":"IF(ISNA(Lists!$J45),\"\",IF((INDIRECT(\"'\"&Lists!$J45&\"'!\"&Lists!$K45&I$23))=\"\",\"\",(INDIRECT(\"'\"&Lists!$J45&\"'!\"&Lists!$K45&I$23))))","v":""},{"$f":"IF(ISNA(Lists!$J45),\"\",IF((INDIRECT(\"'\"&Lists!$J45&\"'!\"&Lists!$K45&J$23))=\"\",\"\",(INDIRECT(\"'\"&Lists!$J45&\"'!\"&Lists!$K45&J$23))))","v":""},{"$f":"IF(ISNA(Lists!$J45),\"\",IF((INDIRECT(\"'\"&Lists!$J45&\"'!\"&Lists!$K45&K$23))=\"\",\"\",(INDIRECT(\"'\"&Lists!$J45&\"'!\"&Lists!$K45&K$23))))","v":""},{"$f":"IF(ISNA(Lists!$J45),\"\",IF((INDIRECT(\"'\"&Lists!$J45&\"'!\"&Lists!$K45&L$23))=\"\",\"\",(INDIRECT(\"'\"&Lists!$J45&\"'!\"&Lists!$K45&L$23))))","v":""},{"$f":"IF(ISNA(Lists!$J45),\"\",IF((INDIRECT(\"'\"&Lists!$J45&\"'!\"&Lists!$K45&M$23))=\"\",\"\",(INDIRECT(\"'\"&Lists!$J45&\"'!\"&Lists!$K45&M$23))))","v":""},{"$f":"IF(ISNA(Lists!$J45),\"\",IF((INDIRECT(\"'\"&Lists!$J45&\"'!\"&Lists!$K45&N$23))=\"\",\"\",(INDIRECT(\"'\"&Lists!$J45&\"'!\"&Lists!$K45&N$23))))","v":""},{"$f":"IF(ISNA(Lists!$J45),\"\",IF((INDIRECT(\"'\"&Lists!$J45&\"'!\"&Lists!$K45&O$23))=\"\",\"\",(INDIRECT(\"'\"&Lists!$J45&\"'!\"&Lists!$K45&O$23))))","v":""},{"$f":"IF(ISNA(Lists!$J45),\"\",IF((INDIRECT(\"'\"&Lists!$J45&\"'!\"&Lists!$K45&P$23))=\"\",\"\",(INDIRECT(\"'\"&Lists!$J45&\"'!\"&Lists!$K45&P$23))))","v":""},{"$f":"IF(ISNA(Lists!$J45),\"\",IF((INDIRECT(\"'\"&Lists!$J45&\"'!\"&Lists!$K45&Q$23))=\"\",\"\",(INDIRECT(\"'\"&Lists!$J45&\"'!\"&Lists!$K45&Q$23))))","v":""},{"$f":"IF(ISNA(Lists!$J45),\"\",IF((INDIRECT(\"'\"&Lists!$J45&\"'!\"&Lists!$K45&R$23))=\"\",\"\",(INDIRECT(\"'\"&Lists!$J45&\"'!\"&Lists!$K45&R$23))))","v":""},{"$f":"IF(ISNA(Lists!$J45),\"\",IF((INDIRECT(\"'\"&Lists!$J45&\"'!\"&Lists!$K45&S$23))=\"\",\"\",(INDIRECT(\"'\"&Lists!$J45&\"'!\"&Lists!$K45&S$23))))","v":""},{"$f":"IF(ISNA(Lists!$J45),\"\",IF((INDIRECT(\"'\"&Lists!$J45&\"'!\"&Lists!$K45&T$23))=\"\",\"\",(INDIRECT(\"'\"&Lists!$J45&\"'!\"&Lists!$K45&T$23))))","v":""},{"$f":"IF(ISNA(Lists!$J45),\"\",IF((INDIRECT(\"'\"&Lists!$J45&\"'!\"&Lists!$K45&U$23))=\"\",\"\",(INDIRECT(\"'\"&Lists!$J45&\"'!\"&Lists!$K45&U$23))))","v":""},{"$f":"IF(ISNA(Lists!$J45),\"\",IF((INDIRECT(\"'\"&Lists!$J45&\"'!\"&Lists!$L45&V$23))=\"\",\"\",(INDIRECT(\"'\"&Lists!$J45&\"'!\"&Lists!$L45&V$23))))","v":""},{"$f":"IF(ISNA(Lists!$J45),\"\",IF((INDIRECT(\"'\"&Lists!$J45&\"'!\"&Lists!$L45&W$23))=\"\",\"\",(INDIRECT(\"'\"&Lists!$J45&\"'!\"&Lists!$L45&W$23))))","v":""},{"$f":"IF(ISNA(Lists!$J45),\"\",IF((INDIRECT(\"'\"&Lists!$J45&\"'!\"&Lists!$L45&X$23))=\"\",\"\",(INDIRECT(\"'\"&Lists!$J45&\"'!\"&Lists!$L45&X$23))))","v":""},{"$f":"IF(ISNA(Lists!$J45),\"\",IF((INDIRECT(\"'\"&Lists!$J45&\"'!\"&Lists!$L45&Y$23))=\"\",\"\",(INDIRECT(\"'\"&Lists!$J45&\"'!\"&Lists!$L45&Y$23))))","v":""},{"$f":"IF(ISNA(Lists!$J45),\"\",IF((INDIRECT(\"'\"&Lists!$J45&\"'!\"&Lists!$L45&Z$23))=\"\",\"\",(INDIRECT(\"'\"&Lists!$J45&\"'!\"&Lists!$L45&Z$23))))","v":""},{"$f":"IF(ISNA(Lists!$J45),\"\",IF((INDIRECT(\"'\"&Lists!$J45&\"'!\"&Lists!$L45&AA$23))=\"\",\"\",(INDIRECT(\"'\"&Lists!$J45&\"'!\"&Lists!$L45&AA$23))))","v":""},{"$f":"IF(ISNA(Lists!$J45),\"\",IF((INDIRECT(\"'\"&Lists!$J45&\"'!\"&Lists!$L45&AB$23))=\"\",\"\",(INDIRECT(\"'\"&Lists!$J45&\"'!\"&Lists!$L45&AB$23))))","v":""},{"$f":"IF(ISNA(Lists!$J45),\"\",IF((INDIRECT(\"'\"&Lists!$J45&\"'!\"&Lists!$K45&AC$23))=\"\",\"\",(INDIRECT(\"'\"&Lists!$J45&\"'!\"&Lists!$K45&AC$23))))","v":""},{"$f":"IF(ISNA(Lists!$J45),\"\",IF((INDIRECT(\"'\"&Lists!$J45&\"'!\"&Lists!$L45&AD$23))=\"\",\"\",(INDIRECT(\"'\"&Lists!$J45&\"'!\"&Lists!$L45&AD$23))))","v":""},{"$f":"IF(ISNA(Lists!$J45),\"\",IF((INDIRECT(\"'\"&Lists!$J45&\"'!\"&Lists!$K45&AE$23))=\"\",\"\",(INDIRECT(\"'\"&Lists!$J45&\"'!\"&Lists!$K45&AE$23))))","v":""},{"$f":"IF(ISNA(Lists!$J45),\"\",IF((INDIRECT(\"'\"&Lists!$J45&\"'!\"&Lists!$K45&AF$23))=\"\",\"\",(INDIRECT(\"'\"&Lists!$J45&\"'!\"&Lists!$K45&AF$23))))","v":""},{"$f":"IF(ISNA(Lists!$J45),\"\",IF((INDIRECT(\"'\"&Lists!$J45&\"'!\"&Lists!$K45&AG$23))=\"\",\"\",(INDIRECT(\"'\"&Lists!$J45&\"'!\"&Lists!$K45&AG$23))))","v":""},{"$f":"IF(ISNA(Lists!$J45),\"\",IF((INDIRECT(\"'\"&Lists!$J45&\"'!\"&Lists!$K45&AH$23))=\"\",\"\",(INDIRECT(\"'\"&Lists!$J45&\"'!\"&Lists!$K45&AH$23))))","v":""},{"$f":"IF(ISNA(Lists!$J45),\"\",IF((INDIRECT(\"'\"&Lists!$J45&\"'!\"&Lists!$K45&AI$23))=\"\",\"\",(INDIRECT(\"'\"&Lists!$J45&\"'!\"&Lists!$K45&AI$23))))","v":""},{"$f":"IF(ISNA(Lists!$J45),\"\",IF((INDIRECT(\"'\"&Lists!$J45&\"'!\"&Lists!$K45&AJ$23))=\"\",\"\",(INDIRECT(\"'\"&Lists!$J45&\"'!\"&Lists!$K45&AJ$23))))","v":""},{"$f":"IF(ISNA(Lists!$J45),\"\",IF((INDIRECT(\"'\"&Lists!$J45&\"'!\"&Lists!$K45&AK$23))=\"\",\"\",(INDIRECT(\"'\"&Lists!$J45&\"'!\"&Lists!$K45&AK$23))))","v":""},{"$f":"IF(ISNA(Lists!$J45),\"\",IF((INDIRECT(\"'\"&Lists!$J45&\"'!\"&Lists!$K45&AL$23))=\"\",\"\",(INDIRECT(\"'\"&Lists!$J45&\"'!\"&Lists!$K45&AL$23))))","v":""},{"$f":"IF(ISNA(Lists!$J45),\"\",IF((INDIRECT(\"'\"&Lists!$J45&\"'!\"&Lists!$K45&AM$23))=\"\",\"\",(INDIRECT(\"'\"&Lists!$J45&\"'!\"&Lists!$K45&AM$23))))","v":""},{"$f":"IF(ISNA(Lists!$J45),\"\",IF((INDIRECT(\"'\"&Lists!$J45&\"'!\"&Lists!$K45&AN$23))=\"\",\"\",(INDIRECT(\"'\"&Lists!$J45&\"'!\"&Lists!$K45&AN$23))))","v":""},{"$f":"IF(ISNA(Lists!$J45),\"\",IF((INDIRECT(\"'\"&Lists!$J45&\"'!\"&Lists!$K45&AO$23))=\"\",\"\",(INDIRECT(\"'\"&Lists!$J45&\"'!\"&Lists!$K45&AO$23))))","v":""}]
[null,{"$f":"IF(C68=\"\",\"\",Facility_Info_upload!$B$24)","v":""},{"$f":"IF(ISNA(Lists!$J46),\"\",IF(INDIRECT(\"'\"&Lists!$J46&\"'!\"&\"B\"&C$23)=\"\",\"\",(INDIRECT(\"'\"&Lists!$J46&\"'!\"&\"B\"&C$23))))","v":""},{"$f":"IF(ISNA(Lists!$J46),\"\",IF(INDIRECT(\"'\"&Lists!$J46&\"'!\"&\"B\"&D$23)=\"\",\"\",(INDIRECT(\"'\"&Lists!$J46&\"'!\"&\"B\"&D$23))))","v":""},{"$f":"IF(ISNA(Lists!$J46),\"\",IF(INDIRECT(\"'\"&Lists!$J46&\"'!\"&\"B\"&E$23)=\"\",\"\",(INDIRECT(\"'\"&Lists!$J46&\"'!\"&\"B\"&E$23))))","v":""},{"$f":"IF(ISNA(Lists!$J46),\"\",IF(INDIRECT(\"'\"&Lists!$J46&\"'!\"&\"B\"&F$23)=\"\",\"\",(INDIRECT(\"'\"&Lists!$J46&\"'!\"&\"B\"&F$23))))","v":""},{"$f":"IF(ISNA(Lists!$J46),\"\",IF(INDIRECT(\"'\"&Lists!$J46&\"'!\"&\"B\"&G$23)=\"\",\"\",(INDIRECT(\"'\"&Lists!$J46&\"'!\"&\"B\"&G$23))))","v":""},{"$f":"IF(ISNA(Lists!$J46),\"\",IF((INDIRECT(\"'\"&Lists!$J46&\"'!\"&Lists!$K46&H$23))=\"\",\"\",(INDIRECT(\"'\"&Lists!$J46&\"'!\"&Lists!$K46&H$23))))","v":""},{"$f":"IF(ISNA(Lists!$J46),\"\",IF((INDIRECT(\"'\"&Lists!$J46&\"'!\"&Lists!$K46&I$23))=\"\",\"\",(INDIRECT(\"'\"&Lists!$J46&\"'!\"&Lists!$K46&I$23))))","v":""},{"$f":"IF(ISNA(Lists!$J46),\"\",IF((INDIRECT(\"'\"&Lists!$J46&\"'!\"&Lists!$K46&J$23))=\"\",\"\",(INDIRECT(\"'\"&Lists!$J46&\"'!\"&Lists!$K46&J$23))))","v":""},{"$f":"IF(ISNA(Lists!$J46),\"\",IF((INDIRECT(\"'\"&Lists!$J46&\"'!\"&Lists!$K46&K$23))=\"\",\"\",(INDIRECT(\"'\"&Lists!$J46&\"'!\"&Lists!$K46&K$23))))","v":""},{"$f":"IF(ISNA(Lists!$J46),\"\",IF((INDIRECT(\"'\"&Lists!$J46&\"'!\"&Lists!$K46&L$23))=\"\",\"\",(INDIRECT(\"'\"&Lists!$J46&\"'!\"&Lists!$K46&L$23))))","v":""},{"$f":"IF(ISNA(Lists!$J46),\"\",IF((INDIRECT(\"'\"&Lists!$J46&\"'!\"&Lists!$K46&M$23))=\"\",\"\",(INDIRECT(\"'\"&Lists!$J46&\"'!\"&Lists!$K46&M$23))))","v":""},{"$f":"IF(ISNA(Lists!$J46),\"\",IF((INDIRECT(\"'\"&Lists!$J46&\"'!\"&Lists!$K46&N$23))=\"\",\"\",(INDIRECT(\"'\"&Lists!$J46&\"'!\"&Lists!$K46&N$23))))","v":""},{"$f":"IF(ISNA(Lists!$J46),\"\",IF((INDIRECT(\"'\"&Lists!$J46&\"'!\"&Lists!$K46&O$23))=\"\",\"\",(INDIRECT(\"'\"&Lists!$J46&\"'!\"&Lists!$K46&O$23))))","v":""},{"$f":"IF(ISNA(Lists!$J46),\"\",IF((INDIRECT(\"'\"&Lists!$J46&\"'!\"&Lists!$K46&P$23))=\"\",\"\",(INDIRECT(\"'\"&Lists!$J46&\"'!\"&Lists!$K46&P$23))))","v":""},{"$f":"IF(ISNA(Lists!$J46),\"\",IF((INDIRECT(\"'\"&Lists!$J46&\"'!\"&Lists!$K46&Q$23))=\"\",\"\",(INDIRECT(\"'\"&Lists!$J46&\"'!\"&Lists!$K46&Q$23))))","v":""},{"$f":"IF(ISNA(Lists!$J46),\"\",IF((INDIRECT(\"'\"&Lists!$J46&\"'!\"&Lists!$K46&R$23))=\"\",\"\",(INDIRECT(\"'\"&Lists!$J46&\"'!\"&Lists!$K46&R$23))))","v":""},{"$f":"IF(ISNA(Lists!$J46),\"\",IF((INDIRECT(\"'\"&Lists!$J46&\"'!\"&Lists!$K46&S$23))=\"\",\"\",(INDIRECT(\"'\"&Lists!$J46&\"'!\"&Lists!$K46&S$23))))","v":""},{"$f":"IF(ISNA(Lists!$J46),\"\",IF((INDIRECT(\"'\"&Lists!$J46&\"'!\"&Lists!$K46&T$23))=\"\",\"\",(INDIRECT(\"'\"&Lists!$J46&\"'!\"&Lists!$K46&T$23))))","v":""},{"$f":"IF(ISNA(Lists!$J46),\"\",IF((INDIRECT(\"'\"&Lists!$J46&\"'!\"&Lists!$K46&U$23))=\"\",\"\",(INDIRECT(\"'\"&Lists!$J46&\"'!\"&Lists!$K46&U$23))))","v":""},{"$f":"IF(ISNA(Lists!$J46),\"\",IF((INDIRECT(\"'\"&Lists!$J46&\"'!\"&Lists!$L46&V$23))=\"\",\"\",(INDIRECT(\"'\"&Lists!$J46&\"'!\"&Lists!$L46&V$23))))","v":""},{"$f":"IF(ISNA(Lists!$J46),\"\",IF((INDIRECT(\"'\"&Lists!$J46&\"'!\"&Lists!$L46&W$23))=\"\",\"\",(INDIRECT(\"'\"&Lists!$J46&\"'!\"&Lists!$L46&W$23))))","v":""},{"$f":"IF(ISNA(Lists!$J46),\"\",IF((INDIRECT(\"'\"&Lists!$J46&\"'!\"&Lists!$L46&X$23))=\"\",\"\",(INDIRECT(\"'\"&Lists!$J46&\"'!\"&Lists!$L46&X$23))))","v":""},{"$f":"IF(ISNA(Lists!$J46),\"\",IF((INDIRECT(\"'\"&Lists!$J46&\"'!\"&Lists!$L46&Y$23))=\"\",\"\",(INDIRECT(\"'\"&Lists!$J46&\"'!\"&Lists!$L46&Y$23))))","v":""},{"$f":"IF(ISNA(Lists!$J46),\"\",IF((INDIRECT(\"'\"&Lists!$J46&\"'!\"&Lists!$L46&Z$23))=\"\",\"\",(INDIRECT(\"'\"&Lists!$J46&\"'!\"&Lists!$L46&Z$23))))","v":""},{"$f":"IF(ISNA(Lists!$J46),\"\",IF((INDIRECT(\"'\"&Lists!$J46&\"'!\"&Lists!$L46&AA$23))=\"\",\"\",(INDIRECT(\"'\"&Lists!$J46&\"'!\"&Lists!$L46&AA$23))))","v":""},{"$f":"IF(ISNA(Lists!$J46),\"\",IF((INDIRECT(\"'\"&Lists!$J46&\"'!\"&Lists!$L46&AB$23))=\"\",\"\",(INDIRECT(\"'\"&Lists!$J46&\"'!\"&Lists!$L46&AB$23))))","v":""},{"$f":"IF(ISNA(Lists!$J46),\"\",IF((INDIRECT(\"'\"&Lists!$J46&\"'!\"&Lists!$K46&AC$23))=\"\",\"\",(INDIRECT(\"'\"&Lists!$J46&\"'!\"&Lists!$K46&AC$23))))","v":""},{"$f":"IF(ISNA(Lists!$J46),\"\",IF((INDIRECT(\"'\"&Lists!$J46&\"'!\"&Lists!$L46&AD$23))=\"\",\"\",(INDIRECT(\"'\"&Lists!$J46&\"'!\"&Lists!$L46&AD$23))))","v":""},{"$f":"IF(ISNA(Lists!$J46),\"\",IF((INDIRECT(\"'\"&Lists!$J46&\"'!\"&Lists!$K46&AE$23))=\"\",\"\",(INDIRECT(\"'\"&Lists!$J46&\"'!\"&Lists!$K46&AE$23))))","v":""},{"$f":"IF(ISNA(Lists!$J46),\"\",IF((INDIRECT(\"'\"&Lists!$J46&\"'!\"&Lists!$K46&AF$23))=\"\",\"\",(INDIRECT(\"'\"&Lists!$J46&\"'!\"&Lists!$K46&AF$23))))","v":""},{"$f":"IF(ISNA(Lists!$J46),\"\",IF((INDIRECT(\"'\"&Lists!$J46&\"'!\"&Lists!$K46&AG$23))=\"\",\"\",(INDIRECT(\"'\"&Lists!$J46&\"'!\"&Lists!$K46&AG$23))))","v":""},{"$f":"IF(ISNA(Lists!$J46),\"\",IF((INDIRECT(\"'\"&Lists!$J46&\"'!\"&Lists!$K46&AH$23))=\"\",\"\",(INDIRECT(\"'\"&Lists!$J46&\"'!\"&Lists!$K46&AH$23))))","v":""},{"$f":"IF(ISNA(Lists!$J46),\"\",IF((INDIRECT(\"'\"&Lists!$J46&\"'!\"&Lists!$K46&AI$23))=\"\",\"\",(INDIRECT(\"'\"&Lists!$J46&\"'!\"&Lists!$K46&AI$23))))","v":""},{"$f":"IF(ISNA(Lists!$J46),\"\",IF((INDIRECT(\"'\"&Lists!$J46&\"'!\"&Lists!$K46&AJ$23))=\"\",\"\",(INDIRECT(\"'\"&Lists!$J46&\"'!\"&Lists!$K46&AJ$23))))","v":""},{"$f":"IF(ISNA(Lists!$J46),\"\",IF((INDIRECT(\"'\"&Lists!$J46&\"'!\"&Lists!$K46&AK$23))=\"\",\"\",(INDIRECT(\"'\"&Lists!$J46&\"'!\"&Lists!$K46&AK$23))))","v":""},{"$f":"IF(ISNA(Lists!$J46),\"\",IF((INDIRECT(\"'\"&Lists!$J46&\"'!\"&Lists!$K46&AL$23))=\"\",\"\",(INDIRECT(\"'\"&Lists!$J46&\"'!\"&Lists!$K46&AL$23))))","v":""},{"$f":"IF(ISNA(Lists!$J46),\"\",IF((INDIRECT(\"'\"&Lists!$J46&\"'!\"&Lists!$K46&AM$23))=\"\",\"\",(INDIRECT(\"'\"&Lists!$J46&\"'!\"&Lists!$K46&AM$23))))","v":""},{"$f":"IF(ISNA(Lists!$J46),\"\",IF((INDIRECT(\"'\"&Lists!$J46&\"'!\"&Lists!$K46&AN$23))=\"\",\"\",(INDIRECT(\"'\"&Lists!$J46&\"'!\"&Lists!$K46&AN$23))))","v":""},{"$f":"IF(ISNA(Lists!$J46),\"\",IF((INDIRECT(\"'\"&Lists!$J46&\"'!\"&Lists!$K46&AO$23))=\"\",\"\",(INDIRECT(\"'\"&Lists!$J46&\"'!\"&Lists!$K46&AO$23))))","v":""}]
[null,{"$f":"IF(C69=\"\",\"\",Facility_Info_upload!$B$24)","v":""},{"$f":"IF(ISNA(Lists!$J47),\"\",IF(INDIRECT(\"'\"&Lists!$J47&\"'!\"&\"B\"&C$23)=\"\",\"\",(INDIRECT(\"'\"&Lists!$J47&\"'!\"&\"B\"&C$23))))","v":""},{"$f":"IF(ISNA(Lists!$J47),\"\",IF(INDIRECT(\"'\"&Lists!$J47&\"'!\"&\"B\"&D$23)=\"\",\"\",(INDIRECT(\"'\"&Lists!$J47&\"'!\"&\"B\"&D$23))))","v":""},{"$f":"IF(ISNA(Lists!$J47),\"\",IF(INDIRECT(\"'\"&Lists!$J47&\"'!\"&\"B\"&E$23)=\"\",\"\",(INDIRECT(\"'\"&Lists!$J47&\"'!\"&\"B\"&E$23))))","v":""},{"$f":"IF(ISNA(Lists!$J47),\"\",IF(INDIRECT(\"'\"&Lists!$J47&\"'!\"&\"B\"&F$23)=\"\",\"\",(INDIRECT(\"'\"&Lists!$J47&\"'!\"&\"B\"&F$23))))","v":""},{"$f":"IF(ISNA(Lists!$J47),\"\",IF(INDIRECT(\"'\"&Lists!$J47&\"'!\"&\"B\"&G$23)=\"\",\"\",(INDIRECT(\"'\"&Lists!$J47&\"'!\"&\"B\"&G$23))))","v":""},{"$f":"IF(ISNA(Lists!$J47),\"\",IF((INDIRECT(\"'\"&Lists!$J47&\"'!\"&Lists!$K47&H$23))=\"\",\"\",(INDIRECT(\"'\"&Lists!$J47&\"'!\"&Lists!$K47&H$23))))","v":""},{"$f":"IF(ISNA(Lists!$J47),\"\",IF((INDIRECT(\"'\"&Lists!$J47&\"'!\"&Lists!$K47&I$23))=\"\",\"\",(INDIRECT(\"'\"&Lists!$J47&\"'!\"&Lists!$K47&I$23))))","v":""},{"$f":"IF(ISNA(Lists!$J47),\"\",IF((INDIRECT(\"'\"&Lists!$J47&\"'!\"&Lists!$K47&J$23))=\"\",\"\",(INDIRECT(\"'\"&Lists!$J47&\"'!\"&Lists!$K47&J$23))))","v":""},{"$f":"IF(ISNA(Lists!$J47),\"\",IF((INDIRECT(\"'\"&Lists!$J47&\"'!\"&Lists!$K47&K$23))=\"\",\"\",(INDIRECT(\"'\"&Lists!$J47&\"'!\"&Lists!$K47&K$23))))","v":""},{"$f":"IF(ISNA(Lists!$J47),\"\",IF((INDIRECT(\"'\"&Lists!$J47&\"'!\"&Lists!$K47&L$23))=\"\",\"\",(INDIRECT(\"'\"&Lists!$J47&\"'!\"&Lists!$K47&L$23))))","v":""},{"$f":"IF(ISNA(Lists!$J47),\"\",IF((INDIRECT(\"'\"&Lists!$J47&\"'!\"&Lists!$K47&M$23))=\"\",\"\",(INDIRECT(\"'\"&Lists!$J47&\"'!\"&Lists!$K47&M$23))))","v":""},{"$f":"IF(ISNA(Lists!$J47),\"\",IF((INDIRECT(\"'\"&Lists!$J47&\"'!\"&Lists!$K47&N$23))=\"\",\"\",(INDIRECT(\"'\"&Lists!$J47&\"'!\"&Lists!$K47&N$23))))","v":""},{"$f":"IF(ISNA(Lists!$J47),\"\",IF((INDIRECT(\"'\"&Lists!$J47&\"'!\"&Lists!$K47&O$23))=\"\",\"\",(INDIRECT(\"'\"&Lists!$J47&\"'!\"&Lists!$K47&O$23))))","v":""},{"$f":"IF(ISNA(Lists!$J47),\"\",IF((INDIRECT(\"'\"&Lists!$J47&\"'!\"&Lists!$K47&P$23))=\"\",\"\",(INDIRECT(\"'\"&Lists!$J47&\"'!\"&Lists!$K47&P$23))))","v":""},{"$f":"IF(ISNA(Lists!$J47),\"\",IF((INDIRECT(\"'\"&Lists!$J47&\"'!\"&Lists!$K47&Q$23))=\"\",\"\",(INDIRECT(\"'\"&Lists!$J47&\"'!\"&Lists!$K47&Q$23))))","v":""},{"$f":"IF(ISNA(Lists!$J47),\"\",IF((INDIRECT(\"'\"&Lists!$J47&\"'!\"&Lists!$K47&R$23))=\"\",\"\",(INDIRECT(\"'\"&Lists!$J47&\"'!\"&Lists!$K47&R$23))))","v":""},{"$f":"IF(ISNA(Lists!$J47),\"\",IF((INDIRECT(\"'\"&Lists!$J47&\"'!\"&Lists!$K47&S$23))=\"\",\"\",(INDIRECT(\"'\"&Lists!$J47&\"'!\"&Lists!$K47&S$23))))","v":""},{"$f":"IF(ISNA(Lists!$J47),\"\",IF((INDIRECT(\"'\"&Lists!$J47&\"'!\"&Lists!$K47&T$23))=\"\",\"\",(INDIRECT(\"'\"&Lists!$J47&\"'!\"&Lists!$K47&T$23))))","v":""},{"$f":"IF(ISNA(Lists!$J47),\"\",IF((INDIRECT(\"'\"&Lists!$J47&\"'!\"&Lists!$K47&U$23))=\"\",\"\",(INDIRECT(\"'\"&Lists!$J47&\"'!\"&Lists!$K47&U$23))))","v":""},{"$f":"IF(ISNA(Lists!$J47),\"\",IF((INDIRECT(\"'\"&Lists!$J47&\"'!\"&Lists!$L47&V$23))=\"\",\"\",(INDIRECT(\"'\"&Lists!$J47&\"'!\"&Lists!$L47&V$23))))","v":""},{"$f":"IF(ISNA(Lists!$J47),\"\",IF((INDIRECT(\"'\"&Lists!$J47&\"'!\"&Lists!$L47&W$23))=\"\",\"\",(INDIRECT(\"'\"&Lists!$J47&\"'!\"&Lists!$L47&W$23))))","v":""},{"$f":"IF(ISNA(Lists!$J47),\"\",IF((INDIRECT(\"'\"&Lists!$J47&\"'!\"&Lists!$L47&X$23))=\"\",\"\",(INDIRECT(\"'\"&Lists!$J47&\"'!\"&Lists!$L47&X$23))))","v":""},{"$f":"IF(ISNA(Lists!$J47),\"\",IF((INDIRECT(\"'\"&Lists!$J47&\"'!\"&Lists!$L47&Y$23))=\"\",\"\",(INDIRECT(\"'\"&Lists!$J47&\"'!\"&Lists!$L47&Y$23))))","v":""},{"$f":"IF(ISNA(Lists!$J47),\"\",IF((INDIRECT(\"'\"&Lists!$J47&\"'!\"&Lists!$L47&Z$23))=\"\",\"\",(INDIRECT(\"'\"&Lists!$J47&\"'!\"&Lists!$L47&Z$23))))","v":""},{"$f":"IF(ISNA(Lists!$J47),\"\",IF((INDIRECT(\"'\"&Lists!$J47&\"'!\"&Lists!$L47&AA$23))=\"\",\"\",(INDIRECT(\"'\"&Lists!$J47&\"'!\"&Lists!$L47&AA$23))))","v":""},{"$f":"IF(ISNA(Lists!$J47),\"\",IF((INDIRECT(\"'\"&Lists!$J47&\"'!\"&Lists!$L47&AB$23))=\"\",\"\",(INDIRECT(\"'\"&Lists!$J47&\"'!\"&Lists!$L47&AB$23))))","v":""},{"$f":"IF(ISNA(Lists!$J47),\"\",IF((INDIRECT(\"'\"&Lists!$J47&\"'!\"&Lists!$K47&AC$23))=\"\",\"\",(INDIRECT(\"'\"&Lists!$J47&\"'!\"&Lists!$K47&AC$23))))","v":""},{"$f":"IF(ISNA(Lists!$J47),\"\",IF((INDIRECT(\"'\"&Lists!$J47&\"'!\"&Lists!$L47&AD$23))=\"\",\"\",(INDIRECT(\"'\"&Lists!$J47&\"'!\"&Lists!$L47&AD$23))))","v":""},{"$f":"IF(ISNA(Lists!$J47),\"\",IF((INDIRECT(\"'\"&Lists!$J47&\"'!\"&Lists!$K47&AE$23))=\"\",\"\",(INDIRECT(\"'\"&Lists!$J47&\"'!\"&Lists!$K47&AE$23))))","v":""},{"$f":"IF(ISNA(Lists!$J47),\"\",IF((INDIRECT(\"'\"&Lists!$J47&\"'!\"&Lists!$K47&AF$23))=\"\",\"\",(INDIRECT(\"'\"&Lists!$J47&\"'!\"&Lists!$K47&AF$23))))","v":""},{"$f":"IF(ISNA(Lists!$J47),\"\",IF((INDIRECT(\"'\"&Lists!$J47&\"'!\"&Lists!$K47&AG$23))=\"\",\"\",(INDIRECT(\"'\"&Lists!$J47&\"'!\"&Lists!$K47&AG$23))))","v":""},{"$f":"IF(ISNA(Lists!$J47),\"\",IF((INDIRECT(\"'\"&Lists!$J47&\"'!\"&Lists!$K47&AH$23))=\"\",\"\",(INDIRECT(\"'\"&Lists!$J47&\"'!\"&Lists!$K47&AH$23))))","v":""},{"$f":"IF(ISNA(Lists!$J47),\"\",IF((INDIRECT(\"'\"&Lists!$J47&\"'!\"&Lists!$K47&AI$23))=\"\",\"\",(INDIRECT(\"'\"&Lists!$J47&\"'!\"&Lists!$K47&AI$23))))","v":""},{"$f":"IF(ISNA(Lists!$J47),\"\",IF((INDIRECT(\"'\"&Lists!$J47&\"'!\"&Lists!$K47&AJ$23))=\"\",\"\",(INDIRECT(\"'\"&Lists!$J47&\"'!\"&Lists!$K47&AJ$23))))","v":""},{"$f":"IF(ISNA(Lists!$J47),\"\",IF((INDIRECT(\"'\"&Lists!$J47&\"'!\"&Lists!$K47&AK$23))=\"\",\"\",(INDIRECT(\"'\"&Lists!$J47&\"'!\"&Lists!$K47&AK$23))))","v":""},{"$f":"IF(ISNA(Lists!$J47),\"\",IF((INDIRECT(\"'\"&Lists!$J47&\"'!\"&Lists!$K47&AL$23))=\"\",\"\",(INDIRECT(\"'\"&Lists!$J47&\"'!\"&Lists!$K47&AL$23))))","v":""},{"$f":"IF(ISNA(Lists!$J47),\"\",IF((INDIRECT(\"'\"&Lists!$J47&\"'!\"&Lists!$K47&AM$23))=\"\",\"\",(INDIRECT(\"'\"&Lists!$J47&\"'!\"&Lists!$K47&AM$23))))","v":""},{"$f":"IF(ISNA(Lists!$J47),\"\",IF((INDIRECT(\"'\"&Lists!$J47&\"'!\"&Lists!$K47&AN$23))=\"\",\"\",(INDIRECT(\"'\"&Lists!$J47&\"'!\"&Lists!$K47&AN$23))))","v":""},{"$f":"IF(ISNA(Lists!$J47),\"\",IF((INDIRECT(\"'\"&Lists!$J47&\"'!\"&Lists!$K47&AO$23))=\"\",\"\",(INDIRECT(\"'\"&Lists!$J47&\"'!\"&Lists!$K47&AO$23))))","v":""}]
[null,{"$f":"IF(C70=\"\",\"\",Facility_Info_upload!$B$24)","v":""},{"$f":"IF(ISNA(Lists!$J48),\"\",IF(INDIRECT(\"'\"&Lists!$J48&\"'!\"&\"B\"&C$23)=\"\",\"\",(INDIRECT(\"'\"&Lists!$J48&\"'!\"&\"B\"&C$23))))","v":""},{"$f":"IF(ISNA(Lists!$J48),\"\",IF(INDIRECT(\"'\"&Lists!$J48&\"'!\"&\"B\"&D$23)=\"\",\"\",(INDIRECT(\"'\"&Lists!$J48&\"'!\"&\"B\"&D$23))))","v":""},{"$f":"IF(ISNA(Lists!$J48),\"\",IF(INDIRECT(\"'\"&Lists!$J48&\"'!\"&\"B\"&E$23)=\"\",\"\",(INDIRECT(\"'\"&Lists!$J48&\"'!\"&\"B\"&E$23))))","v":""},{"$f":"IF(ISNA(Lists!$J48),\"\",IF(INDIRECT(\"'\"&Lists!$J48&\"'!\"&\"B\"&F$23)=\"\",\"\",(INDIRECT(\"'\"&Lists!$J48&\"'!\"&\"B\"&F$23))))","v":""},{"$f":"IF(ISNA(Lists!$J48),\"\",IF(INDIRECT(\"'\"&Lists!$J48&\"'!\"&\"B\"&G$23)=\"\",\"\",(INDIRECT(\"'\"&Lists!$J48&\"'!\"&\"B\"&G$23))))","v":""},{"$f":"IF(ISNA(Lists!$J48),\"\",IF((INDIRECT(\"'\"&Lists!$J48&\"'!\"&Lists!$K48&H$23))=\"\",\"\",(INDIRECT(\"'\"&Lists!$J48&\"'!\"&Lists!$K48&H$23))))","v":""},{"$f":"IF(ISNA(Lists!$J48),\"\",IF((INDIRECT(\"'\"&Lists!$J48&\"'!\"&Lists!$K48&I$23))=\"\",\"\",(INDIRECT(\"'\"&Lists!$J48&\"'!\"&Lists!$K48&I$23))))","v":""},{"$f":"IF(ISNA(Lists!$J48),\"\",IF((INDIRECT(\"'\"&Lists!$J48&\"'!\"&Lists!$K48&J$23))=\"\",\"\",(INDIRECT(\"'\"&Lists!$J48&\"'!\"&Lists!$K48&J$23))))","v":""},{"$f":"IF(ISNA(Lists!$J48),\"\",IF((INDIRECT(\"'\"&Lists!$J48&\"'!\"&Lists!$K48&K$23))=\"\",\"\",(INDIRECT(\"'\"&Lists!$J48&\"'!\"&Lists!$K48&K$23))))","v":""},{"$f":"IF(ISNA(Lists!$J48),\"\",IF((INDIRECT(\"'\"&Lists!$J48&\"'!\"&Lists!$K48&L$23))=\"\",\"\",(INDIRECT(\"'\"&Lists!$J48&\"'!\"&Lists!$K48&L$23))))","v":""},{"$f":"IF(ISNA(Lists!$J48),\"\",IF((INDIRECT(\"'\"&Lists!$J48&\"'!\"&Lists!$K48&M$23))=\"\",\"\",(INDIRECT(\"'\"&Lists!$J48&\"'!\"&Lists!$K48&M$23))))","v":""},{"$f":"IF(ISNA(Lists!$J48),\"\",IF((INDIRECT(\"'\"&Lists!$J48&\"'!\"&Lists!$K48&N$23))=\"\",\"\",(INDIRECT(\"'\"&Lists!$J48&\"'!\"&Lists!$K48&N$23))))","v":""},{"$f":"IF(ISNA(Lists!$J48),\"\",IF((INDIRECT(\"'\"&Lists!$J48&\"'!\"&Lists!$K48&O$23))=\"\",\"\",(INDIRECT(\"'\"&Lists!$J48&\"'!\"&Lists!$K48&O$23))))","v":""},{"$f":"IF(ISNA(Lists!$J48),\"\",IF((INDIRECT(\"'\"&Lists!$J48&\"'!\"&Lists!$K48&P$23))=\"\",\"\",(INDIRECT(\"'\"&Lists!$J48&\"'!\"&Lists!$K48&P$23))))","v":""},{"$f":"IF(ISNA(Lists!$J48),\"\",IF((INDIRECT(\"'\"&Lists!$J48&\"'!\"&Lists!$K48&Q$23))=\"\",\"\",(INDIRECT(\"'\"&Lists!$J48&\"'!\"&Lists!$K48&Q$23))))","v":""},{"$f":"IF(ISNA(Lists!$J48),\"\",IF((INDIRECT(\"'\"&Lists!$J48&\"'!\"&Lists!$K48&R$23))=\"\",\"\",(INDIRECT(\"'\"&Lists!$J48&\"'!\"&Lists!$K48&R$23))))","v":""},{"$f":"IF(ISNA(Lists!$J48),\"\",IF((INDIRECT(\"'\"&Lists!$J48&\"'!\"&Lists!$K48&S$23))=\"\",\"\",(INDIRECT(\"'\"&Lists!$J48&\"'!\"&Lists!$K48&S$23))))","v":""},{"$f":"IF(ISNA(Lists!$J48),\"\",IF((INDIRECT(\"'\"&Lists!$J48&\"'!\"&Lists!$K48&T$23))=\"\",\"\",(INDIRECT(\"'\"&Lists!$J48&\"'!\"&Lists!$K48&T$23))))","v":""},{"$f":"IF(ISNA(Lists!$J48),\"\",IF((INDIRECT(\"'\"&Lists!$J48&\"'!\"&Lists!$K48&U$23))=\"\",\"\",(INDIRECT(\"'\"&Lists!$J48&\"'!\"&Lists!$K48&U$23))))","v":""},{"$f":"IF(ISNA(Lists!$J48),\"\",IF((INDIRECT(\"'\"&Lists!$J48&\"'!\"&Lists!$L48&V$23))=\"\",\"\",(INDIRECT(\"'\"&Lists!$J48&\"'!\"&Lists!$L48&V$23))))","v":""},{"$f":"IF(ISNA(Lists!$J48),\"\",IF((INDIRECT(\"'\"&Lists!$J48&\"'!\"&Lists!$L48&W$23))=\"\",\"\",(INDIRECT(\"'\"&Lists!$J48&\"'!\"&Lists!$L48&W$23))))","v":""},{"$f":"IF(ISNA(Lists!$J48),\"\",IF((INDIRECT(\"'\"&Lists!$J48&\"'!\"&Lists!$L48&X$23))=\"\",\"\",(INDIRECT(\"'\"&Lists!$J48&\"'!\"&Lists!$L48&X$23))))","v":""},{"$f":"IF(ISNA(Lists!$J48),\"\",IF((INDIRECT(\"'\"&Lists!$J48&\"'!\"&Lists!$L48&Y$23))=\"\",\"\",(INDIRECT(\"'\"&Lists!$J48&\"'!\"&Lists!$L48&Y$23))))","v":""},{"$f":"IF(ISNA(Lists!$J48),\"\",IF((INDIRECT(\"'\"&Lists!$J48&\"'!\"&Lists!$L48&Z$23))=\"\",\"\",(INDIRECT(\"'\"&Lists!$J48&\"'!\"&Lists!$L48&Z$23))))","v":""},{"$f":"IF(ISNA(Lists!$J48),\"\",IF((INDIRECT(\"'\"&Lists!$J48&\"'!\"&Lists!$L48&AA$23))=\"\",\"\",(INDIRECT(\"'\"&Lists!$J48&\"'!\"&Lists!$L48&AA$23))))","v":""},{"$f":"IF(ISNA(Lists!$J48),\"\",IF((INDIRECT(\"'\"&Lists!$J48&\"'!\"&Lists!$L48&AB$23))=\"\",\"\",(INDIRECT(\"'\"&Lists!$J48&\"'!\"&Lists!$L48&AB$23))))","v":""},{"$f":"IF(ISNA(Lists!$J48),\"\",IF((INDIRECT(\"'\"&Lists!$J48&\"'!\"&Lists!$K48&AC$23))=\"\",\"\",(INDIRECT(\"'\"&Lists!$J48&\"'!\"&Lists!$K48&AC$23))))","v":""},{"$f":"IF(ISNA(Lists!$J48),\"\",IF((INDIRECT(\"'\"&Lists!$J48&\"'!\"&Lists!$L48&AD$23))=\"\",\"\",(INDIRECT(\"'\"&Lists!$J48&\"'!\"&Lists!$L48&AD$23))))","v":""},{"$f":"IF(ISNA(Lists!$J48),\"\",IF((INDIRECT(\"'\"&Lists!$J48&\"'!\"&Lists!$K48&AE$23))=\"\",\"\",(INDIRECT(\"'\"&Lists!$J48&\"'!\"&Lists!$K48&AE$23))))","v":""},{"$f":"IF(ISNA(Lists!$J48),\"\",IF((INDIRECT(\"'\"&Lists!$J48&\"'!\"&Lists!$K48&AF$23))=\"\",\"\",(INDIRECT(\"'\"&Lists!$J48&\"'!\"&Lists!$K48&AF$23))))","v":""},{"$f":"IF(ISNA(Lists!$J48),\"\",IF((INDIRECT(\"'\"&Lists!$J48&\"'!\"&Lists!$K48&AG$23))=\"\",\"\",(INDIRECT(\"'\"&Lists!$J48&\"'!\"&Lists!$K48&AG$23))))","v":""},{"$f":"IF(ISNA(Lists!$J48),\"\",IF((INDIRECT(\"'\"&Lists!$J48&\"'!\"&Lists!$K48&AH$23))=\"\",\"\",(INDIRECT(\"'\"&Lists!$J48&\"'!\"&Lists!$K48&AH$23))))","v":""},{"$f":"IF(ISNA(Lists!$J48),\"\",IF((INDIRECT(\"'\"&Lists!$J48&\"'!\"&Lists!$K48&AI$23))=\"\",\"\",(INDIRECT(\"'\"&Lists!$J48&\"'!\"&Lists!$K48&AI$23))))","v":""},{"$f":"IF(ISNA(Lists!$J48),\"\",IF((INDIRECT(\"'\"&Lists!$J48&\"'!\"&Lists!$K48&AJ$23))=\"\",\"\",(INDIRECT(\"'\"&Lists!$J48&\"'!\"&Lists!$K48&AJ$23))))","v":""},{"$f":"IF(ISNA(Lists!$J48),\"\",IF((INDIRECT(\"'\"&Lists!$J48&\"'!\"&Lists!$K48&AK$23))=\"\",\"\",(INDIRECT(\"'\"&Lists!$J48&\"'!\"&Lists!$K48&AK$23))))","v":""},{"$f":"IF(ISNA(Lists!$J48),\"\",IF((INDIRECT(\"'\"&Lists!$J48&\"'!\"&Lists!$K48&AL$23))=\"\",\"\",(INDIRECT(\"'\"&Lists!$J48&\"'!\"&Lists!$K48&AL$23))))","v":""},{"$f":"IF(ISNA(Lists!$J48),\"\",IF((INDIRECT(\"'\"&Lists!$J48&\"'!\"&Lists!$K48&AM$23))=\"\",\"\",(INDIRECT(\"'\"&Lists!$J48&\"'!\"&Lists!$K48&AM$23))))","v":""},{"$f":"IF(ISNA(Lists!$J48),\"\",IF((INDIRECT(\"'\"&Lists!$J48&\"'!\"&Lists!$K48&AN$23))=\"\",\"\",(INDIRECT(\"'\"&Lists!$J48&\"'!\"&Lists!$K48&AN$23))))","v":""},{"$f":"IF(ISNA(Lists!$J48),\"\",IF((INDIRECT(\"'\"&Lists!$J48&\"'!\"&Lists!$K48&AO$23))=\"\",\"\",(INDIRECT(\"'\"&Lists!$J48&\"'!\"&Lists!$K48&AO$23))))","v":""}]
[null,{"$f":"IF(C71=\"\",\"\",Facility_Info_upload!$B$24)","v":""},{"$f":"IF(ISNA(Lists!$J49),\"\",IF(INDIRECT(\"'\"&Lists!$J49&\"'!\"&\"B\"&C$23)=\"\",\"\",(INDIRECT(\"'\"&Lists!$J49&\"'!\"&\"B\"&C$23))))","v":""},{"$f":"IF(ISNA(Lists!$J49),\"\",IF(INDIRECT(\"'\"&Lists!$J49&\"'!\"&\"B\"&D$23)=\"\",\"\",(INDIRECT(\"'\"&Lists!$J49&\"'!\"&\"B\"&D$23))))","v":""},{"$f":"IF(ISNA(Lists!$J49),\"\",IF(INDIRECT(\"'\"&Lists!$J49&\"'!\"&\"B\"&E$23)=\"\",\"\",(INDIRECT(\"'\"&Lists!$J49&\"'!\"&\"B\"&E$23))))","v":""},{"$f":"IF(ISNA(Lists!$J49),\"\",IF(INDIRECT(\"'\"&Lists!$J49&\"'!\"&\"B\"&F$23)=\"\",\"\",(INDIRECT(\"'\"&Lists!$J49&\"'!\"&\"B\"&F$23))))","v":""},{"$f":"IF(ISNA(Lists!$J49),\"\",IF(INDIRECT(\"'\"&Lists!$J49&\"'!\"&\"B\"&G$23)=\"\",\"\",(INDIRECT(\"'\"&Lists!$J49&\"'!\"&\"B\"&G$23))))","v":""},{"$f":"IF(ISNA(Lists!$J49),\"\",IF((INDIRECT(\"'\"&Lists!$J49&\"'!\"&Lists!$K49&H$23))=\"\",\"\",(INDIRECT(\"'\"&Lists!$J49&\"'!\"&Lists!$K49&H$23))))","v":""},{"$f":"IF(ISNA(Lists!$J49),\"\",IF((INDIRECT(\"'\"&Lists!$J49&\"'!\"&Lists!$K49&I$23))=\"\",\"\",(INDIRECT(\"'\"&Lists!$J49&\"'!\"&Lists!$K49&I$23))))","v":""},{"$f":"IF(ISNA(Lists!$J49),\"\",IF((INDIRECT(\"'\"&Lists!$J49&\"'!\"&Lists!$K49&J$23))=\"\",\"\",(INDIRECT(\"'\"&Lists!$J49&\"'!\"&Lists!$K49&J$23))))","v":""},{"$f":"IF(ISNA(Lists!$J49),\"\",IF((INDIRECT(\"'\"&Lists!$J49&\"'!\"&Lists!$K49&K$23))=\"\",\"\",(INDIRECT(\"'\"&Lists!$J49&\"'!\"&Lists!$K49&K$23))))","v":""},{"$f":"IF(ISNA(Lists!$J49),\"\",IF((INDIRECT(\"'\"&Lists!$J49&\"'!\"&Lists!$K49&L$23))=\"\",\"\",(INDIRECT(\"'\"&Lists!$J49&\"'!\"&Lists!$K49&L$23))))","v":""},{"$f":"IF(ISNA(Lists!$J49),\"\",IF((INDIRECT(\"'\"&Lists!$J49&\"'!\"&Lists!$K49&M$23))=\"\",\"\",(INDIRECT(\"'\"&Lists!$J49&\"'!\"&Lists!$K49&M$23))))","v":""},{"$f":"IF(ISNA(Lists!$J49),\"\",IF((INDIRECT(\"'\"&Lists!$J49&\"'!\"&Lists!$K49&N$23))=\"\",\"\",(INDIRECT(\"'\"&Lists!$J49&\"'!\"&Lists!$K49&N$23))))","v":""},{"$f":"IF(ISNA(Lists!$J49),\"\",IF((INDIRECT(\"'\"&Lists!$J49&\"'!\"&Lists!$K49&O$23))=\"\",\"\",(INDIRECT(\"'\"&Lists!$J49&\"'!\"&Lists!$K49&O$23))))","v":""},{"$f":"IF(ISNA(Lists!$J49),\"\",IF((INDIRECT(\"'\"&Lists!$J49&\"'!\"&Lists!$K49&P$23))=\"\",\"\",(INDIRECT(\"'\"&Lists!$J49&\"'!\"&Lists!$K49&P$23))))","v":""},{"$f":"IF(ISNA(Lists!$J49),\"\",IF((INDIRECT(\"'\"&Lists!$J49&\"'!\"&Lists!$K49&Q$23))=\"\",\"\",(INDIRECT(\"'\"&Lists!$J49&\"'!\"&Lists!$K49&Q$23))))","v":""},{"$f":"IF(ISNA(Lists!$J49),\"\",IF((INDIRECT(\"'\"&Lists!$J49&\"'!\"&Lists!$K49&R$23))=\"\",\"\",(INDIRECT(\"'\"&Lists!$J49&\"'!\"&Lists!$K49&R$23))))","v":""},{"$f":"IF(ISNA(Lists!$J49),\"\",IF((INDIRECT(\"'\"&Lists!$J49&\"'!\"&Lists!$K49&S$23))=\"\",\"\",(INDIRECT(\"'\"&Lists!$J49&\"'!\"&Lists!$K49&S$23))))","v":""},{"$f":"IF(ISNA(Lists!$J49),\"\",IF((INDIRECT(\"'\"&Lists!$J49&\"'!\"&Lists!$K49&T$23))=\"\",\"\",(INDIRECT(\"'\"&Lists!$J49&\"'!\"&Lists!$K49&T$23))))","v":""},{"$f":"IF(ISNA(Lists!$J49),\"\",IF((INDIRECT(\"'\"&Lists!$J49&\"'!\"&Lists!$K49&U$23))=\"\",\"\",(INDIRECT(\"'\"&Lists!$J49&\"'!\"&Lists!$K49&U$23))))","v":""},{"$f":"IF(ISNA(Lists!$J49),\"\",IF((INDIRECT(\"'\"&Lists!$J49&\"'!\"&Lists!$L49&V$23))=\"\",\"\",(INDIRECT(\"'\"&Lists!$J49&\"'!\"&Lists!$L49&V$23))))","v":""},{"$f":"IF(ISNA(Lists!$J49),\"\",IF((INDIRECT(\"'\"&Lists!$J49&\"'!\"&Lists!$L49&W$23))=\"\",\"\",(INDIRECT(\"'\"&Lists!$J49&\"'!\"&Lists!$L49&W$23))))","v":""},{"$f":"IF(ISNA(Lists!$J49),\"\",IF((INDIRECT(\"'\"&Lists!$J49&\"'!\"&Lists!$L49&X$23))=\"\",\"\",(INDIRECT(\"'\"&Lists!$J49&\"'!\"&Lists!$L49&X$23))))","v":""},{"$f":"IF(ISNA(Lists!$J49),\"\",IF((INDIRECT(\"'\"&Lists!$J49&\"'!\"&Lists!$L49&Y$23))=\"\",\"\",(INDIRECT(\"'\"&Lists!$J49&\"'!\"&Lists!$L49&Y$23))))","v":""},{"$f":"IF(ISNA(Lists!$J49),\"\",IF((INDIRECT(\"'\"&Lists!$J49&\"'!\"&Lists!$L49&Z$23))=\"\",\"\",(INDIRECT(\"'\"&Lists!$J49&\"'!\"&Lists!$L49&Z$23))))","v":""},{"$f":"IF(ISNA(Lists!$J49),\"\",IF((INDIRECT(\"'\"&Lists!$J49&\"'!\"&Lists!$L49&AA$23))=\"\",\"\",(INDIRECT(\"'\"&Lists!$J49&\"'!\"&Lists!$L49&AA$23))))","v":""},{"$f":"IF(ISNA(Lists!$J49),\"\",IF((INDIRECT(\"'\"&Lists!$J49&\"'!\"&Lists!$L49&AB$23))=\"\",\"\",(INDIRECT(\"'\"&Lists!$J49&\"'!\"&Lists!$L49&AB$23))))","v":""},{"$f":"IF(ISNA(Lists!$J49),\"\",IF((INDIRECT(\"'\"&Lists!$J49&\"'!\"&Lists!$K49&AC$23))=\"\",\"\",(INDIRECT(\"'\"&Lists!$J49&\"'!\"&Lists!$K49&AC$23))))","v":""},{"$f":"IF(ISNA(Lists!$J49),\"\",IF((INDIRECT(\"'\"&Lists!$J49&\"'!\"&Lists!$L49&AD$23))=\"\",\"\",(INDIRECT(\"'\"&Lists!$J49&\"'!\"&Lists!$L49&AD$23))))","v":""},{"$f":"IF(ISNA(Lists!$J49),\"\",IF((INDIRECT(\"'\"&Lists!$J49&\"'!\"&Lists!$K49&AE$23))=\"\",\"\",(INDIRECT(\"'\"&Lists!$J49&\"'!\"&Lists!$K49&AE$23))))","v":""},{"$f":"IF(ISNA(Lists!$J49),\"\",IF((INDIRECT(\"'\"&Lists!$J49&\"'!\"&Lists!$K49&AF$23))=\"\",\"\",(INDIRECT(\"'\"&Lists!$J49&\"'!\"&Lists!$K49&AF$23))))","v":""},{"$f":"IF(ISNA(Lists!$J49),\"\",IF((INDIRECT(\"'\"&Lists!$J49&\"'!\"&Lists!$K49&AG$23))=\"\",\"\",(INDIRECT(\"'\"&Lists!$J49&\"'!\"&Lists!$K49&AG$23))))","v":""},{"$f":"IF(ISNA(Lists!$J49),\"\",IF((INDIRECT(\"'\"&Lists!$J49&\"'!\"&Lists!$K49&AH$23))=\"\",\"\",(INDIRECT(\"'\"&Lists!$J49&\"'!\"&Lists!$K49&AH$23))))","v":""},{"$f":"IF(ISNA(Lists!$J49),\"\",IF((INDIRECT(\"'\"&Lists!$J49&\"'!\"&Lists!$K49&AI$23))=\"\",\"\",(INDIRECT(\"'\"&Lists!$J49&\"'!\"&Lists!$K49&AI$23))))","v":""},{"$f":"IF(ISNA(Lists!$J49),\"\",IF((INDIRECT(\"'\"&Lists!$J49&\"'!\"&Lists!$K49&AJ$23))=\"\",\"\",(INDIRECT(\"'\"&Lists!$J49&\"'!\"&Lists!$K49&AJ$23))))","v":""},{"$f":"IF(ISNA(Lists!$J49),\"\",IF((INDIRECT(\"'\"&Lists!$J49&\"'!\"&Lists!$K49&AK$23))=\"\",\"\",(INDIRECT(\"'\"&Lists!$J49&\"'!\"&Lists!$K49&AK$23))))","v":""},{"$f":"IF(ISNA(Lists!$J49),\"\",IF((INDIRECT(\"'\"&Lists!$J49&\"'!\"&Lists!$K49&AL$23))=\"\",\"\",(INDIRECT(\"'\"&Lists!$J49&\"'!\"&Lists!$K49&AL$23))))","v":""},{"$f":"IF(ISNA(Lists!$J49),\"\",IF((INDIRECT(\"'\"&Lists!$J49&\"'!\"&Lists!$K49&AM$23))=\"\",\"\",(INDIRECT(\"'\"&Lists!$J49&\"'!\"&Lists!$K49&AM$23))))","v":""},{"$f":"IF(ISNA(Lists!$J49),\"\",IF((INDIRECT(\"'\"&Lists!$J49&\"'!\"&Lists!$K49&AN$23))=\"\",\"\",(INDIRECT(\"'\"&Lists!$J49&\"'!\"&Lists!$K49&AN$23))))","v":""},{"$f":"IF(ISNA(Lists!$J49),\"\",IF((INDIRECT(\"'\"&Lists!$J49&\"'!\"&Lists!$K49&AO$23))=\"\",\"\",(INDIRECT(\"'\"&Lists!$J49&\"'!\"&Lists!$K49&AO$23))))","v":""}]
[null,{"$f":"IF(C72=\"\",\"\",Facility_Info_upload!$B$24)","v":""},{"$f":"IF(ISNA(Lists!$J50),\"\",IF(INDIRECT(\"'\"&Lists!$J50&\"'!\"&\"B\"&C$23)=\"\",\"\",(INDIRECT(\"'\"&Lists!$J50&\"'!\"&\"B\"&C$23))))","v":""},{"$f":"IF(ISNA(Lists!$J50),\"\",IF(INDIRECT(\"'\"&Lists!$J50&\"'!\"&\"B\"&D$23)=\"\",\"\",(INDIRECT(\"'\"&Lists!$J50&\"'!\"&\"B\"&D$23))))","v":""},{"$f":"IF(ISNA(Lists!$J50),\"\",IF(INDIRECT(\"'\"&Lists!$J50&\"'!\"&\"B\"&E$23)=\"\",\"\",(INDIRECT(\"'\"&Lists!$J50&\"'!\"&\"B\"&E$23))))","v":""},{"$f":"IF(ISNA(Lists!$J50),\"\",IF(INDIRECT(\"'\"&Lists!$J50&\"'!\"&\"B\"&F$23)=\"\",\"\",(INDIRECT(\"'\"&Lists!$J50&\"'!\"&\"B\"&F$23))))","v":""},{"$f":"IF(ISNA(Lists!$J50),\"\",IF(INDIRECT(\"'\"&Lists!$J50&\"'!\"&\"B\"&G$23)=\"\",\"\",(INDIRECT(\"'\"&Lists!$J50&\"'!\"&\"B\"&G$23))))","v":""},{"$f":"IF(ISNA(Lists!$J50),\"\",IF((INDIRECT(\"'\"&Lists!$J50&\"'!\"&Lists!$K50&H$23))=\"\",\"\",(INDIRECT(\"'\"&Lists!$J50&\"'!\"&Lists!$K50&H$23))))","v":""},{"$f":"IF(ISNA(Lists!$J50),\"\",IF((INDIRECT(\"'\"&Lists!$J50&\"'!\"&Lists!$K50&I$23))=\"\",\"\",(INDIRECT(\"'\"&Lists!$J50&\"'!\"&Lists!$K50&I$23))))","v":""},{"$f":"IF(ISNA(Lists!$J50),\"\",IF((INDIRECT(\"'\"&Lists!$J50&\"'!\"&Lists!$K50&J$23))=\"\",\"\",(INDIRECT(\"'\"&Lists!$J50&\"'!\"&Lists!$K50&J$23))))","v":""},{"$f":"IF(ISNA(Lists!$J50),\"\",IF((INDIRECT(\"'\"&Lists!$J50&\"'!\"&Lists!$K50&K$23))=\"\",\"\",(INDIRECT(\"'\"&Lists!$J50&\"'!\"&Lists!$K50&K$23))))","v":""},{"$f":"IF(ISNA(Lists!$J50),\"\",IF((INDIRECT(\"'\"&Lists!$J50&\"'!\"&Lists!$K50&L$23))=\"\",\"\",(INDIRECT(\"'\"&Lists!$J50&\"'!\"&Lists!$K50&L$23))))","v":""},{"$f":"IF(ISNA(Lists!$J50),\"\",IF((INDIRECT(\"'\"&Lists!$J50&\"'!\"&Lists!$K50&M$23))=\"\",\"\",(INDIRECT(\"'\"&Lists!$J50&\"'!\"&Lists!$K50&M$23))))","v":""},{"$f":"IF(ISNA(Lists!$J50),\"\",IF((INDIRECT(\"'\"&Lists!$J50&\"'!\"&Lists!$K50&N$23))=\"\",\"\",(INDIRECT(\"'\"&Lists!$J50&\"'!\"&Lists!$K50&N$23))))","v":""},{"$f":"IF(ISNA(Lists!$J50),\"\",IF((INDIRECT(\"'\"&Lists!$J50&\"'!\"&Lists!$K50&O$23))=\"\",\"\",(INDIRECT(\"'\"&Lists!$J50&\"'!\"&Lists!$K50&O$23))))","v":""},{"$f":"IF(ISNA(Lists!$J50),\"\",IF((INDIRECT(\"'\"&Lists!$J50&\"'!\"&Lists!$K50&P$23))=\"\",\"\",(INDIRECT(\"'\"&Lists!$J50&\"'!\"&Lists!$K50&P$23))))","v":""},{"$f":"IF(ISNA(Lists!$J50),\"\",IF((INDIRECT(\"'\"&Lists!$J50&\"'!\"&Lists!$K50&Q$23))=\"\",\"\",(INDIRECT(\"'\"&Lists!$J50&\"'!\"&Lists!$K50&Q$23))))","v":""},{"$f":"IF(ISNA(Lists!$J50),\"\",IF((INDIRECT(\"'\"&Lists!$J50&\"'!\"&Lists!$K50&R$23))=\"\",\"\",(INDIRECT(\"'\"&Lists!$J50&\"'!\"&Lists!$K50&R$23))))","v":""},{"$f":"IF(ISNA(Lists!$J50),\"\",IF((INDIRECT(\"'\"&Lists!$J50&\"'!\"&Lists!$K50&S$23))=\"\",\"\",(INDIRECT(\"'\"&Lists!$J50&\"'!\"&Lists!$K50&S$23))))","v":""},{"$f":"IF(ISNA(Lists!$J50),\"\",IF((INDIRECT(\"'\"&Lists!$J50&\"'!\"&Lists!$K50&T$23))=\"\",\"\",(INDIRECT(\"'\"&Lists!$J50&\"'!\"&Lists!$K50&T$23))))","v":""},{"$f":"IF(ISNA(Lists!$J50),\"\",IF((INDIRECT(\"'\"&Lists!$J50&\"'!\"&Lists!$K50&U$23))=\"\",\"\",(INDIRECT(\"'\"&Lists!$J50&\"'!\"&Lists!$K50&U$23))))","v":""},{"$f":"IF(ISNA(Lists!$J50),\"\",IF((INDIRECT(\"'\"&Lists!$J50&\"'!\"&Lists!$L50&V$23))=\"\",\"\",(INDIRECT(\"'\"&Lists!$J50&\"'!\"&Lists!$L50&V$23))))","v":""},{"$f":"IF(ISNA(Lists!$J50),\"\",IF((INDIRECT(\"'\"&Lists!$J50&\"'!\"&Lists!$L50&W$23))=\"\",\"\",(INDIRECT(\"'\"&Lists!$J50&\"'!\"&Lists!$L50&W$23))))","v":""},{"$f":"IF(ISNA(Lists!$J50),\"\",IF((INDIRECT(\"'\"&Lists!$J50&\"'!\"&Lists!$L50&X$23))=\"\",\"\",(INDIRECT(\"'\"&Lists!$J50&\"'!\"&Lists!$L50&X$23))))","v":""},{"$f":"IF(ISNA(Lists!$J50),\"\",IF((INDIRECT(\"'\"&Lists!$J50&\"'!\"&Lists!$L50&Y$23))=\"\",\"\",(INDIRECT(\"'\"&Lists!$J50&\"'!\"&Lists!$L50&Y$23))))","v":""},{"$f":"IF(ISNA(Lists!$J50),\"\",IF((INDIRECT(\"'\"&Lists!$J50&\"'!\"&Lists!$L50&Z$23))=\"\",\"\",(INDIRECT(\"'\"&Lists!$J50&\"'!\"&Lists!$L50&Z$23))))","v":""},{"$f":"IF(ISNA(Lists!$J50),\"\",IF((INDIRECT(\"'\"&Lists!$J50&\"'!\"&Lists!$L50&AA$23))=\"\",\"\",(INDIRECT(\"'\"&Lists!$J50&\"'!\"&Lists!$L50&AA$23))))","v":""},{"$f":"IF(ISNA(Lists!$J50),\"\",IF((INDIRECT(\"'\"&Lists!$J50&\"'!\"&Lists!$L50&AB$23))=\"\",\"\",(INDIRECT(\"'\"&Lists!$J50&\"'!\"&Lists!$L50&AB$23))))","v":""},{"$f":"IF(ISNA(Lists!$J50),\"\",IF((INDIRECT(\"'\"&Lists!$J50&\"'!\"&Lists!$K50&AC$23))=\"\",\"\",(INDIRECT(\"'\"&Lists!$J50&\"'!\"&Lists!$K50&AC$23))))","v":""},{"$f":"IF(ISNA(Lists!$J50),\"\",IF((INDIRECT(\"'\"&Lists!$J50&\"'!\"&Lists!$L50&AD$23))=\"\",\"\",(INDIRECT(\"'\"&Lists!$J50&\"'!\"&Lists!$L50&AD$23))))","v":""},{"$f":"IF(ISNA(Lists!$J50),\"\",IF((INDIRECT(\"'\"&Lists!$J50&\"'!\"&Lists!$K50&AE$23))=\"\",\"\",(INDIRECT(\"'\"&Lists!$J50&\"'!\"&Lists!$K50&AE$23))))","v":""},{"$f":"IF(ISNA(Lists!$J50),\"\",IF((INDIRECT(\"'\"&Lists!$J50&\"'!\"&Lists!$K50&AF$23))=\"\",\"\",(INDIRECT(\"'\"&Lists!$J50&\"'!\"&Lists!$K50&AF$23))))","v":""},{"$f":"IF(ISNA(Lists!$J50),\"\",IF((INDIRECT(\"'\"&Lists!$J50&\"'!\"&Lists!$K50&AG$23))=\"\",\"\",(INDIRECT(\"'\"&Lists!$J50&\"'!\"&Lists!$K50&AG$23))))","v":""},{"$f":"IF(ISNA(Lists!$J50),\"\",IF((INDIRECT(\"'\"&Lists!$J50&\"'!\"&Lists!$K50&AH$23))=\"\",\"\",(INDIRECT(\"'\"&Lists!$J50&\"'!\"&Lists!$K50&AH$23))))","v":""},{"$f":"IF(ISNA(Lists!$J50),\"\",IF((INDIRECT(\"'\"&Lists!$J50&\"'!\"&Lists!$K50&AI$23))=\"\",\"\",(INDIRECT(\"'\"&Lists!$J50&\"'!\"&Lists!$K50&AI$23))))","v":""},{"$f":"IF(ISNA(Lists!$J50),\"\",IF((INDIRECT(\"'\"&Lists!$J50&\"'!\"&Lists!$K50&AJ$23))=\"\",\"\",(INDIRECT(\"'\"&Lists!$J50&\"'!\"&Lists!$K50&AJ$23))))","v":""},{"$f":"IF(ISNA(Lists!$J50),\"\",IF((INDIRECT(\"'\"&Lists!$J50&\"'!\"&Lists!$K50&AK$23))=\"\",\"\",(INDIRECT(\"'\"&Lists!$J50&\"'!\"&Lists!$K50&AK$23))))","v":""},{"$f":"IF(ISNA(Lists!$J50),\"\",IF((INDIRECT(\"'\"&Lists!$J50&\"'!\"&Lists!$K50&AL$23))=\"\",\"\",(INDIRECT(\"'\"&Lists!$J50&\"'!\"&Lists!$K50&AL$23))))","v":""},{"$f":"IF(ISNA(Lists!$J50),\"\",IF((INDIRECT(\"'\"&Lists!$J50&\"'!\"&Lists!$K50&AM$23))=\"\",\"\",(INDIRECT(\"'\"&Lists!$J50&\"'!\"&Lists!$K50&AM$23))))","v":""},{"$f":"IF(ISNA(Lists!$J50),\"\",IF((INDIRECT(\"'\"&Lists!$J50&\"'!\"&Lists!$K50&AN$23))=\"\",\"\",(INDIRECT(\"'\"&Lists!$J50&\"'!\"&Lists!$K50&AN$23))))","v":""},{"$f":"IF(ISNA(Lists!$J50),\"\",IF((INDIRECT(\"'\"&Lists!$J50&\"'!\"&Lists!$K50&AO$23))=\"\",\"\",(INDIRECT(\"'\"&Lists!$J50&\"'!\"&Lists!$K50&AO$23))))","v":""}]
[null,{"$f":"IF(C73=\"\",\"\",Facility_Info_upload!$B$24)","v":""},{"$f":"IF(ISNA(Lists!$J51),\"\",IF(INDIRECT(\"'\"&Lists!$J51&\"'!\"&\"B\"&C$23)=\"\",\"\",(INDIRECT(\"'\"&Lists!$J51&\"'!\"&\"B\"&C$23))))","v":""},{"$f":"IF(ISNA(Lists!$J51),\"\",IF(INDIRECT(\"'\"&Lists!$J51&\"'!\"&\"B\"&D$23)=\"\",\"\",(INDIRECT(\"'\"&Lists!$J51&\"'!\"&\"B\"&D$23))))","v":""},{"$f":"IF(ISNA(Lists!$J51),\"\",IF(INDIRECT(\"'\"&Lists!$J51&\"'!\"&\"B\"&E$23)=\"\",\"\",(INDIRECT(\"'\"&Lists!$J51&\"'!\"&\"B\"&E$23))))","v":""},{"$f":"IF(ISNA(Lists!$J51),\"\",IF(INDIRECT(\"'\"&Lists!$J51&\"'!\"&\"B\"&F$23)=\"\",\"\",(INDIRECT(\"'\"&Lists!$J51&\"'!\"&\"B\"&F$23))))","v":""},{"$f":"IF(ISNA(Lists!$J51),\"\",IF(INDIRECT(\"'\"&Lists!$J51&\"'!\"&\"B\"&G$23)=\"\",\"\",(INDIRECT(\"'\"&Lists!$J51&\"'!\"&\"B\"&G$23))))","v":""},{"$f":"IF(ISNA(Lists!$J51),\"\",IF((INDIRECT(\"'\"&Lists!$J51&\"'!\"&Lists!$K51&H$23))=\"\",\"\",(INDIRECT(\"'\"&Lists!$J51&\"'!\"&Lists!$K51&H$23))))","v":""},{"$f":"IF(ISNA(Lists!$J51),\"\",IF((INDIRECT(\"'\"&Lists!$J51&\"'!\"&Lists!$K51&I$23))=\"\",\"\",(INDIRECT(\"'\"&Lists!$J51&\"'!\"&Lists!$K51&I$23))))","v":""},{"$f":"IF(ISNA(Lists!$J51),\"\",IF((INDIRECT(\"'\"&Lists!$J51&\"'!\"&Lists!$K51&J$23))=\"\",\"\",(INDIRECT(\"'\"&Lists!$J51&\"'!\"&Lists!$K51&J$23))))","v":""},{"$f":"IF(ISNA(Lists!$J51),\"\",IF((INDIRECT(\"'\"&Lists!$J51&\"'!\"&Lists!$K51&K$23))=\"\",\"\",(INDIRECT(\"'\"&Lists!$J51&\"'!\"&Lists!$K51&K$23))))","v":""},{"$f":"IF(ISNA(Lists!$J51),\"\",IF((INDIRECT(\"'\"&Lists!$J51&\"'!\"&Lists!$K51&L$23))=\"\",\"\",(INDIRECT(\"'\"&Lists!$J51&\"'!\"&Lists!$K51&L$23))))","v":""},{"$f":"IF(ISNA(Lists!$J51),\"\",IF((INDIRECT(\"'\"&Lists!$J51&\"'!\"&Lists!$K51&M$23))=\"\",\"\",(INDIRECT(\"'\"&Lists!$J51&\"'!\"&Lists!$K51&M$23))))","v":""},{"$f":"IF(ISNA(Lists!$J51),\"\",IF((INDIRECT(\"'\"&Lists!$J51&\"'!\"&Lists!$K51&N$23))=\"\",\"\",(INDIRECT(\"'\"&Lists!$J51&\"'!\"&Lists!$K51&N$23))))","v":""},{"$f":"IF(ISNA(Lists!$J51),\"\",IF((INDIRECT(\"'\"&Lists!$J51&\"'!\"&Lists!$K51&O$23))=\"\",\"\",(INDIRECT(\"'\"&Lists!$J51&\"'!\"&Lists!$K51&O$23))))","v":""},{"$f":"IF(ISNA(Lists!$J51),\"\",IF((INDIRECT(\"'\"&Lists!$J51&\"'!\"&Lists!$K51&P$23))=\"\",\"\",(INDIRECT(\"'\"&Lists!$J51&\"'!\"&Lists!$K51&P$23))))","v":""},{"$f":"IF(ISNA(Lists!$J51),\"\",IF((INDIRECT(\"'\"&Lists!$J51&\"'!\"&Lists!$K51&Q$23))=\"\",\"\",(INDIRECT(\"'\"&Lists!$J51&\"'!\"&Lists!$K51&Q$23))))","v":""},{"$f":"IF(ISNA(Lists!$J51),\"\",IF((INDIRECT(\"'\"&Lists!$J51&\"'!\"&Lists!$K51&R$23))=\"\",\"\",(INDIRECT(\"'\"&Lists!$J51&\"'!\"&Lists!$K51&R$23))))","v":""},{"$f":"IF(ISNA(Lists!$J51),\"\",IF((INDIRECT(\"'\"&Lists!$J51&\"'!\"&Lists!$K51&S$23))=\"\",\"\",(INDIRECT(\"'\"&Lists!$J51&\"'!\"&Lists!$K51&S$23))))","v":""},{"$f":"IF(ISNA(Lists!$J51),\"\",IF((INDIRECT(\"'\"&Lists!$J51&\"'!\"&Lists!$K51&T$23))=\"\",\"\",(INDIRECT(\"'\"&Lists!$J51&\"'!\"&Lists!$K51&T$23))))","v":""},{"$f":"IF(ISNA(Lists!$J51),\"\",IF((INDIRECT(\"'\"&Lists!$J51&\"'!\"&Lists!$K51&U$23))=\"\",\"\",(INDIRECT(\"'\"&Lists!$J51&\"'!\"&Lists!$K51&U$23))))","v":""},{"$f":"IF(ISNA(Lists!$J51),\"\",IF((INDIRECT(\"'\"&Lists!$J51&\"'!\"&Lists!$L51&V$23))=\"\",\"\",(INDIRECT(\"'\"&Lists!$J51&\"'!\"&Lists!$L51&V$23))))","v":""},{"$f":"IF(ISNA(Lists!$J51),\"\",IF((INDIRECT(\"'\"&Lists!$J51&\"'!\"&Lists!$L51&W$23))=\"\",\"\",(INDIRECT(\"'\"&Lists!$J51&\"'!\"&Lists!$L51&W$23))))","v":""},{"$f":"IF(ISNA(Lists!$J51),\"\",IF((INDIRECT(\"'\"&Lists!$J51&\"'!\"&Lists!$L51&X$23))=\"\",\"\",(INDIRECT(\"'\"&Lists!$J51&\"'!\"&Lists!$L51&X$23))))","v":""},{"$f":"IF(ISNA(Lists!$J51),\"\",IF((INDIRECT(\"'\"&Lists!$J51&\"'!\"&Lists!$L51&Y$23))=\"\",\"\",(INDIRECT(\"'\"&Lists!$J51&\"'!\"&Lists!$L51&Y$23))))","v":""},{"$f":"IF(ISNA(Lists!$J51),\"\",IF((INDIRECT(\"'\"&Lists!$J51&\"'!\"&Lists!$L51&Z$23))=\"\",\"\",(INDIRECT(\"'\"&Lists!$J51&\"'!\"&Lists!$L51&Z$23))))","v":""},{"$f":"IF(ISNA(Lists!$J51),\"\",IF((INDIRECT(\"'\"&Lists!$J51&\"'!\"&Lists!$L51&AA$23))=\"\",\"\",(INDIRECT(\"'\"&Lists!$J51&\"'!\"&Lists!$L51&AA$23))))","v":""},{"$f":"IF(ISNA(Lists!$J51),\"\",IF((INDIRECT(\"'\"&Lists!$J51&\"'!\"&Lists!$L51&AB$23))=\"\",\"\",(INDIRECT(\"'\"&Lists!$J51&\"'!\"&Lists!$L51&AB$23))))","v":""},{"$f":"IF(ISNA(Lists!$J51),\"\",IF((INDIRECT(\"'\"&Lists!$J51&\"'!\"&Lists!$K51&AC$23))=\"\",\"\",(INDIRECT(\"'\"&Lists!$J51&\"'!\"&Lists!$K51&AC$23))))","v":""},{"$f":"IF(ISNA(Lists!$J51),\"\",IF((INDIRECT(\"'\"&Lists!$J51&\"'!\"&Lists!$L51&AD$23))=\"\",\"\",(INDIRECT(\"'\"&Lists!$J51&\"'!\"&Lists!$L51&AD$23))))","v":""},{"$f":"IF(ISNA(Lists!$J51),\"\",IF((INDIRECT(\"'\"&Lists!$J51&\"'!\"&Lists!$K51&AE$23))=\"\",\"\",(INDIRECT(\"'\"&Lists!$J51&\"'!\"&Lists!$K51&AE$23))))","v":""},{"$f":"IF(ISNA(Lists!$J51),\"\",IF((INDIRECT(\"'\"&Lists!$J51&\"'!\"&Lists!$K51&AF$23))=\"\",\"\",(INDIRECT(\"'\"&Lists!$J51&\"'!\"&Lists!$K51&AF$23))))","v":""},{"$f":"IF(ISNA(Lists!$J51),\"\",IF((INDIRECT(\"'\"&Lists!$J51&\"'!\"&Lists!$K51&AG$23))=\"\",\"\",(INDIRECT(\"'\"&Lists!$J51&\"'!\"&Lists!$K51&AG$23))))","v":""},{"$f":"IF(ISNA(Lists!$J51),\"\",IF((INDIRECT(\"'\"&Lists!$J51&\"'!\"&Lists!$K51&AH$23))=\"\",\"\",(INDIRECT(\"'\"&Lists!$J51&\"'!\"&Lists!$K51&AH$23))))","v":""},{"$f":"IF(ISNA(Lists!$J51),\"\",IF((INDIRECT(\"'\"&Lists!$J51&\"'!\"&Lists!$K51&AI$23))=\"\",\"\",(INDIRECT(\"'\"&Lists!$J51&\"'!\"&Lists!$K51&AI$23))))","v":""},{"$f":"IF(ISNA(Lists!$J51),\"\",IF((INDIRECT(\"'\"&Lists!$J51&\"'!\"&Lists!$K51&AJ$23))=\"\",\"\",(INDIRECT(\"'\"&Lists!$J51&\"'!\"&Lists!$K51&AJ$23))))","v":""},{"$f":"IF(ISNA(Lists!$J51),\"\",IF((INDIRECT(\"'\"&Lists!$J51&\"'!\"&Lists!$K51&AK$23))=\"\",\"\",(INDIRECT(\"'\"&Lists!$J51&\"'!\"&Lists!$K51&AK$23))))","v":""},{"$f":"IF(ISNA(Lists!$J51),\"\",IF((INDIRECT(\"'\"&Lists!$J51&\"'!\"&Lists!$K51&AL$23))=\"\",\"\",(INDIRECT(\"'\"&Lists!$J51&\"'!\"&Lists!$K51&AL$23))))","v":""},{"$f":"IF(ISNA(Lists!$J51),\"\",IF((INDIRECT(\"'\"&Lists!$J51&\"'!\"&Lists!$K51&AM$23))=\"\",\"\",(INDIRECT(\"'\"&Lists!$J51&\"'!\"&Lists!$K51&AM$23))))","v":""},{"$f":"IF(ISNA(Lists!$J51),\"\",IF((INDIRECT(\"'\"&Lists!$J51&\"'!\"&Lists!$K51&AN$23))=\"\",\"\",(INDIRECT(\"'\"&Lists!$J51&\"'!\"&Lists!$K51&AN$23))))","v":""},{"$f":"IF(ISNA(Lists!$J51),\"\",IF((INDIRECT(\"'\"&Lists!$J51&\"'!\"&Lists!$K51&AO$23))=\"\",\"\",(INDIRECT(\"'\"&Lists!$J51&\"'!\"&Lists!$K51&AO$23))))","v":""}]
[null,{"$f":"IF(C74=\"\",\"\",Facility_Info_upload!$B$24)","v":""},{"$f":"IF(ISNA(Lists!$J52),\"\",IF(INDIRECT(\"'\"&Lists!$J52&\"'!\"&\"B\"&C$23)=\"\",\"\",(INDIRECT(\"'\"&Lists!$J52&\"'!\"&\"B\"&C$23))))","v":""},{"$f":"IF(ISNA(Lists!$J52),\"\",IF(INDIRECT(\"'\"&Lists!$J52&\"'!\"&\"B\"&D$23)=\"\",\"\",(INDIRECT(\"'\"&Lists!$J52&\"'!\"&\"B\"&D$23))))","v":""},{"$f":"IF(ISNA(Lists!$J52),\"\",IF(INDIRECT(\"'\"&Lists!$J52&\"'!\"&\"B\"&E$23)=\"\",\"\",(INDIRECT(\"'\"&Lists!$J52&\"'!\"&\"B\"&E$23))))","v":""},{"$f":"IF(ISNA(Lists!$J52),\"\",IF(INDIRECT(\"'\"&Lists!$J52&\"'!\"&\"B\"&F$23)=\"\",\"\",(INDIRECT(\"'\"&Lists!$J52&\"'!\"&\"B\"&F$23))))","v":""},{"$f":"IF(ISNA(Lists!$J52),\"\",IF(INDIRECT(\"'\"&Lists!$J52&\"'!\"&\"B\"&G$23)=\"\",\"\",(INDIRECT(\"'\"&Lists!$J52&\"'!\"&\"B\"&G$23))))","v":""},{"$f":"IF(ISNA(Lists!$J52),\"\",IF((INDIRECT(\"'\"&Lists!$J52&\"'!\"&Lists!$K52&H$23))=\"\",\"\",(INDIRECT(\"'\"&Lists!$J52&\"'!\"&Lists!$K52&H$23))))","v":""},{"$f":"IF(ISNA(Lists!$J52),\"\",IF((INDIRECT(\"'\"&Lists!$J52&\"'!\"&Lists!$K52&I$23))=\"\",\"\",(INDIRECT(\"'\"&Lists!$J52&\"'!\"&Lists!$K52&I$23))))","v":""},{"$f":"IF(ISNA(Lists!$J52),\"\",IF((INDIRECT(\"'\"&Lists!$J52&\"'!\"&Lists!$K52&J$23))=\"\",\"\",(INDIRECT(\"'\"&Lists!$J52&\"'!\"&Lists!$K52&J$23))))","v":""},{"$f":"IF(ISNA(Lists!$J52),\"\",IF((INDIRECT(\"'\"&Lists!$J52&\"'!\"&Lists!$K52&K$23))=\"\",\"\",(INDIRECT(\"'\"&Lists!$J52&\"'!\"&Lists!$K52&K$23))))","v":""},{"$f":"IF(ISNA(Lists!$J52),\"\",IF((INDIRECT(\"'\"&Lists!$J52&\"'!\"&Lists!$K52&L$23))=\"\",\"\",(INDIRECT(\"'\"&Lists!$J52&\"'!\"&Lists!$K52&L$23))))","v":""},{"$f":"IF(ISNA(Lists!$J52),\"\",IF((INDIRECT(\"'\"&Lists!$J52&\"'!\"&Lists!$K52&M$23))=\"\",\"\",(INDIRECT(\"'\"&Lists!$J52&\"'!\"&Lists!$K52&M$23))))","v":""},{"$f":"IF(ISNA(Lists!$J52),\"\",IF((INDIRECT(\"'\"&Lists!$J52&\"'!\"&Lists!$K52&N$23))=\"\",\"\",(INDIRECT(\"'\"&Lists!$J52&\"'!\"&Lists!$K52&N$23))))","v":""},{"$f":"IF(ISNA(Lists!$J52),\"\",IF((INDIRECT(\"'\"&Lists!$J52&\"'!\"&Lists!$K52&O$23))=\"\",\"\",(INDIRECT(\"'\"&Lists!$J52&\"'!\"&Lists!$K52&O$23))))","v":""},{"$f":"IF(ISNA(Lists!$J52),\"\",IF((INDIRECT(\"'\"&Lists!$J52&\"'!\"&Lists!$K52&P$23))=\"\",\"\",(INDIRECT(\"'\"&Lists!$J52&\"'!\"&Lists!$K52&P$23))))","v":""},{"$f":"IF(ISNA(Lists!$J52),\"\",IF((INDIRECT(\"'\"&Lists!$J52&\"'!\"&Lists!$K52&Q$23))=\"\",\"\",(INDIRECT(\"'\"&Lists!$J52&\"'!\"&Lists!$K52&Q$23))))","v":""},{"$f":"IF(ISNA(Lists!$J52),\"\",IF((INDIRECT(\"'\"&Lists!$J52&\"'!\"&Lists!$K52&R$23))=\"\",\"\",(INDIRECT(\"'\"&Lists!$J52&\"'!\"&Lists!$K52&R$23))))","v":""},{"$f":"IF(ISNA(Lists!$J52),\"\",IF((INDIRECT(\"'\"&Lists!$J52&\"'!\"&Lists!$K52&S$23))=\"\",\"\",(INDIRECT(\"'\"&Lists!$J52&\"'!\"&Lists!$K52&S$23))))","v":""},{"$f":"IF(ISNA(Lists!$J52),\"\",IF((INDIRECT(\"'\"&Lists!$J52&\"'!\"&Lists!$K52&T$23))=\"\",\"\",(INDIRECT(\"'\"&Lists!$J52&\"'!\"&Lists!$K52&T$23))))","v":""},{"$f":"IF(ISNA(Lists!$J52),\"\",IF((INDIRECT(\"'\"&Lists!$J52&\"'!\"&Lists!$K52&U$23))=\"\",\"\",(INDIRECT(\"'\"&Lists!$J52&\"'!\"&Lists!$K52&U$23))))","v":""},{"$f":"IF(ISNA(Lists!$J52),\"\",IF((INDIRECT(\"'\"&Lists!$J52&\"'!\"&Lists!$L52&V$23))=\"\",\"\",(INDIRECT(\"'\"&Lists!$J52&\"'!\"&Lists!$L52&V$23))))","v":""},{"$f":"IF(ISNA(Lists!$J52),\"\",IF((INDIRECT(\"'\"&Lists!$J52&\"'!\"&Lists!$L52&W$23))=\"\",\"\",(INDIRECT(\"'\"&Lists!$J52&\"'!\"&Lists!$L52&W$23))))","v":""},{"$f":"IF(ISNA(Lists!$J52),\"\",IF((INDIRECT(\"'\"&Lists!$J52&\"'!\"&Lists!$L52&X$23))=\"\",\"\",(INDIRECT(\"'\"&Lists!$J52&\"'!\"&Lists!$L52&X$23))))","v":""},{"$f":"IF(ISNA(Lists!$J52),\"\",IF((INDIRECT(\"'\"&Lists!$J52&\"'!\"&Lists!$L52&Y$23))=\"\",\"\",(INDIRECT(\"'\"&Lists!$J52&\"'!\"&Lists!$L52&Y$23))))","v":""},{"$f":"IF(ISNA(Lists!$J52),\"\",IF((INDIRECT(\"'\"&Lists!$J52&\"'!\"&Lists!$L52&Z$23))=\"\",\"\",(INDIRECT(\"'\"&Lists!$J52&\"'!\"&Lists!$L52&Z$23))))","v":""},{"$f":"IF(ISNA(Lists!$J52),\"\",IF((INDIRECT(\"'\"&Lists!$J52&\"'!\"&Lists!$L52&AA$23))=\"\",\"\",(INDIRECT(\"'\"&Lists!$J52&\"'!\"&Lists!$L52&AA$23))))","v":""},{"$f":"IF(ISNA(Lists!$J52),\"\",IF((INDIRECT(\"'\"&Lists!$J52&\"'!\"&Lists!$L52&AB$23))=\"\",\"\",(INDIRECT(\"'\"&Lists!$J52&\"'!\"&Lists!$L52&AB$23))))","v":""},{"$f":"IF(ISNA(Lists!$J52),\"\",IF((INDIRECT(\"'\"&Lists!$J52&\"'!\"&Lists!$K52&AC$23))=\"\",\"\",(INDIRECT(\"'\"&Lists!$J52&\"'!\"&Lists!$K52&AC$23))))","v":""},{"$f":"IF(ISNA(Lists!$J52),\"\",IF((INDIRECT(\"'\"&Lists!$J52&\"'!\"&Lists!$L52&AD$23))=\"\",\"\",(INDIRECT(\"'\"&Lists!$J52&\"'!\"&Lists!$L52&AD$23))))","v":""},{"$f":"IF(ISNA(Lists!$J52),\"\",IF((INDIRECT(\"'\"&Lists!$J52&\"'!\"&Lists!$K52&AE$23))=\"\",\"\",(INDIRECT(\"'\"&Lists!$J52&\"'!\"&Lists!$K52&AE$23))))","v":""},{"$f":"IF(ISNA(Lists!$J52),\"\",IF((INDIRECT(\"'\"&Lists!$J52&\"'!\"&Lists!$K52&AF$23))=\"\",\"\",(INDIRECT(\"'\"&Lists!$J52&\"'!\"&Lists!$K52&AF$23))))","v":""},{"$f":"IF(ISNA(Lists!$J52),\"\",IF((INDIRECT(\"'\"&Lists!$J52&\"'!\"&Lists!$K52&AG$23))=\"\",\"\",(INDIRECT(\"'\"&Lists!$J52&\"'!\"&Lists!$K52&AG$23))))","v":""},{"$f":"IF(ISNA(Lists!$J52),\"\",IF((INDIRECT(\"'\"&Lists!$J52&\"'!\"&Lists!$K52&AH$23))=\"\",\"\",(INDIRECT(\"'\"&Lists!$J52&\"'!\"&Lists!$K52&AH$23))))","v":""},{"$f":"IF(ISNA(Lists!$J52),\"\",IF((INDIRECT(\"'\"&Lists!$J52&\"'!\"&Lists!$K52&AI$23))=\"\",\"\",(INDIRECT(\"'\"&Lists!$J52&\"'!\"&Lists!$K52&AI$23))))","v":""},{"$f":"IF(ISNA(Lists!$J52),\"\",IF((INDIRECT(\"'\"&Lists!$J52&\"'!\"&Lists!$K52&AJ$23))=\"\",\"\",(INDIRECT(\"'\"&Lists!$J52&\"'!\"&Lists!$K52&AJ$23))))","v":""},{"$f":"IF(ISNA(Lists!$J52),\"\",IF((INDIRECT(\"'\"&Lists!$J52&\"'!\"&Lists!$K52&AK$23))=\"\",\"\",(INDIRECT(\"'\"&Lists!$J52&\"'!\"&Lists!$K52&AK$23))))","v":""},{"$f":"IF(ISNA(Lists!$J52),\"\",IF((INDIRECT(\"'\"&Lists!$J52&\"'!\"&Lists!$K52&AL$23))=\"\",\"\",(INDIRECT(\"'\"&Lists!$J52&\"'!\"&Lists!$K52&AL$23))))","v":""},{"$f":"IF(ISNA(Lists!$J52),\"\",IF((INDIRECT(\"'\"&Lists!$J52&\"'!\"&Lists!$K52&AM$23))=\"\",\"\",(INDIRECT(\"'\"&Lists!$J52&\"'!\"&Lists!$K52&AM$23))))","v":""},{"$f":"IF(ISNA(Lists!$J52),\"\",IF((INDIRECT(\"'\"&Lists!$J52&\"'!\"&Lists!$K52&AN$23))=\"\",\"\",(INDIRECT(\"'\"&Lists!$J52&\"'!\"&Lists!$K52&AN$23))))","v":""},{"$f":"IF(ISNA(Lists!$J52),\"\",IF((INDIRECT(\"'\"&Lists!$J52&\"'!\"&Lists!$K52&AO$23))=\"\",\"\",(INDIRECT(\"'\"&Lists!$J52&\"'!\"&Lists!$K52&AO$23))))","v":""}]
[null,{"$f":"IF(C75=\"\",\"\",Facility_Info_upload!$B$24)","v":""},{"$f":"IF(ISNA(Lists!$J53),\"\",IF(INDIRECT(\"'\"&Lists!$J53&\"'!\"&\"B\"&C$23)=\"\",\"\",(INDIRECT(\"'\"&Lists!$J53&\"'!\"&\"B\"&C$23))))","v":""},{"$f":"IF(ISNA(Lists!$J53),\"\",IF(INDIRECT(\"'\"&Lists!$J53&\"'!\"&\"B\"&D$23)=\"\",\"\",(INDIRECT(\"'\"&Lists!$J53&\"'!\"&\"B\"&D$23))))","v":""},{"$f":"IF(ISNA(Lists!$J53),\"\",IF(INDIRECT(\"'\"&Lists!$J53&\"'!\"&\"B\"&E$23)=\"\",\"\",(INDIRECT(\"'\"&Lists!$J53&\"'!\"&\"B\"&E$23))))","v":""},{"$f":"IF(ISNA(Lists!$J53),\"\",IF(INDIRECT(\"'\"&Lists!$J53&\"'!\"&\"B\"&F$23)=\"\",\"\",(INDIRECT(\"'\"&Lists!$J53&\"'!\"&\"B\"&F$23))))","v":""},{"$f":"IF(ISNA(Lists!$J53),\"\",IF(INDIRECT(\"'\"&Lists!$J53&\"'!\"&\"B\"&G$23)=\"\",\"\",(INDIRECT(\"'\"&Lists!$J53&\"'!\"&\"B\"&G$23))))","v":""},{"$f":"IF(ISNA(Lists!$J53),\"\",IF((INDIRECT(\"'\"&Lists!$J53&\"'!\"&Lists!$K53&H$23))=\"\",\"\",(INDIRECT(\"'\"&Lists!$J53&\"'!\"&Lists!$K53&H$23))))","v":""},{"$f":"IF(ISNA(Lists!$J53),\"\",IF((INDIRECT(\"'\"&Lists!$J53&\"'!\"&Lists!$K53&I$23))=\"\",\"\",(INDIRECT(\"'\"&Lists!$J53&\"'!\"&Lists!$K53&I$23))))","v":""},{"$f":"IF(ISNA(Lists!$J53),\"\",IF((INDIRECT(\"'\"&Lists!$J53&\"'!\"&Lists!$K53&J$23))=\"\",\"\",(INDIRECT(\"'\"&Lists!$J53&\"'!\"&Lists!$K53&J$23))))","v":""},{"$f":"IF(ISNA(Lists!$J53),\"\",IF((INDIRECT(\"'\"&Lists!$J53&\"'!\"&Lists!$K53&K$23))=\"\",\"\",(INDIRECT(\"'\"&Lists!$J53&\"'!\"&Lists!$K53&K$23))))","v":""},{"$f":"IF(ISNA(Lists!$J53),\"\",IF((INDIRECT(\"'\"&Lists!$J53&\"'!\"&Lists!$K53&L$23))=\"\",\"\",(INDIRECT(\"'\"&Lists!$J53&\"'!\"&Lists!$K53&L$23))))","v":""},{"$f":"IF(ISNA(Lists!$J53),\"\",IF((INDIRECT(\"'\"&Lists!$J53&\"'!\"&Lists!$K53&M$23))=\"\",\"\",(INDIRECT(\"'\"&Lists!$J53&\"'!\"&Lists!$K53&M$23))))","v":""},{"$f":"IF(ISNA(Lists!$J53),\"\",IF((INDIRECT(\"'\"&Lists!$J53&\"'!\"&Lists!$K53&N$23))=\"\",\"\",(INDIRECT(\"'\"&Lists!$J53&\"'!\"&Lists!$K53&N$23))))","v":""},{"$f":"IF(ISNA(Lists!$J53),\"\",IF((INDIRECT(\"'\"&Lists!$J53&\"'!\"&Lists!$K53&O$23))=\"\",\"\",(INDIRECT(\"'\"&Lists!$J53&\"'!\"&Lists!$K53&O$23))))","v":""},{"$f":"IF(ISNA(Lists!$J53),\"\",IF((INDIRECT(\"'\"&Lists!$J53&\"'!\"&Lists!$K53&P$23))=\"\",\"\",(INDIRECT(\"'\"&Lists!$J53&\"'!\"&Lists!$K53&P$23))))","v":""},{"$f":"IF(ISNA(Lists!$J53),\"\",IF((INDIRECT(\"'\"&Lists!$J53&\"'!\"&Lists!$K53&Q$23))=\"\",\"\",(INDIRECT(\"'\"&Lists!$J53&\"'!\"&Lists!$K53&Q$23))))","v":""},{"$f":"IF(ISNA(Lists!$J53),\"\",IF((INDIRECT(\"'\"&Lists!$J53&\"'!\"&Lists!$K53&R$23))=\"\",\"\",(INDIRECT(\"'\"&Lists!$J53&\"'!\"&Lists!$K53&R$23))))","v":""},{"$f":"IF(ISNA(Lists!$J53),\"\",IF((INDIRECT(\"'\"&Lists!$J53&\"'!\"&Lists!$K53&S$23))=\"\",\"\",(INDIRECT(\"'\"&Lists!$J53&\"'!\"&Lists!$K53&S$23))))","v":""},{"$f":"IF(ISNA(Lists!$J53),\"\",IF((INDIRECT(\"'\"&Lists!$J53&\"'!\"&Lists!$K53&T$23))=\"\",\"\",(INDIRECT(\"'\"&Lists!$J53&\"'!\"&Lists!$K53&T$23))))","v":""},{"$f":"IF(ISNA(Lists!$J53),\"\",IF((INDIRECT(\"'\"&Lists!$J53&\"'!\"&Lists!$K53&U$23))=\"\",\"\",(INDIRECT(\"'\"&Lists!$J53&\"'!\"&Lists!$K53&U$23))))","v":""},{"$f":"IF(ISNA(Lists!$J53),\"\",IF((INDIRECT(\"'\"&Lists!$J53&\"'!\"&Lists!$L53&V$23))=\"\",\"\",(INDIRECT(\"'\"&Lists!$J53&\"'!\"&Lists!$L53&V$23))))","v":""},{"$f":"IF(ISNA(Lists!$J53),\"\",IF((INDIRECT(\"'\"&Lists!$J53&\"'!\"&Lists!$L53&W$23))=\"\",\"\",(INDIRECT(\"'\"&Lists!$J53&\"'!\"&Lists!$L53&W$23))))","v":""},{"$f":"IF(ISNA(Lists!$J53),\"\",IF((INDIRECT(\"'\"&Lists!$J53&\"'!\"&Lists!$L53&X$23))=\"\",\"\",(INDIRECT(\"'\"&Lists!$J53&\"'!\"&Lists!$L53&X$23))))","v":""},{"$f":"IF(ISNA(Lists!$J53),\"\",IF((INDIRECT(\"'\"&Lists!$J53&\"'!\"&Lists!$L53&Y$23))=\"\",\"\",(INDIRECT(\"'\"&Lists!$J53&\"'!\"&Lists!$L53&Y$23))))","v":""},{"$f":"IF(ISNA(Lists!$J53),\"\",IF((INDIRECT(\"'\"&Lists!$J53&\"'!\"&Lists!$L53&Z$23))=\"\",\"\",(INDIRECT(\"'\"&Lists!$J53&\"'!\"&Lists!$L53&Z$23))))","v":""},{"$f":"IF(ISNA(Lists!$J53),\"\",IF((INDIRECT(\"'\"&Lists!$J53&\"'!\"&Lists!$L53&AA$23))=\"\",\"\",(INDIRECT(\"'\"&Lists!$J53&\"'!\"&Lists!$L53&AA$23))))","v":""},{"$f":"IF(ISNA(Lists!$J53),\"\",IF((INDIRECT(\"'\"&Lists!$J53&\"'!\"&Lists!$L53&AB$23))=\"\",\"\",(INDIRECT(\"'\"&Lists!$J53&\"'!\"&Lists!$L53&AB$23))))","v":""},{"$f":"IF(ISNA(Lists!$J53),\"\",IF((INDIRECT(\"'\"&Lists!$J53&\"'!\"&Lists!$K53&AC$23))=\"\",\"\",(INDIRECT(\"'\"&Lists!$J53&\"'!\"&Lists!$K53&AC$23))))","v":""},{"$f":"IF(ISNA(Lists!$J53),\"\",IF((INDIRECT(\"'\"&Lists!$J53&\"'!\"&Lists!$L53&AD$23))=\"\",\"\",(INDIRECT(\"'\"&Lists!$J53&\"'!\"&Lists!$L53&AD$23))))","v":""},{"$f":"IF(ISNA(Lists!$J53),\"\",IF((INDIRECT(\"'\"&Lists!$J53&\"'!\"&Lists!$K53&AE$23))=\"\",\"\",(INDIRECT(\"'\"&Lists!$J53&\"'!\"&Lists!$K53&AE$23))))","v":""},{"$f":"IF(ISNA(Lists!$J53),\"\",IF((INDIRECT(\"'\"&Lists!$J53&\"'!\"&Lists!$K53&AF$23))=\"\",\"\",(INDIRECT(\"'\"&Lists!$J53&\"'!\"&Lists!$K53&AF$23))))","v":""},{"$f":"IF(ISNA(Lists!$J53),\"\",IF((INDIRECT(\"'\"&Lists!$J53&\"'!\"&Lists!$K53&AG$23))=\"\",\"\",(INDIRECT(\"'\"&Lists!$J53&\"'!\"&Lists!$K53&AG$23))))","v":""},{"$f":"IF(ISNA(Lists!$J53),\"\",IF((INDIRECT(\"'\"&Lists!$J53&\"'!\"&Lists!$K53&AH$23))=\"\",\"\",(INDIRECT(\"'\"&Lists!$J53&\"'!\"&Lists!$K53&AH$23))))","v":""},{"$f":"IF(ISNA(Lists!$J53),\"\",IF((INDIRECT(\"'\"&Lists!$J53&\"'!\"&Lists!$K53&AI$23))=\"\",\"\",(INDIRECT(\"'\"&Lists!$J53&\"'!\"&Lists!$K53&AI$23))))","v":""},{"$f":"IF(ISNA(Lists!$J53),\"\",IF((INDIRECT(\"'\"&Lists!$J53&\"'!\"&Lists!$K53&AJ$23))=\"\",\"\",(INDIRECT(\"'\"&Lists!$J53&\"'!\"&Lists!$K53&AJ$23))))","v":""},{"$f":"IF(ISNA(Lists!$J53),\"\",IF((INDIRECT(\"'\"&Lists!$J53&\"'!\"&Lists!$K53&AK$23))=\"\",\"\",(INDIRECT(\"'\"&Lists!$J53&\"'!\"&Lists!$K53&AK$23))))","v":""},{"$f":"IF(ISNA(Lists!$J53),\"\",IF((INDIRECT(\"'\"&Lists!$J53&\"'!\"&Lists!$K53&AL$23))=\"\",\"\",(INDIRECT(\"'\"&Lists!$J53&\"'!\"&Lists!$K53&AL$23))))","v":""},{"$f":"IF(ISNA(Lists!$J53),\"\",IF((INDIRECT(\"'\"&Lists!$J53&\"'!\"&Lists!$K53&AM$23))=\"\",\"\",(INDIRECT(\"'\"&Lists!$J53&\"'!\"&Lists!$K53&AM$23))))","v":""},{"$f":"IF(ISNA(Lists!$J53),\"\",IF((INDIRECT(\"'\"&Lists!$J53&\"'!\"&Lists!$K53&AN$23))=\"\",\"\",(INDIRECT(\"'\"&Lists!$J53&\"'!\"&Lists!$K53&AN$23))))","v":""},{"$f":"IF(ISNA(Lists!$J53),\"\",IF((INDIRECT(\"'\"&Lists!$J53&\"'!\"&Lists!$K53&AO$23))=\"\",\"\",(INDIRECT(\"'\"&Lists!$J53&\"'!\"&Lists!$K53&AO$23))))","v":""}]
[null,{"$f":"IF(C76=\"\",\"\",Facility_Info_upload!$B$24)","v":""},{"$f":"IF(ISNA(Lists!$J54),\"\",IF(INDIRECT(\"'\"&Lists!$J54&\"'!\"&\"B\"&C$23)=\"\",\"\",(INDIRECT(\"'\"&Lists!$J54&\"'!\"&\"B\"&C$23))))","v":""},{"$f":"IF(ISNA(Lists!$J54),\"\",IF(INDIRECT(\"'\"&Lists!$J54&\"'!\"&\"B\"&D$23)=\"\",\"\",(INDIRECT(\"'\"&Lists!$J54&\"'!\"&\"B\"&D$23))))","v":""},{"$f":"IF(ISNA(Lists!$J54),\"\",IF(INDIRECT(\"'\"&Lists!$J54&\"'!\"&\"B\"&E$23)=\"\",\"\",(INDIRECT(\"'\"&Lists!$J54&\"'!\"&\"B\"&E$23))))","v":""},{"$f":"IF(ISNA(Lists!$J54),\"\",IF(INDIRECT(\"'\"&Lists!$J54&\"'!\"&\"B\"&F$23)=\"\",\"\",(INDIRECT(\"'\"&Lists!$J54&\"'!\"&\"B\"&F$23))))","v":""},{"$f":"IF(ISNA(Lists!$J54),\"\",IF(INDIRECT(\"'\"&Lists!$J54&\"'!\"&\"B\"&G$23)=\"\",\"\",(INDIRECT(\"'\"&Lists!$J54&\"'!\"&\"B\"&G$23))))","v":""},{"$f":"IF(ISNA(Lists!$J54),\"\",IF((INDIRECT(\"'\"&Lists!$J54&\"'!\"&Lists!$K54&H$23))=\"\",\"\",(INDIRECT(\"'\"&Lists!$J54&\"'!\"&Lists!$K54&H$23))))","v":""},{"$f":"IF(ISNA(Lists!$J54),\"\",IF((INDIRECT(\"'\"&Lists!$J54&\"'!\"&Lists!$K54&I$23))=\"\",\"\",(INDIRECT(\"'\"&Lists!$J54&\"'!\"&Lists!$K54&I$23))))","v":""},{"$f":"IF(ISNA(Lists!$J54),\"\",IF((INDIRECT(\"'\"&Lists!$J54&\"'!\"&Lists!$K54&J$23))=\"\",\"\",(INDIRECT(\"'\"&Lists!$J54&\"'!\"&Lists!$K54&J$23))))","v":""},{"$f":"IF(ISNA(Lists!$J54),\"\",IF((INDIRECT(\"'\"&Lists!$J54&\"'!\"&Lists!$K54&K$23))=\"\",\"\",(INDIRECT(\"'\"&Lists!$J54&\"'!\"&Lists!$K54&K$23))))","v":""},{"$f":"IF(ISNA(Lists!$J54),\"\",IF((INDIRECT(\"'\"&Lists!$J54&\"'!\"&Lists!$K54&L$23))=\"\",\"\",(INDIRECT(\"'\"&Lists!$J54&\"'!\"&Lists!$K54&L$23))))","v":""},{"$f":"IF(ISNA(Lists!$J54),\"\",IF((INDIRECT(\"'\"&Lists!$J54&\"'!\"&Lists!$K54&M$23))=\"\",\"\",(INDIRECT(\"'\"&Lists!$J54&\"'!\"&Lists!$K54&M$23))))","v":""},{"$f":"IF(ISNA(Lists!$J54),\"\",IF((INDIRECT(\"'\"&Lists!$J54&\"'!\"&Lists!$K54&N$23))=\"\",\"\",(INDIRECT(\"'\"&Lists!$J54&\"'!\"&Lists!$K54&N$23))))","v":""},{"$f":"IF(ISNA(Lists!$J54),\"\",IF((INDIRECT(\"'\"&Lists!$J54&\"'!\"&Lists!$K54&O$23))=\"\",\"\",(INDIRECT(\"'\"&Lists!$J54&\"'!\"&Lists!$K54&O$23))))","v":""},{"$f":"IF(ISNA(Lists!$J54),\"\",IF((INDIRECT(\"'\"&Lists!$J54&\"'!\"&Lists!$K54&P$23))=\"\",\"\",(INDIRECT(\"'\"&Lists!$J54&\"'!\"&Lists!$K54&P$23))))","v":""},{"$f":"IF(ISNA(Lists!$J54),\"\",IF((INDIRECT(\"'\"&Lists!$J54&\"'!\"&Lists!$K54&Q$23))=\"\",\"\",(INDIRECT(\"'\"&Lists!$J54&\"'!\"&Lists!$K54&Q$23))))","v":""},{"$f":"IF(ISNA(Lists!$J54),\"\",IF((INDIRECT(\"'\"&Lists!$J54&\"'!\"&Lists!$K54&R$23))=\"\",\"\",(INDIRECT(\"'\"&Lists!$J54&\"'!\"&Lists!$K54&R$23))))","v":""},{"$f":"IF(ISNA(Lists!$J54),\"\",IF((INDIRECT(\"'\"&Lists!$J54&\"'!\"&Lists!$K54&S$23))=\"\",\"\",(INDIRECT(\"'\"&Lists!$J54&\"'!\"&Lists!$K54&S$23))))","v":""},{"$f":"IF(ISNA(Lists!$J54),\"\",IF((INDIRECT(\"'\"&Lists!$J54&\"'!\"&Lists!$K54&T$23))=\"\",\"\",(INDIRECT(\"'\"&Lists!$J54&\"'!\"&Lists!$K54&T$23))))","v":""},{"$f":"IF(ISNA(Lists!$J54),\"\",IF((INDIRECT(\"'\"&Lists!$J54&\"'!\"&Lists!$K54&U$23))=\"\",\"\",(INDIRECT(\"'\"&Lists!$J54&\"'!\"&Lists!$K54&U$23))))","v":""},{"$f":"IF(ISNA(Lists!$J54),\"\",IF((INDIRECT(\"'\"&Lists!$J54&\"'!\"&Lists!$L54&V$23))=\"\",\"\",(INDIRECT(\"'\"&Lists!$J54&\"'!\"&Lists!$L54&V$23))))","v":""},{"$f":"IF(ISNA(Lists!$J54),\"\",IF((INDIRECT(\"'\"&Lists!$J54&\"'!\"&Lists!$L54&W$23))=\"\",\"\",(INDIRECT(\"'\"&Lists!$J54&\"'!\"&Lists!$L54&W$23))))","v":""},{"$f":"IF(ISNA(Lists!$J54),\"\",IF((INDIRECT(\"'\"&Lists!$J54&\"'!\"&Lists!$L54&X$23))=\"\",\"\",(INDIRECT(\"'\"&Lists!$J54&\"'!\"&Lists!$L54&X$23))))","v":""},{"$f":"IF(ISNA(Lists!$J54),\"\",IF((INDIRECT(\"'\"&Lists!$J54&\"'!\"&Lists!$L54&Y$23))=\"\",\"\",(INDIRECT(\"'\"&Lists!$J54&\"'!\"&Lists!$L54&Y$23))))","v":""},{"$f":"IF(ISNA(Lists!$J54),\"\",IF((INDIRECT(\"'\"&Lists!$J54&\"'!\"&Lists!$L54&Z$23))=\"\",\"\",(INDIRECT(\"'\"&Lists!$J54&\"'!\"&Lists!$L54&Z$23))))","v":""},{"$f":"IF(ISNA(Lists!$J54),\"\",IF((INDIRECT(\"'\"&Lists!$J54&\"'!\"&Lists!$L54&AA$23))=\"\",\"\",(INDIRECT(\"'\"&Lists!$J54&\"'!\"&Lists!$L54&AA$23))))","v":""},{"$f":"IF(ISNA(Lists!$J54),\"\",IF((INDIRECT(\"'\"&Lists!$J54&\"'!\"&Lists!$L54&AB$23))=\"\",\"\",(INDIRECT(\"'\"&Lists!$J54&\"'!\"&Lists!$L54&AB$23))))","v":""},{"$f":"IF(ISNA(Lists!$J54),\"\",IF((INDIRECT(\"'\"&Lists!$J54&\"'!\"&Lists!$K54&AC$23))=\"\",\"\",(INDIRECT(\"'\"&Lists!$J54&\"'!\"&Lists!$K54&AC$23))))","v":""},{"$f":"IF(ISNA(Lists!$J54),\"\",IF((INDIRECT(\"'\"&Lists!$J54&\"'!\"&Lists!$L54&AD$23))=\"\",\"\",(INDIRECT(\"'\"&Lists!$J54&\"'!\"&Lists!$L54&AD$23))))","v":""},{"$f":"IF(ISNA(Lists!$J54),\"\",IF((INDIRECT(\"'\"&Lists!$J54&\"'!\"&Lists!$K54&AE$23))=\"\",\"\",(INDIRECT(\"'\"&Lists!$J54&\"'!\"&Lists!$K54&AE$23))))","v":""},{"$f":"IF(ISNA(Lists!$J54),\"\",IF((INDIRECT(\"'\"&Lists!$J54&\"'!\"&Lists!$K54&AF$23))=\"\",\"\",(INDIRECT(\"'\"&Lists!$J54&\"'!\"&Lists!$K54&AF$23))))","v":""},{"$f":"IF(ISNA(Lists!$J54),\"\",IF((INDIRECT(\"'\"&Lists!$J54&\"'!\"&Lists!$K54&AG$23))=\"\",\"\",(INDIRECT(\"'\"&Lists!$J54&\"'!\"&Lists!$K54&AG$23))))","v":""},{"$f":"IF(ISNA(Lists!$J54),\"\",IF((INDIRECT(\"'\"&Lists!$J54&\"'!\"&Lists!$K54&AH$23))=\"\",\"\",(INDIRECT(\"'\"&Lists!$J54&\"'!\"&Lists!$K54&AH$23))))","v":""},{"$f":"IF(ISNA(Lists!$J54),\"\",IF((INDIRECT(\"'\"&Lists!$J54&\"'!\"&Lists!$K54&AI$23))=\"\",\"\",(INDIRECT(\"'\"&Lists!$J54&\"'!\"&Lists!$K54&AI$23))))","v":""},{"$f":"IF(ISNA(Lists!$J54),\"\",IF((INDIRECT(\"'\"&Lists!$J54&\"'!\"&Lists!$K54&AJ$23))=\"\",\"\",(INDIRECT(\"'\"&Lists!$J54&\"'!\"&Lists!$K54&AJ$23))))","v":""},{"$f":"IF(ISNA(Lists!$J54),\"\",IF((INDIRECT(\"'\"&Lists!$J54&\"'!\"&Lists!$K54&AK$23))=\"\",\"\",(INDIRECT(\"'\"&Lists!$J54&\"'!\"&Lists!$K54&AK$23))))","v":""},{"$f":"IF(ISNA(Lists!$J54),\"\",IF((INDIRECT(\"'\"&Lists!$J54&\"'!\"&Lists!$K54&AL$23))=\"\",\"\",(INDIRECT(\"'\"&Lists!$J54&\"'!\"&Lists!$K54&AL$23))))","v":""},{"$f":"IF(ISNA(Lists!$J54),\"\",IF((INDIRECT(\"'\"&Lists!$J54&\"'!\"&Lists!$K54&AM$23))=\"\",\"\",(INDIRECT(\"'\"&Lists!$J54&\"'!\"&Lists!$K54&AM$23))))","v":""},{"$f":"IF(ISNA(Lists!$J54),\"\",IF((INDIRECT(\"'\"&Lists!$J54&\"'!\"&Lists!$K54&AN$23))=\"\",\"\",(INDIRECT(\"'\"&Lists!$J54&\"'!\"&Lists!$K54&AN$23))))","v":""},{"$f":"IF(ISNA(Lists!$J54),\"\",IF((INDIRECT(\"'\"&Lists!$J54&\"'!\"&Lists!$K54&AO$23))=\"\",\"\",(INDIRECT(\"'\"&Lists!$J54&\"'!\"&Lists!$K54&AO$23))))","v":""}]
[null,{"$f":"IF(C77=\"\",\"\",Facility_Info_upload!$B$24)","v":""},{"$f":"IF(ISNA(Lists!$J55),\"\",IF(INDIRECT(\"'\"&Lists!$J55&\"'!\"&\"B\"&C$23)=\"\",\"\",(INDIRECT(\"'\"&Lists!$J55&\"'!\"&\"B\"&C$23))))","v":""},{"$f":"IF(ISNA(Lists!$J55),\"\",IF(INDIRECT(\"'\"&Lists!$J55&\"'!\"&\"B\"&D$23)=\"\",\"\",(INDIRECT(\"'\"&Lists!$J55&\"'!\"&\"B\"&D$23))))","v":""},{"$f":"IF(ISNA(Lists!$J55),\"\",IF(INDIRECT(\"'\"&Lists!$J55&\"'!\"&\"B\"&E$23)=\"\",\"\",(INDIRECT(\"'\"&Lists!$J55&\"'!\"&\"B\"&E$23))))","v":""},{"$f":"IF(ISNA(Lists!$J55),\"\",IF(INDIRECT(\"'\"&Lists!$J55&\"'!\"&\"B\"&F$23)=\"\",\"\",(INDIRECT(\"'\"&Lists!$J55&\"'!\"&\"B\"&F$23))))","v":""},{"$f":"IF(ISNA(Lists!$J55),\"\",IF(INDIRECT(\"'\"&Lists!$J55&\"'!\"&\"B\"&G$23)=\"\",\"\",(INDIRECT(\"'\"&Lists!$J55&\"'!\"&\"B\"&G$23))))","v":""},{"$f":"IF(ISNA(Lists!$J55),\"\",IF((INDIRECT(\"'\"&Lists!$J55&\"'!\"&Lists!$K55&H$23))=\"\",\"\",(INDIRECT(\"'\"&Lists!$J55&\"'!\"&Lists!$K55&H$23))))","v":""},{"$f":"IF(ISNA(Lists!$J55),\"\",IF((INDIRECT(\"'\"&Lists!$J55&\"'!\"&Lists!$K55&I$23))=\"\",\"\",(INDIRECT(\"'\"&Lists!$J55&\"'!\"&Lists!$K55&I$23))))","v":""},{"$f":"IF(ISNA(Lists!$J55),\"\",IF((INDIRECT(\"'\"&Lists!$J55&\"'!\"&Lists!$K55&J$23))=\"\",\"\",(INDIRECT(\"'\"&Lists!$J55&\"'!\"&Lists!$K55&J$23))))","v":""},{"$f":"IF(ISNA(Lists!$J55),\"\",IF((INDIRECT(\"'\"&Lists!$J55&\"'!\"&Lists!$K55&K$23))=\"\",\"\",(INDIRECT(\"'\"&Lists!$J55&\"'!\"&Lists!$K55&K$23))))","v":""},{"$f":"IF(ISNA(Lists!$J55),\"\",IF((INDIRECT(\"'\"&Lists!$J55&\"'!\"&Lists!$K55&L$23))=\"\",\"\",(INDIRECT(\"'\"&Lists!$J55&\"'!\"&Lists!$K55&L$23))))","v":""},{"$f":"IF(ISNA(Lists!$J55),\"\",IF((INDIRECT(\"'\"&Lists!$J55&\"'!\"&Lists!$K55&M$23))=\"\",\"\",(INDIRECT(\"'\"&Lists!$J55&\"'!\"&Lists!$K55&M$23))))","v":""},{"$f":"IF(ISNA(Lists!$J55),\"\",IF((INDIRECT(\"'\"&Lists!$J55&\"'!\"&Lists!$K55&N$23))=\"\",\"\",(INDIRECT(\"'\"&Lists!$J55&\"'!\"&Lists!$K55&N$23))))","v":""},{"$f":"IF(ISNA(Lists!$J55),\"\",IF((INDIRECT(\"'\"&Lists!$J55&\"'!\"&Lists!$K55&O$23))=\"\",\"\",(INDIRECT(\"'\"&Lists!$J55&\"'!\"&Lists!$K55&O$23))))","v":""},{"$f":"IF(ISNA(Lists!$J55),\"\",IF((INDIRECT(\"'\"&Lists!$J55&\"'!\"&Lists!$K55&P$23))=\"\",\"\",(INDIRECT(\"'\"&Lists!$J55&\"'!\"&Lists!$K55&P$23))))","v":""},{"$f":"IF(ISNA(Lists!$J55),\"\",IF((INDIRECT(\"'\"&Lists!$J55&\"'!\"&Lists!$K55&Q$23))=\"\",\"\",(INDIRECT(\"'\"&Lists!$J55&\"'!\"&Lists!$K55&Q$23))))","v":""},{"$f":"IF(ISNA(Lists!$J55),\"\",IF((INDIRECT(\"'\"&Lists!$J55&\"'!\"&Lists!$K55&R$23))=\"\",\"\",(INDIRECT(\"'\"&Lists!$J55&\"'!\"&Lists!$K55&R$23))))","v":""},{"$f":"IF(ISNA(Lists!$J55),\"\",IF((INDIRECT(\"'\"&Lists!$J55&\"'!\"&Lists!$K55&S$23))=\"\",\"\",(INDIRECT(\"'\"&Lists!$J55&\"'!\"&Lists!$K55&S$23))))","v":""},{"$f":"IF(ISNA(Lists!$J55),\"\",IF((INDIRECT(\"'\"&Lists!$J55&\"'!\"&Lists!$K55&T$23))=\"\",\"\",(INDIRECT(\"'\"&Lists!$J55&\"'!\"&Lists!$K55&T$23))))","v":""},{"$f":"IF(ISNA(Lists!$J55),\"\",IF((INDIRECT(\"'\"&Lists!$J55&\"'!\"&Lists!$K55&U$23))=\"\",\"\",(INDIRECT(\"'\"&Lists!$J55&\"'!\"&Lists!$K55&U$23))))","v":""},{"$f":"IF(ISNA(Lists!$J55),\"\",IF((INDIRECT(\"'\"&Lists!$J55&\"'!\"&Lists!$L55&V$23))=\"\",\"\",(INDIRECT(\"'\"&Lists!$J55&\"'!\"&Lists!$L55&V$23))))","v":""},{"$f":"IF(ISNA(Lists!$J55),\"\",IF((INDIRECT(\"'\"&Lists!$J55&\"'!\"&Lists!$L55&W$23))=\"\",\"\",(INDIRECT(\"'\"&Lists!$J55&\"'!\"&Lists!$L55&W$23))))","v":""},{"$f":"IF(ISNA(Lists!$J55),\"\",IF((INDIRECT(\"'\"&Lists!$J55&\"'!\"&Lists!$L55&X$23))=\"\",\"\",(INDIRECT(\"'\"&Lists!$J55&\"'!\"&Lists!$L55&X$23))))","v":""},{"$f":"IF(ISNA(Lists!$J55),\"\",IF((INDIRECT(\"'\"&Lists!$J55&\"'!\"&Lists!$L55&Y$23))=\"\",\"\",(INDIRECT(\"'\"&Lists!$J55&\"'!\"&Lists!$L55&Y$23))))","v":""},{"$f":"IF(ISNA(Lists!$J55),\"\",IF((INDIRECT(\"'\"&Lists!$J55&\"'!\"&Lists!$L55&Z$23))=\"\",\"\",(INDIRECT(\"'\"&Lists!$J55&\"'!\"&Lists!$L55&Z$23))))","v":""},{"$f":"IF(ISNA(Lists!$J55),\"\",IF((INDIRECT(\"'\"&Lists!$J55&\"'!\"&Lists!$L55&AA$23))=\"\",\"\",(INDIRECT(\"'\"&Lists!$J55&\"'!\"&Lists!$L55&AA$23))))","v":""},{"$f":"IF(ISNA(Lists!$J55),\"\",IF((INDIRECT(\"'\"&Lists!$J55&\"'!\"&Lists!$L55&AB$23))=\"\",\"\",(INDIRECT(\"'\"&Lists!$J55&\"'!\"&Lists!$L55&AB$23))))","v":""},{"$f":"IF(ISNA(Lists!$J55),\"\",IF((INDIRECT(\"'\"&Lists!$J55&\"'!\"&Lists!$K55&AC$23))=\"\",\"\",(INDIRECT(\"'\"&Lists!$J55&\"'!\"&Lists!$K55&AC$23))))","v":""},{"$f":"IF(ISNA(Lists!$J55),\"\",IF((INDIRECT(\"'\"&Lists!$J55&\"'!\"&Lists!$L55&AD$23))=\"\",\"\",(INDIRECT(\"'\"&Lists!$J55&\"'!\"&Lists!$L55&AD$23))))","v":""},{"$f":"IF(ISNA(Lists!$J55),\"\",IF((INDIRECT(\"'\"&Lists!$J55&\"'!\"&Lists!$K55&AE$23))=\"\",\"\",(INDIRECT(\"'\"&Lists!$J55&\"'!\"&Lists!$K55&AE$23))))","v":""},{"$f":"IF(ISNA(Lists!$J55),\"\",IF((INDIRECT(\"'\"&Lists!$J55&\"'!\"&Lists!$K55&AF$23))=\"\",\"\",(INDIRECT(\"'\"&Lists!$J55&\"'!\"&Lists!$K55&AF$23))))","v":""},{"$f":"IF(ISNA(Lists!$J55),\"\",IF((INDIRECT(\"'\"&Lists!$J55&\"'!\"&Lists!$K55&AG$23))=\"\",\"\",(INDIRECT(\"'\"&Lists!$J55&\"'!\"&Lists!$K55&AG$23))))","v":""},{"$f":"IF(ISNA(Lists!$J55),\"\",IF((INDIRECT(\"'\"&Lists!$J55&\"'!\"&Lists!$K55&AH$23))=\"\",\"\",(INDIRECT(\"'\"&Lists!$J55&\"'!\"&Lists!$K55&AH$23))))","v":""},{"$f":"IF(ISNA(Lists!$J55),\"\",IF((INDIRECT(\"'\"&Lists!$J55&\"'!\"&Lists!$K55&AI$23))=\"\",\"\",(INDIRECT(\"'\"&Lists!$J55&\"'!\"&Lists!$K55&AI$23))))","v":""},{"$f":"IF(ISNA(Lists!$J55),\"\",IF((INDIRECT(\"'\"&Lists!$J55&\"'!\"&Lists!$K55&AJ$23))=\"\",\"\",(INDIRECT(\"'\"&Lists!$J55&\"'!\"&Lists!$K55&AJ$23))))","v":""},{"$f":"IF(ISNA(Lists!$J55),\"\",IF((INDIRECT(\"'\"&Lists!$J55&\"'!\"&Lists!$K55&AK$23))=\"\",\"\",(INDIRECT(\"'\"&Lists!$J55&\"'!\"&Lists!$K55&AK$23))))","v":""},{"$f":"IF(ISNA(Lists!$J55),\"\",IF((INDIRECT(\"'\"&Lists!$J55&\"'!\"&Lists!$K55&AL$23))=\"\",\"\",(INDIRECT(\"'\"&Lists!$J55&\"'!\"&Lists!$K55&AL$23))))","v":""},{"$f":"IF(ISNA(Lists!$J55),\"\",IF((INDIRECT(\"'\"&Lists!$J55&\"'!\"&Lists!$K55&AM$23))=\"\",\"\",(INDIRECT(\"'\"&Lists!$J55&\"'!\"&Lists!$K55&AM$23))))","v":""},{"$f":"IF(ISNA(Lists!$J55),\"\",IF((INDIRECT(\"'\"&Lists!$J55&\"'!\"&Lists!$K55&AN$23))=\"\",\"\",(INDIRECT(\"'\"&Lists!$J55&\"'!\"&Lists!$K55&AN$23))))","v":""},{"$f":"IF(ISNA(Lists!$J55),\"\",IF((INDIRECT(\"'\"&Lists!$J55&\"'!\"&Lists!$K55&AO$23))=\"\",\"\",(INDIRECT(\"'\"&Lists!$J55&\"'!\"&Lists!$K55&AO$23))))","v":""}]
[null,{"$f":"IF(C78=\"\",\"\",Facility_Info_upload!$B$24)","v":""},{"$f":"IF(ISNA(Lists!$J56),\"\",IF(INDIRECT(\"'\"&Lists!$J56&\"'!\"&\"B\"&C$23)=\"\",\"\",(INDIRECT(\"'\"&Lists!$J56&\"'!\"&\"B\"&C$23))))","v":""},{"$f":"IF(ISNA(Lists!$J56),\"\",IF(INDIRECT(\"'\"&Lists!$J56&\"'!\"&\"B\"&D$23)=\"\",\"\",(INDIRECT(\"'\"&Lists!$J56&\"'!\"&\"B\"&D$23))))","v":""},{"$f":"IF(ISNA(Lists!$J56),\"\",IF(INDIRECT(\"'\"&Lists!$J56&\"'!\"&\"B\"&E$23)=\"\",\"\",(INDIRECT(\"'\"&Lists!$J56&\"'!\"&\"B\"&E$23))))","v":""},{"$f":"IF(ISNA(Lists!$J56),\"\",IF(INDIRECT(\"'\"&Lists!$J56&\"'!\"&\"B\"&F$23)=\"\",\"\",(INDIRECT(\"'\"&Lists!$J56&\"'!\"&\"B\"&F$23))))","v":""},{"$f":"IF(ISNA(Lists!$J56),\"\",IF(INDIRECT(\"'\"&Lists!$J56&\"'!\"&\"B\"&G$23)=\"\",\"\",(INDIRECT(\"'\"&Lists!$J56&\"'!\"&\"B\"&G$23))))","v":""},{"$f":"IF(ISNA(Lists!$J56),\"\",IF((INDIRECT(\"'\"&Lists!$J56&\"'!\"&Lists!$K56&H$23))=\"\",\"\",(INDIRECT(\"'\"&Lists!$J56&\"'!\"&Lists!$K56&H$23))))","v":""},{"$f":"IF(ISNA(Lists!$J56),\"\",IF((INDIRECT(\"'\"&Lists!$J56&\"'!\"&Lists!$K56&I$23))=\"\",\"\",(INDIRECT(\"'\"&Lists!$J56&\"'!\"&Lists!$K56&I$23))))","v":""},{"$f":"IF(ISNA(Lists!$J56),\"\",IF((INDIRECT(\"'\"&Lists!$J56&\"'!\"&Lists!$K56&J$23))=\"\",\"\",(INDIRECT(\"'\"&Lists!$J56&\"'!\"&Lists!$K56&J$23))))","v":""},{"$f":"IF(ISNA(Lists!$J56),\"\",IF((INDIRECT(\"'\"&Lists!$J56&\"'!\"&Lists!$K56&K$23))=\"\",\"\",(INDIRECT(\"'\"&Lists!$J56&\"'!\"&Lists!$K56&K$23))))","v":""},{"$f":"IF(ISNA(Lists!$J56),\"\",IF((INDIRECT(\"'\"&Lists!$J56&\"'!\"&Lists!$K56&L$23))=\"\",\"\",(INDIRECT(\"'\"&Lists!$J56&\"'!\"&Lists!$K56&L$23))))","v":""},{"$f":"IF(ISNA(Lists!$J56),\"\",IF((INDIRECT(\"'\"&Lists!$J56&\"'!\"&Lists!$K56&M$23))=\"\",\"\",(INDIRECT(\"'\"&Lists!$J56&\"'!\"&Lists!$K56&M$23))))","v":""},{"$f":"IF(ISNA(Lists!$J56),\"\",IF((INDIRECT(\"'\"&Lists!$J56&\"'!\"&Lists!$K56&N$23))=\"\",\"\",(INDIRECT(\"'\"&Lists!$J56&\"'!\"&Lists!$K56&N$23))))","v":""},{"$f":"IF(ISNA(Lists!$J56),\"\",IF((INDIRECT(\"'\"&Lists!$J56&\"'!\"&Lists!$K56&O$23))=\"\",\"\",(INDIRECT(\"'\"&Lists!$J56&\"'!\"&Lists!$K56&O$23))))","v":""},{"$f":"IF(ISNA(Lists!$J56),\"\",IF((INDIRECT(\"'\"&Lists!$J56&\"'!\"&Lists!$K56&P$23))=\"\",\"\",(INDIRECT(\"'\"&Lists!$J56&\"'!\"&Lists!$K56&P$23))))","v":""},{"$f":"IF(ISNA(Lists!$J56),\"\",IF((INDIRECT(\"'\"&Lists!$J56&\"'!\"&Lists!$K56&Q$23))=\"\",\"\",(INDIRECT(\"'\"&Lists!$J56&\"'!\"&Lists!$K56&Q$23))))","v":""},{"$f":"IF(ISNA(Lists!$J56),\"\",IF((INDIRECT(\"'\"&Lists!$J56&\"'!\"&Lists!$K56&R$23))=\"\",\"\",(INDIRECT(\"'\"&Lists!$J56&\"'!\"&Lists!$K56&R$23))))","v":""},{"$f":"IF(ISNA(Lists!$J56),\"\",IF((INDIRECT(\"'\"&Lists!$J56&\"'!\"&Lists!$K56&S$23))=\"\",\"\",(INDIRECT(\"'\"&Lists!$J56&\"'!\"&Lists!$K56&S$23))))","v":""},{"$f":"IF(ISNA(Lists!$J56),\"\",IF((INDIRECT(\"'\"&Lists!$J56&\"'!\"&Lists!$K56&T$23))=\"\",\"\",(INDIRECT(\"'\"&Lists!$J56&\"'!\"&Lists!$K56&T$23))))","v":""},{"$f":"IF(ISNA(Lists!$J56),\"\",IF((INDIRECT(\"'\"&Lists!$J56&\"'!\"&Lists!$K56&U$23))=\"\",\"\",(INDIRECT(\"'\"&Lists!$J56&\"'!\"&Lists!$K56&U$23))))","v":""},{"$f":"IF(ISNA(Lists!$J56),\"\",IF((INDIRECT(\"'\"&Lists!$J56&\"'!\"&Lists!$L56&V$23))=\"\",\"\",(INDIRECT(\"'\"&Lists!$J56&\"'!\"&Lists!$L56&V$23))))","v":""},{"$f":"IF(ISNA(Lists!$J56),\"\",IF((INDIRECT(\"'\"&Lists!$J56&\"'!\"&Lists!$L56&W$23))=\"\",\"\",(INDIRECT(\"'\"&Lists!$J56&\"'!\"&Lists!$L56&W$23))))","v":""},{"$f":"IF(ISNA(Lists!$J56),\"\",IF((INDIRECT(\"'\"&Lists!$J56&\"'!\"&Lists!$L56&X$23))=\"\",\"\",(INDIRECT(\"'\"&Lists!$J56&\"'!\"&Lists!$L56&X$23))))","v":""},{"$f":"IF(ISNA(Lists!$J56),\"\",IF((INDIRECT(\"'\"&Lists!$J56&\"'!\"&Lists!$L56&Y$23))=\"\",\"\",(INDIRECT(\"'\"&Lists!$J56&\"'!\"&Lists!$L56&Y$23))))","v":""},{"$f":"IF(ISNA(Lists!$J56),\"\",IF((INDIRECT(\"'\"&Lists!$J56&\"'!\"&Lists!$L56&Z$23))=\"\",\"\",(INDIRECT(\"'\"&Lists!$J56&\"'!\"&Lists!$L56&Z$23))))","v":""},{"$f":"IF(ISNA(Lists!$J56),\"\",IF((INDIRECT(\"'\"&Lists!$J56&\"'!\"&Lists!$L56&AA$23))=\"\",\"\",(INDIRECT(\"'\"&Lists!$J56&\"'!\"&Lists!$L56&AA$23))))","v":""},{"$f":"IF(ISNA(Lists!$J56),\"\",IF((INDIRECT(\"'\"&Lists!$J56&\"'!\"&Lists!$L56&AB$23))=\"\",\"\",(INDIRECT(\"'\"&Lists!$J56&\"'!\"&Lists!$L56&AB$23))))","v":""},{"$f":"IF(ISNA(Lists!$J56),\"\",IF((INDIRECT(\"'\"&Lists!$J56&\"'!\"&Lists!$K56&AC$23))=\"\",\"\",(INDIRECT(\"'\"&Lists!$J56&\"'!\"&Lists!$K56&AC$23))))","v":""},{"$f":"IF(ISNA(Lists!$J56),\"\",IF((INDIRECT(\"'\"&Lists!$J56&\"'!\"&Lists!$L56&AD$23))=\"\",\"\",(INDIRECT(\"'\"&Lists!$J56&\"'!\"&Lists!$L56&AD$23))))","v":""},{"$f":"IF(ISNA(Lists!$J56),\"\",IF((INDIRECT(\"'\"&Lists!$J56&\"'!\"&Lists!$K56&AE$23))=\"\",\"\",(INDIRECT(\"'\"&Lists!$J56&\"'!\"&Lists!$K56&AE$23))))","v":""},{"$f":"IF(ISNA(Lists!$J56),\"\",IF((INDIRECT(\"'\"&Lists!$J56&\"'!\"&Lists!$K56&AF$23))=\"\",\"\",(INDIRECT(\"'\"&Lists!$J56&\"'!\"&Lists!$K56&AF$23))))","v":""},{"$f":"IF(ISNA(Lists!$J56),\"\",IF((INDIRECT(\"'\"&Lists!$J56&\"'!\"&Lists!$K56&AG$23))=\"\",\"\",(INDIRECT(\"'\"&Lists!$J56&\"'!\"&Lists!$K56&AG$23))))","v":""},{"$f":"IF(ISNA(Lists!$J56),\"\",IF((INDIRECT(\"'\"&Lists!$J56&\"'!\"&Lists!$K56&AH$23))=\"\",\"\",(INDIRECT(\"'\"&Lists!$J56&\"'!\"&Lists!$K56&AH$23))))","v":""},{"$f":"IF(ISNA(Lists!$J56),\"\",IF((INDIRECT(\"'\"&Lists!$J56&\"'!\"&Lists!$K56&AI$23))=\"\",\"\",(INDIRECT(\"'\"&Lists!$J56&\"'!\"&Lists!$K56&AI$23))))","v":""},{"$f":"IF(ISNA(Lists!$J56),\"\",IF((INDIRECT(\"'\"&Lists!$J56&\"'!\"&Lists!$K56&AJ$23))=\"\",\"\",(INDIRECT(\"'\"&Lists!$J56&\"'!\"&Lists!$K56&AJ$23))))","v":""},{"$f":"IF(ISNA(Lists!$J56),\"\",IF((INDIRECT(\"'\"&Lists!$J56&\"'!\"&Lists!$K56&AK$23))=\"\",\"\",(INDIRECT(\"'\"&Lists!$J56&\"'!\"&Lists!$K56&AK$23))))","v":""},{"$f":"IF(ISNA(Lists!$J56),\"\",IF((INDIRECT(\"'\"&Lists!$J56&\"'!\"&Lists!$K56&AL$23))=\"\",\"\",(INDIRECT(\"'\"&Lists!$J56&\"'!\"&Lists!$K56&AL$23))))","v":""},{"$f":"IF(ISNA(Lists!$J56),\"\",IF((INDIRECT(\"'\"&Lists!$J56&\"'!\"&Lists!$K56&AM$23))=\"\",\"\",(INDIRECT(\"'\"&Lists!$J56&\"'!\"&Lists!$K56&AM$23))))","v":""},{"$f":"IF(ISNA(Lists!$J56),\"\",IF((INDIRECT(\"'\"&Lists!$J56&\"'!\"&Lists!$K56&AN$23))=\"\",\"\",(INDIRECT(\"'\"&Lists!$J56&\"'!\"&Lists!$K56&AN$23))))","v":""},{"$f":"IF(ISNA(Lists!$J56),\"\",IF((INDIRECT(\"'\"&Lists!$J56&\"'!\"&Lists!$K56&AO$23))=\"\",\"\",(INDIRECT(\"'\"&Lists!$J56&\"'!\"&Lists!$K56&AO$23))))","v":""}]
[null,{"$f":"IF(C79=\"\",\"\",Facility_Info_upload!$B$24)","v":""},{"$f":"IF(ISNA(Lists!$J57),\"\",IF(INDIRECT(\"'\"&Lists!$J57&\"'!\"&\"B\"&C$23)=\"\",\"\",(INDIRECT(\"'\"&Lists!$J57&\"'!\"&\"B\"&C$23))))","v":""},{"$f":"IF(ISNA(Lists!$J57),\"\",IF(INDIRECT(\"'\"&Lists!$J57&\"'!\"&\"B\"&D$23)=\"\",\"\",(INDIRECT(\"'\"&Lists!$J57&\"'!\"&\"B\"&D$23))))","v":""},{"$f":"IF(ISNA(Lists!$J57),\"\",IF(INDIRECT(\"'\"&Lists!$J57&\"'!\"&\"B\"&E$23)=\"\",\"\",(INDIRECT(\"'\"&Lists!$J57&\"'!\"&\"B\"&E$23))))","v":""},{"$f":"IF(ISNA(Lists!$J57),\"\",IF(INDIRECT(\"'\"&Lists!$J57&\"'!\"&\"B\"&F$23)=\"\",\"\",(INDIRECT(\"'\"&Lists!$J57&\"'!\"&\"B\"&F$23))))","v":""},{"$f":"IF(ISNA(Lists!$J57),\"\",IF(INDIRECT(\"'\"&Lists!$J57&\"'!\"&\"B\"&G$23)=\"\",\"\",(INDIRECT(\"'\"&Lists!$J57&\"'!\"&\"B\"&G$23))))","v":""},{"$f":"IF(ISNA(Lists!$J57),\"\",IF((INDIRECT(\"'\"&Lists!$J57&\"'!\"&Lists!$K57&H$23))=\"\",\"\",(INDIRECT(\"'\"&Lists!$J57&\"'!\"&Lists!$K57&H$23))))","v":""},{"$f":"IF(ISNA(Lists!$J57),\"\",IF((INDIRECT(\"'\"&Lists!$J57&\"'!\"&Lists!$K57&I$23))=\"\",\"\",(INDIRECT(\"'\"&Lists!$J57&\"'!\"&Lists!$K57&I$23))))","v":""},{"$f":"IF(ISNA(Lists!$J57),\"\",IF((INDIRECT(\"'\"&Lists!$J57&\"'!\"&Lists!$K57&J$23))=\"\",\"\",(INDIRECT(\"'\"&Lists!$J57&\"'!\"&Lists!$K57&J$23))))","v":""},{"$f":"IF(ISNA(Lists!$J57),\"\",IF((INDIRECT(\"'\"&Lists!$J57&\"'!\"&Lists!$K57&K$23))=\"\",\"\",(INDIRECT(\"'\"&Lists!$J57&\"'!\"&Lists!$K57&K$23))))","v":""},{"$f":"IF(ISNA(Lists!$J57),\"\",IF((INDIRECT(\"'\"&Lists!$J57&\"'!\"&Lists!$K57&L$23))=\"\",\"\",(INDIRECT(\"'\"&Lists!$J57&\"'!\"&Lists!$K57&L$23))))","v":""},{"$f":"IF(ISNA(Lists!$J57),\"\",IF((INDIRECT(\"'\"&Lists!$J57&\"'!\"&Lists!$K57&M$23))=\"\",\"\",(INDIRECT(\"'\"&Lists!$J57&\"'!\"&Lists!$K57&M$23))))","v":""},{"$f":"IF(ISNA(Lists!$J57),\"\",IF((INDIRECT(\"'\"&Lists!$J57&\"'!\"&Lists!$K57&N$23))=\"\",\"\",(INDIRECT(\"'\"&Lists!$J57&\"'!\"&Lists!$K57&N$23))))","v":""},{"$f":"IF(ISNA(Lists!$J57),\"\",IF((INDIRECT(\"'\"&Lists!$J57&\"'!\"&Lists!$K57&O$23))=\"\",\"\",(INDIRECT(\"'\"&Lists!$J57&\"'!\"&Lists!$K57&O$23))))","v":""},{"$f":"IF(ISNA(Lists!$J57),\"\",IF((INDIRECT(\"'\"&Lists!$J57&\"'!\"&Lists!$K57&P$23))=\"\",\"\",(INDIRECT(\"'\"&Lists!$J57&\"'!\"&Lists!$K57&P$23))))","v":""},{"$f":"IF(ISNA(Lists!$J57),\"\",IF((INDIRECT(\"'\"&Lists!$J57&\"'!\"&Lists!$K57&Q$23))=\"\",\"\",(INDIRECT(\"'\"&Lists!$J57&\"'!\"&Lists!$K57&Q$23))))","v":""},{"$f":"IF(ISNA(Lists!$J57),\"\",IF((INDIRECT(\"'\"&Lists!$J57&\"'!\"&Lists!$K57&R$23))=\"\",\"\",(INDIRECT(\"'\"&Lists!$J57&\"'!\"&Lists!$K57&R$23))))","v":""},{"$f":"IF(ISNA(Lists!$J57),\"\",IF((INDIRECT(\"'\"&Lists!$J57&\"'!\"&Lists!$K57&S$23))=\"\",\"\",(INDIRECT(\"'\"&Lists!$J57&\"'!\"&Lists!$K57&S$23))))","v":""},{"$f":"IF(ISNA(Lists!$J57),\"\",IF((INDIRECT(\"'\"&Lists!$J57&\"'!\"&Lists!$K57&T$23))=\"\",\"\",(INDIRECT(\"'\"&Lists!$J57&\"'!\"&Lists!$K57&T$23))))","v":""},{"$f":"IF(ISNA(Lists!$J57),\"\",IF((INDIRECT(\"'\"&Lists!$J57&\"'!\"&Lists!$K57&U$23))=\"\",\"\",(INDIRECT(\"'\"&Lists!$J57&\"'!\"&Lists!$K57&U$23))))","v":""},{"$f":"IF(ISNA(Lists!$J57),\"\",IF((INDIRECT(\"'\"&Lists!$J57&\"'!\"&Lists!$L57&V$23))=\"\",\"\",(INDIRECT(\"'\"&Lists!$J57&\"'!\"&Lists!$L57&V$23))))","v":""},{"$f":"IF(ISNA(Lists!$J57),\"\",IF((INDIRECT(\"'\"&Lists!$J57&\"'!\"&Lists!$L57&W$23))=\"\",\"\",(INDIRECT(\"'\"&Lists!$J57&\"'!\"&Lists!$L57&W$23))))","v":""},{"$f":"IF(ISNA(Lists!$J57),\"\",IF((INDIRECT(\"'\"&Lists!$J57&\"'!\"&Lists!$L57&X$23))=\"\",\"\",(INDIRECT(\"'\"&Lists!$J57&\"'!\"&Lists!$L57&X$23))))","v":""},{"$f":"IF(ISNA(Lists!$J57),\"\",IF((INDIRECT(\"'\"&Lists!$J57&\"'!\"&Lists!$L57&Y$23))=\"\",\"\",(INDIRECT(\"'\"&Lists!$J57&\"'!\"&Lists!$L57&Y$23))))","v":""},{"$f":"IF(ISNA(Lists!$J57),\"\",IF((INDIRECT(\"'\"&Lists!$J57&\"'!\"&Lists!$L57&Z$23))=\"\",\"\",(INDIRECT(\"'\"&Lists!$J57&\"'!\"&Lists!$L57&Z$23))))","v":""},{"$f":"IF(ISNA(Lists!$J57),\"\",IF((INDIRECT(\"'\"&Lists!$J57&\"'!\"&Lists!$L57&AA$23))=\"\",\"\",(INDIRECT(\"'\"&Lists!$J57&\"'!\"&Lists!$L57&AA$23))))","v":""},{"$f":"IF(ISNA(Lists!$J57),\"\",IF((INDIRECT(\"'\"&Lists!$J57&\"'!\"&Lists!$L57&AB$23))=\"\",\"\",(INDIRECT(\"'\"&Lists!$J57&\"'!\"&Lists!$L57&AB$23))))","v":""},{"$f":"IF(ISNA(Lists!$J57),\"\",IF((INDIRECT(\"'\"&Lists!$J57&\"'!\"&Lists!$K57&AC$23))=\"\",\"\",(INDIRECT(\"'\"&Lists!$J57&\"'!\"&Lists!$K57&AC$23))))","v":""},{"$f":"IF(ISNA(Lists!$J57),\"\",IF((INDIRECT(\"'\"&Lists!$J57&\"'!\"&Lists!$L57&AD$23))=\"\",\"\",(INDIRECT(\"'\"&Lists!$J57&\"'!\"&Lists!$L57&AD$23))))","v":""},{"$f":"IF(ISNA(Lists!$J57),\"\",IF((INDIRECT(\"'\"&Lists!$J57&\"'!\"&Lists!$K57&AE$23))=\"\",\"\",(INDIRECT(\"'\"&Lists!$J57&\"'!\"&Lists!$K57&AE$23))))","v":""},{"$f":"IF(ISNA(Lists!$J57),\"\",IF((INDIRECT(\"'\"&Lists!$J57&\"'!\"&Lists!$K57&AF$23))=\"\",\"\",(INDIRECT(\"'\"&Lists!$J57&\"'!\"&Lists!$K57&AF$23))))","v":""},{"$f":"IF(ISNA(Lists!$J57),\"\",IF((INDIRECT(\"'\"&Lists!$J57&\"'!\"&Lists!$K57&AG$23))=\"\",\"\",(INDIRECT(\"'\"&Lists!$J57&\"'!\"&Lists!$K57&AG$23))))","v":""},{"$f":"IF(ISNA(Lists!$J57),\"\",IF((INDIRECT(\"'\"&Lists!$J57&\"'!\"&Lists!$K57&AH$23))=\"\",\"\",(INDIRECT(\"'\"&Lists!$J57&\"'!\"&Lists!$K57&AH$23))))","v":""},{"$f":"IF(ISNA(Lists!$J57),\"\",IF((INDIRECT(\"'\"&Lists!$J57&\"'!\"&Lists!$K57&AI$23))=\"\",\"\",(INDIRECT(\"'\"&Lists!$J57&\"'!\"&Lists!$K57&AI$23))))","v":""},{"$f":"IF(ISNA(Lists!$J57),\"\",IF((INDIRECT(\"'\"&Lists!$J57&\"'!\"&Lists!$K57&AJ$23))=\"\",\"\",(INDIRECT(\"'\"&Lists!$J57&\"'!\"&Lists!$K57&AJ$23))))","v":""},{"$f":"IF(ISNA(Lists!$J57),\"\",IF((INDIRECT(\"'\"&Lists!$J57&\"'!\"&Lists!$K57&AK$23))=\"\",\"\",(INDIRECT(\"'\"&Lists!$J57&\"'!\"&Lists!$K57&AK$23))))","v":""},{"$f":"IF(ISNA(Lists!$J57),\"\",IF((INDIRECT(\"'\"&Lists!$J57&\"'!\"&Lists!$K57&AL$23))=\"\",\"\",(INDIRECT(\"'\"&Lists!$J57&\"'!\"&Lists!$K57&AL$23))))","v":""},{"$f":"IF(ISNA(Lists!$J57),\"\",IF((INDIRECT(\"'\"&Lists!$J57&\"'!\"&Lists!$K57&AM$23))=\"\",\"\",(INDIRECT(\"'\"&Lists!$J57&\"'!\"&Lists!$K57&AM$23))))","v":""},{"$f":"IF(ISNA(Lists!$J57),\"\",IF((INDIRECT(\"'\"&Lists!$J57&\"'!\"&Lists!$K57&AN$23))=\"\",\"\",(INDIRECT(\"'\"&Lists!$J57&\"'!\"&Lists!$K57&AN$23))))","v":""},{"$f":"IF(ISNA(Lists!$J57),\"\",IF((INDIRECT(\"'\"&Lists!$J57&\"'!\"&Lists!$K57&AO$23))=\"\",\"\",(INDIRECT(\"'\"&Lists!$J57&\"'!\"&Lists!$K57&AO$23))))","v":""}]
[null,{"$f":"IF(C80=\"\",\"\",Facility_Info_upload!$B$24)","v":""},{"$f":"IF(ISNA(Lists!$J58),\"\",IF(INDIRECT(\"'\"&Lists!$J58&\"'!\"&\"B\"&C$23)=\"\",\"\",(INDIRECT(\"'\"&Lists!$J58&\"'!\"&\"B\"&C$23))))","v":""},{"$f":"IF(ISNA(Lists!$J58),\"\",IF(INDIRECT(\"'\"&Lists!$J58&\"'!\"&\"B\"&D$23)=\"\",\"\",(INDIRECT(\"'\"&Lists!$J58&\"'!\"&\"B\"&D$23))))","v":""},{"$f":"IF(ISNA(Lists!$J58),\"\",IF(INDIRECT(\"'\"&Lists!$J58&\"'!\"&\"B\"&E$23)=\"\",\"\",(INDIRECT(\"'\"&Lists!$J58&\"'!\"&\"B\"&E$23))))","v":""},{"$f":"IF(ISNA(Lists!$J58),\"\",IF(INDIRECT(\"'\"&Lists!$J58&\"'!\"&\"B\"&F$23)=\"\",\"\",(INDIRECT(\"'\"&Lists!$J58&\"'!\"&\"B\"&F$23))))","v":""},{"$f":"IF(ISNA(Lists!$J58),\"\",IF(INDIRECT(\"'\"&Lists!$J58&\"'!\"&\"B\"&G$23)=\"\",\"\",(INDIRECT(\"'\"&Lists!$J58&\"'!\"&\"B\"&G$23))))","v":""},{"$f":"IF(ISNA(Lists!$J58),\"\",IF((INDIRECT(\"'\"&Lists!$J58&\"'!\"&Lists!$K58&H$23))=\"\",\"\",(INDIRECT(\"'\"&Lists!$J58&\"'!\"&Lists!$K58&H$23))))","v":""},{"$f":"IF(ISNA(Lists!$J58),\"\",IF((INDIRECT(\"'\"&Lists!$J58&\"'!\"&Lists!$K58&I$23))=\"\",\"\",(INDIRECT(\"'\"&Lists!$J58&\"'!\"&Lists!$K58&I$23))))","v":""},{"$f":"IF(ISNA(Lists!$J58),\"\",IF((INDIRECT(\"'\"&Lists!$J58&\"'!\"&Lists!$K58&J$23))=\"\",\"\",(INDIRECT(\"'\"&Lists!$J58&\"'!\"&Lists!$K58&J$23))))","v":""},{"$f":"IF(ISNA(Lists!$J58),\"\",IF((INDIRECT(\"'\"&Lists!$J58&\"'!\"&Lists!$K58&K$23))=\"\",\"\",(INDIRECT(\"'\"&Lists!$J58&\"'!\"&Lists!$K58&K$23))))","v":""},{"$f":"IF(ISNA(Lists!$J58),\"\",IF((INDIRECT(\"'\"&Lists!$J58&\"'!\"&Lists!$K58&L$23))=\"\",\"\",(INDIRECT(\"'\"&Lists!$J58&\"'!\"&Lists!$K58&L$23))))","v":""},{"$f":"IF(ISNA(Lists!$J58),\"\",IF((INDIRECT(\"'\"&Lists!$J58&\"'!\"&Lists!$K58&M$23))=\"\",\"\",(INDIRECT(\"'\"&Lists!$J58&\"'!\"&Lists!$K58&M$23))))","v":""},{"$f":"IF(ISNA(Lists!$J58),\"\",IF((INDIRECT(\"'\"&Lists!$J58&\"'!\"&Lists!$K58&N$23))=\"\",\"\",(INDIRECT(\"'\"&Lists!$J58&\"'!\"&Lists!$K58&N$23))))","v":""},{"$f":"IF(ISNA(Lists!$J58),\"\",IF((INDIRECT(\"'\"&Lists!$J58&\"'!\"&Lists!$K58&O$23))=\"\",\"\",(INDIRECT(\"'\"&Lists!$J58&\"'!\"&Lists!$K58&O$23))))","v":""},{"$f":"IF(ISNA(Lists!$J58),\"\",IF((INDIRECT(\"'\"&Lists!$J58&\"'!\"&Lists!$K58&P$23))=\"\",\"\",(INDIRECT(\"'\"&Lists!$J58&\"'!\"&Lists!$K58&P$23))))","v":""},{"$f":"IF(ISNA(Lists!$J58),\"\",IF((INDIRECT(\"'\"&Lists!$J58&\"'!\"&Lists!$K58&Q$23))=\"\",\"\",(INDIRECT(\"'\"&Lists!$J58&\"'!\"&Lists!$K58&Q$23))))","v":""},{"$f":"IF(ISNA(Lists!$J58),\"\",IF((INDIRECT(\"'\"&Lists!$J58&\"'!\"&Lists!$K58&R$23))=\"\",\"\",(INDIRECT(\"'\"&Lists!$J58&\"'!\"&Lists!$K58&R$23))))","v":""},{"$f":"IF(ISNA(Lists!$J58),\"\",IF((INDIRECT(\"'\"&Lists!$J58&\"'!\"&Lists!$K58&S$23))=\"\",\"\",(INDIRECT(\"'\"&Lists!$J58&\"'!\"&Lists!$K58&S$23))))","v":""},{"$f":"IF(ISNA(Lists!$J58),\"\",IF((INDIRECT(\"'\"&Lists!$J58&\"'!\"&Lists!$K58&T$23))=\"\",\"\",(INDIRECT(\"'\"&Lists!$J58&\"'!\"&Lists!$K58&T$23))))","v":""},{"$f":"IF(ISNA(Lists!$J58),\"\",IF((INDIRECT(\"'\"&Lists!$J58&\"'!\"&Lists!$K58&U$23))=\"\",\"\",(INDIRECT(\"'\"&Lists!$J58&\"'!\"&Lists!$K58&U$23))))","v":""},{"$f":"IF(ISNA(Lists!$J58),\"\",IF((INDIRECT(\"'\"&Lists!$J58&\"'!\"&Lists!$L58&V$23))=\"\",\"\",(INDIRECT(\"'\"&Lists!$J58&\"'!\"&Lists!$L58&V$23))))","v":""},{"$f":"IF(ISNA(Lists!$J58),\"\",IF((INDIRECT(\"'\"&Lists!$J58&\"'!\"&Lists!$L58&W$23))=\"\",\"\",(INDIRECT(\"'\"&Lists!$J58&\"'!\"&Lists!$L58&W$23))))","v":""},{"$f":"IF(ISNA(Lists!$J58),\"\",IF((INDIRECT(\"'\"&Lists!$J58&\"'!\"&Lists!$L58&X$23))=\"\",\"\",(INDIRECT(\"'\"&Lists!$J58&\"'!\"&Lists!$L58&X$23))))","v":""},{"$f":"IF(ISNA(Lists!$J58),\"\",IF((INDIRECT(\"'\"&Lists!$J58&\"'!\"&Lists!$L58&Y$23))=\"\",\"\",(INDIRECT(\"'\"&Lists!$J58&\"'!\"&Lists!$L58&Y$23))))","v":""},{"$f":"IF(ISNA(Lists!$J58),\"\",IF((INDIRECT(\"'\"&Lists!$J58&\"'!\"&Lists!$L58&Z$23))=\"\",\"\",(INDIRECT(\"'\"&Lists!$J58&\"'!\"&Lists!$L58&Z$23))))","v":""},{"$f":"IF(ISNA(Lists!$J58),\"\",IF((INDIRECT(\"'\"&Lists!$J58&\"'!\"&Lists!$L58&AA$23))=\"\",\"\",(INDIRECT(\"'\"&Lists!$J58&\"'!\"&Lists!$L58&AA$23))))","v":""},{"$f":"IF(ISNA(Lists!$J58),\"\",IF((INDIRECT(\"'\"&Lists!$J58&\"'!\"&Lists!$L58&AB$23))=\"\",\"\",(INDIRECT(\"'\"&Lists!$J58&\"'!\"&Lists!$L58&AB$23))))","v":""},{"$f":"IF(ISNA(Lists!$J58),\"\",IF((INDIRECT(\"'\"&Lists!$J58&\"'!\"&Lists!$K58&AC$23))=\"\",\"\",(INDIRECT(\"'\"&Lists!$J58&\"'!\"&Lists!$K58&AC$23))))","v":""},{"$f":"IF(ISNA(Lists!$J58),\"\",IF((INDIRECT(\"'\"&Lists!$J58&\"'!\"&Lists!$L58&AD$23))=\"\",\"\",(INDIRECT(\"'\"&Lists!$J58&\"'!\"&Lists!$L58&AD$23))))","v":""},{"$f":"IF(ISNA(Lists!$J58),\"\",IF((INDIRECT(\"'\"&Lists!$J58&\"'!\"&Lists!$K58&AE$23))=\"\",\"\",(INDIRECT(\"'\"&Lists!$J58&\"'!\"&Lists!$K58&AE$23))))","v":""},{"$f":"IF(ISNA(Lists!$J58),\"\",IF((INDIRECT(\"'\"&Lists!$J58&\"'!\"&Lists!$K58&AF$23))=\"\",\"\",(INDIRECT(\"'\"&Lists!$J58&\"'!\"&Lists!$K58&AF$23))))","v":""},{"$f":"IF(ISNA(Lists!$J58),\"\",IF((INDIRECT(\"'\"&Lists!$J58&\"'!\"&Lists!$K58&AG$23))=\"\",\"\",(INDIRECT(\"'\"&Lists!$J58&\"'!\"&Lists!$K58&AG$23))))","v":""},{"$f":"IF(ISNA(Lists!$J58),\"\",IF((INDIRECT(\"'\"&Lists!$J58&\"'!\"&Lists!$K58&AH$23))=\"\",\"\",(INDIRECT(\"'\"&Lists!$J58&\"'!\"&Lists!$K58&AH$23))))","v":""},{"$f":"IF(ISNA(Lists!$J58),\"\",IF((INDIRECT(\"'\"&Lists!$J58&\"'!\"&Lists!$K58&AI$23))=\"\",\"\",(INDIRECT(\"'\"&Lists!$J58&\"'!\"&Lists!$K58&AI$23))))","v":""},{"$f":"IF(ISNA(Lists!$J58),\"\",IF((INDIRECT(\"'\"&Lists!$J58&\"'!\"&Lists!$K58&AJ$23))=\"\",\"\",(INDIRECT(\"'\"&Lists!$J58&\"'!\"&Lists!$K58&AJ$23))))","v":""},{"$f":"IF(ISNA(Lists!$J58),\"\",IF((INDIRECT(\"'\"&Lists!$J58&\"'!\"&Lists!$K58&AK$23))=\"\",\"\",(INDIRECT(\"'\"&Lists!$J58&\"'!\"&Lists!$K58&AK$23))))","v":""},{"$f":"IF(ISNA(Lists!$J58),\"\",IF((INDIRECT(\"'\"&Lists!$J58&\"'!\"&Lists!$K58&AL$23))=\"\",\"\",(INDIRECT(\"'\"&Lists!$J58&\"'!\"&Lists!$K58&AL$23))))","v":""},{"$f":"IF(ISNA(Lists!$J58),\"\",IF((INDIRECT(\"'\"&Lists!$J58&\"'!\"&Lists!$K58&AM$23))=\"\",\"\",(INDIRECT(\"'\"&Lists!$J58&\"'!\"&Lists!$K58&AM$23))))","v":""},{"$f":"IF(ISNA(Lists!$J58),\"\",IF((INDIRECT(\"'\"&Lists!$J58&\"'!\"&Lists!$K58&AN$23))=\"\",\"\",(INDIRECT(\"'\"&Lists!$J58&\"'!\"&Lists!$K58&AN$23))))","v":""},{"$f":"IF(ISNA(Lists!$J58),\"\",IF((INDIRECT(\"'\"&Lists!$J58&\"'!\"&Lists!$K58&AO$23))=\"\",\"\",(INDIRECT(\"'\"&Lists!$J58&\"'!\"&Lists!$K58&AO$23))))","v":""}]
[null,{"$f":"IF(C81=\"\",\"\",Facility_Info_upload!$B$24)","v":""},{"$f":"IF(ISNA(Lists!$J59),\"\",IF(INDIRECT(\"'\"&Lists!$J59&\"'!\"&\"B\"&C$23)=\"\",\"\",(INDIRECT(\"'\"&Lists!$J59&\"'!\"&\"B\"&C$23))))","v":""},{"$f":"IF(ISNA(Lists!$J59),\"\",IF(INDIRECT(\"'\"&Lists!$J59&\"'!\"&\"B\"&D$23)=\"\",\"\",(INDIRECT(\"'\"&Lists!$J59&\"'!\"&\"B\"&D$23))))","v":""},{"$f":"IF(ISNA(Lists!$J59),\"\",IF(INDIRECT(\"'\"&Lists!$J59&\"'!\"&\"B\"&E$23)=\"\",\"\",(INDIRECT(\"'\"&Lists!$J59&\"'!\"&\"B\"&E$23))))","v":""},{"$f":"IF(ISNA(Lists!$J59),\"\",IF(INDIRECT(\"'\"&Lists!$J59&\"'!\"&\"B\"&F$23)=\"\",\"\",(INDIRECT(\"'\"&Lists!$J59&\"'!\"&\"B\"&F$23))))","v":""},{"$f":"IF(ISNA(Lists!$J59),\"\",IF(INDIRECT(\"'\"&Lists!$J59&\"'!\"&\"B\"&G$23)=\"\",\"\",(INDIRECT(\"'\"&Lists!$J59&\"'!\"&\"B\"&G$23))))","v":""},{"$f":"IF(ISNA(Lists!$J59),\"\",IF((INDIRECT(\"'\"&Lists!$J59&\"'!\"&Lists!$K59&H$23))=\"\",\"\",(INDIRECT(\"'\"&Lists!$J59&\"'!\"&Lists!$K59&H$23))))","v":""},{"$f":"IF(ISNA(Lists!$J59),\"\",IF((INDIRECT(\"'\"&Lists!$J59&\"'!\"&Lists!$K59&I$23))=\"\",\"\",(INDIRECT(\"'\"&Lists!$J59&\"'!\"&Lists!$K59&I$23))))","v":""},{"$f":"IF(ISNA(Lists!$J59),\"\",IF((INDIRECT(\"'\"&Lists!$J59&\"'!\"&Lists!$K59&J$23))=\"\",\"\",(INDIRECT(\"'\"&Lists!$J59&\"'!\"&Lists!$K59&J$23))))","v":""},{"$f":"IF(ISNA(Lists!$J59),\"\",IF((INDIRECT(\"'\"&Lists!$J59&\"'!\"&Lists!$K59&K$23))=\"\",\"\",(INDIRECT(\"'\"&Lists!$J59&\"'!\"&Lists!$K59&K$23))))","v":""},{"$f":"IF(ISNA(Lists!$J59),\"\",IF((INDIRECT(\"'\"&Lists!$J59&\"'!\"&Lists!$K59&L$23))=\"\",\"\",(INDIRECT(\"'\"&Lists!$J59&\"'!\"&Lists!$K59&L$23))))","v":""},{"$f":"IF(ISNA(Lists!$J59),\"\",IF((INDIRECT(\"'\"&Lists!$J59&\"'!\"&Lists!$K59&M$23))=\"\",\"\",(INDIRECT(\"'\"&Lists!$J59&\"'!\"&Lists!$K59&M$23))))","v":""},{"$f":"IF(ISNA(Lists!$J59),\"\",IF((INDIRECT(\"'\"&Lists!$J59&\"'!\"&Lists!$K59&N$23))=\"\",\"\",(INDIRECT(\"'\"&Lists!$J59&\"'!\"&Lists!$K59&N$23))))","v":""},{"$f":"IF(ISNA(Lists!$J59),\"\",IF((INDIRECT(\"'\"&Lists!$J59&\"'!\"&Lists!$K59&O$23))=\"\",\"\",(INDIRECT(\"'\"&Lists!$J59&\"'!\"&Lists!$K59&O$23))))","v":""},{"$f":"IF(ISNA(Lists!$J59),\"\",IF((INDIRECT(\"'\"&Lists!$J59&\"'!\"&Lists!$K59&P$23))=\"\",\"\",(INDIRECT(\"'\"&Lists!$J59&\"'!\"&Lists!$K59&P$23))))","v":""},{"$f":"IF(ISNA(Lists!$J59),\"\",IF((INDIRECT(\"'\"&Lists!$J59&\"'!\"&Lists!$K59&Q$23))=\"\",\"\",(INDIRECT(\"'\"&Lists!$J59&\"'!\"&Lists!$K59&Q$23))))","v":""},{"$f":"IF(ISNA(Lists!$J59),\"\",IF((INDIRECT(\"'\"&Lists!$J59&\"'!\"&Lists!$K59&R$23))=\"\",\"\",(INDIRECT(\"'\"&Lists!$J59&\"'!\"&Lists!$K59&R$23))))","v":""},{"$f":"IF(ISNA(Lists!$J59),\"\",IF((INDIRECT(\"'\"&Lists!$J59&\"'!\"&Lists!$K59&S$23))=\"\",\"\",(INDIRECT(\"'\"&Lists!$J59&\"'!\"&Lists!$K59&S$23))))","v":""},{"$f":"IF(ISNA(Lists!$J59),\"\",IF((INDIRECT(\"'\"&Lists!$J59&\"'!\"&Lists!$K59&T$23))=\"\",\"\",(INDIRECT(\"'\"&Lists!$J59&\"'!\"&Lists!$K59&T$23))))","v":""},{"$f":"IF(ISNA(Lists!$J59),\"\",IF((INDIRECT(\"'\"&Lists!$J59&\"'!\"&Lists!$K59&U$23))=\"\",\"\",(INDIRECT(\"'\"&Lists!$J59&\"'!\"&Lists!$K59&U$23))))","v":""},{"$f":"IF(ISNA(Lists!$J59),\"\",IF((INDIRECT(\"'\"&Lists!$J59&\"'!\"&Lists!$L59&V$23))=\"\",\"\",(INDIRECT(\"'\"&Lists!$J59&\"'!\"&Lists!$L59&V$23))))","v":""},{"$f":"IF(ISNA(Lists!$J59),\"\",IF((INDIRECT(\"'\"&Lists!$J59&\"'!\"&Lists!$L59&W$23))=\"\",\"\",(INDIRECT(\"'\"&Lists!$J59&\"'!\"&Lists!$L59&W$23))))","v":""},{"$f":"IF(ISNA(Lists!$J59),\"\",IF((INDIRECT(\"'\"&Lists!$J59&\"'!\"&Lists!$L59&X$23))=\"\",\"\",(INDIRECT(\"'\"&Lists!$J59&\"'!\"&Lists!$L59&X$23))))","v":""},{"$f":"IF(ISNA(Lists!$J59),\"\",IF((INDIRECT(\"'\"&Lists!$J59&\"'!\"&Lists!$L59&Y$23))=\"\",\"\",(INDIRECT(\"'\"&Lists!$J59&\"'!\"&Lists!$L59&Y$23))))","v":""},{"$f":"IF(ISNA(Lists!$J59),\"\",IF((INDIRECT(\"'\"&Lists!$J59&\"'!\"&Lists!$L59&Z$23))=\"\",\"\",(INDIRECT(\"'\"&Lists!$J59&\"'!\"&Lists!$L59&Z$23))))","v":""},{"$f":"IF(ISNA(Lists!$J59),\"\",IF((INDIRECT(\"'\"&Lists!$J59&\"'!\"&Lists!$L59&AA$23))=\"\",\"\",(INDIRECT(\"'\"&Lists!$J59&\"'!\"&Lists!$L59&AA$23))))","v":""},{"$f":"IF(ISNA(Lists!$J59),\"\",IF((INDIRECT(\"'\"&Lists!$J59&\"'!\"&Lists!$L59&AB$23))=\"\",\"\",(INDIRECT(\"'\"&Lists!$J59&\"'!\"&Lists!$L59&AB$23))))","v":""},{"$f":"IF(ISNA(Lists!$J59),\"\",IF((INDIRECT(\"'\"&Lists!$J59&\"'!\"&Lists!$K59&AC$23))=\"\",\"\",(INDIRECT(\"'\"&Lists!$J59&\"'!\"&Lists!$K59&AC$23))))","v":""},{"$f":"IF(ISNA(Lists!$J59),\"\",IF((INDIRECT(\"'\"&Lists!$J59&\"'!\"&Lists!$L59&AD$23))=\"\",\"\",(INDIRECT(\"'\"&Lists!$J59&\"'!\"&Lists!$L59&AD$23))))","v":""},{"$f":"IF(ISNA(Lists!$J59),\"\",IF((INDIRECT(\"'\"&Lists!$J59&\"'!\"&Lists!$K59&AE$23))=\"\",\"\",(INDIRECT(\"'\"&Lists!$J59&\"'!\"&Lists!$K59&AE$23))))","v":""},{"$f":"IF(ISNA(Lists!$J59),\"\",IF((INDIRECT(\"'\"&Lists!$J59&\"'!\"&Lists!$K59&AF$23))=\"\",\"\",(INDIRECT(\"'\"&Lists!$J59&\"'!\"&Lists!$K59&AF$23))))","v":""},{"$f":"IF(ISNA(Lists!$J59),\"\",IF((INDIRECT(\"'\"&Lists!$J59&\"'!\"&Lists!$K59&AG$23))=\"\",\"\",(INDIRECT(\"'\"&Lists!$J59&\"'!\"&Lists!$K59&AG$23))))","v":""},{"$f":"IF(ISNA(Lists!$J59),\"\",IF((INDIRECT(\"'\"&Lists!$J59&\"'!\"&Lists!$K59&AH$23))=\"\",\"\",(INDIRECT(\"'\"&Lists!$J59&\"'!\"&Lists!$K59&AH$23))))","v":""},{"$f":"IF(ISNA(Lists!$J59),\"\",IF((INDIRECT(\"'\"&Lists!$J59&\"'!\"&Lists!$K59&AI$23))=\"\",\"\",(INDIRECT(\"'\"&Lists!$J59&\"'!\"&Lists!$K59&AI$23))))","v":""},{"$f":"IF(ISNA(Lists!$J59),\"\",IF((INDIRECT(\"'\"&Lists!$J59&\"'!\"&Lists!$K59&AJ$23))=\"\",\"\",(INDIRECT(\"'\"&Lists!$J59&\"'!\"&Lists!$K59&AJ$23))))","v":""},{"$f":"IF(ISNA(Lists!$J59),\"\",IF((INDIRECT(\"'\"&Lists!$J59&\"'!\"&Lists!$K59&AK$23))=\"\",\"\",(INDIRECT(\"'\"&Lists!$J59&\"'!\"&Lists!$K59&AK$23))))","v":""},{"$f":"IF(ISNA(Lists!$J59),\"\",IF((INDIRECT(\"'\"&Lists!$J59&\"'!\"&Lists!$K59&AL$23))=\"\",\"\",(INDIRECT(\"'\"&Lists!$J59&\"'!\"&Lists!$K59&AL$23))))","v":""},{"$f":"IF(ISNA(Lists!$J59),\"\",IF((INDIRECT(\"'\"&Lists!$J59&\"'!\"&Lists!$K59&AM$23))=\"\",\"\",(INDIRECT(\"'\"&Lists!$J59&\"'!\"&Lists!$K59&AM$23))))","v":""},{"$f":"IF(ISNA(Lists!$J59),\"\",IF((INDIRECT(\"'\"&Lists!$J59&\"'!\"&Lists!$K59&AN$23))=\"\",\"\",(INDIRECT(\"'\"&Lists!$J59&\"'!\"&Lists!$K59&AN$23))))","v":""},{"$f":"IF(ISNA(Lists!$J59),\"\",IF((INDIRECT(\"'\"&Lists!$J59&\"'!\"&Lists!$K59&AO$23))=\"\",\"\",(INDIRECT(\"'\"&Lists!$J59&\"'!\"&Lists!$K59&AO$23))))","v":""}]
[null,{"$f":"IF(C82=\"\",\"\",Facility_Info_upload!$B$24)","v":""},{"$f":"IF(ISNA(Lists!$J60),\"\",IF(INDIRECT(\"'\"&Lists!$J60&\"'!\"&\"B\"&C$23)=\"\",\"\",(INDIRECT(\"'\"&Lists!$J60&\"'!\"&\"B\"&C$23))))","v":""},{"$f":"IF(ISNA(Lists!$J60),\"\",IF(INDIRECT(\"'\"&Lists!$J60&\"'!\"&\"B\"&D$23)=\"\",\"\",(INDIRECT(\"'\"&Lists!$J60&\"'!\"&\"B\"&D$23))))","v":""},{"$f":"IF(ISNA(Lists!$J60),\"\",IF(INDIRECT(\"'\"&Lists!$J60&\"'!\"&\"B\"&E$23)=\"\",\"\",(INDIRECT(\"'\"&Lists!$J60&\"'!\"&\"B\"&E$23))))","v":""},{"$f":"IF(ISNA(Lists!$J60),\"\",IF(INDIRECT(\"'\"&Lists!$J60&\"'!\"&\"B\"&F$23)=\"\",\"\",(INDIRECT(\"'\"&Lists!$J60&\"'!\"&\"B\"&F$23))))","v":""},{"$f":"IF(ISNA(Lists!$J60),\"\",IF(INDIRECT(\"'\"&Lists!$J60&\"'!\"&\"B\"&G$23)=\"\",\"\",(INDIRECT(\"'\"&Lists!$J60&\"'!\"&\"B\"&G$23))))","v":""},{"$f":"IF(ISNA(Lists!$J60),\"\",IF((INDIRECT(\"'\"&Lists!$J60&\"'!\"&Lists!$K60&H$23))=\"\",\"\",(INDIRECT(\"'\"&Lists!$J60&\"'!\"&Lists!$K60&H$23))))","v":""},{"$f":"IF(ISNA(Lists!$J60),\"\",IF((INDIRECT(\"'\"&Lists!$J60&\"'!\"&Lists!$K60&I$23))=\"\",\"\",(INDIRECT(\"'\"&Lists!$J60&\"'!\"&Lists!$K60&I$23))))","v":""},{"$f":"IF(ISNA(Lists!$J60),\"\",IF((INDIRECT(\"'\"&Lists!$J60&\"'!\"&Lists!$K60&J$23))=\"\",\"\",(INDIRECT(\"'\"&Lists!$J60&\"'!\"&Lists!$K60&J$23))))","v":""},{"$f":"IF(ISNA(Lists!$J60),\"\",IF((INDIRECT(\"'\"&Lists!$J60&\"'!\"&Lists!$K60&K$23))=\"\",\"\",(INDIRECT(\"'\"&Lists!$J60&\"'!\"&Lists!$K60&K$23))))","v":""},{"$f":"IF(ISNA(Lists!$J60),\"\",IF((INDIRECT(\"'\"&Lists!$J60&\"'!\"&Lists!$K60&L$23))=\"\",\"\",(INDIRECT(\"'\"&Lists!$J60&\"'!\"&Lists!$K60&L$23))))","v":""},{"$f":"IF(ISNA(Lists!$J60),\"\",IF((INDIRECT(\"'\"&Lists!$J60&\"'!\"&Lists!$K60&M$23))=\"\",\"\",(INDIRECT(\"'\"&Lists!$J60&\"'!\"&Lists!$K60&M$23))))","v":""},{"$f":"IF(ISNA(Lists!$J60),\"\",IF((INDIRECT(\"'\"&Lists!$J60&\"'!\"&Lists!$K60&N$23))=\"\",\"\",(INDIRECT(\"'\"&Lists!$J60&\"'!\"&Lists!$K60&N$23))))","v":""},{"$f":"IF(ISNA(Lists!$J60),\"\",IF((INDIRECT(\"'\"&Lists!$J60&\"'!\"&Lists!$K60&O$23))=\"\",\"\",(INDIRECT(\"'\"&Lists!$J60&\"'!\"&Lists!$K60&O$23))))","v":""},{"$f":"IF(ISNA(Lists!$J60),\"\",IF((INDIRECT(\"'\"&Lists!$J60&\"'!\"&Lists!$K60&P$23))=\"\",\"\",(INDIRECT(\"'\"&Lists!$J60&\"'!\"&Lists!$K60&P$23))))","v":""},{"$f":"IF(ISNA(Lists!$J60),\"\",IF((INDIRECT(\"'\"&Lists!$J60&\"'!\"&Lists!$K60&Q$23))=\"\",\"\",(INDIRECT(\"'\"&Lists!$J60&\"'!\"&Lists!$K60&Q$23))))","v":""},{"$f":"IF(ISNA(Lists!$J60),\"\",IF((INDIRECT(\"'\"&Lists!$J60&\"'!\"&Lists!$K60&R$23))=\"\",\"\",(INDIRECT(\"'\"&Lists!$J60&\"'!\"&Lists!$K60&R$23))))","v":""},{"$f":"IF(ISNA(Lists!$J60),\"\",IF((INDIRECT(\"'\"&Lists!$J60&\"'!\"&Lists!$K60&S$23))=\"\",\"\",(INDIRECT(\"'\"&Lists!$J60&\"'!\"&Lists!$K60&S$23))))","v":""},{"$f":"IF(ISNA(Lists!$J60),\"\",IF((INDIRECT(\"'\"&Lists!$J60&\"'!\"&Lists!$K60&T$23))=\"\",\"\",(INDIRECT(\"'\"&Lists!$J60&\"'!\"&Lists!$K60&T$23))))","v":""},{"$f":"IF(ISNA(Lists!$J60),\"\",IF((INDIRECT(\"'\"&Lists!$J60&\"'!\"&Lists!$K60&U$23))=\"\",\"\",(INDIRECT(\"'\"&Lists!$J60&\"'!\"&Lists!$K60&U$23))))","v":""},{"$f":"IF(ISNA(Lists!$J60),\"\",IF((INDIRECT(\"'\"&Lists!$J60&\"'!\"&Lists!$L60&V$23))=\"\",\"\",(INDIRECT(\"'\"&Lists!$J60&\"'!\"&Lists!$L60&V$23))))","v":""},{"$f":"IF(ISNA(Lists!$J60),\"\",IF((INDIRECT(\"'\"&Lists!$J60&\"'!\"&Lists!$L60&W$23))=\"\",\"\",(INDIRECT(\"'\"&Lists!$J60&\"'!\"&Lists!$L60&W$23))))","v":""},{"$f":"IF(ISNA(Lists!$J60),\"\",IF((INDIRECT(\"'\"&Lists!$J60&\"'!\"&Lists!$L60&X$23))=\"\",\"\",(INDIRECT(\"'\"&Lists!$J60&\"'!\"&Lists!$L60&X$23))))","v":""},{"$f":"IF(ISNA(Lists!$J60),\"\",IF((INDIRECT(\"'\"&Lists!$J60&\"'!\"&Lists!$L60&Y$23))=\"\",\"\",(INDIRECT(\"'\"&Lists!$J60&\"'!\"&Lists!$L60&Y$23))))","v":""},{"$f":"IF(ISNA(Lists!$J60),\"\",IF((INDIRECT(\"'\"&Lists!$J60&\"'!\"&Lists!$L60&Z$23))=\"\",\"\",(INDIRECT(\"'\"&Lists!$J60&\"'!\"&Lists!$L60&Z$23))))","v":""},{"$f":"IF(ISNA(Lists!$J60),\"\",IF((INDIRECT(\"'\"&Lists!$J60&\"'!\"&Lists!$L60&AA$23))=\"\",\"\",(INDIRECT(\"'\"&Lists!$J60&\"'!\"&Lists!$L60&AA$23))))","v":""},{"$f":"IF(ISNA(Lists!$J60),\"\",IF((INDIRECT(\"'\"&Lists!$J60&\"'!\"&Lists!$L60&AB$23))=\"\",\"\",(INDIRECT(\"'\"&Lists!$J60&\"'!\"&Lists!$L60&AB$23))))","v":""},{"$f":"IF(ISNA(Lists!$J60),\"\",IF((INDIRECT(\"'\"&Lists!$J60&\"'!\"&Lists!$K60&AC$23))=\"\",\"\",(INDIRECT(\"'\"&Lists!$J60&\"'!\"&Lists!$K60&AC$23))))","v":""},{"$f":"IF(ISNA(Lists!$J60),\"\",IF((INDIRECT(\"'\"&Lists!$J60&\"'!\"&Lists!$L60&AD$23))=\"\",\"\",(INDIRECT(\"'\"&Lists!$J60&\"'!\"&Lists!$L60&AD$23))))","v":""},{"$f":"IF(ISNA(Lists!$J60),\"\",IF((INDIRECT(\"'\"&Lists!$J60&\"'!\"&Lists!$K60&AE$23))=\"\",\"\",(INDIRECT(\"'\"&Lists!$J60&\"'!\"&Lists!$K60&AE$23))))","v":""},{"$f":"IF(ISNA(Lists!$J60),\"\",IF((INDIRECT(\"'\"&Lists!$J60&\"'!\"&Lists!$K60&AF$23))=\"\",\"\",(INDIRECT(\"'\"&Lists!$J60&\"'!\"&Lists!$K60&AF$23))))","v":""},{"$f":"IF(ISNA(Lists!$J60),\"\",IF((INDIRECT(\"'\"&Lists!$J60&\"'!\"&Lists!$K60&AG$23))=\"\",\"\",(INDIRECT(\"'\"&Lists!$J60&\"'!\"&Lists!$K60&AG$23))))","v":""},{"$f":"IF(ISNA(Lists!$J60),\"\",IF((INDIRECT(\"'\"&Lists!$J60&\"'!\"&Lists!$K60&AH$23))=\"\",\"\",(INDIRECT(\"'\"&Lists!$J60&\"'!\"&Lists!$K60&AH$23))))","v":""},{"$f":"IF(ISNA(Lists!$J60),\"\",IF((INDIRECT(\"'\"&Lists!$J60&\"'!\"&Lists!$K60&AI$23))=\"\",\"\",(INDIRECT(\"'\"&Lists!$J60&\"'!\"&Lists!$K60&AI$23))))","v":""},{"$f":"IF(ISNA(Lists!$J60),\"\",IF((INDIRECT(\"'\"&Lists!$J60&\"'!\"&Lists!$K60&AJ$23))=\"\",\"\",(INDIRECT(\"'\"&Lists!$J60&\"'!\"&Lists!$K60&AJ$23))))","v":""},{"$f":"IF(ISNA(Lists!$J60),\"\",IF((INDIRECT(\"'\"&Lists!$J60&\"'!\"&Lists!$K60&AK$23))=\"\",\"\",(INDIRECT(\"'\"&Lists!$J60&\"'!\"&Lists!$K60&AK$23))))","v":""},{"$f":"IF(ISNA(Lists!$J60),\"\",IF((INDIRECT(\"'\"&Lists!$J60&\"'!\"&Lists!$K60&AL$23))=\"\",\"\",(INDIRECT(\"'\"&Lists!$J60&\"'!\"&Lists!$K60&AL$23))))","v":""},{"$f":"IF(ISNA(Lists!$J60),\"\",IF((INDIRECT(\"'\"&Lists!$J60&\"'!\"&Lists!$K60&AM$23))=\"\",\"\",(INDIRECT(\"'\"&Lists!$J60&\"'!\"&Lists!$K60&AM$23))))","v":""},{"$f":"IF(ISNA(Lists!$J60),\"\",IF((INDIRECT(\"'\"&Lists!$J60&\"'!\"&Lists!$K60&AN$23))=\"\",\"\",(INDIRECT(\"'\"&Lists!$J60&\"'!\"&Lists!$K60&AN$23))))","v":""},{"$f":"IF(ISNA(Lists!$J60),\"\",IF((INDIRECT(\"'\"&Lists!$J60&\"'!\"&Lists!$K60&AO$23))=\"\",\"\",(INDIRECT(\"'\"&Lists!$J60&\"'!\"&Lists!$K60&AO$23))))","v":""}]
[null,{"$f":"IF(C83=\"\",\"\",Facility_Info_upload!$B$24)","v":""},{"$f":"IF(ISNA(Lists!$J61),\"\",IF(INDIRECT(\"'\"&Lists!$J61&\"'!\"&\"B\"&C$23)=\"\",\"\",(INDIRECT(\"'\"&Lists!$J61&\"'!\"&\"B\"&C$23))))","v":""},{"$f":"IF(ISNA(Lists!$J61),\"\",IF(INDIRECT(\"'\"&Lists!$J61&\"'!\"&\"B\"&D$23)=\"\",\"\",(INDIRECT(\"'\"&Lists!$J61&\"'!\"&\"B\"&D$23))))","v":""},{"$f":"IF(ISNA(Lists!$J61),\"\",IF(INDIRECT(\"'\"&Lists!$J61&\"'!\"&\"B\"&E$23)=\"\",\"\",(INDIRECT(\"'\"&Lists!$J61&\"'!\"&\"B\"&E$23))))","v":""},{"$f":"IF(ISNA(Lists!$J61),\"\",IF(INDIRECT(\"'\"&Lists!$J61&\"'!\"&\"B\"&F$23)=\"\",\"\",(INDIRECT(\"'\"&Lists!$J61&\"'!\"&\"B\"&F$23))))","v":""},{"$f":"IF(ISNA(Lists!$J61),\"\",IF(INDIRECT(\"'\"&Lists!$J61&\"'!\"&\"B\"&G$23)=\"\",\"\",(INDIRECT(\"'\"&Lists!$J61&\"'!\"&\"B\"&G$23))))","v":""},{"$f":"IF(ISNA(Lists!$J61),\"\",IF((INDIRECT(\"'\"&Lists!$J61&\"'!\"&Lists!$K61&H$23))=\"\",\"\",(INDIRECT(\"'\"&Lists!$J61&\"'!\"&Lists!$K61&H$23))))","v":""},{"$f":"IF(ISNA(Lists!$J61),\"\",IF((INDIRECT(\"'\"&Lists!$J61&\"'!\"&Lists!$K61&I$23))=\"\",\"\",(INDIRECT(\"'\"&Lists!$J61&\"'!\"&Lists!$K61&I$23))))","v":""},{"$f":"IF(ISNA(Lists!$J61),\"\",IF((INDIRECT(\"'\"&Lists!$J61&\"'!\"&Lists!$K61&J$23))=\"\",\"\",(INDIRECT(\"'\"&Lists!$J61&\"'!\"&Lists!$K61&J$23))))","v":""},{"$f":"IF(ISNA(Lists!$J61),\"\",IF((INDIRECT(\"'\"&Lists!$J61&\"'!\"&Lists!$K61&K$23))=\"\",\"\",(INDIRECT(\"'\"&Lists!$J61&\"'!\"&Lists!$K61&K$23))))","v":""},{"$f":"IF(ISNA(Lists!$J61),\"\",IF((INDIRECT(\"'\"&Lists!$J61&\"'!\"&Lists!$K61&L$23))=\"\",\"\",(INDIRECT(\"'\"&Lists!$J61&\"'!\"&Lists!$K61&L$23))))","v":""},{"$f":"IF(ISNA(Lists!$J61),\"\",IF((INDIRECT(\"'\"&Lists!$J61&\"'!\"&Lists!$K61&M$23))=\"\",\"\",(INDIRECT(\"'\"&Lists!$J61&\"'!\"&Lists!$K61&M$23))))","v":""},{"$f":"IF(ISNA(Lists!$J61),\"\",IF((INDIRECT(\"'\"&Lists!$J61&\"'!\"&Lists!$K61&N$23))=\"\",\"\",(INDIRECT(\"'\"&Lists!$J61&\"'!\"&Lists!$K61&N$23))))","v":""},{"$f":"IF(ISNA(Lists!$J61),\"\",IF((INDIRECT(\"'\"&Lists!$J61&\"'!\"&Lists!$K61&O$23))=\"\",\"\",(INDIRECT(\"'\"&Lists!$J61&\"'!\"&Lists!$K61&O$23))))","v":""},{"$f":"IF(ISNA(Lists!$J61),\"\",IF((INDIRECT(\"'\"&Lists!$J61&\"'!\"&Lists!$K61&P$23))=\"\",\"\",(INDIRECT(\"'\"&Lists!$J61&\"'!\"&Lists!$K61&P$23))))","v":""},{"$f":"IF(ISNA(Lists!$J61),\"\",IF((INDIRECT(\"'\"&Lists!$J61&\"'!\"&Lists!$K61&Q$23))=\"\",\"\",(INDIRECT(\"'\"&Lists!$J61&\"'!\"&Lists!$K61&Q$23))))","v":""},{"$f":"IF(ISNA(Lists!$J61),\"\",IF((INDIRECT(\"'\"&Lists!$J61&\"'!\"&Lists!$K61&R$23))=\"\",\"\",(INDIRECT(\"'\"&Lists!$J61&\"'!\"&Lists!$K61&R$23))))","v":""},{"$f":"IF(ISNA(Lists!$J61),\"\",IF((INDIRECT(\"'\"&Lists!$J61&\"'!\"&Lists!$K61&S$23))=\"\",\"\",(INDIRECT(\"'\"&Lists!$J61&\"'!\"&Lists!$K61&S$23))))","v":""},{"$f":"IF(ISNA(Lists!$J61),\"\",IF((INDIRECT(\"'\"&Lists!$J61&\"'!\"&Lists!$K61&T$23))=\"\",\"\",(INDIRECT(\"'\"&Lists!$J61&\"'!\"&Lists!$K61&T$23))))","v":""},{"$f":"IF(ISNA(Lists!$J61),\"\",IF((INDIRECT(\"'\"&Lists!$J61&\"'!\"&Lists!$K61&U$23))=\"\",\"\",(INDIRECT(\"'\"&Lists!$J61&\"'!\"&Lists!$K61&U$23))))","v":""},{"$f":"IF(ISNA(Lists!$J61),\"\",IF((INDIRECT(\"'\"&Lists!$J61&\"'!\"&Lists!$L61&V$23))=\"\",\"\",(INDIRECT(\"'\"&Lists!$J61&\"'!\"&Lists!$L61&V$23))))","v":""},{"$f":"IF(ISNA(Lists!$J61),\"\",IF((INDIRECT(\"'\"&Lists!$J61&\"'!\"&Lists!$L61&W$23))=\"\",\"\",(INDIRECT(\"'\"&Lists!$J61&\"'!\"&Lists!$L61&W$23))))","v":""},{"$f":"IF(ISNA(Lists!$J61),\"\",IF((INDIRECT(\"'\"&Lists!$J61&\"'!\"&Lists!$L61&X$23))=\"\",\"\",(INDIRECT(\"'\"&Lists!$J61&\"'!\"&Lists!$L61&X$23))))","v":""},{"$f":"IF(ISNA(Lists!$J61),\"\",IF((INDIRECT(\"'\"&Lists!$J61&\"'!\"&Lists!$L61&Y$23))=\"\",\"\",(INDIRECT(\"'\"&Lists!$J61&\"'!\"&Lists!$L61&Y$23))))","v":""},{"$f":"IF(ISNA(Lists!$J61),\"\",IF((INDIRECT(\"'\"&Lists!$J61&\"'!\"&Lists!$L61&Z$23))=\"\",\"\",(INDIRECT(\"'\"&Lists!$J61&\"'!\"&Lists!$L61&Z$23))))","v":""},{"$f":"IF(ISNA(Lists!$J61),\"\",IF((INDIRECT(\"'\"&Lists!$J61&\"'!\"&Lists!$L61&AA$23))=\"\",\"\",(INDIRECT(\"'\"&Lists!$J61&\"'!\"&Lists!$L61&AA$23))))","v":""},{"$f":"IF(ISNA(Lists!$J61),\"\",IF((INDIRECT(\"'\"&Lists!$J61&\"'!\"&Lists!$L61&AB$23))=\"\",\"\",(INDIRECT(\"'\"&Lists!$J61&\"'!\"&Lists!$L61&AB$23))))","v":""},{"$f":"IF(ISNA(Lists!$J61),\"\",IF((INDIRECT(\"'\"&Lists!$J61&\"'!\"&Lists!$K61&AC$23))=\"\",\"\",(INDIRECT(\"'\"&Lists!$J61&\"'!\"&Lists!$K61&AC$23))))","v":""},{"$f":"IF(ISNA(Lists!$J61),\"\",IF((INDIRECT(\"'\"&Lists!$J61&\"'!\"&Lists!$L61&AD$23))=\"\",\"\",(INDIRECT(\"'\"&Lists!$J61&\"'!\"&Lists!$L61&AD$23))))","v":""},{"$f":"IF(ISNA(Lists!$J61),\"\",IF((INDIRECT(\"'\"&Lists!$J61&\"'!\"&Lists!$K61&AE$23))=\"\",\"\",(INDIRECT(\"'\"&Lists!$J61&\"'!\"&Lists!$K61&AE$23))))","v":""},{"$f":"IF(ISNA(Lists!$J61),\"\",IF((INDIRECT(\"'\"&Lists!$J61&\"'!\"&Lists!$K61&AF$23))=\"\",\"\",(INDIRECT(\"'\"&Lists!$J61&\"'!\"&Lists!$K61&AF$23))))","v":""},{"$f":"IF(ISNA(Lists!$J61),\"\",IF((INDIRECT(\"'\"&Lists!$J61&\"'!\"&Lists!$K61&AG$23))=\"\",\"\",(INDIRECT(\"'\"&Lists!$J61&\"'!\"&Lists!$K61&AG$23))))","v":""},{"$f":"IF(ISNA(Lists!$J61),\"\",IF((INDIRECT(\"'\"&Lists!$J61&\"'!\"&Lists!$K61&AH$23))=\"\",\"\",(INDIRECT(\"'\"&Lists!$J61&\"'!\"&Lists!$K61&AH$23))))","v":""},{"$f":"IF(ISNA(Lists!$J61),\"\",IF((INDIRECT(\"'\"&Lists!$J61&\"'!\"&Lists!$K61&AI$23))=\"\",\"\",(INDIRECT(\"'\"&Lists!$J61&\"'!\"&Lists!$K61&AI$23))))","v":""},{"$f":"IF(ISNA(Lists!$J61),\"\",IF((INDIRECT(\"'\"&Lists!$J61&\"'!\"&Lists!$K61&AJ$23))=\"\",\"\",(INDIRECT(\"'\"&Lists!$J61&\"'!\"&Lists!$K61&AJ$23))))","v":""},{"$f":"IF(ISNA(Lists!$J61),\"\",IF((INDIRECT(\"'\"&Lists!$J61&\"'!\"&Lists!$K61&AK$23))=\"\",\"\",(INDIRECT(\"'\"&Lists!$J61&\"'!\"&Lists!$K61&AK$23))))","v":""},{"$f":"IF(ISNA(Lists!$J61),\"\",IF((INDIRECT(\"'\"&Lists!$J61&\"'!\"&Lists!$K61&AL$23))=\"\",\"\",(INDIRECT(\"'\"&Lists!$J61&\"'!\"&Lists!$K61&AL$23))))","v":""},{"$f":"IF(ISNA(Lists!$J61),\"\",IF((INDIRECT(\"'\"&Lists!$J61&\"'!\"&Lists!$K61&AM$23))=\"\",\"\",(INDIRECT(\"'\"&Lists!$J61&\"'!\"&Lists!$K61&AM$23))))","v":""},{"$f":"IF(ISNA(Lists!$J61),\"\",IF((INDIRECT(\"'\"&Lists!$J61&\"'!\"&Lists!$K61&AN$23))=\"\",\"\",(INDIRECT(\"'\"&Lists!$J61&\"'!\"&Lists!$K61&AN$23))))","v":""},{"$f":"IF(ISNA(Lists!$J61),\"\",IF((INDIRECT(\"'\"&Lists!$J61&\"'!\"&Lists!$K61&AO$23))=\"\",\"\",(INDIRECT(\"'\"&Lists!$J61&\"'!\"&Lists!$K61&AO$23))))","v":""}]
[null,{"$f":"IF(C84=\"\",\"\",Facility_Info_upload!$B$24)","v":""},{"$f":"IF(ISNA(Lists!$J62),\"\",IF(INDIRECT(\"'\"&Lists!$J62&\"'!\"&\"B\"&C$23)=\"\",\"\",(INDIRECT(\"'\"&Lists!$J62&\"'!\"&\"B\"&C$23))))","v":""},{"$f":"IF(ISNA(Lists!$J62),\"\",IF(INDIRECT(\"'\"&Lists!$J62&\"'!\"&\"B\"&D$23)=\"\",\"\",(INDIRECT(\"'\"&Lists!$J62&\"'!\"&\"B\"&D$23))))","v":""},{"$f":"IF(ISNA(Lists!$J62),\"\",IF(INDIRECT(\"'\"&Lists!$J62&\"'!\"&\"B\"&E$23)=\"\",\"\",(INDIRECT(\"'\"&Lists!$J62&\"'!\"&\"B\"&E$23))))","v":""},{"$f":"IF(ISNA(Lists!$J62),\"\",IF(INDIRECT(\"'\"&Lists!$J62&\"'!\"&\"B\"&F$23)=\"\",\"\",(INDIRECT(\"'\"&Lists!$J62&\"'!\"&\"B\"&F$23))))","v":""},{"$f":"IF(ISNA(Lists!$J62),\"\",IF(INDIRECT(\"'\"&Lists!$J62&\"'!\"&\"B\"&G$23)=\"\",\"\",(INDIRECT(\"'\"&Lists!$J62&\"'!\"&\"B\"&G$23))))","v":""},{"$f":"IF(ISNA(Lists!$J62),\"\",IF((INDIRECT(\"'\"&Lists!$J62&\"'!\"&Lists!$K62&H$23))=\"\",\"\",(INDIRECT(\"'\"&Lists!$J62&\"'!\"&Lists!$K62&H$23))))","v":""},{"$f":"IF(ISNA(Lists!$J62),\"\",IF((INDIRECT(\"'\"&Lists!$J62&\"'!\"&Lists!$K62&I$23))=\"\",\"\",(INDIRECT(\"'\"&Lists!$J62&\"'!\"&Lists!$K62&I$23))))","v":""},{"$f":"IF(ISNA(Lists!$J62),\"\",IF((INDIRECT(\"'\"&Lists!$J62&\"'!\"&Lists!$K62&J$23))=\"\",\"\",(INDIRECT(\"'\"&Lists!$J62&\"'!\"&Lists!$K62&J$23))))","v":""},{"$f":"IF(ISNA(Lists!$J62),\"\",IF((INDIRECT(\"'\"&Lists!$J62&\"'!\"&Lists!$K62&K$23))=\"\",\"\",(INDIRECT(\"'\"&Lists!$J62&\"'!\"&Lists!$K62&K$23))))","v":""},{"$f":"IF(ISNA(Lists!$J62),\"\",IF((INDIRECT(\"'\"&Lists!$J62&\"'!\"&Lists!$K62&L$23))=\"\",\"\",(INDIRECT(\"'\"&Lists!$J62&\"'!\"&Lists!$K62&L$23))))","v":""},{"$f":"IF(ISNA(Lists!$J62),\"\",IF((INDIRECT(\"'\"&Lists!$J62&\"'!\"&Lists!$K62&M$23))=\"\",\"\",(INDIRECT(\"'\"&Lists!$J62&\"'!\"&Lists!$K62&M$23))))","v":""},{"$f":"IF(ISNA(Lists!$J62),\"\",IF((INDIRECT(\"'\"&Lists!$J62&\"'!\"&Lists!$K62&N$23))=\"\",\"\",(INDIRECT(\"'\"&Lists!$J62&\"'!\"&Lists!$K62&N$23))))","v":""},{"$f":"IF(ISNA(Lists!$J62),\"\",IF((INDIRECT(\"'\"&Lists!$J62&\"'!\"&Lists!$K62&O$23))=\"\",\"\",(INDIRECT(\"'\"&Lists!$J62&\"'!\"&Lists!$K62&O$23))))","v":""},{"$f":"IF(ISNA(Lists!$J62),\"\",IF((INDIRECT(\"'\"&Lists!$J62&\"'!\"&Lists!$K62&P$23))=\"\",\"\",(INDIRECT(\"'\"&Lists!$J62&\"'!\"&Lists!$K62&P$23))))","v":""},{"$f":"IF(ISNA(Lists!$J62),\"\",IF((INDIRECT(\"'\"&Lists!$J62&\"'!\"&Lists!$K62&Q$23))=\"\",\"\",(INDIRECT(\"'\"&Lists!$J62&\"'!\"&Lists!$K62&Q$23))))","v":""},{"$f":"IF(ISNA(Lists!$J62),\"\",IF((INDIRECT(\"'\"&Lists!$J62&\"'!\"&Lists!$K62&R$23))=\"\",\"\",(INDIRECT(\"'\"&Lists!$J62&\"'!\"&Lists!$K62&R$23))))","v":""},{"$f":"IF(ISNA(Lists!$J62),\"\",IF((INDIRECT(\"'\"&Lists!$J62&\"'!\"&Lists!$K62&S$23))=\"\",\"\",(INDIRECT(\"'\"&Lists!$J62&\"'!\"&Lists!$K62&S$23))))","v":""},{"$f":"IF(ISNA(Lists!$J62),\"\",IF((INDIRECT(\"'\"&Lists!$J62&\"'!\"&Lists!$K62&T$23))=\"\",\"\",(INDIRECT(\"'\"&Lists!$J62&\"'!\"&Lists!$K62&T$23))))","v":""},{"$f":"IF(ISNA(Lists!$J62),\"\",IF((INDIRECT(\"'\"&Lists!$J62&\"'!\"&Lists!$K62&U$23))=\"\",\"\",(INDIRECT(\"'\"&Lists!$J62&\"'!\"&Lists!$K62&U$23))))","v":""},{"$f":"IF(ISNA(Lists!$J62),\"\",IF((INDIRECT(\"'\"&Lists!$J62&\"'!\"&Lists!$L62&V$23))=\"\",\"\",(INDIRECT(\"'\"&Lists!$J62&\"'!\"&Lists!$L62&V$23))))","v":""},{"$f":"IF(ISNA(Lists!$J62),\"\",IF((INDIRECT(\"'\"&Lists!$J62&\"'!\"&Lists!$L62&W$23))=\"\",\"\",(INDIRECT(\"'\"&Lists!$J62&\"'!\"&Lists!$L62&W$23))))","v":""},{"$f":"IF(ISNA(Lists!$J62),\"\",IF((INDIRECT(\"'\"&Lists!$J62&\"'!\"&Lists!$L62&X$23))=\"\",\"\",(INDIRECT(\"'\"&Lists!$J62&\"'!\"&Lists!$L62&X$23))))","v":""},{"$f":"IF(ISNA(Lists!$J62),\"\",IF((INDIRECT(\"'\"&Lists!$J62&\"'!\"&Lists!$L62&Y$23))=\"\",\"\",(INDIRECT(\"'\"&Lists!$J62&\"'!\"&Lists!$L62&Y$23))))","v":""},{"$f":"IF(ISNA(Lists!$J62),\"\",IF((INDIRECT(\"'\"&Lists!$J62&\"'!\"&Lists!$L62&Z$23))=\"\",\"\",(INDIRECT(\"'\"&Lists!$J62&\"'!\"&Lists!$L62&Z$23))))","v":""},{"$f":"IF(ISNA(Lists!$J62),\"\",IF((INDIRECT(\"'\"&Lists!$J62&\"'!\"&Lists!$L62&AA$23))=\"\",\"\",(INDIRECT(\"'\"&Lists!$J62&\"'!\"&Lists!$L62&AA$23))))","v":""},{"$f":"IF(ISNA(Lists!$J62),\"\",IF((INDIRECT(\"'\"&Lists!$J62&\"'!\"&Lists!$L62&AB$23))=\"\",\"\",(INDIRECT(\"'\"&Lists!$J62&\"'!\"&Lists!$L62&AB$23))))","v":""},{"$f":"IF(ISNA(Lists!$J62),\"\",IF((INDIRECT(\"'\"&Lists!$J62&\"'!\"&Lists!$K62&AC$23))=\"\",\"\",(INDIRECT(\"'\"&Lists!$J62&\"'!\"&Lists!$K62&AC$23))))","v":""},{"$f":"IF(ISNA(Lists!$J62),\"\",IF((INDIRECT(\"'\"&Lists!$J62&\"'!\"&Lists!$L62&AD$23))=\"\",\"\",(INDIRECT(\"'\"&Lists!$J62&\"'!\"&Lists!$L62&AD$23))))","v":""},{"$f":"IF(ISNA(Lists!$J62),\"\",IF((INDIRECT(\"'\"&Lists!$J62&\"'!\"&Lists!$K62&AE$23))=\"\",\"\",(INDIRECT(\"'\"&Lists!$J62&\"'!\"&Lists!$K62&AE$23))))","v":""},{"$f":"IF(ISNA(Lists!$J62),\"\",IF((INDIRECT(\"'\"&Lists!$J62&\"'!\"&Lists!$K62&AF$23))=\"\",\"\",(INDIRECT(\"'\"&Lists!$J62&\"'!\"&Lists!$K62&AF$23))))","v":""},{"$f":"IF(ISNA(Lists!$J62),\"\",IF((INDIRECT(\"'\"&Lists!$J62&\"'!\"&Lists!$K62&AG$23))=\"\",\"\",(INDIRECT(\"'\"&Lists!$J62&\"'!\"&Lists!$K62&AG$23))))","v":""},{"$f":"IF(ISNA(Lists!$J62),\"\",IF((INDIRECT(\"'\"&Lists!$J62&\"'!\"&Lists!$K62&AH$23))=\"\",\"\",(INDIRECT(\"'\"&Lists!$J62&\"'!\"&Lists!$K62&AH$23))))","v":""},{"$f":"IF(ISNA(Lists!$J62),\"\",IF((INDIRECT(\"'\"&Lists!$J62&\"'!\"&Lists!$K62&AI$23))=\"\",\"\",(INDIRECT(\"'\"&Lists!$J62&\"'!\"&Lists!$K62&AI$23))))","v":""},{"$f":"IF(ISNA(Lists!$J62),\"\",IF((INDIRECT(\"'\"&Lists!$J62&\"'!\"&Lists!$K62&AJ$23))=\"\",\"\",(INDIRECT(\"'\"&Lists!$J62&\"'!\"&Lists!$K62&AJ$23))))","v":""},{"$f":"IF(ISNA(Lists!$J62),\"\",IF((INDIRECT(\"'\"&Lists!$J62&\"'!\"&Lists!$K62&AK$23))=\"\",\"\",(INDIRECT(\"'\"&Lists!$J62&\"'!\"&Lists!$K62&AK$23))))","v":""},{"$f":"IF(ISNA(Lists!$J62),\"\",IF((INDIRECT(\"'\"&Lists!$J62&\"'!\"&Lists!$K62&AL$23))=\"\",\"\",(INDIRECT(\"'\"&Lists!$J62&\"'!\"&Lists!$K62&AL$23))))","v":""},{"$f":"IF(ISNA(Lists!$J62),\"\",IF((INDIRECT(\"'\"&Lists!$J62&\"'!\"&Lists!$K62&AM$23))=\"\",\"\",(INDIRECT(\"'\"&Lists!$J62&\"'!\"&Lists!$K62&AM$23))))","v":""},{"$f":"IF(ISNA(Lists!$J62),\"\",IF((INDIRECT(\"'\"&Lists!$J62&\"'!\"&Lists!$K62&AN$23))=\"\",\"\",(INDIRECT(\"'\"&Lists!$J62&\"'!\"&Lists!$K62&AN$23))))","v":""},{"$f":"IF(ISNA(Lists!$J62),\"\",IF((INDIRECT(\"'\"&Lists!$J62&\"'!\"&Lists!$K62&AO$23))=\"\",\"\",(INDIRECT(\"'\"&Lists!$J62&\"'!\"&Lists!$K62&AO$23))))","v":""}]
[null,{"$f":"IF(C85=\"\",\"\",Facility_Info_upload!$B$24)","v":""},{"$f":"IF(ISNA(Lists!$J63),\"\",IF(INDIRECT(\"'\"&Lists!$J63&\"'!\"&\"B\"&C$23)=\"\",\"\",(INDIRECT(\"'\"&Lists!$J63&\"'!\"&\"B\"&C$23))))","v":""},{"$f":"IF(ISNA(Lists!$J63),\"\",IF(INDIRECT(\"'\"&Lists!$J63&\"'!\"&\"B\"&D$23)=\"\",\"\",(INDIRECT(\"'\"&Lists!$J63&\"'!\"&\"B\"&D$23))))","v":""},{"$f":"IF(ISNA(Lists!$J63),\"\",IF(INDIRECT(\"'\"&Lists!$J63&\"'!\"&\"B\"&E$23)=\"\",\"\",(INDIRECT(\"'\"&Lists!$J63&\"'!\"&\"B\"&E$23))))","v":""},{"$f":"IF(ISNA(Lists!$J63),\"\",IF(INDIRECT(\"'\"&Lists!$J63&\"'!\"&\"B\"&F$23)=\"\",\"\",(INDIRECT(\"'\"&Lists!$J63&\"'!\"&\"B\"&F$23))))","v":""},{"$f":"IF(ISNA(Lists!$J63),\"\",IF(INDIRECT(\"'\"&Lists!$J63&\"'!\"&\"B\"&G$23)=\"\",\"\",(INDIRECT(\"'\"&Lists!$J63&\"'!\"&\"B\"&G$23))))","v":""},{"$f":"IF(ISNA(Lists!$J63),\"\",IF((INDIRECT(\"'\"&Lists!$J63&\"'!\"&Lists!$K63&H$23))=\"\",\"\",(INDIRECT(\"'\"&Lists!$J63&\"'!\"&Lists!$K63&H$23))))","v":""},{"$f":"IF(ISNA(Lists!$J63),\"\",IF((INDIRECT(\"'\"&Lists!$J63&\"'!\"&Lists!$K63&I$23))=\"\",\"\",(INDIRECT(\"'\"&Lists!$J63&\"'!\"&Lists!$K63&I$23))))","v":""},{"$f":"IF(ISNA(Lists!$J63),\"\",IF((INDIRECT(\"'\"&Lists!$J63&\"'!\"&Lists!$K63&J$23))=\"\",\"\",(INDIRECT(\"'\"&Lists!$J63&\"'!\"&Lists!$K63&J$23))))","v":""},{"$f":"IF(ISNA(Lists!$J63),\"\",IF((INDIRECT(\"'\"&Lists!$J63&\"'!\"&Lists!$K63&K$23))=\"\",\"\",(INDIRECT(\"'\"&Lists!$J63&\"'!\"&Lists!$K63&K$23))))","v":""},{"$f":"IF(ISNA(Lists!$J63),\"\",IF((INDIRECT(\"'\"&Lists!$J63&\"'!\"&Lists!$K63&L$23))=\"\",\"\",(INDIRECT(\"'\"&Lists!$J63&\"'!\"&Lists!$K63&L$23))))","v":""},{"$f":"IF(ISNA(Lists!$J63),\"\",IF((INDIRECT(\"'\"&Lists!$J63&\"'!\"&Lists!$K63&M$23))=\"\",\"\",(INDIRECT(\"'\"&Lists!$J63&\"'!\"&Lists!$K63&M$23))))","v":""},{"$f":"IF(ISNA(Lists!$J63),\"\",IF((INDIRECT(\"'\"&Lists!$J63&\"'!\"&Lists!$K63&N$23))=\"\",\"\",(INDIRECT(\"'\"&Lists!$J63&\"'!\"&Lists!$K63&N$23))))","v":""},{"$f":"IF(ISNA(Lists!$J63),\"\",IF((INDIRECT(\"'\"&Lists!$J63&\"'!\"&Lists!$K63&O$23))=\"\",\"\",(INDIRECT(\"'\"&Lists!$J63&\"'!\"&Lists!$K63&O$23))))","v":""},{"$f":"IF(ISNA(Lists!$J63),\"\",IF((INDIRECT(\"'\"&Lists!$J63&\"'!\"&Lists!$K63&P$23))=\"\",\"\",(INDIRECT(\"'\"&Lists!$J63&\"'!\"&Lists!$K63&P$23))))","v":""},{"$f":"IF(ISNA(Lists!$J63),\"\",IF((INDIRECT(\"'\"&Lists!$J63&\"'!\"&Lists!$K63&Q$23))=\"\",\"\",(INDIRECT(\"'\"&Lists!$J63&\"'!\"&Lists!$K63&Q$23))))","v":""},{"$f":"IF(ISNA(Lists!$J63),\"\",IF((INDIRECT(\"'\"&Lists!$J63&\"'!\"&Lists!$K63&R$23))=\"\",\"\",(INDIRECT(\"'\"&Lists!$J63&\"'!\"&Lists!$K63&R$23))))","v":""},{"$f":"IF(ISNA(Lists!$J63),\"\",IF((INDIRECT(\"'\"&Lists!$J63&\"'!\"&Lists!$K63&S$23))=\"\",\"\",(INDIRECT(\"'\"&Lists!$J63&\"'!\"&Lists!$K63&S$23))))","v":""},{"$f":"IF(ISNA(Lists!$J63),\"\",IF((INDIRECT(\"'\"&Lists!$J63&\"'!\"&Lists!$K63&T$23))=\"\",\"\",(INDIRECT(\"'\"&Lists!$J63&\"'!\"&Lists!$K63&T$23))))","v":""},{"$f":"IF(ISNA(Lists!$J63),\"\",IF((INDIRECT(\"'\"&Lists!$J63&\"'!\"&Lists!$K63&U$23))=\"\",\"\",(INDIRECT(\"'\"&Lists!$J63&\"'!\"&Lists!$K63&U$23))))","v":""},{"$f":"IF(ISNA(Lists!$J63),\"\",IF((INDIRECT(\"'\"&Lists!$J63&\"'!\"&Lists!$L63&V$23))=\"\",\"\",(INDIRECT(\"'\"&Lists!$J63&\"'!\"&Lists!$L63&V$23))))","v":""},{"$f":"IF(ISNA(Lists!$J63),\"\",IF((INDIRECT(\"'\"&Lists!$J63&\"'!\"&Lists!$L63&W$23))=\"\",\"\",(INDIRECT(\"'\"&Lists!$J63&\"'!\"&Lists!$L63&W$23))))","v":""},{"$f":"IF(ISNA(Lists!$J63),\"\",IF((INDIRECT(\"'\"&Lists!$J63&\"'!\"&Lists!$L63&X$23))=\"\",\"\",(INDIRECT(\"'\"&Lists!$J63&\"'!\"&Lists!$L63&X$23))))","v":""},{"$f":"IF(ISNA(Lists!$J63),\"\",IF((INDIRECT(\"'\"&Lists!$J63&\"'!\"&Lists!$L63&Y$23))=\"\",\"\",(INDIRECT(\"'\"&Lists!$J63&\"'!\"&Lists!$L63&Y$23))))","v":""},{"$f":"IF(ISNA(Lists!$J63),\"\",IF((INDIRECT(\"'\"&Lists!$J63&\"'!\"&Lists!$L63&Z$23))=\"\",\"\",(INDIRECT(\"'\"&Lists!$J63&\"'!\"&Lists!$L63&Z$23))))","v":""},{"$f":"IF(ISNA(Lists!$J63),\"\",IF((INDIRECT(\"'\"&Lists!$J63&\"'!\"&Lists!$L63&AA$23))=\"\",\"\",(INDIRECT(\"'\"&Lists!$J63&\"'!\"&Lists!$L63&AA$23))))","v":""},{"$f":"IF(ISNA(Lists!$J63),\"\",IF((INDIRECT(\"'\"&Lists!$J63&\"'!\"&Lists!$L63&AB$23))=\"\",\"\",(INDIRECT(\"'\"&Lists!$J63&\"'!\"&Lists!$L63&AB$23))))","v":""},{"$f":"IF(ISNA(Lists!$J63),\"\",IF((INDIRECT(\"'\"&Lists!$J63&\"'!\"&Lists!$K63&AC$23))=\"\",\"\",(INDIRECT(\"'\"&Lists!$J63&\"'!\"&Lists!$K63&AC$23))))","v":""},{"$f":"IF(ISNA(Lists!$J63),\"\",IF((INDIRECT(\"'\"&Lists!$J63&\"'!\"&Lists!$L63&AD$23))=\"\",\"\",(INDIRECT(\"'\"&Lists!$J63&\"'!\"&Lists!$L63&AD$23))))","v":""},{"$f":"IF(ISNA(Lists!$J63),\"\",IF((INDIRECT(\"'\"&Lists!$J63&\"'!\"&Lists!$K63&AE$23))=\"\",\"\",(INDIRECT(\"'\"&Lists!$J63&\"'!\"&Lists!$K63&AE$23))))","v":""},{"$f":"IF(ISNA(Lists!$J63),\"\",IF((INDIRECT(\"'\"&Lists!$J63&\"'!\"&Lists!$K63&AF$23))=\"\",\"\",(INDIRECT(\"'\"&Lists!$J63&\"'!\"&Lists!$K63&AF$23))))","v":""},{"$f":"IF(ISNA(Lists!$J63),\"\",IF((INDIRECT(\"'\"&Lists!$J63&\"'!\"&Lists!$K63&AG$23))=\"\",\"\",(INDIRECT(\"'\"&Lists!$J63&\"'!\"&Lists!$K63&AG$23))))","v":""},{"$f":"IF(ISNA(Lists!$J63),\"\",IF((INDIRECT(\"'\"&Lists!$J63&\"'!\"&Lists!$K63&AH$23))=\"\",\"\",(INDIRECT(\"'\"&Lists!$J63&\"'!\"&Lists!$K63&AH$23))))","v":""},{"$f":"IF(ISNA(Lists!$J63),\"\",IF((INDIRECT(\"'\"&Lists!$J63&\"'!\"&Lists!$K63&AI$23))=\"\",\"\",(INDIRECT(\"'\"&Lists!$J63&\"'!\"&Lists!$K63&AI$23))))","v":""},{"$f":"IF(ISNA(Lists!$J63),\"\",IF((INDIRECT(\"'\"&Lists!$J63&\"'!\"&Lists!$K63&AJ$23))=\"\",\"\",(INDIRECT(\"'\"&Lists!$J63&\"'!\"&Lists!$K63&AJ$23))))","v":""},{"$f":"IF(ISNA(Lists!$J63),\"\",IF((INDIRECT(\"'\"&Lists!$J63&\"'!\"&Lists!$K63&AK$23))=\"\",\"\",(INDIRECT(\"'\"&Lists!$J63&\"'!\"&Lists!$K63&AK$23))))","v":""},{"$f":"IF(ISNA(Lists!$J63),\"\",IF((INDIRECT(\"'\"&Lists!$J63&\"'!\"&Lists!$K63&AL$23))=\"\",\"\",(INDIRECT(\"'\"&Lists!$J63&\"'!\"&Lists!$K63&AL$23))))","v":""},{"$f":"IF(ISNA(Lists!$J63),\"\",IF((INDIRECT(\"'\"&Lists!$J63&\"'!\"&Lists!$K63&AM$23))=\"\",\"\",(INDIRECT(\"'\"&Lists!$J63&\"'!\"&Lists!$K63&AM$23))))","v":""},{"$f":"IF(ISNA(Lists!$J63),\"\",IF((INDIRECT(\"'\"&Lists!$J63&\"'!\"&Lists!$K63&AN$23))=\"\",\"\",(INDIRECT(\"'\"&Lists!$J63&\"'!\"&Lists!$K63&AN$23))))","v":""},{"$f":"IF(ISNA(Lists!$J63),\"\",IF((INDIRECT(\"'\"&Lists!$J63&\"'!\"&Lists!$K63&AO$23))=\"\",\"\",(INDIRECT(\"'\"&Lists!$J63&\"'!\"&Lists!$K63&AO$23))))","v":""}]
[null,{"$f":"IF(C86=\"\",\"\",Facility_Info_upload!$B$24)","v":""},{"$f":"IF(ISNA(Lists!$J64),\"\",IF(INDIRECT(\"'\"&Lists!$J64&\"'!\"&\"B\"&C$23)=\"\",\"\",(INDIRECT(\"'\"&Lists!$J64&\"'!\"&\"B\"&C$23))))","v":""},{"$f":"IF(ISNA(Lists!$J64),\"\",IF(INDIRECT(\"'\"&Lists!$J64&\"'!\"&\"B\"&D$23)=\"\",\"\",(INDIRECT(\"'\"&Lists!$J64&\"'!\"&\"B\"&D$23))))","v":""},{"$f":"IF(ISNA(Lists!$J64),\"\",IF(INDIRECT(\"'\"&Lists!$J64&\"'!\"&\"B\"&E$23)=\"\",\"\",(INDIRECT(\"'\"&Lists!$J64&\"'!\"&\"B\"&E$23))))","v":""},{"$f":"IF(ISNA(Lists!$J64),\"\",IF(INDIRECT(\"'\"&Lists!$J64&\"'!\"&\"B\"&F$23)=\"\",\"\",(INDIRECT(\"'\"&Lists!$J64&\"'!\"&\"B\"&F$23))))","v":""},{"$f":"IF(ISNA(Lists!$J64),\"\",IF(INDIRECT(\"'\"&Lists!$J64&\"'!\"&\"B\"&G$23)=\"\",\"\",(INDIRECT(\"'\"&Lists!$J64&\"'!\"&\"B\"&G$23))))","v":""},{"$f":"IF(ISNA(Lists!$J64),\"\",IF((INDIRECT(\"'\"&Lists!$J64&\"'!\"&Lists!$K64&H$23))=\"\",\"\",(INDIRECT(\"'\"&Lists!$J64&\"'!\"&Lists!$K64&H$23))))","v":""},{"$f":"IF(ISNA(Lists!$J64),\"\",IF((INDIRECT(\"'\"&Lists!$J64&\"'!\"&Lists!$K64&I$23))=\"\",\"\",(INDIRECT(\"'\"&Lists!$J64&\"'!\"&Lists!$K64&I$23))))","v":""},{"$f":"IF(ISNA(Lists!$J64),\"\",IF((INDIRECT(\"'\"&Lists!$J64&\"'!\"&Lists!$K64&J$23))=\"\",\"\",(INDIRECT(\"'\"&Lists!$J64&\"'!\"&Lists!$K64&J$23))))","v":""},{"$f":"IF(ISNA(Lists!$J64),\"\",IF((INDIRECT(\"'\"&Lists!$J64&\"'!\"&Lists!$K64&K$23))=\"\",\"\",(INDIRECT(\"'\"&Lists!$J64&\"'!\"&Lists!$K64&K$23))))","v":""},{"$f":"IF(ISNA(Lists!$J64),\"\",IF((INDIRECT(\"'\"&Lists!$J64&\"'!\"&Lists!$K64&L$23))=\"\",\"\",(INDIRECT(\"'\"&Lists!$J64&\"'!\"&Lists!$K64&L$23))))","v":""},{"$f":"IF(ISNA(Lists!$J64),\"\",IF((INDIRECT(\"'\"&Lists!$J64&\"'!\"&Lists!$K64&M$23))=\"\",\"\",(INDIRECT(\"'\"&Lists!$J64&\"'!\"&Lists!$K64&M$23))))","v":""},{"$f":"IF(ISNA(Lists!$J64),\"\",IF((INDIRECT(\"'\"&Lists!$J64&\"'!\"&Lists!$K64&N$23))=\"\",\"\",(INDIRECT(\"'\"&Lists!$J64&\"'!\"&Lists!$K64&N$23))))","v":""},{"$f":"IF(ISNA(Lists!$J64),\"\",IF((INDIRECT(\"'\"&Lists!$J64&\"'!\"&Lists!$K64&O$23))=\"\",\"\",(INDIRECT(\"'\"&Lists!$J64&\"'!\"&Lists!$K64&O$23))))","v":""},{"$f":"IF(ISNA(Lists!$J64),\"\",IF((INDIRECT(\"'\"&Lists!$J64&\"'!\"&Lists!$K64&P$23))=\"\",\"\",(INDIRECT(\"'\"&Lists!$J64&\"'!\"&Lists!$K64&P$23))))","v":""},{"$f":"IF(ISNA(Lists!$J64),\"\",IF((INDIRECT(\"'\"&Lists!$J64&\"'!\"&Lists!$K64&Q$23))=\"\",\"\",(INDIRECT(\"'\"&Lists!$J64&\"'!\"&Lists!$K64&Q$23))))","v":""},{"$f":"IF(ISNA(Lists!$J64),\"\",IF((INDIRECT(\"'\"&Lists!$J64&\"'!\"&Lists!$K64&R$23))=\"\",\"\",(INDIRECT(\"'\"&Lists!$J64&\"'!\"&Lists!$K64&R$23))))","v":""},{"$f":"IF(ISNA(Lists!$J64),\"\",IF((INDIRECT(\"'\"&Lists!$J64&\"'!\"&Lists!$K64&S$23))=\"\",\"\",(INDIRECT(\"'\"&Lists!$J64&\"'!\"&Lists!$K64&S$23))))","v":""},{"$f":"IF(ISNA(Lists!$J64),\"\",IF((INDIRECT(\"'\"&Lists!$J64&\"'!\"&Lists!$K64&T$23))=\"\",\"\",(INDIRECT(\"'\"&Lists!$J64&\"'!\"&Lists!$K64&T$23))))","v":""},{"$f":"IF(ISNA(Lists!$J64),\"\",IF((INDIRECT(\"'\"&Lists!$J64&\"'!\"&Lists!$K64&U$23))=\"\",\"\",(INDIRECT(\"'\"&Lists!$J64&\"'!\"&Lists!$K64&U$23))))","v":""},{"$f":"IF(ISNA(Lists!$J64),\"\",IF((INDIRECT(\"'\"&Lists!$J64&\"'!\"&Lists!$L64&V$23))=\"\",\"\",(INDIRECT(\"'\"&Lists!$J64&\"'!\"&Lists!$L64&V$23))))","v":""},{"$f":"IF(ISNA(Lists!$J64),\"\",IF((INDIRECT(\"'\"&Lists!$J64&\"'!\"&Lists!$L64&W$23))=\"\",\"\",(INDIRECT(\"'\"&Lists!$J64&\"'!\"&Lists!$L64&W$23))))","v":""},{"$f":"IF(ISNA(Lists!$J64),\"\",IF((INDIRECT(\"'\"&Lists!$J64&\"'!\"&Lists!$L64&X$23))=\"\",\"\",(INDIRECT(\"'\"&Lists!$J64&\"'!\"&Lists!$L64&X$23))))","v":""},{"$f":"IF(ISNA(Lists!$J64),\"\",IF((INDIRECT(\"'\"&Lists!$J64&\"'!\"&Lists!$L64&Y$23))=\"\",\"\",(INDIRECT(\"'\"&Lists!$J64&\"'!\"&Lists!$L64&Y$23))))","v":""},{"$f":"IF(ISNA(Lists!$J64),\"\",IF((INDIRECT(\"'\"&Lists!$J64&\"'!\"&Lists!$L64&Z$23))=\"\",\"\",(INDIRECT(\"'\"&Lists!$J64&\"'!\"&Lists!$L64&Z$23))))","v":""},{"$f":"IF(ISNA(Lists!$J64),\"\",IF((INDIRECT(\"'\"&Lists!$J64&\"'!\"&Lists!$L64&AA$23))=\"\",\"\",(INDIRECT(\"'\"&Lists!$J64&\"'!\"&Lists!$L64&AA$23))))","v":""},{"$f":"IF(ISNA(Lists!$J64),\"\",IF((INDIRECT(\"'\"&Lists!$J64&\"'!\"&Lists!$L64&AB$23))=\"\",\"\",(INDIRECT(\"'\"&Lists!$J64&\"'!\"&Lists!$L64&AB$23))))","v":""},{"$f":"IF(ISNA(Lists!$J64),\"\",IF((INDIRECT(\"'\"&Lists!$J64&\"'!\"&Lists!$K64&AC$23))=\"\",\"\",(INDIRECT(\"'\"&Lists!$J64&\"'!\"&Lists!$K64&AC$23))))","v":""},{"$f":"IF(ISNA(Lists!$J64),\"\",IF((INDIRECT(\"'\"&Lists!$J64&\"'!\"&Lists!$L64&AD$23))=\"\",\"\",(INDIRECT(\"'\"&Lists!$J64&\"'!\"&Lists!$L64&AD$23))))","v":""},{"$f":"IF(ISNA(Lists!$J64),\"\",IF((INDIRECT(\"'\"&Lists!$J64&\"'!\"&Lists!$K64&AE$23))=\"\",\"\",(INDIRECT(\"'\"&Lists!$J64&\"'!\"&Lists!$K64&AE$23))))","v":""},{"$f":"IF(ISNA(Lists!$J64),\"\",IF((INDIRECT(\"'\"&Lists!$J64&\"'!\"&Lists!$K64&AF$23))=\"\",\"\",(INDIRECT(\"'\"&Lists!$J64&\"'!\"&Lists!$K64&AF$23))))","v":""},{"$f":"IF(ISNA(Lists!$J64),\"\",IF((INDIRECT(\"'\"&Lists!$J64&\"'!\"&Lists!$K64&AG$23))=\"\",\"\",(INDIRECT(\"'\"&Lists!$J64&\"'!\"&Lists!$K64&AG$23))))","v":""},{"$f":"IF(ISNA(Lists!$J64),\"\",IF((INDIRECT(\"'\"&Lists!$J64&\"'!\"&Lists!$K64&AH$23))=\"\",\"\",(INDIRECT(\"'\"&Lists!$J64&\"'!\"&Lists!$K64&AH$23))))","v":""},{"$f":"IF(ISNA(Lists!$J64),\"\",IF((INDIRECT(\"'\"&Lists!$J64&\"'!\"&Lists!$K64&AI$23))=\"\",\"\",(INDIRECT(\"'\"&Lists!$J64&\"'!\"&Lists!$K64&AI$23))))","v":""},{"$f":"IF(ISNA(Lists!$J64),\"\",IF((INDIRECT(\"'\"&Lists!$J64&\"'!\"&Lists!$K64&AJ$23))=\"\",\"\",(INDIRECT(\"'\"&Lists!$J64&\"'!\"&Lists!$K64&AJ$23))))","v":""},{"$f":"IF(ISNA(Lists!$J64),\"\",IF((INDIRECT(\"'\"&Lists!$J64&\"'!\"&Lists!$K64&AK$23))=\"\",\"\",(INDIRECT(\"'\"&Lists!$J64&\"'!\"&Lists!$K64&AK$23))))","v":""},{"$f":"IF(ISNA(Lists!$J64),\"\",IF((INDIRECT(\"'\"&Lists!$J64&\"'!\"&Lists!$K64&AL$23))=\"\",\"\",(INDIRECT(\"'\"&Lists!$J64&\"'!\"&Lists!$K64&AL$23))))","v":""},{"$f":"IF(ISNA(Lists!$J64),\"\",IF((INDIRECT(\"'\"&Lists!$J64&\"'!\"&Lists!$K64&AM$23))=\"\",\"\",(INDIRECT(\"'\"&Lists!$J64&\"'!\"&Lists!$K64&AM$23))))","v":""},{"$f":"IF(ISNA(Lists!$J64),\"\",IF((INDIRECT(\"'\"&Lists!$J64&\"'!\"&Lists!$K64&AN$23))=\"\",\"\",(INDIRECT(\"'\"&Lists!$J64&\"'!\"&Lists!$K64&AN$23))))","v":""},{"$f":"IF(ISNA(Lists!$J64),\"\",IF((INDIRECT(\"'\"&Lists!$J64&\"'!\"&Lists!$K64&AO$23))=\"\",\"\",(INDIRECT(\"'\"&Lists!$J64&\"'!\"&Lists!$K64&AO$23))))","v":""}]
[null,{"$f":"IF(C87=\"\",\"\",Facility_Info_upload!$B$24)","v":""},{"$f":"IF(ISNA(Lists!$J65),\"\",IF(INDIRECT(\"'\"&Lists!$J65&\"'!\"&\"B\"&C$23)=\"\",\"\",(INDIRECT(\"'\"&Lists!$J65&\"'!\"&\"B\"&C$23))))","v":""},{"$f":"IF(ISNA(Lists!$J65),\"\",IF(INDIRECT(\"'\"&Lists!$J65&\"'!\"&\"B\"&D$23)=\"\",\"\",(INDIRECT(\"'\"&Lists!$J65&\"'!\"&\"B\"&D$23))))","v":""},{"$f":"IF(ISNA(Lists!$J65),\"\",IF(INDIRECT(\"'\"&Lists!$J65&\"'!\"&\"B\"&E$23)=\"\",\"\",(INDIRECT(\"'\"&Lists!$J65&\"'!\"&\"B\"&E$23))))","v":""},{"$f":"IF(ISNA(Lists!$J65),\"\",IF(INDIRECT(\"'\"&Lists!$J65&\"'!\"&\"B\"&F$23)=\"\",\"\",(INDIRECT(\"'\"&Lists!$J65&\"'!\"&\"B\"&F$23))))","v":""},{"$f":"IF(ISNA(Lists!$J65),\"\",IF(INDIRECT(\"'\"&Lists!$J65&\"'!\"&\"B\"&G$23)=\"\",\"\",(INDIRECT(\"'\"&Lists!$J65&\"'!\"&\"B\"&G$23))))","v":""},{"$f":"IF(ISNA(Lists!$J65),\"\",IF((INDIRECT(\"'\"&Lists!$J65&\"'!\"&Lists!$K65&H$23))=\"\",\"\",(INDIRECT(\"'\"&Lists!$J65&\"'!\"&Lists!$K65&H$23))))","v":""},{"$f":"IF(ISNA(Lists!$J65),\"\",IF((INDIRECT(\"'\"&Lists!$J65&\"'!\"&Lists!$K65&I$23))=\"\",\"\",(INDIRECT(\"'\"&Lists!$J65&\"'!\"&Lists!$K65&I$23))))","v":""},{"$f":"IF(ISNA(Lists!$J65),\"\",IF((INDIRECT(\"'\"&Lists!$J65&\"'!\"&Lists!$K65&J$23))=\"\",\"\",(INDIRECT(\"'\"&Lists!$J65&\"'!\"&Lists!$K65&J$23))))","v":""},{"$f":"IF(ISNA(Lists!$J65),\"\",IF((INDIRECT(\"'\"&Lists!$J65&\"'!\"&Lists!$K65&K$23))=\"\",\"\",(INDIRECT(\"'\"&Lists!$J65&\"'!\"&Lists!$K65&K$23))))","v":""},{"$f":"IF(ISNA(Lists!$J65),\"\",IF((INDIRECT(\"'\"&Lists!$J65&\"'!\"&Lists!$K65&L$23))=\"\",\"\",(INDIRECT(\"'\"&Lists!$J65&\"'!\"&Lists!$K65&L$23))))","v":""},{"$f":"IF(ISNA(Lists!$J65),\"\",IF((INDIRECT(\"'\"&Lists!$J65&\"'!\"&Lists!$K65&M$23))=\"\",\"\",(INDIRECT(\"'\"&Lists!$J65&\"'!\"&Lists!$K65&M$23))))","v":""},{"$f":"IF(ISNA(Lists!$J65),\"\",IF((INDIRECT(\"'\"&Lists!$J65&\"'!\"&Lists!$K65&N$23))=\"\",\"\",(INDIRECT(\"'\"&Lists!$J65&\"'!\"&Lists!$K65&N$23))))","v":""},{"$f":"IF(ISNA(Lists!$J65),\"\",IF((INDIRECT(\"'\"&Lists!$J65&\"'!\"&Lists!$K65&O$23))=\"\",\"\",(INDIRECT(\"'\"&Lists!$J65&\"'!\"&Lists!$K65&O$23))))","v":""},{"$f":"IF(ISNA(Lists!$J65),\"\",IF((INDIRECT(\"'\"&Lists!$J65&\"'!\"&Lists!$K65&P$23))=\"\",\"\",(INDIRECT(\"'\"&Lists!$J65&\"'!\"&Lists!$K65&P$23))))","v":""},{"$f":"IF(ISNA(Lists!$J65),\"\",IF((INDIRECT(\"'\"&Lists!$J65&\"'!\"&Lists!$K65&Q$23))=\"\",\"\",(INDIRECT(\"'\"&Lists!$J65&\"'!\"&Lists!$K65&Q$23))))","v":""},{"$f":"IF(ISNA(Lists!$J65),\"\",IF((INDIRECT(\"'\"&Lists!$J65&\"'!\"&Lists!$K65&R$23))=\"\",\"\",(INDIRECT(\"'\"&Lists!$J65&\"'!\"&Lists!$K65&R$23))))","v":""},{"$f":"IF(ISNA(Lists!$J65),\"\",IF((INDIRECT(\"'\"&Lists!$J65&\"'!\"&Lists!$K65&S$23))=\"\",\"\",(INDIRECT(\"'\"&Lists!$J65&\"'!\"&Lists!$K65&S$23))))","v":""},{"$f":"IF(ISNA(Lists!$J65),\"\",IF((INDIRECT(\"'\"&Lists!$J65&\"'!\"&Lists!$K65&T$23))=\"\",\"\",(INDIRECT(\"'\"&Lists!$J65&\"'!\"&Lists!$K65&T$23))))","v":""},{"$f":"IF(ISNA(Lists!$J65),\"\",IF((INDIRECT(\"'\"&Lists!$J65&\"'!\"&Lists!$K65&U$23))=\"\",\"\",(INDIRECT(\"'\"&Lists!$J65&\"'!\"&Lists!$K65&U$23))))","v":""},{"$f":"IF(ISNA(Lists!$J65),\"\",IF((INDIRECT(\"'\"&Lists!$J65&\"'!\"&Lists!$L65&V$23))=\"\",\"\",(INDIRECT(\"'\"&Lists!$J65&\"'!\"&Lists!$L65&V$23))))","v":""},{"$f":"IF(ISNA(Lists!$J65),\"\",IF((INDIRECT(\"'\"&Lists!$J65&\"'!\"&Lists!$L65&W$23))=\"\",\"\",(INDIRECT(\"'\"&Lists!$J65&\"'!\"&Lists!$L65&W$23))))","v":""},{"$f":"IF(ISNA(Lists!$J65),\"\",IF((INDIRECT(\"'\"&Lists!$J65&\"'!\"&Lists!$L65&X$23))=\"\",\"\",(INDIRECT(\"'\"&Lists!$J65&\"'!\"&Lists!$L65&X$23))))","v":""},{"$f":"IF(ISNA(Lists!$J65),\"\",IF((INDIRECT(\"'\"&Lists!$J65&\"'!\"&Lists!$L65&Y$23))=\"\",\"\",(INDIRECT(\"'\"&Lists!$J65&\"'!\"&Lists!$L65&Y$23))))","v":""},{"$f":"IF(ISNA(Lists!$J65),\"\",IF((INDIRECT(\"'\"&Lists!$J65&\"'!\"&Lists!$L65&Z$23))=\"\",\"\",(INDIRECT(\"'\"&Lists!$J65&\"'!\"&Lists!$L65&Z$23))))","v":""},{"$f":"IF(ISNA(Lists!$J65),\"\",IF((INDIRECT(\"'\"&Lists!$J65&\"'!\"&Lists!$L65&AA$23))=\"\",\"\",(INDIRECT(\"'\"&Lists!$J65&\"'!\"&Lists!$L65&AA$23))))","v":""},{"$f":"IF(ISNA(Lists!$J65),\"\",IF((INDIRECT(\"'\"&Lists!$J65&\"'!\"&Lists!$L65&AB$23))=\"\",\"\",(INDIRECT(\"'\"&Lists!$J65&\"'!\"&Lists!$L65&AB$23))))","v":""},{"$f":"IF(ISNA(Lists!$J65),\"\",IF((INDIRECT(\"'\"&Lists!$J65&\"'!\"&Lists!$K65&AC$23))=\"\",\"\",(INDIRECT(\"'\"&Lists!$J65&\"'!\"&Lists!$K65&AC$23))))","v":""},{"$f":"IF(ISNA(Lists!$J65),\"\",IF((INDIRECT(\"'\"&Lists!$J65&\"'!\"&Lists!$L65&AD$23))=\"\",\"\",(INDIRECT(\"'\"&Lists!$J65&\"'!\"&Lists!$L65&AD$23))))","v":""},{"$f":"IF(ISNA(Lists!$J65),\"\",IF((INDIRECT(\"'\"&Lists!$J65&\"'!\"&Lists!$K65&AE$23))=\"\",\"\",(INDIRECT(\"'\"&Lists!$J65&\"'!\"&Lists!$K65&AE$23))))","v":""},{"$f":"IF(ISNA(Lists!$J65),\"\",IF((INDIRECT(\"'\"&Lists!$J65&\"'!\"&Lists!$K65&AF$23))=\"\",\"\",(INDIRECT(\"'\"&Lists!$J65&\"'!\"&Lists!$K65&AF$23))))","v":""},{"$f":"IF(ISNA(Lists!$J65),\"\",IF((INDIRECT(\"'\"&Lists!$J65&\"'!\"&Lists!$K65&AG$23))=\"\",\"\",(INDIRECT(\"'\"&Lists!$J65&\"'!\"&Lists!$K65&AG$23))))","v":""},{"$f":"IF(ISNA(Lists!$J65),\"\",IF((INDIRECT(\"'\"&Lists!$J65&\"'!\"&Lists!$K65&AH$23))=\"\",\"\",(INDIRECT(\"'\"&Lists!$J65&\"'!\"&Lists!$K65&AH$23))))","v":""},{"$f":"IF(ISNA(Lists!$J65),\"\",IF((INDIRECT(\"'\"&Lists!$J65&\"'!\"&Lists!$K65&AI$23))=\"\",\"\",(INDIRECT(\"'\"&Lists!$J65&\"'!\"&Lists!$K65&AI$23))))","v":""},{"$f":"IF(ISNA(Lists!$J65),\"\",IF((INDIRECT(\"'\"&Lists!$J65&\"'!\"&Lists!$K65&AJ$23))=\"\",\"\",(INDIRECT(\"'\"&Lists!$J65&\"'!\"&Lists!$K65&AJ$23))))","v":""},{"$f":"IF(ISNA(Lists!$J65),\"\",IF((INDIRECT(\"'\"&Lists!$J65&\"'!\"&Lists!$K65&AK$23))=\"\",\"\",(INDIRECT(\"'\"&Lists!$J65&\"'!\"&Lists!$K65&AK$23))))","v":""},{"$f":"IF(ISNA(Lists!$J65),\"\",IF((INDIRECT(\"'\"&Lists!$J65&\"'!\"&Lists!$K65&AL$23))=\"\",\"\",(INDIRECT(\"'\"&Lists!$J65&\"'!\"&Lists!$K65&AL$23))))","v":""},{"$f":"IF(ISNA(Lists!$J65),\"\",IF((INDIRECT(\"'\"&Lists!$J65&\"'!\"&Lists!$K65&AM$23))=\"\",\"\",(INDIRECT(\"'\"&Lists!$J65&\"'!\"&Lists!$K65&AM$23))))","v":""},{"$f":"IF(ISNA(Lists!$J65),\"\",IF((INDIRECT(\"'\"&Lists!$J65&\"'!\"&Lists!$K65&AN$23))=\"\",\"\",(INDIRECT(\"'\"&Lists!$J65&\"'!\"&Lists!$K65&AN$23))))","v":""},{"$f":"IF(ISNA(Lists!$J65),\"\",IF((INDIRECT(\"'\"&Lists!$J65&\"'!\"&Lists!$K65&AO$23))=\"\",\"\",(INDIRECT(\"'\"&Lists!$J65&\"'!\"&Lists!$K65&AO$23))))","v":""}]
[null,{"$f":"IF(C88=\"\",\"\",Facility_Info_upload!$B$24)","v":""},{"$f":"IF(ISNA(Lists!$J66),\"\",IF(INDIRECT(\"'\"&Lists!$J66&\"'!\"&\"B\"&C$23)=\"\",\"\",(INDIRECT(\"'\"&Lists!$J66&\"'!\"&\"B\"&C$23))))","v":""},{"$f":"IF(ISNA(Lists!$J66),\"\",IF(INDIRECT(\"'\"&Lists!$J66&\"'!\"&\"B\"&D$23)=\"\",\"\",(INDIRECT(\"'\"&Lists!$J66&\"'!\"&\"B\"&D$23))))","v":""},{"$f":"IF(ISNA(Lists!$J66),\"\",IF(INDIRECT(\"'\"&Lists!$J66&\"'!\"&\"B\"&E$23)=\"\",\"\",(INDIRECT(\"'\"&Lists!$J66&\"'!\"&\"B\"&E$23))))","v":""},{"$f":"IF(ISNA(Lists!$J66),\"\",IF(INDIRECT(\"'\"&Lists!$J66&\"'!\"&\"B\"&F$23)=\"\",\"\",(INDIRECT(\"'\"&Lists!$J66&\"'!\"&\"B\"&F$23))))","v":""},{"$f":"IF(ISNA(Lists!$J66),\"\",IF(INDIRECT(\"'\"&Lists!$J66&\"'!\"&\"B\"&G$23)=\"\",\"\",(INDIRECT(\"'\"&Lists!$J66&\"'!\"&\"B\"&G$23))))","v":""},{"$f":"IF(ISNA(Lists!$J66),\"\",IF((INDIRECT(\"'\"&Lists!$J66&\"'!\"&Lists!$K66&H$23))=\"\",\"\",(INDIRECT(\"'\"&Lists!$J66&\"'!\"&Lists!$K66&H$23))))","v":""},{"$f":"IF(ISNA(Lists!$J66),\"\",IF((INDIRECT(\"'\"&Lists!$J66&\"'!\"&Lists!$K66&I$23))=\"\",\"\",(INDIRECT(\"'\"&Lists!$J66&\"'!\"&Lists!$K66&I$23))))","v":""},{"$f":"IF(ISNA(Lists!$J66),\"\",IF((INDIRECT(\"'\"&Lists!$J66&\"'!\"&Lists!$K66&J$23))=\"\",\"\",(INDIRECT(\"'\"&Lists!$J66&\"'!\"&Lists!$K66&J$23))))","v":""},{"$f":"IF(ISNA(Lists!$J66),\"\",IF((INDIRECT(\"'\"&Lists!$J66&\"'!\"&Lists!$K66&K$23))=\"\",\"\",(INDIRECT(\"'\"&Lists!$J66&\"'!\"&Lists!$K66&K$23))))","v":""},{"$f":"IF(ISNA(Lists!$J66),\"\",IF((INDIRECT(\"'\"&Lists!$J66&\"'!\"&Lists!$K66&L$23))=\"\",\"\",(INDIRECT(\"'\"&Lists!$J66&\"'!\"&Lists!$K66&L$23))))","v":""},{"$f":"IF(ISNA(Lists!$J66),\"\",IF((INDIRECT(\"'\"&Lists!$J66&\"'!\"&Lists!$K66&M$23))=\"\",\"\",(INDIRECT(\"'\"&Lists!$J66&\"'!\"&Lists!$K66&M$23))))","v":""},{"$f":"IF(ISNA(Lists!$J66),\"\",IF((INDIRECT(\"'\"&Lists!$J66&\"'!\"&Lists!$K66&N$23))=\"\",\"\",(INDIRECT(\"'\"&Lists!$J66&\"'!\"&Lists!$K66&N$23))))","v":""},{"$f":"IF(ISNA(Lists!$J66),\"\",IF((INDIRECT(\"'\"&Lists!$J66&\"'!\"&Lists!$K66&O$23))=\"\",\"\",(INDIRECT(\"'\"&Lists!$J66&\"'!\"&Lists!$K66&O$23))))","v":""},{"$f":"IF(ISNA(Lists!$J66),\"\",IF((INDIRECT(\"'\"&Lists!$J66&\"'!\"&Lists!$K66&P$23))=\"\",\"\",(INDIRECT(\"'\"&Lists!$J66&\"'!\"&Lists!$K66&P$23))))","v":""},{"$f":"IF(ISNA(Lists!$J66),\"\",IF((INDIRECT(\"'\"&Lists!$J66&\"'!\"&Lists!$K66&Q$23))=\"\",\"\",(INDIRECT(\"'\"&Lists!$J66&\"'!\"&Lists!$K66&Q$23))))","v":""},{"$f":"IF(ISNA(Lists!$J66),\"\",IF((INDIRECT(\"'\"&Lists!$J66&\"'!\"&Lists!$K66&R$23))=\"\",\"\",(INDIRECT(\"'\"&Lists!$J66&\"'!\"&Lists!$K66&R$23))))","v":""},{"$f":"IF(ISNA(Lists!$J66),\"\",IF((INDIRECT(\"'\"&Lists!$J66&\"'!\"&Lists!$K66&S$23))=\"\",\"\",(INDIRECT(\"'\"&Lists!$J66&\"'!\"&Lists!$K66&S$23))))","v":""},{"$f":"IF(ISNA(Lists!$J66),\"\",IF((INDIRECT(\"'\"&Lists!$J66&\"'!\"&Lists!$K66&T$23))=\"\",\"\",(INDIRECT(\"'\"&Lists!$J66&\"'!\"&Lists!$K66&T$23))))","v":""},{"$f":"IF(ISNA(Lists!$J66),\"\",IF((INDIRECT(\"'\"&Lists!$J66&\"'!\"&Lists!$K66&U$23))=\"\",\"\",(INDIRECT(\"'\"&Lists!$J66&\"'!\"&Lists!$K66&U$23))))","v":""},{"$f":"IF(ISNA(Lists!$J66),\"\",IF((INDIRECT(\"'\"&Lists!$J66&\"'!\"&Lists!$L66&V$23))=\"\",\"\",(INDIRECT(\"'\"&Lists!$J66&\"'!\"&Lists!$L66&V$23))))","v":""},{"$f":"IF(ISNA(Lists!$J66),\"\",IF((INDIRECT(\"'\"&Lists!$J66&\"'!\"&Lists!$L66&W$23))=\"\",\"\",(INDIRECT(\"'\"&Lists!$J66&\"'!\"&Lists!$L66&W$23))))","v":""},{"$f":"IF(ISNA(Lists!$J66),\"\",IF((INDIRECT(\"'\"&Lists!$J66&\"'!\"&Lists!$L66&X$23))=\"\",\"\",(INDIRECT(\"'\"&Lists!$J66&\"'!\"&Lists!$L66&X$23))))","v":""},{"$f":"IF(ISNA(Lists!$J66),\"\",IF((INDIRECT(\"'\"&Lists!$J66&\"'!\"&Lists!$L66&Y$23))=\"\",\"\",(INDIRECT(\"'\"&Lists!$J66&\"'!\"&Lists!$L66&Y$23))))","v":""},{"$f":"IF(ISNA(Lists!$J66),\"\",IF((INDIRECT(\"'\"&Lists!$J66&\"'!\"&Lists!$L66&Z$23))=\"\",\"\",(INDIRECT(\"'\"&Lists!$J66&\"'!\"&Lists!$L66&Z$23))))","v":""},{"$f":"IF(ISNA(Lists!$J66),\"\",IF((INDIRECT(\"'\"&Lists!$J66&\"'!\"&Lists!$L66&AA$23))=\"\",\"\",(INDIRECT(\"'\"&Lists!$J66&\"'!\"&Lists!$L66&AA$23))))","v":""},{"$f":"IF(ISNA(Lists!$J66),\"\",IF((INDIRECT(\"'\"&Lists!$J66&\"'!\"&Lists!$L66&AB$23))=\"\",\"\",(INDIRECT(\"'\"&Lists!$J66&\"'!\"&Lists!$L66&AB$23))))","v":""},{"$f":"IF(ISNA(Lists!$J66),\"\",IF((INDIRECT(\"'\"&Lists!$J66&\"'!\"&Lists!$K66&AC$23))=\"\",\"\",(INDIRECT(\"'\"&Lists!$J66&\"'!\"&Lists!$K66&AC$23))))","v":""},{"$f":"IF(ISNA(Lists!$J66),\"\",IF((INDIRECT(\"'\"&Lists!$J66&\"'!\"&Lists!$L66&AD$23))=\"\",\"\",(INDIRECT(\"'\"&Lists!$J66&\"'!\"&Lists!$L66&AD$23))))","v":""},{"$f":"IF(ISNA(Lists!$J66),\"\",IF((INDIRECT(\"'\"&Lists!$J66&\"'!\"&Lists!$K66&AE$23))=\"\",\"\",(INDIRECT(\"'\"&Lists!$J66&\"'!\"&Lists!$K66&AE$23))))","v":""},{"$f":"IF(ISNA(Lists!$J66),\"\",IF((INDIRECT(\"'\"&Lists!$J66&\"'!\"&Lists!$K66&AF$23))=\"\",\"\",(INDIRECT(\"'\"&Lists!$J66&\"'!\"&Lists!$K66&AF$23))))","v":""},{"$f":"IF(ISNA(Lists!$J66),\"\",IF((INDIRECT(\"'\"&Lists!$J66&\"'!\"&Lists!$K66&AG$23))=\"\",\"\",(INDIRECT(\"'\"&Lists!$J66&\"'!\"&Lists!$K66&AG$23))))","v":""},{"$f":"IF(ISNA(Lists!$J66),\"\",IF((INDIRECT(\"'\"&Lists!$J66&\"'!\"&Lists!$K66&AH$23))=\"\",\"\",(INDIRECT(\"'\"&Lists!$J66&\"'!\"&Lists!$K66&AH$23))))","v":""},{"$f":"IF(ISNA(Lists!$J66),\"\",IF((INDIRECT(\"'\"&Lists!$J66&\"'!\"&Lists!$K66&AI$23))=\"\",\"\",(INDIRECT(\"'\"&Lists!$J66&\"'!\"&Lists!$K66&AI$23))))","v":""},{"$f":"IF(ISNA(Lists!$J66),\"\",IF((INDIRECT(\"'\"&Lists!$J66&\"'!\"&Lists!$K66&AJ$23))=\"\",\"\",(INDIRECT(\"'\"&Lists!$J66&\"'!\"&Lists!$K66&AJ$23))))","v":""},{"$f":"IF(ISNA(Lists!$J66),\"\",IF((INDIRECT(\"'\"&Lists!$J66&\"'!\"&Lists!$K66&AK$23))=\"\",\"\",(INDIRECT(\"'\"&Lists!$J66&\"'!\"&Lists!$K66&AK$23))))","v":""},{"$f":"IF(ISNA(Lists!$J66),\"\",IF((INDIRECT(\"'\"&Lists!$J66&\"'!\"&Lists!$K66&AL$23))=\"\",\"\",(INDIRECT(\"'\"&Lists!$J66&\"'!\"&Lists!$K66&AL$23))))","v":""},{"$f":"IF(ISNA(Lists!$J66),\"\",IF((INDIRECT(\"'\"&Lists!$J66&\"'!\"&Lists!$K66&AM$23))=\"\",\"\",(INDIRECT(\"'\"&Lists!$J66&\"'!\"&Lists!$K66&AM$23))))","v":""},{"$f":"IF(ISNA(Lists!$J66),\"\",IF((INDIRECT(\"'\"&Lists!$J66&\"'!\"&Lists!$K66&AN$23))=\"\",\"\",(INDIRECT(\"'\"&Lists!$J66&\"'!\"&Lists!$K66&AN$23))))","v":""},{"$f":"IF(ISNA(Lists!$J66),\"\",IF((INDIRECT(\"'\"&Lists!$J66&\"'!\"&Lists!$K66&AO$23))=\"\",\"\",(INDIRECT(\"'\"&Lists!$J66&\"'!\"&Lists!$K66&AO$23))))","v":""}]
[null,{"$f":"IF(C89=\"\",\"\",Facility_Info_upload!$B$24)","v":""},{"$f":"IF(ISNA(Lists!$J67),\"\",IF(INDIRECT(\"'\"&Lists!$J67&\"'!\"&\"B\"&C$23)=\"\",\"\",(INDIRECT(\"'\"&Lists!$J67&\"'!\"&\"B\"&C$23))))","v":""},{"$f":"IF(ISNA(Lists!$J67),\"\",IF(INDIRECT(\"'\"&Lists!$J67&\"'!\"&\"B\"&D$23)=\"\",\"\",(INDIRECT(\"'\"&Lists!$J67&\"'!\"&\"B\"&D$23))))","v":""},{"$f":"IF(ISNA(Lists!$J67),\"\",IF(INDIRECT(\"'\"&Lists!$J67&\"'!\"&\"B\"&E$23)=\"\",\"\",(INDIRECT(\"'\"&Lists!$J67&\"'!\"&\"B\"&E$23))))","v":""},{"$f":"IF(ISNA(Lists!$J67),\"\",IF(INDIRECT(\"'\"&Lists!$J67&\"'!\"&\"B\"&F$23)=\"\",\"\",(INDIRECT(\"'\"&Lists!$J67&\"'!\"&\"B\"&F$23))))","v":""},{"$f":"IF(ISNA(Lists!$J67),\"\",IF(INDIRECT(\"'\"&Lists!$J67&\"'!\"&\"B\"&G$23)=\"\",\"\",(INDIRECT(\"'\"&Lists!$J67&\"'!\"&\"B\"&G$23))))","v":""},{"$f":"IF(ISNA(Lists!$J67),\"\",IF((INDIRECT(\"'\"&Lists!$J67&\"'!\"&Lists!$K67&H$23))=\"\",\"\",(INDIRECT(\"'\"&Lists!$J67&\"'!\"&Lists!$K67&H$23))))","v":""},{"$f":"IF(ISNA(Lists!$J67),\"\",IF((INDIRECT(\"'\"&Lists!$J67&\"'!\"&Lists!$K67&I$23))=\"\",\"\",(INDIRECT(\"'\"&Lists!$J67&\"'!\"&Lists!$K67&I$23))))","v":""},{"$f":"IF(ISNA(Lists!$J67),\"\",IF((INDIRECT(\"'\"&Lists!$J67&\"'!\"&Lists!$K67&J$23))=\"\",\"\",(INDIRECT(\"'\"&Lists!$J67&\"'!\"&Lists!$K67&J$23))))","v":""},{"$f":"IF(ISNA(Lists!$J67),\"\",IF((INDIRECT(\"'\"&Lists!$J67&\"'!\"&Lists!$K67&K$23))=\"\",\"\",(INDIRECT(\"'\"&Lists!$J67&\"'!\"&Lists!$K67&K$23))))","v":""},{"$f":"IF(ISNA(Lists!$J67),\"\",IF((INDIRECT(\"'\"&Lists!$J67&\"'!\"&Lists!$K67&L$23))=\"\",\"\",(INDIRECT(\"'\"&Lists!$J67&\"'!\"&Lists!$K67&L$23))))","v":""},{"$f":"IF(ISNA(Lists!$J67),\"\",IF((INDIRECT(\"'\"&Lists!$J67&\"'!\"&Lists!$K67&M$23))=\"\",\"\",(INDIRECT(\"'\"&Lists!$J67&\"'!\"&Lists!$K67&M$23))))","v":""},{"$f":"IF(ISNA(Lists!$J67),\"\",IF((INDIRECT(\"'\"&Lists!$J67&\"'!\"&Lists!$K67&N$23))=\"\",\"\",(INDIRECT(\"'\"&Lists!$J67&\"'!\"&Lists!$K67&N$23))))","v":""},{"$f":"IF(ISNA(Lists!$J67),\"\",IF((INDIRECT(\"'\"&Lists!$J67&\"'!\"&Lists!$K67&O$23))=\"\",\"\",(INDIRECT(\"'\"&Lists!$J67&\"'!\"&Lists!$K67&O$23))))","v":""},{"$f":"IF(ISNA(Lists!$J67),\"\",IF((INDIRECT(\"'\"&Lists!$J67&\"'!\"&Lists!$K67&P$23))=\"\",\"\",(INDIRECT(\"'\"&Lists!$J67&\"'!\"&Lists!$K67&P$23))))","v":""},{"$f":"IF(ISNA(Lists!$J67),\"\",IF((INDIRECT(\"'\"&Lists!$J67&\"'!\"&Lists!$K67&Q$23))=\"\",\"\",(INDIRECT(\"'\"&Lists!$J67&\"'!\"&Lists!$K67&Q$23))))","v":""},{"$f":"IF(ISNA(Lists!$J67),\"\",IF((INDIRECT(\"'\"&Lists!$J67&\"'!\"&Lists!$K67&R$23))=\"\",\"\",(INDIRECT(\"'\"&Lists!$J67&\"'!\"&Lists!$K67&R$23))))","v":""},{"$f":"IF(ISNA(Lists!$J67),\"\",IF((INDIRECT(\"'\"&Lists!$J67&\"'!\"&Lists!$K67&S$23))=\"\",\"\",(INDIRECT(\"'\"&Lists!$J67&\"'!\"&Lists!$K67&S$23))))","v":""},{"$f":"IF(ISNA(Lists!$J67),\"\",IF((INDIRECT(\"'\"&Lists!$J67&\"'!\"&Lists!$K67&T$23))=\"\",\"\",(INDIRECT(\"'\"&Lists!$J67&\"'!\"&Lists!$K67&T$23))))","v":""},{"$f":"IF(ISNA(Lists!$J67),\"\",IF((INDIRECT(\"'\"&Lists!$J67&\"'!\"&Lists!$K67&U$23))=\"\",\"\",(INDIRECT(\"'\"&Lists!$J67&\"'!\"&Lists!$K67&U$23))))","v":""},{"$f":"IF(ISNA(Lists!$J67),\"\",IF((INDIRECT(\"'\"&Lists!$J67&\"'!\"&Lists!$L67&V$23))=\"\",\"\",(INDIRECT(\"'\"&Lists!$J67&\"'!\"&Lists!$L67&V$23))))","v":""},{"$f":"IF(ISNA(Lists!$J67),\"\",IF((INDIRECT(\"'\"&Lists!$J67&\"'!\"&Lists!$L67&W$23))=\"\",\"\",(INDIRECT(\"'\"&Lists!$J67&\"'!\"&Lists!$L67&W$23))))","v":""},{"$f":"IF(ISNA(Lists!$J67),\"\",IF((INDIRECT(\"'\"&Lists!$J67&\"'!\"&Lists!$L67&X$23))=\"\",\"\",(INDIRECT(\"'\"&Lists!$J67&\"'!\"&Lists!$L67&X$23))))","v":""},{"$f":"IF(ISNA(Lists!$J67),\"\",IF((INDIRECT(\"'\"&Lists!$J67&\"'!\"&Lists!$L67&Y$23))=\"\",\"\",(INDIRECT(\"'\"&Lists!$J67&\"'!\"&Lists!$L67&Y$23))))","v":""},{"$f":"IF(ISNA(Lists!$J67),\"\",IF((INDIRECT(\"'\"&Lists!$J67&\"'!\"&Lists!$L67&Z$23))=\"\",\"\",(INDIRECT(\"'\"&Lists!$J67&\"'!\"&Lists!$L67&Z$23))))","v":""},{"$f":"IF(ISNA(Lists!$J67),\"\",IF((INDIRECT(\"'\"&Lists!$J67&\"'!\"&Lists!$L67&AA$23))=\"\",\"\",(INDIRECT(\"'\"&Lists!$J67&\"'!\"&Lists!$L67&AA$23))))","v":""},{"$f":"IF(ISNA(Lists!$J67),\"\",IF((INDIRECT(\"'\"&Lists!$J67&\"'!\"&Lists!$L67&AB$23))=\"\",\"\",(INDIRECT(\"'\"&Lists!$J67&\"'!\"&Lists!$L67&AB$23))))","v":""},{"$f":"IF(ISNA(Lists!$J67),\"\",IF((INDIRECT(\"'\"&Lists!$J67&\"'!\"&Lists!$K67&AC$23))=\"\",\"\",(INDIRECT(\"'\"&Lists!$J67&\"'!\"&Lists!$K67&AC$23))))","v":""},{"$f":"IF(ISNA(Lists!$J67),\"\",IF((INDIRECT(\"'\"&Lists!$J67&\"'!\"&Lists!$L67&AD$23))=\"\",\"\",(INDIRECT(\"'\"&Lists!$J67&\"'!\"&Lists!$L67&AD$23))))","v":""},{"$f":"IF(ISNA(Lists!$J67),\"\",IF((INDIRECT(\"'\"&Lists!$J67&\"'!\"&Lists!$K67&AE$23))=\"\",\"\",(INDIRECT(\"'\"&Lists!$J67&\"'!\"&Lists!$K67&AE$23))))","v":""},{"$f":"IF(ISNA(Lists!$J67),\"\",IF((INDIRECT(\"'\"&Lists!$J67&\"'!\"&Lists!$K67&AF$23))=\"\",\"\",(INDIRECT(\"'\"&Lists!$J67&\"'!\"&Lists!$K67&AF$23))))","v":""},{"$f":"IF(ISNA(Lists!$J67),\"\",IF((INDIRECT(\"'\"&Lists!$J67&\"'!\"&Lists!$K67&AG$23))=\"\",\"\",(INDIRECT(\"'\"&Lists!$J67&\"'!\"&Lists!$K67&AG$23))))","v":""},{"$f":"IF(ISNA(Lists!$J67),\"\",IF((INDIRECT(\"'\"&Lists!$J67&\"'!\"&Lists!$K67&AH$23))=\"\",\"\",(INDIRECT(\"'\"&Lists!$J67&\"'!\"&Lists!$K67&AH$23))))","v":""},{"$f":"IF(ISNA(Lists!$J67),\"\",IF((INDIRECT(\"'\"&Lists!$J67&\"'!\"&Lists!$K67&AI$23))=\"\",\"\",(INDIRECT(\"'\"&Lists!$J67&\"'!\"&Lists!$K67&AI$23))))","v":""},{"$f":"IF(ISNA(Lists!$J67),\"\",IF((INDIRECT(\"'\"&Lists!$J67&\"'!\"&Lists!$K67&AJ$23))=\"\",\"\",(INDIRECT(\"'\"&Lists!$J67&\"'!\"&Lists!$K67&AJ$23))))","v":""},{"$f":"IF(ISNA(Lists!$J67),\"\",IF((INDIRECT(\"'\"&Lists!$J67&\"'!\"&Lists!$K67&AK$23))=\"\",\"\",(INDIRECT(\"'\"&Lists!$J67&\"'!\"&Lists!$K67&AK$23))))","v":""},{"$f":"IF(ISNA(Lists!$J67),\"\",IF((INDIRECT(\"'\"&Lists!$J67&\"'!\"&Lists!$K67&AL$23))=\"\",\"\",(INDIRECT(\"'\"&Lists!$J67&\"'!\"&Lists!$K67&AL$23))))","v":""},{"$f":"IF(ISNA(Lists!$J67),\"\",IF((INDIRECT(\"'\"&Lists!$J67&\"'!\"&Lists!$K67&AM$23))=\"\",\"\",(INDIRECT(\"'\"&Lists!$J67&\"'!\"&Lists!$K67&AM$23))))","v":""},{"$f":"IF(ISNA(Lists!$J67),\"\",IF((INDIRECT(\"'\"&Lists!$J67&\"'!\"&Lists!$K67&AN$23))=\"\",\"\",(INDIRECT(\"'\"&Lists!$J67&\"'!\"&Lists!$K67&AN$23))))","v":""},{"$f":"IF(ISNA(Lists!$J67),\"\",IF((INDIRECT(\"'\"&Lists!$J67&\"'!\"&Lists!$K67&AO$23))=\"\",\"\",(INDIRECT(\"'\"&Lists!$J67&\"'!\"&Lists!$K67&AO$23))))","v":""}]
[null,{"$f":"IF(C90=\"\",\"\",Facility_Info_upload!$B$24)","v":""},{"$f":"IF(ISNA(Lists!$J68),\"\",IF(INDIRECT(\"'\"&Lists!$J68&\"'!\"&\"B\"&C$23)=\"\",\"\",(INDIRECT(\"'\"&Lists!$J68&\"'!\"&\"B\"&C$23))))","v":""},{"$f":"IF(ISNA(Lists!$J68),\"\",IF(INDIRECT(\"'\"&Lists!$J68&\"'!\"&\"B\"&D$23)=\"\",\"\",(INDIRECT(\"'\"&Lists!$J68&\"'!\"&\"B\"&D$23))))","v":""},{"$f":"IF(ISNA(Lists!$J68),\"\",IF(INDIRECT(\"'\"&Lists!$J68&\"'!\"&\"B\"&E$23)=\"\",\"\",(INDIRECT(\"'\"&Lists!$J68&\"'!\"&\"B\"&E$23))))","v":""},{"$f":"IF(ISNA(Lists!$J68),\"\",IF(INDIRECT(\"'\"&Lists!$J68&\"'!\"&\"B\"&F$23)=\"\",\"\",(INDIRECT(\"'\"&Lists!$J68&\"'!\"&\"B\"&F$23))))","v":""},{"$f":"IF(ISNA(Lists!$J68),\"\",IF(INDIRECT(\"'\"&Lists!$J68&\"'!\"&\"B\"&G$23)=\"\",\"\",(INDIRECT(\"'\"&Lists!$J68&\"'!\"&\"B\"&G$23))))","v":""},{"$f":"IF(ISNA(Lists!$J68),\"\",IF((INDIRECT(\"'\"&Lists!$J68&\"'!\"&Lists!$K68&H$23))=\"\",\"\",(INDIRECT(\"'\"&Lists!$J68&\"'!\"&Lists!$K68&H$23))))","v":""},{"$f":"IF(ISNA(Lists!$J68),\"\",IF((INDIRECT(\"'\"&Lists!$J68&\"'!\"&Lists!$K68&I$23))=\"\",\"\",(INDIRECT(\"'\"&Lists!$J68&\"'!\"&Lists!$K68&I$23))))","v":""},{"$f":"IF(ISNA(Lists!$J68),\"\",IF((INDIRECT(\"'\"&Lists!$J68&\"'!\"&Lists!$K68&J$23))=\"\",\"\",(INDIRECT(\"'\"&Lists!$J68&\"'!\"&Lists!$K68&J$23))))","v":""},{"$f":"IF(ISNA(Lists!$J68),\"\",IF((INDIRECT(\"'\"&Lists!$J68&\"'!\"&Lists!$K68&K$23))=\"\",\"\",(INDIRECT(\"'\"&Lists!$J68&\"'!\"&Lists!$K68&K$23))))","v":""},{"$f":"IF(ISNA(Lists!$J68),\"\",IF((INDIRECT(\"'\"&Lists!$J68&\"'!\"&Lists!$K68&L$23))=\"\",\"\",(INDIRECT(\"'\"&Lists!$J68&\"'!\"&Lists!$K68&L$23))))","v":""},{"$f":"IF(ISNA(Lists!$J68),\"\",IF((INDIRECT(\"'\"&Lists!$J68&\"'!\"&Lists!$K68&M$23))=\"\",\"\",(INDIRECT(\"'\"&Lists!$J68&\"'!\"&Lists!$K68&M$23))))","v":""},{"$f":"IF(ISNA(Lists!$J68),\"\",IF((INDIRECT(\"'\"&Lists!$J68&\"'!\"&Lists!$K68&N$23))=\"\",\"\",(INDIRECT(\"'\"&Lists!$J68&\"'!\"&Lists!$K68&N$23))))","v":""},{"$f":"IF(ISNA(Lists!$J68),\"\",IF((INDIRECT(\"'\"&Lists!$J68&\"'!\"&Lists!$K68&O$23))=\"\",\"\",(INDIRECT(\"'\"&Lists!$J68&\"'!\"&Lists!$K68&O$23))))","v":""},{"$f":"IF(ISNA(Lists!$J68),\"\",IF((INDIRECT(\"'\"&Lists!$J68&\"'!\"&Lists!$K68&P$23))=\"\",\"\",(INDIRECT(\"'\"&Lists!$J68&\"'!\"&Lists!$K68&P$23))))","v":""},{"$f":"IF(ISNA(Lists!$J68),\"\",IF((INDIRECT(\"'\"&Lists!$J68&\"'!\"&Lists!$K68&Q$23))=\"\",\"\",(INDIRECT(\"'\"&Lists!$J68&\"'!\"&Lists!$K68&Q$23))))","v":""},{"$f":"IF(ISNA(Lists!$J68),\"\",IF((INDIRECT(\"'\"&Lists!$J68&\"'!\"&Lists!$K68&R$23))=\"\",\"\",(INDIRECT(\"'\"&Lists!$J68&\"'!\"&Lists!$K68&R$23))))","v":""},{"$f":"IF(ISNA(Lists!$J68),\"\",IF((INDIRECT(\"'\"&Lists!$J68&\"'!\"&Lists!$K68&S$23))=\"\",\"\",(INDIRECT(\"'\"&Lists!$J68&\"'!\"&Lists!$K68&S$23))))","v":""},{"$f":"IF(ISNA(Lists!$J68),\"\",IF((INDIRECT(\"'\"&Lists!$J68&\"'!\"&Lists!$K68&T$23))=\"\",\"\",(INDIRECT(\"'\"&Lists!$J68&\"'!\"&Lists!$K68&T$23))))","v":""},{"$f":"IF(ISNA(Lists!$J68),\"\",IF((INDIRECT(\"'\"&Lists!$J68&\"'!\"&Lists!$K68&U$23))=\"\",\"\",(INDIRECT(\"'\"&Lists!$J68&\"'!\"&Lists!$K68&U$23))))","v":""},{"$f":"IF(ISNA(Lists!$J68),\"\",IF((INDIRECT(\"'\"&Lists!$J68&\"'!\"&Lists!$L68&V$23))=\"\",\"\",(INDIRECT(\"'\"&Lists!$J68&\"'!\"&Lists!$L68&V$23))))","v":""},{"$f":"IF(ISNA(Lists!$J68),\"\",IF((INDIRECT(\"'\"&Lists!$J68&\"'!\"&Lists!$L68&W$23))=\"\",\"\",(INDIRECT(\"'\"&Lists!$J68&\"'!\"&Lists!$L68&W$23))))","v":""},{"$f":"IF(ISNA(Lists!$J68),\"\",IF((INDIRECT(\"'\"&Lists!$J68&\"'!\"&Lists!$L68&X$23))=\"\",\"\",(INDIRECT(\"'\"&Lists!$J68&\"'!\"&Lists!$L68&X$23))))","v":""},{"$f":"IF(ISNA(Lists!$J68),\"\",IF((INDIRECT(\"'\"&Lists!$J68&\"'!\"&Lists!$L68&Y$23))=\"\",\"\",(INDIRECT(\"'\"&Lists!$J68&\"'!\"&Lists!$L68&Y$23))))","v":""},{"$f":"IF(ISNA(Lists!$J68),\"\",IF((INDIRECT(\"'\"&Lists!$J68&\"'!\"&Lists!$L68&Z$23))=\"\",\"\",(INDIRECT(\"'\"&Lists!$J68&\"'!\"&Lists!$L68&Z$23))))","v":""},{"$f":"IF(ISNA(Lists!$J68),\"\",IF((INDIRECT(\"'\"&Lists!$J68&\"'!\"&Lists!$L68&AA$23))=\"\",\"\",(INDIRECT(\"'\"&Lists!$J68&\"'!\"&Lists!$L68&AA$23))))","v":""},{"$f":"IF(ISNA(Lists!$J68),\"\",IF((INDIRECT(\"'\"&Lists!$J68&\"'!\"&Lists!$L68&AB$23))=\"\",\"\",(INDIRECT(\"'\"&Lists!$J68&\"'!\"&Lists!$L68&AB$23))))","v":""},{"$f":"IF(ISNA(Lists!$J68),\"\",IF((INDIRECT(\"'\"&Lists!$J68&\"'!\"&Lists!$K68&AC$23))=\"\",\"\",(INDIRECT(\"'\"&Lists!$J68&\"'!\"&Lists!$K68&AC$23))))","v":""},{"$f":"IF(ISNA(Lists!$J68),\"\",IF((INDIRECT(\"'\"&Lists!$J68&\"'!\"&Lists!$L68&AD$23))=\"\",\"\",(INDIRECT(\"'\"&Lists!$J68&\"'!\"&Lists!$L68&AD$23))))","v":""},{"$f":"IF(ISNA(Lists!$J68),\"\",IF((INDIRECT(\"'\"&Lists!$J68&\"'!\"&Lists!$K68&AE$23))=\"\",\"\",(INDIRECT(\"'\"&Lists!$J68&\"'!\"&Lists!$K68&AE$23))))","v":""},{"$f":"IF(ISNA(Lists!$J68),\"\",IF((INDIRECT(\"'\"&Lists!$J68&\"'!\"&Lists!$K68&AF$23))=\"\",\"\",(INDIRECT(\"'\"&Lists!$J68&\"'!\"&Lists!$K68&AF$23))))","v":""},{"$f":"IF(ISNA(Lists!$J68),\"\",IF((INDIRECT(\"'\"&Lists!$J68&\"'!\"&Lists!$K68&AG$23))=\"\",\"\",(INDIRECT(\"'\"&Lists!$J68&\"'!\"&Lists!$K68&AG$23))))","v":""},{"$f":"IF(ISNA(Lists!$J68),\"\",IF((INDIRECT(\"'\"&Lists!$J68&\"'!\"&Lists!$K68&AH$23))=\"\",\"\",(INDIRECT(\"'\"&Lists!$J68&\"'!\"&Lists!$K68&AH$23))))","v":""},{"$f":"IF(ISNA(Lists!$J68),\"\",IF((INDIRECT(\"'\"&Lists!$J68&\"'!\"&Lists!$K68&AI$23))=\"\",\"\",(INDIRECT(\"'\"&Lists!$J68&\"'!\"&Lists!$K68&AI$23))))","v":""},{"$f":"IF(ISNA(Lists!$J68),\"\",IF((INDIRECT(\"'\"&Lists!$J68&\"'!\"&Lists!$K68&AJ$23))=\"\",\"\",(INDIRECT(\"'\"&Lists!$J68&\"'!\"&Lists!$K68&AJ$23))))","v":""},{"$f":"IF(ISNA(Lists!$J68),\"\",IF((INDIRECT(\"'\"&Lists!$J68&\"'!\"&Lists!$K68&AK$23))=\"\",\"\",(INDIRECT(\"'\"&Lists!$J68&\"'!\"&Lists!$K68&AK$23))))","v":""},{"$f":"IF(ISNA(Lists!$J68),\"\",IF((INDIRECT(\"'\"&Lists!$J68&\"'!\"&Lists!$K68&AL$23))=\"\",\"\",(INDIRECT(\"'\"&Lists!$J68&\"'!\"&Lists!$K68&AL$23))))","v":""},{"$f":"IF(ISNA(Lists!$J68),\"\",IF((INDIRECT(\"'\"&Lists!$J68&\"'!\"&Lists!$K68&AM$23))=\"\",\"\",(INDIRECT(\"'\"&Lists!$J68&\"'!\"&Lists!$K68&AM$23))))","v":""},{"$f":"IF(ISNA(Lists!$J68),\"\",IF((INDIRECT(\"'\"&Lists!$J68&\"'!\"&Lists!$K68&AN$23))=\"\",\"\",(INDIRECT(\"'\"&Lists!$J68&\"'!\"&Lists!$K68&AN$23))))","v":""},{"$f":"IF(ISNA(Lists!$J68),\"\",IF((INDIRECT(\"'\"&Lists!$J68&\"'!\"&Lists!$K68&AO$23))=\"\",\"\",(INDIRECT(\"'\"&Lists!$J68&\"'!\"&Lists!$K68&AO$23))))","v":""}]
[null,{"$f":"IF(C91=\"\",\"\",Facility_Info_upload!$B$24)","v":""},{"$f":"IF(ISNA(Lists!$J69),\"\",IF(INDIRECT(\"'\"&Lists!$J69&\"'!\"&\"B\"&C$23)=\"\",\"\",(INDIRECT(\"'\"&Lists!$J69&\"'!\"&\"B\"&C$23))))","v":""},{"$f":"IF(ISNA(Lists!$J69),\"\",IF(INDIRECT(\"'\"&Lists!$J69&\"'!\"&\"B\"&D$23)=\"\",\"\",(INDIRECT(\"'\"&Lists!$J69&\"'!\"&\"B\"&D$23))))","v":""},{"$f":"IF(ISNA(Lists!$J69),\"\",IF(INDIRECT(\"'\"&Lists!$J69&\"'!\"&\"B\"&E$23)=\"\",\"\",(INDIRECT(\"'\"&Lists!$J69&\"'!\"&\"B\"&E$23))))","v":""},{"$f":"IF(ISNA(Lists!$J69),\"\",IF(INDIRECT(\"'\"&Lists!$J69&\"'!\"&\"B\"&F$23)=\"\",\"\",(INDIRECT(\"'\"&Lists!$J69&\"'!\"&\"B\"&F$23))))","v":""},{"$f":"IF(ISNA(Lists!$J69),\"\",IF(INDIRECT(\"'\"&Lists!$J69&\"'!\"&\"B\"&G$23)=\"\",\"\",(INDIRECT(\"'\"&Lists!$J69&\"'!\"&\"B\"&G$23))))","v":""},{"$f":"IF(ISNA(Lists!$J69),\"\",IF((INDIRECT(\"'\"&Lists!$J69&\"'!\"&Lists!$K69&H$23))=\"\",\"\",(INDIRECT(\"'\"&Lists!$J69&\"'!\"&Lists!$K69&H$23))))","v":""},{"$f":"IF(ISNA(Lists!$J69),\"\",IF((INDIRECT(\"'\"&Lists!$J69&\"'!\"&Lists!$K69&I$23))=\"\",\"\",(INDIRECT(\"'\"&Lists!$J69&\"'!\"&Lists!$K69&I$23))))","v":""},{"$f":"IF(ISNA(Lists!$J69),\"\",IF((INDIRECT(\"'\"&Lists!$J69&\"'!\"&Lists!$K69&J$23))=\"\",\"\",(INDIRECT(\"'\"&Lists!$J69&\"'!\"&Lists!$K69&J$23))))","v":""},{"$f":"IF(ISNA(Lists!$J69),\"\",IF((INDIRECT(\"'\"&Lists!$J69&\"'!\"&Lists!$K69&K$23))=\"\",\"\",(INDIRECT(\"'\"&Lists!$J69&\"'!\"&Lists!$K69&K$23))))","v":""},{"$f":"IF(ISNA(Lists!$J69),\"\",IF((INDIRECT(\"'\"&Lists!$J69&\"'!\"&Lists!$K69&L$23))=\"\",\"\",(INDIRECT(\"'\"&Lists!$J69&\"'!\"&Lists!$K69&L$23))))","v":""},{"$f":"IF(ISNA(Lists!$J69),\"\",IF((INDIRECT(\"'\"&Lists!$J69&\"'!\"&Lists!$K69&M$23))=\"\",\"\",(INDIRECT(\"'\"&Lists!$J69&\"'!\"&Lists!$K69&M$23))))","v":""},{"$f":"IF(ISNA(Lists!$J69),\"\",IF((INDIRECT(\"'\"&Lists!$J69&\"'!\"&Lists!$K69&N$23))=\"\",\"\",(INDIRECT(\"'\"&Lists!$J69&\"'!\"&Lists!$K69&N$23))))","v":""},{"$f":"IF(ISNA(Lists!$J69),\"\",IF((INDIRECT(\"'\"&Lists!$J69&\"'!\"&Lists!$K69&O$23))=\"\",\"\",(INDIRECT(\"'\"&Lists!$J69&\"'!\"&Lists!$K69&O$23))))","v":""},{"$f":"IF(ISNA(Lists!$J69),\"\",IF((INDIRECT(\"'\"&Lists!$J69&\"'!\"&Lists!$K69&P$23))=\"\",\"\",(INDIRECT(\"'\"&Lists!$J69&\"'!\"&Lists!$K69&P$23))))","v":""},{"$f":"IF(ISNA(Lists!$J69),\"\",IF((INDIRECT(\"'\"&Lists!$J69&\"'!\"&Lists!$K69&Q$23))=\"\",\"\",(INDIRECT(\"'\"&Lists!$J69&\"'!\"&Lists!$K69&Q$23))))","v":""},{"$f":"IF(ISNA(Lists!$J69),\"\",IF((INDIRECT(\"'\"&Lists!$J69&\"'!\"&Lists!$K69&R$23))=\"\",\"\",(INDIRECT(\"'\"&Lists!$J69&\"'!\"&Lists!$K69&R$23))))","v":""},{"$f":"IF(ISNA(Lists!$J69),\"\",IF((INDIRECT(\"'\"&Lists!$J69&\"'!\"&Lists!$K69&S$23))=\"\",\"\",(INDIRECT(\"'\"&Lists!$J69&\"'!\"&Lists!$K69&S$23))))","v":""},{"$f":"IF(ISNA(Lists!$J69),\"\",IF((INDIRECT(\"'\"&Lists!$J69&\"'!\"&Lists!$K69&T$23))=\"\",\"\",(INDIRECT(\"'\"&Lists!$J69&\"'!\"&Lists!$K69&T$23))))","v":""},{"$f":"IF(ISNA(Lists!$J69),\"\",IF((INDIRECT(\"'\"&Lists!$J69&\"'!\"&Lists!$K69&U$23))=\"\",\"\",(INDIRECT(\"'\"&Lists!$J69&\"'!\"&Lists!$K69&U$23))))","v":""},{"$f":"IF(ISNA(Lists!$J69),\"\",IF((INDIRECT(\"'\"&Lists!$J69&\"'!\"&Lists!$L69&V$23))=\"\",\"\",(INDIRECT(\"'\"&Lists!$J69&\"'!\"&Lists!$L69&V$23))))","v":""},{"$f":"IF(ISNA(Lists!$J69),\"\",IF((INDIRECT(\"'\"&Lists!$J69&\"'!\"&Lists!$L69&W$23))=\"\",\"\",(INDIRECT(\"'\"&Lists!$J69&\"'!\"&Lists!$L69&W$23))))","v":""},{"$f":"IF(ISNA(Lists!$J69),\"\",IF((INDIRECT(\"'\"&Lists!$J69&\"'!\"&Lists!$L69&X$23))=\"\",\"\",(INDIRECT(\"'\"&Lists!$J69&\"'!\"&Lists!$L69&X$23))))","v":""},{"$f":"IF(ISNA(Lists!$J69),\"\",IF((INDIRECT(\"'\"&Lists!$J69&\"'!\"&Lists!$L69&Y$23))=\"\",\"\",(INDIRECT(\"'\"&Lists!$J69&\"'!\"&Lists!$L69&Y$23))))","v":""},{"$f":"IF(ISNA(Lists!$J69),\"\",IF((INDIRECT(\"'\"&Lists!$J69&\"'!\"&Lists!$L69&Z$23))=\"\",\"\",(INDIRECT(\"'\"&Lists!$J69&\"'!\"&Lists!$L69&Z$23))))","v":""},{"$f":"IF(ISNA(Lists!$J69),\"\",IF((INDIRECT(\"'\"&Lists!$J69&\"'!\"&Lists!$L69&AA$23))=\"\",\"\",(INDIRECT(\"'\"&Lists!$J69&\"'!\"&Lists!$L69&AA$23))))","v":""},{"$f":"IF(ISNA(Lists!$J69),\"\",IF((INDIRECT(\"'\"&Lists!$J69&\"'!\"&Lists!$L69&AB$23))=\"\",\"\",(INDIRECT(\"'\"&Lists!$J69&\"'!\"&Lists!$L69&AB$23))))","v":""},{"$f":"IF(ISNA(Lists!$J69),\"\",IF((INDIRECT(\"'\"&Lists!$J69&\"'!\"&Lists!$K69&AC$23))=\"\",\"\",(INDIRECT(\"'\"&Lists!$J69&\"'!\"&Lists!$K69&AC$23))))","v":""},{"$f":"IF(ISNA(Lists!$J69),\"\",IF((INDIRECT(\"'\"&Lists!$J69&\"'!\"&Lists!$L69&AD$23))=\"\",\"\",(INDIRECT(\"'\"&Lists!$J69&\"'!\"&Lists!$L69&AD$23))))","v":""},{"$f":"IF(ISNA(Lists!$J69),\"\",IF((INDIRECT(\"'\"&Lists!$J69&\"'!\"&Lists!$K69&AE$23))=\"\",\"\",(INDIRECT(\"'\"&Lists!$J69&\"'!\"&Lists!$K69&AE$23))))","v":""},{"$f":"IF(ISNA(Lists!$J69),\"\",IF((INDIRECT(\"'\"&Lists!$J69&\"'!\"&Lists!$K69&AF$23))=\"\",\"\",(INDIRECT(\"'\"&Lists!$J69&\"'!\"&Lists!$K69&AF$23))))","v":""},{"$f":"IF(ISNA(Lists!$J69),\"\",IF((INDIRECT(\"'\"&Lists!$J69&\"'!\"&Lists!$K69&AG$23))=\"\",\"\",(INDIRECT(\"'\"&Lists!$J69&\"'!\"&Lists!$K69&AG$23))))","v":""},{"$f":"IF(ISNA(Lists!$J69),\"\",IF((INDIRECT(\"'\"&Lists!$J69&\"'!\"&Lists!$K69&AH$23))=\"\",\"\",(INDIRECT(\"'\"&Lists!$J69&\"'!\"&Lists!$K69&AH$23))))","v":""},{"$f":"IF(ISNA(Lists!$J69),\"\",IF((INDIRECT(\"'\"&Lists!$J69&\"'!\"&Lists!$K69&AI$23))=\"\",\"\",(INDIRECT(\"'\"&Lists!$J69&\"'!\"&Lists!$K69&AI$23))))","v":""},{"$f":"IF(ISNA(Lists!$J69),\"\",IF((INDIRECT(\"'\"&Lists!$J69&\"'!\"&Lists!$K69&AJ$23))=\"\",\"\",(INDIRECT(\"'\"&Lists!$J69&\"'!\"&Lists!$K69&AJ$23))))","v":""},{"$f":"IF(ISNA(Lists!$J69),\"\",IF((INDIRECT(\"'\"&Lists!$J69&\"'!\"&Lists!$K69&AK$23))=\"\",\"\",(INDIRECT(\"'\"&Lists!$J69&\"'!\"&Lists!$K69&AK$23))))","v":""},{"$f":"IF(ISNA(Lists!$J69),\"\",IF((INDIRECT(\"'\"&Lists!$J69&\"'!\"&Lists!$K69&AL$23))=\"\",\"\",(INDIRECT(\"'\"&Lists!$J69&\"'!\"&Lists!$K69&AL$23))))","v":""},{"$f":"IF(ISNA(Lists!$J69),\"\",IF((INDIRECT(\"'\"&Lists!$J69&\"'!\"&Lists!$K69&AM$23))=\"\",\"\",(INDIRECT(\"'\"&Lists!$J69&\"'!\"&Lists!$K69&AM$23))))","v":""},{"$f":"IF(ISNA(Lists!$J69),\"\",IF((INDIRECT(\"'\"&Lists!$J69&\"'!\"&Lists!$K69&AN$23))=\"\",\"\",(INDIRECT(\"'\"&Lists!$J69&\"'!\"&Lists!$K69&AN$23))))","v":""},{"$f":"IF(ISNA(Lists!$J69),\"\",IF((INDIRECT(\"'\"&Lists!$J69&\"'!\"&Lists!$K69&AO$23))=\"\",\"\",(INDIRECT(\"'\"&Lists!$J69&\"'!\"&Lists!$K69&AO$23))))","v":""}]
[null,{"$f":"IF(C92=\"\",\"\",Facility_Info_upload!$B$24)","v":""},{"$f":"IF(ISNA(Lists!$J70),\"\",IF(INDIRECT(\"'\"&Lists!$J70&\"'!\"&\"B\"&C$23)=\"\",\"\",(INDIRECT(\"'\"&Lists!$J70&\"'!\"&\"B\"&C$23))))","v":""},{"$f":"IF(ISNA(Lists!$J70),\"\",IF(INDIRECT(\"'\"&Lists!$J70&\"'!\"&\"B\"&D$23)=\"\",\"\",(INDIRECT(\"'\"&Lists!$J70&\"'!\"&\"B\"&D$23))))","v":""},{"$f":"IF(ISNA(Lists!$J70),\"\",IF(INDIRECT(\"'\"&Lists!$J70&\"'!\"&\"B\"&E$23)=\"\",\"\",(INDIRECT(\"'\"&Lists!$J70&\"'!\"&\"B\"&E$23))))","v":""},{"$f":"IF(ISNA(Lists!$J70),\"\",IF(INDIRECT(\"'\"&Lists!$J70&\"'!\"&\"B\"&F$23)=\"\",\"\",(INDIRECT(\"'\"&Lists!$J70&\"'!\"&\"B\"&F$23))))","v":""},{"$f":"IF(ISNA(Lists!$J70),\"\",IF(INDIRECT(\"'\"&Lists!$J70&\"'!\"&\"B\"&G$23)=\"\",\"\",(INDIRECT(\"'\"&Lists!$J70&\"'!\"&\"B\"&G$23))))","v":""},{"$f":"IF(ISNA(Lists!$J70),\"\",IF((INDIRECT(\"'\"&Lists!$J70&\"'!\"&Lists!$K70&H$23))=\"\",\"\",(INDIRECT(\"'\"&Lists!$J70&\"'!\"&Lists!$K70&H$23))))","v":""},{"$f":"IF(ISNA(Lists!$J70),\"\",IF((INDIRECT(\"'\"&Lists!$J70&\"'!\"&Lists!$K70&I$23))=\"\",\"\",(INDIRECT(\"'\"&Lists!$J70&\"'!\"&Lists!$K70&I$23))))","v":""},{"$f":"IF(ISNA(Lists!$J70),\"\",IF((INDIRECT(\"'\"&Lists!$J70&\"'!\"&Lists!$K70&J$23))=\"\",\"\",(INDIRECT(\"'\"&Lists!$J70&\"'!\"&Lists!$K70&J$23))))","v":""},{"$f":"IF(ISNA(Lists!$J70),\"\",IF((INDIRECT(\"'\"&Lists!$J70&\"'!\"&Lists!$K70&K$23))=\"\",\"\",(INDIRECT(\"'\"&Lists!$J70&\"'!\"&Lists!$K70&K$23))))","v":""},{"$f":"IF(ISNA(Lists!$J70),\"\",IF((INDIRECT(\"'\"&Lists!$J70&\"'!\"&Lists!$K70&L$23))=\"\",\"\",(INDIRECT(\"'\"&Lists!$J70&\"'!\"&Lists!$K70&L$23))))","v":""},{"$f":"IF(ISNA(Lists!$J70),\"\",IF((INDIRECT(\"'\"&Lists!$J70&\"'!\"&Lists!$K70&M$23))=\"\",\"\",(INDIRECT(\"'\"&Lists!$J70&\"'!\"&Lists!$K70&M$23))))","v":""},{"$f":"IF(ISNA(Lists!$J70),\"\",IF((INDIRECT(\"'\"&Lists!$J70&\"'!\"&Lists!$K70&N$23))=\"\",\"\",(INDIRECT(\"'\"&Lists!$J70&\"'!\"&Lists!$K70&N$23))))","v":""},{"$f":"IF(ISNA(Lists!$J70),\"\",IF((INDIRECT(\"'\"&Lists!$J70&\"'!\"&Lists!$K70&O$23))=\"\",\"\",(INDIRECT(\"'\"&Lists!$J70&\"'!\"&Lists!$K70&O$23))))","v":""},{"$f":"IF(ISNA(Lists!$J70),\"\",IF((INDIRECT(\"'\"&Lists!$J70&\"'!\"&Lists!$K70&P$23))=\"\",\"\",(INDIRECT(\"'\"&Lists!$J70&\"'!\"&Lists!$K70&P$23))))","v":""},{"$f":"IF(ISNA(Lists!$J70),\"\",IF((INDIRECT(\"'\"&Lists!$J70&\"'!\"&Lists!$K70&Q$23))=\"\",\"\",(INDIRECT(\"'\"&Lists!$J70&\"'!\"&Lists!$K70&Q$23))))","v":""},{"$f":"IF(ISNA(Lists!$J70),\"\",IF((INDIRECT(\"'\"&Lists!$J70&\"'!\"&Lists!$K70&R$23))=\"\",\"\",(INDIRECT(\"'\"&Lists!$J70&\"'!\"&Lists!$K70&R$23))))","v":""},{"$f":"IF(ISNA(Lists!$J70),\"\",IF((INDIRECT(\"'\"&Lists!$J70&\"'!\"&Lists!$K70&S$23))=\"\",\"\",(INDIRECT(\"'\"&Lists!$J70&\"'!\"&Lists!$K70&S$23))))","v":""},{"$f":"IF(ISNA(Lists!$J70),\"\",IF((INDIRECT(\"'\"&Lists!$J70&\"'!\"&Lists!$K70&T$23))=\"\",\"\",(INDIRECT(\"'\"&Lists!$J70&\"'!\"&Lists!$K70&T$23))))","v":""},{"$f":"IF(ISNA(Lists!$J70),\"\",IF((INDIRECT(\"'\"&Lists!$J70&\"'!\"&Lists!$K70&U$23))=\"\",\"\",(INDIRECT(\"'\"&Lists!$J70&\"'!\"&Lists!$K70&U$23))))","v":""},{"$f":"IF(ISNA(Lists!$J70),\"\",IF((INDIRECT(\"'\"&Lists!$J70&\"'!\"&Lists!$L70&V$23))=\"\",\"\",(INDIRECT(\"'\"&Lists!$J70&\"'!\"&Lists!$L70&V$23))))","v":""},{"$f":"IF(ISNA(Lists!$J70),\"\",IF((INDIRECT(\"'\"&Lists!$J70&\"'!\"&Lists!$L70&W$23))=\"\",\"\",(INDIRECT(\"'\"&Lists!$J70&\"'!\"&Lists!$L70&W$23))))","v":""},{"$f":"IF(ISNA(Lists!$J70),\"\",IF((INDIRECT(\"'\"&Lists!$J70&\"'!\"&Lists!$L70&X$23))=\"\",\"\",(INDIRECT(\"'\"&Lists!$J70&\"'!\"&Lists!$L70&X$23))))","v":""},{"$f":"IF(ISNA(Lists!$J70),\"\",IF((INDIRECT(\"'\"&Lists!$J70&\"'!\"&Lists!$L70&Y$23))=\"\",\"\",(INDIRECT(\"'\"&Lists!$J70&\"'!\"&Lists!$L70&Y$23))))","v":""},{"$f":"IF(ISNA(Lists!$J70),\"\",IF((INDIRECT(\"'\"&Lists!$J70&\"'!\"&Lists!$L70&Z$23))=\"\",\"\",(INDIRECT(\"'\"&Lists!$J70&\"'!\"&Lists!$L70&Z$23))))","v":""},{"$f":"IF(ISNA(Lists!$J70),\"\",IF((INDIRECT(\"'\"&Lists!$J70&\"'!\"&Lists!$L70&AA$23))=\"\",\"\",(INDIRECT(\"'\"&Lists!$J70&\"'!\"&Lists!$L70&AA$23))))","v":""},{"$f":"IF(ISNA(Lists!$J70),\"\",IF((INDIRECT(\"'\"&Lists!$J70&\"'!\"&Lists!$L70&AB$23))=\"\",\"\",(INDIRECT(\"'\"&Lists!$J70&\"'!\"&Lists!$L70&AB$23))))","v":""},{"$f":"IF(ISNA(Lists!$J70),\"\",IF((INDIRECT(\"'\"&Lists!$J70&\"'!\"&Lists!$K70&AC$23))=\"\",\"\",(INDIRECT(\"'\"&Lists!$J70&\"'!\"&Lists!$K70&AC$23))))","v":""},{"$f":"IF(ISNA(Lists!$J70),\"\",IF((INDIRECT(\"'\"&Lists!$J70&\"'!\"&Lists!$L70&AD$23))=\"\",\"\",(INDIRECT(\"'\"&Lists!$J70&\"'!\"&Lists!$L70&AD$23))))","v":""},{"$f":"IF(ISNA(Lists!$J70),\"\",IF((INDIRECT(\"'\"&Lists!$J70&\"'!\"&Lists!$K70&AE$23))=\"\",\"\",(INDIRECT(\"'\"&Lists!$J70&\"'!\"&Lists!$K70&AE$23))))","v":""},{"$f":"IF(ISNA(Lists!$J70),\"\",IF((INDIRECT(\"'\"&Lists!$J70&\"'!\"&Lists!$K70&AF$23))=\"\",\"\",(INDIRECT(\"'\"&Lists!$J70&\"'!\"&Lists!$K70&AF$23))))","v":""},{"$f":"IF(ISNA(Lists!$J70),\"\",IF((INDIRECT(\"'\"&Lists!$J70&\"'!\"&Lists!$K70&AG$23))=\"\",\"\",(INDIRECT(\"'\"&Lists!$J70&\"'!\"&Lists!$K70&AG$23))))","v":""},{"$f":"IF(ISNA(Lists!$J70),\"\",IF((INDIRECT(\"'\"&Lists!$J70&\"'!\"&Lists!$K70&AH$23))=\"\",\"\",(INDIRECT(\"'\"&Lists!$J70&\"'!\"&Lists!$K70&AH$23))))","v":""},{"$f":"IF(ISNA(Lists!$J70),\"\",IF((INDIRECT(\"'\"&Lists!$J70&\"'!\"&Lists!$K70&AI$23))=\"\",\"\",(INDIRECT(\"'\"&Lists!$J70&\"'!\"&Lists!$K70&AI$23))))","v":""},{"$f":"IF(ISNA(Lists!$J70),\"\",IF((INDIRECT(\"'\"&Lists!$J70&\"'!\"&Lists!$K70&AJ$23))=\"\",\"\",(INDIRECT(\"'\"&Lists!$J70&\"'!\"&Lists!$K70&AJ$23))))","v":""},{"$f":"IF(ISNA(Lists!$J70),\"\",IF((INDIRECT(\"'\"&Lists!$J70&\"'!\"&Lists!$K70&AK$23))=\"\",\"\",(INDIRECT(\"'\"&Lists!$J70&\"'!\"&Lists!$K70&AK$23))))","v":""},{"$f":"IF(ISNA(Lists!$J70),\"\",IF((INDIRECT(\"'\"&Lists!$J70&\"'!\"&Lists!$K70&AL$23))=\"\",\"\",(INDIRECT(\"'\"&Lists!$J70&\"'!\"&Lists!$K70&AL$23))))","v":""},{"$f":"IF(ISNA(Lists!$J70),\"\",IF((INDIRECT(\"'\"&Lists!$J70&\"'!\"&Lists!$K70&AM$23))=\"\",\"\",(INDIRECT(\"'\"&Lists!$J70&\"'!\"&Lists!$K70&AM$23))))","v":""},{"$f":"IF(ISNA(Lists!$J70),\"\",IF((INDIRECT(\"'\"&Lists!$J70&\"'!\"&Lists!$K70&AN$23))=\"\",\"\",(INDIRECT(\"'\"&Lists!$J70&\"'!\"&Lists!$K70&AN$23))))","v":""},{"$f":"IF(ISNA(Lists!$J70),\"\",IF((INDIRECT(\"'\"&Lists!$J70&\"'!\"&Lists!$K70&AO$23))=\"\",\"\",(INDIRECT(\"'\"&Lists!$J70&\"'!\"&Lists!$K70&AO$23))))","v":""}]
[null,{"$f":"IF(C93=\"\",\"\",Facility_Info_upload!$B$24)","v":""},{"$f":"IF(ISNA(Lists!$J71),\"\",IF(INDIRECT(\"'\"&Lists!$J71&\"'!\"&\"B\"&C$23)=\"\",\"\",(INDIRECT(\"'\"&Lists!$J71&\"'!\"&\"B\"&C$23))))","v":""},{"$f":"IF(ISNA(Lists!$J71),\"\",IF(INDIRECT(\"'\"&Lists!$J71&\"'!\"&\"B\"&D$23)=\"\",\"\",(INDIRECT(\"'\"&Lists!$J71&\"'!\"&\"B\"&D$23))))","v":""},{"$f":"IF(ISNA(Lists!$J71),\"\",IF(INDIRECT(\"'\"&Lists!$J71&\"'!\"&\"B\"&E$23)=\"\",\"\",(INDIRECT(\"'\"&Lists!$J71&\"'!\"&\"B\"&E$23))))","v":""},{"$f":"IF(ISNA(Lists!$J71),\"\",IF(INDIRECT(\"'\"&Lists!$J71&\"'!\"&\"B\"&F$23)=\"\",\"\",(INDIRECT(\"'\"&Lists!$J71&\"'!\"&\"B\"&F$23))))","v":""},{"$f":"IF(ISNA(Lists!$J71),\"\",IF(INDIRECT(\"'\"&Lists!$J71&\"'!\"&\"B\"&G$23)=\"\",\"\",(INDIRECT(\"'\"&Lists!$J71&\"'!\"&\"B\"&G$23))))","v":""},{"$f":"IF(ISNA(Lists!$J71),\"\",IF((INDIRECT(\"'\"&Lists!$J71&\"'!\"&Lists!$K71&H$23))=\"\",\"\",(INDIRECT(\"'\"&Lists!$J71&\"'!\"&Lists!$K71&H$23))))","v":""},{"$f":"IF(ISNA(Lists!$J71),\"\",IF((INDIRECT(\"'\"&Lists!$J71&\"'!\"&Lists!$K71&I$23))=\"\",\"\",(INDIRECT(\"'\"&Lists!$J71&\"'!\"&Lists!$K71&I$23))))","v":""},{"$f":"IF(ISNA(Lists!$J71),\"\",IF((INDIRECT(\"'\"&Lists!$J71&\"'!\"&Lists!$K71&J$23))=\"\",\"\",(INDIRECT(\"'\"&Lists!$J71&\"'!\"&Lists!$K71&J$23))))","v":""},{"$f":"IF(ISNA(Lists!$J71),\"\",IF((INDIRECT(\"'\"&Lists!$J71&\"'!\"&Lists!$K71&K$23))=\"\",\"\",(INDIRECT(\"'\"&Lists!$J71&\"'!\"&Lists!$K71&K$23))))","v":""},{"$f":"IF(ISNA(Lists!$J71),\"\",IF((INDIRECT(\"'\"&Lists!$J71&\"'!\"&Lists!$K71&L$23))=\"\",\"\",(INDIRECT(\"'\"&Lists!$J71&\"'!\"&Lists!$K71&L$23))))","v":""},{"$f":"IF(ISNA(Lists!$J71),\"\",IF((INDIRECT(\"'\"&Lists!$J71&\"'!\"&Lists!$K71&M$23))=\"\",\"\",(INDIRECT(\"'\"&Lists!$J71&\"'!\"&Lists!$K71&M$23))))","v":""},{"$f":"IF(ISNA(Lists!$J71),\"\",IF((INDIRECT(\"'\"&Lists!$J71&\"'!\"&Lists!$K71&N$23))=\"\",\"\",(INDIRECT(\"'\"&Lists!$J71&\"'!\"&Lists!$K71&N$23))))","v":""},{"$f":"IF(ISNA(Lists!$J71),\"\",IF((INDIRECT(\"'\"&Lists!$J71&\"'!\"&Lists!$K71&O$23))=\"\",\"\",(INDIRECT(\"'\"&Lists!$J71&\"'!\"&Lists!$K71&O$23))))","v":""},{"$f":"IF(ISNA(Lists!$J71),\"\",IF((INDIRECT(\"'\"&Lists!$J71&\"'!\"&Lists!$K71&P$23))=\"\",\"\",(INDIRECT(\"'\"&Lists!$J71&\"'!\"&Lists!$K71&P$23))))","v":""},{"$f":"IF(ISNA(Lists!$J71),\"\",IF((INDIRECT(\"'\"&Lists!$J71&\"'!\"&Lists!$K71&Q$23))=\"\",\"\",(INDIRECT(\"'\"&Lists!$J71&\"'!\"&Lists!$K71&Q$23))))","v":""},{"$f":"IF(ISNA(Lists!$J71),\"\",IF((INDIRECT(\"'\"&Lists!$J71&\"'!\"&Lists!$K71&R$23))=\"\",\"\",(INDIRECT(\"'\"&Lists!$J71&\"'!\"&Lists!$K71&R$23))))","v":""},{"$f":"IF(ISNA(Lists!$J71),\"\",IF((INDIRECT(\"'\"&Lists!$J71&\"'!\"&Lists!$K71&S$23))=\"\",\"\",(INDIRECT(\"'\"&Lists!$J71&\"'!\"&Lists!$K71&S$23))))","v":""},{"$f":"IF(ISNA(Lists!$J71),\"\",IF((INDIRECT(\"'\"&Lists!$J71&\"'!\"&Lists!$K71&T$23))=\"\",\"\",(INDIRECT(\"'\"&Lists!$J71&\"'!\"&Lists!$K71&T$23))))","v":""},{"$f":"IF(ISNA(Lists!$J71),\"\",IF((INDIRECT(\"'\"&Lists!$J71&\"'!\"&Lists!$K71&U$23))=\"\",\"\",(INDIRECT(\"'\"&Lists!$J71&\"'!\"&Lists!$K71&U$23))))","v":""},{"$f":"IF(ISNA(Lists!$J71),\"\",IF((INDIRECT(\"'\"&Lists!$J71&\"'!\"&Lists!$L71&V$23))=\"\",\"\",(INDIRECT(\"'\"&Lists!$J71&\"'!\"&Lists!$L71&V$23))))","v":""},{"$f":"IF(ISNA(Lists!$J71),\"\",IF((INDIRECT(\"'\"&Lists!$J71&\"'!\"&Lists!$L71&W$23))=\"\",\"\",(INDIRECT(\"'\"&Lists!$J71&\"'!\"&Lists!$L71&W$23))))","v":""},{"$f":"IF(ISNA(Lists!$J71),\"\",IF((INDIRECT(\"'\"&Lists!$J71&\"'!\"&Lists!$L71&X$23))=\"\",\"\",(INDIRECT(\"'\"&Lists!$J71&\"'!\"&Lists!$L71&X$23))))","v":""},{"$f":"IF(ISNA(Lists!$J71),\"\",IF((INDIRECT(\"'\"&Lists!$J71&\"'!\"&Lists!$L71&Y$23))=\"\",\"\",(INDIRECT(\"'\"&Lists!$J71&\"'!\"&Lists!$L71&Y$23))))","v":""},{"$f":"IF(ISNA(Lists!$J71),\"\",IF((INDIRECT(\"'\"&Lists!$J71&\"'!\"&Lists!$L71&Z$23))=\"\",\"\",(INDIRECT(\"'\"&Lists!$J71&\"'!\"&Lists!$L71&Z$23))))","v":""},{"$f":"IF(ISNA(Lists!$J71),\"\",IF((INDIRECT(\"'\"&Lists!$J71&\"'!\"&Lists!$L71&AA$23))=\"\",\"\",(INDIRECT(\"'\"&Lists!$J71&\"'!\"&Lists!$L71&AA$23))))","v":""},{"$f":"IF(ISNA(Lists!$J71),\"\",IF((INDIRECT(\"'\"&Lists!$J71&\"'!\"&Lists!$L71&AB$23))=\"\",\"\",(INDIRECT(\"'\"&Lists!$J71&\"'!\"&Lists!$L71&AB$23))))","v":""},{"$f":"IF(ISNA(Lists!$J71),\"\",IF((INDIRECT(\"'\"&Lists!$J71&\"'!\"&Lists!$K71&AC$23))=\"\",\"\",(INDIRECT(\"'\"&Lists!$J71&\"'!\"&Lists!$K71&AC$23))))","v":""},{"$f":"IF(ISNA(Lists!$J71),\"\",IF((INDIRECT(\"'\"&Lists!$J71&\"'!\"&Lists!$L71&AD$23))=\"\",\"\",(INDIRECT(\"'\"&Lists!$J71&\"'!\"&Lists!$L71&AD$23))))","v":""},{"$f":"IF(ISNA(Lists!$J71),\"\",IF((INDIRECT(\"'\"&Lists!$J71&\"'!\"&Lists!$K71&AE$23))=\"\",\"\",(INDIRECT(\"'\"&Lists!$J71&\"'!\"&Lists!$K71&AE$23))))","v":""},{"$f":"IF(ISNA(Lists!$J71),\"\",IF((INDIRECT(\"'\"&Lists!$J71&\"'!\"&Lists!$K71&AF$23))=\"\",\"\",(INDIRECT(\"'\"&Lists!$J71&\"'!\"&Lists!$K71&AF$23))))","v":""},{"$f":"IF(ISNA(Lists!$J71),\"\",IF((INDIRECT(\"'\"&Lists!$J71&\"'!\"&Lists!$K71&AG$23))=\"\",\"\",(INDIRECT(\"'\"&Lists!$J71&\"'!\"&Lists!$K71&AG$23))))","v":""},{"$f":"IF(ISNA(Lists!$J71),\"\",IF((INDIRECT(\"'\"&Lists!$J71&\"'!\"&Lists!$K71&AH$23))=\"\",\"\",(INDIRECT(\"'\"&Lists!$J71&\"'!\"&Lists!$K71&AH$23))))","v":""},{"$f":"IF(ISNA(Lists!$J71),\"\",IF((INDIRECT(\"'\"&Lists!$J71&\"'!\"&Lists!$K71&AI$23))=\"\",\"\",(INDIRECT(\"'\"&Lists!$J71&\"'!\"&Lists!$K71&AI$23))))","v":""},{"$f":"IF(ISNA(Lists!$J71),\"\",IF((INDIRECT(\"'\"&Lists!$J71&\"'!\"&Lists!$K71&AJ$23))=\"\",\"\",(INDIRECT(\"'\"&Lists!$J71&\"'!\"&Lists!$K71&AJ$23))))","v":""},{"$f":"IF(ISNA(Lists!$J71),\"\",IF((INDIRECT(\"'\"&Lists!$J71&\"'!\"&Lists!$K71&AK$23))=\"\",\"\",(INDIRECT(\"'\"&Lists!$J71&\"'!\"&Lists!$K71&AK$23))))","v":""},{"$f":"IF(ISNA(Lists!$J71),\"\",IF((INDIRECT(\"'\"&Lists!$J71&\"'!\"&Lists!$K71&AL$23))=\"\",\"\",(INDIRECT(\"'\"&Lists!$J71&\"'!\"&Lists!$K71&AL$23))))","v":""},{"$f":"IF(ISNA(Lists!$J71),\"\",IF((INDIRECT(\"'\"&Lists!$J71&\"'!\"&Lists!$K71&AM$23))=\"\",\"\",(INDIRECT(\"'\"&Lists!$J71&\"'!\"&Lists!$K71&AM$23))))","v":""},{"$f":"IF(ISNA(Lists!$J71),\"\",IF((INDIRECT(\"'\"&Lists!$J71&\"'!\"&Lists!$K71&AN$23))=\"\",\"\",(INDIRECT(\"'\"&Lists!$J71&\"'!\"&Lists!$K71&AN$23))))","v":""},{"$f":"IF(ISNA(Lists!$J71),\"\",IF((INDIRECT(\"'\"&Lists!$J71&\"'!\"&Lists!$K71&AO$23))=\"\",\"\",(INDIRECT(\"'\"&Lists!$J71&\"'!\"&Lists!$K71&AO$23))))","v":""}]
[null,{"$f":"IF(C94=\"\",\"\",Facility_Info_upload!$B$24)","v":""},{"$f":"IF(ISNA(Lists!$J72),\"\",IF(INDIRECT(\"'\"&Lists!$J72&\"'!\"&\"B\"&C$23)=\"\",\"\",(INDIRECT(\"'\"&Lists!$J72&\"'!\"&\"B\"&C$23))))","v":""},{"$f":"IF(ISNA(Lists!$J72),\"\",IF(INDIRECT(\"'\"&Lists!$J72&\"'!\"&\"B\"&D$23)=\"\",\"\",(INDIRECT(\"'\"&Lists!$J72&\"'!\"&\"B\"&D$23))))","v":""},{"$f":"IF(ISNA(Lists!$J72),\"\",IF(INDIRECT(\"'\"&Lists!$J72&\"'!\"&\"B\"&E$23)=\"\",\"\",(INDIRECT(\"'\"&Lists!$J72&\"'!\"&\"B\"&E$23))))","v":""},{"$f":"IF(ISNA(Lists!$J72),\"\",IF(INDIRECT(\"'\"&Lists!$J72&\"'!\"&\"B\"&F$23)=\"\",\"\",(INDIRECT(\"'\"&Lists!$J72&\"'!\"&\"B\"&F$23))))","v":""},{"$f":"IF(ISNA(Lists!$J72),\"\",IF(INDIRECT(\"'\"&Lists!$J72&\"'!\"&\"B\"&G$23)=\"\",\"\",(INDIRECT(\"'\"&Lists!$J72&\"'!\"&\"B\"&G$23))))","v":""},{"$f":"IF(ISNA(Lists!$J72),\"\",IF((INDIRECT(\"'\"&Lists!$J72&\"'!\"&Lists!$K72&H$23))=\"\",\"\",(INDIRECT(\"'\"&Lists!$J72&\"'!\"&Lists!$K72&H$23))))","v":""},{"$f":"IF(ISNA(Lists!$J72),\"\",IF((INDIRECT(\"'\"&Lists!$J72&\"'!\"&Lists!$K72&I$23))=\"\",\"\",(INDIRECT(\"'\"&Lists!$J72&\"'!\"&Lists!$K72&I$23))))","v":""},{"$f":"IF(ISNA(Lists!$J72),\"\",IF((INDIRECT(\"'\"&Lists!$J72&\"'!\"&Lists!$K72&J$23))=\"\",\"\",(INDIRECT(\"'\"&Lists!$J72&\"'!\"&Lists!$K72&J$23))))","v":""},{"$f":"IF(ISNA(Lists!$J72),\"\",IF((INDIRECT(\"'\"&Lists!$J72&\"'!\"&Lists!$K72&K$23))=\"\",\"\",(INDIRECT(\"'\"&Lists!$J72&\"'!\"&Lists!$K72&K$23))))","v":""},{"$f":"IF(ISNA(Lists!$J72),\"\",IF((INDIRECT(\"'\"&Lists!$J72&\"'!\"&Lists!$K72&L$23))=\"\",\"\",(INDIRECT(\"'\"&Lists!$J72&\"'!\"&Lists!$K72&L$23))))","v":""},{"$f":"IF(ISNA(Lists!$J72),\"\",IF((INDIRECT(\"'\"&Lists!$J72&\"'!\"&Lists!$K72&M$23))=\"\",\"\",(INDIRECT(\"'\"&Lists!$J72&\"'!\"&Lists!$K72&M$23))))","v":""},{"$f":"IF(ISNA(Lists!$J72),\"\",IF((INDIRECT(\"'\"&Lists!$J72&\"'!\"&Lists!$K72&N$23))=\"\",\"\",(INDIRECT(\"'\"&Lists!$J72&\"'!\"&Lists!$K72&N$23))))","v":""},{"$f":"IF(ISNA(Lists!$J72),\"\",IF((INDIRECT(\"'\"&Lists!$J72&\"'!\"&Lists!$K72&O$23))=\"\",\"\",(INDIRECT(\"'\"&Lists!$J72&\"'!\"&Lists!$K72&O$23))))","v":""},{"$f":"IF(ISNA(Lists!$J72),\"\",IF((INDIRECT(\"'\"&Lists!$J72&\"'!\"&Lists!$K72&P$23))=\"\",\"\",(INDIRECT(\"'\"&Lists!$J72&\"'!\"&Lists!$K72&P$23))))","v":""},{"$f":"IF(ISNA(Lists!$J72),\"\",IF((INDIRECT(\"'\"&Lists!$J72&\"'!\"&Lists!$K72&Q$23))=\"\",\"\",(INDIRECT(\"'\"&Lists!$J72&\"'!\"&Lists!$K72&Q$23))))","v":""},{"$f":"IF(ISNA(Lists!$J72),\"\",IF((INDIRECT(\"'\"&Lists!$J72&\"'!\"&Lists!$K72&R$23))=\"\",\"\",(INDIRECT(\"'\"&Lists!$J72&\"'!\"&Lists!$K72&R$23))))","v":""},{"$f":"IF(ISNA(Lists!$J72),\"\",IF((INDIRECT(\"'\"&Lists!$J72&\"'!\"&Lists!$K72&S$23))=\"\",\"\",(INDIRECT(\"'\"&Lists!$J72&\"'!\"&Lists!$K72&S$23))))","v":""},{"$f":"IF(ISNA(Lists!$J72),\"\",IF((INDIRECT(\"'\"&Lists!$J72&\"'!\"&Lists!$K72&T$23))=\"\",\"\",(INDIRECT(\"'\"&Lists!$J72&\"'!\"&Lists!$K72&T$23))))","v":""},{"$f":"IF(ISNA(Lists!$J72),\"\",IF((INDIRECT(\"'\"&Lists!$J72&\"'!\"&Lists!$K72&U$23))=\"\",\"\",(INDIRECT(\"'\"&Lists!$J72&\"'!\"&Lists!$K72&U$23))))","v":""},{"$f":"IF(ISNA(Lists!$J72),\"\",IF((INDIRECT(\"'\"&Lists!$J72&\"'!\"&Lists!$L72&V$23))=\"\",\"\",(INDIRECT(\"'\"&Lists!$J72&\"'!\"&Lists!$L72&V$23))))","v":""},{"$f":"IF(ISNA(Lists!$J72),\"\",IF((INDIRECT(\"'\"&Lists!$J72&\"'!\"&Lists!$L72&W$23))=\"\",\"\",(INDIRECT(\"'\"&Lists!$J72&\"'!\"&Lists!$L72&W$23))))","v":""},{"$f":"IF(ISNA(Lists!$J72),\"\",IF((INDIRECT(\"'\"&Lists!$J72&\"'!\"&Lists!$L72&X$23))=\"\",\"\",(INDIRECT(\"'\"&Lists!$J72&\"'!\"&Lists!$L72&X$23))))","v":""},{"$f":"IF(ISNA(Lists!$J72),\"\",IF((INDIRECT(\"'\"&Lists!$J72&\"'!\"&Lists!$L72&Y$23))=\"\",\"\",(INDIRECT(\"'\"&Lists!$J72&\"'!\"&Lists!$L72&Y$23))))","v":""},{"$f":"IF(ISNA(Lists!$J72),\"\",IF((INDIRECT(\"'\"&Lists!$J72&\"'!\"&Lists!$L72&Z$23))=\"\",\"\",(INDIRECT(\"'\"&Lists!$J72&\"'!\"&Lists!$L72&Z$23))))","v":""},{"$f":"IF(ISNA(Lists!$J72),\"\",IF((INDIRECT(\"'\"&Lists!$J72&\"'!\"&Lists!$L72&AA$23))=\"\",\"\",(INDIRECT(\"'\"&Lists!$J72&\"'!\"&Lists!$L72&AA$23))))","v":""},{"$f":"IF(ISNA(Lists!$J72),\"\",IF((INDIRECT(\"'\"&Lists!$J72&\"'!\"&Lists!$L72&AB$23))=\"\",\"\",(INDIRECT(\"'\"&Lists!$J72&\"'!\"&Lists!$L72&AB$23))))","v":""},{"$f":"IF(ISNA(Lists!$J72),\"\",IF((INDIRECT(\"'\"&Lists!$J72&\"'!\"&Lists!$K72&AC$23))=\"\",\"\",(INDIRECT(\"'\"&Lists!$J72&\"'!\"&Lists!$K72&AC$23))))","v":""},{"$f":"IF(ISNA(Lists!$J72),\"\",IF((INDIRECT(\"'\"&Lists!$J72&\"'!\"&Lists!$L72&AD$23))=\"\",\"\",(INDIRECT(\"'\"&Lists!$J72&\"'!\"&Lists!$L72&AD$23))))","v":""},{"$f":"IF(ISNA(Lists!$J72),\"\",IF((INDIRECT(\"'\"&Lists!$J72&\"'!\"&Lists!$K72&AE$23))=\"\",\"\",(INDIRECT(\"'\"&Lists!$J72&\"'!\"&Lists!$K72&AE$23))))","v":""},{"$f":"IF(ISNA(Lists!$J72),\"\",IF((INDIRECT(\"'\"&Lists!$J72&\"'!\"&Lists!$K72&AF$23))=\"\",\"\",(INDIRECT(\"'\"&Lists!$J72&\"'!\"&Lists!$K72&AF$23))))","v":""},{"$f":"IF(ISNA(Lists!$J72),\"\",IF((INDIRECT(\"'\"&Lists!$J72&\"'!\"&Lists!$K72&AG$23))=\"\",\"\",(INDIRECT(\"'\"&Lists!$J72&\"'!\"&Lists!$K72&AG$23))))","v":""},{"$f":"IF(ISNA(Lists!$J72),\"\",IF((INDIRECT(\"'\"&Lists!$J72&\"'!\"&Lists!$K72&AH$23))=\"\",\"\",(INDIRECT(\"'\"&Lists!$J72&\"'!\"&Lists!$K72&AH$23))))","v":""},{"$f":"IF(ISNA(Lists!$J72),\"\",IF((INDIRECT(\"'\"&Lists!$J72&\"'!\"&Lists!$K72&AI$23))=\"\",\"\",(INDIRECT(\"'\"&Lists!$J72&\"'!\"&Lists!$K72&AI$23))))","v":""},{"$f":"IF(ISNA(Lists!$J72),\"\",IF((INDIRECT(\"'\"&Lists!$J72&\"'!\"&Lists!$K72&AJ$23))=\"\",\"\",(INDIRECT(\"'\"&Lists!$J72&\"'!\"&Lists!$K72&AJ$23))))","v":""},{"$f":"IF(ISNA(Lists!$J72),\"\",IF((INDIRECT(\"'\"&Lists!$J72&\"'!\"&Lists!$K72&AK$23))=\"\",\"\",(INDIRECT(\"'\"&Lists!$J72&\"'!\"&Lists!$K72&AK$23))))","v":""},{"$f":"IF(ISNA(Lists!$J72),\"\",IF((INDIRECT(\"'\"&Lists!$J72&\"'!\"&Lists!$K72&AL$23))=\"\",\"\",(INDIRECT(\"'\"&Lists!$J72&\"'!\"&Lists!$K72&AL$23))))","v":""},{"$f":"IF(ISNA(Lists!$J72),\"\",IF((INDIRECT(\"'\"&Lists!$J72&\"'!\"&Lists!$K72&AM$23))=\"\",\"\",(INDIRECT(\"'\"&Lists!$J72&\"'!\"&Lists!$K72&AM$23))))","v":""},{"$f":"IF(ISNA(Lists!$J72),\"\",IF((INDIRECT(\"'\"&Lists!$J72&\"'!\"&Lists!$K72&AN$23))=\"\",\"\",(INDIRECT(\"'\"&Lists!$J72&\"'!\"&Lists!$K72&AN$23))))","v":""},{"$f":"IF(ISNA(Lists!$J72),\"\",IF((INDIRECT(\"'\"&Lists!$J72&\"'!\"&Lists!$K72&AO$23))=\"\",\"\",(INDIRECT(\"'\"&Lists!$J72&\"'!\"&Lists!$K72&AO$23))))","v":""}]
[null,{"$f":"IF(C95=\"\",\"\",Facility_Info_upload!$B$24)","v":""},{"$f":"IF(ISNA(Lists!$J73),\"\",IF(INDIRECT(\"'\"&Lists!$J73&\"'!\"&\"B\"&C$23)=\"\",\"\",(INDIRECT(\"'\"&Lists!$J73&\"'!\"&\"B\"&C$23))))","v":""},{"$f":"IF(ISNA(Lists!$J73),\"\",IF(INDIRECT(\"'\"&Lists!$J73&\"'!\"&\"B\"&D$23)=\"\",\"\",(INDIRECT(\"'\"&Lists!$J73&\"'!\"&\"B\"&D$23))))","v":""},{"$f":"IF(ISNA(Lists!$J73),\"\",IF(INDIRECT(\"'\"&Lists!$J73&\"'!\"&\"B\"&E$23)=\"\",\"\",(INDIRECT(\"'\"&Lists!$J73&\"'!\"&\"B\"&E$23))))","v":""},{"$f":"IF(ISNA(Lists!$J73),\"\",IF(INDIRECT(\"'\"&Lists!$J73&\"'!\"&\"B\"&F$23)=\"\",\"\",(INDIRECT(\"'\"&Lists!$J73&\"'!\"&\"B\"&F$23))))","v":""},{"$f":"IF(ISNA(Lists!$J73),\"\",IF(INDIRECT(\"'\"&Lists!$J73&\"'!\"&\"B\"&G$23)=\"\",\"\",(INDIRECT(\"'\"&Lists!$J73&\"'!\"&\"B\"&G$23))))","v":""},{"$f":"IF(ISNA(Lists!$J73),\"\",IF((INDIRECT(\"'\"&Lists!$J73&\"'!\"&Lists!$K73&H$23))=\"\",\"\",(INDIRECT(\"'\"&Lists!$J73&\"'!\"&Lists!$K73&H$23))))","v":""},{"$f":"IF(ISNA(Lists!$J73),\"\",IF((INDIRECT(\"'\"&Lists!$J73&\"'!\"&Lists!$K73&I$23))=\"\",\"\",(INDIRECT(\"'\"&Lists!$J73&\"'!\"&Lists!$K73&I$23))))","v":""},{"$f":"IF(ISNA(Lists!$J73),\"\",IF((INDIRECT(\"'\"&Lists!$J73&\"'!\"&Lists!$K73&J$23))=\"\",\"\",(INDIRECT(\"'\"&Lists!$J73&\"'!\"&Lists!$K73&J$23))))","v":""},{"$f":"IF(ISNA(Lists!$J73),\"\",IF((INDIRECT(\"'\"&Lists!$J73&\"'!\"&Lists!$K73&K$23))=\"\",\"\",(INDIRECT(\"'\"&Lists!$J73&\"'!\"&Lists!$K73&K$23))))","v":""},{"$f":"IF(ISNA(Lists!$J73),\"\",IF((INDIRECT(\"'\"&Lists!$J73&\"'!\"&Lists!$K73&L$23))=\"\",\"\",(INDIRECT(\"'\"&Lists!$J73&\"'!\"&Lists!$K73&L$23))))","v":""},{"$f":"IF(ISNA(Lists!$J73),\"\",IF((INDIRECT(\"'\"&Lists!$J73&\"'!\"&Lists!$K73&M$23))=\"\",\"\",(INDIRECT(\"'\"&Lists!$J73&\"'!\"&Lists!$K73&M$23))))","v":""},{"$f":"IF(ISNA(Lists!$J73),\"\",IF((INDIRECT(\"'\"&Lists!$J73&\"'!\"&Lists!$K73&N$23))=\"\",\"\",(INDIRECT(\"'\"&Lists!$J73&\"'!\"&Lists!$K73&N$23))))","v":""},{"$f":"IF(ISNA(Lists!$J73),\"\",IF((INDIRECT(\"'\"&Lists!$J73&\"'!\"&Lists!$K73&O$23))=\"\",\"\",(INDIRECT(\"'\"&Lists!$J73&\"'!\"&Lists!$K73&O$23))))","v":""},{"$f":"IF(ISNA(Lists!$J73),\"\",IF((INDIRECT(\"'\"&Lists!$J73&\"'!\"&Lists!$K73&P$23))=\"\",\"\",(INDIRECT(\"'\"&Lists!$J73&\"'!\"&Lists!$K73&P$23))))","v":""},{"$f":"IF(ISNA(Lists!$J73),\"\",IF((INDIRECT(\"'\"&Lists!$J73&\"'!\"&Lists!$K73&Q$23))=\"\",\"\",(INDIRECT(\"'\"&Lists!$J73&\"'!\"&Lists!$K73&Q$23))))","v":""},{"$f":"IF(ISNA(Lists!$J73),\"\",IF((INDIRECT(\"'\"&Lists!$J73&\"'!\"&Lists!$K73&R$23))=\"\",\"\",(INDIRECT(\"'\"&Lists!$J73&\"'!\"&Lists!$K73&R$23))))","v":""},{"$f":"IF(ISNA(Lists!$J73),\"\",IF((INDIRECT(\"'\"&Lists!$J73&\"'!\"&Lists!$K73&S$23))=\"\",\"\",(INDIRECT(\"'\"&Lists!$J73&\"'!\"&Lists!$K73&S$23))))","v":""},{"$f":"IF(ISNA(Lists!$J73),\"\",IF((INDIRECT(\"'\"&Lists!$J73&\"'!\"&Lists!$K73&T$23))=\"\",\"\",(INDIRECT(\"'\"&Lists!$J73&\"'!\"&Lists!$K73&T$23))))","v":""},{"$f":"IF(ISNA(Lists!$J73),\"\",IF((INDIRECT(\"'\"&Lists!$J73&\"'!\"&Lists!$K73&U$23))=\"\",\"\",(INDIRECT(\"'\"&Lists!$J73&\"'!\"&Lists!$K73&U$23))))","v":""},{"$f":"IF(ISNA(Lists!$J73),\"\",IF((INDIRECT(\"'\"&Lists!$J73&\"'!\"&Lists!$L73&V$23))=\"\",\"\",(INDIRECT(\"'\"&Lists!$J73&\"'!\"&Lists!$L73&V$23))))","v":""},{"$f":"IF(ISNA(Lists!$J73),\"\",IF((INDIRECT(\"'\"&Lists!$J73&\"'!\"&Lists!$L73&W$23))=\"\",\"\",(INDIRECT(\"'\"&Lists!$J73&\"'!\"&Lists!$L73&W$23))))","v":""},{"$f":"IF(ISNA(Lists!$J73),\"\",IF((INDIRECT(\"'\"&Lists!$J73&\"'!\"&Lists!$L73&X$23))=\"\",\"\",(INDIRECT(\"'\"&Lists!$J73&\"'!\"&Lists!$L73&X$23))))","v":""},{"$f":"IF(ISNA(Lists!$J73),\"\",IF((INDIRECT(\"'\"&Lists!$J73&\"'!\"&Lists!$L73&Y$23))=\"\",\"\",(INDIRECT(\"'\"&Lists!$J73&\"'!\"&Lists!$L73&Y$23))))","v":""},{"$f":"IF(ISNA(Lists!$J73),\"\",IF((INDIRECT(\"'\"&Lists!$J73&\"'!\"&Lists!$L73&Z$23))=\"\",\"\",(INDIRECT(\"'\"&Lists!$J73&\"'!\"&Lists!$L73&Z$23))))","v":""},{"$f":"IF(ISNA(Lists!$J73),\"\",IF((INDIRECT(\"'\"&Lists!$J73&\"'!\"&Lists!$L73&AA$23))=\"\",\"\",(INDIRECT(\"'\"&Lists!$J73&\"'!\"&Lists!$L73&AA$23))))","v":""},{"$f":"IF(ISNA(Lists!$J73),\"\",IF((INDIRECT(\"'\"&Lists!$J73&\"'!\"&Lists!$L73&AB$23))=\"\",\"\",(INDIRECT(\"'\"&Lists!$J73&\"'!\"&Lists!$L73&AB$23))))","v":""},{"$f":"IF(ISNA(Lists!$J73),\"\",IF((INDIRECT(\"'\"&Lists!$J73&\"'!\"&Lists!$K73&AC$23))=\"\",\"\",(INDIRECT(\"'\"&Lists!$J73&\"'!\"&Lists!$K73&AC$23))))","v":""},{"$f":"IF(ISNA(Lists!$J73),\"\",IF((INDIRECT(\"'\"&Lists!$J73&\"'!\"&Lists!$L73&AD$23))=\"\",\"\",(INDIRECT(\"'\"&Lists!$J73&\"'!\"&Lists!$L73&AD$23))))","v":""},{"$f":"IF(ISNA(Lists!$J73),\"\",IF((INDIRECT(\"'\"&Lists!$J73&\"'!\"&Lists!$K73&AE$23))=\"\",\"\",(INDIRECT(\"'\"&Lists!$J73&\"'!\"&Lists!$K73&AE$23))))","v":""},{"$f":"IF(ISNA(Lists!$J73),\"\",IF((INDIRECT(\"'\"&Lists!$J73&\"'!\"&Lists!$K73&AF$23))=\"\",\"\",(INDIRECT(\"'\"&Lists!$J73&\"'!\"&Lists!$K73&AF$23))))","v":""},{"$f":"IF(ISNA(Lists!$J73),\"\",IF((INDIRECT(\"'\"&Lists!$J73&\"'!\"&Lists!$K73&AG$23))=\"\",\"\",(INDIRECT(\"'\"&Lists!$J73&\"'!\"&Lists!$K73&AG$23))))","v":""},{"$f":"IF(ISNA(Lists!$J73),\"\",IF((INDIRECT(\"'\"&Lists!$J73&\"'!\"&Lists!$K73&AH$23))=\"\",\"\",(INDIRECT(\"'\"&Lists!$J73&\"'!\"&Lists!$K73&AH$23))))","v":""},{"$f":"IF(ISNA(Lists!$J73),\"\",IF((INDIRECT(\"'\"&Lists!$J73&\"'!\"&Lists!$K73&AI$23))=\"\",\"\",(INDIRECT(\"'\"&Lists!$J73&\"'!\"&Lists!$K73&AI$23))))","v":""},{"$f":"IF(ISNA(Lists!$J73),\"\",IF((INDIRECT(\"'\"&Lists!$J73&\"'!\"&Lists!$K73&AJ$23))=\"\",\"\",(INDIRECT(\"'\"&Lists!$J73&\"'!\"&Lists!$K73&AJ$23))))","v":""},{"$f":"IF(ISNA(Lists!$J73),\"\",IF((INDIRECT(\"'\"&Lists!$J73&\"'!\"&Lists!$K73&AK$23))=\"\",\"\",(INDIRECT(\"'\"&Lists!$J73&\"'!\"&Lists!$K73&AK$23))))","v":""},{"$f":"IF(ISNA(Lists!$J73),\"\",IF((INDIRECT(\"'\"&Lists!$J73&\"'!\"&Lists!$K73&AL$23))=\"\",\"\",(INDIRECT(\"'\"&Lists!$J73&\"'!\"&Lists!$K73&AL$23))))","v":""},{"$f":"IF(ISNA(Lists!$J73),\"\",IF((INDIRECT(\"'\"&Lists!$J73&\"'!\"&Lists!$K73&AM$23))=\"\",\"\",(INDIRECT(\"'\"&Lists!$J73&\"'!\"&Lists!$K73&AM$23))))","v":""},{"$f":"IF(ISNA(Lists!$J73),\"\",IF((INDIRECT(\"'\"&Lists!$J73&\"'!\"&Lists!$K73&AN$23))=\"\",\"\",(INDIRECT(\"'\"&Lists!$J73&\"'!\"&Lists!$K73&AN$23))))","v":""},{"$f":"IF(ISNA(Lists!$J73),\"\",IF((INDIRECT(\"'\"&Lists!$J73&\"'!\"&Lists!$K73&AO$23))=\"\",\"\",(INDIRECT(\"'\"&Lists!$J73&\"'!\"&Lists!$K73&AO$23))))","v":""}]
[null,{"$f":"IF(C96=\"\",\"\",Facility_Info_upload!$B$24)","v":""},{"$f":"IF(ISNA(Lists!$J74),\"\",IF(INDIRECT(\"'\"&Lists!$J74&\"'!\"&\"B\"&C$23)=\"\",\"\",(INDIRECT(\"'\"&Lists!$J74&\"'!\"&\"B\"&C$23))))","v":""},{"$f":"IF(ISNA(Lists!$J74),\"\",IF(INDIRECT(\"'\"&Lists!$J74&\"'!\"&\"B\"&D$23)=\"\",\"\",(INDIRECT(\"'\"&Lists!$J74&\"'!\"&\"B\"&D$23))))","v":""},{"$f":"IF(ISNA(Lists!$J74),\"\",IF(INDIRECT(\"'\"&Lists!$J74&\"'!\"&\"B\"&E$23)=\"\",\"\",(INDIRECT(\"'\"&Lists!$J74&\"'!\"&\"B\"&E$23))))","v":""},{"$f":"IF(ISNA(Lists!$J74),\"\",IF(INDIRECT(\"'\"&Lists!$J74&\"'!\"&\"B\"&F$23)=\"\",\"\",(INDIRECT(\"'\"&Lists!$J74&\"'!\"&\"B\"&F$23))))","v":""},{"$f":"IF(ISNA(Lists!$J74),\"\",IF(INDIRECT(\"'\"&Lists!$J74&\"'!\"&\"B\"&G$23)=\"\",\"\",(INDIRECT(\"'\"&Lists!$J74&\"'!\"&\"B\"&G$23))))","v":""},{"$f":"IF(ISNA(Lists!$J74),\"\",IF((INDIRECT(\"'\"&Lists!$J74&\"'!\"&Lists!$K74&H$23))=\"\",\"\",(INDIRECT(\"'\"&Lists!$J74&\"'!\"&Lists!$K74&H$23))))","v":""},{"$f":"IF(ISNA(Lists!$J74),\"\",IF((INDIRECT(\"'\"&Lists!$J74&\"'!\"&Lists!$K74&I$23))=\"\",\"\",(INDIRECT(\"'\"&Lists!$J74&\"'!\"&Lists!$K74&I$23))))","v":""},{"$f":"IF(ISNA(Lists!$J74),\"\",IF((INDIRECT(\"'\"&Lists!$J74&\"'!\"&Lists!$K74&J$23))=\"\",\"\",(INDIRECT(\"'\"&Lists!$J74&\"'!\"&Lists!$K74&J$23))))","v":""},{"$f":"IF(ISNA(Lists!$J74),\"\",IF((INDIRECT(\"'\"&Lists!$J74&\"'!\"&Lists!$K74&K$23))=\"\",\"\",(INDIRECT(\"'\"&Lists!$J74&\"'!\"&Lists!$K74&K$23))))","v":""},{"$f":"IF(ISNA(Lists!$J74),\"\",IF((INDIRECT(\"'\"&Lists!$J74&\"'!\"&Lists!$K74&L$23))=\"\",\"\",(INDIRECT(\"'\"&Lists!$J74&\"'!\"&Lists!$K74&L$23))))","v":""},{"$f":"IF(ISNA(Lists!$J74),\"\",IF((INDIRECT(\"'\"&Lists!$J74&\"'!\"&Lists!$K74&M$23))=\"\",\"\",(INDIRECT(\"'\"&Lists!$J74&\"'!\"&Lists!$K74&M$23))))","v":""},{"$f":"IF(ISNA(Lists!$J74),\"\",IF((INDIRECT(\"'\"&Lists!$J74&\"'!\"&Lists!$K74&N$23))=\"\",\"\",(INDIRECT(\"'\"&Lists!$J74&\"'!\"&Lists!$K74&N$23))))","v":""},{"$f":"IF(ISNA(Lists!$J74),\"\",IF((INDIRECT(\"'\"&Lists!$J74&\"'!\"&Lists!$K74&O$23))=\"\",\"\",(INDIRECT(\"'\"&Lists!$J74&\"'!\"&Lists!$K74&O$23))))","v":""},{"$f":"IF(ISNA(Lists!$J74),\"\",IF((INDIRECT(\"'\"&Lists!$J74&\"'!\"&Lists!$K74&P$23))=\"\",\"\",(INDIRECT(\"'\"&Lists!$J74&\"'!\"&Lists!$K74&P$23))))","v":""},{"$f":"IF(ISNA(Lists!$J74),\"\",IF((INDIRECT(\"'\"&Lists!$J74&\"'!\"&Lists!$K74&Q$23))=\"\",\"\",(INDIRECT(\"'\"&Lists!$J74&\"'!\"&Lists!$K74&Q$23))))","v":""},{"$f":"IF(ISNA(Lists!$J74),\"\",IF((INDIRECT(\"'\"&Lists!$J74&\"'!\"&Lists!$K74&R$23))=\"\",\"\",(INDIRECT(\"'\"&Lists!$J74&\"'!\"&Lists!$K74&R$23))))","v":""},{"$f":"IF(ISNA(Lists!$J74),\"\",IF((INDIRECT(\"'\"&Lists!$J74&\"'!\"&Lists!$K74&S$23))=\"\",\"\",(INDIRECT(\"'\"&Lists!$J74&\"'!\"&Lists!$K74&S$23))))","v":""},{"$f":"IF(ISNA(Lists!$J74),\"\",IF((INDIRECT(\"'\"&Lists!$J74&\"'!\"&Lists!$K74&T$23))=\"\",\"\",(INDIRECT(\"'\"&Lists!$J74&\"'!\"&Lists!$K74&T$23))))","v":""},{"$f":"IF(ISNA(Lists!$J74),\"\",IF((INDIRECT(\"'\"&Lists!$J74&\"'!\"&Lists!$K74&U$23))=\"\",\"\",(INDIRECT(\"'\"&Lists!$J74&\"'!\"&Lists!$K74&U$23))))","v":""},{"$f":"IF(ISNA(Lists!$J74),\"\",IF((INDIRECT(\"'\"&Lists!$J74&\"'!\"&Lists!$L74&V$23))=\"\",\"\",(INDIRECT(\"'\"&Lists!$J74&\"'!\"&Lists!$L74&V$23))))","v":""},{"$f":"IF(ISNA(Lists!$J74),\"\",IF((INDIRECT(\"'\"&Lists!$J74&\"'!\"&Lists!$L74&W$23))=\"\",\"\",(INDIRECT(\"'\"&Lists!$J74&\"'!\"&Lists!$L74&W$23))))","v":""},{"$f":"IF(ISNA(Lists!$J74),\"\",IF((INDIRECT(\"'\"&Lists!$J74&\"'!\"&Lists!$L74&X$23))=\"\",\"\",(INDIRECT(\"'\"&Lists!$J74&\"'!\"&Lists!$L74&X$23))))","v":""},{"$f":"IF(ISNA(Lists!$J74),\"\",IF((INDIRECT(\"'\"&Lists!$J74&\"'!\"&Lists!$L74&Y$23))=\"\",\"\",(INDIRECT(\"'\"&Lists!$J74&\"'!\"&Lists!$L74&Y$23))))","v":""},{"$f":"IF(ISNA(Lists!$J74),\"\",IF((INDIRECT(\"'\"&Lists!$J74&\"'!\"&Lists!$L74&Z$23))=\"\",\"\",(INDIRECT(\"'\"&Lists!$J74&\"'!\"&Lists!$L74&Z$23))))","v":""},{"$f":"IF(ISNA(Lists!$J74),\"\",IF((INDIRECT(\"'\"&Lists!$J74&\"'!\"&Lists!$L74&AA$23))=\"\",\"\",(INDIRECT(\"'\"&Lists!$J74&\"'!\"&Lists!$L74&AA$23))))","v":""},{"$f":"IF(ISNA(Lists!$J74),\"\",IF((INDIRECT(\"'\"&Lists!$J74&\"'!\"&Lists!$L74&AB$23))=\"\",\"\",(INDIRECT(\"'\"&Lists!$J74&\"'!\"&Lists!$L74&AB$23))))","v":""},{"$f":"IF(ISNA(Lists!$J74),\"\",IF((INDIRECT(\"'\"&Lists!$J74&\"'!\"&Lists!$K74&AC$23))=\"\",\"\",(INDIRECT(\"'\"&Lists!$J74&\"'!\"&Lists!$K74&AC$23))))","v":""},{"$f":"IF(ISNA(Lists!$J74),\"\",IF((INDIRECT(\"'\"&Lists!$J74&\"'!\"&Lists!$L74&AD$23))=\"\",\"\",(INDIRECT(\"'\"&Lists!$J74&\"'!\"&Lists!$L74&AD$23))))","v":""},{"$f":"IF(ISNA(Lists!$J74),\"\",IF((INDIRECT(\"'\"&Lists!$J74&\"'!\"&Lists!$K74&AE$23))=\"\",\"\",(INDIRECT(\"'\"&Lists!$J74&\"'!\"&Lists!$K74&AE$23))))","v":""},{"$f":"IF(ISNA(Lists!$J74),\"\",IF((INDIRECT(\"'\"&Lists!$J74&\"'!\"&Lists!$K74&AF$23))=\"\",\"\",(INDIRECT(\"'\"&Lists!$J74&\"'!\"&Lists!$K74&AF$23))))","v":""},{"$f":"IF(ISNA(Lists!$J74),\"\",IF((INDIRECT(\"'\"&Lists!$J74&\"'!\"&Lists!$K74&AG$23))=\"\",\"\",(INDIRECT(\"'\"&Lists!$J74&\"'!\"&Lists!$K74&AG$23))))","v":""},{"$f":"IF(ISNA(Lists!$J74),\"\",IF((INDIRECT(\"'\"&Lists!$J74&\"'!\"&Lists!$K74&AH$23))=\"\",\"\",(INDIRECT(\"'\"&Lists!$J74&\"'!\"&Lists!$K74&AH$23))))","v":""},{"$f":"IF(ISNA(Lists!$J74),\"\",IF((INDIRECT(\"'\"&Lists!$J74&\"'!\"&Lists!$K74&AI$23))=\"\",\"\",(INDIRECT(\"'\"&Lists!$J74&\"'!\"&Lists!$K74&AI$23))))","v":""},{"$f":"IF(ISNA(Lists!$J74),\"\",IF((INDIRECT(\"'\"&Lists!$J74&\"'!\"&Lists!$K74&AJ$23))=\"\",\"\",(INDIRECT(\"'\"&Lists!$J74&\"'!\"&Lists!$K74&AJ$23))))","v":""},{"$f":"IF(ISNA(Lists!$J74),\"\",IF((INDIRECT(\"'\"&Lists!$J74&\"'!\"&Lists!$K74&AK$23))=\"\",\"\",(INDIRECT(\"'\"&Lists!$J74&\"'!\"&Lists!$K74&AK$23))))","v":""},{"$f":"IF(ISNA(Lists!$J74),\"\",IF((INDIRECT(\"'\"&Lists!$J74&\"'!\"&Lists!$K74&AL$23))=\"\",\"\",(INDIRECT(\"'\"&Lists!$J74&\"'!\"&Lists!$K74&AL$23))))","v":""},{"$f":"IF(ISNA(Lists!$J74),\"\",IF((INDIRECT(\"'\"&Lists!$J74&\"'!\"&Lists!$K74&AM$23))=\"\",\"\",(INDIRECT(\"'\"&Lists!$J74&\"'!\"&Lists!$K74&AM$23))))","v":""},{"$f":"IF(ISNA(Lists!$J74),\"\",IF((INDIRECT(\"'\"&Lists!$J74&\"'!\"&Lists!$K74&AN$23))=\"\",\"\",(INDIRECT(\"'\"&Lists!$J74&\"'!\"&Lists!$K74&AN$23))))","v":""},{"$f":"IF(ISNA(Lists!$J74),\"\",IF((INDIRECT(\"'\"&Lists!$J74&\"'!\"&Lists!$K74&AO$23))=\"\",\"\",(INDIRECT(\"'\"&Lists!$J74&\"'!\"&Lists!$K74&AO$23))))","v":""}]
[null,{"$f":"IF(C97=\"\",\"\",Facility_Info_upload!$B$24)","v":""},{"$f":"IF(ISNA(Lists!$J75),\"\",IF(INDIRECT(\"'\"&Lists!$J75&\"'!\"&\"B\"&C$23)=\"\",\"\",(INDIRECT(\"'\"&Lists!$J75&\"'!\"&\"B\"&C$23))))","v":""},{"$f":"IF(ISNA(Lists!$J75),\"\",IF(INDIRECT(\"'\"&Lists!$J75&\"'!\"&\"B\"&D$23)=\"\",\"\",(INDIRECT(\"'\"&Lists!$J75&\"'!\"&\"B\"&D$23))))","v":""},{"$f":"IF(ISNA(Lists!$J75),\"\",IF(INDIRECT(\"'\"&Lists!$J75&\"'!\"&\"B\"&E$23)=\"\",\"\",(INDIRECT(\"'\"&Lists!$J75&\"'!\"&\"B\"&E$23))))","v":""},{"$f":"IF(ISNA(Lists!$J75),\"\",IF(INDIRECT(\"'\"&Lists!$J75&\"'!\"&\"B\"&F$23)=\"\",\"\",(INDIRECT(\"'\"&Lists!$J75&\"'!\"&\"B\"&F$23))))","v":""},{"$f":"IF(ISNA(Lists!$J75),\"\",IF(INDIRECT(\"'\"&Lists!$J75&\"'!\"&\"B\"&G$23)=\"\",\"\",(INDIRECT(\"'\"&Lists!$J75&\"'!\"&\"B\"&G$23))))","v":""},{"$f":"IF(ISNA(Lists!$J75),\"\",IF((INDIRECT(\"'\"&Lists!$J75&\"'!\"&Lists!$K75&H$23))=\"\",\"\",(INDIRECT(\"'\"&Lists!$J75&\"'!\"&Lists!$K75&H$23))))","v":""},{"$f":"IF(ISNA(Lists!$J75),\"\",IF((INDIRECT(\"'\"&Lists!$J75&\"'!\"&Lists!$K75&I$23))=\"\",\"\",(INDIRECT(\"'\"&Lists!$J75&\"'!\"&Lists!$K75&I$23))))","v":""},{"$f":"IF(ISNA(Lists!$J75),\"\",IF((INDIRECT(\"'\"&Lists!$J75&\"'!\"&Lists!$K75&J$23))=\"\",\"\",(INDIRECT(\"'\"&Lists!$J75&\"'!\"&Lists!$K75&J$23))))","v":""},{"$f":"IF(ISNA(Lists!$J75),\"\",IF((INDIRECT(\"'\"&Lists!$J75&\"'!\"&Lists!$K75&K$23))=\"\",\"\",(INDIRECT(\"'\"&Lists!$J75&\"'!\"&Lists!$K75&K$23))))","v":""},{"$f":"IF(ISNA(Lists!$J75),\"\",IF((INDIRECT(\"'\"&Lists!$J75&\"'!\"&Lists!$K75&L$23))=\"\",\"\",(INDIRECT(\"'\"&Lists!$J75&\"'!\"&Lists!$K75&L$23))))","v":""},{"$f":"IF(ISNA(Lists!$J75),\"\",IF((INDIRECT(\"'\"&Lists!$J75&\"'!\"&Lists!$K75&M$23))=\"\",\"\",(INDIRECT(\"'\"&Lists!$J75&\"'!\"&Lists!$K75&M$23))))","v":""},{"$f":"IF(ISNA(Lists!$J75),\"\",IF((INDIRECT(\"'\"&Lists!$J75&\"'!\"&Lists!$K75&N$23))=\"\",\"\",(INDIRECT(\"'\"&Lists!$J75&\"'!\"&Lists!$K75&N$23))))","v":""},{"$f":"IF(ISNA(Lists!$J75),\"\",IF((INDIRECT(\"'\"&Lists!$J75&\"'!\"&Lists!$K75&O$23))=\"\",\"\",(INDIRECT(\"'\"&Lists!$J75&\"'!\"&Lists!$K75&O$23))))","v":""},{"$f":"IF(ISNA(Lists!$J75),\"\",IF((INDIRECT(\"'\"&Lists!$J75&\"'!\"&Lists!$K75&P$23))=\"\",\"\",(INDIRECT(\"'\"&Lists!$J75&\"'!\"&Lists!$K75&P$23))))","v":""},{"$f":"IF(ISNA(Lists!$J75),\"\",IF((INDIRECT(\"'\"&Lists!$J75&\"'!\"&Lists!$K75&Q$23))=\"\",\"\",(INDIRECT(\"'\"&Lists!$J75&\"'!\"&Lists!$K75&Q$23))))","v":""},{"$f":"IF(ISNA(Lists!$J75),\"\",IF((INDIRECT(\"'\"&Lists!$J75&\"'!\"&Lists!$K75&R$23))=\"\",\"\",(INDIRECT(\"'\"&Lists!$J75&\"'!\"&Lists!$K75&R$23))))","v":""},{"$f":"IF(ISNA(Lists!$J75),\"\",IF((INDIRECT(\"'\"&Lists!$J75&\"'!\"&Lists!$K75&S$23))=\"\",\"\",(INDIRECT(\"'\"&Lists!$J75&\"'!\"&Lists!$K75&S$23))))","v":""},{"$f":"IF(ISNA(Lists!$J75),\"\",IF((INDIRECT(\"'\"&Lists!$J75&\"'!\"&Lists!$K75&T$23))=\"\",\"\",(INDIRECT(\"'\"&Lists!$J75&\"'!\"&Lists!$K75&T$23))))","v":""},{"$f":"IF(ISNA(Lists!$J75),\"\",IF((INDIRECT(\"'\"&Lists!$J75&\"'!\"&Lists!$K75&U$23))=\"\",\"\",(INDIRECT(\"'\"&Lists!$J75&\"'!\"&Lists!$K75&U$23))))","v":""},{"$f":"IF(ISNA(Lists!$J75),\"\",IF((INDIRECT(\"'\"&Lists!$J75&\"'!\"&Lists!$L75&V$23))=\"\",\"\",(INDIRECT(\"'\"&Lists!$J75&\"'!\"&Lists!$L75&V$23))))","v":""},{"$f":"IF(ISNA(Lists!$J75),\"\",IF((INDIRECT(\"'\"&Lists!$J75&\"'!\"&Lists!$L75&W$23))=\"\",\"\",(INDIRECT(\"'\"&Lists!$J75&\"'!\"&Lists!$L75&W$23))))","v":""},{"$f":"IF(ISNA(Lists!$J75),\"\",IF((INDIRECT(\"'\"&Lists!$J75&\"'!\"&Lists!$L75&X$23))=\"\",\"\",(INDIRECT(\"'\"&Lists!$J75&\"'!\"&Lists!$L75&X$23))))","v":""},{"$f":"IF(ISNA(Lists!$J75),\"\",IF((INDIRECT(\"'\"&Lists!$J75&\"'!\"&Lists!$L75&Y$23))=\"\",\"\",(INDIRECT(\"'\"&Lists!$J75&\"'!\"&Lists!$L75&Y$23))))","v":""},{"$f":"IF(ISNA(Lists!$J75),\"\",IF((INDIRECT(\"'\"&Lists!$J75&\"'!\"&Lists!$L75&Z$23))=\"\",\"\",(INDIRECT(\"'\"&Lists!$J75&\"'!\"&Lists!$L75&Z$23))))","v":""},{"$f":"IF(ISNA(Lists!$J75),\"\",IF((INDIRECT(\"'\"&Lists!$J75&\"'!\"&Lists!$L75&AA$23))=\"\",\"\",(INDIRECT(\"'\"&Lists!$J75&\"'!\"&Lists!$L75&AA$23))))","v":""},{"$f":"IF(ISNA(Lists!$J75),\"\",IF((INDIRECT(\"'\"&Lists!$J75&\"'!\"&Lists!$L75&AB$23))=\"\",\"\",(INDIRECT(\"'\"&Lists!$J75&\"'!\"&Lists!$L75&AB$23))))","v":""},{"$f":"IF(ISNA(Lists!$J75),\"\",IF((INDIRECT(\"'\"&Lists!$J75&\"'!\"&Lists!$K75&AC$23))=\"\",\"\",(INDIRECT(\"'\"&Lists!$J75&\"'!\"&Lists!$K75&AC$23))))","v":""},{"$f":"IF(ISNA(Lists!$J75),\"\",IF((INDIRECT(\"'\"&Lists!$J75&\"'!\"&Lists!$L75&AD$23))=\"\",\"\",(INDIRECT(\"'\"&Lists!$J75&\"'!\"&Lists!$L75&AD$23))))","v":""},{"$f":"IF(ISNA(Lists!$J75),\"\",IF((INDIRECT(\"'\"&Lists!$J75&\"'!\"&Lists!$K75&AE$23))=\"\",\"\",(INDIRECT(\"'\"&Lists!$J75&\"'!\"&Lists!$K75&AE$23))))","v":""},{"$f":"IF(ISNA(Lists!$J75),\"\",IF((INDIRECT(\"'\"&Lists!$J75&\"'!\"&Lists!$K75&AF$23))=\"\",\"\",(INDIRECT(\"'\"&Lists!$J75&\"'!\"&Lists!$K75&AF$23))))","v":""},{"$f":"IF(ISNA(Lists!$J75),\"\",IF((INDIRECT(\"'\"&Lists!$J75&\"'!\"&Lists!$K75&AG$23))=\"\",\"\",(INDIRECT(\"'\"&Lists!$J75&\"'!\"&Lists!$K75&AG$23))))","v":""},{"$f":"IF(ISNA(Lists!$J75),\"\",IF((INDIRECT(\"'\"&Lists!$J75&\"'!\"&Lists!$K75&AH$23))=\"\",\"\",(INDIRECT(\"'\"&Lists!$J75&\"'!\"&Lists!$K75&AH$23))))","v":""},{"$f":"IF(ISNA(Lists!$J75),\"\",IF((INDIRECT(\"'\"&Lists!$J75&\"'!\"&Lists!$K75&AI$23))=\"\",\"\",(INDIRECT(\"'\"&Lists!$J75&\"'!\"&Lists!$K75&AI$23))))","v":""},{"$f":"IF(ISNA(Lists!$J75),\"\",IF((INDIRECT(\"'\"&Lists!$J75&\"'!\"&Lists!$K75&AJ$23))=\"\",\"\",(INDIRECT(\"'\"&Lists!$J75&\"'!\"&Lists!$K75&AJ$23))))","v":""},{"$f":"IF(ISNA(Lists!$J75),\"\",IF((INDIRECT(\"'\"&Lists!$J75&\"'!\"&Lists!$K75&AK$23))=\"\",\"\",(INDIRECT(\"'\"&Lists!$J75&\"'!\"&Lists!$K75&AK$23))))","v":""},{"$f":"IF(ISNA(Lists!$J75),\"\",IF((INDIRECT(\"'\"&Lists!$J75&\"'!\"&Lists!$K75&AL$23))=\"\",\"\",(INDIRECT(\"'\"&Lists!$J75&\"'!\"&Lists!$K75&AL$23))))","v":""},{"$f":"IF(ISNA(Lists!$J75),\"\",IF((INDIRECT(\"'\"&Lists!$J75&\"'!\"&Lists!$K75&AM$23))=\"\",\"\",(INDIRECT(\"'\"&Lists!$J75&\"'!\"&Lists!$K75&AM$23))))","v":""},{"$f":"IF(ISNA(Lists!$J75),\"\",IF((INDIRECT(\"'\"&Lists!$J75&\"'!\"&Lists!$K75&AN$23))=\"\",\"\",(INDIRECT(\"'\"&Lists!$J75&\"'!\"&Lists!$K75&AN$23))))","v":""},{"$f":"IF(ISNA(Lists!$J75),\"\",IF((INDIRECT(\"'\"&Lists!$J75&\"'!\"&Lists!$K75&AO$23))=\"\",\"\",(INDIRECT(\"'\"&Lists!$J75&\"'!\"&Lists!$K75&AO$23))))","v":""}]
[null,{"$f":"IF(C98=\"\",\"\",Facility_Info_upload!$B$24)","v":""},{"$f":"IF(ISNA(Lists!$J76),\"\",IF(INDIRECT(\"'\"&Lists!$J76&\"'!\"&\"B\"&C$23)=\"\",\"\",(INDIRECT(\"'\"&Lists!$J76&\"'!\"&\"B\"&C$23))))","v":""},{"$f":"IF(ISNA(Lists!$J76),\"\",IF(INDIRECT(\"'\"&Lists!$J76&\"'!\"&\"B\"&D$23)=\"\",\"\",(INDIRECT(\"'\"&Lists!$J76&\"'!\"&\"B\"&D$23))))","v":""},{"$f":"IF(ISNA(Lists!$J76),\"\",IF(INDIRECT(\"'\"&Lists!$J76&\"'!\"&\"B\"&E$23)=\"\",\"\",(INDIRECT(\"'\"&Lists!$J76&\"'!\"&\"B\"&E$23))))","v":""},{"$f":"IF(ISNA(Lists!$J76),\"\",IF(INDIRECT(\"'\"&Lists!$J76&\"'!\"&\"B\"&F$23)=\"\",\"\",(INDIRECT(\"'\"&Lists!$J76&\"'!\"&\"B\"&F$23))))","v":""},{"$f":"IF(ISNA(Lists!$J76),\"\",IF(INDIRECT(\"'\"&Lists!$J76&\"'!\"&\"B\"&G$23)=\"\",\"\",(INDIRECT(\"'\"&Lists!$J76&\"'!\"&\"B\"&G$23))))","v":""},{"$f":"IF(ISNA(Lists!$J76),\"\",IF((INDIRECT(\"'\"&Lists!$J76&\"'!\"&Lists!$K76&H$23))=\"\",\"\",(INDIRECT(\"'\"&Lists!$J76&\"'!\"&Lists!$K76&H$23))))","v":""},{"$f":"IF(ISNA(Lists!$J76),\"\",IF((INDIRECT(\"'\"&Lists!$J76&\"'!\"&Lists!$K76&I$23))=\"\",\"\",(INDIRECT(\"'\"&Lists!$J76&\"'!\"&Lists!$K76&I$23))))","v":""},{"$f":"IF(ISNA(Lists!$J76),\"\",IF((INDIRECT(\"'\"&Lists!$J76&\"'!\"&Lists!$K76&J$23))=\"\",\"\",(INDIRECT(\"'\"&Lists!$J76&\"'!\"&Lists!$K76&J$23))))","v":""},{"$f":"IF(ISNA(Lists!$J76),\"\",IF((INDIRECT(\"'\"&Lists!$J76&\"'!\"&Lists!$K76&K$23))=\"\",\"\",(INDIRECT(\"'\"&Lists!$J76&\"'!\"&Lists!$K76&K$23))))","v":""},{"$f":"IF(ISNA(Lists!$J76),\"\",IF((INDIRECT(\"'\"&Lists!$J76&\"'!\"&Lists!$K76&L$23))=\"\",\"\",(INDIRECT(\"'\"&Lists!$J76&\"'!\"&Lists!$K76&L$23))))","v":""},{"$f":"IF(ISNA(Lists!$J76),\"\",IF((INDIRECT(\"'\"&Lists!$J76&\"'!\"&Lists!$K76&M$23))=\"\",\"\",(INDIRECT(\"'\"&Lists!$J76&\"'!\"&Lists!$K76&M$23))))","v":""},{"$f":"IF(ISNA(Lists!$J76),\"\",IF((INDIRECT(\"'\"&Lists!$J76&\"'!\"&Lists!$K76&N$23))=\"\",\"\",(INDIRECT(\"'\"&Lists!$J76&\"'!\"&Lists!$K76&N$23))))","v":""},{"$f":"IF(ISNA(Lists!$J76),\"\",IF((INDIRECT(\"'\"&Lists!$J76&\"'!\"&Lists!$K76&O$23))=\"\",\"\",(INDIRECT(\"'\"&Lists!$J76&\"'!\"&Lists!$K76&O$23))))","v":""},{"$f":"IF(ISNA(Lists!$J76),\"\",IF((INDIRECT(\"'\"&Lists!$J76&\"'!\"&Lists!$K76&P$23))=\"\",\"\",(INDIRECT(\"'\"&Lists!$J76&\"'!\"&Lists!$K76&P$23))))","v":""},{"$f":"IF(ISNA(Lists!$J76),\"\",IF((INDIRECT(\"'\"&Lists!$J76&\"'!\"&Lists!$K76&Q$23))=\"\",\"\",(INDIRECT(\"'\"&Lists!$J76&\"'!\"&Lists!$K76&Q$23))))","v":""},{"$f":"IF(ISNA(Lists!$J76),\"\",IF((INDIRECT(\"'\"&Lists!$J76&\"'!\"&Lists!$K76&R$23))=\"\",\"\",(INDIRECT(\"'\"&Lists!$J76&\"'!\"&Lists!$K76&R$23))))","v":""},{"$f":"IF(ISNA(Lists!$J76),\"\",IF((INDIRECT(\"'\"&Lists!$J76&\"'!\"&Lists!$K76&S$23))=\"\",\"\",(INDIRECT(\"'\"&Lists!$J76&\"'!\"&Lists!$K76&S$23))))","v":""},{"$f":"IF(ISNA(Lists!$J76),\"\",IF((INDIRECT(\"'\"&Lists!$J76&\"'!\"&Lists!$K76&T$23))=\"\",\"\",(INDIRECT(\"'\"&Lists!$J76&\"'!\"&Lists!$K76&T$23))))","v":""},{"$f":"IF(ISNA(Lists!$J76),\"\",IF((INDIRECT(\"'\"&Lists!$J76&\"'!\"&Lists!$K76&U$23))=\"\",\"\",(INDIRECT(\"'\"&Lists!$J76&\"'!\"&Lists!$K76&U$23))))","v":""},{"$f":"IF(ISNA(Lists!$J76),\"\",IF((INDIRECT(\"'\"&Lists!$J76&\"'!\"&Lists!$L76&V$23))=\"\",\"\",(INDIRECT(\"'\"&Lists!$J76&\"'!\"&Lists!$L76&V$23))))","v":""},{"$f":"IF(ISNA(Lists!$J76),\"\",IF((INDIRECT(\"'\"&Lists!$J76&\"'!\"&Lists!$L76&W$23))=\"\",\"\",(INDIRECT(\"'\"&Lists!$J76&\"'!\"&Lists!$L76&W$23))))","v":""},{"$f":"IF(ISNA(Lists!$J76),\"\",IF((INDIRECT(\"'\"&Lists!$J76&\"'!\"&Lists!$L76&X$23))=\"\",\"\",(INDIRECT(\"'\"&Lists!$J76&\"'!\"&Lists!$L76&X$23))))","v":""},{"$f":"IF(ISNA(Lists!$J76),\"\",IF((INDIRECT(\"'\"&Lists!$J76&\"'!\"&Lists!$L76&Y$23))=\"\",\"\",(INDIRECT(\"'\"&Lists!$J76&\"'!\"&Lists!$L76&Y$23))))","v":""},{"$f":"IF(ISNA(Lists!$J76),\"\",IF((INDIRECT(\"'\"&Lists!$J76&\"'!\"&Lists!$L76&Z$23))=\"\",\"\",(INDIRECT(\"'\"&Lists!$J76&\"'!\"&Lists!$L76&Z$23))))","v":""},{"$f":"IF(ISNA(Lists!$J76),\"\",IF((INDIRECT(\"'\"&Lists!$J76&\"'!\"&Lists!$L76&AA$23))=\"\",\"\",(INDIRECT(\"'\"&Lists!$J76&\"'!\"&Lists!$L76&AA$23))))","v":""},{"$f":"IF(ISNA(Lists!$J76),\"\",IF((INDIRECT(\"'\"&Lists!$J76&\"'!\"&Lists!$L76&AB$23))=\"\",\"\",(INDIRECT(\"'\"&Lists!$J76&\"'!\"&Lists!$L76&AB$23))))","v":""},{"$f":"IF(ISNA(Lists!$J76),\"\",IF((INDIRECT(\"'\"&Lists!$J76&\"'!\"&Lists!$K76&AC$23))=\"\",\"\",(INDIRECT(\"'\"&Lists!$J76&\"'!\"&Lists!$K76&AC$23))))","v":""},{"$f":"IF(ISNA(Lists!$J76),\"\",IF((INDIRECT(\"'\"&Lists!$J76&\"'!\"&Lists!$L76&AD$23))=\"\",\"\",(INDIRECT(\"'\"&Lists!$J76&\"'!\"&Lists!$L76&AD$23))))","v":""},{"$f":"IF(ISNA(Lists!$J76),\"\",IF((INDIRECT(\"'\"&Lists!$J76&\"'!\"&Lists!$K76&AE$23))=\"\",\"\",(INDIRECT(\"'\"&Lists!$J76&\"'!\"&Lists!$K76&AE$23))))","v":""},{"$f":"IF(ISNA(Lists!$J76),\"\",IF((INDIRECT(\"'\"&Lists!$J76&\"'!\"&Lists!$K76&AF$23))=\"\",\"\",(INDIRECT(\"'\"&Lists!$J76&\"'!\"&Lists!$K76&AF$23))))","v":""},{"$f":"IF(ISNA(Lists!$J76),\"\",IF((INDIRECT(\"'\"&Lists!$J76&\"'!\"&Lists!$K76&AG$23))=\"\",\"\",(INDIRECT(\"'\"&Lists!$J76&\"'!\"&Lists!$K76&AG$23))))","v":""},{"$f":"IF(ISNA(Lists!$J76),\"\",IF((INDIRECT(\"'\"&Lists!$J76&\"'!\"&Lists!$K76&AH$23))=\"\",\"\",(INDIRECT(\"'\"&Lists!$J76&\"'!\"&Lists!$K76&AH$23))))","v":""},{"$f":"IF(ISNA(Lists!$J76),\"\",IF((INDIRECT(\"'\"&Lists!$J76&\"'!\"&Lists!$K76&AI$23))=\"\",\"\",(INDIRECT(\"'\"&Lists!$J76&\"'!\"&Lists!$K76&AI$23))))","v":""},{"$f":"IF(ISNA(Lists!$J76),\"\",IF((INDIRECT(\"'\"&Lists!$J76&\"'!\"&Lists!$K76&AJ$23))=\"\",\"\",(INDIRECT(\"'\"&Lists!$J76&\"'!\"&Lists!$K76&AJ$23))))","v":""},{"$f":"IF(ISNA(Lists!$J76),\"\",IF((INDIRECT(\"'\"&Lists!$J76&\"'!\"&Lists!$K76&AK$23))=\"\",\"\",(INDIRECT(\"'\"&Lists!$J76&\"'!\"&Lists!$K76&AK$23))))","v":""},{"$f":"IF(ISNA(Lists!$J76),\"\",IF((INDIRECT(\"'\"&Lists!$J76&\"'!\"&Lists!$K76&AL$23))=\"\",\"\",(INDIRECT(\"'\"&Lists!$J76&\"'!\"&Lists!$K76&AL$23))))","v":""},{"$f":"IF(ISNA(Lists!$J76),\"\",IF((INDIRECT(\"'\"&Lists!$J76&\"'!\"&Lists!$K76&AM$23))=\"\",\"\",(INDIRECT(\"'\"&Lists!$J76&\"'!\"&Lists!$K76&AM$23))))","v":""},{"$f":"IF(ISNA(Lists!$J76),\"\",IF((INDIRECT(\"'\"&Lists!$J76&\"'!\"&Lists!$K76&AN$23))=\"\",\"\",(INDIRECT(\"'\"&Lists!$J76&\"'!\"&Lists!$K76&AN$23))))","v":""},{"$f":"IF(ISNA(Lists!$J76),\"\",IF((INDIRECT(\"'\"&Lists!$J76&\"'!\"&Lists!$K76&AO$23))=\"\",\"\",(INDIRECT(\"'\"&Lists!$J76&\"'!\"&Lists!$K76&AO$23))))","v":""}]
[null,{"$f":"IF(C99=\"\",\"\",Facility_Info_upload!$B$24)","v":""},{"$f":"IF(ISNA(Lists!$J77),\"\",IF(INDIRECT(\"'\"&Lists!$J77&\"'!\"&\"B\"&C$23)=\"\",\"\",(INDIRECT(\"'\"&Lists!$J77&\"'!\"&\"B\"&C$23))))","v":""},{"$f":"IF(ISNA(Lists!$J77),\"\",IF(INDIRECT(\"'\"&Lists!$J77&\"'!\"&\"B\"&D$23)=\"\",\"\",(INDIRECT(\"'\"&Lists!$J77&\"'!\"&\"B\"&D$23))))","v":""},{"$f":"IF(ISNA(Lists!$J77),\"\",IF(INDIRECT(\"'\"&Lists!$J77&\"'!\"&\"B\"&E$23)=\"\",\"\",(INDIRECT(\"'\"&Lists!$J77&\"'!\"&\"B\"&E$23))))","v":""},{"$f":"IF(ISNA(Lists!$J77),\"\",IF(INDIRECT(\"'\"&Lists!$J77&\"'!\"&\"B\"&F$23)=\"\",\"\",(INDIRECT(\"'\"&Lists!$J77&\"'!\"&\"B\"&F$23))))","v":""},{"$f":"IF(ISNA(Lists!$J77),\"\",IF(INDIRECT(\"'\"&Lists!$J77&\"'!\"&\"B\"&G$23)=\"\",\"\",(INDIRECT(\"'\"&Lists!$J77&\"'!\"&\"B\"&G$23))))","v":""},{"$f":"IF(ISNA(Lists!$J77),\"\",IF((INDIRECT(\"'\"&Lists!$J77&\"'!\"&Lists!$K77&H$23))=\"\",\"\",(INDIRECT(\"'\"&Lists!$J77&\"'!\"&Lists!$K77&H$23))))","v":""},{"$f":"IF(ISNA(Lists!$J77),\"\",IF((INDIRECT(\"'\"&Lists!$J77&\"'!\"&Lists!$K77&I$23))=\"\",\"\",(INDIRECT(\"'\"&Lists!$J77&\"'!\"&Lists!$K77&I$23))))","v":""},{"$f":"IF(ISNA(Lists!$J77),\"\",IF((INDIRECT(\"'\"&Lists!$J77&\"'!\"&Lists!$K77&J$23))=\"\",\"\",(INDIRECT(\"'\"&Lists!$J77&\"'!\"&Lists!$K77&J$23))))","v":""},{"$f":"IF(ISNA(Lists!$J77),\"\",IF((INDIRECT(\"'\"&Lists!$J77&\"'!\"&Lists!$K77&K$23))=\"\",\"\",(INDIRECT(\"'\"&Lists!$J77&\"'!\"&Lists!$K77&K$23))))","v":""},{"$f":"IF(ISNA(Lists!$J77),\"\",IF((INDIRECT(\"'\"&Lists!$J77&\"'!\"&Lists!$K77&L$23))=\"\",\"\",(INDIRECT(\"'\"&Lists!$J77&\"'!\"&Lists!$K77&L$23))))","v":""},{"$f":"IF(ISNA(Lists!$J77),\"\",IF((INDIRECT(\"'\"&Lists!$J77&\"'!\"&Lists!$K77&M$23))=\"\",\"\",(INDIRECT(\"'\"&Lists!$J77&\"'!\"&Lists!$K77&M$23))))","v":""},{"$f":"IF(ISNA(Lists!$J77),\"\",IF((INDIRECT(\"'\"&Lists!$J77&\"'!\"&Lists!$K77&N$23))=\"\",\"\",(INDIRECT(\"'\"&Lists!$J77&\"'!\"&Lists!$K77&N$23))))","v":""},{"$f":"IF(ISNA(Lists!$J77),\"\",IF((INDIRECT(\"'\"&Lists!$J77&\"'!\"&Lists!$K77&O$23))=\"\",\"\",(INDIRECT(\"'\"&Lists!$J77&\"'!\"&Lists!$K77&O$23))))","v":""},{"$f":"IF(ISNA(Lists!$J77),\"\",IF((INDIRECT(\"'\"&Lists!$J77&\"'!\"&Lists!$K77&P$23))=\"\",\"\",(INDIRECT(\"'\"&Lists!$J77&\"'!\"&Lists!$K77&P$23))))","v":""},{"$f":"IF(ISNA(Lists!$J77),\"\",IF((INDIRECT(\"'\"&Lists!$J77&\"'!\"&Lists!$K77&Q$23))=\"\",\"\",(INDIRECT(\"'\"&Lists!$J77&\"'!\"&Lists!$K77&Q$23))))","v":""},{"$f":"IF(ISNA(Lists!$J77),\"\",IF((INDIRECT(\"'\"&Lists!$J77&\"'!\"&Lists!$K77&R$23))=\"\",\"\",(INDIRECT(\"'\"&Lists!$J77&\"'!\"&Lists!$K77&R$23))))","v":""},{"$f":"IF(ISNA(Lists!$J77),\"\",IF((INDIRECT(\"'\"&Lists!$J77&\"'!\"&Lists!$K77&S$23))=\"\",\"\",(INDIRECT(\"'\"&Lists!$J77&\"'!\"&Lists!$K77&S$23))))","v":""},{"$f":"IF(ISNA(Lists!$J77),\"\",IF((INDIRECT(\"'\"&Lists!$J77&\"'!\"&Lists!$K77&T$23))=\"\",\"\",(INDIRECT(\"'\"&Lists!$J77&\"'!\"&Lists!$K77&T$23))))","v":""},{"$f":"IF(ISNA(Lists!$J77),\"\",IF((INDIRECT(\"'\"&Lists!$J77&\"'!\"&Lists!$K77&U$23))=\"\",\"\",(INDIRECT(\"'\"&Lists!$J77&\"'!\"&Lists!$K77&U$23))))","v":""},{"$f":"IF(ISNA(Lists!$J77),\"\",IF((INDIRECT(\"'\"&Lists!$J77&\"'!\"&Lists!$L77&V$23))=\"\",\"\",(INDIRECT(\"'\"&Lists!$J77&\"'!\"&Lists!$L77&V$23))))","v":""},{"$f":"IF(ISNA(Lists!$J77),\"\",IF((INDIRECT(\"'\"&Lists!$J77&\"'!\"&Lists!$L77&W$23))=\"\",\"\",(INDIRECT(\"'\"&Lists!$J77&\"'!\"&Lists!$L77&W$23))))","v":""},{"$f":"IF(ISNA(Lists!$J77),\"\",IF((INDIRECT(\"'\"&Lists!$J77&\"'!\"&Lists!$L77&X$23))=\"\",\"\",(INDIRECT(\"'\"&Lists!$J77&\"'!\"&Lists!$L77&X$23))))","v":""},{"$f":"IF(ISNA(Lists!$J77),\"\",IF((INDIRECT(\"'\"&Lists!$J77&\"'!\"&Lists!$L77&Y$23))=\"\",\"\",(INDIRECT(\"'\"&Lists!$J77&\"'!\"&Lists!$L77&Y$23))))","v":""},{"$f":"IF(ISNA(Lists!$J77),\"\",IF((INDIRECT(\"'\"&Lists!$J77&\"'!\"&Lists!$L77&Z$23))=\"\",\"\",(INDIRECT(\"'\"&Lists!$J77&\"'!\"&Lists!$L77&Z$23))))","v":""},{"$f":"IF(ISNA(Lists!$J77),\"\",IF((INDIRECT(\"'\"&Lists!$J77&\"'!\"&Lists!$L77&AA$23))=\"\",\"\",(INDIRECT(\"'\"&Lists!$J77&\"'!\"&Lists!$L77&AA$23))))","v":""},{"$f":"IF(ISNA(Lists!$J77),\"\",IF((INDIRECT(\"'\"&Lists!$J77&\"'!\"&Lists!$L77&AB$23))=\"\",\"\",(INDIRECT(\"'\"&Lists!$J77&\"'!\"&Lists!$L77&AB$23))))","v":""},{"$f":"IF(ISNA(Lists!$J77),\"\",IF((INDIRECT(\"'\"&Lists!$J77&\"'!\"&Lists!$K77&AC$23))=\"\",\"\",(INDIRECT(\"'\"&Lists!$J77&\"'!\"&Lists!$K77&AC$23))))","v":""},{"$f":"IF(ISNA(Lists!$J77),\"\",IF((INDIRECT(\"'\"&Lists!$J77&\"'!\"&Lists!$L77&AD$23))=\"\",\"\",(INDIRECT(\"'\"&Lists!$J77&\"'!\"&Lists!$L77&AD$23))))","v":""},{"$f":"IF(ISNA(Lists!$J77),\"\",IF((INDIRECT(\"'\"&Lists!$J77&\"'!\"&Lists!$K77&AE$23))=\"\",\"\",(INDIRECT(\"'\"&Lists!$J77&\"'!\"&Lists!$K77&AE$23))))","v":""},{"$f":"IF(ISNA(Lists!$J77),\"\",IF((INDIRECT(\"'\"&Lists!$J77&\"'!\"&Lists!$K77&AF$23))=\"\",\"\",(INDIRECT(\"'\"&Lists!$J77&\"'!\"&Lists!$K77&AF$23))))","v":""},{"$f":"IF(ISNA(Lists!$J77),\"\",IF((INDIRECT(\"'\"&Lists!$J77&\"'!\"&Lists!$K77&AG$23))=\"\",\"\",(INDIRECT(\"'\"&Lists!$J77&\"'!\"&Lists!$K77&AG$23))))","v":""},{"$f":"IF(ISNA(Lists!$J77),\"\",IF((INDIRECT(\"'\"&Lists!$J77&\"'!\"&Lists!$K77&AH$23))=\"\",\"\",(INDIRECT(\"'\"&Lists!$J77&\"'!\"&Lists!$K77&AH$23))))","v":""},{"$f":"IF(ISNA(Lists!$J77),\"\",IF((INDIRECT(\"'\"&Lists!$J77&\"'!\"&Lists!$K77&AI$23))=\"\",\"\",(INDIRECT(\"'\"&Lists!$J77&\"'!\"&Lists!$K77&AI$23))))","v":""},{"$f":"IF(ISNA(Lists!$J77),\"\",IF((INDIRECT(\"'\"&Lists!$J77&\"'!\"&Lists!$K77&AJ$23))=\"\",\"\",(INDIRECT(\"'\"&Lists!$J77&\"'!\"&Lists!$K77&AJ$23))))","v":""},{"$f":"IF(ISNA(Lists!$J77),\"\",IF((INDIRECT(\"'\"&Lists!$J77&\"'!\"&Lists!$K77&AK$23))=\"\",\"\",(INDIRECT(\"'\"&Lists!$J77&\"'!\"&Lists!$K77&AK$23))))","v":""},{"$f":"IF(ISNA(Lists!$J77),\"\",IF((INDIRECT(\"'\"&Lists!$J77&\"'!\"&Lists!$K77&AL$23))=\"\",\"\",(INDIRECT(\"'\"&Lists!$J77&\"'!\"&Lists!$K77&AL$23))))","v":""},{"$f":"IF(ISNA(Lists!$J77),\"\",IF((INDIRECT(\"'\"&Lists!$J77&\"'!\"&Lists!$K77&AM$23))=\"\",\"\",(INDIRECT(\"'\"&Lists!$J77&\"'!\"&Lists!$K77&AM$23))))","v":""},{"$f":"IF(ISNA(Lists!$J77),\"\",IF((INDIRECT(\"'\"&Lists!$J77&\"'!\"&Lists!$K77&AN$23))=\"\",\"\",(INDIRECT(\"'\"&Lists!$J77&\"'!\"&Lists!$K77&AN$23))))","v":""},{"$f":"IF(ISNA(Lists!$J77),\"\",IF((INDIRECT(\"'\"&Lists!$J77&\"'!\"&Lists!$K77&AO$23))=\"\",\"\",(INDIRECT(\"'\"&Lists!$J77&\"'!\"&Lists!$K77&AO$23))))","v":""}]
[null,{"$f":"IF(C100=\"\",\"\",Facility_Info_upload!$B$24)","v":""},{"$f":"IF(ISNA(Lists!$J78),\"\",IF(INDIRECT(\"'\"&Lists!$J78&\"'!\"&\"B\"&C$23)=\"\",\"\",(INDIRECT(\"'\"&Lists!$J78&\"'!\"&\"B\"&C$23))))","v":""},{"$f":"IF(ISNA(Lists!$J78),\"\",IF(INDIRECT(\"'\"&Lists!$J78&\"'!\"&\"B\"&D$23)=\"\",\"\",(INDIRECT(\"'\"&Lists!$J78&\"'!\"&\"B\"&D$23))))","v":""},{"$f":"IF(ISNA(Lists!$J78),\"\",IF(INDIRECT(\"'\"&Lists!$J78&\"'!\"&\"B\"&E$23)=\"\",\"\",(INDIRECT(\"'\"&Lists!$J78&\"'!\"&\"B\"&E$23))))","v":""},{"$f":"IF(ISNA(Lists!$J78),\"\",IF(INDIRECT(\"'\"&Lists!$J78&\"'!\"&\"B\"&F$23)=\"\",\"\",(INDIRECT(\"'\"&Lists!$J78&\"'!\"&\"B\"&F$23))))","v":""},{"$f":"IF(ISNA(Lists!$J78),\"\",IF(INDIRECT(\"'\"&Lists!$J78&\"'!\"&\"B\"&G$23)=\"\",\"\",(INDIRECT(\"'\"&Lists!$J78&\"'!\"&\"B\"&G$23))))","v":""},{"$f":"IF(ISNA(Lists!$J78),\"\",IF((INDIRECT(\"'\"&Lists!$J78&\"'!\"&Lists!$K78&H$23))=\"\",\"\",(INDIRECT(\"'\"&Lists!$J78&\"'!\"&Lists!$K78&H$23))))","v":""},{"$f":"IF(ISNA(Lists!$J78),\"\",IF((INDIRECT(\"'\"&Lists!$J78&\"'!\"&Lists!$K78&I$23))=\"\",\"\",(INDIRECT(\"'\"&Lists!$J78&\"'!\"&Lists!$K78&I$23))))","v":""},{"$f":"IF(ISNA(Lists!$J78),\"\",IF((INDIRECT(\"'\"&Lists!$J78&\"'!\"&Lists!$K78&J$23))=\"\",\"\",(INDIRECT(\"'\"&Lists!$J78&\"'!\"&Lists!$K78&J$23))))","v":""},{"$f":"IF(ISNA(Lists!$J78),\"\",IF((INDIRECT(\"'\"&Lists!$J78&\"'!\"&Lists!$K78&K$23))=\"\",\"\",(INDIRECT(\"'\"&Lists!$J78&\"'!\"&Lists!$K78&K$23))))","v":""},{"$f":"IF(ISNA(Lists!$J78),\"\",IF((INDIRECT(\"'\"&Lists!$J78&\"'!\"&Lists!$K78&L$23))=\"\",\"\",(INDIRECT(\"'\"&Lists!$J78&\"'!\"&Lists!$K78&L$23))))","v":""},{"$f":"IF(ISNA(Lists!$J78),\"\",IF((INDIRECT(\"'\"&Lists!$J78&\"'!\"&Lists!$K78&M$23))=\"\",\"\",(INDIRECT(\"'\"&Lists!$J78&\"'!\"&Lists!$K78&M$23))))","v":""},{"$f":"IF(ISNA(Lists!$J78),\"\",IF((INDIRECT(\"'\"&Lists!$J78&\"'!\"&Lists!$K78&N$23))=\"\",\"\",(INDIRECT(\"'\"&Lists!$J78&\"'!\"&Lists!$K78&N$23))))","v":""},{"$f":"IF(ISNA(Lists!$J78),\"\",IF((INDIRECT(\"'\"&Lists!$J78&\"'!\"&Lists!$K78&O$23))=\"\",\"\",(INDIRECT(\"'\"&Lists!$J78&\"'!\"&Lists!$K78&O$23))))","v":""},{"$f":"IF(ISNA(Lists!$J78),\"\",IF((INDIRECT(\"'\"&Lists!$J78&\"'!\"&Lists!$K78&P$23))=\"\",\"\",(INDIRECT(\"'\"&Lists!$J78&\"'!\"&Lists!$K78&P$23))))","v":""},{"$f":"IF(ISNA(Lists!$J78),\"\",IF((INDIRECT(\"'\"&Lists!$J78&\"'!\"&Lists!$K78&Q$23))=\"\",\"\",(INDIRECT(\"'\"&Lists!$J78&\"'!\"&Lists!$K78&Q$23))))","v":""},{"$f":"IF(ISNA(Lists!$J78),\"\",IF((INDIRECT(\"'\"&Lists!$J78&\"'!\"&Lists!$K78&R$23))=\"\",\"\",(INDIRECT(\"'\"&Lists!$J78&\"'!\"&Lists!$K78&R$23))))","v":""},{"$f":"IF(ISNA(Lists!$J78),\"\",IF((INDIRECT(\"'\"&Lists!$J78&\"'!\"&Lists!$K78&S$23))=\"\",\"\",(INDIRECT(\"'\"&Lists!$J78&\"'!\"&Lists!$K78&S$23))))","v":""},{"$f":"IF(ISNA(Lists!$J78),\"\",IF((INDIRECT(\"'\"&Lists!$J78&\"'!\"&Lists!$K78&T$23))=\"\",\"\",(INDIRECT(\"'\"&Lists!$J78&\"'!\"&Lists!$K78&T$23))))","v":""},{"$f":"IF(ISNA(Lists!$J78),\"\",IF((INDIRECT(\"'\"&Lists!$J78&\"'!\"&Lists!$K78&U$23))=\"\",\"\",(INDIRECT(\"'\"&Lists!$J78&\"'!\"&Lists!$K78&U$23))))","v":""},{"$f":"IF(ISNA(Lists!$J78),\"\",IF((INDIRECT(\"'\"&Lists!$J78&\"'!\"&Lists!$L78&V$23))=\"\",\"\",(INDIRECT(\"'\"&Lists!$J78&\"'!\"&Lists!$L78&V$23))))","v":""},{"$f":"IF(ISNA(Lists!$J78),\"\",IF((INDIRECT(\"'\"&Lists!$J78&\"'!\"&Lists!$L78&W$23))=\"\",\"\",(INDIRECT(\"'\"&Lists!$J78&\"'!\"&Lists!$L78&W$23))))","v":""},{"$f":"IF(ISNA(Lists!$J78),\"\",IF((INDIRECT(\"'\"&Lists!$J78&\"'!\"&Lists!$L78&X$23))=\"\",\"\",(INDIRECT(\"'\"&Lists!$J78&\"'!\"&Lists!$L78&X$23))))","v":""},{"$f":"IF(ISNA(Lists!$J78),\"\",IF((INDIRECT(\"'\"&Lists!$J78&\"'!\"&Lists!$L78&Y$23))=\"\",\"\",(INDIRECT(\"'\"&Lists!$J78&\"'!\"&Lists!$L78&Y$23))))","v":""},{"$f":"IF(ISNA(Lists!$J78),\"\",IF((INDIRECT(\"'\"&Lists!$J78&\"'!\"&Lists!$L78&Z$23))=\"\",\"\",(INDIRECT(\"'\"&Lists!$J78&\"'!\"&Lists!$L78&Z$23))))","v":""},{"$f":"IF(ISNA(Lists!$J78),\"\",IF((INDIRECT(\"'\"&Lists!$J78&\"'!\"&Lists!$L78&AA$23))=\"\",\"\",(INDIRECT(\"'\"&Lists!$J78&\"'!\"&Lists!$L78&AA$23))))","v":""},{"$f":"IF(ISNA(Lists!$J78),\"\",IF((INDIRECT(\"'\"&Lists!$J78&\"'!\"&Lists!$L78&AB$23))=\"\",\"\",(INDIRECT(\"'\"&Lists!$J78&\"'!\"&Lists!$L78&AB$23))))","v":""},{"$f":"IF(ISNA(Lists!$J78),\"\",IF((INDIRECT(\"'\"&Lists!$J78&\"'!\"&Lists!$K78&AC$23))=\"\",\"\",(INDIRECT(\"'\"&Lists!$J78&\"'!\"&Lists!$K78&AC$23))))","v":""},{"$f":"IF(ISNA(Lists!$J78),\"\",IF((INDIRECT(\"'\"&Lists!$J78&\"'!\"&Lists!$L78&AD$23))=\"\",\"\",(INDIRECT(\"'\"&Lists!$J78&\"'!\"&Lists!$L78&AD$23))))","v":""},{"$f":"IF(ISNA(Lists!$J78),\"\",IF((INDIRECT(\"'\"&Lists!$J78&\"'!\"&Lists!$K78&AE$23))=\"\",\"\",(INDIRECT(\"'\"&Lists!$J78&\"'!\"&Lists!$K78&AE$23))))","v":""},{"$f":"IF(ISNA(Lists!$J78),\"\",IF((INDIRECT(\"'\"&Lists!$J78&\"'!\"&Lists!$K78&AF$23))=\"\",\"\",(INDIRECT(\"'\"&Lists!$J78&\"'!\"&Lists!$K78&AF$23))))","v":""},{"$f":"IF(ISNA(Lists!$J78),\"\",IF((INDIRECT(\"'\"&Lists!$J78&\"'!\"&Lists!$K78&AG$23))=\"\",\"\",(INDIRECT(\"'\"&Lists!$J78&\"'!\"&Lists!$K78&AG$23))))","v":""},{"$f":"IF(ISNA(Lists!$J78),\"\",IF((INDIRECT(\"'\"&Lists!$J78&\"'!\"&Lists!$K78&AH$23))=\"\",\"\",(INDIRECT(\"'\"&Lists!$J78&\"'!\"&Lists!$K78&AH$23))))","v":""},{"$f":"IF(ISNA(Lists!$J78),\"\",IF((INDIRECT(\"'\"&Lists!$J78&\"'!\"&Lists!$K78&AI$23))=\"\",\"\",(INDIRECT(\"'\"&Lists!$J78&\"'!\"&Lists!$K78&AI$23))))","v":""},{"$f":"IF(ISNA(Lists!$J78),\"\",IF((INDIRECT(\"'\"&Lists!$J78&\"'!\"&Lists!$K78&AJ$23))=\"\",\"\",(INDIRECT(\"'\"&Lists!$J78&\"'!\"&Lists!$K78&AJ$23))))","v":""},{"$f":"IF(ISNA(Lists!$J78),\"\",IF((INDIRECT(\"'\"&Lists!$J78&\"'!\"&Lists!$K78&AK$23))=\"\",\"\",(INDIRECT(\"'\"&Lists!$J78&\"'!\"&Lists!$K78&AK$23))))","v":""},{"$f":"IF(ISNA(Lists!$J78),\"\",IF((INDIRECT(\"'\"&Lists!$J78&\"'!\"&Lists!$K78&AL$23))=\"\",\"\",(INDIRECT(\"'\"&Lists!$J78&\"'!\"&Lists!$K78&AL$23))))","v":""},{"$f":"IF(ISNA(Lists!$J78),\"\",IF((INDIRECT(\"'\"&Lists!$J78&\"'!\"&Lists!$K78&AM$23))=\"\",\"\",(INDIRECT(\"'\"&Lists!$J78&\"'!\"&Lists!$K78&AM$23))))","v":""},{"$f":"IF(ISNA(Lists!$J78),\"\",IF((INDIRECT(\"'\"&Lists!$J78&\"'!\"&Lists!$K78&AN$23))=\"\",\"\",(INDIRECT(\"'\"&Lists!$J78&\"'!\"&Lists!$K78&AN$23))))","v":""},{"$f":"IF(ISNA(Lists!$J78),\"\",IF((INDIRECT(\"'\"&Lists!$J78&\"'!\"&Lists!$K78&AO$23))=\"\",\"\",(INDIRECT(\"'\"&Lists!$J78&\"'!\"&Lists!$K78&AO$23))))","v":""}]
[null,{"$f":"IF(C101=\"\",\"\",Facility_Info_upload!$B$24)","v":""},{"$f":"IF(ISNA(Lists!$J79),\"\",IF(INDIRECT(\"'\"&Lists!$J79&\"'!\"&\"B\"&C$23)=\"\",\"\",(INDIRECT(\"'\"&Lists!$J79&\"'!\"&\"B\"&C$23))))","v":""},{"$f":"IF(ISNA(Lists!$J79),\"\",IF(INDIRECT(\"'\"&Lists!$J79&\"'!\"&\"B\"&D$23)=\"\",\"\",(INDIRECT(\"'\"&Lists!$J79&\"'!\"&\"B\"&D$23))))","v":""},{"$f":"IF(ISNA(Lists!$J79),\"\",IF(INDIRECT(\"'\"&Lists!$J79&\"'!\"&\"B\"&E$23)=\"\",\"\",(INDIRECT(\"'\"&Lists!$J79&\"'!\"&\"B\"&E$23))))","v":""},{"$f":"IF(ISNA(Lists!$J79),\"\",IF(INDIRECT(\"'\"&Lists!$J79&\"'!\"&\"B\"&F$23)=\"\",\"\",(INDIRECT(\"'\"&Lists!$J79&\"'!\"&\"B\"&F$23))))","v":""},{"$f":"IF(ISNA(Lists!$J79),\"\",IF(INDIRECT(\"'\"&Lists!$J79&\"'!\"&\"B\"&G$23)=\"\",\"\",(INDIRECT(\"'\"&Lists!$J79&\"'!\"&\"B\"&G$23))))","v":""},{"$f":"IF(ISNA(Lists!$J79),\"\",IF((INDIRECT(\"'\"&Lists!$J79&\"'!\"&Lists!$K79&H$23))=\"\",\"\",(INDIRECT(\"'\"&Lists!$J79&\"'!\"&Lists!$K79&H$23))))","v":""},{"$f":"IF(ISNA(Lists!$J79),\"\",IF((INDIRECT(\"'\"&Lists!$J79&\"'!\"&Lists!$K79&I$23))=\"\",\"\",(INDIRECT(\"'\"&Lists!$J79&\"'!\"&Lists!$K79&I$23))))","v":""},{"$f":"IF(ISNA(Lists!$J79),\"\",IF((INDIRECT(\"'\"&Lists!$J79&\"'!\"&Lists!$K79&J$23))=\"\",\"\",(INDIRECT(\"'\"&Lists!$J79&\"'!\"&Lists!$K79&J$23))))","v":""},{"$f":"IF(ISNA(Lists!$J79),\"\",IF((INDIRECT(\"'\"&Lists!$J79&\"'!\"&Lists!$K79&K$23))=\"\",\"\",(INDIRECT(\"'\"&Lists!$J79&\"'!\"&Lists!$K79&K$23))))","v":""},{"$f":"IF(ISNA(Lists!$J79),\"\",IF((INDIRECT(\"'\"&Lists!$J79&\"'!\"&Lists!$K79&L$23))=\"\",\"\",(INDIRECT(\"'\"&Lists!$J79&\"'!\"&Lists!$K79&L$23))))","v":""},{"$f":"IF(ISNA(Lists!$J79),\"\",IF((INDIRECT(\"'\"&Lists!$J79&\"'!\"&Lists!$K79&M$23))=\"\",\"\",(INDIRECT(\"'\"&Lists!$J79&\"'!\"&Lists!$K79&M$23))))","v":""},{"$f":"IF(ISNA(Lists!$J79),\"\",IF((INDIRECT(\"'\"&Lists!$J79&\"'!\"&Lists!$K79&N$23))=\"\",\"\",(INDIRECT(\"'\"&Lists!$J79&\"'!\"&Lists!$K79&N$23))))","v":""},{"$f":"IF(ISNA(Lists!$J79),\"\",IF((INDIRECT(\"'\"&Lists!$J79&\"'!\"&Lists!$K79&O$23))=\"\",\"\",(INDIRECT(\"'\"&Lists!$J79&\"'!\"&Lists!$K79&O$23))))","v":""},{"$f":"IF(ISNA(Lists!$J79),\"\",IF((INDIRECT(\"'\"&Lists!$J79&\"'!\"&Lists!$K79&P$23))=\"\",\"\",(INDIRECT(\"'\"&Lists!$J79&\"'!\"&Lists!$K79&P$23))))","v":""},{"$f":"IF(ISNA(Lists!$J79),\"\",IF((INDIRECT(\"'\"&Lists!$J79&\"'!\"&Lists!$K79&Q$23))=\"\",\"\",(INDIRECT(\"'\"&Lists!$J79&\"'!\"&Lists!$K79&Q$23))))","v":""},{"$f":"IF(ISNA(Lists!$J79),\"\",IF((INDIRECT(\"'\"&Lists!$J79&\"'!\"&Lists!$K79&R$23))=\"\",\"\",(INDIRECT(\"'\"&Lists!$J79&\"'!\"&Lists!$K79&R$23))))","v":""},{"$f":"IF(ISNA(Lists!$J79),\"\",IF((INDIRECT(\"'\"&Lists!$J79&\"'!\"&Lists!$K79&S$23))=\"\",\"\",(INDIRECT(\"'\"&Lists!$J79&\"'!\"&Lists!$K79&S$23))))","v":""},{"$f":"IF(ISNA(Lists!$J79),\"\",IF((INDIRECT(\"'\"&Lists!$J79&\"'!\"&Lists!$K79&T$23))=\"\",\"\",(INDIRECT(\"'\"&Lists!$J79&\"'!\"&Lists!$K79&T$23))))","v":""},{"$f":"IF(ISNA(Lists!$J79),\"\",IF((INDIRECT(\"'\"&Lists!$J79&\"'!\"&Lists!$K79&U$23))=\"\",\"\",(INDIRECT(\"'\"&Lists!$J79&\"'!\"&Lists!$K79&U$23))))","v":""},{"$f":"IF(ISNA(Lists!$J79),\"\",IF((INDIRECT(\"'\"&Lists!$J79&\"'!\"&Lists!$L79&V$23))=\"\",\"\",(INDIRECT(\"'\"&Lists!$J79&\"'!\"&Lists!$L79&V$23))))","v":""},{"$f":"IF(ISNA(Lists!$J79),\"\",IF((INDIRECT(\"'\"&Lists!$J79&\"'!\"&Lists!$L79&W$23))=\"\",\"\",(INDIRECT(\"'\"&Lists!$J79&\"'!\"&Lists!$L79&W$23))))","v":""},{"$f":"IF(ISNA(Lists!$J79),\"\",IF((INDIRECT(\"'\"&Lists!$J79&\"'!\"&Lists!$L79&X$23))=\"\",\"\",(INDIRECT(\"'\"&Lists!$J79&\"'!\"&Lists!$L79&X$23))))","v":""},{"$f":"IF(ISNA(Lists!$J79),\"\",IF((INDIRECT(\"'\"&Lists!$J79&\"'!\"&Lists!$L79&Y$23))=\"\",\"\",(INDIRECT(\"'\"&Lists!$J79&\"'!\"&Lists!$L79&Y$23))))","v":""},{"$f":"IF(ISNA(Lists!$J79),\"\",IF((INDIRECT(\"'\"&Lists!$J79&\"'!\"&Lists!$L79&Z$23))=\"\",\"\",(INDIRECT(\"'\"&Lists!$J79&\"'!\"&Lists!$L79&Z$23))))","v":""},{"$f":"IF(ISNA(Lists!$J79),\"\",IF((INDIRECT(\"'\"&Lists!$J79&\"'!\"&Lists!$L79&AA$23))=\"\",\"\",(INDIRECT(\"'\"&Lists!$J79&\"'!\"&Lists!$L79&AA$23))))","v":""},{"$f":"IF(ISNA(Lists!$J79),\"\",IF((INDIRECT(\"'\"&Lists!$J79&\"'!\"&Lists!$L79&AB$23))=\"\",\"\",(INDIRECT(\"'\"&Lists!$J79&\"'!\"&Lists!$L79&AB$23))))","v":""},{"$f":"IF(ISNA(Lists!$J79),\"\",IF((INDIRECT(\"'\"&Lists!$J79&\"'!\"&Lists!$K79&AC$23))=\"\",\"\",(INDIRECT(\"'\"&Lists!$J79&\"'!\"&Lists!$K79&AC$23))))","v":""},{"$f":"IF(ISNA(Lists!$J79),\"\",IF((INDIRECT(\"'\"&Lists!$J79&\"'!\"&Lists!$L79&AD$23))=\"\",\"\",(INDIRECT(\"'\"&Lists!$J79&\"'!\"&Lists!$L79&AD$23))))","v":""},{"$f":"IF(ISNA(Lists!$J79),\"\",IF((INDIRECT(\"'\"&Lists!$J79&\"'!\"&Lists!$K79&AE$23))=\"\",\"\",(INDIRECT(\"'\"&Lists!$J79&\"'!\"&Lists!$K79&AE$23))))","v":""},{"$f":"IF(ISNA(Lists!$J79),\"\",IF((INDIRECT(\"'\"&Lists!$J79&\"'!\"&Lists!$K79&AF$23))=\"\",\"\",(INDIRECT(\"'\"&Lists!$J79&\"'!\"&Lists!$K79&AF$23))))","v":""},{"$f":"IF(ISNA(Lists!$J79),\"\",IF((INDIRECT(\"'\"&Lists!$J79&\"'!\"&Lists!$K79&AG$23))=\"\",\"\",(INDIRECT(\"'\"&Lists!$J79&\"'!\"&Lists!$K79&AG$23))))","v":""},{"$f":"IF(ISNA(Lists!$J79),\"\",IF((INDIRECT(\"'\"&Lists!$J79&\"'!\"&Lists!$K79&AH$23))=\"\",\"\",(INDIRECT(\"'\"&Lists!$J79&\"'!\"&Lists!$K79&AH$23))))","v":""},{"$f":"IF(ISNA(Lists!$J79),\"\",IF((INDIRECT(\"'\"&Lists!$J79&\"'!\"&Lists!$K79&AI$23))=\"\",\"\",(INDIRECT(\"'\"&Lists!$J79&\"'!\"&Lists!$K79&AI$23))))","v":""},{"$f":"IF(ISNA(Lists!$J79),\"\",IF((INDIRECT(\"'\"&Lists!$J79&\"'!\"&Lists!$K79&AJ$23))=\"\",\"\",(INDIRECT(\"'\"&Lists!$J79&\"'!\"&Lists!$K79&AJ$23))))","v":""},{"$f":"IF(ISNA(Lists!$J79),\"\",IF((INDIRECT(\"'\"&Lists!$J79&\"'!\"&Lists!$K79&AK$23))=\"\",\"\",(INDIRECT(\"'\"&Lists!$J79&\"'!\"&Lists!$K79&AK$23))))","v":""},{"$f":"IF(ISNA(Lists!$J79),\"\",IF((INDIRECT(\"'\"&Lists!$J79&\"'!\"&Lists!$K79&AL$23))=\"\",\"\",(INDIRECT(\"'\"&Lists!$J79&\"'!\"&Lists!$K79&AL$23))))","v":""},{"$f":"IF(ISNA(Lists!$J79),\"\",IF((INDIRECT(\"'\"&Lists!$J79&\"'!\"&Lists!$K79&AM$23))=\"\",\"\",(INDIRECT(\"'\"&Lists!$J79&\"'!\"&Lists!$K79&AM$23))))","v":""},{"$f":"IF(ISNA(Lists!$J79),\"\",IF((INDIRECT(\"'\"&Lists!$J79&\"'!\"&Lists!$K79&AN$23))=\"\",\"\",(INDIRECT(\"'\"&Lists!$J79&\"'!\"&Lists!$K79&AN$23))))","v":""},{"$f":"IF(ISNA(Lists!$J79),\"\",IF((INDIRECT(\"'\"&Lists!$J79&\"'!\"&Lists!$K79&AO$23))=\"\",\"\",(INDIRECT(\"'\"&Lists!$J79&\"'!\"&Lists!$K79&AO$23))))","v":""}]
[null,{"$f":"IF(C102=\"\",\"\",Facility_Info_upload!$B$24)","v":""},{"$f":"IF(ISNA(Lists!$J80),\"\",IF(INDIRECT(\"'\"&Lists!$J80&\"'!\"&\"B\"&C$23)=\"\",\"\",(INDIRECT(\"'\"&Lists!$J80&\"'!\"&\"B\"&C$23))))","v":""},{"$f":"IF(ISNA(Lists!$J80),\"\",IF(INDIRECT(\"'\"&Lists!$J80&\"'!\"&\"B\"&D$23)=\"\",\"\",(INDIRECT(\"'\"&Lists!$J80&\"'!\"&\"B\"&D$23))))","v":""},{"$f":"IF(ISNA(Lists!$J80),\"\",IF(INDIRECT(\"'\"&Lists!$J80&\"'!\"&\"B\"&E$23)=\"\",\"\",(INDIRECT(\"'\"&Lists!$J80&\"'!\"&\"B\"&E$23))))","v":""},{"$f":"IF(ISNA(Lists!$J80),\"\",IF(INDIRECT(\"'\"&Lists!$J80&\"'!\"&\"B\"&F$23)=\"\",\"\",(INDIRECT(\"'\"&Lists!$J80&\"'!\"&\"B\"&F$23))))","v":""},{"$f":"IF(ISNA(Lists!$J80),\"\",IF(INDIRECT(\"'\"&Lists!$J80&\"'!\"&\"B\"&G$23)=\"\",\"\",(INDIRECT(\"'\"&Lists!$J80&\"'!\"&\"B\"&G$23))))","v":""},{"$f":"IF(ISNA(Lists!$J80),\"\",IF((INDIRECT(\"'\"&Lists!$J80&\"'!\"&Lists!$K80&H$23))=\"\",\"\",(INDIRECT(\"'\"&Lists!$J80&\"'!\"&Lists!$K80&H$23))))","v":""},{"$f":"IF(ISNA(Lists!$J80),\"\",IF((INDIRECT(\"'\"&Lists!$J80&\"'!\"&Lists!$K80&I$23))=\"\",\"\",(INDIRECT(\"'\"&Lists!$J80&\"'!\"&Lists!$K80&I$23))))","v":""},{"$f":"IF(ISNA(Lists!$J80),\"\",IF((INDIRECT(\"'\"&Lists!$J80&\"'!\"&Lists!$K80&J$23))=\"\",\"\",(INDIRECT(\"'\"&Lists!$J80&\"'!\"&Lists!$K80&J$23))))","v":""},{"$f":"IF(ISNA(Lists!$J80),\"\",IF((INDIRECT(\"'\"&Lists!$J80&\"'!\"&Lists!$K80&K$23))=\"\",\"\",(INDIRECT(\"'\"&Lists!$J80&\"'!\"&Lists!$K80&K$23))))","v":""},{"$f":"IF(ISNA(Lists!$J80),\"\",IF((INDIRECT(\"'\"&Lists!$J80&\"'!\"&Lists!$K80&L$23))=\"\",\"\",(INDIRECT(\"'\"&Lists!$J80&\"'!\"&Lists!$K80&L$23))))","v":""},{"$f":"IF(ISNA(Lists!$J80),\"\",IF((INDIRECT(\"'\"&Lists!$J80&\"'!\"&Lists!$K80&M$23))=\"\",\"\",(INDIRECT(\"'\"&Lists!$J80&\"'!\"&Lists!$K80&M$23))))","v":""},{"$f":"IF(ISNA(Lists!$J80),\"\",IF((INDIRECT(\"'\"&Lists!$J80&\"'!\"&Lists!$K80&N$23))=\"\",\"\",(INDIRECT(\"'\"&Lists!$J80&\"'!\"&Lists!$K80&N$23))))","v":""},{"$f":"IF(ISNA(Lists!$J80),\"\",IF((INDIRECT(\"'\"&Lists!$J80&\"'!\"&Lists!$K80&O$23))=\"\",\"\",(INDIRECT(\"'\"&Lists!$J80&\"'!\"&Lists!$K80&O$23))))","v":""},{"$f":"IF(ISNA(Lists!$J80),\"\",IF((INDIRECT(\"'\"&Lists!$J80&\"'!\"&Lists!$K80&P$23))=\"\",\"\",(INDIRECT(\"'\"&Lists!$J80&\"'!\"&Lists!$K80&P$23))))","v":""},{"$f":"IF(ISNA(Lists!$J80),\"\",IF((INDIRECT(\"'\"&Lists!$J80&\"'!\"&Lists!$K80&Q$23))=\"\",\"\",(INDIRECT(\"'\"&Lists!$J80&\"'!\"&Lists!$K80&Q$23))))","v":""},{"$f":"IF(ISNA(Lists!$J80),\"\",IF((INDIRECT(\"'\"&Lists!$J80&\"'!\"&Lists!$K80&R$23))=\"\",\"\",(INDIRECT(\"'\"&Lists!$J80&\"'!\"&Lists!$K80&R$23))))","v":""},{"$f":"IF(ISNA(Lists!$J80),\"\",IF((INDIRECT(\"'\"&Lists!$J80&\"'!\"&Lists!$K80&S$23))=\"\",\"\",(INDIRECT(\"'\"&Lists!$J80&\"'!\"&Lists!$K80&S$23))))","v":""},{"$f":"IF(ISNA(Lists!$J80),\"\",IF((INDIRECT(\"'\"&Lists!$J80&\"'!\"&Lists!$K80&T$23))=\"\",\"\",(INDIRECT(\"'\"&Lists!$J80&\"'!\"&Lists!$K80&T$23))))","v":""},{"$f":"IF(ISNA(Lists!$J80),\"\",IF((INDIRECT(\"'\"&Lists!$J80&\"'!\"&Lists!$K80&U$23))=\"\",\"\",(INDIRECT(\"'\"&Lists!$J80&\"'!\"&Lists!$K80&U$23))))","v":""},{"$f":"IF(ISNA(Lists!$J80),\"\",IF((INDIRECT(\"'\"&Lists!$J80&\"'!\"&Lists!$L80&V$23))=\"\",\"\",(INDIRECT(\"'\"&Lists!$J80&\"'!\"&Lists!$L80&V$23))))","v":""},{"$f":"IF(ISNA(Lists!$J80),\"\",IF((INDIRECT(\"'\"&Lists!$J80&\"'!\"&Lists!$L80&W$23))=\"\",\"\",(INDIRECT(\"'\"&Lists!$J80&\"'!\"&Lists!$L80&W$23))))","v":""},{"$f":"IF(ISNA(Lists!$J80),\"\",IF((INDIRECT(\"'\"&Lists!$J80&\"'!\"&Lists!$L80&X$23))=\"\",\"\",(INDIRECT(\"'\"&Lists!$J80&\"'!\"&Lists!$L80&X$23))))","v":""},{"$f":"IF(ISNA(Lists!$J80),\"\",IF((INDIRECT(\"'\"&Lists!$J80&\"'!\"&Lists!$L80&Y$23))=\"\",\"\",(INDIRECT(\"'\"&Lists!$J80&\"'!\"&Lists!$L80&Y$23))))","v":""},{"$f":"IF(ISNA(Lists!$J80),\"\",IF((INDIRECT(\"'\"&Lists!$J80&\"'!\"&Lists!$L80&Z$23))=\"\",\"\",(INDIRECT(\"'\"&Lists!$J80&\"'!\"&Lists!$L80&Z$23))))","v":""},{"$f":"IF(ISNA(Lists!$J80),\"\",IF((INDIRECT(\"'\"&Lists!$J80&\"'!\"&Lists!$L80&AA$23))=\"\",\"\",(INDIRECT(\"'\"&Lists!$J80&\"'!\"&Lists!$L80&AA$23))))","v":""},{"$f":"IF(ISNA(Lists!$J80),\"\",IF((INDIRECT(\"'\"&Lists!$J80&\"'!\"&Lists!$L80&AB$23))=\"\",\"\",(INDIRECT(\"'\"&Lists!$J80&\"'!\"&Lists!$L80&AB$23))))","v":""},{"$f":"IF(ISNA(Lists!$J80),\"\",IF((INDIRECT(\"'\"&Lists!$J80&\"'!\"&Lists!$K80&AC$23))=\"\",\"\",(INDIRECT(\"'\"&Lists!$J80&\"'!\"&Lists!$K80&AC$23))))","v":""},{"$f":"IF(ISNA(Lists!$J80),\"\",IF((INDIRECT(\"'\"&Lists!$J80&\"'!\"&Lists!$L80&AD$23))=\"\",\"\",(INDIRECT(\"'\"&Lists!$J80&\"'!\"&Lists!$L80&AD$23))))","v":""},{"$f":"IF(ISNA(Lists!$J80),\"\",IF((INDIRECT(\"'\"&Lists!$J80&\"'!\"&Lists!$K80&AE$23))=\"\",\"\",(INDIRECT(\"'\"&Lists!$J80&\"'!\"&Lists!$K80&AE$23))))","v":""},{"$f":"IF(ISNA(Lists!$J80),\"\",IF((INDIRECT(\"'\"&Lists!$J80&\"'!\"&Lists!$K80&AF$23))=\"\",\"\",(INDIRECT(\"'\"&Lists!$J80&\"'!\"&Lists!$K80&AF$23))))","v":""},{"$f":"IF(ISNA(Lists!$J80),\"\",IF((INDIRECT(\"'\"&Lists!$J80&\"'!\"&Lists!$K80&AG$23))=\"\",\"\",(INDIRECT(\"'\"&Lists!$J80&\"'!\"&Lists!$K80&AG$23))))","v":""},{"$f":"IF(ISNA(Lists!$J80),\"\",IF((INDIRECT(\"'\"&Lists!$J80&\"'!\"&Lists!$K80&AH$23))=\"\",\"\",(INDIRECT(\"'\"&Lists!$J80&\"'!\"&Lists!$K80&AH$23))))","v":""},{"$f":"IF(ISNA(Lists!$J80),\"\",IF((INDIRECT(\"'\"&Lists!$J80&\"'!\"&Lists!$K80&AI$23))=\"\",\"\",(INDIRECT(\"'\"&Lists!$J80&\"'!\"&Lists!$K80&AI$23))))","v":""},{"$f":"IF(ISNA(Lists!$J80),\"\",IF((INDIRECT(\"'\"&Lists!$J80&\"'!\"&Lists!$K80&AJ$23))=\"\",\"\",(INDIRECT(\"'\"&Lists!$J80&\"'!\"&Lists!$K80&AJ$23))))","v":""},{"$f":"IF(ISNA(Lists!$J80),\"\",IF((INDIRECT(\"'\"&Lists!$J80&\"'!\"&Lists!$K80&AK$23))=\"\",\"\",(INDIRECT(\"'\"&Lists!$J80&\"'!\"&Lists!$K80&AK$23))))","v":""},{"$f":"IF(ISNA(Lists!$J80),\"\",IF((INDIRECT(\"'\"&Lists!$J80&\"'!\"&Lists!$K80&AL$23))=\"\",\"\",(INDIRECT(\"'\"&Lists!$J80&\"'!\"&Lists!$K80&AL$23))))","v":""},{"$f":"IF(ISNA(Lists!$J80),\"\",IF((INDIRECT(\"'\"&Lists!$J80&\"'!\"&Lists!$K80&AM$23))=\"\",\"\",(INDIRECT(\"'\"&Lists!$J80&\"'!\"&Lists!$K80&AM$23))))","v":""},{"$f":"IF(ISNA(Lists!$J80),\"\",IF((INDIRECT(\"'\"&Lists!$J80&\"'!\"&Lists!$K80&AN$23))=\"\",\"\",(INDIRECT(\"'\"&Lists!$J80&\"'!\"&Lists!$K80&AN$23))))","v":""},{"$f":"IF(ISNA(Lists!$J80),\"\",IF((INDIRECT(\"'\"&Lists!$J80&\"'!\"&Lists!$K80&AO$23))=\"\",\"\",(INDIRECT(\"'\"&Lists!$J80&\"'!\"&Lists!$K80&AO$23))))","v":""}]
[null,{"$f":"IF(C103=\"\",\"\",Facility_Info_upload!$B$24)","v":""},{"$f":"IF(ISNA(Lists!$J81),\"\",IF(INDIRECT(\"'\"&Lists!$J81&\"'!\"&\"B\"&C$23)=\"\",\"\",(INDIRECT(\"'\"&Lists!$J81&\"'!\"&\"B\"&C$23))))","v":""},{"$f":"IF(ISNA(Lists!$J81),\"\",IF(INDIRECT(\"'\"&Lists!$J81&\"'!\"&\"B\"&D$23)=\"\",\"\",(INDIRECT(\"'\"&Lists!$J81&\"'!\"&\"B\"&D$23))))","v":""},{"$f":"IF(ISNA(Lists!$J81),\"\",IF(INDIRECT(\"'\"&Lists!$J81&\"'!\"&\"B\"&E$23)=\"\",\"\",(INDIRECT(\"'\"&Lists!$J81&\"'!\"&\"B\"&E$23))))","v":""},{"$f":"IF(ISNA(Lists!$J81),\"\",IF(INDIRECT(\"'\"&Lists!$J81&\"'!\"&\"B\"&F$23)=\"\",\"\",(INDIRECT(\"'\"&Lists!$J81&\"'!\"&\"B\"&F$23))))","v":""},{"$f":"IF(ISNA(Lists!$J81),\"\",IF(INDIRECT(\"'\"&Lists!$J81&\"'!\"&\"B\"&G$23)=\"\",\"\",(INDIRECT(\"'\"&Lists!$J81&\"'!\"&\"B\"&G$23))))","v":""},{"$f":"IF(ISNA(Lists!$J81),\"\",IF((INDIRECT(\"'\"&Lists!$J81&\"'!\"&Lists!$K81&H$23))=\"\",\"\",(INDIRECT(\"'\"&Lists!$J81&\"'!\"&Lists!$K81&H$23))))","v":""},{"$f":"IF(ISNA(Lists!$J81),\"\",IF((INDIRECT(\"'\"&Lists!$J81&\"'!\"&Lists!$K81&I$23))=\"\",\"\",(INDIRECT(\"'\"&Lists!$J81&\"'!\"&Lists!$K81&I$23))))","v":""},{"$f":"IF(ISNA(Lists!$J81),\"\",IF((INDIRECT(\"'\"&Lists!$J81&\"'!\"&Lists!$K81&J$23))=\"\",\"\",(INDIRECT(\"'\"&Lists!$J81&\"'!\"&Lists!$K81&J$23))))","v":""},{"$f":"IF(ISNA(Lists!$J81),\"\",IF((INDIRECT(\"'\"&Lists!$J81&\"'!\"&Lists!$K81&K$23))=\"\",\"\",(INDIRECT(\"'\"&Lists!$J81&\"'!\"&Lists!$K81&K$23))))","v":""},{"$f":"IF(ISNA(Lists!$J81),\"\",IF((INDIRECT(\"'\"&Lists!$J81&\"'!\"&Lists!$K81&L$23))=\"\",\"\",(INDIRECT(\"'\"&Lists!$J81&\"'!\"&Lists!$K81&L$23))))","v":""},{"$f":"IF(ISNA(Lists!$J81),\"\",IF((INDIRECT(\"'\"&Lists!$J81&\"'!\"&Lists!$K81&M$23))=\"\",\"\",(INDIRECT(\"'\"&Lists!$J81&\"'!\"&Lists!$K81&M$23))))","v":""},{"$f":"IF(ISNA(Lists!$J81),\"\",IF((INDIRECT(\"'\"&Lists!$J81&\"'!\"&Lists!$K81&N$23))=\"\",\"\",(INDIRECT(\"'\"&Lists!$J81&\"'!\"&Lists!$K81&N$23))))","v":""},{"$f":"IF(ISNA(Lists!$J81),\"\",IF((INDIRECT(\"'\"&Lists!$J81&\"'!\"&Lists!$K81&O$23))=\"\",\"\",(INDIRECT(\"'\"&Lists!$J81&\"'!\"&Lists!$K81&O$23))))","v":""},{"$f":"IF(ISNA(Lists!$J81),\"\",IF((INDIRECT(\"'\"&Lists!$J81&\"'!\"&Lists!$K81&P$23))=\"\",\"\",(INDIRECT(\"'\"&Lists!$J81&\"'!\"&Lists!$K81&P$23))))","v":""},{"$f":"IF(ISNA(Lists!$J81),\"\",IF((INDIRECT(\"'\"&Lists!$J81&\"'!\"&Lists!$K81&Q$23))=\"\",\"\",(INDIRECT(\"'\"&Lists!$J81&\"'!\"&Lists!$K81&Q$23))))","v":""},{"$f":"IF(ISNA(Lists!$J81),\"\",IF((INDIRECT(\"'\"&Lists!$J81&\"'!\"&Lists!$K81&R$23))=\"\",\"\",(INDIRECT(\"'\"&Lists!$J81&\"'!\"&Lists!$K81&R$23))))","v":""},{"$f":"IF(ISNA(Lists!$J81),\"\",IF((INDIRECT(\"'\"&Lists!$J81&\"'!\"&Lists!$K81&S$23))=\"\",\"\",(INDIRECT(\"'\"&Lists!$J81&\"'!\"&Lists!$K81&S$23))))","v":""},{"$f":"IF(ISNA(Lists!$J81),\"\",IF((INDIRECT(\"'\"&Lists!$J81&\"'!\"&Lists!$K81&T$23))=\"\",\"\",(INDIRECT(\"'\"&Lists!$J81&\"'!\"&Lists!$K81&T$23))))","v":""},{"$f":"IF(ISNA(Lists!$J81),\"\",IF((INDIRECT(\"'\"&Lists!$J81&\"'!\"&Lists!$K81&U$23))=\"\",\"\",(INDIRECT(\"'\"&Lists!$J81&\"'!\"&Lists!$K81&U$23))))","v":""},{"$f":"IF(ISNA(Lists!$J81),\"\",IF((INDIRECT(\"'\"&Lists!$J81&\"'!\"&Lists!$L81&V$23))=\"\",\"\",(INDIRECT(\"'\"&Lists!$J81&\"'!\"&Lists!$L81&V$23))))","v":""},{"$f":"IF(ISNA(Lists!$J81),\"\",IF((INDIRECT(\"'\"&Lists!$J81&\"'!\"&Lists!$L81&W$23))=\"\",\"\",(INDIRECT(\"'\"&Lists!$J81&\"'!\"&Lists!$L81&W$23))))","v":""},{"$f":"IF(ISNA(Lists!$J81),\"\",IF((INDIRECT(\"'\"&Lists!$J81&\"'!\"&Lists!$L81&X$23))=\"\",\"\",(INDIRECT(\"'\"&Lists!$J81&\"'!\"&Lists!$L81&X$23))))","v":""},{"$f":"IF(ISNA(Lists!$J81),\"\",IF((INDIRECT(\"'\"&Lists!$J81&\"'!\"&Lists!$L81&Y$23))=\"\",\"\",(INDIRECT(\"'\"&Lists!$J81&\"'!\"&Lists!$L81&Y$23))))","v":""},{"$f":"IF(ISNA(Lists!$J81),\"\",IF((INDIRECT(\"'\"&Lists!$J81&\"'!\"&Lists!$L81&Z$23))=\"\",\"\",(INDIRECT(\"'\"&Lists!$J81&\"'!\"&Lists!$L81&Z$23))))","v":""},{"$f":"IF(ISNA(Lists!$J81),\"\",IF((INDIRECT(\"'\"&Lists!$J81&\"'!\"&Lists!$L81&AA$23))=\"\",\"\",(INDIRECT(\"'\"&Lists!$J81&\"'!\"&Lists!$L81&AA$23))))","v":""},{"$f":"IF(ISNA(Lists!$J81),\"\",IF((INDIRECT(\"'\"&Lists!$J81&\"'!\"&Lists!$L81&AB$23))=\"\",\"\",(INDIRECT(\"'\"&Lists!$J81&\"'!\"&Lists!$L81&AB$23))))","v":""},{"$f":"IF(ISNA(Lists!$J81),\"\",IF((INDIRECT(\"'\"&Lists!$J81&\"'!\"&Lists!$K81&AC$23))=\"\",\"\",(INDIRECT(\"'\"&Lists!$J81&\"'!\"&Lists!$K81&AC$23))))","v":""},{"$f":"IF(ISNA(Lists!$J81),\"\",IF((INDIRECT(\"'\"&Lists!$J81&\"'!\"&Lists!$L81&AD$23))=\"\",\"\",(INDIRECT(\"'\"&Lists!$J81&\"'!\"&Lists!$L81&AD$23))))","v":""},{"$f":"IF(ISNA(Lists!$J81),\"\",IF((INDIRECT(\"'\"&Lists!$J81&\"'!\"&Lists!$K81&AE$23))=\"\",\"\",(INDIRECT(\"'\"&Lists!$J81&\"'!\"&Lists!$K81&AE$23))))","v":""},{"$f":"IF(ISNA(Lists!$J81),\"\",IF((INDIRECT(\"'\"&Lists!$J81&\"'!\"&Lists!$K81&AF$23))=\"\",\"\",(INDIRECT(\"'\"&Lists!$J81&\"'!\"&Lists!$K81&AF$23))))","v":""},{"$f":"IF(ISNA(Lists!$J81),\"\",IF((INDIRECT(\"'\"&Lists!$J81&\"'!\"&Lists!$K81&AG$23))=\"\",\"\",(INDIRECT(\"'\"&Lists!$J81&\"'!\"&Lists!$K81&AG$23))))","v":""},{"$f":"IF(ISNA(Lists!$J81),\"\",IF((INDIRECT(\"'\"&Lists!$J81&\"'!\"&Lists!$K81&AH$23))=\"\",\"\",(INDIRECT(\"'\"&Lists!$J81&\"'!\"&Lists!$K81&AH$23))))","v":""},{"$f":"IF(ISNA(Lists!$J81),\"\",IF((INDIRECT(\"'\"&Lists!$J81&\"'!\"&Lists!$K81&AI$23))=\"\",\"\",(INDIRECT(\"'\"&Lists!$J81&\"'!\"&Lists!$K81&AI$23))))","v":""},{"$f":"IF(ISNA(Lists!$J81),\"\",IF((INDIRECT(\"'\"&Lists!$J81&\"'!\"&Lists!$K81&AJ$23))=\"\",\"\",(INDIRECT(\"'\"&Lists!$J81&\"'!\"&Lists!$K81&AJ$23))))","v":""},{"$f":"IF(ISNA(Lists!$J81),\"\",IF((INDIRECT(\"'\"&Lists!$J81&\"'!\"&Lists!$K81&AK$23))=\"\",\"\",(INDIRECT(\"'\"&Lists!$J81&\"'!\"&Lists!$K81&AK$23))))","v":""},{"$f":"IF(ISNA(Lists!$J81),\"\",IF((INDIRECT(\"'\"&Lists!$J81&\"'!\"&Lists!$K81&AL$23))=\"\",\"\",(INDIRECT(\"'\"&Lists!$J81&\"'!\"&Lists!$K81&AL$23))))","v":""},{"$f":"IF(ISNA(Lists!$J81),\"\",IF((INDIRECT(\"'\"&Lists!$J81&\"'!\"&Lists!$K81&AM$23))=\"\",\"\",(INDIRECT(\"'\"&Lists!$J81&\"'!\"&Lists!$K81&AM$23))))","v":""},{"$f":"IF(ISNA(Lists!$J81),\"\",IF((INDIRECT(\"'\"&Lists!$J81&\"'!\"&Lists!$K81&AN$23))=\"\",\"\",(INDIRECT(\"'\"&Lists!$J81&\"'!\"&Lists!$K81&AN$23))))","v":""},{"$f":"IF(ISNA(Lists!$J81),\"\",IF((INDIRECT(\"'\"&Lists!$J81&\"'!\"&Lists!$K81&AO$23))=\"\",\"\",(INDIRECT(\"'\"&Lists!$J81&\"'!\"&Lists!$K81&AO$23))))","v":""}]

{"sheet":"COMS1","index":7,"n_rows":58,"n_cols":9,"rows_kept":58,"hidden":true}
["Summary Report – Gaseous and Opacity Excess Emissions and Continuous Monitoring System Performance"]
["Continuous Opacity Monitoring Systems and ESP Parameter Monitoring -- 40 CFR Part 63, Subpart MM"]
[{"$nulls":3},"Tab Name:",{"$f":"MID(CELL(\"filename\",A1),FIND(\"]\",CELL(\"filename\",A1))+1,255)","v":"COMS1"}]
["Company and Site Name",{"$f":"Facility_Info_upload!$C$24&\"--\"&Facility_Info_upload!$D$24","v":"0--0"}]
["Reporting period dates (beginning date, ending date)",{"$f":"CONCATENATE(TEXT(Facility_Info!$B$28,\"mm/dd/yyyy\"),\" - \",TEXT(Facility_Info!$B$29,\"mm/dd/yyyy\"))","v":"01/00/1900 - 01/00/1900"}]
["Process Unit ID",{"$f":"IF(Unit_Info!$C24=\"\",\"\",Unit_Info!$C24)","v":""}]
["Process Unit Type",{"$f":"IF(Unit_Info!$D24=\"\",\"\",Unit_Info!$D24)","v":""}]
["Process Unit Description",{"$f":"IF(Unit_Info!$F24=\"\",\"\",Unit_Info!$F24)","v":""}]
["Air Pollution Control Device Type",{"$f":"IF(Unit_Info!$I24=\"\",\"\",Unit_Info!$I24)","v":""}]
["Total Source Operating Time* (hours)"]
["*Includes all process unit operating time during the reporting period including startup/shutdown, malfunction, and all times when CMS are inoperative or producing invalid readings."]
["Emission Data Summary -- Opacity [§63.867(c)(1)(iv) and (vii)]"]
["Index Number",{"$f":"IF(B14=\"\",\"\",1)","v":""},null,{"$f":"IF(D14=\"\",\"\",B13+1)","v":""},null,{"$f":"IF(F14=\"\",\"\",MAX(B13:D13)+1)","v":""},null,{"$f":"IF(H14=\"\",\"\",MAX(B13:F13)+1)","v":""}]
["Process Unit Emission Point"]
["Operating parameter"]
["Opacity limit, %"]
["Mark with an \"X\" if no excess emissions or exceedances of a parameter have occurred during the reporting period. [§63.10(e)(3)(v)]"]
["Mark with an \"X\" if the CMS has not been inoperative, out of control, repaired, or adjusted during the reporting period. [§63.10(e)(3)(v)]"]
["Mark with an \"X\" if the AVC was operated properly during the reporting period. [§63.8641(e)(1)]"]
[null,"Duration","Count","Duration","Count","Duration","Count","Duration","Count"]
["1. Duration of excess emissions in reporting period due to:1","Minutes","6-min averages","Minutes","6-min averages","Minutes","6-min averages","Minutes","6-min averages"]
["a. Startup/Shutdown"]
["b. Control Equipment Problems"]
["c. Process Problems"]
["d. Other known causes"]
["e. Unknown causes"]
["2. Total duration of excess emissions",{"$f":"IF(B14=\"\",\"\",SUM(B22:B26))","v":""},{"$f":"IF(B14=\"\",\"\",SUM(C22:C26)-IF(B15=\"scrubber pressure drop\",C22,0))","v":""},{"$f":"IF(D14=\"\",\"\",SUM(D22:D26))","v":""},{"$f":"IF(D14=\"\",\"\",SUM(E22:E26)-IF(D15=\"scrubber pressure drop\",E22,0))","v":""},{"$f":"IF(F14=\"\",\"\",SUM(F22:F26))","v":""},{"$f":"IF(F14=\"\",\"\",SUM(G22:G26)-IF(F15=\"scrubber pressure drop\",G22,0))","v":""},{"$f":"IF(H14=\"\",\"\",SUM(H22:H26))","v":""},{"$f":"IF(H14=\"\",\"\",SUM(I22:I26)-IF(H15=\"scrubber pressure drop\",I22,0))","v":""}]
["3. (Total duration of excess emissions) / (Total Source Operating Time) x (100) %2",{"$f":"IF(B14=\"\",\"\",IF($B$10>0,B27/($B$10*60),0))","v":""},{"$f":"IF(B14=\"\",\"\",IF($B$10>0,(C27*6)/($B$10*60),0))","v":""},{"$f":"IF(D14=\"\",\"\",IF($B$10>0,D27/($B$10*60),0))","v":""},{"$f":"IF(D14=\"\",\"\",IF($B$10>0,(E27*6)/($B$10*60),0))","v":""},{"$f":"IF(F14=\"\",\"\",IF($B$10>0,F27/($B$10*60),0))","v":""},{"$f":"IF(F14=\"\",\"\",IF($B$10>0,(G27*6)/($B$10*60),0))","v":""},{"$f":"IF(H14=\"\",\"\",IF($B$10>0,H27/($B$10*60),0))","v":""},{"$f":"IF(H14=\"\",\"\",IF($B$10>0,(I27*6)/($B$10*60),0))","v":""}]
["Do excess emissions equal or exceed 1% of operating time?2",{"$f":"IF(B14=\"\",\"\",IF(B28>=0.01,\"Yes-Use detail form\",\"No\"))","v":""},null,{"$f":"IF(D14=\"\",\"\",IF(D28>=0.01,\"Yes-Use detail form\",\"No\"))","v":""},null,{"$f":"IF(F14=\"\",\"\",IF(F28>=0.01,\"Yes-Use detail form\",\"No\"))","v":""},null,{"$f":"IF(H14=\"\",\"\",IF(H28>=0.01,\"Yes-Use detail form\",\"No\"))","v":""}]
["Is the opacity violation level triggered?\nViolation level (count) = 2% or more of 6-min averages for recovery furnaces, or 3% or more of 6-min averages for lime kilns  [§63.864(k)(2)(i)-(ii)]",null,{"$f":"IF(B14=\"\",\"\",IF(C28>=VLOOKUP($B$15,Violations!$A$21:$D$22,4,FALSE),\"Yes-Use detail and failure forms\",\"No\"))","v":""},null,{"$f":"IF(D14=\"\",\"\",IF(E28>=VLOOKUP($B$15,Violations!$A$21:$D$22,4,FALSE),\"Yes-Use detail and failure forms\",\"No\"))","v":""},null,{"$f":"IF(F14=\"\",\"\",IF(G28>=VLOOKUP($B$15,Violations!$A$21:$D$22,4,FALSE),\"Yes-Use detail and failure forms\",\"No\"))","v":""},null,{"$f":"IF(H14=\"\",\"\",IF(I28>=VLOOKUP($B$15,Violations!$A$21:$D$22,4,FALSE),\"Yes-Use detail and failure forms\",\"No\"))","v":""}]
[null,null,"Count",null,"Count",null,"Count",null,"Count"]
["4. Count of exceedances of corrective action level in reporting period due to:1",null,"10 consecutive 6-min averages",null,"10 consecutive 6-min averages",null,"10 consecutive 6-min averages",null,"10 consecutive 6-min averages"]
["a. Startup/Shutdown"]
["b. Control Equipment Problems"]
["c. Process Problems"]
["d. Other known causes"]
["e. Unknown causes"]
["5. Total count of exceedances of corrective action level",null,{"$f":"IF(B14=\"\",\"\",SUM(C33:C37)-IF(B15=\"scrubber pressure drop\",C33,0))","v":""},null,{"$f":"IF(D14=\"\",\"\",SUM(E33:E37)-IF(D15=\"scrubber pressure drop\",E33,0))","v":""},null,{"$f":"IF(F14=\"\",\"\",SUM(G33:G37)-IF(F15=\"scrubber pressure drop\",G33,0))","v":""},null,{"$f":"IF(H14=\"\",\"\",SUM(I33:I37)-IF(H15=\"scrubber pressure drop\",I33,0))","v":""}]
[" CMS Performance Summary [§63.867(c)(1)(viii)]"]
["Operating parameter",{"$f":"IF(B15=\"\",\"\",B15)","v":""},null,{"$f":"IF(D15=\"\",\"\",D15)","v":""},null,{"$f":"IF(F15=\"\",\"\",F15)","v":""},null,{"$f":"IF(H15=\"\",\"\",H15)","v":""}]
[null,"Duration",null,"Duration",null,"Duration",null,"Duration"]
["1. CMS downtime in reporting period due to:",{"$f":"B21","v":"Minutes"},null,{"$f":"D21","v":"Minutes"},null,{"$f":"F21","v":"Minutes"},null,{"$f":"H21","v":"Minutes"}]
["a. Monitoring equipment malfunctions"]
["b. Non-monitor equipment malfunctions"]
["c. Quality assurance/quality control calibration"]
["d. Other known causes"]
["e. Unknown causes"]
["2. Total CMS downtime",{"$f":"IF(B14=\"\",\"\",SUM(B43:B47))","v":""},null,{"$f":"IF(D14=\"\",\"\",SUM(D43:D47))","v":""},null,{"$f":"IF(F14=\"\",\"\",SUM(F43:F47))","v":""},null,{"$f":"IF(H14=\"\",\"\",SUM(H43:H47))","v":""}]
["3. (Total CMS downtime) / (Total Source Operating Time) x (100) %2",{"$f":"IF(B14=\"\",\"\",IF($B$10>0,B48/($B$10*60),0))","v":""},null,{"$f":"IF(D14=\"\",\"\",IF($B$10>0,D48/($B$10*60),0))","v":""},null,{"$f":"IF(F14=\"\",\"\",IF($B$10>0,F48/($B$10*60),0))","v":""},null,{"$f":"IF(H14=\"\",\"\",IF($B$10>0,H48/($B$10*60),0))","v":""}]
["Is total CMS downtime greater than or equal to 5% of total source operating time?2",{"$f":"IF(B14=\"\",\"\",IF(B49>=0.05,\"Yes-Use detail report\",\"No\"))","v":""},null,{"$f":"IF(D14=\"\",\"\",IF(D49>=0.05,\"Yes-Use detail report\",\"No\"))","v":""},null,{"$f":"IF(F14=\"\",\"\",IF(F49>=0.05,\"Yes-Use detail report\",\"No\"))","v":""},null,{"$f":"IF(H14=\"\",\"\",IF(H49>=0.05,\"Yes-Use detail report\",\"No\"))","v":""}]
["If detailed reporting is required, enter the type and/or filename of the detailed report provided"]
["1. Enter the duration of excess emissions and number of averaging periods recorded as excess emissions, excluding:  "]
["● Monitoring data recorded during periods of unavoidable CMS breakdowns, out-of-control periods, repairs, maintenance periods, calibration checks, and zero (low-level) and high level adjustments [§63.864(h)]"]
["● Monitoring data recorded during periods when spent liquor solids (for recovery furnaces) or lime mud (for kilns) is not fired. [§63.864(k)(1), (k)(2)]"]
["2. If the total duration of excess emissions is 1% or greater of the total operating time, or the total CMS downtime is 5% or greater of the total operating time, both the Summary Report and the Excess Emissions and "]
["Continuous Monitoring Systems Performance Report must be submitted for this CMS and process unit. See the orange CMS Performance Detail and Excess Emissions Detail tabs to complete the Excess Emissions and "]
["Continuous Monitoring Systems Performance Report. [§63.867(c)(1) and (3)]"]
["Count: Enter the number of 6-minute averaging periods recorded as excess emissions during the semiannual reporting period. "]

{"sheet":"CPMS1","index":8,"n_rows":56,"n_cols":27,"rows_kept":56,"hidden":true}
["Summary Report – Gaseous and Opacity Excess Emissions and Continuous Monitoring System Performance"]
["Continuous Parameter Monitoring Systems -- 40 CFR Part 63, Subpart MM"]
[{"$nulls":3},"Tab Name:",{"$f":"MID(CELL(\"filename\",A1),FIND(\"]\",CELL(\"filename\",A1))+1,255)","v":"CPMS1"},{"$nulls":6},"Tab Name:",{"$f":"MID(CELL(\"filename\",I1),FIND(\"]\",CELL(\"filename\",I1))+1,255)","v":"CPMS1"}]
["Company and Site Name",{"$f":"Facility_Info_upload!$C$24&\"--\"&Facility_Info_upload!$D$24","v":"0--0"},{"$nulls":7},{"$f":"Facility_Info_upload!$C$24&\"--\"&Facility_Info_upload!$D$24","v":"0--0"}]
["Reporting period dates (beginning date, ending date)",{"$f":"CONCATENATE(TEXT(Facility_Info!$B$28,\"mm/dd/yyyy\"),\" - \",TEXT(Facility_Info!$B$29,\"mm/dd/yyyy\"))","v":"01/00/1900 - 01/00/1900"},{"$nulls":7},{"$f":"CONCATENATE(TEXT(Facility_Info!$B$28,\"mm/dd/yyyy\"),\" - \",TEXT(Facility_Info!$B$29,\"mm/dd/yyyy\"))","v":"01/00/1900 - 01/00/1900"}]
["Process Unit ID",{"$f":"IF(Unit_Info!$C24=\"\",\"\",Unit_Info!$C24)","v":""},{"$nulls":7},{"$f":"INDEX(Unit_Info!$Z$43:$Z$62,MATCH(CPMS1!$E$3,Unit_Info!$Y$43:$Y$62,0))","v":{"$error":"#N/A"}}]
["Process Unit Type",{"$f":"IF(Unit_Info!$D24=\"\",\"\",Unit_Info!$D24)","v":""},{"$nulls":7},{"$f":"INDEX(Unit_Info!$AA$43:$AA$62,MATCH(CPMS1!$E$3,Unit_Info!$Y$43:$Y$62,0))","v":{"$error":"#N/A"}}]
["Process Unit Description",{"$f":"IF(Unit_Info!$F24=\"\",\"\",Unit_Info!$F24)","v":""},{"$nulls":7},{"$f":"INDEX(Unit_Info!$AB$43:$AB$62,MATCH(CPMS1!$E$3,Unit_Info!$Y$43:$Y$62,0))","v":{"$error":"#N/A"}}]
["Air Pollution Control Device Type",{"$f":"IF(Unit_Info!$I24=\"\",\"\",Unit_Info!$I24)","v":""},{"$nulls":7},{"$f":"INDEX(Unit_Info!$AC$43:$AC$62,MATCH(CPMS1!$E$3,Unit_Info!$Y$43:$Y$62,0))","v":{"$error":"#N/A"}}]
["Total Source Operating Time* (hours)",{"$nulls":8},{"$f":"+B10","v":0}]
["*Includes all process unit operating time during the reporting period including startup/shutdown, malfunction, and all times when CMS are inoperative or producing invalid readings."]
["Emission Data Summary [§63.867(c)(1)(iv) and (vii)]"]
["Index Number",{"$f":"IF(B14=\"\",\"\",1)","v":""},null,{"$f":"IF(D14=\"\",\"\",B13+1)","v":""},null,{"$f":"IF(F14=\"\",\"\",MAX(B13:D13)+1)","v":""},null,{"$f":"IF(H14=\"\",\"\",MAX(B13:F13)+1)","v":""},null,{"$f":"IF(J14=\"\",\"\",MAX(D13:H13)+1)","v":""},null,{"$f":"IF(L14=\"\",\"\",MAX(F13:J13)+1)","v":""},null,{"$f":"IF(N14=\"\",\"\",MAX(H13:L13)+1)","v":""},null,{"$f":"IF(P14=\"\",\"\",MAX(J13:N13)+1)","v":""}]
["Operating parameter"]
["Averaging period"]
["Operating parameter limit (numerical value)",{"$nulls":20},"Combine for EE","Duration","Count"]
["   Operating limit units (text)",{"$nulls":20},{"$f":"B14","v":0},{"$f":"B27","v":""},{"$f":"C27","v":""}]
["Mark with an \"X\" if no excess emissions or exceedances of a parameter have occurred during the reporting period. [§63.10(e)(3)(v)]",{"$nulls":20},{"$f":"D14","v":0},{"$f":"D27","v":""},{"$f":"E27","v":""}]
["Mark with an \"X\" if the CMS has not been inoperative, out of control, repaired, or adjusted during the reporting period. [§63.10(e)(3)(v)]",{"$nulls":20},{"$f":"F14","v":0},{"$f":"F27","v":""},{"$f":"G27","v":""}]
[null,"Duration","Count","Duration","Count","Duration","Count","Duration","Count","Duration","Count","Duration","Count","Duration","Count","Duration","Count",{"$nulls":4},{"$f":"J14","v":0},{"$f":"J27","v":""},{"$f":"K27","v":""}]
["1. Duration of excess emissions in reporting period due to:1","Hours","No. of Averages4","Hours","No. of Averages4","Hours","No. of Averages4","Hours","No. of Averages4","Hours","No. of Averages4","Hours","No. of Averages4","Hours","No. of Averages4","Hours","No. of Averages4",{"$nulls":4},{"$f":"L14","v":0},{"$f":"L27","v":""},{"$f":"M27","v":""}]
["a. Startup/Shutdown",{"$nulls":20},{"$f":"N14","v":0},{"$f":"N27","v":""},{"$f":"O27","v":""}]
["b. Control Equipment Problems",{"$nulls":20},{"$f":"P14","v":0},{"$f":"P27","v":""},{"$f":"Q27","v":""}]
["c. Process Problems",{"$nulls":22},{"$f":"IF(OR(B9=\"Wet Scrubber\", B9=\"ESP and wet scrubber\"),$C$31,\"0\")","v":"0"}]
["d. Other known causes",{"$nulls":20},"Scrubber",{"$f":"SUMIFS(W17:W23,$V$17:$V$23,\"Scrubber liquid flow\")+SUMIFS(W17:W23,$V$17:$V$23,\"SDT scrubber fan amperage\")+SUMIFS(W17:W23,$V$17:$V$23,\"Scrubber pressure drop\")","v":0},{"$f":"SUMIFS(X17:X23,$V$17:$V$23,\"Scrubber liquid flow\")+SUMIFS(X17:X23,$V$17:$V$23,\"SDT scrubber fan amperage\")+SUMIFS(X17:X23,$V$17:$V$23,\"Scrubber pressure drop\")-X24","v":0},null,{"$f":"IF(W25/$B$10>0.01,\"Yes-Use detail forms\",\"No\")","v":{"$error":"#DIV/0!"}},{"$f":"IF(X25>5,\"Yes-Use detail and failure forms\",\"No\")","v":"No"}]
["e. Unknown causes",{"$nulls":20},"Other",{"$f":"SUMIFS(W17:W23,$V$17:$V$23,\"Alternative parameter (3-hr)\")","v":0},{"$f":"SUMIFS(X17:X23,$V$17:$V$23,\"Alternative parameter (3-hr)\")-X24","v":0},null,{"$f":"IF(W26/$B$10>0.01,\"Yes-Use detail forms\",\"No\")","v":{"$error":"#DIV/0!"}},{"$f":"IF(X26>5,\"Yes-Use detail and failure forms\",\"No\")","v":"No"}]
["2. Total duration of excess emissions2",{"$f":"IF(B14=\"\",\"\",SUM(B22:B26)-IF(B14=\"scrubber pressure drop\",B22,0))","v":""},{"$f":"IF(B14=\"\",\"\",SUM(C22:C26)-IF(B14=\"scrubber pressure drop\",C22,0))","v":""},{"$f":"IF(D14=\"\",\"\",SUM(D22:D26)-IF(D14=\"scrubber pressure drop\",D22,0))","v":""},{"$f":"IF(D14=\"\",\"\",SUM(E22:E26)-IF(D14=\"scrubber pressure drop\",E22,0))","v":""},{"$f":"IF(F14=\"\",\"\",SUM(F22:F26)-IF(F14=\"scrubber pressure drop\",F22,0))","v":""},{"$f":"IF(F14=\"\",\"\",SUM(G22:G26)-IF(F14=\"scrubber pressure drop\",G22,0))","v":""},{"$f":"IF(H14=\"\",\"\",SUM(H22:H26)-IF(H14=\"scrubber pressure drop\",H22,0))","v":""},{"$f":"IF(H14=\"\",\"\",SUM(I22:I26)-IF(H14=\"scrubber pressure drop\",I22,0))","v":""},{"$f":"IF(J14=\"\",\"\",SUM(J22:J26)-IF(J14=\"scrubber pressure drop\",J22,0))","v":""},{"$f":"IF(J14=\"\",\"\",SUM(K22:K26)-IF(J14=\"scrubber pressure drop\",K22,0))","v":""},{"$f":"IF(L14=\"\",\"\",SUM(L22:L26)-IF(L14=\"scrubber pressure drop\",L22,0))","v":""},{"$f":"IF(L14=\"\",\"\",SUM(M22:M26)-IF(L14=\"scrubber pressure drop\",M22,0))","v":""},{"$f":"IF(N14=\"\",\"\",SUM(N22:N26)-IF(N14=\"scrubber pressure drop\",N22,0))","v":""},{"$f":"IF(N14=\"\",\"\",SUM(O22:O26)-IF(N14=\"scrubber pressure drop\",O22,0))","v":""},{"$f":"IF(P14=\"\",\"\",SUM(P22:P26)-IF(P14=\"scrubber pressure drop\",P22,0))","v":""},{"$f":"IF(P14=\"\",\"\",SUM(Q22:Q26)-IF(P14=\"scrubber pressure drop\",Q22,0))","v":""}]
["3. (Total duration of excess emissions) / (Total Source Operating Time) x (100) %3",{"$f":"IF(B14=\"\",\"\",IF($B$10>0,B27/$B$10,0))","v":""},null,{"$f":"IF(D14=\"\",\"\",IF($B$10>0,D27/$B$10,0))","v":""},null,{"$f":"IF(F14=\"\",\"\",IF($B$10>0,F27/$B$10,0))","v":""},null,{"$f":"IF(H14=\"\",\"\",IF($B$10>0,H27/$B$10,0))","v":""},null,{"$f":"IF(J14=\"\",\"\",IF($B$10>0,J27/$B$10,0))","v":""},null,{"$f":"IF(L14=\"\",\"\",IF($B$10>0,L27/$B$10,0))","v":""},null,{"$f":"IF(N14=\"\",\"\",IF($B$10>0,N27/$B$10,0))","v":""},null,{"$f":"IF(P14=\"\",\"\",IF($B$10>0,P27/$B$10,0))","v":""}]
["Do excess emissions in item 3 meet or exceed 1% of operating time?",{"$f":"IF(B14=\"\",\"\",IF(B28>=0.01,\"Yes-Use detail form\",\"No\"))","v":""},null,{"$f":"IF(D14=\"\",\"\",IF(D28>=0.01,\"Yes-Use detail form\",\"No\"))","v":""},null,{"$f":"IF(F14=\"\",\"\",IF(F28>=0.01,\"Yes-Use detail form\",\"No\"))","v":""},null,{"$f":"IF(H14=\"\",\"\",IF(H28>=0.01,\"Yes-Use detail form\",\"No\"))","v":""},null,{"$f":"IF(J14=\"\",\"\",IF(J28>=0.01,\"Yes-Use detail form\",\"No\"))","v":""},null,{"$f":"IF(L14=\"\",\"\",IF(L28>=0.01,\"Yes-Use detail form\",\"No\"))","v":""},null,{"$f":"IF(N14=\"\",\"\",IF(N28>=0.01,\"Yes-Use detail form\",\"No\"))","v":""},null,{"$f":"IF(P14=\"\",\"\",IF(P28>=0.01,\"Yes-Use detail form\",\"No\"))","v":""}]
["Is the violation level triggered in item 2 above?  \nViolation level: Six or more 3-hour average parameter values or any 3-hour average RTO temperature per semiannual period.",null,{"$f":"IF(B14=\"\",\"\",IF(OR(B14=\"RTO temperature (1-hr)\",B14=\"Bypass of Control Device\",B14=\"Automatic Voltage Control\"),\"Not Applicable\",IF(C27<VLOOKUP(B14,Violations!$A$6:$D$10,4,FALSE),\"No\",\"Yes\")))","v":""},null,{"$f":"IF(B14=\"\",\"\",IF(OR(B14=\"RTO temperature (1-hr)\",B14=\"Bypass of Control Device\",B14=\"Automatic Voltage Control\"),\"Not Applicable\",IF(C27<VLOOKUP(B14,Violations!$A$6:$D$10,4,FALSE),\"No\",\"Yes\")))","v":""},null,{"$f":"IF(B14=\"\",\"\",IF(OR(B14=\"RTO temperature (1-hr)\",B14=\"Bypass of Control Device\",B14=\"Automatic Voltage Control\"),\"Not Applicable\",IF(C27<VLOOKUP(B14,Violations!$A$6:$D$10,4,FALSE),\"No\",\"Yes\")))","v":""},null,{"$f":"IF(B14=\"\",\"\",IF(OR(B14=\"RTO temperature (1-hr)\",B14=\"Bypass of Control Device\",B14=\"Automatic Voltage Control\"),\"Not Applicable\",IF(C27<VLOOKUP(B14,Violations!$A$6:$D$10,4,FALSE),\"No\",\"Yes\")))","v":""},null,{"$f":"IF(B14=\"\",\"\",IF(OR(B14=\"RTO temperature (1-hr)\",B14=\"Bypass of Control Device\",B14=\"Automatic Voltage Control\"),\"Not Applicable\",IF(C27<VLOOKUP(B14,Violations!$A$6:$D$10,4,FALSE),\"No\",\"Yes\")))","v":""},null,{"$f":"IF(B14=\"\",\"\",IF(OR(B14=\"RTO temperature (1-hr)\",B14=\"Bypass of Control Device\",B14=\"Automatic Voltage Control\"),\"Not Applicable\",IF(C27<VLOOKUP(B14,Violations!$A$6:$D$10,4,FALSE),\"No\",\"Yes\")))","v":""},null,{"$f":"IF(B14=\"\",\"\",IF(OR(B14=\"RTO temperature (1-hr)\",B14=\"Bypass of Control Device\",B14=\"Automatic Voltage Control\"),\"Not Applicable\",IF(C27<VLOOKUP(B14,Violations!$A$6:$D$10,4,FALSE),\"No\",\"Yes\")))","v":""},null,{"$f":"IF(B14=\"\",\"\",IF(OR(B14=\"RTO temperature (1-hr)\",B14=\"Bypass of Control Device\",B14=\"Automatic Voltage Control\"),\"Not Applicable\",IF(C27<VLOOKUP(B14,Violations!$A$6:$D$10,4,FALSE),\"No\",\"Yes\")))","v":""}]
["Do any of the Count of No. of Averages in item 2 above occur concurrently? If so, how many?"]
["Do combined excess emissions in item 3 and/or combined counts in item 2 result in reporting requirements? (For scrubbers and other only)",{"$f":"IF(B14=\"\",\"\",IF(B9=\"Wet Scrubber\",Z25,IF(B9=\"ESP and Wet Scrubber\",Z25,IF(B14=\"Alternative parameter (3-hr)\",Z26,\"NA\"))))","v":""},{"$f":"IF(B14=\"\",\"\",IF(B9=\"Wet Scrubber\",AA25,IF(B9=\"ESP and Wet Scrubber\",AA25,IF(B14=\"Alternative parameter (3-hr)\",AA26,\"NA\"))))","v":""}]
["CMS Performance Summary [§63.867(c)(1)(viii)]"]
["Operating parameter",{"$f":"IF(B14=\"\",\"\",B14)","v":""},null,{"$f":"IF(D14=\"\",\"\",D14)","v":""},null,{"$f":"IF(F14=\"\",\"\",F14)","v":""},null,{"$f":"IF(H14=\"\",\"\",H14)","v":""},null,{"$f":"IF(J14=\"\",\"\",J14)","v":""},null,{"$f":"IF(L14=\"\",\"\",L14)","v":""},null,{"$f":"IF(N14=\"\",\"\",N14)","v":""},null,{"$f":"IF(P14=\"\",\"\",P14)","v":""}]
[null,"Duration",null,"Duration",null,"Duration",null,"Duration",null,"Duration",null,"Duration",null,"Duration",null,"Duration"]
["1. CMS downtime in reporting period due to:","Hours",null,"Hours",null,"Hours",null,"Hours",null,"Hours",null,"Hours",null,"Hours",null,"Hours"]
["a. Monitoring equipment malfunctions"]
["b. Non-monitor equipment malfunctions"]
["c. Quality assurance/quality control calibration"]
["d. Other known causes"]
["e. Unknown causes"]
["2. Total CMS downtime",{"$f":"IF(B14=\"\",\"\",SUM(B37:B41))","v":""},null,{"$f":"IF(D14=\"\",\"\",SUM(D37:D41))","v":""},null,{"$f":"IF(F14=\"\",\"\",SUM(F37:F41))","v":""},null,{"$f":"IF(H14=\"\",\"\",SUM(H37:H41))","v":""},null,{"$f":"IF(J14=\"\",\"\",SUM(J37:J41))","v":""},null,{"$f":"IF(L14=\"\",\"\",SUM(L37:L41))","v":""},null,{"$f":"IF(N14=\"\",\"\",SUM(N37:N41))","v":""},null,{"$f":"IF(P14=\"\",\"\",SUM(P37:P41))","v":""}]
["3. (Total CMS downtime) / (Total Source Operating Time) x (100) %3",{"$f":"IF(B14=\"\",\"\",IF($B$10>0,B42/$B$10,0))","v":""},null,{"$f":"IF(D14=\"\",\"\",IF($B$10>0,D42/$B$10,0))","v":""},null,{"$f":"IF(F14=\"\",\"\",IF($B$10>0,F42/$B$10,0))","v":""},null,{"$f":"IF(H14=\"\",\"\",IF($B$10>0,H42/$B$10,0))","v":""},null,{"$f":"IF(J14=\"\",\"\",IF($B$10>0,J42/$B$10,0))","v":""},null,{"$f":"IF(L14=\"\",\"\",IF($B$10>0,L42/$B$10,0))","v":""},null,{"$f":"IF(N14=\"\",\"\",IF($B$10>0,N42/$B$10,0))","v":""},null,{"$f":"IF(P14=\"\",\"\",IF($B$10>0,P42/$B$10,0))","v":""}]
["Is total CMS downtime greater than or equal to 5% of total source operating time?",{"$f":"IF(B14=\"\",\"\",IF(B43>=0.05,\"Yes-Use detail form\",\"No\"))","v":""},null,{"$f":"IF(D14=\"\",\"\",IF(D43>=0.05,\"Yes-Use detail form\",\"No\"))","v":""},null,{"$f":"IF(F14=\"\",\"\",IF(F43>=0.05,\"Yes-Use detail form\",\"No\"))","v":""},null,{"$f":"IF(H14=\"\",\"\",IF(H43>=0.05,\"Yes-Use detail form\",\"No\"))","v":""},null,{"$f":"IF(J14=\"\",\"\",IF(J43>=0.05,\"Yes-Use detail form\",\"No\"))","v":""},null,{"$f":"IF(L14=\"\",\"\",IF(L43>=0.05,\"Yes-Use detail form\",\"No\"))","v":""},null,{"$f":"IF(N14=\"\",\"\",IF(N43>=0.05,\"Yes-Use detail form\",\"No\"))","v":""},null,{"$f":"IF(P14=\"\",\"\",IF(P43>=0.05,\"Yes-Use detail form\",\"No\"))","v":""}]
["If detailed reporting is required, enter the type and/or filename of the detailed report provided"]
["Comments or clarifications if necessary:"]
["1. Enter the duration of excess emissions and number of averaging periods recorded as excess emissions, excluding:  "]
["● Monitoring data recorded during periods of unavoidable CMS breakdowns, out-of-control periods, repairs, maintenance periods, calibration checks, and zero (low-level) and high level adjustments [§63.864(h)]"]
["● Monitoring data recorded during periods when spent liquor solids (for recovery furnaces) or lime mud (for kilns) is not fired. [§63.864(k)(1), (k)(2)]"]
["2. Excludes periods of startup/shutdown for scrubber pressure drop."]
["3. If the total duration of excess emissions is 1% or greater of the total operating time, or the total CMS downtime is 5% or greater of the total operating time, both the Summary Report and the Excess Emissions "]
["and Continuous Monitoring Systems Performance Report must be submitted for this CMS and process unit. See the orange CMS Performance Detail and Excess Emissions Detail tabs to complete the Excess "]
["Emissions and Continuous Monitoring Systems Performance Report. [§63.867(c)(1) and (3)]"]
["4. Count: Enter the number of averaging periods recorded as excess emissions during the semiannual reporting period. No more than one exceedance will be attributed in any given 24-hour period as specified in §63.864(k)(3); "]
["thus, you are only required to enter one 3-hour average exceedance for a given 24-hour period."]
["Note: It is possible that the duration hours reported may exceed the hours associated with the count of averaging periods due the provision in §63.864(k)(3). "]

{"sheet":"COMS2","index":9,"n_rows":58,"n_cols":9,"rows_kept":58,"hidden":true}
["Summary Report – Gaseous and Opacity Excess Emissions and Continuous Monitoring System Performance"]
["Continuous Opacity Monitoring Systems and ESP Parameter Monitoring -- 40 CFR Part 63, Subpart MM"]
[{"$nulls":3},"Tab Name:",{"$f":"MID(CELL(\"filename\",A1),FIND(\"]\",CELL(\"filename\",A1))+1,255)","v":"COMS2"}]
["Company and Site Name",{"$f":"Facility_Info_upload!$C$24&\"--\"&Facility_Info_upload!$D$24","v":"0--0"}]
["Reporting period dates (beginning date, ending date)",{"$f":"CONCATENATE(TEXT(Facility_Info!$B$28,\"mm/dd/yyyy\"),\" - \",TEXT(Facility_Info!$B$29,\"mm/dd/yyyy\"))","v":"01/00/1900 - 01/00/1900"}]
["Process Unit ID",{"$f":"IF(Unit_Info!$C25=\"\",\"\",Unit_Info!$C25)","v":""}]
["Process Unit Type",{"$f":"IF(Unit_Info!$D25=\"\",\"\",Unit_Info!$D25)","v":""}]
["Process Unit Description",{"$f":"IF(Unit_Info!$F25=\"\",\"\",Unit_Info!$F25)","v":""}]
["Air Pollution Control Device Type",{"$f":"IF(Unit_Info!$I25=\"\",\"\",Unit_Info!$I25)","v":""}]
["Total Source Operating Time* (hours)"]
["*Includes all process unit operating time during the reporting period including startup/shutdown, malfunction, and all times when CMS are inoperative or producing invalid readings."]
["Emission Data Summary -- Opacity [§63.867(c)(1)(iv) and (vii)]"]
["Index Number",{"$f":"IF(B14=\"\",\"\",MAX(COMS1!B13:H13)+1)","v":""},null,{"$f":"IF(D14=\"\",\"\",B13+1)","v":""},null,{"$f":"IF(F14=\"\",\"\",MAX(B13:D13)+1)","v":""},null,{"$f":"IF(H14=\"\",\"\",MAX(B13:F13)+1)","v":""}]
["Process Unit Emission Point"]
["Operating parameter"]
["Opacity limit, %"]
["Mark with an \"X\" if no excess emissions or exceedances of a parameter have occurred during the reporting period. [§63.10(e)(3)(v)]"]
["Mark with an \"X\" if the CMS has not been inoperative, out of control, repaired, or adjusted during the reporting period. [§63.10(e)(3)(v)]"]
["Mark with an \"X\" if the AVC was operated properly during the reporting period. [§63.8641(e)(1)]"]
[null,"Duration","Count","Duration","Count","Duration","Count","Duration","Count"]
["1. Duration of excess emissions in reporting period due to:1","Minutes","6-min averages","Minutes","6-min averages","Minutes","6-min averages","Minutes","6-min averages"]
["a. Startup/Shutdown"]
["b. Control Equipment Problems"]
["c. Process Problems"]
["d. Other known causes"]
["e. Unknown causes"]
["2. Total duration of excess emissions",{"$f":"IF(B14=\"\",\"\",SUM(B22:B26))","v":""},{"$f":"IF(B14=\"\",\"\",SUM(C22:C26)-IF(B15=\"scrubber pressure drop\",C22,0))","v":""},{"$f":"IF(D14=\"\",\"\",SUM(D22:D26))","v":""},{"$f":"IF(D14=\"\",\"\",SUM(E22:E26)-IF(D15=\"scrubber pressure drop\",E22,0))","v":""},{"$f":"IF(F14=\"\",\"\",SUM(F22:F26))","v":""},{"$f":"IF(F14=\"\",\"\",SUM(G22:G26)-IF(F15=\"scrubber pressure drop\",G22,0))","v":""},{"$f":"IF(H14=\"\",\"\",SUM(H22:H26))","v":""},{"$f":"IF(H14=\"\",\"\",SUM(I22:I26)-IF(H15=\"scrubber pressure drop\",I22,0))","v":""}]
["3. (Total duration of excess emissions) / (Total Source Operating Time) x (100) %2",{"$f":"IF(B14=\"\",\"\",IF($B$10>0,B27/($B$10*60),0))","v":""},{"$f":"IF(B14=\"\",\"\",IF($B$10>0,(C27*6)/($B$10*60),0))","v":""},{"$f":"IF(D14=\"\",\"\",IF($B$10>0,D27/($B$10*60),0))","v":""},{"$f":"IF(D14=\"\",\"\",IF($B$10>0,(E27*6)/($B$10*60),0))","v":""},{"$f":"IF(F14=\"\",\"\",IF($B$10>0,F27/($B$10*60),0))","v":""},{"$f":"IF(F14=\"\",\"\",IF($B$10>0,(G27*6)/($B$10*60),0))","v":""},{"$f":"IF(H14=\"\",\"\",IF($B$10>0,H27/($B$10*60),0))","v":""},{"$f":"IF(H14=\"\",\"\",IF($B$10>0,(I27*6)/($B$10*60),0))","v":""}]
["Do excess emissions equal or exceed 1% of operating time?2",{"$f":"IF(B14=\"\",\"\",IF(B28>=0.01,\"Yes-Use detail form\",\"No\"))","v":""},null,{"$f":"IF(D14=\"\",\"\",IF(D28>=0.01,\"Yes-Use detail form\",\"No\"))","v":""},null,{"$f":"IF(F14=\"\",\"\",IF(F28>=0.01,\"Yes-Use detail form\",\"No\"))","v":""},null,{"$f":"IF(H14=\"\",\"\",IF(H28>=0.01,\"Yes-Use detail form\",\"No\"))","v":""}]
["Is the opacity violation level triggered?\nViolation level (count) = 2% or more of 6-min averages for recovery furnaces, or 3% or more of 6-min averages for lime kilns  [§63.864(k)(2)(i)-(ii)]",null,{"$f":"IF(B14=\"\",\"\",IF(C28>=VLOOKUP($B$15,Violations!$A$21:$D$22,4,FALSE),\"Yes-Use detail and failure forms\",\"No\"))","v":""},null,{"$f":"IF(D14=\"\",\"\",IF(E28>=VLOOKUP($B$15,Violations!$A$21:$D$22,4,FALSE),\"Yes-Use detail and failure forms\",\"No\"))","v":""},null,{"$f":"IF(F14=\"\",\"\",IF(G28>=VLOOKUP($B$15,Violations!$A$21:$D$22,4,FALSE),\"Yes-Use detail and failure forms\",\"No\"))","v":""},null,{"$f":"IF(H14=\"\",\"\",IF(I28>=VLOOKUP($B$15,Violations!$A$21:$D$22,4,FALSE),\"Yes-Use detail and failure forms\",\"No\"))","v":""}]
[null,null,"Count",null,"Count",null,"Count",null,"Count"]
["4. Count of exceedances of corrective action level in reporting period due to:1",null,"10 consecutive 6-min averages",null,"10 consecutive 6-min averages",null,"10 consecutive 6-min averages",null,"10 consecutive 6-min averages"]
["a. Startup/Shutdown"]
["b. Control Equipment Problems"]
["c. Process Problems"]
["d. Other known causes"]
["e. Unknown causes"]
["5. Total count of exceedances of corrective action level",null,{"$f":"IF(B14=\"\",\"\",SUM(C33:C37)-IF(B15=\"scrubber pressure drop\",C33,0))","v":""},null,{"$f":"IF(D14=\"\",\"\",SUM(E33:E37)-IF(D15=\"scrubber pressure drop\",E33,0))","v":""},null,{"$f":"IF(F14=\"\",\"\",SUM(G33:G37)-IF(F15=\"scrubber pressure drop\",G33,0))","v":""},null,{"$f":"IF(H14=\"\",\"\",SUM(I33:I37)-IF(H15=\"scrubber pressure drop\",I33,0))","v":""}]
[" CMS Performance Summary [§63.867(c)(1)(viii)]"]
["Operating parameter",{"$f":"IF(B15=\"\",\"\",B15)","v":""},null,{"$f":"IF(D15=\"\",\"\",D15)","v":""},null,{"$f":"IF(F15=\"\",\"\",F15)","v":""},null,{"$f":"IF(H15=\"\",\"\",H15)","v":""}]
[null,"Duration",null,"Duration",null,"Duration",null,"Duration"]
["1. CMS downtime in reporting period due to:",{"$f":"B21","v":"Minutes"},null,{"$f":"D21","v":"Minutes"},null,{"$f":"F21","v":"Minutes"},null,{"$f":"H21","v":"Minutes"}]
["a. Monitoring equipment malfunctions"]
["b. Non-monitor equipment malfunctions"]
["c. Quality assurance/quality control calibration"]
["d. Other known causes"]
["e. Unknown causes"]
["2. Total CMS downtime",{"$f":"IF(B14=\"\",\"\",SUM(B43:B47))","v":""},null,{"$f":"IF(D14=\"\",\"\",SUM(D43:D47))","v":""},null,{"$f":"IF(F14=\"\",\"\",SUM(F43:F47))","v":""},null,{"$f":"IF(H14=\"\",\"\",SUM(H43:H47))","v":""}]
["3. (Total CMS downtime) / (Total Source Operating Time) x (100) %2",{"$f":"IF(B14=\"\",\"\",IF($B$10>0,B48/($B$10*60),0))","v":""},null,{"$f":"IF(D14=\"\",\"\",IF($B$10>0,D48/($B$10*60),0))","v":""},null,{"$f":"IF(F14=\"\",\"\",IF($B$10>0,F48/($B$10*60),0))","v":""},null,{"$f":"IF(H14=\"\",\"\",IF($B$10>0,H48/($B$10*60),0))","v":""}]
["Is total CMS downtime greater than or equal to 5% of total source operating time?2",{"$f":"IF(B14=\"\",\"\",IF(B49>=0.05,\"Yes-Use detail report\",\"No\"))","v":""},null,{"$f":"IF(D14=\"\",\"\",IF(D49>=0.05,\"Yes-Use detail report\",\"No\"))","v":""},null,{"$f":"IF(F14=\"\",\"\",IF(F49>=0.05,\"Yes-Use detail report\",\"No\"))","v":""},null,{"$f":"IF(H14=\"\",\"\",IF(H49>=0.05,\"Yes-Use detail report\",\"No\"))","v":""}]
["If detailed reporting is required, enter the type and/or filename of the detailed report provided"]
["1. Enter the duration of excess emissions and number of averaging periods recorded as excess emissions, excluding:  "]
["● Monitoring data recorded during periods of unavoidable CMS breakdowns, out-of-control periods, repairs, maintenance periods, calibration checks, and zero (low-level) and high level adjustments [§63.864(h)]"]
["● Monitoring data recorded during periods when spent liquor solids (for recovery furnaces) or lime mud (for kilns) is not fired. [§63.864(k)(1), (k)(2)]"]
["2. If the total duration of excess emissions is 1% or greater of the total operating time, or the total CMS downtime is 5% or greater of the total operating time, both the Summary Report and the Excess Emissions and "]
["Continuous Monitoring Systems Performance Report must be submitted for this CMS and process unit. See the orange CMS Performance Detail and Excess Emissions Detail tabs to complete the Excess Emissions and "]
["Continuous Monitoring Systems Performance Report. [§63.867(c)(1) and (3)]"]
["Count: Enter the number of 6-minute averaging periods recorded as excess emissions during the semiannual reporting period. "]

{"sheet":"CPMS2","index":10,"n_rows":56,"n_cols":27,"rows_kept":56,"hidden":true}
["Summary Report – Gaseous and Opacity Excess Emissions and Continuous Monitoring System Performance"]
["Continuous Parameter Monitoring Systems -- 40 CFR Part 63, Subpart MM"]
[{"$nulls":3},"Tab Name:",{"$f":"MID(CELL(\"filename\",A1),FIND(\"]\",CELL(\"filename\",A1))+1,255)","v":"CPMS2"},{"$nulls":6},"Tab Name:",{"$f":"MID(CELL(\"filename\",I1),FIND(\"]\",CELL(\"filename\",I1))+1,255)","v":"CPMS2"}]
["Company and Site Name",{"$f":"Facility_Info_upload!$C$24&\"--\"&Facility_Info_upload!$D$24","v":"0--0"},{"$nulls":7},{"$f":"Facility_Info_upload!$C$24&\"--\"&Facility_Info_upload!$D$24","v":"0--0"}]
["Reporting period dates (beginning date, ending date)",{"$f":"CONCATENATE(TEXT(Facility_Info!$B$28,\"mm/dd/yyyy\"),\" - \",TEXT(Facility_Info!$B$29,\"mm/dd/yyyy\"))","v":"01/00/1900 - 01/00/1900"},{"$nulls":7},{"$f":"CONCATENATE(TEXT(Facility_Info!$B$28,\"mm/dd/yyyy\"),\" - \",TEXT(Facility_Info!$B$29,\"mm/dd/yyyy\"))","v":"01/00/1900 - 01/00/1900"}]
["Process Unit ID",{"$f":"IF(Unit_Info!$C25=\"\",\"\",Unit_Info!$C25)","v":""},{"$nulls":7},{"$f":"INDEX(Unit_Info!$Z$43:$Z$62,MATCH(CPMS2!$E$3,Unit_Info!$Y$43:$Y$62,0))","v":{"$error":"#N/A"}}]
["Process Unit Type",{"$f":"IF(Unit_Info!$D25=\"\",\"\",Unit_Info!$D25)","v":""},{"$nulls":7},{"$f":"INDEX(Unit_Info!$AA$43:$AA$62,MATCH(CPMS2!$E$3,Unit_Info!$Y$43:$Y$62,0))","v":{"$error":"#N/A"}}]
["Process Unit Description",{"$f":"IF(Unit_Info!$F25=\"\",\"\",Unit_Info!$F25)","v":""},{"$nulls":7},{"$f":"INDEX(Unit_Info!$AB$43:$AB$62,MATCH(CPMS2!$E$3,Unit_Info!$Y$43:$Y$62,0))","v":{"$error":"#N/A"}}]
["Air Pollution Control Device Type",{"$f":"IF(Unit_Info!$I25=\"\",\"\",Unit_Info!$I25)","v":""},{"$nulls":7},{"$f":"INDEX(Unit_Info!$AC$43:$AC$62,MATCH(CPMS2!$E$3,Unit_Info!$Y$43:$Y$62,0))","v":{"$error":"#N/A"}}]
["Total Source Operating Time* (hours)",{"$nulls":8},{"$f":"+B10","v":0}]
["*Includes all process unit operating time during the reporting period including startup/shutdown, malfunction, and all times when CMS are inoperative or producing invalid readings."]
["Emission Data Summary [§63.867(c)(1)(iv) and (vii)]"]
["Index Number",{"$f":"IF(B14=\"\",\"\",MAX(CPMS1!B13:H13)+1)","v":""},null,{"$f":"IF(D14=\"\",\"\",B13+1)","v":""},null,{"$f":"IF(F14=\"\",\"\",MAX(B13:D13)+1)","v":""},null,{"$f":"IF(H14=\"\",\"\",MAX(B13:F13)+1)","v":""},null,{"$f":"IF(J14=\"\",\"\",MAX(D13:H13)+1)","v":""},null,{"$f":"IF(L14=\"\",\"\",MAX(F13:J13)+1)","v":""},null,{"$f":"IF(N14=\"\",\"\",MAX(H13:L13)+1)","v":""},null,{"$f":"IF(P14=\"\",\"\",MAX(J13:N13)+1)","v":""}]
["Operating parameter"]
["Averaging period"]
["Operating parameter limit (numerical value)",{"$nulls":20},"Combine for EE","Duration","Count"]
["   Operating limit units (text)",{"$nulls":20},{"$f":"B14","v":0},{"$f":"B27","v":""},{"$f":"C27","v":""}]
["Mark with an \"X\" if no excess emissions or exceedances of a parameter have occurred during the reporting period. [§63.10(e)(3)(v)]",{"$nulls":20},{"$f":"D14","v":0},{"$f":"D27","v":""},{"$f":"E27","v":""}]
["Mark with an \"X\" if the CMS has not been inoperative, out of control, repaired, or adjusted during the reporting period. [§63.10(e)(3)(v)]",{"$nulls":20},{"$f":"F14","v":0},{"$f":"F27","v":""},{"$f":"G27","v":""}]
[null,"Duration","Count","Duration","Count","Duration","Count","Duration","Count","Duration","Count","Duration","Count","Duration","Count","Duration","Count",{"$nulls":4},{"$f":"J14","v":0},{"$f":"J27","v":""},{"$f":"K27","v":""}]
["1. Duration of excess emissions in reporting period due to:1","Hours","No. of Averages4","Hours","No. of Averages4","Hours","No. of Averages4","Hours","No. of Averages4","Hours","No. of Averages4","Hours","No. of Averages4","Hours","No. of Averages4","Hours","No. of Averages4",{"$nulls":4},{"$f":"L14","v":0},{"$f":"L27","v":""},{"$f":"M27","v":""}]
["a. Startup/Shutdown",{"$nulls":20},{"$f":"N14","v":0},{"$f":"N27","v":""},{"$f":"O27","v":""}]
["b. Control Equipment Problems",{"$nulls":20},{"$f":"P14","v":0},{"$f":"P27","v":""},{"$f":"Q27","v":""}]
["c. Process Problems",{"$nulls":22},{"$f":"IF(OR(B9=\"Wet Scrubber\", B9=\"ESP and wet scrubber\"),$C$31,\"0\")","v":"0"}]
["d. Other known causes",{"$nulls":20},"Scrubber",{"$f":"SUMIFS(W17:W23,$V$17:$V$23,\"Scrubber liquid flow\")+SUMIFS(W17:W23,$V$17:$V$23,\"SDT scrubber fan amperage\")+SUMIFS(W17:W23,$V$17:$V$23,\"Scrubber pressure drop\")","v":0},{"$f":"SUMIFS(X17:X23,$V$17:$V$23,\"Scrubber liquid flow\")+SUMIFS(X17:X23,$V$17:$V$23,\"SDT scrubber fan amperage\")+SUMIFS(X17:X23,$V$17:$V$23,\"Scrubber pressure drop\")-X24","v":0},null,{"$f":"IF(W25/$B$10>0.01,\"Yes-Use detail forms\",\"No\")","v":{"$error":"#DIV/0!"}},{"$f":"IF(X25>5,\"Yes-Use detail and failure forms\",\"No\")","v":"No"}]
["e. Unknown causes",{"$nulls":20},"Other",{"$f":"SUMIFS(W17:W23,$V$17:$V$23,\"Alternative parameter (3-hr)\")","v":0},{"$f":"SUMIFS(X17:X23,$V$17:$V$23,\"Alternative parameter (3-hr)\")-X24","v":0},null,{"$f":"IF(W26/$B$10>0.01,\"Yes-Use detail forms\",\"No\")","v":{"$error":"#DIV/0!"}},{"$f":"IF(X26>5,\"Yes-Use detail and failure forms\",\"No\")","v":"No"}]
["2. Total duration of excess emissions2",{"$f":"IF(B14=\"\",\"\",SUM(B22:B26)-IF(B14=\"scrubber pressure drop\",B22,0))","v":""},{"$f":"IF(B14=\"\",\"\",SUM(C22:C26)-IF(B14=\"scrubber pressure drop\",C22,0))","v":""},{"$f":"IF(D14=\"\",\"\",SUM(D22:D26)-IF(D14=\"scrubber pressure drop\",D22,0))","v":""},{"$f":"IF(D14=\"\",\"\",SUM(E22:E26)-IF(D14=\"scrubber pressure drop\",E22,0))","v":""},{"$f":"IF(F14=\"\",\"\",SUM(F22:F26)-IF(F14=\"scrubber pressure drop\",F22,0))","v":""},{"$f":"IF(F14=\"\",\"\",SUM(G22:G26)-IF(F14=\"scrubber pressure drop\",G22,0))","v":""},{"$f":"IF(H14=\"\",\"\",SUM(H22:H26)-IF(H14=\"scrubber pressure drop\",H22,0))","v":""},{"$f":"IF(H14=\"\",\"\",SUM(I22:I26)-IF(H14=\"scrubber pressure drop\",I22,0))","v":""},{"$f":"IF(J14=\"\",\"\",SUM(J22:J26)-IF(J14=\"scrubber pressure drop\",J22,0))","v":""},{"$f":"IF(J14=\"\",\"\",SUM(K22:K26)-IF(J14=\"scrubber pressure drop\",K22,0))","v":""},{"$f":"IF(L14=\"\",\"\",SUM(L22:L26)-IF(L14=\"scrubber pressure drop\",L22,0))","v":""},{"$f":"IF(L14=\"\",\"\",SUM(M22:M26)-IF(L14=\"scrubber pressure drop\",M22,0))","v":""},{"$f":"IF(N14=\"\",\"\",SUM(N22:N26)-IF(N14=\"scrubber pressure drop\",N22,0))","v":""},{"$f":"IF(N14=\"\",\"\",SUM(O22:O26)-IF(N14=\"scrubber pressure drop\",O22,0))","v":""},{"$f":"IF(P14=\"\",\"\",SUM(P22:P26)-IF(P14=\"scrubber pressure drop\",P22,0))","v":""},{"$f":"IF(P14=\"\",\"\",SUM(Q22:Q26)-IF(P14=\"scrubber pressure drop\",Q22,0))","v":""}]
["3. (Total duration of excess emissions) / (Total Source Operating Time) x (100) %3",{"$f":"IF(B14=\"\",\"\",IF($B$10>0,B27/$B$10,0))","v":""},null,{"$f":"IF(D14=\"\",\"\",IF($B$10>0,D27/$B$10,0))","v":""},null,{"$f":"IF(F14=\"\",\"\",IF($B$10>0,F27/$B$10,0))","v":""},null,{"$f":"IF(H14=\"\",\"\",IF($B$10>0,H27/$B$10,0))","v":""},null,{"$f":"IF(J14=\"\",\"\",IF($B$10>0,J27/$B$10,0))","v":""},null,{"$f":"IF(L14=\"\",\"\",IF($B$10>0,L27/$B$10,0))","v":""},null,{"$f":"IF(N14=\"\",\"\",IF($B$10>0,N27/$B$10,0))","v":""},null,{"$f":"IF(P14=\"\",\"\",IF($B$10>0,P27/$B$10,0))","v":""}]
["Do excess emissions in item 3 meet or exceed 1% of operating time?",{"$f":"IF(B14=\"\",\"\",IF(B28>=0.01,\"Yes-Use detail form\",\"No\"))","v":""},null,{"$f":"IF(D14=\"\",\"\",IF(D28>=0.01,\"Yes-Use detail form\",\"No\"))","v":""},null,{"$f":"IF(F14=\"\",\"\",IF(F28>=0.01,\"Yes-Use detail form\",\"No\"))","v":""},null,{"$f":"IF(H14=\"\",\"\",IF(H28>=0.01,\"Yes-Use detail form\",\"No\"))","v":""},null,{"$f":"IF(J14=\"\",\"\",IF(J28>=0.01,\"Yes-Use detail form\",\"No\"))","v":""},null,{"$f":"IF(L14=\"\",\"\",IF(L28>=0.01,\"Yes-Use detail form\",\"No\"))","v":""},null,{"$f":"IF(N14=\"\",\"\",IF(N28>=0.01,\"Yes-Use detail form\",\"No\"))","v":""},null,{"$f":"IF(P14=\"\",\"\",IF(P28>=0.01,\"Yes-Use detail form\",\"No\"))","v":""}]
["Is the violation level triggered in item 2 above?  \nViolation level: Six or more 3-hour average parameter values or any 3-hour average RTO temperature per semiannual period.",null,{"$f":"IF(B14=\"\",\"\",IF(OR(B14=\"RTO temperature (1-hr)\",B14=\"Bypass of Control Device\",B14=\"Automatic Voltage Control\"),\"Not Applicable\",IF(C27<VLOOKUP(B14,Violations!$A$6:$D$10,4,FALSE),\"No\",\"Yes\")))","v":""},null,{"$f":"IF(D14=\"\",\"\",IF(OR(D14=\"RTO temperature (1-hr)\",D14=\"Bypass of Control Device\",D14=\"Automatic Voltage Control\"),\"Not Applicable\",IF(E27<VLOOKUP(D14,Violations!$A$6:$D$10,4,FALSE),\"No\",\"Yes\")))","v":""},null,{"$f":"IF(F14=\"\",\"\",IF(OR(F14=\"RTO temperature (1-hr)\",F14=\"Bypass of Control Device\",F14=\"Automatic Voltage Control\"),\"Not Applicable\",IF(G27<VLOOKUP(F14,Violations!$A$6:$D$10,4,FALSE),\"No\",\"Yes\")))","v":""},null,{"$f":"IF(H14=\"\",\"\",IF(OR(H14=\"RTO temperature (1-hr)\",H14=\"Bypass of Control Device\",H14=\"Automatic Voltage Control\"),\"Not Applicable\",IF(I27<VLOOKUP(H14,Violations!$A$6:$D$10,4,FALSE),\"No\",\"Yes\")))","v":""},null,{"$f":"IF(J14=\"\",\"\",IF(OR(J14=\"RTO temperature (1-hr)\",J14=\"Bypass of Control Device\",J14=\"Automatic Voltage Control\"),\"Not Applicable\",IF(K27<VLOOKUP(J14,Violations!$A$6:$D$10,4,FALSE),\"No\",\"Yes\")))","v":""},null,{"$f":"IF(L14=\"\",\"\",IF(OR(L14=\"RTO temperature (1-hr)\",L14=\"Bypass of Control Device\",L14=\"Automatic Voltage Control\"),\"Not Applicable\",IF(M27<VLOOKUP(L14,Violations!$A$6:$D$10,4,FALSE),\"No\",\"Yes\")))","v":""},null,{"$f":"IF(N14=\"\",\"\",IF(OR(N14=\"RTO temperature (1-hr)\",N14=\"Bypass of Control Device\",N14=\"Automatic Voltage Control\"),\"Not Applicable\",IF(O27<VLOOKUP(N14,Violations!$A$6:$D$10,4,FALSE),\"No\",\"Yes\")))","v":""},null,{"$f":"IF(P14=\"\",\"\",IF(OR(P14=\"RTO temperature (1-hr)\",P14=\"Bypass of Control Device\",P14=\"Automatic Voltage Control\"),\"Not Applicable\",IF(Q27<VLOOKUP(P14,Violations!$A$6:$D$10,4,FALSE),\"No\",\"Yes\")))","v":""}]
["Do any of the Count of No. of Averages in item 2 above occur concurrently? If so, how many?"]
["Do combined excess emissions in item 3 and/or combined counts in item 2 result in reporting requirements? (For scrubbers and other only)",{"$f":"IF(B14=\"\",\"\",IF(B9=\"Wet Scrubber\",Z25,IF(B9=\"ESP and Wet Scrubber\",Z25,IF(B14=\"Alternative parameter (3-hr)\",Z26,\"NA\"))))","v":""},{"$f":"IF(B14=\"\",\"\",IF(B9=\"Wet Scrubber\",AA25,IF(B9=\"ESP and Wet Scrubber\",AA25,IF(B14=\"Alternative parameter (3-hr)\",AA26,\"NA\"))))","v":""}]
["CMS Performance Summary [§63.867(c)(1)(viii)]"]
["Operating parameter",{"$f":"IF(B14=\"\",\"\",B14)","v":""},null,{"$f":"IF(D14=\"\",\"\",D14)","v":""},null,{"$f":"IF(F14=\"\",\"\",F14)","v":""},null,{"$f":"IF(H14=\"\",\"\",H14)","v":""},null,{"$f":"IF(J14=\"\",\"\",J14)","v":""},null,{"$f":"IF(L14=\"\",\"\",L14)","v":""},null,{"$f":"IF(N14=\"\",\"\",N14)","v":""},null,{"$f":"IF(P14=\"\",\"\",P14)","v":""}]
[null,"Duration",null,"Duration",null,"Duration",null,"Duration",null,"Duration",null,"Duration",null,"Duration",null,"Duration"]
["1. CMS downtime in reporting period due to:","Hours",null,"Hours",null,"Hours",null,"Hours",null,"Hours",null,"Hours",null,"Hours",null,"Hours"]
["a. Monitoring equipment malfunctions"]
["b. Non-monitor equipment malfunctions"]
["c. Quality assurance/quality control calibration"]
["d. Other known causes"]
["e. Unknown causes"]
["2. Total CMS downtime",{"$f":"IF(B14=\"\",\"\",SUM(B37:B41))","v":""},null,{"$f":"IF(D14=\"\",\"\",SUM(D37:D41))","v":""},null,{"$f":"IF(F14=\"\",\"\",SUM(F37:F41))","v":""},null,{"$f":"IF(H14=\"\",\"\",SUM(H37:H41))","v":""},null,{"$f":"IF(J14=\"\",\"\",SUM(J37:J41))","v":""},null,{"$f":"IF(L14=\"\",\"\",SUM(L37:L41))","v":""},null,{"$f":"IF(N14=\"\",\"\",SUM(N37:N41))","v":""},null,{"$f":"IF(P14=\"\",\"\",SUM(P37:P41))","v":""}]
["3. (Total CMS downtime) / (Total Source Operating Time) x (100) %3",{"$f":"IF(B14=\"\",\"\",IF($B$10>0,B42/$B$10,0))","v":""},null,{"$f":"IF(D14=\"\",\"\",IF($B$10>0,D42/$B$10,0))","v":""},null,{"$f":"IF(F14=\"\",\"\",IF($B$10>0,F42/$B$10,0))","v":""},null,{"$f":"IF(H14=\"\",\"\",IF($B$10>0,H42/$B$10,0))","v":""},null,{"$f":"IF(J14=\"\",\"\",IF($B$10>0,J42/$B$10,0))","v":""},null,{"$f":"IF(L14=\"\",\"\",IF($B$10>0,L42/$B$10,0))","v":""},null,{"$f":"IF(N14=\"\",\"\",IF($B$10>0,N42/$B$10,0))","v":""},null,{"$f":"IF(P14=\"\",\"\",IF($B$10>0,P42/$B$10,0))","v":""}]
["Is total CMS downtime greater than or equal to 5% of total source operating time?",{"$f":"IF(B14=\"\",\"\",IF(B43>=0.05,\"Yes-Use detail form\",\"No\"))","v":""},null,{"$f":"IF(D14=\"\",\"\",IF(D43>=0.05,\"Yes-Use detail form\",\"No\"))","v":""},null,{"$f":"IF(F14=\"\",\"\",IF(F43>=0.05,\"Yes-Use detail form\",\"No\"))","v":""},null,{"$f":"IF(H14=\"\",\"\",IF(H43>=0.05,\"Yes-Use detail form\",\"No\"))","v":""},null,{"$f":"IF(J14=\"\",\"\",IF(J43>=0.05,\"Yes-Use detail form\",\"No\"))","v":""},null,{"$f":"IF(L14=\"\",\"\",IF(L43>=0.05,\"Yes-Use detail form\",\"No\"))","v":""},null,{"$f":"IF(N14=\"\",\"\",IF(N43>=0.05,\"Yes-Use detail form\",\"No\"))","v":""},null,{"$f":"IF(P14=\"\",\"\",IF(P43>=0.05,\"Yes-Use detail form\",\"No\"))","v":""}]
["If detailed reporting is required, enter the type and/or filename of the detailed report provided","orange tabs in this workbook"]
["Comments or clarifications if necessary:"]
["1. Enter the duration of excess emissions and number of averaging periods recorded as excess emissions, excluding:  "]
["● Monitoring data recorded during periods of unavoidable CMS breakdowns, out-of-control periods, repairs, maintenance periods, calibration checks, and zero (low-level) and high level adjustments [§63.864(h)]"]
["● Monitoring data recorded during periods when spent liquor solids (for recovery furnaces) or lime mud (for kilns) is not fired. [§63.864(k)(1), (k)(2)]"]
["2. Excludes periods of startup/shutdown for scrubber pressure drop."]
["3. If the total duration of excess emissions is 1% or greater of the total operating time, or the total CMS downtime is 5% or greater of the total operating time, both the Summary Report and the Excess Emissions "]
["and Continuous Monitoring Systems Performance Report must be submitted for this CMS and process unit. See the orange CMS Performance Detail and Excess Emissions Detail tabs to complete the Excess "]
["Emissions and Continuous Monitoring Systems Performance Report. [§63.867(c)(1) and (3)]"]
["4. Count: Enter the number of averaging periods recorded as excess emissions during the semiannual reporting period. No more than one exceedance will be attributed in any given 24-hour period as specified in §63.864(k)(3); "]
["thus, you are only required to enter one 3-hour average exceedance for a given 24-hour period."]
["Note: It is possible that the duration hours reported may exceed the hours associated with the count of averaging periods due the provision in §63.864(k)(3). "]

{"sheet":"COMS3","index":11,"n_rows":58,"n_cols":9,"rows_kept":58,"hidden":true}
["Summary Report – Gaseous and Opacity Excess Emissions and Continuous Monitoring System Performance"]
["Continuous Opacity Monitoring Systems and ESP Parameter Monitoring -- 40 CFR Part 63, Subpart MM"]
[{"$nulls":3},"Tab Name:",{"$f":"MID(CELL(\"filename\",A1),FIND(\"]\",CELL(\"filename\",A1))+1,255)","v":"COMS3"}]
["Company and Site Name",{"$f":"Facility_Info_upload!$C$24&\"--\"&Facility_Info_upload!$D$24","v":"0--0"}]
["Reporting period dates (beginning date, ending date)",{"$f":"CONCATENATE(TEXT(Facility_Info!$B$28,\"mm/dd/yyyy\"),\" - \",TEXT(Facility_Info!$B$29,\"mm/dd/yyyy\"))","v":"01/00/1900 - 01/00/1900"}]
["Process Unit ID",{"$f":"IF(Unit_Info!$C26=\"\",\"\",Unit_Info!$C26)","v":""}]
["Process Unit Type",{"$f":"IF(Unit_Info!$D26=\"\",\"\",Unit_Info!$D26)","v":""}]
["Process Unit Description",{"$f":"IF(Unit_Info!$F26=\"\",\"\",Unit_Info!$F26)","v":""}]
["Air Pollution Control Device Type",{"$f":"IF(Unit_Info!$I26=\"\",\"\",Unit_Info!$I26)","v":""}]
["Total Source Operating Time* (hours)"]
["*Includes all process unit operating time during the reporting period including startup/shutdown, malfunction, and all times when CMS are inoperative or producing invalid readings."]
["Emission Data Summary -- Opacity [§63.867(c)(1)(iv) and (vii)]"]
["Index Number",{"$f":"IF(B14=\"\",\"\",MAX(COMS1!B13:H13,COMS2!B13:H13)+1)","v":""},null,{"$f":"IF(D14=\"\",\"\",B13+1)","v":""},null,{"$f":"IF(F14=\"\",\"\",MAX(B13:D13)+1)","v":""},null,{"$f":"IF(H14=\"\",\"\",MAX(B13:F13)+1)","v":""}]
["Process Unit Emission Point"]
["Operating parameter"]
["Opacity limit, %"]
["Mark with an \"X\" if no excess emissions or exceedances of a parameter have occurred during the reporting period. [§63.10(e)(3)(v)]"]
["Mark with an \"X\" if the CMS has not been inoperative, out of control, repaired, or adjusted during the reporting period. [§63.10(e)(3)(v)]"]
["Mark with an \"X\" if the AVC was operated properly during the reporting period. [§63.8641(e)(1)]"]
[null,"Duration","Count","Duration","Count","Duration","Count","Duration","Count"]
["1. Duration of excess emissions in reporting period due to:1","Minutes","6-min averages","Minutes","6-min averages","Minutes","6-min averages","Minutes","6-min averages"]
["a. Startup/Shutdown"]
["b. Control Equipment Problems"]
["c. Process Problems"]
["d. Other known causes"]
["e. Unknown causes"]
["2. Total duration of excess emissions",{"$f":"IF(B14=\"\",\"\",SUM(B22:B26))","v":""},{"$f":"IF(B14=\"\",\"\",SUM(C22:C26)-IF(B15=\"scrubber pressure drop\",C22,0))","v":""},{"$f":"IF(D14=\"\",\"\",SUM(D22:D26))","v":""},{"$f":"IF(D14=\"\",\"\",SUM(E22:E26)-IF(D15=\"scrubber pressure drop\",E22,0))","v":""},{"$f":"IF(F14=\"\",\"\",SUM(F22:F26))","v":""},{"$f":"IF(F14=\"\",\"\",SUM(G22:G26)-IF(F15=\"scrubber pressure drop\",G22,0))","v":""},{"$f":"IF(H14=\"\",\"\",SUM(H22:H26))","v":""},{"$f":"IF(H14=\"\",\"\",SUM(I22:I26)-IF(H15=\"scrubber pressure drop\",I22,0))","v":""}]
["3. (Total duration of excess emissions) / (Total Source Operating Time) x (100) %2",{"$f":"IF(B14=\"\",\"\",IF($B$10>0,B27/($B$10*60),0))","v":""},{"$f":"IF(B14=\"\",\"\",IF($B$10>0,(C27*6)/($B$10*60),0))","v":""},{"$f":"IF(D14=\"\",\"\",IF($B$10>0,D27/($B$10*60),0))","v":""},{"$f":"IF(D14=\"\",\"\",IF($B$10>0,(E27*6)/($B$10*60),0))","v":""},{"$f":"IF(F14=\"\",\"\",IF($B$10>0,F27/($B$10*60),0))","v":""},{"$f":"IF(F14=\"\",\"\",IF($B$10>0,(G27*6)/($B$10*60),0))","v":""},{"$f":"IF(H14=\"\",\"\",IF($B$10>0,H27/($B$10*60),0))","v":""},{"$f":"IF(H14=\"\",\"\",IF($B$10>0,(I27*6)/($B$10*60),0))","v":""}]
["Do excess emissions equal or exceed 1% of operating time?2",{"$f":"IF(B14=\"\",\"\",IF(B28>=0.01,\"Yes-Use detail form\",\"No\"))","v":""},null,{"$f":"IF(D14=\"\",\"\",IF(D28>=0.01,\"Yes-Use detail form\",\"No\"))","v":""},null,{"$f":"IF(F14=\"\",\"\",IF(F28>=0.01,\"Yes-Use detail form\",\"No\"))","v":""},null,{"$f":"IF(H14=\"\",\"\",IF(H28>=0.01,\"Yes-Use detail form\",\"No\"))","v":""}]
["Is the opacity violation level triggered?\nViolation level (count) = 2% or more of 6-min averages for recovery furnaces, or 3% or more of 6-min averages for lime kilns  [§63.864(k)(2)(i)-(ii)]",null,{"$f":"IF(B14=\"\",\"\",IF(C28>=VLOOKUP($B$15,Violations!$A$21:$D$22,4,FALSE),\"Yes-Use detail and failure forms\",\"No\"))","v":""},null,{"$f":"IF(D14=\"\",\"\",IF(E28>=VLOOKUP($B$15,Violations!$A$21:$D$22,4,FALSE),\"Yes-Use detail and failure forms\",\"No\"))","v":""},null,{"$f":"IF(F14=\"\",\"\",IF(G28>=VLOOKUP($B$15,Violations!$A$21:$D$22,4,FALSE),\"Yes-Use detail and failure forms\",\"No\"))","v":""},null,{"$f":"IF(H14=\"\",\"\",IF(I28>=VLOOKUP($B$15,Violations!$A$21:$D$22,4,FALSE),\"Yes-Use detail and failure forms\",\"No\"))","v":""}]
[null,null,"Count",null,"Count",null,"Count",null,"Count"]
["4. Count of exceedances of corrective action level in reporting period due to:1",null,"10 consecutive 6-min averages",null,"10 consecutive 6-min averages",null,"10 consecutive 6-min averages",null,"10 consecutive 6-min averages"]
["a. Startup/Shutdown"]
["b. Control Equipment Problems"]
["c. Process Problems"]
["d. Other known causes"]
["e. Unknown causes"]
["5. Total count of exceedances of corrective action level",null,{"$f":"IF(B14=\"\",\"\",SUM(C33:C37)-IF(B15=\"scrubber pressure drop\",C33,0))","v":""},null,{"$f":"IF(D14=\"\",\"\",SUM(E33:E37)-IF(D15=\"scrubber pressure drop\",E33,0))","v":""},null,{"$f":"IF(F14=\"\",\"\",SUM(G33:G37)-IF(F15=\"scrubber pressure drop\",G33,0))","v":""},null,{"$f":"IF(H14=\"\",\"\",SUM(I33:I37)-IF(H15=\"scrubber pressure drop\",I33,0))","v":""}]
[" CMS Performance Summary [§63.867(c)(1)(viii)]"]
["Operating parameter",{"$f":"IF(B15=\"\",\"\",B15)","v":""},null,{"$f":"IF(D15=\"\",\"\",D15)","v":""},null,{"$f":"IF(F15=\"\",\"\",F15)","v":""},null,{"$f":"IF(H15=\"\",\"\",H15)","v":""}]
[null,"Duration",null,"Duration",null,"Duration",null,"Duration"]
["1. CMS downtime in reporting period due to:",{"$f":"B21","v":"Minutes"},null,{"$f":"D21","v":"Minutes"},null,{"$f":"F21","v":"Minutes"},null,{"$f":"H21","v":"Minutes"}]
["a. Monitoring equipment malfunctions"]
["b. Non-monitor equipment malfunctions"]
["c. Quality assurance/quality control calibration"]
["d. Other known causes"]
["e. Unknown causes"]
["2. Total CMS downtime",{"$f":"IF(B14=\"\",\"\",SUM(B43:B47))","v":""},null,{"$f":"IF(D14=\"\",\"\",SUM(D43:D47))","v":""},null,{"$f":"IF(F14=\"\",\"\",SUM(F43:F47))","v":""},null,{"$f":"IF(H14=\"\",\"\",SUM(H43:H47))","v":""}]
["3. (Total CMS downtime) / (Total Source Operating Time) x (100) %2",{"$f":"IF(B14=\"\",\"\",IF($B$10>0,B48/($B$10*60),0))","v":""},null,{"$f":"IF(D14=\"\",\"\",IF($B$10>0,D48/($B$10*60),0))","v":""},null,{"$f":"IF(F14=\"\",\"\",IF($B$10>0,F48/($B$10*60),0))","v":""},null,{"$f":"IF(H14=\"\",\"\",IF($B$10>0,H48/($B$10*60),0))","v":""}]
["Is total CMS downtime greater than or equal to 5% of total source operating time?2",{"$f":"IF(B14=\"\",\"\",IF(B49>=0.05,\"Yes-Use detail report\",\"No\"))","v":""},null,{"$f":"IF(D14=\"\",\"\",IF(D49>=0.05,\"Yes-Use detail report\",\"No\"))","v":""},null,{"$f":"IF(F14=\"\",\"\",IF(F49>=0.05,\"Yes-Use detail report\",\"No\"))","v":""},null,{"$f":"IF(H14=\"\",\"\",IF(H49>=0.05,\"Yes-Use detail report\",\"No\"))","v":""}]
["If detailed reporting is required, enter the type and/or filename of the detailed report provided"]
["1. Enter the duration of excess emissions and number of averaging periods recorded as excess emissions, excluding:  "]
["● Monitoring data recorded during periods of unavoidable CMS breakdowns, out-of-control periods, repairs, maintenance periods, calibration checks, and zero (low-level) and high level adjustments [§63.864(h)]"]
["● Monitoring data recorded during periods when spent liquor solids (for recovery furnaces) or lime mud (for kilns) is not fired. [§63.864(k)(1), (k)(2)]"]
["2. If the total duration of excess emissions is 1% or greater of the total operating time, or the total CMS downtime is 5% or greater of the total operating time, both the Summary Report and the Excess Emissions and "]
["Continuous Monitoring Systems Performance Report must be submitted for this CMS and process unit. See the orange CMS Performance Detail and Excess Emissions Detail tabs to complete the Excess Emissions and "]
["Continuous Monitoring Systems Performance Report. [§63.867(c)(1) and (3)]"]
["Count: Enter the number of 6-minute averaging periods recorded as excess emissions during the semiannual reporting period. "]

{"sheet":"CPMS3","index":12,"n_rows":56,"n_cols":27,"rows_kept":56,"hidden":true}
["Summary Report – Gaseous and Opacity Excess Emissions and Continuous Monitoring System Performance"]
["Continuous Parameter Monitoring Systems -- 40 CFR Part 63, Subpart MM"]
[{"$nulls":3},"Tab Name:",{"$f":"MID(CELL(\"filename\",A1),FIND(\"]\",CELL(\"filename\",A1))+1,255)","v":"CPMS3"},{"$nulls":6},"Tab Name:",{"$f":"MID(CELL(\"filename\",I1),FIND(\"]\",CELL(\"filename\",I1))+1,255)","v":"CPMS3"}]
["Company and Site Name",{"$f":"Facility_Info_upload!$C$24&\"--\"&Facility_Info_upload!$D$24","v":"0--0"},{"$nulls":7},{"$f":"Facility_Info_upload!$C$24&\"--\"&Facility_Info_upload!$D$24","v":"0--0"}]
["Reporting period dates (beginning date, ending date)",{"$f":"CONCATENATE(TEXT(Facility_Info!$B$28,\"mm/dd/yyyy\"),\" - \",TEXT(Facility_Info!$B$29,\"mm/dd/yyyy\"))","v":"01/00/1900 - 01/00/1900"},{"$nulls":7},{"$f":"CONCATENATE(TEXT(Facility_Info!$B$28,\"mm/dd/yyyy\"),\" - \",TEXT(Facility_Info!$B$29,\"mm/dd/yyyy\"))","v":"01/00/1900 - 01/00/1900"}]
["Process Unit ID",{"$f":"IF(Unit_Info!$C26=\"\",\"\",Unit_Info!$C26)","v":""},{"$nulls":7},{"$f":"INDEX(Unit_Info!$Z$43:$Z$62,MATCH(CPMS3!$E$3,Unit_Info!$Y$43:$Y$62,0))","v":{"$error":"#N/A"}}]
["Process Unit Type",{"$f":"IF(Unit_Info!$D26=\"\",\"\",Unit_Info!$D26)","v":""},{"$nulls":7},{"$f":"INDEX(Unit_Info!$AA$43:$AA$62,MATCH(CPMS3!$E$3,Unit_Info!$Y$43:$Y$62,0))","v":{"$error":"#N/A"}}]
["Process Unit Description",{"$f":"IF(Unit_Info!$F26=\"\",\"\",Unit_Info!$F26)","v":""},{"$nulls":7},{"$f":"INDEX(Unit_Info!$AB$43:$AB$62,MATCH(CPMS3!$E$3,Unit_Info!$Y$43:$Y$62,0))","v":{"$error":"#N/A"}}]
["Air Pollution Control Device Type",{"$f":"IF(Unit_Info!$I26=\"\",\"\",Unit_Info!$I26)","v":""},{"$nulls":7},{"$f":"INDEX(Unit_Info!$AC$43:$AC$62,MATCH(CPMS3!$E$3,Unit_Info!$Y$43:$Y$62,0))","v":{"$error":"#N/A"}}]
["Total Source Operating Time* (hours)",{"$nulls":8},{"$f":"+B10","v":0}]
["*Includes all process unit operating time during the reporting period including startup/shutdown, malfunction, and all times when CMS are inoperative or producing invalid readings."]
["Emission Data Summary [§63.867(c)(1)(iv) and (vii)]"]
["Index Number",{"$f":"IF(B14=\"\",\"\",MAX(CPMS1!B13:H13,CPMS2!B13:H13)+1)","v":""},null,{"$f":"IF(D14=\"\",\"\",B13+1)","v":""},null,{"$f":"IF(F14=\"\",\"\",MAX(B13:D13)+1)","v":""},null,{"$f":"IF(H14=\"\",\"\",MAX(B13:F13)+1)","v":""},null,{"$f":"IF(J14=\"\",\"\",MAX(D13:H13)+1)","v":""},null,{"$f":"IF(L14=\"\",\"\",MAX(F13:J13)+1)","v":""},null,{"$f":"IF(N14=\"\",\"\",MAX(H13:L13)+1)","v":""},null,{"$f":"IF(P14=\"\",\"\",MAX(J13:N13)+1)","v":""}]
["Operating parameter"]
["Averaging period"]
["Operating parameter limit (numerical value)",{"$nulls":20},"Combine for EE","Duration","Count"]
["   Operating limit units (text)",{"$nulls":20},{"$f":"B14","v":0},{"$f":"B27","v":""},{"$f":"C27","v":""}]
["Mark with an \"X\" if no excess emissions or exceedances of a parameter have occurred during the reporting period. [§63.10(e)(3)(v)]",{"$nulls":20},{"$f":"D14","v":0},{"$f":"D27","v":""},{"$f":"E27","v":""}]
["Mark with an \"X\" if the CMS has not been inoperative, out of control, repaired, or adjusted during the reporting period. [§63.10(e)(3)(v)]",{"$nulls":20},{"$f":"F14","v":0},{"$f":"F27","v":""},{"$f":"G27","v":""}]
[null,"Duration","Count","Duration","Count","Duration","Count","Duration","Count","Duration","Count","Duration","Count","Duration","Count","Duration","Count",{"$nulls":4},{"$f":"J14","v":0},{"$f":"J27","v":""},{"$f":"K27","v":""}]
["1. Duration of excess emissions in reporting period due to:1","Hours","No. of Averages4","Hours","No. of Averages4","Hours","No. of Averages4","Hours","No. of Averages4","Hours","No. of Averages4","Hours","No. of Averages4","Hours","No. of Averages4","Hours","No. of Averages4",{"$nulls":4},{"$f":"L14","v":0},{"$f":"L27","v":""},{"$f":"M27","v":""}]
["a. Startup/Shutdown",{"$nulls":20},{"$f":"N14","v":0},{"$f":"N27","v":""},{"$f":"O27","v":""}]
["b. Control Equipment Problems",{"$nulls":20},{"$f":"P14","v":0},{"$f":"P27","v":""},{"$f":"Q27","v":""}]
["c. Process Problems",{"$nulls":22},{"$f":"IF(OR(B9=\"Wet Scrubber\", B9=\"ESP and wet scrubber\"),$C$31,\"0\")","v":"0"}]
["d. Other known causes",{"$nulls":20},"Scrubber",{"$f":"SUMIFS(W17:W23,$V$17:$V$23,\"Scrubber liquid flow\")+SUMIFS(W17:W23,$V$17:$V$23,\"SDT scrubber fan amperage\")+SUMIFS(W17:W23,$V$17:$V$23,\"Scrubber pressure drop\")","v":0},{"$f":"SUMIFS(X17:X23,$V$17:$V$23,\"Scrubber liquid flow\")+SUMIFS(X17:X23,$V$17:$V$23,\"SDT scrubber fan amperage\")+SUMIFS(X17:X23,$V$17:$V$23,\"Scrubber pressure drop\")-X24","v":0},null,{"$f":"IF(W25/$B$10>0.01,\"Yes-Use detail forms\",\"No\")","v":{"$error":"#DIV/0!"}},{"$f":"IF(X25>5,\"Yes-Use detail and failure forms\",\"No\")","v":"No"}]
["e. Unknown causes",{"$nulls":20},"Other",{"$f":"SUMIFS(W17:W23,$V$17:$V$23,\"Alternative parameter (3-hr)\")","v":0},{"$f":"SUMIFS(X17:X23,$V$17:$V$23,\"Alternative parameter (3-hr)\")-X24","v":0},null,{"$f":"IF(W26/$B$10>0.01,\"Yes-Use detail forms\",\"No\")","v":{"$error":"#DIV/0!"}},{"$f":"IF(X26>5,\"Yes-Use detail and failure forms\",\"No\")","v":"No"}]
["2. Total duration of excess emissions2",{"$f":"IF(B14=\"\",\"\",SUM(B22:B26)-IF(B14=\"scrubber pressure drop\",B22,0))","v":""},{"$f":"IF(B14=\"\",\"\",SUM(C22:C26)-IF(B14=\"scrubber pressure drop\",C22,0))","v":""},{"$f":"IF(D14=\"\",\"\",SUM(D22:D26)-IF(D14=\"scrubber pressure drop\",D22,0))","v":""},{"$f":"IF(D14=\"\",\"\",SUM(E22:E26)-IF(D14=\"scrubber pressure drop\",E22,0))","v":""},{"$f":"IF(F14=\"\",\"\",SUM(F22:F26)-IF(F14=\"scrubber pressure drop\",F22,0))","v":""},{"$f":"IF(F14=\"\",\"\",SUM(G22:G26)-IF(F14=\"scrubber pressure drop\",G22,0))","v":""},{"$f":"IF(H14=\"\",\"\",SUM(H22:H26)-IF(H14=\"scrubber pressure drop\",H22,0))","v":""},{"$f":"IF(H14=\"\",\"\",SUM(I22:I26)-IF(H14=\"scrubber pressure drop\",I22,0))","v":""},{"$f":"IF(J14=\"\",\"\",SUM(J22:J26)-IF(J14=\"scrubber pressure drop\",J22,0))","v":""},{"$f":"IF(J14=\"\",\"\",SUM(K22:K26)-IF(J14=\"scrubber pressure drop\",K22,0))","v":""},{"$f":"IF(L14=\"\",\"\",SUM(L22:L26)-IF(L14=\"scrubber pressure drop\",L22,0))","v":""},{"$f":"IF(L14=\"\",\"\",SUM(M22:M26)-IF(L14=\"scrubber pressure drop\",M22,0))","v":""},{"$f":"IF(N14=\"\",\"\",SUM(N22:N26)-IF(N14=\"scrubber pressure drop\",N22,0))","v":""},{"$f":"IF(N14=\"\",\"\",SUM(O22:O26)-IF(N14=\"scrubber pressure drop\",O22,0))","v":""},{"$f":"IF(P14=\"\",\"\",SUM(P22:P26)-IF(P14=\"scrubber pressure drop\",P22,0))","v":""},{"$f":"IF(P14=\"\",\"\",SUM(Q22:Q26)-IF(P14=\"scrubber pressure drop\",Q22,0))","v":""}]
["3. (Total duration of excess emissions) / (Total Source Operating Time) x (100) %3",{"$f":"IF(B14=\"\",\"\",IF($B$10>0,B27/$B$10,0))","v":""},null,{"$f":"IF(D14=\"\",\"\",IF($B$10>0,D27/$B$10,0))","v":""},null,{"$f":"IF(F14=\"\",\"\",IF($B$10>0,F27/$B$10,0))","v":""},null,{"$f":"IF(H14=\"\",\"\",IF($B$10>0,H27/$B$10,0))","v":""},null,{"$f":"IF(J14=\"\",\"\",IF($B$10>0,J27/$B$10,0))","v":""},null,{"$f":"IF(L14=\"\",\"\",IF($B$10>0,L27/$B$10,0))","v":""},null,{"$f":"IF(N14=\"\",\"\",IF($B$10>0,N27/$B$10,0))","v":""},null,{"$f":"IF(P14=\"\",\"\",IF($B$10>0,P27/$B$10,0))","v":""}]
["Do excess emissions in item 3 meet or exceed 1% of operating time?",{"$f":"IF(B14=\"\",\"\",IF(B28>=0.01,\"Yes-Use detail form\",\"No\"))","v":""},null,{"$f":"IF(D14=\"\",\"\",IF(D28>=0.01,\"Yes-Use detail form\",\"No\"))","v":""},null,{"$f":"IF(F14=\"\",\"\",IF(F28>=0.01,\"Yes-Use detail form\",\"No\"))","v":""},null,{"$f":"IF(H14=\"\",\"\",IF(H28>=0.01,\"Yes-Use detail form\",\"No\"))","v":""},null,{"$f":"IF(J14=\"\",\"\",IF(J28>=0.01,\"Yes-Use detail form\",\"No\"))","v":""},null,{"$f":"IF(L14=\"\",\"\",IF(L28>=0.01,\"Yes-Use detail form\",\"No\"))","v":""},null,{"$f":"IF(N14=\"\",\"\",IF(N28>=0.01,\"Yes-Use detail form\",\"No\"))","v":""},null,{"$f":"IF(P14=\"\",\"\",IF(P28>=0.01,\"Yes-Use detail form\",\"No\"))","v":""}]
["Is the violation level triggered in item 2 above?  \nViolation level: Six or more 3-hour average parameter values or any 3-hour average RTO temperature per semiannual period.",null,{"$f":"IF(B14=\"\",\"\",IF(OR(B14=\"RTO temperature (1-hr)\",B14=\"Bypass of Control Device\",B14=\"Automatic Voltage Control\"),\"Not Applicable\",IF(C27<VLOOKUP(B14,Violations!$A$6:$D$10,4,FALSE),\"No\",\"Yes\")))","v":""},null,{"$f":"IF(D14=\"\",\"\",IF(OR(D14=\"RTO temperature (1-hr)\",D14=\"Bypass of Control Device\",D14=\"Automatic Voltage Control\"),\"Not Applicable\",IF(E27<VLOOKUP(D14,Violations!$A$6:$D$10,4,FALSE),\"No\",\"Yes\")))","v":""},null,{"$f":"IF(F14=\"\",\"\",IF(OR(F14=\"RTO temperature (1-hr)\",F14=\"Bypass of Control Device\",F14=\"Automatic Voltage Control\"),\"Not Applicable\",IF(G27<VLOOKUP(F14,Violations!$A$6:$D$10,4,FALSE),\"No\",\"Yes\")))","v":""},null,{"$f":"IF(H14=\"\",\"\",IF(OR(H14=\"RTO temperature (1-hr)\",H14=\"Bypass of Control Device\",H14=\"Automatic Voltage Control\"),\"Not Applicable\",IF(I27<VLOOKUP(H14,Violations!$A$6:$D$10,4,FALSE),\"No\",\"Yes\")))","v":""},null,{"$f":"IF(J14=\"\",\"\",IF(OR(J14=\"RTO temperature (1-hr)\",J14=\"Bypass of Control Device\",J14=\"Automatic Voltage Control\"),\"Not Applicable\",IF(K27<VLOOKUP(J14,Violations!$A$6:$D$10,4,FALSE),\"No\",\"Yes\")))","v":""},null,{"$f":"IF(L14=\"\",\"\",IF(OR(L14=\"RTO temperature (1-hr)\",L14=\"Bypass of Control Device\",L14=\"Automatic Voltage Control\"),\"Not Applicable\",IF(M27<VLOOKUP(L14,Violations!$A$6:$D$10,4,FALSE),\"No\",\"Yes\")))","v":""},null,{"$f":"IF(N14=\"\",\"\",IF(OR(N14=\"RTO temperature (1-hr)\",N14=\"Bypass of Control Device\",N14=\"Automatic Voltage Control\"),\"Not Applicable\",IF(O27<VLOOKUP(N14,Violations!$A$6:$D$10,4,FALSE),\"No\",\"Yes\")))","v":""},null,{"$f":"IF(P14=\"\",\"\",IF(OR(P14=\"RTO temperature (1-hr)\",P14=\"Bypass of Control Device\",P14=\"Automatic Voltage Control\"),\"Not Applicable\",IF(Q27<VLOOKUP(P14,Violations!$A$6:$D$10,4,FALSE),\"No\",\"Yes\")))","v":""}]
["Do any of the Count of No. of Averages in item 2 above occur concurrently? If so, how many?"]
["Do combined excess emissions in item 3 and/or combined counts in item 2 result in reporting requirements? (For scrubbers and other only)",{"$f":"IF(B14=\"\",\"\",IF(B9=\"Wet Scrubber\",Z25,IF(B9=\"ESP and Wet Scrubber\",Z25,IF(B14=\"Alternative parameter (3-hr)\",Z26,\"NA\"))))","v":""},{"$f":"IF(B14=\"\",\"\",IF(B9=\"Wet Scrubber\",AA25,IF(B9=\"ESP and Wet Scrubber\",AA25,IF(B14=\"Alternative parameter (3-hr)\",AA26,\"NA\"))))","v":""}]
["CMS Performance Summary [§63.867(c)(1)(viii)]"]
["Operating parameter",{"$f":"IF(B14=\"\",\"\",B14)","v":""},null,{"$f":"IF(D14=\"\",\"\",D14)","v":""},null,{"$f":"IF(F14=\"\",\"\",F14)","v":""},null,{"$f":"IF(H14=\"\",\"\",H14)","v":""},null,{"$f":"IF(J14=\"\",\"\",J14)","v":""},null,{"$f":"IF(L14=\"\",\"\",L14)","v":""},null,{"$f":"IF(N14=\"\",\"\",N14)","v":""},null,{"$f":"IF(P14=\"\",\"\",P14)","v":""}]
[null,"Duration",null,"Duration",null,"Duration",null,"Duration",null,"Duration",null,"Duration",null,"Duration",null,"Duration"]
["1. CMS downtime in reporting period due to:","Hours",null,"Hours",null,"Hours",null,"Hours",null,"Hours",null,"Hours",null,"Hours",null,"Hours"]
["a. Monitoring equipment malfunctions"]
["b. Non-monitor equipment malfunctions"]
["c. Quality assurance/quality control calibration"]
["d. Other known causes"]
["e. Unknown causes"]
["2. Total CMS downtime",{"$f":"IF(B14=\"\",\"\",SUM(B37:B41))","v":""},null,{"$f":"IF(D14=\"\",\"\",SUM(D37:D41))","v":""},null,{"$f":"IF(F14=\"\",\"\",SUM(F37:F41))","v":""},null,{"$f":"IF(H14=\"\",\"\",SUM(H37:H41))","v":""},null,{"$f":"IF(J14=\"\",\"\",SUM(J37:J41))","v":""},null,{"$f":"IF(L14=\"\",\"\",SUM(L37:L41))","v":""},null,{"$f":"IF(N14=\"\",\"\",SUM(N37:N41))","v":""},null,{"$f":"IF(P14=\"\",\"\",SUM(P37:P41))","v":""}]
["3. (Total CMS downtime) / (Total Source Operating Time) x (100) %3",{"$f":"IF(B14=\"\",\"\",IF($B$10>0,B42/$B$10,0))","v":""},null,{"$f":"IF(D14=\"\",\"\",IF($B$10>0,D42/$B$10,0))","v":""},null,{"$f":"IF(F14=\"\",\"\",IF($B$10>0,F42/$B$10,0))","v":""},null,{"$f":"IF(H14=\"\",\"\",IF($B$10>0,H42/$B$10,0))","v":""},null,{"$f":"IF(J14=\"\",\"\",IF($B$10>0,J42/$B$10,0))","v":""},null,{"$f":"IF(L14=\"\",\"\",IF($B$10>0,L42/$B$10,0))","v":""},null,{"$f":"IF(N14=\"\",\"\",IF($B$10>0,N42/$B$10,0))","v":""},null,{"$f":"IF(P14=\"\",\"\",IF($B$10>0,P42/$B$10,0))","v":""}]
["Is total CMS downtime greater than or equal to 5% of total source operating time?",{"$f":"IF(B14=\"\",\"\",IF(B43>=0.05,\"Yes-Use detail form\",\"No\"))","v":""},null,{"$f":"IF(D14=\"\",\"\",IF(D43>=0.05,\"Yes-Use detail form\",\"No\"))","v":""},null,{"$f":"IF(F14=\"\",\"\",IF(F43>=0.05,\"Yes-Use detail form\",\"No\"))","v":""},null,{"$f":"IF(H14=\"\",\"\",IF(H43>=0.05,\"Yes-Use detail form\",\"No\"))","v":""},null,{"$f":"IF(J14=\"\",\"\",IF(J43>=0.05,\"Yes-Use detail form\",\"No\"))","v":""},null,{"$f":"IF(L14=\"\",\"\",IF(L43>=0.05,\"Yes-Use detail form\",\"No\"))","v":""},null,{"$f":"IF(N14=\"\",\"\",IF(N43>=0.05,\"Yes-Use detail form\",\"No\"))","v":""},null,{"$f":"IF(P14=\"\",\"\",IF(P43>=0.05,\"Yes-Use detail form\",\"No\"))","v":""}]
["If detailed reporting is required, enter the type and/or filename of the detailed report provided"]
["Comments or clarifications if necessary:"]
["1. Enter the duration of excess emissions and number of averaging periods recorded as excess emissions, excluding:  "]
["● Monitoring data recorded during periods of unavoidable CMS breakdowns, out-of-control periods, repairs, maintenance periods, calibration checks, and zero (low-level) and high level adjustments [§63.864(h)]"]
["● Monitoring data recorded during periods when spent liquor solids (for recovery furnaces) or lime mud (for kilns) is not fired. [§63.864(k)(1), (k)(2)]"]
["2. Excludes periods of startup/shutdown for scrubber pressure drop."]
["3. If the total duration of excess emissions is 1% or greater of the total operating time, or the total CMS downtime is 5% or greater of the total operating time, both the Summary Report and the Excess Emissions "]
["and Continuous Monitoring Systems Performance Report must be submitted for this CMS and process unit. See the orange CMS Performance Detail and Excess Emissions Detail tabs to complete the Excess "]
["Emissions and Continuous Monitoring Systems Performance Report. [§63.867(c)(1) and (3)]"]
["4. Count: Enter the number of averaging periods recorded as excess emissions during the semiannual reporting period. No more than one exceedance will be attributed in any given 24-hour period as specified in §63.864(k)(3); "]
["thus, you are only required to enter one 3-hour average exceedance for a given 24-hour period."]
["Note: It is possible that the duration hours reported may exceed the hours associated with the count of averaging periods due the provision in §63.864(k)(3). "]

{"sheet":"COMS4","index":13,"n_rows":58,"n_cols":9,"rows_kept":58,"hidden":true}
["Summary Report – Gaseous and Opacity Excess Emissions and Continuous Monitoring System Performance"]
["Continuous Opacity Monitoring Systems and ESP Parameter Monitoring -- 40 CFR Part 63, Subpart MM"]
[{"$nulls":3},"Tab Name:",{"$f":"MID(CELL(\"filename\",A1),FIND(\"]\",CELL(\"filename\",A1))+1,255)","v":"COMS4"}]
["Company and Site Name",{"$f":"Facility_Info_upload!$C$24&\"--\"&Facility_Info_upload!$D$24","v":"0--0"}]
["Reporting period dates (beginning date, ending date)",{"$f":"CONCATENATE(TEXT(Facility_Info!$B$28,\"mm/dd/yyyy\"),\" - \",TEXT(Facility_Info!$B$29,\"mm/dd/yyyy\"))","v":"01/00/1900 - 01/00/1900"}]
["Process Unit ID",{"$f":"IF(Unit_Info!$C27=\"\",\"\",Unit_Info!$C27)","v":""}]
["Process Unit Type",{"$f":"IF(Unit_Info!$D27=\"\",\"\",Unit_Info!$D27)","v":""}]
["Process Unit Description",{"$f":"IF(Unit_Info!$F27=\"\",\"\",Unit_Info!$F27)","v":""}]
["Air Pollution Control Device Type",{"$f":"IF(Unit_Info!$I27=\"\",\"\",Unit_Info!$I27)","v":""}]
["Total Source Operating Time* (hours)"]
["*Includes all process unit operating time during the reporting period including startup/shutdown, malfunction, and all times when CMS are inoperative or producing invalid readings."]
["Emission Data Summary -- Opacity [§63.867(c)(1)(iv) and (vii)]"]
["Index Number",{"$f":"IF(B14=\"\",\"\",MAX(COMS1!B13:H13,COMS2!B13:H13,COMS3!B13:H13)+1)","v":""},null,{"$f":"IF(D14=\"\",\"\",B13+1)","v":""},null,{"$f":"IF(F14=\"\",\"\",MAX(B13:D13)+1)","v":""},null,{"$f":"IF(H14=\"\",\"\",MAX(B13:F13)+1)","v":""}]
["Process Unit Emission Point"]
["Operating parameter"]
["Opacity limit, %"]
["Mark with an \"X\" if no excess emissions or exceedances of a parameter have occurred during the reporting period. [§63.10(e)(3)(v)]"]
["Mark with an \"X\" if the CMS has not been inoperative, out of control, repaired, or adjusted during the reporting period. [§63.10(e)(3)(v)]"]
["Mark with an \"X\" if the AVC was operated properly during the reporting period. [§63.8641(e)(1)]"]
[null,"Duration","Count","Duration","Count","Duration","Count","Duration","Count"]
["1. Duration of excess emissions in reporting period due to:1","Minutes","6-min averages","Minutes","6-min averages","Minutes","6-min averages","Minutes","6-min averages"]
["a. Startup/Shutdown"]
["b. Control Equipment Problems"]
["c. Process Problems"]
["d. Other known causes"]
["e. Unknown causes"]
["2. Total duration of excess emissions",{"$f":"IF(B14=\"\",\"\",SUM(B22:B26))","v":""},{"$f":"IF(B14=\"\",\"\",SUM(C22:C26)-IF(B15=\"scrubber pressure drop\",C22,0))","v":""},{"$f":"IF(D14=\"\",\"\",SUM(D22:D26))","v":""},{"$f":"IF(D14=\"\",\"\",SUM(E22:E26)-IF(D15=\"scrubber pressure drop\",E22,0))","v":""},{"$f":"IF(F14=\"\",\"\",SUM(F22:F26))","v":""},{"$f":"IF(F14=\"\",\"\",SUM(G22:G26)-IF(F15=\"scrubber pressure drop\",G22,0))","v":""},{"$f":"IF(H14=\"\",\"\",SUM(H22:H26))","v":""},{"$f":"IF(H14=\"\",\"\",SUM(I22:I26)-IF(H15=\"scrubber pressure drop\",I22,0))","v":""}]
["3. (Total duration of excess emissions) / (Total Source Operating Time) x (100) %2",{"$f":"IF(B14=\"\",\"\",IF($B$10>0,B27/($B$10*60),0))","v":""},{"$f":"IF(B14=\"\",\"\",IF($B$10>0,(C27*6)/($B$10*60),0))","v":""},{"$f":"IF(D14=\"\",\"\",IF($B$10>0,D27/($B$10*60),0))","v":""},{"$f":"IF(D14=\"\",\"\",IF($B$10>0,(E27*6)/($B$10*60),0))","v":""},{"$f":"IF(F14=\"\",\"\",IF($B$10>0,F27/($B$10*60),0))","v":""},{"$f":"IF(F14=\"\",\"\",IF($B$10>0,(G27*6)/($B$10*60),0))","v":""},{"$f":"IF(H14=\"\",\"\",IF($B$10>0,H27/($B$10*60),0))","v":""},{"$f":"IF(H14=\"\",\"\",IF($B$10>0,(I27*6)/($B$10*60),0))","v":""}]
["Do excess emissions equal or exceed 1% of operating time?2",{"$f":"IF(B14=\"\",\"\",IF(B28>=0.01,\"Yes-Use detail form\",\"No\"))","v":""},null,{"$f":"IF(D14=\"\",\"\",IF(D28>=0.01,\"Yes-Use detail form\",\"No\"))","v":""},null,{"$f":"IF(F14=\"\",\"\",IF(F28>=0.01,\"Yes-Use detail form\",\"No\"))","v":""},null,{"$f":"IF(H14=\"\",\"\",IF(H28>=0.01,\"Yes-Use detail form\",\"No\"))","v":""}]
["Is the opacity violation level triggered?\nViolation level (count) = 2% or more of 6-min averages for recovery furnaces, or 3% or more of 6-min averages for lime kilns  [§63.864(k)(2)(i)-(ii)]",null,{"$f":"IF(B14=\"\",\"\",IF(C28>=VLOOKUP($B$15,Violations!$A$21:$D$22,4,FALSE),\"Yes-Use detail and failure forms\",\"No\"))","v":""},null,{"$f":"IF(D14=\"\",\"\",IF(E28>=VLOOKUP($B$15,Violations!$A$21:$D$22,4,FALSE),\"Yes-Use detail and failure forms\",\"No\"))","v":""},null,{"$f":"IF(F14=\"\",\"\",IF(G28>=VLOOKUP($B$15,Violations!$A$21:$D$22,4,FALSE),\"Yes-Use detail and failure forms\",\"No\"))","v":""},null,{"$f":"IF(H14=\"\",\"\",IF(I28>=VLOOKUP($B$15,Violations!$A$21:$D$22,4,FALSE),\"Yes-Use detail and failure forms\",\"No\"))","v":""}]
[null,null,"Count",null,"Count",null,"Count",null,"Count"]
["4. Count of exceedances of corrective action level in reporting period due to:1",null,"10 consecutive 6-min averages",null,"10 consecutive 6-min averages",null,"10 consecutive 6-min averages",null,"10 consecutive 6-min averages"]
["a. Startup/Shutdown"]
["b. Control Equipment Problems"]
["c. Process Problems"]
["d. Other known causes"]
["e. Unknown causes"]
["5. Total count of exceedances of corrective action level",null,{"$f":"IF(B14=\"\",\"\",SUM(C33:C37)-IF(B15=\"scrubber pressure drop\",C33,0))","v":""},null,{"$f":"IF(D14=\"\",\"\",SUM(E33:E37)-IF(D15=\"scrubber pressure drop\",E33,0))","v":""},null,{"$f":"IF(F14=\"\",\"\",SUM(G33:G37)-IF(F15=\"scrubber pressure drop\",G33,0))","v":""},null,{"$f":"IF(H14=\"\",\"\",SUM(I33:I37)-IF(H15=\"scrubber pressure drop\",I33,0))","v":""}]
[" CMS Performance Summary [§63.867(c)(1)(viii)]"]
["Operating parameter",{"$f":"IF(B15=\"\",\"\",B15)","v":""},null,{"$f":"IF(D15=\"\",\"\",D15)","v":""},null,{"$f":"IF(F15=\"\",\"\",F15)","v":""},null,{"$f":"IF(H15=\"\",\"\",H15)","v":""}]
[null,"Duration",null,"Duration",null,"Duration",null,"Duration"]
["1. CMS downtime in reporting period due to:",{"$f":"B21","v":"Minutes"},null,{"$f":"D21","v":"Minutes"},null,{"$f":"F21","v":"Minutes"},null,{"$f":"H21","v":"Minutes"}]
["a. Monitoring equipment malfunctions"]
["b. Non-monitor equipment malfunctions"]
["c. Quality assurance/quality control calibration"]
["d. Other known causes"]
["e. Unknown causes"]
["2. Total CMS downtime",{"$f":"IF(B14=\"\",\"\",SUM(B43:B47))","v":""},null,{"$f":"IF(D14=\"\",\"\",SUM(D43:D47))","v":""},null,{"$f":"IF(F14=\"\",\"\",SUM(F43:F47))","v":""},null,{"$f":"IF(H14=\"\",\"\",SUM(H43:H47))","v":""}]
["3. (Total CMS downtime) / (Total Source Operating Time) x (100) %2",{"$f":"IF(B14=\"\",\"\",IF($B$10>0,B48/($B$10*60),0))","v":""},null,{"$f":"IF(D14=\"\",\"\",IF($B$10>0,D48/($B$10*60),0))","v":""},null,{"$f":"IF(F14=\"\",\"\",IF($B$10>0,F48/($B$10*60),0))","v":""},null,{"$f":"IF(H14=\"\",\"\",IF($B$10>0,H48/($B$10*60),0))","v":""}]
["Is total CMS downtime greater than or equal to 5% of total source operating time?2",{"$f":"IF(B14=\"\",\"\",IF(B49>=0.05,\"Yes-Use detail report\",\"No\"))","v":""},null,{"$f":"IF(D14=\"\",\"\",IF(D49>=0.05,\"Yes-Use detail report\",\"No\"))","v":""},null,{"$f":"IF(F14=\"\",\"\",IF(F49>=0.05,\"Yes-Use detail report\",\"No\"))","v":""},null,{"$f":"IF(H14=\"\",\"\",IF(H49>=0.05,\"Yes-Use detail report\",\"No\"))","v":""}]
["If detailed reporting is required, enter the type and/or filename of the detailed report provided"]
["1. Enter the duration of excess emissions and number of averaging periods recorded as excess emissions, excluding:  "]
["● Monitoring data recorded during periods of unavoidable CMS breakdowns, out-of-control periods, repairs, maintenance periods, calibration checks, and zero (low-level) and high level adjustments [§63.864(h)]"]
["● Monitoring data recorded during periods when spent liquor solids (for recovery furnaces) or lime mud (for kilns) is not fired. [§63.864(k)(1), (k)(2)]"]
["2. If the total duration of excess emissions is 1% or greater of the total operating time, or the total CMS downtime is 5% or greater of the total operating time, both the Summary Report and the Excess Emissions and "]
["Continuous Monitoring Systems Performance Report must be submitted for this CMS and process unit. See the orange CMS Performance Detail and Excess Emissions Detail tabs to complete the Excess Emissions and "]
["Continuous Monitoring Systems Performance Report. [§63.867(c)(1) and (3)]"]
["Count: Enter the number of 6-minute averaging periods recorded as excess emissions during the semiannual reporting period. "]

{"sheet":"CPMS4","index":14,"n_rows":56,"n_cols":27,"rows_kept":56,"hidden":true}
["Summary Report – Gaseous and Opacity Excess Emissions and Continuous Monitoring System Performance"]
["Continuous Parameter Monitoring Systems -- 40 CFR Part 63, Subpart MM"]
[{"$nulls":3},"Tab Name:",{"$f":"MID(CELL(\"filename\",A1),FIND(\"]\",CELL(\"filename\",A1))+1,255)","v":"CPMS4"},{"$nulls":6},"Tab Name:",{"$f":"MID(CELL(\"filename\",I1),FIND(\"]\",CELL(\"filename\",I1))+1,255)","v":"CPMS4"}]
["Company and Site Name",{"$f":"Facility_Info_upload!$C$24&\"--\"&Facility_Info_upload!$D$24","v":"0--0"},{"$nulls":7},{"$f":"Facility_Info_upload!$C$24&\"--\"&Facility_Info_upload!$D$24","v":"0--0"}]
["Reporting period dates (beginning date, ending date)",{"$f":"CONCATENATE(TEXT(Facility_Info!$B$28,\"mm/dd/yyyy\"),\" - \",TEXT(Facility_Info!$B$29,\"mm/dd/yyyy\"))","v":"01/00/1900 - 01/00/1900"},{"$nulls":7},{"$f":"CONCATENATE(TEXT(Facility_Info!$B$28,\"mm/dd/yyyy\"),\" - \",TEXT(Facility_Info!$B$29,\"mm/dd/yyyy\"))","v":"01/00/1900 - 01/00/1900"}]
["Process Unit ID",{"$f":"IF(Unit_Info!$C27=\"\",\"\",Unit_Info!$C27)","v":""},{"$nulls":7},{"$f":"INDEX(Unit_Info!$Z$43:$Z$62,MATCH(CPMS4!$E$3,Unit_Info!$Y$43:$Y$62,0))","v":{"$error":"#N/A"}}]
["Process Unit Type",{"$f":"IF(Unit_Info!$D27=\"\",\"\",Unit_Info!$D27)","v":""},{"$nulls":7},{"$f":"INDEX(Unit_Info!$AA$43:$AA$62,MATCH(CPMS4!$E$3,Unit_Info!$Y$43:$Y$62,0))","v":{"$error":"#N/A"}}]
["Process Unit Description",{"$f":"IF(Unit_Info!$F27=\"\",\"\",Unit_Info!$F27)","v":""},{"$nulls":7},{"$f":"INDEX(Unit_Info!$AB$43:$AB$62,MATCH(CPMS4!$E$3,Unit_Info!$Y$43:$Y$62,0))","v":{"$error":"#N/A"}}]
["Air Pollution Control Device Type",{"$f":"IF(Unit_Info!$I27=\"\",\"\",Unit_Info!$I27)","v":""},{"$nulls":7},{"$f":"INDEX(Unit_Info!$AC$43:$AC$62,MATCH(CPMS4!$E$3,Unit_Info!$Y$43:$Y$62,0))","v":{"$error":"#N/A"}}]
["Total Source Operating Time* (hours)",{"$nulls":8},{"$f":"+B10","v":0}]
["*Includes all process unit operating time during the reporting period including startup/shutdown, malfunction, and all times when CMS are inoperative or producing invalid readings."]
["Emission Data Summary [§63.867(c)(1)(iv) and (vii)]"]
["Index Number",{"$f":"IF(B14=\"\",\"\",MAX(CPMS1!B13:H13,CPMS2!B13:H13,CPMS3!B13:H13)+1)","v":""},null,{"$f":"IF(D14=\"\",\"\",B13+1)","v":""},null,{"$f":"IF(F14=\"\",\"\",MAX(B13:D13)+1)","v":""},null,{"$f":"IF(H14=\"\",\"\",MAX(B13:F13)+1)","v":""},null,{"$f":"IF(J14=\"\",\"\",MAX(D13:H13)+1)","v":""},null,{"$f":"IF(L14=\"\",\"\",MAX(F13:J13)+1)","v":""},null,{"$f":"IF(N14=\"\",\"\",MAX(H13:L13)+1)","v":""},null,{"$f":"IF(P14=\"\",\"\",MAX(J13:N13)+1)","v":""}]
["Operating parameter"]
["Averaging period"]
["Operating parameter limit (numerical value)",{"$nulls":20},"Combine for EE","Duration","Count"]
["   Operating limit units (text)",{"$nulls":20},{"$f":"B14","v":0},{"$f":"B27","v":""},{"$f":"C27","v":""}]
["Mark with an \"X\" if no excess emissions or exceedances of a parameter have occurred during the reporting period. [§63.10(e)(3)(v)]",{"$nulls":20},{"$f":"D14","v":0},{"$f":"D27","v":""},{"$f":"E27","v":""}]
["Mark with an \"X\" if the CMS has not been inoperative, out of control, repaired, or adjusted during the reporting period. [§63.10(e)(3)(v)]",{"$nulls":20},{"$f":"F14","v":0},{"$f":"F27","v":""},{"$f":"G27","v":""}]
[null,"Duration","Count","Duration","Count","Duration","Count","Duration","Count","Duration","Count","Duration","Count","Duration","Count","Duration","Count",{"$nulls":4},{"$f":"J14","v":0},{"$f":"J27","v":""},{"$f":"K27","v":""}]
["1. Duration of excess emissions in reporting period due to:1","Hours","No. of Averages4","Hours","No. of Averages4","Hours","No. of Averages4","Hours","No. of Averages4","Hours","No. of Averages4","Hours","No. of Averages4","Hours","No. of Averages4","Hours","No. of Averages4",{"$nulls":4},{"$f":"L14","v":0},{"$f":"L27","v":""},{"$f":"M27","v":""}]
["a. Startup/Shutdown",{"$nulls":20},{"$f":"N14","v":0},{"$f":"N27","v":""},{"$f":"O27","v":""}]
["b. Control Equipment Problems",{"$nulls":20},{"$f":"P14","v":0},{"$f":"P27","v":""},{"$f":"Q27","v":""}]
["c. Process Problems",{"$nulls":22},{"$f":"IF(OR(B9=\"Wet Scrubber\", B9=\"ESP and wet scrubber\"),$C$31,\"0\")","v":"0"}]
["d. Other known causes",{"$nulls":20},"Scrubber",{"$f":"SUMIFS(W17:W23,$V$17:$V$23,\"Scrubber liquid flow\")+SUMIFS(W17:W23,$V$17:$V$23,\"SDT scrubber fan amperage\")+SUMIFS(W17:W23,$V$17:$V$23,\"Scrubber pressure drop\")","v":0},{"$f":"SUMIFS(X17:X23,$V$17:$V$23,\"Scrubber liquid flow\")+SUMIFS(X17:X23,$V$17:$V$23,\"SDT scrubber fan amperage\")+SUMIFS(X17:X23,$V$17:$V$23,\"Scrubber pressure drop\")-X24","v":0},null,{"$f":"IF(W25/$B$10>0.01,\"Yes-Use detail forms\",\"No\")","v":{"$error":"#DIV/0!"}},{"$f":"IF(X25>5,\"Yes-Use detail and failure forms\",\"No\")","v":"No"}]
["e. Unknown causes",{"$nulls":20},"Other",{"$f":"SUMIFS(W17:W23,$V$17:$V$23,\"Alternative parameter (3-hr)\")","v":0},{"$f":"SUMIFS(X17:X23,$V$17:$V$23,\"Alternative parameter (3-hr)\")-X24","v":0},null,{"$f":"IF(W26/$B$10>0.01,\"Yes-Use detail forms\",\"No\")","v":{"$error":"#DIV/0!"}},{"$f":"IF(X26>5,\"Yes-Use detail and failure forms\",\"No\")","v":"No"}]
["2. Total duration of excess emissions2",{"$f":"IF(B14=\"\",\"\",SUM(B22:B26)-IF(B14=\"scrubber pressure drop\",B22,0))","v":""},{"$f":"IF(B14=\"\",\"\",SUM(C22:C26)-IF(B14=\"scrubber pressure drop\",C22,0))","v":""},{"$f":"IF(D14=\"\",\"\",SUM(D22:D26)-IF(D14=\"scrubber pressure drop\",D22,0))","v":""},{"$f":"IF(D14=\"\",\"\",SUM(E22:E26)-IF(D14=\"scrubber pressure drop\",E22,0))","v":""},{"$f":"IF(F14=\"\",\"\",SUM(F22:F26)-IF(F14=\"scrubber pressure drop\",F22,0))","v":""},{"$f":"IF(F14=\"\",\"\",SUM(G22:G26)-IF(F14=\"scrubber pressure drop\",G22,0))","v":""},{"$f":"IF(H14=\"\",\"\",SUM(H22:H26)-IF(H14=\"scrubber pressure drop\",H22,0))","v":""},{"$f":"IF(H14=\"\",\"\",SUM(I22:I26)-IF(H14=\"scrubber pressure drop\",I22,0))","v":""},{"$f":"IF(J14=\"\",\"\",SUM(J22:J26)-IF(J14=\"scrubber pressure drop\",J22,0))","v":""},{"$f":"IF(J14=\"\",\"\",SUM(K22:K26)-IF(J14=\"scrubber pressure drop\",K22,0))","v":""},{"$f":"IF(L14=\"\",\"\",SUM(L22:L26)-IF(L14=\"scrubber pressure drop\",L22,0))","v":""},{"$f":"IF(L14=\"\",\"\",SUM(M22:M26)-IF(L14=\"scrubber pressure drop\",M22,0))","v":""},{"$f":"IF(N14=\"\",\"\",SUM(N22:N26)-IF(N14=\"scrubber pressure drop\",N22,0))","v":""},{"$f":"IF(N14=\"\",\"\",SUM(O22:O26)-IF(N14=\"scrubber pressure drop\",O22,0))","v":""},{"$f":"IF(P14=\"\",\"\",SUM(P22:P26)-IF(P14=\"scrubber pressure drop\",P22,0))","v":""},{"$f":"IF(P14=\"\",\"\",SUM(Q22:Q26)-IF(P14=\"scrubber pressure drop\",Q22,0))","v":""}]
["3. (Total duration of excess emissions) / (Total Source Operating Time) x (100) %3",{"$f":"IF(B14=\"\",\"\",IF($B$10>0,B27/$B$10,0))","v":""},null,{"$f":"IF(D14=\"\",\"\",IF($B$10>0,D27/$B$10,0))","v":""},null,{"$f":"IF(F14=\"\",\"\",IF($B$10>0,F27/$B$10,0))","v":""},null,{"$f":"IF(H14=\"\",\"\",IF($B$10>0,H27/$B$10,0))","v":""},null,{"$f":"IF(J14=\"\",\"\",IF($B$10>0,J27/$B$10,0))","v":""},null,{"$f":"IF(L14=\"\",\"\",IF($B$10>0,L27/$B$10,0))","v":""},null,{"$f":"IF(N14=\"\",\"\",IF($B$10>0,N27/$B$10,0))","v":""},null,{"$f":"IF(P14=\"\",\"\",IF($B$10>0,P27/$B$10,0))","v":""}]
["Do excess emissions in item 3 meet or exceed 1% of operating time?",{"$f":"IF(B14=\"\",\"\",IF(B28>=0.01,\"Yes-Use detail form\",\"No\"))","v":""},null,{"$f":"IF(D14=\"\",\"\",IF(D28>=0.01,\"Yes-Use detail form\",\"No\"))","v":""},null,{"$f":"IF(F14=\"\",\"\",IF(F28>=0.01,\"Yes-Use detail form\",\"No\"))","v":""},null,{"$f":"IF(H14=\"\",\"\",IF(H28>=0.01,\"Yes-Use detail form\",\"No\"))","v":""},null,{"$f":"IF(J14=\"\",\"\",IF(J28>=0.01,\"Yes-Use detail form\",\"No\"))","v":""},null,{"$f":"IF(L14=\"\",\"\",IF(L28>=0.01,\"Yes-Use detail form\",\"No\"))","v":""},null,{"$f":"IF(N14=\"\",\"\",IF(N28>=0.01,\"Yes-Use detail form\",\"No\"))","v":""},null,{"$f":"IF(P14=\"\",\"\",IF(P28>=0.01,\"Yes-Use detail form\",\"No\"))","v":""}]
["Is the violation level triggered in item 2 above?  \nViolation level: Six or more 3-hour average parameter values or any 3-hour average RTO temperature per semiannual period.",null,{"$f":"IF(B14=\"\",\"\",IF(OR(B14=\"RTO temperature (1-hr)\",B14=\"Bypass of Control Device\",B14=\"Automatic Voltage Control\"),\"Not Applicable\",IF(C27<VLOOKUP(B14,Violations!$A$6:$D$10,4,FALSE),\"No\",\"Yes\")))","v":""},null,{"$f":"IF(D14=\"\",\"\",IF(OR(D14=\"RTO temperature (1-hr)\",D14=\"Bypass of Control Device\",D14=\"Automatic Voltage Control\"),\"Not Applicable\",IF(E27<VLOOKUP(D14,Violations!$A$6:$D$10,4,FALSE),\"No\",\"Yes\")))","v":""},null,{"$f":"IF(F14=\"\",\"\",IF(OR(F14=\"RTO temperature (1-hr)\",F14=\"Bypass of Control Device\",F14=\"Automatic Voltage Control\"),\"Not Applicable\",IF(G27<VLOOKUP(F14,Violations!$A$6:$D$10,4,FALSE),\"No\",\"Yes\")))","v":""},null,{"$f":"IF(H14=\"\",\"\",IF(OR(H14=\"RTO temperature (1-hr)\",H14=\"Bypass of Control Device\",H14=\"Automatic Voltage Control\"),\"Not Applicable\",IF(I27<VLOOKUP(H14,Violations!$A$6:$D$10,4,FALSE),\"No\",\"Yes\")))","v":""},null,{"$f":"IF(J14=\"\",\"\",IF(OR(J14=\"RTO temperature (1-hr)\",J14=\"Bypass of Control Device\",J14=\"Automatic Voltage Control\"),\"Not Applicable\",IF(K27<VLOOKUP(J14,Violations!$A$6:$D$10,4,FALSE),\"No\",\"Yes\")))","v":""},null,{"$f":"IF(L14=\"\",\"\",IF(OR(L14=\"RTO temperature (1-hr)\",L14=\"Bypass of Control Device\",L14=\"Automatic Voltage Control\"),\"Not Applicable\",IF(M27<VLOOKUP(L14,Violations!$A$6:$D$10,4,FALSE),\"No\",\"Yes\")))","v":""},null,{"$f":"IF(N14=\"\",\"\",IF(OR(N14=\"RTO temperature (1-hr)\",N14=\"Bypass of Control Device\",N14=\"Automatic Voltage Control\"),\"Not Applicable\",IF(O27<VLOOKUP(N14,Violations!$A$6:$D$10,4,FALSE),\"No\",\"Yes\")))","v":""},null,{"$f":"IF(P14=\"\",\"\",IF(OR(P14=\"RTO temperature (1-hr)\",P14=\"Bypass of Control Device\",P14=\"Automatic Voltage Control\"),\"Not Applicable\",IF(Q27<VLOOKUP(P14,Violations!$A$6:$D$10,4,FALSE),\"No\",\"Yes\")))","v":""}]
["Do any of the Count of No. of Averages in item 2 above occur concurrently? If so, how many?"]
["Do combined excess emissions in item 3 and/or combined counts in item 2 result in reporting requirements? (For scrubbers and other only)",{"$f":"IF(B14=\"\",\"\",IF(B9=\"Wet Scrubber\",Z25,IF(B9=\"ESP and Wet Scrubber\",Z25,IF(B14=\"Alternative parameter (3-hr)\",Z26,\"NA\"))))","v":""},{"$f":"IF(B14=\"\",\"\",IF(B9=\"Wet Scrubber\",AA25,IF(B9=\"ESP and Wet Scrubber\",AA25,IF(B14=\"Alternative parameter (3-hr)\",AA26,\"NA\"))))","v":""}]
["CMS Performance Summary [§63.867(c)(1)(viii)]"]
["Operating parameter",{"$f":"IF(B14=\"\",\"\",B14)","v":""},null,{"$f":"IF(D14=\"\",\"\",D14)","v":""},null,{"$f":"IF(F14=\"\",\"\",F14)","v":""},null,{"$f":"IF(H14=\"\",\"\",H14)","v":""},null,{"$f":"IF(J14=\"\",\"\",J14)","v":""},null,{"$f":"IF(L14=\"\",\"\",L14)","v":""},null,{"$f":"IF(N14=\"\",\"\",N14)","v":""},null,{"$f":"IF(P14=\"\",\"\",P14)","v":""}]
[null,"Duration",null,"Duration",null,"Duration",null,"Duration",null,"Duration",null,"Duration",null,"Duration",null,"Duration"]
["1. CMS downtime in reporting period due to:","Hours",null,"Hours",null,"Hours",null,"Hours",null,"Hours",null,"Hours",null,"Hours",null,"Hours"]
["a. Monitoring equipment malfunctions"]
["b. Non-monitor equipment malfunctions"]
["c. Quality assurance/quality control calibration"]
["d. Other known causes"]
["e. Unknown causes"]
["2. Total CMS downtime",{"$f":"IF(B14=\"\",\"\",SUM(B37:B41))","v":""},null,{"$f":"IF(D14=\"\",\"\",SUM(D37:D41))","v":""},null,{"$f":"IF(F14=\"\",\"\",SUM(F37:F41))","v":""},null,{"$f":"IF(H14=\"\",\"\",SUM(H37:H41))","v":""},null,{"$f":"IF(J14=\"\",\"\",SUM(J37:J41))","v":""},null,{"$f":"IF(L14=\"\",\"\",SUM(L37:L41))","v":""},null,{"$f":"IF(N14=\"\",\"\",SUM(N37:N41))","v":""},null,{"$f":"IF(P14=\"\",\"\",SUM(P37:P41))","v":""}]
["3. (Total CMS downtime) / (Total Source Operating Time) x (100) %3",{"$f":"IF(B14=\"\",\"\",IF($B$10>0,B42/$B$10,0))","v":""},null,{"$f":"IF(D14=\"\",\"\",IF($B$10>0,D42/$B$10,0))","v":""},null,{"$f":"IF(F14=\"\",\"\",IF($B$10>0,F42/$B$10,0))","v":""},null,{"$f":"IF(H14=\"\",\"\",IF($B$10>0,H42/$B$10,0))","v":""},null,{"$f":"IF(J14=\"\",\"\",IF($B$10>0,J42/$B$10,0))","v":""},null,{"$f":"IF(L14=\"\",\"\",IF($B$10>0,L42/$B$10,0))","v":""},null,{"$f":"IF(N14=\"\",\"\",IF($B$10>0,N42/$B$10,0))","v":""},null,{"$f":"IF(P14=\"\",\"\",IF($B$10>0,P42/$B$10,0))","v":""}]
["Is total CMS downtime greater than or equal to 5% of total source operating time?",{"$f":"IF(B14=\"\",\"\",IF(B43>=0.05,\"Yes-Use detail form\",\"No\"))","v":""},null,{"$f":"IF(D14=\"\",\"\",IF(D43>=0.05,\"Yes-Use detail form\",\"No\"))","v":""},null,{"$f":"IF(F14=\"\",\"\",IF(F43>=0.05,\"Yes-Use detail form\",\"No\"))","v":""},null,{"$f":"IF(H14=\"\",\"\",IF(H43>=0.05,\"Yes-Use detail form\",\"No\"))","v":""},null,{"$f":"IF(J14=\"\",\"\",IF(J43>=0.05,\"Yes-Use detail form\",\"No\"))","v":""},null,{"$f":"IF(L14=\"\",\"\",IF(L43>=0.05,\"Yes-Use detail form\",\"No\"))","v":""},null,{"$f":"IF(N14=\"\",\"\",IF(N43>=0.05,\"Yes-Use detail form\",\"No\"))","v":""},null,{"$f":"IF(P14=\"\",\"\",IF(P43>=0.05,\"Yes-Use detail form\",\"No\"))","v":""}]
["If detailed reporting is required, enter the type and/or filename of the detailed report provided"]
["Comments or clarifications if necessary:"]
["1. Enter the duration of excess emissions and number of averaging periods recorded as excess emissions, excluding:  "]
["● Monitoring data recorded during periods of unavoidable CMS breakdowns, out-of-control periods, repairs, maintenance periods, calibration checks, and zero (low-level) and high level adjustments [§63.864(h)]"]
["● Monitoring data recorded during periods when spent liquor solids (for recovery furnaces) or lime mud (for kilns) is not fired. [§63.864(k)(1), (k)(2)]"]
["2. Excludes periods of startup/shutdown for scrubber pressure drop."]
["3. If the total duration of excess emissions is 1% or greater of the total operating time, or the total CMS downtime is 5% or greater of the total operating time, both the Summary Report and the Excess Emissions "]
["and Continuous Monitoring Systems Performance Report must be submitted for this CMS and process unit. See the orange CMS Performance Detail and Excess Emissions Detail tabs to complete the Excess "]
["Emissions and Continuous Monitoring Systems Performance Report. [§63.867(c)(1) and (3)]"]
["4. Count: Enter the number of averaging periods recorded as excess emissions during the semiannual reporting period. No more than one exceedance will be attributed in any given 24-hour period as specified in §63.864(k)(3); "]
["thus, you are only required to enter one 3-hour average exceedance for a given 24-hour period."]
["Note: It is possible that the duration hours reported may exceed the hours associated with the count of averaging periods due the provision in §63.864(k)(3). "]

{"sheet":"COMS5","index":15,"n_rows":58,"n_cols":9,"rows_kept":58,"hidden":true}
["Summary Report – Gaseous and Opacity Excess Emissions and Continuous Monitoring System Performance"]
["Continuous Opacity Monitoring Systems and ESP Parameter Monitoring -- 40 CFR Part 63, Subpart MM"]
[{"$nulls":3},"Tab Name:",{"$f":"MID(CELL(\"filename\",A1),FIND(\"]\",CELL(\"filename\",A1))+1,255)","v":"COMS5"}]
["Company and Site Name",{"$f":"Facility_Info_upload!$C$24&\"--\"&Facility_Info_upload!$D$24","v":"0--0"}]
["Reporting period dates (beginning date, ending date)",{"$f":"CONCATENATE(TEXT(Facility_Info!$B$28,\"mm/dd/yyyy\"),\" - \",TEXT(Facility_Info!$B$29,\"mm/dd/yyyy\"))","v":"01/00/1900 - 01/00/1900"}]
["Process Unit ID",{"$f":"IF(Unit_Info!$C28=\"\",\"\",Unit_Info!$C28)","v":""}]
["Process Unit Type",{"$f":"IF(Unit_Info!$D28=\"\",\"\",Unit_Info!$D28)","v":""}]
["Process Unit Description",{"$f":"IF(Unit_Info!$F28=\"\",\"\",Unit_Info!$F28)","v":""}]
["Air Pollution Control Device Type",{"$f":"IF(Unit_Info!$I28=\"\",\"\",Unit_Info!$I28)","v":""}]
["Total Source Operating Time* (hours)"]
["*Includes all process unit operating time during the reporting period including startup/shutdown, malfunction, and all times when CMS are inoperative or producing invalid readings."]
["Emission Data Summary -- Opacity [§63.867(c)(1)(iv) and (vii)]"]
["Index Number",{"$f":"IF(B14=\"\",\"\",MAX(COMS1!B13:H13,COMS2!B13:H13,COMS3!B13:H13,COMS4!B13:H13)+1)","v":""},null,{"$f":"IF(D14=\"\",\"\",B13+1)","v":""},null,{"$f":"IF(F14=\"\",\"\",MAX(B13:D13)+1)","v":""},null,{"$f":"IF(H14=\"\",\"\",MAX(B13:F13)+1)","v":""}]
["Process Unit Emission Point"]
["Operating parameter"]
["Opacity limit, %"]
["Mark with an \"X\" if no excess emissions or exceedances of a parameter have occurred during the reporting period. [§63.10(e)(3)(v)]"]
["Mark with an \"X\" if the CMS has not been inoperative, out of control, repaired, or adjusted during the reporting period. [§63.10(e)(3)(v)]"]
["Mark with an \"X\" if the AVC was operated properly during the reporting period. [§63.8641(e)(1)]"]
[null,"Duration","Count","Duration","Count","Duration","Count","Duration","Count"]
["1. Duration of excess emissions in reporting period due to:1","Minutes","6-min averages","Minutes","6-min averages","Minutes","6-min averages","Minutes","6-min averages"]
["a. Startup/Shutdown"]
["b. Control Equipment Problems"]
["c. Process Problems"]
["d. Other known causes"]
["e. Unknown causes"]
["2. Total duration of excess emissions",{"$f":"IF(B14=\"\",\"\",SUM(B22:B26))","v":""},{"$f":"IF(B14=\"\",\"\",SUM(C22:C26)-IF(B15=\"scrubber pressure drop\",C22,0))","v":""},{"$f":"IF(D14=\"\",\"\",SUM(D22:D26))","v":""},{"$f":"IF(D14=\"\",\"\",SUM(E22:E26)-IF(D15=\"scrubber pressure drop\",E22,0))","v":""},{"$f":"IF(F14=\"\",\"\",SUM(F22:F26))","v":""},{"$f":"IF(F14=\"\",\"\",SUM(G22:G26)-IF(F15=\"scrubber pressure drop\",G22,0))","v":""},{"$f":"IF(H14=\"\",\"\",SUM(H22:H26))","v":""},{"$f":"IF(H14=\"\",\"\",SUM(I22:I26)-IF(H15=\"scrubber pressure drop\",I22,0))","v":""}]
["3. (Total duration of excess emissions) / (Total Source Operating Time) x (100) %2",{"$f":"IF(B14=\"\",\"\",IF($B$10>0,B27/($B$10*60),0))","v":""},{"$f":"IF(B14=\"\",\"\",IF($B$10>0,(C27*6)/($B$10*60),0))","v":""},{"$f":"IF(D14=\"\",\"\",IF($B$10>0,D27/($B$10*60),0))","v":""},{"$f":"IF(D14=\"\",\"\",IF($B$10>0,(E27*6)/($B$10*60),0))","v":""},{"$f":"IF(F14=\"\",\"\",IF($B$10>0,F27/($B$10*60),0))","v":""},{"$f":"IF(F14=\"\",\"\",IF($B$10>0,(G27*6)/($B$10*60),0))","v":""},{"$f":"IF(H14=\"\",\"\",IF($B$10>0,H27/($B$10*60),0))","v":""},{"$f":"IF(H14=\"\",\"\",IF($B$10>0,(I27*6)/($B$10*60),0))","v":""}]
["Do excess emissions equal or exceed 1% of operating time?2",{"$f":"IF(B14=\"\",\"\",IF(B28>=0.01,\"Yes-Use detail form\",\"No\"))","v":""},null,{"$f":"IF(D14=\"\",\"\",IF(D28>=0.01,\"Yes-Use detail form\",\"No\"))","v":""},null,{"$f":"IF(F14=\"\",\"\",IF(F28>=0.01,\"Yes-Use detail form\",\"No\"))","v":""},null,{"$f":"IF(H14=\"\",\"\",IF(H28>=0.01,\"Yes-Use detail form\",\"No\"))","v":""}]
["Is the opacity violation level triggered?\nViolation level (count) = 2% or more of 6-min averages for recovery furnaces, or 3% or more of 6-min averages for lime kilns  [§63.864(k)(2)(i)-(ii)]",null,{"$f":"IF(B14=\"\",\"\",IF(C28>=VLOOKUP($B$15,Violations!$A$21:$D$22,4,FALSE),\"Yes-Use detail and failure forms\",\"No\"))","v":""},null,{"$f":"IF(D14=\"\",\"\",IF(E28>=VLOOKUP($B$15,Violations!$A$21:$D$22,4,FALSE),\"Yes-Use detail and failure forms\",\"No\"))","v":""},null,{"$f":"IF(F14=\"\",\"\",IF(G28>=VLOOKUP($B$15,Violations!$A$21:$D$22,4,FALSE),\"Yes-Use detail and failure forms\",\"No\"))","v":""},null,{"$f":"IF(H14=\"\",\"\",IF(I28>=VLOOKUP($B$15,Violations!$A$21:$D$22,4,FALSE),\"Yes-Use detail and failure forms\",\"No\"))","v":""}]
[null,null,"Count",null,"Count",null,"Count",null,"Count"]
["4. Count of exceedances of corrective action level in reporting period due to:1",null,"10 consecutive 6-min averages",null,"10 consecutive 6-min averages",null,"10 consecutive 6-min averages",null,"10 consecutive 6-min averages"]
["a. Startup/Shutdown"]
["b. Control Equipment Problems"]
["c. Process Problems"]
["d. Other known causes"]
["e. Unknown causes"]
["5. Total count of exceedances of corrective action level",null,{"$f":"IF(B14=\"\",\"\",SUM(C33:C37)-IF(B15=\"scrubber pressure drop\",C33,0))","v":""},null,{"$f":"IF(D14=\"\",\"\",SUM(E33:E37)-IF(D15=\"scrubber pressure drop\",E33,0))","v":""},null,{"$f":"IF(F14=\"\",\"\",SUM(G33:G37)-IF(F15=\"scrubber pressure drop\",G33,0))","v":""},null,{"$f":"IF(H14=\"\",\"\",SUM(I33:I37)-IF(H15=\"scrubber pressure drop\",I33,0))","v":""}]
[" CMS Performance Summary [§63.867(c)(1)(viii)]"]
["Operating parameter",{"$f":"IF(B15=\"\",\"\",B15)","v":""},null,{"$f":"IF(D15=\"\",\"\",D15)","v":""},null,{"$f":"IF(F15=\"\",\"\",F15)","v":""},null,{"$f":"IF(H15=\"\",\"\",H15)","v":""}]
[null,"Duration",null,"Duration",null,"Duration",null,"Duration"]
["1. CMS downtime in reporting period due to:",{"$f":"B21","v":"Minutes"},null,{"$f":"D21","v":"Minutes"},null,{"$f":"F21","v":"Minutes"},null,{"$f":"H21","v":"Minutes"}]
["a. Monitoring equipment malfunctions"]
["b. Non-monitor equipment malfunctions"]
["c. Quality assurance/quality control calibration"]
["d. Other known causes"]
["e. Unknown causes"]
["2. Total CMS downtime",{"$f":"IF(B14=\"\",\"\",SUM(B43:B47))","v":""},null,{"$f":"IF(D14=\"\",\"\",SUM(D43:D47))","v":""},null,{"$f":"IF(F14=\"\",\"\",SUM(F43:F47))","v":""},null,{"$f":"IF(H14=\"\",\"\",SUM(H43:H47))","v":""}]
["3. (Total CMS downtime) / (Total Source Operating Time) x (100) %2",{"$f":"IF(B14=\"\",\"\",IF($B$10>0,B48/($B$10*60),0))","v":""},null,{"$f":"IF(D14=\"\",\"\",IF($B$10>0,D48/($B$10*60),0))","v":""},null,{"$f":"IF(F14=\"\",\"\",IF($B$10>0,F48/($B$10*60),0))","v":""},null,{"$f":"IF(H14=\"\",\"\",IF($B$10>0,H48/($B$10*60),0))","v":""}]
["Is total CMS downtime greater than or equal to 5% of total source operating time?2",{"$f":"IF(B14=\"\",\"\",IF(B49>=0.05,\"Yes-Use detail report\",\"No\"))","v":""},null,{"$f":"IF(D14=\"\",\"\",IF(D49>=0.05,\"Yes-Use detail report\",\"No\"))","v":""},null,{"$f":"IF(F14=\"\",\"\",IF(F49>=0.05,\"Yes-Use detail report\",\"No\"))","v":""},null,{"$f":"IF(H14=\"\",\"\",IF(H49>=0.05,\"Yes-Use detail report\",\"No\"))","v":""}]
["If detailed reporting is required, enter the type and/or filename of the detailed report provided"]
["1. Enter the duration of excess emissions and number of averaging periods recorded as excess emissions, excluding:  "]
["● Monitoring data recorded during periods of unavoidable CMS breakdowns, out-of-control periods, repairs, maintenance periods, calibration checks, and zero (low-level) and high level adjustments [§63.864(h)]"]
["● Monitoring data recorded during periods when spent liquor solids (for recovery furnaces) or lime mud (for kilns) is not fired. [§63.864(k)(1), (k)(2)]"]
["2. If the total duration of excess emissions is 1% or greater of the total operating time, or the total CMS downtime is 5% or greater of the total operating time, both the Summary Report and the Excess Emissions and "]
["Continuous Monitoring Systems Performance Report must be submitted for this CMS and process unit. See the orange CMS Performance Detail and Excess Emissions Detail tabs to complete the Excess Emissions and "]
["Continuous Monitoring Systems Performance Report. [§63.867(c)(1) and (3)]"]
["Count: Enter the number of 6-minute averaging periods recorded as excess emissions during the semiannual reporting period. "]

{"sheet":"CPMS5","index":16,"n_rows":56,"n_cols":27,"rows_kept":56,"hidden":true}
["Summary Report – Gaseous and Opacity Excess Emissions and Continuous Monitoring System Performance"]
["Continuous Parameter Monitoring Systems -- 40 CFR Part 63, Subpart MM"]
[{"$nulls":3},"Tab Name:",{"$f":"MID(CELL(\"filename\",A1),FIND(\"]\",CELL(\"filename\",A1))+1,255)","v":"CPMS5"},{"$nulls":6},"Tab Name:",{"$f":"MID(CELL(\"filename\",I1),FIND(\"]\",CELL(\"filename\",I1))+1,255)","v":"CPMS5"}]
["Company and Site Name",{"$f":"Facility_Info_upload!$C$24&\"--\"&Facility_Info_upload!$D$24","v":"0--0"},{"$nulls":7},{"$f":"Facility_Info_upload!$C$24&\"--\"&Facility_Info_upload!$D$24","v":"0--0"}]
["Reporting period dates (beginning date, ending date)",{"$f":"CONCATENATE(TEXT(Facility_Info!$B$28,\"mm/dd/yyyy\"),\" - \",TEXT(Facility_Info!$B$29,\"mm/dd/yyyy\"))","v":"01/00/1900 - 01/00/1900"},{"$nulls":7},{"$f":"CONCATENATE(TEXT(Facility_Info!$B$28,\"mm/dd/yyyy\"),\" - \",TEXT(Facility_Info!$B$29,\"mm/dd/yyyy\"))","v":"01/00/1900 - 01/00/1900"}]
["Process Unit ID",{"$f":"IF(Unit_Info!$C28=\"\",\"\",Unit_Info!$C28)","v":""},{"$nulls":7},{"$f":"INDEX(Unit_Info!$Z$43:$Z$62,MATCH(CPMS5!$E$3,Unit_Info!$Y$43:$Y$62,0))","v":{"$error":"#N/A"}}]
["Process Unit Type",{"$f":"IF(Unit_Info!$D28=\"\",\"\",Unit_Info!$D28)","v":""},{"$nulls":7},{"$f":"INDEX(Unit_Info!$AA$43:$AA$62,MATCH(CPMS5!$E$3,Unit_Info!$Y$43:$Y$62,0))","v":{"$error":"#N/A"}}]
["Process Unit Description",{"$f":"IF(Unit_Info!$F28=\"\",\"\",Unit_Info!$F28)","v":""},{"$nulls":7},{"$f":"INDEX(Unit_Info!$AB$43:$AB$62,MATCH(CPMS5!$E$3,Unit_Info!$Y$43:$Y$62,0))","v":{"$error":"#N/A"}}]
["Air Pollution Control Device Type",{"$f":"IF(Unit_Info!$I28=\"\",\"\",Unit_Info!$I28)","v":""},{"$nulls":7},{"$f":"INDEX(Unit_Info!$AC$43:$AC$62,MATCH(CPMS5!$E$3,Unit_Info!$Y$43:$Y$62,0))","v":{"$error":"#N/A"}}]
["Total Source Operating Time* (hours)",{"$nulls":8},{"$f":"+B10","v":0}]
["*Includes all process unit operating time during the reporting period including startup/shutdown, malfunction, and all times when CMS are inoperative or producing invalid readings."]
["Emission Data Summary [§63.867(c)(1)(iv) and (vii)]"]
["Index Number",{"$f":"IF(B14=\"\",\"\",MAX(CPMS1!B13:H13,CPMS2!B13:H13,CPMS3!B13:H13,CPMS4!B13:H13)+1)","v":""},null,{"$f":"IF(D14=\"\",\"\",B13+1)","v":""},null,{"$f":"IF(F14=\"\",\"\",MAX(B13:D13)+1)","v":""},null,{"$f":"IF(H14=\"\",\"\",MAX(B13:F13)+1)","v":""},null,{"$f":"IF(J14=\"\",\"\",MAX(D13:H13)+1)","v":""},null,{"$f":"IF(L14=\"\",\"\",MAX(F13:J13)+1)","v":""},null,{"$f":"IF(N14=\"\",\"\",MAX(H13:L13)+1)","v":""},null,{"$f":"IF(P14=\"\",\"\",MAX(J13:N13)+1)","v":""}]
["Operating parameter"]
["Averaging period"]
["Operating parameter limit (numerical value)",{"$nulls":20},"Combine for EE","Duration","Count"]
["   Operating limit units (text)",{"$nulls":20},{"$f":"B14","v":0},{"$f":"B27","v":""},{"$f":"C27","v":""}]
["Mark with an \"X\" if no excess emissions or exceedances of a parameter have occurred during the reporting period. [§63.10(e)(3)(v)]",{"$nulls":20},{"$f":"D14","v":0},{"$f":"D27","v":""},{"$f":"E27","v":""}]
["Mark with an \"X\" if the CMS has not been inoperative, out of control, repaired, or adjusted during the reporting period. [§63.10(e)(3)(v)]",{"$nulls":20},{"$f":"F14","v":0},{"$f":"F27","v":""},{"$f":"G27","v":""}]
[null,"Duration","Count","Duration","Count","Duration","Count","Duration","Count","Duration","Count","Duration","Count","Duration","Count","Duration","Count",{"$nulls":4},{"$f":"J14","v":0},{"$f":"J27","v":""},{"$f":"K27","v":""}]
["1. Duration of excess emissions in reporting period due to:1","Hours","No. of Averages4","Hours","No. of Averages4","Hours","No. of Averages4","Hours","No. of Averages4","Hours","No. of Averages4","Hours","No. of Averages4","Hours","No. of Averages4","Hours","No. of Averages4",{"$nulls":4},{"$f":"L14","v":0},{"$f":"L27","v":""},{"$f":"M27","v":""}]
["a. Startup/Shutdown",{"$nulls":20},{"$f":"N14","v":0},{"$f":"N27","v":""},{"$f":"O27","v":""}]
["b. Control Equipment Problems",{"$nulls":20},{"$f":"P14","v":0},{"$f":"P27","v":""},{"$f":"Q27","v":""}]
["c. Process Problems",{"$nulls":22},{"$f":"IF(OR(B9=\"Wet Scrubber\", B9=\"ESP and wet scrubber\"),$C$31,\"0\")","v":"0"}]
["d. Other known causes",{"$nulls":20},"Scrubber",{"$f":"SUMIFS(W17:W23,$V$17:$V$23,\"Scrubber liquid flow\")+SUMIFS(W17:W23,$V$17:$V$23,\"SDT scrubber fan amperage\")+SUMIFS(W17:W23,$V$17:$V$23,\"Scrubber pressure drop\")","v":0},{"$f":"SUMIFS(X17:X23,$V$17:$V$23,\"Scrubber liquid flow\")+SUMIFS(X17:X23,$V$17:$V$23,\"SDT scrubber fan amperage\")+SUMIFS(X17:X23,$V$17:$V$23,\"Scrubber pressure drop\")-X24","v":0},null,{"$f":"IF(W25/$B$10>0.01,\"Yes-Use detail forms\",\"No\")","v":{"$error":"#DIV/0!"}},{"$f":"IF(X25>5,\"Yes-Use detail and failure forms\",\"No\")","v":"No"}]
["e. Unknown causes",{"$nulls":20},"Other",{"$f":"SUMIFS(W17:W23,$V$17:$V$23,\"Alternative parameter (3-hr)\")","v":0},{"$f":"SUMIFS(X17:X23,$V$17:$V$23,\"Alternative parameter (3-hr)\")-X24","v":0},null,{"$f":"IF(W26/$B$10>0.01,\"Yes-Use detail forms\",\"No\")","v":{"$error":"#DIV/0!"}},{"$f":"IF(X26>5,\"Yes-Use detail and failure forms\",\"No\")","v":"No"}]
["2. Total duration of excess emissions2",{"$f":"IF(B14=\"\",\"\",SUM(B22:B26)-IF(B14=\"scrubber pressure drop\",B22,0))","v":""},{"$f":"IF(B14=\"\",\"\",SUM(C22:C26)-IF(B14=\"scrubber pressure drop\",C22,0))","v":""},{"$f":"IF(D14=\"\",\"\",SUM(D22:D26)-IF(D14=\"scrubber pressure drop\",D22,0))","v":""},{"$f":"IF(D14=\"\",\"\",SUM(E22:E26)-IF(D14=\"scrubber pressure drop\",E22,0))","v":""},{"$f":"IF(F14=\"\",\"\",SUM(F22:F26)-IF(F14=\"scrubber pressure drop\",F22,0))","v":""},{"$f":"IF(F14=\"\",\"\",SUM(G22:G26)-IF(F14=\"scrubber pressure drop\",G22,0))","v":""},{"$f":"IF(H14=\"\",\"\",SUM(H22:H26)-IF(H14=\"scrubber pressure drop\",H22,0))","v":""},{"$f":"IF(H14=\"\",\"\",SUM(I22:I26)-IF(H14=\"scrubber pressure drop\",I22,0))","v":""},{"$f":"IF(J14=\"\",\"\",SUM(J22:J26)-IF(J14=\"scrubber pressure drop\",J22,0))","v":""},{"$f":"IF(J14=\"\",\"\",SUM(K22:K26)-IF(J14=\"scrubber pressure drop\",K22,0))","v":""},{"$f":"IF(L14=\"\",\"\",SUM(L22:L26)-IF(L14=\"scrubber pressure drop\",L22,0))","v":""},{"$f":"IF(L14=\"\",\"\",SUM(M22:M26)-IF(L14=\"scrubber pressure drop\",M22,0))","v":""},{"$f":"IF(N14=\"\",\"\",SUM(N22:N26)-IF(N14=\"scrubber pressure drop\",N22,0))","v":""},{"$f":"IF(N14=\"\",\"\",SUM(O22:O26)-IF(N14=\"scrubber pressure drop\",O22,0))","v":""},{"$f":"IF(P14=\"\",\"\",SUM(P22:P26)-IF(P14=\"scrubber pressure drop\",P22,0))","v":""},{"$f":"IF(P14=\"\",\"\",SUM(Q22:Q26)-IF(P14=\"scrubber pressure drop\",Q22,0))","v":""}]
["3. (Total duration of excess emissions) / (Total Source Operating Time) x (100) %3",{"$f":"IF(B14=\"\",\"\",IF($B$10>0,B27/$B$10,0))","v":""},null,{"$f":"IF(D14=\"\",\"\",IF($B$10>0,D27/$B$10,0))","v":""},null,{"$f":"IF(F14=\"\",\"\",IF($B$10>0,F27/$B$10,0))","v":""},null,{"$f":"IF(H14=\"\",\"\",IF($B$10>0,H27/$B$10,0))","v":""},null,{"$f":"IF(J14=\"\",\"\",IF($B$10>0,J27/$B$10,0))","v":""},null,{"$f":"IF(L14=\"\",\"\",IF($B$10>0,L27/$B$10,0))","v":""},null,{"$f":"IF(N14=\"\",\"\",IF($B$10>0,N27/$B$10,0))","v":""},null,{"$f":"IF(P14=\"\",\"\",IF($B$10>0,P27/$B$10,0))","v":""}]
["Do excess emissions in item 3 meet or exceed 1% of operating time?",{"$f":"IF(B14=\"\",\"\",IF(B28>=0.01,\"Yes-Use detail form\",\"No\"))","v":""},null,{"$f":"IF(D14=\"\",\"\",IF(D28>=0.01,\"Yes-Use detail form\",\"No\"))","v":""},null,{"$f":"IF(F14=\"\",\"\",IF(F28>=0.01,\"Yes-Use detail form\",\"No\"))","v":""},null,{"$f":"IF(H14=\"\",\"\",IF(H28>=0.01,\"Yes-Use detail form\",\"No\"))","v":""},null,{"$f":"IF(J14=\"\",\"\",IF(J28>=0.01,\"Yes-Use detail form\",\"No\"))","v":""},null,{"$f":"IF(L14=\"\",\"\",IF(L28>=0.01,\"Yes-Use detail form\",\"No\"))","v":""},null,{"$f":"IF(N14=\"\",\"\",IF(N28>=0.01,\"Yes-Use detail form\",\"No\"))","v":""},null,{"$f":"IF(P14=\"\",\"\",IF(P28>=0.01,\"Yes-Use detail form\",\"No\"))","v":""}]
["Is the violation level triggered in item 2 above?  \nViolation level: Six or more 3-hour average parameter values or any 3-hour average RTO temperature per semiannual period.",null,{"$f":"IF(B14=\"\",\"\",IF(OR(B14=\"RTO temperature (1-hr)\",B14=\"Bypass of Control Device\",B14=\"Automatic Voltage Control\"),\"Not Applicable\",IF(C27<VLOOKUP(B14,Violations!$A$6:$D$10,4,FALSE),\"No\",\"Yes\")))","v":""},null,{"$f":"IF(D14=\"\",\"\",IF(OR(D14=\"RTO temperature (1-hr)\",D14=\"Bypass of Control Device\",D14=\"Automatic Voltage Control\"),\"Not Applicable\",IF(E27<VLOOKUP(D14,Violations!$A$6:$D$10,4,FALSE),\"No\",\"Yes\")))","v":""},null,{"$f":"IF(F14=\"\",\"\",IF(OR(F14=\"RTO temperature (1-hr)\",F14=\"Bypass of Control Device\",F14=\"Automatic Voltage Control\"),\"Not Applicable\",IF(G27<VLOOKUP(F14,Violations!$A$6:$D$10,4,FALSE),\"No\",\"Yes\")))","v":""},null,{"$f":"IF(H14=\"\",\"\",IF(OR(H14=\"RTO temperature (1-hr)\",H14=\"Bypass of Control Device\",H14=\"Automatic Voltage Control\"),\"Not Applicable\",IF(I27<VLOOKUP(H14,Violations!$A$6:$D$10,4,FALSE),\"No\",\"Yes\")))","v":""},null,{"$f":"IF(J14=\"\",\"\",IF(OR(J14=\"RTO temperature (1-hr)\",J14=\"Bypass of Control Device\",J14=\"Automatic Voltage Control\"),\"Not Applicable\",IF(K27<VLOOKUP(J14,Violations!$A$6:$D$10,4,FALSE),\"No\",\"Yes\")))","v":""},null,{"$f":"IF(L14=\"\",\"\",IF(OR(L14=\"RTO temperature (1-hr)\",L14=\"Bypass of Control Device\",L14=\"Automatic Voltage Control\"),\"Not Applicable\",IF(M27<VLOOKUP(L14,Violations!$A$6:$D$10,4,FALSE),\"No\",\"Yes\")))","v":""},null,{"$f":"IF(N14=\"\",\"\",IF(OR(N14=\"RTO temperature (1-hr)\",N14=\"Bypass of Control Device\",N14=\"Automatic Voltage Control\"),\"Not Applicable\",IF(O27<VLOOKUP(N14,Violations!$A$6:$D$10,4,FALSE),\"No\",\"Yes\")))","v":""},null,{"$f":"IF(P14=\"\",\"\",IF(OR(P14=\"RTO temperature (1-hr)\",P14=\"Bypass of Control Device\",P14=\"Automatic Voltage Control\"),\"Not Applicable\",IF(Q27<VLOOKUP(P14,Violations!$A$6:$D$10,4,FALSE),\"No\",\"Yes\")))","v":""}]
["Do any of the Count of No. of Averages in item 2 above occur concurrently? If so, how many?"]
["Do combined excess emissions in item 3 and/or combined counts in item 2 result in reporting requirements? (For scrubbers and other only)",{"$f":"IF(B14=\"\",\"\",IF(B9=\"Wet Scrubber\",Z25,IF(B9=\"ESP and Wet Scrubber\",Z25,IF(B14=\"Alternative parameter (3-hr)\",Z26,\"NA\"))))","v":""},{"$f":"IF(B14=\"\",\"\",IF(B9=\"Wet Scrubber\",AA25,IF(B9=\"ESP and Wet Scrubber\",AA25,IF(B14=\"Alternative parameter (3-hr)\",AA26,\"NA\"))))","v":""}]
["CMS Performance Summary [§63.867(c)(1)(viii)]"]
["Operating parameter",{"$f":"IF(B14=\"\",\"\",B14)","v":""},null,{"$f":"IF(D14=\"\",\"\",D14)","v":""},null,{"$f":"IF(F14=\"\",\"\",F14)","v":""},null,{"$f":"IF(H14=\"\",\"\",H14)","v":""},null,{"$f":"IF(J14=\"\",\"\",J14)","v":""},null,{"$f":"IF(L14=\"\",\"\",L14)","v":""},null,{"$f":"IF(N14=\"\",\"\",N14)","v":""},null,{"$f":"IF(P14=\"\",\"\",P14)","v":""}]
[null,"Duration",null,"Duration",null,"Duration",null,"Duration",null,"Duration",null,"Duration",null,"Duration",null,"Duration"]
["1. CMS downtime in reporting period due to:","Hours",null,"Hours",null,"Hours",null,"Hours",null,"Hours",null,"Hours",null,"Hours",null,"Hours"]
["a. Monitoring equipment malfunctions"]
["b. Non-monitor equipment malfunctions"]
["c. Quality assurance/quality control calibration"]
["d. Other known causes"]
["e. Unknown causes"]
["2. Total CMS downtime",{"$f":"IF(B14=\"\",\"\",SUM(B37:B41))","v":""},null,{"$f":"IF(D14=\"\",\"\",SUM(D37:D41))","v":""},null,{"$f":"IF(F14=\"\",\"\",SUM(F37:F41))","v":""},null,{"$f":"IF(H14=\"\",\"\",SUM(H37:H41))","v":""},null,{"$f":"IF(J14=\"\",\"\",SUM(J37:J41))","v":""},null,{"$f":"IF(L14=\"\",\"\",SUM(L37:L41))","v":""},null,{"$f":"IF(N14=\"\",\"\",SUM(N37:N41))","v":""},null,{"$f":"IF(P14=\"\",\"\",SUM(P37:P41))","v":""}]
["3. (Total CMS downtime) / (Total Source Operating Time) x (100) %3",{"$f":"IF(B14=\"\",\"\",IF($B$10>0,B42/$B$10,0))","v":""},null,{"$f":"IF(D14=\"\",\"\",IF($B$10>0,D42/$B$10,0))","v":""},null,{"$f":"IF(F14=\"\",\"\",IF($B$10>0,F42/$B$10,0))","v":""},null,{"$f":"IF(H14=\"\",\"\",IF($B$10>0,H42/$B$10,0))","v":""},null,{"$f":"IF(J14=\"\",\"\",IF($B$10>0,J42/$B$10,0))","v":""},null,{"$f":"IF(L14=\"\",\"\",IF($B$10>0,L42/$B$10,0))","v":""},null,{"$f":"IF(N14=\"\",\"\",IF($B$10>0,N42/$B$10,0))","v":""},null,{"$f":"IF(P14=\"\",\"\",IF($B$10>0,P42/$B$10,0))","v":""}]
["Is total CMS downtime greater than or equal to 5% of total source operating time?",{"$f":"IF(B14=\"\",\"\",IF(B43>=0.05,\"Yes-Use detail form\",\"No\"))","v":""},null,{"$f":"IF(D14=\"\",\"\",IF(D43>=0.05,\"Yes-Use detail form\",\"No\"))","v":""},null,{"$f":"IF(F14=\"\",\"\",IF(F43>=0.05,\"Yes-Use detail form\",\"No\"))","v":""},null,{"$f":"IF(H14=\"\",\"\",IF(H43>=0.05,\"Yes-Use detail form\",\"No\"))","v":""},null,{"$f":"IF(J14=\"\",\"\",IF(J43>=0.05,\"Yes-Use detail form\",\"No\"))","v":""},null,{"$f":"IF(L14=\"\",\"\",IF(L43>=0.05,\"Yes-Use detail form\",\"No\"))","v":""},null,{"$f":"IF(N14=\"\",\"\",IF(N43>=0.05,\"Yes-Use detail form\",\"No\"))","v":""},null,{"$f":"IF(P14=\"\",\"\",IF(P43>=0.05,\"Yes-Use detail form\",\"No\"))","v":""}]
["If detailed reporting is required, enter the type and/or filename of the detailed report provided"]
["Comments or clarifications if necessary:"]
["1. Enter the duration of excess emissions and number of averaging periods recorded as excess emissions, excluding:  "]
["● Monitoring data recorded during periods of unavoidable CMS breakdowns, out-of-control periods, repairs, maintenance periods, calibration checks, and zero (low-level) and high level adjustments [§63.864(h)]"]
["● Monitoring data recorded during periods when spent liquor solids (for recovery furnaces) or lime mud (for kilns) is not fired. [§63.864(k)(1), (k)(2)]"]
["2. Excludes periods of startup/shutdown for scrubber pressure drop."]
["3. If the total duration of excess emissions is 1% or greater of the total operating time, or the total CMS downtime is 5% or greater of the total operating time, both the Summary Report and the Excess Emissions "]
["and Continuous Monitoring Systems Performance Report must be submitted for this CMS and process unit. See the orange CMS Performance Detail and Excess Emissions Detail tabs to complete the Excess "]
["Emissions and Continuous Monitoring Systems Performance Report. [§63.867(c)(1) and (3)]"]
["4. Count: Enter the number of averaging periods recorded as excess emissions during the semiannual reporting period. No more than one exceedance will be attributed in any given 24-hour period as specified in §63.864(k)(3); "]
["thus, you are only required to enter one 3-hour average exceedance for a given 24-hour period."]
["Note: It is possible that the duration hours reported may exceed the hours associated with the count of averaging periods due the provision in §63.864(k)(3). "]

{"sheet":"COMS6","index":17,"n_rows":58,"n_cols":9,"rows_kept":58,"hidden":true}
["Summary Report – Gaseous and Opacity Excess Emissions and Continuous Monitoring System Performance"]
["Continuous Opacity Monitoring Systems and ESP Parameter Monitoring -- 40 CFR Part 63, Subpart MM"]
[{"$nulls":3},"Tab Name:",{"$f":"MID(CELL(\"filename\",A1),FIND(\"]\",CELL(\"filename\",A1))+1,255)","v":"COMS6"}]
["Company and Site Name",{"$f":"Facility_Info_upload!$C$24&\"--\"&Facility_Info_upload!$D$24","v":"0--0"}]
["Reporting period dates (beginning date, ending date)",{"$f":"CONCATENATE(TEXT(Facility_Info!$B$28,\"mm/dd/yyyy\"),\" - \",TEXT(Facility_Info!$B$29,\"mm/dd/yyyy\"))","v":"01/00/1900 - 01/00/1900"}]
["Process Unit ID",{"$f":"IF(Unit_Info!$C29=\"\",\"\",Unit_Info!$C29)","v":""}]
["Process Unit Type",{"$f":"IF(Unit_Info!$D29=\"\",\"\",Unit_Info!$D29)","v":""}]
["Process Unit Description",{"$f":"IF(Unit_Info!$F29=\"\",\"\",Unit_Info!$F29)","v":""}]
["Air Pollution Control Device Type",{"$f":"IF(Unit_Info!$I29=\"\",\"\",Unit_Info!$I29)","v":""}]
["Total Source Operating Time* (hours)"]
["*Includes all process unit operating time during the reporting period including startup/shutdown, malfunction, and all times when CMS are inoperative or producing invalid readings."]
["Emission Data Summary -- Opacity [§63.867(c)(1)(iv) and (vii)]"]
["Index Number",{"$f":"IF(B14=\"\",\"\",MAX(COMS1!B13:H13,COMS2!B13:H13,COMS3!B13:H13,COMS4!B13:H13,COMS5!B13:H13)+1)","v":""},null,{"$f":"IF(D14=\"\",\"\",B13+1)","v":""},null,{"$f":"IF(F14=\"\",\"\",MAX(B13:D13)+1)","v":""},null,{"$f":"IF(H14=\"\",\"\",MAX(B13:F13)+1)","v":""}]
["Process Unit Emission Point"]
["Operating parameter"]
["Opacity limit, %"]
["Mark with an \"X\" if no excess emissions or exceedances of a parameter have occurred during the reporting period. [§63.10(e)(3)(v)]"]
["Mark with an \"X\" if the CMS has not been inoperative, out of control, repaired, or adjusted during the reporting period. [§63.10(e)(3)(v)]"]
["Mark with an \"X\" if the AVC was operated properly during the reporting period. [§63.8641(e)(1)]"]
[null,"Duration","Count","Duration","Count","Duration","Count","Duration","Count"]
["1. Duration of excess emissions in reporting period due to:1","Minutes","6-min averages","Minutes","6-min averages","Minutes","6-min averages","Minutes","6-min averages"]
["a. Startup/Shutdown"]
["b. Control Equipment Problems"]
["c. Process Problems"]
["d. Other known causes"]
["e. Unknown causes"]
["2. Total duration of excess emissions",{"$f":"SUM(B22:B26)","v":0},{"$f":"SUM(C22:C26)-IF(B15=\"scrubber pressure drop\",C22,0)","v":0},{"$f":"SUM(D22:D26)","v":0},{"$f":"SUM(E22:E26)-IF(D15=\"scrubber pressure drop\",E22,0)","v":0},{"$f":"SUM(F22:F26)","v":0},{"$f":"SUM(G22:G26)-IF(F15=\"scrubber pressure drop\",G22,0)","v":0},{"$f":"SUM(H22:H26)","v":0},{"$f":"SUM(I22:I26)-IF(H15=\"scrubber pressure drop\",I22,0)","v":0}]
["3. (Total duration of excess emissions) / (Total Source Operating Time) x (100) %2",{"$f":"IF($B$10>0,B27/($B$10*60),0)","v":{"v":0,"d":"0.00%"}},{"$f":"IF($B$10>0,(C27*6)/($B$10*60),0)","v":{"v":0,"d":"0.0%"}},{"$f":"IF($B$10>0,D27/($B$10*60),0)","v":{"v":0,"d":"0.00%"}},{"$f":"IF($B$10>0,(E27*6)/($B$10*60),0)","v":{"v":0,"d":"0.0%"}},{"$f":"IF($B$10>0,F27/($B$10*60),0)","v":{"v":0,"d":"0.00%"}},{"$f":"IF($B$10>0,(G27*6)/($B$10*60),0)","v":{"v":0,"d":"0.0%"}},{"$f":"IF($B$10>0,H27/($B$10*60),0)","v":{"v":0,"d":"0.00%"}},{"$f":"IF($B$10>0,(I27*6)/($B$10*60),0)","v":{"v":0,"d":"0.0%"}}]
["Do excess emissions equal or exceed 1% of operating time?2",{"$f":"IF(B28>=0.01,\"Yes-Use detail form\",\"No\")","v":"No"},null,{"$f":"IF(D28>=0.01,\"Yes-Use detail form\",\"No\")","v":"No"},null,{"$f":"IF(F28>=0.01,\"Yes-Use detail form\",\"No\")","v":"No"},null,{"$f":"IF(H28>=0.01,\"Yes-Use detail form\",\"No\")","v":"No"}]
["Is the opacity violation level triggered?\nViolation level (count) = 2% or more of 6-min averages for recovery furnaces, or 3% or more of 6-min averages for lime kilns  [§63.864(k)(2)(i)-(ii)]",null,{"$f":"IF(C28>=VLOOKUP($B$15,Violations!$A$21:$D$22,4,FALSE),\"Yes-Use detail and failure forms\",\"No\")","v":{"$error":"#N/A"}},null,{"$f":"IF(E28>=VLOOKUP($D$15,Violations!$A$21:$D$22,4,FALSE),\"Yes-Use detail and failure forms\",\"No\")","v":{"$error":"#N/A"}},null,{"$f":"IF(G28>=VLOOKUP($F$15,Violations!$A$21:$D$22,4,FALSE),\"Yes-Use detail and failure forms\",\"No\")","v":{"$error":"#N/A"}},null,{"$f":"IF(I28>=VLOOKUP($H$15,Violations!$A$21:$D$22,4,FALSE),\"Yes-Use detail and failure forms\",\"No\")","v":{"$error":"#N/A"}}]
[null,null,"Count",null,"Count",null,"Count",null,"Count"]
["4. Count of exceedances of corrective action level in reporting period due to:1",null,"10 consecutive 6-min averages",null,"10 consecutive 6-min averages",null,"10 consecutive 6-min averages",null,"10 consecutive 6-min averages"]
["a. Startup/Shutdown"]
["b. Control Equipment Problems"]
["c. Process Problems"]
["d. Other known causes"]
["e. Unknown causes"]
["5. Total count of exceedances of corrective action level",null,{"$f":"SUM(C33:C37)-IF(B15=\"scrubber pressure drop\",C33,0)","v":0},null,{"$f":"SUM(E33:E37)-IF(D15=\"scrubber pressure drop\",E33,0)","v":0},null,{"$f":"SUM(G33:G37)-IF(F15=\"scrubber pressure drop\",G33,0)","v":0},null,{"$f":"SUM(I33:I37)-IF(H15=\"scrubber pressure drop\",I33,0)","v":0}]
[" CMS Performance Summary [§63.867(c)(1)(viii)]"]
["Operating parameter",{"$f":"IF(B15=\"\",\"\",B15)","v":""},null,{"$f":"IF(D15=\"\",\"\",D15)","v":""},null,{"$f":"IF(F15=\"\",\"\",F15)","v":""},null,{"$f":"IF(H15=\"\",\"\",H15)","v":""}]
[null,"Duration",null,"Duration",null,"Duration",null,"Duration"]
["1. CMS downtime in reporting period due to:",{"$f":"B21","v":"Minutes"},null,{"$f":"D21","v":"Minutes"},null,{"$f":"F21","v":"Minutes"},null,{"$f":"H21","v":"Minutes"}]
["a. Monitoring equipment malfunctions"]
["b. Non-monitor equipment malfunctions"]
["c. Quality assurance/quality control calibration"]
["d. Other known causes"]
["e. Unknown causes"]
["2. Total CMS downtime",{"$f":"SUM(B43:B47)","v":0},null,0,null,0,null,0]
["3. (Total CMS downtime) / (Total Source Operating Time) x (100) %2",{"$f":"IF($B$10>0,B48/($B$10*60),0)","v":{"v":0,"d":"0.00%"}},null,{"$f":"IF($B$10>0,D48/($B$10*60),0)","v":{"v":0,"d":"0.00%"}},null,{"$f":"IF($B$10>0,F48/($B$10*60),0)","v":{"v":0,"d":"0.00%"}},null,{"$f":"IF($B$10>0,H48/($B$10*60),0)","v":{"v":0,"d":"0.00%"}}]
["Is total CMS downtime greater than or equal to 5% of total source operating time?2",{"$f":"IF(B49>=0.05,\"Yes-Use detail report\",\"No\")","v":"No"},null,{"$f":"IF(D49>=0.05,\"Yes-Use detail report\",\"No\")","v":"No"},null,{"$f":"IF(F49>=0.05,\"Yes-Use detail report\",\"No\")","v":"No"},null,{"$f":"IF(H49>=0.05,\"Yes-Use detail report\",\"No\")","v":"No"}]
["If detailed reporting is required, enter the type and/or filename of the detailed report provided"]
["1. Enter the duration of excess emissions and number of averaging periods recorded as excess emissions, excluding:  "]
["● Monitoring data recorded during periods of unavoidable CMS breakdowns, out-of-control periods, repairs, maintenance periods, calibration checks, and zero (low-level) and high level adjustments [§63.864(h)]"]
["● Monitoring data recorded during periods when spent liquor solids (for recovery furnaces) or lime mud (for kilns) is not fired. [§63.864(k)(1), (k)(2)]"]
["2. If the total duration of excess emissions is 1% or greater of the total operating time, or the total CMS downtime is 5% or greater of the total operating time, both the Summary Report and the Excess Emissions and "]
["Continuous Monitoring Systems Performance Report must be submitted for this CMS and process unit. See the orange CMS Performance Detail and Excess Emissions Detail tabs to complete the Excess Emissions and "]
["Continuous Monitoring Systems Performance Report. [§63.867(c)(1) and (3)]"]
["Count: Enter the number of 6-minute averaging periods recorded as excess emissions during the semiannual reporting period. "]

{"sheet":"CPMS6","index":18,"n_rows":56,"n_cols":27,"rows_kept":56,"hidden":true}
["Summary Report – Gaseous and Opacity Excess Emissions and Continuous Monitoring System Performance"]
["Continuous Parameter Monitoring Systems -- 40 CFR Part 63, Subpart MM"]
[{"$nulls":3},"Tab Name:",{"$f":"MID(CELL(\"filename\",A1),FIND(\"]\",CELL(\"filename\",A1))+1,255)","v":"CPMS6"},{"$nulls":6},"Tab Name:",{"$f":"MID(CELL(\"filename\",I1),FIND(\"]\",CELL(\"filename\",I1))+1,255)","v":"CPMS6"}]
["Company and Site Name",{"$f":"Facility_Info_upload!$C$24&\"--\"&Facility_Info_upload!$D$24","v":"0--0"},{"$nulls":7},{"$f":"Facility_Info_upload!$C$24&\"--\"&Facility_Info_upload!$D$24","v":"0--0"}]
["Reporting period dates (beginning date, ending date)",{"$f":"CONCATENATE(TEXT(Facility_Info!$B$28,\"mm/dd/yyyy\"),\" - \",TEXT(Facility_Info!$B$29,\"mm/dd/yyyy\"))","v":"01/00/1900 - 01/00/1900"},{"$nulls":7},{"$f":"CONCATENATE(TEXT(Facility_Info!$B$28,\"mm/dd/yyyy\"),\" - \",TEXT(Facility_Info!$B$29,\"mm/dd/yyyy\"))","v":"01/00/1900 - 01/00/1900"}]
["Process Unit ID",{"$f":"IF(Unit_Info!$C29=\"\",\"\",Unit_Info!$C29)","v":""},{"$nulls":7},{"$f":"INDEX(Unit_Info!$Z$43:$Z$62,MATCH(CPMS6!$E$3,Unit_Info!$Y$43:$Y$62,0))","v":{"$error":"#N/A"}}]
["Process Unit Type",{"$f":"IF(Unit_Info!$D29=\"\",\"\",Unit_Info!$D29)","v":""},{"$nulls":7},{"$f":"INDEX(Unit_Info!$AA$43:$AA$62,MATCH(CPMS6!$E$3,Unit_Info!$Y$43:$Y$62,0))","v":{"$error":"#N/A"}}]
["Process Unit Description",{"$f":"IF(Unit_Info!$F29=\"\",\"\",Unit_Info!$F29)","v":""},{"$nulls":7},{"$f":"INDEX(Unit_Info!$AB$43:$AB$62,MATCH(CPMS6!$E$3,Unit_Info!$Y$43:$Y$62,0))","v":{"$error":"#N/A"}}]
["Air Pollution Control Device Type",{"$f":"IF(Unit_Info!$I29=\"\",\"\",Unit_Info!$I29)","v":""},{"$nulls":7},{"$f":"INDEX(Unit_Info!$AC$43:$AC$62,MATCH(CPMS6!$E$3,Unit_Info!$Y$43:$Y$62,0))","v":{"$error":"#N/A"}}]
["Total Source Operating Time* (hours)",{"$nulls":8},{"$f":"+B10","v":0}]
["*Includes all process unit operating time during the reporting period including startup/shutdown, malfunction, and all times when CMS are inoperative or producing invalid readings."]
["Emission Data Summary [§63.867(c)(1)(iv) and (vii)]"]
["Index Number",{"$f":"IF(B14=\"\",\"\",MAX(CPMS1!B13:H13,CPMS2!B13:H13,CPMS3!B13:H13,CPMS4!B13:H13,CPMS5!B13:H13)+1)","v":""},null,{"$f":"IF(D14=\"\",\"\",B13+1)","v":""},null,{"$f":"IF(F14=\"\",\"\",MAX(B13:D13)+1)","v":""},null,{"$f":"IF(H14=\"\",\"\",MAX(B13:F13)+1)","v":""},null,{"$f":"IF(J14=\"\",\"\",MAX(D13:H13)+1)","v":""},null,{"$f":"IF(L14=\"\",\"\",MAX(F13:J13)+1)","v":""},null,{"$f":"IF(N14=\"\",\"\",MAX(H13:L13)+1)","v":""},null,{"$f":"IF(P14=\"\",\"\",MAX(J13:N13)+1)","v":""}]
["Operating parameter"]
["Averaging period"]
["Operating parameter limit (numerical value)",{"$nulls":20},"Combine for EE","Duration","Count"]
["   Operating limit units (text)",{"$nulls":20},{"$f":"B14","v":0},{"$f":"B27","v":""},{"$f":"C27","v":""}]
["Mark with an \"X\" if no excess emissions or exceedances of a parameter have occurred during the reporting period. [§63.10(e)(3)(v)]",{"$nulls":20},{"$f":"D14","v":0},{"$f":"D27","v":""},{"$f":"E27","v":""}]
["Mark with an \"X\" if the CMS has not been inoperative, out of control, repaired, or adjusted during the reporting period. [§63.10(e)(3)(v)]",{"$nulls":20},{"$f":"F14","v":0},{"$f":"F27","v":""},{"$f":"G27","v":""}]
[null,"Duration","Count","Duration","Count","Duration","Count","Duration","Count","Duration","Count","Duration","Count","Duration","Count","Duration","Count",{"$nulls":4},{"$f":"J14","v":0},{"$f":"J27","v":""},{"$f":"K27","v":""}]
["1. Duration of excess emissions in reporting period due to:1","Hours","No. of Averages4","Hours","No. of Averages4","Hours","No. of Averages4","Hours","No. of Averages4","Hours","No. of Averages4","Hours","No. of Averages4","Hours","No. of Averages4","Hours","No. of Averages4",{"$nulls":4},{"$f":"L14","v":0},{"$f":"L27","v":""},{"$f":"M27","v":""}]
["a. Startup/Shutdown",{"$nulls":20},{"$f":"N14","v":0},{"$f":"N27","v":""},{"$f":"O27","v":""}]
["b. Control Equipment Problems",{"$nulls":20},{"$f":"P14","v":0},{"$f":"P27","v":""},{"$f":"Q27","v":""}]
["c. Process Problems",{"$nulls":22},{"$f":"IF(OR(B9=\"Wet Scrubber\", B9=\"ESP and wet scrubber\"),$C$31,\"0\")","v":"0"}]
["d. Other known causes",{"$nulls":20},"Scrubber",{"$f":"SUMIFS(W17:W23,$V$17:$V$23,\"Scrubber liquid flow\")+SUMIFS(W17:W23,$V$17:$V$23,\"SDT scrubber fan amperage\")+SUMIFS(W17:W23,$V$17:$V$23,\"Scrubber pressure drop\")","v":0},{"$f":"SUMIFS(X17:X23,$V$17:$V$23,\"Scrubber liquid flow\")+SUMIFS(X17:X23,$V$17:$V$23,\"SDT scrubber fan amperage\")+SUMIFS(X17:X23,$V$17:$V$23,\"Scrubber pressure drop\")-X24","v":0},null,{"$f":"IF(W25/$B$10>0.01,\"Yes-Use detail forms\",\"No\")","v":{"$error":"#DIV/0!"}},{"$f":"IF(X25>5,\"Yes-Use detail and failure forms\",\"No\")","v":"No"}]
["e. Unknown causes",{"$nulls":20},"Other",{"$f":"SUMIFS(W17:W23,$V$17:$V$23,\"Alternative parameter (3-hr)\")","v":0},{"$f":"SUMIFS(X17:X23,$V$17:$V$23,\"Alternative parameter (3-hr)\")-X24","v":0},null,{"$f":"IF(W26/$B$10>0.01,\"Yes-Use detail forms\",\"No\")","v":{"$error":"#DIV/0!"}},{"$f":"IF(X26>5,\"Yes-Use detail and failure forms\",\"No\")","v":"No"}]
["2. Total duration of excess emissions2",{"$f":"IF(B14=\"\",\"\",SUM(B22:B26)-IF(B14=\"scrubber pressure drop\",B22,0))","v":""},{"$f":"IF(B14=\"\",\"\",SUM(C22:C26)-IF(B14=\"scrubber pressure drop\",C22,0))","v":""},{"$f":"IF(D14=\"\",\"\",SUM(D22:D26)-IF(D14=\"scrubber pressure drop\",D22,0))","v":""},{"$f":"IF(D14=\"\",\"\",SUM(E22:E26)-IF(D14=\"scrubber pressure drop\",E22,0))","v":""},{"$f":"IF(F14=\"\",\"\",SUM(F22:F26)-IF(F14=\"scrubber pressure drop\",F22,0))","v":""},{"$f":"IF(F14=\"\",\"\",SUM(G22:G26)-IF(F14=\"scrubber pressure drop\",G22,0))","v":""},{"$f":"IF(H14=\"\",\"\",SUM(H22:H26)-IF(H14=\"scrubber pressure drop\",H22,0))","v":""},{"$f":"IF(H14=\"\",\"\",SUM(I22:I26)-IF(H14=\"scrubber pressure drop\",I22,0))","v":""},{"$f":"IF(J14=\"\",\"\",SUM(J22:J26)-IF(J14=\"scrubber pressure drop\",J22,0))","v":""},{"$f":"IF(J14=\"\",\"\",SUM(K22:K26)-IF(J14=\"scrubber pressure drop\",K22,0))","v":""},{"$f":"IF(L14=\"\",\"\",SUM(L22:L26)-IF(L14=\"scrubber pressure drop\",L22,0))","v":""},{"$f":"IF(L14=\"\",\"\",SUM(M22:M26)-IF(L14=\"scrubber pressure drop\",M22,0))","v":""},{"$f":"IF(N14=\"\",\"\",SUM(N22:N26)-IF(N14=\"scrubber pressure drop\",N22,0))","v":""},{"$f":"IF(N14=\"\",\"\",SUM(O22:O26)-IF(N14=\"scrubber pressure drop\",O22,0))","v":""},{"$f":"IF(P14=\"\",\"\",SUM(P22:P26)-IF(P14=\"scrubber pressure drop\",P22,0))","v":""},{"$f":"IF(P14=\"\",\"\",SUM(Q22:Q26)-IF(P14=\"scrubber pressure drop\",Q22,0))","v":""}]
["3. (Total duration of excess emissions) / (Total Source Operating Time) x (100) %3",{"$f":"IF(B14=\"\",\"\",IF($B$10>0,B27/$B$10,0))","v":""},null,{"$f":"IF(D14=\"\",\"\",IF($B$10>0,D27/$B$10,0))","v":""},null,{"$f":"IF(F14=\"\",\"\",IF($B$10>0,F27/$B$10,0))","v":""},null,{"$f":"IF(H14=\"\",\"\",IF($B$10>0,H27/$B$10,0))","v":""},null,{"$f":"IF(J14=\"\",\"\",IF($B$10>0,J27/$B$10,0))","v":""},null,{"$f":"IF(L14=\"\",\"\",IF($B$10>0,L27/$B$10,0))","v":""},null,{"$f":"IF(N14=\"\",\"\",IF($B$10>0,N27/$B$10,0))","v":""},null,{"$f":"IF(P14=\"\",\"\",IF($B$10>0,P27/$B$10,0))","v":""}]
["Do excess emissions in item 3 meet or exceed 1% of operating time?",{"$f":"IF(B14=\"\",\"\",IF(B28>=0.01,\"Yes-Use detail form\",\"No\"))","v":""},null,{"$f":"IF(D14=\"\",\"\",IF(D28>=0.01,\"Yes-Use detail form\",\"No\"))","v":""},null,{"$f":"IF(F14=\"\",\"\",IF(F28>=0.01,\"Yes-Use detail form\",\"No\"))","v":""},null,{"$f":"IF(H14=\"\",\"\",IF(H28>=0.01,\"Yes-Use detail form\",\"No\"))","v":""},null,{"$f":"IF(J14=\"\",\"\",IF(J28>=0.01,\"Yes-Use detail form\",\"No\"))","v":""},null,{"$f":"IF(L14=\"\",\"\",IF(L28>=0.01,\"Yes-Use detail form\",\"No\"))","v":""},null,{"$f":"IF(N14=\"\",\"\",IF(N28>=0.01,\"Yes-Use detail form\",\"No\"))","v":""},null,{"$f":"IF(P14=\"\",\"\",IF(P28>=0.01,\"Yes-Use detail form\",\"No\"))","v":""}]
["Is the violation level triggered in item 2 above?  \nViolation level: Six or more 3-hour average parameter values or any 3-hour average RTO temperature per semiannual period.",null,{"$f":"IF(B14=\"\",\"\",IF(OR(B14=\"RTO temperature (1-hr)\",B14=\"Bypass of Control Device\",B14=\"Automatic Voltage Control\"),\"Not Applicable\",IF(C27<VLOOKUP(B14,Violations!$A$6:$D$10,4,FALSE),\"No\",\"Yes\")))","v":""},null,{"$f":"IF(D14=\"\",\"\",IF(OR(D14=\"RTO temperature (1-hr)\",D14=\"Bypass of Control Device\",D14=\"Automatic Voltage Control\"),\"Not Applicable\",IF(E27<VLOOKUP(D14,Violations!$A$6:$D$10,4,FALSE),\"No\",\"Yes\")))","v":""},null,{"$f":"IF(F14=\"\",\"\",IF(OR(F14=\"RTO temperature (1-hr)\",F14=\"Bypass of Control Device\",F14=\"Automatic Voltage Control\"),\"Not Applicable\",IF(G27<VLOOKUP(F14,Violations!$A$6:$D$10,4,FALSE),\"No\",\"Yes\")))","v":""},null,{"$f":"IF(H14=\"\",\"\",IF(OR(H14=\"RTO temperature (1-hr)\",H14=\"Bypass of Control Device\",H14=\"Automatic Voltage Control\"),\"Not Applicable\",IF(I27<VLOOKUP(H14,Violations!$A$6:$D$10,4,FALSE),\"No\",\"Yes\")))","v":""},null,{"$f":"IF(J14=\"\",\"\",IF(OR(J14=\"RTO temperature (1-hr)\",J14=\"Bypass of Control Device\",J14=\"Automatic Voltage Control\"),\"Not Applicable\",IF(K27<VLOOKUP(J14,Violations!$A$6:$D$10,4,FALSE),\"No\",\"Yes\")))","v":""},null,{"$f":"IF(L14=\"\",\"\",IF(OR(L14=\"RTO temperature (1-hr)\",L14=\"Bypass of Control Device\",L14=\"Automatic Voltage Control\"),\"Not Applicable\",IF(M27<VLOOKUP(L14,Violations!$A$6:$D$10,4,FALSE),\"No\",\"Yes\")))","v":""},null,{"$f":"IF(N14=\"\",\"\",IF(OR(N14=\"RTO temperature (1-hr)\",N14=\"Bypass of Control Device\",N14=\"Automatic Voltage Control\"),\"Not Applicable\",IF(O27<VLOOKUP(N14,Violations!$A$6:$D$10,4,FALSE),\"No\",\"Yes\")))","v":""},null,{"$f":"IF(P14=\"\",\"\",IF(OR(P14=\"RTO temperature (1-hr)\",P14=\"Bypass of Control Device\",P14=\"Automatic Voltage Control\"),\"Not Applicable\",IF(Q27<VLOOKUP(P14,Violations!$A$6:$D$10,4,FALSE),\"No\",\"Yes\")))","v":""}]
["Do any of the Count of No. of Averages in item 2 above occur concurrently? If so, how many?"]
["Do combined excess emissions in item 3 and/or combined counts in item 2 result in reporting requirements? (For scrubbers and other only)",{"$f":"IF(B14=\"\",\"\",IF(B9=\"Wet Scrubber\",Z25,IF(B9=\"ESP and Wet Scrubber\",Z25,IF(B14=\"Alternative parameter (3-hr)\",Z26,\"NA\"))))","v":""},{"$f":"IF(B14=\"\",\"\",IF(B9=\"Wet Scrubber\",AA25,IF(B9=\"ESP and Wet Scrubber\",AA25,IF(B14=\"Alternative parameter (3-hr)\",AA26,\"NA\"))))","v":""}]
["CMS Performance Summary [§63.867(c)(1)(viii)]"]
["Operating parameter",{"$f":"IF(B14=\"\",\"\",B14)","v":""},null,{"$f":"IF(D14=\"\",\"\",D14)","v":""},null,{"$f":"IF(F14=\"\",\"\",F14)","v":""},null,{"$f":"IF(H14=\"\",\"\",H14)","v":""},null,{"$f":"IF(J14=\"\",\"\",J14)","v":""},null,{"$f":"IF(L14=\"\",\"\",L14)","v":""},null,{"$f":"IF(N14=\"\",\"\",N14)","v":""},null,{"$f":"IF(P14=\"\",\"\",P14)","v":""}]
[null,"Duration",null,"Duration",null,"Duration",null,"Duration",null,"Duration",null,"Duration",null,"Duration",null,"Duration"]
["1. CMS downtime in reporting period due to:","Hours",null,"Hours",null,"Hours",null,"Hours",null,"Hours",null,"Hours",null,"Hours",null,"Hours"]
["a. Monitoring equipment malfunctions"]
["b. Non-monitor equipment malfunctions"]
["c. Quality assurance/quality control calibration"]
["d. Other known causes"]
["e. Unknown causes"]
["2. Total CMS downtime",{"$f":"IF(B14=\"\",\"\",SUM(B37:B41))","v":""},null,{"$f":"IF(D14=\"\",\"\",SUM(D37:D41))","v":""},null,{"$f":"IF(F14=\"\",\"\",SUM(F37:F41))","v":""},null,{"$f":"IF(H14=\"\",\"\",SUM(H37:H41))","v":""},null,{"$f":"IF(J14=\"\",\"\",SUM(J37:J41))","v":""},null,{"$f":"IF(L14=\"\",\"\",SUM(L37:L41))","v":""},null,{"$f":"IF(N14=\"\",\"\",SUM(N37:N41))","v":""},null,{"$f":"IF(P14=\"\",\"\",SUM(P37:P41))","v":""}]
["3. (Total CMS downtime) / (Total Source Operating Time) x (100) %3",{"$f":"IF(B14=\"\",\"\",IF($B$10>0,B42/$B$10,0))","v":""},null,{"$f":"IF(D14=\"\",\"\",IF($B$10>0,D42/$B$10,0))","v":""},null,{"$f":"IF(F14=\"\",\"\",IF($B$10>0,F42/$B$10,0))","v":""},null,{"$f":"IF(H14=\"\",\"\",IF($B$10>0,H42/$B$10,0))","v":""},null,{"$f":"IF(J14=\"\",\"\",IF($B$10>0,J42/$B$10,0))","v":""},null,{"$f":"IF(L14=\"\",\"\",IF($B$10>0,L42/$B$10,0))","v":""},null,{"$f":"IF(N14=\"\",\"\",IF($B$10>0,N42/$B$10,0))","v":""},null,{"$f":"IF(P14=\"\",\"\",IF($B$10>0,P42/$B$10,0))","v":""}]
["Is total CMS downtime greater than or equal to 5% of total source operating time?",{"$f":"IF(B14=\"\",\"\",IF(B43>=0.05,\"Yes-Use detail form\",\"No\"))","v":""},null,{"$f":"IF(D14=\"\",\"\",IF(D43>=0.05,\"Yes-Use detail form\",\"No\"))","v":""},null,{"$f":"IF(F14=\"\",\"\",IF(F43>=0.05,\"Yes-Use detail form\",\"No\"))","v":""},null,{"$f":"IF(H14=\"\",\"\",IF(H43>=0.05,\"Yes-Use detail form\",\"No\"))","v":""},null,{"$f":"IF(J14=\"\",\"\",IF(J43>=0.05,\"Yes-Use detail form\",\"No\"))","v":""},null,{"$f":"IF(L14=\"\",\"\",IF(L43>=0.05,\"Yes-Use detail form\",\"No\"))","v":""},null,{"$f":"IF(N14=\"\",\"\",IF(N43>=0.05,\"Yes-Use detail form\",\"No\"))","v":""},null,{"$f":"IF(P14=\"\",\"\",IF(P43>=0.05,\"Yes-Use detail form\",\"No\"))","v":""}]
["If detailed reporting is required, enter the type and/or filename of the detailed report provided"]
["Comments or clarifications if necessary:"]
["1. Enter the duration of excess emissions and number of averaging periods recorded as excess emissions, excluding:  "]
["● Monitoring data recorded during periods of unavoidable CMS breakdowns, out-of-control periods, repairs, maintenance periods, calibration checks, and zero (low-level) and high level adjustments [§63.864(h)]"]
["● Monitoring data recorded during periods when spent liquor solids (for recovery furnaces) or lime mud (for kilns) is not fired. [§63.864(k)(1), (k)(2)]"]
["2. Excludes periods of startup/shutdown for scrubber pressure drop."]
["3. If the total duration of excess emissions is 1% or greater of the total operating time, or the total CMS downtime is 5% or greater of the total operating time, both the Summary Report and the Excess Emissions "]
["and Continuous Monitoring Systems Performance Report must be submitted for this CMS and process unit. See the orange CMS Performance Detail and Excess Emissions Detail tabs to complete the Excess "]
["Emissions and Continuous Monitoring Systems Performance Report. [§63.867(c)(1) and (3)]"]
["4. Count: Enter the number of averaging periods recorded as excess emissions during the semiannual reporting period. No more than one exceedance will be attributed in any given 24-hour period as specified in §63.864(k)(3); "]
["thus, you are only required to enter one 3-hour average exceedance for a given 24-hour period."]
["Note: It is possible that the duration hours reported may exceed the hours associated with the count of averaging periods due the provision in §63.864(k)(3). "]

{"sheet":"COMS7","index":19,"n_rows":58,"n_cols":9,"rows_kept":58,"hidden":true}
["Summary Report – Gaseous and Opacity Excess Emissions and Continuous Monitoring System Performance"]
["Continuous Opacity Monitoring Systems and ESP Parameter Monitoring -- 40 CFR Part 63, Subpart MM"]
[{"$nulls":3},"Tab Name:",{"$f":"MID(CELL(\"filename\",A1),FIND(\"]\",CELL(\"filename\",A1))+1,255)","v":"COMS7"}]
["Company and Site Name",{"$f":"Facility_Info_upload!$C$24&\"--\"&Facility_Info_upload!$D$24","v":"0--0"}]
["Reporting period dates (beginning date, ending date)",{"$f":"CONCATENATE(TEXT(Facility_Info!$B$28,\"mm/dd/yyyy\"),\" - \",TEXT(Facility_Info!$B$29,\"mm/dd/yyyy\"))","v":"01/00/1900 - 01/00/1900"}]
["Process Unit ID",{"$f":"IF(Unit_Info!$C30=\"\",\"\",Unit_Info!$C30)","v":""}]
["Process Unit Type",{"$f":"IF(Unit_Info!$D30=\"\",\"\",Unit_Info!$D30)","v":""}]
["Process Unit Description",{"$f":"IF(Unit_Info!$F30=\"\",\"\",Unit_Info!$F30)","v":""}]
["Air Pollution Control Device Type",{"$f":"IF(Unit_Info!$I30=\"\",\"\",Unit_Info!$I30)","v":""}]
["Total Source Operating Time* (hours)"]
["*Includes all process unit operating time during the reporting period including startup/shutdown, malfunction, and all times when CMS are inoperative or producing invalid readings."]
["Emission Data Summary -- Opacity [§63.867(c)(1)(iv) and (vii)]"]
["Index Number",{"$f":"IF(B14=\"\",\"\",MAX(COMS1!B13:H13,COMS2!B13:H13,COMS3!B13:H13,COMS4!B13:H13,COMS5!B13:H13,COMS6!B13:H13)+1)","v":""},null,{"$f":"IF(D14=\"\",\"\",B13+1)","v":""},null,{"$f":"IF(F14=\"\",\"\",MAX(B13:D13)+1)","v":""},null,{"$f":"IF(H14=\"\",\"\",MAX(B13:F13)+1)","v":""}]
["Process Unit Emission Point"]
["Operating parameter"]
["Opacity limit, %"]
["Mark with an \"X\" if no excess emissions or exceedances of a parameter have occurred during the reporting period. [§63.10(e)(3)(v)]"]
["Mark with an \"X\" if the CMS has not been inoperative, out of control, repaired, or adjusted during the reporting period. [§63.10(e)(3)(v)]"]
["Mark with an \"X\" if the AVC was operated properly during the reporting period. [§63.8641(e)(1)]"]
[null,"Duration","Count","Duration","Count","Duration","Count","Duration","Count"]
["1. Duration of excess emissions in reporting period due to:1","Minutes","6-min averages","Minutes","6-min averages","Minutes","6-min averages","Minutes","6-min averages"]
["a. Startup/Shutdown"]
["b. Control Equipment Problems"]
["c. Process Problems"]
["d. Other known causes"]
["e. Unknown causes"]
["2. Total duration of excess emissions",{"$f":"IF(B14=\"\",\"\",SUM(B22:B26))","v":""},{"$f":"IF(B14=\"\",\"\",SUM(C22:C26)-IF(B15=\"scrubber pressure drop\",C22,0))","v":""},{"$f":"IF(D14=\"\",\"\",SUM(D22:D26))","v":""},{"$f":"IF(D14=\"\",\"\",SUM(E22:E26)-IF(D15=\"scrubber pressure drop\",E22,0))","v":""},{"$f":"IF(F14=\"\",\"\",SUM(F22:F26))","v":""},{"$f":"IF(F14=\"\",\"\",SUM(G22:G26)-IF(F15=\"scrubber pressure drop\",G22,0))","v":""},{"$f":"IF(H14=\"\",\"\",SUM(H22:H26))","v":""},{"$f":"IF(H14=\"\",\"\",SUM(I22:I26)-IF(H15=\"scrubber pressure drop\",I22,0))","v":""}]
["3. (Total duration of excess emissions) / (Total Source Operating Time) x (100) %2",{"$f":"IF(B14=\"\",\"\",IF($B$10>0,B27/($B$10*60),0))","v":""},{"$f":"IF(B14=\"\",\"\",IF($B$10>0,(C27*6)/($B$10*60),0))","v":""},{"$f":"IF(D14=\"\",\"\",IF($B$10>0,D27/($B$10*60),0))","v":""},{"$f":"IF(D14=\"\",\"\",IF($B$10>0,(E27*6)/($B$10*60),0))","v":""},{"$f":"IF(F14=\"\",\"\",IF($B$10>0,F27/($B$10*60),0))","v":""},{"$f":"IF(F14=\"\",\"\",IF($B$10>0,(G27*6)/($B$10*60),0))","v":""},{"$f":"IF(H14=\"\",\"\",IF($B$10>0,H27/($B$10*60),0))","v":""},{"$f":"IF(H14=\"\",\"\",IF($B$10>0,(I27*6)/($B$10*60),0))","v":""}]
["Do excess emissions equal or exceed 1% of operating time?2",{"$f":"IF(B14=\"\",\"\",IF(B28>=0.01,\"Yes-Use detail form\",\"No\"))","v":""},null,{"$f":"IF(D14=\"\",\"\",IF(D28>=0.01,\"Yes-Use detail form\",\"No\"))","v":""},null,{"$f":"IF(F14=\"\",\"\",IF(F28>=0.01,\"Yes-Use detail form\",\"No\"))","v":""},null,{"$f":"IF(H14=\"\",\"\",IF(H28>=0.01,\"Yes-Use detail form\",\"No\"))","v":""}]
["Is the opacity violation level triggered?\nViolation level (count) = 2% or more of 6-min averages for recovery furnaces, or 3% or more of 6-min averages for lime kilns  [§63.864(k)(2)(i)-(ii)]",null,{"$f":"IF(B14=\"\",\"\",IF(C28>=VLOOKUP($B$15,Violations!$A$21:$D$22,4,FALSE),\"Yes-Use detail and failure forms\",\"No\"))","v":""},null,{"$f":"IF(D14=\"\",\"\",IF(E28>=VLOOKUP($B$15,Violations!$A$21:$D$22,4,FALSE),\"Yes-Use detail and failure forms\",\"No\"))","v":""},null,{"$f":"IF(F14=\"\",\"\",IF(G28>=VLOOKUP($B$15,Violations!$A$21:$D$22,4,FALSE),\"Yes-Use detail and failure forms\",\"No\"))","v":""},null,{"$f":"IF(H14=\"\",\"\",IF(I28>=VLOOKUP($B$15,Violations!$A$21:$D$22,4,FALSE),\"Yes-Use detail and failure forms\",\"No\"))","v":""}]
[null,null,"Count",null,"Count",null,"Count",null,"Count"]
["4. Count of exceedances of corrective action level in reporting period due to:1",null,"10 consecutive 6-min averages",null,"10 consecutive 6-min averages",null,"10 consecutive 6-min averages",null,"10 consecutive 6-min averages"]
["a. Startup/Shutdown"]
["b. Control Equipment Problems"]
["c. Process Problems"]
["d. Other known causes"]
["e. Unknown causes"]
["5. Total count of exceedances of corrective action level",null,{"$f":"IF(B14=\"\",\"\",SUM(C33:C37)-IF(B15=\"scrubber pressure drop\",C33,0))","v":""},null,{"$f":"IF(D14=\"\",\"\",SUM(E33:E37)-IF(D15=\"scrubber pressure drop\",E33,0))","v":""},null,{"$f":"IF(F14=\"\",\"\",SUM(G33:G37)-IF(F15=\"scrubber pressure drop\",G33,0))","v":""},null,{"$f":"IF(H14=\"\",\"\",SUM(I33:I37)-IF(H15=\"scrubber pressure drop\",I33,0))","v":""}]
[" CMS Performance Summary [§63.867(c)(1)(viii)]"]
["Operating parameter",{"$f":"IF(B15=\"\",\"\",B15)","v":""},null,{"$f":"IF(D15=\"\",\"\",D15)","v":""},null,{"$f":"IF(F15=\"\",\"\",F15)","v":""},null,{"$f":"IF(H15=\"\",\"\",H15)","v":""}]
[null,"Duration",null,"Duration",null,"Duration",null,"Duration"]
["1. CMS downtime in reporting period due to:",{"$f":"B21","v":"Minutes"},null,{"$f":"D21","v":"Minutes"},null,{"$f":"F21","v":"Minutes"},null,{"$f":"H21","v":"Minutes"}]
["a. Monitoring equipment malfunctions"]
["b. Non-monitor equipment malfunctions"]
["c. Quality assurance/quality control calibration"]
["d. Other known causes"]
["e. Unknown causes"]
["2. Total CMS downtime",{"$f":"IF(B14=\"\",\"\",SUM(B43:B47))","v":""},null,{"$f":"IF(D14=\"\",\"\",SUM(D43:D47))","v":""},null,{"$f":"IF(F14=\"\",\"\",SUM(F43:F47))","v":""},null,{"$f":"IF(H14=\"\",\"\",SUM(H43:H47))","v":""}]
["3. (Total CMS downtime) / (Total Source Operating Time) x (100) %2",{"$f":"IF(B14=\"\",\"\",IF($B$10>0,B48/($B$10*60),0))","v":""},null,{"$f":"IF(D14=\"\",\"\",IF($B$10>0,D48/($B$10*60),0))","v":""},null,{"$f":"IF(F14=\"\",\"\",IF($B$10>0,F48/($B$10*60),0))","v":""},null,{"$f":"IF(H14=\"\",\"\",IF($B$10>0,H48/($B$10*60),0))","v":""}]
["Is total CMS downtime greater than or equal to 5% of total source operating time?2",{"$f":"IF(B14=\"\",\"\",IF(B49>=0.05,\"Yes-Use detail report\",\"No\"))","v":""},null,{"$f":"IF(D14=\"\",\"\",IF(D49>=0.05,\"Yes-Use detail report\",\"No\"))","v":""},null,{"$f":"IF(F14=\"\",\"\",IF(F49>=0.05,\"Yes-Use detail report\",\"No\"))","v":""},null,{"$f":"IF(H14=\"\",\"\",IF(H49>=0.05,\"Yes-Use detail report\",\"No\"))","v":""}]
["If detailed reporting is required, enter the type and/or filename of the detailed report provided"]
["1. Enter the duration of excess emissions and number of averaging periods recorded as excess emissions, excluding:  "]
["● Monitoring data recorded during periods of unavoidable CMS breakdowns, out-of-control periods, repairs, maintenance periods, calibration checks, and zero (low-level) and high level adjustments [§63.864(h)]"]
["● Monitoring data recorded during periods when spent liquor solids (for recovery furnaces) or lime mud (for kilns) is not fired. [§63.864(k)(1), (k)(2)]"]
["2. If the total duration of excess emissions is 1% or greater of the total operating time, or the total CMS downtime is 5% or greater of the total operating time, both the Summary Report and the Excess Emissions and "]
["Continuous Monitoring Systems Performance Report must be submitted for this CMS and process unit. See the orange CMS Performance Detail and Excess Emissions Detail tabs to complete the Excess Emissions and "]
["Continuous Monitoring Systems Performance Report. [§63.867(c)(1) and (3)]"]
["Count: Enter the number of 6-minute averaging periods recorded as excess emissions during the semiannual reporting period. "]

{"sheet":"CPMS7","index":20,"n_rows":56,"n_cols":27,"rows_kept":56,"hidden":true}
["Summary Report – Gaseous and Opacity Excess Emissions and Continuous Monitoring System Performance"]
["Continuous Parameter Monitoring Systems -- 40 CFR Part 63, Subpart MM"]
[{"$nulls":3},"Tab Name:",{"$f":"MID(CELL(\"filename\",A1),FIND(\"]\",CELL(\"filename\",A1))+1,255)","v":"CPMS7"},{"$nulls":6},"Tab Name:",{"$f":"MID(CELL(\"filename\",I1),FIND(\"]\",CELL(\"filename\",I1))+1,255)","v":"CPMS7"}]
["Company and Site Name",{"$f":"Facility_Info_upload!$C$24&\"--\"&Facility_Info_upload!$D$24","v":"0--0"},{"$nulls":7},{"$f":"Facility_Info_upload!$C$24&\"--\"&Facility_Info_upload!$D$24","v":"0--0"}]
["Reporting period dates (beginning date, ending date)",{"$f":"CONCATENATE(TEXT(Facility_Info!$B$28,\"mm/dd/yyyy\"),\" - \",TEXT(Facility_Info!$B$29,\"mm/dd/yyyy\"))","v":"01/00/1900 - 01/00/1900"},{"$nulls":7},{"$f":"CONCATENATE(TEXT(Facility_Info!$B$28,\"mm/dd/yyyy\"),\" - \",TEXT(Facility_Info!$B$29,\"mm/dd/yyyy\"))","v":"01/00/1900 - 01/00/1900"}]
["Process Unit ID",{"$f":"IF(Unit_Info!$C30=\"\",\"\",Unit_Info!$C30)","v":""},{"$nulls":7},{"$f":"INDEX(Unit_Info!$Z$43:$Z$62,MATCH(CPMS7!$E$3,Unit_Info!$Y$43:$Y$62,0))","v":{"$error":"#N/A"}}]
["Process Unit Type",{"$f":"IF(Unit_Info!$D30=\"\",\"\",Unit_Info!$D30)","v":""},{"$nulls":7},{"$f":"INDEX(Unit_Info!$AA$43:$AA$62,MATCH(CPMS7!$E$3,Unit_Info!$Y$43:$Y$62,0))","v":{"$error":"#N/A"}}]
["Process Unit Description",{"$f":"IF(Unit_Info!$F30=\"\",\"\",Unit_Info!$F30)","v":""},{"$nulls":7},{"$f":"INDEX(Unit_Info!$AB$43:$AB$62,MATCH(CPMS7!$E$3,Unit_Info!$Y$43:$Y$62,0))","v":{"$error":"#N/A"}}]
["Air Pollution Control Device Type",{"$f":"IF(Unit_Info!$I30=\"\",\"\",Unit_Info!$I30)","v":""},{"$nulls":7},{"$f":"INDEX(Unit_Info!$AC$43:$AC$62,MATCH(CPMS7!$E$3,Unit_Info!$Y$43:$Y$62,0))","v":{"$error":"#N/A"}}]
["Total Source Operating Time* (hours)",{"$nulls":8},{"$f":"+B10","v":0}]
["*Includes all process unit operating time during the reporting period including startup/shutdown, malfunction, and all times when CMS are inoperative or producing invalid readings."]
["Emission Data Summary [§63.867(c)(1)(iv) and (vii)]"]
["Index Number",{"$f":"IF(B14=\"\",\"\",MAX(CPMS1!B13:H13,CPMS2!B13:H13,CPMS3!B13:H13,CPMS4!B13:H13,CPMS5!B13:H13,CPMS6!B13:H13)+1)","v":""},null,{"$f":"IF(D14=\"\",\"\",B13+1)","v":""},null,{"$f":"IF(F14=\"\",\"\",MAX(B13:D13)+1)","v":""},null,{"$f":"IF(H14=\"\",\"\",MAX(B13:F13)+1)","v":""},null,{"$f":"IF(J14=\"\",\"\",MAX(D13:H13)+1)","v":""},null,{"$f":"IF(L14=\"\",\"\",MAX(F13:J13)+1)","v":""},null,{"$f":"IF(N14=\"\",\"\",MAX(H13:L13)+1)","v":""},null,{"$f":"IF(P14=\"\",\"\",MAX(J13:N13)+1)","v":""}]
["Operating parameter"]
["Averaging period"]
["Operating parameter limit (numerical value)",{"$nulls":20},"Combine for EE","Duration","Count"]
["   Operating limit units (text)",{"$nulls":20},{"$f":"B14","v":0},{"$f":"B27","v":""},{"$f":"C27","v":""}]
["Mark with an \"X\" if no excess emissions or exceedances of a parameter have occurred during the reporting period. [§63.10(e)(3)(v)]",{"$nulls":20},{"$f":"D14","v":0},{"$f":"D27","v":""},{"$f":"E27","v":""}]
["Mark with an \"X\" if the CMS has not been inoperative, out of control, repaired, or adjusted during the reporting period. [§63.10(e)(3)(v)]",{"$nulls":20},{"$f":"F14","v":0},{"$f":"F27","v":""},{"$f":"G27","v":""}]
[null,"Duration","Count","Duration","Count","Duration","Count","Duration","Count","Duration","Count","Duration","Count","Duration","Count","Duration","Count",{"$nulls":4},{"$f":"J14","v":0},{"$f":"J27","v":""},{"$f":"K27","v":""}]
["1. Duration of excess emissions in reporting period due to:1","Hours","No. of Averages4","Hours","No. of Averages4","Hours","No. of Averages4","Hours","No. of Averages4","Hours","No. of Averages4","Hours","No. of Averages4","Hours","No. of Averages4","Hours","No. of Averages4",{"$nulls":4},{"$f":"L14","v":0},{"$f":"L27","v":""},{"$f":"M27","v":""}]
["a. Startup/Shutdown",{"$nulls":20},{"$f":"N14","v":0},{"$f":"N27","v":""},{"$f":"O27","v":""}]
["b. Control Equipment Problems",{"$nulls":20},{"$f":"P14","v":0},{"$f":"P27","v":""},{"$f":"Q27","v":""}]
["c. Process Problems",{"$nulls":22},{"$f":"IF(OR(B9=\"Wet Scrubber\", B9=\"ESP and wet scrubber\"),$C$31,\"0\")","v":"0"}]
["d. Other known causes",{"$nulls":20},"Scrubber",{"$f":"SUMIFS(W17:W23,$V$17:$V$23,\"Scrubber liquid flow\")+SUMIFS(W17:W23,$V$17:$V$23,\"SDT scrubber fan amperage\")+SUMIFS(W17:W23,$V$17:$V$23,\"Scrubber pressure drop\")","v":0},{"$f":"SUMIFS(X17:X23,$V$17:$V$23,\"Scrubber liquid flow\")+SUMIFS(X17:X23,$V$17:$V$23,\"SDT scrubber fan amperage\")+SUMIFS(X17:X23,$V$17:$V$23,\"Scrubber pressure drop\")-X24","v":0},null,{"$f":"IF(W25/$B$10>0.01,\"Yes-Use detail forms\",\"No\")","v":{"$error":"#DIV/0!"}},{"$f":"IF(X25>5,\"Yes-Use detail and failure forms\",\"No\")","v":"No"}]
["e. Unknown causes",{"$nulls":20},"Other",{"$f":"SUMIFS(W17:W23,$V$17:$V$23,\"Alternative parameter (3-hr)\")","v":0},{"$f":"SUMIFS(X17:X23,$V$17:$V$23,\"Alternative parameter (3-hr)\")-X24","v":0},null,{"$f":"IF(W26/$B$10>0.01,\"Yes-Use detail forms\",\"No\")","v":{"$error":"#DIV/0!"}},{"$f":"IF(X26>5,\"Yes-Use detail and failure forms\",\"No\")","v":"No"}]
["2. Total duration of excess emissions2",{"$f":"IF(B14=\"\",\"\",SUM(B22:B26)-IF(B14=\"scrubber pressure drop\",B22,0))","v":""},{"$f":"IF(B14=\"\",\"\",SUM(C22:C26)-IF(B14=\"scrubber pressure drop\",C22,0))","v":""},{"$f":"IF(D14=\"\",\"\",SUM(D22:D26)-IF(D14=\"scrubber pressure drop\",D22,0))","v":""},{"$f":"IF(D14=\"\",\"\",SUM(E22:E26)-IF(D14=\"scrubber pressure drop\",E22,0))","v":""},{"$f":"IF(F14=\"\",\"\",SUM(F22:F26)-IF(F14=\"scrubber pressure drop\",F22,0))","v":""},{"$f":"IF(F14=\"\",\"\",SUM(G22:G26)-IF(F14=\"scrubber pressure drop\",G22,0))","v":""},{"$f":"IF(H14=\"\",\"\",SUM(H22:H26)-IF(H14=\"scrubber pressure drop\",H22,0))","v":""},{"$f":"IF(H14=\"\",\"\",SUM(I22:I26)-IF(H14=\"scrubber pressure drop\",I22,0))","v":""},{"$f":"IF(J14=\"\",\"\",SUM(J22:J26)-IF(J14=\"scrubber pressure drop\",J22,0))","v":""},{"$f":"IF(J14=\"\",\"\",SUM(K22:K26)-IF(J14=\"scrubber pressure drop\",K22,0))","v":""},{"$f":"IF(L14=\"\",\"\",SUM(L22:L26)-IF(L14=\"scrubber pressure drop\",L22,0))","v":""},{"$f":"IF(L14=\"\",\"\",SUM(M22:M26)-IF(L14=\"scrubber pressure drop\",M22,0))","v":""},{"$f":"IF(N14=\"\",\"\",SUM(N22:N26)-IF(N14=\"scrubber pressure drop\",N22,0))","v":""},{"$f":"IF(N14=\"\",\"\",SUM(O22:O26)-IF(N14=\"scrubber pressure drop\",O22,0))","v":""},{"$f":"IF(P14=\"\",\"\",SUM(P22:P26)-IF(P14=\"scrubber pressure drop\",P22,0))","v":""},{"$f":"IF(P14=\"\",\"\",SUM(Q22:Q26)-IF(P14=\"scrubber pressure drop\",Q22,0))","v":""}]
["3. (Total duration of excess emissions) / (Total Source Operating Time) x (100) %3",{"$f":"IF(B14=\"\",\"\",IF($B$10>0,B27/$B$10,0))","v":""},null,{"$f":"IF(D14=\"\",\"\",IF($B$10>0,D27/$B$10,0))","v":""},null,{"$f":"IF(F14=\"\",\"\",IF($B$10>0,F27/$B$10,0))","v":""},null,{"$f":"IF(H14=\"\",\"\",IF($B$10>0,H27/$B$10,0))","v":""},null,{"$f":"IF(J14=\"\",\"\",IF($B$10>0,J27/$B$10,0))","v":""},null,{"$f":"IF(L14=\"\",\"\",IF($B$10>0,L27/$B$10,0))","v":""},null,{"$f":"IF(N14=\"\",\"\",IF($B$10>0,N27/$B$10,0))","v":""},null,{"$f":"IF(P14=\"\",\"\",IF($B$10>0,P27/$B$10,0))","v":""}]
["Do excess emissions in item 3 meet or exceed 1% of operating time?",{"$f":"IF(B14=\"\",\"\",IF(B28>=0.01,\"Yes-Use detail form\",\"No\"))","v":""},null,{"$f":"IF(D14=\"\",\"\",IF(D28>=0.01,\"Yes-Use detail form\",\"No\"))","v":""},null,{"$f":"IF(F14=\"\",\"\",IF(F28>=0.01,\"Yes-Use detail form\",\"No\"))","v":""},null,{"$f":"IF(H14=\"\",\"\",IF(H28>=0.01,\"Yes-Use detail form\",\"No\"))","v":""},null,{"$f":"IF(J14=\"\",\"\",IF(J28>=0.01,\"Yes-Use detail form\",\"No\"))","v":""},null,{"$f":"IF(L14=\"\",\"\",IF(L28>=0.01,\"Yes-Use detail form\",\"No\"))","v":""},null,{"$f":"IF(N14=\"\",\"\",IF(N28>=0.01,\"Yes-Use detail form\",\"No\"))","v":""},null,{"$f":"IF(P14=\"\",\"\",IF(P28>=0.01,\"Yes-Use detail form\",\"No\"))","v":""}]
["Is the violation level triggered in item 2 above?  \nViolation level: Six or more 3-hour average parameter values or any 3-hour average RTO temperature per semiannual period.",null,{"$f":"IF(B14=\"\",\"\",IF(OR(B14=\"RTO temperature (1-hr)\",B14=\"Bypass of Control Device\",B14=\"Automatic Voltage Control\"),\"Not Applicable\",IF(C27<VLOOKUP(B14,Violations!$A$6:$D$10,4,FALSE),\"No\",\"Yes\")))","v":""},null,{"$f":"IF(D14=\"\",\"\",IF(OR(D14=\"RTO temperature (1-hr)\",D14=\"Bypass of Control Device\",D14=\"Automatic Voltage Control\"),\"Not Applicable\",IF(E27<VLOOKUP(D14,Violations!$A$6:$D$10,4,FALSE),\"No\",\"Yes\")))","v":""},null,{"$f":"IF(F14=\"\",\"\",IF(OR(F14=\"RTO temperature (1-hr)\",F14=\"Bypass of Control Device\",F14=\"Automatic Voltage Control\"),\"Not Applicable\",IF(G27<VLOOKUP(F14,Violations!$A$6:$D$10,4,FALSE),\"No\",\"Yes\")))","v":""},null,{"$f":"IF(H14=\"\",\"\",IF(OR(H14=\"RTO temperature (1-hr)\",H14=\"Bypass of Control Device\",H14=\"Automatic Voltage Control\"),\"Not Applicable\",IF(I27<VLOOKUP(H14,Violations!$A$6:$D$10,4,FALSE),\"No\",\"Yes\")))","v":""},null,{"$f":"IF(J14=\"\",\"\",IF(OR(J14=\"RTO temperature (1-hr)\",J14=\"Bypass of Control Device\",J14=\"Automatic Voltage Control\"),\"Not Applicable\",IF(K27<VLOOKUP(J14,Violations!$A$6:$D$10,4,FALSE),\"No\",\"Yes\")))","v":""},null,{"$f":"IF(L14=\"\",\"\",IF(OR(L14=\"RTO temperature (1-hr)\",L14=\"Bypass of Control Device\",L14=\"Automatic Voltage Control\"),\"Not Applicable\",IF(M27<VLOOKUP(L14,Violations!$A$6:$D$10,4,FALSE),\"No\",\"Yes\")))","v":""},null,{"$f":"IF(N14=\"\",\"\",IF(OR(N14=\"RTO temperature (1-hr)\",N14=\"Bypass of Control Device\",N14=\"Automatic Voltage Control\"),\"Not Applicable\",IF(O27<VLOOKUP(N14,Violations!$A$6:$D$10,4,FALSE),\"No\",\"Yes\")))","v":""},null,{"$f":"IF(P14=\"\",\"\",IF(OR(P14=\"RTO temperature (1-hr)\",P14=\"Bypass of Control Device\",P14=\"Automatic Voltage Control\"),\"Not Applicable\",IF(Q27<VLOOKUP(P14,Violations!$A$6:$D$10,4,FALSE),\"No\",\"Yes\")))","v":""}]
["Do any of the Count of No. of Averages in item 2 above occur concurrently? If so, how many?"]
["Do combined excess emissions in item 3 and/or combined counts in item 2 result in reporting requirements? (For scrubbers and other only)",{"$f":"IF(B14=\"\",\"\",IF(B9=\"Wet Scrubber\",Z25,IF(B9=\"ESP and Wet Scrubber\",Z25,IF(B14=\"Alternative parameter (3-hr)\",Z26,\"NA\"))))","v":""},{"$f":"IF(B14=\"\",\"\",IF(B9=\"Wet Scrubber\",AA25,IF(B9=\"ESP and Wet Scrubber\",AA25,IF(B14=\"Alternative parameter (3-hr)\",AA26,\"NA\"))))","v":""}]
["CMS Performance Summary [§63.867(c)(1)(viii)]"]
["Operating parameter",{"$f":"IF(B14=\"\",\"\",B14)","v":""},null,{"$f":"IF(D14=\"\",\"\",D14)","v":""},null,{"$f":"IF(F14=\"\",\"\",F14)","v":""},null,{"$f":"IF(H14=\"\",\"\",H14)","v":""},null,{"$f":"IF(J14=\"\",\"\",J14)","v":""},null,{"$f":"IF(L14=\"\",\"\",L14)","v":""},null,{"$f":"IF(N14=\"\",\"\",N14)","v":""},null,{"$f":"IF(P14=\"\",\"\",P14)","v":""}]
[null,"Duration",null,"Duration",null,"Duration",null,"Duration",null,"Duration",null,"Duration",null,"Duration",null,"Duration"]
["1. CMS downtime in reporting period due to:","Hours",null,"Hours",null,"Hours",null,"Hours",null,"Hours",null,"Hours",null,"Hours",null,"Hours"]
["a. Monitoring equipment malfunctions"]
["b. Non-monitor equipment malfunctions"]
["c. Quality assurance/quality control calibration"]
["d. Other known causes"]
["e. Unknown causes"]
["2. Total CMS downtime",{"$f":"IF(B14=\"\",\"\",SUM(B37:B41))","v":""},null,{"$f":"IF(D14=\"\",\"\",SUM(D37:D41))","v":""},null,{"$f":"IF(F14=\"\",\"\",SUM(F37:F41))","v":""},null,{"$f":"IF(H14=\"\",\"\",SUM(H37:H41))","v":""},null,{"$f":"IF(J14=\"\",\"\",SUM(J37:J41))","v":""},null,{"$f":"IF(L14=\"\",\"\",SUM(L37:L41))","v":""},null,{"$f":"IF(N14=\"\",\"\",SUM(N37:N41))","v":""},null,{"$f":"IF(P14=\"\",\"\",SUM(P37:P41))","v":""}]
["3. (Total CMS downtime) / (Total Source Operating Time) x (100) %3",{"$f":"IF(B14=\"\",\"\",IF($B$10>0,B42/$B$10,0))","v":""},null,{"$f":"IF(D14=\"\",\"\",IF($B$10>0,D42/$B$10,0))","v":""},null,{"$f":"IF(F14=\"\",\"\",IF($B$10>0,F42/$B$10,0))","v":""},null,{"$f":"IF(H14=\"\",\"\",IF($B$10>0,H42/$B$10,0))","v":""},null,{"$f":"IF(J14=\"\",\"\",IF($B$10>0,J42/$B$10,0))","v":""},null,{"$f":"IF(L14=\"\",\"\",IF($B$10>0,L42/$B$10,0))","v":""},null,{"$f":"IF(N14=\"\",\"\",IF($B$10>0,N42/$B$10,0))","v":""},null,{"$f":"IF(P14=\"\",\"\",IF($B$10>0,P42/$B$10,0))","v":""}]
["Is total CMS downtime greater than or equal to 5% of total source operating time?",{"$f":"IF(B14=\"\",\"\",IF(B43>=0.05,\"Yes-Use detail form\",\"No\"))","v":""},null,{"$f":"IF(D14=\"\",\"\",IF(D43>=0.05,\"Yes-Use detail form\",\"No\"))","v":""},null,{"$f":"IF(F14=\"\",\"\",IF(F43>=0.05,\"Yes-Use detail form\",\"No\"))","v":""},null,{"$f":"IF(H14=\"\",\"\",IF(H43>=0.05,\"Yes-Use detail form\",\"No\"))","v":""},null,{"$f":"IF(J14=\"\",\"\",IF(J43>=0.05,\"Yes-Use detail form\",\"No\"))","v":""},null,{"$f":"IF(L14=\"\",\"\",IF(L43>=0.05,\"Yes-Use detail form\",\"No\"))","v":""},null,{"$f":"IF(N14=\"\",\"\",IF(N43>=0.05,\"Yes-Use detail form\",\"No\"))","v":""},null,{"$f":"IF(P14=\"\",\"\",IF(P43>=0.05,\"Yes-Use detail form\",\"No\"))","v":""}]
["If detailed reporting is required, enter the type and/or filename of the detailed report provided"]
["Comments or clarifications if necessary:"]
["1. Enter the duration of excess emissions and number of averaging periods recorded as excess emissions, excluding:  "]
["● Monitoring data recorded during periods of unavoidable CMS breakdowns, out-of-control periods, repairs, maintenance periods, calibration checks, and zero (low-level) and high level adjustments [§63.864(h)]"]
["● Monitoring data recorded during periods when spent liquor solids (for recovery furnaces) or lime mud (for kilns) is not fired. [§63.864(k)(1), (k)(2)]"]
["2. Excludes periods of startup/shutdown for scrubber pressure drop."]
["3. If the total duration of excess emissions is 1% or greater of the total operating time, or the total CMS downtime is 5% or greater of the total operating time, both the Summary Report and the Excess Emissions "]
["and Continuous Monitoring Systems Performance Report must be submitted for this CMS and process unit. See the orange CMS Performance Detail and Excess Emissions Detail tabs to complete the Excess "]
["Emissions and Continuous Monitoring Systems Performance Report. [§63.867(c)(1) and (3)]"]
["4. Count: Enter the number of averaging periods recorded as excess emissions during the semiannual reporting period. No more than one exceedance will be attributed in any given 24-hour period as specified in §63.864(k)(3); "]
["thus, you are only required to enter one 3-hour average exceedance for a given 24-hour period."]
["Note: It is possible that the duration hours reported may exceed the hours associated with the count of averaging periods due the provision in §63.864(k)(3). "]

{"sheet":"COMS8","index":21,"n_rows":58,"n_cols":9,"rows_kept":58,"hidden":true}
["Summary Report – Gaseous and Opacity Excess Emissions and Continuous Monitoring System Performance"]
["Continuous Opacity Monitoring Systems and ESP Parameter Monitoring -- 40 CFR Part 63, Subpart MM"]
[{"$nulls":3},"Tab Name:",{"$f":"MID(CELL(\"filename\",A1),FIND(\"]\",CELL(\"filename\",A1))+1,255)","v":"COMS8"}]
["Company and Site Name",{"$f":"Facility_Info_upload!$C$24&\"--\"&Facility_Info_upload!$D$24","v":"0--0"}]
["Reporting period dates (beginning date, ending date)",{"$f":"CONCATENATE(TEXT(Facility_Info!$B$28,\"mm/dd/yyyy\"),\" - \",TEXT(Facility_Info!$B$29,\"mm/dd/yyyy\"))","v":"01/00/1900 - 01/00/1900"}]
["Process Unit ID",{"$f":"IF(Unit_Info!$C31=\"\",\"\",Unit_Info!$C31)","v":""}]
["Process Unit Type",{"$f":"IF(Unit_Info!$D31=\"\",\"\",Unit_Info!$D31)","v":""}]
["Process Unit Description",{"$f":"IF(Unit_Info!$F31=\"\",\"\",Unit_Info!$F31)","v":""}]
["Air Pollution Control Device Type",{"$f":"IF(Unit_Info!$I31=\"\",\"\",Unit_Info!$I31)","v":""}]
["Total Source Operating Time* (hours)"]
["*Includes all process unit operating time during the reporting period including startup/shutdown, malfunction, and all times when CMS are inoperative or producing invalid readings."]
["Emission Data Summary -- Opacity [§63.867(c)(1)(iv) and (vii)]"]
["Index Number",{"$f":"IF(B14=\"\",\"\",MAX(COMS1!B13:H13,COMS2!B13:H13,COMS3!B13:H13,COMS4!B13:H13,COMS5!B13:H13,COMS6!B13:H13,COMS7!B13:H13)+1)","v":""},null,{"$f":"IF(D14=\"\",\"\",B13+1)","v":""},null,{"$f":"IF(F14=\"\",\"\",MAX(B13:D13)+1)","v":""},null,{"$f":"IF(H14=\"\",\"\",MAX(B13:F13)+1)","v":""}]
["Process Unit Emission Point"]
["Operating parameter"]
["Opacity limit, %"]
["Mark with an \"X\" if no excess emissions or exceedances of a parameter have occurred during the reporting period. [§63.10(e)(3)(v)]"]
["Mark with an \"X\" if the CMS has not been inoperative, out of control, repaired, or adjusted during the reporting period. [§63.10(e)(3)(v)]"]
["Mark with an \"X\" if the AVC was operated properly during the reporting period. [§63.8641(e)(1)]"]
[null,"Duration","Count","Duration","Count","Duration","Count","Duration","Count"]
["1. Duration of excess emissions in reporting period due to:1","Minutes","6-min averages","Minutes","6-min averages","Minutes","6-min averages","Minutes","6-min averages"]
["a. Startup/Shutdown"]
["b. Control Equipment Problems"]
["c. Process Problems"]
["d. Other known causes"]
["e. Unknown causes"]
["2. Total duration of excess emissions",{"$f":"IF(B14=\"\",\"\",SUM(B22:B26))","v":""},{"$f":"IF(B14=\"\",\"\",SUM(C22:C26)-IF(B15=\"scrubber pressure drop\",C22,0))","v":""},{"$f":"IF(D14=\"\",\"\",SUM(D22:D26))","v":""},{"$f":"IF(D14=\"\",\"\",SUM(E22:E26)-IF(D15=\"scrubber pressure drop\",E22,0))","v":""},{"$f":"IF(F14=\"\",\"\",SUM(F22:F26))","v":""},{"$f":"IF(F14=\"\",\"\",SUM(G22:G26)-IF(F15=\"scrubber pressure drop\",G22,0))","v":""},{"$f":"IF(H14=\"\",\"\",SUM(H22:H26))","v":""},{"$f":"IF(H14=\"\",\"\",SUM(I22:I26)-IF(H15=\"scrubber pressure drop\",I22,0))","v":""}]
["3. (Total duration of excess emissions) / (Total Source Operating Time) x (100) %2",{"$f":"IF(B14=\"\",\"\",IF($B$10>0,B27/($B$10*60),0))","v":""},{"$f":"IF(B14=\"\",\"\",IF($B$10>0,(C27*6)/($B$10*60),0))","v":""},{"$f":"IF(D14=\"\",\"\",IF($B$10>0,D27/($B$10*60),0))","v":""},{"$f":"IF(D14=\"\",\"\",IF($B$10>0,(E27*6)/($B$10*60),0))","v":""},{"$f":"IF(F14=\"\",\"\",IF($B$10>0,F27/($B$10*60),0))","v":""},{"$f":"IF(F14=\"\",\"\",IF($B$10>0,(G27*6)/($B$10*60),0))","v":""},{"$f":"IF(H14=\"\",\"\",IF($B$10>0,H27/($B$10*60),0))","v":""},{"$f":"IF(H14=\"\",\"\",IF($B$10>0,(I27*6)/($B$10*60),0))","v":""}]
["Do excess emissions equal or exceed 1% of operating time?2",{"$f":"IF(B14=\"\",\"\",IF(B28>=0.01,\"Yes-Use detail form\",\"No\"))","v":""},null,{"$f":"IF(D14=\"\",\"\",IF(D28>=0.01,\"Yes-Use detail form\",\"No\"))","v":""},null,{"$f":"IF(F14=\"\",\"\",IF(F28>=0.01,\"Yes-Use detail form\",\"No\"))","v":""},null,{"$f":"IF(H14=\"\",\"\",IF(H28>=0.01,\"Yes-Use detail form\",\"No\"))","v":""}]
["Is the opacity violation level triggered?\nViolation level (count) = 2% or more of 6-min averages for recovery furnaces, or 3% or more of 6-min averages for lime kilns  [§63.864(k)(2)(i)-(ii)]",null,{"$f":"IF(B14=\"\",\"\",IF(C28>=VLOOKUP($B$15,Violations!$A$21:$D$22,4,FALSE),\"Yes-Use detail and failure forms\",\"No\"))","v":""},null,{"$f":"IF(D14=\"\",\"\",IF(E28>=VLOOKUP($B$15,Violations!$A$21:$D$22,4,FALSE),\"Yes-Use detail and failure forms\",\"No\"))","v":""},null,{"$f":"IF(F14=\"\",\"\",IF(G28>=VLOOKUP($B$15,Violations!$A$21:$D$22,4,FALSE),\"Yes-Use detail and failure forms\",\"No\"))","v":""},null,{"$f":"IF(H14=\"\",\"\",IF(I28>=VLOOKUP($B$15,Violations!$A$21:$D$22,4,FALSE),\"Yes-Use detail and failure forms\",\"No\"))","v":""}]
[null,null,"Count",null,"Count",null,"Count",null,"Count"]
["4. Count of exceedances of corrective action level in reporting period due to:1",null,"10 consecutive 6-min averages",null,"10 consecutive 6-min averages",null,"10 consecutive 6-min averages",null,"10 consecutive 6-min averages"]
["a. Startup/Shutdown"]
["b. Control Equipment Problems"]
["c. Process Problems"]
["d. Other known causes"]
["e. Unknown causes"]
["5. Total count of exceedances of corrective action level",null,{"$f":"IF(B14=\"\",\"\",SUM(C33:C37)-IF(B15=\"scrubber pressure drop\",C33,0))","v":""},null,{"$f":"IF(D14=\"\",\"\",SUM(E33:E37)-IF(D15=\"scrubber pressure drop\",E33,0))","v":""},null,{"$f":"IF(F14=\"\",\"\",SUM(G33:G37)-IF(F15=\"scrubber pressure drop\",G33,0))","v":""},null,{"$f":"IF(H14=\"\",\"\",SUM(I33:I37)-IF(H15=\"scrubber pressure drop\",I33,0))","v":""}]
[" CMS Performance Summary [§63.867(c)(1)(viii)]"]
["Operating parameter",{"$f":"IF(B15=\"\",\"\",B15)","v":""},null,{"$f":"IF(D15=\"\",\"\",D15)","v":""},null,{"$f":"IF(F15=\"\",\"\",F15)","v":""},null,{"$f":"IF(H15=\"\",\"\",H15)","v":""}]
[null,"Duration",null,"Duration",null,"Duration",null,"Duration"]
["1. CMS downtime in reporting period due to:",{"$f":"B21","v":"Minutes"},null,{"$f":"D21","v":"Minutes"},null,{"$f":"F21","v":"Minutes"},null,{"$f":"H21","v":"Minutes"}]
["a. Monitoring equipment malfunctions"]
["b. Non-monitor equipment malfunctions"]
["c. Quality assurance/quality control calibration"]
["d. Other known causes"]
["e. Unknown causes"]
["2. Total CMS downtime",{"$f":"IF(B14=\"\",\"\",SUM(B43:B47))","v":""},null,{"$f":"IF(D14=\"\",\"\",SUM(D43:D47))","v":""},null,{"$f":"IF(F14=\"\",\"\",SUM(F43:F47))","v":""},null,{"$f":"IF(H14=\"\",\"\",SUM(H43:H47))","v":""}]
["3. (Total CMS downtime) / (Total Source Operating Time) x (100) %2",{"$f":"IF(B14=\"\",\"\",IF($B$10>0,B48/($B$10*60),0))","v":""},null,{"$f":"IF(D14=\"\",\"\",IF($B$10>0,D48/($B$10*60),0))","v":""},null,{"$f":"IF(F14=\"\",\"\",IF($B$10>0,F48/($B$10*60),0))","v":""},null,{"$f":"IF(H14=\"\",\"\",IF($B$10>0,H48/($B$10*60),0))","v":""}]
["Is total CMS downtime greater than or equal to 5% of total source operating time?2",{"$f":"IF(B14=\"\",\"\",IF(B49>=0.05,\"Yes-Use detail report\",\"No\"))","v":""},null,{"$f":"IF(D14=\"\",\"\",IF(D49>=0.05,\"Yes-Use detail report\",\"No\"))","v":""},null,{"$f":"IF(F14=\"\",\"\",IF(F49>=0.05,\"Yes-Use detail report\",\"No\"))","v":""},null,{"$f":"IF(H14=\"\",\"\",IF(H49>=0.05,\"Yes-Use detail report\",\"No\"))","v":""}]
["If detailed reporting is required, enter the type and/or filename of the detailed report provided"]
["1. Enter the duration of excess emissions and number of averaging periods recorded as excess emissions, excluding:  "]
["● Monitoring data recorded during periods of unavoidable CMS breakdowns, out-of-control periods, repairs, maintenance periods, calibration checks, and zero (low-level) and high level adjustments [§63.864(h)]"]
["● Monitoring data recorded during periods when spent liquor solids (for recovery furnaces) or lime mud (for kilns) is not fired. [§63.864(k)(1), (k)(2)]"]
["2. If the total duration of excess emissions is 1% or greater of the total operating time, or the total CMS downtime is 5% or greater of the total operating time, both the Summary Report and the Excess Emissions and "]
["Continuous Monitoring Systems Performance Report must be submitted for this CMS and process unit. See the orange CMS Performance Detail and Excess Emissions Detail tabs to complete the Excess Emissions and "]
["Continuous Monitoring Systems Performance Report. [§63.867(c)(1) and (3)]"]
["Count: Enter the number of 6-minute averaging periods recorded as excess emissions during the semiannual reporting period. "]

{"sheet":"CPMS8","index":22,"n_rows":56,"n_cols":27,"rows_kept":56,"hidden":true}
["Summary Report – Gaseous and Opacity Excess Emissions and Continuous Monitoring System Performance"]
["Continuous Parameter Monitoring Systems -- 40 CFR Part 63, Subpart MM"]
[{"$nulls":3},"Tab Name:",{"$f":"MID(CELL(\"filename\",A1),FIND(\"]\",CELL(\"filename\",A1))+1,255)","v":"CPMS8"},{"$nulls":6},"Tab Name:",{"$f":"MID(CELL(\"filename\",I1),FIND(\"]\",CELL(\"filename\",I1))+1,255)","v":"CPMS8"}]
["Company and Site Name",{"$f":"Facility_Info_upload!$C$24&\"--\"&Facility_Info_upload!$D$24","v":"0--0"},{"$nulls":7},{"$f":"Facility_Info_upload!$C$24&\"--\"&Facility_Info_upload!$D$24","v":"0--0"}]
["Reporting period dates (beginning date, ending date)",{"$f":"CONCATENATE(TEXT(Facility_Info!$B$28,\"mm/dd/yyyy\"),\" - \",TEXT(Facility_Info!$B$29,\"mm/dd/yyyy\"))","v":"01/00/1900 - 01/00/1900"},{"$nulls":7},{"$f":"CONCATENATE(TEXT(Facility_Info!$B$28,\"mm/dd/yyyy\"),\" - \",TEXT(Facility_Info!$B$29,\"mm/dd/yyyy\"))","v":"01/00/1900 - 01/00/1900"}]
["Process Unit ID",{"$f":"IF(Unit_Info!$C31=\"\",\"\",Unit_Info!$C31)","v":""},{"$nulls":7},{"$f":"INDEX(Unit_Info!$Z$43:$Z$62,MATCH(CPMS8!$E$3,Unit_Info!$Y$43:$Y$62,0))","v":{"$error":"#N/A"}}]
["Process Unit Type",{"$f":"IF(Unit_Info!$D31=\"\",\"\",Unit_Info!$D31)","v":""},{"$nulls":7},{"$f":"INDEX(Unit_Info!$AA$43:$AA$62,MATCH(CPMS8!$E$3,Unit_Info!$Y$43:$Y$62,0))","v":{"$error":"#N/A"}}]
["Process Unit Description",{"$f":"IF(Unit_Info!$F31=\"\",\"\",Unit_Info!$F31)","v":""},{"$nulls":7},{"$f":"INDEX(Unit_Info!$AB$43:$AB$62,MATCH(CPMS8!$E$3,Unit_Info!$Y$43:$Y$62,0))","v":{"$error":"#N/A"}}]
["Air Pollution Control Device Type",{"$f":"IF(Unit_Info!$I31=\"\",\"\",Unit_Info!$I31)","v":""},{"$nulls":7},{"$f":"INDEX(Unit_Info!$AC$43:$AC$62,MATCH(CPMS8!$E$3,Unit_Info!$Y$43:$Y$62,0))","v":{"$error":"#N/A"}}]
["Total Source Operating Time* (hours)",{"$nulls":8},{"$f":"+B10","v":0}]
["*Includes all process unit operating time during the reporting period including startup/shutdown, malfunction, and all times when CMS are inoperative or producing invalid readings."]
["Emission Data Summary [§63.867(c)(1)(iv) and (vii)]"]
["Index Number",{"$f":"IF(B14=\"\",\"\",MAX(CPMS1!B13:H13,CPMS2!B13:H13,CPMS3!B13:H13,CPMS4!B13:H13,CPMS5!B13:H13,CPMS6!B13:H13,CPMS7!B13:H13)+1)","v":""},null,{"$f":"IF(D14=\"\",\"\",B13+1)","v":""},null,{"$f":"IF(F14=\"\",\"\",MAX(B13:D13)+1)","v":""},null,{"$f":"IF(H14=\"\",\"\",MAX(B13:F13)+1)","v":""},null,{"$f":"IF(J14=\"\",\"\",MAX(D13:H13)+1)","v":""},null,{"$f":"IF(L14=\"\",\"\",MAX(F13:J13)+1)","v":""},null,{"$f":"IF(N14=\"\",\"\",MAX(H13:L13)+1)","v":""},null,{"$f":"IF(P14=\"\",\"\",MAX(J13:N13)+1)","v":""}]
["Operating parameter"]
["Averaging period"]
["Operating parameter limit (numerical value)",{"$nulls":20},"Combine for EE","Duration","Count"]
["   Operating limit units (text)",{"$nulls":20},{"$f":"B14","v":0},{"$f":"B27","v":""},{"$f":"C27","v":""}]
["Mark with an \"X\" if no excess emissions or exceedances of a parameter have occurred during the reporting period. [§63.10(e)(3)(v)]",{"$nulls":20},{"$f":"D14","v":0},{"$f":"D27","v":""},{"$f":"E27","v":""}]
["Mark with an \"X\" if the CMS has not been inoperative, out of control, repaired, or adjusted during the reporting period. [§63.10(e)(3)(v)]",{"$nulls":20},{"$f":"F14","v":0},{"$f":"F27","v":""},{"$f":"G27","v":""}]
[null,"Duration","Count","Duration","Count","Duration","Count","Duration","Count","Duration","Count","Duration","Count","Duration","Count","Duration","Count",{"$nulls":4},{"$f":"J14","v":0},{"$f":"J27","v":""},{"$f":"K27","v":""}]
["1. Duration of excess emissions in reporting period due to:1","Hours","No. of Averages4","Hours","No. of Averages4","Hours","No. of Averages4","Hours","No. of Averages4","Hours","No. of Averages4","Hours","No. of Averages4","Hours","No. of Averages4","Hours","No. of Averages4",{"$nulls":4},{"$f":"L14","v":0},{"$f":"L27","v":""},{"$f":"M27","v":""}]
["a. Startup/Shutdown",{"$nulls":20},{"$f":"N14","v":0},{"$f":"N27","v":""},{"$f":"O27","v":""}]
["b. Control Equipment Problems",{"$nulls":20},{"$f":"P14","v":0},{"$f":"P27","v":""},{"$f":"Q27","v":""}]
["c. Process Problems",{"$nulls":22},{"$f":"IF(OR(B9=\"Wet Scrubber\", B9=\"ESP and wet scrubber\"),$C$31,\"0\")","v":"0"}]
["d. Other known causes",{"$nulls":20},"Scrubber",{"$f":"SUMIFS(W17:W23,$V$17:$V$23,\"Scrubber liquid flow\")+SUMIFS(W17:W23,$V$17:$V$23,\"SDT scrubber fan amperage\")+SUMIFS(W17:W23,$V$17:$V$23,\"Scrubber pressure drop\")","v":0},{"$f":"SUMIFS(X17:X23,$V$17:$V$23,\"Scrubber liquid flow\")+SUMIFS(X17:X23,$V$17:$V$23,\"SDT scrubber fan amperage\")+SUMIFS(X17:X23,$V$17:$V$23,\"Scrubber pressure drop\")-X24","v":0},null,{"$f":"IF(W25/$B$10>0.01,\"Yes-Use detail forms\",\"No\")","v":{"$error":"#DIV/0!"}},{"$f":"IF(X25>5,\"Yes-Use detail and failure forms\",\"No\")","v":"No"}]
["e. Unknown causes",{"$nulls":20},"Other",{"$f":"SUMIFS(W17:W23,$V$17:$V$23,\"Alternative parameter (3-hr)\")","v":0},{"$f":"SUMIFS(X17:X23,$V$17:$V$23,\"Alternative parameter (3-hr)\")-X24","v":0},null,{"$f":"IF(W26/$B$10>0.01,\"Yes-Use detail forms\",\"No\")","v":{"$error":"#DIV/0!"}},{"$f":"IF(X26>5,\"Yes-Use detail and failure forms\",\"No\")","v":"No"}]
["2. Total duration of excess emissions2",{"$f":"IF(B14=\"\",\"\",SUM(B22:B26)-IF(B14=\"scrubber pressure drop\",B22,0))","v":""},{"$f":"IF(B14=\"\",\"\",SUM(C22:C26)-IF(B14=\"scrubber pressure drop\",C22,0))","v":""},{"$f":"IF(D14=\"\",\"\",SUM(D22:D26)-IF(D14=\"scrubber pressure drop\",D22,0))","v":""},{"$f":"IF(D14=\"\",\"\",SUM(E22:E26)-IF(D14=\"scrubber pressure drop\",E22,0))","v":""},{"$f":"IF(F14=\"\",\"\",SUM(F22:F26)-IF(F14=\"scrubber pressure drop\",F22,0))","v":""},{"$f":"IF(F14=\"\",\"\",SUM(G22:G26)-IF(F14=\"scrubber pressure drop\",G22,0))","v":""},{"$f":"IF(H14=\"\",\"\",SUM(H22:H26)-IF(H14=\"scrubber pressure drop\",H22,0))","v":""},{"$f":"IF(H14=\"\",\"\",SUM(I22:I26)-IF(H14=\"scrubber pressure drop\",I22,0))","v":""},{"$f":"IF(J14=\"\",\"\",SUM(J22:J26)-IF(J14=\"scrubber pressure drop\",J22,0))","v":""},{"$f":"IF(J14=\"\",\"\",SUM(K22:K26)-IF(J14=\"scrubber pressure drop\",K22,0))","v":""},{"$f":"IF(L14=\"\",\"\",SUM(L22:L26)-IF(L14=\"scrubber pressure drop\",L22,0))","v":""},{"$f":"IF(L14=\"\",\"\",SUM(M22:M26)-IF(L14=\"scrubber pressure drop\",M22,0))","v":""},{"$f":"IF(N14=\"\",\"\",SUM(N22:N26)-IF(N14=\"scrubber pressure drop\",N22,0))","v":""},{"$f":"IF(N14=\"\",\"\",SUM(O22:O26)-IF(N14=\"scrubber pressure drop\",O22,0))","v":""},{"$f":"IF(P14=\"\",\"\",SUM(P22:P26)-IF(P14=\"scrubber pressure drop\",P22,0))","v":""},{"$f":"IF(P14=\"\",\"\",SUM(Q22:Q26)-IF(P14=\"scrubber pressure drop\",Q22,0))","v":""}]
["3. (Total duration of excess emissions) / (Total Source Operating Time) x (100) %3",{"$f":"IF(B14=\"\",\"\",IF($B$10>0,B27/$B$10,0))","v":""},null,{"$f":"IF(D14=\"\",\"\",IF($B$10>0,D27/$B$10,0))","v":""},null,{"$f":"IF(F14=\"\",\"\",IF($B$10>0,F27/$B$10,0))","v":""},null,{"$f":"IF(H14=\"\",\"\",IF($B$10>0,H27/$B$10,0))","v":""},null,{"$f":"IF(J14=\"\",\"\",IF($B$10>0,J27/$B$10,0))","v":""},null,{"$f":"IF(L14=\"\",\"\",IF($B$10>0,L27/$B$10,0))","v":""},null,{"$f":"IF(N14=\"\",\"\",IF($B$10>0,N27/$B$10,0))","v":""},null,{"$f":"IF(P14=\"\",\"\",IF($B$10>0,P27/$B$10,0))","v":""}]
["Do excess emissions in item 3 meet or exceed 1% of operating time?",{"$f":"IF(B14=\"\",\"\",IF(B28>=0.01,\"Yes-Use detail form\",\"No\"))","v":""},null,{"$f":"IF(D14=\"\",\"\",IF(D28>=0.01,\"Yes-Use detail form\",\"No\"))","v":""},null,{"$f":"IF(F14=\"\",\"\",IF(F28>=0.01,\"Yes-Use detail form\",\"No\"))","v":""},null,{"$f":"IF(H14=\"\",\"\",IF(H28>=0.01,\"Yes-Use detail form\",\"No\"))","v":""},null,{"$f":"IF(J14=\"\",\"\",IF(J28>=0.01,\"Yes-Use detail form\",\"No\"))","v":""},null,{"$f":"IF(L14=\"\",\"\",IF(L28>=0.01,\"Yes-Use detail form\",\"No\"))","v":""},null,{"$f":"IF(N14=\"\",\"\",IF(N28>=0.01,\"Yes-Use detail form\",\"No\"))","v":""},null,{"$f":"IF(P14=\"\",\"\",IF(P28>=0.01,\"Yes-Use detail form\",\"No\"))","v":""}]
["Is the violation level triggered in item 2 above?  \nViolation level: Six or more 3-hour average parameter values or any 3-hour average RTO temperature per semiannual period.",null,{"$f":"IF(B14=\"\",\"\",IF(OR(B14=\"RTO temperature (1-hr)\",B14=\"Bypass of Control Device\",B14=\"Automatic Voltage Control\"),\"Not Applicable\",IF(C27<VLOOKUP(B14,Violations!$A$6:$D$10,4,FALSE),\"No\",\"Yes\")))","v":""},null,{"$f":"IF(D14=\"\",\"\",IF(OR(D14=\"RTO temperature (1-hr)\",D14=\"Bypass of Control Device\",D14=\"Automatic Voltage Control\"),\"Not Applicable\",IF(E27<VLOOKUP(D14,Violations!$A$6:$D$10,4,FALSE),\"No\",\"Yes\")))","v":""},null,{"$f":"IF(F14=\"\",\"\",IF(OR(F14=\"RTO temperature (1-hr)\",F14=\"Bypass of Control Device\",F14=\"Automatic Voltage Control\"),\"Not Applicable\",IF(G27<VLOOKUP(F14,Violations!$A$6:$D$10,4,FALSE),\"No\",\"Yes\")))","v":""},null,{"$f":"IF(H14=\"\",\"\",IF(OR(H14=\"RTO temperature (1-hr)\",H14=\"Bypass of Control Device\",H14=\"Automatic Voltage Control\"),\"Not Applicable\",IF(I27<VLOOKUP(H14,Violations!$A$6:$D$10,4,FALSE),\"No\",\"Yes\")))","v":""},null,{"$f":"IF(J14=\"\",\"\",IF(OR(J14=\"RTO temperature (1-hr)\",J14=\"Bypass of Control Device\",J14=\"Automatic Voltage Control\"),\"Not Applicable\",IF(K27<VLOOKUP(J14,Violations!$A$6:$D$10,4,FALSE),\"No\",\"Yes\")))","v":""},null,{"$f":"IF(L14=\"\",\"\",IF(OR(L14=\"RTO temperature (1-hr)\",L14=\"Bypass of Control Device\",L14=\"Automatic Voltage Control\"),\"Not Applicable\",IF(M27<VLOOKUP(L14,Violations!$A$6:$D$10,4,FALSE),\"No\",\"Yes\")))","v":""},null,{"$f":"IF(N14=\"\",\"\",IF(OR(N14=\"RTO temperature (1-hr)\",N14=\"Bypass of Control Device\",N14=\"Automatic Voltage Control\"),\"Not Applicable\",IF(O27<VLOOKUP(N14,Violations!$A$6:$D$10,4,FALSE),\"No\",\"Yes\")))","v":""},null,{"$f":"IF(P14=\"\",\"\",IF(OR(P14=\"RTO temperature (1-hr)\",P14=\"Bypass of Control Device\",P14=\"Automatic Voltage Control\"),\"Not Applicable\",IF(Q27<VLOOKUP(P14,Violations!$A$6:$D$10,4,FALSE),\"No\",\"Yes\")))","v":""}]
["Do any of the Count of No. of Averages in item 2 above occur concurrently? If so, how many?"]
["Do combined excess emissions in item 3 and/or combined counts in item 2 result in reporting requirements? (For scrubbers and other only)",{"$f":"IF(B14=\"\",\"\",IF(B9=\"Wet Scrubber\",Z25,IF(B9=\"ESP and Wet Scrubber\",Z25,IF(B14=\"Alternative parameter (3-hr)\",Z26,\"NA\"))))","v":""},{"$f":"IF(B14=\"\",\"\",IF(B9=\"Wet Scrubber\",AA25,IF(B9=\"ESP and Wet Scrubber\",AA25,IF(B14=\"Alternative parameter (3-hr)\",AA26,\"NA\"))))","v":""}]
["CMS Performance Summary [§63.867(c)(1)(viii)]"]
["Operating parameter",{"$f":"IF(B14=\"\",\"\",B14)","v":""},null,{"$f":"IF(D14=\"\",\"\",D14)","v":""},null,{"$f":"IF(F14=\"\",\"\",F14)","v":""},null,{"$f":"IF(H14=\"\",\"\",H14)","v":""},null,{"$f":"IF(J14=\"\",\"\",J14)","v":""},null,{"$f":"IF(L14=\"\",\"\",L14)","v":""},null,{"$f":"IF(N14=\"\",\"\",N14)","v":""},null,{"$f":"IF(P14=\"\",\"\",P14)","v":""}]
[null,"Duration",null,"Duration",null,"Duration",null,"Duration",null,"Duration",null,"Duration",null,"Duration",null,"Duration"]
["1. CMS downtime in reporting period due to:","Hours",null,"Hours",null,"Hours",null,"Hours",null,"Hours",null,"Hours",null,"Hours",null,"Hours"]
["a. Monitoring equipment malfunctions"]
["b. Non-monitor equipment malfunctions"]
["c. Quality assurance/quality control calibration"]
["d. Other known causes"]
["e. Unknown causes"]
["2. Total CMS downtime",{"$f":"IF(B14=\"\",\"\",SUM(B37:B41))","v":""},null,{"$f":"IF(D14=\"\",\"\",SUM(D37:D41))","v":""},null,{"$f":"IF(F14=\"\",\"\",SUM(F37:F41))","v":""},null,{"$f":"IF(H14=\"\",\"\",SUM(H37:H41))","v":""},null,{"$f":"IF(J14=\"\",\"\",SUM(J37:J41))","v":""},null,{"$f":"IF(L14=\"\",\"\",SUM(L37:L41))","v":""},null,{"$f":"IF(N14=\"\",\"\",SUM(N37:N41))","v":""},null,{"$f":"IF(P14=\"\",\"\",SUM(P37:P41))","v":""}]
["3. (Total CMS downtime) / (Total Source Operating Time) x (100) %3",{"$f":"IF(B14=\"\",\"\",IF($B$10>0,B42/$B$10,0))","v":""},null,{"$f":"IF(D14=\"\",\"\",IF($B$10>0,D42/$B$10,0))","v":""},null,{"$f":"IF(F14=\"\",\"\",IF($B$10>0,F42/$B$10,0))","v":""},null,{"$f":"IF(H14=\"\",\"\",IF($B$10>0,H42/$B$10,0))","v":""},null,{"$f":"IF(J14=\"\",\"\",IF($B$10>0,J42/$B$10,0))","v":""},null,{"$f":"IF(L14=\"\",\"\",IF($B$10>0,L42/$B$10,0))","v":""},null,{"$f":"IF(N14=\"\",\"\",IF($B$10>0,N42/$B$10,0))","v":""},null,{"$f":"IF(P14=\"\",\"\",IF($B$10>0,P42/$B$10,0))","v":""}]
["Is total CMS downtime greater than or equal to 5% of total source operating time?",{"$f":"IF(B14=\"\",\"\",IF(B43>=0.05,\"Yes-Use detail form\",\"No\"))","v":""},null,{"$f":"IF(D14=\"\",\"\",IF(D43>=0.05,\"Yes-Use detail form\",\"No\"))","v":""},null,{"$f":"IF(F14=\"\",\"\",IF(F43>=0.05,\"Yes-Use detail form\",\"No\"))","v":""},null,{"$f":"IF(H14=\"\",\"\",IF(H43>=0.05,\"Yes-Use detail form\",\"No\"))","v":""},null,{"$f":"IF(J14=\"\",\"\",IF(J43>=0.05,\"Yes-Use detail form\",\"No\"))","v":""},null,{"$f":"IF(L14=\"\",\"\",IF(L43>=0.05,\"Yes-Use detail form\",\"No\"))","v":""},null,{"$f":"IF(N14=\"\",\"\",IF(N43>=0.05,\"Yes-Use detail form\",\"No\"))","v":""},null,{"$f":"IF(P14=\"\",\"\",IF(P43>=0.05,\"Yes-Use detail form\",\"No\"))","v":""}]
["If detailed reporting is required, enter the type and/or filename of the detailed report provided"]
["Comments or clarifications if necessary:"]
["1. Enter the duration of excess emissions and number of averaging periods recorded as excess emissions, excluding:  "]
["● Monitoring data recorded during periods of unavoidable CMS breakdowns, out-of-control periods, repairs, maintenance periods, calibration checks, and zero (low-level) and high level adjustments [§63.864(h)]"]
["● Monitoring data recorded during periods when spent liquor solids (for recovery furnaces) or lime mud (for kilns) is not fired. [§63.864(k)(1), (k)(2)]"]
["2. Excludes periods of startup/shutdown for scrubber pressure drop."]
["3. If the total duration of excess emissions is 1% or greater of the total operating time, or the total CMS downtime is 5% or greater of the total operating time, both the Summary Report and the Excess Emissions "]
["and Continuous Monitoring Systems Performance Report must be submitted for this CMS and process unit. See the orange CMS Performance Detail and Excess Emissions Detail tabs to complete the Excess "]
["Emissions and Continuous Monitoring Systems Performance Report. [§63.867(c)(1) and (3)]"]
["4. Count: Enter the number of averaging periods recorded as excess emissions during the semiannual reporting period. No more than one exceedance will be attributed in any given 24-hour period as specified in §63.864(k)(3); "]
["thus, you are only required to enter one 3-hour average exceedance for a given 24-hour period."]
["Note: It is possible that the duration hours reported may exceed the hours associated with the count of averaging periods due the provision in §63.864(k)(3). "]

{"sheet":"COMS9","index":23,"n_rows":58,"n_cols":9,"rows_kept":58,"hidden":true}
["Summary Report – Gaseous and Opacity Excess Emissions and Continuous Monitoring System Performance"]
["Continuous Opacity Monitoring Systems and ESP Parameter Monitoring -- 40 CFR Part 63, Subpart MM"]
[{"$nulls":3},"Tab Name:",{"$f":"MID(CELL(\"filename\",A1),FIND(\"]\",CELL(\"filename\",A1))+1,255)","v":"COMS9"}]
["Company and Site Name",{"$f":"Facility_Info_upload!$C$24&\"--\"&Facility_Info_upload!$D$24","v":"0--0"}]
["Reporting period dates (beginning date, ending date)",{"$f":"CONCATENATE(TEXT(Facility_Info!$B$28,\"mm/dd/yyyy\"),\" - \",TEXT(Facility_Info!$B$29,\"mm/dd/yyyy\"))","v":"01/00/1900 - 01/00/1900"}]
["Process Unit ID",{"$f":"IF(Unit_Info!$C32=\"\",\"\",Unit_Info!$C32)","v":""}]
["Process Unit Type",{"$f":"IF(Unit_Info!$D32=\"\",\"\",Unit_Info!$D32)","v":""}]
["Process Unit Description",{"$f":"IF(Unit_Info!$F32=\"\",\"\",Unit_Info!$F32)","v":""}]
["Air Pollution Control Device Type",{"$f":"IF(Unit_Info!$I32=\"\",\"\",Unit_Info!$I32)","v":""}]
["Total Source Operating Time* (hours)"]
["*Includes all process unit operating time during the reporting period including startup/shutdown, malfunction, and all times when CMS are inoperative or producing invalid readings."]
["Emission Data Summary -- Opacity [§63.867(c)(1)(iv) and (vii)]"]
["Index Number",{"$f":"IF(B14=\"\",\"\",MAX(COMS1!B13:H13,COMS2!B13:H13,COMS3!B13:H13,COMS4!B13:H13,COMS5!B13:H13,COMS6!B13:H13,COMS7!B13:H13,COMS8!B13:H13)+1)","v":""},null,{"$f":"IF(D14=\"\",\"\",B13+1)","v":""},null,{"$f":"IF(F14=\"\",\"\",MAX(B13:D13)+1)","v":""},null,{"$f":"IF(H14=\"\",\"\",MAX(B13:F13)+1)","v":""}]
["Process Unit Emission Point"]
["Operating parameter"]
["Opacity limit, %"]
["Mark with an \"X\" if no excess emissions or exceedances of a parameter have occurred during the reporting period. [§63.10(e)(3)(v)]"]
["Mark with an \"X\" if the CMS has not been inoperative, out of control, repaired, or adjusted during the reporting period. [§63.10(e)(3)(v)]"]
["Mark with an \"X\" if the AVC was operated properly during the reporting period. [§63.8641(e)(1)]"]
[null,"Duration","Count","Duration","Count","Duration","Count","Duration","Count"]
["1. Duration of excess emissions in reporting period due to:1","Minutes","6-min averages","Minutes","6-min averages","Minutes","6-min averages","Minutes","6-min averages"]
["a. Startup/Shutdown"]
["b. Control Equipment Problems"]
["c. Process Problems"]
["d. Other known causes"]
["e. Unknown causes"]
["2. Total duration of excess emissions",{"$f":"IF(B14=\"\",\"\",SUM(B22:B26))","v":""},{"$f":"IF(B14=\"\",\"\",SUM(C22:C26)-IF(B15=\"scrubber pressure drop\",C22,0))","v":""},{"$f":"IF(D14=\"\",\"\",SUM(D22:D26))","v":""},{"$f":"IF(D14=\"\",\"\",SUM(E22:E26)-IF(D15=\"scrubber pressure drop\",E22,0))","v":""},{"$f":"IF(F14=\"\",\"\",SUM(F22:F26))","v":""},{"$f":"IF(F14=\"\",\"\",SUM(G22:G26)-IF(F15=\"scrubber pressure drop\",G22,0))","v":""},{"$f":"IF(H14=\"\",\"\",SUM(H22:H26))","v":""},{"$f":"IF(H14=\"\",\"\",SUM(I22:I26)-IF(H15=\"scrubber pressure drop\",I22,0))","v":""}]
["3. (Total duration of excess emissions) / (Total Source Operating Time) x (100) %2",{"$f":"IF(B14=\"\",\"\",IF($B$10>0,B27/($B$10*60),0))","v":""},{"$f":"IF(B14=\"\",\"\",IF($B$10>0,(C27*6)/($B$10*60),0))","v":""},{"$f":"IF(D14=\"\",\"\",IF($B$10>0,D27/($B$10*60),0))","v":""},{"$f":"IF(D14=\"\",\"\",IF($B$10>0,(E27*6)/($B$10*60),0))","v":""},{"$f":"IF(F14=\"\",\"\",IF($B$10>0,F27/($B$10*60),0))","v":""},{"$f":"IF(F14=\"\",\"\",IF($B$10>0,(G27*6)/($B$10*60),0))","v":""},{"$f":"IF(H14=\"\",\"\",IF($B$10>0,H27/($B$10*60),0))","v":""},{"$f":"IF(H14=\"\",\"\",IF($B$10>0,(I27*6)/($B$10*60),0))","v":""}]
["Do excess emissions equal or exceed 1% of operating time?2",{"$f":"IF(B14=\"\",\"\",IF(B28>=0.01,\"Yes-Use detail form\",\"No\"))","v":""},null,{"$f":"IF(D14=\"\",\"\",IF(D28>=0.01,\"Yes-Use detail form\",\"No\"))","v":""},null,{"$f":"IF(F14=\"\",\"\",IF(F28>=0.01,\"Yes-Use detail form\",\"No\"))","v":""},null,{"$f":"IF(H14=\"\",\"\",IF(H28>=0.01,\"Yes-Use detail form\",\"No\"))","v":""}]
["Is the opacity violation level triggered?\nViolation level (count) = 2% or more of 6-min averages for recovery furnaces, or 3% or more of 6-min averages for lime kilns  [§63.864(k)(2)(i)-(ii)]",null,{"$f":"IF(B14=\"\",\"\",IF(C28>=VLOOKUP($B$15,Violations!$A$21:$D$22,4,FALSE),\"Yes-Use detail and failure forms\",\"No\"))","v":""},null,{"$f":"IF(D14=\"\",\"\",IF(E28>=VLOOKUP($B$15,Violations!$A$21:$D$22,4,FALSE),\"Yes-Use detail and failure forms\",\"No\"))","v":""},null,{"$f":"IF(F14=\"\",\"\",IF(G28>=VLOOKUP($B$15,Violations!$A$21:$D$22,4,FALSE),\"Yes-Use detail and failure forms\",\"No\"))","v":""},null,{"$f":"IF(H14=\"\",\"\",IF(I28>=VLOOKUP($B$15,Violations!$A$21:$D$22,4,FALSE),\"Yes-Use detail and failure forms\",\"No\"))","v":""}]
[null,null,"Count",null,"Count",null,"Count",null,"Count"]
["4. Count of exceedances of corrective action level in reporting period due to:1",null,"10 consecutive 6-min averages",null,"10 consecutive 6-min averages",null,"10 consecutive 6-min averages",null,"10 consecutive 6-min averages"]
["a. Startup/Shutdown"]
["b. Control Equipment Problems"]
["c. Process Problems"]
["d. Other known causes"]
["e. Unknown causes"]
["5. Total count of exceedances of corrective action level",null,{"$f":"IF(B14=\"\",\"\",SUM(C33:C37)-IF(B15=\"scrubber pressure drop\",C33,0))","v":""},null,{"$f":"IF(D14=\"\",\"\",SUM(E33:E37)-IF(D15=\"scrubber pressure drop\",E33,0))","v":""},null,{"$f":"IF(F14=\"\",\"\",SUM(G33:G37)-IF(F15=\"scrubber pressure drop\",G33,0))","v":""},null,{"$f":"IF(H14=\"\",\"\",SUM(I33:I37)-IF(H15=\"scrubber pressure drop\",I33,0))","v":""}]
[" CMS Performance Summary [§63.867(c)(1)(viii)]"]
["Operating parameter",{"$f":"IF(B15=\"\",\"\",B15)","v":""},null,{"$f":"IF(D15=\"\",\"\",D15)","v":""},null,{"$f":"IF(F15=\"\",\"\",F15)","v":""},null,{"$f":"IF(H15=\"\",\"\",H15)","v":""}]
[null,"Duration",null,"Duration",null,"Duration",null,"Duration"]
["1. CMS downtime in reporting period due to:",{"$f":"B21","v":"Minutes"},null,{"$f":"D21","v":"Minutes"},null,{"$f":"F21","v":"Minutes"},null,{"$f":"H21","v":"Minutes"}]
["a. Monitoring equipment malfunctions"]
["b. Non-monitor equipment malfunctions"]
["c. Quality assurance/quality control calibration"]
["d. Other known causes"]
["e. Unknown causes"]
["2. Total CMS downtime",{"$f":"IF(B14=\"\",\"\",SUM(B43:B47))","v":""},null,{"$f":"IF(D14=\"\",\"\",SUM(D43:D47))","v":""},null,{"$f":"IF(F14=\"\",\"\",SUM(F43:F47))","v":""},null,{"$f":"IF(H14=\"\",\"\",SUM(H43:H47))","v":""}]
["3. (Total CMS downtime) / (Total Source Operating Time) x (100) %2",{"$f":"IF(B14=\"\",\"\",IF($B$10>0,B48/($B$10*60),0))","v":""},null,{"$f":"IF(D14=\"\",\"\",IF($B$10>0,D48/($B$10*60),0))","v":""},null,{"$f":"IF(F14=\"\",\"\",IF($B$10>0,F48/($B$10*60),0))","v":""},null,{"$f":"IF(H14=\"\",\"\",IF($B$10>0,H48/($B$10*60),0))","v":""}]
["Is total CMS downtime greater than or equal to 5% of total source operating time?2",{"$f":"IF(B14=\"\",\"\",IF(B49>=0.05,\"Yes-Use detail report\",\"No\"))","v":""},null,{"$f":"IF(D14=\"\",\"\",IF(D49>=0.05,\"Yes-Use detail report\",\"No\"))","v":""},null,{"$f":"IF(F14=\"\",\"\",IF(F49>=0.05,\"Yes-Use detail report\",\"No\"))","v":""},null,{"$f":"IF(H14=\"\",\"\",IF(H49>=0.05,\"Yes-Use detail report\",\"No\"))","v":""}]
["If detailed reporting is required, enter the type and/or filename of the detailed report provided"]
["1. Enter the duration of excess emissions and number of averaging periods recorded as excess emissions, excluding:  "]
["● Monitoring data recorded during periods of unavoidable CMS breakdowns, out-of-control periods, repairs, maintenance periods, calibration checks, and zero (low-level) and high level adjustments [§63.864(h)]"]
["● Monitoring data recorded during periods when spent liquor solids (for recovery furnaces) or lime mud (for kilns) is not fired. [§63.864(k)(1), (k)(2)]"]
["2. If the total duration of excess emissions is 1% or greater of the total operating time, or the total CMS downtime is 5% or greater of the total operating time, both the Summary Report and the Excess Emissions and "]
["Continuous Monitoring Systems Performance Report must be submitted for this CMS and process unit. See the orange CMS Performance Detail and Excess Emissions Detail tabs to complete the Excess Emissions and "]
["Continuous Monitoring Systems Performance Report. [§63.867(c)(1) and (3)]"]
["Count: Enter the number of 6-minute averaging periods recorded as excess emissions during the semiannual reporting period. "]

{"sheet":"CPMS9","index":24,"n_rows":56,"n_cols":27,"rows_kept":56,"hidden":true}
["Summary Report – Gaseous and Opacity Excess Emissions and Continuous Monitoring System Performance"]
["Continuous Parameter Monitoring Systems -- 40 CFR Part 63, Subpart MM"]
[{"$nulls":3},"Tab Name:",{"$f":"MID(CELL(\"filename\",A1),FIND(\"]\",CELL(\"filename\",A1))+1,255)","v":"CPMS9"},{"$nulls":6},"Tab Name:",{"$f":"MID(CELL(\"filename\",I1),FIND(\"]\",CELL(\"filename\",I1))+1,255)","v":"CPMS9"}]
["Company and Site Name",{"$f":"Facility_Info_upload!$C$24&\"--\"&Facility_Info_upload!$D$24","v":"0--0"},{"$nulls":7},{"$f":"Facility_Info_upload!$C$24&\"--\"&Facility_Info_upload!$D$24","v":"0--0"}]
["Reporting period dates (beginning date, ending date)",{"$f":"CONCATENATE(TEXT(Facility_Info!$B$28,\"mm/dd/yyyy\"),\" - \",TEXT(Facility_Info!$B$29,\"mm/dd/yyyy\"))","v":"01/00/1900 - 01/00/1900"},{"$nulls":7},{"$f":"CONCATENATE(TEXT(Facility_Info!$B$28,\"mm/dd/yyyy\"),\" - \",TEXT(Facility_Info!$B$29,\"mm/dd/yyyy\"))","v":"01/00/1900 - 01/00/1900"}]
["Process Unit ID",{"$f":"IF(Unit_Info!$C32=\"\",\"\",Unit_Info!$C32)","v":""},{"$nulls":7},{"$f":"INDEX(Unit_Info!$Z$43:$Z$62,MATCH(CPMS9!$E$3,Unit_Info!$Y$43:$Y$62,0))","v":{"$error":"#N/A"}}]
["Process Unit Type",{"$f":"IF(Unit_Info!$D32=\"\",\"\",Unit_Info!$D32)","v":""},{"$nulls":7},{"$f":"INDEX(Unit_Info!$AA$43:$AA$62,MATCH(CPMS9!$E$3,Unit_Info!$Y$43:$Y$62,0))","v":{"$error":"#N/A"}}]
["Process Unit Description",{"$f":"IF(Unit_Info!$F32=\"\",\"\",Unit_Info!$F32)","v":""},{"$nulls":7},{"$f":"INDEX(Unit_Info!$AB$43:$AB$62,MATCH(CPMS9!$E$3,Unit_Info!$Y$43:$Y$62,0))","v":{"$error":"#N/A"}}]
["Air Pollution Control Device Type",{"$f":"IF(Unit_Info!$I32=\"\",\"\",Unit_Info!$I32)","v":""},{"$nulls":7},{"$f":"INDEX(Unit_Info!$AC$43:$AC$62,MATCH(CPMS9!$E$3,Unit_Info!$Y$43:$Y$62,0))","v":{"$error":"#N/A"}}]
["Total Source Operating Time* (hours)",{"$nulls":8},{"$f":"+B10","v":0}]
["*Includes all process unit operating time during the reporting period including startup/shutdown, malfunction, and all times when CMS are inoperative or producing invalid readings."]
["Emission Data Summary [§63.867(c)(1)(iv) and (vii)]"]
["Index Number",{"$f":"IF(B14=\"\",\"\",MAX(CPMS1!B13:H13,CPMS2!B13:H13,CPMS3!B13:H13,CPMS4!B13:H13,CPMS5!B13:H13,CPMS6!B13:H13,CPMS7!B13:H13,CPMS8!B13:H13)+1)","v":""},null,{"$f":"IF(D14=\"\",\"\",B13+1)","v":""},null,{"$f":"IF(F14=\"\",\"\",MAX(B13:D13)+1)","v":""},null,{"$f":"IF(H14=\"\",\"\",MAX(B13:F13)+1)","v":""},null,{"$f":"IF(J14=\"\",\"\",MAX(D13:H13)+1)","v":""},null,{"$f":"IF(L14=\"\",\"\",MAX(F13:J13)+1)","v":""},null,{"$f":"IF(N14=\"\",\"\",MAX(H13:L13)+1)","v":""},null,{"$f":"IF(P14=\"\",\"\",MAX(J13:N13)+1)","v":""}]
["Operating parameter"]
["Averaging period"]
["Operating parameter limit (numerical value)",{"$nulls":20},"Combine for EE","Duration","Count"]
["   Operating limit units (text)",{"$nulls":20},{"$f":"B14","v":0},{"$f":"B27","v":""},{"$f":"C27","v":""}]
["Mark with an \"X\" if no excess emissions or exceedances of a parameter have occurred during the reporting period. [§63.10(e)(3)(v)]",{"$nulls":20},{"$f":"D14","v":0},{"$f":"D27","v":""},{"$f":"E27","v":""}]
["Mark with an \"X\" if the CMS has not been inoperative, out of control, repaired, or adjusted during the reporting period. [§63.10(e)(3)(v)]",{"$nulls":20},{"$f":"F14","v":0},{"$f":"F27","v":""},{"$f":"G27","v":""}]
[null,"Duration","Count","Duration","Count","Duration","Count","Duration","Count","Duration","Count","Duration","Count","Duration","Count","Duration","Count",{"$nulls":4},{"$f":"J14","v":0},{"$f":"J27","v":""},{"$f":"K27","v":""}]
["1. Duration of excess emissions in reporting period due to:1","Hours","No. of Averages4","Hours","No. of Averages4","Hours","No. of Averages4","Hours","No. of Averages4","Hours","No. of Averages4","Hours","No. of Averages4","Hours","No. of Averages4","Hours","No. of Averages4",{"$nulls":4},{"$f":"L14","v":0},{"$f":"L27","v":""},{"$f":"M27","v":""}]
["a. Startup/Shutdown",{"$nulls":20},{"$f":"N14","v":0},{"$f":"N27","v":""},{"$f":"O27","v":""}]
["b. Control Equipment Problems",{"$nulls":20},{"$f":"P14","v":0},{"$f":"P27","v":""},{"$f":"Q27","v":""}]
["c. Process Problems",{"$nulls":22},{"$f":"IF(OR(B9=\"Wet Scrubber\", B9=\"ESP and wet scrubber\"),$C$31,\"0\")","v":"0"}]
["d. Other known causes",{"$nulls":20},"Scrubber",{"$f":"SUMIFS(W17:W23,$V$17:$V$23,\"Scrubber liquid flow\")+SUMIFS(W17:W23,$V$17:$V$23,\"SDT scrubber fan amperage\")+SUMIFS(W17:W23,$V$17:$V$23,\"Scrubber pressure drop\")","v":0},{"$f":"SUMIFS(X17:X23,$V$17:$V$23,\"Scrubber liquid flow\")+SUMIFS(X17:X23,$V$17:$V$23,\"SDT scrubber fan amperage\")+SUMIFS(X17:X23,$V$17:$V$23,\"Scrubber pressure drop\")-X24","v":0},null,{"$f":"IF(W25/$B$10>0.01,\"Yes-Use detail forms\",\"No\")","v":{"$error":"#DIV/0!"}},{"$f":"IF(X25>5,\"Yes-Use detail and failure forms\",\"No\")","v":"No"}]
["e. Unknown causes",{"$nulls":20},"Other",{"$f":"SUMIFS(W17:W23,$V$17:$V$23,\"Alternative parameter (3-hr)\")","v":0},{"$f":"SUMIFS(X17:X23,$V$17:$V$23,\"Alternative parameter (3-hr)\")-X24","v":0},null,{"$f":"IF(W26/$B$10>0.01,\"Yes-Use detail forms\",\"No\")","v":{"$error":"#DIV/0!"}},{"$f":"IF(X26>5,\"Yes-Use detail and failure forms\",\"No\")","v":"No"}]
["2. Total duration of excess emissions2",{"$f":"IF(B14=\"\",\"\",SUM(B22:B26)-IF(B14=\"scrubber pressure drop\",B22,0))","v":""},{"$f":"IF(B14=\"\",\"\",SUM(C22:C26)-IF(B14=\"scrubber pressure drop\",C22,0))","v":""},{"$f":"IF(D14=\"\",\"\",SUM(D22:D26)-IF(D14=\"scrubber pressure drop\",D22,0))","v":""},{"$f":"IF(D14=\"\",\"\",SUM(E22:E26)-IF(D14=\"scrubber pressure drop\",E22,0))","v":""},{"$f":"IF(F14=\"\",\"\",SUM(F22:F26)-IF(F14=\"scrubber pressure drop\",F22,0))","v":""},{"$f":"IF(F14=\"\",\"\",SUM(G22:G26)-IF(F14=\"scrubber pressure drop\",G22,0))","v":""},{"$f":"IF(H14=\"\",\"\",SUM(H22:H26)-IF(H14=\"scrubber pressure drop\",H22,0))","v":""},{"$f":"IF(H14=\"\",\"\",SUM(I22:I26)-IF(H14=\"scrubber pressure drop\",I22,0))","v":""},{"$f":"IF(J14=\"\",\"\",SUM(J22:J26)-IF(J14=\"scrubber pressure drop\",J22,0))","v":""},{"$f":"IF(J14=\"\",\"\",SUM(K22:K26)-IF(J14=\"scrubber pressure drop\",K22,0))","v":""},{"$f":"IF(L14=\"\",\"\",SUM(L22:L26)-IF(L14=\"scrubber pressure drop\",L22,0))","v":""},{"$f":"IF(L14=\"\",\"\",SUM(M22:M26)-IF(L14=\"scrubber pressure drop\",M22,0))","v":""},{"$f":"IF(N14=\"\",\"\",SUM(N22:N26)-IF(N14=\"scrubber pressure drop\",N22,0))","v":""},{"$f":"IF(N14=\"\",\"\",SUM(O22:O26)-IF(N14=\"scrubber pressure drop\",O22,0))","v":""},{"$f":"IF(P14=\"\",\"\",SUM(P22:P26)-IF(P14=\"scrubber pressure drop\",P22,0))","v":""},{"$f":"IF(P14=\"\",\"\",SUM(Q22:Q26)-IF(P14=\"scrubber pressure drop\",Q22,0))","v":""}]
["3. (Total duration of excess emissions) / (Total Source Operating Time) x (100) %3",{"$f":"IF(B14=\"\",\"\",IF($B$10>0,B27/$B$10,0))","v":""},null,{"$f":"IF(D14=\"\",\"\",IF($B$10>0,D27/$B$10,0))","v":""},null,{"$f":"IF(F14=\"\",\"\",IF($B$10>0,F27/$B$10,0))","v":""},null,{"$f":"IF(H14=\"\",\"\",IF($B$10>0,H27/$B$10,0))","v":""},null,{"$f":"IF(J14=\"\",\"\",IF($B$10>0,J27/$B$10,0))","v":""},null,{"$f":"IF(L14=\"\",\"\",IF($B$10>0,L27/$B$10,0))","v":""},null,{"$f":"IF(N14=\"\",\"\",IF($B$10>0,N27/$B$10,0))","v":""},null,{"$f":"IF(P14=\"\",\"\",IF($B$10>0,P27/$B$10,0))","v":""}]
["Do excess emissions in item 3 meet or exceed 1% of operating time?",{"$f":"IF(B14=\"\",\"\",IF(B28>=0.01,\"Yes-Use detail form\",\"No\"))","v":""},null,{"$f":"IF(D14=\"\",\"\",IF(D28>=0.01,\"Yes-Use detail form\",\"No\"))","v":""},null,{"$f":"IF(F14=\"\",\"\",IF(F28>=0.01,\"Yes-Use detail form\",\"No\"))","v":""},null,{"$f":"IF(H14=\"\",\"\",IF(H28>=0.01,\"Yes-Use detail form\",\"No\"))","v":""},null,{"$f":"IF(J14=\"\",\"\",IF(J28>=0.01,\"Yes-Use detail form\",\"No\"))","v":""},null,{"$f":"IF(L14=\"\",\"\",IF(L28>=0.01,\"Yes-Use detail form\",\"No\"))","v":""},null,{"$f":"IF(N14=\"\",\"\",IF(N28>=0.01,\"Yes-Use detail form\",\"No\"))","v":""},null,{"$f":"IF(P14=\"\",\"\",IF(P28>=0.01,\"Yes-Use detail form\",\"No\"))","v":""}]
["Is the violation level triggered in item 2 above?  \nViolation level: Six or more 3-hour average parameter values or any 3-hour average RTO temperature per semiannual period.",null,{"$f":"IF(B14=\"\",\"\",IF(OR(B14=\"RTO temperature (1-hr)\",B14=\"Bypass of Control Device\",B14=\"Automatic Voltage Control\"),\"Not Applicable\",IF(C27<VLOOKUP(B14,Violations!$A$6:$D$10,4,FALSE),\"No\",\"Yes\")))","v":""},null,{"$f":"IF(D14=\"\",\"\",IF(OR(D14=\"RTO temperature (1-hr)\",D14=\"Bypass of Control Device\",D14=\"Automatic Voltage Control\"),\"Not Applicable\",IF(E27<VLOOKUP(D14,Violations!$A$6:$D$10,4,FALSE),\"No\",\"Yes\")))","v":""},null,{"$f":"IF(F14=\"\",\"\",IF(OR(F14=\"RTO temperature (1-hr)\",F14=\"Bypass of Control Device\",F14=\"Automatic Voltage Control\"),\"Not Applicable\",IF(G27<VLOOKUP(F14,Violations!$A$6:$D$10,4,FALSE),\"No\",\"Yes\")))","v":""},null,{"$f":"IF(H14=\"\",\"\",IF(OR(H14=\"RTO temperature (1-hr)\",H14=\"Bypass of Control Device\",H14=\"Automatic Voltage Control\"),\"Not Applicable\",IF(I27<VLOOKUP(H14,Violations!$A$6:$D$10,4,FALSE),\"No\",\"Yes\")))","v":""},null,{"$f":"IF(J14=\"\",\"\",IF(OR(J14=\"RTO temperature (1-hr)\",J14=\"Bypass of Control Device\",J14=\"Automatic Voltage Control\"),\"Not Applicable\",IF(K27<VLOOKUP(J14,Violations!$A$6:$D$10,4,FALSE),\"No\",\"Yes\")))","v":""},null,{"$f":"IF(L14=\"\",\"\",IF(OR(L14=\"RTO temperature (1-hr)\",L14=\"Bypass of Control Device\",L14=\"Automatic Voltage Control\"),\"Not Applicable\",IF(M27<VLOOKUP(L14,Violations!$A$6:$D$10,4,FALSE),\"No\",\"Yes\")))","v":""},null,{"$f":"IF(N14=\"\",\"\",IF(OR(N14=\"RTO temperature (1-hr)\",N14=\"Bypass of Control Device\",N14=\"Automatic Voltage Control\"),\"Not Applicable\",IF(O27<VLOOKUP(N14,Violations!$A$6:$D$10,4,FALSE),\"No\",\"Yes\")))","v":""},null,{"$f":"IF(P14=\"\",\"\",IF(OR(P14=\"RTO temperature (1-hr)\",P14=\"Bypass of Control Device\",P14=\"Automatic Voltage Control\"),\"Not Applicable\",IF(Q27<VLOOKUP(P14,Violations!$A$6:$D$10,4,FALSE),\"No\",\"Yes\")))","v":""}]
["Do any of the Count of No. of Averages in item 2 above occur concurrently? If so, how many?"]
["Do combined excess emissions in item 3 and/or combined counts in item 2 result in reporting requirements? (For scrubbers and other only)",{"$f":"IF(B14=\"\",\"\",IF(B9=\"Wet Scrubber\",Z25,IF(B9=\"ESP and Wet Scrubber\",Z25,IF(B14=\"Alternative parameter (3-hr)\",Z26,\"NA\"))))","v":""},{"$f":"IF(B14=\"\",\"\",IF(B9=\"Wet Scrubber\",AA25,IF(B9=\"ESP and Wet Scrubber\",AA25,IF(B14=\"Alternative parameter (3-hr)\",AA26,\"NA\"))))","v":""}]
["CMS Performance Summary [§63.867(c)(1)(viii)]"]
["Operating parameter",{"$f":"IF(B14=\"\",\"\",B14)","v":""},null,{"$f":"IF(D14=\"\",\"\",D14)","v":""},null,{"$f":"IF(F14=\"\",\"\",F14)","v":""},null,{"$f":"IF(H14=\"\",\"\",H14)","v":""},null,{"$f":"IF(J14=\"\",\"\",J14)","v":""},null,{"$f":"IF(L14=\"\",\"\",L14)","v":""},null,{"$f":"IF(N14=\"\",\"\",N14)","v":""},null,{"$f":"IF(P14=\"\",\"\",P14)","v":""}]
[null,"Duration",null,"Duration",null,"Duration",null,"Duration",null,"Duration",null,"Duration",null,"Duration",null,"Duration"]
["1. CMS downtime in reporting period due to:","Hours",null,"Hours",null,"Hours",null,"Hours",null,"Hours",null,"Hours",null,"Hours",null,"Hours"]
["a. Monitoring equipment malfunctions"]
["b. Non-monitor equipment malfunctions"]
["c. Quality assurance/quality control calibration"]
["d. Other known causes"]
["e. Unknown causes"]
["2. Total CMS downtime",{"$f":"IF(B14=\"\",\"\",SUM(B37:B41))","v":""},null,{"$f":"IF(D14=\"\",\"\",SUM(D37:D41))","v":""},null,{"$f":"IF(F14=\"\",\"\",SUM(F37:F41))","v":""},null,{"$f":"IF(H14=\"\",\"\",SUM(H37:H41))","v":""},null,{"$f":"IF(J14=\"\",\"\",SUM(J37:J41))","v":""},null,{"$f":"IF(L14=\"\",\"\",SUM(L37:L41))","v":""},null,{"$f":"IF(N14=\"\",\"\",SUM(N37:N41))","v":""},null,{"$f":"IF(P14=\"\",\"\",SUM(P37:P41))","v":""}]
["3. (Total CMS downtime) / (Total Source Operating Time) x (100) %3",{"$f":"IF(B14=\"\",\"\",IF($B$10>0,B42/$B$10,0))","v":""},null,{"$f":"IF(D14=\"\",\"\",IF($B$10>0,D42/$B$10,0))","v":""},null,{"$f":"IF(F14=\"\",\"\",IF($B$10>0,F42/$B$10,0))","v":""},null,{"$f":"IF(H14=\"\",\"\",IF($B$10>0,H42/$B$10,0))","v":""},null,{"$f":"IF(J14=\"\",\"\",IF($B$10>0,J42/$B$10,0))","v":""},null,{"$f":"IF(L14=\"\",\"\",IF($B$10>0,L42/$B$10,0))","v":""},null,{"$f":"IF(N14=\"\",\"\",IF($B$10>0,N42/$B$10,0))","v":""},null,{"$f":"IF(P14=\"\",\"\",IF($B$10>0,P42/$B$10,0))","v":""}]
["Is total CMS downtime greater than or equal to 5% of total source operating time?",{"$f":"IF(B14=\"\",\"\",IF(B43>=0.05,\"Yes-Use detail form\",\"No\"))","v":""},null,{"$f":"IF(D14=\"\",\"\",IF(D43>=0.05,\"Yes-Use detail form\",\"No\"))","v":""},null,{"$f":"IF(F14=\"\",\"\",IF(F43>=0.05,\"Yes-Use detail form\",\"No\"))","v":""},null,{"$f":"IF(H14=\"\",\"\",IF(H43>=0.05,\"Yes-Use detail form\",\"No\"))","v":""},null,{"$f":"IF(J14=\"\",\"\",IF(J43>=0.05,\"Yes-Use detail form\",\"No\"))","v":""},null,{"$f":"IF(L14=\"\",\"\",IF(L43>=0.05,\"Yes-Use detail form\",\"No\"))","v":""},null,{"$f":"IF(N14=\"\",\"\",IF(N43>=0.05,\"Yes-Use detail form\",\"No\"))","v":""},null,{"$f":"IF(P14=\"\",\"\",IF(P43>=0.05,\"Yes-Use detail form\",\"No\"))","v":""}]
["If detailed reporting is required, enter the type and/or filename of the detailed report provided"]
["Comments or clarifications if necessary:"]
["1. Enter the duration of excess emissions and number of averaging periods recorded as excess emissions, excluding:  "]
["● Monitoring data recorded during periods of unavoidable CMS breakdowns, out-of-control periods, repairs, maintenance periods, calibration checks, and zero (low-level) and high level adjustments [§63.864(h)]"]
["● Monitoring data recorded during periods when spent liquor solids (for recovery furnaces) or lime mud (for kilns) is not fired. [§63.864(k)(1), (k)(2)]"]
["2. Excludes periods of startup/shutdown for scrubber pressure drop."]
["3. If the total duration of excess emissions is 1% or greater of the total operating time, or the total CMS downtime is 5% or greater of the total operating time, both the Summary Report and the Excess Emissions "]
["and Continuous Monitoring Systems Performance Report must be submitted for this CMS and process unit. See the orange CMS Performance Detail and Excess Emissions Detail tabs to complete the Excess "]
["Emissions and Continuous Monitoring Systems Performance Report. [§63.867(c)(1) and (3)]"]
["4. Count: Enter the number of averaging periods recorded as excess emissions during the semiannual reporting period. No more than one exceedance will be attributed in any given 24-hour period as specified in §63.864(k)(3); "]
["thus, you are only required to enter one 3-hour average exceedance for a given 24-hour period."]
["Note: It is possible that the duration hours reported may exceed the hours associated with the count of averaging periods due the provision in §63.864(k)(3). "]

{"sheet":"COMS10","index":25,"n_rows":58,"n_cols":9,"rows_kept":58,"hidden":true}
["Summary Report – Gaseous and Opacity Excess Emissions and Continuous Monitoring System Performance"]
["Continuous Opacity Monitoring Systems and ESP Parameter Monitoring -- 40 CFR Part 63, Subpart MM"]
[{"$nulls":3},"Tab Name:",{"$f":"MID(CELL(\"filename\",A1),FIND(\"]\",CELL(\"filename\",A1))+1,255)","v":"COMS10"}]
["Company and Site Name",{"$f":"Facility_Info_upload!$C$24&\"--\"&Facility_Info_upload!$D$24","v":"0--0"}]
["Reporting period dates (beginning date, ending date)",{"$f":"CONCATENATE(TEXT(Facility_Info!$B$28,\"mm/dd/yyyy\"),\" - \",TEXT(Facility_Info!$B$29,\"mm/dd/yyyy\"))","v":"01/00/1900 - 01/00/1900"}]
["Process Unit ID",{"$f":"IF(Unit_Info!$C33=\"\",\"\",Unit_Info!$C33)","v":""}]
["Process Unit Type",{"$f":"IF(Unit_Info!$D33=\"\",\"\",Unit_Info!$D33)","v":""}]
["Process Unit Description",{"$f":"IF(Unit_Info!$F33=\"\",\"\",Unit_Info!$F33)","v":""}]
["Air Pollution Control Device Type",{"$f":"IF(Unit_Info!$I33=\"\",\"\",Unit_Info!$I33)","v":""}]
["Total Source Operating Time* (hours)"]
["*Includes all process unit operating time during the reporting period including startup/shutdown, malfunction, and all times when CMS are inoperative or producing invalid readings."]
["Emission Data Summary -- Opacity [§63.867(c)(1)(iv) and (vii)]"]
["Index Number",{"$f":"IF(B14=\"\",\"\",MAX(COMS1!B13:H13,COMS2!B13:H13,COMS3!B13:H13,COMS4!B13:H13,COMS5!B13:H13,COMS6!B13:H13,COMS7!B13:H13,COMS8!B13:H13,COMS9!B13:H13)+1)","v":""},null,{"$f":"IF(D14=\"\",\"\",B13+1)","v":""},null,{"$f":"IF(F14=\"\",\"\",MAX(B13:D13)+1)","v":""},null,{"$f":"IF(H14=\"\",\"\",MAX(B13:F13)+1)","v":""}]
["Process Unit Emission Point"]
["Operating parameter"]
["Opacity limit, %"]
["Mark with an \"X\" if no excess emissions or exceedances of a parameter have occurred during the reporting period. [§63.10(e)(3)(v)]"]
["Mark with an \"X\" if the CMS has not been inoperative, out of control, repaired, or adjusted during the reporting period. [§63.10(e)(3)(v)]"]
["Mark with an \"X\" if the AVC was operated properly during the reporting period. [§63.8641(e)(1)]"]
[null,"Duration","Count","Duration","Count","Duration","Count","Duration","Count"]
["1. Duration of excess emissions in reporting period due to:1","Minutes","6-min averages","Minutes","6-min averages","Minutes","6-min averages","Minutes","6-min averages"]
["a. Startup/Shutdown"]
["b. Control Equipment Problems"]
["c. Process Problems"]
["d. Other known causes"]
["e. Unknown causes"]
["2. Total duration of excess emissions",{"$f":"IF(B14=\"\",\"\",SUM(B22:B26))","v":""},{"$f":"IF(B14=\"\",\"\",SUM(C22:C26)-IF(B15=\"scrubber pressure drop\",C22,0))","v":""},{"$f":"IF(D14=\"\",\"\",SUM(D22:D26))","v":""},{"$f":"IF(D14=\"\",\"\",SUM(E22:E26)-IF(D15=\"scrubber pressure drop\",E22,0))","v":""},{"$f":"IF(F14=\"\",\"\",SUM(F22:F26))","v":""},{"$f":"IF(F14=\"\",\"\",SUM(G22:G26)-IF(F15=\"scrubber pressure drop\",G22,0))","v":""},{"$f":"IF(H14=\"\",\"\",SUM(H22:H26))","v":""},{"$f":"IF(H14=\"\",\"\",SUM(I22:I26)-IF(H15=\"scrubber pressure drop\",I22,0))","v":""}]
["3. (Total duration of excess emissions) / (Total Source Operating Time) x (100) %2",{"$f":"IF(B14=\"\",\"\",IF($B$10>0,B27/($B$10*60),0))","v":""},{"$f":"IF(B14=\"\",\"\",IF($B$10>0,(C27*6)/($B$10*60),0))","v":""},{"$f":"IF(D14=\"\",\"\",IF($B$10>0,D27/($B$10*60),0))","v":""},{"$f":"IF(D14=\"\",\"\",IF($B$10>0,(E27*6)/($B$10*60),0))","v":""},{"$f":"IF(F14=\"\",\"\",IF($B$10>0,F27/($B$10*60),0))","v":""},{"$f":"IF(F14=\"\",\"\",IF($B$10>0,(G27*6)/($B$10*60),0))","v":""},{"$f":"IF(H14=\"\",\"\",IF($B$10>0,H27/($B$10*60),0))","v":""},{"$f":"IF(H14=\"\",\"\",IF($B$10>0,(I27*6)/($B$10*60),0))","v":""}]
["Do excess emissions equal or exceed 1% of operating time?2",{"$f":"IF(B14=\"\",\"\",IF(B28>=0.01,\"Yes-Use detail form\",\"No\"))","v":""},null,{"$f":"IF(D14=\"\",\"\",IF(D28>=0.01,\"Yes-Use detail form\",\"No\"))","v":""},null,{"$f":"IF(F14=\"\",\"\",IF(F28>=0.01,\"Yes-Use detail form\",\"No\"))","v":""},null,{"$f":"IF(H14=\"\",\"\",IF(H28>=0.01,\"Yes-Use detail form\",\"No\"))","v":""}]
["Is the opacity violation level triggered?\nViolation level (count) = 2% or more of 6-min averages for recovery furnaces, or 3% or more of 6-min averages for lime kilns  [§63.864(k)(2)(i)-(ii)]",null,{"$f":"IF(B14=\"\",\"\",IF(C28>=VLOOKUP($B$15,Violations!$A$21:$D$22,4,FALSE),\"Yes-Use detail and failure forms\",\"No\"))","v":""},null,{"$f":"IF(D14=\"\",\"\",IF(E28>=VLOOKUP($B$15,Violations!$A$21:$D$22,4,FALSE),\"Yes-Use detail and failure forms\",\"No\"))","v":""},null,{"$f":"IF(F14=\"\",\"\",IF(G28>=VLOOKUP($B$15,Violations!$A$21:$D$22,4,FALSE),\"Yes-Use detail and failure forms\",\"No\"))","v":""},null,{"$f":"IF(H14=\"\",\"\",IF(I28>=VLOOKUP($B$15,Violations!$A$21:$D$22,4,FALSE),\"Yes-Use detail and failure forms\",\"No\"))","v":""}]
[null,null,"Count",null,"Count",null,"Count",null,"Count"]
["4. Count of exceedances of corrective action level in reporting period due to:1",null,"10 consecutive 6-min averages",null,"10 consecutive 6-min averages",null,"10 consecutive 6-min averages",null,"10 consecutive 6-min averages"]
["a. Startup/Shutdown"]
["b. Control Equipment Problems"]
["c. Process Problems"]
["d. Other known causes"]
["e. Unknown causes"]
["5. Total count of exceedances of corrective action level",null,{"$f":"IF(B14=\"\",\"\",SUM(C33:C37)-IF(B15=\"scrubber pressure drop\",C33,0))","v":""},null,{"$f":"IF(D14=\"\",\"\",SUM(E33:E37)-IF(D15=\"scrubber pressure drop\",E33,0))","v":""},null,{"$f":"IF(F14=\"\",\"\",SUM(G33:G37)-IF(F15=\"scrubber pressure drop\",G33,0))","v":""},null,{"$f":"IF(H14=\"\",\"\",SUM(I33:I37)-IF(H15=\"scrubber pressure drop\",I33,0))","v":""}]
[" CMS Performance Summary [§63.867(c)(1)(viii)]"]
["Operating parameter",{"$f":"IF(B15=\"\",\"\",B15)","v":""},null,{"$f":"IF(D15=\"\",\"\",D15)","v":""},null,{"$f":"IF(F15=\"\",\"\",F15)","v":""},null,{"$f":"IF(H15=\"\",\"\",H15)","v":""}]
[null,"Duration",null,"Duration",null,"Duration",null,"Duration"]
["1. CMS downtime in reporting period due to:",{"$f":"B21","v":"Minutes"},null,{"$f":"D21","v":"Minutes"},null,{"$f":"F21","v":"Minutes"},null,{"$f":"H21","v":"Minutes"}]
["a. Monitoring equipment malfunctions"]
["b. Non-monitor equipment malfunctions"]
["c. Quality assurance/quality control calibration"]
["d. Other known causes"]
["e. Unknown causes"]
["2. Total CMS downtime",{"$f":"IF(B14=\"\",\"\",SUM(B43:B47))","v":""},null,{"$f":"IF(D14=\"\",\"\",SUM(D43:D47))","v":""},null,{"$f":"IF(F14=\"\",\"\",SUM(F43:F47))","v":""},null,{"$f":"IF(H14=\"\",\"\",SUM(H43:H47))","v":""}]
["3. (Total CMS downtime) / (Total Source Operating Time) x (100) %2",{"$f":"IF(B14=\"\",\"\",IF($B$10>0,B48/($B$10*60),0))","v":""},null,{"$f":"IF(D14=\"\",\"\",IF($B$10>0,D48/($B$10*60),0))","v":""},null,{"$f":"IF(F14=\"\",\"\",IF($B$10>0,F48/($B$10*60),0))","v":""},null,{"$f":"IF(H14=\"\",\"\",IF($B$10>0,H48/($B$10*60),0))","v":""}]
["Is total CMS downtime greater than or equal to 5% of total source operating time?2",{"$f":"IF(B14=\"\",\"\",IF(B49>=0.05,\"Yes-Use detail report\",\"No\"))","v":""},null,{"$f":"IF(D14=\"\",\"\",IF(D49>=0.05,\"Yes-Use detail report\",\"No\"))","v":""},null,{"$f":"IF(F14=\"\",\"\",IF(F49>=0.05,\"Yes-Use detail report\",\"No\"))","v":""},null,{"$f":"IF(H14=\"\",\"\",IF(H49>=0.05,\"Yes-Use detail report\",\"No\"))","v":""}]
["If detailed reporting is required, enter the type and/or filename of the detailed report provided"]
["1. Enter the duration of excess emissions and number of averaging periods recorded as excess emissions, excluding:  "]
["● Monitoring data recorded during periods of unavoidable CMS breakdowns, out-of-control periods, repairs, maintenance periods, calibration checks, and zero (low-level) and high level adjustments [§63.864(h)]"]
["● Monitoring data recorded during periods when spent liquor solids (for recovery furnaces) or lime mud (for kilns) is not fired. [§63.864(k)(1), (k)(2)]"]
["2. If the total duration of excess emissions is 1% or greater of the total operating time, or the total CMS downtime is 5% or greater of the total operating time, both the Summary Report and the Excess Emissions and "]
["Continuous Monitoring Systems Performance Report must be submitted for this CMS and process unit. See the orange CMS Performance Detail and Excess Emissions Detail tabs to complete the Excess Emissions and "]
["Continuous Monitoring Systems Performance Report. [§63.867(c)(1) and (3)]"]
["Count: Enter the number of 6-minute averaging periods recorded as excess emissions during the semiannual reporting period. "]

{"sheet":"CPMS10","index":26,"n_rows":56,"n_cols":27,"rows_kept":56,"hidden":true}
["Summary Report – Gaseous and Opacity Excess Emissions and Continuous Monitoring System Performance"]
["Continuous Parameter Monitoring Systems -- 40 CFR Part 63, Subpart MM"]
[{"$nulls":3},"Tab Name:",{"$f":"MID(CELL(\"filename\",A1),FIND(\"]\",CELL(\"filename\",A1))+1,255)","v":"CPMS10"},{"$nulls":6},"Tab Name:",{"$f":"MID(CELL(\"filename\",I1),FIND(\"]\",CELL(\"filename\",I1))+1,255)","v":"CPMS10"}]
["Company and Site Name",{"$f":"Facility_Info_upload!$C$24&\"--\"&Facility_Info_upload!$D$24","v":"0--0"},{"$nulls":7},{"$f":"Facility_Info_upload!$C$24&\"--\"&Facility_Info_upload!$D$24","v":"0--0"}]
["Reporting period dates (beginning date, ending date)",{"$f":"CONCATENATE(TEXT(Facility_Info!$B$28,\"mm/dd/yyyy\"),\" - \",TEXT(Facility_Info!$B$29,\"mm/dd/yyyy\"))","v":"01/00/1900 - 01/00/1900"},{"$nulls":7},{"$f":"CONCATENATE(TEXT(Facility_Info!$B$28,\"mm/dd/yyyy\"),\" - \",TEXT(Facility_Info!$B$29,\"mm/dd/yyyy\"))","v":"01/00/1900 - 01/00/1900"}]
["Process Unit ID",{"$f":"IF(Unit_Info!$C33=\"\",\"\",Unit_Info!$C33)","v":""},{"$nulls":7},{"$f":"INDEX(Unit_Info!$Z$43:$Z$62,MATCH(CPMS10!$E$3,Unit_Info!$Y$43:$Y$62,0))","v":{"$error":"#N/A"}}]
["Process Unit Type",{"$f":"IF(Unit_Info!$D33=\"\",\"\",Unit_Info!$D33)","v":""},{"$nulls":7},{"$f":"INDEX(Unit_Info!$AA$43:$AA$62,MATCH(CPMS10!$E$3,Unit_Info!$Y$43:$Y$62,0))","v":{"$error":"#N/A"}}]
["Process Unit Description",{"$f":"IF(Unit_Info!$F33=\"\",\"\",Unit_Info!$F33)","v":""},{"$nulls":7},{"$f":"INDEX(Unit_Info!$AB$43:$AB$62,MATCH(CPMS10!$E$3,Unit_Info!$Y$43:$Y$62,0))","v":{"$error":"#N/A"}}]
["Air Pollution Control Device Type",{"$f":"IF(Unit_Info!$I33=\"\",\"\",Unit_Info!$I33)","v":""},{"$nulls":7},{"$f":"INDEX(Unit_Info!$AC$43:$AC$62,MATCH(CPMS10!$E$3,Unit_Info!$Y$43:$Y$62,0))","v":{"$error":"#N/A"}}]
["Total Source Operating Time* (hours)",{"$nulls":8},{"$f":"+B10","v":0}]
["*Includes all process unit operating time during the reporting period including startup/shutdown, malfunction, and all times when CMS are inoperative or producing invalid readings."]
["Emission Data Summary [§63.867(c)(1)(iv) and (vii)]"]
["Index Number",{"$f":"IF(B14=\"\",\"\",MAX(CPMS1!B13:H13,CPMS2!B13:H13,CPMS3!B13:H13,CPMS4!B13:H13,CPMS5!B13:H13,CPMS6!B13:H13,CPMS7!B13:H13,CPMS8!B13:H13,CPMS9!B13:H13)+1)","v":""},null,{"$f":"IF(D14=\"\",\"\",B13+1)","v":""},null,{"$f":"IF(F14=\"\",\"\",MAX(B13:D13)+1)","v":""},null,{"$f":"IF(H14=\"\",\"\",MAX(B13:F13)+1)","v":""},null,{"$f":"IF(J14=\"\",\"\",MAX(D13:H13)+1)","v":""},null,{"$f":"IF(L14=\"\",\"\",MAX(F13:J13)+1)","v":""},null,{"$f":"IF(N14=\"\",\"\",MAX(H13:L13)+1)","v":""},null,{"$f":"IF(P14=\"\",\"\",MAX(J13:N13)+1)","v":""}]
["Operating parameter"]
["Averaging period"]
["Operating parameter limit (numerical value)",{"$nulls":20},"Combine for EE","Duration","Count"]
["   Operating limit units (text)",{"$nulls":20},{"$f":"B14","v":0},{"$f":"B27","v":""},{"$f":"C27","v":""}]
["Mark with an \"X\" if no excess emissions or exceedances of a parameter have occurred during the reporting period. [§63.10(e)(3)(v)]",{"$nulls":20},{"$f":"D14","v":0},{"$f":"D27","v":""},{"$f":"E27","v":""}]
["Mark with an \"X\" if the CMS has not been inoperative, out of control, repaired, or adjusted during the reporting period. [§63.10(e)(3)(v)]",{"$nulls":20},{"$f":"F14","v":0},{"$f":"F27","v":""},{"$f":"G27","v":""}]
[null,"Duration","Count","Duration","Count","Duration","Count","Duration","Count","Duration","Count","Duration","Count","Duration","Count","Duration","Count",{"$nulls":4},{"$f":"J14","v":0},{"$f":"J27","v":""},{"$f":"K27","v":""}]
["1. Duration of excess emissions in reporting period due to:1","Hours","No. of Averages4","Hours","No. of Averages4","Hours","No. of Averages4","Hours","No. of Averages4","Hours","No. of Averages4","Hours","No. of Averages4","Hours","No. of Averages4","Hours","No. of Averages4",{"$nulls":4},{"$f":"L14","v":0},{"$f":"L27","v":""},{"$f":"M27","v":""}]
["a. Startup/Shutdown",{"$nulls":20},{"$f":"N14","v":0},{"$f":"N27","v":""},{"$f":"O27","v":""}]
["b. Control Equipment Problems",{"$nulls":20},{"$f":"P14","v":0},{"$f":"P27","v":""},{"$f":"Q27","v":""}]
["c. Process Problems",{"$nulls":22},{"$f":"IF(OR(B9=\"Wet Scrubber\", B9=\"ESP and wet scrubber\"),$C$31,\"0\")","v":"0"}]
["d. Other known causes",{"$nulls":20},"Scrubber",{"$f":"SUMIFS(W17:W23,$V$17:$V$23,\"Scrubber liquid flow\")+SUMIFS(W17:W23,$V$17:$V$23,\"SDT scrubber fan amperage\")+SUMIFS(W17:W23,$V$17:$V$23,\"Scrubber pressure drop\")","v":0},{"$f":"SUMIFS(X17:X23,$V$17:$V$23,\"Scrubber liquid flow\")+SUMIFS(X17:X23,$V$17:$V$23,\"SDT scrubber fan amperage\")+SUMIFS(X17:X23,$V$17:$V$23,\"Scrubber pressure drop\")-X24","v":0},null,{"$f":"IF(W25/$B$10>0.01,\"Yes-Use detail forms\",\"No\")","v":{"$error":"#DIV/0!"}},{"$f":"IF(X25>5,\"Yes-Use detail and failure forms\",\"No\")","v":"No"}]
["e. Unknown causes",{"$nulls":20},"Other",{"$f":"SUMIFS(W17:W23,$V$17:$V$23,\"Alternative parameter (3-hr)\")","v":0},{"$f":"SUMIFS(X17:X23,$V$17:$V$23,\"Alternative parameter (3-hr)\")-X24","v":0},null,{"$f":"IF(W26/$B$10>0.01,\"Yes-Use detail forms\",\"No\")","v":{"$error":"#DIV/0!"}},{"$f":"IF(X26>5,\"Yes-Use detail and failure forms\",\"No\")","v":"No"}]
["2. Total duration of excess emissions2",{"$f":"IF(B14=\"\",\"\",SUM(B22:B26)-IF(B14=\"scrubber pressure drop\",B22,0))","v":""},{"$f":"IF(B14=\"\",\"\",SUM(C22:C26)-IF(B14=\"scrubber pressure drop\",C22,0))","v":""},{"$f":"IF(D14=\"\",\"\",SUM(D22:D26)-IF(D14=\"scrubber pressure drop\",D22,0))","v":""},{"$f":"IF(D14=\"\",\"\",SUM(E22:E26)-IF(D14=\"scrubber pressure drop\",E22,0))","v":""},{"$f":"IF(F14=\"\",\"\",SUM(F22:F26)-IF(F14=\"scrubber pressure drop\",F22,0))","v":""},{"$f":"IF(F14=\"\",\"\",SUM(G22:G26)-IF(F14=\"scrubber pressure drop\",G22,0))","v":""},{"$f":"IF(H14=\"\",\"\",SUM(H22:H26)-IF(H14=\"scrubber pressure drop\",H22,0))","v":""},{"$f":"IF(H14=\"\",\"\",SUM(I22:I26)-IF(H14=\"scrubber pressure drop\",I22,0))","v":""},{"$f":"IF(J14=\"\",\"\",SUM(J22:J26)-IF(J14=\"scrubber pressure drop\",J22,0))","v":""},{"$f":"IF(J14=\"\",\"\",SUM(K22:K26)-IF(J14=\"scrubber pressure drop\",K22,0))","v":""},{"$f":"IF(L14=\"\",\"\",SUM(L22:L26)-IF(L14=\"scrubber pressure drop\",L22,0))","v":""},{"$f":"IF(L14=\"\",\"\",SUM(M22:M26)-IF(L14=\"scrubber pressure drop\",M22,0))","v":""},{"$f":"IF(N14=\"\",\"\",SUM(N22:N26)-IF(N14=\"scrubber pressure drop\",N22,0))","v":""},{"$f":"IF(N14=\"\",\"\",SUM(O22:O26)-IF(N14=\"scrubber pressure drop\",O22,0))","v":""},{"$f":"IF(P14=\"\",\"\",SUM(P22:P26)-IF(P14=\"scrubber pressure drop\",P22,0))","v":""},{"$f":"IF(P14=\"\",\"\",SUM(Q22:Q26)-IF(P14=\"scrubber pressure drop\",Q22,0))","v":""}]
["3. (Total duration of excess emissions) / (Total Source Operating Time) x (100) %3",{"$f":"IF(B14=\"\",\"\",IF($B$10>0,B27/$B$10,0))","v":""},null,{"$f":"IF(D14=\"\",\"\",IF($B$10>0,D27/$B$10,0))","v":""},null,{"$f":"IF(F14=\"\",\"\",IF($B$10>0,F27/$B$10,0))","v":""},null,{"$f":"IF(H14=\"\",\"\",IF($B$10>0,H27/$B$10,0))","v":""},null,{"$f":"IF(J14=\"\",\"\",IF($B$10>0,J27/$B$10,0))","v":""},null,{"$f":"IF(L14=\"\",\"\",IF($B$10>0,L27/$B$10,0))","v":""},null,{"$f":"IF(N14=\"\",\"\",IF($B$10>0,N27/$B$10,0))","v":""},null,{"$f":"IF(P14=\"\",\"\",IF($B$10>0,P27/$B$10,0))","v":""}]
["Do excess emissions in item 3 meet or exceed 1% of operating time?",{"$f":"IF(B14=\"\",\"\",IF(B28>=0.01,\"Yes-Use detail form\",\"No\"))","v":""},null,{"$f":"IF(D14=\"\",\"\",IF(D28>=0.01,\"Yes-Use detail form\",\"No\"))","v":""},null,{"$f":"IF(F14=\"\",\"\",IF(F28>=0.01,\"Yes-Use detail form\",\"No\"))","v":""},null,{"$f":"IF(H14=\"\",\"\",IF(H28>=0.01,\"Yes-Use detail form\",\"No\"))","v":""},null,{"$f":"IF(J14=\"\",\"\",IF(J28>=0.01,\"Yes-Use detail form\",\"No\"))","v":""},null,{"$f":"IF(L14=\"\",\"\",IF(L28>=0.01,\"Yes-Use detail form\",\"No\"))","v":""},null,{"$f":"IF(N14=\"\",\"\",IF(N28>=0.01,\"Yes-Use detail form\",\"No\"))","v":""},null,{"$f":"IF(P14=\"\",\"\",IF(P28>=0.01,\"Yes-Use detail form\",\"No\"))","v":""}]
["Is the violation level triggered in item 2 above?  \nViolation level: Six or more 3-hour average parameter values or any 3-hour average RTO temperature per semiannual period.",null,{"$f":"IF(B14=\"\",\"\",IF(OR(B14=\"RTO temperature (1-hr)\",B14=\"Bypass of Control Device\",B14=\"Automatic Voltage Control\"),\"Not Applicable\",IF(C27<VLOOKUP(B14,Violations!$A$6:$D$10,4,FALSE),\"No\",\"Yes\")))","v":""},null,{"$f":"IF(D14=\"\",\"\",IF(OR(D14=\"RTO temperature (1-hr)\",D14=\"Bypass of Control Device\",D14=\"Automatic Voltage Control\"),\"Not Applicable\",IF(E27<VLOOKUP(D14,Violations!$A$6:$D$10,4,FALSE),\"No\",\"Yes\")))","v":""},null,{"$f":"IF(F14=\"\",\"\",IF(OR(F14=\"RTO temperature (1-hr)\",F14=\"Bypass of Control Device\",F14=\"Automatic Voltage Control\"),\"Not Applicable\",IF(G27<VLOOKUP(F14,Violations!$A$6:$D$10,4,FALSE),\"No\",\"Yes\")))","v":""},null,{"$f":"IF(H14=\"\",\"\",IF(OR(H14=\"RTO temperature (1-hr)\",H14=\"Bypass of Control Device\",H14=\"Automatic Voltage Control\"),\"Not Applicable\",IF(I27<VLOOKUP(H14,Violations!$A$6:$D$10,4,FALSE),\"No\",\"Yes\")))","v":""},null,{"$f":"IF(J14=\"\",\"\",IF(OR(J14=\"RTO temperature (1-hr)\",J14=\"Bypass of Control Device\",J14=\"Automatic Voltage Control\"),\"Not Applicable\",IF(K27<VLOOKUP(J14,Violations!$A$6:$D$10,4,FALSE),\"No\",\"Yes\")))","v":""},null,{"$f":"IF(L14=\"\",\"\",IF(OR(L14=\"RTO temperature (1-hr)\",L14=\"Bypass of Control Device\",L14=\"Automatic Voltage Control\"),\"Not Applicable\",IF(M27<VLOOKUP(L14,Violations!$A$6:$D$10,4,FALSE),\"No\",\"Yes\")))","v":""},null,{"$f":"IF(N14=\"\",\"\",IF(OR(N14=\"RTO temperature (1-hr)\",N14=\"Bypass of Control Device\",N14=\"Automatic Voltage Control\"),\"Not Applicable\",IF(O27<VLOOKUP(N14,Violations!$A$6:$D$10,4,FALSE),\"No\",\"Yes\")))","v":""},null,{"$f":"IF(P14=\"\",\"\",IF(OR(P14=\"RTO temperature (1-hr)\",P14=\"Bypass of Control Device\",P14=\"Automatic Voltage Control\"),\"Not Applicable\",IF(Q27<VLOOKUP(P14,Violations!$A$6:$D$10,4,FALSE),\"No\",\"Yes\")))","v":""}]
["Do any of the Count of No. of Averages in item 2 above occur concurrently? If so, how many?"]
["Do combined excess emissions in item 3 and/or combined counts in item 2 result in reporting requirements? (For scrubbers and other only)",{"$f":"IF(B14=\"\",\"\",IF(B9=\"Wet Scrubber\",Z25,IF(B9=\"ESP and Wet Scrubber\",Z25,IF(B14=\"Alternative parameter (3-hr)\",Z26,\"NA\"))))","v":""},{"$f":"IF(B14=\"\",\"\",IF(B9=\"Wet Scrubber\",AA25,IF(B9=\"ESP and Wet Scrubber\",AA25,IF(B14=\"Alternative parameter (3-hr)\",AA26,\"NA\"))))","v":""}]
["CMS Performance Summary [§63.867(c)(1)(viii)]"]
["Operating parameter",{"$f":"IF(B14=\"\",\"\",B14)","v":""},null,{"$f":"IF(D14=\"\",\"\",D14)","v":""},null,{"$f":"IF(F14=\"\",\"\",F14)","v":""},null,{"$f":"IF(H14=\"\",\"\",H14)","v":""},null,{"$f":"IF(J14=\"\",\"\",J14)","v":""},null,{"$f":"IF(L14=\"\",\"\",L14)","v":""},null,{"$f":"IF(N14=\"\",\"\",N14)","v":""},null,{"$f":"IF(P14=\"\",\"\",P14)","v":""}]
[null,"Duration",null,"Duration",null,"Duration",null,"Duration",null,"Duration",null,"Duration",null,"Duration",null,"Duration"]
["1. CMS downtime in reporting period due to:","Hours",null,"Hours",null,"Hours",null,"Hours",null,"Hours",null,"Hours",null,"Hours",null,"Hours"]
["a. Monitoring equipment malfunctions"]
["b. Non-monitor equipment malfunctions"]
["c. Quality assurance/quality control calibration"]
["d. Other known causes"]
["e. Unknown causes"]
["2. Total CMS downtime",{"$f":"IF(B14=\"\",\"\",SUM(B37:B41))","v":""},null,{"$f":"IF(D14=\"\",\"\",SUM(D37:D41))","v":""},null,{"$f":"IF(F14=\"\",\"\",SUM(F37:F41))","v":""},null,{"$f":"IF(H14=\"\",\"\",SUM(H37:H41))","v":""},null,{"$f":"IF(J14=\"\",\"\",SUM(J37:J41))","v":""},null,{"$f":"IF(L14=\"\",\"\",SUM(L37:L41))","v":""},null,{"$f":"IF(N14=\"\",\"\",SUM(N37:N41))","v":""},null,{"$f":"IF(P14=\"\",\"\",SUM(P37:P41))","v":""}]
["3. (Total CMS downtime) / (Total Source Operating Time) x (100) %3",{"$f":"IF(B14=\"\",\"\",IF($B$10>0,B42/$B$10,0))","v":""},null,{"$f":"IF(D14=\"\",\"\",IF($B$10>0,D42/$B$10,0))","v":""},null,{"$f":"IF(F14=\"\",\"\",IF($B$10>0,F42/$B$10,0))","v":""},null,{"$f":"IF(H14=\"\",\"\",IF($B$10>0,H42/$B$10,0))","v":""},null,{"$f":"IF(J14=\"\",\"\",IF($B$10>0,J42/$B$10,0))","v":""},null,{"$f":"IF(L14=\"\",\"\",IF($B$10>0,L42/$B$10,0))","v":""},null,{"$f":"IF(N14=\"\",\"\",IF($B$10>0,N42/$B$10,0))","v":""},null,{"$f":"IF(P14=\"\",\"\",IF($B$10>0,P42/$B$10,0))","v":""}]
["Is total CMS downtime greater than or equal to 5% of total source operating time?",{"$f":"IF(B14=\"\",\"\",IF(B43>=0.05,\"Yes-Use detail form\",\"No\"))","v":""},null,{"$f":"IF(D14=\"\",\"\",IF(D43>=0.05,\"Yes-Use detail form\",\"No\"))","v":""},null,{"$f":"IF(F14=\"\",\"\",IF(F43>=0.05,\"Yes-Use detail form\",\"No\"))","v":""},null,{"$f":"IF(H14=\"\",\"\",IF(H43>=0.05,\"Yes-Use detail form\",\"No\"))","v":""},null,{"$f":"IF(J14=\"\",\"\",IF(J43>=0.05,\"Yes-Use detail form\",\"No\"))","v":""},null,{"$f":"IF(L14=\"\",\"\",IF(L43>=0.05,\"Yes-Use detail form\",\"No\"))","v":""},null,{"$f":"IF(N14=\"\",\"\",IF(N43>=0.05,\"Yes-Use detail form\",\"No\"))","v":""},null,{"$f":"IF(P14=\"\",\"\",IF(P43>=0.05,\"Yes-Use detail form\",\"No\"))","v":""}]
["If detailed reporting is required, enter the type and/or filename of the detailed report provided"]
["Comments or clarifications if necessary:"]
["1. Enter the duration of excess emissions and number of averaging periods recorded as excess emissions, excluding:  "]
["● Monitoring data recorded during periods of unavoidable CMS breakdowns, out-of-control periods, repairs, maintenance periods, calibration checks, and zero (low-level) and high level adjustments [§63.864(h)]"]
["● Monitoring data recorded during periods when spent liquor solids (for recovery furnaces) or lime mud (for kilns) is not fired. [§63.864(k)(1), (k)(2)]"]
["2. Excludes periods of startup/shutdown for scrubber pressure drop."]
["3. If the total duration of excess emissions is 1% or greater of the total operating time, or the total CMS downtime is 5% or greater of the total operating time, both the Summary Report and the Excess Emissions "]
["and Continuous Monitoring Systems Performance Report must be submitted for this CMS and process unit. See the orange CMS Performance Detail and Excess Emissions Detail tabs to complete the Excess "]
["Emissions and Continuous Monitoring Systems Performance Report. [§63.867(c)(1) and (3)]"]
["4. Count: Enter the number of averaging periods recorded as excess emissions during the semiannual reporting period. No more than one exceedance will be attributed in any given 24-hour period as specified in §63.864(k)(3); "]
["thus, you are only required to enter one 3-hour average exceedance for a given 24-hour period."]
["Note: It is possible that the duration hours reported may exceed the hours associated with the count of averaging periods due the provision in §63.864(k)(3). "]

{"sheet":"CMS_Process_Control_Changes","index":27,"n_rows":24,"n_cols":3,"rows_kept":24}
[null,null,{"$f":"Welcome!B6","v":"OMB No.: 2060-0377 Form 5900-520 For further Paperwork Reduction Act information see: \nhttps://www.epa.gov/electronic-reporting-air-emissions/paperwork-reduction-act-pra-cedri-and-ert"}]
[null,null,{"$f":"+Welcome!$B$2","v":"63.860(c) Excess Emissions Report"}]
[null,null,{"$f":"+Welcome!$B$3","v":"63.867(d)(2)"}]
[null,null,{"$f":"+Welcome!$B$4","v":"DRAFT"}]
[null,null,{"$f":"+Welcome!$B$5","v":"2021-07-16"}]
[]
[null,null,"CMS, Process, and Control Changes"]
[null,null,"Description of changes to CMS, processes, or controls since last reporting period."]
[]
[null,"Facility Record No. *","Describe any CMS, process, or control changes which have occurred since the last reporting period. [§63.867(c)(1)(ix)]"]
[null,"XML Tag: "]
[]
[null,"RecordId","CmsChangesDesc"]
{"$rows_empty":10}
[null,{"$f":"IF(C24=\"\",\"\",Facility_Info_upload!B24)","v":""}]

{"sheet":"Certification","index":28,"n_rows":25,"n_cols":4,"rows_kept":25}
[null,"DO NOT REMOVE OR EDIT INFORMATION IN ROWS 1 THROUGH 5\nFOR INTERNAL USE ONLY"]
[null,"Template Name",{"$f":"Welcome!B2","v":"63.860(c) Excess Emissions Report"}]
[null,"CitationID",{"$f":"+Welcome!B3","v":"63.867(d)(2)"}]
[null,"Template Version",{"$f":"+Welcome!B4","v":"DRAFT"}]
[null,"Last Updated Date",{"$f":"+Welcome!B5","v":"2021-07-16"}]
[null,null,"Excess Emissions and Continuous Monitoring System Performance Report"]
[null,null,"Certification"]
[null,null,"Complete this form when you have completed the semiannual compliance report."]
[]
[null,null,"* Required Field"]
[]
[null,"Field:","Is the statement \"There were no excess emissions or exceedances of a parameter during the reporting period.\" applicable? (§63.10(e)(3)(v))\n(Select from dropdown)","Is the statement \"During the reporting period, no CMS has been inoperative, out of control, repaired, or adjusted.\" applicable? (§63.10(e)(3)(v))\n(Select from dropdown)"]
[null,"RecordId","DeviationFlag","MonitoringFlag"]
{"$rows_empty":10}
[null,1]
[null," "]

{"sheet":"CMS_Detail (_____)","index":29,"n_rows":123,"n_cols":10,"rows_kept":123}
[{"$f":"Welcome!B6","v":"OMB No.: 2060-0377 Form 5900-520 For further Paperwork Reduction Act information see: \nhttps://www.epa.gov/electronic-reporting-air-emissions/paperwork-reduction-act-pra-cedri-and-ert"}]
["Excess Emissions and Continuous Monitoring System Performance Report"]
["CMS Performance Detail Report -- 40 CFR Part 63, Subpart MM"]
["Submit this CMS Detail Report (and the corresponding Excess Emissions Detail Report)* with your Summary Report when [§63.867(c)(3)]:"]
["● Total CMS downtime is 5 or more percent of the total source operating time during the reporting period, or "]
["● The CMS shows excess emissions for 1 or more percent of the operating time in the reporting period, or"]
["● There was a violation according to 40 CFR 63.864(k)(2) of subpart MM. "]
["  *You may upload the required information into CEDRI using a separate file or alternative file format that differs from this tab if desired."]
[]
["Company and Site Name",{"$nulls":5},{"$f":"Facility_Info_upload!$C$24&\"--\"&Facility_Info_upload!$D$24","v":"0--0"}]
["Reporting period dates (beginning date, ending date)",{"$nulls":5},{"$f":"CONCATENATE(TEXT(Facility_Info!$B$28,\"mm/dd/yyyy\"),\" - \",TEXT(Facility_Info!$B$29,\"mm/dd/yyyy\"))","v":"01/00/1900 - 01/00/1900"}]
["Process Unit ID"]
["Process Unit Type"]
["Process Unit Description",{"$nulls":5},{"$f":"IFERROR(VLOOKUP($G$12,Unit_Info!$C$24:$F$33,3,FALSE),\"\")","v":""}]
["Air Pollution Control Device Type"]
["Process Unit Emission Point"]
["Operating parameter"]
[]
["CMS Details:"]
["[§63.867(c)(3)(i)-(ii)]",{"$nulls":6},"[§63.867(c)(3)(iv)]","[§63.867(c)(3)(v)-(vi)]","[§63.867(c)(1)(viii)]"]
["Start date*","Start time","End date*","End time","Duration (hours)","Operating Parameter Monitored","CMS inoperative or out of control","Nature and Cause of the event","Corrective action, preventative measure, CMS repair, or CMS adjustment","Type of CMS inoperative or out of control period"]
{"$rows_empty":100}
[null,null,"Total duration:",null,null,{"$f":"SUM(E22:E121)","v":{"v":0,"d":"0.0"}}]
["*Date and time fields can be combined if necessary (e.g., if combined in facility records).",{"$nulls":7},"Insert or hide rows in this table as needed."]

{"sheet":"EE_Detail (_____)","index":30,"n_rows":60,"n_cols":9,"rows_kept":60}
[{"$f":"Welcome!B6","v":"OMB No.: 2060-0377 Form 5900-520 For further Paperwork Reduction Act information see: \nhttps://www.epa.gov/electronic-reporting-air-emissions/paperwork-reduction-act-pra-cedri-and-ert"}]
["Excess Emissions and Continuous Monitoring System Performance Report"]
["Excess Emissions Detail Report -- 40 CFR Part 63, Subpart MM"]
["Submit this Excess Emissions Detail Report (and the corresponding CMS Performance Detail Report)* with your Summary Report when [§63.867(c)(3)]:"]
["● Total CMS downtime is 5 or more percent of the total source operating time during the reporting period, or "]
["● The CMS shows excess emissions for 1 or more percent of the operating time in the reporting period, or"]
["● There was a violation according to 40 CFR 63.864(k)(2) of subpart MM. "]
["Reporting monitoring exceedances does not constitute a violation of the applicable standard unless the criteria in §63.864(k)(2) and (k)(3) are reached."]
["  *You may upload the required information into CEDRI using a separate file or alternative file format that differs from this tab if desired."]
[]
["Company and Site Name",null,{"$f":"Facility_Info_upload!$C$24&\"--\"&Facility_Info_upload!$D$24","v":"0--0"}]
["Reporting period dates",null,{"$f":"CONCATENATE(TEXT(Facility_Info!$B$28,\"mm/dd/yyyy\"),\" - \",TEXT(Facility_Info!$B$29,\"mm/dd/yyyy\"))","v":"01/00/1900 - 01/00/1900"}]
["Process Unit ID"]
["Process Unit Type"]
["Process Unit Description",null,{"$f":"IFERROR(VLOOKUP($C$13,Unit_Info!$C$24:$F$33,3,FALSE),\"\")","v":""}]
["APCD Type"]
["Process Unit Emission Point"]
["Operating parameter"]
[]
["Report excess emissions in the table below, including periods when opacity limits are exceeded or times when operating parameter limits are not met. Insert or hide rows in this table as needed."]
["§63.867(c)(3)(iii)(A)(5), (C)(3), (D)(3), and (E)(4); (c)(3)(iv); and (c)(3)(v)"]
["Start date/time","End date/time","Excess emission duration","Duration units","Operating Parameter","Nature and cause of the exceeedance","Corrective action or preventative measure","Type of exceedance","Excluded data1"]
{"$rows_empty":31}
[null,"Total duration:",{"$f":"SUM(C23:C53)","v":0}]
[null,"Total duration minus excluded data1",{"$f":"SUMIF(I23:I53,\"\",C23:C53)","v":0}]
[]
["1. Excluded data are not required to be reported.  The ability to flag data as excluded is for convenience in the case where a system exports all data including excluded data. "]
["Data from the following periods are excluded from data averages:"]
["● Monitoring data recorded during periods of unavoidable CMS breakdowns, out-of-control periods, repairs, maintenance periods, calibration checks, and zero (low-level) and high level adjustments [§63.864(h)]"]
["● Monitoring data recorded during periods when spent liquor solids or lime mud is not fed (as applicable). [§63.864(k)(1), (k)(2)]"]

{"sheet":"Failures (_____)","index":31,"n_rows":56,"n_cols":12,"rows_kept":56}
[{"$f":"Welcome!B6","v":"OMB No.: 2060-0377 Form 5900-520 For further Paperwork Reduction Act information see: \nhttps://www.epa.gov/electronic-reporting-air-emissions/paperwork-reduction-act-pra-cedri-and-ert"}]
["Excess Emissions and Continuous Monitoring System Performance Report"]
["Report of Failure to Meet Standards -- 40 CFR Part 63, Subpart MM"]
["Report failures to meet applicable standards in the table below.* [§63.867(c)(4)]"]
["Failures include violations of the emission limits or operating limits under subpart MM."]
["  *You may upload the required information into CEDRI using a separate file or alternative file format that differs from this tab if desired."]
["Company and Site Name",null,{"$f":"Facility_Info_upload!$C$24&\"--\"&Facility_Info_upload!$D$24","v":"0--0"}]
["Reporting period dates",null,{"$f":"CONCATENATE(TEXT(Facility_Info!$B$28,\"mm/dd/yyyy\"),\" - \",TEXT(Facility_Info!$B$29,\"mm/dd/yyyy\"))","v":"01/00/1900 - 01/00/1900"}]
["Process Unit ID"]
["Process Unit Type"]
["Process Unit Description",null,{"$f":"IFERROR(VLOOKUP($C$9,Unit_Info!$C$24:$F$33,3,FALSE),\"\")","v":""}]
["APCD Type"]
["Process Unit Emission Point"]
[]
[{"$nulls":6},"Estimate the quantity of each regulated pollutant emitted over any emission limit:3"]
[{"$nulls":6},"Pollutant 13",null,null,"Pollutant 23"]
["Emission Limit or Operating Limit in Violation1","Start Date2","Start Time2","Duration","Duration units","Method used to estimate emissions over any emission limit3","Emission Limit Failed","Units of emission limit","Magnitude of excess emissions (pounds)","Emission Limit Failed","Units of emission limit","Magnitude of excess emissions (pounds)"]
{"$rows_empty":31}
[{"$nulls":7},"Total (lbs):",{"$f":"SUM(I18:I48)","v":0},null,"Total (lbs):",{"$f":"SUM(L18:L48)","v":0}]
[{"$nulls":7},"Total (tons):",{"$f":"I49/2000","v":{"v":0,"d":"0.00"}},null,"Total (tons):",{"$f":"L49/2000","v":{"v":0,"d":"0.0"}}]
["1. When the violation involves a specific number of operating limits, you would record the duration for all of the parameter averages in excess of the operating limit, including the first operating parameter or opacity averages recorded before"]
[" a violation is triggered. For example, if your process unit has a 3% opacity monitoring allowance but 4% of 6-minute opacity averages exceed the opacity limit, you would record all 4% of the opacity averages in exceedance in the table. "]
["Similarly, for process units with no more than 6 parameter averages in separate 24-hour periods allowed to be incurred before a violation is triggered, you would record the first 6 and all other parameter average exceedances "]
["regardless of the 24-hour period in which they occurred."]
["2. Date and time fields can be combined if necessary (e.g., if combined in facility records)."]
["3. These columns apply if you had a failure of one of the subpart MM emission limits for PM (metal HAP), methanol, or total hydrocarbon (THC)."]

{"sheet":"Revisions","index":32,"n_rows":3,"n_cols":3,"rows_kept":3}
["Revision Number","Date","Revisions"]
[{"v":1,"d":"1.00"},"2017-10-11","Draft version submitted to docket."]
["Draft","2021-07-16","Second draft version, updated to reflect final rule and industry comments, updated CBI language and instructions on the Welcome tab, fixed spelling errors and erroneous regulatory citations, blank column inserted at left for all parsed sheeets to allow for JSON parsing, added Worksheet Map and Revisions tabs. Updated calculations for opacity corrective action level and 63.864(k)(3) provisions, updated formatting on CPMS adn COMS pages to show blank when no parameter listed."]

{"sheet":"Worksheet Map","index":33,"n_rows":8,"n_cols":5,"rows_kept":8,"hidden":true}
["Worksheet Name","Parent","JSON Key","Parent Primary Key","Child Foreign Key"]
[" Facility_Info_upload",null,"records"]
["Monitoring_Equipment","records","MonitoringEquipment","RecordId","RecordId"]
["Unit_Info","records","UnitInfo","RecordId","RecordId"]
["COMS_Summary","records","COMSSummary","RecordId","RecordId"]
["CPMS_Summary","records","CPMSSummary","RecordId","RecordId"]
["CMS_Process_Control_Changes","records","CMSProcessControlChanges","RecordId","RecordId"]
["Certification","records","Certification","RecordId","RecordId"]

{"sheet":"Violations","index":34,"n_rows":23,"n_cols":4,"rows_kept":23,"hidden":true}
[]
["Blue = Cells used in VLOOKUP function in CPMS or COMS tabs"]
[]
["Corrective Action and Violation Levels for CPMS -- Lookup Table"]
["Parameters","Corrective action during times when spent liquor or lime mud is fired - §63.864(k)(1)","Violation levels - No. of averaging periods during times when spent liquor or lime mud is fired within the semiannual reporting period - §63.864(k)(2)","Lookup violation limit (must have less than….)"]
["Scrubber liquid flow","Any 3-hour average is below the minimum limit","6 or more 3-hour averages are below the minimum limit",6]
["Scrubber pressure drop","Any 3-hour average is below the minimum limit except during S/S","6 or more 3-hour averages are below the minimum limit except during S/S",6]
["SDT scrubber fan amperage","Any 3-hour average is below the minimum limit","6 or more 3-hour averages are below the minimum limit",6]
["RTO temperature (3-hr)","Any 1-hour average is below the minimum limit","Any 3-hour average falls below the minimum limit",1]
["Alternative parameter (3-hr)","Any 3-hour average does not meet the operating limit","6 or more 3-hour averages do not meet the limit",6]
["RTO temperature (1-hr)","Any 1-hour average is below the minimum limit","Not applicable"]
["Hog fuel dryer at Cosmopolis, WA mill","Bag leak detection system alarm sounds","Corrective action is not initiated within 1 hour of alarm and the alarm is engaged for more than 5% of total operating time"]
[]
[]
[]
[]
[]
[]
["Violation Levels for COMS + Semiannual ESP Parameters -- Lookup Table"]
["Parameters","Corrective action during times when spent liquor or lime mud is fired - §63.864(k)(1)","Violation levels - No. of averaging periods during times when spent liquor or lime mud is fired within the semiannual reporting period - §63.864(k)(2)","Lookup violation limit"]
["Recovery furnace opacity","The average of ten consecutive 6-minute averages result in a measurement greater than 20 percent opacity","Opacity greater than 35% (for existing) or 20% (for new) for 2% or more of operating time*",0.02]
["Lime kiln opacity","The average of ten consecutive 6-minute averages result in a measurement greater than 20 percent opacity","Opacity greater than 20% for 3% or more of operating time*",0.03]
["*Applies for recovery furnaces and lime kilns with ESP control."]

{"sheet":"Lists","index":35,"n_rows":81,"n_cols":12,"rows_kept":81,"hidden":true}
[]
["COMS1",1,{"$f":"INDEX(COMSLIST,MATCH(1,--(COUNTIF(INDIRECT(\"'\"&COMSLIST&\"'!$B$13:$i$13\"),B2)),0))","v":{"$error":"#N/A"}},{"$f":"MID(ADDRESS(1,MATCH(B2,INDIRECT(\"'\"&C2&\"'!$a$13:$i$13\"),0),1),2,1)","v":{"$error":"#N/A"}},{"$f":"+IF(D2=\"B\",\"C\",IF(D2=\"D\",\"E\",IF(D2=\"F\",\"G\",IF(D2=\"H\",\"I\",\"\"))))","v":{"$error":"#N/A"}},null,null,"CPMS1",1,{"$f":"INDEX(CPMSList,MATCH(1,--(COUNTIF(INDIRECT(\"'\"&CPMSList&\"'!$B$13:$q$13\"),I2)),0))","v":{"$error":"#N/A"}},{"$f":"MID(ADDRESS(1,MATCH(I2,INDIRECT(\"'\"&J2&\"'!$a$13:$q$13\"),0),1),2,1)","v":{"$error":"#N/A"}},{"$f":"+IF(K2=\"B\",\"C\",IF(K2=\"D\",\"E\",IF(K2=\"F\",\"G\",IF(K2=\"H\",\"I\",IF(K2=\"j\",\"k\",IF(K2=\"l\",\"m\",IF(K2=\"n\",\"o\",IF(K2=\"p\",\"q\",\"\"))))))))","v":{"$error":"#N/A"}}]
["COMS2",2,{"$f":"INDEX(COMSLIST,MATCH(1,--(COUNTIF(INDIRECT(\"'\"&COMSLIST&\"'!$B$13:$i$13\"),B3)),0))","v":{"$error":"#N/A"}},{"$f":"MID(ADDRESS(1,MATCH(B3,INDIRECT(\"'\"&C3&\"'!$a$13:$i$13\"),0),1),2,1)","v":{"$error":"#N/A"}},{"$f":"+IF(D3=\"B\",\"C\",IF(D3=\"D\",\"E\",IF(D3=\"F\",\"G\",IF(D3=\"H\",\"I\",\"\"))))","v":{"$error":"#N/A"}},null,null,"CPMS2",{"$f":"+I2+1","v":2},{"$f":"INDEX(CPMSList,MATCH(1,--(COUNTIF(INDIRECT(\"'\"&CPMSList&\"'!$B$13:$q$13\"),I3)),0))","v":{"$error":"#N/A"}},{"$f":"MID(ADDRESS(1,MATCH(I3,INDIRECT(\"'\"&J3&\"'!$a$13:$q$13\"),0),1),2,1)","v":{"$error":"#N/A"}},{"$f":"+IF(K3=\"B\",\"C\",IF(K3=\"D\",\"E\",IF(K3=\"F\",\"G\",IF(K3=\"H\",\"I\",IF(K3=\"j\",\"k\",IF(K3=\"l\",\"m\",IF(K3=\"n\",\"o\",IF(K3=\"p\",\"q\",\"\"))))))))","v":{"$error":"#N/A"}}]
["COMS3",3,{"$f":"INDEX(COMSLIST,MATCH(1,--(COUNTIF(INDIRECT(\"'\"&COMSLIST&\"'!$B$13:$i$13\"),B4)),0))","v":{"$error":"#N/A"}},{"$f":"MID(ADDRESS(1,MATCH(B4,INDIRECT(\"'\"&C4&\"'!$a$13:$i$13\"),0),1),2,1)","v":{"$error":"#N/A"}},{"$error":"#N/A"},null,null,"CPMS3",{"$f":"+I3+1","v":3},{"$f":"INDEX(CPMSList,MATCH(1,--(COUNTIF(INDIRECT(\"'\"&CPMSList&\"'!$B$13:$q$13\"),I4)),0))","v":{"$error":"#N/A"}},{"$f":"MID(ADDRESS(1,MATCH(I4,INDIRECT(\"'\"&J4&\"'!$a$13:$q$13\"),0),1),2,1)","v":{"$error":"#N/A"}},{"$error":"#N/A"}]
["COMS4",4,{"$f":"INDEX(COMSLIST,MATCH(1,--(COUNTIF(INDIRECT(\"'\"&COMSLIST&\"'!$B$13:$i$13\"),B5)),0))","v":{"$error":"#N/A"}},{"$f":"MID(ADDRESS(1,MATCH(B5,INDIRECT(\"'\"&C5&\"'!$a$13:$i$13\"),0),1),2,1)","v":{"$error":"#N/A"}},{"$error":"#N/A"},null,null,"CPMS4",4,{"$f":"INDEX(CPMSList,MATCH(1,--(COUNTIF(INDIRECT(\"'\"&CPMSList&\"'!$B$13:$q$13\"),I5)),0))","v":{"$error":"#N/A"}},{"$f":"MID(ADDRESS(1,MATCH(I5,INDIRECT(\"'\"&J5&\"'!$a$13:$q$13\"),0),1),2,1)","v":{"$error":"#N/A"}},{"$error":"#N/A"}]
["COMS5",5,{"$f":"INDEX(COMSLIST,MATCH(1,--(COUNTIF(INDIRECT(\"'\"&COMSLIST&\"'!$B$13:$i$13\"),B6)),0))","v":{"$error":"#N/A"}},{"$f":"MID(ADDRESS(1,MATCH(B6,INDIRECT(\"'\"&C6&\"'!$a$13:$i$13\"),0),1),2,1)","v":{"$error":"#N/A"}},{"$error":"#N/A"},null,null,"CPMS5",5,{"$f":"INDEX(CPMSList,MATCH(1,--(COUNTIF(INDIRECT(\"'\"&CPMSList&\"'!$B$13:$q$13\"),I6)),0))","v":{"$error":"#N/A"}},{"$f":"MID(ADDRESS(1,MATCH(I6,INDIRECT(\"'\"&J6&\"'!$a$13:$q$13\"),0),1),2,1)","v":{"$error":"#N/A"}},{"$error":"#N/A"}]
["COMS6",6,{"$f":"INDEX(COMSLIST,MATCH(1,--(COUNTIF(INDIRECT(\"'\"&COMSLIST&\"'!$B$13:$i$13\"),B7)),0))","v":{"$error":"#N/A"}},{"$f":"MID(ADDRESS(1,MATCH(B7,INDIRECT(\"'\"&C7&\"'!$a$13:$i$13\"),0),1),2,1)","v":{"$error":"#N/A"}},{"$error":"#N/A"},null,null,"CPMS6",6,{"$f":"INDEX(CPMSList,MATCH(1,--(COUNTIF(INDIRECT(\"'\"&CPMSList&\"'!$B$13:$q$13\"),I7)),0))","v":{"$error":"#N/A"}},{"$f":"MID(ADDRESS(1,MATCH(I7,INDIRECT(\"'\"&J7&\"'!$a$13:$q$13\"),0),1),2,1)","v":{"$error":"#N/A"}},{"$error":"#N/A"}]
["COMS7",7,{"$f":"INDEX(COMSLIST,MATCH(1,--(COUNTIF(INDIRECT(\"'\"&COMSLIST&\"'!$B$13:$i$13\"),B8)),0))","v":{"$error":"#N/A"}},{"$f":"MID(ADDRESS(1,MATCH(B8,INDIRECT(\"'\"&C8&\"'!$a$13:$i$13\"),0),1),2,1)","v":{"$error":"#N/A"}},{"$error":"#N/A"},null,null,"CPMS7",7,{"$f":"INDEX(CPMSList,MATCH(1,--(COUNTIF(INDIRECT(\"'\"&CPMSList&\"'!$B$13:$q$13\"),I8)),0))","v":{"$error":"#N/A"}},{"$f":"MID(ADDRESS(1,MATCH(I8,INDIRECT(\"'\"&J8&\"'!$a$13:$q$13\"),0),1),2,1)","v":{"$error":"#N/A"}},{"$error":"#N/A"}]
["COMS8",8,{"$f":"INDEX(COMSLIST,MATCH(1,--(COUNTIF(INDIRECT(\"'\"&COMSLIST&\"'!$B$13:$i$13\"),B9)),0))","v":{"$error":"#N/A"}},{"$f":"MID(ADDRESS(1,MATCH(B9,INDIRECT(\"'\"&C9&\"'!$a$13:$i$13\"),0),1),2,1)","v":{"$error":"#N/A"}},{"$error":"#N/A"},null,null,"CPMS8",8,{"$f":"INDEX(CPMSList,MATCH(1,--(COUNTIF(INDIRECT(\"'\"&CPMSList&\"'!$B$13:$q$13\"),I9)),0))","v":{"$error":"#N/A"}},{"$f":"MID(ADDRESS(1,MATCH(I9,INDIRECT(\"'\"&J9&\"'!$a$13:$q$13\"),0),1),2,1)","v":{"$error":"#N/A"}},{"$error":"#N/A"}]
["COMS9",9,{"$f":"INDEX(COMSLIST,MATCH(1,--(COUNTIF(INDIRECT(\"'\"&COMSLIST&\"'!$B$13:$i$13\"),B10)),0))","v":{"$error":"#N/A"}},{"$f":"MID(ADDRESS(1,MATCH(B10,INDIRECT(\"'\"&C10&\"'!$a$13:$i$13\"),0),1),2,1)","v":{"$error":"#N/A"}},{"$error":"#N/A"},null,null,"CPMS9",9,{"$f":"INDEX(CPMSList,MATCH(1,--(COUNTIF(INDIRECT(\"'\"&CPMSList&\"'!$B$13:$q$13\"),I10)),0))","v":{"$error":"#N/A"}},{"$f":"MID(ADDRESS(1,MATCH(I10,INDIRECT(\"'\"&J10&\"'!$a$13:$q$13\"),0),1),2,1)","v":{"$error":"#N/A"}},{"$error":"#N/A"}]
["COMS10",10,{"$f":"INDEX(COMSLIST,MATCH(1,--(COUNTIF(INDIRECT(\"'\"&COMSLIST&\"'!$B$13:$i$13\"),B11)),0))","v":{"$error":"#N/A"}},{"$f":"MID(ADDRESS(1,MATCH(B11,INDIRECT(\"'\"&C11&\"'!$a$13:$i$13\"),0),1),2,1)","v":{"$error":"#N/A"}},{"$error":"#N/A"},null,null,"CPMS10",10,{"$f":"INDEX(CPMSList,MATCH(1,--(COUNTIF(INDIRECT(\"'\"&CPMSList&\"'!$B$13:$q$13\"),I11)),0))","v":{"$error":"#N/A"}},{"$f":"MID(ADDRESS(1,MATCH(I11,INDIRECT(\"'\"&J11&\"'!$a$13:$q$13\"),0),1),2,1)","v":{"$error":"#N/A"}},{"$error":"#N/A"}]
[null,11,{"$f":"INDEX(COMSLIST,MATCH(1,--(COUNTIF(INDIRECT(\"'\"&COMSLIST&\"'!$B$13:$i$13\"),B12)),0))","v":{"$error":"#N/A"}},{"$f":"MID(ADDRESS(1,MATCH(B12,INDIRECT(\"'\"&C12&\"'!$a$13:$i$13\"),0),1),2,1)","v":{"$error":"#N/A"}},{"$error":"#N/A"},{"$nulls":3},11,{"$f":"INDEX(CPMSList,MATCH(1,--(COUNTIF(INDIRECT(\"'\"&CPMSList&\"'!$B$13:$q$13\"),I12)),0))","v":{"$error":"#N/A"}},{"$f":"MID(ADDRESS(1,MATCH(I12,INDIRECT(\"'\"&J12&\"'!$a$13:$q$13\"),0),1),2,1)","v":{"$error":"#N/A"}},{"$error":"#N/A"}]
[null,12,{"$f":"INDEX(COMSLIST,MATCH(1,--(COUNTIF(INDIRECT(\"'\"&COMSLIST&\"'!$B$13:$i$13\"),B13)),0))","v":{"$error":"#N/A"}},{"$f":"MID(ADDRESS(1,MATCH(B13,INDIRECT(\"'\"&C13&\"'!$a$13:$i$13\"),0),1),2,1)","v":{"$error":"#N/A"}},{"$error":"#N/A"},{"$nulls":3},12,{"$f":"INDEX(CPMSList,MATCH(1,--(COUNTIF(INDIRECT(\"'\"&CPMSList&\"'!$B$13:$q$13\"),I13)),0))","v":{"$error":"#N/A"}},{"$f":"MID(ADDRESS(1,MATCH(I13,INDIRECT(\"'\"&J13&\"'!$a$13:$q$13\"),0),1),2,1)","v":{"$error":"#N/A"}},{"$error":"#N/A"}]
[null,13,{"$f":"INDEX(COMSLIST,MATCH(1,--(COUNTIF(INDIRECT(\"'\"&COMSLIST&\"'!$B$13:$i$13\"),B14)),0))","v":{"$error":"#N/A"}},{"$f":"MID(ADDRESS(1,MATCH(B14,INDIRECT(\"'\"&C14&\"'!$a$13:$i$13\"),0),1),2,1)","v":{"$error":"#N/A"}},{"$error":"#N/A"},{"$nulls":3},13,{"$f":"INDEX(CPMSList,MATCH(1,--(COUNTIF(INDIRECT(\"'\"&CPMSList&\"'!$B$13:$q$13\"),I14)),0))","v":{"$error":"#N/A"}},{"$f":"MID(ADDRESS(1,MATCH(I14,INDIRECT(\"'\"&J14&\"'!$a$13:$q$13\"),0),1),2,1)","v":{"$error":"#N/A"}},{"$error":"#N/A"}]
[null,14,{"$f":"INDEX(COMSLIST,MATCH(1,--(COUNTIF(INDIRECT(\"'\"&COMSLIST&\"'!$B$13:$i$13\"),B15)),0))","v":{"$error":"#N/A"}},{"$f":"MID(ADDRESS(1,MATCH(B15,INDIRECT(\"'\"&C15&\"'!$a$13:$i$13\"),0),1),2,1)","v":{"$error":"#N/A"}},{"$error":"#N/A"},{"$nulls":3},14,{"$f":"INDEX(CPMSList,MATCH(1,--(COUNTIF(INDIRECT(\"'\"&CPMSList&\"'!$B$13:$q$13\"),I15)),0))","v":{"$error":"#N/A"}},{"$f":"MID(ADDRESS(1,MATCH(I15,INDIRECT(\"'\"&J15&\"'!$a$13:$q$13\"),0),1),2,1)","v":{"$error":"#N/A"}},{"$error":"#N/A"}]
[null,15,{"$f":"INDEX(COMSLIST,MATCH(1,--(COUNTIF(INDIRECT(\"'\"&COMSLIST&\"'!$B$13:$i$13\"),B16)),0))","v":{"$error":"#N/A"}},{"$f":"MID(ADDRESS(1,MATCH(B16,INDIRECT(\"'\"&C16&\"'!$a$13:$i$13\"),0),1),2,1)","v":{"$error":"#N/A"}},{"$error":"#N/A"},{"$nulls":3},15,{"$f":"INDEX(CPMSList,MATCH(1,--(COUNTIF(INDIRECT(\"'\"&CPMSList&\"'!$B$13:$q$13\"),I16)),0))","v":{"$error":"#N/A"}},{"$f":"MID(ADDRESS(1,MATCH(I16,INDIRECT(\"'\"&J16&\"'!$a$13:$q$13\"),0),1),2,1)","v":{"$error":"#N/A"}},{"$error":"#N/A"}]
[null,16,{"$f":"INDEX(COMSLIST,MATCH(1,--(COUNTIF(INDIRECT(\"'\"&COMSLIST&\"'!$B$13:$i$13\"),B17)),0))","v":{"$error":"#N/A"}},{"$f":"MID(ADDRESS(1,MATCH(B17,INDIRECT(\"'\"&C17&\"'!$a$13:$i$13\"),0),1),2,1)","v":{"$error":"#N/A"}},{"$error":"#N/A"},{"$nulls":3},16,{"$f":"INDEX(CPMSList,MATCH(1,--(COUNTIF(INDIRECT(\"'\"&CPMSList&\"'!$B$13:$q$13\"),I17)),0))","v":{"$error":"#N/A"}},{"$f":"MID(ADDRESS(1,MATCH(I17,INDIRECT(\"'\"&J17&\"'!$a$13:$q$13\"),0),1),2,1)","v":{"$error":"#N/A"}},{"$error":"#N/A"}]
[null,17,{"$f":"INDEX(COMSLIST,MATCH(1,--(COUNTIF(INDIRECT(\"'\"&COMSLIST&\"'!$B$13:$i$13\"),B18)),0))","v":{"$error":"#N/A"}},{"$f":"MID(ADDRESS(1,MATCH(B18,INDIRECT(\"'\"&C18&\"'!$a$13:$i$13\"),0),1),2,1)","v":{"$error":"#N/A"}},{"$error":"#N/A"},{"$nulls":3},17,{"$f":"INDEX(CPMSList,MATCH(1,--(COUNTIF(INDIRECT(\"'\"&CPMSList&\"'!$B$13:$q$13\"),I18)),0))","v":{"$error":"#N/A"}},{"$f":"MID(ADDRESS(1,MATCH(I18,INDIRECT(\"'\"&J18&\"'!$a$13:$q$13\"),0),1),2,1)","v":{"$error":"#N/A"}},{"$error":"#N/A"}]
[null,18,{"$f":"INDEX(COMSLIST,MATCH(1,--(COUNTIF(INDIRECT(\"'\"&COMSLIST&\"'!$B$13:$i$13\"),B19)),0))","v":{"$error":"#N/A"}},{"$f":"MID(ADDRESS(1,MATCH(B19,INDIRECT(\"'\"&C19&\"'!$a$13:$i$13\"),0),1),2,1)","v":{"$error":"#N/A"}},{"$error":"#N/A"},{"$nulls":3},18,{"$f":"INDEX(CPMSList,MATCH(1,--(COUNTIF(INDIRECT(\"'\"&CPMSList&\"'!$B$13:$q$13\"),I19)),0))","v":{"$error":"#N/A"}},{"$f":"MID(ADDRESS(1,MATCH(I19,INDIRECT(\"'\"&J19&\"'!$a$13:$q$13\"),0),1),2,1)","v":{"$error":"#N/A"}},{"$error":"#N/A"}]
[null,19,{"$f":"INDEX(COMSLIST,MATCH(1,--(COUNTIF(INDIRECT(\"'\"&COMSLIST&\"'!$B$13:$i$13\"),B20)),0))","v":{"$error":"#N/A"}},{"$f":"MID(ADDRESS(1,MATCH(B20,INDIRECT(\"'\"&C20&\"'!$a$13:$i$13\"),0),1),2,1)","v":{"$error":"#N/A"}},{"$error":"#N/A"},{"$nulls":3},19,{"$f":"INDEX(CPMSList,MATCH(1,--(COUNTIF(INDIRECT(\"'\"&CPMSList&\"'!$B$13:$q$13\"),I20)),0))","v":{"$error":"#N/A"}},{"$f":"MID(ADDRESS(1,MATCH(I20,INDIRECT(\"'\"&J20&\"'!$a$13:$q$13\"),0),1),2,1)","v":{"$error":"#N/A"}},{"$error":"#N/A"}]
[null,20,{"$f":"INDEX(COMSLIST,MATCH(1,--(COUNTIF(INDIRECT(\"'\"&COMSLIST&\"'!$B$13:$i$13\"),B21)),0))","v":{"$error":"#N/A"}},{"$f":"MID(ADDRESS(1,MATCH(B21,INDIRECT(\"'\"&C21&\"'!$a$13:$i$13\"),0),1),2,1)","v":{"$error":"#N/A"}},{"$error":"#N/A"},{"$nulls":3},20,{"$f":"INDEX(CPMSList,MATCH(1,--(COUNTIF(INDIRECT(\"'\"&CPMSList&\"'!$B$13:$q$13\"),I21)),0))","v":{"$error":"#N/A"}},{"$f":"MID(ADDRESS(1,MATCH(I21,INDIRECT(\"'\"&J21&\"'!$a$13:$q$13\"),0),1),2,1)","v":{"$error":"#N/A"}},{"$error":"#N/A"}]
[null,21,{"$f":"INDEX(COMSLIST,MATCH(1,--(COUNTIF(INDIRECT(\"'\"&COMSLIST&\"'!$B$13:$i$13\"),B22)),0))","v":{"$error":"#N/A"}},{"$f":"MID(ADDRESS(1,MATCH(B22,INDIRECT(\"'\"&C22&\"'!$a$13:$i$13\"),0),1),2,1)","v":{"$error":"#N/A"}},{"$error":"#N/A"},{"$nulls":3},21,{"$f":"INDEX(CPMSList,MATCH(1,--(COUNTIF(INDIRECT(\"'\"&CPMSList&\"'!$B$13:$q$13\"),I22)),0))","v":{"$error":"#N/A"}},{"$f":"MID(ADDRESS(1,MATCH(I22,INDIRECT(\"'\"&J22&\"'!$a$13:$q$13\"),0),1),2,1)","v":{"$error":"#N/A"}},{"$error":"#N/A"}]
[null,22,{"$f":"INDEX(COMSLIST,MATCH(1,--(COUNTIF(INDIRECT(\"'\"&COMSLIST&\"'!$B$13:$i$13\"),B23)),0))","v":{"$error":"#N/A"}},{"$f":"MID(ADDRESS(1,MATCH(B23,INDIRECT(\"'\"&C23&\"'!$a$13:$i$13\"),0),1),2,1)","v":{"$error":"#N/A"}},{"$error":"#N/A"},{"$nulls":3},22,{"$f":"INDEX(CPMSList,MATCH(1,--(COUNTIF(INDIRECT(\"'\"&CPMSList&\"'!$B$13:$q$13\"),I23)),0))","v":{"$error":"#N/A"}},{"$f":"MID(ADDRESS(1,MATCH(I23,INDIRECT(\"'\"&J23&\"'!$a$13:$q$13\"),0),1),2,1)","v":{"$error":"#N/A"}},{"$error":"#N/A"}]
[null,23,{"$f":"INDEX(COMSLIST,MATCH(1,--(COUNTIF(INDIRECT(\"'\"&COMSLIST&\"'!$B$13:$i$13\"),B24)),0))","v":{"$error":"#N/A"}},{"$f":"MID(ADDRESS(1,MATCH(B24,INDIRECT(\"'\"&C24&\"'!$a$13:$i$13\"),0),1),2,1)","v":{"$error":"#N/A"}},{"$error":"#N/A"},{"$nulls":3},23,{"$f":"INDEX(CPMSList,MATCH(1,--(COUNTIF(INDIRECT(\"'\"&CPMSList&\"'!$B$13:$q$13\"),I24)),0))","v":{"$error":"#N/A"}},{"$f":"MID(ADDRESS(1,MATCH(I24,INDIRECT(\"'\"&J24&\"'!$a$13:$q$13\"),0),1),2,1)","v":{"$error":"#N/A"}},{"$error":"#N/A"}]
[null,24,{"$f":"INDEX(COMSLIST,MATCH(1,--(COUNTIF(INDIRECT(\"'\"&COMSLIST&\"'!$B$13:$i$13\"),B25)),0))","v":{"$error":"#N/A"}},{"$f":"MID(ADDRESS(1,MATCH(B25,INDIRECT(\"'\"&C25&\"'!$a$13:$i$13\"),0),1),2,1)","v":{"$error":"#N/A"}},{"$error":"#N/A"},{"$nulls":3},24,{"$f":"INDEX(CPMSList,MATCH(1,--(COUNTIF(INDIRECT(\"'\"&CPMSList&\"'!$B$13:$q$13\"),I25)),0))","v":{"$error":"#N/A"}},{"$f":"MID(ADDRESS(1,MATCH(I25,INDIRECT(\"'\"&J25&\"'!$a$13:$q$13\"),0),1),2,1)","v":{"$error":"#N/A"}},{"$error":"#N/A"}]
[null,25,{"$f":"INDEX(COMSLIST,MATCH(1,--(COUNTIF(INDIRECT(\"'\"&COMSLIST&\"'!$B$13:$i$13\"),B26)),0))","v":{"$error":"#N/A"}},{"$f":"MID(ADDRESS(1,MATCH(B26,INDIRECT(\"'\"&C26&\"'!$a$13:$i$13\"),0),1),2,1)","v":{"$error":"#N/A"}},{"$error":"#N/A"},{"$nulls":3},25,{"$f":"INDEX(CPMSList,MATCH(1,--(COUNTIF(INDIRECT(\"'\"&CPMSList&\"'!$B$13:$q$13\"),I26)),0))","v":{"$error":"#N/A"}},{"$f":"MID(ADDRESS(1,MATCH(I26,INDIRECT(\"'\"&J26&\"'!$a$13:$q$13\"),0),1),2,1)","v":{"$error":"#N/A"}},{"$error":"#N/A"}]
[null,26,{"$f":"INDEX(COMSLIST,MATCH(1,--(COUNTIF(INDIRECT(\"'\"&COMSLIST&\"'!$B$13:$i$13\"),B27)),0))","v":{"$error":"#N/A"}},{"$f":"MID(ADDRESS(1,MATCH(B27,INDIRECT(\"'\"&C27&\"'!$a$13:$i$13\"),0),1),2,1)","v":{"$error":"#N/A"}},{"$error":"#N/A"},{"$nulls":3},26,{"$f":"INDEX(CPMSList,MATCH(1,--(COUNTIF(INDIRECT(\"'\"&CPMSList&\"'!$B$13:$q$13\"),I27)),0))","v":{"$error":"#N/A"}},{"$f":"MID(ADDRESS(1,MATCH(I27,INDIRECT(\"'\"&J27&\"'!$a$13:$q$13\"),0),1),2,1)","v":{"$error":"#N/A"}},{"$error":"#N/A"}]
[null,27,{"$f":"INDEX(COMSLIST,MATCH(1,--(COUNTIF(INDIRECT(\"'\"&COMSLIST&\"'!$B$13:$i$13\"),B28)),0))","v":{"$error":"#N/A"}},{"$f":"MID(ADDRESS(1,MATCH(B28,INDIRECT(\"'\"&C28&\"'!$a$13:$i$13\"),0),1),2,1)","v":{"$error":"#N/A"}},{"$error":"#N/A"},{"$nulls":3},27,{"$f":"INDEX(CPMSList,MATCH(1,--(COUNTIF(INDIRECT(\"'\"&CPMSList&\"'!$B$13:$q$13\"),I28)),0))","v":{"$error":"#N/A"}},{"$f":"MID(ADDRESS(1,MATCH(I28,INDIRECT(\"'\"&J28&\"'!$a$13:$q$13\"),0),1),2,1)","v":{"$error":"#N/A"}},{"$error":"#N/A"}]
[null,28,{"$f":"INDEX(COMSLIST,MATCH(1,--(COUNTIF(INDIRECT(\"'\"&COMSLIST&\"'!$B$13:$i$13\"),B29)),0))","v":{"$error":"#N/A"}},{"$f":"MID(ADDRESS(1,MATCH(B29,INDIRECT(\"'\"&C29&\"'!$a$13:$i$13\"),0),1),2,1)","v":{"$error":"#N/A"}},{"$error":"#N/A"},{"$nulls":3},28,{"$f":"INDEX(CPMSList,MATCH(1,--(COUNTIF(INDIRECT(\"'\"&CPMSList&\"'!$B$13:$q$13\"),I29)),0))","v":{"$error":"#N/A"}},{"$f":"MID(ADDRESS(1,MATCH(I29,INDIRECT(\"'\"&J29&\"'!$a$13:$q$13\"),0),1),2,1)","v":{"$error":"#N/A"}},{"$error":"#N/A"}]
[null,29,{"$f":"INDEX(COMSLIST,MATCH(1,--(COUNTIF(INDIRECT(\"'\"&COMSLIST&\"'!$B$13:$i$13\"),B30)),0))","v":{"$error":"#N/A"}},{"$f":"MID(ADDRESS(1,MATCH(B30,INDIRECT(\"'\"&C30&\"'!$a$13:$i$13\"),0),1),2,1)","v":{"$error":"#N/A"}},{"$error":"#N/A"},{"$nulls":3},29,{"$f":"INDEX(CPMSList,MATCH(1,--(COUNTIF(INDIRECT(\"'\"&CPMSList&\"'!$B$13:$q$13\"),I30)),0))","v":{"$error":"#N/A"}},{"$f":"MID(ADDRESS(1,MATCH(I30,INDIRECT(\"'\"&J30&\"'!$a$13:$q$13\"),0),1),2,1)","v":{"$error":"#N/A"}},{"$error":"#N/A"}]
[null,30,{"$f":"INDEX(COMSLIST,MATCH(1,--(COUNTIF(INDIRECT(\"'\"&COMSLIST&\"'!$B$13:$i$13\"),B31)),0))","v":{"$error":"#N/A"}},{"$f":"MID(ADDRESS(1,MATCH(B31,INDIRECT(\"'\"&C31&\"'!$a$13:$i$13\"),0),1),2,1)","v":{"$error":"#N/A"}},{"$error":"#N/A"},{"$nulls":3},30,{"$f":"INDEX(CPMSList,MATCH(1,--(COUNTIF(INDIRECT(\"'\"&CPMSList&\"'!$B$13:$q$13\"),I31)),0))","v":{"$error":"#N/A"}},{"$f":"MID(ADDRESS(1,MATCH(I31,INDIRECT(\"'\"&J31&\"'!$a$13:$q$13\"),0),1),2,1)","v":{"$error":"#N/A"}},{"$error":"#N/A"}]
[null,31,{"$f":"INDEX(COMSLIST,MATCH(1,--(COUNTIF(INDIRECT(\"'\"&COMSLIST&\"'!$B$13:$i$13\"),B32)),0))","v":{"$error":"#N/A"}},{"$f":"MID(ADDRESS(1,MATCH(B32,INDIRECT(\"'\"&C32&\"'!$a$13:$i$13\"),0),1),2,1)","v":{"$error":"#N/A"}},{"$error":"#N/A"},{"$nulls":3},31,{"$f":"INDEX(CPMSList,MATCH(1,--(COUNTIF(INDIRECT(\"'\"&CPMSList&\"'!$B$13:$q$13\"),I32)),0))","v":{"$error":"#N/A"}},{"$f":"MID(ADDRESS(1,MATCH(I32,INDIRECT(\"'\"&J32&\"'!$a$13:$q$13\"),0),1),2,1)","v":{"$error":"#N/A"}},{"$error":"#N/A"}]
[null,32,{"$f":"INDEX(COMSLIST,MATCH(1,--(COUNTIF(INDIRECT(\"'\"&COMSLIST&\"'!$B$13:$i$13\"),B33)),0))","v":{"$error":"#N/A"}},{"$f":"MID(ADDRESS(1,MATCH(B33,INDIRECT(\"'\"&C33&\"'!$a$13:$i$13\"),0),1),2,1)","v":{"$error":"#N/A"}},{"$error":"#N/A"},{"$nulls":3},32,{"$f":"INDEX(CPMSList,MATCH(1,--(COUNTIF(INDIRECT(\"'\"&CPMSList&\"'!$B$13:$q$13\"),I33)),0))","v":{"$error":"#N/A"}},{"$f":"MID(ADDRESS(1,MATCH(I33,INDIRECT(\"'\"&J33&\"'!$a$13:$q$13\"),0),1),2,1)","v":{"$error":"#N/A"}},{"$error":"#N/A"}]
[null,33,{"$f":"INDEX(COMSLIST,MATCH(1,--(COUNTIF(INDIRECT(\"'\"&COMSLIST&\"'!$B$13:$i$13\"),B34)),0))","v":{"$error":"#N/A"}},{"$f":"MID(ADDRESS(1,MATCH(B34,INDIRECT(\"'\"&C34&\"'!$a$13:$i$13\"),0),1),2,1)","v":{"$error":"#N/A"}},{"$error":"#N/A"},{"$nulls":3},33,{"$f":"INDEX(CPMSList,MATCH(1,--(COUNTIF(INDIRECT(\"'\"&CPMSList&\"'!$B$13:$q$13\"),I34)),0))","v":{"$error":"#N/A"}},{"$f":"MID(ADDRESS(1,MATCH(I34,INDIRECT(\"'\"&J34&\"'!$a$13:$q$13\"),0),1),2,1)","v":{"$error":"#N/A"}},{"$error":"#N/A"}]
[null,34,{"$f":"INDEX(COMSLIST,MATCH(1,--(COUNTIF(INDIRECT(\"'\"&COMSLIST&\"'!$B$13:$i$13\"),B35)),0))","v":{"$error":"#N/A"}},{"$f":"MID(ADDRESS(1,MATCH(B35,INDIRECT(\"'\"&C35&\"'!$a$13:$i$13\"),0),1),2,1)","v":{"$error":"#N/A"}},{"$error":"#N/A"},{"$nulls":3},34,{"$f":"INDEX(CPMSList,MATCH(1,--(COUNTIF(INDIRECT(\"'\"&CPMSList&\"'!$B$13:$q$13\"),I35)),0))","v":{"$error":"#N/A"}},{"$f":"MID(ADDRESS(1,MATCH(I35,INDIRECT(\"'\"&J35&\"'!$a$13:$q$13\"),0),1),2,1)","v":{"$error":"#N/A"}},{"$error":"#N/A"}]
[null,35,{"$f":"INDEX(COMSLIST,MATCH(1,--(COUNTIF(INDIRECT(\"'\"&COMSLIST&\"'!$B$13:$i$13\"),B36)),0))","v":{"$error":"#N/A"}},{"$f":"MID(ADDRESS(1,MATCH(B36,INDIRECT(\"'\"&C36&\"'!$a$13:$i$13\"),0),1),2,1)","v":{"$error":"#N/A"}},{"$error":"#N/A"},{"$nulls":3},35,{"$f":"INDEX(CPMSList,MATCH(1,--(COUNTIF(INDIRECT(\"'\"&CPMSList&\"'!$B$13:$q$13\"),I36)),0))","v":{"$error":"#N/A"}},{"$f":"MID(ADDRESS(1,MATCH(I36,INDIRECT(\"'\"&J36&\"'!$a$13:$q$13\"),0),1),2,1)","v":{"$error":"#N/A"}},{"$error":"#N/A"}]
[null,36,{"$f":"INDEX(COMSLIST,MATCH(1,--(COUNTIF(INDIRECT(\"'\"&COMSLIST&\"'!$B$13:$i$13\"),B37)),0))","v":{"$error":"#N/A"}},{"$f":"MID(ADDRESS(1,MATCH(B37,INDIRECT(\"'\"&C37&\"'!$a$13:$i$13\"),0),1),2,1)","v":{"$error":"#N/A"}},{"$error":"#N/A"},{"$nulls":3},36,{"$f":"INDEX(CPMSList,MATCH(1,--(COUNTIF(INDIRECT(\"'\"&CPMSList&\"'!$B$13:$q$13\"),I37)),0))","v":{"$error":"#N/A"}},{"$f":"MID(ADDRESS(1,MATCH(I37,INDIRECT(\"'\"&J37&\"'!$a$13:$q$13\"),0),1),2,1)","v":{"$error":"#N/A"}},{"$error":"#N/A"}]
[null,37,{"$f":"INDEX(COMSLIST,MATCH(1,--(COUNTIF(INDIRECT(\"'\"&COMSLIST&\"'!$B$13:$i$13\"),B38)),0))","v":{"$error":"#N/A"}},{"$f":"MID(ADDRESS(1,MATCH(B38,INDIRECT(\"'\"&C38&\"'!$a$13:$i$13\"),0),1),2,1)","v":{"$error":"#N/A"}},{"$error":"#N/A"},{"$nulls":3},37,{"$f":"INDEX(CPMSList,MATCH(1,--(COUNTIF(INDIRECT(\"'\"&CPMSList&\"'!$B$13:$q$13\"),I38)),0))","v":{"$error":"#N/A"}},{"$f":"MID(ADDRESS(1,MATCH(I38,INDIRECT(\"'\"&J38&\"'!$a$13:$q$13\"),0),1),2,1)","v":{"$error":"#N/A"}},{"$error":"#N/A"}]
[null,38,{"$f":"INDEX(COMSLIST,MATCH(1,--(COUNTIF(INDIRECT(\"'\"&COMSLIST&\"'!$B$13:$i$13\"),B39)),0))","v":{"$error":"#N/A"}},{"$f":"MID(ADDRESS(1,MATCH(B39,INDIRECT(\"'\"&C39&\"'!$a$13:$i$13\"),0),1),2,1)","v":{"$error":"#N/A"}},{"$error":"#N/A"},{"$nulls":3},38,{"$f":"INDEX(CPMSList,MATCH(1,--(COUNTIF(INDIRECT(\"'\"&CPMSList&\"'!$B$13:$q$13\"),I39)),0))","v":{"$error":"#N/A"}},{"$f":"MID(ADDRESS(1,MATCH(I39,INDIRECT(\"'\"&J39&\"'!$a$13:$q$13\"),0),1),2,1)","v":{"$error":"#N/A"}},{"$error":"#N/A"}]
[null,39,{"$f":"INDEX(COMSLIST,MATCH(1,--(COUNTIF(INDIRECT(\"'\"&COMSLIST&\"'!$B$13:$i$13\"),B40)),0))","v":{"$error":"#N/A"}},{"$f":"MID(ADDRESS(1,MATCH(B40,INDIRECT(\"'\"&C40&\"'!$a$13:$i$13\"),0),1),2,1)","v":{"$error":"#N/A"}},{"$error":"#N/A"},{"$nulls":3},39,{"$f":"INDEX(CPMSList,MATCH(1,--(COUNTIF(INDIRECT(\"'\"&CPMSList&\"'!$B$13:$q$13\"),I40)),0))","v":{"$error":"#N/A"}},{"$f":"MID(ADDRESS(1,MATCH(I40,INDIRECT(\"'\"&J40&\"'!$a$13:$q$13\"),0),1),2,1)","v":{"$error":"#N/A"}},{"$error":"#N/A"}]
[null,40,{"$f":"INDEX(COMSLIST,MATCH(1,--(COUNTIF(INDIRECT(\"'\"&COMSLIST&\"'!$B$13:$i$13\"),B41)),0))","v":{"$error":"#N/A"}},{"$f":"MID(ADDRESS(1,MATCH(B41,INDIRECT(\"'\"&C41&\"'!$a$13:$i$13\"),0),1),2,1)","v":{"$error":"#N/A"}},{"$error":"#N/A"},{"$nulls":3},40,{"$f":"INDEX(CPMSList,MATCH(1,--(COUNTIF(INDIRECT(\"'\"&CPMSList&\"'!$B$13:$q$13\"),I41)),0))","v":{"$error":"#N/A"}},{"$f":"MID(ADDRESS(1,MATCH(I41,INDIRECT(\"'\"&J41&\"'!$a$13:$q$13\"),0),1),2,1)","v":{"$error":"#N/A"}},{"$error":"#N/A"}]
[{"$nulls":8},41,{"$f":"INDEX(CPMSList,MATCH(1,--(COUNTIF(INDIRECT(\"'\"&CPMSList&\"'!$B$13:$q$13\"),I42)),0))","v":{"$error":"#N/A"}},{"$f":"MID(ADDRESS(1,MATCH(I42,INDIRECT(\"'\"&J42&\"'!$a$13:$q$13\"),0),1),2,1)","v":{"$error":"#N/A"}},{"$error":"#N/A"}]
[{"$nulls":8},42,{"$f":"INDEX(CPMSList,MATCH(1,--(COUNTIF(INDIRECT(\"'\"&CPMSList&\"'!$B$13:$q$13\"),I43)),0))","v":{"$error":"#N/A"}},{"$f":"MID(ADDRESS(1,MATCH(I43,INDIRECT(\"'\"&J43&\"'!$a$13:$q$13\"),0),1),2,1)","v":{"$error":"#N/A"}},{"$error":"#N/A"}]
[{"$nulls":8},43,{"$f":"INDEX(CPMSList,MATCH(1,--(COUNTIF(INDIRECT(\"'\"&CPMSList&\"'!$B$13:$q$13\"),I44)),0))","v":{"$error":"#N/A"}},{"$f":"MID(ADDRESS(1,MATCH(I44,INDIRECT(\"'\"&J44&\"'!$a$13:$q$13\"),0),1),2,1)","v":{"$error":"#N/A"}},{"$error":"#N/A"}]
[{"$nulls":8},44,{"$f":"INDEX(CPMSList,MATCH(1,--(COUNTIF(INDIRECT(\"'\"&CPMSList&\"'!$B$13:$q$13\"),I45)),0))","v":{"$error":"#N/A"}},{"$f":"MID(ADDRESS(1,MATCH(I45,INDIRECT(\"'\"&J45&\"'!$a$13:$q$13\"),0),1),2,1)","v":{"$error":"#N/A"}},{"$error":"#N/A"}]
[{"$nulls":8},45,{"$f":"INDEX(CPMSList,MATCH(1,--(COUNTIF(INDIRECT(\"'\"&CPMSList&\"'!$B$13:$q$13\"),I46)),0))","v":{"$error":"#N/A"}},{"$f":"MID(ADDRESS(1,MATCH(I46,INDIRECT(\"'\"&J46&\"'!$a$13:$q$13\"),0),1),2,1)","v":{"$error":"#N/A"}},{"$error":"#N/A"}]
[{"$nulls":8},46,{"$f":"INDEX(CPMSList,MATCH(1,--(COUNTIF(INDIRECT(\"'\"&CPMSList&\"'!$B$13:$q$13\"),I47)),0))","v":{"$error":"#N/A"}},{"$f":"MID(ADDRESS(1,MATCH(I47,INDIRECT(\"'\"&J47&\"'!$a$13:$q$13\"),0),1),2,1)","v":{"$error":"#N/A"}},{"$error":"#N/A"}]
[{"$nulls":8},47,{"$f":"INDEX(CPMSList,MATCH(1,--(COUNTIF(INDIRECT(\"'\"&CPMSList&\"'!$B$13:$q$13\"),I48)),0))","v":{"$error":"#N/A"}},{"$f":"MID(ADDRESS(1,MATCH(I48,INDIRECT(\"'\"&J48&\"'!$a$13:$q$13\"),0),1),2,1)","v":{"$error":"#N/A"}},{"$error":"#N/A"}]
[{"$nulls":8},48,{"$f":"INDEX(CPMSList,MATCH(1,--(COUNTIF(INDIRECT(\"'\"&CPMSList&\"'!$B$13:$q$13\"),I49)),0))","v":{"$error":"#N/A"}},{"$f":"MID(ADDRESS(1,MATCH(I49,INDIRECT(\"'\"&J49&\"'!$a$13:$q$13\"),0),1),2,1)","v":{"$error":"#N/A"}},{"$error":"#N/A"}]
[{"$nulls":8},49,{"$f":"INDEX(CPMSList,MATCH(1,--(COUNTIF(INDIRECT(\"'\"&CPMSList&\"'!$B$13:$q$13\"),I50)),0))","v":{"$error":"#N/A"}},{"$f":"MID(ADDRESS(1,MATCH(I50,INDIRECT(\"'\"&J50&\"'!$a$13:$q$13\"),0),1),2,1)","v":{"$error":"#N/A"}},{"$error":"#N/A"}]
[{"$nulls":8},50,{"$f":"INDEX(CPMSList,MATCH(1,--(COUNTIF(INDIRECT(\"'\"&CPMSList&\"'!$B$13:$q$13\"),I51)),0))","v":{"$error":"#N/A"}},{"$f":"MID(ADDRESS(1,MATCH(I51,INDIRECT(\"'\"&J51&\"'!$a$13:$q$13\"),0),1),2,1)","v":{"$error":"#N/A"}},{"$error":"#N/A"}]
[{"$nulls":8},51,{"$f":"INDEX(CPMSList,MATCH(1,--(COUNTIF(INDIRECT(\"'\"&CPMSList&\"'!$B$13:$q$13\"),I52)),0))","v":{"$error":"#N/A"}},{"$f":"MID(ADDRESS(1,MATCH(I52,INDIRECT(\"'\"&J52&\"'!$a$13:$q$13\"),0),1),2,1)","v":{"$error":"#N/A"}},{"$error":"#N/A"}]
[{"$nulls":8},52,{"$f":"INDEX(CPMSList,MATCH(1,--(COUNTIF(INDIRECT(\"'\"&CPMSList&\"'!$B$13:$q$13\"),I53)),0))","v":{"$error":"#N/A"}},{"$f":"MID(ADDRESS(1,MATCH(I53,INDIRECT(\"'\"&J53&\"'!$a$13:$q$13\"),0),1),2,1)","v":{"$error":"#N/A"}},{"$error":"#N/A"}]
[{"$nulls":8},53,{"$f":"INDEX(CPMSList,MATCH(1,--(COUNTIF(INDIRECT(\"'\"&CPMSList&\"'!$B$13:$q$13\"),I54)),0))","v":{"$error":"#N/A"}},{"$f":"MID(ADDRESS(1,MATCH(I54,INDIRECT(\"'\"&J54&\"'!$a$13:$q$13\"),0),1),2,1)","v":{"$error":"#N/A"}},{"$error":"#N/A"}]
[{"$nulls":8},54,{"$f":"INDEX(CPMSList,MATCH(1,--(COUNTIF(INDIRECT(\"'\"&CPMSList&\"'!$B$13:$q$13\"),I55)),0))","v":{"$error":"#N/A"}},{"$f":"MID(ADDRESS(1,MATCH(I55,INDIRECT(\"'\"&J55&\"'!$a$13:$q$13\"),0),1),2,1)","v":{"$error":"#N/A"}},{"$error":"#N/A"}]
[{"$nulls":8},55,{"$f":"INDEX(CPMSList,MATCH(1,--(COUNTIF(INDIRECT(\"'\"&CPMSList&\"'!$B$13:$q$13\"),I56)),0))","v":{"$error":"#N/A"}},{"$f":"MID(ADDRESS(1,MATCH(I56,INDIRECT(\"'\"&J56&\"'!$a$13:$q$13\"),0),1),2,1)","v":{"$error":"#N/A"}},{"$error":"#N/A"}]
[{"$nulls":8},56,{"$f":"INDEX(CPMSList,MATCH(1,--(COUNTIF(INDIRECT(\"'\"&CPMSList&\"'!$B$13:$q$13\"),I57)),0))","v":{"$error":"#N/A"}},{"$f":"MID(ADDRESS(1,MATCH(I57,INDIRECT(\"'\"&J57&\"'!$a$13:$q$13\"),0),1),2,1)","v":{"$error":"#N/A"}},{"$error":"#N/A"}]
[{"$nulls":8},57,{"$f":"INDEX(CPMSList,MATCH(1,--(COUNTIF(INDIRECT(\"'\"&CPMSList&\"'!$B$13:$q$13\"),I58)),0))","v":{"$error":"#N/A"}},{"$f":"MID(ADDRESS(1,MATCH(I58,INDIRECT(\"'\"&J58&\"'!$a$13:$q$13\"),0),1),2,1)","v":{"$error":"#N/A"}},{"$error":"#N/A"}]
[{"$nulls":8},58,{"$f":"INDEX(CPMSList,MATCH(1,--(COUNTIF(INDIRECT(\"'\"&CPMSList&\"'!$B$13:$q$13\"),I59)),0))","v":{"$error":"#N/A"}},{"$f":"MID(ADDRESS(1,MATCH(I59,INDIRECT(\"'\"&J59&\"'!$a$13:$q$13\"),0),1),2,1)","v":{"$error":"#N/A"}},{"$error":"#N/A"}]
[{"$nulls":8},59,{"$f":"INDEX(CPMSList,MATCH(1,--(COUNTIF(INDIRECT(\"'\"&CPMSList&\"'!$B$13:$q$13\"),I60)),0))","v":{"$error":"#N/A"}},{"$f":"MID(ADDRESS(1,MATCH(I60,INDIRECT(\"'\"&J60&\"'!$a$13:$q$13\"),0),1),2,1)","v":{"$error":"#N/A"}},{"$error":"#N/A"}]
[{"$nulls":8},60,{"$f":"INDEX(CPMSList,MATCH(1,--(COUNTIF(INDIRECT(\"'\"&CPMSList&\"'!$B$13:$q$13\"),I61)),0))","v":{"$error":"#N/A"}},{"$f":"MID(ADDRESS(1,MATCH(I61,INDIRECT(\"'\"&J61&\"'!$a$13:$q$13\"),0),1),2,1)","v":{"$error":"#N/A"}},{"$error":"#N/A"}]
[{"$nulls":8},61,{"$f":"INDEX(CPMSList,MATCH(1,--(COUNTIF(INDIRECT(\"'\"&CPMSList&\"'!$B$13:$q$13\"),I62)),0))","v":{"$error":"#N/A"}},{"$f":"MID(ADDRESS(1,MATCH(I62,INDIRECT(\"'\"&J62&\"'!$a$13:$q$13\"),0),1),2,1)","v":{"$error":"#N/A"}},{"$error":"#N/A"}]
[{"$nulls":8},62,{"$f":"INDEX(CPMSList,MATCH(1,--(COUNTIF(INDIRECT(\"'\"&CPMSList&\"'!$B$13:$q$13\"),I63)),0))","v":{"$error":"#N/A"}},{"$f":"MID(ADDRESS(1,MATCH(I63,INDIRECT(\"'\"&J63&\"'!$a$13:$q$13\"),0),1),2,1)","v":{"$error":"#N/A"}},{"$error":"#N/A"}]
[{"$nulls":8},63,{"$f":"INDEX(CPMSList,MATCH(1,--(COUNTIF(INDIRECT(\"'\"&CPMSList&\"'!$B$13:$q$13\"),I64)),0))","v":{"$error":"#N/A"}},{"$f":"MID(ADDRESS(1,MATCH(I64,INDIRECT(\"'\"&J64&\"'!$a$13:$q$13\"),0),1),2,1)","v":{"$error":"#N/A"}},{"$error":"#N/A"}]
[{"$nulls":8},64,{"$f":"INDEX(CPMSList,MATCH(1,--(COUNTIF(INDIRECT(\"'\"&CPMSList&\"'!$B$13:$q$13\"),I65)),0))","v":{"$error":"#N/A"}},{"$f":"MID(ADDRESS(1,MATCH(I65,INDIRECT(\"'\"&J65&\"'!$a$13:$q$13\"),0),1),2,1)","v":{"$error":"#N/A"}},{"$error":"#N/A"}]
[{"$nulls":8},65,{"$f":"INDEX(CPMSList,MATCH(1,--(COUNTIF(INDIRECT(\"'\"&CPMSList&\"'!$B$13:$q$13\"),I66)),0))","v":{"$error":"#N/A"}},{"$f":"MID(ADDRESS(1,MATCH(I66,INDIRECT(\"'\"&J66&\"'!$a$13:$q$13\"),0),1),2,1)","v":{"$error":"#N/A"}},{"$error":"#N/A"}]
[{"$nulls":8},66,{"$f":"INDEX(CPMSList,MATCH(1,--(COUNTIF(INDIRECT(\"'\"&CPMSList&\"'!$B$13:$q$13\"),I67)),0))","v":{"$error":"#N/A"}},{"$f":"MID(ADDRESS(1,MATCH(I67,INDIRECT(\"'\"&J67&\"'!$a$13:$q$13\"),0),1),2,1)","v":{"$error":"#N/A"}},{"$error":"#N/A"}]
[{"$nulls":8},{"$f":"+I67+1","v":67},{"$f":"INDEX(CPMSList,MATCH(1,--(COUNTIF(INDIRECT(\"'\"&CPMSList&\"'!$B$13:$q$13\"),I68)),0))","v":{"$error":"#N/A"}},{"$f":"MID(ADDRESS(1,MATCH(I68,INDIRECT(\"'\"&J68&\"'!$a$13:$q$13\"),0),1),2,1)","v":{"$error":"#N/A"}},{"$error":"#N/A"}]
[{"$nulls":8},68,{"$f":"INDEX(CPMSList,MATCH(1,--(COUNTIF(INDIRECT(\"'\"&CPMSList&\"'!$B$13:$q$13\"),I69)),0))","v":{"$error":"#N/A"}},{"$f":"MID(ADDRESS(1,MATCH(I69,INDIRECT(\"'\"&J69&\"'!$a$13:$q$13\"),0),1),2,1)","v":{"$error":"#N/A"}},{"$error":"#N/A"}]
[{"$nulls":8},69,{"$f":"INDEX(CPMSList,MATCH(1,--(COUNTIF(INDIRECT(\"'\"&CPMSList&\"'!$B$13:$q$13\"),I70)),0))","v":{"$error":"#N/A"}},{"$f":"MID(ADDRESS(1,MATCH(I70,INDIRECT(\"'\"&J70&\"'!$a$13:$q$13\"),0),1),2,1)","v":{"$error":"#N/A"}},{"$error":"#N/A"}]
[{"$nulls":8},70,{"$f":"INDEX(CPMSList,MATCH(1,--(COUNTIF(INDIRECT(\"'\"&CPMSList&\"'!$B$13:$q$13\"),I71)),0))","v":{"$error":"#N/A"}},{"$f":"MID(ADDRESS(1,MATCH(I71,INDIRECT(\"'\"&J71&\"'!$a$13:$q$13\"),0),1),2,1)","v":{"$error":"#N/A"}},{"$error":"#N/A"}]
[{"$nulls":8},71,{"$f":"INDEX(CPMSList,MATCH(1,--(COUNTIF(INDIRECT(\"'\"&CPMSList&\"'!$B$13:$q$13\"),I72)),0))","v":{"$error":"#N/A"}},{"$f":"MID(ADDRESS(1,MATCH(I72,INDIRECT(\"'\"&J72&\"'!$a$13:$q$13\"),0),1),2,1)","v":{"$error":"#N/A"}},{"$error":"#N/A"}]
[{"$nulls":8},72,{"$f":"INDEX(CPMSList,MATCH(1,--(COUNTIF(INDIRECT(\"'\"&CPMSList&\"'!$B$13:$q$13\"),I73)),0))","v":{"$error":"#N/A"}},{"$f":"MID(ADDRESS(1,MATCH(I73,INDIRECT(\"'\"&J73&\"'!$a$13:$q$13\"),0),1),2,1)","v":{"$error":"#N/A"}},{"$error":"#N/A"}]
[{"$nulls":8},73,{"$f":"INDEX(CPMSList,MATCH(1,--(COUNTIF(INDIRECT(\"'\"&CPMSList&\"'!$B$13:$q$13\"),I74)),0))","v":{"$error":"#N/A"}},{"$f":"MID(ADDRESS(1,MATCH(I74,INDIRECT(\"'\"&J74&\"'!$a$13:$q$13\"),0),1),2,1)","v":{"$error":"#N/A"}},{"$error":"#N/A"}]
[{"$nulls":8},74,{"$f":"INDEX(CPMSList,MATCH(1,--(COUNTIF(INDIRECT(\"'\"&CPMSList&\"'!$B$13:$q$13\"),I75)),0))","v":{"$error":"#N/A"}},{"$f":"MID(ADDRESS(1,MATCH(I75,INDIRECT(\"'\"&J75&\"'!$a$13:$q$13\"),0),1),2,1)","v":{"$error":"#N/A"}},{"$error":"#N/A"}]
[{"$nulls":8},75,{"$f":"INDEX(CPMSList,MATCH(1,--(COUNTIF(INDIRECT(\"'\"&CPMSList&\"'!$B$13:$q$13\"),I76)),0))","v":{"$error":"#N/A"}},{"$f":"MID(ADDRESS(1,MATCH(I76,INDIRECT(\"'\"&J76&\"'!$a$13:$q$13\"),0),1),2,1)","v":{"$error":"#N/A"}},{"$error":"#N/A"}]
[{"$nulls":8},76,{"$f":"INDEX(CPMSList,MATCH(1,--(COUNTIF(INDIRECT(\"'\"&CPMSList&\"'!$B$13:$q$13\"),I77)),0))","v":{"$error":"#N/A"}},{"$f":"MID(ADDRESS(1,MATCH(I77,INDIRECT(\"'\"&J77&\"'!$a$13:$q$13\"),0),1),2,1)","v":{"$error":"#N/A"}},{"$error":"#N/A"}]
[{"$nulls":8},77,{"$f":"INDEX(CPMSList,MATCH(1,--(COUNTIF(INDIRECT(\"'\"&CPMSList&\"'!$B$13:$q$13\"),I78)),0))","v":{"$error":"#N/A"}},{"$f":"MID(ADDRESS(1,MATCH(I78,INDIRECT(\"'\"&J78&\"'!$a$13:$q$13\"),0),1),2,1)","v":{"$error":"#N/A"}},{"$error":"#N/A"}]
[{"$nulls":8},78,{"$f":"INDEX(CPMSList,MATCH(1,--(COUNTIF(INDIRECT(\"'\"&CPMSList&\"'!$B$13:$q$13\"),I79)),0))","v":{"$error":"#N/A"}},{"$f":"MID(ADDRESS(1,MATCH(I79,INDIRECT(\"'\"&J79&\"'!$a$13:$q$13\"),0),1),2,1)","v":{"$error":"#N/A"}},{"$error":"#N/A"}]
[{"$nulls":8},79,{"$f":"INDEX(CPMSList,MATCH(1,--(COUNTIF(INDIRECT(\"'\"&CPMSList&\"'!$B$13:$q$13\"),I80)),0))","v":{"$error":"#N/A"}},{"$f":"MID(ADDRESS(1,MATCH(I80,INDIRECT(\"'\"&J80&\"'!$a$13:$q$13\"),0),1),2,1)","v":{"$error":"#N/A"}},{"$error":"#N/A"}]
[{"$nulls":8},{"$f":"+I80+1","v":80},{"$f":"INDEX(CPMSList,MATCH(1,--(COUNTIF(INDIRECT(\"'\"&CPMSList&\"'!$B$13:$q$13\"),I81)),0))","v":{"$error":"#N/A"}},{"$f":"MID(ADDRESS(1,MATCH(I81,INDIRECT(\"'\"&J81&\"'!$a$13:$q$13\"),0),1),2,1)","v":{"$error":"#N/A"}},{"$error":"#N/A"}]

{"sheet":"dropdown menus","index":36,"n_rows":215,"n_cols":9,"rows_kept":215,"hidden":true}
[1,"Process Unit Type (CPMS)"]
[2,"Recovery Furnace"]
[3,"Smelt Dissolving Tank"]
[4,"Lime Kiln"]
[5,"Sulfite Combustion Unit"]
[6,"Semichemical Combustion Unit"]
[7]
[8,"APCD"]
[9,"ESP"]
[10,"Wet Scrubber"]
[11,"ESP and Wet Scrubber"]
[12,"RTO"]
[13,"Vented to Recovery Furnace"]
[14,"Other: {specify}"]
[15]
[16,"Generic Y/N/NA"]
[17,"Yes"]
[18,"No","Yes"]
[19,"N/A","No"]
[20]
[21,"Exceedance Reasons"]
[22,"Startup/shutdown"]
[23,"Control equipment problems"]
[24,"Process problems"]
[25,"Other known causes"]
[26,"Other unknown causes"]
[27]
[28,"CMS Downtime Reasons"]
[29,"Monitoring equipment malfunction"]
[30,"Non-monitoring equipment malfunction"]
[31,"Quality assurance"]
[32,"Quality control calibration"]
[33,"Other known cause"]
[34,"Other unknown cause"]
[35]
[36,"Parameters"]
[37,"Scrubber liquid flow"]
[38,"Scrubber pressure drop"]
[39,"SDT scrubber fan amperage"]
[40,"RTO temperature (1-hr)"]
[41,"RTO temperature (3-hr)"]
[42,"Alternative parameter (3-hr)"]
[null,"Bypass of Control Device"]
[43,"Automatic Voltage Control"]
[44,"Opacity"]
[45,"Averaging time"]
[46,"3-hour"]
[47,"1-hour"]
[48]
[49,"Averaging period basis"]
[50,"Hours"]
[51,"Minutes"]
[52]
[53,"Forced blank cell"]
[54]
[55]
[56,"Process Unit Type (COMS)"]
[57,"Recovery Furnace"]
[58,"Lime Kiln"]
[59]
[60,"APCD (COMS)"]
[61,"Electrostatic Precipitator (ESP)"]
[62]
[63,"Parameters (COMS)"]
[64,"Recovery furnace opacity"]
[65,"Lime kiln opacity"]
[66,"Automatic Voltage Control"]
[67,"Averaging period (COMS)"]
[68,"6-minute"]
[69]
[70,"PM limit units"]
[71,"gr/dscf @ 8% O2"]
[72,"gr/dscf @ 10% O2"]
[73,"lb/ton BLS"]
[74]
[75,"Gaseous organic HAP units"]
[76,"lb/ton BLS (THC as carbon)"]
[77,"lb/ton BLS (methanol)"]
[78,"percent"]
[79,"Standards (Failures)"]
[80,"PM (metal HAP)"]
[81,"Methanol"]
[82,"THC"]
[83]
[84,"Units of standard (Failures)"]
[85,"gr/dscf @ 8% O2"]
[86,"gr/dscf @ 10% O2"]
[87,"%-reduction"]
[88,"lb/ton BLS"]
[89]
[90,"Duration units"]
[91,"minutes"]
[92,"hours"]
[93]
[94,"Emission or Parameter Limits (Failures)"]
[95,"Scrubber liquid flow"]
[96,"Scrubber pressure drop"]
[97,"SDT scrubber fan amperage"]
[98,"RTO temperature"]
[99,"Alternative parameter"]
[100,"Bypass of Control Device"]
[101,"Opacity"]
[102,"PM emission limit"]
[103,"Methanol emission limit"]
[104,"THC emission limit"]
[105]
[106]
[107,"User-Specified Menu: Process Unit"]
[108,{"$f":"+IFERROR(INDEX(C$109:C$118,MATCH(ROW()-ROW($D$108),$E$109:E$118,0)),\"\")","v":""},{"$f":"IF(Unit_Info!C24=\"\",\"\",Unit_Info!C24)","v":""},{"$f":"IF(COUNTIF(C109:C$118,C109)=1,C109,\"\")","v":""},{"$f":"+IF(D109=\"\",\"\",MAX(E108:E$108)+1)","v":""}]
[109,{"$f":"+IFERROR(INDEX(C$109:C$118,MATCH(ROW()-ROW($D$108),$E$109:E$118,0)),\"\")","v":""},{"$f":"IF(Unit_Info!C25=\"\",\"\",Unit_Info!C25)","v":""},{"$f":"IF(COUNTIF(C110:C$118,C110)=1,C110,\"\")","v":""},{"$f":"+IF(D110=\"\",\"\",MAX(E$108:E109)+1)","v":""}]
[110,{"$f":"+IFERROR(INDEX(C$109:C$118,MATCH(ROW()-ROW($D$108),$E$109:E$118,0)),\"\")","v":""},{"$f":"IF(Unit_Info!C26=\"\",\"\",Unit_Info!C26)","v":""},{"$f":"IF(COUNTIF(C111:C$118,C111)=1,C111,\"\")","v":""},{"$f":"+IF(D111=\"\",\"\",MAX(E$108:E110)+1)","v":""}]
[111,{"$f":"+IFERROR(INDEX(C$109:C$118,MATCH(ROW()-ROW($D$108),$E$109:E$118,0)),\"\")","v":""},{"$f":"IF(Unit_Info!C27=\"\",\"\",Unit_Info!C27)","v":""},{"$f":"IF(COUNTIF(C112:C$118,C112)=1,C112,\"\")","v":""},{"$f":"+IF(D112=\"\",\"\",MAX(E$108:E111)+1)","v":""}]
[112,{"$f":"+IFERROR(INDEX(C$109:C$118,MATCH(ROW()-ROW($D$108),$E$109:E$118,0)),\"\")","v":""},{"$f":"IF(Unit_Info!C28=\"\",\"\",Unit_Info!C28)","v":""},{"$f":"IF(COUNTIF(C113:C$118,C113)=1,C113,\"\")","v":""},{"$f":"+IF(D113=\"\",\"\",MAX(E$108:E112)+1)","v":""}]
[113,{"$f":"+IFERROR(INDEX(C$109:C$118,MATCH(ROW()-ROW($D$108),$E$109:E$118,0)),\"\")","v":""},{"$f":"IF(Unit_Info!C29=\"\",\"\",Unit_Info!C29)","v":""},{"$f":"IF(COUNTIF(C114:C$118,C114)=1,C114,\"\")","v":""},{"$f":"+IF(D114=\"\",\"\",MAX(E$108:E113)+1)","v":""}]
[114,{"$f":"+IFERROR(INDEX(C$109:C$118,MATCH(ROW()-ROW($D$108),$E$109:E$118,0)),\"\")","v":""},{"$f":"IF(Unit_Info!C30=\"\",\"\",Unit_Info!C30)","v":""},{"$f":"IF(COUNTIF(C115:C$118,C115)=1,C115,\"\")","v":""},{"$f":"+IF(D115=\"\",\"\",MAX(E$108:E114)+1)","v":""}]
[115,{"$f":"+IFERROR(INDEX(C$109:C$118,MATCH(ROW()-ROW($D$108),$E$109:E$118,0)),\"\")","v":""},{"$f":"IF(Unit_Info!C31=\"\",\"\",Unit_Info!C31)","v":""},{"$f":"IF(COUNTIF(C116:C$118,C116)=1,C116,\"\")","v":""},{"$f":"+IF(D116=\"\",\"\",MAX(E$108:E115)+1)","v":""}]
[126,{"$f":"+IFERROR(INDEX(C$109:C$118,MATCH(ROW()-ROW($D$108),$E$109:E$118,0)),\"\")","v":""},{"$f":"IF(Unit_Info!C32=\"\",\"\",Unit_Info!C32)","v":""},{"$f":"IF(COUNTIF(C117:C$118,C117)=1,C117,\"\")","v":""},{"$f":"+IF(D117=\"\",\"\",MAX(E$108:E116)+1)","v":""}]
[127,{"$f":"+IFERROR(INDEX(C$109:C$118,MATCH(ROW()-ROW($D$108),$E$109:E$118,0)),\"\")","v":""},{"$f":"IF(Unit_Info!C33=\"\",\"\",Unit_Info!C33)","v":""},{"$f":"IF(COUNTIF(C118:C$118,C118)=1,C118,\"\")","v":""},{"$f":"+IF(D118=\"\",\"\",MAX(E$108:E117)+1)","v":""}]
[128]
[129,"Mark with an X"]
[130]
[131,"X"]
[132,"User-Specified Menu: Process Unit Emission Point","Name","Column1","Rank",{"$nulls":3},"Unitlist"]
[133,{"$f":"+IFERROR(INDEX(C$124:C$163,MATCH(ROW()-ROW($D$123),$E$124:E$163,0)),\"\")","v":""},{"$f":"IF(Monitoring_Equipment!E24=\"\",\"\",Monitoring_Equipment!E24)","v":""},{"$f":"IF(COUNTIF(C$124:C124,C124)=1,C124,\"\")","v":""},{"$f":"+IF(D124=\"\",\"\",MAX(E123:E$123)+1)","v":""}]
[134,{"$f":"+IFERROR(INDEX(C$124:C$163,MATCH(ROW()-ROW($D$123),$E$124:E$163,0)),\"\")","v":""},{"$f":"IF(Monitoring_Equipment!E25=\"\",\"\",Monitoring_Equipment!E25)","v":""},{"$f":"IF(COUNTIF(C$124:C125,C125)=1,C125,\"\")","v":""},{"$f":"+IF(D125=\"\",\"\",MAX(E$123:E124)+1)","v":""}]
[135,{"$f":"+IFERROR(INDEX(C$124:C$163,MATCH(ROW()-ROW($D$123),$E$124:E$163,0)),\"\")","v":""},{"$f":"IF(Monitoring_Equipment!E26=\"\",\"\",Monitoring_Equipment!E26)","v":""},{"$f":"IF(COUNTIF(C$124:C126,C126)=1,C126,\"\")","v":""},{"$f":"+IF(D126=\"\",\"\",MAX(E$123:E125)+1)","v":""}]
[136,{"$f":"+IFERROR(INDEX(C$124:C$163,MATCH(ROW()-ROW($D$123),$E$124:E$163,0)),\"\")","v":""},{"$f":"IF(Monitoring_Equipment!E27=\"\",\"\",Monitoring_Equipment!E27)","v":""},{"$f":"IF(COUNTIF(C$124:C127,C127)=1,C127,\"\")","v":""},{"$f":"+IF(D127=\"\",\"\",MAX(E$123:E126)+1)","v":""}]
[137,{"$f":"+IFERROR(INDEX(C$124:C$163,MATCH(ROW()-ROW($D$123),$E$124:E$163,0)),\"\")","v":""},{"$f":"IF(Monitoring_Equipment!E28=\"\",\"\",Monitoring_Equipment!E28)","v":""},{"$f":"IF(COUNTIF(C$124:C128,C128)=1,C128,\"\")","v":""},{"$f":"+IF(D128=\"\",\"\",MAX(E$123:E127)+1)","v":""}]
[138,{"$f":"+IFERROR(INDEX(C$124:C$163,MATCH(ROW()-ROW($D$123),$E$124:E$163,0)),\"\")","v":""},{"$f":"IF(Monitoring_Equipment!E29=\"\",\"\",Monitoring_Equipment!E29)","v":""},{"$f":"IF(COUNTIF(C$124:C129,C129)=1,C129,\"\")","v":""},{"$f":"+IF(D129=\"\",\"\",MAX(E$123:E128)+1)","v":""}]
[139,{"$f":"+IFERROR(INDEX(C$124:C$163,MATCH(ROW()-ROW($D$123),$E$124:E$163,0)),\"\")","v":""},{"$f":"IF(Monitoring_Equipment!E30=\"\",\"\",Monitoring_Equipment!E30)","v":""},{"$f":"IF(COUNTIF(C$124:C130,C130)=1,C130,\"\")","v":""},{"$f":"+IF(D130=\"\",\"\",MAX(E$123:E129)+1)","v":""}]
[140,{"$f":"+IFERROR(INDEX(C$124:C$163,MATCH(ROW()-ROW($D$123),$E$124:E$163,0)),\"\")","v":""},{"$f":"IF(Monitoring_Equipment!E31=\"\",\"\",Monitoring_Equipment!E31)","v":""},{"$f":"IF(COUNTIF(C$124:C131,C131)=1,C131,\"\")","v":""},{"$f":"+IF(D131=\"\",\"\",MAX(E$123:E130)+1)","v":""}]
[141,{"$f":"+IFERROR(INDEX(C$124:C$163,MATCH(ROW()-ROW($D$123),$E$124:E$163,0)),\"\")","v":""},{"$f":"IF(Monitoring_Equipment!E32=\"\",\"\",Monitoring_Equipment!E32)","v":""},{"$f":"IF(COUNTIF(C$124:C132,C132)=1,C132,\"\")","v":""},{"$f":"+IF(D132=\"\",\"\",MAX(E$123:E131)+1)","v":""}]
[142,{"$f":"+IFERROR(INDEX(C$124:C$163,MATCH(ROW()-ROW($D$123),$E$124:E$163,0)),\"\")","v":""},{"$f":"IF(Monitoring_Equipment!E33=\"\",\"\",Monitoring_Equipment!E33)","v":""},{"$f":"IF(COUNTIF(C$124:C133,C133)=1,C133,\"\")","v":""},{"$f":"+IF(D133=\"\",\"\",MAX(E$123:E132)+1)","v":""}]
[143,{"$f":"+IFERROR(INDEX(C$124:C$163,MATCH(ROW()-ROW($D$123),$E$124:E$163,0)),\"\")","v":""},{"$f":"IF(Monitoring_Equipment!E34=\"\",\"\",Monitoring_Equipment!E34)","v":""},{"$f":"IF(COUNTIF(C$124:C134,C134)=1,C134,\"\")","v":""},{"$f":"+IF(D134=\"\",\"\",MAX(E$123:E133)+1)","v":""}]
[144,{"$f":"+IFERROR(INDEX(C$124:C$163,MATCH(ROW()-ROW($D$123),$E$124:E$163,0)),\"\")","v":""},{"$f":"IF(Monitoring_Equipment!E35=\"\",\"\",Monitoring_Equipment!E35)","v":""},{"$f":"IF(COUNTIF(C$124:C135,C135)=1,C135,\"\")","v":""},{"$f":"+IF(D135=\"\",\"\",MAX(E$123:E134)+1)","v":""}]
[145,{"$f":"+IFERROR(INDEX(C$124:C$163,MATCH(ROW()-ROW($D$123),$E$124:E$163,0)),\"\")","v":""},{"$f":"IF(Monitoring_Equipment!E36=\"\",\"\",Monitoring_Equipment!E36)","v":""},{"$f":"IF(COUNTIF(C$124:C136,C136)=1,C136,\"\")","v":""},{"$f":"+IF(D136=\"\",\"\",MAX(E$123:E135)+1)","v":""}]
[146,{"$f":"+IFERROR(INDEX(C$124:C$163,MATCH(ROW()-ROW($D$123),$E$124:E$163,0)),\"\")","v":""},{"$f":"IF(Monitoring_Equipment!E37=\"\",\"\",Monitoring_Equipment!E37)","v":""},{"$f":"IF(COUNTIF(C$124:C137,C137)=1,C137,\"\")","v":""},{"$f":"+IF(D137=\"\",\"\",MAX(E$123:E136)+1)","v":""}]
[147,{"$f":"+IFERROR(INDEX(C$124:C$163,MATCH(ROW()-ROW($D$123),$E$124:E$163,0)),\"\")","v":""},{"$f":"IF(Monitoring_Equipment!E38=\"\",\"\",Monitoring_Equipment!E38)","v":""},{"$f":"IF(COUNTIF(C$124:C138,C138)=1,C138,\"\")","v":""},{"$f":"+IF(D138=\"\",\"\",MAX(E$123:E137)+1)","v":""}]
[148,{"$f":"+IFERROR(INDEX(C$124:C$163,MATCH(ROW()-ROW($D$123),$E$124:E$163,0)),\"\")","v":""},{"$f":"IF(Monitoring_Equipment!E39=\"\",\"\",Monitoring_Equipment!E39)","v":""},{"$f":"IF(COUNTIF(C$124:C139,C139)=1,C139,\"\")","v":""},{"$f":"+IF(D139=\"\",\"\",MAX(E$123:E138)+1)","v":""}]
[149,{"$f":"+IFERROR(INDEX(C$124:C$163,MATCH(ROW()-ROW($D$123),$E$124:E$163,0)),\"\")","v":""},{"$f":"IF(Monitoring_Equipment!E40=\"\",\"\",Monitoring_Equipment!E40)","v":""},{"$f":"IF(COUNTIF(C$124:C140,C140)=1,C140,\"\")","v":""},{"$f":"+IF(D140=\"\",\"\",MAX(E$123:E139)+1)","v":""}]
[150,{"$f":"+IFERROR(INDEX(C$124:C$163,MATCH(ROW()-ROW($D$123),$E$124:E$163,0)),\"\")","v":""},{"$f":"IF(Monitoring_Equipment!E41=\"\",\"\",Monitoring_Equipment!E41)","v":""},{"$f":"IF(COUNTIF(C$124:C141,C141)=1,C141,\"\")","v":""},{"$f":"+IF(D141=\"\",\"\",MAX(E$123:E140)+1)","v":""}]
[151,{"$f":"+IFERROR(INDEX(C$124:C$163,MATCH(ROW()-ROW($D$123),$E$124:E$163,0)),\"\")","v":""},{"$f":"IF(Monitoring_Equipment!E42=\"\",\"\",Monitoring_Equipment!E42)","v":""},{"$f":"IF(COUNTIF(C$124:C142,C142)=1,C142,\"\")","v":""},{"$f":"+IF(D142=\"\",\"\",MAX(E$123:E141)+1)","v":""}]
[152,{"$f":"+IFERROR(INDEX(C$124:C$163,MATCH(ROW()-ROW($D$123),$E$124:E$163,0)),\"\")","v":""},{"$f":"IF(Monitoring_Equipment!E43=\"\",\"\",Monitoring_Equipment!E43)","v":""},{"$f":"IF(COUNTIF(C$124:C143,C143)=1,C143,\"\")","v":""},{"$f":"+IF(D143=\"\",\"\",MAX(E$123:E142)+1)","v":""}]
[153,{"$f":"+IFERROR(INDEX(C$124:C$163,MATCH(ROW()-ROW($D$123),$E$124:E$163,0)),\"\")","v":""},{"$f":"IF(Monitoring_Equipment!E44=\"\",\"\",Monitoring_Equipment!E44)","v":""},{"$f":"IF(COUNTIF(C$124:C144,C144)=1,C144,\"\")","v":""},{"$f":"+IF(D144=\"\",\"\",MAX(E$123:E143)+1)","v":""}]
[154,{"$f":"+IFERROR(INDEX(C$124:C$163,MATCH(ROW()-ROW($D$123),$E$124:E$163,0)),\"\")","v":""},{"$f":"IF(Monitoring_Equipment!E45=\"\",\"\",Monitoring_Equipment!E45)","v":""},{"$f":"IF(COUNTIF(C$124:C145,C145)=1,C145,\"\")","v":""},{"$f":"+IF(D145=\"\",\"\",MAX(E$123:E144)+1)","v":""}]
[155,{"$f":"+IFERROR(INDEX(C$124:C$163,MATCH(ROW()-ROW($D$123),$E$124:E$163,0)),\"\")","v":""},{"$f":"IF(Monitoring_Equipment!E46=\"\",\"\",Monitoring_Equipment!E46)","v":""},{"$f":"IF(COUNTIF(C$124:C146,C146)=1,C146,\"\")","v":""},{"$f":"+IF(D146=\"\",\"\",MAX(E$123:E145)+1)","v":""}]
[156,{"$f":"+IFERROR(INDEX(C$124:C$163,MATCH(ROW()-ROW($D$123),$E$124:E$163,0)),\"\")","v":""},{"$f":"IF(Monitoring_Equipment!E47=\"\",\"\",Monitoring_Equipment!E47)","v":""},{"$f":"IF(COUNTIF(C$124:C147,C147)=1,C147,\"\")","v":""},{"$f":"+IF(D147=\"\",\"\",MAX(E$123:E146)+1)","v":""}]
[157,{"$f":"+IFERROR(INDEX(C$124:C$163,MATCH(ROW()-ROW($D$123),$E$124:E$163,0)),\"\")","v":""},{"$f":"IF(Monitoring_Equipment!E48=\"\",\"\",Monitoring_Equipment!E48)","v":""},{"$f":"IF(COUNTIF(C$124:C148,C148)=1,C148,\"\")","v":""},{"$f":"+IF(D148=\"\",\"\",MAX(E$123:E147)+1)","v":""}]
[158,{"$f":"+IFERROR(INDEX(C$124:C$163,MATCH(ROW()-ROW($D$123),$E$124:E$163,0)),\"\")","v":""},{"$f":"IF(Monitoring_Equipment!E49=\"\",\"\",Monitoring_Equipment!E49)","v":""},{"$f":"IF(COUNTIF(C$124:C149,C149)=1,C149,\"\")","v":""},{"$f":"+IF(D149=\"\",\"\",MAX(E$123:E148)+1)","v":""}]
[159,{"$f":"+IFERROR(INDEX(C$124:C$163,MATCH(ROW()-ROW($D$123),$E$124:E$163,0)),\"\")","v":""},{"$f":"IF(Monitoring_Equipment!E50=\"\",\"\",Monitoring_Equipment!E50)","v":""},{"$f":"IF(COUNTIF(C$124:C150,C150)=1,C150,\"\")","v":""},{"$f":"+IF(D150=\"\",\"\",MAX(E$123:E149)+1)","v":""}]
[160,{"$f":"+IFERROR(INDEX(C$124:C$163,MATCH(ROW()-ROW($D$123),$E$124:E$163,0)),\"\")","v":""},{"$f":"IF(Monitoring_Equipment!E51=\"\",\"\",Monitoring_Equipment!E51)","v":""},{"$f":"IF(COUNTIF(C$124:C151,C151)=1,C151,\"\")","v":""},{"$f":"+IF(D151=\"\",\"\",MAX(E$123:E150)+1)","v":""}]
[161,{"$f":"+IFERROR(INDEX(C$124:C$163,MATCH(ROW()-ROW($D$123),$E$124:E$163,0)),\"\")","v":""},{"$f":"IF(Monitoring_Equipment!E52=\"\",\"\",Monitoring_Equipment!E52)","v":""},{"$f":"IF(COUNTIF(C$124:C152,C152)=1,C152,\"\")","v":""},{"$f":"+IF(D152=\"\",\"\",MAX(E$123:E151)+1)","v":""}]
[162,{"$f":"+IFERROR(INDEX(C$124:C$163,MATCH(ROW()-ROW($D$123),$E$124:E$163,0)),\"\")","v":""},{"$f":"IF(Monitoring_Equipment!E53=\"\",\"\",Monitoring_Equipment!E53)","v":""},{"$f":"IF(COUNTIF(C$124:C153,C153)=1,C153,\"\")","v":""},{"$f":"+IF(D153=\"\",\"\",MAX(E$123:E152)+1)","v":""}]
[163]
[164,"Detailed report type"]
[165,"orange tabs in this workbook"]
[166,"separate file: {enter name}"]
[167]
[168,"states"]
[169,"AK"]
[170,"AL"]
[null,"AR"]
[null,"AS"]
[null,"AZ"]
[null,"CA"]
[null,"CO"]
[null,"CT"]
[null,"DC"]
[null,"DE"]
[null,"FL"]
[null,"GA"]
[null,"GU"]
[null,"HI"]
[null,"IA"]
[null,"ID"]
[null,"IL"]
[null,"IN"]
[null,"KS"]
[null,"KY"]
[null,"LA"]
[null,"MA"]
[null,"MD"]
[null,"ME"]
[null,"MI"]
[null,"MN"]
[null,"MO"]
[null,"MP"]
[null,"MS"]
[null,"MT"]
[null,"NC"]
[null,"ND"]
[null,"NE"]
[null,"NH"]
[null,"NJ"]
[null,"NM"]
[null,"NV"]
[null,"NY"]
[null,"OH"]
[null,"OK"]
[null,"OR"]
[null,"PA"]
[null,"PR"]
[null,"RI"]
[null,"SC"]
[null,"SD"]
[null,"TN"]
[null,"TX"]
[null,"UT"]
[null,"VA"]
[null,"VI"]
[null,"VT"]
[null,"WA"]
[null,"WI"]
[null,"WV"]
[null,"WY"]

{"sheet":"ESRI_MAPINFO_SHEET","index":37,"n_rows":0,"n_cols":0,"rows_kept":0,"hidden":true}