Workbook

Sheet FY23 Cust Burden
A1: USDA - Office of the Chief Information Officer | D1: Title of Information Document | J1: OMB No.
K2: 0503-0014
A3: SUMMARY OF INFORMATION COLLECTION | D3: USDA eAuthentication Service Customer Registration | J3: Date Prepared
K4: 43787
A5: INSTRUCTIONS: | F5: > | G5: (f) TOTAL | I5: (h) TOTAL | K5: (k) TOTAL
A6: Use this form when a single information collection document involves multiple reporting and | F6: > | G6: - | H6: = (e) Average | I6: - | J6: = (g) Average | K6: - | L6: = (j) Average
A7: recordkeeping requirements. | F7: > | G7: (d) TOTAL | I7: (f) TOTAL | K7: (i) TOTAL
A8: IDENTIFICATION OF REPORTING AND RECORDKEEPPING REQUIREMENTS | H8: ANNUAL BURDEN
D9: FORM | G9: REPORTS | K9: RECORDS
D10: NO(s) | E10: NO. OF Monthly | F10: NO. OF | G10: TOTAL | H10: HOURS | I10: TOTAL | J10: NO. OF | K10: ANNUAL | L10: TOTAL
A11: SECTION OF | D11: (If "none" | E11: RESPON- | F11: RESPONSES | G11: ANNUAL | H11: PER | I11: HOURS | J11: RECORD- | K11: HOURS PER | L11: RECORD- | O11: =O15*2080 -> 88358.4
A12: REGULATIONS | C12: DESCRIPTION | D12: so state) | E12: DENTS | F12: PER | G12: RESPONSES | H12: RESPONSE | I12: (Col. f & g) | J12: KEEPERS | K12: RECORD- | L12: KEEPING
F13: RESPON- | G13: (Col. d & e) | K13: KEEPER | L13: HOURS
F14: DENT | L14: (Col. i & j) | N14: Farmer | O14: Federal Computer Specialist Average
A15: (a) | C15: (b) | D15: (c) | E15: (d) | F15: (e) | G15: (f) | H15: (g) | I15: (h) | J15: (i) | K15: (j) | L15: (k) | N15: 18.21 | O15: ='FY23 Federal Costs'!E2 -> 42.48
A16: PL-106-222 | B16: Register for any eAuth Account | C16: Electronic Self-Registration for a USDA eAuthentication Account Customer registers for an eAuthentication account online from the eAuthentication web site. | D16: None | E16: 19591 | F16: 1 | G16: =E16*12 -> 235092 | H16: =3/60 -> 0.05 | I16: 11754.6 | M16: 3 minutes | N16: =I16*N15 -> 214051.27 | Q16: =G16*H16 -> 11754.6
A17: PL-106-222 | B17: Complete additional information for Level 2 | C17: Electronic Self-Registration for a USDA eAuthentication with Identity Proofing Customer provides additional information for identity verification online from the eAuthentication web site. | D17: None | E17: 6076 | F17: 1 | G17: =E17*12 -> 72912 | H17: =3/60 -> 0.05 | I17: =H17*G17 -> 3645.6 | M17: 3 minutes | N17: =I17*N15 -> 66386.376 | Q17: =G17*H17 -> 3645.6
A18: PL-106-222 | B18: Visit LRA | C18: Travel Time Required to Identity Proof After providing additional information necessary for identity proofing, customer travels to a USDA Service Center to manually validate their identity through a Local Registration Authority. | D18: None | E18: =E17*0.09 -> 546.84 | F18: 1 | G18: =E18*12 -> 6562.08 | H18: 1 | I18: 6562 | M18: 1 hour | N18: =I18*$N$15 -> 119494.02 | O18: ='October 2019 - 2022'!D59 -> 0.089744469 | P18: 9% of users go to LRA | Q18: =G18*H18 -> 6562.08
A19: PL-106-222 | B19: OIDP | C19: After providing additional information necessary for identity proofing, customer complete the Online Identity Proofing process. | D19: None | E19: =E17*0.91 -> 5529.16 | F19: 1 | G19: =E19*12 -> 66349.92 | H19: 0.08 | I19: 5308 | M19: 5 minutes | N19: =I19*$N$15 -> 96658.68 | O19: ='October 2019 - 2022'!D58 -> 0.91025553 | P19: 91% of users use OIDP | Q19: =G19*H19 -> 5307.9936
N21: =SUM(N16:N19) -> 496590.34
A23: Total | G23: =G16+G17 -> 308004 | I23: =SUM(I16:I19) -> 27270.2

Sheet FY23 Cust Burden Final
A1: USDA - Office of the Chief Information Officer | D1: Title of Information Document | J1: OMB No.
K2: 0503-0014
A3: SUMMARY OF INFORMATION COLLECTION | D3: USDA eAuthentication Service Customer Registration | J3: Date Prepared
K4: 45085
A5: INSTRUCTIONS: | F5: > | G5: (f) TOTAL | I5: (h) TOTAL | K5: (k) TOTAL
A6: Use this form when a single information collection document involves multiple reporting and | F6: > | G6: - | H6: = (e) Average | I6: - | J6: = (g) Average | K6: - | L6: = (j) Average
A7: recordkeeping requirements. | F7: > | G7: (d) TOTAL | I7: (f) TOTAL | K7: (i) TOTAL
A8: IDENTIFICATION OF REPORTING AND RECORDKEEPPING REQUIREMENTS | H8: ANNUAL BURDEN | S8: F19
D9: FORM | G9: REPORTS | K9: RECORDS | S9: REPORTS
D10: NO(s) | E10: NO. OF ANNUAL | F10: NO. OF | G10: TOTAL | H10: HOURS | I10: TOTAL | J10: NO. OF | K10: ANNUAL | L10: TOTAL | S10: TOTAL | T10: HOURS | U10: TOTAL
A11: SECTION OF | D11: (If "none" | E11: RESPON- | F11: RESPONSES | G11: ANNUAL | H11: PER | I11: HOURS | J11: RECORD- | K11: HOURS PER | L11: RECORD- | O11: =O15*2080 -> 88358.4 | S11: ANNUAL | T11: PER | U11: HOURS
A12: REGULATIONS | C12: DESCRIPTION | D12: so state) | E12: DENTS | F12: PER | G12: RESPONSES | H12: RESPONSE | I12: (Col. f & g) | J12: KEEPERS | K12: RECORD- | L12: KEEPING | S12: RESPONSES | T12: RESPONSE | U12: (Col. f & g)
F13: RESPON- | G13: (Col. d & e) | K13: KEEPER | L13: HOURS | S13: (Col. d & e)
F14: DENT | L14: (Col. i & j) | N14: Farmer | O14: Federal Computer Specialist Average
A15: (a) | C15: (b) | D15: (c) | E15: (d) | F15: (e) | G15: (f) | H15: (g) | I15: (h) | J15: (i) | K15: (j) | L15: (k) | N15: 18.21 | O15: ='FY23 Federal Costs'!E2 -> 42.48 | S15: (f) | T15: (g) | U15: (h) | W15: Difference between FY22 and FY19
A16: PL-106-222 | B16: Register for any eAuth Account | C16: Electronic Self-Registration for a USDA eAuthentication Account Customer registers for an eAuthentication account online from the eAuthentication web site. | D16: None | E16: 235092 | F16: 1 | G16: =E16 -> 235092 | H16: =3/60 -> 0.05 | I16: 11754.6 | M16: 3 minutes | N16: =I16*N15 -> 214051.27 | Q16: =G16*H16 -> 11754.6 | S16: ='FY19'!F16 -> 103704 | T16: =3/60 -> 0.05 | U16: =S16*T16 -> 5185.2 | W16: =G16-S16 -> 131388 | X16: =W16/G16 -> 0.55887908
A17: PL-106-222 | B17: Complete additional information for Level 2 | C17: Electronic Self-Registration for a USDA eAuthentication with Identity Proofing Customer provides additional information for identity verification online from the eAuthentication web site. | D17: None | E17: 72912 | F17: 1 | G17: =E17*F17 -> 72912 | H17: =3/60 -> 0.05 | I17: =H17*G17 -> 3645.6 | M17: 3 minutes | N17: =I17*N15 -> 66386.376 | Q17: =G17*H17 -> 3645.6 | S17: ='FY19'!F18 -> 34692 | T17: 0.05 | U17: =S17*T17 -> 1734.6 | W17: =G17-S17 -> 38220 | X17: =W17/G17 -> 0.52419355
A18: PL-106-222 | B18: Visit LRA | C18: Travel Time Required to Identity Proof After providing additional information necessary for identity proofing, customer travels to a USDA Service Center to manually validate their identity through a Local Registration Authority. | D18: None | E18: =E17*0.09 -> 6562.08 | F18: 1 | G18: =E18*F18 -> 6562.08 | H18: 1 | I18: 6562 | M18: 1 hour | N18: =I18*$N$15 -> 119494.02 | O18: ='October 2019 - 2022'!D59 -> 0.089744469 | P18: 9% of users go to LRA | Q18: =G18*H18 -> 6562.08 | S18: ='FY19'!F19 -> 5203.8 | T18: 1 | U18: =S18*T18 -> 5203.8 | W18: =G18-S18 -> 1358.28 | X18: =W18/G18 -> 0.20698925 | Z18: =S18/S17 -> 0.15
A19: PL-106-222 | B19: OIDP | C19: After providing additional information necessary for identity proofing, customer complete the Online Identity Proofing process. | D19: None | E19: =E17*0.91 -> 66349.92 | F19: 1 | G19: =E19*F19 -> 66349.92 | H19: 0.08 | I19: 5308 | M19: 5 minutes | N19: =I19*$N$15 -> 96658.68 | O19: ='October 2019 - 2022'!D58 -> 0.91025553 | P19: 91% of users use OIDP | Q19: =G19*H19 -> 5307.9936 | S19: ='FY19'!F20 -> 29488.2 | T19: 0.17 | U19: 4914.7 | W19: =G19-S19 -> 36861.72 | X19: The number of respondents increased dramatically but the hours decreased due to more users being familiar with identity verification processes.
N20: =SUM(N16:N19) -> 496590.34
A21: Total | I21: =SUM(I16:I19) -> 27270.2
P22: Individuals in Households | S22: 23051 | T22: 4920 | U22: =1-($S$25-S22)/$S$25 -> 0.94444217
C23: Public Sector - Level 1 & 2 Registration Form to Request | G23: =ROUND(0.86*G16,0) -> 202179 | P23: State, Local, and Tribal Govts | S23: 1356 | T23: 289 | U23: =1-($S$25-S23)/$S$25 -> 0.055557832
C24: Individuals in Households | G24: =ROUND(0.13*G16,0) -> 30562
C25: State, Local, and Tribal Govts | G25: =ROUND(0.01*G16,0) -> 2351 | S25: =SUM(S22:S24) -> 24407 | T25: =SUM(T22:T24) -> 5209 | U25: =1-($S$25-S25)/$S$25 -> 1
C26: Total Number of Respondants | G26: =SUM(G23:G25) -> 235092
G29: Responses | I29: Hours
C30: Previous | G30: ='FY19'!F35 -> 173088 | I30: 13598
C31: Now | G31: =G16 -> 235092 | I31: =I21 -> 27270.2
C33: Differences | G33: =G30-G31 -> -62004 | I33: =I30-I31 -> -13672.2
C35: Change due to New Statute | G35: 0
C36: Change due to Agency Discretion | G36: 0
C37: Change due to Agency Adjustment | G37: =G33 -> -62004
C38: Change due to PRA Violation | G38: 0

Sheet FY23 Cust Burden - Working
A1: USDA - Office of the Chief Information Officer | D1: Title of Information Document | J1: OMB No.
K2: 0503-0014
A3: SUMMARY OF INFORMATION COLLECTION | D3: USDA eAuthentication Service Customer Registration | J3: Date Prepared
K4: 45085
A5: INSTRUCTIONS: | F5: > | G5: (f) TOTAL | I5: (h) TOTAL | K5: (k) TOTAL
A6: Use this form when a single information collection document involves multiple reporting and | F6: > | G6: - | H6: = (e) Average | I6: - | J6: = (g) Average | K6: - | L6: = (j) Average
A7: recordkeeping requirements. | F7: > | G7: (d) TOTAL | I7: (f) TOTAL | K7: (i) TOTAL
A8: IDENTIFICATION OF REPORTING AND RECORDKEEPPING REQUIREMENTS | H8: ANNUAL BURDEN | S8: F19
D9: FORM | G9: REPORTS | K9: RECORDS | S9: REPORTS
D10: NO(s) | E10: NO. OF ANNUAL | F10: NO. OF | G10: TOTAL | H10: HOURS | I10: TOTAL | J10: NO. OF | K10: ANNUAL | L10: TOTAL | S10: TOTAL | T10: HOURS | U10: TOTAL
A11: SECTION OF | D11: (If "none" | E11: RESPON- | F11: RESPONSES | G11: ANNUAL | H11: PER | I11: HOURS | J11: RECORD- | K11: HOURS PER | L11: RECORD- | O11: =O15*2080 -> 88358.4 | S11: ANNUAL | T11: PER | U11: HOURS
A12: REGULATIONS | C12: DESCRIPTION | D12: so state) | E12: DENTS | F12: PER | G12: RESPONSES | H12: RESPONSE | I12: (Col. f & g) | J12: KEEPERS | K12: RECORD- | L12: KEEPING | S12: RESPONSES | T12: RESPONSE | U12: (Col. f & g)
F13: RESPON- | G13: (Col. d & e) | K13: KEEPER | L13: HOURS | S13: (Col. d & e)
F14: DENT | L14: (Col. i & j) | N14: Farmer | O14: Federal Computer Specialist Average
A15: (a) | C15: (b) | D15: (c) | E15: (d) | F15: (e) | G15: (f) | H15: (g) | I15: (h) | J15: (i) | K15: (j) | L15: (k) | N15: 18.21 | O15: ='FY23 Federal Costs'!E2 -> 42.48 | S15: (f) | T15: (g) | U15: (h) | W15: Difference between FY22 and FY19
A16: PL-106-222 | B16: Register for any eAuth Account | C16: Electronic Self-Registration for a USDA eAuthentication Account Customer registers for an eAuthentication account online from the eAuthentication web site. | D16: None | E16: 235092 | F16: 1 | G16: =E16 -> 235092 | H16: =3/60 -> 0.05 | I16: 11754.6 | M16: 3 minutes | N16: =I16*N15 -> 214051.27 | Q16: =G16*H16 -> 11754.6 | S16: ='FY19'!F16 -> 103704 | T16: =3/60 -> 0.05 | U16: =S16*T16 -> 5185.2 | W16: =G16-S16 -> 131388 | X16: =W16/G16 -> 0.55887908
A17: PL-106-222 | B17: Complete additional information for Level 2 | C17: Electronic Self-Registration for a USDA eAuthentication with Identity Proofing Customer provides additional information for identity verification online from the eAuthentication web site. | D17: None | E17: 72912 | F17: 1 | G17: =E17*F17 -> 72912 | H17: =3/60 -> 0.05 | I17: =H17*G17 -> 3645.6 | M17: 3 minutes | N17: =I17*N15 -> 66386.376 | Q17: =G17*H17 -> 3645.6 | S17: ='FY19'!F18 -> 34692 | T17: 0.05 | U17: =S17*T17 -> 1734.6 | W17: =G17-S17 -> 38220 | X17: =W17/G17 -> 0.52419355
A18: PL-106-222 | B18: Visit LRA | C18: Travel Time Required to Identity Proof After providing additional information necessary for identity proofing, customer travels to a USDA Service Center to manually validate their identity through a Local Registration Authority. | D18: None | E18: =E17*0.09 -> 6562.08 | F18: 1 | G18: =E18*F18 -> 6562.08 | H18: 1 | I18: 6562 | M18: 1 hour | N18: =I18*$N$15 -> 119494.02 | O18: ='October 2019 - 2022'!D59 -> 0.089744469 | P18: 9% of users go to LRA | Q18: =G18*H18 -> 6562.08 | S18: ='FY19'!F19 -> 5203.8 | T18: 1 | U18: =S18*T18 -> 5203.8 | W18: =G18-S18 -> 1358.28 | X18: =W18/G18 -> 0.20698925 | Z18: =S18/S17 -> 0.15
A19: PL-106-222 | B19: OIDP | C19: After providing additional information necessary for identity proofing, customer complete the Online Identity Proofing process. | D19: None | E19: =E17*0.91 -> 66349.92 | F19: 1 | G19: =E19*F19 -> 66349.92 | H19: 0.08 | I19: 5308 | M19: 5 minutes | N19: =I19*$N$15 -> 96658.68 | O19: ='October 2019 - 2022'!D58 -> 0.91025553 | P19: 91% of users use OIDP | Q19: =G19*H19 -> 5307.9936 | S19: ='FY19'!F20 -> 29488.2 | T19: 0.17 | U19: 4914.7 | W19: =G19-S19 -> 36861.72 | X19: The number of respondents increased dramatically but the hours decreased due to more users being familiar with identity verification processes.
N20: =SUM(N16:N19) -> 496590.34
A21: Total | I21: =SUM(I16:I19) -> 27270.2
P24: Public Sector - Level 1 & 2 Registration Form to Request | S24: 148681 | T24: 8389 | U24: =1-($S$28-S24)/$S$28 -> 0.8589908
P25: Individuals in Households | S25: 23051 | T25: 4920 | U25: =1-($S$28-S25)/$S$28 -> 0.13317503
C26: Public Sector - Level 1 & 2 Registration Form to Request | G26: =ROUND(U24*G16,0) -> 201942 | P26: State, Local, and Tribal Govts | S26: 1356 | T26: 289 | U26: =1-($S$28-S26)/$S$28 -> 0.0078341653
C27: Individuals in Households | G27: =ROUND(U25*G16,0) -> 31308
C28: State, Local, and Tribal Govts | G28: =ROUND(U26*G16,0) -> 1842 | S28: =SUM(S24:S27) -> 173088 | T28: =SUM(T24:T27) -> 13598 | U28: =1-($S$28-S28)/$S$28 -> 1
C29: Total Number of Respondants | G29: =SUM(G26:G28) -> 235092
G32: Responses | I32: Hours
C33: Previous | G33: ='FY19'!F35 -> 173088 | I33: 13598
C34: Now | G34: =G16 -> 235092 | I34: =I21 -> 27270.2
C36: Differences | G36: =G33-G34 -> -62004 | I36: =I33-I34 -> -13672.2
C38: Change due to New Statute | G38: 0
C39: Change due to Agency Discretion | G39: 0
C40: Change due to Agency Adjustment | G40: =G36 -> -62004
C41: Change due to PRA Violation | G41: 0

Sheet Notes and Links
A1: Federal Register :: Submission for OMB Review; Comment Request
A3: Occupational Employment and Wages - May 2022 (bls.gov)
A6: Employer Costs for Employee Compensation – December 2022 (bls.gov)

Sheet FY23 Customer Burden
A1: USDA - Office of the Chief Information Officer | D1: Title of Information Document | K1: OMB No.
L2: 0503-0014
A3: SUMMARY OF INFORMATION COLLECTION | D3: USDA eAuthentication Service Customer Registration | K3: Date Prepared
L4: 43787
A5: INSTRUCTIONS: | F5: > | G5: (f) TOTAL | J5: (h) TOTAL | L5: (k) TOTAL
A6: Use this form when a single information collection document involves multiple reporting and | F6: > | G6: - | I6: = (e) Average | J6: - | K6: = (g) Average | L6: - | M6: = (j) Average
A7: recordkeeping requirements. | F7: > | G7: (d) TOTAL | J7: (f) TOTAL | L7: (i) TOTAL
A8: IDENTIFICATION OF REPORTING AND RECORDKEEPPING REQUIREMENTS | I8: ANNUAL BURDEN
D9: FORM | G9: REPORTS | L9: RECORDS
D10: NO(s) | E10: NO. OF Monthly | F10: NO. OF | G10: TOTAL | H10: TOTAL | I10: HOURS | J10: TOTAL | K10: NO. OF | L10: ANNUAL | M10: TOTAL
A11: SECTION OF | D11: (If "none" | E11: RESPON- | F11: RESPONSES | G11: ANNUAL | H11: ANNUAL | I11: PER | J11: HOURS | K11: RECORD- | L11: HOURS PER | M11: RECORD- | P11: =P15*2080 -> 88358.4
A12: REGULATIONS | C12: DESCRIPTION | D12: so state) | E12: DENTS | F12: PER | G12: RESPONSES | H12: RESPONSES | I12: RESPONSE | J12: (Col. f & g) | K12: KEEPERS | L12: RECORD- | M12: KEEPING
F13: RESPON- | G13: (Col. d & e) | H13: (Col. d & e) | L13: KEEPER | M13: HOURS
F14: DENT | M14: (Col. i & j) | O14: Farmer | P14: GS11-12
A15: (a) | C15: (b) | D15: (c) | E15: (d) | F15: (e) | G15: (f) | H15: Rounded | I15: (g) | J15: (h) | K15: (i) | L15: (j) | M15: (k) | O15: 16.7 | P15: ='Fed Salary'!C5 -> 42.48
A16: PL-106-222 | B16: Register for any eAuth Account | C16: Electronic Self-Registration for a USDA eAuthentication Account Customer registers for an eAuthentication account online from the eAuthentication web site. | D16: None | E16: ='October 2019 - 2022'!B53 -> 19590.889 | F16: 1 | G16: =E16*12 -> 235090.67 | H16: =G16 -> 235090.67 | I16: =3/60 -> 0.05 | J16: =H16*I16 -> 11754.533 | N16: 3 minutes | O16: =J16*$O$15 -> 196300.71
A17: PL-106-222 | B17: Complete additional information for Level 2 | C17: Electronic Self-Registration for a USDA eAuthentication with Identity Proofing Customer provides additional information for identity verification online from the eAuthentication web site. | D17: None | E17: ='October 2019 - 2022'!D76 -> 6075.5833 | F17: 1 | G17: =E17*12 -> 72907 | H17: =G17 -> 72907 | I17: =3/60 -> 0.05 | J17: =H17*I17 -> 3645.35 | N17: 3 minutes | O17: =J17*$O$15 -> 60877.345
A18: PL-106-222 | B18: Visit LRA | C18: Travel Time Required to Identity Proof After providing additional information necessary for identity proofing, customer travels to a USDA Service Center to manually validate their identity through a Local Registration Authority. | D18: None | E18: ='October 2019 - 2022'!C76 -> 545.25 | F18: 1 | G18: =E18*12 -> 6543 | H18: 6562 | I18: 1 | J18: =H18*I18 -> 6562 | N18: 1 hour | O18: =J18*$O$15 -> 109585.4 | P18: ='October 2019 - 2022'!D59 -> 0.089744469 | Q18: 9% of users go to LRA
A19: PL-106-222 | B19: OIDP | C19: After providing additional information necessary for identity proofing, customer complete the Online Identity Proofing process. | D19: None | E19: ='October 2019 - 2022'!B76 -> 5530.3333 | F19: 1 | G19: =E19*12 -> 66364 | H19: =H17*0.91 -> 66345.37 | I19: =5/60 -> 0.083333333 | J19: =H19*I19 -> 5528.7808 | N19: 5 minutes | O19: =J19*$O$15 -> 92330.64 | P19: ='October 2019 - 2022'!D58 -> 0.91025553 | Q19: 91% of users use OIDP
O21: =SUM(O16:O19) -> 459094.09
G22: =SUM(G16:G19) -> 380904.67 | H22: =SUM(H16:H19) -> 380905.04
C29: Higher Access - LRA | I29: =I16+I17+I18 -> 1.1 | J29: =I29*H18 -> 7218.2 | O29: =J29*O15 -> 120543.94
C30: Higher Access - OIDP | I30: =I16+I17+I19 -> 0.18333333 | J30: =I30*H19 -> 12163.318 | O30: =J30*O15 -> 203127.41
N33: Total Cost to the public | O33: =O16+O17+O18+O19 -> 459094.09
A39: Total | G39: =SUM(G16:G19) -> 380904.67 | J39: =SUM(J16:J19) -> 27490.664

Sheet FY23 Federal Costs
B1: Activities | D1: Salary | E1: Cost Per Hour | F1: Time | G1: Hours Per Month | H1: Hours Per Year | I1: Total Cost | K1: Rounded
A2: LRA Program Management | B2: Training, documentation, communication | C2: Average | D2: =E2*2080 -> 88358.4 | E2: 42.48 | G2: 15 | H2: =G2*12 -> 180 | I2: =H2*E2 -> 7646.4 | J2: Barb | K2: =53.67*H2 -> 9660.6
A3: LRA Access | B3: Assigning training, managing LRA role | C3: Average | D3: =E3*2080 -> 88358.4 | E3: 42.48 | G3: 20 | H3: =G3*12 -> 240 | I3: =H3*E3 -> 10195.2 | J3: Tier 3 | K3: 9036
A5: Total | I5: =SUM(I2:I3) -> 17841.6
B6: Experian Transaction Costs
A10: LRA Identity Proofing | B10: Perform identity proofing | C10: Average | D10: ='Fed Salary'!B5 -> 88358.4 | E10: 42.48 | F10: =15/60 -> 0.25 | H10: 1640.5 | I10: =H10*E10 -> 69688.44 | J10: LRAs | K10: 67900.3
A15: Total Cost to the Federal Government | I15: =I5+I10 -> 87530.04 | K15: =SUM(K2:K10) -> 86596.9

Sheet FY23
A1: USDA - Office of the Chief Information Officer | C1: Title of Information Document | I1: OMB No.
J2: 0503-0014
A3: SUMMARY OF INFORMATION COLLECTION | C3: USDA eAuthentication Service Customer Registration | I3: Date Prepared
J4: 43787
A5: INSTRUCTIONS: | E5: > | F5: (f) TOTAL | H5: (h) TOTAL | J5: (k) TOTAL
A6: Use this form when a single information collection document involves multiple reporting and | E6: > | F6: - | G6: = (e) Average | H6: - | I6: = (g) Average | J6: - | K6: = (j) Average
A7: recordkeeping requirements. | E7: > | F7: (d) TOTAL | H7: (f) TOTAL | J7: (i) TOTAL
A8: IDENTIFICATION OF REPORTING AND RECORDKEEPPING REQUIREMENTS | G8: ANNUAL BURDEN
C9: FORM | F9: REPORTS | J9: RECORDS
C10: NO(s) | D10: NO. OF Monthly | E10: NO. OF | F10: TOTAL | G10: HOURS | H10: TOTAL | I10: NO. OF | J10: ANNUAL | K10: TOTAL
A11: SECTION OF | C11: (If "none" | D11: RESPON- | E11: RESPONSES | F11: ANNUAL | G11: PER | H11: HOURS | I11: RECORD- | J11: HOURS PER | K11: RECORD- | N11: =N15*2080 -> 43076.8
A12: REGULATIONS | B12: DESCRIPTION | C12: so state) | D12: DENTS | E12: PER | F12: RESPONSES | G12: RESPONSE | H12: (Col. f & g) | I12: KEEPERS | J12: RECORD- | K12: KEEPING
E13: RESPON- | F13: (Col. d & e) | J13: KEEPER | K13: HOURS
E14: DENT | K14: (Col. i & j) | M14: Farmer | N14: GS 5-7
A15: (a) | B15: (b) | C15: (c) | D15: (d) | E15: (e) | F15: (f) | G15: (g) | H15: (h) | I15: (i) | J15: (j) | K15: (k) | M15: 16.7 | N15: 20.71
A16: PL-106-222 | B16: Electronic Self-Registration for a USDA eAuthentication Account Customer registers for an eAuthentication account online from the eAuthentication web site. | C16: None | D16: ='October 2019 - 2022'!B53 -> 19590.889 | E16: 1 | F16: =D16*12 -> 235090.67 | G16: =3/60 -> 0.05 | H16: =F16*G16 -> 11754.533 | L16: 3 minutes | M16: =H16*$M$15 -> 196300.71
A17: PL-106-222 | B17: Electronic Self-Registration for a USDA eAuthentication with Identity Proofing Customer provides additional information for identity verification online from the eAuthentication web site. | C17: None | D17: ='October 2019 - 2022'!D76 -> 6075.5833 | E17: 1 | F17: =D17*12 -> 72907 | G17: =3/60 -> 0.05 | H17: =F17*G17 -> 3645.35 | L17: 3 minutes | M17: =H17*$M$15 -> 60877.345
B18: Travel Time Required to Identity Proof After providing additional information necessary for identity proofing, customer travels to a USDA Service Center to manually validate their identity through a Local Registration Authority. | C18: None | D18: ='October 2019 - 2022'!C76 -> 545.25 | E18: 1 | F18: =D18*12 -> 6543 | G18: 1 | H18: =F18*G18 -> 6543 | L18: 1 hour | M18: =H18*$M$15 -> 109268.1 | N18: ='October 2019 - 2022'!D59 -> 0.089744469 | O18: 9% of users go to LRA
A19: PL-106-222 | B19: After providing additional information necessary for identity proofing, customer complete the Online Identity Proofing process. | C19: None | D19: ='October 2019 - 2022'!B76 -> 5530.3333 | E19: 1 | F19: =D19*12 -> 66364 | G19: =5/60 -> 0.083333333 | H19: =F19*G19 -> 5530.3333 | L19: 5 minutes | M19: =H19*$M$15 -> 92356.567 | N19: ='October 2019 - 2022'!D58 -> 0.91025553 | O19: 91% of users us OIDP
A20: PL-106-222 | B20: Percentage of folks unable to successfully online identity proof and need to visit a Local Registration Aughtority. | C20: None | D20: =D19*0.23 -> 1271.9767 | E20: 1 | F20: =D20*12 -> 15263.72 | G20: 1 | H20: =F20*G20 -> 15263.72 | L20: 1 hour | M20: =H20*$M$15 -> 254904.12 | N20: ='October 2019 - 2022'!D59 -> 0.089744469 | O20: 91% of users us OIDP
B22: Assisting customers | F22: =(F16+F17)*N22 -> 20019.848 | G22: =10/60 -> 0.16666667 | H22: =F22*G22 -> 3336.6414 | N22: 0.065 | O22: 6.5% of users need assistance
B25: Higher Access - LRA | G25: =G16+G17+G18+G20 -> 2.1 | H25: =G25*F18 -> 13740.3 | M25: =H25*M15 -> 229463.01
B26: Higher Access - OIDP | G26: =G16+G17+G19 -> 0.18333333 | H26: =G26*F19 -> 12166.733 | M26: =H26*M15 -> 203184.45
L29: Total Cost to the public | M29: =M16+M17+M18+M19 -> 458802.72
A35: Total | F35: =SUM(F16:F19) -> 380904.67 | H35: =SUM(H16:H20) -> 42736.937

Sheet October 2019 - 2022
A1: Month | B1: New Level 1 Accounts | C1: New Level 2 Accounts (Internal) | D1: New Level 2 Accounts (External) | E1: Total New Accounts | F1: Level 1 Accounts | G1: Level 2 Accounts (Internal) | H1: Level 2 Accounts (External) | I1: Service Accounts | J1: Total Accounts | K1: Total New Accounts | L1: Service Accounts | M1: ICAMaaS Accounts | N1: Total of All Accounts
A2: Oct-18 | B2: 9053 | C2: 969 | D2: 3774 | E2: 13796 | F2: 833006 | G2: 108665 | H2: 253783 | I2: 195 | J2: 1195649 | K2: 1600 | L2: 1 | M2: 218213 | N2: 1413862
A3: 44883 | B3: 7517 | C3: 863 | D3: 3371 | E3: 11751 | F3: 839839 | G3: 105859 | H3: 257518 | I3: 196 | J3: 1203412 | K3: 1298 | L3: 1 | M3: 219510 | N3: 1422922
A4: 44913 | B4: 7181 | C4: 608 | D4: 2617 | E4: 10406 | F4: 846620 | G4: 105447 | H4: 260305 | I4: 201 | J4: 1212573 | K4: 1188 | L4: 1 | M4: 220698 | N4: 1433271
A5: 44580 | B5: 8550 | C5: 302 | D5: 3216 | E5: 12068 | F5: 854580 | G5: 104915 | H5: 263746 | I5: 201 | J5: 1223442 | K5: 854 | L5: 1 | M5: 221552 | N5: 1444994
A6: 44611 | B6: 9996 | C6: 833 | D6: 2770 | E6: 13599 | F6: 863841 | G6: 103544 | H6: 266924 | I6: 202 | J6: 1234511 | K6: 1193 | L6: 1 | M6: 222745 | N6: 1457256
A7: 44639 | B7: 9609 | C7: 892 | D7: 3017 | E7: 13518 | F7: 872634 | G7: 103135 | H7: 270407 | I7: 202 | J7: 1246378 | K7: 1014 | L7: 1 | M7: 223810 | N7: 1470188
A8: 44670 | B8: 8844 | C8: 1187 | D8: 3274 | E8: 13305 | F8: 880803 | G8: 103135 | H8: 274023 | I8: 218 | J8: 1258179 | K8: 1259 | L8: 1 | M8: 225018 | N8: 1483197
A9: 44700 | B9: 8232 | C9: 2137 | D9: 3336 | E9: 13705 | F9: 888212 | G9: 109167 | H9: 277821 | I9: 219 | J9: 1275419 | K9: 1344 | L9: 1 | M9: 226363 | N9: 1501782
A10: 44731 | B10: 7525 | C10: 2315 | D10: 2654 | E10: 12494 | F10: 895077 | G10: 112188 | H10: 280791 | I10: 221 | J10: 868843 | K10: 1734 | L10: 1 | M10: 228097 | N10: 1096940
A11: 44761 | B11: 7896 | C11: 1313 | D11: 2748 | E11: 11957 | F11: 902335 | G11: 113056 | H11: 283854 | I11: 225 | J11: 1299470 | K11: 1965 | L11: 1 | M11: 230061 | N11: 1529531
A12: 44792 | B12: 8659 | C12: 1100 | D12: 2875 | E12: 12634 | F12: 910283 | G12: 112957 | H12: 287058 | I12: 225 | J12: 1310523 | K12: 6241 | L12: 1 | M12: 236302 | N12: 1546825
A13: 44823 | B13: 7953 | C13: 1019 | D13: 2638 | E13: 11610 | F13: 917604 | G13: 111744 | H13: 289949 | I13: 226 | J13: 1319523 | K13: 2578 | L13: 1 | M13: 238880 | N13: 1558403
A14: Oct-19 | B14: 13932 | C14: 1160 | D14: 2810 | E14: 17902 | F14: 930705 | G14: 109136 | H14: 293158 | I14: 229 | J14: 1333228 | K14: 2414 | L14: 1 | M14: 241293 | N14: 1574521
A15: 44884 | B15: 12653 | C15: 885 | D15: 2100 | E15: 15638 | F15: 942675 | G15: 107033 | H15: 295552 | I15: 232 | J15: 1345492 | K15: 2161 | L15: 1 | M15: 243454 | N15: 1588946
A16: 44914 | B16: 10176 | C16: 806 | D16: 2057 | E16: 13039 | F16: 953657 | G16: 107033 | H16: 277821 | I16: 232 | J16: 1530118 | K16: 7338 | L16: 1 | M16: 247317 | N16: 1777435
A17: 44581 | B17: 16190 | C17: 1064 | D17: 3303 | E17: 20557 | F17: 604543 | G17: 104671 | H17: 302151 | I17: 232 | J17: 1011597 | K17: 5047 | L17: 1 | M17: 252144 | N17: 1263741
A18: 44612 | B18: 14920 | C18: 930 | D18: 3085 | E18: 18935 | F18: 618627 | G18: =#REF!-#REF! -> #REF! | H18: 305685 | I18: 234 | J18: 1028993 | K18: 4224 | L18: 1 | M18: 256368 | N18: 1285361
A19: 44640 | B19: 15125 | C19: 1204 | D19: 2163 | E19: 18492 | F19: 633224 | G19: 105425 | H19: 308240 | I19: 239 | J19: 1047128 | K19: 5386 | L19: 1 | M19: 261754 | N19: 1308882
A20: 44671 | B20: 16016 | C20: 1414 | D20: 3060 | E20: 20490 | F20: 648486 | G20: 107436 | H20: 311893 | I20: 245 | J20: 1068060 | K20: 2710 | L20: 1 | M20: 264468 | N20: 1332528
A21: 44701 | B21: 16356 | C21: 2806 | D21: 5355 | E21: 24517 | F21: 663970 | G21: 112601 | H21: 317971 | I21: 248 | J21: 1094790 | K21: 5585 | L21: 1 | M21: 270053 | N21: 1364843
A22: 44732 | B22: 17035 | C22: 2283 | D22: 5208 | E22: 24526 | F22: 676925 | G22: 115176 | H22: 327027 | I22: 251 | J22: 1119379 | K22: 8714 | L22: 1 | M22: 278777 | N22: 1398156
A23: 44762 | B23: 19221 | C23: 1439 | D23: 6283 | E23: 26943 | F23: 690419 | G23: 116097 | H23: 338259 | I23: 253 | J23: 1145028 | K23: 7322 | L23: 1 | M23: 286104 | N23: 1431132
A24: 44793 | B24: 19332 | C24: 1520 | D24: 5712 | E24: 26564 | F24: 706674 | G24: 116675 | H24: 346638 | I24: 215 | J24: 1170202 | K24: 5618 | L24: 1 | M24: 291723 | N24: 1461925
A25: 44824 | B25: 21676 | C25: 1467 | D25: 11441 | E25: 34584 | F25: 725030 | G25: 115904 | H25: 361142 | I25: 219 | J25: 1202295 | K25: 5492 | L25: 1 | M25: 297216 | N25: 1499511
A26: 44854 | B26: 17975 | C26: 1326 | D26: 7601 | E26: 26902 | F26: 741236 | G26: 114913 | H26: 370354 | I26: 219 | J26: 1226722 | K26: 4229 | L26: 1 | M26: 301445 | N26: 1528167
A27: 44885 | B27: 15049 | C27: 1042 | D27: 5646 | E27: 21737 | F27: 754179 | G27: 112326 | H27: 377941 | I27: 185 | J27: 124631 | K27: 433 | L27: 1 | M27: 301878 | N27: 426509
A28: 44915 | B28: 19312 | C28: 911 | D28: 5663 | E28: 25886 | F28: 770861 | G28: 110269 | H28: 285441 | I28: 185 | J28: 1266756 | K28: 33 | L28: 1 | M28: 301911 | N28: 1568667
A29: 44582 | B29: 32659 | C29: 1305 | D29: 5172 | E29: 39136 | F29: 800956 | G29: 109974 | H29: 392555 | I29: 185 | J29: 1303670 | K29: 34 | L29: 1 | M29: 301943 | N29: 1605613
A30: 44613 | B30: 28026 | C30: 1164 | D30: 4549 | E30: 33739 | F30: 826897 | G30: 110106 | H30: 399083 | I30: 184 | J30: 1336270 | K30: 3637 | L30: 1 | M30: 305580 | N30: 1641850
... A50: 44856 | B50: 19571 | C50: 1717 | D50: 4737 | E50: 26025 | F50: 980156 | G50: 116311 | H50: 372492 | I50: 196 | J50: 284577 | K50: 5806 | L50: 1 | M50: 408643 | N50: 693220
A53: 3 year average | B53: =AVERAGE(B54:B56) -> 19590.889 | C53: =AVERAGE(C54:C56) -> 4781.4167
A54: 2020 | B54: =AVERAGE(B14:B25) -> 16052.667 | C54: =AVERAGE(D14:D25) -> 4381.4167
A55: 2021 | B55: =AVERAGE(B26:B37) -> 23222.083 | C55: =AVERAGE(D26:D37) -> 5023.5833
A56: 2022 | B56: =AVERAGE(B38:B49) -> 19497.917 | C56: =AVERAGE(D38:D49) -> 4939.25
A58: 2022 | B58: OIDP | C58: 66364 | D58: =C58/C60 -> 0.91025553
A59: 2022 | B59: LRA | C59: 6543 | D59: =C59/C60 -> 0.089744469
B60: Total | C60: =C58+C59 -> 72907
B62: OIDP | C62: LRA | D62: Total | E62: DBAs
A63: October | B63: 4975 | C63: 712 | D63: =SUM(B63:C63) -> 5687 | E63: 4581 | F63: =D63-E63 -> 1106
A64: November | B64: 4583 | C64: 627 | D64: =SUM(B64:C64) -> 5210 | E64: 4120 | F64: =D64-E64 -> 1090
A65: December | B65: 4808 | C65: 554 | D65: =SUM(B65:C65) -> 5362 | E65: 4267 | F65: =D65-E65 -> 1095
A66: January | B66: 5951 | C66: 569 | D66: =SUM(B66:C66) -> 6520 | E66: 5445 | F66: =D66-E66 -> 1075
A67: February | B67: 6762 | C67: 545 | D67: =SUM(B67:C67) -> 7307 | E67: 5704 | F67: =D67-E67 -> 1603
A68: March | B68: 7751 | C68: 645 | D68: =SUM(B68:C68) -> 8396 | E68: 6663 | F68: =D68-E68 -> 1733
A69: April | B69: 5888 | C69: 525 | D69: =SUM(B69:C69) -> 6413 | E69: 5205 | F69: =D69-E69 -> 1208
A70: May | B70: 5213 | C70: 456 | D70: =SUM(B70:C70) -> 5669 | E70: 4533 | F70: =D70-E70 -> 1136
A71: June | B71: 5585 | C71: 520 | D71: =SUM(B71:C71) -> 6105 | E71: 4871 | F71: =D71-E71 -> 1234
A72: July | B72: 4794 | C72: 421 | D72: =SUM(B72:C72) -> 5215 | E72: 4387 | F72: =D72-E72 -> 828
A73: August | B73: 5345 | C73: 474 | D73: =SUM(B73:C73) -> 5819 | E73: 5007 | F73: =D73-E73 -> 812
A74: September | B74: 4709 | C74: 495 | D74: =SUM(B74:C74) -> 5204 | E74: 4488 | F74: =D74-E74 -> 716
A75: Total | B75: =SUM(B63:B74) -> 66364 | C75: =SUM(C63:C74) -> 6543 | D75: =SUM(B75:C75) -> 72907 | E75: =SUM(E63:E74) -> 59271 | F75: =D75-E75 -> 13636
A76: Average | B76: =AVERAGE(B62:B74) -> 5530.3333 | C76: =AVERAGE(C62:C74) -> 545.25 | D76: =SUM(B76:C76) -> 6075.5833
B78: =B76/D76 -> 0.91025553 | C78: =C76/D76 -> 0.089744469

Sheet Occupations
A36: https://www.bls.gov/oes/current/oes450000.htm
A37: Webpage was updated 3/2022
A50: Site was updated 4/25/23

Sheet Fed Salary
C1: Hourly Wage | D1: Users | E1: Time (15 minutes) | F1: Number of Hours
A5: Average | B5: =C5*2080 -> 88358.4 | C5: 42.48 | D5: ='FY23 Customer Burden'!H18 -> 6562 | E5: =15/60 -> 0.25 | F5: =D5*E5 -> 1640.5 | G5: =F5*C5 -> 69688.44

Sheet FY19
A1: USDA - Office of the Chief Information Officer | C1: Title of Information Document | I1: OMB No.
J2: 0503-0014
A3: SUMMARY OF INFORMATION COLLECTION | C3: USDA eAuthentication Service Customer Registration | I3: Date Prepared
J4: 43787
A5: INSTRUCTIONS: | E5: > | F5: (f) TOTAL | H5: (h) TOTAL | J5: (k) TOTAL
A6: Use this form when a single information collection document involves multiple reporting and | E6: > | F6: - | G6: = (e) Average | H6: - | I6: = (g) Average | J6: - | K6: = (j) Average
A7: recordkeeping requirements. | E7: > | F7: (d) TOTAL | H7: (f) TOTAL | J7: (i) TOTAL
A8: IDENTIFICATION OF REPORTING AND RECORDKEEPPING REQUIREMENTS | G8: ANNUAL BURDEN
C9: FORM | F9: REPORTS | J9: RECORDS
C10: NO(s) | D10: NO. OF Monthly | E10: NO. OF | F10: TOTAL | G10: HOURS | H10: TOTAL | I10: NO. OF | J10: ANNUAL | K10: TOTAL
A11: SECTION OF | C11: (If "none" | D11: RESPON- | E11: RESPONSES | F11: ANNUAL | G11: PER | H11: HOURS | I11: RECORD- | J11: HOURS PER | K11: RECORD- | N11: =N15*2080 -> 43076.8
A12: REGULATIONS | B12: DESCRIPTION | C12: so state) | D12: DENTS | E12: PER | F12: RESPONSES | G12: RESPONSE | H12: (Col. f & g) | I12: KEEPERS | J12: RECORD- | K12: KEEPING
E13: RESPON- | F13: (Col. d & e) | J13: KEEPER | K13: HOURS
E14: DENT | K14: (Col. i & j) | M14: Farmer | N14: GS 5-7
A15: (a) | B15: (b) | C15: (c) | D15: (d) | E15: (e) | F15: (f) | G15: (g) | H15: (h) | I15: (i) | J15: (j) | K15: (k) | M15: 14.49 | N15: 20.71
A16: PL-106-222 | B16: Electronic Self-Registration for a USDA eAuthentication Account Customer registers for an eAuthentication account online from the eAuthentication website. | C16: None | D16: =8642 -> 8642 | E16: 1 | F16: =D16*12 -> 103704 | G16: =3/60 -> 0.05 | H16: =F16*G16 -> 5185.2 | L16: 3 minutes | M16: =H16*M15 -> 75133.548
A18: PL-106-222 | B18: Electronic Self-Registration for a USDA eAuthentication with Identity Proofing Customer provides additional information for identity verification online from the eAuthentication website. | C18: None | D18: =2891 -> 2891 | E18: 1 | F18: =D18*12 -> 34692 | G18: =3/60 -> 0.05 | H18: =F18*G18 -> 1734.6 | L18: 3 minutes | M18: =H18*M15 -> 25134.354
B19: Travel Time Required to Identity Proof After providing additional information necessary for identity proofing, customer travels to a USDA Service Center to manually validate their identity through a Local Registration Authority. | C19: None | D19: =D18*0.15 -> 433.65 | E19: 1 | F19: =F18*0.15 -> 5203.8 | G19: 1 | H19: =F19*G19 -> 5203.8 | L19: 1 hour | M19: =H19*M15 -> 75403.062 | O19: 15% of users go to LRA
A20: PL-106-222 | B20: After providing additional information necessary for identity proofing, customer complete the Online Identity Proofing process. | C20: None | D20: =D18*0.85 -> 2457.35 | E20: 1 | F20: =D20*12 -> 29488.2 | G20: =10/60 -> 0.16666667 | H20: =F20*G20 -> 4914.7 | L20: 10 minutes | M20: =H20*M15 -> 71214.003 | O20: 85% of users us OIDP
B22: Assisting customers | F22: =(F16+F18)*0.3 -> 41518.8 | G22: =10/60 -> 0.16666667 | H22: =F22*G22 -> 6919.8 | M22: =H22*N15 -> 143309.06 | O22: 30% of users need assistance
B25: Higher Access - LRA | G25: =G16+G18+G19 -> 1.1 | H25: =G25*F19 -> 5724.18 | M25: =H25*M15 -> 82943.368
B26: Higher Access - OIDP | G26: =G16+G18+G20 -> 0.26666667 | H26: =G26*F20 -> 7863.52 | M26: =H26*M15 -> 113942.4
L29: Total Cost to the public | M29: =M16+M18+M19+M20 -> 246884.97
A35: Total | F35: =SUM(F16:F20) -> 173088 | H35: =SUM(H16:H20) -> 17038.3

Sheet FY16
A1: USDA - Office of the Chief Information Officer | C1: Title of Information Document | I1: OMB No.
J2: 0503-0014
A3: SUMMARY OF INFORMATION COLLECTION | C3: USDA eAuthentication Service Customer Registration | I3: Date Prepared
J4: 42410
A5: INSTRUCTIONS: | E5: > | F5: (f) TOTAL | H5: (h) TOTAL | J5: (k) TOTAL
A6: Use this form when a single information collection document involves multiple reporting and | E6: > | F6: - | G6: = (e) Average | H6: - | I6: = (g) Average | J6: - | K6: = (j) Average
A7: recordkeeping requirements. | E7: > | F7: (d) TOTAL | H7: (f) TOTAL | J7: (i) TOTAL
A8: IDENTIFICATION OF REPORTING AND RECORDKEEPPING REQUIREMENTS | G8: ANNUAL BURDEN
C9: FORM | F9: REPORTS | J9: RECORDS
C10: NO(s) | D10: NO. OF | E10: NO. OF | F10: TOTAL | G10: HOURS | H10: TOTAL | I10: NO. OF | J10: ANNUAL | K10: TOTAL
A11: SECTION OF | C11: (If "none" | D11: RESPON- | E11: RESPONSES | F11: ANNUAL | G11: PER | H11: HOURS | I11: RECORD- | J11: HOURS PER | K11: RECORD-
A12: REGULATIONS | B12: DESCRIPTION | C12: so state) | D12: DENTS | E12: PER | F12: RESPONSES | G12: RESPONSE | H12: (Col. f & g) | I12: KEEPERS | J12: RECORD- | K12: KEEPING
E13: RESPON- | F13: (Col. d & e) | J13: KEEPER | K13: HOURS
E14: DENT | K14: (Col. i & j)
A15: (a) | B15: (b) | C15: (c) | D15: (d) | E15: (e) | F15: (f) | G15: (g) | H15: (h) | I15: (i) | J15: (j) | K15: (k) | N15: 13.59
A16: PL-106-222 | B16: Electronic Self-Registration for a USDA eAuthentication Level 1 Access Account Customer registers for a Level 1 Access account online from the eAuthentication web site. | C16: None | D16: 114256 | E16: 1 | F16: 114256 | G16: 0.13 | H16: 15234 | M16: 8 minutes | N16: =$N$15*H16 -> 207030.06
A18: PL-106-222 | B18: Electronic Self-Registration for a USDA eAuthentication Level 2 Access Account Customer registers for a Level 2 Access account online from the eAuthentication web site. | C18: None | D18: 17848 | E18: 1 | F18: 17848 | G18: 0.67 | H18: =+F18*G18 -> 11958.16 | M18: 40 minutes | N18: =$N$15*H18 -> 162511.39
B19: Travel Time Required to Obtain an Activated Level 2 Access Account. After registering online for a Level 2 Access Account, customer travels to a USDA Service Center to manually validate their identity to a Local Registration Authority. | C19: None | D19: 1392 | E19: 1 | F19: 1392 | G19: 1 | H19: =+F19*G19 -> 1392 | M19: 60 minutes | N19: =$N$15*H19 -> 18917.28
A20: PL-106-222 | B20: Online Identity Proofing Service for Level 2 Access Accounts that customers registers for. | C20: None | D20: 2100 | E20: 1 | F20: 2100 | G20: 0.17 | H20: =+F20*G20 -> 357 | M20: 10 minutes | N20: =$N$15*H20 -> 4851.63
A35: Total | F35: =SUM(F16:F20) -> 135596 | H35: =SUM(H16:H20) -> 28941.16
