{"text_format":"3","workbook":"xlsx","n_sheets":28,"sheets":["import","selection","TOC","1-Cover","2&3-Bal","4-NI","5&6-CF","7-PCap","8-READ_Cap","S1Inv","S1AB","S1C","S2RG","S3NC","S4Del","S5Commit","S6Guar","S7Cash","S8Dist","Certifications","S11cumperf","ExecSum","WDSup","WDSupA","WDSupB","KeyLeverageMetrics","NAICS Search","Op Plan"],"not_rendered":{"charts":1,"images":1,"macros":1,"defined_names":131,"pivot_tables":1},"read":"whole","date_system":"1900"}

{"sheet":"import","index":0,"n_rows":11,"n_cols":17,"rows_kept":11,"hidden":true}
[null,"Import Area","key:  licenseno & rptperiodtype & form468date in yyyymmdd format",{"$nulls":6},"Report Period Type",null,"Report Key",{"$f":"licenseno&rptperiodtype&TEXT(Form468Date,\"YYYYMMDD\")","v":"00000000Q19000100"}]
[null,"1 - Cover Sheet"]
["Middleware_Pg1to4","n/a","LICENSENO","SBICNAME","ANNORQUAR","FISCALYEAR","MONTHS","ADDRESS","CITY","STATE","ZIPCODE","COUNTY","EMPLOYERID","OWNERSHIP","n/a","n/a","n/a"]
[null,"key","licenseno","sbicname","RptPeriodType","468rptdate","468rptmos","sbicstreet","sbiccity","sbicstate","sbiczip","sbiccounty","sbicemployerid","sbicownership","approvedvaluation","sbicVY","sbicstrategy"]
[null,{"$f":"rptkey","v":"00000000Q19000100"},{"$f":"TEXT(licenseno,\"00000000\")","v":"00000000"},{"$f":"sbicname","v":0},{"$f":"rptperiodtype","v":"Q"},{"$f":"rptenddate","v":{"$error":"#NAME?"}},{"$f":"Number_of_Months","v":0},{"$f":"'1-Cover'!C10","v":0},{"$f":"'1-Cover'!C13","v":0},{"$f":"'1-Cover'!C14","v":0},{"$f":"TEXT('1-Cover'!C15,\"00000\")","v":"00000"},{"$f":"'1-Cover'!C16","v":0},{"$f":"TEXT('1-Cover'!C18,\"000000000\")","v":"000000000"},{"$f":"'1-Cover'!C24","v":"Other"},{"$f":"ApprovedValuation","v":"SBA Valuation Guidelines"},{"$f":"'1-Cover'!C28","v":0},{"$f":"'1-Cover'!C32","v":0}]
[]
[]
[null,"2 and 3 Balance Sheet"]
[]
[null,"key","licenseno","Rpttype","468rptdate"]
[null,{"$f":"rptkey","v":"00000000Q19000100"},{"$f":"TEXT(licenseno,\"00000000\")","v":"00000000"},{"$f":"LEFT('1-Cover'!$D$1,1)","v":"Q"},{"$f":"rptenddate","v":{"$error":"#NAME?"}}]

{"sheet":"selection","index":1,"n_rows":1028,"n_cols":87,"rows_kept":1028,"hidden":true,"merged":[[2,2,2,7],[2,9,2,10],[2,12,2,13],[2,15,2,16],[2,18,2,19],[2,21,2,22],[2,24,2,26],[2,28,2,29],[2,31,2,32],[2,34,2,35],[2,37,2,38],[2,40,2,41],[2,43,2,46],[2,48,2,49],[2,51,2,52],[2,54,2,55],[2,57,2,58],[2,60,2,61],[2,63,2,64],[2,66,2,67],[2,69,2,70],[2,72,2,73],[2,75,2,76],[2,79,2,80],[2,85,2,86],[3,2,3,7],[3,9,3,10],[3,12,3,13],[3,15,3,16],[3,18,3,19],[3,21,3,22],[3,24,3,26],[3,28,3,29],[3,31,3,32],[3,34,3,35],[3,37,3,38],[3,40,3,41],[3,43,3,46],[3,48,3,49],[3,51,3,52],[3,54,3,55],[3,57,3,58],[3,60,3,61],[3,63,3,64],[3,66,3,67],[3,69,3,70],[3,72,3,73],[3,75,3,76],[3,79,3,80],[3,85,3,86]]}
["Selections Tab:  Contains data used in drop down fields and other key information.  This is a hidden spreadsheet."]
[null,"   ",{"$nulls":6},"   ",null,null,"   ",null,null,"   ",null,null,"   ",null,null,"   ",null,null,"   ",{"$nulls":3},"   ",null,null,"   ",null,null,"   ",null,null,"   ",null,null,"   ",null,null,"   ",{"$nulls":7},"   ",null,null,"   ",null,null,"   ",null,null,"   ",null,null,"   ",null,null,"   ",null,null,"   ",null,null,"   ",null,null,"   ",null,null,"   "]
["Table Name","   ","Key_Data",{"$nulls":5},"   ","Select_RptPeriodType",null,"   ","Select_FormType",null,"   ","Select_Valuation",null,"   ","Select_State",null,"   ","Select_Strategy",null,"   ","Select_YesNo",null,null,"   ","Select_x",null,"   ","Select_Gender",null,"   ","Select_Race",null,"   ","Select_Ethnicity",null,"   ","Select_MgrRoles",null,"   ","Select_naics2022",{"$nulls":4},"Select_Industry",null,"   ","Select_Stage",null,"   ","Select_InvestmentType",null,"   ","Select_SecurityType",null,"   ","Select_LoanDebtStatus",null,"   ","Select_PlanAssessment",null,"   ","Select_CommitmentType",null,"   ","Select_AddDeduct",null,"   ","Select_ExitType",null,"   ","Select_PlanAssessment",null,"   ",null,"FormTypeLabels",{"$nulls":5},"FormTypeLabels"]
["Description","   ","Identifies the key fields selected/entered that are used throughout the form.",{"$nulls":5},"   ","Identifies whether Form 468 represents an annual or quarterly period.",null,"   ","Limits selection of type of form to Partnership or Corporate",null,"   ","Limits selection of valuation guideliunes.",null,"   ","Limits selection to valid state abbreviations.",null,"   ","Fund strategies separated by asset class.",null,"   ","First two rows used for general logic fields.  Undisclosed included only for demographic information.",null,null,"   ","Enables selection of \"X\" to identify a characteristic or attribute.",null,"   ","Gender selections.",null,"   ","Gender selections.",null,"   ","Gender selections.",null,"   ","Identifies primary roles for management team.",null,"   ","NAICS 2022 codes",{"$nulls":4},"Industry lit derived from 2 digit NAIC codes.  Used for broader industry.",null,"   ","Industry lit derived from 2 digit NAIC codes.  Used for broader industry.",null,"   ","Industry lit derived from 2 digit NAIC codes.  Used for broader industry.",null,"   ","Industry lit derived from 2 digit NAIC codes.  Used for broader industry.",null,"   ","Status of Loans and Debt Investments.",null,"   ","Status of Loans and Debt Investments.",null,"   ","Identifies types of SBIC commitments to portfolio concerns.",null,"   ","Identifies different additions and deductions available.",null,"   ","Identifies selection types for realized gain and wind-down schedules",null,"   ","Status of Loans and Debt Investments.",null,"   ",null,"This contains the label differences between Partnership and Corporate Form 468s.  ",{"$nulls":5},"Ownership Types"]
[null,"   ",{"$nulls":6},"   ",null,null,"   ",null,null,"   ",null,null,"   ",null,null,"   ",null,null,"   ",{"$nulls":3},"   ",null,null,"   ",null,null,"   ",null,null,"   ",null,null,"   ",null,null,"   ",{"$nulls":7},"   ",null,null,"   ",null,null,"   ",null,null,"   ",null,null,"   ",null,null,"   ",null,null,"   ",null,null,"   ",null,null,"   ",null,null,"   "]
["Where Used?","   ","Throughout Form",{"$nulls":5},"   ","Tab Used","Comments","   ","Tab Used","Comments","   ","Tab Used","Comments","   ","Tab Used","Comments","   ","Tab Used","Comments","   ","Tab Used","Comments",null,"   ","Tab Used","Comments","   ","Tab Used","Comments","   ","Tab Used","Comments","   ","Tab Used","Comments","   ","Tab Used","Comments","   ","Tab Used","Comments",{"$nulls":3},"Tab Used","Comments","   ","Tab Used","Comments","   ","Tab Used","Comments","   ","Tab Used","Comments","   ","Tab Used","Comments","   ","Tab Used","Comments","   ","Tab Used","Comments","   ","Tab Used","Comments","   ","Tab Used","Comments","   ","Tab Used","Comments","   ",null,"Tab Used","Comments",{"$nulls":4},"Tab Used","Comments"]
[null,"   ",{"$nulls":6},"   ","1-Cover",null,"   ","1-Cover",null,"   ","1-Cover",null,"   ","1-Cover","licensee state","   ","1-Cover","licensee state","   ","1-Cover","Only Y or N;: Wind-down plan",null,"   ","S10crm","All Demographic, columns M through AA","   ","1-Cover",null,"   ","1-Cover",null,"   ","1-Cover","licensee state","   ","S10crm","Role Type","   ","S12PC","Industry of Portfolio Concern",{"$nulls":3},"ExecSum","Financing summary","   ","ExecSum","Financing summary","   ","S1Inv","All: Investment Type","   ","S1Inv","All: Investment Type","   ","S1Inv","All: Investment Type","   ","S12PC",null,"   ","S5Commit",null,"   ","S1C",null,"   ","S2RG",null,"   ","S11cumperf",null,"   ",null,"2&3-Bal",{"$nulls":5},"1-Cover"]
[null,"   ",{"$nulls":6},"   ",null,null,"   ",null,null,"   ",null,null,"   ","S12PC","portfolio company state","   ",null,null,"   ","S10crm","Only Y or N:  Investment Committee Member, Primary SBA Contact, SBA Mailing List",null,"   ",null,null,"   ",null,null,"   ",null,null,"   ",null,null,"   ",null,null,"   ","NAICS Search","Table used for search tool",{"$nulls":5},"   ",null,null,"   ","S5Commit","Only first 4 (Loan, Debt, Equity, Equity in Reinvestor","   ","S5Commit","Only first 4 (Loan, Debt, Equity, Equity in Reinvestor","   ",null,null,"   ",null,null,"   ",null,null,"   ",null,null,"   ","WDSupA",null,"   ",null,null,"   ",null,"4-NI"]
[null,"   ",{"$nulls":6},"   ",null,null,"   ",null,null,"   ",null,null,"   ","ExecSum","financing tables","   ",null,null,"   ","ExecSum","Only Y or N:  questions Firm Data Questions 8-10",null,"   ",null,null,"   ",null,null,"   ",null,null,"   ",null,null,"   ",null,null,"   ",{"$nulls":7},"   ",null,null,"   ",null,null,"   ",null,null,"   ",null,null,"   ",null,null,"   ",null,null,"   ",null,null,"   ",null,null,"   ",null,null,"   ",null,"5&6-CF"]
[null,"   ",{"$nulls":6},"   ",null,null,"   ",null,null,"   ",null,null,"   ",null,null,"   ",null,null,"   ",{"$nulls":3},"   ",null,null,"   ",null,null,"   ",null,null,"   ",null,null,"   ",null,null,"   ",{"$nulls":7},"   ",null,null,"   ",null,null,"   ",null,null,"   ",null,null,"   ",null,null,"   ",null,null,"   ",null,null,"   ",null,null,"   ",null,null,"   ",null,"7-Pcap"]
[null,"   ",{"$nulls":6},"   ",null,null,"   ",null,null,"   ",null,null,"   ",null,null,"   ",null,null,"   ",{"$nulls":3},"   ",null,null,"   ",null,null,"   ",null,null,"   ",null,null,"   ",null,null,"   ",{"$nulls":7},"   ",null,null,"   ",null,null,"   ",null,null,"   ",null,null,"   ",null,null,"   ",null,null,"   ",null,null,"   ",null,null,"   ",null,null,"   ",null,"8-READ_Cap"]
[null,"   ",{"$nulls":6},"   ",null,null,"   ",null,null,"   ",null,null,"   ",null,null,"   ",null,null,"   ",{"$nulls":3},"   ",null,null,"   ",null,null,"   ",null,null,"   ",null,null,"   ",null,null,"   ",{"$nulls":7},"   ",null,null,"   ",null,null,"   ",null,null,"   ",null,null,"   ",null,null,"   ",null,null,"   ",null,null,"   ",null,null,"   ",null,null,"   "]
[null,"   ",{"$nulls":6},"   ",null,null,"   ",null,null,"   ",null,null,"   ",null,null,"   ",null,null,"   ",{"$nulls":3},"   ",null,null,"   ",null,null,"   ",null,null,"   ",null,null,"   ",null,null,"   ",{"$nulls":7},"   ",null,null,"   ",null,null,"   ",null,null,"   ",null,null,"   ",null,null,"   ",null,null,"   ",null,null,"   ",null,null,"   ",null,null,"   "]
[null,"   ",{"$nulls":6},"   ",null,null,"   ",null,null,"   ",null,null,"   ",null,null,"   ",null,null,"   ",{"$nulls":3},"   ",null,null,"   ",null,null,"   ",null,null,"   ",null,null,"   ",null,null,"   ",{"$nulls":7},"   ",null,null,"   ",null,null,"   ",null,null,"   ",null,null,"   ",null,null,"   ",null,null,"   ",null,null,"   ",null,null,"   ",null,null,"   "]
[null,"   ",{"$nulls":6},"   ",null,null,"   ",null,null,"   ",null,null,"   ",null,null,"   ",null,null,"   ",{"$nulls":3},"   ",null,null,"   ",null,null,"   ",null,null,"   ",null,null,"   ",null,null,"   ",{"$nulls":7},"   ",null,null,"   ",null,null,"   ",null,null,"   ",null,null,"   ",null,null,"   ",null,null,"   ",null,null,"   ",null,null,"   ",null,null,"   "]
["Tables","   ","Named_Field","Description","KeyValue","Tab","Reference","Orderbytab","   ","RptPeriodTypeFull","RptPeriodType","   ","FormTypeFull","FormType","   ","Valuation Guidance",null,"   ","StateAbbrev","State","   ","Strategy","Style","   ","YesNo","Full Text","Comment","   ","select_x","Critical Technology","   ","Gender","Description","   ","Race","Comments","   ","Ethnicity","Comments","   ","Mgr Roles","Comments","   ","NAICS Combined","2022 NAICS Code","2022 NAICS Title","Search",null,"Industry","Comments","   ","Stage","Security Type","   ","Transaction Type","Column1","   ","Investment Type","Description","   ","LoanDebtStatus","Meaning","   ","Plan Assessment","Description","   ","CommitmentType","Description","   ","AddDeduct","Comments","   ","ExitType","Comments","   ","Realization Status","Abbrev","   ","Board Representation","Section","Select","P","C","Tab",null,"Ownership types"]
[null,"   ","FormType","Identifies whether corporate (C) or partnership (P)",{"$f":"LEFT('1-Cover'!D3,1)","v":"P"},"1-Cover","d3 derivation",1,"   ","Annual Financial Report","A","   ","Partnership SBICs","P","   ","SBA Valuation Guidelines",null,"   ","AK","Alaska","   ","Venture","Fund of Funds","   ","Y","Yes",null,"   ",null,"Biotechnology","   ","M","Male","   ","American Indian or Alaska Native","A person having origins in any of the original peoples of North and South America (including Central America), and who maintains tribal affiliation or community attachment.","   ","Hispanic or Latino"," A person of Cuban, Mexican, Puerto Rican, Cuban, South or Central American, or other Spanish culture or origin, regardless of race. The term, ‘‘Spanish origin,’’ can be used in addition to ‘‘Hispanic or Latino.’’","   ","Investment Team",null,"   ",{"$f":"Select_naics2022[[#This Row],[2022 NAICS Code]]&\":  \"&Select_naics2022[[#This Row],[2022 NAICS Title]]","v":"111110:  Soybean Farming"},111110,"Soybean Farming",{"$f":"Select_naics2022[[#This Row],[2022 NAICS Title]]","v":"Soybean Farming"},null,"Accommodation and Food Services",null,"   ","Buyout","Loan","   ","Loan",null,"   ","Senior Debt",null,"   ","Performing","Portfolio company is  making payments as required based on the terms of the original security, meeting all covenants, and there are no issues that portfolio company will be unable to continue to make payments.","   ","Above Plan",null,"   ","New Investment",null,"   ",null,null,"   ","Sale",null,"   ","Unrealized",{"$f":"LEFT(Select_RealizationStatus[[#This Row],[Realization Status]],1)","v":"U"},"   ","Observer","Bal_Cap_1",{"$f":"TEXT(IF(formtype=\"P\",FormTypeLabels[[#This Row],[P]],FormTypeLabels[[#This Row],[C]]),\"\")","v":"PARTNERS' CAPITAL"},"PARTNERS' CAPITAL","CAPITAL","2&3-Bal",null,"Partnership"]
[null,"   ","RptPeriodType","Identifies whether annual (A) or quarterly (Q)",{"$f":"LEFT('1-Cover'!$D$1,1)","v":"Q"},"1-Cover","d1 derivation",2,"   ","Quarterly Financial Report","Q","   ","Corporate SBICs","C","   ","GAAP Compliant",null,"   ","AL","Alabama","   ","Growth Equity","Venture","   ","N","No",null,"   ","X","Quantum Science","   ","F","Female","   ","Asian","A person having origins in any of the original peoples of the Far East, Southeast Asia, or the Indian subcontinent including, for example, Cambodia, China, India, Japan, Korea, Malaysia, Pakistan, the Philippine Islands, Thailand, and Vietnam.","   ","Not Hispanic Or Latino","Not Hispanic or Latino","   ","Investor Relations",null,"   ",{"$f":"Select_naics2022[[#This Row],[2022 NAICS Code]]&\":  \"&Select_naics2022[[#This Row],[2022 NAICS Title]]","v":"111120:  Oilseed (except Soybean) Farming "},111120,"Oilseed (except Soybean) Farming ",{"$f":"Select_naics2022[[#This Row],[2022 NAICS Title]]","v":"Oilseed (except Soybean) Farming "},null,"Administrative and Support and Waste Management and Remediation Services",null,"   ","Seed/Pre-seed","Debt","   ","Debt",null,"   ","Unitranche Debt",null,"   ","Delinquent/Default","Portfolio company has failed to make one or more payments based on the original terms, even if you are forbearing.","   ","On Plan",null,"   ","Follow-on",null,"   ","A: Cash Financing",null,"   ","Distribution of Securities",null,"   ","Partially Realized",{"$f":"LEFT(Select_RealizationStatus[[#This Row],[Realization Status]],1)","v":"P"},"   ","Voting","Bal_Cap_2",{"$f":"TEXT(IF(formtype=\"P\",FormTypeLabels[[#This Row],[P]],FormTypeLabels[[#This Row],[C]]),\"\")","v":"47 Private Partners' Contributed Capital"},"47 Private Partners' Contributed Capital","47 Capital Stock and Surplus","2&3-Bal",null,"Corporation"]
[null,"   ","Licenseno","License number in text form without slashes or dashes",{"$f":"TEXT(VALUE('1-Cover'!C8),\"00000000\")","v":"00000000"},"1-Cover","e8 derivation",3,"   ",null,null,"   ",null,null,"   ","Other",null,"   ","AR","Arkansas","   ","Buyout","Growth Equity","   ","Undisclosed","Undisclosed","Only selection for demographic inputs","   ",null,"FutureG","   ","X ","Not exclusively Male or Female","   ","Black or African American"," A person having origins in any of the black racial groups of Africa. Terms such as ‘‘Haitian’’ or ‘‘Negro’’ can be used in addition to ‘‘Black or African American.’’","   ","Undisclosed","You or the portfolio company prefer not to disclose.","   ","Compliance and Legal",null,"   ",{"$f":"Select_naics2022[[#This Row],[2022 NAICS Code]]&\":  \"&Select_naics2022[[#This Row],[2022 NAICS Title]]","v":"111130:  Dry Pea and Bean Farming "},111130,"Dry Pea and Bean Farming ",{"$f":"Select_naics2022[[#This Row],[2022 NAICS Title]]","v":"Dry Pea and Bean Farming "},null,"Agriculture, Forestry, Fishing and Hunting",null,"   ","Early","Equity","   ","Equity",null,"   ","Subordinated Debt",null,"   ","Covenant Issues","The portfolio company has violated covenants, although making current payments.","   ","Below Plan",null,"   ","Line of Credit"," ","   ","ANC:  PIK",null,"   ","Exchange",null,"   ","Fully Realized",{"$f":"LEFT(Select_RealizationStatus[[#This Row],[Realization Status]],1)","v":"F"},"   ","N/A","Bal_Cap_3",{"$f":"TEXT(IF(formtype=\"P\",FormTypeLabels[[#This Row],[P]],FormTypeLabels[[#This Row],[C]]),\"\")","v":"a. General Partners'"},"a. General Partners'","a. Capital Stock","2&3-Bal",null,"Limited Liability Corporation"]
[null,"   ","SBICName","SBIC Name",{"$f":"sbicname","v":0},"1-Cover","C6",4,"   ",null,null,"   ",null,null,"   ",null,null,"   ","AS","American Samoa","   ","Special Situations","Secondaries","   ",{"$nulls":3},"   ",null,"Advanced Materials","   ","Undisclosed","Undisclosed","   ","Native Hawaiian or Other Pacific Islander","A person having origins in any of the original peoples of Hawaii, Guam, Samoa, or other Pacific Islands.","   ",null,null,"   ","Advisory",null,"   ",{"$f":"Select_naics2022[[#This Row],[2022 NAICS Code]]&\":  \"&Select_naics2022[[#This Row],[2022 NAICS Title]]","v":"111140:  Wheat Farming"},111140,"Wheat Farming",{"$f":"Select_naics2022[[#This Row],[2022 NAICS Title]]","v":"Wheat Farming"},null,"Arts, Entertainment, and Recreation",null,"   ","Expansion","Equity in Reinvestor/Relender Exception","   ","Equity in Reinvestor/Relender Exception",null,"   ","Convertible Note (Equity)",null,"   ","Other Concerns","There are issues at the portfolio company level that might impact ability to meet obligations.  This could include litigation, financial performance, changes to capital structure (such significant changes to debt senior to your security). ","   ",null,null,"   ","Unfunded Reinvestor Commitment",null,"   ","ANC:  Accrued Interest",null,"   ","Charge-Off",null,"   ",null,null,"   ",null,"Bal_Cap_4",{"$f":"TEXT(IF(formtype=\"P\",FormTypeLabels[[#This Row],[P]],FormTypeLabels[[#This Row],[C]]),\"\")","v":"b. Limited Partners'"},"b. Limited Partners'","b. Paid-In Surplus","2&3-Bal",null,"Other"]
[null,"   ","Number_of_Months",null,{"$f":"Number_of_Months","v":0},"1-Cover","C24",5,"   ",null,null,"   ",null,null,"   ",null,null,"   ","AZ","Arizona","   ","Distressed","Private Credit","   ",{"$nulls":3},"   ",null,"Trusted AI and Autonomy","   ",null,null,"   ","White","A person having origins in any of the original peoples of Europe, the Middle East, or North Africa.","   ",null,null,"   ","Finance and Operations",null,"   ",{"$f":"Select_naics2022[[#This Row],[2022 NAICS Code]]&\":  \"&Select_naics2022[[#This Row],[2022 NAICS Title]]","v":"111150:  Corn Farming "},111150,"Corn Farming ",{"$f":"Select_naics2022[[#This Row],[2022 NAICS Title]]","v":"Corn Farming "},null,"Construction",null,"   ","Growth",null,"   ","Assets Acquired",null,"   ","Warrants (Debt)",null,"   ","Paid in Full","The loan/debt was repaid in full during reporting period.","   ",null,null,"   ",null,null,"   ","ARG: Exchange",null,"   ","Other",null,"   ",null,null,"   ",null,"Bal_Cap_5",{"$f":"TEXT(IF(formtype=\"P\",FormTypeLabels[[#This Row],[P]],FormTypeLabels[[#This Row],[C]]),\"\")","v":""},null,"c. Restricted Contributed Capital Surplus","2&3-Bal"]
[null,"   ","ReportType_FullText",null,{"$f":"ReportType_Fulltext","v":"Quarterly Report"},"1-Cover","D1",6,"   ",null,null,"   ",null,null,"   ",null,null,"   ","CA","California","   ","Mezzanine","Private Equity   ","   ",{"$nulls":3},"   ",null,"Integrated Network Systems-of-Systems","   ",null,null,"   ","Undisclosed","You or the portfolio company prefer not to disclose.","   ",null,null,"   ","Other",null,"   ",{"$f":"Select_naics2022[[#This Row],[2022 NAICS Code]]&\":  \"&Select_naics2022[[#This Row],[2022 NAICS Title]]","v":"111160:  Rice Farming"},111160,"Rice Farming",{"$f":"Select_naics2022[[#This Row],[2022 NAICS Title]]","v":"Rice Farming"},null,"Educational Services",null,"   ","Late",null,"   ","Notes and Other",null,"   ","Common Stock (Equity)",null,"   ","Charge Off","The loan/debt was charged off during reporting period.","   ",null,null,"   ",null,null,"   ","D: Principal Repayment",null,"   ","Repayment","Only for wind down","   ",null,null,"   ",null,"Bal_Cap_6",{"$f":"TEXT(IF(formtype=\"P\",FormTypeLabels[[#This Row],[P]],FormTypeLabels[[#This Row],[C]]),\"\")","v":"c. Total Private Partners' Contributed Capital"},"c. Total Private Partners' Contributed Capital","d. Capital Stock and Surplus","2&3-Bal"]
[null,"   ","Licensenolabel","License number label preformatted",{"$f":"LEFT(licenseno,2)&\"/\"&MID(licenseno,3,2)&\"-\"&RIGHT(licenseno,4)","v":"00/00-0000"},"1-Cover","e8 derivation",7,"   ",null,null,"   ",null,null,"   ",null,null,"   ","CO","Colorado","   ","Direct Lending","Hybrid","   ",{"$nulls":3},"   ",null,"Microelectronics","   ",null,null,"   ",null,null,"   ",null,null,"   ",null,null,"   ",{"$f":"Select_naics2022[[#This Row],[2022 NAICS Code]]&\":  \"&Select_naics2022[[#This Row],[2022 NAICS Title]]","v":"111191:  Oilseed and Grain Combination Farming "},111191,"Oilseed and Grain Combination Farming ",{"$f":"Select_naics2022[[#This Row],[2022 NAICS Title]]","v":"Oilseed and Grain Combination Farming "},null,"Finance and Insurance",null,"   ","Public",null,"   ","Operating Concerns Acquired",null,"   ","Preferred Stock (Equity)",null,"   ",null,null,"   ",null,null,"   ",null,null,"   ","DRG: Sale",null,"   ",null,null,"   ",null,null,"   ",null,"Bal_UNRE_1",{"$f":"TEXT(IF(formtype=\"P\",FormTypeLabels[[#This Row],[P]],FormTypeLabels[[#This Row],[C]]),\"\")","v":"51 Undistributed Net Realized Earnings "},"51 Undistributed Net Realized Earnings ","51 Undistributed Net Realized Earnings ","2&3-Bal"]
[null,"   ","Form468Date","Form 468 Reported Ending Date",{"$f":"Form468Date","v":"00:00:00"},"1-Cover","c22",8,"   ",null,null,"   ",null,null,"   ",null,null,"   ","CT","Connecticut","   ","Fund Secondary","Other","   ",{"$nulls":3},"   ",null,"Space Technology","   ",null,null,"   ",null,null,"   ",null,null,"   ",null,null,"   ",{"$f":"Select_naics2022[[#This Row],[2022 NAICS Code]]&\":  \"&Select_naics2022[[#This Row],[2022 NAICS Title]]","v":"111199:  All Other Grain Farming "},111199,"All Other Grain Farming ",{"$f":"Select_naics2022[[#This Row],[2022 NAICS Title]]","v":"All Other Grain Farming "},null,"Health Care and Social Assistance",null,"   ",null,null,"   ","Receivables from Sale of Assets Acquired",null,"   ","LP Interest (Equity)",null,"   ",null,null,"   ",null,null,"   ",null,null,"   ","DRG: Distribution of Securities",null,"   ",null,null,"   ",null,null,"   ",null,"Bal_UNRE_2",{"$f":"TEXT(IF(formtype=\"P\",FormTypeLabels[[#This Row],[P]],FormTypeLabels[[#This Row],[C]]),\"\")","v":""},null,"a. Restricted (Equal to Cost of Treasury Stock)","2&3-Bal"]
[null,"   ","PriorQtr","Previous quarter to reported Form 468 Date.",{"$f":"EOMONTH(Form468Date,-3)","v":{"$error":"#NUM!"}},"1-Cover","c22 derivation",9,"   ",null,null,"   ",null,null,"   ",null,null,"   ","DC","District of Columbia","   ","Direct Secondary",null,"   ",{"$nulls":3},"   ",null,"Renewable Energy Generation and Storage","   ",null,null,"   ",null,null,"   ",null,null,"   ",null,null,"   ",{"$f":"Select_naics2022[[#This Row],[2022 NAICS Code]]&\":  \"&Select_naics2022[[#This Row],[2022 NAICS Title]]","v":"111211:  Potato Farming "},111211,"Potato Farming ",{"$f":"Select_naics2022[[#This Row],[2022 NAICS Title]]","v":"Potato Farming "},null,"Information",null,"   ",null,null,"   ","Other",null,"   ","Participation Interest (Equity)",null,"   ",null,null,"   ",null,null,"   ",null,null,"   ","DRG: Exchange",null,"   ",null,null,"   ",null,null,"   ",null,"Bal_UNRE_3",{"$f":"TEXT(IF(formtype=\"P\",FormTypeLabels[[#This Row],[P]],FormTypeLabels[[#This Row],[C]]),\"\")","v":""},null,"b. Unrestricted","2&3-Bal"]
[null,"   ","VintageYr","Vintage year of SBIC (typically based on first capital call date)",{"$f":"VintageYr","v":0},"1-Cover","C30",10,"   ",null,null,"   ",null,null,"   ",null,null,"   ","DE","Delaware","   ","Co-Investment",null,"   ",{"$nulls":3},"   ",null,"Advanced Computing and Software","   ",null,null,"   ",null,null,"   ",null,null,"   ",null,null,"   ",{"$f":"Select_naics2022[[#This Row],[2022 NAICS Code]]&\":  \"&Select_naics2022[[#This Row],[2022 NAICS Title]]","v":"111219:  Other Vegetable (except Potato) and Melon Farming "},111219,"Other Vegetable (except Potato) and Melon Farming ",{"$f":"Select_naics2022[[#This Row],[2022 NAICS Title]]","v":"Other Vegetable (except Potato) and Melon Farming "},null,"Management of Companies and Enterprises",null,"   ",null,null,"   ",null,null,"   ","Option (Debt)",null,"   ",null,null,"   ",null,null,"   ",null,null,"   ","DRG: Charge-Off",null,"   ",null,null,"   ",null,null,"   ",null,"Bal_UNRE_4",{"$f":"TEXT(IF(formtype=\"P\",FormTypeLabels[[#This Row],[P]],FormTypeLabels[[#This Row],[C]]),\"\")","v":""},null,"c. Total (52a plus 52b)","2&3-Bal"]
[null,"   ","ApprovedValuation","Identifies whether SBIC is using SBA Valuation Guidelines or some other guidelines.",{"$f":"ApprovedValuation","v":"SBA Valuation Guidelines"},"1-Cover","C28",11,"   ",null,null,"   ",null,null,"   ",null,null,"   ","FL","Florida","   ","Multiple",null,"   ",{"$nulls":3},"   ",null,"Human-Machine Interfaces","   ",null,null,"   ",null,null,"   ",null,null,"   ",null,null,"   ",{"$f":"Select_naics2022[[#This Row],[2022 NAICS Code]]&\":  \"&Select_naics2022[[#This Row],[2022 NAICS Title]]","v":"111310:  Orange Groves"},111310,"Orange Groves",{"$f":"Select_naics2022[[#This Row],[2022 NAICS Title]]","v":"Orange Groves"},null,"Manufacturing",null,"   ",null,null,"   ",null,null,"   ","Line of Credit (Loan)",null,"   ",null,null,"   ",null,null,"   ",null,null,"   ","DNC: Collection",null,"   ",null,null,"   ",null,null,"   ",null,"Bal_TotCap",{"$f":"TEXT(IF(formtype=\"P\",FormTypeLabels[[#This Row],[P]],FormTypeLabels[[#This Row],[C]]),\"\")","v":"53 TOTAL PARTNERS' CAPITAL (Sum of Lines 47c, 48, 49, and 52)"},"53 TOTAL PARTNERS' CAPITAL (Sum of Lines 47c, 48, 49, and 52)","53c TOTAL CAPITAL (Line 53a minus Line 53b)","2&3-Bal"]
[null,"   ","SBICState","SBIC State in full text.",{"$f":"sbicstate","v":{"$error":"#N/A"}},"1-Cover","D14",12,"   ",null,null,"   ",null,null,"   ",null,null,"   ","FM","Micronesia","   ","Seed",{"$nulls":5},"   ",null,"Directed Energy","   ",null,null,"   ",null,null,"   ",null,null,"   ",null,null,"   ",{"$f":"Select_naics2022[[#This Row],[2022 NAICS Code]]&\":  \"&Select_naics2022[[#This Row],[2022 NAICS Title]]","v":"111320:  Citrus (except Orange) Groves "},111320,"Citrus (except Orange) Groves ",{"$f":"Select_naics2022[[#This Row],[2022 NAICS Title]]","v":"Citrus (except Orange) Groves "},null,"Mining, Quarrying, and Oil and Gas Extraction",null,"   ",null,null,"   ",null,null,"   ","Revenue-Based Investment (Loan)",null,"   ",null,null,"   ",null,null,"   ",null,null,"   ",null,null,"   ",null,null,"   ",null,null,"   ",null,"Bal_URE_1",{"$f":"TEXT(IF(formtype=\"P\",FormTypeLabels[[#This Row],[P]],FormTypeLabels[[#This Row],[C]]),\"\")","v":"52 Undistributed Realized Earnings (line 50 plus line 51) "},"52 Undistributed Realized Earnings (line 50 plus line 51) ","52 Undistributed Realized Earnings (line 50 plus line 51)","2&3-Bal"]
[null,"   ","WindDown","Whether the fund is in wind-down",{"$f":"WindDown","v":"N"},"1-Cover","C35",13,"   ",null,null,"   ",null,null,"   ",null,null,"   ","GA","Georgia","   ","Early Venture",{"$nulls":5},"   ",null,"Hypersonics","   ",null,null,"   ",null,null,"   ",null,null,"   ",null,null,"   ",{"$f":"Select_naics2022[[#This Row],[2022 NAICS Code]]&\":  \"&Select_naics2022[[#This Row],[2022 NAICS Title]]","v":"111331:  Apple Orchards "},111331,"Apple Orchards ",{"$f":"Select_naics2022[[#This Row],[2022 NAICS Title]]","v":"Apple Orchards "},null,"Other Services (except Public Administration)",null,"   ",null,null,"   ",null,null,"   ","Royalty (Debt)",null,"   ",null,null,"   ",null,null,"   ",null,null,"   ",null,null,"   ",null,null,"   ",null,null,"   ",null,"Bal_URE_2",{"$f":"TEXT(IF(formtype=\"P\",FormTypeLabels[[#This Row],[P]],FormTypeLabels[[#This Row],[C]]),\"\")","v":""},null,"53a Total Capital Including Cost of Treasury Stock (Sum of Lines 47d, 48, 49, 52)","2&3-Bal"]
[null,"   ","Strategy","Selected SBIC strategy",{"$f":"Strategy","v":0},"1-Cover","C32",14,"   ",null,null,"   ",null,null,"   ",null,null,"   ","GU","Guam","   ","Late Venture",{"$nulls":5},"   ",null,"Integrated Sensing and Cyber","   ",null,null,"   ",null,null,"   ",null,null,"   ",null,null,"   ",{"$f":"Select_naics2022[[#This Row],[2022 NAICS Code]]&\":  \"&Select_naics2022[[#This Row],[2022 NAICS Title]]","v":"111332:  Grape Vineyards "},111332,"Grape Vineyards ",{"$f":"Select_naics2022[[#This Row],[2022 NAICS Title]]","v":"Grape Vineyards "},null,"Professional, Scientific, and Technical Services",null,"   ",null,null,"   ",null,null,"   ","SAFE Note (Equity)",null,"   ",null,null,"   ",null,null,"   ",null,null,"   ",null,null,"   ",null,null,"   ",null,null,"   ",null,"Bal_URE_3",{"$f":"TEXT(IF(formtype=\"P\",FormTypeLabels[[#This Row],[P]],FormTypeLabels[[#This Row],[C]]),\"\")","v":""},null,"53b Less: Cost of Treasury Stock","2&3-Bal"]
[null,"   ","CY_Unrealgainloss",null,{"$f":"cy_unrealgainloss","v":0},"2&3-Bal","F101",null,"   ",null,null,"   ",null,null,"   ",null,null,"   ","HI","Hawaii","   ","Expansion",{"$nulls":5},"   ",null,null,"   ",null,null,"   ",null,null,"   ",null,null,"   ",null,null,"   ",{"$f":"Select_naics2022[[#This Row],[2022 NAICS Code]]&\":  \"&Select_naics2022[[#This Row],[2022 NAICS Title]]","v":"111333:  Strawberry Farming "},111333,"Strawberry Farming ",{"$f":"Select_naics2022[[#This Row],[2022 NAICS Title]]","v":"Strawberry Farming "},null,"Public Administration",null,"   ",null,null,"   ",null,null,"   ","Escrow",null,"   ",null,null,"   ",null,null,"   ",null,null,"   ",null,null,"   ",null,null,"   ",null,null,"   ",null,"NI_Exp_1",{"$f":"TEXT(IF(formtype=\"P\",FormTypeLabels[[#This Row],[P]],FormTypeLabels[[#This Row],[C]]),\"\")","v":"14 Partners' Meetings "},"14 Partners' Meetings ","14 Director's and Stockholder's Meeting","4-NI"]
[null,"   ","CY_UNRE","Current",{"$f":"cy_UNRE","v":0},"2&3-Bal","F103",null,"   ",null,null,"   ",null,null,"   ",null,null,"   ","IA","Iowa","   ","Balanced Venture",{"$nulls":5},"   ",null,null,"   ",null,null,"   ",null,null,"   ",null,null,"   ",null,null,"   ",{"$f":"Select_naics2022[[#This Row],[2022 NAICS Code]]&\":  \"&Select_naics2022[[#This Row],[2022 NAICS Title]]","v":"111334:  Berry (except Strawberry) Farming "},111334,"Berry (except Strawberry) Farming ",{"$f":"Select_naics2022[[#This Row],[2022 NAICS Title]]","v":"Berry (except Strawberry) Farming "},null,"Real Estate and Rental and Leasing",null,"   ",null,null,"   ",null,null,"   ","Other",null,"   ",null,null,"   ",null,null,"   ",null,null,"   ",null,null,"   ",null,null,"   ",null,null,"   ",null,"NI_Tot_1",{"$f":"TEXT(IF(formtype=\"P\",FormTypeLabels[[#This Row],[P]],FormTypeLabels[[#This Row],[C]]),\"\")","v":"26 NET INVESTMENT INCOME (LOSS)"},"26 NET INVESTMENT INCOME (LOSS)","26 NET INVESTMENT INCOME (LOSS) BEFORE INCOME TAXES","4-NI"]
[null,"   ","CY_UNRE",null,{"$f":"cy_UNRE","v":0},"2&3-Bal","F103",null,"   ",null,null,"   ",null,null,"   ",null,null,"   ","ID","Idaho","   ","Co-Investments",{"$nulls":5},"   ",null,null,"   ",null,null,"   ",null,null,"   ",null,null,"   ",null,null,"   ",{"$f":"Select_naics2022[[#This Row],[2022 NAICS Code]]&\":  \"&Select_naics2022[[#This Row],[2022 NAICS Title]]","v":"111335:  Tree Nut Farming "},111335,"Tree Nut Farming ",{"$f":"Select_naics2022[[#This Row],[2022 NAICS Title]]","v":"Tree Nut Farming "},null,"Retail Trade",null,"   ",null,null,"   ",null,null,"   ",null,null,"   ",null,null,"   ",null,null,"   ",null,null,"   ",null,null,"   ",null,null,"   ",null,null,"   ",null,"NI_Tot_2",{"$f":"TEXT(IF(formtype=\"P\",FormTypeLabels[[#This Row],[P]],FormTypeLabels[[#This Row],[C]]),\"\")","v":"27 NET REALIZED GAIN (LOSS) ON INVESTMENTS (1)"},"27 NET REALIZED GAIN (LOSS) ON INVESTMENTS (1)","27 NET REALIZED GAIN (LOSS) ON INVESTMENTS BEFORE INCOME TAXES (1)","4-NI"]
[null,"   ","cytotpartcap",null,{"$f":"cytotpartcap","v":0},"2&3-Bal","F110",null,"   ",null,null,"   ",null,null,"   ",null,null,"   ","IL","Illinois","   ","Hybrid Debt/Equity",{"$nulls":5},"   ",null,null,"   ",null,null,"   ",null,null,"   ",null,null,"   ",null,null,"   ",{"$f":"Select_naics2022[[#This Row],[2022 NAICS Code]]&\":  \"&Select_naics2022[[#This Row],[2022 NAICS Title]]","v":"111336:  Fruit and Tree Nut Combination Farming "},111336,"Fruit and Tree Nut Combination Farming ",{"$f":"Select_naics2022[[#This Row],[2022 NAICS Title]]","v":"Fruit and Tree Nut Combination Farming "},null,"Transportation",null,"   ",null,null,"   ",null,null,"   ",null,null,"   ",null,null,"   ",null,null,"   ",null,null,"   ",null,null,"   ",null,null,"   ",null,null,"   ",null,"NI_Tot_3",{"$f":"TEXT(IF(formtype=\"P\",FormTypeLabels[[#This Row],[P]],FormTypeLabels[[#This Row],[C]]),\"\")","v":""},null,"28a NET INCOME (LOSS) BEFORE INCOME TAXES AND NONRECURRING ITEMS","4-NI"]
[null,"   ","cytotliabcap",null,{"$f":"cytotliabcap","v":0},"2&3-Bal","F112",null,"   ",null,null,"   ",null,null,"   ",null,null,"   ","IN","Indiana","   ","Venture Debt",{"$nulls":5},"   ",null,null,"   ",null,null,"   ",null,null,"   ",null,null,"   ",null,null,"   ",{"$f":"Select_naics2022[[#This Row],[2022 NAICS Code]]&\":  \"&Select_naics2022[[#This Row],[2022 NAICS Title]]","v":"111339:  Other Noncitrus Fruit Farming "},111339,"Other Noncitrus Fruit Farming ",{"$f":"Select_naics2022[[#This Row],[2022 NAICS Title]]","v":"Other Noncitrus Fruit Farming "},null,"Utilities",null,"   ",null,null,"   ",null,null,"   ",null,null,"   ",null,null,"   ",null,null,"   ",null,null,"   ",null,null,"   ",null,null,"   ",null,null,"   ",null,"NI_Tot_4",{"$f":"TEXT(IF(formtype=\"P\",FormTypeLabels[[#This Row],[P]],FormTypeLabels[[#This Row],[C]]),\"\")","v":""},null,"28b Income Tax Expense (Benefit)","4-NI"]
[null,"   ","cycash",null,{"$f":"cycash","v":0},"2&3-Bal","F40",null,"   ",null,null,"   ",null,null,"   ",null,null,"   ","KS","Kansas","   ","Angel",{"$nulls":5},"   ",null,null,"   ",null,null,"   ",null,null,"   ",null,null,"   ",null,null,"   ",{"$f":"Select_naics2022[[#This Row],[2022 NAICS Code]]&\":  \"&Select_naics2022[[#This Row],[2022 NAICS Title]]","v":"111411:  Mushroom Production "},111411,"Mushroom Production ",{"$f":"Select_naics2022[[#This Row],[2022 NAICS Title]]","v":"Mushroom Production "},null,"Warehousing, Delivery Services",null,"   ",null,null,"   ",null,null,"   ",null,null,"   ",null,null,"   ",null,null,"   ",null,null,"   ",null,null,"   ",null,null,"   ",null,null,"   ",null,"NI_Tot_5",{"$f":"TEXT(IF(formtype=\"P\",FormTypeLabels[[#This Row],[P]],FormTypeLabels[[#This Row],[C]]),\"\")","v":"28 NET INCOME (LOSS) BEFORE NONRECURRING ITEMS "},"28 NET INCOME (LOSS) BEFORE NONRECURRING ITEMS ","28c NET INCOME (LOSS) BEFORE NONRECURRING ITEMS","4-NI"]
[null,"   ","cyidle",null,{"$f":"cyidle","v":0},"2&3-Bal","F41",null,"   ",null,null,"   ",null,null,"   ",null,null,"   ","KY","Kentucky","   ","Other",null,"   ",{"$nulls":3},"   ",null,null,"   ",null,null,"   ",null,null,"   ",null,null,"   ",null,null,"   ",{"$f":"Select_naics2022[[#This Row],[2022 NAICS Code]]&\":  \"&Select_naics2022[[#This Row],[2022 NAICS Title]]","v":"111419:  Other Food Crops Grown Under Cover "},111419,"Other Food Crops Grown Under Cover ",{"$f":"Select_naics2022[[#This Row],[2022 NAICS Title]]","v":"Other Food Crops Grown Under Cover "},null,"Wholesale Trade",null,"   ",null,null,"   ",null,null,"   ",null,null,"   ",null,null,"   ",null,null,"   ",null,null,"   ",null,null,"   ",null,null,"   ",null,null,"   ",null,"CF_Out_13a",{"$f":"TEXT(IF(formtype=\"P\",FormTypeLabels[[#This Row],[P]],FormTypeLabels[[#This Row],[C]]),\"\")","v":"13 Other Operating Cash Disbursements"},"13 Other Operating Cash Disbursements","13a Income Taxes paid","5&6-CF"]
[null,"   ","cyintdivrec",null,{"$f":"cyintdivrec","v":0},"2&3-Bal","F42",null,"   ",null,null,"   ",null,null,"   ",null,null,"   ","LA","Louisiana","   ",null,null,"   ",{"$nulls":3},"   ",null,null,"   ",null,null,"   ",null,null,"   ",null,null,"   ",null,null,"   ",{"$f":"Select_naics2022[[#This Row],[2022 NAICS Code]]&\":  \"&Select_naics2022[[#This Row],[2022 NAICS Title]]","v":"111421:  Nursery and Tree Production "},111421,"Nursery and Tree Production ",{"$f":"Select_naics2022[[#This Row],[2022 NAICS Title]]","v":"Nursery and Tree Production "},null,"Other",null,"   ",null,null,"   ",null,null,"   ",null,null,"   ",null,null,"   ",null,null,"   ",null,null,"   ",null,null,"   ",null,null,"   ",null,null,"   ",null,"CF_Out_13b",{"$f":"TEXT(IF(formtype=\"P\",FormTypeLabels[[#This Row],[P]],FormTypeLabels[[#This Row],[C]]),\"\")","v":""},null,"13b Other Operating Cash Disbursements","7-Pcap"]
[null,"   ","cycurrentassets",null,{"$f":"cycurrentassets","v":0},"2&3-Bal","F52",null,"   ",null,null,"   ",null,null,"   ",null,null,"   ","MA","Massachusetts","   ",null,null,"   ",{"$nulls":3},"   ",null,null,"   ",null,null,"   ",null,null,"   ",null,null,"   ",null,null,"   ",{"$f":"Select_naics2022[[#This Row],[2022 NAICS Code]]&\":  \"&Select_naics2022[[#This Row],[2022 NAICS Title]]","v":"111422:  Floriculture Production "},111422,"Floriculture Production ",{"$f":"Select_naics2022[[#This Row],[2022 NAICS Title]]","v":"Floriculture Production "},{"$nulls":3},"   ",null,null,"   ",null,null,"   ",null,null,"   ",null,null,"   ",null,null,"   ",null,null,"   ",null,null,"   ",null,null,"   ",null,null,"   ",null,"Pcap_Cap_I",{"$f":"TEXT(IF(formtype=\"P\",FormTypeLabels[[#This Row],[P]],FormTypeLabels[[#This Row],[C]]),\"\")","v":"PART I. PRIVATE PARTNERS' CONTRIBUTED CAPITAL"},"PART I. PRIVATE PARTNERS' CONTRIBUTED CAPITAL","PART I. CAPITAL STOCK AND PAID-IN SURPLUS","7-Pcap"]
[null,"   ","cyotherassets",null,{"$f":"cyotherassets","v":0},"2&3-Bal","F59",null,"   ",null,null,"   ",null,null,"   ",null,null,"   ","MD","Maryland","   ",null,null,"   ",{"$nulls":3},"   ",null,null,"   ",null,null,"   ",null,null,"   ",null,null,"   ",null,null,"   ",{"$f":"Select_naics2022[[#This Row],[2022 NAICS Code]]&\":  \"&Select_naics2022[[#This Row],[2022 NAICS Title]]","v":"111910:  Tobacco Farming"},111910,"Tobacco Farming",{"$f":"Select_naics2022[[#This Row],[2022 NAICS Title]]","v":"Tobacco Farming"},{"$nulls":3},"   ",null,null,"   ",null,null,"   ",null,null,"   ",null,null,"   ",null,null,"   ",null,null,"   ",null,null,"   ",null,null,"   ",null,null,"   ",null,"Pcap_CapAdd_2a",{"$f":"TEXT(IF(formtype=\"P\",FormTypeLabels[[#This Row],[P]],FormTypeLabels[[#This Row],[C]]),\"\")","v":"a. Partnership interests issued for cash"},"a. Partnership interests issued for cash","a. Capital stock issued for cash","7-Pcap"]
[null,"   ","cytotalassets",null,{"$f":"cytotalassets","v":0},"2&3-Bal","F61",null,"   ",null,null,"   ",null,null,"   ",null,null,"   ","ME","Maine","   ",null,null,"   ",{"$nulls":3},"   ",null,null,"   ",null,null,"   ",null,null,"   ",null,null,"   ",null,null,"   ",{"$f":"Select_naics2022[[#This Row],[2022 NAICS Code]]&\":  \"&Select_naics2022[[#This Row],[2022 NAICS Title]]","v":"111920:  Cotton Farming"},111920,"Cotton Farming",{"$f":"Select_naics2022[[#This Row],[2022 NAICS Title]]","v":"Cotton Farming"},{"$nulls":3},"   ",null,null,"   ",null,null,"   ",null,null,"   ",null,null,"   ",null,null,"   ",null,null,"   ",null,null,"   ",null,null,"   ",null,null,"   ",null,"Pcap_CapAdd_2b",{"$f":"TEXT(IF(formtype=\"P\",FormTypeLabels[[#This Row],[P]],FormTypeLabels[[#This Row],[C]]),\"\")","v":"b. Partnership interests issued for services rendered "},"b. Partnership interests issued for services rendered ","b. Capital stock issued for services rendered","7-Pcap"]
[null,"   ","cysbabal",null,{"$f":"cysbabal","v":0},"2&3-Bal","F69",null,"   ",null,null,"   ",null,null,"   ",null,null,"   ","MH","Marshall Islands","   ",null,null,"   ",{"$nulls":3},"   ",null,null,"   ",null,null,"   ",null,null,"   ",null,null,"   ",null,null,"   ",{"$f":"Select_naics2022[[#This Row],[2022 NAICS Code]]&\":  \"&Select_naics2022[[#This Row],[2022 NAICS Title]]","v":"111930:  Sugarcane Farming"},111930,"Sugarcane Farming",{"$f":"Select_naics2022[[#This Row],[2022 NAICS Title]]","v":"Sugarcane Farming"},{"$nulls":3},"   ",null,null,"   ",null,null,"   ",null,null,"   ",null,null,"   ",null,null,"   ",null,null,"   ",null,null,"   ",null,null,"   ",null,null,"   ",null,"Pcap_CapAdd_2c",{"$f":"TEXT(IF(formtype=\"P\",FormTypeLabels[[#This Row],[P]],FormTypeLabels[[#This Row],[C]]),\"\")","v":"c. Partnership interests issued for contributed non-cash assets "},"c. Partnership interests issued for contributed non-cash assets ","c. Capital stock issued for contributed non-cash assets","7-Pcap"]
[null,"   ","CYTotalLTLiab",null,{"$f":"cytotalLTLiab","v":0},"2&3-Bal","F71",null,"   ",null,null,"   ",null,null,"   ",null,null,"   ","MI","Michigan","   ",null,null,"   ",{"$nulls":3},"   ",null,null,"   ",null,null,"   ",null,null,"   ",null,null,"   ",null,null,"   ",{"$f":"Select_naics2022[[#This Row],[2022 NAICS Code]]&\":  \"&Select_naics2022[[#This Row],[2022 NAICS Title]]","v":"111940:  Hay Farming "},111940,"Hay Farming ",{"$f":"Select_naics2022[[#This Row],[2022 NAICS Title]]","v":"Hay Farming "},{"$nulls":3},"   ",null,null,"   ",null,null,"   ",null,null,"   ",null,null,"   ",null,null,"   ",null,null,"   ",null,null,"   ",null,null,"   ",null,null,"   ",null,"Pcap_CapAdd_2f",{"$f":"TEXT(IF(formtype=\"P\",FormTypeLabels[[#This Row],[P]],FormTypeLabels[[#This Row],[C]]),\"\")","v":""},null,"f. Gain on sale of Treasury Stock","7-Pcap"]
[null,"   ","Cyaccountspayable",null,{"$f":"cyaccountspayable","v":0},"2&3-Bal","F74",null,"   ",null,null,"   ",null,null,"   ",null,null,"   ","MN","Minnesota","   ",null,null,"   ",{"$nulls":3},"   ",null,null,"   ",null,null,"   ",null,null,"   ",null,null,"   ",null,null,"   ",{"$f":"Select_naics2022[[#This Row],[2022 NAICS Code]]&\":  \"&Select_naics2022[[#This Row],[2022 NAICS Title]]","v":"111991:  Sugar Beet Farming "},111991,"Sugar Beet Farming ",{"$f":"Select_naics2022[[#This Row],[2022 NAICS Title]]","v":"Sugar Beet Farming "},{"$nulls":3},"   ",null,null,"   ",null,null,"   ",null,null,"   ",null,null,"   ",null,null,"   ",null,null,"   ",null,null,"   ",null,null,"   ",null,null,"   ",null,"Pcap_CapDed_5a",{"$f":"TEXT(IF(formtype=\"P\",FormTypeLabels[[#This Row],[P]],FormTypeLabels[[#This Row],[C]]),\"\")","v":"a. Liquidation of Partnership interests "},"a. Liquidation of Partnership interests ","a. Retirement of capital stock","7-Pcap"]
[null,"   ","Cyaccruedintpay",null,{"$f":"cyaccruedintpay","v":0},"2&3-Bal","F78",null,"   ",null,null,"   ",null,null,"   ",null,null,"   ","MO","Missouri","   ",null,null,"   ",{"$nulls":3},"   ",null,null,"   ",null,null,"   ",null,null,"   ",null,null,"   ",null,null,"   ",{"$f":"Select_naics2022[[#This Row],[2022 NAICS Code]]&\":  \"&Select_naics2022[[#This Row],[2022 NAICS Title]]","v":"111992:  Peanut Farming "},111992,"Peanut Farming ",{"$f":"Select_naics2022[[#This Row],[2022 NAICS Title]]","v":"Peanut Farming "},{"$nulls":3},"   ",null,null,"   ",null,null,"   ",null,null,"   ",null,null,"   ",null,null,"   ",null,null,"   ",null,null,"   ",null,null,"   ",null,null,"   ",null,"Pcap_CapDed_5b",{"$f":"TEXT(IF(formtype=\"P\",FormTypeLabels[[#This Row],[P]],FormTypeLabels[[#This Row],[C]]),\"\")","v":""},null,"b. Return of capital distributions","7-Pcap"]
[null,"   ","cyaccruedtaxpay",null,{"$f":"cyaccruedtaxpay","v":0},"2&3-Bal","F79",null,"   ",null,null,"   ",null,null,"   ",null,null,"   ","MP","Northern Mariana Islands","   ",null,null,"   ",{"$nulls":3},"   ",null,null,"   ",null,null,"   ",null,null,"   ",null,null,"   ",null,null,"   ",{"$f":"Select_naics2022[[#This Row],[2022 NAICS Code]]&\":  \"&Select_naics2022[[#This Row],[2022 NAICS Title]]","v":"111998:  All Other Miscellaneous Crop Farming "},111998,"All Other Miscellaneous Crop Farming ",{"$f":"Select_naics2022[[#This Row],[2022 NAICS Title]]","v":"All Other Miscellaneous Crop Farming "},{"$nulls":3},"   ",null,null,"   ",null,null,"   ",null,null,"   ",null,null,"   ",null,null,"   ",null,null,"   ",null,null,"   ",null,null,"   ",null,null,"   ",null,"Pcap_CapDed_5c",{"$f":"TEXT(IF(formtype=\"P\",FormTypeLabels[[#This Row],[P]],FormTypeLabels[[#This Row],[C]]),\"\")","v":""},null,"c. Loss on sale of Treasury Stock","7-Pcap"]
[null,"   ","cydistpay",null,{"$f":"cydistpay","v":0},"2&3-Bal","F80",null,"   ",null,null,"   ",null,null,"   ",null,null,"   ","MS","Mississippi","   ",null,null,"   ",{"$nulls":3},"   ",null,null,"   ",null,null,"   ",null,null,"   ",null,null,"   ",null,null,"   ",{"$f":"Select_naics2022[[#This Row],[2022 NAICS Code]]&\":  \"&Select_naics2022[[#This Row],[2022 NAICS Title]]","v":"112111:  Beef Cattle Ranching and Farming "},112111,"Beef Cattle Ranching and Farming ",{"$f":"Select_naics2022[[#This Row],[2022 NAICS Title]]","v":"Beef Cattle Ranching and Farming "},{"$nulls":3},"   ",null,null,"   ",null,null,"   ",null,null,"   ",null,null,"   ",null,null,"   ",null,null,"   ",null,null,"   ",null,null,"   ",null,null,"   ",null,"Pcap_CapDed_5d",{"$f":"TEXT(IF(formtype=\"P\",FormTypeLabels[[#This Row],[P]],FormTypeLabels[[#This Row],[C]]),\"\")","v":"b.Other debits (specify) "},"b.Other debits (specify) ","d.Other debits (specify) ","7-Pcap"]
[null,"   ","cyotherliab",null,{"$f":"cyotherliab","v":0},"2&3-Bal","F90",null,"   ",null,null,"   ",null,null,"   ",null,null,"   ","MT","Montana","   ",null,null,"   ",{"$nulls":3},"   ",null,null,"   ",null,null,"   ",null,null,"   ",null,null,"   ",null,null,"   ",{"$f":"Select_naics2022[[#This Row],[2022 NAICS Code]]&\":  \"&Select_naics2022[[#This Row],[2022 NAICS Title]]","v":"112112:  Cattle Feedlots "},112112,"Cattle Feedlots ",{"$f":"Select_naics2022[[#This Row],[2022 NAICS Title]]","v":"Cattle Feedlots "},{"$nulls":3},"   ",null,null,"   ",null,null,"   ",null,null,"   ",null,null,"   ",null,null,"   ",null,null,"   ",null,null,"   ",null,null,"   ",null,null,"   ",null,"Pcap_UNRE_5a",{"$f":"TEXT(IF(formtype=\"P\",FormTypeLabels[[#This Row],[P]],FormTypeLabels[[#This Row],[C]]),\"\")","v":"a. Cash Distributions "},"a. Cash Distributions ","a. Dividends - Cash","7-Pcap"]
[null,"   ","cyTotalLiab",null,{"$f":"cytotalliab","v":0},"2&3-Bal","F92",null,"   ",null,null,"   ",null,null,"   ",null,null,"   ","NC","North Carolina","   ",null,null,"   ",{"$nulls":3},"   ",null,null,"   ",null,null,"   ",null,null,"   ",null,null,"   ",null,null,"   ",{"$f":"Select_naics2022[[#This Row],[2022 NAICS Code]]&\":  \"&Select_naics2022[[#This Row],[2022 NAICS Title]]","v":"112120:  Dairy Cattle and Milk Production"},112120,"Dairy Cattle and Milk Production",{"$f":"Select_naics2022[[#This Row],[2022 NAICS Title]]","v":"Dairy Cattle and Milk Production"},{"$nulls":3},"   ",null,null,"   ",null,null,"   ",null,null,"   ",null,null,"   ",null,null,"   ",null,null,"   ",null,null,"   ",null,null,"   ",null,null,"   ",null,"Pcap_UNRE_5b",{"$f":"TEXT(IF(formtype=\"P\",FormTypeLabels[[#This Row],[P]],FormTypeLabels[[#This Row],[C]]),\"\")","v":"b. Distributions allocated but not paid "},"b. Distributions allocated but not paid ","b. Dividends - Stock","7-Pcap"]
[null,"   ","cyprivcapbal",null,{"$f":"cyprivcapbal","v":0},"2&3-Bal","F99",null,"   ",null,null,"   ",null,null,"   ",null,null,"   ","ND","North Dakota","   ",null,null,"   ",{"$nulls":3},"   ",null,null,"   ",null,null,"   ",null,null,"   ",null,null,"   ",null,null,"   ",{"$f":"Select_naics2022[[#This Row],[2022 NAICS Code]]&\":  \"&Select_naics2022[[#This Row],[2022 NAICS Title]]","v":"112130:  Dual-Purpose Cattle Ranching and Farming "},112130,"Dual-Purpose Cattle Ranching and Farming ",{"$f":"Select_naics2022[[#This Row],[2022 NAICS Title]]","v":"Dual-Purpose Cattle Ranching and Farming "},{"$nulls":3},"   ",null,null,"   ",null,null,"   ",null,null,"   ",null,null,"   ",null,null,"   ",null,null,"   ",null,null,"   ",null,null,"   ",null,null,"   ",null,"Pcap_UNRE_5c",{"$f":"TEXT(IF(formtype=\"P\",FormTypeLabels[[#This Row],[P]],FormTypeLabels[[#This Row],[C]]),\"\")","v":"c. In-Kind Distributions (at fair value) "},"c. In-Kind Distributions (at fair value) ","c. Dividends - In-Kind (at fair value)","7-Pcap"]
[null,"   ","PYTotalPartCap",null,{"$f":"PYTotalPartCap","v":0},"2&3-Bal","H110",null,"   ",null,null,"   ",null,null,"   ",null,null,"   ","NE","Nebraska","   ",null,null,"   ",{"$nulls":3},"   ",null,null,"   ",null,null,"   ",null,null,"   ",null,null,"   ",null,null,"   ",{"$f":"Select_naics2022[[#This Row],[2022 NAICS Code]]&\":  \"&Select_naics2022[[#This Row],[2022 NAICS Title]]","v":"112210:  Hog and Pig Farming "},112210,"Hog and Pig Farming ",{"$f":"Select_naics2022[[#This Row],[2022 NAICS Title]]","v":"Hog and Pig Farming "},{"$nulls":3},"   ",null,null,"   ",null,null,"   ",null,null,"   ",null,null,"   ",null,null,"   ",null,null,"   ",null,null,"   ",null,null,"   ",null,null,"   ",null,"Pcap_UNRE_9comment",{"$f":"TEXT(IF(formtype=\"P\",FormTypeLabels[[#This Row],[P]],FormTypeLabels[[#This Row],[C]]),\"\")","v":"Totals must agree with lines 50, 51, and 52, page 3"},"Totals must agree with lines 50, 51, and 52, page 3","Totals must agree with lines 50, 51c, and 52, page 3","7-Pcap"]
[null,"   ","PYTotalLiabCap",null,{"$f":"PYTotalLiabCap","v":0},"2&3-Bal","H112",null,"   ",null,null,"   ",null,null,"   ",null,null,"   ","NH","New Hampshire","   ",null,null,"   ",{"$nulls":3},"   ",null,null,"   ",null,null,"   ",null,null,"   ",null,null,"   ",null,null,"   ",{"$f":"Select_naics2022[[#This Row],[2022 NAICS Code]]&\":  \"&Select_naics2022[[#This Row],[2022 NAICS Title]]","v":"112310:  Chicken Egg Production "},112310,"Chicken Egg Production ",{"$f":"Select_naics2022[[#This Row],[2022 NAICS Title]]","v":"Chicken Egg Production "},{"$nulls":3},"   ",null,null,"   ",null,null,"   ",null,null,"   ",null,null,"   ",null,null,"   ",null,null,"   ",null,null,"   ",null,null,"   ",null,null,"   ",null,"Pcap_PartII_1",{"$f":"TEXT(IF(formtype=\"P\",FormTypeLabels[[#This Row],[P]],FormTypeLabels[[#This Row],[C]]),\"\")","v":"1 Private Partners' Contributed Capital (line 47c, page 3)"},"1 Private Partners' Contributed Capital (line 47c, page 3)","1 Capital Stock and Paid-in Surplus (sum of lines 47 and 48, page 3)","8-READ_Cap"]
[null,"   ","pycash",null,{"$f":"pycash","v":0},"2&3-Bal","h40",null,"   ",null,null,"   ",null,null,"   ",null,null,"   ","NJ","New Jersey","   ",null,null,"   ",{"$nulls":3},"   ",null,null,"   ",null,null,"   ",null,null,"   ",null,null,"   ",null,null,"   ",{"$f":"Select_naics2022[[#This Row],[2022 NAICS Code]]&\":  \"&Select_naics2022[[#This Row],[2022 NAICS Title]]","v":"112320:  Broilers and Other Meat Type Chicken Production "},112320,"Broilers and Other Meat Type Chicken Production ",{"$f":"Select_naics2022[[#This Row],[2022 NAICS Title]]","v":"Broilers and Other Meat Type Chicken Production "},{"$nulls":3},"   ",null,null,"   ",null,null,"   ",null,null,"   ",null,null,"   ",null,null,"   ",null,null,"   ",null,null,"   ",null,null,"   ",null,null,"   ",null,"Pcap_PartII_2a",{"$f":"TEXT(IF(formtype=\"P\",FormTypeLabels[[#This Row],[P]],FormTypeLabels[[#This Row],[C]]),\"\")","v":"a. Unfunded binding commitments from Institutional Investors"},"a. Unfunded binding commitments from Institutional Investors","Unfunded binding commitments from Institutional Investors","8-READ_Cap"]
[null,"   ","PYIdle",null,{"$f":"pyidle","v":0},"2&3-Bal","h41",null,"   ",null,null,"   ",null,null,"   ",null,null,"   ","NM","New Mexico","   ",null,null,"   ",{"$nulls":3},"   ",null,null,"   ",null,null,"   ",null,null,"   ",null,null,"   ",null,null,"   ",{"$f":"Select_naics2022[[#This Row],[2022 NAICS Code]]&\":  \"&Select_naics2022[[#This Row],[2022 NAICS Title]]","v":"112330:  Turkey Production"},112330,"Turkey Production",{"$f":"Select_naics2022[[#This Row],[2022 NAICS Title]]","v":"Turkey Production"},{"$nulls":3},"   ",null,null,"   ",null,null,"   ",null,null,"   ",null,null,"   ",null,null,"   ",null,null,"   ",null,null,"   ",null,null,"   ",null,null,"   ",null,"Pcap_PartII_2b",{"$f":"TEXT(IF(formtype=\"P\",FormTypeLabels[[#This Row],[P]],FormTypeLabels[[#This Row],[C]]),\"\")","v":"b. Waived management fees credited as capital contributions"},"b. Waived management fees credited as capital contributions",null,"8-READ_Cap"]
[null,"   ","PYIntdivrec",null,{"$f":"pyintdivrec","v":0},"2&3-Bal","H42",null,"   ",null,null,"   ",null,null,"   ",null,null,"   ","NV","Nevada","   ",null,null,"   ",{"$nulls":3},"   ",null,null,"   ",null,null,"   ",null,null,"   ",null,null,"   ",null,null,"   ",{"$f":"Select_naics2022[[#This Row],[2022 NAICS Code]]&\":  \"&Select_naics2022[[#This Row],[2022 NAICS Title]]","v":"112340:  Poultry Hatcheries"},112340,"Poultry Hatcheries",{"$f":"Select_naics2022[[#This Row],[2022 NAICS Title]]","v":"Poultry Hatcheries"},{"$nulls":3},"   ",null,null,"   ",null,null,"   ",null,null,"   ",null,null,"   ",null,null,"   ",null,null,"   ",null,null,"   ",null,null,"   ",null,null,"   ",null,"Pcap_PartII_2c",{"$f":"TEXT(IF(formtype=\"P\",FormTypeLabels[[#This Row],[P]],FormTypeLabels[[#This Row],[C]]),\"\")","v":"c.  Total Additions (Sum of Line 2a and 2b)"},"c.  Total Additions (Sum of Line 2a and 2b)",null,"8-READ_Cap"]
[null,"   ","pycurrentassets",null,{"$f":"pycurrentassets","v":0},"2&3-Bal","h52",null,"   ",null,null,"   ",null,null,"   ",null,null,"   ","NY","New York","   ",null,null,"   ",{"$nulls":3},"   ",null,null,"   ",null,null,"   ",null,null,"   ",null,null,"   ",null,null,"   ",{"$f":"Select_naics2022[[#This Row],[2022 NAICS Code]]&\":  \"&Select_naics2022[[#This Row],[2022 NAICS Title]]","v":"112390:  Other Poultry Production "},112390,"Other Poultry Production ",{"$f":"Select_naics2022[[#This Row],[2022 NAICS Title]]","v":"Other Poultry Production "},{"$nulls":3},"   ",null,null,"   ",null,null,"   ",null,null,"   ",null,null,"   ",null,null,"   ",null,null,"   ",null,null,"   ",null,null,"   ",null,null,"   ",null,"Pcap_PartII_3b",{"$f":"TEXT(IF(formtype=\"P\",FormTypeLabels[[#This Row],[P]],FormTypeLabels[[#This Row],[C]]),\"\")","v":"b. Partnership interests Issued for Services"},"b. Partnership interests Issued for Services","b. Capital Stock Issued for Services","8-READ_Cap"]
[null,"   ","PYOtherassets",null,{"$f":"pyotherassets","v":0},"2&3-Bal","H59",null,"   ",null,null,"   ",null,null,"   ",null,null,"   ","OH","Ohio","   ",null,null,"   ",{"$nulls":3},"   ",null,null,"   ",null,null,"   ",null,null,"   ",null,null,"   ",null,null,"   ",{"$f":"Select_naics2022[[#This Row],[2022 NAICS Code]]&\":  \"&Select_naics2022[[#This Row],[2022 NAICS Title]]","v":"112410:  Sheep Farming"},112410,"Sheep Farming",{"$f":"Select_naics2022[[#This Row],[2022 NAICS Title]]","v":"Sheep Farming"},{"$nulls":3},"   ",null,null,"   ",null,null,"   ",null,null,"   ",null,null,"   ",null,null,"   ",null,null,"   ",null,null,"   ",null,null,"   ",null,null,"   ",null,"Pcap_PartII_3c",{"$f":"TEXT(IF(formtype=\"P\",FormTypeLabels[[#This Row],[P]],FormTypeLabels[[#This Row],[C]]),\"\")","v":"c. Partnership interests Issued for Non-cash Assets"},"c. Partnership interests Issued for Non-cash Assets","c. Capital Stock Issued for Non-cash Assets","8-READ_Cap"]
[null,"   ","PYTotalassets",null,{"$f":"pytotalassets","v":0},"2&3-Bal","H61",null,"   ",null,null,"   ",null,null,"   ",null,null,"   ","OK","Oklahoma","   ",null,null,"   ",{"$nulls":3},"   ",null,null,"   ",null,null,"   ",null,null,"   ",null,null,"   ",null,null,"   ",{"$f":"Select_naics2022[[#This Row],[2022 NAICS Code]]&\":  \"&Select_naics2022[[#This Row],[2022 NAICS Title]]","v":"112420:  Goat Farming"},112420,"Goat Farming",{"$f":"Select_naics2022[[#This Row],[2022 NAICS Title]]","v":"Goat Farming"},{"$nulls":3},"   ",null,null,"   ",null,null,"   ",null,null,"   ",null,null,"   ",null,null,"   ",null,null,"   ",null,null,"   ",null,null,"   ",null,null,"   ",null,"Pcap_PartII_3d",{"$f":"TEXT(IF(formtype=\"P\",FormTypeLabels[[#This Row],[P]],FormTypeLabels[[#This Row],[C]]),\"\")","v":""},null,"d. Treasury Stock at Cost","8-READ_Cap"]
[null,"   ","PYSBABal",null,{"$f":"pysbabal","v":0},"2&3-Bal","H69",null,"   ",null,null,"   ",null,null,"   ",null,null,"   ","OR","Oregon","   ",null,null,"   ",{"$nulls":3},"   ",null,null,"   ",null,null,"   ",null,null,"   ",null,null,"   ",null,null,"   ",{"$f":"Select_naics2022[[#This Row],[2022 NAICS Code]]&\":  \"&Select_naics2022[[#This Row],[2022 NAICS Title]]","v":"112511:  Finfish Farming and Fish Hatcheries "},112511,"Finfish Farming and Fish Hatcheries ",{"$f":"Select_naics2022[[#This Row],[2022 NAICS Title]]","v":"Finfish Farming and Fish Hatcheries "},{"$nulls":3},"   ",null,null,"   ",null,null,"   ",null,null,"   ",null,null,"   ",null,null,"   ",null,null,"   ",null,null,"   ",null,null,"   ",null,null,"   ",null,"Pcap_PartII_3e",{"$f":"TEXT(IF(formtype=\"P\",FormTypeLabels[[#This Row],[P]],FormTypeLabels[[#This Row],[C]]),\"\")","v":"d. Other credits (specify)"},"d. Other credits (specify)","e. Other credits (specify)","8-READ_Cap"]
[null,"   ","PYtotalLTLiab",null,{"$f":"pytotalLTliab","v":0},"2&3-Bal","H71",null,"   ",null,null,"   ",null,null,"   ",null,null,"   ","PA","Pennsylvania","   ",null,null,"   ",{"$nulls":3},"   ",null,null,"   ",null,null,"   ",null,null,"   ",null,null,"   ",null,null,"   ",{"$f":"Select_naics2022[[#This Row],[2022 NAICS Code]]&\":  \"&Select_naics2022[[#This Row],[2022 NAICS Title]]","v":"112512:  Shellfish Farming "},112512,"Shellfish Farming ",{"$f":"Select_naics2022[[#This Row],[2022 NAICS Title]]","v":"Shellfish Farming "},{"$nulls":3},"   ",null,null,"   ",null,null,"   ",null,null,"   ",null,null,"   ",null,null,"   ",null,null,"   ",null,null,"   ",null,null,"   ",null,null,"   "]
[null,"   ","pyaccountspayable",null,{"$f":"pyaccountspayable","v":0},"2&3-Bal","h74",null,"   ",null,null,"   ",null,null,"   ",null,null,"   ","PR","Puerto Rico","   ",null,null,"   ",{"$nulls":3},"   ",null,null,"   ",null,null,"   ",null,null,"   ",null,null,"   ",null,null,"   ",{"$f":"Select_naics2022[[#This Row],[2022 NAICS Code]]&\":  \"&Select_naics2022[[#This Row],[2022 NAICS Title]]","v":"112519:  Other Aquaculture "},112519,"Other Aquaculture ",{"$f":"Select_naics2022[[#This Row],[2022 NAICS Title]]","v":"Other Aquaculture "},{"$nulls":3},"   ",null,null,"   ",null,null,"   ",null,null,"   ",null,null,"   ",null,null,"   ",null,null,"   ",null,null,"   ",null,null,"   ",null,null,"   "]
[null,"   ","pyaccruedintpay",null,{"$f":"pyaccruedintpay","v":0},"2&3-Bal","h78",null,"   ",null,null,"   ",null,null,"   ",null,null,"   ","PW","Palau","   ",null,null,"   ",{"$nulls":3},"   ",null,null,"   ",null,null,"   ",null,null,"   ",null,null,"   ",null,null,"   ",{"$f":"Select_naics2022[[#This Row],[2022 NAICS Code]]&\":  \"&Select_naics2022[[#This Row],[2022 NAICS Title]]","v":"112910:  Apiculture"},112910,"Apiculture",{"$f":"Select_naics2022[[#This Row],[2022 NAICS Title]]","v":"Apiculture"},{"$nulls":3},"   ",null,null,"   ",null,null,"   ",null,null,"   ",null,null,"   ",null,null,"   ",null,null,"   ",null,null,"   ",null,null,"   ",null,null,"   "]
[null,"   ","pyaccruedtaxpay",null,{"$f":"pyaccruedtaxpay","v":0},"2&3-Bal","h79",null,"   ",null,null,"   ",null,null,"   ",null,null,"   ","RI","Rhode Island","   ",null,null,"   ",{"$nulls":3},"   ",null,null,"   ",null,null,"   ",null,null,"   ",null,null,"   ",null,null,"   ",{"$f":"Select_naics2022[[#This Row],[2022 NAICS Code]]&\":  \"&Select_naics2022[[#This Row],[2022 NAICS Title]]","v":"112920:  Horses and Other Equine Production"},112920,"Horses and Other Equine Production",{"$f":"Select_naics2022[[#This Row],[2022 NAICS Title]]","v":"Horses and Other Equine Production"},{"$nulls":3},"   ",null,null,"   ",null,null,"   ",null,null,"   ",null,null,"   ",null,null,"   ",null,null,"   ",null,null,"   ",null,null,"   ",null,null,"   "]
[null,"   ","pyFYEnd",null,{"$f":"pyFYEnd","v":0},"2&3-Bal","H8",null,"   ",null,null,"   ",null,null,"   ",null,null,"   ","SC","South Carolina","   ",null,null,"   ",{"$nulls":3},"   ",null,null,"   ",null,null,"   ",null,null,"   ",null,null,"   ",null,null,"   ",{"$f":"Select_naics2022[[#This Row],[2022 NAICS Code]]&\":  \"&Select_naics2022[[#This Row],[2022 NAICS Title]]","v":"112930:  Fur-Bearing Animal and Rabbit Production"},112930,"Fur-Bearing Animal and Rabbit Production",{"$f":"Select_naics2022[[#This Row],[2022 NAICS Title]]","v":"Fur-Bearing Animal and Rabbit Production"},{"$nulls":3},"   ",null,null,"   ",null,null,"   ",null,null,"   ",null,null,"   ",null,null,"   ",null,null,"   ",null,null,"   ",null,null,"   ",null,null,"   "]
[null,"   ","pydistpay",null,{"$f":"pydistpay","v":0},"2&3-Bal","H80",null,"   ",null,null,"   ",null,null,"   ",null,null,"   ","SD","South Dakota","   ",null,null,"   ",{"$nulls":3},"   ",null,null,"   ",null,null,"   ",null,null,"   ",null,null,"   ",null,null,"   ",{"$f":"Select_naics2022[[#This Row],[2022 NAICS Code]]&\":  \"&Select_naics2022[[#This Row],[2022 NAICS Title]]","v":"112990:  All Other Animal Production "},112990,"All Other Animal Production ",{"$f":"Select_naics2022[[#This Row],[2022 NAICS Title]]","v":"All Other Animal Production "},{"$nulls":3},"   ",null,null,"   ",null,null,"   ",null,null,"   ",null,null,"   ",null,null,"   ",null,null,"   ",null,null,"   ",null,null,"   ",null,null,"   "]
[null,"   ","PYOtherLiab",null,{"$f":"pyotherliab","v":0},"2&3-Bal","H90",null,"   ",null,null,"   ",null,null,"   ",null,null,"   ","TN","Tennessee","   ",null,null,"   ",{"$nulls":3},"   ",null,null,"   ",null,null,"   ",null,null,"   ",null,null,"   ",null,null,"   ",{"$f":"Select_naics2022[[#This Row],[2022 NAICS Code]]&\":  \"&Select_naics2022[[#This Row],[2022 NAICS Title]]","v":"113110:  Timber Tract Operations"},113110,"Timber Tract Operations",{"$f":"Select_naics2022[[#This Row],[2022 NAICS Title]]","v":"Timber Tract Operations"},{"$nulls":3},"   ",null,null,"   ",null,null,"   ",null,null,"   ",null,null,"   ",null,null,"   ",null,null,"   ",null,null,"   ",null,null,"   ",null,null,"   "]
[null,"   ","PYTotalLiab",null,{"$f":"pytotalliab","v":0},"2&3-Bal","H92",null,"   ",null,null,"   ",null,null,"   ",null,null,"   ","TX","Texas","   ",null,null,"   ",{"$nulls":3},"   ",null,null,"   ",null,null,"   ",null,null,"   ",null,null,"   ",null,null,"   ",{"$f":"Select_naics2022[[#This Row],[2022 NAICS Code]]&\":  \"&Select_naics2022[[#This Row],[2022 NAICS Title]]","v":"113210:  Forest Nurseries and Gathering of Forest Products "},113210,"Forest Nurseries and Gathering of Forest Products ",{"$f":"Select_naics2022[[#This Row],[2022 NAICS Title]]","v":"Forest Nurseries and Gathering of Forest Products "},{"$nulls":3},"   ",null,null,"   ",null,null,"   ",null,null,"   ",null,null,"   ",null,null,"   ",null,null,"   ",null,null,"   ",null,null,"   ",null,null,"   "]
[null,"   ","PYPrivcapbal",null,{"$f":"pyprivcapbal","v":0},"2&3-Bal","H99",null,"   ",null,null,"   ",null,null,"   ",null,null,"   ","UT","Utah","   ",null,null,"   ",{"$nulls":3},"   ",null,null,"   ",null,null,"   ",null,null,"   ",null,null,"   ",null,null,"   ",{"$f":"Select_naics2022[[#This Row],[2022 NAICS Code]]&\":  \"&Select_naics2022[[#This Row],[2022 NAICS Title]]","v":"113310:  Logging "},113310,"Logging ",{"$f":"Select_naics2022[[#This Row],[2022 NAICS Title]]","v":"Logging "},{"$nulls":3},"   ",null,null,"   ",null,null,"   ",null,null,"   ",null,null,"   ",null,null,"   ",null,null,"   ",null,null,"   ",null,null,"   ",null,null,"   "]
[null,"   ","pycurrentliab",null,{"$f":"pycurrentliab","v":0},"2&3-Bal","hb4",null,"   ",null,null,"   ",null,null,"   ",null,null,"   ","VA","Virginia","   ",null,null,"   ",{"$nulls":3},"   ",null,null,"   ",null,null,"   ",null,null,"   ",null,null,"   ",null,null,"   ",{"$f":"Select_naics2022[[#This Row],[2022 NAICS Code]]&\":  \"&Select_naics2022[[#This Row],[2022 NAICS Title]]","v":"114111:  Finfish Fishing "},114111,"Finfish Fishing ",{"$f":"Select_naics2022[[#This Row],[2022 NAICS Title]]","v":"Finfish Fishing "},{"$nulls":3},"   ",null,null,"   ",null,null,"   ",null,null,"   ",null,null,"   ",null,null,"   ",null,null,"   ",null,null,"   ",null,null,"   ",null,null,"   "]
[null,"   ","netincome",null,{"$f":"netincome","v":0},"4-NI","F58",null,"   ",null,null,"   ",null,null,"   ",null,null,"   ","VI","Virgin Islands","   ",null,null,"   ",{"$nulls":3},"   ",null,null,"   ",null,null,"   ",null,null,"   ",null,null,"   ",null,null,"   ",{"$f":"Select_naics2022[[#This Row],[2022 NAICS Code]]&\":  \"&Select_naics2022[[#This Row],[2022 NAICS Title]]","v":"114112:  Shellfish Fishing "},114112,"Shellfish Fishing ",{"$f":"Select_naics2022[[#This Row],[2022 NAICS Title]]","v":"Shellfish Fishing "},{"$nulls":3},"   ",null,null,"   ",null,null,"   ",null,null,"   ",null,null,"   ",null,null,"   ",null,null,"   ",null,null,"   ",null,null,"   ",null,null,"   "]
[null,"   ","cytd_grossinvestinc",null,{"$f":"cytd_grossinvestinc","v":0},"4-NI","h18",null,"   ",null,null,"   ",null,null,"   ",null,null,"   ","VT","Vermont","   ",null,null,"   ",{"$nulls":3},"   ",null,null,"   ",null,null,"   ",null,null,"   ",null,null,"   ",null,null,"   ",{"$f":"Select_naics2022[[#This Row],[2022 NAICS Code]]&\":  \"&Select_naics2022[[#This Row],[2022 NAICS Title]]","v":"114119:  Other Marine Fishing "},114119,"Other Marine Fishing ",{"$f":"Select_naics2022[[#This Row],[2022 NAICS Title]]","v":"Other Marine Fishing "},{"$nulls":3},"   ",null,null,"   ",null,null,"   ",null,null,"   ",null,null,"   ",null,null,"   ",null,null,"   ",null,null,"   ",null,null,"   ",null,null,"   "]
[null,"   ","cytd_expenses",null,{"$f":"cytd_expenses","v":0},"4-NI","h49",null,"   ",null,null,"   ",null,null,"   ",null,null,"   ","WA","Washington","   ",null,null,"   ",{"$nulls":3},"   ",null,null,"   ",null,null,"   ",null,null,"   ",null,null,"   ",null,null,"   ",{"$f":"Select_naics2022[[#This Row],[2022 NAICS Code]]&\":  \"&Select_naics2022[[#This Row],[2022 NAICS Title]]","v":"114210:  Hunting and Trapping"},114210,"Hunting and Trapping",{"$f":"Select_naics2022[[#This Row],[2022 NAICS Title]]","v":"Hunting and Trapping"},{"$nulls":3},"   ",null,null,"   ",null,null,"   ",null,null,"   ",null,null,"   ",null,null,"   ",null,null,"   ",null,null,"   ",null,null,"   ",null,null,"   "]
[null,"   ","cytd_netinvestinc",null,{"$f":"cytd_netinvestinc","v":0},"4-NI","h50",null,"   ",null,null,"   ",null,null,"   ",null,null,"   ","WI","Wisconsin","   ",null,null,"   ",{"$nulls":3},"   ",null,null,"   ",null,null,"   ",null,null,"   ",null,null,"   ",null,null,"   ",{"$f":"Select_naics2022[[#This Row],[2022 NAICS Code]]&\":  \"&Select_naics2022[[#This Row],[2022 NAICS Title]]","v":"115111:  Cotton Ginning "},115111,"Cotton Ginning ",{"$f":"Select_naics2022[[#This Row],[2022 NAICS Title]]","v":"Cotton Ginning "},{"$nulls":3},"   ",null,null,"   ",null,null,"   ",null,null,"   ",null,null,"   ",null,null,"   ",null,null,"   ",null,null,"   ",null,null,"   ",null,null,"   "]
[null,"   ","cytd_netincome",null,{"$f":"cytd_netincome","v":0},"4-NI","h58",null,"   ",null,null,"   ",null,null,"   ",null,null,"   ","WV","West Virginia","   ",null,null,"   ",{"$nulls":3},"   ",null,null,"   ",null,null,"   ",null,null,"   ",null,null,"   ",null,null,"   ",{"$f":"Select_naics2022[[#This Row],[2022 NAICS Code]]&\":  \"&Select_naics2022[[#This Row],[2022 NAICS Title]]","v":"115112:  Soil Preparation, Planting, and Cultivating "},115112,"Soil Preparation, Planting, and Cultivating ",{"$f":"Select_naics2022[[#This Row],[2022 NAICS Title]]","v":"Soil Preparation, Planting, and Cultivating "},{"$nulls":3},"   ",null,null,"   ",null,null,"   ",null,null,"   ",null,null,"   ",null,null,"   ",null,null,"   ",null,null,"   ",null,null,"   ",null,null,"   "]
[null,"   ","PI_UnfundCommit",null,{"$f":"PI_UnfundCommit","v":0},"8-READ_Cap","J17",null,"   ",null,null,"   ",null,null,"   ",null,null,"   ","WY","Wyoming","   ",null,null,"   ",{"$nulls":3},"   ",null,null,"   ",null,null,"   ",null,null,"   ",null,null,"   ",null,null,"   ",{"$f":"Select_naics2022[[#This Row],[2022 NAICS Code]]&\":  \"&Select_naics2022[[#This Row],[2022 NAICS Title]]","v":"115113:  Crop Harvesting, Primarily by Machine "},115113,"Crop Harvesting, Primarily by Machine ",{"$f":"Select_naics2022[[#This Row],[2022 NAICS Title]]","v":"Crop Harvesting, Primarily by Machine "},{"$nulls":3},"   ",null,null,"   ",null,null,"   ",null,null,"   ",null,null,"   ",null,null,"   ",null,null,"   ",null,null,"   ",null,null,"   ",null,null,"   "]
[null,"   ","levcap",null,{"$f":"levcap","v":0},"8-READ_Cap",null,null,"   ",null,null,"   ",null,null,"   ",null,null,"   ","Other",null,"   ",null,null,"   ",{"$nulls":3},"   ",null,null,"   ",null,null,"   ",null,null,"   ",null,null,"   ",null,null,"   ",{"$f":"Select_naics2022[[#This Row],[2022 NAICS Code]]&\":  \"&Select_naics2022[[#This Row],[2022 NAICS Title]]","v":"115114:  Postharvest Crop Activities (except Cotton Ginning) "},115114,"Postharvest Crop Activities (except Cotton Ginning) ",{"$f":"Select_naics2022[[#This Row],[2022 NAICS Title]]","v":"Postharvest Crop Activities (except Cotton Ginning) "},{"$nulls":3},"   ",null,null,"   ",null,null,"   ",null,null,"   ",null,null,"   ",null,null,"   ",null,null,"   ",null,null,"   ",null,null,"   ",null,null,"   "]
[null,"   ","RegCap",null,{"$f":"regcap","v":0},"8-READ_Cap",null,null,"   ",null,null,"   ",null,null,"   ",null,null,"   ",null,null,"   ",null,null,"   ",{"$nulls":3},"   ",null,null,"   ",null,null,"   ",null,null,"   ",null,null,"   ",null,null,"   ",{"$f":"Select_naics2022[[#This Row],[2022 NAICS Code]]&\":  \"&Select_naics2022[[#This Row],[2022 NAICS Title]]","v":"115115:  Farm Labor Contractors and Crew Leaders "},115115,"Farm Labor Contractors and Crew Leaders ",{"$f":"Select_naics2022[[#This Row],[2022 NAICS Title]]","v":"Farm Labor Contractors and Crew Leaders "},{"$nulls":3},"   ",null,null,"   ",null,null,"   ",null,null,"   ",null,null,"   ",null,null,"   ",null,null,"   ",null,null,"   ",null,null,"   ",null,null,"   "]
[null,"   ","AUM","Assets under management",{"$f":"aum","v":0},"ExecSum","I8",1,"   ",null,null,"   ",null,null,"   ",null,null,"   ",null,null,"   ",null,null,"   ",{"$nulls":3},"   ",null,null,"   ",null,null,"   ",null,null,"   ",null,null,"   ",null,null,"   ",{"$f":"Select_naics2022[[#This Row],[2022 NAICS Code]]&\":  \"&Select_naics2022[[#This Row],[2022 NAICS Title]]","v":"115116:  Farm Management Services "},115116,"Farm Management Services ",{"$f":"Select_naics2022[[#This Row],[2022 NAICS Title]]","v":"Farm Management Services "},{"$nulls":3},"   ",null,null,"   ",null,null,"   ",null,null,"   ",null,null,"   ",null,null,"   ",null,null,"   ",null,null,"   ",null,null,"   ",null,null,"   "]
[null,"   ","investAmt",null,{"$f":"InvestAmt","v":0},"ExecSum","I28",null,"   ",null,null,"   ",null,null,"   ",null,null,"   ",null,null,"   ",null,null,"   ",{"$nulls":3},"   ",null,null,"   ",null,null,"   ",null,null,"   ",null,null,"   ",null,null,"   ",{"$f":"Select_naics2022[[#This Row],[2022 NAICS Code]]&\":  \"&Select_naics2022[[#This Row],[2022 NAICS Title]]","v":"115210:  Support Activities for Animal Production"},115210,"Support Activities for Animal Production",{"$f":"Select_naics2022[[#This Row],[2022 NAICS Title]]","v":"Support Activities for Animal Production"},{"$nulls":3},"   ",null,null,"   ",null,null,"   ",null,null,"   ",null,null,"   ",null,null,"   ",null,null,"   ",null,null,"   ",null,null,"   ",null,null,"   "]
[null,"   ","NetAssetValue",null,{"$f":"NetAssetValue","v":0},"KeyMetrics","O6",null,"   ",null,null,"   ",null,null,"   ",null,null,"   ",null,null,"   ",null,null,"   ",{"$nulls":3},"   ",null,null,"   ",null,null,"   ",null,null,"   ",null,null,"   ",null,null,"   ",{"$f":"Select_naics2022[[#This Row],[2022 NAICS Code]]&\":  \"&Select_naics2022[[#This Row],[2022 NAICS Title]]","v":"115310:  Support Activities for Forestry"},115310,"Support Activities for Forestry",{"$f":"Select_naics2022[[#This Row],[2022 NAICS Title]]","v":"Support Activities for Forestry"},{"$nulls":3},"   ",null,null,"   ",null,null,"   ",null,null,"   ",null,null,"   ",null,null,"   ",null,null,"   ",null,null,"   ",null,null,"   ",null,null,"   "]
[null,"   ","PCCount",null,{"$f":"pccount","v":0},"S11cumperf","C13",null,"   ",null,null,"   ",null,null,"   ",null,null,"   ",null,null,"   ",null,null,"   ",{"$nulls":3},"   ",null,null,"   ",null,null,"   ",null,null,"   ",null,null,"   ",null,null,"   ",{"$f":"Select_naics2022[[#This Row],[2022 NAICS Code]]&\":  \"&Select_naics2022[[#This Row],[2022 NAICS Title]]","v":"211120:  Crude Petroleum Extraction "},211120,"Crude Petroleum Extraction ",{"$f":"Select_naics2022[[#This Row],[2022 NAICS Title]]","v":"Crude Petroleum Extraction "},{"$nulls":3},"   ",null,null,"   ",null,null,"   ",null,null,"   ",null,null,"   ",null,null,"   ",null,null,"   ",null,null,"   ",null,null,"   ",null,null,"   "]
[null,"   ","S1_Class1Total",null,{"$f":"S1_Class1Total","v":0},"S1Inv",null,null,"   ",null,null,"   ",null,null,"   ",null,null,"   ",null,null,"   ",null,null,"   ",{"$nulls":3},"   ",null,null,"   ",null,null,"   ",null,null,"   ",null,null,"   ",null,null,"   ",{"$f":"Select_naics2022[[#This Row],[2022 NAICS Code]]&\":  \"&Select_naics2022[[#This Row],[2022 NAICS Title]]","v":"211130:  Natural Gas Extraction "},211130,"Natural Gas Extraction ",{"$f":"Select_naics2022[[#This Row],[2022 NAICS Title]]","v":"Natural Gas Extraction "},{"$nulls":3},"   ",null,null,"   ",null,null,"   ",null,null,"   ",null,null,"   ",null,null,"   ",null,null,"   ",null,null,"   ",null,null,"   ",null,null,"   "]
[null,"   ","S1_Class2Total",null,{"$f":"S1_Class2Total","v":0},"S1Inv",null,null,"   ",null,null,"   ",null,null,"   ",null,null,"   ",null,null,"   ",null,null,"   ",{"$nulls":3},"   ",null,null,"   ",null,null,"   ",null,null,"   ",null,null,"   ",null,null,"   ",{"$f":"Select_naics2022[[#This Row],[2022 NAICS Code]]&\":  \"&Select_naics2022[[#This Row],[2022 NAICS Title]]","v":"212114:  Surface Coal Mining "},212114,"Surface Coal Mining ",{"$f":"Select_naics2022[[#This Row],[2022 NAICS Title]]","v":"Surface Coal Mining "},{"$nulls":3},"   ",null,null,"   ",null,null,"   ",null,null,"   ",null,null,"   ",null,null,"   ",null,null,"   ",null,null,"   ",null,null,"   ",null,null,"   "]
[null,"   ","S1_UnrealApp",null,{"$f":"S1_UnrealApp","v":0},"S1Inv",null,null,"   ",null,null,"   ",null,null,"   ",null,null,"   ",null,null,"   ",null,null,"   ",{"$nulls":3},"   ",null,null,"   ",null,null,"   ",null,null,"   ",null,null,"   ",null,null,"   ",{"$f":"Select_naics2022[[#This Row],[2022 NAICS Code]]&\":  \"&Select_naics2022[[#This Row],[2022 NAICS Title]]","v":"212115:  Underground Coal Mining "},212115,"Underground Coal Mining ",{"$f":"Select_naics2022[[#This Row],[2022 NAICS Title]]","v":"Underground Coal Mining "},{"$nulls":3},"   ",null,null,"   ",null,null,"   ",null,null,"   ",null,null,"   ",null,null,"   ",null,null,"   ",null,null,"   ",null,null,"   ",null,null,"   "]
[null,"   ","S1_UnrealDep",null,{"$f":"s1_unrealdep","v":0},"S1Inv",null,null,"   ",null,null,"   ",null,null,"   ",null,null,"   ",null,null,"   ",null,null,"   ",{"$nulls":3},"   ",null,null,"   ",null,null,"   ",null,null,"   ",null,null,"   ",null,null,"   ",{"$f":"Select_naics2022[[#This Row],[2022 NAICS Code]]&\":  \"&Select_naics2022[[#This Row],[2022 NAICS Title]]","v":"212210:  Iron Ore Mining"},212210,"Iron Ore Mining",{"$f":"Select_naics2022[[#This Row],[2022 NAICS Title]]","v":"Iron Ore Mining"},{"$nulls":3},"   ",null,null,"   ",null,null,"   ",null,null,"   ",null,null,"   ",null,null,"   ",null,null,"   ",null,null,"   ",null,null,"   ",null,null,"   "]
[null,"   ","s3NC_includibleNC",null,{"$f":"s3NC_includibleNC","v":0},"S3NC","H7",null,"   ",null,null,"   ",null,null,"   ",null,null,"   ",null,null,"   ",null,null,"   ",{"$nulls":3},"   ",null,null,"   ",null,null,"   ",null,null,"   ",null,null,"   ",null,null,"   ",{"$f":"Select_naics2022[[#This Row],[2022 NAICS Code]]&\":  \"&Select_naics2022[[#This Row],[2022 NAICS Title]]","v":"212220:  Gold Ore and Silver Ore Mining "},212220,"Gold Ore and Silver Ore Mining ",{"$f":"Select_naics2022[[#This Row],[2022 NAICS Title]]","v":"Gold Ore and Silver Ore Mining "},{"$nulls":3},"   ",null,null,"   ",null,null,"   ",null,null,"   ",null,null,"   ",null,null,"   ",null,null,"   ",null,null,"   ",null,null,"   ",null,null,"   "]
[null,"   ","CIPMax",null,{"$f":"CIPMax","v":0},"KeyMetrics","G75",3,"   ",null,null,"   ",null,null,"   ",null,null,"   ",null,null,"   ",null,null,"   ",{"$nulls":3},"   ",null,null,"   ",null,null,"   ",null,null,"   ",null,null,"   ",null,null,"   ",{"$f":"Select_naics2022[[#This Row],[2022 NAICS Code]]&\":  \"&Select_naics2022[[#This Row],[2022 NAICS Title]]","v":"212230:  Copper, Nickel, Lead, and Zinc Mining "},212230,"Copper, Nickel, Lead, and Zinc Mining ",{"$f":"Select_naics2022[[#This Row],[2022 NAICS Title]]","v":"Copper, Nickel, Lead, and Zinc Mining "},{"$nulls":3},"   ",null,null,"   ",null,null,"   ",null,null,"   ",null,null,"   ",null,null,"   ",null,null,"   ",null,null,"   ",null,null,"   ",null,null,"   "]
[null,"   ","CIPCalc",null,{"$f":"CIPCalc","v":0},"KeyMetrics","G57",2,"   ",null,null,"   ",null,null,"   ",null,null,"   ",null,null,"   ",null,null,"   ",{"$nulls":3},"   ",null,null,"   ",null,null,"   ",null,null,"   ",null,null,"   ",null,null,"   ",{"$f":"Select_naics2022[[#This Row],[2022 NAICS Code]]&\":  \"&Select_naics2022[[#This Row],[2022 NAICS Title]]","v":"212290:  Other Metal Ore Mining "},212290,"Other Metal Ore Mining ",{"$f":"Select_naics2022[[#This Row],[2022 NAICS Title]]","v":"Other Metal Ore Mining "},{"$nulls":3},"   ",null,null,"   ",null,null,"   ",null,null,"   ",null,null,"   ",null,null,"   ",null,null,"   ",null,null,"   ",null,null,"   ",null,null,"   "]
[null,"   ","LCR",null,{"$f":"LCR","v":0},"KeyMetrics","G16",1,"   ",null,null,"   ",null,null,"   ",null,null,"   ",null,null,"   ",null,null,"   ",{"$nulls":3},"   ",null,null,"   ",null,null,"   ",null,null,"   ",null,null,"   ",null,null,"   ",{"$f":"Select_naics2022[[#This Row],[2022 NAICS Code]]&\":  \"&Select_naics2022[[#This Row],[2022 NAICS Title]]","v":"212311:  Dimension Stone Mining and Quarrying "},212311,"Dimension Stone Mining and Quarrying ",{"$f":"Select_naics2022[[#This Row],[2022 NAICS Title]]","v":"Dimension Stone Mining and Quarrying "},{"$nulls":3},"   ",null,null,"   ",null,null,"   ",null,null,"   ",null,null,"   ",null,null,"   ",null,null,"   ",null,null,"   ",null,null,"   ",null,null,"   "]
[null,"   ",{"$nulls":6},"   ",null,null,"   ",null,null,"   ",null,null,"   ",null,null,"   ",null,null,"   ",{"$nulls":3},"   ",null,null,"   ",null,null,"   ",null,null,"   ",null,null,"   ",null,null,"   ",{"$f":"Select_naics2022[[#This Row],[2022 NAICS Code]]&\":  \"&Select_naics2022[[#This Row],[2022 NAICS Title]]","v":"212312:  Crushed and Broken Limestone Mining and Quarrying "},212312,"Crushed and Broken Limestone Mining and Quarrying ",{"$f":"Select_naics2022[[#This Row],[2022 NAICS Title]]","v":"Crushed and Broken Limestone Mining and Quarrying "},{"$nulls":3},"   ",null,null,"   ",null,null,"   ",null,null,"   ",null,null,"   ",null,null,"   ",null,null,"   ",null,null,"   ",null,null,"   ",null,null,"   "]
[null,"   ",{"$nulls":6},"   ",null,null,"   ",null,null,"   ",null,null,"   ",null,null,"   ",null,null,"   ",{"$nulls":3},"   ",null,null,"   ",null,null,"   ",null,null,"   ",null,null,"   ",null,null,"   ",{"$f":"Select_naics2022[[#This Row],[2022 NAICS Code]]&\":  \"&Select_naics2022[[#This Row],[2022 NAICS Title]]","v":"212313:  Crushed and Broken Granite Mining and Quarrying "},212313,"Crushed and Broken Granite Mining and Quarrying ",{"$f":"Select_naics2022[[#This Row],[2022 NAICS Title]]","v":"Crushed and Broken Granite Mining and Quarrying "},{"$nulls":3},"   ",null,null,"   ",null,null,"   ",null,null,"   ",null,null,"   ",null,null,"   ",null,null,"   ",null,null,"   ",null,null,"   ",null,null,"   "]
[null,"   ",{"$nulls":6},"   ",null,null,"   ",null,null,"   ",null,null,"   ",null,null,"   ",null,null,"   ",{"$nulls":3},"   ",null,null,"   ",null,null,"   ",null,null,"   ",null,null,"   ",null,null,"   ",{"$f":"Select_naics2022[[#This Row],[2022 NAICS Code]]&\":  \"&Select_naics2022[[#This Row],[2022 NAICS Title]]","v":"212319:  Other Crushed and Broken Stone Mining and Quarrying "},212319,"Other Crushed and Broken Stone Mining and Quarrying ",{"$f":"Select_naics2022[[#This Row],[2022 NAICS Title]]","v":"Other Crushed and Broken Stone Mining and Quarrying "},{"$nulls":3},"   ",null,null,"   ",null,null,"   ",null,null,"   ",null,null,"   ",null,null,"   ",null,null,"   ",null,null,"   ",null,null,"   ",null,null,"   "]
[null,"   ",{"$nulls":6},"   ",null,null,"   ",null,null,"   ",null,null,"   ",null,null,"   ",null,null,"   ",{"$nulls":3},"   ",null,null,"   ",null,null,"   ",null,null,"   ",null,null,"   ",null,null,"   ",{"$f":"Select_naics2022[[#This Row],[2022 NAICS Code]]&\":  \"&Select_naics2022[[#This Row],[2022 NAICS Title]]","v":"212321:  Construction Sand and Gravel Mining "},212321,"Construction Sand and Gravel Mining ",{"$f":"Select_naics2022[[#This Row],[2022 NAICS Title]]","v":"Construction Sand and Gravel Mining "},{"$nulls":3},"   ",null,null,"   ",null,null,"   ",null,null,"   ",null,null,"   ",null,null,"   ",null,null,"   ",null,null,"   ",null,null,"   ",null,null,"   "]
[null,"   ",{"$nulls":6},"   ",null,null,"   ",null,null,"   ",null,null,"   ",null,null,"   ",null,null,"   ",{"$nulls":3},"   ",null,null,"   ",null,null,"   ",null,null,"   ",null,null,"   ",null,null,"   ",{"$f":"Select_naics2022[[#This Row],[2022 NAICS Code]]&\":  \"&Select_naics2022[[#This Row],[2022 NAICS Title]]","v":"212322:  Industrial Sand Mining "},212322,"Industrial Sand Mining ",{"$f":"Select_naics2022[[#This Row],[2022 NAICS Title]]","v":"Industrial Sand Mining "},{"$nulls":3},"   ",null,null,"   ",null,null,"   ",null,null,"   ",null,null,"   ",null,null,"   ",null,null,"   ",null,null,"   ",null,null,"   ",null,null,"   "]
[null,"   ",{"$nulls":6},"   ",null,null,"   ",null,null,"   ",null,null,"   ",null,null,"   ",null,null,"   ",{"$nulls":3},"   ",null,null,"   ",null,null,"   ",null,null,"   ",null,null,"   ",null,null,"   ",{"$f":"Select_naics2022[[#This Row],[2022 NAICS Code]]&\":  \"&Select_naics2022[[#This Row],[2022 NAICS Title]]","v":"212323:  Kaolin, Clay, and Ceramic and Refractory Minerals Mining "},212323,"Kaolin, Clay, and Ceramic and Refractory Minerals Mining ",{"$f":"Select_naics2022[[#This Row],[2022 NAICS Title]]","v":"Kaolin, Clay, and Ceramic and Refractory Minerals Mining "},{"$nulls":3},"   ",null,null,"   ",null,null,"   ",null,null,"   ",null,null,"   ",null,null,"   ",null,null,"   ",null,null,"   ",null,null,"   ",null,null,"   "]
[null,"   ",{"$nulls":6},"   ",null,null,"   ",null,null,"   ",null,null,"   ",null,null,"   ",null,null,"   ",{"$nulls":3},"   ",null,null,"   ",null,null,"   ",null,null,"   ",null,null,"   ",null,null,"   ",{"$f":"Select_naics2022[[#This Row],[2022 NAICS Code]]&\":  \"&Select_naics2022[[#This Row],[2022 NAICS Title]]","v":"212390:  Other Nonmetallic Mineral Mining and Quarrying "},212390,"Other Nonmetallic Mineral Mining and Quarrying ",{"$f":"Select_naics2022[[#This Row],[2022 NAICS Title]]","v":"Other Nonmetallic Mineral Mining and Quarrying "},{"$nulls":3},"   ",null,null,"   ",null,null,"   ",null,null,"   ",null,null,"   ",null,null,"   ",null,null,"   ",null,null,"   ",null,null,"   ",null,null,"   "]
[null,"   ",{"$nulls":6},"   ",null,null,"   ",null,null,"   ",null,null,"   ",null,null,"   ",null,null,"   ",{"$nulls":3},"   ",null,null,"   ",null,null,"   ",null,null,"   ",null,null,"   ",null,null,"   ",{"$f":"Select_naics2022[[#This Row],[2022 NAICS Code]]&\":  \"&Select_naics2022[[#This Row],[2022 NAICS Title]]","v":"213111:  Drilling Oil and Gas Wells"},213111,"Drilling Oil and Gas Wells",{"$f":"Select_naics2022[[#This Row],[2022 NAICS Title]]","v":"Drilling Oil and Gas Wells"},{"$nulls":3},"   ",null,null,"   ",null,null,"   ",null,null,"   ",null,null,"   ",null,null,"   ",null,null,"   ",null,null,"   ",null,null,"   ",null,null,"   "]
[null,"   ",{"$nulls":6},"   ",null,null,"   ",null,null,"   ",null,null,"   ",null,null,"   ",null,null,"   ",{"$nulls":3},"   ",null,null,"   ",null,null,"   ",null,null,"   ",null,null,"   ",null,null,"   ",{"$f":"Select_naics2022[[#This Row],[2022 NAICS Code]]&\":  \"&Select_naics2022[[#This Row],[2022 NAICS Title]]","v":"213112:  Support Activities for Oil and Gas Operations "},213112,"Support Activities for Oil and Gas Operations ",{"$f":"Select_naics2022[[#This Row],[2022 NAICS Title]]","v":"Support Activities for Oil and Gas Operations "},{"$nulls":3},"   ",null,null,"   ",null,null,"   ",null,null,"   ",null,null,"   ",null,null,"   ",null,null,"   ",null,null,"   ",null,null,"   ",null,null,"   "]
[null,"   ",{"$nulls":6},"   ",null,null,"   ",null,null,"   ",null,null,"   ",null,null,"   ",null,null,"   ",{"$nulls":3},"   ",null,null,"   ",null,null,"   ",null,null,"   ",null,null,"   ",null,null,"   ",{"$f":"Select_naics2022[[#This Row],[2022 NAICS Code]]&\":  \"&Select_naics2022[[#This Row],[2022 NAICS Title]]","v":"213113:  Support Activities for Coal Mining "},213113,"Support Activities for Coal Mining ",{"$f":"Select_naics2022[[#This Row],[2022 NAICS Title]]","v":"Support Activities for Coal Mining "},{"$nulls":3},"   ",null,null,"   ",null,null,"   ",null,null,"   ",null,null,"   ",null,null,"   ",null,null,"   ",null,null,"   ",null,null,"   ",null,null,"   "]
[null,"   ",{"$nulls":6},"   ",null,null,"   ",null,null,"   ",null,null,"   ",null,null,"   ",null,null,"   ",{"$nulls":3},"   ",null,null,"   ",null,null,"   ",null,null,"   ",null,null,"   ",null,null,"   ",{"$f":"Select_naics2022[[#This Row],[2022 NAICS Code]]&\":  \"&Select_naics2022[[#This Row],[2022 NAICS Title]]","v":"213114:  Support Activities for Metal Mining "},213114,"Support Activities for Metal Mining ",{"$f":"Select_naics2022[[#This Row],[2022 NAICS Title]]","v":"Support Activities for Metal Mining "},{"$nulls":3},"   ",null,null,"   ",null,null,"   ",null,null,"   ",null,null,"   ",null,null,"   ",null,null,"   ",null,null,"   ",null,null,"   ",null,null,"   "]
[null,"   ",{"$nulls":6},"   ",null,null,"   ",null,null,"   ",null,null,"   ",null,null,"   ",null,null,"   ",{"$nulls":3},"   ",null,null,"   ",null,null,"   ",null,null,"   ",null,null,"   ",null,null,"   ",{"$f":"Select_naics2022[[#This Row],[2022 NAICS Code]]&\":  \"&Select_naics2022[[#This Row],[2022 NAICS Title]]","v":"213115:  Support Activities for Nonmetallic Minerals (except Fuels) Mining "},213115,"Support Activities for Nonmetallic Minerals (except Fuels) Mining ",{"$f":"Select_naics2022[[#This Row],[2022 NAICS Title]]","v":"Support Activities for Nonmetallic Minerals (except Fuels) Mining "},{"$nulls":3},"   ",null,null,"   ",null,null,"   ",null,null,"   ",null,null,"   ",null,null,"   ",null,null,"   ",null,null,"   ",null,null,"   ",null,null,"   "]
[null,"   ",{"$nulls":6},"   ",null,null,"   ",null,null,"   ",null,null,"   ",null,null,"   ",null,null,"   ",{"$nulls":3},"   ",null,null,"   ",null,null,"   ",null,null,"   ",null,null,"   ",null,null,"   ",{"$f":"Select_naics2022[[#This Row],[2022 NAICS Code]]&\":  \"&Select_naics2022[[#This Row],[2022 NAICS Title]]","v":"221111:  Hydroelectric Power Generation "},221111,"Hydroelectric Power Generation ",{"$f":"Select_naics2022[[#This Row],[2022 NAICS Title]]","v":"Hydroelectric Power Generation "},{"$nulls":3},"   ",null,null,"   ",null,null,"   ",null,null,"   ",null,null,"   ",null,null,"   ",null,null,"   ",null,null,"   ",null,null,"   ",null,null,"   "]
[null,"   ",{"$nulls":6},"   ",null,null,"   ",null,null,"   ",null,null,"   ",null,null,"   ",null,null,"   ",{"$nulls":3},"   ",null,null,"   ",null,null,"   ",null,null,"   ",null,null,"   ",null,null,"   ",{"$f":"Select_naics2022[[#This Row],[2022 NAICS Code]]&\":  \"&Select_naics2022[[#This Row],[2022 NAICS Title]]","v":"221112:  Fossil Fuel Electric Power Generation "},221112,"Fossil Fuel Electric Power Generation ",{"$f":"Select_naics2022[[#This Row],[2022 NAICS Title]]","v":"Fossil Fuel Electric Power Generation "},{"$nulls":3},"   ",null,null,"   ",null,null,"   ",null,null,"   ",null,null,"   ",null,null,"   ",null,null,"   ",null,null,"   ",null,null,"   ",null,null,"   "]
[null,"   ",{"$nulls":6},"   ",null,null,"   ",null,null,"   ",null,null,"   ",null,null,"   ",null,null,"   ",{"$nulls":3},"   ",null,null,"   ",null,null,"   ",null,null,"   ",null,null,"   ",null,null,"   ",{"$f":"Select_naics2022[[#This Row],[2022 NAICS Code]]&\":  \"&Select_naics2022[[#This Row],[2022 NAICS Title]]","v":"221113:  Nuclear Electric Power Generation "},221113,"Nuclear Electric Power Generation ",{"$f":"Select_naics2022[[#This Row],[2022 NAICS Title]]","v":"Nuclear Electric Power Generation "},{"$nulls":3},"   ",null,null,"   ",null,null,"   ",null,null,"   ",null,null,"   ",null,null,"   ",null,null,"   ",null,null,"   ",null,null,"   ",null,null,"   "]
[null,"   ",{"$nulls":6},"   ",null,null,"   ",null,null,"   ",null,null,"   ",null,null,"   ",null,null,"   ",{"$nulls":3},"   ",null,null,"   ",null,null,"   ",null,null,"   ",null,null,"   ",null,null,"   ",{"$f":"Select_naics2022[[#This Row],[2022 NAICS Code]]&\":  \"&Select_naics2022[[#This Row],[2022 NAICS Title]]","v":"221114:  Solar Electric Power Generation "},221114,"Solar Electric Power Generation ",{"$f":"Select_naics2022[[#This Row],[2022 NAICS Title]]","v":"Solar Electric Power Generation "},{"$nulls":3},"   ",null,null,"   ",null,null,"   ",null,null,"   ",null,null,"   ",null,null,"   ",null,null,"   ",null,null,"   ",null,null,"   ",null,null,"   "]
[null,"   ",{"$nulls":6},"   ",null,null,"   ",null,null,"   ",null,null,"   ",null,null,"   ",null,null,"   ",{"$nulls":3},"   ",null,null,"   ",null,null,"   ",null,null,"   ",null,null,"   ",null,null,"   ",{"$f":"Select_naics2022[[#This Row],[2022 NAICS Code]]&\":  \"&Select_naics2022[[#This Row],[2022 NAICS Title]]","v":"221115:  Wind Electric Power Generation "},221115,"Wind Electric Power Generation ",{"$f":"Select_naics2022[[#This Row],[2022 NAICS Title]]","v":"Wind Electric Power Generation "},{"$nulls":3},"   ",null,null,"   ",null,null,"   ",null,null,"   ",null,null,"   ",null,null,"   ",null,null,"   ",null,null,"   ",null,null,"   ",null,null,"   "]
[null,"   ",{"$nulls":6},"   ",null,null,"   ",null,null,"   ",null,null,"   ",null,null,"   ",null,null,"   ",{"$nulls":3},"   ",null,null,"   ",null,null,"   ",null,null,"   ",null,null,"   ",null,null,"   ",{"$f":"Select_naics2022[[#This Row],[2022 NAICS Code]]&\":  \"&Select_naics2022[[#This Row],[2022 NAICS Title]]","v":"221116:  Geothermal Electric Power Generation "},221116,"Geothermal Electric Power Generation ",{"$f":"Select_naics2022[[#This Row],[2022 NAICS Title]]","v":"Geothermal Electric Power Generation "},{"$nulls":3},"   ",null,null,"   ",null,null,"   ",null,null,"   ",null,null,"   ",null,null,"   ",null,null,"   ",null,null,"   ",null,null,"   ",null,null,"   "]
[null,"   ",{"$nulls":6},"   ",null,null,"   ",null,null,"   ",null,null,"   ",null,null,"   ",null,null,"   ",{"$nulls":3},"   ",null,null,"   ",null,null,"   ",null,null,"   ",null,null,"   ",null,null,"   ",{"$f":"Select_naics2022[[#This Row],[2022 NAICS Code]]&\":  \"&Select_naics2022[[#This Row],[2022 NAICS Title]]","v":"221117:  Biomass Electric Power Generation "},221117,"Biomass Electric Power Generation ",{"$f":"Select_naics2022[[#This Row],[2022 NAICS Title]]","v":"Biomass Electric Power Generation "},{"$nulls":3},"   ",null,null,"   ",null,null,"   ",null,null,"   ",null,null,"   ",null,null,"   ",null,null,"   ",null,null,"   ",null,null,"   ",null,null,"   "]
[null,"   ",{"$nulls":6},"   ",null,null,"   ",null,null,"   ",null,null,"   ",null,null,"   ",null,null,"   ",{"$nulls":3},"   ",null,null,"   ",null,null,"   ",null,null,"   ",null,null,"   ",null,null,"   ",{"$f":"Select_naics2022[[#This Row],[2022 NAICS Code]]&\":  \"&Select_naics2022[[#This Row],[2022 NAICS Title]]","v":"221118:  Other Electric Power Generation "},221118,"Other Electric Power Generation ",{"$f":"Select_naics2022[[#This Row],[2022 NAICS Title]]","v":"Other Electric Power Generation "},{"$nulls":3},"   ",null,null,"   ",null,null,"   ",null,null,"   ",null,null,"   ",null,null,"   ",null,null,"   ",null,null,"   ",null,null,"   ",null,null,"   "]
[null,"   ",{"$nulls":6},"   ",null,null,"   ",null,null,"   ",null,null,"   ",null,null,"   ",null,null,"   ",{"$nulls":3},"   ",null,null,"   ",null,null,"   ",null,null,"   ",null,null,"   ",null,null,"   ",{"$f":"Select_naics2022[[#This Row],[2022 NAICS Code]]&\":  \"&Select_naics2022[[#This Row],[2022 NAICS Title]]","v":"221121:  Electric Bulk Power Transmission and Control "},221121,"Electric Bulk Power Transmission and Control ",{"$f":"Select_naics2022[[#This Row],[2022 NAICS Title]]","v":"Electric Bulk Power Transmission and Control "},{"$nulls":3},"   ",null,null,"   ",null,null,"   ",null,null,"   ",null,null,"   ",null,null,"   ",null,null,"   ",null,null,"   ",null,null,"   ",null,null,"   "]
[null,"   ",{"$nulls":6},"   ",null,null,"   ",null,null,"   ",null,null,"   ",null,null,"   ",null,null,"   ",{"$nulls":3},"   ",null,null,"   ",null,null,"   ",null,null,"   ",null,null,"   ",null,null,"   ",{"$f":"Select_naics2022[[#This Row],[2022 NAICS Code]]&\":  \"&Select_naics2022[[#This Row],[2022 NAICS Title]]","v":"221122:  Electric Power Distribution "},221122,"Electric Power Distribution ",{"$f":"Select_naics2022[[#This Row],[2022 NAICS Title]]","v":"Electric Power Distribution "},{"$nulls":3},"   ",null,null,"   ",null,null,"   ",null,null,"   ",null,null,"   ",null,null,"   ",null,null,"   ",null,null,"   ",null,null,"   ",null,null,"   "]
[null,"   ",{"$nulls":6},"   ",null,null,"   ",null,null,"   ",null,null,"   ",null,null,"   ",null,null,"   ",{"$nulls":3},"   ",null,null,"   ",null,null,"   ",null,null,"   ",null,null,"   ",null,null,"   ",{"$f":"Select_naics2022[[#This Row],[2022 NAICS Code]]&\":  \"&Select_naics2022[[#This Row],[2022 NAICS Title]]","v":"221210:  Natural Gas Distribution "},221210,"Natural Gas Distribution ",{"$f":"Select_naics2022[[#This Row],[2022 NAICS Title]]","v":"Natural Gas Distribution "},{"$nulls":3},"   ",null,null,"   ",null,null,"   ",null,null,"   ",null,null,"   ",null,null,"   ",null,null,"   ",null,null,"   ",null,null,"   ",null,null,"   "]
[null,"   ",{"$nulls":6},"   ",null,null,"   ",null,null,"   ",null,null,"   ",null,null,"   ",null,null,"   ",{"$nulls":3},"   ",null,null,"   ",null,null,"   ",null,null,"   ",null,null,"   ",null,null,"   ",{"$f":"Select_naics2022[[#This Row],[2022 NAICS Code]]&\":  \"&Select_naics2022[[#This Row],[2022 NAICS Title]]","v":"221310:  Water Supply and Irrigation Systems "},221310,"Water Supply and Irrigation Systems ",{"$f":"Select_naics2022[[#This Row],[2022 NAICS Title]]","v":"Water Supply and Irrigation Systems "},{"$nulls":3},"   ",null,null,"   ",null,null,"   ",null,null,"   ",null,null,"   ",null,null,"   ",null,null,"   ",null,null,"   ",null,null,"   ",null,null,"   "]
[null,"   ",{"$nulls":6},"   ",null,null,"   ",null,null,"   ",null,null,"   ",null,null,"   ",null,null,"   ",{"$nulls":3},"   ",null,null,"   ",null,null,"   ",null,null,"   ",null,null,"   ",null,null,"   ",{"$f":"Select_naics2022[[#This Row],[2022 NAICS Code]]&\":  \"&Select_naics2022[[#This Row],[2022 NAICS Title]]","v":"221320:  Sewage Treatment Facilities "},221320,"Sewage Treatment Facilities ",{"$f":"Select_naics2022[[#This Row],[2022 NAICS Title]]","v":"Sewage Treatment Facilities "},{"$nulls":3},"   ",null,null,"   ",null,null,"   ",null,null,"   ",null,null,"   ",null,null,"   ",null,null,"   ",null,null,"   ",null,null,"   ",null,null,"   "]
[null,"   ",{"$nulls":6},"   ",null,null,"   ",null,null,"   ",null,null,"   ",null,null,"   ",null,null,"   ",{"$nulls":3},"   ",null,null,"   ",null,null,"   ",null,null,"   ",null,null,"   ",null,null,"   ",{"$f":"Select_naics2022[[#This Row],[2022 NAICS Code]]&\":  \"&Select_naics2022[[#This Row],[2022 NAICS Title]]","v":"221330:  Steam and Air-Conditioning Supply "},221330,"Steam and Air-Conditioning Supply ",{"$f":"Select_naics2022[[#This Row],[2022 NAICS Title]]","v":"Steam and Air-Conditioning Supply "},{"$nulls":3},"   ",null,null,"   ",null,null,"   ",null,null,"   ",null,null,"   ",null,null,"   ",null,null,"   ",null,null,"   ",null,null,"   ",null,null,"   "]
[null,"   ",{"$nulls":6},"   ",null,null,"   ",null,null,"   ",null,null,"   ",null,null,"   ",null,null,"   ",{"$nulls":3},"   ",null,null,"   ",null,null,"   ",null,null,"   ",null,null,"   ",null,null,"   ",{"$f":"Select_naics2022[[#This Row],[2022 NAICS Code]]&\":  \"&Select_naics2022[[#This Row],[2022 NAICS Title]]","v":"236115:  New Single-Family Housing Construction (except For-Sale Builders) "},236115,"New Single-Family Housing Construction (except For-Sale Builders) ",{"$f":"Select_naics2022[[#This Row],[2022 NAICS Title]]","v":"New Single-Family Housing Construction (except For-Sale Builders) "},{"$nulls":3},"   ",null,null,"   ",null,null,"   ",null,null,"   ",null,null,"   ",null,null,"   ",null,null,"   ",null,null,"   ",null,null,"   ",null,null,"   "]
[null,"   ",{"$nulls":6},"   ",null,null,"   ",null,null,"   ",null,null,"   ",null,null,"   ",null,null,"   ",{"$nulls":3},"   ",null,null,"   ",null,null,"   ",null,null,"   ",null,null,"   ",null,null,"   ",{"$f":"Select_naics2022[[#This Row],[2022 NAICS Code]]&\":  \"&Select_naics2022[[#This Row],[2022 NAICS Title]]","v":"236116:  New Multifamily Housing Construction (except For-Sale Builders) "},236116,"New Multifamily Housing Construction (except For-Sale Builders) ",{"$f":"Select_naics2022[[#This Row],[2022 NAICS Title]]","v":"New Multifamily Housing Construction (except For-Sale Builders) "},{"$nulls":3},"   ",null,null,"   ",null,null,"   ",null,null,"   ",null,null,"   ",null,null,"   ",null,null,"   ",null,null,"   ",null,null,"   ",null,null,"   "]
[null,"   ",{"$nulls":6},"   ",null,null,"   ",null,null,"   ",null,null,"   ",null,null,"   ",null,null,"   ",{"$nulls":3},"   ",null,null,"   ",null,null,"   ",null,null,"   ",null,null,"   ",null,null,"   ",{"$f":"Select_naics2022[[#This Row],[2022 NAICS Code]]&\":  \"&Select_naics2022[[#This Row],[2022 NAICS Title]]","v":"236117:  New Housing For-Sale Builders "},236117,"New Housing For-Sale Builders ",{"$f":"Select_naics2022[[#This Row],[2022 NAICS Title]]","v":"New Housing For-Sale Builders "},{"$nulls":3},"   ",null,null,"   ",null,null,"   ",null,null,"   ",null,null,"   ",null,null,"   ",null,null,"   ",null,null,"   ",null,null,"   ",null,null,"   "]
[null,"   ",{"$nulls":6},"   ",null,null,"   ",null,null,"   ",null,null,"   ",null,null,"   ",null,null,"   ",{"$nulls":3},"   ",null,null,"   ",null,null,"   ",null,null,"   ",null,null,"   ",null,null,"   ",{"$f":"Select_naics2022[[#This Row],[2022 NAICS Code]]&\":  \"&Select_naics2022[[#This Row],[2022 NAICS Title]]","v":"236118:  Residential Remodelers "},236118,"Residential Remodelers ",{"$f":"Select_naics2022[[#This Row],[2022 NAICS Title]]","v":"Residential Remodelers "},{"$nulls":3},"   ",null,null,"   ",null,null,"   ",null,null,"   ",null,null,"   ",null,null,"   ",null,null,"   ",null,null,"   ",null,null,"   ",null,null,"   "]
[null,"   ",{"$nulls":6},"   ",null,null,"   ",null,null,"   ",null,null,"   ",null,null,"   ",null,null,"   ",{"$nulls":3},"   ",null,null,"   ",null,null,"   ",null,null,"   ",null,null,"   ",null,null,"   ",{"$f":"Select_naics2022[[#This Row],[2022 NAICS Code]]&\":  \"&Select_naics2022[[#This Row],[2022 NAICS Title]]","v":"236210:  Industrial Building Construction "},236210,"Industrial Building Construction ",{"$f":"Select_naics2022[[#This Row],[2022 NAICS Title]]","v":"Industrial Building Construction "},{"$nulls":3},"   ",null,null,"   ",null,null,"   ",null,null,"   ",null,null,"   ",null,null,"   ",null,null,"   ",null,null,"   ",null,null,"   ",null,null,"   "]
[null,"   ",{"$nulls":6},"   ",null,null,"   ",null,null,"   ",null,null,"   ",null,null,"   ",null,null,"   ",{"$nulls":3},"   ",null,null,"   ",null,null,"   ",null,null,"   ",null,null,"   ",null,null,"   ",{"$f":"Select_naics2022[[#This Row],[2022 NAICS Code]]&\":  \"&Select_naics2022[[#This Row],[2022 NAICS Title]]","v":"236220:  Commercial and Institutional Building Construction "},236220,"Commercial and Institutional Building Construction ",{"$f":"Select_naics2022[[#This Row],[2022 NAICS Title]]","v":"Commercial and Institutional Building Construction "},{"$nulls":3},"   ",null,null,"   ",null,null,"   ",null,null,"   ",null,null,"   ",null,null,"   ",null,null,"   ",null,null,"   ",null,null,"   ",null,null,"   "]
[null,"   ",{"$nulls":6},"   ",null,null,"   ",null,null,"   ",null,null,"   ",null,null,"   ",null,null,"   ",{"$nulls":3},"   ",null,null,"   ",null,null,"   ",null,null,"   ",null,null,"   ",null,null,"   ",{"$f":"Select_naics2022[[#This Row],[2022 NAICS Code]]&\":  \"&Select_naics2022[[#This Row],[2022 NAICS Title]]","v":"237110:  Water and Sewer Line and Related Structures Construction "},237110,"Water and Sewer Line and Related Structures Construction ",{"$f":"Select_naics2022[[#This Row],[2022 NAICS Title]]","v":"Water and Sewer Line and Related Structures Construction "},{"$nulls":3},"   ",null,null,"   ",null,null,"   ",null,null,"   ",null,null,"   ",null,null,"   ",null,null,"   ",null,null,"   ",null,null,"   ",null,null,"   "]
[null,"   ",{"$nulls":6},"   ",null,null,"   ",null,null,"   ",null,null,"   ",null,null,"   ",null,null,"   ",{"$nulls":3},"   ",null,null,"   ",null,null,"   ",null,null,"   ",null,null,"   ",null,null,"   ",{"$f":"Select_naics2022[[#This Row],[2022 NAICS Code]]&\":  \"&Select_naics2022[[#This Row],[2022 NAICS Title]]","v":"237120:  Oil and Gas Pipeline and Related Structures Construction "},237120,"Oil and Gas Pipeline and Related Structures Construction ",{"$f":"Select_naics2022[[#This Row],[2022 NAICS Title]]","v":"Oil and Gas Pipeline and Related Structures Construction "},{"$nulls":3},"   ",null,null,"   ",null,null,"   ",null,null,"   ",null,null,"   ",null,null,"   ",null,null,"   ",null,null,"   ",null,null,"   ",null,null,"   "]
[null,"   ",{"$nulls":6},"   ",null,null,"   ",null,null,"   ",null,null,"   ",null,null,"   ",null,null,"   ",{"$nulls":3},"   ",null,null,"   ",null,null,"   ",null,null,"   ",null,null,"   ",null,null,"   ",{"$f":"Select_naics2022[[#This Row],[2022 NAICS Code]]&\":  \"&Select_naics2022[[#This Row],[2022 NAICS Title]]","v":"237130:  Power and Communication Line and Related Structures Construction "},237130,"Power and Communication Line and Related Structures Construction ",{"$f":"Select_naics2022[[#This Row],[2022 NAICS Title]]","v":"Power and Communication Line and Related Structures Construction "},{"$nulls":3},"   ",null,null,"   ",null,null,"   ",null,null,"   ",null,null,"   ",null,null,"   ",null,null,"   ",null,null,"   ",null,null,"   ",null,null,"   "]
[null,"   ",{"$nulls":6},"   ",null,null,"   ",null,null,"   ",null,null,"   ",null,null,"   ",null,null,"   ",{"$nulls":3},"   ",null,null,"   ",null,null,"   ",null,null,"   ",null,null,"   ",null,null,"   ",{"$f":"Select_naics2022[[#This Row],[2022 NAICS Code]]&\":  \"&Select_naics2022[[#This Row],[2022 NAICS Title]]","v":"237210:  Land Subdivision "},237210,"Land Subdivision ",{"$f":"Select_naics2022[[#This Row],[2022 NAICS Title]]","v":"Land Subdivision "},{"$nulls":3},"   ",null,null,"   ",null,null,"   ",null,null,"   ",null,null,"   ",null,null,"   ",null,null,"   ",null,null,"   ",null,null,"   ",null,null,"   "]
[null,"   ",{"$nulls":6},"   ",null,null,"   ",null,null,"   ",null,null,"   ",null,null,"   ",null,null,"   ",{"$nulls":3},"   ",null,null,"   ",null,null,"   ",null,null,"   ",null,null,"   ",null,null,"   ",{"$f":"Select_naics2022[[#This Row],[2022 NAICS Code]]&\":  \"&Select_naics2022[[#This Row],[2022 NAICS Title]]","v":"237310:  Highway, Street, and Bridge Construction "},237310,"Highway, Street, and Bridge Construction ",{"$f":"Select_naics2022[[#This Row],[2022 NAICS Title]]","v":"Highway, Street, and Bridge Construction "},{"$nulls":3},"   ",null,null,"   ",null,null,"   ",null,null,"   ",null,null,"   ",null,null,"   ",null,null,"   ",null,null,"   ",null,null,"   ",null,null,"   "]
[null,"   ",{"$nulls":6},"   ",null,null,"   ",null,null,"   ",null,null,"   ",null,null,"   ",null,null,"   ",{"$nulls":3},"   ",null,null,"   ",null,null,"   ",null,null,"   ",null,null,"   ",null,null,"   ",{"$f":"Select_naics2022[[#This Row],[2022 NAICS Code]]&\":  \"&Select_naics2022[[#This Row],[2022 NAICS Title]]","v":"237990:  Other Heavy and Civil Engineering Construction "},237990,"Other Heavy and Civil Engineering Construction ",{"$f":"Select_naics2022[[#This Row],[2022 NAICS Title]]","v":"Other Heavy and Civil Engineering Construction "},{"$nulls":3},"   ",null,null,"   ",null,null,"   ",null,null,"   ",null,null,"   ",null,null,"   ",null,null,"   ",null,null,"   ",null,null,"   ",null,null,"   "]
[null,"   ",{"$nulls":6},"   ",null,null,"   ",null,null,"   ",null,null,"   ",null,null,"   ",null,null,"   ",{"$nulls":3},"   ",null,null,"   ",null,null,"   ",null,null,"   ",null,null,"   ",null,null,"   ",{"$f":"Select_naics2022[[#This Row],[2022 NAICS Code]]&\":  \"&Select_naics2022[[#This Row],[2022 NAICS Title]]","v":"238110:  Poured Concrete Foundation and Structure Contractors "},238110,"Poured Concrete Foundation and Structure Contractors ",{"$f":"Select_naics2022[[#This Row],[2022 NAICS Title]]","v":"Poured Concrete Foundation and Structure Contractors "},{"$nulls":3},"   ",null,null,"   ",null,null,"   ",null,null,"   ",null,null,"   ",null,null,"   ",null,null,"   ",null,null,"   ",null,null,"   ",null,null,"   "]
[null,"   ",{"$nulls":6},"   ",null,null,"   ",null,null,"   ",null,null,"   ",null,null,"   ",null,null,"   ",{"$nulls":3},"   ",null,null,"   ",null,null,"   ",null,null,"   ",null,null,"   ",null,null,"   ",{"$f":"Select_naics2022[[#This Row],[2022 NAICS Code]]&\":  \"&Select_naics2022[[#This Row],[2022 NAICS Title]]","v":"238120:  Structural Steel and Precast Concrete Contractors "},238120,"Structural Steel and Precast Concrete Contractors ",{"$f":"Select_naics2022[[#This Row],[2022 NAICS Title]]","v":"Structural Steel and Precast Concrete Contractors "},{"$nulls":3},"   ",null,null,"   ",null,null,"   ",null,null,"   ",null,null,"   ",null,null,"   ",null,null,"   ",null,null,"   ",null,null,"   ",null,null,"   "]
[null,"   ",{"$nulls":6},"   ",null,null,"   ",null,null,"   ",null,null,"   ",null,null,"   ",null,null,"   ",{"$nulls":3},"   ",null,null,"   ",null,null,"   ",null,null,"   ",null,null,"   ",null,null,"   ",{"$f":"Select_naics2022[[#This Row],[2022 NAICS Code]]&\":  \"&Select_naics2022[[#This Row],[2022 NAICS Title]]","v":"238130:  Framing Contractors "},238130,"Framing Contractors ",{"$f":"Select_naics2022[[#This Row],[2022 NAICS Title]]","v":"Framing Contractors "},{"$nulls":3},"   ",null,null,"   ",null,null,"   ",null,null,"   ",null,null,"   ",null,null,"   ",null,null,"   ",null,null,"   ",null,null,"   ",null,null,"   "]
[null,"   ",{"$nulls":6},"   ",null,null,"   ",null,null,"   ",null,null,"   ",null,null,"   ",null,null,"   ",{"$nulls":3},"   ",null,null,"   ",null,null,"   ",null,null,"   ",null,null,"   ",null,null,"   ",{"$f":"Select_naics2022[[#This Row],[2022 NAICS Code]]&\":  \"&Select_naics2022[[#This Row],[2022 NAICS Title]]","v":"238140:  Masonry Contractors "},238140,"Masonry Contractors ",{"$f":"Select_naics2022[[#This Row],[2022 NAICS Title]]","v":"Masonry Contractors "},{"$nulls":3},"   ",null,null,"   ",null,null,"   ",null,null,"   ",null,null,"   ",null,null,"   ",null,null,"   ",null,null,"   ",null,null,"   ",null,null,"   "]
[null,"   ",{"$nulls":6},"   ",null,null,"   ",null,null,"   ",null,null,"   ",null,null,"   ",null,null,"   ",{"$nulls":3},"   ",null,null,"   ",null,null,"   ",null,null,"   ",null,null,"   ",null,null,"   ",{"$f":"Select_naics2022[[#This Row],[2022 NAICS Code]]&\":  \"&Select_naics2022[[#This Row],[2022 NAICS Title]]","v":"238150:  Glass and Glazing Contractors "},238150,"Glass and Glazing Contractors ",{"$f":"Select_naics2022[[#This Row],[2022 NAICS Title]]","v":"Glass and Glazing Contractors "},{"$nulls":3},"   ",null,null,"   ",null,null,"   ",null,null,"   ",null,null,"   ",null,null,"   ",null,null,"   ",null,null,"   ",null,null,"   ",null,null,"   "]
[null,"   ",{"$nulls":6},"   ",null,null,"   ",null,null,"   ",null,null,"   ",null,null,"   ",null,null,"   ",{"$nulls":3},"   ",null,null,"   ",null,null,"   ",null,null,"   ",null,null,"   ",null,null,"   ",{"$f":"Select_naics2022[[#This Row],[2022 NAICS Code]]&\":  \"&Select_naics2022[[#This Row],[2022 NAICS Title]]","v":"238160:  Roofing Contractors "},238160,"Roofing Contractors ",{"$f":"Select_naics2022[[#This Row],[2022 NAICS Title]]","v":"Roofing Contractors "},{"$nulls":3},"   ",null,null,"   ",null,null,"   ",null,null,"   ",null,null,"   ",null,null,"   ",null,null,"   ",null,null,"   ",null,null,"   ",null,null,"   "]
[null,"   ",{"$nulls":6},"   ",null,null,"   ",null,null,"   ",null,null,"   ",null,null,"   ",null,null,"   ",{"$nulls":3},"   ",null,null,"   ",null,null,"   ",null,null,"   ",null,null,"   ",null,null,"   ",{"$f":"Select_naics2022[[#This Row],[2022 NAICS Code]]&\":  \"&Select_naics2022[[#This Row],[2022 NAICS Title]]","v":"238170:  Siding Contractors "},238170,"Siding Contractors ",{"$f":"Select_naics2022[[#This Row],[2022 NAICS Title]]","v":"Siding Contractors "},{"$nulls":3},"   ",null,null,"   ",null,null,"   ",null,null,"   ",null,null,"   ",null,null,"   ",null,null,"   ",null,null,"   ",null,null,"   ",null,null,"   "]
[null,"   ",{"$nulls":6},"   ",null,null,"   ",null,null,"   ",null,null,"   ",null,null,"   ",null,null,"   ",{"$nulls":3},"   ",null,null,"   ",null,null,"   ",null,null,"   ",null,null,"   ",null,null,"   ",{"$f":"Select_naics2022[[#This Row],[2022 NAICS Code]]&\":  \"&Select_naics2022[[#This Row],[2022 NAICS Title]]","v":"238190:  Other Foundation, Structure, and Building Exterior Contractors "},238190,"Other Foundation, Structure, and Building Exterior Contractors ",{"$f":"Select_naics2022[[#This Row],[2022 NAICS Title]]","v":"Other Foundation, Structure, and Building Exterior Contractors "},{"$nulls":3},"   ",null,null,"   ",null,null,"   ",null,null,"   ",null,null,"   ",null,null,"   ",null,null,"   ",null,null,"   ",null,null,"   ",null,null,"   "]
[null,"   ",{"$nulls":6},"   ",null,null,"   ",null,null,"   ",null,null,"   ",null,null,"   ",null,null,"   ",{"$nulls":3},"   ",null,null,"   ",null,null,"   ",null,null,"   ",null,null,"   ",null,null,"   ",{"$f":"Select_naics2022[[#This Row],[2022 NAICS Code]]&\":  \"&Select_naics2022[[#This Row],[2022 NAICS Title]]","v":"238210:  Electrical Contractors and Other Wiring Installation Contractors"},238210,"Electrical Contractors and Other Wiring Installation Contractors",{"$f":"Select_naics2022[[#This Row],[2022 NAICS Title]]","v":"Electrical Contractors and Other Wiring Installation Contractors"},{"$nulls":3},"   ",null,null,"   ",null,null,"   ",null,null,"   ",null,null,"   ",null,null,"   ",null,null,"   ",null,null,"   ",null,null,"   ",null,null,"   "]
[null,"   ",{"$nulls":6},"   ",null,null,"   ",null,null,"   ",null,null,"   ",null,null,"   ",null,null,"   ",{"$nulls":3},"   ",null,null,"   ",null,null,"   ",null,null,"   ",null,null,"   ",null,null,"   ",{"$f":"Select_naics2022[[#This Row],[2022 NAICS Code]]&\":  \"&Select_naics2022[[#This Row],[2022 NAICS Title]]","v":"238220:  Plumbing, Heating, and Air-Conditioning Contractors "},238220,"Plumbing, Heating, and Air-Conditioning Contractors ",{"$f":"Select_naics2022[[#This Row],[2022 NAICS Title]]","v":"Plumbing, Heating, and Air-Conditioning Contractors "},{"$nulls":3},"   ",null,null,"   ",null,null,"   ",null,null,"   ",null,null,"   ",null,null,"   ",null,null,"   ",null,null,"   ",null,null,"   ",null,null,"   "]
[null,"   ",{"$nulls":6},"   ",null,null,"   ",null,null,"   ",null,null,"   ",null,null,"   ",null,null,"   ",{"$nulls":3},"   ",null,null,"   ",null,null,"   ",null,null,"   ",null,null,"   ",null,null,"   ",{"$f":"Select_naics2022[[#This Row],[2022 NAICS Code]]&\":  \"&Select_naics2022[[#This Row],[2022 NAICS Title]]","v":"238290:  Other Building Equipment Contractors "},238290,"Other Building Equipment Contractors ",{"$f":"Select_naics2022[[#This Row],[2022 NAICS Title]]","v":"Other Building Equipment Contractors "},{"$nulls":3},"   ",null,null,"   ",null,null,"   ",null,null,"   ",null,null,"   ",null,null,"   ",null,null,"   ",null,null,"   ",null,null,"   ",null,null,"   "]
[null,"   ",{"$nulls":6},"   ",null,null,"   ",null,null,"   ",null,null,"   ",null,null,"   ",null,null,"   ",{"$nulls":3},"   ",null,null,"   ",null,null,"   ",null,null,"   ",null,null,"   ",null,null,"   ",{"$f":"Select_naics2022[[#This Row],[2022 NAICS Code]]&\":  \"&Select_naics2022[[#This Row],[2022 NAICS Title]]","v":"238310:  Drywall and Insulation Contractors "},238310,"Drywall and Insulation Contractors ",{"$f":"Select_naics2022[[#This Row],[2022 NAICS Title]]","v":"Drywall and Insulation Contractors "},{"$nulls":3},"   ",null,null,"   ",null,null,"   ",null,null,"   ",null,null,"   ",null,null,"   ",null,null,"   ",null,null,"   ",null,null,"   ",null,null,"   "]
[null,"   ",{"$nulls":6},"   ",null,null,"   ",null,null,"   ",null,null,"   ",null,null,"   ",null,null,"   ",{"$nulls":3},"   ",null,null,"   ",null,null,"   ",null,null,"   ",null,null,"   ",null,null,"   ",{"$f":"Select_naics2022[[#This Row],[2022 NAICS Code]]&\":  \"&Select_naics2022[[#This Row],[2022 NAICS Title]]","v":"238320:  Painting and Wall Covering Contractors"},238320,"Painting and Wall Covering Contractors",{"$f":"Select_naics2022[[#This Row],[2022 NAICS Title]]","v":"Painting and Wall Covering Contractors"},{"$nulls":3},"   ",null,null,"   ",null,null,"   ",null,null,"   ",null,null,"   ",null,null,"   ",null,null,"   ",null,null,"   ",null,null,"   ",null,null,"   "]
[null,"   ",{"$nulls":6},"   ",null,null,"   ",null,null,"   ",null,null,"   ",null,null,"   ",null,null,"   ",{"$nulls":3},"   ",null,null,"   ",null,null,"   ",null,null,"   ",null,null,"   ",null,null,"   ",{"$f":"Select_naics2022[[#This Row],[2022 NAICS Code]]&\":  \"&Select_naics2022[[#This Row],[2022 NAICS Title]]","v":"238330:  Flooring Contractors"},238330,"Flooring Contractors",{"$f":"Select_naics2022[[#This Row],[2022 NAICS Title]]","v":"Flooring Contractors"},{"$nulls":3},"   ",null,null,"   ",null,null,"   ",null,null,"   ",null,null,"   ",null,null,"   ",null,null,"   ",null,null,"   ",null,null,"   ",null,null,"   "]
[null,"   ",{"$nulls":6},"   ",null,null,"   ",null,null,"   ",null,null,"   ",null,null,"   ",null,null,"   ",{"$nulls":3},"   ",null,null,"   ",null,null,"   ",null,null,"   ",null,null,"   ",null,null,"   ",{"$f":"Select_naics2022[[#This Row],[2022 NAICS Code]]&\":  \"&Select_naics2022[[#This Row],[2022 NAICS Title]]","v":"238340:  Tile and Terrazzo Contractors"},238340,"Tile and Terrazzo Contractors",{"$f":"Select_naics2022[[#This Row],[2022 NAICS Title]]","v":"Tile and Terrazzo Contractors"},{"$nulls":3},"   ",null,null,"   ",null,null,"   ",null,null,"   ",null,null,"   ",null,null,"   ",null,null,"   ",null,null,"   ",null,null,"   ",null,null,"   "]
[null,"   ",{"$nulls":6},"   ",null,null,"   ",null,null,"   ",null,null,"   ",null,null,"   ",null,null,"   ",{"$nulls":3},"   ",null,null,"   ",null,null,"   ",null,null,"   ",null,null,"   ",null,null,"   ",{"$f":"Select_naics2022[[#This Row],[2022 NAICS Code]]&\":  \"&Select_naics2022[[#This Row],[2022 NAICS Title]]","v":"238350:  Finish Carpentry Contractors"},238350,"Finish Carpentry Contractors",{"$f":"Select_naics2022[[#This Row],[2022 NAICS Title]]","v":"Finish Carpentry Contractors"},{"$nulls":3},"   ",null,null,"   ",null,null,"   ",null,null,"   ",null,null,"   ",null,null,"   ",null,null,"   ",null,null,"   ",null,null,"   ",null,null,"   "]
[null,"   ",{"$nulls":6},"   ",null,null,"   ",null,null,"   ",null,null,"   ",null,null,"   ",null,null,"   ",{"$nulls":3},"   ",null,null,"   ",null,null,"   ",null,null,"   ",null,null,"   ",null,null,"   ",{"$f":"Select_naics2022[[#This Row],[2022 NAICS Code]]&\":  \"&Select_naics2022[[#This Row],[2022 NAICS Title]]","v":"238390:  Other Building Finishing Contractors"},238390,"Other Building Finishing Contractors",{"$f":"Select_naics2022[[#This Row],[2022 NAICS Title]]","v":"Other Building Finishing Contractors"},{"$nulls":3},"   ",null,null,"   ",null,null,"   ",null,null,"   ",null,null,"   ",null,null,"   ",null,null,"   ",null,null,"   ",null,null,"   ",null,null,"   "]
[null,"   ",{"$nulls":6},"   ",null,null,"   ",null,null,"   ",null,null,"   ",null,null,"   ",null,null,"   ",{"$nulls":3},"   ",null,null,"   ",null,null,"   ",null,null,"   ",null,null,"   ",null,null,"   ",{"$f":"Select_naics2022[[#This Row],[2022 NAICS Code]]&\":  \"&Select_naics2022[[#This Row],[2022 NAICS Title]]","v":"238910:  Site Preparation Contractors"},238910,"Site Preparation Contractors",{"$f":"Select_naics2022[[#This Row],[2022 NAICS Title]]","v":"Site Preparation Contractors"},{"$nulls":3},"   ",null,null,"   ",null,null,"   ",null,null,"   ",null,null,"   ",null,null,"   ",null,null,"   ",null,null,"   ",null,null,"   ",null,null,"   "]
[null,"   ",{"$nulls":6},"   ",null,null,"   ",null,null,"   ",null,null,"   ",null,null,"   ",null,null,"   ",{"$nulls":3},"   ",null,null,"   ",null,null,"   ",null,null,"   ",null,null,"   ",null,null,"   ",{"$f":"Select_naics2022[[#This Row],[2022 NAICS Code]]&\":  \"&Select_naics2022[[#This Row],[2022 NAICS Title]]","v":"238990:  All Other Specialty Trade Contractors"},238990,"All Other Specialty Trade Contractors",{"$f":"Select_naics2022[[#This Row],[2022 NAICS Title]]","v":"All Other Specialty Trade Contractors"},{"$nulls":3},"   ",null,null,"   ",null,null,"   ",null,null,"   ",null,null,"   ",null,null,"   ",null,null,"   ",null,null,"   ",null,null,"   ",null,null,"   "]
[null,"   ",{"$nulls":6},"   ",null,null,"   ",null,null,"   ",null,null,"   ",null,null,"   ",null,null,"   ",{"$nulls":3},"   ",null,null,"   ",null,null,"   ",null,null,"   ",null,null,"   ",null,null,"   ",{"$f":"Select_naics2022[[#This Row],[2022 NAICS Code]]&\":  \"&Select_naics2022[[#This Row],[2022 NAICS Title]]","v":"311111:  Dog and Cat Food Manufacturing "},311111,"Dog and Cat Food Manufacturing ",{"$f":"Select_naics2022[[#This Row],[2022 NAICS Title]]","v":"Dog and Cat Food Manufacturing "},{"$nulls":3},"   ",null,null,"   ",null,null,"   ",null,null,"   ",null,null,"   ",null,null,"   ",null,null,"   ",null,null,"   ",null,null,"   ",null,null,"   "]
[null,"   ",{"$nulls":6},"   ",null,null,"   ",null,null,"   ",null,null,"   ",null,null,"   ",null,null,"   ",{"$nulls":3},"   ",null,null,"   ",null,null,"   ",null,null,"   ",null,null,"   ",null,null,"   ",{"$f":"Select_naics2022[[#This Row],[2022 NAICS Code]]&\":  \"&Select_naics2022[[#This Row],[2022 NAICS Title]]","v":"311119:  Other Animal Food Manufacturing "},311119,"Other Animal Food Manufacturing ",{"$f":"Select_naics2022[[#This Row],[2022 NAICS Title]]","v":"Other Animal Food Manufacturing "},{"$nulls":3},"   ",null,null,"   ",null,null,"   ",null,null,"   ",null,null,"   ",null,null,"   ",null,null,"   ",null,null,"   ",null,null,"   ",null,null,"   "]
[null,"   ",{"$nulls":6},"   ",null,null,"   ",null,null,"   ",null,null,"   ",null,null,"   ",null,null,"   ",{"$nulls":3},"   ",null,null,"   ",null,null,"   ",null,null,"   ",null,null,"   ",null,null,"   ",{"$f":"Select_naics2022[[#This Row],[2022 NAICS Code]]&\":  \"&Select_naics2022[[#This Row],[2022 NAICS Title]]","v":"311211:  Flour Milling "},311211,"Flour Milling ",{"$f":"Select_naics2022[[#This Row],[2022 NAICS Title]]","v":"Flour Milling "},{"$nulls":3},"   ",null,null,"   ",null,null,"   ",null,null,"   ",null,null,"   ",null,null,"   ",null,null,"   ",null,null,"   ",null,null,"   ",null,null,"   "]
[null,"   ",{"$nulls":6},"   ",null,null,"   ",null,null,"   ",null,null,"   ",null,null,"   ",null,null,"   ",{"$nulls":3},"   ",null,null,"   ",null,null,"   ",null,null,"   ",null,null,"   ",null,null,"   ",{"$f":"Select_naics2022[[#This Row],[2022 NAICS Code]]&\":  \"&Select_naics2022[[#This Row],[2022 NAICS Title]]","v":"311212:  Rice Milling "},311212,"Rice Milling ",{"$f":"Select_naics2022[[#This Row],[2022 NAICS Title]]","v":"Rice Milling "},{"$nulls":3},"   ",null,null,"   ",null,null,"   ",null,null,"   ",null,null,"   ",null,null,"   ",null,null,"   ",null,null,"   ",null,null,"   ",null,null,"   "]
[null,"   ",{"$nulls":6},"   ",null,null,"   ",null,null,"   ",null,null,"   ",null,null,"   ",null,null,"   ",{"$nulls":3},"   ",null,null,"   ",null,null,"   ",null,null,"   ",null,null,"   ",null,null,"   ",{"$f":"Select_naics2022[[#This Row],[2022 NAICS Code]]&\":  \"&Select_naics2022[[#This Row],[2022 NAICS Title]]","v":"311213:  Malt Manufacturing "},311213,"Malt Manufacturing ",{"$f":"Select_naics2022[[#This Row],[2022 NAICS Title]]","v":"Malt Manufacturing "},{"$nulls":3},"   ",null,null,"   ",null,null,"   ",null,null,"   ",null,null,"   ",null,null,"   ",null,null,"   ",null,null,"   ",null,null,"   ",null,null,"   "]
[null,"   ",{"$nulls":6},"   ",null,null,"   ",null,null,"   ",null,null,"   ",null,null,"   ",null,null,"   ",{"$nulls":3},"   ",null,null,"   ",null,null,"   ",null,null,"   ",null,null,"   ",null,null,"   ",{"$f":"Select_naics2022[[#This Row],[2022 NAICS Code]]&\":  \"&Select_naics2022[[#This Row],[2022 NAICS Title]]","v":"311221:  Wet Corn Milling and Starch Manufacturing "},311221,"Wet Corn Milling and Starch Manufacturing ",{"$f":"Select_naics2022[[#This Row],[2022 NAICS Title]]","v":"Wet Corn Milling and Starch Manufacturing "},{"$nulls":3},"   ",null,null,"   ",null,null,"   ",null,null,"   ",null,null,"   ",null,null,"   ",null,null,"   ",null,null,"   ",null,null,"   ",null,null,"   "]
[null,"   ",{"$nulls":6},"   ",null,null,"   ",null,null,"   ",null,null,"   ",null,null,"   ",null,null,"   ",{"$nulls":3},"   ",null,null,"   ",null,null,"   ",null,null,"   ",null,null,"   ",null,null,"   ",{"$f":"Select_naics2022[[#This Row],[2022 NAICS Code]]&\":  \"&Select_naics2022[[#This Row],[2022 NAICS Title]]","v":"311224:  Soybean and Other Oilseed Processing "},311224,"Soybean and Other Oilseed Processing ",{"$f":"Select_naics2022[[#This Row],[2022 NAICS Title]]","v":"Soybean and Other Oilseed Processing "},{"$nulls":3},"   ",null,null,"   ",null,null,"   ",null,null,"   ",null,null,"   ",null,null,"   ",null,null,"   ",null,null,"   ",null,null,"   ",null,null,"   "]
[null,"   ",{"$nulls":6},"   ",null,null,"   ",null,null,"   ",null,null,"   ",null,null,"   ",null,null,"   ",{"$nulls":3},"   ",null,null,"   ",null,null,"   ",null,null,"   ",null,null,"   ",null,null,"   ",{"$f":"Select_naics2022[[#This Row],[2022 NAICS Code]]&\":  \"&Select_naics2022[[#This Row],[2022 NAICS Title]]","v":"311225:  Fats and Oils Refining and Blending "},311225,"Fats and Oils Refining and Blending ",{"$f":"Select_naics2022[[#This Row],[2022 NAICS Title]]","v":"Fats and Oils Refining and Blending "},{"$nulls":3},"   ",null,null,"   ",null,null,"   ",null,null,"   ",null,null,"   ",null,null,"   ",null,null,"   ",null,null,"   ",null,null,"   ",null,null,"   "]
[null,"   ",{"$nulls":6},"   ",null,null,"   ",null,null,"   ",null,null,"   ",null,null,"   ",null,null,"   ",{"$nulls":3},"   ",null,null,"   ",null,null,"   ",null,null,"   ",null,null,"   ",null,null,"   ",{"$f":"Select_naics2022[[#This Row],[2022 NAICS Code]]&\":  \"&Select_naics2022[[#This Row],[2022 NAICS Title]]","v":"311230:  Breakfast Cereal Manufacturing"},311230,"Breakfast Cereal Manufacturing",{"$f":"Select_naics2022[[#This Row],[2022 NAICS Title]]","v":"Breakfast Cereal Manufacturing"},{"$nulls":3},"   ",null,null,"   ",null,null,"   ",null,null,"   ",null,null,"   ",null,null,"   ",null,null,"   ",null,null,"   ",null,null,"   ",null,null,"   "]
[null,"   ",{"$nulls":6},"   ",null,null,"   ",null,null,"   ",null,null,"   ",null,null,"   ",null,null,"   ",{"$nulls":3},"   ",null,null,"   ",null,null,"   ",null,null,"   ",null,null,"   ",null,null,"   ",{"$f":"Select_naics2022[[#This Row],[2022 NAICS Code]]&\":  \"&Select_naics2022[[#This Row],[2022 NAICS Title]]","v":"311313:  Beet Sugar Manufacturing "},311313,"Beet Sugar Manufacturing ",{"$f":"Select_naics2022[[#This Row],[2022 NAICS Title]]","v":"Beet Sugar Manufacturing "},{"$nulls":3},"   ",null,null,"   ",null,null,"   ",null,null,"   ",null,null,"   ",null,null,"   ",null,null,"   ",null,null,"   ",null,null,"   ",null,null,"   "]
[null,"   ",{"$nulls":6},"   ",null,null,"   ",null,null,"   ",null,null,"   ",null,null,"   ",null,null,"   ",{"$nulls":3},"   ",null,null,"   ",null,null,"   ",null,null,"   ",null,null,"   ",null,null,"   ",{"$f":"Select_naics2022[[#This Row],[2022 NAICS Code]]&\":  \"&Select_naics2022[[#This Row],[2022 NAICS Title]]","v":"311314:  Cane Sugar Manufacturing "},311314,"Cane Sugar Manufacturing ",{"$f":"Select_naics2022[[#This Row],[2022 NAICS Title]]","v":"Cane Sugar Manufacturing "},{"$nulls":3},"   ",null,null,"   ",null,null,"   ",null,null,"   ",null,null,"   ",null,null,"   ",null,null,"   ",null,null,"   ",null,null,"   ",null,null,"   "]
[null,"   ",{"$nulls":6},"   ",null,null,"   ",null,null,"   ",null,null,"   ",null,null,"   ",null,null,"   ",{"$nulls":3},"   ",null,null,"   ",null,null,"   ",null,null,"   ",null,null,"   ",null,null,"   ",{"$f":"Select_naics2022[[#This Row],[2022 NAICS Code]]&\":  \"&Select_naics2022[[#This Row],[2022 NAICS Title]]","v":"311340:  Nonchocolate Confectionery Manufacturing"},311340,"Nonchocolate Confectionery Manufacturing",{"$f":"Select_naics2022[[#This Row],[2022 NAICS Title]]","v":"Nonchocolate Confectionery Manufacturing"},{"$nulls":3},"   ",null,null,"   ",null,null,"   ",null,null,"   ",null,null,"   ",null,null,"   ",null,null,"   ",null,null,"   ",null,null,"   ",null,null,"   "]
[null,"   ",{"$nulls":6},"   ",null,null,"   ",null,null,"   ",null,null,"   ",null,null,"   ",null,null,"   ",{"$nulls":3},"   ",null,null,"   ",null,null,"   ",null,null,"   ",null,null,"   ",null,null,"   ",{"$f":"Select_naics2022[[#This Row],[2022 NAICS Code]]&\":  \"&Select_naics2022[[#This Row],[2022 NAICS Title]]","v":"311351:  Chocolate and Confectionery Manufacturing from Cacao Beans "},311351,"Chocolate and Confectionery Manufacturing from Cacao Beans ",{"$f":"Select_naics2022[[#This Row],[2022 NAICS Title]]","v":"Chocolate and Confectionery Manufacturing from Cacao Beans "},{"$nulls":3},"   ",null,null,"   ",null,null,"   ",null,null,"   ",null,null,"   ",null,null,"   ",null,null,"   ",null,null,"   ",null,null,"   ",null,null,"   "]
[null,"   ",{"$nulls":6},"   ",null,null,"   ",null,null,"   ",null,null,"   ",null,null,"   ",null,null,"   ",{"$nulls":3},"   ",null,null,"   ",null,null,"   ",null,null,"   ",null,null,"   ",null,null,"   ",{"$f":"Select_naics2022[[#This Row],[2022 NAICS Code]]&\":  \"&Select_naics2022[[#This Row],[2022 NAICS Title]]","v":"311352:  Confectionery Manufacturing from Purchased Chocolate "},311352,"Confectionery Manufacturing from Purchased Chocolate ",{"$f":"Select_naics2022[[#This Row],[2022 NAICS Title]]","v":"Confectionery Manufacturing from Purchased Chocolate "},{"$nulls":3},"   ",null,null,"   ",null,null,"   ",null,null,"   ",null,null,"   ",null,null,"   ",null,null,"   ",null,null,"   ",null,null,"   ",null,null,"   "]
[null,"   ",{"$nulls":6},"   ",null,null,"   ",null,null,"   ",null,null,"   ",null,null,"   ",null,null,"   ",{"$nulls":3},"   ",null,null,"   ",null,null,"   ",null,null,"   ",null,null,"   ",null,null,"   ",{"$f":"Select_naics2022[[#This Row],[2022 NAICS Code]]&\":  \"&Select_naics2022[[#This Row],[2022 NAICS Title]]","v":"311411:  Frozen Fruit, Juice, and Vegetable Manufacturing "},311411,"Frozen Fruit, Juice, and Vegetable Manufacturing ",{"$f":"Select_naics2022[[#This Row],[2022 NAICS Title]]","v":"Frozen Fruit, Juice, and Vegetable Manufacturing "},{"$nulls":3},"   ",null,null,"   ",null,null,"   ",null,null,"   ",null,null,"   ",null,null,"   ",null,null,"   ",null,null,"   ",null,null,"   ",null,null,"   "]
[null,"   ",{"$nulls":6},"   ",null,null,"   ",null,null,"   ",null,null,"   ",null,null,"   ",null,null,"   ",{"$nulls":3},"   ",null,null,"   ",null,null,"   ",null,null,"   ",null,null,"   ",null,null,"   ",{"$f":"Select_naics2022[[#This Row],[2022 NAICS Code]]&\":  \"&Select_naics2022[[#This Row],[2022 NAICS Title]]","v":"311412:  Frozen Specialty Food Manufacturing "},311412,"Frozen Specialty Food Manufacturing ",{"$f":"Select_naics2022[[#This Row],[2022 NAICS Title]]","v":"Frozen Specialty Food Manufacturing "},{"$nulls":3},"   ",null,null,"   ",null,null,"   ",null,null,"   ",null,null,"   ",null,null,"   ",null,null,"   ",null,null,"   ",null,null,"   ",null,null,"   "]
[null,"   ",{"$nulls":6},"   ",null,null,"   ",null,null,"   ",null,null,"   ",null,null,"   ",null,null,"   ",{"$nulls":3},"   ",null,null,"   ",null,null,"   ",null,null,"   ",null,null,"   ",null,null,"   ",{"$f":"Select_naics2022[[#This Row],[2022 NAICS Code]]&\":  \"&Select_naics2022[[#This Row],[2022 NAICS Title]]","v":"311421:  Fruit and Vegetable Canning "},311421,"Fruit and Vegetable Canning ",{"$f":"Select_naics2022[[#This Row],[2022 NAICS Title]]","v":"Fruit and Vegetable Canning "},{"$nulls":3},"   ",null,null,"   ",null,null,"   ",null,null,"   ",null,null,"   ",null,null,"   ",null,null,"   ",null,null,"   ",null,null,"   ",null,null,"   "]
[null,"   ",{"$nulls":6},"   ",null,null,"   ",null,null,"   ",null,null,"   ",null,null,"   ",null,null,"   ",{"$nulls":3},"   ",null,null,"   ",null,null,"   ",null,null,"   ",null,null,"   ",null,null,"   ",{"$f":"Select_naics2022[[#This Row],[2022 NAICS Code]]&\":  \"&Select_naics2022[[#This Row],[2022 NAICS Title]]","v":"311422:  Specialty Canning "},311422,"Specialty Canning ",{"$f":"Select_naics2022[[#This Row],[2022 NAICS Title]]","v":"Specialty Canning "},{"$nulls":3},"   ",null,null,"   ",null,null,"   ",null,null,"   ",null,null,"   ",null,null,"   ",null,null,"   ",null,null,"   ",null,null,"   ",null,null,"   "]
[null,"   ",{"$nulls":6},"   ",null,null,"   ",null,null,"   ",null,null,"   ",null,null,"   ",null,null,"   ",{"$nulls":3},"   ",null,null,"   ",null,null,"   ",null,null,"   ",null,null,"   ",null,null,"   ",{"$f":"Select_naics2022[[#This Row],[2022 NAICS Code]]&\":  \"&Select_naics2022[[#This Row],[2022 NAICS Title]]","v":"311423:  Dried and Dehydrated Food Manufacturing "},311423,"Dried and Dehydrated Food Manufacturing ",{"$f":"Select_naics2022[[#This Row],[2022 NAICS Title]]","v":"Dried and Dehydrated Food Manufacturing "},{"$nulls":3},"   ",null,null,"   ",null,null,"   ",null,null,"   ",null,null,"   ",null,null,"   ",null,null,"   ",null,null,"   ",null,null,"   ",null,null,"   "]
[null,"   ",{"$nulls":6},"   ",null,null,"   ",null,null,"   ",null,null,"   ",null,null,"   ",null,null,"   ",{"$nulls":3},"   ",null,null,"   ",null,null,"   ",null,null,"   ",null,null,"   ",null,null,"   ",{"$f":"Select_naics2022[[#This Row],[2022 NAICS Code]]&\":  \"&Select_naics2022[[#This Row],[2022 NAICS Title]]","v":"311511:  Fluid Milk Manufacturing "},311511,"Fluid Milk Manufacturing ",{"$f":"Select_naics2022[[#This Row],[2022 NAICS Title]]","v":"Fluid Milk Manufacturing "},{"$nulls":3},"   ",null,null,"   ",null,null,"   ",null,null,"   ",null,null,"   ",null,null,"   ",null,null,"   ",null,null,"   ",null,null,"   ",null,null,"   "]
[null,"   ",{"$nulls":6},"   ",null,null,"   ",null,null,"   ",null,null,"   ",null,null,"   ",null,null,"   ",{"$nulls":3},"   ",null,null,"   ",null,null,"   ",null,null,"   ",null,null,"   ",null,null,"   ",{"$f":"Select_naics2022[[#This Row],[2022 NAICS Code]]&\":  \"&Select_naics2022[[#This Row],[2022 NAICS Title]]","v":"311512:  Creamery Butter Manufacturing "},311512,"Creamery Butter Manufacturing ",{"$f":"Select_naics2022[[#This Row],[2022 NAICS Title]]","v":"Creamery Butter Manufacturing "},{"$nulls":3},"   ",null,null,"   ",null,null,"   ",null,null,"   ",null,null,"   ",null,null,"   ",null,null,"   ",null,null,"   ",null,null,"   ",null,null,"   "]
[null,"   ",{"$nulls":6},"   ",null,null,"   ",null,null,"   ",null,null,"   ",null,null,"   ",null,null,"   ",{"$nulls":3},"   ",null,null,"   ",null,null,"   ",null,null,"   ",null,null,"   ",null,null,"   ",{"$f":"Select_naics2022[[#This Row],[2022 NAICS Code]]&\":  \"&Select_naics2022[[#This Row],[2022 NAICS Title]]","v":"311513:  Cheese Manufacturing "},311513,"Cheese Manufacturing ",{"$f":"Select_naics2022[[#This Row],[2022 NAICS Title]]","v":"Cheese Manufacturing "},{"$nulls":3},"   ",null,null,"   ",null,null,"   ",null,null,"   ",null,null,"   ",null,null,"   ",null,null,"   ",null,null,"   ",null,null,"   ",null,null,"   "]
[null,"   ",{"$nulls":6},"   ",null,null,"   ",null,null,"   ",null,null,"   ",null,null,"   ",null,null,"   ",{"$nulls":3},"   ",null,null,"   ",null,null,"   ",null,null,"   ",null,null,"   ",null,null,"   ",{"$f":"Select_naics2022[[#This Row],[2022 NAICS Code]]&\":  \"&Select_naics2022[[#This Row],[2022 NAICS Title]]","v":"311514:  Dry, Condensed, and Evaporated Dairy Product Manufacturing "},311514,"Dry, Condensed, and Evaporated Dairy Product Manufacturing ",{"$f":"Select_naics2022[[#This Row],[2022 NAICS Title]]","v":"Dry, Condensed, and Evaporated Dairy Product Manufacturing "},{"$nulls":3},"   ",null,null,"   ",null,null,"   ",null,null,"   ",null,null,"   ",null,null,"   ",null,null,"   ",null,null,"   ",null,null,"   ",null,null,"   "]
[null,"   ",{"$nulls":6},"   ",null,null,"   ",null,null,"   ",null,null,"   ",null,null,"   ",null,null,"   ",{"$nulls":3},"   ",null,null,"   ",null,null,"   ",null,null,"   ",null,null,"   ",null,null,"   ",{"$f":"Select_naics2022[[#This Row],[2022 NAICS Code]]&\":  \"&Select_naics2022[[#This Row],[2022 NAICS Title]]","v":"311520:  Ice Cream and Frozen Dessert Manufacturing"},311520,"Ice Cream and Frozen Dessert Manufacturing",{"$f":"Select_naics2022[[#This Row],[2022 NAICS Title]]","v":"Ice Cream and Frozen Dessert Manufacturing"},{"$nulls":3},"   ",null,null,"   ",null,null,"   ",null,null,"   ",null,null,"   ",null,null,"   ",null,null,"   ",null,null,"   ",null,null,"   ",null,null,"   "]
[null,"   ",{"$nulls":6},"   ",null,null,"   ",null,null,"   ",null,null,"   ",null,null,"   ",null,null,"   ",{"$nulls":3},"   ",null,null,"   ",null,null,"   ",null,null,"   ",null,null,"   ",null,null,"   ",{"$f":"Select_naics2022[[#This Row],[2022 NAICS Code]]&\":  \"&Select_naics2022[[#This Row],[2022 NAICS Title]]","v":"311611:  Animal (except Poultry) Slaughtering "},311611,"Animal (except Poultry) Slaughtering ",{"$f":"Select_naics2022[[#This Row],[2022 NAICS Title]]","v":"Animal (except Poultry) Slaughtering "},{"$nulls":3},"   ",null,null,"   ",null,null,"   ",null,null,"   ",null,null,"   ",null,null,"   ",null,null,"   ",null,null,"   ",null,null,"   ",null,null,"   "]
[null,"   ",{"$nulls":6},"   ",null,null,"   ",null,null,"   ",null,null,"   ",null,null,"   ",null,null,"   ",{"$nulls":3},"   ",null,null,"   ",null,null,"   ",null,null,"   ",null,null,"   ",null,null,"   ",{"$f":"Select_naics2022[[#This Row],[2022 NAICS Code]]&\":  \"&Select_naics2022[[#This Row],[2022 NAICS Title]]","v":"311612:  Meat Processed from Carcasses "},311612,"Meat Processed from Carcasses ",{"$f":"Select_naics2022[[#This Row],[2022 NAICS Title]]","v":"Meat Processed from Carcasses "},{"$nulls":3},"   ",null,null,"   ",null,null,"   ",null,null,"   ",null,null,"   ",null,null,"   ",null,null,"   ",null,null,"   ",null,null,"   ",null,null,"   "]
[null,"   ",{"$nulls":6},"   ",null,null,"   ",null,null,"   ",null,null,"   ",null,null,"   ",null,null,"   ",{"$nulls":3},"   ",null,null,"   ",null,null,"   ",null,null,"   ",null,null,"   ",null,null,"   ",{"$f":"Select_naics2022[[#This Row],[2022 NAICS Code]]&\":  \"&Select_naics2022[[#This Row],[2022 NAICS Title]]","v":"311613:  Rendering and Meat Byproduct Processing "},311613,"Rendering and Meat Byproduct Processing ",{"$f":"Select_naics2022[[#This Row],[2022 NAICS Title]]","v":"Rendering and Meat Byproduct Processing "},{"$nulls":3},"   ",null,null,"   ",null,null,"   ",null,null,"   ",null,null,"   ",null,null,"   ",null,null,"   ",null,null,"   ",null,null,"   ",null,null,"   "]
[null,"   ",{"$nulls":6},"   ",null,null,"   ",null,null,"   ",null,null,"   ",null,null,"   ",null,null,"   ",{"$nulls":3},"   ",null,null,"   ",null,null,"   ",null,null,"   ",null,null,"   ",null,null,"   ",{"$f":"Select_naics2022[[#This Row],[2022 NAICS Code]]&\":  \"&Select_naics2022[[#This Row],[2022 NAICS Title]]","v":"311615:  Poultry Processing "},311615,"Poultry Processing ",{"$f":"Select_naics2022[[#This Row],[2022 NAICS Title]]","v":"Poultry Processing "},{"$nulls":3},"   ",null,null,"   ",null,null,"   ",null,null,"   ",null,null,"   ",null,null,"   ",null,null,"   ",null,null,"   ",null,null,"   ",null,null,"   "]
[null,"   ",{"$nulls":6},"   ",null,null,"   ",null,null,"   ",null,null,"   ",null,null,"   ",null,null,"   ",{"$nulls":3},"   ",null,null,"   ",null,null,"   ",null,null,"   ",null,null,"   ",null,null,"   ",{"$f":"Select_naics2022[[#This Row],[2022 NAICS Code]]&\":  \"&Select_naics2022[[#This Row],[2022 NAICS Title]]","v":"311710:  Seafood Product Preparation and Packaging"},311710,"Seafood Product Preparation and Packaging",{"$f":"Select_naics2022[[#This Row],[2022 NAICS Title]]","v":"Seafood Product Preparation and Packaging"},{"$nulls":3},"   ",null,null,"   ",null,null,"   ",null,null,"   ",null,null,"   ",null,null,"   ",null,null,"   ",null,null,"   ",null,null,"   ",null,null,"   "]
[null,"   ",{"$nulls":6},"   ",null,null,"   ",null,null,"   ",null,null,"   ",null,null,"   ",null,null,"   ",{"$nulls":3},"   ",null,null,"   ",null,null,"   ",null,null,"   ",null,null,"   ",null,null,"   ",{"$f":"Select_naics2022[[#This Row],[2022 NAICS Code]]&\":  \"&Select_naics2022[[#This Row],[2022 NAICS Title]]","v":"311811:  Retail Bakeries "},311811,"Retail Bakeries ",{"$f":"Select_naics2022[[#This Row],[2022 NAICS Title]]","v":"Retail Bakeries "},{"$nulls":3},"   ",null,null,"   ",null,null,"   ",null,null,"   ",null,null,"   ",null,null,"   ",null,null,"   ",null,null,"   ",null,null,"   ",null,null,"   "]
[null,"   ",{"$nulls":6},"   ",null,null,"   ",null,null,"   ",null,null,"   ",null,null,"   ",null,null,"   ",{"$nulls":3},"   ",null,null,"   ",null,null,"   ",null,null,"   ",null,null,"   ",null,null,"   ",{"$f":"Select_naics2022[[#This Row],[2022 NAICS Code]]&\":  \"&Select_naics2022[[#This Row],[2022 NAICS Title]]","v":"311812:  Commercial Bakeries "},311812,"Commercial Bakeries ",{"$f":"Select_naics2022[[#This Row],[2022 NAICS Title]]","v":"Commercial Bakeries "},{"$nulls":3},"   ",null,null,"   ",null,null,"   ",null,null,"   ",null,null,"   ",null,null,"   ",null,null,"   ",null,null,"   ",null,null,"   ",null,null,"   "]
[null,"   ",{"$nulls":6},"   ",null,null,"   ",null,null,"   ",null,null,"   ",null,null,"   ",null,null,"   ",{"$nulls":3},"   ",null,null,"   ",null,null,"   ",null,null,"   ",null,null,"   ",null,null,"   ",{"$f":"Select_naics2022[[#This Row],[2022 NAICS Code]]&\":  \"&Select_naics2022[[#This Row],[2022 NAICS Title]]","v":"311813:  Frozen Cakes, Pies, and Other Pastries Manufacturing "},311813,"Frozen Cakes, Pies, and Other Pastries Manufacturing ",{"$f":"Select_naics2022[[#This Row],[2022 NAICS Title]]","v":"Frozen Cakes, Pies, and Other Pastries Manufacturing "},{"$nulls":3},"   ",null,null,"   ",null,null,"   ",null,null,"   ",null,null,"   ",null,null,"   ",null,null,"   ",null,null,"   ",null,null,"   ",null,null,"   "]
[null,"   ",{"$nulls":6},"   ",null,null,"   ",null,null,"   ",null,null,"   ",null,null,"   ",null,null,"   ",{"$nulls":3},"   ",null,null,"   ",null,null,"   ",null,null,"   ",null,null,"   ",null,null,"   ",{"$f":"Select_naics2022[[#This Row],[2022 NAICS Code]]&\":  \"&Select_naics2022[[#This Row],[2022 NAICS Title]]","v":"311821:  Cookie and Cracker Manufacturing "},311821,"Cookie and Cracker Manufacturing ",{"$f":"Select_naics2022[[#This Row],[2022 NAICS Title]]","v":"Cookie and Cracker Manufacturing "},{"$nulls":3},"   ",null,null,"   ",null,null,"   ",null,null,"   ",null,null,"   ",null,null,"   ",null,null,"   ",null,null,"   ",null,null,"   ",null,null,"   "]
[null,"   ",{"$nulls":6},"   ",null,null,"   ",null,null,"   ",null,null,"   ",null,null,"   ",null,null,"   ",{"$nulls":3},"   ",null,null,"   ",null,null,"   ",null,null,"   ",null,null,"   ",null,null,"   ",{"$f":"Select_naics2022[[#This Row],[2022 NAICS Code]]&\":  \"&Select_naics2022[[#This Row],[2022 NAICS Title]]","v":"311824:  Dry Pasta, Dough, and Flour Mixes Manufacturing from Purchased Flour "},311824,"Dry Pasta, Dough, and Flour Mixes Manufacturing from Purchased Flour ",{"$f":"Select_naics2022[[#This Row],[2022 NAICS Title]]","v":"Dry Pasta, Dough, and Flour Mixes Manufacturing from Purchased Flour "},{"$nulls":3},"   ",null,null,"   ",null,null,"   ",null,null,"   ",null,null,"   ",null,null,"   ",null,null,"   ",null,null,"   ",null,null,"   ",null,null,"   "]
[null,"   ",{"$nulls":6},"   ",null,null,"   ",null,null,"   ",null,null,"   ",null,null,"   ",null,null,"   ",{"$nulls":3},"   ",null,null,"   ",null,null,"   ",null,null,"   ",null,null,"   ",null,null,"   ",{"$f":"Select_naics2022[[#This Row],[2022 NAICS Code]]&\":  \"&Select_naics2022[[#This Row],[2022 NAICS Title]]","v":"311830:  Tortilla Manufacturing"},311830,"Tortilla Manufacturing",{"$f":"Select_naics2022[[#This Row],[2022 NAICS Title]]","v":"Tortilla Manufacturing"},{"$nulls":3},"   ",null,null,"   ",null,null,"   ",null,null,"   ",null,null,"   ",null,null,"   ",null,null,"   ",null,null,"   ",null,null,"   ",null,null,"   "]
[null,"   ",{"$nulls":6},"   ",null,null,"   ",null,null,"   ",null,null,"   ",null,null,"   ",null,null,"   ",{"$nulls":3},"   ",null,null,"   ",null,null,"   ",null,null,"   ",null,null,"   ",null,null,"   ",{"$f":"Select_naics2022[[#This Row],[2022 NAICS Code]]&\":  \"&Select_naics2022[[#This Row],[2022 NAICS Title]]","v":"311911:  Roasted Nuts and Peanut Butter Manufacturing "},311911,"Roasted Nuts and Peanut Butter Manufacturing ",{"$f":"Select_naics2022[[#This Row],[2022 NAICS Title]]","v":"Roasted Nuts and Peanut Butter Manufacturing "},{"$nulls":3},"   ",null,null,"   ",null,null,"   ",null,null,"   ",null,null,"   ",null,null,"   ",null,null,"   ",null,null,"   ",null,null,"   ",null,null,"   "]
[null,"   ",{"$nulls":6},"   ",null,null,"   ",null,null,"   ",null,null,"   ",null,null,"   ",null,null,"   ",{"$nulls":3},"   ",null,null,"   ",null,null,"   ",null,null,"   ",null,null,"   ",null,null,"   ",{"$f":"Select_naics2022[[#This Row],[2022 NAICS Code]]&\":  \"&Select_naics2022[[#This Row],[2022 NAICS Title]]","v":"311919:  Other Snack Food Manufacturing "},311919,"Other Snack Food Manufacturing ",{"$f":"Select_naics2022[[#This Row],[2022 NAICS Title]]","v":"Other Snack Food Manufacturing "},{"$nulls":3},"   ",null,null,"   ",null,null,"   ",null,null,"   ",null,null,"   ",null,null,"   ",null,null,"   ",null,null,"   ",null,null,"   ",null,null,"   "]
[null,"   ",{"$nulls":6},"   ",null,null,"   ",null,null,"   ",null,null,"   ",null,null,"   ",null,null,"   ",{"$nulls":3},"   ",null,null,"   ",null,null,"   ",null,null,"   ",null,null,"   ",null,null,"   ",{"$f":"Select_naics2022[[#This Row],[2022 NAICS Code]]&\":  \"&Select_naics2022[[#This Row],[2022 NAICS Title]]","v":"311920:  Coffee and Tea Manufacturing "},311920,"Coffee and Tea Manufacturing ",{"$f":"Select_naics2022[[#This Row],[2022 NAICS Title]]","v":"Coffee and Tea Manufacturing "},{"$nulls":3},"   ",null,null,"   ",null,null,"   ",null,null,"   ",null,null,"   ",null,null,"   ",null,null,"   ",null,null,"   ",null,null,"   ",null,null,"   "]
[null,"   ",{"$nulls":6},"   ",null,null,"   ",null,null,"   ",null,null,"   ",null,null,"   ",null,null,"   ",{"$nulls":3},"   ",null,null,"   ",null,null,"   ",null,null,"   ",null,null,"   ",null,null,"   ",{"$f":"Select_naics2022[[#This Row],[2022 NAICS Code]]&\":  \"&Select_naics2022[[#This Row],[2022 NAICS Title]]","v":"311930:  Flavoring Syrup and Concentrate Manufacturing"},311930,"Flavoring Syrup and Concentrate Manufacturing",{"$f":"Select_naics2022[[#This Row],[2022 NAICS Title]]","v":"Flavoring Syrup and Concentrate Manufacturing"},{"$nulls":3},"   ",null,null,"   ",null,null,"   ",null,null,"   ",null,null,"   ",null,null,"   ",null,null,"   ",null,null,"   ",null,null,"   ",null,null,"   "]
[null,"   ",{"$nulls":6},"   ",null,null,"   ",null,null,"   ",null,null,"   ",null,null,"   ",null,null,"   ",{"$nulls":3},"   ",null,null,"   ",null,null,"   ",null,null,"   ",null,null,"   ",null,null,"   ",{"$f":"Select_naics2022[[#This Row],[2022 NAICS Code]]&\":  \"&Select_naics2022[[#This Row],[2022 NAICS Title]]","v":"311941:  Mayonnaise, Dressing, and Other Prepared Sauce Manufacturing "},311941,"Mayonnaise, Dressing, and Other Prepared Sauce Manufacturing ",{"$f":"Select_naics2022[[#This Row],[2022 NAICS Title]]","v":"Mayonnaise, Dressing, and Other Prepared Sauce Manufacturing "},{"$nulls":3},"   ",null,null,"   ",null,null,"   ",null,null,"   ",null,null,"   ",null,null,"   ",null,null,"   ",null,null,"   ",null,null,"   ",null,null,"   "]
[null,"   ",{"$nulls":6},"   ",null,null,"   ",null,null,"   ",null,null,"   ",null,null,"   ",null,null,"   ",{"$nulls":3},"   ",null,null,"   ",null,null,"   ",null,null,"   ",null,null,"   ",null,null,"   ",{"$f":"Select_naics2022[[#This Row],[2022 NAICS Code]]&\":  \"&Select_naics2022[[#This Row],[2022 NAICS Title]]","v":"311942:  Spice and Extract Manufacturing "},311942,"Spice and Extract Manufacturing ",{"$f":"Select_naics2022[[#This Row],[2022 NAICS Title]]","v":"Spice and Extract Manufacturing "},{"$nulls":3},"   ",null,null,"   ",null,null,"   ",null,null,"   ",null,null,"   ",null,null,"   ",null,null,"   ",null,null,"   ",null,null,"   ",null,null,"   "]
[null,"   ",{"$nulls":6},"   ",null,null,"   ",null,null,"   ",null,null,"   ",null,null,"   ",null,null,"   ",{"$nulls":3},"   ",null,null,"   ",null,null,"   ",null,null,"   ",null,null,"   ",null,null,"   ",{"$f":"Select_naics2022[[#This Row],[2022 NAICS Code]]&\":  \"&Select_naics2022[[#This Row],[2022 NAICS Title]]","v":"311991:  Perishable Prepared Food Manufacturing "},311991,"Perishable Prepared Food Manufacturing ",{"$f":"Select_naics2022[[#This Row],[2022 NAICS Title]]","v":"Perishable Prepared Food Manufacturing "},{"$nulls":3},"   ",null,null,"   ",null,null,"   ",null,null,"   ",null,null,"   ",null,null,"   ",null,null,"   ",null,null,"   ",null,null,"   ",null,null,"   "]
[null,"   ",{"$nulls":6},"   ",null,null,"   ",null,null,"   ",null,null,"   ",null,null,"   ",null,null,"   ",{"$nulls":3},"   ",null,null,"   ",null,null,"   ",null,null,"   ",null,null,"   ",null,null,"   ",{"$f":"Select_naics2022[[#This Row],[2022 NAICS Code]]&\":  \"&Select_naics2022[[#This Row],[2022 NAICS Title]]","v":"311999:  All Other Miscellaneous Food Manufacturing "},311999,"All Other Miscellaneous Food Manufacturing ",{"$f":"Select_naics2022[[#This Row],[2022 NAICS Title]]","v":"All Other Miscellaneous Food Manufacturing "},{"$nulls":3},"   ",null,null,"   ",null,null,"   ",null,null,"   ",null,null,"   ",null,null,"   ",null,null,"   ",null,null,"   ",null,null,"   ",null,null,"   "]
[null,"   ",{"$nulls":6},"   ",null,null,"   ",null,null,"   ",null,null,"   ",null,null,"   ",null,null,"   ",{"$nulls":3},"   ",null,null,"   ",null,null,"   ",null,null,"   ",null,null,"   ",null,null,"   ",{"$f":"Select_naics2022[[#This Row],[2022 NAICS Code]]&\":  \"&Select_naics2022[[#This Row],[2022 NAICS Title]]","v":"312111:  Soft Drink Manufacturing "},312111,"Soft Drink Manufacturing ",{"$f":"Select_naics2022[[#This Row],[2022 NAICS Title]]","v":"Soft Drink Manufacturing "},{"$nulls":3},"   ",null,null,"   ",null,null,"   ",null,null,"   ",null,null,"   ",null,null,"   ",null,null,"   ",null,null,"   ",null,null,"   ",null,null,"   "]
[null,"   ",{"$nulls":6},"   ",null,null,"   ",null,null,"   ",null,null,"   ",null,null,"   ",null,null,"   ",{"$nulls":3},"   ",null,null,"   ",null,null,"   ",null,null,"   ",null,null,"   ",null,null,"   ",{"$f":"Select_naics2022[[#This Row],[2022 NAICS Code]]&\":  \"&Select_naics2022[[#This Row],[2022 NAICS Title]]","v":"312112:  Bottled Water Manufacturing "},312112,"Bottled Water Manufacturing ",{"$f":"Select_naics2022[[#This Row],[2022 NAICS Title]]","v":"Bottled Water Manufacturing "},{"$nulls":3},"   ",null,null,"   ",null,null,"   ",null,null,"   ",null,null,"   ",null,null,"   ",null,null,"   ",null,null,"   ",null,null,"   ",null,null,"   "]
[null,"   ",{"$nulls":6},"   ",null,null,"   ",null,null,"   ",null,null,"   ",null,null,"   ",null,null,"   ",{"$nulls":3},"   ",null,null,"   ",null,null,"   ",null,null,"   ",null,null,"   ",null,null,"   ",{"$f":"Select_naics2022[[#This Row],[2022 NAICS Code]]&\":  \"&Select_naics2022[[#This Row],[2022 NAICS Title]]","v":"312113:  Ice Manufacturing "},312113,"Ice Manufacturing ",{"$f":"Select_naics2022[[#This Row],[2022 NAICS Title]]","v":"Ice Manufacturing "},{"$nulls":3},"   ",null,null,"   ",null,null,"   ",null,null,"   ",null,null,"   ",null,null,"   ",null,null,"   ",null,null,"   ",null,null,"   ",null,null,"   "]
[null,"   ",{"$nulls":6},"   ",null,null,"   ",null,null,"   ",null,null,"   ",null,null,"   ",null,null,"   ",{"$nulls":3},"   ",null,null,"   ",null,null,"   ",null,null,"   ",null,null,"   ",null,null,"   ",{"$f":"Select_naics2022[[#This Row],[2022 NAICS Code]]&\":  \"&Select_naics2022[[#This Row],[2022 NAICS Title]]","v":"312120:  Breweries"},312120,"Breweries",{"$f":"Select_naics2022[[#This Row],[2022 NAICS Title]]","v":"Breweries"},{"$nulls":3},"   ",null,null,"   ",null,null,"   ",null,null,"   ",null,null,"   ",null,null,"   ",null,null,"   ",null,null,"   ",null,null,"   ",null,null,"   "]
[null,"   ",{"$nulls":6},"   ",null,null,"   ",null,null,"   ",null,null,"   ",null,null,"   ",null,null,"   ",{"$nulls":3},"   ",null,null,"   ",null,null,"   ",null,null,"   ",null,null,"   ",null,null,"   ",{"$f":"Select_naics2022[[#This Row],[2022 NAICS Code]]&\":  \"&Select_naics2022[[#This Row],[2022 NAICS Title]]","v":"312130:  Wineries "},312130,"Wineries ",{"$f":"Select_naics2022[[#This Row],[2022 NAICS Title]]","v":"Wineries "},{"$nulls":3},"   ",null,null,"   ",null,null,"   ",null,null,"   ",null,null,"   ",null,null,"   ",null,null,"   ",null,null,"   ",null,null,"   ",null,null,"   "]
[null,"   ",{"$nulls":6},"   ",null,null,"   ",null,null,"   ",null,null,"   ",null,null,"   ",null,null,"   ",{"$nulls":3},"   ",null,null,"   ",null,null,"   ",null,null,"   ",null,null,"   ",null,null,"   ",{"$f":"Select_naics2022[[#This Row],[2022 NAICS Code]]&\":  \"&Select_naics2022[[#This Row],[2022 NAICS Title]]","v":"312140:  Distilleries "},312140,"Distilleries ",{"$f":"Select_naics2022[[#This Row],[2022 NAICS Title]]","v":"Distilleries "},{"$nulls":3},"   ",null,null,"   ",null,null,"   ",null,null,"   ",null,null,"   ",null,null,"   ",null,null,"   ",null,null,"   ",null,null,"   ",null,null,"   "]
[null,"   ",{"$nulls":6},"   ",null,null,"   ",null,null,"   ",null,null,"   ",null,null,"   ",null,null,"   ",{"$nulls":3},"   ",null,null,"   ",null,null,"   ",null,null,"   ",null,null,"   ",null,null,"   ",{"$f":"Select_naics2022[[#This Row],[2022 NAICS Code]]&\":  \"&Select_naics2022[[#This Row],[2022 NAICS Title]]","v":"312230:  Tobacco Manufacturing "},312230,"Tobacco Manufacturing ",{"$f":"Select_naics2022[[#This Row],[2022 NAICS Title]]","v":"Tobacco Manufacturing "},{"$nulls":3},"   ",null,null,"   ",null,null,"   ",null,null,"   ",null,null,"   ",null,null,"   ",null,null,"   ",null,null,"   ",null,null,"   ",null,null,"   "]
[null,"   ",{"$nulls":6},"   ",null,null,"   ",null,null,"   ",null,null,"   ",null,null,"   ",null,null,"   ",{"$nulls":3},"   ",null,null,"   ",null,null,"   ",null,null,"   ",null,null,"   ",null,null,"   ",{"$f":"Select_naics2022[[#This Row],[2022 NAICS Code]]&\":  \"&Select_naics2022[[#This Row],[2022 NAICS Title]]","v":"313110:  Fiber, Yarn, and Thread Mills "},313110,"Fiber, Yarn, and Thread Mills ",{"$f":"Select_naics2022[[#This Row],[2022 NAICS Title]]","v":"Fiber, Yarn, and Thread Mills "},{"$nulls":3},"   ",null,null,"   ",null,null,"   ",null,null,"   ",null,null,"   ",null,null,"   ",null,null,"   ",null,null,"   ",null,null,"   ",null,null,"   "]
[null,"   ",{"$nulls":6},"   ",null,null,"   ",null,null,"   ",null,null,"   ",null,null,"   ",null,null,"   ",{"$nulls":3},"   ",null,null,"   ",null,null,"   ",null,null,"   ",null,null,"   ",null,null,"   ",{"$f":"Select_naics2022[[#This Row],[2022 NAICS Code]]&\":  \"&Select_naics2022[[#This Row],[2022 NAICS Title]]","v":"313210:  Broadwoven Fabric Mills"},313210,"Broadwoven Fabric Mills",{"$f":"Select_naics2022[[#This Row],[2022 NAICS Title]]","v":"Broadwoven Fabric Mills"},{"$nulls":3},"   ",null,null,"   ",null,null,"   ",null,null,"   ",null,null,"   ",null,null,"   ",null,null,"   ",null,null,"   ",null,null,"   ",null,null,"   "]
[null,"   ",{"$nulls":6},"   ",null,null,"   ",null,null,"   ",null,null,"   ",null,null,"   ",null,null,"   ",{"$nulls":3},"   ",null,null,"   ",null,null,"   ",null,null,"   ",null,null,"   ",null,null,"   ",{"$f":"Select_naics2022[[#This Row],[2022 NAICS Code]]&\":  \"&Select_naics2022[[#This Row],[2022 NAICS Title]]","v":"313220:  Narrow Fabric Mills and Schiffli Machine Embroidery"},313220,"Narrow Fabric Mills and Schiffli Machine Embroidery",{"$f":"Select_naics2022[[#This Row],[2022 NAICS Title]]","v":"Narrow Fabric Mills and Schiffli Machine Embroidery"},{"$nulls":3},"   ",null,null,"   ",null,null,"   ",null,null,"   ",null,null,"   ",null,null,"   ",null,null,"   ",null,null,"   ",null,null,"   ",null,null,"   "]
[null,"   ",{"$nulls":6},"   ",null,null,"   ",null,null,"   ",null,null,"   ",null,null,"   ",null,null,"   ",{"$nulls":3},"   ",null,null,"   ",null,null,"   ",null,null,"   ",null,null,"   ",null,null,"   ",{"$f":"Select_naics2022[[#This Row],[2022 NAICS Code]]&\":  \"&Select_naics2022[[#This Row],[2022 NAICS Title]]","v":"313230:  Nonwoven Fabric Mills"},313230,"Nonwoven Fabric Mills",{"$f":"Select_naics2022[[#This Row],[2022 NAICS Title]]","v":"Nonwoven Fabric Mills"},{"$nulls":3},"   ",null,null,"   ",null,null,"   ",null,null,"   ",null,null,"   ",null,null,"   ",null,null,"   ",null,null,"   ",null,null,"   ",null,null,"   "]
[null,"   ",{"$nulls":6},"   ",null,null,"   ",null,null,"   ",null,null,"   ",null,null,"   ",null,null,"   ",{"$nulls":3},"   ",null,null,"   ",null,null,"   ",null,null,"   ",null,null,"   ",null,null,"   ",{"$f":"Select_naics2022[[#This Row],[2022 NAICS Code]]&\":  \"&Select_naics2022[[#This Row],[2022 NAICS Title]]","v":"313240:  Knit Fabric Mills"},313240,"Knit Fabric Mills",{"$f":"Select_naics2022[[#This Row],[2022 NAICS Title]]","v":"Knit Fabric Mills"},{"$nulls":3},"   ",null,null,"   ",null,null,"   ",null,null,"   ",null,null,"   ",null,null,"   ",null,null,"   ",null,null,"   ",null,null,"   ",null,null,"   "]
[null,"   ",{"$nulls":6},"   ",null,null,"   ",null,null,"   ",null,null,"   ",null,null,"   ",null,null,"   ",{"$nulls":3},"   ",null,null,"   ",null,null,"   ",null,null,"   ",null,null,"   ",null,null,"   ",{"$f":"Select_naics2022[[#This Row],[2022 NAICS Code]]&\":  \"&Select_naics2022[[#This Row],[2022 NAICS Title]]","v":"313310:  Textile and Fabric Finishing Mills "},313310,"Textile and Fabric Finishing Mills ",{"$f":"Select_naics2022[[#This Row],[2022 NAICS Title]]","v":"Textile and Fabric Finishing Mills "},{"$nulls":3},"   ",null,null,"   ",null,null,"   ",null,null,"   ",null,null,"   ",null,null,"   ",null,null,"   ",null,null,"   ",null,null,"   ",null,null,"   "]
[null,"   ",{"$nulls":6},"   ",null,null,"   ",null,null,"   ",null,null,"   ",null,null,"   ",null,null,"   ",{"$nulls":3},"   ",null,null,"   ",null,null,"   ",null,null,"   ",null,null,"   ",null,null,"   ",{"$f":"Select_naics2022[[#This Row],[2022 NAICS Code]]&\":  \"&Select_naics2022[[#This Row],[2022 NAICS Title]]","v":"313320:  Fabric Coating Mills"},313320,"Fabric Coating Mills",{"$f":"Select_naics2022[[#This Row],[2022 NAICS Title]]","v":"Fabric Coating Mills"},{"$nulls":3},"   ",null,null,"   ",null,null,"   ",null,null,"   ",null,null,"   ",null,null,"   ",null,null,"   ",null,null,"   ",null,null,"   ",null,null,"   "]
[null,"   ",{"$nulls":6},"   ",null,null,"   ",null,null,"   ",null,null,"   ",null,null,"   ",null,null,"   ",{"$nulls":3},"   ",null,null,"   ",null,null,"   ",null,null,"   ",null,null,"   ",null,null,"   ",{"$f":"Select_naics2022[[#This Row],[2022 NAICS Code]]&\":  \"&Select_naics2022[[#This Row],[2022 NAICS Title]]","v":"314110:  Carpet and Rug Mills"},314110,"Carpet and Rug Mills",{"$f":"Select_naics2022[[#This Row],[2022 NAICS Title]]","v":"Carpet and Rug Mills"},{"$nulls":3},"   ",null,null,"   ",null,null,"   ",null,null,"   ",null,null,"   ",null,null,"   ",null,null,"   ",null,null,"   ",null,null,"   ",null,null,"   "]
[null,"   ",{"$nulls":6},"   ",null,null,"   ",null,null,"   ",null,null,"   ",null,null,"   ",null,null,"   ",{"$nulls":3},"   ",null,null,"   ",null,null,"   ",null,null,"   ",null,null,"   ",null,null,"   ",{"$f":"Select_naics2022[[#This Row],[2022 NAICS Code]]&\":  \"&Select_naics2022[[#This Row],[2022 NAICS Title]]","v":"314120:  Curtain and Linen Mills"},314120,"Curtain and Linen Mills",{"$f":"Select_naics2022[[#This Row],[2022 NAICS Title]]","v":"Curtain and Linen Mills"},{"$nulls":3},"   ",null,null,"   ",null,null,"   ",null,null,"   ",null,null,"   ",null,null,"   ",null,null,"   ",null,null,"   ",null,null,"   ",null,null,"   "]
[null,"   ",{"$nulls":6},"   ",null,null,"   ",null,null,"   ",null,null,"   ",null,null,"   ",null,null,"   ",{"$nulls":3},"   ",null,null,"   ",null,null,"   ",null,null,"   ",null,null,"   ",null,null,"   ",{"$f":"Select_naics2022[[#This Row],[2022 NAICS Code]]&\":  \"&Select_naics2022[[#This Row],[2022 NAICS Title]]","v":"314910:  Textile Bag and Canvas Mills "},314910,"Textile Bag and Canvas Mills ",{"$f":"Select_naics2022[[#This Row],[2022 NAICS Title]]","v":"Textile Bag and Canvas Mills "},{"$nulls":3},"   ",null,null,"   ",null,null,"   ",null,null,"   ",null,null,"   ",null,null,"   ",null,null,"   ",null,null,"   ",null,null,"   ",null,null,"   "]
[null,"   ",{"$nulls":6},"   ",null,null,"   ",null,null,"   ",null,null,"   ",null,null,"   ",null,null,"   ",{"$nulls":3},"   ",null,null,"   ",null,null,"   ",null,null,"   ",null,null,"   ",null,null,"   ",{"$f":"Select_naics2022[[#This Row],[2022 NAICS Code]]&\":  \"&Select_naics2022[[#This Row],[2022 NAICS Title]]","v":"314994:  Rope, Cordage, Twine, Tire Cord, and Tire Fabric Mills "},314994,"Rope, Cordage, Twine, Tire Cord, and Tire Fabric Mills ",{"$f":"Select_naics2022[[#This Row],[2022 NAICS Title]]","v":"Rope, Cordage, Twine, Tire Cord, and Tire Fabric Mills "},{"$nulls":3},"   ",null,null,"   ",null,null,"   ",null,null,"   ",null,null,"   ",null,null,"   ",null,null,"   ",null,null,"   ",null,null,"   ",null,null,"   "]
[null,"   ",{"$nulls":6},"   ",null,null,"   ",null,null,"   ",null,null,"   ",null,null,"   ",null,null,"   ",{"$nulls":3},"   ",null,null,"   ",null,null,"   ",null,null,"   ",null,null,"   ",null,null,"   ",{"$f":"Select_naics2022[[#This Row],[2022 NAICS Code]]&\":  \"&Select_naics2022[[#This Row],[2022 NAICS Title]]","v":"314999:  All Other Miscellaneous Textile Product Mills "},314999,"All Other Miscellaneous Textile Product Mills ",{"$f":"Select_naics2022[[#This Row],[2022 NAICS Title]]","v":"All Other Miscellaneous Textile Product Mills "},{"$nulls":3},"   ",null,null,"   ",null,null,"   ",null,null,"   ",null,null,"   ",null,null,"   ",null,null,"   ",null,null,"   ",null,null,"   ",null,null,"   "]
[null,"   ",{"$nulls":6},"   ",null,null,"   ",null,null,"   ",null,null,"   ",null,null,"   ",null,null,"   ",{"$nulls":3},"   ",null,null,"   ",null,null,"   ",null,null,"   ",null,null,"   ",null,null,"   ",{"$f":"Select_naics2022[[#This Row],[2022 NAICS Code]]&\":  \"&Select_naics2022[[#This Row],[2022 NAICS Title]]","v":"315120:  Apparel Knitting Mills"},315120,"Apparel Knitting Mills",{"$f":"Select_naics2022[[#This Row],[2022 NAICS Title]]","v":"Apparel Knitting Mills"},{"$nulls":3},"   ",null,null,"   ",null,null,"   ",null,null,"   ",null,null,"   ",null,null,"   ",null,null,"   ",null,null,"   ",null,null,"   ",null,null,"   "]
[null,"   ",{"$nulls":6},"   ",null,null,"   ",null,null,"   ",null,null,"   ",null,null,"   ",null,null,"   ",{"$nulls":3},"   ",null,null,"   ",null,null,"   ",null,null,"   ",null,null,"   ",null,null,"   ",{"$f":"Select_naics2022[[#This Row],[2022 NAICS Code]]&\":  \"&Select_naics2022[[#This Row],[2022 NAICS Title]]","v":"315210:  Cut and Sew Apparel Contractors "},315210,"Cut and Sew Apparel Contractors ",{"$f":"Select_naics2022[[#This Row],[2022 NAICS Title]]","v":"Cut and Sew Apparel Contractors "},{"$nulls":3},"   ",null,null,"   ",null,null,"   ",null,null,"   ",null,null,"   ",null,null,"   ",null,null,"   ",null,null,"   ",null,null,"   ",null,null,"   "]
[null,"   ",{"$nulls":6},"   ",null,null,"   ",null,null,"   ",null,null,"   ",null,null,"   ",null,null,"   ",{"$nulls":3},"   ",null,null,"   ",null,null,"   ",null,null,"   ",null,null,"   ",null,null,"   ",{"$f":"Select_naics2022[[#This Row],[2022 NAICS Code]]&\":  \"&Select_naics2022[[#This Row],[2022 NAICS Title]]","v":"315250:  Cut and Sew Apparel Manufacturing (except Contractors) "},315250,"Cut and Sew Apparel Manufacturing (except Contractors) ",{"$f":"Select_naics2022[[#This Row],[2022 NAICS Title]]","v":"Cut and Sew Apparel Manufacturing (except Contractors) "},{"$nulls":3},"   ",null,null,"   ",null,null,"   ",null,null,"   ",null,null,"   ",null,null,"   ",null,null,"   ",null,null,"   ",null,null,"   ",null,null,"   "]
[null,"   ",{"$nulls":6},"   ",null,null,"   ",null,null,"   ",null,null,"   ",null,null,"   ",null,null,"   ",{"$nulls":3},"   ",null,null,"   ",null,null,"   ",null,null,"   ",null,null,"   ",null,null,"   ",{"$f":"Select_naics2022[[#This Row],[2022 NAICS Code]]&\":  \"&Select_naics2022[[#This Row],[2022 NAICS Title]]","v":"315990:  Apparel Accessories and Other Apparel Manufacturing "},315990,"Apparel Accessories and Other Apparel Manufacturing ",{"$f":"Select_naics2022[[#This Row],[2022 NAICS Title]]","v":"Apparel Accessories and Other Apparel Manufacturing "},{"$nulls":3},"   ",null,null,"   ",null,null,"   ",null,null,"   ",null,null,"   ",null,null,"   ",null,null,"   ",null,null,"   ",null,null,"   ",null,null,"   "]
[null,"   ",{"$nulls":6},"   ",null,null,"   ",null,null,"   ",null,null,"   ",null,null,"   ",null,null,"   ",{"$nulls":3},"   ",null,null,"   ",null,null,"   ",null,null,"   ",null,null,"   ",null,null,"   ",{"$f":"Select_naics2022[[#This Row],[2022 NAICS Code]]&\":  \"&Select_naics2022[[#This Row],[2022 NAICS Title]]","v":"316110:  Leather and Hide Tanning and Finishing"},316110,"Leather and Hide Tanning and Finishing",{"$f":"Select_naics2022[[#This Row],[2022 NAICS Title]]","v":"Leather and Hide Tanning and Finishing"},{"$nulls":3},"   ",null,null,"   ",null,null,"   ",null,null,"   ",null,null,"   ",null,null,"   ",null,null,"   ",null,null,"   ",null,null,"   ",null,null,"   "]
[null,"   ",{"$nulls":6},"   ",null,null,"   ",null,null,"   ",null,null,"   ",null,null,"   ",null,null,"   ",{"$nulls":3},"   ",null,null,"   ",null,null,"   ",null,null,"   ",null,null,"   ",null,null,"   ",{"$f":"Select_naics2022[[#This Row],[2022 NAICS Code]]&\":  \"&Select_naics2022[[#This Row],[2022 NAICS Title]]","v":"316210:  Footwear Manufacturing "},316210,"Footwear Manufacturing ",{"$f":"Select_naics2022[[#This Row],[2022 NAICS Title]]","v":"Footwear Manufacturing "},{"$nulls":3},"   ",null,null,"   ",null,null,"   ",null,null,"   ",null,null,"   ",null,null,"   ",null,null,"   ",null,null,"   ",null,null,"   ",null,null,"   "]
[null,"   ",{"$nulls":6},"   ",null,null,"   ",null,null,"   ",null,null,"   ",null,null,"   ",null,null,"   ",{"$nulls":3},"   ",null,null,"   ",null,null,"   ",null,null,"   ",null,null,"   ",null,null,"   ",{"$f":"Select_naics2022[[#This Row],[2022 NAICS Code]]&\":  \"&Select_naics2022[[#This Row],[2022 NAICS Title]]","v":"316990:  Other Leather and Allied Product Manufacturing "},316990,"Other Leather and Allied Product Manufacturing ",{"$f":"Select_naics2022[[#This Row],[2022 NAICS Title]]","v":"Other Leather and Allied Product Manufacturing "},{"$nulls":3},"   ",null,null,"   ",null,null,"   ",null,null,"   ",null,null,"   ",null,null,"   ",null,null,"   ",null,null,"   ",null,null,"   ",null,null,"   "]
[null,"   ",{"$nulls":6},"   ",null,null,"   ",null,null,"   ",null,null,"   ",null,null,"   ",null,null,"   ",{"$nulls":3},"   ",null,null,"   ",null,null,"   ",null,null,"   ",null,null,"   ",null,null,"   ",{"$f":"Select_naics2022[[#This Row],[2022 NAICS Code]]&\":  \"&Select_naics2022[[#This Row],[2022 NAICS Title]]","v":"321113:  Sawmills "},321113,"Sawmills ",{"$f":"Select_naics2022[[#This Row],[2022 NAICS Title]]","v":"Sawmills "},{"$nulls":3},"   ",null,null,"   ",null,null,"   ",null,null,"   ",null,null,"   ",null,null,"   ",null,null,"   ",null,null,"   ",null,null,"   ",null,null,"   "]
[null,"   ",{"$nulls":6},"   ",null,null,"   ",null,null,"   ",null,null,"   ",null,null,"   ",null,null,"   ",{"$nulls":3},"   ",null,null,"   ",null,null,"   ",null,null,"   ",null,null,"   ",null,null,"   ",{"$f":"Select_naics2022[[#This Row],[2022 NAICS Code]]&\":  \"&Select_naics2022[[#This Row],[2022 NAICS Title]]","v":"321114:  Wood Preservation "},321114,"Wood Preservation ",{"$f":"Select_naics2022[[#This Row],[2022 NAICS Title]]","v":"Wood Preservation "},{"$nulls":3},"   ",null,null,"   ",null,null,"   ",null,null,"   ",null,null,"   ",null,null,"   ",null,null,"   ",null,null,"   ",null,null,"   ",null,null,"   "]
[null,"   ",{"$nulls":6},"   ",null,null,"   ",null,null,"   ",null,null,"   ",null,null,"   ",null,null,"   ",{"$nulls":3},"   ",null,null,"   ",null,null,"   ",null,null,"   ",null,null,"   ",null,null,"   ",{"$f":"Select_naics2022[[#This Row],[2022 NAICS Code]]&\":  \"&Select_naics2022[[#This Row],[2022 NAICS Title]]","v":"321211:  Hardwood Veneer and Plywood Manufacturing "},321211,"Hardwood Veneer and Plywood Manufacturing ",{"$f":"Select_naics2022[[#This Row],[2022 NAICS Title]]","v":"Hardwood Veneer and Plywood Manufacturing "},{"$nulls":3},"   ",null,null,"   ",null,null,"   ",null,null,"   ",null,null,"   ",null,null,"   ",null,null,"   ",null,null,"   ",null,null,"   ",null,null,"   "]
[null,"   ",{"$nulls":6},"   ",null,null,"   ",null,null,"   ",null,null,"   ",null,null,"   ",null,null,"   ",{"$nulls":3},"   ",null,null,"   ",null,null,"   ",null,null,"   ",null,null,"   ",null,null,"   ",{"$f":"Select_naics2022[[#This Row],[2022 NAICS Code]]&\":  \"&Select_naics2022[[#This Row],[2022 NAICS Title]]","v":"321212:  Softwood Veneer and Plywood Manufacturing "},321212,"Softwood Veneer and Plywood Manufacturing ",{"$f":"Select_naics2022[[#This Row],[2022 NAICS Title]]","v":"Softwood Veneer and Plywood Manufacturing "},{"$nulls":3},"   ",null,null,"   ",null,null,"   ",null,null,"   ",null,null,"   ",null,null,"   ",null,null,"   ",null,null,"   ",null,null,"   ",null,null,"   "]
[null,"   ",{"$nulls":6},"   ",null,null,"   ",null,null,"   ",null,null,"   ",null,null,"   ",null,null,"   ",{"$nulls":3},"   ",null,null,"   ",null,null,"   ",null,null,"   ",null,null,"   ",null,null,"   ",{"$f":"Select_naics2022[[#This Row],[2022 NAICS Code]]&\":  \"&Select_naics2022[[#This Row],[2022 NAICS Title]]","v":"321215:  Engineered Wood Member Manufacturing "},321215,"Engineered Wood Member Manufacturing ",{"$f":"Select_naics2022[[#This Row],[2022 NAICS Title]]","v":"Engineered Wood Member Manufacturing "},{"$nulls":3},"   ",null,null,"   ",null,null,"   ",null,null,"   ",null,null,"   ",null,null,"   ",null,null,"   ",null,null,"   ",null,null,"   ",null,null,"   "]
[null,"   ",{"$nulls":6},"   ",null,null,"   ",null,null,"   ",null,null,"   ",null,null,"   ",null,null,"   ",{"$nulls":3},"   ",null,null,"   ",null,null,"   ",null,null,"   ",null,null,"   ",null,null,"   ",{"$f":"Select_naics2022[[#This Row],[2022 NAICS Code]]&\":  \"&Select_naics2022[[#This Row],[2022 NAICS Title]]","v":"321219:  Reconstituted Wood Product Manufacturing "},321219,"Reconstituted Wood Product Manufacturing ",{"$f":"Select_naics2022[[#This Row],[2022 NAICS Title]]","v":"Reconstituted Wood Product Manufacturing "},{"$nulls":3},"   ",null,null,"   ",null,null,"   ",null,null,"   ",null,null,"   ",null,null,"   ",null,null,"   ",null,null,"   ",null,null,"   ",null,null,"   "]
[null,"   ",{"$nulls":6},"   ",null,null,"   ",null,null,"   ",null,null,"   ",null,null,"   ",null,null,"   ",{"$nulls":3},"   ",null,null,"   ",null,null,"   ",null,null,"   ",null,null,"   ",null,null,"   ",{"$f":"Select_naics2022[[#This Row],[2022 NAICS Code]]&\":  \"&Select_naics2022[[#This Row],[2022 NAICS Title]]","v":"321911:  Wood Window and Door Manufacturing "},321911,"Wood Window and Door Manufacturing ",{"$f":"Select_naics2022[[#This Row],[2022 NAICS Title]]","v":"Wood Window and Door Manufacturing "},{"$nulls":3},"   ",null,null,"   ",null,null,"   ",null,null,"   ",null,null,"   ",null,null,"   ",null,null,"   ",null,null,"   ",null,null,"   ",null,null,"   "]
[null,"   ",{"$nulls":6},"   ",null,null,"   ",null,null,"   ",null,null,"   ",null,null,"   ",null,null,"   ",{"$nulls":3},"   ",null,null,"   ",null,null,"   ",null,null,"   ",null,null,"   ",null,null,"   ",{"$f":"Select_naics2022[[#This Row],[2022 NAICS Code]]&\":  \"&Select_naics2022[[#This Row],[2022 NAICS Title]]","v":"321912:  Cut Stock, Resawing Lumber, and Planing "},321912,"Cut Stock, Resawing Lumber, and Planing ",{"$f":"Select_naics2022[[#This Row],[2022 NAICS Title]]","v":"Cut Stock, Resawing Lumber, and Planing "},{"$nulls":3},"   ",null,null,"   ",null,null,"   ",null,null,"   ",null,null,"   ",null,null,"   ",null,null,"   ",null,null,"   ",null,null,"   ",null,null,"   "]
[null,"   ",{"$nulls":6},"   ",null,null,"   ",null,null,"   ",null,null,"   ",null,null,"   ",null,null,"   ",{"$nulls":3},"   ",null,null,"   ",null,null,"   ",null,null,"   ",null,null,"   ",null,null,"   ",{"$f":"Select_naics2022[[#This Row],[2022 NAICS Code]]&\":  \"&Select_naics2022[[#This Row],[2022 NAICS Title]]","v":"321918:  Other Millwork (including Flooring) "},321918,"Other Millwork (including Flooring) ",{"$f":"Select_naics2022[[#This Row],[2022 NAICS Title]]","v":"Other Millwork (including Flooring) "},{"$nulls":3},"   ",null,null,"   ",null,null,"   ",null,null,"   ",null,null,"   ",null,null,"   ",null,null,"   ",null,null,"   ",null,null,"   ",null,null,"   "]
[null,"   ",{"$nulls":6},"   ",null,null,"   ",null,null,"   ",null,null,"   ",null,null,"   ",null,null,"   ",{"$nulls":3},"   ",null,null,"   ",null,null,"   ",null,null,"   ",null,null,"   ",null,null,"   ",{"$f":"Select_naics2022[[#This Row],[2022 NAICS Code]]&\":  \"&Select_naics2022[[#This Row],[2022 NAICS Title]]","v":"321920:  Wood Container and Pallet Manufacturing"},321920,"Wood Container and Pallet Manufacturing",{"$f":"Select_naics2022[[#This Row],[2022 NAICS Title]]","v":"Wood Container and Pallet Manufacturing"},{"$nulls":3},"   ",null,null,"   ",null,null,"   ",null,null,"   ",null,null,"   ",null,null,"   ",null,null,"   ",null,null,"   ",null,null,"   ",null,null,"   "]
[null,"   ",{"$nulls":6},"   ",null,null,"   ",null,null,"   ",null,null,"   ",null,null,"   ",null,null,"   ",{"$nulls":3},"   ",null,null,"   ",null,null,"   ",null,null,"   ",null,null,"   ",null,null,"   ",{"$f":"Select_naics2022[[#This Row],[2022 NAICS Code]]&\":  \"&Select_naics2022[[#This Row],[2022 NAICS Title]]","v":"321991:  Manufactured Home (Mobile Home) Manufacturing "},321991,"Manufactured Home (Mobile Home) Manufacturing ",{"$f":"Select_naics2022[[#This Row],[2022 NAICS Title]]","v":"Manufactured Home (Mobile Home) Manufacturing "},{"$nulls":3},"   ",null,null,"   ",null,null,"   ",null,null,"   ",null,null,"   ",null,null,"   ",null,null,"   ",null,null,"   ",null,null,"   ",null,null,"   "]
[null,"   ",{"$nulls":6},"   ",null,null,"   ",null,null,"   ",null,null,"   ",null,null,"   ",null,null,"   ",{"$nulls":3},"   ",null,null,"   ",null,null,"   ",null,null,"   ",null,null,"   ",null,null,"   ",{"$f":"Select_naics2022[[#This Row],[2022 NAICS Code]]&\":  \"&Select_naics2022[[#This Row],[2022 NAICS Title]]","v":"321992:  Prefabricated Wood Building Manufacturing "},321992,"Prefabricated Wood Building Manufacturing ",{"$f":"Select_naics2022[[#This Row],[2022 NAICS Title]]","v":"Prefabricated Wood Building Manufacturing "},{"$nulls":3},"   ",null,null,"   ",null,null,"   ",null,null,"   ",null,null,"   ",null,null,"   ",null,null,"   ",null,null,"   ",null,null,"   ",null,null,"   "]
[null,"   ",{"$nulls":6},"   ",null,null,"   ",null,null,"   ",null,null,"   ",null,null,"   ",null,null,"   ",{"$nulls":3},"   ",null,null,"   ",null,null,"   ",null,null,"   ",null,null,"   ",null,null,"   ",{"$f":"Select_naics2022[[#This Row],[2022 NAICS Code]]&\":  \"&Select_naics2022[[#This Row],[2022 NAICS Title]]","v":"321999:  All Other Miscellaneous Wood Product Manufacturing "},321999,"All Other Miscellaneous Wood Product Manufacturing ",{"$f":"Select_naics2022[[#This Row],[2022 NAICS Title]]","v":"All Other Miscellaneous Wood Product Manufacturing "},{"$nulls":3},"   ",null,null,"   ",null,null,"   ",null,null,"   ",null,null,"   ",null,null,"   ",null,null,"   ",null,null,"   ",null,null,"   ",null,null,"   "]
[null,"   ",{"$nulls":6},"   ",null,null,"   ",null,null,"   ",null,null,"   ",null,null,"   ",null,null,"   ",{"$nulls":3},"   ",null,null,"   ",null,null,"   ",null,null,"   ",null,null,"   ",null,null,"   ",{"$f":"Select_naics2022[[#This Row],[2022 NAICS Code]]&\":  \"&Select_naics2022[[#This Row],[2022 NAICS Title]]","v":"322110:  Pulp Mills "},322110,"Pulp Mills ",{"$f":"Select_naics2022[[#This Row],[2022 NAICS Title]]","v":"Pulp Mills "},{"$nulls":3},"   ",null,null,"   ",null,null,"   ",null,null,"   ",null,null,"   ",null,null,"   ",null,null,"   ",null,null,"   ",null,null,"   ",null,null,"   "]
[null,"   ",{"$nulls":6},"   ",null,null,"   ",null,null,"   ",null,null,"   ",null,null,"   ",null,null,"   ",{"$nulls":3},"   ",null,null,"   ",null,null,"   ",null,null,"   ",null,null,"   ",null,null,"   ",{"$f":"Select_naics2022[[#This Row],[2022 NAICS Code]]&\":  \"&Select_naics2022[[#This Row],[2022 NAICS Title]]","v":"322120:  Paper Mills "},322120,"Paper Mills ",{"$f":"Select_naics2022[[#This Row],[2022 NAICS Title]]","v":"Paper Mills "},{"$nulls":3},"   ",null,null,"   ",null,null,"   ",null,null,"   ",null,null,"   ",null,null,"   ",null,null,"   ",null,null,"   ",null,null,"   ",null,null,"   "]
[null,"   ",{"$nulls":6},"   ",null,null,"   ",null,null,"   ",null,null,"   ",null,null,"   ",null,null,"   ",{"$nulls":3},"   ",null,null,"   ",null,null,"   ",null,null,"   ",null,null,"   ",null,null,"   ",{"$f":"Select_naics2022[[#This Row],[2022 NAICS Code]]&\":  \"&Select_naics2022[[#This Row],[2022 NAICS Title]]","v":"322130:  Paperboard Mills "},322130,"Paperboard Mills ",{"$f":"Select_naics2022[[#This Row],[2022 NAICS Title]]","v":"Paperboard Mills "},{"$nulls":3},"   ",null,null,"   ",null,null,"   ",null,null,"   ",null,null,"   ",null,null,"   ",null,null,"   ",null,null,"   ",null,null,"   ",null,null,"   "]
[null,"   ",{"$nulls":6},"   ",null,null,"   ",null,null,"   ",null,null,"   ",null,null,"   ",null,null,"   ",{"$nulls":3},"   ",null,null,"   ",null,null,"   ",null,null,"   ",null,null,"   ",null,null,"   ",{"$f":"Select_naics2022[[#This Row],[2022 NAICS Code]]&\":  \"&Select_naics2022[[#This Row],[2022 NAICS Title]]","v":"322211:  Corrugated and Solid Fiber Box Manufacturing "},322211,"Corrugated and Solid Fiber Box Manufacturing ",{"$f":"Select_naics2022[[#This Row],[2022 NAICS Title]]","v":"Corrugated and Solid Fiber Box Manufacturing "},{"$nulls":3},"   ",null,null,"   ",null,null,"   ",null,null,"   ",null,null,"   ",null,null,"   ",null,null,"   ",null,null,"   ",null,null,"   ",null,null,"   "]
[null,"   ",{"$nulls":6},"   ",null,null,"   ",null,null,"   ",null,null,"   ",null,null,"   ",null,null,"   ",{"$nulls":3},"   ",null,null,"   ",null,null,"   ",null,null,"   ",null,null,"   ",null,null,"   ",{"$f":"Select_naics2022[[#This Row],[2022 NAICS Code]]&\":  \"&Select_naics2022[[#This Row],[2022 NAICS Title]]","v":"322212:  Folding Paperboard Box Manufacturing "},322212,"Folding Paperboard Box Manufacturing ",{"$f":"Select_naics2022[[#This Row],[2022 NAICS Title]]","v":"Folding Paperboard Box Manufacturing "},{"$nulls":3},"   ",null,null,"   ",null,null,"   ",null,null,"   ",null,null,"   ",null,null,"   ",null,null,"   ",null,null,"   ",null,null,"   ",null,null,"   "]
[null,"   ",{"$nulls":6},"   ",null,null,"   ",null,null,"   ",null,null,"   ",null,null,"   ",null,null,"   ",{"$nulls":3},"   ",null,null,"   ",null,null,"   ",null,null,"   ",null,null,"   ",null,null,"   ",{"$f":"Select_naics2022[[#This Row],[2022 NAICS Code]]&\":  \"&Select_naics2022[[#This Row],[2022 NAICS Title]]","v":"322219:  Other Paperboard Container Manufacturing "},322219,"Other Paperboard Container Manufacturing ",{"$f":"Select_naics2022[[#This Row],[2022 NAICS Title]]","v":"Other Paperboard Container Manufacturing "},{"$nulls":3},"   ",null,null,"   ",null,null,"   ",null,null,"   ",null,null,"   ",null,null,"   ",null,null,"   ",null,null,"   ",null,null,"   ",null,null,"   "]
[null,"   ",{"$nulls":6},"   ",null,null,"   ",null,null,"   ",null,null,"   ",null,null,"   ",null,null,"   ",{"$nulls":3},"   ",null,null,"   ",null,null,"   ",null,null,"   ",null,null,"   ",null,null,"   ",{"$f":"Select_naics2022[[#This Row],[2022 NAICS Code]]&\":  \"&Select_naics2022[[#This Row],[2022 NAICS Title]]","v":"322220:  Paper Bag and Coated and Treated Paper Manufacturing"},322220,"Paper Bag and Coated and Treated Paper Manufacturing",{"$f":"Select_naics2022[[#This Row],[2022 NAICS Title]]","v":"Paper Bag and Coated and Treated Paper Manufacturing"},{"$nulls":3},"   ",null,null,"   ",null,null,"   ",null,null,"   ",null,null,"   ",null,null,"   ",null,null,"   ",null,null,"   ",null,null,"   ",null,null,"   "]
[null,"   ",{"$nulls":6},"   ",null,null,"   ",null,null,"   ",null,null,"   ",null,null,"   ",null,null,"   ",{"$nulls":3},"   ",null,null,"   ",null,null,"   ",null,null,"   ",null,null,"   ",null,null,"   ",{"$f":"Select_naics2022[[#This Row],[2022 NAICS Code]]&\":  \"&Select_naics2022[[#This Row],[2022 NAICS Title]]","v":"322230:  Stationery Product Manufacturing"},322230,"Stationery Product Manufacturing",{"$f":"Select_naics2022[[#This Row],[2022 NAICS Title]]","v":"Stationery Product Manufacturing"},{"$nulls":3},"   ",null,null,"   ",null,null,"   ",null,null,"   ",null,null,"   ",null,null,"   ",null,null,"   ",null,null,"   ",null,null,"   ",null,null,"   "]
[null,"   ",{"$nulls":6},"   ",null,null,"   ",null,null,"   ",null,null,"   ",null,null,"   ",null,null,"   ",{"$nulls":3},"   ",null,null,"   ",null,null,"   ",null,null,"   ",null,null,"   ",null,null,"   ",{"$f":"Select_naics2022[[#This Row],[2022 NAICS Code]]&\":  \"&Select_naics2022[[#This Row],[2022 NAICS Title]]","v":"322291:  Sanitary Paper Product Manufacturing "},322291,"Sanitary Paper Product Manufacturing ",{"$f":"Select_naics2022[[#This Row],[2022 NAICS Title]]","v":"Sanitary Paper Product Manufacturing "},{"$nulls":3},"   ",null,null,"   ",null,null,"   ",null,null,"   ",null,null,"   ",null,null,"   ",null,null,"   ",null,null,"   ",null,null,"   ",null,null,"   "]
[null,"   ",{"$nulls":6},"   ",null,null,"   ",null,null,"   ",null,null,"   ",null,null,"   ",null,null,"   ",{"$nulls":3},"   ",null,null,"   ",null,null,"   ",null,null,"   ",null,null,"   ",null,null,"   ",{"$f":"Select_naics2022[[#This Row],[2022 NAICS Code]]&\":  \"&Select_naics2022[[#This Row],[2022 NAICS Title]]","v":"322299:  All Other Converted Paper Product Manufacturing "},322299,"All Other Converted Paper Product Manufacturing ",{"$f":"Select_naics2022[[#This Row],[2022 NAICS Title]]","v":"All Other Converted Paper Product Manufacturing "},{"$nulls":3},"   ",null,null,"   ",null,null,"   ",null,null,"   ",null,null,"   ",null,null,"   ",null,null,"   ",null,null,"   ",null,null,"   ",null,null,"   "]
[null,"   ",{"$nulls":6},"   ",null,null,"   ",null,null,"   ",null,null,"   ",null,null,"   ",null,null,"   ",{"$nulls":3},"   ",null,null,"   ",null,null,"   ",null,null,"   ",null,null,"   ",null,null,"   ",{"$f":"Select_naics2022[[#This Row],[2022 NAICS Code]]&\":  \"&Select_naics2022[[#This Row],[2022 NAICS Title]]","v":"323111:  Commercial Printing (except Screen and Books) "},323111,"Commercial Printing (except Screen and Books) ",{"$f":"Select_naics2022[[#This Row],[2022 NAICS Title]]","v":"Commercial Printing (except Screen and Books) "},{"$nulls":3},"   ",null,null,"   ",null,null,"   ",null,null,"   ",null,null,"   ",null,null,"   ",null,null,"   ",null,null,"   ",null,null,"   ",null,null,"   "]
[null,"   ",{"$nulls":6},"   ",null,null,"   ",null,null,"   ",null,null,"   ",null,null,"   ",null,null,"   ",{"$nulls":3},"   ",null,null,"   ",null,null,"   ",null,null,"   ",null,null,"   ",null,null,"   ",{"$f":"Select_naics2022[[#This Row],[2022 NAICS Code]]&\":  \"&Select_naics2022[[#This Row],[2022 NAICS Title]]","v":"323113:  Commercial Screen Printing "},323113,"Commercial Screen Printing ",{"$f":"Select_naics2022[[#This Row],[2022 NAICS Title]]","v":"Commercial Screen Printing "},{"$nulls":3},"   ",null,null,"   ",null,null,"   ",null,null,"   ",null,null,"   ",null,null,"   ",null,null,"   ",null,null,"   ",null,null,"   ",null,null,"   "]
[null,"   ",{"$nulls":6},"   ",null,null,"   ",null,null,"   ",null,null,"   ",null,null,"   ",null,null,"   ",{"$nulls":3},"   ",null,null,"   ",null,null,"   ",null,null,"   ",null,null,"   ",null,null,"   ",{"$f":"Select_naics2022[[#This Row],[2022 NAICS Code]]&\":  \"&Select_naics2022[[#This Row],[2022 NAICS Title]]","v":"323117:  Books Printing "},323117,"Books Printing ",{"$f":"Select_naics2022[[#This Row],[2022 NAICS Title]]","v":"Books Printing "},{"$nulls":3},"   ",null,null,"   ",null,null,"   ",null,null,"   ",null,null,"   ",null,null,"   ",null,null,"   ",null,null,"   ",null,null,"   ",null,null,"   "]
[null,"   ",{"$nulls":6},"   ",null,null,"   ",null,null,"   ",null,null,"   ",null,null,"   ",null,null,"   ",{"$nulls":3},"   ",null,null,"   ",null,null,"   ",null,null,"   ",null,null,"   ",null,null,"   ",{"$f":"Select_naics2022[[#This Row],[2022 NAICS Code]]&\":  \"&Select_naics2022[[#This Row],[2022 NAICS Title]]","v":"323120:  Support Activities for Printing"},323120,"Support Activities for Printing",{"$f":"Select_naics2022[[#This Row],[2022 NAICS Title]]","v":"Support Activities for Printing"},{"$nulls":3},"   ",null,null,"   ",null,null,"   ",null,null,"   ",null,null,"   ",null,null,"   ",null,null,"   ",null,null,"   ",null,null,"   ",null,null,"   "]
[null,"   ",{"$nulls":6},"   ",null,null,"   ",null,null,"   ",null,null,"   ",null,null,"   ",null,null,"   ",{"$nulls":3},"   ",null,null,"   ",null,null,"   ",null,null,"   ",null,null,"   ",null,null,"   ",{"$f":"Select_naics2022[[#This Row],[2022 NAICS Code]]&\":  \"&Select_naics2022[[#This Row],[2022 NAICS Title]]","v":"324110:  Petroleum Refineries"},324110,"Petroleum Refineries",{"$f":"Select_naics2022[[#This Row],[2022 NAICS Title]]","v":"Petroleum Refineries"},{"$nulls":3},"   ",null,null,"   ",null,null,"   ",null,null,"   ",null,null,"   ",null,null,"   ",null,null,"   ",null,null,"   ",null,null,"   ",null,null,"   "]
[null,"   ",{"$nulls":6},"   ",null,null,"   ",null,null,"   ",null,null,"   ",null,null,"   ",null,null,"   ",{"$nulls":3},"   ",null,null,"   ",null,null,"   ",null,null,"   ",null,null,"   ",null,null,"   ",{"$f":"Select_naics2022[[#This Row],[2022 NAICS Code]]&\":  \"&Select_naics2022[[#This Row],[2022 NAICS Title]]","v":"324121:  Asphalt Paving Mixture and Block Manufacturing "},324121,"Asphalt Paving Mixture and Block Manufacturing ",{"$f":"Select_naics2022[[#This Row],[2022 NAICS Title]]","v":"Asphalt Paving Mixture and Block Manufacturing "},{"$nulls":3},"   ",null,null,"   ",null,null,"   ",null,null,"   ",null,null,"   ",null,null,"   ",null,null,"   ",null,null,"   ",null,null,"   ",null,null,"   "]
[null,"   ",{"$nulls":6},"   ",null,null,"   ",null,null,"   ",null,null,"   ",null,null,"   ",null,null,"   ",{"$nulls":3},"   ",null,null,"   ",null,null,"   ",null,null,"   ",null,null,"   ",null,null,"   ",{"$f":"Select_naics2022[[#This Row],[2022 NAICS Code]]&\":  \"&Select_naics2022[[#This Row],[2022 NAICS Title]]","v":"324122:  Asphalt Shingle and Coating Materials Manufacturing "},324122,"Asphalt Shingle and Coating Materials Manufacturing ",{"$f":"Select_naics2022[[#This Row],[2022 NAICS Title]]","v":"Asphalt Shingle and Coating Materials Manufacturing "},{"$nulls":3},"   ",null,null,"   ",null,null,"   ",null,null,"   ",null,null,"   ",null,null,"   ",null,null,"   ",null,null,"   ",null,null,"   ",null,null,"   "]
[null,"   ",{"$nulls":6},"   ",null,null,"   ",null,null,"   ",null,null,"   ",null,null,"   ",null,null,"   ",{"$nulls":3},"   ",null,null,"   ",null,null,"   ",null,null,"   ",null,null,"   ",null,null,"   ",{"$f":"Select_naics2022[[#This Row],[2022 NAICS Code]]&\":  \"&Select_naics2022[[#This Row],[2022 NAICS Title]]","v":"324191:  Petroleum Lubricating Oil and Grease Manufacturing "},324191,"Petroleum Lubricating Oil and Grease Manufacturing ",{"$f":"Select_naics2022[[#This Row],[2022 NAICS Title]]","v":"Petroleum Lubricating Oil and Grease Manufacturing "},{"$nulls":3},"   ",null,null,"   ",null,null,"   ",null,null,"   ",null,null,"   ",null,null,"   ",null,null,"   ",null,null,"   ",null,null,"   ",null,null,"   "]
[null,"   ",{"$nulls":6},"   ",null,null,"   ",null,null,"   ",null,null,"   ",null,null,"   ",null,null,"   ",{"$nulls":3},"   ",null,null,"   ",null,null,"   ",null,null,"   ",null,null,"   ",null,null,"   ",{"$f":"Select_naics2022[[#This Row],[2022 NAICS Code]]&\":  \"&Select_naics2022[[#This Row],[2022 NAICS Title]]","v":"324199:  All Other Petroleum and Coal Products Manufacturing "},324199,"All Other Petroleum and Coal Products Manufacturing ",{"$f":"Select_naics2022[[#This Row],[2022 NAICS Title]]","v":"All Other Petroleum and Coal Products Manufacturing "},{"$nulls":3},"   ",null,null,"   ",null,null,"   ",null,null,"   ",null,null,"   ",null,null,"   ",null,null,"   ",null,null,"   ",null,null,"   ",null,null,"   "]
[null,"   ",{"$nulls":6},"   ",null,null,"   ",null,null,"   ",null,null,"   ",null,null,"   ",null,null,"   ",{"$nulls":3},"   ",null,null,"   ",null,null,"   ",null,null,"   ",null,null,"   ",null,null,"   ",{"$f":"Select_naics2022[[#This Row],[2022 NAICS Code]]&\":  \"&Select_naics2022[[#This Row],[2022 NAICS Title]]","v":"325110:  Petrochemical Manufacturing"},325110,"Petrochemical Manufacturing",{"$f":"Select_naics2022[[#This Row],[2022 NAICS Title]]","v":"Petrochemical Manufacturing"},{"$nulls":3},"   ",null,null,"   ",null,null,"   ",null,null,"   ",null,null,"   ",null,null,"   ",null,null,"   ",null,null,"   ",null,null,"   ",null,null,"   "]
[null,"   ",{"$nulls":6},"   ",null,null,"   ",null,null,"   ",null,null,"   ",null,null,"   ",null,null,"   ",{"$nulls":3},"   ",null,null,"   ",null,null,"   ",null,null,"   ",null,null,"   ",null,null,"   ",{"$f":"Select_naics2022[[#This Row],[2022 NAICS Code]]&\":  \"&Select_naics2022[[#This Row],[2022 NAICS Title]]","v":"325120:  Industrial Gas Manufacturing"},325120,"Industrial Gas Manufacturing",{"$f":"Select_naics2022[[#This Row],[2022 NAICS Title]]","v":"Industrial Gas Manufacturing"},{"$nulls":3},"   ",null,null,"   ",null,null,"   ",null,null,"   ",null,null,"   ",null,null,"   ",null,null,"   ",null,null,"   ",null,null,"   ",null,null,"   "]
[null,"   ",{"$nulls":6},"   ",null,null,"   ",null,null,"   ",null,null,"   ",null,null,"   ",null,null,"   ",{"$nulls":3},"   ",null,null,"   ",null,null,"   ",null,null,"   ",null,null,"   ",null,null,"   ",{"$f":"Select_naics2022[[#This Row],[2022 NAICS Code]]&\":  \"&Select_naics2022[[#This Row],[2022 NAICS Title]]","v":"325130:  Synthetic Dye and Pigment Manufacturing"},325130,"Synthetic Dye and Pigment Manufacturing",{"$f":"Select_naics2022[[#This Row],[2022 NAICS Title]]","v":"Synthetic Dye and Pigment Manufacturing"},{"$nulls":3},"   ",null,null,"   ",null,null,"   ",null,null,"   ",null,null,"   ",null,null,"   ",null,null,"   ",null,null,"   ",null,null,"   ",null,null,"   "]
[null,"   ",{"$nulls":6},"   ",null,null,"   ",null,null,"   ",null,null,"   ",null,null,"   ",null,null,"   ",{"$nulls":3},"   ",null,null,"   ",null,null,"   ",null,null,"   ",null,null,"   ",null,null,"   ",{"$f":"Select_naics2022[[#This Row],[2022 NAICS Code]]&\":  \"&Select_naics2022[[#This Row],[2022 NAICS Title]]","v":"325180:  Other Basic Inorganic Chemical Manufacturing "},325180,"Other Basic Inorganic Chemical Manufacturing ",{"$f":"Select_naics2022[[#This Row],[2022 NAICS Title]]","v":"Other Basic Inorganic Chemical Manufacturing "},{"$nulls":3},"   ",null,null,"   ",null,null,"   ",null,null,"   ",null,null,"   ",null,null,"   ",null,null,"   ",null,null,"   ",null,null,"   ",null,null,"   "]
[{"$nulls":23},"   ",{"$nulls":19},{"$f":"Select_naics2022[[#This Row],[2022 NAICS Code]]&\":  \"&Select_naics2022[[#This Row],[2022 NAICS Title]]","v":"325193:  Ethyl Alcohol Manufacturing "},325193,"Ethyl Alcohol Manufacturing ",{"$f":"Select_naics2022[[#This Row],[2022 NAICS Title]]","v":"Ethyl Alcohol Manufacturing "}]
[{"$nulls":23},"   ",{"$nulls":19},{"$f":"Select_naics2022[[#This Row],[2022 NAICS Code]]&\":  \"&Select_naics2022[[#This Row],[2022 NAICS Title]]","v":"325194:  Cyclic Crude, Intermediate, and Gum and Wood Chemical Manufacturing "},325194,"Cyclic Crude, Intermediate, and Gum and Wood Chemical Manufacturing ",{"$f":"Select_naics2022[[#This Row],[2022 NAICS Title]]","v":"Cyclic Crude, Intermediate, and Gum and Wood Chemical Manufacturing "}]
[{"$nulls":23},"   ",{"$nulls":19},{"$f":"Select_naics2022[[#This Row],[2022 NAICS Code]]&\":  \"&Select_naics2022[[#This Row],[2022 NAICS Title]]","v":"325199:  All Other Basic Organic Chemical Manufacturing "},325199,"All Other Basic Organic Chemical Manufacturing ",{"$f":"Select_naics2022[[#This Row],[2022 NAICS Title]]","v":"All Other Basic Organic Chemical Manufacturing "}]
[{"$nulls":23},"   ",{"$nulls":19},{"$f":"Select_naics2022[[#This Row],[2022 NAICS Code]]&\":  \"&Select_naics2022[[#This Row],[2022 NAICS Title]]","v":"325211:  Plastics Material and Resin Manufacturing "},325211,"Plastics Material and Resin Manufacturing ",{"$f":"Select_naics2022[[#This Row],[2022 NAICS Title]]","v":"Plastics Material and Resin Manufacturing "}]
[{"$nulls":23},"   ",{"$nulls":19},{"$f":"Select_naics2022[[#This Row],[2022 NAICS Code]]&\":  \"&Select_naics2022[[#This Row],[2022 NAICS Title]]","v":"325212:  Synthetic Rubber Manufacturing "},325212,"Synthetic Rubber Manufacturing ",{"$f":"Select_naics2022[[#This Row],[2022 NAICS Title]]","v":"Synthetic Rubber Manufacturing "}]
[{"$nulls":23},"   ",{"$nulls":19},{"$f":"Select_naics2022[[#This Row],[2022 NAICS Code]]&\":  \"&Select_naics2022[[#This Row],[2022 NAICS Title]]","v":"325220:  Artificial and Synthetic Fibers and Filaments Manufacturing"},325220,"Artificial and Synthetic Fibers and Filaments Manufacturing",{"$f":"Select_naics2022[[#This Row],[2022 NAICS Title]]","v":"Artificial and Synthetic Fibers and Filaments Manufacturing"}]
[{"$nulls":23},"   ",{"$nulls":19},{"$f":"Select_naics2022[[#This Row],[2022 NAICS Code]]&\":  \"&Select_naics2022[[#This Row],[2022 NAICS Title]]","v":"325311:  Nitrogenous Fertilizer Manufacturing "},325311,"Nitrogenous Fertilizer Manufacturing ",{"$f":"Select_naics2022[[#This Row],[2022 NAICS Title]]","v":"Nitrogenous Fertilizer Manufacturing "}]
[{"$nulls":23},"   ",{"$nulls":19},{"$f":"Select_naics2022[[#This Row],[2022 NAICS Code]]&\":  \"&Select_naics2022[[#This Row],[2022 NAICS Title]]","v":"325312:  Phosphatic Fertilizer Manufacturing "},325312,"Phosphatic Fertilizer Manufacturing ",{"$f":"Select_naics2022[[#This Row],[2022 NAICS Title]]","v":"Phosphatic Fertilizer Manufacturing "}]
[{"$nulls":23},"   ",{"$nulls":19},{"$f":"Select_naics2022[[#This Row],[2022 NAICS Code]]&\":  \"&Select_naics2022[[#This Row],[2022 NAICS Title]]","v":"325314:  Fertilizer (Mixing Only) Manufacturing "},325314,"Fertilizer (Mixing Only) Manufacturing ",{"$f":"Select_naics2022[[#This Row],[2022 NAICS Title]]","v":"Fertilizer (Mixing Only) Manufacturing "}]
[{"$nulls":43},{"$f":"Select_naics2022[[#This Row],[2022 NAICS Code]]&\":  \"&Select_naics2022[[#This Row],[2022 NAICS Title]]","v":"325315:  Compost Manufacturing"},325315,"Compost Manufacturing",{"$f":"Select_naics2022[[#This Row],[2022 NAICS Title]]","v":"Compost Manufacturing"}]
[{"$nulls":43},{"$f":"Select_naics2022[[#This Row],[2022 NAICS Code]]&\":  \"&Select_naics2022[[#This Row],[2022 NAICS Title]]","v":"325320:  Pesticide and Other Agricultural Chemical Manufacturing"},325320,"Pesticide and Other Agricultural Chemical Manufacturing",{"$f":"Select_naics2022[[#This Row],[2022 NAICS Title]]","v":"Pesticide and Other Agricultural Chemical Manufacturing"}]
[{"$nulls":43},{"$f":"Select_naics2022[[#This Row],[2022 NAICS Code]]&\":  \"&Select_naics2022[[#This Row],[2022 NAICS Title]]","v":"325411:  Medicinal and Botanical Manufacturing "},325411,"Medicinal and Botanical Manufacturing ",{"$f":"Select_naics2022[[#This Row],[2022 NAICS Title]]","v":"Medicinal and Botanical Manufacturing "}]
[{"$nulls":43},{"$f":"Select_naics2022[[#This Row],[2022 NAICS Code]]&\":  \"&Select_naics2022[[#This Row],[2022 NAICS Title]]","v":"325412:  Pharmaceutical Preparation Manufacturing "},325412,"Pharmaceutical Preparation Manufacturing ",{"$f":"Select_naics2022[[#This Row],[2022 NAICS Title]]","v":"Pharmaceutical Preparation Manufacturing "}]
[{"$nulls":43},{"$f":"Select_naics2022[[#This Row],[2022 NAICS Code]]&\":  \"&Select_naics2022[[#This Row],[2022 NAICS Title]]","v":"325413:  In-Vitro Diagnostic Substance Manufacturing "},325413,"In-Vitro Diagnostic Substance Manufacturing ",{"$f":"Select_naics2022[[#This Row],[2022 NAICS Title]]","v":"In-Vitro Diagnostic Substance Manufacturing "}]
[{"$nulls":43},{"$f":"Select_naics2022[[#This Row],[2022 NAICS Code]]&\":  \"&Select_naics2022[[#This Row],[2022 NAICS Title]]","v":"325414:  Biological Product (except Diagnostic) Manufacturing "},325414,"Biological Product (except Diagnostic) Manufacturing ",{"$f":"Select_naics2022[[#This Row],[2022 NAICS Title]]","v":"Biological Product (except Diagnostic) Manufacturing "}]
[{"$nulls":43},{"$f":"Select_naics2022[[#This Row],[2022 NAICS Code]]&\":  \"&Select_naics2022[[#This Row],[2022 NAICS Title]]","v":"325510:  Paint and Coating Manufacturing"},325510,"Paint and Coating Manufacturing",{"$f":"Select_naics2022[[#This Row],[2022 NAICS Title]]","v":"Paint and Coating Manufacturing"}]
[{"$nulls":43},{"$f":"Select_naics2022[[#This Row],[2022 NAICS Code]]&\":  \"&Select_naics2022[[#This Row],[2022 NAICS Title]]","v":"325520:  Adhesive Manufacturing"},325520,"Adhesive Manufacturing",{"$f":"Select_naics2022[[#This Row],[2022 NAICS Title]]","v":"Adhesive Manufacturing"}]
[{"$nulls":43},{"$f":"Select_naics2022[[#This Row],[2022 NAICS Code]]&\":  \"&Select_naics2022[[#This Row],[2022 NAICS Title]]","v":"325611:  Soap and Other Detergent Manufacturing "},325611,"Soap and Other Detergent Manufacturing ",{"$f":"Select_naics2022[[#This Row],[2022 NAICS Title]]","v":"Soap and Other Detergent Manufacturing "}]
[{"$nulls":43},{"$f":"Select_naics2022[[#This Row],[2022 NAICS Code]]&\":  \"&Select_naics2022[[#This Row],[2022 NAICS Title]]","v":"325612:  Polish and Other Sanitation Good Manufacturing "},325612,"Polish and Other Sanitation Good Manufacturing ",{"$f":"Select_naics2022[[#This Row],[2022 NAICS Title]]","v":"Polish and Other Sanitation Good Manufacturing "}]
[{"$nulls":43},{"$f":"Select_naics2022[[#This Row],[2022 NAICS Code]]&\":  \"&Select_naics2022[[#This Row],[2022 NAICS Title]]","v":"325613:  Surface Active Agent Manufacturing "},325613,"Surface Active Agent Manufacturing ",{"$f":"Select_naics2022[[#This Row],[2022 NAICS Title]]","v":"Surface Active Agent Manufacturing "}]
[{"$nulls":43},{"$f":"Select_naics2022[[#This Row],[2022 NAICS Code]]&\":  \"&Select_naics2022[[#This Row],[2022 NAICS Title]]","v":"325620:  Toilet Preparation Manufacturing"},325620,"Toilet Preparation Manufacturing",{"$f":"Select_naics2022[[#This Row],[2022 NAICS Title]]","v":"Toilet Preparation Manufacturing"}]
[{"$nulls":43},{"$f":"Select_naics2022[[#This Row],[2022 NAICS Code]]&\":  \"&Select_naics2022[[#This Row],[2022 NAICS Title]]","v":"325910:  Printing Ink Manufacturing"},325910,"Printing Ink Manufacturing",{"$f":"Select_naics2022[[#This Row],[2022 NAICS Title]]","v":"Printing Ink Manufacturing"}]
[{"$nulls":43},{"$f":"Select_naics2022[[#This Row],[2022 NAICS Code]]&\":  \"&Select_naics2022[[#This Row],[2022 NAICS Title]]","v":"325920:  Explosives Manufacturing"},325920,"Explosives Manufacturing",{"$f":"Select_naics2022[[#This Row],[2022 NAICS Title]]","v":"Explosives Manufacturing"}]
[{"$nulls":43},{"$f":"Select_naics2022[[#This Row],[2022 NAICS Code]]&\":  \"&Select_naics2022[[#This Row],[2022 NAICS Title]]","v":"325991:  Custom Compounding of Purchased Resins "},325991,"Custom Compounding of Purchased Resins ",{"$f":"Select_naics2022[[#This Row],[2022 NAICS Title]]","v":"Custom Compounding of Purchased Resins "}]
[{"$nulls":43},{"$f":"Select_naics2022[[#This Row],[2022 NAICS Code]]&\":  \"&Select_naics2022[[#This Row],[2022 NAICS Title]]","v":"325992:  Photographic Film, Paper, Plate, Chemical, and Copy Toner Manufacturing "},325992,"Photographic Film, Paper, Plate, Chemical, and Copy Toner Manufacturing ",{"$f":"Select_naics2022[[#This Row],[2022 NAICS Title]]","v":"Photographic Film, Paper, Plate, Chemical, and Copy Toner Manufacturing "}]
[{"$nulls":43},{"$f":"Select_naics2022[[#This Row],[2022 NAICS Code]]&\":  \"&Select_naics2022[[#This Row],[2022 NAICS Title]]","v":"325998:  All Other Miscellaneous Chemical Product and Preparation Manufacturing "},325998,"All Other Miscellaneous Chemical Product and Preparation Manufacturing ",{"$f":"Select_naics2022[[#This Row],[2022 NAICS Title]]","v":"All Other Miscellaneous Chemical Product and Preparation Manufacturing "}]
[{"$nulls":43},{"$f":"Select_naics2022[[#This Row],[2022 NAICS Code]]&\":  \"&Select_naics2022[[#This Row],[2022 NAICS Title]]","v":"326111:  Plastics Bag and Pouch Manufacturing "},326111,"Plastics Bag and Pouch Manufacturing ",{"$f":"Select_naics2022[[#This Row],[2022 NAICS Title]]","v":"Plastics Bag and Pouch Manufacturing "}]
[{"$nulls":43},{"$f":"Select_naics2022[[#This Row],[2022 NAICS Code]]&\":  \"&Select_naics2022[[#This Row],[2022 NAICS Title]]","v":"326112:  Plastics Packaging Film and Sheet (including Laminated) Manufacturing "},326112,"Plastics Packaging Film and Sheet (including Laminated) Manufacturing ",{"$f":"Select_naics2022[[#This Row],[2022 NAICS Title]]","v":"Plastics Packaging Film and Sheet (including Laminated) Manufacturing "}]
[{"$nulls":43},{"$f":"Select_naics2022[[#This Row],[2022 NAICS Code]]&\":  \"&Select_naics2022[[#This Row],[2022 NAICS Title]]","v":"326113:  Unlaminated Plastics Film and Sheet (except Packaging) Manufacturing "},326113,"Unlaminated Plastics Film and Sheet (except Packaging) Manufacturing ",{"$f":"Select_naics2022[[#This Row],[2022 NAICS Title]]","v":"Unlaminated Plastics Film and Sheet (except Packaging) Manufacturing "}]
[{"$nulls":43},{"$f":"Select_naics2022[[#This Row],[2022 NAICS Code]]&\":  \"&Select_naics2022[[#This Row],[2022 NAICS Title]]","v":"326121:  Unlaminated Plastics Profile Shape Manufacturing "},326121,"Unlaminated Plastics Profile Shape Manufacturing ",{"$f":"Select_naics2022[[#This Row],[2022 NAICS Title]]","v":"Unlaminated Plastics Profile Shape Manufacturing "}]
[{"$nulls":43},{"$f":"Select_naics2022[[#This Row],[2022 NAICS Code]]&\":  \"&Select_naics2022[[#This Row],[2022 NAICS Title]]","v":"326122:  Plastics Pipe and Pipe Fitting Manufacturing "},326122,"Plastics Pipe and Pipe Fitting Manufacturing ",{"$f":"Select_naics2022[[#This Row],[2022 NAICS Title]]","v":"Plastics Pipe and Pipe Fitting Manufacturing "}]
[{"$nulls":43},{"$f":"Select_naics2022[[#This Row],[2022 NAICS Code]]&\":  \"&Select_naics2022[[#This Row],[2022 NAICS Title]]","v":"326130:  Laminated Plastics Plate, Sheet (except Packaging), and Shape Manufacturing"},326130,"Laminated Plastics Plate, Sheet (except Packaging), and Shape Manufacturing",{"$f":"Select_naics2022[[#This Row],[2022 NAICS Title]]","v":"Laminated Plastics Plate, Sheet (except Packaging), and Shape Manufacturing"}]
[{"$nulls":43},{"$f":"Select_naics2022[[#This Row],[2022 NAICS Code]]&\":  \"&Select_naics2022[[#This Row],[2022 NAICS Title]]","v":"326140:  Polystyrene Foam Product Manufacturing"},326140,"Polystyrene Foam Product Manufacturing",{"$f":"Select_naics2022[[#This Row],[2022 NAICS Title]]","v":"Polystyrene Foam Product Manufacturing"}]
[{"$nulls":43},{"$f":"Select_naics2022[[#This Row],[2022 NAICS Code]]&\":  \"&Select_naics2022[[#This Row],[2022 NAICS Title]]","v":"326150:  Urethane and Other Foam Product (except Polystyrene) Manufacturing"},326150,"Urethane and Other Foam Product (except Polystyrene) Manufacturing",{"$f":"Select_naics2022[[#This Row],[2022 NAICS Title]]","v":"Urethane and Other Foam Product (except Polystyrene) Manufacturing"}]
[{"$nulls":43},{"$f":"Select_naics2022[[#This Row],[2022 NAICS Code]]&\":  \"&Select_naics2022[[#This Row],[2022 NAICS Title]]","v":"326160:  Plastics Bottle Manufacturing"},326160,"Plastics Bottle Manufacturing",{"$f":"Select_naics2022[[#This Row],[2022 NAICS Title]]","v":"Plastics Bottle Manufacturing"}]
[{"$nulls":43},{"$f":"Select_naics2022[[#This Row],[2022 NAICS Code]]&\":  \"&Select_naics2022[[#This Row],[2022 NAICS Title]]","v":"326191:  Plastics Plumbing Fixture Manufacturing "},326191,"Plastics Plumbing Fixture Manufacturing ",{"$f":"Select_naics2022[[#This Row],[2022 NAICS Title]]","v":"Plastics Plumbing Fixture Manufacturing "}]
[{"$nulls":43},{"$f":"Select_naics2022[[#This Row],[2022 NAICS Code]]&\":  \"&Select_naics2022[[#This Row],[2022 NAICS Title]]","v":"326199:  All Other Plastics Product Manufacturing "},326199,"All Other Plastics Product Manufacturing ",{"$f":"Select_naics2022[[#This Row],[2022 NAICS Title]]","v":"All Other Plastics Product Manufacturing "}]
[{"$nulls":43},{"$f":"Select_naics2022[[#This Row],[2022 NAICS Code]]&\":  \"&Select_naics2022[[#This Row],[2022 NAICS Title]]","v":"326211:  Tire Manufacturing (except Retreading) "},326211,"Tire Manufacturing (except Retreading) ",{"$f":"Select_naics2022[[#This Row],[2022 NAICS Title]]","v":"Tire Manufacturing (except Retreading) "}]
[{"$nulls":43},{"$f":"Select_naics2022[[#This Row],[2022 NAICS Code]]&\":  \"&Select_naics2022[[#This Row],[2022 NAICS Title]]","v":"326212:  Tire Retreading "},326212,"Tire Retreading ",{"$f":"Select_naics2022[[#This Row],[2022 NAICS Title]]","v":"Tire Retreading "}]
[{"$nulls":43},{"$f":"Select_naics2022[[#This Row],[2022 NAICS Code]]&\":  \"&Select_naics2022[[#This Row],[2022 NAICS Title]]","v":"326220:  Rubber and Plastics Hoses and Belting Manufacturing"},326220,"Rubber and Plastics Hoses and Belting Manufacturing",{"$f":"Select_naics2022[[#This Row],[2022 NAICS Title]]","v":"Rubber and Plastics Hoses and Belting Manufacturing"}]
[{"$nulls":43},{"$f":"Select_naics2022[[#This Row],[2022 NAICS Code]]&\":  \"&Select_naics2022[[#This Row],[2022 NAICS Title]]","v":"326291:  Rubber Product Manufacturing for Mechanical Use "},326291,"Rubber Product Manufacturing for Mechanical Use ",{"$f":"Select_naics2022[[#This Row],[2022 NAICS Title]]","v":"Rubber Product Manufacturing for Mechanical Use "}]
[{"$nulls":43},{"$f":"Select_naics2022[[#This Row],[2022 NAICS Code]]&\":  \"&Select_naics2022[[#This Row],[2022 NAICS Title]]","v":"326299:  All Other Rubber Product Manufacturing "},326299,"All Other Rubber Product Manufacturing ",{"$f":"Select_naics2022[[#This Row],[2022 NAICS Title]]","v":"All Other Rubber Product Manufacturing "}]
[{"$nulls":43},{"$f":"Select_naics2022[[#This Row],[2022 NAICS Code]]&\":  \"&Select_naics2022[[#This Row],[2022 NAICS Title]]","v":"327110:  Pottery, Ceramics, and Plumbing Fixture Manufacturing "},327110,"Pottery, Ceramics, and Plumbing Fixture Manufacturing ",{"$f":"Select_naics2022[[#This Row],[2022 NAICS Title]]","v":"Pottery, Ceramics, and Plumbing Fixture Manufacturing "}]
[{"$nulls":43},{"$f":"Select_naics2022[[#This Row],[2022 NAICS Code]]&\":  \"&Select_naics2022[[#This Row],[2022 NAICS Title]]","v":"327120:  Clay Building Material and Refractories Manufacturing "},327120,"Clay Building Material and Refractories Manufacturing ",{"$f":"Select_naics2022[[#This Row],[2022 NAICS Title]]","v":"Clay Building Material and Refractories Manufacturing "}]
[{"$nulls":43},{"$f":"Select_naics2022[[#This Row],[2022 NAICS Code]]&\":  \"&Select_naics2022[[#This Row],[2022 NAICS Title]]","v":"327211:  Flat Glass Manufacturing "},327211,"Flat Glass Manufacturing ",{"$f":"Select_naics2022[[#This Row],[2022 NAICS Title]]","v":"Flat Glass Manufacturing "}]
[{"$nulls":43},{"$f":"Select_naics2022[[#This Row],[2022 NAICS Code]]&\":  \"&Select_naics2022[[#This Row],[2022 NAICS Title]]","v":"327212:  Other Pressed and Blown Glass and Glassware Manufacturing "},327212,"Other Pressed and Blown Glass and Glassware Manufacturing ",{"$f":"Select_naics2022[[#This Row],[2022 NAICS Title]]","v":"Other Pressed and Blown Glass and Glassware Manufacturing "}]
[{"$nulls":43},{"$f":"Select_naics2022[[#This Row],[2022 NAICS Code]]&\":  \"&Select_naics2022[[#This Row],[2022 NAICS Title]]","v":"327213:  Glass Container Manufacturing "},327213,"Glass Container Manufacturing ",{"$f":"Select_naics2022[[#This Row],[2022 NAICS Title]]","v":"Glass Container Manufacturing "}]
[{"$nulls":43},{"$f":"Select_naics2022[[#This Row],[2022 NAICS Code]]&\":  \"&Select_naics2022[[#This Row],[2022 NAICS Title]]","v":"327215:  Glass Product Manufacturing Made of Purchased Glass "},327215,"Glass Product Manufacturing Made of Purchased Glass ",{"$f":"Select_naics2022[[#This Row],[2022 NAICS Title]]","v":"Glass Product Manufacturing Made of Purchased Glass "}]
[{"$nulls":43},{"$f":"Select_naics2022[[#This Row],[2022 NAICS Code]]&\":  \"&Select_naics2022[[#This Row],[2022 NAICS Title]]","v":"327310:  Cement Manufacturing"},327310,"Cement Manufacturing",{"$f":"Select_naics2022[[#This Row],[2022 NAICS Title]]","v":"Cement Manufacturing"}]
[{"$nulls":43},{"$f":"Select_naics2022[[#This Row],[2022 NAICS Code]]&\":  \"&Select_naics2022[[#This Row],[2022 NAICS Title]]","v":"327320:  Ready-Mix Concrete Manufacturing"},327320,"Ready-Mix Concrete Manufacturing",{"$f":"Select_naics2022[[#This Row],[2022 NAICS Title]]","v":"Ready-Mix Concrete Manufacturing"}]
[{"$nulls":43},{"$f":"Select_naics2022[[#This Row],[2022 NAICS Code]]&\":  \"&Select_naics2022[[#This Row],[2022 NAICS Title]]","v":"327331:  Concrete Block and Brick Manufacturing "},327331,"Concrete Block and Brick Manufacturing ",{"$f":"Select_naics2022[[#This Row],[2022 NAICS Title]]","v":"Concrete Block and Brick Manufacturing "}]
[{"$nulls":43},{"$f":"Select_naics2022[[#This Row],[2022 NAICS Code]]&\":  \"&Select_naics2022[[#This Row],[2022 NAICS Title]]","v":"327332:  Concrete Pipe Manufacturing "},327332,"Concrete Pipe Manufacturing ",{"$f":"Select_naics2022[[#This Row],[2022 NAICS Title]]","v":"Concrete Pipe Manufacturing "}]
[{"$nulls":43},{"$f":"Select_naics2022[[#This Row],[2022 NAICS Code]]&\":  \"&Select_naics2022[[#This Row],[2022 NAICS Title]]","v":"327390:  Other Concrete Product Manufacturing "},327390,"Other Concrete Product Manufacturing ",{"$f":"Select_naics2022[[#This Row],[2022 NAICS Title]]","v":"Other Concrete Product Manufacturing "}]
[{"$nulls":43},{"$f":"Select_naics2022[[#This Row],[2022 NAICS Code]]&\":  \"&Select_naics2022[[#This Row],[2022 NAICS Title]]","v":"327410:  Lime Manufacturing"},327410,"Lime Manufacturing",{"$f":"Select_naics2022[[#This Row],[2022 NAICS Title]]","v":"Lime Manufacturing"}]
[{"$nulls":43},{"$f":"Select_naics2022[[#This Row],[2022 NAICS Code]]&\":  \"&Select_naics2022[[#This Row],[2022 NAICS Title]]","v":"327420:  Gypsum Product Manufacturing"},327420,"Gypsum Product Manufacturing",{"$f":"Select_naics2022[[#This Row],[2022 NAICS Title]]","v":"Gypsum Product Manufacturing"}]
[{"$nulls":43},{"$f":"Select_naics2022[[#This Row],[2022 NAICS Code]]&\":  \"&Select_naics2022[[#This Row],[2022 NAICS Title]]","v":"327910:  Abrasive Product Manufacturing"},327910,"Abrasive Product Manufacturing",{"$f":"Select_naics2022[[#This Row],[2022 NAICS Title]]","v":"Abrasive Product Manufacturing"}]
[{"$nulls":43},{"$f":"Select_naics2022[[#This Row],[2022 NAICS Code]]&\":  \"&Select_naics2022[[#This Row],[2022 NAICS Title]]","v":"327991:  Cut Stone and Stone Product Manufacturing "},327991,"Cut Stone and Stone Product Manufacturing ",{"$f":"Select_naics2022[[#This Row],[2022 NAICS Title]]","v":"Cut Stone and Stone Product Manufacturing "}]
[{"$nulls":43},{"$f":"Select_naics2022[[#This Row],[2022 NAICS Code]]&\":  \"&Select_naics2022[[#This Row],[2022 NAICS Title]]","v":"327992:  Ground or Treated Mineral and Earth Manufacturing "},327992,"Ground or Treated Mineral and Earth Manufacturing ",{"$f":"Select_naics2022[[#This Row],[2022 NAICS Title]]","v":"Ground or Treated Mineral and Earth Manufacturing "}]
[{"$nulls":43},{"$f":"Select_naics2022[[#This Row],[2022 NAICS Code]]&\":  \"&Select_naics2022[[#This Row],[2022 NAICS Title]]","v":"327993:  Mineral Wool Manufacturing "},327993,"Mineral Wool Manufacturing ",{"$f":"Select_naics2022[[#This Row],[2022 NAICS Title]]","v":"Mineral Wool Manufacturing "}]
[{"$nulls":43},{"$f":"Select_naics2022[[#This Row],[2022 NAICS Code]]&\":  \"&Select_naics2022[[#This Row],[2022 NAICS Title]]","v":"327999:  All Other Miscellaneous Nonmetallic Mineral Product Manufacturing "},327999,"All Other Miscellaneous Nonmetallic Mineral Product Manufacturing ",{"$f":"Select_naics2022[[#This Row],[2022 NAICS Title]]","v":"All Other Miscellaneous Nonmetallic Mineral Product Manufacturing "}]
[{"$nulls":43},{"$f":"Select_naics2022[[#This Row],[2022 NAICS Code]]&\":  \"&Select_naics2022[[#This Row],[2022 NAICS Title]]","v":"331110:  Iron and Steel Mills and Ferroalloy Manufacturing "},331110,"Iron and Steel Mills and Ferroalloy Manufacturing ",{"$f":"Select_naics2022[[#This Row],[2022 NAICS Title]]","v":"Iron and Steel Mills and Ferroalloy Manufacturing "}]
[{"$nulls":43},{"$f":"Select_naics2022[[#This Row],[2022 NAICS Code]]&\":  \"&Select_naics2022[[#This Row],[2022 NAICS Title]]","v":"331210:  Iron and Steel Pipe and Tube Manufacturing from Purchased Steel"},331210,"Iron and Steel Pipe and Tube Manufacturing from Purchased Steel",{"$f":"Select_naics2022[[#This Row],[2022 NAICS Title]]","v":"Iron and Steel Pipe and Tube Manufacturing from Purchased Steel"}]
[{"$nulls":43},{"$f":"Select_naics2022[[#This Row],[2022 NAICS Code]]&\":  \"&Select_naics2022[[#This Row],[2022 NAICS Title]]","v":"331221:  Rolled Steel Shape Manufacturing "},331221,"Rolled Steel Shape Manufacturing ",{"$f":"Select_naics2022[[#This Row],[2022 NAICS Title]]","v":"Rolled Steel Shape Manufacturing "}]
[{"$nulls":43},{"$f":"Select_naics2022[[#This Row],[2022 NAICS Code]]&\":  \"&Select_naics2022[[#This Row],[2022 NAICS Title]]","v":"331222:  Steel Wire Drawing "},331222,"Steel Wire Drawing ",{"$f":"Select_naics2022[[#This Row],[2022 NAICS Title]]","v":"Steel Wire Drawing "}]
[{"$nulls":43},{"$f":"Select_naics2022[[#This Row],[2022 NAICS Code]]&\":  \"&Select_naics2022[[#This Row],[2022 NAICS Title]]","v":"331313:  Alumina Refining and Primary Aluminum Production "},331313,"Alumina Refining and Primary Aluminum Production ",{"$f":"Select_naics2022[[#This Row],[2022 NAICS Title]]","v":"Alumina Refining and Primary Aluminum Production "}]
[{"$nulls":43},{"$f":"Select_naics2022[[#This Row],[2022 NAICS Code]]&\":  \"&Select_naics2022[[#This Row],[2022 NAICS Title]]","v":"331314:  Secondary Smelting and Alloying of Aluminum "},331314,"Secondary Smelting and Alloying of Aluminum ",{"$f":"Select_naics2022[[#This Row],[2022 NAICS Title]]","v":"Secondary Smelting and Alloying of Aluminum "}]
[{"$nulls":43},{"$f":"Select_naics2022[[#This Row],[2022 NAICS Code]]&\":  \"&Select_naics2022[[#This Row],[2022 NAICS Title]]","v":"331315:  Aluminum Sheet, Plate, and Foil Manufacturing "},331315,"Aluminum Sheet, Plate, and Foil Manufacturing ",{"$f":"Select_naics2022[[#This Row],[2022 NAICS Title]]","v":"Aluminum Sheet, Plate, and Foil Manufacturing "}]
[{"$nulls":43},{"$f":"Select_naics2022[[#This Row],[2022 NAICS Code]]&\":  \"&Select_naics2022[[#This Row],[2022 NAICS Title]]","v":"331318:  Other Aluminum Rolling, Drawing, and Extruding "},331318,"Other Aluminum Rolling, Drawing, and Extruding ",{"$f":"Select_naics2022[[#This Row],[2022 NAICS Title]]","v":"Other Aluminum Rolling, Drawing, and Extruding "}]
[{"$nulls":43},{"$f":"Select_naics2022[[#This Row],[2022 NAICS Code]]&\":  \"&Select_naics2022[[#This Row],[2022 NAICS Title]]","v":"331410:  Nonferrous Metal (except Aluminum) Smelting and Refining "},331410,"Nonferrous Metal (except Aluminum) Smelting and Refining ",{"$f":"Select_naics2022[[#This Row],[2022 NAICS Title]]","v":"Nonferrous Metal (except Aluminum) Smelting and Refining "}]
[{"$nulls":43},{"$f":"Select_naics2022[[#This Row],[2022 NAICS Code]]&\":  \"&Select_naics2022[[#This Row],[2022 NAICS Title]]","v":"331420:  Copper Rolling, Drawing, Extruding, and Alloying"},331420,"Copper Rolling, Drawing, Extruding, and Alloying",{"$f":"Select_naics2022[[#This Row],[2022 NAICS Title]]","v":"Copper Rolling, Drawing, Extruding, and Alloying"}]
[{"$nulls":43},{"$f":"Select_naics2022[[#This Row],[2022 NAICS Code]]&\":  \"&Select_naics2022[[#This Row],[2022 NAICS Title]]","v":"331491:  Nonferrous Metal (except Copper and Aluminum) Rolling, Drawing, and Extruding "},331491,"Nonferrous Metal (except Copper and Aluminum) Rolling, Drawing, and Extruding ",{"$f":"Select_naics2022[[#This Row],[2022 NAICS Title]]","v":"Nonferrous Metal (except Copper and Aluminum) Rolling, Drawing, and Extruding "}]
[{"$nulls":43},{"$f":"Select_naics2022[[#This Row],[2022 NAICS Code]]&\":  \"&Select_naics2022[[#This Row],[2022 NAICS Title]]","v":"331492:  Secondary Smelting, Refining, and Alloying of Nonferrous Metal (except Copper and Aluminum) "},331492,"Secondary Smelting, Refining, and Alloying of Nonferrous Metal (except Copper and Aluminum) ",{"$f":"Select_naics2022[[#This Row],[2022 NAICS Title]]","v":"Secondary Smelting, Refining, and Alloying of Nonferrous Metal (except Copper and Aluminum) "}]
[{"$nulls":43},{"$f":"Select_naics2022[[#This Row],[2022 NAICS Code]]&\":  \"&Select_naics2022[[#This Row],[2022 NAICS Title]]","v":"331511:  Iron Foundries "},331511,"Iron Foundries ",{"$f":"Select_naics2022[[#This Row],[2022 NAICS Title]]","v":"Iron Foundries "}]
[{"$nulls":43},{"$f":"Select_naics2022[[#This Row],[2022 NAICS Code]]&\":  \"&Select_naics2022[[#This Row],[2022 NAICS Title]]","v":"331512:  Steel Investment Foundries "},331512,"Steel Investment Foundries ",{"$f":"Select_naics2022[[#This Row],[2022 NAICS Title]]","v":"Steel Investment Foundries "}]
[{"$nulls":43},{"$f":"Select_naics2022[[#This Row],[2022 NAICS Code]]&\":  \"&Select_naics2022[[#This Row],[2022 NAICS Title]]","v":"331513:  Steel Foundries (except Investment) "},331513,"Steel Foundries (except Investment) ",{"$f":"Select_naics2022[[#This Row],[2022 NAICS Title]]","v":"Steel Foundries (except Investment) "}]
[{"$nulls":43},{"$f":"Select_naics2022[[#This Row],[2022 NAICS Code]]&\":  \"&Select_naics2022[[#This Row],[2022 NAICS Title]]","v":"331523:  Nonferrous Metal Die-Casting Foundries "},331523,"Nonferrous Metal Die-Casting Foundries ",{"$f":"Select_naics2022[[#This Row],[2022 NAICS Title]]","v":"Nonferrous Metal Die-Casting Foundries "}]
[{"$nulls":43},{"$f":"Select_naics2022[[#This Row],[2022 NAICS Code]]&\":  \"&Select_naics2022[[#This Row],[2022 NAICS Title]]","v":"331524:  Aluminum Foundries (except Die-Casting) "},331524,"Aluminum Foundries (except Die-Casting) ",{"$f":"Select_naics2022[[#This Row],[2022 NAICS Title]]","v":"Aluminum Foundries (except Die-Casting) "}]
[{"$nulls":43},{"$f":"Select_naics2022[[#This Row],[2022 NAICS Code]]&\":  \"&Select_naics2022[[#This Row],[2022 NAICS Title]]","v":"331529:  Other Nonferrous Metal Foundries (except Die-Casting) "},331529,"Other Nonferrous Metal Foundries (except Die-Casting) ",{"$f":"Select_naics2022[[#This Row],[2022 NAICS Title]]","v":"Other Nonferrous Metal Foundries (except Die-Casting) "}]
[{"$nulls":43},{"$f":"Select_naics2022[[#This Row],[2022 NAICS Code]]&\":  \"&Select_naics2022[[#This Row],[2022 NAICS Title]]","v":"332111:  Iron and Steel Forging "},332111,"Iron and Steel Forging ",{"$f":"Select_naics2022[[#This Row],[2022 NAICS Title]]","v":"Iron and Steel Forging "}]
[{"$nulls":43},{"$f":"Select_naics2022[[#This Row],[2022 NAICS Code]]&\":  \"&Select_naics2022[[#This Row],[2022 NAICS Title]]","v":"332112:  Nonferrous Forging "},332112,"Nonferrous Forging ",{"$f":"Select_naics2022[[#This Row],[2022 NAICS Title]]","v":"Nonferrous Forging "}]
[{"$nulls":43},{"$f":"Select_naics2022[[#This Row],[2022 NAICS Code]]&\":  \"&Select_naics2022[[#This Row],[2022 NAICS Title]]","v":"332114:  Custom Roll Forming "},332114,"Custom Roll Forming ",{"$f":"Select_naics2022[[#This Row],[2022 NAICS Title]]","v":"Custom Roll Forming "}]
[{"$nulls":43},{"$f":"Select_naics2022[[#This Row],[2022 NAICS Code]]&\":  \"&Select_naics2022[[#This Row],[2022 NAICS Title]]","v":"332117:  Powder Metallurgy Part Manufacturing "},332117,"Powder Metallurgy Part Manufacturing ",{"$f":"Select_naics2022[[#This Row],[2022 NAICS Title]]","v":"Powder Metallurgy Part Manufacturing "}]
[{"$nulls":43},{"$f":"Select_naics2022[[#This Row],[2022 NAICS Code]]&\":  \"&Select_naics2022[[#This Row],[2022 NAICS Title]]","v":"332119:  Metal Crown, Closure, and Other Metal Stamping (except Automotive) "},332119,"Metal Crown, Closure, and Other Metal Stamping (except Automotive) ",{"$f":"Select_naics2022[[#This Row],[2022 NAICS Title]]","v":"Metal Crown, Closure, and Other Metal Stamping (except Automotive) "}]
[{"$nulls":43},{"$f":"Select_naics2022[[#This Row],[2022 NAICS Code]]&\":  \"&Select_naics2022[[#This Row],[2022 NAICS Title]]","v":"332215:  Metal Kitchen Cookware, Utensil, Cutlery, and Flatware (except Precious) Manufacturing "},332215,"Metal Kitchen Cookware, Utensil, Cutlery, and Flatware (except Precious) Manufacturing ",{"$f":"Select_naics2022[[#This Row],[2022 NAICS Title]]","v":"Metal Kitchen Cookware, Utensil, Cutlery, and Flatware (except Precious) Manufacturing "}]
[{"$nulls":43},{"$f":"Select_naics2022[[#This Row],[2022 NAICS Code]]&\":  \"&Select_naics2022[[#This Row],[2022 NAICS Title]]","v":"332216:  Saw Blade and Handtool Manufacturing "},332216,"Saw Blade and Handtool Manufacturing ",{"$f":"Select_naics2022[[#This Row],[2022 NAICS Title]]","v":"Saw Blade and Handtool Manufacturing "}]
[{"$nulls":43},{"$f":"Select_naics2022[[#This Row],[2022 NAICS Code]]&\":  \"&Select_naics2022[[#This Row],[2022 NAICS Title]]","v":"332311:  Prefabricated Metal Building and Component Manufacturing "},332311,"Prefabricated Metal Building and Component Manufacturing ",{"$f":"Select_naics2022[[#This Row],[2022 NAICS Title]]","v":"Prefabricated Metal Building and Component Manufacturing "}]
[{"$nulls":43},{"$f":"Select_naics2022[[#This Row],[2022 NAICS Code]]&\":  \"&Select_naics2022[[#This Row],[2022 NAICS Title]]","v":"332312:  Fabricated Structural Metal Manufacturing "},332312,"Fabricated Structural Metal Manufacturing ",{"$f":"Select_naics2022[[#This Row],[2022 NAICS Title]]","v":"Fabricated Structural Metal Manufacturing "}]
[{"$nulls":43},{"$f":"Select_naics2022[[#This Row],[2022 NAICS Code]]&\":  \"&Select_naics2022[[#This Row],[2022 NAICS Title]]","v":"332313:  Plate Work Manufacturing "},332313,"Plate Work Manufacturing ",{"$f":"Select_naics2022[[#This Row],[2022 NAICS Title]]","v":"Plate Work Manufacturing "}]
[{"$nulls":43},{"$f":"Select_naics2022[[#This Row],[2022 NAICS Code]]&\":  \"&Select_naics2022[[#This Row],[2022 NAICS Title]]","v":"332321:  Metal Window and Door Manufacturing "},332321,"Metal Window and Door Manufacturing ",{"$f":"Select_naics2022[[#This Row],[2022 NAICS Title]]","v":"Metal Window and Door Manufacturing "}]
[{"$nulls":43},{"$f":"Select_naics2022[[#This Row],[2022 NAICS Code]]&\":  \"&Select_naics2022[[#This Row],[2022 NAICS Title]]","v":"332322:  Sheet Metal Work Manufacturing "},332322,"Sheet Metal Work Manufacturing ",{"$f":"Select_naics2022[[#This Row],[2022 NAICS Title]]","v":"Sheet Metal Work Manufacturing "}]
[{"$nulls":43},{"$f":"Select_naics2022[[#This Row],[2022 NAICS Code]]&\":  \"&Select_naics2022[[#This Row],[2022 NAICS Title]]","v":"332323:  Ornamental and Architectural Metal Work Manufacturing "},332323,"Ornamental and Architectural Metal Work Manufacturing ",{"$f":"Select_naics2022[[#This Row],[2022 NAICS Title]]","v":"Ornamental and Architectural Metal Work Manufacturing "}]
[{"$nulls":43},{"$f":"Select_naics2022[[#This Row],[2022 NAICS Code]]&\":  \"&Select_naics2022[[#This Row],[2022 NAICS Title]]","v":"332410:  Power Boiler and Heat Exchanger Manufacturing"},332410,"Power Boiler and Heat Exchanger Manufacturing",{"$f":"Select_naics2022[[#This Row],[2022 NAICS Title]]","v":"Power Boiler and Heat Exchanger Manufacturing"}]
[{"$nulls":43},{"$f":"Select_naics2022[[#This Row],[2022 NAICS Code]]&\":  \"&Select_naics2022[[#This Row],[2022 NAICS Title]]","v":"332420:  Metal Tank (Heavy Gauge) Manufacturing"},332420,"Metal Tank (Heavy Gauge) Manufacturing",{"$f":"Select_naics2022[[#This Row],[2022 NAICS Title]]","v":"Metal Tank (Heavy Gauge) Manufacturing"}]
[{"$nulls":43},{"$f":"Select_naics2022[[#This Row],[2022 NAICS Code]]&\":  \"&Select_naics2022[[#This Row],[2022 NAICS Title]]","v":"332431:  Metal Can Manufacturing "},332431,"Metal Can Manufacturing ",{"$f":"Select_naics2022[[#This Row],[2022 NAICS Title]]","v":"Metal Can Manufacturing "}]
[{"$nulls":43},{"$f":"Select_naics2022[[#This Row],[2022 NAICS Code]]&\":  \"&Select_naics2022[[#This Row],[2022 NAICS Title]]","v":"332439:  Other Metal Container Manufacturing "},332439,"Other Metal Container Manufacturing ",{"$f":"Select_naics2022[[#This Row],[2022 NAICS Title]]","v":"Other Metal Container Manufacturing "}]
[{"$nulls":43},{"$f":"Select_naics2022[[#This Row],[2022 NAICS Code]]&\":  \"&Select_naics2022[[#This Row],[2022 NAICS Title]]","v":"332510:  Hardware Manufacturing"},332510,"Hardware Manufacturing",{"$f":"Select_naics2022[[#This Row],[2022 NAICS Title]]","v":"Hardware Manufacturing"}]
[{"$nulls":43},{"$f":"Select_naics2022[[#This Row],[2022 NAICS Code]]&\":  \"&Select_naics2022[[#This Row],[2022 NAICS Title]]","v":"332613:  Spring Manufacturing "},332613,"Spring Manufacturing ",{"$f":"Select_naics2022[[#This Row],[2022 NAICS Title]]","v":"Spring Manufacturing "}]
[{"$nulls":43},{"$f":"Select_naics2022[[#This Row],[2022 NAICS Code]]&\":  \"&Select_naics2022[[#This Row],[2022 NAICS Title]]","v":"332618:  Other Fabricated Wire Product Manufacturing "},332618,"Other Fabricated Wire Product Manufacturing ",{"$f":"Select_naics2022[[#This Row],[2022 NAICS Title]]","v":"Other Fabricated Wire Product Manufacturing "}]
[{"$nulls":43},{"$f":"Select_naics2022[[#This Row],[2022 NAICS Code]]&\":  \"&Select_naics2022[[#This Row],[2022 NAICS Title]]","v":"332710:  Machine Shops"},332710,"Machine Shops",{"$f":"Select_naics2022[[#This Row],[2022 NAICS Title]]","v":"Machine Shops"}]
[{"$nulls":43},{"$f":"Select_naics2022[[#This Row],[2022 NAICS Code]]&\":  \"&Select_naics2022[[#This Row],[2022 NAICS Title]]","v":"332721:  Precision Turned Product Manufacturing "},332721,"Precision Turned Product Manufacturing ",{"$f":"Select_naics2022[[#This Row],[2022 NAICS Title]]","v":"Precision Turned Product Manufacturing "}]
[{"$nulls":43},{"$f":"Select_naics2022[[#This Row],[2022 NAICS Code]]&\":  \"&Select_naics2022[[#This Row],[2022 NAICS Title]]","v":"332722:  Bolt, Nut, Screw, Rivet, and Washer Manufacturing "},332722,"Bolt, Nut, Screw, Rivet, and Washer Manufacturing ",{"$f":"Select_naics2022[[#This Row],[2022 NAICS Title]]","v":"Bolt, Nut, Screw, Rivet, and Washer Manufacturing "}]
[{"$nulls":43},{"$f":"Select_naics2022[[#This Row],[2022 NAICS Code]]&\":  \"&Select_naics2022[[#This Row],[2022 NAICS Title]]","v":"332811:  Metal Heat Treating "},332811,"Metal Heat Treating ",{"$f":"Select_naics2022[[#This Row],[2022 NAICS Title]]","v":"Metal Heat Treating "}]
[{"$nulls":43},{"$f":"Select_naics2022[[#This Row],[2022 NAICS Code]]&\":  \"&Select_naics2022[[#This Row],[2022 NAICS Title]]","v":"332812:  Metal Coating, Engraving (except Jewelry and Silverware), and Allied Services to Manufacturers "},332812,"Metal Coating, Engraving (except Jewelry and Silverware), and Allied Services to Manufacturers ",{"$f":"Select_naics2022[[#This Row],[2022 NAICS Title]]","v":"Metal Coating, Engraving (except Jewelry and Silverware), and Allied Services to Manufacturers "}]
[{"$nulls":43},{"$f":"Select_naics2022[[#This Row],[2022 NAICS Code]]&\":  \"&Select_naics2022[[#This Row],[2022 NAICS Title]]","v":"332813:  Electroplating, Plating, Polishing, Anodizing, and Coloring "},332813,"Electroplating, Plating, Polishing, Anodizing, and Coloring ",{"$f":"Select_naics2022[[#This Row],[2022 NAICS Title]]","v":"Electroplating, Plating, Polishing, Anodizing, and Coloring "}]
[{"$nulls":43},{"$f":"Select_naics2022[[#This Row],[2022 NAICS Code]]&\":  \"&Select_naics2022[[#This Row],[2022 NAICS Title]]","v":"332911:  Industrial Valve Manufacturing "},332911,"Industrial Valve Manufacturing ",{"$f":"Select_naics2022[[#This Row],[2022 NAICS Title]]","v":"Industrial Valve Manufacturing "}]
[{"$nulls":43},{"$f":"Select_naics2022[[#This Row],[2022 NAICS Code]]&\":  \"&Select_naics2022[[#This Row],[2022 NAICS Title]]","v":"332912:  Fluid Power Valve and Hose Fitting Manufacturing "},332912,"Fluid Power Valve and Hose Fitting Manufacturing ",{"$f":"Select_naics2022[[#This Row],[2022 NAICS Title]]","v":"Fluid Power Valve and Hose Fitting Manufacturing "}]
[{"$nulls":43},{"$f":"Select_naics2022[[#This Row],[2022 NAICS Code]]&\":  \"&Select_naics2022[[#This Row],[2022 NAICS Title]]","v":"332913:  Plumbing Fixture Fitting and Trim Manufacturing "},332913,"Plumbing Fixture Fitting and Trim Manufacturing ",{"$f":"Select_naics2022[[#This Row],[2022 NAICS Title]]","v":"Plumbing Fixture Fitting and Trim Manufacturing "}]
[{"$nulls":43},{"$f":"Select_naics2022[[#This Row],[2022 NAICS Code]]&\":  \"&Select_naics2022[[#This Row],[2022 NAICS Title]]","v":"332919:  Other Metal Valve and Pipe Fitting Manufacturing "},332919,"Other Metal Valve and Pipe Fitting Manufacturing ",{"$f":"Select_naics2022[[#This Row],[2022 NAICS Title]]","v":"Other Metal Valve and Pipe Fitting Manufacturing "}]
[{"$nulls":43},{"$f":"Select_naics2022[[#This Row],[2022 NAICS Code]]&\":  \"&Select_naics2022[[#This Row],[2022 NAICS Title]]","v":"332991:  Ball and Roller Bearing Manufacturing"},332991,"Ball and Roller Bearing Manufacturing",{"$f":"Select_naics2022[[#This Row],[2022 NAICS Title]]","v":"Ball and Roller Bearing Manufacturing"}]
[{"$nulls":43},{"$f":"Select_naics2022[[#This Row],[2022 NAICS Code]]&\":  \"&Select_naics2022[[#This Row],[2022 NAICS Title]]","v":"332992:  Small Arms Ammunition Manufacturing "},332992,"Small Arms Ammunition Manufacturing ",{"$f":"Select_naics2022[[#This Row],[2022 NAICS Title]]","v":"Small Arms Ammunition Manufacturing "}]
[{"$nulls":43},{"$f":"Select_naics2022[[#This Row],[2022 NAICS Code]]&\":  \"&Select_naics2022[[#This Row],[2022 NAICS Title]]","v":"332993:  Ammunition (except Small Arms) Manufacturing "},332993,"Ammunition (except Small Arms) Manufacturing ",{"$f":"Select_naics2022[[#This Row],[2022 NAICS Title]]","v":"Ammunition (except Small Arms) Manufacturing "}]
[{"$nulls":43},{"$f":"Select_naics2022[[#This Row],[2022 NAICS Code]]&\":  \"&Select_naics2022[[#This Row],[2022 NAICS Title]]","v":"332994:  Small Arms, Ordnance, and Ordnance Accessories Manufacturing "},332994,"Small Arms, Ordnance, and Ordnance Accessories Manufacturing ",{"$f":"Select_naics2022[[#This Row],[2022 NAICS Title]]","v":"Small Arms, Ordnance, and Ordnance Accessories Manufacturing "}]
[{"$nulls":43},{"$f":"Select_naics2022[[#This Row],[2022 NAICS Code]]&\":  \"&Select_naics2022[[#This Row],[2022 NAICS Title]]","v":"332996:  Fabricated Pipe and Pipe Fitting Manufacturing "},332996,"Fabricated Pipe and Pipe Fitting Manufacturing ",{"$f":"Select_naics2022[[#This Row],[2022 NAICS Title]]","v":"Fabricated Pipe and Pipe Fitting Manufacturing "}]
[{"$nulls":43},{"$f":"Select_naics2022[[#This Row],[2022 NAICS Code]]&\":  \"&Select_naics2022[[#This Row],[2022 NAICS Title]]","v":"332999:  All Other Miscellaneous Fabricated Metal Product Manufacturing "},332999,"All Other Miscellaneous Fabricated Metal Product Manufacturing ",{"$f":"Select_naics2022[[#This Row],[2022 NAICS Title]]","v":"All Other Miscellaneous Fabricated Metal Product Manufacturing "}]
[{"$nulls":43},{"$f":"Select_naics2022[[#This Row],[2022 NAICS Code]]&\":  \"&Select_naics2022[[#This Row],[2022 NAICS Title]]","v":"333111:  Farm Machinery and Equipment Manufacturing "},333111,"Farm Machinery and Equipment Manufacturing ",{"$f":"Select_naics2022[[#This Row],[2022 NAICS Title]]","v":"Farm Machinery and Equipment Manufacturing "}]
[{"$nulls":43},{"$f":"Select_naics2022[[#This Row],[2022 NAICS Code]]&\":  \"&Select_naics2022[[#This Row],[2022 NAICS Title]]","v":"333112:  Lawn and Garden Tractor and Home Lawn and Garden Equipment Manufacturing "},333112,"Lawn and Garden Tractor and Home Lawn and Garden Equipment Manufacturing ",{"$f":"Select_naics2022[[#This Row],[2022 NAICS Title]]","v":"Lawn and Garden Tractor and Home Lawn and Garden Equipment Manufacturing "}]
[{"$nulls":43},{"$f":"Select_naics2022[[#This Row],[2022 NAICS Code]]&\":  \"&Select_naics2022[[#This Row],[2022 NAICS Title]]","v":"333120:  Construction Machinery Manufacturing"},333120,"Construction Machinery Manufacturing",{"$f":"Select_naics2022[[#This Row],[2022 NAICS Title]]","v":"Construction Machinery Manufacturing"}]
[{"$nulls":43},{"$f":"Select_naics2022[[#This Row],[2022 NAICS Code]]&\":  \"&Select_naics2022[[#This Row],[2022 NAICS Title]]","v":"333131:  Mining Machinery and Equipment Manufacturing "},333131,"Mining Machinery and Equipment Manufacturing ",{"$f":"Select_naics2022[[#This Row],[2022 NAICS Title]]","v":"Mining Machinery and Equipment Manufacturing "}]
[{"$nulls":43},{"$f":"Select_naics2022[[#This Row],[2022 NAICS Code]]&\":  \"&Select_naics2022[[#This Row],[2022 NAICS Title]]","v":"333132:  Oil and Gas Field Machinery and Equipment Manufacturing "},333132,"Oil and Gas Field Machinery and Equipment Manufacturing ",{"$f":"Select_naics2022[[#This Row],[2022 NAICS Title]]","v":"Oil and Gas Field Machinery and Equipment Manufacturing "}]
[{"$nulls":43},{"$f":"Select_naics2022[[#This Row],[2022 NAICS Code]]&\":  \"&Select_naics2022[[#This Row],[2022 NAICS Title]]","v":"333241:  Food Product Machinery Manufacturing "},333241,"Food Product Machinery Manufacturing ",{"$f":"Select_naics2022[[#This Row],[2022 NAICS Title]]","v":"Food Product Machinery Manufacturing "}]
[{"$nulls":43},{"$f":"Select_naics2022[[#This Row],[2022 NAICS Code]]&\":  \"&Select_naics2022[[#This Row],[2022 NAICS Title]]","v":"333242:  Semiconductor Machinery Manufacturing "},333242,"Semiconductor Machinery Manufacturing ",{"$f":"Select_naics2022[[#This Row],[2022 NAICS Title]]","v":"Semiconductor Machinery Manufacturing "}]
[{"$nulls":43},{"$f":"Select_naics2022[[#This Row],[2022 NAICS Code]]&\":  \"&Select_naics2022[[#This Row],[2022 NAICS Title]]","v":"333243:  Sawmill, Woodworking, and Paper Machinery Manufacturing "},333243,"Sawmill, Woodworking, and Paper Machinery Manufacturing ",{"$f":"Select_naics2022[[#This Row],[2022 NAICS Title]]","v":"Sawmill, Woodworking, and Paper Machinery Manufacturing "}]
[{"$nulls":43},{"$f":"Select_naics2022[[#This Row],[2022 NAICS Code]]&\":  \"&Select_naics2022[[#This Row],[2022 NAICS Title]]","v":"333248:  All Other Industrial Machinery Manufacturing "},333248,"All Other Industrial Machinery Manufacturing ",{"$f":"Select_naics2022[[#This Row],[2022 NAICS Title]]","v":"All Other Industrial Machinery Manufacturing "}]
[{"$nulls":43},{"$f":"Select_naics2022[[#This Row],[2022 NAICS Code]]&\":  \"&Select_naics2022[[#This Row],[2022 NAICS Title]]","v":"333310:  Commercial and Service Industry Machinery Manufacturing "},333310,"Commercial and Service Industry Machinery Manufacturing ",{"$f":"Select_naics2022[[#This Row],[2022 NAICS Title]]","v":"Commercial and Service Industry Machinery Manufacturing "}]
[{"$nulls":43},{"$f":"Select_naics2022[[#This Row],[2022 NAICS Code]]&\":  \"&Select_naics2022[[#This Row],[2022 NAICS Title]]","v":"333413:  Industrial and Commercial Fan and Blower and Air Purification Equipment Manufacturing "},333413,"Industrial and Commercial Fan and Blower and Air Purification Equipment Manufacturing ",{"$f":"Select_naics2022[[#This Row],[2022 NAICS Title]]","v":"Industrial and Commercial Fan and Blower and Air Purification Equipment Manufacturing "}]
[{"$nulls":43},{"$f":"Select_naics2022[[#This Row],[2022 NAICS Code]]&\":  \"&Select_naics2022[[#This Row],[2022 NAICS Title]]","v":"333414:  Heating Equipment (except Warm Air Furnaces) Manufacturing "},333414,"Heating Equipment (except Warm Air Furnaces) Manufacturing ",{"$f":"Select_naics2022[[#This Row],[2022 NAICS Title]]","v":"Heating Equipment (except Warm Air Furnaces) Manufacturing "}]
[{"$nulls":43},{"$f":"Select_naics2022[[#This Row],[2022 NAICS Code]]&\":  \"&Select_naics2022[[#This Row],[2022 NAICS Title]]","v":"333415:  Air-Conditioning and Warm Air Heating Equipment and Commercial and Industrial Refrigeration Equipment Manufacturing "},333415,"Air-Conditioning and Warm Air Heating Equipment and Commercial and Industrial Refrigeration Equipment Manufacturing ",{"$f":"Select_naics2022[[#This Row],[2022 NAICS Title]]","v":"Air-Conditioning and Warm Air Heating Equipment and Commercial and Industrial Refrigeration Equipment Manufacturing "}]
[{"$nulls":43},{"$f":"Select_naics2022[[#This Row],[2022 NAICS Code]]&\":  \"&Select_naics2022[[#This Row],[2022 NAICS Title]]","v":"333511:  Industrial Mold Manufacturing "},333511,"Industrial Mold Manufacturing ",{"$f":"Select_naics2022[[#This Row],[2022 NAICS Title]]","v":"Industrial Mold Manufacturing "}]
[{"$nulls":43},{"$f":"Select_naics2022[[#This Row],[2022 NAICS Code]]&\":  \"&Select_naics2022[[#This Row],[2022 NAICS Title]]","v":"333514:  Special Die and Tool, Die Set, Jig, and Fixture Manufacturing "},333514,"Special Die and Tool, Die Set, Jig, and Fixture Manufacturing ",{"$f":"Select_naics2022[[#This Row],[2022 NAICS Title]]","v":"Special Die and Tool, Die Set, Jig, and Fixture Manufacturing "}]
[{"$nulls":43},{"$f":"Select_naics2022[[#This Row],[2022 NAICS Code]]&\":  \"&Select_naics2022[[#This Row],[2022 NAICS Title]]","v":"333515:  Cutting Tool and Machine Tool Accessory Manufacturing "},333515,"Cutting Tool and Machine Tool Accessory Manufacturing ",{"$f":"Select_naics2022[[#This Row],[2022 NAICS Title]]","v":"Cutting Tool and Machine Tool Accessory Manufacturing "}]
[{"$nulls":43},{"$f":"Select_naics2022[[#This Row],[2022 NAICS Code]]&\":  \"&Select_naics2022[[#This Row],[2022 NAICS Title]]","v":"333517:  Machine Tool Manufacturing "},333517,"Machine Tool Manufacturing ",{"$f":"Select_naics2022[[#This Row],[2022 NAICS Title]]","v":"Machine Tool Manufacturing "}]
[{"$nulls":43},{"$f":"Select_naics2022[[#This Row],[2022 NAICS Code]]&\":  \"&Select_naics2022[[#This Row],[2022 NAICS Title]]","v":"333519:  Rolling Mill and Other Metalworking Machinery Manufacturing "},333519,"Rolling Mill and Other Metalworking Machinery Manufacturing ",{"$f":"Select_naics2022[[#This Row],[2022 NAICS Title]]","v":"Rolling Mill and Other Metalworking Machinery Manufacturing "}]
[{"$nulls":43},{"$f":"Select_naics2022[[#This Row],[2022 NAICS Code]]&\":  \"&Select_naics2022[[#This Row],[2022 NAICS Title]]","v":"333611:  Turbine and Turbine Generator Set Units Manufacturing "},333611,"Turbine and Turbine Generator Set Units Manufacturing ",{"$f":"Select_naics2022[[#This Row],[2022 NAICS Title]]","v":"Turbine and Turbine Generator Set Units Manufacturing "}]
[{"$nulls":43},{"$f":"Select_naics2022[[#This Row],[2022 NAICS Code]]&\":  \"&Select_naics2022[[#This Row],[2022 NAICS Title]]","v":"333612:  Speed Changer, Industrial High-Speed Drive, and Gear Manufacturing "},333612,"Speed Changer, Industrial High-Speed Drive, and Gear Manufacturing ",{"$f":"Select_naics2022[[#This Row],[2022 NAICS Title]]","v":"Speed Changer, Industrial High-Speed Drive, and Gear Manufacturing "}]
[{"$nulls":43},{"$f":"Select_naics2022[[#This Row],[2022 NAICS Code]]&\":  \"&Select_naics2022[[#This Row],[2022 NAICS Title]]","v":"333613:  Mechanical Power Transmission Equipment Manufacturing "},333613,"Mechanical Power Transmission Equipment Manufacturing ",{"$f":"Select_naics2022[[#This Row],[2022 NAICS Title]]","v":"Mechanical Power Transmission Equipment Manufacturing "}]
[{"$nulls":43},{"$f":"Select_naics2022[[#This Row],[2022 NAICS Code]]&\":  \"&Select_naics2022[[#This Row],[2022 NAICS Title]]","v":"333618:  Other Engine Equipment Manufacturing "},333618,"Other Engine Equipment Manufacturing ",{"$f":"Select_naics2022[[#This Row],[2022 NAICS Title]]","v":"Other Engine Equipment Manufacturing "}]
[{"$nulls":43},{"$f":"Select_naics2022[[#This Row],[2022 NAICS Code]]&\":  \"&Select_naics2022[[#This Row],[2022 NAICS Title]]","v":"333912:  Air and Gas Compressor Manufacturing "},333912,"Air and Gas Compressor Manufacturing ",{"$f":"Select_naics2022[[#This Row],[2022 NAICS Title]]","v":"Air and Gas Compressor Manufacturing "}]
[{"$nulls":43},{"$f":"Select_naics2022[[#This Row],[2022 NAICS Code]]&\":  \"&Select_naics2022[[#This Row],[2022 NAICS Title]]","v":"333914:  Measuring, Dispensing, and Other Pumping Equipment Manufacturing "},333914,"Measuring, Dispensing, and Other Pumping Equipment Manufacturing ",{"$f":"Select_naics2022[[#This Row],[2022 NAICS Title]]","v":"Measuring, Dispensing, and Other Pumping Equipment Manufacturing "}]
[{"$nulls":43},{"$f":"Select_naics2022[[#This Row],[2022 NAICS Code]]&\":  \"&Select_naics2022[[#This Row],[2022 NAICS Title]]","v":"333921:  Elevator and Moving Stairway Manufacturing "},333921,"Elevator and Moving Stairway Manufacturing ",{"$f":"Select_naics2022[[#This Row],[2022 NAICS Title]]","v":"Elevator and Moving Stairway Manufacturing "}]
[{"$nulls":43},{"$f":"Select_naics2022[[#This Row],[2022 NAICS Code]]&\":  \"&Select_naics2022[[#This Row],[2022 NAICS Title]]","v":"333922:  Conveyor and Conveying Equipment Manufacturing "},333922,"Conveyor and Conveying Equipment Manufacturing ",{"$f":"Select_naics2022[[#This Row],[2022 NAICS Title]]","v":"Conveyor and Conveying Equipment Manufacturing "}]
[{"$nulls":43},{"$f":"Select_naics2022[[#This Row],[2022 NAICS Code]]&\":  \"&Select_naics2022[[#This Row],[2022 NAICS Title]]","v":"333923:  Overhead Traveling Crane, Hoist, and Monorail System Manufacturing "},333923,"Overhead Traveling Crane, Hoist, and Monorail System Manufacturing ",{"$f":"Select_naics2022[[#This Row],[2022 NAICS Title]]","v":"Overhead Traveling Crane, Hoist, and Monorail System Manufacturing "}]
[{"$nulls":43},{"$f":"Select_naics2022[[#This Row],[2022 NAICS Code]]&\":  \"&Select_naics2022[[#This Row],[2022 NAICS Title]]","v":"333924:  Industrial Truck, Tractor, Trailer, and Stacker Machinery Manufacturing "},333924,"Industrial Truck, Tractor, Trailer, and Stacker Machinery Manufacturing ",{"$f":"Select_naics2022[[#This Row],[2022 NAICS Title]]","v":"Industrial Truck, Tractor, Trailer, and Stacker Machinery Manufacturing "}]
[{"$nulls":43},{"$f":"Select_naics2022[[#This Row],[2022 NAICS Code]]&\":  \"&Select_naics2022[[#This Row],[2022 NAICS Title]]","v":"333991:  Power-Driven Handtool Manufacturing "},333991,"Power-Driven Handtool Manufacturing ",{"$f":"Select_naics2022[[#This Row],[2022 NAICS Title]]","v":"Power-Driven Handtool Manufacturing "}]
[{"$nulls":43},{"$f":"Select_naics2022[[#This Row],[2022 NAICS Code]]&\":  \"&Select_naics2022[[#This Row],[2022 NAICS Title]]","v":"333992:  Welding and Soldering Equipment Manufacturing "},333992,"Welding and Soldering Equipment Manufacturing ",{"$f":"Select_naics2022[[#This Row],[2022 NAICS Title]]","v":"Welding and Soldering Equipment Manufacturing "}]
[{"$nulls":43},{"$f":"Select_naics2022[[#This Row],[2022 NAICS Code]]&\":  \"&Select_naics2022[[#This Row],[2022 NAICS Title]]","v":"333993:  Packaging Machinery Manufacturing "},333993,"Packaging Machinery Manufacturing ",{"$f":"Select_naics2022[[#This Row],[2022 NAICS Title]]","v":"Packaging Machinery Manufacturing "}]
[{"$nulls":43},{"$f":"Select_naics2022[[#This Row],[2022 NAICS Code]]&\":  \"&Select_naics2022[[#This Row],[2022 NAICS Title]]","v":"333994:  Industrial Process Furnace and Oven Manufacturing "},333994,"Industrial Process Furnace and Oven Manufacturing ",{"$f":"Select_naics2022[[#This Row],[2022 NAICS Title]]","v":"Industrial Process Furnace and Oven Manufacturing "}]
[{"$nulls":43},{"$f":"Select_naics2022[[#This Row],[2022 NAICS Code]]&\":  \"&Select_naics2022[[#This Row],[2022 NAICS Title]]","v":"333995:  Fluid Power Cylinder and Actuator Manufacturing "},333995,"Fluid Power Cylinder and Actuator Manufacturing ",{"$f":"Select_naics2022[[#This Row],[2022 NAICS Title]]","v":"Fluid Power Cylinder and Actuator Manufacturing "}]
[{"$nulls":43},{"$f":"Select_naics2022[[#This Row],[2022 NAICS Code]]&\":  \"&Select_naics2022[[#This Row],[2022 NAICS Title]]","v":"333996:  Fluid Power Pump and Motor Manufacturing "},333996,"Fluid Power Pump and Motor Manufacturing ",{"$f":"Select_naics2022[[#This Row],[2022 NAICS Title]]","v":"Fluid Power Pump and Motor Manufacturing "}]
[{"$nulls":43},{"$f":"Select_naics2022[[#This Row],[2022 NAICS Code]]&\":  \"&Select_naics2022[[#This Row],[2022 NAICS Title]]","v":"333998:  All Other Miscellaneous General Purpose Machinery Manufacturing "},333998,"All Other Miscellaneous General Purpose Machinery Manufacturing ",{"$f":"Select_naics2022[[#This Row],[2022 NAICS Title]]","v":"All Other Miscellaneous General Purpose Machinery Manufacturing "}]
[{"$nulls":43},{"$f":"Select_naics2022[[#This Row],[2022 NAICS Code]]&\":  \"&Select_naics2022[[#This Row],[2022 NAICS Title]]","v":"334111:  Electronic Computer Manufacturing "},334111,"Electronic Computer Manufacturing ",{"$f":"Select_naics2022[[#This Row],[2022 NAICS Title]]","v":"Electronic Computer Manufacturing "}]
[{"$nulls":43},{"$f":"Select_naics2022[[#This Row],[2022 NAICS Code]]&\":  \"&Select_naics2022[[#This Row],[2022 NAICS Title]]","v":"334112:  Computer Storage Device Manufacturing "},334112,"Computer Storage Device Manufacturing ",{"$f":"Select_naics2022[[#This Row],[2022 NAICS Title]]","v":"Computer Storage Device Manufacturing "}]
[{"$nulls":43},{"$f":"Select_naics2022[[#This Row],[2022 NAICS Code]]&\":  \"&Select_naics2022[[#This Row],[2022 NAICS Title]]","v":"334118:  Computer Terminal and Other Computer Peripheral Equipment Manufacturing "},334118,"Computer Terminal and Other Computer Peripheral Equipment Manufacturing ",{"$f":"Select_naics2022[[#This Row],[2022 NAICS Title]]","v":"Computer Terminal and Other Computer Peripheral Equipment Manufacturing "}]
[{"$nulls":43},{"$f":"Select_naics2022[[#This Row],[2022 NAICS Code]]&\":  \"&Select_naics2022[[#This Row],[2022 NAICS Title]]","v":"334210:  Telephone Apparatus Manufacturing"},334210,"Telephone Apparatus Manufacturing",{"$f":"Select_naics2022[[#This Row],[2022 NAICS Title]]","v":"Telephone Apparatus Manufacturing"}]
[{"$nulls":43},{"$f":"Select_naics2022[[#This Row],[2022 NAICS Code]]&\":  \"&Select_naics2022[[#This Row],[2022 NAICS Title]]","v":"334220:  Radio and Television Broadcasting and Wireless Communications Equipment Manufacturing"},334220,"Radio and Television Broadcasting and Wireless Communications Equipment Manufacturing",{"$f":"Select_naics2022[[#This Row],[2022 NAICS Title]]","v":"Radio and Television Broadcasting and Wireless Communications Equipment Manufacturing"}]
[{"$nulls":43},{"$f":"Select_naics2022[[#This Row],[2022 NAICS Code]]&\":  \"&Select_naics2022[[#This Row],[2022 NAICS Title]]","v":"334290:  Other Communications Equipment Manufacturing"},334290,"Other Communications Equipment Manufacturing",{"$f":"Select_naics2022[[#This Row],[2022 NAICS Title]]","v":"Other Communications Equipment Manufacturing"}]
[{"$nulls":43},{"$f":"Select_naics2022[[#This Row],[2022 NAICS Code]]&\":  \"&Select_naics2022[[#This Row],[2022 NAICS Title]]","v":"334310:  Audio and Video Equipment Manufacturing"},334310,"Audio and Video Equipment Manufacturing",{"$f":"Select_naics2022[[#This Row],[2022 NAICS Title]]","v":"Audio and Video Equipment Manufacturing"}]
[{"$nulls":43},{"$f":"Select_naics2022[[#This Row],[2022 NAICS Code]]&\":  \"&Select_naics2022[[#This Row],[2022 NAICS Title]]","v":"334412:  Bare Printed Circuit Board Manufacturing  "},334412,"Bare Printed Circuit Board Manufacturing  ",{"$f":"Select_naics2022[[#This Row],[2022 NAICS Title]]","v":"Bare Printed Circuit Board Manufacturing  "}]
[{"$nulls":43},{"$f":"Select_naics2022[[#This Row],[2022 NAICS Code]]&\":  \"&Select_naics2022[[#This Row],[2022 NAICS Title]]","v":"334413:  Semiconductor and Related Device Manufacturing "},334413,"Semiconductor and Related Device Manufacturing ",{"$f":"Select_naics2022[[#This Row],[2022 NAICS Title]]","v":"Semiconductor and Related Device Manufacturing "}]
[{"$nulls":43},{"$f":"Select_naics2022[[#This Row],[2022 NAICS Code]]&\":  \"&Select_naics2022[[#This Row],[2022 NAICS Title]]","v":"334416:  Capacitor, Resistor, Coil, Transformer, and Other Inductor Manufacturing "},334416,"Capacitor, Resistor, Coil, Transformer, and Other Inductor Manufacturing ",{"$f":"Select_naics2022[[#This Row],[2022 NAICS Title]]","v":"Capacitor, Resistor, Coil, Transformer, and Other Inductor Manufacturing "}]
[{"$nulls":43},{"$f":"Select_naics2022[[#This Row],[2022 NAICS Code]]&\":  \"&Select_naics2022[[#This Row],[2022 NAICS Title]]","v":"334417:  Electronic Connector Manufacturing "},334417,"Electronic Connector Manufacturing ",{"$f":"Select_naics2022[[#This Row],[2022 NAICS Title]]","v":"Electronic Connector Manufacturing "}]
[{"$nulls":43},{"$f":"Select_naics2022[[#This Row],[2022 NAICS Code]]&\":  \"&Select_naics2022[[#This Row],[2022 NAICS Title]]","v":"334418:  Printed Circuit Assembly (Electronic Assembly) Manufacturing "},334418,"Printed Circuit Assembly (Electronic Assembly) Manufacturing ",{"$f":"Select_naics2022[[#This Row],[2022 NAICS Title]]","v":"Printed Circuit Assembly (Electronic Assembly) Manufacturing "}]
[{"$nulls":43},{"$f":"Select_naics2022[[#This Row],[2022 NAICS Code]]&\":  \"&Select_naics2022[[#This Row],[2022 NAICS Title]]","v":"334419:  Other Electronic Component Manufacturing "},334419,"Other Electronic Component Manufacturing ",{"$f":"Select_naics2022[[#This Row],[2022 NAICS Title]]","v":"Other Electronic Component Manufacturing "}]
[{"$nulls":43},{"$f":"Select_naics2022[[#This Row],[2022 NAICS Code]]&\":  \"&Select_naics2022[[#This Row],[2022 NAICS Title]]","v":"334510:  Electromedical and Electrotherapeutic Apparatus Manufacturing "},334510,"Electromedical and Electrotherapeutic Apparatus Manufacturing ",{"$f":"Select_naics2022[[#This Row],[2022 NAICS Title]]","v":"Electromedical and Electrotherapeutic Apparatus Manufacturing "}]
[{"$nulls":43},{"$f":"Select_naics2022[[#This Row],[2022 NAICS Code]]&\":  \"&Select_naics2022[[#This Row],[2022 NAICS Title]]","v":"334511:  Search, Detection, Navigation, Guidance, Aeronautical, and Nautical System and Instrument Manufacturing "},334511,"Search, Detection, Navigation, Guidance, Aeronautical, and Nautical System and Instrument Manufacturing ",{"$f":"Select_naics2022[[#This Row],[2022 NAICS Title]]","v":"Search, Detection, Navigation, Guidance, Aeronautical, and Nautical System and Instrument Manufacturing "}]
[{"$nulls":43},{"$f":"Select_naics2022[[#This Row],[2022 NAICS Code]]&\":  \"&Select_naics2022[[#This Row],[2022 NAICS Title]]","v":"334512:  Automatic Environmental Control Manufacturing for Residential, Commercial, and Appliance Use "},334512,"Automatic Environmental Control Manufacturing for Residential, Commercial, and Appliance Use ",{"$f":"Select_naics2022[[#This Row],[2022 NAICS Title]]","v":"Automatic Environmental Control Manufacturing for Residential, Commercial, and Appliance Use "}]
[{"$nulls":43},{"$f":"Select_naics2022[[#This Row],[2022 NAICS Code]]&\":  \"&Select_naics2022[[#This Row],[2022 NAICS Title]]","v":"334513:  Instruments and Related Products Manufacturing for Measuring, Displaying, and Controlling Industrial Process Variables "},334513,"Instruments and Related Products Manufacturing for Measuring, Displaying, and Controlling Industrial Process Variables ",{"$f":"Select_naics2022[[#This Row],[2022 NAICS Title]]","v":"Instruments and Related Products Manufacturing for Measuring, Displaying, and Controlling Industrial Process Variables "}]
[{"$nulls":43},{"$f":"Select_naics2022[[#This Row],[2022 NAICS Code]]&\":  \"&Select_naics2022[[#This Row],[2022 NAICS Title]]","v":"334514:  Totalizing Fluid Meter and Counting Device Manufacturing "},334514,"Totalizing Fluid Meter and Counting Device Manufacturing ",{"$f":"Select_naics2022[[#This Row],[2022 NAICS Title]]","v":"Totalizing Fluid Meter and Counting Device Manufacturing "}]
[{"$nulls":43},{"$f":"Select_naics2022[[#This Row],[2022 NAICS Code]]&\":  \"&Select_naics2022[[#This Row],[2022 NAICS Title]]","v":"334515:  Instrument Manufacturing for Measuring and Testing Electricity and Electrical Signals "},334515,"Instrument Manufacturing for Measuring and Testing Electricity and Electrical Signals ",{"$f":"Select_naics2022[[#This Row],[2022 NAICS Title]]","v":"Instrument Manufacturing for Measuring and Testing Electricity and Electrical Signals "}]
[{"$nulls":43},{"$f":"Select_naics2022[[#This Row],[2022 NAICS Code]]&\":  \"&Select_naics2022[[#This Row],[2022 NAICS Title]]","v":"334516:  Analytical Laboratory Instrument Manufacturing "},334516,"Analytical Laboratory Instrument Manufacturing ",{"$f":"Select_naics2022[[#This Row],[2022 NAICS Title]]","v":"Analytical Laboratory Instrument Manufacturing "}]
[{"$nulls":43},{"$f":"Select_naics2022[[#This Row],[2022 NAICS Code]]&\":  \"&Select_naics2022[[#This Row],[2022 NAICS Title]]","v":"334517:  Irradiation Apparatus Manufacturing "},334517,"Irradiation Apparatus Manufacturing ",{"$f":"Select_naics2022[[#This Row],[2022 NAICS Title]]","v":"Irradiation Apparatus Manufacturing "}]
[{"$nulls":43},{"$f":"Select_naics2022[[#This Row],[2022 NAICS Code]]&\":  \"&Select_naics2022[[#This Row],[2022 NAICS Title]]","v":"334519:  Other Measuring and Controlling Device Manufacturing "},334519,"Other Measuring and Controlling Device Manufacturing ",{"$f":"Select_naics2022[[#This Row],[2022 NAICS Title]]","v":"Other Measuring and Controlling Device Manufacturing "}]
[{"$nulls":43},{"$f":"Select_naics2022[[#This Row],[2022 NAICS Code]]&\":  \"&Select_naics2022[[#This Row],[2022 NAICS Title]]","v":"334610:  Manufacturing and Reproducing Magnetic and Optical Media "},334610,"Manufacturing and Reproducing Magnetic and Optical Media ",{"$f":"Select_naics2022[[#This Row],[2022 NAICS Title]]","v":"Manufacturing and Reproducing Magnetic and Optical Media "}]
[{"$nulls":43},{"$f":"Select_naics2022[[#This Row],[2022 NAICS Code]]&\":  \"&Select_naics2022[[#This Row],[2022 NAICS Title]]","v":"335131:  Residential Electric Lighting Fixture Manufacturing "},335131,"Residential Electric Lighting Fixture Manufacturing ",{"$f":"Select_naics2022[[#This Row],[2022 NAICS Title]]","v":"Residential Electric Lighting Fixture Manufacturing "}]
[{"$nulls":43},{"$f":"Select_naics2022[[#This Row],[2022 NAICS Code]]&\":  \"&Select_naics2022[[#This Row],[2022 NAICS Title]]","v":"335132:  Commercial, Industrial, and Institutional Electric Lighting Fixture Manufacturing "},335132,"Commercial, Industrial, and Institutional Electric Lighting Fixture Manufacturing ",{"$f":"Select_naics2022[[#This Row],[2022 NAICS Title]]","v":"Commercial, Industrial, and Institutional Electric Lighting Fixture Manufacturing "}]
[{"$nulls":43},{"$f":"Select_naics2022[[#This Row],[2022 NAICS Code]]&\":  \"&Select_naics2022[[#This Row],[2022 NAICS Title]]","v":"335139:  Electric Lamp Bulb and Other Lighting Equipment Manufacturing "},335139,"Electric Lamp Bulb and Other Lighting Equipment Manufacturing ",{"$f":"Select_naics2022[[#This Row],[2022 NAICS Title]]","v":"Electric Lamp Bulb and Other Lighting Equipment Manufacturing "}]
[{"$nulls":43},{"$f":"Select_naics2022[[#This Row],[2022 NAICS Code]]&\":  \"&Select_naics2022[[#This Row],[2022 NAICS Title]]","v":"335210:  Small Electrical Appliance Manufacturing"},335210,"Small Electrical Appliance Manufacturing",{"$f":"Select_naics2022[[#This Row],[2022 NAICS Title]]","v":"Small Electrical Appliance Manufacturing"}]
[{"$nulls":43},{"$f":"Select_naics2022[[#This Row],[2022 NAICS Code]]&\":  \"&Select_naics2022[[#This Row],[2022 NAICS Title]]","v":"335220:  Major Household Appliance Manufacturing "},335220,"Major Household Appliance Manufacturing ",{"$f":"Select_naics2022[[#This Row],[2022 NAICS Title]]","v":"Major Household Appliance Manufacturing "}]
[{"$nulls":43},{"$f":"Select_naics2022[[#This Row],[2022 NAICS Code]]&\":  \"&Select_naics2022[[#This Row],[2022 NAICS Title]]","v":"335311:  Power, Distribution, and Specialty Transformer Manufacturing "},335311,"Power, Distribution, and Specialty Transformer Manufacturing ",{"$f":"Select_naics2022[[#This Row],[2022 NAICS Title]]","v":"Power, Distribution, and Specialty Transformer Manufacturing "}]
[{"$nulls":43},{"$f":"Select_naics2022[[#This Row],[2022 NAICS Code]]&\":  \"&Select_naics2022[[#This Row],[2022 NAICS Title]]","v":"335312:  Motor and Generator Manufacturing "},335312,"Motor and Generator Manufacturing ",{"$f":"Select_naics2022[[#This Row],[2022 NAICS Title]]","v":"Motor and Generator Manufacturing "}]
[{"$nulls":43},{"$f":"Select_naics2022[[#This Row],[2022 NAICS Code]]&\":  \"&Select_naics2022[[#This Row],[2022 NAICS Title]]","v":"335313:  Switchgear and Switchboard Apparatus Manufacturing "},335313,"Switchgear and Switchboard Apparatus Manufacturing ",{"$f":"Select_naics2022[[#This Row],[2022 NAICS Title]]","v":"Switchgear and Switchboard Apparatus Manufacturing "}]
[{"$nulls":43},{"$f":"Select_naics2022[[#This Row],[2022 NAICS Code]]&\":  \"&Select_naics2022[[#This Row],[2022 NAICS Title]]","v":"335314:  Relay and Industrial Control Manufacturing "},335314,"Relay and Industrial Control Manufacturing ",{"$f":"Select_naics2022[[#This Row],[2022 NAICS Title]]","v":"Relay and Industrial Control Manufacturing "}]
[{"$nulls":43},{"$f":"Select_naics2022[[#This Row],[2022 NAICS Code]]&\":  \"&Select_naics2022[[#This Row],[2022 NAICS Title]]","v":"335910:  Battery Manufacturing "},335910,"Battery Manufacturing ",{"$f":"Select_naics2022[[#This Row],[2022 NAICS Title]]","v":"Battery Manufacturing "}]
[{"$nulls":43},{"$f":"Select_naics2022[[#This Row],[2022 NAICS Code]]&\":  \"&Select_naics2022[[#This Row],[2022 NAICS Title]]","v":"335921:  Fiber Optic Cable Manufacturing "},335921,"Fiber Optic Cable Manufacturing ",{"$f":"Select_naics2022[[#This Row],[2022 NAICS Title]]","v":"Fiber Optic Cable Manufacturing "}]
[{"$nulls":43},{"$f":"Select_naics2022[[#This Row],[2022 NAICS Code]]&\":  \"&Select_naics2022[[#This Row],[2022 NAICS Title]]","v":"335929:  Other Communication and Energy Wire Manufacturing "},335929,"Other Communication and Energy Wire Manufacturing ",{"$f":"Select_naics2022[[#This Row],[2022 NAICS Title]]","v":"Other Communication and Energy Wire Manufacturing "}]
[{"$nulls":43},{"$f":"Select_naics2022[[#This Row],[2022 NAICS Code]]&\":  \"&Select_naics2022[[#This Row],[2022 NAICS Title]]","v":"335931:  Current-Carrying Wiring Device Manufacturing "},335931,"Current-Carrying Wiring Device Manufacturing ",{"$f":"Select_naics2022[[#This Row],[2022 NAICS Title]]","v":"Current-Carrying Wiring Device Manufacturing "}]
[{"$nulls":43},{"$f":"Select_naics2022[[#This Row],[2022 NAICS Code]]&\":  \"&Select_naics2022[[#This Row],[2022 NAICS Title]]","v":"335932:  Noncurrent-Carrying Wiring Device Manufacturing "},335932,"Noncurrent-Carrying Wiring Device Manufacturing ",{"$f":"Select_naics2022[[#This Row],[2022 NAICS Title]]","v":"Noncurrent-Carrying Wiring Device Manufacturing "}]
[{"$nulls":43},{"$f":"Select_naics2022[[#This Row],[2022 NAICS Code]]&\":  \"&Select_naics2022[[#This Row],[2022 NAICS Title]]","v":"335991:  Carbon and Graphite Product Manufacturing "},335991,"Carbon and Graphite Product Manufacturing ",{"$f":"Select_naics2022[[#This Row],[2022 NAICS Title]]","v":"Carbon and Graphite Product Manufacturing "}]
[{"$nulls":43},{"$f":"Select_naics2022[[#This Row],[2022 NAICS Code]]&\":  \"&Select_naics2022[[#This Row],[2022 NAICS Title]]","v":"335999:  All Other Miscellaneous Electrical Equipment and Component Manufacturing "},335999,"All Other Miscellaneous Electrical Equipment and Component Manufacturing ",{"$f":"Select_naics2022[[#This Row],[2022 NAICS Title]]","v":"All Other Miscellaneous Electrical Equipment and Component Manufacturing "}]
[{"$nulls":43},{"$f":"Select_naics2022[[#This Row],[2022 NAICS Code]]&\":  \"&Select_naics2022[[#This Row],[2022 NAICS Title]]","v":"336110:  Automobile and Light Duty Motor Vehicle Manufacturing "},336110,"Automobile and Light Duty Motor Vehicle Manufacturing ",{"$f":"Select_naics2022[[#This Row],[2022 NAICS Title]]","v":"Automobile and Light Duty Motor Vehicle Manufacturing "}]
[{"$nulls":43},{"$f":"Select_naics2022[[#This Row],[2022 NAICS Code]]&\":  \"&Select_naics2022[[#This Row],[2022 NAICS Title]]","v":"336120:  Heavy Duty Truck Manufacturing"},336120,"Heavy Duty Truck Manufacturing",{"$f":"Select_naics2022[[#This Row],[2022 NAICS Title]]","v":"Heavy Duty Truck Manufacturing"}]
[{"$nulls":43},{"$f":"Select_naics2022[[#This Row],[2022 NAICS Code]]&\":  \"&Select_naics2022[[#This Row],[2022 NAICS Title]]","v":"336211:  Motor Vehicle Body Manufacturing "},336211,"Motor Vehicle Body Manufacturing ",{"$f":"Select_naics2022[[#This Row],[2022 NAICS Title]]","v":"Motor Vehicle Body Manufacturing "}]
[{"$nulls":43},{"$f":"Select_naics2022[[#This Row],[2022 NAICS Code]]&\":  \"&Select_naics2022[[#This Row],[2022 NAICS Title]]","v":"336212:  Truck Trailer Manufacturing "},336212,"Truck Trailer Manufacturing ",{"$f":"Select_naics2022[[#This Row],[2022 NAICS Title]]","v":"Truck Trailer Manufacturing "}]
[{"$nulls":43},{"$f":"Select_naics2022[[#This Row],[2022 NAICS Code]]&\":  \"&Select_naics2022[[#This Row],[2022 NAICS Title]]","v":"336213:  Motor Home Manufacturing "},336213,"Motor Home Manufacturing ",{"$f":"Select_naics2022[[#This Row],[2022 NAICS Title]]","v":"Motor Home Manufacturing "}]
[{"$nulls":43},{"$f":"Select_naics2022[[#This Row],[2022 NAICS Code]]&\":  \"&Select_naics2022[[#This Row],[2022 NAICS Title]]","v":"336214:  Travel Trailer and Camper Manufacturing "},336214,"Travel Trailer and Camper Manufacturing ",{"$f":"Select_naics2022[[#This Row],[2022 NAICS Title]]","v":"Travel Trailer and Camper Manufacturing "}]
[{"$nulls":43},{"$f":"Select_naics2022[[#This Row],[2022 NAICS Code]]&\":  \"&Select_naics2022[[#This Row],[2022 NAICS Title]]","v":"336310:  Motor Vehicle Gasoline Engine and Engine Parts Manufacturing"},336310,"Motor Vehicle Gasoline Engine and Engine Parts Manufacturing",{"$f":"Select_naics2022[[#This Row],[2022 NAICS Title]]","v":"Motor Vehicle Gasoline Engine and Engine Parts Manufacturing"}]
[{"$nulls":43},{"$f":"Select_naics2022[[#This Row],[2022 NAICS Code]]&\":  \"&Select_naics2022[[#This Row],[2022 NAICS Title]]","v":"336320:  Motor Vehicle Electrical and Electronic Equipment Manufacturing"},336320,"Motor Vehicle Electrical and Electronic Equipment Manufacturing",{"$f":"Select_naics2022[[#This Row],[2022 NAICS Title]]","v":"Motor Vehicle Electrical and Electronic Equipment Manufacturing"}]
[{"$nulls":43},{"$f":"Select_naics2022[[#This Row],[2022 NAICS Code]]&\":  \"&Select_naics2022[[#This Row],[2022 NAICS Title]]","v":"336330:  Motor Vehicle Steering and Suspension Components (except Spring) Manufacturing"},336330,"Motor Vehicle Steering and Suspension Components (except Spring) Manufacturing",{"$f":"Select_naics2022[[#This Row],[2022 NAICS Title]]","v":"Motor Vehicle Steering and Suspension Components (except Spring) Manufacturing"}]
[{"$nulls":43},{"$f":"Select_naics2022[[#This Row],[2022 NAICS Code]]&\":  \"&Select_naics2022[[#This Row],[2022 NAICS Title]]","v":"336340:  Motor Vehicle Brake System Manufacturing"},336340,"Motor Vehicle Brake System Manufacturing",{"$f":"Select_naics2022[[#This Row],[2022 NAICS Title]]","v":"Motor Vehicle Brake System Manufacturing"}]
[{"$nulls":43},{"$f":"Select_naics2022[[#This Row],[2022 NAICS Code]]&\":  \"&Select_naics2022[[#This Row],[2022 NAICS Title]]","v":"336350:  Motor Vehicle Transmission and Power Train Parts Manufacturing"},336350,"Motor Vehicle Transmission and Power Train Parts Manufacturing",{"$f":"Select_naics2022[[#This Row],[2022 NAICS Title]]","v":"Motor Vehicle Transmission and Power Train Parts Manufacturing"}]
[{"$nulls":43},{"$f":"Select_naics2022[[#This Row],[2022 NAICS Code]]&\":  \"&Select_naics2022[[#This Row],[2022 NAICS Title]]","v":"336360:  Motor Vehicle Seating and Interior Trim Manufacturing"},336360,"Motor Vehicle Seating and Interior Trim Manufacturing",{"$f":"Select_naics2022[[#This Row],[2022 NAICS Title]]","v":"Motor Vehicle Seating and Interior Trim Manufacturing"}]
[{"$nulls":43},{"$f":"Select_naics2022[[#This Row],[2022 NAICS Code]]&\":  \"&Select_naics2022[[#This Row],[2022 NAICS Title]]","v":"336370:  Motor Vehicle Metal Stamping"},336370,"Motor Vehicle Metal Stamping",{"$f":"Select_naics2022[[#This Row],[2022 NAICS Title]]","v":"Motor Vehicle Metal Stamping"}]
[{"$nulls":43},{"$f":"Select_naics2022[[#This Row],[2022 NAICS Code]]&\":  \"&Select_naics2022[[#This Row],[2022 NAICS Title]]","v":"336390:  Other Motor Vehicle Parts Manufacturing"},336390,"Other Motor Vehicle Parts Manufacturing",{"$f":"Select_naics2022[[#This Row],[2022 NAICS Title]]","v":"Other Motor Vehicle Parts Manufacturing"}]
[{"$nulls":43},{"$f":"Select_naics2022[[#This Row],[2022 NAICS Code]]&\":  \"&Select_naics2022[[#This Row],[2022 NAICS Title]]","v":"336411:  Aircraft Manufacturing "},336411,"Aircraft Manufacturing ",{"$f":"Select_naics2022[[#This Row],[2022 NAICS Title]]","v":"Aircraft Manufacturing "}]
[{"$nulls":43},{"$f":"Select_naics2022[[#This Row],[2022 NAICS Code]]&\":  \"&Select_naics2022[[#This Row],[2022 NAICS Title]]","v":"336412:  Aircraft Engine and Engine Parts Manufacturing "},336412,"Aircraft Engine and Engine Parts Manufacturing ",{"$f":"Select_naics2022[[#This Row],[2022 NAICS Title]]","v":"Aircraft Engine and Engine Parts Manufacturing "}]
[{"$nulls":43},{"$f":"Select_naics2022[[#This Row],[2022 NAICS Code]]&\":  \"&Select_naics2022[[#This Row],[2022 NAICS Title]]","v":"336413:  Other Aircraft Parts and Auxiliary Equipment Manufacturing "},336413,"Other Aircraft Parts and Auxiliary Equipment Manufacturing ",{"$f":"Select_naics2022[[#This Row],[2022 NAICS Title]]","v":"Other Aircraft Parts and Auxiliary Equipment Manufacturing "}]
[{"$nulls":43},{"$f":"Select_naics2022[[#This Row],[2022 NAICS Code]]&\":  \"&Select_naics2022[[#This Row],[2022 NAICS Title]]","v":"336414:  Guided Missile and Space Vehicle Manufacturing "},336414,"Guided Missile and Space Vehicle Manufacturing ",{"$f":"Select_naics2022[[#This Row],[2022 NAICS Title]]","v":"Guided Missile and Space Vehicle Manufacturing "}]
[{"$nulls":43},{"$f":"Select_naics2022[[#This Row],[2022 NAICS Code]]&\":  \"&Select_naics2022[[#This Row],[2022 NAICS Title]]","v":"336415:  Guided Missile and Space Vehicle Propulsion Unit and Propulsion Unit Parts Manufacturing "},336415,"Guided Missile and Space Vehicle Propulsion Unit and Propulsion Unit Parts Manufacturing ",{"$f":"Select_naics2022[[#This Row],[2022 NAICS Title]]","v":"Guided Missile and Space Vehicle Propulsion Unit and Propulsion Unit Parts Manufacturing "}]
[{"$nulls":43},{"$f":"Select_naics2022[[#This Row],[2022 NAICS Code]]&\":  \"&Select_naics2022[[#This Row],[2022 NAICS Title]]","v":"336419:  Other Guided Missile and Space Vehicle Parts and Auxiliary Equipment Manufacturing "},336419,"Other Guided Missile and Space Vehicle Parts and Auxiliary Equipment Manufacturing ",{"$f":"Select_naics2022[[#This Row],[2022 NAICS Title]]","v":"Other Guided Missile and Space Vehicle Parts and Auxiliary Equipment Manufacturing "}]
[{"$nulls":43},{"$f":"Select_naics2022[[#This Row],[2022 NAICS Code]]&\":  \"&Select_naics2022[[#This Row],[2022 NAICS Title]]","v":"336510:  Railroad Rolling Stock Manufacturing"},336510,"Railroad Rolling Stock Manufacturing",{"$f":"Select_naics2022[[#This Row],[2022 NAICS Title]]","v":"Railroad Rolling Stock Manufacturing"}]
[{"$nulls":43},{"$f":"Select_naics2022[[#This Row],[2022 NAICS Code]]&\":  \"&Select_naics2022[[#This Row],[2022 NAICS Title]]","v":"336611:  Ship Building and Repairing "},336611,"Ship Building and Repairing ",{"$f":"Select_naics2022[[#This Row],[2022 NAICS Title]]","v":"Ship Building and Repairing "}]
[{"$nulls":43},{"$f":"Select_naics2022[[#This Row],[2022 NAICS Code]]&\":  \"&Select_naics2022[[#This Row],[2022 NAICS Title]]","v":"336612:  Boat Building "},336612,"Boat Building ",{"$f":"Select_naics2022[[#This Row],[2022 NAICS Title]]","v":"Boat Building "}]
[{"$nulls":43},{"$f":"Select_naics2022[[#This Row],[2022 NAICS Code]]&\":  \"&Select_naics2022[[#This Row],[2022 NAICS Title]]","v":"336991:  Motorcycle, Bicycle, and Parts Manufacturing "},336991,"Motorcycle, Bicycle, and Parts Manufacturing ",{"$f":"Select_naics2022[[#This Row],[2022 NAICS Title]]","v":"Motorcycle, Bicycle, and Parts Manufacturing "}]
[{"$nulls":43},{"$f":"Select_naics2022[[#This Row],[2022 NAICS Code]]&\":  \"&Select_naics2022[[#This Row],[2022 NAICS Title]]","v":"336992:  Military Armored Vehicle, Tank, and Tank Component Manufacturing "},336992,"Military Armored Vehicle, Tank, and Tank Component Manufacturing ",{"$f":"Select_naics2022[[#This Row],[2022 NAICS Title]]","v":"Military Armored Vehicle, Tank, and Tank Component Manufacturing "}]
[{"$nulls":43},{"$f":"Select_naics2022[[#This Row],[2022 NAICS Code]]&\":  \"&Select_naics2022[[#This Row],[2022 NAICS Title]]","v":"336999:  All Other Transportation Equipment Manufacturing "},336999,"All Other Transportation Equipment Manufacturing ",{"$f":"Select_naics2022[[#This Row],[2022 NAICS Title]]","v":"All Other Transportation Equipment Manufacturing "}]
[{"$nulls":43},{"$f":"Select_naics2022[[#This Row],[2022 NAICS Code]]&\":  \"&Select_naics2022[[#This Row],[2022 NAICS Title]]","v":"337110:  Wood Kitchen Cabinet and Countertop Manufacturing"},337110,"Wood Kitchen Cabinet and Countertop Manufacturing",{"$f":"Select_naics2022[[#This Row],[2022 NAICS Title]]","v":"Wood Kitchen Cabinet and Countertop Manufacturing"}]
[{"$nulls":43},{"$f":"Select_naics2022[[#This Row],[2022 NAICS Code]]&\":  \"&Select_naics2022[[#This Row],[2022 NAICS Title]]","v":"337121:  Upholstered Household Furniture Manufacturing "},337121,"Upholstered Household Furniture Manufacturing ",{"$f":"Select_naics2022[[#This Row],[2022 NAICS Title]]","v":"Upholstered Household Furniture Manufacturing "}]
[{"$nulls":43},{"$f":"Select_naics2022[[#This Row],[2022 NAICS Code]]&\":  \"&Select_naics2022[[#This Row],[2022 NAICS Title]]","v":"337122:  Nonupholstered Wood Household Furniture Manufacturing "},337122,"Nonupholstered Wood Household Furniture Manufacturing ",{"$f":"Select_naics2022[[#This Row],[2022 NAICS Title]]","v":"Nonupholstered Wood Household Furniture Manufacturing "}]
[{"$nulls":43},{"$f":"Select_naics2022[[#This Row],[2022 NAICS Code]]&\":  \"&Select_naics2022[[#This Row],[2022 NAICS Title]]","v":"337126:  Household Furniture (except Wood and Upholstered) Manufacturing "},337126,"Household Furniture (except Wood and Upholstered) Manufacturing ",{"$f":"Select_naics2022[[#This Row],[2022 NAICS Title]]","v":"Household Furniture (except Wood and Upholstered) Manufacturing "}]
[{"$nulls":43},{"$f":"Select_naics2022[[#This Row],[2022 NAICS Code]]&\":  \"&Select_naics2022[[#This Row],[2022 NAICS Title]]","v":"337127:  Institutional Furniture Manufacturing "},337127,"Institutional Furniture Manufacturing ",{"$f":"Select_naics2022[[#This Row],[2022 NAICS Title]]","v":"Institutional Furniture Manufacturing "}]
[{"$nulls":43},{"$f":"Select_naics2022[[#This Row],[2022 NAICS Code]]&\":  \"&Select_naics2022[[#This Row],[2022 NAICS Title]]","v":"337211:  Wood Office Furniture Manufacturing "},337211,"Wood Office Furniture Manufacturing ",{"$f":"Select_naics2022[[#This Row],[2022 NAICS Title]]","v":"Wood Office Furniture Manufacturing "}]
[{"$nulls":43},{"$f":"Select_naics2022[[#This Row],[2022 NAICS Code]]&\":  \"&Select_naics2022[[#This Row],[2022 NAICS Title]]","v":"337212:  Custom Architectural Woodwork and Millwork Manufacturing "},337212,"Custom Architectural Woodwork and Millwork Manufacturing ",{"$f":"Select_naics2022[[#This Row],[2022 NAICS Title]]","v":"Custom Architectural Woodwork and Millwork Manufacturing "}]
[{"$nulls":43},{"$f":"Select_naics2022[[#This Row],[2022 NAICS Code]]&\":  \"&Select_naics2022[[#This Row],[2022 NAICS Title]]","v":"337214:  Office Furniture (except Wood) Manufacturing "},337214,"Office Furniture (except Wood) Manufacturing ",{"$f":"Select_naics2022[[#This Row],[2022 NAICS Title]]","v":"Office Furniture (except Wood) Manufacturing "}]
[{"$nulls":43},{"$f":"Select_naics2022[[#This Row],[2022 NAICS Code]]&\":  \"&Select_naics2022[[#This Row],[2022 NAICS Title]]","v":"337215:  Showcase, Partition, Shelving, and Locker Manufacturing "},337215,"Showcase, Partition, Shelving, and Locker Manufacturing ",{"$f":"Select_naics2022[[#This Row],[2022 NAICS Title]]","v":"Showcase, Partition, Shelving, and Locker Manufacturing "}]
[{"$nulls":43},{"$f":"Select_naics2022[[#This Row],[2022 NAICS Code]]&\":  \"&Select_naics2022[[#This Row],[2022 NAICS Title]]","v":"337910:  Mattress Manufacturing"},337910,"Mattress Manufacturing",{"$f":"Select_naics2022[[#This Row],[2022 NAICS Title]]","v":"Mattress Manufacturing"}]
[{"$nulls":43},{"$f":"Select_naics2022[[#This Row],[2022 NAICS Code]]&\":  \"&Select_naics2022[[#This Row],[2022 NAICS Title]]","v":"337920:  Blind and Shade Manufacturing"},337920,"Blind and Shade Manufacturing",{"$f":"Select_naics2022[[#This Row],[2022 NAICS Title]]","v":"Blind and Shade Manufacturing"}]
[{"$nulls":43},{"$f":"Select_naics2022[[#This Row],[2022 NAICS Code]]&\":  \"&Select_naics2022[[#This Row],[2022 NAICS Title]]","v":"339112:  Surgical and Medical Instrument Manufacturing "},339112,"Surgical and Medical Instrument Manufacturing ",{"$f":"Select_naics2022[[#This Row],[2022 NAICS Title]]","v":"Surgical and Medical Instrument Manufacturing "}]
[{"$nulls":43},{"$f":"Select_naics2022[[#This Row],[2022 NAICS Code]]&\":  \"&Select_naics2022[[#This Row],[2022 NAICS Title]]","v":"339113:  Surgical Appliance and Supplies Manufacturing "},339113,"Surgical Appliance and Supplies Manufacturing ",{"$f":"Select_naics2022[[#This Row],[2022 NAICS Title]]","v":"Surgical Appliance and Supplies Manufacturing "}]
[{"$nulls":43},{"$f":"Select_naics2022[[#This Row],[2022 NAICS Code]]&\":  \"&Select_naics2022[[#This Row],[2022 NAICS Title]]","v":"339114:  Dental Equipment and Supplies Manufacturing "},339114,"Dental Equipment and Supplies Manufacturing ",{"$f":"Select_naics2022[[#This Row],[2022 NAICS Title]]","v":"Dental Equipment and Supplies Manufacturing "}]
[{"$nulls":43},{"$f":"Select_naics2022[[#This Row],[2022 NAICS Code]]&\":  \"&Select_naics2022[[#This Row],[2022 NAICS Title]]","v":"339115:  Ophthalmic Goods Manufacturing "},339115,"Ophthalmic Goods Manufacturing ",{"$f":"Select_naics2022[[#This Row],[2022 NAICS Title]]","v":"Ophthalmic Goods Manufacturing "}]
[{"$nulls":43},{"$f":"Select_naics2022[[#This Row],[2022 NAICS Code]]&\":  \"&Select_naics2022[[#This Row],[2022 NAICS Title]]","v":"339116:  Dental Laboratories "},339116,"Dental Laboratories ",{"$f":"Select_naics2022[[#This Row],[2022 NAICS Title]]","v":"Dental Laboratories "}]
[{"$nulls":43},{"$f":"Select_naics2022[[#This Row],[2022 NAICS Code]]&\":  \"&Select_naics2022[[#This Row],[2022 NAICS Title]]","v":"339910:  Jewelry and Silverware Manufacturing "},339910,"Jewelry and Silverware Manufacturing ",{"$f":"Select_naics2022[[#This Row],[2022 NAICS Title]]","v":"Jewelry and Silverware Manufacturing "}]
[{"$nulls":43},{"$f":"Select_naics2022[[#This Row],[2022 NAICS Code]]&\":  \"&Select_naics2022[[#This Row],[2022 NAICS Title]]","v":"339920:  Sporting and Athletic Goods Manufacturing"},339920,"Sporting and Athletic Goods Manufacturing",{"$f":"Select_naics2022[[#This Row],[2022 NAICS Title]]","v":"Sporting and Athletic Goods Manufacturing"}]
[{"$nulls":43},{"$f":"Select_naics2022[[#This Row],[2022 NAICS Code]]&\":  \"&Select_naics2022[[#This Row],[2022 NAICS Title]]","v":"339930:  Doll, Toy, and Game Manufacturing"},339930,"Doll, Toy, and Game Manufacturing",{"$f":"Select_naics2022[[#This Row],[2022 NAICS Title]]","v":"Doll, Toy, and Game Manufacturing"}]
[{"$nulls":43},{"$f":"Select_naics2022[[#This Row],[2022 NAICS Code]]&\":  \"&Select_naics2022[[#This Row],[2022 NAICS Title]]","v":"339940:  Office Supplies (except Paper) Manufacturing"},339940,"Office Supplies (except Paper) Manufacturing",{"$f":"Select_naics2022[[#This Row],[2022 NAICS Title]]","v":"Office Supplies (except Paper) Manufacturing"}]
[{"$nulls":43},{"$f":"Select_naics2022[[#This Row],[2022 NAICS Code]]&\":  \"&Select_naics2022[[#This Row],[2022 NAICS Title]]","v":"339950:  Sign Manufacturing"},339950,"Sign Manufacturing",{"$f":"Select_naics2022[[#This Row],[2022 NAICS Title]]","v":"Sign Manufacturing"}]
[{"$nulls":43},{"$f":"Select_naics2022[[#This Row],[2022 NAICS Code]]&\":  \"&Select_naics2022[[#This Row],[2022 NAICS Title]]","v":"339991:  Gasket, Packing, and Sealing Device Manufacturing "},339991,"Gasket, Packing, and Sealing Device Manufacturing ",{"$f":"Select_naics2022[[#This Row],[2022 NAICS Title]]","v":"Gasket, Packing, and Sealing Device Manufacturing "}]
[{"$nulls":43},{"$f":"Select_naics2022[[#This Row],[2022 NAICS Code]]&\":  \"&Select_naics2022[[#This Row],[2022 NAICS Title]]","v":"339992:  Musical Instrument Manufacturing "},339992,"Musical Instrument Manufacturing ",{"$f":"Select_naics2022[[#This Row],[2022 NAICS Title]]","v":"Musical Instrument Manufacturing "}]
[{"$nulls":43},{"$f":"Select_naics2022[[#This Row],[2022 NAICS Code]]&\":  \"&Select_naics2022[[#This Row],[2022 NAICS Title]]","v":"339993:  Fastener, Button, Needle, and Pin Manufacturing "},339993,"Fastener, Button, Needle, and Pin Manufacturing ",{"$f":"Select_naics2022[[#This Row],[2022 NAICS Title]]","v":"Fastener, Button, Needle, and Pin Manufacturing "}]
[{"$nulls":43},{"$f":"Select_naics2022[[#This Row],[2022 NAICS Code]]&\":  \"&Select_naics2022[[#This Row],[2022 NAICS Title]]","v":"339994:  Broom, Brush, and Mop Manufacturing "},339994,"Broom, Brush, and Mop Manufacturing ",{"$f":"Select_naics2022[[#This Row],[2022 NAICS Title]]","v":"Broom, Brush, and Mop Manufacturing "}]
[{"$nulls":43},{"$f":"Select_naics2022[[#This Row],[2022 NAICS Code]]&\":  \"&Select_naics2022[[#This Row],[2022 NAICS Title]]","v":"339995:  Burial Casket Manufacturing "},339995,"Burial Casket Manufacturing ",{"$f":"Select_naics2022[[#This Row],[2022 NAICS Title]]","v":"Burial Casket Manufacturing "}]
[{"$nulls":43},{"$f":"Select_naics2022[[#This Row],[2022 NAICS Code]]&\":  \"&Select_naics2022[[#This Row],[2022 NAICS Title]]","v":"339999:  All Other Miscellaneous Manufacturing "},339999,"All Other Miscellaneous Manufacturing ",{"$f":"Select_naics2022[[#This Row],[2022 NAICS Title]]","v":"All Other Miscellaneous Manufacturing "}]
[{"$nulls":43},{"$f":"Select_naics2022[[#This Row],[2022 NAICS Code]]&\":  \"&Select_naics2022[[#This Row],[2022 NAICS Title]]","v":"423110:  Automobile and Other Motor Vehicle Merchant Wholesalers "},423110,"Automobile and Other Motor Vehicle Merchant Wholesalers ",{"$f":"Select_naics2022[[#This Row],[2022 NAICS Title]]","v":"Automobile and Other Motor Vehicle Merchant Wholesalers "}]
[{"$nulls":43},{"$f":"Select_naics2022[[#This Row],[2022 NAICS Code]]&\":  \"&Select_naics2022[[#This Row],[2022 NAICS Title]]","v":"423120:  Motor Vehicle Supplies and New Parts Merchant Wholesalers "},423120,"Motor Vehicle Supplies and New Parts Merchant Wholesalers ",{"$f":"Select_naics2022[[#This Row],[2022 NAICS Title]]","v":"Motor Vehicle Supplies and New Parts Merchant Wholesalers "}]
[{"$nulls":43},{"$f":"Select_naics2022[[#This Row],[2022 NAICS Code]]&\":  \"&Select_naics2022[[#This Row],[2022 NAICS Title]]","v":"423130:  Tire and Tube Merchant Wholesalers "},423130,"Tire and Tube Merchant Wholesalers ",{"$f":"Select_naics2022[[#This Row],[2022 NAICS Title]]","v":"Tire and Tube Merchant Wholesalers "}]
[{"$nulls":43},{"$f":"Select_naics2022[[#This Row],[2022 NAICS Code]]&\":  \"&Select_naics2022[[#This Row],[2022 NAICS Title]]","v":"423140:  Motor Vehicle Parts (Used) Merchant Wholesalers "},423140,"Motor Vehicle Parts (Used) Merchant Wholesalers ",{"$f":"Select_naics2022[[#This Row],[2022 NAICS Title]]","v":"Motor Vehicle Parts (Used) Merchant Wholesalers "}]
[{"$nulls":43},{"$f":"Select_naics2022[[#This Row],[2022 NAICS Code]]&\":  \"&Select_naics2022[[#This Row],[2022 NAICS Title]]","v":"423210:  Furniture Merchant Wholesalers "},423210,"Furniture Merchant Wholesalers ",{"$f":"Select_naics2022[[#This Row],[2022 NAICS Title]]","v":"Furniture Merchant Wholesalers "}]
[{"$nulls":43},{"$f":"Select_naics2022[[#This Row],[2022 NAICS Code]]&\":  \"&Select_naics2022[[#This Row],[2022 NAICS Title]]","v":"423220:  Home Furnishing Merchant Wholesalers "},423220,"Home Furnishing Merchant Wholesalers ",{"$f":"Select_naics2022[[#This Row],[2022 NAICS Title]]","v":"Home Furnishing Merchant Wholesalers "}]
[{"$nulls":43},{"$f":"Select_naics2022[[#This Row],[2022 NAICS Code]]&\":  \"&Select_naics2022[[#This Row],[2022 NAICS Title]]","v":"423310:  Lumber, Plywood, Millwork, and Wood Panel Merchant Wholesalers "},423310,"Lumber, Plywood, Millwork, and Wood Panel Merchant Wholesalers ",{"$f":"Select_naics2022[[#This Row],[2022 NAICS Title]]","v":"Lumber, Plywood, Millwork, and Wood Panel Merchant Wholesalers "}]
[{"$nulls":43},{"$f":"Select_naics2022[[#This Row],[2022 NAICS Code]]&\":  \"&Select_naics2022[[#This Row],[2022 NAICS Title]]","v":"423320:  Brick, Stone, and Related Construction Material Merchant Wholesalers "},423320,"Brick, Stone, and Related Construction Material Merchant Wholesalers ",{"$f":"Select_naics2022[[#This Row],[2022 NAICS Title]]","v":"Brick, Stone, and Related Construction Material Merchant Wholesalers "}]
[{"$nulls":43},{"$f":"Select_naics2022[[#This Row],[2022 NAICS Code]]&\":  \"&Select_naics2022[[#This Row],[2022 NAICS Title]]","v":"423330:  Roofing, Siding, and Insulation Material Merchant Wholesalers "},423330,"Roofing, Siding, and Insulation Material Merchant Wholesalers ",{"$f":"Select_naics2022[[#This Row],[2022 NAICS Title]]","v":"Roofing, Siding, and Insulation Material Merchant Wholesalers "}]
[{"$nulls":43},{"$f":"Select_naics2022[[#This Row],[2022 NAICS Code]]&\":  \"&Select_naics2022[[#This Row],[2022 NAICS Title]]","v":"423390:  Other Construction Material Merchant Wholesalers "},423390,"Other Construction Material Merchant Wholesalers ",{"$f":"Select_naics2022[[#This Row],[2022 NAICS Title]]","v":"Other Construction Material Merchant Wholesalers "}]
[{"$nulls":43},{"$f":"Select_naics2022[[#This Row],[2022 NAICS Code]]&\":  \"&Select_naics2022[[#This Row],[2022 NAICS Title]]","v":"423410:  Photographic Equipment and Supplies Merchant Wholesalers "},423410,"Photographic Equipment and Supplies Merchant Wholesalers ",{"$f":"Select_naics2022[[#This Row],[2022 NAICS Title]]","v":"Photographic Equipment and Supplies Merchant Wholesalers "}]
[{"$nulls":43},{"$f":"Select_naics2022[[#This Row],[2022 NAICS Code]]&\":  \"&Select_naics2022[[#This Row],[2022 NAICS Title]]","v":"423420:  Office Equipment Merchant Wholesalers "},423420,"Office Equipment Merchant Wholesalers ",{"$f":"Select_naics2022[[#This Row],[2022 NAICS Title]]","v":"Office Equipment Merchant Wholesalers "}]
[{"$nulls":43},{"$f":"Select_naics2022[[#This Row],[2022 NAICS Code]]&\":  \"&Select_naics2022[[#This Row],[2022 NAICS Title]]","v":"423430:  Computer and Computer Peripheral Equipment and Software Merchant Wholesalers "},423430,"Computer and Computer Peripheral Equipment and Software Merchant Wholesalers ",{"$f":"Select_naics2022[[#This Row],[2022 NAICS Title]]","v":"Computer and Computer Peripheral Equipment and Software Merchant Wholesalers "}]
[{"$nulls":43},{"$f":"Select_naics2022[[#This Row],[2022 NAICS Code]]&\":  \"&Select_naics2022[[#This Row],[2022 NAICS Title]]","v":"423440:  Other Commercial Equipment Merchant Wholesalers "},423440,"Other Commercial Equipment Merchant Wholesalers ",{"$f":"Select_naics2022[[#This Row],[2022 NAICS Title]]","v":"Other Commercial Equipment Merchant Wholesalers "}]
[{"$nulls":43},{"$f":"Select_naics2022[[#This Row],[2022 NAICS Code]]&\":  \"&Select_naics2022[[#This Row],[2022 NAICS Title]]","v":"423450:  Medical, Dental, and Hospital Equipment and Supplies Merchant Wholesalers "},423450,"Medical, Dental, and Hospital Equipment and Supplies Merchant Wholesalers ",{"$f":"Select_naics2022[[#This Row],[2022 NAICS Title]]","v":"Medical, Dental, and Hospital Equipment and Supplies Merchant Wholesalers "}]
[{"$nulls":43},{"$f":"Select_naics2022[[#This Row],[2022 NAICS Code]]&\":  \"&Select_naics2022[[#This Row],[2022 NAICS Title]]","v":"423460:  Ophthalmic Goods Merchant Wholesalers "},423460,"Ophthalmic Goods Merchant Wholesalers ",{"$f":"Select_naics2022[[#This Row],[2022 NAICS Title]]","v":"Ophthalmic Goods Merchant Wholesalers "}]
[{"$nulls":43},{"$f":"Select_naics2022[[#This Row],[2022 NAICS Code]]&\":  \"&Select_naics2022[[#This Row],[2022 NAICS Title]]","v":"423490:  Other Professional Equipment and Supplies Merchant Wholesalers "},423490,"Other Professional Equipment and Supplies Merchant Wholesalers ",{"$f":"Select_naics2022[[#This Row],[2022 NAICS Title]]","v":"Other Professional Equipment and Supplies Merchant Wholesalers "}]
[{"$nulls":43},{"$f":"Select_naics2022[[#This Row],[2022 NAICS Code]]&\":  \"&Select_naics2022[[#This Row],[2022 NAICS Title]]","v":"423510:  Metal Service Centers and Other Metal Merchant Wholesalers "},423510,"Metal Service Centers and Other Metal Merchant Wholesalers ",{"$f":"Select_naics2022[[#This Row],[2022 NAICS Title]]","v":"Metal Service Centers and Other Metal Merchant Wholesalers "}]
[{"$nulls":43},{"$f":"Select_naics2022[[#This Row],[2022 NAICS Code]]&\":  \"&Select_naics2022[[#This Row],[2022 NAICS Title]]","v":"423520:  Coal and Other Mineral and Ore Merchant Wholesalers "},423520,"Coal and Other Mineral and Ore Merchant Wholesalers ",{"$f":"Select_naics2022[[#This Row],[2022 NAICS Title]]","v":"Coal and Other Mineral and Ore Merchant Wholesalers "}]
[{"$nulls":43},{"$f":"Select_naics2022[[#This Row],[2022 NAICS Code]]&\":  \"&Select_naics2022[[#This Row],[2022 NAICS Title]]","v":"423610:  Electrical Apparatus and Equipment, Wiring Supplies, and Related Equipment Merchant Wholesalers "},423610,"Electrical Apparatus and Equipment, Wiring Supplies, and Related Equipment Merchant Wholesalers ",{"$f":"Select_naics2022[[#This Row],[2022 NAICS Title]]","v":"Electrical Apparatus and Equipment, Wiring Supplies, and Related Equipment Merchant Wholesalers "}]
[{"$nulls":43},{"$f":"Select_naics2022[[#This Row],[2022 NAICS Code]]&\":  \"&Select_naics2022[[#This Row],[2022 NAICS Title]]","v":"423620:  Household Appliances, Electric Housewares, and Consumer Electronics Merchant Wholesalers "},423620,"Household Appliances, Electric Housewares, and Consumer Electronics Merchant Wholesalers ",{"$f":"Select_naics2022[[#This Row],[2022 NAICS Title]]","v":"Household Appliances, Electric Housewares, and Consumer Electronics Merchant Wholesalers "}]
[{"$nulls":43},{"$f":"Select_naics2022[[#This Row],[2022 NAICS Code]]&\":  \"&Select_naics2022[[#This Row],[2022 NAICS Title]]","v":"423690:  Other Electronic Parts and Equipment Merchant Wholesalers "},423690,"Other Electronic Parts and Equipment Merchant Wholesalers ",{"$f":"Select_naics2022[[#This Row],[2022 NAICS Title]]","v":"Other Electronic Parts and Equipment Merchant Wholesalers "}]
[{"$nulls":43},{"$f":"Select_naics2022[[#This Row],[2022 NAICS Code]]&\":  \"&Select_naics2022[[#This Row],[2022 NAICS Title]]","v":"423710:  Hardware Merchant Wholesalers "},423710,"Hardware Merchant Wholesalers ",{"$f":"Select_naics2022[[#This Row],[2022 NAICS Title]]","v":"Hardware Merchant Wholesalers "}]
[{"$nulls":43},{"$f":"Select_naics2022[[#This Row],[2022 NAICS Code]]&\":  \"&Select_naics2022[[#This Row],[2022 NAICS Title]]","v":"423720:  Plumbing and Heating Equipment and Supplies (Hydronics) Merchant Wholesalers "},423720,"Plumbing and Heating Equipment and Supplies (Hydronics) Merchant Wholesalers ",{"$f":"Select_naics2022[[#This Row],[2022 NAICS Title]]","v":"Plumbing and Heating Equipment and Supplies (Hydronics) Merchant Wholesalers "}]
[{"$nulls":43},{"$f":"Select_naics2022[[#This Row],[2022 NAICS Code]]&\":  \"&Select_naics2022[[#This Row],[2022 NAICS Title]]","v":"423730:  Warm Air Heating and Air-Conditioning Equipment and Supplies Merchant Wholesalers "},423730,"Warm Air Heating and Air-Conditioning Equipment and Supplies Merchant Wholesalers ",{"$f":"Select_naics2022[[#This Row],[2022 NAICS Title]]","v":"Warm Air Heating and Air-Conditioning Equipment and Supplies Merchant Wholesalers "}]
[{"$nulls":43},{"$f":"Select_naics2022[[#This Row],[2022 NAICS Code]]&\":  \"&Select_naics2022[[#This Row],[2022 NAICS Title]]","v":"423740:  Refrigeration Equipment and Supplies Merchant Wholesalers "},423740,"Refrigeration Equipment and Supplies Merchant Wholesalers ",{"$f":"Select_naics2022[[#This Row],[2022 NAICS Title]]","v":"Refrigeration Equipment and Supplies Merchant Wholesalers "}]
[{"$nulls":43},{"$f":"Select_naics2022[[#This Row],[2022 NAICS Code]]&\":  \"&Select_naics2022[[#This Row],[2022 NAICS Title]]","v":"423810:  Construction and Mining (except Oil Well) Machinery and Equipment Merchant Wholesalers "},423810,"Construction and Mining (except Oil Well) Machinery and Equipment Merchant Wholesalers ",{"$f":"Select_naics2022[[#This Row],[2022 NAICS Title]]","v":"Construction and Mining (except Oil Well) Machinery and Equipment Merchant Wholesalers "}]
[{"$nulls":43},{"$f":"Select_naics2022[[#This Row],[2022 NAICS Code]]&\":  \"&Select_naics2022[[#This Row],[2022 NAICS Title]]","v":"423820:  Farm and Garden Machinery and Equipment Merchant Wholesalers "},423820,"Farm and Garden Machinery and Equipment Merchant Wholesalers ",{"$f":"Select_naics2022[[#This Row],[2022 NAICS Title]]","v":"Farm and Garden Machinery and Equipment Merchant Wholesalers "}]
[{"$nulls":43},{"$f":"Select_naics2022[[#This Row],[2022 NAICS Code]]&\":  \"&Select_naics2022[[#This Row],[2022 NAICS Title]]","v":"423830:  Industrial Machinery and Equipment Merchant Wholesalers "},423830,"Industrial Machinery and Equipment Merchant Wholesalers ",{"$f":"Select_naics2022[[#This Row],[2022 NAICS Title]]","v":"Industrial Machinery and Equipment Merchant Wholesalers "}]
[{"$nulls":43},{"$f":"Select_naics2022[[#This Row],[2022 NAICS Code]]&\":  \"&Select_naics2022[[#This Row],[2022 NAICS Title]]","v":"423840:  Industrial Supplies Merchant Wholesalers"},423840,"Industrial Supplies Merchant Wholesalers",{"$f":"Select_naics2022[[#This Row],[2022 NAICS Title]]","v":"Industrial Supplies Merchant Wholesalers"}]
[{"$nulls":43},{"$f":"Select_naics2022[[#This Row],[2022 NAICS Code]]&\":  \"&Select_naics2022[[#This Row],[2022 NAICS Title]]","v":"423850:  Service Establishment Equipment and Supplies Merchant Wholesalers "},423850,"Service Establishment Equipment and Supplies Merchant Wholesalers ",{"$f":"Select_naics2022[[#This Row],[2022 NAICS Title]]","v":"Service Establishment Equipment and Supplies Merchant Wholesalers "}]
[{"$nulls":43},{"$f":"Select_naics2022[[#This Row],[2022 NAICS Code]]&\":  \"&Select_naics2022[[#This Row],[2022 NAICS Title]]","v":"423860:  Transportation Equipment and Supplies (except Motor Vehicle) Merchant Wholesalers "},423860,"Transportation Equipment and Supplies (except Motor Vehicle) Merchant Wholesalers ",{"$f":"Select_naics2022[[#This Row],[2022 NAICS Title]]","v":"Transportation Equipment and Supplies (except Motor Vehicle) Merchant Wholesalers "}]
[{"$nulls":43},{"$f":"Select_naics2022[[#This Row],[2022 NAICS Code]]&\":  \"&Select_naics2022[[#This Row],[2022 NAICS Title]]","v":"423910:  Sporting and Recreational Goods and Supplies Merchant Wholesalers "},423910,"Sporting and Recreational Goods and Supplies Merchant Wholesalers ",{"$f":"Select_naics2022[[#This Row],[2022 NAICS Title]]","v":"Sporting and Recreational Goods and Supplies Merchant Wholesalers "}]
[{"$nulls":43},{"$f":"Select_naics2022[[#This Row],[2022 NAICS Code]]&\":  \"&Select_naics2022[[#This Row],[2022 NAICS Title]]","v":"423920:  Toy and Hobby Goods and Supplies Merchant Wholesalers "},423920,"Toy and Hobby Goods and Supplies Merchant Wholesalers ",{"$f":"Select_naics2022[[#This Row],[2022 NAICS Title]]","v":"Toy and Hobby Goods and Supplies Merchant Wholesalers "}]
[{"$nulls":43},{"$f":"Select_naics2022[[#This Row],[2022 NAICS Code]]&\":  \"&Select_naics2022[[#This Row],[2022 NAICS Title]]","v":"423930:  Recyclable Material Merchant Wholesalers "},423930,"Recyclable Material Merchant Wholesalers ",{"$f":"Select_naics2022[[#This Row],[2022 NAICS Title]]","v":"Recyclable Material Merchant Wholesalers "}]
[{"$nulls":43},{"$f":"Select_naics2022[[#This Row],[2022 NAICS Code]]&\":  \"&Select_naics2022[[#This Row],[2022 NAICS Title]]","v":"423940:  Jewelry, Watch, Precious Stone, and Precious Metal Merchant Wholesalers "},423940,"Jewelry, Watch, Precious Stone, and Precious Metal Merchant Wholesalers ",{"$f":"Select_naics2022[[#This Row],[2022 NAICS Title]]","v":"Jewelry, Watch, Precious Stone, and Precious Metal Merchant Wholesalers "}]
[{"$nulls":43},{"$f":"Select_naics2022[[#This Row],[2022 NAICS Code]]&\":  \"&Select_naics2022[[#This Row],[2022 NAICS Title]]","v":"423990:  Other Miscellaneous Durable Goods Merchant Wholesalers "},423990,"Other Miscellaneous Durable Goods Merchant Wholesalers ",{"$f":"Select_naics2022[[#This Row],[2022 NAICS Title]]","v":"Other Miscellaneous Durable Goods Merchant Wholesalers "}]
[{"$nulls":43},{"$f":"Select_naics2022[[#This Row],[2022 NAICS Code]]&\":  \"&Select_naics2022[[#This Row],[2022 NAICS Title]]","v":"424110:  Printing and Writing Paper Merchant Wholesalers "},424110,"Printing and Writing Paper Merchant Wholesalers ",{"$f":"Select_naics2022[[#This Row],[2022 NAICS Title]]","v":"Printing and Writing Paper Merchant Wholesalers "}]
[{"$nulls":43},{"$f":"Select_naics2022[[#This Row],[2022 NAICS Code]]&\":  \"&Select_naics2022[[#This Row],[2022 NAICS Title]]","v":"424120:  Stationery and Office Supplies Merchant Wholesalers "},424120,"Stationery and Office Supplies Merchant Wholesalers ",{"$f":"Select_naics2022[[#This Row],[2022 NAICS Title]]","v":"Stationery and Office Supplies Merchant Wholesalers "}]
[{"$nulls":43},{"$f":"Select_naics2022[[#This Row],[2022 NAICS Code]]&\":  \"&Select_naics2022[[#This Row],[2022 NAICS Title]]","v":"424130:  Industrial and Personal Service Paper Merchant Wholesalers "},424130,"Industrial and Personal Service Paper Merchant Wholesalers ",{"$f":"Select_naics2022[[#This Row],[2022 NAICS Title]]","v":"Industrial and Personal Service Paper Merchant Wholesalers "}]
[{"$nulls":43},{"$f":"Select_naics2022[[#This Row],[2022 NAICS Code]]&\":  \"&Select_naics2022[[#This Row],[2022 NAICS Title]]","v":"424210:  Drugs and Druggists' Sundries Merchant Wholesalers "},424210,"Drugs and Druggists' Sundries Merchant Wholesalers ",{"$f":"Select_naics2022[[#This Row],[2022 NAICS Title]]","v":"Drugs and Druggists' Sundries Merchant Wholesalers "}]
[{"$nulls":43},{"$f":"Select_naics2022[[#This Row],[2022 NAICS Code]]&\":  \"&Select_naics2022[[#This Row],[2022 NAICS Title]]","v":"424310:  Piece Goods, Notions, and Other Dry Goods Merchant Wholesalers "},424310,"Piece Goods, Notions, and Other Dry Goods Merchant Wholesalers ",{"$f":"Select_naics2022[[#This Row],[2022 NAICS Title]]","v":"Piece Goods, Notions, and Other Dry Goods Merchant Wholesalers "}]
[{"$nulls":43},{"$f":"Select_naics2022[[#This Row],[2022 NAICS Code]]&\":  \"&Select_naics2022[[#This Row],[2022 NAICS Title]]","v":"424340:  Footwear Merchant Wholesalers "},424340,"Footwear Merchant Wholesalers ",{"$f":"Select_naics2022[[#This Row],[2022 NAICS Title]]","v":"Footwear Merchant Wholesalers "}]
[{"$nulls":43},{"$f":"Select_naics2022[[#This Row],[2022 NAICS Code]]&\":  \"&Select_naics2022[[#This Row],[2022 NAICS Title]]","v":"424350:  Clothing and Clothing Accessories Merchant Wholesalers"},424350,"Clothing and Clothing Accessories Merchant Wholesalers",{"$f":"Select_naics2022[[#This Row],[2022 NAICS Title]]","v":"Clothing and Clothing Accessories Merchant Wholesalers"}]
[{"$nulls":43},{"$f":"Select_naics2022[[#This Row],[2022 NAICS Code]]&\":  \"&Select_naics2022[[#This Row],[2022 NAICS Title]]","v":"424410:  General Line Grocery Merchant Wholesalers "},424410,"General Line Grocery Merchant Wholesalers ",{"$f":"Select_naics2022[[#This Row],[2022 NAICS Title]]","v":"General Line Grocery Merchant Wholesalers "}]
[{"$nulls":43},{"$f":"Select_naics2022[[#This Row],[2022 NAICS Code]]&\":  \"&Select_naics2022[[#This Row],[2022 NAICS Title]]","v":"424420:  Packaged Frozen Food Merchant Wholesalers "},424420,"Packaged Frozen Food Merchant Wholesalers ",{"$f":"Select_naics2022[[#This Row],[2022 NAICS Title]]","v":"Packaged Frozen Food Merchant Wholesalers "}]
[{"$nulls":43},{"$f":"Select_naics2022[[#This Row],[2022 NAICS Code]]&\":  \"&Select_naics2022[[#This Row],[2022 NAICS Title]]","v":"424430:  Dairy Product (except Dried or Canned) Merchant Wholesalers "},424430,"Dairy Product (except Dried or Canned) Merchant Wholesalers ",{"$f":"Select_naics2022[[#This Row],[2022 NAICS Title]]","v":"Dairy Product (except Dried or Canned) Merchant Wholesalers "}]
[{"$nulls":43},{"$f":"Select_naics2022[[#This Row],[2022 NAICS Code]]&\":  \"&Select_naics2022[[#This Row],[2022 NAICS Title]]","v":"424440:  Poultry and Poultry Product Merchant Wholesalers "},424440,"Poultry and Poultry Product Merchant Wholesalers ",{"$f":"Select_naics2022[[#This Row],[2022 NAICS Title]]","v":"Poultry and Poultry Product Merchant Wholesalers "}]
[{"$nulls":43},{"$f":"Select_naics2022[[#This Row],[2022 NAICS Code]]&\":  \"&Select_naics2022[[#This Row],[2022 NAICS Title]]","v":"424450:  Confectionery Merchant Wholesalers "},424450,"Confectionery Merchant Wholesalers ",{"$f":"Select_naics2022[[#This Row],[2022 NAICS Title]]","v":"Confectionery Merchant Wholesalers "}]
[{"$nulls":43},{"$f":"Select_naics2022[[#This Row],[2022 NAICS Code]]&\":  \"&Select_naics2022[[#This Row],[2022 NAICS Title]]","v":"424460:  Fish and Seafood Merchant Wholesalers "},424460,"Fish and Seafood Merchant Wholesalers ",{"$f":"Select_naics2022[[#This Row],[2022 NAICS Title]]","v":"Fish and Seafood Merchant Wholesalers "}]
[{"$nulls":43},{"$f":"Select_naics2022[[#This Row],[2022 NAICS Code]]&\":  \"&Select_naics2022[[#This Row],[2022 NAICS Title]]","v":"424470:  Meat and Meat Product Merchant Wholesalers "},424470,"Meat and Meat Product Merchant Wholesalers ",{"$f":"Select_naics2022[[#This Row],[2022 NAICS Title]]","v":"Meat and Meat Product Merchant Wholesalers "}]
[{"$nulls":43},{"$f":"Select_naics2022[[#This Row],[2022 NAICS Code]]&\":  \"&Select_naics2022[[#This Row],[2022 NAICS Title]]","v":"424480:  Fresh Fruit and Vegetable Merchant Wholesalers "},424480,"Fresh Fruit and Vegetable Merchant Wholesalers ",{"$f":"Select_naics2022[[#This Row],[2022 NAICS Title]]","v":"Fresh Fruit and Vegetable Merchant Wholesalers "}]
[{"$nulls":43},{"$f":"Select_naics2022[[#This Row],[2022 NAICS Code]]&\":  \"&Select_naics2022[[#This Row],[2022 NAICS Title]]","v":"424490:  Other Grocery and Related Products Merchant Wholesalers "},424490,"Other Grocery and Related Products Merchant Wholesalers ",{"$f":"Select_naics2022[[#This Row],[2022 NAICS Title]]","v":"Other Grocery and Related Products Merchant Wholesalers "}]
[{"$nulls":43},{"$f":"Select_naics2022[[#This Row],[2022 NAICS Code]]&\":  \"&Select_naics2022[[#This Row],[2022 NAICS Title]]","v":"424510:  Grain and Field Bean Merchant Wholesalers "},424510,"Grain and Field Bean Merchant Wholesalers ",{"$f":"Select_naics2022[[#This Row],[2022 NAICS Title]]","v":"Grain and Field Bean Merchant Wholesalers "}]
[{"$nulls":43},{"$f":"Select_naics2022[[#This Row],[2022 NAICS Code]]&\":  \"&Select_naics2022[[#This Row],[2022 NAICS Title]]","v":"424520:  Livestock Merchant Wholesalers "},424520,"Livestock Merchant Wholesalers ",{"$f":"Select_naics2022[[#This Row],[2022 NAICS Title]]","v":"Livestock Merchant Wholesalers "}]
[{"$nulls":43},{"$f":"Select_naics2022[[#This Row],[2022 NAICS Code]]&\":  \"&Select_naics2022[[#This Row],[2022 NAICS Title]]","v":"424590:  Other Farm Product Raw Material Merchant Wholesalers "},424590,"Other Farm Product Raw Material Merchant Wholesalers ",{"$f":"Select_naics2022[[#This Row],[2022 NAICS Title]]","v":"Other Farm Product Raw Material Merchant Wholesalers "}]
[{"$nulls":43},{"$f":"Select_naics2022[[#This Row],[2022 NAICS Code]]&\":  \"&Select_naics2022[[#This Row],[2022 NAICS Title]]","v":"424610:  Plastics Materials and Basic Forms and Shapes Merchant Wholesalers "},424610,"Plastics Materials and Basic Forms and Shapes Merchant Wholesalers ",{"$f":"Select_naics2022[[#This Row],[2022 NAICS Title]]","v":"Plastics Materials and Basic Forms and Shapes Merchant Wholesalers "}]
[{"$nulls":43},{"$f":"Select_naics2022[[#This Row],[2022 NAICS Code]]&\":  \"&Select_naics2022[[#This Row],[2022 NAICS Title]]","v":"424690:  Other Chemical and Allied Products Merchant Wholesalers "},424690,"Other Chemical and Allied Products Merchant Wholesalers ",{"$f":"Select_naics2022[[#This Row],[2022 NAICS Title]]","v":"Other Chemical and Allied Products Merchant Wholesalers "}]
[{"$nulls":43},{"$f":"Select_naics2022[[#This Row],[2022 NAICS Code]]&\":  \"&Select_naics2022[[#This Row],[2022 NAICS Title]]","v":"424710:  Petroleum Bulk Stations and Terminals "},424710,"Petroleum Bulk Stations and Terminals ",{"$f":"Select_naics2022[[#This Row],[2022 NAICS Title]]","v":"Petroleum Bulk Stations and Terminals "}]
[{"$nulls":43},{"$f":"Select_naics2022[[#This Row],[2022 NAICS Code]]&\":  \"&Select_naics2022[[#This Row],[2022 NAICS Title]]","v":"424720:  Petroleum and Petroleum Products Merchant Wholesalers (except Bulk Stations and Terminals) "},424720,"Petroleum and Petroleum Products Merchant Wholesalers (except Bulk Stations and Terminals) ",{"$f":"Select_naics2022[[#This Row],[2022 NAICS Title]]","v":"Petroleum and Petroleum Products Merchant Wholesalers (except Bulk Stations and Terminals) "}]
[{"$nulls":43},{"$f":"Select_naics2022[[#This Row],[2022 NAICS Code]]&\":  \"&Select_naics2022[[#This Row],[2022 NAICS Title]]","v":"424810:  Beer and Ale Merchant Wholesalers "},424810,"Beer and Ale Merchant Wholesalers ",{"$f":"Select_naics2022[[#This Row],[2022 NAICS Title]]","v":"Beer and Ale Merchant Wholesalers "}]
[{"$nulls":43},{"$f":"Select_naics2022[[#This Row],[2022 NAICS Code]]&\":  \"&Select_naics2022[[#This Row],[2022 NAICS Title]]","v":"424820:  Wine and Distilled Alcoholic Beverage Merchant Wholesalers "},424820,"Wine and Distilled Alcoholic Beverage Merchant Wholesalers ",{"$f":"Select_naics2022[[#This Row],[2022 NAICS Title]]","v":"Wine and Distilled Alcoholic Beverage Merchant Wholesalers "}]
[{"$nulls":43},{"$f":"Select_naics2022[[#This Row],[2022 NAICS Code]]&\":  \"&Select_naics2022[[#This Row],[2022 NAICS Title]]","v":"424910:  Farm Supplies Merchant Wholesalers "},424910,"Farm Supplies Merchant Wholesalers ",{"$f":"Select_naics2022[[#This Row],[2022 NAICS Title]]","v":"Farm Supplies Merchant Wholesalers "}]
[{"$nulls":43},{"$f":"Select_naics2022[[#This Row],[2022 NAICS Code]]&\":  \"&Select_naics2022[[#This Row],[2022 NAICS Title]]","v":"424920:  Book, Periodical, and Newspaper Merchant Wholesalers "},424920,"Book, Periodical, and Newspaper Merchant Wholesalers ",{"$f":"Select_naics2022[[#This Row],[2022 NAICS Title]]","v":"Book, Periodical, and Newspaper Merchant Wholesalers "}]
[{"$nulls":43},{"$f":"Select_naics2022[[#This Row],[2022 NAICS Code]]&\":  \"&Select_naics2022[[#This Row],[2022 NAICS Title]]","v":"424930:  Flower, Nursery Stock, and Florists' Supplies Merchant Wholesalers "},424930,"Flower, Nursery Stock, and Florists' Supplies Merchant Wholesalers ",{"$f":"Select_naics2022[[#This Row],[2022 NAICS Title]]","v":"Flower, Nursery Stock, and Florists' Supplies Merchant Wholesalers "}]
[{"$nulls":43},{"$f":"Select_naics2022[[#This Row],[2022 NAICS Code]]&\":  \"&Select_naics2022[[#This Row],[2022 NAICS Title]]","v":"424940:  Tobacco Product and Electronic Cigarette Merchant Wholesalers "},424940,"Tobacco Product and Electronic Cigarette Merchant Wholesalers ",{"$f":"Select_naics2022[[#This Row],[2022 NAICS Title]]","v":"Tobacco Product and Electronic Cigarette Merchant Wholesalers "}]
[{"$nulls":43},{"$f":"Select_naics2022[[#This Row],[2022 NAICS Code]]&\":  \"&Select_naics2022[[#This Row],[2022 NAICS Title]]","v":"424950:  Paint, Varnish, and Supplies Merchant Wholesalers "},424950,"Paint, Varnish, and Supplies Merchant Wholesalers ",{"$f":"Select_naics2022[[#This Row],[2022 NAICS Title]]","v":"Paint, Varnish, and Supplies Merchant Wholesalers "}]
[{"$nulls":43},{"$f":"Select_naics2022[[#This Row],[2022 NAICS Code]]&\":  \"&Select_naics2022[[#This Row],[2022 NAICS Title]]","v":"424990:  Other Miscellaneous Nondurable Goods Merchant Wholesalers "},424990,"Other Miscellaneous Nondurable Goods Merchant Wholesalers ",{"$f":"Select_naics2022[[#This Row],[2022 NAICS Title]]","v":"Other Miscellaneous Nondurable Goods Merchant Wholesalers "}]
[{"$nulls":43},{"$f":"Select_naics2022[[#This Row],[2022 NAICS Code]]&\":  \"&Select_naics2022[[#This Row],[2022 NAICS Title]]","v":"425120:  Wholesale Trade Agents and Brokers "},425120,"Wholesale Trade Agents and Brokers ",{"$f":"Select_naics2022[[#This Row],[2022 NAICS Title]]","v":"Wholesale Trade Agents and Brokers "}]
[{"$nulls":43},{"$f":"Select_naics2022[[#This Row],[2022 NAICS Code]]&\":  \"&Select_naics2022[[#This Row],[2022 NAICS Title]]","v":"441110:  New Car Dealers "},441110,"New Car Dealers ",{"$f":"Select_naics2022[[#This Row],[2022 NAICS Title]]","v":"New Car Dealers "}]
[{"$nulls":43},{"$f":"Select_naics2022[[#This Row],[2022 NAICS Code]]&\":  \"&Select_naics2022[[#This Row],[2022 NAICS Title]]","v":"441120:  Used Car Dealers "},441120,"Used Car Dealers ",{"$f":"Select_naics2022[[#This Row],[2022 NAICS Title]]","v":"Used Car Dealers "}]
[{"$nulls":43},{"$f":"Select_naics2022[[#This Row],[2022 NAICS Code]]&\":  \"&Select_naics2022[[#This Row],[2022 NAICS Title]]","v":"441210:  Recreational Vehicle Dealers "},441210,"Recreational Vehicle Dealers ",{"$f":"Select_naics2022[[#This Row],[2022 NAICS Title]]","v":"Recreational Vehicle Dealers "}]
[{"$nulls":43},{"$f":"Select_naics2022[[#This Row],[2022 NAICS Code]]&\":  \"&Select_naics2022[[#This Row],[2022 NAICS Title]]","v":"441222:  Boat Dealers "},441222,"Boat Dealers ",{"$f":"Select_naics2022[[#This Row],[2022 NAICS Title]]","v":"Boat Dealers "}]
[{"$nulls":43},{"$f":"Select_naics2022[[#This Row],[2022 NAICS Code]]&\":  \"&Select_naics2022[[#This Row],[2022 NAICS Title]]","v":"441227:  Motorcycle, ATV, and All Other Motor Vehicle Dealers "},441227,"Motorcycle, ATV, and All Other Motor Vehicle Dealers ",{"$f":"Select_naics2022[[#This Row],[2022 NAICS Title]]","v":"Motorcycle, ATV, and All Other Motor Vehicle Dealers "}]
[{"$nulls":43},{"$f":"Select_naics2022[[#This Row],[2022 NAICS Code]]&\":  \"&Select_naics2022[[#This Row],[2022 NAICS Title]]","v":"441330:  Automotive Parts and Accessories Retailers "},441330,"Automotive Parts and Accessories Retailers ",{"$f":"Select_naics2022[[#This Row],[2022 NAICS Title]]","v":"Automotive Parts and Accessories Retailers "}]
[{"$nulls":43},{"$f":"Select_naics2022[[#This Row],[2022 NAICS Code]]&\":  \"&Select_naics2022[[#This Row],[2022 NAICS Title]]","v":"441340:  Tire Dealers "},441340,"Tire Dealers ",{"$f":"Select_naics2022[[#This Row],[2022 NAICS Title]]","v":"Tire Dealers "}]
[{"$nulls":43},{"$f":"Select_naics2022[[#This Row],[2022 NAICS Code]]&\":  \"&Select_naics2022[[#This Row],[2022 NAICS Title]]","v":"444110:  Home Centers "},444110,"Home Centers ",{"$f":"Select_naics2022[[#This Row],[2022 NAICS Title]]","v":"Home Centers "}]
[{"$nulls":43},{"$f":"Select_naics2022[[#This Row],[2022 NAICS Code]]&\":  \"&Select_naics2022[[#This Row],[2022 NAICS Title]]","v":"444120:  Paint and Wallpaper Retailers "},444120,"Paint and Wallpaper Retailers ",{"$f":"Select_naics2022[[#This Row],[2022 NAICS Title]]","v":"Paint and Wallpaper Retailers "}]
[{"$nulls":43},{"$f":"Select_naics2022[[#This Row],[2022 NAICS Code]]&\":  \"&Select_naics2022[[#This Row],[2022 NAICS Title]]","v":"444140:  Hardware Retailers "},444140,"Hardware Retailers ",{"$f":"Select_naics2022[[#This Row],[2022 NAICS Title]]","v":"Hardware Retailers "}]
[{"$nulls":43},{"$f":"Select_naics2022[[#This Row],[2022 NAICS Code]]&\":  \"&Select_naics2022[[#This Row],[2022 NAICS Title]]","v":"444180:  Other Building Material Dealers "},444180,"Other Building Material Dealers ",{"$f":"Select_naics2022[[#This Row],[2022 NAICS Title]]","v":"Other Building Material Dealers "}]
[{"$nulls":43},{"$f":"Select_naics2022[[#This Row],[2022 NAICS Code]]&\":  \"&Select_naics2022[[#This Row],[2022 NAICS Title]]","v":"444230:  Outdoor Power Equipment Retailers "},444230,"Outdoor Power Equipment Retailers ",{"$f":"Select_naics2022[[#This Row],[2022 NAICS Title]]","v":"Outdoor Power Equipment Retailers "}]
[{"$nulls":43},{"$f":"Select_naics2022[[#This Row],[2022 NAICS Code]]&\":  \"&Select_naics2022[[#This Row],[2022 NAICS Title]]","v":"444240:  Nursery, Garden Center, and Farm Supply Retailers "},444240,"Nursery, Garden Center, and Farm Supply Retailers ",{"$f":"Select_naics2022[[#This Row],[2022 NAICS Title]]","v":"Nursery, Garden Center, and Farm Supply Retailers "}]
[{"$nulls":43},{"$f":"Select_naics2022[[#This Row],[2022 NAICS Code]]&\":  \"&Select_naics2022[[#This Row],[2022 NAICS Title]]","v":"445110:  Supermarkets and Other Grocery Retailers (except Convenience Retailers) "},445110,"Supermarkets and Other Grocery Retailers (except Convenience Retailers) ",{"$f":"Select_naics2022[[#This Row],[2022 NAICS Title]]","v":"Supermarkets and Other Grocery Retailers (except Convenience Retailers) "}]
[{"$nulls":43},{"$f":"Select_naics2022[[#This Row],[2022 NAICS Code]]&\":  \"&Select_naics2022[[#This Row],[2022 NAICS Title]]","v":"445131:  Convenience Retailers "},445131,"Convenience Retailers ",{"$f":"Select_naics2022[[#This Row],[2022 NAICS Title]]","v":"Convenience Retailers "}]
[{"$nulls":43},{"$f":"Select_naics2022[[#This Row],[2022 NAICS Code]]&\":  \"&Select_naics2022[[#This Row],[2022 NAICS Title]]","v":"445132:  Vending Machine Operators "},445132,"Vending Machine Operators ",{"$f":"Select_naics2022[[#This Row],[2022 NAICS Title]]","v":"Vending Machine Operators "}]
[{"$nulls":43},{"$f":"Select_naics2022[[#This Row],[2022 NAICS Code]]&\":  \"&Select_naics2022[[#This Row],[2022 NAICS Title]]","v":"445230:  Fruit and Vegetable Retailers "},445230,"Fruit and Vegetable Retailers ",{"$f":"Select_naics2022[[#This Row],[2022 NAICS Title]]","v":"Fruit and Vegetable Retailers "}]
[{"$nulls":43},{"$f":"Select_naics2022[[#This Row],[2022 NAICS Code]]&\":  \"&Select_naics2022[[#This Row],[2022 NAICS Title]]","v":"445240:  Meat Retailers "},445240,"Meat Retailers ",{"$f":"Select_naics2022[[#This Row],[2022 NAICS Title]]","v":"Meat Retailers "}]
[{"$nulls":43},{"$f":"Select_naics2022[[#This Row],[2022 NAICS Code]]&\":  \"&Select_naics2022[[#This Row],[2022 NAICS Title]]","v":"445250:  Fish and Seafood Retailers "},445250,"Fish and Seafood Retailers ",{"$f":"Select_naics2022[[#This Row],[2022 NAICS Title]]","v":"Fish and Seafood Retailers "}]
[{"$nulls":43},{"$f":"Select_naics2022[[#This Row],[2022 NAICS Code]]&\":  \"&Select_naics2022[[#This Row],[2022 NAICS Title]]","v":"445291:  Baked Goods Retailers "},445291,"Baked Goods Retailers ",{"$f":"Select_naics2022[[#This Row],[2022 NAICS Title]]","v":"Baked Goods Retailers "}]
[{"$nulls":43},{"$f":"Select_naics2022[[#This Row],[2022 NAICS Code]]&\":  \"&Select_naics2022[[#This Row],[2022 NAICS Title]]","v":"445292:  Confectionery and Nut Retailers "},445292,"Confectionery and Nut Retailers ",{"$f":"Select_naics2022[[#This Row],[2022 NAICS Title]]","v":"Confectionery and Nut Retailers "}]
[{"$nulls":43},{"$f":"Select_naics2022[[#This Row],[2022 NAICS Code]]&\":  \"&Select_naics2022[[#This Row],[2022 NAICS Title]]","v":"445298:  All Other Specialty Food Retailers "},445298,"All Other Specialty Food Retailers ",{"$f":"Select_naics2022[[#This Row],[2022 NAICS Title]]","v":"All Other Specialty Food Retailers "}]
[{"$nulls":43},{"$f":"Select_naics2022[[#This Row],[2022 NAICS Code]]&\":  \"&Select_naics2022[[#This Row],[2022 NAICS Title]]","v":"445320:  Beer, Wine, and Liquor Retailers "},445320,"Beer, Wine, and Liquor Retailers ",{"$f":"Select_naics2022[[#This Row],[2022 NAICS Title]]","v":"Beer, Wine, and Liquor Retailers "}]
[{"$nulls":43},{"$f":"Select_naics2022[[#This Row],[2022 NAICS Code]]&\":  \"&Select_naics2022[[#This Row],[2022 NAICS Title]]","v":"449110:  Furniture Retailers "},449110,"Furniture Retailers ",{"$f":"Select_naics2022[[#This Row],[2022 NAICS Title]]","v":"Furniture Retailers "}]
[{"$nulls":43},{"$f":"Select_naics2022[[#This Row],[2022 NAICS Code]]&\":  \"&Select_naics2022[[#This Row],[2022 NAICS Title]]","v":"449121:  Floor Covering Retailers "},449121,"Floor Covering Retailers ",{"$f":"Select_naics2022[[#This Row],[2022 NAICS Title]]","v":"Floor Covering Retailers "}]
[{"$nulls":43},{"$f":"Select_naics2022[[#This Row],[2022 NAICS Code]]&\":  \"&Select_naics2022[[#This Row],[2022 NAICS Title]]","v":"449122:  Window Treatment Retailers "},449122,"Window Treatment Retailers ",{"$f":"Select_naics2022[[#This Row],[2022 NAICS Title]]","v":"Window Treatment Retailers "}]
[{"$nulls":43},{"$f":"Select_naics2022[[#This Row],[2022 NAICS Code]]&\":  \"&Select_naics2022[[#This Row],[2022 NAICS Title]]","v":"449129:  All Other Home Furnishings Retailers "},449129,"All Other Home Furnishings Retailers ",{"$f":"Select_naics2022[[#This Row],[2022 NAICS Title]]","v":"All Other Home Furnishings Retailers "}]
[{"$nulls":43},{"$f":"Select_naics2022[[#This Row],[2022 NAICS Code]]&\":  \"&Select_naics2022[[#This Row],[2022 NAICS Title]]","v":"449210:  Electronics and Appliance Retailers"},449210,"Electronics and Appliance Retailers",{"$f":"Select_naics2022[[#This Row],[2022 NAICS Title]]","v":"Electronics and Appliance Retailers"}]
[{"$nulls":43},{"$f":"Select_naics2022[[#This Row],[2022 NAICS Code]]&\":  \"&Select_naics2022[[#This Row],[2022 NAICS Title]]","v":"455110:  Department Stores "},455110,"Department Stores ",{"$f":"Select_naics2022[[#This Row],[2022 NAICS Title]]","v":"Department Stores "}]
[{"$nulls":43},{"$f":"Select_naics2022[[#This Row],[2022 NAICS Code]]&\":  \"&Select_naics2022[[#This Row],[2022 NAICS Title]]","v":"455211:  Warehouse Clubs and Supercenters "},455211,"Warehouse Clubs and Supercenters ",{"$f":"Select_naics2022[[#This Row],[2022 NAICS Title]]","v":"Warehouse Clubs and Supercenters "}]
[{"$nulls":43},{"$f":"Select_naics2022[[#This Row],[2022 NAICS Code]]&\":  \"&Select_naics2022[[#This Row],[2022 NAICS Title]]","v":"455219:  All Other General Merchandise Retailers "},455219,"All Other General Merchandise Retailers ",{"$f":"Select_naics2022[[#This Row],[2022 NAICS Title]]","v":"All Other General Merchandise Retailers "}]
[{"$nulls":43},{"$f":"Select_naics2022[[#This Row],[2022 NAICS Code]]&\":  \"&Select_naics2022[[#This Row],[2022 NAICS Title]]","v":"456110:  Pharmacies and Drug Retailers "},456110,"Pharmacies and Drug Retailers ",{"$f":"Select_naics2022[[#This Row],[2022 NAICS Title]]","v":"Pharmacies and Drug Retailers "}]
[{"$nulls":43},{"$f":"Select_naics2022[[#This Row],[2022 NAICS Code]]&\":  \"&Select_naics2022[[#This Row],[2022 NAICS Title]]","v":"456120:  Cosmetics, Beauty Supplies, and Perfume Retailers "},456120,"Cosmetics, Beauty Supplies, and Perfume Retailers ",{"$f":"Select_naics2022[[#This Row],[2022 NAICS Title]]","v":"Cosmetics, Beauty Supplies, and Perfume Retailers "}]
[{"$nulls":43},{"$f":"Select_naics2022[[#This Row],[2022 NAICS Code]]&\":  \"&Select_naics2022[[#This Row],[2022 NAICS Title]]","v":"456130:  Optical Goods Retailers "},456130,"Optical Goods Retailers ",{"$f":"Select_naics2022[[#This Row],[2022 NAICS Title]]","v":"Optical Goods Retailers "}]
[{"$nulls":43},{"$f":"Select_naics2022[[#This Row],[2022 NAICS Code]]&\":  \"&Select_naics2022[[#This Row],[2022 NAICS Title]]","v":"456191:  Food (Health) Supplement Retailers "},456191,"Food (Health) Supplement Retailers ",{"$f":"Select_naics2022[[#This Row],[2022 NAICS Title]]","v":"Food (Health) Supplement Retailers "}]
[{"$nulls":43},{"$f":"Select_naics2022[[#This Row],[2022 NAICS Code]]&\":  \"&Select_naics2022[[#This Row],[2022 NAICS Title]]","v":"456199:  All Other Health and Personal Care Retailers "},456199,"All Other Health and Personal Care Retailers ",{"$f":"Select_naics2022[[#This Row],[2022 NAICS Title]]","v":"All Other Health and Personal Care Retailers "}]
[{"$nulls":43},{"$f":"Select_naics2022[[#This Row],[2022 NAICS Code]]&\":  \"&Select_naics2022[[#This Row],[2022 NAICS Title]]","v":"457110:  Gasoline Stations with Convenience Stores "},457110,"Gasoline Stations with Convenience Stores ",{"$f":"Select_naics2022[[#This Row],[2022 NAICS Title]]","v":"Gasoline Stations with Convenience Stores "}]
[{"$nulls":43},{"$f":"Select_naics2022[[#This Row],[2022 NAICS Code]]&\":  \"&Select_naics2022[[#This Row],[2022 NAICS Title]]","v":"457120:  Other Gasoline Stations "},457120,"Other Gasoline Stations ",{"$f":"Select_naics2022[[#This Row],[2022 NAICS Title]]","v":"Other Gasoline Stations "}]
[{"$nulls":43},{"$f":"Select_naics2022[[#This Row],[2022 NAICS Code]]&\":  \"&Select_naics2022[[#This Row],[2022 NAICS Title]]","v":"457210:  Fuel Dealers "},457210,"Fuel Dealers ",{"$f":"Select_naics2022[[#This Row],[2022 NAICS Title]]","v":"Fuel Dealers "}]
[{"$nulls":43},{"$f":"Select_naics2022[[#This Row],[2022 NAICS Code]]&\":  \"&Select_naics2022[[#This Row],[2022 NAICS Title]]","v":"458110:  Clothing and Clothing Accessories Retailers "},458110,"Clothing and Clothing Accessories Retailers ",{"$f":"Select_naics2022[[#This Row],[2022 NAICS Title]]","v":"Clothing and Clothing Accessories Retailers "}]
[{"$nulls":43},{"$f":"Select_naics2022[[#This Row],[2022 NAICS Code]]&\":  \"&Select_naics2022[[#This Row],[2022 NAICS Title]]","v":"458210:  Shoe Retailers "},458210,"Shoe Retailers ",{"$f":"Select_naics2022[[#This Row],[2022 NAICS Title]]","v":"Shoe Retailers "}]
[{"$nulls":43},{"$f":"Select_naics2022[[#This Row],[2022 NAICS Code]]&\":  \"&Select_naics2022[[#This Row],[2022 NAICS Title]]","v":"458310:  Jewelry Retailers "},458310,"Jewelry Retailers ",{"$f":"Select_naics2022[[#This Row],[2022 NAICS Title]]","v":"Jewelry Retailers "}]
[{"$nulls":43},{"$f":"Select_naics2022[[#This Row],[2022 NAICS Code]]&\":  \"&Select_naics2022[[#This Row],[2022 NAICS Title]]","v":"458320:  Luggage and Leather Goods Retailers "},458320,"Luggage and Leather Goods Retailers ",{"$f":"Select_naics2022[[#This Row],[2022 NAICS Title]]","v":"Luggage and Leather Goods Retailers "}]
[{"$nulls":43},{"$f":"Select_naics2022[[#This Row],[2022 NAICS Code]]&\":  \"&Select_naics2022[[#This Row],[2022 NAICS Title]]","v":"459110:  Sporting Goods Retailers "},459110,"Sporting Goods Retailers ",{"$f":"Select_naics2022[[#This Row],[2022 NAICS Title]]","v":"Sporting Goods Retailers "}]
[{"$nulls":43},{"$f":"Select_naics2022[[#This Row],[2022 NAICS Code]]&\":  \"&Select_naics2022[[#This Row],[2022 NAICS Title]]","v":"459120:  Hobby, Toy, and Game Retailers "},459120,"Hobby, Toy, and Game Retailers ",{"$f":"Select_naics2022[[#This Row],[2022 NAICS Title]]","v":"Hobby, Toy, and Game Retailers "}]
[{"$nulls":43},{"$f":"Select_naics2022[[#This Row],[2022 NAICS Code]]&\":  \"&Select_naics2022[[#This Row],[2022 NAICS Title]]","v":"459130:  Sewing, Needlework, and Piece Goods Retailers "},459130,"Sewing, Needlework, and Piece Goods Retailers ",{"$f":"Select_naics2022[[#This Row],[2022 NAICS Title]]","v":"Sewing, Needlework, and Piece Goods Retailers "}]
[{"$nulls":43},{"$f":"Select_naics2022[[#This Row],[2022 NAICS Code]]&\":  \"&Select_naics2022[[#This Row],[2022 NAICS Title]]","v":"459140:  Musical Instrument and Supplies Retailers "},459140,"Musical Instrument and Supplies Retailers ",{"$f":"Select_naics2022[[#This Row],[2022 NAICS Title]]","v":"Musical Instrument and Supplies Retailers "}]
[{"$nulls":43},{"$f":"Select_naics2022[[#This Row],[2022 NAICS Code]]&\":  \"&Select_naics2022[[#This Row],[2022 NAICS Title]]","v":"459210:  Book Retailers and News Dealers "},459210,"Book Retailers and News Dealers ",{"$f":"Select_naics2022[[#This Row],[2022 NAICS Title]]","v":"Book Retailers and News Dealers "}]
[{"$nulls":43},{"$f":"Select_naics2022[[#This Row],[2022 NAICS Code]]&\":  \"&Select_naics2022[[#This Row],[2022 NAICS Title]]","v":"459310:  Florists "},459310,"Florists ",{"$f":"Select_naics2022[[#This Row],[2022 NAICS Title]]","v":"Florists "}]
[{"$nulls":43},{"$f":"Select_naics2022[[#This Row],[2022 NAICS Code]]&\":  \"&Select_naics2022[[#This Row],[2022 NAICS Title]]","v":"459410:  Office Supplies and Stationery Retailers "},459410,"Office Supplies and Stationery Retailers ",{"$f":"Select_naics2022[[#This Row],[2022 NAICS Title]]","v":"Office Supplies and Stationery Retailers "}]
[{"$nulls":43},{"$f":"Select_naics2022[[#This Row],[2022 NAICS Code]]&\":  \"&Select_naics2022[[#This Row],[2022 NAICS Title]]","v":"459420:  Gift, Novelty, and Souvenir Retailers "},459420,"Gift, Novelty, and Souvenir Retailers ",{"$f":"Select_naics2022[[#This Row],[2022 NAICS Title]]","v":"Gift, Novelty, and Souvenir Retailers "}]
[{"$nulls":43},{"$f":"Select_naics2022[[#This Row],[2022 NAICS Code]]&\":  \"&Select_naics2022[[#This Row],[2022 NAICS Title]]","v":"459510:  Used Merchandise Retailers "},459510,"Used Merchandise Retailers ",{"$f":"Select_naics2022[[#This Row],[2022 NAICS Title]]","v":"Used Merchandise Retailers "}]
[{"$nulls":43},{"$f":"Select_naics2022[[#This Row],[2022 NAICS Code]]&\":  \"&Select_naics2022[[#This Row],[2022 NAICS Title]]","v":"459910:  Pet and Pet Supplies Retailers "},459910,"Pet and Pet Supplies Retailers ",{"$f":"Select_naics2022[[#This Row],[2022 NAICS Title]]","v":"Pet and Pet Supplies Retailers "}]
[{"$nulls":43},{"$f":"Select_naics2022[[#This Row],[2022 NAICS Code]]&\":  \"&Select_naics2022[[#This Row],[2022 NAICS Title]]","v":"459920:  Art Dealers "},459920,"Art Dealers ",{"$f":"Select_naics2022[[#This Row],[2022 NAICS Title]]","v":"Art Dealers "}]
[{"$nulls":43},{"$f":"Select_naics2022[[#This Row],[2022 NAICS Code]]&\":  \"&Select_naics2022[[#This Row],[2022 NAICS Title]]","v":"459930:  Manufactured (Mobile) Home Dealers "},459930,"Manufactured (Mobile) Home Dealers ",{"$f":"Select_naics2022[[#This Row],[2022 NAICS Title]]","v":"Manufactured (Mobile) Home Dealers "}]
[{"$nulls":43},{"$f":"Select_naics2022[[#This Row],[2022 NAICS Code]]&\":  \"&Select_naics2022[[#This Row],[2022 NAICS Title]]","v":"459991:  Tobacco, Electronic Cigarette, and Other Smoking Supplies Retailers "},459991,"Tobacco, Electronic Cigarette, and Other Smoking Supplies Retailers ",{"$f":"Select_naics2022[[#This Row],[2022 NAICS Title]]","v":"Tobacco, Electronic Cigarette, and Other Smoking Supplies Retailers "}]
[{"$nulls":43},{"$f":"Select_naics2022[[#This Row],[2022 NAICS Code]]&\":  \"&Select_naics2022[[#This Row],[2022 NAICS Title]]","v":"459999:  All Other Miscellaneous Retailers "},459999,"All Other Miscellaneous Retailers ",{"$f":"Select_naics2022[[#This Row],[2022 NAICS Title]]","v":"All Other Miscellaneous Retailers "}]
[{"$nulls":43},{"$f":"Select_naics2022[[#This Row],[2022 NAICS Code]]&\":  \"&Select_naics2022[[#This Row],[2022 NAICS Title]]","v":"481111:  Scheduled Passenger Air Transportation "},481111,"Scheduled Passenger Air Transportation ",{"$f":"Select_naics2022[[#This Row],[2022 NAICS Title]]","v":"Scheduled Passenger Air Transportation "}]
[{"$nulls":43},{"$f":"Select_naics2022[[#This Row],[2022 NAICS Code]]&\":  \"&Select_naics2022[[#This Row],[2022 NAICS Title]]","v":"481112:  Scheduled Freight Air Transportation "},481112,"Scheduled Freight Air Transportation ",{"$f":"Select_naics2022[[#This Row],[2022 NAICS Title]]","v":"Scheduled Freight Air Transportation "}]
[{"$nulls":43},{"$f":"Select_naics2022[[#This Row],[2022 NAICS Code]]&\":  \"&Select_naics2022[[#This Row],[2022 NAICS Title]]","v":"481211:  Nonscheduled Chartered Passenger Air Transportation "},481211,"Nonscheduled Chartered Passenger Air Transportation ",{"$f":"Select_naics2022[[#This Row],[2022 NAICS Title]]","v":"Nonscheduled Chartered Passenger Air Transportation "}]
[{"$nulls":43},{"$f":"Select_naics2022[[#This Row],[2022 NAICS Code]]&\":  \"&Select_naics2022[[#This Row],[2022 NAICS Title]]","v":"481212:  Nonscheduled Chartered Freight Air Transportation "},481212,"Nonscheduled Chartered Freight Air Transportation ",{"$f":"Select_naics2022[[#This Row],[2022 NAICS Title]]","v":"Nonscheduled Chartered Freight Air Transportation "}]
[{"$nulls":43},{"$f":"Select_naics2022[[#This Row],[2022 NAICS Code]]&\":  \"&Select_naics2022[[#This Row],[2022 NAICS Title]]","v":"481219:  Other Nonscheduled Air Transportation "},481219,"Other Nonscheduled Air Transportation ",{"$f":"Select_naics2022[[#This Row],[2022 NAICS Title]]","v":"Other Nonscheduled Air Transportation "}]
[{"$nulls":43},{"$f":"Select_naics2022[[#This Row],[2022 NAICS Code]]&\":  \"&Select_naics2022[[#This Row],[2022 NAICS Title]]","v":"482111:  Line-Haul Railroads "},482111,"Line-Haul Railroads ",{"$f":"Select_naics2022[[#This Row],[2022 NAICS Title]]","v":"Line-Haul Railroads "}]
[{"$nulls":43},{"$f":"Select_naics2022[[#This Row],[2022 NAICS Code]]&\":  \"&Select_naics2022[[#This Row],[2022 NAICS Title]]","v":"482112:  Short Line Railroads "},482112,"Short Line Railroads ",{"$f":"Select_naics2022[[#This Row],[2022 NAICS Title]]","v":"Short Line Railroads "}]
[{"$nulls":43},{"$f":"Select_naics2022[[#This Row],[2022 NAICS Code]]&\":  \"&Select_naics2022[[#This Row],[2022 NAICS Title]]","v":"483111:  Deep Sea Freight Transportation "},483111,"Deep Sea Freight Transportation ",{"$f":"Select_naics2022[[#This Row],[2022 NAICS Title]]","v":"Deep Sea Freight Transportation "}]
[{"$nulls":43},{"$f":"Select_naics2022[[#This Row],[2022 NAICS Code]]&\":  \"&Select_naics2022[[#This Row],[2022 NAICS Title]]","v":"483112:  Deep Sea Passenger Transportation "},483112,"Deep Sea Passenger Transportation ",{"$f":"Select_naics2022[[#This Row],[2022 NAICS Title]]","v":"Deep Sea Passenger Transportation "}]
[{"$nulls":43},{"$f":"Select_naics2022[[#This Row],[2022 NAICS Code]]&\":  \"&Select_naics2022[[#This Row],[2022 NAICS Title]]","v":"483113:  Coastal and Great Lakes Freight Transportation "},483113,"Coastal and Great Lakes Freight Transportation ",{"$f":"Select_naics2022[[#This Row],[2022 NAICS Title]]","v":"Coastal and Great Lakes Freight Transportation "}]
[{"$nulls":43},{"$f":"Select_naics2022[[#This Row],[2022 NAICS Code]]&\":  \"&Select_naics2022[[#This Row],[2022 NAICS Title]]","v":"483114:  Coastal and Great Lakes Passenger Transportation "},483114,"Coastal and Great Lakes Passenger Transportation ",{"$f":"Select_naics2022[[#This Row],[2022 NAICS Title]]","v":"Coastal and Great Lakes Passenger Transportation "}]
[{"$nulls":43},{"$f":"Select_naics2022[[#This Row],[2022 NAICS Code]]&\":  \"&Select_naics2022[[#This Row],[2022 NAICS Title]]","v":"483211:  Inland Water Freight Transportation "},483211,"Inland Water Freight Transportation ",{"$f":"Select_naics2022[[#This Row],[2022 NAICS Title]]","v":"Inland Water Freight Transportation "}]
[{"$nulls":43},{"$f":"Select_naics2022[[#This Row],[2022 NAICS Code]]&\":  \"&Select_naics2022[[#This Row],[2022 NAICS Title]]","v":"483212:  Inland Water Passenger Transportation "},483212,"Inland Water Passenger Transportation ",{"$f":"Select_naics2022[[#This Row],[2022 NAICS Title]]","v":"Inland Water Passenger Transportation "}]
[{"$nulls":43},{"$f":"Select_naics2022[[#This Row],[2022 NAICS Code]]&\":  \"&Select_naics2022[[#This Row],[2022 NAICS Title]]","v":"484110:  General Freight Trucking, Local "},484110,"General Freight Trucking, Local ",{"$f":"Select_naics2022[[#This Row],[2022 NAICS Title]]","v":"General Freight Trucking, Local "}]
[{"$nulls":43},{"$f":"Select_naics2022[[#This Row],[2022 NAICS Code]]&\":  \"&Select_naics2022[[#This Row],[2022 NAICS Title]]","v":"484121:  General Freight Trucking, Long-Distance, Truckload "},484121,"General Freight Trucking, Long-Distance, Truckload ",{"$f":"Select_naics2022[[#This Row],[2022 NAICS Title]]","v":"General Freight Trucking, Long-Distance, Truckload "}]
[{"$nulls":43},{"$f":"Select_naics2022[[#This Row],[2022 NAICS Code]]&\":  \"&Select_naics2022[[#This Row],[2022 NAICS Title]]","v":"484122:  General Freight Trucking, Long-Distance, Less Than Truckload "},484122,"General Freight Trucking, Long-Distance, Less Than Truckload ",{"$f":"Select_naics2022[[#This Row],[2022 NAICS Title]]","v":"General Freight Trucking, Long-Distance, Less Than Truckload "}]
[{"$nulls":43},{"$f":"Select_naics2022[[#This Row],[2022 NAICS Code]]&\":  \"&Select_naics2022[[#This Row],[2022 NAICS Title]]","v":"484210:  Used Household and Office Goods Moving"},484210,"Used Household and Office Goods Moving",{"$f":"Select_naics2022[[#This Row],[2022 NAICS Title]]","v":"Used Household and Office Goods Moving"}]
[{"$nulls":43},{"$f":"Select_naics2022[[#This Row],[2022 NAICS Code]]&\":  \"&Select_naics2022[[#This Row],[2022 NAICS Title]]","v":"484220:  Specialized Freight (except Used Goods) Trucking, Local "},484220,"Specialized Freight (except Used Goods) Trucking, Local ",{"$f":"Select_naics2022[[#This Row],[2022 NAICS Title]]","v":"Specialized Freight (except Used Goods) Trucking, Local "}]
[{"$nulls":43},{"$f":"Select_naics2022[[#This Row],[2022 NAICS Code]]&\":  \"&Select_naics2022[[#This Row],[2022 NAICS Title]]","v":"484230:  Specialized Freight (except Used Goods) Trucking, Long-Distance "},484230,"Specialized Freight (except Used Goods) Trucking, Long-Distance ",{"$f":"Select_naics2022[[#This Row],[2022 NAICS Title]]","v":"Specialized Freight (except Used Goods) Trucking, Long-Distance "}]
[{"$nulls":43},{"$f":"Select_naics2022[[#This Row],[2022 NAICS Code]]&\":  \"&Select_naics2022[[#This Row],[2022 NAICS Title]]","v":"485111:  Mixed Mode Transit Systems "},485111,"Mixed Mode Transit Systems ",{"$f":"Select_naics2022[[#This Row],[2022 NAICS Title]]","v":"Mixed Mode Transit Systems "}]
[{"$nulls":43},{"$f":"Select_naics2022[[#This Row],[2022 NAICS Code]]&\":  \"&Select_naics2022[[#This Row],[2022 NAICS Title]]","v":"485112:  Commuter Rail Systems "},485112,"Commuter Rail Systems ",{"$f":"Select_naics2022[[#This Row],[2022 NAICS Title]]","v":"Commuter Rail Systems "}]
[{"$nulls":43},{"$f":"Select_naics2022[[#This Row],[2022 NAICS Code]]&\":  \"&Select_naics2022[[#This Row],[2022 NAICS Title]]","v":"485113:  Bus and Other Motor Vehicle Transit Systems "},485113,"Bus and Other Motor Vehicle Transit Systems ",{"$f":"Select_naics2022[[#This Row],[2022 NAICS Title]]","v":"Bus and Other Motor Vehicle Transit Systems "}]
[{"$nulls":43},{"$f":"Select_naics2022[[#This Row],[2022 NAICS Code]]&\":  \"&Select_naics2022[[#This Row],[2022 NAICS Title]]","v":"485119:  Other Urban Transit Systems "},485119,"Other Urban Transit Systems ",{"$f":"Select_naics2022[[#This Row],[2022 NAICS Title]]","v":"Other Urban Transit Systems "}]
[{"$nulls":43},{"$f":"Select_naics2022[[#This Row],[2022 NAICS Code]]&\":  \"&Select_naics2022[[#This Row],[2022 NAICS Title]]","v":"485210:  Interurban and Rural Bus Transportation"},485210,"Interurban and Rural Bus Transportation",{"$f":"Select_naics2022[[#This Row],[2022 NAICS Title]]","v":"Interurban and Rural Bus Transportation"}]
[{"$nulls":43},{"$f":"Select_naics2022[[#This Row],[2022 NAICS Code]]&\":  \"&Select_naics2022[[#This Row],[2022 NAICS Title]]","v":"485310:  Taxi and Ridesharing Services "},485310,"Taxi and Ridesharing Services ",{"$f":"Select_naics2022[[#This Row],[2022 NAICS Title]]","v":"Taxi and Ridesharing Services "}]
[{"$nulls":43},{"$f":"Select_naics2022[[#This Row],[2022 NAICS Code]]&\":  \"&Select_naics2022[[#This Row],[2022 NAICS Title]]","v":"485320:  Limousine Service"},485320,"Limousine Service",{"$f":"Select_naics2022[[#This Row],[2022 NAICS Title]]","v":"Limousine Service"}]
[{"$nulls":43},{"$f":"Select_naics2022[[#This Row],[2022 NAICS Code]]&\":  \"&Select_naics2022[[#This Row],[2022 NAICS Title]]","v":"485410:  School and Employee Bus Transportation"},485410,"School and Employee Bus Transportation",{"$f":"Select_naics2022[[#This Row],[2022 NAICS Title]]","v":"School and Employee Bus Transportation"}]
[{"$nulls":43},{"$f":"Select_naics2022[[#This Row],[2022 NAICS Code]]&\":  \"&Select_naics2022[[#This Row],[2022 NAICS Title]]","v":"485510:  Charter Bus Industry"},485510,"Charter Bus Industry",{"$f":"Select_naics2022[[#This Row],[2022 NAICS Title]]","v":"Charter Bus Industry"}]
[{"$nulls":43},{"$f":"Select_naics2022[[#This Row],[2022 NAICS Code]]&\":  \"&Select_naics2022[[#This Row],[2022 NAICS Title]]","v":"485991:  Special Needs Transportation "},485991,"Special Needs Transportation ",{"$f":"Select_naics2022[[#This Row],[2022 NAICS Title]]","v":"Special Needs Transportation "}]
[{"$nulls":43},{"$f":"Select_naics2022[[#This Row],[2022 NAICS Code]]&\":  \"&Select_naics2022[[#This Row],[2022 NAICS Title]]","v":"485999:  All Other Transit and Ground Passenger Transportation "},485999,"All Other Transit and Ground Passenger Transportation ",{"$f":"Select_naics2022[[#This Row],[2022 NAICS Title]]","v":"All Other Transit and Ground Passenger Transportation "}]
[{"$nulls":43},{"$f":"Select_naics2022[[#This Row],[2022 NAICS Code]]&\":  \"&Select_naics2022[[#This Row],[2022 NAICS Title]]","v":"486110:  Pipeline Transportation of Crude Oil"},486110,"Pipeline Transportation of Crude Oil",{"$f":"Select_naics2022[[#This Row],[2022 NAICS Title]]","v":"Pipeline Transportation of Crude Oil"}]
[{"$nulls":43},{"$f":"Select_naics2022[[#This Row],[2022 NAICS Code]]&\":  \"&Select_naics2022[[#This Row],[2022 NAICS Title]]","v":"486210:  Pipeline Transportation of Natural Gas"},486210,"Pipeline Transportation of Natural Gas",{"$f":"Select_naics2022[[#This Row],[2022 NAICS Title]]","v":"Pipeline Transportation of Natural Gas"}]
[{"$nulls":43},{"$f":"Select_naics2022[[#This Row],[2022 NAICS Code]]&\":  \"&Select_naics2022[[#This Row],[2022 NAICS Title]]","v":"486910:  Pipeline Transportation of Refined Petroleum Products"},486910,"Pipeline Transportation of Refined Petroleum Products",{"$f":"Select_naics2022[[#This Row],[2022 NAICS Title]]","v":"Pipeline Transportation of Refined Petroleum Products"}]
[{"$nulls":43},{"$f":"Select_naics2022[[#This Row],[2022 NAICS Code]]&\":  \"&Select_naics2022[[#This Row],[2022 NAICS Title]]","v":"486990:  All Other Pipeline Transportation"},486990,"All Other Pipeline Transportation",{"$f":"Select_naics2022[[#This Row],[2022 NAICS Title]]","v":"All Other Pipeline Transportation"}]
[{"$nulls":43},{"$f":"Select_naics2022[[#This Row],[2022 NAICS Code]]&\":  \"&Select_naics2022[[#This Row],[2022 NAICS Title]]","v":"487110:  Scenic and Sightseeing Transportation, Land"},487110,"Scenic and Sightseeing Transportation, Land",{"$f":"Select_naics2022[[#This Row],[2022 NAICS Title]]","v":"Scenic and Sightseeing Transportation, Land"}]
[{"$nulls":43},{"$f":"Select_naics2022[[#This Row],[2022 NAICS Code]]&\":  \"&Select_naics2022[[#This Row],[2022 NAICS Title]]","v":"487210:  Scenic and Sightseeing Transportation, Water"},487210,"Scenic and Sightseeing Transportation, Water",{"$f":"Select_naics2022[[#This Row],[2022 NAICS Title]]","v":"Scenic and Sightseeing Transportation, Water"}]
[{"$nulls":43},{"$f":"Select_naics2022[[#This Row],[2022 NAICS Code]]&\":  \"&Select_naics2022[[#This Row],[2022 NAICS Title]]","v":"487990:  Scenic and Sightseeing Transportation, Other"},487990,"Scenic and Sightseeing Transportation, Other",{"$f":"Select_naics2022[[#This Row],[2022 NAICS Title]]","v":"Scenic and Sightseeing Transportation, Other"}]
[{"$nulls":43},{"$f":"Select_naics2022[[#This Row],[2022 NAICS Code]]&\":  \"&Select_naics2022[[#This Row],[2022 NAICS Title]]","v":"488111:  Air Traffic Control"},488111,"Air Traffic Control",{"$f":"Select_naics2022[[#This Row],[2022 NAICS Title]]","v":"Air Traffic Control"}]
[{"$nulls":43},{"$f":"Select_naics2022[[#This Row],[2022 NAICS Code]]&\":  \"&Select_naics2022[[#This Row],[2022 NAICS Title]]","v":"488119:  Other Airport Operations "},488119,"Other Airport Operations ",{"$f":"Select_naics2022[[#This Row],[2022 NAICS Title]]","v":"Other Airport Operations "}]
[{"$nulls":43},{"$f":"Select_naics2022[[#This Row],[2022 NAICS Code]]&\":  \"&Select_naics2022[[#This Row],[2022 NAICS Title]]","v":"488190:  Other Support Activities for Air Transportation"},488190,"Other Support Activities for Air Transportation",{"$f":"Select_naics2022[[#This Row],[2022 NAICS Title]]","v":"Other Support Activities for Air Transportation"}]
[{"$nulls":43},{"$f":"Select_naics2022[[#This Row],[2022 NAICS Code]]&\":  \"&Select_naics2022[[#This Row],[2022 NAICS Title]]","v":"488210:  Support Activities for Rail Transportation"},488210,"Support Activities for Rail Transportation",{"$f":"Select_naics2022[[#This Row],[2022 NAICS Title]]","v":"Support Activities for Rail Transportation"}]
[{"$nulls":43},{"$f":"Select_naics2022[[#This Row],[2022 NAICS Code]]&\":  \"&Select_naics2022[[#This Row],[2022 NAICS Title]]","v":"488310:  Port and Harbor Operations"},488310,"Port and Harbor Operations",{"$f":"Select_naics2022[[#This Row],[2022 NAICS Title]]","v":"Port and Harbor Operations"}]
[{"$nulls":43},{"$f":"Select_naics2022[[#This Row],[2022 NAICS Code]]&\":  \"&Select_naics2022[[#This Row],[2022 NAICS Title]]","v":"488320:  Marine Cargo Handling"},488320,"Marine Cargo Handling",{"$f":"Select_naics2022[[#This Row],[2022 NAICS Title]]","v":"Marine Cargo Handling"}]
[{"$nulls":43},{"$f":"Select_naics2022[[#This Row],[2022 NAICS Code]]&\":  \"&Select_naics2022[[#This Row],[2022 NAICS Title]]","v":"488330:  Navigational Services to Shipping "},488330,"Navigational Services to Shipping ",{"$f":"Select_naics2022[[#This Row],[2022 NAICS Title]]","v":"Navigational Services to Shipping "}]
[{"$nulls":43},{"$f":"Select_naics2022[[#This Row],[2022 NAICS Code]]&\":  \"&Select_naics2022[[#This Row],[2022 NAICS Title]]","v":"488390:  Other Support Activities for Water Transportation"},488390,"Other Support Activities for Water Transportation",{"$f":"Select_naics2022[[#This Row],[2022 NAICS Title]]","v":"Other Support Activities for Water Transportation"}]
[{"$nulls":43},{"$f":"Select_naics2022[[#This Row],[2022 NAICS Code]]&\":  \"&Select_naics2022[[#This Row],[2022 NAICS Title]]","v":"488410:  Motor Vehicle Towing"},488410,"Motor Vehicle Towing",{"$f":"Select_naics2022[[#This Row],[2022 NAICS Title]]","v":"Motor Vehicle Towing"}]
[{"$nulls":43},{"$f":"Select_naics2022[[#This Row],[2022 NAICS Code]]&\":  \"&Select_naics2022[[#This Row],[2022 NAICS Title]]","v":"488490:  Other Support Activities for Road Transportation "},488490,"Other Support Activities for Road Transportation ",{"$f":"Select_naics2022[[#This Row],[2022 NAICS Title]]","v":"Other Support Activities for Road Transportation "}]
[{"$nulls":43},{"$f":"Select_naics2022[[#This Row],[2022 NAICS Code]]&\":  \"&Select_naics2022[[#This Row],[2022 NAICS Title]]","v":"488510:  Freight Transportation Arrangement "},488510,"Freight Transportation Arrangement ",{"$f":"Select_naics2022[[#This Row],[2022 NAICS Title]]","v":"Freight Transportation Arrangement "}]
[{"$nulls":43},{"$f":"Select_naics2022[[#This Row],[2022 NAICS Code]]&\":  \"&Select_naics2022[[#This Row],[2022 NAICS Title]]","v":"488991:  Packing and Crating "},488991,"Packing and Crating ",{"$f":"Select_naics2022[[#This Row],[2022 NAICS Title]]","v":"Packing and Crating "}]
[{"$nulls":43},{"$f":"Select_naics2022[[#This Row],[2022 NAICS Code]]&\":  \"&Select_naics2022[[#This Row],[2022 NAICS Title]]","v":"488999:  All Other Support Activities for Transportation "},488999,"All Other Support Activities for Transportation ",{"$f":"Select_naics2022[[#This Row],[2022 NAICS Title]]","v":"All Other Support Activities for Transportation "}]
[{"$nulls":43},{"$f":"Select_naics2022[[#This Row],[2022 NAICS Code]]&\":  \"&Select_naics2022[[#This Row],[2022 NAICS Title]]","v":"491110:  Postal Service"},491110,"Postal Service",{"$f":"Select_naics2022[[#This Row],[2022 NAICS Title]]","v":"Postal Service"}]
[{"$nulls":43},{"$f":"Select_naics2022[[#This Row],[2022 NAICS Code]]&\":  \"&Select_naics2022[[#This Row],[2022 NAICS Title]]","v":"492110:  Couriers and Express Delivery Services"},492110,"Couriers and Express Delivery Services",{"$f":"Select_naics2022[[#This Row],[2022 NAICS Title]]","v":"Couriers and Express Delivery Services"}]
[{"$nulls":43},{"$f":"Select_naics2022[[#This Row],[2022 NAICS Code]]&\":  \"&Select_naics2022[[#This Row],[2022 NAICS Title]]","v":"492210:  Local Messengers and Local Delivery"},492210,"Local Messengers and Local Delivery",{"$f":"Select_naics2022[[#This Row],[2022 NAICS Title]]","v":"Local Messengers and Local Delivery"}]
[{"$nulls":43},{"$f":"Select_naics2022[[#This Row],[2022 NAICS Code]]&\":  \"&Select_naics2022[[#This Row],[2022 NAICS Title]]","v":"493110:  General Warehousing and Storage "},493110,"General Warehousing and Storage ",{"$f":"Select_naics2022[[#This Row],[2022 NAICS Title]]","v":"General Warehousing and Storage "}]
[{"$nulls":43},{"$f":"Select_naics2022[[#This Row],[2022 NAICS Code]]&\":  \"&Select_naics2022[[#This Row],[2022 NAICS Title]]","v":"493120:  Refrigerated Warehousing and Storage"},493120,"Refrigerated Warehousing and Storage",{"$f":"Select_naics2022[[#This Row],[2022 NAICS Title]]","v":"Refrigerated Warehousing and Storage"}]
[{"$nulls":43},{"$f":"Select_naics2022[[#This Row],[2022 NAICS Code]]&\":  \"&Select_naics2022[[#This Row],[2022 NAICS Title]]","v":"493130:  Farm Product Warehousing and Storage"},493130,"Farm Product Warehousing and Storage",{"$f":"Select_naics2022[[#This Row],[2022 NAICS Title]]","v":"Farm Product Warehousing and Storage"}]
[{"$nulls":43},{"$f":"Select_naics2022[[#This Row],[2022 NAICS Code]]&\":  \"&Select_naics2022[[#This Row],[2022 NAICS Title]]","v":"493190:  Other Warehousing and Storage"},493190,"Other Warehousing and Storage",{"$f":"Select_naics2022[[#This Row],[2022 NAICS Title]]","v":"Other Warehousing and Storage"}]
[{"$nulls":43},{"$f":"Select_naics2022[[#This Row],[2022 NAICS Code]]&\":  \"&Select_naics2022[[#This Row],[2022 NAICS Title]]","v":"512110:  Motion Picture and Video Production "},512110,"Motion Picture and Video Production ",{"$f":"Select_naics2022[[#This Row],[2022 NAICS Title]]","v":"Motion Picture and Video Production "}]
[{"$nulls":43},{"$f":"Select_naics2022[[#This Row],[2022 NAICS Code]]&\":  \"&Select_naics2022[[#This Row],[2022 NAICS Title]]","v":"512120:  Motion Picture and Video Distribution"},512120,"Motion Picture and Video Distribution",{"$f":"Select_naics2022[[#This Row],[2022 NAICS Title]]","v":"Motion Picture and Video Distribution"}]
[{"$nulls":43},{"$f":"Select_naics2022[[#This Row],[2022 NAICS Code]]&\":  \"&Select_naics2022[[#This Row],[2022 NAICS Title]]","v":"512131:  Motion Picture Theaters (except Drive-Ins) "},512131,"Motion Picture Theaters (except Drive-Ins) ",{"$f":"Select_naics2022[[#This Row],[2022 NAICS Title]]","v":"Motion Picture Theaters (except Drive-Ins) "}]
[{"$nulls":43},{"$f":"Select_naics2022[[#This Row],[2022 NAICS Code]]&\":  \"&Select_naics2022[[#This Row],[2022 NAICS Title]]","v":"512132:  Drive-In Motion Picture Theaters "},512132,"Drive-In Motion Picture Theaters ",{"$f":"Select_naics2022[[#This Row],[2022 NAICS Title]]","v":"Drive-In Motion Picture Theaters "}]
[{"$nulls":43},{"$f":"Select_naics2022[[#This Row],[2022 NAICS Code]]&\":  \"&Select_naics2022[[#This Row],[2022 NAICS Title]]","v":"512191:  Teleproduction and Other Postproduction Services "},512191,"Teleproduction and Other Postproduction Services ",{"$f":"Select_naics2022[[#This Row],[2022 NAICS Title]]","v":"Teleproduction and Other Postproduction Services "}]
[{"$nulls":43},{"$f":"Select_naics2022[[#This Row],[2022 NAICS Code]]&\":  \"&Select_naics2022[[#This Row],[2022 NAICS Title]]","v":"512199:  Other Motion Picture and Video Industries "},512199,"Other Motion Picture and Video Industries ",{"$f":"Select_naics2022[[#This Row],[2022 NAICS Title]]","v":"Other Motion Picture and Video Industries "}]
[{"$nulls":43},{"$f":"Select_naics2022[[#This Row],[2022 NAICS Code]]&\":  \"&Select_naics2022[[#This Row],[2022 NAICS Title]]","v":"512230:  Music Publishers"},512230,"Music Publishers",{"$f":"Select_naics2022[[#This Row],[2022 NAICS Title]]","v":"Music Publishers"}]
[{"$nulls":43},{"$f":"Select_naics2022[[#This Row],[2022 NAICS Code]]&\":  \"&Select_naics2022[[#This Row],[2022 NAICS Title]]","v":"512240:  Sound Recording Studios"},512240,"Sound Recording Studios",{"$f":"Select_naics2022[[#This Row],[2022 NAICS Title]]","v":"Sound Recording Studios"}]
[{"$nulls":43},{"$f":"Select_naics2022[[#This Row],[2022 NAICS Code]]&\":  \"&Select_naics2022[[#This Row],[2022 NAICS Title]]","v":"512250:  Record Production and Distribution"},512250,"Record Production and Distribution",{"$f":"Select_naics2022[[#This Row],[2022 NAICS Title]]","v":"Record Production and Distribution"}]
[{"$nulls":43},{"$f":"Select_naics2022[[#This Row],[2022 NAICS Code]]&\":  \"&Select_naics2022[[#This Row],[2022 NAICS Title]]","v":"512290:  Other Sound Recording Industries"},512290,"Other Sound Recording Industries",{"$f":"Select_naics2022[[#This Row],[2022 NAICS Title]]","v":"Other Sound Recording Industries"}]
[{"$nulls":43},{"$f":"Select_naics2022[[#This Row],[2022 NAICS Code]]&\":  \"&Select_naics2022[[#This Row],[2022 NAICS Title]]","v":"513110:  Newspaper Publishers "},513110,"Newspaper Publishers ",{"$f":"Select_naics2022[[#This Row],[2022 NAICS Title]]","v":"Newspaper Publishers "}]
[{"$nulls":43},{"$f":"Select_naics2022[[#This Row],[2022 NAICS Code]]&\":  \"&Select_naics2022[[#This Row],[2022 NAICS Title]]","v":"513120:  Periodical Publishers "},513120,"Periodical Publishers ",{"$f":"Select_naics2022[[#This Row],[2022 NAICS Title]]","v":"Periodical Publishers "}]
[{"$nulls":43},{"$f":"Select_naics2022[[#This Row],[2022 NAICS Code]]&\":  \"&Select_naics2022[[#This Row],[2022 NAICS Title]]","v":"513130:  Book Publishers "},513130,"Book Publishers ",{"$f":"Select_naics2022[[#This Row],[2022 NAICS Title]]","v":"Book Publishers "}]
[{"$nulls":43},{"$f":"Select_naics2022[[#This Row],[2022 NAICS Code]]&\":  \"&Select_naics2022[[#This Row],[2022 NAICS Title]]","v":"513140:  Directory and Mailing List Publishers "},513140,"Directory and Mailing List Publishers ",{"$f":"Select_naics2022[[#This Row],[2022 NAICS Title]]","v":"Directory and Mailing List Publishers "}]
[{"$nulls":43},{"$f":"Select_naics2022[[#This Row],[2022 NAICS Code]]&\":  \"&Select_naics2022[[#This Row],[2022 NAICS Title]]","v":"513191:  Greeting Card Publishers "},513191,"Greeting Card Publishers ",{"$f":"Select_naics2022[[#This Row],[2022 NAICS Title]]","v":"Greeting Card Publishers "}]
[{"$nulls":43},{"$f":"Select_naics2022[[#This Row],[2022 NAICS Code]]&\":  \"&Select_naics2022[[#This Row],[2022 NAICS Title]]","v":"513199:  All Other Publishers "},513199,"All Other Publishers ",{"$f":"Select_naics2022[[#This Row],[2022 NAICS Title]]","v":"All Other Publishers "}]
[{"$nulls":43},{"$f":"Select_naics2022[[#This Row],[2022 NAICS Code]]&\":  \"&Select_naics2022[[#This Row],[2022 NAICS Title]]","v":"513210:  Software Publishers"},513210,"Software Publishers",{"$f":"Select_naics2022[[#This Row],[2022 NAICS Title]]","v":"Software Publishers"}]
[{"$nulls":43},{"$f":"Select_naics2022[[#This Row],[2022 NAICS Code]]&\":  \"&Select_naics2022[[#This Row],[2022 NAICS Title]]","v":"516110:  Radio Broadcasting Stations "},516110,"Radio Broadcasting Stations ",{"$f":"Select_naics2022[[#This Row],[2022 NAICS Title]]","v":"Radio Broadcasting Stations "}]
[{"$nulls":43},{"$f":"Select_naics2022[[#This Row],[2022 NAICS Code]]&\":  \"&Select_naics2022[[#This Row],[2022 NAICS Title]]","v":"516120:  Television Broadcasting Stations "},516120,"Television Broadcasting Stations ",{"$f":"Select_naics2022[[#This Row],[2022 NAICS Title]]","v":"Television Broadcasting Stations "}]
[{"$nulls":43},{"$f":"Select_naics2022[[#This Row],[2022 NAICS Code]]&\":  \"&Select_naics2022[[#This Row],[2022 NAICS Title]]","v":"516210:  Media Streaming Distribution Services, Social Networks, and Other Media Networks and Content Providers"},516210,"Media Streaming Distribution Services, Social Networks, and Other Media Networks and Content Providers",{"$f":"Select_naics2022[[#This Row],[2022 NAICS Title]]","v":"Media Streaming Distribution Services, Social Networks, and Other Media Networks and Content Providers"}]
[{"$nulls":43},{"$f":"Select_naics2022[[#This Row],[2022 NAICS Code]]&\":  \"&Select_naics2022[[#This Row],[2022 NAICS Title]]","v":"517111:  Wired Telecommunications Carriers "},517111,"Wired Telecommunications Carriers ",{"$f":"Select_naics2022[[#This Row],[2022 NAICS Title]]","v":"Wired Telecommunications Carriers "}]
[{"$nulls":43},{"$f":"Select_naics2022[[#This Row],[2022 NAICS Code]]&\":  \"&Select_naics2022[[#This Row],[2022 NAICS Title]]","v":"517112:  Wireless Telecommunications Carriers (except Satellite)"},517112,"Wireless Telecommunications Carriers (except Satellite)",{"$f":"Select_naics2022[[#This Row],[2022 NAICS Title]]","v":"Wireless Telecommunications Carriers (except Satellite)"}]
[{"$nulls":43},{"$f":"Select_naics2022[[#This Row],[2022 NAICS Code]]&\":  \"&Select_naics2022[[#This Row],[2022 NAICS Title]]","v":"517121:  Telecommunications Resellers"},517121,"Telecommunications Resellers",{"$f":"Select_naics2022[[#This Row],[2022 NAICS Title]]","v":"Telecommunications Resellers"}]
[{"$nulls":43},{"$f":"Select_naics2022[[#This Row],[2022 NAICS Code]]&\":  \"&Select_naics2022[[#This Row],[2022 NAICS Title]]","v":"517122:  Agents for Wireless Telecommunications Services"},517122,"Agents for Wireless Telecommunications Services",{"$f":"Select_naics2022[[#This Row],[2022 NAICS Title]]","v":"Agents for Wireless Telecommunications Services"}]
[{"$nulls":43},{"$f":"Select_naics2022[[#This Row],[2022 NAICS Code]]&\":  \"&Select_naics2022[[#This Row],[2022 NAICS Title]]","v":"517410:  Satellite Telecommunications"},517410,"Satellite Telecommunications",{"$f":"Select_naics2022[[#This Row],[2022 NAICS Title]]","v":"Satellite Telecommunications"}]
[{"$nulls":43},{"$f":"Select_naics2022[[#This Row],[2022 NAICS Code]]&\":  \"&Select_naics2022[[#This Row],[2022 NAICS Title]]","v":"517810:  All Other Telecommunications "},517810,"All Other Telecommunications ",{"$f":"Select_naics2022[[#This Row],[2022 NAICS Title]]","v":"All Other Telecommunications "}]
[{"$nulls":43},{"$f":"Select_naics2022[[#This Row],[2022 NAICS Code]]&\":  \"&Select_naics2022[[#This Row],[2022 NAICS Title]]","v":"518210:  Computing Infrastructure Providers, Data Processing, Web Hosting, and Related Services"},518210,"Computing Infrastructure Providers, Data Processing, Web Hosting, and Related Services",{"$f":"Select_naics2022[[#This Row],[2022 NAICS Title]]","v":"Computing Infrastructure Providers, Data Processing, Web Hosting, and Related Services"}]
[{"$nulls":43},{"$f":"Select_naics2022[[#This Row],[2022 NAICS Code]]&\":  \"&Select_naics2022[[#This Row],[2022 NAICS Title]]","v":"519210:  Libraries and Archives "},519210,"Libraries and Archives ",{"$f":"Select_naics2022[[#This Row],[2022 NAICS Title]]","v":"Libraries and Archives "}]
[{"$nulls":43},{"$f":"Select_naics2022[[#This Row],[2022 NAICS Code]]&\":  \"&Select_naics2022[[#This Row],[2022 NAICS Title]]","v":"519290:  Web Search Portals and All Other Information Services"},519290,"Web Search Portals and All Other Information Services",{"$f":"Select_naics2022[[#This Row],[2022 NAICS Title]]","v":"Web Search Portals and All Other Information Services"}]
[{"$nulls":43},{"$f":"Select_naics2022[[#This Row],[2022 NAICS Code]]&\":  \"&Select_naics2022[[#This Row],[2022 NAICS Title]]","v":"521110:  Monetary Authorities-Central Bank"},521110,"Monetary Authorities-Central Bank",{"$f":"Select_naics2022[[#This Row],[2022 NAICS Title]]","v":"Monetary Authorities-Central Bank"}]
[{"$nulls":43},{"$f":"Select_naics2022[[#This Row],[2022 NAICS Code]]&\":  \"&Select_naics2022[[#This Row],[2022 NAICS Title]]","v":"522110:  Commercial Banking "},522110,"Commercial Banking ",{"$f":"Select_naics2022[[#This Row],[2022 NAICS Title]]","v":"Commercial Banking "}]
[{"$nulls":43},{"$f":"Select_naics2022[[#This Row],[2022 NAICS Code]]&\":  \"&Select_naics2022[[#This Row],[2022 NAICS Title]]","v":"522130:  Credit Unions "},522130,"Credit Unions ",{"$f":"Select_naics2022[[#This Row],[2022 NAICS Title]]","v":"Credit Unions "}]
[{"$nulls":43},{"$f":"Select_naics2022[[#This Row],[2022 NAICS Code]]&\":  \"&Select_naics2022[[#This Row],[2022 NAICS Title]]","v":"522180:  Savings Institutions and Other Depository Credit Intermediation "},522180,"Savings Institutions and Other Depository Credit Intermediation ",{"$f":"Select_naics2022[[#This Row],[2022 NAICS Title]]","v":"Savings Institutions and Other Depository Credit Intermediation "}]
[{"$nulls":43},{"$f":"Select_naics2022[[#This Row],[2022 NAICS Code]]&\":  \"&Select_naics2022[[#This Row],[2022 NAICS Title]]","v":"522210:  Credit Card Issuing "},522210,"Credit Card Issuing ",{"$f":"Select_naics2022[[#This Row],[2022 NAICS Title]]","v":"Credit Card Issuing "}]
[{"$nulls":43},{"$f":"Select_naics2022[[#This Row],[2022 NAICS Code]]&\":  \"&Select_naics2022[[#This Row],[2022 NAICS Title]]","v":"522220:  Sales Financing "},522220,"Sales Financing ",{"$f":"Select_naics2022[[#This Row],[2022 NAICS Title]]","v":"Sales Financing "}]
[{"$nulls":43},{"$f":"Select_naics2022[[#This Row],[2022 NAICS Code]]&\":  \"&Select_naics2022[[#This Row],[2022 NAICS Title]]","v":"522291:  Consumer Lending "},522291,"Consumer Lending ",{"$f":"Select_naics2022[[#This Row],[2022 NAICS Title]]","v":"Consumer Lending "}]
[{"$nulls":43},{"$f":"Select_naics2022[[#This Row],[2022 NAICS Code]]&\":  \"&Select_naics2022[[#This Row],[2022 NAICS Title]]","v":"522292:  Real Estate Credit "},522292,"Real Estate Credit ",{"$f":"Select_naics2022[[#This Row],[2022 NAICS Title]]","v":"Real Estate Credit "}]
[{"$nulls":43},{"$f":"Select_naics2022[[#This Row],[2022 NAICS Code]]&\":  \"&Select_naics2022[[#This Row],[2022 NAICS Title]]","v":"522299:  International, Secondary Market, and All Other Nondepository Credit Intermediation "},522299,"International, Secondary Market, and All Other Nondepository Credit Intermediation ",{"$f":"Select_naics2022[[#This Row],[2022 NAICS Title]]","v":"International, Secondary Market, and All Other Nondepository Credit Intermediation "}]
[{"$nulls":43},{"$f":"Select_naics2022[[#This Row],[2022 NAICS Code]]&\":  \"&Select_naics2022[[#This Row],[2022 NAICS Title]]","v":"522310:  Mortgage and Nonmortgage Loan Brokers "},522310,"Mortgage and Nonmortgage Loan Brokers ",{"$f":"Select_naics2022[[#This Row],[2022 NAICS Title]]","v":"Mortgage and Nonmortgage Loan Brokers "}]
[{"$nulls":43},{"$f":"Select_naics2022[[#This Row],[2022 NAICS Code]]&\":  \"&Select_naics2022[[#This Row],[2022 NAICS Title]]","v":"522320:  Financial Transactions Processing, Reserve, and Clearinghouse Activities "},522320,"Financial Transactions Processing, Reserve, and Clearinghouse Activities ",{"$f":"Select_naics2022[[#This Row],[2022 NAICS Title]]","v":"Financial Transactions Processing, Reserve, and Clearinghouse Activities "}]
[{"$nulls":43},{"$f":"Select_naics2022[[#This Row],[2022 NAICS Code]]&\":  \"&Select_naics2022[[#This Row],[2022 NAICS Title]]","v":"522390:  Other Activities Related to Credit Intermediation "},522390,"Other Activities Related to Credit Intermediation ",{"$f":"Select_naics2022[[#This Row],[2022 NAICS Title]]","v":"Other Activities Related to Credit Intermediation "}]
[{"$nulls":43},{"$f":"Select_naics2022[[#This Row],[2022 NAICS Code]]&\":  \"&Select_naics2022[[#This Row],[2022 NAICS Title]]","v":"523150:  Investment Banking and Securities Intermediation "},523150,"Investment Banking and Securities Intermediation ",{"$f":"Select_naics2022[[#This Row],[2022 NAICS Title]]","v":"Investment Banking and Securities Intermediation "}]
[{"$nulls":43},{"$f":"Select_naics2022[[#This Row],[2022 NAICS Code]]&\":  \"&Select_naics2022[[#This Row],[2022 NAICS Title]]","v":"523160:  Commodity Contracts Intermediation "},523160,"Commodity Contracts Intermediation ",{"$f":"Select_naics2022[[#This Row],[2022 NAICS Title]]","v":"Commodity Contracts Intermediation "}]
[{"$nulls":43},{"$f":"Select_naics2022[[#This Row],[2022 NAICS Code]]&\":  \"&Select_naics2022[[#This Row],[2022 NAICS Title]]","v":"523210:  Securities and Commodity Exchanges"},523210,"Securities and Commodity Exchanges",{"$f":"Select_naics2022[[#This Row],[2022 NAICS Title]]","v":"Securities and Commodity Exchanges"}]
[{"$nulls":43},{"$f":"Select_naics2022[[#This Row],[2022 NAICS Code]]&\":  \"&Select_naics2022[[#This Row],[2022 NAICS Title]]","v":"523910:  Miscellaneous Intermediation "},523910,"Miscellaneous Intermediation ",{"$f":"Select_naics2022[[#This Row],[2022 NAICS Title]]","v":"Miscellaneous Intermediation "}]
[{"$nulls":43},{"$f":"Select_naics2022[[#This Row],[2022 NAICS Code]]&\":  \"&Select_naics2022[[#This Row],[2022 NAICS Title]]","v":"523940:  Portfolio Management and Investment Advice "},523940,"Portfolio Management and Investment Advice ",{"$f":"Select_naics2022[[#This Row],[2022 NAICS Title]]","v":"Portfolio Management and Investment Advice "}]
[{"$nulls":43},{"$f":"Select_naics2022[[#This Row],[2022 NAICS Code]]&\":  \"&Select_naics2022[[#This Row],[2022 NAICS Title]]","v":"523991:  Trust, Fiduciary, and Custody Activities "},523991,"Trust, Fiduciary, and Custody Activities ",{"$f":"Select_naics2022[[#This Row],[2022 NAICS Title]]","v":"Trust, Fiduciary, and Custody Activities "}]
[{"$nulls":43},{"$f":"Select_naics2022[[#This Row],[2022 NAICS Code]]&\":  \"&Select_naics2022[[#This Row],[2022 NAICS Title]]","v":"523999:  Miscellaneous Financial Investment Activities "},523999,"Miscellaneous Financial Investment Activities ",{"$f":"Select_naics2022[[#This Row],[2022 NAICS Title]]","v":"Miscellaneous Financial Investment Activities "}]
[{"$nulls":43},{"$f":"Select_naics2022[[#This Row],[2022 NAICS Code]]&\":  \"&Select_naics2022[[#This Row],[2022 NAICS Title]]","v":"524113:  Direct Life Insurance Carriers "},524113,"Direct Life Insurance Carriers ",{"$f":"Select_naics2022[[#This Row],[2022 NAICS Title]]","v":"Direct Life Insurance Carriers "}]
[{"$nulls":43},{"$f":"Select_naics2022[[#This Row],[2022 NAICS Code]]&\":  \"&Select_naics2022[[#This Row],[2022 NAICS Title]]","v":"524114:  Direct Health and Medical Insurance Carriers "},524114,"Direct Health and Medical Insurance Carriers ",{"$f":"Select_naics2022[[#This Row],[2022 NAICS Title]]","v":"Direct Health and Medical Insurance Carriers "}]
[{"$nulls":43},{"$f":"Select_naics2022[[#This Row],[2022 NAICS Code]]&\":  \"&Select_naics2022[[#This Row],[2022 NAICS Title]]","v":"524126:  Direct Property and Casualty Insurance Carriers "},524126,"Direct Property and Casualty Insurance Carriers ",{"$f":"Select_naics2022[[#This Row],[2022 NAICS Title]]","v":"Direct Property and Casualty Insurance Carriers "}]
[{"$nulls":43},{"$f":"Select_naics2022[[#This Row],[2022 NAICS Code]]&\":  \"&Select_naics2022[[#This Row],[2022 NAICS Title]]","v":"524127:  Direct Title Insurance Carriers "},524127,"Direct Title Insurance Carriers ",{"$f":"Select_naics2022[[#This Row],[2022 NAICS Title]]","v":"Direct Title Insurance Carriers "}]
[{"$nulls":43},{"$f":"Select_naics2022[[#This Row],[2022 NAICS Code]]&\":  \"&Select_naics2022[[#This Row],[2022 NAICS Title]]","v":"524128:  Other Direct Insurance (except Life, Health, and Medical) Carriers "},524128,"Other Direct Insurance (except Life, Health, and Medical) Carriers ",{"$f":"Select_naics2022[[#This Row],[2022 NAICS Title]]","v":"Other Direct Insurance (except Life, Health, and Medical) Carriers "}]
[{"$nulls":43},{"$f":"Select_naics2022[[#This Row],[2022 NAICS Code]]&\":  \"&Select_naics2022[[#This Row],[2022 NAICS Title]]","v":"524130:  Reinsurance Carriers "},524130,"Reinsurance Carriers ",{"$f":"Select_naics2022[[#This Row],[2022 NAICS Title]]","v":"Reinsurance Carriers "}]
[{"$nulls":43},{"$f":"Select_naics2022[[#This Row],[2022 NAICS Code]]&\":  \"&Select_naics2022[[#This Row],[2022 NAICS Title]]","v":"524210:  Insurance Agencies and Brokerages "},524210,"Insurance Agencies and Brokerages ",{"$f":"Select_naics2022[[#This Row],[2022 NAICS Title]]","v":"Insurance Agencies and Brokerages "}]
[{"$nulls":43},{"$f":"Select_naics2022[[#This Row],[2022 NAICS Code]]&\":  \"&Select_naics2022[[#This Row],[2022 NAICS Title]]","v":"524291:  Claims Adjusting "},524291,"Claims Adjusting ",{"$f":"Select_naics2022[[#This Row],[2022 NAICS Title]]","v":"Claims Adjusting "}]
[{"$nulls":43},{"$f":"Select_naics2022[[#This Row],[2022 NAICS Code]]&\":  \"&Select_naics2022[[#This Row],[2022 NAICS Title]]","v":"524292:  Pharmacy Benefit Management and Other Third Party Administration of Insurance and Pension Funds "},524292,"Pharmacy Benefit Management and Other Third Party Administration of Insurance and Pension Funds ",{"$f":"Select_naics2022[[#This Row],[2022 NAICS Title]]","v":"Pharmacy Benefit Management and Other Third Party Administration of Insurance and Pension Funds "}]
[{"$nulls":43},{"$f":"Select_naics2022[[#This Row],[2022 NAICS Code]]&\":  \"&Select_naics2022[[#This Row],[2022 NAICS Title]]","v":"524298:  All Other Insurance Related Activities "},524298,"All Other Insurance Related Activities ",{"$f":"Select_naics2022[[#This Row],[2022 NAICS Title]]","v":"All Other Insurance Related Activities "}]
[{"$nulls":43},{"$f":"Select_naics2022[[#This Row],[2022 NAICS Code]]&\":  \"&Select_naics2022[[#This Row],[2022 NAICS Title]]","v":"525110:  Pension Funds "},525110,"Pension Funds ",{"$f":"Select_naics2022[[#This Row],[2022 NAICS Title]]","v":"Pension Funds "}]
[{"$nulls":43},{"$f":"Select_naics2022[[#This Row],[2022 NAICS Code]]&\":  \"&Select_naics2022[[#This Row],[2022 NAICS Title]]","v":"525120:  Health and Welfare Funds "},525120,"Health and Welfare Funds ",{"$f":"Select_naics2022[[#This Row],[2022 NAICS Title]]","v":"Health and Welfare Funds "}]
[{"$nulls":43},{"$f":"Select_naics2022[[#This Row],[2022 NAICS Code]]&\":  \"&Select_naics2022[[#This Row],[2022 NAICS Title]]","v":"525190:  Other Insurance Funds "},525190,"Other Insurance Funds ",{"$f":"Select_naics2022[[#This Row],[2022 NAICS Title]]","v":"Other Insurance Funds "}]
[{"$nulls":43},{"$f":"Select_naics2022[[#This Row],[2022 NAICS Code]]&\":  \"&Select_naics2022[[#This Row],[2022 NAICS Title]]","v":"525910:  Open-End Investment Funds "},525910,"Open-End Investment Funds ",{"$f":"Select_naics2022[[#This Row],[2022 NAICS Title]]","v":"Open-End Investment Funds "}]
[{"$nulls":43},{"$f":"Select_naics2022[[#This Row],[2022 NAICS Code]]&\":  \"&Select_naics2022[[#This Row],[2022 NAICS Title]]","v":"525920:  Trusts, Estates, and Agency Accounts "},525920,"Trusts, Estates, and Agency Accounts ",{"$f":"Select_naics2022[[#This Row],[2022 NAICS Title]]","v":"Trusts, Estates, and Agency Accounts "}]
[{"$nulls":43},{"$f":"Select_naics2022[[#This Row],[2022 NAICS Code]]&\":  \"&Select_naics2022[[#This Row],[2022 NAICS Title]]","v":"525990:  Other Financial Vehicles "},525990,"Other Financial Vehicles ",{"$f":"Select_naics2022[[#This Row],[2022 NAICS Title]]","v":"Other Financial Vehicles "}]
[{"$nulls":43},{"$f":"Select_naics2022[[#This Row],[2022 NAICS Code]]&\":  \"&Select_naics2022[[#This Row],[2022 NAICS Title]]","v":"531110:  Lessors of Residential Buildings and Dwellings "},531110,"Lessors of Residential Buildings and Dwellings ",{"$f":"Select_naics2022[[#This Row],[2022 NAICS Title]]","v":"Lessors of Residential Buildings and Dwellings "}]
[{"$nulls":43},{"$f":"Select_naics2022[[#This Row],[2022 NAICS Code]]&\":  \"&Select_naics2022[[#This Row],[2022 NAICS Title]]","v":"531120:  Lessors of Nonresidential Buildings (except Miniwarehouses) "},531120,"Lessors of Nonresidential Buildings (except Miniwarehouses) ",{"$f":"Select_naics2022[[#This Row],[2022 NAICS Title]]","v":"Lessors of Nonresidential Buildings (except Miniwarehouses) "}]
[{"$nulls":43},{"$f":"Select_naics2022[[#This Row],[2022 NAICS Code]]&\":  \"&Select_naics2022[[#This Row],[2022 NAICS Title]]","v":"531130:  Lessors of Miniwarehouses and Self-Storage Units "},531130,"Lessors of Miniwarehouses and Self-Storage Units ",{"$f":"Select_naics2022[[#This Row],[2022 NAICS Title]]","v":"Lessors of Miniwarehouses and Self-Storage Units "}]
[{"$nulls":43},{"$f":"Select_naics2022[[#This Row],[2022 NAICS Code]]&\":  \"&Select_naics2022[[#This Row],[2022 NAICS Title]]","v":"531190:  Lessors of Other Real Estate Property "},531190,"Lessors of Other Real Estate Property ",{"$f":"Select_naics2022[[#This Row],[2022 NAICS Title]]","v":"Lessors of Other Real Estate Property "}]
[{"$nulls":43},{"$f":"Select_naics2022[[#This Row],[2022 NAICS Code]]&\":  \"&Select_naics2022[[#This Row],[2022 NAICS Title]]","v":"531210:  Offices of Real Estate Agents and Brokers"},531210,"Offices of Real Estate Agents and Brokers",{"$f":"Select_naics2022[[#This Row],[2022 NAICS Title]]","v":"Offices of Real Estate Agents and Brokers"}]
[{"$nulls":43},{"$f":"Select_naics2022[[#This Row],[2022 NAICS Code]]&\":  \"&Select_naics2022[[#This Row],[2022 NAICS Title]]","v":"531311:  Residential Property Managers "},531311,"Residential Property Managers ",{"$f":"Select_naics2022[[#This Row],[2022 NAICS Title]]","v":"Residential Property Managers "}]
[{"$nulls":43},{"$f":"Select_naics2022[[#This Row],[2022 NAICS Code]]&\":  \"&Select_naics2022[[#This Row],[2022 NAICS Title]]","v":"531312:  Nonresidential Property Managers "},531312,"Nonresidential Property Managers ",{"$f":"Select_naics2022[[#This Row],[2022 NAICS Title]]","v":"Nonresidential Property Managers "}]
[{"$nulls":43},{"$f":"Select_naics2022[[#This Row],[2022 NAICS Code]]&\":  \"&Select_naics2022[[#This Row],[2022 NAICS Title]]","v":"531320:  Offices of Real Estate Appraisers "},531320,"Offices of Real Estate Appraisers ",{"$f":"Select_naics2022[[#This Row],[2022 NAICS Title]]","v":"Offices of Real Estate Appraisers "}]
[{"$nulls":43},{"$f":"Select_naics2022[[#This Row],[2022 NAICS Code]]&\":  \"&Select_naics2022[[#This Row],[2022 NAICS Title]]","v":"531390:  Other Activities Related to Real Estate "},531390,"Other Activities Related to Real Estate ",{"$f":"Select_naics2022[[#This Row],[2022 NAICS Title]]","v":"Other Activities Related to Real Estate "}]
[{"$nulls":43},{"$f":"Select_naics2022[[#This Row],[2022 NAICS Code]]&\":  \"&Select_naics2022[[#This Row],[2022 NAICS Title]]","v":"532111:  Passenger Car Rental "},532111,"Passenger Car Rental ",{"$f":"Select_naics2022[[#This Row],[2022 NAICS Title]]","v":"Passenger Car Rental "}]
[{"$nulls":43},{"$f":"Select_naics2022[[#This Row],[2022 NAICS Code]]&\":  \"&Select_naics2022[[#This Row],[2022 NAICS Title]]","v":"532112:  Passenger Car Leasing "},532112,"Passenger Car Leasing ",{"$f":"Select_naics2022[[#This Row],[2022 NAICS Title]]","v":"Passenger Car Leasing "}]
[{"$nulls":43},{"$f":"Select_naics2022[[#This Row],[2022 NAICS Code]]&\":  \"&Select_naics2022[[#This Row],[2022 NAICS Title]]","v":"532120:  Truck, Utility Trailer, and RV (Recreational Vehicle) Rental and Leasing "},532120,"Truck, Utility Trailer, and RV (Recreational Vehicle) Rental and Leasing ",{"$f":"Select_naics2022[[#This Row],[2022 NAICS Title]]","v":"Truck, Utility Trailer, and RV (Recreational Vehicle) Rental and Leasing "}]
[{"$nulls":43},{"$f":"Select_naics2022[[#This Row],[2022 NAICS Code]]&\":  \"&Select_naics2022[[#This Row],[2022 NAICS Title]]","v":"532210:  Consumer Electronics and Appliances Rental"},532210,"Consumer Electronics and Appliances Rental",{"$f":"Select_naics2022[[#This Row],[2022 NAICS Title]]","v":"Consumer Electronics and Appliances Rental"}]
[{"$nulls":43},{"$f":"Select_naics2022[[#This Row],[2022 NAICS Code]]&\":  \"&Select_naics2022[[#This Row],[2022 NAICS Title]]","v":"532281:  Formal Wear and Costume Rental"},532281,"Formal Wear and Costume Rental",{"$f":"Select_naics2022[[#This Row],[2022 NAICS Title]]","v":"Formal Wear and Costume Rental"}]
[{"$nulls":43},{"$f":"Select_naics2022[[#This Row],[2022 NAICS Code]]&\":  \"&Select_naics2022[[#This Row],[2022 NAICS Title]]","v":"532282:  Video Tape and Disc Rental"},532282,"Video Tape and Disc Rental",{"$f":"Select_naics2022[[#This Row],[2022 NAICS Title]]","v":"Video Tape and Disc Rental"}]
[{"$nulls":43},{"$f":"Select_naics2022[[#This Row],[2022 NAICS Code]]&\":  \"&Select_naics2022[[#This Row],[2022 NAICS Title]]","v":"532283:  Home Health Equipment Rental "},532283,"Home Health Equipment Rental ",{"$f":"Select_naics2022[[#This Row],[2022 NAICS Title]]","v":"Home Health Equipment Rental "}]
[{"$nulls":43},{"$f":"Select_naics2022[[#This Row],[2022 NAICS Code]]&\":  \"&Select_naics2022[[#This Row],[2022 NAICS Title]]","v":"532284:  Recreational Goods Rental "},532284,"Recreational Goods Rental ",{"$f":"Select_naics2022[[#This Row],[2022 NAICS Title]]","v":"Recreational Goods Rental "}]
[{"$nulls":43},{"$f":"Select_naics2022[[#This Row],[2022 NAICS Code]]&\":  \"&Select_naics2022[[#This Row],[2022 NAICS Title]]","v":"532289:  All Other Consumer Goods Rental "},532289,"All Other Consumer Goods Rental ",{"$f":"Select_naics2022[[#This Row],[2022 NAICS Title]]","v":"All Other Consumer Goods Rental "}]
[{"$nulls":43},{"$f":"Select_naics2022[[#This Row],[2022 NAICS Code]]&\":  \"&Select_naics2022[[#This Row],[2022 NAICS Title]]","v":"532310:  General Rental Centers"},532310,"General Rental Centers",{"$f":"Select_naics2022[[#This Row],[2022 NAICS Title]]","v":"General Rental Centers"}]
[{"$nulls":43},{"$f":"Select_naics2022[[#This Row],[2022 NAICS Code]]&\":  \"&Select_naics2022[[#This Row],[2022 NAICS Title]]","v":"532411:  Commercial Air, Rail, and Water Transportation Equipment Rental and Leasing "},532411,"Commercial Air, Rail, and Water Transportation Equipment Rental and Leasing ",{"$f":"Select_naics2022[[#This Row],[2022 NAICS Title]]","v":"Commercial Air, Rail, and Water Transportation Equipment Rental and Leasing "}]
[{"$nulls":43},{"$f":"Select_naics2022[[#This Row],[2022 NAICS Code]]&\":  \"&Select_naics2022[[#This Row],[2022 NAICS Title]]","v":"532412:  Construction, Mining, and Forestry Machinery and Equipment Rental and Leasing "},532412,"Construction, Mining, and Forestry Machinery and Equipment Rental and Leasing ",{"$f":"Select_naics2022[[#This Row],[2022 NAICS Title]]","v":"Construction, Mining, and Forestry Machinery and Equipment Rental and Leasing "}]
[{"$nulls":43},{"$f":"Select_naics2022[[#This Row],[2022 NAICS Code]]&\":  \"&Select_naics2022[[#This Row],[2022 NAICS Title]]","v":"532420:  Office Machinery and Equipment Rental and Leasing"},532420,"Office Machinery and Equipment Rental and Leasing",{"$f":"Select_naics2022[[#This Row],[2022 NAICS Title]]","v":"Office Machinery and Equipment Rental and Leasing"}]
[{"$nulls":43},{"$f":"Select_naics2022[[#This Row],[2022 NAICS Code]]&\":  \"&Select_naics2022[[#This Row],[2022 NAICS Title]]","v":"532490:  Other Commercial and Industrial Machinery and Equipment Rental and Leasing "},532490,"Other Commercial and Industrial Machinery and Equipment Rental and Leasing ",{"$f":"Select_naics2022[[#This Row],[2022 NAICS Title]]","v":"Other Commercial and Industrial Machinery and Equipment Rental and Leasing "}]
[{"$nulls":43},{"$f":"Select_naics2022[[#This Row],[2022 NAICS Code]]&\":  \"&Select_naics2022[[#This Row],[2022 NAICS Title]]","v":"533110:  Lessors of Nonfinancial Intangible Assets (except Copyrighted Works)"},533110,"Lessors of Nonfinancial Intangible Assets (except Copyrighted Works)",{"$f":"Select_naics2022[[#This Row],[2022 NAICS Title]]","v":"Lessors of Nonfinancial Intangible Assets (except Copyrighted Works)"}]
[{"$nulls":43},{"$f":"Select_naics2022[[#This Row],[2022 NAICS Code]]&\":  \"&Select_naics2022[[#This Row],[2022 NAICS Title]]","v":"541110:  Offices of Lawyers"},541110,"Offices of Lawyers",{"$f":"Select_naics2022[[#This Row],[2022 NAICS Title]]","v":"Offices of Lawyers"}]
[{"$nulls":43},{"$f":"Select_naics2022[[#This Row],[2022 NAICS Code]]&\":  \"&Select_naics2022[[#This Row],[2022 NAICS Title]]","v":"541120:  Offices of Notaries"},541120,"Offices of Notaries",{"$f":"Select_naics2022[[#This Row],[2022 NAICS Title]]","v":"Offices of Notaries"}]
[{"$nulls":43},{"$f":"Select_naics2022[[#This Row],[2022 NAICS Code]]&\":  \"&Select_naics2022[[#This Row],[2022 NAICS Title]]","v":"541191:  Title Abstract and Settlement Offices "},541191,"Title Abstract and Settlement Offices ",{"$f":"Select_naics2022[[#This Row],[2022 NAICS Title]]","v":"Title Abstract and Settlement Offices "}]
[{"$nulls":43},{"$f":"Select_naics2022[[#This Row],[2022 NAICS Code]]&\":  \"&Select_naics2022[[#This Row],[2022 NAICS Title]]","v":"541199:  All Other Legal Services "},541199,"All Other Legal Services ",{"$f":"Select_naics2022[[#This Row],[2022 NAICS Title]]","v":"All Other Legal Services "}]
[{"$nulls":43},{"$f":"Select_naics2022[[#This Row],[2022 NAICS Code]]&\":  \"&Select_naics2022[[#This Row],[2022 NAICS Title]]","v":"541211:  Offices of Certified Public Accountants "},541211,"Offices of Certified Public Accountants ",{"$f":"Select_naics2022[[#This Row],[2022 NAICS Title]]","v":"Offices of Certified Public Accountants "}]
[{"$nulls":43},{"$f":"Select_naics2022[[#This Row],[2022 NAICS Code]]&\":  \"&Select_naics2022[[#This Row],[2022 NAICS Title]]","v":"541213:  Tax Preparation Services "},541213,"Tax Preparation Services ",{"$f":"Select_naics2022[[#This Row],[2022 NAICS Title]]","v":"Tax Preparation Services "}]
[{"$nulls":43},{"$f":"Select_naics2022[[#This Row],[2022 NAICS Code]]&\":  \"&Select_naics2022[[#This Row],[2022 NAICS Title]]","v":"541214:  Payroll Services "},541214,"Payroll Services ",{"$f":"Select_naics2022[[#This Row],[2022 NAICS Title]]","v":"Payroll Services "}]
[{"$nulls":43},{"$f":"Select_naics2022[[#This Row],[2022 NAICS Code]]&\":  \"&Select_naics2022[[#This Row],[2022 NAICS Title]]","v":"541219:  Other Accounting Services "},541219,"Other Accounting Services ",{"$f":"Select_naics2022[[#This Row],[2022 NAICS Title]]","v":"Other Accounting Services "}]
[{"$nulls":43},{"$f":"Select_naics2022[[#This Row],[2022 NAICS Code]]&\":  \"&Select_naics2022[[#This Row],[2022 NAICS Title]]","v":"541310:  Architectural Services"},541310,"Architectural Services",{"$f":"Select_naics2022[[#This Row],[2022 NAICS Title]]","v":"Architectural Services"}]
[{"$nulls":43},{"$f":"Select_naics2022[[#This Row],[2022 NAICS Code]]&\":  \"&Select_naics2022[[#This Row],[2022 NAICS Title]]","v":"541320:  Landscape Architectural Services"},541320,"Landscape Architectural Services",{"$f":"Select_naics2022[[#This Row],[2022 NAICS Title]]","v":"Landscape Architectural Services"}]
[{"$nulls":43},{"$f":"Select_naics2022[[#This Row],[2022 NAICS Code]]&\":  \"&Select_naics2022[[#This Row],[2022 NAICS Title]]","v":"541330:  Engineering Services"},541330,"Engineering Services",{"$f":"Select_naics2022[[#This Row],[2022 NAICS Title]]","v":"Engineering Services"}]
[{"$nulls":43},{"$f":"Select_naics2022[[#This Row],[2022 NAICS Code]]&\":  \"&Select_naics2022[[#This Row],[2022 NAICS Title]]","v":"541340:  Drafting Services"},541340,"Drafting Services",{"$f":"Select_naics2022[[#This Row],[2022 NAICS Title]]","v":"Drafting Services"}]
[{"$nulls":43},{"$f":"Select_naics2022[[#This Row],[2022 NAICS Code]]&\":  \"&Select_naics2022[[#This Row],[2022 NAICS Title]]","v":"541350:  Building Inspection Services"},541350,"Building Inspection Services",{"$f":"Select_naics2022[[#This Row],[2022 NAICS Title]]","v":"Building Inspection Services"}]
[{"$nulls":43},{"$f":"Select_naics2022[[#This Row],[2022 NAICS Code]]&\":  \"&Select_naics2022[[#This Row],[2022 NAICS Title]]","v":"541360:  Geophysical Surveying and Mapping Services"},541360,"Geophysical Surveying and Mapping Services",{"$f":"Select_naics2022[[#This Row],[2022 NAICS Title]]","v":"Geophysical Surveying and Mapping Services"}]
[{"$nulls":43},{"$f":"Select_naics2022[[#This Row],[2022 NAICS Code]]&\":  \"&Select_naics2022[[#This Row],[2022 NAICS Title]]","v":"541370:  Surveying and Mapping (except Geophysical) Services"},541370,"Surveying and Mapping (except Geophysical) Services",{"$f":"Select_naics2022[[#This Row],[2022 NAICS Title]]","v":"Surveying and Mapping (except Geophysical) Services"}]
[{"$nulls":43},{"$f":"Select_naics2022[[#This Row],[2022 NAICS Code]]&\":  \"&Select_naics2022[[#This Row],[2022 NAICS Title]]","v":"541380:  Testing Laboratories and Services"},541380,"Testing Laboratories and Services",{"$f":"Select_naics2022[[#This Row],[2022 NAICS Title]]","v":"Testing Laboratories and Services"}]
[{"$nulls":43},{"$f":"Select_naics2022[[#This Row],[2022 NAICS Code]]&\":  \"&Select_naics2022[[#This Row],[2022 NAICS Title]]","v":"541410:  Interior Design Services"},541410,"Interior Design Services",{"$f":"Select_naics2022[[#This Row],[2022 NAICS Title]]","v":"Interior Design Services"}]
[{"$nulls":43},{"$f":"Select_naics2022[[#This Row],[2022 NAICS Code]]&\":  \"&Select_naics2022[[#This Row],[2022 NAICS Title]]","v":"541420:  Industrial Design Services"},541420,"Industrial Design Services",{"$f":"Select_naics2022[[#This Row],[2022 NAICS Title]]","v":"Industrial Design Services"}]
[{"$nulls":43},{"$f":"Select_naics2022[[#This Row],[2022 NAICS Code]]&\":  \"&Select_naics2022[[#This Row],[2022 NAICS Title]]","v":"541430:  Graphic Design Services"},541430,"Graphic Design Services",{"$f":"Select_naics2022[[#This Row],[2022 NAICS Title]]","v":"Graphic Design Services"}]
[{"$nulls":43},{"$f":"Select_naics2022[[#This Row],[2022 NAICS Code]]&\":  \"&Select_naics2022[[#This Row],[2022 NAICS Title]]","v":"541490:  Other Specialized Design Services"},541490,"Other Specialized Design Services",{"$f":"Select_naics2022[[#This Row],[2022 NAICS Title]]","v":"Other Specialized Design Services"}]
[{"$nulls":43},{"$f":"Select_naics2022[[#This Row],[2022 NAICS Code]]&\":  \"&Select_naics2022[[#This Row],[2022 NAICS Title]]","v":"541511:  Custom Computer Programming Services "},541511,"Custom Computer Programming Services ",{"$f":"Select_naics2022[[#This Row],[2022 NAICS Title]]","v":"Custom Computer Programming Services "}]
[{"$nulls":43},{"$f":"Select_naics2022[[#This Row],[2022 NAICS Code]]&\":  \"&Select_naics2022[[#This Row],[2022 NAICS Title]]","v":"541512:  Computer Systems Design Services "},541512,"Computer Systems Design Services ",{"$f":"Select_naics2022[[#This Row],[2022 NAICS Title]]","v":"Computer Systems Design Services "}]
[{"$nulls":43},{"$f":"Select_naics2022[[#This Row],[2022 NAICS Code]]&\":  \"&Select_naics2022[[#This Row],[2022 NAICS Title]]","v":"541513:  Computer Facilities Management Services "},541513,"Computer Facilities Management Services ",{"$f":"Select_naics2022[[#This Row],[2022 NAICS Title]]","v":"Computer Facilities Management Services "}]
[{"$nulls":43},{"$f":"Select_naics2022[[#This Row],[2022 NAICS Code]]&\":  \"&Select_naics2022[[#This Row],[2022 NAICS Title]]","v":"541519:  Other Computer Related Services"},541519,"Other Computer Related Services",{"$f":"Select_naics2022[[#This Row],[2022 NAICS Title]]","v":"Other Computer Related Services"}]
[{"$nulls":43},{"$f":"Select_naics2022[[#This Row],[2022 NAICS Code]]&\":  \"&Select_naics2022[[#This Row],[2022 NAICS Title]]","v":"541611:  Administrative Management and General Management Consulting Services "},541611,"Administrative Management and General Management Consulting Services ",{"$f":"Select_naics2022[[#This Row],[2022 NAICS Title]]","v":"Administrative Management and General Management Consulting Services "}]
[{"$nulls":43},{"$f":"Select_naics2022[[#This Row],[2022 NAICS Code]]&\":  \"&Select_naics2022[[#This Row],[2022 NAICS Title]]","v":"541612:  Human Resources Consulting Services "},541612,"Human Resources Consulting Services ",{"$f":"Select_naics2022[[#This Row],[2022 NAICS Title]]","v":"Human Resources Consulting Services "}]
[{"$nulls":43},{"$f":"Select_naics2022[[#This Row],[2022 NAICS Code]]&\":  \"&Select_naics2022[[#This Row],[2022 NAICS Title]]","v":"541613:  Marketing Consulting Services "},541613,"Marketing Consulting Services ",{"$f":"Select_naics2022[[#This Row],[2022 NAICS Title]]","v":"Marketing Consulting Services "}]
[{"$nulls":43},{"$f":"Select_naics2022[[#This Row],[2022 NAICS Code]]&\":  \"&Select_naics2022[[#This Row],[2022 NAICS Title]]","v":"541614:  Process, Physical Distribution, and Logistics Consulting Services "},541614,"Process, Physical Distribution, and Logistics Consulting Services ",{"$f":"Select_naics2022[[#This Row],[2022 NAICS Title]]","v":"Process, Physical Distribution, and Logistics Consulting Services "}]
[{"$nulls":43},{"$f":"Select_naics2022[[#This Row],[2022 NAICS Code]]&\":  \"&Select_naics2022[[#This Row],[2022 NAICS Title]]","v":"541618:  Other Management Consulting Services "},541618,"Other Management Consulting Services ",{"$f":"Select_naics2022[[#This Row],[2022 NAICS Title]]","v":"Other Management Consulting Services "}]
[{"$nulls":43},{"$f":"Select_naics2022[[#This Row],[2022 NAICS Code]]&\":  \"&Select_naics2022[[#This Row],[2022 NAICS Title]]","v":"541620:  Environmental Consulting Services"},541620,"Environmental Consulting Services",{"$f":"Select_naics2022[[#This Row],[2022 NAICS Title]]","v":"Environmental Consulting Services"}]
[{"$nulls":43},{"$f":"Select_naics2022[[#This Row],[2022 NAICS Code]]&\":  \"&Select_naics2022[[#This Row],[2022 NAICS Title]]","v":"541690:  Other Scientific and Technical Consulting Services"},541690,"Other Scientific and Technical Consulting Services",{"$f":"Select_naics2022[[#This Row],[2022 NAICS Title]]","v":"Other Scientific and Technical Consulting Services"}]
[{"$nulls":43},{"$f":"Select_naics2022[[#This Row],[2022 NAICS Code]]&\":  \"&Select_naics2022[[#This Row],[2022 NAICS Title]]","v":"541713:  Research and Development in Nanotechnology "},541713,"Research and Development in Nanotechnology ",{"$f":"Select_naics2022[[#This Row],[2022 NAICS Title]]","v":"Research and Development in Nanotechnology "}]
[{"$nulls":43},{"$f":"Select_naics2022[[#This Row],[2022 NAICS Code]]&\":  \"&Select_naics2022[[#This Row],[2022 NAICS Title]]","v":"541714:  Research and Development in Biotechnology (except Nanobiotechnology)"},541714,"Research and Development in Biotechnology (except Nanobiotechnology)",{"$f":"Select_naics2022[[#This Row],[2022 NAICS Title]]","v":"Research and Development in Biotechnology (except Nanobiotechnology)"}]
[{"$nulls":43},{"$f":"Select_naics2022[[#This Row],[2022 NAICS Code]]&\":  \"&Select_naics2022[[#This Row],[2022 NAICS Title]]","v":"541715:  Research and Development in the Physical, Engineering, and Life Sciences (except Nanotechnology and Biotechnology) "},541715,"Research and Development in the Physical, Engineering, and Life Sciences (except Nanotechnology and Biotechnology) ",{"$f":"Select_naics2022[[#This Row],[2022 NAICS Title]]","v":"Research and Development in the Physical, Engineering, and Life Sciences (except Nanotechnology and Biotechnology) "}]
[{"$nulls":43},{"$f":"Select_naics2022[[#This Row],[2022 NAICS Code]]&\":  \"&Select_naics2022[[#This Row],[2022 NAICS Title]]","v":"541720:  Research and Development in the Social Sciences and Humanities "},541720,"Research and Development in the Social Sciences and Humanities ",{"$f":"Select_naics2022[[#This Row],[2022 NAICS Title]]","v":"Research and Development in the Social Sciences and Humanities "}]
[{"$nulls":43},{"$f":"Select_naics2022[[#This Row],[2022 NAICS Code]]&\":  \"&Select_naics2022[[#This Row],[2022 NAICS Title]]","v":"541810:  Advertising Agencies"},541810,"Advertising Agencies",{"$f":"Select_naics2022[[#This Row],[2022 NAICS Title]]","v":"Advertising Agencies"}]
[{"$nulls":43},{"$f":"Select_naics2022[[#This Row],[2022 NAICS Code]]&\":  \"&Select_naics2022[[#This Row],[2022 NAICS Title]]","v":"541820:  Public Relations Agencies"},541820,"Public Relations Agencies",{"$f":"Select_naics2022[[#This Row],[2022 NAICS Title]]","v":"Public Relations Agencies"}]
[{"$nulls":43},{"$f":"Select_naics2022[[#This Row],[2022 NAICS Code]]&\":  \"&Select_naics2022[[#This Row],[2022 NAICS Title]]","v":"541830:  Media Buying Agencies"},541830,"Media Buying Agencies",{"$f":"Select_naics2022[[#This Row],[2022 NAICS Title]]","v":"Media Buying Agencies"}]
[{"$nulls":43},{"$f":"Select_naics2022[[#This Row],[2022 NAICS Code]]&\":  \"&Select_naics2022[[#This Row],[2022 NAICS Title]]","v":"541840:  Media Representatives"},541840,"Media Representatives",{"$f":"Select_naics2022[[#This Row],[2022 NAICS Title]]","v":"Media Representatives"}]
[{"$nulls":43},{"$f":"Select_naics2022[[#This Row],[2022 NAICS Code]]&\":  \"&Select_naics2022[[#This Row],[2022 NAICS Title]]","v":"541850:  Indoor and Outdoor Display Advertising"},541850,"Indoor and Outdoor Display Advertising",{"$f":"Select_naics2022[[#This Row],[2022 NAICS Title]]","v":"Indoor and Outdoor Display Advertising"}]
[{"$nulls":43},{"$f":"Select_naics2022[[#This Row],[2022 NAICS Code]]&\":  \"&Select_naics2022[[#This Row],[2022 NAICS Title]]","v":"541860:  Direct Mail Advertising"},541860,"Direct Mail Advertising",{"$f":"Select_naics2022[[#This Row],[2022 NAICS Title]]","v":"Direct Mail Advertising"}]
[{"$nulls":43},{"$f":"Select_naics2022[[#This Row],[2022 NAICS Code]]&\":  \"&Select_naics2022[[#This Row],[2022 NAICS Title]]","v":"541870:  Advertising Material Distribution Services"},541870,"Advertising Material Distribution Services",{"$f":"Select_naics2022[[#This Row],[2022 NAICS Title]]","v":"Advertising Material Distribution Services"}]
[{"$nulls":43},{"$f":"Select_naics2022[[#This Row],[2022 NAICS Code]]&\":  \"&Select_naics2022[[#This Row],[2022 NAICS Title]]","v":"541890:  Other Services Related to Advertising "},541890,"Other Services Related to Advertising ",{"$f":"Select_naics2022[[#This Row],[2022 NAICS Title]]","v":"Other Services Related to Advertising "}]
[{"$nulls":43},{"$f":"Select_naics2022[[#This Row],[2022 NAICS Code]]&\":  \"&Select_naics2022[[#This Row],[2022 NAICS Title]]","v":"541910:  Marketing Research and Public Opinion Polling"},541910,"Marketing Research and Public Opinion Polling",{"$f":"Select_naics2022[[#This Row],[2022 NAICS Title]]","v":"Marketing Research and Public Opinion Polling"}]
[{"$nulls":43},{"$f":"Select_naics2022[[#This Row],[2022 NAICS Code]]&\":  \"&Select_naics2022[[#This Row],[2022 NAICS Title]]","v":"541921:  Photography Studios, Portrait "},541921,"Photography Studios, Portrait ",{"$f":"Select_naics2022[[#This Row],[2022 NAICS Title]]","v":"Photography Studios, Portrait "}]
[{"$nulls":43},{"$f":"Select_naics2022[[#This Row],[2022 NAICS Code]]&\":  \"&Select_naics2022[[#This Row],[2022 NAICS Title]]","v":"541922:  Commercial Photography "},541922,"Commercial Photography ",{"$f":"Select_naics2022[[#This Row],[2022 NAICS Title]]","v":"Commercial Photography "}]
[{"$nulls":43},{"$f":"Select_naics2022[[#This Row],[2022 NAICS Code]]&\":  \"&Select_naics2022[[#This Row],[2022 NAICS Title]]","v":"541930:  Translation and Interpretation Services"},541930,"Translation and Interpretation Services",{"$f":"Select_naics2022[[#This Row],[2022 NAICS Title]]","v":"Translation and Interpretation Services"}]
[{"$nulls":43},{"$f":"Select_naics2022[[#This Row],[2022 NAICS Code]]&\":  \"&Select_naics2022[[#This Row],[2022 NAICS Title]]","v":"541940:  Veterinary Services "},541940,"Veterinary Services ",{"$f":"Select_naics2022[[#This Row],[2022 NAICS Title]]","v":"Veterinary Services "}]
[{"$nulls":43},{"$f":"Select_naics2022[[#This Row],[2022 NAICS Code]]&\":  \"&Select_naics2022[[#This Row],[2022 NAICS Title]]","v":"541990:  All Other Professional, Scientific, and Technical Services"},541990,"All Other Professional, Scientific, and Technical Services",{"$f":"Select_naics2022[[#This Row],[2022 NAICS Title]]","v":"All Other Professional, Scientific, and Technical Services"}]
[{"$nulls":43},{"$f":"Select_naics2022[[#This Row],[2022 NAICS Code]]&\":  \"&Select_naics2022[[#This Row],[2022 NAICS Title]]","v":"551111:  Offices of Bank Holding Companies "},551111,"Offices of Bank Holding Companies ",{"$f":"Select_naics2022[[#This Row],[2022 NAICS Title]]","v":"Offices of Bank Holding Companies "}]
[{"$nulls":43},{"$f":"Select_naics2022[[#This Row],[2022 NAICS Code]]&\":  \"&Select_naics2022[[#This Row],[2022 NAICS Title]]","v":"551112:  Offices of Other Holding Companies "},551112,"Offices of Other Holding Companies ",{"$f":"Select_naics2022[[#This Row],[2022 NAICS Title]]","v":"Offices of Other Holding Companies "}]
[{"$nulls":43},{"$f":"Select_naics2022[[#This Row],[2022 NAICS Code]]&\":  \"&Select_naics2022[[#This Row],[2022 NAICS Title]]","v":"551114:  Corporate, Subsidiary, and Regional Managing Offices "},551114,"Corporate, Subsidiary, and Regional Managing Offices ",{"$f":"Select_naics2022[[#This Row],[2022 NAICS Title]]","v":"Corporate, Subsidiary, and Regional Managing Offices "}]
[{"$nulls":43},{"$f":"Select_naics2022[[#This Row],[2022 NAICS Code]]&\":  \"&Select_naics2022[[#This Row],[2022 NAICS Title]]","v":"561110:  Office Administrative Services"},561110,"Office Administrative Services",{"$f":"Select_naics2022[[#This Row],[2022 NAICS Title]]","v":"Office Administrative Services"}]
[{"$nulls":43},{"$f":"Select_naics2022[[#This Row],[2022 NAICS Code]]&\":  \"&Select_naics2022[[#This Row],[2022 NAICS Title]]","v":"561210:  Facilities Support Services"},561210,"Facilities Support Services",{"$f":"Select_naics2022[[#This Row],[2022 NAICS Title]]","v":"Facilities Support Services"}]
[{"$nulls":43},{"$f":"Select_naics2022[[#This Row],[2022 NAICS Code]]&\":  \"&Select_naics2022[[#This Row],[2022 NAICS Title]]","v":"561311:  Employment Placement Agencies "},561311,"Employment Placement Agencies ",{"$f":"Select_naics2022[[#This Row],[2022 NAICS Title]]","v":"Employment Placement Agencies "}]
[{"$nulls":43},{"$f":"Select_naics2022[[#This Row],[2022 NAICS Code]]&\":  \"&Select_naics2022[[#This Row],[2022 NAICS Title]]","v":"561312:  Executive Search Services "},561312,"Executive Search Services ",{"$f":"Select_naics2022[[#This Row],[2022 NAICS Title]]","v":"Executive Search Services "}]
[{"$nulls":43},{"$f":"Select_naics2022[[#This Row],[2022 NAICS Code]]&\":  \"&Select_naics2022[[#This Row],[2022 NAICS Title]]","v":"561320:  Temporary Help Services"},561320,"Temporary Help Services",{"$f":"Select_naics2022[[#This Row],[2022 NAICS Title]]","v":"Temporary Help Services"}]
[{"$nulls":43},{"$f":"Select_naics2022[[#This Row],[2022 NAICS Code]]&\":  \"&Select_naics2022[[#This Row],[2022 NAICS Title]]","v":"561330:  Professional Employer Organizations"},561330,"Professional Employer Organizations",{"$f":"Select_naics2022[[#This Row],[2022 NAICS Title]]","v":"Professional Employer Organizations"}]
[{"$nulls":43},{"$f":"Select_naics2022[[#This Row],[2022 NAICS Code]]&\":  \"&Select_naics2022[[#This Row],[2022 NAICS Title]]","v":"561410:  Document Preparation Services"},561410,"Document Preparation Services",{"$f":"Select_naics2022[[#This Row],[2022 NAICS Title]]","v":"Document Preparation Services"}]
[{"$nulls":43},{"$f":"Select_naics2022[[#This Row],[2022 NAICS Code]]&\":  \"&Select_naics2022[[#This Row],[2022 NAICS Title]]","v":"561421:  Telephone Answering Services "},561421,"Telephone Answering Services ",{"$f":"Select_naics2022[[#This Row],[2022 NAICS Title]]","v":"Telephone Answering Services "}]
[{"$nulls":43},{"$f":"Select_naics2022[[#This Row],[2022 NAICS Code]]&\":  \"&Select_naics2022[[#This Row],[2022 NAICS Title]]","v":"561422:  Telemarketing Bureaus and Other Contact Centers "},561422,"Telemarketing Bureaus and Other Contact Centers ",{"$f":"Select_naics2022[[#This Row],[2022 NAICS Title]]","v":"Telemarketing Bureaus and Other Contact Centers "}]
[{"$nulls":43},{"$f":"Select_naics2022[[#This Row],[2022 NAICS Code]]&\":  \"&Select_naics2022[[#This Row],[2022 NAICS Title]]","v":"561431:  Private Mail Centers "},561431,"Private Mail Centers ",{"$f":"Select_naics2022[[#This Row],[2022 NAICS Title]]","v":"Private Mail Centers "}]
[{"$nulls":43},{"$f":"Select_naics2022[[#This Row],[2022 NAICS Code]]&\":  \"&Select_naics2022[[#This Row],[2022 NAICS Title]]","v":"561439:  Other Business Service Centers (including Copy Shops) "},561439,"Other Business Service Centers (including Copy Shops) ",{"$f":"Select_naics2022[[#This Row],[2022 NAICS Title]]","v":"Other Business Service Centers (including Copy Shops) "}]
[{"$nulls":43},{"$f":"Select_naics2022[[#This Row],[2022 NAICS Code]]&\":  \"&Select_naics2022[[#This Row],[2022 NAICS Title]]","v":"561440:  Collection Agencies"},561440,"Collection Agencies",{"$f":"Select_naics2022[[#This Row],[2022 NAICS Title]]","v":"Collection Agencies"}]
[{"$nulls":43},{"$f":"Select_naics2022[[#This Row],[2022 NAICS Code]]&\":  \"&Select_naics2022[[#This Row],[2022 NAICS Title]]","v":"561450:  Credit Bureaus"},561450,"Credit Bureaus",{"$f":"Select_naics2022[[#This Row],[2022 NAICS Title]]","v":"Credit Bureaus"}]
[{"$nulls":43},{"$f":"Select_naics2022[[#This Row],[2022 NAICS Code]]&\":  \"&Select_naics2022[[#This Row],[2022 NAICS Title]]","v":"561491:  Repossession Services "},561491,"Repossession Services ",{"$f":"Select_naics2022[[#This Row],[2022 NAICS Title]]","v":"Repossession Services "}]
[{"$nulls":43},{"$f":"Select_naics2022[[#This Row],[2022 NAICS Code]]&\":  \"&Select_naics2022[[#This Row],[2022 NAICS Title]]","v":"561492:  Court Reporting and Stenotype Services "},561492,"Court Reporting and Stenotype Services ",{"$f":"Select_naics2022[[#This Row],[2022 NAICS Title]]","v":"Court Reporting and Stenotype Services "}]
[{"$nulls":43},{"$f":"Select_naics2022[[#This Row],[2022 NAICS Code]]&\":  \"&Select_naics2022[[#This Row],[2022 NAICS Title]]","v":"561499:  All Other Business Support Services "},561499,"All Other Business Support Services ",{"$f":"Select_naics2022[[#This Row],[2022 NAICS Title]]","v":"All Other Business Support Services "}]
[{"$nulls":43},{"$f":"Select_naics2022[[#This Row],[2022 NAICS Code]]&\":  \"&Select_naics2022[[#This Row],[2022 NAICS Title]]","v":"561510:  Travel Agencies"},561510,"Travel Agencies",{"$f":"Select_naics2022[[#This Row],[2022 NAICS Title]]","v":"Travel Agencies"}]
[{"$nulls":43},{"$f":"Select_naics2022[[#This Row],[2022 NAICS Code]]&\":  \"&Select_naics2022[[#This Row],[2022 NAICS Title]]","v":"561520:  Tour Operators"},561520,"Tour Operators",{"$f":"Select_naics2022[[#This Row],[2022 NAICS Title]]","v":"Tour Operators"}]
[{"$nulls":43},{"$f":"Select_naics2022[[#This Row],[2022 NAICS Code]]&\":  \"&Select_naics2022[[#This Row],[2022 NAICS Title]]","v":"561591:  Convention and Visitors Bureaus "},561591,"Convention and Visitors Bureaus ",{"$f":"Select_naics2022[[#This Row],[2022 NAICS Title]]","v":"Convention and Visitors Bureaus "}]
[{"$nulls":43},{"$f":"Select_naics2022[[#This Row],[2022 NAICS Code]]&\":  \"&Select_naics2022[[#This Row],[2022 NAICS Title]]","v":"561599:  All Other Travel Arrangement and Reservation Services "},561599,"All Other Travel Arrangement and Reservation Services ",{"$f":"Select_naics2022[[#This Row],[2022 NAICS Title]]","v":"All Other Travel Arrangement and Reservation Services "}]
[{"$nulls":43},{"$f":"Select_naics2022[[#This Row],[2022 NAICS Code]]&\":  \"&Select_naics2022[[#This Row],[2022 NAICS Title]]","v":"561611:  Investigation and Personal Background Check Services "},561611,"Investigation and Personal Background Check Services ",{"$f":"Select_naics2022[[#This Row],[2022 NAICS Title]]","v":"Investigation and Personal Background Check Services "}]
[{"$nulls":43},{"$f":"Select_naics2022[[#This Row],[2022 NAICS Code]]&\":  \"&Select_naics2022[[#This Row],[2022 NAICS Title]]","v":"561612:  Security Guards and Patrol Services "},561612,"Security Guards and Patrol Services ",{"$f":"Select_naics2022[[#This Row],[2022 NAICS Title]]","v":"Security Guards and Patrol Services "}]
[{"$nulls":43},{"$f":"Select_naics2022[[#This Row],[2022 NAICS Code]]&\":  \"&Select_naics2022[[#This Row],[2022 NAICS Title]]","v":"561613:  Armored Car Services "},561613,"Armored Car Services ",{"$f":"Select_naics2022[[#This Row],[2022 NAICS Title]]","v":"Armored Car Services "}]
[{"$nulls":43},{"$f":"Select_naics2022[[#This Row],[2022 NAICS Code]]&\":  \"&Select_naics2022[[#This Row],[2022 NAICS Title]]","v":"561621:  Security Systems Services (except Locksmiths) "},561621,"Security Systems Services (except Locksmiths) ",{"$f":"Select_naics2022[[#This Row],[2022 NAICS Title]]","v":"Security Systems Services (except Locksmiths) "}]
[{"$nulls":43},{"$f":"Select_naics2022[[#This Row],[2022 NAICS Code]]&\":  \"&Select_naics2022[[#This Row],[2022 NAICS Title]]","v":"561622:  Locksmiths "},561622,"Locksmiths ",{"$f":"Select_naics2022[[#This Row],[2022 NAICS Title]]","v":"Locksmiths "}]
[{"$nulls":43},{"$f":"Select_naics2022[[#This Row],[2022 NAICS Code]]&\":  \"&Select_naics2022[[#This Row],[2022 NAICS Title]]","v":"561710:  Exterminating and Pest Control Services"},561710,"Exterminating and Pest Control Services",{"$f":"Select_naics2022[[#This Row],[2022 NAICS Title]]","v":"Exterminating and Pest Control Services"}]
[{"$nulls":43},{"$f":"Select_naics2022[[#This Row],[2022 NAICS Code]]&\":  \"&Select_naics2022[[#This Row],[2022 NAICS Title]]","v":"561720:  Janitorial Services "},561720,"Janitorial Services ",{"$f":"Select_naics2022[[#This Row],[2022 NAICS Title]]","v":"Janitorial Services "}]
[{"$nulls":43},{"$f":"Select_naics2022[[#This Row],[2022 NAICS Code]]&\":  \"&Select_naics2022[[#This Row],[2022 NAICS Title]]","v":"561730:  Landscaping Services"},561730,"Landscaping Services",{"$f":"Select_naics2022[[#This Row],[2022 NAICS Title]]","v":"Landscaping Services"}]
[{"$nulls":43},{"$f":"Select_naics2022[[#This Row],[2022 NAICS Code]]&\":  \"&Select_naics2022[[#This Row],[2022 NAICS Title]]","v":"561740:  Carpet and Upholstery Cleaning Services"},561740,"Carpet and Upholstery Cleaning Services",{"$f":"Select_naics2022[[#This Row],[2022 NAICS Title]]","v":"Carpet and Upholstery Cleaning Services"}]
[{"$nulls":43},{"$f":"Select_naics2022[[#This Row],[2022 NAICS Code]]&\":  \"&Select_naics2022[[#This Row],[2022 NAICS Title]]","v":"561790:  Other Services to Buildings and Dwellings "},561790,"Other Services to Buildings and Dwellings ",{"$f":"Select_naics2022[[#This Row],[2022 NAICS Title]]","v":"Other Services to Buildings and Dwellings "}]
[{"$nulls":43},{"$f":"Select_naics2022[[#This Row],[2022 NAICS Code]]&\":  \"&Select_naics2022[[#This Row],[2022 NAICS Title]]","v":"561910:  Packaging and Labeling Services"},561910,"Packaging and Labeling Services",{"$f":"Select_naics2022[[#This Row],[2022 NAICS Title]]","v":"Packaging and Labeling Services"}]
[{"$nulls":43},{"$f":"Select_naics2022[[#This Row],[2022 NAICS Code]]&\":  \"&Select_naics2022[[#This Row],[2022 NAICS Title]]","v":"561920:  Convention and Trade Show Organizers"},561920,"Convention and Trade Show Organizers",{"$f":"Select_naics2022[[#This Row],[2022 NAICS Title]]","v":"Convention and Trade Show Organizers"}]
[{"$nulls":43},{"$f":"Select_naics2022[[#This Row],[2022 NAICS Code]]&\":  \"&Select_naics2022[[#This Row],[2022 NAICS Title]]","v":"561990:  All Other Support Services"},561990,"All Other Support Services",{"$f":"Select_naics2022[[#This Row],[2022 NAICS Title]]","v":"All Other Support Services"}]
[{"$nulls":43},{"$f":"Select_naics2022[[#This Row],[2022 NAICS Code]]&\":  \"&Select_naics2022[[#This Row],[2022 NAICS Title]]","v":"562111:  Solid Waste Collection "},562111,"Solid Waste Collection ",{"$f":"Select_naics2022[[#This Row],[2022 NAICS Title]]","v":"Solid Waste Collection "}]
[{"$nulls":43},{"$f":"Select_naics2022[[#This Row],[2022 NAICS Code]]&\":  \"&Select_naics2022[[#This Row],[2022 NAICS Title]]","v":"562112:  Hazardous Waste Collection "},562112,"Hazardous Waste Collection ",{"$f":"Select_naics2022[[#This Row],[2022 NAICS Title]]","v":"Hazardous Waste Collection "}]
[{"$nulls":43},{"$f":"Select_naics2022[[#This Row],[2022 NAICS Code]]&\":  \"&Select_naics2022[[#This Row],[2022 NAICS Title]]","v":"562119:  Other Waste Collection "},562119,"Other Waste Collection ",{"$f":"Select_naics2022[[#This Row],[2022 NAICS Title]]","v":"Other Waste Collection "}]
[{"$nulls":43},{"$f":"Select_naics2022[[#This Row],[2022 NAICS Code]]&\":  \"&Select_naics2022[[#This Row],[2022 NAICS Title]]","v":"562211:  Hazardous Waste Treatment and Disposal "},562211,"Hazardous Waste Treatment and Disposal ",{"$f":"Select_naics2022[[#This Row],[2022 NAICS Title]]","v":"Hazardous Waste Treatment and Disposal "}]
[{"$nulls":43},{"$f":"Select_naics2022[[#This Row],[2022 NAICS Code]]&\":  \"&Select_naics2022[[#This Row],[2022 NAICS Title]]","v":"562212:  Solid Waste Landfill "},562212,"Solid Waste Landfill ",{"$f":"Select_naics2022[[#This Row],[2022 NAICS Title]]","v":"Solid Waste Landfill "}]
[{"$nulls":43},{"$f":"Select_naics2022[[#This Row],[2022 NAICS Code]]&\":  \"&Select_naics2022[[#This Row],[2022 NAICS Title]]","v":"562213:  Solid Waste Combustors and Incinerators "},562213,"Solid Waste Combustors and Incinerators ",{"$f":"Select_naics2022[[#This Row],[2022 NAICS Title]]","v":"Solid Waste Combustors and Incinerators "}]
[{"$nulls":43},{"$f":"Select_naics2022[[#This Row],[2022 NAICS Code]]&\":  \"&Select_naics2022[[#This Row],[2022 NAICS Title]]","v":"562219:  Other Nonhazardous Waste Treatment and Disposal "},562219,"Other Nonhazardous Waste Treatment and Disposal ",{"$f":"Select_naics2022[[#This Row],[2022 NAICS Title]]","v":"Other Nonhazardous Waste Treatment and Disposal "}]
[{"$nulls":43},{"$f":"Select_naics2022[[#This Row],[2022 NAICS Code]]&\":  \"&Select_naics2022[[#This Row],[2022 NAICS Title]]","v":"562910:  Remediation Services "},562910,"Remediation Services ",{"$f":"Select_naics2022[[#This Row],[2022 NAICS Title]]","v":"Remediation Services "}]
[{"$nulls":43},{"$f":"Select_naics2022[[#This Row],[2022 NAICS Code]]&\":  \"&Select_naics2022[[#This Row],[2022 NAICS Title]]","v":"562920:  Materials Recovery Facilities "},562920,"Materials Recovery Facilities ",{"$f":"Select_naics2022[[#This Row],[2022 NAICS Title]]","v":"Materials Recovery Facilities "}]
[{"$nulls":43},{"$f":"Select_naics2022[[#This Row],[2022 NAICS Code]]&\":  \"&Select_naics2022[[#This Row],[2022 NAICS Title]]","v":"562991:  Septic Tank and Related Services "},562991,"Septic Tank and Related Services ",{"$f":"Select_naics2022[[#This Row],[2022 NAICS Title]]","v":"Septic Tank and Related Services "}]
[{"$nulls":43},{"$f":"Select_naics2022[[#This Row],[2022 NAICS Code]]&\":  \"&Select_naics2022[[#This Row],[2022 NAICS Title]]","v":"562998:  All Other Miscellaneous Waste Management Services "},562998,"All Other Miscellaneous Waste Management Services ",{"$f":"Select_naics2022[[#This Row],[2022 NAICS Title]]","v":"All Other Miscellaneous Waste Management Services "}]
[{"$nulls":43},{"$f":"Select_naics2022[[#This Row],[2022 NAICS Code]]&\":  \"&Select_naics2022[[#This Row],[2022 NAICS Title]]","v":"611110:  Elementary and Secondary Schools "},611110,"Elementary and Secondary Schools ",{"$f":"Select_naics2022[[#This Row],[2022 NAICS Title]]","v":"Elementary and Secondary Schools "}]
[{"$nulls":43},{"$f":"Select_naics2022[[#This Row],[2022 NAICS Code]]&\":  \"&Select_naics2022[[#This Row],[2022 NAICS Title]]","v":"611210:  Junior Colleges "},611210,"Junior Colleges ",{"$f":"Select_naics2022[[#This Row],[2022 NAICS Title]]","v":"Junior Colleges "}]
[{"$nulls":43},{"$f":"Select_naics2022[[#This Row],[2022 NAICS Code]]&\":  \"&Select_naics2022[[#This Row],[2022 NAICS Title]]","v":"611310:  Colleges, Universities, and Professional Schools "},611310,"Colleges, Universities, and Professional Schools ",{"$f":"Select_naics2022[[#This Row],[2022 NAICS Title]]","v":"Colleges, Universities, and Professional Schools "}]
[{"$nulls":43},{"$f":"Select_naics2022[[#This Row],[2022 NAICS Code]]&\":  \"&Select_naics2022[[#This Row],[2022 NAICS Title]]","v":"611410:  Business and Secretarial Schools "},611410,"Business and Secretarial Schools ",{"$f":"Select_naics2022[[#This Row],[2022 NAICS Title]]","v":"Business and Secretarial Schools "}]
[{"$nulls":43},{"$f":"Select_naics2022[[#This Row],[2022 NAICS Code]]&\":  \"&Select_naics2022[[#This Row],[2022 NAICS Title]]","v":"611420:  Computer Training "},611420,"Computer Training ",{"$f":"Select_naics2022[[#This Row],[2022 NAICS Title]]","v":"Computer Training "}]
[{"$nulls":43},{"$f":"Select_naics2022[[#This Row],[2022 NAICS Code]]&\":  \"&Select_naics2022[[#This Row],[2022 NAICS Title]]","v":"611430:  Professional and Management Development Training "},611430,"Professional and Management Development Training ",{"$f":"Select_naics2022[[#This Row],[2022 NAICS Title]]","v":"Professional and Management Development Training "}]
[{"$nulls":43},{"$f":"Select_naics2022[[#This Row],[2022 NAICS Code]]&\":  \"&Select_naics2022[[#This Row],[2022 NAICS Title]]","v":"611511:  Cosmetology and Barber Schools "},611511,"Cosmetology and Barber Schools ",{"$f":"Select_naics2022[[#This Row],[2022 NAICS Title]]","v":"Cosmetology and Barber Schools "}]
[{"$nulls":43},{"$f":"Select_naics2022[[#This Row],[2022 NAICS Code]]&\":  \"&Select_naics2022[[#This Row],[2022 NAICS Title]]","v":"611512:  Flight Training "},611512,"Flight Training ",{"$f":"Select_naics2022[[#This Row],[2022 NAICS Title]]","v":"Flight Training "}]
[{"$nulls":43},{"$f":"Select_naics2022[[#This Row],[2022 NAICS Code]]&\":  \"&Select_naics2022[[#This Row],[2022 NAICS Title]]","v":"611513:  Apprenticeship Training "},611513,"Apprenticeship Training ",{"$f":"Select_naics2022[[#This Row],[2022 NAICS Title]]","v":"Apprenticeship Training "}]
[{"$nulls":43},{"$f":"Select_naics2022[[#This Row],[2022 NAICS Code]]&\":  \"&Select_naics2022[[#This Row],[2022 NAICS Title]]","v":"611519:  Other Technical and Trade Schools "},611519,"Other Technical and Trade Schools ",{"$f":"Select_naics2022[[#This Row],[2022 NAICS Title]]","v":"Other Technical and Trade Schools "}]
[{"$nulls":43},{"$f":"Select_naics2022[[#This Row],[2022 NAICS Code]]&\":  \"&Select_naics2022[[#This Row],[2022 NAICS Title]]","v":"611610:  Fine Arts Schools "},611610,"Fine Arts Schools ",{"$f":"Select_naics2022[[#This Row],[2022 NAICS Title]]","v":"Fine Arts Schools "}]
[{"$nulls":43},{"$f":"Select_naics2022[[#This Row],[2022 NAICS Code]]&\":  \"&Select_naics2022[[#This Row],[2022 NAICS Title]]","v":"611620:  Sports and Recreation Instruction "},611620,"Sports and Recreation Instruction ",{"$f":"Select_naics2022[[#This Row],[2022 NAICS Title]]","v":"Sports and Recreation Instruction "}]
[{"$nulls":43},{"$f":"Select_naics2022[[#This Row],[2022 NAICS Code]]&\":  \"&Select_naics2022[[#This Row],[2022 NAICS Title]]","v":"611630:  Language Schools "},611630,"Language Schools ",{"$f":"Select_naics2022[[#This Row],[2022 NAICS Title]]","v":"Language Schools "}]
[{"$nulls":43},{"$f":"Select_naics2022[[#This Row],[2022 NAICS Code]]&\":  \"&Select_naics2022[[#This Row],[2022 NAICS Title]]","v":"611691:  Exam Preparation and Tutoring "},611691,"Exam Preparation and Tutoring ",{"$f":"Select_naics2022[[#This Row],[2022 NAICS Title]]","v":"Exam Preparation and Tutoring "}]
[{"$nulls":43},{"$f":"Select_naics2022[[#This Row],[2022 NAICS Code]]&\":  \"&Select_naics2022[[#This Row],[2022 NAICS Title]]","v":"611692:  Automobile Driving Schools "},611692,"Automobile Driving Schools ",{"$f":"Select_naics2022[[#This Row],[2022 NAICS Title]]","v":"Automobile Driving Schools "}]
[{"$nulls":43},{"$f":"Select_naics2022[[#This Row],[2022 NAICS Code]]&\":  \"&Select_naics2022[[#This Row],[2022 NAICS Title]]","v":"611699:  All Other Miscellaneous Schools and Instruction "},611699,"All Other Miscellaneous Schools and Instruction ",{"$f":"Select_naics2022[[#This Row],[2022 NAICS Title]]","v":"All Other Miscellaneous Schools and Instruction "}]
[{"$nulls":43},{"$f":"Select_naics2022[[#This Row],[2022 NAICS Code]]&\":  \"&Select_naics2022[[#This Row],[2022 NAICS Title]]","v":"611710:  Educational Support Services"},611710,"Educational Support Services",{"$f":"Select_naics2022[[#This Row],[2022 NAICS Title]]","v":"Educational Support Services"}]
[{"$nulls":43},{"$f":"Select_naics2022[[#This Row],[2022 NAICS Code]]&\":  \"&Select_naics2022[[#This Row],[2022 NAICS Title]]","v":"621111:  Offices of Physicians (except Mental Health Specialists) "},621111,"Offices of Physicians (except Mental Health Specialists) ",{"$f":"Select_naics2022[[#This Row],[2022 NAICS Title]]","v":"Offices of Physicians (except Mental Health Specialists) "}]
[{"$nulls":43},{"$f":"Select_naics2022[[#This Row],[2022 NAICS Code]]&\":  \"&Select_naics2022[[#This Row],[2022 NAICS Title]]","v":"621112:  Offices of Physicians, Mental Health Specialists "},621112,"Offices of Physicians, Mental Health Specialists ",{"$f":"Select_naics2022[[#This Row],[2022 NAICS Title]]","v":"Offices of Physicians, Mental Health Specialists "}]
[{"$nulls":43},{"$f":"Select_naics2022[[#This Row],[2022 NAICS Code]]&\":  \"&Select_naics2022[[#This Row],[2022 NAICS Title]]","v":"621210:  Offices of Dentists "},621210,"Offices of Dentists ",{"$f":"Select_naics2022[[#This Row],[2022 NAICS Title]]","v":"Offices of Dentists "}]
[{"$nulls":43},{"$f":"Select_naics2022[[#This Row],[2022 NAICS Code]]&\":  \"&Select_naics2022[[#This Row],[2022 NAICS Title]]","v":"621310:  Offices of Chiropractors "},621310,"Offices of Chiropractors ",{"$f":"Select_naics2022[[#This Row],[2022 NAICS Title]]","v":"Offices of Chiropractors "}]
[{"$nulls":43},{"$f":"Select_naics2022[[#This Row],[2022 NAICS Code]]&\":  \"&Select_naics2022[[#This Row],[2022 NAICS Title]]","v":"621320:  Offices of Optometrists"},621320,"Offices of Optometrists",{"$f":"Select_naics2022[[#This Row],[2022 NAICS Title]]","v":"Offices of Optometrists"}]
[{"$nulls":43},{"$f":"Select_naics2022[[#This Row],[2022 NAICS Code]]&\":  \"&Select_naics2022[[#This Row],[2022 NAICS Title]]","v":"621330:  Offices of Mental Health Practitioners (except Physicians) "},621330,"Offices of Mental Health Practitioners (except Physicians) ",{"$f":"Select_naics2022[[#This Row],[2022 NAICS Title]]","v":"Offices of Mental Health Practitioners (except Physicians) "}]
[{"$nulls":43},{"$f":"Select_naics2022[[#This Row],[2022 NAICS Code]]&\":  \"&Select_naics2022[[#This Row],[2022 NAICS Title]]","v":"621340:  Offices of Physical, Occupational and Speech Therapists, and Audiologists "},621340,"Offices of Physical, Occupational and Speech Therapists, and Audiologists ",{"$f":"Select_naics2022[[#This Row],[2022 NAICS Title]]","v":"Offices of Physical, Occupational and Speech Therapists, and Audiologists "}]
[{"$nulls":43},{"$f":"Select_naics2022[[#This Row],[2022 NAICS Code]]&\":  \"&Select_naics2022[[#This Row],[2022 NAICS Title]]","v":"621391:  Offices of Podiatrists "},621391,"Offices of Podiatrists ",{"$f":"Select_naics2022[[#This Row],[2022 NAICS Title]]","v":"Offices of Podiatrists "}]
[{"$nulls":43},{"$f":"Select_naics2022[[#This Row],[2022 NAICS Code]]&\":  \"&Select_naics2022[[#This Row],[2022 NAICS Title]]","v":"621399:  Offices of All Other Miscellaneous Health Practitioners "},621399,"Offices of All Other Miscellaneous Health Practitioners ",{"$f":"Select_naics2022[[#This Row],[2022 NAICS Title]]","v":"Offices of All Other Miscellaneous Health Practitioners "}]
[{"$nulls":43},{"$f":"Select_naics2022[[#This Row],[2022 NAICS Code]]&\":  \"&Select_naics2022[[#This Row],[2022 NAICS Title]]","v":"621410:  Family Planning Centers "},621410,"Family Planning Centers ",{"$f":"Select_naics2022[[#This Row],[2022 NAICS Title]]","v":"Family Planning Centers "}]
[{"$nulls":43},{"$f":"Select_naics2022[[#This Row],[2022 NAICS Code]]&\":  \"&Select_naics2022[[#This Row],[2022 NAICS Title]]","v":"621420:  Outpatient Mental Health and Substance Abuse Centers "},621420,"Outpatient Mental Health and Substance Abuse Centers ",{"$f":"Select_naics2022[[#This Row],[2022 NAICS Title]]","v":"Outpatient Mental Health and Substance Abuse Centers "}]
[{"$nulls":43},{"$f":"Select_naics2022[[#This Row],[2022 NAICS Code]]&\":  \"&Select_naics2022[[#This Row],[2022 NAICS Title]]","v":"621491:  HMO Medical Centers "},621491,"HMO Medical Centers ",{"$f":"Select_naics2022[[#This Row],[2022 NAICS Title]]","v":"HMO Medical Centers "}]
[{"$nulls":43},{"$f":"Select_naics2022[[#This Row],[2022 NAICS Code]]&\":  \"&Select_naics2022[[#This Row],[2022 NAICS Title]]","v":"621492:  Kidney Dialysis Centers "},621492,"Kidney Dialysis Centers ",{"$f":"Select_naics2022[[#This Row],[2022 NAICS Title]]","v":"Kidney Dialysis Centers "}]
[{"$nulls":43},{"$f":"Select_naics2022[[#This Row],[2022 NAICS Code]]&\":  \"&Select_naics2022[[#This Row],[2022 NAICS Title]]","v":"621493:  Freestanding Ambulatory Surgical and Emergency Centers "},621493,"Freestanding Ambulatory Surgical and Emergency Centers ",{"$f":"Select_naics2022[[#This Row],[2022 NAICS Title]]","v":"Freestanding Ambulatory Surgical and Emergency Centers "}]
[{"$nulls":43},{"$f":"Select_naics2022[[#This Row],[2022 NAICS Code]]&\":  \"&Select_naics2022[[#This Row],[2022 NAICS Title]]","v":"621498:  All Other Outpatient Care Centers "},621498,"All Other Outpatient Care Centers ",{"$f":"Select_naics2022[[#This Row],[2022 NAICS Title]]","v":"All Other Outpatient Care Centers "}]
[{"$nulls":43},{"$f":"Select_naics2022[[#This Row],[2022 NAICS Code]]&\":  \"&Select_naics2022[[#This Row],[2022 NAICS Title]]","v":"621511:  Medical Laboratories "},621511,"Medical Laboratories ",{"$f":"Select_naics2022[[#This Row],[2022 NAICS Title]]","v":"Medical Laboratories "}]
[{"$nulls":43},{"$f":"Select_naics2022[[#This Row],[2022 NAICS Code]]&\":  \"&Select_naics2022[[#This Row],[2022 NAICS Title]]","v":"621512:  Diagnostic Imaging Centers "},621512,"Diagnostic Imaging Centers ",{"$f":"Select_naics2022[[#This Row],[2022 NAICS Title]]","v":"Diagnostic Imaging Centers "}]
[{"$nulls":43},{"$f":"Select_naics2022[[#This Row],[2022 NAICS Code]]&\":  \"&Select_naics2022[[#This Row],[2022 NAICS Title]]","v":"621610:  Home Health Care Services"},621610,"Home Health Care Services",{"$f":"Select_naics2022[[#This Row],[2022 NAICS Title]]","v":"Home Health Care Services"}]
[{"$nulls":43},{"$f":"Select_naics2022[[#This Row],[2022 NAICS Code]]&\":  \"&Select_naics2022[[#This Row],[2022 NAICS Title]]","v":"621910:  Ambulance Services "},621910,"Ambulance Services ",{"$f":"Select_naics2022[[#This Row],[2022 NAICS Title]]","v":"Ambulance Services "}]
[{"$nulls":43},{"$f":"Select_naics2022[[#This Row],[2022 NAICS Code]]&\":  \"&Select_naics2022[[#This Row],[2022 NAICS Title]]","v":"621991:  Blood and Organ Banks "},621991,"Blood and Organ Banks ",{"$f":"Select_naics2022[[#This Row],[2022 NAICS Title]]","v":"Blood and Organ Banks "}]
[{"$nulls":43},{"$f":"Select_naics2022[[#This Row],[2022 NAICS Code]]&\":  \"&Select_naics2022[[#This Row],[2022 NAICS Title]]","v":"621999:  All Other Miscellaneous Ambulatory Health Care Services "},621999,"All Other Miscellaneous Ambulatory Health Care Services ",{"$f":"Select_naics2022[[#This Row],[2022 NAICS Title]]","v":"All Other Miscellaneous Ambulatory Health Care Services "}]
[{"$nulls":43},{"$f":"Select_naics2022[[#This Row],[2022 NAICS Code]]&\":  \"&Select_naics2022[[#This Row],[2022 NAICS Title]]","v":"622110:  General Medical and Surgical Hospitals "},622110,"General Medical and Surgical Hospitals ",{"$f":"Select_naics2022[[#This Row],[2022 NAICS Title]]","v":"General Medical and Surgical Hospitals "}]
[{"$nulls":43},{"$f":"Select_naics2022[[#This Row],[2022 NAICS Code]]&\":  \"&Select_naics2022[[#This Row],[2022 NAICS Title]]","v":"622210:  Psychiatric and Substance Abuse Hospitals "},622210,"Psychiatric and Substance Abuse Hospitals ",{"$f":"Select_naics2022[[#This Row],[2022 NAICS Title]]","v":"Psychiatric and Substance Abuse Hospitals "}]
[{"$nulls":43},{"$f":"Select_naics2022[[#This Row],[2022 NAICS Code]]&\":  \"&Select_naics2022[[#This Row],[2022 NAICS Title]]","v":"622310:  Specialty (except Psychiatric and Substance Abuse) Hospitals "},622310,"Specialty (except Psychiatric and Substance Abuse) Hospitals ",{"$f":"Select_naics2022[[#This Row],[2022 NAICS Title]]","v":"Specialty (except Psychiatric and Substance Abuse) Hospitals "}]
[{"$nulls":43},{"$f":"Select_naics2022[[#This Row],[2022 NAICS Code]]&\":  \"&Select_naics2022[[#This Row],[2022 NAICS Title]]","v":"623110:  Nursing Care Facilities (Skilled Nursing Facilities) "},623110,"Nursing Care Facilities (Skilled Nursing Facilities) ",{"$f":"Select_naics2022[[#This Row],[2022 NAICS Title]]","v":"Nursing Care Facilities (Skilled Nursing Facilities) "}]
[{"$nulls":43},{"$f":"Select_naics2022[[#This Row],[2022 NAICS Code]]&\":  \"&Select_naics2022[[#This Row],[2022 NAICS Title]]","v":"623210:  Residential Intellectual and Developmental Disability Facilities "},623210,"Residential Intellectual and Developmental Disability Facilities ",{"$f":"Select_naics2022[[#This Row],[2022 NAICS Title]]","v":"Residential Intellectual and Developmental Disability Facilities "}]
[{"$nulls":43},{"$f":"Select_naics2022[[#This Row],[2022 NAICS Code]]&\":  \"&Select_naics2022[[#This Row],[2022 NAICS Title]]","v":"623220:  Residential Mental Health and Substance Abuse Facilities "},623220,"Residential Mental Health and Substance Abuse Facilities ",{"$f":"Select_naics2022[[#This Row],[2022 NAICS Title]]","v":"Residential Mental Health and Substance Abuse Facilities "}]
[{"$nulls":43},{"$f":"Select_naics2022[[#This Row],[2022 NAICS Code]]&\":  \"&Select_naics2022[[#This Row],[2022 NAICS Title]]","v":"623311:  Continuing Care Retirement Communities "},623311,"Continuing Care Retirement Communities ",{"$f":"Select_naics2022[[#This Row],[2022 NAICS Title]]","v":"Continuing Care Retirement Communities "}]
[{"$nulls":43},{"$f":"Select_naics2022[[#This Row],[2022 NAICS Code]]&\":  \"&Select_naics2022[[#This Row],[2022 NAICS Title]]","v":"623312:  Assisted Living Facilities for the Elderly "},623312,"Assisted Living Facilities for the Elderly ",{"$f":"Select_naics2022[[#This Row],[2022 NAICS Title]]","v":"Assisted Living Facilities for the Elderly "}]
[{"$nulls":43},{"$f":"Select_naics2022[[#This Row],[2022 NAICS Code]]&\":  \"&Select_naics2022[[#This Row],[2022 NAICS Title]]","v":"623990:  Other Residential Care Facilities "},623990,"Other Residential Care Facilities ",{"$f":"Select_naics2022[[#This Row],[2022 NAICS Title]]","v":"Other Residential Care Facilities "}]
[{"$nulls":43},{"$f":"Select_naics2022[[#This Row],[2022 NAICS Code]]&\":  \"&Select_naics2022[[#This Row],[2022 NAICS Title]]","v":"624110:  Child and Youth Services "},624110,"Child and Youth Services ",{"$f":"Select_naics2022[[#This Row],[2022 NAICS Title]]","v":"Child and Youth Services "}]
[{"$nulls":43},{"$f":"Select_naics2022[[#This Row],[2022 NAICS Code]]&\":  \"&Select_naics2022[[#This Row],[2022 NAICS Title]]","v":"624120:  Services for the Elderly and Persons with Disabilities "},624120,"Services for the Elderly and Persons with Disabilities ",{"$f":"Select_naics2022[[#This Row],[2022 NAICS Title]]","v":"Services for the Elderly and Persons with Disabilities "}]
[{"$nulls":43},{"$f":"Select_naics2022[[#This Row],[2022 NAICS Code]]&\":  \"&Select_naics2022[[#This Row],[2022 NAICS Title]]","v":"624190:  Other Individual and Family Services "},624190,"Other Individual and Family Services ",{"$f":"Select_naics2022[[#This Row],[2022 NAICS Title]]","v":"Other Individual and Family Services "}]
[{"$nulls":43},{"$f":"Select_naics2022[[#This Row],[2022 NAICS Code]]&\":  \"&Select_naics2022[[#This Row],[2022 NAICS Title]]","v":"624210:  Community Food Services "},624210,"Community Food Services ",{"$f":"Select_naics2022[[#This Row],[2022 NAICS Title]]","v":"Community Food Services "}]
[{"$nulls":43},{"$f":"Select_naics2022[[#This Row],[2022 NAICS Code]]&\":  \"&Select_naics2022[[#This Row],[2022 NAICS Title]]","v":"624221:  Temporary Shelters "},624221,"Temporary Shelters ",{"$f":"Select_naics2022[[#This Row],[2022 NAICS Title]]","v":"Temporary Shelters "}]
[{"$nulls":43},{"$f":"Select_naics2022[[#This Row],[2022 NAICS Code]]&\":  \"&Select_naics2022[[#This Row],[2022 NAICS Title]]","v":"624229:  Other Community Housing Services "},624229,"Other Community Housing Services ",{"$f":"Select_naics2022[[#This Row],[2022 NAICS Title]]","v":"Other Community Housing Services "}]
[{"$nulls":43},{"$f":"Select_naics2022[[#This Row],[2022 NAICS Code]]&\":  \"&Select_naics2022[[#This Row],[2022 NAICS Title]]","v":"624230:  Emergency and Other Relief Services "},624230,"Emergency and Other Relief Services ",{"$f":"Select_naics2022[[#This Row],[2022 NAICS Title]]","v":"Emergency and Other Relief Services "}]
[{"$nulls":43},{"$f":"Select_naics2022[[#This Row],[2022 NAICS Code]]&\":  \"&Select_naics2022[[#This Row],[2022 NAICS Title]]","v":"624310:  Vocational Rehabilitation Services "},624310,"Vocational Rehabilitation Services ",{"$f":"Select_naics2022[[#This Row],[2022 NAICS Title]]","v":"Vocational Rehabilitation Services "}]
[{"$nulls":43},{"$f":"Select_naics2022[[#This Row],[2022 NAICS Code]]&\":  \"&Select_naics2022[[#This Row],[2022 NAICS Title]]","v":"624410:  Child Care Services "},624410,"Child Care Services ",{"$f":"Select_naics2022[[#This Row],[2022 NAICS Title]]","v":"Child Care Services "}]
[{"$nulls":43},{"$f":"Select_naics2022[[#This Row],[2022 NAICS Code]]&\":  \"&Select_naics2022[[#This Row],[2022 NAICS Title]]","v":"711110:  Theater Companies and Dinner Theaters "},711110,"Theater Companies and Dinner Theaters ",{"$f":"Select_naics2022[[#This Row],[2022 NAICS Title]]","v":"Theater Companies and Dinner Theaters "}]
[{"$nulls":43},{"$f":"Select_naics2022[[#This Row],[2022 NAICS Code]]&\":  \"&Select_naics2022[[#This Row],[2022 NAICS Title]]","v":"711120:  Dance Companies "},711120,"Dance Companies ",{"$f":"Select_naics2022[[#This Row],[2022 NAICS Title]]","v":"Dance Companies "}]
[{"$nulls":43},{"$f":"Select_naics2022[[#This Row],[2022 NAICS Code]]&\":  \"&Select_naics2022[[#This Row],[2022 NAICS Title]]","v":"711130:  Musical Groups and Artists "},711130,"Musical Groups and Artists ",{"$f":"Select_naics2022[[#This Row],[2022 NAICS Title]]","v":"Musical Groups and Artists "}]
[{"$nulls":43},{"$f":"Select_naics2022[[#This Row],[2022 NAICS Code]]&\":  \"&Select_naics2022[[#This Row],[2022 NAICS Title]]","v":"711190:  Other Performing Arts Companies "},711190,"Other Performing Arts Companies ",{"$f":"Select_naics2022[[#This Row],[2022 NAICS Title]]","v":"Other Performing Arts Companies "}]
[{"$nulls":43},{"$f":"Select_naics2022[[#This Row],[2022 NAICS Code]]&\":  \"&Select_naics2022[[#This Row],[2022 NAICS Title]]","v":"711211:  Sports Teams and Clubs "},711211,"Sports Teams and Clubs ",{"$f":"Select_naics2022[[#This Row],[2022 NAICS Title]]","v":"Sports Teams and Clubs "}]
[{"$nulls":43},{"$f":"Select_naics2022[[#This Row],[2022 NAICS Code]]&\":  \"&Select_naics2022[[#This Row],[2022 NAICS Title]]","v":"711212:  Racetracks "},711212,"Racetracks ",{"$f":"Select_naics2022[[#This Row],[2022 NAICS Title]]","v":"Racetracks "}]
[{"$nulls":43},{"$f":"Select_naics2022[[#This Row],[2022 NAICS Code]]&\":  \"&Select_naics2022[[#This Row],[2022 NAICS Title]]","v":"711219:  Other Spectator Sports "},711219,"Other Spectator Sports ",{"$f":"Select_naics2022[[#This Row],[2022 NAICS Title]]","v":"Other Spectator Sports "}]
[{"$nulls":43},{"$f":"Select_naics2022[[#This Row],[2022 NAICS Code]]&\":  \"&Select_naics2022[[#This Row],[2022 NAICS Title]]","v":"711310:  Promoters of Performing Arts, Sports, and Similar Events with Facilities "},711310,"Promoters of Performing Arts, Sports, and Similar Events with Facilities ",{"$f":"Select_naics2022[[#This Row],[2022 NAICS Title]]","v":"Promoters of Performing Arts, Sports, and Similar Events with Facilities "}]
[{"$nulls":43},{"$f":"Select_naics2022[[#This Row],[2022 NAICS Code]]&\":  \"&Select_naics2022[[#This Row],[2022 NAICS Title]]","v":"711320:  Promoters of Performing Arts, Sports, and Similar Events without Facilities "},711320,"Promoters of Performing Arts, Sports, and Similar Events without Facilities ",{"$f":"Select_naics2022[[#This Row],[2022 NAICS Title]]","v":"Promoters of Performing Arts, Sports, and Similar Events without Facilities "}]
[{"$nulls":43},{"$f":"Select_naics2022[[#This Row],[2022 NAICS Code]]&\":  \"&Select_naics2022[[#This Row],[2022 NAICS Title]]","v":"711410:  Agents and Managers for Artists, Athletes, Entertainers, and Other Public Figures"},711410,"Agents and Managers for Artists, Athletes, Entertainers, and Other Public Figures",{"$f":"Select_naics2022[[#This Row],[2022 NAICS Title]]","v":"Agents and Managers for Artists, Athletes, Entertainers, and Other Public Figures"}]
[{"$nulls":43},{"$f":"Select_naics2022[[#This Row],[2022 NAICS Code]]&\":  \"&Select_naics2022[[#This Row],[2022 NAICS Title]]","v":"711510:  Independent Artists, Writers, and Performers "},711510,"Independent Artists, Writers, and Performers ",{"$f":"Select_naics2022[[#This Row],[2022 NAICS Title]]","v":"Independent Artists, Writers, and Performers "}]
[{"$nulls":43},{"$f":"Select_naics2022[[#This Row],[2022 NAICS Code]]&\":  \"&Select_naics2022[[#This Row],[2022 NAICS Title]]","v":"712110:  Museums "},712110,"Museums ",{"$f":"Select_naics2022[[#This Row],[2022 NAICS Title]]","v":"Museums "}]
[{"$nulls":43},{"$f":"Select_naics2022[[#This Row],[2022 NAICS Code]]&\":  \"&Select_naics2022[[#This Row],[2022 NAICS Title]]","v":"712120:  Historical Sites"},712120,"Historical Sites",{"$f":"Select_naics2022[[#This Row],[2022 NAICS Title]]","v":"Historical Sites"}]
[{"$nulls":43},{"$f":"Select_naics2022[[#This Row],[2022 NAICS Code]]&\":  \"&Select_naics2022[[#This Row],[2022 NAICS Title]]","v":"712130:  Zoos and Botanical Gardens "},712130,"Zoos and Botanical Gardens ",{"$f":"Select_naics2022[[#This Row],[2022 NAICS Title]]","v":"Zoos and Botanical Gardens "}]
[{"$nulls":43},{"$f":"Select_naics2022[[#This Row],[2022 NAICS Code]]&\":  \"&Select_naics2022[[#This Row],[2022 NAICS Title]]","v":"712190:  Nature Parks and Other Similar Institutions"},712190,"Nature Parks and Other Similar Institutions",{"$f":"Select_naics2022[[#This Row],[2022 NAICS Title]]","v":"Nature Parks and Other Similar Institutions"}]
[{"$nulls":43},{"$f":"Select_naics2022[[#This Row],[2022 NAICS Code]]&\":  \"&Select_naics2022[[#This Row],[2022 NAICS Title]]","v":"713110:  Amusement and Theme Parks "},713110,"Amusement and Theme Parks ",{"$f":"Select_naics2022[[#This Row],[2022 NAICS Title]]","v":"Amusement and Theme Parks "}]
[{"$nulls":43},{"$f":"Select_naics2022[[#This Row],[2022 NAICS Code]]&\":  \"&Select_naics2022[[#This Row],[2022 NAICS Title]]","v":"713120:  Amusement Arcades"},713120,"Amusement Arcades",{"$f":"Select_naics2022[[#This Row],[2022 NAICS Title]]","v":"Amusement Arcades"}]
[{"$nulls":43},{"$f":"Select_naics2022[[#This Row],[2022 NAICS Code]]&\":  \"&Select_naics2022[[#This Row],[2022 NAICS Title]]","v":"713210:  Casinos (except Casino Hotels)"},713210,"Casinos (except Casino Hotels)",{"$f":"Select_naics2022[[#This Row],[2022 NAICS Title]]","v":"Casinos (except Casino Hotels)"}]
[{"$nulls":43},{"$f":"Select_naics2022[[#This Row],[2022 NAICS Code]]&\":  \"&Select_naics2022[[#This Row],[2022 NAICS Title]]","v":"713290:  Other Gambling Industries "},713290,"Other Gambling Industries ",{"$f":"Select_naics2022[[#This Row],[2022 NAICS Title]]","v":"Other Gambling Industries "}]
[{"$nulls":43},{"$f":"Select_naics2022[[#This Row],[2022 NAICS Code]]&\":  \"&Select_naics2022[[#This Row],[2022 NAICS Title]]","v":"713910:  Golf Courses and Country Clubs"},713910,"Golf Courses and Country Clubs",{"$f":"Select_naics2022[[#This Row],[2022 NAICS Title]]","v":"Golf Courses and Country Clubs"}]
[{"$nulls":43},{"$f":"Select_naics2022[[#This Row],[2022 NAICS Code]]&\":  \"&Select_naics2022[[#This Row],[2022 NAICS Title]]","v":"713920:  Skiing Facilities"},713920,"Skiing Facilities",{"$f":"Select_naics2022[[#This Row],[2022 NAICS Title]]","v":"Skiing Facilities"}]
[{"$nulls":43},{"$f":"Select_naics2022[[#This Row],[2022 NAICS Code]]&\":  \"&Select_naics2022[[#This Row],[2022 NAICS Title]]","v":"713930:  Marinas"},713930,"Marinas",{"$f":"Select_naics2022[[#This Row],[2022 NAICS Title]]","v":"Marinas"}]
[{"$nulls":43},{"$f":"Select_naics2022[[#This Row],[2022 NAICS Code]]&\":  \"&Select_naics2022[[#This Row],[2022 NAICS Title]]","v":"713940:  Fitness and Recreational Sports Centers "},713940,"Fitness and Recreational Sports Centers ",{"$f":"Select_naics2022[[#This Row],[2022 NAICS Title]]","v":"Fitness and Recreational Sports Centers "}]
[{"$nulls":43},{"$f":"Select_naics2022[[#This Row],[2022 NAICS Code]]&\":  \"&Select_naics2022[[#This Row],[2022 NAICS Title]]","v":"713950:  Bowling Centers"},713950,"Bowling Centers",{"$f":"Select_naics2022[[#This Row],[2022 NAICS Title]]","v":"Bowling Centers"}]
[{"$nulls":43},{"$f":"Select_naics2022[[#This Row],[2022 NAICS Code]]&\":  \"&Select_naics2022[[#This Row],[2022 NAICS Title]]","v":"713990:  All Other Amusement and Recreation Industries "},713990,"All Other Amusement and Recreation Industries ",{"$f":"Select_naics2022[[#This Row],[2022 NAICS Title]]","v":"All Other Amusement and Recreation Industries "}]
[{"$nulls":43},{"$f":"Select_naics2022[[#This Row],[2022 NAICS Code]]&\":  \"&Select_naics2022[[#This Row],[2022 NAICS Title]]","v":"721110:  Hotels (except Casino Hotels) and Motels "},721110,"Hotels (except Casino Hotels) and Motels ",{"$f":"Select_naics2022[[#This Row],[2022 NAICS Title]]","v":"Hotels (except Casino Hotels) and Motels "}]
[{"$nulls":43},{"$f":"Select_naics2022[[#This Row],[2022 NAICS Code]]&\":  \"&Select_naics2022[[#This Row],[2022 NAICS Title]]","v":"721120:  Casino Hotels"},721120,"Casino Hotels",{"$f":"Select_naics2022[[#This Row],[2022 NAICS Title]]","v":"Casino Hotels"}]
[{"$nulls":43},{"$f":"Select_naics2022[[#This Row],[2022 NAICS Code]]&\":  \"&Select_naics2022[[#This Row],[2022 NAICS Title]]","v":"721191:  Bed-and-Breakfast Inns "},721191,"Bed-and-Breakfast Inns ",{"$f":"Select_naics2022[[#This Row],[2022 NAICS Title]]","v":"Bed-and-Breakfast Inns "}]
[{"$nulls":43},{"$f":"Select_naics2022[[#This Row],[2022 NAICS Code]]&\":  \"&Select_naics2022[[#This Row],[2022 NAICS Title]]","v":"721199:  All Other Traveler Accommodation "},721199,"All Other Traveler Accommodation ",{"$f":"Select_naics2022[[#This Row],[2022 NAICS Title]]","v":"All Other Traveler Accommodation "}]
[{"$nulls":43},{"$f":"Select_naics2022[[#This Row],[2022 NAICS Code]]&\":  \"&Select_naics2022[[#This Row],[2022 NAICS Title]]","v":"721211:  RV (Recreational Vehicle) Parks and Campgrounds "},721211,"RV (Recreational Vehicle) Parks and Campgrounds ",{"$f":"Select_naics2022[[#This Row],[2022 NAICS Title]]","v":"RV (Recreational Vehicle) Parks and Campgrounds "}]
[{"$nulls":43},{"$f":"Select_naics2022[[#This Row],[2022 NAICS Code]]&\":  \"&Select_naics2022[[#This Row],[2022 NAICS Title]]","v":"721214:  Recreational and Vacation Camps (except Campgrounds) "},721214,"Recreational and Vacation Camps (except Campgrounds) ",{"$f":"Select_naics2022[[#This Row],[2022 NAICS Title]]","v":"Recreational and Vacation Camps (except Campgrounds) "}]
[{"$nulls":43},{"$f":"Select_naics2022[[#This Row],[2022 NAICS Code]]&\":  \"&Select_naics2022[[#This Row],[2022 NAICS Title]]","v":"721310:  Rooming and Boarding Houses, Dormitories, and Workers' Camps "},721310,"Rooming and Boarding Houses, Dormitories, and Workers' Camps ",{"$f":"Select_naics2022[[#This Row],[2022 NAICS Title]]","v":"Rooming and Boarding Houses, Dormitories, and Workers' Camps "}]
[{"$nulls":43},{"$f":"Select_naics2022[[#This Row],[2022 NAICS Code]]&\":  \"&Select_naics2022[[#This Row],[2022 NAICS Title]]","v":"722310:  Food Service Contractors"},722310,"Food Service Contractors",{"$f":"Select_naics2022[[#This Row],[2022 NAICS Title]]","v":"Food Service Contractors"}]
[{"$nulls":43},{"$f":"Select_naics2022[[#This Row],[2022 NAICS Code]]&\":  \"&Select_naics2022[[#This Row],[2022 NAICS Title]]","v":"722320:  Caterers"},722320,"Caterers",{"$f":"Select_naics2022[[#This Row],[2022 NAICS Title]]","v":"Caterers"}]
[{"$nulls":43},{"$f":"Select_naics2022[[#This Row],[2022 NAICS Code]]&\":  \"&Select_naics2022[[#This Row],[2022 NAICS Title]]","v":"722330:  Mobile Food Services"},722330,"Mobile Food Services",{"$f":"Select_naics2022[[#This Row],[2022 NAICS Title]]","v":"Mobile Food Services"}]
[{"$nulls":43},{"$f":"Select_naics2022[[#This Row],[2022 NAICS Code]]&\":  \"&Select_naics2022[[#This Row],[2022 NAICS Title]]","v":"722410:  Drinking Places (Alcoholic Beverages) "},722410,"Drinking Places (Alcoholic Beverages) ",{"$f":"Select_naics2022[[#This Row],[2022 NAICS Title]]","v":"Drinking Places (Alcoholic Beverages) "}]
[{"$nulls":43},{"$f":"Select_naics2022[[#This Row],[2022 NAICS Code]]&\":  \"&Select_naics2022[[#This Row],[2022 NAICS Title]]","v":"722511:  Full-Service Restaurants "},722511,"Full-Service Restaurants ",{"$f":"Select_naics2022[[#This Row],[2022 NAICS Title]]","v":"Full-Service Restaurants "}]
[{"$nulls":43},{"$f":"Select_naics2022[[#This Row],[2022 NAICS Code]]&\":  \"&Select_naics2022[[#This Row],[2022 NAICS Title]]","v":"722513:  Limited-Service Restaurants "},722513,"Limited-Service Restaurants ",{"$f":"Select_naics2022[[#This Row],[2022 NAICS Title]]","v":"Limited-Service Restaurants "}]
[{"$nulls":43},{"$f":"Select_naics2022[[#This Row],[2022 NAICS Code]]&\":  \"&Select_naics2022[[#This Row],[2022 NAICS Title]]","v":"722514:  Cafeterias, Grill Buffets, and Buffets "},722514,"Cafeterias, Grill Buffets, and Buffets ",{"$f":"Select_naics2022[[#This Row],[2022 NAICS Title]]","v":"Cafeterias, Grill Buffets, and Buffets "}]
[{"$nulls":43},{"$f":"Select_naics2022[[#This Row],[2022 NAICS Code]]&\":  \"&Select_naics2022[[#This Row],[2022 NAICS Title]]","v":"722515:  Snack and Nonalcoholic Beverage Bars "},722515,"Snack and Nonalcoholic Beverage Bars ",{"$f":"Select_naics2022[[#This Row],[2022 NAICS Title]]","v":"Snack and Nonalcoholic Beverage Bars "}]
[{"$nulls":43},{"$f":"Select_naics2022[[#This Row],[2022 NAICS Code]]&\":  \"&Select_naics2022[[#This Row],[2022 NAICS Title]]","v":"811111:  General Automotive Repair "},811111,"General Automotive Repair ",{"$f":"Select_naics2022[[#This Row],[2022 NAICS Title]]","v":"General Automotive Repair "}]
[{"$nulls":43},{"$f":"Select_naics2022[[#This Row],[2022 NAICS Code]]&\":  \"&Select_naics2022[[#This Row],[2022 NAICS Title]]","v":"811114:  Specialized Automotive Repair "},811114,"Specialized Automotive Repair ",{"$f":"Select_naics2022[[#This Row],[2022 NAICS Title]]","v":"Specialized Automotive Repair "}]
[{"$nulls":43},{"$f":"Select_naics2022[[#This Row],[2022 NAICS Code]]&\":  \"&Select_naics2022[[#This Row],[2022 NAICS Title]]","v":"811121:  Automotive Body, Paint, and Interior Repair and Maintenance "},811121,"Automotive Body, Paint, and Interior Repair and Maintenance ",{"$f":"Select_naics2022[[#This Row],[2022 NAICS Title]]","v":"Automotive Body, Paint, and Interior Repair and Maintenance "}]
[{"$nulls":43},{"$f":"Select_naics2022[[#This Row],[2022 NAICS Code]]&\":  \"&Select_naics2022[[#This Row],[2022 NAICS Title]]","v":"811122:  Automotive Glass Replacement Shops "},811122,"Automotive Glass Replacement Shops ",{"$f":"Select_naics2022[[#This Row],[2022 NAICS Title]]","v":"Automotive Glass Replacement Shops "}]
[{"$nulls":43},{"$f":"Select_naics2022[[#This Row],[2022 NAICS Code]]&\":  \"&Select_naics2022[[#This Row],[2022 NAICS Title]]","v":"811191:  Automotive Oil Change and Lubrication Shops "},811191,"Automotive Oil Change and Lubrication Shops ",{"$f":"Select_naics2022[[#This Row],[2022 NAICS Title]]","v":"Automotive Oil Change and Lubrication Shops "}]
[{"$nulls":43},{"$f":"Select_naics2022[[#This Row],[2022 NAICS Code]]&\":  \"&Select_naics2022[[#This Row],[2022 NAICS Title]]","v":"811192:  Car Washes "},811192,"Car Washes ",{"$f":"Select_naics2022[[#This Row],[2022 NAICS Title]]","v":"Car Washes "}]
[{"$nulls":43},{"$f":"Select_naics2022[[#This Row],[2022 NAICS Code]]&\":  \"&Select_naics2022[[#This Row],[2022 NAICS Title]]","v":"811198:  All Other Automotive Repair and Maintenance "},811198,"All Other Automotive Repair and Maintenance ",{"$f":"Select_naics2022[[#This Row],[2022 NAICS Title]]","v":"All Other Automotive Repair and Maintenance "}]
[{"$nulls":43},{"$f":"Select_naics2022[[#This Row],[2022 NAICS Code]]&\":  \"&Select_naics2022[[#This Row],[2022 NAICS Title]]","v":"811210:  Electronic and Precision Equipment Repair and Maintenance "},811210,"Electronic and Precision Equipment Repair and Maintenance ",{"$f":"Select_naics2022[[#This Row],[2022 NAICS Title]]","v":"Electronic and Precision Equipment Repair and Maintenance "}]
[{"$nulls":43},{"$f":"Select_naics2022[[#This Row],[2022 NAICS Code]]&\":  \"&Select_naics2022[[#This Row],[2022 NAICS Title]]","v":"811310:  Commercial and Industrial Machinery and Equipment (except Automotive and Electronic) Repair and Maintenance "},811310,"Commercial and Industrial Machinery and Equipment (except Automotive and Electronic) Repair and Maintenance ",{"$f":"Select_naics2022[[#This Row],[2022 NAICS Title]]","v":"Commercial and Industrial Machinery and Equipment (except Automotive and Electronic) Repair and Maintenance "}]
[{"$nulls":43},{"$f":"Select_naics2022[[#This Row],[2022 NAICS Code]]&\":  \"&Select_naics2022[[#This Row],[2022 NAICS Title]]","v":"811411:  Home and Garden Equipment Repair and Maintenance "},811411,"Home and Garden Equipment Repair and Maintenance ",{"$f":"Select_naics2022[[#This Row],[2022 NAICS Title]]","v":"Home and Garden Equipment Repair and Maintenance "}]
[{"$nulls":43},{"$f":"Select_naics2022[[#This Row],[2022 NAICS Code]]&\":  \"&Select_naics2022[[#This Row],[2022 NAICS Title]]","v":"811412:  Appliance Repair and Maintenance "},811412,"Appliance Repair and Maintenance ",{"$f":"Select_naics2022[[#This Row],[2022 NAICS Title]]","v":"Appliance Repair and Maintenance "}]
[{"$nulls":43},{"$f":"Select_naics2022[[#This Row],[2022 NAICS Code]]&\":  \"&Select_naics2022[[#This Row],[2022 NAICS Title]]","v":"811420:  Reupholstery and Furniture Repair"},811420,"Reupholstery and Furniture Repair",{"$f":"Select_naics2022[[#This Row],[2022 NAICS Title]]","v":"Reupholstery and Furniture Repair"}]
[{"$nulls":43},{"$f":"Select_naics2022[[#This Row],[2022 NAICS Code]]&\":  \"&Select_naics2022[[#This Row],[2022 NAICS Title]]","v":"811430:  Footwear and Leather Goods Repair"},811430,"Footwear and Leather Goods Repair",{"$f":"Select_naics2022[[#This Row],[2022 NAICS Title]]","v":"Footwear and Leather Goods Repair"}]
[{"$nulls":43},{"$f":"Select_naics2022[[#This Row],[2022 NAICS Code]]&\":  \"&Select_naics2022[[#This Row],[2022 NAICS Title]]","v":"811490:  Other Personal and Household Goods Repair and Maintenance "},811490,"Other Personal and Household Goods Repair and Maintenance ",{"$f":"Select_naics2022[[#This Row],[2022 NAICS Title]]","v":"Other Personal and Household Goods Repair and Maintenance "}]
[{"$nulls":43},{"$f":"Select_naics2022[[#This Row],[2022 NAICS Code]]&\":  \"&Select_naics2022[[#This Row],[2022 NAICS Title]]","v":"812111:  Barber Shops "},812111,"Barber Shops ",{"$f":"Select_naics2022[[#This Row],[2022 NAICS Title]]","v":"Barber Shops "}]
[{"$nulls":43},{"$f":"Select_naics2022[[#This Row],[2022 NAICS Code]]&\":  \"&Select_naics2022[[#This Row],[2022 NAICS Title]]","v":"812112:  Beauty Salons "},812112,"Beauty Salons ",{"$f":"Select_naics2022[[#This Row],[2022 NAICS Title]]","v":"Beauty Salons "}]
[{"$nulls":43},{"$f":"Select_naics2022[[#This Row],[2022 NAICS Code]]&\":  \"&Select_naics2022[[#This Row],[2022 NAICS Title]]","v":"812113:  Nail Salons "},812113,"Nail Salons ",{"$f":"Select_naics2022[[#This Row],[2022 NAICS Title]]","v":"Nail Salons "}]
[{"$nulls":43},{"$f":"Select_naics2022[[#This Row],[2022 NAICS Code]]&\":  \"&Select_naics2022[[#This Row],[2022 NAICS Title]]","v":"812191:  Diet and Weight Reducing Centers "},812191,"Diet and Weight Reducing Centers ",{"$f":"Select_naics2022[[#This Row],[2022 NAICS Title]]","v":"Diet and Weight Reducing Centers "}]
[{"$nulls":43},{"$f":"Select_naics2022[[#This Row],[2022 NAICS Code]]&\":  \"&Select_naics2022[[#This Row],[2022 NAICS Title]]","v":"812199:  Other Personal Care Services "},812199,"Other Personal Care Services ",{"$f":"Select_naics2022[[#This Row],[2022 NAICS Title]]","v":"Other Personal Care Services "}]
[{"$nulls":43},{"$f":"Select_naics2022[[#This Row],[2022 NAICS Code]]&\":  \"&Select_naics2022[[#This Row],[2022 NAICS Title]]","v":"812210:  Funeral Homes and Funeral Services "},812210,"Funeral Homes and Funeral Services ",{"$f":"Select_naics2022[[#This Row],[2022 NAICS Title]]","v":"Funeral Homes and Funeral Services "}]
[{"$nulls":43},{"$f":"Select_naics2022[[#This Row],[2022 NAICS Code]]&\":  \"&Select_naics2022[[#This Row],[2022 NAICS Title]]","v":"812220:  Cemeteries and Crematories "},812220,"Cemeteries and Crematories ",{"$f":"Select_naics2022[[#This Row],[2022 NAICS Title]]","v":"Cemeteries and Crematories "}]
[{"$nulls":43},{"$f":"Select_naics2022[[#This Row],[2022 NAICS Code]]&\":  \"&Select_naics2022[[#This Row],[2022 NAICS Title]]","v":"812310:  Coin-Operated Laundries and Drycleaners "},812310,"Coin-Operated Laundries and Drycleaners ",{"$f":"Select_naics2022[[#This Row],[2022 NAICS Title]]","v":"Coin-Operated Laundries and Drycleaners "}]
[{"$nulls":43},{"$f":"Select_naics2022[[#This Row],[2022 NAICS Code]]&\":  \"&Select_naics2022[[#This Row],[2022 NAICS Title]]","v":"812320:  Drycleaning and Laundry Services (except Coin-Operated) "},812320,"Drycleaning and Laundry Services (except Coin-Operated) ",{"$f":"Select_naics2022[[#This Row],[2022 NAICS Title]]","v":"Drycleaning and Laundry Services (except Coin-Operated) "}]
[{"$nulls":43},{"$f":"Select_naics2022[[#This Row],[2022 NAICS Code]]&\":  \"&Select_naics2022[[#This Row],[2022 NAICS Title]]","v":"812331:  Linen Supply "},812331,"Linen Supply ",{"$f":"Select_naics2022[[#This Row],[2022 NAICS Title]]","v":"Linen Supply "}]
[{"$nulls":43},{"$f":"Select_naics2022[[#This Row],[2022 NAICS Code]]&\":  \"&Select_naics2022[[#This Row],[2022 NAICS Title]]","v":"812332:  Industrial Launderers "},812332,"Industrial Launderers ",{"$f":"Select_naics2022[[#This Row],[2022 NAICS Title]]","v":"Industrial Launderers "}]
[{"$nulls":43},{"$f":"Select_naics2022[[#This Row],[2022 NAICS Code]]&\":  \"&Select_naics2022[[#This Row],[2022 NAICS Title]]","v":"812910:  Pet Care (except Veterinary) Services "},812910,"Pet Care (except Veterinary) Services ",{"$f":"Select_naics2022[[#This Row],[2022 NAICS Title]]","v":"Pet Care (except Veterinary) Services "}]
[{"$nulls":43},{"$f":"Select_naics2022[[#This Row],[2022 NAICS Code]]&\":  \"&Select_naics2022[[#This Row],[2022 NAICS Title]]","v":"812921:  Photofinishing Laboratories (except One-Hour) "},812921,"Photofinishing Laboratories (except One-Hour) ",{"$f":"Select_naics2022[[#This Row],[2022 NAICS Title]]","v":"Photofinishing Laboratories (except One-Hour) "}]
[{"$nulls":43},{"$f":"Select_naics2022[[#This Row],[2022 NAICS Code]]&\":  \"&Select_naics2022[[#This Row],[2022 NAICS Title]]","v":"812922:  One-Hour Photofinishing "},812922,"One-Hour Photofinishing ",{"$f":"Select_naics2022[[#This Row],[2022 NAICS Title]]","v":"One-Hour Photofinishing "}]
[{"$nulls":43},{"$f":"Select_naics2022[[#This Row],[2022 NAICS Code]]&\":  \"&Select_naics2022[[#This Row],[2022 NAICS Title]]","v":"812930:  Parking Lots and Garages "},812930,"Parking Lots and Garages ",{"$f":"Select_naics2022[[#This Row],[2022 NAICS Title]]","v":"Parking Lots and Garages "}]
[{"$nulls":43},{"$f":"Select_naics2022[[#This Row],[2022 NAICS Code]]&\":  \"&Select_naics2022[[#This Row],[2022 NAICS Title]]","v":"812990:  All Other Personal Services "},812990,"All Other Personal Services ",{"$f":"Select_naics2022[[#This Row],[2022 NAICS Title]]","v":"All Other Personal Services "}]
[{"$nulls":43},{"$f":"Select_naics2022[[#This Row],[2022 NAICS Code]]&\":  \"&Select_naics2022[[#This Row],[2022 NAICS Title]]","v":"813110:  Religious Organizations "},813110,"Religious Organizations ",{"$f":"Select_naics2022[[#This Row],[2022 NAICS Title]]","v":"Religious Organizations "}]
[{"$nulls":43},{"$f":"Select_naics2022[[#This Row],[2022 NAICS Code]]&\":  \"&Select_naics2022[[#This Row],[2022 NAICS Title]]","v":"813211:  Grantmaking Foundations "},813211,"Grantmaking Foundations ",{"$f":"Select_naics2022[[#This Row],[2022 NAICS Title]]","v":"Grantmaking Foundations "}]
[{"$nulls":43},{"$f":"Select_naics2022[[#This Row],[2022 NAICS Code]]&\":  \"&Select_naics2022[[#This Row],[2022 NAICS Title]]","v":"813212:  Voluntary Health Organizations "},813212,"Voluntary Health Organizations ",{"$f":"Select_naics2022[[#This Row],[2022 NAICS Title]]","v":"Voluntary Health Organizations "}]
[{"$nulls":43},{"$f":"Select_naics2022[[#This Row],[2022 NAICS Code]]&\":  \"&Select_naics2022[[#This Row],[2022 NAICS Title]]","v":"813219:  Other Grantmaking and Giving Services "},813219,"Other Grantmaking and Giving Services ",{"$f":"Select_naics2022[[#This Row],[2022 NAICS Title]]","v":"Other Grantmaking and Giving Services "}]
[{"$nulls":43},{"$f":"Select_naics2022[[#This Row],[2022 NAICS Code]]&\":  \"&Select_naics2022[[#This Row],[2022 NAICS Title]]","v":"813311:  Human Rights Organizations "},813311,"Human Rights Organizations ",{"$f":"Select_naics2022[[#This Row],[2022 NAICS Title]]","v":"Human Rights Organizations "}]
[{"$nulls":43},{"$f":"Select_naics2022[[#This Row],[2022 NAICS Code]]&\":  \"&Select_naics2022[[#This Row],[2022 NAICS Title]]","v":"813312:  Environment, Conservation and Wildlife Organizations "},813312,"Environment, Conservation and Wildlife Organizations ",{"$f":"Select_naics2022[[#This Row],[2022 NAICS Title]]","v":"Environment, Conservation and Wildlife Organizations "}]
[{"$nulls":43},{"$f":"Select_naics2022[[#This Row],[2022 NAICS Code]]&\":  \"&Select_naics2022[[#This Row],[2022 NAICS Title]]","v":"813319:  Other Social Advocacy Organizations "},813319,"Other Social Advocacy Organizations ",{"$f":"Select_naics2022[[#This Row],[2022 NAICS Title]]","v":"Other Social Advocacy Organizations "}]
[{"$nulls":43},{"$f":"Select_naics2022[[#This Row],[2022 NAICS Code]]&\":  \"&Select_naics2022[[#This Row],[2022 NAICS Title]]","v":"813410:  Civic and Social Organizations "},813410,"Civic and Social Organizations ",{"$f":"Select_naics2022[[#This Row],[2022 NAICS Title]]","v":"Civic and Social Organizations "}]
[{"$nulls":43},{"$f":"Select_naics2022[[#This Row],[2022 NAICS Code]]&\":  \"&Select_naics2022[[#This Row],[2022 NAICS Title]]","v":"813910:  Business Associations "},813910,"Business Associations ",{"$f":"Select_naics2022[[#This Row],[2022 NAICS Title]]","v":"Business Associations "}]
[{"$nulls":43},{"$f":"Select_naics2022[[#This Row],[2022 NAICS Code]]&\":  \"&Select_naics2022[[#This Row],[2022 NAICS Title]]","v":"813920:  Professional Organizations "},813920,"Professional Organizations ",{"$f":"Select_naics2022[[#This Row],[2022 NAICS Title]]","v":"Professional Organizations "}]
[{"$nulls":43},{"$f":"Select_naics2022[[#This Row],[2022 NAICS Code]]&\":  \"&Select_naics2022[[#This Row],[2022 NAICS Title]]","v":"813930:  Labor Unions and Similar Labor Organizations "},813930,"Labor Unions and Similar Labor Organizations ",{"$f":"Select_naics2022[[#This Row],[2022 NAICS Title]]","v":"Labor Unions and Similar Labor Organizations "}]
[{"$nulls":43},{"$f":"Select_naics2022[[#This Row],[2022 NAICS Code]]&\":  \"&Select_naics2022[[#This Row],[2022 NAICS Title]]","v":"813940:  Political Organizations "},813940,"Political Organizations ",{"$f":"Select_naics2022[[#This Row],[2022 NAICS Title]]","v":"Political Organizations "}]
[{"$nulls":43},{"$f":"Select_naics2022[[#This Row],[2022 NAICS Code]]&\":  \"&Select_naics2022[[#This Row],[2022 NAICS Title]]","v":"813990:  Other Similar Organizations (except Business, Professional, Labor, and Political Organizations) "},813990,"Other Similar Organizations (except Business, Professional, Labor, and Political Organizations) ",{"$f":"Select_naics2022[[#This Row],[2022 NAICS Title]]","v":"Other Similar Organizations (except Business, Professional, Labor, and Political Organizations) "}]
[{"$nulls":43},{"$f":"Select_naics2022[[#This Row],[2022 NAICS Code]]&\":  \"&Select_naics2022[[#This Row],[2022 NAICS Title]]","v":"814110:  Private Households"},814110,"Private Households",{"$f":"Select_naics2022[[#This Row],[2022 NAICS Title]]","v":"Private Households"}]
[{"$nulls":43},{"$f":"Select_naics2022[[#This Row],[2022 NAICS Code]]&\":  \"&Select_naics2022[[#This Row],[2022 NAICS Title]]","v":"921110:  Executive Offices "},921110,"Executive Offices ",{"$f":"Select_naics2022[[#This Row],[2022 NAICS Title]]","v":"Executive Offices "}]
[{"$nulls":43},{"$f":"Select_naics2022[[#This Row],[2022 NAICS Code]]&\":  \"&Select_naics2022[[#This Row],[2022 NAICS Title]]","v":"921120:  Legislative Bodies "},921120,"Legislative Bodies ",{"$f":"Select_naics2022[[#This Row],[2022 NAICS Title]]","v":"Legislative Bodies "}]
[{"$nulls":43},{"$f":"Select_naics2022[[#This Row],[2022 NAICS Code]]&\":  \"&Select_naics2022[[#This Row],[2022 NAICS Title]]","v":"921130:  Public Finance Activities "},921130,"Public Finance Activities ",{"$f":"Select_naics2022[[#This Row],[2022 NAICS Title]]","v":"Public Finance Activities "}]
[{"$nulls":43},{"$f":"Select_naics2022[[#This Row],[2022 NAICS Code]]&\":  \"&Select_naics2022[[#This Row],[2022 NAICS Title]]","v":"921140:  Executive and Legislative Offices, Combined "},921140,"Executive and Legislative Offices, Combined ",{"$f":"Select_naics2022[[#This Row],[2022 NAICS Title]]","v":"Executive and Legislative Offices, Combined "}]
[{"$nulls":43},{"$f":"Select_naics2022[[#This Row],[2022 NAICS Code]]&\":  \"&Select_naics2022[[#This Row],[2022 NAICS Title]]","v":"921150:  American Indian and Alaska Native Tribal Governments "},921150,"American Indian and Alaska Native Tribal Governments ",{"$f":"Select_naics2022[[#This Row],[2022 NAICS Title]]","v":"American Indian and Alaska Native Tribal Governments "}]
[{"$nulls":43},{"$f":"Select_naics2022[[#This Row],[2022 NAICS Code]]&\":  \"&Select_naics2022[[#This Row],[2022 NAICS Title]]","v":"921190:  Other General Government Support "},921190,"Other General Government Support ",{"$f":"Select_naics2022[[#This Row],[2022 NAICS Title]]","v":"Other General Government Support "}]
[{"$nulls":43},{"$f":"Select_naics2022[[#This Row],[2022 NAICS Code]]&\":  \"&Select_naics2022[[#This Row],[2022 NAICS Title]]","v":"922110:  Courts "},922110,"Courts ",{"$f":"Select_naics2022[[#This Row],[2022 NAICS Title]]","v":"Courts "}]
[{"$nulls":43},{"$f":"Select_naics2022[[#This Row],[2022 NAICS Code]]&\":  \"&Select_naics2022[[#This Row],[2022 NAICS Title]]","v":"922120:  Police Protection "},922120,"Police Protection ",{"$f":"Select_naics2022[[#This Row],[2022 NAICS Title]]","v":"Police Protection "}]
[{"$nulls":43},{"$f":"Select_naics2022[[#This Row],[2022 NAICS Code]]&\":  \"&Select_naics2022[[#This Row],[2022 NAICS Title]]","v":"922130:  Legal Counsel and Prosecution "},922130,"Legal Counsel and Prosecution ",{"$f":"Select_naics2022[[#This Row],[2022 NAICS Title]]","v":"Legal Counsel and Prosecution "}]
[{"$nulls":43},{"$f":"Select_naics2022[[#This Row],[2022 NAICS Code]]&\":  \"&Select_naics2022[[#This Row],[2022 NAICS Title]]","v":"922140:  Correctional Institutions "},922140,"Correctional Institutions ",{"$f":"Select_naics2022[[#This Row],[2022 NAICS Title]]","v":"Correctional Institutions "}]
[{"$nulls":43},{"$f":"Select_naics2022[[#This Row],[2022 NAICS Code]]&\":  \"&Select_naics2022[[#This Row],[2022 NAICS Title]]","v":"922150:  Parole Offices and Probation Offices "},922150,"Parole Offices and Probation Offices ",{"$f":"Select_naics2022[[#This Row],[2022 NAICS Title]]","v":"Parole Offices and Probation Offices "}]
[{"$nulls":43},{"$f":"Select_naics2022[[#This Row],[2022 NAICS Code]]&\":  \"&Select_naics2022[[#This Row],[2022 NAICS Title]]","v":"922160:  Fire Protection "},922160,"Fire Protection ",{"$f":"Select_naics2022[[#This Row],[2022 NAICS Title]]","v":"Fire Protection "}]
[{"$nulls":43},{"$f":"Select_naics2022[[#This Row],[2022 NAICS Code]]&\":  \"&Select_naics2022[[#This Row],[2022 NAICS Title]]","v":"922190:  Other Justice, Public Order, and Safety Activities "},922190,"Other Justice, Public Order, and Safety Activities ",{"$f":"Select_naics2022[[#This Row],[2022 NAICS Title]]","v":"Other Justice, Public Order, and Safety Activities "}]
[{"$nulls":43},{"$f":"Select_naics2022[[#This Row],[2022 NAICS Code]]&\":  \"&Select_naics2022[[#This Row],[2022 NAICS Title]]","v":"923110:  Administration of Education Programs "},923110,"Administration of Education Programs ",{"$f":"Select_naics2022[[#This Row],[2022 NAICS Title]]","v":"Administration of Education Programs "}]
[{"$nulls":43},{"$f":"Select_naics2022[[#This Row],[2022 NAICS Code]]&\":  \"&Select_naics2022[[#This Row],[2022 NAICS Title]]","v":"923120:  Administration of Public Health Programs "},923120,"Administration of Public Health Programs ",{"$f":"Select_naics2022[[#This Row],[2022 NAICS Title]]","v":"Administration of Public Health Programs "}]
[{"$nulls":43},{"$f":"Select_naics2022[[#This Row],[2022 NAICS Code]]&\":  \"&Select_naics2022[[#This Row],[2022 NAICS Title]]","v":"923130:  Administration of Human Resource Programs (except Education, Public Health, and Veterans' Affairs Programs) "},923130,"Administration of Human Resource Programs (except Education, Public Health, and Veterans' Affairs Programs) ",{"$f":"Select_naics2022[[#This Row],[2022 NAICS Title]]","v":"Administration of Human Resource Programs (except Education, Public Health, and Veterans' Affairs Programs) "}]
[{"$nulls":43},{"$f":"Select_naics2022[[#This Row],[2022 NAICS Code]]&\":  \"&Select_naics2022[[#This Row],[2022 NAICS Title]]","v":"923140:  Administration of Veterans' Affairs "},923140,"Administration of Veterans' Affairs ",{"$f":"Select_naics2022[[#This Row],[2022 NAICS Title]]","v":"Administration of Veterans' Affairs "}]
[{"$nulls":43},{"$f":"Select_naics2022[[#This Row],[2022 NAICS Code]]&\":  \"&Select_naics2022[[#This Row],[2022 NAICS Title]]","v":"924110:  Administration of Air and Water Resource and Solid Waste Management Programs "},924110,"Administration of Air and Water Resource and Solid Waste Management Programs ",{"$f":"Select_naics2022[[#This Row],[2022 NAICS Title]]","v":"Administration of Air and Water Resource and Solid Waste Management Programs "}]
[{"$nulls":43},{"$f":"Select_naics2022[[#This Row],[2022 NAICS Code]]&\":  \"&Select_naics2022[[#This Row],[2022 NAICS Title]]","v":"924120:  Administration of Conservation Programs "},924120,"Administration of Conservation Programs ",{"$f":"Select_naics2022[[#This Row],[2022 NAICS Title]]","v":"Administration of Conservation Programs "}]
[{"$nulls":43},{"$f":"Select_naics2022[[#This Row],[2022 NAICS Code]]&\":  \"&Select_naics2022[[#This Row],[2022 NAICS Title]]","v":"925110:  Administration of Housing Programs "},925110,"Administration of Housing Programs ",{"$f":"Select_naics2022[[#This Row],[2022 NAICS Title]]","v":"Administration of Housing Programs "}]
[{"$nulls":43},{"$f":"Select_naics2022[[#This Row],[2022 NAICS Code]]&\":  \"&Select_naics2022[[#This Row],[2022 NAICS Title]]","v":"925120:  Administration of Urban Planning and Community and Rural Development "},925120,"Administration of Urban Planning and Community and Rural Development ",{"$f":"Select_naics2022[[#This Row],[2022 NAICS Title]]","v":"Administration of Urban Planning and Community and Rural Development "}]
[{"$nulls":43},{"$f":"Select_naics2022[[#This Row],[2022 NAICS Code]]&\":  \"&Select_naics2022[[#This Row],[2022 NAICS Title]]","v":"926110:  Administration of General Economic Programs "},926110,"Administration of General Economic Programs ",{"$f":"Select_naics2022[[#This Row],[2022 NAICS Title]]","v":"Administration of General Economic Programs "}]
[{"$nulls":43},{"$f":"Select_naics2022[[#This Row],[2022 NAICS Code]]&\":  \"&Select_naics2022[[#This Row],[2022 NAICS Title]]","v":"926120:  Regulation and Administration of Transportation Programs "},926120,"Regulation and Administration of Transportation Programs ",{"$f":"Select_naics2022[[#This Row],[2022 NAICS Title]]","v":"Regulation and Administration of Transportation Programs "}]
[{"$nulls":43},{"$f":"Select_naics2022[[#This Row],[2022 NAICS Code]]&\":  \"&Select_naics2022[[#This Row],[2022 NAICS Title]]","v":"926130:  Regulation and Administration of Communications, Electric, Gas, and Other Utilities "},926130,"Regulation and Administration of Communications, Electric, Gas, and Other Utilities ",{"$f":"Select_naics2022[[#This Row],[2022 NAICS Title]]","v":"Regulation and Administration of Communications, Electric, Gas, and Other Utilities "}]
[{"$nulls":43},{"$f":"Select_naics2022[[#This Row],[2022 NAICS Code]]&\":  \"&Select_naics2022[[#This Row],[2022 NAICS Title]]","v":"926140:  Regulation of Agricultural Marketing and Commodities "},926140,"Regulation of Agricultural Marketing and Commodities ",{"$f":"Select_naics2022[[#This Row],[2022 NAICS Title]]","v":"Regulation of Agricultural Marketing and Commodities "}]
[{"$nulls":43},{"$f":"Select_naics2022[[#This Row],[2022 NAICS Code]]&\":  \"&Select_naics2022[[#This Row],[2022 NAICS Title]]","v":"926150:  Regulation, Licensing, and Inspection of Miscellaneous Commercial Sectors "},926150,"Regulation, Licensing, and Inspection of Miscellaneous Commercial Sectors ",{"$f":"Select_naics2022[[#This Row],[2022 NAICS Title]]","v":"Regulation, Licensing, and Inspection of Miscellaneous Commercial Sectors "}]
[{"$nulls":43},{"$f":"Select_naics2022[[#This Row],[2022 NAICS Code]]&\":  \"&Select_naics2022[[#This Row],[2022 NAICS Title]]","v":"927110:  Space Research and Technology "},927110,"Space Research and Technology ",{"$f":"Select_naics2022[[#This Row],[2022 NAICS Title]]","v":"Space Research and Technology "}]
[{"$nulls":43},{"$f":"Select_naics2022[[#This Row],[2022 NAICS Code]]&\":  \"&Select_naics2022[[#This Row],[2022 NAICS Title]]","v":"928110:  National Security "},928110,"National Security ",{"$f":"Select_naics2022[[#This Row],[2022 NAICS Title]]","v":"National Security "}]
[{"$nulls":43},{"$f":"Select_naics2022[[#This Row],[2022 NAICS Code]]&\":  \"&Select_naics2022[[#This Row],[2022 NAICS Title]]","v":"928120:  International Affairs "},928120,"International Affairs ",{"$f":"Select_naics2022[[#This Row],[2022 NAICS Title]]","v":"International Affairs "}]

{"sheet":"TOC","index":2,"n_rows":35,"n_cols":7,"rows_kept":35,"merged":[[33,1,33,3],[34,1,34,3],[35,1,35,3]]}
["Table of Contents"]
[null,"\"Ctrl-t\" will take you back to this table of contents."]
[null,"Form Section","Form / Page Order","Recommended Entry Order","Accrual/Reinvestor SBIC ONLY","Leveraged Licensees Only","Tab Name"]
[null,"Cover",1,1,null,null,"1-Cover"]
[null,"Balance Sheet",2,14,null,null,"2&3-Bal"]
[null,"Statement of Operations / Income Statement",3,15,null,null,"4-NI"]
[null,"Cash Flow Statement",4,16,null,null,"5&6-CF"]
[null,"Statement of Partners' Capital ",5,12,null,null,"7-Pcap"]
[null,"READ & Regulatory & Leverageable Capital ",6,13,null,"X","8-READ_Cap"]
[null,"Schedule 1:  Schedule of Loans and Investments",7,3,null,null,"S1Inv"]
[null,"Schedule 1 A & B: Summary of Loans and Investments and Smaller Enterprise Financings",8,5,null,null,"S1AB"]
[null,"Schedule 1 C:  Schedule of Additions and Deductions to Loan and Investment Cost",9,4,null,null,"S1C"]
[null,"Schedule 2:  Schedule of Realized Gains and Losses on Loans and Investments",10,6,null,null,"S2RG"]
[null,"Schedule 3:  Schedule of Non-cash Gains/Income",11,7,null,null,"S3NC"]
[null,"Schedule 4:  Schedule of Delinquent Loans and Investments",12,8,null,null,"S4Del"]
[null,"Schedule 5:  Schedule of Commitments",13,9,null,null,"S5Commit"]
[null,"Schedule 6:  Schedule of Guarantees",14,10,null,null,"S6Guar"]
[null,"Schedule 7:  Schedule of Cash and Invested Idle Funds",15,11,null,"X","S7Cash"]
[null,"Schedule 8:  Accrual and Reinvestor SBIC Distribution Schedule (Note 1)",16,17,"X",null,"S8Dist"]
[null,"Schedule 9:  Schedule of Activity",17,18,null,null,"S9Activity"]
[null,"Certifications",18,22,null,null,"Certifications"]
[null,"Schedule 10:  SBIC Licensee Customer Relationship Management Information",19,19,null,null,"S10crm"]
[null,"Schedule 11:  SBIC Cumulative Performance",20,2,null,null,"S11cumperf"]
[null,"Schedule 12:  Portfolio Company Updates",21,21,null,null,"S12pc"]
[null,"Executive Summary ",22,20,null,null,"ExecSum"]
[null,"Wind-Down Plan Supplement (Note 2)",23,23,null,null,"WDSup"]
[null,"Wind-Down Plan Supplement Schedule A (Note 2)",24,24,null,null,"WDSupA"]
[null,"Wind-Down Plan Supplement Schedule B (Note 2)",25,25,null,null,"WDSupB"]
[null,"Private Capital Supplement (Separate file)",26,26,null,null,"*Separate file"]
[null,"Key SBA Leverage Metrics ","n/a","n/a",null,"X","KeyMetrics"]
[null,"NAICS Search Tool","n/a","n/a",null,null,"NAICS Search"]
[]
[null,"Notes"]
[null,"1. Schedule 8 is only required for Accrual and Reinvestor SBICs.  It should be completed as distributions are made and checked against statement of partners' capital."]
[null,"2.  Wind-Down Plans are only required for SBICs that are in Wind-Down, per 13 CFR 107.590."]

{"sheet":"1-Cover","index":3,"n_rows":43,"n_cols":7,"rows_kept":43,"merged":[[5,2,5,4],[9,2,10,4],[12,2,12,4],[13,3,13,4],[15,2,15,3],[23,2,23,4],[25,2,25,4],[31,2,31,4],[32,2,32,6],[36,0,39,6]]}
[{"$nulls":3},"Quarterly Report",null,null,"OMB Approval No. 3245-0063"]
[{"$nulls":3},"SBA FORM 468 (SHORT)",null,null,"Expiration Date MM/DD/YYYY"]
[{"$nulls":3},"Partnership SBICs"]
[]
[]
[null,"Name of Licensee:"]
[]
[null,"License Number:"]
[]
[null,"Street Address:"]
[]
[]
[null,"City:"]
[null,"State:",null,{"$f":"VLOOKUP(C14,Select_state[#Data],2,FALSE)","v":{"$error":"#N/A"}}]
[null,"Zip Code:"]
[null,"County:"]
[]
[null,"Licensee Employer ID Number:"]
[]
[null,"For the Reporting Period Ended:"]
[]
[null,"Number of Months:"]
[]
[null,"Ownership:","Other"]
[]
[null,"Approved Valuation Guidance","SBA Valuation Guidelines"]
[]
[null,"Vintage Year:"]
[]
[null,"Fund Style"]
[]
[null,"Investment Strategy"]
[null,"Other Style or Strategy Description"]
[]
[null,"Has SBA Approved Wind-Down Plan?","N"]
[]
["Please Note: The estimated burden for completing this form is 35 hours per response if a wind-up plan is required and 25 hours per response if a wind-up plan is not required. You will not be required to respond to this information collection if a valid OMB approval number is not displayed. If you have questions or comments concerning this estimate or other aspects of this information collection, please contact the U.S. Small Business Administration, Chief Administrative Information Branch, Washington, D.C. 20416 and/or SBA Desk Officer, Office of Management and Budget, New Executive Office Building, Room 10202, Washington, D.C. 20503. PLEASE DO NOT SEND FORMS TO OMB"]
[]
[]
[]
[]
[]
[null,"Select \"X\" if you have selected Corporate SBIC and would like differences from partnership highlighted in blue font."]

{"sheet":"2&3-Bal","index":4,"n_rows":117,"n_cols":27,"rows_kept":117,"merged":[[5,5,5,7],[5,9,5,11],[49,1,49,3],[50,1,50,3],[56,1,56,3],[57,1,57,3],[64,5,64,7],[64,9,64,11],[81,1,81,3],[82,1,82,3],[88,1,88,3],[99,1,99,3]]}
[null,null,"STATEMENT OF FINANCIAL POSITION",{"$nulls":4},{"$f":"'1-Cover'!$G$1","v":"OMB Approval No. 3245-0063"},{"$nulls":3},{"$f":"'1-Cover'!$G$1","v":"OMB Approval No. 3245-0063"}]
[null,null,{"$f":"\"FOR \"&Number_of_Months&\" MONTH PERIOD ENDED: \"&TEXT(Form468Date,\"MM/DD/YYYY\")","v":"FOR  MONTH PERIOD ENDED: 01/00/1900"},{"$nulls":4},{"$f":"'1-Cover'!$G$2","v":"Expiration Date MM/DD/YYYY"},{"$nulls":3},{"$f":"'1-Cover'!$G$2","v":"Expiration Date MM/DD/YYYY"}]
[null,null,"(Amounts rounded to the nearest dollar)"]
[{"$f":"\"Name of License:  \"&sbicname","v":"Name of License:  "},{"$f":"sbicname","v":0},{"$nulls":5},{"$f":"\"License no.:  \"&TEXT(licenseno,\"00\\/00\\-0000\")","v":"License no.:  00/00-0000"},{"$nulls":3},{"$f":"\"License no.:  \"&TEXT(licenseno,\"00\\/00\\-0000\")","v":"License no.:  00/00-0000"}]
[]
[{"$nulls":5},{"$f":"ApprovedValuation","v":"SBA Valuation Guidelines"},{"$nulls":3},"GAAP Value (if needed)"]
["ASSETS",{"$nulls":4},"Current Period End",null,"Prior Year End Audited",null,"Current Period End",null,"Prior Year End Audited"]
["LOANS AND INVESTMENTS (Current Period from Schedule 1)",{"$nulls":4},{"$f":"Form468Date","v":"00:00:00"},{"$nulls":3},{"$f":"Form468Date","v":"00:00:00"},null,{"$f":"PYEnd","v":"00:00:00"}]
["Portfolio Securities "]
["1 Loans Cost",{"$nulls":3},"*",{"$f":"S1Inv!$R$9","v":0},null,{"$f":"S1Inv!$N$9","v":0},null,{"$f":"F10","v":0},null,{"$f":"H10","v":0}]
["2 Debt Securities Cost",{"$nulls":3},"*",{"$f":"S1Inv!$R$10","v":0},null,{"$f":"S1Inv!$N$10","v":0},null,{"$f":"F11","v":0},null,{"$f":"H11","v":0}]
["3 Equity Securities Cost",{"$nulls":3},"*",{"$f":"S1Inv!$R$11","v":0},null,{"$f":"S1Inv!$N$11","v":0},null,{"$f":"F12","v":0},null,{"$f":"H12","v":0}]
["4a Portfolio Securities at Cost",{"$nulls":3},"*",{"$f":"F12+F11+F10","v":0},null,{"$f":"H12+H11+H10","v":0},null,{"$f":"F13","v":0},null,{"$f":"H13","v":0}]
["4b Appreciation on Portfolio Securities",{"$nulls":3},"*",{"$f":"S1Inv!$S$12","v":0},null,0,null,{"$f":"J16-J13+ABS(J15)","v":0},null,0]
["4c Depreciation on Portfolio Securities",{"$nulls":3},"*",{"$f":"S1Inv!$T$12","v":0},{"$nulls":3},{"$f":"F15","v":0},null,0]
["4d Total Portfolio Securities at Value",{"$nulls":4},{"$f":"F13+F14-ABS(F15)","v":0},null,{"$f":"H13+H14-ABS(H15)","v":0},null,{"$f":"S1Inv!Y12","v":0},null,{"$f":"L13+L14-ABS(L15)","v":0}]
[]
["Assets Acquired in Liquidation of Portfolio Securities:"]
["5 Receivables from Sale of Assets Acquired Cost",{"$nulls":3},"*",{"$f":"S1Inv!$R$13","v":0},null,{"$f":"S1Inv!$N13","v":0},null,{"$f":"F19","v":0},null,{"$f":"H19","v":0}]
["6 Assets Acquired Cost",{"$nulls":3},"*",{"$f":"S1Inv!$R$14","v":0},null,{"$f":"S1Inv!$N14","v":0},null,0,null,0]
["7 Operating Concerns Acquired Cost",{"$nulls":3},"*",{"$f":"S1Inv!$R$15","v":0},null,{"$f":"S1Inv!$N15","v":0},null,0,null,0]
["8 Notes and Other Securities Received Cost",{"$nulls":3},"*",{"$f":"S1Inv!$R$16","v":0},null,{"$f":"S1Inv!$N16","v":0},null,0,null,0]
["9a Total Assets Acquired and Notes Received Cost (Lines 5-8)",{"$nulls":3},"*",{"$f":"SUM(F19:F22)","v":0},null,{"$f":"SUM(H19:H22)","v":0},null,{"$f":"F23","v":0},null,{"$f":"H23","v":0}]
["9b Appreciation on Assets Acquired and Notes Received",{"$nulls":3},"*",{"$f":"SUM(S1Inv!$S$13:$S$16)","v":0},null,0,null,{"$f":"J26-J23+ABS(J25)","v":0}]
["9c Depreciation on Assets Acquired and Notes Received",{"$nulls":3},"*",{"$f":"SUM(S1Inv!$T$13:$T$16)","v":0},null,0]
["9d Assets acquired and Notes Received Reported Value",{"$nulls":4},{"$f":"F23+F24-ABS(F25)","v":0},null,{"$f":"H23+H24-ABS(H25)","v":0},null,{"$f":"SUM(S1Inv!Y13:Y16)","v":0},null,{"$f":"L23+L24-ABS(L25)","v":0}]
[]
["10 Equity Investments in Relender/Reinvestors Exception"]
["a.  Total Cost of Relender/Reinvestor  Investments",{"$nulls":3},"*",{"$f":"S1Inv!R17","v":0},null,{"$f":"S1Inv!N17","v":0},null,{"$f":"F29","v":0},null,{"$f":"H29","v":0}]
["b.  Appreciation on Relender/Reinvestor Investments",{"$nulls":3},"*",{"$f":"S1Inv!S17","v":0},null,0,null,0]
["c.  Depreciation on Relender/Reinvestor Equity Investments",{"$nulls":3},"*",{"$f":"S1Inv!T17","v":0},null,0,null,0]
["d. Total Relender/Reinvestor Investments Value",{"$nulls":4},{"$f":"S1Inv!X17","v":0},null,{"$f":"H29+H30-ABS(H31)","v":0},null,{"$f":"S1Inv!Y17","v":0},null,{"$f":"L29+L30-ABS(L31)","v":0}]
[]
["11a TOTAL LOANS AND INVESTMENTS COST (Line 4a + Line 9a + Line 10a)",{"$nulls":4},{"$f":"F23+F13+F29","v":0},null,{"$f":"H23+H13+H29","v":0},null,{"$f":"J23+J13+J29","v":0},null,{"$f":"L23+L13+L29","v":0}]
["11b TOTAL LOANS AND INVESTMENTS  VALUE (Line 4d + Line 9d + Line 10d)",{"$nulls":4},{"$f":"F26+F16+F32","v":0},null,{"$f":"H26+H16+H32","v":0},null,{"$f":"J26+J16+J32","v":0},null,{"$f":"L26+L16+L32","v":0}]
["12 Less Current Maturities ",{"$nulls":4},{"$f":"SUM(F46:F49)","v":0},null,{"$f":"SUM(H46:H49)","v":0},null,{"$f":"SUM(J46:J49)","v":0},null,{"$f":"SUM(L46:L49)","v":0}]
["13 Loans and Investments Net of Current Maturities",{"$nulls":4},{"$f":"F35-ABS(F36)","v":0},null,{"$f":"H35-ABS(H36)","v":0},null,{"$f":"J35-ABS(J36)","v":0},null,{"$f":"L35-ABS(L36)","v":0}]
[]
["CURRENT ASSETS"]
["14 Cash and Cash Equivalents",{"$nulls":3},"*",0,null,0,null,{"$f":"F40","v":0},null,{"$f":"H40","v":0}]
["15 Invested Idle Funds",{"$nulls":3},"*",0,null,0,null,0,null,0]
["16 Interest and Dividends Receivable ",{"$nulls":4},0,null,0,null,0,null,0]
["17 Notes and Accounts Receivable",{"$nulls":4},0,null,0,null,0,null,0]
["18 Receivables from Parent or Other Associates",{"$nulls":4},0,null,0,null,0,null,0]
["19 Less: Allowance for Losses (lines 16, 17, and 18)",{"$nulls":4},0,null,0,null,0,null,0]
["20 Current Maturities of Portfolio Securities",{"$nulls":4},0,null,0,null,0,null,0]
["21 Current Maturities of Assets Acquired",{"$nulls":4},0,null,0,null,0,null,0]
["22 Current Maturities of Operating Concerns Acquired",{"$nulls":4},0,null,0,null,0,null,0]
["23 Current Maturities of Other Securities ",{"$nulls":4},0,null,0,null,0,null,0]
["24a Other (specify)",{"$nulls":4},0,null,0,null,0,null,0]
["24b Other (specify)",{"$nulls":4},0,null,0,null,0,null,0]
["25 Total Current Assets",{"$nulls":4},{"$f":"SUM(F40:F44)-ABS(F45)+SUM(F46:F51)","v":0},null,{"$f":"SUM(H40:H44)-ABS(H45)+SUM(H46:H51)","v":0},null,{"$f":"F52","v":0},{"$f":"H52","v":0},{"$f":"pycurrentassets","v":0}]
[]
["OTHER ASSET"]
["26 Net Furniture and Equipment ",{"$nulls":4},0,null,0]
["27 Net Leverage Fees ",{"$nulls":4},0,null,0]
["28a Other (specify) ",{"$nulls":4},0,null,0]
["28b Other (specify) ",{"$nulls":4},0,null,0]
["29 Total Other Assets (Sum of lines 26 through 28b)",{"$nulls":4},{"$f":"SUM(F55:F58)","v":0},null,{"$f":"SUM(H55:H58)","v":0},null,{"$f":"F59","v":0},null,{"$f":"H59","v":0}]
[]
["30 TOTAL ASSETS",{"$nulls":4},{"$f":"F59+F52+F37","v":0},null,{"$f":"H59+H52+H37","v":0},null,{"$f":"J59+J52+J37","v":0},null,{"$f":"L59+L52+L37","v":0}]
[]
[]
[]
["LIABILITIES AND CAPITAL",{"$nulls":4},{"$f":"ApprovedValuation","v":"SBA Valuation Guidelines"},{"$nulls":3},"GAAP Value (if needed)"]
[{"$nulls":5},"Current Period End",null,"Prior Year End Audited",null,"Current Period End",null,"Prior Year End Audited"]
["LIABILITIES",{"$nulls":4},{"$f":"Form468Date","v":"00:00:00"},null,{"$f":"IF(PYEnd=\"\",\"\",PYEnd)","v":""},null,{"$f":"Form468Date","v":"00:00:00"},null,{"$f":"PYEnd","v":"00:00:00"}]
["Long-Term Debt"]
["31 Notes and Debentures payable to or guaranteed by SBA. ",{"$nulls":4},0,null,0]
["32 Notes and Debentures Payable to Others ",{"$nulls":4},0,null,0]
["33 Total Long Term Liabilities (Line 31 + Line 32)",{"$nulls":4},{"$f":"F70+F69","v":0},null,{"$f":"H70+H69","v":0},null,{"$f":"F71","v":0},null,{"$f":"H71","v":0}]
[]
["Current Liabilities"]
["34 Accounts Payable ",{"$nulls":4},0,null,0,null,{"$f":"F74","v":0},null,{"$f":"H74","v":0}]
["35 Due to Parent or Other Associates"]
["a. Management Expenses Due to Associates ",{"$nulls":4},0,null,0,null,{"$f":"F76","v":0},null,{"$f":"H76","v":0}]
["b. Other Due to Associates",{"$nulls":4},0,null,0,null,0,null,0]
["36 Accrued Interest Payable ",{"$nulls":4},0,null,0,null,0,null,0]
["37 Accrued Taxes Payable",{"$nulls":4},0,null,0,null,0,null,0]
["38 Distributions Payable ",{"$nulls":4},0,null,0,null,0,null,0]
["39 Short-term notes Payable/Lines of Credit",{"$nulls":4},0,null,0,null,0,null,0]
["40a Other (specify) ",{"$nulls":4},0,null,0,null,0,null,0]
["40b Other (specify) ",{"$nulls":4},0,null,0,null,0,null,0]
["41 Total Current Liabilities (Sum of Lines 35 through 40)",{"$nulls":4},{"$f":"SUM(F74:F83)","v":0},null,{"$f":"SUM(H74:H83)","v":0},null,{"$f":"F84","v":0},null,{"$f":"H84","v":0}]
[]
["Other Liabilities"]
["42 Deferred Credits ",{"$nulls":4},0,null,0,null,{"$f":"F87","v":0},null,{"$f":"H87","v":0}]
["43 Deferred Fee Income ",{"$nulls":4},0,null,0,null,0,null,0]
["44 Other (specify) ",{"$nulls":4},0,null,0,null,0,null,0]
["45 Total Other Liabilities",{"$nulls":4},{"$f":"SUM(F87:F89)","v":0},null,{"$f":"SUM(H87:H89)","v":0},null,{"$f":"F90","v":0},null,{"$f":"H90","v":0}]
[]
["46 TOTAL LIABILITIES (Lines 33, 41, and 45)",{"$nulls":4},{"$f":"F90+F84+F71","v":0},null,{"$f":"H90+H84+H71","v":0},null,{"$f":"F92","v":0},null,{"$f":"H92","v":0}]
[]
[{"$f":"VLOOKUP(AA94,FormTypeLabels[],2,FALSE)","v":"PARTNERS' CAPITAL"},{"$nulls":25},"Bal_Cap_1"]
[{"$f":"VLOOKUP(AA95,FormTypeLabels[],2,FALSE)","v":"47 Private Partners' Contributed Capital"},{"$nulls":25},"Bal_Cap_2"]
[{"$f":"VLOOKUP(AA96,FormTypeLabels[],2,FALSE)","v":"a. General Partners'"},{"$nulls":3},"*",{"$f":"'7-PCap'!H28","v":0},null,0,null,{"$f":"F96","v":0},null,{"$f":"H96","v":0},{"$nulls":14},"Bal_Cap_3"]
[{"$f":"VLOOKUP(AA97,FormTypeLabels[],2,FALSE)","v":"b. Limited Partners'"},{"$nulls":3},"*",{"$f":"'7-PCap'!J28","v":0},null,0,null,0,null,0,{"$nulls":14},"Bal_Cap_4"]
[{"$f":"VLOOKUP(AA98,FormTypeLabels[],2,FALSE)","v":""},{"$nulls":25},"Bal_Cap_5"]
[{"$f":"VLOOKUP(AA99,FormTypeLabels[],2,FALSE)","v":"c. Total Private Partners' Contributed Capital"},{"$nulls":4},{"$f":"SUM(F96:F98)","v":0},null,{"$f":"SUM(H96:H98)","v":0},null,{"$f":"F99","v":0},null,{"$f":"H99","v":0},{"$nulls":14},"Bal_Cap_6"]
["48 Other (specify)",{"$nulls":4},0,null,0,null,{"$f":"F100","v":0},null,{"$f":"H100","v":0}]
["49 Unrealized Gains (Loss) on Securities Held (Sum of Lines 4b, 4c, 9b, 9c, 10b, 10c)",{"$nulls":4},{"$f":"F14-ABS(F15)+F24-ABS(F25)","v":0},null,{"$f":"H14-ABS(H15)+H24-ABS(H25)","v":0},null,{"$f":"J14-ABS(J15)+J24-ABS(J25)","v":0},null,{"$f":"L14-ABS(L15)+L24-ABS(L25)","v":0}]
["50 Non-Cash Gains/Income (Schedule 3, Column G and D)",{"$nulls":3},"*",{"$f":"S3NC!$G$7","v":0},null,{"$f":"S3NC!D7","v":0},null,{"$f":"F102","v":0},null,{"$f":"H102","v":0}]
[{"$f":"VLOOKUP(AA103,FormTypeLabels[],2,FALSE)","v":"51 Undistributed Net Realized Earnings "},{"$nulls":3},"*",{"$f":"UNRE","v":0},null,0,null,{"$f":"F103","v":0},null,{"$f":"H103","v":0},{"$nulls":14},"Bal_UNRE_1"]
[{"$f":"VLOOKUP(AA104,FormTypeLabels[],2,FALSE)","v":""},{"$nulls":25},"Bal_UNRE_2"]
[{"$f":"VLOOKUP(AA105,FormTypeLabels[],2,FALSE)","v":""},{"$nulls":25},"Bal_UNRE_3"]
[{"$f":"VLOOKUP(AA106,FormTypeLabels[],2,FALSE)","v":""},{"$nulls":25},"Bal_UNRE_4"]
[{"$f":"VLOOKUP(AA107,FormTypeLabels[],2,FALSE)","v":"52 Undistributed Realized Earnings (line 50 plus line 51) "},{"$nulls":4},{"$f":"F103+F102","v":0},null,{"$f":"H103+H102","v":0},null,{"$f":"J103+J102","v":0},null,{"$f":"L103+L102","v":0},{"$nulls":14},"Bal_URE_1"]
[{"$f":"VLOOKUP(AA108,FormTypeLabels[],2,FALSE)","v":""},{"$nulls":25},"Bal_URE_2"]
[{"$f":"VLOOKUP(AA109,FormTypeLabels[],2,FALSE)","v":""},{"$nulls":25},"Bal_URE_3"]
[{"$f":"VLOOKUP(AA110,FormTypeLabels[],2,FALSE)","v":"53 TOTAL PARTNERS' CAPITAL (Sum of Lines 47c, 48, 49, and 52)"},{"$nulls":4},{"$f":"F99+F100+F101+F107","v":0},null,{"$f":"H99+H100+H101+H107","v":0},null,{"$f":"J99+J100+J101+J107","v":0},null,{"$f":"L99+L100+L101+L107","v":0},{"$nulls":14},"Bal_TotCap"]
[]
["54 TOTAL LIABILITIES AND PARTNERS' CAPITAL (Line 46 plus Line 53)",{"$nulls":4},{"$f":"F110+F92","v":0},null,{"$f":"H110+H92","v":0},null,{"$f":"J110+J92","v":0},null,{"$f":"L110+L92","v":0}]
[]
[]
["30 TOTAL ASSETS",{"$nulls":4},{"$f":"F61","v":0},null,{"$f":"H61","v":0},null,{"$f":"J61","v":0},null,{"$f":"L61","v":0}]
["Difference",{"$nulls":4},{"$f":"F115-F112","v":0},null,{"$f":"H115-H112","v":0},null,{"$f":"J115-J112","v":0},null,{"$f":"L115-L112","v":0}]
["Error Check (Assets equal Liabilities)",{"$nulls":4},{"$f":"IF(F112=F61,\"\",F112-F61)","v":""},null,{"$f":"IF(H112=H61,\"\",H112-H61)","v":""}]

{"sheet":"4-NI","index":5,"n_rows":60,"n_cols":29,"rows_kept":60,"merged":[[0,2,0,6],[1,2,1,5],[2,2,2,6],[4,5,5,5],[4,7,5,7],[4,9,5,9],[4,28,5,28],[41,1,41,3],[42,1,42,3],[43,1,43,3],[44,1,44,3],[45,1,45,3],[46,1,46,3],[54,1,54,3]]}
[null,null,"STATEMENT OF OPERATIONS REALIZED",{"$nulls":6},{"$f":"'1-Cover'!$G$1","v":"OMB Approval No. 3245-0063"}]
[null,null,{"$f":"\"FOR \"&Number_of_Months&\" MONTH PERIOD ENDED: \"&TEXT(Form468Date,\"MM/DD/YYYY\")","v":"FOR  MONTH PERIOD ENDED: 01/00/1900"},{"$nulls":6},{"$f":"'1-Cover'!$G$2","v":"Expiration Date MM/DD/YYYY"}]
[null,null,"(Amounts rounded to the nearest dollar)"]
[{"$f":"\"Name of License:  \"&sbicname","v":"Name of License:  "},{"$f":"'2&3-Bal'!B4","v":0},{"$nulls":7},{"$f":"\"License no.:  \"&TEXT(licenseno,\"00\\/00\\-0000\")","v":"License no.:  00/00-0000"},{"$nulls":18},"Notes "]
[{"$nulls":5},"Current Quarter",null,"Year-to-Date through",null,"Since Inception to",{"$nulls":18},"Since Inception to"]
[]
["INVESTMENT INCOME",{"$nulls":4},{"$f":"Form468Date","v":"00:00:00"},null,{"$f":"Form468Date","v":"00:00:00"},null,{"$f":"Form468Date","v":"00:00:00"},{"$nulls":18},"2021-12-31"]
["1 Interest Income ",{"$nulls":4},0,null,0,null,{"$f":"AC8+H8","v":0},{"$nulls":18},0]
["2 Dividend Income ",{"$nulls":4},0,null,0,null,0,{"$nulls":18},0]
["3 Income (Loss) from Investments in Partnerships / Flow-through Entities",{"$nulls":4},0,null,0,null,0,{"$nulls":18},0]
["4 Fees for Management Services ",{"$nulls":4},0,null,0,null,0,{"$nulls":18},0]
["5 Application, Closing and Other Fees",{"$nulls":4},0,null,0,null,0,{"$nulls":18},0]
["6 Interest on Cash Equivalents and Invested Idle Funds",{"$nulls":4},0,null,0,null,0,{"$nulls":18},0]
["7 Income from Assets Acquired in Liquidation of Loans ",{"$nulls":4},0,null,0,null,0,{"$nulls":18},0]
["  and Investments (net of Expenses)"]
["8 Other Income",{"$nulls":4},0,null,0,null,0,{"$nulls":18},0]
[]
["9 GROSS INVESTMENT INCOME",{"$nulls":4},{"$f":"SUM(F8:F14,F16)","v":0},null,{"$f":"SUM(H8:H14,H16)","v":0},null,{"$f":"SUM(J8:J14,J16)","v":0},{"$nulls":18},0]
[]
["EXPENSES"]
["10 Interest Expense"]
["a. Interest Expense -- SBA Debentures ",{"$nulls":4},0,null,0,null,{"$f":"AC22+H22","v":0},{"$nulls":18},0]
["b. Other Interest Expense ",{"$nulls":4},0,null,0,null,0,{"$nulls":18},0]
["c. Total Interest Expense",{"$nulls":4},{"$f":"F23+F22","v":0},null,{"$f":"H23+H22","v":0},null,{"$f":"J23+J22","v":0},{"$nulls":18},0]
["11 Commitment Fees & Other Financial Costs ",{"$nulls":4},0,null,0,null,{"$f":"AC25+H25","v":0},{"$nulls":18},0]
["12 Compensation and Benefits (Officer and Employee)",{"$nulls":4},0,null,0,null,0,{"$nulls":18},0]
["13 Investment Advisory and Management Services ",{"$nulls":4},0,null,0,null,0,{"$nulls":18},0]
[{"$f":"VLOOKUP(AA28,FormTypeLabels[],2,FALSE)","v":"14 Partners' Meetings "},{"$nulls":4},0,null,0,null,0,{"$nulls":16},"NI_Exp_1",null,0]
["15 Appraisal and Investigation ",{"$nulls":4},0,null,0,null,0,{"$nulls":18},0]
["16 Advertising, Communication and Travel ",{"$nulls":4},0,{"$nulls":3},0,{"$nulls":18},0]
["17 Cost of Space Occupied ",{"$nulls":4},0,null,0,null,0,{"$nulls":18},0]
["18 Depreciation and Amortization"]
["a. Amortization of Leverage Fees",{"$nulls":4},0,null,0,null,0,{"$nulls":18},0]
["b. Other Depreciation and Amortization ",{"$nulls":4},0,null,0,null,0,{"$nulls":18},0]
["c. Total Depreciation and Amortization",{"$nulls":4},{"$f":"F34+F33","v":0},null,{"$f":"H34+H33","v":0},null,{"$f":"J34+J33","v":0},{"$nulls":18},0]
["19 Insurance",{"$nulls":4},0,null,0,null,0,{"$nulls":18},0]
["20 Payroll and Other Taxes ",{"$nulls":4},0,null,0,null,0,{"$nulls":18},0]
["21 Provision for Losses on Receivables (excluding loans receivable) ",{"$nulls":4},0,null,0,null,0,{"$nulls":18},0]
["22 Legal Fees ",{"$nulls":4},0,null,0,null,0,{"$nulls":18},0]
["23 Audit and Examination Fees ",{"$nulls":4},0,null,0,null,0,{"$nulls":18},0]
["24 Miscellaneous Expenses"]
["a. Misc. #1",{"$nulls":4},0,null,0,null,0,{"$nulls":18},0]
["b. Misc. #2 ",{"$nulls":4},0,null,0,null,0,{"$nulls":18},0]
["c. Misc. #3 ",{"$nulls":4},0,null,0,null,0,{"$nulls":18},0]
["d. Misc. #4 ",{"$nulls":4},0,null,0,null,0,{"$nulls":18},0]
["e. Misc. #5 ","Deal Expense",{"$nulls":3},0,null,0,null,0,{"$nulls":18},0]
["f. Misc. #6 ",{"$nulls":4},0,null,0,null,0,{"$nulls":18},0]
["24g Total Miscellaneous Expenses",{"$nulls":4},{"$f":"SUM(F42:F47)","v":0},null,{"$f":"SUM(H42:H47)","v":0},null,{"$f":"SUM(J42:J47)","v":0},{"$nulls":18},0]
["25 TOTAL EXPENSES",{"$nulls":4},{"$f":"SUM(F24:F31,F35,F36:F40,F48)","v":0},null,{"$f":"SUM(H24:H31,H35,H36:H40,H48)","v":0},null,{"$f":"SUM(J24:J31,J35,J36:J40,J48)","v":0},{"$nulls":18},0]
[{"$f":"VLOOKUP(AA50,FormTypeLabels[],2,FALSE)","v":"26 NET INVESTMENT INCOME (LOSS)"},{"$nulls":4},{"$f":"F18-F49","v":0},null,{"$f":"H18-H49","v":0},null,{"$f":"J18-J49","v":0},{"$nulls":16},"NI_Tot_1",null,0]
[{"$f":"VLOOKUP(AA51,FormTypeLabels[],2,FALSE)","v":"27 NET REALIZED GAIN (LOSS) ON INVESTMENTS (1)"},{"$nulls":3},"*",{"$f":"S2RG!H6","v":0},null,{"$f":"S2RG!$H$7","v":0},null,0,{"$nulls":16},"NI_Tot_2",null,0]
[{"$f":"VLOOKUP(AA52,FormTypeLabels[],2,FALSE)","v":""},{"$nulls":4},{"$f":"IF(formtype=\"P\",\"\",F50+F51)","v":""},null,{"$f":"IF(formtype=\"P\",\"\",H50+H51)","v":""},null,{"$f":"IF(formtype=\"P\",\"\",J50+J51)","v":""},{"$nulls":16},"NI_Tot_3",null,""]
[{"$f":"VLOOKUP(AA53,FormTypeLabels[],2,FALSE)","v":""},{"$nulls":25},"NI_Tot_4"]
[{"$f":"VLOOKUP(AA54,FormTypeLabels[],2,FALSE)","v":"28 NET INCOME (LOSS) BEFORE NONRECURRING ITEMS "},{"$nulls":4},{"$f":"IF(formtype=\"P\",F50+F51,F52-F53)","v":0},null,{"$f":"IF(formtype=\"P\",H50+H51,H52-H53)","v":0},null,{"$f":"IF(formtype=\"P\",J50+J51,J52-J53)","v":0},{"$nulls":16},"NI_Tot_5",null,0]
["29 Extraordinary Item ",{"$nulls":4},0,null,0,null,0,{"$nulls":18},0]
["30 Cumulative Effect of Change in Accounting",{"$nulls":4},0,null,0,null,0,{"$nulls":18},0]
[]
["31 NET INCOME (LOSS)",{"$nulls":4},{"$f":"F54+F55+F56","v":0},null,{"$f":"H54+H55+H56","v":0},null,{"$f":"J54+J55+J56","v":0},{"$nulls":18},0]
[]
["(1) Provide supporting detail for all realized gains and losses on Schedule 2, column 8."]

{"sheet":"5&6-CF","index":6,"n_rows":114,"n_cols":31,"rows_kept":114,"merged":[[0,3,0,7],[1,3,1,7],[2,3,2,7],[32,2,32,4],[37,2,37,4],[46,2,46,4],[54,2,54,4],[79,2,79,4],[80,2,80,4],[81,2,81,4],[91,2,91,4],[92,2,92,4]]}
[{"$nulls":3},"STATEMENT OF CASH FLOWS",{"$nulls":6},{"$f":"'1-Cover'!$G$1","v":"OMB Approval No. 3245-0063"}]
[{"$nulls":3},{"$f":"\"FOR \"&Number_of_Months&\" MONTH PERIOD ENDED: \"&TEXT(Form468Date,\"MM/DD/YYYY\")","v":"FOR  MONTH PERIOD ENDED: 01/00/1900"},{"$nulls":6},{"$f":"'1-Cover'!$G$2","v":"Expiration Date MM/DD/YYYY"}]
[{"$nulls":3},"(Amounts rounded to the nearest dollar)"]
[{"$f":"\"Name of License:  \"&sbicname","v":"Name of License:  "},null,{"$f":"'4-NI'!B4","v":0},{"$nulls":7},{"$f":"\"License no.:  \"&TEXT(licenseno,\"00\\/00\\-0000\")","v":"License no.:  00/00-0000"},{"$nulls":17},"Notes "]
["Cash Flow Page 1 of 2"]
[{"$nulls":6},"Current Quarterly Period Ended",null,"Year-to-Date Thru Period Ended",null,"Since Inception to Period Ended",{"$nulls":17},"Since Inception to Period Ended"]
["OPERATING ACTIVITIES",{"$nulls":5},{"$f":"Form468Date","v":"00:00:00"},null,{"$f":"Form468Date","v":"00:00:00"},null,{"$f":"Form468Date","v":"00:00:00"},{"$nulls":17},"2021-12-31"]
["Cash Inflows"]
["1 Interest Received from Portfolio Concerns ",{"$nulls":9},{"$f":"I9+AC9","v":0}]
["2 Dividend Received from Portfolio Concerns ",{"$nulls":9},{"$f":"I10+AC10","v":0}]
["3 Other Income Received from Portfolio Concerns ",{"$nulls":9},0]
["4 Management Services and Other Fees Received",{"$nulls":9},0]
["5 Interest on Cash Equivalents and Invested Idle Funds ",{"$nulls":9},0]
["6 Cash Received from Assets Acquired in Liquidation",{"$nulls":9},0]
["7 Other Operating Cash Receipts ",{"$nulls":9},0]
["Cash Outflows"]
["8 Interest Paid",{"$nulls":9},{"$f":"I17+AC17","v":0}]
["9 Commitment Fees and Other Financial Costs",{"$nulls":9},0]
["10 Investment Advisory and Management Fees",{"$nulls":9},0]
["11 Partners' and Employees' Compensation and Benefits",{"$nulls":9},0]
["12 Operating Expenditures (Excluding Compensation and Benefits)",{"$nulls":9},0]
[{"$f":"VLOOKUP(AA22,FormTypeLabels[],2,FALSE)","v":"13 Other Operating Cash Disbursements"},{"$nulls":9},0,{"$nulls":15},"CF_Out_13a"," "]
[{"$f":"VLOOKUP(AA23,FormTypeLabels[],2,FALSE)","v":""},{"$nulls":25},"CF_Out_13b"," "]
[]
["14 NET CASH PROVIDED BY (USED IN) OPERATING ACTIVITIES ",{"$nulls":5},{"$f":"SUM(G9:G15)-ABS(SUM(G17:G22))","v":0},null,{"$f":"SUM(I9:I15)-ABS(SUM(I17:I22))","v":0},null,{"$f":"SUM(K9:K15)-ABS(SUM(K17:K22))","v":0}]
[]
["INVESTING ACTIVITIES"]
["Cash Inflows"]
["15 Loan Principal Payments Received from Portfolio Concerns ",{"$nulls":5},0,null,0,null,{"$f":"I29+AC29","v":0}]
["16 Returns of Capital Received from Portfolio Concerns ",{"$nulls":5},0,null,0,null,0]
["17 Net Proceeds from Disposition of Portfolio Securities",{"$nulls":5},0,null,0,null,0]
["18 Liquidation of Idle Funds Investments ",{"$nulls":5},0,null,0,null,0]
["19 Other (Specify)",{"$nulls":5},0,null,0,null,0]
["Cash Outflows"]
["20 Purchase of Portfolio Securities ",{"$nulls":5},0,null,0,null,{"$f":"I35+AC35","v":0}]
["21 Loans to Portfolio concerns ",{"$nulls":5},0,null,0,null,0]
["22 Idle Funds Investment ",{"$nulls":5},0,null,0,null,0]
["23 Other (Specify)",{"$nulls":5},0,null,0,null,0]
[]
["24 NET CASH PROVIDED BY (USED IN) INVESTING ACTIVITIES",{"$nulls":5},{"$f":"SUM(G29:G33)-ABS(SUM(G35:G38))","v":0},null,{"$f":"SUM(I29:I33)-ABS(SUM(I35:I38))","v":0},null,{"$f":"SUM(K29:K33)-ABS(SUM(K35:K38))","v":0}]
[]
["FINANCING ACTIVITIES"]
["Cash Inflows"]
["25 Proceeds from Issuance of SBA-Guaranteed Debentures ",{"$nulls":5},0,null,0,null,{"$f":"I44+AC44","v":0}]
["26 Proceeds from Non-SBA Borrowing ",{"$nulls":5},0,null,0,null,0]
["27 Proceeds from Sale of Stock or Other Capital Contribution ",{"$nulls":4},0,0,null,0,null,0]
["28 Other (Specify) ",{"$nulls":5},0,null,0,null,0]
[]
["Cash Outflows"]
["29 SBA Leverage Fees",{"$nulls":5},0,null,0,null,{"$f":"I50+AC50","v":0}]
["30 Principal Payments on SBA-Guaranteed Debentures ",{"$nulls":5},0,null,0,null,0]
["31 Principal Payments on Non-SBA Borrowing ",{"$nulls":5},0,null,0,null,0]
["32 Redemption of Private Partnership Interests",{"$nulls":5},0,null,0,null,0]
["33 Other Distributions Paid",{"$nulls":5},0,null,0,null,0]
["34 Other (Specify) ",{"$nulls":5},0,null,0,null,0]
[]
["35 NET CASH PROVIDED BY (USED IN) FINANCING ACTIVITIES ",{"$nulls":5},{"$f":"SUM(G44:G47)-ABS(SUM(G50:G55))","v":0},null,{"$f":"SUM(I44:I47)-ABS(SUM(I50:I55))","v":0},null,{"$f":"SUM(K44:K47)-ABS(SUM(K50:K55))","v":0}]
[]
[]
[]
["Cash Flow Page 2 of 2"]
[{"$nulls":6},"Current Quarterly Period Ended",null,"Year-to-Date Thru Period Ended",null,"Since Inception to Period Ended",{"$nulls":17},"Since Inception to Period Ended"]
[{"$nulls":6},{"$f":"Form468Date","v":"00:00:00"},null,{"$f":"Form468Date","v":"00:00:00"},null,{"$f":"Form468Date","v":"00:00:00"},{"$nulls":17},"2021-12-31"]
["Lines 36 through 38 include Cash and Cash Equivalents and Idle Funds"]
["36 INCREASE (DECREASE) IN CASH AND CASH EQUIVALENTS ",{"$nulls":5},{"$f":"G57+G40+G25","v":0},null,{"$f":"I57+I40+I25","v":0},null,{"$f":"K57+K40+K25","v":0}]
[]
["37 CASH AND CASH EQUIVALENTS AT BEGINNING OF PERIOD",{"$nulls":5},0,null,{"$f":"pycash+pyidle","v":0},null,0]
[]
["38 CASH AND CASH EQUIVALENTS AT END OF PERIOD",{"$nulls":5},{"$f":"G65+G67","v":0},null,{"$f":"I65+I67","v":0},null,{"$f":"K65+K67","v":0}]
[{"$nulls":4},"From Lines 14 and 15 on Balance Sheet, page 2",null,{"$f":"cycash+cyidle","v":0},null,{"$f":"G70","v":0},null,{"$f":"I70","v":0}]
[]
["RECONCILIATION OF NET INCOME (LOSS) TO NET CASH PROVIDED BY (USED IN) OPERATING ACTIVITIES"]
["39 Net Income (Loss) (Line 31, page 4P) ",{"$nulls":5},{"$f":"'4-NI'!F58","v":0},null,{"$f":"'4-NI'!H58","v":0},null,{"$f":"'4-NI'!J58","v":0}]
[]
["Adjustments to Reconcile Net Income (Loss) to Net Cash Provided by (used in) Operating Activities:"]
["40 Depreciation and Amortization (line 18, page 4P)",{"$nulls":5},{"$f":"'4-NI'!F35","v":0},null,{"$f":"'4-NI'!H35","v":0},null,{"$f":"'4-NI'!J35","v":0}]
["41 Provision for Losses on Accounts Receivable (line 21, page 4P)",{"$nulls":5},{"$f":"'4-NI'!F38","v":0},null,{"$f":"'4-NI'!H38","v":0},null,{"$f":"'4-NI'!J38","v":0}]
["42 Realized (Gains) Losses on Investments (line 27, page 4P)",{"$nulls":5},{"$f":"-'4-NI'!F51","v":0},null,{"$f":"-'4-NI'!H51","v":0},null,{"$f":"-'4-NI'!J51","v":0}]
["43 Other (Specify)"]
["a.",{"$nulls":5},0,null,0,null,{"$f":"I80+AC80","v":0}]
["b.",{"$nulls":5},0,null,0,null,0]
["c.",{"$nulls":5},0,null,0,null,0]
[]
["Changes in Operating Assets and Liabilities Net of Noncash Items",{"$nulls":29},"Formulas for Column I"]
["44 (Increase) Decrease in Interest and Dividends Receivable",{"$nulls":5},0,null,{"$f":"pyintdivrec-cyintdivrec","v":0},null,{"$f":"I85+AC85","v":0},{"$nulls":19},{"$f":"pyintdivrec-cyintdivrec","v":0}]
["45 (Increase) Decrease in Other Current Assets",{"$nulls":5},0,null,{"$f":"SUM('2&3-Bal'!$H$46:$H$51)-SUM('2&3-Bal'!$F$46:$F$51)","v":0},null,0,{"$nulls":19},{"$f":"SUM('2&3-Bal'!$H$46:$H$51)-SUM('2&3-Bal'!$F$46:$F$51)","v":0}]
["46 Increase (Decrease) in Accounts Payable",{"$nulls":5},0,null,{"$f":"cyaccountspayable-pyaccountspayable+cymgtexpaccountspayable-pymgtexpaccountspayable+cyparentexpaccountspayable-pymgtexpaccountspayable","v":0},null,0,{"$nulls":19},{"$f":"cyaccountspayable-pyaccountspayable+cymgtexpaccountspayable-pymgtexpaccountspayable+cyparentexpaccountspayable-pymgtexpaccountspayable","v":0}]
["47 Increase (Decrease) in Accrued Interest Payable",{"$nulls":5},0,null,{"$f":"cyaccruedintpay-pyaccruedintpay","v":0},null,0,{"$nulls":19},{"$f":"cyaccruedintpay-pyaccruedintpay","v":0}]
["48 Increase (Decrease) in Accrued Taxes Payable",{"$nulls":5},0,null,{"$f":"cyaccruedtaxpay-pyaccruedtaxpay","v":0},null,0,{"$nulls":19},{"$f":"cyaccruedtaxpay-pyaccruedtaxpay","v":0}]
["49 Increase (Decrease) in Distributions Payable",{"$nulls":5},0,null,{"$f":"cydistpay-pydistpay","v":0},null,0,{"$nulls":19},{"$f":"cydistpay-pydistpay","v":0}]
["50 Increase (Decrease) in Other Current Liabilities ",{"$nulls":5},0,null,{"$f":"SUM('2&3-Bal'!$F$81:$F$83)-SUM('2&3-Bal'!$H$81:$H$83)","v":0},null,0,{"$nulls":19},{"$f":"SUM('2&3-Bal'!$F$81:$F$83)-SUM('2&3-Bal'!$H$81:$H$83)","v":0}]
["51 Other (Specify) ",{"$nulls":5},0,null,0,null,0]
["52 Other (Specify) ",{"$nulls":5},0,null,0,null,0]
[]
[]
["53 NET CASH PROVIDED BY (USED IN) OPERATING ACTIVITIES ",{"$nulls":5},{"$f":"SUM(G85:G93,G80:G82,G73:G78)","v":0},null,{"$f":"SUM(I85:I93,I80:I82,I73:I78)","v":0},null,{"$f":"SUM(K85:K93,K80:K82,K73:K78)","v":0}]
["(Total must agree with line 14 above)"]
[{"$nulls":4},"Line 14:",null,{"$f":"G25","v":0},null,{"$f":"I25","v":0},null,{"$f":"K25","v":0},{"$nulls":17},{"v":-6486040,"d":"$(6,486,040)"}]
[]
["Error Check (Line 53 must equal Line 14)",{"$nulls":5},{"$f":"IF(G96=G25,\"\",\"Does not equal Net Cash Provided by (Used In) Operating Activities\")","v":""},null,{"$f":"IF(I96=I25,\"\",\"Does not equal Net Cash Provided by (Used In) Operating Activities\")","v":""}]
{"$rows_empty":12}
["Supplemental disclosure of non-cash financing and investing activities may be required."]
["See ASC 230, \"Statement of Cash Flows\"."]

{"sheet":"7-PCap","index":7,"n_rows":58,"n_cols":27,"rows_kept":58,"merged":[[14,2,14,5],[24,2,24,5],[39,1,39,5],[49,1,49,5]]}
[{"$nulls":5},"STATEMENT OF PARTNERS' CAPITAL",{"$nulls":5},{"$f":"'1-Cover'!$G$1","v":"OMB Approval No. 3245-0063"}]
[{"$nulls":5},{"$f":"\"FOR \"&Number_of_Months&\" MONTH PERIOD ENDED: \"&TEXT(Form468Date,\"MM/DD/YYYY\")","v":"FOR  MONTH PERIOD ENDED: 01/00/1900"},{"$nulls":5},{"$f":"'1-Cover'!$G$2","v":"Expiration Date MM/DD/YYYY"}]
[{"$nulls":5},"(Amounts rounded to the nearest dollar)"]
[{"$f":"\"Name of License:  \"&sbicname","v":"Name of License:  "},{"$f":"'5&6-CF'!C4","v":0},{"$nulls":9},{"$f":"\"License no.:  \"&TEXT(licenseno,\"00\\/00\\-0000\")","v":"License no.:  00/00-0000"}]
[]
[{"$f":"VLOOKUP(AA6,FormTypeLabels[],2,FALSE)","v":"PART I. PRIVATE PARTNERS' CONTRIBUTED CAPITAL"},{"$nulls":6},"General Partner(s) \n(page 3, line 47a)",null,"Limited Partner(s) \n(page 3, line 47b)",null,"Total",{"$nulls":14},"Pcap_Cap_I"]
[]
["1 BALANCE AT BEGINNING OF PERIOD ",{"$nulls":6},{"$f":"'2&3-Bal'!H96","v":0},null,{"$f":"'2&3-Bal'!H97","v":0},null,{"$f":"H8+J8","v":0}]
[]
["2 ADDITIONS:"]
[{"$f":"VLOOKUP(AA11,FormTypeLabels[],2,FALSE)","v":"a. Partnership interests issued for cash"},{"$nulls":6},0,null,0,null,{"$f":"H11+J11","v":0},{"$nulls":14},"Pcap_CapAdd_2a"]
[{"$f":"VLOOKUP(AA12,FormTypeLabels[],2,FALSE)","v":"b. Partnership interests issued for services rendered "},{"$nulls":6},0,null,0,null,0,{"$nulls":14},"Pcap_CapAdd_2b"]
[{"$f":"VLOOKUP(AA13,FormTypeLabels[],2,FALSE)","v":"c. Partnership interests issued for contributed non-cash assets "},{"$nulls":6},0,null,0,null,0,{"$nulls":14},"Pcap_CapAdd_2c"]
["d. Capitalization of Retained Earnings Available for Distribution ",{"$nulls":6},0,null,0,null,0]
["e. Other credits (specify) ",{"$nulls":6},0,null,0,null,0]
[{"$f":"VLOOKUP(AA16,FormTypeLabels[],2,FALSE)","v":""},{"$nulls":10},{"$f":"IF(A16<>\"\",H16+J16,\"\")","v":""},{"$nulls":14},"Pcap_CapAdd_2f"]
["3 Total additions (sum of 2a through 2e) ",{"$nulls":6},{"$f":"SUM(H11:H15)","v":0},null,{"$f":"SUM(J11:J15)","v":0},null,0]
[]
["4 Subtotal (line 1 plus line 3)",{"$nulls":6},{"$f":"H8+H17","v":0},null,{"$f":"J8+J17","v":0},null,0]
[]
["5 DEDUCTIONS:"]
[{"$f":"VLOOKUP(AA22,FormTypeLabels[],2,FALSE)","v":"a. Liquidation of Partnership interests "},{"$nulls":6},0,{"$nulls":3},{"$f":"H22+J22","v":0},{"$nulls":14},"Pcap_CapDed_5a"]
[{"$f":"VLOOKUP(AA23,FormTypeLabels[],2,FALSE)","v":""},{"$nulls":25},"Pcap_CapDed_5b"]
[{"$f":"VLOOKUP(AA24,FormTypeLabels[],2,FALSE)","v":""},{"$nulls":25},"Pcap_CapDed_5c"]
[{"$f":"VLOOKUP(AA25,FormTypeLabels[],2,FALSE)","v":"b.Other debits (specify) "},{"$nulls":6},0,null,0,null,{"$f":"H25+J25","v":0},{"$nulls":14},"Pcap_CapDed_5d"]
["6 Total deductions (sum of 5a through 5b) ",{"$nulls":6},{"$f":"H25+H22","v":0},null,{"$f":"J25+J22","v":0},null,{"$f":"H26+J26","v":0}]
[]
["7 BALANCE AT END OF PERIOD (line 4 minus line 6) --",{"$nulls":6},{"$f":"H19-H26","v":0},null,{"$f":"J19-J26","v":0},null,{"$f":"H28+J28","v":0}]
["Totals must agree with lines 46a through 46c, page 3P",{"$nulls":6},{"$f":"'2&3-Bal'!F96","v":0},null,{"$f":"'2&3-Bal'!F97","v":0},null,{"$f":"'2&3-Bal'!F99","v":0}]
[]
[]
["PART II. UNDISTRIBUTED REALIZED EARNINGS ",{"$nulls":6},"Noncash Gain/Income (1)",null,"Undistributed Net Realized Earnings(2)",null,"Undistributed Realized Earnings (1+2)"]
[]
["1 BALANCE AT BEGINNING OF PERIOD ",{"$nulls":5},"*",{"$f":"pynoncashbal","v":0},"*",{"$f":"pyunrebal","v":0},null,{"$f":"H34+J34","v":0}]
[]
["2 ADDITIONS:"]
["a. Net investment income ",{"$nulls":6},0,null,0,null,{"$f":"H37+J37","v":0}]
["b. Realized gain (loss) on investments ",{"$nulls":6},0,null,0,null,0]
["c. Gain on appreciation of securities distributed in kind",{"$nulls":6},0,null,0,null,0]
["d. Other (specify)",{"$nulls":6},0,null,0,null,0]
["3 Total additions (sum of 2a through 2d) ",{"$nulls":6},{"$f":"SUM(H37:H40)","v":0},null,{"$f":"SUM(J37:J40)","v":0},null,0]
[]
["4 Subtotal (line 1 plus line 3) ",{"$nulls":6},{"$f":"H34+H41","v":0},null,{"$f":"J34+J41","v":0},null,0]
[]
["5 DEDUCTIONS:"]
[{"$f":"VLOOKUP(AA46,FormTypeLabels[],2,FALSE)","v":"a. Cash Distributions "},{"$nulls":10},{"$f":"H46+J46","v":0},{"$nulls":14},"Pcap_UNRE_5a"]
[{"$f":"VLOOKUP(AA47,FormTypeLabels[],2,FALSE)","v":"b. Distributions allocated but not paid "},{"$nulls":10},0,{"$nulls":14},"Pcap_UNRE_5b"]
[{"$f":"VLOOKUP(AA48,FormTypeLabels[],2,FALSE)","v":"c. In-Kind Distributions (at fair value) "},{"$nulls":10},0,{"$nulls":14},"Pcap_UNRE_5c"]
["d. Capitalization of Retained Earnings available for Distribution",{"$nulls":10},0]
["e. Other (specify) ",{"$nulls":10},0]
["6 Total deductions (sum of 5a through 5e)",{"$nulls":6},{"$f":"SUM(H46:H50)","v":0},null,{"$f":"SUM(J46:J50)","v":0},null,{"$f":"H51+J51","v":0}]
[]
["7 Total before collection of non-cash gains/income (line 4 minus line 6) ",{"$nulls":6},{"$f":"H43-H51","v":0},null,{"$f":"J43-J51","v":0},null,{"$f":"L43-L51","v":0}]
[]
["8 Collection of non-cash gains/income ",{"$nulls":6},0,null,0]
[]
["9 BALANCE AT END OF PERIOD (line 7 plus line 8) -",{"$nulls":6},{"$f":"H53+H55","v":0},null,{"$f":"J53+J55","v":0},null,{"$f":"L53+L55","v":0}]
[{"$f":"VLOOKUP(AA58,FormTypeLabels[],2,FALSE)","v":"Totals must agree with lines 50, 51, and 52, page 3"},{"$nulls":6},{"$f":"'2&3-Bal'!F102","v":0},null,{"$f":"'2&3-Bal'!F103","v":0},null,{"$f":"'2&3-Bal'!F107","v":0},{"$nulls":14},"Pcap_UNRE_9comment"]

{"sheet":"8-READ_Cap","index":8,"n_rows":56,"n_cols":27,"rows_kept":56,"merged":[[25,2,25,6],[28,4,28,6],[34,3,34,6]]}
[{"$nulls":4},"I. RETAINED EARNINGS AVAILABE FOR DISTRIBUTION",{"$nulls":5},{"$f":"'1-Cover'!$G$1","v":"OMB Approval No. 3245-0063"}]
[{"$nulls":4},"II. REGULATORY AND LEVERAGEABLE CAPITAL",{"$nulls":5},{"$f":"'1-Cover'!$G$2","v":"Expiration Date MM/DD/YYYY"}]
[{"$nulls":4},{"$f":"\"FOR \"&Number_of_Months&\" MONTH PERIOD ENDED: \"&TEXT(Form468Date,\"MM/DD/YYYY\")","v":"FOR  MONTH PERIOD ENDED: 01/00/1900"}]
[{"$nulls":4},"(Amounts rounded to the nearest dollar)"]
[{"$f":"\"Name of License:  \"&sbicname","v":"Name of License:  "},{"$f":"'7-PCap'!B4","v":0},{"$nulls":8},{"$f":"\"License no.:  \"&TEXT(licenseno,\"00\\/00\\-0000\")","v":"License no.:  00/00-0000"}]
[]
["PART I. RETAINED EARNINGS AVAILABLE FOR DISTRIBUTION OR CAPITALIZATION"]
["1 Undistributed net Realized Earnings (line 51, page 3)",{"$nulls":9},{"$f":"cy_UNRE","v":0}]
["2 LESS: Unrealized Depreciation (Schedule 1 - Total Unrealized Depreciation)",{"$nulls":9},{"$f":"-S1AB!F13","v":0}]
["3 RETAINED EARNINGS AVAILABLE FOR DISTRIBUTION OR CAPITALIZATION",{"$nulls":9},{"$f":"K8-K9","v":0}]
[]
["PART II. SCHEDULE OF REGULATORY AND LEVERAGEABLE CAPITAL"]
[]
[{"$f":"VLOOKUP(AA14,FormTypeLabels[],2,FALSE)","v":"1 Private Partners' Contributed Capital (line 47c, page 3)"},{"$nulls":9},{"$f":"cyprivcapbal","v":0},{"$nulls":15},"Pcap_PartII_1"]
[]
["2 ADD"]
[{"$f":"VLOOKUP(AA17,FormTypeLabels[],2,FALSE)","v":"a. Unfunded binding commitments from Institutional Investors"},{"$nulls":7},0,{"$nulls":17},"Pcap_PartII_2a"]
[{"$f":"VLOOKUP(AA18,FormTypeLabels[],2,FALSE)","v":"b. Waived management fees credited as capital contributions"},{"$nulls":25},"Pcap_PartII_2b"]
[{"$f":"VLOOKUP(AA19,FormTypeLabels[],2,FALSE)","v":"c.  Total Additions (Sum of Line 2a and 2b)"},{"$nulls":9},{"$f":"I18+I17","v":0},{"$nulls":15},"Pcap_PartII_2c"]
["3 LESS: Regulatory Distributions"]
["a. Organization Expenses Not Approved by SBA (1)"]
[{"$f":"VLOOKUP(AA22,FormTypeLabels[],2,FALSE)","v":"b. Partnership interests Issued for Services"},{"$nulls":7},0,{"$nulls":17},"Pcap_PartII_3b"]
[{"$f":"VLOOKUP(AA23,FormTypeLabels[],2,FALSE)","v":"c. Partnership interests Issued for Non-cash Assets"},{"$nulls":7},0,{"$nulls":17},"Pcap_PartII_3c"]
["   (unless approved   by SBA for inclusion in Regulatory Capital or converted to cash)"]
[{"$f":"VLOOKUP(AA25,FormTypeLabels[],2,FALSE)","v":""},{"$nulls":25},"Pcap_PartII_3d"]
[{"$f":"VLOOKUP(AA26,FormTypeLabels[],2,FALSE)","v":"d. Other credits (specify)"},{"$nulls":7},0,{"$nulls":17},"Pcap_PartII_3e"]
["4 Total Regulatory Deductions (Sum of 3a through 3d",{"$nulls":9},{"$f":"SUM(I21:I26)","v":0}]
[]
["5 Other Adjustments to Regulatory Capital (specify)",{"$nulls":9},0]
[]
["6 REGULATORY CAPITAL (sum of lines 1, 2, 4, and 5)",{"$nulls":9},{"$f":"K14+K19+K27+K29","v":0}]
[]
["7 LESS: Unfunded binding commitments from Institutional Investors",{"$nulls":9},{"$f":"PI_UnfundCommit","v":0}]
["8 LESS: Non-cash assets included in Regulatory Capital, other than eligible investments in Small Concerns",{"$nulls":9},0]
["9 LESS: Other deductions (specify)",{"$nulls":9},0]
[]
["`",{"$nulls":9},{"$f":"K31-ABS(K33)-ABS(K34)-ABS(K35)","v":0}]
[]
["PART III. CUMULATIVE PRIVATE INVESTOR CAPITAL CONTRIBUTIONS, DISTRIBUTIONS AND FUND INVESTMENT PERFORMANCE"]
["(for SBICs licensed on or after January 1, 1994)"]
["As of",{"$f":"Form468Date","v":"00:00:00"}]
[]
["1 All Private Capital Contributions Ever Paid-In"]
["2 All CASH Distributions to Private Investors Ever Paid Out - Including Fair Market Value of Non-Cash Distributions"]
["2 All CASH and Non-Cash Distributions to Private Investors Ever Paid Out "]
["3 Net of Fees Total Value to Paid-in Capital (TVPI)*"]
["4 Net of Fees Distributed to Paid-in Capital (DPI)*"]
["6 Net of Fees Residual Value to Paid-in Capital (RVPI)*"]
["7 Gross Multiple on Invested Capital (MOIC)*"]
["8 Net Internal Rate of Return (IRR)*"]
[]
["* All Fund Investment Performance Metrics to be reported based on FASB GAAP accounting standards for Private Equity Funds."]
[]
[]
["NOTES "]
["(1) Deduct only those organizational expenses which were not accepted as reasonable by SBA."]

{"sheet":"S1Inv","index":9,"n_rows":174,"n_cols":31,"rows_kept":174,"merged":[[0,7,0,22],[1,7,1,22],[5,12,5,25],[5,26,5,27],[5,28,5,29],[19,26,19,27],[19,28,19,29]]}
["SCHEDULE 1",{"$nulls":6},"SCHEDULE OF LOANS AND INVESTMENTS",{"$nulls":21},{"$f":"'1-Cover'!$G$1","v":"OMB Approval No. 3245-0063"}]
[{"$nulls":7},{"$f":"\"FOR \"&Number_of_Months&\" MONTH PERIOD ENDED: \"&TEXT(Form468Date,\"MM/DD/YYYY\")","v":"FOR  MONTH PERIOD ENDED: 01/00/1900"},{"$nulls":21},{"$f":"'1-Cover'!$G$2","v":"Expiration Date MM/DD/YYYY"}]
[]
[{"$f":"\"Name of License:  \"&sbicname","v":"Name of License:  "},{"$f":"'8-READ_Cap'!B5","v":0},{"$nulls":27},{"$f":"\"License no.:  \"&TEXT(licenseno,\"00\\/00\\-0000\")","v":"License no.:  00/00-0000"}]
["Investment Data Expressed in $"]
[{"$nulls":12},"Investment Data (Expressed in $)",{"$nulls":13},"Inv. Multiple:     SBA Value      (B+D)/A",null,"Inv. Multiple:  GAAP Value (C+D)/A"]
[{"$nulls":12},"Total Cash Invested (A)","Cost at Beginning Period",null,"Addition/\nDeduction","Non Cash in Cost at End of Period","Cost at End of Period","Unrealized Appreciation","(Unrealized Depreciation)","Class 1","Class 2","Class 2 Date of Up Round","SBA Reported Value (B)","GAAP Reported Value (C)","Cum. Cash Proceeds (D)","Current SBA Mult","Prior SBA Mult","Current GAAP Mult","Prior GAAP Mult"]
[{"$nulls":3},"Summary by Investment Type",{"$nulls":8},"Total Equity Capital Investments",{"$nulls":4},{"$f":"SUMIF(s1inv[Equity Capital Investment],\"Y\",s1inv[Cost at End of Period])","v":0}]
[{"$nulls":11},"Loan",{"$f":"SUMIF(s1inv[Financing Type],$L9,s1inv[Total Cash Invested (A)])","v":0},{"$f":"SUMIF(s1inv[Financing Type],$L9,s1inv[Cost at Beginning Period])","v":0},null,{"$f":"SUMIF(s1inv[Financing Type],$L9,s1inv[Addition/\nDeduction])","v":0},{"$f":"SUMIF(s1inv[Financing Type],$L9,s1inv[Non-Cash Gain included in Cost at End of Period])","v":0},{"$f":"SUMIF(s1inv[Financing Type],$L9,s1inv[Cost at End of Period])","v":0},{"$f":"SUMIF(s1inv[Financing Type],$L9,s1inv[Unrealized Appreciation])","v":0},{"$f":"-ABS(SUMIF(s1inv[Financing Type],$L9,s1inv[(Unrealized Depreciation)]))","v":0},{"$f":"SUMIF(s1inv[Financing Type],$L9,s1inv[Class 1])","v":0},{"$f":"SUMIF(s1inv[Financing Type],$L9,s1inv[Class 2])","v":0},null,{"$f":"SUMIF(s1inv[Financing Type],$L9,s1inv[SBA Reported Value (B)])","v":0},{"$f":"SUMIF(s1inv[Financing Type],$L9,s1inv[GAAP Reported Value (C)])","v":0},{"$f":"SUMIF(s1inv[Financing Type],$L9,s1inv[Cum. Cash Proceeds (D)])","v":0},{"$f":"IFERROR((X9+Z9)/M9,\"\")","v":""},null,{"$f":"IFERROR((Y9+Z9)/M9,\"\")","v":""}]
[{"$nulls":11},"Debt",{"$f":"SUMIF(s1inv[Financing Type],$L10,s1inv[Total Cash Invested (A)])","v":0},{"$f":"SUMIF(s1inv[Financing Type],$L10,s1inv[Cost at Beginning Period])","v":0},null,{"$f":"SUMIF(s1inv[Financing Type],$L10,s1inv[Addition/\nDeduction])","v":0},{"$f":"SUMIF(s1inv[Financing Type],$L10,s1inv[Non-Cash Gain included in Cost at End of Period])","v":0},{"$f":"SUMIF(s1inv[Financing Type],$L10,s1inv[Cost at End of Period])","v":0},{"$f":"SUMIF(s1inv[Financing Type],$L10,s1inv[Unrealized Appreciation])","v":0},{"$f":"-ABS(SUMIF(s1inv[Financing Type],$L10,s1inv[(Unrealized Depreciation)]))","v":0},{"$f":"SUMIF(s1inv[Financing Type],$L10,s1inv[Class 1])","v":0},{"$f":"SUMIF(s1inv[Financing Type],$L10,s1inv[Class 2])","v":0},null,{"$f":"SUMIF(s1inv[Financing Type],$L10,s1inv[SBA Reported Value (B)])","v":0},{"$f":"SUMIF(s1inv[Financing Type],$L10,s1inv[GAAP Reported Value (C)])","v":0},{"$f":"SUMIF(s1inv[Financing Type],$L10,s1inv[Cum. Cash Proceeds (D)])","v":0},{"$f":"IFERROR((X10+Z10)/M10,\"\")","v":""},null,{"$f":"IFERROR((Y10+Z10)/M10,\"\")","v":""}]
[{"$nulls":11},"Equity",{"$f":"SUMIF(s1inv[Financing Type],$L11,s1inv[Total Cash Invested (A)])","v":0},{"$f":"SUMIF(s1inv[Financing Type],$L11,s1inv[Cost at Beginning Period])","v":0},null,{"$f":"SUMIF(s1inv[Financing Type],$L11,s1inv[Addition/\nDeduction])","v":0},{"$f":"SUMIF(s1inv[Financing Type],$L11,s1inv[Non-Cash Gain included in Cost at End of Period])","v":0},{"$f":"SUMIF(s1inv[Financing Type],$L11,s1inv[Cost at End of Period])","v":0},{"$f":"SUMIF(s1inv[Financing Type],$L11,s1inv[Unrealized Appreciation])","v":0},{"$f":"-ABS(SUMIF(s1inv[Financing Type],$L11,s1inv[(Unrealized Depreciation)]))","v":0},{"$f":"SUMIF(s1inv[Financing Type],$L11,s1inv[Class 1])","v":0},{"$f":"SUMIF(s1inv[Financing Type],$L11,s1inv[Class 2])","v":0},null,{"$f":"SUMIF(s1inv[Financing Type],$L11,s1inv[SBA Reported Value (B)])","v":0},{"$f":"SUMIF(s1inv[Financing Type],$L11,s1inv[GAAP Reported Value (C)])","v":0},{"$f":"SUMIF(s1inv[Financing Type],$L11,s1inv[Cum. Cash Proceeds (D)])","v":0},"",null,""]
[{"$nulls":11},"Portfolio Securities",{"$f":"SUM(M9:M11)","v":0},{"$f":"SUM(N9:N11)","v":0},null,{"$f":"SUM(P9:P11)","v":0},0,{"$f":"SUM(R9:R11)","v":0},0,0,0,0,null,0,0,0,"",null,""]
[{"$nulls":11},"Receivables from Sale of Assets Acquired",{"$f":"SUMIF(s1inv[Financing Type],$L13,s1inv[Total Cash Invested (A)])","v":0},{"$f":"SUMIF(s1inv[Financing Type],$L13,s1inv[Cost at Beginning Period])","v":0},null,{"$f":"SUMIF(s1inv[Financing Type],$L13,s1inv[Addition/\nDeduction])","v":0},{"$f":"SUMIF(s1inv[Financing Type],$L13,s1inv[Non-Cash Gain included in Cost at End of Period])","v":0},{"$f":"SUMIF(s1inv[Financing Type],$L13,s1inv[Cost at End of Period])","v":0},{"$f":"SUMIF(s1inv[Financing Type],$L13,s1inv[Unrealized Appreciation])","v":0},{"$f":"-ABS(SUMIF(s1inv[Financing Type],$L13,s1inv[(Unrealized Depreciation)]))","v":0},{"$f":"SUMIF(s1inv[Financing Type],$L13,s1inv[Class 1])","v":0},{"$f":"SUMIF(s1inv[Financing Type],$L13,s1inv[Class 2])","v":0},null,{"$f":"SUMIF(s1inv[Financing Type],$L13,s1inv[SBA Reported Value (B)])","v":0},{"$f":"SUMIF(s1inv[Financing Type],$L13,s1inv[GAAP Reported Value (C)])","v":0},{"$f":"SUMIF(s1inv[Financing Type],$L13,s1inv[Cum. Cash Proceeds (D)])","v":0},"",null,""]
[{"$nulls":11},"Assets Acquired",{"$f":"SUMIF(s1inv[Financing Type],$L14,s1inv[Total Cash Invested (A)])","v":0},{"$f":"SUMIF(s1inv[Financing Type],$L14,s1inv[Cost at Beginning Period])","v":0},null,{"$f":"SUMIF(s1inv[Financing Type],$L14,s1inv[Addition/\nDeduction])","v":0},{"$f":"SUMIF(s1inv[Financing Type],$L14,s1inv[Non-Cash Gain included in Cost at End of Period])","v":0},{"$f":"SUMIF(s1inv[Financing Type],$L14,s1inv[Cost at End of Period])","v":0},{"$f":"SUMIF(s1inv[Financing Type],$L14,s1inv[Unrealized Appreciation])","v":0},{"$f":"-ABS(SUMIF(s1inv[Financing Type],$L14,s1inv[(Unrealized Depreciation)]))","v":0},{"$f":"SUMIF(s1inv[Financing Type],$L14,s1inv[Class 1])","v":0},{"$f":"SUMIF(s1inv[Financing Type],$L14,s1inv[Class 2])","v":0},null,{"$f":"SUMIF(s1inv[Financing Type],$L14,s1inv[SBA Reported Value (B)])","v":0},{"$f":"SUMIF(s1inv[Financing Type],$L14,s1inv[GAAP Reported Value (C)])","v":0},{"$f":"SUMIF(s1inv[Financing Type],$L14,s1inv[Cum. Cash Proceeds (D)])","v":0},"",null,""]
[{"$nulls":11},"Operating Concerns Acquired",{"$f":"SUMIF(s1inv[Financing Type],$L15,s1inv[Total Cash Invested (A)])","v":0},{"$f":"SUMIF(s1inv[Financing Type],$L15,s1inv[Cost at Beginning Period])","v":0},null,{"$f":"SUMIF(s1inv[Financing Type],$L15,s1inv[Addition/\nDeduction])","v":0},{"$f":"SUMIF(s1inv[Financing Type],$L15,s1inv[Non-Cash Gain included in Cost at End of Period])","v":0},{"$f":"SUMIF(s1inv[Financing Type],$L15,s1inv[Cost at End of Period])","v":0},{"$f":"SUMIF(s1inv[Financing Type],$L15,s1inv[Unrealized Appreciation])","v":0},{"$f":"-ABS(SUMIF(s1inv[Financing Type],$L15,s1inv[(Unrealized Depreciation)]))","v":0},{"$f":"SUMIF(s1inv[Financing Type],$L15,s1inv[Class 1])","v":0},{"$f":"SUMIF(s1inv[Financing Type],$L15,s1inv[Class 2])","v":0},null,{"$f":"SUMIF(s1inv[Financing Type],$L15,s1inv[SBA Reported Value (B)])","v":0},{"$f":"SUMIF(s1inv[Financing Type],$L15,s1inv[GAAP Reported Value (C)])","v":0},{"$f":"SUMIF(s1inv[Financing Type],$L15,s1inv[Cum. Cash Proceeds (D)])","v":0},"",null,""]
[{"$nulls":11},"Notes and Other",{"$f":"SUMIF(s1inv[Financing Type],$L16,s1inv[Total Cash Invested (A)])","v":0},{"$f":"SUMIF(s1inv[Financing Type],$L16,s1inv[Cost at Beginning Period])","v":0},null,{"$f":"SUMIF(s1inv[Financing Type],$L16,s1inv[Addition/\nDeduction])","v":0},{"$f":"SUMIF(s1inv[Financing Type],$L16,s1inv[Non-Cash Gain included in Cost at End of Period])","v":0},{"$f":"SUMIF(s1inv[Financing Type],$L16,s1inv[Cost at End of Period])","v":0},{"$f":"SUMIF(s1inv[Financing Type],$L16,s1inv[Unrealized Appreciation])","v":0},{"$f":"-ABS(SUMIF(s1inv[Financing Type],$L16,s1inv[(Unrealized Depreciation)]))","v":0},{"$f":"SUMIF(s1inv[Financing Type],$L16,s1inv[Class 1])","v":0},{"$f":"SUMIF(s1inv[Financing Type],$L16,s1inv[Class 2])","v":0},null,{"$f":"SUMIF(s1inv[Financing Type],$L16,s1inv[SBA Reported Value (B)])","v":0},{"$f":"SUMIF(s1inv[Financing Type],$L16,s1inv[GAAP Reported Value (C)])","v":0},{"$f":"SUMIF(s1inv[Financing Type],$L16,s1inv[Cum. Cash Proceeds (D)])","v":0},"",null,""]
[{"$nulls":11},"Equity in Reinvestor/Relender Exception",{"$f":"SUMIF(s1inv[Financing Type],$L17,s1inv[Total Cash Invested (A)])","v":0},{"$f":"SUMIF(s1inv[Financing Type],$L17,s1inv[Cost at Beginning Period])","v":0},null,{"$f":"SUMIF(s1inv[Financing Type],$L17,s1inv[Addition/\nDeduction])","v":0},{"$f":"SUMIF(s1inv[Financing Type],$L17,s1inv[Non-Cash Gain included in Cost at End of Period])","v":0},{"$f":"SUMIF(s1inv[Financing Type],$L17,s1inv[Cost at End of Period])","v":0},{"$f":"SUMIF(s1inv[Financing Type],$L17,s1inv[Unrealized Appreciation])","v":0},{"$f":"-ABS(SUMIF(s1inv[Financing Type],$L17,s1inv[(Unrealized Depreciation)]))","v":0},{"$f":"SUMIF(s1inv[Financing Type],$L17,s1inv[Class 1])","v":0},{"$f":"SUMIF(s1inv[Financing Type],$L17,s1inv[Class 2])","v":0},null,{"$f":"SUMIF(s1inv[Financing Type],$L17,s1inv[SBA Reported Value (B)])","v":0},{"$f":"SUMIF(s1inv[Financing Type],$L17,s1inv[GAAP Reported Value (C)])","v":0},{"$f":"SUMIF(s1inv[Financing Type],$L17,s1inv[Cum. Cash Proceeds (D)])","v":0},{"$f":"IFERROR((X17+Z17)/M17,\"\")","v":""}]
["Expand to see totals by investment type.",{"$nulls":10},"Totals",{"$f":"SUM(s1inv[Total Cash Invested (A)])","v":0},{"$f":"SUM(s1inv[Cost at Beginning Period])","v":0},null,{"$f":"SUM(s1inv[Addition/\nDeduction])","v":0},{"$f":"SUM(s1inv[Non-Cash Gain included in Cost at End of Period])","v":0},{"$f":"SUM(s1inv[Cost at End of Period])","v":0},{"$f":"SUM(s1inv[Unrealized Appreciation])","v":0},{"$f":"-SUM(ABS(s1inv[(Unrealized Depreciation)]))","v":0},{"$f":"SUM(s1inv[Class 1])","v":0},{"$f":"SUM(s1inv[Class 2])","v":0},null,{"$f":"SUM(s1inv[SBA Reported Value (B)])","v":0},{"$f":"SUM(s1inv[GAAP Reported Value (C)])","v":0},{"$f":"SUM(s1inv[Cum. Cash Proceeds (D)])","v":0},"",null,""]
[]
["*Portfolio companies must be first entered in Schedule 11.  ",{"$nulls":13},"*Link to Schedule 1c.",{"$nulls":11},"Inv. Multiple:     SBA Value      (B+D)/A",null,"Inv. Multiple:  GAAP Value (C+D)/A"]
["Portfolio Company Name","Employer ID","Critical Technology\n(if applicable)","Financing Type","Investment Type","Financing Description","Financing Date","Equity Capital Investment","Interest or Dividend Rate","Ownership % (Fully Diluted)","Restructured?","Loan/ Debt Status","Total Cash Invested (A)","Cost at Beginning Period","Schedule 1c Reference Number","Addition/\nDeduction","Non-Cash Gain included in Cost at End of Period","Cost at End of Period","Unrealized Appreciation","(Unrealized Depreciation)","Class 1","Class 2","Class 2 Date of Up Round","SBA Reported Value (B)","GAAP Reported Value (C)","Cum. Cash Proceeds (D)","Current SBA Mult","Prior SBA Mult","Current GAAP Mult","Prior GAAP Mult","First Investment Date"]
[null,{"$f":"IF(IFERROR(VLOOKUP(s1inv[[#This Row],[Portfolio Company Name]],s11cumperf[],2,FALSE),\"\")=\"\",\"\",(IFERROR(VLOOKUP(s1inv[[#This Row],[Portfolio Company Name]],s11cumperf[],2,FALSE),\"\")))","v":""},{"$nulls":13},{"$f":"IF(s1inv[[#This Row],[Schedule 1c Reference Number]]=\"\",0,SUMIF(sched1c[Reference ID],s1inv[[#This Row],[Employer ID]]&\"-\"&s1inv[[#This Row],[Schedule 1c Reference Number]],sched1c[Change to Cost]))","v":0},null,{"$f":"s1inv[[#This Row],[Cost at Beginning Period]]+s1inv[[#This Row],[Addition/\nDeduction]]","v":0},{"$nulls":5},{"$f":"s1inv[[#This Row],[Cost at End of Period]]+s1inv[[#This Row],[Unrealized Appreciation]]-ABS(s1inv[[#This Row],[(Unrealized Depreciation)]])","v":0},0,null,{"$f":"IFERROR((s1inv[[#This Row],[SBA Reported Value (B)]]+s1inv[[#This Row],[Cum. Cash Proceeds (D)]])/s1inv[[#This Row],[Total Cash Invested (A)]],\"\")","v":""},null,{"$f":"IFERROR((s1inv[[#This Row],[GAAP Reported Value (C)]]+s1inv[[#This Row],[Cum. Cash Proceeds (D)]])/s1inv[[#This Row],[Total Cash Invested (A)]],\"\")","v":""},null,{"$f":"IF(IFERROR(VLOOKUP(s1inv[[#This Row],[Portfolio Company Name]],s11cumperf[],4,FALSE),\"\")=\"\",\"\",(IFERROR(VLOOKUP(s1inv[[#This Row],[Portfolio Company Name]],s11cumperf[],4,FALSE),\"\")))","v":""}]
[" ",{"$f":"IF(IFERROR(VLOOKUP(s1inv[[#This Row],[Portfolio Company Name]],s11cumperf[],2,FALSE),\"\")=\"\",\"\",(IFERROR(VLOOKUP(s1inv[[#This Row],[Portfolio Company Name]],s11cumperf[],2,FALSE),\"\")))","v":""},{"$nulls":13},{"$f":"IF(s1inv[[#This Row],[Schedule 1c Reference Number]]=\"\",0,SUMIF(sched1c[Reference ID],s1inv[[#This Row],[Employer ID]]&\"-\"&s1inv[[#This Row],[Schedule 1c Reference Number]],sched1c[Change to Cost]))","v":0},null,{"$f":"s1inv[[#This Row],[Cost at Beginning Period]]+s1inv[[#This Row],[Addition/\nDeduction]]","v":0},{"$nulls":5},{"$f":"s1inv[[#This Row],[Cost at End of Period]]+s1inv[[#This Row],[Unrealized Appreciation]]-ABS(s1inv[[#This Row],[(Unrealized Depreciation)]])","v":0},0,null,{"$f":"IFERROR((s1inv[[#This Row],[SBA Reported Value (B)]]+s1inv[[#This Row],[Cum. Cash Proceeds (D)]])/s1inv[[#This Row],[Total Cash Invested (A)]],\"\")","v":""},null,{"$f":"IFERROR((s1inv[[#This Row],[GAAP Reported Value (C)]]+s1inv[[#This Row],[Cum. Cash Proceeds (D)]])/s1inv[[#This Row],[Total Cash Invested (A)]],\"\")","v":""},null,{"$f":"IF(IFERROR(VLOOKUP(s1inv[[#This Row],[Portfolio Company Name]],s11cumperf[],4,FALSE),\"\")=\"\",\"\",(IFERROR(VLOOKUP(s1inv[[#This Row],[Portfolio Company Name]],s11cumperf[],4,FALSE),\"\")))","v":""}]
[" ",{"$f":"IF(IFERROR(VLOOKUP(s1inv[[#This Row],[Portfolio Company Name]],s11cumperf[],2,FALSE),\"\")=\"\",\"\",(IFERROR(VLOOKUP(s1inv[[#This Row],[Portfolio Company Name]],s11cumperf[],2,FALSE),\"\")))","v":""},{"$nulls":13},{"$f":"IF(s1inv[[#This Row],[Schedule 1c Reference Number]]=\"\",0,SUMIF(sched1c[Reference ID],s1inv[[#This Row],[Employer ID]]&\"-\"&s1inv[[#This Row],[Schedule 1c Reference Number]],sched1c[Change to Cost]))","v":0},null,{"$f":"s1inv[[#This Row],[Cost at Beginning Period]]+s1inv[[#This Row],[Addition/\nDeduction]]","v":0},{"$nulls":5},{"$f":"s1inv[[#This Row],[Cost at End of Period]]+s1inv[[#This Row],[Unrealized Appreciation]]-ABS(s1inv[[#This Row],[(Unrealized Depreciation)]])","v":0},0,null,{"$f":"IFERROR((s1inv[[#This Row],[SBA Reported Value (B)]]+s1inv[[#This Row],[Cum. Cash Proceeds (D)]])/s1inv[[#This Row],[Total Cash Invested (A)]],\"\")","v":""},null,{"$f":"IFERROR((s1inv[[#This Row],[GAAP Reported Value (C)]]+s1inv[[#This Row],[Cum. Cash Proceeds (D)]])/s1inv[[#This Row],[Total Cash Invested (A)]],\"\")","v":""},null,{"$f":"IF(IFERROR(VLOOKUP(s1inv[[#This Row],[Portfolio Company Name]],s11cumperf[],4,FALSE),\"\")=\"\",\"\",(IFERROR(VLOOKUP(s1inv[[#This Row],[Portfolio Company Name]],s11cumperf[],4,FALSE),\"\")))","v":""}]
[" ",{"$f":"IF(IFERROR(VLOOKUP(s1inv[[#This Row],[Portfolio Company Name]],s11cumperf[],2,FALSE),\"\")=\"\",\"\",(IFERROR(VLOOKUP(s1inv[[#This Row],[Portfolio Company Name]],s11cumperf[],2,FALSE),\"\")))","v":""},{"$nulls":13},{"$f":"IF(s1inv[[#This Row],[Schedule 1c Reference Number]]=\"\",0,SUMIF(sched1c[Reference ID],s1inv[[#This Row],[Employer ID]]&\"-\"&s1inv[[#This Row],[Schedule 1c Reference Number]],sched1c[Change to Cost]))","v":0},null,{"$f":"s1inv[[#This Row],[Cost at Beginning Period]]+s1inv[[#This Row],[Addition/\nDeduction]]","v":0},{"$nulls":5},{"$f":"s1inv[[#This Row],[Cost at End of Period]]+s1inv[[#This Row],[Unrealized Appreciation]]-ABS(s1inv[[#This Row],[(Unrealized Depreciation)]])","v":0},0,null,{"$f":"IFERROR((s1inv[[#This Row],[SBA Reported Value (B)]]+s1inv[[#This Row],[Cum. Cash Proceeds (D)]])/s1inv[[#This Row],[Total Cash Invested (A)]],\"\")","v":""},null,{"$f":"IFERROR((s1inv[[#This Row],[GAAP Reported Value (C)]]+s1inv[[#This Row],[Cum. Cash Proceeds (D)]])/s1inv[[#This Row],[Total Cash Invested (A)]],\"\")","v":""},null,{"$f":"IF(IFERROR(VLOOKUP(s1inv[[#This Row],[Portfolio Company Name]],s11cumperf[],4,FALSE),\"\")=\"\",\"\",(IFERROR(VLOOKUP(s1inv[[#This Row],[Portfolio Company Name]],s11cumperf[],4,FALSE),\"\")))","v":""}]
[" ",{"$f":"IF(IFERROR(VLOOKUP(s1inv[[#This Row],[Portfolio Company Name]],s11cumperf[],2,FALSE),\"\")=\"\",\"\",(IFERROR(VLOOKUP(s1inv[[#This Row],[Portfolio Company Name]],s11cumperf[],2,FALSE),\"\")))","v":""},{"$nulls":13},{"$f":"IF(s1inv[[#This Row],[Schedule 1c Reference Number]]=\"\",0,SUMIF(sched1c[Reference ID],s1inv[[#This Row],[Employer ID]]&\"-\"&s1inv[[#This Row],[Schedule 1c Reference Number]],sched1c[Change to Cost]))","v":0},null,{"$f":"s1inv[[#This Row],[Cost at Beginning Period]]+s1inv[[#This Row],[Addition/\nDeduction]]","v":0},{"$nulls":5},{"$f":"s1inv[[#This Row],[Cost at End of Period]]+s1inv[[#This Row],[Unrealized Appreciation]]-ABS(s1inv[[#This Row],[(Unrealized Depreciation)]])","v":0},0,null,{"$f":"IFERROR((s1inv[[#This Row],[SBA Reported Value (B)]]+s1inv[[#This Row],[Cum. Cash Proceeds (D)]])/s1inv[[#This Row],[Total Cash Invested (A)]],\"\")","v":""},null,{"$f":"IFERROR((s1inv[[#This Row],[GAAP Reported Value (C)]]+s1inv[[#This Row],[Cum. Cash Proceeds (D)]])/s1inv[[#This Row],[Total Cash Invested (A)]],\"\")","v":""},null,{"$f":"IF(IFERROR(VLOOKUP(s1inv[[#This Row],[Portfolio Company Name]],s11cumperf[],4,FALSE),\"\")=\"\",\"\",(IFERROR(VLOOKUP(s1inv[[#This Row],[Portfolio Company Name]],s11cumperf[],4,FALSE),\"\")))","v":""}]
[" ",{"$f":"IF(IFERROR(VLOOKUP(s1inv[[#This Row],[Portfolio Company Name]],s11cumperf[],2,FALSE),\"\")=\"\",\"\",(IFERROR(VLOOKUP(s1inv[[#This Row],[Portfolio Company Name]],s11cumperf[],2,FALSE),\"\")))","v":""},{"$nulls":13},{"$f":"IF(s1inv[[#This Row],[Schedule 1c Reference Number]]=\"\",0,SUMIF(sched1c[Reference ID],s1inv[[#This Row],[Employer ID]]&\"-\"&s1inv[[#This Row],[Schedule 1c Reference Number]],sched1c[Change to Cost]))","v":0},null,{"$f":"s1inv[[#This Row],[Cost at Beginning Period]]+s1inv[[#This Row],[Addition/\nDeduction]]","v":0},{"$nulls":5},{"$f":"s1inv[[#This Row],[Cost at End of Period]]+s1inv[[#This Row],[Unrealized Appreciation]]-ABS(s1inv[[#This Row],[(Unrealized Depreciation)]])","v":0},0,null,{"$f":"IFERROR((s1inv[[#This Row],[SBA Reported Value (B)]]+s1inv[[#This Row],[Cum. Cash Proceeds (D)]])/s1inv[[#This Row],[Total Cash Invested (A)]],\"\")","v":""},null,{"$f":"IFERROR((s1inv[[#This Row],[GAAP Reported Value (C)]]+s1inv[[#This Row],[Cum. Cash Proceeds (D)]])/s1inv[[#This Row],[Total Cash Invested (A)]],\"\")","v":""},null,{"$f":"IF(IFERROR(VLOOKUP(s1inv[[#This Row],[Portfolio Company Name]],s11cumperf[],4,FALSE),\"\")=\"\",\"\",(IFERROR(VLOOKUP(s1inv[[#This Row],[Portfolio Company Name]],s11cumperf[],4,FALSE),\"\")))","v":""}]
[" ",{"$f":"IF(IFERROR(VLOOKUP(s1inv[[#This Row],[Portfolio Company Name]],s11cumperf[],2,FALSE),\"\")=\"\",\"\",(IFERROR(VLOOKUP(s1inv[[#This Row],[Portfolio Company Name]],s11cumperf[],2,FALSE),\"\")))","v":""},{"$nulls":13},{"$f":"IF(s1inv[[#This Row],[Schedule 1c Reference Number]]=\"\",0,SUMIF(sched1c[Reference ID],s1inv[[#This Row],[Employer ID]]&\"-\"&s1inv[[#This Row],[Schedule 1c Reference Number]],sched1c[Change to Cost]))","v":0},null,{"$f":"s1inv[[#This Row],[Cost at Beginning Period]]+s1inv[[#This Row],[Addition/\nDeduction]]","v":0},{"$nulls":5},{"$f":"s1inv[[#This Row],[Cost at End of Period]]+s1inv[[#This Row],[Unrealized Appreciation]]-ABS(s1inv[[#This Row],[(Unrealized Depreciation)]])","v":0},0,null,{"$f":"IFERROR((s1inv[[#This Row],[SBA Reported Value (B)]]+s1inv[[#This Row],[Cum. Cash Proceeds (D)]])/s1inv[[#This Row],[Total Cash Invested (A)]],\"\")","v":""},null,{"$f":"IFERROR((s1inv[[#This Row],[GAAP Reported Value (C)]]+s1inv[[#This Row],[Cum. Cash Proceeds (D)]])/s1inv[[#This Row],[Total Cash Invested (A)]],\"\")","v":""},null,{"$f":"IF(IFERROR(VLOOKUP(s1inv[[#This Row],[Portfolio Company Name]],s11cumperf[],4,FALSE),\"\")=\"\",\"\",(IFERROR(VLOOKUP(s1inv[[#This Row],[Portfolio Company Name]],s11cumperf[],4,FALSE),\"\")))","v":""}]
[" ",{"$f":"IF(IFERROR(VLOOKUP(s1inv[[#This Row],[Portfolio Company Name]],s11cumperf[],2,FALSE),\"\")=\"\",\"\",(IFERROR(VLOOKUP(s1inv[[#This Row],[Portfolio Company Name]],s11cumperf[],2,FALSE),\"\")))","v":""},{"$nulls":13},{"$f":"IF(s1inv[[#This Row],[Schedule 1c Reference Number]]=\"\",0,SUMIF(sched1c[Reference ID],s1inv[[#This Row],[Employer ID]]&\"-\"&s1inv[[#This Row],[Schedule 1c Reference Number]],sched1c[Change to Cost]))","v":0},null,{"$f":"s1inv[[#This Row],[Cost at Beginning Period]]+s1inv[[#This Row],[Addition/\nDeduction]]","v":0},{"$nulls":5},{"$f":"s1inv[[#This Row],[Cost at End of Period]]+s1inv[[#This Row],[Unrealized Appreciation]]-ABS(s1inv[[#This Row],[(Unrealized Depreciation)]])","v":0},0,null,{"$f":"IFERROR((s1inv[[#This Row],[SBA Reported Value (B)]]+s1inv[[#This Row],[Cum. Cash Proceeds (D)]])/s1inv[[#This Row],[Total Cash Invested (A)]],\"\")","v":""},null,{"$f":"IFERROR((s1inv[[#This Row],[GAAP Reported Value (C)]]+s1inv[[#This Row],[Cum. Cash Proceeds (D)]])/s1inv[[#This Row],[Total Cash Invested (A)]],\"\")","v":""},null,{"$f":"IF(IFERROR(VLOOKUP(s1inv[[#This Row],[Portfolio Company Name]],s11cumperf[],4,FALSE),\"\")=\"\",\"\",(IFERROR(VLOOKUP(s1inv[[#This Row],[Portfolio Company Name]],s11cumperf[],4,FALSE),\"\")))","v":""}]
[" ",{"$f":"IF(IFERROR(VLOOKUP(s1inv[[#This Row],[Portfolio Company Name]],s11cumperf[],2,FALSE),\"\")=\"\",\"\",(IFERROR(VLOOKUP(s1inv[[#This Row],[Portfolio Company Name]],s11cumperf[],2,FALSE),\"\")))","v":""},{"$nulls":13},{"$f":"IF(s1inv[[#This Row],[Schedule 1c Reference Number]]=\"\",0,SUMIF(sched1c[Reference ID],s1inv[[#This Row],[Employer ID]]&\"-\"&s1inv[[#This Row],[Schedule 1c Reference Number]],sched1c[Change to Cost]))","v":0},null,{"$f":"s1inv[[#This Row],[Cost at Beginning Period]]+s1inv[[#This Row],[Addition/\nDeduction]]","v":0},{"$nulls":5},{"$f":"s1inv[[#This Row],[Cost at End of Period]]+s1inv[[#This Row],[Unrealized Appreciation]]-ABS(s1inv[[#This Row],[(Unrealized Depreciation)]])","v":0},0,null,{"$f":"IFERROR((s1inv[[#This Row],[SBA Reported Value (B)]]+s1inv[[#This Row],[Cum. Cash Proceeds (D)]])/s1inv[[#This Row],[Total Cash Invested (A)]],\"\")","v":""},null,{"$f":"IFERROR((s1inv[[#This Row],[GAAP Reported Value (C)]]+s1inv[[#This Row],[Cum. Cash Proceeds (D)]])/s1inv[[#This Row],[Total Cash Invested (A)]],\"\")","v":""},null,{"$f":"IF(IFERROR(VLOOKUP(s1inv[[#This Row],[Portfolio Company Name]],s11cumperf[],4,FALSE),\"\")=\"\",\"\",(IFERROR(VLOOKUP(s1inv[[#This Row],[Portfolio Company Name]],s11cumperf[],4,FALSE),\"\")))","v":""}]
[" ",{"$f":"IF(IFERROR(VLOOKUP(s1inv[[#This Row],[Portfolio Company Name]],s11cumperf[],2,FALSE),\"\")=\"\",\"\",(IFERROR(VLOOKUP(s1inv[[#This Row],[Portfolio Company Name]],s11cumperf[],2,FALSE),\"\")))","v":""},{"$nulls":13},{"$f":"IF(s1inv[[#This Row],[Schedule 1c Reference Number]]=\"\",0,SUMIF(sched1c[Reference ID],s1inv[[#This Row],[Employer ID]]&\"-\"&s1inv[[#This Row],[Schedule 1c Reference Number]],sched1c[Change to Cost]))","v":0},null,{"$f":"s1inv[[#This Row],[Cost at Beginning Period]]+s1inv[[#This Row],[Addition/\nDeduction]]","v":0},{"$nulls":5},{"$f":"s1inv[[#This Row],[Cost at End of Period]]+s1inv[[#This Row],[Unrealized Appreciation]]-ABS(s1inv[[#This Row],[(Unrealized Depreciation)]])","v":0},0,null,{"$f":"IFERROR((s1inv[[#This Row],[SBA Reported Value (B)]]+s1inv[[#This Row],[Cum. Cash Proceeds (D)]])/s1inv[[#This Row],[Total Cash Invested (A)]],\"\")","v":""},null,{"$f":"IFERROR((s1inv[[#This Row],[GAAP Reported Value (C)]]+s1inv[[#This Row],[Cum. Cash Proceeds (D)]])/s1inv[[#This Row],[Total Cash Invested (A)]],\"\")","v":""},null,{"$f":"IF(IFERROR(VLOOKUP(s1inv[[#This Row],[Portfolio Company Name]],s11cumperf[],4,FALSE),\"\")=\"\",\"\",(IFERROR(VLOOKUP(s1inv[[#This Row],[Portfolio Company Name]],s11cumperf[],4,FALSE),\"\")))","v":""}]
[" ",{"$f":"IF(IFERROR(VLOOKUP(s1inv[[#This Row],[Portfolio Company Name]],s11cumperf[],2,FALSE),\"\")=\"\",\"\",(IFERROR(VLOOKUP(s1inv[[#This Row],[Portfolio Company Name]],s11cumperf[],2,FALSE),\"\")))","v":""},{"$nulls":13},{"$f":"IF(s1inv[[#This Row],[Schedule 1c Reference Number]]=\"\",0,SUMIF(sched1c[Reference ID],s1inv[[#This Row],[Employer ID]]&\"-\"&s1inv[[#This Row],[Schedule 1c Reference Number]],sched1c[Change to Cost]))","v":0},null,{"$f":"s1inv[[#This Row],[Cost at Beginning Period]]+s1inv[[#This Row],[Addition/\nDeduction]]","v":0},{"$nulls":5},{"$f":"s1inv[[#This Row],[Cost at End of Period]]+s1inv[[#This Row],[Unrealized Appreciation]]-ABS(s1inv[[#This Row],[(Unrealized Depreciation)]])","v":0},0,null,{"$f":"IFERROR((s1inv[[#This Row],[SBA Reported Value (B)]]+s1inv[[#This Row],[Cum. Cash Proceeds (D)]])/s1inv[[#This Row],[Total Cash Invested (A)]],\"\")","v":""},null,{"$f":"IFERROR((s1inv[[#This Row],[GAAP Reported Value (C)]]+s1inv[[#This Row],[Cum. Cash Proceeds (D)]])/s1inv[[#This Row],[Total Cash Invested (A)]],\"\")","v":""},null,{"$f":"IF(IFERROR(VLOOKUP(s1inv[[#This Row],[Portfolio Company Name]],s11cumperf[],4,FALSE),\"\")=\"\",\"\",(IFERROR(VLOOKUP(s1inv[[#This Row],[Portfolio Company Name]],s11cumperf[],4,FALSE),\"\")))","v":""}]
[" ",{"$f":"IF(IFERROR(VLOOKUP(s1inv[[#This Row],[Portfolio Company Name]],s11cumperf[],2,FALSE),\"\")=\"\",\"\",(IFERROR(VLOOKUP(s1inv[[#This Row],[Portfolio Company Name]],s11cumperf[],2,FALSE),\"\")))","v":""},{"$nulls":13},{"$f":"IF(s1inv[[#This Row],[Schedule 1c Reference Number]]=\"\",0,SUMIF(sched1c[Reference ID],s1inv[[#This Row],[Employer ID]]&\"-\"&s1inv[[#This Row],[Schedule 1c Reference Number]],sched1c[Change to Cost]))","v":0},null,{"$f":"s1inv[[#This Row],[Cost at Beginning Period]]+s1inv[[#This Row],[Addition/\nDeduction]]","v":0},{"$nulls":5},{"$f":"s1inv[[#This Row],[Cost at End of Period]]+s1inv[[#This Row],[Unrealized Appreciation]]-ABS(s1inv[[#This Row],[(Unrealized Depreciation)]])","v":0},0,null,{"$f":"IFERROR((s1inv[[#This Row],[SBA Reported Value (B)]]+s1inv[[#This Row],[Cum. Cash Proceeds (D)]])/s1inv[[#This Row],[Total Cash Invested (A)]],\"\")","v":""},null,{"$f":"IFERROR((s1inv[[#This Row],[GAAP Reported Value (C)]]+s1inv[[#This Row],[Cum. Cash Proceeds (D)]])/s1inv[[#This Row],[Total Cash Invested (A)]],\"\")","v":""},null,{"$f":"IF(IFERROR(VLOOKUP(s1inv[[#This Row],[Portfolio Company Name]],s11cumperf[],4,FALSE),\"\")=\"\",\"\",(IFERROR(VLOOKUP(s1inv[[#This Row],[Portfolio Company Name]],s11cumperf[],4,FALSE),\"\")))","v":""}]
[" ",{"$f":"IF(IFERROR(VLOOKUP(s1inv[[#This Row],[Portfolio Company Name]],s11cumperf[],2,FALSE),\"\")=\"\",\"\",(IFERROR(VLOOKUP(s1inv[[#This Row],[Portfolio Company Name]],s11cumperf[],2,FALSE),\"\")))","v":""},{"$nulls":13},{"$f":"IF(s1inv[[#This Row],[Schedule 1c Reference Number]]=\"\",0,SUMIF(sched1c[Reference ID],s1inv[[#This Row],[Employer ID]]&\"-\"&s1inv[[#This Row],[Schedule 1c Reference Number]],sched1c[Change to Cost]))","v":0},null,{"$f":"s1inv[[#This Row],[Cost at Beginning Period]]+s1inv[[#This Row],[Addition/\nDeduction]]","v":0},{"$nulls":5},{"$f":"s1inv[[#This Row],[Cost at End of Period]]+s1inv[[#This Row],[Unrealized Appreciation]]-ABS(s1inv[[#This Row],[(Unrealized Depreciation)]])","v":0},0,null,{"$f":"IFERROR((s1inv[[#This Row],[SBA Reported Value (B)]]+s1inv[[#This Row],[Cum. Cash Proceeds (D)]])/s1inv[[#This Row],[Total Cash Invested (A)]],\"\")","v":""},null,{"$f":"IFERROR((s1inv[[#This Row],[GAAP Reported Value (C)]]+s1inv[[#This Row],[Cum. Cash Proceeds (D)]])/s1inv[[#This Row],[Total Cash Invested (A)]],\"\")","v":""},null,{"$f":"IF(IFERROR(VLOOKUP(s1inv[[#This Row],[Portfolio Company Name]],s11cumperf[],4,FALSE),\"\")=\"\",\"\",(IFERROR(VLOOKUP(s1inv[[#This Row],[Portfolio Company Name]],s11cumperf[],4,FALSE),\"\")))","v":""}]
[" ",{"$f":"IF(IFERROR(VLOOKUP(s1inv[[#This Row],[Portfolio Company Name]],s11cumperf[],2,FALSE),\"\")=\"\",\"\",(IFERROR(VLOOKUP(s1inv[[#This Row],[Portfolio Company Name]],s11cumperf[],2,FALSE),\"\")))","v":""},{"$nulls":13},{"$f":"IF(s1inv[[#This Row],[Schedule 1c Reference Number]]=\"\",0,SUMIF(sched1c[Reference ID],s1inv[[#This Row],[Employer ID]]&\"-\"&s1inv[[#This Row],[Schedule 1c Reference Number]],sched1c[Change to Cost]))","v":0},null,{"$f":"s1inv[[#This Row],[Cost at Beginning Period]]+s1inv[[#This Row],[Addition/\nDeduction]]","v":0},{"$nulls":5},{"$f":"s1inv[[#This Row],[Cost at End of Period]]+s1inv[[#This Row],[Unrealized Appreciation]]-ABS(s1inv[[#This Row],[(Unrealized Depreciation)]])","v":0},0,null,{"$f":"IFERROR((s1inv[[#This Row],[SBA Reported Value (B)]]+s1inv[[#This Row],[Cum. Cash Proceeds (D)]])/s1inv[[#This Row],[Total Cash Invested (A)]],\"\")","v":""},null,{"$f":"IFERROR((s1inv[[#This Row],[GAAP Reported Value (C)]]+s1inv[[#This Row],[Cum. Cash Proceeds (D)]])/s1inv[[#This Row],[Total Cash Invested (A)]],\"\")","v":""},null,{"$f":"IF(IFERROR(VLOOKUP(s1inv[[#This Row],[Portfolio Company Name]],s11cumperf[],4,FALSE),\"\")=\"\",\"\",(IFERROR(VLOOKUP(s1inv[[#This Row],[Portfolio Company Name]],s11cumperf[],4,FALSE),\"\")))","v":""}]
[" ",{"$f":"IF(IFERROR(VLOOKUP(s1inv[[#This Row],[Portfolio Company Name]],s11cumperf[],2,FALSE),\"\")=\"\",\"\",(IFERROR(VLOOKUP(s1inv[[#This Row],[Portfolio Company Name]],s11cumperf[],2,FALSE),\"\")))","v":""},{"$nulls":13},{"$f":"IF(s1inv[[#This Row],[Schedule 1c Reference Number]]=\"\",0,SUMIF(sched1c[Reference ID],s1inv[[#This Row],[Employer ID]]&\"-\"&s1inv[[#This Row],[Schedule 1c Reference Number]],sched1c[Change to Cost]))","v":0},null,{"$f":"s1inv[[#This Row],[Cost at Beginning Period]]+s1inv[[#This Row],[Addition/\nDeduction]]","v":0},{"$nulls":5},{"$f":"s1inv[[#This Row],[Cost at End of Period]]+s1inv[[#This Row],[Unrealized Appreciation]]-ABS(s1inv[[#This Row],[(Unrealized Depreciation)]])","v":0},0,null,{"$f":"IFERROR((s1inv[[#This Row],[SBA Reported Value (B)]]+s1inv[[#This Row],[Cum. Cash Proceeds (D)]])/s1inv[[#This Row],[Total Cash Invested (A)]],\"\")","v":""},null,{"$f":"IFERROR((s1inv[[#This Row],[GAAP Reported Value (C)]]+s1inv[[#This Row],[Cum. Cash Proceeds (D)]])/s1inv[[#This Row],[Total Cash Invested (A)]],\"\")","v":""},null,{"$f":"IF(IFERROR(VLOOKUP(s1inv[[#This Row],[Portfolio Company Name]],s11cumperf[],4,FALSE),\"\")=\"\",\"\",(IFERROR(VLOOKUP(s1inv[[#This Row],[Portfolio Company Name]],s11cumperf[],4,FALSE),\"\")))","v":""}]
[" ",{"$f":"IF(IFERROR(VLOOKUP(s1inv[[#This Row],[Portfolio Company Name]],s11cumperf[],2,FALSE),\"\")=\"\",\"\",(IFERROR(VLOOKUP(s1inv[[#This Row],[Portfolio Company Name]],s11cumperf[],2,FALSE),\"\")))","v":""},{"$nulls":13},{"$f":"IF(s1inv[[#This Row],[Schedule 1c Reference Number]]=\"\",0,SUMIF(sched1c[Reference ID],s1inv[[#This Row],[Employer ID]]&\"-\"&s1inv[[#This Row],[Schedule 1c Reference Number]],sched1c[Change to Cost]))","v":0},null,{"$f":"s1inv[[#This Row],[Cost at Beginning Period]]+s1inv[[#This Row],[Addition/\nDeduction]]","v":0},{"$nulls":5},{"$f":"s1inv[[#This Row],[Cost at End of Period]]+s1inv[[#This Row],[Unrealized Appreciation]]-ABS(s1inv[[#This Row],[(Unrealized Depreciation)]])","v":0},0,null,{"$f":"IFERROR((s1inv[[#This Row],[SBA Reported Value (B)]]+s1inv[[#This Row],[Cum. Cash Proceeds (D)]])/s1inv[[#This Row],[Total Cash Invested (A)]],\"\")","v":""},null,{"$f":"IFERROR((s1inv[[#This Row],[GAAP Reported Value (C)]]+s1inv[[#This Row],[Cum. Cash Proceeds (D)]])/s1inv[[#This Row],[Total Cash Invested (A)]],\"\")","v":""},null,{"$f":"IF(IFERROR(VLOOKUP(s1inv[[#This Row],[Portfolio Company Name]],s11cumperf[],4,FALSE),\"\")=\"\",\"\",(IFERROR(VLOOKUP(s1inv[[#This Row],[Portfolio Company Name]],s11cumperf[],4,FALSE),\"\")))","v":""}]
[" ",{"$f":"IF(IFERROR(VLOOKUP(s1inv[[#This Row],[Portfolio Company Name]],s11cumperf[],2,FALSE),\"\")=\"\",\"\",(IFERROR(VLOOKUP(s1inv[[#This Row],[Portfolio Company Name]],s11cumperf[],2,FALSE),\"\")))","v":""},{"$nulls":13},{"$f":"IF(s1inv[[#This Row],[Schedule 1c Reference Number]]=\"\",0,SUMIF(sched1c[Reference ID],s1inv[[#This Row],[Employer ID]]&\"-\"&s1inv[[#This Row],[Schedule 1c Reference Number]],sched1c[Change to Cost]))","v":0},null,{"$f":"s1inv[[#This Row],[Cost at Beginning Period]]+s1inv[[#This Row],[Addition/\nDeduction]]","v":0},{"$nulls":5},{"$f":"s1inv[[#This Row],[Cost at End of Period]]+s1inv[[#This Row],[Unrealized Appreciation]]-ABS(s1inv[[#This Row],[(Unrealized Depreciation)]])","v":0},0,null,{"$f":"IFERROR((s1inv[[#This Row],[SBA Reported Value (B)]]+s1inv[[#This Row],[Cum. Cash Proceeds (D)]])/s1inv[[#This Row],[Total Cash Invested (A)]],\"\")","v":""},null,{"$f":"IFERROR((s1inv[[#This Row],[GAAP Reported Value (C)]]+s1inv[[#This Row],[Cum. Cash Proceeds (D)]])/s1inv[[#This Row],[Total Cash Invested (A)]],\"\")","v":""},null,{"$f":"IF(IFERROR(VLOOKUP(s1inv[[#This Row],[Portfolio Company Name]],s11cumperf[],4,FALSE),\"\")=\"\",\"\",(IFERROR(VLOOKUP(s1inv[[#This Row],[Portfolio Company Name]],s11cumperf[],4,FALSE),\"\")))","v":""}]
[" ",{"$f":"IF(IFERROR(VLOOKUP(s1inv[[#This Row],[Portfolio Company Name]],s11cumperf[],2,FALSE),\"\")=\"\",\"\",(IFERROR(VLOOKUP(s1inv[[#This Row],[Portfolio Company Name]],s11cumperf[],2,FALSE),\"\")))","v":""},{"$nulls":13},{"$f":"IF(s1inv[[#This Row],[Schedule 1c Reference Number]]=\"\",0,SUMIF(sched1c[Reference ID],s1inv[[#This Row],[Employer ID]]&\"-\"&s1inv[[#This Row],[Schedule 1c Reference Number]],sched1c[Change to Cost]))","v":0},null,{"$f":"s1inv[[#This Row],[Cost at Beginning Period]]+s1inv[[#This Row],[Addition/\nDeduction]]","v":0},{"$nulls":5},{"$f":"s1inv[[#This Row],[Cost at End of Period]]+s1inv[[#This Row],[Unrealized Appreciation]]-ABS(s1inv[[#This Row],[(Unrealized Depreciation)]])","v":0},0,null,{"$f":"IFERROR((s1inv[[#This Row],[SBA Reported Value (B)]]+s1inv[[#This Row],[Cum. Cash Proceeds (D)]])/s1inv[[#This Row],[Total Cash Invested (A)]],\"\")","v":""},null,{"$f":"IFERROR((s1inv[[#This Row],[GAAP Reported Value (C)]]+s1inv[[#This Row],[Cum. Cash Proceeds (D)]])/s1inv[[#This Row],[Total Cash Invested (A)]],\"\")","v":""},null,{"$f":"IF(IFERROR(VLOOKUP(s1inv[[#This Row],[Portfolio Company Name]],s11cumperf[],4,FALSE),\"\")=\"\",\"\",(IFERROR(VLOOKUP(s1inv[[#This Row],[Portfolio Company Name]],s11cumperf[],4,FALSE),\"\")))","v":""}]
[" ",{"$f":"IF(IFERROR(VLOOKUP(s1inv[[#This Row],[Portfolio Company Name]],s11cumperf[],2,FALSE),\"\")=\"\",\"\",(IFERROR(VLOOKUP(s1inv[[#This Row],[Portfolio Company Name]],s11cumperf[],2,FALSE),\"\")))","v":""},{"$nulls":13},{"$f":"IF(s1inv[[#This Row],[Schedule 1c Reference Number]]=\"\",0,SUMIF(sched1c[Reference ID],s1inv[[#This Row],[Employer ID]]&\"-\"&s1inv[[#This Row],[Schedule 1c Reference Number]],sched1c[Change to Cost]))","v":0},null,{"$f":"s1inv[[#This Row],[Cost at Beginning Period]]+s1inv[[#This Row],[Addition/\nDeduction]]","v":0},{"$nulls":5},{"$f":"s1inv[[#This Row],[Cost at End of Period]]+s1inv[[#This Row],[Unrealized Appreciation]]-ABS(s1inv[[#This Row],[(Unrealized Depreciation)]])","v":0},0,null,{"$f":"IFERROR((s1inv[[#This Row],[SBA Reported Value (B)]]+s1inv[[#This Row],[Cum. Cash Proceeds (D)]])/s1inv[[#This Row],[Total Cash Invested (A)]],\"\")","v":""},null,{"$f":"IFERROR((s1inv[[#This Row],[GAAP Reported Value (C)]]+s1inv[[#This Row],[Cum. Cash Proceeds (D)]])/s1inv[[#This Row],[Total Cash Invested (A)]],\"\")","v":""},null,{"$f":"IF(IFERROR(VLOOKUP(s1inv[[#This Row],[Portfolio Company Name]],s11cumperf[],4,FALSE),\"\")=\"\",\"\",(IFERROR(VLOOKUP(s1inv[[#This Row],[Portfolio Company Name]],s11cumperf[],4,FALSE),\"\")))","v":""}]
[" ",{"$f":"IF(IFERROR(VLOOKUP(s1inv[[#This Row],[Portfolio Company Name]],s11cumperf[],2,FALSE),\"\")=\"\",\"\",(IFERROR(VLOOKUP(s1inv[[#This Row],[Portfolio Company Name]],s11cumperf[],2,FALSE),\"\")))","v":""},{"$nulls":13},{"$f":"IF(s1inv[[#This Row],[Schedule 1c Reference Number]]=\"\",0,SUMIF(sched1c[Reference ID],s1inv[[#This Row],[Employer ID]]&\"-\"&s1inv[[#This Row],[Schedule 1c Reference Number]],sched1c[Change to Cost]))","v":0},null,{"$f":"s1inv[[#This Row],[Cost at Beginning Period]]+s1inv[[#This Row],[Addition/\nDeduction]]","v":0},{"$nulls":5},{"$f":"s1inv[[#This Row],[Cost at End of Period]]+s1inv[[#This Row],[Unrealized Appreciation]]-ABS(s1inv[[#This Row],[(Unrealized Depreciation)]])","v":0},0,null,{"$f":"IFERROR((s1inv[[#This Row],[SBA Reported Value (B)]]+s1inv[[#This Row],[Cum. Cash Proceeds (D)]])/s1inv[[#This Row],[Total Cash Invested (A)]],\"\")","v":""},null,{"$f":"IFERROR((s1inv[[#This Row],[GAAP Reported Value (C)]]+s1inv[[#This Row],[Cum. Cash Proceeds (D)]])/s1inv[[#This Row],[Total Cash Invested (A)]],\"\")","v":""},null,{"$f":"IF(IFERROR(VLOOKUP(s1inv[[#This Row],[Portfolio Company Name]],s11cumperf[],4,FALSE),\"\")=\"\",\"\",(IFERROR(VLOOKUP(s1inv[[#This Row],[Portfolio Company Name]],s11cumperf[],4,FALSE),\"\")))","v":""}]
[" ",{"$f":"IF(IFERROR(VLOOKUP(s1inv[[#This Row],[Portfolio Company Name]],s11cumperf[],2,FALSE),\"\")=\"\",\"\",(IFERROR(VLOOKUP(s1inv[[#This Row],[Portfolio Company Name]],s11cumperf[],2,FALSE),\"\")))","v":""},{"$nulls":13},{"$f":"IF(s1inv[[#This Row],[Schedule 1c Reference Number]]=\"\",0,SUMIF(sched1c[Reference ID],s1inv[[#This Row],[Employer ID]]&\"-\"&s1inv[[#This Row],[Schedule 1c Reference Number]],sched1c[Change to Cost]))","v":0},null,{"$f":"s1inv[[#This Row],[Cost at Beginning Period]]+s1inv[[#This Row],[Addition/\nDeduction]]","v":0},{"$nulls":5},{"$f":"s1inv[[#This Row],[Cost at End of Period]]+s1inv[[#This Row],[Unrealized Appreciation]]-ABS(s1inv[[#This Row],[(Unrealized Depreciation)]])","v":0},0,null,{"$f":"IFERROR((s1inv[[#This Row],[SBA Reported Value (B)]]+s1inv[[#This Row],[Cum. Cash Proceeds (D)]])/s1inv[[#This Row],[Total Cash Invested (A)]],\"\")","v":""},null,{"$f":"IFERROR((s1inv[[#This Row],[GAAP Reported Value (C)]]+s1inv[[#This Row],[Cum. Cash Proceeds (D)]])/s1inv[[#This Row],[Total Cash Invested (A)]],\"\")","v":""},null,{"$f":"IF(IFERROR(VLOOKUP(s1inv[[#This Row],[Portfolio Company Name]],s11cumperf[],4,FALSE),\"\")=\"\",\"\",(IFERROR(VLOOKUP(s1inv[[#This Row],[Portfolio Company Name]],s11cumperf[],4,FALSE),\"\")))","v":""}]
[" ",{"$f":"IF(IFERROR(VLOOKUP(s1inv[[#This Row],[Portfolio Company Name]],s11cumperf[],2,FALSE),\"\")=\"\",\"\",(IFERROR(VLOOKUP(s1inv[[#This Row],[Portfolio Company Name]],s11cumperf[],2,FALSE),\"\")))","v":""},{"$nulls":13},{"$f":"IF(s1inv[[#This Row],[Schedule 1c Reference Number]]=\"\",0,SUMIF(sched1c[Reference ID],s1inv[[#This Row],[Employer ID]]&\"-\"&s1inv[[#This Row],[Schedule 1c Reference Number]],sched1c[Change to Cost]))","v":0},null,{"$f":"s1inv[[#This Row],[Cost at Beginning Period]]+s1inv[[#This Row],[Addition/\nDeduction]]","v":0},{"$nulls":5},{"$f":"s1inv[[#This Row],[Cost at End of Period]]+s1inv[[#This Row],[Unrealized Appreciation]]-ABS(s1inv[[#This Row],[(Unrealized Depreciation)]])","v":0},0,null,{"$f":"IFERROR((s1inv[[#This Row],[SBA Reported Value (B)]]+s1inv[[#This Row],[Cum. Cash Proceeds (D)]])/s1inv[[#This Row],[Total Cash Invested (A)]],\"\")","v":""},null,{"$f":"IFERROR((s1inv[[#This Row],[GAAP Reported Value (C)]]+s1inv[[#This Row],[Cum. Cash Proceeds (D)]])/s1inv[[#This Row],[Total Cash Invested (A)]],\"\")","v":""},null,{"$f":"IF(IFERROR(VLOOKUP(s1inv[[#This Row],[Portfolio Company Name]],s11cumperf[],4,FALSE),\"\")=\"\",\"\",(IFERROR(VLOOKUP(s1inv[[#This Row],[Portfolio Company Name]],s11cumperf[],4,FALSE),\"\")))","v":""}]
[" ",{"$f":"IF(IFERROR(VLOOKUP(s1inv[[#This Row],[Portfolio Company Name]],s11cumperf[],2,FALSE),\"\")=\"\",\"\",(IFERROR(VLOOKUP(s1inv[[#This Row],[Portfolio Company Name]],s11cumperf[],2,FALSE),\"\")))","v":""},{"$nulls":13},{"$f":"IF(s1inv[[#This Row],[Schedule 1c Reference Number]]=\"\",0,SUMIF(sched1c[Reference ID],s1inv[[#This Row],[Employer ID]]&\"-\"&s1inv[[#This Row],[Schedule 1c Reference Number]],sched1c[Change to Cost]))","v":0},null,{"$f":"s1inv[[#This Row],[Cost at Beginning Period]]+s1inv[[#This Row],[Addition/\nDeduction]]","v":0},{"$nulls":5},{"$f":"s1inv[[#This Row],[Cost at End of Period]]+s1inv[[#This Row],[Unrealized Appreciation]]-ABS(s1inv[[#This Row],[(Unrealized Depreciation)]])","v":0},0,null,{"$f":"IFERROR((s1inv[[#This Row],[SBA Reported Value (B)]]+s1inv[[#This Row],[Cum. Cash Proceeds (D)]])/s1inv[[#This Row],[Total Cash Invested (A)]],\"\")","v":""},null,{"$f":"IFERROR((s1inv[[#This Row],[GAAP Reported Value (C)]]+s1inv[[#This Row],[Cum. Cash Proceeds (D)]])/s1inv[[#This Row],[Total Cash Invested (A)]],\"\")","v":""},null,{"$f":"IF(IFERROR(VLOOKUP(s1inv[[#This Row],[Portfolio Company Name]],s11cumperf[],4,FALSE),\"\")=\"\",\"\",(IFERROR(VLOOKUP(s1inv[[#This Row],[Portfolio Company Name]],s11cumperf[],4,FALSE),\"\")))","v":""}]
[" ",{"$f":"IF(IFERROR(VLOOKUP(s1inv[[#This Row],[Portfolio Company Name]],s11cumperf[],2,FALSE),\"\")=\"\",\"\",(IFERROR(VLOOKUP(s1inv[[#This Row],[Portfolio Company Name]],s11cumperf[],2,FALSE),\"\")))","v":""},{"$nulls":13},{"$f":"IF(s1inv[[#This Row],[Schedule 1c Reference Number]]=\"\",0,SUMIF(sched1c[Reference ID],s1inv[[#This Row],[Employer ID]]&\"-\"&s1inv[[#This Row],[Schedule 1c Reference Number]],sched1c[Change to Cost]))","v":0},null,{"$f":"s1inv[[#This Row],[Cost at Beginning Period]]+s1inv[[#This Row],[Addition/\nDeduction]]","v":0},{"$nulls":5},{"$f":"s1inv[[#This Row],[Cost at End of Period]]+s1inv[[#This Row],[Unrealized Appreciation]]-ABS(s1inv[[#This Row],[(Unrealized Depreciation)]])","v":0},0,null,{"$f":"IFERROR((s1inv[[#This Row],[SBA Reported Value (B)]]+s1inv[[#This Row],[Cum. Cash Proceeds (D)]])/s1inv[[#This Row],[Total Cash Invested (A)]],\"\")","v":""},null,{"$f":"IFERROR((s1inv[[#This Row],[GAAP Reported Value (C)]]+s1inv[[#This Row],[Cum. Cash Proceeds (D)]])/s1inv[[#This Row],[Total Cash Invested (A)]],\"\")","v":""},null,{"$f":"IF(IFERROR(VLOOKUP(s1inv[[#This Row],[Portfolio Company Name]],s11cumperf[],4,FALSE),\"\")=\"\",\"\",(IFERROR(VLOOKUP(s1inv[[#This Row],[Portfolio Company Name]],s11cumperf[],4,FALSE),\"\")))","v":""}]
[" ",{"$f":"IF(IFERROR(VLOOKUP(s1inv[[#This Row],[Portfolio Company Name]],s11cumperf[],2,FALSE),\"\")=\"\",\"\",(IFERROR(VLOOKUP(s1inv[[#This Row],[Portfolio Company Name]],s11cumperf[],2,FALSE),\"\")))","v":""},{"$nulls":13},{"$f":"IF(s1inv[[#This Row],[Schedule 1c Reference Number]]=\"\",0,SUMIF(sched1c[Reference ID],s1inv[[#This Row],[Employer ID]]&\"-\"&s1inv[[#This Row],[Schedule 1c Reference Number]],sched1c[Change to Cost]))","v":0},null,{"$f":"s1inv[[#This Row],[Cost at Beginning Period]]+s1inv[[#This Row],[Addition/\nDeduction]]","v":0},{"$nulls":5},{"$f":"s1inv[[#This Row],[Cost at End of Period]]+s1inv[[#This Row],[Unrealized Appreciation]]-ABS(s1inv[[#This Row],[(Unrealized Depreciation)]])","v":0},0,null,{"$f":"IFERROR((s1inv[[#This Row],[SBA Reported Value (B)]]+s1inv[[#This Row],[Cum. Cash Proceeds (D)]])/s1inv[[#This Row],[Total Cash Invested (A)]],\"\")","v":""},null,{"$f":"IFERROR((s1inv[[#This Row],[GAAP Reported Value (C)]]+s1inv[[#This Row],[Cum. Cash Proceeds (D)]])/s1inv[[#This Row],[Total Cash Invested (A)]],\"\")","v":""},null,{"$f":"IF(IFERROR(VLOOKUP(s1inv[[#This Row],[Portfolio Company Name]],s11cumperf[],4,FALSE),\"\")=\"\",\"\",(IFERROR(VLOOKUP(s1inv[[#This Row],[Portfolio Company Name]],s11cumperf[],4,FALSE),\"\")))","v":""}]
[" ",{"$f":"IF(IFERROR(VLOOKUP(s1inv[[#This Row],[Portfolio Company Name]],s11cumperf[],2,FALSE),\"\")=\"\",\"\",(IFERROR(VLOOKUP(s1inv[[#This Row],[Portfolio Company Name]],s11cumperf[],2,FALSE),\"\")))","v":""},{"$nulls":13},{"$f":"IF(s1inv[[#This Row],[Schedule 1c Reference Number]]=\"\",0,SUMIF(sched1c[Reference ID],s1inv[[#This Row],[Employer ID]]&\"-\"&s1inv[[#This Row],[Schedule 1c Reference Number]],sched1c[Change to Cost]))","v":0},null,{"$f":"s1inv[[#This Row],[Cost at Beginning Period]]+s1inv[[#This Row],[Addition/\nDeduction]]","v":0},{"$nulls":5},{"$f":"s1inv[[#This Row],[Cost at End of Period]]+s1inv[[#This Row],[Unrealized Appreciation]]-ABS(s1inv[[#This Row],[(Unrealized Depreciation)]])","v":0},0,null,{"$f":"IFERROR((s1inv[[#This Row],[SBA Reported Value (B)]]+s1inv[[#This Row],[Cum. Cash Proceeds (D)]])/s1inv[[#This Row],[Total Cash Invested (A)]],\"\")","v":""},null,{"$f":"IFERROR((s1inv[[#This Row],[GAAP Reported Value (C)]]+s1inv[[#This Row],[Cum. Cash Proceeds (D)]])/s1inv[[#This Row],[Total Cash Invested (A)]],\"\")","v":""},null,{"$f":"IF(IFERROR(VLOOKUP(s1inv[[#This Row],[Portfolio Company Name]],s11cumperf[],4,FALSE),\"\")=\"\",\"\",(IFERROR(VLOOKUP(s1inv[[#This Row],[Portfolio Company Name]],s11cumperf[],4,FALSE),\"\")))","v":""}]
[" ",{"$f":"IF(IFERROR(VLOOKUP(s1inv[[#This Row],[Portfolio Company Name]],s11cumperf[],2,FALSE),\"\")=\"\",\"\",(IFERROR(VLOOKUP(s1inv[[#This Row],[Portfolio Company Name]],s11cumperf[],2,FALSE),\"\")))","v":""},{"$nulls":13},{"$f":"IF(s1inv[[#This Row],[Schedule 1c Reference Number]]=\"\",0,SUMIF(sched1c[Reference ID],s1inv[[#This Row],[Employer ID]]&\"-\"&s1inv[[#This Row],[Schedule 1c Reference Number]],sched1c[Change to Cost]))","v":0},null,{"$f":"s1inv[[#This Row],[Cost at Beginning Period]]+s1inv[[#This Row],[Addition/\nDeduction]]","v":0},{"$nulls":5},{"$f":"s1inv[[#This Row],[Cost at End of Period]]+s1inv[[#This Row],[Unrealized Appreciation]]-ABS(s1inv[[#This Row],[(Unrealized Depreciation)]])","v":0},0,null,{"$f":"IFERROR((s1inv[[#This Row],[SBA Reported Value (B)]]+s1inv[[#This Row],[Cum. Cash Proceeds (D)]])/s1inv[[#This Row],[Total Cash Invested (A)]],\"\")","v":""},null,{"$f":"IFERROR((s1inv[[#This Row],[GAAP Reported Value (C)]]+s1inv[[#This Row],[Cum. Cash Proceeds (D)]])/s1inv[[#This Row],[Total Cash Invested (A)]],\"\")","v":""},null,{"$f":"IF(IFERROR(VLOOKUP(s1inv[[#This Row],[Portfolio Company Name]],s11cumperf[],4,FALSE),\"\")=\"\",\"\",(IFERROR(VLOOKUP(s1inv[[#This Row],[Portfolio Company Name]],s11cumperf[],4,FALSE),\"\")))","v":""}]
[" ",{"$f":"IF(IFERROR(VLOOKUP(s1inv[[#This Row],[Portfolio Company Name]],s11cumperf[],2,FALSE),\"\")=\"\",\"\",(IFERROR(VLOOKUP(s1inv[[#This Row],[Portfolio Company Name]],s11cumperf[],2,FALSE),\"\")))","v":""},{"$nulls":13},{"$f":"IF(s1inv[[#This Row],[Schedule 1c Reference Number]]=\"\",0,SUMIF(sched1c[Reference ID],s1inv[[#This Row],[Employer ID]]&\"-\"&s1inv[[#This Row],[Schedule 1c Reference Number]],sched1c[Change to Cost]))","v":0},null,{"$f":"s1inv[[#This Row],[Cost at Beginning Period]]+s1inv[[#This Row],[Addition/\nDeduction]]","v":0},{"$nulls":5},{"$f":"s1inv[[#This Row],[Cost at End of Period]]+s1inv[[#This Row],[Unrealized Appreciation]]-ABS(s1inv[[#This Row],[(Unrealized Depreciation)]])","v":0},0,null,{"$f":"IFERROR((s1inv[[#This Row],[SBA Reported Value (B)]]+s1inv[[#This Row],[Cum. Cash Proceeds (D)]])/s1inv[[#This Row],[Total Cash Invested (A)]],\"\")","v":""},null,{"$f":"IFERROR((s1inv[[#This Row],[GAAP Reported Value (C)]]+s1inv[[#This Row],[Cum. Cash Proceeds (D)]])/s1inv[[#This Row],[Total Cash Invested (A)]],\"\")","v":""},null,{"$f":"IF(IFERROR(VLOOKUP(s1inv[[#This Row],[Portfolio Company Name]],s11cumperf[],4,FALSE),\"\")=\"\",\"\",(IFERROR(VLOOKUP(s1inv[[#This Row],[Portfolio Company Name]],s11cumperf[],4,FALSE),\"\")))","v":""}]
[" ",{"$f":"IF(IFERROR(VLOOKUP(s1inv[[#This Row],[Portfolio Company Name]],s11cumperf[],2,FALSE),\"\")=\"\",\"\",(IFERROR(VLOOKUP(s1inv[[#This Row],[Portfolio Company Name]],s11cumperf[],2,FALSE),\"\")))","v":""},{"$nulls":13},{"$f":"IF(s1inv[[#This Row],[Schedule 1c Reference Number]]=\"\",0,SUMIF(sched1c[Reference ID],s1inv[[#This Row],[Employer ID]]&\"-\"&s1inv[[#This Row],[Schedule 1c Reference Number]],sched1c[Change to Cost]))","v":0},null,{"$f":"s1inv[[#This Row],[Cost at Beginning Period]]+s1inv[[#This Row],[Addition/\nDeduction]]","v":0},{"$nulls":5},{"$f":"s1inv[[#This Row],[Cost at End of Period]]+s1inv[[#This Row],[Unrealized Appreciation]]-ABS(s1inv[[#This Row],[(Unrealized Depreciation)]])","v":0},0,null,{"$f":"IFERROR((s1inv[[#This Row],[SBA Reported Value (B)]]+s1inv[[#This Row],[Cum. Cash Proceeds (D)]])/s1inv[[#This Row],[Total Cash Invested (A)]],\"\")","v":""},null,{"$f":"IFERROR((s1inv[[#This Row],[GAAP Reported Value (C)]]+s1inv[[#This Row],[Cum. Cash Proceeds (D)]])/s1inv[[#This Row],[Total Cash Invested (A)]],\"\")","v":""},null,{"$f":"IF(IFERROR(VLOOKUP(s1inv[[#This Row],[Portfolio Company Name]],s11cumperf[],4,FALSE),\"\")=\"\",\"\",(IFERROR(VLOOKUP(s1inv[[#This Row],[Portfolio Company Name]],s11cumperf[],4,FALSE),\"\")))","v":""}]
[" ",{"$f":"IF(IFERROR(VLOOKUP(s1inv[[#This Row],[Portfolio Company Name]],s11cumperf[],2,FALSE),\"\")=\"\",\"\",(IFERROR(VLOOKUP(s1inv[[#This Row],[Portfolio Company Name]],s11cumperf[],2,FALSE),\"\")))","v":""},{"$nulls":13},{"$f":"IF(s1inv[[#This Row],[Schedule 1c Reference Number]]=\"\",0,SUMIF(sched1c[Reference ID],s1inv[[#This Row],[Employer ID]]&\"-\"&s1inv[[#This Row],[Schedule 1c Reference Number]],sched1c[Change to Cost]))","v":0},null,{"$f":"s1inv[[#This Row],[Cost at Beginning Period]]+s1inv[[#This Row],[Addition/\nDeduction]]","v":0},{"$nulls":5},{"$f":"s1inv[[#This Row],[Cost at End of Period]]+s1inv[[#This Row],[Unrealized Appreciation]]-ABS(s1inv[[#This Row],[(Unrealized Depreciation)]])","v":0},0,null,{"$f":"IFERROR((s1inv[[#This Row],[SBA Reported Value (B)]]+s1inv[[#This Row],[Cum. Cash Proceeds (D)]])/s1inv[[#This Row],[Total Cash Invested (A)]],\"\")","v":""},null,{"$f":"IFERROR((s1inv[[#This Row],[GAAP Reported Value (C)]]+s1inv[[#This Row],[Cum. Cash Proceeds (D)]])/s1inv[[#This Row],[Total Cash Invested (A)]],\"\")","v":""},null,{"$f":"IF(IFERROR(VLOOKUP(s1inv[[#This Row],[Portfolio Company Name]],s11cumperf[],4,FALSE),\"\")=\"\",\"\",(IFERROR(VLOOKUP(s1inv[[#This Row],[Portfolio Company Name]],s11cumperf[],4,FALSE),\"\")))","v":""}]
[" ",{"$f":"IF(IFERROR(VLOOKUP(s1inv[[#This Row],[Portfolio Company Name]],s11cumperf[],2,FALSE),\"\")=\"\",\"\",(IFERROR(VLOOKUP(s1inv[[#This Row],[Portfolio Company Name]],s11cumperf[],2,FALSE),\"\")))","v":""},{"$nulls":13},{"$f":"IF(s1inv[[#This Row],[Schedule 1c Reference Number]]=\"\",0,SUMIF(sched1c[Reference ID],s1inv[[#This Row],[Employer ID]]&\"-\"&s1inv[[#This Row],[Schedule 1c Reference Number]],sched1c[Change to Cost]))","v":0},null,{"$f":"s1inv[[#This Row],[Cost at Beginning Period]]+s1inv[[#This Row],[Addition/\nDeduction]]","v":0},{"$nulls":5},{"$f":"s1inv[[#This Row],[Cost at End of Period]]+s1inv[[#This Row],[Unrealized Appreciation]]-ABS(s1inv[[#This Row],[(Unrealized Depreciation)]])","v":0},0,null,{"$f":"IFERROR((s1inv[[#This Row],[SBA Reported Value (B)]]+s1inv[[#This Row],[Cum. Cash Proceeds (D)]])/s1inv[[#This Row],[Total Cash Invested (A)]],\"\")","v":""},null,{"$f":"IFERROR((s1inv[[#This Row],[GAAP Reported Value (C)]]+s1inv[[#This Row],[Cum. Cash Proceeds (D)]])/s1inv[[#This Row],[Total Cash Invested (A)]],\"\")","v":""},null,{"$f":"IF(IFERROR(VLOOKUP(s1inv[[#This Row],[Portfolio Company Name]],s11cumperf[],4,FALSE),\"\")=\"\",\"\",(IFERROR(VLOOKUP(s1inv[[#This Row],[Portfolio Company Name]],s11cumperf[],4,FALSE),\"\")))","v":""}]
[" ",{"$f":"IF(IFERROR(VLOOKUP(s1inv[[#This Row],[Portfolio Company Name]],s11cumperf[],2,FALSE),\"\")=\"\",\"\",(IFERROR(VLOOKUP(s1inv[[#This Row],[Portfolio Company Name]],s11cumperf[],2,FALSE),\"\")))","v":""},{"$nulls":13},{"$f":"IF(s1inv[[#This Row],[Schedule 1c Reference Number]]=\"\",0,SUMIF(sched1c[Reference ID],s1inv[[#This Row],[Employer ID]]&\"-\"&s1inv[[#This Row],[Schedule 1c Reference Number]],sched1c[Change to Cost]))","v":0},null,{"$f":"s1inv[[#This Row],[Cost at Beginning Period]]+s1inv[[#This Row],[Addition/\nDeduction]]","v":0},{"$nulls":5},{"$f":"s1inv[[#This Row],[Cost at End of Period]]+s1inv[[#This Row],[Unrealized Appreciation]]-ABS(s1inv[[#This Row],[(Unrealized Depreciation)]])","v":0},0,null,{"$f":"IFERROR((s1inv[[#This Row],[SBA Reported Value (B)]]+s1inv[[#This Row],[Cum. Cash Proceeds (D)]])/s1inv[[#This Row],[Total Cash Invested (A)]],\"\")","v":""},null,{"$f":"IFERROR((s1inv[[#This Row],[GAAP Reported Value (C)]]+s1inv[[#This Row],[Cum. Cash Proceeds (D)]])/s1inv[[#This Row],[Total Cash Invested (A)]],\"\")","v":""},null,{"$f":"IF(IFERROR(VLOOKUP(s1inv[[#This Row],[Portfolio Company Name]],s11cumperf[],4,FALSE),\"\")=\"\",\"\",(IFERROR(VLOOKUP(s1inv[[#This Row],[Portfolio Company Name]],s11cumperf[],4,FALSE),\"\")))","v":""}]
[" ",{"$f":"IF(IFERROR(VLOOKUP(s1inv[[#This Row],[Portfolio Company Name]],s11cumperf[],2,FALSE),\"\")=\"\",\"\",(IFERROR(VLOOKUP(s1inv[[#This Row],[Portfolio Company Name]],s11cumperf[],2,FALSE),\"\")))","v":""},{"$nulls":13},{"$f":"IF(s1inv[[#This Row],[Schedule 1c Reference Number]]=\"\",0,SUMIF(sched1c[Reference ID],s1inv[[#This Row],[Employer ID]]&\"-\"&s1inv[[#This Row],[Schedule 1c Reference Number]],sched1c[Change to Cost]))","v":0},null,{"$f":"s1inv[[#This Row],[Cost at Beginning Period]]+s1inv[[#This Row],[Addition/\nDeduction]]","v":0},{"$nulls":5},{"$f":"s1inv[[#This Row],[Cost at End of Period]]+s1inv[[#This Row],[Unrealized Appreciation]]-ABS(s1inv[[#This Row],[(Unrealized Depreciation)]])","v":0},0,null,{"$f":"IFERROR((s1inv[[#This Row],[SBA Reported Value (B)]]+s1inv[[#This Row],[Cum. Cash Proceeds (D)]])/s1inv[[#This Row],[Total Cash Invested (A)]],\"\")","v":""},null,{"$f":"IFERROR((s1inv[[#This Row],[GAAP Reported Value (C)]]+s1inv[[#This Row],[Cum. Cash Proceeds (D)]])/s1inv[[#This Row],[Total Cash Invested (A)]],\"\")","v":""},null,{"$f":"IF(IFERROR(VLOOKUP(s1inv[[#This Row],[Portfolio Company Name]],s11cumperf[],4,FALSE),\"\")=\"\",\"\",(IFERROR(VLOOKUP(s1inv[[#This Row],[Portfolio Company Name]],s11cumperf[],4,FALSE),\"\")))","v":""}]
[" ",{"$f":"IF(IFERROR(VLOOKUP(s1inv[[#This Row],[Portfolio Company Name]],s11cumperf[],2,FALSE),\"\")=\"\",\"\",(IFERROR(VLOOKUP(s1inv[[#This Row],[Portfolio Company Name]],s11cumperf[],2,FALSE),\"\")))","v":""},{"$nulls":13},{"$f":"IF(s1inv[[#This Row],[Schedule 1c Reference Number]]=\"\",0,SUMIF(sched1c[Reference ID],s1inv[[#This Row],[Employer ID]]&\"-\"&s1inv[[#This Row],[Schedule 1c Reference Number]],sched1c[Change to Cost]))","v":0},null,{"$f":"s1inv[[#This Row],[Cost at Beginning Period]]+s1inv[[#This Row],[Addition/\nDeduction]]","v":0},{"$nulls":5},{"$f":"s1inv[[#This Row],[Cost at End of Period]]+s1inv[[#This Row],[Unrealized Appreciation]]-ABS(s1inv[[#This Row],[(Unrealized Depreciation)]])","v":0},0,null,{"$f":"IFERROR((s1inv[[#This Row],[SBA Reported Value (B)]]+s1inv[[#This Row],[Cum. Cash Proceeds (D)]])/s1inv[[#This Row],[Total Cash Invested (A)]],\"\")","v":""},null,{"$f":"IFERROR((s1inv[[#This Row],[GAAP Reported Value (C)]]+s1inv[[#This Row],[Cum. Cash Proceeds (D)]])/s1inv[[#This Row],[Total Cash Invested (A)]],\"\")","v":""},null,{"$f":"IF(IFERROR(VLOOKUP(s1inv[[#This Row],[Portfolio Company Name]],s11cumperf[],4,FALSE),\"\")=\"\",\"\",(IFERROR(VLOOKUP(s1inv[[#This Row],[Portfolio Company Name]],s11cumperf[],4,FALSE),\"\")))","v":""}]
[" ",{"$f":"IF(IFERROR(VLOOKUP(s1inv[[#This Row],[Portfolio Company Name]],s11cumperf[],2,FALSE),\"\")=\"\",\"\",(IFERROR(VLOOKUP(s1inv[[#This Row],[Portfolio Company Name]],s11cumperf[],2,FALSE),\"\")))","v":""},{"$nulls":13},{"$f":"IF(s1inv[[#This Row],[Schedule 1c Reference Number]]=\"\",0,SUMIF(sched1c[Reference ID],s1inv[[#This Row],[Employer ID]]&\"-\"&s1inv[[#This Row],[Schedule 1c Reference Number]],sched1c[Change to Cost]))","v":0},null,{"$f":"s1inv[[#This Row],[Cost at Beginning Period]]+s1inv[[#This Row],[Addition/\nDeduction]]","v":0},{"$nulls":5},{"$f":"s1inv[[#This Row],[Cost at End of Period]]+s1inv[[#This Row],[Unrealized Appreciation]]-ABS(s1inv[[#This Row],[(Unrealized Depreciation)]])","v":0},0,null,{"$f":"IFERROR((s1inv[[#This Row],[SBA Reported Value (B)]]+s1inv[[#This Row],[Cum. Cash Proceeds (D)]])/s1inv[[#This Row],[Total Cash Invested (A)]],\"\")","v":""},null,{"$f":"IFERROR((s1inv[[#This Row],[GAAP Reported Value (C)]]+s1inv[[#This Row],[Cum. Cash Proceeds (D)]])/s1inv[[#This Row],[Total Cash Invested (A)]],\"\")","v":""},null,{"$f":"IF(IFERROR(VLOOKUP(s1inv[[#This Row],[Portfolio Company Name]],s11cumperf[],4,FALSE),\"\")=\"\",\"\",(IFERROR(VLOOKUP(s1inv[[#This Row],[Portfolio Company Name]],s11cumperf[],4,FALSE),\"\")))","v":""}]
[" ",{"$f":"IF(IFERROR(VLOOKUP(s1inv[[#This Row],[Portfolio Company Name]],s11cumperf[],2,FALSE),\"\")=\"\",\"\",(IFERROR(VLOOKUP(s1inv[[#This Row],[Portfolio Company Name]],s11cumperf[],2,FALSE),\"\")))","v":""},{"$nulls":13},{"$f":"IF(s1inv[[#This Row],[Schedule 1c Reference Number]]=\"\",0,SUMIF(sched1c[Reference ID],s1inv[[#This Row],[Employer ID]]&\"-\"&s1inv[[#This Row],[Schedule 1c Reference Number]],sched1c[Change to Cost]))","v":0},null,{"$f":"s1inv[[#This Row],[Cost at Beginning Period]]+s1inv[[#This Row],[Addition/\nDeduction]]","v":0},{"$nulls":5},{"$f":"s1inv[[#This Row],[Cost at End of Period]]+s1inv[[#This Row],[Unrealized Appreciation]]-ABS(s1inv[[#This Row],[(Unrealized Depreciation)]])","v":0},0,null,{"$f":"IFERROR((s1inv[[#This Row],[SBA Reported Value (B)]]+s1inv[[#This Row],[Cum. Cash Proceeds (D)]])/s1inv[[#This Row],[Total Cash Invested (A)]],\"\")","v":""},null,{"$f":"IFERROR((s1inv[[#This Row],[GAAP Reported Value (C)]]+s1inv[[#This Row],[Cum. Cash Proceeds (D)]])/s1inv[[#This Row],[Total Cash Invested (A)]],\"\")","v":""},null,{"$f":"IF(IFERROR(VLOOKUP(s1inv[[#This Row],[Portfolio Company Name]],s11cumperf[],4,FALSE),\"\")=\"\",\"\",(IFERROR(VLOOKUP(s1inv[[#This Row],[Portfolio Company Name]],s11cumperf[],4,FALSE),\"\")))","v":""}]
[" ",{"$f":"IF(IFERROR(VLOOKUP(s1inv[[#This Row],[Portfolio Company Name]],s11cumperf[],2,FALSE),\"\")=\"\",\"\",(IFERROR(VLOOKUP(s1inv[[#This Row],[Portfolio Company Name]],s11cumperf[],2,FALSE),\"\")))","v":""},{"$nulls":13},{"$f":"IF(s1inv[[#This Row],[Schedule 1c Reference Number]]=\"\",0,SUMIF(sched1c[Reference ID],s1inv[[#This Row],[Employer ID]]&\"-\"&s1inv[[#This Row],[Schedule 1c Reference Number]],sched1c[Change to Cost]))","v":0},null,{"$f":"s1inv[[#This Row],[Cost at Beginning Period]]+s1inv[[#This Row],[Addition/\nDeduction]]","v":0},{"$nulls":5},{"$f":"s1inv[[#This Row],[Cost at End of Period]]+s1inv[[#This Row],[Unrealized Appreciation]]-ABS(s1inv[[#This Row],[(Unrealized Depreciation)]])","v":0},0,null,{"$f":"IFERROR((s1inv[[#This Row],[SBA Reported Value (B)]]+s1inv[[#This Row],[Cum. Cash Proceeds (D)]])/s1inv[[#This Row],[Total Cash Invested (A)]],\"\")","v":""},null,{"$f":"IFERROR((s1inv[[#This Row],[GAAP Reported Value (C)]]+s1inv[[#This Row],[Cum. Cash Proceeds (D)]])/s1inv[[#This Row],[Total Cash Invested (A)]],\"\")","v":""},null,{"$f":"IF(IFERROR(VLOOKUP(s1inv[[#This Row],[Portfolio Company Name]],s11cumperf[],4,FALSE),\"\")=\"\",\"\",(IFERROR(VLOOKUP(s1inv[[#This Row],[Portfolio Company Name]],s11cumperf[],4,FALSE),\"\")))","v":""}]
[" ",{"$f":"IF(IFERROR(VLOOKUP(s1inv[[#This Row],[Portfolio Company Name]],s11cumperf[],2,FALSE),\"\")=\"\",\"\",(IFERROR(VLOOKUP(s1inv[[#This Row],[Portfolio Company Name]],s11cumperf[],2,FALSE),\"\")))","v":""},{"$nulls":13},{"$f":"IF(s1inv[[#This Row],[Schedule 1c Reference Number]]=\"\",0,SUMIF(sched1c[Reference ID],s1inv[[#This Row],[Employer ID]]&\"-\"&s1inv[[#This Row],[Schedule 1c Reference Number]],sched1c[Change to Cost]))","v":0},null,{"$f":"s1inv[[#This Row],[Cost at Beginning Period]]+s1inv[[#This Row],[Addition/\nDeduction]]","v":0},{"$nulls":5},{"$f":"s1inv[[#This Row],[Cost at End of Period]]+s1inv[[#This Row],[Unrealized Appreciation]]-ABS(s1inv[[#This Row],[(Unrealized Depreciation)]])","v":0},0,null,{"$f":"IFERROR((s1inv[[#This Row],[SBA Reported Value (B)]]+s1inv[[#This Row],[Cum. Cash Proceeds (D)]])/s1inv[[#This Row],[Total Cash Invested (A)]],\"\")","v":""},null,{"$f":"IFERROR((s1inv[[#This Row],[GAAP Reported Value (C)]]+s1inv[[#This Row],[Cum. Cash Proceeds (D)]])/s1inv[[#This Row],[Total Cash Invested (A)]],\"\")","v":""},null,{"$f":"IF(IFERROR(VLOOKUP(s1inv[[#This Row],[Portfolio Company Name]],s11cumperf[],4,FALSE),\"\")=\"\",\"\",(IFERROR(VLOOKUP(s1inv[[#This Row],[Portfolio Company Name]],s11cumperf[],4,FALSE),\"\")))","v":""}]
[" ",{"$f":"IF(IFERROR(VLOOKUP(s1inv[[#This Row],[Portfolio Company Name]],s11cumperf[],2,FALSE),\"\")=\"\",\"\",(IFERROR(VLOOKUP(s1inv[[#This Row],[Portfolio Company Name]],s11cumperf[],2,FALSE),\"\")))","v":""},{"$nulls":13},{"$f":"IF(s1inv[[#This Row],[Schedule 1c Reference Number]]=\"\",0,SUMIF(sched1c[Reference ID],s1inv[[#This Row],[Employer ID]]&\"-\"&s1inv[[#This Row],[Schedule 1c Reference Number]],sched1c[Change to Cost]))","v":0},null,{"$f":"s1inv[[#This Row],[Cost at Beginning Period]]+s1inv[[#This Row],[Addition/\nDeduction]]","v":0},{"$nulls":5},{"$f":"s1inv[[#This Row],[Cost at End of Period]]+s1inv[[#This Row],[Unrealized Appreciation]]-ABS(s1inv[[#This Row],[(Unrealized Depreciation)]])","v":0},0,null,{"$f":"IFERROR((s1inv[[#This Row],[SBA Reported Value (B)]]+s1inv[[#This Row],[Cum. Cash Proceeds (D)]])/s1inv[[#This Row],[Total Cash Invested (A)]],\"\")","v":""},null,{"$f":"IFERROR((s1inv[[#This Row],[GAAP Reported Value (C)]]+s1inv[[#This Row],[Cum. Cash Proceeds (D)]])/s1inv[[#This Row],[Total Cash Invested (A)]],\"\")","v":""},null,{"$f":"IF(IFERROR(VLOOKUP(s1inv[[#This Row],[Portfolio Company Name]],s11cumperf[],4,FALSE),\"\")=\"\",\"\",(IFERROR(VLOOKUP(s1inv[[#This Row],[Portfolio Company Name]],s11cumperf[],4,FALSE),\"\")))","v":""}]
[" ",{"$f":"IF(IFERROR(VLOOKUP(s1inv[[#This Row],[Portfolio Company Name]],s11cumperf[],2,FALSE),\"\")=\"\",\"\",(IFERROR(VLOOKUP(s1inv[[#This Row],[Portfolio Company Name]],s11cumperf[],2,FALSE),\"\")))","v":""},{"$nulls":13},{"$f":"IF(s1inv[[#This Row],[Schedule 1c Reference Number]]=\"\",0,SUMIF(sched1c[Reference ID],s1inv[[#This Row],[Employer ID]]&\"-\"&s1inv[[#This Row],[Schedule 1c Reference Number]],sched1c[Change to Cost]))","v":{"$error":"#VALUE!"}},null,{"$f":"s1inv[[#This Row],[Cost at Beginning Period]]+s1inv[[#This Row],[Addition/\nDeduction]]","v":{"$error":"#VALUE!"}},{"$nulls":5},{"$f":"s1inv[[#This Row],[Cost at End of Period]]+s1inv[[#This Row],[Unrealized Appreciation]]-ABS(s1inv[[#This Row],[(Unrealized Depreciation)]])","v":{"$error":"#VALUE!"}},0,null,{"$f":"IFERROR((s1inv[[#This Row],[SBA Reported Value (B)]]+s1inv[[#This Row],[Cum. Cash Proceeds (D)]])/s1inv[[#This Row],[Total Cash Invested (A)]],\"\")","v":""},null,{"$f":"IFERROR((s1inv[[#This Row],[GAAP Reported Value (C)]]+s1inv[[#This Row],[Cum. Cash Proceeds (D)]])/s1inv[[#This Row],[Total Cash Invested (A)]],\"\")","v":""},null,{"$f":"IF(IFERROR(VLOOKUP(s1inv[[#This Row],[Portfolio Company Name]],s11cumperf[],4,FALSE),\"\")=\"\",\"\",(IFERROR(VLOOKUP(s1inv[[#This Row],[Portfolio Company Name]],s11cumperf[],4,FALSE),\"\")))","v":""}]
[" ",{"$f":"IF(IFERROR(VLOOKUP(s1inv[[#This Row],[Portfolio Company Name]],s11cumperf[],2,FALSE),\"\")=\"\",\"\",(IFERROR(VLOOKUP(s1inv[[#This Row],[Portfolio Company Name]],s11cumperf[],2,FALSE),\"\")))","v":""},{"$nulls":13},{"$f":"IF(s1inv[[#This Row],[Schedule 1c Reference Number]]=\"\",0,SUMIF(sched1c[Reference ID],s1inv[[#This Row],[Employer ID]]&\"-\"&s1inv[[#This Row],[Schedule 1c Reference Number]],sched1c[Change to Cost]))","v":{"$error":"#VALUE!"}},null,{"$f":"s1inv[[#This Row],[Cost at Beginning Period]]+s1inv[[#This Row],[Addition/\nDeduction]]","v":{"$error":"#VALUE!"}},{"$nulls":5},{"$f":"s1inv[[#This Row],[Cost at End of Period]]+s1inv[[#This Row],[Unrealized Appreciation]]-ABS(s1inv[[#This Row],[(Unrealized Depreciation)]])","v":{"$error":"#VALUE!"}},0,null,{"$f":"IFERROR((s1inv[[#This Row],[SBA Reported Value (B)]]+s1inv[[#This Row],[Cum. Cash Proceeds (D)]])/s1inv[[#This Row],[Total Cash Invested (A)]],\"\")","v":""},null,{"$f":"IFERROR((s1inv[[#This Row],[GAAP Reported Value (C)]]+s1inv[[#This Row],[Cum. Cash Proceeds (D)]])/s1inv[[#This Row],[Total Cash Invested (A)]],\"\")","v":""},null,{"$f":"IF(IFERROR(VLOOKUP(s1inv[[#This Row],[Portfolio Company Name]],s11cumperf[],4,FALSE),\"\")=\"\",\"\",(IFERROR(VLOOKUP(s1inv[[#This Row],[Portfolio Company Name]],s11cumperf[],4,FALSE),\"\")))","v":""}]
[" ",{"$f":"IF(IFERROR(VLOOKUP(s1inv[[#This Row],[Portfolio Company Name]],s11cumperf[],2,FALSE),\"\")=\"\",\"\",(IFERROR(VLOOKUP(s1inv[[#This Row],[Portfolio Company Name]],s11cumperf[],2,FALSE),\"\")))","v":""},{"$nulls":13},{"$f":"IF(s1inv[[#This Row],[Schedule 1c Reference Number]]=\"\",0,SUMIF(sched1c[Reference ID],s1inv[[#This Row],[Employer ID]]&\"-\"&s1inv[[#This Row],[Schedule 1c Reference Number]],sched1c[Change to Cost]))","v":{"$error":"#VALUE!"}},null,{"$f":"s1inv[[#This Row],[Cost at Beginning Period]]+s1inv[[#This Row],[Addition/\nDeduction]]","v":{"$error":"#VALUE!"}},{"$nulls":5},{"$f":"s1inv[[#This Row],[Cost at End of Period]]+s1inv[[#This Row],[Unrealized Appreciation]]-ABS(s1inv[[#This Row],[(Unrealized Depreciation)]])","v":{"$error":"#VALUE!"}},0,null,{"$f":"IFERROR((s1inv[[#This Row],[SBA Reported Value (B)]]+s1inv[[#This Row],[Cum. Cash Proceeds (D)]])/s1inv[[#This Row],[Total Cash Invested (A)]],\"\")","v":""},null,{"$f":"IFERROR((s1inv[[#This Row],[GAAP Reported Value (C)]]+s1inv[[#This Row],[Cum. Cash Proceeds (D)]])/s1inv[[#This Row],[Total Cash Invested (A)]],\"\")","v":""},null,{"$f":"IF(IFERROR(VLOOKUP(s1inv[[#This Row],[Portfolio Company Name]],s11cumperf[],4,FALSE),\"\")=\"\",\"\",(IFERROR(VLOOKUP(s1inv[[#This Row],[Portfolio Company Name]],s11cumperf[],4,FALSE),\"\")))","v":""}]
[" ",{"$f":"IF(IFERROR(VLOOKUP(s1inv[[#This Row],[Portfolio Company Name]],s11cumperf[],2,FALSE),\"\")=\"\",\"\",(IFERROR(VLOOKUP(s1inv[[#This Row],[Portfolio Company Name]],s11cumperf[],2,FALSE),\"\")))","v":""},{"$nulls":13},{"$f":"IF(s1inv[[#This Row],[Schedule 1c Reference Number]]=\"\",0,SUMIF(sched1c[Reference ID],s1inv[[#This Row],[Employer ID]]&\"-\"&s1inv[[#This Row],[Schedule 1c Reference Number]],sched1c[Change to Cost]))","v":{"$error":"#VALUE!"}},null,{"$f":"s1inv[[#This Row],[Cost at Beginning Period]]+s1inv[[#This Row],[Addition/\nDeduction]]","v":{"$error":"#VALUE!"}},{"$nulls":5},{"$f":"s1inv[[#This Row],[Cost at End of Period]]+s1inv[[#This Row],[Unrealized Appreciation]]-ABS(s1inv[[#This Row],[(Unrealized Depreciation)]])","v":{"$error":"#VALUE!"}},0,null,{"$f":"IFERROR((s1inv[[#This Row],[SBA Reported Value (B)]]+s1inv[[#This Row],[Cum. Cash Proceeds (D)]])/s1inv[[#This Row],[Total Cash Invested (A)]],\"\")","v":""},null,{"$f":"IFERROR((s1inv[[#This Row],[GAAP Reported Value (C)]]+s1inv[[#This Row],[Cum. Cash Proceeds (D)]])/s1inv[[#This Row],[Total Cash Invested (A)]],\"\")","v":""},null,{"$f":"IF(IFERROR(VLOOKUP(s1inv[[#This Row],[Portfolio Company Name]],s11cumperf[],4,FALSE),\"\")=\"\",\"\",(IFERROR(VLOOKUP(s1inv[[#This Row],[Portfolio Company Name]],s11cumperf[],4,FALSE),\"\")))","v":""}]
[" ",{"$f":"IF(IFERROR(VLOOKUP(s1inv[[#This Row],[Portfolio Company Name]],s11cumperf[],2,FALSE),\"\")=\"\",\"\",(IFERROR(VLOOKUP(s1inv[[#This Row],[Portfolio Company Name]],s11cumperf[],2,FALSE),\"\")))","v":""},{"$nulls":13},{"$f":"IF(s1inv[[#This Row],[Schedule 1c Reference Number]]=\"\",0,SUMIF(sched1c[Reference ID],s1inv[[#This Row],[Employer ID]]&\"-\"&s1inv[[#This Row],[Schedule 1c Reference Number]],sched1c[Change to Cost]))","v":{"$error":"#VALUE!"}},null,{"$f":"s1inv[[#This Row],[Cost at Beginning Period]]+s1inv[[#This Row],[Addition/\nDeduction]]","v":{"$error":"#VALUE!"}},{"$nulls":5},{"$f":"s1inv[[#This Row],[Cost at End of Period]]+s1inv[[#This Row],[Unrealized Appreciation]]-ABS(s1inv[[#This Row],[(Unrealized Depreciation)]])","v":{"$error":"#VALUE!"}},0,null,{"$f":"IFERROR((s1inv[[#This Row],[SBA Reported Value (B)]]+s1inv[[#This Row],[Cum. Cash Proceeds (D)]])/s1inv[[#This Row],[Total Cash Invested (A)]],\"\")","v":""},null,{"$f":"IFERROR((s1inv[[#This Row],[GAAP Reported Value (C)]]+s1inv[[#This Row],[Cum. Cash Proceeds (D)]])/s1inv[[#This Row],[Total Cash Invested (A)]],\"\")","v":""},null,{"$f":"IF(IFERROR(VLOOKUP(s1inv[[#This Row],[Portfolio Company Name]],s11cumperf[],4,FALSE),\"\")=\"\",\"\",(IFERROR(VLOOKUP(s1inv[[#This Row],[Portfolio Company Name]],s11cumperf[],4,FALSE),\"\")))","v":""}]
[" ",{"$f":"IF(IFERROR(VLOOKUP(s1inv[[#This Row],[Portfolio Company Name]],s11cumperf[],2,FALSE),\"\")=\"\",\"\",(IFERROR(VLOOKUP(s1inv[[#This Row],[Portfolio Company Name]],s11cumperf[],2,FALSE),\"\")))","v":""},{"$nulls":13},{"$f":"IF(s1inv[[#This Row],[Schedule 1c Reference Number]]=\"\",0,SUMIF(sched1c[Reference ID],s1inv[[#This Row],[Employer ID]]&\"-\"&s1inv[[#This Row],[Schedule 1c Reference Number]],sched1c[Change to Cost]))","v":{"$error":"#VALUE!"}},null,{"$f":"s1inv[[#This Row],[Cost at Beginning Period]]+s1inv[[#This Row],[Addition/\nDeduction]]","v":{"$error":"#VALUE!"}},{"$nulls":5},{"$f":"s1inv[[#This Row],[Cost at End of Period]]+s1inv[[#This Row],[Unrealized Appreciation]]-ABS(s1inv[[#This Row],[(Unrealized Depreciation)]])","v":{"$error":"#VALUE!"}},0,null,{"$f":"IFERROR((s1inv[[#This Row],[SBA Reported Value (B)]]+s1inv[[#This Row],[Cum. Cash Proceeds (D)]])/s1inv[[#This Row],[Total Cash Invested (A)]],\"\")","v":""},null,{"$f":"IFERROR((s1inv[[#This Row],[GAAP Reported Value (C)]]+s1inv[[#This Row],[Cum. Cash Proceeds (D)]])/s1inv[[#This Row],[Total Cash Invested (A)]],\"\")","v":""},null,{"$f":"IF(IFERROR(VLOOKUP(s1inv[[#This Row],[Portfolio Company Name]],s11cumperf[],4,FALSE),\"\")=\"\",\"\",(IFERROR(VLOOKUP(s1inv[[#This Row],[Portfolio Company Name]],s11cumperf[],4,FALSE),\"\")))","v":""}]
[" ",{"$f":"IF(IFERROR(VLOOKUP(s1inv[[#This Row],[Portfolio Company Name]],s11cumperf[],2,FALSE),\"\")=\"\",\"\",(IFERROR(VLOOKUP(s1inv[[#This Row],[Portfolio Company Name]],s11cumperf[],2,FALSE),\"\")))","v":""},{"$nulls":13},{"$f":"IF(s1inv[[#This Row],[Schedule 1c Reference Number]]=\"\",0,SUMIF(sched1c[Reference ID],s1inv[[#This Row],[Employer ID]]&\"-\"&s1inv[[#This Row],[Schedule 1c Reference Number]],sched1c[Change to Cost]))","v":{"$error":"#VALUE!"}},null,{"$f":"s1inv[[#This Row],[Cost at Beginning Period]]+s1inv[[#This Row],[Addition/\nDeduction]]","v":{"$error":"#VALUE!"}},{"$nulls":5},{"$f":"s1inv[[#This Row],[Cost at End of Period]]+s1inv[[#This Row],[Unrealized Appreciation]]-ABS(s1inv[[#This Row],[(Unrealized Depreciation)]])","v":{"$error":"#VALUE!"}},0,null,{"$f":"IFERROR((s1inv[[#This Row],[SBA Reported Value (B)]]+s1inv[[#This Row],[Cum. Cash Proceeds (D)]])/s1inv[[#This Row],[Total Cash Invested (A)]],\"\")","v":""},null,{"$f":"IFERROR((s1inv[[#This Row],[GAAP Reported Value (C)]]+s1inv[[#This Row],[Cum. Cash Proceeds (D)]])/s1inv[[#This Row],[Total Cash Invested (A)]],\"\")","v":""},null,{"$f":"IF(IFERROR(VLOOKUP(s1inv[[#This Row],[Portfolio Company Name]],s11cumperf[],4,FALSE),\"\")=\"\",\"\",(IFERROR(VLOOKUP(s1inv[[#This Row],[Portfolio Company Name]],s11cumperf[],4,FALSE),\"\")))","v":""}]
[" ",{"$f":"IF(IFERROR(VLOOKUP(s1inv[[#This Row],[Portfolio Company Name]],s11cumperf[],2,FALSE),\"\")=\"\",\"\",(IFERROR(VLOOKUP(s1inv[[#This Row],[Portfolio Company Name]],s11cumperf[],2,FALSE),\"\")))","v":""},{"$nulls":13},{"$f":"IF(s1inv[[#This Row],[Schedule 1c Reference Number]]=\"\",0,SUMIF(sched1c[Reference ID],s1inv[[#This Row],[Employer ID]]&\"-\"&s1inv[[#This Row],[Schedule 1c Reference Number]],sched1c[Change to Cost]))","v":{"$error":"#VALUE!"}},null,{"$f":"s1inv[[#This Row],[Cost at Beginning Period]]+s1inv[[#This Row],[Addition/\nDeduction]]","v":{"$error":"#VALUE!"}},{"$nulls":5},{"$f":"s1inv[[#This Row],[Cost at End of Period]]+s1inv[[#This Row],[Unrealized Appreciation]]-ABS(s1inv[[#This Row],[(Unrealized Depreciation)]])","v":{"$error":"#VALUE!"}},0,null,{"$f":"IFERROR((s1inv[[#This Row],[SBA Reported Value (B)]]+s1inv[[#This Row],[Cum. Cash Proceeds (D)]])/s1inv[[#This Row],[Total Cash Invested (A)]],\"\")","v":""},null,{"$f":"IFERROR((s1inv[[#This Row],[GAAP Reported Value (C)]]+s1inv[[#This Row],[Cum. Cash Proceeds (D)]])/s1inv[[#This Row],[Total Cash Invested (A)]],\"\")","v":""},null,{"$f":"IF(IFERROR(VLOOKUP(s1inv[[#This Row],[Portfolio Company Name]],s11cumperf[],4,FALSE),\"\")=\"\",\"\",(IFERROR(VLOOKUP(s1inv[[#This Row],[Portfolio Company Name]],s11cumperf[],4,FALSE),\"\")))","v":""}]
[" ",{"$f":"IF(IFERROR(VLOOKUP(s1inv[[#This Row],[Portfolio Company Name]],s11cumperf[],2,FALSE),\"\")=\"\",\"\",(IFERROR(VLOOKUP(s1inv[[#This Row],[Portfolio Company Name]],s11cumperf[],2,FALSE),\"\")))","v":""},{"$nulls":13},{"$f":"IF(s1inv[[#This Row],[Schedule 1c Reference Number]]=\"\",0,SUMIF(sched1c[Reference ID],s1inv[[#This Row],[Employer ID]]&\"-\"&s1inv[[#This Row],[Schedule 1c Reference Number]],sched1c[Change to Cost]))","v":{"$error":"#VALUE!"}},null,{"$f":"s1inv[[#This Row],[Cost at Beginning Period]]+s1inv[[#This Row],[Addition/\nDeduction]]","v":{"$error":"#VALUE!"}},{"$nulls":5},{"$f":"s1inv[[#This Row],[Cost at End of Period]]+s1inv[[#This Row],[Unrealized Appreciation]]-ABS(s1inv[[#This Row],[(Unrealized Depreciation)]])","v":{"$error":"#VALUE!"}},0,null,{"$f":"IFERROR((s1inv[[#This Row],[SBA Reported Value (B)]]+s1inv[[#This Row],[Cum. Cash Proceeds (D)]])/s1inv[[#This Row],[Total Cash Invested (A)]],\"\")","v":""},null,{"$f":"IFERROR((s1inv[[#This Row],[GAAP Reported Value (C)]]+s1inv[[#This Row],[Cum. Cash Proceeds (D)]])/s1inv[[#This Row],[Total Cash Invested (A)]],\"\")","v":""},null,{"$f":"IF(IFERROR(VLOOKUP(s1inv[[#This Row],[Portfolio Company Name]],s11cumperf[],4,FALSE),\"\")=\"\",\"\",(IFERROR(VLOOKUP(s1inv[[#This Row],[Portfolio Company Name]],s11cumperf[],4,FALSE),\"\")))","v":""}]
[" ",{"$f":"IF(IFERROR(VLOOKUP(s1inv[[#This Row],[Portfolio Company Name]],s11cumperf[],2,FALSE),\"\")=\"\",\"\",(IFERROR(VLOOKUP(s1inv[[#This Row],[Portfolio Company Name]],s11cumperf[],2,FALSE),\"\")))","v":""},{"$nulls":13},{"$f":"IF(s1inv[[#This Row],[Schedule 1c Reference Number]]=\"\",0,SUMIF(sched1c[Reference ID],s1inv[[#This Row],[Employer ID]]&\"-\"&s1inv[[#This Row],[Schedule 1c Reference Number]],sched1c[Change to Cost]))","v":{"$error":"#VALUE!"}},null,{"$f":"s1inv[[#This Row],[Cost at Beginning Period]]+s1inv[[#This Row],[Addition/\nDeduction]]","v":{"$error":"#VALUE!"}},{"$nulls":5},{"$f":"s1inv[[#This Row],[Cost at End of Period]]+s1inv[[#This Row],[Unrealized Appreciation]]-ABS(s1inv[[#This Row],[(Unrealized Depreciation)]])","v":{"$error":"#VALUE!"}},0,null,{"$f":"IFERROR((s1inv[[#This Row],[SBA Reported Value (B)]]+s1inv[[#This Row],[Cum. Cash Proceeds (D)]])/s1inv[[#This Row],[Total Cash Invested (A)]],\"\")","v":""},null,{"$f":"IFERROR((s1inv[[#This Row],[GAAP Reported Value (C)]]+s1inv[[#This Row],[Cum. Cash Proceeds (D)]])/s1inv[[#This Row],[Total Cash Invested (A)]],\"\")","v":""},null,{"$f":"IF(IFERROR(VLOOKUP(s1inv[[#This Row],[Portfolio Company Name]],s11cumperf[],4,FALSE),\"\")=\"\",\"\",(IFERROR(VLOOKUP(s1inv[[#This Row],[Portfolio Company Name]],s11cumperf[],4,FALSE),\"\")))","v":""}]
[" ",{"$f":"IF(IFERROR(VLOOKUP(s1inv[[#This Row],[Portfolio Company Name]],s11cumperf[],2,FALSE),\"\")=\"\",\"\",(IFERROR(VLOOKUP(s1inv[[#This Row],[Portfolio Company Name]],s11cumperf[],2,FALSE),\"\")))","v":""},{"$nulls":13},{"$f":"IF(s1inv[[#This Row],[Schedule 1c Reference Number]]=\"\",0,SUMIF(sched1c[Reference ID],s1inv[[#This Row],[Employer ID]]&\"-\"&s1inv[[#This Row],[Schedule 1c Reference Number]],sched1c[Change to Cost]))","v":{"$error":"#VALUE!"}},null,{"$f":"s1inv[[#This Row],[Cost at Beginning Period]]+s1inv[[#This Row],[Addition/\nDeduction]]","v":{"$error":"#VALUE!"}},{"$nulls":5},{"$f":"s1inv[[#This Row],[Cost at End of Period]]+s1inv[[#This Row],[Unrealized Appreciation]]-ABS(s1inv[[#This Row],[(Unrealized Depreciation)]])","v":{"$error":"#VALUE!"}},0,null,{"$f":"IFERROR((s1inv[[#This Row],[SBA Reported Value (B)]]+s1inv[[#This Row],[Cum. Cash Proceeds (D)]])/s1inv[[#This Row],[Total Cash Invested (A)]],\"\")","v":""},null,{"$f":"IFERROR((s1inv[[#This Row],[GAAP Reported Value (C)]]+s1inv[[#This Row],[Cum. Cash Proceeds (D)]])/s1inv[[#This Row],[Total Cash Invested (A)]],\"\")","v":""},null,{"$f":"IF(IFERROR(VLOOKUP(s1inv[[#This Row],[Portfolio Company Name]],s11cumperf[],4,FALSE),\"\")=\"\",\"\",(IFERROR(VLOOKUP(s1inv[[#This Row],[Portfolio Company Name]],s11cumperf[],4,FALSE),\"\")))","v":""}]
[" ",{"$f":"IF(IFERROR(VLOOKUP(s1inv[[#This Row],[Portfolio Company Name]],s11cumperf[],2,FALSE),\"\")=\"\",\"\",(IFERROR(VLOOKUP(s1inv[[#This Row],[Portfolio Company Name]],s11cumperf[],2,FALSE),\"\")))","v":""},{"$nulls":13},{"$f":"IF(s1inv[[#This Row],[Schedule 1c Reference Number]]=\"\",0,SUMIF(sched1c[Reference ID],s1inv[[#This Row],[Employer ID]]&\"-\"&s1inv[[#This Row],[Schedule 1c Reference Number]],sched1c[Change to Cost]))","v":{"$error":"#VALUE!"}},null,{"$f":"s1inv[[#This Row],[Cost at Beginning Period]]+s1inv[[#This Row],[Addition/\nDeduction]]","v":{"$error":"#VALUE!"}},{"$nulls":5},{"$f":"s1inv[[#This Row],[Cost at End of Period]]+s1inv[[#This Row],[Unrealized Appreciation]]-ABS(s1inv[[#This Row],[(Unrealized Depreciation)]])","v":{"$error":"#VALUE!"}},0,null,{"$f":"IFERROR((s1inv[[#This Row],[SBA Reported Value (B)]]+s1inv[[#This Row],[Cum. Cash Proceeds (D)]])/s1inv[[#This Row],[Total Cash Invested (A)]],\"\")","v":""},null,{"$f":"IFERROR((s1inv[[#This Row],[GAAP Reported Value (C)]]+s1inv[[#This Row],[Cum. Cash Proceeds (D)]])/s1inv[[#This Row],[Total Cash Invested (A)]],\"\")","v":""},null,{"$f":"IF(IFERROR(VLOOKUP(s1inv[[#This Row],[Portfolio Company Name]],s11cumperf[],4,FALSE),\"\")=\"\",\"\",(IFERROR(VLOOKUP(s1inv[[#This Row],[Portfolio Company Name]],s11cumperf[],4,FALSE),\"\")))","v":""}]
[" ",{"$f":"IF(IFERROR(VLOOKUP(s1inv[[#This Row],[Portfolio Company Name]],s11cumperf[],2,FALSE),\"\")=\"\",\"\",(IFERROR(VLOOKUP(s1inv[[#This Row],[Portfolio Company Name]],s11cumperf[],2,FALSE),\"\")))","v":""},{"$nulls":13},{"$f":"IF(s1inv[[#This Row],[Schedule 1c Reference Number]]=\"\",0,SUMIF(sched1c[Reference ID],s1inv[[#This Row],[Employer ID]]&\"-\"&s1inv[[#This Row],[Schedule 1c Reference Number]],sched1c[Change to Cost]))","v":{"$error":"#VALUE!"}},null,{"$f":"s1inv[[#This Row],[Cost at Beginning Period]]+s1inv[[#This Row],[Addition/\nDeduction]]","v":{"$error":"#VALUE!"}},{"$nulls":5},{"$f":"s1inv[[#This Row],[Cost at End of Period]]+s1inv[[#This Row],[Unrealized Appreciation]]-ABS(s1inv[[#This Row],[(Unrealized Depreciation)]])","v":{"$error":"#VALUE!"}},0,null,{"$f":"IFERROR((s1inv[[#This Row],[SBA Reported Value (B)]]+s1inv[[#This Row],[Cum. Cash Proceeds (D)]])/s1inv[[#This Row],[Total Cash Invested (A)]],\"\")","v":""},null,{"$f":"IFERROR((s1inv[[#This Row],[GAAP Reported Value (C)]]+s1inv[[#This Row],[Cum. Cash Proceeds (D)]])/s1inv[[#This Row],[Total Cash Invested (A)]],\"\")","v":""},null,{"$f":"IF(IFERROR(VLOOKUP(s1inv[[#This Row],[Portfolio Company Name]],s11cumperf[],4,FALSE),\"\")=\"\",\"\",(IFERROR(VLOOKUP(s1inv[[#This Row],[Portfolio Company Name]],s11cumperf[],4,FALSE),\"\")))","v":""}]
[" ",{"$f":"IF(IFERROR(VLOOKUP(s1inv[[#This Row],[Portfolio Company Name]],s11cumperf[],2,FALSE),\"\")=\"\",\"\",(IFERROR(VLOOKUP(s1inv[[#This Row],[Portfolio Company Name]],s11cumperf[],2,FALSE),\"\")))","v":""},{"$nulls":13},{"$f":"IF(s1inv[[#This Row],[Schedule 1c Reference Number]]=\"\",0,SUMIF(sched1c[Reference ID],s1inv[[#This Row],[Employer ID]]&\"-\"&s1inv[[#This Row],[Schedule 1c Reference Number]],sched1c[Change to Cost]))","v":{"$error":"#VALUE!"}},null,{"$f":"s1inv[[#This Row],[Cost at Beginning Period]]+s1inv[[#This Row],[Addition/\nDeduction]]","v":{"$error":"#VALUE!"}},{"$nulls":5},{"$f":"s1inv[[#This Row],[Cost at End of Period]]+s1inv[[#This Row],[Unrealized Appreciation]]-ABS(s1inv[[#This Row],[(Unrealized Depreciation)]])","v":{"$error":"#VALUE!"}},0,null,{"$f":"IFERROR((s1inv[[#This Row],[SBA Reported Value (B)]]+s1inv[[#This Row],[Cum. Cash Proceeds (D)]])/s1inv[[#This Row],[Total Cash Invested (A)]],\"\")","v":""},null,{"$f":"IFERROR((s1inv[[#This Row],[GAAP Reported Value (C)]]+s1inv[[#This Row],[Cum. Cash Proceeds (D)]])/s1inv[[#This Row],[Total Cash Invested (A)]],\"\")","v":""},null,{"$f":"IF(IFERROR(VLOOKUP(s1inv[[#This Row],[Portfolio Company Name]],s11cumperf[],4,FALSE),\"\")=\"\",\"\",(IFERROR(VLOOKUP(s1inv[[#This Row],[Portfolio Company Name]],s11cumperf[],4,FALSE),\"\")))","v":""}]
[" ",{"$f":"IF(IFERROR(VLOOKUP(s1inv[[#This Row],[Portfolio Company Name]],s11cumperf[],2,FALSE),\"\")=\"\",\"\",(IFERROR(VLOOKUP(s1inv[[#This Row],[Portfolio Company Name]],s11cumperf[],2,FALSE),\"\")))","v":""},{"$nulls":13},{"$f":"IF(s1inv[[#This Row],[Schedule 1c Reference Number]]=\"\",0,SUMIF(sched1c[Reference ID],s1inv[[#This Row],[Employer ID]]&\"-\"&s1inv[[#This Row],[Schedule 1c Reference Number]],sched1c[Change to Cost]))","v":{"$error":"#VALUE!"}},null,{"$f":"s1inv[[#This Row],[Cost at Beginning Period]]+s1inv[[#This Row],[Addition/\nDeduction]]","v":{"$error":"#VALUE!"}},{"$nulls":5},{"$f":"s1inv[[#This Row],[Cost at End of Period]]+s1inv[[#This Row],[Unrealized Appreciation]]-ABS(s1inv[[#This Row],[(Unrealized Depreciation)]])","v":{"$error":"#VALUE!"}},0,null,{"$f":"IFERROR((s1inv[[#This Row],[SBA Reported Value (B)]]+s1inv[[#This Row],[Cum. Cash Proceeds (D)]])/s1inv[[#This Row],[Total Cash Invested (A)]],\"\")","v":""},null,{"$f":"IFERROR((s1inv[[#This Row],[GAAP Reported Value (C)]]+s1inv[[#This Row],[Cum. Cash Proceeds (D)]])/s1inv[[#This Row],[Total Cash Invested (A)]],\"\")","v":""},null,{"$f":"IF(IFERROR(VLOOKUP(s1inv[[#This Row],[Portfolio Company Name]],s11cumperf[],4,FALSE),\"\")=\"\",\"\",(IFERROR(VLOOKUP(s1inv[[#This Row],[Portfolio Company Name]],s11cumperf[],4,FALSE),\"\")))","v":""}]
[" ",{"$f":"IF(IFERROR(VLOOKUP(s1inv[[#This Row],[Portfolio Company Name]],s11cumperf[],2,FALSE),\"\")=\"\",\"\",(IFERROR(VLOOKUP(s1inv[[#This Row],[Portfolio Company Name]],s11cumperf[],2,FALSE),\"\")))","v":""},{"$nulls":13},{"$f":"IF(s1inv[[#This Row],[Schedule 1c Reference Number]]=\"\",0,SUMIF(sched1c[Reference ID],s1inv[[#This Row],[Employer ID]]&\"-\"&s1inv[[#This Row],[Schedule 1c Reference Number]],sched1c[Change to Cost]))","v":{"$error":"#VALUE!"}},null,{"$f":"s1inv[[#This Row],[Cost at Beginning Period]]+s1inv[[#This Row],[Addition/\nDeduction]]","v":{"$error":"#VALUE!"}},{"$nulls":5},{"$f":"s1inv[[#This Row],[Cost at End of Period]]+s1inv[[#This Row],[Unrealized Appreciation]]-ABS(s1inv[[#This Row],[(Unrealized Depreciation)]])","v":{"$error":"#VALUE!"}},0,null,{"$f":"IFERROR((s1inv[[#This Row],[SBA Reported Value (B)]]+s1inv[[#This Row],[Cum. Cash Proceeds (D)]])/s1inv[[#This Row],[Total Cash Invested (A)]],\"\")","v":""},null,{"$f":"IFERROR((s1inv[[#This Row],[GAAP Reported Value (C)]]+s1inv[[#This Row],[Cum. Cash Proceeds (D)]])/s1inv[[#This Row],[Total Cash Invested (A)]],\"\")","v":""},null,{"$f":"IF(IFERROR(VLOOKUP(s1inv[[#This Row],[Portfolio Company Name]],s11cumperf[],4,FALSE),\"\")=\"\",\"\",(IFERROR(VLOOKUP(s1inv[[#This Row],[Portfolio Company Name]],s11cumperf[],4,FALSE),\"\")))","v":""}]
[" ",{"$f":"IF(IFERROR(VLOOKUP(s1inv[[#This Row],[Portfolio Company Name]],s11cumperf[],2,FALSE),\"\")=\"\",\"\",(IFERROR(VLOOKUP(s1inv[[#This Row],[Portfolio Company Name]],s11cumperf[],2,FALSE),\"\")))","v":""},{"$nulls":13},{"$f":"IF(s1inv[[#This Row],[Schedule 1c Reference Number]]=\"\",0,SUMIF(sched1c[Reference ID],s1inv[[#This Row],[Employer ID]]&\"-\"&s1inv[[#This Row],[Schedule 1c Reference Number]],sched1c[Change to Cost]))","v":{"$error":"#VALUE!"}},null,{"$f":"s1inv[[#This Row],[Cost at Beginning Period]]+s1inv[[#This Row],[Addition/\nDeduction]]","v":{"$error":"#VALUE!"}},{"$nulls":5},{"$f":"s1inv[[#This Row],[Cost at End of Period]]+s1inv[[#This Row],[Unrealized Appreciation]]-ABS(s1inv[[#This Row],[(Unrealized Depreciation)]])","v":{"$error":"#VALUE!"}},0,null,{"$f":"IFERROR((s1inv[[#This Row],[SBA Reported Value (B)]]+s1inv[[#This Row],[Cum. Cash Proceeds (D)]])/s1inv[[#This Row],[Total Cash Invested (A)]],\"\")","v":""},null,{"$f":"IFERROR((s1inv[[#This Row],[GAAP Reported Value (C)]]+s1inv[[#This Row],[Cum. Cash Proceeds (D)]])/s1inv[[#This Row],[Total Cash Invested (A)]],\"\")","v":""},null,{"$f":"IF(IFERROR(VLOOKUP(s1inv[[#This Row],[Portfolio Company Name]],s11cumperf[],4,FALSE),\"\")=\"\",\"\",(IFERROR(VLOOKUP(s1inv[[#This Row],[Portfolio Company Name]],s11cumperf[],4,FALSE),\"\")))","v":""}]
[" ",{"$f":"IF(IFERROR(VLOOKUP(s1inv[[#This Row],[Portfolio Company Name]],s11cumperf[],2,FALSE),\"\")=\"\",\"\",(IFERROR(VLOOKUP(s1inv[[#This Row],[Portfolio Company Name]],s11cumperf[],2,FALSE),\"\")))","v":""},{"$nulls":13},{"$f":"IF(s1inv[[#This Row],[Schedule 1c Reference Number]]=\"\",0,SUMIF(sched1c[Reference ID],s1inv[[#This Row],[Employer ID]]&\"-\"&s1inv[[#This Row],[Schedule 1c Reference Number]],sched1c[Change to Cost]))","v":{"$error":"#VALUE!"}},null,{"$f":"s1inv[[#This Row],[Cost at Beginning Period]]+s1inv[[#This Row],[Addition/\nDeduction]]","v":{"$error":"#VALUE!"}},{"$nulls":5},{"$f":"s1inv[[#This Row],[Cost at End of Period]]+s1inv[[#This Row],[Unrealized Appreciation]]-ABS(s1inv[[#This Row],[(Unrealized Depreciation)]])","v":{"$error":"#VALUE!"}},0,null,{"$f":"IFERROR((s1inv[[#This Row],[SBA Reported Value (B)]]+s1inv[[#This Row],[Cum. Cash Proceeds (D)]])/s1inv[[#This Row],[Total Cash Invested (A)]],\"\")","v":""},null,{"$f":"IFERROR((s1inv[[#This Row],[GAAP Reported Value (C)]]+s1inv[[#This Row],[Cum. Cash Proceeds (D)]])/s1inv[[#This Row],[Total Cash Invested (A)]],\"\")","v":""},null,{"$f":"IF(IFERROR(VLOOKUP(s1inv[[#This Row],[Portfolio Company Name]],s11cumperf[],4,FALSE),\"\")=\"\",\"\",(IFERROR(VLOOKUP(s1inv[[#This Row],[Portfolio Company Name]],s11cumperf[],4,FALSE),\"\")))","v":""}]
[" ",{"$f":"IF(IFERROR(VLOOKUP(s1inv[[#This Row],[Portfolio Company Name]],s11cumperf[],2,FALSE),\"\")=\"\",\"\",(IFERROR(VLOOKUP(s1inv[[#This Row],[Portfolio Company Name]],s11cumperf[],2,FALSE),\"\")))","v":""},{"$nulls":13},{"$f":"IF(s1inv[[#This Row],[Schedule 1c Reference Number]]=\"\",0,SUMIF(sched1c[Reference ID],s1inv[[#This Row],[Employer ID]]&\"-\"&s1inv[[#This Row],[Schedule 1c Reference Number]],sched1c[Change to Cost]))","v":{"$error":"#VALUE!"}},null,{"$f":"s1inv[[#This Row],[Cost at Beginning Period]]+s1inv[[#This Row],[Addition/\nDeduction]]","v":{"$error":"#VALUE!"}},{"$nulls":5},{"$f":"s1inv[[#This Row],[Cost at End of Period]]+s1inv[[#This Row],[Unrealized Appreciation]]-ABS(s1inv[[#This Row],[(Unrealized Depreciation)]])","v":{"$error":"#VALUE!"}},0,null,{"$f":"IFERROR((s1inv[[#This Row],[SBA Reported Value (B)]]+s1inv[[#This Row],[Cum. Cash Proceeds (D)]])/s1inv[[#This Row],[Total Cash Invested (A)]],\"\")","v":""},null,{"$f":"IFERROR((s1inv[[#This Row],[GAAP Reported Value (C)]]+s1inv[[#This Row],[Cum. Cash Proceeds (D)]])/s1inv[[#This Row],[Total Cash Invested (A)]],\"\")","v":""},null,{"$f":"IF(IFERROR(VLOOKUP(s1inv[[#This Row],[Portfolio Company Name]],s11cumperf[],4,FALSE),\"\")=\"\",\"\",(IFERROR(VLOOKUP(s1inv[[#This Row],[Portfolio Company Name]],s11cumperf[],4,FALSE),\"\")))","v":""}]
[" ",{"$f":"IF(IFERROR(VLOOKUP(s1inv[[#This Row],[Portfolio Company Name]],s11cumperf[],2,FALSE),\"\")=\"\",\"\",(IFERROR(VLOOKUP(s1inv[[#This Row],[Portfolio Company Name]],s11cumperf[],2,FALSE),\"\")))","v":""},{"$nulls":13},{"$f":"IF(s1inv[[#This Row],[Schedule 1c Reference Number]]=\"\",0,SUMIF(sched1c[Reference ID],s1inv[[#This Row],[Employer ID]]&\"-\"&s1inv[[#This Row],[Schedule 1c Reference Number]],sched1c[Change to Cost]))","v":{"$error":"#VALUE!"}},null,{"$f":"s1inv[[#This Row],[Cost at Beginning Period]]+s1inv[[#This Row],[Addition/\nDeduction]]","v":{"$error":"#VALUE!"}},{"$nulls":5},{"$f":"s1inv[[#This Row],[Cost at End of Period]]+s1inv[[#This Row],[Unrealized Appreciation]]-ABS(s1inv[[#This Row],[(Unrealized Depreciation)]])","v":{"$error":"#VALUE!"}},0,null,{"$f":"IFERROR((s1inv[[#This Row],[SBA Reported Value (B)]]+s1inv[[#This Row],[Cum. Cash Proceeds (D)]])/s1inv[[#This Row],[Total Cash Invested (A)]],\"\")","v":""},null,{"$f":"IFERROR((s1inv[[#This Row],[GAAP Reported Value (C)]]+s1inv[[#This Row],[Cum. Cash Proceeds (D)]])/s1inv[[#This Row],[Total Cash Invested (A)]],\"\")","v":""},null,{"$f":"IF(IFERROR(VLOOKUP(s1inv[[#This Row],[Portfolio Company Name]],s11cumperf[],4,FALSE),\"\")=\"\",\"\",(IFERROR(VLOOKUP(s1inv[[#This Row],[Portfolio Company Name]],s11cumperf[],4,FALSE),\"\")))","v":""}]
[" ",{"$f":"IF(IFERROR(VLOOKUP(s1inv[[#This Row],[Portfolio Company Name]],s11cumperf[],2,FALSE),\"\")=\"\",\"\",(IFERROR(VLOOKUP(s1inv[[#This Row],[Portfolio Company Name]],s11cumperf[],2,FALSE),\"\")))","v":""},{"$nulls":13},{"$f":"IF(s1inv[[#This Row],[Schedule 1c Reference Number]]=\"\",0,SUMIF(sched1c[Reference ID],s1inv[[#This Row],[Employer ID]]&\"-\"&s1inv[[#This Row],[Schedule 1c Reference Number]],sched1c[Change to Cost]))","v":{"$error":"#VALUE!"}},null,{"$f":"s1inv[[#This Row],[Cost at Beginning Period]]+s1inv[[#This Row],[Addition/\nDeduction]]","v":{"$error":"#VALUE!"}},{"$nulls":5},{"$f":"s1inv[[#This Row],[Cost at End of Period]]+s1inv[[#This Row],[Unrealized Appreciation]]-ABS(s1inv[[#This Row],[(Unrealized Depreciation)]])","v":{"$error":"#VALUE!"}},0,null,{"$f":"IFERROR((s1inv[[#This Row],[SBA Reported Value (B)]]+s1inv[[#This Row],[Cum. Cash Proceeds (D)]])/s1inv[[#This Row],[Total Cash Invested (A)]],\"\")","v":""},null,{"$f":"IFERROR((s1inv[[#This Row],[GAAP Reported Value (C)]]+s1inv[[#This Row],[Cum. Cash Proceeds (D)]])/s1inv[[#This Row],[Total Cash Invested (A)]],\"\")","v":""},null,{"$f":"IF(IFERROR(VLOOKUP(s1inv[[#This Row],[Portfolio Company Name]],s11cumperf[],4,FALSE),\"\")=\"\",\"\",(IFERROR(VLOOKUP(s1inv[[#This Row],[Portfolio Company Name]],s11cumperf[],4,FALSE),\"\")))","v":""}]
[" ",{"$f":"IF(IFERROR(VLOOKUP(s1inv[[#This Row],[Portfolio Company Name]],s11cumperf[],2,FALSE),\"\")=\"\",\"\",(IFERROR(VLOOKUP(s1inv[[#This Row],[Portfolio Company Name]],s11cumperf[],2,FALSE),\"\")))","v":""},{"$nulls":13},{"$f":"IF(s1inv[[#This Row],[Schedule 1c Reference Number]]=\"\",0,SUMIF(sched1c[Reference ID],s1inv[[#This Row],[Employer ID]]&\"-\"&s1inv[[#This Row],[Schedule 1c Reference Number]],sched1c[Change to Cost]))","v":{"$error":"#VALUE!"}},null,{"$f":"s1inv[[#This Row],[Cost at Beginning Period]]+s1inv[[#This Row],[Addition/\nDeduction]]","v":{"$error":"#VALUE!"}},{"$nulls":5},{"$f":"s1inv[[#This Row],[Cost at End of Period]]+s1inv[[#This Row],[Unrealized Appreciation]]-ABS(s1inv[[#This Row],[(Unrealized Depreciation)]])","v":{"$error":"#VALUE!"}},0,null,{"$f":"IFERROR((s1inv[[#This Row],[SBA Reported Value (B)]]+s1inv[[#This Row],[Cum. Cash Proceeds (D)]])/s1inv[[#This Row],[Total Cash Invested (A)]],\"\")","v":""},null,{"$f":"IFERROR((s1inv[[#This Row],[GAAP Reported Value (C)]]+s1inv[[#This Row],[Cum. Cash Proceeds (D)]])/s1inv[[#This Row],[Total Cash Invested (A)]],\"\")","v":""},null,{"$f":"IF(IFERROR(VLOOKUP(s1inv[[#This Row],[Portfolio Company Name]],s11cumperf[],4,FALSE),\"\")=\"\",\"\",(IFERROR(VLOOKUP(s1inv[[#This Row],[Portfolio Company Name]],s11cumperf[],4,FALSE),\"\")))","v":""}]
[" ",{"$f":"IF(IFERROR(VLOOKUP(s1inv[[#This Row],[Portfolio Company Name]],s11cumperf[],2,FALSE),\"\")=\"\",\"\",(IFERROR(VLOOKUP(s1inv[[#This Row],[Portfolio Company Name]],s11cumperf[],2,FALSE),\"\")))","v":""},{"$nulls":13},{"$f":"IF(s1inv[[#This Row],[Schedule 1c Reference Number]]=\"\",0,SUMIF(sched1c[Reference ID],s1inv[[#This Row],[Employer ID]]&\"-\"&s1inv[[#This Row],[Schedule 1c Reference Number]],sched1c[Change to Cost]))","v":{"$error":"#VALUE!"}},null,{"$f":"s1inv[[#This Row],[Cost at Beginning Period]]+s1inv[[#This Row],[Addition/\nDeduction]]","v":{"$error":"#VALUE!"}},{"$nulls":5},{"$f":"s1inv[[#This Row],[Cost at End of Period]]+s1inv[[#This Row],[Unrealized Appreciation]]-ABS(s1inv[[#This Row],[(Unrealized Depreciation)]])","v":{"$error":"#VALUE!"}},0,null,{"$f":"IFERROR((s1inv[[#This Row],[SBA Reported Value (B)]]+s1inv[[#This Row],[Cum. Cash Proceeds (D)]])/s1inv[[#This Row],[Total Cash Invested (A)]],\"\")","v":""},null,{"$f":"IFERROR((s1inv[[#This Row],[GAAP Reported Value (C)]]+s1inv[[#This Row],[Cum. Cash Proceeds (D)]])/s1inv[[#This Row],[Total Cash Invested (A)]],\"\")","v":""},null,{"$f":"IF(IFERROR(VLOOKUP(s1inv[[#This Row],[Portfolio Company Name]],s11cumperf[],4,FALSE),\"\")=\"\",\"\",(IFERROR(VLOOKUP(s1inv[[#This Row],[Portfolio Company Name]],s11cumperf[],4,FALSE),\"\")))","v":""}]
[" ",{"$f":"IF(IFERROR(VLOOKUP(s1inv[[#This Row],[Portfolio Company Name]],s11cumperf[],2,FALSE),\"\")=\"\",\"\",(IFERROR(VLOOKUP(s1inv[[#This Row],[Portfolio Company Name]],s11cumperf[],2,FALSE),\"\")))","v":""},{"$nulls":13},{"$f":"IF(s1inv[[#This Row],[Schedule 1c Reference Number]]=\"\",0,SUMIF(sched1c[Reference ID],s1inv[[#This Row],[Employer ID]]&\"-\"&s1inv[[#This Row],[Schedule 1c Reference Number]],sched1c[Change to Cost]))","v":{"$error":"#VALUE!"}},null,{"$f":"s1inv[[#This Row],[Cost at Beginning Period]]+s1inv[[#This Row],[Addition/\nDeduction]]","v":{"$error":"#VALUE!"}},{"$nulls":5},{"$f":"s1inv[[#This Row],[Cost at End of Period]]+s1inv[[#This Row],[Unrealized Appreciation]]-ABS(s1inv[[#This Row],[(Unrealized Depreciation)]])","v":{"$error":"#VALUE!"}},0,null,{"$f":"IFERROR((s1inv[[#This Row],[SBA Reported Value (B)]]+s1inv[[#This Row],[Cum. Cash Proceeds (D)]])/s1inv[[#This Row],[Total Cash Invested (A)]],\"\")","v":""},null,{"$f":"IFERROR((s1inv[[#This Row],[GAAP Reported Value (C)]]+s1inv[[#This Row],[Cum. Cash Proceeds (D)]])/s1inv[[#This Row],[Total Cash Invested (A)]],\"\")","v":""},null,{"$f":"IF(IFERROR(VLOOKUP(s1inv[[#This Row],[Portfolio Company Name]],s11cumperf[],4,FALSE),\"\")=\"\",\"\",(IFERROR(VLOOKUP(s1inv[[#This Row],[Portfolio Company Name]],s11cumperf[],4,FALSE),\"\")))","v":""}]
[" ",{"$f":"IF(IFERROR(VLOOKUP(s1inv[[#This Row],[Portfolio Company Name]],s11cumperf[],2,FALSE),\"\")=\"\",\"\",(IFERROR(VLOOKUP(s1inv[[#This Row],[Portfolio Company Name]],s11cumperf[],2,FALSE),\"\")))","v":""},{"$nulls":13},{"$f":"IF(s1inv[[#This Row],[Schedule 1c Reference Number]]=\"\",0,SUMIF(sched1c[Reference ID],s1inv[[#This Row],[Employer ID]]&\"-\"&s1inv[[#This Row],[Schedule 1c Reference Number]],sched1c[Change to Cost]))","v":{"$error":"#VALUE!"}},null,{"$f":"s1inv[[#This Row],[Cost at Beginning Period]]+s1inv[[#This Row],[Addition/\nDeduction]]","v":{"$error":"#VALUE!"}},{"$nulls":5},{"$f":"s1inv[[#This Row],[Cost at End of Period]]+s1inv[[#This Row],[Unrealized Appreciation]]-ABS(s1inv[[#This Row],[(Unrealized Depreciation)]])","v":{"$error":"#VALUE!"}},0,null,{"$f":"IFERROR((s1inv[[#This Row],[SBA Reported Value (B)]]+s1inv[[#This Row],[Cum. Cash Proceeds (D)]])/s1inv[[#This Row],[Total Cash Invested (A)]],\"\")","v":""},null,{"$f":"IFERROR((s1inv[[#This Row],[GAAP Reported Value (C)]]+s1inv[[#This Row],[Cum. Cash Proceeds (D)]])/s1inv[[#This Row],[Total Cash Invested (A)]],\"\")","v":""},null,{"$f":"IF(IFERROR(VLOOKUP(s1inv[[#This Row],[Portfolio Company Name]],s11cumperf[],4,FALSE),\"\")=\"\",\"\",(IFERROR(VLOOKUP(s1inv[[#This Row],[Portfolio Company Name]],s11cumperf[],4,FALSE),\"\")))","v":""}]
[" ",{"$f":"IF(IFERROR(VLOOKUP(s1inv[[#This Row],[Portfolio Company Name]],s11cumperf[],2,FALSE),\"\")=\"\",\"\",(IFERROR(VLOOKUP(s1inv[[#This Row],[Portfolio Company Name]],s11cumperf[],2,FALSE),\"\")))","v":""},{"$nulls":13},{"$f":"IF(s1inv[[#This Row],[Schedule 1c Reference Number]]=\"\",0,SUMIF(sched1c[Reference ID],s1inv[[#This Row],[Employer ID]]&\"-\"&s1inv[[#This Row],[Schedule 1c Reference Number]],sched1c[Change to Cost]))","v":{"$error":"#VALUE!"}},null,{"$f":"s1inv[[#This Row],[Cost at Beginning Period]]+s1inv[[#This Row],[Addition/\nDeduction]]","v":{"$error":"#VALUE!"}},{"$nulls":5},{"$f":"s1inv[[#This Row],[Cost at End of Period]]+s1inv[[#This Row],[Unrealized Appreciation]]-ABS(s1inv[[#This Row],[(Unrealized Depreciation)]])","v":{"$error":"#VALUE!"}},0,null,{"$f":"IFERROR((s1inv[[#This Row],[SBA Reported Value (B)]]+s1inv[[#This Row],[Cum. Cash Proceeds (D)]])/s1inv[[#This Row],[Total Cash Invested (A)]],\"\")","v":""},null,{"$f":"IFERROR((s1inv[[#This Row],[GAAP Reported Value (C)]]+s1inv[[#This Row],[Cum. Cash Proceeds (D)]])/s1inv[[#This Row],[Total Cash Invested (A)]],\"\")","v":""},null,{"$f":"IF(IFERROR(VLOOKUP(s1inv[[#This Row],[Portfolio Company Name]],s11cumperf[],4,FALSE),\"\")=\"\",\"\",(IFERROR(VLOOKUP(s1inv[[#This Row],[Portfolio Company Name]],s11cumperf[],4,FALSE),\"\")))","v":""}]
[" ",{"$f":"IF(IFERROR(VLOOKUP(s1inv[[#This Row],[Portfolio Company Name]],s11cumperf[],2,FALSE),\"\")=\"\",\"\",(IFERROR(VLOOKUP(s1inv[[#This Row],[Portfolio Company Name]],s11cumperf[],2,FALSE),\"\")))","v":""},{"$nulls":13},{"$f":"IF(s1inv[[#This Row],[Schedule 1c Reference Number]]=\"\",0,SUMIF(sched1c[Reference ID],s1inv[[#This Row],[Employer ID]]&\"-\"&s1inv[[#This Row],[Schedule 1c Reference Number]],sched1c[Change to Cost]))","v":{"$error":"#VALUE!"}},null,{"$f":"s1inv[[#This Row],[Cost at Beginning Period]]+s1inv[[#This Row],[Addition/\nDeduction]]","v":{"$error":"#VALUE!"}},{"$nulls":5},{"$f":"s1inv[[#This Row],[Cost at End of Period]]+s1inv[[#This Row],[Unrealized Appreciation]]-ABS(s1inv[[#This Row],[(Unrealized Depreciation)]])","v":{"$error":"#VALUE!"}},0,null,{"$f":"IFERROR((s1inv[[#This Row],[SBA Reported Value (B)]]+s1inv[[#This Row],[Cum. Cash Proceeds (D)]])/s1inv[[#This Row],[Total Cash Invested (A)]],\"\")","v":""},null,{"$f":"IFERROR((s1inv[[#This Row],[GAAP Reported Value (C)]]+s1inv[[#This Row],[Cum. Cash Proceeds (D)]])/s1inv[[#This Row],[Total Cash Invested (A)]],\"\")","v":""},null,{"$f":"IF(IFERROR(VLOOKUP(s1inv[[#This Row],[Portfolio Company Name]],s11cumperf[],4,FALSE),\"\")=\"\",\"\",(IFERROR(VLOOKUP(s1inv[[#This Row],[Portfolio Company Name]],s11cumperf[],4,FALSE),\"\")))","v":""}]
[" ",{"$f":"IF(IFERROR(VLOOKUP(s1inv[[#This Row],[Portfolio Company Name]],s11cumperf[],2,FALSE),\"\")=\"\",\"\",(IFERROR(VLOOKUP(s1inv[[#This Row],[Portfolio Company Name]],s11cumperf[],2,FALSE),\"\")))","v":""},{"$nulls":13},{"$f":"IF(s1inv[[#This Row],[Schedule 1c Reference Number]]=\"\",0,SUMIF(sched1c[Reference ID],s1inv[[#This Row],[Employer ID]]&\"-\"&s1inv[[#This Row],[Schedule 1c Reference Number]],sched1c[Change to Cost]))","v":{"$error":"#VALUE!"}},null,{"$f":"s1inv[[#This Row],[Cost at Beginning Period]]+s1inv[[#This Row],[Addition/\nDeduction]]","v":{"$error":"#VALUE!"}},{"$nulls":5},{"$f":"s1inv[[#This Row],[Cost at End of Period]]+s1inv[[#This Row],[Unrealized Appreciation]]-ABS(s1inv[[#This Row],[(Unrealized Depreciation)]])","v":{"$error":"#VALUE!"}},0,null,{"$f":"IFERROR((s1inv[[#This Row],[SBA Reported Value (B)]]+s1inv[[#This Row],[Cum. Cash Proceeds (D)]])/s1inv[[#This Row],[Total Cash Invested (A)]],\"\")","v":""},null,{"$f":"IFERROR((s1inv[[#This Row],[GAAP Reported Value (C)]]+s1inv[[#This Row],[Cum. Cash Proceeds (D)]])/s1inv[[#This Row],[Total Cash Invested (A)]],\"\")","v":""},null,{"$f":"IF(IFERROR(VLOOKUP(s1inv[[#This Row],[Portfolio Company Name]],s11cumperf[],4,FALSE),\"\")=\"\",\"\",(IFERROR(VLOOKUP(s1inv[[#This Row],[Portfolio Company Name]],s11cumperf[],4,FALSE),\"\")))","v":""}]
[" ",{"$f":"IF(IFERROR(VLOOKUP(s1inv[[#This Row],[Portfolio Company Name]],s11cumperf[],2,FALSE),\"\")=\"\",\"\",(IFERROR(VLOOKUP(s1inv[[#This Row],[Portfolio Company Name]],s11cumperf[],2,FALSE),\"\")))","v":""},{"$nulls":13},{"$f":"IF(s1inv[[#This Row],[Schedule 1c Reference Number]]=\"\",0,SUMIF(sched1c[Reference ID],s1inv[[#This Row],[Employer ID]]&\"-\"&s1inv[[#This Row],[Schedule 1c Reference Number]],sched1c[Change to Cost]))","v":{"$error":"#VALUE!"}},null,{"$f":"s1inv[[#This Row],[Cost at Beginning Period]]+s1inv[[#This Row],[Addition/\nDeduction]]","v":{"$error":"#VALUE!"}},{"$nulls":5},{"$f":"s1inv[[#This Row],[Cost at End of Period]]+s1inv[[#This Row],[Unrealized Appreciation]]-ABS(s1inv[[#This Row],[(Unrealized Depreciation)]])","v":{"$error":"#VALUE!"}},0,null,{"$f":"IFERROR((s1inv[[#This Row],[SBA Reported Value (B)]]+s1inv[[#This Row],[Cum. Cash Proceeds (D)]])/s1inv[[#This Row],[Total Cash Invested (A)]],\"\")","v":""},null,{"$f":"IFERROR((s1inv[[#This Row],[GAAP Reported Value (C)]]+s1inv[[#This Row],[Cum. Cash Proceeds (D)]])/s1inv[[#This Row],[Total Cash Invested (A)]],\"\")","v":""},null,{"$f":"IF(IFERROR(VLOOKUP(s1inv[[#This Row],[Portfolio Company Name]],s11cumperf[],4,FALSE),\"\")=\"\",\"\",(IFERROR(VLOOKUP(s1inv[[#This Row],[Portfolio Company Name]],s11cumperf[],4,FALSE),\"\")))","v":""}]
[" ",{"$f":"IF(IFERROR(VLOOKUP(s1inv[[#This Row],[Portfolio Company Name]],s11cumperf[],2,FALSE),\"\")=\"\",\"\",(IFERROR(VLOOKUP(s1inv[[#This Row],[Portfolio Company Name]],s11cumperf[],2,FALSE),\"\")))","v":""},{"$nulls":13},{"$f":"IF(s1inv[[#This Row],[Schedule 1c Reference Number]]=\"\",0,SUMIF(sched1c[Reference ID],s1inv[[#This Row],[Employer ID]]&\"-\"&s1inv[[#This Row],[Schedule 1c Reference Number]],sched1c[Change to Cost]))","v":{"$error":"#VALUE!"}},null,{"$f":"s1inv[[#This Row],[Cost at Beginning Period]]+s1inv[[#This Row],[Addition/\nDeduction]]","v":{"$error":"#VALUE!"}},{"$nulls":5},{"$f":"s1inv[[#This Row],[Cost at End of Period]]+s1inv[[#This Row],[Unrealized Appreciation]]-ABS(s1inv[[#This Row],[(Unrealized Depreciation)]])","v":{"$error":"#VALUE!"}},0,null,{"$f":"IFERROR((s1inv[[#This Row],[SBA Reported Value (B)]]+s1inv[[#This Row],[Cum. Cash Proceeds (D)]])/s1inv[[#This Row],[Total Cash Invested (A)]],\"\")","v":""},null,{"$f":"IFERROR((s1inv[[#This Row],[GAAP Reported Value (C)]]+s1inv[[#This Row],[Cum. Cash Proceeds (D)]])/s1inv[[#This Row],[Total Cash Invested (A)]],\"\")","v":""},null,{"$f":"IF(IFERROR(VLOOKUP(s1inv[[#This Row],[Portfolio Company Name]],s11cumperf[],4,FALSE),\"\")=\"\",\"\",(IFERROR(VLOOKUP(s1inv[[#This Row],[Portfolio Company Name]],s11cumperf[],4,FALSE),\"\")))","v":""}]
[" ",{"$f":"IF(IFERROR(VLOOKUP(s1inv[[#This Row],[Portfolio Company Name]],s11cumperf[],2,FALSE),\"\")=\"\",\"\",(IFERROR(VLOOKUP(s1inv[[#This Row],[Portfolio Company Name]],s11cumperf[],2,FALSE),\"\")))","v":""},{"$nulls":13},{"$f":"IF(s1inv[[#This Row],[Schedule 1c Reference Number]]=\"\",0,SUMIF(sched1c[Reference ID],s1inv[[#This Row],[Employer ID]]&\"-\"&s1inv[[#This Row],[Schedule 1c Reference Number]],sched1c[Change to Cost]))","v":{"$error":"#VALUE!"}},null,{"$f":"s1inv[[#This Row],[Cost at Beginning Period]]+s1inv[[#This Row],[Addition/\nDeduction]]","v":{"$error":"#VALUE!"}},{"$nulls":5},{"$f":"s1inv[[#This Row],[Cost at End of Period]]+s1inv[[#This Row],[Unrealized Appreciation]]-ABS(s1inv[[#This Row],[(Unrealized Depreciation)]])","v":{"$error":"#VALUE!"}},0,null,{"$f":"IFERROR((s1inv[[#This Row],[SBA Reported Value (B)]]+s1inv[[#This Row],[Cum. Cash Proceeds (D)]])/s1inv[[#This Row],[Total Cash Invested (A)]],\"\")","v":""},null,{"$f":"IFERROR((s1inv[[#This Row],[GAAP Reported Value (C)]]+s1inv[[#This Row],[Cum. Cash Proceeds (D)]])/s1inv[[#This Row],[Total Cash Invested (A)]],\"\")","v":""},null,{"$f":"IF(IFERROR(VLOOKUP(s1inv[[#This Row],[Portfolio Company Name]],s11cumperf[],4,FALSE),\"\")=\"\",\"\",(IFERROR(VLOOKUP(s1inv[[#This Row],[Portfolio Company Name]],s11cumperf[],4,FALSE),\"\")))","v":""}]
[" ",{"$f":"IF(IFERROR(VLOOKUP(s1inv[[#This Row],[Portfolio Company Name]],s11cumperf[],2,FALSE),\"\")=\"\",\"\",(IFERROR(VLOOKUP(s1inv[[#This Row],[Portfolio Company Name]],s11cumperf[],2,FALSE),\"\")))","v":""},{"$nulls":13},{"$f":"IF(s1inv[[#This Row],[Schedule 1c Reference Number]]=\"\",0,SUMIF(sched1c[Reference ID],s1inv[[#This Row],[Employer ID]]&\"-\"&s1inv[[#This Row],[Schedule 1c Reference Number]],sched1c[Change to Cost]))","v":{"$error":"#VALUE!"}},null,{"$f":"s1inv[[#This Row],[Cost at Beginning Period]]+s1inv[[#This Row],[Addition/\nDeduction]]","v":{"$error":"#VALUE!"}},{"$nulls":5},{"$f":"s1inv[[#This Row],[Cost at End of Period]]+s1inv[[#This Row],[Unrealized Appreciation]]-ABS(s1inv[[#This Row],[(Unrealized Depreciation)]])","v":{"$error":"#VALUE!"}},0,null,{"$f":"IFERROR((s1inv[[#This Row],[SBA Reported Value (B)]]+s1inv[[#This Row],[Cum. Cash Proceeds (D)]])/s1inv[[#This Row],[Total Cash Invested (A)]],\"\")","v":""},null,{"$f":"IFERROR((s1inv[[#This Row],[GAAP Reported Value (C)]]+s1inv[[#This Row],[Cum. Cash Proceeds (D)]])/s1inv[[#This Row],[Total Cash Invested (A)]],\"\")","v":""},null,{"$f":"IF(IFERROR(VLOOKUP(s1inv[[#This Row],[Portfolio Company Name]],s11cumperf[],4,FALSE),\"\")=\"\",\"\",(IFERROR(VLOOKUP(s1inv[[#This Row],[Portfolio Company Name]],s11cumperf[],4,FALSE),\"\")))","v":""}]
[" ",{"$f":"IF(IFERROR(VLOOKUP(s1inv[[#This Row],[Portfolio Company Name]],s11cumperf[],2,FALSE),\"\")=\"\",\"\",(IFERROR(VLOOKUP(s1inv[[#This Row],[Portfolio Company Name]],s11cumperf[],2,FALSE),\"\")))","v":""},{"$nulls":13},{"$f":"IF(s1inv[[#This Row],[Schedule 1c Reference Number]]=\"\",0,SUMIF(sched1c[Reference ID],s1inv[[#This Row],[Employer ID]]&\"-\"&s1inv[[#This Row],[Schedule 1c Reference Number]],sched1c[Change to Cost]))","v":{"$error":"#VALUE!"}},null,{"$f":"s1inv[[#This Row],[Cost at Beginning Period]]+s1inv[[#This Row],[Addition/\nDeduction]]","v":{"$error":"#VALUE!"}},{"$nulls":5},{"$f":"s1inv[[#This Row],[Cost at End of Period]]+s1inv[[#This Row],[Unrealized Appreciation]]-ABS(s1inv[[#This Row],[(Unrealized Depreciation)]])","v":{"$error":"#VALUE!"}},0,null,{"$f":"IFERROR((s1inv[[#This Row],[SBA Reported Value (B)]]+s1inv[[#This Row],[Cum. Cash Proceeds (D)]])/s1inv[[#This Row],[Total Cash Invested (A)]],\"\")","v":""},null,{"$f":"IFERROR((s1inv[[#This Row],[GAAP Reported Value (C)]]+s1inv[[#This Row],[Cum. Cash Proceeds (D)]])/s1inv[[#This Row],[Total Cash Invested (A)]],\"\")","v":""},null,{"$f":"IF(IFERROR(VLOOKUP(s1inv[[#This Row],[Portfolio Company Name]],s11cumperf[],4,FALSE),\"\")=\"\",\"\",(IFERROR(VLOOKUP(s1inv[[#This Row],[Portfolio Company Name]],s11cumperf[],4,FALSE),\"\")))","v":""}]
[" ",{"$f":"IF(IFERROR(VLOOKUP(s1inv[[#This Row],[Portfolio Company Name]],s11cumperf[],2,FALSE),\"\")=\"\",\"\",(IFERROR(VLOOKUP(s1inv[[#This Row],[Portfolio Company Name]],s11cumperf[],2,FALSE),\"\")))","v":""},{"$nulls":13},{"$f":"IF(s1inv[[#This Row],[Schedule 1c Reference Number]]=\"\",0,SUMIF(sched1c[Reference ID],s1inv[[#This Row],[Employer ID]]&\"-\"&s1inv[[#This Row],[Schedule 1c Reference Number]],sched1c[Change to Cost]))","v":{"$error":"#VALUE!"}},null,{"$f":"s1inv[[#This Row],[Cost at Beginning Period]]+s1inv[[#This Row],[Addition/\nDeduction]]","v":{"$error":"#VALUE!"}},{"$nulls":5},{"$f":"s1inv[[#This Row],[Cost at End of Period]]+s1inv[[#This Row],[Unrealized Appreciation]]-ABS(s1inv[[#This Row],[(Unrealized Depreciation)]])","v":{"$error":"#VALUE!"}},0,null,{"$f":"IFERROR((s1inv[[#This Row],[SBA Reported Value (B)]]+s1inv[[#This Row],[Cum. Cash Proceeds (D)]])/s1inv[[#This Row],[Total Cash Invested (A)]],\"\")","v":""},null,{"$f":"IFERROR((s1inv[[#This Row],[GAAP Reported Value (C)]]+s1inv[[#This Row],[Cum. Cash Proceeds (D)]])/s1inv[[#This Row],[Total Cash Invested (A)]],\"\")","v":""},null,{"$f":"IF(IFERROR(VLOOKUP(s1inv[[#This Row],[Portfolio Company Name]],s11cumperf[],4,FALSE),\"\")=\"\",\"\",(IFERROR(VLOOKUP(s1inv[[#This Row],[Portfolio Company Name]],s11cumperf[],4,FALSE),\"\")))","v":""}]
[" ",{"$f":"IF(IFERROR(VLOOKUP(s1inv[[#This Row],[Portfolio Company Name]],s11cumperf[],2,FALSE),\"\")=\"\",\"\",(IFERROR(VLOOKUP(s1inv[[#This Row],[Portfolio Company Name]],s11cumperf[],2,FALSE),\"\")))","v":""},{"$nulls":13},{"$f":"IF(s1inv[[#This Row],[Schedule 1c Reference Number]]=\"\",0,SUMIF(sched1c[Reference ID],s1inv[[#This Row],[Employer ID]]&\"-\"&s1inv[[#This Row],[Schedule 1c Reference Number]],sched1c[Change to Cost]))","v":{"$error":"#VALUE!"}},null,{"$f":"s1inv[[#This Row],[Cost at Beginning Period]]+s1inv[[#This Row],[Addition/\nDeduction]]","v":{"$error":"#VALUE!"}},{"$nulls":5},{"$f":"s1inv[[#This Row],[Cost at End of Period]]+s1inv[[#This Row],[Unrealized Appreciation]]-ABS(s1inv[[#This Row],[(Unrealized Depreciation)]])","v":{"$error":"#VALUE!"}},0,null,{"$f":"IFERROR((s1inv[[#This Row],[SBA Reported Value (B)]]+s1inv[[#This Row],[Cum. Cash Proceeds (D)]])/s1inv[[#This Row],[Total Cash Invested (A)]],\"\")","v":""},null,{"$f":"IFERROR((s1inv[[#This Row],[GAAP Reported Value (C)]]+s1inv[[#This Row],[Cum. Cash Proceeds (D)]])/s1inv[[#This Row],[Total Cash Invested (A)]],\"\")","v":""},null,{"$f":"IF(IFERROR(VLOOKUP(s1inv[[#This Row],[Portfolio Company Name]],s11cumperf[],4,FALSE),\"\")=\"\",\"\",(IFERROR(VLOOKUP(s1inv[[#This Row],[Portfolio Company Name]],s11cumperf[],4,FALSE),\"\")))","v":""}]
[" ",{"$f":"IF(IFERROR(VLOOKUP(s1inv[[#This Row],[Portfolio Company Name]],s11cumperf[],2,FALSE),\"\")=\"\",\"\",(IFERROR(VLOOKUP(s1inv[[#This Row],[Portfolio Company Name]],s11cumperf[],2,FALSE),\"\")))","v":""},{"$nulls":13},{"$f":"IF(s1inv[[#This Row],[Schedule 1c Reference Number]]=\"\",0,SUMIF(sched1c[Reference ID],s1inv[[#This Row],[Employer ID]]&\"-\"&s1inv[[#This Row],[Schedule 1c Reference Number]],sched1c[Change to Cost]))","v":{"$error":"#VALUE!"}},null,{"$f":"s1inv[[#This Row],[Cost at Beginning Period]]+s1inv[[#This Row],[Addition/\nDeduction]]","v":{"$error":"#VALUE!"}},{"$nulls":5},{"$f":"s1inv[[#This Row],[Cost at End of Period]]+s1inv[[#This Row],[Unrealized Appreciation]]-ABS(s1inv[[#This Row],[(Unrealized Depreciation)]])","v":{"$error":"#VALUE!"}},0,null,{"$f":"IFERROR((s1inv[[#This Row],[SBA Reported Value (B)]]+s1inv[[#This Row],[Cum. Cash Proceeds (D)]])/s1inv[[#This Row],[Total Cash Invested (A)]],\"\")","v":""},null,{"$f":"IFERROR((s1inv[[#This Row],[GAAP Reported Value (C)]]+s1inv[[#This Row],[Cum. Cash Proceeds (D)]])/s1inv[[#This Row],[Total Cash Invested (A)]],\"\")","v":""},null,{"$f":"IF(IFERROR(VLOOKUP(s1inv[[#This Row],[Portfolio Company Name]],s11cumperf[],4,FALSE),\"\")=\"\",\"\",(IFERROR(VLOOKUP(s1inv[[#This Row],[Portfolio Company Name]],s11cumperf[],4,FALSE),\"\")))","v":""}]
[" ",{"$f":"IF(IFERROR(VLOOKUP(s1inv[[#This Row],[Portfolio Company Name]],s11cumperf[],2,FALSE),\"\")=\"\",\"\",(IFERROR(VLOOKUP(s1inv[[#This Row],[Portfolio Company Name]],s11cumperf[],2,FALSE),\"\")))","v":""},{"$nulls":13},{"$f":"IF(s1inv[[#This Row],[Schedule 1c Reference Number]]=\"\",0,SUMIF(sched1c[Reference ID],s1inv[[#This Row],[Employer ID]]&\"-\"&s1inv[[#This Row],[Schedule 1c Reference Number]],sched1c[Change to Cost]))","v":{"$error":"#VALUE!"}},null,{"$f":"s1inv[[#This Row],[Cost at Beginning Period]]+s1inv[[#This Row],[Addition/\nDeduction]]","v":{"$error":"#VALUE!"}},{"$nulls":5},{"$f":"s1inv[[#This Row],[Cost at End of Period]]+s1inv[[#This Row],[Unrealized Appreciation]]-ABS(s1inv[[#This Row],[(Unrealized Depreciation)]])","v":{"$error":"#VALUE!"}},0,null,{"$f":"IFERROR((s1inv[[#This Row],[SBA Reported Value (B)]]+s1inv[[#This Row],[Cum. Cash Proceeds (D)]])/s1inv[[#This Row],[Total Cash Invested (A)]],\"\")","v":""},null,{"$f":"IFERROR((s1inv[[#This Row],[GAAP Reported Value (C)]]+s1inv[[#This Row],[Cum. Cash Proceeds (D)]])/s1inv[[#This Row],[Total Cash Invested (A)]],\"\")","v":""},null,{"$f":"IF(IFERROR(VLOOKUP(s1inv[[#This Row],[Portfolio Company Name]],s11cumperf[],4,FALSE),\"\")=\"\",\"\",(IFERROR(VLOOKUP(s1inv[[#This Row],[Portfolio Company Name]],s11cumperf[],4,FALSE),\"\")))","v":""}]
[" ",{"$f":"IF(IFERROR(VLOOKUP(s1inv[[#This Row],[Portfolio Company Name]],s11cumperf[],2,FALSE),\"\")=\"\",\"\",(IFERROR(VLOOKUP(s1inv[[#This Row],[Portfolio Company Name]],s11cumperf[],2,FALSE),\"\")))","v":""},{"$nulls":13},{"$f":"IF(s1inv[[#This Row],[Schedule 1c Reference Number]]=\"\",0,SUMIF(sched1c[Reference ID],s1inv[[#This Row],[Employer ID]]&\"-\"&s1inv[[#This Row],[Schedule 1c Reference Number]],sched1c[Change to Cost]))","v":{"$error":"#VALUE!"}},null,{"$f":"s1inv[[#This Row],[Cost at Beginning Period]]+s1inv[[#This Row],[Addition/\nDeduction]]","v":{"$error":"#VALUE!"}},{"$nulls":5},{"$f":"s1inv[[#This Row],[Cost at End of Period]]+s1inv[[#This Row],[Unrealized Appreciation]]-ABS(s1inv[[#This Row],[(Unrealized Depreciation)]])","v":{"$error":"#VALUE!"}},0,null,{"$f":"IFERROR((s1inv[[#This Row],[SBA Reported Value (B)]]+s1inv[[#This Row],[Cum. Cash Proceeds (D)]])/s1inv[[#This Row],[Total Cash Invested (A)]],\"\")","v":""},null,{"$f":"IFERROR((s1inv[[#This Row],[GAAP Reported Value (C)]]+s1inv[[#This Row],[Cum. Cash Proceeds (D)]])/s1inv[[#This Row],[Total Cash Invested (A)]],\"\")","v":""},null,{"$f":"IF(IFERROR(VLOOKUP(s1inv[[#This Row],[Portfolio Company Name]],s11cumperf[],4,FALSE),\"\")=\"\",\"\",(IFERROR(VLOOKUP(s1inv[[#This Row],[Portfolio Company Name]],s11cumperf[],4,FALSE),\"\")))","v":""}]
[" ",{"$f":"IF(IFERROR(VLOOKUP(s1inv[[#This Row],[Portfolio Company Name]],s11cumperf[],2,FALSE),\"\")=\"\",\"\",(IFERROR(VLOOKUP(s1inv[[#This Row],[Portfolio Company Name]],s11cumperf[],2,FALSE),\"\")))","v":""},{"$nulls":13},{"$f":"IF(s1inv[[#This Row],[Schedule 1c Reference Number]]=\"\",0,SUMIF(sched1c[Reference ID],s1inv[[#This Row],[Employer ID]]&\"-\"&s1inv[[#This Row],[Schedule 1c Reference Number]],sched1c[Change to Cost]))","v":{"$error":"#VALUE!"}},null,{"$f":"s1inv[[#This Row],[Cost at Beginning Period]]+s1inv[[#This Row],[Addition/\nDeduction]]","v":{"$error":"#VALUE!"}},{"$nulls":5},{"$f":"s1inv[[#This Row],[Cost at End of Period]]+s1inv[[#This Row],[Unrealized Appreciation]]-ABS(s1inv[[#This Row],[(Unrealized Depreciation)]])","v":{"$error":"#VALUE!"}},0,null,{"$f":"IFERROR((s1inv[[#This Row],[SBA Reported Value (B)]]+s1inv[[#This Row],[Cum. Cash Proceeds (D)]])/s1inv[[#This Row],[Total Cash Invested (A)]],\"\")","v":""},null,{"$f":"IFERROR((s1inv[[#This Row],[GAAP Reported Value (C)]]+s1inv[[#This Row],[Cum. Cash Proceeds (D)]])/s1inv[[#This Row],[Total Cash Invested (A)]],\"\")","v":""},null,{"$f":"IF(IFERROR(VLOOKUP(s1inv[[#This Row],[Portfolio Company Name]],s11cumperf[],4,FALSE),\"\")=\"\",\"\",(IFERROR(VLOOKUP(s1inv[[#This Row],[Portfolio Company Name]],s11cumperf[],4,FALSE),\"\")))","v":""}]
[" ",{"$f":"IF(IFERROR(VLOOKUP(s1inv[[#This Row],[Portfolio Company Name]],s11cumperf[],2,FALSE),\"\")=\"\",\"\",(IFERROR(VLOOKUP(s1inv[[#This Row],[Portfolio Company Name]],s11cumperf[],2,FALSE),\"\")))","v":""},{"$nulls":13},{"$f":"IF(s1inv[[#This Row],[Schedule 1c Reference Number]]=\"\",0,SUMIF(sched1c[Reference ID],s1inv[[#This Row],[Employer ID]]&\"-\"&s1inv[[#This Row],[Schedule 1c Reference Number]],sched1c[Change to Cost]))","v":{"$error":"#VALUE!"}},null,{"$f":"s1inv[[#This Row],[Cost at Beginning Period]]+s1inv[[#This Row],[Addition/\nDeduction]]","v":{"$error":"#VALUE!"}},{"$nulls":5},{"$f":"s1inv[[#This Row],[Cost at End of Period]]+s1inv[[#This Row],[Unrealized Appreciation]]-ABS(s1inv[[#This Row],[(Unrealized Depreciation)]])","v":{"$error":"#VALUE!"}},0,null,{"$f":"IFERROR((s1inv[[#This Row],[SBA Reported Value (B)]]+s1inv[[#This Row],[Cum. Cash Proceeds (D)]])/s1inv[[#This Row],[Total Cash Invested (A)]],\"\")","v":""},null,{"$f":"IFERROR((s1inv[[#This Row],[GAAP Reported Value (C)]]+s1inv[[#This Row],[Cum. Cash Proceeds (D)]])/s1inv[[#This Row],[Total Cash Invested (A)]],\"\")","v":""},null,{"$f":"IF(IFERROR(VLOOKUP(s1inv[[#This Row],[Portfolio Company Name]],s11cumperf[],4,FALSE),\"\")=\"\",\"\",(IFERROR(VLOOKUP(s1inv[[#This Row],[Portfolio Company Name]],s11cumperf[],4,FALSE),\"\")))","v":""}]
[" ",{"$f":"IF(IFERROR(VLOOKUP(s1inv[[#This Row],[Portfolio Company Name]],s11cumperf[],2,FALSE),\"\")=\"\",\"\",(IFERROR(VLOOKUP(s1inv[[#This Row],[Portfolio Company Name]],s11cumperf[],2,FALSE),\"\")))","v":""},{"$nulls":13},{"$f":"IF(s1inv[[#This Row],[Schedule 1c Reference Number]]=\"\",0,SUMIF(sched1c[Reference ID],s1inv[[#This Row],[Employer ID]]&\"-\"&s1inv[[#This Row],[Schedule 1c Reference Number]],sched1c[Change to Cost]))","v":{"$error":"#VALUE!"}},null,{"$f":"s1inv[[#This Row],[Cost at Beginning Period]]+s1inv[[#This Row],[Addition/\nDeduction]]","v":{"$error":"#VALUE!"}},{"$nulls":5},{"$f":"s1inv[[#This Row],[Cost at End of Period]]+s1inv[[#This Row],[Unrealized Appreciation]]-ABS(s1inv[[#This Row],[(Unrealized Depreciation)]])","v":{"$error":"#VALUE!"}},0,null,{"$f":"IFERROR((s1inv[[#This Row],[SBA Reported Value (B)]]+s1inv[[#This Row],[Cum. Cash Proceeds (D)]])/s1inv[[#This Row],[Total Cash Invested (A)]],\"\")","v":""},null,{"$f":"IFERROR((s1inv[[#This Row],[GAAP Reported Value (C)]]+s1inv[[#This Row],[Cum. Cash Proceeds (D)]])/s1inv[[#This Row],[Total Cash Invested (A)]],\"\")","v":""},null,{"$f":"IF(IFERROR(VLOOKUP(s1inv[[#This Row],[Portfolio Company Name]],s11cumperf[],4,FALSE),\"\")=\"\",\"\",(IFERROR(VLOOKUP(s1inv[[#This Row],[Portfolio Company Name]],s11cumperf[],4,FALSE),\"\")))","v":""}]
[" ",{"$f":"IF(IFERROR(VLOOKUP(s1inv[[#This Row],[Portfolio Company Name]],s11cumperf[],2,FALSE),\"\")=\"\",\"\",(IFERROR(VLOOKUP(s1inv[[#This Row],[Portfolio Company Name]],s11cumperf[],2,FALSE),\"\")))","v":""},{"$nulls":13},{"$f":"IF(s1inv[[#This Row],[Schedule 1c Reference Number]]=\"\",0,SUMIF(sched1c[Reference ID],s1inv[[#This Row],[Employer ID]]&\"-\"&s1inv[[#This Row],[Schedule 1c Reference Number]],sched1c[Change to Cost]))","v":{"$error":"#VALUE!"}},null,{"$f":"s1inv[[#This Row],[Cost at Beginning Period]]+s1inv[[#This Row],[Addition/\nDeduction]]","v":{"$error":"#VALUE!"}},{"$nulls":5},{"$f":"s1inv[[#This Row],[Cost at End of Period]]+s1inv[[#This Row],[Unrealized Appreciation]]-ABS(s1inv[[#This Row],[(Unrealized Depreciation)]])","v":{"$error":"#VALUE!"}},0,null,{"$f":"IFERROR((s1inv[[#This Row],[SBA Reported Value (B)]]+s1inv[[#This Row],[Cum. Cash Proceeds (D)]])/s1inv[[#This Row],[Total Cash Invested (A)]],\"\")","v":""},null,{"$f":"IFERROR((s1inv[[#This Row],[GAAP Reported Value (C)]]+s1inv[[#This Row],[Cum. Cash Proceeds (D)]])/s1inv[[#This Row],[Total Cash Invested (A)]],\"\")","v":""},null,{"$f":"IF(IFERROR(VLOOKUP(s1inv[[#This Row],[Portfolio Company Name]],s11cumperf[],4,FALSE),\"\")=\"\",\"\",(IFERROR(VLOOKUP(s1inv[[#This Row],[Portfolio Company Name]],s11cumperf[],4,FALSE),\"\")))","v":""}]
[" ",{"$f":"IF(IFERROR(VLOOKUP(s1inv[[#This Row],[Portfolio Company Name]],s11cumperf[],2,FALSE),\"\")=\"\",\"\",(IFERROR(VLOOKUP(s1inv[[#This Row],[Portfolio Company Name]],s11cumperf[],2,FALSE),\"\")))","v":""},{"$nulls":13},{"$f":"IF(s1inv[[#This Row],[Schedule 1c Reference Number]]=\"\",0,SUMIF(sched1c[Reference ID],s1inv[[#This Row],[Employer ID]]&\"-\"&s1inv[[#This Row],[Schedule 1c Reference Number]],sched1c[Change to Cost]))","v":{"$error":"#VALUE!"}},null,{"$f":"s1inv[[#This Row],[Cost at Beginning Period]]+s1inv[[#This Row],[Addition/\nDeduction]]","v":{"$error":"#VALUE!"}},{"$nulls":5},{"$f":"s1inv[[#This Row],[Cost at End of Period]]+s1inv[[#This Row],[Unrealized Appreciation]]-ABS(s1inv[[#This Row],[(Unrealized Depreciation)]])","v":{"$error":"#VALUE!"}},0,null,{"$f":"IFERROR((s1inv[[#This Row],[SBA Reported Value (B)]]+s1inv[[#This Row],[Cum. Cash Proceeds (D)]])/s1inv[[#This Row],[Total Cash Invested (A)]],\"\")","v":""},null,{"$f":"IFERROR((s1inv[[#This Row],[GAAP Reported Value (C)]]+s1inv[[#This Row],[Cum. Cash Proceeds (D)]])/s1inv[[#This Row],[Total Cash Invested (A)]],\"\")","v":""},null,{"$f":"IF(IFERROR(VLOOKUP(s1inv[[#This Row],[Portfolio Company Name]],s11cumperf[],4,FALSE),\"\")=\"\",\"\",(IFERROR(VLOOKUP(s1inv[[#This Row],[Portfolio Company Name]],s11cumperf[],4,FALSE),\"\")))","v":""}]
[" ",{"$f":"IF(IFERROR(VLOOKUP(s1inv[[#This Row],[Portfolio Company Name]],s11cumperf[],2,FALSE),\"\")=\"\",\"\",(IFERROR(VLOOKUP(s1inv[[#This Row],[Portfolio Company Name]],s11cumperf[],2,FALSE),\"\")))","v":""},{"$nulls":13},{"$f":"IF(s1inv[[#This Row],[Schedule 1c Reference Number]]=\"\",0,SUMIF(sched1c[Reference ID],s1inv[[#This Row],[Employer ID]]&\"-\"&s1inv[[#This Row],[Schedule 1c Reference Number]],sched1c[Change to Cost]))","v":{"$error":"#VALUE!"}},null,{"$f":"s1inv[[#This Row],[Cost at Beginning Period]]+s1inv[[#This Row],[Addition/\nDeduction]]","v":{"$error":"#VALUE!"}},{"$nulls":5},{"$f":"s1inv[[#This Row],[Cost at End of Period]]+s1inv[[#This Row],[Unrealized Appreciation]]-ABS(s1inv[[#This Row],[(Unrealized Depreciation)]])","v":{"$error":"#VALUE!"}},0,null,{"$f":"IFERROR((s1inv[[#This Row],[SBA Reported Value (B)]]+s1inv[[#This Row],[Cum. Cash Proceeds (D)]])/s1inv[[#This Row],[Total Cash Invested (A)]],\"\")","v":""},null,{"$f":"IFERROR((s1inv[[#This Row],[GAAP Reported Value (C)]]+s1inv[[#This Row],[Cum. Cash Proceeds (D)]])/s1inv[[#This Row],[Total Cash Invested (A)]],\"\")","v":""},null,{"$f":"IF(IFERROR(VLOOKUP(s1inv[[#This Row],[Portfolio Company Name]],s11cumperf[],4,FALSE),\"\")=\"\",\"\",(IFERROR(VLOOKUP(s1inv[[#This Row],[Portfolio Company Name]],s11cumperf[],4,FALSE),\"\")))","v":""}]
[" ",{"$f":"IF(IFERROR(VLOOKUP(s1inv[[#This Row],[Portfolio Company Name]],s11cumperf[],2,FALSE),\"\")=\"\",\"\",(IFERROR(VLOOKUP(s1inv[[#This Row],[Portfolio Company Name]],s11cumperf[],2,FALSE),\"\")))","v":""},{"$nulls":13},{"$f":"IF(s1inv[[#This Row],[Schedule 1c Reference Number]]=\"\",0,SUMIF(sched1c[Reference ID],s1inv[[#This Row],[Employer ID]]&\"-\"&s1inv[[#This Row],[Schedule 1c Reference Number]],sched1c[Change to Cost]))","v":{"$error":"#VALUE!"}},null,{"$f":"s1inv[[#This Row],[Cost at Beginning Period]]+s1inv[[#This Row],[Addition/\nDeduction]]","v":{"$error":"#VALUE!"}},{"$nulls":5},{"$f":"s1inv[[#This Row],[Cost at End of Period]]+s1inv[[#This Row],[Unrealized Appreciation]]-ABS(s1inv[[#This Row],[(Unrealized Depreciation)]])","v":{"$error":"#VALUE!"}},0,null,{"$f":"IFERROR((s1inv[[#This Row],[SBA Reported Value (B)]]+s1inv[[#This Row],[Cum. Cash Proceeds (D)]])/s1inv[[#This Row],[Total Cash Invested (A)]],\"\")","v":""},null,{"$f":"IFERROR((s1inv[[#This Row],[GAAP Reported Value (C)]]+s1inv[[#This Row],[Cum. Cash Proceeds (D)]])/s1inv[[#This Row],[Total Cash Invested (A)]],\"\")","v":""},null,{"$f":"IF(IFERROR(VLOOKUP(s1inv[[#This Row],[Portfolio Company Name]],s11cumperf[],4,FALSE),\"\")=\"\",\"\",(IFERROR(VLOOKUP(s1inv[[#This Row],[Portfolio Company Name]],s11cumperf[],4,FALSE),\"\")))","v":""}]
[" ",{"$f":"IF(IFERROR(VLOOKUP(s1inv[[#This Row],[Portfolio Company Name]],s11cumperf[],2,FALSE),\"\")=\"\",\"\",(IFERROR(VLOOKUP(s1inv[[#This Row],[Portfolio Company Name]],s11cumperf[],2,FALSE),\"\")))","v":""},{"$nulls":13},{"$f":"IF(s1inv[[#This Row],[Schedule 1c Reference Number]]=\"\",0,SUMIF(sched1c[Reference ID],s1inv[[#This Row],[Employer ID]]&\"-\"&s1inv[[#This Row],[Schedule 1c Reference Number]],sched1c[Change to Cost]))","v":{"$error":"#VALUE!"}},null,{"$f":"s1inv[[#This Row],[Cost at Beginning Period]]+s1inv[[#This Row],[Addition/\nDeduction]]","v":{"$error":"#VALUE!"}},{"$nulls":5},{"$f":"s1inv[[#This Row],[Cost at End of Period]]+s1inv[[#This Row],[Unrealized Appreciation]]-ABS(s1inv[[#This Row],[(Unrealized Depreciation)]])","v":{"$error":"#VALUE!"}},0,null,{"$f":"IFERROR((s1inv[[#This Row],[SBA Reported Value (B)]]+s1inv[[#This Row],[Cum. Cash Proceeds (D)]])/s1inv[[#This Row],[Total Cash Invested (A)]],\"\")","v":""},null,{"$f":"IFERROR((s1inv[[#This Row],[GAAP Reported Value (C)]]+s1inv[[#This Row],[Cum. Cash Proceeds (D)]])/s1inv[[#This Row],[Total Cash Invested (A)]],\"\")","v":""},null,{"$f":"IF(IFERROR(VLOOKUP(s1inv[[#This Row],[Portfolio Company Name]],s11cumperf[],4,FALSE),\"\")=\"\",\"\",(IFERROR(VLOOKUP(s1inv[[#This Row],[Portfolio Company Name]],s11cumperf[],4,FALSE),\"\")))","v":""}]
[" ",{"$f":"IF(IFERROR(VLOOKUP(s1inv[[#This Row],[Portfolio Company Name]],s11cumperf[],2,FALSE),\"\")=\"\",\"\",(IFERROR(VLOOKUP(s1inv[[#This Row],[Portfolio Company Name]],s11cumperf[],2,FALSE),\"\")))","v":""},{"$nulls":13},{"$f":"IF(s1inv[[#This Row],[Schedule 1c Reference Number]]=\"\",0,SUMIF(sched1c[Reference ID],s1inv[[#This Row],[Employer ID]]&\"-\"&s1inv[[#This Row],[Schedule 1c Reference Number]],sched1c[Change to Cost]))","v":{"$error":"#VALUE!"}},null,{"$f":"s1inv[[#This Row],[Cost at Beginning Period]]+s1inv[[#This Row],[Addition/\nDeduction]]","v":{"$error":"#VALUE!"}},{"$nulls":5},{"$f":"s1inv[[#This Row],[Cost at End of Period]]+s1inv[[#This Row],[Unrealized Appreciation]]-ABS(s1inv[[#This Row],[(Unrealized Depreciation)]])","v":{"$error":"#VALUE!"}},0,null,{"$f":"IFERROR((s1inv[[#This Row],[SBA Reported Value (B)]]+s1inv[[#This Row],[Cum. Cash Proceeds (D)]])/s1inv[[#This Row],[Total Cash Invested (A)]],\"\")","v":""},null,{"$f":"IFERROR((s1inv[[#This Row],[GAAP Reported Value (C)]]+s1inv[[#This Row],[Cum. Cash Proceeds (D)]])/s1inv[[#This Row],[Total Cash Invested (A)]],\"\")","v":""},null,{"$f":"IF(IFERROR(VLOOKUP(s1inv[[#This Row],[Portfolio Company Name]],s11cumperf[],4,FALSE),\"\")=\"\",\"\",(IFERROR(VLOOKUP(s1inv[[#This Row],[Portfolio Company Name]],s11cumperf[],4,FALSE),\"\")))","v":""}]
[" ",{"$f":"IF(IFERROR(VLOOKUP(s1inv[[#This Row],[Portfolio Company Name]],s11cumperf[],2,FALSE),\"\")=\"\",\"\",(IFERROR(VLOOKUP(s1inv[[#This Row],[Portfolio Company Name]],s11cumperf[],2,FALSE),\"\")))","v":""},{"$nulls":13},{"$f":"IF(s1inv[[#This Row],[Schedule 1c Reference Number]]=\"\",0,SUMIF(sched1c[Reference ID],s1inv[[#This Row],[Employer ID]]&\"-\"&s1inv[[#This Row],[Schedule 1c Reference Number]],sched1c[Change to Cost]))","v":{"$error":"#VALUE!"}},null,{"$f":"s1inv[[#This Row],[Cost at Beginning Period]]+s1inv[[#This Row],[Addition/\nDeduction]]","v":{"$error":"#VALUE!"}},{"$nulls":5},{"$f":"s1inv[[#This Row],[Cost at End of Period]]+s1inv[[#This Row],[Unrealized Appreciation]]-ABS(s1inv[[#This Row],[(Unrealized Depreciation)]])","v":{"$error":"#VALUE!"}},0,null,{"$f":"IFERROR((s1inv[[#This Row],[SBA Reported Value (B)]]+s1inv[[#This Row],[Cum. Cash Proceeds (D)]])/s1inv[[#This Row],[Total Cash Invested (A)]],\"\")","v":""},null,{"$f":"IFERROR((s1inv[[#This Row],[GAAP Reported Value (C)]]+s1inv[[#This Row],[Cum. Cash Proceeds (D)]])/s1inv[[#This Row],[Total Cash Invested (A)]],\"\")","v":""},null,{"$f":"IF(IFERROR(VLOOKUP(s1inv[[#This Row],[Portfolio Company Name]],s11cumperf[],4,FALSE),\"\")=\"\",\"\",(IFERROR(VLOOKUP(s1inv[[#This Row],[Portfolio Company Name]],s11cumperf[],4,FALSE),\"\")))","v":""}]
[" ",{"$f":"IF(IFERROR(VLOOKUP(s1inv[[#This Row],[Portfolio Company Name]],s11cumperf[],2,FALSE),\"\")=\"\",\"\",(IFERROR(VLOOKUP(s1inv[[#This Row],[Portfolio Company Name]],s11cumperf[],2,FALSE),\"\")))","v":""},{"$nulls":13},{"$f":"IF(s1inv[[#This Row],[Schedule 1c Reference Number]]=\"\",0,SUMIF(sched1c[Reference ID],s1inv[[#This Row],[Employer ID]]&\"-\"&s1inv[[#This Row],[Schedule 1c Reference Number]],sched1c[Change to Cost]))","v":{"$error":"#VALUE!"}},null,{"$f":"s1inv[[#This Row],[Cost at Beginning Period]]+s1inv[[#This Row],[Addition/\nDeduction]]","v":{"$error":"#VALUE!"}},{"$nulls":5},{"$f":"s1inv[[#This Row],[Cost at End of Period]]+s1inv[[#This Row],[Unrealized Appreciation]]-ABS(s1inv[[#This Row],[(Unrealized Depreciation)]])","v":{"$error":"#VALUE!"}},0,null,{"$f":"IFERROR((s1inv[[#This Row],[SBA Reported Value (B)]]+s1inv[[#This Row],[Cum. Cash Proceeds (D)]])/s1inv[[#This Row],[Total Cash Invested (A)]],\"\")","v":""},null,{"$f":"IFERROR((s1inv[[#This Row],[GAAP Reported Value (C)]]+s1inv[[#This Row],[Cum. Cash Proceeds (D)]])/s1inv[[#This Row],[Total Cash Invested (A)]],\"\")","v":""},null,{"$f":"IF(IFERROR(VLOOKUP(s1inv[[#This Row],[Portfolio Company Name]],s11cumperf[],4,FALSE),\"\")=\"\",\"\",(IFERROR(VLOOKUP(s1inv[[#This Row],[Portfolio Company Name]],s11cumperf[],4,FALSE),\"\")))","v":""}]
[" ",{"$f":"IF(IFERROR(VLOOKUP(s1inv[[#This Row],[Portfolio Company Name]],s11cumperf[],2,FALSE),\"\")=\"\",\"\",(IFERROR(VLOOKUP(s1inv[[#This Row],[Portfolio Company Name]],s11cumperf[],2,FALSE),\"\")))","v":""},{"$nulls":13},{"$f":"IF(s1inv[[#This Row],[Schedule 1c Reference Number]]=\"\",0,SUMIF(sched1c[Reference ID],s1inv[[#This Row],[Employer ID]]&\"-\"&s1inv[[#This Row],[Schedule 1c Reference Number]],sched1c[Change to Cost]))","v":{"$error":"#VALUE!"}},null,{"$f":"s1inv[[#This Row],[Cost at Beginning Period]]+s1inv[[#This Row],[Addition/\nDeduction]]","v":{"$error":"#VALUE!"}},{"$nulls":5},{"$f":"s1inv[[#This Row],[Cost at End of Period]]+s1inv[[#This Row],[Unrealized Appreciation]]-ABS(s1inv[[#This Row],[(Unrealized Depreciation)]])","v":{"$error":"#VALUE!"}},0,null,{"$f":"IFERROR((s1inv[[#This Row],[SBA Reported Value (B)]]+s1inv[[#This Row],[Cum. Cash Proceeds (D)]])/s1inv[[#This Row],[Total Cash Invested (A)]],\"\")","v":""},null,{"$f":"IFERROR((s1inv[[#This Row],[GAAP Reported Value (C)]]+s1inv[[#This Row],[Cum. Cash Proceeds (D)]])/s1inv[[#This Row],[Total Cash Invested (A)]],\"\")","v":""},null,{"$f":"IF(IFERROR(VLOOKUP(s1inv[[#This Row],[Portfolio Company Name]],s11cumperf[],4,FALSE),\"\")=\"\",\"\",(IFERROR(VLOOKUP(s1inv[[#This Row],[Portfolio Company Name]],s11cumperf[],4,FALSE),\"\")))","v":""}]
[" ",{"$f":"IF(IFERROR(VLOOKUP(s1inv[[#This Row],[Portfolio Company Name]],s11cumperf[],2,FALSE),\"\")=\"\",\"\",(IFERROR(VLOOKUP(s1inv[[#This Row],[Portfolio Company Name]],s11cumperf[],2,FALSE),\"\")))","v":""},{"$nulls":13},{"$f":"IF(s1inv[[#This Row],[Schedule 1c Reference Number]]=\"\",0,SUMIF(sched1c[Reference ID],s1inv[[#This Row],[Employer ID]]&\"-\"&s1inv[[#This Row],[Schedule 1c Reference Number]],sched1c[Change to Cost]))","v":{"$error":"#VALUE!"}},null,{"$f":"s1inv[[#This Row],[Cost at Beginning Period]]+s1inv[[#This Row],[Addition/\nDeduction]]","v":{"$error":"#VALUE!"}},{"$nulls":5},{"$f":"s1inv[[#This Row],[Cost at End of Period]]+s1inv[[#This Row],[Unrealized Appreciation]]-ABS(s1inv[[#This Row],[(Unrealized Depreciation)]])","v":{"$error":"#VALUE!"}},0,null,{"$f":"IFERROR((s1inv[[#This Row],[SBA Reported Value (B)]]+s1inv[[#This Row],[Cum. Cash Proceeds (D)]])/s1inv[[#This Row],[Total Cash Invested (A)]],\"\")","v":""},null,{"$f":"IFERROR((s1inv[[#This Row],[GAAP Reported Value (C)]]+s1inv[[#This Row],[Cum. Cash Proceeds (D)]])/s1inv[[#This Row],[Total Cash Invested (A)]],\"\")","v":""},null,{"$f":"IF(IFERROR(VLOOKUP(s1inv[[#This Row],[Portfolio Company Name]],s11cumperf[],4,FALSE),\"\")=\"\",\"\",(IFERROR(VLOOKUP(s1inv[[#This Row],[Portfolio Company Name]],s11cumperf[],4,FALSE),\"\")))","v":""}]
[" ",{"$f":"IF(IFERROR(VLOOKUP(s1inv[[#This Row],[Portfolio Company Name]],s11cumperf[],2,FALSE),\"\")=\"\",\"\",(IFERROR(VLOOKUP(s1inv[[#This Row],[Portfolio Company Name]],s11cumperf[],2,FALSE),\"\")))","v":""},{"$nulls":13},{"$f":"IF(s1inv[[#This Row],[Schedule 1c Reference Number]]=\"\",0,SUMIF(sched1c[Reference ID],s1inv[[#This Row],[Employer ID]]&\"-\"&s1inv[[#This Row],[Schedule 1c Reference Number]],sched1c[Change to Cost]))","v":{"$error":"#VALUE!"}},null,{"$f":"s1inv[[#This Row],[Cost at Beginning Period]]+s1inv[[#This Row],[Addition/\nDeduction]]","v":{"$error":"#VALUE!"}},{"$nulls":5},{"$f":"s1inv[[#This Row],[Cost at End of Period]]+s1inv[[#This Row],[Unrealized Appreciation]]-ABS(s1inv[[#This Row],[(Unrealized Depreciation)]])","v":{"$error":"#VALUE!"}},0,null,{"$f":"IFERROR((s1inv[[#This Row],[SBA Reported Value (B)]]+s1inv[[#This Row],[Cum. Cash Proceeds (D)]])/s1inv[[#This Row],[Total Cash Invested (A)]],\"\")","v":""},null,{"$f":"IFERROR((s1inv[[#This Row],[GAAP Reported Value (C)]]+s1inv[[#This Row],[Cum. Cash Proceeds (D)]])/s1inv[[#This Row],[Total Cash Invested (A)]],\"\")","v":""},null,{"$f":"IF(IFERROR(VLOOKUP(s1inv[[#This Row],[Portfolio Company Name]],s11cumperf[],4,FALSE),\"\")=\"\",\"\",(IFERROR(VLOOKUP(s1inv[[#This Row],[Portfolio Company Name]],s11cumperf[],4,FALSE),\"\")))","v":""}]
[" ",{"$f":"IF(IFERROR(VLOOKUP(s1inv[[#This Row],[Portfolio Company Name]],s11cumperf[],2,FALSE),\"\")=\"\",\"\",(IFERROR(VLOOKUP(s1inv[[#This Row],[Portfolio Company Name]],s11cumperf[],2,FALSE),\"\")))","v":""},{"$nulls":13},{"$f":"IF(s1inv[[#This Row],[Schedule 1c Reference Number]]=\"\",0,SUMIF(sched1c[Reference ID],s1inv[[#This Row],[Employer ID]]&\"-\"&s1inv[[#This Row],[Schedule 1c Reference Number]],sched1c[Change to Cost]))","v":{"$error":"#VALUE!"}},null,{"$f":"s1inv[[#This Row],[Cost at Beginning Period]]+s1inv[[#This Row],[Addition/\nDeduction]]","v":{"$error":"#VALUE!"}},{"$nulls":5},{"$f":"s1inv[[#This Row],[Cost at End of Period]]+s1inv[[#This Row],[Unrealized Appreciation]]-ABS(s1inv[[#This Row],[(Unrealized Depreciation)]])","v":{"$error":"#VALUE!"}},0,null,{"$f":"IFERROR((s1inv[[#This Row],[SBA Reported Value (B)]]+s1inv[[#This Row],[Cum. Cash Proceeds (D)]])/s1inv[[#This Row],[Total Cash Invested (A)]],\"\")","v":""},null,{"$f":"IFERROR((s1inv[[#This Row],[GAAP Reported Value (C)]]+s1inv[[#This Row],[Cum. Cash Proceeds (D)]])/s1inv[[#This Row],[Total Cash Invested (A)]],\"\")","v":""},null,{"$f":"IF(IFERROR(VLOOKUP(s1inv[[#This Row],[Portfolio Company Name]],s11cumperf[],4,FALSE),\"\")=\"\",\"\",(IFERROR(VLOOKUP(s1inv[[#This Row],[Portfolio Company Name]],s11cumperf[],4,FALSE),\"\")))","v":""}]
[" ",{"$f":"IF(IFERROR(VLOOKUP(s1inv[[#This Row],[Portfolio Company Name]],s11cumperf[],2,FALSE),\"\")=\"\",\"\",(IFERROR(VLOOKUP(s1inv[[#This Row],[Portfolio Company Name]],s11cumperf[],2,FALSE),\"\")))","v":""},{"$nulls":13},{"$f":"IF(s1inv[[#This Row],[Schedule 1c Reference Number]]=\"\",0,SUMIF(sched1c[Reference ID],s1inv[[#This Row],[Employer ID]]&\"-\"&s1inv[[#This Row],[Schedule 1c Reference Number]],sched1c[Change to Cost]))","v":{"$error":"#VALUE!"}},null,{"$f":"s1inv[[#This Row],[Cost at Beginning Period]]+s1inv[[#This Row],[Addition/\nDeduction]]","v":{"$error":"#VALUE!"}},{"$nulls":5},{"$f":"s1inv[[#This Row],[Cost at End of Period]]+s1inv[[#This Row],[Unrealized Appreciation]]-ABS(s1inv[[#This Row],[(Unrealized Depreciation)]])","v":{"$error":"#VALUE!"}},0,null,{"$f":"IFERROR((s1inv[[#This Row],[SBA Reported Value (B)]]+s1inv[[#This Row],[Cum. Cash Proceeds (D)]])/s1inv[[#This Row],[Total Cash Invested (A)]],\"\")","v":""},null,{"$f":"IFERROR((s1inv[[#This Row],[GAAP Reported Value (C)]]+s1inv[[#This Row],[Cum. Cash Proceeds (D)]])/s1inv[[#This Row],[Total Cash Invested (A)]],\"\")","v":""},null,{"$f":"IF(IFERROR(VLOOKUP(s1inv[[#This Row],[Portfolio Company Name]],s11cumperf[],4,FALSE),\"\")=\"\",\"\",(IFERROR(VLOOKUP(s1inv[[#This Row],[Portfolio Company Name]],s11cumperf[],4,FALSE),\"\")))","v":""}]
[" ",{"$f":"IF(IFERROR(VLOOKUP(s1inv[[#This Row],[Portfolio Company Name]],s11cumperf[],2,FALSE),\"\")=\"\",\"\",(IFERROR(VLOOKUP(s1inv[[#This Row],[Portfolio Company Name]],s11cumperf[],2,FALSE),\"\")))","v":""},{"$nulls":13},{"$f":"IF(s1inv[[#This Row],[Schedule 1c Reference Number]]=\"\",0,SUMIF(sched1c[Reference ID],s1inv[[#This Row],[Employer ID]]&\"-\"&s1inv[[#This Row],[Schedule 1c Reference Number]],sched1c[Change to Cost]))","v":{"$error":"#VALUE!"}},null,{"$f":"s1inv[[#This Row],[Cost at Beginning Period]]+s1inv[[#This Row],[Addition/\nDeduction]]","v":{"$error":"#VALUE!"}},{"$nulls":5},{"$f":"s1inv[[#This Row],[Cost at End of Period]]+s1inv[[#This Row],[Unrealized Appreciation]]-ABS(s1inv[[#This Row],[(Unrealized Depreciation)]])","v":{"$error":"#VALUE!"}},0,null,{"$f":"IFERROR((s1inv[[#This Row],[SBA Reported Value (B)]]+s1inv[[#This Row],[Cum. Cash Proceeds (D)]])/s1inv[[#This Row],[Total Cash Invested (A)]],\"\")","v":""},null,{"$f":"IFERROR((s1inv[[#This Row],[GAAP Reported Value (C)]]+s1inv[[#This Row],[Cum. Cash Proceeds (D)]])/s1inv[[#This Row],[Total Cash Invested (A)]],\"\")","v":""},null,{"$f":"IF(IFERROR(VLOOKUP(s1inv[[#This Row],[Portfolio Company Name]],s11cumperf[],4,FALSE),\"\")=\"\",\"\",(IFERROR(VLOOKUP(s1inv[[#This Row],[Portfolio Company Name]],s11cumperf[],4,FALSE),\"\")))","v":""}]
[" ",{"$f":"IF(IFERROR(VLOOKUP(s1inv[[#This Row],[Portfolio Company Name]],s11cumperf[],2,FALSE),\"\")=\"\",\"\",(IFERROR(VLOOKUP(s1inv[[#This Row],[Portfolio Company Name]],s11cumperf[],2,FALSE),\"\")))","v":""},{"$nulls":13},{"$f":"IF(s1inv[[#This Row],[Schedule 1c Reference Number]]=\"\",0,SUMIF(sched1c[Reference ID],s1inv[[#This Row],[Employer ID]]&\"-\"&s1inv[[#This Row],[Schedule 1c Reference Number]],sched1c[Change to Cost]))","v":{"$error":"#VALUE!"}},null,{"$f":"s1inv[[#This Row],[Cost at Beginning Period]]+s1inv[[#This Row],[Addition/\nDeduction]]","v":{"$error":"#VALUE!"}},{"$nulls":5},{"$f":"s1inv[[#This Row],[Cost at End of Period]]+s1inv[[#This Row],[Unrealized Appreciation]]-ABS(s1inv[[#This Row],[(Unrealized Depreciation)]])","v":{"$error":"#VALUE!"}},0,null,{"$f":"IFERROR((s1inv[[#This Row],[SBA Reported Value (B)]]+s1inv[[#This Row],[Cum. Cash Proceeds (D)]])/s1inv[[#This Row],[Total Cash Invested (A)]],\"\")","v":""},null,{"$f":"IFERROR((s1inv[[#This Row],[GAAP Reported Value (C)]]+s1inv[[#This Row],[Cum. Cash Proceeds (D)]])/s1inv[[#This Row],[Total Cash Invested (A)]],\"\")","v":""},null,{"$f":"IF(IFERROR(VLOOKUP(s1inv[[#This Row],[Portfolio Company Name]],s11cumperf[],4,FALSE),\"\")=\"\",\"\",(IFERROR(VLOOKUP(s1inv[[#This Row],[Portfolio Company Name]],s11cumperf[],4,FALSE),\"\")))","v":""}]
[" ",{"$f":"IF(IFERROR(VLOOKUP(s1inv[[#This Row],[Portfolio Company Name]],s11cumperf[],2,FALSE),\"\")=\"\",\"\",(IFERROR(VLOOKUP(s1inv[[#This Row],[Portfolio Company Name]],s11cumperf[],2,FALSE),\"\")))","v":""},{"$nulls":13},{"$f":"IF(s1inv[[#This Row],[Schedule 1c Reference Number]]=\"\",0,SUMIF(sched1c[Reference ID],s1inv[[#This Row],[Employer ID]]&\"-\"&s1inv[[#This Row],[Schedule 1c Reference Number]],sched1c[Change to Cost]))","v":{"$error":"#VALUE!"}},null,{"$f":"s1inv[[#This Row],[Cost at Beginning Period]]+s1inv[[#This Row],[Addition/\nDeduction]]","v":{"$error":"#VALUE!"}},{"$nulls":5},{"$f":"s1inv[[#This Row],[Cost at End of Period]]+s1inv[[#This Row],[Unrealized Appreciation]]-ABS(s1inv[[#This Row],[(Unrealized Depreciation)]])","v":{"$error":"#VALUE!"}},0,null,{"$f":"IFERROR((s1inv[[#This Row],[SBA Reported Value (B)]]+s1inv[[#This Row],[Cum. Cash Proceeds (D)]])/s1inv[[#This Row],[Total Cash Invested (A)]],\"\")","v":""},null,{"$f":"IFERROR((s1inv[[#This Row],[GAAP Reported Value (C)]]+s1inv[[#This Row],[Cum. Cash Proceeds (D)]])/s1inv[[#This Row],[Total Cash Invested (A)]],\"\")","v":""},null,{"$f":"IF(IFERROR(VLOOKUP(s1inv[[#This Row],[Portfolio Company Name]],s11cumperf[],4,FALSE),\"\")=\"\",\"\",(IFERROR(VLOOKUP(s1inv[[#This Row],[Portfolio Company Name]],s11cumperf[],4,FALSE),\"\")))","v":""}]
[" ",{"$f":"IF(IFERROR(VLOOKUP(s1inv[[#This Row],[Portfolio Company Name]],s11cumperf[],2,FALSE),\"\")=\"\",\"\",(IFERROR(VLOOKUP(s1inv[[#This Row],[Portfolio Company Name]],s11cumperf[],2,FALSE),\"\")))","v":""},{"$nulls":13},{"$f":"IF(s1inv[[#This Row],[Schedule 1c Reference Number]]=\"\",0,SUMIF(sched1c[Reference ID],s1inv[[#This Row],[Employer ID]]&\"-\"&s1inv[[#This Row],[Schedule 1c Reference Number]],sched1c[Change to Cost]))","v":{"$error":"#VALUE!"}},null,{"$f":"s1inv[[#This Row],[Cost at Beginning Period]]+s1inv[[#This Row],[Addition/\nDeduction]]","v":{"$error":"#VALUE!"}},{"$nulls":5},{"$f":"s1inv[[#This Row],[Cost at End of Period]]+s1inv[[#This Row],[Unrealized Appreciation]]-ABS(s1inv[[#This Row],[(Unrealized Depreciation)]])","v":{"$error":"#VALUE!"}},0,null,{"$f":"IFERROR((s1inv[[#This Row],[SBA Reported Value (B)]]+s1inv[[#This Row],[Cum. Cash Proceeds (D)]])/s1inv[[#This Row],[Total Cash Invested (A)]],\"\")","v":""},null,{"$f":"IFERROR((s1inv[[#This Row],[GAAP Reported Value (C)]]+s1inv[[#This Row],[Cum. Cash Proceeds (D)]])/s1inv[[#This Row],[Total Cash Invested (A)]],\"\")","v":""},null,{"$f":"IF(IFERROR(VLOOKUP(s1inv[[#This Row],[Portfolio Company Name]],s11cumperf[],4,FALSE),\"\")=\"\",\"\",(IFERROR(VLOOKUP(s1inv[[#This Row],[Portfolio Company Name]],s11cumperf[],4,FALSE),\"\")))","v":""}]
[" ",{"$f":"IF(IFERROR(VLOOKUP(s1inv[[#This Row],[Portfolio Company Name]],s11cumperf[],2,FALSE),\"\")=\"\",\"\",(IFERROR(VLOOKUP(s1inv[[#This Row],[Portfolio Company Name]],s11cumperf[],2,FALSE),\"\")))","v":""},{"$nulls":13},{"$f":"IF(s1inv[[#This Row],[Schedule 1c Reference Number]]=\"\",0,SUMIF(sched1c[Reference ID],s1inv[[#This Row],[Employer ID]]&\"-\"&s1inv[[#This Row],[Schedule 1c Reference Number]],sched1c[Change to Cost]))","v":{"$error":"#VALUE!"}},null,{"$f":"s1inv[[#This Row],[Cost at Beginning Period]]+s1inv[[#This Row],[Addition/\nDeduction]]","v":{"$error":"#VALUE!"}},{"$nulls":5},{"$f":"s1inv[[#This Row],[Cost at End of Period]]+s1inv[[#This Row],[Unrealized Appreciation]]-ABS(s1inv[[#This Row],[(Unrealized Depreciation)]])","v":{"$error":"#VALUE!"}},0,null,{"$f":"IFERROR((s1inv[[#This Row],[SBA Reported Value (B)]]+s1inv[[#This Row],[Cum. Cash Proceeds (D)]])/s1inv[[#This Row],[Total Cash Invested (A)]],\"\")","v":""},null,{"$f":"IFERROR((s1inv[[#This Row],[GAAP Reported Value (C)]]+s1inv[[#This Row],[Cum. Cash Proceeds (D)]])/s1inv[[#This Row],[Total Cash Invested (A)]],\"\")","v":""},null,{"$f":"IF(IFERROR(VLOOKUP(s1inv[[#This Row],[Portfolio Company Name]],s11cumperf[],4,FALSE),\"\")=\"\",\"\",(IFERROR(VLOOKUP(s1inv[[#This Row],[Portfolio Company Name]],s11cumperf[],4,FALSE),\"\")))","v":""}]
[" ",{"$f":"IF(IFERROR(VLOOKUP(s1inv[[#This Row],[Portfolio Company Name]],s11cumperf[],2,FALSE),\"\")=\"\",\"\",(IFERROR(VLOOKUP(s1inv[[#This Row],[Portfolio Company Name]],s11cumperf[],2,FALSE),\"\")))","v":""},{"$nulls":13},{"$f":"IF(s1inv[[#This Row],[Schedule 1c Reference Number]]=\"\",0,SUMIF(sched1c[Reference ID],s1inv[[#This Row],[Employer ID]]&\"-\"&s1inv[[#This Row],[Schedule 1c Reference Number]],sched1c[Change to Cost]))","v":{"$error":"#VALUE!"}},null,{"$f":"s1inv[[#This Row],[Cost at Beginning Period]]+s1inv[[#This Row],[Addition/\nDeduction]]","v":{"$error":"#VALUE!"}},{"$nulls":5},{"$f":"s1inv[[#This Row],[Cost at End of Period]]+s1inv[[#This Row],[Unrealized Appreciation]]-ABS(s1inv[[#This Row],[(Unrealized Depreciation)]])","v":{"$error":"#VALUE!"}},0,null,{"$f":"IFERROR((s1inv[[#This Row],[SBA Reported Value (B)]]+s1inv[[#This Row],[Cum. Cash Proceeds (D)]])/s1inv[[#This Row],[Total Cash Invested (A)]],\"\")","v":""},null,{"$f":"IFERROR((s1inv[[#This Row],[GAAP Reported Value (C)]]+s1inv[[#This Row],[Cum. Cash Proceeds (D)]])/s1inv[[#This Row],[Total Cash Invested (A)]],\"\")","v":""},null,{"$f":"IF(IFERROR(VLOOKUP(s1inv[[#This Row],[Portfolio Company Name]],s11cumperf[],4,FALSE),\"\")=\"\",\"\",(IFERROR(VLOOKUP(s1inv[[#This Row],[Portfolio Company Name]],s11cumperf[],4,FALSE),\"\")))","v":""}]
[" ",{"$f":"IF(IFERROR(VLOOKUP(s1inv[[#This Row],[Portfolio Company Name]],s11cumperf[],2,FALSE),\"\")=\"\",\"\",(IFERROR(VLOOKUP(s1inv[[#This Row],[Portfolio Company Name]],s11cumperf[],2,FALSE),\"\")))","v":""},{"$nulls":13},{"$f":"IF(s1inv[[#This Row],[Schedule 1c Reference Number]]=\"\",0,SUMIF(sched1c[Reference ID],s1inv[[#This Row],[Employer ID]]&\"-\"&s1inv[[#This Row],[Schedule 1c Reference Number]],sched1c[Change to Cost]))","v":{"$error":"#VALUE!"}},null,{"$f":"s1inv[[#This Row],[Cost at Beginning Period]]+s1inv[[#This Row],[Addition/\nDeduction]]","v":{"$error":"#VALUE!"}},{"$nulls":5},{"$f":"s1inv[[#This Row],[Cost at End of Period]]+s1inv[[#This Row],[Unrealized Appreciation]]-ABS(s1inv[[#This Row],[(Unrealized Depreciation)]])","v":{"$error":"#VALUE!"}},0,null,{"$f":"IFERROR((s1inv[[#This Row],[SBA Reported Value (B)]]+s1inv[[#This Row],[Cum. Cash Proceeds (D)]])/s1inv[[#This Row],[Total Cash Invested (A)]],\"\")","v":""},null,{"$f":"IFERROR((s1inv[[#This Row],[GAAP Reported Value (C)]]+s1inv[[#This Row],[Cum. Cash Proceeds (D)]])/s1inv[[#This Row],[Total Cash Invested (A)]],\"\")","v":""},null,{"$f":"IF(IFERROR(VLOOKUP(s1inv[[#This Row],[Portfolio Company Name]],s11cumperf[],4,FALSE),\"\")=\"\",\"\",(IFERROR(VLOOKUP(s1inv[[#This Row],[Portfolio Company Name]],s11cumperf[],4,FALSE),\"\")))","v":""}]
[" ",{"$f":"IF(IFERROR(VLOOKUP(s1inv[[#This Row],[Portfolio Company Name]],s11cumperf[],2,FALSE),\"\")=\"\",\"\",(IFERROR(VLOOKUP(s1inv[[#This Row],[Portfolio Company Name]],s11cumperf[],2,FALSE),\"\")))","v":""},{"$nulls":13},{"$f":"IF(s1inv[[#This Row],[Schedule 1c Reference Number]]=\"\",0,SUMIF(sched1c[Reference ID],s1inv[[#This Row],[Employer ID]]&\"-\"&s1inv[[#This Row],[Schedule 1c Reference Number]],sched1c[Change to Cost]))","v":{"$error":"#VALUE!"}},null,{"$f":"s1inv[[#This Row],[Cost at Beginning Period]]+s1inv[[#This Row],[Addition/\nDeduction]]","v":{"$error":"#VALUE!"}},{"$nulls":5},{"$f":"s1inv[[#This Row],[Cost at End of Period]]+s1inv[[#This Row],[Unrealized Appreciation]]-ABS(s1inv[[#This Row],[(Unrealized Depreciation)]])","v":{"$error":"#VALUE!"}},0,null,{"$f":"IFERROR((s1inv[[#This Row],[SBA Reported Value (B)]]+s1inv[[#This Row],[Cum. Cash Proceeds (D)]])/s1inv[[#This Row],[Total Cash Invested (A)]],\"\")","v":""},null,{"$f":"IFERROR((s1inv[[#This Row],[GAAP Reported Value (C)]]+s1inv[[#This Row],[Cum. Cash Proceeds (D)]])/s1inv[[#This Row],[Total Cash Invested (A)]],\"\")","v":""},null,{"$f":"IF(IFERROR(VLOOKUP(s1inv[[#This Row],[Portfolio Company Name]],s11cumperf[],4,FALSE),\"\")=\"\",\"\",(IFERROR(VLOOKUP(s1inv[[#This Row],[Portfolio Company Name]],s11cumperf[],4,FALSE),\"\")))","v":""}]
[" ",{"$f":"IF(IFERROR(VLOOKUP(s1inv[[#This Row],[Portfolio Company Name]],s11cumperf[],2,FALSE),\"\")=\"\",\"\",(IFERROR(VLOOKUP(s1inv[[#This Row],[Portfolio Company Name]],s11cumperf[],2,FALSE),\"\")))","v":""},{"$nulls":13},{"$f":"IF(s1inv[[#This Row],[Schedule 1c Reference Number]]=\"\",0,SUMIF(sched1c[Reference ID],s1inv[[#This Row],[Employer ID]]&\"-\"&s1inv[[#This Row],[Schedule 1c Reference Number]],sched1c[Change to Cost]))","v":{"$error":"#VALUE!"}},null,{"$f":"s1inv[[#This Row],[Cost at Beginning Period]]+s1inv[[#This Row],[Addition/\nDeduction]]","v":{"$error":"#VALUE!"}},{"$nulls":5},{"$f":"s1inv[[#This Row],[Cost at End of Period]]+s1inv[[#This Row],[Unrealized Appreciation]]-ABS(s1inv[[#This Row],[(Unrealized Depreciation)]])","v":{"$error":"#VALUE!"}},0,null,{"$f":"IFERROR((s1inv[[#This Row],[SBA Reported Value (B)]]+s1inv[[#This Row],[Cum. Cash Proceeds (D)]])/s1inv[[#This Row],[Total Cash Invested (A)]],\"\")","v":""},null,{"$f":"IFERROR((s1inv[[#This Row],[GAAP Reported Value (C)]]+s1inv[[#This Row],[Cum. Cash Proceeds (D)]])/s1inv[[#This Row],[Total Cash Invested (A)]],\"\")","v":""},null,{"$f":"IF(IFERROR(VLOOKUP(s1inv[[#This Row],[Portfolio Company Name]],s11cumperf[],4,FALSE),\"\")=\"\",\"\",(IFERROR(VLOOKUP(s1inv[[#This Row],[Portfolio Company Name]],s11cumperf[],4,FALSE),\"\")))","v":""}]
[" ",{"$f":"IF(IFERROR(VLOOKUP(s1inv[[#This Row],[Portfolio Company Name]],s11cumperf[],2,FALSE),\"\")=\"\",\"\",(IFERROR(VLOOKUP(s1inv[[#This Row],[Portfolio Company Name]],s11cumperf[],2,FALSE),\"\")))","v":""},{"$nulls":13},{"$f":"IF(s1inv[[#This Row],[Schedule 1c Reference Number]]=\"\",0,SUMIF(sched1c[Reference ID],s1inv[[#This Row],[Employer ID]]&\"-\"&s1inv[[#This Row],[Schedule 1c Reference Number]],sched1c[Change to Cost]))","v":{"$error":"#VALUE!"}},null,{"$f":"s1inv[[#This Row],[Cost at Beginning Period]]+s1inv[[#This Row],[Addition/\nDeduction]]","v":{"$error":"#VALUE!"}},{"$nulls":5},{"$f":"s1inv[[#This Row],[Cost at End of Period]]+s1inv[[#This Row],[Unrealized Appreciation]]-ABS(s1inv[[#This Row],[(Unrealized Depreciation)]])","v":{"$error":"#VALUE!"}},0,null,{"$f":"IFERROR((s1inv[[#This Row],[SBA Reported Value (B)]]+s1inv[[#This Row],[Cum. Cash Proceeds (D)]])/s1inv[[#This Row],[Total Cash Invested (A)]],\"\")","v":""},null,{"$f":"IFERROR((s1inv[[#This Row],[GAAP Reported Value (C)]]+s1inv[[#This Row],[Cum. Cash Proceeds (D)]])/s1inv[[#This Row],[Total Cash Invested (A)]],\"\")","v":""},null,{"$f":"IF(IFERROR(VLOOKUP(s1inv[[#This Row],[Portfolio Company Name]],s11cumperf[],4,FALSE),\"\")=\"\",\"\",(IFERROR(VLOOKUP(s1inv[[#This Row],[Portfolio Company Name]],s11cumperf[],4,FALSE),\"\")))","v":""}]
[" ",{"$f":"IF(IFERROR(VLOOKUP(s1inv[[#This Row],[Portfolio Company Name]],s11cumperf[],2,FALSE),\"\")=\"\",\"\",(IFERROR(VLOOKUP(s1inv[[#This Row],[Portfolio Company Name]],s11cumperf[],2,FALSE),\"\")))","v":""},{"$nulls":13},{"$f":"IF(s1inv[[#This Row],[Schedule 1c Reference Number]]=\"\",0,SUMIF(sched1c[Reference ID],s1inv[[#This Row],[Employer ID]]&\"-\"&s1inv[[#This Row],[Schedule 1c Reference Number]],sched1c[Change to Cost]))","v":{"$error":"#VALUE!"}},null,{"$f":"s1inv[[#This Row],[Cost at Beginning Period]]+s1inv[[#This Row],[Addition/\nDeduction]]","v":{"$error":"#VALUE!"}},{"$nulls":5},{"$f":"s1inv[[#This Row],[Cost at End of Period]]+s1inv[[#This Row],[Unrealized Appreciation]]-ABS(s1inv[[#This Row],[(Unrealized Depreciation)]])","v":{"$error":"#VALUE!"}},0,null,{"$f":"IFERROR((s1inv[[#This Row],[SBA Reported Value (B)]]+s1inv[[#This Row],[Cum. Cash Proceeds (D)]])/s1inv[[#This Row],[Total Cash Invested (A)]],\"\")","v":""},null,{"$f":"IFERROR((s1inv[[#This Row],[GAAP Reported Value (C)]]+s1inv[[#This Row],[Cum. Cash Proceeds (D)]])/s1inv[[#This Row],[Total Cash Invested (A)]],\"\")","v":""},null,{"$f":"IF(IFERROR(VLOOKUP(s1inv[[#This Row],[Portfolio Company Name]],s11cumperf[],4,FALSE),\"\")=\"\",\"\",(IFERROR(VLOOKUP(s1inv[[#This Row],[Portfolio Company Name]],s11cumperf[],4,FALSE),\"\")))","v":""}]
[" ",{"$f":"IF(IFERROR(VLOOKUP(s1inv[[#This Row],[Portfolio Company Name]],s11cumperf[],2,FALSE),\"\")=\"\",\"\",(IFERROR(VLOOKUP(s1inv[[#This Row],[Portfolio Company Name]],s11cumperf[],2,FALSE),\"\")))","v":""},{"$nulls":13},{"$f":"IF(s1inv[[#This Row],[Schedule 1c Reference Number]]=\"\",0,SUMIF(sched1c[Reference ID],s1inv[[#This Row],[Employer ID]]&\"-\"&s1inv[[#This Row],[Schedule 1c Reference Number]],sched1c[Change to Cost]))","v":{"$error":"#VALUE!"}},null,{"$f":"s1inv[[#This Row],[Cost at Beginning Period]]+s1inv[[#This Row],[Addition/\nDeduction]]","v":{"$error":"#VALUE!"}},{"$nulls":5},{"$f":"s1inv[[#This Row],[Cost at End of Period]]+s1inv[[#This Row],[Unrealized Appreciation]]-ABS(s1inv[[#This Row],[(Unrealized Depreciation)]])","v":{"$error":"#VALUE!"}},0,null,{"$f":"IFERROR((s1inv[[#This Row],[SBA Reported Value (B)]]+s1inv[[#This Row],[Cum. Cash Proceeds (D)]])/s1inv[[#This Row],[Total Cash Invested (A)]],\"\")","v":""},null,{"$f":"IFERROR((s1inv[[#This Row],[GAAP Reported Value (C)]]+s1inv[[#This Row],[Cum. Cash Proceeds (D)]])/s1inv[[#This Row],[Total Cash Invested (A)]],\"\")","v":""},null,{"$f":"IF(IFERROR(VLOOKUP(s1inv[[#This Row],[Portfolio Company Name]],s11cumperf[],4,FALSE),\"\")=\"\",\"\",(IFERROR(VLOOKUP(s1inv[[#This Row],[Portfolio Company Name]],s11cumperf[],4,FALSE),\"\")))","v":""}]
[" ",{"$f":"IF(IFERROR(VLOOKUP(s1inv[[#This Row],[Portfolio Company Name]],s11cumperf[],2,FALSE),\"\")=\"\",\"\",(IFERROR(VLOOKUP(s1inv[[#This Row],[Portfolio Company Name]],s11cumperf[],2,FALSE),\"\")))","v":""},{"$nulls":13},{"$f":"IF(s1inv[[#This Row],[Schedule 1c Reference Number]]=\"\",0,SUMIF(sched1c[Reference ID],s1inv[[#This Row],[Employer ID]]&\"-\"&s1inv[[#This Row],[Schedule 1c Reference Number]],sched1c[Change to Cost]))","v":{"$error":"#VALUE!"}},null,{"$f":"s1inv[[#This Row],[Cost at Beginning Period]]+s1inv[[#This Row],[Addition/\nDeduction]]","v":{"$error":"#VALUE!"}},{"$nulls":5},{"$f":"s1inv[[#This Row],[Cost at End of Period]]+s1inv[[#This Row],[Unrealized Appreciation]]-ABS(s1inv[[#This Row],[(Unrealized Depreciation)]])","v":{"$error":"#VALUE!"}},0,null,{"$f":"IFERROR((s1inv[[#This Row],[SBA Reported Value (B)]]+s1inv[[#This Row],[Cum. Cash Proceeds (D)]])/s1inv[[#This Row],[Total Cash Invested (A)]],\"\")","v":""},null,{"$f":"IFERROR((s1inv[[#This Row],[GAAP Reported Value (C)]]+s1inv[[#This Row],[Cum. Cash Proceeds (D)]])/s1inv[[#This Row],[Total Cash Invested (A)]],\"\")","v":""},null,{"$f":"IF(IFERROR(VLOOKUP(s1inv[[#This Row],[Portfolio Company Name]],s11cumperf[],4,FALSE),\"\")=\"\",\"\",(IFERROR(VLOOKUP(s1inv[[#This Row],[Portfolio Company Name]],s11cumperf[],4,FALSE),\"\")))","v":""}]
[" ",{"$f":"IF(IFERROR(VLOOKUP(s1inv[[#This Row],[Portfolio Company Name]],s11cumperf[],2,FALSE),\"\")=\"\",\"\",(IFERROR(VLOOKUP(s1inv[[#This Row],[Portfolio Company Name]],s11cumperf[],2,FALSE),\"\")))","v":""},{"$nulls":13},{"$f":"IF(s1inv[[#This Row],[Schedule 1c Reference Number]]=\"\",0,SUMIF(sched1c[Reference ID],s1inv[[#This Row],[Employer ID]]&\"-\"&s1inv[[#This Row],[Schedule 1c Reference Number]],sched1c[Change to Cost]))","v":{"$error":"#VALUE!"}},null,{"$f":"s1inv[[#This Row],[Cost at Beginning Period]]+s1inv[[#This Row],[Addition/\nDeduction]]","v":{"$error":"#VALUE!"}},{"$nulls":5},{"$f":"s1inv[[#This Row],[Cost at End of Period]]+s1inv[[#This Row],[Unrealized Appreciation]]-ABS(s1inv[[#This Row],[(Unrealized Depreciation)]])","v":{"$error":"#VALUE!"}},0,null,{"$f":"IFERROR((s1inv[[#This Row],[SBA Reported Value (B)]]+s1inv[[#This Row],[Cum. Cash Proceeds (D)]])/s1inv[[#This Row],[Total Cash Invested (A)]],\"\")","v":""},null,{"$f":"IFERROR((s1inv[[#This Row],[GAAP Reported Value (C)]]+s1inv[[#This Row],[Cum. Cash Proceeds (D)]])/s1inv[[#This Row],[Total Cash Invested (A)]],\"\")","v":""},null,{"$f":"IF(IFERROR(VLOOKUP(s1inv[[#This Row],[Portfolio Company Name]],s11cumperf[],4,FALSE),\"\")=\"\",\"\",(IFERROR(VLOOKUP(s1inv[[#This Row],[Portfolio Company Name]],s11cumperf[],4,FALSE),\"\")))","v":""}]
[" ",{"$f":"IF(IFERROR(VLOOKUP(s1inv[[#This Row],[Portfolio Company Name]],s11cumperf[],2,FALSE),\"\")=\"\",\"\",(IFERROR(VLOOKUP(s1inv[[#This Row],[Portfolio Company Name]],s11cumperf[],2,FALSE),\"\")))","v":""},{"$nulls":13},{"$f":"IF(s1inv[[#This Row],[Schedule 1c Reference Number]]=\"\",0,SUMIF(sched1c[Reference ID],s1inv[[#This Row],[Employer ID]]&\"-\"&s1inv[[#This Row],[Schedule 1c Reference Number]],sched1c[Change to Cost]))","v":{"$error":"#VALUE!"}},null,{"$f":"s1inv[[#This Row],[Cost at Beginning Period]]+s1inv[[#This Row],[Addition/\nDeduction]]","v":{"$error":"#VALUE!"}},{"$nulls":5},{"$f":"s1inv[[#This Row],[Cost at End of Period]]+s1inv[[#This Row],[Unrealized Appreciation]]-ABS(s1inv[[#This Row],[(Unrealized Depreciation)]])","v":{"$error":"#VALUE!"}},0,null,{"$f":"IFERROR((s1inv[[#This Row],[SBA Reported Value (B)]]+s1inv[[#This Row],[Cum. Cash Proceeds (D)]])/s1inv[[#This Row],[Total Cash Invested (A)]],\"\")","v":""},null,{"$f":"IFERROR((s1inv[[#This Row],[GAAP Reported Value (C)]]+s1inv[[#This Row],[Cum. Cash Proceeds (D)]])/s1inv[[#This Row],[Total Cash Invested (A)]],\"\")","v":""},null,{"$f":"IF(IFERROR(VLOOKUP(s1inv[[#This Row],[Portfolio Company Name]],s11cumperf[],4,FALSE),\"\")=\"\",\"\",(IFERROR(VLOOKUP(s1inv[[#This Row],[Portfolio Company Name]],s11cumperf[],4,FALSE),\"\")))","v":""}]
[" ",{"$f":"IF(IFERROR(VLOOKUP(s1inv[[#This Row],[Portfolio Company Name]],s11cumperf[],2,FALSE),\"\")=\"\",\"\",(IFERROR(VLOOKUP(s1inv[[#This Row],[Portfolio Company Name]],s11cumperf[],2,FALSE),\"\")))","v":""},{"$nulls":13},{"$f":"IF(s1inv[[#This Row],[Schedule 1c Reference Number]]=\"\",0,SUMIF(sched1c[Reference ID],s1inv[[#This Row],[Employer ID]]&\"-\"&s1inv[[#This Row],[Schedule 1c Reference Number]],sched1c[Change to Cost]))","v":{"$error":"#VALUE!"}},null,{"$f":"s1inv[[#This Row],[Cost at Beginning Period]]+s1inv[[#This Row],[Addition/\nDeduction]]","v":{"$error":"#VALUE!"}},{"$nulls":5},{"$f":"s1inv[[#This Row],[Cost at End of Period]]+s1inv[[#This Row],[Unrealized Appreciation]]-ABS(s1inv[[#This Row],[(Unrealized Depreciation)]])","v":{"$error":"#VALUE!"}},0,null,{"$f":"IFERROR((s1inv[[#This Row],[SBA Reported Value (B)]]+s1inv[[#This Row],[Cum. Cash Proceeds (D)]])/s1inv[[#This Row],[Total Cash Invested (A)]],\"\")","v":""},null,{"$f":"IFERROR((s1inv[[#This Row],[GAAP Reported Value (C)]]+s1inv[[#This Row],[Cum. Cash Proceeds (D)]])/s1inv[[#This Row],[Total Cash Invested (A)]],\"\")","v":""},null,{"$f":"IF(IFERROR(VLOOKUP(s1inv[[#This Row],[Portfolio Company Name]],s11cumperf[],4,FALSE),\"\")=\"\",\"\",(IFERROR(VLOOKUP(s1inv[[#This Row],[Portfolio Company Name]],s11cumperf[],4,FALSE),\"\")))","v":""}]
[" ",{"$f":"IF(IFERROR(VLOOKUP(s1inv[[#This Row],[Portfolio Company Name]],s11cumperf[],2,FALSE),\"\")=\"\",\"\",(IFERROR(VLOOKUP(s1inv[[#This Row],[Portfolio Company Name]],s11cumperf[],2,FALSE),\"\")))","v":""},{"$nulls":13},{"$f":"IF(s1inv[[#This Row],[Schedule 1c Reference Number]]=\"\",0,SUMIF(sched1c[Reference ID],s1inv[[#This Row],[Employer ID]]&\"-\"&s1inv[[#This Row],[Schedule 1c Reference Number]],sched1c[Change to Cost]))","v":{"$error":"#VALUE!"}},null,{"$f":"s1inv[[#This Row],[Cost at Beginning Period]]+s1inv[[#This Row],[Addition/\nDeduction]]","v":{"$error":"#VALUE!"}},{"$nulls":5},{"$f":"s1inv[[#This Row],[Cost at End of Period]]+s1inv[[#This Row],[Unrealized Appreciation]]-ABS(s1inv[[#This Row],[(Unrealized Depreciation)]])","v":{"$error":"#VALUE!"}},0,null,{"$f":"IFERROR((s1inv[[#This Row],[SBA Reported Value (B)]]+s1inv[[#This Row],[Cum. Cash Proceeds (D)]])/s1inv[[#This Row],[Total Cash Invested (A)]],\"\")","v":""},null,{"$f":"IFERROR((s1inv[[#This Row],[GAAP Reported Value (C)]]+s1inv[[#This Row],[Cum. Cash Proceeds (D)]])/s1inv[[#This Row],[Total Cash Invested (A)]],\"\")","v":""},null,{"$f":"IF(IFERROR(VLOOKUP(s1inv[[#This Row],[Portfolio Company Name]],s11cumperf[],4,FALSE),\"\")=\"\",\"\",(IFERROR(VLOOKUP(s1inv[[#This Row],[Portfolio Company Name]],s11cumperf[],4,FALSE),\"\")))","v":""}]
[" ",{"$f":"IF(IFERROR(VLOOKUP(s1inv[[#This Row],[Portfolio Company Name]],s11cumperf[],2,FALSE),\"\")=\"\",\"\",(IFERROR(VLOOKUP(s1inv[[#This Row],[Portfolio Company Name]],s11cumperf[],2,FALSE),\"\")))","v":""},{"$nulls":13},{"$f":"IF(s1inv[[#This Row],[Schedule 1c Reference Number]]=\"\",0,SUMIF(sched1c[Reference ID],s1inv[[#This Row],[Employer ID]]&\"-\"&s1inv[[#This Row],[Schedule 1c Reference Number]],sched1c[Change to Cost]))","v":{"$error":"#VALUE!"}},null,{"$f":"s1inv[[#This Row],[Cost at Beginning Period]]+s1inv[[#This Row],[Addition/\nDeduction]]","v":{"$error":"#VALUE!"}},{"$nulls":5},{"$f":"s1inv[[#This Row],[Cost at End of Period]]+s1inv[[#This Row],[Unrealized Appreciation]]-ABS(s1inv[[#This Row],[(Unrealized Depreciation)]])","v":{"$error":"#VALUE!"}},0,null,{"$f":"IFERROR((s1inv[[#This Row],[SBA Reported Value (B)]]+s1inv[[#This Row],[Cum. Cash Proceeds (D)]])/s1inv[[#This Row],[Total Cash Invested (A)]],\"\")","v":""},null,{"$f":"IFERROR((s1inv[[#This Row],[GAAP Reported Value (C)]]+s1inv[[#This Row],[Cum. Cash Proceeds (D)]])/s1inv[[#This Row],[Total Cash Invested (A)]],\"\")","v":""},null,{"$f":"IF(IFERROR(VLOOKUP(s1inv[[#This Row],[Portfolio Company Name]],s11cumperf[],4,FALSE),\"\")=\"\",\"\",(IFERROR(VLOOKUP(s1inv[[#This Row],[Portfolio Company Name]],s11cumperf[],4,FALSE),\"\")))","v":""}]
[" ",{"$f":"IF(IFERROR(VLOOKUP(s1inv[[#This Row],[Portfolio Company Name]],s11cumperf[],2,FALSE),\"\")=\"\",\"\",(IFERROR(VLOOKUP(s1inv[[#This Row],[Portfolio Company Name]],s11cumperf[],2,FALSE),\"\")))","v":""},{"$nulls":13},{"$f":"IF(s1inv[[#This Row],[Schedule 1c Reference Number]]=\"\",0,SUMIF(sched1c[Reference ID],s1inv[[#This Row],[Employer ID]]&\"-\"&s1inv[[#This Row],[Schedule 1c Reference Number]],sched1c[Change to Cost]))","v":{"$error":"#VALUE!"}},null,{"$f":"s1inv[[#This Row],[Cost at Beginning Period]]+s1inv[[#This Row],[Addition/\nDeduction]]","v":{"$error":"#VALUE!"}},{"$nulls":5},{"$f":"s1inv[[#This Row],[Cost at End of Period]]+s1inv[[#This Row],[Unrealized Appreciation]]-ABS(s1inv[[#This Row],[(Unrealized Depreciation)]])","v":{"$error":"#VALUE!"}},0,null,{"$f":"IFERROR((s1inv[[#This Row],[SBA Reported Value (B)]]+s1inv[[#This Row],[Cum. Cash Proceeds (D)]])/s1inv[[#This Row],[Total Cash Invested (A)]],\"\")","v":""},null,{"$f":"IFERROR((s1inv[[#This Row],[GAAP Reported Value (C)]]+s1inv[[#This Row],[Cum. Cash Proceeds (D)]])/s1inv[[#This Row],[Total Cash Invested (A)]],\"\")","v":""},null,{"$f":"IF(IFERROR(VLOOKUP(s1inv[[#This Row],[Portfolio Company Name]],s11cumperf[],4,FALSE),\"\")=\"\",\"\",(IFERROR(VLOOKUP(s1inv[[#This Row],[Portfolio Company Name]],s11cumperf[],4,FALSE),\"\")))","v":""}]
[" ",{"$f":"IF(IFERROR(VLOOKUP(s1inv[[#This Row],[Portfolio Company Name]],s11cumperf[],2,FALSE),\"\")=\"\",\"\",(IFERROR(VLOOKUP(s1inv[[#This Row],[Portfolio Company Name]],s11cumperf[],2,FALSE),\"\")))","v":""},{"$nulls":13},{"$f":"IF(s1inv[[#This Row],[Schedule 1c Reference Number]]=\"\",0,SUMIF(sched1c[Reference ID],s1inv[[#This Row],[Employer ID]]&\"-\"&s1inv[[#This Row],[Schedule 1c Reference Number]],sched1c[Change to Cost]))","v":{"$error":"#VALUE!"}},null,{"$f":"s1inv[[#This Row],[Cost at Beginning Period]]+s1inv[[#This Row],[Addition/\nDeduction]]","v":{"$error":"#VALUE!"}},{"$nulls":5},{"$f":"s1inv[[#This Row],[Cost at End of Period]]+s1inv[[#This Row],[Unrealized Appreciation]]-ABS(s1inv[[#This Row],[(Unrealized Depreciation)]])","v":{"$error":"#VALUE!"}},0,null,{"$f":"IFERROR((s1inv[[#This Row],[SBA Reported Value (B)]]+s1inv[[#This Row],[Cum. Cash Proceeds (D)]])/s1inv[[#This Row],[Total Cash Invested (A)]],\"\")","v":""},null,{"$f":"IFERROR((s1inv[[#This Row],[GAAP Reported Value (C)]]+s1inv[[#This Row],[Cum. Cash Proceeds (D)]])/s1inv[[#This Row],[Total Cash Invested (A)]],\"\")","v":""},null,{"$f":"IF(IFERROR(VLOOKUP(s1inv[[#This Row],[Portfolio Company Name]],s11cumperf[],4,FALSE),\"\")=\"\",\"\",(IFERROR(VLOOKUP(s1inv[[#This Row],[Portfolio Company Name]],s11cumperf[],4,FALSE),\"\")))","v":""}]
[" ",{"$f":"IF(IFERROR(VLOOKUP(s1inv[[#This Row],[Portfolio Company Name]],s11cumperf[],2,FALSE),\"\")=\"\",\"\",(IFERROR(VLOOKUP(s1inv[[#This Row],[Portfolio Company Name]],s11cumperf[],2,FALSE),\"\")))","v":""},{"$nulls":13},{"$f":"IF(s1inv[[#This Row],[Schedule 1c Reference Number]]=\"\",0,SUMIF(sched1c[Reference ID],s1inv[[#This Row],[Employer ID]]&\"-\"&s1inv[[#This Row],[Schedule 1c Reference Number]],sched1c[Change to Cost]))","v":{"$error":"#VALUE!"}},null,{"$f":"s1inv[[#This Row],[Cost at Beginning Period]]+s1inv[[#This Row],[Addition/\nDeduction]]","v":{"$error":"#VALUE!"}},{"$nulls":5},{"$f":"s1inv[[#This Row],[Cost at End of Period]]+s1inv[[#This Row],[Unrealized Appreciation]]-ABS(s1inv[[#This Row],[(Unrealized Depreciation)]])","v":{"$error":"#VALUE!"}},0,null,{"$f":"IFERROR((s1inv[[#This Row],[SBA Reported Value (B)]]+s1inv[[#This Row],[Cum. Cash Proceeds (D)]])/s1inv[[#This Row],[Total Cash Invested (A)]],\"\")","v":""},null,{"$f":"IFERROR((s1inv[[#This Row],[GAAP Reported Value (C)]]+s1inv[[#This Row],[Cum. Cash Proceeds (D)]])/s1inv[[#This Row],[Total Cash Invested (A)]],\"\")","v":""},null,{"$f":"IF(IFERROR(VLOOKUP(s1inv[[#This Row],[Portfolio Company Name]],s11cumperf[],4,FALSE),\"\")=\"\",\"\",(IFERROR(VLOOKUP(s1inv[[#This Row],[Portfolio Company Name]],s11cumperf[],4,FALSE),\"\")))","v":""}]
[" ",{"$f":"IF(IFERROR(VLOOKUP(s1inv[[#This Row],[Portfolio Company Name]],s11cumperf[],2,FALSE),\"\")=\"\",\"\",(IFERROR(VLOOKUP(s1inv[[#This Row],[Portfolio Company Name]],s11cumperf[],2,FALSE),\"\")))","v":""},{"$nulls":13},{"$f":"IF(s1inv[[#This Row],[Schedule 1c Reference Number]]=\"\",0,SUMIF(sched1c[Reference ID],s1inv[[#This Row],[Employer ID]]&\"-\"&s1inv[[#This Row],[Schedule 1c Reference Number]],sched1c[Change to Cost]))","v":{"$error":"#VALUE!"}},null,{"$f":"s1inv[[#This Row],[Cost at Beginning Period]]+s1inv[[#This Row],[Addition/\nDeduction]]","v":{"$error":"#VALUE!"}},{"$nulls":5},{"$f":"s1inv[[#This Row],[Cost at End of Period]]+s1inv[[#This Row],[Unrealized Appreciation]]-ABS(s1inv[[#This Row],[(Unrealized Depreciation)]])","v":{"$error":"#VALUE!"}},0,null,{"$f":"IFERROR((s1inv[[#This Row],[SBA Reported Value (B)]]+s1inv[[#This Row],[Cum. Cash Proceeds (D)]])/s1inv[[#This Row],[Total Cash Invested (A)]],\"\")","v":""},null,{"$f":"IFERROR((s1inv[[#This Row],[GAAP Reported Value (C)]]+s1inv[[#This Row],[Cum. Cash Proceeds (D)]])/s1inv[[#This Row],[Total Cash Invested (A)]],\"\")","v":""},null,{"$f":"IF(IFERROR(VLOOKUP(s1inv[[#This Row],[Portfolio Company Name]],s11cumperf[],4,FALSE),\"\")=\"\",\"\",(IFERROR(VLOOKUP(s1inv[[#This Row],[Portfolio Company Name]],s11cumperf[],4,FALSE),\"\")))","v":""}]
[" ",{"$f":"IF(IFERROR(VLOOKUP(s1inv[[#This Row],[Portfolio Company Name]],s11cumperf[],2,FALSE),\"\")=\"\",\"\",(IFERROR(VLOOKUP(s1inv[[#This Row],[Portfolio Company Name]],s11cumperf[],2,FALSE),\"\")))","v":""},{"$nulls":13},{"$f":"IF(s1inv[[#This Row],[Schedule 1c Reference Number]]=\"\",0,SUMIF(sched1c[Reference ID],s1inv[[#This Row],[Employer ID]]&\"-\"&s1inv[[#This Row],[Schedule 1c Reference Number]],sched1c[Change to Cost]))","v":{"$error":"#VALUE!"}},null,{"$f":"s1inv[[#This Row],[Cost at Beginning Period]]+s1inv[[#This Row],[Addition/\nDeduction]]","v":{"$error":"#VALUE!"}},{"$nulls":5},{"$f":"s1inv[[#This Row],[Cost at End of Period]]+s1inv[[#This Row],[Unrealized Appreciation]]-ABS(s1inv[[#This Row],[(Unrealized Depreciation)]])","v":{"$error":"#VALUE!"}},0,null,{"$f":"IFERROR((s1inv[[#This Row],[SBA Reported Value (B)]]+s1inv[[#This Row],[Cum. Cash Proceeds (D)]])/s1inv[[#This Row],[Total Cash Invested (A)]],\"\")","v":""},null,{"$f":"IFERROR((s1inv[[#This Row],[GAAP Reported Value (C)]]+s1inv[[#This Row],[Cum. Cash Proceeds (D)]])/s1inv[[#This Row],[Total Cash Invested (A)]],\"\")","v":""},null,{"$f":"IF(IFERROR(VLOOKUP(s1inv[[#This Row],[Portfolio Company Name]],s11cumperf[],4,FALSE),\"\")=\"\",\"\",(IFERROR(VLOOKUP(s1inv[[#This Row],[Portfolio Company Name]],s11cumperf[],4,FALSE),\"\")))","v":""}]
[" ",{"$f":"IF(IFERROR(VLOOKUP(s1inv[[#This Row],[Portfolio Company Name]],s11cumperf[],2,FALSE),\"\")=\"\",\"\",(IFERROR(VLOOKUP(s1inv[[#This Row],[Portfolio Company Name]],s11cumperf[],2,FALSE),\"\")))","v":""},{"$nulls":13},{"$f":"IF(s1inv[[#This Row],[Schedule 1c Reference Number]]=\"\",0,SUMIF(sched1c[Reference ID],s1inv[[#This Row],[Employer ID]]&\"-\"&s1inv[[#This Row],[Schedule 1c Reference Number]],sched1c[Change to Cost]))","v":{"$error":"#VALUE!"}},null,{"$f":"s1inv[[#This Row],[Cost at Beginning Period]]+s1inv[[#This Row],[Addition/\nDeduction]]","v":{"$error":"#VALUE!"}},{"$nulls":5},{"$f":"s1inv[[#This Row],[Cost at End of Period]]+s1inv[[#This Row],[Unrealized Appreciation]]-ABS(s1inv[[#This Row],[(Unrealized Depreciation)]])","v":{"$error":"#VALUE!"}},0,null,{"$f":"IFERROR((s1inv[[#This Row],[SBA Reported Value (B)]]+s1inv[[#This Row],[Cum. Cash Proceeds (D)]])/s1inv[[#This Row],[Total Cash Invested (A)]],\"\")","v":""},null,{"$f":"IFERROR((s1inv[[#This Row],[GAAP Reported Value (C)]]+s1inv[[#This Row],[Cum. Cash Proceeds (D)]])/s1inv[[#This Row],[Total Cash Invested (A)]],\"\")","v":""},null,{"$f":"IF(IFERROR(VLOOKUP(s1inv[[#This Row],[Portfolio Company Name]],s11cumperf[],4,FALSE),\"\")=\"\",\"\",(IFERROR(VLOOKUP(s1inv[[#This Row],[Portfolio Company Name]],s11cumperf[],4,FALSE),\"\")))","v":""}]
[" ",{"$f":"IF(IFERROR(VLOOKUP(s1inv[[#This Row],[Portfolio Company Name]],s11cumperf[],2,FALSE),\"\")=\"\",\"\",(IFERROR(VLOOKUP(s1inv[[#This Row],[Portfolio Company Name]],s11cumperf[],2,FALSE),\"\")))","v":""},{"$nulls":13},{"$f":"IF(s1inv[[#This Row],[Schedule 1c Reference Number]]=\"\",0,SUMIF(sched1c[Reference ID],s1inv[[#This Row],[Employer ID]]&\"-\"&s1inv[[#This Row],[Schedule 1c Reference Number]],sched1c[Change to Cost]))","v":{"$error":"#VALUE!"}},null,{"$f":"s1inv[[#This Row],[Cost at Beginning Period]]+s1inv[[#This Row],[Addition/\nDeduction]]","v":{"$error":"#VALUE!"}},{"$nulls":5},{"$f":"s1inv[[#This Row],[Cost at End of Period]]+s1inv[[#This Row],[Unrealized Appreciation]]-ABS(s1inv[[#This Row],[(Unrealized Depreciation)]])","v":{"$error":"#VALUE!"}},0,null,{"$f":"IFERROR((s1inv[[#This Row],[SBA Reported Value (B)]]+s1inv[[#This Row],[Cum. Cash Proceeds (D)]])/s1inv[[#This Row],[Total Cash Invested (A)]],\"\")","v":""},null,{"$f":"IFERROR((s1inv[[#This Row],[GAAP Reported Value (C)]]+s1inv[[#This Row],[Cum. Cash Proceeds (D)]])/s1inv[[#This Row],[Total Cash Invested (A)]],\"\")","v":""},null,{"$f":"IF(IFERROR(VLOOKUP(s1inv[[#This Row],[Portfolio Company Name]],s11cumperf[],4,FALSE),\"\")=\"\",\"\",(IFERROR(VLOOKUP(s1inv[[#This Row],[Portfolio Company Name]],s11cumperf[],4,FALSE),\"\")))","v":""}]
[" ",{"$f":"IF(IFERROR(VLOOKUP(s1inv[[#This Row],[Portfolio Company Name]],s11cumperf[],2,FALSE),\"\")=\"\",\"\",(IFERROR(VLOOKUP(s1inv[[#This Row],[Portfolio Company Name]],s11cumperf[],2,FALSE),\"\")))","v":""},{"$nulls":13},{"$f":"IF(s1inv[[#This Row],[Schedule 1c Reference Number]]=\"\",0,SUMIF(sched1c[Reference ID],s1inv[[#This Row],[Employer ID]]&\"-\"&s1inv[[#This Row],[Schedule 1c Reference Number]],sched1c[Change to Cost]))","v":{"$error":"#VALUE!"}},null,{"$f":"s1inv[[#This Row],[Cost at Beginning Period]]+s1inv[[#This Row],[Addition/\nDeduction]]","v":{"$error":"#VALUE!"}},{"$nulls":5},{"$f":"s1inv[[#This Row],[Cost at End of Period]]+s1inv[[#This Row],[Unrealized Appreciation]]-ABS(s1inv[[#This Row],[(Unrealized Depreciation)]])","v":{"$error":"#VALUE!"}},0,null,{"$f":"IFERROR((s1inv[[#This Row],[SBA Reported Value (B)]]+s1inv[[#This Row],[Cum. Cash Proceeds (D)]])/s1inv[[#This Row],[Total Cash Invested (A)]],\"\")","v":""},null,{"$f":"IFERROR((s1inv[[#This Row],[GAAP Reported Value (C)]]+s1inv[[#This Row],[Cum. Cash Proceeds (D)]])/s1inv[[#This Row],[Total Cash Invested (A)]],\"\")","v":""},null,{"$f":"IF(IFERROR(VLOOKUP(s1inv[[#This Row],[Portfolio Company Name]],s11cumperf[],4,FALSE),\"\")=\"\",\"\",(IFERROR(VLOOKUP(s1inv[[#This Row],[Portfolio Company Name]],s11cumperf[],4,FALSE),\"\")))","v":""}]
[" ",{"$f":"IF(IFERROR(VLOOKUP(s1inv[[#This Row],[Portfolio Company Name]],s11cumperf[],2,FALSE),\"\")=\"\",\"\",(IFERROR(VLOOKUP(s1inv[[#This Row],[Portfolio Company Name]],s11cumperf[],2,FALSE),\"\")))","v":""},{"$nulls":13},{"$f":"IF(s1inv[[#This Row],[Schedule 1c Reference Number]]=\"\",0,SUMIF(sched1c[Reference ID],s1inv[[#This Row],[Employer ID]]&\"-\"&s1inv[[#This Row],[Schedule 1c Reference Number]],sched1c[Change to Cost]))","v":{"$error":"#VALUE!"}},null,{"$f":"s1inv[[#This Row],[Cost at Beginning Period]]+s1inv[[#This Row],[Addition/\nDeduction]]","v":{"$error":"#VALUE!"}},{"$nulls":5},{"$f":"s1inv[[#This Row],[Cost at End of Period]]+s1inv[[#This Row],[Unrealized Appreciation]]-ABS(s1inv[[#This Row],[(Unrealized Depreciation)]])","v":{"$error":"#VALUE!"}},0,null,{"$f":"IFERROR((s1inv[[#This Row],[SBA Reported Value (B)]]+s1inv[[#This Row],[Cum. Cash Proceeds (D)]])/s1inv[[#This Row],[Total Cash Invested (A)]],\"\")","v":""},null,{"$f":"IFERROR((s1inv[[#This Row],[GAAP Reported Value (C)]]+s1inv[[#This Row],[Cum. Cash Proceeds (D)]])/s1inv[[#This Row],[Total Cash Invested (A)]],\"\")","v":""},null,{"$f":"IF(IFERROR(VLOOKUP(s1inv[[#This Row],[Portfolio Company Name]],s11cumperf[],4,FALSE),\"\")=\"\",\"\",(IFERROR(VLOOKUP(s1inv[[#This Row],[Portfolio Company Name]],s11cumperf[],4,FALSE),\"\")))","v":""}]
[" ",{"$f":"IF(IFERROR(VLOOKUP(s1inv[[#This Row],[Portfolio Company Name]],s11cumperf[],2,FALSE),\"\")=\"\",\"\",(IFERROR(VLOOKUP(s1inv[[#This Row],[Portfolio Company Name]],s11cumperf[],2,FALSE),\"\")))","v":""},{"$nulls":13},{"$f":"IF(s1inv[[#This Row],[Schedule 1c Reference Number]]=\"\",0,SUMIF(sched1c[Reference ID],s1inv[[#This Row],[Employer ID]]&\"-\"&s1inv[[#This Row],[Schedule 1c Reference Number]],sched1c[Change to Cost]))","v":{"$error":"#VALUE!"}},null,{"$f":"s1inv[[#This Row],[Cost at Beginning Period]]+s1inv[[#This Row],[Addition/\nDeduction]]","v":{"$error":"#VALUE!"}},{"$nulls":5},{"$f":"s1inv[[#This Row],[Cost at End of Period]]+s1inv[[#This Row],[Unrealized Appreciation]]-ABS(s1inv[[#This Row],[(Unrealized Depreciation)]])","v":{"$error":"#VALUE!"}},0,null,{"$f":"IFERROR((s1inv[[#This Row],[SBA Reported Value (B)]]+s1inv[[#This Row],[Cum. Cash Proceeds (D)]])/s1inv[[#This Row],[Total Cash Invested (A)]],\"\")","v":""},null,{"$f":"IFERROR((s1inv[[#This Row],[GAAP Reported Value (C)]]+s1inv[[#This Row],[Cum. Cash Proceeds (D)]])/s1inv[[#This Row],[Total Cash Invested (A)]],\"\")","v":""},null,{"$f":"IF(IFERROR(VLOOKUP(s1inv[[#This Row],[Portfolio Company Name]],s11cumperf[],4,FALSE),\"\")=\"\",\"\",(IFERROR(VLOOKUP(s1inv[[#This Row],[Portfolio Company Name]],s11cumperf[],4,FALSE),\"\")))","v":""}]
[" ",{"$f":"IF(IFERROR(VLOOKUP(s1inv[[#This Row],[Portfolio Company Name]],s11cumperf[],2,FALSE),\"\")=\"\",\"\",(IFERROR(VLOOKUP(s1inv[[#This Row],[Portfolio Company Name]],s11cumperf[],2,FALSE),\"\")))","v":""},{"$nulls":13},{"$f":"IF(s1inv[[#This Row],[Schedule 1c Reference Number]]=\"\",0,SUMIF(sched1c[Reference ID],s1inv[[#This Row],[Employer ID]]&\"-\"&s1inv[[#This Row],[Schedule 1c Reference Number]],sched1c[Change to Cost]))","v":{"$error":"#VALUE!"}},null,{"$f":"s1inv[[#This Row],[Cost at Beginning Period]]+s1inv[[#This Row],[Addition/\nDeduction]]","v":{"$error":"#VALUE!"}},{"$nulls":5},{"$f":"s1inv[[#This Row],[Cost at End of Period]]+s1inv[[#This Row],[Unrealized Appreciation]]-ABS(s1inv[[#This Row],[(Unrealized Depreciation)]])","v":{"$error":"#VALUE!"}},0,null,{"$f":"IFERROR((s1inv[[#This Row],[SBA Reported Value (B)]]+s1inv[[#This Row],[Cum. Cash Proceeds (D)]])/s1inv[[#This Row],[Total Cash Invested (A)]],\"\")","v":""},null,{"$f":"IFERROR((s1inv[[#This Row],[GAAP Reported Value (C)]]+s1inv[[#This Row],[Cum. Cash Proceeds (D)]])/s1inv[[#This Row],[Total Cash Invested (A)]],\"\")","v":""},null,{"$f":"IF(IFERROR(VLOOKUP(s1inv[[#This Row],[Portfolio Company Name]],s11cumperf[],4,FALSE),\"\")=\"\",\"\",(IFERROR(VLOOKUP(s1inv[[#This Row],[Portfolio Company Name]],s11cumperf[],4,FALSE),\"\")))","v":""}]
[" ",{"$f":"IF(IFERROR(VLOOKUP(s1inv[[#This Row],[Portfolio Company Name]],s11cumperf[],2,FALSE),\"\")=\"\",\"\",(IFERROR(VLOOKUP(s1inv[[#This Row],[Portfolio Company Name]],s11cumperf[],2,FALSE),\"\")))","v":""},{"$nulls":13},{"$f":"IF(s1inv[[#This Row],[Schedule 1c Reference Number]]=\"\",0,SUMIF(sched1c[Reference ID],s1inv[[#This Row],[Employer ID]]&\"-\"&s1inv[[#This Row],[Schedule 1c Reference Number]],sched1c[Change to Cost]))","v":{"$error":"#VALUE!"}},null,{"$f":"s1inv[[#This Row],[Cost at Beginning Period]]+s1inv[[#This Row],[Addition/\nDeduction]]","v":{"$error":"#VALUE!"}},{"$nulls":5},{"$f":"s1inv[[#This Row],[Cost at End of Period]]+s1inv[[#This Row],[Unrealized Appreciation]]-ABS(s1inv[[#This Row],[(Unrealized Depreciation)]])","v":{"$error":"#VALUE!"}},0,null,{"$f":"IFERROR((s1inv[[#This Row],[SBA Reported Value (B)]]+s1inv[[#This Row],[Cum. Cash Proceeds (D)]])/s1inv[[#This Row],[Total Cash Invested (A)]],\"\")","v":""},null,{"$f":"IFERROR((s1inv[[#This Row],[GAAP Reported Value (C)]]+s1inv[[#This Row],[Cum. Cash Proceeds (D)]])/s1inv[[#This Row],[Total Cash Invested (A)]],\"\")","v":""},null,{"$f":"IF(IFERROR(VLOOKUP(s1inv[[#This Row],[Portfolio Company Name]],s11cumperf[],4,FALSE),\"\")=\"\",\"\",(IFERROR(VLOOKUP(s1inv[[#This Row],[Portfolio Company Name]],s11cumperf[],4,FALSE),\"\")))","v":""}]
[" ",{"$f":"IF(IFERROR(VLOOKUP(s1inv[[#This Row],[Portfolio Company Name]],s11cumperf[],2,FALSE),\"\")=\"\",\"\",(IFERROR(VLOOKUP(s1inv[[#This Row],[Portfolio Company Name]],s11cumperf[],2,FALSE),\"\")))","v":""},{"$nulls":13},{"$f":"IF(s1inv[[#This Row],[Schedule 1c Reference Number]]=\"\",0,SUMIF(sched1c[Reference ID],s1inv[[#This Row],[Employer ID]]&\"-\"&s1inv[[#This Row],[Schedule 1c Reference Number]],sched1c[Change to Cost]))","v":{"$error":"#VALUE!"}},null,{"$f":"s1inv[[#This Row],[Cost at Beginning Period]]+s1inv[[#This Row],[Addition/\nDeduction]]","v":{"$error":"#VALUE!"}},{"$nulls":5},{"$f":"s1inv[[#This Row],[Cost at End of Period]]+s1inv[[#This Row],[Unrealized Appreciation]]-ABS(s1inv[[#This Row],[(Unrealized Depreciation)]])","v":{"$error":"#VALUE!"}},0,null,{"$f":"IFERROR((s1inv[[#This Row],[SBA Reported Value (B)]]+s1inv[[#This Row],[Cum. Cash Proceeds (D)]])/s1inv[[#This Row],[Total Cash Invested (A)]],\"\")","v":""},null,{"$f":"IFERROR((s1inv[[#This Row],[GAAP Reported Value (C)]]+s1inv[[#This Row],[Cum. Cash Proceeds (D)]])/s1inv[[#This Row],[Total Cash Invested (A)]],\"\")","v":""},null,{"$f":"IF(IFERROR(VLOOKUP(s1inv[[#This Row],[Portfolio Company Name]],s11cumperf[],4,FALSE),\"\")=\"\",\"\",(IFERROR(VLOOKUP(s1inv[[#This Row],[Portfolio Company Name]],s11cumperf[],4,FALSE),\"\")))","v":""}]
[" ",{"$f":"IF(IFERROR(VLOOKUP(s1inv[[#This Row],[Portfolio Company Name]],s11cumperf[],2,FALSE),\"\")=\"\",\"\",(IFERROR(VLOOKUP(s1inv[[#This Row],[Portfolio Company Name]],s11cumperf[],2,FALSE),\"\")))","v":""},{"$nulls":13},{"$f":"IF(s1inv[[#This Row],[Schedule 1c Reference Number]]=\"\",0,SUMIF(sched1c[Reference ID],s1inv[[#This Row],[Employer ID]]&\"-\"&s1inv[[#This Row],[Schedule 1c Reference Number]],sched1c[Change to Cost]))","v":{"$error":"#VALUE!"}},null,{"$f":"s1inv[[#This Row],[Cost at Beginning Period]]+s1inv[[#This Row],[Addition/\nDeduction]]","v":{"$error":"#VALUE!"}},{"$nulls":5},{"$f":"s1inv[[#This Row],[Cost at End of Period]]+s1inv[[#This Row],[Unrealized Appreciation]]-ABS(s1inv[[#This Row],[(Unrealized Depreciation)]])","v":{"$error":"#VALUE!"}},0,null,{"$f":"IFERROR((s1inv[[#This Row],[SBA Reported Value (B)]]+s1inv[[#This Row],[Cum. Cash Proceeds (D)]])/s1inv[[#This Row],[Total Cash Invested (A)]],\"\")","v":""},null,{"$f":"IFERROR((s1inv[[#This Row],[GAAP Reported Value (C)]]+s1inv[[#This Row],[Cum. Cash Proceeds (D)]])/s1inv[[#This Row],[Total Cash Invested (A)]],\"\")","v":""},null,{"$f":"IF(IFERROR(VLOOKUP(s1inv[[#This Row],[Portfolio Company Name]],s11cumperf[],4,FALSE),\"\")=\"\",\"\",(IFERROR(VLOOKUP(s1inv[[#This Row],[Portfolio Company Name]],s11cumperf[],4,FALSE),\"\")))","v":""}]
[" ",{"$f":"IF(IFERROR(VLOOKUP(s1inv[[#This Row],[Portfolio Company Name]],s11cumperf[],2,FALSE),\"\")=\"\",\"\",(IFERROR(VLOOKUP(s1inv[[#This Row],[Portfolio Company Name]],s11cumperf[],2,FALSE),\"\")))","v":""},{"$nulls":13},{"$f":"IF(s1inv[[#This Row],[Schedule 1c Reference Number]]=\"\",0,SUMIF(sched1c[Reference ID],s1inv[[#This Row],[Employer ID]]&\"-\"&s1inv[[#This Row],[Schedule 1c Reference Number]],sched1c[Change to Cost]))","v":{"$error":"#VALUE!"}},null,{"$f":"s1inv[[#This Row],[Cost at Beginning Period]]+s1inv[[#This Row],[Addition/\nDeduction]]","v":{"$error":"#VALUE!"}},{"$nulls":5},{"$f":"s1inv[[#This Row],[Cost at End of Period]]+s1inv[[#This Row],[Unrealized Appreciation]]-ABS(s1inv[[#This Row],[(Unrealized Depreciation)]])","v":{"$error":"#VALUE!"}},0,null,{"$f":"IFERROR((s1inv[[#This Row],[SBA Reported Value (B)]]+s1inv[[#This Row],[Cum. Cash Proceeds (D)]])/s1inv[[#This Row],[Total Cash Invested (A)]],\"\")","v":""},null,{"$f":"IFERROR((s1inv[[#This Row],[GAAP Reported Value (C)]]+s1inv[[#This Row],[Cum. Cash Proceeds (D)]])/s1inv[[#This Row],[Total Cash Invested (A)]],\"\")","v":""},null,{"$f":"IF(IFERROR(VLOOKUP(s1inv[[#This Row],[Portfolio Company Name]],s11cumperf[],4,FALSE),\"\")=\"\",\"\",(IFERROR(VLOOKUP(s1inv[[#This Row],[Portfolio Company Name]],s11cumperf[],4,FALSE),\"\")))","v":""}]
[" ",{"$f":"IF(IFERROR(VLOOKUP(s1inv[[#This Row],[Portfolio Company Name]],s11cumperf[],2,FALSE),\"\")=\"\",\"\",(IFERROR(VLOOKUP(s1inv[[#This Row],[Portfolio Company Name]],s11cumperf[],2,FALSE),\"\")))","v":""},{"$nulls":13},{"$f":"IF(s1inv[[#This Row],[Schedule 1c Reference Number]]=\"\",0,SUMIF(sched1c[Reference ID],s1inv[[#This Row],[Employer ID]]&\"-\"&s1inv[[#This Row],[Schedule 1c Reference Number]],sched1c[Change to Cost]))","v":{"$error":"#VALUE!"}},null,{"$f":"s1inv[[#This Row],[Cost at Beginning Period]]+s1inv[[#This Row],[Addition/\nDeduction]]","v":{"$error":"#VALUE!"}},{"$nulls":5},{"$f":"s1inv[[#This Row],[Cost at End of Period]]+s1inv[[#This Row],[Unrealized Appreciation]]-ABS(s1inv[[#This Row],[(Unrealized Depreciation)]])","v":{"$error":"#VALUE!"}},0,null,{"$f":"IFERROR((s1inv[[#This Row],[SBA Reported Value (B)]]+s1inv[[#This Row],[Cum. Cash Proceeds (D)]])/s1inv[[#This Row],[Total Cash Invested (A)]],\"\")","v":""},null,{"$f":"IFERROR((s1inv[[#This Row],[GAAP Reported Value (C)]]+s1inv[[#This Row],[Cum. Cash Proceeds (D)]])/s1inv[[#This Row],[Total Cash Invested (A)]],\"\")","v":""},null,{"$f":"IF(IFERROR(VLOOKUP(s1inv[[#This Row],[Portfolio Company Name]],s11cumperf[],4,FALSE),\"\")=\"\",\"\",(IFERROR(VLOOKUP(s1inv[[#This Row],[Portfolio Company Name]],s11cumperf[],4,FALSE),\"\")))","v":""}]
[" ",{"$f":"IF(IFERROR(VLOOKUP(s1inv[[#This Row],[Portfolio Company Name]],s11cumperf[],2,FALSE),\"\")=\"\",\"\",(IFERROR(VLOOKUP(s1inv[[#This Row],[Portfolio Company Name]],s11cumperf[],2,FALSE),\"\")))","v":""},{"$nulls":13},{"$f":"IF(s1inv[[#This Row],[Schedule 1c Reference Number]]=\"\",0,SUMIF(sched1c[Reference ID],s1inv[[#This Row],[Employer ID]]&\"-\"&s1inv[[#This Row],[Schedule 1c Reference Number]],sched1c[Change to Cost]))","v":{"$error":"#VALUE!"}},null,{"$f":"s1inv[[#This Row],[Cost at Beginning Period]]+s1inv[[#This Row],[Addition/\nDeduction]]","v":{"$error":"#VALUE!"}},{"$nulls":5},{"$f":"s1inv[[#This Row],[Cost at End of Period]]+s1inv[[#This Row],[Unrealized Appreciation]]-ABS(s1inv[[#This Row],[(Unrealized Depreciation)]])","v":{"$error":"#VALUE!"}},0,null,{"$f":"IFERROR((s1inv[[#This Row],[SBA Reported Value (B)]]+s1inv[[#This Row],[Cum. Cash Proceeds (D)]])/s1inv[[#This Row],[Total Cash Invested (A)]],\"\")","v":""},null,{"$f":"IFERROR((s1inv[[#This Row],[GAAP Reported Value (C)]]+s1inv[[#This Row],[Cum. Cash Proceeds (D)]])/s1inv[[#This Row],[Total Cash Invested (A)]],\"\")","v":""},null,{"$f":"IF(IFERROR(VLOOKUP(s1inv[[#This Row],[Portfolio Company Name]],s11cumperf[],4,FALSE),\"\")=\"\",\"\",(IFERROR(VLOOKUP(s1inv[[#This Row],[Portfolio Company Name]],s11cumperf[],4,FALSE),\"\")))","v":""}]
[" ",{"$f":"IF(IFERROR(VLOOKUP(s1inv[[#This Row],[Portfolio Company Name]],s11cumperf[],2,FALSE),\"\")=\"\",\"\",(IFERROR(VLOOKUP(s1inv[[#This Row],[Portfolio Company Name]],s11cumperf[],2,FALSE),\"\")))","v":""},{"$nulls":13},{"$f":"IF(s1inv[[#This Row],[Schedule 1c Reference Number]]=\"\",0,SUMIF(sched1c[Reference ID],s1inv[[#This Row],[Employer ID]]&\"-\"&s1inv[[#This Row],[Schedule 1c Reference Number]],sched1c[Change to Cost]))","v":{"$error":"#VALUE!"}},null,{"$f":"s1inv[[#This Row],[Cost at Beginning Period]]+s1inv[[#This Row],[Addition/\nDeduction]]","v":{"$error":"#VALUE!"}},{"$nulls":5},{"$f":"s1inv[[#This Row],[Cost at End of Period]]+s1inv[[#This Row],[Unrealized Appreciation]]-ABS(s1inv[[#This Row],[(Unrealized Depreciation)]])","v":{"$error":"#VALUE!"}},0,null,{"$f":"IFERROR((s1inv[[#This Row],[SBA Reported Value (B)]]+s1inv[[#This Row],[Cum. Cash Proceeds (D)]])/s1inv[[#This Row],[Total Cash Invested (A)]],\"\")","v":""},null,{"$f":"IFERROR((s1inv[[#This Row],[GAAP Reported Value (C)]]+s1inv[[#This Row],[Cum. Cash Proceeds (D)]])/s1inv[[#This Row],[Total Cash Invested (A)]],\"\")","v":""},null,{"$f":"IF(IFERROR(VLOOKUP(s1inv[[#This Row],[Portfolio Company Name]],s11cumperf[],4,FALSE),\"\")=\"\",\"\",(IFERROR(VLOOKUP(s1inv[[#This Row],[Portfolio Company Name]],s11cumperf[],4,FALSE),\"\")))","v":""}]
[" ",{"$f":"IF(IFERROR(VLOOKUP(s1inv[[#This Row],[Portfolio Company Name]],s11cumperf[],2,FALSE),\"\")=\"\",\"\",(IFERROR(VLOOKUP(s1inv[[#This Row],[Portfolio Company Name]],s11cumperf[],2,FALSE),\"\")))","v":""},{"$nulls":13},{"$f":"IF(s1inv[[#This Row],[Schedule 1c Reference Number]]=\"\",0,SUMIF(sched1c[Reference ID],s1inv[[#This Row],[Employer ID]]&\"-\"&s1inv[[#This Row],[Schedule 1c Reference Number]],sched1c[Change to Cost]))","v":{"$error":"#VALUE!"}},null,{"$f":"s1inv[[#This Row],[Cost at Beginning Period]]+s1inv[[#This Row],[Addition/\nDeduction]]","v":{"$error":"#VALUE!"}},{"$nulls":5},{"$f":"s1inv[[#This Row],[Cost at End of Period]]+s1inv[[#This Row],[Unrealized Appreciation]]-ABS(s1inv[[#This Row],[(Unrealized Depreciation)]])","v":{"$error":"#VALUE!"}},0,null,{"$f":"IFERROR((s1inv[[#This Row],[SBA Reported Value (B)]]+s1inv[[#This Row],[Cum. Cash Proceeds (D)]])/s1inv[[#This Row],[Total Cash Invested (A)]],\"\")","v":""},null,{"$f":"IFERROR((s1inv[[#This Row],[GAAP Reported Value (C)]]+s1inv[[#This Row],[Cum. Cash Proceeds (D)]])/s1inv[[#This Row],[Total Cash Invested (A)]],\"\")","v":""},null,{"$f":"IF(IFERROR(VLOOKUP(s1inv[[#This Row],[Portfolio Company Name]],s11cumperf[],4,FALSE),\"\")=\"\",\"\",(IFERROR(VLOOKUP(s1inv[[#This Row],[Portfolio Company Name]],s11cumperf[],4,FALSE),\"\")))","v":""}]
[" ",{"$f":"IF(IFERROR(VLOOKUP(s1inv[[#This Row],[Portfolio Company Name]],s11cumperf[],2,FALSE),\"\")=\"\",\"\",(IFERROR(VLOOKUP(s1inv[[#This Row],[Portfolio Company Name]],s11cumperf[],2,FALSE),\"\")))","v":""},{"$nulls":13},{"$f":"IF(s1inv[[#This Row],[Schedule 1c Reference Number]]=\"\",0,SUMIF(sched1c[Reference ID],s1inv[[#This Row],[Employer ID]]&\"-\"&s1inv[[#This Row],[Schedule 1c Reference Number]],sched1c[Change to Cost]))","v":{"$error":"#VALUE!"}},null,{"$f":"s1inv[[#This Row],[Cost at Beginning Period]]+s1inv[[#This Row],[Addition/\nDeduction]]","v":{"$error":"#VALUE!"}},{"$nulls":5},{"$f":"s1inv[[#This Row],[Cost at End of Period]]+s1inv[[#This Row],[Unrealized Appreciation]]-ABS(s1inv[[#This Row],[(Unrealized Depreciation)]])","v":{"$error":"#VALUE!"}},0,null,{"$f":"IFERROR((s1inv[[#This Row],[SBA Reported Value (B)]]+s1inv[[#This Row],[Cum. Cash Proceeds (D)]])/s1inv[[#This Row],[Total Cash Invested (A)]],\"\")","v":""},null,{"$f":"IFERROR((s1inv[[#This Row],[GAAP Reported Value (C)]]+s1inv[[#This Row],[Cum. Cash Proceeds (D)]])/s1inv[[#This Row],[Total Cash Invested (A)]],\"\")","v":""},null,{"$f":"IF(IFERROR(VLOOKUP(s1inv[[#This Row],[Portfolio Company Name]],s11cumperf[],4,FALSE),\"\")=\"\",\"\",(IFERROR(VLOOKUP(s1inv[[#This Row],[Portfolio Company Name]],s11cumperf[],4,FALSE),\"\")))","v":""}]
[" ",{"$f":"IF(IFERROR(VLOOKUP(s1inv[[#This Row],[Portfolio Company Name]],s11cumperf[],2,FALSE),\"\")=\"\",\"\",(IFERROR(VLOOKUP(s1inv[[#This Row],[Portfolio Company Name]],s11cumperf[],2,FALSE),\"\")))","v":""},{"$nulls":13},{"$f":"IF(s1inv[[#This Row],[Schedule 1c Reference Number]]=\"\",0,SUMIF(sched1c[Reference ID],s1inv[[#This Row],[Employer ID]]&\"-\"&s1inv[[#This Row],[Schedule 1c Reference Number]],sched1c[Change to Cost]))","v":{"$error":"#VALUE!"}},null,{"$f":"s1inv[[#This Row],[Cost at Beginning Period]]+s1inv[[#This Row],[Addition/\nDeduction]]","v":{"$error":"#VALUE!"}},{"$nulls":5},{"$f":"s1inv[[#This Row],[Cost at End of Period]]+s1inv[[#This Row],[Unrealized Appreciation]]-ABS(s1inv[[#This Row],[(Unrealized Depreciation)]])","v":{"$error":"#VALUE!"}},0,null,{"$f":"IFERROR((s1inv[[#This Row],[SBA Reported Value (B)]]+s1inv[[#This Row],[Cum. Cash Proceeds (D)]])/s1inv[[#This Row],[Total Cash Invested (A)]],\"\")","v":""},null,{"$f":"IFERROR((s1inv[[#This Row],[GAAP Reported Value (C)]]+s1inv[[#This Row],[Cum. Cash Proceeds (D)]])/s1inv[[#This Row],[Total Cash Invested (A)]],\"\")","v":""},null,{"$f":"IF(IFERROR(VLOOKUP(s1inv[[#This Row],[Portfolio Company Name]],s11cumperf[],4,FALSE),\"\")=\"\",\"\",(IFERROR(VLOOKUP(s1inv[[#This Row],[Portfolio Company Name]],s11cumperf[],4,FALSE),\"\")))","v":""}]
[" ",{"$f":"IF(IFERROR(VLOOKUP(s1inv[[#This Row],[Portfolio Company Name]],s11cumperf[],2,FALSE),\"\")=\"\",\"\",(IFERROR(VLOOKUP(s1inv[[#This Row],[Portfolio Company Name]],s11cumperf[],2,FALSE),\"\")))","v":""},{"$nulls":13},{"$f":"IF(s1inv[[#This Row],[Schedule 1c Reference Number]]=\"\",0,SUMIF(sched1c[Reference ID],s1inv[[#This Row],[Employer ID]]&\"-\"&s1inv[[#This Row],[Schedule 1c Reference Number]],sched1c[Change to Cost]))","v":{"$error":"#VALUE!"}},null,{"$f":"s1inv[[#This Row],[Cost at Beginning Period]]+s1inv[[#This Row],[Addition/\nDeduction]]","v":{"$error":"#VALUE!"}},{"$nulls":5},{"$f":"s1inv[[#This Row],[Cost at End of Period]]+s1inv[[#This Row],[Unrealized Appreciation]]-ABS(s1inv[[#This Row],[(Unrealized Depreciation)]])","v":{"$error":"#VALUE!"}},0,null,{"$f":"IFERROR((s1inv[[#This Row],[SBA Reported Value (B)]]+s1inv[[#This Row],[Cum. Cash Proceeds (D)]])/s1inv[[#This Row],[Total Cash Invested (A)]],\"\")","v":""},null,{"$f":"IFERROR((s1inv[[#This Row],[GAAP Reported Value (C)]]+s1inv[[#This Row],[Cum. Cash Proceeds (D)]])/s1inv[[#This Row],[Total Cash Invested (A)]],\"\")","v":""},null,{"$f":"IF(IFERROR(VLOOKUP(s1inv[[#This Row],[Portfolio Company Name]],s11cumperf[],4,FALSE),\"\")=\"\",\"\",(IFERROR(VLOOKUP(s1inv[[#This Row],[Portfolio Company Name]],s11cumperf[],4,FALSE),\"\")))","v":""}]
[" ",{"$f":"IF(IFERROR(VLOOKUP(s1inv[[#This Row],[Portfolio Company Name]],s11cumperf[],2,FALSE),\"\")=\"\",\"\",(IFERROR(VLOOKUP(s1inv[[#This Row],[Portfolio Company Name]],s11cumperf[],2,FALSE),\"\")))","v":""},{"$nulls":13},{"$f":"IF(s1inv[[#This Row],[Schedule 1c Reference Number]]=\"\",0,SUMIF(sched1c[Reference ID],s1inv[[#This Row],[Employer ID]]&\"-\"&s1inv[[#This Row],[Schedule 1c Reference Number]],sched1c[Change to Cost]))","v":{"$error":"#VALUE!"}},null,{"$f":"s1inv[[#This Row],[Cost at Beginning Period]]+s1inv[[#This Row],[Addition/\nDeduction]]","v":{"$error":"#VALUE!"}},{"$nulls":5},{"$f":"s1inv[[#This Row],[Cost at End of Period]]+s1inv[[#This Row],[Unrealized Appreciation]]-ABS(s1inv[[#This Row],[(Unrealized Depreciation)]])","v":{"$error":"#VALUE!"}},0,null,{"$f":"IFERROR((s1inv[[#This Row],[SBA Reported Value (B)]]+s1inv[[#This Row],[Cum. Cash Proceeds (D)]])/s1inv[[#This Row],[Total Cash Invested (A)]],\"\")","v":""},null,{"$f":"IFERROR((s1inv[[#This Row],[GAAP Reported Value (C)]]+s1inv[[#This Row],[Cum. Cash Proceeds (D)]])/s1inv[[#This Row],[Total Cash Invested (A)]],\"\")","v":""},null,{"$f":"IF(IFERROR(VLOOKUP(s1inv[[#This Row],[Portfolio Company Name]],s11cumperf[],4,FALSE),\"\")=\"\",\"\",(IFERROR(VLOOKUP(s1inv[[#This Row],[Portfolio Company Name]],s11cumperf[],4,FALSE),\"\")))","v":""}]
[" ",{"$f":"IF(IFERROR(VLOOKUP(s1inv[[#This Row],[Portfolio Company Name]],s11cumperf[],2,FALSE),\"\")=\"\",\"\",(IFERROR(VLOOKUP(s1inv[[#This Row],[Portfolio Company Name]],s11cumperf[],2,FALSE),\"\")))","v":""},{"$nulls":13},{"$f":"IF(s1inv[[#This Row],[Schedule 1c Reference Number]]=\"\",0,SUMIF(sched1c[Reference ID],s1inv[[#This Row],[Employer ID]]&\"-\"&s1inv[[#This Row],[Schedule 1c Reference Number]],sched1c[Change to Cost]))","v":{"$error":"#VALUE!"}},null,{"$f":"s1inv[[#This Row],[Cost at Beginning Period]]+s1inv[[#This Row],[Addition/\nDeduction]]","v":{"$error":"#VALUE!"}},{"$nulls":5},{"$f":"s1inv[[#This Row],[Cost at End of Period]]+s1inv[[#This Row],[Unrealized Appreciation]]-ABS(s1inv[[#This Row],[(Unrealized Depreciation)]])","v":{"$error":"#VALUE!"}},0,null,{"$f":"IFERROR((s1inv[[#This Row],[SBA Reported Value (B)]]+s1inv[[#This Row],[Cum. Cash Proceeds (D)]])/s1inv[[#This Row],[Total Cash Invested (A)]],\"\")","v":""},null,{"$f":"IFERROR((s1inv[[#This Row],[GAAP Reported Value (C)]]+s1inv[[#This Row],[Cum. Cash Proceeds (D)]])/s1inv[[#This Row],[Total Cash Invested (A)]],\"\")","v":""},null,{"$f":"IF(IFERROR(VLOOKUP(s1inv[[#This Row],[Portfolio Company Name]],s11cumperf[],4,FALSE),\"\")=\"\",\"\",(IFERROR(VLOOKUP(s1inv[[#This Row],[Portfolio Company Name]],s11cumperf[],4,FALSE),\"\")))","v":""}]
[" ",{"$f":"IF(IFERROR(VLOOKUP(s1inv[[#This Row],[Portfolio Company Name]],s11cumperf[],2,FALSE),\"\")=\"\",\"\",(IFERROR(VLOOKUP(s1inv[[#This Row],[Portfolio Company Name]],s11cumperf[],2,FALSE),\"\")))","v":""},{"$nulls":13},{"$f":"IF(s1inv[[#This Row],[Schedule 1c Reference Number]]=\"\",0,SUMIF(sched1c[Reference ID],s1inv[[#This Row],[Employer ID]]&\"-\"&s1inv[[#This Row],[Schedule 1c Reference Number]],sched1c[Change to Cost]))","v":{"$error":"#VALUE!"}},null,{"$f":"s1inv[[#This Row],[Cost at Beginning Period]]+s1inv[[#This Row],[Addition/\nDeduction]]","v":{"$error":"#VALUE!"}},{"$nulls":5},{"$f":"s1inv[[#This Row],[Cost at End of Period]]+s1inv[[#This Row],[Unrealized Appreciation]]-ABS(s1inv[[#This Row],[(Unrealized Depreciation)]])","v":{"$error":"#VALUE!"}},0,null,{"$f":"IFERROR((s1inv[[#This Row],[SBA Reported Value (B)]]+s1inv[[#This Row],[Cum. Cash Proceeds (D)]])/s1inv[[#This Row],[Total Cash Invested (A)]],\"\")","v":""},null,{"$f":"IFERROR((s1inv[[#This Row],[GAAP Reported Value (C)]]+s1inv[[#This Row],[Cum. Cash Proceeds (D)]])/s1inv[[#This Row],[Total Cash Invested (A)]],\"\")","v":""},null,{"$f":"IF(IFERROR(VLOOKUP(s1inv[[#This Row],[Portfolio Company Name]],s11cumperf[],4,FALSE),\"\")=\"\",\"\",(IFERROR(VLOOKUP(s1inv[[#This Row],[Portfolio Company Name]],s11cumperf[],4,FALSE),\"\")))","v":""}]
[" ",{"$f":"IF(IFERROR(VLOOKUP(s1inv[[#This Row],[Portfolio Company Name]],s11cumperf[],2,FALSE),\"\")=\"\",\"\",(IFERROR(VLOOKUP(s1inv[[#This Row],[Portfolio Company Name]],s11cumperf[],2,FALSE),\"\")))","v":""},{"$nulls":13},{"$f":"IF(s1inv[[#This Row],[Schedule 1c Reference Number]]=\"\",0,SUMIF(sched1c[Reference ID],s1inv[[#This Row],[Employer ID]]&\"-\"&s1inv[[#This Row],[Schedule 1c Reference Number]],sched1c[Change to Cost]))","v":{"$error":"#VALUE!"}},null,{"$f":"s1inv[[#This Row],[Cost at Beginning Period]]+s1inv[[#This Row],[Addition/\nDeduction]]","v":{"$error":"#VALUE!"}},{"$nulls":5},{"$f":"s1inv[[#This Row],[Cost at End of Period]]+s1inv[[#This Row],[Unrealized Appreciation]]-ABS(s1inv[[#This Row],[(Unrealized Depreciation)]])","v":{"$error":"#VALUE!"}},0,null,{"$f":"IFERROR((s1inv[[#This Row],[SBA Reported Value (B)]]+s1inv[[#This Row],[Cum. Cash Proceeds (D)]])/s1inv[[#This Row],[Total Cash Invested (A)]],\"\")","v":""},null,{"$f":"IFERROR((s1inv[[#This Row],[GAAP Reported Value (C)]]+s1inv[[#This Row],[Cum. Cash Proceeds (D)]])/s1inv[[#This Row],[Total Cash Invested (A)]],\"\")","v":""},null,{"$f":"IF(IFERROR(VLOOKUP(s1inv[[#This Row],[Portfolio Company Name]],s11cumperf[],4,FALSE),\"\")=\"\",\"\",(IFERROR(VLOOKUP(s1inv[[#This Row],[Portfolio Company Name]],s11cumperf[],4,FALSE),\"\")))","v":""}]
[" ",{"$f":"IF(IFERROR(VLOOKUP(s1inv[[#This Row],[Portfolio Company Name]],s11cumperf[],2,FALSE),\"\")=\"\",\"\",(IFERROR(VLOOKUP(s1inv[[#This Row],[Portfolio Company Name]],s11cumperf[],2,FALSE),\"\")))","v":""},{"$nulls":13},{"$f":"IF(s1inv[[#This Row],[Schedule 1c Reference Number]]=\"\",0,SUMIF(sched1c[Reference ID],s1inv[[#This Row],[Employer ID]]&\"-\"&s1inv[[#This Row],[Schedule 1c Reference Number]],sched1c[Change to Cost]))","v":{"$error":"#VALUE!"}},null,{"$f":"s1inv[[#This Row],[Cost at Beginning Period]]+s1inv[[#This Row],[Addition/\nDeduction]]","v":{"$error":"#VALUE!"}},{"$nulls":5},{"$f":"s1inv[[#This Row],[Cost at End of Period]]+s1inv[[#This Row],[Unrealized Appreciation]]-ABS(s1inv[[#This Row],[(Unrealized Depreciation)]])","v":{"$error":"#VALUE!"}},0,null,{"$f":"IFERROR((s1inv[[#This Row],[SBA Reported Value (B)]]+s1inv[[#This Row],[Cum. Cash Proceeds (D)]])/s1inv[[#This Row],[Total Cash Invested (A)]],\"\")","v":""},null,{"$f":"IFERROR((s1inv[[#This Row],[GAAP Reported Value (C)]]+s1inv[[#This Row],[Cum. Cash Proceeds (D)]])/s1inv[[#This Row],[Total Cash Invested (A)]],\"\")","v":""},null,{"$f":"IF(IFERROR(VLOOKUP(s1inv[[#This Row],[Portfolio Company Name]],s11cumperf[],4,FALSE),\"\")=\"\",\"\",(IFERROR(VLOOKUP(s1inv[[#This Row],[Portfolio Company Name]],s11cumperf[],4,FALSE),\"\")))","v":""}]
[" ",{"$f":"IF(IFERROR(VLOOKUP(s1inv[[#This Row],[Portfolio Company Name]],s11cumperf[],2,FALSE),\"\")=\"\",\"\",(IFERROR(VLOOKUP(s1inv[[#This Row],[Portfolio Company Name]],s11cumperf[],2,FALSE),\"\")))","v":""},{"$nulls":13},{"$f":"IF(s1inv[[#This Row],[Schedule 1c Reference Number]]=\"\",0,SUMIF(sched1c[Reference ID],s1inv[[#This Row],[Employer ID]]&\"-\"&s1inv[[#This Row],[Schedule 1c Reference Number]],sched1c[Change to Cost]))","v":{"$error":"#VALUE!"}},null,{"$f":"s1inv[[#This Row],[Cost at Beginning Period]]+s1inv[[#This Row],[Addition/\nDeduction]]","v":{"$error":"#VALUE!"}},{"$nulls":5},{"$f":"s1inv[[#This Row],[Cost at End of Period]]+s1inv[[#This Row],[Unrealized Appreciation]]-ABS(s1inv[[#This Row],[(Unrealized Depreciation)]])","v":{"$error":"#VALUE!"}},0,null,{"$f":"IFERROR((s1inv[[#This Row],[SBA Reported Value (B)]]+s1inv[[#This Row],[Cum. Cash Proceeds (D)]])/s1inv[[#This Row],[Total Cash Invested (A)]],\"\")","v":""},null,{"$f":"IFERROR((s1inv[[#This Row],[GAAP Reported Value (C)]]+s1inv[[#This Row],[Cum. Cash Proceeds (D)]])/s1inv[[#This Row],[Total Cash Invested (A)]],\"\")","v":""},null,{"$f":"IF(IFERROR(VLOOKUP(s1inv[[#This Row],[Portfolio Company Name]],s11cumperf[],4,FALSE),\"\")=\"\",\"\",(IFERROR(VLOOKUP(s1inv[[#This Row],[Portfolio Company Name]],s11cumperf[],4,FALSE),\"\")))","v":""}]
[" ",{"$f":"IF(IFERROR(VLOOKUP(s1inv[[#This Row],[Portfolio Company Name]],s11cumperf[],2,FALSE),\"\")=\"\",\"\",(IFERROR(VLOOKUP(s1inv[[#This Row],[Portfolio Company Name]],s11cumperf[],2,FALSE),\"\")))","v":""},{"$nulls":13},{"$f":"IF(s1inv[[#This Row],[Schedule 1c Reference Number]]=\"\",0,SUMIF(sched1c[Reference ID],s1inv[[#This Row],[Employer ID]]&\"-\"&s1inv[[#This Row],[Schedule 1c Reference Number]],sched1c[Change to Cost]))","v":{"$error":"#VALUE!"}},null,{"$f":"s1inv[[#This Row],[Cost at Beginning Period]]+s1inv[[#This Row],[Addition/\nDeduction]]","v":{"$error":"#VALUE!"}},{"$nulls":5},{"$f":"s1inv[[#This Row],[Cost at End of Period]]+s1inv[[#This Row],[Unrealized Appreciation]]-ABS(s1inv[[#This Row],[(Unrealized Depreciation)]])","v":{"$error":"#VALUE!"}},0,null,{"$f":"IFERROR((s1inv[[#This Row],[SBA Reported Value (B)]]+s1inv[[#This Row],[Cum. Cash Proceeds (D)]])/s1inv[[#This Row],[Total Cash Invested (A)]],\"\")","v":""},null,{"$f":"IFERROR((s1inv[[#This Row],[GAAP Reported Value (C)]]+s1inv[[#This Row],[Cum. Cash Proceeds (D)]])/s1inv[[#This Row],[Total Cash Invested (A)]],\"\")","v":""},null,{"$f":"IF(IFERROR(VLOOKUP(s1inv[[#This Row],[Portfolio Company Name]],s11cumperf[],4,FALSE),\"\")=\"\",\"\",(IFERROR(VLOOKUP(s1inv[[#This Row],[Portfolio Company Name]],s11cumperf[],4,FALSE),\"\")))","v":""}]
[" ",{"$f":"IF(IFERROR(VLOOKUP(s1inv[[#This Row],[Portfolio Company Name]],s11cumperf[],2,FALSE),\"\")=\"\",\"\",(IFERROR(VLOOKUP(s1inv[[#This Row],[Portfolio Company Name]],s11cumperf[],2,FALSE),\"\")))","v":""},{"$nulls":13},{"$f":"IF(s1inv[[#This Row],[Schedule 1c Reference Number]]=\"\",0,SUMIF(sched1c[Reference ID],s1inv[[#This Row],[Employer ID]]&\"-\"&s1inv[[#This Row],[Schedule 1c Reference Number]],sched1c[Change to Cost]))","v":{"$error":"#VALUE!"}},null,{"$f":"s1inv[[#This Row],[Cost at Beginning Period]]+s1inv[[#This Row],[Addition/\nDeduction]]","v":{"$error":"#VALUE!"}},{"$nulls":5},{"$f":"s1inv[[#This Row],[Cost at End of Period]]+s1inv[[#This Row],[Unrealized Appreciation]]-ABS(s1inv[[#This Row],[(Unrealized Depreciation)]])","v":{"$error":"#VALUE!"}},0,null,{"$f":"IFERROR((s1inv[[#This Row],[SBA Reported Value (B)]]+s1inv[[#This Row],[Cum. Cash Proceeds (D)]])/s1inv[[#This Row],[Total Cash Invested (A)]],\"\")","v":""},null,{"$f":"IFERROR((s1inv[[#This Row],[GAAP Reported Value (C)]]+s1inv[[#This Row],[Cum. Cash Proceeds (D)]])/s1inv[[#This Row],[Total Cash Invested (A)]],\"\")","v":""},null,{"$f":"IF(IFERROR(VLOOKUP(s1inv[[#This Row],[Portfolio Company Name]],s11cumperf[],4,FALSE),\"\")=\"\",\"\",(IFERROR(VLOOKUP(s1inv[[#This Row],[Portfolio Company Name]],s11cumperf[],4,FALSE),\"\")))","v":""}]
[" ",{"$f":"IF(IFERROR(VLOOKUP(s1inv[[#This Row],[Portfolio Company Name]],s11cumperf[],2,FALSE),\"\")=\"\",\"\",(IFERROR(VLOOKUP(s1inv[[#This Row],[Portfolio Company Name]],s11cumperf[],2,FALSE),\"\")))","v":""},{"$nulls":13},{"$f":"IF(s1inv[[#This Row],[Schedule 1c Reference Number]]=\"\",0,SUMIF(sched1c[Reference ID],s1inv[[#This Row],[Employer ID]]&\"-\"&s1inv[[#This Row],[Schedule 1c Reference Number]],sched1c[Change to Cost]))","v":{"$error":"#VALUE!"}},null,{"$f":"s1inv[[#This Row],[Cost at Beginning Period]]+s1inv[[#This Row],[Addition/\nDeduction]]","v":{"$error":"#VALUE!"}},{"$nulls":5},{"$f":"s1inv[[#This Row],[Cost at End of Period]]+s1inv[[#This Row],[Unrealized Appreciation]]-ABS(s1inv[[#This Row],[(Unrealized Depreciation)]])","v":{"$error":"#VALUE!"}},0,null,{"$f":"IFERROR((s1inv[[#This Row],[SBA Reported Value (B)]]+s1inv[[#This Row],[Cum. Cash Proceeds (D)]])/s1inv[[#This Row],[Total Cash Invested (A)]],\"\")","v":""},null,{"$f":"IFERROR((s1inv[[#This Row],[GAAP Reported Value (C)]]+s1inv[[#This Row],[Cum. Cash Proceeds (D)]])/s1inv[[#This Row],[Total Cash Invested (A)]],\"\")","v":""},null,{"$f":"IF(IFERROR(VLOOKUP(s1inv[[#This Row],[Portfolio Company Name]],s11cumperf[],4,FALSE),\"\")=\"\",\"\",(IFERROR(VLOOKUP(s1inv[[#This Row],[Portfolio Company Name]],s11cumperf[],4,FALSE),\"\")))","v":""}]
[" ",{"$f":"IF(IFERROR(VLOOKUP(s1inv[[#This Row],[Portfolio Company Name]],s11cumperf[],2,FALSE),\"\")=\"\",\"\",(IFERROR(VLOOKUP(s1inv[[#This Row],[Portfolio Company Name]],s11cumperf[],2,FALSE),\"\")))","v":""},{"$nulls":13},{"$f":"IF(s1inv[[#This Row],[Schedule 1c Reference Number]]=\"\",0,SUMIF(sched1c[Reference ID],s1inv[[#This Row],[Employer ID]]&\"-\"&s1inv[[#This Row],[Schedule 1c Reference Number]],sched1c[Change to Cost]))","v":{"$error":"#VALUE!"}},null,{"$f":"s1inv[[#This Row],[Cost at Beginning Period]]+s1inv[[#This Row],[Addition/\nDeduction]]","v":{"$error":"#VALUE!"}},{"$nulls":5},{"$f":"s1inv[[#This Row],[Cost at End of Period]]+s1inv[[#This Row],[Unrealized Appreciation]]-ABS(s1inv[[#This Row],[(Unrealized Depreciation)]])","v":{"$error":"#VALUE!"}},0,null,{"$f":"IFERROR((s1inv[[#This Row],[SBA Reported Value (B)]]+s1inv[[#This Row],[Cum. Cash Proceeds (D)]])/s1inv[[#This Row],[Total Cash Invested (A)]],\"\")","v":""},null,{"$f":"IFERROR((s1inv[[#This Row],[GAAP Reported Value (C)]]+s1inv[[#This Row],[Cum. Cash Proceeds (D)]])/s1inv[[#This Row],[Total Cash Invested (A)]],\"\")","v":""},null,{"$f":"IF(IFERROR(VLOOKUP(s1inv[[#This Row],[Portfolio Company Name]],s11cumperf[],4,FALSE),\"\")=\"\",\"\",(IFERROR(VLOOKUP(s1inv[[#This Row],[Portfolio Company Name]],s11cumperf[],4,FALSE),\"\")))","v":""}]
[" ",{"$f":"IF(IFERROR(VLOOKUP(s1inv[[#This Row],[Portfolio Company Name]],s11cumperf[],2,FALSE),\"\")=\"\",\"\",(IFERROR(VLOOKUP(s1inv[[#This Row],[Portfolio Company Name]],s11cumperf[],2,FALSE),\"\")))","v":""},{"$nulls":13},{"$f":"IF(s1inv[[#This Row],[Schedule 1c Reference Number]]=\"\",0,SUMIF(sched1c[Reference ID],s1inv[[#This Row],[Employer ID]]&\"-\"&s1inv[[#This Row],[Schedule 1c Reference Number]],sched1c[Change to Cost]))","v":{"$error":"#VALUE!"}},null,{"$f":"s1inv[[#This Row],[Cost at Beginning Period]]+s1inv[[#This Row],[Addition/\nDeduction]]","v":{"$error":"#VALUE!"}},{"$nulls":5},{"$f":"s1inv[[#This Row],[Cost at End of Period]]+s1inv[[#This Row],[Unrealized Appreciation]]-ABS(s1inv[[#This Row],[(Unrealized Depreciation)]])","v":{"$error":"#VALUE!"}},0,null,{"$f":"IFERROR((s1inv[[#This Row],[SBA Reported Value (B)]]+s1inv[[#This Row],[Cum. Cash Proceeds (D)]])/s1inv[[#This Row],[Total Cash Invested (A)]],\"\")","v":""},null,{"$f":"IFERROR((s1inv[[#This Row],[GAAP Reported Value (C)]]+s1inv[[#This Row],[Cum. Cash Proceeds (D)]])/s1inv[[#This Row],[Total Cash Invested (A)]],\"\")","v":""},null,{"$f":"IF(IFERROR(VLOOKUP(s1inv[[#This Row],[Portfolio Company Name]],s11cumperf[],4,FALSE),\"\")=\"\",\"\",(IFERROR(VLOOKUP(s1inv[[#This Row],[Portfolio Company Name]],s11cumperf[],4,FALSE),\"\")))","v":""}]
[" ",{"$f":"IF(IFERROR(VLOOKUP(s1inv[[#This Row],[Portfolio Company Name]],s11cumperf[],2,FALSE),\"\")=\"\",\"\",(IFERROR(VLOOKUP(s1inv[[#This Row],[Portfolio Company Name]],s11cumperf[],2,FALSE),\"\")))","v":""},{"$nulls":13},{"$f":"IF(s1inv[[#This Row],[Schedule 1c Reference Number]]=\"\",0,SUMIF(sched1c[Reference ID],s1inv[[#This Row],[Employer ID]]&\"-\"&s1inv[[#This Row],[Schedule 1c Reference Number]],sched1c[Change to Cost]))","v":{"$error":"#VALUE!"}},null,{"$f":"s1inv[[#This Row],[Cost at Beginning Period]]+s1inv[[#This Row],[Addition/\nDeduction]]","v":{"$error":"#VALUE!"}},{"$nulls":5},{"$f":"s1inv[[#This Row],[Cost at End of Period]]+s1inv[[#This Row],[Unrealized Appreciation]]-ABS(s1inv[[#This Row],[(Unrealized Depreciation)]])","v":{"$error":"#VALUE!"}},0,null,{"$f":"IFERROR((s1inv[[#This Row],[SBA Reported Value (B)]]+s1inv[[#This Row],[Cum. Cash Proceeds (D)]])/s1inv[[#This Row],[Total Cash Invested (A)]],\"\")","v":""},null,{"$f":"IFERROR((s1inv[[#This Row],[GAAP Reported Value (C)]]+s1inv[[#This Row],[Cum. Cash Proceeds (D)]])/s1inv[[#This Row],[Total Cash Invested (A)]],\"\")","v":""},null,{"$f":"IF(IFERROR(VLOOKUP(s1inv[[#This Row],[Portfolio Company Name]],s11cumperf[],4,FALSE),\"\")=\"\",\"\",(IFERROR(VLOOKUP(s1inv[[#This Row],[Portfolio Company Name]],s11cumperf[],4,FALSE),\"\")))","v":""}]
[" ",{"$f":"IF(IFERROR(VLOOKUP(s1inv[[#This Row],[Portfolio Company Name]],s11cumperf[],2,FALSE),\"\")=\"\",\"\",(IFERROR(VLOOKUP(s1inv[[#This Row],[Portfolio Company Name]],s11cumperf[],2,FALSE),\"\")))","v":""},{"$nulls":13},{"$f":"IF(s1inv[[#This Row],[Schedule 1c Reference Number]]=\"\",0,SUMIF(sched1c[Reference ID],s1inv[[#This Row],[Employer ID]]&\"-\"&s1inv[[#This Row],[Schedule 1c Reference Number]],sched1c[Change to Cost]))","v":{"$error":"#VALUE!"}},null,{"$f":"s1inv[[#This Row],[Cost at Beginning Period]]+s1inv[[#This Row],[Addition/\nDeduction]]","v":{"$error":"#VALUE!"}},{"$nulls":5},{"$f":"s1inv[[#This Row],[Cost at End of Period]]+s1inv[[#This Row],[Unrealized Appreciation]]-ABS(s1inv[[#This Row],[(Unrealized Depreciation)]])","v":{"$error":"#VALUE!"}},0,null,{"$f":"IFERROR((s1inv[[#This Row],[SBA Reported Value (B)]]+s1inv[[#This Row],[Cum. Cash Proceeds (D)]])/s1inv[[#This Row],[Total Cash Invested (A)]],\"\")","v":""},null,{"$f":"IFERROR((s1inv[[#This Row],[GAAP Reported Value (C)]]+s1inv[[#This Row],[Cum. Cash Proceeds (D)]])/s1inv[[#This Row],[Total Cash Invested (A)]],\"\")","v":""},null,{"$f":"IF(IFERROR(VLOOKUP(s1inv[[#This Row],[Portfolio Company Name]],s11cumperf[],4,FALSE),\"\")=\"\",\"\",(IFERROR(VLOOKUP(s1inv[[#This Row],[Portfolio Company Name]],s11cumperf[],4,FALSE),\"\")))","v":""}]
[" ",{"$f":"IF(IFERROR(VLOOKUP(s1inv[[#This Row],[Portfolio Company Name]],s11cumperf[],2,FALSE),\"\")=\"\",\"\",(IFERROR(VLOOKUP(s1inv[[#This Row],[Portfolio Company Name]],s11cumperf[],2,FALSE),\"\")))","v":""},{"$nulls":13},{"$f":"IF(s1inv[[#This Row],[Schedule 1c Reference Number]]=\"\",0,SUMIF(sched1c[Reference ID],s1inv[[#This Row],[Employer ID]]&\"-\"&s1inv[[#This Row],[Schedule 1c Reference Number]],sched1c[Change to Cost]))","v":{"$error":"#VALUE!"}},null,{"$f":"s1inv[[#This Row],[Cost at Beginning Period]]+s1inv[[#This Row],[Addition/\nDeduction]]","v":{"$error":"#VALUE!"}},{"$nulls":5},{"$f":"s1inv[[#This Row],[Cost at End of Period]]+s1inv[[#This Row],[Unrealized Appreciation]]-ABS(s1inv[[#This Row],[(Unrealized Depreciation)]])","v":{"$error":"#VALUE!"}},0,null,{"$f":"IFERROR((s1inv[[#This Row],[SBA Reported Value (B)]]+s1inv[[#This Row],[Cum. Cash Proceeds (D)]])/s1inv[[#This Row],[Total Cash Invested (A)]],\"\")","v":""},null,{"$f":"IFERROR((s1inv[[#This Row],[GAAP Reported Value (C)]]+s1inv[[#This Row],[Cum. Cash Proceeds (D)]])/s1inv[[#This Row],[Total Cash Invested (A)]],\"\")","v":""},null,{"$f":"IF(IFERROR(VLOOKUP(s1inv[[#This Row],[Portfolio Company Name]],s11cumperf[],4,FALSE),\"\")=\"\",\"\",(IFERROR(VLOOKUP(s1inv[[#This Row],[Portfolio Company Name]],s11cumperf[],4,FALSE),\"\")))","v":""}]
[" ",{"$f":"IF(IFERROR(VLOOKUP(s1inv[[#This Row],[Portfolio Company Name]],s11cumperf[],2,FALSE),\"\")=\"\",\"\",(IFERROR(VLOOKUP(s1inv[[#This Row],[Portfolio Company Name]],s11cumperf[],2,FALSE),\"\")))","v":""},{"$nulls":13},{"$f":"IF(s1inv[[#This Row],[Schedule 1c Reference Number]]=\"\",0,SUMIF(sched1c[Reference ID],s1inv[[#This Row],[Employer ID]]&\"-\"&s1inv[[#This Row],[Schedule 1c Reference Number]],sched1c[Change to Cost]))","v":{"$error":"#VALUE!"}},null,{"$f":"s1inv[[#This Row],[Cost at Beginning Period]]+s1inv[[#This Row],[Addition/\nDeduction]]","v":{"$error":"#VALUE!"}},{"$nulls":5},{"$f":"s1inv[[#This Row],[Cost at End of Period]]+s1inv[[#This Row],[Unrealized Appreciation]]-ABS(s1inv[[#This Row],[(Unrealized Depreciation)]])","v":{"$error":"#VALUE!"}},0,null,{"$f":"IFERROR((s1inv[[#This Row],[SBA Reported Value (B)]]+s1inv[[#This Row],[Cum. Cash Proceeds (D)]])/s1inv[[#This Row],[Total Cash Invested (A)]],\"\")","v":""},null,{"$f":"IFERROR((s1inv[[#This Row],[GAAP Reported Value (C)]]+s1inv[[#This Row],[Cum. Cash Proceeds (D)]])/s1inv[[#This Row],[Total Cash Invested (A)]],\"\")","v":""},null,{"$f":"IF(IFERROR(VLOOKUP(s1inv[[#This Row],[Portfolio Company Name]],s11cumperf[],4,FALSE),\"\")=\"\",\"\",(IFERROR(VLOOKUP(s1inv[[#This Row],[Portfolio Company Name]],s11cumperf[],4,FALSE),\"\")))","v":""}]
[" ",{"$f":"IF(IFERROR(VLOOKUP(s1inv[[#This Row],[Portfolio Company Name]],s11cumperf[],2,FALSE),\"\")=\"\",\"\",(IFERROR(VLOOKUP(s1inv[[#This Row],[Portfolio Company Name]],s11cumperf[],2,FALSE),\"\")))","v":""},{"$nulls":13},{"$f":"IF(s1inv[[#This Row],[Schedule 1c Reference Number]]=\"\",0,SUMIF(sched1c[Reference ID],s1inv[[#This Row],[Employer ID]]&\"-\"&s1inv[[#This Row],[Schedule 1c Reference Number]],sched1c[Change to Cost]))","v":{"$error":"#VALUE!"}},null,{"$f":"s1inv[[#This Row],[Cost at Beginning Period]]+s1inv[[#This Row],[Addition/\nDeduction]]","v":{"$error":"#VALUE!"}},{"$nulls":5},{"$f":"s1inv[[#This Row],[Cost at End of Period]]+s1inv[[#This Row],[Unrealized Appreciation]]-ABS(s1inv[[#This Row],[(Unrealized Depreciation)]])","v":{"$error":"#VALUE!"}},0,null,{"$f":"IFERROR((s1inv[[#This Row],[SBA Reported Value (B)]]+s1inv[[#This Row],[Cum. Cash Proceeds (D)]])/s1inv[[#This Row],[Total Cash Invested (A)]],\"\")","v":""},null,{"$f":"IFERROR((s1inv[[#This Row],[GAAP Reported Value (C)]]+s1inv[[#This Row],[Cum. Cash Proceeds (D)]])/s1inv[[#This Row],[Total Cash Invested (A)]],\"\")","v":""},null,{"$f":"IF(IFERROR(VLOOKUP(s1inv[[#This Row],[Portfolio Company Name]],s11cumperf[],4,FALSE),\"\")=\"\",\"\",(IFERROR(VLOOKUP(s1inv[[#This Row],[Portfolio Company Name]],s11cumperf[],4,FALSE),\"\")))","v":""}]
[" ",{"$f":"IF(IFERROR(VLOOKUP(s1inv[[#This Row],[Portfolio Company Name]],s11cumperf[],2,FALSE),\"\")=\"\",\"\",(IFERROR(VLOOKUP(s1inv[[#This Row],[Portfolio Company Name]],s11cumperf[],2,FALSE),\"\")))","v":""},{"$nulls":13},{"$f":"IF(s1inv[[#This Row],[Schedule 1c Reference Number]]=\"\",0,SUMIF(sched1c[Reference ID],s1inv[[#This Row],[Employer ID]]&\"-\"&s1inv[[#This Row],[Schedule 1c Reference Number]],sched1c[Change to Cost]))","v":{"$error":"#VALUE!"}},null,{"$f":"s1inv[[#This Row],[Cost at Beginning Period]]+s1inv[[#This Row],[Addition/\nDeduction]]","v":{"$error":"#VALUE!"}},{"$nulls":5},{"$f":"s1inv[[#This Row],[Cost at End of Period]]+s1inv[[#This Row],[Unrealized Appreciation]]-ABS(s1inv[[#This Row],[(Unrealized Depreciation)]])","v":{"$error":"#VALUE!"}},0,null,{"$f":"IFERROR((s1inv[[#This Row],[SBA Reported Value (B)]]+s1inv[[#This Row],[Cum. Cash Proceeds (D)]])/s1inv[[#This Row],[Total Cash Invested (A)]],\"\")","v":""},null,{"$f":"IFERROR((s1inv[[#This Row],[GAAP Reported Value (C)]]+s1inv[[#This Row],[Cum. Cash Proceeds (D)]])/s1inv[[#This Row],[Total Cash Invested (A)]],\"\")","v":""},null,{"$f":"IF(IFERROR(VLOOKUP(s1inv[[#This Row],[Portfolio Company Name]],s11cumperf[],4,FALSE),\"\")=\"\",\"\",(IFERROR(VLOOKUP(s1inv[[#This Row],[Portfolio Company Name]],s11cumperf[],4,FALSE),\"\")))","v":""}]
[" ",{"$f":"IF(IFERROR(VLOOKUP(s1inv[[#This Row],[Portfolio Company Name]],s11cumperf[],2,FALSE),\"\")=\"\",\"\",(IFERROR(VLOOKUP(s1inv[[#This Row],[Portfolio Company Name]],s11cumperf[],2,FALSE),\"\")))","v":""},{"$nulls":13},{"$f":"IF(s1inv[[#This Row],[Schedule 1c Reference Number]]=\"\",0,SUMIF(sched1c[Reference ID],s1inv[[#This Row],[Employer ID]]&\"-\"&s1inv[[#This Row],[Schedule 1c Reference Number]],sched1c[Change to Cost]))","v":{"$error":"#VALUE!"}},null,{"$f":"s1inv[[#This Row],[Cost at Beginning Period]]+s1inv[[#This Row],[Addition/\nDeduction]]","v":{"$error":"#VALUE!"}},{"$nulls":5},{"$f":"s1inv[[#This Row],[Cost at End of Period]]+s1inv[[#This Row],[Unrealized Appreciation]]-ABS(s1inv[[#This Row],[(Unrealized Depreciation)]])","v":{"$error":"#VALUE!"}},0,null,{"$f":"IFERROR((s1inv[[#This Row],[SBA Reported Value (B)]]+s1inv[[#This Row],[Cum. Cash Proceeds (D)]])/s1inv[[#This Row],[Total Cash Invested (A)]],\"\")","v":""},null,{"$f":"IFERROR((s1inv[[#This Row],[GAAP Reported Value (C)]]+s1inv[[#This Row],[Cum. Cash Proceeds (D)]])/s1inv[[#This Row],[Total Cash Invested (A)]],\"\")","v":""},null,{"$f":"IF(IFERROR(VLOOKUP(s1inv[[#This Row],[Portfolio Company Name]],s11cumperf[],4,FALSE),\"\")=\"\",\"\",(IFERROR(VLOOKUP(s1inv[[#This Row],[Portfolio Company Name]],s11cumperf[],4,FALSE),\"\")))","v":""}]
[" ",{"$f":"IF(IFERROR(VLOOKUP(s1inv[[#This Row],[Portfolio Company Name]],s11cumperf[],2,FALSE),\"\")=\"\",\"\",(IFERROR(VLOOKUP(s1inv[[#This Row],[Portfolio Company Name]],s11cumperf[],2,FALSE),\"\")))","v":""},{"$nulls":13},{"$f":"IF(s1inv[[#This Row],[Schedule 1c Reference Number]]=\"\",0,SUMIF(sched1c[Reference ID],s1inv[[#This Row],[Employer ID]]&\"-\"&s1inv[[#This Row],[Schedule 1c Reference Number]],sched1c[Change to Cost]))","v":{"$error":"#VALUE!"}},null,{"$f":"s1inv[[#This Row],[Cost at Beginning Period]]+s1inv[[#This Row],[Addition/\nDeduction]]","v":{"$error":"#VALUE!"}},{"$nulls":5},{"$f":"s1inv[[#This Row],[Cost at End of Period]]+s1inv[[#This Row],[Unrealized Appreciation]]-ABS(s1inv[[#This Row],[(Unrealized Depreciation)]])","v":{"$error":"#VALUE!"}},0,null,{"$f":"IFERROR((s1inv[[#This Row],[SBA Reported Value (B)]]+s1inv[[#This Row],[Cum. Cash Proceeds (D)]])/s1inv[[#This Row],[Total Cash Invested (A)]],\"\")","v":""},null,{"$f":"IFERROR((s1inv[[#This Row],[GAAP Reported Value (C)]]+s1inv[[#This Row],[Cum. Cash Proceeds (D)]])/s1inv[[#This Row],[Total Cash Invested (A)]],\"\")","v":""},null,{"$f":"IF(IFERROR(VLOOKUP(s1inv[[#This Row],[Portfolio Company Name]],s11cumperf[],4,FALSE),\"\")=\"\",\"\",(IFERROR(VLOOKUP(s1inv[[#This Row],[Portfolio Company Name]],s11cumperf[],4,FALSE),\"\")))","v":""}]
[" ",{"$f":"IF(IFERROR(VLOOKUP(s1inv[[#This Row],[Portfolio Company Name]],s11cumperf[],2,FALSE),\"\")=\"\",\"\",(IFERROR(VLOOKUP(s1inv[[#This Row],[Portfolio Company Name]],s11cumperf[],2,FALSE),\"\")))","v":""},{"$nulls":13},{"$f":"IF(s1inv[[#This Row],[Schedule 1c Reference Number]]=\"\",0,SUMIF(sched1c[Reference ID],s1inv[[#This Row],[Employer ID]]&\"-\"&s1inv[[#This Row],[Schedule 1c Reference Number]],sched1c[Change to Cost]))","v":{"$error":"#VALUE!"}},null,{"$f":"s1inv[[#This Row],[Cost at Beginning Period]]+s1inv[[#This Row],[Addition/\nDeduction]]","v":{"$error":"#VALUE!"}},{"$nulls":5},{"$f":"s1inv[[#This Row],[Cost at End of Period]]+s1inv[[#This Row],[Unrealized Appreciation]]-ABS(s1inv[[#This Row],[(Unrealized Depreciation)]])","v":{"$error":"#VALUE!"}},0,null,{"$f":"IFERROR((s1inv[[#This Row],[SBA Reported Value (B)]]+s1inv[[#This Row],[Cum. Cash Proceeds (D)]])/s1inv[[#This Row],[Total Cash Invested (A)]],\"\")","v":""},null,{"$f":"IFERROR((s1inv[[#This Row],[GAAP Reported Value (C)]]+s1inv[[#This Row],[Cum. Cash Proceeds (D)]])/s1inv[[#This Row],[Total Cash Invested (A)]],\"\")","v":""},null,{"$f":"IF(IFERROR(VLOOKUP(s1inv[[#This Row],[Portfolio Company Name]],s11cumperf[],4,FALSE),\"\")=\"\",\"\",(IFERROR(VLOOKUP(s1inv[[#This Row],[Portfolio Company Name]],s11cumperf[],4,FALSE),\"\")))","v":""}]

{"sheet":"S1AB","index":10,"n_rows":34,"n_cols":8,"rows_kept":34}
["SCHEDULE 1 A/B",null,"1A. SUMMARY OF LOANS AND INVESTMENTS",{"$nulls":4},{"$f":"'1-Cover'!$G$1","v":"OMB Approval No. 3245-0063"}]
[null,null,"1B. SMALLER ENTERPRISE FINANCINGS ",{"$nulls":4},{"$f":"'1-Cover'!$G$2","v":"Expiration Date MM/DD/YYYY"}]
[null,null,{"$f":"\"FOR \"&Number_of_Months&\" MONTH PERIOD ENDED: \"&TEXT(Form468Date,\"MM/DD/YYYY\")","v":"FOR  MONTH PERIOD ENDED: 01/00/1900"}]
[{"$f":"\"Name of License:  \"&sbicname","v":"Name of License:  "},{"$f":"S1Inv!B4","v":0},{"$nulls":5},{"$f":"\"License no.:  \"&TEXT(licenseno,\"00\\/00\\-0000\")","v":"License no.:  00/00-0000"}]
[]
[]
["1A. SUMMARY OF LOANS AND INVESTMENTS"]
["A","B","C","D","E","F","G","H"]
["Investment Category","Cost at Beginning of Period","Additions/ (Deductions)","Cost at End of Period","Unrealized Appreciated","Unrealized Depreciation","SBA Reported Value","GAAP Reported Value"]
["Total Loans ",{"$f":"S1Inv!N9","v":0},{"$f":"S1Inv!P9","v":0},{"$f":"S1Inv!R9","v":0},{"$f":"S1Inv!S9","v":0},{"$f":"S1Inv!T9","v":0},{"$f":"S1Inv!X9","v":0},{"$f":"S1Inv!Y9","v":0}]
["Total Debt Securities ",{"$f":"S1Inv!N10","v":0},{"$f":"S1Inv!P10","v":0},{"$f":"S1Inv!R10","v":0},{"$f":"S1Inv!S10","v":0},{"$f":"S1Inv!T10","v":0},{"$f":"S1Inv!X10","v":0},{"$f":"S1Inv!Y10","v":0}]
["Total Equity Securities ",{"$f":"S1Inv!N11","v":0},{"$f":"S1Inv!P11","v":0},{"$f":"S1Inv!R11","v":0},{"$f":"S1Inv!S11","v":0},{"$f":"S1Inv!T11","v":0},{"$f":"S1Inv!X11","v":0},{"$f":"S1Inv!Y11","v":0}]
["Totals",{"$f":"S1Inv!N12","v":0},{"$f":"S1Inv!P12","v":0},{"$f":"S1Inv!R12","v":0},{"$f":"S1Inv!S12","v":0},{"$f":"S1Inv!T12","v":0},{"$f":"S1Inv!X12","v":0},{"$f":"S1Inv!Y12","v":0}]
["Total Assets Acquired ",{"$f":"S1Inv!N13+S1Inv!N14","v":0},{"$f":"S1Inv!P13+S1Inv!P14","v":0},{"$f":"S1Inv!R13+S1Inv!R14","v":0},{"$f":"S1Inv!S13+S1Inv!S14","v":0},{"$f":"S1Inv!T13+S1Inv!T14","v":0},{"$f":"S1Inv!X13+S1Inv!X14","v":0},{"$f":"S1Inv!Y13+S1Inv!Y14","v":0}]
["Total Operating Concerns Acquired ",{"$f":"S1Inv!N15","v":0},{"$f":"S1Inv!P15","v":0},{"$f":"S1Inv!R15","v":0},{"$f":"S1Inv!S15","v":0},{"$f":"S1Inv!T15","v":0},{"$f":"S1Inv!X15","v":0},{"$f":"S1Inv!Y15","v":0}]
["Total Notes and Other Secs. Received ",{"$f":"S1Inv!N16","v":0},{"$f":"S1Inv!P16","v":0},{"$f":"S1Inv!R16","v":0},{"$f":"S1Inv!S16","v":0},{"$f":"S1Inv!T16","v":0},{"$f":"S1Inv!X16","v":0},{"$f":"S1Inv!Y16","v":0}]
["Equity Investments in Relenders/ReInvestors",{"$f":"S1Inv!N17","v":0},{"$f":"S1Inv!P17","v":0},{"$f":"S1Inv!R17","v":0},{"$f":"S1Inv!S17","v":0},{"$f":"S1Inv!T17","v":0},{"$f":"S1Inv!X17","v":0},{"$f":"S1Inv!Y17","v":0}]
["Total Loans and Investments",{"$f":"S1Inv!N18","v":0},{"$f":"S1Inv!P18","v":0},{"$f":"S1Inv!R18","v":0},{"$f":"S1Inv!S18","v":0},{"$f":"S1Inv!T18","v":0},{"$f":"S1Inv!X18","v":0},{"$f":"S1Inv!Y18","v":0}]
[]
[]
[]
[]
["1B. SMALLER ENTERPRISE FINANCINGS "]
[]
["1 Cumulative dollar amount of Smaller Enterprise Financings extended between April 25, 1994 and close of reporting fiscal year."]
[]
[]
["2 Cumulative dollar amount of all Financing extended between April 25, 1994 and close of reporting fiscal year."]
[]
[]
["3 Percentage of total Financings extended to Smaller Enterprises (line 1 divided by line 2)",{"$nulls":5},{"$f":"IFERROR(G25/G28,\"\")","v":""}]
[]
[]
["SEE 13 CFR 107.710 FOR PERCENTAGE OF TOTAL FINANCINGS WHICH MUST BE IN SMALLER ENTERPRISES."]

{"sheet":"S1C","index":11,"n_rows":67,"n_cols":9,"rows_kept":67}
["SCHEDULE 1C",{"$nulls":3},"SCHEDULE OF ADDITIONS AND DEDUCTIONS TO LOAN AND INVESTMENT COST",{"$nulls":3},{"$f":"'1-Cover'!$G$1","v":"OMB Approval No. 3245-0063"}]
[{"$nulls":4},{"$f":"\"FOR \"&Number_of_Months&\" MONTH PERIOD ENDED: \"&TEXT(Form468Date,\"MM/DD/YYYY\")","v":"FOR  MONTH PERIOD ENDED: 01/00/1900"},{"$nulls":3},{"$f":"'1-Cover'!$G$2","v":"Expiration Date MM/DD/YYYY"}]
[]
[{"$f":"\"Name of License:  \"&sbicname","v":"Name of License:  "},{"$f":"S1AB!B4","v":0},{"$nulls":6},{"$f":"\"License no.:  \"&TEXT(licenseno,\"00\\/00\\-0000\")","v":"License no.:  00/00-0000"}]
[{"$nulls":6},"Additions","Deductions","Net Changes"]
[{"$nulls":5},"Totals",{"$f":"SUMIF(sched1c[Change to Cost],\">0\")","v":0},{"$f":"SUMIF(sched1c[Change to Cost],\"<0\")","v":0},{"$f":"SUM(sched1c[Change to Cost])","v":0}]
[]
["A","B","C","D","E","F","G","H","I"]
["Portfolio Company Name","Employer ID","Reference Number","Reference ID","Transaction Date","Description of Addition / Deduction to Loan and Investment Cost","Addition/ Deduction Amount","Change to Cost","Notes"]
[null,{"$f":"IF(IFERROR(VLOOKUP(sched1c[[#This Row],[Portfolio Company Name]],s11cumperf[],2,FALSE),\"\")=\"\",\"\",(IFERROR(VLOOKUP(sched1c[[#This Row],[Portfolio Company Name]],s11cumperf[],2,FALSE),\"\")))","v":""},null,{"$f":"sched1c[[#This Row],[Employer ID]]&\"-\"&sched1c[[#This Row],[Reference Number]]","v":"-"},{"$nulls":3},{"$f":"IF(LEFT(sched1c[[#This Row],[Description of Addition / Deduction to Loan and Investment Cost]],1)=\"D\",-ABS(sched1c[[#This Row],[Addition/ Deduction Amount]]),ABS(sched1c[[#This Row],[Addition/ Deduction Amount]]))","v":0}]
[" ",{"$f":"IF(IFERROR(VLOOKUP(sched1c[[#This Row],[Portfolio Company Name]],s11cumperf[],2,FALSE),\"\")=\"\",\"\",(IFERROR(VLOOKUP(sched1c[[#This Row],[Portfolio Company Name]],s11cumperf[],2,FALSE),\"\")))","v":""},null,{"$f":"sched1c[[#This Row],[Employer ID]]&\"-\"&sched1c[[#This Row],[Reference Number]]","v":"-"},{"$nulls":3},{"$f":"IF(LEFT(sched1c[[#This Row],[Description of Addition / Deduction to Loan and Investment Cost]],1)=\"D\",-ABS(sched1c[[#This Row],[Addition/ Deduction Amount]]),ABS(sched1c[[#This Row],[Addition/ Deduction Amount]]))","v":0}]
[" ",{"$f":"IF(IFERROR(VLOOKUP(sched1c[[#This Row],[Portfolio Company Name]],s11cumperf[],2,FALSE),\"\")=\"\",\"\",(IFERROR(VLOOKUP(sched1c[[#This Row],[Portfolio Company Name]],s11cumperf[],2,FALSE),\"\")))","v":""},null,{"$f":"sched1c[[#This Row],[Employer ID]]&\"-\"&sched1c[[#This Row],[Reference Number]]","v":"-"},{"$nulls":3},{"$f":"IF(LEFT(sched1c[[#This Row],[Description of Addition / Deduction to Loan and Investment Cost]],1)=\"D\",-ABS(sched1c[[#This Row],[Addition/ Deduction Amount]]),ABS(sched1c[[#This Row],[Addition/ Deduction Amount]]))","v":0}]
[" ",{"$f":"IF(IFERROR(VLOOKUP(sched1c[[#This Row],[Portfolio Company Name]],s11cumperf[],2,FALSE),\"\")=\"\",\"\",(IFERROR(VLOOKUP(sched1c[[#This Row],[Portfolio Company Name]],s11cumperf[],2,FALSE),\"\")))","v":""},null,{"$f":"sched1c[[#This Row],[Employer ID]]&\"-\"&sched1c[[#This Row],[Reference Number]]","v":"-"},{"$nulls":3},{"$f":"IF(LEFT(sched1c[[#This Row],[Description of Addition / Deduction to Loan and Investment Cost]],1)=\"D\",-ABS(sched1c[[#This Row],[Addition/ Deduction Amount]]),ABS(sched1c[[#This Row],[Addition/ Deduction Amount]]))","v":0}]
[" ",{"$f":"IF(IFERROR(VLOOKUP(sched1c[[#This Row],[Portfolio Company Name]],s11cumperf[],2,FALSE),\"\")=\"\",\"\",(IFERROR(VLOOKUP(sched1c[[#This Row],[Portfolio Company Name]],s11cumperf[],2,FALSE),\"\")))","v":""},null,{"$f":"sched1c[[#This Row],[Employer ID]]&\"-\"&sched1c[[#This Row],[Reference Number]]","v":"-"},{"$nulls":3},{"$f":"IF(LEFT(sched1c[[#This Row],[Description of Addition / Deduction to Loan and Investment Cost]],1)=\"D\",-ABS(sched1c[[#This Row],[Addition/ Deduction Amount]]),ABS(sched1c[[#This Row],[Addition/ Deduction Amount]]))","v":0}]
[" ",{"$f":"IF(IFERROR(VLOOKUP(sched1c[[#This Row],[Portfolio Company Name]],s11cumperf[],2,FALSE),\"\")=\"\",\"\",(IFERROR(VLOOKUP(sched1c[[#This Row],[Portfolio Company Name]],s11cumperf[],2,FALSE),\"\")))","v":""},null,{"$f":"sched1c[[#This Row],[Employer ID]]&\"-\"&sched1c[[#This Row],[Reference Number]]","v":"-"},{"$nulls":3},{"$f":"IF(LEFT(sched1c[[#This Row],[Description of Addition / Deduction to Loan and Investment Cost]],1)=\"D\",-ABS(sched1c[[#This Row],[Addition/ Deduction Amount]]),ABS(sched1c[[#This Row],[Addition/ Deduction Amount]]))","v":0}]
[" ",{"$f":"IF(IFERROR(VLOOKUP(sched1c[[#This Row],[Portfolio Company Name]],s11cumperf[],2,FALSE),\"\")=\"\",\"\",(IFERROR(VLOOKUP(sched1c[[#This Row],[Portfolio Company Name]],s11cumperf[],2,FALSE),\"\")))","v":""},null,{"$f":"sched1c[[#This Row],[Employer ID]]&\"-\"&sched1c[[#This Row],[Reference Number]]","v":"-"},{"$nulls":3},{"$f":"IF(LEFT(sched1c[[#This Row],[Description of Addition / Deduction to Loan and Investment Cost]],1)=\"D\",-ABS(sched1c[[#This Row],[Addition/ Deduction Amount]]),ABS(sched1c[[#This Row],[Addition/ Deduction Amount]]))","v":0}]
[" ",{"$f":"IF(IFERROR(VLOOKUP(sched1c[[#This Row],[Portfolio Company Name]],s11cumperf[],2,FALSE),\"\")=\"\",\"\",(IFERROR(VLOOKUP(sched1c[[#This Row],[Portfolio Company Name]],s11cumperf[],2,FALSE),\"\")))","v":""},null,{"$f":"sched1c[[#This Row],[Employer ID]]&\"-\"&sched1c[[#This Row],[Reference Number]]","v":"-"},{"$nulls":3},{"$f":"IF(LEFT(sched1c[[#This Row],[Description of Addition / Deduction to Loan and Investment Cost]],1)=\"D\",-ABS(sched1c[[#This Row],[Addition/ Deduction Amount]]),ABS(sched1c[[#This Row],[Addition/ Deduction Amount]]))","v":0}]
[" ",{"$f":"IF(IFERROR(VLOOKUP(sched1c[[#This Row],[Portfolio Company Name]],s11cumperf[],2,FALSE),\"\")=\"\",\"\",(IFERROR(VLOOKUP(sched1c[[#This Row],[Portfolio Company Name]],s11cumperf[],2,FALSE),\"\")))","v":""},null,{"$f":"sched1c[[#This Row],[Employer ID]]&\"-\"&sched1c[[#This Row],[Reference Number]]","v":"-"},{"$nulls":3},{"$f":"IF(LEFT(sched1c[[#This Row],[Description of Addition / Deduction to Loan and Investment Cost]],1)=\"D\",-ABS(sched1c[[#This Row],[Addition/ Deduction Amount]]),ABS(sched1c[[#This Row],[Addition/ Deduction Amount]]))","v":0}]
[" ",{"$f":"IF(IFERROR(VLOOKUP(sched1c[[#This Row],[Portfolio Company Name]],s11cumperf[],2,FALSE),\"\")=\"\",\"\",(IFERROR(VLOOKUP(sched1c[[#This Row],[Portfolio Company Name]],s11cumperf[],2,FALSE),\"\")))","v":""},null,{"$f":"sched1c[[#This Row],[Employer ID]]&\"-\"&sched1c[[#This Row],[Reference Number]]","v":"-"},{"$nulls":3},{"$f":"IF(LEFT(sched1c[[#This Row],[Description of Addition / Deduction to Loan and Investment Cost]],1)=\"D\",-ABS(sched1c[[#This Row],[Addition/ Deduction Amount]]),ABS(sched1c[[#This Row],[Addition/ Deduction Amount]]))","v":0}]
[" ",{"$f":"IF(IFERROR(VLOOKUP(sched1c[[#This Row],[Portfolio Company Name]],s11cumperf[],2,FALSE),\"\")=\"\",\"\",(IFERROR(VLOOKUP(sched1c[[#This Row],[Portfolio Company Name]],s11cumperf[],2,FALSE),\"\")))","v":""},null,{"$f":"sched1c[[#This Row],[Employer ID]]&\"-\"&sched1c[[#This Row],[Reference Number]]","v":"-"},{"$nulls":3},{"$f":"IF(LEFT(sched1c[[#This Row],[Description of Addition / Deduction to Loan and Investment Cost]],1)=\"D\",-ABS(sched1c[[#This Row],[Addition/ Deduction Amount]]),ABS(sched1c[[#This Row],[Addition/ Deduction Amount]]))","v":0}]
[" ",{"$f":"IF(IFERROR(VLOOKUP(sched1c[[#This Row],[Portfolio Company Name]],s11cumperf[],2,FALSE),\"\")=\"\",\"\",(IFERROR(VLOOKUP(sched1c[[#This Row],[Portfolio Company Name]],s11cumperf[],2,FALSE),\"\")))","v":""},null,{"$f":"sched1c[[#This Row],[Employer ID]]&\"-\"&sched1c[[#This Row],[Reference Number]]","v":"-"},{"$nulls":3},{"$f":"IF(LEFT(sched1c[[#This Row],[Description of Addition / Deduction to Loan and Investment Cost]],1)=\"D\",-ABS(sched1c[[#This Row],[Addition/ Deduction Amount]]),ABS(sched1c[[#This Row],[Addition/ Deduction Amount]]))","v":0}]
[" ",{"$f":"IF(IFERROR(VLOOKUP(sched1c[[#This Row],[Portfolio Company Name]],s11cumperf[],2,FALSE),\"\")=\"\",\"\",(IFERROR(VLOOKUP(sched1c[[#This Row],[Portfolio Company Name]],s11cumperf[],2,FALSE),\"\")))","v":""},null,{"$f":"sched1c[[#This Row],[Employer ID]]&\"-\"&sched1c[[#This Row],[Reference Number]]","v":"-"},{"$nulls":3},{"$f":"IF(LEFT(sched1c[[#This Row],[Description of Addition / Deduction to Loan and Investment Cost]],1)=\"D\",-ABS(sched1c[[#This Row],[Addition/ Deduction Amount]]),ABS(sched1c[[#This Row],[Addition/ Deduction Amount]]))","v":0}]
[" ",{"$f":"IF(IFERROR(VLOOKUP(sched1c[[#This Row],[Portfolio Company Name]],s11cumperf[],2,FALSE),\"\")=\"\",\"\",(IFERROR(VLOOKUP(sched1c[[#This Row],[Portfolio Company Name]],s11cumperf[],2,FALSE),\"\")))","v":""},null,{"$f":"sched1c[[#This Row],[Employer ID]]&\"-\"&sched1c[[#This Row],[Reference Number]]","v":"-"},{"$nulls":3},{"$f":"IF(LEFT(sched1c[[#This Row],[Description of Addition / Deduction to Loan and Investment Cost]],1)=\"D\",-ABS(sched1c[[#This Row],[Addition/ Deduction Amount]]),ABS(sched1c[[#This Row],[Addition/ Deduction Amount]]))","v":0}]
[" ",{"$f":"IF(IFERROR(VLOOKUP(sched1c[[#This Row],[Portfolio Company Name]],s11cumperf[],2,FALSE),\"\")=\"\",\"\",(IFERROR(VLOOKUP(sched1c[[#This Row],[Portfolio Company Name]],s11cumperf[],2,FALSE),\"\")))","v":""},null,{"$f":"sched1c[[#This Row],[Employer ID]]&\"-\"&sched1c[[#This Row],[Reference Number]]","v":"-"},{"$nulls":3},{"$f":"IF(LEFT(sched1c[[#This Row],[Description of Addition / Deduction to Loan and Investment Cost]],1)=\"D\",-ABS(sched1c[[#This Row],[Addition/ Deduction Amount]]),ABS(sched1c[[#This Row],[Addition/ Deduction Amount]]))","v":0}]
[" ",{"$f":"IF(IFERROR(VLOOKUP(sched1c[[#This Row],[Portfolio Company Name]],s11cumperf[],2,FALSE),\"\")=\"\",\"\",(IFERROR(VLOOKUP(sched1c[[#This Row],[Portfolio Company Name]],s11cumperf[],2,FALSE),\"\")))","v":""},null,{"$f":"sched1c[[#This Row],[Employer ID]]&\"-\"&sched1c[[#This Row],[Reference Number]]","v":"-"},{"$nulls":3},{"$f":"IF(LEFT(sched1c[[#This Row],[Description of Addition / Deduction to Loan and Investment Cost]],1)=\"D\",-ABS(sched1c[[#This Row],[Addition/ Deduction Amount]]),ABS(sched1c[[#This Row],[Addition/ Deduction Amount]]))","v":0}]
[" ",{"$f":"IF(IFERROR(VLOOKUP(sched1c[[#This Row],[Portfolio Company Name]],s11cumperf[],2,FALSE),\"\")=\"\",\"\",(IFERROR(VLOOKUP(sched1c[[#This Row],[Portfolio Company Name]],s11cumperf[],2,FALSE),\"\")))","v":""},null,{"$f":"sched1c[[#This Row],[Employer ID]]&\"-\"&sched1c[[#This Row],[Reference Number]]","v":"-"},{"$nulls":3},{"$f":"IF(LEFT(sched1c[[#This Row],[Description of Addition / Deduction to Loan and Investment Cost]],1)=\"D\",-ABS(sched1c[[#This Row],[Addition/ Deduction Amount]]),ABS(sched1c[[#This Row],[Addition/ Deduction Amount]]))","v":0}]
[" ",{"$f":"IF(IFERROR(VLOOKUP(sched1c[[#This Row],[Portfolio Company Name]],s11cumperf[],2,FALSE),\"\")=\"\",\"\",(IFERROR(VLOOKUP(sched1c[[#This Row],[Portfolio Company Name]],s11cumperf[],2,FALSE),\"\")))","v":""},null,{"$f":"sched1c[[#This Row],[Employer ID]]&\"-\"&sched1c[[#This Row],[Reference Number]]","v":"-"},{"$nulls":3},{"$f":"IF(LEFT(sched1c[[#This Row],[Description of Addition / Deduction to Loan and Investment Cost]],1)=\"D\",-ABS(sched1c[[#This Row],[Addition/ Deduction Amount]]),ABS(sched1c[[#This Row],[Addition/ Deduction Amount]]))","v":0}]
[" ",{"$f":"IF(IFERROR(VLOOKUP(sched1c[[#This Row],[Portfolio Company Name]],s11cumperf[],2,FALSE),\"\")=\"\",\"\",(IFERROR(VLOOKUP(sched1c[[#This Row],[Portfolio Company Name]],s11cumperf[],2,FALSE),\"\")))","v":""},null,{"$f":"sched1c[[#This Row],[Employer ID]]&\"-\"&sched1c[[#This Row],[Reference Number]]","v":"-"},{"$nulls":3},{"$f":"IF(LEFT(sched1c[[#This Row],[Description of Addition / Deduction to Loan and Investment Cost]],1)=\"D\",-ABS(sched1c[[#This Row],[Addition/ Deduction Amount]]),ABS(sched1c[[#This Row],[Addition/ Deduction Amount]]))","v":0}]
[" ",{"$f":"IF(IFERROR(VLOOKUP(sched1c[[#This Row],[Portfolio Company Name]],s11cumperf[],2,FALSE),\"\")=\"\",\"\",(IFERROR(VLOOKUP(sched1c[[#This Row],[Portfolio Company Name]],s11cumperf[],2,FALSE),\"\")))","v":""},null,{"$f":"sched1c[[#This Row],[Employer ID]]&\"-\"&sched1c[[#This Row],[Reference Number]]","v":"-"},{"$nulls":3},{"$f":"IF(LEFT(sched1c[[#This Row],[Description of Addition / Deduction to Loan and Investment Cost]],1)=\"D\",-ABS(sched1c[[#This Row],[Addition/ Deduction Amount]]),ABS(sched1c[[#This Row],[Addition/ Deduction Amount]]))","v":0}]
[" ",{"$f":"IF(IFERROR(VLOOKUP(sched1c[[#This Row],[Portfolio Company Name]],s11cumperf[],2,FALSE),\"\")=\"\",\"\",(IFERROR(VLOOKUP(sched1c[[#This Row],[Portfolio Company Name]],s11cumperf[],2,FALSE),\"\")))","v":""},null,{"$f":"sched1c[[#This Row],[Employer ID]]&\"-\"&sched1c[[#This Row],[Reference Number]]","v":"-"},{"$nulls":3},{"$f":"IF(LEFT(sched1c[[#This Row],[Description of Addition / Deduction to Loan and Investment Cost]],1)=\"D\",-ABS(sched1c[[#This Row],[Addition/ Deduction Amount]]),ABS(sched1c[[#This Row],[Addition/ Deduction Amount]]))","v":0}]
[" ",{"$f":"IF(IFERROR(VLOOKUP(sched1c[[#This Row],[Portfolio Company Name]],s11cumperf[],2,FALSE),\"\")=\"\",\"\",(IFERROR(VLOOKUP(sched1c[[#This Row],[Portfolio Company Name]],s11cumperf[],2,FALSE),\"\")))","v":""},null,{"$f":"sched1c[[#This Row],[Employer ID]]&\"-\"&sched1c[[#This Row],[Reference Number]]","v":"-"},{"$nulls":3},{"$f":"IF(LEFT(sched1c[[#This Row],[Description of Addition / Deduction to Loan and Investment Cost]],1)=\"D\",-ABS(sched1c[[#This Row],[Addition/ Deduction Amount]]),ABS(sched1c[[#This Row],[Addition/ Deduction Amount]]))","v":0}]
[" ",{"$f":"IF(IFERROR(VLOOKUP(sched1c[[#This Row],[Portfolio Company Name]],s11cumperf[],2,FALSE),\"\")=\"\",\"\",(IFERROR(VLOOKUP(sched1c[[#This Row],[Portfolio Company Name]],s11cumperf[],2,FALSE),\"\")))","v":""},null,{"$f":"sched1c[[#This Row],[Employer ID]]&\"-\"&sched1c[[#This Row],[Reference Number]]","v":"-"},{"$nulls":3},{"$f":"IF(LEFT(sched1c[[#This Row],[Description of Addition / Deduction to Loan and Investment Cost]],1)=\"D\",-ABS(sched1c[[#This Row],[Addition/ Deduction Amount]]),ABS(sched1c[[#This Row],[Addition/ Deduction Amount]]))","v":0}]
[" ",{"$f":"IF(IFERROR(VLOOKUP(sched1c[[#This Row],[Portfolio Company Name]],s11cumperf[],2,FALSE),\"\")=\"\",\"\",(IFERROR(VLOOKUP(sched1c[[#This Row],[Portfolio Company Name]],s11cumperf[],2,FALSE),\"\")))","v":""},null,{"$f":"sched1c[[#This Row],[Employer ID]]&\"-\"&sched1c[[#This Row],[Reference Number]]","v":"-"},{"$nulls":3},{"$f":"IF(LEFT(sched1c[[#This Row],[Description of Addition / Deduction to Loan and Investment Cost]],1)=\"D\",-ABS(sched1c[[#This Row],[Addition/ Deduction Amount]]),ABS(sched1c[[#This Row],[Addition/ Deduction Amount]]))","v":0}]
[" ",{"$f":"IF(IFERROR(VLOOKUP(sched1c[[#This Row],[Portfolio Company Name]],s11cumperf[],2,FALSE),\"\")=\"\",\"\",(IFERROR(VLOOKUP(sched1c[[#This Row],[Portfolio Company Name]],s11cumperf[],2,FALSE),\"\")))","v":""},null,{"$f":"sched1c[[#This Row],[Employer ID]]&\"-\"&sched1c[[#This Row],[Reference Number]]","v":"-"},{"$nulls":3},{"$f":"IF(LEFT(sched1c[[#This Row],[Description of Addition / Deduction to Loan and Investment Cost]],1)=\"D\",-ABS(sched1c[[#This Row],[Addition/ Deduction Amount]]),ABS(sched1c[[#This Row],[Addition/ Deduction Amount]]))","v":0}]
[" ",{"$f":"IF(IFERROR(VLOOKUP(sched1c[[#This Row],[Portfolio Company Name]],s11cumperf[],2,FALSE),\"\")=\"\",\"\",(IFERROR(VLOOKUP(sched1c[[#This Row],[Portfolio Company Name]],s11cumperf[],2,FALSE),\"\")))","v":""},null,{"$f":"sched1c[[#This Row],[Employer ID]]&\"-\"&sched1c[[#This Row],[Reference Number]]","v":"-"},{"$nulls":3},{"$f":"IF(LEFT(sched1c[[#This Row],[Description of Addition / Deduction to Loan and Investment Cost]],1)=\"D\",-ABS(sched1c[[#This Row],[Addition/ Deduction Amount]]),ABS(sched1c[[#This Row],[Addition/ Deduction Amount]]))","v":0}]
[" ",{"$f":"IF(IFERROR(VLOOKUP(sched1c[[#This Row],[Portfolio Company Name]],s11cumperf[],2,FALSE),\"\")=\"\",\"\",(IFERROR(VLOOKUP(sched1c[[#This Row],[Portfolio Company Name]],s11cumperf[],2,FALSE),\"\")))","v":""},null,{"$f":"sched1c[[#This Row],[Employer ID]]&\"-\"&sched1c[[#This Row],[Reference Number]]","v":"-"},{"$nulls":3},{"$f":"IF(LEFT(sched1c[[#This Row],[Description of Addition / Deduction to Loan and Investment Cost]],1)=\"D\",-ABS(sched1c[[#This Row],[Addition/ Deduction Amount]]),ABS(sched1c[[#This Row],[Addition/ Deduction Amount]]))","v":0}]
[" ",{"$f":"IF(IFERROR(VLOOKUP(sched1c[[#This Row],[Portfolio Company Name]],s11cumperf[],2,FALSE),\"\")=\"\",\"\",(IFERROR(VLOOKUP(sched1c[[#This Row],[Portfolio Company Name]],s11cumperf[],2,FALSE),\"\")))","v":""},null,{"$f":"sched1c[[#This Row],[Employer ID]]&\"-\"&sched1c[[#This Row],[Reference Number]]","v":"-"},{"$nulls":3},{"$f":"IF(LEFT(sched1c[[#This Row],[Description of Addition / Deduction to Loan and Investment Cost]],1)=\"D\",-ABS(sched1c[[#This Row],[Addition/ Deduction Amount]]),ABS(sched1c[[#This Row],[Addition/ Deduction Amount]]))","v":0}]
[" ",{"$f":"IF(IFERROR(VLOOKUP(sched1c[[#This Row],[Portfolio Company Name]],s11cumperf[],2,FALSE),\"\")=\"\",\"\",(IFERROR(VLOOKUP(sched1c[[#This Row],[Portfolio Company Name]],s11cumperf[],2,FALSE),\"\")))","v":""},null,{"$f":"sched1c[[#This Row],[Employer ID]]&\"-\"&sched1c[[#This Row],[Reference Number]]","v":"-"},{"$nulls":3},{"$f":"IF(LEFT(sched1c[[#This Row],[Description of Addition / Deduction to Loan and Investment Cost]],1)=\"D\",-ABS(sched1c[[#This Row],[Addition/ Deduction Amount]]),ABS(sched1c[[#This Row],[Addition/ Deduction Amount]]))","v":0}]
[" ",{"$f":"IF(IFERROR(VLOOKUP(sched1c[[#This Row],[Portfolio Company Name]],s11cumperf[],2,FALSE),\"\")=\"\",\"\",(IFERROR(VLOOKUP(sched1c[[#This Row],[Portfolio Company Name]],s11cumperf[],2,FALSE),\"\")))","v":""},null,{"$f":"sched1c[[#This Row],[Employer ID]]&\"-\"&sched1c[[#This Row],[Reference Number]]","v":"-"},{"$nulls":3},{"$f":"IF(LEFT(sched1c[[#This Row],[Description of Addition / Deduction to Loan and Investment Cost]],1)=\"D\",-ABS(sched1c[[#This Row],[Addition/ Deduction Amount]]),ABS(sched1c[[#This Row],[Addition/ Deduction Amount]]))","v":0}]
[" ",{"$f":"IF(IFERROR(VLOOKUP(sched1c[[#This Row],[Portfolio Company Name]],s11cumperf[],2,FALSE),\"\")=\"\",\"\",(IFERROR(VLOOKUP(sched1c[[#This Row],[Portfolio Company Name]],s11cumperf[],2,FALSE),\"\")))","v":""},null,{"$f":"sched1c[[#This Row],[Employer ID]]&\"-\"&sched1c[[#This Row],[Reference Number]]","v":"-"},{"$nulls":3},{"$f":"IF(LEFT(sched1c[[#This Row],[Description of Addition / Deduction to Loan and Investment Cost]],1)=\"D\",-ABS(sched1c[[#This Row],[Addition/ Deduction Amount]]),ABS(sched1c[[#This Row],[Addition/ Deduction Amount]]))","v":0}]
[" ",{"$f":"IF(IFERROR(VLOOKUP(sched1c[[#This Row],[Portfolio Company Name]],s11cumperf[],2,FALSE),\"\")=\"\",\"\",(IFERROR(VLOOKUP(sched1c[[#This Row],[Portfolio Company Name]],s11cumperf[],2,FALSE),\"\")))","v":""},null,{"$f":"sched1c[[#This Row],[Employer ID]]&\"-\"&sched1c[[#This Row],[Reference Number]]","v":"-"},{"$nulls":3},{"$f":"IF(LEFT(sched1c[[#This Row],[Description of Addition / Deduction to Loan and Investment Cost]],1)=\"D\",-ABS(sched1c[[#This Row],[Addition/ Deduction Amount]]),ABS(sched1c[[#This Row],[Addition/ Deduction Amount]]))","v":0}]
[" ",{"$f":"IF(IFERROR(VLOOKUP(sched1c[[#This Row],[Portfolio Company Name]],s11cumperf[],2,FALSE),\"\")=\"\",\"\",(IFERROR(VLOOKUP(sched1c[[#This Row],[Portfolio Company Name]],s11cumperf[],2,FALSE),\"\")))","v":""},null,{"$f":"sched1c[[#This Row],[Employer ID]]&\"-\"&sched1c[[#This Row],[Reference Number]]","v":"-"},{"$nulls":3},{"$f":"IF(LEFT(sched1c[[#This Row],[Description of Addition / Deduction to Loan and Investment Cost]],1)=\"D\",-ABS(sched1c[[#This Row],[Addition/ Deduction Amount]]),ABS(sched1c[[#This Row],[Addition/ Deduction Amount]]))","v":0}]
[" ",{"$f":"IF(IFERROR(VLOOKUP(sched1c[[#This Row],[Portfolio Company Name]],s11cumperf[],2,FALSE),\"\")=\"\",\"\",(IFERROR(VLOOKUP(sched1c[[#This Row],[Portfolio Company Name]],s11cumperf[],2,FALSE),\"\")))","v":""},null,{"$f":"sched1c[[#This Row],[Employer ID]]&\"-\"&sched1c[[#This Row],[Reference Number]]","v":"-"},{"$nulls":3},{"$f":"IF(LEFT(sched1c[[#This Row],[Description of Addition / Deduction to Loan and Investment Cost]],1)=\"D\",-ABS(sched1c[[#This Row],[Addition/ Deduction Amount]]),ABS(sched1c[[#This Row],[Addition/ Deduction Amount]]))","v":0}]
[" ",{"$f":"IF(IFERROR(VLOOKUP(sched1c[[#This Row],[Portfolio Company Name]],s11cumperf[],2,FALSE),\"\")=\"\",\"\",(IFERROR(VLOOKUP(sched1c[[#This Row],[Portfolio Company Name]],s11cumperf[],2,FALSE),\"\")))","v":""},null,{"$f":"sched1c[[#This Row],[Employer ID]]&\"-\"&sched1c[[#This Row],[Reference Number]]","v":"-"},{"$nulls":3},{"$f":"IF(LEFT(sched1c[[#This Row],[Description of Addition / Deduction to Loan and Investment Cost]],1)=\"D\",-ABS(sched1c[[#This Row],[Addition/ Deduction Amount]]),ABS(sched1c[[#This Row],[Addition/ Deduction Amount]]))","v":0}]
[" ",{"$f":"IF(IFERROR(VLOOKUP(sched1c[[#This Row],[Portfolio Company Name]],s11cumperf[],2,FALSE),\"\")=\"\",\"\",(IFERROR(VLOOKUP(sched1c[[#This Row],[Portfolio Company Name]],s11cumperf[],2,FALSE),\"\")))","v":""},null,{"$f":"sched1c[[#This Row],[Employer ID]]&\"-\"&sched1c[[#This Row],[Reference Number]]","v":"-"},{"$nulls":3},{"$f":"IF(LEFT(sched1c[[#This Row],[Description of Addition / Deduction to Loan and Investment Cost]],1)=\"D\",-ABS(sched1c[[#This Row],[Addition/ Deduction Amount]]),ABS(sched1c[[#This Row],[Addition/ Deduction Amount]]))","v":0}]
[" ",{"$f":"IF(IFERROR(VLOOKUP(sched1c[[#This Row],[Portfolio Company Name]],s11cumperf[],2,FALSE),\"\")=\"\",\"\",(IFERROR(VLOOKUP(sched1c[[#This Row],[Portfolio Company Name]],s11cumperf[],2,FALSE),\"\")))","v":""},null,{"$f":"sched1c[[#This Row],[Employer ID]]&\"-\"&sched1c[[#This Row],[Reference Number]]","v":"-"},{"$nulls":3},{"$f":"IF(LEFT(sched1c[[#This Row],[Description of Addition / Deduction to Loan and Investment Cost]],1)=\"D\",-ABS(sched1c[[#This Row],[Addition/ Deduction Amount]]),ABS(sched1c[[#This Row],[Addition/ Deduction Amount]]))","v":0}]
[" ",{"$f":"IF(IFERROR(VLOOKUP(sched1c[[#This Row],[Portfolio Company Name]],s11cumperf[],2,FALSE),\"\")=\"\",\"\",(IFERROR(VLOOKUP(sched1c[[#This Row],[Portfolio Company Name]],s11cumperf[],2,FALSE),\"\")))","v":""},null,{"$f":"sched1c[[#This Row],[Employer ID]]&\"-\"&sched1c[[#This Row],[Reference Number]]","v":"-"},{"$nulls":3},{"$f":"IF(LEFT(sched1c[[#This Row],[Description of Addition / Deduction to Loan and Investment Cost]],1)=\"D\",-ABS(sched1c[[#This Row],[Addition/ Deduction Amount]]),ABS(sched1c[[#This Row],[Addition/ Deduction Amount]]))","v":0}]
[" ",{"$f":"IF(IFERROR(VLOOKUP(sched1c[[#This Row],[Portfolio Company Name]],s11cumperf[],2,FALSE),\"\")=\"\",\"\",(IFERROR(VLOOKUP(sched1c[[#This Row],[Portfolio Company Name]],s11cumperf[],2,FALSE),\"\")))","v":""},null,{"$f":"sched1c[[#This Row],[Employer ID]]&\"-\"&sched1c[[#This Row],[Reference Number]]","v":"-"},{"$nulls":3},{"$f":"IF(LEFT(sched1c[[#This Row],[Description of Addition / Deduction to Loan and Investment Cost]],1)=\"D\",-ABS(sched1c[[#This Row],[Addition/ Deduction Amount]]),ABS(sched1c[[#This Row],[Addition/ Deduction Amount]]))","v":0}]
[" ",{"$f":"IF(IFERROR(VLOOKUP(sched1c[[#This Row],[Portfolio Company Name]],s11cumperf[],2,FALSE),\"\")=\"\",\"\",(IFERROR(VLOOKUP(sched1c[[#This Row],[Portfolio Company Name]],s11cumperf[],2,FALSE),\"\")))","v":""},null,{"$f":"sched1c[[#This Row],[Employer ID]]&\"-\"&sched1c[[#This Row],[Reference Number]]","v":"-"},{"$nulls":3},{"$f":"IF(LEFT(sched1c[[#This Row],[Description of Addition / Deduction to Loan and Investment Cost]],1)=\"D\",-ABS(sched1c[[#This Row],[Addition/ Deduction Amount]]),ABS(sched1c[[#This Row],[Addition/ Deduction Amount]]))","v":0}]
[" ",{"$f":"IF(IFERROR(VLOOKUP(sched1c[[#This Row],[Portfolio Company Name]],s11cumperf[],2,FALSE),\"\")=\"\",\"\",(IFERROR(VLOOKUP(sched1c[[#This Row],[Portfolio Company Name]],s11cumperf[],2,FALSE),\"\")))","v":""},null,{"$f":"sched1c[[#This Row],[Employer ID]]&\"-\"&sched1c[[#This Row],[Reference Number]]","v":"-"},{"$nulls":3},{"$f":"IF(LEFT(sched1c[[#This Row],[Description of Addition / Deduction to Loan and Investment Cost]],1)=\"D\",-ABS(sched1c[[#This Row],[Addition/ Deduction Amount]]),ABS(sched1c[[#This Row],[Addition/ Deduction Amount]]))","v":0}]
[" ",{"$f":"IF(IFERROR(VLOOKUP(sched1c[[#This Row],[Portfolio Company Name]],s11cumperf[],2,FALSE),\"\")=\"\",\"\",(IFERROR(VLOOKUP(sched1c[[#This Row],[Portfolio Company Name]],s11cumperf[],2,FALSE),\"\")))","v":""},null,{"$f":"sched1c[[#This Row],[Employer ID]]&\"-\"&sched1c[[#This Row],[Reference Number]]","v":"-"},{"$nulls":3},{"$f":"IF(LEFT(sched1c[[#This Row],[Description of Addition / Deduction to Loan and Investment Cost]],1)=\"D\",-ABS(sched1c[[#This Row],[Addition/ Deduction Amount]]),ABS(sched1c[[#This Row],[Addition/ Deduction Amount]]))","v":0}]
[" ",{"$f":"IF(IFERROR(VLOOKUP(sched1c[[#This Row],[Portfolio Company Name]],s11cumperf[],2,FALSE),\"\")=\"\",\"\",(IFERROR(VLOOKUP(sched1c[[#This Row],[Portfolio Company Name]],s11cumperf[],2,FALSE),\"\")))","v":""},null,{"$f":"sched1c[[#This Row],[Employer ID]]&\"-\"&sched1c[[#This Row],[Reference Number]]","v":"-"},{"$nulls":3},{"$f":"IF(LEFT(sched1c[[#This Row],[Description of Addition / Deduction to Loan and Investment Cost]],1)=\"D\",-ABS(sched1c[[#This Row],[Addition/ Deduction Amount]]),ABS(sched1c[[#This Row],[Addition/ Deduction Amount]]))","v":0}]
[" ",{"$f":"IF(IFERROR(VLOOKUP(sched1c[[#This Row],[Portfolio Company Name]],s11cumperf[],2,FALSE),\"\")=\"\",\"\",(IFERROR(VLOOKUP(sched1c[[#This Row],[Portfolio Company Name]],s11cumperf[],2,FALSE),\"\")))","v":""},null,{"$f":"sched1c[[#This Row],[Employer ID]]&\"-\"&sched1c[[#This Row],[Reference Number]]","v":"-"},{"$nulls":3},{"$f":"IF(LEFT(sched1c[[#This Row],[Description of Addition / Deduction to Loan and Investment Cost]],1)=\"D\",-ABS(sched1c[[#This Row],[Addition/ Deduction Amount]]),ABS(sched1c[[#This Row],[Addition/ Deduction Amount]]))","v":0}]
[" ",{"$f":"IF(IFERROR(VLOOKUP(sched1c[[#This Row],[Portfolio Company Name]],s11cumperf[],2,FALSE),\"\")=\"\",\"\",(IFERROR(VLOOKUP(sched1c[[#This Row],[Portfolio Company Name]],s11cumperf[],2,FALSE),\"\")))","v":""},null,{"$f":"sched1c[[#This Row],[Employer ID]]&\"-\"&sched1c[[#This Row],[Reference Number]]","v":"-"},{"$nulls":3},{"$f":"IF(LEFT(sched1c[[#This Row],[Description of Addition / Deduction to Loan and Investment Cost]],1)=\"D\",-ABS(sched1c[[#This Row],[Addition/ Deduction Amount]]),ABS(sched1c[[#This Row],[Addition/ Deduction Amount]]))","v":0}]
[" ",{"$f":"IF(IFERROR(VLOOKUP(sched1c[[#This Row],[Portfolio Company Name]],s11cumperf[],2,FALSE),\"\")=\"\",\"\",(IFERROR(VLOOKUP(sched1c[[#This Row],[Portfolio Company Name]],s11cumperf[],2,FALSE),\"\")))","v":""},null,{"$f":"sched1c[[#This Row],[Employer ID]]&\"-\"&sched1c[[#This Row],[Reference Number]]","v":"-"},{"$nulls":3},{"$f":"IF(LEFT(sched1c[[#This Row],[Description of Addition / Deduction to Loan and Investment Cost]],1)=\"D\",-ABS(sched1c[[#This Row],[Addition/ Deduction Amount]]),ABS(sched1c[[#This Row],[Addition/ Deduction Amount]]))","v":0}]
[" ",{"$f":"IF(IFERROR(VLOOKUP(sched1c[[#This Row],[Portfolio Company Name]],s11cumperf[],2,FALSE),\"\")=\"\",\"\",(IFERROR(VLOOKUP(sched1c[[#This Row],[Portfolio Company Name]],s11cumperf[],2,FALSE),\"\")))","v":""},null,{"$f":"sched1c[[#This Row],[Employer ID]]&\"-\"&sched1c[[#This Row],[Reference Number]]","v":"-"},{"$nulls":3},{"$f":"IF(LEFT(sched1c[[#This Row],[Description of Addition / Deduction to Loan and Investment Cost]],1)=\"D\",-ABS(sched1c[[#This Row],[Addition/ Deduction Amount]]),ABS(sched1c[[#This Row],[Addition/ Deduction Amount]]))","v":0}]
[" ",{"$f":"IF(IFERROR(VLOOKUP(sched1c[[#This Row],[Portfolio Company Name]],s11cumperf[],2,FALSE),\"\")=\"\",\"\",(IFERROR(VLOOKUP(sched1c[[#This Row],[Portfolio Company Name]],s11cumperf[],2,FALSE),\"\")))","v":""},null,{"$f":"sched1c[[#This Row],[Employer ID]]&\"-\"&sched1c[[#This Row],[Reference Number]]","v":"-"},{"$nulls":3},{"$f":"IF(LEFT(sched1c[[#This Row],[Description of Addition / Deduction to Loan and Investment Cost]],1)=\"D\",-ABS(sched1c[[#This Row],[Addition/ Deduction Amount]]),ABS(sched1c[[#This Row],[Addition/ Deduction Amount]]))","v":0}]
[" ",{"$f":"IF(IFERROR(VLOOKUP(sched1c[[#This Row],[Portfolio Company Name]],s11cumperf[],2,FALSE),\"\")=\"\",\"\",(IFERROR(VLOOKUP(sched1c[[#This Row],[Portfolio Company Name]],s11cumperf[],2,FALSE),\"\")))","v":""},null,{"$f":"sched1c[[#This Row],[Employer ID]]&\"-\"&sched1c[[#This Row],[Reference Number]]","v":"-"},{"$nulls":3},{"$f":"IF(LEFT(sched1c[[#This Row],[Description of Addition / Deduction to Loan and Investment Cost]],1)=\"D\",-ABS(sched1c[[#This Row],[Addition/ Deduction Amount]]),ABS(sched1c[[#This Row],[Addition/ Deduction Amount]]))","v":0}]
[" ",{"$f":"IF(IFERROR(VLOOKUP(sched1c[[#This Row],[Portfolio Company Name]],s11cumperf[],2,FALSE),\"\")=\"\",\"\",(IFERROR(VLOOKUP(sched1c[[#This Row],[Portfolio Company Name]],s11cumperf[],2,FALSE),\"\")))","v":""},null,{"$f":"sched1c[[#This Row],[Employer ID]]&\"-\"&sched1c[[#This Row],[Reference Number]]","v":"-"},{"$nulls":3},{"$f":"IF(LEFT(sched1c[[#This Row],[Description of Addition / Deduction to Loan and Investment Cost]],1)=\"D\",-ABS(sched1c[[#This Row],[Addition/ Deduction Amount]]),ABS(sched1c[[#This Row],[Addition/ Deduction Amount]]))","v":0}]
[" ",{"$f":"IF(IFERROR(VLOOKUP(sched1c[[#This Row],[Portfolio Company Name]],s11cumperf[],2,FALSE),\"\")=\"\",\"\",(IFERROR(VLOOKUP(sched1c[[#This Row],[Portfolio Company Name]],s11cumperf[],2,FALSE),\"\")))","v":""},null,{"$f":"sched1c[[#This Row],[Employer ID]]&\"-\"&sched1c[[#This Row],[Reference Number]]","v":"-"},{"$nulls":3},{"$f":"IF(LEFT(sched1c[[#This Row],[Description of Addition / Deduction to Loan and Investment Cost]],1)=\"D\",-ABS(sched1c[[#This Row],[Addition/ Deduction Amount]]),ABS(sched1c[[#This Row],[Addition/ Deduction Amount]]))","v":0}]
[" ",{"$f":"IF(IFERROR(VLOOKUP(sched1c[[#This Row],[Portfolio Company Name]],s11cumperf[],2,FALSE),\"\")=\"\",\"\",(IFERROR(VLOOKUP(sched1c[[#This Row],[Portfolio Company Name]],s11cumperf[],2,FALSE),\"\")))","v":""},null,{"$f":"sched1c[[#This Row],[Employer ID]]&\"-\"&sched1c[[#This Row],[Reference Number]]","v":"-"},{"$nulls":3},{"$f":"IF(LEFT(sched1c[[#This Row],[Description of Addition / Deduction to Loan and Investment Cost]],1)=\"D\",-ABS(sched1c[[#This Row],[Addition/ Deduction Amount]]),ABS(sched1c[[#This Row],[Addition/ Deduction Amount]]))","v":0}]
[" ",{"$f":"IF(IFERROR(VLOOKUP(sched1c[[#This Row],[Portfolio Company Name]],s11cumperf[],2,FALSE),\"\")=\"\",\"\",(IFERROR(VLOOKUP(sched1c[[#This Row],[Portfolio Company Name]],s11cumperf[],2,FALSE),\"\")))","v":""},null,{"$f":"sched1c[[#This Row],[Employer ID]]&\"-\"&sched1c[[#This Row],[Reference Number]]","v":"-"},{"$nulls":3},{"$f":"IF(LEFT(sched1c[[#This Row],[Description of Addition / Deduction to Loan and Investment Cost]],1)=\"D\",-ABS(sched1c[[#This Row],[Addition/ Deduction Amount]]),ABS(sched1c[[#This Row],[Addition/ Deduction Amount]]))","v":0}]
[" ",{"$f":"IF(IFERROR(VLOOKUP(sched1c[[#This Row],[Portfolio Company Name]],s11cumperf[],2,FALSE),\"\")=\"\",\"\",(IFERROR(VLOOKUP(sched1c[[#This Row],[Portfolio Company Name]],s11cumperf[],2,FALSE),\"\")))","v":""},null,{"$f":"sched1c[[#This Row],[Employer ID]]&\"-\"&sched1c[[#This Row],[Reference Number]]","v":"-"},{"$nulls":3},{"$f":"IF(LEFT(sched1c[[#This Row],[Description of Addition / Deduction to Loan and Investment Cost]],1)=\"D\",-ABS(sched1c[[#This Row],[Addition/ Deduction Amount]]),ABS(sched1c[[#This Row],[Addition/ Deduction Amount]]))","v":0}]
[" ",{"$f":"IF(IFERROR(VLOOKUP(sched1c[[#This Row],[Portfolio Company Name]],s11cumperf[],2,FALSE),\"\")=\"\",\"\",(IFERROR(VLOOKUP(sched1c[[#This Row],[Portfolio Company Name]],s11cumperf[],2,FALSE),\"\")))","v":""},null,{"$f":"sched1c[[#This Row],[Employer ID]]&\"-\"&sched1c[[#This Row],[Reference Number]]","v":"-"},{"$nulls":3},{"$f":"IF(LEFT(sched1c[[#This Row],[Description of Addition / Deduction to Loan and Investment Cost]],1)=\"D\",-ABS(sched1c[[#This Row],[Addition/ Deduction Amount]]),ABS(sched1c[[#This Row],[Addition/ Deduction Amount]]))","v":0}]
[" ",{"$f":"IF(IFERROR(VLOOKUP(sched1c[[#This Row],[Portfolio Company Name]],s11cumperf[],2,FALSE),\"\")=\"\",\"\",(IFERROR(VLOOKUP(sched1c[[#This Row],[Portfolio Company Name]],s11cumperf[],2,FALSE),\"\")))","v":""},null,{"$f":"sched1c[[#This Row],[Employer ID]]&\"-\"&sched1c[[#This Row],[Reference Number]]","v":"-"},{"$nulls":3},{"$f":"IF(LEFT(sched1c[[#This Row],[Description of Addition / Deduction to Loan and Investment Cost]],1)=\"D\",-ABS(sched1c[[#This Row],[Addition/ Deduction Amount]]),ABS(sched1c[[#This Row],[Addition/ Deduction Amount]]))","v":0}]
[" ",{"$f":"IF(IFERROR(VLOOKUP(sched1c[[#This Row],[Portfolio Company Name]],s11cumperf[],2,FALSE),\"\")=\"\",\"\",(IFERROR(VLOOKUP(sched1c[[#This Row],[Portfolio Company Name]],s11cumperf[],2,FALSE),\"\")))","v":""},null,{"$f":"sched1c[[#This Row],[Employer ID]]&\"-\"&sched1c[[#This Row],[Reference Number]]","v":"-"},{"$nulls":3},{"$f":"IF(LEFT(sched1c[[#This Row],[Description of Addition / Deduction to Loan and Investment Cost]],1)=\"D\",-ABS(sched1c[[#This Row],[Addition/ Deduction Amount]]),ABS(sched1c[[#This Row],[Addition/ Deduction Amount]]))","v":0}]
[" ",{"$f":"IF(IFERROR(VLOOKUP(sched1c[[#This Row],[Portfolio Company Name]],s11cumperf[],2,FALSE),\"\")=\"\",\"\",(IFERROR(VLOOKUP(sched1c[[#This Row],[Portfolio Company Name]],s11cumperf[],2,FALSE),\"\")))","v":""},null,{"$f":"sched1c[[#This Row],[Employer ID]]&\"-\"&sched1c[[#This Row],[Reference Number]]","v":"-"},{"$nulls":3},{"$f":"IF(LEFT(sched1c[[#This Row],[Description of Addition / Deduction to Loan and Investment Cost]],1)=\"D\",-ABS(sched1c[[#This Row],[Addition/ Deduction Amount]]),ABS(sched1c[[#This Row],[Addition/ Deduction Amount]]))","v":0}]

{"sheet":"S2RG","index":12,"n_rows":36,"n_cols":14,"rows_kept":36,"merged":[[5,0,6,1],[8,8,8,10],[8,11,8,12]]}
["SCHEDULE 2",{"$nulls":5},"SCHEDULE OF  REALIZED GAINS AND LOSSES ON LOANS AND INVESTMENTS",{"$nulls":6},{"$f":"'1-Cover'!$G$1","v":"OMB Approval No. 3245-0063"}]
[{"$nulls":6},{"$f":"\"FOR \"&Number_of_Months&\" MONTH PERIOD ENDED: \"&TEXT(Form468Date,\"MM/DD/YYYY\")","v":"FOR  MONTH PERIOD ENDED: 01/00/1900"},{"$nulls":6},{"$f":"'1-Cover'!$G$2","v":"Expiration Date MM/DD/YYYY"}]
[]
[{"$f":"\"Name of License:  \"&sbicname","v":"Name of License:  "},{"$f":"S1C!B4","v":0},{"$nulls":11},{"$f":"\"License no.:  \"&TEXT(licenseno,\"00\\/00\\-0000\")","v":"License no.:  00/00-0000"}]
[{"$nulls":5},"Cost","Net Sales Price","Realized Gain/(Loss)","Cash","Note","Equity"]
["Exand to see totals for most recent quarter.",{"$nulls":3},"Current quarter",{"$f":"SUMIF(realgain[Transaction Date],\">\"&priorqtr,realgain[Cost])","v":0},{"$f":"SUMIF(realgain[Transaction Date],\">\"&priorqtr,realgain[Net Sales Price])","v":0},{"$f":"SUMIF(realgain[Transaction Date],\">\"&priorqtr,realgain[Realized Gain/(Loss)])","v":0},{"$f":"SUMIF(realgain[Transaction Date],\">\"&priorqtr,realgain[Cash])","v":0},{"$f":"SUMIF(realgain[Transaction Date],\">\"&priorqtr,realgain[Note])","v":0},{"$f":"SUMIF(realgain[Transaction Date],\">\"&priorqtr,realgain[Equity])","v":0}]
[{"$nulls":4},"Totals Through Period End",{"$f":"SUM(realgain[Cost])","v":0},{"$f":"SUM(realgain[Net Sales Price])","v":0},{"$f":"SUM(realgain[Realized Gain/(Loss)])","v":0},{"$f":"SUM(realgain[Cash])","v":0},{"$f":"SUM(realgain[Note])","v":0},{"$f":"SUM(realgain[Equity])","v":0}]
["A","B","C","D","E","F","G","H","I","J","K","L","M","N"]
[{"$nulls":8},"Components of Net Sales Price",null,null,"Applies to Sales and Exchanges"]
["Portfolio Company Name","Employer ID","Financing Type","Transaction Date","Transaction Type2","Cost","Net Sales Price","Realized Gain/(Loss)","Cash","Note","Equity","Name","Address","Comments"]
[" ",{"$f":"IF(IFERROR(VLOOKUP(realgain[[#This Row],[Portfolio Company Name]],s11cumperf[],2,FALSE),\"\")=\"\",\"\",(IFERROR(VLOOKUP(realgain[[#This Row],[Portfolio Company Name]],s11cumperf[],2,FALSE),\"\")))","v":""},{"$nulls":5},{"$f":"IFERROR(IF(realgain[[#This Row],[Transaction Type2]]=\"Principal Repayment\", 0,realgain[[#This Row],[Net Sales Price]]-realgain[[#This Row],[Cost]]),\"\")","v":0},null,null,{"$f":"realgain[[#This Row],[Net Sales Price]]-realgain[[#This Row],[Cash]]-realgain[[#This Row],[Note]]","v":0}]
[" ",{"$f":"IF(IFERROR(VLOOKUP(realgain[[#This Row],[Portfolio Company Name]],s11cumperf[],2,FALSE),\"\")=\"\",\"\",(IFERROR(VLOOKUP(realgain[[#This Row],[Portfolio Company Name]],s11cumperf[],2,FALSE),\"\")))","v":""},{"$nulls":5},{"$f":"IFERROR(IF(realgain[[#This Row],[Transaction Type2]]=\"Principal Repayment\", 0,realgain[[#This Row],[Net Sales Price]]-realgain[[#This Row],[Cost]]),\"\")","v":0},null,null,{"$f":"realgain[[#This Row],[Net Sales Price]]-realgain[[#This Row],[Cash]]-realgain[[#This Row],[Note]]","v":0}]
[" ",{"$f":"IF(IFERROR(VLOOKUP(realgain[[#This Row],[Portfolio Company Name]],s11cumperf[],2,FALSE),\"\")=\"\",\"\",(IFERROR(VLOOKUP(realgain[[#This Row],[Portfolio Company Name]],s11cumperf[],2,FALSE),\"\")))","v":""},{"$nulls":5},{"$f":"IFERROR(IF(realgain[[#This Row],[Transaction Type2]]=\"Principal Repayment\", 0,realgain[[#This Row],[Net Sales Price]]-realgain[[#This Row],[Cost]]),\"\")","v":0},null,null,{"$f":"realgain[[#This Row],[Net Sales Price]]-realgain[[#This Row],[Cash]]-realgain[[#This Row],[Note]]","v":0}]
[" ",{"$f":"IF(IFERROR(VLOOKUP(realgain[[#This Row],[Portfolio Company Name]],s11cumperf[],2,FALSE),\"\")=\"\",\"\",(IFERROR(VLOOKUP(realgain[[#This Row],[Portfolio Company Name]],s11cumperf[],2,FALSE),\"\")))","v":""},{"$nulls":5},{"$f":"IFERROR(IF(realgain[[#This Row],[Transaction Type2]]=\"Principal Repayment\", 0,realgain[[#This Row],[Net Sales Price]]-realgain[[#This Row],[Cost]]),\"\")","v":0},null,null,{"$f":"realgain[[#This Row],[Net Sales Price]]-realgain[[#This Row],[Cash]]-realgain[[#This Row],[Note]]","v":0}]
[" ",{"$f":"IF(IFERROR(VLOOKUP(realgain[[#This Row],[Portfolio Company Name]],s11cumperf[],2,FALSE),\"\")=\"\",\"\",(IFERROR(VLOOKUP(realgain[[#This Row],[Portfolio Company Name]],s11cumperf[],2,FALSE),\"\")))","v":""},{"$nulls":5},{"$f":"IFERROR(IF(realgain[[#This Row],[Transaction Type2]]=\"Principal Repayment\", 0,realgain[[#This Row],[Net Sales Price]]-realgain[[#This Row],[Cost]]),\"\")","v":0},null,null,{"$f":"realgain[[#This Row],[Net Sales Price]]-realgain[[#This Row],[Cash]]-realgain[[#This Row],[Note]]","v":0}]
[" ",{"$f":"IF(IFERROR(VLOOKUP(realgain[[#This Row],[Portfolio Company Name]],s11cumperf[],2,FALSE),\"\")=\"\",\"\",(IFERROR(VLOOKUP(realgain[[#This Row],[Portfolio Company Name]],s11cumperf[],2,FALSE),\"\")))","v":""},{"$nulls":5},{"$f":"IFERROR(IF(realgain[[#This Row],[Transaction Type2]]=\"Principal Repayment\", 0,realgain[[#This Row],[Net Sales Price]]-realgain[[#This Row],[Cost]]),\"\")","v":0},null,null,{"$f":"realgain[[#This Row],[Net Sales Price]]-realgain[[#This Row],[Cash]]-realgain[[#This Row],[Note]]","v":0}]
[" ",{"$f":"IF(IFERROR(VLOOKUP(realgain[[#This Row],[Portfolio Company Name]],s11cumperf[],2,FALSE),\"\")=\"\",\"\",(IFERROR(VLOOKUP(realgain[[#This Row],[Portfolio Company Name]],s11cumperf[],2,FALSE),\"\")))","v":""},{"$nulls":5},{"$f":"IFERROR(IF(realgain[[#This Row],[Transaction Type2]]=\"Principal Repayment\", 0,realgain[[#This Row],[Net Sales Price]]-realgain[[#This Row],[Cost]]),\"\")","v":0},null,null,{"$f":"realgain[[#This Row],[Net Sales Price]]-realgain[[#This Row],[Cash]]-realgain[[#This Row],[Note]]","v":0}]
[" ",{"$f":"IF(IFERROR(VLOOKUP(realgain[[#This Row],[Portfolio Company Name]],s11cumperf[],2,FALSE),\"\")=\"\",\"\",(IFERROR(VLOOKUP(realgain[[#This Row],[Portfolio Company Name]],s11cumperf[],2,FALSE),\"\")))","v":""},{"$nulls":5},{"$f":"IFERROR(IF(realgain[[#This Row],[Transaction Type2]]=\"Principal Repayment\", 0,realgain[[#This Row],[Net Sales Price]]-realgain[[#This Row],[Cost]]),\"\")","v":0},null,null,{"$f":"realgain[[#This Row],[Net Sales Price]]-realgain[[#This Row],[Cash]]-realgain[[#This Row],[Note]]","v":0}]
[" ",{"$f":"IF(IFERROR(VLOOKUP(realgain[[#This Row],[Portfolio Company Name]],s11cumperf[],2,FALSE),\"\")=\"\",\"\",(IFERROR(VLOOKUP(realgain[[#This Row],[Portfolio Company Name]],s11cumperf[],2,FALSE),\"\")))","v":""},{"$nulls":5},{"$f":"IFERROR(IF(realgain[[#This Row],[Transaction Type2]]=\"Principal Repayment\", 0,realgain[[#This Row],[Net Sales Price]]-realgain[[#This Row],[Cost]]),\"\")","v":0},null,null,{"$f":"realgain[[#This Row],[Net Sales Price]]-realgain[[#This Row],[Cash]]-realgain[[#This Row],[Note]]","v":0}]
[" ",{"$f":"IF(IFERROR(VLOOKUP(realgain[[#This Row],[Portfolio Company Name]],s11cumperf[],2,FALSE),\"\")=\"\",\"\",(IFERROR(VLOOKUP(realgain[[#This Row],[Portfolio Company Name]],s11cumperf[],2,FALSE),\"\")))","v":""},{"$nulls":5},{"$f":"IFERROR(IF(realgain[[#This Row],[Transaction Type2]]=\"Principal Repayment\", 0,realgain[[#This Row],[Net Sales Price]]-realgain[[#This Row],[Cost]]),\"\")","v":0},null,null,{"$f":"realgain[[#This Row],[Net Sales Price]]-realgain[[#This Row],[Cash]]-realgain[[#This Row],[Note]]","v":0}]
[" ",{"$f":"IF(IFERROR(VLOOKUP(realgain[[#This Row],[Portfolio Company Name]],s11cumperf[],2,FALSE),\"\")=\"\",\"\",(IFERROR(VLOOKUP(realgain[[#This Row],[Portfolio Company Name]],s11cumperf[],2,FALSE),\"\")))","v":""},{"$nulls":5},{"$f":"IFERROR(IF(realgain[[#This Row],[Transaction Type2]]=\"Principal Repayment\", 0,realgain[[#This Row],[Net Sales Price]]-realgain[[#This Row],[Cost]]),\"\")","v":0},null,null,{"$f":"realgain[[#This Row],[Net Sales Price]]-realgain[[#This Row],[Cash]]-realgain[[#This Row],[Note]]","v":0}]
[" ",{"$f":"IF(IFERROR(VLOOKUP(realgain[[#This Row],[Portfolio Company Name]],s11cumperf[],2,FALSE),\"\")=\"\",\"\",(IFERROR(VLOOKUP(realgain[[#This Row],[Portfolio Company Name]],s11cumperf[],2,FALSE),\"\")))","v":""},{"$nulls":5},{"$f":"IFERROR(IF(realgain[[#This Row],[Transaction Type2]]=\"Principal Repayment\", 0,realgain[[#This Row],[Net Sales Price]]-realgain[[#This Row],[Cost]]),\"\")","v":0},null,null,{"$f":"realgain[[#This Row],[Net Sales Price]]-realgain[[#This Row],[Cash]]-realgain[[#This Row],[Note]]","v":0}]
[" ",{"$f":"IF(IFERROR(VLOOKUP(realgain[[#This Row],[Portfolio Company Name]],s11cumperf[],2,FALSE),\"\")=\"\",\"\",(IFERROR(VLOOKUP(realgain[[#This Row],[Portfolio Company Name]],s11cumperf[],2,FALSE),\"\")))","v":""},{"$nulls":5},{"$f":"IFERROR(IF(realgain[[#This Row],[Transaction Type2]]=\"Principal Repayment\", 0,realgain[[#This Row],[Net Sales Price]]-realgain[[#This Row],[Cost]]),\"\")","v":0},null,null,{"$f":"realgain[[#This Row],[Net Sales Price]]-realgain[[#This Row],[Cash]]-realgain[[#This Row],[Note]]","v":0}]
[" ",{"$f":"IF(IFERROR(VLOOKUP(realgain[[#This Row],[Portfolio Company Name]],s11cumperf[],2,FALSE),\"\")=\"\",\"\",(IFERROR(VLOOKUP(realgain[[#This Row],[Portfolio Company Name]],s11cumperf[],2,FALSE),\"\")))","v":""},{"$nulls":5},{"$f":"IFERROR(IF(realgain[[#This Row],[Transaction Type2]]=\"Principal Repayment\", 0,realgain[[#This Row],[Net Sales Price]]-realgain[[#This Row],[Cost]]),\"\")","v":0},null,null,{"$f":"realgain[[#This Row],[Net Sales Price]]-realgain[[#This Row],[Cash]]-realgain[[#This Row],[Note]]","v":0}]
[" ",{"$f":"IF(IFERROR(VLOOKUP(realgain[[#This Row],[Portfolio Company Name]],s11cumperf[],2,FALSE),\"\")=\"\",\"\",(IFERROR(VLOOKUP(realgain[[#This Row],[Portfolio Company Name]],s11cumperf[],2,FALSE),\"\")))","v":""},{"$nulls":5},{"$f":"IFERROR(IF(realgain[[#This Row],[Transaction Type2]]=\"Principal Repayment\", 0,realgain[[#This Row],[Net Sales Price]]-realgain[[#This Row],[Cost]]),\"\")","v":0},null,null,{"$f":"realgain[[#This Row],[Net Sales Price]]-realgain[[#This Row],[Cash]]-realgain[[#This Row],[Note]]","v":0}]
[" ",{"$f":"IF(IFERROR(VLOOKUP(realgain[[#This Row],[Portfolio Company Name]],s11cumperf[],2,FALSE),\"\")=\"\",\"\",(IFERROR(VLOOKUP(realgain[[#This Row],[Portfolio Company Name]],s11cumperf[],2,FALSE),\"\")))","v":""},{"$nulls":5},{"$f":"IFERROR(IF(realgain[[#This Row],[Transaction Type2]]=\"Principal Repayment\", 0,realgain[[#This Row],[Net Sales Price]]-realgain[[#This Row],[Cost]]),\"\")","v":0},null,null,{"$f":"realgain[[#This Row],[Net Sales Price]]-realgain[[#This Row],[Cash]]-realgain[[#This Row],[Note]]","v":0}]
[" ",{"$f":"IF(IFERROR(VLOOKUP(realgain[[#This Row],[Portfolio Company Name]],s11cumperf[],2,FALSE),\"\")=\"\",\"\",(IFERROR(VLOOKUP(realgain[[#This Row],[Portfolio Company Name]],s11cumperf[],2,FALSE),\"\")))","v":""},{"$nulls":5},{"$f":"IFERROR(IF(realgain[[#This Row],[Transaction Type2]]=\"Principal Repayment\", 0,realgain[[#This Row],[Net Sales Price]]-realgain[[#This Row],[Cost]]),\"\")","v":0},null,null,{"$f":"realgain[[#This Row],[Net Sales Price]]-realgain[[#This Row],[Cash]]-realgain[[#This Row],[Note]]","v":0}]
[" ",{"$f":"IF(IFERROR(VLOOKUP(realgain[[#This Row],[Portfolio Company Name]],s11cumperf[],2,FALSE),\"\")=\"\",\"\",(IFERROR(VLOOKUP(realgain[[#This Row],[Portfolio Company Name]],s11cumperf[],2,FALSE),\"\")))","v":""},{"$nulls":5},{"$f":"IFERROR(IF(realgain[[#This Row],[Transaction Type2]]=\"Principal Repayment\", 0,realgain[[#This Row],[Net Sales Price]]-realgain[[#This Row],[Cost]]),\"\")","v":0},null,null,{"$f":"realgain[[#This Row],[Net Sales Price]]-realgain[[#This Row],[Cash]]-realgain[[#This Row],[Note]]","v":0}]
[" ",{"$f":"IF(IFERROR(VLOOKUP(realgain[[#This Row],[Portfolio Company Name]],s11cumperf[],2,FALSE),\"\")=\"\",\"\",(IFERROR(VLOOKUP(realgain[[#This Row],[Portfolio Company Name]],s11cumperf[],2,FALSE),\"\")))","v":""},{"$nulls":5},{"$f":"IFERROR(IF(realgain[[#This Row],[Transaction Type2]]=\"Principal Repayment\", 0,realgain[[#This Row],[Net Sales Price]]-realgain[[#This Row],[Cost]]),\"\")","v":0},null,null,{"$f":"realgain[[#This Row],[Net Sales Price]]-realgain[[#This Row],[Cash]]-realgain[[#This Row],[Note]]","v":0}]
[" ",{"$f":"IF(IFERROR(VLOOKUP(realgain[[#This Row],[Portfolio Company Name]],s11cumperf[],2,FALSE),\"\")=\"\",\"\",(IFERROR(VLOOKUP(realgain[[#This Row],[Portfolio Company Name]],s11cumperf[],2,FALSE),\"\")))","v":""},{"$nulls":5},{"$f":"IFERROR(IF(realgain[[#This Row],[Transaction Type2]]=\"Principal Repayment\", 0,realgain[[#This Row],[Net Sales Price]]-realgain[[#This Row],[Cost]]),\"\")","v":0},null,null,{"$f":"realgain[[#This Row],[Net Sales Price]]-realgain[[#This Row],[Cash]]-realgain[[#This Row],[Note]]","v":0}]
[" ",{"$f":"IF(IFERROR(VLOOKUP(realgain[[#This Row],[Portfolio Company Name]],s11cumperf[],2,FALSE),\"\")=\"\",\"\",(IFERROR(VLOOKUP(realgain[[#This Row],[Portfolio Company Name]],s11cumperf[],2,FALSE),\"\")))","v":""},{"$nulls":5},{"$f":"IFERROR(IF(realgain[[#This Row],[Transaction Type2]]=\"Principal Repayment\", 0,realgain[[#This Row],[Net Sales Price]]-realgain[[#This Row],[Cost]]),\"\")","v":0},null,null,{"$f":"realgain[[#This Row],[Net Sales Price]]-realgain[[#This Row],[Cash]]-realgain[[#This Row],[Note]]","v":0}]
[" ",{"$f":"IF(IFERROR(VLOOKUP(realgain[[#This Row],[Portfolio Company Name]],s11cumperf[],2,FALSE),\"\")=\"\",\"\",(IFERROR(VLOOKUP(realgain[[#This Row],[Portfolio Company Name]],s11cumperf[],2,FALSE),\"\")))","v":""},{"$nulls":5},{"$f":"IFERROR(IF(realgain[[#This Row],[Transaction Type2]]=\"Principal Repayment\", 0,realgain[[#This Row],[Net Sales Price]]-realgain[[#This Row],[Cost]]),\"\")","v":0},null,null,{"$f":"realgain[[#This Row],[Net Sales Price]]-realgain[[#This Row],[Cash]]-realgain[[#This Row],[Note]]","v":0}]
[" ",{"$f":"IF(IFERROR(VLOOKUP(realgain[[#This Row],[Portfolio Company Name]],s11cumperf[],2,FALSE),\"\")=\"\",\"\",(IFERROR(VLOOKUP(realgain[[#This Row],[Portfolio Company Name]],s11cumperf[],2,FALSE),\"\")))","v":""},{"$nulls":5},{"$f":"IFERROR(IF(realgain[[#This Row],[Transaction Type2]]=\"Principal Repayment\", 0,realgain[[#This Row],[Net Sales Price]]-realgain[[#This Row],[Cost]]),\"\")","v":0},null,null,{"$f":"realgain[[#This Row],[Net Sales Price]]-realgain[[#This Row],[Cash]]-realgain[[#This Row],[Note]]","v":0}]
[" ",{"$f":"IF(IFERROR(VLOOKUP(realgain[[#This Row],[Portfolio Company Name]],s11cumperf[],2,FALSE),\"\")=\"\",\"\",(IFERROR(VLOOKUP(realgain[[#This Row],[Portfolio Company Name]],s11cumperf[],2,FALSE),\"\")))","v":""},{"$nulls":5},{"$f":"IFERROR(IF(realgain[[#This Row],[Transaction Type2]]=\"Principal Repayment\", 0,realgain[[#This Row],[Net Sales Price]]-realgain[[#This Row],[Cost]]),\"\")","v":0},null,null,{"$f":"realgain[[#This Row],[Net Sales Price]]-realgain[[#This Row],[Cash]]-realgain[[#This Row],[Note]]","v":0}]
[" ",{"$f":"IF(IFERROR(VLOOKUP(realgain[[#This Row],[Portfolio Company Name]],s11cumperf[],2,FALSE),\"\")=\"\",\"\",(IFERROR(VLOOKUP(realgain[[#This Row],[Portfolio Company Name]],s11cumperf[],2,FALSE),\"\")))","v":""},{"$nulls":5},{"$f":"IFERROR(IF(realgain[[#This Row],[Transaction Type2]]=\"Principal Repayment\", 0,realgain[[#This Row],[Net Sales Price]]-realgain[[#This Row],[Cost]]),\"\")","v":0},null,null,{"$f":"realgain[[#This Row],[Net Sales Price]]-realgain[[#This Row],[Cash]]-realgain[[#This Row],[Note]]","v":0}]
[" ",{"$f":"IF(IFERROR(VLOOKUP(realgain[[#This Row],[Portfolio Company Name]],s11cumperf[],2,FALSE),\"\")=\"\",\"\",(IFERROR(VLOOKUP(realgain[[#This Row],[Portfolio Company Name]],s11cumperf[],2,FALSE),\"\")))","v":""},{"$nulls":5},{"$f":"IFERROR(IF(realgain[[#This Row],[Transaction Type2]]=\"Principal Repayment\", 0,realgain[[#This Row],[Net Sales Price]]-realgain[[#This Row],[Cost]]),\"\")","v":0},null,null,{"$f":"realgain[[#This Row],[Net Sales Price]]-realgain[[#This Row],[Cash]]-realgain[[#This Row],[Note]]","v":0}]

{"sheet":"S3NC","index":13,"n_rows":50,"n_cols":8,"rows_kept":50,"merged":[[0,2,0,4],[1,2,1,4]]}
["SCHEDULE 3",null,"SCHEDULE OF NONCASH GAINS/INCOME",{"$nulls":4},{"$f":"'1-Cover'!$G$1","v":"OMB Approval No. 3245-0063"}]
[null,null,{"$f":"\"FOR \"&Number_of_Months&\" MONTH PERIOD ENDED: \"&TEXT(Form468Date,\"MM/DD/YYYY\")","v":"FOR  MONTH PERIOD ENDED: 01/00/1900"},{"$nulls":4},{"$f":"'1-Cover'!$G$2","v":"Expiration Date MM/DD/YYYY"}]
[]
[{"$f":"\"Name of License:  \"&sbicname","v":"Name of License:  "},{"$f":"S2RG!B4","v":0},{"$nulls":5},{"$f":"\"License no.:  \"&TEXT(licenseno,\"00\\/00\\-0000\")","v":"License no.:  00/00-0000"}]
[]
[{"$nulls":3},"Balance at Beginning of Period","Additions","Collections During Period","Balance at End of Period","Amount of \"includible non-cash gains\" for Capital Impairment"]
[null,null,"Totals",{"$f":"SUM(noncash[Balance at Beginning of Period])","v":0},{"$f":"SUM(noncash[Additions])","v":0},{"$f":"SUM(noncash[Deductions / Collections])","v":0},{"$f":"SUM(noncash[Balance at End of Period])","v":0},{"$f":"SUM(noncash[Amount of \"includible non-cash gains\" for Capital Impairment])","v":0}]
[]
["A","B","C","D","E","F","G","H"]
["Portfolio Company Name","Employer ID","Description of Non-cash Gains/Income (1)","Balance at Beginning of Period","Additions","Deductions / Collections","Balance at End of Period","Amount of \"includible non-cash gains\" for Capital Impairment"]
[" ",{"$f":"IF(IFERROR(VLOOKUP(noncash[[#This Row],[Portfolio Company Name]],s11cumperf[],2,FALSE),\"\")=\"\",\"\",(IFERROR(VLOOKUP(noncash[[#This Row],[Portfolio Company Name]],s11cumperf[],2,FALSE),\"\")))","v":""},{"$nulls":4},{"$f":"noncash[[#This Row],[Balance at Beginning of Period]]+noncash[[#This Row],[Additions]]-ABS(noncash[[#This Row],[Deductions / Collections]])","v":0}]
[" ",{"$f":"IF(IFERROR(VLOOKUP(noncash[[#This Row],[Portfolio Company Name]],s11cumperf[],2,FALSE),\"\")=\"\",\"\",(IFERROR(VLOOKUP(noncash[[#This Row],[Portfolio Company Name]],s11cumperf[],2,FALSE),\"\")))","v":""},{"$nulls":4},{"$f":"noncash[[#This Row],[Balance at Beginning of Period]]+noncash[[#This Row],[Additions]]-ABS(noncash[[#This Row],[Deductions / Collections]])","v":0}]
[" ",{"$f":"IF(IFERROR(VLOOKUP(noncash[[#This Row],[Portfolio Company Name]],s11cumperf[],2,FALSE),\"\")=\"\",\"\",(IFERROR(VLOOKUP(noncash[[#This Row],[Portfolio Company Name]],s11cumperf[],2,FALSE),\"\")))","v":""},{"$nulls":4},{"$f":"noncash[[#This Row],[Balance at Beginning of Period]]+noncash[[#This Row],[Additions]]-ABS(noncash[[#This Row],[Deductions / Collections]])","v":0}]
[" ",{"$f":"IF(IFERROR(VLOOKUP(noncash[[#This Row],[Portfolio Company Name]],s11cumperf[],2,FALSE),\"\")=\"\",\"\",(IFERROR(VLOOKUP(noncash[[#This Row],[Portfolio Company Name]],s11cumperf[],2,FALSE),\"\")))","v":""},{"$nulls":4},{"$f":"noncash[[#This Row],[Balance at Beginning of Period]]+noncash[[#This Row],[Additions]]-ABS(noncash[[#This Row],[Deductions / Collections]])","v":0}]
[" ",{"$f":"IF(IFERROR(VLOOKUP(noncash[[#This Row],[Portfolio Company Name]],s11cumperf[],2,FALSE),\"\")=\"\",\"\",(IFERROR(VLOOKUP(noncash[[#This Row],[Portfolio Company Name]],s11cumperf[],2,FALSE),\"\")))","v":""},{"$nulls":4},{"$f":"noncash[[#This Row],[Balance at Beginning of Period]]+noncash[[#This Row],[Additions]]-ABS(noncash[[#This Row],[Deductions / Collections]])","v":0}]
[" ",{"$f":"IF(IFERROR(VLOOKUP(noncash[[#This Row],[Portfolio Company Name]],s11cumperf[],2,FALSE),\"\")=\"\",\"\",(IFERROR(VLOOKUP(noncash[[#This Row],[Portfolio Company Name]],s11cumperf[],2,FALSE),\"\")))","v":""},{"$nulls":4},{"$f":"noncash[[#This Row],[Balance at Beginning of Period]]+noncash[[#This Row],[Additions]]-ABS(noncash[[#This Row],[Deductions / Collections]])","v":0}]
[" ",{"$f":"IF(IFERROR(VLOOKUP(noncash[[#This Row],[Portfolio Company Name]],s11cumperf[],2,FALSE),\"\")=\"\",\"\",(IFERROR(VLOOKUP(noncash[[#This Row],[Portfolio Company Name]],s11cumperf[],2,FALSE),\"\")))","v":""},{"$nulls":4},{"$f":"noncash[[#This Row],[Balance at Beginning of Period]]+noncash[[#This Row],[Additions]]-ABS(noncash[[#This Row],[Deductions / Collections]])","v":0}]
[" ",{"$f":"IF(IFERROR(VLOOKUP(noncash[[#This Row],[Portfolio Company Name]],s11cumperf[],2,FALSE),\"\")=\"\",\"\",(IFERROR(VLOOKUP(noncash[[#This Row],[Portfolio Company Name]],s11cumperf[],2,FALSE),\"\")))","v":""},{"$nulls":4},{"$f":"noncash[[#This Row],[Balance at Beginning of Period]]+noncash[[#This Row],[Additions]]-ABS(noncash[[#This Row],[Deductions / Collections]])","v":0}]
[" ",{"$f":"IF(IFERROR(VLOOKUP(noncash[[#This Row],[Portfolio Company Name]],s11cumperf[],2,FALSE),\"\")=\"\",\"\",(IFERROR(VLOOKUP(noncash[[#This Row],[Portfolio Company Name]],s11cumperf[],2,FALSE),\"\")))","v":""},{"$nulls":4},{"$f":"noncash[[#This Row],[Balance at Beginning of Period]]+noncash[[#This Row],[Additions]]-ABS(noncash[[#This Row],[Deductions / Collections]])","v":0}]
[" ",{"$f":"IF(IFERROR(VLOOKUP(noncash[[#This Row],[Portfolio Company Name]],s11cumperf[],2,FALSE),\"\")=\"\",\"\",(IFERROR(VLOOKUP(noncash[[#This Row],[Portfolio Company Name]],s11cumperf[],2,FALSE),\"\")))","v":""},{"$nulls":4},{"$f":"noncash[[#This Row],[Balance at Beginning of Period]]+noncash[[#This Row],[Additions]]-ABS(noncash[[#This Row],[Deductions / Collections]])","v":0}]
[" ",{"$f":"IF(IFERROR(VLOOKUP(noncash[[#This Row],[Portfolio Company Name]],s11cumperf[],2,FALSE),\"\")=\"\",\"\",(IFERROR(VLOOKUP(noncash[[#This Row],[Portfolio Company Name]],s11cumperf[],2,FALSE),\"\")))","v":""},{"$nulls":4},{"$f":"noncash[[#This Row],[Balance at Beginning of Period]]+noncash[[#This Row],[Additions]]-ABS(noncash[[#This Row],[Deductions / Collections]])","v":0}]
[" ",{"$f":"IF(IFERROR(VLOOKUP(noncash[[#This Row],[Portfolio Company Name]],s11cumperf[],2,FALSE),\"\")=\"\",\"\",(IFERROR(VLOOKUP(noncash[[#This Row],[Portfolio Company Name]],s11cumperf[],2,FALSE),\"\")))","v":""},{"$nulls":4},{"$f":"noncash[[#This Row],[Balance at Beginning of Period]]+noncash[[#This Row],[Additions]]-ABS(noncash[[#This Row],[Deductions / Collections]])","v":0}]
[" ",{"$f":"IF(IFERROR(VLOOKUP(noncash[[#This Row],[Portfolio Company Name]],s11cumperf[],2,FALSE),\"\")=\"\",\"\",(IFERROR(VLOOKUP(noncash[[#This Row],[Portfolio Company Name]],s11cumperf[],2,FALSE),\"\")))","v":""},{"$nulls":4},{"$f":"noncash[[#This Row],[Balance at Beginning of Period]]+noncash[[#This Row],[Additions]]-ABS(noncash[[#This Row],[Deductions / Collections]])","v":0}]
[" ",{"$f":"IF(IFERROR(VLOOKUP(noncash[[#This Row],[Portfolio Company Name]],s11cumperf[],2,FALSE),\"\")=\"\",\"\",(IFERROR(VLOOKUP(noncash[[#This Row],[Portfolio Company Name]],s11cumperf[],2,FALSE),\"\")))","v":""},{"$nulls":4},{"$f":"noncash[[#This Row],[Balance at Beginning of Period]]+noncash[[#This Row],[Additions]]-ABS(noncash[[#This Row],[Deductions / Collections]])","v":0}]
[" ",{"$f":"IF(IFERROR(VLOOKUP(noncash[[#This Row],[Portfolio Company Name]],s11cumperf[],2,FALSE),\"\")=\"\",\"\",(IFERROR(VLOOKUP(noncash[[#This Row],[Portfolio Company Name]],s11cumperf[],2,FALSE),\"\")))","v":""},{"$nulls":4},{"$f":"noncash[[#This Row],[Balance at Beginning of Period]]+noncash[[#This Row],[Additions]]-ABS(noncash[[#This Row],[Deductions / Collections]])","v":0}]
[" ",{"$f":"IF(IFERROR(VLOOKUP(noncash[[#This Row],[Portfolio Company Name]],s11cumperf[],2,FALSE),\"\")=\"\",\"\",(IFERROR(VLOOKUP(noncash[[#This Row],[Portfolio Company Name]],s11cumperf[],2,FALSE),\"\")))","v":""},{"$nulls":4},{"$f":"noncash[[#This Row],[Balance at Beginning of Period]]+noncash[[#This Row],[Additions]]-ABS(noncash[[#This Row],[Deductions / Collections]])","v":0}]
[" ",{"$f":"IF(IFERROR(VLOOKUP(noncash[[#This Row],[Portfolio Company Name]],s11cumperf[],2,FALSE),\"\")=\"\",\"\",(IFERROR(VLOOKUP(noncash[[#This Row],[Portfolio Company Name]],s11cumperf[],2,FALSE),\"\")))","v":""},{"$nulls":4},{"$f":"noncash[[#This Row],[Balance at Beginning of Period]]+noncash[[#This Row],[Additions]]-ABS(noncash[[#This Row],[Deductions / Collections]])","v":0}]
[" ",{"$f":"IF(IFERROR(VLOOKUP(noncash[[#This Row],[Portfolio Company Name]],s11cumperf[],2,FALSE),\"\")=\"\",\"\",(IFERROR(VLOOKUP(noncash[[#This Row],[Portfolio Company Name]],s11cumperf[],2,FALSE),\"\")))","v":""},{"$nulls":4},{"$f":"noncash[[#This Row],[Balance at Beginning of Period]]+noncash[[#This Row],[Additions]]-ABS(noncash[[#This Row],[Deductions / Collections]])","v":0}]
[" ",{"$f":"IF(IFERROR(VLOOKUP(noncash[[#This Row],[Portfolio Company Name]],s11cumperf[],2,FALSE),\"\")=\"\",\"\",(IFERROR(VLOOKUP(noncash[[#This Row],[Portfolio Company Name]],s11cumperf[],2,FALSE),\"\")))","v":""},{"$nulls":4},{"$f":"noncash[[#This Row],[Balance at Beginning of Period]]+noncash[[#This Row],[Additions]]-ABS(noncash[[#This Row],[Deductions / Collections]])","v":0}]
[" ",{"$f":"IF(IFERROR(VLOOKUP(noncash[[#This Row],[Portfolio Company Name]],s11cumperf[],2,FALSE),\"\")=\"\",\"\",(IFERROR(VLOOKUP(noncash[[#This Row],[Portfolio Company Name]],s11cumperf[],2,FALSE),\"\")))","v":""},{"$nulls":4},{"$f":"noncash[[#This Row],[Balance at Beginning of Period]]+noncash[[#This Row],[Additions]]-ABS(noncash[[#This Row],[Deductions / Collections]])","v":0}]
[" ",{"$f":"IF(IFERROR(VLOOKUP(noncash[[#This Row],[Portfolio Company Name]],s11cumperf[],2,FALSE),\"\")=\"\",\"\",(IFERROR(VLOOKUP(noncash[[#This Row],[Portfolio Company Name]],s11cumperf[],2,FALSE),\"\")))","v":""},{"$nulls":4},{"$f":"noncash[[#This Row],[Balance at Beginning of Period]]+noncash[[#This Row],[Additions]]-ABS(noncash[[#This Row],[Deductions / Collections]])","v":0}]
[" ",{"$f":"IF(IFERROR(VLOOKUP(noncash[[#This Row],[Portfolio Company Name]],s11cumperf[],2,FALSE),\"\")=\"\",\"\",(IFERROR(VLOOKUP(noncash[[#This Row],[Portfolio Company Name]],s11cumperf[],2,FALSE),\"\")))","v":""},{"$nulls":4},{"$f":"noncash[[#This Row],[Balance at Beginning of Period]]+noncash[[#This Row],[Additions]]-ABS(noncash[[#This Row],[Deductions / Collections]])","v":0}]
[" ",{"$f":"IF(IFERROR(VLOOKUP(noncash[[#This Row],[Portfolio Company Name]],s11cumperf[],2,FALSE),\"\")=\"\",\"\",(IFERROR(VLOOKUP(noncash[[#This Row],[Portfolio Company Name]],s11cumperf[],2,FALSE),\"\")))","v":""},{"$nulls":4},{"$f":"noncash[[#This Row],[Balance at Beginning of Period]]+noncash[[#This Row],[Additions]]-ABS(noncash[[#This Row],[Deductions / Collections]])","v":0}]
[" ",{"$f":"IF(IFERROR(VLOOKUP(noncash[[#This Row],[Portfolio Company Name]],s11cumperf[],2,FALSE),\"\")=\"\",\"\",(IFERROR(VLOOKUP(noncash[[#This Row],[Portfolio Company Name]],s11cumperf[],2,FALSE),\"\")))","v":""},{"$nulls":4},{"$f":"noncash[[#This Row],[Balance at Beginning of Period]]+noncash[[#This Row],[Additions]]-ABS(noncash[[#This Row],[Deductions / Collections]])","v":0}]
[" ",{"$f":"IF(IFERROR(VLOOKUP(noncash[[#This Row],[Portfolio Company Name]],s11cumperf[],2,FALSE),\"\")=\"\",\"\",(IFERROR(VLOOKUP(noncash[[#This Row],[Portfolio Company Name]],s11cumperf[],2,FALSE),\"\")))","v":""},{"$nulls":4},{"$f":"noncash[[#This Row],[Balance at Beginning of Period]]+noncash[[#This Row],[Additions]]-ABS(noncash[[#This Row],[Deductions / Collections]])","v":0}]
[" ",{"$f":"IF(IFERROR(VLOOKUP(noncash[[#This Row],[Portfolio Company Name]],s11cumperf[],2,FALSE),\"\")=\"\",\"\",(IFERROR(VLOOKUP(noncash[[#This Row],[Portfolio Company Name]],s11cumperf[],2,FALSE),\"\")))","v":""},{"$nulls":4},{"$f":"noncash[[#This Row],[Balance at Beginning of Period]]+noncash[[#This Row],[Additions]]-ABS(noncash[[#This Row],[Deductions / Collections]])","v":0}]
[" ",{"$f":"IF(IFERROR(VLOOKUP(noncash[[#This Row],[Portfolio Company Name]],s11cumperf[],2,FALSE),\"\")=\"\",\"\",(IFERROR(VLOOKUP(noncash[[#This Row],[Portfolio Company Name]],s11cumperf[],2,FALSE),\"\")))","v":""},{"$nulls":4},{"$f":"noncash[[#This Row],[Balance at Beginning of Period]]+noncash[[#This Row],[Additions]]-ABS(noncash[[#This Row],[Deductions / Collections]])","v":0}]
[" ",{"$f":"IF(IFERROR(VLOOKUP(noncash[[#This Row],[Portfolio Company Name]],s11cumperf[],2,FALSE),\"\")=\"\",\"\",(IFERROR(VLOOKUP(noncash[[#This Row],[Portfolio Company Name]],s11cumperf[],2,FALSE),\"\")))","v":""},{"$nulls":4},{"$f":"noncash[[#This Row],[Balance at Beginning of Period]]+noncash[[#This Row],[Additions]]-ABS(noncash[[#This Row],[Deductions / Collections]])","v":0}]
[" ",{"$f":"IF(IFERROR(VLOOKUP(noncash[[#This Row],[Portfolio Company Name]],s11cumperf[],2,FALSE),\"\")=\"\",\"\",(IFERROR(VLOOKUP(noncash[[#This Row],[Portfolio Company Name]],s11cumperf[],2,FALSE),\"\")))","v":""},{"$nulls":4},{"$f":"noncash[[#This Row],[Balance at Beginning of Period]]+noncash[[#This Row],[Additions]]-ABS(noncash[[#This Row],[Deductions / Collections]])","v":0}]
[" ",{"$f":"IF(IFERROR(VLOOKUP(noncash[[#This Row],[Portfolio Company Name]],s11cumperf[],2,FALSE),\"\")=\"\",\"\",(IFERROR(VLOOKUP(noncash[[#This Row],[Portfolio Company Name]],s11cumperf[],2,FALSE),\"\")))","v":""},{"$nulls":4},{"$f":"noncash[[#This Row],[Balance at Beginning of Period]]+noncash[[#This Row],[Additions]]-ABS(noncash[[#This Row],[Deductions / Collections]])","v":0}]
[" ",{"$f":"IF(IFERROR(VLOOKUP(noncash[[#This Row],[Portfolio Company Name]],s11cumperf[],2,FALSE),\"\")=\"\",\"\",(IFERROR(VLOOKUP(noncash[[#This Row],[Portfolio Company Name]],s11cumperf[],2,FALSE),\"\")))","v":""},{"$nulls":4},{"$f":"noncash[[#This Row],[Balance at Beginning of Period]]+noncash[[#This Row],[Additions]]-ABS(noncash[[#This Row],[Deductions / Collections]])","v":0}]
[" ",{"$f":"IF(IFERROR(VLOOKUP(noncash[[#This Row],[Portfolio Company Name]],s11cumperf[],2,FALSE),\"\")=\"\",\"\",(IFERROR(VLOOKUP(noncash[[#This Row],[Portfolio Company Name]],s11cumperf[],2,FALSE),\"\")))","v":""},{"$nulls":4},{"$f":"noncash[[#This Row],[Balance at Beginning of Period]]+noncash[[#This Row],[Additions]]-ABS(noncash[[#This Row],[Deductions / Collections]])","v":0}]
[" ",{"$f":"IF(IFERROR(VLOOKUP(noncash[[#This Row],[Portfolio Company Name]],s11cumperf[],2,FALSE),\"\")=\"\",\"\",(IFERROR(VLOOKUP(noncash[[#This Row],[Portfolio Company Name]],s11cumperf[],2,FALSE),\"\")))","v":""},{"$nulls":4},{"$f":"noncash[[#This Row],[Balance at Beginning of Period]]+noncash[[#This Row],[Additions]]-ABS(noncash[[#This Row],[Deductions / Collections]])","v":0}]
[" ",{"$f":"IF(IFERROR(VLOOKUP(noncash[[#This Row],[Portfolio Company Name]],s11cumperf[],2,FALSE),\"\")=\"\",\"\",(IFERROR(VLOOKUP(noncash[[#This Row],[Portfolio Company Name]],s11cumperf[],2,FALSE),\"\")))","v":""},{"$nulls":4},{"$f":"noncash[[#This Row],[Balance at Beginning of Period]]+noncash[[#This Row],[Additions]]-ABS(noncash[[#This Row],[Deductions / Collections]])","v":0}]
[" ",{"$f":"IF(IFERROR(VLOOKUP(noncash[[#This Row],[Portfolio Company Name]],s11cumperf[],2,FALSE),\"\")=\"\",\"\",(IFERROR(VLOOKUP(noncash[[#This Row],[Portfolio Company Name]],s11cumperf[],2,FALSE),\"\")))","v":""},{"$nulls":4},{"$f":"noncash[[#This Row],[Balance at Beginning of Period]]+noncash[[#This Row],[Additions]]-ABS(noncash[[#This Row],[Deductions / Collections]])","v":0}]
[" ",{"$f":"IF(IFERROR(VLOOKUP(noncash[[#This Row],[Portfolio Company Name]],s11cumperf[],2,FALSE),\"\")=\"\",\"\",(IFERROR(VLOOKUP(noncash[[#This Row],[Portfolio Company Name]],s11cumperf[],2,FALSE),\"\")))","v":""},{"$nulls":4},{"$f":"noncash[[#This Row],[Balance at Beginning of Period]]+noncash[[#This Row],[Additions]]-ABS(noncash[[#This Row],[Deductions / Collections]])","v":0}]
[" ",{"$f":"IF(IFERROR(VLOOKUP(noncash[[#This Row],[Portfolio Company Name]],s11cumperf[],2,FALSE),\"\")=\"\",\"\",(IFERROR(VLOOKUP(noncash[[#This Row],[Portfolio Company Name]],s11cumperf[],2,FALSE),\"\")))","v":""},{"$nulls":4},{"$f":"noncash[[#This Row],[Balance at Beginning of Period]]+noncash[[#This Row],[Additions]]-ABS(noncash[[#This Row],[Deductions / Collections]])","v":0}]
[" ",{"$f":"IF(IFERROR(VLOOKUP(noncash[[#This Row],[Portfolio Company Name]],s11cumperf[],2,FALSE),\"\")=\"\",\"\",(IFERROR(VLOOKUP(noncash[[#This Row],[Portfolio Company Name]],s11cumperf[],2,FALSE),\"\")))","v":""},{"$nulls":4},{"$f":"noncash[[#This Row],[Balance at Beginning of Period]]+noncash[[#This Row],[Additions]]-ABS(noncash[[#This Row],[Deductions / Collections]])","v":0}]
[" ",{"$f":"IF(IFERROR(VLOOKUP(noncash[[#This Row],[Portfolio Company Name]],s11cumperf[],2,FALSE),\"\")=\"\",\"\",(IFERROR(VLOOKUP(noncash[[#This Row],[Portfolio Company Name]],s11cumperf[],2,FALSE),\"\")))","v":""},{"$nulls":4},{"$f":"noncash[[#This Row],[Balance at Beginning of Period]]+noncash[[#This Row],[Additions]]-ABS(noncash[[#This Row],[Deductions / Collections]])","v":0}]
[" ",{"$f":"IF(IFERROR(VLOOKUP(noncash[[#This Row],[Portfolio Company Name]],s11cumperf[],2,FALSE),\"\")=\"\",\"\",(IFERROR(VLOOKUP(noncash[[#This Row],[Portfolio Company Name]],s11cumperf[],2,FALSE),\"\")))","v":""},{"$nulls":4},{"$f":"noncash[[#This Row],[Balance at Beginning of Period]]+noncash[[#This Row],[Additions]]-ABS(noncash[[#This Row],[Deductions / Collections]])","v":0}]

{"sheet":"S4Del","index":14,"n_rows":38,"n_cols":12,"rows_kept":38,"merged":[[0,1,0,9],[1,1,1,9],[8,3,8,4],[8,5,8,6],[8,7,8,8],[8,9,8,10]]}
["SCHEDULE 4","SCHEDULE OF DELINQUENT LOANS AND INVESTMENTS",{"$nulls":9},{"$f":"'1-Cover'!$G$1","v":"OMB Approval No. 3245-0063"}]
[null,{"$f":"\"FOR \"&Number_of_Months&\" MONTH PERIOD ENDED: \"&TEXT(Form468Date,\"MM/DD/YYYY\")","v":"FOR  MONTH PERIOD ENDED: 01/00/1900"},{"$nulls":9},{"$f":"'1-Cover'!$G$2","v":"Expiration Date MM/DD/YYYY"}]
[]
[{"$f":"\"Name of License:  \"&sbicname","v":"Name of License:  "},{"$f":"S3NC!B4","v":0},{"$nulls":9},{"$f":"\"License no.:  \"&TEXT(licenseno,\"00\\/00\\-0000\")","v":"License no.:  00/00-0000"}]
[]
[null,"Totals",{"$f":"SUM(s4del[Outstanding Principal Balance])","v":0},{"$f":"SUM(s4del[Amount Past Due])","v":0},null,{"$f":"SUM(s4del[[ Amount Past Due]])","v":0},{"$nulls":3},{"$f":"SUM(s4del[[Principal ]])","v":0},{"$f":"SUM(s4del[[Interest ]])","v":0},{"$f":"SUM(s4del[[Interest ]])","v":0}]
["Note (1) Days Past Due based on oldest delinquency."]
["A","B","C","D","E","F","G","H","I","J","K","L"]
[{"$nulls":3},"Delinquent Principal ",null,"Delinquent Interest",null,"Date of Last Payment",null,"Amount of Last Payment"]
["Portfolio Company Name","Employer ID","Outstanding Principal Balance","Amount Past Due","Days Past Due (1)"," Amount Past Due","Days Past Due (1) ","Principal","Interest","Principal ","Interest ","Fair Market Value of Collateral"]
[" ",{"$f":"IF(IFERROR(VLOOKUP(s4del[[#This Row],[Portfolio Company Name]],s11cumperf[],2,FALSE),\"\")=\"\",\"\",(IFERROR(VLOOKUP(s4del[[#This Row],[Portfolio Company Name]],s11cumperf[],2,FALSE),\"\")))","v":""}]
[" ",{"$f":"IF(IFERROR(VLOOKUP(s4del[[#This Row],[Portfolio Company Name]],s11cumperf[],2,FALSE),\"\")=\"\",\"\",(IFERROR(VLOOKUP(s4del[[#This Row],[Portfolio Company Name]],s11cumperf[],2,FALSE),\"\")))","v":""}]
[" ",{"$f":"IF(IFERROR(VLOOKUP(s4del[[#This Row],[Portfolio Company Name]],s11cumperf[],2,FALSE),\"\")=\"\",\"\",(IFERROR(VLOOKUP(s4del[[#This Row],[Portfolio Company Name]],s11cumperf[],2,FALSE),\"\")))","v":""}]
[" ",{"$f":"IF(IFERROR(VLOOKUP(s4del[[#This Row],[Portfolio Company Name]],s11cumperf[],2,FALSE),\"\")=\"\",\"\",(IFERROR(VLOOKUP(s4del[[#This Row],[Portfolio Company Name]],s11cumperf[],2,FALSE),\"\")))","v":""}]
[" ",{"$f":"IF(IFERROR(VLOOKUP(s4del[[#This Row],[Portfolio Company Name]],s11cumperf[],2,FALSE),\"\")=\"\",\"\",(IFERROR(VLOOKUP(s4del[[#This Row],[Portfolio Company Name]],s11cumperf[],2,FALSE),\"\")))","v":""}]
[" ",{"$f":"IF(IFERROR(VLOOKUP(s4del[[#This Row],[Portfolio Company Name]],s11cumperf[],2,FALSE),\"\")=\"\",\"\",(IFERROR(VLOOKUP(s4del[[#This Row],[Portfolio Company Name]],s11cumperf[],2,FALSE),\"\")))","v":""}]
[" ",{"$f":"IF(IFERROR(VLOOKUP(s4del[[#This Row],[Portfolio Company Name]],s11cumperf[],2,FALSE),\"\")=\"\",\"\",(IFERROR(VLOOKUP(s4del[[#This Row],[Portfolio Company Name]],s11cumperf[],2,FALSE),\"\")))","v":""}]
[" ",{"$f":"IF(IFERROR(VLOOKUP(s4del[[#This Row],[Portfolio Company Name]],s11cumperf[],2,FALSE),\"\")=\"\",\"\",(IFERROR(VLOOKUP(s4del[[#This Row],[Portfolio Company Name]],s11cumperf[],2,FALSE),\"\")))","v":""}]
[" ",{"$f":"IF(IFERROR(VLOOKUP(s4del[[#This Row],[Portfolio Company Name]],s11cumperf[],2,FALSE),\"\")=\"\",\"\",(IFERROR(VLOOKUP(s4del[[#This Row],[Portfolio Company Name]],s11cumperf[],2,FALSE),\"\")))","v":""}]
[" ",{"$f":"IF(IFERROR(VLOOKUP(s4del[[#This Row],[Portfolio Company Name]],s11cumperf[],2,FALSE),\"\")=\"\",\"\",(IFERROR(VLOOKUP(s4del[[#This Row],[Portfolio Company Name]],s11cumperf[],2,FALSE),\"\")))","v":""}]
[" ",{"$f":"IF(IFERROR(VLOOKUP(s4del[[#This Row],[Portfolio Company Name]],s11cumperf[],2,FALSE),\"\")=\"\",\"\",(IFERROR(VLOOKUP(s4del[[#This Row],[Portfolio Company Name]],s11cumperf[],2,FALSE),\"\")))","v":""}]
[" ",{"$f":"IF(IFERROR(VLOOKUP(s4del[[#This Row],[Portfolio Company Name]],s11cumperf[],2,FALSE),\"\")=\"\",\"\",(IFERROR(VLOOKUP(s4del[[#This Row],[Portfolio Company Name]],s11cumperf[],2,FALSE),\"\")))","v":""}]
[" ",{"$f":"IF(IFERROR(VLOOKUP(s4del[[#This Row],[Portfolio Company Name]],s11cumperf[],2,FALSE),\"\")=\"\",\"\",(IFERROR(VLOOKUP(s4del[[#This Row],[Portfolio Company Name]],s11cumperf[],2,FALSE),\"\")))","v":""}]
[" ",{"$f":"IF(IFERROR(VLOOKUP(s4del[[#This Row],[Portfolio Company Name]],s11cumperf[],2,FALSE),\"\")=\"\",\"\",(IFERROR(VLOOKUP(s4del[[#This Row],[Portfolio Company Name]],s11cumperf[],2,FALSE),\"\")))","v":""}]
[" ",{"$f":"IF(IFERROR(VLOOKUP(s4del[[#This Row],[Portfolio Company Name]],s11cumperf[],2,FALSE),\"\")=\"\",\"\",(IFERROR(VLOOKUP(s4del[[#This Row],[Portfolio Company Name]],s11cumperf[],2,FALSE),\"\")))","v":""}]
[" ",{"$f":"IF(IFERROR(VLOOKUP(s4del[[#This Row],[Portfolio Company Name]],s11cumperf[],2,FALSE),\"\")=\"\",\"\",(IFERROR(VLOOKUP(s4del[[#This Row],[Portfolio Company Name]],s11cumperf[],2,FALSE),\"\")))","v":""}]
[" ",{"$f":"IF(IFERROR(VLOOKUP(s4del[[#This Row],[Portfolio Company Name]],s11cumperf[],2,FALSE),\"\")=\"\",\"\",(IFERROR(VLOOKUP(s4del[[#This Row],[Portfolio Company Name]],s11cumperf[],2,FALSE),\"\")))","v":""}]
[" ",{"$f":"IF(IFERROR(VLOOKUP(s4del[[#This Row],[Portfolio Company Name]],s11cumperf[],2,FALSE),\"\")=\"\",\"\",(IFERROR(VLOOKUP(s4del[[#This Row],[Portfolio Company Name]],s11cumperf[],2,FALSE),\"\")))","v":""}]
[" ",{"$f":"IF(IFERROR(VLOOKUP(s4del[[#This Row],[Portfolio Company Name]],s11cumperf[],2,FALSE),\"\")=\"\",\"\",(IFERROR(VLOOKUP(s4del[[#This Row],[Portfolio Company Name]],s11cumperf[],2,FALSE),\"\")))","v":""}]
[" ",{"$f":"IF(IFERROR(VLOOKUP(s4del[[#This Row],[Portfolio Company Name]],s11cumperf[],2,FALSE),\"\")=\"\",\"\",(IFERROR(VLOOKUP(s4del[[#This Row],[Portfolio Company Name]],s11cumperf[],2,FALSE),\"\")))","v":""}]
[" ",{"$f":"IF(IFERROR(VLOOKUP(s4del[[#This Row],[Portfolio Company Name]],s11cumperf[],2,FALSE),\"\")=\"\",\"\",(IFERROR(VLOOKUP(s4del[[#This Row],[Portfolio Company Name]],s11cumperf[],2,FALSE),\"\")))","v":""}]
[" ",{"$f":"IF(IFERROR(VLOOKUP(s4del[[#This Row],[Portfolio Company Name]],s11cumperf[],2,FALSE),\"\")=\"\",\"\",(IFERROR(VLOOKUP(s4del[[#This Row],[Portfolio Company Name]],s11cumperf[],2,FALSE),\"\")))","v":""}]
[" ",{"$f":"IF(IFERROR(VLOOKUP(s4del[[#This Row],[Portfolio Company Name]],s11cumperf[],2,FALSE),\"\")=\"\",\"\",(IFERROR(VLOOKUP(s4del[[#This Row],[Portfolio Company Name]],s11cumperf[],2,FALSE),\"\")))","v":""}]
[" ",{"$f":"IF(IFERROR(VLOOKUP(s4del[[#This Row],[Portfolio Company Name]],s11cumperf[],2,FALSE),\"\")=\"\",\"\",(IFERROR(VLOOKUP(s4del[[#This Row],[Portfolio Company Name]],s11cumperf[],2,FALSE),\"\")))","v":""}]
[" ",{"$f":"IF(IFERROR(VLOOKUP(s4del[[#This Row],[Portfolio Company Name]],s11cumperf[],2,FALSE),\"\")=\"\",\"\",(IFERROR(VLOOKUP(s4del[[#This Row],[Portfolio Company Name]],s11cumperf[],2,FALSE),\"\")))","v":""}]
[" ",{"$f":"IF(IFERROR(VLOOKUP(s4del[[#This Row],[Portfolio Company Name]],s11cumperf[],2,FALSE),\"\")=\"\",\"\",(IFERROR(VLOOKUP(s4del[[#This Row],[Portfolio Company Name]],s11cumperf[],2,FALSE),\"\")))","v":""}]
[" ",{"$f":"IF(IFERROR(VLOOKUP(s4del[[#This Row],[Portfolio Company Name]],s11cumperf[],2,FALSE),\"\")=\"\",\"\",(IFERROR(VLOOKUP(s4del[[#This Row],[Portfolio Company Name]],s11cumperf[],2,FALSE),\"\")))","v":""}]
[" ",{"$f":"IF(IFERROR(VLOOKUP(s4del[[#This Row],[Portfolio Company Name]],s11cumperf[],2,FALSE),\"\")=\"\",\"\",(IFERROR(VLOOKUP(s4del[[#This Row],[Portfolio Company Name]],s11cumperf[],2,FALSE),\"\")))","v":""}]

{"sheet":"S5Commit","index":15,"n_rows":30,"n_cols":26,"rows_kept":30}
["SCHEDULE 5",null,"SCHEDULE OF COMMITMENTS",{"$nulls":4},{"$f":"'1-Cover'!$G$1","v":"OMB Approval No. 3245-0063"}]
[null,null,{"$f":"\"FOR \"&Number_of_Months&\" MONTH PERIOD ENDED: \"&TEXT(Form468Date,\"MM/DD/YYYY\")","v":"FOR  MONTH PERIOD ENDED: 01/00/1900"},{"$nulls":4},{"$f":"'1-Cover'!$G$2","v":"Expiration Date MM/DD/YYYY"}]
[]
[{"$f":"\"Name of License:  \"&sbicname","v":"Name of License:  "},{"$f":"S4Del!B4","v":0},{"$nulls":5},{"$f":"\"License no.:  \"&TEXT(licenseno,\"00\\/00\\-0000\")","v":"License no.:  00/00-0000"}]
[]
[null,"Total",{"$f":"SUM(s5pccommit[Amount of Commitment])","v":0}]
[]
["A","B","C","D","E","F","G","H"]
["Portfolio Company Name","Employer ID","Amount of Commitment","Date Made","Expiration Date","Security Type","Investment Type","Commitment Type",{"$nulls":17},"Line of Credit"]
[" ",{"$f":"IF(IFERROR(VLOOKUP(s5pccommit[[#This Row],[Portfolio Company Name]],s11cumperf[],2,FALSE),\"\")=\"\",\"\",(IFERROR(VLOOKUP(s5pccommit[[#This Row],[Portfolio Company Name]],s11cumperf[],2,FALSE),\"\")))","v":""}]
[" ",{"$f":"IF(IFERROR(VLOOKUP(s5pccommit[[#This Row],[Portfolio Company Name]],s11cumperf[],2,FALSE),\"\")=\"\",\"\",(IFERROR(VLOOKUP(s5pccommit[[#This Row],[Portfolio Company Name]],s11cumperf[],2,FALSE),\"\")))","v":""}]
[" ",{"$f":"IF(IFERROR(VLOOKUP(s5pccommit[[#This Row],[Portfolio Company Name]],s11cumperf[],2,FALSE),\"\")=\"\",\"\",(IFERROR(VLOOKUP(s5pccommit[[#This Row],[Portfolio Company Name]],s11cumperf[],2,FALSE),\"\")))","v":""}]
[" ",{"$f":"IF(IFERROR(VLOOKUP(s5pccommit[[#This Row],[Portfolio Company Name]],s11cumperf[],2,FALSE),\"\")=\"\",\"\",(IFERROR(VLOOKUP(s5pccommit[[#This Row],[Portfolio Company Name]],s11cumperf[],2,FALSE),\"\")))","v":""}]
[" ",{"$f":"IF(IFERROR(VLOOKUP(s5pccommit[[#This Row],[Portfolio Company Name]],s11cumperf[],2,FALSE),\"\")=\"\",\"\",(IFERROR(VLOOKUP(s5pccommit[[#This Row],[Portfolio Company Name]],s11cumperf[],2,FALSE),\"\")))","v":""}]
[" ",{"$f":"IF(IFERROR(VLOOKUP(s5pccommit[[#This Row],[Portfolio Company Name]],s11cumperf[],2,FALSE),\"\")=\"\",\"\",(IFERROR(VLOOKUP(s5pccommit[[#This Row],[Portfolio Company Name]],s11cumperf[],2,FALSE),\"\")))","v":""}]
[" ",{"$f":"IF(IFERROR(VLOOKUP(s5pccommit[[#This Row],[Portfolio Company Name]],s11cumperf[],2,FALSE),\"\")=\"\",\"\",(IFERROR(VLOOKUP(s5pccommit[[#This Row],[Portfolio Company Name]],s11cumperf[],2,FALSE),\"\")))","v":""}]
[" ",{"$f":"IF(IFERROR(VLOOKUP(s5pccommit[[#This Row],[Portfolio Company Name]],s11cumperf[],2,FALSE),\"\")=\"\",\"\",(IFERROR(VLOOKUP(s5pccommit[[#This Row],[Portfolio Company Name]],s11cumperf[],2,FALSE),\"\")))","v":""}]
[" ",{"$f":"IF(IFERROR(VLOOKUP(s5pccommit[[#This Row],[Portfolio Company Name]],s11cumperf[],2,FALSE),\"\")=\"\",\"\",(IFERROR(VLOOKUP(s5pccommit[[#This Row],[Portfolio Company Name]],s11cumperf[],2,FALSE),\"\")))","v":""}]
[" ",{"$f":"IF(IFERROR(VLOOKUP(s5pccommit[[#This Row],[Portfolio Company Name]],s11cumperf[],2,FALSE),\"\")=\"\",\"\",(IFERROR(VLOOKUP(s5pccommit[[#This Row],[Portfolio Company Name]],s11cumperf[],2,FALSE),\"\")))","v":""}]
[" ",{"$f":"IF(IFERROR(VLOOKUP(s5pccommit[[#This Row],[Portfolio Company Name]],s11cumperf[],2,FALSE),\"\")=\"\",\"\",(IFERROR(VLOOKUP(s5pccommit[[#This Row],[Portfolio Company Name]],s11cumperf[],2,FALSE),\"\")))","v":""}]
[" ",{"$f":"IF(IFERROR(VLOOKUP(s5pccommit[[#This Row],[Portfolio Company Name]],s11cumperf[],2,FALSE),\"\")=\"\",\"\",(IFERROR(VLOOKUP(s5pccommit[[#This Row],[Portfolio Company Name]],s11cumperf[],2,FALSE),\"\")))","v":""}]
[" ",{"$f":"IF(IFERROR(VLOOKUP(s5pccommit[[#This Row],[Portfolio Company Name]],s11cumperf[],2,FALSE),\"\")=\"\",\"\",(IFERROR(VLOOKUP(s5pccommit[[#This Row],[Portfolio Company Name]],s11cumperf[],2,FALSE),\"\")))","v":""}]
[" ",{"$f":"IF(IFERROR(VLOOKUP(s5pccommit[[#This Row],[Portfolio Company Name]],s11cumperf[],2,FALSE),\"\")=\"\",\"\",(IFERROR(VLOOKUP(s5pccommit[[#This Row],[Portfolio Company Name]],s11cumperf[],2,FALSE),\"\")))","v":""}]
[" ",{"$f":"IF(IFERROR(VLOOKUP(s5pccommit[[#This Row],[Portfolio Company Name]],s11cumperf[],2,FALSE),\"\")=\"\",\"\",(IFERROR(VLOOKUP(s5pccommit[[#This Row],[Portfolio Company Name]],s11cumperf[],2,FALSE),\"\")))","v":""}]
[" ",{"$f":"IF(IFERROR(VLOOKUP(s5pccommit[[#This Row],[Portfolio Company Name]],s11cumperf[],2,FALSE),\"\")=\"\",\"\",(IFERROR(VLOOKUP(s5pccommit[[#This Row],[Portfolio Company Name]],s11cumperf[],2,FALSE),\"\")))","v":""}]
[" ",{"$f":"IF(IFERROR(VLOOKUP(s5pccommit[[#This Row],[Portfolio Company Name]],s11cumperf[],2,FALSE),\"\")=\"\",\"\",(IFERROR(VLOOKUP(s5pccommit[[#This Row],[Portfolio Company Name]],s11cumperf[],2,FALSE),\"\")))","v":""}]
[" ",{"$f":"IF(IFERROR(VLOOKUP(s5pccommit[[#This Row],[Portfolio Company Name]],s11cumperf[],2,FALSE),\"\")=\"\",\"\",(IFERROR(VLOOKUP(s5pccommit[[#This Row],[Portfolio Company Name]],s11cumperf[],2,FALSE),\"\")))","v":""}]
[" ",{"$f":"IF(IFERROR(VLOOKUP(s5pccommit[[#This Row],[Portfolio Company Name]],s11cumperf[],2,FALSE),\"\")=\"\",\"\",(IFERROR(VLOOKUP(s5pccommit[[#This Row],[Portfolio Company Name]],s11cumperf[],2,FALSE),\"\")))","v":""}]
[" ",{"$f":"IF(IFERROR(VLOOKUP(s5pccommit[[#This Row],[Portfolio Company Name]],s11cumperf[],2,FALSE),\"\")=\"\",\"\",(IFERROR(VLOOKUP(s5pccommit[[#This Row],[Portfolio Company Name]],s11cumperf[],2,FALSE),\"\")))","v":""}]
[" ",{"$f":"IF(IFERROR(VLOOKUP(s5pccommit[[#This Row],[Portfolio Company Name]],s11cumperf[],2,FALSE),\"\")=\"\",\"\",(IFERROR(VLOOKUP(s5pccommit[[#This Row],[Portfolio Company Name]],s11cumperf[],2,FALSE),\"\")))","v":""}]

{"sheet":"S6Guar","index":16,"n_rows":25,"n_cols":8,"rows_kept":25,"merged":[[0,1,0,6],[1,1,1,6]]}
["SCHEDULE 6","SCHEDULE OF GUARANTEES",{"$nulls":5},{"$f":"'1-Cover'!$G$1","v":"OMB Approval No. 3245-0063"}]
[null,{"$f":"\"FOR \"&Number_of_Months&\" MONTH PERIOD ENDED: \"&TEXT(Form468Date,\"MM/DD/YYYY\")","v":"FOR  MONTH PERIOD ENDED: 01/00/1900"},{"$nulls":5},{"$f":"'1-Cover'!$G$2","v":"Expiration Date MM/DD/YYYY"}]
[]
[{"$f":"\"Name of License:  \"&sbicname","v":"Name of License:  "},{"$f":"S5Commit!B4","v":0},{"$nulls":5},{"$f":"\"License no.:  \"&TEXT(licenseno,\"00\\/00\\-0000\")","v":"License no.:  00/00-0000"}]
[]
["Total",null,{"$f":"SUM(s6guar[Guarantee Amount])","v":0}]
[]
["A","B","C","D","E","F","G","H"]
["Portfolio Company Name","Employer ID","Guarantee Amount","Date Made","Expiration Date","Name of Guaranteed Party","Is guarantee collateralized? ","Description of underlying obligation of Small Business"]
[" ",{"$f":"IF(IFERROR(VLOOKUP(s6guar[[#This Row],[Portfolio Company Name]],s11cumperf[],2,FALSE),\"\")=\"\",\"\",(IFERROR(VLOOKUP(s6guar[[#This Row],[Portfolio Company Name]],s11cumperf[],2,FALSE),\"\")))","v":""}]
[" ",{"$f":"IF(IFERROR(VLOOKUP(s6guar[[#This Row],[Portfolio Company Name]],s11cumperf[],2,FALSE),\"\")=\"\",\"\",(IFERROR(VLOOKUP(s6guar[[#This Row],[Portfolio Company Name]],s11cumperf[],2,FALSE),\"\")))","v":""}]
[" ",{"$f":"IF(IFERROR(VLOOKUP(s6guar[[#This Row],[Portfolio Company Name]],s11cumperf[],2,FALSE),\"\")=\"\",\"\",(IFERROR(VLOOKUP(s6guar[[#This Row],[Portfolio Company Name]],s11cumperf[],2,FALSE),\"\")))","v":""}]
[" ",{"$f":"IF(IFERROR(VLOOKUP(s6guar[[#This Row],[Portfolio Company Name]],s11cumperf[],2,FALSE),\"\")=\"\",\"\",(IFERROR(VLOOKUP(s6guar[[#This Row],[Portfolio Company Name]],s11cumperf[],2,FALSE),\"\")))","v":""}]
[" ",{"$f":"IF(IFERROR(VLOOKUP(s6guar[[#This Row],[Portfolio Company Name]],s11cumperf[],2,FALSE),\"\")=\"\",\"\",(IFERROR(VLOOKUP(s6guar[[#This Row],[Portfolio Company Name]],s11cumperf[],2,FALSE),\"\")))","v":""}]
[" ",{"$f":"IF(IFERROR(VLOOKUP(s6guar[[#This Row],[Portfolio Company Name]],s11cumperf[],2,FALSE),\"\")=\"\",\"\",(IFERROR(VLOOKUP(s6guar[[#This Row],[Portfolio Company Name]],s11cumperf[],2,FALSE),\"\")))","v":""}]
[" ",{"$f":"IF(IFERROR(VLOOKUP(s6guar[[#This Row],[Portfolio Company Name]],s11cumperf[],2,FALSE),\"\")=\"\",\"\",(IFERROR(VLOOKUP(s6guar[[#This Row],[Portfolio Company Name]],s11cumperf[],2,FALSE),\"\")))","v":""}]
[" ",{"$f":"IF(IFERROR(VLOOKUP(s6guar[[#This Row],[Portfolio Company Name]],s11cumperf[],2,FALSE),\"\")=\"\",\"\",(IFERROR(VLOOKUP(s6guar[[#This Row],[Portfolio Company Name]],s11cumperf[],2,FALSE),\"\")))","v":""}]
[" ",{"$f":"IF(IFERROR(VLOOKUP(s6guar[[#This Row],[Portfolio Company Name]],s11cumperf[],2,FALSE),\"\")=\"\",\"\",(IFERROR(VLOOKUP(s6guar[[#This Row],[Portfolio Company Name]],s11cumperf[],2,FALSE),\"\")))","v":""}]
[" ",{"$f":"IF(IFERROR(VLOOKUP(s6guar[[#This Row],[Portfolio Company Name]],s11cumperf[],2,FALSE),\"\")=\"\",\"\",(IFERROR(VLOOKUP(s6guar[[#This Row],[Portfolio Company Name]],s11cumperf[],2,FALSE),\"\")))","v":""}]
[" ",{"$f":"IF(IFERROR(VLOOKUP(s6guar[[#This Row],[Portfolio Company Name]],s11cumperf[],2,FALSE),\"\")=\"\",\"\",(IFERROR(VLOOKUP(s6guar[[#This Row],[Portfolio Company Name]],s11cumperf[],2,FALSE),\"\")))","v":""}]
[" ",{"$f":"IF(IFERROR(VLOOKUP(s6guar[[#This Row],[Portfolio Company Name]],s11cumperf[],2,FALSE),\"\")=\"\",\"\",(IFERROR(VLOOKUP(s6guar[[#This Row],[Portfolio Company Name]],s11cumperf[],2,FALSE),\"\")))","v":""}]
[" ",{"$f":"IF(IFERROR(VLOOKUP(s6guar[[#This Row],[Portfolio Company Name]],s11cumperf[],2,FALSE),\"\")=\"\",\"\",(IFERROR(VLOOKUP(s6guar[[#This Row],[Portfolio Company Name]],s11cumperf[],2,FALSE),\"\")))","v":""}]
[" ",{"$f":"IF(IFERROR(VLOOKUP(s6guar[[#This Row],[Portfolio Company Name]],s11cumperf[],2,FALSE),\"\")=\"\",\"\",(IFERROR(VLOOKUP(s6guar[[#This Row],[Portfolio Company Name]],s11cumperf[],2,FALSE),\"\")))","v":""}]
[" ",{"$f":"IF(IFERROR(VLOOKUP(s6guar[[#This Row],[Portfolio Company Name]],s11cumperf[],2,FALSE),\"\")=\"\",\"\",(IFERROR(VLOOKUP(s6guar[[#This Row],[Portfolio Company Name]],s11cumperf[],2,FALSE),\"\")))","v":""}]
[" ",{"$f":"IF(IFERROR(VLOOKUP(s6guar[[#This Row],[Portfolio Company Name]],s11cumperf[],2,FALSE),\"\")=\"\",\"\",(IFERROR(VLOOKUP(s6guar[[#This Row],[Portfolio Company Name]],s11cumperf[],2,FALSE),\"\")))","v":""}]

{"sheet":"S7Cash","index":17,"n_rows":39,"n_cols":13,"rows_kept":39,"merged":[[10,8,10,9],[10,10,10,11],[11,0,11,7],[11,8,11,9],[11,10,11,11],[16,8,16,9],[16,10,16,11],[17,0,17,7],[17,8,17,9],[17,10,17,11],[22,8,22,9],[22,10,22,11],[23,0,23,7],[23,8,23,9],[23,10,23,11],[28,8,28,9],[28,10,28,11],[29,0,29,7],[29,8,29,9],[29,10,29,11],[34,8,34,9],[34,10,34,11],[35,0,35,7],[35,8,35,9],[35,10,35,11],[37,10,37,11],[38,10,38,11]]}
["SCHEDULE 7",{"$nulls":4},"SCHEDULE OF CASH AND INVESTED IDLE FUNDS",{"$nulls":5},{"$f":"'1-Cover'!$G$1","v":"OMB Approval No. 3245-0063"}]
[{"$nulls":5},{"$f":"\"FOR \"&Number_of_Months&\" MONTH PERIOD ENDED: \"&TEXT(Form468Date,\"MM/DD/YYYY\")","v":"FOR  MONTH PERIOD ENDED: 01/00/1900"},{"$nulls":5},{"$f":"'1-Cover'!$G$2","v":"Expiration Date MM/DD/YYYY"}]
[]
[{"$f":"\"Name of License:  \"&sbicname","v":"Name of License:  "},null,{"$f":"S6Guar!B4","v":0},{"$nulls":8},{"$f":"\"License no.:  \"&TEXT(licenseno,\"00\\/00\\-0000\")","v":"License no.:  00/00-0000"}]
[]
[{"$nulls":5},"COMPLETE SCHEDULE ONLY IF LEVERAGED LICENSEE."]
[]
[]
["I. U.S. GOVERNMENT OBLIGATIONS (direct or guaranteed)"]
[]
["Description",{"$nulls":7}," Maturity Date",null," Amount"]
[]
[]
[]
["II. REPURCHASE AGREEMENTS WITH FEDERALLY-INSURED INSTITUTION"]
[]
["Name and Location of Financial Institution ",{"$nulls":7}," Maturity Date",null," Amount"]
[]
[]
[]
["III. CERTIFICATES OF DEPOSIT ISSUED BY FEDERALLY-INSURED INSTITUTIONS"]
[]
["Name and Location of Financial Institution ",{"$nulls":7}," Maturity Date",null," Amount"]
[]
[]
[]
["IV. DEMAND DEPOSIT, MONEY MARKET, AND SAVING ACCOUNTS IN FEDERALLY-INSURED INSTITUTIONS"]
[]
["Name and Location of Financial Institution ",{"$nulls":7}," Maturity Date",null," Amount"]
[{"$nulls":10},0]
[]
[]
["V. OTHER CASH AND INVESTED IDLE FUNDS"]
[]
["Description ",{"$nulls":7}," Maturity Date",null," Amount"]
[]
[]
[{"$nulls":9},"TOTAL CASH, CASH EQUIVALENTS AND IDLE FUNDS",{"$f":"SUM(K12:L36)","v":0}]
[{"$nulls":9},"(total must agree with sum of lines 14 and 15, page 2P)",{"$f":"'2&3-Bal'!F40+'2&3-Bal'!F41","v":0},null,"*"]

{"sheet":"S8Dist","index":18,"n_rows":38,"n_cols":16,"rows_kept":38}
[{"$nulls":10},"Expand column if more distributions are needed."]
["SCHEDULE 8",{"$nulls":4},"DISTRIBUTION SCHEDULE",{"$nulls":3},{"$f":"'1-Cover'!$G$1","v":"OMB Approval No. 3245-0063"},null,null,"Distributions Schedule",null,null,{"$f":"'1-Cover'!$G$1","v":"OMB Approval No. 3245-0063"}]
[{"$nulls":5},{"$f":"\"FOR \"&Number_of_Months&\" MONTH PERIOD ENDED: \"&TEXT(Form468Date,\"MM/DD/YYYY\")","v":"FOR  MONTH PERIOD ENDED: 01/00/1900"},{"$nulls":3},{"$f":"'1-Cover'!$G$2","v":"Expiration Date MM/DD/YYYY"},null,null,"FOR 3 MONTH PERIOD ENDED: 03/31/2022",null,null,{"$f":"'1-Cover'!$G$2","v":"Expiration Date MM/DD/YYYY"}]
["Only required for Accrual and Reinvestor SBICs"]
[{"$f":"\"Name of License:  \"&sbicname","v":"Name of License:  "},{"$nulls":3},{"$f":"S7Cash!C4","v":0},{"$nulls":4},{"$f":"\"License no.:  \"&TEXT(licenseno,\"00\\/00\\-0000\")","v":"License no.:  00/00-0000"},{"$nulls":4},"License No:",{"$f":"licenseno","v":"00000000"}]
[]
["A. SBA SHARE PERCENTAGE"]
[null,{"v":1,"d":"1. "},"Total SBA Intended Leverage Commitment",{"$nulls":8},{"$f":"F8","v":0}]
[null,{"v":2,"d":"2. "},"Total Private Capital Commitment",{"$nulls":8},{"$f":"F9","v":0}]
[null,{"v":3,"d":"3. "},"SBA's Share Percentage",null,null,{"$f":"IFERROR(F8/SUM(F8:F9),0)","v":{"v":0,"d":"0.0%"}},{"$nulls":5},{"$f":"sbapct","v":{"v":0,"d":"0.0%"}}]
[]
["B.  ","DISTRIBUTIONS",{"$nulls":3},1,2,3,4,5,null,6,7,8,9,10]
[null,{"v":1,"d":"1. "},"Distribution Date"]
[null,{"v":2,"d":"2. "},"Accrued Interest Paid",null,null,0]
[null,{"v":3,"d":"3. "},"Annual Charge Paid",null,null,0]
[null,{"v":4,"d":"4. "},"Total Distributions After Accrued Interest & Annual Charges",null,null,0]
[null,{"v":5,"d":"5. "},"SBA Share"]
[null,null,"a.","SBA Calculated Share",null,{"$f":"IFERROR(F16*sbapct,\"\")","v":0},0,0,0,0,null,0,0,0,0,0]
[null,null,"b.","Beginning SBA Leverage Balance",null,0]
[null,null,"c.","Minimum Amount to SBA Leverage Redemption",null,{"$f":"MIN(F19,F18)","v":0},{"$f":"MIN(G19,G18)","v":0},{"$f":"MIN(H19,H18)","v":0},{"$f":"MIN(I19,I18)","v":0},{"$f":"MIN(J19,J18)","v":0},null,{"$f":"MIN(L19,L18)","v":0},{"$f":"MIN(M19,M18)","v":0},{"$f":"MIN(N19,N18)","v":0},{"$f":"MIN(O19,O18)","v":0},{"$f":"MIN(P19,P18)","v":0}]
[null,null,"d.","Amount to SBA Leverage",null,0]
[null,null,"e.","Ending SBA Leverage Balance",null,{"$f":"F19-F21","v":0},{"$f":"G19-G21","v":0},{"$f":"H19-H21","v":0},{"$f":"I19-I21","v":0},{"$f":"J19-J21","v":0},null,{"$f":"L19-L21","v":0},{"$f":"M19-M21","v":0},{"$f":"N19-N21","v":0},{"$f":"O19-O21","v":0},{"$f":"P19-P21","v":0}]
[null,null,"f.","Beginning SBA Outstanding Commitments",null,0]
[null,null,"g.","Minimum Amount of SBA Commitments to Cancel",null,{"$f":"IFERROR(MIN(F23,MAX(F18-F21,0)),0)","v":0},{"$f":"IFERROR(MIN(G23,MAX(G18-G21,0)),0)","v":0},{"$f":"IFERROR(MIN(H23,MAX(H18-H21,0)),0)","v":0},{"$f":"IFERROR(MIN(I23,MAX(I18-I21,0)),0)","v":0},{"$f":"IFERROR(MIN(J23,MAX(J18-J21,0)),0)","v":0},null,{"$f":"IFERROR(MIN(L23,MAX(L18-L21,0)),0)","v":0},{"$f":"IFERROR(MIN(M23,MAX(M18-M21,0)),0)","v":0},{"$f":"IFERROR(MIN(N23,MAX(N18-N21,0)),0)","v":0},{"$f":"IFERROR(MIN(O23,MAX(O18-O21,0)),0)","v":0},{"$f":"IFERROR(MIN(P23,MAX(P18-P21,0)),0)","v":0}]
[null,null,"h.","Amount of Commitments Being Cancelled",null,0]
[null,null,"i.","Ending SBA Outstanding Commitments",null,{"$f":"F23-F25","v":0},{"$f":"G23-G25","v":0},{"$f":"H23-H25","v":0},{"$f":"I23-I25","v":0},{"$f":"J23-J25","v":0},null,{"$f":"L23-L25","v":0},{"$f":"M23-M25","v":0},{"$f":"N23-N25","v":0},{"$f":"O23-O25","v":0},{"$f":"P23-P25","v":0}]
[null,{"v":6,"d":"6. "},"Distributions to Private Investors"]
[null,null,"a.","Amount Available to Private Investors",null,{"$f":"F16-MAX(F21,F20)","v":0},{"$f":"G16-MAX(G21,G20)","v":0},{"$f":"H16-MAX(H21,H20)","v":0},0,0,null,0,0,0,0,0]
[{"$nulls":3},{"v":1,"d":"1)"},"Amount Distributed to Private Investors & GP",0]
[{"$nulls":3},{"v":2,"d":"2)"},"Amount to Carried Interest",0]
[{"$nulls":3},{"v":3,"d":"3)"},"Amount to Investors After Carried Interest",{"$f":"F29-F30","v":0},{"$f":"G29-G30","v":0},{"$f":"H29-H30","v":0},{"$f":"I29-I30","v":0},{"$f":"J29-J30","v":0},null,{"$f":"L29-L30","v":0},{"$f":"M29-M30","v":0},{"$f":"N29-N30","v":0},{"$f":"O29-O30","v":0},{"$f":"P29-P30","v":0}]
[null,null,"b.  ","Return of Capital Distributions"]
[{"$nulls":3},{"v":1,"d":"1)"},"Beginning Leverageable Capital",0]
[{"$nulls":3},{"v":2,"d":"2)"},"Beginning Regulatory Capital",0]
[{"$nulls":3},{"v":3,"d":"3)"},"Amount of 6.a.1 Distributed as Return of Capital",0]
[{"$nulls":3},{"v":4,"d":"4)"},"Ending Leverageable Capital",{"$f":"F33-F35","v":0},{"$f":"G33-G35","v":0},{"$f":"H33-H35","v":0},{"$f":"I33-I35","v":0},{"$f":"J33-J35","v":0},null,{"$f":"L33-L35","v":0},{"$f":"M33-M35","v":0},{"$f":"N33-N35","v":0},{"$f":"O33-O35","v":0},{"$f":"P33-P35","v":0}]
[{"$nulls":3},{"v":5,"d":"5)"},"Ending Regulatory Capital",{"$f":"F34-F35","v":0},{"$f":"G34-G35","v":0},{"$f":"H34-H35","v":0},{"$f":"I34-I35","v":0},{"$f":"J34-J35","v":0},null,{"$f":"L34-L35","v":0},{"$f":"M34-M35","v":0},{"$f":"N34-N35","v":0},{"$f":"O34-O35","v":0},{"$f":"P34-P35","v":0}]
[null,null,"c.  Amout of 6.a.1 Distributed as READ",null,null,{"$f":"F29-F35","v":0},{"$f":"G29-G35","v":0},{"$f":"H29-H35","v":0},{"$f":"I29-I35","v":0},{"$f":"J29-J35","v":0},null,{"$f":"L29-L35","v":0},{"$f":"M29-M35","v":0},{"$f":"N29-N35","v":0},{"$f":"O29-O35","v":0},{"$f":"P29-P35","v":0}]

{"sheet":"Certifications","index":19,"n_rows":50,"n_cols":25,"rows_kept":50,"merged":[[8,2,9,9],[10,15,13,23],[15,15,18,23],[18,2,20,10],[22,2,23,10],[24,15,26,23],[25,2,26,10],[27,17,27,18],[27,22,27,23],[28,17,28,18],[28,22,28,23],[29,2,34,10],[33,15,34,22],[38,15,38,22],[39,15,40,23],[42,2,45,10],[42,15,45,23],[47,17,47,18],[47,22,47,23],[48,17,48,18],[48,22,48,23],[49,17,49,18],[49,22,49,23]]}
["Partnership",{"$nulls":12},"Corporate"]
[{"$nulls":6},"CERTIFICATIONS",{"$nulls":4},{"$f":"'1-Cover'!$G$1","v":"OMB Approval No. 3245-0063"},{"$nulls":7},"CERTIFICATIONS",{"$nulls":4},{"$f":"'1-Cover'!$G$1","v":"OMB Approval No. 3245-0063"}]
[{"$nulls":11},{"$f":"'1-Cover'!$G$2","v":"Expiration Date MM/DD/YYYY"},{"$nulls":12},{"$f":"'1-Cover'!$G$2","v":"Expiration Date MM/DD/YYYY"}]
[]
[null,{"$f":"\"Name of License:  \"&sbicname","v":"Name of License:  "},null,{"$f":"sbicname","v":0},{"$nulls":7},{"$f":"\"License no.:  \"&TEXT(licenseno,\"00\\/00\\-0000\")","v":"License no.:  00/00-0000"},null,null,{"$f":"\"Name of License:  \"&sbicname","v":"Name of License:  "},{"$nulls":9},{"$f":"\"License no.:  \"&TEXT(licenseno,\"00\\/00\\-0000\")","v":"License no.:  00/00-0000"}]
[]
[{"$nulls":6},"MANAGEMENT CERTIFICATION",{"$nulls":12},"MANAGEMENT CERTIFICATION"]
[]
[null,null,{"$f":"\"I, [, a General Partner of \"&sbicname&\" (Licensee),] [ , a General Partner of the General Partner of \"&sbicname&\" (Licensee),]\"","v":"I, [, a General Partner of  (Licensee),] [ , a General Partner of the General Partner of  (Licensee),]"},{"$nulls":12},{"$f":"\"I, the Chief Financial Office of \"&sbicname&\" (Licensee), do hereby certify as follows:\"","v":"I, the Chief Financial Office of  (Licensee), do hereby certify as follows:"}]
[]
[{"$nulls":15},{"$f":"\"1.  The \"&IF(LEFT(ReportType,1)=\"a\",\" audited \",\"\")&ReportType&IF(LEFT(ReportType,1)=\"a\",\" for the fiscal year ended \",\" for the \"&Number_of_Months&\" months ended \") &TEXT(Form468Date,\"mmmm-dd, yyyy\")&\" submitted by \"&sbicname&\" (Licensee) to the Small Business Administration on SBA Form 468 is true and correct in all aspects.  The statements and schedules listed below have been omitted from the submission.\"","v":"1.  The Quarterly Report for the  months ended January-00, 1900 submitted by  (Licensee) to the Small Business Administration on SBA Form 468 is true and correct in all aspects.  The statements and schedules listed below have been omitted from the submission."}]
[null,null,{"$f":"\"[, a Managing Member of , the General Partner of \"&sbicname&\" (Licensee),]\"","v":"[, a Managing Member of , the General Partner of  (Licensee),]"}]
[]
[null,null,{"$f":"\"[, the President of , the General Partner of \"&sbicname&\" (Licensee),]\"","v":"[, the President of , the General Partner of  (Licensee),]"}]
[{"$nulls":15},"STATEMENTS AND SCHEDULES OMITTED:"]
[null,null,"do hereby certify as follows:"]
[]
[]
[null,null,{"$f":"\"1.  The \"&IF(LEFT(ReportType,1)=\"a\",\"unaudited \",\"\")&ReportType&IF(LEFT(ReportType,1)=\"a\",\" for the quarter ended \",\" for the \"&Number_of_Months&\" months ended \") &TEXT(Form468Date,\"mmmm dd, yyyy\")&\" submitted by \"&sbicname&\" (Licensee) to the Small Business Administration on SBA Form 468 is true and correct in all aspects.  The statements and schedules listed below have been omitted from the submission.\"","v":"1.  The Quarterly Report for the  months ended January 00, 1900 submitted by  (Licensee) to the Small Business Administration on SBA Form 468 is true and correct in all aspects.  The statements and schedules listed below have been omitted from the submission."}]
[]
[{"$nulls":15},"Total Assets:",{"$nulls":6},{"$f":"cytotalassets","v":0}]
[{"$nulls":15},"Net Income (Loss):",{"$nulls":6},{"$f":"cytd_netincome","v":0}]
[null,null,{"$f":"\"2. The General Partner of \"&sbicname&\" (Licensee) has reviewed and approved the Quarterly Report for the \"&Number_of_Months&\" months ended \" &TEXT(Form468Date,\"mmmm dd, yyyy\")&\".\"","v":"2. The General Partner of  (Licensee) has reviewed and approved the Quarterly Report for the  months ended January 00, 1900."},{"$nulls":12},"Cash, Cash Equivalents, and Idle Funds at End of Period:",{"$nulls":6},{"$f":"cycash+cyidle","v":0}]
[]
[{"$nulls":15},"CAUTION: By signing below, you are certifying as to the truth and accuracy of theFinancial Report in all respects, and acknowledging that officials in the Small Business Administration (SBA) will be relying on this certification. Knowingly making a false statement to or concealing a material fact from the SBA can lead to imprisonment of up to 30 years and/or a fine of up to $1,000,000 under 18 U.S.C. § 1014."]
[null,null,{"$f":"\"3. \"&sbicname&\" (Licensee) is in good standing under the laws of the State of \"&'1-Cover'!C14&\".\"","v":"3.  (Licensee) is in good standing under the laws of the State of ."}]
[]
[{"$nulls":16},"Title:",{"$nulls":4},"Title:"]
[null,null,"STATEMENTS AND SCHEDULES OMITTED:",{"$nulls":13},"Date:",{"$nulls":4},"Date:"]
[]
[]
[{"$nulls":19},"SECRETARY'S CERTIFICATION"]
[]
[{"$nulls":15},{"$f":"\"I, the duly elected, qualified and acting Secretary of \"&sbicname&\"(Licensee), do hereby certify as follows:\"","v":"I, the duly elected, qualified and acting Secretary of (Licensee), do hereby certify as follows:"}]
[]
[]
[{"$nulls":15},{"$f":"\"1. \"&sbicname&\" (Licensee) is in good standing under the laws of the State of \"&sbicstate&\".\"","v":{"$error":"#N/A"}},{"$nulls":7},"."]
[null,null,"Total Assets: ",{"$nulls":6},{"$f":"totassets","v":0}]
[null,null,"Net Income (Loss): ",{"$nulls":6},{"$f":"'4-NI'!H58","v":0},{"$nulls":5},{"$f":"\"2. The minutes of the meeting of the Board of Directors of \"&sbicname&\" (Licensee) on \"","v":"2. The minutes of the meeting of the Board of Directors of  (Licensee) on "},{"$nulls":8},","]
[null,null,"Cash and Cash Equivalents and Idle Funds at End of Period:",{"$nulls":6},{"$f":"cycash","v":0},{"$nulls":5},{"$f":"\"document that the Board at each meeting, reviewed and approved the \"& IF(LEFT(ReportType,1)=\"a\",\"audited  \",\"\")&ReportType&\" of such company \"&IF(LEFT(ReportType,1)=\"a\",\" for the fiscal year ended \",\"for the \"&Number_of_Months&\" months ended \") &TEXT(Form468Date,\"mmmm dd, yyyy\")&\".\"","v":"document that the Board at each meeting, reviewed and approved the Quarterly Report of such company for the  months ended January 00, 1900."}]
[]
[]
[null,null,"CAUTION: By signing below, you are certifying as to the truth and accuracy of the Financial Report in all respects, and acknowledging that officials in the Small Business Administration (SBA) will be relying on this certification. Knowingly making a false statement to or concealing a material fact from the SBA can lead to imprisonment of up to 30 years and/or a fine of up to $1,000,000 under 18 U.S.C. § 1014. \n\nThe undersigned certifies that the attached SBA Form 468 was prepared using the MS Excel Workbook Form provided by SBA, without modification to any aspect of that Form and the formulae contained therein, other than the addition of Licensee data and information (as contemplated by the instructions provided by SBA).",{"$nulls":12},"CAUTION: By signing below, you are certifying as to the truth and accuracy of theFinancial Report in all respects, and acknowledging that officials in the Small Business Administration (SBA) will be relying on this certification. Knowingly making a false statement to or concealing a material fact from the SBA can lead to imprisonment of up to 30 years and/or a fine of up to $1,000,000 under 18 U.S.C. § 1014."]
[]
[]
[{"$nulls":15},"do hereby certify as follows:"]
[]
[null,null,"Date:",null,null,"Name:",null,null,"Signature:",{"$nulls":7},"Name:",{"$nulls":4},"Signature:"]
[{"$nulls":5},"Title:",{"$nulls":10},"Title:",{"$nulls":4},"Title:"]
[{"$nulls":16},"Date:",{"$nulls":4},"Date:"]

{"sheet":"S11cumperf","index":20,"n_rows":100,"n_cols":38,"rows_kept":100,"merged":[[14,21,14,30],[15,6,15,8],[15,13,15,19],[15,20,15,24],[15,25,15,30]]}
["SCHEDULE 11",{"$nulls":6},"UNAUDITED SBIC CUMULATIVE INVESTMENT",{"$nulls":4},{"$f":"ombapproval","v":"OMB Approval No. 3245-0063"},{"$nulls":17},{"$f":"ombapproval","v":"OMB Approval No. 3245-0063"}]
[{"$nulls":7},{"$f":"\"PERIOD ENDED: \"&TEXT(Form468Date,\"MM/DD/YYYY\")","v":"PERIOD ENDED: 01/00/1900"},{"$nulls":4},{"$f":"expirationdate","v":"Expiration Date MM/DD/YYYY"},{"$nulls":17},{"$f":"expirationdate","v":"Expiration Date MM/DD/YYYY"}]
[]
[{"$f":"\"Name of License:  \"&sbicname","v":"Name of License:  "},{"$f":"sbicname","v":0},{"$nulls":10},{"$f":"\"License no.:  \"&TEXT(licenseno,\"00\\/00\\-0000\")","v":"License no.:  00/00-0000"},{"$nulls":17},{"$f":"\"License no.:  \"&TEXT(licenseno,\"00\\/00\\-0000\")","v":"License no.:  00/00-0000"}]
[]
["Include all investments, both realized and unrealized, made by the SBIC since the fund commencement date or October 1, 1993, whichever is later. If historical information is unavailable in the"]
["format requested, you may omit (1) investments realized or written off on or before June 30, 2011, and (2) for investments held as of July 1, 2011, gross receipts received on or before June 30, 2011."]
[]
["Note 1 - Gross Receipts to Total Dollars Invested"]
["Note 2 - (Gross Receipts + GAAP Fair Market Value) to Total Dollars Invested"]
[{"$nulls":3},"Number of Portfolio Companies","Number of Investments Since Inception","Total Dollars Invested","Gross Receipts Cash","Gross Receipts Equity","Total","SBA Reported Value","GAAP Reported Value","Cash Mult. See Note 1","Mult. See Note 2"]
[null,null,"Totals",{"$f":"COUNTA(s11cumperf[Portfolio Company Name])","v":0},{"$f":"SUM(s11cumperf[Number of Investments Since Inception])","v":0},{"$f":"SUM(s11cumperf[Total Dollars Invested])","v":0},{"$f":"SUM(s11cumperf[Gross Receipts Cash])","v":0},{"$f":"SUM(s11cumperf[Gross Receipts Equity])","v":0},{"$f":"SUM(s11cumperf[Total Receipts])","v":0},{"$f":"SUM(s11cumperf[SBA Reported Value])","v":0},{"$f":"SUM(s11cumperf[GAAP Reported Value])","v":0},{"$f":"IFERROR(I12/F12,0)","v":{"v":0,"d":"0.00x"}},{"$f":"IFERROR((I12+K12)/F12,0)","v":{"v":0,"d":"0.00x"}},{"$nulls":8},"*Owner defined as ownership >50% equity shares in the company."]
[{"$nulls":21},"**Reinvestor SBICs use Appendix B for underlying funds demographic information and portfolio company jobs data. Do not complete via this form."]
["A","B","C","D","E","F","G","H","I","J","K","L","M",{"$nulls":7},"N","O","P","Q","R","S","T","U","V","W","X"]
[{"$nulls":21},"Voluntary Demographic Information**"]
[{"$nulls":6},"Gross Receipts",null,null,"* Columns I and J pulled from Schedule 1.",{"$nulls":3},"Jobs Data**",{"$nulls":6},"Founder and/or Majority Owner*",{"$nulls":4},"CEO or Equivalent"]
["Portfolio Company Name","Employer ID","Realization Status","Date of 1st Investment","Number of Investments Since Inception","Total Dollars Invested","Gross Receipts Cash","Gross Receipts Equity","Total Receipts","SBA Reported Value","GAAP Reported Value","Cash Mult. See Note 1","Mult. See Note 2","Full-time Employees #","Part-time Employees #","Total # of Employees","Net Employee Count Increase/Decrease in last 12 months","# of Employees with Company Equity Ownership","Average Employee Tenure (years)","Median Salary ","Founder or Owner Veteran"," Founder or Owner Gender","Founder or Owner Race","Founder or Owner Ethnicity","Founder - Person with Disabilities","CEO or Equivalent Veteran","CEO or Equivalent Gender","CEO or Equivalent Race","CEO or Equivalent Ethnicity","CEO or Equivalent Person - with Disabilities",{"$nulls":7},"Female"]
[{"$nulls":8},{"$f":"s11cumperf[[#This Row],[Gross Receipts Cash]]+s11cumperf[[#This Row],[Gross Receipts Equity]]","v":0},{"$f":"SUMIF(s1inv[Employer ID],s11cumperf[[#This Row],[Employer ID]],s1inv[SBA Reported Value (B)])","v":0},{"$f":"SUMIF(s1inv[Employer ID],s11cumperf[[#This Row],[Employer ID]],s1inv[GAAP Reported Value (C)])","v":0},{"$f":"IFERROR(s11cumperf[[#This Row],[Total Receipts]]/s11cumperf[[#This Row],[Total Dollars Invested]],\"\")","v":""},{"$f":"IFERROR((s11cumperf[[#This Row],[Total Receipts]]+s11cumperf[[#This Row],[SBA Reported Value]])/s11cumperf[[#This Row],[Total Dollars Invested]],\"\")","v":""},{"$nulls":23},"Y","X"]
[{"$nulls":8},{"$f":"s11cumperf[[#This Row],[Gross Receipts Cash]]+s11cumperf[[#This Row],[Gross Receipts Equity]]","v":0},{"$f":"SUMIF(s1inv[Employer ID],s11cumperf[[#This Row],[Employer ID]],s1inv[SBA Reported Value (B)])","v":0},{"$f":"SUMIF(s1inv[Employer ID],s11cumperf[[#This Row],[Employer ID]],s1inv[GAAP Reported Value (C)])","v":0},{"$f":"IFERROR(s11cumperf[[#This Row],[Total Receipts]]/s11cumperf[[#This Row],[Total Dollars Invested]],\"\")","v":""},{"$f":"IFERROR((s11cumperf[[#This Row],[Total Receipts]]+s11cumperf[[#This Row],[SBA Reported Value]])/s11cumperf[[#This Row],[Total Dollars Invested]],\"\")","v":""},{"$nulls":23},"N","Undisclosed"]
[{"$nulls":8},{"$f":"s11cumperf[[#This Row],[Gross Receipts Cash]]+s11cumperf[[#This Row],[Gross Receipts Equity]]","v":0},{"$f":"SUMIF(s1inv[Employer ID],s11cumperf[[#This Row],[Employer ID]],s1inv[SBA Reported Value (B)])","v":0},{"$f":"SUMIF(s1inv[Employer ID],s11cumperf[[#This Row],[Employer ID]],s1inv[GAAP Reported Value (C)])","v":0},{"$f":"IFERROR(s11cumperf[[#This Row],[Total Receipts]]/s11cumperf[[#This Row],[Total Dollars Invested]],\"\")","v":""},{"$f":"IFERROR((s11cumperf[[#This Row],[Total Receipts]]+s11cumperf[[#This Row],[SBA Reported Value]])/s11cumperf[[#This Row],[Total Dollars Invested]],\"\")","v":""},{"$nulls":23},"Undisclosed"]
[{"$nulls":8},{"$f":"s11cumperf[[#This Row],[Gross Receipts Cash]]+s11cumperf[[#This Row],[Gross Receipts Equity]]","v":0},{"$f":"SUMIF(s1inv[Employer ID],s11cumperf[[#This Row],[Employer ID]],s1inv[SBA Reported Value (B)])","v":0},{"$f":"SUMIF(s1inv[Employer ID],s11cumperf[[#This Row],[Employer ID]],s1inv[GAAP Reported Value (C)])","v":0},{"$f":"IFERROR(s11cumperf[[#This Row],[Total Receipts]]/s11cumperf[[#This Row],[Total Dollars Invested]],\"\")","v":""},{"$f":"IFERROR((s11cumperf[[#This Row],[Total Receipts]]+s11cumperf[[#This Row],[SBA Reported Value]])/s11cumperf[[#This Row],[Total Dollars Invested]],\"\")","v":""}]
[{"$nulls":8},{"$f":"s11cumperf[[#This Row],[Gross Receipts Cash]]+s11cumperf[[#This Row],[Gross Receipts Equity]]","v":0},{"$f":"SUMIF(s1inv[Employer ID],s11cumperf[[#This Row],[Employer ID]],s1inv[SBA Reported Value (B)])","v":0},{"$f":"SUMIF(s1inv[Employer ID],s11cumperf[[#This Row],[Employer ID]],s1inv[GAAP Reported Value (C)])","v":0},{"$f":"IFERROR(s11cumperf[[#This Row],[Total Receipts]]/s11cumperf[[#This Row],[Total Dollars Invested]],\"\")","v":""},{"$f":"IFERROR((s11cumperf[[#This Row],[Total Receipts]]+s11cumperf[[#This Row],[SBA Reported Value]])/s11cumperf[[#This Row],[Total Dollars Invested]],\"\")","v":""}]
[{"$nulls":8},{"$f":"s11cumperf[[#This Row],[Gross Receipts Cash]]+s11cumperf[[#This Row],[Gross Receipts Equity]]","v":0},{"$f":"SUMIF(s1inv[Employer ID],s11cumperf[[#This Row],[Employer ID]],s1inv[SBA Reported Value (B)])","v":0},{"$f":"SUMIF(s1inv[Employer ID],s11cumperf[[#This Row],[Employer ID]],s1inv[GAAP Reported Value (C)])","v":0},{"$f":"IFERROR(s11cumperf[[#This Row],[Total Receipts]]/s11cumperf[[#This Row],[Total Dollars Invested]],\"\")","v":""},{"$f":"IFERROR((s11cumperf[[#This Row],[Total Receipts]]+s11cumperf[[#This Row],[SBA Reported Value]])/s11cumperf[[#This Row],[Total Dollars Invested]],\"\")","v":""}]
[{"$nulls":8},{"$f":"s11cumperf[[#This Row],[Gross Receipts Cash]]+s11cumperf[[#This Row],[Gross Receipts Equity]]","v":0},{"$f":"SUMIF(s1inv[Employer ID],s11cumperf[[#This Row],[Employer ID]],s1inv[SBA Reported Value (B)])","v":0},{"$f":"SUMIF(s1inv[Employer ID],s11cumperf[[#This Row],[Employer ID]],s1inv[GAAP Reported Value (C)])","v":0},{"$f":"IFERROR(s11cumperf[[#This Row],[Total Receipts]]/s11cumperf[[#This Row],[Total Dollars Invested]],\"\")","v":""},{"$f":"IFERROR((s11cumperf[[#This Row],[Total Receipts]]+s11cumperf[[#This Row],[SBA Reported Value]])/s11cumperf[[#This Row],[Total Dollars Invested]],\"\")","v":""}]
[{"$nulls":8},{"$f":"s11cumperf[[#This Row],[Gross Receipts Cash]]+s11cumperf[[#This Row],[Gross Receipts Equity]]","v":0},{"$f":"SUMIF(s1inv[Employer ID],s11cumperf[[#This Row],[Employer ID]],s1inv[SBA Reported Value (B)])","v":0},{"$f":"SUMIF(s1inv[Employer ID],s11cumperf[[#This Row],[Employer ID]],s1inv[GAAP Reported Value (C)])","v":0},{"$f":"IFERROR(s11cumperf[[#This Row],[Total Receipts]]/s11cumperf[[#This Row],[Total Dollars Invested]],\"\")","v":""},{"$f":"IFERROR((s11cumperf[[#This Row],[Total Receipts]]+s11cumperf[[#This Row],[SBA Reported Value]])/s11cumperf[[#This Row],[Total Dollars Invested]],\"\")","v":""}]
[{"$nulls":8},{"$f":"s11cumperf[[#This Row],[Gross Receipts Cash]]+s11cumperf[[#This Row],[Gross Receipts Equity]]","v":0},{"$f":"SUMIF(s1inv[Employer ID],s11cumperf[[#This Row],[Employer ID]],s1inv[SBA Reported Value (B)])","v":0},{"$f":"SUMIF(s1inv[Employer ID],s11cumperf[[#This Row],[Employer ID]],s1inv[GAAP Reported Value (C)])","v":0},{"$f":"IFERROR(s11cumperf[[#This Row],[Total Receipts]]/s11cumperf[[#This Row],[Total Dollars Invested]],\"\")","v":""},{"$f":"IFERROR((s11cumperf[[#This Row],[Total Receipts]]+s11cumperf[[#This Row],[SBA Reported Value]])/s11cumperf[[#This Row],[Total Dollars Invested]],\"\")","v":""}]
[{"$nulls":8},{"$f":"s11cumperf[[#This Row],[Gross Receipts Cash]]+s11cumperf[[#This Row],[Gross Receipts Equity]]","v":0},{"$f":"SUMIF(s1inv[Employer ID],s11cumperf[[#This Row],[Employer ID]],s1inv[SBA Reported Value (B)])","v":0},{"$f":"SUMIF(s1inv[Employer ID],s11cumperf[[#This Row],[Employer ID]],s1inv[GAAP Reported Value (C)])","v":0},{"$f":"IFERROR(s11cumperf[[#This Row],[Total Receipts]]/s11cumperf[[#This Row],[Total Dollars Invested]],\"\")","v":""},{"$f":"IFERROR((s11cumperf[[#This Row],[Total Receipts]]+s11cumperf[[#This Row],[SBA Reported Value]])/s11cumperf[[#This Row],[Total Dollars Invested]],\"\")","v":""}]
[{"$nulls":8},{"$f":"s11cumperf[[#This Row],[Gross Receipts Cash]]+s11cumperf[[#This Row],[Gross Receipts Equity]]","v":0},{"$f":"SUMIF(s1inv[Employer ID],s11cumperf[[#This Row],[Employer ID]],s1inv[SBA Reported Value (B)])","v":0},{"$f":"SUMIF(s1inv[Employer ID],s11cumperf[[#This Row],[Employer ID]],s1inv[GAAP Reported Value (C)])","v":0},{"$f":"IFERROR(s11cumperf[[#This Row],[Total Receipts]]/s11cumperf[[#This Row],[Total Dollars Invested]],\"\")","v":""},{"$f":"IFERROR((s11cumperf[[#This Row],[Total Receipts]]+s11cumperf[[#This Row],[SBA Reported Value]])/s11cumperf[[#This Row],[Total Dollars Invested]],\"\")","v":""}]
[{"$nulls":8},{"$f":"s11cumperf[[#This Row],[Gross Receipts Cash]]+s11cumperf[[#This Row],[Gross Receipts Equity]]","v":0},{"$f":"SUMIF(s1inv[Employer ID],s11cumperf[[#This Row],[Employer ID]],s1inv[SBA Reported Value (B)])","v":0},{"$f":"SUMIF(s1inv[Employer ID],s11cumperf[[#This Row],[Employer ID]],s1inv[GAAP Reported Value (C)])","v":0},{"$f":"IFERROR(s11cumperf[[#This Row],[Total Receipts]]/s11cumperf[[#This Row],[Total Dollars Invested]],\"\")","v":""},{"$f":"IFERROR((s11cumperf[[#This Row],[Total Receipts]]+s11cumperf[[#This Row],[SBA Reported Value]])/s11cumperf[[#This Row],[Total Dollars Invested]],\"\")","v":""}]
[{"$nulls":8},{"$f":"s11cumperf[[#This Row],[Gross Receipts Cash]]+s11cumperf[[#This Row],[Gross Receipts Equity]]","v":0},{"$f":"SUMIF(s1inv[Employer ID],s11cumperf[[#This Row],[Employer ID]],s1inv[SBA Reported Value (B)])","v":0},{"$f":"SUMIF(s1inv[Employer ID],s11cumperf[[#This Row],[Employer ID]],s1inv[GAAP Reported Value (C)])","v":0},{"$f":"IFERROR(s11cumperf[[#This Row],[Total Receipts]]/s11cumperf[[#This Row],[Total Dollars Invested]],\"\")","v":""},{"$f":"IFERROR((s11cumperf[[#This Row],[Total Receipts]]+s11cumperf[[#This Row],[SBA Reported Value]])/s11cumperf[[#This Row],[Total Dollars Invested]],\"\")","v":""}]
[{"$nulls":8},{"$f":"s11cumperf[[#This Row],[Gross Receipts Cash]]+s11cumperf[[#This Row],[Gross Receipts Equity]]","v":0},{"$f":"SUMIF(s1inv[Employer ID],s11cumperf[[#This Row],[Employer ID]],s1inv[SBA Reported Value (B)])","v":0},{"$f":"SUMIF(s1inv[Employer ID],s11cumperf[[#This Row],[Employer ID]],s1inv[GAAP Reported Value (C)])","v":0},{"$f":"IFERROR(s11cumperf[[#This Row],[Total Receipts]]/s11cumperf[[#This Row],[Total Dollars Invested]],\"\")","v":""},{"$f":"IFERROR((s11cumperf[[#This Row],[Total Receipts]]+s11cumperf[[#This Row],[SBA Reported Value]])/s11cumperf[[#This Row],[Total Dollars Invested]],\"\")","v":""}]
[{"$nulls":8},{"$f":"s11cumperf[[#This Row],[Gross Receipts Cash]]+s11cumperf[[#This Row],[Gross Receipts Equity]]","v":0},{"$f":"SUMIF(s1inv[Employer ID],s11cumperf[[#This Row],[Employer ID]],s1inv[SBA Reported Value (B)])","v":0},{"$f":"SUMIF(s1inv[Employer ID],s11cumperf[[#This Row],[Employer ID]],s1inv[GAAP Reported Value (C)])","v":0},{"$f":"IFERROR(s11cumperf[[#This Row],[Total Receipts]]/s11cumperf[[#This Row],[Total Dollars Invested]],\"\")","v":""},{"$f":"IFERROR((s11cumperf[[#This Row],[Total Receipts]]+s11cumperf[[#This Row],[SBA Reported Value]])/s11cumperf[[#This Row],[Total Dollars Invested]],\"\")","v":""}]
[{"$nulls":8},{"$f":"s11cumperf[[#This Row],[Gross Receipts Cash]]+s11cumperf[[#This Row],[Gross Receipts Equity]]","v":0},{"$f":"SUMIF(s1inv[Employer ID],s11cumperf[[#This Row],[Employer ID]],s1inv[SBA Reported Value (B)])","v":0},{"$f":"SUMIF(s1inv[Employer ID],s11cumperf[[#This Row],[Employer ID]],s1inv[GAAP Reported Value (C)])","v":0},{"$f":"IFERROR(s11cumperf[[#This Row],[Total Receipts]]/s11cumperf[[#This Row],[Total Dollars Invested]],\"\")","v":""},{"$f":"IFERROR((s11cumperf[[#This Row],[Total Receipts]]+s11cumperf[[#This Row],[SBA Reported Value]])/s11cumperf[[#This Row],[Total Dollars Invested]],\"\")","v":""}]
[{"$nulls":8},{"$f":"s11cumperf[[#This Row],[Gross Receipts Cash]]+s11cumperf[[#This Row],[Gross Receipts Equity]]","v":0},{"$f":"SUMIF(s1inv[Employer ID],s11cumperf[[#This Row],[Employer ID]],s1inv[SBA Reported Value (B)])","v":0},{"$f":"SUMIF(s1inv[Employer ID],s11cumperf[[#This Row],[Employer ID]],s1inv[GAAP Reported Value (C)])","v":0},{"$f":"IFERROR(s11cumperf[[#This Row],[Total Receipts]]/s11cumperf[[#This Row],[Total Dollars Invested]],\"\")","v":""},{"$f":"IFERROR((s11cumperf[[#This Row],[Total Receipts]]+s11cumperf[[#This Row],[SBA Reported Value]])/s11cumperf[[#This Row],[Total Dollars Invested]],\"\")","v":""}]
[{"$nulls":8},{"$f":"s11cumperf[[#This Row],[Gross Receipts Cash]]+s11cumperf[[#This Row],[Gross Receipts Equity]]","v":0},{"$f":"SUMIF(s1inv[Employer ID],s11cumperf[[#This Row],[Employer ID]],s1inv[SBA Reported Value (B)])","v":0},{"$f":"SUMIF(s1inv[Employer ID],s11cumperf[[#This Row],[Employer ID]],s1inv[GAAP Reported Value (C)])","v":0},{"$f":"IFERROR(s11cumperf[[#This Row],[Total Receipts]]/s11cumperf[[#This Row],[Total Dollars Invested]],\"\")","v":""},{"$f":"IFERROR((s11cumperf[[#This Row],[Total Receipts]]+s11cumperf[[#This Row],[SBA Reported Value]])/s11cumperf[[#This Row],[Total Dollars Invested]],\"\")","v":""}]
[{"$nulls":8},{"$f":"s11cumperf[[#This Row],[Gross Receipts Cash]]+s11cumperf[[#This Row],[Gross Receipts Equity]]","v":0},{"$f":"SUMIF(s1inv[Employer ID],s11cumperf[[#This Row],[Employer ID]],s1inv[SBA Reported Value (B)])","v":0},{"$f":"SUMIF(s1inv[Employer ID],s11cumperf[[#This Row],[Employer ID]],s1inv[GAAP Reported Value (C)])","v":0},{"$f":"IFERROR(s11cumperf[[#This Row],[Total Receipts]]/s11cumperf[[#This Row],[Total Dollars Invested]],\"\")","v":""},{"$f":"IFERROR((s11cumperf[[#This Row],[Total Receipts]]+s11cumperf[[#This Row],[SBA Reported Value]])/s11cumperf[[#This Row],[Total Dollars Invested]],\"\")","v":""}]
[{"$nulls":8},{"$f":"s11cumperf[[#This Row],[Gross Receipts Cash]]+s11cumperf[[#This Row],[Gross Receipts Equity]]","v":0},{"$f":"SUMIF(s1inv[Employer ID],s11cumperf[[#This Row],[Employer ID]],s1inv[SBA Reported Value (B)])","v":0},{"$f":"SUMIF(s1inv[Employer ID],s11cumperf[[#This Row],[Employer ID]],s1inv[GAAP Reported Value (C)])","v":0},{"$f":"IFERROR(s11cumperf[[#This Row],[Total Receipts]]/s11cumperf[[#This Row],[Total Dollars Invested]],\"\")","v":""},{"$f":"IFERROR((s11cumperf[[#This Row],[Total Receipts]]+s11cumperf[[#This Row],[SBA Reported Value]])/s11cumperf[[#This Row],[Total Dollars Invested]],\"\")","v":""}]
[{"$nulls":8},{"$f":"s11cumperf[[#This Row],[Gross Receipts Cash]]+s11cumperf[[#This Row],[Gross Receipts Equity]]","v":0},{"$f":"SUMIF(s1inv[Employer ID],s11cumperf[[#This Row],[Employer ID]],s1inv[SBA Reported Value (B)])","v":0},{"$f":"SUMIF(s1inv[Employer ID],s11cumperf[[#This Row],[Employer ID]],s1inv[GAAP Reported Value (C)])","v":0},{"$f":"IFERROR(s11cumperf[[#This Row],[Total Receipts]]/s11cumperf[[#This Row],[Total Dollars Invested]],\"\")","v":""},{"$f":"IFERROR((s11cumperf[[#This Row],[Total Receipts]]+s11cumperf[[#This Row],[SBA Reported Value]])/s11cumperf[[#This Row],[Total Dollars Invested]],\"\")","v":""}]
[{"$nulls":8},{"$f":"s11cumperf[[#This Row],[Gross Receipts Cash]]+s11cumperf[[#This Row],[Gross Receipts Equity]]","v":0},{"$f":"SUMIF(s1inv[Employer ID],s11cumperf[[#This Row],[Employer ID]],s1inv[SBA Reported Value (B)])","v":0},{"$f":"SUMIF(s1inv[Employer ID],s11cumperf[[#This Row],[Employer ID]],s1inv[GAAP Reported Value (C)])","v":0},{"$f":"IFERROR(s11cumperf[[#This Row],[Total Receipts]]/s11cumperf[[#This Row],[Total Dollars Invested]],\"\")","v":""},{"$f":"IFERROR((s11cumperf[[#This Row],[Total Receipts]]+s11cumperf[[#This Row],[SBA Reported Value]])/s11cumperf[[#This Row],[Total Dollars Invested]],\"\")","v":""}]
[{"$nulls":8},{"$f":"s11cumperf[[#This Row],[Gross Receipts Cash]]+s11cumperf[[#This Row],[Gross Receipts Equity]]","v":0},{"$f":"SUMIF(s1inv[Employer ID],s11cumperf[[#This Row],[Employer ID]],s1inv[SBA Reported Value (B)])","v":0},{"$f":"SUMIF(s1inv[Employer ID],s11cumperf[[#This Row],[Employer ID]],s1inv[GAAP Reported Value (C)])","v":0},{"$f":"IFERROR(s11cumperf[[#This Row],[Total Receipts]]/s11cumperf[[#This Row],[Total Dollars Invested]],\"\")","v":""},{"$f":"IFERROR((s11cumperf[[#This Row],[Total Receipts]]+s11cumperf[[#This Row],[SBA Reported Value]])/s11cumperf[[#This Row],[Total Dollars Invested]],\"\")","v":""}]
[{"$nulls":8},{"$f":"s11cumperf[[#This Row],[Gross Receipts Cash]]+s11cumperf[[#This Row],[Gross Receipts Equity]]","v":0},{"$f":"SUMIF(s1inv[Employer ID],s11cumperf[[#This Row],[Employer ID]],s1inv[SBA Reported Value (B)])","v":0},{"$f":"SUMIF(s1inv[Employer ID],s11cumperf[[#This Row],[Employer ID]],s1inv[GAAP Reported Value (C)])","v":0},{"$f":"IFERROR(s11cumperf[[#This Row],[Total Receipts]]/s11cumperf[[#This Row],[Total Dollars Invested]],\"\")","v":""},{"$f":"IFERROR((s11cumperf[[#This Row],[Total Receipts]]+s11cumperf[[#This Row],[SBA Reported Value]])/s11cumperf[[#This Row],[Total Dollars Invested]],\"\")","v":""}]
[{"$nulls":8},{"$f":"s11cumperf[[#This Row],[Gross Receipts Cash]]+s11cumperf[[#This Row],[Gross Receipts Equity]]","v":0},{"$f":"SUMIF(s1inv[Employer ID],s11cumperf[[#This Row],[Employer ID]],s1inv[SBA Reported Value (B)])","v":0},{"$f":"SUMIF(s1inv[Employer ID],s11cumperf[[#This Row],[Employer ID]],s1inv[GAAP Reported Value (C)])","v":0},{"$f":"IFERROR(s11cumperf[[#This Row],[Total Receipts]]/s11cumperf[[#This Row],[Total Dollars Invested]],\"\")","v":""},{"$f":"IFERROR((s11cumperf[[#This Row],[Total Receipts]]+s11cumperf[[#This Row],[SBA Reported Value]])/s11cumperf[[#This Row],[Total Dollars Invested]],\"\")","v":""}]
[{"$nulls":8},{"$f":"s11cumperf[[#This Row],[Gross Receipts Cash]]+s11cumperf[[#This Row],[Gross Receipts Equity]]","v":0},{"$f":"SUMIF(s1inv[Employer ID],s11cumperf[[#This Row],[Employer ID]],s1inv[SBA Reported Value (B)])","v":0},{"$f":"SUMIF(s1inv[Employer ID],s11cumperf[[#This Row],[Employer ID]],s1inv[GAAP Reported Value (C)])","v":0},{"$f":"IFERROR(s11cumperf[[#This Row],[Total Receipts]]/s11cumperf[[#This Row],[Total Dollars Invested]],\"\")","v":""},{"$f":"IFERROR((s11cumperf[[#This Row],[Total Receipts]]+s11cumperf[[#This Row],[SBA Reported Value]])/s11cumperf[[#This Row],[Total Dollars Invested]],\"\")","v":""}]
[{"$nulls":8},{"$f":"s11cumperf[[#This Row],[Gross Receipts Cash]]+s11cumperf[[#This Row],[Gross Receipts Equity]]","v":0},{"$f":"SUMIF(s1inv[Employer ID],s11cumperf[[#This Row],[Employer ID]],s1inv[SBA Reported Value (B)])","v":0},{"$f":"SUMIF(s1inv[Employer ID],s11cumperf[[#This Row],[Employer ID]],s1inv[GAAP Reported Value (C)])","v":0},{"$f":"IFERROR(s11cumperf[[#This Row],[Total Receipts]]/s11cumperf[[#This Row],[Total Dollars Invested]],\"\")","v":""},{"$f":"IFERROR((s11cumperf[[#This Row],[Total Receipts]]+s11cumperf[[#This Row],[SBA Reported Value]])/s11cumperf[[#This Row],[Total Dollars Invested]],\"\")","v":""}]
[{"$nulls":8},{"$f":"s11cumperf[[#This Row],[Gross Receipts Cash]]+s11cumperf[[#This Row],[Gross Receipts Equity]]","v":0},{"$f":"SUMIF(s1inv[Employer ID],s11cumperf[[#This Row],[Employer ID]],s1inv[SBA Reported Value (B)])","v":0},{"$f":"SUMIF(s1inv[Employer ID],s11cumperf[[#This Row],[Employer ID]],s1inv[GAAP Reported Value (C)])","v":0},{"$f":"IFERROR(s11cumperf[[#This Row],[Total Receipts]]/s11cumperf[[#This Row],[Total Dollars Invested]],\"\")","v":""},{"$f":"IFERROR((s11cumperf[[#This Row],[Total Receipts]]+s11cumperf[[#This Row],[SBA Reported Value]])/s11cumperf[[#This Row],[Total Dollars Invested]],\"\")","v":""}]
[{"$nulls":8},{"$f":"s11cumperf[[#This Row],[Gross Receipts Cash]]+s11cumperf[[#This Row],[Gross Receipts Equity]]","v":0},{"$f":"SUMIF(s1inv[Employer ID],s11cumperf[[#This Row],[Employer ID]],s1inv[SBA Reported Value (B)])","v":0},{"$f":"SUMIF(s1inv[Employer ID],s11cumperf[[#This Row],[Employer ID]],s1inv[GAAP Reported Value (C)])","v":0},{"$f":"IFERROR(s11cumperf[[#This Row],[Total Receipts]]/s11cumperf[[#This Row],[Total Dollars Invested]],\"\")","v":""},{"$f":"IFERROR((s11cumperf[[#This Row],[Total Receipts]]+s11cumperf[[#This Row],[SBA Reported Value]])/s11cumperf[[#This Row],[Total Dollars Invested]],\"\")","v":""}]
[{"$nulls":8},{"$f":"s11cumperf[[#This Row],[Gross Receipts Cash]]+s11cumperf[[#This Row],[Gross Receipts Equity]]","v":0},{"$f":"SUMIF(s1inv[Employer ID],s11cumperf[[#This Row],[Employer ID]],s1inv[SBA Reported Value (B)])","v":0},{"$f":"SUMIF(s1inv[Employer ID],s11cumperf[[#This Row],[Employer ID]],s1inv[GAAP Reported Value (C)])","v":0},{"$f":"IFERROR(s11cumperf[[#This Row],[Total Receipts]]/s11cumperf[[#This Row],[Total Dollars Invested]],\"\")","v":""},{"$f":"IFERROR((s11cumperf[[#This Row],[Total Receipts]]+s11cumperf[[#This Row],[SBA Reported Value]])/s11cumperf[[#This Row],[Total Dollars Invested]],\"\")","v":""}]
[{"$nulls":8},{"$f":"s11cumperf[[#This Row],[Gross Receipts Cash]]+s11cumperf[[#This Row],[Gross Receipts Equity]]","v":0},{"$f":"SUMIF(s1inv[Employer ID],s11cumperf[[#This Row],[Employer ID]],s1inv[SBA Reported Value (B)])","v":0},{"$f":"SUMIF(s1inv[Employer ID],s11cumperf[[#This Row],[Employer ID]],s1inv[GAAP Reported Value (C)])","v":0},{"$f":"IFERROR(s11cumperf[[#This Row],[Total Receipts]]/s11cumperf[[#This Row],[Total Dollars Invested]],\"\")","v":""},{"$f":"IFERROR((s11cumperf[[#This Row],[Total Receipts]]+s11cumperf[[#This Row],[SBA Reported Value]])/s11cumperf[[#This Row],[Total Dollars Invested]],\"\")","v":""}]
[{"$nulls":8},{"$f":"s11cumperf[[#This Row],[Gross Receipts Cash]]+s11cumperf[[#This Row],[Gross Receipts Equity]]","v":0},{"$f":"SUMIF(s1inv[Employer ID],s11cumperf[[#This Row],[Employer ID]],s1inv[SBA Reported Value (B)])","v":0},{"$f":"SUMIF(s1inv[Employer ID],s11cumperf[[#This Row],[Employer ID]],s1inv[GAAP Reported Value (C)])","v":0},{"$f":"IFERROR(s11cumperf[[#This Row],[Total Receipts]]/s11cumperf[[#This Row],[Total Dollars Invested]],\"\")","v":""},{"$f":"IFERROR((s11cumperf[[#This Row],[Total Receipts]]+s11cumperf[[#This Row],[SBA Reported Value]])/s11cumperf[[#This Row],[Total Dollars Invested]],\"\")","v":""}]
[{"$nulls":8},{"$f":"s11cumperf[[#This Row],[Gross Receipts Cash]]+s11cumperf[[#This Row],[Gross Receipts Equity]]","v":0},{"$f":"SUMIF(s1inv[Employer ID],s11cumperf[[#This Row],[Employer ID]],s1inv[SBA Reported Value (B)])","v":0},{"$f":"SUMIF(s1inv[Employer ID],s11cumperf[[#This Row],[Employer ID]],s1inv[GAAP Reported Value (C)])","v":0},{"$f":"IFERROR(s11cumperf[[#This Row],[Total Receipts]]/s11cumperf[[#This Row],[Total Dollars Invested]],\"\")","v":""},{"$f":"IFERROR((s11cumperf[[#This Row],[Total Receipts]]+s11cumperf[[#This Row],[SBA Reported Value]])/s11cumperf[[#This Row],[Total Dollars Invested]],\"\")","v":""}]
[{"$nulls":8},{"$f":"s11cumperf[[#This Row],[Gross Receipts Cash]]+s11cumperf[[#This Row],[Gross Receipts Equity]]","v":0},{"$f":"SUMIF(s1inv[Employer ID],s11cumperf[[#This Row],[Employer ID]],s1inv[SBA Reported Value (B)])","v":0},{"$f":"SUMIF(s1inv[Employer ID],s11cumperf[[#This Row],[Employer ID]],s1inv[GAAP Reported Value (C)])","v":0},{"$f":"IFERROR(s11cumperf[[#This Row],[Total Receipts]]/s11cumperf[[#This Row],[Total Dollars Invested]],\"\")","v":""},{"$f":"IFERROR((s11cumperf[[#This Row],[Total Receipts]]+s11cumperf[[#This Row],[SBA Reported Value]])/s11cumperf[[#This Row],[Total Dollars Invested]],\"\")","v":""}]
[{"$nulls":8},{"$f":"s11cumperf[[#This Row],[Gross Receipts Cash]]+s11cumperf[[#This Row],[Gross Receipts Equity]]","v":0},{"$f":"SUMIF(s1inv[Employer ID],s11cumperf[[#This Row],[Employer ID]],s1inv[SBA Reported Value (B)])","v":0},{"$f":"SUMIF(s1inv[Employer ID],s11cumperf[[#This Row],[Employer ID]],s1inv[GAAP Reported Value (C)])","v":0},{"$f":"IFERROR(s11cumperf[[#This Row],[Total Receipts]]/s11cumperf[[#This Row],[Total Dollars Invested]],\"\")","v":""},{"$f":"IFERROR((s11cumperf[[#This Row],[Total Receipts]]+s11cumperf[[#This Row],[SBA Reported Value]])/s11cumperf[[#This Row],[Total Dollars Invested]],\"\")","v":""}]
[{"$nulls":8},{"$f":"s11cumperf[[#This Row],[Gross Receipts Cash]]+s11cumperf[[#This Row],[Gross Receipts Equity]]","v":0},{"$f":"SUMIF(s1inv[Employer ID],s11cumperf[[#This Row],[Employer ID]],s1inv[SBA Reported Value (B)])","v":0},{"$f":"SUMIF(s1inv[Employer ID],s11cumperf[[#This Row],[Employer ID]],s1inv[GAAP Reported Value (C)])","v":0},{"$f":"IFERROR(s11cumperf[[#This Row],[Total Receipts]]/s11cumperf[[#This Row],[Total Dollars Invested]],\"\")","v":""},{"$f":"IFERROR((s11cumperf[[#This Row],[Total Receipts]]+s11cumperf[[#This Row],[SBA Reported Value]])/s11cumperf[[#This Row],[Total Dollars Invested]],\"\")","v":""}]
[{"$nulls":8},{"$f":"s11cumperf[[#This Row],[Gross Receipts Cash]]+s11cumperf[[#This Row],[Gross Receipts Equity]]","v":0},{"$f":"SUMIF(s1inv[Employer ID],s11cumperf[[#This Row],[Employer ID]],s1inv[SBA Reported Value (B)])","v":0},{"$f":"SUMIF(s1inv[Employer ID],s11cumperf[[#This Row],[Employer ID]],s1inv[GAAP Reported Value (C)])","v":0},{"$f":"IFERROR(s11cumperf[[#This Row],[Total Receipts]]/s11cumperf[[#This Row],[Total Dollars Invested]],\"\")","v":""},{"$f":"IFERROR((s11cumperf[[#This Row],[Total Receipts]]+s11cumperf[[#This Row],[SBA Reported Value]])/s11cumperf[[#This Row],[Total Dollars Invested]],\"\")","v":""}]
[{"$nulls":8},{"$f":"s11cumperf[[#This Row],[Gross Receipts Cash]]+s11cumperf[[#This Row],[Gross Receipts Equity]]","v":0},{"$f":"SUMIF(s1inv[Employer ID],s11cumperf[[#This Row],[Employer ID]],s1inv[SBA Reported Value (B)])","v":0},{"$f":"SUMIF(s1inv[Employer ID],s11cumperf[[#This Row],[Employer ID]],s1inv[GAAP Reported Value (C)])","v":0},{"$f":"IFERROR(s11cumperf[[#This Row],[Total Receipts]]/s11cumperf[[#This Row],[Total Dollars Invested]],\"\")","v":""},{"$f":"IFERROR((s11cumperf[[#This Row],[Total Receipts]]+s11cumperf[[#This Row],[SBA Reported Value]])/s11cumperf[[#This Row],[Total Dollars Invested]],\"\")","v":""}]
[{"$nulls":8},{"$f":"s11cumperf[[#This Row],[Gross Receipts Cash]]+s11cumperf[[#This Row],[Gross Receipts Equity]]","v":0},{"$f":"SUMIF(s1inv[Employer ID],s11cumperf[[#This Row],[Employer ID]],s1inv[SBA Reported Value (B)])","v":0},{"$f":"SUMIF(s1inv[Employer ID],s11cumperf[[#This Row],[Employer ID]],s1inv[GAAP Reported Value (C)])","v":0},{"$f":"IFERROR(s11cumperf[[#This Row],[Total Receipts]]/s11cumperf[[#This Row],[Total Dollars Invested]],\"\")","v":""},{"$f":"IFERROR((s11cumperf[[#This Row],[Total Receipts]]+s11cumperf[[#This Row],[SBA Reported Value]])/s11cumperf[[#This Row],[Total Dollars Invested]],\"\")","v":""}]
[{"$nulls":8},{"$f":"s11cumperf[[#This Row],[Gross Receipts Cash]]+s11cumperf[[#This Row],[Gross Receipts Equity]]","v":0},{"$f":"SUMIF(s1inv[Employer ID],s11cumperf[[#This Row],[Employer ID]],s1inv[SBA Reported Value (B)])","v":0},{"$f":"SUMIF(s1inv[Employer ID],s11cumperf[[#This Row],[Employer ID]],s1inv[GAAP Reported Value (C)])","v":0},{"$f":"IFERROR(s11cumperf[[#This Row],[Total Receipts]]/s11cumperf[[#This Row],[Total Dollars Invested]],\"\")","v":""},{"$f":"IFERROR((s11cumperf[[#This Row],[Total Receipts]]+s11cumperf[[#This Row],[SBA Reported Value]])/s11cumperf[[#This Row],[Total Dollars Invested]],\"\")","v":""}]
[{"$nulls":8},{"$f":"s11cumperf[[#This Row],[Gross Receipts Cash]]+s11cumperf[[#This Row],[Gross Receipts Equity]]","v":0},{"$f":"SUMIF(s1inv[Employer ID],s11cumperf[[#This Row],[Employer ID]],s1inv[SBA Reported Value (B)])","v":0},{"$f":"SUMIF(s1inv[Employer ID],s11cumperf[[#This Row],[Employer ID]],s1inv[GAAP Reported Value (C)])","v":0},{"$f":"IFERROR(s11cumperf[[#This Row],[Total Receipts]]/s11cumperf[[#This Row],[Total Dollars Invested]],\"\")","v":""},{"$f":"IFERROR((s11cumperf[[#This Row],[Total Receipts]]+s11cumperf[[#This Row],[SBA Reported Value]])/s11cumperf[[#This Row],[Total Dollars Invested]],\"\")","v":""}]
[{"$nulls":8},{"$f":"s11cumperf[[#This Row],[Gross Receipts Cash]]+s11cumperf[[#This Row],[Gross Receipts Equity]]","v":0},{"$f":"SUMIF(s1inv[Employer ID],s11cumperf[[#This Row],[Employer ID]],s1inv[SBA Reported Value (B)])","v":0},{"$f":"SUMIF(s1inv[Employer ID],s11cumperf[[#This Row],[Employer ID]],s1inv[GAAP Reported Value (C)])","v":0},{"$f":"IFERROR(s11cumperf[[#This Row],[Total Receipts]]/s11cumperf[[#This Row],[Total Dollars Invested]],\"\")","v":""},{"$f":"IFERROR((s11cumperf[[#This Row],[Total Receipts]]+s11cumperf[[#This Row],[SBA Reported Value]])/s11cumperf[[#This Row],[Total Dollars Invested]],\"\")","v":""}]
[{"$nulls":8},{"$f":"s11cumperf[[#This Row],[Gross Receipts Cash]]+s11cumperf[[#This Row],[Gross Receipts Equity]]","v":0},{"$f":"SUMIF(s1inv[Employer ID],s11cumperf[[#This Row],[Employer ID]],s1inv[SBA Reported Value (B)])","v":0},{"$f":"SUMIF(s1inv[Employer ID],s11cumperf[[#This Row],[Employer ID]],s1inv[GAAP Reported Value (C)])","v":0},{"$f":"IFERROR(s11cumperf[[#This Row],[Total Receipts]]/s11cumperf[[#This Row],[Total Dollars Invested]],\"\")","v":""},{"$f":"IFERROR((s11cumperf[[#This Row],[Total Receipts]]+s11cumperf[[#This Row],[SBA Reported Value]])/s11cumperf[[#This Row],[Total Dollars Invested]],\"\")","v":""}]
[{"$nulls":8},{"$f":"s11cumperf[[#This Row],[Gross Receipts Cash]]+s11cumperf[[#This Row],[Gross Receipts Equity]]","v":0},{"$f":"SUMIF(s1inv[Employer ID],s11cumperf[[#This Row],[Employer ID]],s1inv[SBA Reported Value (B)])","v":0},{"$f":"SUMIF(s1inv[Employer ID],s11cumperf[[#This Row],[Employer ID]],s1inv[GAAP Reported Value (C)])","v":0},{"$f":"IFERROR(s11cumperf[[#This Row],[Total Receipts]]/s11cumperf[[#This Row],[Total Dollars Invested]],\"\")","v":""},{"$f":"IFERROR((s11cumperf[[#This Row],[Total Receipts]]+s11cumperf[[#This Row],[SBA Reported Value]])/s11cumperf[[#This Row],[Total Dollars Invested]],\"\")","v":""}]
[{"$nulls":8},{"$f":"s11cumperf[[#This Row],[Gross Receipts Cash]]+s11cumperf[[#This Row],[Gross Receipts Equity]]","v":0},{"$f":"SUMIF(s1inv[Employer ID],s11cumperf[[#This Row],[Employer ID]],s1inv[SBA Reported Value (B)])","v":0},{"$f":"SUMIF(s1inv[Employer ID],s11cumperf[[#This Row],[Employer ID]],s1inv[GAAP Reported Value (C)])","v":0},{"$f":"IFERROR(s11cumperf[[#This Row],[Total Receipts]]/s11cumperf[[#This Row],[Total Dollars Invested]],\"\")","v":""},{"$f":"IFERROR((s11cumperf[[#This Row],[Total Receipts]]+s11cumperf[[#This Row],[SBA Reported Value]])/s11cumperf[[#This Row],[Total Dollars Invested]],\"\")","v":""}]
[{"$nulls":8},{"$f":"s11cumperf[[#This Row],[Gross Receipts Cash]]+s11cumperf[[#This Row],[Gross Receipts Equity]]","v":0},{"$f":"SUMIF(s1inv[Employer ID],s11cumperf[[#This Row],[Employer ID]],s1inv[SBA Reported Value (B)])","v":0},{"$f":"SUMIF(s1inv[Employer ID],s11cumperf[[#This Row],[Employer ID]],s1inv[GAAP Reported Value (C)])","v":0},{"$f":"IFERROR(s11cumperf[[#This Row],[Total Receipts]]/s11cumperf[[#This Row],[Total Dollars Invested]],\"\")","v":""},{"$f":"IFERROR((s11cumperf[[#This Row],[Total Receipts]]+s11cumperf[[#This Row],[SBA Reported Value]])/s11cumperf[[#This Row],[Total Dollars Invested]],\"\")","v":""}]
[{"$nulls":8},{"$f":"s11cumperf[[#This Row],[Gross Receipts Cash]]+s11cumperf[[#This Row],[Gross Receipts Equity]]","v":0},{"$f":"SUMIF(s1inv[Employer ID],s11cumperf[[#This Row],[Employer ID]],s1inv[SBA Reported Value (B)])","v":0},{"$f":"SUMIF(s1inv[Employer ID],s11cumperf[[#This Row],[Employer ID]],s1inv[GAAP Reported Value (C)])","v":0},{"$f":"IFERROR(s11cumperf[[#This Row],[Total Receipts]]/s11cumperf[[#This Row],[Total Dollars Invested]],\"\")","v":""},{"$f":"IFERROR((s11cumperf[[#This Row],[Total Receipts]]+s11cumperf[[#This Row],[SBA Reported Value]])/s11cumperf[[#This Row],[Total Dollars Invested]],\"\")","v":""}]
[{"$nulls":8},{"$f":"s11cumperf[[#This Row],[Gross Receipts Cash]]+s11cumperf[[#This Row],[Gross Receipts Equity]]","v":0},{"$f":"SUMIF(s1inv[Employer ID],s11cumperf[[#This Row],[Employer ID]],s1inv[SBA Reported Value (B)])","v":0},{"$f":"SUMIF(s1inv[Employer ID],s11cumperf[[#This Row],[Employer ID]],s1inv[GAAP Reported Value (C)])","v":0},{"$f":"IFERROR(s11cumperf[[#This Row],[Total Receipts]]/s11cumperf[[#This Row],[Total Dollars Invested]],\"\")","v":""},{"$f":"IFERROR((s11cumperf[[#This Row],[Total Receipts]]+s11cumperf[[#This Row],[SBA Reported Value]])/s11cumperf[[#This Row],[Total Dollars Invested]],\"\")","v":""}]
[{"$nulls":8},{"$f":"s11cumperf[[#This Row],[Gross Receipts Cash]]+s11cumperf[[#This Row],[Gross Receipts Equity]]","v":0},{"$f":"SUMIF(s1inv[Employer ID],s11cumperf[[#This Row],[Employer ID]],s1inv[SBA Reported Value (B)])","v":0},{"$f":"SUMIF(s1inv[Employer ID],s11cumperf[[#This Row],[Employer ID]],s1inv[GAAP Reported Value (C)])","v":0},{"$f":"IFERROR(s11cumperf[[#This Row],[Total Receipts]]/s11cumperf[[#This Row],[Total Dollars Invested]],\"\")","v":""},{"$f":"IFERROR((s11cumperf[[#This Row],[Total Receipts]]+s11cumperf[[#This Row],[SBA Reported Value]])/s11cumperf[[#This Row],[Total Dollars Invested]],\"\")","v":""}]
[{"$nulls":8},{"$f":"s11cumperf[[#This Row],[Gross Receipts Cash]]+s11cumperf[[#This Row],[Gross Receipts Equity]]","v":0},{"$f":"SUMIF(s1inv[Employer ID],s11cumperf[[#This Row],[Employer ID]],s1inv[SBA Reported Value (B)])","v":0},{"$f":"SUMIF(s1inv[Employer ID],s11cumperf[[#This Row],[Employer ID]],s1inv[GAAP Reported Value (C)])","v":0},{"$f":"IFERROR(s11cumperf[[#This Row],[Total Receipts]]/s11cumperf[[#This Row],[Total Dollars Invested]],\"\")","v":""},{"$f":"IFERROR((s11cumperf[[#This Row],[Total Receipts]]+s11cumperf[[#This Row],[SBA Reported Value]])/s11cumperf[[#This Row],[Total Dollars Invested]],\"\")","v":""}]
[{"$nulls":8},{"$f":"s11cumperf[[#This Row],[Gross Receipts Cash]]+s11cumperf[[#This Row],[Gross Receipts Equity]]","v":0},{"$f":"SUMIF(s1inv[Employer ID],s11cumperf[[#This Row],[Employer ID]],s1inv[SBA Reported Value (B)])","v":0},{"$f":"SUMIF(s1inv[Employer ID],s11cumperf[[#This Row],[Employer ID]],s1inv[GAAP Reported Value (C)])","v":0},{"$f":"IFERROR(s11cumperf[[#This Row],[Total Receipts]]/s11cumperf[[#This Row],[Total Dollars Invested]],\"\")","v":""},{"$f":"IFERROR((s11cumperf[[#This Row],[Total Receipts]]+s11cumperf[[#This Row],[SBA Reported Value]])/s11cumperf[[#This Row],[Total Dollars Invested]],\"\")","v":""}]
[{"$nulls":8},{"$f":"s11cumperf[[#This Row],[Gross Receipts Cash]]+s11cumperf[[#This Row],[Gross Receipts Equity]]","v":0},{"$f":"SUMIF(s1inv[Employer ID],s11cumperf[[#This Row],[Employer ID]],s1inv[SBA Reported Value (B)])","v":0},{"$f":"SUMIF(s1inv[Employer ID],s11cumperf[[#This Row],[Employer ID]],s1inv[GAAP Reported Value (C)])","v":0},{"$f":"IFERROR(s11cumperf[[#This Row],[Total Receipts]]/s11cumperf[[#This Row],[Total Dollars Invested]],\"\")","v":""},{"$f":"IFERROR((s11cumperf[[#This Row],[Total Receipts]]+s11cumperf[[#This Row],[SBA Reported Value]])/s11cumperf[[#This Row],[Total Dollars Invested]],\"\")","v":""}]
[{"$nulls":8},{"$f":"s11cumperf[[#This Row],[Gross Receipts Cash]]+s11cumperf[[#This Row],[Gross Receipts Equity]]","v":0},{"$f":"SUMIF(s1inv[Employer ID],s11cumperf[[#This Row],[Employer ID]],s1inv[SBA Reported Value (B)])","v":0},{"$f":"SUMIF(s1inv[Employer ID],s11cumperf[[#This Row],[Employer ID]],s1inv[GAAP Reported Value (C)])","v":0},{"$f":"IFERROR(s11cumperf[[#This Row],[Total Receipts]]/s11cumperf[[#This Row],[Total Dollars Invested]],\"\")","v":""},{"$f":"IFERROR((s11cumperf[[#This Row],[Total Receipts]]+s11cumperf[[#This Row],[SBA Reported Value]])/s11cumperf[[#This Row],[Total Dollars Invested]],\"\")","v":""}]
[{"$nulls":8},{"$f":"s11cumperf[[#This Row],[Gross Receipts Cash]]+s11cumperf[[#This Row],[Gross Receipts Equity]]","v":0},{"$f":"SUMIF(s1inv[Employer ID],s11cumperf[[#This Row],[Employer ID]],s1inv[SBA Reported Value (B)])","v":0},{"$f":"SUMIF(s1inv[Employer ID],s11cumperf[[#This Row],[Employer ID]],s1inv[GAAP Reported Value (C)])","v":0},{"$f":"IFERROR(s11cumperf[[#This Row],[Total Receipts]]/s11cumperf[[#This Row],[Total Dollars Invested]],\"\")","v":""},{"$f":"IFERROR((s11cumperf[[#This Row],[Total Receipts]]+s11cumperf[[#This Row],[SBA Reported Value]])/s11cumperf[[#This Row],[Total Dollars Invested]],\"\")","v":""}]
[{"$nulls":8},{"$f":"s11cumperf[[#This Row],[Gross Receipts Cash]]+s11cumperf[[#This Row],[Gross Receipts Equity]]","v":0},{"$f":"SUMIF(s1inv[Employer ID],s11cumperf[[#This Row],[Employer ID]],s1inv[SBA Reported Value (B)])","v":0},{"$f":"SUMIF(s1inv[Employer ID],s11cumperf[[#This Row],[Employer ID]],s1inv[GAAP Reported Value (C)])","v":0},{"$f":"IFERROR(s11cumperf[[#This Row],[Total Receipts]]/s11cumperf[[#This Row],[Total Dollars Invested]],\"\")","v":""},{"$f":"IFERROR((s11cumperf[[#This Row],[Total Receipts]]+s11cumperf[[#This Row],[SBA Reported Value]])/s11cumperf[[#This Row],[Total Dollars Invested]],\"\")","v":""}]
[{"$nulls":8},{"$f":"s11cumperf[[#This Row],[Gross Receipts Cash]]+s11cumperf[[#This Row],[Gross Receipts Equity]]","v":0},{"$f":"SUMIF(s1inv[Employer ID],s11cumperf[[#This Row],[Employer ID]],s1inv[SBA Reported Value (B)])","v":0},{"$f":"SUMIF(s1inv[Employer ID],s11cumperf[[#This Row],[Employer ID]],s1inv[GAAP Reported Value (C)])","v":0},{"$f":"IFERROR(s11cumperf[[#This Row],[Total Receipts]]/s11cumperf[[#This Row],[Total Dollars Invested]],\"\")","v":""},{"$f":"IFERROR((s11cumperf[[#This Row],[Total Receipts]]+s11cumperf[[#This Row],[SBA Reported Value]])/s11cumperf[[#This Row],[Total Dollars Invested]],\"\")","v":""}]
[{"$nulls":8},{"$f":"s11cumperf[[#This Row],[Gross Receipts Cash]]+s11cumperf[[#This Row],[Gross Receipts Equity]]","v":0},{"$f":"SUMIF(s1inv[Employer ID],s11cumperf[[#This Row],[Employer ID]],s1inv[SBA Reported Value (B)])","v":0},{"$f":"SUMIF(s1inv[Employer ID],s11cumperf[[#This Row],[Employer ID]],s1inv[GAAP Reported Value (C)])","v":0},{"$f":"IFERROR(s11cumperf[[#This Row],[Total Receipts]]/s11cumperf[[#This Row],[Total Dollars Invested]],\"\")","v":""},{"$f":"IFERROR((s11cumperf[[#This Row],[Total Receipts]]+s11cumperf[[#This Row],[SBA Reported Value]])/s11cumperf[[#This Row],[Total Dollars Invested]],\"\")","v":""}]
[{"$nulls":8},{"$f":"s11cumperf[[#This Row],[Gross Receipts Cash]]+s11cumperf[[#This Row],[Gross Receipts Equity]]","v":0},{"$f":"SUMIF(s1inv[Employer ID],s11cumperf[[#This Row],[Employer ID]],s1inv[SBA Reported Value (B)])","v":0},{"$f":"SUMIF(s1inv[Employer ID],s11cumperf[[#This Row],[Employer ID]],s1inv[GAAP Reported Value (C)])","v":0},{"$f":"IFERROR(s11cumperf[[#This Row],[Total Receipts]]/s11cumperf[[#This Row],[Total Dollars Invested]],\"\")","v":""},{"$f":"IFERROR((s11cumperf[[#This Row],[Total Receipts]]+s11cumperf[[#This Row],[SBA Reported Value]])/s11cumperf[[#This Row],[Total Dollars Invested]],\"\")","v":""}]
[{"$nulls":8},{"$f":"s11cumperf[[#This Row],[Gross Receipts Cash]]+s11cumperf[[#This Row],[Gross Receipts Equity]]","v":0},{"$f":"SUMIF(s1inv[Employer ID],s11cumperf[[#This Row],[Employer ID]],s1inv[SBA Reported Value (B)])","v":0},{"$f":"SUMIF(s1inv[Employer ID],s11cumperf[[#This Row],[Employer ID]],s1inv[GAAP Reported Value (C)])","v":0},{"$f":"IFERROR(s11cumperf[[#This Row],[Total Receipts]]/s11cumperf[[#This Row],[Total Dollars Invested]],\"\")","v":""},{"$f":"IFERROR((s11cumperf[[#This Row],[Total Receipts]]+s11cumperf[[#This Row],[SBA Reported Value]])/s11cumperf[[#This Row],[Total Dollars Invested]],\"\")","v":""}]
[{"$nulls":8},{"$f":"s11cumperf[[#This Row],[Gross Receipts Cash]]+s11cumperf[[#This Row],[Gross Receipts Equity]]","v":0},{"$f":"SUMIF(s1inv[Employer ID],s11cumperf[[#This Row],[Employer ID]],s1inv[SBA Reported Value (B)])","v":0},{"$f":"SUMIF(s1inv[Employer ID],s11cumperf[[#This Row],[Employer ID]],s1inv[GAAP Reported Value (C)])","v":0},{"$f":"IFERROR(s11cumperf[[#This Row],[Total Receipts]]/s11cumperf[[#This Row],[Total Dollars Invested]],\"\")","v":""},{"$f":"IFERROR((s11cumperf[[#This Row],[Total Receipts]]+s11cumperf[[#This Row],[SBA Reported Value]])/s11cumperf[[#This Row],[Total Dollars Invested]],\"\")","v":""}]
[{"$nulls":8},{"$f":"s11cumperf[[#This Row],[Gross Receipts Cash]]+s11cumperf[[#This Row],[Gross Receipts Equity]]","v":0},{"$f":"SUMIF(s1inv[Employer ID],s11cumperf[[#This Row],[Employer ID]],s1inv[SBA Reported Value (B)])","v":0},{"$f":"SUMIF(s1inv[Employer ID],s11cumperf[[#This Row],[Employer ID]],s1inv[GAAP Reported Value (C)])","v":0},{"$f":"IFERROR(s11cumperf[[#This Row],[Total Receipts]]/s11cumperf[[#This Row],[Total Dollars Invested]],\"\")","v":""},{"$f":"IFERROR((s11cumperf[[#This Row],[Total Receipts]]+s11cumperf[[#This Row],[SBA Reported Value]])/s11cumperf[[#This Row],[Total Dollars Invested]],\"\")","v":""}]
[{"$nulls":8},{"$f":"s11cumperf[[#This Row],[Gross Receipts Cash]]+s11cumperf[[#This Row],[Gross Receipts Equity]]","v":0},{"$f":"SUMIF(s1inv[Employer ID],s11cumperf[[#This Row],[Employer ID]],s1inv[SBA Reported Value (B)])","v":0},{"$f":"SUMIF(s1inv[Employer ID],s11cumperf[[#This Row],[Employer ID]],s1inv[GAAP Reported Value (C)])","v":0},{"$f":"IFERROR(s11cumperf[[#This Row],[Total Receipts]]/s11cumperf[[#This Row],[Total Dollars Invested]],\"\")","v":""},{"$f":"IFERROR((s11cumperf[[#This Row],[Total Receipts]]+s11cumperf[[#This Row],[SBA Reported Value]])/s11cumperf[[#This Row],[Total Dollars Invested]],\"\")","v":""}]
[{"$nulls":8},{"$f":"s11cumperf[[#This Row],[Gross Receipts Cash]]+s11cumperf[[#This Row],[Gross Receipts Equity]]","v":0},{"$f":"SUMIF(s1inv[Employer ID],s11cumperf[[#This Row],[Employer ID]],s1inv[SBA Reported Value (B)])","v":0},{"$f":"SUMIF(s1inv[Employer ID],s11cumperf[[#This Row],[Employer ID]],s1inv[GAAP Reported Value (C)])","v":0},{"$f":"IFERROR(s11cumperf[[#This Row],[Total Receipts]]/s11cumperf[[#This Row],[Total Dollars Invested]],\"\")","v":""},{"$f":"IFERROR((s11cumperf[[#This Row],[Total Receipts]]+s11cumperf[[#This Row],[SBA Reported Value]])/s11cumperf[[#This Row],[Total Dollars Invested]],\"\")","v":""}]
[{"$nulls":8},{"$f":"s11cumperf[[#This Row],[Gross Receipts Cash]]+s11cumperf[[#This Row],[Gross Receipts Equity]]","v":0},{"$f":"SUMIF(s1inv[Employer ID],s11cumperf[[#This Row],[Employer ID]],s1inv[SBA Reported Value (B)])","v":0},{"$f":"SUMIF(s1inv[Employer ID],s11cumperf[[#This Row],[Employer ID]],s1inv[GAAP Reported Value (C)])","v":0},{"$f":"IFERROR(s11cumperf[[#This Row],[Total Receipts]]/s11cumperf[[#This Row],[Total Dollars Invested]],\"\")","v":""},{"$f":"IFERROR((s11cumperf[[#This Row],[Total Receipts]]+s11cumperf[[#This Row],[SBA Reported Value]])/s11cumperf[[#This Row],[Total Dollars Invested]],\"\")","v":""}]
[{"$nulls":8},{"$f":"s11cumperf[[#This Row],[Gross Receipts Cash]]+s11cumperf[[#This Row],[Gross Receipts Equity]]","v":0},{"$f":"SUMIF(s1inv[Employer ID],s11cumperf[[#This Row],[Employer ID]],s1inv[SBA Reported Value (B)])","v":0},{"$f":"SUMIF(s1inv[Employer ID],s11cumperf[[#This Row],[Employer ID]],s1inv[GAAP Reported Value (C)])","v":0},{"$f":"IFERROR(s11cumperf[[#This Row],[Total Receipts]]/s11cumperf[[#This Row],[Total Dollars Invested]],\"\")","v":""},{"$f":"IFERROR((s11cumperf[[#This Row],[Total Receipts]]+s11cumperf[[#This Row],[SBA Reported Value]])/s11cumperf[[#This Row],[Total Dollars Invested]],\"\")","v":""}]
[{"$nulls":8},{"$f":"s11cumperf[[#This Row],[Gross Receipts Cash]]+s11cumperf[[#This Row],[Gross Receipts Equity]]","v":0},{"$f":"SUMIF(s1inv[Employer ID],s11cumperf[[#This Row],[Employer ID]],s1inv[SBA Reported Value (B)])","v":0},{"$f":"SUMIF(s1inv[Employer ID],s11cumperf[[#This Row],[Employer ID]],s1inv[GAAP Reported Value (C)])","v":0},{"$f":"IFERROR(s11cumperf[[#This Row],[Total Receipts]]/s11cumperf[[#This Row],[Total Dollars Invested]],\"\")","v":""},{"$f":"IFERROR((s11cumperf[[#This Row],[Total Receipts]]+s11cumperf[[#This Row],[SBA Reported Value]])/s11cumperf[[#This Row],[Total Dollars Invested]],\"\")","v":""}]
[{"$nulls":8},{"$f":"s11cumperf[[#This Row],[Gross Receipts Cash]]+s11cumperf[[#This Row],[Gross Receipts Equity]]","v":0},{"$f":"SUMIF(s1inv[Employer ID],s11cumperf[[#This Row],[Employer ID]],s1inv[SBA Reported Value (B)])","v":0},{"$f":"SUMIF(s1inv[Employer ID],s11cumperf[[#This Row],[Employer ID]],s1inv[GAAP Reported Value (C)])","v":0},{"$f":"IFERROR(s11cumperf[[#This Row],[Total Receipts]]/s11cumperf[[#This Row],[Total Dollars Invested]],\"\")","v":""},{"$f":"IFERROR((s11cumperf[[#This Row],[Total Receipts]]+s11cumperf[[#This Row],[SBA Reported Value]])/s11cumperf[[#This Row],[Total Dollars Invested]],\"\")","v":""}]
[{"$nulls":8},{"$f":"s11cumperf[[#This Row],[Gross Receipts Cash]]+s11cumperf[[#This Row],[Gross Receipts Equity]]","v":0},{"$f":"SUMIF(s1inv[Employer ID],s11cumperf[[#This Row],[Employer ID]],s1inv[SBA Reported Value (B)])","v":0},{"$f":"SUMIF(s1inv[Employer ID],s11cumperf[[#This Row],[Employer ID]],s1inv[GAAP Reported Value (C)])","v":0},{"$f":"IFERROR(s11cumperf[[#This Row],[Total Receipts]]/s11cumperf[[#This Row],[Total Dollars Invested]],\"\")","v":""},{"$f":"IFERROR((s11cumperf[[#This Row],[Total Receipts]]+s11cumperf[[#This Row],[SBA Reported Value]])/s11cumperf[[#This Row],[Total Dollars Invested]],\"\")","v":""}]
[{"$nulls":8},{"$f":"s11cumperf[[#This Row],[Gross Receipts Cash]]+s11cumperf[[#This Row],[Gross Receipts Equity]]","v":0},{"$f":"SUMIF(s1inv[Employer ID],s11cumperf[[#This Row],[Employer ID]],s1inv[SBA Reported Value (B)])","v":0},{"$f":"SUMIF(s1inv[Employer ID],s11cumperf[[#This Row],[Employer ID]],s1inv[GAAP Reported Value (C)])","v":0},{"$f":"IFERROR(s11cumperf[[#This Row],[Total Receipts]]/s11cumperf[[#This Row],[Total Dollars Invested]],\"\")","v":""},{"$f":"IFERROR((s11cumperf[[#This Row],[Total Receipts]]+s11cumperf[[#This Row],[SBA Reported Value]])/s11cumperf[[#This Row],[Total Dollars Invested]],\"\")","v":""}]
[{"$nulls":8},{"$f":"s11cumperf[[#This Row],[Gross Receipts Cash]]+s11cumperf[[#This Row],[Gross Receipts Equity]]","v":0},{"$f":"SUMIF(s1inv[Employer ID],s11cumperf[[#This Row],[Employer ID]],s1inv[SBA Reported Value (B)])","v":0},{"$f":"SUMIF(s1inv[Employer ID],s11cumperf[[#This Row],[Employer ID]],s1inv[GAAP Reported Value (C)])","v":0},{"$f":"IFERROR(s11cumperf[[#This Row],[Total Receipts]]/s11cumperf[[#This Row],[Total Dollars Invested]],\"\")","v":""},{"$f":"IFERROR((s11cumperf[[#This Row],[Total Receipts]]+s11cumperf[[#This Row],[SBA Reported Value]])/s11cumperf[[#This Row],[Total Dollars Invested]],\"\")","v":""}]
[{"$nulls":8},{"$f":"s11cumperf[[#This Row],[Gross Receipts Cash]]+s11cumperf[[#This Row],[Gross Receipts Equity]]","v":0},{"$f":"SUMIF(s1inv[Employer ID],s11cumperf[[#This Row],[Employer ID]],s1inv[SBA Reported Value (B)])","v":0},{"$f":"SUMIF(s1inv[Employer ID],s11cumperf[[#This Row],[Employer ID]],s1inv[GAAP Reported Value (C)])","v":0},{"$f":"IFERROR(s11cumperf[[#This Row],[Total Receipts]]/s11cumperf[[#This Row],[Total Dollars Invested]],\"\")","v":""},{"$f":"IFERROR((s11cumperf[[#This Row],[Total Receipts]]+s11cumperf[[#This Row],[SBA Reported Value]])/s11cumperf[[#This Row],[Total Dollars Invested]],\"\")","v":""}]
[{"$nulls":8},{"$f":"s11cumperf[[#This Row],[Gross Receipts Cash]]+s11cumperf[[#This Row],[Gross Receipts Equity]]","v":0},{"$f":"SUMIF(s1inv[Employer ID],s11cumperf[[#This Row],[Employer ID]],s1inv[SBA Reported Value (B)])","v":0},{"$f":"SUMIF(s1inv[Employer ID],s11cumperf[[#This Row],[Employer ID]],s1inv[GAAP Reported Value (C)])","v":0},{"$f":"IFERROR(s11cumperf[[#This Row],[Total Receipts]]/s11cumperf[[#This Row],[Total Dollars Invested]],\"\")","v":""},{"$f":"IFERROR((s11cumperf[[#This Row],[Total Receipts]]+s11cumperf[[#This Row],[SBA Reported Value]])/s11cumperf[[#This Row],[Total Dollars Invested]],\"\")","v":""}]
[{"$nulls":8},{"$f":"s11cumperf[[#This Row],[Gross Receipts Cash]]+s11cumperf[[#This Row],[Gross Receipts Equity]]","v":0},{"$f":"SUMIF(s1inv[Employer ID],s11cumperf[[#This Row],[Employer ID]],s1inv[SBA Reported Value (B)])","v":0},{"$f":"SUMIF(s1inv[Employer ID],s11cumperf[[#This Row],[Employer ID]],s1inv[GAAP Reported Value (C)])","v":0},{"$f":"IFERROR(s11cumperf[[#This Row],[Total Receipts]]/s11cumperf[[#This Row],[Total Dollars Invested]],\"\")","v":""},{"$f":"IFERROR((s11cumperf[[#This Row],[Total Receipts]]+s11cumperf[[#This Row],[SBA Reported Value]])/s11cumperf[[#This Row],[Total Dollars Invested]],\"\")","v":""}]
[{"$nulls":8},{"$f":"s11cumperf[[#This Row],[Gross Receipts Cash]]+s11cumperf[[#This Row],[Gross Receipts Equity]]","v":0},{"$f":"SUMIF(s1inv[Employer ID],s11cumperf[[#This Row],[Employer ID]],s1inv[SBA Reported Value (B)])","v":0},{"$f":"SUMIF(s1inv[Employer ID],s11cumperf[[#This Row],[Employer ID]],s1inv[GAAP Reported Value (C)])","v":0},{"$f":"IFERROR(s11cumperf[[#This Row],[Total Receipts]]/s11cumperf[[#This Row],[Total Dollars Invested]],\"\")","v":""},{"$f":"IFERROR((s11cumperf[[#This Row],[Total Receipts]]+s11cumperf[[#This Row],[SBA Reported Value]])/s11cumperf[[#This Row],[Total Dollars Invested]],\"\")","v":""}]
[{"$nulls":8},{"$f":"s11cumperf[[#This Row],[Gross Receipts Cash]]+s11cumperf[[#This Row],[Gross Receipts Equity]]","v":0},{"$f":"SUMIF(s1inv[Employer ID],s11cumperf[[#This Row],[Employer ID]],s1inv[SBA Reported Value (B)])","v":0},{"$f":"SUMIF(s1inv[Employer ID],s11cumperf[[#This Row],[Employer ID]],s1inv[GAAP Reported Value (C)])","v":0},{"$f":"IFERROR(s11cumperf[[#This Row],[Total Receipts]]/s11cumperf[[#This Row],[Total Dollars Invested]],\"\")","v":""},{"$f":"IFERROR((s11cumperf[[#This Row],[Total Receipts]]+s11cumperf[[#This Row],[SBA Reported Value]])/s11cumperf[[#This Row],[Total Dollars Invested]],\"\")","v":""}]
[{"$nulls":8},{"$f":"s11cumperf[[#This Row],[Gross Receipts Cash]]+s11cumperf[[#This Row],[Gross Receipts Equity]]","v":0},{"$f":"SUMIF(s1inv[Employer ID],s11cumperf[[#This Row],[Employer ID]],s1inv[SBA Reported Value (B)])","v":0},{"$f":"SUMIF(s1inv[Employer ID],s11cumperf[[#This Row],[Employer ID]],s1inv[GAAP Reported Value (C)])","v":0},{"$f":"IFERROR(s11cumperf[[#This Row],[Total Receipts]]/s11cumperf[[#This Row],[Total Dollars Invested]],\"\")","v":""},{"$f":"IFERROR((s11cumperf[[#This Row],[Total Receipts]]+s11cumperf[[#This Row],[SBA Reported Value]])/s11cumperf[[#This Row],[Total Dollars Invested]],\"\")","v":""}]
[{"$nulls":8},{"$f":"s11cumperf[[#This Row],[Gross Receipts Cash]]+s11cumperf[[#This Row],[Gross Receipts Equity]]","v":0},{"$f":"SUMIF(s1inv[Employer ID],s11cumperf[[#This Row],[Employer ID]],s1inv[SBA Reported Value (B)])","v":0},{"$f":"SUMIF(s1inv[Employer ID],s11cumperf[[#This Row],[Employer ID]],s1inv[GAAP Reported Value (C)])","v":0},{"$f":"IFERROR(s11cumperf[[#This Row],[Total Receipts]]/s11cumperf[[#This Row],[Total Dollars Invested]],\"\")","v":""},{"$f":"IFERROR((s11cumperf[[#This Row],[Total Receipts]]+s11cumperf[[#This Row],[SBA Reported Value]])/s11cumperf[[#This Row],[Total Dollars Invested]],\"\")","v":""}]
[{"$nulls":8},{"$f":"s11cumperf[[#This Row],[Gross Receipts Cash]]+s11cumperf[[#This Row],[Gross Receipts Equity]]","v":0},{"$f":"SUMIF(s1inv[Employer ID],s11cumperf[[#This Row],[Employer ID]],s1inv[SBA Reported Value (B)])","v":0},{"$f":"SUMIF(s1inv[Employer ID],s11cumperf[[#This Row],[Employer ID]],s1inv[GAAP Reported Value (C)])","v":0},{"$f":"IFERROR(s11cumperf[[#This Row],[Total Receipts]]/s11cumperf[[#This Row],[Total Dollars Invested]],\"\")","v":""},{"$f":"IFERROR((s11cumperf[[#This Row],[Total Receipts]]+s11cumperf[[#This Row],[SBA Reported Value]])/s11cumperf[[#This Row],[Total Dollars Invested]],\"\")","v":""}]
[{"$nulls":8},{"$f":"s11cumperf[[#This Row],[Gross Receipts Cash]]+s11cumperf[[#This Row],[Gross Receipts Equity]]","v":0},{"$f":"SUMIF(s1inv[Employer ID],s11cumperf[[#This Row],[Employer ID]],s1inv[SBA Reported Value (B)])","v":0},{"$f":"SUMIF(s1inv[Employer ID],s11cumperf[[#This Row],[Employer ID]],s1inv[GAAP Reported Value (C)])","v":0},{"$f":"IFERROR(s11cumperf[[#This Row],[Total Receipts]]/s11cumperf[[#This Row],[Total Dollars Invested]],\"\")","v":""},{"$f":"IFERROR((s11cumperf[[#This Row],[Total Receipts]]+s11cumperf[[#This Row],[SBA Reported Value]])/s11cumperf[[#This Row],[Total Dollars Invested]],\"\")","v":""}]
[{"$nulls":8},{"$f":"s11cumperf[[#This Row],[Gross Receipts Cash]]+s11cumperf[[#This Row],[Gross Receipts Equity]]","v":0},{"$f":"SUMIF(s1inv[Employer ID],s11cumperf[[#This Row],[Employer ID]],s1inv[SBA Reported Value (B)])","v":0},{"$f":"SUMIF(s1inv[Employer ID],s11cumperf[[#This Row],[Employer ID]],s1inv[GAAP Reported Value (C)])","v":0},{"$f":"IFERROR(s11cumperf[[#This Row],[Total Receipts]]/s11cumperf[[#This Row],[Total Dollars Invested]],\"\")","v":""},{"$f":"IFERROR((s11cumperf[[#This Row],[Total Receipts]]+s11cumperf[[#This Row],[SBA Reported Value]])/s11cumperf[[#This Row],[Total Dollars Invested]],\"\")","v":""}]
[{"$nulls":8},{"$f":"s11cumperf[[#This Row],[Gross Receipts Cash]]+s11cumperf[[#This Row],[Gross Receipts Equity]]","v":0},{"$f":"SUMIF(s1inv[Employer ID],s11cumperf[[#This Row],[Employer ID]],s1inv[SBA Reported Value (B)])","v":0},{"$f":"SUMIF(s1inv[Employer ID],s11cumperf[[#This Row],[Employer ID]],s1inv[GAAP Reported Value (C)])","v":0},{"$f":"IFERROR(s11cumperf[[#This Row],[Total Receipts]]/s11cumperf[[#This Row],[Total Dollars Invested]],\"\")","v":""},{"$f":"IFERROR((s11cumperf[[#This Row],[Total Receipts]]+s11cumperf[[#This Row],[SBA Reported Value]])/s11cumperf[[#This Row],[Total Dollars Invested]],\"\")","v":""}]
[{"$nulls":8},{"$f":"s11cumperf[[#This Row],[Gross Receipts Cash]]+s11cumperf[[#This Row],[Gross Receipts Equity]]","v":0},{"$f":"SUMIF(s1inv[Employer ID],s11cumperf[[#This Row],[Employer ID]],s1inv[SBA Reported Value (B)])","v":0},{"$f":"SUMIF(s1inv[Employer ID],s11cumperf[[#This Row],[Employer ID]],s1inv[GAAP Reported Value (C)])","v":0},{"$f":"IFERROR(s11cumperf[[#This Row],[Total Receipts]]/s11cumperf[[#This Row],[Total Dollars Invested]],\"\")","v":""},{"$f":"IFERROR((s11cumperf[[#This Row],[Total Receipts]]+s11cumperf[[#This Row],[SBA Reported Value]])/s11cumperf[[#This Row],[Total Dollars Invested]],\"\")","v":""}]
[{"$nulls":8},{"$f":"s11cumperf[[#This Row],[Gross Receipts Cash]]+s11cumperf[[#This Row],[Gross Receipts Equity]]","v":0},{"$f":"SUMIF(s1inv[Employer ID],s11cumperf[[#This Row],[Employer ID]],s1inv[SBA Reported Value (B)])","v":0},{"$f":"SUMIF(s1inv[Employer ID],s11cumperf[[#This Row],[Employer ID]],s1inv[GAAP Reported Value (C)])","v":0},{"$f":"IFERROR(s11cumperf[[#This Row],[Total Receipts]]/s11cumperf[[#This Row],[Total Dollars Invested]],\"\")","v":""},{"$f":"IFERROR((s11cumperf[[#This Row],[Total Receipts]]+s11cumperf[[#This Row],[SBA Reported Value]])/s11cumperf[[#This Row],[Total Dollars Invested]],\"\")","v":""}]

{"sheet":"ExecSum","index":21,"n_rows":86,"n_cols":11,"rows_kept":86,"merged":[[85,0,91,10],[92,0,115,10]]}
[{"$nulls":5},"EXECUTIVE SUMMARY ",{"$nulls":4},{"$f":"'1-Cover'!$G$1","v":"OMB Approval No. 3245-0063"}]
[{"$nulls":5},{"$f":"\"FOR \"&Number_of_Months&\" MONTH PERIOD ENDED: \"&TEXT(Form468Date,\"MM/DD/YYYY\")","v":"FOR  MONTH PERIOD ENDED: 01/00/1900"},{"$nulls":4},{"$f":"'1-Cover'!$G$2","v":"Expiration Date MM/DD/YYYY"}]
[{"$nulls":5},"(Amounts rounded to the nearest dollar)"]
[{"$f":"\"Name of License:  \"&sbicname","v":"Name of License:  "},{"$f":"sbicname","v":0},{"$nulls":8},{"$f":"\"License no.:  \"&TEXT(licenseno,\"00\\/00\\-0000\")","v":"License no.:  00/00-0000"}]
["Strategy:",{"$f":"'1-Cover'!C32","v":0},{"$nulls":7},"Vintage Year",{"$f":"'1-Cover'!C28","v":0}]
[]
["a.      Firm Data"]
["1.  Assets under Management (including unfunded commitments)",{"$nulls":7},{"$f":"I24+K24","v":0}]
["2.  Number of active funds"]
["3.  Number of active portfolio companies"]
["4. Number of active and inactive funds"]
["5. Firm established year"]
["6. Total number of investment professionals at the firm"]
["7. Total number of employees at the firm"]
["8. Does your firm have a formal diversity, equity, and inclusion policy?"]
["9. Does your firm have a formal ESG or Responsible Investing policy?"]
["10. Do you offer the following benefits to all full-time employees?"]
["a. 401(k) match or retirement savings"]
["b. Medical insurance"]
["c. Paid Family Leave"]
["d. Childcare services or reimbursement"]
[]
["b.      Fund Level Data",{"$nulls":7},"Private Investor",null,"SBA"]
["1.  Total commitments",{"$nulls":7},{"$f":"regcap","v":0},null,{"$f":"MIN(175000000,I24*2)","v":0}]
["2.  Total calls/draws since inception",{"$nulls":7},{"$f":"cyprivcapbal","v":0},null,{"$f":"cysbabal","v":0}]
["3.  Remaining commitments",{"$nulls":7},{"$f":"I24-I25","v":0},null,{"$f":"K24-K25","v":0}]
["4.  Total number of portfolio company investments since inception (from Schedule 11)",{"$nulls":7},{"$f":"S11cumperf!E12","v":0}]
["5.  Total amount of investments since inception (from Schedule 11)",{"$nulls":7},{"$f":"s9totinvest","v":0}]
["6.  Gross receipts/proceeds from investments since inception (from Schedule 11)",{"$nulls":7},{"$f":"s11_totreceipts","v":0}]
["7.  Gross distributions including carried interest",{"$nulls":7},0]
["8.  Amount of carried interest paid",{"$nulls":7},0]
["9.  Distributions to private investors net of carried interest and expenses",{"$nulls":7},0]
["10.  SBA Leverage Repayment",{"$nulls":9},0]
["11. GAAP Value of Remaining Loans and Investments (from Schedule 11)",{"$nulls":7},{"$f":"s11_gaapval","v":0}]
[]
["c.      Key  Valuation Metrics ",{"$nulls":5},"MOIC","Net DPI","Net RVPI","Net TVPI","Net IRR"]
["(Based on GAAP fund valuations and net to investors of expenses, ",{"$nulls":5},{"$f":"IFERROR((I29+I34)/InvestAmt,\"\")","v":""},{"$f":"IFERROR(I32/privatePIcap,\"\")","v":""},{"$f":"NetAssetValue/privatePIcap","v":{"$error":"#DIV/0!"}},{"$f":"IFERROR(SUM(H37,I37),\"\")","v":""},{"v":0,"d":"0.0%"}]
["fees, and carried interest)"]
[]
["d.      Historical Fund Performance ",{"$nulls":7},"Date","Net DPI","Net TVPI"]
{"$rows_empty":17}
[{"$nulls":6},18]
[{"$nulls":6},19]
[{"$nulls":6},20]
[]
["e.      Portfolio breakdown of total invested capital to-date by industry, asset type, location, and stage invested. ",{"$nulls":8},"Total Invested:",{"$f":"InvestAmt","v":0}]
["(Top 5 in descending order)"]
["Industry","Invested $","%",null,"State","Invested $","%",null,"Stage","Invested $","%"]
[null,0,{"$f":"IFERROR(byind[[#This Row],[Invested $]]/InvestAmt,\"\")","v":""},null,null,0,{"$f":"IFERROR(Table1113[[#This Row],[Invested $]]/InvestAmt,\"\")","v":""},null,null,0,{"$f":"IFERROR(Table11[[#This Row],[Invested $]]/InvestAmt,\"\")","v":""}]
[null,0,{"$f":"IFERROR(byind[[#This Row],[Invested $]]/InvestAmt,\"\")","v":""},null,null,0,{"$f":"IFERROR(Table1113[[#This Row],[Invested $]]/InvestAmt,\"\")","v":""},null,null,0,{"$f":"IFERROR(Table11[[#This Row],[Invested $]]/InvestAmt,\"\")","v":""}]
[null,0,{"$f":"IFERROR(byind[[#This Row],[Invested $]]/InvestAmt,\"\")","v":""},null,null,0,{"$f":"IFERROR(Table1113[[#This Row],[Invested $]]/InvestAmt,\"\")","v":""},null,null,0,{"$f":"IFERROR(Table11[[#This Row],[Invested $]]/InvestAmt,\"\")","v":""}]
[null,0,{"$f":"IFERROR(byind[[#This Row],[Invested $]]/InvestAmt,\"\")","v":""},null,null,0,{"$f":"IFERROR(Table1113[[#This Row],[Invested $]]/InvestAmt,\"\")","v":""},{"$nulls":3},{"$f":"IFERROR(Table11[[#This Row],[Invested $]]/InvestAmt,\"\")","v":""}]
[null,0,{"$f":"IFERROR(byind[[#This Row],[Invested $]]/InvestAmt,\"\")","v":""},null,null,0,{"$f":"IFERROR(Table1113[[#This Row],[Invested $]]/InvestAmt,\"\")","v":""},{"$nulls":3},{"$f":"IFERROR(Table11[[#This Row],[Invested $]]/InvestAmt,\"\")","v":""}]
[]
["Other",{"$f":"InvestAmt-SUM(byind[Invested $])","v":0},{"$f":"IFERROR(B71/InvestAmt,\"\")","v":""},null,"Other",{"$f":"InvestAmt-SUM(Table1113[Invested $])","v":0},{"$f":"IFERROR(F71/InvestAmt,\"\")","v":""},null,"Other",{"$f":"InvestAmt-SUM(Table11[Invested $])","v":0},{"$f":"IFERROR(J71/InvestAmt,\"\")","v":""}]
[]
[]
[]
["Asset Type","Invested $","%"]
[null,0,{"$f":"IFERROR(byind11[[#This Row],[Invested $]]/InvestAmt,\"\")","v":""}]
[null,0,{"$f":"IFERROR(byind11[[#This Row],[Invested $]]/InvestAmt,\"\")","v":""}]
[null,0,{"$f":"IFERROR(byind11[[#This Row],[Invested $]]/InvestAmt,\"\")","v":""}]
[null,0,{"$f":"IFERROR(byind11[[#This Row],[Invested $]]/InvestAmt,\"\")","v":""}]
[null,0,{"$f":"IFERROR(byind11[[#This Row],[Invested $]]/InvestAmt,\"\")","v":""}]
[]
["Other",{"$f":"InvestAmt-SUM(byind11[Invested $])","v":0},{"$f":"IFERROR(B82/InvestAmt,\"\")","v":""}]
[]
[]
["f.     Annual Narrative"]
["For the fiscal year ended, the Licensee should discuss the following:\n    1. Major positive and negative events which affected overall performance  including exits / distributions / write\n    2. Significant changes in the operations of the Licensee, such as changes in organizational structure, scope of operations, level or phase \n        of investment activity,  or types of investments being made. \n    3. Management changes.\n    4. Any lawsuits or other events giving rise to contingent liabilities."]

{"sheet":"WDSup","index":22,"n_rows":60,"n_cols":11,"rows_kept":60,"merged":[[20,9,20,10],[22,9,22,10],[23,9,23,10],[24,9,24,10],[26,9,26,10],[29,9,29,10],[30,9,30,10],[31,9,31,10],[32,9,32,10],[36,9,36,10],[37,9,37,10],[38,9,38,10],[39,9,39,10],[40,9,40,10],[41,9,41,10]]}
["SBA Form 468 Wind-Down Plan Supplement",{"$nulls":9},{"$f":"ombapproval","v":"OMB Approval No. 3245-0063"}]
[{"$nulls":3},"As of",{"$f":"Form468Date","v":"00:00:00"},{"$nulls":5},{"$f":"expirationdate","v":"Expiration Date MM/DD/YYYY"}]
[]
[{"$f":"\"Name of License:  \"&sbicname","v":"Name of License:  "},{"$f":"sbicname","v":0},{"$nulls":8},{"$f":"\"License no.:  \"&TEXT(licenseno,\"00\\/00\\-0000\")","v":"License no.:  00/00-0000"}]
["Note:  Detail for proceeds from income and exits and follow-on investments are on separate schedules.  "]
[]
["I.  Capital & Beginning Balances",{"$nulls":8},"A.  Cash & Cash Equivalents and Idle Funds Balance",{"$f":"cycash+cyidle","v":0}]
[]
[{"$nulls":4},"B.  Private Capital",{"$nulls":5},"C.  SBA Leverage"]
[{"$nulls":3},"Total Private Capital Committed to Fund",{"$f":"ExecSum!I24","v":0}]
[{"$nulls":3},"Total Private Capital Paid In",{"$f":"ExecSum!I25","v":0},{"$nulls":4},"Total SBA Leverage Drawn",{"$f":"ExecSum!K25","v":0}]
[{"$nulls":3},"Total Return of Capital Distributions",{"$nulls":5},"Total Redemptions",{"$f":"ExecSum!K25","v":0}]
[{"$nulls":3},"Total READ Distributions"]
[{"$nulls":3},"Leverageable Capital Balance",{"$f":"levcap","v":0},{"$nulls":4},"SBA Leverage Balance",{"$f":"cysbabal","v":0}]
[{"$nulls":3},"Unfunded Regulatory Commitments",{"$f":"PI_UnfundCommit","v":0},{"$nulls":4},"Unfunded SBA Leverage Commitments",{"$f":"ExecSum!K26","v":0}]
[{"$nulls":3},"Regulatory Capital",{"$f":"regcap","v":0}]
[]
[]
["II.  Pro Forma Cash Flows"]
[{"$nulls":4},{"$f":"E2+1","v":"1900-01-01"},null,null,"Post","Pro Forma"]
["In $",{"$nulls":3},{"$f":"DATE(YEAR(E20),12,31)","v":"1900-12-31"},{"$f":"YEAR(E21)+1","v":1901},{"$f":"F21+1","v":1902},{"$f":"G21","v":1902},"Total","Comments"]
["A.  Cash Inflows"]
["1. Private Capital Draws (Paid In)",{"$nulls":7},{"$f":"SUM(D23:H23)","v":0}]
["2. SBA Leverage/Loan Draws",{"$nulls":7},{"$f":"SUM(D24:H24)","v":0}]
["3. Idle Interest & Other Income",{"$nulls":7},{"$f":"SUM(D25:H25)","v":0}]
["4. Loan & Investment Income/Proceeds (Sched A)",{"$nulls":3},{"$f":"+WDSupA!I8","v":0},{"$f":"+WDSupA!J8","v":0},{"$f":"+WDSupA!K8","v":0},{"$f":"+WDSupA!L8","v":0},{"$f":"SUM(D26:H26)","v":0},"See Wind Down Schedule A."]
["5. Other Cash Inflows"]
[{"$nulls":3},"Total Cash Inflows",{"$f":"SUM(E23:E27)","v":0},{"$f":"SUM(F23:F27)","v":0},{"$f":"SUM(G23:G27)","v":0},{"$f":"SUM(H23:H27)","v":0},{"$f":"SUM(I23:I27)","v":0}]
["B. Cash Outflows"]
["1.  Expenses"]
["a. Management Fees ",{"$nulls":7},{"$f":"SUM(D31:H31)","v":0}]
["b. SBA Interest, Leverage Fees, & Annual Charges",{"$nulls":7},{"$f":"SUM(D32:H32)","v":0}]
["c. Other Expenses",{"$nulls":7},{"$f":"SUM(D33:H33)","v":0}]
["d. Total Expenses",{"$nulls":3},{"$f":"SUM(E31:E33)","v":0},{"$f":"SUM(F31:F33)","v":0},0,0,0]
["2. Investment Follow-Ons (Sched B)",{"$nulls":3},{"$f":"+WDSupB!G11","v":0},{"$f":"+WDSupB!H11","v":0},{"$f":"+WDSupB!I11","v":0},{"$f":"+WDSupB!J11","v":0},{"$f":"SUM(D35:H35)","v":0},"See Wind Down Schedule B."]
["3. Private Investor Distributions"]
["a. READ",{"$nulls":7},{"$f":"SUM(D37:H37)","v":0}]
["b. Return of Capital",{"$nulls":7},{"$f":"SUM(D38:H38)","v":0}]
["c. Total Distributions to Private Investors",{"$nulls":3},{"$f":"SUM(E37:E38)","v":0},{"$f":"SUM(F37:F38)","v":0},{"$f":"SUM(G37:G38)","v":0},{"$f":"SUM(H37:H38)","v":0},{"$f":"SUM(D39:H39)","v":0}]
["4.  SBA Leverage Redemptions",{"$nulls":7},{"$f":"SUM(D40:H40)","v":0}]
["5.  Other Cash Outflows"]
[{"$nulls":3},"Total Cash Outflows",{"$f":"SUM(E34,E35,E39,E40,E41)","v":0},{"$f":"SUM(F34,F35,F39,F40,F41)","v":0},0,0,0]
["C.  NET CASH FLOW",{"$nulls":3},{"$f":"E28-E42","v":0},{"$f":"F28-F42","v":0},{"$f":"G28-G42","v":0},{"$f":"H28-H42","v":0},{"$f":"I28-I42","v":0}]
[]
["III. Ending Balances",null,null,{"$f":"E2","v":"00:00:00"}]
["Regulatory Capital",null,null,{"$f":"E16","v":0},{"$f":"D46-E38","v":0},{"$f":"E46-F38","v":0},{"$f":"F46-G38","v":0},{"$f":"G46-H38","v":0}]
["Leverageable Capital",null,null,{"$f":"E14","v":0},{"$f":"D47+E23-E38","v":0},{"$f":"E47+F23-F38","v":0},{"$f":"F47+G23-G38","v":0},{"$f":"G47+H23-H38","v":0}]
["SBA Leverage Balance",null,null,{"$f":"K14","v":0},{"$f":"D48+E24-E40","v":0},{"$f":"E48+F24-F40","v":0},{"$f":"F48+G24-G40","v":0},{"$f":"G48+H24-H40","v":0}]
["Cash & Cash Equivalents & Idle ",null,null,{"$f":"K7","v":0},{"$f":"D49+E43","v":0},{"$f":"E49+F43","v":0},{"$f":"F49+G43","v":0},{"$f":"G49+H43","v":0}]
["Unfunded Private Commitments",null,null,{"$f":"E15","v":0},{"$f":"D50-E23","v":0},0,0,0]
["Unfunded SBA Commitments",null,null,{"$f":"K15","v":0},0,0,0,0]
["Leverage Ratio",null,null,{"$f":"D48/D47","v":{"$error":"#DIV/0!"}},{"$f":"E48/E47","v":{"$error":"#DIV/0!"}},{"$f":"F48/F47","v":{"$error":"#DIV/0!"}},{"$f":"G48/G47","v":{"$error":"#DIV/0!"}},{"$f":"H48/H47","v":{"$error":"#DIV/0!"}}]
[]
["Return Multiples"]
[null,"Cumulative to LPs",null,{"$f":"E12+E13","v":0},{"$f":"D55+E39","v":0},{"$f":"E55+F39","v":0},{"$f":"F55+G39","v":0},{"$f":"G55+H39","v":0}]
[null,"Distributions to Paid in Capital",null,{"$f":"D55/$E$11","v":{"$error":"#DIV/0!"}},{"$f":"E55/($E$11+SUM($E23:E23))","v":{"$error":"#DIV/0!"}},{"$f":"F55/($E$11+SUM($E23:F23))","v":{"$error":"#DIV/0!"}},{"$f":"G55/($E$11+SUM($E23:G23))","v":{"$error":"#DIV/0!"}},{"$f":"H55/($E$11+SUM($E23:H23))","v":{"$error":"#DIV/0!"}}]
[null,"Distributions to Total Capital",null,{"$f":"D55/$E$10","v":{"$error":"#DIV/0!"}},{"$f":"E55/$E$10","v":{"$error":"#DIV/0!"}},{"$f":"F55/$E$10","v":{"$error":"#DIV/0!"}},{"$f":"G55/$E$10","v":{"$error":"#DIV/0!"}},{"$f":"H55/$E$10","v":{"$error":"#DIV/0!"}}]
[]
[null,"Cumulative SBA ",null,{"$f":"K13+K12","v":0},{"$f":"D59+E40","v":0},{"$f":"E59+F40","v":0},{"$f":"F59+G40","v":0},{"$f":"G59+H40","v":0}]
[null,"Distributions to Drawn Leverage",null,{"$f":"D59/K11","v":{"$error":"#DIV/0!"}},{"$f":"E59/($K$11+SUM($E24:E24))","v":{"$error":"#DIV/0!"}},{"$f":"F59/($K$11+SUM($E24:F24))","v":{"$error":"#DIV/0!"}},{"$f":"G59/($K$11+SUM($E24:G24))","v":{"$error":"#DIV/0!"}},{"$f":"H59/($K$11+SUM($E24:H24))","v":{"$error":"#DIV/0!"}}]

{"sheet":"WDSupA","index":23,"n_rows":41,"n_cols":13,"rows_kept":41,"merged":[[9,0,10,0],[9,1,10,1],[9,2,10,2],[9,3,10,3],[9,4,10,4],[9,5,9,7],[9,8,9,11]]}
["SBA Form 468 Wind-Down Plan Supplement",{"$nulls":11},{"$f":"ombapproval","v":"OMB Approval No. 3245-0063"}]
["Schedule A - SBIC Forecast Anticipated Income/Proceeds",{"$nulls":5},"As of",{"$f":"Form468Date","v":"00:00:00"},{"$nulls":4},{"$f":"expirationdate","v":"Expiration Date MM/DD/YYYY"}]
[]
[{"$f":"\"Name of License:  \"&sbicname","v":"Name of License:  "},{"$f":"WDSup!B4","v":0},{"$nulls":10},{"$f":"\"License no.:  \"&TEXT(licenseno,\"00\\/00\\-0000\")","v":"License no.:  00/00-0000"}]
[]
[]
[]
["TOTALS",null,{"$f":"SUM(Table1[Cost of Invest.])","v":0},{"$f":"SUM(Table1[468 SBA Reported Value])","v":0},{"$f":"SUM(Table1[Ant. Exit Type])","v":0},{"$f":"SUM(Table1[Minimum])","v":0},{"$f":"SUM(Table1[Maximum])","v":0},{"$f":"SUM(Table1[Likely])","v":0},{"$f":"SUM(Table1[Thru end of Current Year])","v":0},{"$f":"SUM(Table1[Yr1])","v":0},{"$f":"SUM(Table1[Yr2])","v":0},{"$f":"SUM(Table1[PostYr2])","v":0}]
[]
["Portfolio Company Name","Year First Invested","Cost of Invest.","468 SBA Approved Reported Value","Anticipated Exit Type","Anticipated Income/Exit Proceeds",null,null,"Timing of Likely Exit Income/Proceeds"]
[{"$nulls":5},"Minimum","Maximum","Likely",{"$f":"TEXT(WDSup!E20,\"mm/dd/yyyy\")&\" to \"&TEXT(WDSup!E21,\"mm/dd/yyyy\")","v":"01/01/1900 to 12/31/1900"},{"$f":"WDSup!F21","v":1901},{"$f":"WDSup!G21","v":1902},{"$f":"\"Post \"&WDSup!H21","v":"Post 1902"},"Comments"]
["Portfolio Company Name","Year First Invested","Cost of Invest.","468 SBA Reported Value","Ant. Exit Type","Minimum","Maximum","Likely","Thru end of Current Year","Yr1","Yr2","PostYr2","Comments"]
[" ",{"$f":"IF(Table1[[#This Row],[Portfolio Company Name]]=\" \",\"\",IFERROR(YEAR(VLOOKUP(Table1[[#This Row],[Portfolio Company Name]],s11cumperf[],3,FALSE)),\"\"))","v":""},{"$f":"SUMIF(s1inv[Portfolio Company Name],Table1[[#This Row],[Portfolio Company Name]],s1inv[Cost at End of Period])","v":0},{"$f":"SUMIF(s1inv[Portfolio Company Name],Table1[[#This Row],[Portfolio Company Name]],s1inv[SBA Reported Value (B)])","v":0},{"$nulls":7},{"$f":"H13-I13-J13-K13","v":0}]
[" ",{"$f":"IF(Table1[[#This Row],[Portfolio Company Name]]=\" \",\"\",IFERROR(YEAR(VLOOKUP(Table1[[#This Row],[Portfolio Company Name]],s11cumperf[],3,FALSE)),\"\"))","v":""},{"$f":"SUMIF(s1inv[Portfolio Company Name],Table1[[#This Row],[Portfolio Company Name]],s1inv[Cost at End of Period])","v":0},{"$f":"SUMIF(s1inv[Portfolio Company Name],Table1[[#This Row],[Portfolio Company Name]],s1inv[SBA Reported Value (B)])","v":0},{"$nulls":7},0]
[" ",{"$f":"IF(Table1[[#This Row],[Portfolio Company Name]]=\" \",\"\",IFERROR(YEAR(VLOOKUP(Table1[[#This Row],[Portfolio Company Name]],s11cumperf[],3,FALSE)),\"\"))","v":""},{"$f":"SUMIF(s1inv[Portfolio Company Name],Table1[[#This Row],[Portfolio Company Name]],s1inv[Cost at End of Period])","v":0},{"$f":"SUMIF(s1inv[Portfolio Company Name],Table1[[#This Row],[Portfolio Company Name]],s1inv[SBA Reported Value (B)])","v":0},{"$nulls":7},0]
[" ",{"$f":"IF(Table1[[#This Row],[Portfolio Company Name]]=\" \",\"\",IFERROR(YEAR(VLOOKUP(Table1[[#This Row],[Portfolio Company Name]],s11cumperf[],3,FALSE)),\"\"))","v":""},{"$f":"SUMIF(s1inv[Portfolio Company Name],Table1[[#This Row],[Portfolio Company Name]],s1inv[Cost at End of Period])","v":0},{"$f":"SUMIF(s1inv[Portfolio Company Name],Table1[[#This Row],[Portfolio Company Name]],s1inv[SBA Reported Value (B)])","v":0},{"$nulls":7},0]
[" ",{"$f":"IF(Table1[[#This Row],[Portfolio Company Name]]=\" \",\"\",IFERROR(YEAR(VLOOKUP(Table1[[#This Row],[Portfolio Company Name]],s11cumperf[],3,FALSE)),\"\"))","v":""},{"$f":"SUMIF(s1inv[Portfolio Company Name],Table1[[#This Row],[Portfolio Company Name]],s1inv[Cost at End of Period])","v":0},{"$f":"SUMIF(s1inv[Portfolio Company Name],Table1[[#This Row],[Portfolio Company Name]],s1inv[SBA Reported Value (B)])","v":0},{"$nulls":7},0]
[" ",{"$f":"IF(Table1[[#This Row],[Portfolio Company Name]]=\" \",\"\",IFERROR(YEAR(VLOOKUP(Table1[[#This Row],[Portfolio Company Name]],s11cumperf[],3,FALSE)),\"\"))","v":""},{"$f":"SUMIF(s1inv[Portfolio Company Name],Table1[[#This Row],[Portfolio Company Name]],s1inv[Cost at End of Period])","v":0},{"$f":"SUMIF(s1inv[Portfolio Company Name],Table1[[#This Row],[Portfolio Company Name]],s1inv[SBA Reported Value (B)])","v":0},{"$nulls":7},0]
[" ",{"$f":"IF(Table1[[#This Row],[Portfolio Company Name]]=\" \",\"\",IFERROR(YEAR(VLOOKUP(Table1[[#This Row],[Portfolio Company Name]],s11cumperf[],3,FALSE)),\"\"))","v":""},{"$f":"SUMIF(s1inv[Portfolio Company Name],Table1[[#This Row],[Portfolio Company Name]],s1inv[Cost at End of Period])","v":0},{"$f":"SUMIF(s1inv[Portfolio Company Name],Table1[[#This Row],[Portfolio Company Name]],s1inv[SBA Reported Value (B)])","v":0},{"$nulls":7},0]
[" ",{"$f":"IF(Table1[[#This Row],[Portfolio Company Name]]=\" \",\"\",IFERROR(YEAR(VLOOKUP(Table1[[#This Row],[Portfolio Company Name]],s11cumperf[],3,FALSE)),\"\"))","v":""},{"$f":"SUMIF(s1inv[Portfolio Company Name],Table1[[#This Row],[Portfolio Company Name]],s1inv[Cost at End of Period])","v":0},{"$f":"SUMIF(s1inv[Portfolio Company Name],Table1[[#This Row],[Portfolio Company Name]],s1inv[SBA Reported Value (B)])","v":0},{"$nulls":7},0]
[" ",{"$f":"IF(Table1[[#This Row],[Portfolio Company Name]]=\" \",\"\",IFERROR(YEAR(VLOOKUP(Table1[[#This Row],[Portfolio Company Name]],s11cumperf[],3,FALSE)),\"\"))","v":""},{"$f":"SUMIF(s1inv[Portfolio Company Name],Table1[[#This Row],[Portfolio Company Name]],s1inv[Cost at End of Period])","v":0},{"$f":"SUMIF(s1inv[Portfolio Company Name],Table1[[#This Row],[Portfolio Company Name]],s1inv[SBA Reported Value (B)])","v":0},{"$nulls":7},0]
[" ",{"$f":"IF(Table1[[#This Row],[Portfolio Company Name]]=\" \",\"\",IFERROR(YEAR(VLOOKUP(Table1[[#This Row],[Portfolio Company Name]],s11cumperf[],3,FALSE)),\"\"))","v":""},{"$f":"SUMIF(s1inv[Portfolio Company Name],Table1[[#This Row],[Portfolio Company Name]],s1inv[Cost at End of Period])","v":0},{"$f":"SUMIF(s1inv[Portfolio Company Name],Table1[[#This Row],[Portfolio Company Name]],s1inv[SBA Reported Value (B)])","v":0},{"$nulls":7},0]
[" ",{"$f":"IF(Table1[[#This Row],[Portfolio Company Name]]=\" \",\"\",IFERROR(YEAR(VLOOKUP(Table1[[#This Row],[Portfolio Company Name]],s11cumperf[],3,FALSE)),\"\"))","v":""},{"$f":"SUMIF(s1inv[Portfolio Company Name],Table1[[#This Row],[Portfolio Company Name]],s1inv[Cost at End of Period])","v":0},{"$f":"SUMIF(s1inv[Portfolio Company Name],Table1[[#This Row],[Portfolio Company Name]],s1inv[SBA Reported Value (B)])","v":0},{"$nulls":7},0]
[" ",{"$f":"IF(Table1[[#This Row],[Portfolio Company Name]]=\" \",\"\",IFERROR(YEAR(VLOOKUP(Table1[[#This Row],[Portfolio Company Name]],s11cumperf[],3,FALSE)),\"\"))","v":""},{"$f":"SUMIF(s1inv[Portfolio Company Name],Table1[[#This Row],[Portfolio Company Name]],s1inv[Cost at End of Period])","v":0},{"$f":"SUMIF(s1inv[Portfolio Company Name],Table1[[#This Row],[Portfolio Company Name]],s1inv[SBA Reported Value (B)])","v":0},{"$nulls":7},0]
[" ",{"$f":"IF(Table1[[#This Row],[Portfolio Company Name]]=\" \",\"\",IFERROR(YEAR(VLOOKUP(Table1[[#This Row],[Portfolio Company Name]],s11cumperf[],3,FALSE)),\"\"))","v":""},{"$f":"SUMIF(s1inv[Portfolio Company Name],Table1[[#This Row],[Portfolio Company Name]],s1inv[Cost at End of Period])","v":0},{"$f":"SUMIF(s1inv[Portfolio Company Name],Table1[[#This Row],[Portfolio Company Name]],s1inv[SBA Reported Value (B)])","v":0},{"$nulls":7},{"$f":"H25-I25-J25-K25","v":0}]
[" ",{"$f":"IF(Table1[[#This Row],[Portfolio Company Name]]=\" \",\"\",IFERROR(YEAR(VLOOKUP(Table1[[#This Row],[Portfolio Company Name]],s11cumperf[],3,FALSE)),\"\"))","v":""},{"$f":"SUMIF(s1inv[Portfolio Company Name],Table1[[#This Row],[Portfolio Company Name]],s1inv[Cost at End of Period])","v":0},{"$f":"SUMIF(s1inv[Portfolio Company Name],Table1[[#This Row],[Portfolio Company Name]],s1inv[SBA Reported Value (B)])","v":0},{"$nulls":7},0]
[" ",{"$f":"IF(Table1[[#This Row],[Portfolio Company Name]]=\" \",\"\",IFERROR(YEAR(VLOOKUP(Table1[[#This Row],[Portfolio Company Name]],s11cumperf[],3,FALSE)),\"\"))","v":""},{"$f":"SUMIF(s1inv[Portfolio Company Name],Table1[[#This Row],[Portfolio Company Name]],s1inv[Cost at End of Period])","v":0},{"$f":"SUMIF(s1inv[Portfolio Company Name],Table1[[#This Row],[Portfolio Company Name]],s1inv[SBA Reported Value (B)])","v":0},{"$nulls":7},0]
[" ",{"$f":"IF(Table1[[#This Row],[Portfolio Company Name]]=\" \",\"\",IFERROR(YEAR(VLOOKUP(Table1[[#This Row],[Portfolio Company Name]],s11cumperf[],3,FALSE)),\"\"))","v":""},{"$f":"SUMIF(s1inv[Portfolio Company Name],Table1[[#This Row],[Portfolio Company Name]],s1inv[Cost at End of Period])","v":0},{"$f":"SUMIF(s1inv[Portfolio Company Name],Table1[[#This Row],[Portfolio Company Name]],s1inv[SBA Reported Value (B)])","v":0},{"$nulls":7},0]
[" ",{"$f":"IF(Table1[[#This Row],[Portfolio Company Name]]=\" \",\"\",IFERROR(YEAR(VLOOKUP(Table1[[#This Row],[Portfolio Company Name]],s11cumperf[],3,FALSE)),\"\"))","v":""},{"$f":"SUMIF(s1inv[Portfolio Company Name],Table1[[#This Row],[Portfolio Company Name]],s1inv[Cost at End of Period])","v":0},{"$f":"SUMIF(s1inv[Portfolio Company Name],Table1[[#This Row],[Portfolio Company Name]],s1inv[SBA Reported Value (B)])","v":0},{"$nulls":7},0]
[" ",{"$f":"IF(Table1[[#This Row],[Portfolio Company Name]]=\" \",\"\",IFERROR(YEAR(VLOOKUP(Table1[[#This Row],[Portfolio Company Name]],s11cumperf[],3,FALSE)),\"\"))","v":""},{"$f":"SUMIF(s1inv[Portfolio Company Name],Table1[[#This Row],[Portfolio Company Name]],s1inv[Cost at End of Period])","v":0},{"$f":"SUMIF(s1inv[Portfolio Company Name],Table1[[#This Row],[Portfolio Company Name]],s1inv[SBA Reported Value (B)])","v":0},{"$nulls":7},{"$f":"H30-I30-J30-K30","v":0}]
[" ",{"$f":"IF(Table1[[#This Row],[Portfolio Company Name]]=\" \",\"\",IFERROR(YEAR(VLOOKUP(Table1[[#This Row],[Portfolio Company Name]],s11cumperf[],3,FALSE)),\"\"))","v":""},{"$f":"SUMIF(s1inv[Portfolio Company Name],Table1[[#This Row],[Portfolio Company Name]],s1inv[Cost at End of Period])","v":0},{"$f":"SUMIF(s1inv[Portfolio Company Name],Table1[[#This Row],[Portfolio Company Name]],s1inv[SBA Reported Value (B)])","v":0},{"$nulls":7},0]
[" ",{"$f":"IF(Table1[[#This Row],[Portfolio Company Name]]=\" \",\"\",IFERROR(YEAR(VLOOKUP(Table1[[#This Row],[Portfolio Company Name]],s11cumperf[],3,FALSE)),\"\"))","v":""},{"$f":"SUMIF(s1inv[Portfolio Company Name],Table1[[#This Row],[Portfolio Company Name]],s1inv[Cost at End of Period])","v":0},{"$f":"SUMIF(s1inv[Portfolio Company Name],Table1[[#This Row],[Portfolio Company Name]],s1inv[SBA Reported Value (B)])","v":0},{"$nulls":7},0]
[" ",{"$f":"IF(Table1[[#This Row],[Portfolio Company Name]]=\" \",\"\",IFERROR(YEAR(VLOOKUP(Table1[[#This Row],[Portfolio Company Name]],s11cumperf[],3,FALSE)),\"\"))","v":""},{"$f":"SUMIF(s1inv[Portfolio Company Name],Table1[[#This Row],[Portfolio Company Name]],s1inv[Cost at End of Period])","v":0},{"$f":"SUMIF(s1inv[Portfolio Company Name],Table1[[#This Row],[Portfolio Company Name]],s1inv[SBA Reported Value (B)])","v":0},{"$nulls":7},0]
[" ",{"$f":"IF(Table1[[#This Row],[Portfolio Company Name]]=\" \",\"\",IFERROR(YEAR(VLOOKUP(Table1[[#This Row],[Portfolio Company Name]],s11cumperf[],3,FALSE)),\"\"))","v":""},{"$f":"SUMIF(s1inv[Portfolio Company Name],Table1[[#This Row],[Portfolio Company Name]],s1inv[Cost at End of Period])","v":0},{"$f":"SUMIF(s1inv[Portfolio Company Name],Table1[[#This Row],[Portfolio Company Name]],s1inv[SBA Reported Value (B)])","v":0},{"$nulls":7},0]
[" ",{"$f":"IF(Table1[[#This Row],[Portfolio Company Name]]=\" \",\"\",IFERROR(YEAR(VLOOKUP(Table1[[#This Row],[Portfolio Company Name]],s11cumperf[],3,FALSE)),\"\"))","v":""},{"$f":"SUMIF(s1inv[Portfolio Company Name],Table1[[#This Row],[Portfolio Company Name]],s1inv[Cost at End of Period])","v":0},{"$f":"SUMIF(s1inv[Portfolio Company Name],Table1[[#This Row],[Portfolio Company Name]],s1inv[SBA Reported Value (B)])","v":0},{"$nulls":7},0]
[" ",{"$f":"IF(Table1[[#This Row],[Portfolio Company Name]]=\" \",\"\",IFERROR(YEAR(VLOOKUP(Table1[[#This Row],[Portfolio Company Name]],s11cumperf[],3,FALSE)),\"\"))","v":""},{"$f":"SUMIF(s1inv[Portfolio Company Name],Table1[[#This Row],[Portfolio Company Name]],s1inv[Cost at End of Period])","v":0},{"$f":"SUMIF(s1inv[Portfolio Company Name],Table1[[#This Row],[Portfolio Company Name]],s1inv[SBA Reported Value (B)])","v":0},{"$nulls":7},0]
[" ",{"$f":"IF(Table1[[#This Row],[Portfolio Company Name]]=\" \",\"\",IFERROR(YEAR(VLOOKUP(Table1[[#This Row],[Portfolio Company Name]],s11cumperf[],3,FALSE)),\"\"))","v":""},{"$f":"SUMIF(s1inv[Portfolio Company Name],Table1[[#This Row],[Portfolio Company Name]],s1inv[Cost at End of Period])","v":0},{"$f":"SUMIF(s1inv[Portfolio Company Name],Table1[[#This Row],[Portfolio Company Name]],s1inv[SBA Reported Value (B)])","v":0},{"$nulls":7},0]
[" ",{"$f":"IF(Table1[[#This Row],[Portfolio Company Name]]=\" \",\"\",IFERROR(YEAR(VLOOKUP(Table1[[#This Row],[Portfolio Company Name]],s11cumperf[],3,FALSE)),\"\"))","v":""},{"$f":"SUMIF(s1inv[Portfolio Company Name],Table1[[#This Row],[Portfolio Company Name]],s1inv[Cost at End of Period])","v":0},{"$f":"SUMIF(s1inv[Portfolio Company Name],Table1[[#This Row],[Portfolio Company Name]],s1inv[SBA Reported Value (B)])","v":0},{"$nulls":7},0]
[" ",{"$f":"IF(Table1[[#This Row],[Portfolio Company Name]]=\" \",\"\",IFERROR(YEAR(VLOOKUP(Table1[[#This Row],[Portfolio Company Name]],s11cumperf[],3,FALSE)),\"\"))","v":""},{"$f":"SUMIF(s1inv[Portfolio Company Name],Table1[[#This Row],[Portfolio Company Name]],s1inv[Cost at End of Period])","v":0},{"$f":"SUMIF(s1inv[Portfolio Company Name],Table1[[#This Row],[Portfolio Company Name]],s1inv[SBA Reported Value (B)])","v":0},{"$nulls":7},0]
[" ",{"$f":"IF(Table1[[#This Row],[Portfolio Company Name]]=\" \",\"\",IFERROR(YEAR(VLOOKUP(Table1[[#This Row],[Portfolio Company Name]],s11cumperf[],3,FALSE)),\"\"))","v":""},{"$f":"SUMIF(s1inv[Portfolio Company Name],Table1[[#This Row],[Portfolio Company Name]],s1inv[Cost at End of Period])","v":0},{"$f":"SUMIF(s1inv[Portfolio Company Name],Table1[[#This Row],[Portfolio Company Name]],s1inv[SBA Reported Value (B)])","v":0},{"$nulls":7},0]
[" ",{"$f":"IF(Table1[[#This Row],[Portfolio Company Name]]=\" \",\"\",IFERROR(YEAR(VLOOKUP(Table1[[#This Row],[Portfolio Company Name]],s11cumperf[],3,FALSE)),\"\"))","v":""},{"$f":"SUMIF(s1inv[Portfolio Company Name],Table1[[#This Row],[Portfolio Company Name]],s1inv[Cost at End of Period])","v":0},{"$f":"SUMIF(s1inv[Portfolio Company Name],Table1[[#This Row],[Portfolio Company Name]],s1inv[SBA Reported Value (B)])","v":0},{"$nulls":7},0]

{"sheet":"WDSupB","index":24,"n_rows":50,"n_cols":11,"rows_kept":50,"merged":[[7,6,7,9]]}
["SBA Form 468 Wind-Down Plan Supplement",{"$nulls":9},{"$f":"ombapproval","v":"OMB Approval No. 3245-0063"}]
["Schedule B - SBIC Forecast Financings",{"$nulls":3},"As of",{"$f":"Form468Date","v":"00:00:00"},{"$nulls":4},{"$f":"expirationdate","v":"Expiration Date MM/DD/YYYY"}]
[]
[{"$f":"\"Name of License:  \"&sbicname","v":"Name of License:  "},null,{"$f":"WDSupA!B4","v":0},{"$nulls":7},{"$f":"\"License no.:  \"&TEXT(licenseno,\"00\\/00\\-0000\")","v":"License no.:  00/00-0000"}]
[]
[{"$nulls":5},"Totals",{"$f":"SUM(Table35[Yr0])","v":0},{"$f":"SUM(Table35[Yr1])","v":0},{"$f":"SUM(Table35[Yr2])","v":0},{"$f":"SUM(Table35[Yr3])","v":0}]
["Anticipated Follow-on Financings"]
[{"$nulls":6},"Timing of SBIC Follow-On"]
[null,"Company Name","Investment Type","Small Business Total Round/ Deal Size","SBIC's Pro-Rata Investment","SBIC Follow-on Participation",{"$f":"TEXT(WDSup!E20,\"mm/dd/yyyy\")&\" to \"&TEXT(WDSup!E21,\"mm/dd/yyyy\")","v":"01/01/1900 to 12/31/1900"},{"$f":"WDSup!F21","v":1901},{"$f":"WDSup!G21","v":1902},{"$f":"\"Post \"&WDSup!H21","v":"Post 1902"},"Comments"]
[null,"Company Name","Investment Type","Small Business Total Round/ Deal Size","SBIC's Pro-Rata Investment","SBIC Follow-on Participation","Yr0","Yr1","Yr2","Yr3","Comments"]
[null," ",{"$nulls":7},{"$f":"F11-G11-H11-I11","v":0}]
[null," ",{"$nulls":7},0]
[null," ",{"$nulls":7},0]
[null," ",{"$nulls":7},0]
[null," ",{"$nulls":7},{"$f":"F15-G15-H15-I15","v":0}]
[null," ",{"$nulls":7},0]
[null," ",{"$nulls":7},0]
[null," ",{"$nulls":7},0]
[null," ",{"$nulls":7},0]
[null," ",{"$nulls":7},0]
[null," ",{"$nulls":7},0]
[null," ",{"$nulls":7},0]
[null," ",{"$nulls":7},0]
[null," ",{"$nulls":7},0]
[null," ",{"$nulls":7},0]
[null," ",{"$nulls":7},0]
[null," ",{"$nulls":7},0]
[null," ",{"$nulls":7},0]
[null," ",{"$nulls":7},0]
[null," ",{"$nulls":7},0]
[null," ",{"$nulls":7},0]
[null," ",{"$nulls":7},0]
[null," ",{"$nulls":7},0]
[null," ",{"$nulls":7},0]
[null," ",{"$nulls":7},0]
[null," ",{"$nulls":7},0]
[null," ",{"$nulls":7},0]
[null," ",{"$nulls":7},0]
[null," ",{"$nulls":7},0]
[null," ",{"$nulls":7},0]
[null," ",{"$nulls":7},0]
[null," ",{"$nulls":7},0]
[null," ",{"$nulls":7},0]
[null," ",{"$nulls":7},0]
[null," ",{"$nulls":7},0]
[null," ",{"$nulls":7},0]
[null," ",{"$nulls":7},0]
[null," ",{"$nulls":7},0]
[null," ",{"$nulls":7},0]
[null," ",{"$nulls":7},0]

{"sheet":"KeyLeverageMetrics","index":25,"n_rows":77,"n_cols":13,"rows_kept":77,"merged":[[20,3,20,6],[34,2,35,4],[36,2,37,3],[45,2,46,4]]}
[{"$nulls":3},"SBA Leverage Metrics",null,null,{"$f":"'1-Cover'!$G$1","v":"OMB Approval No. 3245-0063"}]
[{"$nulls":3},{"$f":"\"Based on Form 468 entries for period ended: \"&TEXT(Form468Date,\"MM/DD/YYYY\")","v":"Based on Form 468 entries for period ended: 01/00/1900"},null,null,{"$f":"'1-Cover'!$G$2","v":"Expiration Date MM/DD/YYYY"}]
[]
[{"$f":"\"Name of License:  \"&sbicname","v":"Name of License:  "},{"$f":"WDSupB!C4","v":0},{"$nulls":4},{"$f":"\"License no.:  \"&TEXT(licenseno,\"00\\/00\\-0000\")","v":"License no.:  00/00-0000"}]
["Expand rows to see how metrics are calculated."]
["I.  Leverage Coverage Ratio (LCR)",{"$nulls":5},{"$f":"\"LCR = \"&TEXT(G18,\"0.00\")","v":"LCR = "}]
[]
[null,"A.  SBA Leverage Balance (Form 468 Page 3, Line 31)",{"$nulls":4},{"$f":"cysbabal","v":0}]
[null,"B.  Recoverable Assets"]
[]
[null,"+","Total Assets (Form 468 Page 2, Line 30)",{"$nulls":3},{"$f":"cytotalassets","v":0}]
[null,"-","Other Asset (Form 468 Page 2,Line 29)",{"$nulls":3},{"$f":"cyotherassets","v":0}]
[null,"-","Total Liabilities (Form 468 Page 3, Line 41)",{"$nulls":3},{"$f":"cytotalliab","v":0}]
[null,null,"Net Asset Value",{"$nulls":3},{"$f":"G11-G12-G13","v":0}]
[null,"+","SBA Leverage Balance (Form 468 Pge 3, Line 31)",{"$nulls":3},{"$f":"cysbabal","v":0}]
[null,"+","Unfunded Regulatory Commitments (Form 468 Page 8, Part II, Line 2a)",{"$nulls":3},{"$f":"PI_UnfundCommit","v":0}]
[null,null,"Total Recoverable Assets",{"$nulls":3},{"$f":"NetAssetValue+G15+G16","v":0}]
[null,"C.  Leverage Coverage Ratio = Total Recoverable Assets/SBA Leverage Balance",{"$nulls":4},{"$f":"IFERROR(ROUND(G17/G8,2),\"\")","v":""}]
[]
[]
["II.  Capital Impairment Percentage (CIP)",null,null,{"$f":"\"CIP =  \"&TEXT(G59,\"0.0%\")&\"  Max CIP:  \"&TEXT(G77,\"0.0%\") &\"  |  \"&IF(G59>G77,\"CAPITAL IMPAIRMENT PERCENTAGE EXCEEDS MAXIMUM\",\"Within permissible maximum CIP\")","v":"CIP =  0.0%  Max CIP:  0.0%  |  Within permissible maximum CIP"}]
[]
[null,"A.","PRELIMINARY IMPAIRMENT TEST"]
[null,1,"  Undistributed Net Realized Earnings (Deficit) (Form 468, Page 3, Line 51)",{"$nulls":3},{"$f":"cy_UNRE","v":0}]
[null,{"$f":"B24+1","v":2},"  Includible Non-cash Gains (Form 468, Schedule 3, Box 8)",{"$nulls":3},{"$f":"s3NC_includibleNC","v":0}]
[null,{"$f":"B25+1","v":3},"  Undistributed Net Realized Earnings (Deficit) plus Includible Non-Cash Gains",{"$nulls":3},{"$f":"G24+G25","v":0}]
[null,{"$f":"B26+1","v":4},"  Unrealized Gain (Loss) on Securities Held (Form 468, Page 3, Line 49)",{"$nulls":3},{"$f":"cy_unrealgainloss","v":0}]
[]
[null,null,{"$f":"IF(AND(G26>=0,G27>=0),\"STOP -- Capital Impairment % = 0.  No further calculations are required.\",IF(G27>0,\"Continue with Section B to assess impact of unrealized gains on CIP.\",\"No unrealized gains; continue with Section C.\"))","v":"STOP -- Capital Impairment % = 0.  No further calculations are required."}]
[]
[null,"B.","ADJUSTED UNREALIZED GAIN ON SECURITIES HELD"]
[]
[null,null,"UNREALIZED APPRECIATION ON:"]
[null,{"$f":"B27+1","v":5},"Publicly Traded and Marketable securities [\"Class 1\" - Form 468 Schedule 1)",{"$nulls":3},{"$f":"S1_Class1Total","v":0}]
[null,{"$f":"B34+1","v":6},"Non-Publicly Traded and Marketable securities which satisfy the requirements in Sec. 107.1840(d)(3) [\"Class 2\" - Form 468 Schedule 1)",{"$nulls":3},{"$f":"S1_Class2Total","v":0}]
[]
[null,{"$f":"B35+1","v":7},"All other securities [\"Class 3\" = Total Appreciation from Form 468 Schedule 1 minus Class 1 and Class 2]",{"$nulls":3},{"v":1500000,"d":"$1,500,000"}]
[]
[null,{"$f":"B37+1","v":8},"  Unrealized Depreciation (Schedule 1)",{"$nulls":3},{"$f":"-ABS(s1_unrealdep)","v":0}]
[]
[null,{"$f":"B39+1","v":9},"  \"Class 1\" appreciation not used to offset depreciation",null,{"$f":"IF(ABS(G39)-G37-G35<=0,G34,MAXA(G34-(ABS(G39)-G37-G35),0))","v":0},"x 80% =",{"$f":"E41*0.8","v":0}]
[null,{"$f":"B41+1","v":10},"  \"Class 2\" appreciation not used to offset depreciation",null,{"$f":"IF(ABS(G39)-G37<=0,G35,MAXA(G35-(ABS(G39)-G37),0))","v":0},"x 50% =",{"$f":"E42*0.5","v":0}]
[null,{"$f":"B42+1","v":11},"  Adjusted Unrealized Gain before estimated tax effects",{"$nulls":3},{"$f":"SUM(G41:G42)","v":0}]
[]
[null,{"$f":"B43+1","v":12},"Less: Estimated future income taxes--if applicable*"]
[null,{"$f":"B45+1","v":13},"Less:  Class 1 or Class 2 Appreciation on pledged or encumbered securities (up to the amount of the related borrowing or obligation)*"]
[]
[null,null,"*Note:  SBA may evaluate and assess."]
[null,{"$f":"B46+1","v":14},"  Adjusted Unrealized Gain on Securities Held",{"$nulls":3},{"$f":"G43-ABS(G45)-ABS(G46)","v":0}]
[]
[null,"III.","CAPITAL IMPAIRMENT PERCENTAGE"]
[]
[null,{"$f":"B49+1","v":15},"Undistributed Net Realized Earnings plus Includible Non-cash Gains",{"$nulls":3},{"$f":"G26","v":0}]
[null,{"$f":"B53+1","v":16},"Adjusted Unrealized Gain (Loss) on Securities Held",{"$nulls":3},{"$f":"IF(G27<0,G27,G49)","v":0}]
[null,{"$f":"B54+1","v":17},"Total (Line 15 + Line 16)",{"$nulls":3},{"$f":"G53+G54","v":0}]
[]
[null,{"$f":"B55+1","v":18},"  Regulatory Capital (excluding Treasury Stock, if any)  (Form 468, page 8 Part II, Line 6)",{"$nulls":3},{"$f":"regcap","v":0}]
[]
[null,{"$f":"B57+1","v":19},"  CAPITAL IMPAIRMENT PERCENTAGE",{"$nulls":3},{"$f":"IF(G57=0,0,IF(G55<0,ABS(G55/G57),0))","v":{"v":0,"d":"0.0%"}}]
[]
[]
[null,"IV.","  MAXIMUM PERMISSIBLE CAPITAL IMPAIRMENT PERCENTAGE"]
[]
[null,{"$f":"B59+1","v":20},"  If you are a Section 301(c) Licensee, enter C.  If you are a"]
[null,null,"      Section 301(d) Licensee, enter D.",{"$nulls":3},"c"]
[]
[null,null,"SECTION 301(d) LICENSEES SKIP LINES 21-26"]
[null,{"$f":"B64+1","v":21},"  SBA Leverage outstanding as of end of reporting period (Form 468 Page 3, Line 31)",{"$nulls":3},{"$f":"cysbabal","v":0}]
[null,{"$f":"B68+1","v":22},"  Leverageable Capital as of end of reporting period (Form 468, page 8, Line 10)",{"$nulls":3},{"$f":"levcap","v":0},{"$nulls":3},">=67%",">=40%","< 40%"]
[null,{"$f":"B69+1","v":23},"  Leverage Percentage",{"$nulls":3},{"$f":"IF(G69=0,0,G68/G69)","v":{"v":0,"d":"0%"}},null,null,0,0.7,0.55,0.45]
[{"$nulls":9},1.0000001,0.6,0.5,0.4]
[null,{"$f":"B70+1","v":24},"  Total portfolio investments at cost (Schedule 1)",{"$nulls":3},{"$f":"S1Inv!R18","v":0},null,null,2.0000001,0.5,0.4,0.35]
[null,{"$f":"B72+1","v":25},"  Equity Capital Investments (Schedule 1)",{"$nulls":3},{"$f":"S1Inv!R8","v":0}]
[]
[null,{"$f":"B73+1","v":26},"  Percentage of portfolio in Equity Capital Investments",{"$nulls":3},{"$f":"IF(G72=0,0,G73/G72)","v":{"v":0,"d":"0%"}}]
[]
[null,28,"  Maximum Permissible Capital Impairment Percentage",{"$nulls":3},{"$f":"IF(G65=\"\",0,IF(G65=\"d\",0.75,IF(G70=0,0,VLOOKUP(G70,J69:M72,IF(G75>=0.67,1,IF(G75>=0.4,2,3))+1))))","v":{"v":0,"d":"0%"}}]

{"sheet":"NAICS Search","index":26,"n_rows":1018,"n_cols":3,"rows_kept":1018}
[]
[]
[null,"NAICS Search Tool.   Copy NAICS 2022 Code and Title Result into NAICS field"]
[null,"Search","(All)"]
[]
[null,"Row Labels"]
[null,"111110:  Soybean Farming"]
[null,"111120:  Oilseed (except Soybean) Farming "]
[null,"111130:  Dry Pea and Bean Farming "]
[null,"111140:  Wheat Farming"]
[null,"111150:  Corn Farming "]
[null,"111160:  Rice Farming"]
[null,"111191:  Oilseed and Grain Combination Farming "]
[null,"111199:  All Other Grain Farming "]
[null,"111211:  Potato Farming "]
[null,"111219:  Other Vegetable (except Potato) and Melon Farming "]
[null,"111310:  Orange Groves"]
[null,"111320:  Citrus (except Orange) Groves "]
[null,"111331:  Apple Orchards "]
[null,"111332:  Grape Vineyards "]
[null,"111333:  Strawberry Farming "]
[null,"111334:  Berry (except Strawberry) Farming "]
[null,"111335:  Tree Nut Farming "]
[null,"111336:  Fruit and Tree Nut Combination Farming "]
[null,"111339:  Other Noncitrus Fruit Farming "]
[null,"111411:  Mushroom Production "]
[null,"111419:  Other Food Crops Grown Under Cover "]
[null,"111421:  Nursery and Tree Production "]
[null,"111422:  Floriculture Production "]
[null,"111910:  Tobacco Farming"]
[null,"111920:  Cotton Farming"]
[null,"111930:  Sugarcane Farming"]
[null,"111940:  Hay Farming "]
[null,"111991:  Sugar Beet Farming "]
[null,"111992:  Peanut Farming "]
[null,"111998:  All Other Miscellaneous Crop Farming "]
[null,"112111:  Beef Cattle Ranching and Farming "]
[null,"112112:  Cattle Feedlots "]
[null,"112120:  Dairy Cattle and Milk Production"]
[null,"112130:  Dual-Purpose Cattle Ranching and Farming "]
[null,"112210:  Hog and Pig Farming "]
[null,"112310:  Chicken Egg Production "]
[null,"112320:  Broilers and Other Meat Type Chicken Production "]
[null,"112330:  Turkey Production"]
[null,"112340:  Poultry Hatcheries"]
[null,"112390:  Other Poultry Production "]
[null,"112410:  Sheep Farming"]
[null,"112420:  Goat Farming"]
[null,"112511:  Finfish Farming and Fish Hatcheries "]
[null,"112512:  Shellfish Farming "]
[null,"112519:  Other Aquaculture "]
[null,"112910:  Apiculture"]
[null,"112920:  Horses and Other Equine Production"]
[null,"112930:  Fur-Bearing Animal and Rabbit Production"]
[null,"112990:  All Other Animal Production "]
[null,"113110:  Timber Tract Operations"]
[null,"113210:  Forest Nurseries and Gathering of Forest Products "]
[null,"113310:  Logging "]
[null,"114111:  Finfish Fishing "]
[null,"114112:  Shellfish Fishing "]
[null,"114119:  Other Marine Fishing "]
[null,"114210:  Hunting and Trapping"]
[null,"115111:  Cotton Ginning "]
[null,"115112:  Soil Preparation, Planting, and Cultivating "]
[null,"115113:  Crop Harvesting, Primarily by Machine "]
[null,"115114:  Postharvest Crop Activities (except Cotton Ginning) "]
[null,"115115:  Farm Labor Contractors and Crew Leaders "]
[null,"115116:  Farm Management Services "]
[null,"115210:  Support Activities for Animal Production"]
[null,"115310:  Support Activities for Forestry"]
[null,"211120:  Crude Petroleum Extraction "]
[null,"211130:  Natural Gas Extraction "]
[null,"212114:  Surface Coal Mining "]
[null,"212115:  Underground Coal Mining "]
[null,"212210:  Iron Ore Mining"]
[null,"212220:  Gold Ore and Silver Ore Mining "]
[null,"212230:  Copper, Nickel, Lead, and Zinc Mining "]
[null,"212290:  Other Metal Ore Mining "]
[null,"212311:  Dimension Stone Mining and Quarrying "]
[null,"212312:  Crushed and Broken Limestone Mining and Quarrying "]
[null,"212313:  Crushed and Broken Granite Mining and Quarrying "]
[null,"212319:  Other Crushed and Broken Stone Mining and Quarrying "]
[null,"212321:  Construction Sand and Gravel Mining "]
[null,"212322:  Industrial Sand Mining "]
[null,"212323:  Kaolin, Clay, and Ceramic and Refractory Minerals Mining "]
[null,"212390:  Other Nonmetallic Mineral Mining and Quarrying "]
[null,"213111:  Drilling Oil and Gas Wells"]
[null,"213112:  Support Activities for Oil and Gas Operations "]
[null,"213113:  Support Activities for Coal Mining "]
[null,"213114:  Support Activities for Metal Mining "]
[null,"213115:  Support Activities for Nonmetallic Minerals (except Fuels) Mining "]
[null,"221111:  Hydroelectric Power Generation "]
[null,"221112:  Fossil Fuel Electric Power Generation "]
[null,"221113:  Nuclear Electric Power Generation "]
[null,"221114:  Solar Electric Power Generation "]
[null,"221115:  Wind Electric Power Generation "]
[null,"221116:  Geothermal Electric Power Generation "]
[null,"221117:  Biomass Electric Power Generation "]
[null,"221118:  Other Electric Power Generation "]
[null,"221121:  Electric Bulk Power Transmission and Control "]
[null,"221122:  Electric Power Distribution "]
[null,"221210:  Natural Gas Distribution "]
[null,"221310:  Water Supply and Irrigation Systems "]
[null,"221320:  Sewage Treatment Facilities "]
[null,"221330:  Steam and Air-Conditioning Supply "]
[null,"236115:  New Single-Family Housing Construction (except For-Sale Builders) "]
[null,"236116:  New Multifamily Housing Construction (except For-Sale Builders) "]
[null,"236117:  New Housing For-Sale Builders "]
[null,"236118:  Residential Remodelers "]
[null,"236210:  Industrial Building Construction "]
[null,"236220:  Commercial and Institutional Building Construction "]
[null,"237110:  Water and Sewer Line and Related Structures Construction "]
[null,"237120:  Oil and Gas Pipeline and Related Structures Construction "]
[null,"237130:  Power and Communication Line and Related Structures Construction "]
[null,"237210:  Land Subdivision "]
[null,"237310:  Highway, Street, and Bridge Construction "]
[null,"237990:  Other Heavy and Civil Engineering Construction "]
[null,"238110:  Poured Concrete Foundation and Structure Contractors "]
[null,"238120:  Structural Steel and Precast Concrete Contractors "]
[null,"238130:  Framing Contractors "]
[null,"238140:  Masonry Contractors "]
[null,"238150:  Glass and Glazing Contractors "]
[null,"238160:  Roofing Contractors "]
[null,"238170:  Siding Contractors "]
[null,"238190:  Other Foundation, Structure, and Building Exterior Contractors "]
[null,"238210:  Electrical Contractors and Other Wiring Installation Contractors"]
[null,"238220:  Plumbing, Heating, and Air-Conditioning Contractors "]
[null,"238290:  Other Building Equipment Contractors "]
[null,"238310:  Drywall and Insulation Contractors "]
[null,"238320:  Painting and Wall Covering Contractors"]
[null,"238330:  Flooring Contractors"]
[null,"238340:  Tile and Terrazzo Contractors"]
[null,"238350:  Finish Carpentry Contractors"]
[null,"238390:  Other Building Finishing Contractors"]
[null,"238910:  Site Preparation Contractors"]
[null,"238990:  All Other Specialty Trade Contractors"]
[null,"311111:  Dog and Cat Food Manufacturing "]
[null,"311119:  Other Animal Food Manufacturing "]
[null,"311211:  Flour Milling "]
[null,"311212:  Rice Milling "]
[null,"311213:  Malt Manufacturing "]
[null,"311221:  Wet Corn Milling and Starch Manufacturing "]
[null,"311224:  Soybean and Other Oilseed Processing "]
[null,"311225:  Fats and Oils Refining and Blending "]
[null,"311230:  Breakfast Cereal Manufacturing"]
[null,"311313:  Beet Sugar Manufacturing "]
[null,"311314:  Cane Sugar Manufacturing "]
[null,"311340:  Nonchocolate Confectionery Manufacturing"]
[null,"311351:  Chocolate and Confectionery Manufacturing from Cacao Beans "]
[null,"311352:  Confectionery Manufacturing from Purchased Chocolate "]
[null,"311411:  Frozen Fruit, Juice, and Vegetable Manufacturing "]
[null,"311412:  Frozen Specialty Food Manufacturing "]
[null,"311421:  Fruit and Vegetable Canning "]
[null,"311422:  Specialty Canning "]
[null,"311423:  Dried and Dehydrated Food Manufacturing "]
[null,"311511:  Fluid Milk Manufacturing "]
[null,"311512:  Creamery Butter Manufacturing "]
[null,"311513:  Cheese Manufacturing "]
[null,"311514:  Dry, Condensed, and Evaporated Dairy Product Manufacturing "]
[null,"311520:  Ice Cream and Frozen Dessert Manufacturing"]
[null,"311611:  Animal (except Poultry) Slaughtering "]
[null,"311612:  Meat Processed from Carcasses "]
[null,"311613:  Rendering and Meat Byproduct Processing "]
[null,"311615:  Poultry Processing "]
[null,"311710:  Seafood Product Preparation and Packaging"]
[null,"311811:  Retail Bakeries "]
[null,"311812:  Commercial Bakeries "]
[null,"311813:  Frozen Cakes, Pies, and Other Pastries Manufacturing "]
[null,"311821:  Cookie and Cracker Manufacturing "]
[null,"311824:  Dry Pasta, Dough, and Flour Mixes Manufacturing from Purchased Flour "]
[null,"311830:  Tortilla Manufacturing"]
[null,"311911:  Roasted Nuts and Peanut Butter Manufacturing "]
[null,"311919:  Other Snack Food Manufacturing "]
[null,"311920:  Coffee and Tea Manufacturing "]
[null,"311930:  Flavoring Syrup and Concentrate Manufacturing"]
[null,"311941:  Mayonnaise, Dressing, and Other Prepared Sauce Manufacturing "]
[null,"311942:  Spice and Extract Manufacturing "]
[null,"311991:  Perishable Prepared Food Manufacturing "]
[null,"311999:  All Other Miscellaneous Food Manufacturing "]
[null,"312111:  Soft Drink Manufacturing "]
[null,"312112:  Bottled Water Manufacturing "]
[null,"312113:  Ice Manufacturing "]
[null,"312120:  Breweries"]
[null,"312130:  Wineries "]
[null,"312140:  Distilleries "]
[null,"312230:  Tobacco Manufacturing "]
[null,"313110:  Fiber, Yarn, and Thread Mills "]
[null,"313210:  Broadwoven Fabric Mills"]
[null,"313220:  Narrow Fabric Mills and Schiffli Machine Embroidery"]
[null,"313230:  Nonwoven Fabric Mills"]
[null,"313240:  Knit Fabric Mills"]
[null,"313310:  Textile and Fabric Finishing Mills "]
[null,"313320:  Fabric Coating Mills"]
[null,"314110:  Carpet and Rug Mills"]
[null,"314120:  Curtain and Linen Mills"]
[null,"314910:  Textile Bag and Canvas Mills "]
[null,"314994:  Rope, Cordage, Twine, Tire Cord, and Tire Fabric Mills "]
[null,"314999:  All Other Miscellaneous Textile Product Mills "]
[null,"315120:  Apparel Knitting Mills"]
[null,"315210:  Cut and Sew Apparel Contractors "]
[null,"315250:  Cut and Sew Apparel Manufacturing (except Contractors) "]
[null,"315990:  Apparel Accessories and Other Apparel Manufacturing "]
[null,"316110:  Leather and Hide Tanning and Finishing"]
[null,"316210:  Footwear Manufacturing "]
[null,"316990:  Other Leather and Allied Product Manufacturing "]
[null,"321113:  Sawmills "]
[null,"321114:  Wood Preservation "]
[null,"321211:  Hardwood Veneer and Plywood Manufacturing "]
[null,"321212:  Softwood Veneer and Plywood Manufacturing "]
[null,"321215:  Engineered Wood Member Manufacturing "]
[null,"321219:  Reconstituted Wood Product Manufacturing "]
[null,"321911:  Wood Window and Door Manufacturing "]
[null,"321912:  Cut Stock, Resawing Lumber, and Planing "]
[null,"321918:  Other Millwork (including Flooring) "]
[null,"321920:  Wood Container and Pallet Manufacturing"]
[null,"321991:  Manufactured Home (Mobile Home) Manufacturing "]
[null,"321992:  Prefabricated Wood Building Manufacturing "]
[null,"321999:  All Other Miscellaneous Wood Product Manufacturing "]
[null,"322110:  Pulp Mills "]
[null,"322120:  Paper Mills "]
[null,"322130:  Paperboard Mills "]
[null,"322211:  Corrugated and Solid Fiber Box Manufacturing "]
[null,"322212:  Folding Paperboard Box Manufacturing "]
[null,"322219:  Other Paperboard Container Manufacturing "]
[null,"322220:  Paper Bag and Coated and Treated Paper Manufacturing"]
[null,"322230:  Stationery Product Manufacturing"]
[null,"322291:  Sanitary Paper Product Manufacturing "]
[null,"322299:  All Other Converted Paper Product Manufacturing "]
[null,"323111:  Commercial Printing (except Screen and Books) "]
[null,"323113:  Commercial Screen Printing "]
[null,"323117:  Books Printing "]
[null,"323120:  Support Activities for Printing"]
[null,"324110:  Petroleum Refineries"]
[null,"324121:  Asphalt Paving Mixture and Block Manufacturing "]
[null,"324122:  Asphalt Shingle and Coating Materials Manufacturing "]
[null,"324191:  Petroleum Lubricating Oil and Grease Manufacturing "]
[null,"324199:  All Other Petroleum and Coal Products Manufacturing "]
[null,"325110:  Petrochemical Manufacturing"]
[null,"325120:  Industrial Gas Manufacturing"]
[null,"325130:  Synthetic Dye and Pigment Manufacturing"]
[null,"325180:  Other Basic Inorganic Chemical Manufacturing "]
[null,"325193:  Ethyl Alcohol Manufacturing "]
[null,"325194:  Cyclic Crude, Intermediate, and Gum and Wood Chemical Manufacturing "]
[null,"325199:  All Other Basic Organic Chemical Manufacturing "]
[null,"325211:  Plastics Material and Resin Manufacturing "]
[null,"325212:  Synthetic Rubber Manufacturing "]
[null,"325220:  Artificial and Synthetic Fibers and Filaments Manufacturing"]
[null,"325311:  Nitrogenous Fertilizer Manufacturing "]
[null,"325312:  Phosphatic Fertilizer Manufacturing "]
[null,"325314:  Fertilizer (Mixing Only) Manufacturing "]
[null,"325315:  Compost Manufacturing"]
[null,"325320:  Pesticide and Other Agricultural Chemical Manufacturing"]
[null,"325411:  Medicinal and Botanical Manufacturing "]
[null,"325412:  Pharmaceutical Preparation Manufacturing "]
[null,"325413:  In-Vitro Diagnostic Substance Manufacturing "]
[null,"325414:  Biological Product (except Diagnostic) Manufacturing "]
[null,"325510:  Paint and Coating Manufacturing"]
[null,"325520:  Adhesive Manufacturing"]
[null,"325611:  Soap and Other Detergent Manufacturing "]
[null,"325612:  Polish and Other Sanitation Good Manufacturing "]
[null,"325613:  Surface Active Agent Manufacturing "]
[null,"325620:  Toilet Preparation Manufacturing"]
[null,"325910:  Printing Ink Manufacturing"]
[null,"325920:  Explosives Manufacturing"]
[null,"325991:  Custom Compounding of Purchased Resins "]
[null,"325992:  Photographic Film, Paper, Plate, Chemical, and Copy Toner Manufacturing "]
[null,"325998:  All Other Miscellaneous Chemical Product and Preparation Manufacturing "]
[null,"326111:  Plastics Bag and Pouch Manufacturing "]
[null,"326112:  Plastics Packaging Film and Sheet (including Laminated) Manufacturing "]
[null,"326113:  Unlaminated Plastics Film and Sheet (except Packaging) Manufacturing "]
[null,"326121:  Unlaminated Plastics Profile Shape Manufacturing "]
[null,"326122:  Plastics Pipe and Pipe Fitting Manufacturing "]
[null,"326130:  Laminated Plastics Plate, Sheet (except Packaging), and Shape Manufacturing"]
[null,"326140:  Polystyrene Foam Product Manufacturing"]
[null,"326150:  Urethane and Other Foam Product (except Polystyrene) Manufacturing"]
[null,"326160:  Plastics Bottle Manufacturing"]
[null,"326191:  Plastics Plumbing Fixture Manufacturing "]
[null,"326199:  All Other Plastics Product Manufacturing "]
[null,"326211:  Tire Manufacturing (except Retreading) "]
[null,"326212:  Tire Retreading "]
[null,"326220:  Rubber and Plastics Hoses and Belting Manufacturing"]
[null,"326291:  Rubber Product Manufacturing for Mechanical Use "]
[null,"326299:  All Other Rubber Product Manufacturing "]
[null,"327110:  Pottery, Ceramics, and Plumbing Fixture Manufacturing "]
[null,"327120:  Clay Building Material and Refractories Manufacturing "]
[null,"327211:  Flat Glass Manufacturing "]
[null,"327212:  Other Pressed and Blown Glass and Glassware Manufacturing "]
[null,"327213:  Glass Container Manufacturing "]
[null,"327215:  Glass Product Manufacturing Made of Purchased Glass "]
[null,"327310:  Cement Manufacturing"]
[null,"327320:  Ready-Mix Concrete Manufacturing"]
[null,"327331:  Concrete Block and Brick Manufacturing "]
[null,"327332:  Concrete Pipe Manufacturing "]
[null,"327390:  Other Concrete Product Manufacturing "]
[null,"327410:  Lime Manufacturing"]
[null,"327420:  Gypsum Product Manufacturing"]
[null,"327910:  Abrasive Product Manufacturing"]
[null,"327991:  Cut Stone and Stone Product Manufacturing "]
[null,"327992:  Ground or Treated Mineral and Earth Manufacturing "]
[null,"327993:  Mineral Wool Manufacturing "]
[null,"327999:  All Other Miscellaneous Nonmetallic Mineral Product Manufacturing "]
[null,"331110:  Iron and Steel Mills and Ferroalloy Manufacturing "]
[null,"331210:  Iron and Steel Pipe and Tube Manufacturing from Purchased Steel"]
[null,"331221:  Rolled Steel Shape Manufacturing "]
[null,"331222:  Steel Wire Drawing "]
[null,"331313:  Alumina Refining and Primary Aluminum Production "]
[null,"331314:  Secondary Smelting and Alloying of Aluminum "]
[null,"331315:  Aluminum Sheet, Plate, and Foil Manufacturing "]
[null,"331318:  Other Aluminum Rolling, Drawing, and Extruding "]
[null,"331410:  Nonferrous Metal (except Aluminum) Smelting and Refining "]
[null,"331420:  Copper Rolling, Drawing, Extruding, and Alloying"]
[null,"331491:  Nonferrous Metal (except Copper and Aluminum) Rolling, Drawing, and Extruding "]
[null,"331492:  Secondary Smelting, Refining, and Alloying of Nonferrous Metal (except Copper and Aluminum) "]
[null,"331511:  Iron Foundries "]
[null,"331512:  Steel Investment Foundries "]
[null,"331513:  Steel Foundries (except Investment) "]
[null,"331523:  Nonferrous Metal Die-Casting Foundries "]
[null,"331524:  Aluminum Foundries (except Die-Casting) "]
[null,"331529:  Other Nonferrous Metal Foundries (except Die-Casting) "]
[null,"332111:  Iron and Steel Forging "]
[null,"332112:  Nonferrous Forging "]
[null,"332114:  Custom Roll Forming "]
[null,"332117:  Powder Metallurgy Part Manufacturing "]
[null,"332119:  Metal Crown, Closure, and Other Metal Stamping (except Automotive) "]
[null,"332215:  Metal Kitchen Cookware, Utensil, Cutlery, and Flatware (except Precious) Manufacturing "]
[null,"332216:  Saw Blade and Handtool Manufacturing "]
[null,"332311:  Prefabricated Metal Building and Component Manufacturing "]
[null,"332312:  Fabricated Structural Metal Manufacturing "]
[null,"332313:  Plate Work Manufacturing "]
[null,"332321:  Metal Window and Door Manufacturing "]
[null,"332322:  Sheet Metal Work Manufacturing "]
[null,"332323:  Ornamental and Architectural Metal Work Manufacturing "]
[null,"332410:  Power Boiler and Heat Exchanger Manufacturing"]
[null,"332420:  Metal Tank (Heavy Gauge) Manufacturing"]
[null,"332431:  Metal Can Manufacturing "]
[null,"332439:  Other Metal Container Manufacturing "]
[null,"332510:  Hardware Manufacturing"]
[null,"332613:  Spring Manufacturing "]
[null,"332618:  Other Fabricated Wire Product Manufacturing "]
[null,"332710:  Machine Shops"]
[null,"332721:  Precision Turned Product Manufacturing "]
[null,"332722:  Bolt, Nut, Screw, Rivet, and Washer Manufacturing "]
[null,"332811:  Metal Heat Treating "]
[null,"332812:  Metal Coating, Engraving (except Jewelry and Silverware), and Allied Services to Manufacturers "]
[null,"332813:  Electroplating, Plating, Polishing, Anodizing, and Coloring "]
[null,"332911:  Industrial Valve Manufacturing "]
[null,"332912:  Fluid Power Valve and Hose Fitting Manufacturing "]
[null,"332913:  Plumbing Fixture Fitting and Trim Manufacturing "]
[null,"332919:  Other Metal Valve and Pipe Fitting Manufacturing "]
[null,"332991:  Ball and Roller Bearing Manufacturing"]
[null,"332992:  Small Arms Ammunition Manufacturing "]
[null,"332993:  Ammunition (except Small Arms) Manufacturing "]
[null,"332994:  Small Arms, Ordnance, and Ordnance Accessories Manufacturing "]
[null,"332996:  Fabricated Pipe and Pipe Fitting Manufacturing "]
[null,"332999:  All Other Miscellaneous Fabricated Metal Product Manufacturing "]
[null,"333111:  Farm Machinery and Equipment Manufacturing "]
[null,"333112:  Lawn and Garden Tractor and Home Lawn and Garden Equipment Manufacturing "]
[null,"333120:  Construction Machinery Manufacturing"]
[null,"333131:  Mining Machinery and Equipment Manufacturing "]
[null,"333132:  Oil and Gas Field Machinery and Equipment Manufacturing "]
[null,"333241:  Food Product Machinery Manufacturing "]
[null,"333242:  Semiconductor Machinery Manufacturing "]
[null,"333243:  Sawmill, Woodworking, and Paper Machinery Manufacturing "]
[null,"333248:  All Other Industrial Machinery Manufacturing "]
[null,"333310:  Commercial and Service Industry Machinery Manufacturing "]
[null,"333413:  Industrial and Commercial Fan and Blower and Air Purification Equipment Manufacturing "]
[null,"333414:  Heating Equipment (except Warm Air Furnaces) Manufacturing "]
[null,"333415:  Air-Conditioning and Warm Air Heating Equipment and Commercial and Industrial Refrigeration Equipment Manufacturing "]
[null,"333511:  Industrial Mold Manufacturing "]
[null,"333514:  Special Die and Tool, Die Set, Jig, and Fixture Manufacturing "]
[null,"333515:  Cutting Tool and Machine Tool Accessory Manufacturing "]
[null,"333517:  Machine Tool Manufacturing "]
[null,"333519:  Rolling Mill and Other Metalworking Machinery Manufacturing "]
[null,"333611:  Turbine and Turbine Generator Set Units Manufacturing "]
[null,"333612:  Speed Changer, Industrial High-Speed Drive, and Gear Manufacturing "]
[null,"333613:  Mechanical Power Transmission Equipment Manufacturing "]
[null,"333618:  Other Engine Equipment Manufacturing "]
[null,"333912:  Air and Gas Compressor Manufacturing "]
[null,"333914:  Measuring, Dispensing, and Other Pumping Equipment Manufacturing "]
[null,"333921:  Elevator and Moving Stairway Manufacturing "]
[null,"333922:  Conveyor and Conveying Equipment Manufacturing "]
[null,"333923:  Overhead Traveling Crane, Hoist, and Monorail System Manufacturing "]
[null,"333924:  Industrial Truck, Tractor, Trailer, and Stacker Machinery Manufacturing "]
[null,"333991:  Power-Driven Handtool Manufacturing "]
[null,"333992:  Welding and Soldering Equipment Manufacturing "]
[null,"333993:  Packaging Machinery Manufacturing "]
[null,"333994:  Industrial Process Furnace and Oven Manufacturing "]
[null,"333995:  Fluid Power Cylinder and Actuator Manufacturing "]
[null,"333996:  Fluid Power Pump and Motor Manufacturing "]
[null,"333998:  All Other Miscellaneous General Purpose Machinery Manufacturing "]
[null,"334111:  Electronic Computer Manufacturing "]
[null,"334112:  Computer Storage Device Manufacturing "]
[null,"334118:  Computer Terminal and Other Computer Peripheral Equipment Manufacturing "]
[null,"334210:  Telephone Apparatus Manufacturing"]
[null,"334220:  Radio and Television Broadcasting and Wireless Communications Equipment Manufacturing"]
[null,"334290:  Other Communications Equipment Manufacturing"]
[null,"334310:  Audio and Video Equipment Manufacturing"]
[null,"334412:  Bare Printed Circuit Board Manufacturing  "]
[null,"334413:  Semiconductor and Related Device Manufacturing "]
[null,"334416:  Capacitor, Resistor, Coil, Transformer, and Other Inductor Manufacturing "]
[null,"334417:  Electronic Connector Manufacturing "]
[null,"334418:  Printed Circuit Assembly (Electronic Assembly) Manufacturing "]
[null,"334419:  Other Electronic Component Manufacturing "]
[null,"334510:  Electromedical and Electrotherapeutic Apparatus Manufacturing "]
[null,"334511:  Search, Detection, Navigation, Guidance, Aeronautical, and Nautical System and Instrument Manufacturing "]
[null,"334512:  Automatic Environmental Control Manufacturing for Residential, Commercial, and Appliance Use "]
[null,"334513:  Instruments and Related Products Manufacturing for Measuring, Displaying, and Controlling Industrial Process Variables "]
[null,"334514:  Totalizing Fluid Meter and Counting Device Manufacturing "]
[null,"334515:  Instrument Manufacturing for Measuring and Testing Electricity and Electrical Signals "]
[null,"334516:  Analytical Laboratory Instrument Manufacturing "]
[null,"334517:  Irradiation Apparatus Manufacturing "]
[null,"334519:  Other Measuring and Controlling Device Manufacturing "]
[null,"334610:  Manufacturing and Reproducing Magnetic and Optical Media "]
[null,"335131:  Residential Electric Lighting Fixture Manufacturing "]
[null,"335132:  Commercial, Industrial, and Institutional Electric Lighting Fixture Manufacturing "]
[null,"335139:  Electric Lamp Bulb and Other Lighting Equipment Manufacturing "]
[null,"335210:  Small Electrical Appliance Manufacturing"]
[null,"335220:  Major Household Appliance Manufacturing "]
[null,"335311:  Power, Distribution, and Specialty Transformer Manufacturing "]
[null,"335312:  Motor and Generator Manufacturing "]
[null,"335313:  Switchgear and Switchboard Apparatus Manufacturing "]
[null,"335314:  Relay and Industrial Control Manufacturing "]
[null,"335910:  Battery Manufacturing "]
[null,"335921:  Fiber Optic Cable Manufacturing "]
[null,"335929:  Other Communication and Energy Wire Manufacturing "]
[null,"335931:  Current-Carrying Wiring Device Manufacturing "]
[null,"335932:  Noncurrent-Carrying Wiring Device Manufacturing "]
[null,"335991:  Carbon and Graphite Product Manufacturing "]
[null,"335999:  All Other Miscellaneous Electrical Equipment and Component Manufacturing "]
[null,"336110:  Automobile and Light Duty Motor Vehicle Manufacturing "]
[null,"336120:  Heavy Duty Truck Manufacturing"]
[null,"336211:  Motor Vehicle Body Manufacturing "]
[null,"336212:  Truck Trailer Manufacturing "]
[null,"336213:  Motor Home Manufacturing "]
[null,"336214:  Travel Trailer and Camper Manufacturing "]
[null,"336310:  Motor Vehicle Gasoline Engine and Engine Parts Manufacturing"]
[null,"336320:  Motor Vehicle Electrical and Electronic Equipment Manufacturing"]
[null,"336330:  Motor Vehicle Steering and Suspension Components (except Spring) Manufacturing"]
[null,"336340:  Motor Vehicle Brake System Manufacturing"]
[null,"336350:  Motor Vehicle Transmission and Power Train Parts Manufacturing"]
[null,"336360:  Motor Vehicle Seating and Interior Trim Manufacturing"]
[null,"336370:  Motor Vehicle Metal Stamping"]
[null,"336390:  Other Motor Vehicle Parts Manufacturing"]
[null,"336411:  Aircraft Manufacturing "]
[null,"336412:  Aircraft Engine and Engine Parts Manufacturing "]
[null,"336413:  Other Aircraft Parts and Auxiliary Equipment Manufacturing "]
[null,"336414:  Guided Missile and Space Vehicle Manufacturing "]
[null,"336415:  Guided Missile and Space Vehicle Propulsion Unit and Propulsion Unit Parts Manufacturing "]
[null,"336419:  Other Guided Missile and Space Vehicle Parts and Auxiliary Equipment Manufacturing "]
[null,"336510:  Railroad Rolling Stock Manufacturing"]
[null,"336611:  Ship Building and Repairing "]
[null,"336612:  Boat Building "]
[null,"336991:  Motorcycle, Bicycle, and Parts Manufacturing "]
[null,"336992:  Military Armored Vehicle, Tank, and Tank Component Manufacturing "]
[null,"336999:  All Other Transportation Equipment Manufacturing "]
[null,"337110:  Wood Kitchen Cabinet and Countertop Manufacturing"]
[null,"337121:  Upholstered Household Furniture Manufacturing "]
[null,"337122:  Nonupholstered Wood Household Furniture Manufacturing "]
[null,"337126:  Household Furniture (except Wood and Upholstered) Manufacturing "]
[null,"337127:  Institutional Furniture Manufacturing "]
[null,"337211:  Wood Office Furniture Manufacturing "]
[null,"337212:  Custom Architectural Woodwork and Millwork Manufacturing "]
[null,"337214:  Office Furniture (except Wood) Manufacturing "]
[null,"337215:  Showcase, Partition, Shelving, and Locker Manufacturing "]
[null,"337910:  Mattress Manufacturing"]
[null,"337920:  Blind and Shade Manufacturing"]
[null,"339112:  Surgical and Medical Instrument Manufacturing "]
[null,"339113:  Surgical Appliance and Supplies Manufacturing "]
[null,"339114:  Dental Equipment and Supplies Manufacturing "]
[null,"339115:  Ophthalmic Goods Manufacturing "]
[null,"339116:  Dental Laboratories "]
[null,"339910:  Jewelry and Silverware Manufacturing "]
[null,"339920:  Sporting and Athletic Goods Manufacturing"]
[null,"339930:  Doll, Toy, and Game Manufacturing"]
[null,"339940:  Office Supplies (except Paper) Manufacturing"]
[null,"339950:  Sign Manufacturing"]
[null,"339991:  Gasket, Packing, and Sealing Device Manufacturing "]
[null,"339992:  Musical Instrument Manufacturing "]
[null,"339993:  Fastener, Button, Needle, and Pin Manufacturing "]
[null,"339994:  Broom, Brush, and Mop Manufacturing "]
[null,"339995:  Burial Casket Manufacturing "]
[null,"339999:  All Other Miscellaneous Manufacturing "]
[null,"423110:  Automobile and Other Motor Vehicle Merchant Wholesalers "]
[null,"423120:  Motor Vehicle Supplies and New Parts Merchant Wholesalers "]
[null,"423130:  Tire and Tube Merchant Wholesalers "]
[null,"423140:  Motor Vehicle Parts (Used) Merchant Wholesalers "]
[null,"423210:  Furniture Merchant Wholesalers "]
[null,"423220:  Home Furnishing Merchant Wholesalers "]
[null,"423310:  Lumber, Plywood, Millwork, and Wood Panel Merchant Wholesalers "]
[null,"423320:  Brick, Stone, and Related Construction Material Merchant Wholesalers "]
[null,"423330:  Roofing, Siding, and Insulation Material Merchant Wholesalers "]
[null,"423390:  Other Construction Material Merchant Wholesalers "]
[null,"423410:  Photographic Equipment and Supplies Merchant Wholesalers "]
[null,"423420:  Office Equipment Merchant Wholesalers "]
[null,"423430:  Computer and Computer Peripheral Equipment and Software Merchant Wholesalers "]
[null,"423440:  Other Commercial Equipment Merchant Wholesalers "]
[null,"423450:  Medical, Dental, and Hospital Equipment and Supplies Merchant Wholesalers "]
[null,"423460:  Ophthalmic Goods Merchant Wholesalers "]
[null,"423490:  Other Professional Equipment and Supplies Merchant Wholesalers "]
[null,"423510:  Metal Service Centers and Other Metal Merchant Wholesalers "]
[null,"423520:  Coal and Other Mineral and Ore Merchant Wholesalers "]
[null,"423610:  Electrical Apparatus and Equipment, Wiring Supplies, and Related Equipment Merchant Wholesalers "]
[null,"423620:  Household Appliances, Electric Housewares, and Consumer Electronics Merchant Wholesalers "]
[null,"423690:  Other Electronic Parts and Equipment Merchant Wholesalers "]
[null,"423710:  Hardware Merchant Wholesalers "]
[null,"423720:  Plumbing and Heating Equipment and Supplies (Hydronics) Merchant Wholesalers "]
[null,"423730:  Warm Air Heating and Air-Conditioning Equipment and Supplies Merchant Wholesalers "]
[null,"423740:  Refrigeration Equipment and Supplies Merchant Wholesalers "]
[null,"423810:  Construction and Mining (except Oil Well) Machinery and Equipment Merchant Wholesalers "]
[null,"423820:  Farm and Garden Machinery and Equipment Merchant Wholesalers "]
[null,"423830:  Industrial Machinery and Equipment Merchant Wholesalers "]
[null,"423840:  Industrial Supplies Merchant Wholesalers"]
[null,"423850:  Service Establishment Equipment and Supplies Merchant Wholesalers "]
[null,"423860:  Transportation Equipment and Supplies (except Motor Vehicle) Merchant Wholesalers "]
[null,"423910:  Sporting and Recreational Goods and Supplies Merchant Wholesalers "]
[null,"423920:  Toy and Hobby Goods and Supplies Merchant Wholesalers "]
[null,"423930:  Recyclable Material Merchant Wholesalers "]
[null,"423940:  Jewelry, Watch, Precious Stone, and Precious Metal Merchant Wholesalers "]
[null,"423990:  Other Miscellaneous Durable Goods Merchant Wholesalers "]
[null,"424110:  Printing and Writing Paper Merchant Wholesalers "]
[null,"424120:  Stationery and Office Supplies Merchant Wholesalers "]
[null,"424130:  Industrial and Personal Service Paper Merchant Wholesalers "]
[null,"424210:  Drugs and Druggists' Sundries Merchant Wholesalers "]
[null,"424310:  Piece Goods, Notions, and Other Dry Goods Merchant Wholesalers "]
[null,"424340:  Footwear Merchant Wholesalers "]
[null,"424350:  Clothing and Clothing Accessories Merchant Wholesalers"]
[null,"424410:  General Line Grocery Merchant Wholesalers "]
[null,"424420:  Packaged Frozen Food Merchant Wholesalers "]
[null,"424430:  Dairy Product (except Dried or Canned) Merchant Wholesalers "]
[null,"424440:  Poultry and Poultry Product Merchant Wholesalers "]
[null,"424450:  Confectionery Merchant Wholesalers "]
[null,"424460:  Fish and Seafood Merchant Wholesalers "]
[null,"424470:  Meat and Meat Product Merchant Wholesalers "]
[null,"424480:  Fresh Fruit and Vegetable Merchant Wholesalers "]
[null,"424490:  Other Grocery and Related Products Merchant Wholesalers "]
[null,"424510:  Grain and Field Bean Merchant Wholesalers "]
[null,"424520:  Livestock Merchant Wholesalers "]
[null,"424590:  Other Farm Product Raw Material Merchant Wholesalers "]
[null,"424610:  Plastics Materials and Basic Forms and Shapes Merchant Wholesalers "]
[null,"424690:  Other Chemical and Allied Products Merchant Wholesalers "]
[null,"424710:  Petroleum Bulk Stations and Terminals "]
[null,"424720:  Petroleum and Petroleum Products Merchant Wholesalers (except Bulk Stations and Terminals) "]
[null,"424810:  Beer and Ale Merchant Wholesalers "]
[null,"424820:  Wine and Distilled Alcoholic Beverage Merchant Wholesalers "]
[null,"424910:  Farm Supplies Merchant Wholesalers "]
[null,"424920:  Book, Periodical, and Newspaper Merchant Wholesalers "]
[null,"424930:  Flower, Nursery Stock, and Florists' Supplies Merchant Wholesalers "]
[null,"424940:  Tobacco Product and Electronic Cigarette Merchant Wholesalers "]
[null,"424950:  Paint, Varnish, and Supplies Merchant Wholesalers "]
[null,"424990:  Other Miscellaneous Nondurable Goods Merchant Wholesalers "]
[null,"425120:  Wholesale Trade Agents and Brokers "]
[null,"441110:  New Car Dealers "]
[null,"441120:  Used Car Dealers "]
[null,"441210:  Recreational Vehicle Dealers "]
[null,"441222:  Boat Dealers "]
[null,"441227:  Motorcycle, ATV, and All Other Motor Vehicle Dealers "]
[null,"441330:  Automotive Parts and Accessories Retailers "]
[null,"441340:  Tire Dealers "]
[null,"444110:  Home Centers "]
[null,"444120:  Paint and Wallpaper Retailers "]
[null,"444140:  Hardware Retailers "]
[null,"444180:  Other Building Material Dealers "]
[null,"444230:  Outdoor Power Equipment Retailers "]
[null,"444240:  Nursery, Garden Center, and Farm Supply Retailers "]
[null,"445110:  Supermarkets and Other Grocery Retailers (except Convenience Retailers) "]
[null,"445131:  Convenience Retailers "]
[null,"445132:  Vending Machine Operators "]
[null,"445230:  Fruit and Vegetable Retailers "]
[null,"445240:  Meat Retailers "]
[null,"445250:  Fish and Seafood Retailers "]
[null,"445291:  Baked Goods Retailers "]
[null,"445292:  Confectionery and Nut Retailers "]
[null,"445298:  All Other Specialty Food Retailers "]
[null,"445320:  Beer, Wine, and Liquor Retailers "]
[null,"449110:  Furniture Retailers "]
[null,"449121:  Floor Covering Retailers "]
[null,"449122:  Window Treatment Retailers "]
[null,"449129:  All Other Home Furnishings Retailers "]
[null,"449210:  Electronics and Appliance Retailers"]
[null,"455110:  Department Stores "]
[null,"455211:  Warehouse Clubs and Supercenters "]
[null,"455219:  All Other General Merchandise Retailers "]
[null,"456110:  Pharmacies and Drug Retailers "]
[null,"456120:  Cosmetics, Beauty Supplies, and Perfume Retailers "]
[null,"456130:  Optical Goods Retailers "]
[null,"456191:  Food (Health) Supplement Retailers "]
[null,"456199:  All Other Health and Personal Care Retailers "]
[null,"457110:  Gasoline Stations with Convenience Stores "]
[null,"457120:  Other Gasoline Stations "]
[null,"457210:  Fuel Dealers "]
[null,"458110:  Clothing and Clothing Accessories Retailers "]
[null,"458210:  Shoe Retailers "]
[null,"458310:  Jewelry Retailers "]
[null,"458320:  Luggage and Leather Goods Retailers "]
[null,"459110:  Sporting Goods Retailers "]
[null,"459120:  Hobby, Toy, and Game Retailers "]
[null,"459130:  Sewing, Needlework, and Piece Goods Retailers "]
[null,"459140:  Musical Instrument and Supplies Retailers "]
[null,"459210:  Book Retailers and News Dealers "]
[null,"459310:  Florists "]
[null,"459410:  Office Supplies and Stationery Retailers "]
[null,"459420:  Gift, Novelty, and Souvenir Retailers "]
[null,"459510:  Used Merchandise Retailers "]
[null,"459910:  Pet and Pet Supplies Retailers "]
[null,"459920:  Art Dealers "]
[null,"459930:  Manufactured (Mobile) Home Dealers "]
[null,"459991:  Tobacco, Electronic Cigarette, and Other Smoking Supplies Retailers "]
[null,"459999:  All Other Miscellaneous Retailers "]
[null,"481111:  Scheduled Passenger Air Transportation "]
[null,"481112:  Scheduled Freight Air Transportation "]
[null,"481211:  Nonscheduled Chartered Passenger Air Transportation "]
[null,"481212:  Nonscheduled Chartered Freight Air Transportation "]
[null,"481219:  Other Nonscheduled Air Transportation "]
[null,"482111:  Line-Haul Railroads "]
[null,"482112:  Short Line Railroads "]
[null,"483111:  Deep Sea Freight Transportation "]
[null,"483112:  Deep Sea Passenger Transportation "]
[null,"483113:  Coastal and Great Lakes Freight Transportation "]
[null,"483114:  Coastal and Great Lakes Passenger Transportation "]
[null,"483211:  Inland Water Freight Transportation "]
[null,"483212:  Inland Water Passenger Transportation "]
[null,"484110:  General Freight Trucking, Local "]
[null,"484121:  General Freight Trucking, Long-Distance, Truckload "]
[null,"484122:  General Freight Trucking, Long-Distance, Less Than Truckload "]
[null,"484210:  Used Household and Office Goods Moving"]
[null,"484220:  Specialized Freight (except Used Goods) Trucking, Local "]
[null,"484230:  Specialized Freight (except Used Goods) Trucking, Long-Distance "]
[null,"485111:  Mixed Mode Transit Systems "]
[null,"485112:  Commuter Rail Systems "]
[null,"485113:  Bus and Other Motor Vehicle Transit Systems "]
[null,"485119:  Other Urban Transit Systems "]
[null,"485210:  Interurban and Rural Bus Transportation"]
[null,"485310:  Taxi and Ridesharing Services "]
[null,"485320:  Limousine Service"]
[null,"485410:  School and Employee Bus Transportation"]
[null,"485510:  Charter Bus Industry"]
[null,"485991:  Special Needs Transportation "]
[null,"485999:  All Other Transit and Ground Passenger Transportation "]
[null,"486110:  Pipeline Transportation of Crude Oil"]
[null,"486210:  Pipeline Transportation of Natural Gas"]
[null,"486910:  Pipeline Transportation of Refined Petroleum Products"]
[null,"486990:  All Other Pipeline Transportation"]
[null,"487110:  Scenic and Sightseeing Transportation, Land"]
[null,"487210:  Scenic and Sightseeing Transportation, Water"]
[null,"487990:  Scenic and Sightseeing Transportation, Other"]
[null,"488111:  Air Traffic Control"]
[null,"488119:  Other Airport Operations "]
[null,"488190:  Other Support Activities for Air Transportation"]
[null,"488210:  Support Activities for Rail Transportation"]
[null,"488310:  Port and Harbor Operations"]
[null,"488320:  Marine Cargo Handling"]
[null,"488330:  Navigational Services to Shipping "]
[null,"488390:  Other Support Activities for Water Transportation"]
[null,"488410:  Motor Vehicle Towing"]
[null,"488490:  Other Support Activities for Road Transportation "]
[null,"488510:  Freight Transportation Arrangement "]
[null,"488991:  Packing and Crating "]
[null,"488999:  All Other Support Activities for Transportation "]
[null,"491110:  Postal Service"]
[null,"492110:  Couriers and Express Delivery Services"]
[null,"492210:  Local Messengers and Local Delivery"]
[null,"493110:  General Warehousing and Storage "]
[null,"493120:  Refrigerated Warehousing and Storage"]
[null,"493130:  Farm Product Warehousing and Storage"]
[null,"493190:  Other Warehousing and Storage"]
[null,"512110:  Motion Picture and Video Production "]
[null,"512120:  Motion Picture and Video Distribution"]
[null,"512131:  Motion Picture Theaters (except Drive-Ins) "]
[null,"512132:  Drive-In Motion Picture Theaters "]
[null,"512191:  Teleproduction and Other Postproduction Services "]
[null,"512199:  Other Motion Picture and Video Industries "]
[null,"512230:  Music Publishers"]
[null,"512240:  Sound Recording Studios"]
[null,"512250:  Record Production and Distribution"]
[null,"512290:  Other Sound Recording Industries"]
[null,"513110:  Newspaper Publishers "]
[null,"513120:  Periodical Publishers "]
[null,"513130:  Book Publishers "]
[null,"513140:  Directory and Mailing List Publishers "]
[null,"513191:  Greeting Card Publishers "]
[null,"513199:  All Other Publishers "]
[null,"513210:  Software Publishers"]
[null,"516110:  Radio Broadcasting Stations "]
[null,"516120:  Television Broadcasting Stations "]
[null,"516210:  Media Streaming Distribution Services, Social Networks, and Other Media Networks and Content Providers"]
[null,"517111:  Wired Telecommunications Carriers "]
[null,"517112:  Wireless Telecommunications Carriers (except Satellite)"]
[null,"517121:  Telecommunications Resellers"]
[null,"517122:  Agents for Wireless Telecommunications Services"]
[null,"517410:  Satellite Telecommunications"]
[null,"517810:  All Other Telecommunications "]
[null,"518210:  Computing Infrastructure Providers, Data Processing, Web Hosting, and Related Services"]
[null,"519210:  Libraries and Archives "]
[null,"519290:  Web Search Portals and All Other Information Services"]
[null,"521110:  Monetary Authorities-Central Bank"]
[null,"522110:  Commercial Banking "]
[null,"522130:  Credit Unions "]
[null,"522180:  Savings Institutions and Other Depository Credit Intermediation "]
[null,"522210:  Credit Card Issuing "]
[null,"522220:  Sales Financing "]
[null,"522291:  Consumer Lending "]
[null,"522292:  Real Estate Credit "]
[null,"522299:  International, Secondary Market, and All Other Nondepository Credit Intermediation "]
[null,"522310:  Mortgage and Nonmortgage Loan Brokers "]
[null,"522320:  Financial Transactions Processing, Reserve, and Clearinghouse Activities "]
[null,"522390:  Other Activities Related to Credit Intermediation "]
[null,"523150:  Investment Banking and Securities Intermediation "]
[null,"523160:  Commodity Contracts Intermediation "]
[null,"523210:  Securities and Commodity Exchanges"]
[null,"523910:  Miscellaneous Intermediation "]
[null,"523940:  Portfolio Management and Investment Advice "]
[null,"523991:  Trust, Fiduciary, and Custody Activities "]
[null,"523999:  Miscellaneous Financial Investment Activities "]
[null,"524113:  Direct Life Insurance Carriers "]
[null,"524114:  Direct Health and Medical Insurance Carriers "]
[null,"524126:  Direct Property and Casualty Insurance Carriers "]
[null,"524127:  Direct Title Insurance Carriers "]
[null,"524128:  Other Direct Insurance (except Life, Health, and Medical) Carriers "]
[null,"524130:  Reinsurance Carriers "]
[null,"524210:  Insurance Agencies and Brokerages "]
[null,"524291:  Claims Adjusting "]
[null,"524292:  Pharmacy Benefit Management and Other Third Party Administration of Insurance and Pension Funds "]
[null,"524298:  All Other Insurance Related Activities "]
[null,"525110:  Pension Funds "]
[null,"525120:  Health and Welfare Funds "]
[null,"525190:  Other Insurance Funds "]
[null,"525910:  Open-End Investment Funds "]
[null,"525920:  Trusts, Estates, and Agency Accounts "]
[null,"525990:  Other Financial Vehicles "]
[null,"531110:  Lessors of Residential Buildings and Dwellings "]
[null,"531120:  Lessors of Nonresidential Buildings (except Miniwarehouses) "]
[null,"531130:  Lessors of Miniwarehouses and Self-Storage Units "]
[null,"531190:  Lessors of Other Real Estate Property "]
[null,"531210:  Offices of Real Estate Agents and Brokers"]
[null,"531311:  Residential Property Managers "]
[null,"531312:  Nonresidential Property Managers "]
[null,"531320:  Offices of Real Estate Appraisers "]
[null,"531390:  Other Activities Related to Real Estate "]
[null,"532111:  Passenger Car Rental "]
[null,"532112:  Passenger Car Leasing "]
[null,"532120:  Truck, Utility Trailer, and RV (Recreational Vehicle) Rental and Leasing "]
[null,"532210:  Consumer Electronics and Appliances Rental"]
[null,"532281:  Formal Wear and Costume Rental"]
[null,"532282:  Video Tape and Disc Rental"]
[null,"532283:  Home Health Equipment Rental "]
[null,"532284:  Recreational Goods Rental "]
[null,"532289:  All Other Consumer Goods Rental "]
[null,"532310:  General Rental Centers"]
[null,"532411:  Commercial Air, Rail, and Water Transportation Equipment Rental and Leasing "]
[null,"532412:  Construction, Mining, and Forestry Machinery and Equipment Rental and Leasing "]
[null,"532420:  Office Machinery and Equipment Rental and Leasing"]
[null,"532490:  Other Commercial and Industrial Machinery and Equipment Rental and Leasing "]
[null,"533110:  Lessors of Nonfinancial Intangible Assets (except Copyrighted Works)"]
[null,"541110:  Offices of Lawyers"]
[null,"541120:  Offices of Notaries"]
[null,"541191:  Title Abstract and Settlement Offices "]
[null,"541199:  All Other Legal Services "]
[null,"541211:  Offices of Certified Public Accountants "]
[null,"541213:  Tax Preparation Services "]
[null,"541214:  Payroll Services "]
[null,"541219:  Other Accounting Services "]
[null,"541310:  Architectural Services"]
[null,"541320:  Landscape Architectural Services"]
[null,"541330:  Engineering Services"]
[null,"541340:  Drafting Services"]
[null,"541350:  Building Inspection Services"]
[null,"541360:  Geophysical Surveying and Mapping Services"]
[null,"541370:  Surveying and Mapping (except Geophysical) Services"]
[null,"541380:  Testing Laboratories and Services"]
[null,"541410:  Interior Design Services"]
[null,"541420:  Industrial Design Services"]
[null,"541430:  Graphic Design Services"]
[null,"541490:  Other Specialized Design Services"]
[null,"541511:  Custom Computer Programming Services "]
[null,"541512:  Computer Systems Design Services "]
[null,"541513:  Computer Facilities Management Services "]
[null,"541519:  Other Computer Related Services"]
[null,"541611:  Administrative Management and General Management Consulting Services "]
[null,"541612:  Human Resources Consulting Services "]
[null,"541613:  Marketing Consulting Services "]
[null,"541614:  Process, Physical Distribution, and Logistics Consulting Services "]
[null,"541618:  Other Management Consulting Services "]
[null,"541620:  Environmental Consulting Services"]
[null,"541690:  Other Scientific and Technical Consulting Services"]
[null,"541713:  Research and Development in Nanotechnology "]
[null,"541714:  Research and Development in Biotechnology (except Nanobiotechnology)"]
[null,"541715:  Research and Development in the Physical, Engineering, and Life Sciences (except Nanotechnology and Biotechnology) "]
[null,"541720:  Research and Development in the Social Sciences and Humanities "]
[null,"541810:  Advertising Agencies"]
[null,"541820:  Public Relations Agencies"]
[null,"541830:  Media Buying Agencies"]
[null,"541840:  Media Representatives"]
[null,"541850:  Indoor and Outdoor Display Advertising"]
[null,"541860:  Direct Mail Advertising"]
[null,"541870:  Advertising Material Distribution Services"]
[null,"541890:  Other Services Related to Advertising "]
[null,"541910:  Marketing Research and Public Opinion Polling"]
[null,"541921:  Photography Studios, Portrait "]
[null,"541922:  Commercial Photography "]
[null,"541930:  Translation and Interpretation Services"]
[null,"541940:  Veterinary Services "]
[null,"541990:  All Other Professional, Scientific, and Technical Services"]
[null,"551111:  Offices of Bank Holding Companies "]
[null,"551112:  Offices of Other Holding Companies "]
[null,"551114:  Corporate, Subsidiary, and Regional Managing Offices "]
[null,"561110:  Office Administrative Services"]
[null,"561210:  Facilities Support Services"]
[null,"561311:  Employment Placement Agencies "]
[null,"561312:  Executive Search Services "]
[null,"561320:  Temporary Help Services"]
[null,"561330:  Professional Employer Organizations"]
[null,"561410:  Document Preparation Services"]
[null,"561421:  Telephone Answering Services "]
[null,"561422:  Telemarketing Bureaus and Other Contact Centers "]
[null,"561431:  Private Mail Centers "]
[null,"561439:  Other Business Service Centers (including Copy Shops) "]
[null,"561440:  Collection Agencies"]
[null,"561450:  Credit Bureaus"]
[null,"561491:  Repossession Services "]
[null,"561492:  Court Reporting and Stenotype Services "]
[null,"561499:  All Other Business Support Services "]
[null,"561510:  Travel Agencies"]
[null,"561520:  Tour Operators"]
[null,"561591:  Convention and Visitors Bureaus "]
[null,"561599:  All Other Travel Arrangement and Reservation Services "]
[null,"561611:  Investigation and Personal Background Check Services "]
[null,"561612:  Security Guards and Patrol Services "]
[null,"561613:  Armored Car Services "]
[null,"561621:  Security Systems Services (except Locksmiths) "]
[null,"561622:  Locksmiths "]
[null,"561710:  Exterminating and Pest Control Services"]
[null,"561720:  Janitorial Services "]
[null,"561730:  Landscaping Services"]
[null,"561740:  Carpet and Upholstery Cleaning Services"]
[null,"561790:  Other Services to Buildings and Dwellings "]
[null,"561910:  Packaging and Labeling Services"]
[null,"561920:  Convention and Trade Show Organizers"]
[null,"561990:  All Other Support Services"]
[null,"562111:  Solid Waste Collection "]
[null,"562112:  Hazardous Waste Collection "]
[null,"562119:  Other Waste Collection "]
[null,"562211:  Hazardous Waste Treatment and Disposal "]
[null,"562212:  Solid Waste Landfill "]
[null,"562213:  Solid Waste Combustors and Incinerators "]
[null,"562219:  Other Nonhazardous Waste Treatment and Disposal "]
[null,"562910:  Remediation Services "]
[null,"562920:  Materials Recovery Facilities "]
[null,"562991:  Septic Tank and Related Services "]
[null,"562998:  All Other Miscellaneous Waste Management Services "]
[null,"611110:  Elementary and Secondary Schools "]
[null,"611210:  Junior Colleges "]
[null,"611310:  Colleges, Universities, and Professional Schools "]
[null,"611410:  Business and Secretarial Schools "]
[null,"611420:  Computer Training "]
[null,"611430:  Professional and Management Development Training "]
[null,"611511:  Cosmetology and Barber Schools "]
[null,"611512:  Flight Training "]
[null,"611513:  Apprenticeship Training "]
[null,"611519:  Other Technical and Trade Schools "]
[null,"611610:  Fine Arts Schools "]
[null,"611620:  Sports and Recreation Instruction "]
[null,"611630:  Language Schools "]
[null,"611691:  Exam Preparation and Tutoring "]
[null,"611692:  Automobile Driving Schools "]
[null,"611699:  All Other Miscellaneous Schools and Instruction "]
[null,"611710:  Educational Support Services"]
[null,"621111:  Offices of Physicians (except Mental Health Specialists) "]
[null,"621112:  Offices of Physicians, Mental Health Specialists "]
[null,"621210:  Offices of Dentists "]
[null,"621310:  Offices of Chiropractors "]
[null,"621320:  Offices of Optometrists"]
[null,"621330:  Offices of Mental Health Practitioners (except Physicians) "]
[null,"621340:  Offices of Physical, Occupational and Speech Therapists, and Audiologists "]
[null,"621391:  Offices of Podiatrists "]
[null,"621399:  Offices of All Other Miscellaneous Health Practitioners "]
[null,"621410:  Family Planning Centers "]
[null,"621420:  Outpatient Mental Health and Substance Abuse Centers "]
[null,"621491:  HMO Medical Centers "]
[null,"621492:  Kidney Dialysis Centers "]
[null,"621493:  Freestanding Ambulatory Surgical and Emergency Centers "]
[null,"621498:  All Other Outpatient Care Centers "]
[null,"621511:  Medical Laboratories "]
[null,"621512:  Diagnostic Imaging Centers "]
[null,"621610:  Home Health Care Services"]
[null,"621910:  Ambulance Services "]
[null,"621991:  Blood and Organ Banks "]
[null,"621999:  All Other Miscellaneous Ambulatory Health Care Services "]
[null,"622110:  General Medical and Surgical Hospitals "]
[null,"622210:  Psychiatric and Substance Abuse Hospitals "]
[null,"622310:  Specialty (except Psychiatric and Substance Abuse) Hospitals "]
[null,"623110:  Nursing Care Facilities (Skilled Nursing Facilities) "]
[null,"623210:  Residential Intellectual and Developmental Disability Facilities "]
[null,"623220:  Residential Mental Health and Substance Abuse Facilities "]
[null,"623311:  Continuing Care Retirement Communities "]
[null,"623312:  Assisted Living Facilities for the Elderly "]
[null,"623990:  Other Residential Care Facilities "]
[null,"624110:  Child and Youth Services "]
[null,"624120:  Services for the Elderly and Persons with Disabilities "]
[null,"624190:  Other Individual and Family Services "]
[null,"624210:  Community Food Services "]
[null,"624221:  Temporary Shelters "]
[null,"624229:  Other Community Housing Services "]
[null,"624230:  Emergency and Other Relief Services "]
[null,"624310:  Vocational Rehabilitation Services "]
[null,"624410:  Child Care Services "]
[null,"711110:  Theater Companies and Dinner Theaters "]
[null,"711120:  Dance Companies "]
[null,"711130:  Musical Groups and Artists "]
[null,"711190:  Other Performing Arts Companies "]
[null,"711211:  Sports Teams and Clubs "]
[null,"711212:  Racetracks "]
[null,"711219:  Other Spectator Sports "]
[null,"711310:  Promoters of Performing Arts, Sports, and Similar Events with Facilities "]
[null,"711320:  Promoters of Performing Arts, Sports, and Similar Events without Facilities "]
[null,"711410:  Agents and Managers for Artists, Athletes, Entertainers, and Other Public Figures"]
[null,"711510:  Independent Artists, Writers, and Performers "]
[null,"712110:  Museums "]
[null,"712120:  Historical Sites"]
[null,"712130:  Zoos and Botanical Gardens "]
[null,"712190:  Nature Parks and Other Similar Institutions"]
[null,"713110:  Amusement and Theme Parks "]
[null,"713120:  Amusement Arcades"]
[null,"713210:  Casinos (except Casino Hotels)"]
[null,"713290:  Other Gambling Industries "]
[null,"713910:  Golf Courses and Country Clubs"]
[null,"713920:  Skiing Facilities"]
[null,"713930:  Marinas"]
[null,"713940:  Fitness and Recreational Sports Centers "]
[null,"713950:  Bowling Centers"]
[null,"713990:  All Other Amusement and Recreation Industries "]
[null,"721110:  Hotels (except Casino Hotels) and Motels "]
[null,"721120:  Casino Hotels"]
[null,"721191:  Bed-and-Breakfast Inns "]
[null,"721199:  All Other Traveler Accommodation "]
[null,"721211:  RV (Recreational Vehicle) Parks and Campgrounds "]
[null,"721214:  Recreational and Vacation Camps (except Campgrounds) "]
[null,"721310:  Rooming and Boarding Houses, Dormitories, and Workers' Camps "]
[null,"722310:  Food Service Contractors"]
[null,"722320:  Caterers"]
[null,"722330:  Mobile Food Services"]
[null,"722410:  Drinking Places (Alcoholic Beverages) "]
[null,"722511:  Full-Service Restaurants "]
[null,"722513:  Limited-Service Restaurants "]
[null,"722514:  Cafeterias, Grill Buffets, and Buffets "]
[null,"722515:  Snack and Nonalcoholic Beverage Bars "]
[null,"811111:  General Automotive Repair "]
[null,"811114:  Specialized Automotive Repair "]
[null,"811121:  Automotive Body, Paint, and Interior Repair and Maintenance "]
[null,"811122:  Automotive Glass Replacement Shops "]
[null,"811191:  Automotive Oil Change and Lubrication Shops "]
[null,"811192:  Car Washes "]
[null,"811198:  All Other Automotive Repair and Maintenance "]
[null,"811210:  Electronic and Precision Equipment Repair and Maintenance "]
[null,"811310:  Commercial and Industrial Machinery and Equipment (except Automotive and Electronic) Repair and Maintenance "]
[null,"811411:  Home and Garden Equipment Repair and Maintenance "]
[null,"811412:  Appliance Repair and Maintenance "]
[null,"811420:  Reupholstery and Furniture Repair"]
[null,"811430:  Footwear and Leather Goods Repair"]
[null,"811490:  Other Personal and Household Goods Repair and Maintenance "]
[null,"812111:  Barber Shops "]
[null,"812112:  Beauty Salons "]
[null,"812113:  Nail Salons "]
[null,"812191:  Diet and Weight Reducing Centers "]
[null,"812199:  Other Personal Care Services "]
[null,"812210:  Funeral Homes and Funeral Services "]
[null,"812220:  Cemeteries and Crematories "]
[null,"812310:  Coin-Operated Laundries and Drycleaners "]
[null,"812320:  Drycleaning and Laundry Services (except Coin-Operated) "]
[null,"812331:  Linen Supply "]
[null,"812332:  Industrial Launderers "]
[null,"812910:  Pet Care (except Veterinary) Services "]
[null,"812921:  Photofinishing Laboratories (except One-Hour) "]
[null,"812922:  One-Hour Photofinishing "]
[null,"812930:  Parking Lots and Garages "]
[null,"812990:  All Other Personal Services "]
[null,"813110:  Religious Organizations "]
[null,"813211:  Grantmaking Foundations "]
[null,"813212:  Voluntary Health Organizations "]
[null,"813219:  Other Grantmaking and Giving Services "]
[null,"813311:  Human Rights Organizations "]
[null,"813312:  Environment, Conservation and Wildlife Organizations "]
[null,"813319:  Other Social Advocacy Organizations "]
[null,"813410:  Civic and Social Organizations "]
[null,"813910:  Business Associations "]
[null,"813920:  Professional Organizations "]
[null,"813930:  Labor Unions and Similar Labor Organizations "]
[null,"813940:  Political Organizations "]
[null,"813990:  Other Similar Organizations (except Business, Professional, Labor, and Political Organizations) "]
[null,"814110:  Private Households"]
[null,"921110:  Executive Offices "]
[null,"921120:  Legislative Bodies "]
[null,"921130:  Public Finance Activities "]
[null,"921140:  Executive and Legislative Offices, Combined "]
[null,"921150:  American Indian and Alaska Native Tribal Governments "]
[null,"921190:  Other General Government Support "]
[null,"922110:  Courts "]
[null,"922120:  Police Protection "]
[null,"922130:  Legal Counsel and Prosecution "]
[null,"922140:  Correctional Institutions "]
[null,"922150:  Parole Offices and Probation Offices "]
[null,"922160:  Fire Protection "]
[null,"922190:  Other Justice, Public Order, and Safety Activities "]
[null,"923110:  Administration of Education Programs "]
[null,"923120:  Administration of Public Health Programs "]
[null,"923130:  Administration of Human Resource Programs (except Education, Public Health, and Veterans' Affairs Programs) "]
[null,"923140:  Administration of Veterans' Affairs "]
[null,"924110:  Administration of Air and Water Resource and Solid Waste Management Programs "]
[null,"924120:  Administration of Conservation Programs "]
[null,"925110:  Administration of Housing Programs "]
[null,"925120:  Administration of Urban Planning and Community and Rural Development "]
[null,"926110:  Administration of General Economic Programs "]
[null,"926120:  Regulation and Administration of Transportation Programs "]
[null,"926130:  Regulation and Administration of Communications, Electric, Gas, and Other Utilities "]
[null,"926140:  Regulation of Agricultural Marketing and Commodities "]
[null,"926150:  Regulation, Licensing, and Inspection of Miscellaneous Commercial Sectors "]
[null,"927110:  Space Research and Technology "]
[null,"928110:  National Security "]
[null,"928120:  International Affairs "]

{"sheet":"Op Plan","index":27,"n_rows":34,"n_cols":11,"rows_kept":34,"hidden":true,"merged":[[0,3,0,7],[1,3,1,7],[7,0,10,10],[12,0,13,10],[18,0,19,10],[20,0,21,10],[33,0,35,10]]}
[{"$nulls":3},"OPERATION PLAN UPDATE",{"$nulls":6},{"$f":"'1-Cover'!$G$1","v":"OMB Approval No. 3245-0063"}]
[{"$nulls":3},{"$f":"\"FOR \"&Number_of_Months&\" MONTH PERIOD ENDED: \"&TEXT(Form468Date,\"MM/DD/YYYY\")","v":"FOR  MONTH PERIOD ENDED: 01/00/1900"},{"$nulls":6},{"$f":"'1-Cover'!$G$2","v":"Expiration Date MM/DD/YYYY"}]
[]
[{"$f":"\"Name of License:  \"&sbicname","v":"Name of License:  "},{"$nulls":9},{"$f":"\"License no.:  \"&TEXT(licenseno,\"00\\/00\\-0000\")","v":"License no.:  00/00-0000"}]
[]
["INSTRUCTIONS"]
[]
["Any Licensee, which has SBA leverage outstanding or which expects to apply for leverage in the current fiscal year, must prepare an annual update of its plan of operations. The update must be submitted to SBA as an addenum to the Licensee's Annual Financial Report on Form 468. SBA will consider the information provided as part of its evaluation of the financial soundness of the Licensee, in accordance with the provisions of Section 406 of the Small Business Equity Enhancement Act."]
[]
[]
[]
[]
["The plan update must include analysis and discussion of key events of the past year, as well as expectations for the current year. SBA expects that most Licensees will be able to provide the required information in a narrative of no more than 3 pages."]
[]
[]
["Content of the Report"]
[]
["1. For the fiscal year ended, the Licensee should discuss the following:"]
["a. Major positive and negative events which affected overall performance during the year, including exits / distributions / write- offs of investments; highlight any significant differences between last year's plan and actual performance."]
[]
["b. Any significant changes in the operations of the Licensee, such as changes in organizational structure, scope of operations, level or phase of investment activity, or types of investments being made."]
[]
["c. Any management changes."]
["d. Any lawsuits or other events giving rise to contingent liabilities."]
[]
["2. For the current fiscal year, the Licensee should discuss the following:"]
["a. Levels of new and follow-on investment anticipated"]
["b. Anticipated exits/distributions/write-offs from investments"]
["c. Any material changes expected in investment strategy or portfolio composition"]
["d. Any material changes expected in overhead expenditures"]
["e. Any changes expected in management"]
["f. Any other anticipated events which may have a significant effect on Licensee's performance."]
[]
["3. If an SBIC is in Liquidation, wind-up or has been otherwise requested to provide a wind-up plan, the SBIC shall provide a wind-up plan as part of the Operating Plan Update. Per 13 CFR 107.590, SBICs in Operations must submit wind-up plans for SBA approval. After SBICs receive approval, they should provide updated windup plans on an annual basis as part of this Operating Plan Update (See attached supplement)."]