{"text_format":"3","workbook":"xlsx","n_sheets":15,"sheets":["Instructions","Section I","Section II","Section III","Section IV THRU V","Section VI","Section VII","Section VIII thru X","Funds Held Section","Summary Page","Section II Overflow Page","Section IV Overflow Page","Section VII Overflow Page","Section VIII Overflow Page","Funds Held Overflow Page"],"not_rendered":{"macros":1,"defined_names":27},"read":"whole","date_system":"1900"}

{"sheet":"Instructions","index":0,"n_rows":48,"n_cols":3,"rows_kept":48}
[null,"U.S. Treasury Schedule F Instructions"]
[null,"For the Year-Ended December 31, 2009","For the year ended December 31, 2021"]
[null,"Spreadsheet Version 1.0"]
[]
["Please Enter Your Company Name in the Box","→→→"]
[]
["Following is a series of worksheets that have been designed to provide those companies filing U.S. Treasury "]
["Schedule F with a spreadsheet based program for completing the Schedule.  Each individual section of the"]
["U.S. Treasury Schedule F has been given a separate worksheet that can be accessed by clicking on the "]
["appropriate TAB Button located at the bottom of this worksheet.  Please note that all TABS may not be "]
["immediately viewable within your computer screen but can be accessed using the scrolling arrows located in "]
["the bottom left corner of your worksheet.  The TABS have been color coded for easy identification.  "]
[]
["Within this worksheet you will find the following U.S. Treasury Schedule F Sections: "]
["(Please note there are 36 total printable pages (excluding over-flow pages)- all pages will print in black and white (without color, shading,"]
["or any other formats that have been included in this spreadsheet for presentation purposes only.)"]
[]
["1.  Section I - Treasury Authorized Companies (11 printable pages)"]
["2.  Section II - Other Treasury Authorized Companies (1 printable page)"]
["3.  Section III - Treasury Authorized Pools and Associations & Lloyds Syndicates(11 printable pages)  "]
["4.  Section IV THRU V - Other Treasury Authorized Pools and Associations (1 printable page)"]
["5.  Section VI - Treasury Unauthorized Pools and Associations (3 printable pages)  "]
["6.  Section VII - Other Treasury Unauthorized Pools and Associations (1 printable page)  "]
["7.  Section VIII - Treasury Unauthorized Companies (3 printable pages)  "]
["8.  Funds Held Section - Funds Held Securing Reinsurance Recoverables from Unauthorized Companies (2 printable pages)  "]
["9.  Summary Page - Summary Total of Treasury Unauthorized Reinsurance (1 printable page)  "]
[]
["Overflow Pages have been included as separate TAB items and may be used if additional pages of the"]
["above-listed sections are required in order to complete your company's Treasury Schedule F."]
["If you enter data in the overflow pages it will be automatically carried to the appropriate Treasury Schedule F summary page sections."]
["If you require more overflow pages than those provided, you will need to reproduce the related worksheet and manually enter any totals from  "]
["your reproduced worksheet(s) on the appropriate summary page.  Rows and columns have been established on the summary pages to allow for these types of entries."]
[]
["Overflow Pages included with this spreadsheet program are:"]
[]
["10.  Section II Overflow Page - Other Treasury Authorized Companies - (Add-on to Section II above)"]
["11.  Section IV Overflow Page - Other Treasury Authorized Pools and Associations - (Add-on to Section IV above)"]
["12.  Section VII Overflow Page - Other Treasury Unauthorized Pools and Associations - (Add-on to Section VII above)"]
["13.  Section VIII Overflow Page - Treasury Unauthorized Companies - (Add-on to Section VIII above)"]
["14.  Funds Held Overflow Page - Funds Held Securing Reins. Recoverables from Unauth.Companies - (Add-on to Funds Held section)"]
[]
["Printing - All pages in this worksheet are designed to print on legal size paper.  When printing your Schedule F for filing with the Treasury, you should print"]
["all pages in sections I through the Summary Page.  "]
["In printing the overflow pages you may wish to specify the page(s) to print, otherwise blank overflow pages from a respective worksheet will print."]
[]
["If you experience problems with this spreadsheet, please contact the Surety Bond Branch at Surety.Bonds@fiscal.treasury.gov for assistance."]
[]
["Updated: 2/9/2022"]

{"sheet":"Section I","index":1,"n_rows":342,"n_cols":16,"rows_kept":342}
[{"$nulls":7},"ANNUAL STATEMENT FOR THE YEAR 2021 OF  ",{"$f":"IF(Instructions!C5<>0,+Instructions!C5,\"\")","v":""},{"$nulls":6},"OMB No. 1530-0008"]
[{"$nulls":9},"Write or Stamp Name",{"$nulls":5}," OMB Expiration Date:  6-30-2023"]
["Schedule F - Part 1"]
["Ceded Reinsurance as of December 31, Current Year (000's Omitted)"]
[]
["Federal ID","NAIC Company ","Name of Reinsurer","Domiciliary","+","(1)                      Reinsurance Premiums","(2)                                                                                                                                                                        Recoverable on Paid Losses and                                                                              Paid Loss Adjustment Expense, Days Overdue",{"$nulls":3},"(3)                            Total           Overdue","(4)          Percentage Overdue     ","(5)                       (Known Case) Reinsurance Recoverable on Unpaid Losses","(6)                   Incurred But Not Reported Losses and","(7)                 Unearned","(8)                                      Total Recoverable      "]
["Number","Code",null,"Jurisdiction",null,"Ceded","(A)                    Current and              1 - 90","(B)                     91 - 120","(C)                  Over 120","(D)                           Total","(Col 2B + 2C)","(Col 3/Col 2D)","and Unpaid Loss Adjustment Expense","Loss Adjustment Expense","Premiums","(Cols 2D+5+6+7)"]
["SECTION I"]
["TREASURY AUTHORIZED COMPANIES:  Do not include reinsurance applicable to alien companies in this section.  All such reinsurance is unauthorized and should be listed under Section VIII."]
[]
["59-1362150",26379,"ACCREDITED SURETY AND CASUALTY COMPANY, INC.","Florida",{"$nulls":5},{"$f":"+G11+H11+I11","v":0},{"$f":"+H11+I11","v":0},{"$f":"IF(K11<>0,+(K11/J11),\"\")","v":""},{"$nulls":3},{"$f":"+J11+M11+N11+O11","v":0}]
["95-2371728",22667,"ACE American Insurance Company","Pennsylvania",{"$nulls":5},0,0,"",{"$nulls":3},0]
["06-0237820",20699,"ACE Property and Casualty Insurance Company","Pennsylvania",{"$nulls":5},0,0,"",{"$nulls":3},0]
["36-2704802",22950,"ACSTAR INSURANCE COMPANY","Illinois",{"$nulls":5},0,0,"",{"$nulls":3},0]
["39-0491540",14184,"ACUITY, A Mutual Insurance Company","Wisconsin",{"$nulls":5},0,0,"",{"$nulls":3},0]
["23-2035821",33898,"Aegis Security Insurance Company","Pennsylvania",{"$nulls":5},0,0,"",{"$nulls":3},0]
["05-0254496",10014,"Affiliated FM Insurance Company","Rhode Island",{"$nulls":5},0,0,"",{"$nulls":3},0]
["25-1118791",19402,"AIG Property Casualty Company","Illinois",{"$nulls":5},0,0,"",{"$nulls":3},0]
["34-0935740",20222,"ALL AMERICA INSURANCE COMPANY","Ohio",{"$nulls":5},0,0,"",{"$nulls":3},0]
["25-0315340",13285,"Allegheny Casualty Company","New Jersey",{"$nulls":5},0,0,"",{"$nulls":3},0]
["94-6078058",21911,"Allianz Reinsurance America, Inc.","California",{"$nulls":5},0,0,"",{"$nulls":3},0]
["42-1201931",42579,"ALLIED Property and Casualty Insurance Company","Iowa",{"$nulls":5},0,0,"",{"$nulls":3},0]
["95-4387273",19489,"Allied World Assurance Company (U.S.) Inc.","Delaware",{"$nulls":5},0,0,"",{"$nulls":3},0]
["06-1182357",22730,"Allied World Insurance Company","New Hampshire",{"$nulls":5},0,0,"",{"$nulls":3},0]
["02-0493244",10690,"Allied World National Assurance Company","New Hampshire",{"$nulls":5},0,0,"",{"$nulls":3},0]
["56-0997452",16624,"Allied World Specialty Insurance Company","Delaware",{"$nulls":5},0,0,"",{"$nulls":3},0]
["51-0331163",24319,"Allied World Surplus Lines Insurance Company","Arkansas",{"$nulls":5},0,0,"",{"$nulls":3},0]
["42-6054959",19100,"AMCO Insurance Company","Iowa",{"$nulls":5},0,0,"",{"$nulls":3},0]
["36-2661954",10103,"American Agricultural Insurance Company","Indiana",{"$nulls":5},0,0,"",{"$nulls":3},0]
["52-2048110",19720,"AMERICAN ALTERNATIVE INSURANCE CORPORATION","Delaware",{"$nulls":5},0,0,"",{"$nulls":3},0]
["23-0342560",20427,"American Casualty Company of Reading, Pennsylvania","Pennsylvania",{"$nulls":5},0,0,"",{"$nulls":3},0]
["95-4290651",10216,"AMERICAN CONTRACTORS INDEMNITY COMPANY","California",{"$nulls":5},0,0,"",{"$nulls":3},0]
["59-0141790",24066,"American Fire and Casualty Company","New Hampshire",{"$nulls":5},0,0,"",{"$nulls":3},0]
["36-6071400",26247,"American Guarantee and Liability Insurance Company","New York",{"$nulls":5},0,0,"",{"$nulls":3},0]
["13-5124990",19380,"American Home Assurance Company","New York",{"$nulls":5},0,0,"",{"$nulls":3},0]
["38-1630841",19631,"AMERICAN ROAD INSURANCE COMPANY (THE)","Michigan",{"$nulls":5},0,0,"",{"$nulls":3},0]
["31-6016426",19992,"American Select Insurance Company","Ohio",{"$nulls":5},0,0,"",{"$nulls":3},0]
["58-6016195",10235,"American Southern Insurance Company","Kansas",{"$nulls":5},0,0,"",{"$nulls":3},0]
["95-3730189",31380,"American Surety Company","Indiana",{"$nulls":5},0,0,"",{"$nulls":3},0]
["38-1869912",19488,"Amerisure Insurance Company","Michigan",{"$nulls":5},0,0,"",{"$nulls":3},0]
["38-0829210",23396,"Amerisure Mutual Insurance Company","Michigan",{"$nulls":5},0,0,"",{"$nulls":3},0]
["38-3553788",11050,"Amerisure Partners Insurance Company","Michigan",{"$nulls":5},0,0,"",{"$nulls":3},0]
["98-4207369",10308,"Antilles Insurance Company","Puerto Rico",{"$nulls":5},0,0,"",{"$nulls":3},0]
["43-0990710",11150,"Arch Insurance Company","Missouri",{"$nulls":5},0,0,"",{"$nulls":3},0]
["06-1430254",10348,"Arch Reinsurance Company","Delaware",{"$nulls":5},0,0,"",{"$nulls":3},0]
["94-1390273",19801,"Argonaut Insurance Company","Illinois",{"$nulls":5},0,0,"",{"$nulls":3},0]
["75-2344200",43460,"ASPEN AMERICAN INSURANCE COMPANY","Texas",{"$nulls":5},0,0,"",{"$nulls":3},0]
["13-3362309",27154,"Atlantic Specialty Insurance Company","New York",{"$nulls":5},0,0,"",{"$nulls":3},0]
["38-0315280",18988,"Auto-Owners Insurance Company","Michigan",{"$nulls":5},0,0,"",{"$nulls":3},0]
["06-0848755",19062,"Automobile Insurance Company of Hartford, Connecticut (The)","Connecticut",{"$nulls":5},0,0,"",{"$nulls":3},0]
["52-0795746",10367,"AVEMCO INSURANCE COMPANY","Maryland",{"$nulls":5},0,0,"",{"$nulls":3},0]
["39-1338397",37273,"AXIS Insurance Company","Illinois",{"$nulls":5},0,0,"",{"$nulls":3},0]
["51-0434766",20370,"AXIS Reinsurance Company","New York",{"$nulls":5},0,0,"",{"$nulls":3},0]
["59-1673015",33162,"Bankers Insurance Company","Florida",{"$nulls":5},0,0,"",{"$nulls":3},0]
["59-1320184",18279,"Bankers Standard Insurance Company","Pennsylvania",{"$nulls":5},0,0,"",{"$nulls":3},0]
["04-2656602",37540,"Beazley Insurance Company, Inc.","Connecticut",{"$nulls":5},0,0,"",{"$nulls":3},0]
["47-0574325",32603,"Berkley Insurance Company","Delaware",{"$nulls":5},0,0,"",{"$nulls":3},0]
["43-1432586",29580,"Berkley Regional Insurance Company","Iowa",{"$nulls":5},0,0,"",{"$nulls":3},0]
["47-0529945",20044,"Berkshire Hathaway Homestate Insurance Company","Nebraska",{"$nulls":5},0,0,"",{"$nulls":3},0]
["63-0202590",22276,"Berkshire Hathaway Specialty Insurance Company","Nebraska",{"$nulls":5},0,0,"",{"$nulls":3},0]
["36-0810360",20095,"BITCO GENERAL INSURANCE CORPORATION","Illinois",{"$nulls":5},0,0,"",{"$nulls":3},0]
["36-6054328",20109,"BITCO NATIONAL INSURANCE COMPANY","Illinois",{"$nulls":5},0,0,"",{"$nulls":3},0]
["36-2761729",27081,"BOND SAFEGUARD INSURANCE COMPANY","South Dakota",{"$nulls":5},0,0,"",{"$nulls":3},0]
["26-0159619",12965,"Bondex Insurance Company","New Jersey",{"$nulls":5},0,0,"",{"$nulls":3},0]
["46-0310317",30279,"Boston Indemnity Company, Inc.","South Dakota",{"$nulls":5},0,0,"",{"$nulls":3},0]
["64-0911627",10993,"Brierfield Insurance Company","Mississippi",{"$nulls":5},0,0,"",{"$nulls":3},0]
["75-1509104",32875,"BRITISH AMERICAN INSURANCE COMPANY","Texas",{"$nulls":5},0,0,"",{"$nulls":3},0]
["39-0971527",10472,"Capitol Indemnity Corporation","Wisconsin",{"$nulls":5},0,0,"",{"$nulls":3},0]
["59-0733942",10510,"Carolina Casualty Insurance Company","Iowa",{"$nulls":5},0,0,"",{"$nulls":3},0]
["63-0701609",34568,"Centennial Casualty Company","Alabama",{"$nulls":5},0,0,"",{"$nulls":3},0]
["34-4202560",20230,"CENTRAL MUTUAL INSURANCE COMPANY","Ohio",{"$nulls":5},0,0,"",{"$nulls":3},0]
["31-0936702",36951,"CENTURY SURETY COMPANY","Ohio",{"$nulls":5},0,0,"",{"$nulls":3},0]
["13-3531373",10006,"CERITY INSURANCE COMPANY","New York",{"$nulls":5},0,0,"",{"$nulls":3},0]
["06-0291290",25615,"Charter Oak Fire Insurance Company (The)","Connecticut",{"$nulls":5},0,0,"",{"$nulls":3},0]
["38-3464294",10642,"Cherokee Insurance Company","Michigan",{"$nulls":5},{"$f":"+G75+H75+I75","v":0},{"$f":"+H75+I75","v":0},{"$f":"IF(K75<>0,+(K75/J75),\"\")","v":""},{"$nulls":3},{"$f":"+J75+M75+N75+O75","v":0}]
["22-3291862",12777,"CHUBB INDEMNITY INSURANCE COMPANY","New York",{"$nulls":5},0,0,"",{"$nulls":3},0]
["31-0826946",28665,"Cincinnati Casualty Company (The)","Ohio",{"$nulls":5},0,0,"",{"$nulls":3},0]
["31-1241230",23280,"CINCINNATI INDEMNITY COMPANY, THE","Ohio",{"$nulls":5},0,0,"",{"$nulls":3},0]
["31-0542366",10677,"Cincinnati Insurance Company (The)","Ohio",{"$nulls":5},0,0,"",{"$nulls":3},0]
["38-0421730",31534,"CITIZENS INSURANCE COMPANY OF AMERICA","Michigan",{"$nulls":5},0,0,"",{"$nulls":3},0]
["52-1096670",34347,"COLONIAL AMERICAN CASUALTY AND SURETY COMPANY","Illinois",{"$nulls":5},0,0,"",{"$nulls":3},0]
["23-0485115",10758,"COLONIAL SURETY COMPANY","Pennsylvania",{"$nulls":5},0,0,"",{"$nulls":3},0]
["47-0530077",27812,"Columbia Insurance Company","Nebraska",{"$nulls":5},0,0,"",{"$nulls":3},0]
["13-1938623",19410,"COMMERCE AND INDUSTRY INSURANCE COMPANY","New York",{"$nulls":5},0,0,"",{"$nulls":3},0]
["36-2114545",20443,"Continental Casualty Company","Illinois",{"$nulls":5},0,0,"",{"$nulls":3},0]
["87-0363183",39551,"CONTINENTAL HERITAGE INSURANCE COMPANY","Florida",{"$nulls":5},0,0,"",{"$nulls":3},0]
["13-5010440",35289,"Continental Insurance Company (The)","Pennsylvania",{"$nulls":5},0,0,"",{"$nulls":3},0]
["91-1082952",37206,"CONTRACTORS BONDING AND INSURANCE COMPANY","Illinois",{"$nulls":5},0,0,"",{"$nulls":3},0]
["66-0257478",18163,"Cooperativa de Seguros Multiples de Puerto Rico","Puerto Rico",{"$nulls":5},0,0,"",{"$nulls":3},0]
["38-1775863",10499,"CorePointe Insurance Company","Delaware",{"$nulls":5},0,0,"",{"$nulls":3},0]
["68-0066866",18961,"Crestbrook Insurance Company","Ohio",{"$nulls":5},0,0,"",{"$nulls":3},0]
["22-2868548",31348,"Crum & Forster Indemnity Company","Delaware",{"$nulls":5},0,0,"",{"$nulls":3},0]
["22-2464174",42471,"CRUM AND FORSTER INSURANCE COMPANY","New Jersey",{"$nulls":5},0,0,"",{"$nulls":3},0]
["39-0972608",10847,"CUMIS INSURANCE SOCIETY, INC.","Iowa",{"$nulls":5},0,0,"",{"$nulls":3},0]
["20-5548208",12758,"CUMIS Specialty Insurance Company, Inc.","Iowa",{"$nulls":5},0,0,"",{"$nulls":3},0]
["91-6027360",25747,"Dairyland American Insurance Company","Wisconsin",{"$nulls":5},0,0,"",{"$nulls":3},0]
["42-0429710",12718,"Developers Surety and Indemnity Company","California",{"$nulls":5},0,0,"",{"$nulls":3},0]
["23-1336198",13692,"DONEGAL MUTUAL INSURANCE COMPANY","Pennsylvania",{"$nulls":5},0,0,"",{"$nulls":3},0]
["39-0264050",21458,"Employers Insurance Company of Wausau","Wisconsin",{"$nulls":5},0,0,"",{"$nulls":3},0]
["42-0234980",21415,"Employers Mutual Casualty Company","Iowa",{"$nulls":5},0,0,"",{"$nulls":3},0]
["03-0350908",10641,"Endurance American Insurance Company","Delaware",{"$nulls":5},0,0,"",{"$nulls":3},0]
["35-2293075",11551,"Endurance Assurance Corporation","Delaware",{"$nulls":5},0,0,"",{"$nulls":3},0]
["25-1232960",26263,"Erie Insurance Company","Pennsylvania",{"$nulls":5},0,0,"",{"$nulls":3},0]
["25-6038677",26271,"Erie Insurance Exchange","Pennsylvania",{"$nulls":5},0,0,"",{"$nulls":3},0]
["52-0222226",20516,"Euler Hermes North America Insurance Company","Maryland",{"$nulls":5},0,0,"",{"$nulls":3},0]
["36-2950161",35378,"EVANSTON INSURANCE COMPANY","Illinois",{"$nulls":5},0,0,"",{"$nulls":3},0]
["22-2660372",10120,"Everest National Insurance Company","Delaware",{"$nulls":5},0,0,"",{"$nulls":3},0]
["22-2005057",26921,"Everest Reinsurance Company","Delaware",{"$nulls":5},0,0,"",{"$nulls":3},0]
["36-2467238",12750,"Evergreen National Indemnity Company","Ohio",{"$nulls":5},0,0,"",{"$nulls":3},0]
["13-2912259",35181,"Executive Risk Indemnity Inc.","Delaware",{"$nulls":5},0,0,"",{"$nulls":3},0]
["94-2784519",40029,"Explorer Insurance Company","California",{"$nulls":5},0,0,"",{"$nulls":3},0]
["05-0316605",21482,"Factory Mutual Insurance Company","Rhode Island",{"$nulls":5},0,0,"",{"$nulls":3},0]
["13-3333610",35157,"Fair American Insurance and Reinsurance Company","New York",{"$nulls":5},0,0,"",{"$nulls":3},0]
["48-0214040",19194,"Farmers Alliance Mutual Insurance Company","Kansas",{"$nulls":5},0,0,"",{"$nulls":3},0]
["95-2575893",21652,"Farmers Insurance Exchange","California",{"$nulls":5},0,0,"",{"$nulls":3},0]
["42-0245840",13897,"FARMERS MUTUAL HAIL INSURANCE COMPANY OF IOWA","Iowa",{"$nulls":5},0,0,"",{"$nulls":3},0]
["06-1067463",41483,"Farmington Casualty Company","Connecticut",{"$nulls":5},0,0,"",{"$nulls":3},0]
["59-1365094",10178,"FCCI Insurance Company","Florida",{"$nulls":5},0,0,"",{"$nulls":3},0]
["13-1963496",20281,"Federal Insurance Company","Indiana",{"$nulls":5},0,0,"",{"$nulls":3},0]
["41-0417460",13935,"FEDERATED MUTUAL INSURANCE COMPANY","Minnesota",{"$nulls":5},0,0,"",{"$nulls":3},0]
["13-3046577",39306,"Fidelity and Deposit Company of Maryland","Illinois",{"$nulls":5},0,0,"",{"$nulls":3},0]
["42-1091525",35386,"FIDELITY AND GUARANTY INSURANCE COMPANY","Iowa",{"$nulls":5},0,0,"",{"$nulls":3},0]
["52-0616768",25879,"Fidelity and Guaranty Insurance Underwriters, Inc.","Wisconsin",{"$nulls":5},0,0,"",{"$nulls":3},0]
["75-2304982",35009,"Financial Casualty & Surety, Inc.","Texas",{"$nulls":5},0,0,"",{"$nulls":3},0]
["68-0111081",31453,"Financial Pacific Insurance Company","California",{"$nulls":5},0,0,"",{"$nulls":3},0]
["06-1325038",39136,"Finial Reinsurance Company","Connecticut",{"$nulls":5},0,0,"",{"$nulls":3},0]
["94-1610280",21873,"Fireman's Fund Insurance Company","California",{"$nulls":5},0,0,"",{"$nulls":3},0]
["36-2694846",11177,"FIRST FINANCIAL INSURANCE COMPANY","Illinois",{"$nulls":5},0,0,"",{"$nulls":3},0]
["20-1384826",12150,"First Founders Assurance Company","New Jersey",{"$nulls":5},0,0,"",{"$nulls":3},0]
["99-0218317",41742,"First Insurance Company of Hawaii, Ltd.","Hawaii",{"$nulls":5},0,0,"",{"$nulls":3},0]
["66-0561082",10972,"First Net Insurance Company","Guam",{"$nulls":5},0,0,"",{"$nulls":3},0]
["38-0555290",13986,"Frankenmuth Mutual Insurance Company","Michigan",{"$nulls":5},0,0,"",{"$nulls":3},0]
["39-0301590",24414,"General Casualty Company Of Wisconsin","Wisconsin",{"$nulls":5},0,0,"",{"$nulls":3},0]
["13-2673100",22039,"General Reinsurance Corporation","Delaware",{"$nulls":5},0,0,"",{"$nulls":3},0]
["13-1958482",11967,"GENERAL STAR NATIONAL INSURANCE COMPANY","Delaware",{"$nulls":5},0,0,"",{"$nulls":3},0]
["33-0763205",10836,"GOLDEN EAGLE INSURANCE CORPORATION","New Hampshire",{"$nulls":5},0,0,"",{"$nulls":3},0]
["31-4192970",14060,"GRANGE INSURANCE COMPANY","Ohio",{"$nulls":5},0,0,"",{"$nulls":3},0]
["31-1769414",11136,"GRANGE INSURANCE COMPANY OF MICHIGAN","Ohio",{"$nulls":5},0,0,"",{"$nulls":3},0]
["73-1282413",26310,"GRANITE RE, INC.","Minnesota",{"$nulls":5},{"$f":"+G139+H139+I139","v":0},{"$f":"+H139+I139","v":0},{"$f":"IF(K139<>0,+(K139/J139),\"\")","v":""},{"$nulls":3},{"$f":"+J139+M139+N139+O139","v":0}]
["02-0140690",23809,"Granite State Insurance Company","Illinois",{"$nulls":5},0,0,"",{"$nulls":3},0]
["72-1326720",10671,"GRAY CASUALTY & SURETY COMPANY (THE)","Louisiana",{"$nulls":5},0,0,"",{"$nulls":3},0]
["72-0824217",36307,"GRAY INSURANCE COMPANY (THE)","Louisiana",{"$nulls":5},0,0,"",{"$nulls":3},0]
["95-1542353",26832,"Great American Alliance Insurance Company","Ohio",{"$nulls":5},0,0,"",{"$nulls":3},0]
["31-0501234",16691,"Great American Insurance Company","Ohio",{"$nulls":5},0,0,"",{"$nulls":3},0]
["13-5539046",22136,"GREAT AMERICAN INSURANCE COMPANY OF NEW YORK","New York",{"$nulls":5},0,0,"",{"$nulls":3},0]
["31-1209419",31135,"Great American Security Insurance Company","Ohio",{"$nulls":5},0,0,"",{"$nulls":3},0]
["76-0154296",18694,"Great Midwest Insurance Company","Texas",{"$nulls":5},0,0,"",{"$nulls":3},0]
["41-0729473",20303,"Great Northern Insurance Company","Indiana",{"$nulls":5},0,0,"",{"$nulls":3},0]
["38-2907623",36650,"Guarantee Company of North America USA (The)","Michigan",{"$nulls":5},0,0,"",{"$nulls":3},0]
["13-5129825",22292,"Hanover Insurance Company (The)","New Hampshire",{"$nulls":5},0,0,"",{"$nulls":3},0]
["13-6108721",26433,"HARCO NATIONAL INSURANCE COMPANY","Illinois",{"$nulls":5},0,0,"",{"$nulls":3},0]
["06-0383030",22357,"Hartford Accident and Indemnity Company","Connecticut",{"$nulls":5},0,0,"",{"$nulls":3},0]
["06-0294398",29424,"Hartford Casualty Insurance Company","Indiana",{"$nulls":5},0,0,"",{"$nulls":3},0]
["06-0383750",19682,"Hartford Fire Insurance Company","Connecticut",{"$nulls":5},0,0,"",{"$nulls":3},0]
["06-1008026",37478,"Hartford Insurance Company of the Midwest","Indiana",{"$nulls":5},0,0,"",{"$nulls":3},0]
["06-1222527",30104,"Hartford Underwriters Insurance Company","Connecticut",{"$nulls":5},0,0,"",{"$nulls":3},0]
["74-2195939",42374,"Houston Casualty Company","Texas",{"$nulls":5},0,0,"",{"$nulls":3},0]
["13-5150451",25054,"Hudson Insurance Company","Delaware",{"$nulls":5},0,0,"",{"$nulls":3},0]
["42-0333150",14257,"IMT Insurance Company","Iowa",{"$nulls":5},0,0,"",{"$nulls":3},0]
["06-1016108",43575,"Indemnity Insurance Company of North America","Pennsylvania",{"$nulls":5},0,0,"",{"$nulls":3},0]
["64-0838376",18468,"Indemnity National Insurance Company","Mississippi",{"$nulls":5},0,0,"",{"$nulls":3},0]
["35-0410420",14265,"Indiana Lumbermens Mutual Insurance Company","Indiana",{"$nulls":5},0,0,"",{"$nulls":3},0]
["47-6025666",23264,"Inland Insurance Company","Nebraska",{"$nulls":5},0,0,"",{"$nulls":3},0]
["23-0723970",22713,"Insurance Company Of North America","Pennsylvania",{"$nulls":5},0,0,"",{"$nulls":3},0]
["13-5540698",19429,"Insurance Company of the State of Pennsylvania (The)","Illinois",{"$nulls":5},0,0,"",{"$nulls":3},0]
["95-2769232",27847,"Insurance Company of the West","California",{"$nulls":5},0,0,"",{"$nulls":3},0]
["74-2262949",43273,"Insurors Indemnity Company","Texas",{"$nulls":5},0,0,"",{"$nulls":3},0]
["39-0367560",14303,"Integrity Insurance Company","Ohio",{"$nulls":5},0,0,"",{"$nulls":3},0]
["22-1010450",11592,"International Fidelity Insurance Company","New Jersey",{"$nulls":5},0,0,"",{"$nulls":3},0]
["41-0121640",23647,"IRONSHORE INDEMNITY INC.","Illinois",{"$nulls":5},0,0,"",{"$nulls":3},0]
["99-6004946",22845,"ISLAND INSURANCE COMPANY, LIMITED","Hawaii",{"$nulls":5},0,0,"",{"$nulls":3},0]
["25-1149494",19437,"Lexington Insurance Company","Delaware",{"$nulls":5},0,0,"",{"$nulls":3},0]
["52-1662720",37940,"LEXINGTON NATIONAL INSURANCE CORPORATION","Florida",{"$nulls":5},0,0,"",{"$nulls":3},0]
["76-0128873",13307,"Lexon Insurance Company","Texas",{"$nulls":5},0,0,"",{"$nulls":3},0]
["04-1924000",23035,"Liberty Mutual Fire Insurance Company","Wisconsin",{"$nulls":5},0,0,"",{"$nulls":3},0]
["04-1543470",23043,"Liberty Mutual Insurance Company","Massachusetts",{"$nulls":5},0,0,"",{"$nulls":3},0]
["04-3058504",33600,"LM Insurance Corporation","Illinois",{"$nulls":5},0,0,"",{"$nulls":3},0]
["23-2086596",36897,"Manufacturers Alliance Insurance Company","Pennsylvania",{"$nulls":5},0,0,"",{"$nulls":3},0]
["54-1398877",28932,"Markel American Insurance Company","Virginia",{"$nulls":5},0,0,"",{"$nulls":3},0]
["06-1481194",10829,"Markel Global Reinsurance Company","Delaware",{"$nulls":5},0,0,"",{"$nulls":3},0]
["36-3101262",38970,"MARKEL INSURANCE COMPANY","Illinois",{"$nulls":5},0,0,"",{"$nulls":3},0]
["04-2217600",22306,"Massachusetts Bay Insurance Company","New Hampshire",{"$nulls":5},0,0,"",{"$nulls":3},0]
["42-0410010",14494,"Merchants Bonding Company (Mutual)","Iowa",{"$nulls":5},0,0,"",{"$nulls":3},0]
["11-3658357",11595,"Merchants National Bonding, Inc.","Iowa",{"$nulls":5},0,0,"",{"$nulls":3},0]
["75-1629914",36838,"Mesa Underwriters Specialty Insurance Company","New Jersey",{"$nulls":5},0,0,"",{"$nulls":3},0]
["38-0828980",14508,"Michigan Millers Mutual Insurance Company","Michigan",{"$nulls":5},0,0,"",{"$nulls":3},0]
["95-6016640",21687,"Mid-Century Insurance Company","California",{"$nulls":5},0,0,"",{"$nulls":3},0]
["73-0556513",23418,"MID-CONTINENT CASUALTY COMPANY","Ohio",{"$nulls":5},0,0,"",{"$nulls":3},0]
["22-3818012",20362,"Mitsui Sumitomo Insurance Company of America","New York",{"$nulls":5},0,0,"",{"$nulls":3},0]
["13-3467153",22551,"Mitsui Sumitomo Insurance USA Inc.","New York",{"$nulls":5},0,0,"",{"$nulls":3},0]
["31-4259550",14621,"Motorists Mutual Insurance Company","Ohio",{"$nulls":5},0,0,"",{"$nulls":3},0]
["38-0855585",22012,"Motors Insurance Corporation","Michigan",{"$nulls":5},0,0,"",{"$nulls":3},0]
["13-4924125",10227,"Munich Reinsurance America, Inc.","Delaware",{"$nulls":5},0,0,"",{"$nulls":3},0]
["47-0247300",23663,"National American Insurance Company","Oklahoma",{"$nulls":5},0,0,"",{"$nulls":3},0]
["38-0865250",11991,"National Casualty Company","Ohio",{"$nulls":5},0,0,"",{"$nulls":3},0]
["84-0982643",16217,"NATIONAL FARMERS UNION PROPERTY AND CASUALTY COMPANY","North Carolina",{"$nulls":5},0,0,"",{"$nulls":3},0]
["47-6021331",20079,"National Fire & Marine Insurance Company","Nebraska",{"$nulls":5},0,0,"",{"$nulls":3},0]
["06-0464510",20478,"National Fire Insurance Company of Hartford","Illinois",{"$nulls":5},0,0,"",{"$nulls":3},0]
["47-0355979",20087,"National Indemnity Company","Nebraska",{"$nulls":5},0,0,"",{"$nulls":3},0]
["36-2403971",20052,"National Liability & Fire Insurance Company","Connecticut",{"$nulls":5},0,0,"",{"$nulls":3},0]
["62-0729866",20141,"NATIONAL TRUST INSURANCE COMPANY","Indiana",{"$nulls":5},0,0,"",{"$nulls":3},0]
["25-0687550",19445,"National Union Fire Insurance Company of Pittsburgh, PA","Pennsylvania",{"$nulls":5},0,0,"",{"$nulls":3},0]
["42-1015537",28223,"Nationwide Agribusiness Insurance Company","Iowa",{"$nulls":5},{"$f":"+G203+H203+I203","v":0},{"$f":"+H203+I203","v":0},{"$f":"IF(K203<>0,+(K203/J203),\"\")","v":""},{"$nulls":3},{"$f":"+J203+M203+N203+O203","v":0}]
["31-1399201",10070,"Nationwide Indemnity Company","Ohio",{"$nulls":5},0,0,"",{"$nulls":3},0]
["31-4177110",23779,"Nationwide Mutual Fire Insurance Company","Ohio",{"$nulls":5},0,0,"",{"$nulls":3},0]
["31-4177100",23787,"Nationwide Mutual Insurance Company","Ohio",{"$nulls":5},0,0,"",{"$nulls":3},0]
["42-1265237",25240,"NAU Country Insurance Company","Minnesota",{"$nulls":5},0,0,"",{"$nulls":3},0]
["13-3138390",42307,"NAVIGATORS INSURANCE COMPANY","New York",{"$nulls":5},0,0,"",{"$nulls":3},0]
["06-1053492",41629,"New England Reinsurance Corporation","Connecticut",{"$nulls":5},0,0,"",{"$nulls":3},0]
["02-0172170",23841,"New Hampshire Insurance Company","Illinois",{"$nulls":5},0,0,"",{"$nulls":3},0]
["22-2187459",35432,"New Jersey Re-Insurance Company","New Jersey",{"$nulls":5},0,0,"",{"$nulls":3},0]
["13-2703894",16608,"NEW YORK MARINE AND GENERAL INSURANCE COMPANY","New York",{"$nulls":5},0,0,"",{"$nulls":3},0]
["02-0170490",14788,"NGM Insurance Company","Florida",{"$nulls":5},0,0,"",{"$nulls":3},0]
["02-0311919",29874,"NORTH AMERICAN SPECIALTY INSURANCE COMPANY","New Hampshire",{"$nulls":5},0,0,"",{"$nulls":3},0]
["22-1964135",21105,"North River Insurance Company (The)","New Jersey",{"$nulls":5},0,0,"",{"$nulls":3},0]
["16-1140177",42552,"NOVA Casualty Company","New York",{"$nulls":5},0,0,"",{"$nulls":3},0]
["45-2871218",14190,"OBI National Insurance Company","Pennsylvania",{"$nulls":5},0,0,"",{"$nulls":3},0]
["47-0698507",23680,"Odyssey Reinsurance Company","Connecticut",{"$nulls":5},0,0,"",{"$nulls":3},0]
["31-0396250",24074,"Ohio Casualty Insurance Company (The)","New Hampshire",{"$nulls":5},0,0,"",{"$nulls":3},0]
["34-0438190",24104,"Ohio Farmers Insurance Company","Ohio",{"$nulls":5},0,0,"",{"$nulls":3},0]
["31-0620146",26565,"Ohio Indemnity Company","Ohio",{"$nulls":5},0,0,"",{"$nulls":3},0]
["73-0773259",23426,"Oklahoma Surety Company","Ohio",{"$nulls":5},0,0,"",{"$nulls":3},0]
["59-2070420",40231,"OLD DOMINION INSURANCE COMPANY","Florida",{"$nulls":5},0,0,"",{"$nulls":3},0]
["36-6067575",24139,"Old Republic General Insurance Corporation","Illinois",{"$nulls":5},0,0,"",{"$nulls":3},0]
["25-0410420",24147,"Old Republic Insurance Company","Pennsylvania",{"$nulls":5},0,0,"",{"$nulls":3},0]
["39-1395491",40444,"Old Republic Surety Company","Wisconsin",{"$nulls":5},0,0,"",{"$nulls":3},0]
["95-1078160",20346,"Pacific Indemnity Company","Wisconsin",{"$nulls":5},0,0,"",{"$nulls":3},0]
["96-0001575",18380,"PACIFIC INDEMNITY INSURANCE COMPANY","Guam",{"$nulls":5},0,0,"",{"$nulls":3},0]
["06-1401918",10046,"Pacific Insurance Company, Limited","Connecticut",{"$nulls":5},0,0,"",{"$nulls":3},0]
["13-3031176",38636,"PARTNER REINSURANCE COMPANY OF THE U.S.","New York",{"$nulls":5},0,0,"",{"$nulls":3},0]
["04-1590940",11835,"PartnerRe America Insurance Company","Delaware",{"$nulls":5},0,0,"",{"$nulls":3},0]
["02-0177030",24198,"Peerless Insurance Company","New Hampshire",{"$nulls":5},0,0,"",{"$nulls":3},0]
["37-6028411",24228,"Pekin Insurance Company","Illinois",{"$nulls":5},0,0,"",{"$nulls":3},0]
["23-2217934",41424,"Pennsylvania Manufacturers Indemnity Company","Pennsylvania",{"$nulls":5},0,0,"",{"$nulls":3},0]
["23-1642962",12262,"Pennsylvania Manufacturers' Association Insurance Company","Pennsylvania",{"$nulls":5},0,0,"",{"$nulls":3},0]
["23-0961349",14990,"Pennsylvania National Mutual Casualty Insurance Company","Pennsylvania",{"$nulls":5},0,0,"",{"$nulls":3},0]
["23-1738402",18058,"PHILADELPHIA INDEMNITY INSURANCE COMPANY","Pennsylvania",{"$nulls":5},0,0,"",{"$nulls":3},0]
["06-0303275",25623,"Phoenix Insurance Company (The)","Connecticut",{"$nulls":5},0,0,"",{"$nulls":3},0]
["56-0997453",18619,"PLATTE RIVER INSURANCE COMPANY","Nebraska",{"$nulls":5},0,0,"",{"$nulls":3},0]
["58-1140651",30945,"Plaza Insurance Company","Iowa",{"$nulls":5},0,0,"",{"$nulls":3},0]
["36-3030511",37257,"Praetorian Insurance Company","Pennsylvania",{"$nulls":5},0,0,"",{"$nulls":3},0]
["94-6078027",21903,"ProCentury Insurance Company","Michigan",{"$nulls":5},0,0,"",{"$nulls":3},0]
["34-6513736",24260,"Progressive Casualty Insurance Company","Ohio",{"$nulls":5},0,0,"",{"$nulls":3},0]
["34-1318335",38628,"PROGRESSIVE NORTHERN INSURANCE COMPANY","Wisconsin",{"$nulls":5},0,0,"",{"$nulls":3},0]
["91-1187829",42919,"Progressive Northwestern Insurance Company","Ohio",{"$nulls":5},0,0,"",{"$nulls":3},0]
["35-6021485",12416,"Protective Insurance Company","Indiana",{"$nulls":5},0,0,"",{"$nulls":3},0]
["43-1139865",35769,"Protective Property & Casualty Insurance Company","Missouri",{"$nulls":5},0,0,"",{"$nulls":3},0]
["22-2311816",39217,"QBE Insurance Corporation","Pennsylvania",{"$nulls":5},0,0,"",{"$nulls":3},0]
["23-1641984",10219,"QBE Reinsurance Corporation","Pennsylvania",{"$nulls":5},0,0,"",{"$nulls":3},0]
["39-6062860",24449,"Regent Insurance Company","Wisconsin",{"$nulls":5},0,0,"",{"$nulls":3},0]
["52-1952955",10357,"RENAISSANCE REINSURANCE U.S. INC.","Maryland",{"$nulls":5},0,0,"",{"$nulls":3},0]
["31-4290270",12475,"Republic - Franklin Insurance Company","Ohio",{"$nulls":5},0,0,"",{"$nulls":3},0]
["37-0915434",13056,"RLI Insurance Company","Illinois",{"$nulls":5},0,0,"",{"$nulls":3},0]
["59-2136562",42706,"Roche Surety and Casualty Company, Inc.","Florida",{"$nulls":5},0,0,"",{"$nulls":3},0]
["25-1620138",35505,"Rockwood Casualty Insurance Company","Pennsylvania",{"$nulls":5},0,0,"",{"$nulls":3},0]
["91-0742148",24740,"SAFECO Insurance Company of America","New Hampshire",{"$nulls":5},0,0,"",{"$nulls":3},0]
["59-1786118",36560,"SafePort Insurance Company","Florida",{"$nulls":5},0,0,"",{"$nulls":3},0]
["43-0727872",15105,"Safety National Casualty Corporation","Missouri",{"$nulls":5},0,0,"",{"$nulls":3},0]
["35-1524574",40460,"Sagamore Insurance Company","Indiana",{"$nulls":5},0,0,"",{"$nulls":3},0]
["75-1444207",30058,"SCOR REINSURANCE COMPANY","New York",{"$nulls":5},0,0,"",{"$nulls":3},0]
["39-0355180",22543,"SECURA INSURANCE, A Mutual Company","Wisconsin",{"$nulls":5},0,0,"",{"$nulls":3},0]
["20-2278041",11074,"Selective Auto Insurance Company of New Jersey","New Jersey",{"$nulls":5},0,0,"",{"$nulls":3},0]
["45-5561231",14376,"Selective Casualty Insurance Company","New Jersey",{"$nulls":5},0,0,"",{"$nulls":3},0]
["45-5565296",14377,"Selective Fire and Casualty Insurance Company","New Jersey",{"$nulls":5},0,0,"",{"$nulls":3},0]
["22-1272390",12572,"Selective Insurance Company of America","New Jersey",{"$nulls":5},0,0,"",{"$nulls":3},0]
["01-0471708",11867,"Selective Insurance Company of New England","New Jersey",{"$nulls":5},0,0,"",{"$nulls":3},0]
["16-1209233",13730,"Selective Insurance Company of New York","New York",{"$nulls":5},{"$f":"+G267+H267+I267","v":0},{"$f":"+H267+I267","v":0},{"$f":"IF(K267<>0,+(K267/J267),\"\")","v":""},{"$nulls":3},{"$f":"+J267+M267+N267+O267","v":0}]
["56-0564874",19259,"Selective Insurance Company of South Carolina","Indiana",{"$nulls":5},0,0,"",{"$nulls":3},0]
["56-1285899",39926,"Selective Insurance Company of the Southeast","Indiana",{"$nulls":5},0,0,"",{"$nulls":3},0]
["22-2001995",26301,"Selective Way Insurance Company","New Jersey",{"$nulls":5},0,0,"",{"$nulls":3},0]
["13-2941133",10936,"Seneca Insurance Company, Inc.","New York",{"$nulls":5},0,0,"",{"$nulls":3},0]
["06-1552103",11000,"SENTINEL INSURANCE COMPANY, LTD.","Connecticut",{"$nulls":5},0,0,"",{"$nulls":3},0]
["39-0333950",24988,"Sentry Insurance Company","Wisconsin",{"$nulls":5},0,0,"",{"$nulls":3},0]
["36-2674180",21180,"Sentry Select Insurance Company","Wisconsin",{"$nulls":5},0,0,"",{"$nulls":3},0]
["22-2842279",28240,"SERVICE INSURANCE COMPANY INC. (THE)","New Jersey",{"$nulls":5},0,0,"",{"$nulls":3},0]
["13-2997499",38776,"SIRIUS AMERICA INSURANCE COMPANY","New York",{"$nulls":5},0,0,"",{"$nulls":3},0]
["20-3248706",12294,"SOUTHWEST MARINE AND GENERAL INSURANCE COMPANY","Arizona",{"$nulls":5},0,0,"",{"$nulls":3},0]
["41-0406690",24767,"St. Paul Fire and Marine Insurance Company","Connecticut",{"$nulls":5},0,0,"",{"$nulls":3},0]
["41-0963301",24775,"ST. PAUL GUARDIAN INSURANCE COMPANY","Connecticut",{"$nulls":5},0,0,"",{"$nulls":3},0]
["41-0881659",24791,"St. Paul Mercury Insurance Company","Connecticut",{"$nulls":5},0,0,"",{"$nulls":3},0]
["36-2542404",19224,"ST. PAUL PROTECTIVE INSURANCE COMPANY","Connecticut",{"$nulls":5},0,0,"",{"$nulls":3},0]
["06-6033509",19070,"Standard Fire Insurance Company (The)","Connecticut",{"$nulls":5},0,0,"",{"$nulls":3},0]
["38-2626205",18023,"Star Insurance Company","Michigan",{"$nulls":5},0,0,"",{"$nulls":3},0]
["22-3590451",40045,"StarNet Insurance Company","Iowa",{"$nulls":5},0,0,"",{"$nulls":3},0]
["75-1670124",38318,"Starr Indemnity & Liability Company","Texas",{"$nulls":5},0,0,"",{"$nulls":3},0]
["81-4566522",16109,"Starr Specialty Insurance Company","Texas",{"$nulls":5},0,0,"",{"$nulls":3},0]
["57-6010814",25127,"State Auto Property and Casualty Insurance Company","Iowa",{"$nulls":5},0,0,"",{"$nulls":3},0]
["31-4316080",25135,"State Automobile Mutual Insurance Company","Ohio",{"$nulls":5},0,0,"",{"$nulls":3},0]
["37-0533080",25143,"State Farm Fire and Casualty Company","Illinois",{"$nulls":5},0,0,"",{"$nulls":3},0]
["68-0266416",25180,"Stillwater Insurance Company","California",{"$nulls":5},0,0,"",{"$nulls":3},0]
["16-0986300",16578,"Stillwater Property and Casualty Insurance Company","New York",{"$nulls":5},0,0,"",{"$nulls":3},0]
["76-0568746",10916,"SureTec Insurance Company","Texas",{"$nulls":5},0,0,"",{"$nulls":3},0]
["46-0417363",24047,"SURETY BONDING COMPANY OF AMERICA","South Dakota",{"$nulls":5},0,0,"",{"$nulls":3},0]
["13-1675535",25364,"Swiss Reinsurance America Corporation","New York",{"$nulls":5},0,0,"",{"$nulls":3},0]
["02-0449082",42376,"Technology Insurance Company, Inc.","Delaware",{"$nulls":5},0,0,"",{"$nulls":3},0]
["20-0940754",32301,"TNUS Insurance Company","New York",{"$nulls":5},0,0,"",{"$nulls":3},0]
["13-2918573",42439,"TOA REINSURANCE COMPANY OF AMERICA (THE)","Delaware",{"$nulls":5},0,0,"",{"$nulls":3},0]
["13-4032666",10945,"Tokio Marine America Insurance Company","New York",{"$nulls":5},0,0,"",{"$nulls":3},0]
["13-5616275",19453,"TRANSATLANTIC REINSURANCE COMPANY","New York",{"$nulls":5},0,0,"",{"$nulls":3},0]
["06-6033504",19038,"Travelers Casualty and Surety Company","Connecticut",{"$nulls":5},0,0,"",{"$nulls":3},0]
["06-0907370",31194,"Travelers Casualty and Surety Company of America","Connecticut",{"$nulls":5},0,0,"",{"$nulls":3},0]
["41-1435765",41769,"Travelers Casualty Company (The)","Connecticut",{"$nulls":5},0,0,"",{"$nulls":3},0]
["06-1286266",36170,"Travelers Casualty Company of Connecticut","Connecticut",{"$nulls":5},0,0,"",{"$nulls":3},0]
["06-0876835",19046,"Travelers Casualty Insurance Company of America","Connecticut",{"$nulls":5},0,0,"",{"$nulls":3},0]
["06-1286268",36137,"Travelers Commercial Insurance Company","Connecticut",{"$nulls":5},0,0,"",{"$nulls":3},0]
["41-1435766",41750,"Travelers Constitution State Insurance Company","Connecticut",{"$nulls":5},0,0,"",{"$nulls":3},0]
["06-0566050",25658,"Travelers Indemnity Company (The)","Connecticut",{"$nulls":5},0,0,"",{"$nulls":3},0]
["58-6020487",25666,"TRAVELERS INDEMNITY COMPANY OF AMERICA (THE)","Connecticut",{"$nulls":5},0,0,"",{"$nulls":3},0]
["06-0336212",25682,"Travelers Indemnity Company of Connecticut (The)","Connecticut",{"$nulls":5},0,0,"",{"$nulls":3},0]
["36-3703200",38130,"Travelers Personal Insurance Company","Connecticut",{"$nulls":5},0,0,"",{"$nulls":3},0]
["36-2719165",25674,"Travelers Property Casualty Company of America","Connecticut",{"$nulls":5},0,0,"",{"$nulls":3},0]
["59-2174734",41211,"TRITON INSURANCE COMPANY","Texas",{"$nulls":5},0,0,"",{"$nulls":3},0]
["06-1184984",27120,"Trumbull Insurance Company","Connecticut",{"$nulls":5},0,0,"",{"$nulls":3},0]
["06-0732738",29459,"Twin City Fire Insurance Company","Indiana",{"$nulls":5},0,0,"",{"$nulls":3},0]
["52-1504975",29599,"U.S. Specialty Insurance Company","Texas",{"$nulls":5},0,0,"",{"$nulls":3},0]
["47-0547953",25844,"Union Insurance Company","Iowa",{"$nulls":5},0,0,"",{"$nulls":3},0]
["58-1847495",36226,"UNITED CASUALTY AND SURETY INSURANCE COMPANY","Nebraska",{"$nulls":5},0,0,"",{"$nulls":3},0]
["42-0644327",13021,"United Fire & Casualty Company","Iowa",{"$nulls":5},0,0,"",{"$nulls":3},0]
["74-6045664",19496,"UNITED FIRE & INDEMNITY COMPANY","Texas",{"$nulls":5},0,0,"",{"$nulls":3},0]
["52-0515280",25887,"United States Fidelity and Guaranty Company","Connecticut",{"$nulls":5},0,0,"",{"$nulls":3},0]
["13-5459190",21113,"United States Fire Insurance Company","Delaware",{"$nulls":5},0,0,"",{"$nulls":3},0]
["52-1976385",10656,"United States Surety Company","Maryland",{"$nulls":5},0,0,"",{"$nulls":3},0]
["66-0457223",44423,"UNITED SURETY AND INDEMNITY COMPANY","Puerto Rico",{"$nulls":5},0,0,"",{"$nulls":3},0]
["35-1372324",32867,"Universal Fire & Casualty Insurance Company","Indiana",{"$nulls":5},0,0,"",{"$nulls":3},0]
["47-0363416",25933,"Universal Surety Company","Nebraska",{"$nulls":5},0,0,"",{"$nulls":3},0]
["43-1249228",41181,"UNIVERSAL UNDERWRITERS INSURANCE COMPANY","Illinois",{"$nulls":5},0,0,"",{"$nulls":3},0]
["15-0476880",25976,"Utica Mutual Insurance Company","New York",{"$nulls":5},0,0,"",{"$nulls":3},0]
["76-0430879",10024,"VerTerra Insurance Company","Texas",{"$nulls":5},0,0,"",{"$nulls":3},0]
["13-1963495",20397,"Vigilant Insurance Company","New York",{"$nulls":5},0,0,"",{"$nulls":3},0]
["36-2860812",32778,"Washington International Insurance Company","New Hampshire",{"$nulls":5},0,0,"",{"$nulls":3},0]
["31-0624491",44393,"West American Insurance Company","Indiana",{"$nulls":5},{"$f":"+G331+H331+I331","v":0},{"$f":"+H331+I331","v":0},{"$f":"IF(K331<>0,+(K331/J331),\"\")","v":""},{"$nulls":3},{"$f":"+J331+M331+N331+O331","v":0}]
["39-0698170",15350,"WEST BEND MUTUAL INSURANCE COMPANY","Wisconsin",{"$nulls":5},0,0,"",{"$nulls":3},0]
["92-0040526",10030,"Westchester Fire Insurance Company","Pennsylvania",{"$nulls":5},0,0,"",{"$nulls":3},0]
["41-0430825",15377,"Western National Mutual Insurance Company","Minnesota",{"$nulls":5},0,0,"",{"$nulls":3},0]
["46-0204900",13188,"Western Surety Company","South Dakota",{"$nulls":5},0,0,"",{"$nulls":3},0]
["34-6516838",24112,"Westfield Insurance Company","Ohio",{"$nulls":5},0,0,"",{"$nulls":3},0]
["34-1022544",24120,"Westfield National Insurance Company","Ohio",{"$nulls":5},0,0,"",{"$nulls":3},0]
["48-0921045",39845,"Westport Insurance Corporation","Missouri",{"$nulls":5},0,0,"",{"$nulls":3},0]
["13-1290712",20583,"XL Reinsurance America Inc.","New York",{"$nulls":5},0,0,"",{"$nulls":3},0]
["85-0277191",37885,"XL Specialty Insurance Company","Delaware",{"$nulls":5},0,0,"",{"$nulls":3},0]
["36-4233459",16535,"Zurich American Insurance Company","New York",{"$nulls":5},0,0,"",{"$nulls":3},0]
["SECTION I TOTALS WILL BE ENTERED IN SECTION V",{"$nulls":4},{"$f":"SUM(F11:F341)","v":0},{"$f":"SUM(G11:G341)","v":0},{"$f":"SUM(H11:H341)","v":0},{"$f":"SUM(I11:I341)","v":0},0,0,"",{"$f":"SUM(M11:M341)","v":0},{"$f":"SUM(N11:N341)","v":0},{"$f":"SUM(O11:O341)","v":0},0]

{"sheet":"Section II","index":2,"n_rows":39,"n_cols":16,"rows_kept":39}
[{"$nulls":7},{"$f":"'Section I'!H1","v":"ANNUAL STATEMENT FOR THE YEAR 2021 OF  "},{"$f":"IF('Section I'!$I$1<>0,+'Section I'!$I$1,\"\")","v":""},{"$nulls":6},{"$f":"+'Section I'!P1","v":"OMB No. 1530-0008"}]
[{"$nulls":9},"Write or Stamp Name",{"$nulls":5},{"$f":"+'Section I'!P2","v":" OMB Expiration Date:  6-30-2023"}]
["Schedule F - Part 1"]
[{"$f":"+'Section I'!A4","v":"Ceded Reinsurance as of December 31, Current Year (000's Omitted)"}]
[]
[{"$f":"+'Section I'!A6","v":"Federal ID"},{"$f":"+'Section I'!B6","v":"NAIC Company "},{"$f":"+'Section I'!C6","v":"Name of Reinsurer"},{"$f":"+'Section I'!D6","v":"Domiciliary"},{"$f":"+'Section I'!E6","v":"+"},{"$f":"+'Section I'!F6","v":"(1)                      Reinsurance Premiums"},{"$f":"+'Section I'!G6","v":"(2)                                                                                                                                                                        Recoverable on Paid Losses and                                                                              Paid Loss Adjustment Expense, Days Overdue"},{"$nulls":3},{"$f":"+'Section I'!K6","v":"(3)                            Total           Overdue"},{"$f":"+'Section I'!L6","v":"(4)          Percentage Overdue     "},{"$f":"+'Section I'!M6","v":"(5)                       (Known Case) Reinsurance Recoverable on Unpaid Losses"},{"$f":"+'Section I'!N6","v":"(6)                   Incurred But Not Reported Losses and"},{"$f":"+'Section I'!O6","v":"(7)                 Unearned"},{"$f":"+'Section I'!P6","v":"(8)                                      Total Recoverable      "}]
[{"$f":"+'Section I'!A7","v":"Number"},{"$f":"+'Section I'!B7","v":"Code"},null,{"$f":"+'Section I'!D7","v":"Jurisdiction"},null,{"$f":"+'Section I'!F7","v":"Ceded"},{"$f":"+'Section I'!G7","v":"(A)                    Current and              1 - 90"},{"$f":"+'Section I'!H7","v":"(B)                     91 - 120"},{"$f":"+'Section I'!I7","v":"(C)                  Over 120"},{"$f":"+'Section I'!J7","v":"(D)                           Total"},{"$f":"+'Section I'!K7","v":"(Col 2B + 2C)"},{"$f":"+'Section I'!L7","v":"(Col 3/Col 2D)"},{"$f":"+'Section I'!M7","v":"and Unpaid Loss Adjustment Expense"},{"$f":"+'Section I'!N7","v":"Loss Adjustment Expense"},{"$f":"+'Section I'!O7","v":"Premiums"},{"$f":"+'Section I'!P7","v":"(Cols 2D+5+6+7)"}]
["Section II"]
["OTHER TREASURY AUTHORIZED COMPANIES:"]
[]
["  (A)  Reinsurance with parents, subsidiaries and affiliates (PSAs)"]
["      Credit may be allowed for reinsurance cessions to PSAs not shown under Section I.  List the names of such companies, complete the"]
["      corresponding columns, and submit a completely executed financial statement for each listed company.  If you require additional worksheets goto the overflow page for Section II (orange tab)"]
[{"$nulls":9},{"$f":"+G14+H14+I14","v":0},{"$f":"+H14+I14","v":0},{"$f":"IF(K14<>0,+K14/J14,\"\")","v":""},{"$nulls":3},{"$f":"+J14+M14+N14+O14","v":0}]
[{"$nulls":9},{"$f":"+G15+H15+I15","v":0},{"$f":"+H15+I15","v":0},{"$f":"IF(K15<>0,+K15/J15,\"\")","v":""},{"$nulls":3},{"$f":"+J15+M15+N15+O15","v":0}]
[{"$nulls":9},0,0,"",{"$nulls":3},0]
[{"$nulls":9},0,0,"",{"$nulls":3},0]
[{"$nulls":9},0,0,"",{"$nulls":3},0]
[{"$nulls":9},0,0,"",{"$nulls":3},0]
[{"$nulls":9},0,0,"",{"$nulls":3},0]
[{"$nulls":9},0,0,"",{"$nulls":3},0]
[{"$nulls":9},0,0,"",{"$nulls":3},0]
[{"$nulls":9},0,0,"",{"$nulls":3},0]
[{"$nulls":9},0,0,"",{"$nulls":3},0]
[{"$nulls":9},0,0,"",{"$nulls":3},0]
[{"$nulls":9},0,0,"",{"$nulls":3},0]
["  (B)  Reinsurance with other Treasury authorized companies."]
[{"$nulls":9},0,0,"",{"$nulls":3},0]
[{"$nulls":9},0,0,"",{"$nulls":3},0]
[{"$nulls":9},0,0,"",{"$nulls":3},0]
[{"$nulls":9},0,0,"",{"$nulls":3},0]
[{"$nulls":9},0,0,"",{"$nulls":3},0]
[{"$nulls":9},0,0,"",{"$nulls":3},0]
[{"$nulls":9},0,0,"",{"$nulls":3},0]
[{"$nulls":9},0,0,"",{"$nulls":3},0]
[{"$nulls":9},0,0,"",{"$nulls":3},0]
[{"$nulls":9},0,0,"",{"$nulls":3},0]
[{"$nulls":9},0,0,"",{"$nulls":3},0]
["SECTION II TOTALS WILL BE ENTERED IN SECTION V",{"$nulls":4},{"$f":"SUM(F14:F38)","v":0},{"$f":"SUM(G14:G38)","v":0},{"$f":"SUM(H14:H38)","v":0},{"$f":"SUM(I14:I38)","v":0},{"$f":"+G39+H39+I39","v":0},{"$f":"+H39+I39","v":0},{"$f":"IF(K39<>0,+(K39/J39),\"\")","v":""},{"$f":"SUM(M14:M38)","v":0},{"$f":"SUM(N14:N38)","v":0},{"$f":"SUM(O14:O38)","v":0},{"$f":"+J39+M39+N39+O39","v":0}]

{"sheet":"Section III","index":3,"n_rows":397,"n_cols":16,"rows_kept":397}
[{"$nulls":7},{"$f":"+'Section II'!H1","v":"ANNUAL STATEMENT FOR THE YEAR 2021 OF  "},{"$f":"IF('Section I'!$I$1<>0,+'Section I'!$I$1,\"\")","v":""},{"$nulls":6},{"$f":"+'Section I'!P1","v":"OMB No. 1530-0008"}]
[{"$nulls":9},"Write or Stamp Name",{"$nulls":5},{"$f":"+'Section II'!P2","v":" OMB Expiration Date:  6-30-2023"}]
["Schedule F - Part 1"]
[{"$f":"+'Section I'!A4","v":"Ceded Reinsurance as of December 31, Current Year (000's Omitted)"}]
[]
[null,"Authorized",{"$f":"+'Section I'!C6","v":"Name of Reinsurer"},null,{"$f":"+'Section I'!E6","v":"+"},{"$f":"+'Section I'!F6","v":"(1)                      Reinsurance Premiums"},{"$f":"+'Section I'!G6","v":"(2)                                                                                                                                                                        Recoverable on Paid Losses and                                                                              Paid Loss Adjustment Expense, Days Overdue"},{"$nulls":3},{"$f":"+'Section I'!K6","v":"(3)                            Total           Overdue"},{"$f":"+'Section I'!L6","v":"(4)          Percentage Overdue     "},{"$f":"+'Section I'!M6","v":"(5)                       (Known Case) Reinsurance Recoverable on Unpaid Losses"},{"$f":"+'Section I'!N6","v":"(6)                   Incurred But Not Reported Losses and"},{"$f":"+'Section I'!O6","v":"(7)                 Unearned"},{"$f":"+'Section I'!P6","v":"(8)                                      Total Recoverable      "}]
[null,"Percentage",{"$nulls":3},{"$f":"+'Section I'!F7","v":"Ceded"},{"$f":"+'Section I'!G7","v":"(A)                    Current and              1 - 90"},{"$f":"+'Section I'!H7","v":"(B)                     91 - 120"},{"$f":"+'Section I'!I7","v":"(C)                  Over 120"},{"$f":"+'Section I'!J7","v":"(D)                           Total"},{"$f":"+'Section I'!K7","v":"(Col 2B + 2C)"},{"$f":"+'Section I'!L7","v":"(Col 3/Col 2D)"},{"$f":"+'Section I'!M7","v":"and Unpaid Loss Adjustment Expense"},{"$f":"+'Section I'!N7","v":"Loss Adjustment Expense"},{"$f":"+'Section I'!O7","v":"Premiums"},{"$f":"+'Section I'!P7","v":"(Cols 2D+5+6+7)"}]
["SECTION III"]
["TREASURY AUTHORIZED POOLS AND ASSOCIATIONS:  Show percentages as indicated, of authorized reinsurance in this section.  If percentage is less than 100%, show remainder under Section VI."]
[]
[null,74,"Alabama Commercial Automobile Insurance Procedure (AIPSO)","Johnston, RI",{"$nulls":5},{"$f":"SUM(G11:I11)","v":0},{"$f":"+H11+I11","v":0},{"$f":"IF(K11<>0,+(K11/J11),\"\")","v":""},{"$nulls":3},{"$f":"+J11+M11+N11+O11","v":0}]
[null,73,"Alabama Workers' Compensation Reinsurance Pool for Coal Mine Risks (NCCI)","Boca Raton, FL",{"$nulls":5},0,0,"",{"$nulls":3},0]
[null,55,"Alaska Workers' Compensation Assigned Risk Pool (NCCI)","Boca Raton, FL",{"$nulls":5},0,0,"",{"$nulls":3},0]
[null,93,"American Nuclear Insurers - Domestic Liability Syndicate","Glastonbury, CT",{"$nulls":5},0,0,"",{"$nulls":3},0]
[null,97,"American Nuclear Insurers - Domestic Property Syndicate","Glastonbury, CT",{"$nulls":5},0,0,"",{"$nulls":3},0]
[null,100,"American Nuclear Insurers - Foreign Property and Liability Syndicate","Glastonbury, CT",{"$nulls":5},0,0,"",{"$nulls":3},0]
[null,68,"Arizona Commercial Automobile Insurance Procedure (AIPSO)","Johnston, RI",{"$nulls":5},0,0,"",{"$nulls":3},0]
[null,69,"Arkansas Commercial Automobile Insurance Procedure","Johnston, RI",{"$nulls":5},0,0,"",{"$nulls":3},0]
[null,87,"Arkansas Mutual Assigned Risk Reinsurance Pool (NCCI)","Boca Raton, FL",{"$nulls":5},0,0,"",{"$nulls":3},0]
[null,63,"Arkansas Stock Pool for Assigned Risks (NCCI)","Boca Raton, FL",{"$nulls":5},0,0,"",{"$nulls":3},0]
[null,55,"Associated Aviation Underwriters","Short Hills, NJ",{"$nulls":5},0,0,"",{"$nulls":3},0]
[null,61,"California Commercial Automobile Insurance Procedure (AIPSO)","Johnston, RI",{"$nulls":5},0,0,"",{"$nulls":3},0]
[null,62,"Colorado Commercial Automobile Insurance Procedure (AIPSO)","Johnston, RI",{"$nulls":5},0,0,"",{"$nulls":3},0]
[null,27,"Commonwealth Automobile Reinsurers","Boston, MA",{"$nulls":5},0,0,"",{"$nulls":3},0]
[null,78,"Connecticut Commercial Automobile Insurance Procedure (AIPSO)","Johnston, RI",{"$nulls":5},0,0,"",{"$nulls":3},0]
[null,60,"Delaware Commercial Automobile Insurance Procedure (AIPSO)","Johnston, RI",{"$nulls":5},0,0,"",{"$nulls":3},0]
[null,83,"District of Columbia Commercial Automobile Insurance Procedure","Washington, DC",{"$nulls":5},0,0,"",{"$nulls":3},0]
[null,100,"Excise Bond Underwriters","New York, NY",{"$nulls":5},0,0,"",{"$nulls":3},0]
[null,62,"Georgia Commercial Automobile Insurance Procedure (AIPSO)","Johnston, RI",{"$nulls":5},0,0,"",{"$nulls":3},0]
[null,81,"Global Aerospace Underwriters","Short Hills, NJ",{"$nulls":5},0,0,"",{"$nulls":3},0]
[null,57,"Idaho Commercial Automobile Insurance Procedure (AIPSO)","Johnston, RI",{"$nulls":5},0,0,"",{"$nulls":3},0]
[null,52,"Illinois Commercial Automobile Insurance Procedure (AIPSO)","Johnston, RI",{"$nulls":5},0,0,"",{"$nulls":3},0]
[null,70,"Illinois Fair Plan Association","Chicago, IL",{"$nulls":5},0,0,"",{"$nulls":3},0]
[null,74,"Illinois Mutual Assigned Risk Reinsurance Pool (NCCI)","Boca Raton, FL",{"$nulls":5},0,0,"",{"$nulls":3},0]
[null,61,"Illinois Stock Pool For Assigned Risks (NCCI)","Boca Raton, FL",{"$nulls":5},0,0,"",{"$nulls":3},0]
[null,67,"Illinois Workers Compensation Reinsurance Pool For Coal Mine Risks (NCCI)","Boca Raton, FL",{"$nulls":5},0,0,"",{"$nulls":3},0]
[null,77,"Indiana Commercial Automobile Insurance Procedure (AIPSO)","Johnston, RI",{"$nulls":5},0,0,"",{"$nulls":3},0]
[null,67,"Iowa Commercial Automobile Insurance Procedure (AIPSO)","Johnston, RI",{"$nulls":5},0,0,"",{"$nulls":3},0]
[null,63,"Iowa Workers Compensation Reinsurance Pool For Coal Mine Risks (NCCI)","Boca Raton, FL",{"$nulls":5},0,0,"",{"$nulls":3},0]
[null,72,"Kansas Commerical Automobile Insurance Procedure (AIPSO)","Johnston, RI",{"$nulls":5},0,0,"",{"$nulls":3},0]
[null,80,"Kentucky Commercial Automobile Insurance Procedure (AIPSO)","Johnston, RI",{"$nulls":5},0,0,"",{"$nulls":3},0]
[null,75,"Kentucky Workers Compensation Reinsurance Pool For Coal Mine Risks (NCCI)","Boca Raton, FL",{"$nulls":5},0,0,"",{"$nulls":3},0]
[null,100,"Lloyd's Underwriters","London, DC",{"$nulls":5},{"$f":"SUM(G43:I43)","v":0},{"$f":"+H43+I43","v":0},{"$f":"IF(K43<>0,+(K43/J43),\"\")","v":""},{"$nulls":3},{"$f":"+J43+M43+N43+O43","v":0}]
[null,61,"Louisiana Commercial Automobile Insurance Procedure (AIPSO)","Johnston, RI",{"$nulls":5},0,0,"",{"$nulls":3},0]
[null,56,"Maine Commercial Automobile Insurance Procedure (AIPSO)","Johnston, RI",{"$nulls":5},0,0,"",{"$nulls":3},0]
[null,69,"Maine Workers Compensation Reinsurance Pool","Boca Raton, FL",{"$nulls":5},0,0,"",{"$nulls":3},0]
[null,67,"Massachusetts Voluntary Non-Stock Assigned Risk Pool For Workmens Compensation Insurance","Boston, MA",{"$nulls":5},0,0,"",{"$nulls":3},0]
[null,61,"Massachusetts Workers Compenstation Assigned Risk Pool (NCCI)","Boca Raton, FL",{"$nulls":5},0,0,"",{"$nulls":3},0]
[null,14,"Michigan Catastrophic Claims Association (MCCA)","Livonia, MI",{"$nulls":5},0,0,"",{"$nulls":3},0]
[null,46,"Michigan Workers Compensation Placement Facility (NCCI)","Boca Raton, FL",{"$nulls":5},0,0,"",{"$nulls":3},0]
[null,67,"Minnesota Commercial Automobile Insurance Procedure (AIPSO)","Johnston, RI",{"$nulls":5},0,0,"",{"$nulls":3},0]
[null,65,"Minnesota Workers' Compensation Insurers Association, Inc.","Minneapolis, MN",{"$nulls":5},0,0,"",{"$nulls":3},0]
[null,72,"Mississippi Commercial Automobile Insurance Procedure (AIPSO)","Johnston, RI",{"$nulls":5},0,0,"",{"$nulls":3},0]
[null,59,"Missouri Commercial Automobile Insurance Procedure (AIPSO)","Johnston, RI",{"$nulls":5},0,0,"",{"$nulls":3},0]
[null,67,"Montana Commercial Automobile Insurance Procedure (AIPSO)","Johnston, RI",{"$nulls":5},0,0,"",{"$nulls":3},0]
[null,40,"Mutual Reinsurance Bureau","Cherry Valley, IL",{"$nulls":5},0,0,"",{"$nulls":3},0]
[null,45,"National Workers' Compensation Reinsurance Pool (NCCI)","Boca Raton, FL",{"$nulls":5},0,0,"",{"$nulls":3},0]
[null,66,"Nebraska Commercial Automobile Insurance Procedure (AIPSO)","Johnston, RI",{"$nulls":5},0,0,"",{"$nulls":3},0]
[null,63,"Nevada Commercial Automobile Insurance Procedure (AIPSO)","Johnston, RI",{"$nulls":5},0,0,"",{"$nulls":3},0]
[null,24,"New Hampshire Commercial Automobile Insurance Procedure (AIPSO)","Johnston, RI",{"$nulls":5},0,0,"",{"$nulls":3},0]
[null,56,"New Hampshire Reinsurance Facility Automobile (AIPSO)","Johnston, RI",{"$nulls":5},0,0,"",{"$nulls":3},0]
[null,48,"New Jersey Commercial Automobile Insurance Procedure (AIPSO)","Johnston, RI",{"$nulls":5},0,0,"",{"$nulls":3},0]
[null,74,"New Mexico Commercial Automobile Insurance Procedure (AIPSO)","Johnston, RI",{"$nulls":5},0,0,"",{"$nulls":3},0]
[null,41,"New Mexico Workers' Compensation Assigned Risk Pool (NCCI)","Boca Raton, FL",{"$nulls":5},0,0,"",{"$nulls":3},0]
[null,49,"New York Special Risk Distribution Program (AIPSO)","Johnston, RI",{"$nulls":5},0,0,"",{"$nulls":3},0]
[null,23,"North Carolina Reinsurance Facility (AIPSO)","Johnston, RI",{"$nulls":5},0,0,"",{"$nulls":3},0]
[null,65,"North Dakota Commercial Automobile Insurance Procedure (AIPSO)","Johnston, RI",{"$nulls":5},0,0,"",{"$nulls":3},0]
[null,78,"Ohio Commerical Automobile Insurance Procedure (AIPSO)","Johnston, RI",{"$nulls":5},0,0,"",{"$nulls":3},0]
[null,73,"Oklahoma Commercial Automobile Insurance Procedure (AIPSO)","Johnston, RI",{"$nulls":5},0,0,"",{"$nulls":3},0]
[null,53,"Oregon Commercial Automobile Insurance Procedure (AIPSO)","Johnston, RI",{"$nulls":5},0,0,"",{"$nulls":3},0]
[null,63,"Pennsylvania Pooled Commercial Assignment Procedure (AIPSO)","Johnston, RI",{"$nulls":5},0,0,"",{"$nulls":3},0]
[null,72,"Pennsylvania Workers Compensation Insurance Plan and Reinsurance Pool (NCCI)","Boca Raton, FL",{"$nulls":5},0,0,"",{"$nulls":3},0]
[null,71,"Rhode Island Commercial Automobile Insurance Procedure (AIPSO)","Johnston, RI",{"$nulls":5},0,0,"",{"$nulls":3},0]
[null,70,"South Carolina Commercial Automobile Insurance Procedure (AIPSO)","Johnston, RI",{"$nulls":5},0,0,"",{"$nulls":3},0]
[null,56,"South Dakota Commercial Automobile Insurance Procedure (AIPSO)","Johnston, RI",{"$nulls":5},{"$f":"SUM(G75:I75)","v":0},{"$f":"+H75+I75","v":0},{"$f":"IF(K75<>0,+(K75/J75),\"\")","v":""},{"$nulls":3},{"$f":"+J75+M75+N75+O75","v":0}]
[null,73,"Tennessee Commercial Automobile Insurance Procedure (AIPSO)","Johnston, RI",{"$nulls":5},0,0,"",{"$nulls":3},0]
[null,47,"Tennessee Workers' Compensation Reinsurance Pool (NCCI)","Boca Raton, FL",{"$nulls":5},0,0,"",{"$nulls":3},0]
[null,67,"Tennessee Workers' Compensation Reinsurance Pool For Coal Mine Risks (NCCI)","Boca Raton, FL",{"$nulls":5},0,0,"",{"$nulls":3},0]
[null,100,"United States Aircraft Insurance Group","New York, NY",{"$nulls":5},0,0,"",{"$nulls":3},0]
[null,68,"Utah Commercial Automobile Insurance Procedure (AIPSO)","Johnston, RI",{"$nulls":5},0,0,"",{"$nulls":3},0]
[null,60,"Vermont Commercial Automobile Insurance Procedure (AIPSO)","Johnston, RI",{"$nulls":5},0,0,"",{"$nulls":3},0]
[null,73,"Virginia Commercial Automobile Insurance Procedure (AIPSO)","Johnston, RI",{"$nulls":5},0,0,"",{"$nulls":3},0]
[null,66,"Virginia Workers Compensation Reinsurance Pool For Coal Mine Risks (NCCI)","Boca Raton, FL",{"$nulls":5},0,0,"",{"$nulls":3},0]
[null,64,"Washington Commercial Automobile Insurance Procedure (AIPSO)","Johnston, RI",{"$nulls":5},0,0,"",{"$nulls":3},0]
[null,89,"West Virginia Commercial Automobile Insurance Procedure (AIPSO)","Johnston, RI",{"$nulls":5},0,0,"",{"$nulls":3},0]
[null,68,"Wisconsin Special Risk Distrib. Program (AIPSO)","Johnston, RI",{"$nulls":5},0,0,"",{"$nulls":3},0]
[null,61,"Wisconsin Workers Compensation Insurance Pool","Milwaukee, WI",{"$nulls":5},0,0,"",{"$nulls":3},0]
[null,35,"Workers Compensation Reinsurance Association","St. Paul, MN",{"$nulls":5},0,0,"",{"$nulls":3},0]
[null,61,"Wyoming Commercial Automobile Insurance Procedure (AIPSO)","Johnston, RI",{"$nulls":5},0,0,"",{"$nulls":3},0]
[]
[null,null,"Syndicates for Lloyds' Underwriters"]
[null,"AIIN"]
[null,"AA1122000 ","Lloyds of London (Authorized)","London",{"$nulls":5},{"$f":"SUM(G93:I93)","v":0},{"$f":"+H93+I93","v":0},{"$f":"IF(K93<>0,+(K93/J93),\"\")","v":""},{"$nulls":3},{"$f":"+J93+M93+N93+O93","v":0}]
[null,"AA1126002 ",2,"London",{"$nulls":5},{"$f":"SUM(G94:I94)","v":0},{"$f":"+H94+I94","v":0},"",{"$nulls":3},{"$f":"+J94+M94+N94+O94","v":0}]
[null,"AA1126028 ",28,"London",{"$nulls":5},0,0,"",{"$nulls":3},0]
[null,"AA1126033 ",33,"London",{"$nulls":5},0,0,"",{"$nulls":3},0]
[null,"AA1126034 ",34,"London",{"$nulls":5},0,0,"",{"$nulls":3},0]
[null,"AA1126040 ",40,"London",{"$nulls":5},0,0,"",{"$nulls":3},0]
[null,"AA1126047 ",47,"London",{"$nulls":5},0,0,"",{"$nulls":3},0]
[null,"AA1126048 ",48,"London",{"$nulls":5},0,0,"",{"$nulls":3},0]
[null,"AA1126051 ",51,"London",{"$nulls":5},0,0,"",{"$nulls":3},0]
[null,"AA1126052 ",52,"London",{"$nulls":5},0,0,"",{"$nulls":3},0]
[null,"AA1126053 ",53,"London",{"$nulls":5},0,0,"",{"$nulls":3},0]
[null,"AA1126055 ",55,"London",{"$nulls":5},0,0,"",{"$nulls":3},0]
[null,"AA1126062 ",62,"London",{"$nulls":5},0,0,"",{"$nulls":3},0]
[null,"AA1126079 ",79,"London",{"$nulls":5},0,0,"",{"$nulls":3},0]
[null,"AA1126102 ",102,"London",{"$nulls":5},0,0,"",{"$nulls":3},0]
[null,"AA1126112 ",112,"London",{"$nulls":5},0,0,"",{"$nulls":3},0]
[null,"AA1126122 ",122,"London",{"$nulls":5},0,0,"",{"$nulls":3},0]
[null,"AA1126123 ",123,"London",{"$nulls":5},0,0,"",{"$nulls":3},0]
[null,"AA1126136 ",136,"London",{"$nulls":5},0,0,"",{"$nulls":3},0]
[null,"AA1126138 ",138,"London",{"$nulls":5},0,0,"",{"$nulls":3},0]
[null,"AA1126159 ",159,"London",{"$nulls":5},0,0,"",{"$nulls":3},0]
[null,"AA1126172 ",172,"London",{"$nulls":5},0,0,"",{"$nulls":3},0]
[null,"AA1126173 ",173,"London",{"$nulls":5},0,0,"",{"$nulls":3},0]
[null,"AA1126178 ",178,"London",{"$nulls":5},0,0,"",{"$nulls":3},0]
[null,"AA1126179 ",179,"London",{"$nulls":5},0,0,"",{"$nulls":3},0]
[null,"AA1126183 ",183,"London",{"$nulls":5},0,0,"",{"$nulls":3},0]
[null,"AA1126187 ",187,"London",{"$nulls":5},0,0,"",{"$nulls":3},0]
[null,"AA1126190 ",190,"London",{"$nulls":5},0,0,"",{"$nulls":3},0]
[null,"AA1126204 ",204,"London",{"$nulls":5},0,0,"",{"$nulls":3},0]
[null,"AA1126205 ",205,"London",{"$nulls":5},0,0,"",{"$nulls":3},0]
[null,"AA1126218 ",218,"London",{"$nulls":5},0,0,"",{"$nulls":3},0]
[null,"AA1126219 ",219,"London",{"$nulls":5},0,0,"",{"$nulls":3},0]
[null,"AA1126227 ",227,"London",{"$nulls":5},0,0,"",{"$nulls":3},0]
[null,"AA1126228 ",228,"London",{"$nulls":5},0,0,"",{"$nulls":3},0]
[null,"AA1126250 ",250,"London",{"$nulls":5},0,0,"",{"$nulls":3},0]
[null,"AA1126270 ",270,"London",{"$nulls":5},0,0,"",{"$nulls":3},0]
[null,"AA1126271 ",271,"London",{"$nulls":5},0,0,"",{"$nulls":3},0]
[null,"AA1126282 ",282,"London",{"$nulls":5},0,0,"",{"$nulls":3},0]
[null,"AA1126314 ",314,"London",{"$nulls":5},0,0,"",{"$nulls":3},0]
[null,"AA1126318 ",318,"London",{"$nulls":5},0,0,"",{"$nulls":3},0]
[null,"AA1126322 ",322,"London",{"$nulls":5},0,0,"",{"$nulls":3},0]
[null,"AA1126328 ",328,"London",{"$nulls":5},0,0,"",{"$nulls":3},0]
[null,"AA1126329 ",329,"London",{"$nulls":5},0,0,"",{"$nulls":3},0]
[null,"AA1126340 ",340,"London",{"$nulls":5},0,0,"",{"$nulls":3},0]
[null,"AA1126360 ",360,"London",{"$nulls":5},0,0,"",{"$nulls":3},0]
[null,"AA1126362 ",362,"London",{"$nulls":5},0,0,"",{"$nulls":3},0]
[null,"AA1126375 ",375,"London",{"$nulls":5},0,0,"",{"$nulls":3},0]
[null,"AA1126376 ",376,"London",{"$nulls":5},0,0,"",{"$nulls":3},0]
[null,"AA1126382 ",382,"London",{"$nulls":5},0,0,"",{"$nulls":3},0]
[null,"AA1126386 ",386,"London",{"$nulls":5},0,0,"",{"$nulls":3},0]
[null,"AA1126397 ",397,"London",{"$nulls":5},0,0,"",{"$nulls":3},0]
[null,"AA1126431 ",431,"London",{"$nulls":5},0,0,"",{"$nulls":3},0]
[null,"AA1126435 ",435,"London",{"$nulls":5},0,0,"",{"$nulls":3},0]
[null,"AA1126441 ",441,"London",{"$nulls":5},0,0,{"$f":"IF(K146<>0,+(K146/J146),\"\")","v":""},{"$nulls":3},0]
[null,"AA1126456 ",456,"London",{"$nulls":5},0,0,"",{"$nulls":3},0]
[null,"AA1126457 ",457,"London",{"$nulls":5},0,0,"",{"$nulls":3},0]
[null,"AA1126473 ",473,"London",{"$nulls":5},0,0,"",{"$nulls":3},0]
[null,"AA1126483 ",483,"London",{"$nulls":5},0,0,"",{"$nulls":3},0]
[null,"AA1126484 ",484,"London",{"$nulls":5},0,0,"",{"$nulls":3},0]
[null,"AA1126488 ",488,"London",{"$nulls":5},0,0,"",{"$nulls":3},0]
[null,"AA1126490 ",490,"London",{"$nulls":5},0,0,"",{"$nulls":3},0]
[null,"AA1126500 ",500,"London",{"$nulls":5},0,0,"",{"$nulls":3},0]
[null,"AA1126506 ",506,"London",{"$nulls":5},0,0,"",{"$nulls":3},0]
[null,"AA1126507 ",507,"London",{"$nulls":5},0,0,"",{"$nulls":3},0]
[null,"AA1126510 ",510,"London",{"$nulls":5},0,0,"",{"$nulls":3},0]
[null,"AA1126529 ",529,"London",{"$nulls":5},{"$f":"SUM(G158:I158)","v":0},{"$f":"+H158+I158","v":0},"",{"$nulls":3},{"$f":"+J158+M158+N158+O158","v":0}]
[null,"AA1126535 ",535,"London",{"$nulls":5},0,0,"",{"$nulls":3},0]
[null,"AA1126536 ",536,"London",{"$nulls":5},0,0,"",{"$nulls":3},0]
[null,"AA1126538 ",538,"London",{"$nulls":5},0,0,"",{"$nulls":3},0]
[null,"AA1126539 ",539,"London",{"$nulls":5},0,0,"",{"$nulls":3},0]
[null,"AA1126545 ",545,"London",{"$nulls":5},0,0,"",{"$nulls":3},0]
[null,"AA1126552 ",552,"London",{"$nulls":5},0,0,"",{"$nulls":3},0]
[null,"AA1126557 ",557,"London",{"$nulls":5},0,0,"",{"$nulls":3},0]
[null,"AA1126566 ",566,"London",{"$nulls":5},0,0,"",{"$nulls":3},0]
[null,"AA1126570 ",570,"London",{"$nulls":5},0,0,"",{"$nulls":3},0]
[null,"AA1126575 ",575,"London",{"$nulls":5},0,0,"",{"$nulls":3},0]
[null,"AA1126582 ",582,"London",{"$nulls":5},0,0,"",{"$nulls":3},0]
[null,"AA1126588 ",588,"London",{"$nulls":5},0,0,"",{"$nulls":3},0]
[null,"AA1126590 ",590,"London",{"$nulls":5},0,0,"",{"$nulls":3},0]
[null,"AA1126609 ",609,"London",{"$nulls":5},0,0,"",{"$nulls":3},0]
[null,"AA1126623 ",623,"London",{"$nulls":5},0,0,"",{"$nulls":3},0]
[null,"AA1126624 ",624,"London",{"$nulls":5},0,0,"",{"$nulls":3},0]
[null,"AA1126625 ",625,"London",{"$nulls":5},0,0,"",{"$nulls":3},0]
[null,"AA1126626 ",626,"London",{"$nulls":5},0,0,"",{"$nulls":3},0]
[null,"AA1126658 ",658,"London",{"$nulls":5},0,0,"",{"$nulls":3},0]
[null,"AA1126672 ",672,"London",{"$nulls":5},0,0,"",{"$nulls":3},0]
[null,"AA1126683 ",683,"London",{"$nulls":5},0,0,"",{"$nulls":3},0]
[null,"AA1126702 ",702,"London",{"$nulls":5},0,0,"",{"$nulls":3},0]
[null,"AA1126718 ",718,"London",{"$nulls":5},0,0,"",{"$nulls":3},0]
[null,"AA1126724 ",724,"London",{"$nulls":5},0,0,"",{"$nulls":3},0]
[null,"AA1126727 ",727,"London",{"$nulls":5},0,0,"",{"$nulls":3},0]
[null,"AA1126732 ",732,"London",{"$nulls":5},0,0,"",{"$nulls":3},0]
[null,"AA1126734 ",734,"London",{"$nulls":5},0,0,"",{"$nulls":3},0]
[null,"AA1126735 ",735,"London",{"$nulls":5},0,0,"",{"$nulls":3},0]
[null,"AA1126741 ",741,"London",{"$nulls":5},0,0,"",{"$nulls":3},0]
[null,"AA1126744 ",744,"London",{"$nulls":5},0,0,"",{"$nulls":3},0]
[null,"AA1126765 ",765,"London",{"$nulls":5},0,0,"",{"$nulls":3},0]
[null,"AA1126766 ",766,"London",{"$nulls":5},0,0,"",{"$nulls":3},0]
[null,"AA1126780 ",780,"London",{"$nulls":5},0,0,"",{"$nulls":3},0]
[null,"AA1126800 ",800,"London",{"$nulls":5},0,0,"",{"$nulls":3},0]
[null,"AA1126807 ",807,"London",{"$nulls":5},0,0,"",{"$nulls":3},0]
[null,"AA1126808 ",808,"London",{"$nulls":5},0,0,"",{"$nulls":3},0]
[null,"AA1126822 ",822,"London",{"$nulls":5},0,0,"",{"$nulls":3},0]
[null,"AA1126823 ",823,"London",{"$nulls":5},0,0,"",{"$nulls":3},0]
[null,"AA1126824 ",824,"London",{"$nulls":5},0,0,"",{"$nulls":3},0]
[null,"AA1126839 ",839,"London",{"$nulls":5},0,0,"",{"$nulls":3},0]
[null,"AA1126858 ",858,"London",{"$nulls":5},0,0,"",{"$nulls":3},0]
[null,"AA1126861 ",861,"London",{"$nulls":5},0,0,"",{"$nulls":3},0]
[null,"AA1126902 ",902,"London",{"$nulls":5},0,0,"",{"$nulls":3},0]
[null,"AA1126920 ",920,"London",{"$nulls":5},0,0,"",{"$nulls":3},0]
[null,"AA1126923 ",923,"London",{"$nulls":5},0,0,"",{"$nulls":3},0]
[null,"AA1126925 ",925,"London",{"$nulls":5},0,0,"",{"$nulls":3},0]
[null,"AA1126947 ",947,"London",{"$nulls":5},0,0,"",{"$nulls":3},0]
[null,"AA1126955 ",955,"London",{"$nulls":5},0,0,"",{"$nulls":3},0]
[null,"AA1126957 ",957,"London",{"$nulls":5},0,0,"",{"$nulls":3},0]
[null,"AA1126958 ",958,"London",{"$nulls":5},0,0,"",{"$nulls":3},0]
[null,"AA1126959 ",959,"London",{"$nulls":5},0,0,"",{"$nulls":3},0]
[null,"AA1126960 ",960,"London",{"$nulls":5},0,0,{"$f":"IF(K210<>0,+(K210/J210),\"\")","v":""},{"$nulls":3},0]
[null,"AA1126963 ",963,"London",{"$nulls":5},0,0,"",{"$nulls":3},0]
[null,"AA1126990 ",990,"London",{"$nulls":5},0,0,"",{"$nulls":3},0]
[null,"AA1126991 ",991,"London",{"$nulls":5},0,0,"",{"$nulls":3},0]
[null,"AA1126994 ",994,"London",{"$nulls":5},0,0,"",{"$nulls":3},0]
[null,"AA1126998 ",998,"London",{"$nulls":5},0,0,"",{"$nulls":3},0]
[null,"AA1127003 ",1003,"London",{"$nulls":5},0,0,"",{"$nulls":3},0]
[null,"AA1127007 ",1007,"London",{"$nulls":5},0,0,"",{"$nulls":3},0]
[null,"AA1127009 ",1009,"London",{"$nulls":5},0,0,"",{"$nulls":3},0]
[null,"AA1127010 ",1010,"London",{"$nulls":5},0,0,"",{"$nulls":3},0]
[null,"AA1127019 ",1019,"London",{"$nulls":5},0,0,"",{"$nulls":3},0]
[null,"AA1127023 ",1023,"London",{"$nulls":5},0,0,"",{"$nulls":3},0]
[null,"AA1127027 ",1027,"London",{"$nulls":5},{"$f":"SUM(G222:I222)","v":0},{"$f":"+H222+I222","v":0},"",{"$nulls":3},{"$f":"+J222+M222+N222+O222","v":0}]
[null,"AA1127028 ",1028,"London",{"$nulls":5},0,0,"",{"$nulls":3},0]
[null,"AA1127036 ",1036,"London",{"$nulls":5},0,0,"",{"$nulls":3},0]
[null,"AA1127038 ",1038,"London",{"$nulls":5},0,0,"",{"$nulls":3},0]
[null,"AA1127047 ",1047,"London",{"$nulls":5},0,0,"",{"$nulls":3},0]
[null,"AA1127051 ",1051,"London",{"$nulls":5},0,0,"",{"$nulls":3},0]
[null,"AA1127055 ",1055,"London",{"$nulls":5},0,0,"",{"$nulls":3},0]
[null,"AA1127057 ",1057,"London",{"$nulls":5},0,0,"",{"$nulls":3},0]
[null,"AA1127069 ",1069,"London",{"$nulls":5},0,0,"",{"$nulls":3},0]
[null,"AA1127084 ",1084,"London",{"$nulls":5},0,0,"",{"$nulls":3},0]
[null,"AA1127087 ",1087,"London",{"$nulls":5},0,0,"",{"$nulls":3},0]
[null,"AA1127093 ",1093,"London",{"$nulls":5},0,0,"",{"$nulls":3},0]
[null,"AA1127095 ",1095,"London",{"$nulls":5},0,0,"",{"$nulls":3},0]
[null,"AA1127096 ",1096,"London",{"$nulls":5},0,0,"",{"$nulls":3},0]
[null,"AA1127101 ",1101,"London",{"$nulls":5},0,0,"",{"$nulls":3},0]
[null,"AA1120105 ",1110,"London",{"$nulls":5},0,0,"",{"$nulls":3},0]
[null,"AA1127115 ",1115,"London",{"$nulls":5},0,0,"",{"$nulls":3},0]
[null,"AA1127119 ",1119,"London",{"$nulls":5},0,0,"",{"$nulls":3},0]
[null,"AA1127121 ",1121,"London",{"$nulls":5},0,0,"",{"$nulls":3},0]
[null,"AA1127124 ",1124,"London",{"$nulls":5},0,0,"",{"$nulls":3},0]
[null,"AA1127141 ",1141,"London",{"$nulls":5},0,0,"",{"$nulls":3},0]
[null,"AA1127165 ",1165,"London",{"$nulls":5},0,0,"",{"$nulls":3},0]
[null,"AA1127173 ",1173,"London",{"$nulls":5},0,0,"",{"$nulls":3},0]
[null,"AA1127175 ",1175,"London",{"$nulls":5},0,0,"",{"$nulls":3},0]
[null,"AA1127176 ",1176,"London",{"$nulls":5},0,0,"",{"$nulls":3},0]
[null,"AA1127179 ",1179,"London",{"$nulls":5},0,0,"",{"$nulls":3},0]
[null,"AA1127183 ",1183,"London",{"$nulls":5},0,0,"",{"$nulls":3},0]
[null,"AA1127185 ",1185,"London",{"$nulls":5},0,0,"",{"$nulls":3},0]
[null,"AA1127200 ",1200,"London",{"$nulls":5},0,0,"",{"$nulls":3},0]
[null,"AA1127202 ",1202,"London",{"$nulls":5},0,0,"",{"$nulls":3},0]
[null,"AA1127203 ",1203,"London",{"$nulls":5},0,0,"",{"$nulls":3},0]
[null,"AA1127204 ",1204,"London",{"$nulls":5},0,0,"",{"$nulls":3},0]
[null,"AA1127205 ",1205,"London",{"$nulls":5},0,0,"",{"$nulls":3},0]
[null,"AA1127206 ",1206,"London",{"$nulls":5},0,0,"",{"$nulls":3},0]
[null,"AA1127207 ",1207,"London",{"$nulls":5},0,0,"",{"$nulls":3},0]
[null,"AA1127208 ",1208,"London",{"$nulls":5},0,0,"",{"$nulls":3},0]
[null,"AA1127209 ",1209,"London",{"$nulls":5},0,0,"",{"$nulls":3},0]
[null,"AA1127210 ",1210,"London",{"$nulls":5},0,0,"",{"$nulls":3},0]
[null,"AA1127211 ",1211,"London",{"$nulls":5},0,0,"",{"$nulls":3},0]
[null,"AA1127212 ",1212,"London",{"$nulls":5},0,0,"",{"$nulls":3},0]
[null,"AA1127213 ",1213,"London",{"$nulls":5},0,0,"",{"$nulls":3},0]
[null,"AA1127214 ",1214,"London",{"$nulls":5},0,0,"",{"$nulls":3},0]
[null,"AA1127215 ",1215,"London",{"$nulls":5},0,0,"",{"$nulls":3},0]
[null,"AA1127218 ",1218,"London",{"$nulls":5},0,0,"",{"$nulls":3},0]
[null,"AA1120168 ",1219,"London",{"$nulls":5},0,0,"",{"$nulls":3},0]
[null,"AA1127221 ",1221,"London",{"$nulls":5},0,0,"",{"$nulls":3},0]
[null,"AA1127223 ",1223,"London",{"$nulls":5},0,0,"",{"$nulls":3},0]
[null,"AA1127224 ",1224,"London",{"$nulls":5},0,0,"",{"$nulls":3},0]
[null,"AA1127225 ",1225,"London",{"$nulls":5},0,0,"",{"$nulls":3},0]
[null,"AA1127227 ",1227,"London",{"$nulls":5},0,0,"",{"$nulls":3},0]
[null,"AA1127229 ",1229,"London",{"$nulls":5},0,0,"",{"$nulls":3},0]
[null,"AA1127232 ",1232,"London",{"$nulls":5},0,0,"",{"$nulls":3},0]
[null,"AA1127234 ",1234,"London",{"$nulls":5},0,0,{"$f":"IF(K274<>0,+(K274/J274),\"\")","v":""},{"$nulls":3},0]
[null,"AA1127236 ",1236,"London",{"$nulls":5},0,0,"",{"$nulls":3},0]
[null,"AA1127239 ",1239,"London",{"$nulls":5},0,0,"",{"$nulls":3},0]
[null,"AA1127241 ",1241,"London",{"$nulls":5},0,0,"",{"$nulls":3},0]
[null,"AA1127242 ",1242,"London",{"$nulls":5},0,0,"",{"$nulls":3},0]
[null,"AA1127243 ",1243,"London",{"$nulls":5},0,0,"",{"$nulls":3},0]
[null,"AA1127245 ",1245,"London",{"$nulls":5},0,0,"",{"$nulls":3},0]
[null,"AA1127251 ",1251,"London",{"$nulls":5},0,0,"",{"$nulls":3},0]
[null,"AA1127265 ",1265,"London",{"$nulls":5},0,0,"",{"$nulls":3},0]
[null,"AA1120085 ",1274,"London",{"$nulls":5},0,0,"",{"$nulls":3},0]
[null,"AA1127301 ",1301,"London",{"$nulls":5},0,0,"",{"$nulls":3},0]
[null,"AA1127308 ",1308,"London",{"$nulls":5},0,0,"",{"$nulls":3},0]
[null,"AA1120095 ",1318,"London",{"$nulls":5},{"$f":"SUM(G286:I286)","v":0},{"$f":"+H286+I286","v":0},"",{"$nulls":3},{"$f":"+J286+M286+N286+O286","v":0}]
[null,"AA1127323 ",1323,"London",{"$nulls":5},0,0,"",{"$nulls":3},0]
[null,"AA1127400 ",1400,"London",{"$nulls":5},0,0,"",{"$nulls":3},0]
[null,"AA1127411 ",1411,"London",{"$nulls":5},0,0,"",{"$nulls":3},0]
[null,"AA1127414 ",1414,"London",{"$nulls":5},0,0,"",{"$nulls":3},0]
[null,"AA1127415 ",1415,"London",{"$nulls":5},0,0,"",{"$nulls":3},0]
[null,"AA1120102 ",1458,"London",{"$nulls":5},0,0,"",{"$nulls":3},0]
[null,"AA1120169 ",1492,"London",{"$nulls":5},0,0,"",{"$nulls":3},0]
[null,"AA1127511 ",1511,"London",{"$nulls":5},0,0,"",{"$nulls":3},0]
[null,"AA1127607 ",1607,"London",{"$nulls":5},0,0,"",{"$nulls":3},0]
[null,"AA1127611 ",1611,"London",{"$nulls":5},0,0,"",{"$nulls":3},0]
[null,"AA1120198 ",1618,"London",{"$nulls":5},0,0,"",{"$nulls":3},0]
[null,"AA1120156 ",1686,"London",{"$nulls":5},0,0,"",{"$nulls":3},0]
[null,"AA1127688 ",1688,"London",{"$nulls":5},0,0,"",{"$nulls":3},0]
[null,"AA1120157 ",1729,"London",{"$nulls":5},0,0,"",{"$nulls":3},0]
[null,"AA1120195 ",1840,"London",{"$nulls":5},0,0,"",{"$nulls":3},0]
[null,"AA1120171 ",1856,"London",{"$nulls":5},0,0,"",{"$nulls":3},0]
[null,"AA1127861 ",1861,"London",{"$nulls":5},0,0,"",{"$nulls":3},0]
[null,"AA1120096 ",1880,"London",{"$nulls":5},0,0,"",{"$nulls":3},0]
[null,"AA1120109 ",1882,"London",{"$nulls":5},0,0,"",{"$nulls":3},0]
[null,"AA1120166 ",1884,"London",{"$nulls":5},0,0,"",{"$nulls":3},0]
[null,"AA1120054 ",1886,"London",{"$nulls":5},0,0,"",{"$nulls":3},0]
[null,"AA1120131 ",1897,"London",{"$nulls":5},0,0,"",{"$nulls":3},0]
[null,"AA1127900 ",1900,"London",{"$nulls":5},0,0,"",{"$nulls":3},0]
[null,"AA1120083 ",1910,"London",{"$nulls":5},0,0,"",{"$nulls":3},0]
[null,"AA1120064 ",1919,"London",{"$nulls":5},0,0,"",{"$nulls":3},0]
[null,"AA1120124 ",1945,"London",{"$nulls":5},0,0,"",{"$nulls":3},0]
[null,"AA1120186 ",1947,"London",{"$nulls":5},0,0,"",{"$nulls":3},0]
[null,"AA1120084 ",1955,"London",{"$nulls":5},0,0,"",{"$nulls":3},0]
[null,"AA1120103 ",1967,"London",{"$nulls":5},0,0,"",{"$nulls":3},0]
[null,"AA1120106 ",1969,"London",{"$nulls":5},0,0,"",{"$nulls":3},0]
[null,"AA1120185 ",1975,"London",{"$nulls":5},0,0,"",{"$nulls":3},0]
[null,"AA1120161 ",1980,"London",{"$nulls":5},0,0,"",{"$nulls":3},0]
[null,"AA1120142 ",1991,"London",{"$nulls":5},0,0,"",{"$nulls":3},0]
[null,"AA1127999 ",1999,"London",{"$nulls":5},0,0,"",{"$nulls":3},0]
[null,"AA1128000 ",2000,"London",{"$nulls":5},0,0,"",{"$nulls":3},0]
[null,"AA1128001 ",2001,"London",{"$nulls":5},0,0,"",{"$nulls":3},0]
[null,"AA1128003 ",2003,"London",{"$nulls":5},0,0,"",{"$nulls":3},0]
[null,"AA1120071 ",2007,"London",{"$nulls":5},0,0,"",{"$nulls":3},0]
[null,"AA1128010 ",2010,"London",{"$nulls":5},0,0,"",{"$nulls":3},0]
[null,"AA1128011 ",2011,"London",{"$nulls":5},0,0,"",{"$nulls":3},0]
[null,"AA1120104 ",2012,"London",{"$nulls":5},0,0,"",{"$nulls":3},0]
[null,"AA1120158 ",2014,"London",{"$nulls":5},0,0,"",{"$nulls":3},0]
[null,"AA1120114 ",2015,"London",{"$nulls":5},0,0,"",{"$nulls":3},0]
[null,"AA1120193 ",2019,"London",{"$nulls":5},0,0,"",{"$nulls":3},0]
[null,"AA1128020 ",2020,"London",{"$nulls":5},0,0,"",{"$nulls":3},0]
[null,"AA1128021 ",2021,"London",{"$nulls":5},0,0,"",{"$nulls":3},0]
[null,"AA1128027 ",2027,"London",{"$nulls":5},0,0,"",{"$nulls":3},0]
[null,"AA1120164 ",2088,"London",{"$nulls":5},0,0,"",{"$nulls":3},0]
[null,"AA1120072 ",2112,"London",{"$nulls":5},0,0,"",{"$nulls":3},0]
[null,"AA1128121 ",2121,"London",{"$nulls":5},0,0,"",{"$nulls":3},0]
[null,"AA1128147 ",2147,"London",{"$nulls":5},0,0,"",{"$nulls":3},0]
[null,"AA1128176 ",2176,"London",{"$nulls":5},0,0,"",{"$nulls":3},0]
[null,"AA1128183 ",2183,"London",{"$nulls":5},0,0,{"$f":"IF(K339<>0,+(K339/J339),\"\")","v":""},{"$nulls":3},0]
[null,"AA1128227 ",2227,"London",{"$nulls":5},0,0,"",{"$nulls":3},0]
[null,"AA1120112 ",2232,"London",{"$nulls":5},0,0,"",{"$nulls":3},0]
[null,"AA1128241 ",2241,"London",{"$nulls":5},0,0,"",{"$nulls":3},0]
[null,"AA1120081 ",2243,"London",{"$nulls":5},0,0,"",{"$nulls":3},0]
[null,"AA1128271 ",2271,"London",{"$nulls":5},0,0,"",{"$nulls":3},0]
[null,"AA1120194 ",2288,"London",{"$nulls":5},0,0,"",{"$nulls":3},0]
[null,"AA1128322 ",2322,"London",{"$nulls":5},0,0,"",{"$nulls":3},0]
[null,"AA1128323 ",2323,"London",{"$nulls":5},0,0,"",{"$nulls":3},0]
[null,"AA1128341 ",2341,"London",{"$nulls":5},0,0,"",{"$nulls":3},0]
[null,"AA1128345 ",2345,"London",{"$nulls":5},0,0,"",{"$nulls":3},0]
[null,"AA1120152 ",2357,"London",{"$nulls":5},0,0,"",{"$nulls":3},0]
[null,"AA1128376 ",2376,"London",{"$nulls":5},{"$f":"SUM(G351:I351)","v":0},{"$f":"+H351+I351","v":0},"",{"$nulls":3},{"$f":"+J351+M351+N351+O351","v":0}]
[null,"AA1120097 ",2468,"London",{"$nulls":5},0,0,"",{"$nulls":3},0]
[null,"AA1128488 ",2488,"London",{"$nulls":5},0,0,"",{"$nulls":3},0]
[null,"AA1128490 ",2490,"London",{"$nulls":5},0,0,"",{"$nulls":3},0]
[null,"AA1128506 ",2506,"London",{"$nulls":5},0,0,"",{"$nulls":3},0]
[null,"AA1120139 ",2526,"London",{"$nulls":5},0,0,"",{"$nulls":3},0]
[null,"AA1128591 ",2591,"London",{"$nulls":5},0,0,"",{"$nulls":3},0]
[null,"AA1128607 ",2607,"London",{"$nulls":5},0,0,"",{"$nulls":3},0]
[null,"AA1128623 ",2623,"London",{"$nulls":5},0,0,"",{"$nulls":3},0]
[null,"AA1128658 ",2658,"London",{"$nulls":5},0,0,"",{"$nulls":3},0]
[null,"AA1128659 ",2659,"London",{"$nulls":5},0,0,"",{"$nulls":3},0]
[null,"AA1120182 ",2689,"London",{"$nulls":5},0,0,"",{"$nulls":3},0]
[null,"AA1128724 ",2724,"London",{"$nulls":5},0,0,"",{"$nulls":3},0]
[null,"AA1128734 ",2734,"London",{"$nulls":5},0,0,"",{"$nulls":3},0]
[null,"AA1128741 ",2741,"London",{"$nulls":5},0,0,"",{"$nulls":3},0]
[null,"AA1120172 ",2786,"London",{"$nulls":5},0,0,"",{"$nulls":3},0]
[null,"AA1128791 ",2791,"London",{"$nulls":5},0,0,"",{"$nulls":3},0]
[null,"AA1128923 ",2923,"London",{"$nulls":5},0,0,"",{"$nulls":3},0]
[null,"AA1128947 ",2947,"London",{"$nulls":5},0,0,"",{"$nulls":3},0]
[null,"AA1128987 ",2987,"London",{"$nulls":5},0,0,"",{"$nulls":3},0]
[null,"AA1120179 ",2988,"London",{"$nulls":5},0,0,"",{"$nulls":3},0]
[null,"AA1129000 ",3000,"London",{"$nulls":5},0,0,"",{"$nulls":3},0]
[null,"AA1120082 ",3010,"London",{"$nulls":5},0,0,"",{"$nulls":3},0]
[null,"AA1129030 ",3030,"London",{"$nulls":5},0,0,"",{"$nulls":3},0]
[null,"AA1129210 ",3210,"London",{"$nulls":5},0,0,"",{"$nulls":3},0]
[null,"AA1120184 ",3268,"London",{"$nulls":5},0,0,"",{"$nulls":3},0]
[null,"AA1120113 ",3334,"London",{"$nulls":5},0,0,"",{"$nulls":3},0]
[null,"AA1120055 ",3623,"London",{"$nulls":5},0,0,"",{"$nulls":3},0]
[null,"AA1120098 ",3624,"London",{"$nulls":5},0,0,"",{"$nulls":3},0]
[null,"AA1120056 ",3786,"London",{"$nulls":5},0,0,"",{"$nulls":3},0]
[null,"AA1120068 ",3820,"London",{"$nulls":5},0,0,"",{"$nulls":3},0]
[null,"AA1120116 ",3902,"London",{"$nulls":5},0,0,"",{"$nulls":3},0]
[null,"AA1126005 ",4000,"London",{"$nulls":5},0,0,"",{"$nulls":3},0]
[null,"AA1120075 ",4020,"London",{"$nulls":5},0,0,"",{"$nulls":3},0]
[null,"AA1120069 ",4040,"London",{"$nulls":5},0,0,"",{"$nulls":3},0]
[null,"AA1120086 ",4141,"London",{"$nulls":5},0,0,"",{"$nulls":3},0]
[null,"AA1120067 ",4242,"London",{"$nulls":5},0,0,"",{"$nulls":3},0]
[null,"AA1126004 ",4444,"London",{"$nulls":5},0,0,"",{"$nulls":3},0]
[null,"AA1126006 ",4472,"London",{"$nulls":5},0,0,"",{"$nulls":3},0]
[null,"AA1120090 ",4711,"London",{"$nulls":5},0,0,"",{"$nulls":3},0]
[null,"AA1126003 ",5000,"London",{"$nulls":5},0,0,"",{"$nulls":3},0]
[null,"AA1120080 ",5151,"London",{"$nulls":5},0,0,"",{"$nulls":3},0]
[null,"AA1120065 ",5555,"London",{"$nulls":5},0,0,"",{"$nulls":3},0]
[null,"AA1120163 ",5678,"London",{"$nulls":5},0,0,"",{"$nulls":3},0]
[null,"AA1120048 ",5820,"London",{"$nulls":5},0,0,"",{"$nulls":3},0]
[null,"AA1120181 ",5886,"London",{"$nulls":5},0,0,"",{"$nulls":3},0]
["SECTION III TOTALS WILL BE ENTERED IN SECTION V",{"$nulls":4},{"$f":"SUM(F11:F396)","v":0},{"$f":"SUM(G11:G396)","v":0},{"$f":"SUM(H11:H396)","v":0},{"$f":"SUM(I11:I396)","v":0},{"$f":"+G397+H397+I397","v":0},0,{"$f":"IF(K397<>0,(+K397/J397),\"\")","v":""},{"$f":"SUM(M11:M396)","v":0},{"$f":"SUM(N11:N396)","v":0},{"$f":"SUM(O11:O396)","v":0},0]

{"sheet":"Section IV THRU V","index":4,"n_rows":43,"n_cols":16,"rows_kept":43}
[{"$nulls":7},"ANNUAL STATEMENT FOR THE YEAR 2021 OF  ",{"$f":"IF('Section I'!$I$1<>0,+'Section I'!$I$1,\"\")","v":""},{"$nulls":6},{"$f":"+'Section I'!P1","v":"OMB No. 1530-0008"}]
[{"$nulls":9},"Write or Stamp Name",{"$nulls":5},{"$f":"+'Section III'!P2","v":" OMB Expiration Date:  6-30-2023"}]
["Schedule F - Part 1"]
[{"$f":"+'Section I'!A4","v":"Ceded Reinsurance as of December 31, Current Year (000's Omitted)"}]
[]
[null,{"$f":"+'Section III'!B6","v":"Authorized"},{"$f":"+'Section I'!C6","v":"Name of Reinsurer"},null,{"$f":"+'Section I'!E6","v":"+"},{"$f":"+'Section I'!F6","v":"(1)                      Reinsurance Premiums"},{"$f":"+'Section I'!G6","v":"(2)                                                                                                                                                                        Recoverable on Paid Losses and                                                                              Paid Loss Adjustment Expense, Days Overdue"},{"$nulls":3},{"$f":"+'Section I'!K6","v":"(3)                            Total           Overdue"},{"$f":"+'Section I'!L6","v":"(4)          Percentage Overdue     "},{"$f":"+'Section I'!M6","v":"(5)                       (Known Case) Reinsurance Recoverable on Unpaid Losses"},{"$f":"+'Section I'!N6","v":"(6)                   Incurred But Not Reported Losses and"},{"$f":"+'Section I'!O6","v":"(7)                 Unearned"},{"$f":"+'Section I'!P6","v":"(8)                                      Total Recoverable      "}]
[null,{"$f":"+'Section III'!B7","v":"Percentage"},{"$nulls":4},{"$f":"+'Section I'!G7","v":"(A)                    Current and              1 - 90"},{"$f":"+'Section I'!H7","v":"(B)                     91 - 120"},{"$f":"+'Section I'!I7","v":"(C)                  Over 120"},{"$f":"+'Section I'!J7","v":"(D)                           Total"},{"$f":"+'Section I'!K7","v":"(Col 2B + 2C)"},{"$f":"+'Section I'!L7","v":"(Col 3/Col 2D)"},{"$f":"+'Section I'!M7","v":"and Unpaid Loss Adjustment Expense"},{"$f":"+'Section I'!N7","v":"Loss Adjustment Expense"},{"$f":"+'Section I'!O7","v":"Premiums"},{"$f":"+'Section I'!P7","v":"(Cols 2D+5+6+7)"}]
["SECTION IV"]
["OTHER TREASURY AUTHORIZED POOLS AND ASSOCIATIONS:   "]
["    List any pools (not shown in Section III) in which Treasury authorized companies participate.  The Treasury authorized percentage may be computed by determining"]
["    the percentage of participation of Treasury authorized companies in the pool.  Do not include percentages of participation of any alien reinsurer.  List the pools"]
["    alphabetically, inserting the computed percentage to the left of each name and complete Columns 1 through 8.  In instances where the percentage is less than 100%,"]
["    the remainder should be shown under Section VII.  Submit on a separate sheet the names and percentage of participation of companies comprising the pools."]
["    Failure to submit this information will result in Treasury nonadmitting the cessions to these pools."]
["If you require additional worksheets to complete this section, goto Section IV of the overflow pages (orange tabs)."]
[{"$nulls":9},{"$f":"SUM(G16:I16)","v":0},{"$f":"+H16+I16","v":0},{"$f":"IF(K16<>0,+K16/J16,\"\")","v":""},{"$nulls":3},{"$f":"+J16+M16+N16+O16","v":0}]
[{"$nulls":9},0,0,"",{"$nulls":3},0]
[{"$nulls":9},0,0,"",{"$nulls":3},0]
[{"$nulls":9},0,0,"",{"$nulls":3},0]
[{"$nulls":9},0,0,"",{"$nulls":3},0]
[{"$nulls":9},0,0,"",{"$nulls":3},0]
[{"$nulls":9},0,0,"",{"$nulls":3},0]
[{"$nulls":9},0,0,"",{"$nulls":3},0]
[{"$nulls":9},0,0,"",{"$nulls":3},0]
[{"$nulls":9},0,0,"",{"$nulls":3},0]
[{"$nulls":9},0,0,"",{"$nulls":3},0]
[{"$nulls":9},0,0,"",{"$nulls":3},0]
[{"$nulls":9},0,0,"",{"$nulls":3},0]
["SECTION IV TOTALS WILL BE ENTERED IN SECTION V",{"$nulls":4},{"$f":"SUM(F16:F28)","v":0},{"$f":"SUM(G16:G28)","v":0},{"$f":"SUM(H16:H28)","v":0},{"$f":"SUM(I16:I28)","v":0},{"$f":"+G29+H29+I29","v":0},{"$f":"+H29+I29","v":0},{"$f":"IF(K29<>0,+(K29/J29),\"\")","v":""},{"$f":"SUM(M16:M28)","v":0},{"$f":"SUM(N16:N28)","v":0},{"$f":"SUM(O16:O28)","v":0},{"$f":"+J29+M29+N29+O29","v":0}]
[]
[]
["SECTION V"]
["TREASURY AUTHORIZED:"]
[]
["Total Section I (totals automatically copied from section I)",{"$nulls":4},{"$f":"+'Section I'!F342","v":0},{"$f":"+'Section I'!G342","v":0},{"$f":"+'Section I'!H342","v":0},{"$f":"+'Section I'!I342","v":0},{"$f":"+'Section I'!J342","v":0},{"$f":"+'Section I'!K342","v":0},{"$f":"+'Section I'!L342","v":""},{"$f":"+'Section I'!M342","v":0},{"$f":"+'Section I'!N342","v":0},{"$f":"+'Section I'!O342","v":0},{"$f":"+'Section I'!P342","v":0}]
["Total Section II",{"$nulls":4},{"$f":"+'Section II'!F39","v":0},{"$f":"+'Section II'!G39","v":0},{"$f":"+'Section II'!H39","v":0},{"$f":"+'Section II'!I39","v":0},{"$f":"+'Section II'!J39","v":0},{"$f":"+'Section II'!K39","v":0},{"$f":"+'Section II'!L39","v":""},{"$f":"+'Section II'!M39","v":0},{"$f":"+'Section II'!N39","v":0},{"$f":"+'Section II'!O39","v":0},{"$f":"+'Section II'!P39","v":0}]
["Total Section II Overflow Page (s) if applicable",{"$nulls":4},{"$f":"+'Section II Overflow Page'!F41+'Section II Overflow Page'!F83","v":0},{"$f":"+'Section II Overflow Page'!G41+'Section II Overflow Page'!G83","v":0},{"$f":"+'Section II Overflow Page'!H41+'Section II Overflow Page'!H83","v":0},{"$f":"+'Section II Overflow Page'!I41+'Section II Overflow Page'!I83","v":0},{"$f":"+G37+H37+I37","v":0},{"$f":"+H37+I37","v":0},{"$f":"IF(K37<>0,+K37/J37,\"\")","v":""},{"$f":"+'Section II Overflow Page'!M41+'Section II Overflow Page'!M83","v":0},{"$f":"+'Section II Overflow Page'!N41+'Section II Overflow Page'!N83","v":0},{"$f":"+'Section II Overflow Page'!O41+'Section II Overflow Page'!O83","v":0},{"$f":"+J37+M37+N37+O37","v":0}]
["Total Section III",{"$nulls":4},{"$f":"+'Section III'!F397","v":0},{"$f":"+'Section III'!G397","v":0},{"$f":"+'Section III'!H397","v":0},{"$f":"+'Section III'!I397","v":0},{"$f":"+'Section III'!J397","v":0},{"$f":"+'Section III'!K397","v":0},{"$f":"+'Section III'!L397","v":""},{"$f":"+'Section III'!M397","v":0},{"$f":"+'Section III'!N397","v":0},{"$f":"+'Section III'!O397","v":0},{"$f":"+'Section III'!P397","v":0}]
["Total Section IV",{"$nulls":4},{"$f":"+F29","v":0},{"$f":"+G29","v":0},0,0,0,0,"",0,0,0,0]
["Total Section IV Overflow Page (s) if applicable",{"$nulls":4},{"$f":"+'Section IV Overflow Page'!F41+'Section IV Overflow Page'!F83","v":0},{"$f":"+'Section IV Overflow Page'!G41+'Section IV Overflow Page'!G83","v":0},{"$f":"+'Section IV Overflow Page'!H41+'Section IV Overflow Page'!H83","v":0},{"$f":"+'Section IV Overflow Page'!I41+'Section IV Overflow Page'!I83","v":0},{"$f":"+G40+H40+I40","v":0},{"$f":"+H40+I40","v":0},{"$f":"IF(K40<>0,+K40/J40,\"\")","v":""},{"$f":"+'Section IV Overflow Page'!M41+'Section IV Overflow Page'!M83","v":0},{"$f":"+'Section IV Overflow Page'!N41+'Section IV Overflow Page'!N83","v":0},{"$f":"+'Section IV Overflow Page'!O41+'Section IV Overflow Page'!O83","v":0},{"$f":"+J40+M40+N40+O40","v":0}]
["Authorized Reinsurance from company produced worksheets not included in totals above",{"$nulls":8},{"$f":"+G41+H41+I41","v":0},{"$f":"+H41+I41","v":0},{"$f":"IF(K41>0,+K41/J41,\"\")","v":""},{"$nulls":3},{"$f":"+J41+M41+N41+O41","v":0}]
[]
["GRAND TOTAL TREASURY AUTHORIZED WILL BE ENTERED IN SECTION X",{"$nulls":4},{"$f":"SUM(F35:F41)","v":0},{"$f":"SUM(G35:G41)","v":0},{"$f":"SUM(H35:H41)","v":0},{"$f":"SUM(I35:I41)","v":0},{"$f":"+G43+H43+I43","v":0},{"$f":"+H43+I43","v":0},{"$f":"IF(K43<>0,+(K43/J43),\"\")","v":""},{"$f":"SUM(M35:M41)","v":0},{"$f":"SUM(N35:N41)","v":0},{"$f":"SUM(O35:O41)","v":0},{"$f":"+J43+M43+N43+O43","v":0}]

{"sheet":"Section VI","index":5,"n_rows":90,"n_cols":16,"rows_kept":90}
[{"$nulls":7},"ANNUAL STATEMENT FOR THE YEAR 2021 OF  ",{"$f":"IF('Section I'!$I$1<>0,+'Section I'!$I$1,\"\")","v":""},{"$nulls":6},{"$f":"+'Section I'!P1","v":"OMB No. 1530-0008"}]
[{"$nulls":9},"Write or Stamp Name",{"$nulls":5},{"$f":"+'Section IV THRU V'!P2","v":" OMB Expiration Date:  6-30-2023"}]
["Schedule F - Part 1"]
[{"$f":"+'Section I'!A4","v":"Ceded Reinsurance as of December 31, Current Year (000's Omitted)"}]
[]
[null,"Unauthorized",{"$f":"+'Section I'!C6","v":"Name of Reinsurer"},null,{"$f":"+'Section I'!E6","v":"+"},{"$f":"+'Section I'!F6","v":"(1)                      Reinsurance Premiums"},{"$f":"+'Section I'!G6","v":"(2)                                                                                                                                                                        Recoverable on Paid Losses and                                                                              Paid Loss Adjustment Expense, Days Overdue"},{"$nulls":3},{"$f":"+'Section I'!K6","v":"(3)                            Total           Overdue"},{"$f":"+'Section I'!L6","v":"(4)          Percentage Overdue     "},{"$f":"+'Section I'!M6","v":"(5)                       (Known Case) Reinsurance Recoverable on Unpaid Losses"},{"$f":"+'Section I'!N6","v":"(6)                   Incurred But Not Reported Losses and"},{"$f":"+'Section I'!O6","v":"(7)                 Unearned"},{"$f":"+'Section I'!P6","v":"(8)                                      Total Recoverable      "}]
[null,"Percentage",{"$nulls":3},{"$f":"+'Section I'!F7","v":"Ceded"},{"$f":"+'Section I'!G7","v":"(A)                    Current and              1 - 90"},{"$f":"+'Section I'!H7","v":"(B)                     91 - 120"},{"$f":"+'Section I'!I7","v":"(C)                  Over 120"},{"$f":"+'Section I'!J7","v":"(D)                           Total"},{"$f":"+'Section I'!K7","v":"(Col 2B + 2C)"},{"$f":"+'Section I'!L7","v":"(Col 3/Col 2D)"},{"$f":"+'Section I'!M7","v":"and Unpaid Loss Adjustment Expense"},{"$f":"+'Section I'!N7","v":"Loss Adjustment Expense"},{"$f":"+'Section I'!O7","v":"Premiums"},{"$f":"+'Section I'!P7","v":"(Cols 2D+5+6+7)"}]
["SECTION VI"]
["TREASURY UNAUTHORIZED POOLS AND ASSOCIATIONS:   "]
[]
[null,26,"Alabama Commercial Automobile Insurance Procedure (AIPSO)","Johnston, RI",{"$nulls":5},{"$f":"+G11+H11+I11","v":0},{"$f":"+H11+I11","v":0},{"$f":"IF(K11<>0,+(K11/J11),\"\")","v":""},{"$nulls":3},{"$f":"+J11+M11+N11+O11","v":0}]
[null,27,"Alabama Workers' Compensation Reinsurance Pool for Coal Mine Risks (NCCI)","Boca Raton, FL",{"$nulls":5},0,0,"",{"$nulls":3},0]
[null,45,"Alaska Workers' Compensation Assigned Risk Pool (NCCI)","Boca Raton, FL",{"$nulls":5},0,0,"",{"$nulls":3},0]
[null,7,"American Nuclear Insurers - Domestic Liability Syndicate","Glastonbury, CT",{"$nulls":5},0,0,"",{"$nulls":3},0]
[null,3,"American Nuclear Insurers - Domestic Property Syndicate","Glastonbury, CT",{"$nulls":5},0,0,"",{"$nulls":3},0]
[null,0,"American Nuclear Insurers - Foreign Property and Liability Syndicate","Glastonbury, CT",{"$nulls":5},0,0,"",{"$nulls":3},0]
[null,32,"Arizona Commercial Automobile Insurance Procedure (AIPSO)","Johnston, RI",{"$nulls":5},0,0,"",{"$nulls":3},0]
[null,31,"Arkansas Commercial Automobile Insurance Procedure","Johnston, RI",{"$nulls":5},0,0,"",{"$nulls":3},0]
[null,13,"Arkansas Mutual Assigned Risk Reinsurance Pool (NCCI)","Boca Raton, FL",{"$nulls":5},0,0,"",{"$nulls":3},0]
[null,37,"Arkansas Stock Pool for Assigned Risks (NCCI)","Boca Raton, FL",{"$nulls":5},0,0,"",{"$nulls":3},0]
[null,45,"Associated Aviation Underwriters","Short Hills, NJ",{"$nulls":5},0,0,"",{"$nulls":3},0]
[null,39,"California Commercial Automobile Insurance Procedure (AIPSO)","Johnston, RI",{"$nulls":5},0,0,"",{"$nulls":3},0]
[null,38,"Colorado Commercial Automobile Insurance Procedure (AIPSO)","Johnston, RI",{"$nulls":5},0,0,"",{"$nulls":3},0]
[null,73,"Commonwealth Automobile Reinsurers","Boston, MA",{"$nulls":5},0,0,"",{"$nulls":3},0]
[null,22,"Connecticut Commercial Automobile Insurance Procedure (AIPSO)","Johnston, RI",{"$nulls":5},0,0,"",{"$nulls":3},0]
[null,40,"Delaware Commercial Automobile Insurance Procedure (AIPSO)","Johnston, RI",{"$nulls":5},0,0,"",{"$nulls":3},0]
[null,17,"District of Columbia Commercial Automobile Insurance Procedure","Washington, DC",{"$nulls":5},0,0,"",{"$nulls":3},0]
[null,0,"Excise Bond Underwriters","New York, NY",{"$nulls":5},0,0,"",{"$nulls":3},0]
[null,38,"Georgia Commercial Automobile Insurance Procedure (AIPSO)","Johnston, RI",{"$nulls":5},0,0,"",{"$nulls":3},0]
[null,19,"Global Aerospace Underwriters","Short Hills, NJ",{"$nulls":5},0,0,"",{"$nulls":3},0]
[null,43,"Idaho Commercial Automobile Insurance Procedure (AIPSO)","Johnston, RI",{"$nulls":5},0,0,"",{"$nulls":3},0]
[null,48,"Illinois Commercial Automobile Insurance Procedure (AIPSO)","Johnston, RI",{"$nulls":5},0,0,"",{"$nulls":3},0]
[null,30,"Illinois Fair Plan Association","Chicago, IL",{"$nulls":5},0,0,"",{"$nulls":3},0]
[null,26,"Illinois Mutual Assigned Risk Reinsurance Pool (NCCI)","Boca Raton, FL",{"$nulls":5},0,0,"",{"$nulls":3},0]
[null,39,"Illinois Stock Pool For Assigned Risks (NCCI)","Boca Raton, FL",{"$nulls":5},0,0,"",{"$nulls":3},0]
[null,33,"Illinois Workers Compensation Reinsurance Pool For Coal Mine Risks (NCCI)","Boca Raton, FL",{"$nulls":5},0,0,"",{"$nulls":3},0]
[null,23,"Indiana Commercial Automobile Insurance Procedure (AIPSO)","Johnston, RI",{"$nulls":5},0,0,"",{"$nulls":3},0]
[null,33,"Iowa Commercial Automobile Insurance Procedure (AIPSO)","Johnston, RI",{"$nulls":5},0,0,"",{"$nulls":3},0]
[null,37,"Iowa Workers Compensation Reinsurance Pool For Coal Mine Risks (NCCI)","Boca Raton, FL",{"$nulls":5},0,0,"",{"$nulls":3},0]
[null,28,"Kansas Commerical Automobile Insurance Procedure (AIPSO)","Johnston, RI",{"$nulls":5},0,0,"",{"$nulls":3},0]
[null,20,"Kentucky Commercial Automobile Insurance Procedure (AIPSO)","Johnston, RI",{"$nulls":5},0,0,"",{"$nulls":3},0]
[null,25,"Kentucky Workers Compensation Reinsurance Pool For Coal Mine Risks (NCCI)","Boca Raton, FL",{"$nulls":5},0,0,"",{"$nulls":3},0]
[null,0,"Lloyd's Underwriters","London, DC",{"$nulls":5},{"$f":"+G43+H43+I43","v":0},{"$f":"+H43+I43","v":0},{"$f":"IF(K43<>0,+(K43/J43),\"\")","v":""},{"$nulls":3},{"$f":"+J43+M43+N43+O43","v":0}]
[null,39,"Louisiana Commercial Automobile Insurance Procedure (AIPSO)","Johnston, RI",{"$nulls":5},0,0,"",{"$nulls":3},0]
[null,44,"Maine Commercial Automobile Insurance Procedure (AIPSO)","Johnston, RI",{"$nulls":5},0,0,"",{"$nulls":3},0]
[null,31,"Maine Workers Compensation Reinsurance Pool","Boca Raton, FL",{"$nulls":5},0,0,"",{"$nulls":3},0]
[null,33,"Massachusetts Voluntary Non-Stock Assigned Risk Pool For Workmens Compensation Insurance","Boston, MA",{"$nulls":5},0,0,"",{"$nulls":3},0]
[null,39,"Massachusetts Workers Compenstation Assigned Risk Pool (NCCI)","Boca Raton, FL",{"$nulls":5},0,0,"",{"$nulls":3},0]
[null,86,"Michigan Catastrophic Claims Association (MCCA)","Livonia, MI",{"$nulls":5},0,0,"",{"$nulls":3},0]
[null,54,"Michigan Workers Compensation Placement Facility (NCCI)","Boca Raton, FL",{"$nulls":5},0,0,"",{"$nulls":3},0]
[null,33,"Minnesota Commercial Automobile Insurance Procedure (AIPSO)","Johnston, RI",{"$nulls":5},0,0,"",{"$nulls":3},0]
[null,35,"Minnesota Workers' Compensation Insurers Association, Inc.","Minneapolis, MN",{"$nulls":5},0,0,"",{"$nulls":3},0]
[null,28,"Mississippi Commercial Automobile Insurance Procedure (AIPSO)","Johnston, RI",{"$nulls":5},0,0,"",{"$nulls":3},0]
[null,41,"Missouri Commercial Automobile Insurance Procedure (AIPSO)","Johnston, RI",{"$nulls":5},0,0,"",{"$nulls":3},0]
[null,33,"Montana Commercial Automobile Insurance Procedure (AIPSO)","Johnston, RI",{"$nulls":5},0,0,"",{"$nulls":3},0]
[null,60,"Mutual Reinsurance Bureau","Cherry Valley, IL",{"$nulls":5},0,0,"",{"$nulls":3},0]
[null,55,"National Workers' Compensation Reinsurance Pool (NCCI)","Boca Raton, FL",{"$nulls":5},0,0,"",{"$nulls":3},0]
[null,34,"Nebraska Commercial Automobile Insurance Procedure (AIPSO)","Johnston, RI",{"$nulls":5},0,0,"",{"$nulls":3},0]
[null,37,"Nevada Commercial Automobile Insurance Procedure (AIPSO)","Johnston, RI",{"$nulls":5},0,0,"",{"$nulls":3},0]
[null,76,"New Hampshire Commercial Automobile Insurance Procedure (AIPSO)","Johnston, RI",{"$nulls":5},0,0,"",{"$nulls":3},0]
[null,44,"New Hampshire Reinsurance Facility Automobile (AIPSO)","Johnston, RI",{"$nulls":5},0,0,"",{"$nulls":3},0]
[null,52,"New Jersey Commercial Automobile Insurance Procedure (AIPSO)","Johnston, RI",{"$nulls":5},0,0,"",{"$nulls":3},0]
[null,26,"New Mexico Commercial Automobile Insurance Procedure (AIPSO)","Johnston, RI",{"$nulls":5},0,0,"",{"$nulls":3},0]
[null,59,"New Mexico Workers' Compensation Assigned Risk Pool (NCCI)","Boca Raton, FL",{"$nulls":5},0,0,"",{"$nulls":3},0]
[null,51,"New York Special Risk Distribution Program (AIPSO)","Johnston, RI",{"$nulls":5},0,0,"",{"$nulls":3},0]
[null,77,"North Carolina Reinsurance Facility (AIPSO)","Johnston, RI",{"$nulls":5},0,0,"",{"$nulls":3},0]
[null,35,"North Dakota Commercial Automobile Insurance Procedure (AIPSO)","Johnston, RI",{"$nulls":5},0,0,"",{"$nulls":3},0]
[null,22,"Ohio Commerical Automobile Insurance Procedure (AIPSO)","Johnston, RI",{"$nulls":5},0,0,"",{"$nulls":3},0]
[null,27,"Oklahoma Commercial Automobile Insurance Procedure (AIPSO)","Johnston, RI",{"$nulls":5},0,0,"",{"$nulls":3},0]
[null,47,"Oregon Commercial Automobile Insurance Procedure (AIPSO)","Johnston, RI",{"$nulls":5},0,0,"",{"$nulls":3},0]
[null,37,"Pennsylvania Pooled Commercial Assignment Procedure (AIPSO)","Johnston, RI",{"$nulls":5},0,0,"",{"$nulls":3},0]
[null,28,"Pennsylvania Workers Compensation Insurance Plan and Reinsurance Pool (NCCI)","Boca Raton, FL",{"$nulls":5},0,0,"",{"$nulls":3},0]
[null,29,"Rhode Island Commercial Automobile Insurance Procedure (AIPSO)","Johnston, RI",{"$nulls":5},0,0,"",{"$nulls":3},0]
[null,30,"South Carolina Commercial Automobile Insurance Procedure (AIPSO)","Johnston, RI",{"$nulls":5},0,0,"",{"$nulls":3},0]
[null,44,"South Dakota Commercial Automobile Insurance Procedure (AIPSO)","Johnston, RI",{"$nulls":5},{"$f":"+G75+H75+I75","v":0},{"$f":"+H75+I75","v":0},{"$f":"IF(K75<>0,+(K75/J75),\"\")","v":""},{"$nulls":3},{"$f":"+J75+M75+N75+O75","v":0}]
[null,27,"Tennessee Commercial Automobile Insurance Procedure (AIPSO)","Johnston, RI",{"$nulls":5},0,0,"",{"$nulls":3},0]
[null,53,"Tennessee Workers' Compensation Reinsurance Pool (NCCI)","Boca Raton, FL",{"$nulls":5},0,0,"",{"$nulls":3},0]
[null,33,"Tennessee Workers' Compensation Reinsurance Pool For Coal Mine Risks (NCCI)","Boca Raton, FL",{"$nulls":5},0,0,"",{"$nulls":3},0]
[null,0,"United States Aircraft Insurance Group","New York, NY",{"$nulls":5},0,0,"",{"$nulls":3},0]
[null,32,"Utah Commercial Automobile Insurance Procedure (AIPSO)","Johnston, RI",{"$nulls":5},0,0,"",{"$nulls":3},0]
[null,40,"Vermont Commercial Automobile Insurance Procedure (AIPSO)","Johnston, RI",{"$nulls":5},0,0,"",{"$nulls":3},0]
[null,27,"Virginia Commercial Automobile Insurance Procedure (AIPSO)","Johnston, RI",{"$nulls":5},0,0,"",{"$nulls":3},0]
[null,34,"Virginia Workers Compensation Reinsurance Pool For Coal Mine Risks (NCCI)","Boca Raton, FL",{"$nulls":5},0,0,"",{"$nulls":3},0]
[null,36,"Washington Commercial Automobile Insurance Procedure (AIPSO)","Johnston, RI",{"$nulls":5},0,0,"",{"$nulls":3},0]
[null,11,"West Virginia Commercial Automobile Insurance Procedure (AIPSO)","Johnston, RI",{"$nulls":5},0,0,"",{"$nulls":3},0]
[null,32,"Wisconsin Special Risk Distrib. Program (AIPSO)","Johnston, RI",{"$nulls":5},0,0,"",{"$nulls":3},0]
[null,39,"Wisconsin Workers Compensation Insurance Pool","Milwaukee, WI",{"$nulls":5},0,0,"",{"$nulls":3},0]
[null,65,"Workers Compensation Reinsurance Association","St. Paul, MN",{"$nulls":5},0,0,"",{"$nulls":3},0]
[null,39,"Wyoming Commercial Automobile Insurance Procedure (AIPSO)","Johnston, RI",{"$nulls":5},0,0,"",{"$nulls":3},0]
["SECTION VI TOTALS WILL BE ENTERED IN SECTION IX",{"$nulls":4},{"$f":"SUM(F11:F89)","v":0},{"$f":"SUM(G11:G89)","v":0},{"$f":"SUM(H11:H89)","v":0},{"$f":"SUM(I11:I89)","v":0},0,0,{"$f":"IF(K90<>0,+K90/J90,\"\")","v":""},{"$f":"SUM(M11:M89)","v":0},{"$f":"SUM(N11:N89)","v":0},{"$f":"SUM(O11:O89)","v":0},0]

{"sheet":"Section VII","index":6,"n_rows":40,"n_cols":16,"rows_kept":40}
[{"$nulls":7},"ANNUAL STATEMENT FOR THE YEAR 2021 OF  ",{"$f":"IF('Section I'!$I$1<>0,+'Section I'!$I$1,\"\")","v":""},{"$nulls":6},{"$f":"+'Section I'!P1","v":"OMB No. 1530-0008"}]
[{"$nulls":9},"Write or Stamp Name",{"$nulls":5},{"$f":"+'Section VI'!P2","v":" OMB Expiration Date:  6-30-2023"}]
["Schedule F - Part 1"]
[{"$f":"+'Section I'!A4","v":"Ceded Reinsurance as of December 31, Current Year (000's Omitted)"}]
[]
[null,{"$f":"+'Section VI'!B6:B6","v":"Unauthorized"},{"$f":"+'Section VI'!C6","v":"Name of Reinsurer"},null,{"$f":"+'Section VI'!E6","v":"+"},{"$f":"+'Section VI'!F6","v":"(1)                      Reinsurance Premiums"},{"$f":"+'Section VI'!G6","v":"(2)                                                                                                                                                                        Recoverable on Paid Losses and                                                                              Paid Loss Adjustment Expense, Days Overdue"},{"$nulls":3},{"$f":"+'Section VI'!K6","v":"(3)                            Total           Overdue"},{"$f":"+'Section VI'!L6","v":"(4)          Percentage Overdue     "},{"$f":"+'Section VI'!M6","v":"(5)                       (Known Case) Reinsurance Recoverable on Unpaid Losses"},{"$f":"+'Section VI'!N6","v":"(6)                   Incurred But Not Reported Losses and"},{"$f":"+'Section VI'!O6","v":"(7)                 Unearned"},{"$f":"+'Section VI'!P6","v":"(8)                                      Total Recoverable      "}]
[null,{"$f":"+'Section VI'!B7","v":"Percentage"},{"$nulls":3},{"$f":"+'Section VI'!F7","v":"Ceded"},{"$f":"+'Section VI'!G7","v":"(A)                    Current and              1 - 90"},{"$f":"+'Section VI'!H7","v":"(B)                     91 - 120"},{"$f":"+'Section VI'!I7","v":"(C)                  Over 120"},{"$f":"+'Section VI'!J7","v":"(D)                           Total"},{"$f":"+'Section VI'!K7","v":"(Col 2B + 2C)"},{"$f":"+'Section VI'!L7","v":"(Col 3/Col 2D)"},{"$f":"+'Section VI'!M7","v":"and Unpaid Loss Adjustment Expense"},{"$f":"+'Section VI'!N7","v":"Loss Adjustment Expense"},{"$f":"+'Section VI'!O7","v":"Premiums"},{"$f":"+'Section VI'!P7","v":"(Cols 2D+5+6+7)"}]
["SECTION VII"]
["OTHER TREASURY UNAUTHORIZED POOLS AND ASSOCIATIONS:   "]
["    List pools and associations as shown in Section IV.  Show the percentage of unauthorized reinsurance as the difference between the percentage authorized in"]
["    Section IV and 100%.  Also, list other pools and associations appearing on Schedule F of your annual financial statement and not listed in Sections III, IV, or VI."]
["If you require additional worksheets to complete this section, goto the overflow page for Section VII (orange tab)."]
[{"$nulls":9},{"$f":"+G13+H13+I13","v":0},{"$f":"+H13+I13","v":0},{"$f":"IF(K13<>0,+K13/J13,\"\")","v":""},{"$nulls":3},{"$f":"+J13+M13+N13+O13","v":0}]
[{"$nulls":9},0,0,"",{"$nulls":3},0]
[{"$nulls":9},0,0,"",{"$nulls":3},0]
[{"$nulls":9},0,0,"",{"$nulls":3},0]
[{"$nulls":9},0,0,"",{"$nulls":3},0]
[{"$nulls":9},0,0,"",{"$nulls":3},0]
[{"$nulls":9},0,0,"",{"$nulls":3},0]
[{"$nulls":9},0,0,"",{"$nulls":3},0]
[{"$nulls":9},0,0,"",{"$nulls":3},0]
[{"$nulls":9},0,0,"",{"$nulls":3},0]
[{"$nulls":9},0,0,"",{"$nulls":3},0]
[{"$nulls":9},0,0,"",{"$nulls":3},0]
[{"$nulls":9},0,0,"",{"$nulls":3},0]
[{"$nulls":9},0,0,"",{"$nulls":3},0]
[{"$nulls":9},0,0,"",{"$nulls":3},0]
[{"$nulls":9},0,0,"",{"$nulls":3},0]
[{"$nulls":9},0,0,"",{"$nulls":3},0]
[{"$nulls":9},0,0,"",{"$nulls":3},0]
[{"$nulls":9},0,0,"",{"$nulls":3},0]
[{"$nulls":9},0,0,"",{"$nulls":3},0]
[{"$nulls":9},0,0,"",{"$nulls":3},0]
[{"$nulls":9},0,0,"",{"$nulls":3},0]
[{"$nulls":9},0,0,"",{"$nulls":3},0]
[{"$nulls":9},0,0,"",{"$nulls":3},0]
[{"$nulls":9},0,0,"",{"$nulls":3},0]
[{"$nulls":9},0,0,"",{"$nulls":3},0]
[{"$nulls":9},0,0,"",{"$nulls":3},0]
["SECTION VII TOTALS WILL BE ENTERED IN SECTION IX",{"$nulls":4},{"$f":"SUM(F13:F39)","v":0},{"$f":"SUM(G13:G39)","v":0},{"$f":"SUM(H13:H39)","v":0},{"$f":"SUM(I13:I39)","v":0},{"$f":"+G40+H40+I40","v":0},{"$f":"+H40+I40","v":0},{"$f":"IF(K40<>0,+(K40/J40),\"\")","v":""},{"$f":"SUM(M13:M39)","v":0},{"$f":"SUM(N13:N39)","v":0},{"$f":"SUM(O13:O39)","v":0},{"$f":"+J40+M40+N40+O40","v":0}]

{"sheet":"Section VIII thru X","index":7,"n_rows":112,"n_cols":17,"rows_kept":112}
[{"$nulls":7},"ANNUAL STATEMENT FOR THE YEAR 2021 OF  ",{"$f":"IF('Section I'!$I$1<>0,+'Section I'!$I$1,\"\")","v":""},{"$nulls":6},{"$f":"+'Section I'!P1","v":"OMB No. 1530-0008"}]
[{"$nulls":9},"Write or Stamp Name",{"$nulls":5},{"$f":"+'Section VII'!P2","v":" OMB Expiration Date:  6-30-2023"}]
["Schedule F - Part 1"]
[{"$f":"+'Section I'!A4","v":"Ceded Reinsurance as of December 31, Current Year (000's Omitted)"}]
[]
[{"$f":"+'Section I'!A6","v":"Federal ID"},{"$f":"+'Section I'!B6","v":"NAIC Company "},{"$f":"+'Section I'!C6","v":"Name of Reinsurer"},{"$f":"+'Section I'!D6","v":"Domiciliary"},{"$f":"+'Section I'!E6","v":"+"},{"$f":"+'Section I'!F6","v":"(1)                      Reinsurance Premiums"},{"$f":"+'Section I'!G6","v":"(2)                                                                                                                                                                        Recoverable on Paid Losses and                                                                              Paid Loss Adjustment Expense, Days Overdue"},{"$nulls":3},{"$f":"+'Section I'!K6","v":"(3)                            Total           Overdue"},{"$f":"+'Section I'!L6","v":"(4)          Percentage Overdue     "},{"$f":"+'Section I'!M6","v":"(5)                       (Known Case) Reinsurance Recoverable on Unpaid Losses"},{"$f":"+'Section I'!N6","v":"(6)                   Incurred But Not Reported Losses and"},{"$f":"+'Section I'!O6","v":"(7)                 Unearned"},{"$f":"+'Section I'!P6","v":"(8)                                      Total Recoverable      "}]
[{"$f":"+'Section I'!A7","v":"Number"},{"$f":"+'Section I'!B7","v":"Code"},null,{"$f":"+'Section I'!D7","v":"Jurisdiction"},null,{"$f":"+'Section I'!F7","v":"Ceded"},{"$f":"+'Section I'!G7","v":"(A)                    Current and              1 - 90"},{"$f":"+'Section I'!H7","v":"(B)                     91 - 120"},{"$f":"+'Section I'!I7","v":"(C)                  Over 120"},{"$f":"+'Section I'!J7","v":"(D)                           Total"},{"$f":"+'Section I'!K7","v":"(Col 2B + 2C)"},{"$f":"+'Section I'!L7","v":"(Col 3/Col 2D)"},{"$f":"+'Section I'!M7","v":"and Unpaid Loss Adjustment Expense"},{"$f":"+'Section I'!N7","v":"Loss Adjustment Expense"},{"$f":"+'Section I'!O7","v":"Premiums"},{"$f":"+'Section I'!P7","v":"(Cols 2D+5+6+7)"}]
["SECTION VIII"]
["TREASURY UNAUTHORIZED COMPANIES: "]
["    List alphabetically the names of all companies appearing in Schedule F, Part 3 of your company's annual financial statement which are not listed in"]
["     Sections I and II, including unauthorized parents and affiliates, and complete Columns 1 through 8."]
["If you require additional worksheets to complete this section, goto the overflow pages for section VIII (orange tabs)."]
[{"$nulls":9},{"$f":"+G13+H13+I13","v":0},{"$f":"+H13+I13","v":0},{"$f":"IF(K13<>0,+(K13/J13),\"\")","v":""},{"$nulls":3},{"$f":"+J13+M13+N13+O13","v":0}]
[{"$nulls":9},{"$f":"+G14+H14+I14","v":0},{"$f":"+H14+I14","v":0},{"$f":"IF(K14<>0,+(K14/J14),\"\")","v":""},{"$nulls":3},{"$f":"+J14+M14+N14+O14","v":0}]
[{"$nulls":9},0,0,"",{"$nulls":3},0]
[{"$nulls":9},0,0,"",{"$nulls":3},0]
[{"$nulls":9},0,0,"",{"$nulls":3},0]
[{"$nulls":9},0,0,"",{"$nulls":3},0]
[{"$nulls":9},0,0,"",{"$nulls":3},0]
[{"$nulls":9},0,0,"",{"$nulls":3},0]
[{"$nulls":9},0,0,"",{"$nulls":3},0]
[{"$nulls":9},0,0,"",{"$nulls":3},0]
[{"$nulls":9},0,0,"",{"$nulls":3},0]
[{"$nulls":9},0,0,"",{"$nulls":3},0]
[{"$nulls":9},0,0,"",{"$nulls":3},0]
[{"$nulls":9},0,0,"",{"$nulls":3},0]
[{"$nulls":9},0,0,"",{"$nulls":3},0]
[{"$nulls":9},0,0,"",{"$nulls":3},0]
[{"$nulls":9},0,0,"",{"$nulls":3},0]
[{"$nulls":9},0,0,"",{"$nulls":3},0]
[{"$nulls":9},0,0,"",{"$nulls":3},0]
[{"$nulls":9},0,0,"",{"$nulls":3},0]
[{"$nulls":9},0,0,"",{"$nulls":3},0]
[{"$nulls":9},0,0,"",{"$nulls":3},0]
[{"$nulls":9},0,0,"",{"$nulls":3},0]
[{"$nulls":9},0,0,"",{"$nulls":3},0]
[{"$nulls":9},0,0,"",{"$nulls":3},0]
[{"$nulls":9},0,0,"",{"$nulls":3},0]
[{"$nulls":9},0,0,"",{"$nulls":3},0]
[{"$nulls":9},0,0,"",{"$nulls":3},0]
[{"$nulls":9},0,0,"",{"$nulls":3},0]
[{"$nulls":9},0,0,"",{"$nulls":3},0]
[{"$nulls":9},0,0,"",{"$nulls":3},0]
[{"$nulls":9},0,0,"",{"$nulls":3},0]
[{"$nulls":9},0,0,"",{"$nulls":3},0]
[{"$nulls":9},0,0,"",{"$nulls":3},0]
[{"$nulls":9},0,0,"",{"$nulls":3},0]
[{"$nulls":9},0,0,"",{"$nulls":3},0]
[{"$nulls":9},0,0,"",{"$nulls":3},0]
[{"$nulls":9},0,0,"",{"$nulls":3},0]
[{"$nulls":9},0,0,"",{"$nulls":3},0]
[{"$nulls":9},0,0,"",{"$nulls":3},0]
[{"$nulls":9},0,0,"",{"$nulls":3},0]
[{"$nulls":9},0,0,"",{"$nulls":3},0]
[{"$nulls":9},0,0,"",{"$nulls":3},0]
[{"$nulls":9},0,0,"",{"$nulls":3},0]
[{"$nulls":9},0,0,"",{"$nulls":3},0]
[{"$nulls":9},0,0,"",{"$nulls":3},0]
[{"$nulls":9},0,0,"",{"$nulls":3},0]
[{"$nulls":9},0,0,"",{"$nulls":3},0]
[{"$nulls":9},0,0,"",{"$nulls":3},0]
[{"$nulls":9},0,0,"",{"$nulls":3},0]
[{"$nulls":9},0,0,"",{"$nulls":3},0]
[{"$nulls":9},0,0,"",{"$nulls":3},0]
[{"$nulls":9},0,0,"",{"$nulls":3},0]
[{"$nulls":9},0,0,"",{"$nulls":3},0]
[{"$nulls":9},0,0,"",{"$nulls":3},0]
[{"$nulls":9},0,0,"",{"$nulls":3},0]
[{"$nulls":9},0,0,"",{"$nulls":3},0]
[{"$nulls":9},0,0,"",{"$nulls":3},0]
[{"$nulls":9},0,0,"",{"$nulls":3},0]
[{"$nulls":9},0,0,"",{"$nulls":3},0]
[{"$nulls":9},0,0,"",{"$nulls":3},0]
[{"$nulls":9},0,0,"",{"$nulls":3},0]
[{"$nulls":9},0,{"$f":"+H75+I75","v":0},"",{"$nulls":3},0]
[{"$nulls":9},0,0,"",{"$nulls":3},0]
[{"$nulls":9},0,0,"",{"$nulls":3},0]
[{"$nulls":9},{"$f":"+G78+H78+I78","v":0},{"$f":"+H78+I78","v":0},{"$f":"IF(K78<>0,+(K78/J78),\"\")","v":""},{"$nulls":3},{"$f":"+J78+M78+N78+O78","v":0}]
[{"$nulls":9},0,0,"",{"$nulls":3},0]
[{"$nulls":9},0,0,"",{"$nulls":3},0]
[{"$nulls":9},0,0,"",{"$nulls":3},0]
[{"$nulls":9},0,0,"",{"$nulls":3},0]
[{"$nulls":9},0,0,"",{"$nulls":3},0]
[{"$nulls":9},0,0,"",{"$nulls":3},0]
[{"$nulls":9},0,0,"",{"$nulls":3},0]
["SECTION VIII TOTALS WILL BE ENTERED IN SECTION IX",{"$nulls":4},{"$f":"SUM(F13:F85)","v":0},{"$f":"SUM(G13:G85)","v":0},{"$f":"SUM(H13:H85)","v":0},{"$f":"SUM(I13:I85)","v":0},{"$f":"+G86+H86+I86","v":0},{"$f":"+H86+I86","v":0},{"$f":"IF(K86<>0,+(K86/J86),\"\")","v":""},{"$f":"SUM(M13:M85)","v":0},{"$f":"SUM(N13:N85)","v":0},{"$f":"SUM(O13:O85)","v":0},{"$f":"+J86+M86+N86+O86","v":0}]
[]
["SECTION IX"]
["TREASURY UNAUTHORIZED:"]
[]
["Total Section VI",{"$nulls":4},{"$f":"+'Section VI'!F90","v":0},{"$f":"+'Section VI'!G90","v":0},{"$f":"+'Section VI'!H90","v":0},{"$f":"+'Section VI'!I90","v":0},{"$f":"+'Section VI'!J90","v":0},{"$f":"+'Section VI'!K90","v":0},{"$f":"+'Section VI'!L90","v":""},{"$f":"+'Section VI'!M90","v":0},{"$f":"+'Section VI'!N90","v":0},{"$f":"+'Section VI'!O90","v":0},{"$f":"+'Section VI'!P90","v":0}]
["Total Section VII",{"$nulls":4},{"$f":"+'Section VII'!F40","v":0},{"$f":"+'Section VII'!G40","v":0},{"$f":"+'Section VII'!H40","v":0},{"$f":"+'Section VII'!I40","v":0},{"$f":"+'Section VII'!J40","v":0},{"$f":"+'Section VII'!K40","v":0},{"$f":"+'Section VII'!L40","v":""},{"$f":"+'Section VII'!M40","v":0},{"$f":"+'Section VII'!N40","v":0},{"$f":"+'Section VII'!O40","v":0},{"$f":"+'Section VII'!P40","v":0}]
["Total Section VII Overflow Page (s) if applicable",{"$nulls":4},{"$f":"+'Section VII Overflow Page'!F40+'Section VII Overflow Page'!F82","v":0},{"$f":"+'Section VII Overflow Page'!G40+'Section VII Overflow Page'!G82","v":0},{"$f":"+'Section VII Overflow Page'!H40+'Section VII Overflow Page'!H82","v":0},{"$f":"+'Section VII Overflow Page'!I40+'Section VII Overflow Page'!I82","v":0},{"$f":"+G93+H93+I93","v":0},{"$f":"+H93+I93","v":0},{"$f":"IF(K93<>0,+K93/J93,\"\")","v":""},{"$f":"+'Section VII Overflow Page'!M40+'Section VII Overflow Page'!M82","v":0},{"$f":"+'Section VII Overflow Page'!N40+'Section VII Overflow Page'!N82","v":0},{"$f":"+'Section VII Overflow Page'!O40+'Section VII Overflow Page'!O82","v":0},{"$f":"+J93+M93+N93+O93","v":0}]
["Total Section VIII",{"$nulls":4},{"$f":"+F86","v":0},{"$f":"+G86","v":0},0,0,0,0,"",0,0,0,0]
["Total Section VIII Overflow Page (s) if applicable",{"$nulls":4},{"$f":"+'Section VIII Overflow Page'!F40+'Section VIII Overflow Page'!F82+'Section VIII Overflow Page'!F124+'Section VIII Overflow Page'!F166","v":0},{"$f":"+'Section VIII Overflow Page'!G40+'Section VIII Overflow Page'!G82+'Section VIII Overflow Page'!G124+'Section VIII Overflow Page'!G166","v":0},{"$f":"+'Section VIII Overflow Page'!H40+'Section VIII Overflow Page'!H82+'Section VIII Overflow Page'!H124+'Section VIII Overflow Page'!H166","v":0},{"$f":"+'Section VIII Overflow Page'!I40+'Section VIII Overflow Page'!I82+'Section VIII Overflow Page'!I124+'Section VIII Overflow Page'!I166","v":0},{"$f":"+G95+H95+I95","v":0},{"$f":"+H95+I95","v":0},{"$f":"IF(K95<>0,+K95/J95,\"\")","v":""},{"$f":"+'Section VIII Overflow Page'!M40+'Section VIII Overflow Page'!M82+'Section VIII Overflow Page'!M124+'Section VIII Overflow Page'!M166","v":0},{"$f":"+'Section VIII Overflow Page'!N40+'Section VIII Overflow Page'!N82+'Section VIII Overflow Page'!N124+'Section VIII Overflow Page'!N166","v":0},{"$f":"+'Section VIII Overflow Page'!O40+'Section VIII Overflow Page'!O82+'Section VIII Overflow Page'!O124+'Section VIII Overflow Page'!O166","v":0},{"$f":"+J95+M95+N95+O95","v":0}]
["Unauthorized Reinsurance from company produced worksheets not included in totals above",{"$nulls":8},{"$f":"+G96+H96+I96","v":0},{"$f":"+H96+I96","v":0},{"$f":"IF(K96>0,+K96/J96,\"\")","v":""},{"$nulls":3},{"$f":"+J96+M96+N96+O96","v":0}]
[]
["Grand Total Treasury Unauthorized: (Enter in Section X)"]
["(Enter the total of Column 8 on the last page of this Schedule)",{"$nulls":4},{"$f":"SUM(F91:F96)","v":0},{"$f":"SUM(G91:G96)","v":0},{"$f":"SUM(H91:H96)","v":0},{"$f":"SUM(I91:I96)","v":0},{"$f":"+G99+H99+I99","v":0},{"$f":"+H99+I99","v":0},{"$f":"IF(K99<>0,+(K99/J99),\"\")","v":""},{"$f":"SUM(M91:M96)","v":0},{"$f":"SUM(N91:N96)","v":0},{"$f":"SUM(O91:O96)","v":0},{"$f":"+J99+M99+N99+O99","v":0}]
[]
["SECTION X"]
["ALL REINSURANCE:"]
[]
["Total Section V",{"$nulls":4},{"$f":"+'Section IV THRU V'!F43","v":0},{"$f":"+'Section IV THRU V'!G43","v":0},{"$f":"+'Section IV THRU V'!H43","v":0},{"$f":"+'Section IV THRU V'!I43","v":0},{"$f":"+'Section IV THRU V'!J43","v":0},{"$f":"+'Section IV THRU V'!K43","v":0},{"$f":"+'Section IV THRU V'!L43","v":""},{"$f":"+'Section IV THRU V'!M43","v":0},{"$f":"+'Section IV THRU V'!N43","v":0},{"$f":"+'Section IV THRU V'!O43","v":0},{"$f":"+'Section IV THRU V'!P43","v":0}]
["Total Section IX",{"$nulls":4},{"$f":"+F99","v":0},{"$f":"+G99","v":0},0,0,0,0,"",0,0,0,0]
["GRAND TOTAL:  ALL REINSURANCE"]
[" (Should agree with Schedule F - Part 3 of the Annual Financial Statement",{"$nulls":4},{"$f":"+F104+F105","v":0},0,0,0,0,0,{"$f":"IF(K107<>0,+(K107/J107),\"\")","v":""},{"$f":"+M104+M105","v":0},{"$f":"+N104+N105","v":0},{"$f":"+O104+O105","v":0},{"$f":"+P104+P105","v":0}]
[]
[{"$nulls":14},"Statutory Schedule F Reconciliation (To be completed by company)"]
[{"$nulls":14},"Per Schedule F Part 3 - Column 15 Total",0,"Column 15 Total"]
[{"$nulls":14},"Less Contingent Commissions",0,"Column 14 Total"]
[{"$nulls":15},{"$f":"P107-P110+P111","v":0},"Difference"]

{"sheet":"Funds Held Section","index":8,"n_rows":71,"n_cols":12,"rows_kept":71}
[{"$nulls":6},"ANNUAL STATEMENT FOR THE YEAR 2021 OF  ",{"$f":"IF('Section I'!$I$1<>0,+'Section I'!$I$1,\"\")","v":""},{"$nulls":3},{"$f":"+'Section I'!P1","v":"OMB No. 1530-0008"}]
[{"$nulls":8},"Write or Stamp Name",null,null,{"$f":"+'Section VIII thru X'!P2","v":" OMB Expiration Date:  6-30-2023"}]
["SCHEDULE F - Part 2"]
["Funds Withheld on Account of Reinsurance in Unauthorized Companies as of December 31, Current Year (000's Omitted)"]
[]
[{"$nulls":5},"(2)"]
["Federal ID Number","NAIC Company Code","Name of Reinsurer","Domiciliary Jurisdiction","(1)                     Reinsurance Recoverables From Unauthorized Companies - All Items From Part 1, Section IX, Col. 8","(A)                                       Funds Held By Company Under Reinsurance Treaties","(B)                                   Letters of Credit","(C)                                       Trust Agreements","(D)                                       Other Allowed Offset Items","(E)                                        Total Funds Held (Cols 2A Through 2D)","(3)                                         Total Credit Allowed For Funds Held (Smaller of Col 1 or Col 2E)","(4)                                            Past Due Reinsurance Recoverable from Part 1, Section IX, Col 3"]
["Companies may take credit for acceptable offsets to unauthorized reinsurance recoverables.  Offsets can include funds held, letters of credit (issued by a bank on the NAIC approved bank list), "]
["and trust funds.  Reinsurance payables are acceptable so long as a legal right of offset exists in the contract language.  Evidence should be submitted in support of such offsets for large or  "]
["material amounts.  Materiality for Treasury purposes normally falls within a range of 5-10% of the reporting company's policyholders' surplus."]
["If you require additional worksheets to complete this section, please goto the funds held overflow page (orange tabs)."]
[{"$nulls":9},{"$f":"SUM(F12:I12)","v":0},{"$f":"IF(E12<J12,+E12,+J12)","v":0}]
[{"$nulls":9},0,0]
[{"$nulls":9},0,0]
[{"$nulls":9},0,0]
[{"$nulls":9},0,0]
[{"$nulls":9},0,0]
[{"$nulls":9},0,0]
[{"$nulls":9},0,0]
[{"$nulls":9},0,0]
[{"$nulls":9},0,0]
[{"$nulls":9},0,0]
[{"$nulls":9},0,0]
[{"$nulls":9},0,0]
[{"$nulls":9},0,0]
[{"$nulls":9},0,0]
[{"$nulls":9},0,0]
[{"$nulls":9},0,0]
[{"$nulls":9},0,0]
[{"$nulls":9},0,0]
[{"$nulls":9},0,0]
[{"$nulls":9},0,0]
[{"$nulls":9},0,0]
[{"$nulls":9},0,0]
[{"$nulls":9},0,0]
[{"$nulls":9},0,0]
[{"$nulls":9},0,0]
[{"$nulls":9},0,0]
[{"$nulls":9},0,0]
[{"$nulls":9},0,0]
[{"$nulls":9},0,0]
[{"$nulls":9},0,0]
[{"$nulls":9},0,0]
[{"$nulls":9},0,0]
[{"$nulls":9},0,0]
[{"$nulls":9},0,0]
[{"$nulls":9},0,0]
[{"$nulls":9},0,0]
[{"$nulls":9},0,0]
[{"$nulls":9},0,0]
[{"$nulls":9},0,0]
[{"$nulls":9},0,0]
[{"$nulls":9},0,0]
[{"$nulls":9},0,0]
[{"$nulls":9},0,0]
[{"$nulls":9},0,0]
[{"$nulls":9},0,0]
[{"$nulls":9},0,0]
[{"$nulls":9},0,0]
[{"$nulls":9},0,0]
[{"$nulls":9},0,0]
[{"$nulls":9},0,0]
[{"$nulls":9},0,0]
[{"$nulls":9},0,0]
[{"$nulls":9},0,0]
[{"$nulls":9},0,0]
[{"$nulls":9},0,0]
[{"$nulls":9},0,0]
[{"$nulls":9},0,0]
[{"$nulls":9},0,0]
["  TOTAL(COL. 3) WILL BE ENTERED ON THE SUMMARY PAGE OF THIS SCHEDULE)",{"$nulls":3},{"$f":"SUM(E12:E70)","v":0},{"$f":"SUM(F12:F70)","v":0},{"$f":"SUM(G12:G70)","v":0},{"$f":"SUM(H12:H70)","v":0},{"$f":"SUM(I12:I70)","v":0},0,{"$f":"SUM(K12:K70)","v":0},{"$f":"SUM(L12:L70)","v":0}]

{"sheet":"Summary Page","index":9,"n_rows":46,"n_cols":22,"rows_kept":46,"merged":[[31,6,31,9],[31,11,31,12]]}
[{"$nulls":12},"ANNUAL STATEMENT FOR THE YEAR 2021 OF  ",{"$f":"IF('Section I'!$I$1<>0,+'Section I'!$I$1,\"\")","v":""},{"$nulls":7},{"$f":"+'Section I'!P1","v":"OMB No. 1530-0008"}]
[{"$nulls":14},"Write or Stamp Name",{"$nulls":6},{"$f":"+'Section I'!P2","v":" OMB Expiration Date:  6-30-2023"}]
[]
[{"$nulls":14},"       Page 34 of 34 "]
[{"$nulls":14},"      (000's OMITTED)"]
[]
["The following calculations represent the net unauthorized reinsurance for the above-mentioned company based on information provided in Parts 1 and 2 of the U.S. Treasury Schedule F.  "]
["It is not necessary to make pen and ink adjustments to the figures on Page 3 of the Annual Financial Statement"]
[]
[]
[null,"Total Unauthorized Reinsurance for Treasury purposes"]
[null,"(Section IX, Grand Total, Column 8)……………………………………………………………………………………………………………………………………………………………………………………………………………………..",{"$nulls":15},"$",{"$f":"+'Section VIII thru X'!P99","v":0}]
[]
[null,"Less:"]
[null,"Funds held or retained by the Company on account for such Treasury"]
[null,"Unauthorized companies per Treasury Schedule F, Part 2, Col. 3……………………………………………………………………………………………………………………………………………………………………………………..",{"$nulls":15},"$",{"$f":"+'Funds Held Section'!K71+'Funds Held Overflow Page'!K41+'Funds Held Overflow Page'!K85+'Funds Held Overflow Page'!K129+'Funds Held Overflow Page'!K173","v":0}]
[]
[null,"Additional Funds held from company reproduced overflow page worksheets - total must be entered manually………………………………………………………………………………………………………………………………………………………………….",{"$nulls":15},"$",0]
[]
[null,"Treasury Unauthorized Reinsurance…………………………………………………………………………………………………………………………………………………………………………………………………………..",{"$nulls":15},"$",{"$f":"+S12-S16-S18","v":0}]
[]
[null,"Less:"]
[null,"* Liability for Unauthorized Reinsurance shown on the Company's"]
[null,"annual year-end financial statement…………………………………………………………………………………………………………………………………………………………………………………………………..",{"$nulls":15},"$",0]
[]
[null,"Net Unauthorized Reinsurance for Treasury rating purposes…………………………………………………………………………………………………………………………………………………………………………….",{"$nulls":15},"$",{"$f":"+S20-S24","v":0}]
[]
[null,"* Include provision for overdue Authorized Reinsurance as well"]
[]
[]
[]
[null,"COMPANY CONTACT PERSON FOR THIS SCHEDULE:"]
[{"$nulls":6},"(NAME)",{"$nulls":4},"(PHONE NO.)"]
[]
[]
["Paperwork Reduction Act and"]
["Privacy Act Statement - FMS Form 6314"]
[]
[null,"By authority of 31 USC 9304-9308, 31 CFR 223, the information requested on this form is required to retain a benefit and to enable the Assistant Commissioner, Management,"]
[null,"Financial Management Service, Department of the Treasury, to determine if your Company is maintaining compliance with the requirements of the Department of the Treasury in order for your Company"]
[null,"to remain qualified and acceptable as a surety or reinsurance company for Federal bonds.  Certified companies are required to file this form with the Treasury once each year.  Failure to provide this"]
[null,"information will result in non-compliance with Treasury regulations and may result in revocation of your Company's authority"]
[]
[]
[null,"The estimated average burden associated with this collection of information is 48 hours, 45 minutes per respondent for each response.  Comments concerning the accuracy of this burden estimate"]
[null,"and suggestions for reducing this burden should be directed to the Bureau of Fiscal Service, Forms Management Officer, Parkersburg, WV 26106-1328."]

{"sheet":"Section II Overflow Page","index":10,"n_rows":83,"n_cols":16,"rows_kept":83}
[{"$nulls":7},"ANNUAL STATEMENT FOR THE YEAR 2021 OF  ",{"$f":"+'Section I'!I1","v":""},{"$nulls":6},{"$f":"+'Section I'!P1","v":"OMB No. 1530-0008"}]
[{"$nulls":9},"Write or Stamp Name",{"$nulls":5},{"$f":"+'Section I'!P2","v":" OMB Expiration Date:  6-30-2023"}]
["Schedule F - Part 1"]
[{"$f":"+'Section I'!A4","v":"Ceded Reinsurance as of December 31, Current Year (000's Omitted)"}]
["Section II Overflow Page"]
["Federal ID","NAIC Company ","Name of Reinsurer","Domiciliary","+","(1)                      Reinsurance Premiums","(2)                                                                                                                                                                        Recoverable on Paid Losses and                                                                              Paid Loss Adjustment Expense, Days Overdue",{"$nulls":3},"(3)                            Total           Overdue","(4)          Percentage Overdue     ","(5)                       (Known Case) Reinsurance Recoverable on Unpaid Losses","(6)                   Incurred But Not Reported Losses and","(7)                 Unearned","(8)                                      Total Recoverable      "]
["Number","Code",null,"Jurisdiction",null,"Ceded","(A)                    Current and              1 - 90","(B)                     91 - 120","(C)                  Over 120","(D)                           Total","(Col 2B + 2C)","(Col 3/Col 2D)","and Unpaid Loss Adjustment Expense","Loss Adjustment Expense","Premiums","(Cols 2D+5+6+7)"]
["Section II - Overflow Page"]
["OTHER TREASURY AUTHORIZED COMPANIES:"]
[]
["  (A)  Reinsurance with subsidiaries (other affiliated companies are unauthorized and should be shown in Section VIII.)"]
["      Credit may be allowed for reinsurance cessions to subsidiaries not shown under Section I.  List the names of such companies, complete the"]
["      corresponding columns, and submit a completely executed financial statement for each listed company."]
[{"$nulls":9},{"$f":"+G14+H14+I14","v":0},{"$f":"+H14+I14","v":0},{"$f":"IF(K14>0,+K14/J14,\"\")","v":""},{"$nulls":3},{"$f":"+J14+M14+N14+O14","v":0}]
[{"$nulls":9},{"$f":"+G15+H15+I15","v":0},{"$f":"+H15+I15","v":0},{"$f":"IF(K15>0,+K15/J15,\"\")","v":""},{"$nulls":3},{"$f":"+J15+M15+N15+O15","v":0}]
[{"$nulls":9},0,0,"",{"$nulls":3},0]
[{"$nulls":9},0,0,"",{"$nulls":3},0]
[{"$nulls":9},0,0,"",{"$nulls":3},0]
[{"$nulls":9},0,0,"",{"$nulls":3},0]
[{"$nulls":9},0,0,"",{"$nulls":3},0]
[{"$nulls":9},0,0,"",{"$nulls":3},0]
[{"$nulls":9},0,0,"",{"$nulls":3},0]
[{"$nulls":9},0,0,"",{"$nulls":3},0]
[{"$nulls":9},0,0,"",{"$nulls":3},0]
[{"$nulls":9},0,0,"",{"$nulls":3},0]
[{"$nulls":9},0,0,"",{"$nulls":3},0]
[{"$nulls":9},0,0,"",{"$nulls":3},0]
[{"$nulls":9},0,0,"",{"$nulls":3},0]
["  (B)  Reinsurance with other Treasury authorized companies",{"$nulls":8},0,0,"",{"$nulls":3},0]
[{"$nulls":9},0,0,"",{"$nulls":3},0]
[{"$nulls":9},0,0,"",{"$nulls":3},0]
[{"$nulls":9},0,0,"",{"$nulls":3},0]
[{"$nulls":9},0,0,"",{"$nulls":3},0]
[{"$nulls":9},0,0,"",{"$nulls":3},0]
[{"$nulls":9},0,0,"",{"$nulls":3},0]
[{"$nulls":9},0,0,"",{"$nulls":3},0]
[{"$nulls":9},0,0,"",{"$nulls":3},0]
[{"$nulls":9},0,0,"",{"$nulls":3},0]
[{"$nulls":9},0,0,"",{"$nulls":3},0]
[{"$nulls":9},0,0,"",{"$nulls":3},0]
["SECTION II TOTALS WILL BE ENTERED IN SECTION V",{"$nulls":4},{"$f":"SUM(F14:F40)","v":0},0,0,0,0,0,"",{"$f":"SUM(M14:M40)","v":0},{"$f":"SUM(N14:N40)","v":0},{"$f":"SUM(O14:O40)","v":0},{"$f":"SUM(P14:P40)","v":0}]
[]
[]
[{"$nulls":7},{"$f":"+'Section VI'!H1","v":"ANNUAL STATEMENT FOR THE YEAR 2021 OF  "},{"$f":"+'Section I'!I1","v":""},{"$nulls":6},"OMB No. 1510-0012"]
[{"$nulls":9},"Write or Stamp Name",{"$nulls":5},{"$f":"+'Section I'!P2","v":" OMB Expiration Date:  6-30-2023"}]
["Schedule F - Part 1"]
[{"$f":"+'Section I'!A4","v":"Ceded Reinsurance as of December 31, Current Year (000's Omitted)"}]
["Section II Overflow Page"]
["Federal ID","NAIC Company ","Name of Reinsurer","Domiciliary","+","(1)                      Reinsurance Premiums","(2)                                                                                                                                                                        Recoverable on Paid Losses and                                                                              Paid Loss Adjustment Expense, Days Overdue",{"$nulls":3},"(3)                            Total           Overdue","(4)          Percentage Overdue     ","(5)                       (Known Case) Reinsurance Recoverable on Unpaid Losses","(6)                   Incurred But Not Reported Losses and","(7)                 Unearned","(8)                                      Total Recoverable      "]
["Number","Code",null,"Jurisdiction",null,"Ceded","(A)                    Current and              1 - 90","(B)                     91 - 120","(C)                  Over 120","(D)                           Total","(Col 2B + 2C)","(Col 3/Col 2D)","and Unpaid Loss Adjustment Expense","Loss Adjustment Expense","Premiums","(Cols 2D+5+6+7)"]
["Section II - Overflow Page"]
["OTHER TREASURY AUTHORIZED COMPANIES:"]
[]
["  (A)  Reinsurance with subsidiaries (other affiliated companies are unauthorized and should be shown in Section VIII.)"]
["      Credit may be allowed for reinsurance cessions to subsidiaries not shown under Section I.  List the names of such companies, complete the"]
["      corresponding columns, and submit a completely executed financial statement for each listed company."]
[{"$nulls":9},{"$f":"SUM(G57:I57)","v":0},{"$f":"+H57+I57","v":0},{"$f":"IF(K57>0,+K57/J57,\"\")","v":""},{"$nulls":3},{"$f":"+J57+M57+N57+O57","v":0}]
[{"$nulls":9},{"$f":"SUM(G58:I58)","v":0},{"$f":"+H58+I58","v":0},{"$f":"IF(K58>0,+K58/J58,\"\")","v":""},{"$nulls":3},{"$f":"+J58+M58+N58+O58","v":0}]
[{"$nulls":9},0,0,"",{"$nulls":3},0]
[{"$nulls":9},0,0,"",{"$nulls":3},0]
[{"$nulls":9},0,0,"",{"$nulls":3},0]
[{"$nulls":9},0,0,"",{"$nulls":3},0]
[{"$nulls":9},0,0,"",{"$nulls":3},0]
[{"$nulls":9},0,0,"",{"$nulls":3},0]
[{"$nulls":9},0,0,"",{"$nulls":3},0]
[{"$nulls":9},0,0,"",{"$nulls":3},0]
[{"$nulls":9},0,0,"",{"$nulls":3},0]
[{"$nulls":9},0,0,"",{"$nulls":3},0]
[{"$nulls":9},0,0,"",{"$nulls":3},0]
[{"$nulls":9},0,0,"",{"$nulls":3},0]
["  (B)  Reinsurance with other Treasury authorized companies",{"$nulls":8},0,0,"",{"$nulls":3},0]
[{"$nulls":9},0,0,"",{"$nulls":3},0]
[{"$nulls":9},0,0,"",{"$nulls":3},0]
[{"$nulls":9},0,0,"",{"$nulls":3},0]
[{"$nulls":9},0,0,"",{"$nulls":3},0]
[{"$nulls":9},0,0,"",{"$nulls":3},0]
[{"$nulls":9},0,0,"",{"$nulls":3},0]
[{"$nulls":9},0,0,"",{"$nulls":3},0]
[{"$nulls":9},0,0,"",{"$nulls":3},0]
[{"$nulls":9},0,0,"",{"$nulls":3},0]
[{"$nulls":9},0,0,"",{"$nulls":3},0]
[{"$nulls":9},0,0,"",{"$nulls":3},0]
[{"$f":"+A41","v":"SECTION II TOTALS WILL BE ENTERED IN SECTION V"},{"$nulls":4},{"$f":"SUM(F57:F82)","v":0},0,0,0,0,0,"",{"$f":"SUM(M57:M82)","v":0},{"$f":"SUM(N57:N82)","v":0},{"$f":"SUM(O57:O82)","v":0},{"$f":"SUM(P57:P82)","v":0}]

{"sheet":"Section IV Overflow Page","index":11,"n_rows":83,"n_cols":16,"rows_kept":83}
[{"$nulls":7},{"$f":"+'Section III'!H1","v":"ANNUAL STATEMENT FOR THE YEAR 2021 OF  "},{"$f":"+'Section I'!I1","v":""},{"$nulls":6},{"$f":"+'Section I'!P1","v":"OMB No. 1530-0008"}]
[{"$nulls":9},"Write or Stamp Name",{"$nulls":5},{"$f":"+'Section III'!P2","v":" OMB Expiration Date:  6-30-2023"}]
["Schedule F - Part 1"]
[{"$f":"+'Section I'!A4","v":"Ceded Reinsurance as of December 31, Current Year (000's Omitted)"}]
["Section IV Overflow Page"]
[null,{"$f":"+'Section III'!B6","v":"Authorized"},{"$f":"+'Section I'!C6","v":"Name of Reinsurer"},null,{"$f":"+'Section I'!E6","v":"+"},{"$f":"+'Section I'!F6","v":"(1)                      Reinsurance Premiums"},{"$f":"+'Section I'!G6","v":"(2)                                                                                                                                                                        Recoverable on Paid Losses and                                                                              Paid Loss Adjustment Expense, Days Overdue"},{"$nulls":3},{"$f":"+'Section I'!K6","v":"(3)                            Total           Overdue"},{"$f":"+'Section I'!L6","v":"(4)          Percentage Overdue     "},{"$f":"+'Section I'!M6","v":"(5)                       (Known Case) Reinsurance Recoverable on Unpaid Losses"},{"$f":"+'Section I'!N6","v":"(6)                   Incurred But Not Reported Losses and"},{"$f":"+'Section I'!O6","v":"(7)                 Unearned"},{"$f":"+'Section I'!P6","v":"(8)                                      Total Recoverable      "}]
[null,{"$f":"+'Section III'!B7","v":"Percentage"},{"$nulls":4},{"$f":"+'Section I'!G7","v":"(A)                    Current and              1 - 90"},{"$f":"+'Section I'!H7","v":"(B)                     91 - 120"},{"$f":"+'Section I'!I7","v":"(C)                  Over 120"},{"$f":"+'Section I'!J7","v":"(D)                           Total"},{"$f":"+'Section I'!K7","v":"(Col 2B + 2C)"},{"$f":"+'Section I'!L7","v":"(Col 3/Col 2D)"},{"$f":"+'Section I'!M7","v":"and Unpaid Loss Adjustment Expense"},{"$f":"+'Section I'!N7","v":"Loss Adjustment Expense"},{"$f":"+'Section I'!O7","v":"Premiums"},{"$f":"+'Section I'!P7","v":"(Cols 2D+5+6+7)"}]
["SECTION IV - Overflow Page"]
["OTHER TREASURY AUTHORIZED POOLS AND ASSOCIATIONS:   "]
["    List any pools (not shown in Section III) in which Treasury authorized companies participate.  The Treasury authorized percentage may be computed by determining"]
["    the percentage of participation of Treasury authorized companies in the pool.  Do not include percentages of participation of any alien reinsurer.  List the pools"]
["    alphabetically, inserting the computed percentage to the left of each name and complete Columns 1 through 8.  In instances where the percentage is less than 100%,"]
["    the remainder should be shown under Section VII.  Submit on a separate sheet the names and percentage of participation of companies comprising the pools."]
["    Failure to submit this information will result in Treasury nonadmitting the cessions to these pools."]
[{"$nulls":9},{"$f":"+G15+H15+I15","v":0},{"$f":"+H15+I15","v":0},{"$f":"IF(K15>0,+K15/J15,\"\")","v":""},{"$nulls":3},{"$f":"+J15+M15+N15+O15","v":0}]
[{"$nulls":9},{"$f":"+G16+H16+I16","v":0},{"$f":"+H16+I16","v":0},{"$f":"IF(K16>0,+K16/J16,\"\")","v":""},{"$nulls":3},{"$f":"+J16+M16+N16+O16","v":0}]
[{"$nulls":9},0,0,"",{"$nulls":3},0]
[{"$nulls":9},0,0,"",{"$nulls":3},0]
[{"$nulls":9},0,0,"",{"$nulls":3},0]
[{"$nulls":9},0,0,"",{"$nulls":3},0]
[{"$nulls":9},0,0,"",{"$nulls":3},0]
[{"$nulls":9},0,0,"",{"$nulls":3},0]
[{"$nulls":9},0,0,"",{"$nulls":3},0]
[{"$nulls":9},0,0,"",{"$nulls":3},0]
[{"$nulls":9},0,0,"",{"$nulls":3},0]
[{"$nulls":9},0,0,"",{"$nulls":3},0]
[{"$nulls":9},0,0,"",{"$nulls":3},0]
[{"$nulls":9},0,0,"",{"$nulls":3},0]
[{"$nulls":9},0,0,"",{"$nulls":3},0]
[{"$nulls":9},0,0,"",{"$nulls":3},0]
[{"$nulls":9},0,0,"",{"$nulls":3},0]
[{"$nulls":9},0,0,"",{"$nulls":3},0]
[{"$nulls":9},0,0,"",{"$nulls":3},0]
[{"$nulls":9},0,0,"",{"$nulls":3},0]
[{"$nulls":9},0,0,"",{"$nulls":3},0]
[{"$nulls":9},0,0,"",{"$nulls":3},0]
[{"$nulls":9},0,0,"",{"$nulls":3},0]
[{"$nulls":9},0,0,"",{"$nulls":3},0]
[{"$nulls":9},0,0,"",{"$nulls":3},0]
[{"$nulls":9},0,0,"",{"$nulls":3},0]
["SECTION IV TOTALS WILL BE ENTERED IN SECTION V",{"$nulls":4},{"$f":"SUM(F15:F40)","v":0},0,0,0,0,0,"",{"$f":"SUM(M15:M40)","v":0},{"$f":"SUM(N15:N40)","v":0},{"$f":"SUM(O15:O40)","v":0},{"$f":"SUM(P15:P40)","v":0}]
[]
[]
[{"$nulls":7},{"$f":"+'Section VI'!H1","v":"ANNUAL STATEMENT FOR THE YEAR 2021 OF  "},{"$f":"+'Section I'!I1","v":""},{"$nulls":6},"OMB No. 1510-0012"]
[{"$nulls":9},"Write or Stamp Name",{"$nulls":5},{"$f":"+'Section I'!P2","v":" OMB Expiration Date:  6-30-2023"}]
["Schedule F - Part 1"]
[{"$f":"+'Section I'!A4","v":"Ceded Reinsurance as of December 31, Current Year (000's Omitted)"}]
["Section IV Overflow Page"]
[null,"Authorized","Name of Reinsurer",null,"+","(1)                      Reinsurance Premiums","(2)                                                                                                                                                                        Recoverable on Paid Losses and                                                                              Paid Loss Adjustment Expense, Days Overdue",{"$nulls":3},"(3)                            Total           Overdue","(4)          Percentage Overdue     ","(5)                       (Known Case) Reinsurance Recoverable on Unpaid Losses","(6)                   Incurred But Not Reported Losses and","(7)                 Unearned","(8)                                      Total Recoverable      "]
[null,"Percentage",{"$nulls":4},"(A)                    Current and              1 - 90","(B)                     91 - 120","(C)                  Over 120","(D)                           Total","(Col 2B + 2C)","(Col 3/Col 2D)","and Unpaid Loss Adjustment Expense","Loss Adjustment Expense","Premiums","(Cols 2D+5+6+7)"]
["SECTION IV - Overflow Page"]
["OTHER TREASURY AUTHORIZED POOLS AND ASSOCIATIONS:   "]
["    List any pools (not shown in Section III) in which Treasury authorized companies participate.  The Treasury authorized percentage may be computed by determining"]
["    the percentage of participation of Treasury authorized companies in the pool.  Do not include percentages of participation of any alien reinsurer.  List the pools"]
["    alphabetically, inserting the computed percentage to the left of each name and complete Columns 1 through 8.  In instances where the percentage is less than 100%,"]
["    the remainder should be shown under Section VII.  Submit on a separate sheet the names and percentage of participation of companies comprising the pools."]
["    Failure to submit this information will result in Treasury nonadmitting the cessions to these pools."]
[{"$nulls":9},{"$f":"SUM(G58:I58)","v":0},{"$f":"+H58+I58","v":0},{"$f":"IF(K58>0,+K58/J58,\"\")","v":""},{"$nulls":3},{"$f":"+J58+M58+N58+O58","v":0}]
[{"$nulls":9},0,0,"",{"$nulls":3},0]
[{"$nulls":9},0,0,"",{"$nulls":3},0]
[{"$nulls":9},0,0,"",{"$nulls":3},0]
[{"$nulls":9},0,0,"",{"$nulls":3},0]
[{"$nulls":9},0,0,"",{"$nulls":3},0]
[{"$nulls":9},0,0,"",{"$nulls":3},0]
[{"$nulls":9},0,0,"",{"$nulls":3},0]
[{"$nulls":9},0,0,"",{"$nulls":3},0]
[{"$nulls":9},0,0,"",{"$nulls":3},0]
[{"$nulls":9},0,0,"",{"$nulls":3},0]
[{"$nulls":9},0,0,"",{"$nulls":3},0]
[{"$nulls":9},0,0,"",{"$nulls":3},0]
[{"$nulls":9},0,0,"",{"$nulls":3},0]
[{"$nulls":9},0,0,"",{"$nulls":3},0]
[{"$nulls":9},0,0,"",{"$nulls":3},0]
[{"$nulls":9},0,0,"",{"$nulls":3},0]
[{"$nulls":9},0,0,"",{"$nulls":3},0]
[{"$nulls":9},0,0,"",{"$nulls":3},0]
[{"$nulls":9},0,0,"",{"$nulls":3},0]
[{"$nulls":9},0,0,"",{"$nulls":3},0]
[{"$nulls":9},0,0,"",{"$nulls":3},0]
[{"$nulls":9},0,0,"",{"$nulls":3},0]
[{"$nulls":9},0,0,"",{"$nulls":3},0]
[{"$nulls":9},0,0,"",{"$nulls":3},0]
[{"$f":"+A41","v":"SECTION IV TOTALS WILL BE ENTERED IN SECTION V"},{"$nulls":4},{"$f":"SUM(F58:F82)","v":0},0,0,0,0,0,"",{"$f":"SUM(M58:M82)","v":0},{"$f":"SUM(N58:N82)","v":0},{"$f":"SUM(O58:O82)","v":0},{"$f":"SUM(P58:P82)","v":0}]

{"sheet":"Section VII Overflow Page","index":12,"n_rows":82,"n_cols":16,"rows_kept":82}
[{"$nulls":7},{"$f":"+'Section VI'!H1","v":"ANNUAL STATEMENT FOR THE YEAR 2021 OF  "},{"$f":"+'Section I'!I1","v":""},{"$nulls":6},{"$f":"+'Section I'!P1","v":"OMB No. 1530-0008"}]
[{"$nulls":9},"Write or Stamp Name",{"$nulls":5},{"$f":"+'Section VI'!P2","v":" OMB Expiration Date:  6-30-2023"}]
["Schedule F - Part 1"]
[{"$f":"+'Section I'!A4","v":"Ceded Reinsurance as of December 31, Current Year (000's Omitted)"}]
["Section VII Overflow Page"]
[null,{"$f":"+'Section VI'!B6:B6","v":"Unauthorized"},{"$f":"+'Section VI'!C6","v":"Name of Reinsurer"},null,{"$f":"+'Section VI'!E6","v":"+"},{"$f":"+'Section VI'!F6","v":"(1)                      Reinsurance Premiums"},{"$f":"+'Section VI'!G6","v":"(2)                                                                                                                                                                        Recoverable on Paid Losses and                                                                              Paid Loss Adjustment Expense, Days Overdue"},{"$nulls":3},{"$f":"+'Section VI'!K6","v":"(3)                            Total           Overdue"},{"$f":"+'Section VI'!L6","v":"(4)          Percentage Overdue     "},{"$f":"+'Section VI'!M6","v":"(5)                       (Known Case) Reinsurance Recoverable on Unpaid Losses"},{"$f":"+'Section VI'!N6","v":"(6)                   Incurred But Not Reported Losses and"},{"$f":"+'Section VI'!O6","v":"(7)                 Unearned"},{"$f":"+'Section VI'!P6","v":"(8)                                      Total Recoverable      "}]
[null,{"$f":"+'Section VI'!B7","v":"Percentage"},{"$nulls":3},{"$f":"+'Section VI'!F7","v":"Ceded"},{"$f":"+'Section VI'!G7","v":"(A)                    Current and              1 - 90"},{"$f":"+'Section VI'!H7","v":"(B)                     91 - 120"},{"$f":"+'Section VI'!I7","v":"(C)                  Over 120"},{"$f":"+'Section VI'!J7","v":"(D)                           Total"},{"$f":"+'Section VI'!K7","v":"(Col 2B + 2C)"},{"$f":"+'Section VI'!L7","v":"(Col 3/Col 2D)"},{"$f":"+'Section VI'!M7","v":"and Unpaid Loss Adjustment Expense"},{"$f":"+'Section VI'!N7","v":"Loss Adjustment Expense"},{"$f":"+'Section VI'!O7","v":"Premiums"},{"$f":"+'Section VI'!P7","v":"(Cols 2D+5+6+7)"}]
["SECTION VII - Overflow Page"]
["OTHER TREASURY UNAUTHORIZED POOLS AND ASSOCIATIONS:   "]
["    List pools and associations as shown in Section IV.  Show the percentage of unauthorized reinsurance as the difference between the percentage authorized in"]
["    Section IV and 100%.  Also, list other pools and associations appearing on Schedule F of your annual financial statement and not listed in Sections III, IV, or VI."]
[]
[{"$nulls":9},{"$f":"+G13+H13+I13","v":0},{"$f":"+H13+I13","v":0},{"$f":"IF(K13>0,+K13/J13,\"\")","v":""},{"$nulls":3},{"$f":"+J13+M13+N13+O13","v":0}]
[{"$nulls":9},{"$f":"+G14+H14+I14","v":0},{"$f":"+H14+I14","v":0},{"$f":"IF(K14>0,+K14/J14,\"\")","v":""},{"$nulls":3},{"$f":"+J14+M14+N14+O14","v":0}]
[{"$nulls":9},0,0,"",{"$nulls":3},0]
[{"$nulls":9},0,0,"",{"$nulls":3},0]
[{"$nulls":9},0,0,"",{"$nulls":3},0]
[{"$nulls":9},0,0,"",{"$nulls":3},0]
[{"$nulls":9},0,0,"",{"$nulls":3},0]
[{"$nulls":9},0,0,"",{"$nulls":3},0]
[{"$nulls":9},0,0,"",{"$nulls":3},0]
[{"$nulls":9},0,0,"",{"$nulls":3},0]
[{"$nulls":9},0,0,"",{"$nulls":3},0]
[{"$nulls":9},0,0,"",{"$nulls":3},0]
[{"$nulls":9},0,0,"",{"$nulls":3},0]
[{"$nulls":9},0,0,"",{"$nulls":3},0]
[{"$nulls":9},0,0,"",{"$nulls":3},0]
[{"$nulls":9},0,0,"",{"$nulls":3},0]
[{"$nulls":9},0,0,"",{"$nulls":3},0]
[{"$nulls":9},0,0,"",{"$nulls":3},0]
[{"$nulls":9},0,0,"",{"$nulls":3},0]
[{"$nulls":9},0,0,"",{"$nulls":3},0]
[{"$nulls":9},0,0,"",{"$nulls":3},0]
[{"$nulls":9},0,0,"",{"$nulls":3},0]
[{"$nulls":9},0,0,"",{"$nulls":3},0]
[{"$nulls":9},0,0,"",{"$nulls":3},0]
[{"$nulls":9},0,0,"",{"$nulls":3},0]
[{"$nulls":9},0,0,"",{"$nulls":3},0]
[{"$nulls":9},0,0,"",{"$nulls":3},0]
["SECTION VII TOTALS WILL BE ENTERED IN SECTION IX",{"$nulls":4},{"$f":"SUM(F13:F39)","v":0},0,0,0,0,0,"",{"$f":"SUM(M13:M39)","v":0},{"$f":"SUM(N13:N39)","v":0},{"$f":"SUM(O13:O39)","v":0},{"$f":"SUM(P13:P39)","v":0}]
[]
[]
[{"$nulls":7},{"$f":"+'Section VI'!H1","v":"ANNUAL STATEMENT FOR THE YEAR 2021 OF  "},{"$f":"+'Section I'!I1","v":""},{"$nulls":6},"OMB No. 1510-0012"]
[{"$nulls":9},"Write or Stamp Name",{"$nulls":5},{"$f":"+'Section I'!P2","v":" OMB Expiration Date:  6-30-2023"}]
["Schedule F - Part 1"]
[{"$f":"+'Section I'!A4","v":"Ceded Reinsurance as of December 31, Current Year (000's Omitted)"}]
["Section VII Overflow Page"]
[null,"Unauthorized","Name of Reinsurer",null,"+","(1)                      Reinsurance Premiums","(2)                                                                                                                                                                        Recoverable on Paid Losses and                                                                              Paid Loss Adjustment Expense, Days Overdue",{"$nulls":3},"(3)                            Total           Overdue","(4)          Percentage Overdue     ","(5)                       (Known Case) Reinsurance Recoverable on Unpaid Losses","(6)                   Incurred But Not Reported Losses and","(7)                 Unearned","(8)                                      Total Recoverable      "]
[null,"Percentage",{"$nulls":3},"Ceded","(A)                    Current and              1 - 90","(B)                     91 - 120","(C)                  Over 120","(D)                           Total","(Col 2B + 2C)","(Col 3/Col 2D)","and Unpaid Loss Adjustment Expense","Loss Adjustment Expense","Premiums","(Cols 2D+5+6+7)"]
["SECTION VII - Overflow Page"]
["OTHER TREASURY UNAUTHORIZED POOLS AND ASSOCIATIONS:   "]
["    List pools and associations as shown in Section IV.  Show the percentage of unauthorized reinsurance as the difference between the percentage authorized in"]
["    Section IV and 100%.  Also, list other pools and associations appearing on Schedule F of your annual financial statement and not listed in Sections III, IV, or VI."]
[]
[{"$nulls":9},{"$f":"SUM(G55:I55)","v":0},{"$f":"+H55+I55","v":0},{"$f":"IF(K55>0,+K55/J55,\"\")","v":""},{"$nulls":3},{"$f":"+J55+M55+N55+O55","v":0}]
[{"$nulls":9},{"$f":"SUM(G56:I56)","v":0},{"$f":"+H56+I56","v":0},{"$f":"IF(K56>0,+K56/J56,\"\")","v":""},{"$nulls":3},{"$f":"+J56+M56+N56+O56","v":0}]
[{"$nulls":9},0,0,"",{"$nulls":3},0]
[{"$nulls":9},0,0,"",{"$nulls":3},0]
[{"$nulls":9},0,0,"",{"$nulls":3},0]
[{"$nulls":9},0,0,"",{"$nulls":3},0]
[{"$nulls":9},0,0,"",{"$nulls":3},0]
[{"$nulls":9},0,0,"",{"$nulls":3},0]
[{"$nulls":9},0,0,"",{"$nulls":3},0]
[{"$nulls":9},0,0,"",{"$nulls":3},0]
[{"$nulls":9},0,0,"",{"$nulls":3},0]
[{"$nulls":9},0,0,"",{"$nulls":3},0]
[{"$nulls":9},0,0,"",{"$nulls":3},0]
[{"$nulls":9},0,0,"",{"$nulls":3},0]
[{"$nulls":9},0,0,"",{"$nulls":3},0]
[{"$nulls":9},0,0,"",{"$nulls":3},0]
[{"$nulls":9},0,0,"",{"$nulls":3},0]
[{"$nulls":9},0,0,"",{"$nulls":3},0]
[{"$nulls":9},0,0,"",{"$nulls":3},0]
[{"$nulls":9},0,0,"",{"$nulls":3},0]
[{"$nulls":9},0,0,"",{"$nulls":3},0]
[{"$nulls":9},0,0,"",{"$nulls":3},0]
[{"$nulls":9},0,0,"",{"$nulls":3},0]
[{"$nulls":9},0,0,"",{"$nulls":3},0]
[{"$nulls":9},0,0,"",{"$nulls":3},0]
[{"$nulls":9},0,0,"",{"$nulls":3},0]
[{"$nulls":9},0,0,"",{"$nulls":3},0]
[{"$f":"+A40","v":"SECTION VII TOTALS WILL BE ENTERED IN SECTION IX"},{"$nulls":4},{"$f":"SUM(F55:F81)","v":0},0,0,0,0,0,{"$f":"IF(K82>0,+K82/J82,\"\")","v":""},{"$f":"SUM(M55:M81)","v":0},{"$f":"SUM(N55:N81)","v":0},{"$f":"SUM(O55:O81)","v":0},{"$f":"SUM(P55:P81)","v":0}]

{"sheet":"Section VIII Overflow Page","index":13,"n_rows":166,"n_cols":16,"rows_kept":166}
[{"$nulls":7},{"$f":"+'Section VI'!H1","v":"ANNUAL STATEMENT FOR THE YEAR 2021 OF  "},{"$f":"+'Section I'!I1","v":""},{"$nulls":6},{"$f":"+'Section I'!P1","v":"OMB No. 1530-0008"}]
[{"$nulls":9},"Write or Stamp Name",{"$nulls":5},{"$f":"+'Section VII'!P2","v":" OMB Expiration Date:  6-30-2023"}]
["Schedule F - Part 1"]
[{"$f":"+'Section I'!A4","v":"Ceded Reinsurance as of December 31, Current Year (000's Omitted)"}]
["Section VIII Overflow Page"]
[{"$f":"+'Section I'!A6","v":"Federal ID"},{"$f":"+'Section I'!B6","v":"NAIC Company "},{"$f":"+'Section I'!C6","v":"Name of Reinsurer"},{"$f":"+'Section I'!D6","v":"Domiciliary"},{"$f":"+'Section I'!E6","v":"+"},{"$f":"+'Section I'!F6","v":"(1)                      Reinsurance Premiums"},{"$f":"+'Section I'!G6","v":"(2)                                                                                                                                                                        Recoverable on Paid Losses and                                                                              Paid Loss Adjustment Expense, Days Overdue"},{"$nulls":3},{"$f":"+'Section I'!K6","v":"(3)                            Total           Overdue"},{"$f":"+'Section I'!L6","v":"(4)          Percentage Overdue     "},{"$f":"+'Section I'!M6","v":"(5)                       (Known Case) Reinsurance Recoverable on Unpaid Losses"},{"$f":"+'Section I'!N6","v":"(6)                   Incurred But Not Reported Losses and"},{"$f":"+'Section I'!O6","v":"(7)                 Unearned"},{"$f":"+'Section I'!P6","v":"(8)                                      Total Recoverable      "}]
[{"$f":"+'Section I'!A7","v":"Number"},{"$f":"+'Section I'!B7","v":"Code"},null,{"$f":"+'Section I'!D7","v":"Jurisdiction"},null,{"$f":"+'Section I'!F7","v":"Ceded"},{"$f":"+'Section I'!G7","v":"(A)                    Current and              1 - 90"},{"$f":"+'Section I'!H7","v":"(B)                     91 - 120"},{"$f":"+'Section I'!I7","v":"(C)                  Over 120"},{"$f":"+'Section I'!J7","v":"(D)                           Total"},{"$f":"+'Section I'!K7","v":"(Col 2B + 2C)"},{"$f":"+'Section I'!L7","v":"(Col 3/Col 2D)"},{"$f":"+'Section I'!M7","v":"and Unpaid Loss Adjustment Expense"},{"$f":"+'Section I'!N7","v":"Loss Adjustment Expense"},{"$f":"+'Section I'!O7","v":"Premiums"},{"$f":"+'Section I'!P7","v":"(Cols 2D+5+6+7)"}]
["SECTION VIII - Overflow Page"]
["TREASURY UNAUTHORIZED COMPANIES: "]
["    List alphabetically the names of all companies appearing in Schedule F, Part 3 of your company's annual financial statement which are not listed in"]
["     Sections I and II, including unauthorized parents and affiliates, and complete Columns 1 through 8."]
[]
[{"$nulls":9},{"$f":"+G13+H13+I13","v":0},{"$f":"+H13+I13","v":0},{"$f":"IF(K13>0,+K13/J13,\"\")","v":""},{"$nulls":3},{"$f":"+J13+M13+N13+O13","v":0}]
[{"$nulls":9},{"$f":"+G14+H14+I14","v":0},{"$f":"+H14+I14","v":0},{"$f":"IF(K14>0,+K14/J14,\"\")","v":""},{"$nulls":3},{"$f":"+J14+M14+N14+O14","v":0}]
[{"$nulls":9},{"$f":"+G15+H15+I15","v":0},{"$f":"+H15+I15","v":0},{"$f":"IF(K15>0,+K15/J15,\"\")","v":""},{"$nulls":3},{"$f":"+J15+M15+N15+O15","v":0}]
[{"$nulls":9},0,0,"",{"$nulls":3},0]
[{"$nulls":9},0,0,"",{"$nulls":3},0]
[{"$nulls":9},0,0,"",{"$nulls":3},0]
[{"$nulls":9},0,0,"",{"$nulls":3},0]
[{"$nulls":9},0,0,"",{"$nulls":3},0]
[{"$nulls":9},0,0,"",{"$nulls":3},0]
[{"$nulls":9},0,0,"",{"$nulls":3},0]
[{"$nulls":9},0,0,"",{"$nulls":3},0]
[{"$nulls":9},0,0,"",{"$nulls":3},0]
[{"$nulls":9},0,0,"",{"$nulls":3},0]
[{"$nulls":9},0,0,"",{"$nulls":3},0]
[{"$nulls":9},0,0,"",{"$nulls":3},0]
[{"$nulls":9},0,0,"",{"$nulls":3},0]
[{"$nulls":9},0,0,"",{"$nulls":3},0]
[{"$nulls":9},0,0,"",{"$nulls":3},0]
[{"$nulls":9},0,0,"",{"$nulls":3},0]
[{"$nulls":9},0,0,"",{"$nulls":3},0]
[{"$nulls":9},0,0,"",{"$nulls":3},0]
[{"$nulls":9},0,0,"",{"$nulls":3},0]
[{"$nulls":9},0,0,"",{"$nulls":3},0]
[{"$nulls":9},0,0,"",{"$nulls":3},0]
[{"$nulls":9},0,0,"",{"$nulls":3},0]
[{"$nulls":9},0,0,"",{"$nulls":3},0]
[{"$nulls":9},0,0,"",{"$nulls":3},0]
["SECTION VIII TOTALS WILL BE ENTERED IN SECTION IX",{"$nulls":4},{"$f":"SUM(F13:F39)","v":0},0,0,0,0,0,"",{"$f":"SUM(M13:M39)","v":0},{"$f":"SUM(N13:N39)","v":0},{"$f":"SUM(O13:O39)","v":0},{"$f":"SUM(P13:P39)","v":0}]
[]
[]
[{"$nulls":7},{"$f":"+'Section VI'!H1","v":"ANNUAL STATEMENT FOR THE YEAR 2021 OF  "},{"$f":"+'Section I'!I1","v":""},{"$nulls":6},{"$f":"+'Section I'!P1","v":"OMB No. 1530-0008"}]
[{"$nulls":9},"Write or Stamp Name",{"$nulls":5},{"$f":"+'Section I'!P2","v":" OMB Expiration Date:  6-30-2023"}]
["Schedule F - Part 1"]
[{"$f":"+'Section I'!A4","v":"Ceded Reinsurance as of December 31, Current Year (000's Omitted)"}]
["Section VIII Overflow Page"]
[{"$f":"+A6","v":"Federal ID"},{"$f":"+B6","v":"NAIC Company "},{"$f":"+C6","v":"Name of Reinsurer"},{"$f":"+D6","v":"Domiciliary"},"+",{"$f":"+F6","v":"(1)                      Reinsurance Premiums"},{"$f":"+G6","v":"(2)                                                                                                                                                                        Recoverable on Paid Losses and                                                                              Paid Loss Adjustment Expense, Days Overdue"},{"$nulls":3},{"$f":"+K6","v":"(3)                            Total           Overdue"},"(4)          Percentage Overdue     ","(5)                       (Known Case) Reinsurance Recoverable on Unpaid Losses","(6)                   Incurred But Not Reported Losses and","(7)                 Unearned","(8)                                      Total Recoverable      "]
[{"$f":"+A7","v":"Number"},{"$f":"+B7","v":"Code"},null,{"$f":"+D7","v":"Jurisdiction"},null,{"$f":"+F7","v":"Ceded"},{"$f":"+G7","v":"(A)                    Current and              1 - 90"},{"$f":"+H7","v":"(B)                     91 - 120"},{"$f":"+I7","v":"(C)                  Over 120"},{"$f":"+J7","v":"(D)                           Total"},"(Col 2B + 2C)","(Col 3/Col 2D)","and Unpaid Loss Adjustment Expense","Loss Adjustment Expense","Premiums","(Cols 2D+5+6+7)"]
["SECTION VIII - Overflow Page"]
["TREASURY UNAUTHORIZED COMPANIES: "]
["    List alphabetically the names of all companies appearing in Schedule F, Part 3 of your company's annual financial statement which are not listed in"]
["     Sections I and II, including unauthorized parents and affiliates, and complete Columns 1 through 8."]
[]
[{"$nulls":9},{"$f":"+G55+H55+I55","v":0},{"$f":"+H55+I55","v":0},{"$f":"IF(K55>0,+K55/J55,\"\")","v":""},{"$nulls":3},{"$f":"+J55+M55+N55+O55","v":0}]
[{"$nulls":9},{"$f":"+G56+H56+I56","v":0},{"$f":"+H56+I56","v":0},{"$f":"IF(K56>0,+K56/J56,\"\")","v":""},{"$nulls":3},{"$f":"+J56+M56+N56+O56","v":0}]
[{"$nulls":9},{"$f":"+G57+H57+I57","v":0},{"$f":"+H57+I57","v":0},{"$f":"IF(K57>0,+K57/J57,\"\")","v":""},{"$nulls":3},{"$f":"+J57+M57+N57+O57","v":0}]
[{"$nulls":9},0,0,"",{"$nulls":3},0]
[{"$nulls":9},0,0,"",{"$nulls":3},0]
[{"$nulls":9},0,0,"",{"$nulls":3},0]
[{"$nulls":9},0,0,"",{"$nulls":3},0]
[{"$nulls":9},0,0,"",{"$nulls":3},0]
[{"$nulls":9},0,0,"",{"$nulls":3},0]
[{"$nulls":9},0,0,"",{"$nulls":3},0]
[{"$nulls":9},0,0,"",{"$nulls":3},0]
[{"$nulls":9},0,0,"",{"$nulls":3},0]
[{"$nulls":9},0,0,"",{"$nulls":3},0]
[{"$nulls":9},0,0,"",{"$nulls":3},0]
[{"$nulls":9},0,0,"",{"$nulls":3},0]
[{"$nulls":9},0,0,"",{"$nulls":3},0]
[{"$nulls":9},0,0,"",{"$nulls":3},0]
[{"$nulls":9},0,0,"",{"$nulls":3},0]
[{"$nulls":9},0,0,"",{"$nulls":3},0]
[{"$nulls":9},0,0,"",{"$nulls":3},0]
[{"$nulls":9},0,0,"",{"$nulls":3},0]
[{"$nulls":9},0,0,"",{"$nulls":3},0]
[{"$nulls":9},0,0,"",{"$nulls":3},0]
[{"$nulls":9},0,0,"",{"$nulls":3},0]
[{"$nulls":9},0,0,"",{"$nulls":3},0]
[{"$nulls":9},0,0,"",{"$nulls":3},0]
[{"$nulls":9},0,0,"",{"$nulls":3},0]
[{"$f":"+A40","v":"SECTION VIII TOTALS WILL BE ENTERED IN SECTION IX"},{"$nulls":4},{"$f":"SUM(F55:F81)","v":0},0,0,0,0,0,"",{"$f":"SUM(M55:M81)","v":0},{"$f":"SUM(N55:N81)","v":0},{"$f":"SUM(O55:O81)","v":0},{"$f":"SUM(P55:P81)","v":0}]
[]
[]
[{"$nulls":7},{"$f":"+'Section VI'!H1","v":"ANNUAL STATEMENT FOR THE YEAR 2021 OF  "},{"$f":"+'Section I'!I1","v":""},{"$nulls":6},{"$f":"+'Section I'!P1","v":"OMB No. 1530-0008"}]
[{"$nulls":9},"Write or Stamp Name",{"$nulls":5},{"$f":"+'Section I'!P2","v":" OMB Expiration Date:  6-30-2023"}]
["Schedule F - Part 1"]
[{"$f":"+'Section I'!A4","v":"Ceded Reinsurance as of December 31, Current Year (000's Omitted)"}]
["Section VIII Overflow Page"]
["Federal ID","NAIC Company ","Name of Reinsurer","Domiciliary","+","(1)                      Reinsurance Premiums","(2)                                                                                                                                                                        Recoverable on Paid Losses and                                                                              Paid Loss Adjustment Expense, Days Overdue",{"$nulls":3},"(3)                            Total           Overdue","(4)          Percentage Overdue     ","(5)                       (Known Case) Reinsurance Recoverable on Unpaid Losses","(6)                   Incurred But Not Reported Losses and","(7)                 Unearned","(8)                                      Total Recoverable      "]
["Number","Code",null,"Jurisdiction",null,"Ceded","(A)                    Current and              1 - 90","(B)                     91 - 120","(C)                  Over 120","(D)                           Total","(Col 2B + 2C)","(Col 3/Col 2D)","and Unpaid Loss Adjustment Expense","Loss Adjustment Expense","Premiums","(Cols 2D+5+6+7)"]
["SECTION VIII - Overflow Page"]
["TREASURY UNAUTHORIZED COMPANIES: "]
["    List alphabetically the names of all companies appearing in Schedule F, Part 3 of your company's annual financial statement which are not listed in"]
["     Sections I and II, including unauthorized parents and affiliates, and complete Columns 1 through 8."]
[]
[{"$nulls":9},{"$f":"+G97+H97+I97","v":0},{"$f":"+H97+I97","v":0},{"$f":"IF(K97>0,+K97/J97,\"\")","v":""},{"$nulls":3},{"$f":"+J97+M97+N97+O97","v":0}]
[{"$nulls":9},0,0,"",{"$nulls":3},{"$f":"+J98+M98+N98+O98","v":0}]
[{"$nulls":9},0,0,"",{"$nulls":3},0]
[{"$nulls":9},0,0,"",{"$nulls":3},0]
[{"$nulls":9},0,0,"",{"$nulls":3},0]
[{"$nulls":9},0,0,"",{"$nulls":3},0]
[{"$nulls":9},0,0,"",{"$nulls":3},0]
[{"$nulls":9},0,0,"",{"$nulls":3},0]
[{"$nulls":9},0,0,"",{"$nulls":3},0]
[{"$nulls":9},0,0,"",{"$nulls":3},0]
[{"$nulls":9},0,0,"",{"$nulls":3},0]
[{"$nulls":9},0,0,"",{"$nulls":3},0]
[{"$nulls":9},0,0,"",{"$nulls":3},0]
[{"$nulls":9},0,0,"",{"$nulls":3},0]
[{"$nulls":9},0,0,"",{"$nulls":3},0]
[{"$nulls":9},0,0,"",{"$nulls":3},0]
[{"$nulls":9},0,0,"",{"$nulls":3},0]
[{"$nulls":9},0,0,"",{"$nulls":3},0]
[{"$nulls":9},0,0,"",{"$nulls":3},0]
[{"$nulls":9},0,0,"",{"$nulls":3},0]
[{"$nulls":9},0,0,"",{"$nulls":3},0]
[{"$nulls":9},0,0,"",{"$nulls":3},0]
[{"$nulls":9},0,0,"",{"$nulls":3},0]
[{"$nulls":9},0,0,"",{"$nulls":3},0]
[{"$nulls":9},0,0,"",{"$nulls":3},0]
[{"$nulls":9},0,0,"",{"$nulls":3},0]
[{"$nulls":9},0,0,"",{"$nulls":3},0]
[{"$f":"+A40","v":"SECTION VIII TOTALS WILL BE ENTERED IN SECTION IX"},{"$nulls":4},{"$f":"SUM(F97:F123)","v":0},0,0,0,0,0,"",{"$f":"SUM(M97:M123)","v":0},{"$f":"SUM(N97:N123)","v":0},{"$f":"SUM(O97:O123)","v":0},{"$f":"SUM(P97:P123)","v":0}]
[]
[]
[{"$nulls":7},{"$f":"+'Section VI'!H1","v":"ANNUAL STATEMENT FOR THE YEAR 2021 OF  "},{"$f":"+'Section I'!I1","v":""},{"$nulls":6},"OMB No. 1510-0012"]
[{"$nulls":9},"Write or Stamp Name",{"$nulls":5},{"$f":"+'Section I'!P2","v":" OMB Expiration Date:  6-30-2023"}]
["Schedule F - Part 1"]
[{"$f":"+'Section I'!A4","v":"Ceded Reinsurance as of December 31, Current Year (000's Omitted)"}]
["Section VIII Overflow Page"]
["Federal ID","NAIC Company ","Name of Reinsurer","Domiciliary","+","(1)                      Reinsurance Premiums","(2)                                                                                                                                                                        Recoverable on Paid Losses and                                                                              Paid Loss Adjustment Expense, Days Overdue",{"$nulls":3},"(3)                            Total           Overdue","(4)          Percentage Overdue     ","(5)                       (Known Case) Reinsurance Recoverable on Unpaid Losses","(6)                   Incurred But Not Reported Losses and","(7)                 Unearned","(8)                                      Total Recoverable      "]
["Number","Code",null,"Jurisdiction",null,"Ceded","(A)                    Current and              1 - 90","(B)                     91 - 120","(C)                  Over 120","(D)                           Total","(Col 2B + 2C)","(Col 3/Col 2D)","and Unpaid Loss Adjustment Expense","Loss Adjustment Expense","Premiums","(Cols 2D+5+6+7)"]
["SECTION VIII - Overflow Page"]
["TREASURY UNAUTHORIZED COMPANIES: "]
["    List alphabetically the names of all companies appearing in Schedule F, Part 3 of your company's annual financial statement which are not listed in"]
["     Sections I and II, including unauthorized parents and affiliates, and complete Columns 1 through 8."]
[]
[{"$nulls":9},{"$f":"SUM(G139:I139)","v":0},{"$f":"+H139+I139","v":0},{"$f":"IF(K139>0,+K139/J139,\"\")","v":""},{"$nulls":3},{"$f":"+J139+M139+N139+O139","v":0}]
[{"$nulls":9},{"$f":"SUM(G140:I140)","v":0},{"$f":"+H140+I140","v":0},{"$f":"IF(K140>0,+K140/J140,\"\")","v":""},{"$nulls":3},{"$f":"+J140+M140+N140+O140","v":0}]
[{"$nulls":9},0,0,"",{"$nulls":3},0]
[{"$nulls":9},0,0,"",{"$nulls":3},0]
[{"$nulls":9},0,0,"",{"$nulls":3},0]
[{"$nulls":9},0,0,"",{"$nulls":3},0]
[{"$nulls":9},0,0,"",{"$nulls":3},0]
[{"$nulls":9},0,0,"",{"$nulls":3},0]
[{"$nulls":9},0,0,"",{"$nulls":3},0]
[{"$nulls":9},0,0,"",{"$nulls":3},0]
[{"$nulls":9},0,0,"",{"$nulls":3},0]
[{"$nulls":9},0,0,"",{"$nulls":3},0]
[{"$nulls":9},0,0,"",{"$nulls":3},0]
[{"$nulls":9},0,0,"",{"$nulls":3},0]
[{"$nulls":9},0,0,"",{"$nulls":3},0]
[{"$nulls":9},0,0,"",{"$nulls":3},0]
[{"$nulls":9},0,0,"",{"$nulls":3},0]
[{"$nulls":9},0,0,"",{"$nulls":3},0]
[{"$nulls":9},0,0,"",{"$nulls":3},0]
[{"$nulls":9},0,0,"",{"$nulls":3},0]
[{"$nulls":9},0,0,"",{"$nulls":3},0]
[{"$nulls":9},0,0,"",{"$nulls":3},0]
[{"$nulls":9},0,0,"",{"$nulls":3},0]
[{"$nulls":9},0,0,"",{"$nulls":3},0]
[{"$nulls":9},0,0,"",{"$nulls":3},0]
[{"$nulls":9},0,0,"",{"$nulls":3},0]
[{"$nulls":9},0,0,"",{"$nulls":3},0]
[{"$f":"+A40","v":"SECTION VIII TOTALS WILL BE ENTERED IN SECTION IX"},{"$nulls":4},{"$f":"SUM(F139:F165)","v":0},0,0,0,0,0,{"$f":"IF(K166>0,+K166/J166,\"\")","v":""},{"$f":"SUM(M139:M165)","v":0},{"$f":"SUM(N139:N165)","v":0},{"$f":"SUM(O139:O165)","v":0},{"$f":"SUM(P139:P165)","v":0}]

{"sheet":"Funds Held Overflow Page","index":14,"n_rows":173,"n_cols":12,"rows_kept":173}
[{"$nulls":6},{"$f":"+'Section VI'!H1","v":"ANNUAL STATEMENT FOR THE YEAR 2021 OF  "},{"$f":"+'Section I'!I1","v":""},{"$nulls":3},{"$f":"+'Section I'!P1","v":"OMB No. 1530-0008"}]
[{"$nulls":8},"Write or Stamp Name",null,null,{"$f":"+'Section I'!P2","v":" OMB Expiration Date:  6-30-2023"}]
["SCHEDULE F - Part 2"]
[{"$f":"+'Funds Held Section'!A4","v":"Funds Withheld on Account of Reinsurance in Unauthorized Companies as of December 31, Current Year (000's Omitted)"}]
["Overflow Page"]
[{"$nulls":5},"(2)"]
["Federal ID Number","NAIC Company Code","Name of Reinsurer","Domiciliary Jurisdiction","(1)                     Reinsurance Recoverables From Unauthorized Companies - All Items From Part 1, Section IX, Col. 8","(A)                                       Funds Held By Company Under Reinsurance Treaties","(B)                                   Letters of Credit","(C)                                       Trust Agreements","(D)                                       Other Allowed Offset Items","(E)                                        Total Funds Held (Cols 2A Through 2D)","(3)                                         Total Credit Allowed For Funds Held (Smaller of Col 1 or Col 2E)","(4)                                            Past Due Reinsurance Recoverable from Part 1, Section IX, Col 3"]
["Funds Held - Overflow Page"]
[{"$nulls":9},{"$f":"+F9+G9+H9+I9","v":0},{"$f":"IF(J9<E9,+J9,+E9)","v":0}]
[{"$nulls":9},0,0]
[{"$nulls":9},0,0]
[{"$nulls":9},0,0]
[{"$nulls":9},0,0]
[{"$nulls":9},0,0]
[{"$nulls":9},0,0]
[{"$nulls":9},0,0]
[{"$nulls":9},0,0]
[{"$nulls":9},0,0]
[{"$nulls":9},0,0]
[{"$nulls":9},0,0]
[{"$nulls":9},0,0]
[{"$nulls":9},0,0]
[{"$nulls":9},0,0]
[{"$nulls":9},0,0]
[{"$nulls":9},0,0]
[{"$nulls":9},0,0]
[{"$nulls":9},0,0]
[{"$nulls":9},0,0]
[{"$nulls":9},0,0]
[{"$nulls":9},0,0]
[{"$nulls":9},0,0]
[{"$nulls":9},0,0]
[{"$nulls":9},0,0]
[{"$nulls":9},0,0]
[{"$nulls":9},0,0]
[{"$nulls":9},0,0]
[{"$nulls":9},0,0]
[{"$nulls":9},0,0]
[{"$nulls":9},0,0]
[{"$nulls":9},0,0]
["Overflow Page FUNDS HELD TOTALS WILL BE ENTERED ON SUMMARY PAGE",{"$nulls":3},{"$f":"SUM(E9:E40)","v":0},{"$f":"SUM(F9:F40)","v":0},0,0,0,0,0,{"$f":"SUM(L9:L40)","v":0}]
[]
[]
[]
[{"$nulls":6},{"$f":"+'Section VI'!H1","v":"ANNUAL STATEMENT FOR THE YEAR 2021 OF  "},{"$f":"+'Section I'!I1","v":""},{"$nulls":3},{"$f":"+'Section I'!P1","v":"OMB No. 1530-0008"}]
[{"$nulls":8},"Write or Stamp Name",null,null,{"$f":"+'Section I'!P2","v":" OMB Expiration Date:  6-30-2023"}]
["SCHEDULE F - Part 2"]
[{"$f":"+'Funds Held Section'!A4","v":"Funds Withheld on Account of Reinsurance in Unauthorized Companies as of December 31, Current Year (000's Omitted)"}]
["Overflow Page"]
[{"$nulls":5},"(2)"]
["Federal ID Number","NAIC Company Code","Name of Reinsurer","Domiciliary Jurisdiction","(1)                     Reinsurance Recoverables From Unauthorized Companies - All Items From Part 1, Section IX, Col. 8","(A)                                       Funds Held By Company Under Reinsurance Treaties","(B)                                   Letters of Credit","(C)                                       Trust Agreements","(D)                                       Other Allowed Offset Items","(E)                                        Total Funds Held (Cols 2A Through 2D)","(3)                                         Total Credit Allowed For Funds Held (Smaller of Col 1 or Col 2E)","(4)                                            Past Due Reinsurance Recoverable from Part 1, Section IX, Col 3"]
[{"$nulls":9},{"$f":"+F52+G52+H52+I52","v":0},{"$f":"IF(J52<E52,+J52,+E52)","v":0}]
[{"$nulls":9},{"$f":"+F53+G53+H53+I53","v":0},{"$f":"IF(J53<E53,+J53,+E53)","v":0}]
[{"$nulls":9},0,0]
[{"$nulls":9},0,0]
[{"$nulls":9},0,0]
[{"$nulls":9},0,0]
[{"$nulls":9},0,0]
[{"$nulls":9},0,0]
[{"$nulls":9},0,0]
[{"$nulls":9},0,0]
[{"$nulls":9},0,0]
[{"$nulls":9},0,0]
[{"$nulls":9},0,0]
[{"$nulls":9},0,0]
[{"$nulls":9},0,0]
[{"$nulls":9},0,0]
[{"$nulls":9},0,0]
[{"$nulls":9},0,0]
[{"$nulls":9},0,0]
[{"$nulls":9},0,0]
[{"$nulls":9},0,0]
[{"$nulls":9},0,0]
[{"$nulls":9},0,0]
[{"$nulls":9},0,0]
[{"$nulls":9},0,0]
[{"$nulls":9},0,0]
[{"$nulls":9},0,0]
[{"$nulls":9},0,0]
[{"$nulls":9},0,0]
[{"$nulls":9},0,0]
[{"$nulls":9},0,0]
[{"$nulls":9},0,0]
[{"$nulls":9},0,0]
[{"$f":"+A41","v":"Overflow Page FUNDS HELD TOTALS WILL BE ENTERED ON SUMMARY PAGE"},{"$nulls":3},{"$f":"SUM(E52:E84)","v":0},0,0,0,0,0,0,0]
[]
[]
[]
[{"$nulls":6},{"$f":"+'Section VI'!H1","v":"ANNUAL STATEMENT FOR THE YEAR 2021 OF  "},{"$f":"+'Section I'!I1","v":""},{"$nulls":3},{"$f":"+'Section I'!P1","v":"OMB No. 1530-0008"}]
[{"$nulls":8},"Write or Stamp Name",null,null,{"$f":"+'Section I'!P2","v":" OMB Expiration Date:  6-30-2023"}]
["SCHEDULE F - Part 2"]
[{"$f":"+'Funds Held Section'!A4","v":"Funds Withheld on Account of Reinsurance in Unauthorized Companies as of December 31, Current Year (000's Omitted)"}]
["Overflow Page"]
[{"$nulls":5},"(2)"]
["Federal ID Number","NAIC Company Code","Name of Reinsurer","Domiciliary Jurisdiction","(1)                     Reinsurance Recoverables From Unauthorized Companies - All Items From Part 1, Section IX, Col. 8","(A)                                       Funds Held By Company Under Reinsurance Treaties","(B)                                   Letters of Credit","(C)                                       Trust Agreements","(D)                                       Other Allowed Offset Items","(E)                                        Total Funds Held (Cols 2A Through 2D)","(3)                                         Total Credit Allowed For Funds Held (Smaller of Col 1 or Col 2E)","(4)                                            Past Due Reinsurance Recoverable from Part 1, Section IX, Col 3"]
[{"$nulls":9},{"$f":"+F96+G96+H96+I96","v":0},{"$f":"IF(J96<E96,+J96,+E96)","v":0}]
[{"$nulls":9},{"$f":"+F97+G97+H97+I97","v":0},{"$f":"IF(J97<E97,+J97,+E97)","v":0}]
[{"$nulls":9},0,0]
[{"$nulls":9},0,0]
[{"$nulls":9},0,0]
[{"$nulls":9},0,0]
[{"$nulls":9},0,0]
[{"$nulls":9},0,0]
[{"$nulls":9},0,0]
[{"$nulls":9},0,0]
[{"$nulls":9},0,0]
[{"$nulls":9},0,0]
[{"$nulls":9},0,0]
[{"$nulls":9},0,0]
[{"$nulls":9},0,0]
[{"$nulls":9},0,0]
[{"$nulls":9},0,0]
[{"$nulls":9},0,0]
[{"$nulls":9},0,0]
[{"$nulls":9},0,0]
[{"$nulls":9},0,0]
[{"$nulls":9},0,0]
[{"$nulls":9},0,0]
[{"$nulls":9},0,0]
[{"$nulls":9},0,0]
[{"$nulls":9},0,0]
[{"$nulls":9},0,0]
[{"$nulls":9},0,0]
[{"$nulls":9},0,0]
[{"$nulls":9},0,0]
[{"$nulls":9},0,0]
[{"$nulls":9},0,0]
[{"$nulls":9},0,0]
[{"$f":"+A41","v":"Overflow Page FUNDS HELD TOTALS WILL BE ENTERED ON SUMMARY PAGE"},{"$nulls":3},{"$f":"SUM(E96:E128)","v":0},0,0,0,0,0,0,0]
[]
[]
[]
[{"$nulls":6},{"$f":"+'Section VI'!H1","v":"ANNUAL STATEMENT FOR THE YEAR 2021 OF  "},{"$f":"+'Section I'!I1","v":""},{"$nulls":3},{"$f":"+'Section I'!P1","v":"OMB No. 1530-0008"}]
[{"$nulls":8},"Write or Stamp Name",null,null,{"$f":"+'Section I'!P2","v":" OMB Expiration Date:  6-30-2023"}]
["SCHEDULE F - Part 2"]
[{"$f":"+'Funds Held Section'!A4","v":"Funds Withheld on Account of Reinsurance in Unauthorized Companies as of December 31, Current Year (000's Omitted)"}]
["Overflow Page"]
[{"$nulls":5},"(2)"]
["Federal ID Number","NAIC Company Code","Name of Reinsurer","Domiciliary Jurisdiction","(1)                     Reinsurance Recoverables From Unauthorized Companies - All Items From Part 1, Section IX, Col. 8","(A)                                       Funds Held By Company Under Reinsurance Treaties","(B)                                   Letters of Credit","(C)                                       Trust Agreements","(D)                                       Other Allowed Offset Items","(E)                                        Total Funds Held (Cols 2A Through 2D)","(3)                                         Total Credit Allowed For Funds Held (Smaller of Col 1 or Col 2E)","(4)                                            Past Due Reinsurance Recoverable from Part 1, Section IX, Col 3"]
[{"$nulls":9},{"$f":"+F140+G140+H140+I140","v":0},{"$f":"IF(J140<E140,+J140,+E140)","v":0}]
[{"$nulls":9},{"$f":"+F141+G141+H141+I141","v":0},{"$f":"IF(J141<E141,+J141,+E141)","v":0}]
[{"$nulls":9},0,0]
[{"$nulls":9},0,0]
[{"$nulls":9},0,0]
[{"$nulls":9},0,0]
[{"$nulls":9},0,0]
[{"$nulls":9},0,0]
[{"$nulls":9},0,0]
[{"$nulls":9},0,0]
[{"$nulls":9},0,0]
[{"$nulls":9},0,0]
[{"$nulls":9},0,0]
[{"$nulls":9},0,0]
[{"$nulls":9},0,0]
[{"$nulls":9},0,0]
[{"$nulls":9},0,0]
[{"$nulls":9},0,0]
[{"$nulls":9},0,0]
[{"$nulls":9},0,0]
[{"$nulls":9},0,0]
[{"$nulls":9},0,0]
[{"$nulls":9},0,0]
[{"$nulls":9},0,0]
[{"$nulls":9},0,0]
[{"$nulls":9},0,0]
[{"$nulls":9},0,0]
[{"$nulls":9},0,0]
[{"$nulls":9},0,0]
[{"$nulls":9},0,0]
[{"$nulls":9},0,0]
[{"$nulls":9},0,0]
[{"$nulls":9},0,0]
[{"$f":"+A41","v":"Overflow Page FUNDS HELD TOTALS WILL BE ENTERED ON SUMMARY PAGE"},{"$nulls":3},{"$f":"SUM(E140:E172)","v":0},0,0,0,0,0,0,0]