Workbook
Name Common_Name: Lists!$B$2:$B$133
Name Common_Name_1: OFFSET(Lists!$E$2:$E$133,0,0,COUNT(Lists!$C$2:$C$133),1)
Name Common_Name_2: OFFSET(Lists!$F$2:$F$133,0,0,COUNT(Lists!$D$2:$D$133),1)
Name Quarter: Lists!$H$2:$H$5
Name Year: Lists!$I$2:$I$10

Sheet Quarterly Information
E1: OMB Control Number: 2060-0734
E2: Expiration Date: 12/31/2024
B4: American Innovation and Manufacturing Act - HFC Reclamation Quarterly Report
B6: Worksheet Instructions:
B7: Complete and submit an HFC Reclamation Quarterly Report if your company reclaims HFCs. Section 1 must be completed prior to submission. Section 2 must be completed if your company received for reclamation or reclaimed HFCs during the reporting quarter; if no HFCs were received or reclaimed during the quarter, Section 2 may be left blank. Section 3 must be completed if your company is reporting quarter 4 activity.
B8: Version:
B9: r0.2
B10: Updated:
B11: 44690
B12: External Links:
B13: HFC Allocation Rule Reporting HelpDesk | C13: AIM Act Paperwork Reduction Act Burden
B14: Reporting Form Navigation:
B15: Section 1 - Company Identification | C15: Section 3 - End-of-Year Inventory
B16: Section 2 - Reclamation Information
B18: EPA may request additional information or ask follow up questions to verify the accuracy of this submission and supporting documentation, including pursuant to CAA section 114 as authorized under the AIM Act.
B21: Section 1 - Company Identification
B22: Instructions: Complete the following company information.
B23: Company Name:
B24: Company ID:
B25: Reporting Year:
B26: Reporting Quarter:
B28: Section 2 - Reclamation Information
B29: Instructions: Enter the quantity of each HFC or HFC Blend that was received for reclamation during the reporting quarter.
B30: HFC Received for Reclamation
B31: 1 | C31: 2 | D31: 3 | E31: 4
B32: HFC/HFC Blend | C32: Quantity of Material Received for Reclamation (kg) §84.31(i)(2) | D32: Quantity of HFC/HFC Blend Reclaimed (kg) §84.31(i)(2) | E32: Quantity of Waste Products (kg) §84.31(i)(2)
A36: 1
A37: 2
A38: 3
A39: 4
A40: 5
A41: 6
A42: 7
A43: 8
A44: 9
A45: 10
A46: 11
A47: 12
... A75: 40
B77: This collection of information is approved by OMB under the Paperwork Reduction Act, 44 U.S.C. 3501 et seq. (OMB Control No. 2060-0734). Responses to this collection of information are mandatory (40 CFR 84.31). An agency may not conduct or sponsor, and a person is not required to respond to, a collection of information unless it displays a currently valid OMB control number. The public reporting and recordkeeping burden for this collection of information is estimated to be 19.4 hours per response. Send comments on the Agency’s need for this information, the accuracy of the provided burden estimates and any suggested methods for minimizing respondent burden including through the use of automated collection techniques to the Director, Regulatory Support Division, U.S. Environmental Protection Agency (2821T), 1200 Pennsylvania Ave., NW, Washington, D.C. 20460. Include the OMB control number in any correspondence. Do not send the completed form to this address.
...

Sheet End of Year Reporting
F1: OMB Control Number: 2060-0734
F2: Expiration Date: 12/31/2024
B4: American Innovation and Manufacturing Act - HFC Reclamation Quarterly Report
B6: Worksheet Instructions:
B7: Complete and submit an HFC Reclamation Quarterly Report if your company reclaims HFCs. Section 1 must be completed prior to submission. Section 2 must be completed if your company received for reclamation or reclaimed HFCs during the reporting quarter; if no HFCs were received or reclaimed during the quarter, Section 2 may be left blank. Section 3 must be completed if your company is reporting quarter 4 activity.
B8: Version:
B9: ='Quarterly Information'!B9 -> r0.2
B10: Updated:
B11: ='Quarterly Information'!B11 -> 44690
B12: External Links:
B13: HFC Allocation Rule Reporting HelpDesk | C13: AIM Act Paperwork Reduction Act Burden
B14: Reporting Form Navigation:
B15: Section 1 - Company Identification | C15: Section 3 - End-of-Year Inventory
B16: Section 2 - Reclamation Information
B18: Section 3 - End-of-Year Inventory
B19: Instructions: Provide the following information for each HFC or HFC Blend held in inventory as of December 31. Data should only be reported in the fourth quarter report.
B21: HFC End-of-Year Inventory
B22: 1 | C22: 2 | D22: 3 | E22: 4 | F22: 5
B23: HFC/HFC Blend | C23: Quantity Recovered (kg) §84.31(i)(3) | D23: Quantity Reclaimed (kg) §84.31(i)(3) | E23: Quantity of Virgin Material (kg) §84.31(i)(3) | F23: Total Quantity of Inventory (kg) §84.31(i)(3)
I26: F22:F39
A27: 1 | F27: =IF(AND(J27=TRUE)," ",(C27+D27+E27)) | I27: =F27 | J27: =SUMPRODUCT(--((C27:E27)<>""))=0 -> TRUE
A28: 2 | F28: =IF(AND(J28=TRUE)," ",(C28+D28+E28)) | I28: =F28 | J28: =SUMPRODUCT(--((C28:E28)<>""))=0 -> TRUE
A29: 3 | F29: =IF(AND(J29=TRUE)," ",(C29+D29+E29)) | I29: =F29 | J29: =SUMPRODUCT(--((C29:E29)<>""))=0 -> TRUE
A30: 4 | F30: =IF(AND(J30=TRUE)," ",(C30+D30+E30)) | I30: =F30 | J30: =SUMPRODUCT(--((C30:E30)<>""))=0 -> TRUE
A31: 5 | F31: =IF(AND(J31=TRUE)," ",(C31+D31+E31)) | I31: =F31 | J31: =SUMPRODUCT(--((C31:E31)<>""))=0 -> TRUE
A32: 6 | F32: =IF(AND(J32=TRUE)," ",(C32+D32+E32)) | I32: =F32 | J32: =SUMPRODUCT(--((C32:E32)<>""))=0 -> TRUE
A33: 7 | F33: =IF(AND(J33=TRUE)," ",(C33+D33+E33)) | I33: =F33 | J33: =SUMPRODUCT(--((C33:E33)<>""))=0 -> TRUE
A34: 8 | F34: =IF(AND(J34=TRUE)," ",(C34+D34+E34)) | I34: =F34 | J34: =SUMPRODUCT(--((C34:E34)<>""))=0 -> TRUE
A35: 9 | F35: =IF(AND(J35=TRUE)," ",(C35+D35+E35)) | I35: =F35 | J35: =SUMPRODUCT(--((C35:E35)<>""))=0 -> TRUE
A36: 10 | F36: =IF(AND(J36=TRUE)," ",(C36+D36+E36)) | I36: =F36 | J36: =SUMPRODUCT(--((C36:E36)<>""))=0 -> TRUE
A37: 11 | F37: =IF(AND(J37=TRUE)," ",(C37+D37+E37)) | I37: =F37 | J37: =SUMPRODUCT(--((C37:E37)<>""))=0 -> TRUE
A38: 12 | F38: =IF(AND(J38=TRUE)," ",(C38+D38+E38)) | J38: =SUMPRODUCT(--((C38:E38)<>""))=0 -> TRUE
A39: 13 | F39: =IF(AND(J39=TRUE)," ",(C39+D39+E39)) | J39: =SUMPRODUCT(--((C39:E39)<>""))=0 -> TRUE
A40: 14 | F40: =IF(AND(J40=TRUE)," ",(C40+D40+E40)) | J40: =SUMPRODUCT(--((C40:E40)<>""))=0 -> TRUE
A41: 15 | F41: =IF(AND(J41=TRUE)," ",(C41+D41+E41)) | J41: =SUMPRODUCT(--((C41:E41)<>""))=0 -> TRUE
A42: 16 | F42: =IF(AND(J42=TRUE)," ",(C42+D42+E42)) | J42: =SUMPRODUCT(--((C42:E42)<>""))=0 -> TRUE
A43: 17 | F43: =IF(AND(J43=TRUE)," ",(C43+D43+E43)) | J43: =SUMPRODUCT(--((C43:E43)<>""))=0 -> TRUE
A44: 18 | F44: =IF(AND(J44=TRUE)," ",(C44+D44+E44)) | J44: =SUMPRODUCT(--((C44:E44)<>""))=0 -> TRUE
A45: 19 | F45: =IF(AND(J45=TRUE)," ",(C45+D45+E45)) | J45: =SUMPRODUCT(--((C45:E45)<>""))=0 -> TRUE
A46: 20 | F46: =IF(AND(J46=TRUE)," ",(C46+D46+E46)) | J46: =SUMPRODUCT(--((C46:E46)<>""))=0 -> TRUE
...

Sheet Lists
A1: Chemical Name | B1: [Common Name] | E1: [Common_Name_1] | F1: [Common_Name_2] | H1: [Quarter] | I1: [Year]
A2: CHF3 | B2: HFC-23 | C2: =IF(COUNTIF('Quarterly Information'!B$36:B$75,B2)>=1,"",ROW()) -> 2 | D2: =IF(COUNTIF('End of Year Reporting'!$B$27:$B$66,B2)>=1,"",ROW()) -> 2 | E2: =IF(ROW(B2)-ROW(B$2)+1>COUNT(C$2:C$133),"",INDEX(B:B,SMALL(C$2:C$133,1+ROW(B2)-ROW(B$2)))) -> HFC-23 | F2: =IF(ROW(B2)-ROW(B$2)+1>COUNT(C$2:C$133),"",INDEX(B:B,SMALL(C$2:C$133,1+ROW(B2)-ROW(B$2)))) -> HFC-23 | H2: 1 | I2: 2022
A3: CH2F2 | B3: HFC-32 | C3: =IF(COUNTIF('Quarterly Information'!B$36:B$75,B3)>=1,"",ROW()) -> 3 | D3: =IF(COUNTIF('End of Year Reporting'!$B$27:$B$66,B3)>=1,"",ROW()) -> 3 | E3: =IF(ROW(B3)-ROW(B$2)+1>COUNT(C$2:C$133),"",INDEX(B:B,SMALL(C$2:C$133,1+ROW(B3)-ROW(B$2)))) -> HFC-32 | F3: =IF(ROW(B3)-ROW(B$2)+1>COUNT(C$2:C$133),"",INDEX(B:B,SMALL(C$2:C$133,1+ROW(B3)-ROW(B$2)))) -> HFC-32 | H3: 2 | I3: 2023
A4: CH3F | B4: HFC-41 | C4: =IF(COUNTIF('Quarterly Information'!B$36:B$75,B4)>=1,"",ROW()) -> 4 | D4: =IF(COUNTIF('End of Year Reporting'!$B$27:$B$66,B4)>=1,"",ROW()) -> 4 | E4: =IF(ROW(B4)-ROW(B$2)+1>COUNT(C$2:C$133),"",INDEX(B:B,SMALL(C$2:C$133,1+ROW(B4)-ROW(B$2)))) -> HFC-41 | F4: =IF(ROW(B4)-ROW(B$2)+1>COUNT(C$2:C$133),"",INDEX(B:B,SMALL(C$2:C$133,1+ROW(B4)-ROW(B$2)))) -> HFC-41 | H4: 3 | I4: 2024
A5: CF3CHFCHFCF2CF3 | B5: HFC-43-10mee | C5: =IF(COUNTIF('Quarterly Information'!B$36:B$75,B5)>=1,"",ROW()) -> 5 | D5: =IF(COUNTIF('End of Year Reporting'!$B$27:$B$66,B5)>=1,"",ROW()) -> 5 | E5: =IF(ROW(B5)-ROW(B$2)+1>COUNT(C$2:C$133),"",INDEX(B:B,SMALL(C$2:C$133,1+ROW(B5)-ROW(B$2)))) -> HFC-43-10mee | F5: =IF(ROW(B5)-ROW(B$2)+1>COUNT(C$2:C$133),"",INDEX(B:B,SMALL(C$2:C$133,1+ROW(B5)-ROW(B$2)))) -> HFC-43-10mee | H5: 4 | I5: 2025
A6: CHF2CF3 | B6: HFC-125 | C6: =IF(COUNTIF('Quarterly Information'!B$36:B$75,B6)>=1,"",ROW()) -> 6 | D6: =IF(COUNTIF('End of Year Reporting'!$B$27:$B$66,B6)>=1,"",ROW()) -> 6 | E6: =IF(ROW(B6)-ROW(B$2)+1>COUNT(C$2:C$133),"",INDEX(B:B,SMALL(C$2:C$133,1+ROW(B6)-ROW(B$2)))) -> HFC-125 | F6: =IF(ROW(B6)-ROW(B$2)+1>COUNT(C$2:C$133),"",INDEX(B:B,SMALL(C$2:C$133,1+ROW(B6)-ROW(B$2)))) -> HFC-125 | I6: 2026
A7: CHF2CHF2 | B7: HFC-134 | C7: =IF(COUNTIF('Quarterly Information'!B$36:B$75,B7)>=1,"",ROW()) -> 7 | D7: =IF(COUNTIF('End of Year Reporting'!$B$27:$B$66,B7)>=1,"",ROW()) -> 7 | E7: =IF(ROW(B7)-ROW(B$2)+1>COUNT(C$2:C$133),"",INDEX(B:B,SMALL(C$2:C$133,1+ROW(B7)-ROW(B$2)))) -> HFC-134 | F7: =IF(ROW(B7)-ROW(B$2)+1>COUNT(C$2:C$133),"",INDEX(B:B,SMALL(C$2:C$133,1+ROW(B7)-ROW(B$2)))) -> HFC-134 | I7: 2027
A8: CH2FCF3 | B8: HFC-134a | C8: =IF(COUNTIF('Quarterly Information'!B$36:B$75,B8)>=1,"",ROW()) -> 8 | D8: =IF(COUNTIF('End of Year Reporting'!$B$27:$B$66,B8)>=1,"",ROW()) -> 8 | E8: =IF(ROW(B8)-ROW(B$2)+1>COUNT(C$2:C$133),"",INDEX(B:B,SMALL(C$2:C$133,1+ROW(B8)-ROW(B$2)))) -> HFC-134a | F8: =IF(ROW(B8)-ROW(B$2)+1>COUNT(C$2:C$133),"",INDEX(B:B,SMALL(C$2:C$133,1+ROW(B8)-ROW(B$2)))) -> HFC-134a | I8: 2028
A9: CH2FCHF2 | B9: HFC-143 | C9: =IF(COUNTIF('Quarterly Information'!B$36:B$75,B9)>=1,"",ROW()) -> 9 | D9: =IF(COUNTIF('End of Year Reporting'!$B$27:$B$66,B9)>=1,"",ROW()) -> 9 | E9: =IF(ROW(B9)-ROW(B$2)+1>COUNT(C$2:C$133),"",INDEX(B:B,SMALL(C$2:C$133,1+ROW(B9)-ROW(B$2)))) -> HFC-143 | F9: =IF(ROW(B9)-ROW(B$2)+1>COUNT(C$2:C$133),"",INDEX(B:B,SMALL(C$2:C$133,1+ROW(B9)-ROW(B$2)))) -> HFC-143 | I9: 2029
A10: CH3CF3 | B10: HFC-143a | C10: =IF(COUNTIF('Quarterly Information'!B$36:B$75,B10)>=1,"",ROW()) -> 10 | D10: =IF(COUNTIF('End of Year Reporting'!$B$27:$B$66,B10)>=1,"",ROW()) -> 10 | E10: =IF(ROW(B10)-ROW(B$2)+1>COUNT(C$2:C$133),"",INDEX(B:B,SMALL(C$2:C$133,1+ROW(B10)-ROW(B$2)))) -> HFC-143a | F10: =IF(ROW(B10)-ROW(B$2)+1>COUNT(C$2:C$133),"",INDEX(B:B,SMALL(C$2:C$133,1+ROW(B10)-ROW(B$2)))) -> HFC-143a | I10: 2030
A11: CH2FCH2F | B11: HFC-152 | C11: =IF(COUNTIF('Quarterly Information'!B$36:B$75,B11)>=1,"",ROW()) -> 11 | D11: =IF(COUNTIF('End of Year Reporting'!$B$27:$B$66,B11)>=1,"",ROW()) -> 11 | E11: =IF(ROW(B11)-ROW(B$2)+1>COUNT(C$2:C$133),"",INDEX(B:B,SMALL(C$2:C$133,1+ROW(B11)-ROW(B$2)))) -> HFC-152 | F11: =IF(ROW(B11)-ROW(B$2)+1>COUNT(C$2:C$133),"",INDEX(B:B,SMALL(C$2:C$133,1+ROW(B11)-ROW(B$2)))) -> HFC-152
A12: CH3CHF2 | B12: HFC-152a | C12: =IF(COUNTIF('Quarterly Information'!B$36:B$75,B12)>=1,"",ROW()) -> 12 | D12: =IF(COUNTIF('End of Year Reporting'!$B$27:$B$66,B12)>=1,"",ROW()) -> 12 | E12: =IF(ROW(B12)-ROW(B$2)+1>COUNT(C$2:C$133),"",INDEX(B:B,SMALL(C$2:C$133,1+ROW(B12)-ROW(B$2)))) -> HFC-152a | F12: =IF(ROW(B12)-ROW(B$2)+1>COUNT(C$2:C$133),"",INDEX(B:B,SMALL(C$2:C$133,1+ROW(B12)-ROW(B$2)))) -> HFC-152a
A13: CF3CHFCF3 | B13: HFC-227ea | C13: =IF(COUNTIF('Quarterly Information'!B$36:B$75,B13)>=1,"",ROW()) -> 13 | D13: =IF(COUNTIF('End of Year Reporting'!$B$27:$B$66,B13)>=1,"",ROW()) -> 13 | E13: =IF(ROW(B13)-ROW(B$2)+1>COUNT(C$2:C$133),"",INDEX(B:B,SMALL(C$2:C$133,1+ROW(B13)-ROW(B$2)))) -> HFC-227ea | F13: =IF(ROW(B13)-ROW(B$2)+1>COUNT(C$2:C$133),"",INDEX(B:B,SMALL(C$2:C$133,1+ROW(B13)-ROW(B$2)))) -> HFC-227ea
A14: CH2FCF2CF3 | B14: HFC-236cb | C14: =IF(COUNTIF('Quarterly Information'!B$36:B$75,B14)>=1,"",ROW()) -> 14 | D14: =IF(COUNTIF('End of Year Reporting'!$B$27:$B$66,B14)>=1,"",ROW()) -> 14 | E14: =IF(ROW(B14)-ROW(B$2)+1>COUNT(C$2:C$133),"",INDEX(B:B,SMALL(C$2:C$133,1+ROW(B14)-ROW(B$2)))) -> HFC-236cb | F14: =IF(ROW(B14)-ROW(B$2)+1>COUNT(C$2:C$133),"",INDEX(B:B,SMALL(C$2:C$133,1+ROW(B14)-ROW(B$2)))) -> HFC-236cb
A15: CHF2CHFCF3 | B15: HFC-236ea | C15: =IF(COUNTIF('Quarterly Information'!B$36:B$75,B15)>=1,"",ROW()) -> 15 | D15: =IF(COUNTIF('End of Year Reporting'!$B$27:$B$66,B15)>=1,"",ROW()) -> 15 | E15: =IF(ROW(B15)-ROW(B$2)+1>COUNT(C$2:C$133),"",INDEX(B:B,SMALL(C$2:C$133,1+ROW(B15)-ROW(B$2)))) -> HFC-236ea | F15: =IF(ROW(B15)-ROW(B$2)+1>COUNT(C$2:C$133),"",INDEX(B:B,SMALL(C$2:C$133,1+ROW(B15)-ROW(B$2)))) -> HFC-236ea
A16: CF3CH2CF3 | B16: HFC-236fa | C16: =IF(COUNTIF('Quarterly Information'!B$36:B$75,B16)>=1,"",ROW()) -> 16 | D16: =IF(COUNTIF('End of Year Reporting'!$B$27:$B$66,B16)>=1,"",ROW()) -> 16 | E16: =IF(ROW(B16)-ROW(B$2)+1>COUNT(C$2:C$133),"",INDEX(B:B,SMALL(C$2:C$133,1+ROW(B16)-ROW(B$2)))) -> HFC-236fa | F16: =IF(ROW(B16)-ROW(B$2)+1>COUNT(C$2:C$133),"",INDEX(B:B,SMALL(C$2:C$133,1+ROW(B16)-ROW(B$2)))) -> HFC-236fa
A17: CH2FCF2CHF2 | B17: HFC-245ca | C17: =IF(COUNTIF('Quarterly Information'!B$36:B$75,B17)>=1,"",ROW()) -> 17 | D17: =IF(COUNTIF('End of Year Reporting'!$B$27:$B$66,B17)>=1,"",ROW()) -> 17 | E17: =IF(ROW(B17)-ROW(B$2)+1>COUNT(C$2:C$133),"",INDEX(B:B,SMALL(C$2:C$133,1+ROW(B17)-ROW(B$2)))) -> HFC-245ca | F17: =IF(ROW(B17)-ROW(B$2)+1>COUNT(C$2:C$133),"",INDEX(B:B,SMALL(C$2:C$133,1+ROW(B17)-ROW(B$2)))) -> HFC-245ca
A18: CF3CH2CF3 | B18: HFC-245fa | C18: =IF(COUNTIF('Quarterly Information'!B$36:B$75,B18)>=1,"",ROW()) -> 18 | D18: =IF(COUNTIF('End of Year Reporting'!$B$27:$B$66,B18)>=1,"",ROW()) -> 18 | E18: =IF(ROW(B18)-ROW(B$2)+1>COUNT(C$2:C$133),"",INDEX(B:B,SMALL(C$2:C$133,1+ROW(B18)-ROW(B$2)))) -> HFC-245fa | F18: =IF(ROW(B18)-ROW(B$2)+1>COUNT(C$2:C$133),"",INDEX(B:B,SMALL(C$2:C$133,1+ROW(B18)-ROW(B$2)))) -> HFC-245fa
A19: CF3CH2CF2CH3 | B19: HFC-365mfc | C19: =IF(COUNTIF('Quarterly Information'!B$36:B$75,B19)>=1,"",ROW()) -> 19 | D19: =IF(COUNTIF('End of Year Reporting'!$B$27:$B$66,B19)>=1,"",ROW()) -> 19 | E19: =IF(ROW(B19)-ROW(B$2)+1>COUNT(C$2:C$133),"",INDEX(B:B,SMALL(C$2:C$133,1+ROW(B19)-ROW(B$2)))) -> HFC-365mfc | F19: =IF(ROW(B19)-ROW(B$2)+1>COUNT(C$2:C$133),"",INDEX(B:B,SMALL(C$2:C$133,1+ROW(B19)-ROW(B$2)))) -> HFC-365mfc
B20: R-401A | C20: =IF(COUNTIF('Quarterly Information'!B$36:B$75,B20)>=1,"",ROW()) -> 20 | D20: =IF(COUNTIF('End of Year Reporting'!$B$27:$B$66,B20)>=1,"",ROW()) -> 20 | E20: =IF(ROW(B20)-ROW(B$2)+1>COUNT(C$2:C$133),"",INDEX(B:B,SMALL(C$2:C$133,1+ROW(B20)-ROW(B$2)))) -> R-401A | F20: =IF(ROW(B20)-ROW(B$2)+1>COUNT(C$2:C$133),"",INDEX(B:B,SMALL(C$2:C$133,1+ROW(B20)-ROW(B$2)))) -> R-401A
B21: R-401B | C21: =IF(COUNTIF('Quarterly Information'!B$36:B$75,B21)>=1,"",ROW()) -> 21 | D21: =IF(COUNTIF('End of Year Reporting'!$B$27:$B$66,B21)>=1,"",ROW()) -> 21 | E21: =IF(ROW(B21)-ROW(B$2)+1>COUNT(C$2:C$133),"",INDEX(B:B,SMALL(C$2:C$133,1+ROW(B21)-ROW(B$2)))) -> R-401B | F21: =IF(ROW(B21)-ROW(B$2)+1>COUNT(C$2:C$133),"",INDEX(B:B,SMALL(C$2:C$133,1+ROW(B21)-ROW(B$2)))) -> R-401B
B22: R-401C | C22: =IF(COUNTIF('Quarterly Information'!B$36:B$75,B22)>=1,"",ROW()) -> 22 | D22: =IF(COUNTIF('End of Year Reporting'!$B$27:$B$66,B22)>=1,"",ROW()) -> 22 | E22: =IF(ROW(B22)-ROW(B$2)+1>COUNT(C$2:C$133),"",INDEX(B:B,SMALL(C$2:C$133,1+ROW(B22)-ROW(B$2)))) -> R-401C | F22: =IF(ROW(B22)-ROW(B$2)+1>COUNT(C$2:C$133),"",INDEX(B:B,SMALL(C$2:C$133,1+ROW(B22)-ROW(B$2)))) -> R-401C
B23: R-402A | C23: =IF(COUNTIF('Quarterly Information'!B$36:B$75,B23)>=1,"",ROW()) -> 23 | D23: =IF(COUNTIF('End of Year Reporting'!$B$27:$B$66,B23)>=1,"",ROW()) -> 23 | E23: =IF(ROW(B23)-ROW(B$2)+1>COUNT(C$2:C$133),"",INDEX(B:B,SMALL(C$2:C$133,1+ROW(B23)-ROW(B$2)))) -> R-402A | F23: =IF(ROW(B23)-ROW(B$2)+1>COUNT(C$2:C$133),"",INDEX(B:B,SMALL(C$2:C$133,1+ROW(B23)-ROW(B$2)))) -> R-402A
B24: R-402B | C24: =IF(COUNTIF('Quarterly Information'!B$36:B$75,B24)>=1,"",ROW()) -> 24 | D24: =IF(COUNTIF('End of Year Reporting'!$B$27:$B$66,B24)>=1,"",ROW()) -> 24 | E24: =IF(ROW(B24)-ROW(B$2)+1>COUNT(C$2:C$133),"",INDEX(B:B,SMALL(C$2:C$133,1+ROW(B24)-ROW(B$2)))) -> R-402B | F24: =IF(ROW(B24)-ROW(B$2)+1>COUNT(C$2:C$133),"",INDEX(B:B,SMALL(C$2:C$133,1+ROW(B24)-ROW(B$2)))) -> R-402B
B25: R-404A | C25: =IF(COUNTIF('Quarterly Information'!B$36:B$75,B25)>=1,"",ROW()) -> 25 | D25: =IF(COUNTIF('End of Year Reporting'!$B$27:$B$66,B25)>=1,"",ROW()) -> 25 | E25: =IF(ROW(B25)-ROW(B$2)+1>COUNT(C$2:C$133),"",INDEX(B:B,SMALL(C$2:C$133,1+ROW(B25)-ROW(B$2)))) -> R-404A | F25: =IF(ROW(B25)-ROW(B$2)+1>COUNT(C$2:C$133),"",INDEX(B:B,SMALL(C$2:C$133,1+ROW(B25)-ROW(B$2)))) -> R-404A
B26: R-405A | C26: =IF(COUNTIF('Quarterly Information'!B$36:B$75,B26)>=1,"",ROW()) -> 26 | D26: =IF(COUNTIF('End of Year Reporting'!$B$27:$B$66,B26)>=1,"",ROW()) -> 26 | E26: =IF(ROW(B26)-ROW(B$2)+1>COUNT(C$2:C$133),"",INDEX(B:B,SMALL(C$2:C$133,1+ROW(B26)-ROW(B$2)))) -> R-405A | F26: =IF(ROW(B26)-ROW(B$2)+1>COUNT(C$2:C$133),"",INDEX(B:B,SMALL(C$2:C$133,1+ROW(B26)-ROW(B$2)))) -> R-405A
B27: R-407A | C27: =IF(COUNTIF('Quarterly Information'!B$36:B$75,B27)>=1,"",ROW()) -> 27 | D27: =IF(COUNTIF('End of Year Reporting'!$B$27:$B$66,B27)>=1,"",ROW()) -> 27 | E27: =IF(ROW(B27)-ROW(B$2)+1>COUNT(C$2:C$133),"",INDEX(B:B,SMALL(C$2:C$133,1+ROW(B27)-ROW(B$2)))) -> R-407A | F27: =IF(ROW(B27)-ROW(B$2)+1>COUNT(C$2:C$133),"",INDEX(B:B,SMALL(C$2:C$133,1+ROW(B27)-ROW(B$2)))) -> R-407A
B28: R-407B | C28: =IF(COUNTIF('Quarterly Information'!B$36:B$75,B28)>=1,"",ROW()) -> 28 | D28: =IF(COUNTIF('End of Year Reporting'!$B$27:$B$66,B28)>=1,"",ROW()) -> 28 | E28: =IF(ROW(B28)-ROW(B$2)+1>COUNT(C$2:C$133),"",INDEX(B:B,SMALL(C$2:C$133,1+ROW(B28)-ROW(B$2)))) -> R-407B | F28: =IF(ROW(B28)-ROW(B$2)+1>COUNT(C$2:C$133),"",INDEX(B:B,SMALL(C$2:C$133,1+ROW(B28)-ROW(B$2)))) -> R-407B
B29: R-407C | C29: =IF(COUNTIF('Quarterly Information'!B$36:B$75,B29)>=1,"",ROW()) -> 29 | D29: =IF(COUNTIF('End of Year Reporting'!$B$27:$B$66,B29)>=1,"",ROW()) -> 29 | E29: =IF(ROW(B29)-ROW(B$2)+1>COUNT(C$2:C$133),"",INDEX(B:B,SMALL(C$2:C$133,1+ROW(B29)-ROW(B$2)))) -> R-407C | F29: =IF(ROW(B29)-ROW(B$2)+1>COUNT(C$2:C$133),"",INDEX(B:B,SMALL(C$2:C$133,1+ROW(B29)-ROW(B$2)))) -> R-407C
B30: R-407D | C30: =IF(COUNTIF('Quarterly Information'!B$36:B$75,B30)>=1,"",ROW()) -> 30 | D30: =IF(COUNTIF('End of Year Reporting'!$B$27:$B$66,B30)>=1,"",ROW()) -> 30 | E30: =IF(ROW(B30)-ROW(B$2)+1>COUNT(C$2:C$133),"",INDEX(B:B,SMALL(C$2:C$133,1+ROW(B30)-ROW(B$2)))) -> R-407D | F30: =IF(ROW(B30)-ROW(B$2)+1>COUNT(C$2:C$133),"",INDEX(B:B,SMALL(C$2:C$133,1+ROW(B30)-ROW(B$2)))) -> R-407D
B31: R-407E | C31: =IF(COUNTIF('Quarterly Information'!B$36:B$75,B31)>=1,"",ROW()) -> 31 | D31: =IF(COUNTIF('End of Year Reporting'!$B$27:$B$66,B31)>=1,"",ROW()) -> 31 | E31: =IF(ROW(B31)-ROW(B$2)+1>COUNT(C$2:C$133),"",INDEX(B:B,SMALL(C$2:C$133,1+ROW(B31)-ROW(B$2)))) -> R-407E | F31: =IF(ROW(B31)-ROW(B$2)+1>COUNT(C$2:C$133),"",INDEX(B:B,SMALL(C$2:C$133,1+ROW(B31)-ROW(B$2)))) -> R-407E
... B133: R-516A | C133: =IF(COUNTIF('Quarterly Information'!B$36:B$75,B133)>=1,"",ROW()) -> 133 | D133: =IF(COUNTIF('End of Year Reporting'!$B$27:$B$66,B133)>=1,"",ROW()) -> 133 | E133: =IF(ROW(B133)-ROW(B$2)+1>COUNT(C$2:C$133),"",INDEX(B:B,SMALL(C$2:C$133,1+ROW(B133)-ROW(B$2)))) -> R-516A | F133: =IF(ROW(B133)-ROW(B$2)+1>COUNT(C$2:C$133),"",INDEX(B:B,SMALL(C$2:C$133,1+ROW(B133)-ROW(B$2)))) -> R-516A
