Workbook
Name _ftn1: Recordkeeping!#REF!
Name _ftnref1: Recordkeeping!#REF!

Sheet Reporting
A1: Table 1 Annual Reporting
A2: Rule Section | B2: Description | C2: Type of Change New (N) Amended (A) Removed (R) Change in Respondents (CR) | D2: Number of Respondents | E2: Responses per Respondent | F2: Total Responses | G2: Burden Hours per Response | H2: Total Burden Hours | I2: Total Cost at $300/hour | J2: Notes | K2: Impact of Proposed Rule on Existing Clearance Burden Hour Estimates | L2: Burden Basis
A3: 26.202(e)(1) | B3: Prepare information on waivers of work hour controls for inclusion in the annual FFD program performance report for fatigue management programs | C3: N | D3: 0 | E3: 1 | F3: =D3*E3 -> 0 | G3: =16/3 -> 5.3333333 | H3: =F3*G3 -> 0 | I3: =H3*300 -> 0 | J3: Part 53 licensees | L3: 26.203(e)(1)
A4: 26.202(e)(2) | B4: Prepare summary of corrective actions taken as a result of fatigue assessments for inclusion in the annual FFD program performance report for fatigue management programs | C4: N | D4: 0 | E4: 1 | F4: =D4*E4 -> 0 | G4: 2 | H4: =F4*G4 -> 0 | I4: =H4*300 -> 0 | J4: Part 53 licensees | L4: 26.203(e)(2)
A5: 26.617(b)(1) | B5: Report to the NRC Operations Center within 24 hours of discovering intentional acts to compromise the integrity of the FFD program, or programmatic failures, degradations, or vulnerabilities that would permit undetected D&A use | C5: N | D5: 0 | E5: 1 | F5: =D5*E5 -> 0 | G5: 4 | H5: =F5*G5 -> 0 | I5: =H5*300 -> 0 | J5: Part 53 licensees or other entities | L5: 26.719(b)
A6: 26.617(c) | B6: Describe FFD policy violations and FFD program weaknesses to the NRC, licensees, and other entities when requested to support authorization determinations under part 26, or licensee or other entity performance monitoring | C6: N | D6: 0 | E6: 1 | F6: =D6*E6 -> 0 | G6: 16 | H6: =F6*G6 -> 0 | I6: =H6*300 -> 0 | J6: Part 53 licensees or other entities subject to subpart M
A7: Table 1 Total | F7: =SUM(F3:F6) -> 0 | H7: =SUM(H3:H6) -> 0 | I7: =SUM(I3:I6) -> 0

Sheet Recordkeeping
A1: Table 2 Annual Recordkeeping
A2: Rule Section | B2: Description | C2: Type of Change New (N) Amended (A) Removed (R) Change in Respondents (CR) | D2: Number of Recordkeepers | E2: Burden Hours Per Recordkeepers | F2: Total Burden Hours | G2: Total Cost at $300/hour | H2: Notes | I2: Impact of Proposed Rule on Existing Clearance Burden Hour Estimates | J2: Burden Basis
A3: 26.202(a) | B3: Prepare fatigue management policy | C3: N | D3: 0 | E3: 7.3 | F3: =D3*E3 -> 0 | G3: =F3*300 -> 0 | H3: Part 53 licensees | J3: 26.203(a)
A4: 26.202(b) | B4: Develop fatigue management procedures | C4: N | D4: 0 | E4: 1.7 | F4: =D4*E4 -> 0 | G4: =F4*300 -> 0 | H4: Part 53 licensees | J4: 26.203(b)
A5: 26.202(b) | B5: Implement and maintain fatigue management procedures | C5: N | D5: 0 | E5: 1.7 | F5: =D5*E5 -> 0 | G5: =F5*300 -> 0 | H5: Part 53 licensees | J5: 26.203(b)
A6: 26.202(d)(1) and (d)(2) | B6: Records of work hours, shift schedules, and shift cycles | C6: N | D6: 0 | E6: =720+16+6 -> 742 | F6: =D6*E6 -> 0 | G6: =F6*300 -> 0 | H6: Part 53 licensees | J6: 26.203(d)(1) and (d)(2)
A7: 26.202(d)(3) | B7: Documentation of waivers | C7: N | D7: 0 | E7: 2 | F7: =D7*E7 -> 0 | G7: =F7*300 -> 0 | H7: Part 53 licensees | J7: 26.203(d)(3)
A8: 26.202(d)(4) | B8: Documentation or work hour reviews | C8: N | D8: 0 | E8: =16+6 -> 22 | F8: =D8*E8 -> 0 | G8: =F8*300 -> 0 | H8: Part 53 licensees | J8: 26.203(d)(4)
A9: 26.202(d)(5) | B9: Documentation of fatigue assessment | C9: N | D9: 0 | E9: 16 | F9: =D9*E9 -> 0 | G9: =F9*300 -> 0 | H9: Part 53 licensees | J9: 26.203(d)(5)
A10: 26.603(a); 26.606 | B10: FFD program description; written policy and procedures | C10: N | D10: 2 | E10: =112+216 -> 328 | F10: =D10*E10 -> 656 | G10: =F10*300 -> 196800 | H10: Part 53 applicants | J10: 26.401(b)
A11: 26.603(c) | B11: Perform site-specific analysis to demonstrate that the facility satisfies the criterion in § 53.860(a)(2) or § 53.4330(a)(2) | C11: N | D11: 0 | E11: 320 | F11: =D11*E11 -> 0 | G11: =F11*300 -> 0 | H11: Part 53 licensees
A12: 26.603(c) | B12: Maintain the site-specific analysis | C12: N | D12: 0 | E12: 160 | F12: =D12*E12 -> 0 | G12: =F12*300 -> 0 | H12: Part 53 licensees
A13: 26.603(d) | B13: FFD performance monitoring and review: establish performance measures and associated thresholds | C13: N | D13: 0 | E13: 320 | F13: =D13*E13 -> 0 | G13: =F13*300 -> 0 | H13: Part 53 licensees
A14: 26.603(d) | B14: FFD performance monitoring and review: document and maintain program elements | C14: N | D14: 0 | E14: 160 | F14: =D14*E14 -> 0 | G14: =F14*300 -> 0 | H14: Part 53 licensees
A15: 26.603(e)(1)(i) | B15: FFD program change control - Perform and retain an analysis demonstrating that changes do not reduce the effectiveness of the FFD program | C15: N | D15: 0 | E15: 80 | F15: =D15*E15 -> 0 | G15: =F15*300 -> 0 | H15: Part 53 licensee or other entity
A16: 26.603(e)(4) | B16: FFD program change control - Records of changes and summary in annual performance report | C16: N | D16: 0 | E16: 40 | F16: =D16*E16 -> 0 | G16: =F16*300 -> 0 | H16: Part 53 licensees
A17: 26.604(a) | B17: FFD program requirements for facilities that satisfy the § 26.603(c) criterion | C17: N | D17: Burden captured under 26.603(c); 26.603(d); 26.603(e)(1)(i); 26.603(e)(4); 26.603(e)(5); 26.608(c); 26.611(a); 26.617(a); 26.619 | H17: Part 53 licensees that meet the criterion in § 53.860(a)(2)(i) or § 53.4330(a)(2)(i)
A18: 26.605(a) | B18: FFD program requirements for facilities that do not implement § 26.604 during construction or during activities performed under a manufacturing license | C18: N | D18: Burden captured under 26.603(c); 26.603(d); 26.603(e)(1)(i); 26.603(e)(4); 26.603(e)(5); 26.607(j)(1); 26.607(l); 26.608(c); 26.611(a); 26.617(a); 26.619 | H18: Licensees that do not meet the criterion in § 53.860(a)(2)(i) or § 53.4330(a)(2)(i) or otherwise choose not to implement the FFD program in § 26.604 must establish, implement, and maintain an FFD program under this section during construction activities or during activities performed under a ML that allows for the assembly, testing, and fueling of a manufactured reactor.
A19: 26.605(b) | B19: FFD program requirements for facilities that do not implement § 26.604 before fuel load or before receiving a manufactured reactor, or before individuals subject to part 26 operate, test, perform maintenance, or direct maintenance or surveillance of security-related equipment or equipment with significant risk to public health and safety | C19: N | D19: Burden captured under 26.603(c); 26.603(d); 26.603(e)(1)(i); 26.603(e)(4); 26.603(e)(5); 26.607(j)(1); 26.607(l); 26.608(c); 26.611(a); 26.617(a); 26.619 | H19: Licensees that do not meet the criterion in § 53.860(a)(2)(i) or § 53.4330(a)(2)(i) or otherwise choose not to implement the FFD program in § 26.604 must establish, implement, and maintain an FFD program that meets the requirements of paragraphs (b)(1)-(2) before fuel loading onsite into a reactor vessel, before receiving a manufactured reactor, or before operating, testing, performing maintenance, or directing maintenance or surveillance of security-related equipment or euipment with significant risk to public health and safety.
A20: 26.607(h)(1) | B20: Documented evaluation of the point of collection testing and assessment device from a forensic toxicologist | C20: N | D20: 0 | E20: 18 | F20: =D20*E20 -> 0 | G20: =F20*300 -> 0 | H20: Part 53 licensees or other entities implementing 26.605, and part 53 licensees and other entities implementing 26.604 that choose at their discretion to perform D&A testing
A21: 26.607(h)(3) | B21: Procedures for use of the point of collection testing and assessment device | C21: N | D21: 0 | E21: 40 | F21: =D21*E21 -> 0 | G21: =F21*300 -> 0 | H21: Part 53 licensees or other entities implementing 26.605, and part 53 licensees and other entities implementing 26.604 that choose at their discretion to perform D&A testing,
A22: 26.607(i)(1) | B22: FFD policy and procedure for hair testing | C22: N | D22: 0 | E22: 60 | F22: =D22*E22 -> 0 | G22: =F22*300 -> 0 | H22: Part 53 licensees or other entities implementing 26.605, and part 53 licensees and other entities implementing 26.604 that choose at their discretion to perform D&A testing
A23: 26.607(j)(1) | B23: Portal area screening | C23: N | D23: 0 | E23: 20 | F23: =D23*E23 -> 0 | G23: =F23*300 -> 0 | H23: Part 53 licensees or other entities implementing 26.605, and part 53 licensees and other entities implementing 26.604 that choose at their discretion to perform D&A testing
A24: 26.607(l) | B24: Custody-and-control form procedures | C24: N | D24: 0 | E24: 40 | F24: =D24*E24 -> 0 | G24: =F24*300 -> 0 | H24: Part 53 licensees or other entities implementing 26.605, and part 53 licensees and other entities implementing 26.604 that choose at their discretion to perform D&A testing
A25: 26.608(c) | B25: FFD training program review | C25: N | D25: 0 | E25: 10 | F25: =D25*E25 -> 0 | G25: =F25*300 -> 0 | H25: Part 53 licensees or other entities that implement an FFD program under subpart M
A26: 26.611(a) | B26: Establish a system of files to prevent unauthorized disclosure of personal information | C26: N | D26: 0 | E26: 40 | F26: =D26*E26 -> 0 | G26: =F26*300 -> 0 | H26: Part 53 licensees and other entities that implement an FFD program under subpart M | J26: 26.411(a)
A27: 26.611(a) | B27: Maintain a system of files to prevent unauthorized disclosure of personal information | C27: N | D27: 0 | E27: 40 | F27: =D27*E27 -> 0 | G27: =F27*300 -> 0 | H27: Part 53 licensees and other entities that implement an FFD program under subpart M | J27: 26.411
A28: 26.613 | B28: Appeals process | C28: N | D28: 0 | E28: 120 | F28: =D28*E28 -> 0 | G28: =F28*300 -> 0 | H28: Part 53 licensees or other entities that implement an FFD program under subpart M | J28: 26.413
A29: 26.617(a) | B29: Retain records of FFD program administration | C29: N | D29: 0 | E29: 20 | F29: =D29*E29 -> 0 | G29: =F29*300 -> 0 | H29: Part 53 licensees and other entities that implement an FFD program under subpart M | J29: 26.417(a)
A30: 26.619 | B30: Suitability and fitness determinations: develop procedures to determine fitness for duty | C30: N | D30: 0 | E30: 60 | F30: =D30*E30 -> 0 | G30: =F30*300 -> 0 | H30: Part 53 licensees and other entities that implement an FFD program under subpart M | J30: 26.419
A31: 26.619 | B31: Suitability and fitness determinations: implement and maintain procedures to determine fitness for duty | C31: N | D31: 0 | E31: 30 | F31: =D31*E31 -> 0 | G31: =F31*300 -> 0 | H31: Part 53 licensees and other entities that implement an FFD program under subpart M | J31: 26.419
A32: Table 2 Total | D32: 2 | F32: =SUM(F3:F31) -> 656 | G32: =SUM(G3:G31) -> 196800

Sheet Third Party Disclosure
A1: Table 3 Third Party Disclosure
A2: Rule Section | B2: Description | C2: Type of Change New (N) Amended (A) Removed (R) Change in Respondents (CR) | D2: Number of Respondents | E2: Responses per Respondent | F2: Total Responses | G2: Burden Hours per Response | H2: Total Burden Hours | I2: Total Cost at $300/hour | J2: Notes | K2: Annual or one-time burden | L2: Impact of Proposed Rule on Existing Clearance Burden Hour Estimates | M2: Burden Basis
A3: 26.202(c)(1)-(2) | B3: Prepare and update training on fatigue management | C3: N | D3: 0 | E3: 100 | F3: =D3*E3 -> 0 | G3: 0.5 | H3: =F3*G3 -> 0 | I3: =300*H3 -> 0 | J3: Part 53 licensees | K3: annual | M3: 26.203(c)(1)-(2)
A4: 26.606(a)(1) | B4: Provide a written policy statement to individuals subject to BOP and/or D&A testing | C4: N | D4: 0 | E4: 30 | F4: =D4*E4 -> 0 | G4: 0.25 | H4: =F4*G4 -> 0 | I4: =300*H4 -> 0 | J4: Part 53 licensees and other entities implementing an FFD program under subpart M | K4: annual | M4: 26.403(a)
A5: 26.608(a) | B5: Train individuals on the FFD policy and procedure, including fatigue management, their FFD program responsibilities, and the BOP before pre-access testing | C5: N | D5: 0 | E5: 30 | F5: =D5*E5 -> 0 | G5: 2 | H5: =F5*G5 -> 0 | I5: =300*H5 -> 0 | J5: Individuals subject to Part 26 | K5: annual | M5: 26.29(c)(1)
A6: 26.608(b) | B6: Refresher FFD program training conducted periodically | C6: N | D6: 0 | E6: 100 | F6: =D6*E6 -> 0 | G6: 1.5 | H6: =F6*G6 -> 0 | I6: =300*H6 -> 0 | J6: Individuals subject to Part 26. | K6: annual | M6: 26.29(c)(2)
A7: 26.609(b) | B7: Report behaviors indicating an unreasonable risk to the safety or security of the NRC licensed facility or SNM, or that may cause harm to others, or that otherwise indicate the individual is unfit for duty | C7: N | D7: 0 | E7: 100 | F7: =D7*E7 -> 0 | G7: 0.25 | H7: =F7*G7 -> 0 | I7: =300*H7 -> 0 | J7: All individuals subject to the FFD program | K7: annual | M7: 26.33
A8: 26.611(b) | B8: Obtain signed consent of the individual's acceptance to be subject to the FFD program and to the disclosure of personal information collected and maintained under this subpart | C8: N | D8: 0 | E8: 100 | F8: =D8*E8 -> 0 | G8: 0.25 | H8: =F8*G8 -> 0 | I8: =300*H8 -> 0 | J8: Part 53 licensees or other individuals implementing an FFD program under subpart M | K8: annual | M8: 26.411(b)
A9: Table 3 Total | D9: =SUM(D3:D8) -> 0 | F9: =SUM(F3:F8) -> 0 | H9: =SUM(H3:H8) -> 0 | I9: =SUM(I3:I8) -> 0

Sheet TOTAL
A1: 2024-2026 Burden Totals
A2: Table | B2: Description | C2: Total Burden Hours | D2: Cost of $300/hr
A3: 1 | B3: Annual Reporting | C3: =Reporting!H7 -> 0 | D3: =Reporting!I7 -> 0
A4: 2 | B4: Annual Recordkeeping | C4: =Recordkeeping!F32 -> 656 | D4: =Recordkeeping!G32 -> 196800
A5: 3 | B5: Annual Third Party Disclosure | C5: ='Third Party Disclosure'!H9 -> 0 | D5: ='Third Party Disclosure'!I9 -> 0
A6: TOTAL | C6: =SUM(C3:C5) -> 656 | D6: =SUM(D3:D5) -> 196800
