{"text_format":"3","workbook":"xlsx","n_sheets":18,"sheets":["Lists","Welcome","Company_Information","Compliance_Options","NoticeOfComplianceStatus","NOCS_TireProduction","NOCS_TireCordProd","NOCS_PunctureSealantApp","NOCS_Certification","Compliance Rpt - Tire Prod","Compliance Rpt - Tire Cord","Compliance Rpt - Puncture Seal","Compliance Rpt - metHAP or PM","Compliance Rpt - 15 Day Avgs","Compliance Rpt - Deviations","Compliance Rpt - Certification","Revisions","Worksheet Map"],"not_rendered":{"images":1,"macros":1,"external_links":1,"defined_names":40},"read":"whole","date_system":"1900"}

{"sheet":"Lists","index":0,"n_rows":956,"n_cols":104,"rows_kept":956,"hidden":true}
["Rank","Company","CompanyName","Column1",null,"Rank","Operation","OperationName","Column1",null,"Rank","Affected Source","Subcategory","Compliance Reqts","Limits","NOCS",{"$nulls":5},"State","Subcategory","Tire Production","Tire Cord Production","Puncture Sealant Application","Rubber Processing","TireProductionOption1—H","TireProductionOption2—p","TireProductionPurchasea","TireProductionWithoutus","TireProductionUsingana","TireCordProductionOption1.a","TireCordProductionOption1.b","TireCordProductionOption2","TireCordProductionWithoutus","TireCordProductionUsingana","PunctureSealantApplicationOption1.a","PunctureSealantApplicationOption1.b","PunctureSealantApplicationOption2","PunctureSealantApplicationThermalox","PunctureSealantApplicationCarbonads","PunctureSealantApplicationOthertype","PunctureSealantApplicationPermanent","PunctureSealantApplicationOthercapt","RubberProcessingEmissions","RubberProcessingALT",null,"Rank","facilityname","OperationName","Subcategory","ComplianceOptions","EmissionLimit","uniquename","RemoveDup","RankedUnique",{"$f":"\"Ranked\"&AX1","v":"Rankedfacilityname"},{"$f":"\"Ranked\"&AY1","v":"RankedOperationName"},{"$f":"\"Ranked\"&AZ1","v":"RankedSubcategory"},{"$f":"\"Ranked\"&BA1","v":"RankedComplianceOptions"},{"$f":"\"Ranked\"&BB1","v":"RankedEmissionLimit"},"Tire Production",{"$nulls":7},"Tire Cord Production",{"$nulls":7},"Puncture Sealant Application",{"$nulls":7},"Rubber Processing",{"$nulls":6},"All","Rank","facilityname","OperationName","Subcategory","uniquename","RemoveDup","RankedUnique","ranked facility","rankedoperation","rankedsub"]
[{"$f":"+IF(B2=\"\",\"\",MAX(A1:A$1)+1)","v":1},{"$f":"IF(Company_Information!B24=\"\",\"\",Company_Information!B24)","v":1},{"$f":"+IFERROR(INDEX($B$2:$B$11,MATCH(ROW()-ROW($C$1),$A$2:$A$11,0)),\"\")","v":1},{"$f":"IF(COUNTIF(B$2:B2,B2)=1,B2,\"\")","v":1},null,{"$f":"+IF(I2=\"\",\"\",MAX(F1:F$1)+1)","v":""},{"$f":"IF(Compliance_Options!C24=\"\",\"\",Compliance_Options!C24)","v":""},{"$f":"+IFERROR(INDEX($G$2:$G$78,MATCH(ROW()-ROW($H$1),$F$2:$F$78,0)),\"\")","v":""},{"$f":"IF(COUNTIF(G$2:G2,G2)=1,G2,\"\")","v":""},null,{"$f":"+IF(I2=\"\",\"\",MAX(F1:F$1)+1)","v":""},{"$nulls":4},{"$f":"+IF(COUNTIF(Company_Information!$Q$24:$Q$33,\"yes\")>0,\"Yes\",\"No\")","v":"No"},null,"complianceoptions",{"$nulls":3},"AK","Rubber Processing","Option 1—HAP constituent option","Option 1.a (production-based option)—Existing tire cord production affected source","Option 1.a (percent reduction option)—Existing puncture sealant application spray booth","Emissions of THC and fPM or metal HAP must not exceed the limits in Table 15.","a. Emissions of each HAP in Table 16 to this subpart must not exceed 1,000 grams HAP per megagram (2 pounds per ton) of total cements and solvents used at the tire production affected source, and b. Emissions of each HAP not in Table 16 to this subpart must not exceed 10,000 grams HAP per megagram (20 pounds per ton) of total cements and solvents used at the tire production affected source.","Emissions of HAP must not exceed 0.024 grams per megagram (0.00005 pounds per ton) of rubber used at the tire production affected source.","a. Emissions of each HAP in Table 16 to this subpart must not exceed 1,000 grams HAP per megagram (2 pounds per ton) of total cements and solvents used at the tire production affected source, and b. Emissions of each HAP not in Table 16 to this subpart must not exceed 10,000 grams HAP per megagram (20 pounds per ton) of total cements and solvents used at the tire production affected source.","a. Emissions of each HAP in Table 16 to this subpart must not exceed 1,000 grams HAP per megagram (2 pounds per ton) of total cements and solvents used at the tire production affected source, and b. Emissions of each HAP not in Table 16 to this subpart must not exceed 10,000 grams HAP per megagram (20 pounds per ton) of total cements and solvents used at the tire production affected source.\n","a. Emissions of each HAP in Table 16 to this subpart must not exceed 1,000 grams HAP per megagram (2 pounds per ton) of total cements and solvents used at the tire production affected source, and b. Emissions of each HAP not in Table 16 to this subpart must not exceed 10,000 grams HAP per megagram (20 pounds per ton) of total cements and solvents used at the tire production affected source.\n","Emissions must not exceed 280 grams HAP per megagram (0.56 pounds per ton) of fabric processed at the tire cord production affected source.","Emissions must not exceed 220 grams HAP per megagram (0.43 pounds per ton) of fabric processed at the tire cord production affected source.","a. Emissions of each HAP in Table 16 to this subpart must not exceed 1,000 grams HAP per megagram (2 pounds per ton) of total coatings used at the tire cord production affected source, and\nb. Emissions of each HAP not in Table 16 to this subpart must not exceed 10,000 grams HAP per megagram (20 pounds per ton) of total coatings used at the tire cord production affected source.","Emissions must not exceed 280 grams HAP per megagram (0.56 pounds per ton) of fabric processed at the tire cord production affected source.\n","Emissions must not exceed 280 grams HAP per megagram (0.56 pounds per ton) of fabric processed at the tire cord production affected source.\n","Reduce spray booth HAP (measured as volatile organic compounds (VOC)) emissions by at least 86 percent by weight.","Reduce spray booth HAP (measured as VOC) emissions by at least 95 percent by weight.","a. Emissions of each HAP in Table 16 to this subpart must not exceed 1,000 grams HAP per megagram (2 pounds per ton) of total puncture sealants used at the puncture sealant affected source, and\nb. Emissions of each HAP not in Table 16 to this subpart must not exceed 10,000 grams HAP per megagram (20 pounds per ton) of total puncture sealants used at the puncture sealant affected source.","Maintain the daily average firebox secondary chamber temperature within the operating range established during the performance test.","a. Maintain the total regeneration mass, volumetric flow, and carbon bed temperature at the operating range established during the performance test.","Maintain your operating parameter(s) within the range(s) established during the performance test and according to your monitoring plan.","a. Maintain the face velocity across any NDO at least at the levels established during the performance test.","Maintain the operating parameters within the range(s) established during the performance test and according to your monitoring plan.","THC emissions must not exceed 64 g/Mg mixed rubber compound processed on a 15-day rolling average, fPM emissions must not exceed 3.0 g/Mg mixed rubber compound processed","Control of fPM emissions",null,{"$f":"+IF(AX2=\"\",\"\",MAX(AW$1:AW1)+1)","v":""},{"$f":"IF(Compliance_Options!B24=\"\",\"\",Compliance_Options!B24)","v":""},{"$f":"IF(Compliance_Options!C24=\"\",\"\",Compliance_Options!C24)","v":""},{"$f":"IF(Compliance_Options!D24=\"\",\"\",Compliance_Options!D24)","v":""},{"$f":"IF(Compliance_Options!E24=\"\",\"\",Compliance_Options!E24)","v":""},{"$f":"IF(Compliance_Options!F24=\"\",\"\",Compliance_Options!F24)","v":""},{"$f":"AX2&\" \"&AY2&\" \"&AZ2&\" \"&BA2&\" \"&BB2","v":"    "},{"$f":"IF(COUNTIF(BC$2:BC2,BC2)=1,BC2,\"\")","v":"    "},{"$f":"IF(BF2=\"\",\"\",BF2&\" \"&BG2&\" \"&BH2)","v":""},{"$f":"IFERROR(INDEX(AX$2:AX$78,MATCH(ROW()-ROW($BD$1),$AW$2:$AW$78,0)),\"\")","v":""},{"$f":"IFERROR(INDEX(AY$2:AY$78,MATCH(ROW()-ROW($BD$1),$AW$2:$AW$78,0)),\"\")","v":""},{"$f":"IFERROR(INDEX(AZ$2:AZ$78,MATCH(ROW()-ROW($BD$1),$AW$2:$AW$78,0)),\"\")","v":""},{"$f":"IFERROR(INDEX(BA$2:BA$78,MATCH(ROW()-ROW($BD$1),$AW$2:$AW$78,0)),\"\")","v":""},{"$f":"IFERROR(INDEX(BB$2:BB$78,MATCH(ROW()-ROW($BD$1),$AW$2:$AW$78,0)),\"\")","v":""},{"$f":"IF($AZ2=\"Tire Production\",$BC2,\"\")","v":""},{"$f":"+IF(BK2=\"\",\"\",MAX(BL1:BL$1)+1)","v":""},{"$f":"IF(BN2=\"\",\"\",BN2&\" \"&BO2&\" \"&BP2&\" \"&BQ2&\" \"&BR2)","v":""},{"$f":"IFERROR(INDEX(AX$2:AX$78,MATCH(ROW()-ROW($BD$1),$BL$2:$BL$78,0)),\"\")","v":""},{"$f":"IFERROR(INDEX(AY$2:AY$78,MATCH(ROW()-ROW($BD$1),$BL$2:$BL$78,0)),\"\")","v":""},{"$f":"IFERROR(INDEX(AZ$2:AZ$78,MATCH(ROW()-ROW($BD$1),$BL$2:$BL$78,0)),\"\")","v":""},{"$f":"IFERROR(INDEX(BA$2:BA$78,MATCH(ROW()-ROW($BD$1),$BL$2:$BL$78,0)),\"\")","v":""},{"$f":"IFERROR(INDEX(BB$2:BB$78,MATCH(ROW()-ROW($BD$1),$BL$2:$BL$78,0)),\"\")","v":""},{"$f":"IF($AZ2=\"Tire Cord Production\",$BC2,\"\")","v":""},{"$f":"+IF(BS2=\"\",\"\",MAX(BT1:BT$1)+1)","v":""},{"$f":"IF(BV2=\"\",\"\",BV2&\" \"&BW2&\" \"&BX2)","v":""},{"$f":"IFERROR(INDEX(AX$2:AX$78,MATCH(ROW()-ROW($BT$1),$BT$2:$BT$78,0)),\"\")","v":""},{"$f":"IFERROR(INDEX(AY$2:AY$78,MATCH(ROW()-ROW($BT$1),$BT$2:$BT$78,0)),\"\")","v":""},{"$f":"IFERROR(INDEX(AZ$2:AZ$78,MATCH(ROW()-ROW($BT$1),$BT$2:$BT$78,0)),\"\")","v":""},{"$f":"IFERROR(INDEX(BA$2:BA$78,MATCH(ROW()-ROW($BT$1),$BT$2:$BT$78,0)),\"\")","v":""},{"$f":"IFERROR(INDEX(BB$2:BB$78,MATCH(ROW()-ROW($BT$1),$BT$2:$BT$78,0)),\"\")","v":""},{"$f":"IF($AZ2=\"Puncture Sealant Application\",$BC2,\"\")","v":""},{"$f":"+IF(CA2=\"\",\"\",MAX(CB1:CB$1)+1)","v":""},{"$f":"IF(CD2=\"\",\"\",CD2&\" \"&CE2&\" \"&CF2)","v":""},{"$f":"IFERROR(INDEX(AX$2:AX$78,MATCH(ROW()-ROW($CB$1),$CB$2:$CB$78,0)),\"\")","v":""},{"$f":"IFERROR(INDEX(AY$2:AY$78,MATCH(ROW()-ROW($CB$1),$CB$2:$CB$78,0)),\"\")","v":""},{"$f":"IFERROR(INDEX(AZ$2:AZ$78,MATCH(ROW()-ROW($CB$1),$CB$2:$CB$78,0)),\"\")","v":""},{"$f":"IFERROR(INDEX(BA$2:BA$78,MATCH(ROW()-ROW($CB$1),$CB$2:$CB$78,0)),\"\")","v":""},{"$f":"IFERROR(INDEX(BB$2:BB$78,MATCH(ROW()-ROW($CB$1),$CB$2:$CB$78,0)),\"\")","v":""},{"$f":"IF($AZ2=\"Rubber Processing\",$BC2,\"\")","v":""},{"$f":"+IF(CI2=\"\",\"\",MAX(CJ1:CJ$1)+1)","v":""},{"$f":"IFERROR(INDEX(AX$2:AX$78,MATCH(ROW()-ROW($CJ$1),$CJ$2:$CJ$78,0)),\"\")","v":""},{"$f":"IFERROR(INDEX(AY$2:AY$78,MATCH(ROW()-ROW($CJ$1),$CJ$2:$CJ$78,0)),\"\")","v":""},{"$f":"IFERROR(INDEX(AZ$2:AZ$78,MATCH(ROW()-ROW($CJ$1),$CJ$2:$CJ$78,0)),\"\")","v":""},{"$f":"IFERROR(INDEX(BA$2:BA$78,MATCH(ROW()-ROW($CJ$1),$CJ$2:$CJ$78,0)),\"\")","v":""},{"$f":"IFERROR(INDEX(BB$2:BB$78,MATCH(ROW()-ROW($CJ$1),$CJ$2:$CJ$78,0)),\"\")","v":""},null,{"$f":"+IF(CR2=\"\",\"\",MAX(CQ$1:CQ1)+1)","v":""},{"$f":"IF(Compliance_Options!B24=\"\",\"\",Compliance_Options!B24)","v":""},{"$f":"IF(Compliance_Options!C24=\"\",\"\",Compliance_Options!C24)","v":""},{"$f":"IF(Compliance_Options!D24=\"\",\"\",Compliance_Options!D24)","v":""},{"$f":"CR2&\" \"&CS2&\" \"&CT2","v":"  "},{"$f":"IF(COUNTIF(CU$2:CU2,CU2)=1,CU2,\"\")","v":"  "},{"$f":"IFERROR(INDEX(CV$2:CV$78,MATCH(ROW()-ROW($CV$1),$CQ$2:$CQ$78,0)),\"\")","v":""},{"$f":"IFERROR(INDEX(CR$2:CR$78,MATCH(ROW()-ROW($CV$1),$CQ$2:$CQ$78,0)),\"\")","v":""},{"$f":"IFERROR(INDEX(CS$2:CS$78,MATCH(ROW()-ROW($CV$1),$CQ$2:$CQ$78,0)),\"\")","v":""},""]
[{"$f":"+IF(B3=\"\",\"\",MAX(A$1:A2)+1)","v":""},{"$f":"IF(Company_Information!B25=\"\",\"\",Company_Information!B25)","v":""},{"$f":"+IFERROR(INDEX($B$2:$B$11,MATCH(ROW()-ROW($C$1),$A$2:$A$11,0)),\"\")","v":""},{"$f":"IF(COUNTIF(B$2:B3,B3)=1,B3,\"\")","v":""},null,{"$f":"+IF(I3=\"\",\"\",MAX(F$1:F2)+1)","v":""},{"$f":"IF(Compliance_Options!C25=\"\",\"\",Compliance_Options!C25)","v":""},"",{"$f":"IF(COUNTIF(G$2:G3,G3)=1,G3,\"\")","v":""},{"$nulls":8},"Compliant Material 63.3491(a)",{"$nulls":3},"AL","Tire Production","Option 2—production-based option","Option 1.b (production-based option)—New or reconstructed tire cord production affected source","Option 1.b (percent reduction option)—New or reconstructed puncture sealant application spray booth",{"$nulls":4},"Emissions of HAP must not exceed 0.024 grams per megagram (0.00005 pounds per ton) of rubber used at the tire production affected source.","Emissions of HAP must not exceed 0.024 grams per megagram (0.00005 pounds per ton) of rubber used at the tire production affected source.",{"$nulls":3},"Emissions must not exceed 220 grams HAP per megagram (0.43 pounds per ton) of fabric processed at the tire cord production affected source.","Emissions must not exceed 220 grams HAP per megagram (0.43 pounds per ton) of fabric processed at the tire cord production affected source.",{"$nulls":4},"b. Reestablish the carbon bed temperature to the levels established during the performance test within 15 minutes of each cooling cycle.",null,"b. Maintain the size of NDO, the number of NDO, and their proximity to HAP emission sources consistent with the parameters established during the performance test.",null,"THC emissions must not exceed 64 g/Mg mixed rubber compound processed on a 15-day rolling average,metal HAP emissions must not exceed 0.051 g/Mg mixed rubber compound processed","Control of metals emissions",null,{"$f":"+IF(AX3=\"\",\"\",MAX(AW$1:AW2)+1)","v":""},{"$f":"IF(Compliance_Options!B25=\"\",\"\",Compliance_Options!B25)","v":""},{"$f":"IF(Compliance_Options!C25=\"\",\"\",Compliance_Options!C25)","v":""},{"$f":"IF(Compliance_Options!D25=\"\",\"\",Compliance_Options!D25)","v":""},{"$f":"IF(Compliance_Options!E25=\"\",\"\",Compliance_Options!E25)","v":""},{"$f":"IF(Compliance_Options!F25=\"\",\"\",Compliance_Options!F25)","v":""},{"$f":"AX3&\" \"&AY3&\" \"&AZ3&\" \"&BA3&\" \"&BB3","v":"    "},{"$f":"IF(COUNTIF(BC$2:BC3,BC3)=1,BC3,\"\")","v":""},{"$f":"IF(BF3=\"\",\"\",BF3&\" \"&BG3&\" \"&BH3)","v":""},{"$f":"IFERROR(INDEX(AX$2:AX$78,MATCH(ROW()-ROW($BD$1),$AW$2:$AW$78,0)),\"\")","v":""},{"$f":"IFERROR(INDEX(AY$2:AY$78,MATCH(ROW()-ROW($BD$1),$AW$2:$AW$78,0)),\"\")","v":""},{"$f":"IFERROR(INDEX(AZ$2:AZ$78,MATCH(ROW()-ROW($BD$1),$AW$2:$AW$78,0)),\"\")","v":""},{"$f":"IFERROR(INDEX(BA$2:BA$78,MATCH(ROW()-ROW($BD$1),$AW$2:$AW$78,0)),\"\")","v":""},{"$f":"IFERROR(INDEX(BB$2:BB$78,MATCH(ROW()-ROW($BD$1),$AW$2:$AW$78,0)),\"\")","v":""},{"$f":"IF($AZ3=\"Tire Production\",$BC3,\"\")","v":""},{"$f":"+IF(BK3=\"\",\"\",MAX(BL$1:BL2)+1)","v":""},{"$f":"IF(BN3=\"\",\"\",BN3&\" \"&BO3&\" \"&BP3&\" \"&BQ3&\" \"&BR3)","v":""},{"$f":"IFERROR(INDEX(AX$2:AX$78,MATCH(ROW()-ROW($BD$1),$BL$2:$BL$78,0)),\"\")","v":""},{"$f":"IFERROR(INDEX(AY$2:AY$78,MATCH(ROW()-ROW($BD$1),$BL$2:$BL$78,0)),\"\")","v":""},{"$f":"IFERROR(INDEX(AZ$2:AZ$78,MATCH(ROW()-ROW($BD$1),$BL$2:$BL$78,0)),\"\")","v":""},{"$f":"IFERROR(INDEX(BA$2:BA$78,MATCH(ROW()-ROW($BD$1),$BL$2:$BL$78,0)),\"\")","v":""},{"$f":"IFERROR(INDEX(BB$2:BB$78,MATCH(ROW()-ROW($BD$1),$BL$2:$BL$78,0)),\"\")","v":""},{"$f":"IF($AZ3=\"Tire Cord Production\",$BC3,\"\")","v":""},{"$f":"+IF(BS3=\"\",\"\",MAX(BT$1:BT2)+1)","v":""},{"$f":"IF(BV3=\"\",\"\",BV3&\" \"&BW3&\" \"&BX3)","v":""},{"$f":"IFERROR(INDEX(AX$2:AX$78,MATCH(ROW()-ROW($BT$1),$BT$2:$BT$78,0)),\"\")","v":""},{"$f":"IFERROR(INDEX(AY$2:AY$78,MATCH(ROW()-ROW($BT$1),$BT$2:$BT$78,0)),\"\")","v":""},{"$f":"IFERROR(INDEX(AZ$2:AZ$78,MATCH(ROW()-ROW($BT$1),$BT$2:$BT$78,0)),\"\")","v":""},{"$f":"IFERROR(INDEX(BA$2:BA$78,MATCH(ROW()-ROW($BT$1),$BT$2:$BT$78,0)),\"\")","v":""},{"$f":"IFERROR(INDEX(BB$2:BB$78,MATCH(ROW()-ROW($BT$1),$BT$2:$BT$78,0)),\"\")","v":""},{"$f":"IF($AZ3=\"Puncture Sealant Application\",$BC3,\"\")","v":""},{"$f":"+IF(CA3=\"\",\"\",MAX(CB$1:CB2)+1)","v":""},{"$f":"IF(CD3=\"\",\"\",CD3&\" \"&CE3&\" \"&CF3)","v":""},{"$f":"IFERROR(INDEX(AX$2:AX$78,MATCH(ROW()-ROW($CB$1),$CB$2:$CB$78,0)),\"\")","v":""},{"$f":"IFERROR(INDEX(AY$2:AY$78,MATCH(ROW()-ROW($CB$1),$CB$2:$CB$78,0)),\"\")","v":""},{"$f":"IFERROR(INDEX(AZ$2:AZ$78,MATCH(ROW()-ROW($CB$1),$CB$2:$CB$78,0)),\"\")","v":""},{"$f":"IFERROR(INDEX(BA$2:BA$78,MATCH(ROW()-ROW($CB$1),$CB$2:$CB$78,0)),\"\")","v":""},{"$f":"IFERROR(INDEX(BB$2:BB$78,MATCH(ROW()-ROW($CB$1),$CB$2:$CB$78,0)),\"\")","v":""},{"$f":"IF($AZ3=\"Rubber Processing\",$BC3,\"\")","v":""},{"$f":"+IF(CI3=\"\",\"\",MAX(CJ$1:CJ2)+1)","v":""},{"$f":"IFERROR(INDEX(AX$2:AX$78,MATCH(ROW()-ROW($CJ$1),$CJ$2:$CJ$78,0)),\"\")","v":""},{"$f":"IFERROR(INDEX(AY$2:AY$78,MATCH(ROW()-ROW($CJ$1),$CJ$2:$CJ$78,0)),\"\")","v":""},{"$f":"IFERROR(INDEX(AZ$2:AZ$78,MATCH(ROW()-ROW($CJ$1),$CJ$2:$CJ$78,0)),\"\")","v":""},{"$f":"IFERROR(INDEX(BA$2:BA$78,MATCH(ROW()-ROW($CJ$1),$CJ$2:$CJ$78,0)),\"\")","v":""},{"$f":"IFERROR(INDEX(BB$2:BB$78,MATCH(ROW()-ROW($CJ$1),$CJ$2:$CJ$78,0)),\"\")","v":""},null,{"$f":"+IF(CR3=\"\",\"\",MAX(CQ$1:CQ2)+1)","v":""},{"$f":"IF(Compliance_Options!B25=\"\",\"\",Compliance_Options!B25)","v":""},{"$f":"IF(Compliance_Options!C25=\"\",\"\",Compliance_Options!C25)","v":""},{"$f":"IF(Compliance_Options!D25=\"\",\"\",Compliance_Options!D25)","v":""},{"$f":"CR3&\" \"&CS3&\" \"&CT3","v":"  "},{"$f":"IF(COUNTIF(CU$2:CU3,CU3)=1,CU3,\"\")","v":""},{"$f":"IFERROR(INDEX(CV$2:CV$78,MATCH(ROW()-ROW($CV$1),$CQ$2:$CQ$78,0)),\"\")","v":""},{"$f":"IFERROR(INDEX(CR$2:CR$78,MATCH(ROW()-ROW($CV$1),$CQ$2:$CQ$78,0)),\"\")","v":""},{"$f":"IFERROR(INDEX(CS$2:CS$78,MATCH(ROW()-ROW($CV$1),$CQ$2:$CQ$78,0)),\"\")","v":""},{"$f":"IFERROR(INDEX(CT$2:CT$78,MATCH(ROW()-ROW($CV$1),$CQ$2:$CQ$78,0)),\"\")","v":""}]
[{"$f":"+IF(B4=\"\",\"\",MAX(A$1:A3)+1)","v":""},{"$f":"IF(Company_Information!B26=\"\",\"\",Company_Information!B26)","v":""},"",{"$f":"IF(COUNTIF(B$2:B4,B4)=1,B4,\"\")","v":""},null,{"$f":"+IF(I4=\"\",\"\",MAX(F$1:F3)+1)","v":""},{"$f":"IF(Compliance_Options!C26=\"\",\"\",Compliance_Options!C26)","v":""},"",{"$f":"IF(COUNTIF(G$2:G4,G4)=1,G4,\"\")","v":""},{"$nulls":8},"Emission Rate Without Add-on Controls 63.3491(b)",{"$nulls":3},"AR","Tire Cord Production",null,"Option 2 (HAP constituent option)—Existing, new or reconstructed tire cord production affected source","Option 2 (HAP constituent option) Existing, new or reconstructed puncture sealant application spray booth\t",{"$nulls":9},"a. Emissions of each HAP in Table 16 to this subpart must not exceed 1,000 grams HAP per megagram (2 pounds per ton) of total coatings used at the tire cord production affected source, and\nb. Emissions of each HAP not in Table 16 to this subpart must not exceed 10,000 grams HAP per megagram (20 pounds per ton) of total coatings used at the tire cord production affected source.","a. Emissions of each HAP in Table 16 to this subpart must not exceed 1,000 grams HAP per megagram (2 pounds per ton) of total coatings used at the tire cord production affected source, and\nb. Emissions of each HAP not in Table 16 to this subpart must not exceed 10,000 grams HAP per megagram (20 pounds per ton) of total coatings used at the tire cord production affected source.",{"$nulls":11},{"$f":"+IF(AX4=\"\",\"\",MAX(AW$1:AW3)+1)","v":""},{"$f":"IF(Compliance_Options!B26=\"\",\"\",Compliance_Options!B26)","v":""},{"$f":"IF(Compliance_Options!C26=\"\",\"\",Compliance_Options!C26)","v":""},{"$f":"IF(Compliance_Options!D26=\"\",\"\",Compliance_Options!D26)","v":""},{"$f":"IF(Compliance_Options!E26=\"\",\"\",Compliance_Options!E26)","v":""},{"$f":"IF(Compliance_Options!F26=\"\",\"\",Compliance_Options!F26)","v":""},"    ",{"$f":"IF(COUNTIF(BC$2:BC4,BC4)=1,BC4,\"\")","v":""},"","","","","","","",{"$f":"+IF(BK4=\"\",\"\",MAX(BL$1:BL3)+1)","v":""},"","","","","","","",{"$f":"+IF(BS4=\"\",\"\",MAX(BT$1:BT3)+1)","v":""},"","","","","","","",{"$f":"+IF(CA4=\"\",\"\",MAX(CB$1:CB3)+1)","v":""},"","","","","","","",{"$f":"+IF(CI4=\"\",\"\",MAX(CJ$1:CJ3)+1)","v":""},"","","","","",null,{"$f":"+IF(CR4=\"\",\"\",MAX(CQ$1:CQ3)+1)","v":""},{"$f":"IF(Compliance_Options!B26=\"\",\"\",Compliance_Options!B26)","v":""},{"$f":"IF(Compliance_Options!C26=\"\",\"\",Compliance_Options!C26)","v":""},{"$f":"IF(Compliance_Options!D26=\"\",\"\",Compliance_Options!D26)","v":""},"  ",{"$f":"IF(COUNTIF(CU$2:CU4,CU4)=1,CU4,\"\")","v":""},"","","",""]
[{"$f":"+IF(B5=\"\",\"\",MAX(A$1:A4)+1)","v":""},{"$f":"IF(Company_Information!B27=\"\",\"\",Company_Information!B27)","v":""},"",{"$f":"IF(COUNTIF(B$2:B5,B5)=1,B5,\"\")","v":""},null,{"$f":"+IF(I5=\"\",\"\",MAX(F$1:F4)+1)","v":""},{"$f":"IF(Compliance_Options!C27=\"\",\"\",Compliance_Options!C27)","v":""},"",{"$f":"IF(COUNTIF(G$2:G5,G5)=1,G5,\"\")","v":""},{"$nulls":8},"Emission Rate With Add-on Controls 63.3491(c)",{"$nulls":3},"AS","Puncture Sealant Application",{"$nulls":25},{"$f":"+IF(AX5=\"\",\"\",MAX(AW$1:AW4)+1)","v":""},{"$f":"IF(Compliance_Options!B27=\"\",\"\",Compliance_Options!B27)","v":""},{"$f":"IF(Compliance_Options!C27=\"\",\"\",Compliance_Options!C27)","v":""},{"$f":"IF(Compliance_Options!D27=\"\",\"\",Compliance_Options!D27)","v":""},{"$f":"IF(Compliance_Options!E27=\"\",\"\",Compliance_Options!E27)","v":""},{"$f":"IF(Compliance_Options!F27=\"\",\"\",Compliance_Options!F27)","v":""},"    ",{"$f":"IF(COUNTIF(BC$2:BC5,BC5)=1,BC5,\"\")","v":""},"","","","","","","",{"$f":"+IF(BK5=\"\",\"\",MAX(BL$1:BL4)+1)","v":""},"","","","","","","",{"$f":"+IF(BS5=\"\",\"\",MAX(BT$1:BT4)+1)","v":""},"","","","","","","",{"$f":"+IF(CA5=\"\",\"\",MAX(CB$1:CB4)+1)","v":""},"","","","","","","",{"$f":"+IF(CI5=\"\",\"\",MAX(CJ$1:CJ4)+1)","v":""},"","","","","",null,{"$f":"+IF(CR5=\"\",\"\",MAX(CQ$1:CQ4)+1)","v":""},{"$f":"IF(Compliance_Options!B27=\"\",\"\",Compliance_Options!B27)","v":""},{"$f":"IF(Compliance_Options!C27=\"\",\"\",Compliance_Options!C27)","v":""},{"$f":"IF(Compliance_Options!D27=\"\",\"\",Compliance_Options!D27)","v":""},"  ",{"$f":"IF(COUNTIF(CU$2:CU5,CU5)=1,CU5,\"\")","v":""},"","","",""]
[{"$f":"+IF(B6=\"\",\"\",MAX(A$1:A5)+1)","v":""},{"$f":"IF(Company_Information!B28=\"\",\"\",Company_Information!B28)","v":""},"",{"$f":"IF(COUNTIF(B$2:B6,B6)=1,B6,\"\")","v":""},null,{"$f":"+IF(I6=\"\",\"\",MAX(F$1:F5)+1)","v":""},{"$f":"IF(Compliance_Options!C28=\"\",\"\",Compliance_Options!C28)","v":""},"",{"$f":"IF(COUNTIF(G$2:G6,G6)=1,G6,\"\")","v":""},{"$nulls":8},"Control Efficiency/Outlet Concentration 63.3491(d)",{"$nulls":3},"AZ",{"$nulls":26},{"$f":"+IF(AX6=\"\",\"\",MAX(AW$1:AW5)+1)","v":""},{"$f":"IF(Compliance_Options!B28=\"\",\"\",Compliance_Options!B28)","v":""},{"$f":"IF(Compliance_Options!C28=\"\",\"\",Compliance_Options!C28)","v":""},{"$f":"IF(Compliance_Options!D28=\"\",\"\",Compliance_Options!D28)","v":""},{"$f":"IF(Compliance_Options!E28=\"\",\"\",Compliance_Options!E28)","v":""},{"$f":"IF(Compliance_Options!F28=\"\",\"\",Compliance_Options!F28)","v":""},"    ",{"$f":"IF(COUNTIF(BC$2:BC6,BC6)=1,BC6,\"\")","v":""},"","","","","","","",{"$f":"+IF(BK6=\"\",\"\",MAX(BL$1:BL5)+1)","v":""},"","","","","","","",{"$f":"+IF(BS6=\"\",\"\",MAX(BT$1:BT5)+1)","v":""},"","","","","","","",{"$f":"+IF(CA6=\"\",\"\",MAX(CB$1:CB5)+1)","v":""},"","","","","","","",{"$f":"+IF(CI6=\"\",\"\",MAX(CJ$1:CJ5)+1)","v":""},"","","","","",null,{"$f":"+IF(CR6=\"\",\"\",MAX(CQ$1:CQ5)+1)","v":""},{"$f":"IF(Compliance_Options!B28=\"\",\"\",Compliance_Options!B28)","v":""},{"$f":"IF(Compliance_Options!C28=\"\",\"\",Compliance_Options!C28)","v":""},{"$f":"IF(Compliance_Options!D28=\"\",\"\",Compliance_Options!D28)","v":""},"  ",{"$f":"IF(COUNTIF(CU$2:CU6,CU6)=1,CU6,\"\")","v":""},"","","",""]
[{"$f":"+IF(B7=\"\",\"\",MAX(A$1:A6)+1)","v":""},{"$f":"IF(Company_Information!B29=\"\",\"\",Company_Information!B29)","v":""},"",{"$f":"IF(COUNTIF(B$2:B7,B7)=1,B7,\"\")","v":""},null,{"$f":"+IF(I7=\"\",\"\",MAX(F$1:F6)+1)","v":""},{"$f":"IF(Compliance_Options!C29=\"\",\"\",Compliance_Options!C29)","v":""},"",{"$f":"IF(COUNTIF(G$2:G7,G7)=1,G7,\"\")","v":""},{"$nulls":12},"CA",{"$nulls":26},{"$f":"+IF(AX7=\"\",\"\",MAX(AW$1:AW6)+1)","v":""},{"$f":"IF(Compliance_Options!B29=\"\",\"\",Compliance_Options!B29)","v":""},{"$f":"IF(Compliance_Options!C29=\"\",\"\",Compliance_Options!C29)","v":""},{"$f":"IF(Compliance_Options!D29=\"\",\"\",Compliance_Options!D29)","v":""},{"$f":"IF(Compliance_Options!E29=\"\",\"\",Compliance_Options!E29)","v":""},{"$f":"IF(Compliance_Options!F29=\"\",\"\",Compliance_Options!F29)","v":""},"    ",{"$f":"IF(COUNTIF(BC$2:BC7,BC7)=1,BC7,\"\")","v":""},"","","","","","","",{"$f":"+IF(BK7=\"\",\"\",MAX(BL$1:BL6)+1)","v":""},"","","","","","","",{"$f":"+IF(BS7=\"\",\"\",MAX(BT$1:BT6)+1)","v":""},"","","","","","","",{"$f":"+IF(CA7=\"\",\"\",MAX(CB$1:CB6)+1)","v":""},"","","","","","","",{"$f":"+IF(CI7=\"\",\"\",MAX(CJ$1:CJ6)+1)","v":""},"","","","","",null,{"$f":"+IF(CR7=\"\",\"\",MAX(CQ$1:CQ6)+1)","v":""},{"$f":"IF(Compliance_Options!B29=\"\",\"\",Compliance_Options!B29)","v":""},{"$f":"IF(Compliance_Options!C29=\"\",\"\",Compliance_Options!C29)","v":""},{"$f":"IF(Compliance_Options!D29=\"\",\"\",Compliance_Options!D29)","v":""},"  ",{"$f":"IF(COUNTIF(CU$2:CU7,CU7)=1,CU7,\"\")","v":""},"","","",""]
[{"$f":"+IF(B8=\"\",\"\",MAX(A$1:A7)+1)","v":""},{"$f":"IF(Company_Information!B30=\"\",\"\",Company_Information!B30)","v":""},"",{"$f":"IF(COUNTIF(B$2:B8,B8)=1,B8,\"\")","v":""},null,{"$f":"+IF(I8=\"\",\"\",MAX(F$1:F7)+1)","v":""},{"$f":"IF(Compliance_Options!C30=\"\",\"\",Compliance_Options!C30)","v":""},"",{"$f":"IF(COUNTIF(G$2:G8,G8)=1,G8,\"\")","v":""},{"$nulls":8},"NOCS",{"$nulls":3},"CO",{"$nulls":26},{"$f":"+IF(AX8=\"\",\"\",MAX(AW$1:AW7)+1)","v":""},{"$f":"IF(Compliance_Options!B30=\"\",\"\",Compliance_Options!B30)","v":""},{"$f":"IF(Compliance_Options!C30=\"\",\"\",Compliance_Options!C30)","v":""},{"$f":"IF(Compliance_Options!D30=\"\",\"\",Compliance_Options!D30)","v":""},{"$f":"IF(Compliance_Options!E30=\"\",\"\",Compliance_Options!E30)","v":""},{"$f":"IF(Compliance_Options!F30=\"\",\"\",Compliance_Options!F30)","v":""},"    ",{"$f":"IF(COUNTIF(BC$2:BC8,BC8)=1,BC8,\"\")","v":""},"","","","","","","",{"$f":"+IF(BK8=\"\",\"\",MAX(BL$1:BL7)+1)","v":""},"","","","","","","",{"$f":"+IF(BS8=\"\",\"\",MAX(BT$1:BT7)+1)","v":""},"","","","","","","",{"$f":"+IF(CA8=\"\",\"\",MAX(CB$1:CB7)+1)","v":""},"","","","","","","",{"$f":"+IF(CI8=\"\",\"\",MAX(CJ$1:CJ7)+1)","v":""},"","","","","",null,{"$f":"+IF(CR8=\"\",\"\",MAX(CQ$1:CQ7)+1)","v":""},{"$f":"IF(Compliance_Options!B30=\"\",\"\",Compliance_Options!B30)","v":""},{"$f":"IF(Compliance_Options!C30=\"\",\"\",Compliance_Options!C30)","v":""},{"$f":"IF(Compliance_Options!D30=\"\",\"\",Compliance_Options!D30)","v":""},"  ",{"$f":"IF(COUNTIF(CU$2:CU8,CU8)=1,CU8,\"\")","v":""},"","","",""]
[{"$f":"+IF(B9=\"\",\"\",MAX(A$1:A8)+1)","v":""},{"$f":"IF(Company_Information!B31=\"\",\"\",Company_Information!B31)","v":""},"",{"$f":"IF(COUNTIF(B$2:B9,B9)=1,B9,\"\")","v":""},null,{"$f":"+IF(I9=\"\",\"\",MAX(F$1:F8)+1)","v":""},{"$f":"IF(Compliance_Options!C31=\"\",\"\",Compliance_Options!C31)","v":""},"",{"$f":"IF(COUNTIF(G$2:G9,G9)=1,G9,\"\")","v":""},{"$nulls":8},{"$f":"+IF(COUNTIF(Company_Information!$Q$24:$Q$33,\"yes\")>0,\"Yes\",\"No\")","v":"No"},{"$nulls":3},"CT",{"$nulls":26},{"$f":"+IF(AX9=\"\",\"\",MAX(AW$1:AW8)+1)","v":""},{"$f":"IF(Compliance_Options!B31=\"\",\"\",Compliance_Options!B31)","v":""},{"$f":"IF(Compliance_Options!C31=\"\",\"\",Compliance_Options!C31)","v":""},{"$f":"IF(Compliance_Options!D31=\"\",\"\",Compliance_Options!D31)","v":""},{"$f":"IF(Compliance_Options!E31=\"\",\"\",Compliance_Options!E31)","v":""},{"$f":"IF(Compliance_Options!F31=\"\",\"\",Compliance_Options!F31)","v":""},"    ",{"$f":"IF(COUNTIF(BC$2:BC9,BC9)=1,BC9,\"\")","v":""},"","","","","","","",{"$f":"+IF(BK9=\"\",\"\",MAX(BL$1:BL8)+1)","v":""},"","","","","","","",{"$f":"+IF(BS9=\"\",\"\",MAX(BT$1:BT8)+1)","v":""},"","","","","","","",{"$f":"+IF(CA9=\"\",\"\",MAX(CB$1:CB8)+1)","v":""},"","","","","","","",{"$f":"+IF(CI9=\"\",\"\",MAX(CJ$1:CJ8)+1)","v":""},"","","","","",null,{"$f":"+IF(CR9=\"\",\"\",MAX(CQ$1:CQ8)+1)","v":""},{"$f":"IF(Compliance_Options!B31=\"\",\"\",Compliance_Options!B31)","v":""},{"$f":"IF(Compliance_Options!C31=\"\",\"\",Compliance_Options!C31)","v":""},{"$f":"IF(Compliance_Options!D31=\"\",\"\",Compliance_Options!D31)","v":""},"  ",{"$f":"IF(COUNTIF(CU$2:CU9,CU9)=1,CU9,\"\")","v":""},"","","",""]
[{"$f":"+IF(B10=\"\",\"\",MAX(A$1:A9)+1)","v":""},{"$f":"IF(Company_Information!B32=\"\",\"\",Company_Information!B32)","v":""},"",{"$f":"IF(COUNTIF(B$2:B10,B10)=1,B10,\"\")","v":""},null,{"$f":"+IF(I10=\"\",\"\",MAX(F$1:F9)+1)","v":""},{"$f":"IF(Compliance_Options!C32=\"\",\"\",Compliance_Options!C32)","v":""},"",{"$f":"IF(COUNTIF(G$2:G10,G10)=1,G10,\"\")","v":""},{"$nulls":12},"DC",{"$nulls":9},{"$f":"+LEFT(Y10,12)","v":""},{"$nulls":16},{"$f":"+IF(AX10=\"\",\"\",MAX(AW$1:AW9)+1)","v":""},{"$f":"IF(Compliance_Options!B32=\"\",\"\",Compliance_Options!B32)","v":""},{"$f":"IF(Compliance_Options!C32=\"\",\"\",Compliance_Options!C32)","v":""},{"$f":"IF(Compliance_Options!D32=\"\",\"\",Compliance_Options!D32)","v":""},{"$f":"IF(Compliance_Options!E32=\"\",\"\",Compliance_Options!E32)","v":""},{"$f":"IF(Compliance_Options!F32=\"\",\"\",Compliance_Options!F32)","v":""},"    ",{"$f":"IF(COUNTIF(BC$2:BC10,BC10)=1,BC10,\"\")","v":""},"","","","","","","",{"$f":"+IF(BK10=\"\",\"\",MAX(BL$1:BL9)+1)","v":""},"","","","","","","",{"$f":"+IF(BS10=\"\",\"\",MAX(BT$1:BT9)+1)","v":""},"","","","","","","",{"$f":"+IF(CA10=\"\",\"\",MAX(CB$1:CB9)+1)","v":""},"","","","","","","",{"$f":"+IF(CI10=\"\",\"\",MAX(CJ$1:CJ9)+1)","v":""},"","","","","",null,{"$f":"+IF(CR10=\"\",\"\",MAX(CQ$1:CQ9)+1)","v":""},{"$f":"IF(Compliance_Options!B32=\"\",\"\",Compliance_Options!B32)","v":""},{"$f":"IF(Compliance_Options!C32=\"\",\"\",Compliance_Options!C32)","v":""},{"$f":"IF(Compliance_Options!D32=\"\",\"\",Compliance_Options!D32)","v":""},"  ",{"$f":"IF(COUNTIF(CU$2:CU10,CU10)=1,CU10,\"\")","v":""},"","","",""]
[{"$f":"+IF(B11=\"\",\"\",MAX(A$1:A10)+1)","v":""},{"$f":"IF(Company_Information!B33=\"\",\"\",Company_Information!B33)","v":""},"",{"$f":"IF(COUNTIF(B$2:B11,B11)=1,B11,\"\")","v":""},null,{"$f":"+IF(I11=\"\",\"\",MAX(F$1:F10)+1)","v":""},{"$f":"IF(Compliance_Options!C33=\"\",\"\",Compliance_Options!C33)","v":""},"",{"$f":"IF(COUNTIF(G$2:G11,G11)=1,G11,\"\")","v":""},{"$nulls":8},"Deviation Causes",{"$nulls":3},"DE",{"$nulls":4},"Not Applicable",{"$nulls":4},{"$f":"+LEFT(Y11,12)","v":""},{"$nulls":16},{"$f":"+IF(AX11=\"\",\"\",MAX(AW$1:AW10)+1)","v":""},{"$f":"IF(Compliance_Options!B33=\"\",\"\",Compliance_Options!B33)","v":""},{"$f":"IF(Compliance_Options!C33=\"\",\"\",Compliance_Options!C33)","v":""},{"$f":"IF(Compliance_Options!D33=\"\",\"\",Compliance_Options!D33)","v":""},{"$f":"IF(Compliance_Options!E33=\"\",\"\",Compliance_Options!E33)","v":""},{"$f":"IF(Compliance_Options!F33=\"\",\"\",Compliance_Options!F33)","v":""},"    ",{"$f":"IF(COUNTIF(BC$2:BC11,BC11)=1,BC11,\"\")","v":""},"","","","","","","",{"$f":"+IF(BK11=\"\",\"\",MAX(BL$1:BL10)+1)","v":""},"","","","","","","",{"$f":"+IF(BS11=\"\",\"\",MAX(BT$1:BT10)+1)","v":""},"","","","","","","",{"$f":"+IF(CA11=\"\",\"\",MAX(CB$1:CB10)+1)","v":""},"","","","","","","",{"$f":"+IF(CI11=\"\",\"\",MAX(CJ$1:CJ10)+1)","v":""},"","","","","",null,{"$f":"+IF(CR11=\"\",\"\",MAX(CQ$1:CQ10)+1)","v":""},{"$f":"IF(Compliance_Options!B33=\"\",\"\",Compliance_Options!B33)","v":""},{"$f":"IF(Compliance_Options!C33=\"\",\"\",Compliance_Options!C33)","v":""},{"$f":"IF(Compliance_Options!D33=\"\",\"\",Compliance_Options!D33)","v":""},"  ",{"$f":"IF(COUNTIF(CU$2:CU11,CU11)=1,CU11,\"\")","v":""},"","","",""]
[{"$nulls":5},{"$f":"+IF(I12=\"\",\"\",MAX(F$1:F11)+1)","v":""},{"$f":"IF(Compliance_Options!C34=\"\",\"\",Compliance_Options!C34)","v":""},"",{"$f":"IF(COUNTIF(G$2:G12,G12)=1,G12,\"\")","v":""},{"$nulls":8},"Control Equipment Problems",{"$nulls":3},"FL",{"$nulls":26},{"$f":"+IF(AX12=\"\",\"\",MAX(AW$1:AW11)+1)","v":""},{"$f":"IF(Compliance_Options!B34=\"\",\"\",Compliance_Options!B34)","v":""},{"$f":"IF(Compliance_Options!C34=\"\",\"\",Compliance_Options!C34)","v":""},{"$f":"IF(Compliance_Options!D34=\"\",\"\",Compliance_Options!D34)","v":""},{"$f":"IF(Compliance_Options!E34=\"\",\"\",Compliance_Options!E34)","v":""},{"$f":"IF(Compliance_Options!F34=\"\",\"\",Compliance_Options!F34)","v":""},"    ",{"$f":"IF(COUNTIF(BC$2:BC12,BC12)=1,BC12,\"\")","v":""},"","","","","","","",{"$f":"+IF(BK12=\"\",\"\",MAX(BL$1:BL11)+1)","v":""},"","","","","","","",{"$f":"+IF(BS12=\"\",\"\",MAX(BT$1:BT11)+1)","v":""},"","","","","","","",{"$f":"+IF(CA12=\"\",\"\",MAX(CB$1:CB11)+1)","v":""},"","","","","","","",{"$f":"+IF(CI12=\"\",\"\",MAX(CJ$1:CJ11)+1)","v":""},"","","","","",null,{"$f":"+IF(CR12=\"\",\"\",MAX(CQ$1:CQ11)+1)","v":""},{"$f":"IF(Compliance_Options!B34=\"\",\"\",Compliance_Options!B34)","v":""},{"$f":"IF(Compliance_Options!C34=\"\",\"\",Compliance_Options!C34)","v":""},{"$f":"IF(Compliance_Options!D34=\"\",\"\",Compliance_Options!D34)","v":""},"  ",{"$f":"IF(COUNTIF(CU$2:CU12,CU12)=1,CU12,\"\")","v":""},"","","",""]
[{"$nulls":5},{"$f":"+IF(I13=\"\",\"\",MAX(F$1:F12)+1)","v":""},{"$f":"IF(Compliance_Options!C35=\"\",\"\",Compliance_Options!C35)","v":""},"",{"$f":"IF(COUNTIF(G$2:G13,G13)=1,G13,\"\")","v":""},{"$nulls":8},"Process Problems",{"$nulls":3},"GA",{"$nulls":26},{"$f":"+IF(AX13=\"\",\"\",MAX(AW$1:AW12)+1)","v":""},{"$f":"IF(Compliance_Options!B35=\"\",\"\",Compliance_Options!B35)","v":""},{"$f":"IF(Compliance_Options!C35=\"\",\"\",Compliance_Options!C35)","v":""},{"$f":"IF(Compliance_Options!D35=\"\",\"\",Compliance_Options!D35)","v":""},{"$f":"IF(Compliance_Options!E35=\"\",\"\",Compliance_Options!E35)","v":""},{"$f":"IF(Compliance_Options!F35=\"\",\"\",Compliance_Options!F35)","v":""},"    ",{"$f":"IF(COUNTIF(BC$2:BC13,BC13)=1,BC13,\"\")","v":""},"","","","","","","",{"$f":"+IF(BK13=\"\",\"\",MAX(BL$1:BL12)+1)","v":""},"","","","","","","",{"$f":"+IF(BS13=\"\",\"\",MAX(BT$1:BT12)+1)","v":""},"","","","","","","",{"$f":"+IF(CA13=\"\",\"\",MAX(CB$1:CB12)+1)","v":""},"","","","","","","",{"$f":"+IF(CI13=\"\",\"\",MAX(CJ$1:CJ12)+1)","v":""},"","","","","",null,{"$f":"+IF(CR13=\"\",\"\",MAX(CQ$1:CQ12)+1)","v":""},{"$f":"IF(Compliance_Options!B35=\"\",\"\",Compliance_Options!B35)","v":""},{"$f":"IF(Compliance_Options!C35=\"\",\"\",Compliance_Options!C35)","v":""},{"$f":"IF(Compliance_Options!D35=\"\",\"\",Compliance_Options!D35)","v":""},"  ",{"$f":"IF(COUNTIF(CU$2:CU13,CU13)=1,CU13,\"\")","v":""},"","","",""]
[{"$nulls":5},{"$f":"+IF(I14=\"\",\"\",MAX(F$1:F13)+1)","v":""},{"$f":"IF(Compliance_Options!C36=\"\",\"\",Compliance_Options!C36)","v":""},"",{"$f":"IF(COUNTIF(G$2:G14,G14)=1,G14,\"\")","v":""},{"$nulls":8},"Other Known Causes",{"$nulls":3},"GU",null,"TireProductionOption1—H","TireCordProductionOption1.a","PunctureSealantApplicationOption1.a","RubberProcessingThereare",{"$nulls":21},{"$f":"+IF(AX14=\"\",\"\",MAX(AW$1:AW13)+1)","v":""},{"$f":"IF(Compliance_Options!B36=\"\",\"\",Compliance_Options!B36)","v":""},{"$f":"IF(Compliance_Options!C36=\"\",\"\",Compliance_Options!C36)","v":""},{"$f":"IF(Compliance_Options!D36=\"\",\"\",Compliance_Options!D36)","v":""},{"$f":"IF(Compliance_Options!E36=\"\",\"\",Compliance_Options!E36)","v":""},{"$f":"IF(Compliance_Options!F36=\"\",\"\",Compliance_Options!F36)","v":""},"    ",{"$f":"IF(COUNTIF(BC$2:BC14,BC14)=1,BC14,\"\")","v":""},"","","","","","","",{"$f":"+IF(BK14=\"\",\"\",MAX(BL$1:BL13)+1)","v":""},"","","","","","","",{"$f":"+IF(BS14=\"\",\"\",MAX(BT$1:BT13)+1)","v":""},"","","","","","","",{"$f":"+IF(CA14=\"\",\"\",MAX(CB$1:CB13)+1)","v":""},"","","","","","","",{"$f":"+IF(CI14=\"\",\"\",MAX(CJ$1:CJ13)+1)","v":""},"","","","","",null,{"$f":"+IF(CR14=\"\",\"\",MAX(CQ$1:CQ13)+1)","v":""},{"$f":"IF(Compliance_Options!B36=\"\",\"\",Compliance_Options!B36)","v":""},{"$f":"IF(Compliance_Options!C36=\"\",\"\",Compliance_Options!C36)","v":""},{"$f":"IF(Compliance_Options!D36=\"\",\"\",Compliance_Options!D36)","v":""},"  ",{"$f":"IF(COUNTIF(CU$2:CU14,CU14)=1,CU14,\"\")","v":""},"","","",""]
[{"$nulls":5},{"$f":"+IF(I15=\"\",\"\",MAX(F$1:F14)+1)","v":""},{"$f":"IF(Compliance_Options!C37=\"\",\"\",Compliance_Options!C37)","v":""},"",{"$f":"IF(COUNTIF(G$2:G15,G15)=1,G15,\"\")","v":""},{"$nulls":8},"Other Unknown Causes",{"$nulls":3},"HI",null,"TireProductionOption2—p","TireCordProductionOption1.b","PunctureSealantApplicationOption1.b",{"$nulls":22},{"$f":"+IF(AX15=\"\",\"\",MAX(AW$1:AW14)+1)","v":""},{"$f":"IF(Compliance_Options!B37=\"\",\"\",Compliance_Options!B37)","v":""},{"$f":"IF(Compliance_Options!C37=\"\",\"\",Compliance_Options!C37)","v":""},{"$f":"IF(Compliance_Options!D37=\"\",\"\",Compliance_Options!D37)","v":""},{"$f":"IF(Compliance_Options!E37=\"\",\"\",Compliance_Options!E37)","v":""},{"$f":"IF(Compliance_Options!F37=\"\",\"\",Compliance_Options!F37)","v":""},"    ",{"$f":"IF(COUNTIF(BC$2:BC15,BC15)=1,BC15,\"\")","v":""},"","","","","","","",{"$f":"+IF(BK15=\"\",\"\",MAX(BL$1:BL14)+1)","v":""},"","","","","","","",{"$f":"+IF(BS15=\"\",\"\",MAX(BT$1:BT14)+1)","v":""},"","","","","","","",{"$f":"+IF(CA15=\"\",\"\",MAX(CB$1:CB14)+1)","v":""},"","","","","","","",{"$f":"+IF(CI15=\"\",\"\",MAX(CJ$1:CJ14)+1)","v":""},"","","","","",null,{"$f":"+IF(CR15=\"\",\"\",MAX(CQ$1:CQ14)+1)","v":""},{"$f":"IF(Compliance_Options!B37=\"\",\"\",Compliance_Options!B37)","v":""},{"$f":"IF(Compliance_Options!C37=\"\",\"\",Compliance_Options!C37)","v":""},{"$f":"IF(Compliance_Options!D37=\"\",\"\",Compliance_Options!D37)","v":""},"  ",{"$f":"IF(COUNTIF(CU$2:CU15,CU15)=1,CU15,\"\")","v":""},"","","",""]
[{"$nulls":5},{"$f":"+IF(I16=\"\",\"\",MAX(F$1:F15)+1)","v":""},{"$f":"IF(Compliance_Options!C38=\"\",\"\",Compliance_Options!C38)","v":""},"",{"$f":"IF(COUNTIF(G$2:G16,G16)=1,G16,\"\")","v":""},{"$nulls":8},"Switch Coatings",{"$nulls":3},"IA",null,"TireProductionPurchasea","TireCordProductionOption2(","PunctureSealantApplicationOption2(",{"$nulls":22},{"$f":"+IF(AX16=\"\",\"\",MAX(AW$1:AW15)+1)","v":""},{"$f":"IF(Compliance_Options!B38=\"\",\"\",Compliance_Options!B38)","v":""},{"$f":"IF(Compliance_Options!C38=\"\",\"\",Compliance_Options!C38)","v":""},{"$f":"IF(Compliance_Options!D38=\"\",\"\",Compliance_Options!D38)","v":""},{"$f":"IF(Compliance_Options!E38=\"\",\"\",Compliance_Options!E38)","v":""},{"$f":"IF(Compliance_Options!F38=\"\",\"\",Compliance_Options!F38)","v":""},"    ",{"$f":"IF(COUNTIF(BC$2:BC16,BC16)=1,BC16,\"\")","v":""},"","","","","","","",{"$f":"+IF(BK16=\"\",\"\",MAX(BL$1:BL15)+1)","v":""},"","","","","","","",{"$f":"+IF(BS16=\"\",\"\",MAX(BT$1:BT15)+1)","v":""},"","","","","","","",{"$f":"+IF(CA16=\"\",\"\",MAX(CB$1:CB15)+1)","v":""},"","","","","","","",{"$f":"+IF(CI16=\"\",\"\",MAX(CJ$1:CJ15)+1)","v":""},"","","","","",null,{"$f":"+IF(CR16=\"\",\"\",MAX(CQ$1:CQ15)+1)","v":""},{"$f":"IF(Compliance_Options!B38=\"\",\"\",Compliance_Options!B38)","v":""},{"$f":"IF(Compliance_Options!C38=\"\",\"\",Compliance_Options!C38)","v":""},{"$f":"IF(Compliance_Options!D38=\"\",\"\",Compliance_Options!D38)","v":""},"  ",{"$f":"IF(COUNTIF(CU$2:CU16,CU16)=1,CU16,\"\")","v":""},"","","",""]
[{"$nulls":5},{"$f":"+IF(I17=\"\",\"\",MAX(F$1:F16)+1)","v":""},{"$f":"IF(Compliance_Options!C39=\"\",\"\",Compliance_Options!C39)","v":""},"",{"$f":"IF(COUNTIF(G$2:G17,G17)=1,G17,\"\")","v":""},{"$nulls":12},"ID",null,"TireProductionWithoutus","TireCordProductionWithoutus","PunctureSealantApplicationThermalox",{"$nulls":22},{"$f":"+IF(AX17=\"\",\"\",MAX(AW$1:AW16)+1)","v":""},{"$f":"IF(Compliance_Options!B39=\"\",\"\",Compliance_Options!B39)","v":""},{"$f":"IF(Compliance_Options!C39=\"\",\"\",Compliance_Options!C39)","v":""},{"$f":"IF(Compliance_Options!D39=\"\",\"\",Compliance_Options!D39)","v":""},{"$f":"IF(Compliance_Options!E39=\"\",\"\",Compliance_Options!E39)","v":""},{"$f":"IF(Compliance_Options!F39=\"\",\"\",Compliance_Options!F39)","v":""},"    ",{"$f":"IF(COUNTIF(BC$2:BC17,BC17)=1,BC17,\"\")","v":""},"","","","","","","",{"$f":"+IF(BK17=\"\",\"\",MAX(BL$1:BL16)+1)","v":""},"","","","","","","",{"$f":"+IF(BS17=\"\",\"\",MAX(BT$1:BT16)+1)","v":""},"","","","","","","",{"$f":"+IF(CA17=\"\",\"\",MAX(CB$1:CB16)+1)","v":""},"","","","","","","",{"$f":"+IF(CI17=\"\",\"\",MAX(CJ$1:CJ16)+1)","v":""},"","","","","",null,{"$f":"+IF(CR17=\"\",\"\",MAX(CQ$1:CQ16)+1)","v":""},{"$f":"IF(Compliance_Options!B39=\"\",\"\",Compliance_Options!B39)","v":""},{"$f":"IF(Compliance_Options!C39=\"\",\"\",Compliance_Options!C39)","v":""},{"$f":"IF(Compliance_Options!D39=\"\",\"\",Compliance_Options!D39)","v":""},"  ",{"$f":"IF(COUNTIF(CU$2:CU17,CU17)=1,CU17,\"\")","v":""},"","","",""]
[{"$nulls":5},{"$f":"+IF(I18=\"\",\"\",MAX(F$1:F17)+1)","v":""},{"$f":"IF(Compliance_Options!C40=\"\",\"\",Compliance_Options!C40)","v":""},"",{"$f":"IF(COUNTIF(G$2:G18,G18)=1,G18,\"\")","v":""},{"$nulls":8},"CMSCauseList",{"$nulls":3},"IL",null,"TireProductionUsingana","TireCordProductionUsingana","PunctureSealantApplicationCarbonads",{"$nulls":22},{"$f":"+IF(AX18=\"\",\"\",MAX(AW$1:AW17)+1)","v":""},{"$f":"IF(Compliance_Options!B40=\"\",\"\",Compliance_Options!B40)","v":""},{"$f":"IF(Compliance_Options!C40=\"\",\"\",Compliance_Options!C40)","v":""},{"$f":"IF(Compliance_Options!D40=\"\",\"\",Compliance_Options!D40)","v":""},{"$f":"IF(Compliance_Options!E40=\"\",\"\",Compliance_Options!E40)","v":""},{"$f":"IF(Compliance_Options!F40=\"\",\"\",Compliance_Options!F40)","v":""},"    ",{"$f":"IF(COUNTIF(BC$2:BC18,BC18)=1,BC18,\"\")","v":""},"","","","","","","",{"$f":"+IF(BK18=\"\",\"\",MAX(BL$1:BL17)+1)","v":""},"","","","","","","",{"$f":"+IF(BS18=\"\",\"\",MAX(BT$1:BT17)+1)","v":""},"","","","","","","",{"$f":"+IF(CA18=\"\",\"\",MAX(CB$1:CB17)+1)","v":""},"","","","","","","",{"$f":"+IF(CI18=\"\",\"\",MAX(CJ$1:CJ17)+1)","v":""},"","","","","",null,{"$f":"+IF(CR18=\"\",\"\",MAX(CQ$1:CQ17)+1)","v":""},{"$f":"IF(Compliance_Options!B40=\"\",\"\",Compliance_Options!B40)","v":""},{"$f":"IF(Compliance_Options!C40=\"\",\"\",Compliance_Options!C40)","v":""},{"$f":"IF(Compliance_Options!D40=\"\",\"\",Compliance_Options!D40)","v":""},"  ",{"$f":"IF(COUNTIF(CU$2:CU18,CU18)=1,CU18,\"\")","v":""},"","","",""]
[{"$nulls":5},{"$f":"+IF(I19=\"\",\"\",MAX(F$1:F18)+1)","v":""},{"$f":"IF(Compliance_Options!C41=\"\",\"\",Compliance_Options!C41)","v":""},"",{"$f":"IF(COUNTIF(G$2:G19,G19)=1,G19,\"\")","v":""},{"$nulls":8},"Monitoring Equipment Malfunctions",{"$nulls":3},"IN",{"$nulls":3},"PunctureSealantApplicationOthertype",{"$nulls":22},{"$f":"+IF(AX19=\"\",\"\",MAX(AW$1:AW18)+1)","v":""},{"$f":"IF(Compliance_Options!B41=\"\",\"\",Compliance_Options!B41)","v":""},{"$f":"IF(Compliance_Options!C41=\"\",\"\",Compliance_Options!C41)","v":""},{"$f":"IF(Compliance_Options!D41=\"\",\"\",Compliance_Options!D41)","v":""},{"$f":"IF(Compliance_Options!E41=\"\",\"\",Compliance_Options!E41)","v":""},{"$f":"IF(Compliance_Options!F41=\"\",\"\",Compliance_Options!F41)","v":""},"    ",{"$f":"IF(COUNTIF(BC$2:BC19,BC19)=1,BC19,\"\")","v":""},"","","","","","","",{"$f":"+IF(BK19=\"\",\"\",MAX(BL$1:BL18)+1)","v":""},"","","","","","","",{"$f":"+IF(BS19=\"\",\"\",MAX(BT$1:BT18)+1)","v":""},"","","","","","","",{"$f":"+IF(CA19=\"\",\"\",MAX(CB$1:CB18)+1)","v":""},"","","","","","","",{"$f":"+IF(CI19=\"\",\"\",MAX(CJ$1:CJ18)+1)","v":""},"","","","","",null,{"$f":"+IF(CR19=\"\",\"\",MAX(CQ$1:CQ18)+1)","v":""},{"$f":"IF(Compliance_Options!B41=\"\",\"\",Compliance_Options!B41)","v":""},{"$f":"IF(Compliance_Options!C41=\"\",\"\",Compliance_Options!C41)","v":""},{"$f":"IF(Compliance_Options!D41=\"\",\"\",Compliance_Options!D41)","v":""},"  ",{"$f":"IF(COUNTIF(CU$2:CU19,CU19)=1,CU19,\"\")","v":""},"","","",""]
["Rank","Company","CompanyName","Column1",null,{"$f":"+IF(I20=\"\",\"\",MAX(F$1:F19)+1)","v":""},{"$f":"IF(Compliance_Options!C42=\"\",\"\",Compliance_Options!C42)","v":""},"",{"$f":"IF(COUNTIF(G$2:G20,G20)=1,G20,\"\")","v":""},{"$nulls":8},"Nonmonitoring Equipment Malfunctions",{"$nulls":3},"KS",{"$nulls":3},"PunctureSealantApplicationPermanent",{"$nulls":22},{"$f":"+IF(AX20=\"\",\"\",MAX(AW$1:AW19)+1)","v":""},{"$f":"IF(Compliance_Options!B42=\"\",\"\",Compliance_Options!B42)","v":""},{"$f":"IF(Compliance_Options!C42=\"\",\"\",Compliance_Options!C42)","v":""},{"$f":"IF(Compliance_Options!D42=\"\",\"\",Compliance_Options!D42)","v":""},{"$f":"IF(Compliance_Options!E42=\"\",\"\",Compliance_Options!E42)","v":""},{"$f":"IF(Compliance_Options!F42=\"\",\"\",Compliance_Options!F42)","v":""},"    ",{"$f":"IF(COUNTIF(BC$2:BC20,BC20)=1,BC20,\"\")","v":""},"","","","","","","",{"$f":"+IF(BK20=\"\",\"\",MAX(BL$1:BL19)+1)","v":""},"","","","","","","",{"$f":"+IF(BS20=\"\",\"\",MAX(BT$1:BT19)+1)","v":""},"","","","","","","",{"$f":"+IF(CA20=\"\",\"\",MAX(CB$1:CB19)+1)","v":""},"","","","","","","",{"$f":"+IF(CI20=\"\",\"\",MAX(CJ$1:CJ19)+1)","v":""},"","","","","",null,{"$f":"+IF(CR20=\"\",\"\",MAX(CQ$1:CQ19)+1)","v":""},{"$f":"IF(Compliance_Options!B42=\"\",\"\",Compliance_Options!B42)","v":""},{"$f":"IF(Compliance_Options!C42=\"\",\"\",Compliance_Options!C42)","v":""},{"$f":"IF(Compliance_Options!D42=\"\",\"\",Compliance_Options!D42)","v":""},"  ",{"$f":"IF(COUNTIF(CU$2:CU20,CU20)=1,CU20,\"\")","v":""},"","","",""]
[{"$f":"+IF(B21=\"\",\"\",MAX(A$20:A20)+1)","v":""},{"$f":"IF(Company_Information!Q24=\"Yes\",Company_Information!B24,\"\")","v":""},{"$f":"+IFERROR(INDEX($B$21:$B$30,MATCH(ROW()-ROW($C$20),$A$21:$A$30,0)),\"\")","v":""},{"$f":"IF(COUNTIF(B21:B$221,B21)=1,B21,\"\")","v":""},null,{"$f":"+IF(I21=\"\",\"\",MAX(F$1:F20)+1)","v":""},{"$f":"IF(Compliance_Options!C43=\"\",\"\",Compliance_Options!C43)","v":""},"",{"$f":"IF(COUNTIF(G$2:G21,G21)=1,G21,\"\")","v":""},{"$nulls":8},"Quality Assurance/Quality Control Calibrations",{"$nulls":3},"KY",{"$nulls":3},"PunctureSealantApplicationOthercapt",{"$nulls":22},{"$f":"+IF(AX21=\"\",\"\",MAX(AW$1:AW20)+1)","v":""},{"$f":"IF(Compliance_Options!B43=\"\",\"\",Compliance_Options!B43)","v":""},{"$f":"IF(Compliance_Options!C43=\"\",\"\",Compliance_Options!C43)","v":""},{"$f":"IF(Compliance_Options!D43=\"\",\"\",Compliance_Options!D43)","v":""},{"$f":"IF(Compliance_Options!E43=\"\",\"\",Compliance_Options!E43)","v":""},{"$f":"IF(Compliance_Options!F43=\"\",\"\",Compliance_Options!F43)","v":""},"    ",{"$f":"IF(COUNTIF(BC$2:BC21,BC21)=1,BC21,\"\")","v":""},"","","","","","","",{"$f":"+IF(BK21=\"\",\"\",MAX(BL$1:BL20)+1)","v":""},"","","","","","","",{"$f":"+IF(BS21=\"\",\"\",MAX(BT$1:BT20)+1)","v":""},"","","","","","","",{"$f":"+IF(CA21=\"\",\"\",MAX(CB$1:CB20)+1)","v":""},"","","","","","","",{"$f":"+IF(CI21=\"\",\"\",MAX(CJ$1:CJ20)+1)","v":""},"","","","","",null,{"$f":"+IF(CR21=\"\",\"\",MAX(CQ$1:CQ20)+1)","v":""},{"$f":"IF(Compliance_Options!B43=\"\",\"\",Compliance_Options!B43)","v":""},{"$f":"IF(Compliance_Options!C43=\"\",\"\",Compliance_Options!C43)","v":""},{"$f":"IF(Compliance_Options!D43=\"\",\"\",Compliance_Options!D43)","v":""},"  ",{"$f":"IF(COUNTIF(CU$2:CU21,CU21)=1,CU21,\"\")","v":""},"","","",""]
[{"$f":"+IF(B22=\"\",\"\",MAX(A$20:A21)+1)","v":""},{"$f":"IF(Company_Information!Q25=\"Yes\",Company_Information!B25,\"\")","v":""},"",{"$f":"IF(COUNTIF(B22:B$221,B22)=1,B22,\"\")","v":""},null,{"$f":"+IF(I22=\"\",\"\",MAX(F$1:F21)+1)","v":""},{"$f":"IF(Compliance_Options!C44=\"\",\"\",Compliance_Options!C44)","v":""},"",{"$f":"IF(COUNTIF(G$2:G22,G22)=1,G22,\"\")","v":""},{"$nulls":8},"Other Known Causes",{"$nulls":3},"LA",{"$nulls":26},{"$f":"+IF(AX22=\"\",\"\",MAX(AW$1:AW21)+1)","v":""},{"$f":"IF(Compliance_Options!B44=\"\",\"\",Compliance_Options!B44)","v":""},{"$f":"IF(Compliance_Options!C44=\"\",\"\",Compliance_Options!C44)","v":""},{"$f":"IF(Compliance_Options!D44=\"\",\"\",Compliance_Options!D44)","v":""},{"$f":"IF(Compliance_Options!E44=\"\",\"\",Compliance_Options!E44)","v":""},{"$f":"IF(Compliance_Options!F44=\"\",\"\",Compliance_Options!F44)","v":""},"    ",{"$f":"IF(COUNTIF(BC$2:BC22,BC22)=1,BC22,\"\")","v":""},"","","","","","","",{"$f":"+IF(BK22=\"\",\"\",MAX(BL$1:BL21)+1)","v":""},"","","","","","","",{"$f":"+IF(BS22=\"\",\"\",MAX(BT$1:BT21)+1)","v":""},"","","","","","","",{"$f":"+IF(CA22=\"\",\"\",MAX(CB$1:CB21)+1)","v":""},"","","","","","","",{"$f":"+IF(CI22=\"\",\"\",MAX(CJ$1:CJ21)+1)","v":""},"","","","","",null,{"$f":"+IF(CR22=\"\",\"\",MAX(CQ$1:CQ21)+1)","v":""},{"$f":"IF(Compliance_Options!B44=\"\",\"\",Compliance_Options!B44)","v":""},{"$f":"IF(Compliance_Options!C44=\"\",\"\",Compliance_Options!C44)","v":""},{"$f":"IF(Compliance_Options!D44=\"\",\"\",Compliance_Options!D44)","v":""},"  ",{"$f":"IF(COUNTIF(CU$2:CU22,CU22)=1,CU22,\"\")","v":""},"","","",""]
[{"$f":"+IF(B23=\"\",\"\",MAX(A$20:A22)+1)","v":""},{"$f":"IF(Company_Information!Q26=\"Yes\",Company_Information!B26,\"\")","v":""},"",{"$f":"IF(COUNTIF(B23:B$221,B23)=1,B23,\"\")","v":""},null,{"$f":"+IF(I23=\"\",\"\",MAX(F$1:F22)+1)","v":""},{"$f":"IF(Compliance_Options!C45=\"\",\"\",Compliance_Options!C45)","v":""},"",{"$f":"IF(COUNTIF(G$2:G23,G23)=1,G23,\"\")","v":""},{"$nulls":8},"Other Unknown Causes",{"$nulls":3},"MA",{"$nulls":26},{"$f":"+IF(AX23=\"\",\"\",MAX(AW$1:AW22)+1)","v":""},{"$f":"IF(Compliance_Options!B45=\"\",\"\",Compliance_Options!B45)","v":""},{"$f":"IF(Compliance_Options!C45=\"\",\"\",Compliance_Options!C45)","v":""},{"$f":"IF(Compliance_Options!D45=\"\",\"\",Compliance_Options!D45)","v":""},{"$f":"IF(Compliance_Options!E45=\"\",\"\",Compliance_Options!E45)","v":""},{"$f":"IF(Compliance_Options!F45=\"\",\"\",Compliance_Options!F45)","v":""},"    ",{"$f":"IF(COUNTIF(BC$2:BC23,BC23)=1,BC23,\"\")","v":""},"","","","","","","",{"$f":"+IF(BK23=\"\",\"\",MAX(BL$1:BL22)+1)","v":""},"","","","","","","",{"$f":"+IF(BS23=\"\",\"\",MAX(BT$1:BT22)+1)","v":""},"","","","","","","",{"$f":"+IF(CA23=\"\",\"\",MAX(CB$1:CB22)+1)","v":""},"","","","","","","",{"$f":"+IF(CI23=\"\",\"\",MAX(CJ$1:CJ22)+1)","v":""},"","","","","",null,{"$f":"+IF(CR23=\"\",\"\",MAX(CQ$1:CQ22)+1)","v":""},{"$f":"IF(Compliance_Options!B45=\"\",\"\",Compliance_Options!B45)","v":""},{"$f":"IF(Compliance_Options!C45=\"\",\"\",Compliance_Options!C45)","v":""},{"$f":"IF(Compliance_Options!D45=\"\",\"\",Compliance_Options!D45)","v":""},"  ",{"$f":"IF(COUNTIF(CU$2:CU23,CU23)=1,CU23,\"\")","v":""},"","","",""]
[{"$f":"+IF(B24=\"\",\"\",MAX(A$20:A23)+1)","v":""},{"$f":"IF(Company_Information!Q27=\"Yes\",Company_Information!B27,\"\")","v":""},"",{"$f":"IF(COUNTIF(B24:B$221,B24)=1,B24,\"\")","v":""},null,{"$f":"+IF(I24=\"\",\"\",MAX(F$1:F23)+1)","v":""},{"$f":"IF(Compliance_Options!C46=\"\",\"\",Compliance_Options!C46)","v":""},"",{"$f":"IF(COUNTIF(G$2:G24,G24)=1,G24,\"\")","v":""},{"$nulls":12},"MD",{"$nulls":26},{"$f":"+IF(AX24=\"\",\"\",MAX(AW$1:AW23)+1)","v":""},{"$f":"IF(Compliance_Options!B46=\"\",\"\",Compliance_Options!B46)","v":""},{"$f":"IF(Compliance_Options!C46=\"\",\"\",Compliance_Options!C46)","v":""},{"$f":"IF(Compliance_Options!D46=\"\",\"\",Compliance_Options!D46)","v":""},{"$f":"IF(Compliance_Options!E46=\"\",\"\",Compliance_Options!E46)","v":""},{"$f":"IF(Compliance_Options!F46=\"\",\"\",Compliance_Options!F46)","v":""},"    ",{"$f":"IF(COUNTIF(BC$2:BC24,BC24)=1,BC24,\"\")","v":""},"","","","","","","",{"$f":"+IF(BK24=\"\",\"\",MAX(BL$1:BL23)+1)","v":""},"","","","","","","",{"$f":"+IF(BS24=\"\",\"\",MAX(BT$1:BT23)+1)","v":""},"","","","","","","",{"$f":"+IF(CA24=\"\",\"\",MAX(CB$1:CB23)+1)","v":""},"","","","","","","",{"$f":"+IF(CI24=\"\",\"\",MAX(CJ$1:CJ23)+1)","v":""},"","","","","",null,{"$f":"+IF(CR24=\"\",\"\",MAX(CQ$1:CQ23)+1)","v":""},{"$f":"IF(Compliance_Options!B46=\"\",\"\",Compliance_Options!B46)","v":""},{"$f":"IF(Compliance_Options!C46=\"\",\"\",Compliance_Options!C46)","v":""},{"$f":"IF(Compliance_Options!D46=\"\",\"\",Compliance_Options!D46)","v":""},"  ",{"$f":"IF(COUNTIF(CU$2:CU24,CU24)=1,CU24,\"\")","v":""},"","","",""]
[{"$f":"+IF(B25=\"\",\"\",MAX(A$20:A24)+1)","v":""},{"$f":"IF(Company_Information!Q28=\"Yes\",Company_Information!B28,\"\")","v":""},"",{"$f":"IF(COUNTIF(B25:B$221,B25)=1,B25,\"\")","v":""},null,{"$f":"+IF(I25=\"\",\"\",MAX(F$1:F24)+1)","v":""},{"$f":"IF(Compliance_Options!C47=\"\",\"\",Compliance_Options!C47)","v":""},"",{"$f":"IF(COUNTIF(G$2:G25,G25)=1,G25,\"\")","v":""},{"$nulls":8},"Operating Limits",{"$nulls":3},"ME",{"$nulls":26},{"$f":"+IF(AX25=\"\",\"\",MAX(AW$1:AW24)+1)","v":""},{"$f":"IF(Compliance_Options!B47=\"\",\"\",Compliance_Options!B47)","v":""},{"$f":"IF(Compliance_Options!C47=\"\",\"\",Compliance_Options!C47)","v":""},{"$f":"IF(Compliance_Options!D47=\"\",\"\",Compliance_Options!D47)","v":""},{"$f":"IF(Compliance_Options!E47=\"\",\"\",Compliance_Options!E47)","v":""},{"$f":"IF(Compliance_Options!F47=\"\",\"\",Compliance_Options!F47)","v":""},"    ",{"$f":"IF(COUNTIF(BC$2:BC25,BC25)=1,BC25,\"\")","v":""},"","","","","","","",{"$f":"+IF(BK25=\"\",\"\",MAX(BL$1:BL24)+1)","v":""},"","","","","","","",{"$f":"+IF(BS25=\"\",\"\",MAX(BT$1:BT24)+1)","v":""},"","","","","","","",{"$f":"+IF(CA25=\"\",\"\",MAX(CB$1:CB24)+1)","v":""},"","","","","","","",{"$f":"+IF(CI25=\"\",\"\",MAX(CJ$1:CJ24)+1)","v":""},"","","","","",null,{"$f":"+IF(CR25=\"\",\"\",MAX(CQ$1:CQ24)+1)","v":""},{"$f":"IF(Compliance_Options!B47=\"\",\"\",Compliance_Options!B47)","v":""},{"$f":"IF(Compliance_Options!C47=\"\",\"\",Compliance_Options!C47)","v":""},{"$f":"IF(Compliance_Options!D47=\"\",\"\",Compliance_Options!D47)","v":""},"  ",{"$f":"IF(COUNTIF(CU$2:CU25,CU25)=1,CU25,\"\")","v":""},"","","",""]
[{"$f":"+IF(B26=\"\",\"\",MAX(A$20:A25)+1)","v":""},{"$f":"IF(Company_Information!Q29=\"Yes\",Company_Information!B29,\"\")","v":""},"",{"$f":"IF(COUNTIF(B26:B$221,B26)=1,B26,\"\")","v":""},null,{"$f":"+IF(I26=\"\",\"\",MAX(F$1:F25)+1)","v":""},{"$f":"IF(Compliance_Options!C48=\"\",\"\",Compliance_Options!C48)","v":""},"",{"$f":"IF(COUNTIF(G$2:G26,G26)=1,G26,\"\")","v":""},{"$nulls":8},"Bypass of Control Device",{"$nulls":3},"MI",null,10,{"$nulls":24},{"$f":"+IF(AX26=\"\",\"\",MAX(AW$1:AW25)+1)","v":""},{"$f":"IF(Compliance_Options!B48=\"\",\"\",Compliance_Options!B48)","v":""},{"$f":"IF(Compliance_Options!C48=\"\",\"\",Compliance_Options!C48)","v":""},{"$f":"IF(Compliance_Options!D48=\"\",\"\",Compliance_Options!D48)","v":""},{"$f":"IF(Compliance_Options!E48=\"\",\"\",Compliance_Options!E48)","v":""},{"$f":"IF(Compliance_Options!F48=\"\",\"\",Compliance_Options!F48)","v":""},"    ",{"$f":"IF(COUNTIF(BC$2:BC26,BC26)=1,BC26,\"\")","v":""},"","","","","","","",{"$f":"+IF(BK26=\"\",\"\",MAX(BL$1:BL25)+1)","v":""},"","","","","","","",{"$f":"+IF(BS26=\"\",\"\",MAX(BT$1:BT25)+1)","v":""},"","","","","","","",{"$f":"+IF(CA26=\"\",\"\",MAX(CB$1:CB25)+1)","v":""},"","","","","","","",{"$f":"+IF(CI26=\"\",\"\",MAX(CJ$1:CJ25)+1)","v":""},"","","","","",null,{"$f":"+IF(CR26=\"\",\"\",MAX(CQ$1:CQ25)+1)","v":""},{"$f":"IF(Compliance_Options!B48=\"\",\"\",Compliance_Options!B48)","v":""},{"$f":"IF(Compliance_Options!C48=\"\",\"\",Compliance_Options!C48)","v":""},{"$f":"IF(Compliance_Options!D48=\"\",\"\",Compliance_Options!D48)","v":""},"  ",{"$f":"IF(COUNTIF(CU$2:CU26,CU26)=1,CU26,\"\")","v":""},"","","",""]
[{"$f":"+IF(B27=\"\",\"\",MAX(A$20:A26)+1)","v":""},{"$f":"IF(Company_Information!Q30=\"Yes\",Company_Information!B30,\"\")","v":""},"",{"$f":"IF(COUNTIF(B27:B$221,B27)=1,B27,\"\")","v":""},null,{"$f":"+IF(I27=\"\",\"\",MAX(F$1:F26)+1)","v":""},{"$f":"IF(Compliance_Options!C49=\"\",\"\",Compliance_Options!C49)","v":""},"",{"$f":"IF(COUNTIF(G$2:G27,G27)=1,G27,\"\")","v":""},{"$nulls":8},"Combustion Temperature",{"$nulls":3},"MN",{"$nulls":26},{"$f":"+IF(AX27=\"\",\"\",MAX(AW$1:AW26)+1)","v":""},{"$f":"IF(Compliance_Options!B49=\"\",\"\",Compliance_Options!B49)","v":""},{"$f":"IF(Compliance_Options!C49=\"\",\"\",Compliance_Options!C49)","v":""},{"$f":"IF(Compliance_Options!D49=\"\",\"\",Compliance_Options!D49)","v":""},{"$f":"IF(Compliance_Options!E49=\"\",\"\",Compliance_Options!E49)","v":""},{"$f":"IF(Compliance_Options!F49=\"\",\"\",Compliance_Options!F49)","v":""},"    ",{"$f":"IF(COUNTIF(BC$2:BC27,BC27)=1,BC27,\"\")","v":""},"","","","","","","",{"$f":"+IF(BK27=\"\",\"\",MAX(BL$1:BL26)+1)","v":""},"","","","","","","",{"$f":"+IF(BS27=\"\",\"\",MAX(BT$1:BT26)+1)","v":""},"","","","","","","",{"$f":"+IF(CA27=\"\",\"\",MAX(CB$1:CB26)+1)","v":""},"","","","","","","",{"$f":"+IF(CI27=\"\",\"\",MAX(CJ$1:CJ26)+1)","v":""},"","","","","",null,{"$f":"+IF(CR27=\"\",\"\",MAX(CQ$1:CQ26)+1)","v":""},{"$f":"IF(Compliance_Options!B49=\"\",\"\",Compliance_Options!B49)","v":""},{"$f":"IF(Compliance_Options!C49=\"\",\"\",Compliance_Options!C49)","v":""},{"$f":"IF(Compliance_Options!D49=\"\",\"\",Compliance_Options!D49)","v":""},"  ",{"$f":"IF(COUNTIF(CU$2:CU27,CU27)=1,CU27,\"\")","v":""},"","","",""]
[{"$f":"+IF(B28=\"\",\"\",MAX(A$20:A27)+1)","v":""},{"$f":"IF(Company_Information!Q31=\"Yes\",Company_Information!B31,\"\")","v":""},"",{"$f":"IF(COUNTIF(B28:B$221,B28)=1,B28,\"\")","v":""},null,{"$f":"+IF(I28=\"\",\"\",MAX(F$1:F27)+1)","v":""},{"$f":"IF(Compliance_Options!C50=\"\",\"\",Compliance_Options!C50)","v":""},"",{"$f":"IF(COUNTIF(G$2:G28,G28)=1,G28,\"\")","v":""},{"$nulls":8},"Inlet to Catalyst Bed Temperature",{"$nulls":3},"MO",null,{"$f":"+SUBSTITUTE(X$1,\" \", \"\")&SUBSTITUTE(LEFT(X2,$X$26),\" \",\"\")","v":"TireProductionOption1—H"},{"$f":"+SUBSTITUTE(Y$1,\" \", \"\")&SUBSTITUTE(LEFT(Y2,$X$26),\" \",\"\")","v":"TireCordProductionOption1.a"},{"$f":"+SUBSTITUTE(Z$1,\" \", \"\")&SUBSTITUTE(LEFT(Z2,$X$26),\" \",\"\")","v":"PunctureSealantApplicationOption1.a"},{"$f":"+SUBSTITUTE(AA$1,\" \", \"\")&SUBSTITUTE(LEFT(AA2,$X$26),\" \",\"\")","v":"RubberProcessingEmissions"},{"$nulls":21},{"$f":"+IF(AX28=\"\",\"\",MAX(AW$1:AW27)+1)","v":""},{"$f":"IF(Compliance_Options!B50=\"\",\"\",Compliance_Options!B50)","v":""},{"$f":"IF(Compliance_Options!C50=\"\",\"\",Compliance_Options!C50)","v":""},{"$f":"IF(Compliance_Options!D50=\"\",\"\",Compliance_Options!D50)","v":""},{"$f":"IF(Compliance_Options!E50=\"\",\"\",Compliance_Options!E50)","v":""},{"$f":"IF(Compliance_Options!F50=\"\",\"\",Compliance_Options!F50)","v":""},"    ",{"$f":"IF(COUNTIF(BC$2:BC28,BC28)=1,BC28,\"\")","v":""},"","","","","","","",{"$f":"+IF(BK28=\"\",\"\",MAX(BL$1:BL27)+1)","v":""},"","","","","","","",{"$f":"+IF(BS28=\"\",\"\",MAX(BT$1:BT27)+1)","v":""},"","","","","","","",{"$f":"+IF(CA28=\"\",\"\",MAX(CB$1:CB27)+1)","v":""},"","","","","","","",{"$f":"+IF(CI28=\"\",\"\",MAX(CJ$1:CJ27)+1)","v":""},"","","","","",null,{"$f":"+IF(CR28=\"\",\"\",MAX(CQ$1:CQ27)+1)","v":""},{"$f":"IF(Compliance_Options!B50=\"\",\"\",Compliance_Options!B50)","v":""},{"$f":"IF(Compliance_Options!C50=\"\",\"\",Compliance_Options!C50)","v":""},{"$f":"IF(Compliance_Options!D50=\"\",\"\",Compliance_Options!D50)","v":""},"  ",{"$f":"IF(COUNTIF(CU$2:CU28,CU28)=1,CU28,\"\")","v":""},"","","",""]
[{"$f":"+IF(B29=\"\",\"\",MAX(A$20:A28)+1)","v":""},{"$f":"IF(Company_Information!Q32=\"Yes\",Company_Information!B32,\"\")","v":""},"",{"$f":"IF(COUNTIF(B29:B$221,B29)=1,B29,\"\")","v":""},null,{"$f":"+IF(I29=\"\",\"\",MAX(F$1:F28)+1)","v":""},{"$f":"IF(Compliance_Options!C51=\"\",\"\",Compliance_Options!C51)","v":""},"",{"$f":"IF(COUNTIF(G$2:G29,G29)=1,G29,\"\")","v":""},{"$nulls":8},"Temperature Difference Across Catalyst Bed",{"$nulls":3},"MP",null,{"$f":"+SUBSTITUTE(X$1,\" \", \"\")&SUBSTITUTE(LEFT(X3,$X$26),\" \",\"\")","v":"TireProductionOption2—p"},"TireCordProductionOption1.b","PunctureSealantApplicationOption1.b",{"$nulls":22},{"$f":"+IF(AX29=\"\",\"\",MAX(AW$1:AW28)+1)","v":""},{"$f":"IF(Compliance_Options!B51=\"\",\"\",Compliance_Options!B51)","v":""},{"$f":"IF(Compliance_Options!C51=\"\",\"\",Compliance_Options!C51)","v":""},{"$f":"IF(Compliance_Options!D51=\"\",\"\",Compliance_Options!D51)","v":""},{"$f":"IF(Compliance_Options!E51=\"\",\"\",Compliance_Options!E51)","v":""},{"$f":"IF(Compliance_Options!F51=\"\",\"\",Compliance_Options!F51)","v":""},"    ",{"$f":"IF(COUNTIF(BC$2:BC29,BC29)=1,BC29,\"\")","v":""},"","","","","","","",{"$f":"+IF(BK29=\"\",\"\",MAX(BL$1:BL28)+1)","v":""},"","","","","","","",{"$f":"+IF(BS29=\"\",\"\",MAX(BT$1:BT28)+1)","v":""},"","","","","","","",{"$f":"+IF(CA29=\"\",\"\",MAX(CB$1:CB28)+1)","v":""},"","","","","","","",{"$f":"+IF(CI29=\"\",\"\",MAX(CJ$1:CJ28)+1)","v":""},"","","","","",null,{"$f":"+IF(CR29=\"\",\"\",MAX(CQ$1:CQ28)+1)","v":""},{"$f":"IF(Compliance_Options!B51=\"\",\"\",Compliance_Options!B51)","v":""},{"$f":"IF(Compliance_Options!C51=\"\",\"\",Compliance_Options!C51)","v":""},{"$f":"IF(Compliance_Options!D51=\"\",\"\",Compliance_Options!D51)","v":""},"  ",{"$f":"IF(COUNTIF(CU$2:CU29,CU29)=1,CU29,\"\")","v":""},"","","",""]
[{"$f":"+IF(B30=\"\",\"\",MAX(A$20:A29)+1)","v":""},{"$f":"IF(Company_Information!Q33=\"Yes\",Company_Information!B33,\"\")","v":""},"",{"$f":"IF(COUNTIF(B30:B$221,B30)=1,B30,\"\")","v":""},null,{"$f":"+IF(I30=\"\",\"\",MAX(F$1:F29)+1)","v":""},{"$f":"IF(Compliance_Options!C52=\"\",\"\",Compliance_Options!C52)","v":""},"",{"$f":"IF(COUNTIF(G$2:G30,G30)=1,G30,\"\")","v":""},{"$nulls":8},"Inspection and Maintenance Plan",{"$nulls":3},"MS",null,"TireProduction","TireCordProductionOption2(","PunctureSealantApplicationOption2(",{"$nulls":22},{"$f":"+IF(AX30=\"\",\"\",MAX(AW$1:AW29)+1)","v":""},{"$f":"IF(Compliance_Options!B52=\"\",\"\",Compliance_Options!B52)","v":""},{"$f":"IF(Compliance_Options!C52=\"\",\"\",Compliance_Options!C52)","v":""},{"$f":"IF(Compliance_Options!D52=\"\",\"\",Compliance_Options!D52)","v":""},{"$f":"IF(Compliance_Options!E52=\"\",\"\",Compliance_Options!E52)","v":""},{"$f":"IF(Compliance_Options!F52=\"\",\"\",Compliance_Options!F52)","v":""},"    ",{"$f":"IF(COUNTIF(BC$2:BC30,BC30)=1,BC30,\"\")","v":""},"","","","","","","",{"$f":"+IF(BK30=\"\",\"\",MAX(BL$1:BL29)+1)","v":""},"","","","","","","",{"$f":"+IF(BS30=\"\",\"\",MAX(BT$1:BT29)+1)","v":""},"","","","","","","",{"$f":"+IF(CA30=\"\",\"\",MAX(CB$1:CB29)+1)","v":""},"","","","","","","",{"$f":"+IF(CI30=\"\",\"\",MAX(CJ$1:CJ29)+1)","v":""},"","","","","",null,{"$f":"+IF(CR30=\"\",\"\",MAX(CQ$1:CQ29)+1)","v":""},{"$f":"IF(Compliance_Options!B52=\"\",\"\",Compliance_Options!B52)","v":""},{"$f":"IF(Compliance_Options!C52=\"\",\"\",Compliance_Options!C52)","v":""},{"$f":"IF(Compliance_Options!D52=\"\",\"\",Compliance_Options!D52)","v":""},"  ",{"$f":"IF(COUNTIF(CU$2:CU30,CU30)=1,CU30,\"\")","v":""},"","","",""]
[{"$nulls":5},{"$f":"+IF(I31=\"\",\"\",MAX(F$1:F30)+1)","v":""},{"$f":"IF(Compliance_Options!C53=\"\",\"\",Compliance_Options!C53)","v":""},"",{"$f":"IF(COUNTIF(G$2:G31,G31)=1,G31,\"\")","v":""},{"$nulls":8},"Regeneration Desorbing Gas Flow",{"$nulls":3},"MT",null,"TireProduction","TireCordProduction","PunctureSealantApplication",{"$nulls":22},{"$f":"+IF(AX31=\"\",\"\",MAX(AW$1:AW30)+1)","v":""},{"$f":"IF(Compliance_Options!B53=\"\",\"\",Compliance_Options!B53)","v":""},{"$f":"IF(Compliance_Options!C53=\"\",\"\",Compliance_Options!C53)","v":""},{"$f":"IF(Compliance_Options!D53=\"\",\"\",Compliance_Options!D53)","v":""},{"$f":"IF(Compliance_Options!E53=\"\",\"\",Compliance_Options!E53)","v":""},{"$f":"IF(Compliance_Options!F53=\"\",\"\",Compliance_Options!F53)","v":""},"    ",{"$f":"IF(COUNTIF(BC$2:BC31,BC31)=1,BC31,\"\")","v":""},"","","","","","","",{"$f":"+IF(BK31=\"\",\"\",MAX(BL$1:BL30)+1)","v":""},"","","","","","","",{"$f":"+IF(BS31=\"\",\"\",MAX(BT$1:BT30)+1)","v":""},"","","","","","","",{"$f":"+IF(CA31=\"\",\"\",MAX(CB$1:CB30)+1)","v":""},"","","","","","","",{"$f":"+IF(CI31=\"\",\"\",MAX(CJ$1:CJ30)+1)","v":""},"","","","","",null,{"$f":"+IF(CR31=\"\",\"\",MAX(CQ$1:CQ30)+1)","v":""},{"$f":"IF(Compliance_Options!B53=\"\",\"\",Compliance_Options!B53)","v":""},{"$f":"IF(Compliance_Options!C53=\"\",\"\",Compliance_Options!C53)","v":""},{"$f":"IF(Compliance_Options!D53=\"\",\"\",Compliance_Options!D53)","v":""},"  ",{"$f":"IF(COUNTIF(CU$2:CU31,CU31)=1,CU31,\"\")","v":""},"","","",""]
[{"$nulls":5},{"$f":"+IF(I32=\"\",\"\",MAX(F$1:F31)+1)","v":""},{"$f":"IF(Compliance_Options!C54=\"\",\"\",Compliance_Options!C54)","v":""},"",{"$f":"IF(COUNTIF(G$2:G32,G32)=1,G32,\"\")","v":""},{"$nulls":8},"Carbon Bed Temperature",{"$nulls":3},"NC",null,"TireProduction","TireCordProduction","PunctureSealantApplication",{"$nulls":22},{"$f":"+IF(AX32=\"\",\"\",MAX(AW$1:AW31)+1)","v":""},{"$f":"IF(Compliance_Options!B54=\"\",\"\",Compliance_Options!B54)","v":""},{"$f":"IF(Compliance_Options!C54=\"\",\"\",Compliance_Options!C54)","v":""},{"$f":"IF(Compliance_Options!D54=\"\",\"\",Compliance_Options!D54)","v":""},{"$f":"IF(Compliance_Options!E54=\"\",\"\",Compliance_Options!E54)","v":""},{"$f":"IF(Compliance_Options!F54=\"\",\"\",Compliance_Options!F54)","v":""},"    ",{"$f":"IF(COUNTIF(BC$2:BC32,BC32)=1,BC32,\"\")","v":""},"","","","","","","",{"$f":"+IF(BK32=\"\",\"\",MAX(BL$1:BL31)+1)","v":""},"","","","","","","",{"$f":"+IF(BS32=\"\",\"\",MAX(BT$1:BT31)+1)","v":""},"","","","","","","",{"$f":"+IF(CA32=\"\",\"\",MAX(CB$1:CB31)+1)","v":""},"","","","","","","",{"$f":"+IF(CI32=\"\",\"\",MAX(CJ$1:CJ31)+1)","v":""},"","","","","",null,{"$f":"+IF(CR32=\"\",\"\",MAX(CQ$1:CQ31)+1)","v":""},{"$f":"IF(Compliance_Options!B54=\"\",\"\",Compliance_Options!B54)","v":""},{"$f":"IF(Compliance_Options!C54=\"\",\"\",Compliance_Options!C54)","v":""},{"$f":"IF(Compliance_Options!D54=\"\",\"\",Compliance_Options!D54)","v":""},"  ",{"$f":"IF(COUNTIF(CU$2:CU32,CU32)=1,CU32,\"\")","v":""},"","","",""]
[{"$nulls":5},{"$f":"+IF(I33=\"\",\"\",MAX(F$1:F32)+1)","v":""},{"$f":"IF(Compliance_Options!C55=\"\",\"\",Compliance_Options!C55)","v":""},"",{"$f":"IF(COUNTIF(G$2:G33,G33)=1,G33,\"\")","v":""},{"$nulls":8},"Condenser Outlet Temperature",{"$nulls":3},"ND",{"$nulls":3},"PunctureSealantApplication",{"$nulls":22},{"$f":"+IF(AX33=\"\",\"\",MAX(AW$1:AW32)+1)","v":""},{"$f":"IF(Compliance_Options!B55=\"\",\"\",Compliance_Options!B55)","v":""},{"$f":"IF(Compliance_Options!C55=\"\",\"\",Compliance_Options!C55)","v":""},{"$f":"IF(Compliance_Options!D55=\"\",\"\",Compliance_Options!D55)","v":""},{"$f":"IF(Compliance_Options!E55=\"\",\"\",Compliance_Options!E55)","v":""},{"$f":"IF(Compliance_Options!F55=\"\",\"\",Compliance_Options!F55)","v":""},"    ",{"$f":"IF(COUNTIF(BC$2:BC33,BC33)=1,BC33,\"\")","v":""},"","","","","","","",{"$f":"+IF(BK33=\"\",\"\",MAX(BL$1:BL32)+1)","v":""},"","","","","","","",{"$f":"+IF(BS33=\"\",\"\",MAX(BT$1:BT32)+1)","v":""},"","","","","","","",{"$f":"+IF(CA33=\"\",\"\",MAX(CB$1:CB32)+1)","v":""},"","","","","","","",{"$f":"+IF(CI33=\"\",\"\",MAX(CJ$1:CJ32)+1)","v":""},"","","","","",null,{"$f":"+IF(CR33=\"\",\"\",MAX(CQ$1:CQ32)+1)","v":""},{"$f":"IF(Compliance_Options!B55=\"\",\"\",Compliance_Options!B55)","v":""},{"$f":"IF(Compliance_Options!C55=\"\",\"\",Compliance_Options!C55)","v":""},{"$f":"IF(Compliance_Options!D55=\"\",\"\",Compliance_Options!D55)","v":""},"  ",{"$f":"IF(COUNTIF(CU$2:CU33,CU33)=1,CU33,\"\")","v":""},"","","",""]
[{"$nulls":5},{"$f":"+IF(I34=\"\",\"\",MAX(F$1:F33)+1)","v":""},{"$f":"IF(Compliance_Options!C56=\"\",\"\",Compliance_Options!C56)","v":""},"",{"$f":"IF(COUNTIF(G$2:G34,G34)=1,G34,\"\")","v":""},{"$nulls":8},"PTE Air Flow Direction",{"$nulls":3},"NE",{"$nulls":3},"PunctureSealantApplication",{"$nulls":22},{"$f":"+IF(AX34=\"\",\"\",MAX(AW$1:AW33)+1)","v":""},{"$f":"IF(Compliance_Options!B56=\"\",\"\",Compliance_Options!B56)","v":""},{"$f":"IF(Compliance_Options!C56=\"\",\"\",Compliance_Options!C56)","v":""},{"$f":"IF(Compliance_Options!D56=\"\",\"\",Compliance_Options!D56)","v":""},{"$f":"IF(Compliance_Options!E56=\"\",\"\",Compliance_Options!E56)","v":""},{"$f":"IF(Compliance_Options!F56=\"\",\"\",Compliance_Options!F56)","v":""},"    ",{"$f":"IF(COUNTIF(BC$2:BC34,BC34)=1,BC34,\"\")","v":""},"","","","","","","",{"$f":"+IF(BK34=\"\",\"\",MAX(BL$1:BL33)+1)","v":""},"","","","","","","",{"$f":"+IF(BS34=\"\",\"\",MAX(BT$1:BT33)+1)","v":""},"","","","","","","",{"$f":"+IF(CA34=\"\",\"\",MAX(CB$1:CB33)+1)","v":""},"","","","","","","",{"$f":"+IF(CI34=\"\",\"\",MAX(CJ$1:CJ33)+1)","v":""},"","","","","",null,{"$f":"+IF(CR34=\"\",\"\",MAX(CQ$1:CQ33)+1)","v":""},{"$f":"IF(Compliance_Options!B56=\"\",\"\",Compliance_Options!B56)","v":""},{"$f":"IF(Compliance_Options!C56=\"\",\"\",Compliance_Options!C56)","v":""},{"$f":"IF(Compliance_Options!D56=\"\",\"\",Compliance_Options!D56)","v":""},"  ",{"$f":"IF(COUNTIF(CU$2:CU34,CU34)=1,CU34,\"\")","v":""},"","","",""]
[{"$nulls":5},{"$f":"+IF(I35=\"\",\"\",MAX(F$1:F34)+1)","v":""},{"$f":"IF(Compliance_Options!C57=\"\",\"\",Compliance_Options!C57)","v":""},"",{"$f":"IF(COUNTIF(G$2:G35,G35)=1,G35,\"\")","v":""},{"$nulls":8},"PTE Facial Velocity",{"$nulls":3},"NH",{"$nulls":3},"PunctureSealantApplication",{"$nulls":22},{"$f":"+IF(AX35=\"\",\"\",MAX(AW$1:AW34)+1)","v":""},{"$f":"IF(Compliance_Options!B57=\"\",\"\",Compliance_Options!B57)","v":""},{"$f":"IF(Compliance_Options!C57=\"\",\"\",Compliance_Options!C57)","v":""},{"$f":"IF(Compliance_Options!D57=\"\",\"\",Compliance_Options!D57)","v":""},{"$f":"IF(Compliance_Options!E57=\"\",\"\",Compliance_Options!E57)","v":""},{"$f":"IF(Compliance_Options!F57=\"\",\"\",Compliance_Options!F57)","v":""},"    ",{"$f":"IF(COUNTIF(BC$2:BC35,BC35)=1,BC35,\"\")","v":""},"","","","","","","",{"$f":"+IF(BK35=\"\",\"\",MAX(BL$1:BL34)+1)","v":""},"","","","","","","",{"$f":"+IF(BS35=\"\",\"\",MAX(BT$1:BT34)+1)","v":""},"","","","","","","",{"$f":"+IF(CA35=\"\",\"\",MAX(CB$1:CB34)+1)","v":""},"","","","","","","",{"$f":"+IF(CI35=\"\",\"\",MAX(CJ$1:CJ34)+1)","v":""},"","","","","",null,{"$f":"+IF(CR35=\"\",\"\",MAX(CQ$1:CQ34)+1)","v":""},{"$f":"IF(Compliance_Options!B57=\"\",\"\",Compliance_Options!B57)","v":""},{"$f":"IF(Compliance_Options!C57=\"\",\"\",Compliance_Options!C57)","v":""},{"$f":"IF(Compliance_Options!D57=\"\",\"\",Compliance_Options!D57)","v":""},"  ",{"$f":"IF(COUNTIF(CU$2:CU35,CU35)=1,CU35,\"\")","v":""},"","","",""]
[{"$nulls":5},{"$f":"+IF(I36=\"\",\"\",MAX(F$1:F35)+1)","v":""},{"$f":"IF(Compliance_Options!C58=\"\",\"\",Compliance_Options!C58)","v":""},"",{"$f":"IF(COUNTIF(G$2:G36,G36)=1,G36,\"\")","v":""},{"$nulls":8},"PTE Pressure Drop Across Enclosure",{"$nulls":3},"NJ",{"$nulls":26},{"$f":"+IF(AX36=\"\",\"\",MAX(AW$1:AW35)+1)","v":""},{"$f":"IF(Compliance_Options!B58=\"\",\"\",Compliance_Options!B58)","v":""},{"$f":"IF(Compliance_Options!C58=\"\",\"\",Compliance_Options!C58)","v":""},{"$f":"IF(Compliance_Options!D58=\"\",\"\",Compliance_Options!D58)","v":""},{"$f":"IF(Compliance_Options!E58=\"\",\"\",Compliance_Options!E58)","v":""},{"$f":"IF(Compliance_Options!F58=\"\",\"\",Compliance_Options!F58)","v":""},"    ",{"$f":"IF(COUNTIF(BC$2:BC36,BC36)=1,BC36,\"\")","v":""},"","","","","","","",{"$f":"+IF(BK36=\"\",\"\",MAX(BL$1:BL35)+1)","v":""},"","","","","","","",{"$f":"+IF(BS36=\"\",\"\",MAX(BT$1:BT35)+1)","v":""},"","","","","","","",{"$f":"+IF(CA36=\"\",\"\",MAX(CB$1:CB35)+1)","v":""},"","","","","","","",{"$f":"+IF(CI36=\"\",\"\",MAX(CJ$1:CJ35)+1)","v":""},"","","","","",null,{"$f":"+IF(CR36=\"\",\"\",MAX(CQ$1:CQ35)+1)","v":""},{"$f":"IF(Compliance_Options!B58=\"\",\"\",Compliance_Options!B58)","v":""},{"$f":"IF(Compliance_Options!C58=\"\",\"\",Compliance_Options!C58)","v":""},{"$f":"IF(Compliance_Options!D58=\"\",\"\",Compliance_Options!D58)","v":""},"  ",{"$f":"IF(COUNTIF(CU$2:CU36,CU36)=1,CU36,\"\")","v":""},"","","",""]
[{"$nulls":5},{"$f":"+IF(I37=\"\",\"\",MAX(F$1:F36)+1)","v":""},{"$f":"IF(Compliance_Options!C59=\"\",\"\",Compliance_Options!C59)","v":""},"",{"$f":"IF(COUNTIF(G$2:G37,G37)=1,G37,\"\")","v":""},{"$nulls":8},"Non-PTE Gas Flow Rate",{"$nulls":3},"NM",{"$nulls":26},{"$f":"+IF(AX37=\"\",\"\",MAX(AW$1:AW36)+1)","v":""},{"$f":"IF(Compliance_Options!B59=\"\",\"\",Compliance_Options!B59)","v":""},{"$f":"IF(Compliance_Options!C59=\"\",\"\",Compliance_Options!C59)","v":""},{"$f":"IF(Compliance_Options!D59=\"\",\"\",Compliance_Options!D59)","v":""},{"$f":"IF(Compliance_Options!E59=\"\",\"\",Compliance_Options!E59)","v":""},{"$f":"IF(Compliance_Options!F59=\"\",\"\",Compliance_Options!F59)","v":""},"    ",{"$f":"IF(COUNTIF(BC$2:BC37,BC37)=1,BC37,\"\")","v":""},"","","","","","","",{"$f":"+IF(BK37=\"\",\"\",MAX(BL$1:BL36)+1)","v":""},"","","","","","","",{"$f":"+IF(BS37=\"\",\"\",MAX(BT$1:BT36)+1)","v":""},"","","","","","","",{"$f":"+IF(CA37=\"\",\"\",MAX(CB$1:CB36)+1)","v":""},"","","","","","","",{"$f":"+IF(CI37=\"\",\"\",MAX(CJ$1:CJ36)+1)","v":""},"","","","","",null,{"$f":"+IF(CR37=\"\",\"\",MAX(CQ$1:CQ36)+1)","v":""},{"$f":"IF(Compliance_Options!B59=\"\",\"\",Compliance_Options!B59)","v":""},{"$f":"IF(Compliance_Options!C59=\"\",\"\",Compliance_Options!C59)","v":""},{"$f":"IF(Compliance_Options!D59=\"\",\"\",Compliance_Options!D59)","v":""},"  ",{"$f":"IF(COUNTIF(CU$2:CU37,CU37)=1,CU37,\"\")","v":""},"","","",""]
[{"$nulls":5},{"$f":"+IF(I38=\"\",\"\",MAX(F$1:F37)+1)","v":""},{"$f":"IF(Compliance_Options!C60=\"\",\"\",Compliance_Options!C60)","v":""},"",{"$f":"IF(COUNTIF(G$2:G38,G38)=1,G38,\"\")","v":""},{"$nulls":8},"Non-PTE Duct Static Pressure",{"$nulls":3},"NV",{"$nulls":26},{"$f":"+IF(AX38=\"\",\"\",MAX(AW$1:AW37)+1)","v":""},{"$f":"IF(Compliance_Options!B60=\"\",\"\",Compliance_Options!B60)","v":""},{"$f":"IF(Compliance_Options!C60=\"\",\"\",Compliance_Options!C60)","v":""},{"$f":"IF(Compliance_Options!D60=\"\",\"\",Compliance_Options!D60)","v":""},{"$f":"IF(Compliance_Options!E60=\"\",\"\",Compliance_Options!E60)","v":""},{"$f":"IF(Compliance_Options!F60=\"\",\"\",Compliance_Options!F60)","v":""},"    ",{"$f":"IF(COUNTIF(BC$2:BC38,BC38)=1,BC38,\"\")","v":""},"","","","","","","",{"$f":"+IF(BK38=\"\",\"\",MAX(BL$1:BL37)+1)","v":""},"","","","","","","",{"$f":"+IF(BS38=\"\",\"\",MAX(BT$1:BT37)+1)","v":""},"","","","","","","",{"$f":"+IF(CA38=\"\",\"\",MAX(CB$1:CB37)+1)","v":""},"","","","","","","",{"$f":"+IF(CI38=\"\",\"\",MAX(CJ$1:CJ37)+1)","v":""},"","","","","",null,{"$f":"+IF(CR38=\"\",\"\",MAX(CQ$1:CQ37)+1)","v":""},{"$f":"IF(Compliance_Options!B60=\"\",\"\",Compliance_Options!B60)","v":""},{"$f":"IF(Compliance_Options!C60=\"\",\"\",Compliance_Options!C60)","v":""},{"$f":"IF(Compliance_Options!D60=\"\",\"\",Compliance_Options!D60)","v":""},"  ",{"$f":"IF(COUNTIF(CU$2:CU38,CU38)=1,CU38,\"\")","v":""},"","","",""]
[{"$nulls":5},{"$f":"+IF(I39=\"\",\"\",MAX(F$1:F38)+1)","v":""},{"$f":"IF(Compliance_Options!C61=\"\",\"\",Compliance_Options!C61)","v":""},"",{"$f":"IF(COUNTIF(G$2:G39,G39)=1,G39,\"\")","v":""},{"$nulls":8},"Desorption Concentrate Stream Temperature",{"$nulls":3},"NY",null,"Purchase alternative, Monthly average alternative without using an add-on control device, Monthly average alternative using an add-on control device",{"$nulls":24},{"$f":"+IF(AX39=\"\",\"\",MAX(AW$1:AW38)+1)","v":""},{"$f":"IF(Compliance_Options!B61=\"\",\"\",Compliance_Options!B61)","v":""},{"$f":"IF(Compliance_Options!C61=\"\",\"\",Compliance_Options!C61)","v":""},{"$f":"IF(Compliance_Options!D61=\"\",\"\",Compliance_Options!D61)","v":""},{"$f":"IF(Compliance_Options!E61=\"\",\"\",Compliance_Options!E61)","v":""},{"$f":"IF(Compliance_Options!F61=\"\",\"\",Compliance_Options!F61)","v":""},"    ",{"$f":"IF(COUNTIF(BC$2:BC39,BC39)=1,BC39,\"\")","v":""},"","","","","","","",{"$f":"+IF(BK39=\"\",\"\",MAX(BL$1:BL38)+1)","v":""},"","","","","","","",{"$f":"+IF(BS39=\"\",\"\",MAX(BT$1:BT38)+1)","v":""},"","","","","","","",{"$f":"+IF(CA39=\"\",\"\",MAX(CB$1:CB38)+1)","v":""},"","","","","","","",{"$f":"+IF(CI39=\"\",\"\",MAX(CJ$1:CJ38)+1)","v":""},"","","","","",null,{"$f":"+IF(CR39=\"\",\"\",MAX(CQ$1:CQ38)+1)","v":""},{"$f":"IF(Compliance_Options!B61=\"\",\"\",Compliance_Options!B61)","v":""},{"$f":"IF(Compliance_Options!C61=\"\",\"\",Compliance_Options!C61)","v":""},{"$f":"IF(Compliance_Options!D61=\"\",\"\",Compliance_Options!D61)","v":""},"  ",{"$f":"IF(COUNTIF(CU$2:CU39,CU39)=1,CU39,\"\")","v":""},"","","",""]
[{"$nulls":5},{"$f":"+IF(I40=\"\",\"\",MAX(F$1:F39)+1)","v":""},{"$f":"IF(Compliance_Options!C62=\"\",\"\",Compliance_Options!C62)","v":""},"",{"$f":"IF(COUNTIF(G$2:G40,G40)=1,G40,\"\")","v":""},{"$nulls":8},"Pressure Drop Across Concentrator",{"$nulls":3},"OH",{"$nulls":26},{"$f":"+IF(AX40=\"\",\"\",MAX(AW$1:AW39)+1)","v":""},{"$f":"IF(Compliance_Options!B62=\"\",\"\",Compliance_Options!B62)","v":""},{"$f":"IF(Compliance_Options!C62=\"\",\"\",Compliance_Options!C62)","v":""},{"$f":"IF(Compliance_Options!D62=\"\",\"\",Compliance_Options!D62)","v":""},{"$f":"IF(Compliance_Options!E62=\"\",\"\",Compliance_Options!E62)","v":""},{"$f":"IF(Compliance_Options!F62=\"\",\"\",Compliance_Options!F62)","v":""},"    ",{"$f":"IF(COUNTIF(BC$2:BC40,BC40)=1,BC40,\"\")","v":""},"","","","","","","",{"$f":"+IF(BK40=\"\",\"\",MAX(BL$1:BL39)+1)","v":""},"","","","","","","",{"$f":"+IF(BS40=\"\",\"\",MAX(BT$1:BT39)+1)","v":""},"","","","","","","",{"$f":"+IF(CA40=\"\",\"\",MAX(CB$1:CB39)+1)","v":""},"","","","","","","",{"$f":"+IF(CI40=\"\",\"\",MAX(CJ$1:CJ39)+1)","v":""},"","","","","",null,{"$f":"+IF(CR40=\"\",\"\",MAX(CQ$1:CQ39)+1)","v":""},{"$f":"IF(Compliance_Options!B62=\"\",\"\",Compliance_Options!B62)","v":""},{"$f":"IF(Compliance_Options!C62=\"\",\"\",Compliance_Options!C62)","v":""},{"$f":"IF(Compliance_Options!D62=\"\",\"\",Compliance_Options!D62)","v":""},"  ",{"$f":"IF(COUNTIF(CU$2:CU40,CU40)=1,CU40,\"\")","v":""},"","","",""]
[{"$nulls":5},{"$f":"+IF(I41=\"\",\"\",MAX(F$1:F40)+1)","v":""},{"$f":"IF(Compliance_Options!C63=\"\",\"\",Compliance_Options!C63)","v":""},"",{"$f":"IF(COUNTIF(G$2:G41,G41)=1,G41,\"\")","v":""},{"$nulls":8},"Bioreactor Alternative Monitoring",{"$nulls":3},"OK",null,"Tire Production","Tire Cord Production","Puncture Sealant Application","Rubber Processing",{"$nulls":21},{"$f":"+IF(AX41=\"\",\"\",MAX(AW$1:AW40)+1)","v":""},{"$f":"IF(Compliance_Options!B63=\"\",\"\",Compliance_Options!B63)","v":""},{"$f":"IF(Compliance_Options!C63=\"\",\"\",Compliance_Options!C63)","v":""},{"$f":"IF(Compliance_Options!D63=\"\",\"\",Compliance_Options!D63)","v":""},{"$f":"IF(Compliance_Options!E63=\"\",\"\",Compliance_Options!E63)","v":""},{"$f":"IF(Compliance_Options!F63=\"\",\"\",Compliance_Options!F63)","v":""},"    ",{"$f":"IF(COUNTIF(BC$2:BC41,BC41)=1,BC41,\"\")","v":""},"","","","","","","",{"$f":"+IF(BK41=\"\",\"\",MAX(BL$1:BL40)+1)","v":""},"","","","","","","",{"$f":"+IF(BS41=\"\",\"\",MAX(BT$1:BT40)+1)","v":""},"","","","","","","",{"$f":"+IF(CA41=\"\",\"\",MAX(CB$1:CB40)+1)","v":""},"","","","","","","",{"$f":"+IF(CI41=\"\",\"\",MAX(CJ$1:CJ40)+1)","v":""},"","","","","",null,{"$f":"+IF(CR41=\"\",\"\",MAX(CQ$1:CQ40)+1)","v":""},{"$f":"IF(Compliance_Options!B63=\"\",\"\",Compliance_Options!B63)","v":""},{"$f":"IF(Compliance_Options!C63=\"\",\"\",Compliance_Options!C63)","v":""},{"$f":"IF(Compliance_Options!D63=\"\",\"\",Compliance_Options!D63)","v":""},"  ",{"$f":"IF(COUNTIF(CU$2:CU41,CU41)=1,CU41,\"\")","v":""},"","","",""]
[{"$nulls":5},{"$f":"+IF(I42=\"\",\"\",MAX(F$1:F41)+1)","v":""},{"$f":"IF(Compliance_Options!C64=\"\",\"\",Compliance_Options!C64)","v":""},"",{"$f":"IF(COUNTIF(G$2:G42,G42)=1,G42,\"\")","v":""},{"$nulls":12},"OR",null,"Purchase alternative","Monthly average alternative without using an add-on control device","Thermal oxidizer to which puncture sealant application spray booth emissions are ducted","There are no emission limitations or other requirements for the rubber processing affected source.",{"$nulls":21},{"$f":"+IF(AX42=\"\",\"\",MAX(AW$1:AW41)+1)","v":""},{"$f":"IF(Compliance_Options!B64=\"\",\"\",Compliance_Options!B64)","v":""},{"$f":"IF(Compliance_Options!C64=\"\",\"\",Compliance_Options!C64)","v":""},{"$f":"IF(Compliance_Options!D64=\"\",\"\",Compliance_Options!D64)","v":""},{"$f":"IF(Compliance_Options!E64=\"\",\"\",Compliance_Options!E64)","v":""},{"$f":"IF(Compliance_Options!F64=\"\",\"\",Compliance_Options!F64)","v":""},"    ",{"$f":"IF(COUNTIF(BC$2:BC42,BC42)=1,BC42,\"\")","v":""},"","","","","","","",{"$f":"+IF(BK42=\"\",\"\",MAX(BL$1:BL41)+1)","v":""},"","","","","","","",{"$f":"+IF(BS42=\"\",\"\",MAX(BT$1:BT41)+1)","v":""},"","","","","","","",{"$f":"+IF(CA42=\"\",\"\",MAX(CB$1:CB41)+1)","v":""},"","","","","","","",{"$f":"+IF(CI42=\"\",\"\",MAX(CJ$1:CJ41)+1)","v":""},"","","","","",null,{"$f":"+IF(CR42=\"\",\"\",MAX(CQ$1:CQ41)+1)","v":""},{"$f":"IF(Compliance_Options!B64=\"\",\"\",Compliance_Options!B64)","v":""},{"$f":"IF(Compliance_Options!C64=\"\",\"\",Compliance_Options!C64)","v":""},{"$f":"IF(Compliance_Options!D64=\"\",\"\",Compliance_Options!D64)","v":""},"  ",{"$f":"IF(COUNTIF(CU$2:CU42,CU42)=1,CU42,\"\")","v":""},"","","",""]
[{"$nulls":5},{"$f":"+IF(I43=\"\",\"\",MAX(F$1:F42)+1)","v":""},{"$f":"IF(Compliance_Options!C65=\"\",\"\",Compliance_Options!C65)","v":""},"",{"$f":"IF(COUNTIF(G$2:G43,G43)=1,G43,\"\")","v":""},{"$nulls":8},"63.6000 Limits",{"$nulls":3},"PA",null,"Monthly average alternative without using an add-on control device","Monthly average alternative using an add-on control device","Carbon adsorber (regenerative) to which puncture sealant application spray booth emissions are ducted",{"$nulls":22},{"$f":"+IF(AX43=\"\",\"\",MAX(AW$1:AW42)+1)","v":""},{"$f":"IF(Compliance_Options!B65=\"\",\"\",Compliance_Options!B65)","v":""},{"$f":"IF(Compliance_Options!C65=\"\",\"\",Compliance_Options!C65)","v":""},{"$f":"IF(Compliance_Options!D65=\"\",\"\",Compliance_Options!D65)","v":""},{"$f":"IF(Compliance_Options!E65=\"\",\"\",Compliance_Options!E65)","v":""},{"$f":"IF(Compliance_Options!F65=\"\",\"\",Compliance_Options!F65)","v":""},"    ",{"$f":"IF(COUNTIF(BC$2:BC43,BC43)=1,BC43,\"\")","v":""},"","","","","","","",{"$f":"+IF(BK43=\"\",\"\",MAX(BL$1:BL42)+1)","v":""},"","","","","","","",{"$f":"+IF(BS43=\"\",\"\",MAX(BT$1:BT42)+1)","v":""},"","","","","","","",{"$f":"+IF(CA43=\"\",\"\",MAX(CB$1:CB42)+1)","v":""},"","","","","","","",{"$f":"+IF(CI43=\"\",\"\",MAX(CJ$1:CJ42)+1)","v":""},"","","","","",null,{"$f":"+IF(CR43=\"\",\"\",MAX(CQ$1:CQ42)+1)","v":""},{"$f":"IF(Compliance_Options!B65=\"\",\"\",Compliance_Options!B65)","v":""},{"$f":"IF(Compliance_Options!C65=\"\",\"\",Compliance_Options!C65)","v":""},{"$f":"IF(Compliance_Options!D65=\"\",\"\",Compliance_Options!D65)","v":""},"  ",{"$f":"IF(COUNTIF(CU$2:CU43,CU43)=1,CU43,\"\")","v":""},"","","",""]
[{"$nulls":5},{"$f":"+IF(I44=\"\",\"\",MAX(F$1:F43)+1)","v":""},{"$f":"IF(Compliance_Options!C66=\"\",\"\",Compliance_Options!C66)","v":""},"",{"$f":"IF(COUNTIF(G$2:G44,G44)=1,G44,\"\")","v":""},{"$nulls":8},"Firebox secondary chamber temperature",{"$nulls":3},"PR",null,"Monthly average alternative using an add-on control device",null,"Other type of control device to which puncture sealant application spray booth emissions are ducted",{"$nulls":22},{"$f":"+IF(AX44=\"\",\"\",MAX(AW$1:AW43)+1)","v":""},{"$f":"IF(Compliance_Options!B66=\"\",\"\",Compliance_Options!B66)","v":""},{"$f":"IF(Compliance_Options!C66=\"\",\"\",Compliance_Options!C66)","v":""},{"$f":"IF(Compliance_Options!D66=\"\",\"\",Compliance_Options!D66)","v":""},{"$f":"IF(Compliance_Options!E66=\"\",\"\",Compliance_Options!E66)","v":""},{"$f":"IF(Compliance_Options!F66=\"\",\"\",Compliance_Options!F66)","v":""},"    ",{"$f":"IF(COUNTIF(BC$2:BC44,BC44)=1,BC44,\"\")","v":""},"","","","","","","",{"$f":"+IF(BK44=\"\",\"\",MAX(BL$1:BL43)+1)","v":""},"","","","","","","",{"$f":"+IF(BS44=\"\",\"\",MAX(BT$1:BT43)+1)","v":""},"","","","","","","",{"$f":"+IF(CA44=\"\",\"\",MAX(CB$1:CB43)+1)","v":""},"","","","","","","",{"$f":"+IF(CI44=\"\",\"\",MAX(CJ$1:CJ43)+1)","v":""},"","","","","",null,{"$f":"+IF(CR44=\"\",\"\",MAX(CQ$1:CQ43)+1)","v":""},{"$f":"IF(Compliance_Options!B66=\"\",\"\",Compliance_Options!B66)","v":""},{"$f":"IF(Compliance_Options!C66=\"\",\"\",Compliance_Options!C66)","v":""},{"$f":"IF(Compliance_Options!D66=\"\",\"\",Compliance_Options!D66)","v":""},"  ",{"$f":"IF(COUNTIF(CU$2:CU44,CU44)=1,CU44,\"\")","v":""},"","","",""]
[{"$nulls":5},{"$f":"+IF(I45=\"\",\"\",MAX(F$1:F44)+1)","v":""},{"$f":"IF(Compliance_Options!C67=\"\",\"\",Compliance_Options!C67)","v":""},"",{"$f":"IF(COUNTIF(G$2:G45,G45)=1,G45,\"\")","v":""},{"$nulls":8},"Total regeneration stream mass flow",{"$nulls":3},"RI",{"$nulls":3},"Permanent total enclosure capture system",{"$nulls":22},{"$f":"+IF(AX45=\"\",\"\",MAX(AW$1:AW44)+1)","v":""},{"$f":"IF(Compliance_Options!B67=\"\",\"\",Compliance_Options!B67)","v":""},{"$f":"IF(Compliance_Options!C67=\"\",\"\",Compliance_Options!C67)","v":""},{"$f":"IF(Compliance_Options!D67=\"\",\"\",Compliance_Options!D67)","v":""},{"$f":"IF(Compliance_Options!E67=\"\",\"\",Compliance_Options!E67)","v":""},{"$f":"IF(Compliance_Options!F67=\"\",\"\",Compliance_Options!F67)","v":""},"    ",{"$f":"IF(COUNTIF(BC$2:BC45,BC45)=1,BC45,\"\")","v":""},"","","","","","","",{"$f":"+IF(BK45=\"\",\"\",MAX(BL$1:BL44)+1)","v":""},"","","","","","","",{"$f":"+IF(BS45=\"\",\"\",MAX(BT$1:BT44)+1)","v":""},"","","","","","","",{"$f":"+IF(CA45=\"\",\"\",MAX(CB$1:CB44)+1)","v":""},"","","","","","","",{"$f":"+IF(CI45=\"\",\"\",MAX(CJ$1:CJ44)+1)","v":""},"","","","","",null,{"$f":"+IF(CR45=\"\",\"\",MAX(CQ$1:CQ44)+1)","v":""},{"$f":"IF(Compliance_Options!B67=\"\",\"\",Compliance_Options!B67)","v":""},{"$f":"IF(Compliance_Options!C67=\"\",\"\",Compliance_Options!C67)","v":""},{"$f":"IF(Compliance_Options!D67=\"\",\"\",Compliance_Options!D67)","v":""},"  ",{"$f":"IF(COUNTIF(CU$2:CU45,CU45)=1,CU45,\"\")","v":""},"","","",""]
[{"$nulls":5},{"$f":"+IF(I46=\"\",\"\",MAX(F$1:F45)+1)","v":""},{"$f":"IF(Compliance_Options!C68=\"\",\"\",Compliance_Options!C68)","v":""},"",{"$f":"IF(COUNTIF(G$2:G46,G46)=1,G46,\"\")","v":""},{"$nulls":8},"Total regeneration stream volumatric flow",{"$nulls":3},"SC",{"$nulls":3},"Other capture system",{"$nulls":22},{"$f":"+IF(AX46=\"\",\"\",MAX(AW$1:AW45)+1)","v":""},{"$f":"IF(Compliance_Options!B68=\"\",\"\",Compliance_Options!B68)","v":""},{"$f":"IF(Compliance_Options!C68=\"\",\"\",Compliance_Options!C68)","v":""},{"$f":"IF(Compliance_Options!D68=\"\",\"\",Compliance_Options!D68)","v":""},{"$f":"IF(Compliance_Options!E68=\"\",\"\",Compliance_Options!E68)","v":""},{"$f":"IF(Compliance_Options!F68=\"\",\"\",Compliance_Options!F68)","v":""},"    ",{"$f":"IF(COUNTIF(BC$2:BC46,BC46)=1,BC46,\"\")","v":""},"","","","","","","",{"$f":"+IF(BK46=\"\",\"\",MAX(BL$1:BL45)+1)","v":""},"","","","","","","",{"$f":"+IF(BS46=\"\",\"\",MAX(BT$1:BT45)+1)","v":""},"","","","","","","",{"$f":"+IF(CA46=\"\",\"\",MAX(CB$1:CB45)+1)","v":""},"","","","","","","",{"$f":"+IF(CI46=\"\",\"\",MAX(CJ$1:CJ45)+1)","v":""},"","","","","",null,{"$f":"+IF(CR46=\"\",\"\",MAX(CQ$1:CQ45)+1)","v":""},{"$f":"IF(Compliance_Options!B68=\"\",\"\",Compliance_Options!B68)","v":""},{"$f":"IF(Compliance_Options!C68=\"\",\"\",Compliance_Options!C68)","v":""},{"$f":"IF(Compliance_Options!D68=\"\",\"\",Compliance_Options!D68)","v":""},"  ",{"$f":"IF(COUNTIF(CU$2:CU46,CU46)=1,CU46,\"\")","v":""},"","","",""]
[{"$nulls":5},{"$f":"+IF(I47=\"\",\"\",MAX(F$1:F46)+1)","v":""},{"$f":"IF(Compliance_Options!C69=\"\",\"\",Compliance_Options!C69)","v":""},"",{"$f":"IF(COUNTIF(G$2:G47,G47)=1,G47,\"\")","v":""},{"$nulls":8},"Carbon bed temperature",{"$nulls":3},"SD",{"$nulls":26},{"$f":"+IF(AX47=\"\",\"\",MAX(AW$1:AW46)+1)","v":""},{"$f":"IF(Compliance_Options!B69=\"\",\"\",Compliance_Options!B69)","v":""},{"$f":"IF(Compliance_Options!C69=\"\",\"\",Compliance_Options!C69)","v":""},{"$f":"IF(Compliance_Options!D69=\"\",\"\",Compliance_Options!D69)","v":""},{"$f":"IF(Compliance_Options!E69=\"\",\"\",Compliance_Options!E69)","v":""},{"$f":"IF(Compliance_Options!F69=\"\",\"\",Compliance_Options!F69)","v":""},"    ",{"$f":"IF(COUNTIF(BC$2:BC47,BC47)=1,BC47,\"\")","v":""},"","","","","","","",{"$f":"+IF(BK47=\"\",\"\",MAX(BL$1:BL46)+1)","v":""},"","","","","","","",{"$f":"+IF(BS47=\"\",\"\",MAX(BT$1:BT46)+1)","v":""},"","","","","","","",{"$f":"+IF(CA47=\"\",\"\",MAX(CB$1:CB46)+1)","v":""},"","","","","","","",{"$f":"+IF(CI47=\"\",\"\",MAX(CJ$1:CJ46)+1)","v":""},"","","","","",null,{"$f":"+IF(CR47=\"\",\"\",MAX(CQ$1:CQ46)+1)","v":""},{"$f":"IF(Compliance_Options!B69=\"\",\"\",Compliance_Options!B69)","v":""},{"$f":"IF(Compliance_Options!C69=\"\",\"\",Compliance_Options!C69)","v":""},{"$f":"IF(Compliance_Options!D69=\"\",\"\",Compliance_Options!D69)","v":""},"  ",{"$f":"IF(COUNTIF(CU$2:CU47,CU47)=1,CU47,\"\")","v":""},"","","",""]
[{"$nulls":5},{"$f":"+IF(I48=\"\",\"\",MAX(F$1:F47)+1)","v":""},{"$f":"IF(Compliance_Options!C70=\"\",\"\",Compliance_Options!C70)","v":""},"",{"$f":"IF(COUNTIF(G$2:G48,G48)=1,G48,\"\")","v":""},{"$nulls":8},"Continuous parameter monitoring system (using other control device) (Insert name here)",{"$nulls":3},"TN",{"$nulls":26},{"$f":"+IF(AX48=\"\",\"\",MAX(AW$1:AW47)+1)","v":""},{"$f":"IF(Compliance_Options!B70=\"\",\"\",Compliance_Options!B70)","v":""},{"$f":"IF(Compliance_Options!C70=\"\",\"\",Compliance_Options!C70)","v":""},{"$f":"IF(Compliance_Options!D70=\"\",\"\",Compliance_Options!D70)","v":""},{"$f":"IF(Compliance_Options!E70=\"\",\"\",Compliance_Options!E70)","v":""},{"$f":"IF(Compliance_Options!F70=\"\",\"\",Compliance_Options!F70)","v":""},"    ",{"$f":"IF(COUNTIF(BC$2:BC48,BC48)=1,BC48,\"\")","v":""},"","","","","","","",{"$f":"+IF(BK48=\"\",\"\",MAX(BL$1:BL47)+1)","v":""},"","","","","","","",{"$f":"+IF(BS48=\"\",\"\",MAX(BT$1:BT47)+1)","v":""},"","","","","","","",{"$f":"+IF(CA48=\"\",\"\",MAX(CB$1:CB47)+1)","v":""},"","","","","","","",{"$f":"+IF(CI48=\"\",\"\",MAX(CJ$1:CJ47)+1)","v":""},"","","","","",null,{"$f":"+IF(CR48=\"\",\"\",MAX(CQ$1:CQ47)+1)","v":""},{"$f":"IF(Compliance_Options!B70=\"\",\"\",Compliance_Options!B70)","v":""},{"$f":"IF(Compliance_Options!C70=\"\",\"\",Compliance_Options!C70)","v":""},{"$f":"IF(Compliance_Options!D70=\"\",\"\",Compliance_Options!D70)","v":""},"  ",{"$f":"IF(COUNTIF(CU$2:CU48,CU48)=1,CU48,\"\")","v":""},"","","",""]
[{"$nulls":5},{"$f":"+IF(I49=\"\",\"\",MAX(F$1:F48)+1)","v":""},{"$f":"IF(Compliance_Options!C71=\"\",\"\",Compliance_Options!C71)","v":""},"",{"$f":"IF(COUNTIF(G$2:G49,G49)=1,G49,\"\")","v":""},{"$nulls":8},"Face velocity across the NDO for permanent total enclosure",{"$nulls":3},"TX",{"$nulls":26},{"$f":"+IF(AX49=\"\",\"\",MAX(AW$1:AW48)+1)","v":""},{"$f":"IF(Compliance_Options!B71=\"\",\"\",Compliance_Options!B71)","v":""},{"$f":"IF(Compliance_Options!C71=\"\",\"\",Compliance_Options!C71)","v":""},{"$f":"IF(Compliance_Options!D71=\"\",\"\",Compliance_Options!D71)","v":""},{"$f":"IF(Compliance_Options!E71=\"\",\"\",Compliance_Options!E71)","v":""},{"$f":"IF(Compliance_Options!F71=\"\",\"\",Compliance_Options!F71)","v":""},"    ",{"$f":"IF(COUNTIF(BC$2:BC49,BC49)=1,BC49,\"\")","v":""},"","","","","","","",{"$f":"+IF(BK49=\"\",\"\",MAX(BL$1:BL48)+1)","v":""},"","","","","","","",{"$f":"+IF(BS49=\"\",\"\",MAX(BT$1:BT48)+1)","v":""},"","","","","","","",{"$f":"+IF(CA49=\"\",\"\",MAX(CB$1:CB48)+1)","v":""},"","","","","","","",{"$f":"+IF(CI49=\"\",\"\",MAX(CJ$1:CJ48)+1)","v":""},"","","","","",null,{"$f":"+IF(CR49=\"\",\"\",MAX(CQ$1:CQ48)+1)","v":""},{"$f":"IF(Compliance_Options!B71=\"\",\"\",Compliance_Options!B71)","v":""},{"$f":"IF(Compliance_Options!C71=\"\",\"\",Compliance_Options!C71)","v":""},{"$f":"IF(Compliance_Options!D71=\"\",\"\",Compliance_Options!D71)","v":""},"  ",{"$f":"IF(COUNTIF(CU$2:CU49,CU49)=1,CU49,\"\")","v":""},"","","",""]
[{"$nulls":5},{"$f":"+IF(I50=\"\",\"\",MAX(F$1:F49)+1)","v":""},{"$f":"IF(Compliance_Options!C72=\"\",\"\",Compliance_Options!C72)","v":""},"",{"$f":"IF(COUNTIF(G$2:G50,G50)=1,G50,\"\")","v":""},{"$nulls":8},"Parameters in monitoring plan (using other capture systems) (Describe here)",{"$nulls":3},"UT",{"$nulls":26},{"$f":"+IF(AX50=\"\",\"\",MAX(AW$1:AW49)+1)","v":""},{"$f":"IF(Compliance_Options!B72=\"\",\"\",Compliance_Options!B72)","v":""},{"$f":"IF(Compliance_Options!C72=\"\",\"\",Compliance_Options!C72)","v":""},{"$f":"IF(Compliance_Options!D72=\"\",\"\",Compliance_Options!D72)","v":""},{"$f":"IF(Compliance_Options!E72=\"\",\"\",Compliance_Options!E72)","v":""},{"$f":"IF(Compliance_Options!F72=\"\",\"\",Compliance_Options!F72)","v":""},"    ",{"$f":"IF(COUNTIF(BC$2:BC50,BC50)=1,BC50,\"\")","v":""},"","","","","","","",{"$f":"+IF(BK50=\"\",\"\",MAX(BL$1:BL49)+1)","v":""},"","","","","","","",{"$f":"+IF(BS50=\"\",\"\",MAX(BT$1:BT49)+1)","v":""},"","","","","","","",{"$f":"+IF(CA50=\"\",\"\",MAX(CB$1:CB49)+1)","v":""},"","","","","","","",{"$f":"+IF(CI50=\"\",\"\",MAX(CJ$1:CJ49)+1)","v":""},"","","","","",null,{"$f":"+IF(CR50=\"\",\"\",MAX(CQ$1:CQ49)+1)","v":""},{"$f":"IF(Compliance_Options!B72=\"\",\"\",Compliance_Options!B72)","v":""},{"$f":"IF(Compliance_Options!C72=\"\",\"\",Compliance_Options!C72)","v":""},{"$f":"IF(Compliance_Options!D72=\"\",\"\",Compliance_Options!D72)","v":""},"  ",{"$f":"IF(COUNTIF(CU$2:CU50,CU50)=1,CU50,\"\")","v":""},"","","",""]
[{"$nulls":5},{"$f":"+IF(I51=\"\",\"\",MAX(F$1:F50)+1)","v":""},{"$f":"IF(Compliance_Options!C73=\"\",\"\",Compliance_Options!C73)","v":""},"",{"$f":"IF(COUNTIF(G$2:G51,G51)=1,G51,\"\")","v":""},{"$nulls":12},"VA",{"$nulls":26},{"$f":"+IF(AX51=\"\",\"\",MAX(AW$1:AW50)+1)","v":""},{"$f":"IF(Compliance_Options!B73=\"\",\"\",Compliance_Options!B73)","v":""},{"$f":"IF(Compliance_Options!C73=\"\",\"\",Compliance_Options!C73)","v":""},{"$f":"IF(Compliance_Options!D73=\"\",\"\",Compliance_Options!D73)","v":""},{"$f":"IF(Compliance_Options!E73=\"\",\"\",Compliance_Options!E73)","v":""},{"$f":"IF(Compliance_Options!F73=\"\",\"\",Compliance_Options!F73)","v":""},"    ",{"$f":"IF(COUNTIF(BC$2:BC51,BC51)=1,BC51,\"\")","v":""},"","","","","","","",{"$f":"+IF(BK51=\"\",\"\",MAX(BL$1:BL50)+1)","v":""},"","","","","","","",{"$f":"+IF(BS51=\"\",\"\",MAX(BT$1:BT50)+1)","v":""},"","","","","","","",{"$f":"+IF(CA51=\"\",\"\",MAX(CB$1:CB50)+1)","v":""},"","","","","","","",{"$f":"+IF(CI51=\"\",\"\",MAX(CJ$1:CJ50)+1)","v":""},"","","","","",null,{"$f":"+IF(CR51=\"\",\"\",MAX(CQ$1:CQ50)+1)","v":""},{"$f":"IF(Compliance_Options!B73=\"\",\"\",Compliance_Options!B73)","v":""},{"$f":"IF(Compliance_Options!C73=\"\",\"\",Compliance_Options!C73)","v":""},{"$f":"IF(Compliance_Options!D73=\"\",\"\",Compliance_Options!D73)","v":""},"  ",{"$f":"IF(COUNTIF(CU$2:CU51,CU51)=1,CU51,\"\")","v":""},"","","",""]
[{"$nulls":5},{"$f":"+IF(I52=\"\",\"\",MAX(F$1:F51)+1)","v":""},{"$f":"IF(Compliance_Options!C74=\"\",\"\",Compliance_Options!C74)","v":""},"",{"$f":"IF(COUNTIF(G$2:G52,G52)=1,G52,\"\")","v":""},{"$nulls":12},"VI",{"$nulls":26},{"$f":"+IF(AX52=\"\",\"\",MAX(AW$1:AW51)+1)","v":""},{"$f":"IF(Compliance_Options!B74=\"\",\"\",Compliance_Options!B74)","v":""},{"$f":"IF(Compliance_Options!C74=\"\",\"\",Compliance_Options!C74)","v":""},{"$f":"IF(Compliance_Options!D74=\"\",\"\",Compliance_Options!D74)","v":""},{"$f":"IF(Compliance_Options!E74=\"\",\"\",Compliance_Options!E74)","v":""},{"$f":"IF(Compliance_Options!F74=\"\",\"\",Compliance_Options!F74)","v":""},"    ",{"$f":"IF(COUNTIF(BC$2:BC52,BC52)=1,BC52,\"\")","v":""},"","","","","","","",{"$f":"+IF(BK52=\"\",\"\",MAX(BL$1:BL51)+1)","v":""},"","","","","","","",{"$f":"+IF(BS52=\"\",\"\",MAX(BT$1:BT51)+1)","v":""},"","","","","","","",{"$f":"+IF(CA52=\"\",\"\",MAX(CB$1:CB51)+1)","v":""},"","","","","","","",{"$f":"+IF(CI52=\"\",\"\",MAX(CJ$1:CJ51)+1)","v":""},"","","","","",null,{"$f":"+IF(CR52=\"\",\"\",MAX(CQ$1:CQ51)+1)","v":""},{"$f":"IF(Compliance_Options!B74=\"\",\"\",Compliance_Options!B74)","v":""},{"$f":"IF(Compliance_Options!C74=\"\",\"\",Compliance_Options!C74)","v":""},{"$f":"IF(Compliance_Options!D74=\"\",\"\",Compliance_Options!D74)","v":""},"  ",{"$f":"IF(COUNTIF(CU$2:CU52,CU52)=1,CU52,\"\")","v":""},"","","",""]
[{"$nulls":5},{"$f":"+IF(I53=\"\",\"\",MAX(F$1:F52)+1)","v":""},{"$f":"IF(Compliance_Options!C75=\"\",\"\",Compliance_Options!C75)","v":""},"",{"$f":"IF(COUNTIF(G$2:G53,G53)=1,G53,\"\")","v":""},{"$nulls":12},"VT",{"$nulls":26},{"$f":"+IF(AX53=\"\",\"\",MAX(AW$1:AW52)+1)","v":""},{"$f":"IF(Compliance_Options!B75=\"\",\"\",Compliance_Options!B75)","v":""},{"$f":"IF(Compliance_Options!C75=\"\",\"\",Compliance_Options!C75)","v":""},{"$f":"IF(Compliance_Options!D75=\"\",\"\",Compliance_Options!D75)","v":""},{"$f":"IF(Compliance_Options!E75=\"\",\"\",Compliance_Options!E75)","v":""},{"$f":"IF(Compliance_Options!F75=\"\",\"\",Compliance_Options!F75)","v":""},"    ",{"$f":"IF(COUNTIF(BC$2:BC53,BC53)=1,BC53,\"\")","v":""},"","","","","","","",{"$f":"+IF(BK53=\"\",\"\",MAX(BL$1:BL52)+1)","v":""},"","","","","","","",{"$f":"+IF(BS53=\"\",\"\",MAX(BT$1:BT52)+1)","v":""},"","","","","","","",{"$f":"+IF(CA53=\"\",\"\",MAX(CB$1:CB52)+1)","v":""},"","","","","","","",{"$f":"+IF(CI53=\"\",\"\",MAX(CJ$1:CJ52)+1)","v":""},"","","","","",null,{"$f":"+IF(CR53=\"\",\"\",MAX(CQ$1:CQ52)+1)","v":""},{"$f":"IF(Compliance_Options!B75=\"\",\"\",Compliance_Options!B75)","v":""},{"$f":"IF(Compliance_Options!C75=\"\",\"\",Compliance_Options!C75)","v":""},{"$f":"IF(Compliance_Options!D75=\"\",\"\",Compliance_Options!D75)","v":""},"  ",{"$f":"IF(COUNTIF(CU$2:CU53,CU53)=1,CU53,\"\")","v":""},"","","",""]
[{"$nulls":5},{"$f":"+IF(I54=\"\",\"\",MAX(F$1:F53)+1)","v":""},{"$f":"IF(Compliance_Options!C76=\"\",\"\",Compliance_Options!C76)","v":""},"",{"$f":"IF(COUNTIF(G$2:G54,G54)=1,G54,\"\")","v":""},{"$nulls":12},"WA",{"$nulls":26},{"$f":"+IF(AX54=\"\",\"\",MAX(AW$1:AW53)+1)","v":""},{"$f":"IF(Compliance_Options!B76=\"\",\"\",Compliance_Options!B76)","v":""},{"$f":"IF(Compliance_Options!C76=\"\",\"\",Compliance_Options!C76)","v":""},{"$f":"IF(Compliance_Options!D76=\"\",\"\",Compliance_Options!D76)","v":""},{"$f":"IF(Compliance_Options!E76=\"\",\"\",Compliance_Options!E76)","v":""},{"$f":"IF(Compliance_Options!F76=\"\",\"\",Compliance_Options!F76)","v":""},"    ",{"$f":"IF(COUNTIF(BC$2:BC54,BC54)=1,BC54,\"\")","v":""},"","","","","","","",{"$f":"+IF(BK54=\"\",\"\",MAX(BL$1:BL53)+1)","v":""},"","","","","","","",{"$f":"+IF(BS54=\"\",\"\",MAX(BT$1:BT53)+1)","v":""},"","","","","","","",{"$f":"+IF(CA54=\"\",\"\",MAX(CB$1:CB53)+1)","v":""},"","","","","","","",{"$f":"+IF(CI54=\"\",\"\",MAX(CJ$1:CJ53)+1)","v":""},"","","","","",null,{"$f":"+IF(CR54=\"\",\"\",MAX(CQ$1:CQ53)+1)","v":""},{"$f":"IF(Compliance_Options!B76=\"\",\"\",Compliance_Options!B76)","v":""},{"$f":"IF(Compliance_Options!C76=\"\",\"\",Compliance_Options!C76)","v":""},{"$f":"IF(Compliance_Options!D76=\"\",\"\",Compliance_Options!D76)","v":""},"  ",{"$f":"IF(COUNTIF(CU$2:CU54,CU54)=1,CU54,\"\")","v":""},"","","",""]
[{"$nulls":5},{"$f":"+IF(I55=\"\",\"\",MAX(F$1:F54)+1)","v":""},{"$f":"IF(Compliance_Options!C77=\"\",\"\",Compliance_Options!C77)","v":""},"",{"$f":"IF(COUNTIF(G$2:G55,G55)=1,G55,\"\")","v":""},{"$nulls":12},"WI",{"$nulls":26},{"$f":"+IF(AX55=\"\",\"\",MAX(AW$1:AW54)+1)","v":""},{"$f":"IF(Compliance_Options!B77=\"\",\"\",Compliance_Options!B77)","v":""},{"$f":"IF(Compliance_Options!C77=\"\",\"\",Compliance_Options!C77)","v":""},{"$f":"IF(Compliance_Options!D77=\"\",\"\",Compliance_Options!D77)","v":""},{"$f":"IF(Compliance_Options!E77=\"\",\"\",Compliance_Options!E77)","v":""},{"$f":"IF(Compliance_Options!F77=\"\",\"\",Compliance_Options!F77)","v":""},"    ",{"$f":"IF(COUNTIF(BC$2:BC55,BC55)=1,BC55,\"\")","v":""},"","","","","","","",{"$f":"+IF(BK55=\"\",\"\",MAX(BL$1:BL54)+1)","v":""},"","","","","","","",{"$f":"+IF(BS55=\"\",\"\",MAX(BT$1:BT54)+1)","v":""},"","","","","","","",{"$f":"+IF(CA55=\"\",\"\",MAX(CB$1:CB54)+1)","v":""},"","","","","","","",{"$f":"+IF(CI55=\"\",\"\",MAX(CJ$1:CJ54)+1)","v":""},"","","","","",null,{"$f":"+IF(CR55=\"\",\"\",MAX(CQ$1:CQ54)+1)","v":""},{"$f":"IF(Compliance_Options!B77=\"\",\"\",Compliance_Options!B77)","v":""},{"$f":"IF(Compliance_Options!C77=\"\",\"\",Compliance_Options!C77)","v":""},{"$f":"IF(Compliance_Options!D77=\"\",\"\",Compliance_Options!D77)","v":""},"  ",{"$f":"IF(COUNTIF(CU$2:CU55,CU55)=1,CU55,\"\")","v":""},"","","",""]
[{"$nulls":5},{"$f":"+IF(I56=\"\",\"\",MAX(F$1:F55)+1)","v":""},{"$f":"IF(Compliance_Options!C78=\"\",\"\",Compliance_Options!C78)","v":""},"",{"$f":"IF(COUNTIF(G$2:G56,G56)=1,G56,\"\")","v":""},{"$nulls":12},"WV",{"$nulls":26},{"$f":"+IF(AX56=\"\",\"\",MAX(AW$1:AW55)+1)","v":""},{"$f":"IF(Compliance_Options!B78=\"\",\"\",Compliance_Options!B78)","v":""},{"$f":"IF(Compliance_Options!C78=\"\",\"\",Compliance_Options!C78)","v":""},{"$f":"IF(Compliance_Options!D78=\"\",\"\",Compliance_Options!D78)","v":""},{"$f":"IF(Compliance_Options!E78=\"\",\"\",Compliance_Options!E78)","v":""},{"$f":"IF(Compliance_Options!F78=\"\",\"\",Compliance_Options!F78)","v":""},"    ",{"$f":"IF(COUNTIF(BC$2:BC56,BC56)=1,BC56,\"\")","v":""},"","","","","","","",{"$f":"+IF(BK56=\"\",\"\",MAX(BL$1:BL55)+1)","v":""},"","","","","","","",{"$f":"+IF(BS56=\"\",\"\",MAX(BT$1:BT55)+1)","v":""},"","","","","","","",{"$f":"+IF(CA56=\"\",\"\",MAX(CB$1:CB55)+1)","v":""},"","","","","","","",{"$f":"+IF(CI56=\"\",\"\",MAX(CJ$1:CJ55)+1)","v":""},"","","","","",null,{"$f":"+IF(CR56=\"\",\"\",MAX(CQ$1:CQ55)+1)","v":""},{"$f":"IF(Compliance_Options!B78=\"\",\"\",Compliance_Options!B78)","v":""},{"$f":"IF(Compliance_Options!C78=\"\",\"\",Compliance_Options!C78)","v":""},{"$f":"IF(Compliance_Options!D78=\"\",\"\",Compliance_Options!D78)","v":""},"  ",{"$f":"IF(COUNTIF(CU$2:CU56,CU56)=1,CU56,\"\")","v":""},"","","",""]
[{"$nulls":5},{"$f":"+IF(I57=\"\",\"\",MAX(F$1:F56)+1)","v":""},{"$f":"IF(Compliance_Options!C79=\"\",\"\",Compliance_Options!C79)","v":""},"",{"$f":"IF(COUNTIF(G$2:G57,G57)=1,G57,\"\")","v":""},{"$nulls":12},"WY",{"$nulls":26},{"$f":"+IF(AX57=\"\",\"\",MAX(AW$1:AW56)+1)","v":""},{"$f":"IF(Compliance_Options!B79=\"\",\"\",Compliance_Options!B79)","v":""},{"$f":"IF(Compliance_Options!C79=\"\",\"\",Compliance_Options!C79)","v":""},{"$f":"IF(Compliance_Options!D79=\"\",\"\",Compliance_Options!D79)","v":""},{"$f":"IF(Compliance_Options!E79=\"\",\"\",Compliance_Options!E79)","v":""},{"$f":"IF(Compliance_Options!F79=\"\",\"\",Compliance_Options!F79)","v":""},"    ",{"$f":"IF(COUNTIF(BC$2:BC57,BC57)=1,BC57,\"\")","v":""},"","","","","","","",{"$f":"+IF(BK57=\"\",\"\",MAX(BL$1:BL56)+1)","v":""},"","","","","","","",{"$f":"+IF(BS57=\"\",\"\",MAX(BT$1:BT56)+1)","v":""},"","","","","","","",{"$f":"+IF(CA57=\"\",\"\",MAX(CB$1:CB56)+1)","v":""},"","","","","","","",{"$f":"+IF(CI57=\"\",\"\",MAX(CJ$1:CJ56)+1)","v":""},"","","","","",null,{"$f":"+IF(CR57=\"\",\"\",MAX(CQ$1:CQ56)+1)","v":""},{"$f":"IF(Compliance_Options!B79=\"\",\"\",Compliance_Options!B79)","v":""},{"$f":"IF(Compliance_Options!C79=\"\",\"\",Compliance_Options!C79)","v":""},{"$f":"IF(Compliance_Options!D79=\"\",\"\",Compliance_Options!D79)","v":""},"  ",{"$f":"IF(COUNTIF(CU$2:CU57,CU57)=1,CU57,\"\")","v":""},"","","",""]
[{"$nulls":5},{"$f":"+IF(I58=\"\",\"\",MAX(F$1:F57)+1)","v":""},{"$f":"IF(Compliance_Options!C80=\"\",\"\",Compliance_Options!C80)","v":""},"",{"$f":"IF(COUNTIF(G$2:G58,G58)=1,G58,\"\")","v":""},{"$nulls":39},{"$f":"+IF(AX58=\"\",\"\",MAX(AW$1:AW57)+1)","v":""},{"$f":"IF(Compliance_Options!B80=\"\",\"\",Compliance_Options!B80)","v":""},{"$f":"IF(Compliance_Options!C80=\"\",\"\",Compliance_Options!C80)","v":""},{"$f":"IF(Compliance_Options!D80=\"\",\"\",Compliance_Options!D80)","v":""},{"$f":"IF(Compliance_Options!E80=\"\",\"\",Compliance_Options!E80)","v":""},{"$f":"IF(Compliance_Options!F80=\"\",\"\",Compliance_Options!F80)","v":""},"    ",{"$f":"IF(COUNTIF(BC$2:BC58,BC58)=1,BC58,\"\")","v":""},"","","","","","","",{"$f":"+IF(BK58=\"\",\"\",MAX(BL$1:BL57)+1)","v":""},"","","","","","","",{"$f":"+IF(BS58=\"\",\"\",MAX(BT$1:BT57)+1)","v":""},"","","","","","","",{"$f":"+IF(CA58=\"\",\"\",MAX(CB$1:CB57)+1)","v":""},"","","","","","","",{"$f":"+IF(CI58=\"\",\"\",MAX(CJ$1:CJ57)+1)","v":""},"","","","","",null,{"$f":"+IF(CR58=\"\",\"\",MAX(CQ$1:CQ57)+1)","v":""},{"$f":"IF(Compliance_Options!B80=\"\",\"\",Compliance_Options!B80)","v":""},{"$f":"IF(Compliance_Options!C80=\"\",\"\",Compliance_Options!C80)","v":""},{"$f":"IF(Compliance_Options!D80=\"\",\"\",Compliance_Options!D80)","v":""},"  ",{"$f":"IF(COUNTIF(CU$2:CU58,CU58)=1,CU58,\"\")","v":""},"","","",""]
[{"$nulls":5},{"$f":"+IF(I59=\"\",\"\",MAX(F$1:F58)+1)","v":""},{"$f":"IF(Compliance_Options!C81=\"\",\"\",Compliance_Options!C81)","v":""},"",{"$f":"IF(COUNTIF(G$2:G59,G59)=1,G59,\"\")","v":""},{"$nulls":39},{"$f":"+IF(AX59=\"\",\"\",MAX(AW$1:AW58)+1)","v":""},{"$f":"IF(Compliance_Options!B81=\"\",\"\",Compliance_Options!B81)","v":""},{"$f":"IF(Compliance_Options!C81=\"\",\"\",Compliance_Options!C81)","v":""},{"$f":"IF(Compliance_Options!D81=\"\",\"\",Compliance_Options!D81)","v":""},{"$f":"IF(Compliance_Options!E81=\"\",\"\",Compliance_Options!E81)","v":""},{"$f":"IF(Compliance_Options!F81=\"\",\"\",Compliance_Options!F81)","v":""},"    ",{"$f":"IF(COUNTIF(BC$2:BC59,BC59)=1,BC59,\"\")","v":""},"","","","","","","",{"$f":"+IF(BK59=\"\",\"\",MAX(BL$1:BL58)+1)","v":""},"","","","","","","",{"$f":"+IF(BS59=\"\",\"\",MAX(BT$1:BT58)+1)","v":""},"","","","","","","",{"$f":"+IF(CA59=\"\",\"\",MAX(CB$1:CB58)+1)","v":""},"","","","","","","",{"$f":"+IF(CI59=\"\",\"\",MAX(CJ$1:CJ58)+1)","v":""},"","","","","",null,{"$f":"+IF(CR59=\"\",\"\",MAX(CQ$1:CQ58)+1)","v":""},{"$f":"IF(Compliance_Options!B81=\"\",\"\",Compliance_Options!B81)","v":""},{"$f":"IF(Compliance_Options!C81=\"\",\"\",Compliance_Options!C81)","v":""},{"$f":"IF(Compliance_Options!D81=\"\",\"\",Compliance_Options!D81)","v":""},"  ",{"$f":"IF(COUNTIF(CU$2:CU59,CU59)=1,CU59,\"\")","v":""},"","","",""]
[{"$nulls":5},{"$f":"+IF(I60=\"\",\"\",MAX(F$1:F59)+1)","v":""},{"$f":"IF(Compliance_Options!C82=\"\",\"\",Compliance_Options!C82)","v":""},"",{"$f":"IF(COUNTIF(G$2:G60,G60)=1,G60,\"\")","v":""},{"$nulls":39},{"$f":"+IF(AX60=\"\",\"\",MAX(AW$1:AW59)+1)","v":""},{"$f":"IF(Compliance_Options!B82=\"\",\"\",Compliance_Options!B82)","v":""},{"$f":"IF(Compliance_Options!C82=\"\",\"\",Compliance_Options!C82)","v":""},{"$f":"IF(Compliance_Options!D82=\"\",\"\",Compliance_Options!D82)","v":""},{"$f":"IF(Compliance_Options!E82=\"\",\"\",Compliance_Options!E82)","v":""},{"$f":"IF(Compliance_Options!F82=\"\",\"\",Compliance_Options!F82)","v":""},"    ",{"$f":"IF(COUNTIF(BC$2:BC60,BC60)=1,BC60,\"\")","v":""},"","","","","","","",{"$f":"+IF(BK60=\"\",\"\",MAX(BL$1:BL59)+1)","v":""},"","","","","","","",{"$f":"+IF(BS60=\"\",\"\",MAX(BT$1:BT59)+1)","v":""},"","","","","","","",{"$f":"+IF(CA60=\"\",\"\",MAX(CB$1:CB59)+1)","v":""},"","","","","","","",{"$f":"+IF(CI60=\"\",\"\",MAX(CJ$1:CJ59)+1)","v":""},"","","","","",null,{"$f":"+IF(CR60=\"\",\"\",MAX(CQ$1:CQ59)+1)","v":""},{"$f":"IF(Compliance_Options!B82=\"\",\"\",Compliance_Options!B82)","v":""},{"$f":"IF(Compliance_Options!C82=\"\",\"\",Compliance_Options!C82)","v":""},{"$f":"IF(Compliance_Options!D82=\"\",\"\",Compliance_Options!D82)","v":""},"  ",{"$f":"IF(COUNTIF(CU$2:CU60,CU60)=1,CU60,\"\")","v":""},"","","",""]
[{"$nulls":5},{"$f":"+IF(I61=\"\",\"\",MAX(F$1:F60)+1)","v":""},{"$f":"IF(Compliance_Options!C83=\"\",\"\",Compliance_Options!C83)","v":""},"",{"$f":"IF(COUNTIF(G$2:G61,G61)=1,G61,\"\")","v":""},{"$nulls":39},{"$f":"+IF(AX61=\"\",\"\",MAX(AW$1:AW60)+1)","v":""},{"$f":"IF(Compliance_Options!B83=\"\",\"\",Compliance_Options!B83)","v":""},{"$f":"IF(Compliance_Options!C83=\"\",\"\",Compliance_Options!C83)","v":""},{"$f":"IF(Compliance_Options!D83=\"\",\"\",Compliance_Options!D83)","v":""},{"$f":"IF(Compliance_Options!E83=\"\",\"\",Compliance_Options!E83)","v":""},{"$f":"IF(Compliance_Options!F83=\"\",\"\",Compliance_Options!F83)","v":""},"    ",{"$f":"IF(COUNTIF(BC$2:BC61,BC61)=1,BC61,\"\")","v":""},"","","","","","","",{"$f":"+IF(BK61=\"\",\"\",MAX(BL$1:BL60)+1)","v":""},"","","","","","","",{"$f":"+IF(BS61=\"\",\"\",MAX(BT$1:BT60)+1)","v":""},"","","","","","","",{"$f":"+IF(CA61=\"\",\"\",MAX(CB$1:CB60)+1)","v":""},"","","","","","","",{"$f":"+IF(CI61=\"\",\"\",MAX(CJ$1:CJ60)+1)","v":""},"","","","","",null,{"$f":"+IF(CR61=\"\",\"\",MAX(CQ$1:CQ60)+1)","v":""},{"$f":"IF(Compliance_Options!B83=\"\",\"\",Compliance_Options!B83)","v":""},{"$f":"IF(Compliance_Options!C83=\"\",\"\",Compliance_Options!C83)","v":""},{"$f":"IF(Compliance_Options!D83=\"\",\"\",Compliance_Options!D83)","v":""},"  ",{"$f":"IF(COUNTIF(CU$2:CU61,CU61)=1,CU61,\"\")","v":""},"","","",""]
[{"$nulls":5},{"$f":"+IF(I62=\"\",\"\",MAX(F$1:F61)+1)","v":""},{"$f":"IF(Compliance_Options!C84=\"\",\"\",Compliance_Options!C84)","v":""},"",{"$f":"IF(COUNTIF(G$2:G62,G62)=1,G62,\"\")","v":""},{"$nulls":39},{"$f":"+IF(AX62=\"\",\"\",MAX(AW$1:AW61)+1)","v":""},{"$f":"IF(Compliance_Options!B84=\"\",\"\",Compliance_Options!B84)","v":""},{"$f":"IF(Compliance_Options!C84=\"\",\"\",Compliance_Options!C84)","v":""},{"$f":"IF(Compliance_Options!D84=\"\",\"\",Compliance_Options!D84)","v":""},{"$f":"IF(Compliance_Options!E84=\"\",\"\",Compliance_Options!E84)","v":""},{"$f":"IF(Compliance_Options!F84=\"\",\"\",Compliance_Options!F84)","v":""},"    ",{"$f":"IF(COUNTIF(BC$2:BC62,BC62)=1,BC62,\"\")","v":""},"","","","","","","",{"$f":"+IF(BK62=\"\",\"\",MAX(BL$1:BL61)+1)","v":""},"","","","","","","",{"$f":"+IF(BS62=\"\",\"\",MAX(BT$1:BT61)+1)","v":""},"","","","","","","",{"$f":"+IF(CA62=\"\",\"\",MAX(CB$1:CB61)+1)","v":""},"","","","","","","",{"$f":"+IF(CI62=\"\",\"\",MAX(CJ$1:CJ61)+1)","v":""},"","","","","",null,{"$f":"+IF(CR62=\"\",\"\",MAX(CQ$1:CQ61)+1)","v":""},{"$f":"IF(Compliance_Options!B84=\"\",\"\",Compliance_Options!B84)","v":""},{"$f":"IF(Compliance_Options!C84=\"\",\"\",Compliance_Options!C84)","v":""},{"$f":"IF(Compliance_Options!D84=\"\",\"\",Compliance_Options!D84)","v":""},"  ",{"$f":"IF(COUNTIF(CU$2:CU62,CU62)=1,CU62,\"\")","v":""},"","","",""]
[{"$nulls":5},{"$f":"+IF(I63=\"\",\"\",MAX(F$1:F62)+1)","v":""},{"$f":"IF(Compliance_Options!C85=\"\",\"\",Compliance_Options!C85)","v":""},"",{"$f":"IF(COUNTIF(G$2:G63,G63)=1,G63,\"\")","v":""},{"$nulls":39},{"$f":"+IF(AX63=\"\",\"\",MAX(AW$1:AW62)+1)","v":""},{"$f":"IF(Compliance_Options!B85=\"\",\"\",Compliance_Options!B85)","v":""},{"$f":"IF(Compliance_Options!C85=\"\",\"\",Compliance_Options!C85)","v":""},{"$f":"IF(Compliance_Options!D85=\"\",\"\",Compliance_Options!D85)","v":""},{"$f":"IF(Compliance_Options!E85=\"\",\"\",Compliance_Options!E85)","v":""},{"$f":"IF(Compliance_Options!F85=\"\",\"\",Compliance_Options!F85)","v":""},"    ",{"$f":"IF(COUNTIF(BC$2:BC63,BC63)=1,BC63,\"\")","v":""},"","","","","","","",{"$f":"+IF(BK63=\"\",\"\",MAX(BL$1:BL62)+1)","v":""},"","","","","","","",{"$f":"+IF(BS63=\"\",\"\",MAX(BT$1:BT62)+1)","v":""},"","","","","","","",{"$f":"+IF(CA63=\"\",\"\",MAX(CB$1:CB62)+1)","v":""},"","","","","","","",{"$f":"+IF(CI63=\"\",\"\",MAX(CJ$1:CJ62)+1)","v":""},"","","","","",null,{"$f":"+IF(CR63=\"\",\"\",MAX(CQ$1:CQ62)+1)","v":""},{"$f":"IF(Compliance_Options!B85=\"\",\"\",Compliance_Options!B85)","v":""},{"$f":"IF(Compliance_Options!C85=\"\",\"\",Compliance_Options!C85)","v":""},{"$f":"IF(Compliance_Options!D85=\"\",\"\",Compliance_Options!D85)","v":""},"  ",{"$f":"IF(COUNTIF(CU$2:CU63,CU63)=1,CU63,\"\")","v":""},"","","",""]
[{"$nulls":5},{"$f":"+IF(I64=\"\",\"\",MAX(F$1:F63)+1)","v":""},{"$f":"IF(Compliance_Options!C86=\"\",\"\",Compliance_Options!C86)","v":""},"",{"$f":"IF(COUNTIF(G$2:G64,G64)=1,G64,\"\")","v":""},{"$nulls":39},{"$f":"+IF(AX64=\"\",\"\",MAX(AW$1:AW63)+1)","v":""},{"$f":"IF(Compliance_Options!B86=\"\",\"\",Compliance_Options!B86)","v":""},{"$f":"IF(Compliance_Options!C86=\"\",\"\",Compliance_Options!C86)","v":""},{"$f":"IF(Compliance_Options!D86=\"\",\"\",Compliance_Options!D86)","v":""},{"$f":"IF(Compliance_Options!E86=\"\",\"\",Compliance_Options!E86)","v":""},{"$f":"IF(Compliance_Options!F86=\"\",\"\",Compliance_Options!F86)","v":""},"    ",{"$f":"IF(COUNTIF(BC$2:BC64,BC64)=1,BC64,\"\")","v":""},"","","","","","","",{"$f":"+IF(BK64=\"\",\"\",MAX(BL$1:BL63)+1)","v":""},"","","","","","","",{"$f":"+IF(BS64=\"\",\"\",MAX(BT$1:BT63)+1)","v":""},"","","","","","","",{"$f":"+IF(CA64=\"\",\"\",MAX(CB$1:CB63)+1)","v":""},"","","","","","","",{"$f":"+IF(CI64=\"\",\"\",MAX(CJ$1:CJ63)+1)","v":""},"","","","","",null,{"$f":"+IF(CR64=\"\",\"\",MAX(CQ$1:CQ63)+1)","v":""},{"$f":"IF(Compliance_Options!B86=\"\",\"\",Compliance_Options!B86)","v":""},{"$f":"IF(Compliance_Options!C86=\"\",\"\",Compliance_Options!C86)","v":""},{"$f":"IF(Compliance_Options!D86=\"\",\"\",Compliance_Options!D86)","v":""},"  ",{"$f":"IF(COUNTIF(CU$2:CU64,CU64)=1,CU64,\"\")","v":""},"","","",""]
[{"$nulls":5},{"$f":"+IF(I65=\"\",\"\",MAX(F$1:F64)+1)","v":""},{"$f":"IF(Compliance_Options!C87=\"\",\"\",Compliance_Options!C87)","v":""},"",{"$f":"IF(COUNTIF(G$2:G65,G65)=1,G65,\"\")","v":""},{"$nulls":39},{"$f":"+IF(AX65=\"\",\"\",MAX(AW$1:AW64)+1)","v":""},{"$f":"IF(Compliance_Options!B87=\"\",\"\",Compliance_Options!B87)","v":""},{"$f":"IF(Compliance_Options!C87=\"\",\"\",Compliance_Options!C87)","v":""},{"$f":"IF(Compliance_Options!D87=\"\",\"\",Compliance_Options!D87)","v":""},{"$f":"IF(Compliance_Options!E87=\"\",\"\",Compliance_Options!E87)","v":""},{"$f":"IF(Compliance_Options!F87=\"\",\"\",Compliance_Options!F87)","v":""},"    ",{"$f":"IF(COUNTIF(BC$2:BC65,BC65)=1,BC65,\"\")","v":""},"","","","","","","",{"$f":"+IF(BK65=\"\",\"\",MAX(BL$1:BL64)+1)","v":""},"","","","","","","",{"$f":"+IF(BS65=\"\",\"\",MAX(BT$1:BT64)+1)","v":""},"","","","","","","",{"$f":"+IF(CA65=\"\",\"\",MAX(CB$1:CB64)+1)","v":""},"","","","","","","",{"$f":"+IF(CI65=\"\",\"\",MAX(CJ$1:CJ64)+1)","v":""},"","","","","",null,{"$f":"+IF(CR65=\"\",\"\",MAX(CQ$1:CQ64)+1)","v":""},{"$f":"IF(Compliance_Options!B87=\"\",\"\",Compliance_Options!B87)","v":""},{"$f":"IF(Compliance_Options!C87=\"\",\"\",Compliance_Options!C87)","v":""},{"$f":"IF(Compliance_Options!D87=\"\",\"\",Compliance_Options!D87)","v":""},"  ",{"$f":"IF(COUNTIF(CU$2:CU65,CU65)=1,CU65,\"\")","v":""},"","","",""]
[{"$nulls":5},{"$f":"+IF(I66=\"\",\"\",MAX(F$1:F65)+1)","v":""},{"$f":"IF(Compliance_Options!C88=\"\",\"\",Compliance_Options!C88)","v":""},{"$f":"+IFERROR(INDEX($G$2:$G$78,MATCH(ROW()-ROW($H$1),$F$2:$F$78,0)),\"\")","v":""},{"$f":"IF(COUNTIF(G$2:G66,G66)=1,G66,\"\")","v":""},{"$nulls":39},{"$f":"+IF(AX66=\"\",\"\",MAX(AW$1:AW65)+1)","v":""},{"$f":"IF(Compliance_Options!B88=\"\",\"\",Compliance_Options!B88)","v":""},{"$f":"IF(Compliance_Options!C88=\"\",\"\",Compliance_Options!C88)","v":""},{"$f":"IF(Compliance_Options!D88=\"\",\"\",Compliance_Options!D88)","v":""},{"$f":"IF(Compliance_Options!E88=\"\",\"\",Compliance_Options!E88)","v":""},{"$f":"IF(Compliance_Options!F88=\"\",\"\",Compliance_Options!F88)","v":""},"    ",{"$f":"IF(COUNTIF(BC$2:BC66,BC66)=1,BC66,\"\")","v":""},"","","","","","","",{"$f":"+IF(BK66=\"\",\"\",MAX(BL$1:BL65)+1)","v":""},"","","","","","","",{"$f":"+IF(BS66=\"\",\"\",MAX(BT$1:BT65)+1)","v":""},"","","","","","","",{"$f":"+IF(CA66=\"\",\"\",MAX(CB$1:CB65)+1)","v":""},"","","","","","","",{"$f":"+IF(CI66=\"\",\"\",MAX(CJ$1:CJ65)+1)","v":""},"","","","","",null,{"$f":"+IF(CR66=\"\",\"\",MAX(CQ$1:CQ65)+1)","v":""},{"$f":"IF(Compliance_Options!B88=\"\",\"\",Compliance_Options!B88)","v":""},{"$f":"IF(Compliance_Options!C88=\"\",\"\",Compliance_Options!C88)","v":""},{"$f":"IF(Compliance_Options!D88=\"\",\"\",Compliance_Options!D88)","v":""},"  ",{"$f":"IF(COUNTIF(CU$2:CU66,CU66)=1,CU66,\"\")","v":""},"","","",""]
[{"$nulls":5},{"$f":"+IF(I67=\"\",\"\",MAX(F$1:F66)+1)","v":""},{"$f":"IF(Compliance_Options!C89=\"\",\"\",Compliance_Options!C89)","v":""},"",{"$f":"IF(COUNTIF(G$2:G67,G67)=1,G67,\"\")","v":""},{"$nulls":39},{"$f":"+IF(AX67=\"\",\"\",MAX(AW$1:AW66)+1)","v":""},{"$f":"IF(Compliance_Options!B89=\"\",\"\",Compliance_Options!B89)","v":""},{"$f":"IF(Compliance_Options!C89=\"\",\"\",Compliance_Options!C89)","v":""},{"$f":"IF(Compliance_Options!D89=\"\",\"\",Compliance_Options!D89)","v":""},{"$f":"IF(Compliance_Options!E89=\"\",\"\",Compliance_Options!E89)","v":""},{"$f":"IF(Compliance_Options!F89=\"\",\"\",Compliance_Options!F89)","v":""},{"$f":"AX67&\" \"&AY67&\" \"&AZ67&\" \"&BA67&\" \"&BB67","v":"    "},{"$f":"IF(COUNTIF(BC$2:BC67,BC67)=1,BC67,\"\")","v":""},{"$f":"IF(BF67=\"\",\"\",BF67&\" \"&BG67&\" \"&BH67)","v":""},{"$f":"IFERROR(INDEX(AX$2:AX$78,MATCH(ROW()-ROW($BD$1),$AW$2:$AW$78,0)),\"\")","v":""},{"$f":"IFERROR(INDEX(AY$2:AY$78,MATCH(ROW()-ROW($BD$1),$AW$2:$AW$78,0)),\"\")","v":""},{"$f":"IFERROR(INDEX(AZ$2:AZ$78,MATCH(ROW()-ROW($BD$1),$AW$2:$AW$78,0)),\"\")","v":""},{"$f":"IFERROR(INDEX(BA$2:BA$78,MATCH(ROW()-ROW($BD$1),$AW$2:$AW$78,0)),\"\")","v":""},{"$f":"IFERROR(INDEX(BB$2:BB$78,MATCH(ROW()-ROW($BD$1),$AW$2:$AW$78,0)),\"\")","v":""},{"$f":"IF($AZ67=\"Tire Production\",$BC67,\"\")","v":""},{"$f":"+IF(BK67=\"\",\"\",MAX(BL$1:BL66)+1)","v":""},{"$f":"IF(BN67=\"\",\"\",BN67&\" \"&BO67&\" \"&BP67&\" \"&BQ67&\" \"&BR67)","v":""},{"$f":"IFERROR(INDEX(AX$2:AX$78,MATCH(ROW()-ROW($BD$1),$BL$2:$BL$78,0)),\"\")","v":""},{"$f":"IFERROR(INDEX(AY$2:AY$78,MATCH(ROW()-ROW($BD$1),$BL$2:$BL$78,0)),\"\")","v":""},{"$f":"IFERROR(INDEX(AZ$2:AZ$78,MATCH(ROW()-ROW($BD$1),$BL$2:$BL$78,0)),\"\")","v":""},{"$f":"IFERROR(INDEX(BA$2:BA$78,MATCH(ROW()-ROW($BD$1),$BL$2:$BL$78,0)),\"\")","v":""},{"$f":"IFERROR(INDEX(BB$2:BB$78,MATCH(ROW()-ROW($BD$1),$BL$2:$BL$78,0)),\"\")","v":""},{"$f":"IF($AZ67=\"Tire Cord Production\",$BC67,\"\")","v":""},{"$f":"+IF(BS67=\"\",\"\",MAX(BT$1:BT66)+1)","v":""},{"$f":"IF(BV67=\"\",\"\",BV67&\" \"&BW67&\" \"&BX67)","v":""},{"$f":"IFERROR(INDEX(AX$2:AX$78,MATCH(ROW()-ROW($BT$1),$BT$2:$BT$78,0)),\"\")","v":""},{"$f":"IFERROR(INDEX(AY$2:AY$78,MATCH(ROW()-ROW($BT$1),$BT$2:$BT$78,0)),\"\")","v":""},{"$f":"IFERROR(INDEX(AZ$2:AZ$78,MATCH(ROW()-ROW($BT$1),$BT$2:$BT$78,0)),\"\")","v":""},{"$f":"IFERROR(INDEX(BA$2:BA$78,MATCH(ROW()-ROW($BT$1),$BT$2:$BT$78,0)),\"\")","v":""},{"$f":"IFERROR(INDEX(BB$2:BB$78,MATCH(ROW()-ROW($BT$1),$BT$2:$BT$78,0)),\"\")","v":""},{"$f":"IF($AZ67=\"Puncture Sealant Application\",$BC67,\"\")","v":""},{"$f":"+IF(CA67=\"\",\"\",MAX(CB$1:CB66)+1)","v":""},{"$f":"IF(CD67=\"\",\"\",CD67&\" \"&CE67&\" \"&CF67)","v":""},{"$f":"IFERROR(INDEX(AX$2:AX$78,MATCH(ROW()-ROW($CB$1),$CB$2:$CB$78,0)),\"\")","v":""},{"$f":"IFERROR(INDEX(AY$2:AY$78,MATCH(ROW()-ROW($CB$1),$CB$2:$CB$78,0)),\"\")","v":""},{"$f":"IFERROR(INDEX(AZ$2:AZ$78,MATCH(ROW()-ROW($CB$1),$CB$2:$CB$78,0)),\"\")","v":""},{"$f":"IFERROR(INDEX(BA$2:BA$78,MATCH(ROW()-ROW($CB$1),$CB$2:$CB$78,0)),\"\")","v":""},{"$f":"IFERROR(INDEX(BB$2:BB$78,MATCH(ROW()-ROW($CB$1),$CB$2:$CB$78,0)),\"\")","v":""},{"$f":"IF($AZ67=\"Rubber Processing\",$BC67,\"\")","v":""},{"$f":"+IF(CI67=\"\",\"\",MAX(CJ$1:CJ66)+1)","v":""},{"$f":"IFERROR(INDEX(AX$2:AX$78,MATCH(ROW()-ROW($CJ$1),$CJ$2:$CJ$78,0)),\"\")","v":""},{"$f":"IFERROR(INDEX(AY$2:AY$78,MATCH(ROW()-ROW($CJ$1),$CJ$2:$CJ$78,0)),\"\")","v":""},{"$f":"IFERROR(INDEX(AZ$2:AZ$78,MATCH(ROW()-ROW($CJ$1),$CJ$2:$CJ$78,0)),\"\")","v":""},{"$f":"IFERROR(INDEX(BA$2:BA$78,MATCH(ROW()-ROW($CJ$1),$CJ$2:$CJ$78,0)),\"\")","v":""},{"$f":"IFERROR(INDEX(BB$2:BB$78,MATCH(ROW()-ROW($CJ$1),$CJ$2:$CJ$78,0)),\"\")","v":""},null,{"$f":"+IF(CR67=\"\",\"\",MAX(CQ$1:CQ66)+1)","v":""},{"$f":"IF(Compliance_Options!B89=\"\",\"\",Compliance_Options!B89)","v":""},{"$f":"IF(Compliance_Options!C89=\"\",\"\",Compliance_Options!C89)","v":""},{"$f":"IF(Compliance_Options!D89=\"\",\"\",Compliance_Options!D89)","v":""},{"$f":"CR67&\" \"&CS67&\" \"&CT67","v":"  "},{"$f":"IF(COUNTIF(CU$2:CU67,CU67)=1,CU67,\"\")","v":""},{"$f":"IFERROR(INDEX(CV$2:CV$78,MATCH(ROW()-ROW($CV$1),$CQ$2:$CQ$78,0)),\"\")","v":""},{"$f":"IFERROR(INDEX(CR$2:CR$78,MATCH(ROW()-ROW($CV$1),$CQ$2:$CQ$78,0)),\"\")","v":""},{"$f":"IFERROR(INDEX(CS$2:CS$78,MATCH(ROW()-ROW($CV$1),$CQ$2:$CQ$78,0)),\"\")","v":""},{"$f":"IFERROR(INDEX(CT$2:CT$78,MATCH(ROW()-ROW($CV$1),$CQ$2:$CQ$78,0)),\"\")","v":""}]
[{"$nulls":5},{"$f":"+IF(I68=\"\",\"\",MAX(F$1:F67)+1)","v":""},{"$f":"IF(Compliance_Options!C90=\"\",\"\",Compliance_Options!C90)","v":""},"",{"$f":"IF(COUNTIF(G$2:G68,G68)=1,G68,\"\")","v":""},{"$nulls":39},{"$f":"+IF(AX68=\"\",\"\",MAX(AW$1:AW67)+1)","v":""},{"$f":"IF(Compliance_Options!B90=\"\",\"\",Compliance_Options!B90)","v":""},{"$f":"IF(Compliance_Options!C90=\"\",\"\",Compliance_Options!C90)","v":""},{"$f":"IF(Compliance_Options!D90=\"\",\"\",Compliance_Options!D90)","v":""},{"$f":"IF(Compliance_Options!E90=\"\",\"\",Compliance_Options!E90)","v":""},{"$f":"IF(Compliance_Options!F90=\"\",\"\",Compliance_Options!F90)","v":""},"    ",{"$f":"IF(COUNTIF(BC$2:BC68,BC68)=1,BC68,\"\")","v":""},"","","","","","","",{"$f":"+IF(BK68=\"\",\"\",MAX(BL$1:BL67)+1)","v":""},"","","","","","","",{"$f":"+IF(BS68=\"\",\"\",MAX(BT$1:BT67)+1)","v":""},"","","","","","","",{"$f":"+IF(CA68=\"\",\"\",MAX(CB$1:CB67)+1)","v":""},"","","","","","","",{"$f":"+IF(CI68=\"\",\"\",MAX(CJ$1:CJ67)+1)","v":""},"","","","","",null,{"$f":"+IF(CR68=\"\",\"\",MAX(CQ$1:CQ67)+1)","v":""},{"$f":"IF(Compliance_Options!B90=\"\",\"\",Compliance_Options!B90)","v":""},{"$f":"IF(Compliance_Options!C90=\"\",\"\",Compliance_Options!C90)","v":""},{"$f":"IF(Compliance_Options!D90=\"\",\"\",Compliance_Options!D90)","v":""},"  ",{"$f":"IF(COUNTIF(CU$2:CU68,CU68)=1,CU68,\"\")","v":""},"","","",""]
[{"$nulls":5},{"$f":"+IF(I69=\"\",\"\",MAX(F$1:F68)+1)","v":""},{"$f":"IF(Compliance_Options!C91=\"\",\"\",Compliance_Options!C91)","v":""},"",{"$f":"IF(COUNTIF(G$2:G69,G69)=1,G69,\"\")","v":""},{"$nulls":39},{"$f":"+IF(AX69=\"\",\"\",MAX(AW$1:AW68)+1)","v":""},{"$f":"IF(Compliance_Options!B91=\"\",\"\",Compliance_Options!B91)","v":""},{"$f":"IF(Compliance_Options!C91=\"\",\"\",Compliance_Options!C91)","v":""},{"$f":"IF(Compliance_Options!D91=\"\",\"\",Compliance_Options!D91)","v":""},{"$f":"IF(Compliance_Options!E91=\"\",\"\",Compliance_Options!E91)","v":""},{"$f":"IF(Compliance_Options!F91=\"\",\"\",Compliance_Options!F91)","v":""},"    ",{"$f":"IF(COUNTIF(BC$2:BC69,BC69)=1,BC69,\"\")","v":""},"","","","","","","",{"$f":"+IF(BK69=\"\",\"\",MAX(BL$1:BL68)+1)","v":""},"","","","","","","",{"$f":"+IF(BS69=\"\",\"\",MAX(BT$1:BT68)+1)","v":""},"","","","","","","",{"$f":"+IF(CA69=\"\",\"\",MAX(CB$1:CB68)+1)","v":""},"","","","","","","",{"$f":"+IF(CI69=\"\",\"\",MAX(CJ$1:CJ68)+1)","v":""},"","","","","",null,{"$f":"+IF(CR69=\"\",\"\",MAX(CQ$1:CQ68)+1)","v":""},{"$f":"IF(Compliance_Options!B91=\"\",\"\",Compliance_Options!B91)","v":""},{"$f":"IF(Compliance_Options!C91=\"\",\"\",Compliance_Options!C91)","v":""},{"$f":"IF(Compliance_Options!D91=\"\",\"\",Compliance_Options!D91)","v":""},"  ",{"$f":"IF(COUNTIF(CU$2:CU69,CU69)=1,CU69,\"\")","v":""},"","","",""]
[{"$nulls":5},{"$f":"+IF(I70=\"\",\"\",MAX(F$1:F69)+1)","v":""},{"$f":"IF(Compliance_Options!C92=\"\",\"\",Compliance_Options!C92)","v":""},"",{"$f":"IF(COUNTIF(G$2:G70,G70)=1,G70,\"\")","v":""},{"$nulls":39},{"$f":"+IF(AX70=\"\",\"\",MAX(AW$1:AW69)+1)","v":""},{"$f":"IF(Compliance_Options!B92=\"\",\"\",Compliance_Options!B92)","v":""},{"$f":"IF(Compliance_Options!C92=\"\",\"\",Compliance_Options!C92)","v":""},{"$f":"IF(Compliance_Options!D92=\"\",\"\",Compliance_Options!D92)","v":""},{"$f":"IF(Compliance_Options!E92=\"\",\"\",Compliance_Options!E92)","v":""},{"$f":"IF(Compliance_Options!F92=\"\",\"\",Compliance_Options!F92)","v":""},"    ",{"$f":"IF(COUNTIF(BC$2:BC70,BC70)=1,BC70,\"\")","v":""},"","","","","","","",{"$f":"+IF(BK70=\"\",\"\",MAX(BL$1:BL69)+1)","v":""},"","","","","","","",{"$f":"+IF(BS70=\"\",\"\",MAX(BT$1:BT69)+1)","v":""},"","","","","","","",{"$f":"+IF(CA70=\"\",\"\",MAX(CB$1:CB69)+1)","v":""},"","","","","","","",{"$f":"+IF(CI70=\"\",\"\",MAX(CJ$1:CJ69)+1)","v":""},"","","","","",null,{"$f":"+IF(CR70=\"\",\"\",MAX(CQ$1:CQ69)+1)","v":""},{"$f":"IF(Compliance_Options!B92=\"\",\"\",Compliance_Options!B92)","v":""},{"$f":"IF(Compliance_Options!C92=\"\",\"\",Compliance_Options!C92)","v":""},{"$f":"IF(Compliance_Options!D92=\"\",\"\",Compliance_Options!D92)","v":""},"  ",{"$f":"IF(COUNTIF(CU$2:CU70,CU70)=1,CU70,\"\")","v":""},"","","",""]
[{"$nulls":5},{"$f":"+IF(I71=\"\",\"\",MAX(F$1:F70)+1)","v":""},{"$f":"IF(Compliance_Options!C93=\"\",\"\",Compliance_Options!C93)","v":""},"",{"$f":"IF(COUNTIF(G$2:G71,G71)=1,G71,\"\")","v":""},{"$nulls":39},{"$f":"+IF(AX71=\"\",\"\",MAX(AW$1:AW70)+1)","v":""},{"$f":"IF(Compliance_Options!B93=\"\",\"\",Compliance_Options!B93)","v":""},{"$f":"IF(Compliance_Options!C93=\"\",\"\",Compliance_Options!C93)","v":""},{"$f":"IF(Compliance_Options!D93=\"\",\"\",Compliance_Options!D93)","v":""},{"$f":"IF(Compliance_Options!E93=\"\",\"\",Compliance_Options!E93)","v":""},{"$f":"IF(Compliance_Options!F93=\"\",\"\",Compliance_Options!F93)","v":""},"    ",{"$f":"IF(COUNTIF(BC$2:BC71,BC71)=1,BC71,\"\")","v":""},"","","","","","","",{"$f":"+IF(BK71=\"\",\"\",MAX(BL$1:BL70)+1)","v":""},"","","","","","","",{"$f":"+IF(BS71=\"\",\"\",MAX(BT$1:BT70)+1)","v":""},"","","","","","","",{"$f":"+IF(CA71=\"\",\"\",MAX(CB$1:CB70)+1)","v":""},"","","","","","","",{"$f":"+IF(CI71=\"\",\"\",MAX(CJ$1:CJ70)+1)","v":""},"","","","","",null,{"$f":"+IF(CR71=\"\",\"\",MAX(CQ$1:CQ70)+1)","v":""},{"$f":"IF(Compliance_Options!B93=\"\",\"\",Compliance_Options!B93)","v":""},{"$f":"IF(Compliance_Options!C93=\"\",\"\",Compliance_Options!C93)","v":""},{"$f":"IF(Compliance_Options!D93=\"\",\"\",Compliance_Options!D93)","v":""},"  ",{"$f":"IF(COUNTIF(CU$2:CU71,CU71)=1,CU71,\"\")","v":""},"","","",""]
[{"$nulls":5},{"$f":"+IF(I72=\"\",\"\",MAX(F$1:F71)+1)","v":""},{"$f":"IF(Compliance_Options!C94=\"\",\"\",Compliance_Options!C94)","v":""},"",{"$f":"IF(COUNTIF(G$2:G72,G72)=1,G72,\"\")","v":""},{"$nulls":39},{"$f":"+IF(AX72=\"\",\"\",MAX(AW$1:AW71)+1)","v":""},{"$f":"IF(Compliance_Options!B94=\"\",\"\",Compliance_Options!B94)","v":""},{"$f":"IF(Compliance_Options!C94=\"\",\"\",Compliance_Options!C94)","v":""},{"$f":"IF(Compliance_Options!D94=\"\",\"\",Compliance_Options!D94)","v":""},{"$f":"IF(Compliance_Options!E94=\"\",\"\",Compliance_Options!E94)","v":""},{"$f":"IF(Compliance_Options!F94=\"\",\"\",Compliance_Options!F94)","v":""},"    ",{"$f":"IF(COUNTIF(BC$2:BC72,BC72)=1,BC72,\"\")","v":""},"","","","","","","",{"$f":"+IF(BK72=\"\",\"\",MAX(BL$1:BL71)+1)","v":""},"","","","","","","",{"$f":"+IF(BS72=\"\",\"\",MAX(BT$1:BT71)+1)","v":""},"","","","","","","",{"$f":"+IF(CA72=\"\",\"\",MAX(CB$1:CB71)+1)","v":""},"","","","","","","",{"$f":"+IF(CI72=\"\",\"\",MAX(CJ$1:CJ71)+1)","v":""},"","","","","",null,{"$f":"+IF(CR72=\"\",\"\",MAX(CQ$1:CQ71)+1)","v":""},{"$f":"IF(Compliance_Options!B94=\"\",\"\",Compliance_Options!B94)","v":""},{"$f":"IF(Compliance_Options!C94=\"\",\"\",Compliance_Options!C94)","v":""},{"$f":"IF(Compliance_Options!D94=\"\",\"\",Compliance_Options!D94)","v":""},"  ",{"$f":"IF(COUNTIF(CU$2:CU72,CU72)=1,CU72,\"\")","v":""},"","","",""]
[{"$nulls":5},{"$f":"+IF(I73=\"\",\"\",MAX(F$1:F72)+1)","v":""},{"$f":"IF(Compliance_Options!C95=\"\",\"\",Compliance_Options!C95)","v":""},"",{"$f":"IF(COUNTIF(G$2:G73,G73)=1,G73,\"\")","v":""},{"$nulls":39},{"$f":"+IF(AX73=\"\",\"\",MAX(AW$1:AW72)+1)","v":""},{"$f":"IF(Compliance_Options!B95=\"\",\"\",Compliance_Options!B95)","v":""},{"$f":"IF(Compliance_Options!C95=\"\",\"\",Compliance_Options!C95)","v":""},{"$f":"IF(Compliance_Options!D95=\"\",\"\",Compliance_Options!D95)","v":""},{"$f":"IF(Compliance_Options!E95=\"\",\"\",Compliance_Options!E95)","v":""},{"$f":"IF(Compliance_Options!F95=\"\",\"\",Compliance_Options!F95)","v":""},"    ",{"$f":"IF(COUNTIF(BC$2:BC73,BC73)=1,BC73,\"\")","v":""},"","","","","","","",{"$f":"+IF(BK73=\"\",\"\",MAX(BL$1:BL72)+1)","v":""},"","","","","","","",{"$f":"+IF(BS73=\"\",\"\",MAX(BT$1:BT72)+1)","v":""},"","","","","","","",{"$f":"+IF(CA73=\"\",\"\",MAX(CB$1:CB72)+1)","v":""},"","","","","","","",{"$f":"+IF(CI73=\"\",\"\",MAX(CJ$1:CJ72)+1)","v":""},"","","","","",null,{"$f":"+IF(CR73=\"\",\"\",MAX(CQ$1:CQ72)+1)","v":""},{"$f":"IF(Compliance_Options!B95=\"\",\"\",Compliance_Options!B95)","v":""},{"$f":"IF(Compliance_Options!C95=\"\",\"\",Compliance_Options!C95)","v":""},{"$f":"IF(Compliance_Options!D95=\"\",\"\",Compliance_Options!D95)","v":""},"  ",{"$f":"IF(COUNTIF(CU$2:CU73,CU73)=1,CU73,\"\")","v":""},"","","",""]
[{"$nulls":5},{"$f":"+IF(I74=\"\",\"\",MAX(F$1:F73)+1)","v":""},{"$f":"IF(Compliance_Options!C96=\"\",\"\",Compliance_Options!C96)","v":""},"",{"$f":"IF(COUNTIF(G$2:G74,G74)=1,G74,\"\")","v":""},{"$nulls":39},{"$f":"+IF(AX74=\"\",\"\",MAX(AW$1:AW73)+1)","v":""},{"$f":"IF(Compliance_Options!B96=\"\",\"\",Compliance_Options!B96)","v":""},{"$f":"IF(Compliance_Options!C96=\"\",\"\",Compliance_Options!C96)","v":""},{"$f":"IF(Compliance_Options!D96=\"\",\"\",Compliance_Options!D96)","v":""},{"$f":"IF(Compliance_Options!E96=\"\",\"\",Compliance_Options!E96)","v":""},{"$f":"IF(Compliance_Options!F96=\"\",\"\",Compliance_Options!F96)","v":""},"    ",{"$f":"IF(COUNTIF(BC$2:BC74,BC74)=1,BC74,\"\")","v":""},"","","","","","","",{"$f":"+IF(BK74=\"\",\"\",MAX(BL$1:BL73)+1)","v":""},"","","","","","","",{"$f":"+IF(BS74=\"\",\"\",MAX(BT$1:BT73)+1)","v":""},"","","","","","","",{"$f":"+IF(CA74=\"\",\"\",MAX(CB$1:CB73)+1)","v":""},"","","","","","","",{"$f":"+IF(CI74=\"\",\"\",MAX(CJ$1:CJ73)+1)","v":""},"","","","","",null,{"$f":"+IF(CR74=\"\",\"\",MAX(CQ$1:CQ73)+1)","v":""},{"$f":"IF(Compliance_Options!B96=\"\",\"\",Compliance_Options!B96)","v":""},{"$f":"IF(Compliance_Options!C96=\"\",\"\",Compliance_Options!C96)","v":""},{"$f":"IF(Compliance_Options!D96=\"\",\"\",Compliance_Options!D96)","v":""},"  ",{"$f":"IF(COUNTIF(CU$2:CU74,CU74)=1,CU74,\"\")","v":""},"","","",""]
[{"$nulls":5},{"$f":"+IF(I75=\"\",\"\",MAX(F$1:F74)+1)","v":""},{"$f":"IF(Compliance_Options!C97=\"\",\"\",Compliance_Options!C97)","v":""},"",{"$f":"IF(COUNTIF(G$2:G75,G75)=1,G75,\"\")","v":""},{"$nulls":39},{"$f":"+IF(AX75=\"\",\"\",MAX(AW$1:AW74)+1)","v":""},{"$f":"IF(Compliance_Options!B97=\"\",\"\",Compliance_Options!B97)","v":""},{"$f":"IF(Compliance_Options!C97=\"\",\"\",Compliance_Options!C97)","v":""},{"$f":"IF(Compliance_Options!D97=\"\",\"\",Compliance_Options!D97)","v":""},{"$f":"IF(Compliance_Options!E97=\"\",\"\",Compliance_Options!E97)","v":""},{"$f":"IF(Compliance_Options!F97=\"\",\"\",Compliance_Options!F97)","v":""},"    ",{"$f":"IF(COUNTIF(BC$2:BC75,BC75)=1,BC75,\"\")","v":""},"","","","","","","",{"$f":"+IF(BK75=\"\",\"\",MAX(BL$1:BL74)+1)","v":""},"","","","","","","",{"$f":"+IF(BS75=\"\",\"\",MAX(BT$1:BT74)+1)","v":""},"","","","","","","",{"$f":"+IF(CA75=\"\",\"\",MAX(CB$1:CB74)+1)","v":""},"","","","","","","",{"$f":"+IF(CI75=\"\",\"\",MAX(CJ$1:CJ74)+1)","v":""},"","","","","",null,{"$f":"+IF(CR75=\"\",\"\",MAX(CQ$1:CQ74)+1)","v":""},{"$f":"IF(Compliance_Options!B97=\"\",\"\",Compliance_Options!B97)","v":""},{"$f":"IF(Compliance_Options!C97=\"\",\"\",Compliance_Options!C97)","v":""},{"$f":"IF(Compliance_Options!D97=\"\",\"\",Compliance_Options!D97)","v":""},"  ",{"$f":"IF(COUNTIF(CU$2:CU75,CU75)=1,CU75,\"\")","v":""},"","","",""]
[{"$nulls":5},{"$f":"+IF(I76=\"\",\"\",MAX(F$1:F75)+1)","v":""},{"$f":"IF(Compliance_Options!C98=\"\",\"\",Compliance_Options!C98)","v":""},"",{"$f":"IF(COUNTIF(G$2:G76,G76)=1,G76,\"\")","v":""},{"$nulls":39},{"$f":"+IF(AX76=\"\",\"\",MAX(AW$1:AW75)+1)","v":""},{"$f":"IF(Compliance_Options!B98=\"\",\"\",Compliance_Options!B98)","v":""},{"$f":"IF(Compliance_Options!C98=\"\",\"\",Compliance_Options!C98)","v":""},{"$f":"IF(Compliance_Options!D98=\"\",\"\",Compliance_Options!D98)","v":""},{"$f":"IF(Compliance_Options!E98=\"\",\"\",Compliance_Options!E98)","v":""},{"$f":"IF(Compliance_Options!F98=\"\",\"\",Compliance_Options!F98)","v":""},"    ",{"$f":"IF(COUNTIF(BC$2:BC76,BC76)=1,BC76,\"\")","v":""},"","","","","","","",{"$f":"+IF(BK76=\"\",\"\",MAX(BL$1:BL75)+1)","v":""},"","","","","","","",{"$f":"+IF(BS76=\"\",\"\",MAX(BT$1:BT75)+1)","v":""},"","","","","","","",{"$f":"+IF(CA76=\"\",\"\",MAX(CB$1:CB75)+1)","v":""},"","","","","","","",{"$f":"+IF(CI76=\"\",\"\",MAX(CJ$1:CJ75)+1)","v":""},"","","","","",null,{"$f":"+IF(CR76=\"\",\"\",MAX(CQ$1:CQ75)+1)","v":""},{"$f":"IF(Compliance_Options!B98=\"\",\"\",Compliance_Options!B98)","v":""},{"$f":"IF(Compliance_Options!C98=\"\",\"\",Compliance_Options!C98)","v":""},{"$f":"IF(Compliance_Options!D98=\"\",\"\",Compliance_Options!D98)","v":""},"  ",{"$f":"IF(COUNTIF(CU$2:CU76,CU76)=1,CU76,\"\")","v":""},"","","",""]
[{"$nulls":5},{"$f":"+IF(I77=\"\",\"\",MAX(F$1:F76)+1)","v":""},{"$f":"IF(Compliance_Options!C99=\"\",\"\",Compliance_Options!C99)","v":""},"",{"$f":"IF(COUNTIF(G$2:G77,G77)=1,G77,\"\")","v":""},{"$nulls":39},{"$f":"+IF(AX77=\"\",\"\",MAX(AW$1:AW76)+1)","v":""},{"$f":"IF(Compliance_Options!B99=\"\",\"\",Compliance_Options!B99)","v":""},{"$f":"IF(Compliance_Options!C99=\"\",\"\",Compliance_Options!C99)","v":""},{"$f":"IF(Compliance_Options!D99=\"\",\"\",Compliance_Options!D99)","v":""},{"$f":"IF(Compliance_Options!E99=\"\",\"\",Compliance_Options!E99)","v":""},{"$f":"IF(Compliance_Options!F99=\"\",\"\",Compliance_Options!F99)","v":""},"    ",{"$f":"IF(COUNTIF(BC$2:BC77,BC77)=1,BC77,\"\")","v":""},"","","","","","","",{"$f":"+IF(BK77=\"\",\"\",MAX(BL$1:BL76)+1)","v":""},"","","","","","","",{"$f":"+IF(BS77=\"\",\"\",MAX(BT$1:BT76)+1)","v":""},"","","","","","","",{"$f":"+IF(CA77=\"\",\"\",MAX(CB$1:CB76)+1)","v":""},"","","","","","","",{"$f":"+IF(CI77=\"\",\"\",MAX(CJ$1:CJ76)+1)","v":""},"","","","","",null,{"$f":"+IF(CR77=\"\",\"\",MAX(CQ$1:CQ76)+1)","v":""},{"$f":"IF(Compliance_Options!B99=\"\",\"\",Compliance_Options!B99)","v":""},{"$f":"IF(Compliance_Options!C99=\"\",\"\",Compliance_Options!C99)","v":""},{"$f":"IF(Compliance_Options!D99=\"\",\"\",Compliance_Options!D99)","v":""},"  ",{"$f":"IF(COUNTIF(CU$2:CU77,CU77)=1,CU77,\"\")","v":""},"","","",""]
[{"$nulls":5},{"$f":"+IF(I78=\"\",\"\",MAX(F$1:F77)+1)","v":""},{"$f":"IF(Compliance_Options!C100=\"\",\"\",Compliance_Options!C100)","v":""},"",{"$f":"IF(COUNTIF(G$2:G78,G78)=1,G78,\"\")","v":""},{"$nulls":39},{"$f":"+IF(AX78=\"\",\"\",MAX(AW$1:AW77)+1)","v":""},{"$f":"IF(Compliance_Options!B100=\"\",\"\",Compliance_Options!B100)","v":""},{"$f":"IF(Compliance_Options!C100=\"\",\"\",Compliance_Options!C100)","v":""},{"$f":"IF(Compliance_Options!D100=\"\",\"\",Compliance_Options!D100)","v":""},{"$f":"IF(Compliance_Options!E100=\"\",\"\",Compliance_Options!E100)","v":""},{"$f":"IF(Compliance_Options!F100=\"\",\"\",Compliance_Options!F100)","v":""},"    ",{"$f":"IF(COUNTIF(BC$2:BC78,BC78)=1,BC78,\"\")","v":""},"","","","","","","",{"$f":"+IF(BK78=\"\",\"\",MAX(BL$1:BL77)+1)","v":""},"","","","","","","",{"$f":"+IF(BS78=\"\",\"\",MAX(BT$1:BT77)+1)","v":""},"","","","","","","",{"$f":"+IF(CA78=\"\",\"\",MAX(CB$1:CB77)+1)","v":""},"","","","","","","",{"$f":"+IF(CI78=\"\",\"\",MAX(CJ$1:CJ77)+1)","v":""},"","","","","",null,{"$f":"+IF(CR78=\"\",\"\",MAX(CQ$1:CQ77)+1)","v":""},{"$f":"IF(Compliance_Options!B100=\"\",\"\",Compliance_Options!B100)","v":""},{"$f":"IF(Compliance_Options!C100=\"\",\"\",Compliance_Options!C100)","v":""},{"$f":"IF(Compliance_Options!D100=\"\",\"\",Compliance_Options!D100)","v":""},"  ",{"$f":"IF(COUNTIF(CU$2:CU78,CU78)=1,CU78,\"\")","v":""},"","","",""]
[{"$nulls":48},{"$f":"+IF(AX79=\"\",\"\",MAX(AW$1:AW78)+1)","v":""},{"$f":"IF(Compliance_Options!B101=\"\",\"\",Compliance_Options!B101)","v":""},{"$f":"IF(Compliance_Options!C101=\"\",\"\",Compliance_Options!C101)","v":""},{"$f":"IF(Compliance_Options!D101=\"\",\"\",Compliance_Options!D101)","v":""},{"$f":"IF(Compliance_Options!E101=\"\",\"\",Compliance_Options!E101)","v":""},{"$f":"IF(Compliance_Options!F101=\"\",\"\",Compliance_Options!F101)","v":""},"    ",{"$f":"IF(COUNTIF(BC$2:BC79,BC79)=1,BC79,\"\")","v":""},"","","","","","","",{"$f":"+IF(BK79=\"\",\"\",MAX(BL$1:BL78)+1)","v":""},"","","","","","","",{"$f":"+IF(BS79=\"\",\"\",MAX(BT$1:BT78)+1)","v":""},"","","","","","","",{"$f":"+IF(CA79=\"\",\"\",MAX(CB$1:CB78)+1)","v":""},"","","","","","","",{"$f":"+IF(CI79=\"\",\"\",MAX(CJ$1:CJ78)+1)","v":""},"","","","","",null,{"$f":"+IF(CR79=\"\",\"\",MAX(CQ$1:CQ78)+1)","v":""},{"$f":"IF(Compliance_Options!B101=\"\",\"\",Compliance_Options!B101)","v":""},{"$f":"IF(Compliance_Options!C101=\"\",\"\",Compliance_Options!C101)","v":""},{"$f":"IF(Compliance_Options!D101=\"\",\"\",Compliance_Options!D101)","v":""},"  ",{"$f":"IF(COUNTIF(CU$2:CU79,CU79)=1,CU79,\"\")","v":""},"","","",""]
[{"$nulls":48},{"$f":"+IF(AX80=\"\",\"\",MAX(AW$1:AW79)+1)","v":""},{"$f":"IF(Compliance_Options!B102=\"\",\"\",Compliance_Options!B102)","v":""},{"$f":"IF(Compliance_Options!C102=\"\",\"\",Compliance_Options!C102)","v":""},{"$f":"IF(Compliance_Options!D102=\"\",\"\",Compliance_Options!D102)","v":""},{"$f":"IF(Compliance_Options!E102=\"\",\"\",Compliance_Options!E102)","v":""},{"$f":"IF(Compliance_Options!F102=\"\",\"\",Compliance_Options!F102)","v":""},"    ",{"$f":"IF(COUNTIF(BC$2:BC80,BC80)=1,BC80,\"\")","v":""},"","","","","","","",{"$f":"+IF(BK80=\"\",\"\",MAX(BL$1:BL79)+1)","v":""},"","","","","","","",{"$f":"+IF(BS80=\"\",\"\",MAX(BT$1:BT79)+1)","v":""},"","","","","","","",{"$f":"+IF(CA80=\"\",\"\",MAX(CB$1:CB79)+1)","v":""},"","","","","","","",{"$f":"+IF(CI80=\"\",\"\",MAX(CJ$1:CJ79)+1)","v":""},"","","","","",null,{"$f":"+IF(CR80=\"\",\"\",MAX(CQ$1:CQ79)+1)","v":""},{"$f":"IF(Compliance_Options!B102=\"\",\"\",Compliance_Options!B102)","v":""},{"$f":"IF(Compliance_Options!C102=\"\",\"\",Compliance_Options!C102)","v":""},{"$f":"IF(Compliance_Options!D102=\"\",\"\",Compliance_Options!D102)","v":""},"  ",{"$f":"IF(COUNTIF(CU$2:CU80,CU80)=1,CU80,\"\")","v":""},"","","",""]
[{"$nulls":48},{"$f":"+IF(AX81=\"\",\"\",MAX(AW$1:AW80)+1)","v":""},{"$f":"IF(Compliance_Options!B103=\"\",\"\",Compliance_Options!B103)","v":""},{"$f":"IF(Compliance_Options!C103=\"\",\"\",Compliance_Options!C103)","v":""},{"$f":"IF(Compliance_Options!D103=\"\",\"\",Compliance_Options!D103)","v":""},{"$f":"IF(Compliance_Options!E103=\"\",\"\",Compliance_Options!E103)","v":""},{"$f":"IF(Compliance_Options!F103=\"\",\"\",Compliance_Options!F103)","v":""},"    ",{"$f":"IF(COUNTIF(BC$2:BC81,BC81)=1,BC81,\"\")","v":""},"","","","","","","",{"$f":"+IF(BK81=\"\",\"\",MAX(BL$1:BL80)+1)","v":""},"","","","","","","",{"$f":"+IF(BS81=\"\",\"\",MAX(BT$1:BT80)+1)","v":""},"","","","","","","",{"$f":"+IF(CA81=\"\",\"\",MAX(CB$1:CB80)+1)","v":""},"","","","","","","",{"$f":"+IF(CI81=\"\",\"\",MAX(CJ$1:CJ80)+1)","v":""},"","","","","",null,{"$f":"+IF(CR81=\"\",\"\",MAX(CQ$1:CQ80)+1)","v":""},{"$f":"IF(Compliance_Options!B103=\"\",\"\",Compliance_Options!B103)","v":""},{"$f":"IF(Compliance_Options!C103=\"\",\"\",Compliance_Options!C103)","v":""},{"$f":"IF(Compliance_Options!D103=\"\",\"\",Compliance_Options!D103)","v":""},"  ",{"$f":"IF(COUNTIF(CU$2:CU81,CU81)=1,CU81,\"\")","v":""},"","","",""]
[{"$nulls":48},{"$f":"+IF(AX82=\"\",\"\",MAX(AW$1:AW81)+1)","v":""},{"$f":"IF(Compliance_Options!B104=\"\",\"\",Compliance_Options!B104)","v":""},{"$f":"IF(Compliance_Options!C104=\"\",\"\",Compliance_Options!C104)","v":""},{"$f":"IF(Compliance_Options!D104=\"\",\"\",Compliance_Options!D104)","v":""},{"$f":"IF(Compliance_Options!E104=\"\",\"\",Compliance_Options!E104)","v":""},{"$f":"IF(Compliance_Options!F104=\"\",\"\",Compliance_Options!F104)","v":""},"    ",{"$f":"IF(COUNTIF(BC$2:BC82,BC82)=1,BC82,\"\")","v":""},"","","","","","","",{"$f":"+IF(BK82=\"\",\"\",MAX(BL$1:BL81)+1)","v":""},"","","","","","","",{"$f":"+IF(BS82=\"\",\"\",MAX(BT$1:BT81)+1)","v":""},"","","","","","","",{"$f":"+IF(CA82=\"\",\"\",MAX(CB$1:CB81)+1)","v":""},"","","","","","","",{"$f":"+IF(CI82=\"\",\"\",MAX(CJ$1:CJ81)+1)","v":""},"","","","","",null,{"$f":"+IF(CR82=\"\",\"\",MAX(CQ$1:CQ81)+1)","v":""},{"$f":"IF(Compliance_Options!B104=\"\",\"\",Compliance_Options!B104)","v":""},{"$f":"IF(Compliance_Options!C104=\"\",\"\",Compliance_Options!C104)","v":""},{"$f":"IF(Compliance_Options!D104=\"\",\"\",Compliance_Options!D104)","v":""},"  ",{"$f":"IF(COUNTIF(CU$2:CU82,CU82)=1,CU82,\"\")","v":""},"","","",""]
[{"$nulls":48},{"$f":"+IF(AX83=\"\",\"\",MAX(AW$1:AW82)+1)","v":""},{"$f":"IF(Compliance_Options!B105=\"\",\"\",Compliance_Options!B105)","v":""},{"$f":"IF(Compliance_Options!C105=\"\",\"\",Compliance_Options!C105)","v":""},{"$f":"IF(Compliance_Options!D105=\"\",\"\",Compliance_Options!D105)","v":""},{"$f":"IF(Compliance_Options!E105=\"\",\"\",Compliance_Options!E105)","v":""},{"$f":"IF(Compliance_Options!F105=\"\",\"\",Compliance_Options!F105)","v":""},"    ",{"$f":"IF(COUNTIF(BC$2:BC83,BC83)=1,BC83,\"\")","v":""},"","","","","","","",{"$f":"+IF(BK83=\"\",\"\",MAX(BL$1:BL82)+1)","v":""},"","","","","","","",{"$f":"+IF(BS83=\"\",\"\",MAX(BT$1:BT82)+1)","v":""},"","","","","","","",{"$f":"+IF(CA83=\"\",\"\",MAX(CB$1:CB82)+1)","v":""},"","","","","","","",{"$f":"+IF(CI83=\"\",\"\",MAX(CJ$1:CJ82)+1)","v":""},"","","","","",null,{"$f":"+IF(CR83=\"\",\"\",MAX(CQ$1:CQ82)+1)","v":""},{"$f":"IF(Compliance_Options!B105=\"\",\"\",Compliance_Options!B105)","v":""},{"$f":"IF(Compliance_Options!C105=\"\",\"\",Compliance_Options!C105)","v":""},{"$f":"IF(Compliance_Options!D105=\"\",\"\",Compliance_Options!D105)","v":""},"  ",{"$f":"IF(COUNTIF(CU$2:CU83,CU83)=1,CU83,\"\")","v":""},"","","",""]
[{"$nulls":48},{"$f":"+IF(AX84=\"\",\"\",MAX(AW$1:AW83)+1)","v":""},{"$f":"IF(Compliance_Options!B106=\"\",\"\",Compliance_Options!B106)","v":""},{"$f":"IF(Compliance_Options!C106=\"\",\"\",Compliance_Options!C106)","v":""},{"$f":"IF(Compliance_Options!D106=\"\",\"\",Compliance_Options!D106)","v":""},{"$f":"IF(Compliance_Options!E106=\"\",\"\",Compliance_Options!E106)","v":""},{"$f":"IF(Compliance_Options!F106=\"\",\"\",Compliance_Options!F106)","v":""},"    ",{"$f":"IF(COUNTIF(BC$2:BC84,BC84)=1,BC84,\"\")","v":""},"","","","","","","",{"$f":"+IF(BK84=\"\",\"\",MAX(BL$1:BL83)+1)","v":""},"","","","","","","",{"$f":"+IF(BS84=\"\",\"\",MAX(BT$1:BT83)+1)","v":""},"","","","","","","",{"$f":"+IF(CA84=\"\",\"\",MAX(CB$1:CB83)+1)","v":""},"","","","","","","",{"$f":"+IF(CI84=\"\",\"\",MAX(CJ$1:CJ83)+1)","v":""},"","","","","",null,{"$f":"+IF(CR84=\"\",\"\",MAX(CQ$1:CQ83)+1)","v":""},{"$f":"IF(Compliance_Options!B106=\"\",\"\",Compliance_Options!B106)","v":""},{"$f":"IF(Compliance_Options!C106=\"\",\"\",Compliance_Options!C106)","v":""},{"$f":"IF(Compliance_Options!D106=\"\",\"\",Compliance_Options!D106)","v":""},"  ",{"$f":"IF(COUNTIF(CU$2:CU84,CU84)=1,CU84,\"\")","v":""},"","","",""]
[{"$nulls":48},{"$f":"+IF(AX85=\"\",\"\",MAX(AW$1:AW84)+1)","v":""},{"$f":"IF(Compliance_Options!B107=\"\",\"\",Compliance_Options!B107)","v":""},{"$f":"IF(Compliance_Options!C107=\"\",\"\",Compliance_Options!C107)","v":""},{"$f":"IF(Compliance_Options!D107=\"\",\"\",Compliance_Options!D107)","v":""},{"$f":"IF(Compliance_Options!E107=\"\",\"\",Compliance_Options!E107)","v":""},{"$f":"IF(Compliance_Options!F107=\"\",\"\",Compliance_Options!F107)","v":""},"    ",{"$f":"IF(COUNTIF(BC$2:BC85,BC85)=1,BC85,\"\")","v":""},"","","","","","","",{"$f":"+IF(BK85=\"\",\"\",MAX(BL$1:BL84)+1)","v":""},"","","","","","","",{"$f":"+IF(BS85=\"\",\"\",MAX(BT$1:BT84)+1)","v":""},"","","","","","","",{"$f":"+IF(CA85=\"\",\"\",MAX(CB$1:CB84)+1)","v":""},"","","","","","","",{"$f":"+IF(CI85=\"\",\"\",MAX(CJ$1:CJ84)+1)","v":""},"","","","","",null,{"$f":"+IF(CR85=\"\",\"\",MAX(CQ$1:CQ84)+1)","v":""},{"$f":"IF(Compliance_Options!B107=\"\",\"\",Compliance_Options!B107)","v":""},{"$f":"IF(Compliance_Options!C107=\"\",\"\",Compliance_Options!C107)","v":""},{"$f":"IF(Compliance_Options!D107=\"\",\"\",Compliance_Options!D107)","v":""},"  ",{"$f":"IF(COUNTIF(CU$2:CU85,CU85)=1,CU85,\"\")","v":""},"","","",""]
[{"$nulls":48},{"$f":"+IF(AX86=\"\",\"\",MAX(AW$1:AW85)+1)","v":""},{"$f":"IF(Compliance_Options!B108=\"\",\"\",Compliance_Options!B108)","v":""},{"$f":"IF(Compliance_Options!C108=\"\",\"\",Compliance_Options!C108)","v":""},{"$f":"IF(Compliance_Options!D108=\"\",\"\",Compliance_Options!D108)","v":""},{"$f":"IF(Compliance_Options!E108=\"\",\"\",Compliance_Options!E108)","v":""},{"$f":"IF(Compliance_Options!F108=\"\",\"\",Compliance_Options!F108)","v":""},"    ",{"$f":"IF(COUNTIF(BC$2:BC86,BC86)=1,BC86,\"\")","v":""},"","","","","","","",{"$f":"+IF(BK86=\"\",\"\",MAX(BL$1:BL85)+1)","v":""},"","","","","","","",{"$f":"+IF(BS86=\"\",\"\",MAX(BT$1:BT85)+1)","v":""},"","","","","","","",{"$f":"+IF(CA86=\"\",\"\",MAX(CB$1:CB85)+1)","v":""},"","","","","","","",{"$f":"+IF(CI86=\"\",\"\",MAX(CJ$1:CJ85)+1)","v":""},"","","","","",null,{"$f":"+IF(CR86=\"\",\"\",MAX(CQ$1:CQ85)+1)","v":""},{"$f":"IF(Compliance_Options!B108=\"\",\"\",Compliance_Options!B108)","v":""},{"$f":"IF(Compliance_Options!C108=\"\",\"\",Compliance_Options!C108)","v":""},{"$f":"IF(Compliance_Options!D108=\"\",\"\",Compliance_Options!D108)","v":""},"  ",{"$f":"IF(COUNTIF(CU$2:CU86,CU86)=1,CU86,\"\")","v":""},"","","",""]
[{"$nulls":48},{"$f":"+IF(AX87=\"\",\"\",MAX(AW$1:AW86)+1)","v":""},{"$f":"IF(Compliance_Options!B109=\"\",\"\",Compliance_Options!B109)","v":""},{"$f":"IF(Compliance_Options!C109=\"\",\"\",Compliance_Options!C109)","v":""},{"$f":"IF(Compliance_Options!D109=\"\",\"\",Compliance_Options!D109)","v":""},{"$f":"IF(Compliance_Options!E109=\"\",\"\",Compliance_Options!E109)","v":""},{"$f":"IF(Compliance_Options!F109=\"\",\"\",Compliance_Options!F109)","v":""},"    ",{"$f":"IF(COUNTIF(BC$2:BC87,BC87)=1,BC87,\"\")","v":""},"","","","","","","",{"$f":"+IF(BK87=\"\",\"\",MAX(BL$1:BL86)+1)","v":""},"","","","","","","",{"$f":"+IF(BS87=\"\",\"\",MAX(BT$1:BT86)+1)","v":""},"","","","","","","",{"$f":"+IF(CA87=\"\",\"\",MAX(CB$1:CB86)+1)","v":""},"","","","","","","",{"$f":"+IF(CI87=\"\",\"\",MAX(CJ$1:CJ86)+1)","v":""},"","","","","",null,{"$f":"+IF(CR87=\"\",\"\",MAX(CQ$1:CQ86)+1)","v":""},{"$f":"IF(Compliance_Options!B109=\"\",\"\",Compliance_Options!B109)","v":""},{"$f":"IF(Compliance_Options!C109=\"\",\"\",Compliance_Options!C109)","v":""},{"$f":"IF(Compliance_Options!D109=\"\",\"\",Compliance_Options!D109)","v":""},"  ",{"$f":"IF(COUNTIF(CU$2:CU87,CU87)=1,CU87,\"\")","v":""},"","","",""]
[{"$nulls":48},{"$f":"+IF(AX88=\"\",\"\",MAX(AW$1:AW87)+1)","v":""},{"$f":"IF(Compliance_Options!B110=\"\",\"\",Compliance_Options!B110)","v":""},{"$f":"IF(Compliance_Options!C110=\"\",\"\",Compliance_Options!C110)","v":""},{"$f":"IF(Compliance_Options!D110=\"\",\"\",Compliance_Options!D110)","v":""},{"$f":"IF(Compliance_Options!E110=\"\",\"\",Compliance_Options!E110)","v":""},{"$f":"IF(Compliance_Options!F110=\"\",\"\",Compliance_Options!F110)","v":""},"    ",{"$f":"IF(COUNTIF(BC$2:BC88,BC88)=1,BC88,\"\")","v":""},"","","","","","","",{"$f":"+IF(BK88=\"\",\"\",MAX(BL$1:BL87)+1)","v":""},"","","","","","","",{"$f":"+IF(BS88=\"\",\"\",MAX(BT$1:BT87)+1)","v":""},"","","","","","","",{"$f":"+IF(CA88=\"\",\"\",MAX(CB$1:CB87)+1)","v":""},"","","","","","","",{"$f":"+IF(CI88=\"\",\"\",MAX(CJ$1:CJ87)+1)","v":""},"","","","","",null,{"$f":"+IF(CR88=\"\",\"\",MAX(CQ$1:CQ87)+1)","v":""},{"$f":"IF(Compliance_Options!B110=\"\",\"\",Compliance_Options!B110)","v":""},{"$f":"IF(Compliance_Options!C110=\"\",\"\",Compliance_Options!C110)","v":""},{"$f":"IF(Compliance_Options!D110=\"\",\"\",Compliance_Options!D110)","v":""},"  ",{"$f":"IF(COUNTIF(CU$2:CU88,CU88)=1,CU88,\"\")","v":""},"","","",""]
[{"$nulls":48},{"$f":"+IF(AX89=\"\",\"\",MAX(AW$1:AW88)+1)","v":""},{"$f":"IF(Compliance_Options!B111=\"\",\"\",Compliance_Options!B111)","v":""},{"$f":"IF(Compliance_Options!C111=\"\",\"\",Compliance_Options!C111)","v":""},{"$f":"IF(Compliance_Options!D111=\"\",\"\",Compliance_Options!D111)","v":""},{"$f":"IF(Compliance_Options!E111=\"\",\"\",Compliance_Options!E111)","v":""},{"$f":"IF(Compliance_Options!F111=\"\",\"\",Compliance_Options!F111)","v":""},"    ",{"$f":"IF(COUNTIF(BC$2:BC89,BC89)=1,BC89,\"\")","v":""},"","","","","","","",{"$f":"+IF(BK89=\"\",\"\",MAX(BL$1:BL88)+1)","v":""},"","","","","","","",{"$f":"+IF(BS89=\"\",\"\",MAX(BT$1:BT88)+1)","v":""},"","","","","","","",{"$f":"+IF(CA89=\"\",\"\",MAX(CB$1:CB88)+1)","v":""},"","","","","","","",{"$f":"+IF(CI89=\"\",\"\",MAX(CJ$1:CJ88)+1)","v":""},"","","","","",null,{"$f":"+IF(CR89=\"\",\"\",MAX(CQ$1:CQ88)+1)","v":""},{"$f":"IF(Compliance_Options!B111=\"\",\"\",Compliance_Options!B111)","v":""},{"$f":"IF(Compliance_Options!C111=\"\",\"\",Compliance_Options!C111)","v":""},{"$f":"IF(Compliance_Options!D111=\"\",\"\",Compliance_Options!D111)","v":""},"  ",{"$f":"IF(COUNTIF(CU$2:CU89,CU89)=1,CU89,\"\")","v":""},"","","",""]
[{"$nulls":48},{"$f":"+IF(AX90=\"\",\"\",MAX(AW$1:AW89)+1)","v":""},{"$f":"IF(Compliance_Options!B112=\"\",\"\",Compliance_Options!B112)","v":""},{"$f":"IF(Compliance_Options!C112=\"\",\"\",Compliance_Options!C112)","v":""},{"$f":"IF(Compliance_Options!D112=\"\",\"\",Compliance_Options!D112)","v":""},{"$f":"IF(Compliance_Options!E112=\"\",\"\",Compliance_Options!E112)","v":""},{"$f":"IF(Compliance_Options!F112=\"\",\"\",Compliance_Options!F112)","v":""},"    ",{"$f":"IF(COUNTIF(BC$2:BC90,BC90)=1,BC90,\"\")","v":""},"","","","","","","",{"$f":"+IF(BK90=\"\",\"\",MAX(BL$1:BL89)+1)","v":""},"","","","","","","",{"$f":"+IF(BS90=\"\",\"\",MAX(BT$1:BT89)+1)","v":""},"","","","","","","",{"$f":"+IF(CA90=\"\",\"\",MAX(CB$1:CB89)+1)","v":""},"","","","","","","",{"$f":"+IF(CI90=\"\",\"\",MAX(CJ$1:CJ89)+1)","v":""},"","","","","",null,{"$f":"+IF(CR90=\"\",\"\",MAX(CQ$1:CQ89)+1)","v":""},{"$f":"IF(Compliance_Options!B112=\"\",\"\",Compliance_Options!B112)","v":""},{"$f":"IF(Compliance_Options!C112=\"\",\"\",Compliance_Options!C112)","v":""},{"$f":"IF(Compliance_Options!D112=\"\",\"\",Compliance_Options!D112)","v":""},"  ",{"$f":"IF(COUNTIF(CU$2:CU90,CU90)=1,CU90,\"\")","v":""},"","","",""]
[{"$nulls":48},{"$f":"+IF(AX91=\"\",\"\",MAX(AW$1:AW90)+1)","v":""},{"$f":"IF(Compliance_Options!B113=\"\",\"\",Compliance_Options!B113)","v":""},{"$f":"IF(Compliance_Options!C113=\"\",\"\",Compliance_Options!C113)","v":""},{"$f":"IF(Compliance_Options!D113=\"\",\"\",Compliance_Options!D113)","v":""},{"$f":"IF(Compliance_Options!E113=\"\",\"\",Compliance_Options!E113)","v":""},{"$f":"IF(Compliance_Options!F113=\"\",\"\",Compliance_Options!F113)","v":""},"    ",{"$f":"IF(COUNTIF(BC$2:BC91,BC91)=1,BC91,\"\")","v":""},"","","","","","","",{"$f":"+IF(BK91=\"\",\"\",MAX(BL$1:BL90)+1)","v":""},"","","","","","","",{"$f":"+IF(BS91=\"\",\"\",MAX(BT$1:BT90)+1)","v":""},"","","","","","","",{"$f":"+IF(CA91=\"\",\"\",MAX(CB$1:CB90)+1)","v":""},"","","","","","","",{"$f":"+IF(CI91=\"\",\"\",MAX(CJ$1:CJ90)+1)","v":""},"","","","","",null,{"$f":"+IF(CR91=\"\",\"\",MAX(CQ$1:CQ90)+1)","v":""},{"$f":"IF(Compliance_Options!B113=\"\",\"\",Compliance_Options!B113)","v":""},{"$f":"IF(Compliance_Options!C113=\"\",\"\",Compliance_Options!C113)","v":""},{"$f":"IF(Compliance_Options!D113=\"\",\"\",Compliance_Options!D113)","v":""},"  ",{"$f":"IF(COUNTIF(CU$2:CU91,CU91)=1,CU91,\"\")","v":""},"","","",""]
[{"$nulls":48},{"$f":"+IF(AX92=\"\",\"\",MAX(AW$1:AW91)+1)","v":""},{"$f":"IF(Compliance_Options!B114=\"\",\"\",Compliance_Options!B114)","v":""},{"$f":"IF(Compliance_Options!C114=\"\",\"\",Compliance_Options!C114)","v":""},{"$f":"IF(Compliance_Options!D114=\"\",\"\",Compliance_Options!D114)","v":""},{"$f":"IF(Compliance_Options!E114=\"\",\"\",Compliance_Options!E114)","v":""},{"$f":"IF(Compliance_Options!F114=\"\",\"\",Compliance_Options!F114)","v":""},"    ",{"$f":"IF(COUNTIF(BC$2:BC92,BC92)=1,BC92,\"\")","v":""},"","","","","","","",{"$f":"+IF(BK92=\"\",\"\",MAX(BL$1:BL91)+1)","v":""},"","","","","","","",{"$f":"+IF(BS92=\"\",\"\",MAX(BT$1:BT91)+1)","v":""},"","","","","","","",{"$f":"+IF(CA92=\"\",\"\",MAX(CB$1:CB91)+1)","v":""},"","","","","","","",{"$f":"+IF(CI92=\"\",\"\",MAX(CJ$1:CJ91)+1)","v":""},"","","","","",null,{"$f":"+IF(CR92=\"\",\"\",MAX(CQ$1:CQ91)+1)","v":""},{"$f":"IF(Compliance_Options!B114=\"\",\"\",Compliance_Options!B114)","v":""},{"$f":"IF(Compliance_Options!C114=\"\",\"\",Compliance_Options!C114)","v":""},{"$f":"IF(Compliance_Options!D114=\"\",\"\",Compliance_Options!D114)","v":""},"  ",{"$f":"IF(COUNTIF(CU$2:CU92,CU92)=1,CU92,\"\")","v":""},"","","",""]
[{"$nulls":48},{"$f":"+IF(AX93=\"\",\"\",MAX(AW$1:AW92)+1)","v":""},{"$f":"IF(Compliance_Options!B115=\"\",\"\",Compliance_Options!B115)","v":""},{"$f":"IF(Compliance_Options!C115=\"\",\"\",Compliance_Options!C115)","v":""},{"$f":"IF(Compliance_Options!D115=\"\",\"\",Compliance_Options!D115)","v":""},{"$f":"IF(Compliance_Options!E115=\"\",\"\",Compliance_Options!E115)","v":""},{"$f":"IF(Compliance_Options!F115=\"\",\"\",Compliance_Options!F115)","v":""},"    ",{"$f":"IF(COUNTIF(BC$2:BC93,BC93)=1,BC93,\"\")","v":""},"","","","","","","",{"$f":"+IF(BK93=\"\",\"\",MAX(BL$1:BL92)+1)","v":""},"","","","","","","",{"$f":"+IF(BS93=\"\",\"\",MAX(BT$1:BT92)+1)","v":""},"","","","","","","",{"$f":"+IF(CA93=\"\",\"\",MAX(CB$1:CB92)+1)","v":""},"","","","","","","",{"$f":"+IF(CI93=\"\",\"\",MAX(CJ$1:CJ92)+1)","v":""},"","","","","",null,{"$f":"+IF(CR93=\"\",\"\",MAX(CQ$1:CQ92)+1)","v":""},{"$f":"IF(Compliance_Options!B115=\"\",\"\",Compliance_Options!B115)","v":""},{"$f":"IF(Compliance_Options!C115=\"\",\"\",Compliance_Options!C115)","v":""},{"$f":"IF(Compliance_Options!D115=\"\",\"\",Compliance_Options!D115)","v":""},"  ",{"$f":"IF(COUNTIF(CU$2:CU93,CU93)=1,CU93,\"\")","v":""},"","","",""]
[{"$nulls":48},{"$f":"+IF(AX94=\"\",\"\",MAX(AW$1:AW93)+1)","v":""},{"$f":"IF(Compliance_Options!B116=\"\",\"\",Compliance_Options!B116)","v":""},{"$f":"IF(Compliance_Options!C116=\"\",\"\",Compliance_Options!C116)","v":""},{"$f":"IF(Compliance_Options!D116=\"\",\"\",Compliance_Options!D116)","v":""},{"$f":"IF(Compliance_Options!E116=\"\",\"\",Compliance_Options!E116)","v":""},{"$f":"IF(Compliance_Options!F116=\"\",\"\",Compliance_Options!F116)","v":""},"    ",{"$f":"IF(COUNTIF(BC$2:BC94,BC94)=1,BC94,\"\")","v":""},"","","","","","","",{"$f":"+IF(BK94=\"\",\"\",MAX(BL$1:BL93)+1)","v":""},"","","","","","","",{"$f":"+IF(BS94=\"\",\"\",MAX(BT$1:BT93)+1)","v":""},"","","","","","","",{"$f":"+IF(CA94=\"\",\"\",MAX(CB$1:CB93)+1)","v":""},"","","","","","","",{"$f":"+IF(CI94=\"\",\"\",MAX(CJ$1:CJ93)+1)","v":""},"","","","","",null,{"$f":"+IF(CR94=\"\",\"\",MAX(CQ$1:CQ93)+1)","v":""},{"$f":"IF(Compliance_Options!B116=\"\",\"\",Compliance_Options!B116)","v":""},{"$f":"IF(Compliance_Options!C116=\"\",\"\",Compliance_Options!C116)","v":""},{"$f":"IF(Compliance_Options!D116=\"\",\"\",Compliance_Options!D116)","v":""},"  ",{"$f":"IF(COUNTIF(CU$2:CU94,CU94)=1,CU94,\"\")","v":""},"","","",""]
[{"$nulls":48},{"$f":"+IF(AX95=\"\",\"\",MAX(AW$1:AW94)+1)","v":""},{"$f":"IF(Compliance_Options!B117=\"\",\"\",Compliance_Options!B117)","v":""},{"$f":"IF(Compliance_Options!C117=\"\",\"\",Compliance_Options!C117)","v":""},{"$f":"IF(Compliance_Options!D117=\"\",\"\",Compliance_Options!D117)","v":""},{"$f":"IF(Compliance_Options!E117=\"\",\"\",Compliance_Options!E117)","v":""},{"$f":"IF(Compliance_Options!F117=\"\",\"\",Compliance_Options!F117)","v":""},"    ",{"$f":"IF(COUNTIF(BC$2:BC95,BC95)=1,BC95,\"\")","v":""},"","","","","","","",{"$f":"+IF(BK95=\"\",\"\",MAX(BL$1:BL94)+1)","v":""},"","","","","","","",{"$f":"+IF(BS95=\"\",\"\",MAX(BT$1:BT94)+1)","v":""},"","","","","","","",{"$f":"+IF(CA95=\"\",\"\",MAX(CB$1:CB94)+1)","v":""},"","","","","","","",{"$f":"+IF(CI95=\"\",\"\",MAX(CJ$1:CJ94)+1)","v":""},"","","","","",null,{"$f":"+IF(CR95=\"\",\"\",MAX(CQ$1:CQ94)+1)","v":""},{"$f":"IF(Compliance_Options!B117=\"\",\"\",Compliance_Options!B117)","v":""},{"$f":"IF(Compliance_Options!C117=\"\",\"\",Compliance_Options!C117)","v":""},{"$f":"IF(Compliance_Options!D117=\"\",\"\",Compliance_Options!D117)","v":""},"  ",{"$f":"IF(COUNTIF(CU$2:CU95,CU95)=1,CU95,\"\")","v":""},"","","",""]
[{"$nulls":48},{"$f":"+IF(AX96=\"\",\"\",MAX(AW$1:AW95)+1)","v":""},{"$f":"IF(Compliance_Options!B118=\"\",\"\",Compliance_Options!B118)","v":""},{"$f":"IF(Compliance_Options!C118=\"\",\"\",Compliance_Options!C118)","v":""},{"$f":"IF(Compliance_Options!D118=\"\",\"\",Compliance_Options!D118)","v":""},{"$f":"IF(Compliance_Options!E118=\"\",\"\",Compliance_Options!E118)","v":""},{"$f":"IF(Compliance_Options!F118=\"\",\"\",Compliance_Options!F118)","v":""},"    ",{"$f":"IF(COUNTIF(BC$2:BC96,BC96)=1,BC96,\"\")","v":""},"","","","","","","",{"$f":"+IF(BK96=\"\",\"\",MAX(BL$1:BL95)+1)","v":""},"","","","","","","",{"$f":"+IF(BS96=\"\",\"\",MAX(BT$1:BT95)+1)","v":""},"","","","","","","",{"$f":"+IF(CA96=\"\",\"\",MAX(CB$1:CB95)+1)","v":""},"","","","","","","",{"$f":"+IF(CI96=\"\",\"\",MAX(CJ$1:CJ95)+1)","v":""},"","","","","",null,{"$f":"+IF(CR96=\"\",\"\",MAX(CQ$1:CQ95)+1)","v":""},{"$f":"IF(Compliance_Options!B118=\"\",\"\",Compliance_Options!B118)","v":""},{"$f":"IF(Compliance_Options!C118=\"\",\"\",Compliance_Options!C118)","v":""},{"$f":"IF(Compliance_Options!D118=\"\",\"\",Compliance_Options!D118)","v":""},"  ",{"$f":"IF(COUNTIF(CU$2:CU96,CU96)=1,CU96,\"\")","v":""},"","","",""]
[{"$nulls":48},{"$f":"+IF(AX97=\"\",\"\",MAX(AW$1:AW96)+1)","v":""},{"$f":"IF(Compliance_Options!B119=\"\",\"\",Compliance_Options!B119)","v":""},{"$f":"IF(Compliance_Options!C119=\"\",\"\",Compliance_Options!C119)","v":""},{"$f":"IF(Compliance_Options!D119=\"\",\"\",Compliance_Options!D119)","v":""},{"$f":"IF(Compliance_Options!E119=\"\",\"\",Compliance_Options!E119)","v":""},{"$f":"IF(Compliance_Options!F119=\"\",\"\",Compliance_Options!F119)","v":""},"    ",{"$f":"IF(COUNTIF(BC$2:BC97,BC97)=1,BC97,\"\")","v":""},"","","","","","","",{"$f":"+IF(BK97=\"\",\"\",MAX(BL$1:BL96)+1)","v":""},"","","","","","","",{"$f":"+IF(BS97=\"\",\"\",MAX(BT$1:BT96)+1)","v":""},"","","","","","","",{"$f":"+IF(CA97=\"\",\"\",MAX(CB$1:CB96)+1)","v":""},"","","","","","","",{"$f":"+IF(CI97=\"\",\"\",MAX(CJ$1:CJ96)+1)","v":""},"","","","","",null,{"$f":"+IF(CR97=\"\",\"\",MAX(CQ$1:CQ96)+1)","v":""},{"$f":"IF(Compliance_Options!B119=\"\",\"\",Compliance_Options!B119)","v":""},{"$f":"IF(Compliance_Options!C119=\"\",\"\",Compliance_Options!C119)","v":""},{"$f":"IF(Compliance_Options!D119=\"\",\"\",Compliance_Options!D119)","v":""},"  ",{"$f":"IF(COUNTIF(CU$2:CU97,CU97)=1,CU97,\"\")","v":""},"","","",""]
[{"$nulls":48},{"$f":"+IF(AX98=\"\",\"\",MAX(AW$1:AW97)+1)","v":""},{"$f":"IF(Compliance_Options!B120=\"\",\"\",Compliance_Options!B120)","v":""},{"$f":"IF(Compliance_Options!C120=\"\",\"\",Compliance_Options!C120)","v":""},{"$f":"IF(Compliance_Options!D120=\"\",\"\",Compliance_Options!D120)","v":""},{"$f":"IF(Compliance_Options!E120=\"\",\"\",Compliance_Options!E120)","v":""},{"$f":"IF(Compliance_Options!F120=\"\",\"\",Compliance_Options!F120)","v":""},"    ",{"$f":"IF(COUNTIF(BC$2:BC98,BC98)=1,BC98,\"\")","v":""},"","","","","","","",{"$f":"+IF(BK98=\"\",\"\",MAX(BL$1:BL97)+1)","v":""},"","","","","","","",{"$f":"+IF(BS98=\"\",\"\",MAX(BT$1:BT97)+1)","v":""},"","","","","","","",{"$f":"+IF(CA98=\"\",\"\",MAX(CB$1:CB97)+1)","v":""},"","","","","","","",{"$f":"+IF(CI98=\"\",\"\",MAX(CJ$1:CJ97)+1)","v":""},"","","","","",null,{"$f":"+IF(CR98=\"\",\"\",MAX(CQ$1:CQ97)+1)","v":""},{"$f":"IF(Compliance_Options!B120=\"\",\"\",Compliance_Options!B120)","v":""},{"$f":"IF(Compliance_Options!C120=\"\",\"\",Compliance_Options!C120)","v":""},{"$f":"IF(Compliance_Options!D120=\"\",\"\",Compliance_Options!D120)","v":""},"  ",{"$f":"IF(COUNTIF(CU$2:CU98,CU98)=1,CU98,\"\")","v":""},"","","",""]
[{"$nulls":48},{"$f":"+IF(AX99=\"\",\"\",MAX(AW$1:AW98)+1)","v":""},{"$f":"IF(Compliance_Options!B121=\"\",\"\",Compliance_Options!B121)","v":""},{"$f":"IF(Compliance_Options!C121=\"\",\"\",Compliance_Options!C121)","v":""},{"$f":"IF(Compliance_Options!D121=\"\",\"\",Compliance_Options!D121)","v":""},{"$f":"IF(Compliance_Options!E121=\"\",\"\",Compliance_Options!E121)","v":""},{"$f":"IF(Compliance_Options!F121=\"\",\"\",Compliance_Options!F121)","v":""},"    ",{"$f":"IF(COUNTIF(BC$2:BC99,BC99)=1,BC99,\"\")","v":""},"","","","","","","",{"$f":"+IF(BK99=\"\",\"\",MAX(BL$1:BL98)+1)","v":""},"","","","","","","",{"$f":"+IF(BS99=\"\",\"\",MAX(BT$1:BT98)+1)","v":""},"","","","","","","",{"$f":"+IF(CA99=\"\",\"\",MAX(CB$1:CB98)+1)","v":""},"","","","","","","",{"$f":"+IF(CI99=\"\",\"\",MAX(CJ$1:CJ98)+1)","v":""},"","","","","",null,{"$f":"+IF(CR99=\"\",\"\",MAX(CQ$1:CQ98)+1)","v":""},{"$f":"IF(Compliance_Options!B121=\"\",\"\",Compliance_Options!B121)","v":""},{"$f":"IF(Compliance_Options!C121=\"\",\"\",Compliance_Options!C121)","v":""},{"$f":"IF(Compliance_Options!D121=\"\",\"\",Compliance_Options!D121)","v":""},"  ",{"$f":"IF(COUNTIF(CU$2:CU99,CU99)=1,CU99,\"\")","v":""},"","","",""]
[{"$nulls":48},{"$f":"+IF(AX100=\"\",\"\",MAX(AW$1:AW99)+1)","v":""},{"$f":"IF(Compliance_Options!B122=\"\",\"\",Compliance_Options!B122)","v":""},{"$f":"IF(Compliance_Options!C122=\"\",\"\",Compliance_Options!C122)","v":""},{"$f":"IF(Compliance_Options!D122=\"\",\"\",Compliance_Options!D122)","v":""},{"$f":"IF(Compliance_Options!E122=\"\",\"\",Compliance_Options!E122)","v":""},{"$f":"IF(Compliance_Options!F122=\"\",\"\",Compliance_Options!F122)","v":""},"    ",{"$f":"IF(COUNTIF(BC$2:BC100,BC100)=1,BC100,\"\")","v":""},"","","","","","","",{"$f":"+IF(BK100=\"\",\"\",MAX(BL$1:BL99)+1)","v":""},"","","","","","","",{"$f":"+IF(BS100=\"\",\"\",MAX(BT$1:BT99)+1)","v":""},"","","","","","","",{"$f":"+IF(CA100=\"\",\"\",MAX(CB$1:CB99)+1)","v":""},"","","","","","","",{"$f":"+IF(CI100=\"\",\"\",MAX(CJ$1:CJ99)+1)","v":""},"","","","","",null,{"$f":"+IF(CR100=\"\",\"\",MAX(CQ$1:CQ99)+1)","v":""},{"$f":"IF(Compliance_Options!B122=\"\",\"\",Compliance_Options!B122)","v":""},{"$f":"IF(Compliance_Options!C122=\"\",\"\",Compliance_Options!C122)","v":""},{"$f":"IF(Compliance_Options!D122=\"\",\"\",Compliance_Options!D122)","v":""},"  ",{"$f":"IF(COUNTIF(CU$2:CU100,CU100)=1,CU100,\"\")","v":""},"","","",""]
[{"$nulls":48},{"$f":"+IF(AX101=\"\",\"\",MAX(AW$1:AW100)+1)","v":""},{"$f":"IF(Compliance_Options!B123=\"\",\"\",Compliance_Options!B123)","v":""},{"$f":"IF(Compliance_Options!C123=\"\",\"\",Compliance_Options!C123)","v":""},{"$f":"IF(Compliance_Options!D123=\"\",\"\",Compliance_Options!D123)","v":""},{"$f":"IF(Compliance_Options!E123=\"\",\"\",Compliance_Options!E123)","v":""},{"$f":"IF(Compliance_Options!F123=\"\",\"\",Compliance_Options!F123)","v":""},"    ",{"$f":"IF(COUNTIF(BC$2:BC101,BC101)=1,BC101,\"\")","v":""},"","","","","","","",{"$f":"+IF(BK101=\"\",\"\",MAX(BL$1:BL100)+1)","v":""},"","","","","","","",{"$f":"+IF(BS101=\"\",\"\",MAX(BT$1:BT100)+1)","v":""},"","","","","","","",{"$f":"+IF(CA101=\"\",\"\",MAX(CB$1:CB100)+1)","v":""},"","","","","","","",{"$f":"+IF(CI101=\"\",\"\",MAX(CJ$1:CJ100)+1)","v":""},"","","","","",null,{"$f":"+IF(CR101=\"\",\"\",MAX(CQ$1:CQ100)+1)","v":""},{"$f":"IF(Compliance_Options!B123=\"\",\"\",Compliance_Options!B123)","v":""},{"$f":"IF(Compliance_Options!C123=\"\",\"\",Compliance_Options!C123)","v":""},{"$f":"IF(Compliance_Options!D123=\"\",\"\",Compliance_Options!D123)","v":""},"  ",{"$f":"IF(COUNTIF(CU$2:CU101,CU101)=1,CU101,\"\")","v":""},"","","",""]
[{"$nulls":48},{"$f":"+IF(AX102=\"\",\"\",MAX(AW$1:AW101)+1)","v":""},{"$f":"IF(Compliance_Options!B124=\"\",\"\",Compliance_Options!B124)","v":""},{"$f":"IF(Compliance_Options!C124=\"\",\"\",Compliance_Options!C124)","v":""},{"$f":"IF(Compliance_Options!D124=\"\",\"\",Compliance_Options!D124)","v":""},{"$f":"IF(Compliance_Options!E124=\"\",\"\",Compliance_Options!E124)","v":""},{"$f":"IF(Compliance_Options!F124=\"\",\"\",Compliance_Options!F124)","v":""},"    ",{"$f":"IF(COUNTIF(BC$2:BC102,BC102)=1,BC102,\"\")","v":""},"","","","","","","",{"$f":"+IF(BK102=\"\",\"\",MAX(BL$1:BL101)+1)","v":""},"","","","","","","",{"$f":"+IF(BS102=\"\",\"\",MAX(BT$1:BT101)+1)","v":""},"","","","","","","",{"$f":"+IF(CA102=\"\",\"\",MAX(CB$1:CB101)+1)","v":""},"","","","","","","",{"$f":"+IF(CI102=\"\",\"\",MAX(CJ$1:CJ101)+1)","v":""},"","","","","",null,{"$f":"+IF(CR102=\"\",\"\",MAX(CQ$1:CQ101)+1)","v":""},{"$f":"IF(Compliance_Options!B124=\"\",\"\",Compliance_Options!B124)","v":""},{"$f":"IF(Compliance_Options!C124=\"\",\"\",Compliance_Options!C124)","v":""},{"$f":"IF(Compliance_Options!D124=\"\",\"\",Compliance_Options!D124)","v":""},"  ",{"$f":"IF(COUNTIF(CU$2:CU102,CU102)=1,CU102,\"\")","v":""},"","","",""]
[{"$nulls":48},{"$f":"+IF(AX103=\"\",\"\",MAX(AW$1:AW102)+1)","v":""},{"$f":"IF(Compliance_Options!B125=\"\",\"\",Compliance_Options!B125)","v":""},{"$f":"IF(Compliance_Options!C125=\"\",\"\",Compliance_Options!C125)","v":""},{"$f":"IF(Compliance_Options!D125=\"\",\"\",Compliance_Options!D125)","v":""},{"$f":"IF(Compliance_Options!E125=\"\",\"\",Compliance_Options!E125)","v":""},{"$f":"IF(Compliance_Options!F125=\"\",\"\",Compliance_Options!F125)","v":""},"    ",{"$f":"IF(COUNTIF(BC$2:BC103,BC103)=1,BC103,\"\")","v":""},"","","","","","","",{"$f":"+IF(BK103=\"\",\"\",MAX(BL$1:BL102)+1)","v":""},"","","","","","","",{"$f":"+IF(BS103=\"\",\"\",MAX(BT$1:BT102)+1)","v":""},"","","","","","","",{"$f":"+IF(CA103=\"\",\"\",MAX(CB$1:CB102)+1)","v":""},"","","","","","","",{"$f":"+IF(CI103=\"\",\"\",MAX(CJ$1:CJ102)+1)","v":""},"","","","","",null,{"$f":"+IF(CR103=\"\",\"\",MAX(CQ$1:CQ102)+1)","v":""},{"$f":"IF(Compliance_Options!B125=\"\",\"\",Compliance_Options!B125)","v":""},{"$f":"IF(Compliance_Options!C125=\"\",\"\",Compliance_Options!C125)","v":""},{"$f":"IF(Compliance_Options!D125=\"\",\"\",Compliance_Options!D125)","v":""},"  ",{"$f":"IF(COUNTIF(CU$2:CU103,CU103)=1,CU103,\"\")","v":""},"","","",""]
[{"$nulls":48},{"$f":"+IF(AX104=\"\",\"\",MAX(AW$1:AW103)+1)","v":""},{"$f":"IF(Compliance_Options!B126=\"\",\"\",Compliance_Options!B126)","v":""},{"$f":"IF(Compliance_Options!C126=\"\",\"\",Compliance_Options!C126)","v":""},{"$f":"IF(Compliance_Options!D126=\"\",\"\",Compliance_Options!D126)","v":""},{"$f":"IF(Compliance_Options!E126=\"\",\"\",Compliance_Options!E126)","v":""},{"$f":"IF(Compliance_Options!F126=\"\",\"\",Compliance_Options!F126)","v":""},"    ",{"$f":"IF(COUNTIF(BC$2:BC104,BC104)=1,BC104,\"\")","v":""},"","","","","","","",{"$f":"+IF(BK104=\"\",\"\",MAX(BL$1:BL103)+1)","v":""},"","","","","","","",{"$f":"+IF(BS104=\"\",\"\",MAX(BT$1:BT103)+1)","v":""},"","","","","","","",{"$f":"+IF(CA104=\"\",\"\",MAX(CB$1:CB103)+1)","v":""},"","","","","","","",{"$f":"+IF(CI104=\"\",\"\",MAX(CJ$1:CJ103)+1)","v":""},"","","","","",null,{"$f":"+IF(CR104=\"\",\"\",MAX(CQ$1:CQ103)+1)","v":""},{"$f":"IF(Compliance_Options!B126=\"\",\"\",Compliance_Options!B126)","v":""},{"$f":"IF(Compliance_Options!C126=\"\",\"\",Compliance_Options!C126)","v":""},{"$f":"IF(Compliance_Options!D126=\"\",\"\",Compliance_Options!D126)","v":""},"  ",{"$f":"IF(COUNTIF(CU$2:CU104,CU104)=1,CU104,\"\")","v":""},"","","",""]
[{"$nulls":48},{"$f":"+IF(AX105=\"\",\"\",MAX(AW$1:AW104)+1)","v":""},{"$f":"IF(Compliance_Options!B127=\"\",\"\",Compliance_Options!B127)","v":""},{"$f":"IF(Compliance_Options!C127=\"\",\"\",Compliance_Options!C127)","v":""},{"$f":"IF(Compliance_Options!D127=\"\",\"\",Compliance_Options!D127)","v":""},{"$f":"IF(Compliance_Options!E127=\"\",\"\",Compliance_Options!E127)","v":""},{"$f":"IF(Compliance_Options!F127=\"\",\"\",Compliance_Options!F127)","v":""},"    ",{"$f":"IF(COUNTIF(BC$2:BC105,BC105)=1,BC105,\"\")","v":""},"","","","","","","",{"$f":"+IF(BK105=\"\",\"\",MAX(BL$1:BL104)+1)","v":""},"","","","","","","",{"$f":"+IF(BS105=\"\",\"\",MAX(BT$1:BT104)+1)","v":""},"","","","","","","",{"$f":"+IF(CA105=\"\",\"\",MAX(CB$1:CB104)+1)","v":""},"","","","","","","",{"$f":"+IF(CI105=\"\",\"\",MAX(CJ$1:CJ104)+1)","v":""},"","","","","",null,{"$f":"+IF(CR105=\"\",\"\",MAX(CQ$1:CQ104)+1)","v":""},{"$f":"IF(Compliance_Options!B127=\"\",\"\",Compliance_Options!B127)","v":""},{"$f":"IF(Compliance_Options!C127=\"\",\"\",Compliance_Options!C127)","v":""},{"$f":"IF(Compliance_Options!D127=\"\",\"\",Compliance_Options!D127)","v":""},"  ",{"$f":"IF(COUNTIF(CU$2:CU105,CU105)=1,CU105,\"\")","v":""},"","","",""]
[{"$nulls":48},{"$f":"+IF(AX106=\"\",\"\",MAX(AW$1:AW105)+1)","v":""},{"$f":"IF(Compliance_Options!B128=\"\",\"\",Compliance_Options!B128)","v":""},{"$f":"IF(Compliance_Options!C128=\"\",\"\",Compliance_Options!C128)","v":""},{"$f":"IF(Compliance_Options!D128=\"\",\"\",Compliance_Options!D128)","v":""},{"$f":"IF(Compliance_Options!E128=\"\",\"\",Compliance_Options!E128)","v":""},{"$f":"IF(Compliance_Options!F128=\"\",\"\",Compliance_Options!F128)","v":""},"    ",{"$f":"IF(COUNTIF(BC$2:BC106,BC106)=1,BC106,\"\")","v":""},"","","","","","","",{"$f":"+IF(BK106=\"\",\"\",MAX(BL$1:BL105)+1)","v":""},"","","","","","","",{"$f":"+IF(BS106=\"\",\"\",MAX(BT$1:BT105)+1)","v":""},"","","","","","","",{"$f":"+IF(CA106=\"\",\"\",MAX(CB$1:CB105)+1)","v":""},"","","","","","","",{"$f":"+IF(CI106=\"\",\"\",MAX(CJ$1:CJ105)+1)","v":""},"","","","","",null,{"$f":"+IF(CR106=\"\",\"\",MAX(CQ$1:CQ105)+1)","v":""},{"$f":"IF(Compliance_Options!B128=\"\",\"\",Compliance_Options!B128)","v":""},{"$f":"IF(Compliance_Options!C128=\"\",\"\",Compliance_Options!C128)","v":""},{"$f":"IF(Compliance_Options!D128=\"\",\"\",Compliance_Options!D128)","v":""},"  ",{"$f":"IF(COUNTIF(CU$2:CU106,CU106)=1,CU106,\"\")","v":""},"","","",""]
[{"$nulls":48},{"$f":"+IF(AX107=\"\",\"\",MAX(AW$1:AW106)+1)","v":""},{"$f":"IF(Compliance_Options!B129=\"\",\"\",Compliance_Options!B129)","v":""},{"$f":"IF(Compliance_Options!C129=\"\",\"\",Compliance_Options!C129)","v":""},{"$f":"IF(Compliance_Options!D129=\"\",\"\",Compliance_Options!D129)","v":""},{"$f":"IF(Compliance_Options!E129=\"\",\"\",Compliance_Options!E129)","v":""},{"$f":"IF(Compliance_Options!F129=\"\",\"\",Compliance_Options!F129)","v":""},"    ",{"$f":"IF(COUNTIF(BC$2:BC107,BC107)=1,BC107,\"\")","v":""},"","","","","","","",{"$f":"+IF(BK107=\"\",\"\",MAX(BL$1:BL106)+1)","v":""},"","","","","","","",{"$f":"+IF(BS107=\"\",\"\",MAX(BT$1:BT106)+1)","v":""},"","","","","","","",{"$f":"+IF(CA107=\"\",\"\",MAX(CB$1:CB106)+1)","v":""},"","","","","","","",{"$f":"+IF(CI107=\"\",\"\",MAX(CJ$1:CJ106)+1)","v":""},"","","","","",null,{"$f":"+IF(CR107=\"\",\"\",MAX(CQ$1:CQ106)+1)","v":""},{"$f":"IF(Compliance_Options!B129=\"\",\"\",Compliance_Options!B129)","v":""},{"$f":"IF(Compliance_Options!C129=\"\",\"\",Compliance_Options!C129)","v":""},{"$f":"IF(Compliance_Options!D129=\"\",\"\",Compliance_Options!D129)","v":""},"  ",{"$f":"IF(COUNTIF(CU$2:CU107,CU107)=1,CU107,\"\")","v":""},"","","",""]
[{"$nulls":48},{"$f":"+IF(AX108=\"\",\"\",MAX(AW$1:AW107)+1)","v":""},{"$f":"IF(Compliance_Options!B130=\"\",\"\",Compliance_Options!B130)","v":""},{"$f":"IF(Compliance_Options!C130=\"\",\"\",Compliance_Options!C130)","v":""},{"$f":"IF(Compliance_Options!D130=\"\",\"\",Compliance_Options!D130)","v":""},{"$f":"IF(Compliance_Options!E130=\"\",\"\",Compliance_Options!E130)","v":""},{"$f":"IF(Compliance_Options!F130=\"\",\"\",Compliance_Options!F130)","v":""},"    ",{"$f":"IF(COUNTIF(BC$2:BC108,BC108)=1,BC108,\"\")","v":""},"","","","","","","",{"$f":"+IF(BK108=\"\",\"\",MAX(BL$1:BL107)+1)","v":""},"","","","","","","",{"$f":"+IF(BS108=\"\",\"\",MAX(BT$1:BT107)+1)","v":""},"","","","","","","",{"$f":"+IF(CA108=\"\",\"\",MAX(CB$1:CB107)+1)","v":""},"","","","","","","",{"$f":"+IF(CI108=\"\",\"\",MAX(CJ$1:CJ107)+1)","v":""},"","","","","",null,{"$f":"+IF(CR108=\"\",\"\",MAX(CQ$1:CQ107)+1)","v":""},{"$f":"IF(Compliance_Options!B130=\"\",\"\",Compliance_Options!B130)","v":""},{"$f":"IF(Compliance_Options!C130=\"\",\"\",Compliance_Options!C130)","v":""},{"$f":"IF(Compliance_Options!D130=\"\",\"\",Compliance_Options!D130)","v":""},"  ",{"$f":"IF(COUNTIF(CU$2:CU108,CU108)=1,CU108,\"\")","v":""},"","","",""]
[{"$nulls":48},{"$f":"+IF(AX109=\"\",\"\",MAX(AW$1:AW108)+1)","v":""},{"$f":"IF(Compliance_Options!B131=\"\",\"\",Compliance_Options!B131)","v":""},{"$f":"IF(Compliance_Options!C131=\"\",\"\",Compliance_Options!C131)","v":""},{"$f":"IF(Compliance_Options!D131=\"\",\"\",Compliance_Options!D131)","v":""},{"$f":"IF(Compliance_Options!E131=\"\",\"\",Compliance_Options!E131)","v":""},{"$f":"IF(Compliance_Options!F131=\"\",\"\",Compliance_Options!F131)","v":""},"    ",{"$f":"IF(COUNTIF(BC$2:BC109,BC109)=1,BC109,\"\")","v":""},"","","","","","","",{"$f":"+IF(BK109=\"\",\"\",MAX(BL$1:BL108)+1)","v":""},"","","","","","","",{"$f":"+IF(BS109=\"\",\"\",MAX(BT$1:BT108)+1)","v":""},"","","","","","","",{"$f":"+IF(CA109=\"\",\"\",MAX(CB$1:CB108)+1)","v":""},"","","","","","","",{"$f":"+IF(CI109=\"\",\"\",MAX(CJ$1:CJ108)+1)","v":""},"","","","","",null,{"$f":"+IF(CR109=\"\",\"\",MAX(CQ$1:CQ108)+1)","v":""},{"$f":"IF(Compliance_Options!B131=\"\",\"\",Compliance_Options!B131)","v":""},{"$f":"IF(Compliance_Options!C131=\"\",\"\",Compliance_Options!C131)","v":""},{"$f":"IF(Compliance_Options!D131=\"\",\"\",Compliance_Options!D131)","v":""},"  ",{"$f":"IF(COUNTIF(CU$2:CU109,CU109)=1,CU109,\"\")","v":""},"","","",""]
[{"$nulls":48},{"$f":"+IF(AX110=\"\",\"\",MAX(AW$1:AW109)+1)","v":""},{"$f":"IF(Compliance_Options!B132=\"\",\"\",Compliance_Options!B132)","v":""},{"$f":"IF(Compliance_Options!C132=\"\",\"\",Compliance_Options!C132)","v":""},{"$f":"IF(Compliance_Options!D132=\"\",\"\",Compliance_Options!D132)","v":""},{"$f":"IF(Compliance_Options!E132=\"\",\"\",Compliance_Options!E132)","v":""},{"$f":"IF(Compliance_Options!F132=\"\",\"\",Compliance_Options!F132)","v":""},"    ",{"$f":"IF(COUNTIF(BC$2:BC110,BC110)=1,BC110,\"\")","v":""},"","","","","","","",{"$f":"+IF(BK110=\"\",\"\",MAX(BL$1:BL109)+1)","v":""},"","","","","","","",{"$f":"+IF(BS110=\"\",\"\",MAX(BT$1:BT109)+1)","v":""},"","","","","","","",{"$f":"+IF(CA110=\"\",\"\",MAX(CB$1:CB109)+1)","v":""},"","","","","","","",{"$f":"+IF(CI110=\"\",\"\",MAX(CJ$1:CJ109)+1)","v":""},"","","","","",null,{"$f":"+IF(CR110=\"\",\"\",MAX(CQ$1:CQ109)+1)","v":""},{"$f":"IF(Compliance_Options!B132=\"\",\"\",Compliance_Options!B132)","v":""},{"$f":"IF(Compliance_Options!C132=\"\",\"\",Compliance_Options!C132)","v":""},{"$f":"IF(Compliance_Options!D132=\"\",\"\",Compliance_Options!D132)","v":""},"  ",{"$f":"IF(COUNTIF(CU$2:CU110,CU110)=1,CU110,\"\")","v":""},"","","",""]
[{"$nulls":48},{"$f":"+IF(AX111=\"\",\"\",MAX(AW$1:AW110)+1)","v":""},{"$f":"IF(Compliance_Options!B133=\"\",\"\",Compliance_Options!B133)","v":""},{"$f":"IF(Compliance_Options!C133=\"\",\"\",Compliance_Options!C133)","v":""},{"$f":"IF(Compliance_Options!D133=\"\",\"\",Compliance_Options!D133)","v":""},{"$f":"IF(Compliance_Options!E133=\"\",\"\",Compliance_Options!E133)","v":""},{"$f":"IF(Compliance_Options!F133=\"\",\"\",Compliance_Options!F133)","v":""},"    ",{"$f":"IF(COUNTIF(BC$2:BC111,BC111)=1,BC111,\"\")","v":""},"","","","","","","",{"$f":"+IF(BK111=\"\",\"\",MAX(BL$1:BL110)+1)","v":""},"","","","","","","",{"$f":"+IF(BS111=\"\",\"\",MAX(BT$1:BT110)+1)","v":""},"","","","","","","",{"$f":"+IF(CA111=\"\",\"\",MAX(CB$1:CB110)+1)","v":""},"","","","","","","",{"$f":"+IF(CI111=\"\",\"\",MAX(CJ$1:CJ110)+1)","v":""},"","","","","",null,{"$f":"+IF(CR111=\"\",\"\",MAX(CQ$1:CQ110)+1)","v":""},{"$f":"IF(Compliance_Options!B133=\"\",\"\",Compliance_Options!B133)","v":""},{"$f":"IF(Compliance_Options!C133=\"\",\"\",Compliance_Options!C133)","v":""},{"$f":"IF(Compliance_Options!D133=\"\",\"\",Compliance_Options!D133)","v":""},"  ",{"$f":"IF(COUNTIF(CU$2:CU111,CU111)=1,CU111,\"\")","v":""},"","","",""]
[{"$nulls":48},{"$f":"+IF(AX112=\"\",\"\",MAX(AW$1:AW111)+1)","v":""},{"$f":"IF(Compliance_Options!B134=\"\",\"\",Compliance_Options!B134)","v":""},{"$f":"IF(Compliance_Options!C134=\"\",\"\",Compliance_Options!C134)","v":""},{"$f":"IF(Compliance_Options!D134=\"\",\"\",Compliance_Options!D134)","v":""},{"$f":"IF(Compliance_Options!E134=\"\",\"\",Compliance_Options!E134)","v":""},{"$f":"IF(Compliance_Options!F134=\"\",\"\",Compliance_Options!F134)","v":""},"    ",{"$f":"IF(COUNTIF(BC$2:BC112,BC112)=1,BC112,\"\")","v":""},"","","","","","","",{"$f":"+IF(BK112=\"\",\"\",MAX(BL$1:BL111)+1)","v":""},"","","","","","","",{"$f":"+IF(BS112=\"\",\"\",MAX(BT$1:BT111)+1)","v":""},"","","","","","","",{"$f":"+IF(CA112=\"\",\"\",MAX(CB$1:CB111)+1)","v":""},"","","","","","","",{"$f":"+IF(CI112=\"\",\"\",MAX(CJ$1:CJ111)+1)","v":""},"","","","","",null,{"$f":"+IF(CR112=\"\",\"\",MAX(CQ$1:CQ111)+1)","v":""},{"$f":"IF(Compliance_Options!B134=\"\",\"\",Compliance_Options!B134)","v":""},{"$f":"IF(Compliance_Options!C134=\"\",\"\",Compliance_Options!C134)","v":""},{"$f":"IF(Compliance_Options!D134=\"\",\"\",Compliance_Options!D134)","v":""},"  ",{"$f":"IF(COUNTIF(CU$2:CU112,CU112)=1,CU112,\"\")","v":""},"","","",""]
[{"$nulls":48},{"$f":"+IF(AX113=\"\",\"\",MAX(AW$1:AW112)+1)","v":""},{"$f":"IF(Compliance_Options!B135=\"\",\"\",Compliance_Options!B135)","v":""},{"$f":"IF(Compliance_Options!C135=\"\",\"\",Compliance_Options!C135)","v":""},{"$f":"IF(Compliance_Options!D135=\"\",\"\",Compliance_Options!D135)","v":""},{"$f":"IF(Compliance_Options!E135=\"\",\"\",Compliance_Options!E135)","v":""},{"$f":"IF(Compliance_Options!F135=\"\",\"\",Compliance_Options!F135)","v":""},"    ",{"$f":"IF(COUNTIF(BC$2:BC113,BC113)=1,BC113,\"\")","v":""},"","","","","","","",{"$f":"+IF(BK113=\"\",\"\",MAX(BL$1:BL112)+1)","v":""},"","","","","","","",{"$f":"+IF(BS113=\"\",\"\",MAX(BT$1:BT112)+1)","v":""},"","","","","","","",{"$f":"+IF(CA113=\"\",\"\",MAX(CB$1:CB112)+1)","v":""},"","","","","","","",{"$f":"+IF(CI113=\"\",\"\",MAX(CJ$1:CJ112)+1)","v":""},"","","","","",null,{"$f":"+IF(CR113=\"\",\"\",MAX(CQ$1:CQ112)+1)","v":""},{"$f":"IF(Compliance_Options!B135=\"\",\"\",Compliance_Options!B135)","v":""},{"$f":"IF(Compliance_Options!C135=\"\",\"\",Compliance_Options!C135)","v":""},{"$f":"IF(Compliance_Options!D135=\"\",\"\",Compliance_Options!D135)","v":""},"  ",{"$f":"IF(COUNTIF(CU$2:CU113,CU113)=1,CU113,\"\")","v":""},"","","",""]
[{"$nulls":48},{"$f":"+IF(AX114=\"\",\"\",MAX(AW$1:AW113)+1)","v":""},{"$f":"IF(Compliance_Options!B136=\"\",\"\",Compliance_Options!B136)","v":""},{"$f":"IF(Compliance_Options!C136=\"\",\"\",Compliance_Options!C136)","v":""},{"$f":"IF(Compliance_Options!D136=\"\",\"\",Compliance_Options!D136)","v":""},{"$f":"IF(Compliance_Options!E136=\"\",\"\",Compliance_Options!E136)","v":""},{"$f":"IF(Compliance_Options!F136=\"\",\"\",Compliance_Options!F136)","v":""},"    ",{"$f":"IF(COUNTIF(BC$2:BC114,BC114)=1,BC114,\"\")","v":""},"","","","","","","",{"$f":"+IF(BK114=\"\",\"\",MAX(BL$1:BL113)+1)","v":""},"","","","","","","",{"$f":"+IF(BS114=\"\",\"\",MAX(BT$1:BT113)+1)","v":""},"","","","","","","",{"$f":"+IF(CA114=\"\",\"\",MAX(CB$1:CB113)+1)","v":""},"","","","","","","",{"$f":"+IF(CI114=\"\",\"\",MAX(CJ$1:CJ113)+1)","v":""},"","","","","",null,{"$f":"+IF(CR114=\"\",\"\",MAX(CQ$1:CQ113)+1)","v":""},{"$f":"IF(Compliance_Options!B136=\"\",\"\",Compliance_Options!B136)","v":""},{"$f":"IF(Compliance_Options!C136=\"\",\"\",Compliance_Options!C136)","v":""},{"$f":"IF(Compliance_Options!D136=\"\",\"\",Compliance_Options!D136)","v":""},"  ",{"$f":"IF(COUNTIF(CU$2:CU114,CU114)=1,CU114,\"\")","v":""},"","","",""]
[{"$nulls":48},{"$f":"+IF(AX115=\"\",\"\",MAX(AW$1:AW114)+1)","v":""},{"$f":"IF(Compliance_Options!B137=\"\",\"\",Compliance_Options!B137)","v":""},{"$f":"IF(Compliance_Options!C137=\"\",\"\",Compliance_Options!C137)","v":""},{"$f":"IF(Compliance_Options!D137=\"\",\"\",Compliance_Options!D137)","v":""},{"$f":"IF(Compliance_Options!E137=\"\",\"\",Compliance_Options!E137)","v":""},{"$f":"IF(Compliance_Options!F137=\"\",\"\",Compliance_Options!F137)","v":""},"    ",{"$f":"IF(COUNTIF(BC$2:BC115,BC115)=1,BC115,\"\")","v":""},"","","","","","","",{"$f":"+IF(BK115=\"\",\"\",MAX(BL$1:BL114)+1)","v":""},"","","","","","","",{"$f":"+IF(BS115=\"\",\"\",MAX(BT$1:BT114)+1)","v":""},"","","","","","","",{"$f":"+IF(CA115=\"\",\"\",MAX(CB$1:CB114)+1)","v":""},"","","","","","","",{"$f":"+IF(CI115=\"\",\"\",MAX(CJ$1:CJ114)+1)","v":""},"","","","","",null,{"$f":"+IF(CR115=\"\",\"\",MAX(CQ$1:CQ114)+1)","v":""},{"$f":"IF(Compliance_Options!B137=\"\",\"\",Compliance_Options!B137)","v":""},{"$f":"IF(Compliance_Options!C137=\"\",\"\",Compliance_Options!C137)","v":""},{"$f":"IF(Compliance_Options!D137=\"\",\"\",Compliance_Options!D137)","v":""},"  ",{"$f":"IF(COUNTIF(CU$2:CU115,CU115)=1,CU115,\"\")","v":""},"","","",""]
[{"$nulls":48},{"$f":"+IF(AX116=\"\",\"\",MAX(AW$1:AW115)+1)","v":""},{"$f":"IF(Compliance_Options!B138=\"\",\"\",Compliance_Options!B138)","v":""},{"$f":"IF(Compliance_Options!C138=\"\",\"\",Compliance_Options!C138)","v":""},{"$f":"IF(Compliance_Options!D138=\"\",\"\",Compliance_Options!D138)","v":""},{"$f":"IF(Compliance_Options!E138=\"\",\"\",Compliance_Options!E138)","v":""},{"$f":"IF(Compliance_Options!F138=\"\",\"\",Compliance_Options!F138)","v":""},"    ",{"$f":"IF(COUNTIF(BC$2:BC116,BC116)=1,BC116,\"\")","v":""},"","","","","","","",{"$f":"+IF(BK116=\"\",\"\",MAX(BL$1:BL115)+1)","v":""},"","","","","","","",{"$f":"+IF(BS116=\"\",\"\",MAX(BT$1:BT115)+1)","v":""},"","","","","","","",{"$f":"+IF(CA116=\"\",\"\",MAX(CB$1:CB115)+1)","v":""},"","","","","","","",{"$f":"+IF(CI116=\"\",\"\",MAX(CJ$1:CJ115)+1)","v":""},"","","","","",null,{"$f":"+IF(CR116=\"\",\"\",MAX(CQ$1:CQ115)+1)","v":""},{"$f":"IF(Compliance_Options!B138=\"\",\"\",Compliance_Options!B138)","v":""},{"$f":"IF(Compliance_Options!C138=\"\",\"\",Compliance_Options!C138)","v":""},{"$f":"IF(Compliance_Options!D138=\"\",\"\",Compliance_Options!D138)","v":""},"  ",{"$f":"IF(COUNTIF(CU$2:CU116,CU116)=1,CU116,\"\")","v":""},"","","",""]
[{"$nulls":48},{"$f":"+IF(AX117=\"\",\"\",MAX(AW$1:AW116)+1)","v":""},{"$f":"IF(Compliance_Options!B139=\"\",\"\",Compliance_Options!B139)","v":""},{"$f":"IF(Compliance_Options!C139=\"\",\"\",Compliance_Options!C139)","v":""},{"$f":"IF(Compliance_Options!D139=\"\",\"\",Compliance_Options!D139)","v":""},{"$f":"IF(Compliance_Options!E139=\"\",\"\",Compliance_Options!E139)","v":""},{"$f":"IF(Compliance_Options!F139=\"\",\"\",Compliance_Options!F139)","v":""},"    ",{"$f":"IF(COUNTIF(BC$2:BC117,BC117)=1,BC117,\"\")","v":""},"","","","","","","",{"$f":"+IF(BK117=\"\",\"\",MAX(BL$1:BL116)+1)","v":""},"","","","","","","",{"$f":"+IF(BS117=\"\",\"\",MAX(BT$1:BT116)+1)","v":""},"","","","","","","",{"$f":"+IF(CA117=\"\",\"\",MAX(CB$1:CB116)+1)","v":""},"","","","","","","",{"$f":"+IF(CI117=\"\",\"\",MAX(CJ$1:CJ116)+1)","v":""},"","","","","",null,{"$f":"+IF(CR117=\"\",\"\",MAX(CQ$1:CQ116)+1)","v":""},{"$f":"IF(Compliance_Options!B139=\"\",\"\",Compliance_Options!B139)","v":""},{"$f":"IF(Compliance_Options!C139=\"\",\"\",Compliance_Options!C139)","v":""},{"$f":"IF(Compliance_Options!D139=\"\",\"\",Compliance_Options!D139)","v":""},"  ",{"$f":"IF(COUNTIF(CU$2:CU117,CU117)=1,CU117,\"\")","v":""},"","","",""]
[{"$nulls":48},{"$f":"+IF(AX118=\"\",\"\",MAX(AW$1:AW117)+1)","v":""},{"$f":"IF(Compliance_Options!B140=\"\",\"\",Compliance_Options!B140)","v":""},{"$f":"IF(Compliance_Options!C140=\"\",\"\",Compliance_Options!C140)","v":""},{"$f":"IF(Compliance_Options!D140=\"\",\"\",Compliance_Options!D140)","v":""},{"$f":"IF(Compliance_Options!E140=\"\",\"\",Compliance_Options!E140)","v":""},{"$f":"IF(Compliance_Options!F140=\"\",\"\",Compliance_Options!F140)","v":""},"    ",{"$f":"IF(COUNTIF(BC$2:BC118,BC118)=1,BC118,\"\")","v":""},"","","","","","","",{"$f":"+IF(BK118=\"\",\"\",MAX(BL$1:BL117)+1)","v":""},"","","","","","","",{"$f":"+IF(BS118=\"\",\"\",MAX(BT$1:BT117)+1)","v":""},"","","","","","","",{"$f":"+IF(CA118=\"\",\"\",MAX(CB$1:CB117)+1)","v":""},"","","","","","","",{"$f":"+IF(CI118=\"\",\"\",MAX(CJ$1:CJ117)+1)","v":""},"","","","","",null,{"$f":"+IF(CR118=\"\",\"\",MAX(CQ$1:CQ117)+1)","v":""},{"$f":"IF(Compliance_Options!B140=\"\",\"\",Compliance_Options!B140)","v":""},{"$f":"IF(Compliance_Options!C140=\"\",\"\",Compliance_Options!C140)","v":""},{"$f":"IF(Compliance_Options!D140=\"\",\"\",Compliance_Options!D140)","v":""},"  ",{"$f":"IF(COUNTIF(CU$2:CU118,CU118)=1,CU118,\"\")","v":""},"","","",""]
[{"$nulls":48},{"$f":"+IF(AX119=\"\",\"\",MAX(AW$1:AW118)+1)","v":""},{"$f":"IF(Compliance_Options!B141=\"\",\"\",Compliance_Options!B141)","v":""},{"$f":"IF(Compliance_Options!C141=\"\",\"\",Compliance_Options!C141)","v":""},{"$f":"IF(Compliance_Options!D141=\"\",\"\",Compliance_Options!D141)","v":""},{"$f":"IF(Compliance_Options!E141=\"\",\"\",Compliance_Options!E141)","v":""},{"$f":"IF(Compliance_Options!F141=\"\",\"\",Compliance_Options!F141)","v":""},"    ",{"$f":"IF(COUNTIF(BC$2:BC119,BC119)=1,BC119,\"\")","v":""},"","","","","","","",{"$f":"+IF(BK119=\"\",\"\",MAX(BL$1:BL118)+1)","v":""},"","","","","","","",{"$f":"+IF(BS119=\"\",\"\",MAX(BT$1:BT118)+1)","v":""},"","","","","","","",{"$f":"+IF(CA119=\"\",\"\",MAX(CB$1:CB118)+1)","v":""},"","","","","","","",{"$f":"+IF(CI119=\"\",\"\",MAX(CJ$1:CJ118)+1)","v":""},"","","","","",null,{"$f":"+IF(CR119=\"\",\"\",MAX(CQ$1:CQ118)+1)","v":""},{"$f":"IF(Compliance_Options!B141=\"\",\"\",Compliance_Options!B141)","v":""},{"$f":"IF(Compliance_Options!C141=\"\",\"\",Compliance_Options!C141)","v":""},{"$f":"IF(Compliance_Options!D141=\"\",\"\",Compliance_Options!D141)","v":""},"  ",{"$f":"IF(COUNTIF(CU$2:CU119,CU119)=1,CU119,\"\")","v":""},"","","",""]
[{"$nulls":48},{"$f":"+IF(AX120=\"\",\"\",MAX(AW$1:AW119)+1)","v":""},{"$f":"IF(Compliance_Options!B142=\"\",\"\",Compliance_Options!B142)","v":""},{"$f":"IF(Compliance_Options!C142=\"\",\"\",Compliance_Options!C142)","v":""},{"$f":"IF(Compliance_Options!D142=\"\",\"\",Compliance_Options!D142)","v":""},{"$f":"IF(Compliance_Options!E142=\"\",\"\",Compliance_Options!E142)","v":""},{"$f":"IF(Compliance_Options!F142=\"\",\"\",Compliance_Options!F142)","v":""},"    ",{"$f":"IF(COUNTIF(BC$2:BC120,BC120)=1,BC120,\"\")","v":""},"","","","","","","",{"$f":"+IF(BK120=\"\",\"\",MAX(BL$1:BL119)+1)","v":""},"","","","","","","",{"$f":"+IF(BS120=\"\",\"\",MAX(BT$1:BT119)+1)","v":""},"","","","","","","",{"$f":"+IF(CA120=\"\",\"\",MAX(CB$1:CB119)+1)","v":""},"","","","","","","",{"$f":"+IF(CI120=\"\",\"\",MAX(CJ$1:CJ119)+1)","v":""},"","","","","",null,{"$f":"+IF(CR120=\"\",\"\",MAX(CQ$1:CQ119)+1)","v":""},{"$f":"IF(Compliance_Options!B142=\"\",\"\",Compliance_Options!B142)","v":""},{"$f":"IF(Compliance_Options!C142=\"\",\"\",Compliance_Options!C142)","v":""},{"$f":"IF(Compliance_Options!D142=\"\",\"\",Compliance_Options!D142)","v":""},"  ",{"$f":"IF(COUNTIF(CU$2:CU120,CU120)=1,CU120,\"\")","v":""},"","","",""]
[{"$nulls":48},{"$f":"+IF(AX121=\"\",\"\",MAX(AW$1:AW120)+1)","v":""},{"$f":"IF(Compliance_Options!B143=\"\",\"\",Compliance_Options!B143)","v":""},{"$f":"IF(Compliance_Options!C143=\"\",\"\",Compliance_Options!C143)","v":""},{"$f":"IF(Compliance_Options!D143=\"\",\"\",Compliance_Options!D143)","v":""},{"$f":"IF(Compliance_Options!E143=\"\",\"\",Compliance_Options!E143)","v":""},{"$f":"IF(Compliance_Options!F143=\"\",\"\",Compliance_Options!F143)","v":""},"    ",{"$f":"IF(COUNTIF(BC$2:BC121,BC121)=1,BC121,\"\")","v":""},"","","","","","","",{"$f":"+IF(BK121=\"\",\"\",MAX(BL$1:BL120)+1)","v":""},"","","","","","","",{"$f":"+IF(BS121=\"\",\"\",MAX(BT$1:BT120)+1)","v":""},"","","","","","","",{"$f":"+IF(CA121=\"\",\"\",MAX(CB$1:CB120)+1)","v":""},"","","","","","","",{"$f":"+IF(CI121=\"\",\"\",MAX(CJ$1:CJ120)+1)","v":""},"","","","","",null,{"$f":"+IF(CR121=\"\",\"\",MAX(CQ$1:CQ120)+1)","v":""},{"$f":"IF(Compliance_Options!B143=\"\",\"\",Compliance_Options!B143)","v":""},{"$f":"IF(Compliance_Options!C143=\"\",\"\",Compliance_Options!C143)","v":""},{"$f":"IF(Compliance_Options!D143=\"\",\"\",Compliance_Options!D143)","v":""},"  ",{"$f":"IF(COUNTIF(CU$2:CU121,CU121)=1,CU121,\"\")","v":""},"","","",""]
[{"$nulls":48},{"$f":"+IF(AX122=\"\",\"\",MAX(AW$1:AW121)+1)","v":""},{"$f":"IF(Compliance_Options!B144=\"\",\"\",Compliance_Options!B144)","v":""},{"$f":"IF(Compliance_Options!C144=\"\",\"\",Compliance_Options!C144)","v":""},{"$f":"IF(Compliance_Options!D144=\"\",\"\",Compliance_Options!D144)","v":""},{"$f":"IF(Compliance_Options!E144=\"\",\"\",Compliance_Options!E144)","v":""},{"$f":"IF(Compliance_Options!F144=\"\",\"\",Compliance_Options!F144)","v":""},"    ",{"$f":"IF(COUNTIF(BC$2:BC122,BC122)=1,BC122,\"\")","v":""},"","","","","","","",{"$f":"+IF(BK122=\"\",\"\",MAX(BL$1:BL121)+1)","v":""},"","","","","","","",{"$f":"+IF(BS122=\"\",\"\",MAX(BT$1:BT121)+1)","v":""},"","","","","","","",{"$f":"+IF(CA122=\"\",\"\",MAX(CB$1:CB121)+1)","v":""},"","","","","","","",{"$f":"+IF(CI122=\"\",\"\",MAX(CJ$1:CJ121)+1)","v":""},"","","","","",null,{"$f":"+IF(CR122=\"\",\"\",MAX(CQ$1:CQ121)+1)","v":""},{"$f":"IF(Compliance_Options!B144=\"\",\"\",Compliance_Options!B144)","v":""},{"$f":"IF(Compliance_Options!C144=\"\",\"\",Compliance_Options!C144)","v":""},{"$f":"IF(Compliance_Options!D144=\"\",\"\",Compliance_Options!D144)","v":""},"  ",{"$f":"IF(COUNTIF(CU$2:CU122,CU122)=1,CU122,\"\")","v":""},"","","",""]
[{"$nulls":48},{"$f":"+IF(AX123=\"\",\"\",MAX(AW$1:AW122)+1)","v":""},{"$f":"IF(Compliance_Options!B145=\"\",\"\",Compliance_Options!B145)","v":""},{"$f":"IF(Compliance_Options!C145=\"\",\"\",Compliance_Options!C145)","v":""},{"$f":"IF(Compliance_Options!D145=\"\",\"\",Compliance_Options!D145)","v":""},{"$f":"IF(Compliance_Options!E145=\"\",\"\",Compliance_Options!E145)","v":""},{"$f":"IF(Compliance_Options!F145=\"\",\"\",Compliance_Options!F145)","v":""},"    ",{"$f":"IF(COUNTIF(BC$2:BC123,BC123)=1,BC123,\"\")","v":""},"","","","","","","",{"$f":"+IF(BK123=\"\",\"\",MAX(BL$1:BL122)+1)","v":""},"","","","","","","",{"$f":"+IF(BS123=\"\",\"\",MAX(BT$1:BT122)+1)","v":""},"","","","","","","",{"$f":"+IF(CA123=\"\",\"\",MAX(CB$1:CB122)+1)","v":""},"","","","","","","",{"$f":"+IF(CI123=\"\",\"\",MAX(CJ$1:CJ122)+1)","v":""},"","","","","",null,{"$f":"+IF(CR123=\"\",\"\",MAX(CQ$1:CQ122)+1)","v":""},{"$f":"IF(Compliance_Options!B145=\"\",\"\",Compliance_Options!B145)","v":""},{"$f":"IF(Compliance_Options!C145=\"\",\"\",Compliance_Options!C145)","v":""},{"$f":"IF(Compliance_Options!D145=\"\",\"\",Compliance_Options!D145)","v":""},"  ",{"$f":"IF(COUNTIF(CU$2:CU123,CU123)=1,CU123,\"\")","v":""},"","","",""]
[{"$nulls":48},{"$f":"+IF(AX124=\"\",\"\",MAX(AW$1:AW123)+1)","v":""},{"$f":"IF(Compliance_Options!B146=\"\",\"\",Compliance_Options!B146)","v":""},{"$f":"IF(Compliance_Options!C146=\"\",\"\",Compliance_Options!C146)","v":""},{"$f":"IF(Compliance_Options!D146=\"\",\"\",Compliance_Options!D146)","v":""},{"$f":"IF(Compliance_Options!E146=\"\",\"\",Compliance_Options!E146)","v":""},{"$f":"IF(Compliance_Options!F146=\"\",\"\",Compliance_Options!F146)","v":""},"    ",{"$f":"IF(COUNTIF(BC$2:BC124,BC124)=1,BC124,\"\")","v":""},"","","","","","","",{"$f":"+IF(BK124=\"\",\"\",MAX(BL$1:BL123)+1)","v":""},"","","","","","","",{"$f":"+IF(BS124=\"\",\"\",MAX(BT$1:BT123)+1)","v":""},"","","","","","","",{"$f":"+IF(CA124=\"\",\"\",MAX(CB$1:CB123)+1)","v":""},"","","","","","","",{"$f":"+IF(CI124=\"\",\"\",MAX(CJ$1:CJ123)+1)","v":""},"","","","","",null,{"$f":"+IF(CR124=\"\",\"\",MAX(CQ$1:CQ123)+1)","v":""},{"$f":"IF(Compliance_Options!B146=\"\",\"\",Compliance_Options!B146)","v":""},{"$f":"IF(Compliance_Options!C146=\"\",\"\",Compliance_Options!C146)","v":""},{"$f":"IF(Compliance_Options!D146=\"\",\"\",Compliance_Options!D146)","v":""},"  ",{"$f":"IF(COUNTIF(CU$2:CU124,CU124)=1,CU124,\"\")","v":""},"","","",""]
[{"$nulls":48},{"$f":"+IF(AX125=\"\",\"\",MAX(AW$1:AW124)+1)","v":""},{"$f":"IF(Compliance_Options!B147=\"\",\"\",Compliance_Options!B147)","v":""},{"$f":"IF(Compliance_Options!C147=\"\",\"\",Compliance_Options!C147)","v":""},{"$f":"IF(Compliance_Options!D147=\"\",\"\",Compliance_Options!D147)","v":""},{"$f":"IF(Compliance_Options!E147=\"\",\"\",Compliance_Options!E147)","v":""},{"$f":"IF(Compliance_Options!F147=\"\",\"\",Compliance_Options!F147)","v":""},"    ",{"$f":"IF(COUNTIF(BC$2:BC125,BC125)=1,BC125,\"\")","v":""},"","","","","","","",{"$f":"+IF(BK125=\"\",\"\",MAX(BL$1:BL124)+1)","v":""},"","","","","","","",{"$f":"+IF(BS125=\"\",\"\",MAX(BT$1:BT124)+1)","v":""},"","","","","","","",{"$f":"+IF(CA125=\"\",\"\",MAX(CB$1:CB124)+1)","v":""},"","","","","","","",{"$f":"+IF(CI125=\"\",\"\",MAX(CJ$1:CJ124)+1)","v":""},"","","","","",null,{"$f":"+IF(CR125=\"\",\"\",MAX(CQ$1:CQ124)+1)","v":""},{"$f":"IF(Compliance_Options!B147=\"\",\"\",Compliance_Options!B147)","v":""},{"$f":"IF(Compliance_Options!C147=\"\",\"\",Compliance_Options!C147)","v":""},{"$f":"IF(Compliance_Options!D147=\"\",\"\",Compliance_Options!D147)","v":""},"  ",{"$f":"IF(COUNTIF(CU$2:CU125,CU125)=1,CU125,\"\")","v":""},"","","",""]
[{"$nulls":48},{"$f":"+IF(AX126=\"\",\"\",MAX(AW$1:AW125)+1)","v":""},{"$f":"IF(Compliance_Options!B148=\"\",\"\",Compliance_Options!B148)","v":""},{"$f":"IF(Compliance_Options!C148=\"\",\"\",Compliance_Options!C148)","v":""},{"$f":"IF(Compliance_Options!D148=\"\",\"\",Compliance_Options!D148)","v":""},{"$f":"IF(Compliance_Options!E148=\"\",\"\",Compliance_Options!E148)","v":""},{"$f":"IF(Compliance_Options!F148=\"\",\"\",Compliance_Options!F148)","v":""},"    ",{"$f":"IF(COUNTIF(BC$2:BC126,BC126)=1,BC126,\"\")","v":""},"","","","","","","",{"$f":"+IF(BK126=\"\",\"\",MAX(BL$1:BL125)+1)","v":""},"","","","","","","",{"$f":"+IF(BS126=\"\",\"\",MAX(BT$1:BT125)+1)","v":""},"","","","","","","",{"$f":"+IF(CA126=\"\",\"\",MAX(CB$1:CB125)+1)","v":""},"","","","","","","",{"$f":"+IF(CI126=\"\",\"\",MAX(CJ$1:CJ125)+1)","v":""},"","","","","",null,{"$f":"+IF(CR126=\"\",\"\",MAX(CQ$1:CQ125)+1)","v":""},{"$f":"IF(Compliance_Options!B148=\"\",\"\",Compliance_Options!B148)","v":""},{"$f":"IF(Compliance_Options!C148=\"\",\"\",Compliance_Options!C148)","v":""},{"$f":"IF(Compliance_Options!D148=\"\",\"\",Compliance_Options!D148)","v":""},"  ",{"$f":"IF(COUNTIF(CU$2:CU126,CU126)=1,CU126,\"\")","v":""},"","","",""]
[{"$nulls":48},{"$f":"+IF(AX127=\"\",\"\",MAX(AW$1:AW126)+1)","v":""},{"$f":"IF(Compliance_Options!B149=\"\",\"\",Compliance_Options!B149)","v":""},{"$f":"IF(Compliance_Options!C149=\"\",\"\",Compliance_Options!C149)","v":""},{"$f":"IF(Compliance_Options!D149=\"\",\"\",Compliance_Options!D149)","v":""},{"$f":"IF(Compliance_Options!E149=\"\",\"\",Compliance_Options!E149)","v":""},{"$f":"IF(Compliance_Options!F149=\"\",\"\",Compliance_Options!F149)","v":""},"    ",{"$f":"IF(COUNTIF(BC$2:BC127,BC127)=1,BC127,\"\")","v":""},"","","","","","","",{"$f":"+IF(BK127=\"\",\"\",MAX(BL$1:BL126)+1)","v":""},"","","","","","","",{"$f":"+IF(BS127=\"\",\"\",MAX(BT$1:BT126)+1)","v":""},"","","","","","","",{"$f":"+IF(CA127=\"\",\"\",MAX(CB$1:CB126)+1)","v":""},"","","","","","","",{"$f":"+IF(CI127=\"\",\"\",MAX(CJ$1:CJ126)+1)","v":""},"","","","","",null,{"$f":"+IF(CR127=\"\",\"\",MAX(CQ$1:CQ126)+1)","v":""},{"$f":"IF(Compliance_Options!B149=\"\",\"\",Compliance_Options!B149)","v":""},{"$f":"IF(Compliance_Options!C149=\"\",\"\",Compliance_Options!C149)","v":""},{"$f":"IF(Compliance_Options!D149=\"\",\"\",Compliance_Options!D149)","v":""},"  ",{"$f":"IF(COUNTIF(CU$2:CU127,CU127)=1,CU127,\"\")","v":""},"","","",""]
[{"$nulls":48},{"$f":"+IF(AX128=\"\",\"\",MAX(AW$1:AW127)+1)","v":""},{"$f":"IF(Compliance_Options!B150=\"\",\"\",Compliance_Options!B150)","v":""},{"$f":"IF(Compliance_Options!C150=\"\",\"\",Compliance_Options!C150)","v":""},{"$f":"IF(Compliance_Options!D150=\"\",\"\",Compliance_Options!D150)","v":""},{"$f":"IF(Compliance_Options!E150=\"\",\"\",Compliance_Options!E150)","v":""},{"$f":"IF(Compliance_Options!F150=\"\",\"\",Compliance_Options!F150)","v":""},"    ",{"$f":"IF(COUNTIF(BC$2:BC128,BC128)=1,BC128,\"\")","v":""},"","","","","","","",{"$f":"+IF(BK128=\"\",\"\",MAX(BL$1:BL127)+1)","v":""},"","","","","","","",{"$f":"+IF(BS128=\"\",\"\",MAX(BT$1:BT127)+1)","v":""},"","","","","","","",{"$f":"+IF(CA128=\"\",\"\",MAX(CB$1:CB127)+1)","v":""},"","","","","","","",{"$f":"+IF(CI128=\"\",\"\",MAX(CJ$1:CJ127)+1)","v":""},"","","","","",null,{"$f":"+IF(CR128=\"\",\"\",MAX(CQ$1:CQ127)+1)","v":""},{"$f":"IF(Compliance_Options!B150=\"\",\"\",Compliance_Options!B150)","v":""},{"$f":"IF(Compliance_Options!C150=\"\",\"\",Compliance_Options!C150)","v":""},{"$f":"IF(Compliance_Options!D150=\"\",\"\",Compliance_Options!D150)","v":""},"  ",{"$f":"IF(COUNTIF(CU$2:CU128,CU128)=1,CU128,\"\")","v":""},"","","",""]
[{"$nulls":48},{"$f":"+IF(AX129=\"\",\"\",MAX(AW$1:AW128)+1)","v":""},{"$f":"IF(Compliance_Options!B151=\"\",\"\",Compliance_Options!B151)","v":""},{"$f":"IF(Compliance_Options!C151=\"\",\"\",Compliance_Options!C151)","v":""},{"$f":"IF(Compliance_Options!D151=\"\",\"\",Compliance_Options!D151)","v":""},{"$f":"IF(Compliance_Options!E151=\"\",\"\",Compliance_Options!E151)","v":""},{"$f":"IF(Compliance_Options!F151=\"\",\"\",Compliance_Options!F151)","v":""},"    ",{"$f":"IF(COUNTIF(BC$2:BC129,BC129)=1,BC129,\"\")","v":""},"","","","","","","",{"$f":"+IF(BK129=\"\",\"\",MAX(BL$1:BL128)+1)","v":""},"","","","","","","",{"$f":"+IF(BS129=\"\",\"\",MAX(BT$1:BT128)+1)","v":""},"","","","","","","",{"$f":"+IF(CA129=\"\",\"\",MAX(CB$1:CB128)+1)","v":""},"","","","","","","",{"$f":"+IF(CI129=\"\",\"\",MAX(CJ$1:CJ128)+1)","v":""},"","","","","",null,{"$f":"+IF(CR129=\"\",\"\",MAX(CQ$1:CQ128)+1)","v":""},{"$f":"IF(Compliance_Options!B151=\"\",\"\",Compliance_Options!B151)","v":""},{"$f":"IF(Compliance_Options!C151=\"\",\"\",Compliance_Options!C151)","v":""},{"$f":"IF(Compliance_Options!D151=\"\",\"\",Compliance_Options!D151)","v":""},"  ",{"$f":"IF(COUNTIF(CU$2:CU129,CU129)=1,CU129,\"\")","v":""},"","","",""]
[{"$nulls":48},{"$f":"+IF(AX130=\"\",\"\",MAX(AW$1:AW129)+1)","v":""},{"$f":"IF(Compliance_Options!B152=\"\",\"\",Compliance_Options!B152)","v":""},{"$f":"IF(Compliance_Options!C152=\"\",\"\",Compliance_Options!C152)","v":""},{"$f":"IF(Compliance_Options!D152=\"\",\"\",Compliance_Options!D152)","v":""},{"$f":"IF(Compliance_Options!E152=\"\",\"\",Compliance_Options!E152)","v":""},{"$f":"IF(Compliance_Options!F152=\"\",\"\",Compliance_Options!F152)","v":""},"    ",{"$f":"IF(COUNTIF(BC$2:BC130,BC130)=1,BC130,\"\")","v":""},"","","","","","","",{"$f":"+IF(BK130=\"\",\"\",MAX(BL$1:BL129)+1)","v":""},"","","","","","","",{"$f":"+IF(BS130=\"\",\"\",MAX(BT$1:BT129)+1)","v":""},"","","","","","","",{"$f":"+IF(CA130=\"\",\"\",MAX(CB$1:CB129)+1)","v":""},"","","","","","","",{"$f":"+IF(CI130=\"\",\"\",MAX(CJ$1:CJ129)+1)","v":""},"","","","","",null,{"$f":"+IF(CR130=\"\",\"\",MAX(CQ$1:CQ129)+1)","v":""},{"$f":"IF(Compliance_Options!B152=\"\",\"\",Compliance_Options!B152)","v":""},{"$f":"IF(Compliance_Options!C152=\"\",\"\",Compliance_Options!C152)","v":""},{"$f":"IF(Compliance_Options!D152=\"\",\"\",Compliance_Options!D152)","v":""},"  ",{"$f":"IF(COUNTIF(CU$2:CU130,CU130)=1,CU130,\"\")","v":""},"","","",""]
[{"$nulls":48},{"$f":"+IF(AX131=\"\",\"\",MAX(AW$1:AW130)+1)","v":""},{"$f":"IF(Compliance_Options!B153=\"\",\"\",Compliance_Options!B153)","v":""},{"$f":"IF(Compliance_Options!C153=\"\",\"\",Compliance_Options!C153)","v":""},{"$f":"IF(Compliance_Options!D153=\"\",\"\",Compliance_Options!D153)","v":""},{"$f":"IF(Compliance_Options!E153=\"\",\"\",Compliance_Options!E153)","v":""},{"$f":"IF(Compliance_Options!F153=\"\",\"\",Compliance_Options!F153)","v":""},{"$f":"AX131&\" \"&AY131&\" \"&AZ131&\" \"&BA131&\" \"&BB131","v":"    "},{"$f":"IF(COUNTIF(BC$2:BC131,BC131)=1,BC131,\"\")","v":""},{"$f":"IF(BF131=\"\",\"\",BF131&\" \"&BG131&\" \"&BH131)","v":""},{"$f":"IFERROR(INDEX(AX$2:AX$78,MATCH(ROW()-ROW($BD$1),$AW$2:$AW$78,0)),\"\")","v":""},{"$f":"IFERROR(INDEX(AY$2:AY$78,MATCH(ROW()-ROW($BD$1),$AW$2:$AW$78,0)),\"\")","v":""},{"$f":"IFERROR(INDEX(AZ$2:AZ$78,MATCH(ROW()-ROW($BD$1),$AW$2:$AW$78,0)),\"\")","v":""},{"$f":"IFERROR(INDEX(BA$2:BA$78,MATCH(ROW()-ROW($BD$1),$AW$2:$AW$78,0)),\"\")","v":""},{"$f":"IFERROR(INDEX(BB$2:BB$78,MATCH(ROW()-ROW($BD$1),$AW$2:$AW$78,0)),\"\")","v":""},{"$f":"IF($AZ131=\"Tire Production\",$BC131,\"\")","v":""},{"$f":"+IF(BK131=\"\",\"\",MAX(BL$1:BL130)+1)","v":""},{"$f":"IF(BN131=\"\",\"\",BN131&\" \"&BO131&\" \"&BP131&\" \"&BQ131&\" \"&BR131)","v":""},{"$f":"IFERROR(INDEX(AX$2:AX$78,MATCH(ROW()-ROW($BD$1),$BL$2:$BL$78,0)),\"\")","v":""},{"$f":"IFERROR(INDEX(AY$2:AY$78,MATCH(ROW()-ROW($BD$1),$BL$2:$BL$78,0)),\"\")","v":""},{"$f":"IFERROR(INDEX(AZ$2:AZ$78,MATCH(ROW()-ROW($BD$1),$BL$2:$BL$78,0)),\"\")","v":""},{"$f":"IFERROR(INDEX(BA$2:BA$78,MATCH(ROW()-ROW($BD$1),$BL$2:$BL$78,0)),\"\")","v":""},{"$f":"IFERROR(INDEX(BB$2:BB$78,MATCH(ROW()-ROW($BD$1),$BL$2:$BL$78,0)),\"\")","v":""},{"$f":"IF($AZ131=\"Tire Cord Production\",$BC131,\"\")","v":""},{"$f":"+IF(BS131=\"\",\"\",MAX(BT$1:BT130)+1)","v":""},{"$f":"IF(BV131=\"\",\"\",BV131&\" \"&BW131&\" \"&BX131)","v":""},{"$f":"IFERROR(INDEX(AX$2:AX$78,MATCH(ROW()-ROW($BT$1),$BT$2:$BT$78,0)),\"\")","v":""},{"$f":"IFERROR(INDEX(AY$2:AY$78,MATCH(ROW()-ROW($BT$1),$BT$2:$BT$78,0)),\"\")","v":""},{"$f":"IFERROR(INDEX(AZ$2:AZ$78,MATCH(ROW()-ROW($BT$1),$BT$2:$BT$78,0)),\"\")","v":""},{"$f":"IFERROR(INDEX(BA$2:BA$78,MATCH(ROW()-ROW($BT$1),$BT$2:$BT$78,0)),\"\")","v":""},{"$f":"IFERROR(INDEX(BB$2:BB$78,MATCH(ROW()-ROW($BT$1),$BT$2:$BT$78,0)),\"\")","v":""},{"$f":"IF($AZ131=\"Puncture Sealant Application\",$BC131,\"\")","v":""},{"$f":"+IF(CA131=\"\",\"\",MAX(CB$1:CB130)+1)","v":""},{"$f":"IF(CD131=\"\",\"\",CD131&\" \"&CE131&\" \"&CF131)","v":""},{"$f":"IFERROR(INDEX(AX$2:AX$78,MATCH(ROW()-ROW($CB$1),$CB$2:$CB$78,0)),\"\")","v":""},{"$f":"IFERROR(INDEX(AY$2:AY$78,MATCH(ROW()-ROW($CB$1),$CB$2:$CB$78,0)),\"\")","v":""},{"$f":"IFERROR(INDEX(AZ$2:AZ$78,MATCH(ROW()-ROW($CB$1),$CB$2:$CB$78,0)),\"\")","v":""},{"$f":"IFERROR(INDEX(BA$2:BA$78,MATCH(ROW()-ROW($CB$1),$CB$2:$CB$78,0)),\"\")","v":""},{"$f":"IFERROR(INDEX(BB$2:BB$78,MATCH(ROW()-ROW($CB$1),$CB$2:$CB$78,0)),\"\")","v":""},{"$f":"IF($AZ131=\"Rubber Processing\",$BC131,\"\")","v":""},{"$f":"+IF(CI131=\"\",\"\",MAX(CJ$1:CJ130)+1)","v":""},{"$f":"IFERROR(INDEX(AX$2:AX$78,MATCH(ROW()-ROW($CJ$1),$CJ$2:$CJ$78,0)),\"\")","v":""},{"$f":"IFERROR(INDEX(AY$2:AY$78,MATCH(ROW()-ROW($CJ$1),$CJ$2:$CJ$78,0)),\"\")","v":""},{"$f":"IFERROR(INDEX(AZ$2:AZ$78,MATCH(ROW()-ROW($CJ$1),$CJ$2:$CJ$78,0)),\"\")","v":""},{"$f":"IFERROR(INDEX(BA$2:BA$78,MATCH(ROW()-ROW($CJ$1),$CJ$2:$CJ$78,0)),\"\")","v":""},{"$f":"IFERROR(INDEX(BB$2:BB$78,MATCH(ROW()-ROW($CJ$1),$CJ$2:$CJ$78,0)),\"\")","v":""},null,{"$f":"+IF(CR131=\"\",\"\",MAX(CQ$1:CQ130)+1)","v":""},{"$f":"IF(Compliance_Options!B153=\"\",\"\",Compliance_Options!B153)","v":""},{"$f":"IF(Compliance_Options!C153=\"\",\"\",Compliance_Options!C153)","v":""},{"$f":"IF(Compliance_Options!D153=\"\",\"\",Compliance_Options!D153)","v":""},{"$f":"CR131&\" \"&CS131&\" \"&CT131","v":"  "},{"$f":"IF(COUNTIF(CU$2:CU131,CU131)=1,CU131,\"\")","v":""},{"$f":"IFERROR(INDEX(CV$2:CV$78,MATCH(ROW()-ROW($CV$1),$CQ$2:$CQ$78,0)),\"\")","v":""},{"$f":"IFERROR(INDEX(CR$2:CR$78,MATCH(ROW()-ROW($CV$1),$CQ$2:$CQ$78,0)),\"\")","v":""},{"$f":"IFERROR(INDEX(CS$2:CS$78,MATCH(ROW()-ROW($CV$1),$CQ$2:$CQ$78,0)),\"\")","v":""},{"$f":"IFERROR(INDEX(CT$2:CT$78,MATCH(ROW()-ROW($CV$1),$CQ$2:$CQ$78,0)),\"\")","v":""}]
[{"$nulls":48},{"$f":"+IF(AX132=\"\",\"\",MAX(AW$1:AW131)+1)","v":""},{"$f":"IF(Compliance_Options!B154=\"\",\"\",Compliance_Options!B154)","v":""},{"$f":"IF(Compliance_Options!C154=\"\",\"\",Compliance_Options!C154)","v":""},{"$f":"IF(Compliance_Options!D154=\"\",\"\",Compliance_Options!D154)","v":""},{"$f":"IF(Compliance_Options!E154=\"\",\"\",Compliance_Options!E154)","v":""},{"$f":"IF(Compliance_Options!F154=\"\",\"\",Compliance_Options!F154)","v":""},"    ",{"$f":"IF(COUNTIF(BC$2:BC132,BC132)=1,BC132,\"\")","v":""},"","","","","","","",{"$f":"+IF(BK132=\"\",\"\",MAX(BL$1:BL131)+1)","v":""},"","","","","","","",{"$f":"+IF(BS132=\"\",\"\",MAX(BT$1:BT131)+1)","v":""},"","","","","","","",{"$f":"+IF(CA132=\"\",\"\",MAX(CB$1:CB131)+1)","v":""},"","","","","","","",{"$f":"+IF(CI132=\"\",\"\",MAX(CJ$1:CJ131)+1)","v":""},"","","","","",null,{"$f":"+IF(CR132=\"\",\"\",MAX(CQ$1:CQ131)+1)","v":""},{"$f":"IF(Compliance_Options!B154=\"\",\"\",Compliance_Options!B154)","v":""},{"$f":"IF(Compliance_Options!C154=\"\",\"\",Compliance_Options!C154)","v":""},{"$f":"IF(Compliance_Options!D154=\"\",\"\",Compliance_Options!D154)","v":""},"  ",{"$f":"IF(COUNTIF(CU$2:CU132,CU132)=1,CU132,\"\")","v":""},"","","",""]
[{"$nulls":48},{"$f":"+IF(AX133=\"\",\"\",MAX(AW$1:AW132)+1)","v":""},{"$f":"IF(Compliance_Options!B155=\"\",\"\",Compliance_Options!B155)","v":""},{"$f":"IF(Compliance_Options!C155=\"\",\"\",Compliance_Options!C155)","v":""},{"$f":"IF(Compliance_Options!D155=\"\",\"\",Compliance_Options!D155)","v":""},{"$f":"IF(Compliance_Options!E155=\"\",\"\",Compliance_Options!E155)","v":""},{"$f":"IF(Compliance_Options!F155=\"\",\"\",Compliance_Options!F155)","v":""},"    ",{"$f":"IF(COUNTIF(BC$2:BC133,BC133)=1,BC133,\"\")","v":""},"","","","","","","",{"$f":"+IF(BK133=\"\",\"\",MAX(BL$1:BL132)+1)","v":""},"","","","","","","",{"$f":"+IF(BS133=\"\",\"\",MAX(BT$1:BT132)+1)","v":""},"","","","","","","",{"$f":"+IF(CA133=\"\",\"\",MAX(CB$1:CB132)+1)","v":""},"","","","","","","",{"$f":"+IF(CI133=\"\",\"\",MAX(CJ$1:CJ132)+1)","v":""},"","","","","",null,{"$f":"+IF(CR133=\"\",\"\",MAX(CQ$1:CQ132)+1)","v":""},{"$f":"IF(Compliance_Options!B155=\"\",\"\",Compliance_Options!B155)","v":""},{"$f":"IF(Compliance_Options!C155=\"\",\"\",Compliance_Options!C155)","v":""},{"$f":"IF(Compliance_Options!D155=\"\",\"\",Compliance_Options!D155)","v":""},"  ",{"$f":"IF(COUNTIF(CU$2:CU133,CU133)=1,CU133,\"\")","v":""},"","","",""]
[{"$nulls":48},{"$f":"+IF(AX134=\"\",\"\",MAX(AW$1:AW133)+1)","v":""},{"$f":"IF(Compliance_Options!B156=\"\",\"\",Compliance_Options!B156)","v":""},{"$f":"IF(Compliance_Options!C156=\"\",\"\",Compliance_Options!C156)","v":""},{"$f":"IF(Compliance_Options!D156=\"\",\"\",Compliance_Options!D156)","v":""},{"$f":"IF(Compliance_Options!E156=\"\",\"\",Compliance_Options!E156)","v":""},{"$f":"IF(Compliance_Options!F156=\"\",\"\",Compliance_Options!F156)","v":""},"    ",{"$f":"IF(COUNTIF(BC$2:BC134,BC134)=1,BC134,\"\")","v":""},"","","","","","","",{"$f":"+IF(BK134=\"\",\"\",MAX(BL$1:BL133)+1)","v":""},"","","","","","","",{"$f":"+IF(BS134=\"\",\"\",MAX(BT$1:BT133)+1)","v":""},"","","","","","","",{"$f":"+IF(CA134=\"\",\"\",MAX(CB$1:CB133)+1)","v":""},"","","","","","","",{"$f":"+IF(CI134=\"\",\"\",MAX(CJ$1:CJ133)+1)","v":""},"","","","","",null,{"$f":"+IF(CR134=\"\",\"\",MAX(CQ$1:CQ133)+1)","v":""},{"$f":"IF(Compliance_Options!B156=\"\",\"\",Compliance_Options!B156)","v":""},{"$f":"IF(Compliance_Options!C156=\"\",\"\",Compliance_Options!C156)","v":""},{"$f":"IF(Compliance_Options!D156=\"\",\"\",Compliance_Options!D156)","v":""},"  ",{"$f":"IF(COUNTIF(CU$2:CU134,CU134)=1,CU134,\"\")","v":""},"","","",""]
[{"$nulls":48},{"$f":"+IF(AX135=\"\",\"\",MAX(AW$1:AW134)+1)","v":""},{"$f":"IF(Compliance_Options!B157=\"\",\"\",Compliance_Options!B157)","v":""},{"$f":"IF(Compliance_Options!C157=\"\",\"\",Compliance_Options!C157)","v":""},{"$f":"IF(Compliance_Options!D157=\"\",\"\",Compliance_Options!D157)","v":""},{"$f":"IF(Compliance_Options!E157=\"\",\"\",Compliance_Options!E157)","v":""},{"$f":"IF(Compliance_Options!F157=\"\",\"\",Compliance_Options!F157)","v":""},"    ",{"$f":"IF(COUNTIF(BC$2:BC135,BC135)=1,BC135,\"\")","v":""},"","","","","","","",{"$f":"+IF(BK135=\"\",\"\",MAX(BL$1:BL134)+1)","v":""},"","","","","","","",{"$f":"+IF(BS135=\"\",\"\",MAX(BT$1:BT134)+1)","v":""},"","","","","","","",{"$f":"+IF(CA135=\"\",\"\",MAX(CB$1:CB134)+1)","v":""},"","","","","","","",{"$f":"+IF(CI135=\"\",\"\",MAX(CJ$1:CJ134)+1)","v":""},"","","","","",null,{"$f":"+IF(CR135=\"\",\"\",MAX(CQ$1:CQ134)+1)","v":""},{"$f":"IF(Compliance_Options!B157=\"\",\"\",Compliance_Options!B157)","v":""},{"$f":"IF(Compliance_Options!C157=\"\",\"\",Compliance_Options!C157)","v":""},{"$f":"IF(Compliance_Options!D157=\"\",\"\",Compliance_Options!D157)","v":""},"  ",{"$f":"IF(COUNTIF(CU$2:CU135,CU135)=1,CU135,\"\")","v":""},"","","",""]
[{"$nulls":48},{"$f":"+IF(AX136=\"\",\"\",MAX(AW$1:AW135)+1)","v":""},{"$f":"IF(Compliance_Options!B158=\"\",\"\",Compliance_Options!B158)","v":""},{"$f":"IF(Compliance_Options!C158=\"\",\"\",Compliance_Options!C158)","v":""},{"$f":"IF(Compliance_Options!D158=\"\",\"\",Compliance_Options!D158)","v":""},{"$f":"IF(Compliance_Options!E158=\"\",\"\",Compliance_Options!E158)","v":""},{"$f":"IF(Compliance_Options!F158=\"\",\"\",Compliance_Options!F158)","v":""},"    ",{"$f":"IF(COUNTIF(BC$2:BC136,BC136)=1,BC136,\"\")","v":""},"","","","","","","",{"$f":"+IF(BK136=\"\",\"\",MAX(BL$1:BL135)+1)","v":""},"","","","","","","",{"$f":"+IF(BS136=\"\",\"\",MAX(BT$1:BT135)+1)","v":""},"","","","","","","",{"$f":"+IF(CA136=\"\",\"\",MAX(CB$1:CB135)+1)","v":""},"","","","","","","",{"$f":"+IF(CI136=\"\",\"\",MAX(CJ$1:CJ135)+1)","v":""},"","","","","",null,{"$f":"+IF(CR136=\"\",\"\",MAX(CQ$1:CQ135)+1)","v":""},{"$f":"IF(Compliance_Options!B158=\"\",\"\",Compliance_Options!B158)","v":""},{"$f":"IF(Compliance_Options!C158=\"\",\"\",Compliance_Options!C158)","v":""},{"$f":"IF(Compliance_Options!D158=\"\",\"\",Compliance_Options!D158)","v":""},"  ",{"$f":"IF(COUNTIF(CU$2:CU136,CU136)=1,CU136,\"\")","v":""},"","","",""]
[{"$nulls":48},{"$f":"+IF(AX137=\"\",\"\",MAX(AW$1:AW136)+1)","v":""},{"$f":"IF(Compliance_Options!B159=\"\",\"\",Compliance_Options!B159)","v":""},{"$f":"IF(Compliance_Options!C159=\"\",\"\",Compliance_Options!C159)","v":""},{"$f":"IF(Compliance_Options!D159=\"\",\"\",Compliance_Options!D159)","v":""},{"$f":"IF(Compliance_Options!E159=\"\",\"\",Compliance_Options!E159)","v":""},{"$f":"IF(Compliance_Options!F159=\"\",\"\",Compliance_Options!F159)","v":""},"    ",{"$f":"IF(COUNTIF(BC$2:BC137,BC137)=1,BC137,\"\")","v":""},"","","","","","","",{"$f":"+IF(BK137=\"\",\"\",MAX(BL$1:BL136)+1)","v":""},"","","","","","","",{"$f":"+IF(BS137=\"\",\"\",MAX(BT$1:BT136)+1)","v":""},"","","","","","","",{"$f":"+IF(CA137=\"\",\"\",MAX(CB$1:CB136)+1)","v":""},"","","","","","","",{"$f":"+IF(CI137=\"\",\"\",MAX(CJ$1:CJ136)+1)","v":""},"","","","","",null,{"$f":"+IF(CR137=\"\",\"\",MAX(CQ$1:CQ136)+1)","v":""},{"$f":"IF(Compliance_Options!B159=\"\",\"\",Compliance_Options!B159)","v":""},{"$f":"IF(Compliance_Options!C159=\"\",\"\",Compliance_Options!C159)","v":""},{"$f":"IF(Compliance_Options!D159=\"\",\"\",Compliance_Options!D159)","v":""},"  ",{"$f":"IF(COUNTIF(CU$2:CU137,CU137)=1,CU137,\"\")","v":""},"","","",""]
[{"$nulls":48},{"$f":"+IF(AX138=\"\",\"\",MAX(AW$1:AW137)+1)","v":""},{"$f":"IF(Compliance_Options!B160=\"\",\"\",Compliance_Options!B160)","v":""},{"$f":"IF(Compliance_Options!C160=\"\",\"\",Compliance_Options!C160)","v":""},{"$f":"IF(Compliance_Options!D160=\"\",\"\",Compliance_Options!D160)","v":""},{"$f":"IF(Compliance_Options!E160=\"\",\"\",Compliance_Options!E160)","v":""},{"$f":"IF(Compliance_Options!F160=\"\",\"\",Compliance_Options!F160)","v":""},"    ",{"$f":"IF(COUNTIF(BC$2:BC138,BC138)=1,BC138,\"\")","v":""},"","","","","","","",{"$f":"+IF(BK138=\"\",\"\",MAX(BL$1:BL137)+1)","v":""},"","","","","","","",{"$f":"+IF(BS138=\"\",\"\",MAX(BT$1:BT137)+1)","v":""},"","","","","","","",{"$f":"+IF(CA138=\"\",\"\",MAX(CB$1:CB137)+1)","v":""},"","","","","","","",{"$f":"+IF(CI138=\"\",\"\",MAX(CJ$1:CJ137)+1)","v":""},"","","","","",null,{"$f":"+IF(CR138=\"\",\"\",MAX(CQ$1:CQ137)+1)","v":""},{"$f":"IF(Compliance_Options!B160=\"\",\"\",Compliance_Options!B160)","v":""},{"$f":"IF(Compliance_Options!C160=\"\",\"\",Compliance_Options!C160)","v":""},{"$f":"IF(Compliance_Options!D160=\"\",\"\",Compliance_Options!D160)","v":""},"  ",{"$f":"IF(COUNTIF(CU$2:CU138,CU138)=1,CU138,\"\")","v":""},"","","",""]
[{"$nulls":48},{"$f":"+IF(AX139=\"\",\"\",MAX(AW$1:AW138)+1)","v":""},{"$f":"IF(Compliance_Options!B161=\"\",\"\",Compliance_Options!B161)","v":""},{"$f":"IF(Compliance_Options!C161=\"\",\"\",Compliance_Options!C161)","v":""},{"$f":"IF(Compliance_Options!D161=\"\",\"\",Compliance_Options!D161)","v":""},{"$f":"IF(Compliance_Options!E161=\"\",\"\",Compliance_Options!E161)","v":""},{"$f":"IF(Compliance_Options!F161=\"\",\"\",Compliance_Options!F161)","v":""},"    ",{"$f":"IF(COUNTIF(BC$2:BC139,BC139)=1,BC139,\"\")","v":""},"","","","","","","",{"$f":"+IF(BK139=\"\",\"\",MAX(BL$1:BL138)+1)","v":""},"","","","","","","",{"$f":"+IF(BS139=\"\",\"\",MAX(BT$1:BT138)+1)","v":""},"","","","","","","",{"$f":"+IF(CA139=\"\",\"\",MAX(CB$1:CB138)+1)","v":""},"","","","","","","",{"$f":"+IF(CI139=\"\",\"\",MAX(CJ$1:CJ138)+1)","v":""},"","","","","",null,{"$f":"+IF(CR139=\"\",\"\",MAX(CQ$1:CQ138)+1)","v":""},{"$f":"IF(Compliance_Options!B161=\"\",\"\",Compliance_Options!B161)","v":""},{"$f":"IF(Compliance_Options!C161=\"\",\"\",Compliance_Options!C161)","v":""},{"$f":"IF(Compliance_Options!D161=\"\",\"\",Compliance_Options!D161)","v":""},"  ",{"$f":"IF(COUNTIF(CU$2:CU139,CU139)=1,CU139,\"\")","v":""},"","","",""]
[{"$nulls":48},{"$f":"+IF(AX140=\"\",\"\",MAX(AW$1:AW139)+1)","v":""},{"$f":"IF(Compliance_Options!B162=\"\",\"\",Compliance_Options!B162)","v":""},{"$f":"IF(Compliance_Options!C162=\"\",\"\",Compliance_Options!C162)","v":""},{"$f":"IF(Compliance_Options!D162=\"\",\"\",Compliance_Options!D162)","v":""},{"$f":"IF(Compliance_Options!E162=\"\",\"\",Compliance_Options!E162)","v":""},{"$f":"IF(Compliance_Options!F162=\"\",\"\",Compliance_Options!F162)","v":""},"    ",{"$f":"IF(COUNTIF(BC$2:BC140,BC140)=1,BC140,\"\")","v":""},"","","","","","","",{"$f":"+IF(BK140=\"\",\"\",MAX(BL$1:BL139)+1)","v":""},"","","","","","","",{"$f":"+IF(BS140=\"\",\"\",MAX(BT$1:BT139)+1)","v":""},"","","","","","","",{"$f":"+IF(CA140=\"\",\"\",MAX(CB$1:CB139)+1)","v":""},"","","","","","","",{"$f":"+IF(CI140=\"\",\"\",MAX(CJ$1:CJ139)+1)","v":""},"","","","","",null,{"$f":"+IF(CR140=\"\",\"\",MAX(CQ$1:CQ139)+1)","v":""},{"$f":"IF(Compliance_Options!B162=\"\",\"\",Compliance_Options!B162)","v":""},{"$f":"IF(Compliance_Options!C162=\"\",\"\",Compliance_Options!C162)","v":""},{"$f":"IF(Compliance_Options!D162=\"\",\"\",Compliance_Options!D162)","v":""},"  ",{"$f":"IF(COUNTIF(CU$2:CU140,CU140)=1,CU140,\"\")","v":""},"","","",""]
[{"$nulls":48},{"$f":"+IF(AX141=\"\",\"\",MAX(AW$1:AW140)+1)","v":""},{"$f":"IF(Compliance_Options!B163=\"\",\"\",Compliance_Options!B163)","v":""},{"$f":"IF(Compliance_Options!C163=\"\",\"\",Compliance_Options!C163)","v":""},{"$f":"IF(Compliance_Options!D163=\"\",\"\",Compliance_Options!D163)","v":""},{"$f":"IF(Compliance_Options!E163=\"\",\"\",Compliance_Options!E163)","v":""},{"$f":"IF(Compliance_Options!F163=\"\",\"\",Compliance_Options!F163)","v":""},"    ",{"$f":"IF(COUNTIF(BC$2:BC141,BC141)=1,BC141,\"\")","v":""},"","","","","","","",{"$f":"+IF(BK141=\"\",\"\",MAX(BL$1:BL140)+1)","v":""},"","","","","","","",{"$f":"+IF(BS141=\"\",\"\",MAX(BT$1:BT140)+1)","v":""},"","","","","","","",{"$f":"+IF(CA141=\"\",\"\",MAX(CB$1:CB140)+1)","v":""},"","","","","","","",{"$f":"+IF(CI141=\"\",\"\",MAX(CJ$1:CJ140)+1)","v":""},"","","","","",null,{"$f":"+IF(CR141=\"\",\"\",MAX(CQ$1:CQ140)+1)","v":""},{"$f":"IF(Compliance_Options!B163=\"\",\"\",Compliance_Options!B163)","v":""},{"$f":"IF(Compliance_Options!C163=\"\",\"\",Compliance_Options!C163)","v":""},{"$f":"IF(Compliance_Options!D163=\"\",\"\",Compliance_Options!D163)","v":""},"  ",{"$f":"IF(COUNTIF(CU$2:CU141,CU141)=1,CU141,\"\")","v":""},"","","",""]
[{"$nulls":48},{"$f":"+IF(AX142=\"\",\"\",MAX(AW$1:AW141)+1)","v":""},{"$f":"IF(Compliance_Options!B164=\"\",\"\",Compliance_Options!B164)","v":""},{"$f":"IF(Compliance_Options!C164=\"\",\"\",Compliance_Options!C164)","v":""},{"$f":"IF(Compliance_Options!D164=\"\",\"\",Compliance_Options!D164)","v":""},{"$f":"IF(Compliance_Options!E164=\"\",\"\",Compliance_Options!E164)","v":""},{"$f":"IF(Compliance_Options!F164=\"\",\"\",Compliance_Options!F164)","v":""},"    ",{"$f":"IF(COUNTIF(BC$2:BC142,BC142)=1,BC142,\"\")","v":""},"","","","","","","",{"$f":"+IF(BK142=\"\",\"\",MAX(BL$1:BL141)+1)","v":""},"","","","","","","",{"$f":"+IF(BS142=\"\",\"\",MAX(BT$1:BT141)+1)","v":""},"","","","","","","",{"$f":"+IF(CA142=\"\",\"\",MAX(CB$1:CB141)+1)","v":""},"","","","","","","",{"$f":"+IF(CI142=\"\",\"\",MAX(CJ$1:CJ141)+1)","v":""},"","","","","",null,{"$f":"+IF(CR142=\"\",\"\",MAX(CQ$1:CQ141)+1)","v":""},{"$f":"IF(Compliance_Options!B164=\"\",\"\",Compliance_Options!B164)","v":""},{"$f":"IF(Compliance_Options!C164=\"\",\"\",Compliance_Options!C164)","v":""},{"$f":"IF(Compliance_Options!D164=\"\",\"\",Compliance_Options!D164)","v":""},"  ",{"$f":"IF(COUNTIF(CU$2:CU142,CU142)=1,CU142,\"\")","v":""},"","","",""]
[{"$nulls":48},{"$f":"+IF(AX143=\"\",\"\",MAX(AW$1:AW142)+1)","v":""},{"$f":"IF(Compliance_Options!B165=\"\",\"\",Compliance_Options!B165)","v":""},{"$f":"IF(Compliance_Options!C165=\"\",\"\",Compliance_Options!C165)","v":""},{"$f":"IF(Compliance_Options!D165=\"\",\"\",Compliance_Options!D165)","v":""},{"$f":"IF(Compliance_Options!E165=\"\",\"\",Compliance_Options!E165)","v":""},{"$f":"IF(Compliance_Options!F165=\"\",\"\",Compliance_Options!F165)","v":""},"    ",{"$f":"IF(COUNTIF(BC$2:BC143,BC143)=1,BC143,\"\")","v":""},"","","","","","","",{"$f":"+IF(BK143=\"\",\"\",MAX(BL$1:BL142)+1)","v":""},"","","","","","","",{"$f":"+IF(BS143=\"\",\"\",MAX(BT$1:BT142)+1)","v":""},"","","","","","","",{"$f":"+IF(CA143=\"\",\"\",MAX(CB$1:CB142)+1)","v":""},"","","","","","","",{"$f":"+IF(CI143=\"\",\"\",MAX(CJ$1:CJ142)+1)","v":""},"","","","","",null,{"$f":"+IF(CR143=\"\",\"\",MAX(CQ$1:CQ142)+1)","v":""},{"$f":"IF(Compliance_Options!B165=\"\",\"\",Compliance_Options!B165)","v":""},{"$f":"IF(Compliance_Options!C165=\"\",\"\",Compliance_Options!C165)","v":""},{"$f":"IF(Compliance_Options!D165=\"\",\"\",Compliance_Options!D165)","v":""},"  ",{"$f":"IF(COUNTIF(CU$2:CU143,CU143)=1,CU143,\"\")","v":""},"","","",""]
[{"$nulls":48},{"$f":"+IF(AX144=\"\",\"\",MAX(AW$1:AW143)+1)","v":""},{"$f":"IF(Compliance_Options!B166=\"\",\"\",Compliance_Options!B166)","v":""},{"$f":"IF(Compliance_Options!C166=\"\",\"\",Compliance_Options!C166)","v":""},{"$f":"IF(Compliance_Options!D166=\"\",\"\",Compliance_Options!D166)","v":""},{"$f":"IF(Compliance_Options!E166=\"\",\"\",Compliance_Options!E166)","v":""},{"$f":"IF(Compliance_Options!F166=\"\",\"\",Compliance_Options!F166)","v":""},"    ",{"$f":"IF(COUNTIF(BC$2:BC144,BC144)=1,BC144,\"\")","v":""},"","","","","","","",{"$f":"+IF(BK144=\"\",\"\",MAX(BL$1:BL143)+1)","v":""},"","","","","","","",{"$f":"+IF(BS144=\"\",\"\",MAX(BT$1:BT143)+1)","v":""},"","","","","","","",{"$f":"+IF(CA144=\"\",\"\",MAX(CB$1:CB143)+1)","v":""},"","","","","","","",{"$f":"+IF(CI144=\"\",\"\",MAX(CJ$1:CJ143)+1)","v":""},"","","","","",null,{"$f":"+IF(CR144=\"\",\"\",MAX(CQ$1:CQ143)+1)","v":""},{"$f":"IF(Compliance_Options!B166=\"\",\"\",Compliance_Options!B166)","v":""},{"$f":"IF(Compliance_Options!C166=\"\",\"\",Compliance_Options!C166)","v":""},{"$f":"IF(Compliance_Options!D166=\"\",\"\",Compliance_Options!D166)","v":""},"  ",{"$f":"IF(COUNTIF(CU$2:CU144,CU144)=1,CU144,\"\")","v":""},"","","",""]
[{"$nulls":48},{"$f":"+IF(AX145=\"\",\"\",MAX(AW$1:AW144)+1)","v":""},{"$f":"IF(Compliance_Options!B167=\"\",\"\",Compliance_Options!B167)","v":""},{"$f":"IF(Compliance_Options!C167=\"\",\"\",Compliance_Options!C167)","v":""},{"$f":"IF(Compliance_Options!D167=\"\",\"\",Compliance_Options!D167)","v":""},{"$f":"IF(Compliance_Options!E167=\"\",\"\",Compliance_Options!E167)","v":""},{"$f":"IF(Compliance_Options!F167=\"\",\"\",Compliance_Options!F167)","v":""},"    ",{"$f":"IF(COUNTIF(BC$2:BC145,BC145)=1,BC145,\"\")","v":""},"","","","","","","",{"$f":"+IF(BK145=\"\",\"\",MAX(BL$1:BL144)+1)","v":""},"","","","","","","",{"$f":"+IF(BS145=\"\",\"\",MAX(BT$1:BT144)+1)","v":""},"","","","","","","",{"$f":"+IF(CA145=\"\",\"\",MAX(CB$1:CB144)+1)","v":""},"","","","","","","",{"$f":"+IF(CI145=\"\",\"\",MAX(CJ$1:CJ144)+1)","v":""},"","","","","",null,{"$f":"+IF(CR145=\"\",\"\",MAX(CQ$1:CQ144)+1)","v":""},{"$f":"IF(Compliance_Options!B167=\"\",\"\",Compliance_Options!B167)","v":""},{"$f":"IF(Compliance_Options!C167=\"\",\"\",Compliance_Options!C167)","v":""},{"$f":"IF(Compliance_Options!D167=\"\",\"\",Compliance_Options!D167)","v":""},"  ",{"$f":"IF(COUNTIF(CU$2:CU145,CU145)=1,CU145,\"\")","v":""},"","","",""]
[{"$nulls":48},{"$f":"+IF(AX146=\"\",\"\",MAX(AW$1:AW145)+1)","v":""},{"$f":"IF(Compliance_Options!B168=\"\",\"\",Compliance_Options!B168)","v":""},{"$f":"IF(Compliance_Options!C168=\"\",\"\",Compliance_Options!C168)","v":""},{"$f":"IF(Compliance_Options!D168=\"\",\"\",Compliance_Options!D168)","v":""},{"$f":"IF(Compliance_Options!E168=\"\",\"\",Compliance_Options!E168)","v":""},{"$f":"IF(Compliance_Options!F168=\"\",\"\",Compliance_Options!F168)","v":""},"    ",{"$f":"IF(COUNTIF(BC$2:BC146,BC146)=1,BC146,\"\")","v":""},"","","","","","","",{"$f":"+IF(BK146=\"\",\"\",MAX(BL$1:BL145)+1)","v":""},"","","","","","","",{"$f":"+IF(BS146=\"\",\"\",MAX(BT$1:BT145)+1)","v":""},"","","","","","","",{"$f":"+IF(CA146=\"\",\"\",MAX(CB$1:CB145)+1)","v":""},"","","","","","","",{"$f":"+IF(CI146=\"\",\"\",MAX(CJ$1:CJ145)+1)","v":""},"","","","","",null,{"$f":"+IF(CR146=\"\",\"\",MAX(CQ$1:CQ145)+1)","v":""},{"$f":"IF(Compliance_Options!B168=\"\",\"\",Compliance_Options!B168)","v":""},{"$f":"IF(Compliance_Options!C168=\"\",\"\",Compliance_Options!C168)","v":""},{"$f":"IF(Compliance_Options!D168=\"\",\"\",Compliance_Options!D168)","v":""},"  ",{"$f":"IF(COUNTIF(CU$2:CU146,CU146)=1,CU146,\"\")","v":""},"","","",""]
[{"$nulls":48},{"$f":"+IF(AX147=\"\",\"\",MAX(AW$1:AW146)+1)","v":""},{"$f":"IF(Compliance_Options!B169=\"\",\"\",Compliance_Options!B169)","v":""},{"$f":"IF(Compliance_Options!C169=\"\",\"\",Compliance_Options!C169)","v":""},{"$f":"IF(Compliance_Options!D169=\"\",\"\",Compliance_Options!D169)","v":""},{"$f":"IF(Compliance_Options!E169=\"\",\"\",Compliance_Options!E169)","v":""},{"$f":"IF(Compliance_Options!F169=\"\",\"\",Compliance_Options!F169)","v":""},"    ",{"$f":"IF(COUNTIF(BC$2:BC147,BC147)=1,BC147,\"\")","v":""},"","","","","","","",{"$f":"+IF(BK147=\"\",\"\",MAX(BL$1:BL146)+1)","v":""},"","","","","","","",{"$f":"+IF(BS147=\"\",\"\",MAX(BT$1:BT146)+1)","v":""},"","","","","","","",{"$f":"+IF(CA147=\"\",\"\",MAX(CB$1:CB146)+1)","v":""},"","","","","","","",{"$f":"+IF(CI147=\"\",\"\",MAX(CJ$1:CJ146)+1)","v":""},"","","","","",null,{"$f":"+IF(CR147=\"\",\"\",MAX(CQ$1:CQ146)+1)","v":""},{"$f":"IF(Compliance_Options!B169=\"\",\"\",Compliance_Options!B169)","v":""},{"$f":"IF(Compliance_Options!C169=\"\",\"\",Compliance_Options!C169)","v":""},{"$f":"IF(Compliance_Options!D169=\"\",\"\",Compliance_Options!D169)","v":""},"  ",{"$f":"IF(COUNTIF(CU$2:CU147,CU147)=1,CU147,\"\")","v":""},"","","",""]
[{"$nulls":48},{"$f":"+IF(AX148=\"\",\"\",MAX(AW$1:AW147)+1)","v":""},{"$f":"IF(Compliance_Options!B170=\"\",\"\",Compliance_Options!B170)","v":""},{"$f":"IF(Compliance_Options!C170=\"\",\"\",Compliance_Options!C170)","v":""},{"$f":"IF(Compliance_Options!D170=\"\",\"\",Compliance_Options!D170)","v":""},{"$f":"IF(Compliance_Options!E170=\"\",\"\",Compliance_Options!E170)","v":""},{"$f":"IF(Compliance_Options!F170=\"\",\"\",Compliance_Options!F170)","v":""},"    ",{"$f":"IF(COUNTIF(BC$2:BC148,BC148)=1,BC148,\"\")","v":""},"","","","","","","",{"$f":"+IF(BK148=\"\",\"\",MAX(BL$1:BL147)+1)","v":""},"","","","","","","",{"$f":"+IF(BS148=\"\",\"\",MAX(BT$1:BT147)+1)","v":""},"","","","","","","",{"$f":"+IF(CA148=\"\",\"\",MAX(CB$1:CB147)+1)","v":""},"","","","","","","",{"$f":"+IF(CI148=\"\",\"\",MAX(CJ$1:CJ147)+1)","v":""},"","","","","",null,{"$f":"+IF(CR148=\"\",\"\",MAX(CQ$1:CQ147)+1)","v":""},{"$f":"IF(Compliance_Options!B170=\"\",\"\",Compliance_Options!B170)","v":""},{"$f":"IF(Compliance_Options!C170=\"\",\"\",Compliance_Options!C170)","v":""},{"$f":"IF(Compliance_Options!D170=\"\",\"\",Compliance_Options!D170)","v":""},"  ",{"$f":"IF(COUNTIF(CU$2:CU148,CU148)=1,CU148,\"\")","v":""},"","","",""]
[{"$nulls":48},{"$f":"+IF(AX149=\"\",\"\",MAX(AW$1:AW148)+1)","v":""},{"$f":"IF(Compliance_Options!B171=\"\",\"\",Compliance_Options!B171)","v":""},{"$f":"IF(Compliance_Options!C171=\"\",\"\",Compliance_Options!C171)","v":""},{"$f":"IF(Compliance_Options!D171=\"\",\"\",Compliance_Options!D171)","v":""},{"$f":"IF(Compliance_Options!E171=\"\",\"\",Compliance_Options!E171)","v":""},{"$f":"IF(Compliance_Options!F171=\"\",\"\",Compliance_Options!F171)","v":""},"    ",{"$f":"IF(COUNTIF(BC$2:BC149,BC149)=1,BC149,\"\")","v":""},"","","","","","","",{"$f":"+IF(BK149=\"\",\"\",MAX(BL$1:BL148)+1)","v":""},"","","","","","","",{"$f":"+IF(BS149=\"\",\"\",MAX(BT$1:BT148)+1)","v":""},"","","","","","","",{"$f":"+IF(CA149=\"\",\"\",MAX(CB$1:CB148)+1)","v":""},"","","","","","","",{"$f":"+IF(CI149=\"\",\"\",MAX(CJ$1:CJ148)+1)","v":""},"","","","","",null,{"$f":"+IF(CR149=\"\",\"\",MAX(CQ$1:CQ148)+1)","v":""},{"$f":"IF(Compliance_Options!B171=\"\",\"\",Compliance_Options!B171)","v":""},{"$f":"IF(Compliance_Options!C171=\"\",\"\",Compliance_Options!C171)","v":""},{"$f":"IF(Compliance_Options!D171=\"\",\"\",Compliance_Options!D171)","v":""},"  ",{"$f":"IF(COUNTIF(CU$2:CU149,CU149)=1,CU149,\"\")","v":""},"","","",""]
[{"$nulls":48},{"$f":"+IF(AX150=\"\",\"\",MAX(AW$1:AW149)+1)","v":""},{"$f":"IF(Compliance_Options!B172=\"\",\"\",Compliance_Options!B172)","v":""},{"$f":"IF(Compliance_Options!C172=\"\",\"\",Compliance_Options!C172)","v":""},{"$f":"IF(Compliance_Options!D172=\"\",\"\",Compliance_Options!D172)","v":""},{"$f":"IF(Compliance_Options!E172=\"\",\"\",Compliance_Options!E172)","v":""},{"$f":"IF(Compliance_Options!F172=\"\",\"\",Compliance_Options!F172)","v":""},"    ",{"$f":"IF(COUNTIF(BC$2:BC150,BC150)=1,BC150,\"\")","v":""},"","","","","","","",{"$f":"+IF(BK150=\"\",\"\",MAX(BL$1:BL149)+1)","v":""},"","","","","","","",{"$f":"+IF(BS150=\"\",\"\",MAX(BT$1:BT149)+1)","v":""},"","","","","","","",{"$f":"+IF(CA150=\"\",\"\",MAX(CB$1:CB149)+1)","v":""},"","","","","","","",{"$f":"+IF(CI150=\"\",\"\",MAX(CJ$1:CJ149)+1)","v":""},"","","","","",null,{"$f":"+IF(CR150=\"\",\"\",MAX(CQ$1:CQ149)+1)","v":""},{"$f":"IF(Compliance_Options!B172=\"\",\"\",Compliance_Options!B172)","v":""},{"$f":"IF(Compliance_Options!C172=\"\",\"\",Compliance_Options!C172)","v":""},{"$f":"IF(Compliance_Options!D172=\"\",\"\",Compliance_Options!D172)","v":""},"  ",{"$f":"IF(COUNTIF(CU$2:CU150,CU150)=1,CU150,\"\")","v":""},"","","",""]
[{"$nulls":48},{"$f":"+IF(AX151=\"\",\"\",MAX(AW$1:AW150)+1)","v":""},{"$f":"IF(Compliance_Options!B173=\"\",\"\",Compliance_Options!B173)","v":""},{"$f":"IF(Compliance_Options!C173=\"\",\"\",Compliance_Options!C173)","v":""},{"$f":"IF(Compliance_Options!D173=\"\",\"\",Compliance_Options!D173)","v":""},{"$f":"IF(Compliance_Options!E173=\"\",\"\",Compliance_Options!E173)","v":""},{"$f":"IF(Compliance_Options!F173=\"\",\"\",Compliance_Options!F173)","v":""},"    ",{"$f":"IF(COUNTIF(BC$2:BC151,BC151)=1,BC151,\"\")","v":""},"","","","","","","",{"$f":"+IF(BK151=\"\",\"\",MAX(BL$1:BL150)+1)","v":""},"","","","","","","",{"$f":"+IF(BS151=\"\",\"\",MAX(BT$1:BT150)+1)","v":""},"","","","","","","",{"$f":"+IF(CA151=\"\",\"\",MAX(CB$1:CB150)+1)","v":""},"","","","","","","",{"$f":"+IF(CI151=\"\",\"\",MAX(CJ$1:CJ150)+1)","v":""},"","","","","",null,{"$f":"+IF(CR151=\"\",\"\",MAX(CQ$1:CQ150)+1)","v":""},{"$f":"IF(Compliance_Options!B173=\"\",\"\",Compliance_Options!B173)","v":""},{"$f":"IF(Compliance_Options!C173=\"\",\"\",Compliance_Options!C173)","v":""},{"$f":"IF(Compliance_Options!D173=\"\",\"\",Compliance_Options!D173)","v":""},"  ",{"$f":"IF(COUNTIF(CU$2:CU151,CU151)=1,CU151,\"\")","v":""},"","","",""]
[{"$nulls":48},{"$f":"+IF(AX152=\"\",\"\",MAX(AW$1:AW151)+1)","v":""},{"$f":"IF(Compliance_Options!B174=\"\",\"\",Compliance_Options!B174)","v":""},{"$f":"IF(Compliance_Options!C174=\"\",\"\",Compliance_Options!C174)","v":""},{"$f":"IF(Compliance_Options!D174=\"\",\"\",Compliance_Options!D174)","v":""},{"$f":"IF(Compliance_Options!E174=\"\",\"\",Compliance_Options!E174)","v":""},{"$f":"IF(Compliance_Options!F174=\"\",\"\",Compliance_Options!F174)","v":""},"    ",{"$f":"IF(COUNTIF(BC$2:BC152,BC152)=1,BC152,\"\")","v":""},"","","","","","","",{"$f":"+IF(BK152=\"\",\"\",MAX(BL$1:BL151)+1)","v":""},"","","","","","","",{"$f":"+IF(BS152=\"\",\"\",MAX(BT$1:BT151)+1)","v":""},"","","","","","","",{"$f":"+IF(CA152=\"\",\"\",MAX(CB$1:CB151)+1)","v":""},"","","","","","","",{"$f":"+IF(CI152=\"\",\"\",MAX(CJ$1:CJ151)+1)","v":""},"","","","","",null,{"$f":"+IF(CR152=\"\",\"\",MAX(CQ$1:CQ151)+1)","v":""},{"$f":"IF(Compliance_Options!B174=\"\",\"\",Compliance_Options!B174)","v":""},{"$f":"IF(Compliance_Options!C174=\"\",\"\",Compliance_Options!C174)","v":""},{"$f":"IF(Compliance_Options!D174=\"\",\"\",Compliance_Options!D174)","v":""},"  ",{"$f":"IF(COUNTIF(CU$2:CU152,CU152)=1,CU152,\"\")","v":""},"","","",""]
[{"$nulls":48},{"$f":"+IF(AX153=\"\",\"\",MAX(AW$1:AW152)+1)","v":""},{"$f":"IF(Compliance_Options!B175=\"\",\"\",Compliance_Options!B175)","v":""},{"$f":"IF(Compliance_Options!C175=\"\",\"\",Compliance_Options!C175)","v":""},{"$f":"IF(Compliance_Options!D175=\"\",\"\",Compliance_Options!D175)","v":""},{"$f":"IF(Compliance_Options!E175=\"\",\"\",Compliance_Options!E175)","v":""},{"$f":"IF(Compliance_Options!F175=\"\",\"\",Compliance_Options!F175)","v":""},"    ",{"$f":"IF(COUNTIF(BC$2:BC153,BC153)=1,BC153,\"\")","v":""},"","","","","","","",{"$f":"+IF(BK153=\"\",\"\",MAX(BL$1:BL152)+1)","v":""},"","","","","","","",{"$f":"+IF(BS153=\"\",\"\",MAX(BT$1:BT152)+1)","v":""},"","","","","","","",{"$f":"+IF(CA153=\"\",\"\",MAX(CB$1:CB152)+1)","v":""},"","","","","","","",{"$f":"+IF(CI153=\"\",\"\",MAX(CJ$1:CJ152)+1)","v":""},"","","","","",null,{"$f":"+IF(CR153=\"\",\"\",MAX(CQ$1:CQ152)+1)","v":""},{"$f":"IF(Compliance_Options!B175=\"\",\"\",Compliance_Options!B175)","v":""},{"$f":"IF(Compliance_Options!C175=\"\",\"\",Compliance_Options!C175)","v":""},{"$f":"IF(Compliance_Options!D175=\"\",\"\",Compliance_Options!D175)","v":""},"  ",{"$f":"IF(COUNTIF(CU$2:CU153,CU153)=1,CU153,\"\")","v":""},"","","",""]
[{"$nulls":48},{"$f":"+IF(AX154=\"\",\"\",MAX(AW$1:AW153)+1)","v":""},{"$f":"IF(Compliance_Options!B176=\"\",\"\",Compliance_Options!B176)","v":""},{"$f":"IF(Compliance_Options!C176=\"\",\"\",Compliance_Options!C176)","v":""},{"$f":"IF(Compliance_Options!D176=\"\",\"\",Compliance_Options!D176)","v":""},{"$f":"IF(Compliance_Options!E176=\"\",\"\",Compliance_Options!E176)","v":""},{"$f":"IF(Compliance_Options!F176=\"\",\"\",Compliance_Options!F176)","v":""},"    ",{"$f":"IF(COUNTIF(BC$2:BC154,BC154)=1,BC154,\"\")","v":""},"","","","","","","",{"$f":"+IF(BK154=\"\",\"\",MAX(BL$1:BL153)+1)","v":""},"","","","","","","",{"$f":"+IF(BS154=\"\",\"\",MAX(BT$1:BT153)+1)","v":""},"","","","","","","",{"$f":"+IF(CA154=\"\",\"\",MAX(CB$1:CB153)+1)","v":""},"","","","","","","",{"$f":"+IF(CI154=\"\",\"\",MAX(CJ$1:CJ153)+1)","v":""},"","","","","",null,{"$f":"+IF(CR154=\"\",\"\",MAX(CQ$1:CQ153)+1)","v":""},{"$f":"IF(Compliance_Options!B176=\"\",\"\",Compliance_Options!B176)","v":""},{"$f":"IF(Compliance_Options!C176=\"\",\"\",Compliance_Options!C176)","v":""},{"$f":"IF(Compliance_Options!D176=\"\",\"\",Compliance_Options!D176)","v":""},"  ",{"$f":"IF(COUNTIF(CU$2:CU154,CU154)=1,CU154,\"\")","v":""},"","","",""]
[{"$nulls":48},{"$f":"+IF(AX155=\"\",\"\",MAX(AW$1:AW154)+1)","v":""},{"$f":"IF(Compliance_Options!B177=\"\",\"\",Compliance_Options!B177)","v":""},{"$f":"IF(Compliance_Options!C177=\"\",\"\",Compliance_Options!C177)","v":""},{"$f":"IF(Compliance_Options!D177=\"\",\"\",Compliance_Options!D177)","v":""},{"$f":"IF(Compliance_Options!E177=\"\",\"\",Compliance_Options!E177)","v":""},{"$f":"IF(Compliance_Options!F177=\"\",\"\",Compliance_Options!F177)","v":""},"    ",{"$f":"IF(COUNTIF(BC$2:BC155,BC155)=1,BC155,\"\")","v":""},"","","","","","","",{"$f":"+IF(BK155=\"\",\"\",MAX(BL$1:BL154)+1)","v":""},"","","","","","","",{"$f":"+IF(BS155=\"\",\"\",MAX(BT$1:BT154)+1)","v":""},"","","","","","","",{"$f":"+IF(CA155=\"\",\"\",MAX(CB$1:CB154)+1)","v":""},"","","","","","","",{"$f":"+IF(CI155=\"\",\"\",MAX(CJ$1:CJ154)+1)","v":""},"","","","","",null,{"$f":"+IF(CR155=\"\",\"\",MAX(CQ$1:CQ154)+1)","v":""},{"$f":"IF(Compliance_Options!B177=\"\",\"\",Compliance_Options!B177)","v":""},{"$f":"IF(Compliance_Options!C177=\"\",\"\",Compliance_Options!C177)","v":""},{"$f":"IF(Compliance_Options!D177=\"\",\"\",Compliance_Options!D177)","v":""},"  ",{"$f":"IF(COUNTIF(CU$2:CU155,CU155)=1,CU155,\"\")","v":""},"","","",""]
[{"$nulls":48},{"$f":"+IF(AX156=\"\",\"\",MAX(AW$1:AW155)+1)","v":""},{"$f":"IF(Compliance_Options!B178=\"\",\"\",Compliance_Options!B178)","v":""},{"$f":"IF(Compliance_Options!C178=\"\",\"\",Compliance_Options!C178)","v":""},{"$f":"IF(Compliance_Options!D178=\"\",\"\",Compliance_Options!D178)","v":""},{"$f":"IF(Compliance_Options!E178=\"\",\"\",Compliance_Options!E178)","v":""},{"$f":"IF(Compliance_Options!F178=\"\",\"\",Compliance_Options!F178)","v":""},"    ",{"$f":"IF(COUNTIF(BC$2:BC156,BC156)=1,BC156,\"\")","v":""},"","","","","","","",{"$f":"+IF(BK156=\"\",\"\",MAX(BL$1:BL155)+1)","v":""},"","","","","","","",{"$f":"+IF(BS156=\"\",\"\",MAX(BT$1:BT155)+1)","v":""},"","","","","","","",{"$f":"+IF(CA156=\"\",\"\",MAX(CB$1:CB155)+1)","v":""},"","","","","","","",{"$f":"+IF(CI156=\"\",\"\",MAX(CJ$1:CJ155)+1)","v":""},"","","","","",null,{"$f":"+IF(CR156=\"\",\"\",MAX(CQ$1:CQ155)+1)","v":""},{"$f":"IF(Compliance_Options!B178=\"\",\"\",Compliance_Options!B178)","v":""},{"$f":"IF(Compliance_Options!C178=\"\",\"\",Compliance_Options!C178)","v":""},{"$f":"IF(Compliance_Options!D178=\"\",\"\",Compliance_Options!D178)","v":""},"  ",{"$f":"IF(COUNTIF(CU$2:CU156,CU156)=1,CU156,\"\")","v":""},"","","",""]
[{"$nulls":48},{"$f":"+IF(AX157=\"\",\"\",MAX(AW$1:AW156)+1)","v":""},{"$f":"IF(Compliance_Options!B179=\"\",\"\",Compliance_Options!B179)","v":""},{"$f":"IF(Compliance_Options!C179=\"\",\"\",Compliance_Options!C179)","v":""},{"$f":"IF(Compliance_Options!D179=\"\",\"\",Compliance_Options!D179)","v":""},{"$f":"IF(Compliance_Options!E179=\"\",\"\",Compliance_Options!E179)","v":""},{"$f":"IF(Compliance_Options!F179=\"\",\"\",Compliance_Options!F179)","v":""},"    ",{"$f":"IF(COUNTIF(BC$2:BC157,BC157)=1,BC157,\"\")","v":""},"","","","","","","",{"$f":"+IF(BK157=\"\",\"\",MAX(BL$1:BL156)+1)","v":""},"","","","","","","",{"$f":"+IF(BS157=\"\",\"\",MAX(BT$1:BT156)+1)","v":""},"","","","","","","",{"$f":"+IF(CA157=\"\",\"\",MAX(CB$1:CB156)+1)","v":""},"","","","","","","",{"$f":"+IF(CI157=\"\",\"\",MAX(CJ$1:CJ156)+1)","v":""},"","","","","",null,{"$f":"+IF(CR157=\"\",\"\",MAX(CQ$1:CQ156)+1)","v":""},{"$f":"IF(Compliance_Options!B179=\"\",\"\",Compliance_Options!B179)","v":""},{"$f":"IF(Compliance_Options!C179=\"\",\"\",Compliance_Options!C179)","v":""},{"$f":"IF(Compliance_Options!D179=\"\",\"\",Compliance_Options!D179)","v":""},"  ",{"$f":"IF(COUNTIF(CU$2:CU157,CU157)=1,CU157,\"\")","v":""},"","","",""]
[{"$nulls":48},{"$f":"+IF(AX158=\"\",\"\",MAX(AW$1:AW157)+1)","v":""},{"$f":"IF(Compliance_Options!B180=\"\",\"\",Compliance_Options!B180)","v":""},{"$f":"IF(Compliance_Options!C180=\"\",\"\",Compliance_Options!C180)","v":""},{"$f":"IF(Compliance_Options!D180=\"\",\"\",Compliance_Options!D180)","v":""},{"$f":"IF(Compliance_Options!E180=\"\",\"\",Compliance_Options!E180)","v":""},{"$f":"IF(Compliance_Options!F180=\"\",\"\",Compliance_Options!F180)","v":""},"    ",{"$f":"IF(COUNTIF(BC$2:BC158,BC158)=1,BC158,\"\")","v":""},"","","","","","","",{"$f":"+IF(BK158=\"\",\"\",MAX(BL$1:BL157)+1)","v":""},"","","","","","","",{"$f":"+IF(BS158=\"\",\"\",MAX(BT$1:BT157)+1)","v":""},"","","","","","","",{"$f":"+IF(CA158=\"\",\"\",MAX(CB$1:CB157)+1)","v":""},"","","","","","","",{"$f":"+IF(CI158=\"\",\"\",MAX(CJ$1:CJ157)+1)","v":""},"","","","","",null,{"$f":"+IF(CR158=\"\",\"\",MAX(CQ$1:CQ157)+1)","v":""},{"$f":"IF(Compliance_Options!B180=\"\",\"\",Compliance_Options!B180)","v":""},{"$f":"IF(Compliance_Options!C180=\"\",\"\",Compliance_Options!C180)","v":""},{"$f":"IF(Compliance_Options!D180=\"\",\"\",Compliance_Options!D180)","v":""},"  ",{"$f":"IF(COUNTIF(CU$2:CU158,CU158)=1,CU158,\"\")","v":""},"","","",""]
[{"$nulls":48},{"$f":"+IF(AX159=\"\",\"\",MAX(AW$1:AW158)+1)","v":""},{"$f":"IF(Compliance_Options!B181=\"\",\"\",Compliance_Options!B181)","v":""},{"$f":"IF(Compliance_Options!C181=\"\",\"\",Compliance_Options!C181)","v":""},{"$f":"IF(Compliance_Options!D181=\"\",\"\",Compliance_Options!D181)","v":""},{"$f":"IF(Compliance_Options!E181=\"\",\"\",Compliance_Options!E181)","v":""},{"$f":"IF(Compliance_Options!F181=\"\",\"\",Compliance_Options!F181)","v":""},"    ",{"$f":"IF(COUNTIF(BC$2:BC159,BC159)=1,BC159,\"\")","v":""},"","","","","","","",{"$f":"+IF(BK159=\"\",\"\",MAX(BL$1:BL158)+1)","v":""},"","","","","","","",{"$f":"+IF(BS159=\"\",\"\",MAX(BT$1:BT158)+1)","v":""},"","","","","","","",{"$f":"+IF(CA159=\"\",\"\",MAX(CB$1:CB158)+1)","v":""},"","","","","","","",{"$f":"+IF(CI159=\"\",\"\",MAX(CJ$1:CJ158)+1)","v":""},"","","","","",null,{"$f":"+IF(CR159=\"\",\"\",MAX(CQ$1:CQ158)+1)","v":""},{"$f":"IF(Compliance_Options!B181=\"\",\"\",Compliance_Options!B181)","v":""},{"$f":"IF(Compliance_Options!C181=\"\",\"\",Compliance_Options!C181)","v":""},{"$f":"IF(Compliance_Options!D181=\"\",\"\",Compliance_Options!D181)","v":""},"  ",{"$f":"IF(COUNTIF(CU$2:CU159,CU159)=1,CU159,\"\")","v":""},"","","",""]
[{"$nulls":48},{"$f":"+IF(AX160=\"\",\"\",MAX(AW$1:AW159)+1)","v":""},{"$f":"IF(Compliance_Options!B182=\"\",\"\",Compliance_Options!B182)","v":""},{"$f":"IF(Compliance_Options!C182=\"\",\"\",Compliance_Options!C182)","v":""},{"$f":"IF(Compliance_Options!D182=\"\",\"\",Compliance_Options!D182)","v":""},{"$f":"IF(Compliance_Options!E182=\"\",\"\",Compliance_Options!E182)","v":""},{"$f":"IF(Compliance_Options!F182=\"\",\"\",Compliance_Options!F182)","v":""},"    ",{"$f":"IF(COUNTIF(BC$2:BC160,BC160)=1,BC160,\"\")","v":""},"","","","","","","",{"$f":"+IF(BK160=\"\",\"\",MAX(BL$1:BL159)+1)","v":""},"","","","","","","",{"$f":"+IF(BS160=\"\",\"\",MAX(BT$1:BT159)+1)","v":""},"","","","","","","",{"$f":"+IF(CA160=\"\",\"\",MAX(CB$1:CB159)+1)","v":""},"","","","","","","",{"$f":"+IF(CI160=\"\",\"\",MAX(CJ$1:CJ159)+1)","v":""},"","","","","",null,{"$f":"+IF(CR160=\"\",\"\",MAX(CQ$1:CQ159)+1)","v":""},{"$f":"IF(Compliance_Options!B182=\"\",\"\",Compliance_Options!B182)","v":""},{"$f":"IF(Compliance_Options!C182=\"\",\"\",Compliance_Options!C182)","v":""},{"$f":"IF(Compliance_Options!D182=\"\",\"\",Compliance_Options!D182)","v":""},"  ",{"$f":"IF(COUNTIF(CU$2:CU160,CU160)=1,CU160,\"\")","v":""},"","","",""]
[{"$nulls":48},{"$f":"+IF(AX161=\"\",\"\",MAX(AW$1:AW160)+1)","v":""},{"$f":"IF(Compliance_Options!B183=\"\",\"\",Compliance_Options!B183)","v":""},{"$f":"IF(Compliance_Options!C183=\"\",\"\",Compliance_Options!C183)","v":""},{"$f":"IF(Compliance_Options!D183=\"\",\"\",Compliance_Options!D183)","v":""},{"$f":"IF(Compliance_Options!E183=\"\",\"\",Compliance_Options!E183)","v":""},{"$f":"IF(Compliance_Options!F183=\"\",\"\",Compliance_Options!F183)","v":""},"    ",{"$f":"IF(COUNTIF(BC$2:BC161,BC161)=1,BC161,\"\")","v":""},"","","","","","","",{"$f":"+IF(BK161=\"\",\"\",MAX(BL$1:BL160)+1)","v":""},"","","","","","","",{"$f":"+IF(BS161=\"\",\"\",MAX(BT$1:BT160)+1)","v":""},"","","","","","","",{"$f":"+IF(CA161=\"\",\"\",MAX(CB$1:CB160)+1)","v":""},"","","","","","","",{"$f":"+IF(CI161=\"\",\"\",MAX(CJ$1:CJ160)+1)","v":""},"","","","","",null,{"$f":"+IF(CR161=\"\",\"\",MAX(CQ$1:CQ160)+1)","v":""},{"$f":"IF(Compliance_Options!B183=\"\",\"\",Compliance_Options!B183)","v":""},{"$f":"IF(Compliance_Options!C183=\"\",\"\",Compliance_Options!C183)","v":""},{"$f":"IF(Compliance_Options!D183=\"\",\"\",Compliance_Options!D183)","v":""},"  ",{"$f":"IF(COUNTIF(CU$2:CU161,CU161)=1,CU161,\"\")","v":""},"","","",""]
[{"$nulls":48},{"$f":"+IF(AX162=\"\",\"\",MAX(AW$1:AW161)+1)","v":""},{"$f":"IF(Compliance_Options!B184=\"\",\"\",Compliance_Options!B184)","v":""},{"$f":"IF(Compliance_Options!C184=\"\",\"\",Compliance_Options!C184)","v":""},{"$f":"IF(Compliance_Options!D184=\"\",\"\",Compliance_Options!D184)","v":""},{"$f":"IF(Compliance_Options!E184=\"\",\"\",Compliance_Options!E184)","v":""},{"$f":"IF(Compliance_Options!F184=\"\",\"\",Compliance_Options!F184)","v":""},"    ",{"$f":"IF(COUNTIF(BC$2:BC162,BC162)=1,BC162,\"\")","v":""},"","","","","","","",{"$f":"+IF(BK162=\"\",\"\",MAX(BL$1:BL161)+1)","v":""},"","","","","","","",{"$f":"+IF(BS162=\"\",\"\",MAX(BT$1:BT161)+1)","v":""},"","","","","","","",{"$f":"+IF(CA162=\"\",\"\",MAX(CB$1:CB161)+1)","v":""},"","","","","","","",{"$f":"+IF(CI162=\"\",\"\",MAX(CJ$1:CJ161)+1)","v":""},"","","","","",null,{"$f":"+IF(CR162=\"\",\"\",MAX(CQ$1:CQ161)+1)","v":""},{"$f":"IF(Compliance_Options!B184=\"\",\"\",Compliance_Options!B184)","v":""},{"$f":"IF(Compliance_Options!C184=\"\",\"\",Compliance_Options!C184)","v":""},{"$f":"IF(Compliance_Options!D184=\"\",\"\",Compliance_Options!D184)","v":""},"  ",{"$f":"IF(COUNTIF(CU$2:CU162,CU162)=1,CU162,\"\")","v":""},"","","",""]
[{"$nulls":48},{"$f":"+IF(AX163=\"\",\"\",MAX(AW$1:AW162)+1)","v":""},{"$f":"IF(Compliance_Options!B185=\"\",\"\",Compliance_Options!B185)","v":""},{"$f":"IF(Compliance_Options!C185=\"\",\"\",Compliance_Options!C185)","v":""},{"$f":"IF(Compliance_Options!D185=\"\",\"\",Compliance_Options!D185)","v":""},{"$f":"IF(Compliance_Options!E185=\"\",\"\",Compliance_Options!E185)","v":""},{"$f":"IF(Compliance_Options!F185=\"\",\"\",Compliance_Options!F185)","v":""},"    ",{"$f":"IF(COUNTIF(BC$2:BC163,BC163)=1,BC163,\"\")","v":""},"","","","","","","",{"$f":"+IF(BK163=\"\",\"\",MAX(BL$1:BL162)+1)","v":""},"","","","","","","",{"$f":"+IF(BS163=\"\",\"\",MAX(BT$1:BT162)+1)","v":""},"","","","","","","",{"$f":"+IF(CA163=\"\",\"\",MAX(CB$1:CB162)+1)","v":""},"","","","","","","",{"$f":"+IF(CI163=\"\",\"\",MAX(CJ$1:CJ162)+1)","v":""},"","","","","",null,{"$f":"+IF(CR163=\"\",\"\",MAX(CQ$1:CQ162)+1)","v":""},{"$f":"IF(Compliance_Options!B185=\"\",\"\",Compliance_Options!B185)","v":""},{"$f":"IF(Compliance_Options!C185=\"\",\"\",Compliance_Options!C185)","v":""},{"$f":"IF(Compliance_Options!D185=\"\",\"\",Compliance_Options!D185)","v":""},"  ",{"$f":"IF(COUNTIF(CU$2:CU163,CU163)=1,CU163,\"\")","v":""},"","","",""]
[{"$nulls":48},{"$f":"+IF(AX164=\"\",\"\",MAX(AW$1:AW163)+1)","v":""},{"$f":"IF(Compliance_Options!B186=\"\",\"\",Compliance_Options!B186)","v":""},{"$f":"IF(Compliance_Options!C186=\"\",\"\",Compliance_Options!C186)","v":""},{"$f":"IF(Compliance_Options!D186=\"\",\"\",Compliance_Options!D186)","v":""},{"$f":"IF(Compliance_Options!E186=\"\",\"\",Compliance_Options!E186)","v":""},{"$f":"IF(Compliance_Options!F186=\"\",\"\",Compliance_Options!F186)","v":""},"    ",{"$f":"IF(COUNTIF(BC$2:BC164,BC164)=1,BC164,\"\")","v":""},"","","","","","","",{"$f":"+IF(BK164=\"\",\"\",MAX(BL$1:BL163)+1)","v":""},"","","","","","","",{"$f":"+IF(BS164=\"\",\"\",MAX(BT$1:BT163)+1)","v":""},"","","","","","","",{"$f":"+IF(CA164=\"\",\"\",MAX(CB$1:CB163)+1)","v":""},"","","","","","","",{"$f":"+IF(CI164=\"\",\"\",MAX(CJ$1:CJ163)+1)","v":""},"","","","","",null,{"$f":"+IF(CR164=\"\",\"\",MAX(CQ$1:CQ163)+1)","v":""},{"$f":"IF(Compliance_Options!B186=\"\",\"\",Compliance_Options!B186)","v":""},{"$f":"IF(Compliance_Options!C186=\"\",\"\",Compliance_Options!C186)","v":""},{"$f":"IF(Compliance_Options!D186=\"\",\"\",Compliance_Options!D186)","v":""},"  ",{"$f":"IF(COUNTIF(CU$2:CU164,CU164)=1,CU164,\"\")","v":""},"","","",""]
[{"$nulls":48},{"$f":"+IF(AX165=\"\",\"\",MAX(AW$1:AW164)+1)","v":""},{"$f":"IF(Compliance_Options!B187=\"\",\"\",Compliance_Options!B187)","v":""},{"$f":"IF(Compliance_Options!C187=\"\",\"\",Compliance_Options!C187)","v":""},{"$f":"IF(Compliance_Options!D187=\"\",\"\",Compliance_Options!D187)","v":""},{"$f":"IF(Compliance_Options!E187=\"\",\"\",Compliance_Options!E187)","v":""},{"$f":"IF(Compliance_Options!F187=\"\",\"\",Compliance_Options!F187)","v":""},"    ",{"$f":"IF(COUNTIF(BC$2:BC165,BC165)=1,BC165,\"\")","v":""},"","","","","","","",{"$f":"+IF(BK165=\"\",\"\",MAX(BL$1:BL164)+1)","v":""},"","","","","","","",{"$f":"+IF(BS165=\"\",\"\",MAX(BT$1:BT164)+1)","v":""},"","","","","","","",{"$f":"+IF(CA165=\"\",\"\",MAX(CB$1:CB164)+1)","v":""},"","","","","","","",{"$f":"+IF(CI165=\"\",\"\",MAX(CJ$1:CJ164)+1)","v":""},"","","","","",null,{"$f":"+IF(CR165=\"\",\"\",MAX(CQ$1:CQ164)+1)","v":""},{"$f":"IF(Compliance_Options!B187=\"\",\"\",Compliance_Options!B187)","v":""},{"$f":"IF(Compliance_Options!C187=\"\",\"\",Compliance_Options!C187)","v":""},{"$f":"IF(Compliance_Options!D187=\"\",\"\",Compliance_Options!D187)","v":""},"  ",{"$f":"IF(COUNTIF(CU$2:CU165,CU165)=1,CU165,\"\")","v":""},"","","",""]
[{"$nulls":48},{"$f":"+IF(AX166=\"\",\"\",MAX(AW$1:AW165)+1)","v":""},{"$f":"IF(Compliance_Options!B188=\"\",\"\",Compliance_Options!B188)","v":""},{"$f":"IF(Compliance_Options!C188=\"\",\"\",Compliance_Options!C188)","v":""},{"$f":"IF(Compliance_Options!D188=\"\",\"\",Compliance_Options!D188)","v":""},{"$f":"IF(Compliance_Options!E188=\"\",\"\",Compliance_Options!E188)","v":""},{"$f":"IF(Compliance_Options!F188=\"\",\"\",Compliance_Options!F188)","v":""},"    ",{"$f":"IF(COUNTIF(BC$2:BC166,BC166)=1,BC166,\"\")","v":""},"","","","","","","",{"$f":"+IF(BK166=\"\",\"\",MAX(BL$1:BL165)+1)","v":""},"","","","","","","",{"$f":"+IF(BS166=\"\",\"\",MAX(BT$1:BT165)+1)","v":""},"","","","","","","",{"$f":"+IF(CA166=\"\",\"\",MAX(CB$1:CB165)+1)","v":""},"","","","","","","",{"$f":"+IF(CI166=\"\",\"\",MAX(CJ$1:CJ165)+1)","v":""},"","","","","",null,{"$f":"+IF(CR166=\"\",\"\",MAX(CQ$1:CQ165)+1)","v":""},{"$f":"IF(Compliance_Options!B188=\"\",\"\",Compliance_Options!B188)","v":""},{"$f":"IF(Compliance_Options!C188=\"\",\"\",Compliance_Options!C188)","v":""},{"$f":"IF(Compliance_Options!D188=\"\",\"\",Compliance_Options!D188)","v":""},"  ",{"$f":"IF(COUNTIF(CU$2:CU166,CU166)=1,CU166,\"\")","v":""},"","","",""]
[{"$nulls":48},{"$f":"+IF(AX167=\"\",\"\",MAX(AW$1:AW166)+1)","v":""},{"$f":"IF(Compliance_Options!B189=\"\",\"\",Compliance_Options!B189)","v":""},{"$f":"IF(Compliance_Options!C189=\"\",\"\",Compliance_Options!C189)","v":""},{"$f":"IF(Compliance_Options!D189=\"\",\"\",Compliance_Options!D189)","v":""},{"$f":"IF(Compliance_Options!E189=\"\",\"\",Compliance_Options!E189)","v":""},{"$f":"IF(Compliance_Options!F189=\"\",\"\",Compliance_Options!F189)","v":""},"    ",{"$f":"IF(COUNTIF(BC$2:BC167,BC167)=1,BC167,\"\")","v":""},"","","","","","","",{"$f":"+IF(BK167=\"\",\"\",MAX(BL$1:BL166)+1)","v":""},"","","","","","","",{"$f":"+IF(BS167=\"\",\"\",MAX(BT$1:BT166)+1)","v":""},"","","","","","","",{"$f":"+IF(CA167=\"\",\"\",MAX(CB$1:CB166)+1)","v":""},"","","","","","","",{"$f":"+IF(CI167=\"\",\"\",MAX(CJ$1:CJ166)+1)","v":""},"","","","","",null,{"$f":"+IF(CR167=\"\",\"\",MAX(CQ$1:CQ166)+1)","v":""},{"$f":"IF(Compliance_Options!B189=\"\",\"\",Compliance_Options!B189)","v":""},{"$f":"IF(Compliance_Options!C189=\"\",\"\",Compliance_Options!C189)","v":""},{"$f":"IF(Compliance_Options!D189=\"\",\"\",Compliance_Options!D189)","v":""},"  ",{"$f":"IF(COUNTIF(CU$2:CU167,CU167)=1,CU167,\"\")","v":""},"","","",""]
[{"$nulls":48},{"$f":"+IF(AX168=\"\",\"\",MAX(AW$1:AW167)+1)","v":""},{"$f":"IF(Compliance_Options!B190=\"\",\"\",Compliance_Options!B190)","v":""},{"$f":"IF(Compliance_Options!C190=\"\",\"\",Compliance_Options!C190)","v":""},{"$f":"IF(Compliance_Options!D190=\"\",\"\",Compliance_Options!D190)","v":""},{"$f":"IF(Compliance_Options!E190=\"\",\"\",Compliance_Options!E190)","v":""},{"$f":"IF(Compliance_Options!F190=\"\",\"\",Compliance_Options!F190)","v":""},"    ",{"$f":"IF(COUNTIF(BC$2:BC168,BC168)=1,BC168,\"\")","v":""},"","","","","","","",{"$f":"+IF(BK168=\"\",\"\",MAX(BL$1:BL167)+1)","v":""},"","","","","","","",{"$f":"+IF(BS168=\"\",\"\",MAX(BT$1:BT167)+1)","v":""},"","","","","","","",{"$f":"+IF(CA168=\"\",\"\",MAX(CB$1:CB167)+1)","v":""},"","","","","","","",{"$f":"+IF(CI168=\"\",\"\",MAX(CJ$1:CJ167)+1)","v":""},"","","","","",null,{"$f":"+IF(CR168=\"\",\"\",MAX(CQ$1:CQ167)+1)","v":""},{"$f":"IF(Compliance_Options!B190=\"\",\"\",Compliance_Options!B190)","v":""},{"$f":"IF(Compliance_Options!C190=\"\",\"\",Compliance_Options!C190)","v":""},{"$f":"IF(Compliance_Options!D190=\"\",\"\",Compliance_Options!D190)","v":""},"  ",{"$f":"IF(COUNTIF(CU$2:CU168,CU168)=1,CU168,\"\")","v":""},"","","",""]
[{"$nulls":48},{"$f":"+IF(AX169=\"\",\"\",MAX(AW$1:AW168)+1)","v":""},{"$f":"IF(Compliance_Options!B191=\"\",\"\",Compliance_Options!B191)","v":""},{"$f":"IF(Compliance_Options!C191=\"\",\"\",Compliance_Options!C191)","v":""},{"$f":"IF(Compliance_Options!D191=\"\",\"\",Compliance_Options!D191)","v":""},{"$f":"IF(Compliance_Options!E191=\"\",\"\",Compliance_Options!E191)","v":""},{"$f":"IF(Compliance_Options!F191=\"\",\"\",Compliance_Options!F191)","v":""},"    ",{"$f":"IF(COUNTIF(BC$2:BC169,BC169)=1,BC169,\"\")","v":""},"","","","","","","",{"$f":"+IF(BK169=\"\",\"\",MAX(BL$1:BL168)+1)","v":""},"","","","","","","",{"$f":"+IF(BS169=\"\",\"\",MAX(BT$1:BT168)+1)","v":""},"","","","","","","",{"$f":"+IF(CA169=\"\",\"\",MAX(CB$1:CB168)+1)","v":""},"","","","","","","",{"$f":"+IF(CI169=\"\",\"\",MAX(CJ$1:CJ168)+1)","v":""},"","","","","",null,{"$f":"+IF(CR169=\"\",\"\",MAX(CQ$1:CQ168)+1)","v":""},{"$f":"IF(Compliance_Options!B191=\"\",\"\",Compliance_Options!B191)","v":""},{"$f":"IF(Compliance_Options!C191=\"\",\"\",Compliance_Options!C191)","v":""},{"$f":"IF(Compliance_Options!D191=\"\",\"\",Compliance_Options!D191)","v":""},"  ",{"$f":"IF(COUNTIF(CU$2:CU169,CU169)=1,CU169,\"\")","v":""},"","","",""]
[{"$nulls":48},{"$f":"+IF(AX170=\"\",\"\",MAX(AW$1:AW169)+1)","v":""},{"$f":"IF(Compliance_Options!B192=\"\",\"\",Compliance_Options!B192)","v":""},{"$f":"IF(Compliance_Options!C192=\"\",\"\",Compliance_Options!C192)","v":""},{"$f":"IF(Compliance_Options!D192=\"\",\"\",Compliance_Options!D192)","v":""},{"$f":"IF(Compliance_Options!E192=\"\",\"\",Compliance_Options!E192)","v":""},{"$f":"IF(Compliance_Options!F192=\"\",\"\",Compliance_Options!F192)","v":""},"    ",{"$f":"IF(COUNTIF(BC$2:BC170,BC170)=1,BC170,\"\")","v":""},"","","","","","","",{"$f":"+IF(BK170=\"\",\"\",MAX(BL$1:BL169)+1)","v":""},"","","","","","","",{"$f":"+IF(BS170=\"\",\"\",MAX(BT$1:BT169)+1)","v":""},"","","","","","","",{"$f":"+IF(CA170=\"\",\"\",MAX(CB$1:CB169)+1)","v":""},"","","","","","","",{"$f":"+IF(CI170=\"\",\"\",MAX(CJ$1:CJ169)+1)","v":""},"","","","","",null,{"$f":"+IF(CR170=\"\",\"\",MAX(CQ$1:CQ169)+1)","v":""},{"$f":"IF(Compliance_Options!B192=\"\",\"\",Compliance_Options!B192)","v":""},{"$f":"IF(Compliance_Options!C192=\"\",\"\",Compliance_Options!C192)","v":""},{"$f":"IF(Compliance_Options!D192=\"\",\"\",Compliance_Options!D192)","v":""},"  ",{"$f":"IF(COUNTIF(CU$2:CU170,CU170)=1,CU170,\"\")","v":""},"","","",""]
[{"$nulls":48},{"$f":"+IF(AX171=\"\",\"\",MAX(AW$1:AW170)+1)","v":""},{"$f":"IF(Compliance_Options!B193=\"\",\"\",Compliance_Options!B193)","v":""},{"$f":"IF(Compliance_Options!C193=\"\",\"\",Compliance_Options!C193)","v":""},{"$f":"IF(Compliance_Options!D193=\"\",\"\",Compliance_Options!D193)","v":""},{"$f":"IF(Compliance_Options!E193=\"\",\"\",Compliance_Options!E193)","v":""},{"$f":"IF(Compliance_Options!F193=\"\",\"\",Compliance_Options!F193)","v":""},"    ",{"$f":"IF(COUNTIF(BC$2:BC171,BC171)=1,BC171,\"\")","v":""},"","","","","","","",{"$f":"+IF(BK171=\"\",\"\",MAX(BL$1:BL170)+1)","v":""},"","","","","","","",{"$f":"+IF(BS171=\"\",\"\",MAX(BT$1:BT170)+1)","v":""},"","","","","","","",{"$f":"+IF(CA171=\"\",\"\",MAX(CB$1:CB170)+1)","v":""},"","","","","","","",{"$f":"+IF(CI171=\"\",\"\",MAX(CJ$1:CJ170)+1)","v":""},"","","","","",null,{"$f":"+IF(CR171=\"\",\"\",MAX(CQ$1:CQ170)+1)","v":""},{"$f":"IF(Compliance_Options!B193=\"\",\"\",Compliance_Options!B193)","v":""},{"$f":"IF(Compliance_Options!C193=\"\",\"\",Compliance_Options!C193)","v":""},{"$f":"IF(Compliance_Options!D193=\"\",\"\",Compliance_Options!D193)","v":""},"  ",{"$f":"IF(COUNTIF(CU$2:CU171,CU171)=1,CU171,\"\")","v":""},"","","",""]
[{"$nulls":48},{"$f":"+IF(AX172=\"\",\"\",MAX(AW$1:AW171)+1)","v":""},{"$f":"IF(Compliance_Options!B194=\"\",\"\",Compliance_Options!B194)","v":""},{"$f":"IF(Compliance_Options!C194=\"\",\"\",Compliance_Options!C194)","v":""},{"$f":"IF(Compliance_Options!D194=\"\",\"\",Compliance_Options!D194)","v":""},{"$f":"IF(Compliance_Options!E194=\"\",\"\",Compliance_Options!E194)","v":""},{"$f":"IF(Compliance_Options!F194=\"\",\"\",Compliance_Options!F194)","v":""},"    ",{"$f":"IF(COUNTIF(BC$2:BC172,BC172)=1,BC172,\"\")","v":""},"","","","","","","",{"$f":"+IF(BK172=\"\",\"\",MAX(BL$1:BL171)+1)","v":""},"","","","","","","",{"$f":"+IF(BS172=\"\",\"\",MAX(BT$1:BT171)+1)","v":""},"","","","","","","",{"$f":"+IF(CA172=\"\",\"\",MAX(CB$1:CB171)+1)","v":""},"","","","","","","",{"$f":"+IF(CI172=\"\",\"\",MAX(CJ$1:CJ171)+1)","v":""},"","","","","",null,{"$f":"+IF(CR172=\"\",\"\",MAX(CQ$1:CQ171)+1)","v":""},{"$f":"IF(Compliance_Options!B194=\"\",\"\",Compliance_Options!B194)","v":""},{"$f":"IF(Compliance_Options!C194=\"\",\"\",Compliance_Options!C194)","v":""},{"$f":"IF(Compliance_Options!D194=\"\",\"\",Compliance_Options!D194)","v":""},"  ",{"$f":"IF(COUNTIF(CU$2:CU172,CU172)=1,CU172,\"\")","v":""},"","","",""]
[{"$nulls":48},{"$f":"+IF(AX173=\"\",\"\",MAX(AW$1:AW172)+1)","v":""},{"$f":"IF(Compliance_Options!B195=\"\",\"\",Compliance_Options!B195)","v":""},{"$f":"IF(Compliance_Options!C195=\"\",\"\",Compliance_Options!C195)","v":""},{"$f":"IF(Compliance_Options!D195=\"\",\"\",Compliance_Options!D195)","v":""},{"$f":"IF(Compliance_Options!E195=\"\",\"\",Compliance_Options!E195)","v":""},{"$f":"IF(Compliance_Options!F195=\"\",\"\",Compliance_Options!F195)","v":""},"    ",{"$f":"IF(COUNTIF(BC$2:BC173,BC173)=1,BC173,\"\")","v":""},"","","","","","","",{"$f":"+IF(BK173=\"\",\"\",MAX(BL$1:BL172)+1)","v":""},"","","","","","","",{"$f":"+IF(BS173=\"\",\"\",MAX(BT$1:BT172)+1)","v":""},"","","","","","","",{"$f":"+IF(CA173=\"\",\"\",MAX(CB$1:CB172)+1)","v":""},"","","","","","","",{"$f":"+IF(CI173=\"\",\"\",MAX(CJ$1:CJ172)+1)","v":""},"","","","","",null,{"$f":"+IF(CR173=\"\",\"\",MAX(CQ$1:CQ172)+1)","v":""},{"$f":"IF(Compliance_Options!B195=\"\",\"\",Compliance_Options!B195)","v":""},{"$f":"IF(Compliance_Options!C195=\"\",\"\",Compliance_Options!C195)","v":""},{"$f":"IF(Compliance_Options!D195=\"\",\"\",Compliance_Options!D195)","v":""},"  ",{"$f":"IF(COUNTIF(CU$2:CU173,CU173)=1,CU173,\"\")","v":""},"","","",""]
[{"$nulls":48},{"$f":"+IF(AX174=\"\",\"\",MAX(AW$1:AW173)+1)","v":""},{"$f":"IF(Compliance_Options!B196=\"\",\"\",Compliance_Options!B196)","v":""},{"$f":"IF(Compliance_Options!C196=\"\",\"\",Compliance_Options!C196)","v":""},{"$f":"IF(Compliance_Options!D196=\"\",\"\",Compliance_Options!D196)","v":""},{"$f":"IF(Compliance_Options!E196=\"\",\"\",Compliance_Options!E196)","v":""},{"$f":"IF(Compliance_Options!F196=\"\",\"\",Compliance_Options!F196)","v":""},"    ",{"$f":"IF(COUNTIF(BC$2:BC174,BC174)=1,BC174,\"\")","v":""},"","","","","","","",{"$f":"+IF(BK174=\"\",\"\",MAX(BL$1:BL173)+1)","v":""},"","","","","","","",{"$f":"+IF(BS174=\"\",\"\",MAX(BT$1:BT173)+1)","v":""},"","","","","","","",{"$f":"+IF(CA174=\"\",\"\",MAX(CB$1:CB173)+1)","v":""},"","","","","","","",{"$f":"+IF(CI174=\"\",\"\",MAX(CJ$1:CJ173)+1)","v":""},"","","","","",null,{"$f":"+IF(CR174=\"\",\"\",MAX(CQ$1:CQ173)+1)","v":""},{"$f":"IF(Compliance_Options!B196=\"\",\"\",Compliance_Options!B196)","v":""},{"$f":"IF(Compliance_Options!C196=\"\",\"\",Compliance_Options!C196)","v":""},{"$f":"IF(Compliance_Options!D196=\"\",\"\",Compliance_Options!D196)","v":""},"  ",{"$f":"IF(COUNTIF(CU$2:CU174,CU174)=1,CU174,\"\")","v":""},"","","",""]
[{"$nulls":48},{"$f":"+IF(AX175=\"\",\"\",MAX(AW$1:AW174)+1)","v":""},{"$f":"IF(Compliance_Options!B197=\"\",\"\",Compliance_Options!B197)","v":""},{"$f":"IF(Compliance_Options!C197=\"\",\"\",Compliance_Options!C197)","v":""},{"$f":"IF(Compliance_Options!D197=\"\",\"\",Compliance_Options!D197)","v":""},{"$f":"IF(Compliance_Options!E197=\"\",\"\",Compliance_Options!E197)","v":""},{"$f":"IF(Compliance_Options!F197=\"\",\"\",Compliance_Options!F197)","v":""},"    ",{"$f":"IF(COUNTIF(BC$2:BC175,BC175)=1,BC175,\"\")","v":""},"","","","","","","",{"$f":"+IF(BK175=\"\",\"\",MAX(BL$1:BL174)+1)","v":""},"","","","","","","",{"$f":"+IF(BS175=\"\",\"\",MAX(BT$1:BT174)+1)","v":""},"","","","","","","",{"$f":"+IF(CA175=\"\",\"\",MAX(CB$1:CB174)+1)","v":""},"","","","","","","",{"$f":"+IF(CI175=\"\",\"\",MAX(CJ$1:CJ174)+1)","v":""},"","","","","",null,{"$f":"+IF(CR175=\"\",\"\",MAX(CQ$1:CQ174)+1)","v":""},{"$f":"IF(Compliance_Options!B197=\"\",\"\",Compliance_Options!B197)","v":""},{"$f":"IF(Compliance_Options!C197=\"\",\"\",Compliance_Options!C197)","v":""},{"$f":"IF(Compliance_Options!D197=\"\",\"\",Compliance_Options!D197)","v":""},"  ",{"$f":"IF(COUNTIF(CU$2:CU175,CU175)=1,CU175,\"\")","v":""},"","","",""]
[{"$nulls":48},{"$f":"+IF(AX176=\"\",\"\",MAX(AW$1:AW175)+1)","v":""},{"$f":"IF(Compliance_Options!B198=\"\",\"\",Compliance_Options!B198)","v":""},{"$f":"IF(Compliance_Options!C198=\"\",\"\",Compliance_Options!C198)","v":""},{"$f":"IF(Compliance_Options!D198=\"\",\"\",Compliance_Options!D198)","v":""},{"$f":"IF(Compliance_Options!E198=\"\",\"\",Compliance_Options!E198)","v":""},{"$f":"IF(Compliance_Options!F198=\"\",\"\",Compliance_Options!F198)","v":""},"    ",{"$f":"IF(COUNTIF(BC$2:BC176,BC176)=1,BC176,\"\")","v":""},"","","","","","","",{"$f":"+IF(BK176=\"\",\"\",MAX(BL$1:BL175)+1)","v":""},"","","","","","","",{"$f":"+IF(BS176=\"\",\"\",MAX(BT$1:BT175)+1)","v":""},"","","","","","","",{"$f":"+IF(CA176=\"\",\"\",MAX(CB$1:CB175)+1)","v":""},"","","","","","","",{"$f":"+IF(CI176=\"\",\"\",MAX(CJ$1:CJ175)+1)","v":""},"","","","","",null,{"$f":"+IF(CR176=\"\",\"\",MAX(CQ$1:CQ175)+1)","v":""},{"$f":"IF(Compliance_Options!B198=\"\",\"\",Compliance_Options!B198)","v":""},{"$f":"IF(Compliance_Options!C198=\"\",\"\",Compliance_Options!C198)","v":""},{"$f":"IF(Compliance_Options!D198=\"\",\"\",Compliance_Options!D198)","v":""},"  ",{"$f":"IF(COUNTIF(CU$2:CU176,CU176)=1,CU176,\"\")","v":""},"","","",""]
[{"$nulls":48},{"$f":"+IF(AX177=\"\",\"\",MAX(AW$1:AW176)+1)","v":""},{"$f":"IF(Compliance_Options!B199=\"\",\"\",Compliance_Options!B199)","v":""},{"$f":"IF(Compliance_Options!C199=\"\",\"\",Compliance_Options!C199)","v":""},{"$f":"IF(Compliance_Options!D199=\"\",\"\",Compliance_Options!D199)","v":""},{"$f":"IF(Compliance_Options!E199=\"\",\"\",Compliance_Options!E199)","v":""},{"$f":"IF(Compliance_Options!F199=\"\",\"\",Compliance_Options!F199)","v":""},"    ",{"$f":"IF(COUNTIF(BC$2:BC177,BC177)=1,BC177,\"\")","v":""},"","","","","","","",{"$f":"+IF(BK177=\"\",\"\",MAX(BL$1:BL176)+1)","v":""},"","","","","","","",{"$f":"+IF(BS177=\"\",\"\",MAX(BT$1:BT176)+1)","v":""},"","","","","","","",{"$f":"+IF(CA177=\"\",\"\",MAX(CB$1:CB176)+1)","v":""},"","","","","","","",{"$f":"+IF(CI177=\"\",\"\",MAX(CJ$1:CJ176)+1)","v":""},"","","","","",null,{"$f":"+IF(CR177=\"\",\"\",MAX(CQ$1:CQ176)+1)","v":""},{"$f":"IF(Compliance_Options!B199=\"\",\"\",Compliance_Options!B199)","v":""},{"$f":"IF(Compliance_Options!C199=\"\",\"\",Compliance_Options!C199)","v":""},{"$f":"IF(Compliance_Options!D199=\"\",\"\",Compliance_Options!D199)","v":""},"  ",{"$f":"IF(COUNTIF(CU$2:CU177,CU177)=1,CU177,\"\")","v":""},"","","",""]
[{"$nulls":48},{"$f":"+IF(AX178=\"\",\"\",MAX(AW$1:AW177)+1)","v":""},{"$f":"IF(Compliance_Options!B200=\"\",\"\",Compliance_Options!B200)","v":""},{"$f":"IF(Compliance_Options!C200=\"\",\"\",Compliance_Options!C200)","v":""},{"$f":"IF(Compliance_Options!D200=\"\",\"\",Compliance_Options!D200)","v":""},{"$f":"IF(Compliance_Options!E200=\"\",\"\",Compliance_Options!E200)","v":""},{"$f":"IF(Compliance_Options!F200=\"\",\"\",Compliance_Options!F200)","v":""},"    ",{"$f":"IF(COUNTIF(BC$2:BC178,BC178)=1,BC178,\"\")","v":""},"","","","","","","",{"$f":"+IF(BK178=\"\",\"\",MAX(BL$1:BL177)+1)","v":""},"","","","","","","",{"$f":"+IF(BS178=\"\",\"\",MAX(BT$1:BT177)+1)","v":""},"","","","","","","",{"$f":"+IF(CA178=\"\",\"\",MAX(CB$1:CB177)+1)","v":""},"","","","","","","",{"$f":"+IF(CI178=\"\",\"\",MAX(CJ$1:CJ177)+1)","v":""},"","","","","",null,{"$f":"+IF(CR178=\"\",\"\",MAX(CQ$1:CQ177)+1)","v":""},{"$f":"IF(Compliance_Options!B200=\"\",\"\",Compliance_Options!B200)","v":""},{"$f":"IF(Compliance_Options!C200=\"\",\"\",Compliance_Options!C200)","v":""},{"$f":"IF(Compliance_Options!D200=\"\",\"\",Compliance_Options!D200)","v":""},"  ",{"$f":"IF(COUNTIF(CU$2:CU178,CU178)=1,CU178,\"\")","v":""},"","","",""]
[{"$nulls":48},{"$f":"+IF(AX179=\"\",\"\",MAX(AW$1:AW178)+1)","v":""},{"$f":"IF(Compliance_Options!B201=\"\",\"\",Compliance_Options!B201)","v":""},{"$f":"IF(Compliance_Options!C201=\"\",\"\",Compliance_Options!C201)","v":""},{"$f":"IF(Compliance_Options!D201=\"\",\"\",Compliance_Options!D201)","v":""},{"$f":"IF(Compliance_Options!E201=\"\",\"\",Compliance_Options!E201)","v":""},{"$f":"IF(Compliance_Options!F201=\"\",\"\",Compliance_Options!F201)","v":""},"    ",{"$f":"IF(COUNTIF(BC$2:BC179,BC179)=1,BC179,\"\")","v":""},"","","","","","","",{"$f":"+IF(BK179=\"\",\"\",MAX(BL$1:BL178)+1)","v":""},"","","","","","","",{"$f":"+IF(BS179=\"\",\"\",MAX(BT$1:BT178)+1)","v":""},"","","","","","","",{"$f":"+IF(CA179=\"\",\"\",MAX(CB$1:CB178)+1)","v":""},"","","","","","","",{"$f":"+IF(CI179=\"\",\"\",MAX(CJ$1:CJ178)+1)","v":""},"","","","","",null,{"$f":"+IF(CR179=\"\",\"\",MAX(CQ$1:CQ178)+1)","v":""},{"$f":"IF(Compliance_Options!B201=\"\",\"\",Compliance_Options!B201)","v":""},{"$f":"IF(Compliance_Options!C201=\"\",\"\",Compliance_Options!C201)","v":""},{"$f":"IF(Compliance_Options!D201=\"\",\"\",Compliance_Options!D201)","v":""},"  ",{"$f":"IF(COUNTIF(CU$2:CU179,CU179)=1,CU179,\"\")","v":""},"","","",""]
[{"$nulls":48},{"$f":"+IF(AX180=\"\",\"\",MAX(AW$1:AW179)+1)","v":""},{"$f":"IF(Compliance_Options!B202=\"\",\"\",Compliance_Options!B202)","v":""},{"$f":"IF(Compliance_Options!C202=\"\",\"\",Compliance_Options!C202)","v":""},{"$f":"IF(Compliance_Options!D202=\"\",\"\",Compliance_Options!D202)","v":""},{"$f":"IF(Compliance_Options!E202=\"\",\"\",Compliance_Options!E202)","v":""},{"$f":"IF(Compliance_Options!F202=\"\",\"\",Compliance_Options!F202)","v":""},"    ",{"$f":"IF(COUNTIF(BC$2:BC180,BC180)=1,BC180,\"\")","v":""},"","","","","","","",{"$f":"+IF(BK180=\"\",\"\",MAX(BL$1:BL179)+1)","v":""},"","","","","","","",{"$f":"+IF(BS180=\"\",\"\",MAX(BT$1:BT179)+1)","v":""},"","","","","","","",{"$f":"+IF(CA180=\"\",\"\",MAX(CB$1:CB179)+1)","v":""},"","","","","","","",{"$f":"+IF(CI180=\"\",\"\",MAX(CJ$1:CJ179)+1)","v":""},"","","","","",null,{"$f":"+IF(CR180=\"\",\"\",MAX(CQ$1:CQ179)+1)","v":""},{"$f":"IF(Compliance_Options!B202=\"\",\"\",Compliance_Options!B202)","v":""},{"$f":"IF(Compliance_Options!C202=\"\",\"\",Compliance_Options!C202)","v":""},{"$f":"IF(Compliance_Options!D202=\"\",\"\",Compliance_Options!D202)","v":""},"  ",{"$f":"IF(COUNTIF(CU$2:CU180,CU180)=1,CU180,\"\")","v":""},"","","",""]
[{"$nulls":48},{"$f":"+IF(AX181=\"\",\"\",MAX(AW$1:AW180)+1)","v":""},{"$f":"IF(Compliance_Options!B203=\"\",\"\",Compliance_Options!B203)","v":""},{"$f":"IF(Compliance_Options!C203=\"\",\"\",Compliance_Options!C203)","v":""},{"$f":"IF(Compliance_Options!D203=\"\",\"\",Compliance_Options!D203)","v":""},{"$f":"IF(Compliance_Options!E203=\"\",\"\",Compliance_Options!E203)","v":""},{"$f":"IF(Compliance_Options!F203=\"\",\"\",Compliance_Options!F203)","v":""},"    ",{"$f":"IF(COUNTIF(BC$2:BC181,BC181)=1,BC181,\"\")","v":""},"","","","","","","",{"$f":"+IF(BK181=\"\",\"\",MAX(BL$1:BL180)+1)","v":""},"","","","","","","",{"$f":"+IF(BS181=\"\",\"\",MAX(BT$1:BT180)+1)","v":""},"","","","","","","",{"$f":"+IF(CA181=\"\",\"\",MAX(CB$1:CB180)+1)","v":""},"","","","","","","",{"$f":"+IF(CI181=\"\",\"\",MAX(CJ$1:CJ180)+1)","v":""},"","","","","",null,{"$f":"+IF(CR181=\"\",\"\",MAX(CQ$1:CQ180)+1)","v":""},{"$f":"IF(Compliance_Options!B203=\"\",\"\",Compliance_Options!B203)","v":""},{"$f":"IF(Compliance_Options!C203=\"\",\"\",Compliance_Options!C203)","v":""},{"$f":"IF(Compliance_Options!D203=\"\",\"\",Compliance_Options!D203)","v":""},"  ",{"$f":"IF(COUNTIF(CU$2:CU181,CU181)=1,CU181,\"\")","v":""},"","","",""]
[{"$nulls":48},{"$f":"+IF(AX182=\"\",\"\",MAX(AW$1:AW181)+1)","v":""},{"$f":"IF(Compliance_Options!B204=\"\",\"\",Compliance_Options!B204)","v":""},{"$f":"IF(Compliance_Options!C204=\"\",\"\",Compliance_Options!C204)","v":""},{"$f":"IF(Compliance_Options!D204=\"\",\"\",Compliance_Options!D204)","v":""},{"$f":"IF(Compliance_Options!E204=\"\",\"\",Compliance_Options!E204)","v":""},{"$f":"IF(Compliance_Options!F204=\"\",\"\",Compliance_Options!F204)","v":""},"    ",{"$f":"IF(COUNTIF(BC$2:BC182,BC182)=1,BC182,\"\")","v":""},"","","","","","","",{"$f":"+IF(BK182=\"\",\"\",MAX(BL$1:BL181)+1)","v":""},"","","","","","","",{"$f":"+IF(BS182=\"\",\"\",MAX(BT$1:BT181)+1)","v":""},"","","","","","","",{"$f":"+IF(CA182=\"\",\"\",MAX(CB$1:CB181)+1)","v":""},"","","","","","","",{"$f":"+IF(CI182=\"\",\"\",MAX(CJ$1:CJ181)+1)","v":""},"","","","","",null,{"$f":"+IF(CR182=\"\",\"\",MAX(CQ$1:CQ181)+1)","v":""},{"$f":"IF(Compliance_Options!B204=\"\",\"\",Compliance_Options!B204)","v":""},{"$f":"IF(Compliance_Options!C204=\"\",\"\",Compliance_Options!C204)","v":""},{"$f":"IF(Compliance_Options!D204=\"\",\"\",Compliance_Options!D204)","v":""},"  ",{"$f":"IF(COUNTIF(CU$2:CU182,CU182)=1,CU182,\"\")","v":""},"","","",""]
[{"$nulls":48},{"$f":"+IF(AX183=\"\",\"\",MAX(AW$1:AW182)+1)","v":""},{"$f":"IF(Compliance_Options!B205=\"\",\"\",Compliance_Options!B205)","v":""},{"$f":"IF(Compliance_Options!C205=\"\",\"\",Compliance_Options!C205)","v":""},{"$f":"IF(Compliance_Options!D205=\"\",\"\",Compliance_Options!D205)","v":""},{"$f":"IF(Compliance_Options!E205=\"\",\"\",Compliance_Options!E205)","v":""},{"$f":"IF(Compliance_Options!F205=\"\",\"\",Compliance_Options!F205)","v":""},"    ",{"$f":"IF(COUNTIF(BC$2:BC183,BC183)=1,BC183,\"\")","v":""},"","","","","","","",{"$f":"+IF(BK183=\"\",\"\",MAX(BL$1:BL182)+1)","v":""},"","","","","","","",{"$f":"+IF(BS183=\"\",\"\",MAX(BT$1:BT182)+1)","v":""},"","","","","","","",{"$f":"+IF(CA183=\"\",\"\",MAX(CB$1:CB182)+1)","v":""},"","","","","","","",{"$f":"+IF(CI183=\"\",\"\",MAX(CJ$1:CJ182)+1)","v":""},"","","","","",null,{"$f":"+IF(CR183=\"\",\"\",MAX(CQ$1:CQ182)+1)","v":""},{"$f":"IF(Compliance_Options!B205=\"\",\"\",Compliance_Options!B205)","v":""},{"$f":"IF(Compliance_Options!C205=\"\",\"\",Compliance_Options!C205)","v":""},{"$f":"IF(Compliance_Options!D205=\"\",\"\",Compliance_Options!D205)","v":""},"  ",{"$f":"IF(COUNTIF(CU$2:CU183,CU183)=1,CU183,\"\")","v":""},"","","",""]
[{"$nulls":48},{"$f":"+IF(AX184=\"\",\"\",MAX(AW$1:AW183)+1)","v":""},{"$f":"IF(Compliance_Options!B206=\"\",\"\",Compliance_Options!B206)","v":""},{"$f":"IF(Compliance_Options!C206=\"\",\"\",Compliance_Options!C206)","v":""},{"$f":"IF(Compliance_Options!D206=\"\",\"\",Compliance_Options!D206)","v":""},{"$f":"IF(Compliance_Options!E206=\"\",\"\",Compliance_Options!E206)","v":""},{"$f":"IF(Compliance_Options!F206=\"\",\"\",Compliance_Options!F206)","v":""},"    ",{"$f":"IF(COUNTIF(BC$2:BC184,BC184)=1,BC184,\"\")","v":""},"","","","","","","",{"$f":"+IF(BK184=\"\",\"\",MAX(BL$1:BL183)+1)","v":""},"","","","","","","",{"$f":"+IF(BS184=\"\",\"\",MAX(BT$1:BT183)+1)","v":""},"","","","","","","",{"$f":"+IF(CA184=\"\",\"\",MAX(CB$1:CB183)+1)","v":""},"","","","","","","",{"$f":"+IF(CI184=\"\",\"\",MAX(CJ$1:CJ183)+1)","v":""},"","","","","",null,{"$f":"+IF(CR184=\"\",\"\",MAX(CQ$1:CQ183)+1)","v":""},{"$f":"IF(Compliance_Options!B206=\"\",\"\",Compliance_Options!B206)","v":""},{"$f":"IF(Compliance_Options!C206=\"\",\"\",Compliance_Options!C206)","v":""},{"$f":"IF(Compliance_Options!D206=\"\",\"\",Compliance_Options!D206)","v":""},"  ",{"$f":"IF(COUNTIF(CU$2:CU184,CU184)=1,CU184,\"\")","v":""},"","","",""]
[{"$nulls":48},{"$f":"+IF(AX185=\"\",\"\",MAX(AW$1:AW184)+1)","v":""},{"$f":"IF(Compliance_Options!B207=\"\",\"\",Compliance_Options!B207)","v":""},{"$f":"IF(Compliance_Options!C207=\"\",\"\",Compliance_Options!C207)","v":""},{"$f":"IF(Compliance_Options!D207=\"\",\"\",Compliance_Options!D207)","v":""},{"$f":"IF(Compliance_Options!E207=\"\",\"\",Compliance_Options!E207)","v":""},{"$f":"IF(Compliance_Options!F207=\"\",\"\",Compliance_Options!F207)","v":""},"    ",{"$f":"IF(COUNTIF(BC$2:BC185,BC185)=1,BC185,\"\")","v":""},"","","","","","","",{"$f":"+IF(BK185=\"\",\"\",MAX(BL$1:BL184)+1)","v":""},"","","","","","","",{"$f":"+IF(BS185=\"\",\"\",MAX(BT$1:BT184)+1)","v":""},"","","","","","","",{"$f":"+IF(CA185=\"\",\"\",MAX(CB$1:CB184)+1)","v":""},"","","","","","","",{"$f":"+IF(CI185=\"\",\"\",MAX(CJ$1:CJ184)+1)","v":""},"","","","","",null,{"$f":"+IF(CR185=\"\",\"\",MAX(CQ$1:CQ184)+1)","v":""},{"$f":"IF(Compliance_Options!B207=\"\",\"\",Compliance_Options!B207)","v":""},{"$f":"IF(Compliance_Options!C207=\"\",\"\",Compliance_Options!C207)","v":""},{"$f":"IF(Compliance_Options!D207=\"\",\"\",Compliance_Options!D207)","v":""},"  ",{"$f":"IF(COUNTIF(CU$2:CU185,CU185)=1,CU185,\"\")","v":""},"","","",""]
[{"$nulls":48},{"$f":"+IF(AX186=\"\",\"\",MAX(AW$1:AW185)+1)","v":""},{"$f":"IF(Compliance_Options!B208=\"\",\"\",Compliance_Options!B208)","v":""},{"$f":"IF(Compliance_Options!C208=\"\",\"\",Compliance_Options!C208)","v":""},{"$f":"IF(Compliance_Options!D208=\"\",\"\",Compliance_Options!D208)","v":""},{"$f":"IF(Compliance_Options!E208=\"\",\"\",Compliance_Options!E208)","v":""},{"$f":"IF(Compliance_Options!F208=\"\",\"\",Compliance_Options!F208)","v":""},"    ",{"$f":"IF(COUNTIF(BC$2:BC186,BC186)=1,BC186,\"\")","v":""},"","","","","","","",{"$f":"+IF(BK186=\"\",\"\",MAX(BL$1:BL185)+1)","v":""},"","","","","","","",{"$f":"+IF(BS186=\"\",\"\",MAX(BT$1:BT185)+1)","v":""},"","","","","","","",{"$f":"+IF(CA186=\"\",\"\",MAX(CB$1:CB185)+1)","v":""},"","","","","","","",{"$f":"+IF(CI186=\"\",\"\",MAX(CJ$1:CJ185)+1)","v":""},"","","","","",null,{"$f":"+IF(CR186=\"\",\"\",MAX(CQ$1:CQ185)+1)","v":""},{"$f":"IF(Compliance_Options!B208=\"\",\"\",Compliance_Options!B208)","v":""},{"$f":"IF(Compliance_Options!C208=\"\",\"\",Compliance_Options!C208)","v":""},{"$f":"IF(Compliance_Options!D208=\"\",\"\",Compliance_Options!D208)","v":""},"  ",{"$f":"IF(COUNTIF(CU$2:CU186,CU186)=1,CU186,\"\")","v":""},"","","",""]
[{"$nulls":48},{"$f":"+IF(AX187=\"\",\"\",MAX(AW$1:AW186)+1)","v":""},{"$f":"IF(Compliance_Options!B209=\"\",\"\",Compliance_Options!B209)","v":""},{"$f":"IF(Compliance_Options!C209=\"\",\"\",Compliance_Options!C209)","v":""},{"$f":"IF(Compliance_Options!D209=\"\",\"\",Compliance_Options!D209)","v":""},{"$f":"IF(Compliance_Options!E209=\"\",\"\",Compliance_Options!E209)","v":""},{"$f":"IF(Compliance_Options!F209=\"\",\"\",Compliance_Options!F209)","v":""},"    ",{"$f":"IF(COUNTIF(BC$2:BC187,BC187)=1,BC187,\"\")","v":""},"","","","","","","",{"$f":"+IF(BK187=\"\",\"\",MAX(BL$1:BL186)+1)","v":""},"","","","","","","",{"$f":"+IF(BS187=\"\",\"\",MAX(BT$1:BT186)+1)","v":""},"","","","","","","",{"$f":"+IF(CA187=\"\",\"\",MAX(CB$1:CB186)+1)","v":""},"","","","","","","",{"$f":"+IF(CI187=\"\",\"\",MAX(CJ$1:CJ186)+1)","v":""},"","","","","",null,{"$f":"+IF(CR187=\"\",\"\",MAX(CQ$1:CQ186)+1)","v":""},{"$f":"IF(Compliance_Options!B209=\"\",\"\",Compliance_Options!B209)","v":""},{"$f":"IF(Compliance_Options!C209=\"\",\"\",Compliance_Options!C209)","v":""},{"$f":"IF(Compliance_Options!D209=\"\",\"\",Compliance_Options!D209)","v":""},"  ",{"$f":"IF(COUNTIF(CU$2:CU187,CU187)=1,CU187,\"\")","v":""},"","","",""]
[{"$nulls":48},{"$f":"+IF(AX188=\"\",\"\",MAX(AW$1:AW187)+1)","v":""},{"$f":"IF(Compliance_Options!B210=\"\",\"\",Compliance_Options!B210)","v":""},{"$f":"IF(Compliance_Options!C210=\"\",\"\",Compliance_Options!C210)","v":""},{"$f":"IF(Compliance_Options!D210=\"\",\"\",Compliance_Options!D210)","v":""},{"$f":"IF(Compliance_Options!E210=\"\",\"\",Compliance_Options!E210)","v":""},{"$f":"IF(Compliance_Options!F210=\"\",\"\",Compliance_Options!F210)","v":""},"    ",{"$f":"IF(COUNTIF(BC$2:BC188,BC188)=1,BC188,\"\")","v":""},"","","","","","","",{"$f":"+IF(BK188=\"\",\"\",MAX(BL$1:BL187)+1)","v":""},"","","","","","","",{"$f":"+IF(BS188=\"\",\"\",MAX(BT$1:BT187)+1)","v":""},"","","","","","","",{"$f":"+IF(CA188=\"\",\"\",MAX(CB$1:CB187)+1)","v":""},"","","","","","","",{"$f":"+IF(CI188=\"\",\"\",MAX(CJ$1:CJ187)+1)","v":""},"","","","","",null,{"$f":"+IF(CR188=\"\",\"\",MAX(CQ$1:CQ187)+1)","v":""},{"$f":"IF(Compliance_Options!B210=\"\",\"\",Compliance_Options!B210)","v":""},{"$f":"IF(Compliance_Options!C210=\"\",\"\",Compliance_Options!C210)","v":""},{"$f":"IF(Compliance_Options!D210=\"\",\"\",Compliance_Options!D210)","v":""},"  ",{"$f":"IF(COUNTIF(CU$2:CU188,CU188)=1,CU188,\"\")","v":""},"","","",""]
[{"$nulls":48},{"$f":"+IF(AX189=\"\",\"\",MAX(AW$1:AW188)+1)","v":""},{"$f":"IF(Compliance_Options!B211=\"\",\"\",Compliance_Options!B211)","v":""},{"$f":"IF(Compliance_Options!C211=\"\",\"\",Compliance_Options!C211)","v":""},{"$f":"IF(Compliance_Options!D211=\"\",\"\",Compliance_Options!D211)","v":""},{"$f":"IF(Compliance_Options!E211=\"\",\"\",Compliance_Options!E211)","v":""},{"$f":"IF(Compliance_Options!F211=\"\",\"\",Compliance_Options!F211)","v":""},"    ",{"$f":"IF(COUNTIF(BC$2:BC189,BC189)=1,BC189,\"\")","v":""},"","","","","","","",{"$f":"+IF(BK189=\"\",\"\",MAX(BL$1:BL188)+1)","v":""},"","","","","","","",{"$f":"+IF(BS189=\"\",\"\",MAX(BT$1:BT188)+1)","v":""},"","","","","","","",{"$f":"+IF(CA189=\"\",\"\",MAX(CB$1:CB188)+1)","v":""},"","","","","","","",{"$f":"+IF(CI189=\"\",\"\",MAX(CJ$1:CJ188)+1)","v":""},"","","","","",null,{"$f":"+IF(CR189=\"\",\"\",MAX(CQ$1:CQ188)+1)","v":""},{"$f":"IF(Compliance_Options!B211=\"\",\"\",Compliance_Options!B211)","v":""},{"$f":"IF(Compliance_Options!C211=\"\",\"\",Compliance_Options!C211)","v":""},{"$f":"IF(Compliance_Options!D211=\"\",\"\",Compliance_Options!D211)","v":""},"  ",{"$f":"IF(COUNTIF(CU$2:CU189,CU189)=1,CU189,\"\")","v":""},"","","",""]
[{"$nulls":48},{"$f":"+IF(AX190=\"\",\"\",MAX(AW$1:AW189)+1)","v":""},{"$f":"IF(Compliance_Options!B212=\"\",\"\",Compliance_Options!B212)","v":""},{"$f":"IF(Compliance_Options!C212=\"\",\"\",Compliance_Options!C212)","v":""},{"$f":"IF(Compliance_Options!D212=\"\",\"\",Compliance_Options!D212)","v":""},{"$f":"IF(Compliance_Options!E212=\"\",\"\",Compliance_Options!E212)","v":""},{"$f":"IF(Compliance_Options!F212=\"\",\"\",Compliance_Options!F212)","v":""},"    ",{"$f":"IF(COUNTIF(BC$2:BC190,BC190)=1,BC190,\"\")","v":""},"","","","","","","",{"$f":"+IF(BK190=\"\",\"\",MAX(BL$1:BL189)+1)","v":""},"","","","","","","",{"$f":"+IF(BS190=\"\",\"\",MAX(BT$1:BT189)+1)","v":""},"","","","","","","",{"$f":"+IF(CA190=\"\",\"\",MAX(CB$1:CB189)+1)","v":""},"","","","","","","",{"$f":"+IF(CI190=\"\",\"\",MAX(CJ$1:CJ189)+1)","v":""},"","","","","",null,{"$f":"+IF(CR190=\"\",\"\",MAX(CQ$1:CQ189)+1)","v":""},{"$f":"IF(Compliance_Options!B212=\"\",\"\",Compliance_Options!B212)","v":""},{"$f":"IF(Compliance_Options!C212=\"\",\"\",Compliance_Options!C212)","v":""},{"$f":"IF(Compliance_Options!D212=\"\",\"\",Compliance_Options!D212)","v":""},"  ",{"$f":"IF(COUNTIF(CU$2:CU190,CU190)=1,CU190,\"\")","v":""},"","","",""]
[{"$nulls":48},{"$f":"+IF(AX191=\"\",\"\",MAX(AW$1:AW190)+1)","v":""},{"$f":"IF(Compliance_Options!B213=\"\",\"\",Compliance_Options!B213)","v":""},{"$f":"IF(Compliance_Options!C213=\"\",\"\",Compliance_Options!C213)","v":""},{"$f":"IF(Compliance_Options!D213=\"\",\"\",Compliance_Options!D213)","v":""},{"$f":"IF(Compliance_Options!E213=\"\",\"\",Compliance_Options!E213)","v":""},{"$f":"IF(Compliance_Options!F213=\"\",\"\",Compliance_Options!F213)","v":""},"    ",{"$f":"IF(COUNTIF(BC$2:BC191,BC191)=1,BC191,\"\")","v":""},"","","","","","","",{"$f":"+IF(BK191=\"\",\"\",MAX(BL$1:BL190)+1)","v":""},"","","","","","","",{"$f":"+IF(BS191=\"\",\"\",MAX(BT$1:BT190)+1)","v":""},"","","","","","","",{"$f":"+IF(CA191=\"\",\"\",MAX(CB$1:CB190)+1)","v":""},"","","","","","","",{"$f":"+IF(CI191=\"\",\"\",MAX(CJ$1:CJ190)+1)","v":""},"","","","","",null,{"$f":"+IF(CR191=\"\",\"\",MAX(CQ$1:CQ190)+1)","v":""},{"$f":"IF(Compliance_Options!B213=\"\",\"\",Compliance_Options!B213)","v":""},{"$f":"IF(Compliance_Options!C213=\"\",\"\",Compliance_Options!C213)","v":""},{"$f":"IF(Compliance_Options!D213=\"\",\"\",Compliance_Options!D213)","v":""},"  ",{"$f":"IF(COUNTIF(CU$2:CU191,CU191)=1,CU191,\"\")","v":""},"","","",""]
[{"$nulls":48},{"$f":"+IF(AX192=\"\",\"\",MAX(AW$1:AW191)+1)","v":""},{"$f":"IF(Compliance_Options!B214=\"\",\"\",Compliance_Options!B214)","v":""},{"$f":"IF(Compliance_Options!C214=\"\",\"\",Compliance_Options!C214)","v":""},{"$f":"IF(Compliance_Options!D214=\"\",\"\",Compliance_Options!D214)","v":""},{"$f":"IF(Compliance_Options!E214=\"\",\"\",Compliance_Options!E214)","v":""},{"$f":"IF(Compliance_Options!F214=\"\",\"\",Compliance_Options!F214)","v":""},"    ",{"$f":"IF(COUNTIF(BC$2:BC192,BC192)=1,BC192,\"\")","v":""},"","","","","","","",{"$f":"+IF(BK192=\"\",\"\",MAX(BL$1:BL191)+1)","v":""},"","","","","","","",{"$f":"+IF(BS192=\"\",\"\",MAX(BT$1:BT191)+1)","v":""},"","","","","","","",{"$f":"+IF(CA192=\"\",\"\",MAX(CB$1:CB191)+1)","v":""},"","","","","","","",{"$f":"+IF(CI192=\"\",\"\",MAX(CJ$1:CJ191)+1)","v":""},"","","","","",null,{"$f":"+IF(CR192=\"\",\"\",MAX(CQ$1:CQ191)+1)","v":""},{"$f":"IF(Compliance_Options!B214=\"\",\"\",Compliance_Options!B214)","v":""},{"$f":"IF(Compliance_Options!C214=\"\",\"\",Compliance_Options!C214)","v":""},{"$f":"IF(Compliance_Options!D214=\"\",\"\",Compliance_Options!D214)","v":""},"  ",{"$f":"IF(COUNTIF(CU$2:CU192,CU192)=1,CU192,\"\")","v":""},"","","",""]
[{"$nulls":48},{"$f":"+IF(AX193=\"\",\"\",MAX(AW$1:AW192)+1)","v":""},{"$f":"IF(Compliance_Options!B215=\"\",\"\",Compliance_Options!B215)","v":""},{"$f":"IF(Compliance_Options!C215=\"\",\"\",Compliance_Options!C215)","v":""},{"$f":"IF(Compliance_Options!D215=\"\",\"\",Compliance_Options!D215)","v":""},{"$f":"IF(Compliance_Options!E215=\"\",\"\",Compliance_Options!E215)","v":""},{"$f":"IF(Compliance_Options!F215=\"\",\"\",Compliance_Options!F215)","v":""},"    ",{"$f":"IF(COUNTIF(BC$2:BC193,BC193)=1,BC193,\"\")","v":""},"","","","","","","",{"$f":"+IF(BK193=\"\",\"\",MAX(BL$1:BL192)+1)","v":""},"","","","","","","",{"$f":"+IF(BS193=\"\",\"\",MAX(BT$1:BT192)+1)","v":""},"","","","","","","",{"$f":"+IF(CA193=\"\",\"\",MAX(CB$1:CB192)+1)","v":""},"","","","","","","",{"$f":"+IF(CI193=\"\",\"\",MAX(CJ$1:CJ192)+1)","v":""},"","","","","",null,{"$f":"+IF(CR193=\"\",\"\",MAX(CQ$1:CQ192)+1)","v":""},{"$f":"IF(Compliance_Options!B215=\"\",\"\",Compliance_Options!B215)","v":""},{"$f":"IF(Compliance_Options!C215=\"\",\"\",Compliance_Options!C215)","v":""},{"$f":"IF(Compliance_Options!D215=\"\",\"\",Compliance_Options!D215)","v":""},"  ",{"$f":"IF(COUNTIF(CU$2:CU193,CU193)=1,CU193,\"\")","v":""},"","","",""]
[{"$nulls":48},{"$f":"+IF(AX194=\"\",\"\",MAX(AW$1:AW193)+1)","v":""},{"$f":"IF(Compliance_Options!B216=\"\",\"\",Compliance_Options!B216)","v":""},{"$f":"IF(Compliance_Options!C216=\"\",\"\",Compliance_Options!C216)","v":""},{"$f":"IF(Compliance_Options!D216=\"\",\"\",Compliance_Options!D216)","v":""},{"$f":"IF(Compliance_Options!E216=\"\",\"\",Compliance_Options!E216)","v":""},{"$f":"IF(Compliance_Options!F216=\"\",\"\",Compliance_Options!F216)","v":""},"    ",{"$f":"IF(COUNTIF(BC$2:BC194,BC194)=1,BC194,\"\")","v":""},"","","","","","","",{"$f":"+IF(BK194=\"\",\"\",MAX(BL$1:BL193)+1)","v":""},"","","","","","","",{"$f":"+IF(BS194=\"\",\"\",MAX(BT$1:BT193)+1)","v":""},"","","","","","","",{"$f":"+IF(CA194=\"\",\"\",MAX(CB$1:CB193)+1)","v":""},"","","","","","","",{"$f":"+IF(CI194=\"\",\"\",MAX(CJ$1:CJ193)+1)","v":""},"","","","","",null,{"$f":"+IF(CR194=\"\",\"\",MAX(CQ$1:CQ193)+1)","v":""},{"$f":"IF(Compliance_Options!B216=\"\",\"\",Compliance_Options!B216)","v":""},{"$f":"IF(Compliance_Options!C216=\"\",\"\",Compliance_Options!C216)","v":""},{"$f":"IF(Compliance_Options!D216=\"\",\"\",Compliance_Options!D216)","v":""},"  ",{"$f":"IF(COUNTIF(CU$2:CU194,CU194)=1,CU194,\"\")","v":""},"","","",""]
[{"$nulls":48},{"$f":"+IF(AX195=\"\",\"\",MAX(AW$1:AW194)+1)","v":""},{"$f":"IF(Compliance_Options!B217=\"\",\"\",Compliance_Options!B217)","v":""},{"$f":"IF(Compliance_Options!C217=\"\",\"\",Compliance_Options!C217)","v":""},{"$f":"IF(Compliance_Options!D217=\"\",\"\",Compliance_Options!D217)","v":""},{"$f":"IF(Compliance_Options!E217=\"\",\"\",Compliance_Options!E217)","v":""},{"$f":"IF(Compliance_Options!F217=\"\",\"\",Compliance_Options!F217)","v":""},{"$f":"AX195&\" \"&AY195&\" \"&AZ195&\" \"&BA195&\" \"&BB195","v":"    "},{"$f":"IF(COUNTIF(BC$2:BC195,BC195)=1,BC195,\"\")","v":""},{"$f":"IF(BF195=\"\",\"\",BF195&\" \"&BG195&\" \"&BH195)","v":""},{"$f":"IFERROR(INDEX(AX$2:AX$78,MATCH(ROW()-ROW($BD$1),$AW$2:$AW$78,0)),\"\")","v":""},{"$f":"IFERROR(INDEX(AY$2:AY$78,MATCH(ROW()-ROW($BD$1),$AW$2:$AW$78,0)),\"\")","v":""},{"$f":"IFERROR(INDEX(AZ$2:AZ$78,MATCH(ROW()-ROW($BD$1),$AW$2:$AW$78,0)),\"\")","v":""},{"$f":"IFERROR(INDEX(BA$2:BA$78,MATCH(ROW()-ROW($BD$1),$AW$2:$AW$78,0)),\"\")","v":""},{"$f":"IFERROR(INDEX(BB$2:BB$78,MATCH(ROW()-ROW($BD$1),$AW$2:$AW$78,0)),\"\")","v":""},{"$f":"IF($AZ195=\"Tire Production\",$BC195,\"\")","v":""},{"$f":"+IF(BK195=\"\",\"\",MAX(BL$1:BL194)+1)","v":""},{"$f":"IF(BN195=\"\",\"\",BN195&\" \"&BO195&\" \"&BP195&\" \"&BQ195&\" \"&BR195)","v":""},{"$f":"IFERROR(INDEX(AX$2:AX$78,MATCH(ROW()-ROW($BD$1),$BL$2:$BL$78,0)),\"\")","v":""},{"$f":"IFERROR(INDEX(AY$2:AY$78,MATCH(ROW()-ROW($BD$1),$BL$2:$BL$78,0)),\"\")","v":""},{"$f":"IFERROR(INDEX(AZ$2:AZ$78,MATCH(ROW()-ROW($BD$1),$BL$2:$BL$78,0)),\"\")","v":""},{"$f":"IFERROR(INDEX(BA$2:BA$78,MATCH(ROW()-ROW($BD$1),$BL$2:$BL$78,0)),\"\")","v":""},{"$f":"IFERROR(INDEX(BB$2:BB$78,MATCH(ROW()-ROW($BD$1),$BL$2:$BL$78,0)),\"\")","v":""},{"$f":"IF($AZ195=\"Tire Cord Production\",$BC195,\"\")","v":""},{"$f":"+IF(BS195=\"\",\"\",MAX(BT$1:BT194)+1)","v":""},{"$f":"IF(BV195=\"\",\"\",BV195&\" \"&BW195&\" \"&BX195)","v":""},{"$f":"IFERROR(INDEX(AX$2:AX$78,MATCH(ROW()-ROW($BT$1),$BT$2:$BT$78,0)),\"\")","v":""},{"$f":"IFERROR(INDEX(AY$2:AY$78,MATCH(ROW()-ROW($BT$1),$BT$2:$BT$78,0)),\"\")","v":""},{"$f":"IFERROR(INDEX(AZ$2:AZ$78,MATCH(ROW()-ROW($BT$1),$BT$2:$BT$78,0)),\"\")","v":""},{"$f":"IFERROR(INDEX(BA$2:BA$78,MATCH(ROW()-ROW($BT$1),$BT$2:$BT$78,0)),\"\")","v":""},{"$f":"IFERROR(INDEX(BB$2:BB$78,MATCH(ROW()-ROW($BT$1),$BT$2:$BT$78,0)),\"\")","v":""},{"$f":"IF($AZ195=\"Puncture Sealant Application\",$BC195,\"\")","v":""},{"$f":"+IF(CA195=\"\",\"\",MAX(CB$1:CB194)+1)","v":""},{"$f":"IF(CD195=\"\",\"\",CD195&\" \"&CE195&\" \"&CF195)","v":""},{"$f":"IFERROR(INDEX(AX$2:AX$78,MATCH(ROW()-ROW($CB$1),$CB$2:$CB$78,0)),\"\")","v":""},{"$f":"IFERROR(INDEX(AY$2:AY$78,MATCH(ROW()-ROW($CB$1),$CB$2:$CB$78,0)),\"\")","v":""},{"$f":"IFERROR(INDEX(AZ$2:AZ$78,MATCH(ROW()-ROW($CB$1),$CB$2:$CB$78,0)),\"\")","v":""},{"$f":"IFERROR(INDEX(BA$2:BA$78,MATCH(ROW()-ROW($CB$1),$CB$2:$CB$78,0)),\"\")","v":""},{"$f":"IFERROR(INDEX(BB$2:BB$78,MATCH(ROW()-ROW($CB$1),$CB$2:$CB$78,0)),\"\")","v":""},{"$f":"IF($AZ195=\"Rubber Processing\",$BC195,\"\")","v":""},{"$f":"+IF(CI195=\"\",\"\",MAX(CJ$1:CJ194)+1)","v":""},{"$f":"IFERROR(INDEX(AX$2:AX$78,MATCH(ROW()-ROW($CJ$1),$CJ$2:$CJ$78,0)),\"\")","v":""},{"$f":"IFERROR(INDEX(AY$2:AY$78,MATCH(ROW()-ROW($CJ$1),$CJ$2:$CJ$78,0)),\"\")","v":""},{"$f":"IFERROR(INDEX(AZ$2:AZ$78,MATCH(ROW()-ROW($CJ$1),$CJ$2:$CJ$78,0)),\"\")","v":""},{"$f":"IFERROR(INDEX(BA$2:BA$78,MATCH(ROW()-ROW($CJ$1),$CJ$2:$CJ$78,0)),\"\")","v":""},{"$f":"IFERROR(INDEX(BB$2:BB$78,MATCH(ROW()-ROW($CJ$1),$CJ$2:$CJ$78,0)),\"\")","v":""},null,{"$f":"+IF(CR195=\"\",\"\",MAX(CQ$1:CQ194)+1)","v":""},{"$f":"IF(Compliance_Options!B217=\"\",\"\",Compliance_Options!B217)","v":""},{"$f":"IF(Compliance_Options!C217=\"\",\"\",Compliance_Options!C217)","v":""},{"$f":"IF(Compliance_Options!D217=\"\",\"\",Compliance_Options!D217)","v":""},{"$f":"CR195&\" \"&CS195&\" \"&CT195","v":"  "},{"$f":"IF(COUNTIF(CU$2:CU195,CU195)=1,CU195,\"\")","v":""},{"$f":"IFERROR(INDEX(CV$2:CV$78,MATCH(ROW()-ROW($CV$1),$CQ$2:$CQ$78,0)),\"\")","v":""},{"$f":"IFERROR(INDEX(CR$2:CR$78,MATCH(ROW()-ROW($CV$1),$CQ$2:$CQ$78,0)),\"\")","v":""},{"$f":"IFERROR(INDEX(CS$2:CS$78,MATCH(ROW()-ROW($CV$1),$CQ$2:$CQ$78,0)),\"\")","v":""},{"$f":"IFERROR(INDEX(CT$2:CT$78,MATCH(ROW()-ROW($CV$1),$CQ$2:$CQ$78,0)),\"\")","v":""}]
[{"$nulls":48},{"$f":"+IF(AX196=\"\",\"\",MAX(AW$1:AW195)+1)","v":""},{"$f":"IF(Compliance_Options!B218=\"\",\"\",Compliance_Options!B218)","v":""},{"$f":"IF(Compliance_Options!C218=\"\",\"\",Compliance_Options!C218)","v":""},{"$f":"IF(Compliance_Options!D218=\"\",\"\",Compliance_Options!D218)","v":""},{"$f":"IF(Compliance_Options!E218=\"\",\"\",Compliance_Options!E218)","v":""},{"$f":"IF(Compliance_Options!F218=\"\",\"\",Compliance_Options!F218)","v":""},"    ",{"$f":"IF(COUNTIF(BC$2:BC196,BC196)=1,BC196,\"\")","v":""},"","","","","","","",{"$f":"+IF(BK196=\"\",\"\",MAX(BL$1:BL195)+1)","v":""},"","","","","","","",{"$f":"+IF(BS196=\"\",\"\",MAX(BT$1:BT195)+1)","v":""},"","","","","","","",{"$f":"+IF(CA196=\"\",\"\",MAX(CB$1:CB195)+1)","v":""},"","","","","","","",{"$f":"+IF(CI196=\"\",\"\",MAX(CJ$1:CJ195)+1)","v":""},"","","","","",null,{"$f":"+IF(CR196=\"\",\"\",MAX(CQ$1:CQ195)+1)","v":""},{"$f":"IF(Compliance_Options!B218=\"\",\"\",Compliance_Options!B218)","v":""},{"$f":"IF(Compliance_Options!C218=\"\",\"\",Compliance_Options!C218)","v":""},{"$f":"IF(Compliance_Options!D218=\"\",\"\",Compliance_Options!D218)","v":""},"  ",{"$f":"IF(COUNTIF(CU$2:CU196,CU196)=1,CU196,\"\")","v":""},"","","",""]
[{"$nulls":48},{"$f":"+IF(AX197=\"\",\"\",MAX(AW$1:AW196)+1)","v":""},{"$f":"IF(Compliance_Options!B219=\"\",\"\",Compliance_Options!B219)","v":""},{"$f":"IF(Compliance_Options!C219=\"\",\"\",Compliance_Options!C219)","v":""},{"$f":"IF(Compliance_Options!D219=\"\",\"\",Compliance_Options!D219)","v":""},{"$f":"IF(Compliance_Options!E219=\"\",\"\",Compliance_Options!E219)","v":""},{"$f":"IF(Compliance_Options!F219=\"\",\"\",Compliance_Options!F219)","v":""},"    ",{"$f":"IF(COUNTIF(BC$2:BC197,BC197)=1,BC197,\"\")","v":""},"","","","","","","",{"$f":"+IF(BK197=\"\",\"\",MAX(BL$1:BL196)+1)","v":""},"","","","","","","",{"$f":"+IF(BS197=\"\",\"\",MAX(BT$1:BT196)+1)","v":""},"","","","","","","",{"$f":"+IF(CA197=\"\",\"\",MAX(CB$1:CB196)+1)","v":""},"","","","","","","",{"$f":"+IF(CI197=\"\",\"\",MAX(CJ$1:CJ196)+1)","v":""},"","","","","",null,{"$f":"+IF(CR197=\"\",\"\",MAX(CQ$1:CQ196)+1)","v":""},{"$f":"IF(Compliance_Options!B219=\"\",\"\",Compliance_Options!B219)","v":""},{"$f":"IF(Compliance_Options!C219=\"\",\"\",Compliance_Options!C219)","v":""},{"$f":"IF(Compliance_Options!D219=\"\",\"\",Compliance_Options!D219)","v":""},"  ",{"$f":"IF(COUNTIF(CU$2:CU197,CU197)=1,CU197,\"\")","v":""},"","","",""]
[{"$nulls":48},{"$f":"+IF(AX198=\"\",\"\",MAX(AW$1:AW197)+1)","v":""},{"$f":"IF(Compliance_Options!B220=\"\",\"\",Compliance_Options!B220)","v":""},{"$f":"IF(Compliance_Options!C220=\"\",\"\",Compliance_Options!C220)","v":""},{"$f":"IF(Compliance_Options!D220=\"\",\"\",Compliance_Options!D220)","v":""},{"$f":"IF(Compliance_Options!E220=\"\",\"\",Compliance_Options!E220)","v":""},{"$f":"IF(Compliance_Options!F220=\"\",\"\",Compliance_Options!F220)","v":""},"    ",{"$f":"IF(COUNTIF(BC$2:BC198,BC198)=1,BC198,\"\")","v":""},"","","","","","","",{"$f":"+IF(BK198=\"\",\"\",MAX(BL$1:BL197)+1)","v":""},"","","","","","","",{"$f":"+IF(BS198=\"\",\"\",MAX(BT$1:BT197)+1)","v":""},"","","","","","","",{"$f":"+IF(CA198=\"\",\"\",MAX(CB$1:CB197)+1)","v":""},"","","","","","","",{"$f":"+IF(CI198=\"\",\"\",MAX(CJ$1:CJ197)+1)","v":""},"","","","","",null,{"$f":"+IF(CR198=\"\",\"\",MAX(CQ$1:CQ197)+1)","v":""},{"$f":"IF(Compliance_Options!B220=\"\",\"\",Compliance_Options!B220)","v":""},{"$f":"IF(Compliance_Options!C220=\"\",\"\",Compliance_Options!C220)","v":""},{"$f":"IF(Compliance_Options!D220=\"\",\"\",Compliance_Options!D220)","v":""},"  ",{"$f":"IF(COUNTIF(CU$2:CU198,CU198)=1,CU198,\"\")","v":""},"","","",""]
[{"$nulls":48},{"$f":"+IF(AX199=\"\",\"\",MAX(AW$1:AW198)+1)","v":""},{"$f":"IF(Compliance_Options!B221=\"\",\"\",Compliance_Options!B221)","v":""},{"$f":"IF(Compliance_Options!C221=\"\",\"\",Compliance_Options!C221)","v":""},{"$f":"IF(Compliance_Options!D221=\"\",\"\",Compliance_Options!D221)","v":""},{"$f":"IF(Compliance_Options!E221=\"\",\"\",Compliance_Options!E221)","v":""},{"$f":"IF(Compliance_Options!F221=\"\",\"\",Compliance_Options!F221)","v":""},"    ",{"$f":"IF(COUNTIF(BC$2:BC199,BC199)=1,BC199,\"\")","v":""},"","","","","","","",{"$f":"+IF(BK199=\"\",\"\",MAX(BL$1:BL198)+1)","v":""},"","","","","","","",{"$f":"+IF(BS199=\"\",\"\",MAX(BT$1:BT198)+1)","v":""},"","","","","","","",{"$f":"+IF(CA199=\"\",\"\",MAX(CB$1:CB198)+1)","v":""},"","","","","","","",{"$f":"+IF(CI199=\"\",\"\",MAX(CJ$1:CJ198)+1)","v":""},"","","","","",null,{"$f":"+IF(CR199=\"\",\"\",MAX(CQ$1:CQ198)+1)","v":""},{"$f":"IF(Compliance_Options!B221=\"\",\"\",Compliance_Options!B221)","v":""},{"$f":"IF(Compliance_Options!C221=\"\",\"\",Compliance_Options!C221)","v":""},{"$f":"IF(Compliance_Options!D221=\"\",\"\",Compliance_Options!D221)","v":""},"  ",{"$f":"IF(COUNTIF(CU$2:CU199,CU199)=1,CU199,\"\")","v":""},"","","",""]
[{"$nulls":48},{"$f":"+IF(AX200=\"\",\"\",MAX(AW$1:AW199)+1)","v":""},{"$f":"IF(Compliance_Options!B222=\"\",\"\",Compliance_Options!B222)","v":""},{"$f":"IF(Compliance_Options!C222=\"\",\"\",Compliance_Options!C222)","v":""},{"$f":"IF(Compliance_Options!D222=\"\",\"\",Compliance_Options!D222)","v":""},{"$f":"IF(Compliance_Options!E222=\"\",\"\",Compliance_Options!E222)","v":""},{"$f":"IF(Compliance_Options!F222=\"\",\"\",Compliance_Options!F222)","v":""},"    ",{"$f":"IF(COUNTIF(BC$2:BC200,BC200)=1,BC200,\"\")","v":""},"","","","","","","",{"$f":"+IF(BK200=\"\",\"\",MAX(BL$1:BL199)+1)","v":""},"","","","","","","",{"$f":"+IF(BS200=\"\",\"\",MAX(BT$1:BT199)+1)","v":""},"","","","","","","",{"$f":"+IF(CA200=\"\",\"\",MAX(CB$1:CB199)+1)","v":""},"","","","","","","",{"$f":"+IF(CI200=\"\",\"\",MAX(CJ$1:CJ199)+1)","v":""},"","","","","",null,{"$f":"+IF(CR200=\"\",\"\",MAX(CQ$1:CQ199)+1)","v":""},{"$f":"IF(Compliance_Options!B222=\"\",\"\",Compliance_Options!B222)","v":""},{"$f":"IF(Compliance_Options!C222=\"\",\"\",Compliance_Options!C222)","v":""},{"$f":"IF(Compliance_Options!D222=\"\",\"\",Compliance_Options!D222)","v":""},"  ",{"$f":"IF(COUNTIF(CU$2:CU200,CU200)=1,CU200,\"\")","v":""},"","","",""]
[{"$nulls":48},{"$f":"+IF(AX201=\"\",\"\",MAX(AW$1:AW200)+1)","v":""},{"$f":"IF(Compliance_Options!B223=\"\",\"\",Compliance_Options!B223)","v":""},{"$f":"IF(Compliance_Options!C223=\"\",\"\",Compliance_Options!C223)","v":""},{"$f":"IF(Compliance_Options!D223=\"\",\"\",Compliance_Options!D223)","v":""},{"$f":"IF(Compliance_Options!E223=\"\",\"\",Compliance_Options!E223)","v":""},{"$f":"IF(Compliance_Options!F223=\"\",\"\",Compliance_Options!F223)","v":""},"    ",{"$f":"IF(COUNTIF(BC$2:BC201,BC201)=1,BC201,\"\")","v":""},"","","","","","","",{"$f":"+IF(BK201=\"\",\"\",MAX(BL$1:BL200)+1)","v":""},"","","","","","","",{"$f":"+IF(BS201=\"\",\"\",MAX(BT$1:BT200)+1)","v":""},"","","","","","","",{"$f":"+IF(CA201=\"\",\"\",MAX(CB$1:CB200)+1)","v":""},"","","","","","","",{"$f":"+IF(CI201=\"\",\"\",MAX(CJ$1:CJ200)+1)","v":""},"","","","","",null,{"$f":"+IF(CR201=\"\",\"\",MAX(CQ$1:CQ200)+1)","v":""},{"$f":"IF(Compliance_Options!B223=\"\",\"\",Compliance_Options!B223)","v":""},{"$f":"IF(Compliance_Options!C223=\"\",\"\",Compliance_Options!C223)","v":""},{"$f":"IF(Compliance_Options!D223=\"\",\"\",Compliance_Options!D223)","v":""},"  ",{"$f":"IF(COUNTIF(CU$2:CU201,CU201)=1,CU201,\"\")","v":""},"","","",""]
[{"$nulls":48},{"$f":"+IF(AX202=\"\",\"\",MAX(AW$1:AW201)+1)","v":""},{"$f":"IF(Compliance_Options!B224=\"\",\"\",Compliance_Options!B224)","v":""},{"$f":"IF(Compliance_Options!C224=\"\",\"\",Compliance_Options!C224)","v":""},{"$f":"IF(Compliance_Options!D224=\"\",\"\",Compliance_Options!D224)","v":""},{"$f":"IF(Compliance_Options!E224=\"\",\"\",Compliance_Options!E224)","v":""},{"$f":"IF(Compliance_Options!F224=\"\",\"\",Compliance_Options!F224)","v":""},"    ",{"$f":"IF(COUNTIF(BC$2:BC202,BC202)=1,BC202,\"\")","v":""},"","","","","","","",{"$f":"+IF(BK202=\"\",\"\",MAX(BL$1:BL201)+1)","v":""},"","","","","","","",{"$f":"+IF(BS202=\"\",\"\",MAX(BT$1:BT201)+1)","v":""},"","","","","","","",{"$f":"+IF(CA202=\"\",\"\",MAX(CB$1:CB201)+1)","v":""},"","","","","","","",{"$f":"+IF(CI202=\"\",\"\",MAX(CJ$1:CJ201)+1)","v":""},"","","","","",null,{"$f":"+IF(CR202=\"\",\"\",MAX(CQ$1:CQ201)+1)","v":""},{"$f":"IF(Compliance_Options!B224=\"\",\"\",Compliance_Options!B224)","v":""},{"$f":"IF(Compliance_Options!C224=\"\",\"\",Compliance_Options!C224)","v":""},{"$f":"IF(Compliance_Options!D224=\"\",\"\",Compliance_Options!D224)","v":""},"  ",{"$f":"IF(COUNTIF(CU$2:CU202,CU202)=1,CU202,\"\")","v":""},"","","",""]
[{"$nulls":48},{"$f":"+IF(AX203=\"\",\"\",MAX(AW$1:AW202)+1)","v":""},{"$f":"IF(Compliance_Options!B225=\"\",\"\",Compliance_Options!B225)","v":""},{"$f":"IF(Compliance_Options!C225=\"\",\"\",Compliance_Options!C225)","v":""},{"$f":"IF(Compliance_Options!D225=\"\",\"\",Compliance_Options!D225)","v":""},{"$f":"IF(Compliance_Options!E225=\"\",\"\",Compliance_Options!E225)","v":""},{"$f":"IF(Compliance_Options!F225=\"\",\"\",Compliance_Options!F225)","v":""},"    ",{"$f":"IF(COUNTIF(BC$2:BC203,BC203)=1,BC203,\"\")","v":""},"","","","","","","",{"$f":"+IF(BK203=\"\",\"\",MAX(BL$1:BL202)+1)","v":""},"","","","","","","",{"$f":"+IF(BS203=\"\",\"\",MAX(BT$1:BT202)+1)","v":""},"","","","","","","",{"$f":"+IF(CA203=\"\",\"\",MAX(CB$1:CB202)+1)","v":""},"","","","","","","",{"$f":"+IF(CI203=\"\",\"\",MAX(CJ$1:CJ202)+1)","v":""},"","","","","",null,{"$f":"+IF(CR203=\"\",\"\",MAX(CQ$1:CQ202)+1)","v":""},{"$f":"IF(Compliance_Options!B225=\"\",\"\",Compliance_Options!B225)","v":""},{"$f":"IF(Compliance_Options!C225=\"\",\"\",Compliance_Options!C225)","v":""},{"$f":"IF(Compliance_Options!D225=\"\",\"\",Compliance_Options!D225)","v":""},"  ",{"$f":"IF(COUNTIF(CU$2:CU203,CU203)=1,CU203,\"\")","v":""},"","","",""]
[{"$nulls":48},{"$f":"+IF(AX204=\"\",\"\",MAX(AW$1:AW203)+1)","v":""},{"$f":"IF(Compliance_Options!B226=\"\",\"\",Compliance_Options!B226)","v":""},{"$f":"IF(Compliance_Options!C226=\"\",\"\",Compliance_Options!C226)","v":""},{"$f":"IF(Compliance_Options!D226=\"\",\"\",Compliance_Options!D226)","v":""},{"$f":"IF(Compliance_Options!E226=\"\",\"\",Compliance_Options!E226)","v":""},{"$f":"IF(Compliance_Options!F226=\"\",\"\",Compliance_Options!F226)","v":""},"    ",{"$f":"IF(COUNTIF(BC$2:BC204,BC204)=1,BC204,\"\")","v":""},"","","","","","","",{"$f":"+IF(BK204=\"\",\"\",MAX(BL$1:BL203)+1)","v":""},"","","","","","","",{"$f":"+IF(BS204=\"\",\"\",MAX(BT$1:BT203)+1)","v":""},"","","","","","","",{"$f":"+IF(CA204=\"\",\"\",MAX(CB$1:CB203)+1)","v":""},"","","","","","","",{"$f":"+IF(CI204=\"\",\"\",MAX(CJ$1:CJ203)+1)","v":""},"","","","","",null,{"$f":"+IF(CR204=\"\",\"\",MAX(CQ$1:CQ203)+1)","v":""},{"$f":"IF(Compliance_Options!B226=\"\",\"\",Compliance_Options!B226)","v":""},{"$f":"IF(Compliance_Options!C226=\"\",\"\",Compliance_Options!C226)","v":""},{"$f":"IF(Compliance_Options!D226=\"\",\"\",Compliance_Options!D226)","v":""},"  ",{"$f":"IF(COUNTIF(CU$2:CU204,CU204)=1,CU204,\"\")","v":""},"","","",""]
[{"$nulls":48},{"$f":"+IF(AX205=\"\",\"\",MAX(AW$1:AW204)+1)","v":""},{"$f":"IF(Compliance_Options!B227=\"\",\"\",Compliance_Options!B227)","v":""},{"$f":"IF(Compliance_Options!C227=\"\",\"\",Compliance_Options!C227)","v":""},{"$f":"IF(Compliance_Options!D227=\"\",\"\",Compliance_Options!D227)","v":""},{"$f":"IF(Compliance_Options!E227=\"\",\"\",Compliance_Options!E227)","v":""},{"$f":"IF(Compliance_Options!F227=\"\",\"\",Compliance_Options!F227)","v":""},"    ",{"$f":"IF(COUNTIF(BC$2:BC205,BC205)=1,BC205,\"\")","v":""},"","","","","","","",{"$f":"+IF(BK205=\"\",\"\",MAX(BL$1:BL204)+1)","v":""},"","","","","","","",{"$f":"+IF(BS205=\"\",\"\",MAX(BT$1:BT204)+1)","v":""},"","","","","","","",{"$f":"+IF(CA205=\"\",\"\",MAX(CB$1:CB204)+1)","v":""},"","","","","","","",{"$f":"+IF(CI205=\"\",\"\",MAX(CJ$1:CJ204)+1)","v":""},"","","","","",null,{"$f":"+IF(CR205=\"\",\"\",MAX(CQ$1:CQ204)+1)","v":""},{"$f":"IF(Compliance_Options!B227=\"\",\"\",Compliance_Options!B227)","v":""},{"$f":"IF(Compliance_Options!C227=\"\",\"\",Compliance_Options!C227)","v":""},{"$f":"IF(Compliance_Options!D227=\"\",\"\",Compliance_Options!D227)","v":""},"  ",{"$f":"IF(COUNTIF(CU$2:CU205,CU205)=1,CU205,\"\")","v":""},"","","",""]
[{"$nulls":48},{"$f":"+IF(AX206=\"\",\"\",MAX(AW$1:AW205)+1)","v":""},{"$f":"IF(Compliance_Options!B228=\"\",\"\",Compliance_Options!B228)","v":""},{"$f":"IF(Compliance_Options!C228=\"\",\"\",Compliance_Options!C228)","v":""},{"$f":"IF(Compliance_Options!D228=\"\",\"\",Compliance_Options!D228)","v":""},{"$f":"IF(Compliance_Options!E228=\"\",\"\",Compliance_Options!E228)","v":""},{"$f":"IF(Compliance_Options!F228=\"\",\"\",Compliance_Options!F228)","v":""},"    ",{"$f":"IF(COUNTIF(BC$2:BC206,BC206)=1,BC206,\"\")","v":""},"","","","","","","",{"$f":"+IF(BK206=\"\",\"\",MAX(BL$1:BL205)+1)","v":""},"","","","","","","",{"$f":"+IF(BS206=\"\",\"\",MAX(BT$1:BT205)+1)","v":""},"","","","","","","",{"$f":"+IF(CA206=\"\",\"\",MAX(CB$1:CB205)+1)","v":""},"","","","","","","",{"$f":"+IF(CI206=\"\",\"\",MAX(CJ$1:CJ205)+1)","v":""},"","","","","",null,{"$f":"+IF(CR206=\"\",\"\",MAX(CQ$1:CQ205)+1)","v":""},{"$f":"IF(Compliance_Options!B228=\"\",\"\",Compliance_Options!B228)","v":""},{"$f":"IF(Compliance_Options!C228=\"\",\"\",Compliance_Options!C228)","v":""},{"$f":"IF(Compliance_Options!D228=\"\",\"\",Compliance_Options!D228)","v":""},"  ",{"$f":"IF(COUNTIF(CU$2:CU206,CU206)=1,CU206,\"\")","v":""},"","","",""]
[{"$nulls":48},{"$f":"+IF(AX207=\"\",\"\",MAX(AW$1:AW206)+1)","v":""},{"$f":"IF(Compliance_Options!B229=\"\",\"\",Compliance_Options!B229)","v":""},{"$f":"IF(Compliance_Options!C229=\"\",\"\",Compliance_Options!C229)","v":""},{"$f":"IF(Compliance_Options!D229=\"\",\"\",Compliance_Options!D229)","v":""},{"$f":"IF(Compliance_Options!E229=\"\",\"\",Compliance_Options!E229)","v":""},{"$f":"IF(Compliance_Options!F229=\"\",\"\",Compliance_Options!F229)","v":""},"    ",{"$f":"IF(COUNTIF(BC$2:BC207,BC207)=1,BC207,\"\")","v":""},"","","","","","","",{"$f":"+IF(BK207=\"\",\"\",MAX(BL$1:BL206)+1)","v":""},"","","","","","","",{"$f":"+IF(BS207=\"\",\"\",MAX(BT$1:BT206)+1)","v":""},"","","","","","","",{"$f":"+IF(CA207=\"\",\"\",MAX(CB$1:CB206)+1)","v":""},"","","","","","","",{"$f":"+IF(CI207=\"\",\"\",MAX(CJ$1:CJ206)+1)","v":""},"","","","","",null,{"$f":"+IF(CR207=\"\",\"\",MAX(CQ$1:CQ206)+1)","v":""},{"$f":"IF(Compliance_Options!B229=\"\",\"\",Compliance_Options!B229)","v":""},{"$f":"IF(Compliance_Options!C229=\"\",\"\",Compliance_Options!C229)","v":""},{"$f":"IF(Compliance_Options!D229=\"\",\"\",Compliance_Options!D229)","v":""},"  ",{"$f":"IF(COUNTIF(CU$2:CU207,CU207)=1,CU207,\"\")","v":""},"","","",""]
[{"$nulls":48},{"$f":"+IF(AX208=\"\",\"\",MAX(AW$1:AW207)+1)","v":""},{"$f":"IF(Compliance_Options!B230=\"\",\"\",Compliance_Options!B230)","v":""},{"$f":"IF(Compliance_Options!C230=\"\",\"\",Compliance_Options!C230)","v":""},{"$f":"IF(Compliance_Options!D230=\"\",\"\",Compliance_Options!D230)","v":""},{"$f":"IF(Compliance_Options!E230=\"\",\"\",Compliance_Options!E230)","v":""},{"$f":"IF(Compliance_Options!F230=\"\",\"\",Compliance_Options!F230)","v":""},"    ",{"$f":"IF(COUNTIF(BC$2:BC208,BC208)=1,BC208,\"\")","v":""},"","","","","","","",{"$f":"+IF(BK208=\"\",\"\",MAX(BL$1:BL207)+1)","v":""},"","","","","","","",{"$f":"+IF(BS208=\"\",\"\",MAX(BT$1:BT207)+1)","v":""},"","","","","","","",{"$f":"+IF(CA208=\"\",\"\",MAX(CB$1:CB207)+1)","v":""},"","","","","","","",{"$f":"+IF(CI208=\"\",\"\",MAX(CJ$1:CJ207)+1)","v":""},"","","","","",null,{"$f":"+IF(CR208=\"\",\"\",MAX(CQ$1:CQ207)+1)","v":""},{"$f":"IF(Compliance_Options!B230=\"\",\"\",Compliance_Options!B230)","v":""},{"$f":"IF(Compliance_Options!C230=\"\",\"\",Compliance_Options!C230)","v":""},{"$f":"IF(Compliance_Options!D230=\"\",\"\",Compliance_Options!D230)","v":""},"  ",{"$f":"IF(COUNTIF(CU$2:CU208,CU208)=1,CU208,\"\")","v":""},"","","",""]
[{"$nulls":48},{"$f":"+IF(AX209=\"\",\"\",MAX(AW$1:AW208)+1)","v":""},{"$f":"IF(Compliance_Options!B231=\"\",\"\",Compliance_Options!B231)","v":""},{"$f":"IF(Compliance_Options!C231=\"\",\"\",Compliance_Options!C231)","v":""},{"$f":"IF(Compliance_Options!D231=\"\",\"\",Compliance_Options!D231)","v":""},{"$f":"IF(Compliance_Options!E231=\"\",\"\",Compliance_Options!E231)","v":""},{"$f":"IF(Compliance_Options!F231=\"\",\"\",Compliance_Options!F231)","v":""},"    ",{"$f":"IF(COUNTIF(BC$2:BC209,BC209)=1,BC209,\"\")","v":""},"","","","","","","",{"$f":"+IF(BK209=\"\",\"\",MAX(BL$1:BL208)+1)","v":""},"","","","","","","",{"$f":"+IF(BS209=\"\",\"\",MAX(BT$1:BT208)+1)","v":""},"","","","","","","",{"$f":"+IF(CA209=\"\",\"\",MAX(CB$1:CB208)+1)","v":""},"","","","","","","",{"$f":"+IF(CI209=\"\",\"\",MAX(CJ$1:CJ208)+1)","v":""},"","","","","",null,{"$f":"+IF(CR209=\"\",\"\",MAX(CQ$1:CQ208)+1)","v":""},{"$f":"IF(Compliance_Options!B231=\"\",\"\",Compliance_Options!B231)","v":""},{"$f":"IF(Compliance_Options!C231=\"\",\"\",Compliance_Options!C231)","v":""},{"$f":"IF(Compliance_Options!D231=\"\",\"\",Compliance_Options!D231)","v":""},"  ",{"$f":"IF(COUNTIF(CU$2:CU209,CU209)=1,CU209,\"\")","v":""},"","","",""]
[{"$nulls":48},{"$f":"+IF(AX210=\"\",\"\",MAX(AW$1:AW209)+1)","v":""},{"$f":"IF(Compliance_Options!B232=\"\",\"\",Compliance_Options!B232)","v":""},{"$f":"IF(Compliance_Options!C232=\"\",\"\",Compliance_Options!C232)","v":""},{"$f":"IF(Compliance_Options!D232=\"\",\"\",Compliance_Options!D232)","v":""},{"$f":"IF(Compliance_Options!E232=\"\",\"\",Compliance_Options!E232)","v":""},{"$f":"IF(Compliance_Options!F232=\"\",\"\",Compliance_Options!F232)","v":""},"    ",{"$f":"IF(COUNTIF(BC$2:BC210,BC210)=1,BC210,\"\")","v":""},"","","","","","","",{"$f":"+IF(BK210=\"\",\"\",MAX(BL$1:BL209)+1)","v":""},"","","","","","","",{"$f":"+IF(BS210=\"\",\"\",MAX(BT$1:BT209)+1)","v":""},"","","","","","","",{"$f":"+IF(CA210=\"\",\"\",MAX(CB$1:CB209)+1)","v":""},"","","","","","","",{"$f":"+IF(CI210=\"\",\"\",MAX(CJ$1:CJ209)+1)","v":""},"","","","","",null,{"$f":"+IF(CR210=\"\",\"\",MAX(CQ$1:CQ209)+1)","v":""},{"$f":"IF(Compliance_Options!B232=\"\",\"\",Compliance_Options!B232)","v":""},{"$f":"IF(Compliance_Options!C232=\"\",\"\",Compliance_Options!C232)","v":""},{"$f":"IF(Compliance_Options!D232=\"\",\"\",Compliance_Options!D232)","v":""},"  ",{"$f":"IF(COUNTIF(CU$2:CU210,CU210)=1,CU210,\"\")","v":""},"","","",""]
[{"$nulls":48},{"$f":"+IF(AX211=\"\",\"\",MAX(AW$1:AW210)+1)","v":""},{"$f":"IF(Compliance_Options!B233=\"\",\"\",Compliance_Options!B233)","v":""},{"$f":"IF(Compliance_Options!C233=\"\",\"\",Compliance_Options!C233)","v":""},{"$f":"IF(Compliance_Options!D233=\"\",\"\",Compliance_Options!D233)","v":""},{"$f":"IF(Compliance_Options!E233=\"\",\"\",Compliance_Options!E233)","v":""},{"$f":"IF(Compliance_Options!F233=\"\",\"\",Compliance_Options!F233)","v":""},"    ",{"$f":"IF(COUNTIF(BC$2:BC211,BC211)=1,BC211,\"\")","v":""},"","","","","","","",{"$f":"+IF(BK211=\"\",\"\",MAX(BL$1:BL210)+1)","v":""},"","","","","","","",{"$f":"+IF(BS211=\"\",\"\",MAX(BT$1:BT210)+1)","v":""},"","","","","","","",{"$f":"+IF(CA211=\"\",\"\",MAX(CB$1:CB210)+1)","v":""},"","","","","","","",{"$f":"+IF(CI211=\"\",\"\",MAX(CJ$1:CJ210)+1)","v":""},"","","","","",null,{"$f":"+IF(CR211=\"\",\"\",MAX(CQ$1:CQ210)+1)","v":""},{"$f":"IF(Compliance_Options!B233=\"\",\"\",Compliance_Options!B233)","v":""},{"$f":"IF(Compliance_Options!C233=\"\",\"\",Compliance_Options!C233)","v":""},{"$f":"IF(Compliance_Options!D233=\"\",\"\",Compliance_Options!D233)","v":""},"  ",{"$f":"IF(COUNTIF(CU$2:CU211,CU211)=1,CU211,\"\")","v":""},"","","",""]
[{"$nulls":48},{"$f":"+IF(AX212=\"\",\"\",MAX(AW$1:AW211)+1)","v":""},{"$f":"IF(Compliance_Options!B234=\"\",\"\",Compliance_Options!B234)","v":""},{"$f":"IF(Compliance_Options!C234=\"\",\"\",Compliance_Options!C234)","v":""},{"$f":"IF(Compliance_Options!D234=\"\",\"\",Compliance_Options!D234)","v":""},{"$f":"IF(Compliance_Options!E234=\"\",\"\",Compliance_Options!E234)","v":""},{"$f":"IF(Compliance_Options!F234=\"\",\"\",Compliance_Options!F234)","v":""},"    ",{"$f":"IF(COUNTIF(BC$2:BC212,BC212)=1,BC212,\"\")","v":""},"","","","","","","",{"$f":"+IF(BK212=\"\",\"\",MAX(BL$1:BL211)+1)","v":""},"","","","","","","",{"$f":"+IF(BS212=\"\",\"\",MAX(BT$1:BT211)+1)","v":""},"","","","","","","",{"$f":"+IF(CA212=\"\",\"\",MAX(CB$1:CB211)+1)","v":""},"","","","","","","",{"$f":"+IF(CI212=\"\",\"\",MAX(CJ$1:CJ211)+1)","v":""},"","","","","",null,{"$f":"+IF(CR212=\"\",\"\",MAX(CQ$1:CQ211)+1)","v":""},{"$f":"IF(Compliance_Options!B234=\"\",\"\",Compliance_Options!B234)","v":""},{"$f":"IF(Compliance_Options!C234=\"\",\"\",Compliance_Options!C234)","v":""},{"$f":"IF(Compliance_Options!D234=\"\",\"\",Compliance_Options!D234)","v":""},"  ",{"$f":"IF(COUNTIF(CU$2:CU212,CU212)=1,CU212,\"\")","v":""},"","","",""]
[{"$nulls":48},{"$f":"+IF(AX213=\"\",\"\",MAX(AW$1:AW212)+1)","v":""},{"$f":"IF(Compliance_Options!B235=\"\",\"\",Compliance_Options!B235)","v":""},{"$f":"IF(Compliance_Options!C235=\"\",\"\",Compliance_Options!C235)","v":""},{"$f":"IF(Compliance_Options!D235=\"\",\"\",Compliance_Options!D235)","v":""},{"$f":"IF(Compliance_Options!E235=\"\",\"\",Compliance_Options!E235)","v":""},{"$f":"IF(Compliance_Options!F235=\"\",\"\",Compliance_Options!F235)","v":""},"    ",{"$f":"IF(COUNTIF(BC$2:BC213,BC213)=1,BC213,\"\")","v":""},"","","","","","","",{"$f":"+IF(BK213=\"\",\"\",MAX(BL$1:BL212)+1)","v":""},"","","","","","","",{"$f":"+IF(BS213=\"\",\"\",MAX(BT$1:BT212)+1)","v":""},"","","","","","","",{"$f":"+IF(CA213=\"\",\"\",MAX(CB$1:CB212)+1)","v":""},"","","","","","","",{"$f":"+IF(CI213=\"\",\"\",MAX(CJ$1:CJ212)+1)","v":""},"","","","","",null,{"$f":"+IF(CR213=\"\",\"\",MAX(CQ$1:CQ212)+1)","v":""},{"$f":"IF(Compliance_Options!B235=\"\",\"\",Compliance_Options!B235)","v":""},{"$f":"IF(Compliance_Options!C235=\"\",\"\",Compliance_Options!C235)","v":""},{"$f":"IF(Compliance_Options!D235=\"\",\"\",Compliance_Options!D235)","v":""},"  ",{"$f":"IF(COUNTIF(CU$2:CU213,CU213)=1,CU213,\"\")","v":""},"","","",""]
[{"$nulls":48},{"$f":"+IF(AX214=\"\",\"\",MAX(AW$1:AW213)+1)","v":""},{"$f":"IF(Compliance_Options!B236=\"\",\"\",Compliance_Options!B236)","v":""},{"$f":"IF(Compliance_Options!C236=\"\",\"\",Compliance_Options!C236)","v":""},{"$f":"IF(Compliance_Options!D236=\"\",\"\",Compliance_Options!D236)","v":""},{"$f":"IF(Compliance_Options!E236=\"\",\"\",Compliance_Options!E236)","v":""},{"$f":"IF(Compliance_Options!F236=\"\",\"\",Compliance_Options!F236)","v":""},"    ",{"$f":"IF(COUNTIF(BC$2:BC214,BC214)=1,BC214,\"\")","v":""},"","","","","","","",{"$f":"+IF(BK214=\"\",\"\",MAX(BL$1:BL213)+1)","v":""},"","","","","","","",{"$f":"+IF(BS214=\"\",\"\",MAX(BT$1:BT213)+1)","v":""},"","","","","","","",{"$f":"+IF(CA214=\"\",\"\",MAX(CB$1:CB213)+1)","v":""},"","","","","","","",{"$f":"+IF(CI214=\"\",\"\",MAX(CJ$1:CJ213)+1)","v":""},"","","","","",null,{"$f":"+IF(CR214=\"\",\"\",MAX(CQ$1:CQ213)+1)","v":""},{"$f":"IF(Compliance_Options!B236=\"\",\"\",Compliance_Options!B236)","v":""},{"$f":"IF(Compliance_Options!C236=\"\",\"\",Compliance_Options!C236)","v":""},{"$f":"IF(Compliance_Options!D236=\"\",\"\",Compliance_Options!D236)","v":""},"  ",{"$f":"IF(COUNTIF(CU$2:CU214,CU214)=1,CU214,\"\")","v":""},"","","",""]
[{"$nulls":48},{"$f":"+IF(AX215=\"\",\"\",MAX(AW$1:AW214)+1)","v":""},{"$f":"IF(Compliance_Options!B237=\"\",\"\",Compliance_Options!B237)","v":""},{"$f":"IF(Compliance_Options!C237=\"\",\"\",Compliance_Options!C237)","v":""},{"$f":"IF(Compliance_Options!D237=\"\",\"\",Compliance_Options!D237)","v":""},{"$f":"IF(Compliance_Options!E237=\"\",\"\",Compliance_Options!E237)","v":""},{"$f":"IF(Compliance_Options!F237=\"\",\"\",Compliance_Options!F237)","v":""},"    ",{"$f":"IF(COUNTIF(BC$2:BC215,BC215)=1,BC215,\"\")","v":""},"","","","","","","",{"$f":"+IF(BK215=\"\",\"\",MAX(BL$1:BL214)+1)","v":""},"","","","","","","",{"$f":"+IF(BS215=\"\",\"\",MAX(BT$1:BT214)+1)","v":""},"","","","","","","",{"$f":"+IF(CA215=\"\",\"\",MAX(CB$1:CB214)+1)","v":""},"","","","","","","",{"$f":"+IF(CI215=\"\",\"\",MAX(CJ$1:CJ214)+1)","v":""},"","","","","",null,{"$f":"+IF(CR215=\"\",\"\",MAX(CQ$1:CQ214)+1)","v":""},{"$f":"IF(Compliance_Options!B237=\"\",\"\",Compliance_Options!B237)","v":""},{"$f":"IF(Compliance_Options!C237=\"\",\"\",Compliance_Options!C237)","v":""},{"$f":"IF(Compliance_Options!D237=\"\",\"\",Compliance_Options!D237)","v":""},"  ",{"$f":"IF(COUNTIF(CU$2:CU215,CU215)=1,CU215,\"\")","v":""},"","","",""]
[{"$nulls":48},{"$f":"+IF(AX216=\"\",\"\",MAX(AW$1:AW215)+1)","v":""},{"$f":"IF(Compliance_Options!B238=\"\",\"\",Compliance_Options!B238)","v":""},{"$f":"IF(Compliance_Options!C238=\"\",\"\",Compliance_Options!C238)","v":""},{"$f":"IF(Compliance_Options!D238=\"\",\"\",Compliance_Options!D238)","v":""},{"$f":"IF(Compliance_Options!E238=\"\",\"\",Compliance_Options!E238)","v":""},{"$f":"IF(Compliance_Options!F238=\"\",\"\",Compliance_Options!F238)","v":""},"    ",{"$f":"IF(COUNTIF(BC$2:BC216,BC216)=1,BC216,\"\")","v":""},"","","","","","","",{"$f":"+IF(BK216=\"\",\"\",MAX(BL$1:BL215)+1)","v":""},"","","","","","","",{"$f":"+IF(BS216=\"\",\"\",MAX(BT$1:BT215)+1)","v":""},"","","","","","","",{"$f":"+IF(CA216=\"\",\"\",MAX(CB$1:CB215)+1)","v":""},"","","","","","","",{"$f":"+IF(CI216=\"\",\"\",MAX(CJ$1:CJ215)+1)","v":""},"","","","","",null,{"$f":"+IF(CR216=\"\",\"\",MAX(CQ$1:CQ215)+1)","v":""},{"$f":"IF(Compliance_Options!B238=\"\",\"\",Compliance_Options!B238)","v":""},{"$f":"IF(Compliance_Options!C238=\"\",\"\",Compliance_Options!C238)","v":""},{"$f":"IF(Compliance_Options!D238=\"\",\"\",Compliance_Options!D238)","v":""},"  ",{"$f":"IF(COUNTIF(CU$2:CU216,CU216)=1,CU216,\"\")","v":""},"","","",""]
[{"$nulls":48},{"$f":"+IF(AX217=\"\",\"\",MAX(AW$1:AW216)+1)","v":""},{"$f":"IF(Compliance_Options!B239=\"\",\"\",Compliance_Options!B239)","v":""},{"$f":"IF(Compliance_Options!C239=\"\",\"\",Compliance_Options!C239)","v":""},{"$f":"IF(Compliance_Options!D239=\"\",\"\",Compliance_Options!D239)","v":""},{"$f":"IF(Compliance_Options!E239=\"\",\"\",Compliance_Options!E239)","v":""},{"$f":"IF(Compliance_Options!F239=\"\",\"\",Compliance_Options!F239)","v":""},"    ",{"$f":"IF(COUNTIF(BC$2:BC217,BC217)=1,BC217,\"\")","v":""},"","","","","","","",{"$f":"+IF(BK217=\"\",\"\",MAX(BL$1:BL216)+1)","v":""},"","","","","","","",{"$f":"+IF(BS217=\"\",\"\",MAX(BT$1:BT216)+1)","v":""},"","","","","","","",{"$f":"+IF(CA217=\"\",\"\",MAX(CB$1:CB216)+1)","v":""},"","","","","","","",{"$f":"+IF(CI217=\"\",\"\",MAX(CJ$1:CJ216)+1)","v":""},"","","","","",null,{"$f":"+IF(CR217=\"\",\"\",MAX(CQ$1:CQ216)+1)","v":""},{"$f":"IF(Compliance_Options!B239=\"\",\"\",Compliance_Options!B239)","v":""},{"$f":"IF(Compliance_Options!C239=\"\",\"\",Compliance_Options!C239)","v":""},{"$f":"IF(Compliance_Options!D239=\"\",\"\",Compliance_Options!D239)","v":""},"  ",{"$f":"IF(COUNTIF(CU$2:CU217,CU217)=1,CU217,\"\")","v":""},"","","",""]
[{"$nulls":48},{"$f":"+IF(AX218=\"\",\"\",MAX(AW$1:AW217)+1)","v":""},{"$f":"IF(Compliance_Options!B240=\"\",\"\",Compliance_Options!B240)","v":""},{"$f":"IF(Compliance_Options!C240=\"\",\"\",Compliance_Options!C240)","v":""},{"$f":"IF(Compliance_Options!D240=\"\",\"\",Compliance_Options!D240)","v":""},{"$f":"IF(Compliance_Options!E240=\"\",\"\",Compliance_Options!E240)","v":""},{"$f":"IF(Compliance_Options!F240=\"\",\"\",Compliance_Options!F240)","v":""},"    ",{"$f":"IF(COUNTIF(BC$2:BC218,BC218)=1,BC218,\"\")","v":""},"","","","","","","",{"$f":"+IF(BK218=\"\",\"\",MAX(BL$1:BL217)+1)","v":""},"","","","","","","",{"$f":"+IF(BS218=\"\",\"\",MAX(BT$1:BT217)+1)","v":""},"","","","","","","",{"$f":"+IF(CA218=\"\",\"\",MAX(CB$1:CB217)+1)","v":""},"","","","","","","",{"$f":"+IF(CI218=\"\",\"\",MAX(CJ$1:CJ217)+1)","v":""},"","","","","",null,{"$f":"+IF(CR218=\"\",\"\",MAX(CQ$1:CQ217)+1)","v":""},{"$f":"IF(Compliance_Options!B240=\"\",\"\",Compliance_Options!B240)","v":""},{"$f":"IF(Compliance_Options!C240=\"\",\"\",Compliance_Options!C240)","v":""},{"$f":"IF(Compliance_Options!D240=\"\",\"\",Compliance_Options!D240)","v":""},"  ",{"$f":"IF(COUNTIF(CU$2:CU218,CU218)=1,CU218,\"\")","v":""},"","","",""]
[{"$nulls":48},{"$f":"+IF(AX219=\"\",\"\",MAX(AW$1:AW218)+1)","v":""},{"$f":"IF(Compliance_Options!B241=\"\",\"\",Compliance_Options!B241)","v":""},{"$f":"IF(Compliance_Options!C241=\"\",\"\",Compliance_Options!C241)","v":""},{"$f":"IF(Compliance_Options!D241=\"\",\"\",Compliance_Options!D241)","v":""},{"$f":"IF(Compliance_Options!E241=\"\",\"\",Compliance_Options!E241)","v":""},{"$f":"IF(Compliance_Options!F241=\"\",\"\",Compliance_Options!F241)","v":""},"    ",{"$f":"IF(COUNTIF(BC$2:BC219,BC219)=1,BC219,\"\")","v":""},"","","","","","","",{"$f":"+IF(BK219=\"\",\"\",MAX(BL$1:BL218)+1)","v":""},"","","","","","","",{"$f":"+IF(BS219=\"\",\"\",MAX(BT$1:BT218)+1)","v":""},"","","","","","","",{"$f":"+IF(CA219=\"\",\"\",MAX(CB$1:CB218)+1)","v":""},"","","","","","","",{"$f":"+IF(CI219=\"\",\"\",MAX(CJ$1:CJ218)+1)","v":""},"","","","","",null,{"$f":"+IF(CR219=\"\",\"\",MAX(CQ$1:CQ218)+1)","v":""},{"$f":"IF(Compliance_Options!B241=\"\",\"\",Compliance_Options!B241)","v":""},{"$f":"IF(Compliance_Options!C241=\"\",\"\",Compliance_Options!C241)","v":""},{"$f":"IF(Compliance_Options!D241=\"\",\"\",Compliance_Options!D241)","v":""},"  ",{"$f":"IF(COUNTIF(CU$2:CU219,CU219)=1,CU219,\"\")","v":""},"","","",""]
[{"$nulls":48},{"$f":"+IF(AX220=\"\",\"\",MAX(AW$1:AW219)+1)","v":""},{"$f":"IF(Compliance_Options!B242=\"\",\"\",Compliance_Options!B242)","v":""},{"$f":"IF(Compliance_Options!C242=\"\",\"\",Compliance_Options!C242)","v":""},{"$f":"IF(Compliance_Options!D242=\"\",\"\",Compliance_Options!D242)","v":""},{"$f":"IF(Compliance_Options!E242=\"\",\"\",Compliance_Options!E242)","v":""},{"$f":"IF(Compliance_Options!F242=\"\",\"\",Compliance_Options!F242)","v":""},"    ",{"$f":"IF(COUNTIF(BC$2:BC220,BC220)=1,BC220,\"\")","v":""},"","","","","","","",{"$f":"+IF(BK220=\"\",\"\",MAX(BL$1:BL219)+1)","v":""},"","","","","","","",{"$f":"+IF(BS220=\"\",\"\",MAX(BT$1:BT219)+1)","v":""},"","","","","","","",{"$f":"+IF(CA220=\"\",\"\",MAX(CB$1:CB219)+1)","v":""},"","","","","","","",{"$f":"+IF(CI220=\"\",\"\",MAX(CJ$1:CJ219)+1)","v":""},"","","","","",null,{"$f":"+IF(CR220=\"\",\"\",MAX(CQ$1:CQ219)+1)","v":""},{"$f":"IF(Compliance_Options!B242=\"\",\"\",Compliance_Options!B242)","v":""},{"$f":"IF(Compliance_Options!C242=\"\",\"\",Compliance_Options!C242)","v":""},{"$f":"IF(Compliance_Options!D242=\"\",\"\",Compliance_Options!D242)","v":""},"  ",{"$f":"IF(COUNTIF(CU$2:CU220,CU220)=1,CU220,\"\")","v":""},"","","",""]
[{"$nulls":48},{"$f":"+IF(AX221=\"\",\"\",MAX(AW$1:AW220)+1)","v":""},{"$f":"IF(Compliance_Options!B243=\"\",\"\",Compliance_Options!B243)","v":""},{"$f":"IF(Compliance_Options!C243=\"\",\"\",Compliance_Options!C243)","v":""},{"$f":"IF(Compliance_Options!D243=\"\",\"\",Compliance_Options!D243)","v":""},{"$f":"IF(Compliance_Options!E243=\"\",\"\",Compliance_Options!E243)","v":""},{"$f":"IF(Compliance_Options!F243=\"\",\"\",Compliance_Options!F243)","v":""},"    ",{"$f":"IF(COUNTIF(BC$2:BC221,BC221)=1,BC221,\"\")","v":""},"","","","","","","",{"$f":"+IF(BK221=\"\",\"\",MAX(BL$1:BL220)+1)","v":""},"","","","","","","",{"$f":"+IF(BS221=\"\",\"\",MAX(BT$1:BT220)+1)","v":""},"","","","","","","",{"$f":"+IF(CA221=\"\",\"\",MAX(CB$1:CB220)+1)","v":""},"","","","","","","",{"$f":"+IF(CI221=\"\",\"\",MAX(CJ$1:CJ220)+1)","v":""},"","","","","",null,{"$f":"+IF(CR221=\"\",\"\",MAX(CQ$1:CQ220)+1)","v":""},{"$f":"IF(Compliance_Options!B243=\"\",\"\",Compliance_Options!B243)","v":""},{"$f":"IF(Compliance_Options!C243=\"\",\"\",Compliance_Options!C243)","v":""},{"$f":"IF(Compliance_Options!D243=\"\",\"\",Compliance_Options!D243)","v":""},"  ",{"$f":"IF(COUNTIF(CU$2:CU221,CU221)=1,CU221,\"\")","v":""},"","","",""]
[{"$nulls":48},{"$f":"+IF(AX222=\"\",\"\",MAX(AW$1:AW221)+1)","v":""},{"$f":"IF(Compliance_Options!B244=\"\",\"\",Compliance_Options!B244)","v":""},{"$f":"IF(Compliance_Options!C244=\"\",\"\",Compliance_Options!C244)","v":""},{"$f":"IF(Compliance_Options!D244=\"\",\"\",Compliance_Options!D244)","v":""},{"$f":"IF(Compliance_Options!E244=\"\",\"\",Compliance_Options!E244)","v":""},{"$f":"IF(Compliance_Options!F244=\"\",\"\",Compliance_Options!F244)","v":""},"    ",{"$f":"IF(COUNTIF(BC$2:BC222,BC222)=1,BC222,\"\")","v":""},"","","","","","","",{"$f":"+IF(BK222=\"\",\"\",MAX(BL$1:BL221)+1)","v":""},"","","","","","","",{"$f":"+IF(BS222=\"\",\"\",MAX(BT$1:BT221)+1)","v":""},"","","","","","","",{"$f":"+IF(CA222=\"\",\"\",MAX(CB$1:CB221)+1)","v":""},"","","","","","","",{"$f":"+IF(CI222=\"\",\"\",MAX(CJ$1:CJ221)+1)","v":""},"","","","","",null,{"$f":"+IF(CR222=\"\",\"\",MAX(CQ$1:CQ221)+1)","v":""},{"$f":"IF(Compliance_Options!B244=\"\",\"\",Compliance_Options!B244)","v":""},{"$f":"IF(Compliance_Options!C244=\"\",\"\",Compliance_Options!C244)","v":""},{"$f":"IF(Compliance_Options!D244=\"\",\"\",Compliance_Options!D244)","v":""},"  ",{"$f":"IF(COUNTIF(CU$2:CU222,CU222)=1,CU222,\"\")","v":""},"","","",""]
[{"$nulls":48},{"$f":"+IF(AX223=\"\",\"\",MAX(AW$1:AW222)+1)","v":""},{"$f":"IF(Compliance_Options!B245=\"\",\"\",Compliance_Options!B245)","v":""},{"$f":"IF(Compliance_Options!C245=\"\",\"\",Compliance_Options!C245)","v":""},{"$f":"IF(Compliance_Options!D245=\"\",\"\",Compliance_Options!D245)","v":""},{"$f":"IF(Compliance_Options!E245=\"\",\"\",Compliance_Options!E245)","v":""},{"$f":"IF(Compliance_Options!F245=\"\",\"\",Compliance_Options!F245)","v":""},"    ",{"$f":"IF(COUNTIF(BC$2:BC223,BC223)=1,BC223,\"\")","v":""},"","","","","","","",{"$f":"+IF(BK223=\"\",\"\",MAX(BL$1:BL222)+1)","v":""},"","","","","","","",{"$f":"+IF(BS223=\"\",\"\",MAX(BT$1:BT222)+1)","v":""},"","","","","","","",{"$f":"+IF(CA223=\"\",\"\",MAX(CB$1:CB222)+1)","v":""},"","","","","","","",{"$f":"+IF(CI223=\"\",\"\",MAX(CJ$1:CJ222)+1)","v":""},"","","","","",null,{"$f":"+IF(CR223=\"\",\"\",MAX(CQ$1:CQ222)+1)","v":""},{"$f":"IF(Compliance_Options!B245=\"\",\"\",Compliance_Options!B245)","v":""},{"$f":"IF(Compliance_Options!C245=\"\",\"\",Compliance_Options!C245)","v":""},{"$f":"IF(Compliance_Options!D245=\"\",\"\",Compliance_Options!D245)","v":""},"  ",{"$f":"IF(COUNTIF(CU$2:CU223,CU223)=1,CU223,\"\")","v":""},"","","",""]
[{"$nulls":48},{"$f":"+IF(AX224=\"\",\"\",MAX(AW$1:AW223)+1)","v":""},{"$f":"IF(Compliance_Options!B246=\"\",\"\",Compliance_Options!B246)","v":""},{"$f":"IF(Compliance_Options!C246=\"\",\"\",Compliance_Options!C246)","v":""},{"$f":"IF(Compliance_Options!D246=\"\",\"\",Compliance_Options!D246)","v":""},{"$f":"IF(Compliance_Options!E246=\"\",\"\",Compliance_Options!E246)","v":""},{"$f":"IF(Compliance_Options!F246=\"\",\"\",Compliance_Options!F246)","v":""},"    ",{"$f":"IF(COUNTIF(BC$2:BC224,BC224)=1,BC224,\"\")","v":""},"","","","","","","",{"$f":"+IF(BK224=\"\",\"\",MAX(BL$1:BL223)+1)","v":""},"","","","","","","",{"$f":"+IF(BS224=\"\",\"\",MAX(BT$1:BT223)+1)","v":""},"","","","","","","",{"$f":"+IF(CA224=\"\",\"\",MAX(CB$1:CB223)+1)","v":""},"","","","","","","",{"$f":"+IF(CI224=\"\",\"\",MAX(CJ$1:CJ223)+1)","v":""},"","","","","",null,{"$f":"+IF(CR224=\"\",\"\",MAX(CQ$1:CQ223)+1)","v":""},{"$f":"IF(Compliance_Options!B246=\"\",\"\",Compliance_Options!B246)","v":""},{"$f":"IF(Compliance_Options!C246=\"\",\"\",Compliance_Options!C246)","v":""},{"$f":"IF(Compliance_Options!D246=\"\",\"\",Compliance_Options!D246)","v":""},"  ",{"$f":"IF(COUNTIF(CU$2:CU224,CU224)=1,CU224,\"\")","v":""},"","","",""]
[{"$nulls":48},{"$f":"+IF(AX225=\"\",\"\",MAX(AW$1:AW224)+1)","v":""},{"$f":"IF(Compliance_Options!B247=\"\",\"\",Compliance_Options!B247)","v":""},{"$f":"IF(Compliance_Options!C247=\"\",\"\",Compliance_Options!C247)","v":""},{"$f":"IF(Compliance_Options!D247=\"\",\"\",Compliance_Options!D247)","v":""},{"$f":"IF(Compliance_Options!E247=\"\",\"\",Compliance_Options!E247)","v":""},{"$f":"IF(Compliance_Options!F247=\"\",\"\",Compliance_Options!F247)","v":""},"    ",{"$f":"IF(COUNTIF(BC$2:BC225,BC225)=1,BC225,\"\")","v":""},"","","","","","","",{"$f":"+IF(BK225=\"\",\"\",MAX(BL$1:BL224)+1)","v":""},"","","","","","","",{"$f":"+IF(BS225=\"\",\"\",MAX(BT$1:BT224)+1)","v":""},"","","","","","","",{"$f":"+IF(CA225=\"\",\"\",MAX(CB$1:CB224)+1)","v":""},"","","","","","","",{"$f":"+IF(CI225=\"\",\"\",MAX(CJ$1:CJ224)+1)","v":""},"","","","","",null,{"$f":"+IF(CR225=\"\",\"\",MAX(CQ$1:CQ224)+1)","v":""},{"$f":"IF(Compliance_Options!B247=\"\",\"\",Compliance_Options!B247)","v":""},{"$f":"IF(Compliance_Options!C247=\"\",\"\",Compliance_Options!C247)","v":""},{"$f":"IF(Compliance_Options!D247=\"\",\"\",Compliance_Options!D247)","v":""},"  ",{"$f":"IF(COUNTIF(CU$2:CU225,CU225)=1,CU225,\"\")","v":""},"","","",""]
[{"$nulls":48},{"$f":"+IF(AX226=\"\",\"\",MAX(AW$1:AW225)+1)","v":""},{"$f":"IF(Compliance_Options!B248=\"\",\"\",Compliance_Options!B248)","v":""},{"$f":"IF(Compliance_Options!C248=\"\",\"\",Compliance_Options!C248)","v":""},{"$f":"IF(Compliance_Options!D248=\"\",\"\",Compliance_Options!D248)","v":""},{"$f":"IF(Compliance_Options!E248=\"\",\"\",Compliance_Options!E248)","v":""},{"$f":"IF(Compliance_Options!F248=\"\",\"\",Compliance_Options!F248)","v":""},"    ",{"$f":"IF(COUNTIF(BC$2:BC226,BC226)=1,BC226,\"\")","v":""},"","","","","","","",{"$f":"+IF(BK226=\"\",\"\",MAX(BL$1:BL225)+1)","v":""},"","","","","","","",{"$f":"+IF(BS226=\"\",\"\",MAX(BT$1:BT225)+1)","v":""},"","","","","","","",{"$f":"+IF(CA226=\"\",\"\",MAX(CB$1:CB225)+1)","v":""},"","","","","","","",{"$f":"+IF(CI226=\"\",\"\",MAX(CJ$1:CJ225)+1)","v":""},"","","","","",null,{"$f":"+IF(CR226=\"\",\"\",MAX(CQ$1:CQ225)+1)","v":""},{"$f":"IF(Compliance_Options!B248=\"\",\"\",Compliance_Options!B248)","v":""},{"$f":"IF(Compliance_Options!C248=\"\",\"\",Compliance_Options!C248)","v":""},{"$f":"IF(Compliance_Options!D248=\"\",\"\",Compliance_Options!D248)","v":""},"  ",{"$f":"IF(COUNTIF(CU$2:CU226,CU226)=1,CU226,\"\")","v":""},"","","",""]
[{"$nulls":48},{"$f":"+IF(AX227=\"\",\"\",MAX(AW$1:AW226)+1)","v":""},{"$f":"IF(Compliance_Options!B249=\"\",\"\",Compliance_Options!B249)","v":""},{"$f":"IF(Compliance_Options!C249=\"\",\"\",Compliance_Options!C249)","v":""},{"$f":"IF(Compliance_Options!D249=\"\",\"\",Compliance_Options!D249)","v":""},{"$f":"IF(Compliance_Options!E249=\"\",\"\",Compliance_Options!E249)","v":""},{"$f":"IF(Compliance_Options!F249=\"\",\"\",Compliance_Options!F249)","v":""},"    ",{"$f":"IF(COUNTIF(BC$2:BC227,BC227)=1,BC227,\"\")","v":""},"","","","","","","",{"$f":"+IF(BK227=\"\",\"\",MAX(BL$1:BL226)+1)","v":""},"","","","","","","",{"$f":"+IF(BS227=\"\",\"\",MAX(BT$1:BT226)+1)","v":""},"","","","","","","",{"$f":"+IF(CA227=\"\",\"\",MAX(CB$1:CB226)+1)","v":""},"","","","","","","",{"$f":"+IF(CI227=\"\",\"\",MAX(CJ$1:CJ226)+1)","v":""},"","","","","",null,{"$f":"+IF(CR227=\"\",\"\",MAX(CQ$1:CQ226)+1)","v":""},{"$f":"IF(Compliance_Options!B249=\"\",\"\",Compliance_Options!B249)","v":""},{"$f":"IF(Compliance_Options!C249=\"\",\"\",Compliance_Options!C249)","v":""},{"$f":"IF(Compliance_Options!D249=\"\",\"\",Compliance_Options!D249)","v":""},"  ",{"$f":"IF(COUNTIF(CU$2:CU227,CU227)=1,CU227,\"\")","v":""},"","","",""]
[{"$nulls":48},{"$f":"+IF(AX228=\"\",\"\",MAX(AW$1:AW227)+1)","v":""},{"$f":"IF(Compliance_Options!B250=\"\",\"\",Compliance_Options!B250)","v":""},{"$f":"IF(Compliance_Options!C250=\"\",\"\",Compliance_Options!C250)","v":""},{"$f":"IF(Compliance_Options!D250=\"\",\"\",Compliance_Options!D250)","v":""},{"$f":"IF(Compliance_Options!E250=\"\",\"\",Compliance_Options!E250)","v":""},{"$f":"IF(Compliance_Options!F250=\"\",\"\",Compliance_Options!F250)","v":""},"    ",{"$f":"IF(COUNTIF(BC$2:BC228,BC228)=1,BC228,\"\")","v":""},"","","","","","","",{"$f":"+IF(BK228=\"\",\"\",MAX(BL$1:BL227)+1)","v":""},"","","","","","","",{"$f":"+IF(BS228=\"\",\"\",MAX(BT$1:BT227)+1)","v":""},"","","","","","","",{"$f":"+IF(CA228=\"\",\"\",MAX(CB$1:CB227)+1)","v":""},"","","","","","","",{"$f":"+IF(CI228=\"\",\"\",MAX(CJ$1:CJ227)+1)","v":""},"","","","","",null,{"$f":"+IF(CR228=\"\",\"\",MAX(CQ$1:CQ227)+1)","v":""},{"$f":"IF(Compliance_Options!B250=\"\",\"\",Compliance_Options!B250)","v":""},{"$f":"IF(Compliance_Options!C250=\"\",\"\",Compliance_Options!C250)","v":""},{"$f":"IF(Compliance_Options!D250=\"\",\"\",Compliance_Options!D250)","v":""},"  ",{"$f":"IF(COUNTIF(CU$2:CU228,CU228)=1,CU228,\"\")","v":""},"","","",""]
[{"$nulls":48},{"$f":"+IF(AX229=\"\",\"\",MAX(AW$1:AW228)+1)","v":""},{"$f":"IF(Compliance_Options!B251=\"\",\"\",Compliance_Options!B251)","v":""},{"$f":"IF(Compliance_Options!C251=\"\",\"\",Compliance_Options!C251)","v":""},{"$f":"IF(Compliance_Options!D251=\"\",\"\",Compliance_Options!D251)","v":""},{"$f":"IF(Compliance_Options!E251=\"\",\"\",Compliance_Options!E251)","v":""},{"$f":"IF(Compliance_Options!F251=\"\",\"\",Compliance_Options!F251)","v":""},"    ",{"$f":"IF(COUNTIF(BC$2:BC229,BC229)=1,BC229,\"\")","v":""},"","","","","","","",{"$f":"+IF(BK229=\"\",\"\",MAX(BL$1:BL228)+1)","v":""},"","","","","","","",{"$f":"+IF(BS229=\"\",\"\",MAX(BT$1:BT228)+1)","v":""},"","","","","","","",{"$f":"+IF(CA229=\"\",\"\",MAX(CB$1:CB228)+1)","v":""},"","","","","","","",{"$f":"+IF(CI229=\"\",\"\",MAX(CJ$1:CJ228)+1)","v":""},"","","","","",null,{"$f":"+IF(CR229=\"\",\"\",MAX(CQ$1:CQ228)+1)","v":""},{"$f":"IF(Compliance_Options!B251=\"\",\"\",Compliance_Options!B251)","v":""},{"$f":"IF(Compliance_Options!C251=\"\",\"\",Compliance_Options!C251)","v":""},{"$f":"IF(Compliance_Options!D251=\"\",\"\",Compliance_Options!D251)","v":""},"  ",{"$f":"IF(COUNTIF(CU$2:CU229,CU229)=1,CU229,\"\")","v":""},"","","",""]
[{"$nulls":48},{"$f":"+IF(AX230=\"\",\"\",MAX(AW$1:AW229)+1)","v":""},{"$f":"IF(Compliance_Options!B252=\"\",\"\",Compliance_Options!B252)","v":""},{"$f":"IF(Compliance_Options!C252=\"\",\"\",Compliance_Options!C252)","v":""},{"$f":"IF(Compliance_Options!D252=\"\",\"\",Compliance_Options!D252)","v":""},{"$f":"IF(Compliance_Options!E252=\"\",\"\",Compliance_Options!E252)","v":""},{"$f":"IF(Compliance_Options!F252=\"\",\"\",Compliance_Options!F252)","v":""},"    ",{"$f":"IF(COUNTIF(BC$2:BC230,BC230)=1,BC230,\"\")","v":""},"","","","","","","",{"$f":"+IF(BK230=\"\",\"\",MAX(BL$1:BL229)+1)","v":""},"","","","","","","",{"$f":"+IF(BS230=\"\",\"\",MAX(BT$1:BT229)+1)","v":""},"","","","","","","",{"$f":"+IF(CA230=\"\",\"\",MAX(CB$1:CB229)+1)","v":""},"","","","","","","",{"$f":"+IF(CI230=\"\",\"\",MAX(CJ$1:CJ229)+1)","v":""},"","","","","",null,{"$f":"+IF(CR230=\"\",\"\",MAX(CQ$1:CQ229)+1)","v":""},{"$f":"IF(Compliance_Options!B252=\"\",\"\",Compliance_Options!B252)","v":""},{"$f":"IF(Compliance_Options!C252=\"\",\"\",Compliance_Options!C252)","v":""},{"$f":"IF(Compliance_Options!D252=\"\",\"\",Compliance_Options!D252)","v":""},"  ",{"$f":"IF(COUNTIF(CU$2:CU230,CU230)=1,CU230,\"\")","v":""},"","","",""]
[{"$nulls":48},{"$f":"+IF(AX231=\"\",\"\",MAX(AW$1:AW230)+1)","v":""},{"$f":"IF(Compliance_Options!B253=\"\",\"\",Compliance_Options!B253)","v":""},{"$f":"IF(Compliance_Options!C253=\"\",\"\",Compliance_Options!C253)","v":""},{"$f":"IF(Compliance_Options!D253=\"\",\"\",Compliance_Options!D253)","v":""},{"$f":"IF(Compliance_Options!E253=\"\",\"\",Compliance_Options!E253)","v":""},{"$f":"IF(Compliance_Options!F253=\"\",\"\",Compliance_Options!F253)","v":""},"    ",{"$f":"IF(COUNTIF(BC$2:BC231,BC231)=1,BC231,\"\")","v":""},"","","","","","","",{"$f":"+IF(BK231=\"\",\"\",MAX(BL$1:BL230)+1)","v":""},"","","","","","","",{"$f":"+IF(BS231=\"\",\"\",MAX(BT$1:BT230)+1)","v":""},"","","","","","","",{"$f":"+IF(CA231=\"\",\"\",MAX(CB$1:CB230)+1)","v":""},"","","","","","","",{"$f":"+IF(CI231=\"\",\"\",MAX(CJ$1:CJ230)+1)","v":""},"","","","","",null,{"$f":"+IF(CR231=\"\",\"\",MAX(CQ$1:CQ230)+1)","v":""},{"$f":"IF(Compliance_Options!B253=\"\",\"\",Compliance_Options!B253)","v":""},{"$f":"IF(Compliance_Options!C253=\"\",\"\",Compliance_Options!C253)","v":""},{"$f":"IF(Compliance_Options!D253=\"\",\"\",Compliance_Options!D253)","v":""},"  ",{"$f":"IF(COUNTIF(CU$2:CU231,CU231)=1,CU231,\"\")","v":""},"","","",""]
[{"$nulls":48},{"$f":"+IF(AX232=\"\",\"\",MAX(AW$1:AW231)+1)","v":""},{"$f":"IF(Compliance_Options!B254=\"\",\"\",Compliance_Options!B254)","v":""},{"$f":"IF(Compliance_Options!C254=\"\",\"\",Compliance_Options!C254)","v":""},{"$f":"IF(Compliance_Options!D254=\"\",\"\",Compliance_Options!D254)","v":""},{"$f":"IF(Compliance_Options!E254=\"\",\"\",Compliance_Options!E254)","v":""},{"$f":"IF(Compliance_Options!F254=\"\",\"\",Compliance_Options!F254)","v":""},"    ",{"$f":"IF(COUNTIF(BC$2:BC232,BC232)=1,BC232,\"\")","v":""},"","","","","","","",{"$f":"+IF(BK232=\"\",\"\",MAX(BL$1:BL231)+1)","v":""},"","","","","","","",{"$f":"+IF(BS232=\"\",\"\",MAX(BT$1:BT231)+1)","v":""},"","","","","","","",{"$f":"+IF(CA232=\"\",\"\",MAX(CB$1:CB231)+1)","v":""},"","","","","","","",{"$f":"+IF(CI232=\"\",\"\",MAX(CJ$1:CJ231)+1)","v":""},"","","","","",null,{"$f":"+IF(CR232=\"\",\"\",MAX(CQ$1:CQ231)+1)","v":""},{"$f":"IF(Compliance_Options!B254=\"\",\"\",Compliance_Options!B254)","v":""},{"$f":"IF(Compliance_Options!C254=\"\",\"\",Compliance_Options!C254)","v":""},{"$f":"IF(Compliance_Options!D254=\"\",\"\",Compliance_Options!D254)","v":""},"  ",{"$f":"IF(COUNTIF(CU$2:CU232,CU232)=1,CU232,\"\")","v":""},"","","",""]
[{"$nulls":48},{"$f":"+IF(AX233=\"\",\"\",MAX(AW$1:AW232)+1)","v":""},{"$f":"IF(Compliance_Options!B255=\"\",\"\",Compliance_Options!B255)","v":""},{"$f":"IF(Compliance_Options!C255=\"\",\"\",Compliance_Options!C255)","v":""},{"$f":"IF(Compliance_Options!D255=\"\",\"\",Compliance_Options!D255)","v":""},{"$f":"IF(Compliance_Options!E255=\"\",\"\",Compliance_Options!E255)","v":""},{"$f":"IF(Compliance_Options!F255=\"\",\"\",Compliance_Options!F255)","v":""},"    ",{"$f":"IF(COUNTIF(BC$2:BC233,BC233)=1,BC233,\"\")","v":""},"","","","","","","",{"$f":"+IF(BK233=\"\",\"\",MAX(BL$1:BL232)+1)","v":""},"","","","","","","",{"$f":"+IF(BS233=\"\",\"\",MAX(BT$1:BT232)+1)","v":""},"","","","","","","",{"$f":"+IF(CA233=\"\",\"\",MAX(CB$1:CB232)+1)","v":""},"","","","","","","",{"$f":"+IF(CI233=\"\",\"\",MAX(CJ$1:CJ232)+1)","v":""},"","","","","",null,{"$f":"+IF(CR233=\"\",\"\",MAX(CQ$1:CQ232)+1)","v":""},{"$f":"IF(Compliance_Options!B255=\"\",\"\",Compliance_Options!B255)","v":""},{"$f":"IF(Compliance_Options!C255=\"\",\"\",Compliance_Options!C255)","v":""},{"$f":"IF(Compliance_Options!D255=\"\",\"\",Compliance_Options!D255)","v":""},"  ",{"$f":"IF(COUNTIF(CU$2:CU233,CU233)=1,CU233,\"\")","v":""},"","","",""]
[{"$nulls":48},{"$f":"+IF(AX234=\"\",\"\",MAX(AW$1:AW233)+1)","v":""},{"$f":"IF(Compliance_Options!B256=\"\",\"\",Compliance_Options!B256)","v":""},{"$f":"IF(Compliance_Options!C256=\"\",\"\",Compliance_Options!C256)","v":""},{"$f":"IF(Compliance_Options!D256=\"\",\"\",Compliance_Options!D256)","v":""},{"$f":"IF(Compliance_Options!E256=\"\",\"\",Compliance_Options!E256)","v":""},{"$f":"IF(Compliance_Options!F256=\"\",\"\",Compliance_Options!F256)","v":""},"    ",{"$f":"IF(COUNTIF(BC$2:BC234,BC234)=1,BC234,\"\")","v":""},"","","","","","","",{"$f":"+IF(BK234=\"\",\"\",MAX(BL$1:BL233)+1)","v":""},"","","","","","","",{"$f":"+IF(BS234=\"\",\"\",MAX(BT$1:BT233)+1)","v":""},"","","","","","","",{"$f":"+IF(CA234=\"\",\"\",MAX(CB$1:CB233)+1)","v":""},"","","","","","","",{"$f":"+IF(CI234=\"\",\"\",MAX(CJ$1:CJ233)+1)","v":""},"","","","","",null,{"$f":"+IF(CR234=\"\",\"\",MAX(CQ$1:CQ233)+1)","v":""},{"$f":"IF(Compliance_Options!B256=\"\",\"\",Compliance_Options!B256)","v":""},{"$f":"IF(Compliance_Options!C256=\"\",\"\",Compliance_Options!C256)","v":""},{"$f":"IF(Compliance_Options!D256=\"\",\"\",Compliance_Options!D256)","v":""},"  ",{"$f":"IF(COUNTIF(CU$2:CU234,CU234)=1,CU234,\"\")","v":""},"","","",""]
[{"$nulls":48},{"$f":"+IF(AX235=\"\",\"\",MAX(AW$1:AW234)+1)","v":""},{"$f":"IF(Compliance_Options!B257=\"\",\"\",Compliance_Options!B257)","v":""},{"$f":"IF(Compliance_Options!C257=\"\",\"\",Compliance_Options!C257)","v":""},{"$f":"IF(Compliance_Options!D257=\"\",\"\",Compliance_Options!D257)","v":""},{"$f":"IF(Compliance_Options!E257=\"\",\"\",Compliance_Options!E257)","v":""},{"$f":"IF(Compliance_Options!F257=\"\",\"\",Compliance_Options!F257)","v":""},"    ",{"$f":"IF(COUNTIF(BC$2:BC235,BC235)=1,BC235,\"\")","v":""},"","","","","","","",{"$f":"+IF(BK235=\"\",\"\",MAX(BL$1:BL234)+1)","v":""},"","","","","","","",{"$f":"+IF(BS235=\"\",\"\",MAX(BT$1:BT234)+1)","v":""},"","","","","","","",{"$f":"+IF(CA235=\"\",\"\",MAX(CB$1:CB234)+1)","v":""},"","","","","","","",{"$f":"+IF(CI235=\"\",\"\",MAX(CJ$1:CJ234)+1)","v":""},"","","","","",null,{"$f":"+IF(CR235=\"\",\"\",MAX(CQ$1:CQ234)+1)","v":""},{"$f":"IF(Compliance_Options!B257=\"\",\"\",Compliance_Options!B257)","v":""},{"$f":"IF(Compliance_Options!C257=\"\",\"\",Compliance_Options!C257)","v":""},{"$f":"IF(Compliance_Options!D257=\"\",\"\",Compliance_Options!D257)","v":""},"  ",{"$f":"IF(COUNTIF(CU$2:CU235,CU235)=1,CU235,\"\")","v":""},"","","",""]
[{"$nulls":48},{"$f":"+IF(AX236=\"\",\"\",MAX(AW$1:AW235)+1)","v":""},{"$f":"IF(Compliance_Options!B258=\"\",\"\",Compliance_Options!B258)","v":""},{"$f":"IF(Compliance_Options!C258=\"\",\"\",Compliance_Options!C258)","v":""},{"$f":"IF(Compliance_Options!D258=\"\",\"\",Compliance_Options!D258)","v":""},{"$f":"IF(Compliance_Options!E258=\"\",\"\",Compliance_Options!E258)","v":""},{"$f":"IF(Compliance_Options!F258=\"\",\"\",Compliance_Options!F258)","v":""},"    ",{"$f":"IF(COUNTIF(BC$2:BC236,BC236)=1,BC236,\"\")","v":""},"","","","","","","",{"$f":"+IF(BK236=\"\",\"\",MAX(BL$1:BL235)+1)","v":""},"","","","","","","",{"$f":"+IF(BS236=\"\",\"\",MAX(BT$1:BT235)+1)","v":""},"","","","","","","",{"$f":"+IF(CA236=\"\",\"\",MAX(CB$1:CB235)+1)","v":""},"","","","","","","",{"$f":"+IF(CI236=\"\",\"\",MAX(CJ$1:CJ235)+1)","v":""},"","","","","",null,{"$f":"+IF(CR236=\"\",\"\",MAX(CQ$1:CQ235)+1)","v":""},{"$f":"IF(Compliance_Options!B258=\"\",\"\",Compliance_Options!B258)","v":""},{"$f":"IF(Compliance_Options!C258=\"\",\"\",Compliance_Options!C258)","v":""},{"$f":"IF(Compliance_Options!D258=\"\",\"\",Compliance_Options!D258)","v":""},"  ",{"$f":"IF(COUNTIF(CU$2:CU236,CU236)=1,CU236,\"\")","v":""},"","","",""]
[{"$nulls":48},{"$f":"+IF(AX237=\"\",\"\",MAX(AW$1:AW236)+1)","v":""},{"$f":"IF(Compliance_Options!B259=\"\",\"\",Compliance_Options!B259)","v":""},{"$f":"IF(Compliance_Options!C259=\"\",\"\",Compliance_Options!C259)","v":""},{"$f":"IF(Compliance_Options!D259=\"\",\"\",Compliance_Options!D259)","v":""},{"$f":"IF(Compliance_Options!E259=\"\",\"\",Compliance_Options!E259)","v":""},{"$f":"IF(Compliance_Options!F259=\"\",\"\",Compliance_Options!F259)","v":""},"    ",{"$f":"IF(COUNTIF(BC$2:BC237,BC237)=1,BC237,\"\")","v":""},"","","","","","","",{"$f":"+IF(BK237=\"\",\"\",MAX(BL$1:BL236)+1)","v":""},"","","","","","","",{"$f":"+IF(BS237=\"\",\"\",MAX(BT$1:BT236)+1)","v":""},"","","","","","","",{"$f":"+IF(CA237=\"\",\"\",MAX(CB$1:CB236)+1)","v":""},"","","","","","","",{"$f":"+IF(CI237=\"\",\"\",MAX(CJ$1:CJ236)+1)","v":""},"","","","","",null,{"$f":"+IF(CR237=\"\",\"\",MAX(CQ$1:CQ236)+1)","v":""},{"$f":"IF(Compliance_Options!B259=\"\",\"\",Compliance_Options!B259)","v":""},{"$f":"IF(Compliance_Options!C259=\"\",\"\",Compliance_Options!C259)","v":""},{"$f":"IF(Compliance_Options!D259=\"\",\"\",Compliance_Options!D259)","v":""},"  ",{"$f":"IF(COUNTIF(CU$2:CU237,CU237)=1,CU237,\"\")","v":""},"","","",""]
[{"$nulls":48},{"$f":"+IF(AX238=\"\",\"\",MAX(AW$1:AW237)+1)","v":""},{"$f":"IF(Compliance_Options!B260=\"\",\"\",Compliance_Options!B260)","v":""},{"$f":"IF(Compliance_Options!C260=\"\",\"\",Compliance_Options!C260)","v":""},{"$f":"IF(Compliance_Options!D260=\"\",\"\",Compliance_Options!D260)","v":""},{"$f":"IF(Compliance_Options!E260=\"\",\"\",Compliance_Options!E260)","v":""},{"$f":"IF(Compliance_Options!F260=\"\",\"\",Compliance_Options!F260)","v":""},"    ",{"$f":"IF(COUNTIF(BC$2:BC238,BC238)=1,BC238,\"\")","v":""},"","","","","","","",{"$f":"+IF(BK238=\"\",\"\",MAX(BL$1:BL237)+1)","v":""},"","","","","","","",{"$f":"+IF(BS238=\"\",\"\",MAX(BT$1:BT237)+1)","v":""},"","","","","","","",{"$f":"+IF(CA238=\"\",\"\",MAX(CB$1:CB237)+1)","v":""},"","","","","","","",{"$f":"+IF(CI238=\"\",\"\",MAX(CJ$1:CJ237)+1)","v":""},"","","","","",null,{"$f":"+IF(CR238=\"\",\"\",MAX(CQ$1:CQ237)+1)","v":""},{"$f":"IF(Compliance_Options!B260=\"\",\"\",Compliance_Options!B260)","v":""},{"$f":"IF(Compliance_Options!C260=\"\",\"\",Compliance_Options!C260)","v":""},{"$f":"IF(Compliance_Options!D260=\"\",\"\",Compliance_Options!D260)","v":""},"  ",{"$f":"IF(COUNTIF(CU$2:CU238,CU238)=1,CU238,\"\")","v":""},"","","",""]
[{"$nulls":48},{"$f":"+IF(AX239=\"\",\"\",MAX(AW$1:AW238)+1)","v":""},{"$f":"IF(Compliance_Options!B261=\"\",\"\",Compliance_Options!B261)","v":""},{"$f":"IF(Compliance_Options!C261=\"\",\"\",Compliance_Options!C261)","v":""},{"$f":"IF(Compliance_Options!D261=\"\",\"\",Compliance_Options!D261)","v":""},{"$f":"IF(Compliance_Options!E261=\"\",\"\",Compliance_Options!E261)","v":""},{"$f":"IF(Compliance_Options!F261=\"\",\"\",Compliance_Options!F261)","v":""},"    ",{"$f":"IF(COUNTIF(BC$2:BC239,BC239)=1,BC239,\"\")","v":""},"","","","","","","",{"$f":"+IF(BK239=\"\",\"\",MAX(BL$1:BL238)+1)","v":""},"","","","","","","",{"$f":"+IF(BS239=\"\",\"\",MAX(BT$1:BT238)+1)","v":""},"","","","","","","",{"$f":"+IF(CA239=\"\",\"\",MAX(CB$1:CB238)+1)","v":""},"","","","","","","",{"$f":"+IF(CI239=\"\",\"\",MAX(CJ$1:CJ238)+1)","v":""},"","","","","",null,{"$f":"+IF(CR239=\"\",\"\",MAX(CQ$1:CQ238)+1)","v":""},{"$f":"IF(Compliance_Options!B261=\"\",\"\",Compliance_Options!B261)","v":""},{"$f":"IF(Compliance_Options!C261=\"\",\"\",Compliance_Options!C261)","v":""},{"$f":"IF(Compliance_Options!D261=\"\",\"\",Compliance_Options!D261)","v":""},"  ",{"$f":"IF(COUNTIF(CU$2:CU239,CU239)=1,CU239,\"\")","v":""},"","","",""]
[{"$nulls":48},{"$f":"+IF(AX240=\"\",\"\",MAX(AW$1:AW239)+1)","v":""},{"$f":"IF(Compliance_Options!B262=\"\",\"\",Compliance_Options!B262)","v":""},{"$f":"IF(Compliance_Options!C262=\"\",\"\",Compliance_Options!C262)","v":""},{"$f":"IF(Compliance_Options!D262=\"\",\"\",Compliance_Options!D262)","v":""},{"$f":"IF(Compliance_Options!E262=\"\",\"\",Compliance_Options!E262)","v":""},{"$f":"IF(Compliance_Options!F262=\"\",\"\",Compliance_Options!F262)","v":""},"    ",{"$f":"IF(COUNTIF(BC$2:BC240,BC240)=1,BC240,\"\")","v":""},"","","","","","","",{"$f":"+IF(BK240=\"\",\"\",MAX(BL$1:BL239)+1)","v":""},"","","","","","","",{"$f":"+IF(BS240=\"\",\"\",MAX(BT$1:BT239)+1)","v":""},"","","","","","","",{"$f":"+IF(CA240=\"\",\"\",MAX(CB$1:CB239)+1)","v":""},"","","","","","","",{"$f":"+IF(CI240=\"\",\"\",MAX(CJ$1:CJ239)+1)","v":""},"","","","","",null,{"$f":"+IF(CR240=\"\",\"\",MAX(CQ$1:CQ239)+1)","v":""},{"$f":"IF(Compliance_Options!B262=\"\",\"\",Compliance_Options!B262)","v":""},{"$f":"IF(Compliance_Options!C262=\"\",\"\",Compliance_Options!C262)","v":""},{"$f":"IF(Compliance_Options!D262=\"\",\"\",Compliance_Options!D262)","v":""},"  ",{"$f":"IF(COUNTIF(CU$2:CU240,CU240)=1,CU240,\"\")","v":""},"","","",""]
[{"$nulls":48},{"$f":"+IF(AX241=\"\",\"\",MAX(AW$1:AW240)+1)","v":""},{"$f":"IF(Compliance_Options!B263=\"\",\"\",Compliance_Options!B263)","v":""},{"$f":"IF(Compliance_Options!C263=\"\",\"\",Compliance_Options!C263)","v":""},{"$f":"IF(Compliance_Options!D263=\"\",\"\",Compliance_Options!D263)","v":""},{"$f":"IF(Compliance_Options!E263=\"\",\"\",Compliance_Options!E263)","v":""},{"$f":"IF(Compliance_Options!F263=\"\",\"\",Compliance_Options!F263)","v":""},"    ",{"$f":"IF(COUNTIF(BC$2:BC241,BC241)=1,BC241,\"\")","v":""},"","","","","","","",{"$f":"+IF(BK241=\"\",\"\",MAX(BL$1:BL240)+1)","v":""},"","","","","","","",{"$f":"+IF(BS241=\"\",\"\",MAX(BT$1:BT240)+1)","v":""},"","","","","","","",{"$f":"+IF(CA241=\"\",\"\",MAX(CB$1:CB240)+1)","v":""},"","","","","","","",{"$f":"+IF(CI241=\"\",\"\",MAX(CJ$1:CJ240)+1)","v":""},"","","","","",null,{"$f":"+IF(CR241=\"\",\"\",MAX(CQ$1:CQ240)+1)","v":""},{"$f":"IF(Compliance_Options!B263=\"\",\"\",Compliance_Options!B263)","v":""},{"$f":"IF(Compliance_Options!C263=\"\",\"\",Compliance_Options!C263)","v":""},{"$f":"IF(Compliance_Options!D263=\"\",\"\",Compliance_Options!D263)","v":""},"  ",{"$f":"IF(COUNTIF(CU$2:CU241,CU241)=1,CU241,\"\")","v":""},"","","",""]
[{"$nulls":48},{"$f":"+IF(AX242=\"\",\"\",MAX(AW$1:AW241)+1)","v":""},{"$f":"IF(Compliance_Options!B264=\"\",\"\",Compliance_Options!B264)","v":""},{"$f":"IF(Compliance_Options!C264=\"\",\"\",Compliance_Options!C264)","v":""},{"$f":"IF(Compliance_Options!D264=\"\",\"\",Compliance_Options!D264)","v":""},{"$f":"IF(Compliance_Options!E264=\"\",\"\",Compliance_Options!E264)","v":""},{"$f":"IF(Compliance_Options!F264=\"\",\"\",Compliance_Options!F264)","v":""},"    ",{"$f":"IF(COUNTIF(BC$2:BC242,BC242)=1,BC242,\"\")","v":""},"","","","","","","",{"$f":"+IF(BK242=\"\",\"\",MAX(BL$1:BL241)+1)","v":""},"","","","","","","",{"$f":"+IF(BS242=\"\",\"\",MAX(BT$1:BT241)+1)","v":""},"","","","","","","",{"$f":"+IF(CA242=\"\",\"\",MAX(CB$1:CB241)+1)","v":""},"","","","","","","",{"$f":"+IF(CI242=\"\",\"\",MAX(CJ$1:CJ241)+1)","v":""},"","","","","",null,{"$f":"+IF(CR242=\"\",\"\",MAX(CQ$1:CQ241)+1)","v":""},{"$f":"IF(Compliance_Options!B264=\"\",\"\",Compliance_Options!B264)","v":""},{"$f":"IF(Compliance_Options!C264=\"\",\"\",Compliance_Options!C264)","v":""},{"$f":"IF(Compliance_Options!D264=\"\",\"\",Compliance_Options!D264)","v":""},"  ",{"$f":"IF(COUNTIF(CU$2:CU242,CU242)=1,CU242,\"\")","v":""},"","","",""]
[{"$nulls":48},{"$f":"+IF(AX243=\"\",\"\",MAX(AW$1:AW242)+1)","v":""},{"$f":"IF(Compliance_Options!B265=\"\",\"\",Compliance_Options!B265)","v":""},{"$f":"IF(Compliance_Options!C265=\"\",\"\",Compliance_Options!C265)","v":""},{"$f":"IF(Compliance_Options!D265=\"\",\"\",Compliance_Options!D265)","v":""},{"$f":"IF(Compliance_Options!E265=\"\",\"\",Compliance_Options!E265)","v":""},{"$f":"IF(Compliance_Options!F265=\"\",\"\",Compliance_Options!F265)","v":""},"    ",{"$f":"IF(COUNTIF(BC$2:BC243,BC243)=1,BC243,\"\")","v":""},"","","","","","","",{"$f":"+IF(BK243=\"\",\"\",MAX(BL$1:BL242)+1)","v":""},"","","","","","","",{"$f":"+IF(BS243=\"\",\"\",MAX(BT$1:BT242)+1)","v":""},"","","","","","","",{"$f":"+IF(CA243=\"\",\"\",MAX(CB$1:CB242)+1)","v":""},"","","","","","","",{"$f":"+IF(CI243=\"\",\"\",MAX(CJ$1:CJ242)+1)","v":""},"","","","","",null,{"$f":"+IF(CR243=\"\",\"\",MAX(CQ$1:CQ242)+1)","v":""},{"$f":"IF(Compliance_Options!B265=\"\",\"\",Compliance_Options!B265)","v":""},{"$f":"IF(Compliance_Options!C265=\"\",\"\",Compliance_Options!C265)","v":""},{"$f":"IF(Compliance_Options!D265=\"\",\"\",Compliance_Options!D265)","v":""},"  ",{"$f":"IF(COUNTIF(CU$2:CU243,CU243)=1,CU243,\"\")","v":""},"","","",""]
[{"$nulls":48},{"$f":"+IF(AX244=\"\",\"\",MAX(AW$1:AW243)+1)","v":""},{"$f":"IF(Compliance_Options!B266=\"\",\"\",Compliance_Options!B266)","v":""},{"$f":"IF(Compliance_Options!C266=\"\",\"\",Compliance_Options!C266)","v":""},{"$f":"IF(Compliance_Options!D266=\"\",\"\",Compliance_Options!D266)","v":""},{"$f":"IF(Compliance_Options!E266=\"\",\"\",Compliance_Options!E266)","v":""},{"$f":"IF(Compliance_Options!F266=\"\",\"\",Compliance_Options!F266)","v":""},"    ",{"$f":"IF(COUNTIF(BC$2:BC244,BC244)=1,BC244,\"\")","v":""},"","","","","","","",{"$f":"+IF(BK244=\"\",\"\",MAX(BL$1:BL243)+1)","v":""},"","","","","","","",{"$f":"+IF(BS244=\"\",\"\",MAX(BT$1:BT243)+1)","v":""},"","","","","","","",{"$f":"+IF(CA244=\"\",\"\",MAX(CB$1:CB243)+1)","v":""},"","","","","","","",{"$f":"+IF(CI244=\"\",\"\",MAX(CJ$1:CJ243)+1)","v":""},"","","","","",null,{"$f":"+IF(CR244=\"\",\"\",MAX(CQ$1:CQ243)+1)","v":""},{"$f":"IF(Compliance_Options!B266=\"\",\"\",Compliance_Options!B266)","v":""},{"$f":"IF(Compliance_Options!C266=\"\",\"\",Compliance_Options!C266)","v":""},{"$f":"IF(Compliance_Options!D266=\"\",\"\",Compliance_Options!D266)","v":""},"  ",{"$f":"IF(COUNTIF(CU$2:CU244,CU244)=1,CU244,\"\")","v":""},"","","",""]
[{"$nulls":48},{"$f":"+IF(AX245=\"\",\"\",MAX(AW$1:AW244)+1)","v":""},{"$f":"IF(Compliance_Options!B267=\"\",\"\",Compliance_Options!B267)","v":""},{"$f":"IF(Compliance_Options!C267=\"\",\"\",Compliance_Options!C267)","v":""},{"$f":"IF(Compliance_Options!D267=\"\",\"\",Compliance_Options!D267)","v":""},{"$f":"IF(Compliance_Options!E267=\"\",\"\",Compliance_Options!E267)","v":""},{"$f":"IF(Compliance_Options!F267=\"\",\"\",Compliance_Options!F267)","v":""},"    ",{"$f":"IF(COUNTIF(BC$2:BC245,BC245)=1,BC245,\"\")","v":""},"","","","","","","",{"$f":"+IF(BK245=\"\",\"\",MAX(BL$1:BL244)+1)","v":""},"","","","","","","",{"$f":"+IF(BS245=\"\",\"\",MAX(BT$1:BT244)+1)","v":""},"","","","","","","",{"$f":"+IF(CA245=\"\",\"\",MAX(CB$1:CB244)+1)","v":""},"","","","","","","",{"$f":"+IF(CI245=\"\",\"\",MAX(CJ$1:CJ244)+1)","v":""},"","","","","",null,{"$f":"+IF(CR245=\"\",\"\",MAX(CQ$1:CQ244)+1)","v":""},{"$f":"IF(Compliance_Options!B267=\"\",\"\",Compliance_Options!B267)","v":""},{"$f":"IF(Compliance_Options!C267=\"\",\"\",Compliance_Options!C267)","v":""},{"$f":"IF(Compliance_Options!D267=\"\",\"\",Compliance_Options!D267)","v":""},"  ",{"$f":"IF(COUNTIF(CU$2:CU245,CU245)=1,CU245,\"\")","v":""},"","","",""]
[{"$nulls":48},{"$f":"+IF(AX246=\"\",\"\",MAX(AW$1:AW245)+1)","v":""},{"$f":"IF(Compliance_Options!B268=\"\",\"\",Compliance_Options!B268)","v":""},{"$f":"IF(Compliance_Options!C268=\"\",\"\",Compliance_Options!C268)","v":""},{"$f":"IF(Compliance_Options!D268=\"\",\"\",Compliance_Options!D268)","v":""},{"$f":"IF(Compliance_Options!E268=\"\",\"\",Compliance_Options!E268)","v":""},{"$f":"IF(Compliance_Options!F268=\"\",\"\",Compliance_Options!F268)","v":""},"    ",{"$f":"IF(COUNTIF(BC$2:BC246,BC246)=1,BC246,\"\")","v":""},"","","","","","","",{"$f":"+IF(BK246=\"\",\"\",MAX(BL$1:BL245)+1)","v":""},"","","","","","","",{"$f":"+IF(BS246=\"\",\"\",MAX(BT$1:BT245)+1)","v":""},"","","","","","","",{"$f":"+IF(CA246=\"\",\"\",MAX(CB$1:CB245)+1)","v":""},"","","","","","","",{"$f":"+IF(CI246=\"\",\"\",MAX(CJ$1:CJ245)+1)","v":""},"","","","","",null,{"$f":"+IF(CR246=\"\",\"\",MAX(CQ$1:CQ245)+1)","v":""},{"$f":"IF(Compliance_Options!B268=\"\",\"\",Compliance_Options!B268)","v":""},{"$f":"IF(Compliance_Options!C268=\"\",\"\",Compliance_Options!C268)","v":""},{"$f":"IF(Compliance_Options!D268=\"\",\"\",Compliance_Options!D268)","v":""},"  ",{"$f":"IF(COUNTIF(CU$2:CU246,CU246)=1,CU246,\"\")","v":""},"","","",""]
[{"$nulls":48},{"$f":"+IF(AX247=\"\",\"\",MAX(AW$1:AW246)+1)","v":""},{"$f":"IF(Compliance_Options!B269=\"\",\"\",Compliance_Options!B269)","v":""},{"$f":"IF(Compliance_Options!C269=\"\",\"\",Compliance_Options!C269)","v":""},{"$f":"IF(Compliance_Options!D269=\"\",\"\",Compliance_Options!D269)","v":""},{"$f":"IF(Compliance_Options!E269=\"\",\"\",Compliance_Options!E269)","v":""},{"$f":"IF(Compliance_Options!F269=\"\",\"\",Compliance_Options!F269)","v":""},"    ",{"$f":"IF(COUNTIF(BC$2:BC247,BC247)=1,BC247,\"\")","v":""},"","","","","","","",{"$f":"+IF(BK247=\"\",\"\",MAX(BL$1:BL246)+1)","v":""},"","","","","","","",{"$f":"+IF(BS247=\"\",\"\",MAX(BT$1:BT246)+1)","v":""},"","","","","","","",{"$f":"+IF(CA247=\"\",\"\",MAX(CB$1:CB246)+1)","v":""},"","","","","","","",{"$f":"+IF(CI247=\"\",\"\",MAX(CJ$1:CJ246)+1)","v":""},"","","","","",null,{"$f":"+IF(CR247=\"\",\"\",MAX(CQ$1:CQ246)+1)","v":""},{"$f":"IF(Compliance_Options!B269=\"\",\"\",Compliance_Options!B269)","v":""},{"$f":"IF(Compliance_Options!C269=\"\",\"\",Compliance_Options!C269)","v":""},{"$f":"IF(Compliance_Options!D269=\"\",\"\",Compliance_Options!D269)","v":""},"  ",{"$f":"IF(COUNTIF(CU$2:CU247,CU247)=1,CU247,\"\")","v":""},"","","",""]
[{"$nulls":48},{"$f":"+IF(AX248=\"\",\"\",MAX(AW$1:AW247)+1)","v":""},{"$f":"IF(Compliance_Options!B270=\"\",\"\",Compliance_Options!B270)","v":""},{"$f":"IF(Compliance_Options!C270=\"\",\"\",Compliance_Options!C270)","v":""},{"$f":"IF(Compliance_Options!D270=\"\",\"\",Compliance_Options!D270)","v":""},{"$f":"IF(Compliance_Options!E270=\"\",\"\",Compliance_Options!E270)","v":""},{"$f":"IF(Compliance_Options!F270=\"\",\"\",Compliance_Options!F270)","v":""},"    ",{"$f":"IF(COUNTIF(BC$2:BC248,BC248)=1,BC248,\"\")","v":""},"","","","","","","",{"$f":"+IF(BK248=\"\",\"\",MAX(BL$1:BL247)+1)","v":""},"","","","","","","",{"$f":"+IF(BS248=\"\",\"\",MAX(BT$1:BT247)+1)","v":""},"","","","","","","",{"$f":"+IF(CA248=\"\",\"\",MAX(CB$1:CB247)+1)","v":""},"","","","","","","",{"$f":"+IF(CI248=\"\",\"\",MAX(CJ$1:CJ247)+1)","v":""},"","","","","",null,{"$f":"+IF(CR248=\"\",\"\",MAX(CQ$1:CQ247)+1)","v":""},{"$f":"IF(Compliance_Options!B270=\"\",\"\",Compliance_Options!B270)","v":""},{"$f":"IF(Compliance_Options!C270=\"\",\"\",Compliance_Options!C270)","v":""},{"$f":"IF(Compliance_Options!D270=\"\",\"\",Compliance_Options!D270)","v":""},"  ",{"$f":"IF(COUNTIF(CU$2:CU248,CU248)=1,CU248,\"\")","v":""},"","","",""]
[{"$nulls":48},{"$f":"+IF(AX249=\"\",\"\",MAX(AW$1:AW248)+1)","v":""},{"$f":"IF(Compliance_Options!B271=\"\",\"\",Compliance_Options!B271)","v":""},{"$f":"IF(Compliance_Options!C271=\"\",\"\",Compliance_Options!C271)","v":""},{"$f":"IF(Compliance_Options!D271=\"\",\"\",Compliance_Options!D271)","v":""},{"$f":"IF(Compliance_Options!E271=\"\",\"\",Compliance_Options!E271)","v":""},{"$f":"IF(Compliance_Options!F271=\"\",\"\",Compliance_Options!F271)","v":""},"    ",{"$f":"IF(COUNTIF(BC$2:BC249,BC249)=1,BC249,\"\")","v":""},"","","","","","","",{"$f":"+IF(BK249=\"\",\"\",MAX(BL$1:BL248)+1)","v":""},"","","","","","","",{"$f":"+IF(BS249=\"\",\"\",MAX(BT$1:BT248)+1)","v":""},"","","","","","","",{"$f":"+IF(CA249=\"\",\"\",MAX(CB$1:CB248)+1)","v":""},"","","","","","","",{"$f":"+IF(CI249=\"\",\"\",MAX(CJ$1:CJ248)+1)","v":""},"","","","","",null,{"$f":"+IF(CR249=\"\",\"\",MAX(CQ$1:CQ248)+1)","v":""},{"$f":"IF(Compliance_Options!B271=\"\",\"\",Compliance_Options!B271)","v":""},{"$f":"IF(Compliance_Options!C271=\"\",\"\",Compliance_Options!C271)","v":""},{"$f":"IF(Compliance_Options!D271=\"\",\"\",Compliance_Options!D271)","v":""},"  ",{"$f":"IF(COUNTIF(CU$2:CU249,CU249)=1,CU249,\"\")","v":""},"","","",""]
[{"$nulls":48},{"$f":"+IF(AX250=\"\",\"\",MAX(AW$1:AW249)+1)","v":""},{"$f":"IF(Compliance_Options!B272=\"\",\"\",Compliance_Options!B272)","v":""},{"$f":"IF(Compliance_Options!C272=\"\",\"\",Compliance_Options!C272)","v":""},{"$f":"IF(Compliance_Options!D272=\"\",\"\",Compliance_Options!D272)","v":""},{"$f":"IF(Compliance_Options!E272=\"\",\"\",Compliance_Options!E272)","v":""},{"$f":"IF(Compliance_Options!F272=\"\",\"\",Compliance_Options!F272)","v":""},"    ",{"$f":"IF(COUNTIF(BC$2:BC250,BC250)=1,BC250,\"\")","v":""},"","","","","","","",{"$f":"+IF(BK250=\"\",\"\",MAX(BL$1:BL249)+1)","v":""},"","","","","","","",{"$f":"+IF(BS250=\"\",\"\",MAX(BT$1:BT249)+1)","v":""},"","","","","","","",{"$f":"+IF(CA250=\"\",\"\",MAX(CB$1:CB249)+1)","v":""},"","","","","","","",{"$f":"+IF(CI250=\"\",\"\",MAX(CJ$1:CJ249)+1)","v":""},"","","","","",null,{"$f":"+IF(CR250=\"\",\"\",MAX(CQ$1:CQ249)+1)","v":""},{"$f":"IF(Compliance_Options!B272=\"\",\"\",Compliance_Options!B272)","v":""},{"$f":"IF(Compliance_Options!C272=\"\",\"\",Compliance_Options!C272)","v":""},{"$f":"IF(Compliance_Options!D272=\"\",\"\",Compliance_Options!D272)","v":""},"  ",{"$f":"IF(COUNTIF(CU$2:CU250,CU250)=1,CU250,\"\")","v":""},"","","",""]
[{"$nulls":48},{"$f":"+IF(AX251=\"\",\"\",MAX(AW$1:AW250)+1)","v":""},{"$f":"IF(Compliance_Options!B273=\"\",\"\",Compliance_Options!B273)","v":""},{"$f":"IF(Compliance_Options!C273=\"\",\"\",Compliance_Options!C273)","v":""},{"$f":"IF(Compliance_Options!D273=\"\",\"\",Compliance_Options!D273)","v":""},{"$f":"IF(Compliance_Options!E273=\"\",\"\",Compliance_Options!E273)","v":""},{"$f":"IF(Compliance_Options!F273=\"\",\"\",Compliance_Options!F273)","v":""},"    ",{"$f":"IF(COUNTIF(BC$2:BC251,BC251)=1,BC251,\"\")","v":""},"","","","","","","",{"$f":"+IF(BK251=\"\",\"\",MAX(BL$1:BL250)+1)","v":""},"","","","","","","",{"$f":"+IF(BS251=\"\",\"\",MAX(BT$1:BT250)+1)","v":""},"","","","","","","",{"$f":"+IF(CA251=\"\",\"\",MAX(CB$1:CB250)+1)","v":""},"","","","","","","",{"$f":"+IF(CI251=\"\",\"\",MAX(CJ$1:CJ250)+1)","v":""},"","","","","",null,{"$f":"+IF(CR251=\"\",\"\",MAX(CQ$1:CQ250)+1)","v":""},{"$f":"IF(Compliance_Options!B273=\"\",\"\",Compliance_Options!B273)","v":""},{"$f":"IF(Compliance_Options!C273=\"\",\"\",Compliance_Options!C273)","v":""},{"$f":"IF(Compliance_Options!D273=\"\",\"\",Compliance_Options!D273)","v":""},"  ",{"$f":"IF(COUNTIF(CU$2:CU251,CU251)=1,CU251,\"\")","v":""},"","","",""]
[{"$nulls":48},{"$f":"+IF(AX252=\"\",\"\",MAX(AW$1:AW251)+1)","v":""},{"$f":"IF(Compliance_Options!B274=\"\",\"\",Compliance_Options!B274)","v":""},{"$f":"IF(Compliance_Options!C274=\"\",\"\",Compliance_Options!C274)","v":""},{"$f":"IF(Compliance_Options!D274=\"\",\"\",Compliance_Options!D274)","v":""},{"$f":"IF(Compliance_Options!E274=\"\",\"\",Compliance_Options!E274)","v":""},{"$f":"IF(Compliance_Options!F274=\"\",\"\",Compliance_Options!F274)","v":""},"    ",{"$f":"IF(COUNTIF(BC$2:BC252,BC252)=1,BC252,\"\")","v":""},"","","","","","","",{"$f":"+IF(BK252=\"\",\"\",MAX(BL$1:BL251)+1)","v":""},"","","","","","","",{"$f":"+IF(BS252=\"\",\"\",MAX(BT$1:BT251)+1)","v":""},"","","","","","","",{"$f":"+IF(CA252=\"\",\"\",MAX(CB$1:CB251)+1)","v":""},"","","","","","","",{"$f":"+IF(CI252=\"\",\"\",MAX(CJ$1:CJ251)+1)","v":""},"","","","","",null,{"$f":"+IF(CR252=\"\",\"\",MAX(CQ$1:CQ251)+1)","v":""},{"$f":"IF(Compliance_Options!B274=\"\",\"\",Compliance_Options!B274)","v":""},{"$f":"IF(Compliance_Options!C274=\"\",\"\",Compliance_Options!C274)","v":""},{"$f":"IF(Compliance_Options!D274=\"\",\"\",Compliance_Options!D274)","v":""},"  ",{"$f":"IF(COUNTIF(CU$2:CU252,CU252)=1,CU252,\"\")","v":""},"","","",""]
[{"$nulls":48},{"$f":"+IF(AX253=\"\",\"\",MAX(AW$1:AW252)+1)","v":""},{"$f":"IF(Compliance_Options!B275=\"\",\"\",Compliance_Options!B275)","v":""},{"$f":"IF(Compliance_Options!C275=\"\",\"\",Compliance_Options!C275)","v":""},{"$f":"IF(Compliance_Options!D275=\"\",\"\",Compliance_Options!D275)","v":""},{"$f":"IF(Compliance_Options!E275=\"\",\"\",Compliance_Options!E275)","v":""},{"$f":"IF(Compliance_Options!F275=\"\",\"\",Compliance_Options!F275)","v":""},"    ",{"$f":"IF(COUNTIF(BC$2:BC253,BC253)=1,BC253,\"\")","v":""},"","","","","","","",{"$f":"+IF(BK253=\"\",\"\",MAX(BL$1:BL252)+1)","v":""},"","","","","","","",{"$f":"+IF(BS253=\"\",\"\",MAX(BT$1:BT252)+1)","v":""},"","","","","","","",{"$f":"+IF(CA253=\"\",\"\",MAX(CB$1:CB252)+1)","v":""},"","","","","","","",{"$f":"+IF(CI253=\"\",\"\",MAX(CJ$1:CJ252)+1)","v":""},"","","","","",null,{"$f":"+IF(CR253=\"\",\"\",MAX(CQ$1:CQ252)+1)","v":""},{"$f":"IF(Compliance_Options!B275=\"\",\"\",Compliance_Options!B275)","v":""},{"$f":"IF(Compliance_Options!C275=\"\",\"\",Compliance_Options!C275)","v":""},{"$f":"IF(Compliance_Options!D275=\"\",\"\",Compliance_Options!D275)","v":""},"  ",{"$f":"IF(COUNTIF(CU$2:CU253,CU253)=1,CU253,\"\")","v":""},"","","",""]
[{"$nulls":48},{"$f":"+IF(AX254=\"\",\"\",MAX(AW$1:AW253)+1)","v":""},{"$f":"IF(Compliance_Options!B276=\"\",\"\",Compliance_Options!B276)","v":""},{"$f":"IF(Compliance_Options!C276=\"\",\"\",Compliance_Options!C276)","v":""},{"$f":"IF(Compliance_Options!D276=\"\",\"\",Compliance_Options!D276)","v":""},{"$f":"IF(Compliance_Options!E276=\"\",\"\",Compliance_Options!E276)","v":""},{"$f":"IF(Compliance_Options!F276=\"\",\"\",Compliance_Options!F276)","v":""},"    ",{"$f":"IF(COUNTIF(BC$2:BC254,BC254)=1,BC254,\"\")","v":""},"","","","","","","",{"$f":"+IF(BK254=\"\",\"\",MAX(BL$1:BL253)+1)","v":""},"","","","","","","",{"$f":"+IF(BS254=\"\",\"\",MAX(BT$1:BT253)+1)","v":""},"","","","","","","",{"$f":"+IF(CA254=\"\",\"\",MAX(CB$1:CB253)+1)","v":""},"","","","","","","",{"$f":"+IF(CI254=\"\",\"\",MAX(CJ$1:CJ253)+1)","v":""},"","","","","",null,{"$f":"+IF(CR254=\"\",\"\",MAX(CQ$1:CQ253)+1)","v":""},{"$f":"IF(Compliance_Options!B276=\"\",\"\",Compliance_Options!B276)","v":""},{"$f":"IF(Compliance_Options!C276=\"\",\"\",Compliance_Options!C276)","v":""},{"$f":"IF(Compliance_Options!D276=\"\",\"\",Compliance_Options!D276)","v":""},"  ",{"$f":"IF(COUNTIF(CU$2:CU254,CU254)=1,CU254,\"\")","v":""},"","","",""]
[{"$nulls":48},{"$f":"+IF(AX255=\"\",\"\",MAX(AW$1:AW254)+1)","v":""},{"$f":"IF(Compliance_Options!B277=\"\",\"\",Compliance_Options!B277)","v":""},{"$f":"IF(Compliance_Options!C277=\"\",\"\",Compliance_Options!C277)","v":""},{"$f":"IF(Compliance_Options!D277=\"\",\"\",Compliance_Options!D277)","v":""},{"$f":"IF(Compliance_Options!E277=\"\",\"\",Compliance_Options!E277)","v":""},{"$f":"IF(Compliance_Options!F277=\"\",\"\",Compliance_Options!F277)","v":""},"    ",{"$f":"IF(COUNTIF(BC$2:BC255,BC255)=1,BC255,\"\")","v":""},"","","","","","","",{"$f":"+IF(BK255=\"\",\"\",MAX(BL$1:BL254)+1)","v":""},"","","","","","","",{"$f":"+IF(BS255=\"\",\"\",MAX(BT$1:BT254)+1)","v":""},"","","","","","","",{"$f":"+IF(CA255=\"\",\"\",MAX(CB$1:CB254)+1)","v":""},"","","","","","","",{"$f":"+IF(CI255=\"\",\"\",MAX(CJ$1:CJ254)+1)","v":""},"","","","","",null,{"$f":"+IF(CR255=\"\",\"\",MAX(CQ$1:CQ254)+1)","v":""},{"$f":"IF(Compliance_Options!B277=\"\",\"\",Compliance_Options!B277)","v":""},{"$f":"IF(Compliance_Options!C277=\"\",\"\",Compliance_Options!C277)","v":""},{"$f":"IF(Compliance_Options!D277=\"\",\"\",Compliance_Options!D277)","v":""},"  ",{"$f":"IF(COUNTIF(CU$2:CU255,CU255)=1,CU255,\"\")","v":""},"","","",""]
[{"$nulls":48},{"$f":"+IF(AX256=\"\",\"\",MAX(AW$1:AW255)+1)","v":""},{"$f":"IF(Compliance_Options!B278=\"\",\"\",Compliance_Options!B278)","v":""},{"$f":"IF(Compliance_Options!C278=\"\",\"\",Compliance_Options!C278)","v":""},{"$f":"IF(Compliance_Options!D278=\"\",\"\",Compliance_Options!D278)","v":""},{"$f":"IF(Compliance_Options!E278=\"\",\"\",Compliance_Options!E278)","v":""},{"$f":"IF(Compliance_Options!F278=\"\",\"\",Compliance_Options!F278)","v":""},"    ",{"$f":"IF(COUNTIF(BC$2:BC256,BC256)=1,BC256,\"\")","v":""},"","","","","","","",{"$f":"+IF(BK256=\"\",\"\",MAX(BL$1:BL255)+1)","v":""},"","","","","","","",{"$f":"+IF(BS256=\"\",\"\",MAX(BT$1:BT255)+1)","v":""},"","","","","","","",{"$f":"+IF(CA256=\"\",\"\",MAX(CB$1:CB255)+1)","v":""},"","","","","","","",{"$f":"+IF(CI256=\"\",\"\",MAX(CJ$1:CJ255)+1)","v":""},"","","","","",null,{"$f":"+IF(CR256=\"\",\"\",MAX(CQ$1:CQ255)+1)","v":""},{"$f":"IF(Compliance_Options!B278=\"\",\"\",Compliance_Options!B278)","v":""},{"$f":"IF(Compliance_Options!C278=\"\",\"\",Compliance_Options!C278)","v":""},{"$f":"IF(Compliance_Options!D278=\"\",\"\",Compliance_Options!D278)","v":""},"  ",{"$f":"IF(COUNTIF(CU$2:CU256,CU256)=1,CU256,\"\")","v":""},"","","",""]
[{"$nulls":48},{"$f":"+IF(AX257=\"\",\"\",MAX(AW$1:AW256)+1)","v":""},{"$f":"IF(Compliance_Options!B279=\"\",\"\",Compliance_Options!B279)","v":""},{"$f":"IF(Compliance_Options!C279=\"\",\"\",Compliance_Options!C279)","v":""},{"$f":"IF(Compliance_Options!D279=\"\",\"\",Compliance_Options!D279)","v":""},{"$f":"IF(Compliance_Options!E279=\"\",\"\",Compliance_Options!E279)","v":""},{"$f":"IF(Compliance_Options!F279=\"\",\"\",Compliance_Options!F279)","v":""},"    ",{"$f":"IF(COUNTIF(BC$2:BC257,BC257)=1,BC257,\"\")","v":""},"","","","","","","",{"$f":"+IF(BK257=\"\",\"\",MAX(BL$1:BL256)+1)","v":""},"","","","","","","",{"$f":"+IF(BS257=\"\",\"\",MAX(BT$1:BT256)+1)","v":""},"","","","","","","",{"$f":"+IF(CA257=\"\",\"\",MAX(CB$1:CB256)+1)","v":""},"","","","","","","",{"$f":"+IF(CI257=\"\",\"\",MAX(CJ$1:CJ256)+1)","v":""},"","","","","",null,{"$f":"+IF(CR257=\"\",\"\",MAX(CQ$1:CQ256)+1)","v":""},{"$f":"IF(Compliance_Options!B279=\"\",\"\",Compliance_Options!B279)","v":""},{"$f":"IF(Compliance_Options!C279=\"\",\"\",Compliance_Options!C279)","v":""},{"$f":"IF(Compliance_Options!D279=\"\",\"\",Compliance_Options!D279)","v":""},"  ",{"$f":"IF(COUNTIF(CU$2:CU257,CU257)=1,CU257,\"\")","v":""},"","","",""]
[{"$nulls":48},{"$f":"+IF(AX258=\"\",\"\",MAX(AW$1:AW257)+1)","v":""},{"$f":"IF(Compliance_Options!B280=\"\",\"\",Compliance_Options!B280)","v":""},{"$f":"IF(Compliance_Options!C280=\"\",\"\",Compliance_Options!C280)","v":""},{"$f":"IF(Compliance_Options!D280=\"\",\"\",Compliance_Options!D280)","v":""},{"$f":"IF(Compliance_Options!E280=\"\",\"\",Compliance_Options!E280)","v":""},{"$f":"IF(Compliance_Options!F280=\"\",\"\",Compliance_Options!F280)","v":""},"    ",{"$f":"IF(COUNTIF(BC$2:BC258,BC258)=1,BC258,\"\")","v":""},"","","","","","","",{"$f":"+IF(BK258=\"\",\"\",MAX(BL$1:BL257)+1)","v":""},"","","","","","","",{"$f":"+IF(BS258=\"\",\"\",MAX(BT$1:BT257)+1)","v":""},"","","","","","","",{"$f":"+IF(CA258=\"\",\"\",MAX(CB$1:CB257)+1)","v":""},"","","","","","","",{"$f":"+IF(CI258=\"\",\"\",MAX(CJ$1:CJ257)+1)","v":""},"","","","","",null,{"$f":"+IF(CR258=\"\",\"\",MAX(CQ$1:CQ257)+1)","v":""},{"$f":"IF(Compliance_Options!B280=\"\",\"\",Compliance_Options!B280)","v":""},{"$f":"IF(Compliance_Options!C280=\"\",\"\",Compliance_Options!C280)","v":""},{"$f":"IF(Compliance_Options!D280=\"\",\"\",Compliance_Options!D280)","v":""},"  ",{"$f":"IF(COUNTIF(CU$2:CU258,CU258)=1,CU258,\"\")","v":""},"","","",""]
[{"$nulls":48},{"$f":"+IF(AX259=\"\",\"\",MAX(AW$1:AW258)+1)","v":""},{"$f":"IF(Compliance_Options!B281=\"\",\"\",Compliance_Options!B281)","v":""},{"$f":"IF(Compliance_Options!C281=\"\",\"\",Compliance_Options!C281)","v":""},{"$f":"IF(Compliance_Options!D281=\"\",\"\",Compliance_Options!D281)","v":""},{"$f":"IF(Compliance_Options!E281=\"\",\"\",Compliance_Options!E281)","v":""},{"$f":"IF(Compliance_Options!F281=\"\",\"\",Compliance_Options!F281)","v":""},{"$f":"AX259&\" \"&AY259&\" \"&AZ259&\" \"&BA259&\" \"&BB259","v":"    "},{"$f":"IF(COUNTIF(BC$2:BC259,BC259)=1,BC259,\"\")","v":""},{"$f":"IF(BF259=\"\",\"\",BF259&\" \"&BG259&\" \"&BH259)","v":""},{"$f":"IFERROR(INDEX(AX$2:AX$78,MATCH(ROW()-ROW($BD$1),$AW$2:$AW$78,0)),\"\")","v":""},{"$f":"IFERROR(INDEX(AY$2:AY$78,MATCH(ROW()-ROW($BD$1),$AW$2:$AW$78,0)),\"\")","v":""},{"$f":"IFERROR(INDEX(AZ$2:AZ$78,MATCH(ROW()-ROW($BD$1),$AW$2:$AW$78,0)),\"\")","v":""},{"$f":"IFERROR(INDEX(BA$2:BA$78,MATCH(ROW()-ROW($BD$1),$AW$2:$AW$78,0)),\"\")","v":""},{"$f":"IFERROR(INDEX(BB$2:BB$78,MATCH(ROW()-ROW($BD$1),$AW$2:$AW$78,0)),\"\")","v":""},{"$f":"IF($AZ259=\"Tire Production\",$BC259,\"\")","v":""},{"$f":"+IF(BK259=\"\",\"\",MAX(BL$1:BL258)+1)","v":""},{"$f":"IF(BN259=\"\",\"\",BN259&\" \"&BO259&\" \"&BP259&\" \"&BQ259&\" \"&BR259)","v":""},{"$f":"IFERROR(INDEX(AX$2:AX$78,MATCH(ROW()-ROW($BD$1),$BL$2:$BL$78,0)),\"\")","v":""},{"$f":"IFERROR(INDEX(AY$2:AY$78,MATCH(ROW()-ROW($BD$1),$BL$2:$BL$78,0)),\"\")","v":""},{"$f":"IFERROR(INDEX(AZ$2:AZ$78,MATCH(ROW()-ROW($BD$1),$BL$2:$BL$78,0)),\"\")","v":""},{"$f":"IFERROR(INDEX(BA$2:BA$78,MATCH(ROW()-ROW($BD$1),$BL$2:$BL$78,0)),\"\")","v":""},{"$f":"IFERROR(INDEX(BB$2:BB$78,MATCH(ROW()-ROW($BD$1),$BL$2:$BL$78,0)),\"\")","v":""},{"$f":"IF($AZ259=\"Tire Cord Production\",$BC259,\"\")","v":""},{"$f":"+IF(BS259=\"\",\"\",MAX(BT$1:BT258)+1)","v":""},{"$f":"IF(BV259=\"\",\"\",BV259&\" \"&BW259&\" \"&BX259)","v":""},{"$f":"IFERROR(INDEX(AX$2:AX$78,MATCH(ROW()-ROW($BT$1),$BT$2:$BT$78,0)),\"\")","v":""},{"$f":"IFERROR(INDEX(AY$2:AY$78,MATCH(ROW()-ROW($BT$1),$BT$2:$BT$78,0)),\"\")","v":""},{"$f":"IFERROR(INDEX(AZ$2:AZ$78,MATCH(ROW()-ROW($BT$1),$BT$2:$BT$78,0)),\"\")","v":""},{"$f":"IFERROR(INDEX(BA$2:BA$78,MATCH(ROW()-ROW($BT$1),$BT$2:$BT$78,0)),\"\")","v":""},{"$f":"IFERROR(INDEX(BB$2:BB$78,MATCH(ROW()-ROW($BT$1),$BT$2:$BT$78,0)),\"\")","v":""},{"$f":"IF($AZ259=\"Puncture Sealant Application\",$BC259,\"\")","v":""},{"$f":"+IF(CA259=\"\",\"\",MAX(CB$1:CB258)+1)","v":""},{"$f":"IF(CD259=\"\",\"\",CD259&\" \"&CE259&\" \"&CF259)","v":""},{"$f":"IFERROR(INDEX(AX$2:AX$78,MATCH(ROW()-ROW($CB$1),$CB$2:$CB$78,0)),\"\")","v":""},{"$f":"IFERROR(INDEX(AY$2:AY$78,MATCH(ROW()-ROW($CB$1),$CB$2:$CB$78,0)),\"\")","v":""},{"$f":"IFERROR(INDEX(AZ$2:AZ$78,MATCH(ROW()-ROW($CB$1),$CB$2:$CB$78,0)),\"\")","v":""},{"$f":"IFERROR(INDEX(BA$2:BA$78,MATCH(ROW()-ROW($CB$1),$CB$2:$CB$78,0)),\"\")","v":""},{"$f":"IFERROR(INDEX(BB$2:BB$78,MATCH(ROW()-ROW($CB$1),$CB$2:$CB$78,0)),\"\")","v":""},{"$f":"IF($AZ259=\"Rubber Processing\",$BC259,\"\")","v":""},{"$f":"+IF(CI259=\"\",\"\",MAX(CJ$1:CJ258)+1)","v":""},{"$f":"IFERROR(INDEX(AX$2:AX$78,MATCH(ROW()-ROW($CJ$1),$CJ$2:$CJ$78,0)),\"\")","v":""},{"$f":"IFERROR(INDEX(AY$2:AY$78,MATCH(ROW()-ROW($CJ$1),$CJ$2:$CJ$78,0)),\"\")","v":""},{"$f":"IFERROR(INDEX(AZ$2:AZ$78,MATCH(ROW()-ROW($CJ$1),$CJ$2:$CJ$78,0)),\"\")","v":""},{"$f":"IFERROR(INDEX(BA$2:BA$78,MATCH(ROW()-ROW($CJ$1),$CJ$2:$CJ$78,0)),\"\")","v":""},{"$f":"IFERROR(INDEX(BB$2:BB$78,MATCH(ROW()-ROW($CJ$1),$CJ$2:$CJ$78,0)),\"\")","v":""},null,{"$f":"+IF(CR259=\"\",\"\",MAX(CQ$1:CQ258)+1)","v":""},{"$f":"IF(Compliance_Options!B281=\"\",\"\",Compliance_Options!B281)","v":""},{"$f":"IF(Compliance_Options!C281=\"\",\"\",Compliance_Options!C281)","v":""},{"$f":"IF(Compliance_Options!D281=\"\",\"\",Compliance_Options!D281)","v":""},{"$f":"CR259&\" \"&CS259&\" \"&CT259","v":"  "},{"$f":"IF(COUNTIF(CU$2:CU259,CU259)=1,CU259,\"\")","v":""},{"$f":"IFERROR(INDEX(CV$2:CV$78,MATCH(ROW()-ROW($CV$1),$CQ$2:$CQ$78,0)),\"\")","v":""},{"$f":"IFERROR(INDEX(CR$2:CR$78,MATCH(ROW()-ROW($CV$1),$CQ$2:$CQ$78,0)),\"\")","v":""},{"$f":"IFERROR(INDEX(CS$2:CS$78,MATCH(ROW()-ROW($CV$1),$CQ$2:$CQ$78,0)),\"\")","v":""},{"$f":"IFERROR(INDEX(CT$2:CT$78,MATCH(ROW()-ROW($CV$1),$CQ$2:$CQ$78,0)),\"\")","v":""}]
[{"$nulls":48},{"$f":"+IF(AX260=\"\",\"\",MAX(AW$1:AW259)+1)","v":""},{"$f":"IF(Compliance_Options!B282=\"\",\"\",Compliance_Options!B282)","v":""},{"$f":"IF(Compliance_Options!C282=\"\",\"\",Compliance_Options!C282)","v":""},{"$f":"IF(Compliance_Options!D282=\"\",\"\",Compliance_Options!D282)","v":""},{"$f":"IF(Compliance_Options!E282=\"\",\"\",Compliance_Options!E282)","v":""},{"$f":"IF(Compliance_Options!F282=\"\",\"\",Compliance_Options!F282)","v":""},"    ",{"$f":"IF(COUNTIF(BC$2:BC260,BC260)=1,BC260,\"\")","v":""},"","","","","","","",{"$f":"+IF(BK260=\"\",\"\",MAX(BL$1:BL259)+1)","v":""},"","","","","","","",{"$f":"+IF(BS260=\"\",\"\",MAX(BT$1:BT259)+1)","v":""},"","","","","","","",{"$f":"+IF(CA260=\"\",\"\",MAX(CB$1:CB259)+1)","v":""},"","","","","","","",{"$f":"+IF(CI260=\"\",\"\",MAX(CJ$1:CJ259)+1)","v":""},"","","","","",null,{"$f":"+IF(CR260=\"\",\"\",MAX(CQ$1:CQ259)+1)","v":""},{"$f":"IF(Compliance_Options!B282=\"\",\"\",Compliance_Options!B282)","v":""},{"$f":"IF(Compliance_Options!C282=\"\",\"\",Compliance_Options!C282)","v":""},{"$f":"IF(Compliance_Options!D282=\"\",\"\",Compliance_Options!D282)","v":""},"  ",{"$f":"IF(COUNTIF(CU$2:CU260,CU260)=1,CU260,\"\")","v":""},"","","",""]
[{"$nulls":48},{"$f":"+IF(AX261=\"\",\"\",MAX(AW$1:AW260)+1)","v":""},{"$f":"IF(Compliance_Options!B283=\"\",\"\",Compliance_Options!B283)","v":""},{"$f":"IF(Compliance_Options!C283=\"\",\"\",Compliance_Options!C283)","v":""},{"$f":"IF(Compliance_Options!D283=\"\",\"\",Compliance_Options!D283)","v":""},{"$f":"IF(Compliance_Options!E283=\"\",\"\",Compliance_Options!E283)","v":""},{"$f":"IF(Compliance_Options!F283=\"\",\"\",Compliance_Options!F283)","v":""},"    ",{"$f":"IF(COUNTIF(BC$2:BC261,BC261)=1,BC261,\"\")","v":""},"","","","","","","",{"$f":"+IF(BK261=\"\",\"\",MAX(BL$1:BL260)+1)","v":""},"","","","","","","",{"$f":"+IF(BS261=\"\",\"\",MAX(BT$1:BT260)+1)","v":""},"","","","","","","",{"$f":"+IF(CA261=\"\",\"\",MAX(CB$1:CB260)+1)","v":""},"","","","","","","",{"$f":"+IF(CI261=\"\",\"\",MAX(CJ$1:CJ260)+1)","v":""},"","","","","",null,{"$f":"+IF(CR261=\"\",\"\",MAX(CQ$1:CQ260)+1)","v":""},{"$f":"IF(Compliance_Options!B283=\"\",\"\",Compliance_Options!B283)","v":""},{"$f":"IF(Compliance_Options!C283=\"\",\"\",Compliance_Options!C283)","v":""},{"$f":"IF(Compliance_Options!D283=\"\",\"\",Compliance_Options!D283)","v":""},"  ",{"$f":"IF(COUNTIF(CU$2:CU261,CU261)=1,CU261,\"\")","v":""},"","","",""]
[{"$nulls":48},{"$f":"+IF(AX262=\"\",\"\",MAX(AW$1:AW261)+1)","v":""},{"$f":"IF(Compliance_Options!B284=\"\",\"\",Compliance_Options!B284)","v":""},{"$f":"IF(Compliance_Options!C284=\"\",\"\",Compliance_Options!C284)","v":""},{"$f":"IF(Compliance_Options!D284=\"\",\"\",Compliance_Options!D284)","v":""},{"$f":"IF(Compliance_Options!E284=\"\",\"\",Compliance_Options!E284)","v":""},{"$f":"IF(Compliance_Options!F284=\"\",\"\",Compliance_Options!F284)","v":""},"    ",{"$f":"IF(COUNTIF(BC$2:BC262,BC262)=1,BC262,\"\")","v":""},"","","","","","","",{"$f":"+IF(BK262=\"\",\"\",MAX(BL$1:BL261)+1)","v":""},"","","","","","","",{"$f":"+IF(BS262=\"\",\"\",MAX(BT$1:BT261)+1)","v":""},"","","","","","","",{"$f":"+IF(CA262=\"\",\"\",MAX(CB$1:CB261)+1)","v":""},"","","","","","","",{"$f":"+IF(CI262=\"\",\"\",MAX(CJ$1:CJ261)+1)","v":""},"","","","","",null,{"$f":"+IF(CR262=\"\",\"\",MAX(CQ$1:CQ261)+1)","v":""},{"$f":"IF(Compliance_Options!B284=\"\",\"\",Compliance_Options!B284)","v":""},{"$f":"IF(Compliance_Options!C284=\"\",\"\",Compliance_Options!C284)","v":""},{"$f":"IF(Compliance_Options!D284=\"\",\"\",Compliance_Options!D284)","v":""},"  ",{"$f":"IF(COUNTIF(CU$2:CU262,CU262)=1,CU262,\"\")","v":""},"","","",""]
[{"$nulls":48},{"$f":"+IF(AX263=\"\",\"\",MAX(AW$1:AW262)+1)","v":""},{"$f":"IF(Compliance_Options!B285=\"\",\"\",Compliance_Options!B285)","v":""},{"$f":"IF(Compliance_Options!C285=\"\",\"\",Compliance_Options!C285)","v":""},{"$f":"IF(Compliance_Options!D285=\"\",\"\",Compliance_Options!D285)","v":""},{"$f":"IF(Compliance_Options!E285=\"\",\"\",Compliance_Options!E285)","v":""},{"$f":"IF(Compliance_Options!F285=\"\",\"\",Compliance_Options!F285)","v":""},"    ",{"$f":"IF(COUNTIF(BC$2:BC263,BC263)=1,BC263,\"\")","v":""},"","","","","","","",{"$f":"+IF(BK263=\"\",\"\",MAX(BL$1:BL262)+1)","v":""},"","","","","","","",{"$f":"+IF(BS263=\"\",\"\",MAX(BT$1:BT262)+1)","v":""},"","","","","","","",{"$f":"+IF(CA263=\"\",\"\",MAX(CB$1:CB262)+1)","v":""},"","","","","","","",{"$f":"+IF(CI263=\"\",\"\",MAX(CJ$1:CJ262)+1)","v":""},"","","","","",null,{"$f":"+IF(CR263=\"\",\"\",MAX(CQ$1:CQ262)+1)","v":""},{"$f":"IF(Compliance_Options!B285=\"\",\"\",Compliance_Options!B285)","v":""},{"$f":"IF(Compliance_Options!C285=\"\",\"\",Compliance_Options!C285)","v":""},{"$f":"IF(Compliance_Options!D285=\"\",\"\",Compliance_Options!D285)","v":""},"  ",{"$f":"IF(COUNTIF(CU$2:CU263,CU263)=1,CU263,\"\")","v":""},"","","",""]
[{"$nulls":48},{"$f":"+IF(AX264=\"\",\"\",MAX(AW$1:AW263)+1)","v":""},{"$f":"IF(Compliance_Options!B286=\"\",\"\",Compliance_Options!B286)","v":""},{"$f":"IF(Compliance_Options!C286=\"\",\"\",Compliance_Options!C286)","v":""},{"$f":"IF(Compliance_Options!D286=\"\",\"\",Compliance_Options!D286)","v":""},{"$f":"IF(Compliance_Options!E286=\"\",\"\",Compliance_Options!E286)","v":""},{"$f":"IF(Compliance_Options!F286=\"\",\"\",Compliance_Options!F286)","v":""},"    ",{"$f":"IF(COUNTIF(BC$2:BC264,BC264)=1,BC264,\"\")","v":""},"","","","","","","",{"$f":"+IF(BK264=\"\",\"\",MAX(BL$1:BL263)+1)","v":""},"","","","","","","",{"$f":"+IF(BS264=\"\",\"\",MAX(BT$1:BT263)+1)","v":""},"","","","","","","",{"$f":"+IF(CA264=\"\",\"\",MAX(CB$1:CB263)+1)","v":""},"","","","","","","",{"$f":"+IF(CI264=\"\",\"\",MAX(CJ$1:CJ263)+1)","v":""},"","","","","",null,{"$f":"+IF(CR264=\"\",\"\",MAX(CQ$1:CQ263)+1)","v":""},{"$f":"IF(Compliance_Options!B286=\"\",\"\",Compliance_Options!B286)","v":""},{"$f":"IF(Compliance_Options!C286=\"\",\"\",Compliance_Options!C286)","v":""},{"$f":"IF(Compliance_Options!D286=\"\",\"\",Compliance_Options!D286)","v":""},"  ",{"$f":"IF(COUNTIF(CU$2:CU264,CU264)=1,CU264,\"\")","v":""},"","","",""]
[{"$nulls":48},{"$f":"+IF(AX265=\"\",\"\",MAX(AW$1:AW264)+1)","v":""},{"$f":"IF(Compliance_Options!B287=\"\",\"\",Compliance_Options!B287)","v":""},{"$f":"IF(Compliance_Options!C287=\"\",\"\",Compliance_Options!C287)","v":""},{"$f":"IF(Compliance_Options!D287=\"\",\"\",Compliance_Options!D287)","v":""},{"$f":"IF(Compliance_Options!E287=\"\",\"\",Compliance_Options!E287)","v":""},{"$f":"IF(Compliance_Options!F287=\"\",\"\",Compliance_Options!F287)","v":""},"    ",{"$f":"IF(COUNTIF(BC$2:BC265,BC265)=1,BC265,\"\")","v":""},"","","","","","","",{"$f":"+IF(BK265=\"\",\"\",MAX(BL$1:BL264)+1)","v":""},"","","","","","","",{"$f":"+IF(BS265=\"\",\"\",MAX(BT$1:BT264)+1)","v":""},"","","","","","","",{"$f":"+IF(CA265=\"\",\"\",MAX(CB$1:CB264)+1)","v":""},"","","","","","","",{"$f":"+IF(CI265=\"\",\"\",MAX(CJ$1:CJ264)+1)","v":""},"","","","","",null,{"$f":"+IF(CR265=\"\",\"\",MAX(CQ$1:CQ264)+1)","v":""},{"$f":"IF(Compliance_Options!B287=\"\",\"\",Compliance_Options!B287)","v":""},{"$f":"IF(Compliance_Options!C287=\"\",\"\",Compliance_Options!C287)","v":""},{"$f":"IF(Compliance_Options!D287=\"\",\"\",Compliance_Options!D287)","v":""},"  ",{"$f":"IF(COUNTIF(CU$2:CU265,CU265)=1,CU265,\"\")","v":""},"","","",""]
[{"$nulls":48},{"$f":"+IF(AX266=\"\",\"\",MAX(AW$1:AW265)+1)","v":""},{"$f":"IF(Compliance_Options!B288=\"\",\"\",Compliance_Options!B288)","v":""},{"$f":"IF(Compliance_Options!C288=\"\",\"\",Compliance_Options!C288)","v":""},{"$f":"IF(Compliance_Options!D288=\"\",\"\",Compliance_Options!D288)","v":""},{"$f":"IF(Compliance_Options!E288=\"\",\"\",Compliance_Options!E288)","v":""},{"$f":"IF(Compliance_Options!F288=\"\",\"\",Compliance_Options!F288)","v":""},"    ",{"$f":"IF(COUNTIF(BC$2:BC266,BC266)=1,BC266,\"\")","v":""},"","","","","","","",{"$f":"+IF(BK266=\"\",\"\",MAX(BL$1:BL265)+1)","v":""},"","","","","","","",{"$f":"+IF(BS266=\"\",\"\",MAX(BT$1:BT265)+1)","v":""},"","","","","","","",{"$f":"+IF(CA266=\"\",\"\",MAX(CB$1:CB265)+1)","v":""},"","","","","","","",{"$f":"+IF(CI266=\"\",\"\",MAX(CJ$1:CJ265)+1)","v":""},"","","","","",null,{"$f":"+IF(CR266=\"\",\"\",MAX(CQ$1:CQ265)+1)","v":""},{"$f":"IF(Compliance_Options!B288=\"\",\"\",Compliance_Options!B288)","v":""},{"$f":"IF(Compliance_Options!C288=\"\",\"\",Compliance_Options!C288)","v":""},{"$f":"IF(Compliance_Options!D288=\"\",\"\",Compliance_Options!D288)","v":""},"  ",{"$f":"IF(COUNTIF(CU$2:CU266,CU266)=1,CU266,\"\")","v":""},"","","",""]
[{"$nulls":48},{"$f":"+IF(AX267=\"\",\"\",MAX(AW$1:AW266)+1)","v":""},{"$f":"IF(Compliance_Options!B289=\"\",\"\",Compliance_Options!B289)","v":""},{"$f":"IF(Compliance_Options!C289=\"\",\"\",Compliance_Options!C289)","v":""},{"$f":"IF(Compliance_Options!D289=\"\",\"\",Compliance_Options!D289)","v":""},{"$f":"IF(Compliance_Options!E289=\"\",\"\",Compliance_Options!E289)","v":""},{"$f":"IF(Compliance_Options!F289=\"\",\"\",Compliance_Options!F289)","v":""},"    ",{"$f":"IF(COUNTIF(BC$2:BC267,BC267)=1,BC267,\"\")","v":""},"","","","","","","",{"$f":"+IF(BK267=\"\",\"\",MAX(BL$1:BL266)+1)","v":""},"","","","","","","",{"$f":"+IF(BS267=\"\",\"\",MAX(BT$1:BT266)+1)","v":""},"","","","","","","",{"$f":"+IF(CA267=\"\",\"\",MAX(CB$1:CB266)+1)","v":""},"","","","","","","",{"$f":"+IF(CI267=\"\",\"\",MAX(CJ$1:CJ266)+1)","v":""},"","","","","",null,{"$f":"+IF(CR267=\"\",\"\",MAX(CQ$1:CQ266)+1)","v":""},{"$f":"IF(Compliance_Options!B289=\"\",\"\",Compliance_Options!B289)","v":""},{"$f":"IF(Compliance_Options!C289=\"\",\"\",Compliance_Options!C289)","v":""},{"$f":"IF(Compliance_Options!D289=\"\",\"\",Compliance_Options!D289)","v":""},"  ",{"$f":"IF(COUNTIF(CU$2:CU267,CU267)=1,CU267,\"\")","v":""},"","","",""]
[{"$nulls":48},{"$f":"+IF(AX268=\"\",\"\",MAX(AW$1:AW267)+1)","v":""},{"$f":"IF(Compliance_Options!B290=\"\",\"\",Compliance_Options!B290)","v":""},{"$f":"IF(Compliance_Options!C290=\"\",\"\",Compliance_Options!C290)","v":""},{"$f":"IF(Compliance_Options!D290=\"\",\"\",Compliance_Options!D290)","v":""},{"$f":"IF(Compliance_Options!E290=\"\",\"\",Compliance_Options!E290)","v":""},{"$f":"IF(Compliance_Options!F290=\"\",\"\",Compliance_Options!F290)","v":""},"    ",{"$f":"IF(COUNTIF(BC$2:BC268,BC268)=1,BC268,\"\")","v":""},"","","","","","","",{"$f":"+IF(BK268=\"\",\"\",MAX(BL$1:BL267)+1)","v":""},"","","","","","","",{"$f":"+IF(BS268=\"\",\"\",MAX(BT$1:BT267)+1)","v":""},"","","","","","","",{"$f":"+IF(CA268=\"\",\"\",MAX(CB$1:CB267)+1)","v":""},"","","","","","","",{"$f":"+IF(CI268=\"\",\"\",MAX(CJ$1:CJ267)+1)","v":""},"","","","","",null,{"$f":"+IF(CR268=\"\",\"\",MAX(CQ$1:CQ267)+1)","v":""},{"$f":"IF(Compliance_Options!B290=\"\",\"\",Compliance_Options!B290)","v":""},{"$f":"IF(Compliance_Options!C290=\"\",\"\",Compliance_Options!C290)","v":""},{"$f":"IF(Compliance_Options!D290=\"\",\"\",Compliance_Options!D290)","v":""},"  ",{"$f":"IF(COUNTIF(CU$2:CU268,CU268)=1,CU268,\"\")","v":""},"","","",""]
[{"$nulls":48},{"$f":"+IF(AX269=\"\",\"\",MAX(AW$1:AW268)+1)","v":""},{"$f":"IF(Compliance_Options!B291=\"\",\"\",Compliance_Options!B291)","v":""},{"$f":"IF(Compliance_Options!C291=\"\",\"\",Compliance_Options!C291)","v":""},{"$f":"IF(Compliance_Options!D291=\"\",\"\",Compliance_Options!D291)","v":""},{"$f":"IF(Compliance_Options!E291=\"\",\"\",Compliance_Options!E291)","v":""},{"$f":"IF(Compliance_Options!F291=\"\",\"\",Compliance_Options!F291)","v":""},"    ",{"$f":"IF(COUNTIF(BC$2:BC269,BC269)=1,BC269,\"\")","v":""},"","","","","","","",{"$f":"+IF(BK269=\"\",\"\",MAX(BL$1:BL268)+1)","v":""},"","","","","","","",{"$f":"+IF(BS269=\"\",\"\",MAX(BT$1:BT268)+1)","v":""},"","","","","","","",{"$f":"+IF(CA269=\"\",\"\",MAX(CB$1:CB268)+1)","v":""},"","","","","","","",{"$f":"+IF(CI269=\"\",\"\",MAX(CJ$1:CJ268)+1)","v":""},"","","","","",null,{"$f":"+IF(CR269=\"\",\"\",MAX(CQ$1:CQ268)+1)","v":""},{"$f":"IF(Compliance_Options!B291=\"\",\"\",Compliance_Options!B291)","v":""},{"$f":"IF(Compliance_Options!C291=\"\",\"\",Compliance_Options!C291)","v":""},{"$f":"IF(Compliance_Options!D291=\"\",\"\",Compliance_Options!D291)","v":""},"  ",{"$f":"IF(COUNTIF(CU$2:CU269,CU269)=1,CU269,\"\")","v":""},"","","",""]
[{"$nulls":48},{"$f":"+IF(AX270=\"\",\"\",MAX(AW$1:AW269)+1)","v":""},{"$f":"IF(Compliance_Options!B292=\"\",\"\",Compliance_Options!B292)","v":""},{"$f":"IF(Compliance_Options!C292=\"\",\"\",Compliance_Options!C292)","v":""},{"$f":"IF(Compliance_Options!D292=\"\",\"\",Compliance_Options!D292)","v":""},{"$f":"IF(Compliance_Options!E292=\"\",\"\",Compliance_Options!E292)","v":""},{"$f":"IF(Compliance_Options!F292=\"\",\"\",Compliance_Options!F292)","v":""},"    ",{"$f":"IF(COUNTIF(BC$2:BC270,BC270)=1,BC270,\"\")","v":""},"","","","","","","",{"$f":"+IF(BK270=\"\",\"\",MAX(BL$1:BL269)+1)","v":""},"","","","","","","",{"$f":"+IF(BS270=\"\",\"\",MAX(BT$1:BT269)+1)","v":""},"","","","","","","",{"$f":"+IF(CA270=\"\",\"\",MAX(CB$1:CB269)+1)","v":""},"","","","","","","",{"$f":"+IF(CI270=\"\",\"\",MAX(CJ$1:CJ269)+1)","v":""},"","","","","",null,{"$f":"+IF(CR270=\"\",\"\",MAX(CQ$1:CQ269)+1)","v":""},{"$f":"IF(Compliance_Options!B292=\"\",\"\",Compliance_Options!B292)","v":""},{"$f":"IF(Compliance_Options!C292=\"\",\"\",Compliance_Options!C292)","v":""},{"$f":"IF(Compliance_Options!D292=\"\",\"\",Compliance_Options!D292)","v":""},"  ",{"$f":"IF(COUNTIF(CU$2:CU270,CU270)=1,CU270,\"\")","v":""},"","","",""]
[{"$nulls":48},{"$f":"+IF(AX271=\"\",\"\",MAX(AW$1:AW270)+1)","v":""},{"$f":"IF(Compliance_Options!B293=\"\",\"\",Compliance_Options!B293)","v":""},{"$f":"IF(Compliance_Options!C293=\"\",\"\",Compliance_Options!C293)","v":""},{"$f":"IF(Compliance_Options!D293=\"\",\"\",Compliance_Options!D293)","v":""},{"$f":"IF(Compliance_Options!E293=\"\",\"\",Compliance_Options!E293)","v":""},{"$f":"IF(Compliance_Options!F293=\"\",\"\",Compliance_Options!F293)","v":""},"    ",{"$f":"IF(COUNTIF(BC$2:BC271,BC271)=1,BC271,\"\")","v":""},"","","","","","","",{"$f":"+IF(BK271=\"\",\"\",MAX(BL$1:BL270)+1)","v":""},"","","","","","","",{"$f":"+IF(BS271=\"\",\"\",MAX(BT$1:BT270)+1)","v":""},"","","","","","","",{"$f":"+IF(CA271=\"\",\"\",MAX(CB$1:CB270)+1)","v":""},"","","","","","","",{"$f":"+IF(CI271=\"\",\"\",MAX(CJ$1:CJ270)+1)","v":""},"","","","","",null,{"$f":"+IF(CR271=\"\",\"\",MAX(CQ$1:CQ270)+1)","v":""},{"$f":"IF(Compliance_Options!B293=\"\",\"\",Compliance_Options!B293)","v":""},{"$f":"IF(Compliance_Options!C293=\"\",\"\",Compliance_Options!C293)","v":""},{"$f":"IF(Compliance_Options!D293=\"\",\"\",Compliance_Options!D293)","v":""},"  ",{"$f":"IF(COUNTIF(CU$2:CU271,CU271)=1,CU271,\"\")","v":""},"","","",""]
[{"$nulls":48},{"$f":"+IF(AX272=\"\",\"\",MAX(AW$1:AW271)+1)","v":""},{"$f":"IF(Compliance_Options!B294=\"\",\"\",Compliance_Options!B294)","v":""},{"$f":"IF(Compliance_Options!C294=\"\",\"\",Compliance_Options!C294)","v":""},{"$f":"IF(Compliance_Options!D294=\"\",\"\",Compliance_Options!D294)","v":""},{"$f":"IF(Compliance_Options!E294=\"\",\"\",Compliance_Options!E294)","v":""},{"$f":"IF(Compliance_Options!F294=\"\",\"\",Compliance_Options!F294)","v":""},"    ",{"$f":"IF(COUNTIF(BC$2:BC272,BC272)=1,BC272,\"\")","v":""},"","","","","","","",{"$f":"+IF(BK272=\"\",\"\",MAX(BL$1:BL271)+1)","v":""},"","","","","","","",{"$f":"+IF(BS272=\"\",\"\",MAX(BT$1:BT271)+1)","v":""},"","","","","","","",{"$f":"+IF(CA272=\"\",\"\",MAX(CB$1:CB271)+1)","v":""},"","","","","","","",{"$f":"+IF(CI272=\"\",\"\",MAX(CJ$1:CJ271)+1)","v":""},"","","","","",null,{"$f":"+IF(CR272=\"\",\"\",MAX(CQ$1:CQ271)+1)","v":""},{"$f":"IF(Compliance_Options!B294=\"\",\"\",Compliance_Options!B294)","v":""},{"$f":"IF(Compliance_Options!C294=\"\",\"\",Compliance_Options!C294)","v":""},{"$f":"IF(Compliance_Options!D294=\"\",\"\",Compliance_Options!D294)","v":""},"  ",{"$f":"IF(COUNTIF(CU$2:CU272,CU272)=1,CU272,\"\")","v":""},"","","",""]
[{"$nulls":48},{"$f":"+IF(AX273=\"\",\"\",MAX(AW$1:AW272)+1)","v":""},{"$f":"IF(Compliance_Options!B295=\"\",\"\",Compliance_Options!B295)","v":""},{"$f":"IF(Compliance_Options!C295=\"\",\"\",Compliance_Options!C295)","v":""},{"$f":"IF(Compliance_Options!D295=\"\",\"\",Compliance_Options!D295)","v":""},{"$f":"IF(Compliance_Options!E295=\"\",\"\",Compliance_Options!E295)","v":""},{"$f":"IF(Compliance_Options!F295=\"\",\"\",Compliance_Options!F295)","v":""},"    ",{"$f":"IF(COUNTIF(BC$2:BC273,BC273)=1,BC273,\"\")","v":""},"","","","","","","",{"$f":"+IF(BK273=\"\",\"\",MAX(BL$1:BL272)+1)","v":""},"","","","","","","",{"$f":"+IF(BS273=\"\",\"\",MAX(BT$1:BT272)+1)","v":""},"","","","","","","",{"$f":"+IF(CA273=\"\",\"\",MAX(CB$1:CB272)+1)","v":""},"","","","","","","",{"$f":"+IF(CI273=\"\",\"\",MAX(CJ$1:CJ272)+1)","v":""},"","","","","",null,{"$f":"+IF(CR273=\"\",\"\",MAX(CQ$1:CQ272)+1)","v":""},{"$f":"IF(Compliance_Options!B295=\"\",\"\",Compliance_Options!B295)","v":""},{"$f":"IF(Compliance_Options!C295=\"\",\"\",Compliance_Options!C295)","v":""},{"$f":"IF(Compliance_Options!D295=\"\",\"\",Compliance_Options!D295)","v":""},"  ",{"$f":"IF(COUNTIF(CU$2:CU273,CU273)=1,CU273,\"\")","v":""},"","","",""]
[{"$nulls":48},{"$f":"+IF(AX274=\"\",\"\",MAX(AW$1:AW273)+1)","v":""},{"$f":"IF(Compliance_Options!B296=\"\",\"\",Compliance_Options!B296)","v":""},{"$f":"IF(Compliance_Options!C296=\"\",\"\",Compliance_Options!C296)","v":""},{"$f":"IF(Compliance_Options!D296=\"\",\"\",Compliance_Options!D296)","v":""},{"$f":"IF(Compliance_Options!E296=\"\",\"\",Compliance_Options!E296)","v":""},{"$f":"IF(Compliance_Options!F296=\"\",\"\",Compliance_Options!F296)","v":""},"    ",{"$f":"IF(COUNTIF(BC$2:BC274,BC274)=1,BC274,\"\")","v":""},"","","","","","","",{"$f":"+IF(BK274=\"\",\"\",MAX(BL$1:BL273)+1)","v":""},"","","","","","","",{"$f":"+IF(BS274=\"\",\"\",MAX(BT$1:BT273)+1)","v":""},"","","","","","","",{"$f":"+IF(CA274=\"\",\"\",MAX(CB$1:CB273)+1)","v":""},"","","","","","","",{"$f":"+IF(CI274=\"\",\"\",MAX(CJ$1:CJ273)+1)","v":""},"","","","","",null,{"$f":"+IF(CR274=\"\",\"\",MAX(CQ$1:CQ273)+1)","v":""},{"$f":"IF(Compliance_Options!B296=\"\",\"\",Compliance_Options!B296)","v":""},{"$f":"IF(Compliance_Options!C296=\"\",\"\",Compliance_Options!C296)","v":""},{"$f":"IF(Compliance_Options!D296=\"\",\"\",Compliance_Options!D296)","v":""},"  ",{"$f":"IF(COUNTIF(CU$2:CU274,CU274)=1,CU274,\"\")","v":""},"","","",""]
[{"$nulls":48},{"$f":"+IF(AX275=\"\",\"\",MAX(AW$1:AW274)+1)","v":""},{"$f":"IF(Compliance_Options!B297=\"\",\"\",Compliance_Options!B297)","v":""},{"$f":"IF(Compliance_Options!C297=\"\",\"\",Compliance_Options!C297)","v":""},{"$f":"IF(Compliance_Options!D297=\"\",\"\",Compliance_Options!D297)","v":""},{"$f":"IF(Compliance_Options!E297=\"\",\"\",Compliance_Options!E297)","v":""},{"$f":"IF(Compliance_Options!F297=\"\",\"\",Compliance_Options!F297)","v":""},"    ",{"$f":"IF(COUNTIF(BC$2:BC275,BC275)=1,BC275,\"\")","v":""},"","","","","","","",{"$f":"+IF(BK275=\"\",\"\",MAX(BL$1:BL274)+1)","v":""},"","","","","","","",{"$f":"+IF(BS275=\"\",\"\",MAX(BT$1:BT274)+1)","v":""},"","","","","","","",{"$f":"+IF(CA275=\"\",\"\",MAX(CB$1:CB274)+1)","v":""},"","","","","","","",{"$f":"+IF(CI275=\"\",\"\",MAX(CJ$1:CJ274)+1)","v":""},"","","","","",null,{"$f":"+IF(CR275=\"\",\"\",MAX(CQ$1:CQ274)+1)","v":""},{"$f":"IF(Compliance_Options!B297=\"\",\"\",Compliance_Options!B297)","v":""},{"$f":"IF(Compliance_Options!C297=\"\",\"\",Compliance_Options!C297)","v":""},{"$f":"IF(Compliance_Options!D297=\"\",\"\",Compliance_Options!D297)","v":""},"  ",{"$f":"IF(COUNTIF(CU$2:CU275,CU275)=1,CU275,\"\")","v":""},"","","",""]
[{"$nulls":48},{"$f":"+IF(AX276=\"\",\"\",MAX(AW$1:AW275)+1)","v":""},{"$f":"IF(Compliance_Options!B298=\"\",\"\",Compliance_Options!B298)","v":""},{"$f":"IF(Compliance_Options!C298=\"\",\"\",Compliance_Options!C298)","v":""},{"$f":"IF(Compliance_Options!D298=\"\",\"\",Compliance_Options!D298)","v":""},{"$f":"IF(Compliance_Options!E298=\"\",\"\",Compliance_Options!E298)","v":""},{"$f":"IF(Compliance_Options!F298=\"\",\"\",Compliance_Options!F298)","v":""},"    ",{"$f":"IF(COUNTIF(BC$2:BC276,BC276)=1,BC276,\"\")","v":""},"","","","","","","",{"$f":"+IF(BK276=\"\",\"\",MAX(BL$1:BL275)+1)","v":""},"","","","","","","",{"$f":"+IF(BS276=\"\",\"\",MAX(BT$1:BT275)+1)","v":""},"","","","","","","",{"$f":"+IF(CA276=\"\",\"\",MAX(CB$1:CB275)+1)","v":""},"","","","","","","",{"$f":"+IF(CI276=\"\",\"\",MAX(CJ$1:CJ275)+1)","v":""},"","","","","",null,{"$f":"+IF(CR276=\"\",\"\",MAX(CQ$1:CQ275)+1)","v":""},{"$f":"IF(Compliance_Options!B298=\"\",\"\",Compliance_Options!B298)","v":""},{"$f":"IF(Compliance_Options!C298=\"\",\"\",Compliance_Options!C298)","v":""},{"$f":"IF(Compliance_Options!D298=\"\",\"\",Compliance_Options!D298)","v":""},"  ",{"$f":"IF(COUNTIF(CU$2:CU276,CU276)=1,CU276,\"\")","v":""},"","","",""]
[{"$nulls":48},{"$f":"+IF(AX277=\"\",\"\",MAX(AW$1:AW276)+1)","v":""},{"$f":"IF(Compliance_Options!B299=\"\",\"\",Compliance_Options!B299)","v":""},{"$f":"IF(Compliance_Options!C299=\"\",\"\",Compliance_Options!C299)","v":""},{"$f":"IF(Compliance_Options!D299=\"\",\"\",Compliance_Options!D299)","v":""},{"$f":"IF(Compliance_Options!E299=\"\",\"\",Compliance_Options!E299)","v":""},{"$f":"IF(Compliance_Options!F299=\"\",\"\",Compliance_Options!F299)","v":""},"    ",{"$f":"IF(COUNTIF(BC$2:BC277,BC277)=1,BC277,\"\")","v":""},"","","","","","","",{"$f":"+IF(BK277=\"\",\"\",MAX(BL$1:BL276)+1)","v":""},"","","","","","","",{"$f":"+IF(BS277=\"\",\"\",MAX(BT$1:BT276)+1)","v":""},"","","","","","","",{"$f":"+IF(CA277=\"\",\"\",MAX(CB$1:CB276)+1)","v":""},"","","","","","","",{"$f":"+IF(CI277=\"\",\"\",MAX(CJ$1:CJ276)+1)","v":""},"","","","","",null,{"$f":"+IF(CR277=\"\",\"\",MAX(CQ$1:CQ276)+1)","v":""},{"$f":"IF(Compliance_Options!B299=\"\",\"\",Compliance_Options!B299)","v":""},{"$f":"IF(Compliance_Options!C299=\"\",\"\",Compliance_Options!C299)","v":""},{"$f":"IF(Compliance_Options!D299=\"\",\"\",Compliance_Options!D299)","v":""},"  ",{"$f":"IF(COUNTIF(CU$2:CU277,CU277)=1,CU277,\"\")","v":""},"","","",""]
[{"$nulls":48},{"$f":"+IF(AX278=\"\",\"\",MAX(AW$1:AW277)+1)","v":""},{"$f":"IF(Compliance_Options!B300=\"\",\"\",Compliance_Options!B300)","v":""},{"$f":"IF(Compliance_Options!C300=\"\",\"\",Compliance_Options!C300)","v":""},{"$f":"IF(Compliance_Options!D300=\"\",\"\",Compliance_Options!D300)","v":""},{"$f":"IF(Compliance_Options!E300=\"\",\"\",Compliance_Options!E300)","v":""},{"$f":"IF(Compliance_Options!F300=\"\",\"\",Compliance_Options!F300)","v":""},"    ",{"$f":"IF(COUNTIF(BC$2:BC278,BC278)=1,BC278,\"\")","v":""},"","","","","","","",{"$f":"+IF(BK278=\"\",\"\",MAX(BL$1:BL277)+1)","v":""},"","","","","","","",{"$f":"+IF(BS278=\"\",\"\",MAX(BT$1:BT277)+1)","v":""},"","","","","","","",{"$f":"+IF(CA278=\"\",\"\",MAX(CB$1:CB277)+1)","v":""},"","","","","","","",{"$f":"+IF(CI278=\"\",\"\",MAX(CJ$1:CJ277)+1)","v":""},"","","","","",null,{"$f":"+IF(CR278=\"\",\"\",MAX(CQ$1:CQ277)+1)","v":""},{"$f":"IF(Compliance_Options!B300=\"\",\"\",Compliance_Options!B300)","v":""},{"$f":"IF(Compliance_Options!C300=\"\",\"\",Compliance_Options!C300)","v":""},{"$f":"IF(Compliance_Options!D300=\"\",\"\",Compliance_Options!D300)","v":""},"  ",{"$f":"IF(COUNTIF(CU$2:CU278,CU278)=1,CU278,\"\")","v":""},"","","",""]
[{"$nulls":48},{"$f":"+IF(AX279=\"\",\"\",MAX(AW$1:AW278)+1)","v":""},{"$f":"IF(Compliance_Options!B301=\"\",\"\",Compliance_Options!B301)","v":""},{"$f":"IF(Compliance_Options!C301=\"\",\"\",Compliance_Options!C301)","v":""},{"$f":"IF(Compliance_Options!D301=\"\",\"\",Compliance_Options!D301)","v":""},{"$f":"IF(Compliance_Options!E301=\"\",\"\",Compliance_Options!E301)","v":""},{"$f":"IF(Compliance_Options!F301=\"\",\"\",Compliance_Options!F301)","v":""},"    ",{"$f":"IF(COUNTIF(BC$2:BC279,BC279)=1,BC279,\"\")","v":""},"","","","","","","",{"$f":"+IF(BK279=\"\",\"\",MAX(BL$1:BL278)+1)","v":""},"","","","","","","",{"$f":"+IF(BS279=\"\",\"\",MAX(BT$1:BT278)+1)","v":""},"","","","","","","",{"$f":"+IF(CA279=\"\",\"\",MAX(CB$1:CB278)+1)","v":""},"","","","","","","",{"$f":"+IF(CI279=\"\",\"\",MAX(CJ$1:CJ278)+1)","v":""},"","","","","",null,{"$f":"+IF(CR279=\"\",\"\",MAX(CQ$1:CQ278)+1)","v":""},{"$f":"IF(Compliance_Options!B301=\"\",\"\",Compliance_Options!B301)","v":""},{"$f":"IF(Compliance_Options!C301=\"\",\"\",Compliance_Options!C301)","v":""},{"$f":"IF(Compliance_Options!D301=\"\",\"\",Compliance_Options!D301)","v":""},"  ",{"$f":"IF(COUNTIF(CU$2:CU279,CU279)=1,CU279,\"\")","v":""},"","","",""]
[{"$nulls":48},{"$f":"+IF(AX280=\"\",\"\",MAX(AW$1:AW279)+1)","v":""},{"$f":"IF(Compliance_Options!B302=\"\",\"\",Compliance_Options!B302)","v":""},{"$f":"IF(Compliance_Options!C302=\"\",\"\",Compliance_Options!C302)","v":""},{"$f":"IF(Compliance_Options!D302=\"\",\"\",Compliance_Options!D302)","v":""},{"$f":"IF(Compliance_Options!E302=\"\",\"\",Compliance_Options!E302)","v":""},{"$f":"IF(Compliance_Options!F302=\"\",\"\",Compliance_Options!F302)","v":""},"    ",{"$f":"IF(COUNTIF(BC$2:BC280,BC280)=1,BC280,\"\")","v":""},"","","","","","","",{"$f":"+IF(BK280=\"\",\"\",MAX(BL$1:BL279)+1)","v":""},"","","","","","","",{"$f":"+IF(BS280=\"\",\"\",MAX(BT$1:BT279)+1)","v":""},"","","","","","","",{"$f":"+IF(CA280=\"\",\"\",MAX(CB$1:CB279)+1)","v":""},"","","","","","","",{"$f":"+IF(CI280=\"\",\"\",MAX(CJ$1:CJ279)+1)","v":""},"","","","","",null,{"$f":"+IF(CR280=\"\",\"\",MAX(CQ$1:CQ279)+1)","v":""},{"$f":"IF(Compliance_Options!B302=\"\",\"\",Compliance_Options!B302)","v":""},{"$f":"IF(Compliance_Options!C302=\"\",\"\",Compliance_Options!C302)","v":""},{"$f":"IF(Compliance_Options!D302=\"\",\"\",Compliance_Options!D302)","v":""},"  ",{"$f":"IF(COUNTIF(CU$2:CU280,CU280)=1,CU280,\"\")","v":""},"","","",""]
[{"$nulls":48},{"$f":"+IF(AX281=\"\",\"\",MAX(AW$1:AW280)+1)","v":""},{"$f":"IF(Compliance_Options!B303=\"\",\"\",Compliance_Options!B303)","v":""},{"$f":"IF(Compliance_Options!C303=\"\",\"\",Compliance_Options!C303)","v":""},{"$f":"IF(Compliance_Options!D303=\"\",\"\",Compliance_Options!D303)","v":""},{"$f":"IF(Compliance_Options!E303=\"\",\"\",Compliance_Options!E303)","v":""},{"$f":"IF(Compliance_Options!F303=\"\",\"\",Compliance_Options!F303)","v":""},"    ",{"$f":"IF(COUNTIF(BC$2:BC281,BC281)=1,BC281,\"\")","v":""},"","","","","","","",{"$f":"+IF(BK281=\"\",\"\",MAX(BL$1:BL280)+1)","v":""},"","","","","","","",{"$f":"+IF(BS281=\"\",\"\",MAX(BT$1:BT280)+1)","v":""},"","","","","","","",{"$f":"+IF(CA281=\"\",\"\",MAX(CB$1:CB280)+1)","v":""},"","","","","","","",{"$f":"+IF(CI281=\"\",\"\",MAX(CJ$1:CJ280)+1)","v":""},"","","","","",null,{"$f":"+IF(CR281=\"\",\"\",MAX(CQ$1:CQ280)+1)","v":""},{"$f":"IF(Compliance_Options!B303=\"\",\"\",Compliance_Options!B303)","v":""},{"$f":"IF(Compliance_Options!C303=\"\",\"\",Compliance_Options!C303)","v":""},{"$f":"IF(Compliance_Options!D303=\"\",\"\",Compliance_Options!D303)","v":""},"  ",{"$f":"IF(COUNTIF(CU$2:CU281,CU281)=1,CU281,\"\")","v":""},"","","",""]
[{"$nulls":48},{"$f":"+IF(AX282=\"\",\"\",MAX(AW$1:AW281)+1)","v":""},{"$f":"IF(Compliance_Options!B304=\"\",\"\",Compliance_Options!B304)","v":""},{"$f":"IF(Compliance_Options!C304=\"\",\"\",Compliance_Options!C304)","v":""},{"$f":"IF(Compliance_Options!D304=\"\",\"\",Compliance_Options!D304)","v":""},{"$f":"IF(Compliance_Options!E304=\"\",\"\",Compliance_Options!E304)","v":""},{"$f":"IF(Compliance_Options!F304=\"\",\"\",Compliance_Options!F304)","v":""},"    ",{"$f":"IF(COUNTIF(BC$2:BC282,BC282)=1,BC282,\"\")","v":""},"","","","","","","",{"$f":"+IF(BK282=\"\",\"\",MAX(BL$1:BL281)+1)","v":""},"","","","","","","",{"$f":"+IF(BS282=\"\",\"\",MAX(BT$1:BT281)+1)","v":""},"","","","","","","",{"$f":"+IF(CA282=\"\",\"\",MAX(CB$1:CB281)+1)","v":""},"","","","","","","",{"$f":"+IF(CI282=\"\",\"\",MAX(CJ$1:CJ281)+1)","v":""},"","","","","",null,{"$f":"+IF(CR282=\"\",\"\",MAX(CQ$1:CQ281)+1)","v":""},{"$f":"IF(Compliance_Options!B304=\"\",\"\",Compliance_Options!B304)","v":""},{"$f":"IF(Compliance_Options!C304=\"\",\"\",Compliance_Options!C304)","v":""},{"$f":"IF(Compliance_Options!D304=\"\",\"\",Compliance_Options!D304)","v":""},"  ",{"$f":"IF(COUNTIF(CU$2:CU282,CU282)=1,CU282,\"\")","v":""},"","","",""]
[{"$nulls":48},{"$f":"+IF(AX283=\"\",\"\",MAX(AW$1:AW282)+1)","v":""},{"$f":"IF(Compliance_Options!B305=\"\",\"\",Compliance_Options!B305)","v":""},{"$f":"IF(Compliance_Options!C305=\"\",\"\",Compliance_Options!C305)","v":""},{"$f":"IF(Compliance_Options!D305=\"\",\"\",Compliance_Options!D305)","v":""},{"$f":"IF(Compliance_Options!E305=\"\",\"\",Compliance_Options!E305)","v":""},{"$f":"IF(Compliance_Options!F305=\"\",\"\",Compliance_Options!F305)","v":""},"    ",{"$f":"IF(COUNTIF(BC$2:BC283,BC283)=1,BC283,\"\")","v":""},"","","","","","","",{"$f":"+IF(BK283=\"\",\"\",MAX(BL$1:BL282)+1)","v":""},"","","","","","","",{"$f":"+IF(BS283=\"\",\"\",MAX(BT$1:BT282)+1)","v":""},"","","","","","","",{"$f":"+IF(CA283=\"\",\"\",MAX(CB$1:CB282)+1)","v":""},"","","","","","","",{"$f":"+IF(CI283=\"\",\"\",MAX(CJ$1:CJ282)+1)","v":""},"","","","","",null,{"$f":"+IF(CR283=\"\",\"\",MAX(CQ$1:CQ282)+1)","v":""},{"$f":"IF(Compliance_Options!B305=\"\",\"\",Compliance_Options!B305)","v":""},{"$f":"IF(Compliance_Options!C305=\"\",\"\",Compliance_Options!C305)","v":""},{"$f":"IF(Compliance_Options!D305=\"\",\"\",Compliance_Options!D305)","v":""},"  ",{"$f":"IF(COUNTIF(CU$2:CU283,CU283)=1,CU283,\"\")","v":""},"","","",""]
[{"$nulls":48},{"$f":"+IF(AX284=\"\",\"\",MAX(AW$1:AW283)+1)","v":""},{"$f":"IF(Compliance_Options!B306=\"\",\"\",Compliance_Options!B306)","v":""},{"$f":"IF(Compliance_Options!C306=\"\",\"\",Compliance_Options!C306)","v":""},{"$f":"IF(Compliance_Options!D306=\"\",\"\",Compliance_Options!D306)","v":""},{"$f":"IF(Compliance_Options!E306=\"\",\"\",Compliance_Options!E306)","v":""},{"$f":"IF(Compliance_Options!F306=\"\",\"\",Compliance_Options!F306)","v":""},"    ",{"$f":"IF(COUNTIF(BC$2:BC284,BC284)=1,BC284,\"\")","v":""},"","","","","","","",{"$f":"+IF(BK284=\"\",\"\",MAX(BL$1:BL283)+1)","v":""},"","","","","","","",{"$f":"+IF(BS284=\"\",\"\",MAX(BT$1:BT283)+1)","v":""},"","","","","","","",{"$f":"+IF(CA284=\"\",\"\",MAX(CB$1:CB283)+1)","v":""},"","","","","","","",{"$f":"+IF(CI284=\"\",\"\",MAX(CJ$1:CJ283)+1)","v":""},"","","","","",null,{"$f":"+IF(CR284=\"\",\"\",MAX(CQ$1:CQ283)+1)","v":""},{"$f":"IF(Compliance_Options!B306=\"\",\"\",Compliance_Options!B306)","v":""},{"$f":"IF(Compliance_Options!C306=\"\",\"\",Compliance_Options!C306)","v":""},{"$f":"IF(Compliance_Options!D306=\"\",\"\",Compliance_Options!D306)","v":""},"  ",{"$f":"IF(COUNTIF(CU$2:CU284,CU284)=1,CU284,\"\")","v":""},"","","",""]
[{"$nulls":48},{"$f":"+IF(AX285=\"\",\"\",MAX(AW$1:AW284)+1)","v":""},{"$f":"IF(Compliance_Options!B307=\"\",\"\",Compliance_Options!B307)","v":""},{"$f":"IF(Compliance_Options!C307=\"\",\"\",Compliance_Options!C307)","v":""},{"$f":"IF(Compliance_Options!D307=\"\",\"\",Compliance_Options!D307)","v":""},{"$f":"IF(Compliance_Options!E307=\"\",\"\",Compliance_Options!E307)","v":""},{"$f":"IF(Compliance_Options!F307=\"\",\"\",Compliance_Options!F307)","v":""},"    ",{"$f":"IF(COUNTIF(BC$2:BC285,BC285)=1,BC285,\"\")","v":""},"","","","","","","",{"$f":"+IF(BK285=\"\",\"\",MAX(BL$1:BL284)+1)","v":""},"","","","","","","",{"$f":"+IF(BS285=\"\",\"\",MAX(BT$1:BT284)+1)","v":""},"","","","","","","",{"$f":"+IF(CA285=\"\",\"\",MAX(CB$1:CB284)+1)","v":""},"","","","","","","",{"$f":"+IF(CI285=\"\",\"\",MAX(CJ$1:CJ284)+1)","v":""},"","","","","",null,{"$f":"+IF(CR285=\"\",\"\",MAX(CQ$1:CQ284)+1)","v":""},{"$f":"IF(Compliance_Options!B307=\"\",\"\",Compliance_Options!B307)","v":""},{"$f":"IF(Compliance_Options!C307=\"\",\"\",Compliance_Options!C307)","v":""},{"$f":"IF(Compliance_Options!D307=\"\",\"\",Compliance_Options!D307)","v":""},"  ",{"$f":"IF(COUNTIF(CU$2:CU285,CU285)=1,CU285,\"\")","v":""},"","","",""]
[{"$nulls":48},{"$f":"+IF(AX286=\"\",\"\",MAX(AW$1:AW285)+1)","v":""},{"$f":"IF(Compliance_Options!B308=\"\",\"\",Compliance_Options!B308)","v":""},{"$f":"IF(Compliance_Options!C308=\"\",\"\",Compliance_Options!C308)","v":""},{"$f":"IF(Compliance_Options!D308=\"\",\"\",Compliance_Options!D308)","v":""},{"$f":"IF(Compliance_Options!E308=\"\",\"\",Compliance_Options!E308)","v":""},{"$f":"IF(Compliance_Options!F308=\"\",\"\",Compliance_Options!F308)","v":""},"    ",{"$f":"IF(COUNTIF(BC$2:BC286,BC286)=1,BC286,\"\")","v":""},"","","","","","","",{"$f":"+IF(BK286=\"\",\"\",MAX(BL$1:BL285)+1)","v":""},"","","","","","","",{"$f":"+IF(BS286=\"\",\"\",MAX(BT$1:BT285)+1)","v":""},"","","","","","","",{"$f":"+IF(CA286=\"\",\"\",MAX(CB$1:CB285)+1)","v":""},"","","","","","","",{"$f":"+IF(CI286=\"\",\"\",MAX(CJ$1:CJ285)+1)","v":""},"","","","","",null,{"$f":"+IF(CR286=\"\",\"\",MAX(CQ$1:CQ285)+1)","v":""},{"$f":"IF(Compliance_Options!B308=\"\",\"\",Compliance_Options!B308)","v":""},{"$f":"IF(Compliance_Options!C308=\"\",\"\",Compliance_Options!C308)","v":""},{"$f":"IF(Compliance_Options!D308=\"\",\"\",Compliance_Options!D308)","v":""},"  ",{"$f":"IF(COUNTIF(CU$2:CU286,CU286)=1,CU286,\"\")","v":""},"","","",""]
[{"$nulls":48},{"$f":"+IF(AX287=\"\",\"\",MAX(AW$1:AW286)+1)","v":""},{"$f":"IF(Compliance_Options!B309=\"\",\"\",Compliance_Options!B309)","v":""},{"$f":"IF(Compliance_Options!C309=\"\",\"\",Compliance_Options!C309)","v":""},{"$f":"IF(Compliance_Options!D309=\"\",\"\",Compliance_Options!D309)","v":""},{"$f":"IF(Compliance_Options!E309=\"\",\"\",Compliance_Options!E309)","v":""},{"$f":"IF(Compliance_Options!F309=\"\",\"\",Compliance_Options!F309)","v":""},"    ",{"$f":"IF(COUNTIF(BC$2:BC287,BC287)=1,BC287,\"\")","v":""},"","","","","","","",{"$f":"+IF(BK287=\"\",\"\",MAX(BL$1:BL286)+1)","v":""},"","","","","","","",{"$f":"+IF(BS287=\"\",\"\",MAX(BT$1:BT286)+1)","v":""},"","","","","","","",{"$f":"+IF(CA287=\"\",\"\",MAX(CB$1:CB286)+1)","v":""},"","","","","","","",{"$f":"+IF(CI287=\"\",\"\",MAX(CJ$1:CJ286)+1)","v":""},"","","","","",null,{"$f":"+IF(CR287=\"\",\"\",MAX(CQ$1:CQ286)+1)","v":""},{"$f":"IF(Compliance_Options!B309=\"\",\"\",Compliance_Options!B309)","v":""},{"$f":"IF(Compliance_Options!C309=\"\",\"\",Compliance_Options!C309)","v":""},{"$f":"IF(Compliance_Options!D309=\"\",\"\",Compliance_Options!D309)","v":""},"  ",{"$f":"IF(COUNTIF(CU$2:CU287,CU287)=1,CU287,\"\")","v":""},"","","",""]
[{"$nulls":48},{"$f":"+IF(AX288=\"\",\"\",MAX(AW$1:AW287)+1)","v":""},{"$f":"IF(Compliance_Options!B310=\"\",\"\",Compliance_Options!B310)","v":""},{"$f":"IF(Compliance_Options!C310=\"\",\"\",Compliance_Options!C310)","v":""},{"$f":"IF(Compliance_Options!D310=\"\",\"\",Compliance_Options!D310)","v":""},{"$f":"IF(Compliance_Options!E310=\"\",\"\",Compliance_Options!E310)","v":""},{"$f":"IF(Compliance_Options!F310=\"\",\"\",Compliance_Options!F310)","v":""},"    ",{"$f":"IF(COUNTIF(BC$2:BC288,BC288)=1,BC288,\"\")","v":""},"","","","","","","",{"$f":"+IF(BK288=\"\",\"\",MAX(BL$1:BL287)+1)","v":""},"","","","","","","",{"$f":"+IF(BS288=\"\",\"\",MAX(BT$1:BT287)+1)","v":""},"","","","","","","",{"$f":"+IF(CA288=\"\",\"\",MAX(CB$1:CB287)+1)","v":""},"","","","","","","",{"$f":"+IF(CI288=\"\",\"\",MAX(CJ$1:CJ287)+1)","v":""},"","","","","",null,{"$f":"+IF(CR288=\"\",\"\",MAX(CQ$1:CQ287)+1)","v":""},{"$f":"IF(Compliance_Options!B310=\"\",\"\",Compliance_Options!B310)","v":""},{"$f":"IF(Compliance_Options!C310=\"\",\"\",Compliance_Options!C310)","v":""},{"$f":"IF(Compliance_Options!D310=\"\",\"\",Compliance_Options!D310)","v":""},"  ",{"$f":"IF(COUNTIF(CU$2:CU288,CU288)=1,CU288,\"\")","v":""},"","","",""]
[{"$nulls":48},{"$f":"+IF(AX289=\"\",\"\",MAX(AW$1:AW288)+1)","v":""},{"$f":"IF(Compliance_Options!B311=\"\",\"\",Compliance_Options!B311)","v":""},{"$f":"IF(Compliance_Options!C311=\"\",\"\",Compliance_Options!C311)","v":""},{"$f":"IF(Compliance_Options!D311=\"\",\"\",Compliance_Options!D311)","v":""},{"$f":"IF(Compliance_Options!E311=\"\",\"\",Compliance_Options!E311)","v":""},{"$f":"IF(Compliance_Options!F311=\"\",\"\",Compliance_Options!F311)","v":""},"    ",{"$f":"IF(COUNTIF(BC$2:BC289,BC289)=1,BC289,\"\")","v":""},"","","","","","","",{"$f":"+IF(BK289=\"\",\"\",MAX(BL$1:BL288)+1)","v":""},"","","","","","","",{"$f":"+IF(BS289=\"\",\"\",MAX(BT$1:BT288)+1)","v":""},"","","","","","","",{"$f":"+IF(CA289=\"\",\"\",MAX(CB$1:CB288)+1)","v":""},"","","","","","","",{"$f":"+IF(CI289=\"\",\"\",MAX(CJ$1:CJ288)+1)","v":""},"","","","","",null,{"$f":"+IF(CR289=\"\",\"\",MAX(CQ$1:CQ288)+1)","v":""},{"$f":"IF(Compliance_Options!B311=\"\",\"\",Compliance_Options!B311)","v":""},{"$f":"IF(Compliance_Options!C311=\"\",\"\",Compliance_Options!C311)","v":""},{"$f":"IF(Compliance_Options!D311=\"\",\"\",Compliance_Options!D311)","v":""},"  ",{"$f":"IF(COUNTIF(CU$2:CU289,CU289)=1,CU289,\"\")","v":""},"","","",""]
[{"$nulls":48},{"$f":"+IF(AX290=\"\",\"\",MAX(AW$1:AW289)+1)","v":""},{"$f":"IF(Compliance_Options!B312=\"\",\"\",Compliance_Options!B312)","v":""},{"$f":"IF(Compliance_Options!C312=\"\",\"\",Compliance_Options!C312)","v":""},{"$f":"IF(Compliance_Options!D312=\"\",\"\",Compliance_Options!D312)","v":""},{"$f":"IF(Compliance_Options!E312=\"\",\"\",Compliance_Options!E312)","v":""},{"$f":"IF(Compliance_Options!F312=\"\",\"\",Compliance_Options!F312)","v":""},"    ",{"$f":"IF(COUNTIF(BC$2:BC290,BC290)=1,BC290,\"\")","v":""},"","","","","","","",{"$f":"+IF(BK290=\"\",\"\",MAX(BL$1:BL289)+1)","v":""},"","","","","","","",{"$f":"+IF(BS290=\"\",\"\",MAX(BT$1:BT289)+1)","v":""},"","","","","","","",{"$f":"+IF(CA290=\"\",\"\",MAX(CB$1:CB289)+1)","v":""},"","","","","","","",{"$f":"+IF(CI290=\"\",\"\",MAX(CJ$1:CJ289)+1)","v":""},"","","","","",null,{"$f":"+IF(CR290=\"\",\"\",MAX(CQ$1:CQ289)+1)","v":""},{"$f":"IF(Compliance_Options!B312=\"\",\"\",Compliance_Options!B312)","v":""},{"$f":"IF(Compliance_Options!C312=\"\",\"\",Compliance_Options!C312)","v":""},{"$f":"IF(Compliance_Options!D312=\"\",\"\",Compliance_Options!D312)","v":""},"  ",{"$f":"IF(COUNTIF(CU$2:CU290,CU290)=1,CU290,\"\")","v":""},"","","",""]
[{"$nulls":48},{"$f":"+IF(AX291=\"\",\"\",MAX(AW$1:AW290)+1)","v":""},{"$f":"IF(Compliance_Options!B313=\"\",\"\",Compliance_Options!B313)","v":""},{"$f":"IF(Compliance_Options!C313=\"\",\"\",Compliance_Options!C313)","v":""},{"$f":"IF(Compliance_Options!D313=\"\",\"\",Compliance_Options!D313)","v":""},{"$f":"IF(Compliance_Options!E313=\"\",\"\",Compliance_Options!E313)","v":""},{"$f":"IF(Compliance_Options!F313=\"\",\"\",Compliance_Options!F313)","v":""},"    ",{"$f":"IF(COUNTIF(BC$2:BC291,BC291)=1,BC291,\"\")","v":""},"","","","","","","",{"$f":"+IF(BK291=\"\",\"\",MAX(BL$1:BL290)+1)","v":""},"","","","","","","",{"$f":"+IF(BS291=\"\",\"\",MAX(BT$1:BT290)+1)","v":""},"","","","","","","",{"$f":"+IF(CA291=\"\",\"\",MAX(CB$1:CB290)+1)","v":""},"","","","","","","",{"$f":"+IF(CI291=\"\",\"\",MAX(CJ$1:CJ290)+1)","v":""},"","","","","",null,{"$f":"+IF(CR291=\"\",\"\",MAX(CQ$1:CQ290)+1)","v":""},{"$f":"IF(Compliance_Options!B313=\"\",\"\",Compliance_Options!B313)","v":""},{"$f":"IF(Compliance_Options!C313=\"\",\"\",Compliance_Options!C313)","v":""},{"$f":"IF(Compliance_Options!D313=\"\",\"\",Compliance_Options!D313)","v":""},"  ",{"$f":"IF(COUNTIF(CU$2:CU291,CU291)=1,CU291,\"\")","v":""},"","","",""]
[{"$nulls":48},{"$f":"+IF(AX292=\"\",\"\",MAX(AW$1:AW291)+1)","v":""},{"$f":"IF(Compliance_Options!B314=\"\",\"\",Compliance_Options!B314)","v":""},{"$f":"IF(Compliance_Options!C314=\"\",\"\",Compliance_Options!C314)","v":""},{"$f":"IF(Compliance_Options!D314=\"\",\"\",Compliance_Options!D314)","v":""},{"$f":"IF(Compliance_Options!E314=\"\",\"\",Compliance_Options!E314)","v":""},{"$f":"IF(Compliance_Options!F314=\"\",\"\",Compliance_Options!F314)","v":""},"    ",{"$f":"IF(COUNTIF(BC$2:BC292,BC292)=1,BC292,\"\")","v":""},"","","","","","","",{"$f":"+IF(BK292=\"\",\"\",MAX(BL$1:BL291)+1)","v":""},"","","","","","","",{"$f":"+IF(BS292=\"\",\"\",MAX(BT$1:BT291)+1)","v":""},"","","","","","","",{"$f":"+IF(CA292=\"\",\"\",MAX(CB$1:CB291)+1)","v":""},"","","","","","","",{"$f":"+IF(CI292=\"\",\"\",MAX(CJ$1:CJ291)+1)","v":""},"","","","","",null,{"$f":"+IF(CR292=\"\",\"\",MAX(CQ$1:CQ291)+1)","v":""},{"$f":"IF(Compliance_Options!B314=\"\",\"\",Compliance_Options!B314)","v":""},{"$f":"IF(Compliance_Options!C314=\"\",\"\",Compliance_Options!C314)","v":""},{"$f":"IF(Compliance_Options!D314=\"\",\"\",Compliance_Options!D314)","v":""},"  ",{"$f":"IF(COUNTIF(CU$2:CU292,CU292)=1,CU292,\"\")","v":""},"","","",""]
[{"$nulls":48},{"$f":"+IF(AX293=\"\",\"\",MAX(AW$1:AW292)+1)","v":""},{"$f":"IF(Compliance_Options!B315=\"\",\"\",Compliance_Options!B315)","v":""},{"$f":"IF(Compliance_Options!C315=\"\",\"\",Compliance_Options!C315)","v":""},{"$f":"IF(Compliance_Options!D315=\"\",\"\",Compliance_Options!D315)","v":""},{"$f":"IF(Compliance_Options!E315=\"\",\"\",Compliance_Options!E315)","v":""},{"$f":"IF(Compliance_Options!F315=\"\",\"\",Compliance_Options!F315)","v":""},"    ",{"$f":"IF(COUNTIF(BC$2:BC293,BC293)=1,BC293,\"\")","v":""},"","","","","","","",{"$f":"+IF(BK293=\"\",\"\",MAX(BL$1:BL292)+1)","v":""},"","","","","","","",{"$f":"+IF(BS293=\"\",\"\",MAX(BT$1:BT292)+1)","v":""},"","","","","","","",{"$f":"+IF(CA293=\"\",\"\",MAX(CB$1:CB292)+1)","v":""},"","","","","","","",{"$f":"+IF(CI293=\"\",\"\",MAX(CJ$1:CJ292)+1)","v":""},"","","","","",null,{"$f":"+IF(CR293=\"\",\"\",MAX(CQ$1:CQ292)+1)","v":""},{"$f":"IF(Compliance_Options!B315=\"\",\"\",Compliance_Options!B315)","v":""},{"$f":"IF(Compliance_Options!C315=\"\",\"\",Compliance_Options!C315)","v":""},{"$f":"IF(Compliance_Options!D315=\"\",\"\",Compliance_Options!D315)","v":""},"  ",{"$f":"IF(COUNTIF(CU$2:CU293,CU293)=1,CU293,\"\")","v":""},"","","",""]
[{"$nulls":48},{"$f":"+IF(AX294=\"\",\"\",MAX(AW$1:AW293)+1)","v":""},{"$f":"IF(Compliance_Options!B316=\"\",\"\",Compliance_Options!B316)","v":""},{"$f":"IF(Compliance_Options!C316=\"\",\"\",Compliance_Options!C316)","v":""},{"$f":"IF(Compliance_Options!D316=\"\",\"\",Compliance_Options!D316)","v":""},{"$f":"IF(Compliance_Options!E316=\"\",\"\",Compliance_Options!E316)","v":""},{"$f":"IF(Compliance_Options!F316=\"\",\"\",Compliance_Options!F316)","v":""},"    ",{"$f":"IF(COUNTIF(BC$2:BC294,BC294)=1,BC294,\"\")","v":""},"","","","","","","",{"$f":"+IF(BK294=\"\",\"\",MAX(BL$1:BL293)+1)","v":""},"","","","","","","",{"$f":"+IF(BS294=\"\",\"\",MAX(BT$1:BT293)+1)","v":""},"","","","","","","",{"$f":"+IF(CA294=\"\",\"\",MAX(CB$1:CB293)+1)","v":""},"","","","","","","",{"$f":"+IF(CI294=\"\",\"\",MAX(CJ$1:CJ293)+1)","v":""},"","","","","",null,{"$f":"+IF(CR294=\"\",\"\",MAX(CQ$1:CQ293)+1)","v":""},{"$f":"IF(Compliance_Options!B316=\"\",\"\",Compliance_Options!B316)","v":""},{"$f":"IF(Compliance_Options!C316=\"\",\"\",Compliance_Options!C316)","v":""},{"$f":"IF(Compliance_Options!D316=\"\",\"\",Compliance_Options!D316)","v":""},"  ",{"$f":"IF(COUNTIF(CU$2:CU294,CU294)=1,CU294,\"\")","v":""},"","","",""]
[{"$nulls":48},{"$f":"+IF(AX295=\"\",\"\",MAX(AW$1:AW294)+1)","v":""},{"$f":"IF(Compliance_Options!B317=\"\",\"\",Compliance_Options!B317)","v":""},{"$f":"IF(Compliance_Options!C317=\"\",\"\",Compliance_Options!C317)","v":""},{"$f":"IF(Compliance_Options!D317=\"\",\"\",Compliance_Options!D317)","v":""},{"$f":"IF(Compliance_Options!E317=\"\",\"\",Compliance_Options!E317)","v":""},{"$f":"IF(Compliance_Options!F317=\"\",\"\",Compliance_Options!F317)","v":""},"    ",{"$f":"IF(COUNTIF(BC$2:BC295,BC295)=1,BC295,\"\")","v":""},"","","","","","","",{"$f":"+IF(BK295=\"\",\"\",MAX(BL$1:BL294)+1)","v":""},"","","","","","","",{"$f":"+IF(BS295=\"\",\"\",MAX(BT$1:BT294)+1)","v":""},"","","","","","","",{"$f":"+IF(CA295=\"\",\"\",MAX(CB$1:CB294)+1)","v":""},"","","","","","","",{"$f":"+IF(CI295=\"\",\"\",MAX(CJ$1:CJ294)+1)","v":""},"","","","","",null,{"$f":"+IF(CR295=\"\",\"\",MAX(CQ$1:CQ294)+1)","v":""},{"$f":"IF(Compliance_Options!B317=\"\",\"\",Compliance_Options!B317)","v":""},{"$f":"IF(Compliance_Options!C317=\"\",\"\",Compliance_Options!C317)","v":""},{"$f":"IF(Compliance_Options!D317=\"\",\"\",Compliance_Options!D317)","v":""},"  ",{"$f":"IF(COUNTIF(CU$2:CU295,CU295)=1,CU295,\"\")","v":""},"","","",""]
[{"$nulls":48},{"$f":"+IF(AX296=\"\",\"\",MAX(AW$1:AW295)+1)","v":""},{"$f":"IF(Compliance_Options!B318=\"\",\"\",Compliance_Options!B318)","v":""},{"$f":"IF(Compliance_Options!C318=\"\",\"\",Compliance_Options!C318)","v":""},{"$f":"IF(Compliance_Options!D318=\"\",\"\",Compliance_Options!D318)","v":""},{"$f":"IF(Compliance_Options!E318=\"\",\"\",Compliance_Options!E318)","v":""},{"$f":"IF(Compliance_Options!F318=\"\",\"\",Compliance_Options!F318)","v":""},"    ",{"$f":"IF(COUNTIF(BC$2:BC296,BC296)=1,BC296,\"\")","v":""},"","","","","","","",{"$f":"+IF(BK296=\"\",\"\",MAX(BL$1:BL295)+1)","v":""},"","","","","","","",{"$f":"+IF(BS296=\"\",\"\",MAX(BT$1:BT295)+1)","v":""},"","","","","","","",{"$f":"+IF(CA296=\"\",\"\",MAX(CB$1:CB295)+1)","v":""},"","","","","","","",{"$f":"+IF(CI296=\"\",\"\",MAX(CJ$1:CJ295)+1)","v":""},"","","","","",null,{"$f":"+IF(CR296=\"\",\"\",MAX(CQ$1:CQ295)+1)","v":""},{"$f":"IF(Compliance_Options!B318=\"\",\"\",Compliance_Options!B318)","v":""},{"$f":"IF(Compliance_Options!C318=\"\",\"\",Compliance_Options!C318)","v":""},{"$f":"IF(Compliance_Options!D318=\"\",\"\",Compliance_Options!D318)","v":""},"  ",{"$f":"IF(COUNTIF(CU$2:CU296,CU296)=1,CU296,\"\")","v":""},"","","",""]
[{"$nulls":48},{"$f":"+IF(AX297=\"\",\"\",MAX(AW$1:AW296)+1)","v":""},{"$f":"IF(Compliance_Options!B319=\"\",\"\",Compliance_Options!B319)","v":""},{"$f":"IF(Compliance_Options!C319=\"\",\"\",Compliance_Options!C319)","v":""},{"$f":"IF(Compliance_Options!D319=\"\",\"\",Compliance_Options!D319)","v":""},{"$f":"IF(Compliance_Options!E319=\"\",\"\",Compliance_Options!E319)","v":""},{"$f":"IF(Compliance_Options!F319=\"\",\"\",Compliance_Options!F319)","v":""},"    ",{"$f":"IF(COUNTIF(BC$2:BC297,BC297)=1,BC297,\"\")","v":""},"","","","","","","",{"$f":"+IF(BK297=\"\",\"\",MAX(BL$1:BL296)+1)","v":""},"","","","","","","",{"$f":"+IF(BS297=\"\",\"\",MAX(BT$1:BT296)+1)","v":""},"","","","","","","",{"$f":"+IF(CA297=\"\",\"\",MAX(CB$1:CB296)+1)","v":""},"","","","","","","",{"$f":"+IF(CI297=\"\",\"\",MAX(CJ$1:CJ296)+1)","v":""},"","","","","",null,{"$f":"+IF(CR297=\"\",\"\",MAX(CQ$1:CQ296)+1)","v":""},{"$f":"IF(Compliance_Options!B319=\"\",\"\",Compliance_Options!B319)","v":""},{"$f":"IF(Compliance_Options!C319=\"\",\"\",Compliance_Options!C319)","v":""},{"$f":"IF(Compliance_Options!D319=\"\",\"\",Compliance_Options!D319)","v":""},"  ",{"$f":"IF(COUNTIF(CU$2:CU297,CU297)=1,CU297,\"\")","v":""},"","","",""]
[{"$nulls":48},{"$f":"+IF(AX298=\"\",\"\",MAX(AW$1:AW297)+1)","v":""},{"$f":"IF(Compliance_Options!B320=\"\",\"\",Compliance_Options!B320)","v":""},{"$f":"IF(Compliance_Options!C320=\"\",\"\",Compliance_Options!C320)","v":""},{"$f":"IF(Compliance_Options!D320=\"\",\"\",Compliance_Options!D320)","v":""},{"$f":"IF(Compliance_Options!E320=\"\",\"\",Compliance_Options!E320)","v":""},{"$f":"IF(Compliance_Options!F320=\"\",\"\",Compliance_Options!F320)","v":""},"    ",{"$f":"IF(COUNTIF(BC$2:BC298,BC298)=1,BC298,\"\")","v":""},"","","","","","","",{"$f":"+IF(BK298=\"\",\"\",MAX(BL$1:BL297)+1)","v":""},"","","","","","","",{"$f":"+IF(BS298=\"\",\"\",MAX(BT$1:BT297)+1)","v":""},"","","","","","","",{"$f":"+IF(CA298=\"\",\"\",MAX(CB$1:CB297)+1)","v":""},"","","","","","","",{"$f":"+IF(CI298=\"\",\"\",MAX(CJ$1:CJ297)+1)","v":""},"","","","","",null,{"$f":"+IF(CR298=\"\",\"\",MAX(CQ$1:CQ297)+1)","v":""},{"$f":"IF(Compliance_Options!B320=\"\",\"\",Compliance_Options!B320)","v":""},{"$f":"IF(Compliance_Options!C320=\"\",\"\",Compliance_Options!C320)","v":""},{"$f":"IF(Compliance_Options!D320=\"\",\"\",Compliance_Options!D320)","v":""},"  ",{"$f":"IF(COUNTIF(CU$2:CU298,CU298)=1,CU298,\"\")","v":""},"","","",""]
[{"$nulls":48},{"$f":"+IF(AX299=\"\",\"\",MAX(AW$1:AW298)+1)","v":""},{"$f":"IF(Compliance_Options!B321=\"\",\"\",Compliance_Options!B321)","v":""},{"$f":"IF(Compliance_Options!C321=\"\",\"\",Compliance_Options!C321)","v":""},{"$f":"IF(Compliance_Options!D321=\"\",\"\",Compliance_Options!D321)","v":""},{"$f":"IF(Compliance_Options!E321=\"\",\"\",Compliance_Options!E321)","v":""},{"$f":"IF(Compliance_Options!F321=\"\",\"\",Compliance_Options!F321)","v":""},"    ",{"$f":"IF(COUNTIF(BC$2:BC299,BC299)=1,BC299,\"\")","v":""},"","","","","","","",{"$f":"+IF(BK299=\"\",\"\",MAX(BL$1:BL298)+1)","v":""},"","","","","","","",{"$f":"+IF(BS299=\"\",\"\",MAX(BT$1:BT298)+1)","v":""},"","","","","","","",{"$f":"+IF(CA299=\"\",\"\",MAX(CB$1:CB298)+1)","v":""},"","","","","","","",{"$f":"+IF(CI299=\"\",\"\",MAX(CJ$1:CJ298)+1)","v":""},"","","","","",null,{"$f":"+IF(CR299=\"\",\"\",MAX(CQ$1:CQ298)+1)","v":""},{"$f":"IF(Compliance_Options!B321=\"\",\"\",Compliance_Options!B321)","v":""},{"$f":"IF(Compliance_Options!C321=\"\",\"\",Compliance_Options!C321)","v":""},{"$f":"IF(Compliance_Options!D321=\"\",\"\",Compliance_Options!D321)","v":""},"  ",{"$f":"IF(COUNTIF(CU$2:CU299,CU299)=1,CU299,\"\")","v":""},"","","",""]
[{"$nulls":48},{"$f":"+IF(AX300=\"\",\"\",MAX(AW$1:AW299)+1)","v":""},{"$f":"IF(Compliance_Options!B322=\"\",\"\",Compliance_Options!B322)","v":""},{"$f":"IF(Compliance_Options!C322=\"\",\"\",Compliance_Options!C322)","v":""},{"$f":"IF(Compliance_Options!D322=\"\",\"\",Compliance_Options!D322)","v":""},{"$f":"IF(Compliance_Options!E322=\"\",\"\",Compliance_Options!E322)","v":""},{"$f":"IF(Compliance_Options!F322=\"\",\"\",Compliance_Options!F322)","v":""},"    ",{"$f":"IF(COUNTIF(BC$2:BC300,BC300)=1,BC300,\"\")","v":""},"","","","","","","",{"$f":"+IF(BK300=\"\",\"\",MAX(BL$1:BL299)+1)","v":""},"","","","","","","",{"$f":"+IF(BS300=\"\",\"\",MAX(BT$1:BT299)+1)","v":""},"","","","","","","",{"$f":"+IF(CA300=\"\",\"\",MAX(CB$1:CB299)+1)","v":""},"","","","","","","",{"$f":"+IF(CI300=\"\",\"\",MAX(CJ$1:CJ299)+1)","v":""},"","","","","",null,{"$f":"+IF(CR300=\"\",\"\",MAX(CQ$1:CQ299)+1)","v":""},{"$f":"IF(Compliance_Options!B322=\"\",\"\",Compliance_Options!B322)","v":""},{"$f":"IF(Compliance_Options!C322=\"\",\"\",Compliance_Options!C322)","v":""},{"$f":"IF(Compliance_Options!D322=\"\",\"\",Compliance_Options!D322)","v":""},"  ",{"$f":"IF(COUNTIF(CU$2:CU300,CU300)=1,CU300,\"\")","v":""},"","","",""]
[{"$nulls":48},{"$f":"+IF(AX301=\"\",\"\",MAX(AW$1:AW300)+1)","v":""},{"$f":"IF(Compliance_Options!B323=\"\",\"\",Compliance_Options!B323)","v":""},{"$f":"IF(Compliance_Options!C323=\"\",\"\",Compliance_Options!C323)","v":""},{"$f":"IF(Compliance_Options!D323=\"\",\"\",Compliance_Options!D323)","v":""},{"$f":"IF(Compliance_Options!E323=\"\",\"\",Compliance_Options!E323)","v":""},{"$f":"IF(Compliance_Options!F323=\"\",\"\",Compliance_Options!F323)","v":""},"    ",{"$f":"IF(COUNTIF(BC$2:BC301,BC301)=1,BC301,\"\")","v":""},"","","","","","","",{"$f":"+IF(BK301=\"\",\"\",MAX(BL$1:BL300)+1)","v":""},"","","","","","","",{"$f":"+IF(BS301=\"\",\"\",MAX(BT$1:BT300)+1)","v":""},"","","","","","","",{"$f":"+IF(CA301=\"\",\"\",MAX(CB$1:CB300)+1)","v":""},"","","","","","","",{"$f":"+IF(CI301=\"\",\"\",MAX(CJ$1:CJ300)+1)","v":""},"","","","","",null,{"$f":"+IF(CR301=\"\",\"\",MAX(CQ$1:CQ300)+1)","v":""},{"$f":"IF(Compliance_Options!B323=\"\",\"\",Compliance_Options!B323)","v":""},{"$f":"IF(Compliance_Options!C323=\"\",\"\",Compliance_Options!C323)","v":""},{"$f":"IF(Compliance_Options!D323=\"\",\"\",Compliance_Options!D323)","v":""},"  ",{"$f":"IF(COUNTIF(CU$2:CU301,CU301)=1,CU301,\"\")","v":""},"","","",""]
[{"$nulls":48},{"$f":"+IF(AX302=\"\",\"\",MAX(AW$1:AW301)+1)","v":""},{"$f":"IF(Compliance_Options!B324=\"\",\"\",Compliance_Options!B324)","v":""},{"$f":"IF(Compliance_Options!C324=\"\",\"\",Compliance_Options!C324)","v":""},{"$f":"IF(Compliance_Options!D324=\"\",\"\",Compliance_Options!D324)","v":""},{"$f":"IF(Compliance_Options!E324=\"\",\"\",Compliance_Options!E324)","v":""},{"$f":"IF(Compliance_Options!F324=\"\",\"\",Compliance_Options!F324)","v":""},"    ",{"$f":"IF(COUNTIF(BC$2:BC302,BC302)=1,BC302,\"\")","v":""},"","","","","","","",{"$f":"+IF(BK302=\"\",\"\",MAX(BL$1:BL301)+1)","v":""},"","","","","","","",{"$f":"+IF(BS302=\"\",\"\",MAX(BT$1:BT301)+1)","v":""},"","","","","","","",{"$f":"+IF(CA302=\"\",\"\",MAX(CB$1:CB301)+1)","v":""},"","","","","","","",{"$f":"+IF(CI302=\"\",\"\",MAX(CJ$1:CJ301)+1)","v":""},"","","","","",null,{"$f":"+IF(CR302=\"\",\"\",MAX(CQ$1:CQ301)+1)","v":""},{"$f":"IF(Compliance_Options!B324=\"\",\"\",Compliance_Options!B324)","v":""},{"$f":"IF(Compliance_Options!C324=\"\",\"\",Compliance_Options!C324)","v":""},{"$f":"IF(Compliance_Options!D324=\"\",\"\",Compliance_Options!D324)","v":""},"  ",{"$f":"IF(COUNTIF(CU$2:CU302,CU302)=1,CU302,\"\")","v":""},"","","",""]
[{"$nulls":48},{"$f":"+IF(AX303=\"\",\"\",MAX(AW$1:AW302)+1)","v":""},{"$f":"IF(Compliance_Options!B325=\"\",\"\",Compliance_Options!B325)","v":""},{"$f":"IF(Compliance_Options!C325=\"\",\"\",Compliance_Options!C325)","v":""},{"$f":"IF(Compliance_Options!D325=\"\",\"\",Compliance_Options!D325)","v":""},{"$f":"IF(Compliance_Options!E325=\"\",\"\",Compliance_Options!E325)","v":""},{"$f":"IF(Compliance_Options!F325=\"\",\"\",Compliance_Options!F325)","v":""},"    ",{"$f":"IF(COUNTIF(BC$2:BC303,BC303)=1,BC303,\"\")","v":""},"","","","","","","",{"$f":"+IF(BK303=\"\",\"\",MAX(BL$1:BL302)+1)","v":""},"","","","","","","",{"$f":"+IF(BS303=\"\",\"\",MAX(BT$1:BT302)+1)","v":""},"","","","","","","",{"$f":"+IF(CA303=\"\",\"\",MAX(CB$1:CB302)+1)","v":""},"","","","","","","",{"$f":"+IF(CI303=\"\",\"\",MAX(CJ$1:CJ302)+1)","v":""},"","","","","",null,{"$f":"+IF(CR303=\"\",\"\",MAX(CQ$1:CQ302)+1)","v":""},{"$f":"IF(Compliance_Options!B325=\"\",\"\",Compliance_Options!B325)","v":""},{"$f":"IF(Compliance_Options!C325=\"\",\"\",Compliance_Options!C325)","v":""},{"$f":"IF(Compliance_Options!D325=\"\",\"\",Compliance_Options!D325)","v":""},"  ",{"$f":"IF(COUNTIF(CU$2:CU303,CU303)=1,CU303,\"\")","v":""},"","","",""]
[{"$nulls":48},{"$f":"+IF(AX304=\"\",\"\",MAX(AW$1:AW303)+1)","v":""},{"$f":"IF(Compliance_Options!B326=\"\",\"\",Compliance_Options!B326)","v":""},{"$f":"IF(Compliance_Options!C326=\"\",\"\",Compliance_Options!C326)","v":""},{"$f":"IF(Compliance_Options!D326=\"\",\"\",Compliance_Options!D326)","v":""},{"$f":"IF(Compliance_Options!E326=\"\",\"\",Compliance_Options!E326)","v":""},{"$f":"IF(Compliance_Options!F326=\"\",\"\",Compliance_Options!F326)","v":""},"    ",{"$f":"IF(COUNTIF(BC$2:BC304,BC304)=1,BC304,\"\")","v":""},"","","","","","","",{"$f":"+IF(BK304=\"\",\"\",MAX(BL$1:BL303)+1)","v":""},"","","","","","","",{"$f":"+IF(BS304=\"\",\"\",MAX(BT$1:BT303)+1)","v":""},"","","","","","","",{"$f":"+IF(CA304=\"\",\"\",MAX(CB$1:CB303)+1)","v":""},"","","","","","","",{"$f":"+IF(CI304=\"\",\"\",MAX(CJ$1:CJ303)+1)","v":""},"","","","","",null,{"$f":"+IF(CR304=\"\",\"\",MAX(CQ$1:CQ303)+1)","v":""},{"$f":"IF(Compliance_Options!B326=\"\",\"\",Compliance_Options!B326)","v":""},{"$f":"IF(Compliance_Options!C326=\"\",\"\",Compliance_Options!C326)","v":""},{"$f":"IF(Compliance_Options!D326=\"\",\"\",Compliance_Options!D326)","v":""},"  ",{"$f":"IF(COUNTIF(CU$2:CU304,CU304)=1,CU304,\"\")","v":""},"","","",""]
[{"$nulls":48},{"$f":"+IF(AX305=\"\",\"\",MAX(AW$1:AW304)+1)","v":""},{"$f":"IF(Compliance_Options!B327=\"\",\"\",Compliance_Options!B327)","v":""},{"$f":"IF(Compliance_Options!C327=\"\",\"\",Compliance_Options!C327)","v":""},{"$f":"IF(Compliance_Options!D327=\"\",\"\",Compliance_Options!D327)","v":""},{"$f":"IF(Compliance_Options!E327=\"\",\"\",Compliance_Options!E327)","v":""},{"$f":"IF(Compliance_Options!F327=\"\",\"\",Compliance_Options!F327)","v":""},"    ",{"$f":"IF(COUNTIF(BC$2:BC305,BC305)=1,BC305,\"\")","v":""},"","","","","","","",{"$f":"+IF(BK305=\"\",\"\",MAX(BL$1:BL304)+1)","v":""},"","","","","","","",{"$f":"+IF(BS305=\"\",\"\",MAX(BT$1:BT304)+1)","v":""},"","","","","","","",{"$f":"+IF(CA305=\"\",\"\",MAX(CB$1:CB304)+1)","v":""},"","","","","","","",{"$f":"+IF(CI305=\"\",\"\",MAX(CJ$1:CJ304)+1)","v":""},"","","","","",null,{"$f":"+IF(CR305=\"\",\"\",MAX(CQ$1:CQ304)+1)","v":""},{"$f":"IF(Compliance_Options!B327=\"\",\"\",Compliance_Options!B327)","v":""},{"$f":"IF(Compliance_Options!C327=\"\",\"\",Compliance_Options!C327)","v":""},{"$f":"IF(Compliance_Options!D327=\"\",\"\",Compliance_Options!D327)","v":""},"  ",{"$f":"IF(COUNTIF(CU$2:CU305,CU305)=1,CU305,\"\")","v":""},"","","",""]
[{"$nulls":48},{"$f":"+IF(AX306=\"\",\"\",MAX(AW$1:AW305)+1)","v":""},{"$f":"IF(Compliance_Options!B328=\"\",\"\",Compliance_Options!B328)","v":""},{"$f":"IF(Compliance_Options!C328=\"\",\"\",Compliance_Options!C328)","v":""},{"$f":"IF(Compliance_Options!D328=\"\",\"\",Compliance_Options!D328)","v":""},{"$f":"IF(Compliance_Options!E328=\"\",\"\",Compliance_Options!E328)","v":""},{"$f":"IF(Compliance_Options!F328=\"\",\"\",Compliance_Options!F328)","v":""},"    ",{"$f":"IF(COUNTIF(BC$2:BC306,BC306)=1,BC306,\"\")","v":""},"","","","","","","",{"$f":"+IF(BK306=\"\",\"\",MAX(BL$1:BL305)+1)","v":""},"","","","","","","",{"$f":"+IF(BS306=\"\",\"\",MAX(BT$1:BT305)+1)","v":""},"","","","","","","",{"$f":"+IF(CA306=\"\",\"\",MAX(CB$1:CB305)+1)","v":""},"","","","","","","",{"$f":"+IF(CI306=\"\",\"\",MAX(CJ$1:CJ305)+1)","v":""},"","","","","",null,{"$f":"+IF(CR306=\"\",\"\",MAX(CQ$1:CQ305)+1)","v":""},{"$f":"IF(Compliance_Options!B328=\"\",\"\",Compliance_Options!B328)","v":""},{"$f":"IF(Compliance_Options!C328=\"\",\"\",Compliance_Options!C328)","v":""},{"$f":"IF(Compliance_Options!D328=\"\",\"\",Compliance_Options!D328)","v":""},"  ",{"$f":"IF(COUNTIF(CU$2:CU306,CU306)=1,CU306,\"\")","v":""},"","","",""]
[{"$nulls":48},{"$f":"+IF(AX307=\"\",\"\",MAX(AW$1:AW306)+1)","v":""},{"$f":"IF(Compliance_Options!B329=\"\",\"\",Compliance_Options!B329)","v":""},{"$f":"IF(Compliance_Options!C329=\"\",\"\",Compliance_Options!C329)","v":""},{"$f":"IF(Compliance_Options!D329=\"\",\"\",Compliance_Options!D329)","v":""},{"$f":"IF(Compliance_Options!E329=\"\",\"\",Compliance_Options!E329)","v":""},{"$f":"IF(Compliance_Options!F329=\"\",\"\",Compliance_Options!F329)","v":""},"    ",{"$f":"IF(COUNTIF(BC$2:BC307,BC307)=1,BC307,\"\")","v":""},"","","","","","","",{"$f":"+IF(BK307=\"\",\"\",MAX(BL$1:BL306)+1)","v":""},"","","","","","","",{"$f":"+IF(BS307=\"\",\"\",MAX(BT$1:BT306)+1)","v":""},"","","","","","","",{"$f":"+IF(CA307=\"\",\"\",MAX(CB$1:CB306)+1)","v":""},"","","","","","","",{"$f":"+IF(CI307=\"\",\"\",MAX(CJ$1:CJ306)+1)","v":""},"","","","","",null,{"$f":"+IF(CR307=\"\",\"\",MAX(CQ$1:CQ306)+1)","v":""},{"$f":"IF(Compliance_Options!B329=\"\",\"\",Compliance_Options!B329)","v":""},{"$f":"IF(Compliance_Options!C329=\"\",\"\",Compliance_Options!C329)","v":""},{"$f":"IF(Compliance_Options!D329=\"\",\"\",Compliance_Options!D329)","v":""},"  ",{"$f":"IF(COUNTIF(CU$2:CU307,CU307)=1,CU307,\"\")","v":""},"","","",""]
[{"$nulls":48},{"$f":"+IF(AX308=\"\",\"\",MAX(AW$1:AW307)+1)","v":""},{"$f":"IF(Compliance_Options!B330=\"\",\"\",Compliance_Options!B330)","v":""},{"$f":"IF(Compliance_Options!C330=\"\",\"\",Compliance_Options!C330)","v":""},{"$f":"IF(Compliance_Options!D330=\"\",\"\",Compliance_Options!D330)","v":""},{"$f":"IF(Compliance_Options!E330=\"\",\"\",Compliance_Options!E330)","v":""},{"$f":"IF(Compliance_Options!F330=\"\",\"\",Compliance_Options!F330)","v":""},"    ",{"$f":"IF(COUNTIF(BC$2:BC308,BC308)=1,BC308,\"\")","v":""},"","","","","","","",{"$f":"+IF(BK308=\"\",\"\",MAX(BL$1:BL307)+1)","v":""},"","","","","","","",{"$f":"+IF(BS308=\"\",\"\",MAX(BT$1:BT307)+1)","v":""},"","","","","","","",{"$f":"+IF(CA308=\"\",\"\",MAX(CB$1:CB307)+1)","v":""},"","","","","","","",{"$f":"+IF(CI308=\"\",\"\",MAX(CJ$1:CJ307)+1)","v":""},"","","","","",null,{"$f":"+IF(CR308=\"\",\"\",MAX(CQ$1:CQ307)+1)","v":""},{"$f":"IF(Compliance_Options!B330=\"\",\"\",Compliance_Options!B330)","v":""},{"$f":"IF(Compliance_Options!C330=\"\",\"\",Compliance_Options!C330)","v":""},{"$f":"IF(Compliance_Options!D330=\"\",\"\",Compliance_Options!D330)","v":""},"  ",{"$f":"IF(COUNTIF(CU$2:CU308,CU308)=1,CU308,\"\")","v":""},"","","",""]
[{"$nulls":48},{"$f":"+IF(AX309=\"\",\"\",MAX(AW$1:AW308)+1)","v":""},{"$f":"IF(Compliance_Options!B331=\"\",\"\",Compliance_Options!B331)","v":""},{"$f":"IF(Compliance_Options!C331=\"\",\"\",Compliance_Options!C331)","v":""},{"$f":"IF(Compliance_Options!D331=\"\",\"\",Compliance_Options!D331)","v":""},{"$f":"IF(Compliance_Options!E331=\"\",\"\",Compliance_Options!E331)","v":""},{"$f":"IF(Compliance_Options!F331=\"\",\"\",Compliance_Options!F331)","v":""},"    ",{"$f":"IF(COUNTIF(BC$2:BC309,BC309)=1,BC309,\"\")","v":""},"","","","","","","",{"$f":"+IF(BK309=\"\",\"\",MAX(BL$1:BL308)+1)","v":""},"","","","","","","",{"$f":"+IF(BS309=\"\",\"\",MAX(BT$1:BT308)+1)","v":""},"","","","","","","",{"$f":"+IF(CA309=\"\",\"\",MAX(CB$1:CB308)+1)","v":""},"","","","","","","",{"$f":"+IF(CI309=\"\",\"\",MAX(CJ$1:CJ308)+1)","v":""},"","","","","",null,{"$f":"+IF(CR309=\"\",\"\",MAX(CQ$1:CQ308)+1)","v":""},{"$f":"IF(Compliance_Options!B331=\"\",\"\",Compliance_Options!B331)","v":""},{"$f":"IF(Compliance_Options!C331=\"\",\"\",Compliance_Options!C331)","v":""},{"$f":"IF(Compliance_Options!D331=\"\",\"\",Compliance_Options!D331)","v":""},"  ",{"$f":"IF(COUNTIF(CU$2:CU309,CU309)=1,CU309,\"\")","v":""},"","","",""]
[{"$nulls":48},{"$f":"+IF(AX310=\"\",\"\",MAX(AW$1:AW309)+1)","v":""},{"$f":"IF(Compliance_Options!B332=\"\",\"\",Compliance_Options!B332)","v":""},{"$f":"IF(Compliance_Options!C332=\"\",\"\",Compliance_Options!C332)","v":""},{"$f":"IF(Compliance_Options!D332=\"\",\"\",Compliance_Options!D332)","v":""},{"$f":"IF(Compliance_Options!E332=\"\",\"\",Compliance_Options!E332)","v":""},{"$f":"IF(Compliance_Options!F332=\"\",\"\",Compliance_Options!F332)","v":""},"    ",{"$f":"IF(COUNTIF(BC$2:BC310,BC310)=1,BC310,\"\")","v":""},"","","","","","","",{"$f":"+IF(BK310=\"\",\"\",MAX(BL$1:BL309)+1)","v":""},"","","","","","","",{"$f":"+IF(BS310=\"\",\"\",MAX(BT$1:BT309)+1)","v":""},"","","","","","","",{"$f":"+IF(CA310=\"\",\"\",MAX(CB$1:CB309)+1)","v":""},"","","","","","","",{"$f":"+IF(CI310=\"\",\"\",MAX(CJ$1:CJ309)+1)","v":""},"","","","","",null,{"$f":"+IF(CR310=\"\",\"\",MAX(CQ$1:CQ309)+1)","v":""},{"$f":"IF(Compliance_Options!B332=\"\",\"\",Compliance_Options!B332)","v":""},{"$f":"IF(Compliance_Options!C332=\"\",\"\",Compliance_Options!C332)","v":""},{"$f":"IF(Compliance_Options!D332=\"\",\"\",Compliance_Options!D332)","v":""},"  ",{"$f":"IF(COUNTIF(CU$2:CU310,CU310)=1,CU310,\"\")","v":""},"","","",""]
[{"$nulls":48},{"$f":"+IF(AX311=\"\",\"\",MAX(AW$1:AW310)+1)","v":""},{"$f":"IF(Compliance_Options!B333=\"\",\"\",Compliance_Options!B333)","v":""},{"$f":"IF(Compliance_Options!C333=\"\",\"\",Compliance_Options!C333)","v":""},{"$f":"IF(Compliance_Options!D333=\"\",\"\",Compliance_Options!D333)","v":""},{"$f":"IF(Compliance_Options!E333=\"\",\"\",Compliance_Options!E333)","v":""},{"$f":"IF(Compliance_Options!F333=\"\",\"\",Compliance_Options!F333)","v":""},"    ",{"$f":"IF(COUNTIF(BC$2:BC311,BC311)=1,BC311,\"\")","v":""},"","","","","","","",{"$f":"+IF(BK311=\"\",\"\",MAX(BL$1:BL310)+1)","v":""},"","","","","","","",{"$f":"+IF(BS311=\"\",\"\",MAX(BT$1:BT310)+1)","v":""},"","","","","","","",{"$f":"+IF(CA311=\"\",\"\",MAX(CB$1:CB310)+1)","v":""},"","","","","","","",{"$f":"+IF(CI311=\"\",\"\",MAX(CJ$1:CJ310)+1)","v":""},"","","","","",null,{"$f":"+IF(CR311=\"\",\"\",MAX(CQ$1:CQ310)+1)","v":""},{"$f":"IF(Compliance_Options!B333=\"\",\"\",Compliance_Options!B333)","v":""},{"$f":"IF(Compliance_Options!C333=\"\",\"\",Compliance_Options!C333)","v":""},{"$f":"IF(Compliance_Options!D333=\"\",\"\",Compliance_Options!D333)","v":""},"  ",{"$f":"IF(COUNTIF(CU$2:CU311,CU311)=1,CU311,\"\")","v":""},"","","",""]
[{"$nulls":48},{"$f":"+IF(AX312=\"\",\"\",MAX(AW$1:AW311)+1)","v":""},{"$f":"IF(Compliance_Options!B334=\"\",\"\",Compliance_Options!B334)","v":""},{"$f":"IF(Compliance_Options!C334=\"\",\"\",Compliance_Options!C334)","v":""},{"$f":"IF(Compliance_Options!D334=\"\",\"\",Compliance_Options!D334)","v":""},{"$f":"IF(Compliance_Options!E334=\"\",\"\",Compliance_Options!E334)","v":""},{"$f":"IF(Compliance_Options!F334=\"\",\"\",Compliance_Options!F334)","v":""},"    ",{"$f":"IF(COUNTIF(BC$2:BC312,BC312)=1,BC312,\"\")","v":""},"","","","","","","",{"$f":"+IF(BK312=\"\",\"\",MAX(BL$1:BL311)+1)","v":""},"","","","","","","",{"$f":"+IF(BS312=\"\",\"\",MAX(BT$1:BT311)+1)","v":""},"","","","","","","",{"$f":"+IF(CA312=\"\",\"\",MAX(CB$1:CB311)+1)","v":""},"","","","","","","",{"$f":"+IF(CI312=\"\",\"\",MAX(CJ$1:CJ311)+1)","v":""},"","","","","",null,{"$f":"+IF(CR312=\"\",\"\",MAX(CQ$1:CQ311)+1)","v":""},{"$f":"IF(Compliance_Options!B334=\"\",\"\",Compliance_Options!B334)","v":""},{"$f":"IF(Compliance_Options!C334=\"\",\"\",Compliance_Options!C334)","v":""},{"$f":"IF(Compliance_Options!D334=\"\",\"\",Compliance_Options!D334)","v":""},"  ",{"$f":"IF(COUNTIF(CU$2:CU312,CU312)=1,CU312,\"\")","v":""},"","","",""]
[{"$nulls":48},{"$f":"+IF(AX313=\"\",\"\",MAX(AW$1:AW312)+1)","v":""},{"$f":"IF(Compliance_Options!B335=\"\",\"\",Compliance_Options!B335)","v":""},{"$f":"IF(Compliance_Options!C335=\"\",\"\",Compliance_Options!C335)","v":""},{"$f":"IF(Compliance_Options!D335=\"\",\"\",Compliance_Options!D335)","v":""},{"$f":"IF(Compliance_Options!E335=\"\",\"\",Compliance_Options!E335)","v":""},{"$f":"IF(Compliance_Options!F335=\"\",\"\",Compliance_Options!F335)","v":""},"    ",{"$f":"IF(COUNTIF(BC$2:BC313,BC313)=1,BC313,\"\")","v":""},"","","","","","","",{"$f":"+IF(BK313=\"\",\"\",MAX(BL$1:BL312)+1)","v":""},"","","","","","","",{"$f":"+IF(BS313=\"\",\"\",MAX(BT$1:BT312)+1)","v":""},"","","","","","","",{"$f":"+IF(CA313=\"\",\"\",MAX(CB$1:CB312)+1)","v":""},"","","","","","","",{"$f":"+IF(CI313=\"\",\"\",MAX(CJ$1:CJ312)+1)","v":""},"","","","","",null,{"$f":"+IF(CR313=\"\",\"\",MAX(CQ$1:CQ312)+1)","v":""},{"$f":"IF(Compliance_Options!B335=\"\",\"\",Compliance_Options!B335)","v":""},{"$f":"IF(Compliance_Options!C335=\"\",\"\",Compliance_Options!C335)","v":""},{"$f":"IF(Compliance_Options!D335=\"\",\"\",Compliance_Options!D335)","v":""},"  ",{"$f":"IF(COUNTIF(CU$2:CU313,CU313)=1,CU313,\"\")","v":""},"","","",""]
[{"$nulls":48},{"$f":"+IF(AX314=\"\",\"\",MAX(AW$1:AW313)+1)","v":""},{"$f":"IF(Compliance_Options!B336=\"\",\"\",Compliance_Options!B336)","v":""},{"$f":"IF(Compliance_Options!C336=\"\",\"\",Compliance_Options!C336)","v":""},{"$f":"IF(Compliance_Options!D336=\"\",\"\",Compliance_Options!D336)","v":""},{"$f":"IF(Compliance_Options!E336=\"\",\"\",Compliance_Options!E336)","v":""},{"$f":"IF(Compliance_Options!F336=\"\",\"\",Compliance_Options!F336)","v":""},"    ",{"$f":"IF(COUNTIF(BC$2:BC314,BC314)=1,BC314,\"\")","v":""},"","","","","","","",{"$f":"+IF(BK314=\"\",\"\",MAX(BL$1:BL313)+1)","v":""},"","","","","","","",{"$f":"+IF(BS314=\"\",\"\",MAX(BT$1:BT313)+1)","v":""},"","","","","","","",{"$f":"+IF(CA314=\"\",\"\",MAX(CB$1:CB313)+1)","v":""},"","","","","","","",{"$f":"+IF(CI314=\"\",\"\",MAX(CJ$1:CJ313)+1)","v":""},"","","","","",null,{"$f":"+IF(CR314=\"\",\"\",MAX(CQ$1:CQ313)+1)","v":""},{"$f":"IF(Compliance_Options!B336=\"\",\"\",Compliance_Options!B336)","v":""},{"$f":"IF(Compliance_Options!C336=\"\",\"\",Compliance_Options!C336)","v":""},{"$f":"IF(Compliance_Options!D336=\"\",\"\",Compliance_Options!D336)","v":""},"  ",{"$f":"IF(COUNTIF(CU$2:CU314,CU314)=1,CU314,\"\")","v":""},"","","",""]
[{"$nulls":48},{"$f":"+IF(AX315=\"\",\"\",MAX(AW$1:AW314)+1)","v":""},{"$f":"IF(Compliance_Options!B337=\"\",\"\",Compliance_Options!B337)","v":""},{"$f":"IF(Compliance_Options!C337=\"\",\"\",Compliance_Options!C337)","v":""},{"$f":"IF(Compliance_Options!D337=\"\",\"\",Compliance_Options!D337)","v":""},{"$f":"IF(Compliance_Options!E337=\"\",\"\",Compliance_Options!E337)","v":""},{"$f":"IF(Compliance_Options!F337=\"\",\"\",Compliance_Options!F337)","v":""},"    ",{"$f":"IF(COUNTIF(BC$2:BC315,BC315)=1,BC315,\"\")","v":""},"","","","","","","",{"$f":"+IF(BK315=\"\",\"\",MAX(BL$1:BL314)+1)","v":""},"","","","","","","",{"$f":"+IF(BS315=\"\",\"\",MAX(BT$1:BT314)+1)","v":""},"","","","","","","",{"$f":"+IF(CA315=\"\",\"\",MAX(CB$1:CB314)+1)","v":""},"","","","","","","",{"$f":"+IF(CI315=\"\",\"\",MAX(CJ$1:CJ314)+1)","v":""},"","","","","",null,{"$f":"+IF(CR315=\"\",\"\",MAX(CQ$1:CQ314)+1)","v":""},{"$f":"IF(Compliance_Options!B337=\"\",\"\",Compliance_Options!B337)","v":""},{"$f":"IF(Compliance_Options!C337=\"\",\"\",Compliance_Options!C337)","v":""},{"$f":"IF(Compliance_Options!D337=\"\",\"\",Compliance_Options!D337)","v":""},"  ",{"$f":"IF(COUNTIF(CU$2:CU315,CU315)=1,CU315,\"\")","v":""},"","","",""]
[{"$nulls":48},{"$f":"+IF(AX316=\"\",\"\",MAX(AW$1:AW315)+1)","v":""},{"$f":"IF(Compliance_Options!B338=\"\",\"\",Compliance_Options!B338)","v":""},{"$f":"IF(Compliance_Options!C338=\"\",\"\",Compliance_Options!C338)","v":""},{"$f":"IF(Compliance_Options!D338=\"\",\"\",Compliance_Options!D338)","v":""},{"$f":"IF(Compliance_Options!E338=\"\",\"\",Compliance_Options!E338)","v":""},{"$f":"IF(Compliance_Options!F338=\"\",\"\",Compliance_Options!F338)","v":""},"    ",{"$f":"IF(COUNTIF(BC$2:BC316,BC316)=1,BC316,\"\")","v":""},"","","","","","","",{"$f":"+IF(BK316=\"\",\"\",MAX(BL$1:BL315)+1)","v":""},"","","","","","","",{"$f":"+IF(BS316=\"\",\"\",MAX(BT$1:BT315)+1)","v":""},"","","","","","","",{"$f":"+IF(CA316=\"\",\"\",MAX(CB$1:CB315)+1)","v":""},"","","","","","","",{"$f":"+IF(CI316=\"\",\"\",MAX(CJ$1:CJ315)+1)","v":""},"","","","","",null,{"$f":"+IF(CR316=\"\",\"\",MAX(CQ$1:CQ315)+1)","v":""},{"$f":"IF(Compliance_Options!B338=\"\",\"\",Compliance_Options!B338)","v":""},{"$f":"IF(Compliance_Options!C338=\"\",\"\",Compliance_Options!C338)","v":""},{"$f":"IF(Compliance_Options!D338=\"\",\"\",Compliance_Options!D338)","v":""},"  ",{"$f":"IF(COUNTIF(CU$2:CU316,CU316)=1,CU316,\"\")","v":""},"","","",""]
[{"$nulls":48},{"$f":"+IF(AX317=\"\",\"\",MAX(AW$1:AW316)+1)","v":""},{"$f":"IF(Compliance_Options!B339=\"\",\"\",Compliance_Options!B339)","v":""},{"$f":"IF(Compliance_Options!C339=\"\",\"\",Compliance_Options!C339)","v":""},{"$f":"IF(Compliance_Options!D339=\"\",\"\",Compliance_Options!D339)","v":""},{"$f":"IF(Compliance_Options!E339=\"\",\"\",Compliance_Options!E339)","v":""},{"$f":"IF(Compliance_Options!F339=\"\",\"\",Compliance_Options!F339)","v":""},"    ",{"$f":"IF(COUNTIF(BC$2:BC317,BC317)=1,BC317,\"\")","v":""},"","","","","","","",{"$f":"+IF(BK317=\"\",\"\",MAX(BL$1:BL316)+1)","v":""},"","","","","","","",{"$f":"+IF(BS317=\"\",\"\",MAX(BT$1:BT316)+1)","v":""},"","","","","","","",{"$f":"+IF(CA317=\"\",\"\",MAX(CB$1:CB316)+1)","v":""},"","","","","","","",{"$f":"+IF(CI317=\"\",\"\",MAX(CJ$1:CJ316)+1)","v":""},"","","","","",null,{"$f":"+IF(CR317=\"\",\"\",MAX(CQ$1:CQ316)+1)","v":""},{"$f":"IF(Compliance_Options!B339=\"\",\"\",Compliance_Options!B339)","v":""},{"$f":"IF(Compliance_Options!C339=\"\",\"\",Compliance_Options!C339)","v":""},{"$f":"IF(Compliance_Options!D339=\"\",\"\",Compliance_Options!D339)","v":""},"  ",{"$f":"IF(COUNTIF(CU$2:CU317,CU317)=1,CU317,\"\")","v":""},"","","",""]
[{"$nulls":48},{"$f":"+IF(AX318=\"\",\"\",MAX(AW$1:AW317)+1)","v":""},{"$f":"IF(Compliance_Options!B340=\"\",\"\",Compliance_Options!B340)","v":""},{"$f":"IF(Compliance_Options!C340=\"\",\"\",Compliance_Options!C340)","v":""},{"$f":"IF(Compliance_Options!D340=\"\",\"\",Compliance_Options!D340)","v":""},{"$f":"IF(Compliance_Options!E340=\"\",\"\",Compliance_Options!E340)","v":""},{"$f":"IF(Compliance_Options!F340=\"\",\"\",Compliance_Options!F340)","v":""},"    ",{"$f":"IF(COUNTIF(BC$2:BC318,BC318)=1,BC318,\"\")","v":""},"","","","","","","",{"$f":"+IF(BK318=\"\",\"\",MAX(BL$1:BL317)+1)","v":""},"","","","","","","",{"$f":"+IF(BS318=\"\",\"\",MAX(BT$1:BT317)+1)","v":""},"","","","","","","",{"$f":"+IF(CA318=\"\",\"\",MAX(CB$1:CB317)+1)","v":""},"","","","","","","",{"$f":"+IF(CI318=\"\",\"\",MAX(CJ$1:CJ317)+1)","v":""},"","","","","",null,{"$f":"+IF(CR318=\"\",\"\",MAX(CQ$1:CQ317)+1)","v":""},{"$f":"IF(Compliance_Options!B340=\"\",\"\",Compliance_Options!B340)","v":""},{"$f":"IF(Compliance_Options!C340=\"\",\"\",Compliance_Options!C340)","v":""},{"$f":"IF(Compliance_Options!D340=\"\",\"\",Compliance_Options!D340)","v":""},"  ",{"$f":"IF(COUNTIF(CU$2:CU318,CU318)=1,CU318,\"\")","v":""},"","","",""]
[{"$nulls":48},{"$f":"+IF(AX319=\"\",\"\",MAX(AW$1:AW318)+1)","v":""},{"$f":"IF(Compliance_Options!B341=\"\",\"\",Compliance_Options!B341)","v":""},{"$f":"IF(Compliance_Options!C341=\"\",\"\",Compliance_Options!C341)","v":""},{"$f":"IF(Compliance_Options!D341=\"\",\"\",Compliance_Options!D341)","v":""},{"$f":"IF(Compliance_Options!E341=\"\",\"\",Compliance_Options!E341)","v":""},{"$f":"IF(Compliance_Options!F341=\"\",\"\",Compliance_Options!F341)","v":""},"    ",{"$f":"IF(COUNTIF(BC$2:BC319,BC319)=1,BC319,\"\")","v":""},"","","","","","","",{"$f":"+IF(BK319=\"\",\"\",MAX(BL$1:BL318)+1)","v":""},"","","","","","","",{"$f":"+IF(BS319=\"\",\"\",MAX(BT$1:BT318)+1)","v":""},"","","","","","","",{"$f":"+IF(CA319=\"\",\"\",MAX(CB$1:CB318)+1)","v":""},"","","","","","","",{"$f":"+IF(CI319=\"\",\"\",MAX(CJ$1:CJ318)+1)","v":""},"","","","","",null,{"$f":"+IF(CR319=\"\",\"\",MAX(CQ$1:CQ318)+1)","v":""},{"$f":"IF(Compliance_Options!B341=\"\",\"\",Compliance_Options!B341)","v":""},{"$f":"IF(Compliance_Options!C341=\"\",\"\",Compliance_Options!C341)","v":""},{"$f":"IF(Compliance_Options!D341=\"\",\"\",Compliance_Options!D341)","v":""},"  ",{"$f":"IF(COUNTIF(CU$2:CU319,CU319)=1,CU319,\"\")","v":""},"","","",""]
[{"$nulls":48},{"$f":"+IF(AX320=\"\",\"\",MAX(AW$1:AW319)+1)","v":""},{"$f":"IF(Compliance_Options!B342=\"\",\"\",Compliance_Options!B342)","v":""},{"$f":"IF(Compliance_Options!C342=\"\",\"\",Compliance_Options!C342)","v":""},{"$f":"IF(Compliance_Options!D342=\"\",\"\",Compliance_Options!D342)","v":""},{"$f":"IF(Compliance_Options!E342=\"\",\"\",Compliance_Options!E342)","v":""},{"$f":"IF(Compliance_Options!F342=\"\",\"\",Compliance_Options!F342)","v":""},"    ",{"$f":"IF(COUNTIF(BC$2:BC320,BC320)=1,BC320,\"\")","v":""},"","","","","","","",{"$f":"+IF(BK320=\"\",\"\",MAX(BL$1:BL319)+1)","v":""},"","","","","","","",{"$f":"+IF(BS320=\"\",\"\",MAX(BT$1:BT319)+1)","v":""},"","","","","","","",{"$f":"+IF(CA320=\"\",\"\",MAX(CB$1:CB319)+1)","v":""},"","","","","","","",{"$f":"+IF(CI320=\"\",\"\",MAX(CJ$1:CJ319)+1)","v":""},"","","","","",null,{"$f":"+IF(CR320=\"\",\"\",MAX(CQ$1:CQ319)+1)","v":""},{"$f":"IF(Compliance_Options!B342=\"\",\"\",Compliance_Options!B342)","v":""},{"$f":"IF(Compliance_Options!C342=\"\",\"\",Compliance_Options!C342)","v":""},{"$f":"IF(Compliance_Options!D342=\"\",\"\",Compliance_Options!D342)","v":""},"  ",{"$f":"IF(COUNTIF(CU$2:CU320,CU320)=1,CU320,\"\")","v":""},"","","",""]
[{"$nulls":48},{"$f":"+IF(AX321=\"\",\"\",MAX(AW$1:AW320)+1)","v":""},{"$f":"IF(Compliance_Options!B343=\"\",\"\",Compliance_Options!B343)","v":""},{"$f":"IF(Compliance_Options!C343=\"\",\"\",Compliance_Options!C343)","v":""},{"$f":"IF(Compliance_Options!D343=\"\",\"\",Compliance_Options!D343)","v":""},{"$f":"IF(Compliance_Options!E343=\"\",\"\",Compliance_Options!E343)","v":""},{"$f":"IF(Compliance_Options!F343=\"\",\"\",Compliance_Options!F343)","v":""},"    ",{"$f":"IF(COUNTIF(BC$2:BC321,BC321)=1,BC321,\"\")","v":""},"","","","","","","",{"$f":"+IF(BK321=\"\",\"\",MAX(BL$1:BL320)+1)","v":""},"","","","","","","",{"$f":"+IF(BS321=\"\",\"\",MAX(BT$1:BT320)+1)","v":""},"","","","","","","",{"$f":"+IF(CA321=\"\",\"\",MAX(CB$1:CB320)+1)","v":""},"","","","","","","",{"$f":"+IF(CI321=\"\",\"\",MAX(CJ$1:CJ320)+1)","v":""},"","","","","",null,{"$f":"+IF(CR321=\"\",\"\",MAX(CQ$1:CQ320)+1)","v":""},{"$f":"IF(Compliance_Options!B343=\"\",\"\",Compliance_Options!B343)","v":""},{"$f":"IF(Compliance_Options!C343=\"\",\"\",Compliance_Options!C343)","v":""},{"$f":"IF(Compliance_Options!D343=\"\",\"\",Compliance_Options!D343)","v":""},"  ",{"$f":"IF(COUNTIF(CU$2:CU321,CU321)=1,CU321,\"\")","v":""},"","","",""]
[{"$nulls":48},{"$f":"+IF(AX322=\"\",\"\",MAX(AW$1:AW321)+1)","v":""},{"$f":"IF(Compliance_Options!B344=\"\",\"\",Compliance_Options!B344)","v":""},{"$f":"IF(Compliance_Options!C344=\"\",\"\",Compliance_Options!C344)","v":""},{"$f":"IF(Compliance_Options!D344=\"\",\"\",Compliance_Options!D344)","v":""},{"$f":"IF(Compliance_Options!E344=\"\",\"\",Compliance_Options!E344)","v":""},{"$f":"IF(Compliance_Options!F344=\"\",\"\",Compliance_Options!F344)","v":""},"    ",{"$f":"IF(COUNTIF(BC$2:BC322,BC322)=1,BC322,\"\")","v":""},"","","","","","","",{"$f":"+IF(BK322=\"\",\"\",MAX(BL$1:BL321)+1)","v":""},"","","","","","","",{"$f":"+IF(BS322=\"\",\"\",MAX(BT$1:BT321)+1)","v":""},"","","","","","","",{"$f":"+IF(CA322=\"\",\"\",MAX(CB$1:CB321)+1)","v":""},"","","","","","","",{"$f":"+IF(CI322=\"\",\"\",MAX(CJ$1:CJ321)+1)","v":""},"","","","","",null,{"$f":"+IF(CR322=\"\",\"\",MAX(CQ$1:CQ321)+1)","v":""},{"$f":"IF(Compliance_Options!B344=\"\",\"\",Compliance_Options!B344)","v":""},{"$f":"IF(Compliance_Options!C344=\"\",\"\",Compliance_Options!C344)","v":""},{"$f":"IF(Compliance_Options!D344=\"\",\"\",Compliance_Options!D344)","v":""},"  ",{"$f":"IF(COUNTIF(CU$2:CU322,CU322)=1,CU322,\"\")","v":""},"","","",""]
[{"$nulls":48},{"$f":"+IF(AX323=\"\",\"\",MAX(AW$1:AW322)+1)","v":""},{"$f":"IF(Compliance_Options!B345=\"\",\"\",Compliance_Options!B345)","v":""},{"$f":"IF(Compliance_Options!C345=\"\",\"\",Compliance_Options!C345)","v":""},{"$f":"IF(Compliance_Options!D345=\"\",\"\",Compliance_Options!D345)","v":""},{"$f":"IF(Compliance_Options!E345=\"\",\"\",Compliance_Options!E345)","v":""},{"$f":"IF(Compliance_Options!F345=\"\",\"\",Compliance_Options!F345)","v":""},{"$f":"AX323&\" \"&AY323&\" \"&AZ323&\" \"&BA323&\" \"&BB323","v":"    "},{"$f":"IF(COUNTIF(BC$2:BC323,BC323)=1,BC323,\"\")","v":""},{"$f":"IF(BF323=\"\",\"\",BF323&\" \"&BG323&\" \"&BH323)","v":""},{"$f":"IFERROR(INDEX(AX$2:AX$78,MATCH(ROW()-ROW($BD$1),$AW$2:$AW$78,0)),\"\")","v":""},{"$f":"IFERROR(INDEX(AY$2:AY$78,MATCH(ROW()-ROW($BD$1),$AW$2:$AW$78,0)),\"\")","v":""},{"$f":"IFERROR(INDEX(AZ$2:AZ$78,MATCH(ROW()-ROW($BD$1),$AW$2:$AW$78,0)),\"\")","v":""},{"$f":"IFERROR(INDEX(BA$2:BA$78,MATCH(ROW()-ROW($BD$1),$AW$2:$AW$78,0)),\"\")","v":""},{"$f":"IFERROR(INDEX(BB$2:BB$78,MATCH(ROW()-ROW($BD$1),$AW$2:$AW$78,0)),\"\")","v":""},{"$f":"IF($AZ323=\"Tire Production\",$BC323,\"\")","v":""},{"$f":"+IF(BK323=\"\",\"\",MAX(BL$1:BL322)+1)","v":""},{"$f":"IF(BN323=\"\",\"\",BN323&\" \"&BO323&\" \"&BP323&\" \"&BQ323&\" \"&BR323)","v":""},{"$f":"IFERROR(INDEX(AX$2:AX$78,MATCH(ROW()-ROW($BD$1),$BL$2:$BL$78,0)),\"\")","v":""},{"$f":"IFERROR(INDEX(AY$2:AY$78,MATCH(ROW()-ROW($BD$1),$BL$2:$BL$78,0)),\"\")","v":""},{"$f":"IFERROR(INDEX(AZ$2:AZ$78,MATCH(ROW()-ROW($BD$1),$BL$2:$BL$78,0)),\"\")","v":""},{"$f":"IFERROR(INDEX(BA$2:BA$78,MATCH(ROW()-ROW($BD$1),$BL$2:$BL$78,0)),\"\")","v":""},{"$f":"IFERROR(INDEX(BB$2:BB$78,MATCH(ROW()-ROW($BD$1),$BL$2:$BL$78,0)),\"\")","v":""},{"$f":"IF($AZ323=\"Tire Cord Production\",$BC323,\"\")","v":""},{"$f":"+IF(BS323=\"\",\"\",MAX(BT$1:BT322)+1)","v":""},{"$f":"IF(BV323=\"\",\"\",BV323&\" \"&BW323&\" \"&BX323)","v":""},{"$f":"IFERROR(INDEX(AX$2:AX$78,MATCH(ROW()-ROW($BT$1),$BT$2:$BT$78,0)),\"\")","v":""},{"$f":"IFERROR(INDEX(AY$2:AY$78,MATCH(ROW()-ROW($BT$1),$BT$2:$BT$78,0)),\"\")","v":""},{"$f":"IFERROR(INDEX(AZ$2:AZ$78,MATCH(ROW()-ROW($BT$1),$BT$2:$BT$78,0)),\"\")","v":""},{"$f":"IFERROR(INDEX(BA$2:BA$78,MATCH(ROW()-ROW($BT$1),$BT$2:$BT$78,0)),\"\")","v":""},{"$f":"IFERROR(INDEX(BB$2:BB$78,MATCH(ROW()-ROW($BT$1),$BT$2:$BT$78,0)),\"\")","v":""},{"$f":"IF($AZ323=\"Puncture Sealant Application\",$BC323,\"\")","v":""},{"$f":"+IF(CA323=\"\",\"\",MAX(CB$1:CB322)+1)","v":""},{"$f":"IF(CD323=\"\",\"\",CD323&\" \"&CE323&\" \"&CF323)","v":""},{"$f":"IFERROR(INDEX(AX$2:AX$78,MATCH(ROW()-ROW($CB$1),$CB$2:$CB$78,0)),\"\")","v":""},{"$f":"IFERROR(INDEX(AY$2:AY$78,MATCH(ROW()-ROW($CB$1),$CB$2:$CB$78,0)),\"\")","v":""},{"$f":"IFERROR(INDEX(AZ$2:AZ$78,MATCH(ROW()-ROW($CB$1),$CB$2:$CB$78,0)),\"\")","v":""},{"$f":"IFERROR(INDEX(BA$2:BA$78,MATCH(ROW()-ROW($CB$1),$CB$2:$CB$78,0)),\"\")","v":""},{"$f":"IFERROR(INDEX(BB$2:BB$78,MATCH(ROW()-ROW($CB$1),$CB$2:$CB$78,0)),\"\")","v":""},{"$f":"IF($AZ323=\"Rubber Processing\",$BC323,\"\")","v":""},{"$f":"+IF(CI323=\"\",\"\",MAX(CJ$1:CJ322)+1)","v":""},{"$f":"IFERROR(INDEX(AX$2:AX$78,MATCH(ROW()-ROW($CJ$1),$CJ$2:$CJ$78,0)),\"\")","v":""},{"$f":"IFERROR(INDEX(AY$2:AY$78,MATCH(ROW()-ROW($CJ$1),$CJ$2:$CJ$78,0)),\"\")","v":""},{"$f":"IFERROR(INDEX(AZ$2:AZ$78,MATCH(ROW()-ROW($CJ$1),$CJ$2:$CJ$78,0)),\"\")","v":""},{"$f":"IFERROR(INDEX(BA$2:BA$78,MATCH(ROW()-ROW($CJ$1),$CJ$2:$CJ$78,0)),\"\")","v":""},{"$f":"IFERROR(INDEX(BB$2:BB$78,MATCH(ROW()-ROW($CJ$1),$CJ$2:$CJ$78,0)),\"\")","v":""},null,{"$f":"+IF(CR323=\"\",\"\",MAX(CQ$1:CQ322)+1)","v":""},{"$f":"IF(Compliance_Options!B345=\"\",\"\",Compliance_Options!B345)","v":""},{"$f":"IF(Compliance_Options!C345=\"\",\"\",Compliance_Options!C345)","v":""},{"$f":"IF(Compliance_Options!D345=\"\",\"\",Compliance_Options!D345)","v":""},{"$f":"CR323&\" \"&CS323&\" \"&CT323","v":"  "},{"$f":"IF(COUNTIF(CU$2:CU323,CU323)=1,CU323,\"\")","v":""},{"$f":"IFERROR(INDEX(CV$2:CV$78,MATCH(ROW()-ROW($CV$1),$CQ$2:$CQ$78,0)),\"\")","v":""},{"$f":"IFERROR(INDEX(CR$2:CR$78,MATCH(ROW()-ROW($CV$1),$CQ$2:$CQ$78,0)),\"\")","v":""},{"$f":"IFERROR(INDEX(CS$2:CS$78,MATCH(ROW()-ROW($CV$1),$CQ$2:$CQ$78,0)),\"\")","v":""},{"$f":"IFERROR(INDEX(CT$2:CT$78,MATCH(ROW()-ROW($CV$1),$CQ$2:$CQ$78,0)),\"\")","v":""}]
[{"$nulls":48},{"$f":"+IF(AX324=\"\",\"\",MAX(AW$1:AW323)+1)","v":""},{"$f":"IF(Compliance_Options!B346=\"\",\"\",Compliance_Options!B346)","v":""},{"$f":"IF(Compliance_Options!C346=\"\",\"\",Compliance_Options!C346)","v":""},{"$f":"IF(Compliance_Options!D346=\"\",\"\",Compliance_Options!D346)","v":""},{"$f":"IF(Compliance_Options!E346=\"\",\"\",Compliance_Options!E346)","v":""},{"$f":"IF(Compliance_Options!F346=\"\",\"\",Compliance_Options!F346)","v":""},"    ",{"$f":"IF(COUNTIF(BC$2:BC324,BC324)=1,BC324,\"\")","v":""},"","","","","","","",{"$f":"+IF(BK324=\"\",\"\",MAX(BL$1:BL323)+1)","v":""},"","","","","","","",{"$f":"+IF(BS324=\"\",\"\",MAX(BT$1:BT323)+1)","v":""},"","","","","","","",{"$f":"+IF(CA324=\"\",\"\",MAX(CB$1:CB323)+1)","v":""},"","","","","","","",{"$f":"+IF(CI324=\"\",\"\",MAX(CJ$1:CJ323)+1)","v":""},"","","","","",null,{"$f":"+IF(CR324=\"\",\"\",MAX(CQ$1:CQ323)+1)","v":""},{"$f":"IF(Compliance_Options!B346=\"\",\"\",Compliance_Options!B346)","v":""},{"$f":"IF(Compliance_Options!C346=\"\",\"\",Compliance_Options!C346)","v":""},{"$f":"IF(Compliance_Options!D346=\"\",\"\",Compliance_Options!D346)","v":""},"  ",{"$f":"IF(COUNTIF(CU$2:CU324,CU324)=1,CU324,\"\")","v":""},"","","",""]
[{"$nulls":48},{"$f":"+IF(AX325=\"\",\"\",MAX(AW$1:AW324)+1)","v":""},{"$f":"IF(Compliance_Options!B347=\"\",\"\",Compliance_Options!B347)","v":""},{"$f":"IF(Compliance_Options!C347=\"\",\"\",Compliance_Options!C347)","v":""},{"$f":"IF(Compliance_Options!D347=\"\",\"\",Compliance_Options!D347)","v":""},{"$f":"IF(Compliance_Options!E347=\"\",\"\",Compliance_Options!E347)","v":""},{"$f":"IF(Compliance_Options!F347=\"\",\"\",Compliance_Options!F347)","v":""},"    ",{"$f":"IF(COUNTIF(BC$2:BC325,BC325)=1,BC325,\"\")","v":""},"","","","","","","",{"$f":"+IF(BK325=\"\",\"\",MAX(BL$1:BL324)+1)","v":""},"","","","","","","",{"$f":"+IF(BS325=\"\",\"\",MAX(BT$1:BT324)+1)","v":""},"","","","","","","",{"$f":"+IF(CA325=\"\",\"\",MAX(CB$1:CB324)+1)","v":""},"","","","","","","",{"$f":"+IF(CI325=\"\",\"\",MAX(CJ$1:CJ324)+1)","v":""},"","","","","",null,{"$f":"+IF(CR325=\"\",\"\",MAX(CQ$1:CQ324)+1)","v":""},{"$f":"IF(Compliance_Options!B347=\"\",\"\",Compliance_Options!B347)","v":""},{"$f":"IF(Compliance_Options!C347=\"\",\"\",Compliance_Options!C347)","v":""},{"$f":"IF(Compliance_Options!D347=\"\",\"\",Compliance_Options!D347)","v":""},"  ",{"$f":"IF(COUNTIF(CU$2:CU325,CU325)=1,CU325,\"\")","v":""},"","","",""]
[{"$nulls":48},{"$f":"+IF(AX326=\"\",\"\",MAX(AW$1:AW325)+1)","v":""},{"$f":"IF(Compliance_Options!B348=\"\",\"\",Compliance_Options!B348)","v":""},{"$f":"IF(Compliance_Options!C348=\"\",\"\",Compliance_Options!C348)","v":""},{"$f":"IF(Compliance_Options!D348=\"\",\"\",Compliance_Options!D348)","v":""},{"$f":"IF(Compliance_Options!E348=\"\",\"\",Compliance_Options!E348)","v":""},{"$f":"IF(Compliance_Options!F348=\"\",\"\",Compliance_Options!F348)","v":""},"    ",{"$f":"IF(COUNTIF(BC$2:BC326,BC326)=1,BC326,\"\")","v":""},"","","","","","","",{"$f":"+IF(BK326=\"\",\"\",MAX(BL$1:BL325)+1)","v":""},"","","","","","","",{"$f":"+IF(BS326=\"\",\"\",MAX(BT$1:BT325)+1)","v":""},"","","","","","","",{"$f":"+IF(CA326=\"\",\"\",MAX(CB$1:CB325)+1)","v":""},"","","","","","","",{"$f":"+IF(CI326=\"\",\"\",MAX(CJ$1:CJ325)+1)","v":""},"","","","","",null,{"$f":"+IF(CR326=\"\",\"\",MAX(CQ$1:CQ325)+1)","v":""},{"$f":"IF(Compliance_Options!B348=\"\",\"\",Compliance_Options!B348)","v":""},{"$f":"IF(Compliance_Options!C348=\"\",\"\",Compliance_Options!C348)","v":""},{"$f":"IF(Compliance_Options!D348=\"\",\"\",Compliance_Options!D348)","v":""},"  ",{"$f":"IF(COUNTIF(CU$2:CU326,CU326)=1,CU326,\"\")","v":""},"","","",""]
[{"$nulls":48},{"$f":"+IF(AX327=\"\",\"\",MAX(AW$1:AW326)+1)","v":""},{"$f":"IF(Compliance_Options!B349=\"\",\"\",Compliance_Options!B349)","v":""},{"$f":"IF(Compliance_Options!C349=\"\",\"\",Compliance_Options!C349)","v":""},{"$f":"IF(Compliance_Options!D349=\"\",\"\",Compliance_Options!D349)","v":""},{"$f":"IF(Compliance_Options!E349=\"\",\"\",Compliance_Options!E349)","v":""},{"$f":"IF(Compliance_Options!F349=\"\",\"\",Compliance_Options!F349)","v":""},"    ",{"$f":"IF(COUNTIF(BC$2:BC327,BC327)=1,BC327,\"\")","v":""},"","","","","","","",{"$f":"+IF(BK327=\"\",\"\",MAX(BL$1:BL326)+1)","v":""},"","","","","","","",{"$f":"+IF(BS327=\"\",\"\",MAX(BT$1:BT326)+1)","v":""},"","","","","","","",{"$f":"+IF(CA327=\"\",\"\",MAX(CB$1:CB326)+1)","v":""},"","","","","","","",{"$f":"+IF(CI327=\"\",\"\",MAX(CJ$1:CJ326)+1)","v":""},"","","","","",null,{"$f":"+IF(CR327=\"\",\"\",MAX(CQ$1:CQ326)+1)","v":""},{"$f":"IF(Compliance_Options!B349=\"\",\"\",Compliance_Options!B349)","v":""},{"$f":"IF(Compliance_Options!C349=\"\",\"\",Compliance_Options!C349)","v":""},{"$f":"IF(Compliance_Options!D349=\"\",\"\",Compliance_Options!D349)","v":""},"  ",{"$f":"IF(COUNTIF(CU$2:CU327,CU327)=1,CU327,\"\")","v":""},"","","",""]
[{"$nulls":48},{"$f":"+IF(AX328=\"\",\"\",MAX(AW$1:AW327)+1)","v":""},{"$f":"IF(Compliance_Options!B350=\"\",\"\",Compliance_Options!B350)","v":""},{"$f":"IF(Compliance_Options!C350=\"\",\"\",Compliance_Options!C350)","v":""},{"$f":"IF(Compliance_Options!D350=\"\",\"\",Compliance_Options!D350)","v":""},{"$f":"IF(Compliance_Options!E350=\"\",\"\",Compliance_Options!E350)","v":""},{"$f":"IF(Compliance_Options!F350=\"\",\"\",Compliance_Options!F350)","v":""},"    ",{"$f":"IF(COUNTIF(BC$2:BC328,BC328)=1,BC328,\"\")","v":""},"","","","","","","",{"$f":"+IF(BK328=\"\",\"\",MAX(BL$1:BL327)+1)","v":""},"","","","","","","",{"$f":"+IF(BS328=\"\",\"\",MAX(BT$1:BT327)+1)","v":""},"","","","","","","",{"$f":"+IF(CA328=\"\",\"\",MAX(CB$1:CB327)+1)","v":""},"","","","","","","",{"$f":"+IF(CI328=\"\",\"\",MAX(CJ$1:CJ327)+1)","v":""},"","","","","",null,{"$f":"+IF(CR328=\"\",\"\",MAX(CQ$1:CQ327)+1)","v":""},{"$f":"IF(Compliance_Options!B350=\"\",\"\",Compliance_Options!B350)","v":""},{"$f":"IF(Compliance_Options!C350=\"\",\"\",Compliance_Options!C350)","v":""},{"$f":"IF(Compliance_Options!D350=\"\",\"\",Compliance_Options!D350)","v":""},"  ",{"$f":"IF(COUNTIF(CU$2:CU328,CU328)=1,CU328,\"\")","v":""},"","","",""]
[{"$nulls":48},{"$f":"+IF(AX329=\"\",\"\",MAX(AW$1:AW328)+1)","v":""},{"$f":"IF(Compliance_Options!B351=\"\",\"\",Compliance_Options!B351)","v":""},{"$f":"IF(Compliance_Options!C351=\"\",\"\",Compliance_Options!C351)","v":""},{"$f":"IF(Compliance_Options!D351=\"\",\"\",Compliance_Options!D351)","v":""},{"$f":"IF(Compliance_Options!E351=\"\",\"\",Compliance_Options!E351)","v":""},{"$f":"IF(Compliance_Options!F351=\"\",\"\",Compliance_Options!F351)","v":""},"    ",{"$f":"IF(COUNTIF(BC$2:BC329,BC329)=1,BC329,\"\")","v":""},"","","","","","","",{"$f":"+IF(BK329=\"\",\"\",MAX(BL$1:BL328)+1)","v":""},"","","","","","","",{"$f":"+IF(BS329=\"\",\"\",MAX(BT$1:BT328)+1)","v":""},"","","","","","","",{"$f":"+IF(CA329=\"\",\"\",MAX(CB$1:CB328)+1)","v":""},"","","","","","","",{"$f":"+IF(CI329=\"\",\"\",MAX(CJ$1:CJ328)+1)","v":""},"","","","","",null,{"$f":"+IF(CR329=\"\",\"\",MAX(CQ$1:CQ328)+1)","v":""},{"$f":"IF(Compliance_Options!B351=\"\",\"\",Compliance_Options!B351)","v":""},{"$f":"IF(Compliance_Options!C351=\"\",\"\",Compliance_Options!C351)","v":""},{"$f":"IF(Compliance_Options!D351=\"\",\"\",Compliance_Options!D351)","v":""},"  ",{"$f":"IF(COUNTIF(CU$2:CU329,CU329)=1,CU329,\"\")","v":""},"","","",""]
[{"$nulls":48},{"$f":"+IF(AX330=\"\",\"\",MAX(AW$1:AW329)+1)","v":""},{"$f":"IF(Compliance_Options!B352=\"\",\"\",Compliance_Options!B352)","v":""},{"$f":"IF(Compliance_Options!C352=\"\",\"\",Compliance_Options!C352)","v":""},{"$f":"IF(Compliance_Options!D352=\"\",\"\",Compliance_Options!D352)","v":""},{"$f":"IF(Compliance_Options!E352=\"\",\"\",Compliance_Options!E352)","v":""},{"$f":"IF(Compliance_Options!F352=\"\",\"\",Compliance_Options!F352)","v":""},"    ",{"$f":"IF(COUNTIF(BC$2:BC330,BC330)=1,BC330,\"\")","v":""},"","","","","","","",{"$f":"+IF(BK330=\"\",\"\",MAX(BL$1:BL329)+1)","v":""},"","","","","","","",{"$f":"+IF(BS330=\"\",\"\",MAX(BT$1:BT329)+1)","v":""},"","","","","","","",{"$f":"+IF(CA330=\"\",\"\",MAX(CB$1:CB329)+1)","v":""},"","","","","","","",{"$f":"+IF(CI330=\"\",\"\",MAX(CJ$1:CJ329)+1)","v":""},"","","","","",null,{"$f":"+IF(CR330=\"\",\"\",MAX(CQ$1:CQ329)+1)","v":""},{"$f":"IF(Compliance_Options!B352=\"\",\"\",Compliance_Options!B352)","v":""},{"$f":"IF(Compliance_Options!C352=\"\",\"\",Compliance_Options!C352)","v":""},{"$f":"IF(Compliance_Options!D352=\"\",\"\",Compliance_Options!D352)","v":""},"  ",{"$f":"IF(COUNTIF(CU$2:CU330,CU330)=1,CU330,\"\")","v":""},"","","",""]
[{"$nulls":48},{"$f":"+IF(AX331=\"\",\"\",MAX(AW$1:AW330)+1)","v":""},{"$f":"IF(Compliance_Options!B353=\"\",\"\",Compliance_Options!B353)","v":""},{"$f":"IF(Compliance_Options!C353=\"\",\"\",Compliance_Options!C353)","v":""},{"$f":"IF(Compliance_Options!D353=\"\",\"\",Compliance_Options!D353)","v":""},{"$f":"IF(Compliance_Options!E353=\"\",\"\",Compliance_Options!E353)","v":""},{"$f":"IF(Compliance_Options!F353=\"\",\"\",Compliance_Options!F353)","v":""},"    ",{"$f":"IF(COUNTIF(BC$2:BC331,BC331)=1,BC331,\"\")","v":""},"","","","","","","",{"$f":"+IF(BK331=\"\",\"\",MAX(BL$1:BL330)+1)","v":""},"","","","","","","",{"$f":"+IF(BS331=\"\",\"\",MAX(BT$1:BT330)+1)","v":""},"","","","","","","",{"$f":"+IF(CA331=\"\",\"\",MAX(CB$1:CB330)+1)","v":""},"","","","","","","",{"$f":"+IF(CI331=\"\",\"\",MAX(CJ$1:CJ330)+1)","v":""},"","","","","",null,{"$f":"+IF(CR331=\"\",\"\",MAX(CQ$1:CQ330)+1)","v":""},{"$f":"IF(Compliance_Options!B353=\"\",\"\",Compliance_Options!B353)","v":""},{"$f":"IF(Compliance_Options!C353=\"\",\"\",Compliance_Options!C353)","v":""},{"$f":"IF(Compliance_Options!D353=\"\",\"\",Compliance_Options!D353)","v":""},"  ",{"$f":"IF(COUNTIF(CU$2:CU331,CU331)=1,CU331,\"\")","v":""},"","","",""]
[{"$nulls":48},{"$f":"+IF(AX332=\"\",\"\",MAX(AW$1:AW331)+1)","v":""},{"$f":"IF(Compliance_Options!B354=\"\",\"\",Compliance_Options!B354)","v":""},{"$f":"IF(Compliance_Options!C354=\"\",\"\",Compliance_Options!C354)","v":""},{"$f":"IF(Compliance_Options!D354=\"\",\"\",Compliance_Options!D354)","v":""},{"$f":"IF(Compliance_Options!E354=\"\",\"\",Compliance_Options!E354)","v":""},{"$f":"IF(Compliance_Options!F354=\"\",\"\",Compliance_Options!F354)","v":""},"    ",{"$f":"IF(COUNTIF(BC$2:BC332,BC332)=1,BC332,\"\")","v":""},"","","","","","","",{"$f":"+IF(BK332=\"\",\"\",MAX(BL$1:BL331)+1)","v":""},"","","","","","","",{"$f":"+IF(BS332=\"\",\"\",MAX(BT$1:BT331)+1)","v":""},"","","","","","","",{"$f":"+IF(CA332=\"\",\"\",MAX(CB$1:CB331)+1)","v":""},"","","","","","","",{"$f":"+IF(CI332=\"\",\"\",MAX(CJ$1:CJ331)+1)","v":""},"","","","","",null,{"$f":"+IF(CR332=\"\",\"\",MAX(CQ$1:CQ331)+1)","v":""},{"$f":"IF(Compliance_Options!B354=\"\",\"\",Compliance_Options!B354)","v":""},{"$f":"IF(Compliance_Options!C354=\"\",\"\",Compliance_Options!C354)","v":""},{"$f":"IF(Compliance_Options!D354=\"\",\"\",Compliance_Options!D354)","v":""},"  ",{"$f":"IF(COUNTIF(CU$2:CU332,CU332)=1,CU332,\"\")","v":""},"","","",""]
[{"$nulls":48},{"$f":"+IF(AX333=\"\",\"\",MAX(AW$1:AW332)+1)","v":""},{"$f":"IF(Compliance_Options!B355=\"\",\"\",Compliance_Options!B355)","v":""},{"$f":"IF(Compliance_Options!C355=\"\",\"\",Compliance_Options!C355)","v":""},{"$f":"IF(Compliance_Options!D355=\"\",\"\",Compliance_Options!D355)","v":""},{"$f":"IF(Compliance_Options!E355=\"\",\"\",Compliance_Options!E355)","v":""},{"$f":"IF(Compliance_Options!F355=\"\",\"\",Compliance_Options!F355)","v":""},"    ",{"$f":"IF(COUNTIF(BC$2:BC333,BC333)=1,BC333,\"\")","v":""},"","","","","","","",{"$f":"+IF(BK333=\"\",\"\",MAX(BL$1:BL332)+1)","v":""},"","","","","","","",{"$f":"+IF(BS333=\"\",\"\",MAX(BT$1:BT332)+1)","v":""},"","","","","","","",{"$f":"+IF(CA333=\"\",\"\",MAX(CB$1:CB332)+1)","v":""},"","","","","","","",{"$f":"+IF(CI333=\"\",\"\",MAX(CJ$1:CJ332)+1)","v":""},"","","","","",null,{"$f":"+IF(CR333=\"\",\"\",MAX(CQ$1:CQ332)+1)","v":""},{"$f":"IF(Compliance_Options!B355=\"\",\"\",Compliance_Options!B355)","v":""},{"$f":"IF(Compliance_Options!C355=\"\",\"\",Compliance_Options!C355)","v":""},{"$f":"IF(Compliance_Options!D355=\"\",\"\",Compliance_Options!D355)","v":""},"  ",{"$f":"IF(COUNTIF(CU$2:CU333,CU333)=1,CU333,\"\")","v":""},"","","",""]
[{"$nulls":48},{"$f":"+IF(AX334=\"\",\"\",MAX(AW$1:AW333)+1)","v":""},{"$f":"IF(Compliance_Options!B356=\"\",\"\",Compliance_Options!B356)","v":""},{"$f":"IF(Compliance_Options!C356=\"\",\"\",Compliance_Options!C356)","v":""},{"$f":"IF(Compliance_Options!D356=\"\",\"\",Compliance_Options!D356)","v":""},{"$f":"IF(Compliance_Options!E356=\"\",\"\",Compliance_Options!E356)","v":""},{"$f":"IF(Compliance_Options!F356=\"\",\"\",Compliance_Options!F356)","v":""},"    ",{"$f":"IF(COUNTIF(BC$2:BC334,BC334)=1,BC334,\"\")","v":""},"","","","","","","",{"$f":"+IF(BK334=\"\",\"\",MAX(BL$1:BL333)+1)","v":""},"","","","","","","",{"$f":"+IF(BS334=\"\",\"\",MAX(BT$1:BT333)+1)","v":""},"","","","","","","",{"$f":"+IF(CA334=\"\",\"\",MAX(CB$1:CB333)+1)","v":""},"","","","","","","",{"$f":"+IF(CI334=\"\",\"\",MAX(CJ$1:CJ333)+1)","v":""},"","","","","",null,{"$f":"+IF(CR334=\"\",\"\",MAX(CQ$1:CQ333)+1)","v":""},{"$f":"IF(Compliance_Options!B356=\"\",\"\",Compliance_Options!B356)","v":""},{"$f":"IF(Compliance_Options!C356=\"\",\"\",Compliance_Options!C356)","v":""},{"$f":"IF(Compliance_Options!D356=\"\",\"\",Compliance_Options!D356)","v":""},"  ",{"$f":"IF(COUNTIF(CU$2:CU334,CU334)=1,CU334,\"\")","v":""},"","","",""]
[{"$nulls":48},{"$f":"+IF(AX335=\"\",\"\",MAX(AW$1:AW334)+1)","v":""},{"$f":"IF(Compliance_Options!B357=\"\",\"\",Compliance_Options!B357)","v":""},{"$f":"IF(Compliance_Options!C357=\"\",\"\",Compliance_Options!C357)","v":""},{"$f":"IF(Compliance_Options!D357=\"\",\"\",Compliance_Options!D357)","v":""},{"$f":"IF(Compliance_Options!E357=\"\",\"\",Compliance_Options!E357)","v":""},{"$f":"IF(Compliance_Options!F357=\"\",\"\",Compliance_Options!F357)","v":""},"    ",{"$f":"IF(COUNTIF(BC$2:BC335,BC335)=1,BC335,\"\")","v":""},"","","","","","","",{"$f":"+IF(BK335=\"\",\"\",MAX(BL$1:BL334)+1)","v":""},"","","","","","","",{"$f":"+IF(BS335=\"\",\"\",MAX(BT$1:BT334)+1)","v":""},"","","","","","","",{"$f":"+IF(CA335=\"\",\"\",MAX(CB$1:CB334)+1)","v":""},"","","","","","","",{"$f":"+IF(CI335=\"\",\"\",MAX(CJ$1:CJ334)+1)","v":""},"","","","","",null,{"$f":"+IF(CR335=\"\",\"\",MAX(CQ$1:CQ334)+1)","v":""},{"$f":"IF(Compliance_Options!B357=\"\",\"\",Compliance_Options!B357)","v":""},{"$f":"IF(Compliance_Options!C357=\"\",\"\",Compliance_Options!C357)","v":""},{"$f":"IF(Compliance_Options!D357=\"\",\"\",Compliance_Options!D357)","v":""},"  ",{"$f":"IF(COUNTIF(CU$2:CU335,CU335)=1,CU335,\"\")","v":""},"","","",""]
[{"$nulls":48},{"$f":"+IF(AX336=\"\",\"\",MAX(AW$1:AW335)+1)","v":""},{"$f":"IF(Compliance_Options!B358=\"\",\"\",Compliance_Options!B358)","v":""},{"$f":"IF(Compliance_Options!C358=\"\",\"\",Compliance_Options!C358)","v":""},{"$f":"IF(Compliance_Options!D358=\"\",\"\",Compliance_Options!D358)","v":""},{"$f":"IF(Compliance_Options!E358=\"\",\"\",Compliance_Options!E358)","v":""},{"$f":"IF(Compliance_Options!F358=\"\",\"\",Compliance_Options!F358)","v":""},"    ",{"$f":"IF(COUNTIF(BC$2:BC336,BC336)=1,BC336,\"\")","v":""},"","","","","","","",{"$f":"+IF(BK336=\"\",\"\",MAX(BL$1:BL335)+1)","v":""},"","","","","","","",{"$f":"+IF(BS336=\"\",\"\",MAX(BT$1:BT335)+1)","v":""},"","","","","","","",{"$f":"+IF(CA336=\"\",\"\",MAX(CB$1:CB335)+1)","v":""},"","","","","","","",{"$f":"+IF(CI336=\"\",\"\",MAX(CJ$1:CJ335)+1)","v":""},"","","","","",null,{"$f":"+IF(CR336=\"\",\"\",MAX(CQ$1:CQ335)+1)","v":""},{"$f":"IF(Compliance_Options!B358=\"\",\"\",Compliance_Options!B358)","v":""},{"$f":"IF(Compliance_Options!C358=\"\",\"\",Compliance_Options!C358)","v":""},{"$f":"IF(Compliance_Options!D358=\"\",\"\",Compliance_Options!D358)","v":""},"  ",{"$f":"IF(COUNTIF(CU$2:CU336,CU336)=1,CU336,\"\")","v":""},"","","",""]
[{"$nulls":48},{"$f":"+IF(AX337=\"\",\"\",MAX(AW$1:AW336)+1)","v":""},{"$f":"IF(Compliance_Options!B359=\"\",\"\",Compliance_Options!B359)","v":""},{"$f":"IF(Compliance_Options!C359=\"\",\"\",Compliance_Options!C359)","v":""},{"$f":"IF(Compliance_Options!D359=\"\",\"\",Compliance_Options!D359)","v":""},{"$f":"IF(Compliance_Options!E359=\"\",\"\",Compliance_Options!E359)","v":""},{"$f":"IF(Compliance_Options!F359=\"\",\"\",Compliance_Options!F359)","v":""},"    ",{"$f":"IF(COUNTIF(BC$2:BC337,BC337)=1,BC337,\"\")","v":""},"","","","","","","",{"$f":"+IF(BK337=\"\",\"\",MAX(BL$1:BL336)+1)","v":""},"","","","","","","",{"$f":"+IF(BS337=\"\",\"\",MAX(BT$1:BT336)+1)","v":""},"","","","","","","",{"$f":"+IF(CA337=\"\",\"\",MAX(CB$1:CB336)+1)","v":""},"","","","","","","",{"$f":"+IF(CI337=\"\",\"\",MAX(CJ$1:CJ336)+1)","v":""},"","","","","",null,{"$f":"+IF(CR337=\"\",\"\",MAX(CQ$1:CQ336)+1)","v":""},{"$f":"IF(Compliance_Options!B359=\"\",\"\",Compliance_Options!B359)","v":""},{"$f":"IF(Compliance_Options!C359=\"\",\"\",Compliance_Options!C359)","v":""},{"$f":"IF(Compliance_Options!D359=\"\",\"\",Compliance_Options!D359)","v":""},"  ",{"$f":"IF(COUNTIF(CU$2:CU337,CU337)=1,CU337,\"\")","v":""},"","","",""]
[{"$nulls":48},{"$f":"+IF(AX338=\"\",\"\",MAX(AW$1:AW337)+1)","v":""},{"$f":"IF(Compliance_Options!B360=\"\",\"\",Compliance_Options!B360)","v":""},{"$f":"IF(Compliance_Options!C360=\"\",\"\",Compliance_Options!C360)","v":""},{"$f":"IF(Compliance_Options!D360=\"\",\"\",Compliance_Options!D360)","v":""},{"$f":"IF(Compliance_Options!E360=\"\",\"\",Compliance_Options!E360)","v":""},{"$f":"IF(Compliance_Options!F360=\"\",\"\",Compliance_Options!F360)","v":""},"    ",{"$f":"IF(COUNTIF(BC$2:BC338,BC338)=1,BC338,\"\")","v":""},"","","","","","","",{"$f":"+IF(BK338=\"\",\"\",MAX(BL$1:BL337)+1)","v":""},"","","","","","","",{"$f":"+IF(BS338=\"\",\"\",MAX(BT$1:BT337)+1)","v":""},"","","","","","","",{"$f":"+IF(CA338=\"\",\"\",MAX(CB$1:CB337)+1)","v":""},"","","","","","","",{"$f":"+IF(CI338=\"\",\"\",MAX(CJ$1:CJ337)+1)","v":""},"","","","","",null,{"$f":"+IF(CR338=\"\",\"\",MAX(CQ$1:CQ337)+1)","v":""},{"$f":"IF(Compliance_Options!B360=\"\",\"\",Compliance_Options!B360)","v":""},{"$f":"IF(Compliance_Options!C360=\"\",\"\",Compliance_Options!C360)","v":""},{"$f":"IF(Compliance_Options!D360=\"\",\"\",Compliance_Options!D360)","v":""},"  ",{"$f":"IF(COUNTIF(CU$2:CU338,CU338)=1,CU338,\"\")","v":""},"","","",""]
[{"$nulls":48},{"$f":"+IF(AX339=\"\",\"\",MAX(AW$1:AW338)+1)","v":""},{"$f":"IF(Compliance_Options!B361=\"\",\"\",Compliance_Options!B361)","v":""},{"$f":"IF(Compliance_Options!C361=\"\",\"\",Compliance_Options!C361)","v":""},{"$f":"IF(Compliance_Options!D361=\"\",\"\",Compliance_Options!D361)","v":""},{"$f":"IF(Compliance_Options!E361=\"\",\"\",Compliance_Options!E361)","v":""},{"$f":"IF(Compliance_Options!F361=\"\",\"\",Compliance_Options!F361)","v":""},"    ",{"$f":"IF(COUNTIF(BC$2:BC339,BC339)=1,BC339,\"\")","v":""},"","","","","","","",{"$f":"+IF(BK339=\"\",\"\",MAX(BL$1:BL338)+1)","v":""},"","","","","","","",{"$f":"+IF(BS339=\"\",\"\",MAX(BT$1:BT338)+1)","v":""},"","","","","","","",{"$f":"+IF(CA339=\"\",\"\",MAX(CB$1:CB338)+1)","v":""},"","","","","","","",{"$f":"+IF(CI339=\"\",\"\",MAX(CJ$1:CJ338)+1)","v":""},"","","","","",null,{"$f":"+IF(CR339=\"\",\"\",MAX(CQ$1:CQ338)+1)","v":""},{"$f":"IF(Compliance_Options!B361=\"\",\"\",Compliance_Options!B361)","v":""},{"$f":"IF(Compliance_Options!C361=\"\",\"\",Compliance_Options!C361)","v":""},{"$f":"IF(Compliance_Options!D361=\"\",\"\",Compliance_Options!D361)","v":""},"  ",{"$f":"IF(COUNTIF(CU$2:CU339,CU339)=1,CU339,\"\")","v":""},"","","",""]
[{"$nulls":48},{"$f":"+IF(AX340=\"\",\"\",MAX(AW$1:AW339)+1)","v":""},{"$f":"IF(Compliance_Options!B362=\"\",\"\",Compliance_Options!B362)","v":""},{"$f":"IF(Compliance_Options!C362=\"\",\"\",Compliance_Options!C362)","v":""},{"$f":"IF(Compliance_Options!D362=\"\",\"\",Compliance_Options!D362)","v":""},{"$f":"IF(Compliance_Options!E362=\"\",\"\",Compliance_Options!E362)","v":""},{"$f":"IF(Compliance_Options!F362=\"\",\"\",Compliance_Options!F362)","v":""},"    ",{"$f":"IF(COUNTIF(BC$2:BC340,BC340)=1,BC340,\"\")","v":""},"","","","","","","",{"$f":"+IF(BK340=\"\",\"\",MAX(BL$1:BL339)+1)","v":""},"","","","","","","",{"$f":"+IF(BS340=\"\",\"\",MAX(BT$1:BT339)+1)","v":""},"","","","","","","",{"$f":"+IF(CA340=\"\",\"\",MAX(CB$1:CB339)+1)","v":""},"","","","","","","",{"$f":"+IF(CI340=\"\",\"\",MAX(CJ$1:CJ339)+1)","v":""},"","","","","",null,{"$f":"+IF(CR340=\"\",\"\",MAX(CQ$1:CQ339)+1)","v":""},{"$f":"IF(Compliance_Options!B362=\"\",\"\",Compliance_Options!B362)","v":""},{"$f":"IF(Compliance_Options!C362=\"\",\"\",Compliance_Options!C362)","v":""},{"$f":"IF(Compliance_Options!D362=\"\",\"\",Compliance_Options!D362)","v":""},"  ",{"$f":"IF(COUNTIF(CU$2:CU340,CU340)=1,CU340,\"\")","v":""},"","","",""]
[{"$nulls":48},{"$f":"+IF(AX341=\"\",\"\",MAX(AW$1:AW340)+1)","v":""},{"$f":"IF(Compliance_Options!B363=\"\",\"\",Compliance_Options!B363)","v":""},{"$f":"IF(Compliance_Options!C363=\"\",\"\",Compliance_Options!C363)","v":""},{"$f":"IF(Compliance_Options!D363=\"\",\"\",Compliance_Options!D363)","v":""},{"$f":"IF(Compliance_Options!E363=\"\",\"\",Compliance_Options!E363)","v":""},{"$f":"IF(Compliance_Options!F363=\"\",\"\",Compliance_Options!F363)","v":""},"    ",{"$f":"IF(COUNTIF(BC$2:BC341,BC341)=1,BC341,\"\")","v":""},"","","","","","","",{"$f":"+IF(BK341=\"\",\"\",MAX(BL$1:BL340)+1)","v":""},"","","","","","","",{"$f":"+IF(BS341=\"\",\"\",MAX(BT$1:BT340)+1)","v":""},"","","","","","","",{"$f":"+IF(CA341=\"\",\"\",MAX(CB$1:CB340)+1)","v":""},"","","","","","","",{"$f":"+IF(CI341=\"\",\"\",MAX(CJ$1:CJ340)+1)","v":""},"","","","","",null,{"$f":"+IF(CR341=\"\",\"\",MAX(CQ$1:CQ340)+1)","v":""},{"$f":"IF(Compliance_Options!B363=\"\",\"\",Compliance_Options!B363)","v":""},{"$f":"IF(Compliance_Options!C363=\"\",\"\",Compliance_Options!C363)","v":""},{"$f":"IF(Compliance_Options!D363=\"\",\"\",Compliance_Options!D363)","v":""},"  ",{"$f":"IF(COUNTIF(CU$2:CU341,CU341)=1,CU341,\"\")","v":""},"","","",""]
[{"$nulls":48},{"$f":"+IF(AX342=\"\",\"\",MAX(AW$1:AW341)+1)","v":""},{"$f":"IF(Compliance_Options!B364=\"\",\"\",Compliance_Options!B364)","v":""},{"$f":"IF(Compliance_Options!C364=\"\",\"\",Compliance_Options!C364)","v":""},{"$f":"IF(Compliance_Options!D364=\"\",\"\",Compliance_Options!D364)","v":""},{"$f":"IF(Compliance_Options!E364=\"\",\"\",Compliance_Options!E364)","v":""},{"$f":"IF(Compliance_Options!F364=\"\",\"\",Compliance_Options!F364)","v":""},"    ",{"$f":"IF(COUNTIF(BC$2:BC342,BC342)=1,BC342,\"\")","v":""},"","","","","","","",{"$f":"+IF(BK342=\"\",\"\",MAX(BL$1:BL341)+1)","v":""},"","","","","","","",{"$f":"+IF(BS342=\"\",\"\",MAX(BT$1:BT341)+1)","v":""},"","","","","","","",{"$f":"+IF(CA342=\"\",\"\",MAX(CB$1:CB341)+1)","v":""},"","","","","","","",{"$f":"+IF(CI342=\"\",\"\",MAX(CJ$1:CJ341)+1)","v":""},"","","","","",null,{"$f":"+IF(CR342=\"\",\"\",MAX(CQ$1:CQ341)+1)","v":""},{"$f":"IF(Compliance_Options!B364=\"\",\"\",Compliance_Options!B364)","v":""},{"$f":"IF(Compliance_Options!C364=\"\",\"\",Compliance_Options!C364)","v":""},{"$f":"IF(Compliance_Options!D364=\"\",\"\",Compliance_Options!D364)","v":""},"  ",{"$f":"IF(COUNTIF(CU$2:CU342,CU342)=1,CU342,\"\")","v":""},"","","",""]
[{"$nulls":48},{"$f":"+IF(AX343=\"\",\"\",MAX(AW$1:AW342)+1)","v":""},{"$f":"IF(Compliance_Options!B365=\"\",\"\",Compliance_Options!B365)","v":""},{"$f":"IF(Compliance_Options!C365=\"\",\"\",Compliance_Options!C365)","v":""},{"$f":"IF(Compliance_Options!D365=\"\",\"\",Compliance_Options!D365)","v":""},{"$f":"IF(Compliance_Options!E365=\"\",\"\",Compliance_Options!E365)","v":""},{"$f":"IF(Compliance_Options!F365=\"\",\"\",Compliance_Options!F365)","v":""},"    ",{"$f":"IF(COUNTIF(BC$2:BC343,BC343)=1,BC343,\"\")","v":""},"","","","","","","",{"$f":"+IF(BK343=\"\",\"\",MAX(BL$1:BL342)+1)","v":""},"","","","","","","",{"$f":"+IF(BS343=\"\",\"\",MAX(BT$1:BT342)+1)","v":""},"","","","","","","",{"$f":"+IF(CA343=\"\",\"\",MAX(CB$1:CB342)+1)","v":""},"","","","","","","",{"$f":"+IF(CI343=\"\",\"\",MAX(CJ$1:CJ342)+1)","v":""},"","","","","",null,{"$f":"+IF(CR343=\"\",\"\",MAX(CQ$1:CQ342)+1)","v":""},{"$f":"IF(Compliance_Options!B365=\"\",\"\",Compliance_Options!B365)","v":""},{"$f":"IF(Compliance_Options!C365=\"\",\"\",Compliance_Options!C365)","v":""},{"$f":"IF(Compliance_Options!D365=\"\",\"\",Compliance_Options!D365)","v":""},"  ",{"$f":"IF(COUNTIF(CU$2:CU343,CU343)=1,CU343,\"\")","v":""},"","","",""]
[{"$nulls":48},{"$f":"+IF(AX344=\"\",\"\",MAX(AW$1:AW343)+1)","v":""},{"$f":"IF(Compliance_Options!B366=\"\",\"\",Compliance_Options!B366)","v":""},{"$f":"IF(Compliance_Options!C366=\"\",\"\",Compliance_Options!C366)","v":""},{"$f":"IF(Compliance_Options!D366=\"\",\"\",Compliance_Options!D366)","v":""},{"$f":"IF(Compliance_Options!E366=\"\",\"\",Compliance_Options!E366)","v":""},{"$f":"IF(Compliance_Options!F366=\"\",\"\",Compliance_Options!F366)","v":""},"    ",{"$f":"IF(COUNTIF(BC$2:BC344,BC344)=1,BC344,\"\")","v":""},"","","","","","","",{"$f":"+IF(BK344=\"\",\"\",MAX(BL$1:BL343)+1)","v":""},"","","","","","","",{"$f":"+IF(BS344=\"\",\"\",MAX(BT$1:BT343)+1)","v":""},"","","","","","","",{"$f":"+IF(CA344=\"\",\"\",MAX(CB$1:CB343)+1)","v":""},"","","","","","","",{"$f":"+IF(CI344=\"\",\"\",MAX(CJ$1:CJ343)+1)","v":""},"","","","","",null,{"$f":"+IF(CR344=\"\",\"\",MAX(CQ$1:CQ343)+1)","v":""},{"$f":"IF(Compliance_Options!B366=\"\",\"\",Compliance_Options!B366)","v":""},{"$f":"IF(Compliance_Options!C366=\"\",\"\",Compliance_Options!C366)","v":""},{"$f":"IF(Compliance_Options!D366=\"\",\"\",Compliance_Options!D366)","v":""},"  ",{"$f":"IF(COUNTIF(CU$2:CU344,CU344)=1,CU344,\"\")","v":""},"","","",""]
[{"$nulls":48},{"$f":"+IF(AX345=\"\",\"\",MAX(AW$1:AW344)+1)","v":""},{"$f":"IF(Compliance_Options!B367=\"\",\"\",Compliance_Options!B367)","v":""},{"$f":"IF(Compliance_Options!C367=\"\",\"\",Compliance_Options!C367)","v":""},{"$f":"IF(Compliance_Options!D367=\"\",\"\",Compliance_Options!D367)","v":""},{"$f":"IF(Compliance_Options!E367=\"\",\"\",Compliance_Options!E367)","v":""},{"$f":"IF(Compliance_Options!F367=\"\",\"\",Compliance_Options!F367)","v":""},"    ",{"$f":"IF(COUNTIF(BC$2:BC345,BC345)=1,BC345,\"\")","v":""},"","","","","","","",{"$f":"+IF(BK345=\"\",\"\",MAX(BL$1:BL344)+1)","v":""},"","","","","","","",{"$f":"+IF(BS345=\"\",\"\",MAX(BT$1:BT344)+1)","v":""},"","","","","","","",{"$f":"+IF(CA345=\"\",\"\",MAX(CB$1:CB344)+1)","v":""},"","","","","","","",{"$f":"+IF(CI345=\"\",\"\",MAX(CJ$1:CJ344)+1)","v":""},"","","","","",null,{"$f":"+IF(CR345=\"\",\"\",MAX(CQ$1:CQ344)+1)","v":""},{"$f":"IF(Compliance_Options!B367=\"\",\"\",Compliance_Options!B367)","v":""},{"$f":"IF(Compliance_Options!C367=\"\",\"\",Compliance_Options!C367)","v":""},{"$f":"IF(Compliance_Options!D367=\"\",\"\",Compliance_Options!D367)","v":""},"  ",{"$f":"IF(COUNTIF(CU$2:CU345,CU345)=1,CU345,\"\")","v":""},"","","",""]
[{"$nulls":48},{"$f":"+IF(AX346=\"\",\"\",MAX(AW$1:AW345)+1)","v":""},{"$f":"IF(Compliance_Options!B368=\"\",\"\",Compliance_Options!B368)","v":""},{"$f":"IF(Compliance_Options!C368=\"\",\"\",Compliance_Options!C368)","v":""},{"$f":"IF(Compliance_Options!D368=\"\",\"\",Compliance_Options!D368)","v":""},{"$f":"IF(Compliance_Options!E368=\"\",\"\",Compliance_Options!E368)","v":""},{"$f":"IF(Compliance_Options!F368=\"\",\"\",Compliance_Options!F368)","v":""},"    ",{"$f":"IF(COUNTIF(BC$2:BC346,BC346)=1,BC346,\"\")","v":""},"","","","","","","",{"$f":"+IF(BK346=\"\",\"\",MAX(BL$1:BL345)+1)","v":""},"","","","","","","",{"$f":"+IF(BS346=\"\",\"\",MAX(BT$1:BT345)+1)","v":""},"","","","","","","",{"$f":"+IF(CA346=\"\",\"\",MAX(CB$1:CB345)+1)","v":""},"","","","","","","",{"$f":"+IF(CI346=\"\",\"\",MAX(CJ$1:CJ345)+1)","v":""},"","","","","",null,{"$f":"+IF(CR346=\"\",\"\",MAX(CQ$1:CQ345)+1)","v":""},{"$f":"IF(Compliance_Options!B368=\"\",\"\",Compliance_Options!B368)","v":""},{"$f":"IF(Compliance_Options!C368=\"\",\"\",Compliance_Options!C368)","v":""},{"$f":"IF(Compliance_Options!D368=\"\",\"\",Compliance_Options!D368)","v":""},"  ",{"$f":"IF(COUNTIF(CU$2:CU346,CU346)=1,CU346,\"\")","v":""},"","","",""]
[{"$nulls":48},{"$f":"+IF(AX347=\"\",\"\",MAX(AW$1:AW346)+1)","v":""},{"$f":"IF(Compliance_Options!B369=\"\",\"\",Compliance_Options!B369)","v":""},{"$f":"IF(Compliance_Options!C369=\"\",\"\",Compliance_Options!C369)","v":""},{"$f":"IF(Compliance_Options!D369=\"\",\"\",Compliance_Options!D369)","v":""},{"$f":"IF(Compliance_Options!E369=\"\",\"\",Compliance_Options!E369)","v":""},{"$f":"IF(Compliance_Options!F369=\"\",\"\",Compliance_Options!F369)","v":""},"    ",{"$f":"IF(COUNTIF(BC$2:BC347,BC347)=1,BC347,\"\")","v":""},"","","","","","","",{"$f":"+IF(BK347=\"\",\"\",MAX(BL$1:BL346)+1)","v":""},"","","","","","","",{"$f":"+IF(BS347=\"\",\"\",MAX(BT$1:BT346)+1)","v":""},"","","","","","","",{"$f":"+IF(CA347=\"\",\"\",MAX(CB$1:CB346)+1)","v":""},"","","","","","","",{"$f":"+IF(CI347=\"\",\"\",MAX(CJ$1:CJ346)+1)","v":""},"","","","","",null,{"$f":"+IF(CR347=\"\",\"\",MAX(CQ$1:CQ346)+1)","v":""},{"$f":"IF(Compliance_Options!B369=\"\",\"\",Compliance_Options!B369)","v":""},{"$f":"IF(Compliance_Options!C369=\"\",\"\",Compliance_Options!C369)","v":""},{"$f":"IF(Compliance_Options!D369=\"\",\"\",Compliance_Options!D369)","v":""},"  ",{"$f":"IF(COUNTIF(CU$2:CU347,CU347)=1,CU347,\"\")","v":""},"","","",""]
[{"$nulls":48},{"$f":"+IF(AX348=\"\",\"\",MAX(AW$1:AW347)+1)","v":""},{"$f":"IF(Compliance_Options!B370=\"\",\"\",Compliance_Options!B370)","v":""},{"$f":"IF(Compliance_Options!C370=\"\",\"\",Compliance_Options!C370)","v":""},{"$f":"IF(Compliance_Options!D370=\"\",\"\",Compliance_Options!D370)","v":""},{"$f":"IF(Compliance_Options!E370=\"\",\"\",Compliance_Options!E370)","v":""},{"$f":"IF(Compliance_Options!F370=\"\",\"\",Compliance_Options!F370)","v":""},"    ",{"$f":"IF(COUNTIF(BC$2:BC348,BC348)=1,BC348,\"\")","v":""},"","","","","","","",{"$f":"+IF(BK348=\"\",\"\",MAX(BL$1:BL347)+1)","v":""},"","","","","","","",{"$f":"+IF(BS348=\"\",\"\",MAX(BT$1:BT347)+1)","v":""},"","","","","","","",{"$f":"+IF(CA348=\"\",\"\",MAX(CB$1:CB347)+1)","v":""},"","","","","","","",{"$f":"+IF(CI348=\"\",\"\",MAX(CJ$1:CJ347)+1)","v":""},"","","","","",null,{"$f":"+IF(CR348=\"\",\"\",MAX(CQ$1:CQ347)+1)","v":""},{"$f":"IF(Compliance_Options!B370=\"\",\"\",Compliance_Options!B370)","v":""},{"$f":"IF(Compliance_Options!C370=\"\",\"\",Compliance_Options!C370)","v":""},{"$f":"IF(Compliance_Options!D370=\"\",\"\",Compliance_Options!D370)","v":""},"  ",{"$f":"IF(COUNTIF(CU$2:CU348,CU348)=1,CU348,\"\")","v":""},"","","",""]
[{"$nulls":48},{"$f":"+IF(AX349=\"\",\"\",MAX(AW$1:AW348)+1)","v":""},{"$f":"IF(Compliance_Options!B371=\"\",\"\",Compliance_Options!B371)","v":""},{"$f":"IF(Compliance_Options!C371=\"\",\"\",Compliance_Options!C371)","v":""},{"$f":"IF(Compliance_Options!D371=\"\",\"\",Compliance_Options!D371)","v":""},{"$f":"IF(Compliance_Options!E371=\"\",\"\",Compliance_Options!E371)","v":""},{"$f":"IF(Compliance_Options!F371=\"\",\"\",Compliance_Options!F371)","v":""},"    ",{"$f":"IF(COUNTIF(BC$2:BC349,BC349)=1,BC349,\"\")","v":""},"","","","","","","",{"$f":"+IF(BK349=\"\",\"\",MAX(BL$1:BL348)+1)","v":""},"","","","","","","",{"$f":"+IF(BS349=\"\",\"\",MAX(BT$1:BT348)+1)","v":""},"","","","","","","",{"$f":"+IF(CA349=\"\",\"\",MAX(CB$1:CB348)+1)","v":""},"","","","","","","",{"$f":"+IF(CI349=\"\",\"\",MAX(CJ$1:CJ348)+1)","v":""},"","","","","",null,{"$f":"+IF(CR349=\"\",\"\",MAX(CQ$1:CQ348)+1)","v":""},{"$f":"IF(Compliance_Options!B371=\"\",\"\",Compliance_Options!B371)","v":""},{"$f":"IF(Compliance_Options!C371=\"\",\"\",Compliance_Options!C371)","v":""},{"$f":"IF(Compliance_Options!D371=\"\",\"\",Compliance_Options!D371)","v":""},"  ",{"$f":"IF(COUNTIF(CU$2:CU349,CU349)=1,CU349,\"\")","v":""},"","","",""]
[{"$nulls":48},{"$f":"+IF(AX350=\"\",\"\",MAX(AW$1:AW349)+1)","v":""},{"$f":"IF(Compliance_Options!B372=\"\",\"\",Compliance_Options!B372)","v":""},{"$f":"IF(Compliance_Options!C372=\"\",\"\",Compliance_Options!C372)","v":""},{"$f":"IF(Compliance_Options!D372=\"\",\"\",Compliance_Options!D372)","v":""},{"$f":"IF(Compliance_Options!E372=\"\",\"\",Compliance_Options!E372)","v":""},{"$f":"IF(Compliance_Options!F372=\"\",\"\",Compliance_Options!F372)","v":""},"    ",{"$f":"IF(COUNTIF(BC$2:BC350,BC350)=1,BC350,\"\")","v":""},"","","","","","","",{"$f":"+IF(BK350=\"\",\"\",MAX(BL$1:BL349)+1)","v":""},"","","","","","","",{"$f":"+IF(BS350=\"\",\"\",MAX(BT$1:BT349)+1)","v":""},"","","","","","","",{"$f":"+IF(CA350=\"\",\"\",MAX(CB$1:CB349)+1)","v":""},"","","","","","","",{"$f":"+IF(CI350=\"\",\"\",MAX(CJ$1:CJ349)+1)","v":""},"","","","","",null,{"$f":"+IF(CR350=\"\",\"\",MAX(CQ$1:CQ349)+1)","v":""},{"$f":"IF(Compliance_Options!B372=\"\",\"\",Compliance_Options!B372)","v":""},{"$f":"IF(Compliance_Options!C372=\"\",\"\",Compliance_Options!C372)","v":""},{"$f":"IF(Compliance_Options!D372=\"\",\"\",Compliance_Options!D372)","v":""},"  ",{"$f":"IF(COUNTIF(CU$2:CU350,CU350)=1,CU350,\"\")","v":""},"","","",""]
[{"$nulls":48},{"$f":"+IF(AX351=\"\",\"\",MAX(AW$1:AW350)+1)","v":""},{"$f":"IF(Compliance_Options!B373=\"\",\"\",Compliance_Options!B373)","v":""},{"$f":"IF(Compliance_Options!C373=\"\",\"\",Compliance_Options!C373)","v":""},{"$f":"IF(Compliance_Options!D373=\"\",\"\",Compliance_Options!D373)","v":""},{"$f":"IF(Compliance_Options!E373=\"\",\"\",Compliance_Options!E373)","v":""},{"$f":"IF(Compliance_Options!F373=\"\",\"\",Compliance_Options!F373)","v":""},"    ",{"$f":"IF(COUNTIF(BC$2:BC351,BC351)=1,BC351,\"\")","v":""},"","","","","","","",{"$f":"+IF(BK351=\"\",\"\",MAX(BL$1:BL350)+1)","v":""},"","","","","","","",{"$f":"+IF(BS351=\"\",\"\",MAX(BT$1:BT350)+1)","v":""},"","","","","","","",{"$f":"+IF(CA351=\"\",\"\",MAX(CB$1:CB350)+1)","v":""},"","","","","","","",{"$f":"+IF(CI351=\"\",\"\",MAX(CJ$1:CJ350)+1)","v":""},"","","","","",null,{"$f":"+IF(CR351=\"\",\"\",MAX(CQ$1:CQ350)+1)","v":""},{"$f":"IF(Compliance_Options!B373=\"\",\"\",Compliance_Options!B373)","v":""},{"$f":"IF(Compliance_Options!C373=\"\",\"\",Compliance_Options!C373)","v":""},{"$f":"IF(Compliance_Options!D373=\"\",\"\",Compliance_Options!D373)","v":""},"  ",{"$f":"IF(COUNTIF(CU$2:CU351,CU351)=1,CU351,\"\")","v":""},"","","",""]
[{"$nulls":48},{"$f":"+IF(AX352=\"\",\"\",MAX(AW$1:AW351)+1)","v":""},{"$f":"IF(Compliance_Options!B374=\"\",\"\",Compliance_Options!B374)","v":""},{"$f":"IF(Compliance_Options!C374=\"\",\"\",Compliance_Options!C374)","v":""},{"$f":"IF(Compliance_Options!D374=\"\",\"\",Compliance_Options!D374)","v":""},{"$f":"IF(Compliance_Options!E374=\"\",\"\",Compliance_Options!E374)","v":""},{"$f":"IF(Compliance_Options!F374=\"\",\"\",Compliance_Options!F374)","v":""},"    ",{"$f":"IF(COUNTIF(BC$2:BC352,BC352)=1,BC352,\"\")","v":""},"","","","","","","",{"$f":"+IF(BK352=\"\",\"\",MAX(BL$1:BL351)+1)","v":""},"","","","","","","",{"$f":"+IF(BS352=\"\",\"\",MAX(BT$1:BT351)+1)","v":""},"","","","","","","",{"$f":"+IF(CA352=\"\",\"\",MAX(CB$1:CB351)+1)","v":""},"","","","","","","",{"$f":"+IF(CI352=\"\",\"\",MAX(CJ$1:CJ351)+1)","v":""},"","","","","",null,{"$f":"+IF(CR352=\"\",\"\",MAX(CQ$1:CQ351)+1)","v":""},{"$f":"IF(Compliance_Options!B374=\"\",\"\",Compliance_Options!B374)","v":""},{"$f":"IF(Compliance_Options!C374=\"\",\"\",Compliance_Options!C374)","v":""},{"$f":"IF(Compliance_Options!D374=\"\",\"\",Compliance_Options!D374)","v":""},"  ",{"$f":"IF(COUNTIF(CU$2:CU352,CU352)=1,CU352,\"\")","v":""},"","","",""]
[{"$nulls":48},{"$f":"+IF(AX353=\"\",\"\",MAX(AW$1:AW352)+1)","v":""},{"$f":"IF(Compliance_Options!B375=\"\",\"\",Compliance_Options!B375)","v":""},{"$f":"IF(Compliance_Options!C375=\"\",\"\",Compliance_Options!C375)","v":""},{"$f":"IF(Compliance_Options!D375=\"\",\"\",Compliance_Options!D375)","v":""},{"$f":"IF(Compliance_Options!E375=\"\",\"\",Compliance_Options!E375)","v":""},{"$f":"IF(Compliance_Options!F375=\"\",\"\",Compliance_Options!F375)","v":""},"    ",{"$f":"IF(COUNTIF(BC$2:BC353,BC353)=1,BC353,\"\")","v":""},"","","","","","","",{"$f":"+IF(BK353=\"\",\"\",MAX(BL$1:BL352)+1)","v":""},"","","","","","","",{"$f":"+IF(BS353=\"\",\"\",MAX(BT$1:BT352)+1)","v":""},"","","","","","","",{"$f":"+IF(CA353=\"\",\"\",MAX(CB$1:CB352)+1)","v":""},"","","","","","","",{"$f":"+IF(CI353=\"\",\"\",MAX(CJ$1:CJ352)+1)","v":""},"","","","","",null,{"$f":"+IF(CR353=\"\",\"\",MAX(CQ$1:CQ352)+1)","v":""},{"$f":"IF(Compliance_Options!B375=\"\",\"\",Compliance_Options!B375)","v":""},{"$f":"IF(Compliance_Options!C375=\"\",\"\",Compliance_Options!C375)","v":""},{"$f":"IF(Compliance_Options!D375=\"\",\"\",Compliance_Options!D375)","v":""},"  ",{"$f":"IF(COUNTIF(CU$2:CU353,CU353)=1,CU353,\"\")","v":""},"","","",""]
[{"$nulls":48},{"$f":"+IF(AX354=\"\",\"\",MAX(AW$1:AW353)+1)","v":""},{"$f":"IF(Compliance_Options!B376=\"\",\"\",Compliance_Options!B376)","v":""},{"$f":"IF(Compliance_Options!C376=\"\",\"\",Compliance_Options!C376)","v":""},{"$f":"IF(Compliance_Options!D376=\"\",\"\",Compliance_Options!D376)","v":""},{"$f":"IF(Compliance_Options!E376=\"\",\"\",Compliance_Options!E376)","v":""},{"$f":"IF(Compliance_Options!F376=\"\",\"\",Compliance_Options!F376)","v":""},"    ",{"$f":"IF(COUNTIF(BC$2:BC354,BC354)=1,BC354,\"\")","v":""},"","","","","","","",{"$f":"+IF(BK354=\"\",\"\",MAX(BL$1:BL353)+1)","v":""},"","","","","","","",{"$f":"+IF(BS354=\"\",\"\",MAX(BT$1:BT353)+1)","v":""},"","","","","","","",{"$f":"+IF(CA354=\"\",\"\",MAX(CB$1:CB353)+1)","v":""},"","","","","","","",{"$f":"+IF(CI354=\"\",\"\",MAX(CJ$1:CJ353)+1)","v":""},"","","","","",null,{"$f":"+IF(CR354=\"\",\"\",MAX(CQ$1:CQ353)+1)","v":""},{"$f":"IF(Compliance_Options!B376=\"\",\"\",Compliance_Options!B376)","v":""},{"$f":"IF(Compliance_Options!C376=\"\",\"\",Compliance_Options!C376)","v":""},{"$f":"IF(Compliance_Options!D376=\"\",\"\",Compliance_Options!D376)","v":""},"  ",{"$f":"IF(COUNTIF(CU$2:CU354,CU354)=1,CU354,\"\")","v":""},"","","",""]
[{"$nulls":48},{"$f":"+IF(AX355=\"\",\"\",MAX(AW$1:AW354)+1)","v":""},{"$f":"IF(Compliance_Options!B377=\"\",\"\",Compliance_Options!B377)","v":""},{"$f":"IF(Compliance_Options!C377=\"\",\"\",Compliance_Options!C377)","v":""},{"$f":"IF(Compliance_Options!D377=\"\",\"\",Compliance_Options!D377)","v":""},{"$f":"IF(Compliance_Options!E377=\"\",\"\",Compliance_Options!E377)","v":""},{"$f":"IF(Compliance_Options!F377=\"\",\"\",Compliance_Options!F377)","v":""},"    ",{"$f":"IF(COUNTIF(BC$2:BC355,BC355)=1,BC355,\"\")","v":""},"","","","","","","",{"$f":"+IF(BK355=\"\",\"\",MAX(BL$1:BL354)+1)","v":""},"","","","","","","",{"$f":"+IF(BS355=\"\",\"\",MAX(BT$1:BT354)+1)","v":""},"","","","","","","",{"$f":"+IF(CA355=\"\",\"\",MAX(CB$1:CB354)+1)","v":""},"","","","","","","",{"$f":"+IF(CI355=\"\",\"\",MAX(CJ$1:CJ354)+1)","v":""},"","","","","",null,{"$f":"+IF(CR355=\"\",\"\",MAX(CQ$1:CQ354)+1)","v":""},{"$f":"IF(Compliance_Options!B377=\"\",\"\",Compliance_Options!B377)","v":""},{"$f":"IF(Compliance_Options!C377=\"\",\"\",Compliance_Options!C377)","v":""},{"$f":"IF(Compliance_Options!D377=\"\",\"\",Compliance_Options!D377)","v":""},"  ",{"$f":"IF(COUNTIF(CU$2:CU355,CU355)=1,CU355,\"\")","v":""},"","","",""]
[{"$nulls":48},{"$f":"+IF(AX356=\"\",\"\",MAX(AW$1:AW355)+1)","v":""},{"$f":"IF(Compliance_Options!B378=\"\",\"\",Compliance_Options!B378)","v":""},{"$f":"IF(Compliance_Options!C378=\"\",\"\",Compliance_Options!C378)","v":""},{"$f":"IF(Compliance_Options!D378=\"\",\"\",Compliance_Options!D378)","v":""},{"$f":"IF(Compliance_Options!E378=\"\",\"\",Compliance_Options!E378)","v":""},{"$f":"IF(Compliance_Options!F378=\"\",\"\",Compliance_Options!F378)","v":""},"    ",{"$f":"IF(COUNTIF(BC$2:BC356,BC356)=1,BC356,\"\")","v":""},"","","","","","","",{"$f":"+IF(BK356=\"\",\"\",MAX(BL$1:BL355)+1)","v":""},"","","","","","","",{"$f":"+IF(BS356=\"\",\"\",MAX(BT$1:BT355)+1)","v":""},"","","","","","","",{"$f":"+IF(CA356=\"\",\"\",MAX(CB$1:CB355)+1)","v":""},"","","","","","","",{"$f":"+IF(CI356=\"\",\"\",MAX(CJ$1:CJ355)+1)","v":""},"","","","","",null,{"$f":"+IF(CR356=\"\",\"\",MAX(CQ$1:CQ355)+1)","v":""},{"$f":"IF(Compliance_Options!B378=\"\",\"\",Compliance_Options!B378)","v":""},{"$f":"IF(Compliance_Options!C378=\"\",\"\",Compliance_Options!C378)","v":""},{"$f":"IF(Compliance_Options!D378=\"\",\"\",Compliance_Options!D378)","v":""},"  ",{"$f":"IF(COUNTIF(CU$2:CU356,CU356)=1,CU356,\"\")","v":""},"","","",""]
[{"$nulls":48},{"$f":"+IF(AX357=\"\",\"\",MAX(AW$1:AW356)+1)","v":""},{"$f":"IF(Compliance_Options!B379=\"\",\"\",Compliance_Options!B379)","v":""},{"$f":"IF(Compliance_Options!C379=\"\",\"\",Compliance_Options!C379)","v":""},{"$f":"IF(Compliance_Options!D379=\"\",\"\",Compliance_Options!D379)","v":""},{"$f":"IF(Compliance_Options!E379=\"\",\"\",Compliance_Options!E379)","v":""},{"$f":"IF(Compliance_Options!F379=\"\",\"\",Compliance_Options!F379)","v":""},"    ",{"$f":"IF(COUNTIF(BC$2:BC357,BC357)=1,BC357,\"\")","v":""},"","","","","","","",{"$f":"+IF(BK357=\"\",\"\",MAX(BL$1:BL356)+1)","v":""},"","","","","","","",{"$f":"+IF(BS357=\"\",\"\",MAX(BT$1:BT356)+1)","v":""},"","","","","","","",{"$f":"+IF(CA357=\"\",\"\",MAX(CB$1:CB356)+1)","v":""},"","","","","","","",{"$f":"+IF(CI357=\"\",\"\",MAX(CJ$1:CJ356)+1)","v":""},"","","","","",null,{"$f":"+IF(CR357=\"\",\"\",MAX(CQ$1:CQ356)+1)","v":""},{"$f":"IF(Compliance_Options!B379=\"\",\"\",Compliance_Options!B379)","v":""},{"$f":"IF(Compliance_Options!C379=\"\",\"\",Compliance_Options!C379)","v":""},{"$f":"IF(Compliance_Options!D379=\"\",\"\",Compliance_Options!D379)","v":""},"  ",{"$f":"IF(COUNTIF(CU$2:CU357,CU357)=1,CU357,\"\")","v":""},"","","",""]
[{"$nulls":48},{"$f":"+IF(AX358=\"\",\"\",MAX(AW$1:AW357)+1)","v":""},{"$f":"IF(Compliance_Options!B380=\"\",\"\",Compliance_Options!B380)","v":""},{"$f":"IF(Compliance_Options!C380=\"\",\"\",Compliance_Options!C380)","v":""},{"$f":"IF(Compliance_Options!D380=\"\",\"\",Compliance_Options!D380)","v":""},{"$f":"IF(Compliance_Options!E380=\"\",\"\",Compliance_Options!E380)","v":""},{"$f":"IF(Compliance_Options!F380=\"\",\"\",Compliance_Options!F380)","v":""},"    ",{"$f":"IF(COUNTIF(BC$2:BC358,BC358)=1,BC358,\"\")","v":""},"","","","","","","",{"$f":"+IF(BK358=\"\",\"\",MAX(BL$1:BL357)+1)","v":""},"","","","","","","",{"$f":"+IF(BS358=\"\",\"\",MAX(BT$1:BT357)+1)","v":""},"","","","","","","",{"$f":"+IF(CA358=\"\",\"\",MAX(CB$1:CB357)+1)","v":""},"","","","","","","",{"$f":"+IF(CI358=\"\",\"\",MAX(CJ$1:CJ357)+1)","v":""},"","","","","",null,{"$f":"+IF(CR358=\"\",\"\",MAX(CQ$1:CQ357)+1)","v":""},{"$f":"IF(Compliance_Options!B380=\"\",\"\",Compliance_Options!B380)","v":""},{"$f":"IF(Compliance_Options!C380=\"\",\"\",Compliance_Options!C380)","v":""},{"$f":"IF(Compliance_Options!D380=\"\",\"\",Compliance_Options!D380)","v":""},"  ",{"$f":"IF(COUNTIF(CU$2:CU358,CU358)=1,CU358,\"\")","v":""},"","","",""]
[{"$nulls":48},{"$f":"+IF(AX359=\"\",\"\",MAX(AW$1:AW358)+1)","v":""},{"$f":"IF(Compliance_Options!B381=\"\",\"\",Compliance_Options!B381)","v":""},{"$f":"IF(Compliance_Options!C381=\"\",\"\",Compliance_Options!C381)","v":""},{"$f":"IF(Compliance_Options!D381=\"\",\"\",Compliance_Options!D381)","v":""},{"$f":"IF(Compliance_Options!E381=\"\",\"\",Compliance_Options!E381)","v":""},{"$f":"IF(Compliance_Options!F381=\"\",\"\",Compliance_Options!F381)","v":""},"    ",{"$f":"IF(COUNTIF(BC$2:BC359,BC359)=1,BC359,\"\")","v":""},"","","","","","","",{"$f":"+IF(BK359=\"\",\"\",MAX(BL$1:BL358)+1)","v":""},"","","","","","","",{"$f":"+IF(BS359=\"\",\"\",MAX(BT$1:BT358)+1)","v":""},"","","","","","","",{"$f":"+IF(CA359=\"\",\"\",MAX(CB$1:CB358)+1)","v":""},"","","","","","","",{"$f":"+IF(CI359=\"\",\"\",MAX(CJ$1:CJ358)+1)","v":""},"","","","","",null,{"$f":"+IF(CR359=\"\",\"\",MAX(CQ$1:CQ358)+1)","v":""},{"$f":"IF(Compliance_Options!B381=\"\",\"\",Compliance_Options!B381)","v":""},{"$f":"IF(Compliance_Options!C381=\"\",\"\",Compliance_Options!C381)","v":""},{"$f":"IF(Compliance_Options!D381=\"\",\"\",Compliance_Options!D381)","v":""},"  ",{"$f":"IF(COUNTIF(CU$2:CU359,CU359)=1,CU359,\"\")","v":""},"","","",""]
[{"$nulls":48},{"$f":"+IF(AX360=\"\",\"\",MAX(AW$1:AW359)+1)","v":""},{"$f":"IF(Compliance_Options!B382=\"\",\"\",Compliance_Options!B382)","v":""},{"$f":"IF(Compliance_Options!C382=\"\",\"\",Compliance_Options!C382)","v":""},{"$f":"IF(Compliance_Options!D382=\"\",\"\",Compliance_Options!D382)","v":""},{"$f":"IF(Compliance_Options!E382=\"\",\"\",Compliance_Options!E382)","v":""},{"$f":"IF(Compliance_Options!F382=\"\",\"\",Compliance_Options!F382)","v":""},"    ",{"$f":"IF(COUNTIF(BC$2:BC360,BC360)=1,BC360,\"\")","v":""},"","","","","","","",{"$f":"+IF(BK360=\"\",\"\",MAX(BL$1:BL359)+1)","v":""},"","","","","","","",{"$f":"+IF(BS360=\"\",\"\",MAX(BT$1:BT359)+1)","v":""},"","","","","","","",{"$f":"+IF(CA360=\"\",\"\",MAX(CB$1:CB359)+1)","v":""},"","","","","","","",{"$f":"+IF(CI360=\"\",\"\",MAX(CJ$1:CJ359)+1)","v":""},"","","","","",null,{"$f":"+IF(CR360=\"\",\"\",MAX(CQ$1:CQ359)+1)","v":""},{"$f":"IF(Compliance_Options!B382=\"\",\"\",Compliance_Options!B382)","v":""},{"$f":"IF(Compliance_Options!C382=\"\",\"\",Compliance_Options!C382)","v":""},{"$f":"IF(Compliance_Options!D382=\"\",\"\",Compliance_Options!D382)","v":""},"  ",{"$f":"IF(COUNTIF(CU$2:CU360,CU360)=1,CU360,\"\")","v":""},"","","",""]
[{"$nulls":48},{"$f":"+IF(AX361=\"\",\"\",MAX(AW$1:AW360)+1)","v":""},{"$f":"IF(Compliance_Options!B383=\"\",\"\",Compliance_Options!B383)","v":""},{"$f":"IF(Compliance_Options!C383=\"\",\"\",Compliance_Options!C383)","v":""},{"$f":"IF(Compliance_Options!D383=\"\",\"\",Compliance_Options!D383)","v":""},{"$f":"IF(Compliance_Options!E383=\"\",\"\",Compliance_Options!E383)","v":""},{"$f":"IF(Compliance_Options!F383=\"\",\"\",Compliance_Options!F383)","v":""},"    ",{"$f":"IF(COUNTIF(BC$2:BC361,BC361)=1,BC361,\"\")","v":""},"","","","","","","",{"$f":"+IF(BK361=\"\",\"\",MAX(BL$1:BL360)+1)","v":""},"","","","","","","",{"$f":"+IF(BS361=\"\",\"\",MAX(BT$1:BT360)+1)","v":""},"","","","","","","",{"$f":"+IF(CA361=\"\",\"\",MAX(CB$1:CB360)+1)","v":""},"","","","","","","",{"$f":"+IF(CI361=\"\",\"\",MAX(CJ$1:CJ360)+1)","v":""},"","","","","",null,{"$f":"+IF(CR361=\"\",\"\",MAX(CQ$1:CQ360)+1)","v":""},{"$f":"IF(Compliance_Options!B383=\"\",\"\",Compliance_Options!B383)","v":""},{"$f":"IF(Compliance_Options!C383=\"\",\"\",Compliance_Options!C383)","v":""},{"$f":"IF(Compliance_Options!D383=\"\",\"\",Compliance_Options!D383)","v":""},"  ",{"$f":"IF(COUNTIF(CU$2:CU361,CU361)=1,CU361,\"\")","v":""},"","","",""]
[{"$nulls":48},{"$f":"+IF(AX362=\"\",\"\",MAX(AW$1:AW361)+1)","v":""},{"$f":"IF(Compliance_Options!B384=\"\",\"\",Compliance_Options!B384)","v":""},{"$f":"IF(Compliance_Options!C384=\"\",\"\",Compliance_Options!C384)","v":""},{"$f":"IF(Compliance_Options!D384=\"\",\"\",Compliance_Options!D384)","v":""},{"$f":"IF(Compliance_Options!E384=\"\",\"\",Compliance_Options!E384)","v":""},{"$f":"IF(Compliance_Options!F384=\"\",\"\",Compliance_Options!F384)","v":""},"    ",{"$f":"IF(COUNTIF(BC$2:BC362,BC362)=1,BC362,\"\")","v":""},"","","","","","","",{"$f":"+IF(BK362=\"\",\"\",MAX(BL$1:BL361)+1)","v":""},"","","","","","","",{"$f":"+IF(BS362=\"\",\"\",MAX(BT$1:BT361)+1)","v":""},"","","","","","","",{"$f":"+IF(CA362=\"\",\"\",MAX(CB$1:CB361)+1)","v":""},"","","","","","","",{"$f":"+IF(CI362=\"\",\"\",MAX(CJ$1:CJ361)+1)","v":""},"","","","","",null,{"$f":"+IF(CR362=\"\",\"\",MAX(CQ$1:CQ361)+1)","v":""},{"$f":"IF(Compliance_Options!B384=\"\",\"\",Compliance_Options!B384)","v":""},{"$f":"IF(Compliance_Options!C384=\"\",\"\",Compliance_Options!C384)","v":""},{"$f":"IF(Compliance_Options!D384=\"\",\"\",Compliance_Options!D384)","v":""},"  ",{"$f":"IF(COUNTIF(CU$2:CU362,CU362)=1,CU362,\"\")","v":""},"","","",""]
[{"$nulls":48},{"$f":"+IF(AX363=\"\",\"\",MAX(AW$1:AW362)+1)","v":""},{"$f":"IF(Compliance_Options!B385=\"\",\"\",Compliance_Options!B385)","v":""},{"$f":"IF(Compliance_Options!C385=\"\",\"\",Compliance_Options!C385)","v":""},{"$f":"IF(Compliance_Options!D385=\"\",\"\",Compliance_Options!D385)","v":""},{"$f":"IF(Compliance_Options!E385=\"\",\"\",Compliance_Options!E385)","v":""},{"$f":"IF(Compliance_Options!F385=\"\",\"\",Compliance_Options!F385)","v":""},"    ",{"$f":"IF(COUNTIF(BC$2:BC363,BC363)=1,BC363,\"\")","v":""},"","","","","","","",{"$f":"+IF(BK363=\"\",\"\",MAX(BL$1:BL362)+1)","v":""},"","","","","","","",{"$f":"+IF(BS363=\"\",\"\",MAX(BT$1:BT362)+1)","v":""},"","","","","","","",{"$f":"+IF(CA363=\"\",\"\",MAX(CB$1:CB362)+1)","v":""},"","","","","","","",{"$f":"+IF(CI363=\"\",\"\",MAX(CJ$1:CJ362)+1)","v":""},"","","","","",null,{"$f":"+IF(CR363=\"\",\"\",MAX(CQ$1:CQ362)+1)","v":""},{"$f":"IF(Compliance_Options!B385=\"\",\"\",Compliance_Options!B385)","v":""},{"$f":"IF(Compliance_Options!C385=\"\",\"\",Compliance_Options!C385)","v":""},{"$f":"IF(Compliance_Options!D385=\"\",\"\",Compliance_Options!D385)","v":""},"  ",{"$f":"IF(COUNTIF(CU$2:CU363,CU363)=1,CU363,\"\")","v":""},"","","",""]
[{"$nulls":48},{"$f":"+IF(AX364=\"\",\"\",MAX(AW$1:AW363)+1)","v":""},{"$f":"IF(Compliance_Options!B386=\"\",\"\",Compliance_Options!B386)","v":""},{"$f":"IF(Compliance_Options!C386=\"\",\"\",Compliance_Options!C386)","v":""},{"$f":"IF(Compliance_Options!D386=\"\",\"\",Compliance_Options!D386)","v":""},{"$f":"IF(Compliance_Options!E386=\"\",\"\",Compliance_Options!E386)","v":""},{"$f":"IF(Compliance_Options!F386=\"\",\"\",Compliance_Options!F386)","v":""},"    ",{"$f":"IF(COUNTIF(BC$2:BC364,BC364)=1,BC364,\"\")","v":""},"","","","","","","",{"$f":"+IF(BK364=\"\",\"\",MAX(BL$1:BL363)+1)","v":""},"","","","","","","",{"$f":"+IF(BS364=\"\",\"\",MAX(BT$1:BT363)+1)","v":""},"","","","","","","",{"$f":"+IF(CA364=\"\",\"\",MAX(CB$1:CB363)+1)","v":""},"","","","","","","",{"$f":"+IF(CI364=\"\",\"\",MAX(CJ$1:CJ363)+1)","v":""},"","","","","",null,{"$f":"+IF(CR364=\"\",\"\",MAX(CQ$1:CQ363)+1)","v":""},{"$f":"IF(Compliance_Options!B386=\"\",\"\",Compliance_Options!B386)","v":""},{"$f":"IF(Compliance_Options!C386=\"\",\"\",Compliance_Options!C386)","v":""},{"$f":"IF(Compliance_Options!D386=\"\",\"\",Compliance_Options!D386)","v":""},"  ",{"$f":"IF(COUNTIF(CU$2:CU364,CU364)=1,CU364,\"\")","v":""},"","","",""]
[{"$nulls":48},{"$f":"+IF(AX365=\"\",\"\",MAX(AW$1:AW364)+1)","v":""},{"$f":"IF(Compliance_Options!B387=\"\",\"\",Compliance_Options!B387)","v":""},{"$f":"IF(Compliance_Options!C387=\"\",\"\",Compliance_Options!C387)","v":""},{"$f":"IF(Compliance_Options!D387=\"\",\"\",Compliance_Options!D387)","v":""},{"$f":"IF(Compliance_Options!E387=\"\",\"\",Compliance_Options!E387)","v":""},{"$f":"IF(Compliance_Options!F387=\"\",\"\",Compliance_Options!F387)","v":""},"    ",{"$f":"IF(COUNTIF(BC$2:BC365,BC365)=1,BC365,\"\")","v":""},"","","","","","","",{"$f":"+IF(BK365=\"\",\"\",MAX(BL$1:BL364)+1)","v":""},"","","","","","","",{"$f":"+IF(BS365=\"\",\"\",MAX(BT$1:BT364)+1)","v":""},"","","","","","","",{"$f":"+IF(CA365=\"\",\"\",MAX(CB$1:CB364)+1)","v":""},"","","","","","","",{"$f":"+IF(CI365=\"\",\"\",MAX(CJ$1:CJ364)+1)","v":""},"","","","","",null,{"$f":"+IF(CR365=\"\",\"\",MAX(CQ$1:CQ364)+1)","v":""},{"$f":"IF(Compliance_Options!B387=\"\",\"\",Compliance_Options!B387)","v":""},{"$f":"IF(Compliance_Options!C387=\"\",\"\",Compliance_Options!C387)","v":""},{"$f":"IF(Compliance_Options!D387=\"\",\"\",Compliance_Options!D387)","v":""},"  ",{"$f":"IF(COUNTIF(CU$2:CU365,CU365)=1,CU365,\"\")","v":""},"","","",""]
[{"$nulls":48},{"$f":"+IF(AX366=\"\",\"\",MAX(AW$1:AW365)+1)","v":""},{"$f":"IF(Compliance_Options!B388=\"\",\"\",Compliance_Options!B388)","v":""},{"$f":"IF(Compliance_Options!C388=\"\",\"\",Compliance_Options!C388)","v":""},{"$f":"IF(Compliance_Options!D388=\"\",\"\",Compliance_Options!D388)","v":""},{"$f":"IF(Compliance_Options!E388=\"\",\"\",Compliance_Options!E388)","v":""},{"$f":"IF(Compliance_Options!F388=\"\",\"\",Compliance_Options!F388)","v":""},"    ",{"$f":"IF(COUNTIF(BC$2:BC366,BC366)=1,BC366,\"\")","v":""},"","","","","","","",{"$f":"+IF(BK366=\"\",\"\",MAX(BL$1:BL365)+1)","v":""},"","","","","","","",{"$f":"+IF(BS366=\"\",\"\",MAX(BT$1:BT365)+1)","v":""},"","","","","","","",{"$f":"+IF(CA366=\"\",\"\",MAX(CB$1:CB365)+1)","v":""},"","","","","","","",{"$f":"+IF(CI366=\"\",\"\",MAX(CJ$1:CJ365)+1)","v":""},"","","","","",null,{"$f":"+IF(CR366=\"\",\"\",MAX(CQ$1:CQ365)+1)","v":""},{"$f":"IF(Compliance_Options!B388=\"\",\"\",Compliance_Options!B388)","v":""},{"$f":"IF(Compliance_Options!C388=\"\",\"\",Compliance_Options!C388)","v":""},{"$f":"IF(Compliance_Options!D388=\"\",\"\",Compliance_Options!D388)","v":""},"  ",{"$f":"IF(COUNTIF(CU$2:CU366,CU366)=1,CU366,\"\")","v":""},"","","",""]
[{"$nulls":48},{"$f":"+IF(AX367=\"\",\"\",MAX(AW$1:AW366)+1)","v":""},{"$f":"IF(Compliance_Options!B389=\"\",\"\",Compliance_Options!B389)","v":""},{"$f":"IF(Compliance_Options!C389=\"\",\"\",Compliance_Options!C389)","v":""},{"$f":"IF(Compliance_Options!D389=\"\",\"\",Compliance_Options!D389)","v":""},{"$f":"IF(Compliance_Options!E389=\"\",\"\",Compliance_Options!E389)","v":""},{"$f":"IF(Compliance_Options!F389=\"\",\"\",Compliance_Options!F389)","v":""},"    ",{"$f":"IF(COUNTIF(BC$2:BC367,BC367)=1,BC367,\"\")","v":""},"","","","","","","",{"$f":"+IF(BK367=\"\",\"\",MAX(BL$1:BL366)+1)","v":""},"","","","","","","",{"$f":"+IF(BS367=\"\",\"\",MAX(BT$1:BT366)+1)","v":""},"","","","","","","",{"$f":"+IF(CA367=\"\",\"\",MAX(CB$1:CB366)+1)","v":""},"","","","","","","",{"$f":"+IF(CI367=\"\",\"\",MAX(CJ$1:CJ366)+1)","v":""},"","","","","",null,{"$f":"+IF(CR367=\"\",\"\",MAX(CQ$1:CQ366)+1)","v":""},{"$f":"IF(Compliance_Options!B389=\"\",\"\",Compliance_Options!B389)","v":""},{"$f":"IF(Compliance_Options!C389=\"\",\"\",Compliance_Options!C389)","v":""},{"$f":"IF(Compliance_Options!D389=\"\",\"\",Compliance_Options!D389)","v":""},"  ",{"$f":"IF(COUNTIF(CU$2:CU367,CU367)=1,CU367,\"\")","v":""},"","","",""]
[{"$nulls":48},{"$f":"+IF(AX368=\"\",\"\",MAX(AW$1:AW367)+1)","v":""},{"$f":"IF(Compliance_Options!B390=\"\",\"\",Compliance_Options!B390)","v":""},{"$f":"IF(Compliance_Options!C390=\"\",\"\",Compliance_Options!C390)","v":""},{"$f":"IF(Compliance_Options!D390=\"\",\"\",Compliance_Options!D390)","v":""},{"$f":"IF(Compliance_Options!E390=\"\",\"\",Compliance_Options!E390)","v":""},{"$f":"IF(Compliance_Options!F390=\"\",\"\",Compliance_Options!F390)","v":""},"    ",{"$f":"IF(COUNTIF(BC$2:BC368,BC368)=1,BC368,\"\")","v":""},"","","","","","","",{"$f":"+IF(BK368=\"\",\"\",MAX(BL$1:BL367)+1)","v":""},"","","","","","","",{"$f":"+IF(BS368=\"\",\"\",MAX(BT$1:BT367)+1)","v":""},"","","","","","","",{"$f":"+IF(CA368=\"\",\"\",MAX(CB$1:CB367)+1)","v":""},"","","","","","","",{"$f":"+IF(CI368=\"\",\"\",MAX(CJ$1:CJ367)+1)","v":""},"","","","","",null,{"$f":"+IF(CR368=\"\",\"\",MAX(CQ$1:CQ367)+1)","v":""},{"$f":"IF(Compliance_Options!B390=\"\",\"\",Compliance_Options!B390)","v":""},{"$f":"IF(Compliance_Options!C390=\"\",\"\",Compliance_Options!C390)","v":""},{"$f":"IF(Compliance_Options!D390=\"\",\"\",Compliance_Options!D390)","v":""},"  ",{"$f":"IF(COUNTIF(CU$2:CU368,CU368)=1,CU368,\"\")","v":""},"","","",""]
[{"$nulls":48},{"$f":"+IF(AX369=\"\",\"\",MAX(AW$1:AW368)+1)","v":""},{"$f":"IF(Compliance_Options!B391=\"\",\"\",Compliance_Options!B391)","v":""},{"$f":"IF(Compliance_Options!C391=\"\",\"\",Compliance_Options!C391)","v":""},{"$f":"IF(Compliance_Options!D391=\"\",\"\",Compliance_Options!D391)","v":""},{"$f":"IF(Compliance_Options!E391=\"\",\"\",Compliance_Options!E391)","v":""},{"$f":"IF(Compliance_Options!F391=\"\",\"\",Compliance_Options!F391)","v":""},"    ",{"$f":"IF(COUNTIF(BC$2:BC369,BC369)=1,BC369,\"\")","v":""},"","","","","","","",{"$f":"+IF(BK369=\"\",\"\",MAX(BL$1:BL368)+1)","v":""},"","","","","","","",{"$f":"+IF(BS369=\"\",\"\",MAX(BT$1:BT368)+1)","v":""},"","","","","","","",{"$f":"+IF(CA369=\"\",\"\",MAX(CB$1:CB368)+1)","v":""},"","","","","","","",{"$f":"+IF(CI369=\"\",\"\",MAX(CJ$1:CJ368)+1)","v":""},"","","","","",null,{"$f":"+IF(CR369=\"\",\"\",MAX(CQ$1:CQ368)+1)","v":""},{"$f":"IF(Compliance_Options!B391=\"\",\"\",Compliance_Options!B391)","v":""},{"$f":"IF(Compliance_Options!C391=\"\",\"\",Compliance_Options!C391)","v":""},{"$f":"IF(Compliance_Options!D391=\"\",\"\",Compliance_Options!D391)","v":""},"  ",{"$f":"IF(COUNTIF(CU$2:CU369,CU369)=1,CU369,\"\")","v":""},"","","",""]
[{"$nulls":48},{"$f":"+IF(AX370=\"\",\"\",MAX(AW$1:AW369)+1)","v":""},{"$f":"IF(Compliance_Options!B392=\"\",\"\",Compliance_Options!B392)","v":""},{"$f":"IF(Compliance_Options!C392=\"\",\"\",Compliance_Options!C392)","v":""},{"$f":"IF(Compliance_Options!D392=\"\",\"\",Compliance_Options!D392)","v":""},{"$f":"IF(Compliance_Options!E392=\"\",\"\",Compliance_Options!E392)","v":""},{"$f":"IF(Compliance_Options!F392=\"\",\"\",Compliance_Options!F392)","v":""},"    ",{"$f":"IF(COUNTIF(BC$2:BC370,BC370)=1,BC370,\"\")","v":""},"","","","","","","",{"$f":"+IF(BK370=\"\",\"\",MAX(BL$1:BL369)+1)","v":""},"","","","","","","",{"$f":"+IF(BS370=\"\",\"\",MAX(BT$1:BT369)+1)","v":""},"","","","","","","",{"$f":"+IF(CA370=\"\",\"\",MAX(CB$1:CB369)+1)","v":""},"","","","","","","",{"$f":"+IF(CI370=\"\",\"\",MAX(CJ$1:CJ369)+1)","v":""},"","","","","",null,{"$f":"+IF(CR370=\"\",\"\",MAX(CQ$1:CQ369)+1)","v":""},{"$f":"IF(Compliance_Options!B392=\"\",\"\",Compliance_Options!B392)","v":""},{"$f":"IF(Compliance_Options!C392=\"\",\"\",Compliance_Options!C392)","v":""},{"$f":"IF(Compliance_Options!D392=\"\",\"\",Compliance_Options!D392)","v":""},"  ",{"$f":"IF(COUNTIF(CU$2:CU370,CU370)=1,CU370,\"\")","v":""},"","","",""]
[{"$nulls":48},{"$f":"+IF(AX371=\"\",\"\",MAX(AW$1:AW370)+1)","v":""},{"$f":"IF(Compliance_Options!B393=\"\",\"\",Compliance_Options!B393)","v":""},{"$f":"IF(Compliance_Options!C393=\"\",\"\",Compliance_Options!C393)","v":""},{"$f":"IF(Compliance_Options!D393=\"\",\"\",Compliance_Options!D393)","v":""},{"$f":"IF(Compliance_Options!E393=\"\",\"\",Compliance_Options!E393)","v":""},{"$f":"IF(Compliance_Options!F393=\"\",\"\",Compliance_Options!F393)","v":""},"    ",{"$f":"IF(COUNTIF(BC$2:BC371,BC371)=1,BC371,\"\")","v":""},"","","","","","","",{"$f":"+IF(BK371=\"\",\"\",MAX(BL$1:BL370)+1)","v":""},"","","","","","","",{"$f":"+IF(BS371=\"\",\"\",MAX(BT$1:BT370)+1)","v":""},"","","","","","","",{"$f":"+IF(CA371=\"\",\"\",MAX(CB$1:CB370)+1)","v":""},"","","","","","","",{"$f":"+IF(CI371=\"\",\"\",MAX(CJ$1:CJ370)+1)","v":""},"","","","","",null,{"$f":"+IF(CR371=\"\",\"\",MAX(CQ$1:CQ370)+1)","v":""},{"$f":"IF(Compliance_Options!B393=\"\",\"\",Compliance_Options!B393)","v":""},{"$f":"IF(Compliance_Options!C393=\"\",\"\",Compliance_Options!C393)","v":""},{"$f":"IF(Compliance_Options!D393=\"\",\"\",Compliance_Options!D393)","v":""},"  ",{"$f":"IF(COUNTIF(CU$2:CU371,CU371)=1,CU371,\"\")","v":""},"","","",""]
[{"$nulls":48},{"$f":"+IF(AX372=\"\",\"\",MAX(AW$1:AW371)+1)","v":""},{"$f":"IF(Compliance_Options!B394=\"\",\"\",Compliance_Options!B394)","v":""},{"$f":"IF(Compliance_Options!C394=\"\",\"\",Compliance_Options!C394)","v":""},{"$f":"IF(Compliance_Options!D394=\"\",\"\",Compliance_Options!D394)","v":""},{"$f":"IF(Compliance_Options!E394=\"\",\"\",Compliance_Options!E394)","v":""},{"$f":"IF(Compliance_Options!F394=\"\",\"\",Compliance_Options!F394)","v":""},"    ",{"$f":"IF(COUNTIF(BC$2:BC372,BC372)=1,BC372,\"\")","v":""},"","","","","","","",{"$f":"+IF(BK372=\"\",\"\",MAX(BL$1:BL371)+1)","v":""},"","","","","","","",{"$f":"+IF(BS372=\"\",\"\",MAX(BT$1:BT371)+1)","v":""},"","","","","","","",{"$f":"+IF(CA372=\"\",\"\",MAX(CB$1:CB371)+1)","v":""},"","","","","","","",{"$f":"+IF(CI372=\"\",\"\",MAX(CJ$1:CJ371)+1)","v":""},"","","","","",null,{"$f":"+IF(CR372=\"\",\"\",MAX(CQ$1:CQ371)+1)","v":""},{"$f":"IF(Compliance_Options!B394=\"\",\"\",Compliance_Options!B394)","v":""},{"$f":"IF(Compliance_Options!C394=\"\",\"\",Compliance_Options!C394)","v":""},{"$f":"IF(Compliance_Options!D394=\"\",\"\",Compliance_Options!D394)","v":""},"  ",{"$f":"IF(COUNTIF(CU$2:CU372,CU372)=1,CU372,\"\")","v":""},"","","",""]
[{"$nulls":48},{"$f":"+IF(AX373=\"\",\"\",MAX(AW$1:AW372)+1)","v":""},{"$f":"IF(Compliance_Options!B395=\"\",\"\",Compliance_Options!B395)","v":""},{"$f":"IF(Compliance_Options!C395=\"\",\"\",Compliance_Options!C395)","v":""},{"$f":"IF(Compliance_Options!D395=\"\",\"\",Compliance_Options!D395)","v":""},{"$f":"IF(Compliance_Options!E395=\"\",\"\",Compliance_Options!E395)","v":""},{"$f":"IF(Compliance_Options!F395=\"\",\"\",Compliance_Options!F395)","v":""},"    ",{"$f":"IF(COUNTIF(BC$2:BC373,BC373)=1,BC373,\"\")","v":""},"","","","","","","",{"$f":"+IF(BK373=\"\",\"\",MAX(BL$1:BL372)+1)","v":""},"","","","","","","",{"$f":"+IF(BS373=\"\",\"\",MAX(BT$1:BT372)+1)","v":""},"","","","","","","",{"$f":"+IF(CA373=\"\",\"\",MAX(CB$1:CB372)+1)","v":""},"","","","","","","",{"$f":"+IF(CI373=\"\",\"\",MAX(CJ$1:CJ372)+1)","v":""},"","","","","",null,{"$f":"+IF(CR373=\"\",\"\",MAX(CQ$1:CQ372)+1)","v":""},{"$f":"IF(Compliance_Options!B395=\"\",\"\",Compliance_Options!B395)","v":""},{"$f":"IF(Compliance_Options!C395=\"\",\"\",Compliance_Options!C395)","v":""},{"$f":"IF(Compliance_Options!D395=\"\",\"\",Compliance_Options!D395)","v":""},"  ",{"$f":"IF(COUNTIF(CU$2:CU373,CU373)=1,CU373,\"\")","v":""},"","","",""]
[{"$nulls":48},{"$f":"+IF(AX374=\"\",\"\",MAX(AW$1:AW373)+1)","v":""},{"$f":"IF(Compliance_Options!B396=\"\",\"\",Compliance_Options!B396)","v":""},{"$f":"IF(Compliance_Options!C396=\"\",\"\",Compliance_Options!C396)","v":""},{"$f":"IF(Compliance_Options!D396=\"\",\"\",Compliance_Options!D396)","v":""},{"$f":"IF(Compliance_Options!E396=\"\",\"\",Compliance_Options!E396)","v":""},{"$f":"IF(Compliance_Options!F396=\"\",\"\",Compliance_Options!F396)","v":""},"    ",{"$f":"IF(COUNTIF(BC$2:BC374,BC374)=1,BC374,\"\")","v":""},"","","","","","","",{"$f":"+IF(BK374=\"\",\"\",MAX(BL$1:BL373)+1)","v":""},"","","","","","","",{"$f":"+IF(BS374=\"\",\"\",MAX(BT$1:BT373)+1)","v":""},"","","","","","","",{"$f":"+IF(CA374=\"\",\"\",MAX(CB$1:CB373)+1)","v":""},"","","","","","","",{"$f":"+IF(CI374=\"\",\"\",MAX(CJ$1:CJ373)+1)","v":""},"","","","","",null,{"$f":"+IF(CR374=\"\",\"\",MAX(CQ$1:CQ373)+1)","v":""},{"$f":"IF(Compliance_Options!B396=\"\",\"\",Compliance_Options!B396)","v":""},{"$f":"IF(Compliance_Options!C396=\"\",\"\",Compliance_Options!C396)","v":""},{"$f":"IF(Compliance_Options!D396=\"\",\"\",Compliance_Options!D396)","v":""},"  ",{"$f":"IF(COUNTIF(CU$2:CU374,CU374)=1,CU374,\"\")","v":""},"","","",""]
[{"$nulls":48},{"$f":"+IF(AX375=\"\",\"\",MAX(AW$1:AW374)+1)","v":""},{"$f":"IF(Compliance_Options!B397=\"\",\"\",Compliance_Options!B397)","v":""},{"$f":"IF(Compliance_Options!C397=\"\",\"\",Compliance_Options!C397)","v":""},{"$f":"IF(Compliance_Options!D397=\"\",\"\",Compliance_Options!D397)","v":""},{"$f":"IF(Compliance_Options!E397=\"\",\"\",Compliance_Options!E397)","v":""},{"$f":"IF(Compliance_Options!F397=\"\",\"\",Compliance_Options!F397)","v":""},"    ",{"$f":"IF(COUNTIF(BC$2:BC375,BC375)=1,BC375,\"\")","v":""},"","","","","","","",{"$f":"+IF(BK375=\"\",\"\",MAX(BL$1:BL374)+1)","v":""},"","","","","","","",{"$f":"+IF(BS375=\"\",\"\",MAX(BT$1:BT374)+1)","v":""},"","","","","","","",{"$f":"+IF(CA375=\"\",\"\",MAX(CB$1:CB374)+1)","v":""},"","","","","","","",{"$f":"+IF(CI375=\"\",\"\",MAX(CJ$1:CJ374)+1)","v":""},"","","","","",null,{"$f":"+IF(CR375=\"\",\"\",MAX(CQ$1:CQ374)+1)","v":""},{"$f":"IF(Compliance_Options!B397=\"\",\"\",Compliance_Options!B397)","v":""},{"$f":"IF(Compliance_Options!C397=\"\",\"\",Compliance_Options!C397)","v":""},{"$f":"IF(Compliance_Options!D397=\"\",\"\",Compliance_Options!D397)","v":""},"  ",{"$f":"IF(COUNTIF(CU$2:CU375,CU375)=1,CU375,\"\")","v":""},"","","",""]
[{"$nulls":48},{"$f":"+IF(AX376=\"\",\"\",MAX(AW$1:AW375)+1)","v":""},{"$f":"IF(Compliance_Options!B398=\"\",\"\",Compliance_Options!B398)","v":""},{"$f":"IF(Compliance_Options!C398=\"\",\"\",Compliance_Options!C398)","v":""},{"$f":"IF(Compliance_Options!D398=\"\",\"\",Compliance_Options!D398)","v":""},{"$f":"IF(Compliance_Options!E398=\"\",\"\",Compliance_Options!E398)","v":""},{"$f":"IF(Compliance_Options!F398=\"\",\"\",Compliance_Options!F398)","v":""},"    ",{"$f":"IF(COUNTIF(BC$2:BC376,BC376)=1,BC376,\"\")","v":""},"","","","","","","",{"$f":"+IF(BK376=\"\",\"\",MAX(BL$1:BL375)+1)","v":""},"","","","","","","",{"$f":"+IF(BS376=\"\",\"\",MAX(BT$1:BT375)+1)","v":""},"","","","","","","",{"$f":"+IF(CA376=\"\",\"\",MAX(CB$1:CB375)+1)","v":""},"","","","","","","",{"$f":"+IF(CI376=\"\",\"\",MAX(CJ$1:CJ375)+1)","v":""},"","","","","",null,{"$f":"+IF(CR376=\"\",\"\",MAX(CQ$1:CQ375)+1)","v":""},{"$f":"IF(Compliance_Options!B398=\"\",\"\",Compliance_Options!B398)","v":""},{"$f":"IF(Compliance_Options!C398=\"\",\"\",Compliance_Options!C398)","v":""},{"$f":"IF(Compliance_Options!D398=\"\",\"\",Compliance_Options!D398)","v":""},"  ",{"$f":"IF(COUNTIF(CU$2:CU376,CU376)=1,CU376,\"\")","v":""},"","","",""]
[{"$nulls":48},{"$f":"+IF(AX377=\"\",\"\",MAX(AW$1:AW376)+1)","v":""},{"$f":"IF(Compliance_Options!B399=\"\",\"\",Compliance_Options!B399)","v":""},{"$f":"IF(Compliance_Options!C399=\"\",\"\",Compliance_Options!C399)","v":""},{"$f":"IF(Compliance_Options!D399=\"\",\"\",Compliance_Options!D399)","v":""},{"$f":"IF(Compliance_Options!E399=\"\",\"\",Compliance_Options!E399)","v":""},{"$f":"IF(Compliance_Options!F399=\"\",\"\",Compliance_Options!F399)","v":""},"    ",{"$f":"IF(COUNTIF(BC$2:BC377,BC377)=1,BC377,\"\")","v":""},"","","","","","","",{"$f":"+IF(BK377=\"\",\"\",MAX(BL$1:BL376)+1)","v":""},"","","","","","","",{"$f":"+IF(BS377=\"\",\"\",MAX(BT$1:BT376)+1)","v":""},"","","","","","","",{"$f":"+IF(CA377=\"\",\"\",MAX(CB$1:CB376)+1)","v":""},"","","","","","","",{"$f":"+IF(CI377=\"\",\"\",MAX(CJ$1:CJ376)+1)","v":""},"","","","","",null,{"$f":"+IF(CR377=\"\",\"\",MAX(CQ$1:CQ376)+1)","v":""},{"$f":"IF(Compliance_Options!B399=\"\",\"\",Compliance_Options!B399)","v":""},{"$f":"IF(Compliance_Options!C399=\"\",\"\",Compliance_Options!C399)","v":""},{"$f":"IF(Compliance_Options!D399=\"\",\"\",Compliance_Options!D399)","v":""},"  ",{"$f":"IF(COUNTIF(CU$2:CU377,CU377)=1,CU377,\"\")","v":""},"","","",""]
[{"$nulls":48},{"$f":"+IF(AX378=\"\",\"\",MAX(AW$1:AW377)+1)","v":""},{"$f":"IF(Compliance_Options!B400=\"\",\"\",Compliance_Options!B400)","v":""},{"$f":"IF(Compliance_Options!C400=\"\",\"\",Compliance_Options!C400)","v":""},{"$f":"IF(Compliance_Options!D400=\"\",\"\",Compliance_Options!D400)","v":""},{"$f":"IF(Compliance_Options!E400=\"\",\"\",Compliance_Options!E400)","v":""},{"$f":"IF(Compliance_Options!F400=\"\",\"\",Compliance_Options!F400)","v":""},"    ",{"$f":"IF(COUNTIF(BC$2:BC378,BC378)=1,BC378,\"\")","v":""},"","","","","","","",{"$f":"+IF(BK378=\"\",\"\",MAX(BL$1:BL377)+1)","v":""},"","","","","","","",{"$f":"+IF(BS378=\"\",\"\",MAX(BT$1:BT377)+1)","v":""},"","","","","","","",{"$f":"+IF(CA378=\"\",\"\",MAX(CB$1:CB377)+1)","v":""},"","","","","","","",{"$f":"+IF(CI378=\"\",\"\",MAX(CJ$1:CJ377)+1)","v":""},"","","","","",null,{"$f":"+IF(CR378=\"\",\"\",MAX(CQ$1:CQ377)+1)","v":""},{"$f":"IF(Compliance_Options!B400=\"\",\"\",Compliance_Options!B400)","v":""},{"$f":"IF(Compliance_Options!C400=\"\",\"\",Compliance_Options!C400)","v":""},{"$f":"IF(Compliance_Options!D400=\"\",\"\",Compliance_Options!D400)","v":""},"  ",{"$f":"IF(COUNTIF(CU$2:CU378,CU378)=1,CU378,\"\")","v":""},"","","",""]
[{"$nulls":48},{"$f":"+IF(AX379=\"\",\"\",MAX(AW$1:AW378)+1)","v":""},{"$f":"IF(Compliance_Options!B401=\"\",\"\",Compliance_Options!B401)","v":""},{"$f":"IF(Compliance_Options!C401=\"\",\"\",Compliance_Options!C401)","v":""},{"$f":"IF(Compliance_Options!D401=\"\",\"\",Compliance_Options!D401)","v":""},{"$f":"IF(Compliance_Options!E401=\"\",\"\",Compliance_Options!E401)","v":""},{"$f":"IF(Compliance_Options!F401=\"\",\"\",Compliance_Options!F401)","v":""},"    ",{"$f":"IF(COUNTIF(BC$2:BC379,BC379)=1,BC379,\"\")","v":""},"","","","","","","",{"$f":"+IF(BK379=\"\",\"\",MAX(BL$1:BL378)+1)","v":""},"","","","","","","",{"$f":"+IF(BS379=\"\",\"\",MAX(BT$1:BT378)+1)","v":""},"","","","","","","",{"$f":"+IF(CA379=\"\",\"\",MAX(CB$1:CB378)+1)","v":""},"","","","","","","",{"$f":"+IF(CI379=\"\",\"\",MAX(CJ$1:CJ378)+1)","v":""},"","","","","",null,{"$f":"+IF(CR379=\"\",\"\",MAX(CQ$1:CQ378)+1)","v":""},{"$f":"IF(Compliance_Options!B401=\"\",\"\",Compliance_Options!B401)","v":""},{"$f":"IF(Compliance_Options!C401=\"\",\"\",Compliance_Options!C401)","v":""},{"$f":"IF(Compliance_Options!D401=\"\",\"\",Compliance_Options!D401)","v":""},"  ",{"$f":"IF(COUNTIF(CU$2:CU379,CU379)=1,CU379,\"\")","v":""},"","","",""]
[{"$nulls":48},{"$f":"+IF(AX380=\"\",\"\",MAX(AW$1:AW379)+1)","v":""},{"$f":"IF(Compliance_Options!B402=\"\",\"\",Compliance_Options!B402)","v":""},{"$f":"IF(Compliance_Options!C402=\"\",\"\",Compliance_Options!C402)","v":""},{"$f":"IF(Compliance_Options!D402=\"\",\"\",Compliance_Options!D402)","v":""},{"$f":"IF(Compliance_Options!E402=\"\",\"\",Compliance_Options!E402)","v":""},{"$f":"IF(Compliance_Options!F402=\"\",\"\",Compliance_Options!F402)","v":""},"    ",{"$f":"IF(COUNTIF(BC$2:BC380,BC380)=1,BC380,\"\")","v":""},"","","","","","","",{"$f":"+IF(BK380=\"\",\"\",MAX(BL$1:BL379)+1)","v":""},"","","","","","","",{"$f":"+IF(BS380=\"\",\"\",MAX(BT$1:BT379)+1)","v":""},"","","","","","","",{"$f":"+IF(CA380=\"\",\"\",MAX(CB$1:CB379)+1)","v":""},"","","","","","","",{"$f":"+IF(CI380=\"\",\"\",MAX(CJ$1:CJ379)+1)","v":""},"","","","","",null,{"$f":"+IF(CR380=\"\",\"\",MAX(CQ$1:CQ379)+1)","v":""},{"$f":"IF(Compliance_Options!B402=\"\",\"\",Compliance_Options!B402)","v":""},{"$f":"IF(Compliance_Options!C402=\"\",\"\",Compliance_Options!C402)","v":""},{"$f":"IF(Compliance_Options!D402=\"\",\"\",Compliance_Options!D402)","v":""},"  ",{"$f":"IF(COUNTIF(CU$2:CU380,CU380)=1,CU380,\"\")","v":""},"","","",""]
[{"$nulls":48},{"$f":"+IF(AX381=\"\",\"\",MAX(AW$1:AW380)+1)","v":""},{"$f":"IF(Compliance_Options!B403=\"\",\"\",Compliance_Options!B403)","v":""},{"$f":"IF(Compliance_Options!C403=\"\",\"\",Compliance_Options!C403)","v":""},{"$f":"IF(Compliance_Options!D403=\"\",\"\",Compliance_Options!D403)","v":""},{"$f":"IF(Compliance_Options!E403=\"\",\"\",Compliance_Options!E403)","v":""},{"$f":"IF(Compliance_Options!F403=\"\",\"\",Compliance_Options!F403)","v":""},"    ",{"$f":"IF(COUNTIF(BC$2:BC381,BC381)=1,BC381,\"\")","v":""},"","","","","","","",{"$f":"+IF(BK381=\"\",\"\",MAX(BL$1:BL380)+1)","v":""},"","","","","","","",{"$f":"+IF(BS381=\"\",\"\",MAX(BT$1:BT380)+1)","v":""},"","","","","","","",{"$f":"+IF(CA381=\"\",\"\",MAX(CB$1:CB380)+1)","v":""},"","","","","","","",{"$f":"+IF(CI381=\"\",\"\",MAX(CJ$1:CJ380)+1)","v":""},"","","","","",null,{"$f":"+IF(CR381=\"\",\"\",MAX(CQ$1:CQ380)+1)","v":""},{"$f":"IF(Compliance_Options!B403=\"\",\"\",Compliance_Options!B403)","v":""},{"$f":"IF(Compliance_Options!C403=\"\",\"\",Compliance_Options!C403)","v":""},{"$f":"IF(Compliance_Options!D403=\"\",\"\",Compliance_Options!D403)","v":""},"  ",{"$f":"IF(COUNTIF(CU$2:CU381,CU381)=1,CU381,\"\")","v":""},"","","",""]
[{"$nulls":48},{"$f":"+IF(AX382=\"\",\"\",MAX(AW$1:AW381)+1)","v":""},{"$f":"IF(Compliance_Options!B404=\"\",\"\",Compliance_Options!B404)","v":""},{"$f":"IF(Compliance_Options!C404=\"\",\"\",Compliance_Options!C404)","v":""},{"$f":"IF(Compliance_Options!D404=\"\",\"\",Compliance_Options!D404)","v":""},{"$f":"IF(Compliance_Options!E404=\"\",\"\",Compliance_Options!E404)","v":""},{"$f":"IF(Compliance_Options!F404=\"\",\"\",Compliance_Options!F404)","v":""},"    ",{"$f":"IF(COUNTIF(BC$2:BC382,BC382)=1,BC382,\"\")","v":""},"","","","","","","",{"$f":"+IF(BK382=\"\",\"\",MAX(BL$1:BL381)+1)","v":""},"","","","","","","",{"$f":"+IF(BS382=\"\",\"\",MAX(BT$1:BT381)+1)","v":""},"","","","","","","",{"$f":"+IF(CA382=\"\",\"\",MAX(CB$1:CB381)+1)","v":""},"","","","","","","",{"$f":"+IF(CI382=\"\",\"\",MAX(CJ$1:CJ381)+1)","v":""},"","","","","",null,{"$f":"+IF(CR382=\"\",\"\",MAX(CQ$1:CQ381)+1)","v":""},{"$f":"IF(Compliance_Options!B404=\"\",\"\",Compliance_Options!B404)","v":""},{"$f":"IF(Compliance_Options!C404=\"\",\"\",Compliance_Options!C404)","v":""},{"$f":"IF(Compliance_Options!D404=\"\",\"\",Compliance_Options!D404)","v":""},"  ",{"$f":"IF(COUNTIF(CU$2:CU382,CU382)=1,CU382,\"\")","v":""},"","","",""]
[{"$nulls":48},{"$f":"+IF(AX383=\"\",\"\",MAX(AW$1:AW382)+1)","v":""},{"$f":"IF(Compliance_Options!B405=\"\",\"\",Compliance_Options!B405)","v":""},{"$f":"IF(Compliance_Options!C405=\"\",\"\",Compliance_Options!C405)","v":""},{"$f":"IF(Compliance_Options!D405=\"\",\"\",Compliance_Options!D405)","v":""},{"$f":"IF(Compliance_Options!E405=\"\",\"\",Compliance_Options!E405)","v":""},{"$f":"IF(Compliance_Options!F405=\"\",\"\",Compliance_Options!F405)","v":""},"    ",{"$f":"IF(COUNTIF(BC$2:BC383,BC383)=1,BC383,\"\")","v":""},"","","","","","","",{"$f":"+IF(BK383=\"\",\"\",MAX(BL$1:BL382)+1)","v":""},"","","","","","","",{"$f":"+IF(BS383=\"\",\"\",MAX(BT$1:BT382)+1)","v":""},"","","","","","","",{"$f":"+IF(CA383=\"\",\"\",MAX(CB$1:CB382)+1)","v":""},"","","","","","","",{"$f":"+IF(CI383=\"\",\"\",MAX(CJ$1:CJ382)+1)","v":""},"","","","","",null,{"$f":"+IF(CR383=\"\",\"\",MAX(CQ$1:CQ382)+1)","v":""},{"$f":"IF(Compliance_Options!B405=\"\",\"\",Compliance_Options!B405)","v":""},{"$f":"IF(Compliance_Options!C405=\"\",\"\",Compliance_Options!C405)","v":""},{"$f":"IF(Compliance_Options!D405=\"\",\"\",Compliance_Options!D405)","v":""},"  ",{"$f":"IF(COUNTIF(CU$2:CU383,CU383)=1,CU383,\"\")","v":""},"","","",""]
[{"$nulls":48},{"$f":"+IF(AX384=\"\",\"\",MAX(AW$1:AW383)+1)","v":""},{"$f":"IF(Compliance_Options!B406=\"\",\"\",Compliance_Options!B406)","v":""},{"$f":"IF(Compliance_Options!C406=\"\",\"\",Compliance_Options!C406)","v":""},{"$f":"IF(Compliance_Options!D406=\"\",\"\",Compliance_Options!D406)","v":""},{"$f":"IF(Compliance_Options!E406=\"\",\"\",Compliance_Options!E406)","v":""},{"$f":"IF(Compliance_Options!F406=\"\",\"\",Compliance_Options!F406)","v":""},"    ",{"$f":"IF(COUNTIF(BC$2:BC384,BC384)=1,BC384,\"\")","v":""},"","","","","","","",{"$f":"+IF(BK384=\"\",\"\",MAX(BL$1:BL383)+1)","v":""},"","","","","","","",{"$f":"+IF(BS384=\"\",\"\",MAX(BT$1:BT383)+1)","v":""},"","","","","","","",{"$f":"+IF(CA384=\"\",\"\",MAX(CB$1:CB383)+1)","v":""},"","","","","","","",{"$f":"+IF(CI384=\"\",\"\",MAX(CJ$1:CJ383)+1)","v":""},"","","","","",null,{"$f":"+IF(CR384=\"\",\"\",MAX(CQ$1:CQ383)+1)","v":""},{"$f":"IF(Compliance_Options!B406=\"\",\"\",Compliance_Options!B406)","v":""},{"$f":"IF(Compliance_Options!C406=\"\",\"\",Compliance_Options!C406)","v":""},{"$f":"IF(Compliance_Options!D406=\"\",\"\",Compliance_Options!D406)","v":""},"  ",{"$f":"IF(COUNTIF(CU$2:CU384,CU384)=1,CU384,\"\")","v":""},"","","",""]
[{"$nulls":48},{"$f":"+IF(AX385=\"\",\"\",MAX(AW$1:AW384)+1)","v":""},{"$f":"IF(Compliance_Options!B407=\"\",\"\",Compliance_Options!B407)","v":""},{"$f":"IF(Compliance_Options!C407=\"\",\"\",Compliance_Options!C407)","v":""},{"$f":"IF(Compliance_Options!D407=\"\",\"\",Compliance_Options!D407)","v":""},{"$f":"IF(Compliance_Options!E407=\"\",\"\",Compliance_Options!E407)","v":""},{"$f":"IF(Compliance_Options!F407=\"\",\"\",Compliance_Options!F407)","v":""},"    ",{"$f":"IF(COUNTIF(BC$2:BC385,BC385)=1,BC385,\"\")","v":""},"","","","","","","",{"$f":"+IF(BK385=\"\",\"\",MAX(BL$1:BL384)+1)","v":""},"","","","","","","",{"$f":"+IF(BS385=\"\",\"\",MAX(BT$1:BT384)+1)","v":""},"","","","","","","",{"$f":"+IF(CA385=\"\",\"\",MAX(CB$1:CB384)+1)","v":""},"","","","","","","",{"$f":"+IF(CI385=\"\",\"\",MAX(CJ$1:CJ384)+1)","v":""},"","","","","",null,{"$f":"+IF(CR385=\"\",\"\",MAX(CQ$1:CQ384)+1)","v":""},{"$f":"IF(Compliance_Options!B407=\"\",\"\",Compliance_Options!B407)","v":""},{"$f":"IF(Compliance_Options!C407=\"\",\"\",Compliance_Options!C407)","v":""},{"$f":"IF(Compliance_Options!D407=\"\",\"\",Compliance_Options!D407)","v":""},"  ",{"$f":"IF(COUNTIF(CU$2:CU385,CU385)=1,CU385,\"\")","v":""},"","","",""]
[{"$nulls":48},{"$f":"+IF(AX386=\"\",\"\",MAX(AW$1:AW385)+1)","v":""},{"$f":"IF(Compliance_Options!B408=\"\",\"\",Compliance_Options!B408)","v":""},{"$f":"IF(Compliance_Options!C408=\"\",\"\",Compliance_Options!C408)","v":""},{"$f":"IF(Compliance_Options!D408=\"\",\"\",Compliance_Options!D408)","v":""},{"$f":"IF(Compliance_Options!E408=\"\",\"\",Compliance_Options!E408)","v":""},{"$f":"IF(Compliance_Options!F408=\"\",\"\",Compliance_Options!F408)","v":""},"    ",{"$f":"IF(COUNTIF(BC$2:BC386,BC386)=1,BC386,\"\")","v":""},"","","","","","","",{"$f":"+IF(BK386=\"\",\"\",MAX(BL$1:BL385)+1)","v":""},"","","","","","","",{"$f":"+IF(BS386=\"\",\"\",MAX(BT$1:BT385)+1)","v":""},"","","","","","","",{"$f":"+IF(CA386=\"\",\"\",MAX(CB$1:CB385)+1)","v":""},"","","","","","","",{"$f":"+IF(CI386=\"\",\"\",MAX(CJ$1:CJ385)+1)","v":""},"","","","","",null,{"$f":"+IF(CR386=\"\",\"\",MAX(CQ$1:CQ385)+1)","v":""},{"$f":"IF(Compliance_Options!B408=\"\",\"\",Compliance_Options!B408)","v":""},{"$f":"IF(Compliance_Options!C408=\"\",\"\",Compliance_Options!C408)","v":""},{"$f":"IF(Compliance_Options!D408=\"\",\"\",Compliance_Options!D408)","v":""},"  ",{"$f":"IF(COUNTIF(CU$2:CU386,CU386)=1,CU386,\"\")","v":""},"","","",""]
[{"$nulls":48},{"$f":"+IF(AX387=\"\",\"\",MAX(AW$1:AW386)+1)","v":""},{"$f":"IF(Compliance_Options!B409=\"\",\"\",Compliance_Options!B409)","v":""},{"$f":"IF(Compliance_Options!C409=\"\",\"\",Compliance_Options!C409)","v":""},{"$f":"IF(Compliance_Options!D409=\"\",\"\",Compliance_Options!D409)","v":""},{"$f":"IF(Compliance_Options!E409=\"\",\"\",Compliance_Options!E409)","v":""},{"$f":"IF(Compliance_Options!F409=\"\",\"\",Compliance_Options!F409)","v":""},{"$f":"AX387&\" \"&AY387&\" \"&AZ387&\" \"&BA387&\" \"&BB387","v":"    "},{"$f":"IF(COUNTIF(BC$2:BC387,BC387)=1,BC387,\"\")","v":""},{"$f":"IF(BF387=\"\",\"\",BF387&\" \"&BG387&\" \"&BH387)","v":""},{"$f":"IFERROR(INDEX(AX$2:AX$78,MATCH(ROW()-ROW($BD$1),$AW$2:$AW$78,0)),\"\")","v":""},{"$f":"IFERROR(INDEX(AY$2:AY$78,MATCH(ROW()-ROW($BD$1),$AW$2:$AW$78,0)),\"\")","v":""},{"$f":"IFERROR(INDEX(AZ$2:AZ$78,MATCH(ROW()-ROW($BD$1),$AW$2:$AW$78,0)),\"\")","v":""},{"$f":"IFERROR(INDEX(BA$2:BA$78,MATCH(ROW()-ROW($BD$1),$AW$2:$AW$78,0)),\"\")","v":""},{"$f":"IFERROR(INDEX(BB$2:BB$78,MATCH(ROW()-ROW($BD$1),$AW$2:$AW$78,0)),\"\")","v":""},{"$f":"IF($AZ387=\"Tire Production\",$BC387,\"\")","v":""},{"$f":"+IF(BK387=\"\",\"\",MAX(BL$1:BL386)+1)","v":""},{"$f":"IF(BN387=\"\",\"\",BN387&\" \"&BO387&\" \"&BP387&\" \"&BQ387&\" \"&BR387)","v":""},{"$f":"IFERROR(INDEX(AX$2:AX$78,MATCH(ROW()-ROW($BD$1),$BL$2:$BL$78,0)),\"\")","v":""},{"$f":"IFERROR(INDEX(AY$2:AY$78,MATCH(ROW()-ROW($BD$1),$BL$2:$BL$78,0)),\"\")","v":""},{"$f":"IFERROR(INDEX(AZ$2:AZ$78,MATCH(ROW()-ROW($BD$1),$BL$2:$BL$78,0)),\"\")","v":""},{"$f":"IFERROR(INDEX(BA$2:BA$78,MATCH(ROW()-ROW($BD$1),$BL$2:$BL$78,0)),\"\")","v":""},{"$f":"IFERROR(INDEX(BB$2:BB$78,MATCH(ROW()-ROW($BD$1),$BL$2:$BL$78,0)),\"\")","v":""},{"$f":"IF($AZ387=\"Tire Cord Production\",$BC387,\"\")","v":""},{"$f":"+IF(BS387=\"\",\"\",MAX(BT$1:BT386)+1)","v":""},{"$f":"IF(BV387=\"\",\"\",BV387&\" \"&BW387&\" \"&BX387)","v":""},{"$f":"IFERROR(INDEX(AX$2:AX$78,MATCH(ROW()-ROW($BT$1),$BT$2:$BT$78,0)),\"\")","v":""},{"$f":"IFERROR(INDEX(AY$2:AY$78,MATCH(ROW()-ROW($BT$1),$BT$2:$BT$78,0)),\"\")","v":""},{"$f":"IFERROR(INDEX(AZ$2:AZ$78,MATCH(ROW()-ROW($BT$1),$BT$2:$BT$78,0)),\"\")","v":""},{"$f":"IFERROR(INDEX(BA$2:BA$78,MATCH(ROW()-ROW($BT$1),$BT$2:$BT$78,0)),\"\")","v":""},{"$f":"IFERROR(INDEX(BB$2:BB$78,MATCH(ROW()-ROW($BT$1),$BT$2:$BT$78,0)),\"\")","v":""},{"$f":"IF($AZ387=\"Puncture Sealant Application\",$BC387,\"\")","v":""},{"$f":"+IF(CA387=\"\",\"\",MAX(CB$1:CB386)+1)","v":""},{"$f":"IF(CD387=\"\",\"\",CD387&\" \"&CE387&\" \"&CF387)","v":""},{"$f":"IFERROR(INDEX(AX$2:AX$78,MATCH(ROW()-ROW($CB$1),$CB$2:$CB$78,0)),\"\")","v":""},{"$f":"IFERROR(INDEX(AY$2:AY$78,MATCH(ROW()-ROW($CB$1),$CB$2:$CB$78,0)),\"\")","v":""},{"$f":"IFERROR(INDEX(AZ$2:AZ$78,MATCH(ROW()-ROW($CB$1),$CB$2:$CB$78,0)),\"\")","v":""},{"$f":"IFERROR(INDEX(BA$2:BA$78,MATCH(ROW()-ROW($CB$1),$CB$2:$CB$78,0)),\"\")","v":""},{"$f":"IFERROR(INDEX(BB$2:BB$78,MATCH(ROW()-ROW($CB$1),$CB$2:$CB$78,0)),\"\")","v":""},{"$f":"IF($AZ387=\"Rubber Processing\",$BC387,\"\")","v":""},{"$f":"+IF(CI387=\"\",\"\",MAX(CJ$1:CJ386)+1)","v":""},{"$f":"IFERROR(INDEX(AX$2:AX$78,MATCH(ROW()-ROW($CJ$1),$CJ$2:$CJ$78,0)),\"\")","v":""},{"$f":"IFERROR(INDEX(AY$2:AY$78,MATCH(ROW()-ROW($CJ$1),$CJ$2:$CJ$78,0)),\"\")","v":""},{"$f":"IFERROR(INDEX(AZ$2:AZ$78,MATCH(ROW()-ROW($CJ$1),$CJ$2:$CJ$78,0)),\"\")","v":""},{"$f":"IFERROR(INDEX(BA$2:BA$78,MATCH(ROW()-ROW($CJ$1),$CJ$2:$CJ$78,0)),\"\")","v":""},{"$f":"IFERROR(INDEX(BB$2:BB$78,MATCH(ROW()-ROW($CJ$1),$CJ$2:$CJ$78,0)),\"\")","v":""},null,{"$f":"+IF(CR387=\"\",\"\",MAX(CQ$1:CQ386)+1)","v":""},{"$f":"IF(Compliance_Options!B409=\"\",\"\",Compliance_Options!B409)","v":""},{"$f":"IF(Compliance_Options!C409=\"\",\"\",Compliance_Options!C409)","v":""},{"$f":"IF(Compliance_Options!D409=\"\",\"\",Compliance_Options!D409)","v":""},{"$f":"CR387&\" \"&CS387&\" \"&CT387","v":"  "},{"$f":"IF(COUNTIF(CU$2:CU387,CU387)=1,CU387,\"\")","v":""},{"$f":"IFERROR(INDEX(CV$2:CV$78,MATCH(ROW()-ROW($CV$1),$CQ$2:$CQ$78,0)),\"\")","v":""},{"$f":"IFERROR(INDEX(CR$2:CR$78,MATCH(ROW()-ROW($CV$1),$CQ$2:$CQ$78,0)),\"\")","v":""},{"$f":"IFERROR(INDEX(CS$2:CS$78,MATCH(ROW()-ROW($CV$1),$CQ$2:$CQ$78,0)),\"\")","v":""},{"$f":"IFERROR(INDEX(CT$2:CT$78,MATCH(ROW()-ROW($CV$1),$CQ$2:$CQ$78,0)),\"\")","v":""}]
[{"$nulls":48},{"$f":"+IF(AX388=\"\",\"\",MAX(AW$1:AW387)+1)","v":""},{"$f":"IF(Compliance_Options!B410=\"\",\"\",Compliance_Options!B410)","v":""},{"$f":"IF(Compliance_Options!C410=\"\",\"\",Compliance_Options!C410)","v":""},{"$f":"IF(Compliance_Options!D410=\"\",\"\",Compliance_Options!D410)","v":""},{"$f":"IF(Compliance_Options!E410=\"\",\"\",Compliance_Options!E410)","v":""},{"$f":"IF(Compliance_Options!F410=\"\",\"\",Compliance_Options!F410)","v":""},"    ",{"$f":"IF(COUNTIF(BC$2:BC388,BC388)=1,BC388,\"\")","v":""},"","","","","","","",{"$f":"+IF(BK388=\"\",\"\",MAX(BL$1:BL387)+1)","v":""},"","","","","","","",{"$f":"+IF(BS388=\"\",\"\",MAX(BT$1:BT387)+1)","v":""},"","","","","","","",{"$f":"+IF(CA388=\"\",\"\",MAX(CB$1:CB387)+1)","v":""},"","","","","","","",{"$f":"+IF(CI388=\"\",\"\",MAX(CJ$1:CJ387)+1)","v":""},"","","","","",null,{"$f":"+IF(CR388=\"\",\"\",MAX(CQ$1:CQ387)+1)","v":""},{"$f":"IF(Compliance_Options!B410=\"\",\"\",Compliance_Options!B410)","v":""},{"$f":"IF(Compliance_Options!C410=\"\",\"\",Compliance_Options!C410)","v":""},{"$f":"IF(Compliance_Options!D410=\"\",\"\",Compliance_Options!D410)","v":""},"  ",{"$f":"IF(COUNTIF(CU$2:CU388,CU388)=1,CU388,\"\")","v":""},"","","",""]
[{"$nulls":48},{"$f":"+IF(AX389=\"\",\"\",MAX(AW$1:AW388)+1)","v":""},{"$f":"IF(Compliance_Options!B411=\"\",\"\",Compliance_Options!B411)","v":""},{"$f":"IF(Compliance_Options!C411=\"\",\"\",Compliance_Options!C411)","v":""},{"$f":"IF(Compliance_Options!D411=\"\",\"\",Compliance_Options!D411)","v":""},{"$f":"IF(Compliance_Options!E411=\"\",\"\",Compliance_Options!E411)","v":""},{"$f":"IF(Compliance_Options!F411=\"\",\"\",Compliance_Options!F411)","v":""},"    ",{"$f":"IF(COUNTIF(BC$2:BC389,BC389)=1,BC389,\"\")","v":""},"","","","","","","",{"$f":"+IF(BK389=\"\",\"\",MAX(BL$1:BL388)+1)","v":""},"","","","","","","",{"$f":"+IF(BS389=\"\",\"\",MAX(BT$1:BT388)+1)","v":""},"","","","","","","",{"$f":"+IF(CA389=\"\",\"\",MAX(CB$1:CB388)+1)","v":""},"","","","","","","",{"$f":"+IF(CI389=\"\",\"\",MAX(CJ$1:CJ388)+1)","v":""},"","","","","",null,{"$f":"+IF(CR389=\"\",\"\",MAX(CQ$1:CQ388)+1)","v":""},{"$f":"IF(Compliance_Options!B411=\"\",\"\",Compliance_Options!B411)","v":""},{"$f":"IF(Compliance_Options!C411=\"\",\"\",Compliance_Options!C411)","v":""},{"$f":"IF(Compliance_Options!D411=\"\",\"\",Compliance_Options!D411)","v":""},"  ",{"$f":"IF(COUNTIF(CU$2:CU389,CU389)=1,CU389,\"\")","v":""},"","","",""]
[{"$nulls":48},{"$f":"+IF(AX390=\"\",\"\",MAX(AW$1:AW389)+1)","v":""},{"$f":"IF(Compliance_Options!B412=\"\",\"\",Compliance_Options!B412)","v":""},{"$f":"IF(Compliance_Options!C412=\"\",\"\",Compliance_Options!C412)","v":""},{"$f":"IF(Compliance_Options!D412=\"\",\"\",Compliance_Options!D412)","v":""},{"$f":"IF(Compliance_Options!E412=\"\",\"\",Compliance_Options!E412)","v":""},{"$f":"IF(Compliance_Options!F412=\"\",\"\",Compliance_Options!F412)","v":""},"    ",{"$f":"IF(COUNTIF(BC$2:BC390,BC390)=1,BC390,\"\")","v":""},"","","","","","","",{"$f":"+IF(BK390=\"\",\"\",MAX(BL$1:BL389)+1)","v":""},"","","","","","","",{"$f":"+IF(BS390=\"\",\"\",MAX(BT$1:BT389)+1)","v":""},"","","","","","","",{"$f":"+IF(CA390=\"\",\"\",MAX(CB$1:CB389)+1)","v":""},"","","","","","","",{"$f":"+IF(CI390=\"\",\"\",MAX(CJ$1:CJ389)+1)","v":""},"","","","","",null,{"$f":"+IF(CR390=\"\",\"\",MAX(CQ$1:CQ389)+1)","v":""},{"$f":"IF(Compliance_Options!B412=\"\",\"\",Compliance_Options!B412)","v":""},{"$f":"IF(Compliance_Options!C412=\"\",\"\",Compliance_Options!C412)","v":""},{"$f":"IF(Compliance_Options!D412=\"\",\"\",Compliance_Options!D412)","v":""},"  ",{"$f":"IF(COUNTIF(CU$2:CU390,CU390)=1,CU390,\"\")","v":""},"","","",""]
[{"$nulls":48},{"$f":"+IF(AX391=\"\",\"\",MAX(AW$1:AW390)+1)","v":""},{"$f":"IF(Compliance_Options!B413=\"\",\"\",Compliance_Options!B413)","v":""},{"$f":"IF(Compliance_Options!C413=\"\",\"\",Compliance_Options!C413)","v":""},{"$f":"IF(Compliance_Options!D413=\"\",\"\",Compliance_Options!D413)","v":""},{"$f":"IF(Compliance_Options!E413=\"\",\"\",Compliance_Options!E413)","v":""},{"$f":"IF(Compliance_Options!F413=\"\",\"\",Compliance_Options!F413)","v":""},"    ",{"$f":"IF(COUNTIF(BC$2:BC391,BC391)=1,BC391,\"\")","v":""},"","","","","","","",{"$f":"+IF(BK391=\"\",\"\",MAX(BL$1:BL390)+1)","v":""},"","","","","","","",{"$f":"+IF(BS391=\"\",\"\",MAX(BT$1:BT390)+1)","v":""},"","","","","","","",{"$f":"+IF(CA391=\"\",\"\",MAX(CB$1:CB390)+1)","v":""},"","","","","","","",{"$f":"+IF(CI391=\"\",\"\",MAX(CJ$1:CJ390)+1)","v":""},"","","","","",null,{"$f":"+IF(CR391=\"\",\"\",MAX(CQ$1:CQ390)+1)","v":""},{"$f":"IF(Compliance_Options!B413=\"\",\"\",Compliance_Options!B413)","v":""},{"$f":"IF(Compliance_Options!C413=\"\",\"\",Compliance_Options!C413)","v":""},{"$f":"IF(Compliance_Options!D413=\"\",\"\",Compliance_Options!D413)","v":""},"  ",{"$f":"IF(COUNTIF(CU$2:CU391,CU391)=1,CU391,\"\")","v":""},"","","",""]
[{"$nulls":48},{"$f":"+IF(AX392=\"\",\"\",MAX(AW$1:AW391)+1)","v":""},{"$f":"IF(Compliance_Options!B414=\"\",\"\",Compliance_Options!B414)","v":""},{"$f":"IF(Compliance_Options!C414=\"\",\"\",Compliance_Options!C414)","v":""},{"$f":"IF(Compliance_Options!D414=\"\",\"\",Compliance_Options!D414)","v":""},{"$f":"IF(Compliance_Options!E414=\"\",\"\",Compliance_Options!E414)","v":""},{"$f":"IF(Compliance_Options!F414=\"\",\"\",Compliance_Options!F414)","v":""},"    ",{"$f":"IF(COUNTIF(BC$2:BC392,BC392)=1,BC392,\"\")","v":""},"","","","","","","",{"$f":"+IF(BK392=\"\",\"\",MAX(BL$1:BL391)+1)","v":""},"","","","","","","",{"$f":"+IF(BS392=\"\",\"\",MAX(BT$1:BT391)+1)","v":""},"","","","","","","",{"$f":"+IF(CA392=\"\",\"\",MAX(CB$1:CB391)+1)","v":""},"","","","","","","",{"$f":"+IF(CI392=\"\",\"\",MAX(CJ$1:CJ391)+1)","v":""},"","","","","",null,{"$f":"+IF(CR392=\"\",\"\",MAX(CQ$1:CQ391)+1)","v":""},{"$f":"IF(Compliance_Options!B414=\"\",\"\",Compliance_Options!B414)","v":""},{"$f":"IF(Compliance_Options!C414=\"\",\"\",Compliance_Options!C414)","v":""},{"$f":"IF(Compliance_Options!D414=\"\",\"\",Compliance_Options!D414)","v":""},"  ",{"$f":"IF(COUNTIF(CU$2:CU392,CU392)=1,CU392,\"\")","v":""},"","","",""]
[{"$nulls":48},{"$f":"+IF(AX393=\"\",\"\",MAX(AW$1:AW392)+1)","v":""},{"$f":"IF(Compliance_Options!B415=\"\",\"\",Compliance_Options!B415)","v":""},{"$f":"IF(Compliance_Options!C415=\"\",\"\",Compliance_Options!C415)","v":""},{"$f":"IF(Compliance_Options!D415=\"\",\"\",Compliance_Options!D415)","v":""},{"$f":"IF(Compliance_Options!E415=\"\",\"\",Compliance_Options!E415)","v":""},{"$f":"IF(Compliance_Options!F415=\"\",\"\",Compliance_Options!F415)","v":""},"    ",{"$f":"IF(COUNTIF(BC$2:BC393,BC393)=1,BC393,\"\")","v":""},"","","","","","","",{"$f":"+IF(BK393=\"\",\"\",MAX(BL$1:BL392)+1)","v":""},"","","","","","","",{"$f":"+IF(BS393=\"\",\"\",MAX(BT$1:BT392)+1)","v":""},"","","","","","","",{"$f":"+IF(CA393=\"\",\"\",MAX(CB$1:CB392)+1)","v":""},"","","","","","","",{"$f":"+IF(CI393=\"\",\"\",MAX(CJ$1:CJ392)+1)","v":""},"","","","","",null,{"$f":"+IF(CR393=\"\",\"\",MAX(CQ$1:CQ392)+1)","v":""},{"$f":"IF(Compliance_Options!B415=\"\",\"\",Compliance_Options!B415)","v":""},{"$f":"IF(Compliance_Options!C415=\"\",\"\",Compliance_Options!C415)","v":""},{"$f":"IF(Compliance_Options!D415=\"\",\"\",Compliance_Options!D415)","v":""},"  ",{"$f":"IF(COUNTIF(CU$2:CU393,CU393)=1,CU393,\"\")","v":""},"","","",""]
[{"$nulls":48},{"$f":"+IF(AX394=\"\",\"\",MAX(AW$1:AW393)+1)","v":""},{"$f":"IF(Compliance_Options!B416=\"\",\"\",Compliance_Options!B416)","v":""},{"$f":"IF(Compliance_Options!C416=\"\",\"\",Compliance_Options!C416)","v":""},{"$f":"IF(Compliance_Options!D416=\"\",\"\",Compliance_Options!D416)","v":""},{"$f":"IF(Compliance_Options!E416=\"\",\"\",Compliance_Options!E416)","v":""},{"$f":"IF(Compliance_Options!F416=\"\",\"\",Compliance_Options!F416)","v":""},"    ",{"$f":"IF(COUNTIF(BC$2:BC394,BC394)=1,BC394,\"\")","v":""},"","","","","","","",{"$f":"+IF(BK394=\"\",\"\",MAX(BL$1:BL393)+1)","v":""},"","","","","","","",{"$f":"+IF(BS394=\"\",\"\",MAX(BT$1:BT393)+1)","v":""},"","","","","","","",{"$f":"+IF(CA394=\"\",\"\",MAX(CB$1:CB393)+1)","v":""},"","","","","","","",{"$f":"+IF(CI394=\"\",\"\",MAX(CJ$1:CJ393)+1)","v":""},"","","","","",null,{"$f":"+IF(CR394=\"\",\"\",MAX(CQ$1:CQ393)+1)","v":""},{"$f":"IF(Compliance_Options!B416=\"\",\"\",Compliance_Options!B416)","v":""},{"$f":"IF(Compliance_Options!C416=\"\",\"\",Compliance_Options!C416)","v":""},{"$f":"IF(Compliance_Options!D416=\"\",\"\",Compliance_Options!D416)","v":""},"  ",{"$f":"IF(COUNTIF(CU$2:CU394,CU394)=1,CU394,\"\")","v":""},"","","",""]
[{"$nulls":48},{"$f":"+IF(AX395=\"\",\"\",MAX(AW$1:AW394)+1)","v":""},{"$f":"IF(Compliance_Options!B417=\"\",\"\",Compliance_Options!B417)","v":""},{"$f":"IF(Compliance_Options!C417=\"\",\"\",Compliance_Options!C417)","v":""},{"$f":"IF(Compliance_Options!D417=\"\",\"\",Compliance_Options!D417)","v":""},{"$f":"IF(Compliance_Options!E417=\"\",\"\",Compliance_Options!E417)","v":""},{"$f":"IF(Compliance_Options!F417=\"\",\"\",Compliance_Options!F417)","v":""},"    ",{"$f":"IF(COUNTIF(BC$2:BC395,BC395)=1,BC395,\"\")","v":""},"","","","","","","",{"$f":"+IF(BK395=\"\",\"\",MAX(BL$1:BL394)+1)","v":""},"","","","","","","",{"$f":"+IF(BS395=\"\",\"\",MAX(BT$1:BT394)+1)","v":""},"","","","","","","",{"$f":"+IF(CA395=\"\",\"\",MAX(CB$1:CB394)+1)","v":""},"","","","","","","",{"$f":"+IF(CI395=\"\",\"\",MAX(CJ$1:CJ394)+1)","v":""},"","","","","",null,{"$f":"+IF(CR395=\"\",\"\",MAX(CQ$1:CQ394)+1)","v":""},{"$f":"IF(Compliance_Options!B417=\"\",\"\",Compliance_Options!B417)","v":""},{"$f":"IF(Compliance_Options!C417=\"\",\"\",Compliance_Options!C417)","v":""},{"$f":"IF(Compliance_Options!D417=\"\",\"\",Compliance_Options!D417)","v":""},"  ",{"$f":"IF(COUNTIF(CU$2:CU395,CU395)=1,CU395,\"\")","v":""},"","","",""]
[{"$nulls":48},{"$f":"+IF(AX396=\"\",\"\",MAX(AW$1:AW395)+1)","v":""},{"$f":"IF(Compliance_Options!B418=\"\",\"\",Compliance_Options!B418)","v":""},{"$f":"IF(Compliance_Options!C418=\"\",\"\",Compliance_Options!C418)","v":""},{"$f":"IF(Compliance_Options!D418=\"\",\"\",Compliance_Options!D418)","v":""},{"$f":"IF(Compliance_Options!E418=\"\",\"\",Compliance_Options!E418)","v":""},{"$f":"IF(Compliance_Options!F418=\"\",\"\",Compliance_Options!F418)","v":""},"    ",{"$f":"IF(COUNTIF(BC$2:BC396,BC396)=1,BC396,\"\")","v":""},"","","","","","","",{"$f":"+IF(BK396=\"\",\"\",MAX(BL$1:BL395)+1)","v":""},"","","","","","","",{"$f":"+IF(BS396=\"\",\"\",MAX(BT$1:BT395)+1)","v":""},"","","","","","","",{"$f":"+IF(CA396=\"\",\"\",MAX(CB$1:CB395)+1)","v":""},"","","","","","","",{"$f":"+IF(CI396=\"\",\"\",MAX(CJ$1:CJ395)+1)","v":""},"","","","","",null,{"$f":"+IF(CR396=\"\",\"\",MAX(CQ$1:CQ395)+1)","v":""},{"$f":"IF(Compliance_Options!B418=\"\",\"\",Compliance_Options!B418)","v":""},{"$f":"IF(Compliance_Options!C418=\"\",\"\",Compliance_Options!C418)","v":""},{"$f":"IF(Compliance_Options!D418=\"\",\"\",Compliance_Options!D418)","v":""},"  ",{"$f":"IF(COUNTIF(CU$2:CU396,CU396)=1,CU396,\"\")","v":""},"","","",""]
[{"$nulls":48},{"$f":"+IF(AX397=\"\",\"\",MAX(AW$1:AW396)+1)","v":""},{"$f":"IF(Compliance_Options!B419=\"\",\"\",Compliance_Options!B419)","v":""},{"$f":"IF(Compliance_Options!C419=\"\",\"\",Compliance_Options!C419)","v":""},{"$f":"IF(Compliance_Options!D419=\"\",\"\",Compliance_Options!D419)","v":""},{"$f":"IF(Compliance_Options!E419=\"\",\"\",Compliance_Options!E419)","v":""},{"$f":"IF(Compliance_Options!F419=\"\",\"\",Compliance_Options!F419)","v":""},"    ",{"$f":"IF(COUNTIF(BC$2:BC397,BC397)=1,BC397,\"\")","v":""},"","","","","","","",{"$f":"+IF(BK397=\"\",\"\",MAX(BL$1:BL396)+1)","v":""},"","","","","","","",{"$f":"+IF(BS397=\"\",\"\",MAX(BT$1:BT396)+1)","v":""},"","","","","","","",{"$f":"+IF(CA397=\"\",\"\",MAX(CB$1:CB396)+1)","v":""},"","","","","","","",{"$f":"+IF(CI397=\"\",\"\",MAX(CJ$1:CJ396)+1)","v":""},"","","","","",null,{"$f":"+IF(CR397=\"\",\"\",MAX(CQ$1:CQ396)+1)","v":""},{"$f":"IF(Compliance_Options!B419=\"\",\"\",Compliance_Options!B419)","v":""},{"$f":"IF(Compliance_Options!C419=\"\",\"\",Compliance_Options!C419)","v":""},{"$f":"IF(Compliance_Options!D419=\"\",\"\",Compliance_Options!D419)","v":""},"  ",{"$f":"IF(COUNTIF(CU$2:CU397,CU397)=1,CU397,\"\")","v":""},"","","",""]
[{"$nulls":48},{"$f":"+IF(AX398=\"\",\"\",MAX(AW$1:AW397)+1)","v":""},{"$f":"IF(Compliance_Options!B420=\"\",\"\",Compliance_Options!B420)","v":""},{"$f":"IF(Compliance_Options!C420=\"\",\"\",Compliance_Options!C420)","v":""},{"$f":"IF(Compliance_Options!D420=\"\",\"\",Compliance_Options!D420)","v":""},{"$f":"IF(Compliance_Options!E420=\"\",\"\",Compliance_Options!E420)","v":""},{"$f":"IF(Compliance_Options!F420=\"\",\"\",Compliance_Options!F420)","v":""},"    ",{"$f":"IF(COUNTIF(BC$2:BC398,BC398)=1,BC398,\"\")","v":""},"","","","","","","",{"$f":"+IF(BK398=\"\",\"\",MAX(BL$1:BL397)+1)","v":""},"","","","","","","",{"$f":"+IF(BS398=\"\",\"\",MAX(BT$1:BT397)+1)","v":""},"","","","","","","",{"$f":"+IF(CA398=\"\",\"\",MAX(CB$1:CB397)+1)","v":""},"","","","","","","",{"$f":"+IF(CI398=\"\",\"\",MAX(CJ$1:CJ397)+1)","v":""},"","","","","",null,{"$f":"+IF(CR398=\"\",\"\",MAX(CQ$1:CQ397)+1)","v":""},{"$f":"IF(Compliance_Options!B420=\"\",\"\",Compliance_Options!B420)","v":""},{"$f":"IF(Compliance_Options!C420=\"\",\"\",Compliance_Options!C420)","v":""},{"$f":"IF(Compliance_Options!D420=\"\",\"\",Compliance_Options!D420)","v":""},"  ",{"$f":"IF(COUNTIF(CU$2:CU398,CU398)=1,CU398,\"\")","v":""},"","","",""]
[{"$nulls":48},{"$f":"+IF(AX399=\"\",\"\",MAX(AW$1:AW398)+1)","v":""},{"$f":"IF(Compliance_Options!B421=\"\",\"\",Compliance_Options!B421)","v":""},{"$f":"IF(Compliance_Options!C421=\"\",\"\",Compliance_Options!C421)","v":""},{"$f":"IF(Compliance_Options!D421=\"\",\"\",Compliance_Options!D421)","v":""},{"$f":"IF(Compliance_Options!E421=\"\",\"\",Compliance_Options!E421)","v":""},{"$f":"IF(Compliance_Options!F421=\"\",\"\",Compliance_Options!F421)","v":""},"    ",{"$f":"IF(COUNTIF(BC$2:BC399,BC399)=1,BC399,\"\")","v":""},"","","","","","","",{"$f":"+IF(BK399=\"\",\"\",MAX(BL$1:BL398)+1)","v":""},"","","","","","","",{"$f":"+IF(BS399=\"\",\"\",MAX(BT$1:BT398)+1)","v":""},"","","","","","","",{"$f":"+IF(CA399=\"\",\"\",MAX(CB$1:CB398)+1)","v":""},"","","","","","","",{"$f":"+IF(CI399=\"\",\"\",MAX(CJ$1:CJ398)+1)","v":""},"","","","","",null,{"$f":"+IF(CR399=\"\",\"\",MAX(CQ$1:CQ398)+1)","v":""},{"$f":"IF(Compliance_Options!B421=\"\",\"\",Compliance_Options!B421)","v":""},{"$f":"IF(Compliance_Options!C421=\"\",\"\",Compliance_Options!C421)","v":""},{"$f":"IF(Compliance_Options!D421=\"\",\"\",Compliance_Options!D421)","v":""},"  ",{"$f":"IF(COUNTIF(CU$2:CU399,CU399)=1,CU399,\"\")","v":""},"","","",""]
[{"$nulls":48},{"$f":"+IF(AX400=\"\",\"\",MAX(AW$1:AW399)+1)","v":""},{"$f":"IF(Compliance_Options!B422=\"\",\"\",Compliance_Options!B422)","v":""},{"$f":"IF(Compliance_Options!C422=\"\",\"\",Compliance_Options!C422)","v":""},{"$f":"IF(Compliance_Options!D422=\"\",\"\",Compliance_Options!D422)","v":""},{"$f":"IF(Compliance_Options!E422=\"\",\"\",Compliance_Options!E422)","v":""},{"$f":"IF(Compliance_Options!F422=\"\",\"\",Compliance_Options!F422)","v":""},"    ",{"$f":"IF(COUNTIF(BC$2:BC400,BC400)=1,BC400,\"\")","v":""},"","","","","","","",{"$f":"+IF(BK400=\"\",\"\",MAX(BL$1:BL399)+1)","v":""},"","","","","","","",{"$f":"+IF(BS400=\"\",\"\",MAX(BT$1:BT399)+1)","v":""},"","","","","","","",{"$f":"+IF(CA400=\"\",\"\",MAX(CB$1:CB399)+1)","v":""},"","","","","","","",{"$f":"+IF(CI400=\"\",\"\",MAX(CJ$1:CJ399)+1)","v":""},"","","","","",null,{"$f":"+IF(CR400=\"\",\"\",MAX(CQ$1:CQ399)+1)","v":""},{"$f":"IF(Compliance_Options!B422=\"\",\"\",Compliance_Options!B422)","v":""},{"$f":"IF(Compliance_Options!C422=\"\",\"\",Compliance_Options!C422)","v":""},{"$f":"IF(Compliance_Options!D422=\"\",\"\",Compliance_Options!D422)","v":""},"  ",{"$f":"IF(COUNTIF(CU$2:CU400,CU400)=1,CU400,\"\")","v":""},"","","",""]
[{"$nulls":48},{"$f":"+IF(AX401=\"\",\"\",MAX(AW$1:AW400)+1)","v":""},{"$f":"IF(Compliance_Options!B423=\"\",\"\",Compliance_Options!B423)","v":""},{"$f":"IF(Compliance_Options!C423=\"\",\"\",Compliance_Options!C423)","v":""},{"$f":"IF(Compliance_Options!D423=\"\",\"\",Compliance_Options!D423)","v":""},{"$f":"IF(Compliance_Options!E423=\"\",\"\",Compliance_Options!E423)","v":""},{"$f":"IF(Compliance_Options!F423=\"\",\"\",Compliance_Options!F423)","v":""},"    ",{"$f":"IF(COUNTIF(BC$2:BC401,BC401)=1,BC401,\"\")","v":""},"","","","","","","",{"$f":"+IF(BK401=\"\",\"\",MAX(BL$1:BL400)+1)","v":""},"","","","","","","",{"$f":"+IF(BS401=\"\",\"\",MAX(BT$1:BT400)+1)","v":""},"","","","","","","",{"$f":"+IF(CA401=\"\",\"\",MAX(CB$1:CB400)+1)","v":""},"","","","","","","",{"$f":"+IF(CI401=\"\",\"\",MAX(CJ$1:CJ400)+1)","v":""},"","","","","",null,{"$f":"+IF(CR401=\"\",\"\",MAX(CQ$1:CQ400)+1)","v":""},{"$f":"IF(Compliance_Options!B423=\"\",\"\",Compliance_Options!B423)","v":""},{"$f":"IF(Compliance_Options!C423=\"\",\"\",Compliance_Options!C423)","v":""},{"$f":"IF(Compliance_Options!D423=\"\",\"\",Compliance_Options!D423)","v":""},"  ",{"$f":"IF(COUNTIF(CU$2:CU401,CU401)=1,CU401,\"\")","v":""},"","","",""]
[{"$nulls":48},{"$f":"+IF(AX402=\"\",\"\",MAX(AW$1:AW401)+1)","v":""},{"$f":"IF(Compliance_Options!B424=\"\",\"\",Compliance_Options!B424)","v":""},{"$f":"IF(Compliance_Options!C424=\"\",\"\",Compliance_Options!C424)","v":""},{"$f":"IF(Compliance_Options!D424=\"\",\"\",Compliance_Options!D424)","v":""},{"$f":"IF(Compliance_Options!E424=\"\",\"\",Compliance_Options!E424)","v":""},{"$f":"IF(Compliance_Options!F424=\"\",\"\",Compliance_Options!F424)","v":""},"    ",{"$f":"IF(COUNTIF(BC$2:BC402,BC402)=1,BC402,\"\")","v":""},"","","","","","","",{"$f":"+IF(BK402=\"\",\"\",MAX(BL$1:BL401)+1)","v":""},"","","","","","","",{"$f":"+IF(BS402=\"\",\"\",MAX(BT$1:BT401)+1)","v":""},"","","","","","","",{"$f":"+IF(CA402=\"\",\"\",MAX(CB$1:CB401)+1)","v":""},"","","","","","","",{"$f":"+IF(CI402=\"\",\"\",MAX(CJ$1:CJ401)+1)","v":""},"","","","","",null,{"$f":"+IF(CR402=\"\",\"\",MAX(CQ$1:CQ401)+1)","v":""},{"$f":"IF(Compliance_Options!B424=\"\",\"\",Compliance_Options!B424)","v":""},{"$f":"IF(Compliance_Options!C424=\"\",\"\",Compliance_Options!C424)","v":""},{"$f":"IF(Compliance_Options!D424=\"\",\"\",Compliance_Options!D424)","v":""},"  ",{"$f":"IF(COUNTIF(CU$2:CU402,CU402)=1,CU402,\"\")","v":""},"","","",""]
[{"$nulls":48},{"$f":"+IF(AX403=\"\",\"\",MAX(AW$1:AW402)+1)","v":""},{"$f":"IF(Compliance_Options!B425=\"\",\"\",Compliance_Options!B425)","v":""},{"$f":"IF(Compliance_Options!C425=\"\",\"\",Compliance_Options!C425)","v":""},{"$f":"IF(Compliance_Options!D425=\"\",\"\",Compliance_Options!D425)","v":""},{"$f":"IF(Compliance_Options!E425=\"\",\"\",Compliance_Options!E425)","v":""},{"$f":"IF(Compliance_Options!F425=\"\",\"\",Compliance_Options!F425)","v":""},"    ",{"$f":"IF(COUNTIF(BC$2:BC403,BC403)=1,BC403,\"\")","v":""},"","","","","","","",{"$f":"+IF(BK403=\"\",\"\",MAX(BL$1:BL402)+1)","v":""},"","","","","","","",{"$f":"+IF(BS403=\"\",\"\",MAX(BT$1:BT402)+1)","v":""},"","","","","","","",{"$f":"+IF(CA403=\"\",\"\",MAX(CB$1:CB402)+1)","v":""},"","","","","","","",{"$f":"+IF(CI403=\"\",\"\",MAX(CJ$1:CJ402)+1)","v":""},"","","","","",null,{"$f":"+IF(CR403=\"\",\"\",MAX(CQ$1:CQ402)+1)","v":""},{"$f":"IF(Compliance_Options!B425=\"\",\"\",Compliance_Options!B425)","v":""},{"$f":"IF(Compliance_Options!C425=\"\",\"\",Compliance_Options!C425)","v":""},{"$f":"IF(Compliance_Options!D425=\"\",\"\",Compliance_Options!D425)","v":""},"  ",{"$f":"IF(COUNTIF(CU$2:CU403,CU403)=1,CU403,\"\")","v":""},"","","",""]
[{"$nulls":48},{"$f":"+IF(AX404=\"\",\"\",MAX(AW$1:AW403)+1)","v":""},{"$f":"IF(Compliance_Options!B426=\"\",\"\",Compliance_Options!B426)","v":""},{"$f":"IF(Compliance_Options!C426=\"\",\"\",Compliance_Options!C426)","v":""},{"$f":"IF(Compliance_Options!D426=\"\",\"\",Compliance_Options!D426)","v":""},{"$f":"IF(Compliance_Options!E426=\"\",\"\",Compliance_Options!E426)","v":""},{"$f":"IF(Compliance_Options!F426=\"\",\"\",Compliance_Options!F426)","v":""},"    ",{"$f":"IF(COUNTIF(BC$2:BC404,BC404)=1,BC404,\"\")","v":""},"","","","","","","",{"$f":"+IF(BK404=\"\",\"\",MAX(BL$1:BL403)+1)","v":""},"","","","","","","",{"$f":"+IF(BS404=\"\",\"\",MAX(BT$1:BT403)+1)","v":""},"","","","","","","",{"$f":"+IF(CA404=\"\",\"\",MAX(CB$1:CB403)+1)","v":""},"","","","","","","",{"$f":"+IF(CI404=\"\",\"\",MAX(CJ$1:CJ403)+1)","v":""},"","","","","",null,{"$f":"+IF(CR404=\"\",\"\",MAX(CQ$1:CQ403)+1)","v":""},{"$f":"IF(Compliance_Options!B426=\"\",\"\",Compliance_Options!B426)","v":""},{"$f":"IF(Compliance_Options!C426=\"\",\"\",Compliance_Options!C426)","v":""},{"$f":"IF(Compliance_Options!D426=\"\",\"\",Compliance_Options!D426)","v":""},"  ",{"$f":"IF(COUNTIF(CU$2:CU404,CU404)=1,CU404,\"\")","v":""},"","","",""]
[{"$nulls":48},{"$f":"+IF(AX405=\"\",\"\",MAX(AW$1:AW404)+1)","v":""},{"$f":"IF(Compliance_Options!B427=\"\",\"\",Compliance_Options!B427)","v":""},{"$f":"IF(Compliance_Options!C427=\"\",\"\",Compliance_Options!C427)","v":""},{"$f":"IF(Compliance_Options!D427=\"\",\"\",Compliance_Options!D427)","v":""},{"$f":"IF(Compliance_Options!E427=\"\",\"\",Compliance_Options!E427)","v":""},{"$f":"IF(Compliance_Options!F427=\"\",\"\",Compliance_Options!F427)","v":""},"    ",{"$f":"IF(COUNTIF(BC$2:BC405,BC405)=1,BC405,\"\")","v":""},"","","","","","","",{"$f":"+IF(BK405=\"\",\"\",MAX(BL$1:BL404)+1)","v":""},"","","","","","","",{"$f":"+IF(BS405=\"\",\"\",MAX(BT$1:BT404)+1)","v":""},"","","","","","","",{"$f":"+IF(CA405=\"\",\"\",MAX(CB$1:CB404)+1)","v":""},"","","","","","","",{"$f":"+IF(CI405=\"\",\"\",MAX(CJ$1:CJ404)+1)","v":""},"","","","","",null,{"$f":"+IF(CR405=\"\",\"\",MAX(CQ$1:CQ404)+1)","v":""},{"$f":"IF(Compliance_Options!B427=\"\",\"\",Compliance_Options!B427)","v":""},{"$f":"IF(Compliance_Options!C427=\"\",\"\",Compliance_Options!C427)","v":""},{"$f":"IF(Compliance_Options!D427=\"\",\"\",Compliance_Options!D427)","v":""},"  ",{"$f":"IF(COUNTIF(CU$2:CU405,CU405)=1,CU405,\"\")","v":""},"","","",""]
[{"$nulls":48},{"$f":"+IF(AX406=\"\",\"\",MAX(AW$1:AW405)+1)","v":""},{"$f":"IF(Compliance_Options!B428=\"\",\"\",Compliance_Options!B428)","v":""},{"$f":"IF(Compliance_Options!C428=\"\",\"\",Compliance_Options!C428)","v":""},{"$f":"IF(Compliance_Options!D428=\"\",\"\",Compliance_Options!D428)","v":""},{"$f":"IF(Compliance_Options!E428=\"\",\"\",Compliance_Options!E428)","v":""},{"$f":"IF(Compliance_Options!F428=\"\",\"\",Compliance_Options!F428)","v":""},"    ",{"$f":"IF(COUNTIF(BC$2:BC406,BC406)=1,BC406,\"\")","v":""},"","","","","","","",{"$f":"+IF(BK406=\"\",\"\",MAX(BL$1:BL405)+1)","v":""},"","","","","","","",{"$f":"+IF(BS406=\"\",\"\",MAX(BT$1:BT405)+1)","v":""},"","","","","","","",{"$f":"+IF(CA406=\"\",\"\",MAX(CB$1:CB405)+1)","v":""},"","","","","","","",{"$f":"+IF(CI406=\"\",\"\",MAX(CJ$1:CJ405)+1)","v":""},"","","","","",null,{"$f":"+IF(CR406=\"\",\"\",MAX(CQ$1:CQ405)+1)","v":""},{"$f":"IF(Compliance_Options!B428=\"\",\"\",Compliance_Options!B428)","v":""},{"$f":"IF(Compliance_Options!C428=\"\",\"\",Compliance_Options!C428)","v":""},{"$f":"IF(Compliance_Options!D428=\"\",\"\",Compliance_Options!D428)","v":""},"  ",{"$f":"IF(COUNTIF(CU$2:CU406,CU406)=1,CU406,\"\")","v":""},"","","",""]
[{"$nulls":48},{"$f":"+IF(AX407=\"\",\"\",MAX(AW$1:AW406)+1)","v":""},{"$f":"IF(Compliance_Options!B429=\"\",\"\",Compliance_Options!B429)","v":""},{"$f":"IF(Compliance_Options!C429=\"\",\"\",Compliance_Options!C429)","v":""},{"$f":"IF(Compliance_Options!D429=\"\",\"\",Compliance_Options!D429)","v":""},{"$f":"IF(Compliance_Options!E429=\"\",\"\",Compliance_Options!E429)","v":""},{"$f":"IF(Compliance_Options!F429=\"\",\"\",Compliance_Options!F429)","v":""},"    ",{"$f":"IF(COUNTIF(BC$2:BC407,BC407)=1,BC407,\"\")","v":""},"","","","","","","",{"$f":"+IF(BK407=\"\",\"\",MAX(BL$1:BL406)+1)","v":""},"","","","","","","",{"$f":"+IF(BS407=\"\",\"\",MAX(BT$1:BT406)+1)","v":""},"","","","","","","",{"$f":"+IF(CA407=\"\",\"\",MAX(CB$1:CB406)+1)","v":""},"","","","","","","",{"$f":"+IF(CI407=\"\",\"\",MAX(CJ$1:CJ406)+1)","v":""},"","","","","",null,{"$f":"+IF(CR407=\"\",\"\",MAX(CQ$1:CQ406)+1)","v":""},{"$f":"IF(Compliance_Options!B429=\"\",\"\",Compliance_Options!B429)","v":""},{"$f":"IF(Compliance_Options!C429=\"\",\"\",Compliance_Options!C429)","v":""},{"$f":"IF(Compliance_Options!D429=\"\",\"\",Compliance_Options!D429)","v":""},"  ",{"$f":"IF(COUNTIF(CU$2:CU407,CU407)=1,CU407,\"\")","v":""},"","","",""]
[{"$nulls":48},{"$f":"+IF(AX408=\"\",\"\",MAX(AW$1:AW407)+1)","v":""},{"$f":"IF(Compliance_Options!B430=\"\",\"\",Compliance_Options!B430)","v":""},{"$f":"IF(Compliance_Options!C430=\"\",\"\",Compliance_Options!C430)","v":""},{"$f":"IF(Compliance_Options!D430=\"\",\"\",Compliance_Options!D430)","v":""},{"$f":"IF(Compliance_Options!E430=\"\",\"\",Compliance_Options!E430)","v":""},{"$f":"IF(Compliance_Options!F430=\"\",\"\",Compliance_Options!F430)","v":""},"    ",{"$f":"IF(COUNTIF(BC$2:BC408,BC408)=1,BC408,\"\")","v":""},"","","","","","","",{"$f":"+IF(BK408=\"\",\"\",MAX(BL$1:BL407)+1)","v":""},"","","","","","","",{"$f":"+IF(BS408=\"\",\"\",MAX(BT$1:BT407)+1)","v":""},"","","","","","","",{"$f":"+IF(CA408=\"\",\"\",MAX(CB$1:CB407)+1)","v":""},"","","","","","","",{"$f":"+IF(CI408=\"\",\"\",MAX(CJ$1:CJ407)+1)","v":""},"","","","","",null,{"$f":"+IF(CR408=\"\",\"\",MAX(CQ$1:CQ407)+1)","v":""},{"$f":"IF(Compliance_Options!B430=\"\",\"\",Compliance_Options!B430)","v":""},{"$f":"IF(Compliance_Options!C430=\"\",\"\",Compliance_Options!C430)","v":""},{"$f":"IF(Compliance_Options!D430=\"\",\"\",Compliance_Options!D430)","v":""},"  ",{"$f":"IF(COUNTIF(CU$2:CU408,CU408)=1,CU408,\"\")","v":""},"","","",""]
[{"$nulls":48},{"$f":"+IF(AX409=\"\",\"\",MAX(AW$1:AW408)+1)","v":""},{"$f":"IF(Compliance_Options!B431=\"\",\"\",Compliance_Options!B431)","v":""},{"$f":"IF(Compliance_Options!C431=\"\",\"\",Compliance_Options!C431)","v":""},{"$f":"IF(Compliance_Options!D431=\"\",\"\",Compliance_Options!D431)","v":""},{"$f":"IF(Compliance_Options!E431=\"\",\"\",Compliance_Options!E431)","v":""},{"$f":"IF(Compliance_Options!F431=\"\",\"\",Compliance_Options!F431)","v":""},"    ",{"$f":"IF(COUNTIF(BC$2:BC409,BC409)=1,BC409,\"\")","v":""},"","","","","","","",{"$f":"+IF(BK409=\"\",\"\",MAX(BL$1:BL408)+1)","v":""},"","","","","","","",{"$f":"+IF(BS409=\"\",\"\",MAX(BT$1:BT408)+1)","v":""},"","","","","","","",{"$f":"+IF(CA409=\"\",\"\",MAX(CB$1:CB408)+1)","v":""},"","","","","","","",{"$f":"+IF(CI409=\"\",\"\",MAX(CJ$1:CJ408)+1)","v":""},"","","","","",null,{"$f":"+IF(CR409=\"\",\"\",MAX(CQ$1:CQ408)+1)","v":""},{"$f":"IF(Compliance_Options!B431=\"\",\"\",Compliance_Options!B431)","v":""},{"$f":"IF(Compliance_Options!C431=\"\",\"\",Compliance_Options!C431)","v":""},{"$f":"IF(Compliance_Options!D431=\"\",\"\",Compliance_Options!D431)","v":""},"  ",{"$f":"IF(COUNTIF(CU$2:CU409,CU409)=1,CU409,\"\")","v":""},"","","",""]
[{"$nulls":48},{"$f":"+IF(AX410=\"\",\"\",MAX(AW$1:AW409)+1)","v":""},{"$f":"IF(Compliance_Options!B432=\"\",\"\",Compliance_Options!B432)","v":""},{"$f":"IF(Compliance_Options!C432=\"\",\"\",Compliance_Options!C432)","v":""},{"$f":"IF(Compliance_Options!D432=\"\",\"\",Compliance_Options!D432)","v":""},{"$f":"IF(Compliance_Options!E432=\"\",\"\",Compliance_Options!E432)","v":""},{"$f":"IF(Compliance_Options!F432=\"\",\"\",Compliance_Options!F432)","v":""},"    ",{"$f":"IF(COUNTIF(BC$2:BC410,BC410)=1,BC410,\"\")","v":""},"","","","","","","",{"$f":"+IF(BK410=\"\",\"\",MAX(BL$1:BL409)+1)","v":""},"","","","","","","",{"$f":"+IF(BS410=\"\",\"\",MAX(BT$1:BT409)+1)","v":""},"","","","","","","",{"$f":"+IF(CA410=\"\",\"\",MAX(CB$1:CB409)+1)","v":""},"","","","","","","",{"$f":"+IF(CI410=\"\",\"\",MAX(CJ$1:CJ409)+1)","v":""},"","","","","",null,{"$f":"+IF(CR410=\"\",\"\",MAX(CQ$1:CQ409)+1)","v":""},{"$f":"IF(Compliance_Options!B432=\"\",\"\",Compliance_Options!B432)","v":""},{"$f":"IF(Compliance_Options!C432=\"\",\"\",Compliance_Options!C432)","v":""},{"$f":"IF(Compliance_Options!D432=\"\",\"\",Compliance_Options!D432)","v":""},"  ",{"$f":"IF(COUNTIF(CU$2:CU410,CU410)=1,CU410,\"\")","v":""},"","","",""]
[{"$nulls":48},{"$f":"+IF(AX411=\"\",\"\",MAX(AW$1:AW410)+1)","v":""},{"$f":"IF(Compliance_Options!B433=\"\",\"\",Compliance_Options!B433)","v":""},{"$f":"IF(Compliance_Options!C433=\"\",\"\",Compliance_Options!C433)","v":""},{"$f":"IF(Compliance_Options!D433=\"\",\"\",Compliance_Options!D433)","v":""},{"$f":"IF(Compliance_Options!E433=\"\",\"\",Compliance_Options!E433)","v":""},{"$f":"IF(Compliance_Options!F433=\"\",\"\",Compliance_Options!F433)","v":""},"    ",{"$f":"IF(COUNTIF(BC$2:BC411,BC411)=1,BC411,\"\")","v":""},"","","","","","","",{"$f":"+IF(BK411=\"\",\"\",MAX(BL$1:BL410)+1)","v":""},"","","","","","","",{"$f":"+IF(BS411=\"\",\"\",MAX(BT$1:BT410)+1)","v":""},"","","","","","","",{"$f":"+IF(CA411=\"\",\"\",MAX(CB$1:CB410)+1)","v":""},"","","","","","","",{"$f":"+IF(CI411=\"\",\"\",MAX(CJ$1:CJ410)+1)","v":""},"","","","","",null,{"$f":"+IF(CR411=\"\",\"\",MAX(CQ$1:CQ410)+1)","v":""},{"$f":"IF(Compliance_Options!B433=\"\",\"\",Compliance_Options!B433)","v":""},{"$f":"IF(Compliance_Options!C433=\"\",\"\",Compliance_Options!C433)","v":""},{"$f":"IF(Compliance_Options!D433=\"\",\"\",Compliance_Options!D433)","v":""},"  ",{"$f":"IF(COUNTIF(CU$2:CU411,CU411)=1,CU411,\"\")","v":""},"","","",""]
[{"$nulls":48},{"$f":"+IF(AX412=\"\",\"\",MAX(AW$1:AW411)+1)","v":""},{"$f":"IF(Compliance_Options!B434=\"\",\"\",Compliance_Options!B434)","v":""},{"$f":"IF(Compliance_Options!C434=\"\",\"\",Compliance_Options!C434)","v":""},{"$f":"IF(Compliance_Options!D434=\"\",\"\",Compliance_Options!D434)","v":""},{"$f":"IF(Compliance_Options!E434=\"\",\"\",Compliance_Options!E434)","v":""},{"$f":"IF(Compliance_Options!F434=\"\",\"\",Compliance_Options!F434)","v":""},"    ",{"$f":"IF(COUNTIF(BC$2:BC412,BC412)=1,BC412,\"\")","v":""},"","","","","","","",{"$f":"+IF(BK412=\"\",\"\",MAX(BL$1:BL411)+1)","v":""},"","","","","","","",{"$f":"+IF(BS412=\"\",\"\",MAX(BT$1:BT411)+1)","v":""},"","","","","","","",{"$f":"+IF(CA412=\"\",\"\",MAX(CB$1:CB411)+1)","v":""},"","","","","","","",{"$f":"+IF(CI412=\"\",\"\",MAX(CJ$1:CJ411)+1)","v":""},"","","","","",null,{"$f":"+IF(CR412=\"\",\"\",MAX(CQ$1:CQ411)+1)","v":""},{"$f":"IF(Compliance_Options!B434=\"\",\"\",Compliance_Options!B434)","v":""},{"$f":"IF(Compliance_Options!C434=\"\",\"\",Compliance_Options!C434)","v":""},{"$f":"IF(Compliance_Options!D434=\"\",\"\",Compliance_Options!D434)","v":""},"  ",{"$f":"IF(COUNTIF(CU$2:CU412,CU412)=1,CU412,\"\")","v":""},"","","",""]
[{"$nulls":48},{"$f":"+IF(AX413=\"\",\"\",MAX(AW$1:AW412)+1)","v":""},{"$f":"IF(Compliance_Options!B435=\"\",\"\",Compliance_Options!B435)","v":""},{"$f":"IF(Compliance_Options!C435=\"\",\"\",Compliance_Options!C435)","v":""},{"$f":"IF(Compliance_Options!D435=\"\",\"\",Compliance_Options!D435)","v":""},{"$f":"IF(Compliance_Options!E435=\"\",\"\",Compliance_Options!E435)","v":""},{"$f":"IF(Compliance_Options!F435=\"\",\"\",Compliance_Options!F435)","v":""},"    ",{"$f":"IF(COUNTIF(BC$2:BC413,BC413)=1,BC413,\"\")","v":""},"","","","","","","",{"$f":"+IF(BK413=\"\",\"\",MAX(BL$1:BL412)+1)","v":""},"","","","","","","",{"$f":"+IF(BS413=\"\",\"\",MAX(BT$1:BT412)+1)","v":""},"","","","","","","",{"$f":"+IF(CA413=\"\",\"\",MAX(CB$1:CB412)+1)","v":""},"","","","","","","",{"$f":"+IF(CI413=\"\",\"\",MAX(CJ$1:CJ412)+1)","v":""},"","","","","",null,{"$f":"+IF(CR413=\"\",\"\",MAX(CQ$1:CQ412)+1)","v":""},{"$f":"IF(Compliance_Options!B435=\"\",\"\",Compliance_Options!B435)","v":""},{"$f":"IF(Compliance_Options!C435=\"\",\"\",Compliance_Options!C435)","v":""},{"$f":"IF(Compliance_Options!D435=\"\",\"\",Compliance_Options!D435)","v":""},"  ",{"$f":"IF(COUNTIF(CU$2:CU413,CU413)=1,CU413,\"\")","v":""},"","","",""]
[{"$nulls":48},{"$f":"+IF(AX414=\"\",\"\",MAX(AW$1:AW413)+1)","v":""},{"$f":"IF(Compliance_Options!B436=\"\",\"\",Compliance_Options!B436)","v":""},{"$f":"IF(Compliance_Options!C436=\"\",\"\",Compliance_Options!C436)","v":""},{"$f":"IF(Compliance_Options!D436=\"\",\"\",Compliance_Options!D436)","v":""},{"$f":"IF(Compliance_Options!E436=\"\",\"\",Compliance_Options!E436)","v":""},{"$f":"IF(Compliance_Options!F436=\"\",\"\",Compliance_Options!F436)","v":""},"    ",{"$f":"IF(COUNTIF(BC$2:BC414,BC414)=1,BC414,\"\")","v":""},"","","","","","","",{"$f":"+IF(BK414=\"\",\"\",MAX(BL$1:BL413)+1)","v":""},"","","","","","","",{"$f":"+IF(BS414=\"\",\"\",MAX(BT$1:BT413)+1)","v":""},"","","","","","","",{"$f":"+IF(CA414=\"\",\"\",MAX(CB$1:CB413)+1)","v":""},"","","","","","","",{"$f":"+IF(CI414=\"\",\"\",MAX(CJ$1:CJ413)+1)","v":""},"","","","","",null,{"$f":"+IF(CR414=\"\",\"\",MAX(CQ$1:CQ413)+1)","v":""},{"$f":"IF(Compliance_Options!B436=\"\",\"\",Compliance_Options!B436)","v":""},{"$f":"IF(Compliance_Options!C436=\"\",\"\",Compliance_Options!C436)","v":""},{"$f":"IF(Compliance_Options!D436=\"\",\"\",Compliance_Options!D436)","v":""},"  ",{"$f":"IF(COUNTIF(CU$2:CU414,CU414)=1,CU414,\"\")","v":""},"","","",""]
[{"$nulls":48},{"$f":"+IF(AX415=\"\",\"\",MAX(AW$1:AW414)+1)","v":""},{"$f":"IF(Compliance_Options!B437=\"\",\"\",Compliance_Options!B437)","v":""},{"$f":"IF(Compliance_Options!C437=\"\",\"\",Compliance_Options!C437)","v":""},{"$f":"IF(Compliance_Options!D437=\"\",\"\",Compliance_Options!D437)","v":""},{"$f":"IF(Compliance_Options!E437=\"\",\"\",Compliance_Options!E437)","v":""},{"$f":"IF(Compliance_Options!F437=\"\",\"\",Compliance_Options!F437)","v":""},"    ",{"$f":"IF(COUNTIF(BC$2:BC415,BC415)=1,BC415,\"\")","v":""},"","","","","","","",{"$f":"+IF(BK415=\"\",\"\",MAX(BL$1:BL414)+1)","v":""},"","","","","","","",{"$f":"+IF(BS415=\"\",\"\",MAX(BT$1:BT414)+1)","v":""},"","","","","","","",{"$f":"+IF(CA415=\"\",\"\",MAX(CB$1:CB414)+1)","v":""},"","","","","","","",{"$f":"+IF(CI415=\"\",\"\",MAX(CJ$1:CJ414)+1)","v":""},"","","","","",null,{"$f":"+IF(CR415=\"\",\"\",MAX(CQ$1:CQ414)+1)","v":""},{"$f":"IF(Compliance_Options!B437=\"\",\"\",Compliance_Options!B437)","v":""},{"$f":"IF(Compliance_Options!C437=\"\",\"\",Compliance_Options!C437)","v":""},{"$f":"IF(Compliance_Options!D437=\"\",\"\",Compliance_Options!D437)","v":""},"  ",{"$f":"IF(COUNTIF(CU$2:CU415,CU415)=1,CU415,\"\")","v":""},"","","",""]
[{"$nulls":48},{"$f":"+IF(AX416=\"\",\"\",MAX(AW$1:AW415)+1)","v":""},{"$f":"IF(Compliance_Options!B438=\"\",\"\",Compliance_Options!B438)","v":""},{"$f":"IF(Compliance_Options!C438=\"\",\"\",Compliance_Options!C438)","v":""},{"$f":"IF(Compliance_Options!D438=\"\",\"\",Compliance_Options!D438)","v":""},{"$f":"IF(Compliance_Options!E438=\"\",\"\",Compliance_Options!E438)","v":""},{"$f":"IF(Compliance_Options!F438=\"\",\"\",Compliance_Options!F438)","v":""},"    ",{"$f":"IF(COUNTIF(BC$2:BC416,BC416)=1,BC416,\"\")","v":""},"","","","","","","",{"$f":"+IF(BK416=\"\",\"\",MAX(BL$1:BL415)+1)","v":""},"","","","","","","",{"$f":"+IF(BS416=\"\",\"\",MAX(BT$1:BT415)+1)","v":""},"","","","","","","",{"$f":"+IF(CA416=\"\",\"\",MAX(CB$1:CB415)+1)","v":""},"","","","","","","",{"$f":"+IF(CI416=\"\",\"\",MAX(CJ$1:CJ415)+1)","v":""},"","","","","",null,{"$f":"+IF(CR416=\"\",\"\",MAX(CQ$1:CQ415)+1)","v":""},{"$f":"IF(Compliance_Options!B438=\"\",\"\",Compliance_Options!B438)","v":""},{"$f":"IF(Compliance_Options!C438=\"\",\"\",Compliance_Options!C438)","v":""},{"$f":"IF(Compliance_Options!D438=\"\",\"\",Compliance_Options!D438)","v":""},"  ",{"$f":"IF(COUNTIF(CU$2:CU416,CU416)=1,CU416,\"\")","v":""},"","","",""]
[{"$nulls":48},{"$f":"+IF(AX417=\"\",\"\",MAX(AW$1:AW416)+1)","v":""},{"$f":"IF(Compliance_Options!B439=\"\",\"\",Compliance_Options!B439)","v":""},{"$f":"IF(Compliance_Options!C439=\"\",\"\",Compliance_Options!C439)","v":""},{"$f":"IF(Compliance_Options!D439=\"\",\"\",Compliance_Options!D439)","v":""},{"$f":"IF(Compliance_Options!E439=\"\",\"\",Compliance_Options!E439)","v":""},{"$f":"IF(Compliance_Options!F439=\"\",\"\",Compliance_Options!F439)","v":""},"    ",{"$f":"IF(COUNTIF(BC$2:BC417,BC417)=1,BC417,\"\")","v":""},"","","","","","","",{"$f":"+IF(BK417=\"\",\"\",MAX(BL$1:BL416)+1)","v":""},"","","","","","","",{"$f":"+IF(BS417=\"\",\"\",MAX(BT$1:BT416)+1)","v":""},"","","","","","","",{"$f":"+IF(CA417=\"\",\"\",MAX(CB$1:CB416)+1)","v":""},"","","","","","","",{"$f":"+IF(CI417=\"\",\"\",MAX(CJ$1:CJ416)+1)","v":""},"","","","","",null,{"$f":"+IF(CR417=\"\",\"\",MAX(CQ$1:CQ416)+1)","v":""},{"$f":"IF(Compliance_Options!B439=\"\",\"\",Compliance_Options!B439)","v":""},{"$f":"IF(Compliance_Options!C439=\"\",\"\",Compliance_Options!C439)","v":""},{"$f":"IF(Compliance_Options!D439=\"\",\"\",Compliance_Options!D439)","v":""},"  ",{"$f":"IF(COUNTIF(CU$2:CU417,CU417)=1,CU417,\"\")","v":""},"","","",""]
[{"$nulls":48},{"$f":"+IF(AX418=\"\",\"\",MAX(AW$1:AW417)+1)","v":""},{"$f":"IF(Compliance_Options!B440=\"\",\"\",Compliance_Options!B440)","v":""},{"$f":"IF(Compliance_Options!C440=\"\",\"\",Compliance_Options!C440)","v":""},{"$f":"IF(Compliance_Options!D440=\"\",\"\",Compliance_Options!D440)","v":""},{"$f":"IF(Compliance_Options!E440=\"\",\"\",Compliance_Options!E440)","v":""},{"$f":"IF(Compliance_Options!F440=\"\",\"\",Compliance_Options!F440)","v":""},"    ",{"$f":"IF(COUNTIF(BC$2:BC418,BC418)=1,BC418,\"\")","v":""},"","","","","","","",{"$f":"+IF(BK418=\"\",\"\",MAX(BL$1:BL417)+1)","v":""},"","","","","","","",{"$f":"+IF(BS418=\"\",\"\",MAX(BT$1:BT417)+1)","v":""},"","","","","","","",{"$f":"+IF(CA418=\"\",\"\",MAX(CB$1:CB417)+1)","v":""},"","","","","","","",{"$f":"+IF(CI418=\"\",\"\",MAX(CJ$1:CJ417)+1)","v":""},"","","","","",null,{"$f":"+IF(CR418=\"\",\"\",MAX(CQ$1:CQ417)+1)","v":""},{"$f":"IF(Compliance_Options!B440=\"\",\"\",Compliance_Options!B440)","v":""},{"$f":"IF(Compliance_Options!C440=\"\",\"\",Compliance_Options!C440)","v":""},{"$f":"IF(Compliance_Options!D440=\"\",\"\",Compliance_Options!D440)","v":""},"  ",{"$f":"IF(COUNTIF(CU$2:CU418,CU418)=1,CU418,\"\")","v":""},"","","",""]
[{"$nulls":48},{"$f":"+IF(AX419=\"\",\"\",MAX(AW$1:AW418)+1)","v":""},{"$f":"IF(Compliance_Options!B441=\"\",\"\",Compliance_Options!B441)","v":""},{"$f":"IF(Compliance_Options!C441=\"\",\"\",Compliance_Options!C441)","v":""},{"$f":"IF(Compliance_Options!D441=\"\",\"\",Compliance_Options!D441)","v":""},{"$f":"IF(Compliance_Options!E441=\"\",\"\",Compliance_Options!E441)","v":""},{"$f":"IF(Compliance_Options!F441=\"\",\"\",Compliance_Options!F441)","v":""},"    ",{"$f":"IF(COUNTIF(BC$2:BC419,BC419)=1,BC419,\"\")","v":""},"","","","","","","",{"$f":"+IF(BK419=\"\",\"\",MAX(BL$1:BL418)+1)","v":""},"","","","","","","",{"$f":"+IF(BS419=\"\",\"\",MAX(BT$1:BT418)+1)","v":""},"","","","","","","",{"$f":"+IF(CA419=\"\",\"\",MAX(CB$1:CB418)+1)","v":""},"","","","","","","",{"$f":"+IF(CI419=\"\",\"\",MAX(CJ$1:CJ418)+1)","v":""},"","","","","",null,{"$f":"+IF(CR419=\"\",\"\",MAX(CQ$1:CQ418)+1)","v":""},{"$f":"IF(Compliance_Options!B441=\"\",\"\",Compliance_Options!B441)","v":""},{"$f":"IF(Compliance_Options!C441=\"\",\"\",Compliance_Options!C441)","v":""},{"$f":"IF(Compliance_Options!D441=\"\",\"\",Compliance_Options!D441)","v":""},"  ",{"$f":"IF(COUNTIF(CU$2:CU419,CU419)=1,CU419,\"\")","v":""},"","","",""]
[{"$nulls":48},{"$f":"+IF(AX420=\"\",\"\",MAX(AW$1:AW419)+1)","v":""},{"$f":"IF(Compliance_Options!B442=\"\",\"\",Compliance_Options!B442)","v":""},{"$f":"IF(Compliance_Options!C442=\"\",\"\",Compliance_Options!C442)","v":""},{"$f":"IF(Compliance_Options!D442=\"\",\"\",Compliance_Options!D442)","v":""},{"$f":"IF(Compliance_Options!E442=\"\",\"\",Compliance_Options!E442)","v":""},{"$f":"IF(Compliance_Options!F442=\"\",\"\",Compliance_Options!F442)","v":""},"    ",{"$f":"IF(COUNTIF(BC$2:BC420,BC420)=1,BC420,\"\")","v":""},"","","","","","","",{"$f":"+IF(BK420=\"\",\"\",MAX(BL$1:BL419)+1)","v":""},"","","","","","","",{"$f":"+IF(BS420=\"\",\"\",MAX(BT$1:BT419)+1)","v":""},"","","","","","","",{"$f":"+IF(CA420=\"\",\"\",MAX(CB$1:CB419)+1)","v":""},"","","","","","","",{"$f":"+IF(CI420=\"\",\"\",MAX(CJ$1:CJ419)+1)","v":""},"","","","","",null,{"$f":"+IF(CR420=\"\",\"\",MAX(CQ$1:CQ419)+1)","v":""},{"$f":"IF(Compliance_Options!B442=\"\",\"\",Compliance_Options!B442)","v":""},{"$f":"IF(Compliance_Options!C442=\"\",\"\",Compliance_Options!C442)","v":""},{"$f":"IF(Compliance_Options!D442=\"\",\"\",Compliance_Options!D442)","v":""},"  ",{"$f":"IF(COUNTIF(CU$2:CU420,CU420)=1,CU420,\"\")","v":""},"","","",""]
[{"$nulls":48},{"$f":"+IF(AX421=\"\",\"\",MAX(AW$1:AW420)+1)","v":""},{"$f":"IF(Compliance_Options!B443=\"\",\"\",Compliance_Options!B443)","v":""},{"$f":"IF(Compliance_Options!C443=\"\",\"\",Compliance_Options!C443)","v":""},{"$f":"IF(Compliance_Options!D443=\"\",\"\",Compliance_Options!D443)","v":""},{"$f":"IF(Compliance_Options!E443=\"\",\"\",Compliance_Options!E443)","v":""},{"$f":"IF(Compliance_Options!F443=\"\",\"\",Compliance_Options!F443)","v":""},"    ",{"$f":"IF(COUNTIF(BC$2:BC421,BC421)=1,BC421,\"\")","v":""},"","","","","","","",{"$f":"+IF(BK421=\"\",\"\",MAX(BL$1:BL420)+1)","v":""},"","","","","","","",{"$f":"+IF(BS421=\"\",\"\",MAX(BT$1:BT420)+1)","v":""},"","","","","","","",{"$f":"+IF(CA421=\"\",\"\",MAX(CB$1:CB420)+1)","v":""},"","","","","","","",{"$f":"+IF(CI421=\"\",\"\",MAX(CJ$1:CJ420)+1)","v":""},"","","","","",null,{"$f":"+IF(CR421=\"\",\"\",MAX(CQ$1:CQ420)+1)","v":""},{"$f":"IF(Compliance_Options!B443=\"\",\"\",Compliance_Options!B443)","v":""},{"$f":"IF(Compliance_Options!C443=\"\",\"\",Compliance_Options!C443)","v":""},{"$f":"IF(Compliance_Options!D443=\"\",\"\",Compliance_Options!D443)","v":""},"  ",{"$f":"IF(COUNTIF(CU$2:CU421,CU421)=1,CU421,\"\")","v":""},"","","",""]
[{"$nulls":48},{"$f":"+IF(AX422=\"\",\"\",MAX(AW$1:AW421)+1)","v":""},{"$f":"IF(Compliance_Options!B444=\"\",\"\",Compliance_Options!B444)","v":""},{"$f":"IF(Compliance_Options!C444=\"\",\"\",Compliance_Options!C444)","v":""},{"$f":"IF(Compliance_Options!D444=\"\",\"\",Compliance_Options!D444)","v":""},{"$f":"IF(Compliance_Options!E444=\"\",\"\",Compliance_Options!E444)","v":""},{"$f":"IF(Compliance_Options!F444=\"\",\"\",Compliance_Options!F444)","v":""},"    ",{"$f":"IF(COUNTIF(BC$2:BC422,BC422)=1,BC422,\"\")","v":""},"","","","","","","",{"$f":"+IF(BK422=\"\",\"\",MAX(BL$1:BL421)+1)","v":""},"","","","","","","",{"$f":"+IF(BS422=\"\",\"\",MAX(BT$1:BT421)+1)","v":""},"","","","","","","",{"$f":"+IF(CA422=\"\",\"\",MAX(CB$1:CB421)+1)","v":""},"","","","","","","",{"$f":"+IF(CI422=\"\",\"\",MAX(CJ$1:CJ421)+1)","v":""},"","","","","",null,{"$f":"+IF(CR422=\"\",\"\",MAX(CQ$1:CQ421)+1)","v":""},{"$f":"IF(Compliance_Options!B444=\"\",\"\",Compliance_Options!B444)","v":""},{"$f":"IF(Compliance_Options!C444=\"\",\"\",Compliance_Options!C444)","v":""},{"$f":"IF(Compliance_Options!D444=\"\",\"\",Compliance_Options!D444)","v":""},"  ",{"$f":"IF(COUNTIF(CU$2:CU422,CU422)=1,CU422,\"\")","v":""},"","","",""]
[{"$nulls":48},{"$f":"+IF(AX423=\"\",\"\",MAX(AW$1:AW422)+1)","v":""},{"$f":"IF(Compliance_Options!B445=\"\",\"\",Compliance_Options!B445)","v":""},{"$f":"IF(Compliance_Options!C445=\"\",\"\",Compliance_Options!C445)","v":""},{"$f":"IF(Compliance_Options!D445=\"\",\"\",Compliance_Options!D445)","v":""},{"$f":"IF(Compliance_Options!E445=\"\",\"\",Compliance_Options!E445)","v":""},{"$f":"IF(Compliance_Options!F445=\"\",\"\",Compliance_Options!F445)","v":""},"    ",{"$f":"IF(COUNTIF(BC$2:BC423,BC423)=1,BC423,\"\")","v":""},"","","","","","","",{"$f":"+IF(BK423=\"\",\"\",MAX(BL$1:BL422)+1)","v":""},"","","","","","","",{"$f":"+IF(BS423=\"\",\"\",MAX(BT$1:BT422)+1)","v":""},"","","","","","","",{"$f":"+IF(CA423=\"\",\"\",MAX(CB$1:CB422)+1)","v":""},"","","","","","","",{"$f":"+IF(CI423=\"\",\"\",MAX(CJ$1:CJ422)+1)","v":""},"","","","","",null,{"$f":"+IF(CR423=\"\",\"\",MAX(CQ$1:CQ422)+1)","v":""},{"$f":"IF(Compliance_Options!B445=\"\",\"\",Compliance_Options!B445)","v":""},{"$f":"IF(Compliance_Options!C445=\"\",\"\",Compliance_Options!C445)","v":""},{"$f":"IF(Compliance_Options!D445=\"\",\"\",Compliance_Options!D445)","v":""},"  ",{"$f":"IF(COUNTIF(CU$2:CU423,CU423)=1,CU423,\"\")","v":""},"","","",""]
[{"$nulls":48},{"$f":"+IF(AX424=\"\",\"\",MAX(AW$1:AW423)+1)","v":""},{"$f":"IF(Compliance_Options!B446=\"\",\"\",Compliance_Options!B446)","v":""},{"$f":"IF(Compliance_Options!C446=\"\",\"\",Compliance_Options!C446)","v":""},{"$f":"IF(Compliance_Options!D446=\"\",\"\",Compliance_Options!D446)","v":""},{"$f":"IF(Compliance_Options!E446=\"\",\"\",Compliance_Options!E446)","v":""},{"$f":"IF(Compliance_Options!F446=\"\",\"\",Compliance_Options!F446)","v":""},"    ",{"$f":"IF(COUNTIF(BC$2:BC424,BC424)=1,BC424,\"\")","v":""},"","","","","","","",{"$f":"+IF(BK424=\"\",\"\",MAX(BL$1:BL423)+1)","v":""},"","","","","","","",{"$f":"+IF(BS424=\"\",\"\",MAX(BT$1:BT423)+1)","v":""},"","","","","","","",{"$f":"+IF(CA424=\"\",\"\",MAX(CB$1:CB423)+1)","v":""},"","","","","","","",{"$f":"+IF(CI424=\"\",\"\",MAX(CJ$1:CJ423)+1)","v":""},"","","","","",null,{"$f":"+IF(CR424=\"\",\"\",MAX(CQ$1:CQ423)+1)","v":""},{"$f":"IF(Compliance_Options!B446=\"\",\"\",Compliance_Options!B446)","v":""},{"$f":"IF(Compliance_Options!C446=\"\",\"\",Compliance_Options!C446)","v":""},{"$f":"IF(Compliance_Options!D446=\"\",\"\",Compliance_Options!D446)","v":""},"  ",{"$f":"IF(COUNTIF(CU$2:CU424,CU424)=1,CU424,\"\")","v":""},"","","",""]
[{"$nulls":48},{"$f":"+IF(AX425=\"\",\"\",MAX(AW$1:AW424)+1)","v":""},{"$f":"IF(Compliance_Options!B447=\"\",\"\",Compliance_Options!B447)","v":""},{"$f":"IF(Compliance_Options!C447=\"\",\"\",Compliance_Options!C447)","v":""},{"$f":"IF(Compliance_Options!D447=\"\",\"\",Compliance_Options!D447)","v":""},{"$f":"IF(Compliance_Options!E447=\"\",\"\",Compliance_Options!E447)","v":""},{"$f":"IF(Compliance_Options!F447=\"\",\"\",Compliance_Options!F447)","v":""},"    ",{"$f":"IF(COUNTIF(BC$2:BC425,BC425)=1,BC425,\"\")","v":""},"","","","","","","",{"$f":"+IF(BK425=\"\",\"\",MAX(BL$1:BL424)+1)","v":""},"","","","","","","",{"$f":"+IF(BS425=\"\",\"\",MAX(BT$1:BT424)+1)","v":""},"","","","","","","",{"$f":"+IF(CA425=\"\",\"\",MAX(CB$1:CB424)+1)","v":""},"","","","","","","",{"$f":"+IF(CI425=\"\",\"\",MAX(CJ$1:CJ424)+1)","v":""},"","","","","",null,{"$f":"+IF(CR425=\"\",\"\",MAX(CQ$1:CQ424)+1)","v":""},{"$f":"IF(Compliance_Options!B447=\"\",\"\",Compliance_Options!B447)","v":""},{"$f":"IF(Compliance_Options!C447=\"\",\"\",Compliance_Options!C447)","v":""},{"$f":"IF(Compliance_Options!D447=\"\",\"\",Compliance_Options!D447)","v":""},"  ",{"$f":"IF(COUNTIF(CU$2:CU425,CU425)=1,CU425,\"\")","v":""},"","","",""]
[{"$nulls":48},{"$f":"+IF(AX426=\"\",\"\",MAX(AW$1:AW425)+1)","v":""},{"$f":"IF(Compliance_Options!B448=\"\",\"\",Compliance_Options!B448)","v":""},{"$f":"IF(Compliance_Options!C448=\"\",\"\",Compliance_Options!C448)","v":""},{"$f":"IF(Compliance_Options!D448=\"\",\"\",Compliance_Options!D448)","v":""},{"$f":"IF(Compliance_Options!E448=\"\",\"\",Compliance_Options!E448)","v":""},{"$f":"IF(Compliance_Options!F448=\"\",\"\",Compliance_Options!F448)","v":""},"    ",{"$f":"IF(COUNTIF(BC$2:BC426,BC426)=1,BC426,\"\")","v":""},"","","","","","","",{"$f":"+IF(BK426=\"\",\"\",MAX(BL$1:BL425)+1)","v":""},"","","","","","","",{"$f":"+IF(BS426=\"\",\"\",MAX(BT$1:BT425)+1)","v":""},"","","","","","","",{"$f":"+IF(CA426=\"\",\"\",MAX(CB$1:CB425)+1)","v":""},"","","","","","","",{"$f":"+IF(CI426=\"\",\"\",MAX(CJ$1:CJ425)+1)","v":""},"","","","","",null,{"$f":"+IF(CR426=\"\",\"\",MAX(CQ$1:CQ425)+1)","v":""},{"$f":"IF(Compliance_Options!B448=\"\",\"\",Compliance_Options!B448)","v":""},{"$f":"IF(Compliance_Options!C448=\"\",\"\",Compliance_Options!C448)","v":""},{"$f":"IF(Compliance_Options!D448=\"\",\"\",Compliance_Options!D448)","v":""},"  ",{"$f":"IF(COUNTIF(CU$2:CU426,CU426)=1,CU426,\"\")","v":""},"","","",""]
[{"$nulls":48},{"$f":"+IF(AX427=\"\",\"\",MAX(AW$1:AW426)+1)","v":""},{"$f":"IF(Compliance_Options!B449=\"\",\"\",Compliance_Options!B449)","v":""},{"$f":"IF(Compliance_Options!C449=\"\",\"\",Compliance_Options!C449)","v":""},{"$f":"IF(Compliance_Options!D449=\"\",\"\",Compliance_Options!D449)","v":""},{"$f":"IF(Compliance_Options!E449=\"\",\"\",Compliance_Options!E449)","v":""},{"$f":"IF(Compliance_Options!F449=\"\",\"\",Compliance_Options!F449)","v":""},"    ",{"$f":"IF(COUNTIF(BC$2:BC427,BC427)=1,BC427,\"\")","v":""},"","","","","","","",{"$f":"+IF(BK427=\"\",\"\",MAX(BL$1:BL426)+1)","v":""},"","","","","","","",{"$f":"+IF(BS427=\"\",\"\",MAX(BT$1:BT426)+1)","v":""},"","","","","","","",{"$f":"+IF(CA427=\"\",\"\",MAX(CB$1:CB426)+1)","v":""},"","","","","","","",{"$f":"+IF(CI427=\"\",\"\",MAX(CJ$1:CJ426)+1)","v":""},"","","","","",null,{"$f":"+IF(CR427=\"\",\"\",MAX(CQ$1:CQ426)+1)","v":""},{"$f":"IF(Compliance_Options!B449=\"\",\"\",Compliance_Options!B449)","v":""},{"$f":"IF(Compliance_Options!C449=\"\",\"\",Compliance_Options!C449)","v":""},{"$f":"IF(Compliance_Options!D449=\"\",\"\",Compliance_Options!D449)","v":""},"  ",{"$f":"IF(COUNTIF(CU$2:CU427,CU427)=1,CU427,\"\")","v":""},"","","",""]
[{"$nulls":48},{"$f":"+IF(AX428=\"\",\"\",MAX(AW$1:AW427)+1)","v":""},{"$f":"IF(Compliance_Options!B450=\"\",\"\",Compliance_Options!B450)","v":""},{"$f":"IF(Compliance_Options!C450=\"\",\"\",Compliance_Options!C450)","v":""},{"$f":"IF(Compliance_Options!D450=\"\",\"\",Compliance_Options!D450)","v":""},{"$f":"IF(Compliance_Options!E450=\"\",\"\",Compliance_Options!E450)","v":""},{"$f":"IF(Compliance_Options!F450=\"\",\"\",Compliance_Options!F450)","v":""},"    ",{"$f":"IF(COUNTIF(BC$2:BC428,BC428)=1,BC428,\"\")","v":""},"","","","","","","",{"$f":"+IF(BK428=\"\",\"\",MAX(BL$1:BL427)+1)","v":""},"","","","","","","",{"$f":"+IF(BS428=\"\",\"\",MAX(BT$1:BT427)+1)","v":""},"","","","","","","",{"$f":"+IF(CA428=\"\",\"\",MAX(CB$1:CB427)+1)","v":""},"","","","","","","",{"$f":"+IF(CI428=\"\",\"\",MAX(CJ$1:CJ427)+1)","v":""},"","","","","",null,{"$f":"+IF(CR428=\"\",\"\",MAX(CQ$1:CQ427)+1)","v":""},{"$f":"IF(Compliance_Options!B450=\"\",\"\",Compliance_Options!B450)","v":""},{"$f":"IF(Compliance_Options!C450=\"\",\"\",Compliance_Options!C450)","v":""},{"$f":"IF(Compliance_Options!D450=\"\",\"\",Compliance_Options!D450)","v":""},"  ",{"$f":"IF(COUNTIF(CU$2:CU428,CU428)=1,CU428,\"\")","v":""},"","","",""]
[{"$nulls":48},{"$f":"+IF(AX429=\"\",\"\",MAX(AW$1:AW428)+1)","v":""},{"$f":"IF(Compliance_Options!B451=\"\",\"\",Compliance_Options!B451)","v":""},{"$f":"IF(Compliance_Options!C451=\"\",\"\",Compliance_Options!C451)","v":""},{"$f":"IF(Compliance_Options!D451=\"\",\"\",Compliance_Options!D451)","v":""},{"$f":"IF(Compliance_Options!E451=\"\",\"\",Compliance_Options!E451)","v":""},{"$f":"IF(Compliance_Options!F451=\"\",\"\",Compliance_Options!F451)","v":""},"    ",{"$f":"IF(COUNTIF(BC$2:BC429,BC429)=1,BC429,\"\")","v":""},"","","","","","","",{"$f":"+IF(BK429=\"\",\"\",MAX(BL$1:BL428)+1)","v":""},"","","","","","","",{"$f":"+IF(BS429=\"\",\"\",MAX(BT$1:BT428)+1)","v":""},"","","","","","","",{"$f":"+IF(CA429=\"\",\"\",MAX(CB$1:CB428)+1)","v":""},"","","","","","","",{"$f":"+IF(CI429=\"\",\"\",MAX(CJ$1:CJ428)+1)","v":""},"","","","","",null,{"$f":"+IF(CR429=\"\",\"\",MAX(CQ$1:CQ428)+1)","v":""},{"$f":"IF(Compliance_Options!B451=\"\",\"\",Compliance_Options!B451)","v":""},{"$f":"IF(Compliance_Options!C451=\"\",\"\",Compliance_Options!C451)","v":""},{"$f":"IF(Compliance_Options!D451=\"\",\"\",Compliance_Options!D451)","v":""},"  ",{"$f":"IF(COUNTIF(CU$2:CU429,CU429)=1,CU429,\"\")","v":""},"","","",""]
[{"$nulls":48},{"$f":"+IF(AX430=\"\",\"\",MAX(AW$1:AW429)+1)","v":""},{"$f":"IF(Compliance_Options!B452=\"\",\"\",Compliance_Options!B452)","v":""},{"$f":"IF(Compliance_Options!C452=\"\",\"\",Compliance_Options!C452)","v":""},{"$f":"IF(Compliance_Options!D452=\"\",\"\",Compliance_Options!D452)","v":""},{"$f":"IF(Compliance_Options!E452=\"\",\"\",Compliance_Options!E452)","v":""},{"$f":"IF(Compliance_Options!F452=\"\",\"\",Compliance_Options!F452)","v":""},"    ",{"$f":"IF(COUNTIF(BC$2:BC430,BC430)=1,BC430,\"\")","v":""},"","","","","","","",{"$f":"+IF(BK430=\"\",\"\",MAX(BL$1:BL429)+1)","v":""},"","","","","","","",{"$f":"+IF(BS430=\"\",\"\",MAX(BT$1:BT429)+1)","v":""},"","","","","","","",{"$f":"+IF(CA430=\"\",\"\",MAX(CB$1:CB429)+1)","v":""},"","","","","","","",{"$f":"+IF(CI430=\"\",\"\",MAX(CJ$1:CJ429)+1)","v":""},"","","","","",null,{"$f":"+IF(CR430=\"\",\"\",MAX(CQ$1:CQ429)+1)","v":""},{"$f":"IF(Compliance_Options!B452=\"\",\"\",Compliance_Options!B452)","v":""},{"$f":"IF(Compliance_Options!C452=\"\",\"\",Compliance_Options!C452)","v":""},{"$f":"IF(Compliance_Options!D452=\"\",\"\",Compliance_Options!D452)","v":""},"  ",{"$f":"IF(COUNTIF(CU$2:CU430,CU430)=1,CU430,\"\")","v":""},"","","",""]
[{"$nulls":48},{"$f":"+IF(AX431=\"\",\"\",MAX(AW$1:AW430)+1)","v":""},{"$f":"IF(Compliance_Options!B453=\"\",\"\",Compliance_Options!B453)","v":""},{"$f":"IF(Compliance_Options!C453=\"\",\"\",Compliance_Options!C453)","v":""},{"$f":"IF(Compliance_Options!D453=\"\",\"\",Compliance_Options!D453)","v":""},{"$f":"IF(Compliance_Options!E453=\"\",\"\",Compliance_Options!E453)","v":""},{"$f":"IF(Compliance_Options!F453=\"\",\"\",Compliance_Options!F453)","v":""},"    ",{"$f":"IF(COUNTIF(BC$2:BC431,BC431)=1,BC431,\"\")","v":""},"","","","","","","",{"$f":"+IF(BK431=\"\",\"\",MAX(BL$1:BL430)+1)","v":""},"","","","","","","",{"$f":"+IF(BS431=\"\",\"\",MAX(BT$1:BT430)+1)","v":""},"","","","","","","",{"$f":"+IF(CA431=\"\",\"\",MAX(CB$1:CB430)+1)","v":""},"","","","","","","",{"$f":"+IF(CI431=\"\",\"\",MAX(CJ$1:CJ430)+1)","v":""},"","","","","",null,{"$f":"+IF(CR431=\"\",\"\",MAX(CQ$1:CQ430)+1)","v":""},{"$f":"IF(Compliance_Options!B453=\"\",\"\",Compliance_Options!B453)","v":""},{"$f":"IF(Compliance_Options!C453=\"\",\"\",Compliance_Options!C453)","v":""},{"$f":"IF(Compliance_Options!D453=\"\",\"\",Compliance_Options!D453)","v":""},"  ",{"$f":"IF(COUNTIF(CU$2:CU431,CU431)=1,CU431,\"\")","v":""},"","","",""]
[{"$nulls":48},{"$f":"+IF(AX432=\"\",\"\",MAX(AW$1:AW431)+1)","v":""},{"$f":"IF(Compliance_Options!B454=\"\",\"\",Compliance_Options!B454)","v":""},{"$f":"IF(Compliance_Options!C454=\"\",\"\",Compliance_Options!C454)","v":""},{"$f":"IF(Compliance_Options!D454=\"\",\"\",Compliance_Options!D454)","v":""},{"$f":"IF(Compliance_Options!E454=\"\",\"\",Compliance_Options!E454)","v":""},{"$f":"IF(Compliance_Options!F454=\"\",\"\",Compliance_Options!F454)","v":""},"    ",{"$f":"IF(COUNTIF(BC$2:BC432,BC432)=1,BC432,\"\")","v":""},"","","","","","","",{"$f":"+IF(BK432=\"\",\"\",MAX(BL$1:BL431)+1)","v":""},"","","","","","","",{"$f":"+IF(BS432=\"\",\"\",MAX(BT$1:BT431)+1)","v":""},"","","","","","","",{"$f":"+IF(CA432=\"\",\"\",MAX(CB$1:CB431)+1)","v":""},"","","","","","","",{"$f":"+IF(CI432=\"\",\"\",MAX(CJ$1:CJ431)+1)","v":""},"","","","","",null,{"$f":"+IF(CR432=\"\",\"\",MAX(CQ$1:CQ431)+1)","v":""},{"$f":"IF(Compliance_Options!B454=\"\",\"\",Compliance_Options!B454)","v":""},{"$f":"IF(Compliance_Options!C454=\"\",\"\",Compliance_Options!C454)","v":""},{"$f":"IF(Compliance_Options!D454=\"\",\"\",Compliance_Options!D454)","v":""},"  ",{"$f":"IF(COUNTIF(CU$2:CU432,CU432)=1,CU432,\"\")","v":""},"","","",""]
[{"$nulls":48},{"$f":"+IF(AX433=\"\",\"\",MAX(AW$1:AW432)+1)","v":""},{"$f":"IF(Compliance_Options!B455=\"\",\"\",Compliance_Options!B455)","v":""},{"$f":"IF(Compliance_Options!C455=\"\",\"\",Compliance_Options!C455)","v":""},{"$f":"IF(Compliance_Options!D455=\"\",\"\",Compliance_Options!D455)","v":""},{"$f":"IF(Compliance_Options!E455=\"\",\"\",Compliance_Options!E455)","v":""},{"$f":"IF(Compliance_Options!F455=\"\",\"\",Compliance_Options!F455)","v":""},"    ",{"$f":"IF(COUNTIF(BC$2:BC433,BC433)=1,BC433,\"\")","v":""},"","","","","","","",{"$f":"+IF(BK433=\"\",\"\",MAX(BL$1:BL432)+1)","v":""},"","","","","","","",{"$f":"+IF(BS433=\"\",\"\",MAX(BT$1:BT432)+1)","v":""},"","","","","","","",{"$f":"+IF(CA433=\"\",\"\",MAX(CB$1:CB432)+1)","v":""},"","","","","","","",{"$f":"+IF(CI433=\"\",\"\",MAX(CJ$1:CJ432)+1)","v":""},"","","","","",null,{"$f":"+IF(CR433=\"\",\"\",MAX(CQ$1:CQ432)+1)","v":""},{"$f":"IF(Compliance_Options!B455=\"\",\"\",Compliance_Options!B455)","v":""},{"$f":"IF(Compliance_Options!C455=\"\",\"\",Compliance_Options!C455)","v":""},{"$f":"IF(Compliance_Options!D455=\"\",\"\",Compliance_Options!D455)","v":""},"  ",{"$f":"IF(COUNTIF(CU$2:CU433,CU433)=1,CU433,\"\")","v":""},"","","",""]
[{"$nulls":48},{"$f":"+IF(AX434=\"\",\"\",MAX(AW$1:AW433)+1)","v":""},{"$f":"IF(Compliance_Options!B456=\"\",\"\",Compliance_Options!B456)","v":""},{"$f":"IF(Compliance_Options!C456=\"\",\"\",Compliance_Options!C456)","v":""},{"$f":"IF(Compliance_Options!D456=\"\",\"\",Compliance_Options!D456)","v":""},{"$f":"IF(Compliance_Options!E456=\"\",\"\",Compliance_Options!E456)","v":""},{"$f":"IF(Compliance_Options!F456=\"\",\"\",Compliance_Options!F456)","v":""},"    ",{"$f":"IF(COUNTIF(BC$2:BC434,BC434)=1,BC434,\"\")","v":""},"","","","","","","",{"$f":"+IF(BK434=\"\",\"\",MAX(BL$1:BL433)+1)","v":""},"","","","","","","",{"$f":"+IF(BS434=\"\",\"\",MAX(BT$1:BT433)+1)","v":""},"","","","","","","",{"$f":"+IF(CA434=\"\",\"\",MAX(CB$1:CB433)+1)","v":""},"","","","","","","",{"$f":"+IF(CI434=\"\",\"\",MAX(CJ$1:CJ433)+1)","v":""},"","","","","",null,{"$f":"+IF(CR434=\"\",\"\",MAX(CQ$1:CQ433)+1)","v":""},{"$f":"IF(Compliance_Options!B456=\"\",\"\",Compliance_Options!B456)","v":""},{"$f":"IF(Compliance_Options!C456=\"\",\"\",Compliance_Options!C456)","v":""},{"$f":"IF(Compliance_Options!D456=\"\",\"\",Compliance_Options!D456)","v":""},"  ",{"$f":"IF(COUNTIF(CU$2:CU434,CU434)=1,CU434,\"\")","v":""},"","","",""]
[{"$nulls":48},{"$f":"+IF(AX435=\"\",\"\",MAX(AW$1:AW434)+1)","v":""},{"$f":"IF(Compliance_Options!B457=\"\",\"\",Compliance_Options!B457)","v":""},{"$f":"IF(Compliance_Options!C457=\"\",\"\",Compliance_Options!C457)","v":""},{"$f":"IF(Compliance_Options!D457=\"\",\"\",Compliance_Options!D457)","v":""},{"$f":"IF(Compliance_Options!E457=\"\",\"\",Compliance_Options!E457)","v":""},{"$f":"IF(Compliance_Options!F457=\"\",\"\",Compliance_Options!F457)","v":""},"    ",{"$f":"IF(COUNTIF(BC$2:BC435,BC435)=1,BC435,\"\")","v":""},"","","","","","","",{"$f":"+IF(BK435=\"\",\"\",MAX(BL$1:BL434)+1)","v":""},"","","","","","","",{"$f":"+IF(BS435=\"\",\"\",MAX(BT$1:BT434)+1)","v":""},"","","","","","","",{"$f":"+IF(CA435=\"\",\"\",MAX(CB$1:CB434)+1)","v":""},"","","","","","","",{"$f":"+IF(CI435=\"\",\"\",MAX(CJ$1:CJ434)+1)","v":""},"","","","","",null,{"$f":"+IF(CR435=\"\",\"\",MAX(CQ$1:CQ434)+1)","v":""},{"$f":"IF(Compliance_Options!B457=\"\",\"\",Compliance_Options!B457)","v":""},{"$f":"IF(Compliance_Options!C457=\"\",\"\",Compliance_Options!C457)","v":""},{"$f":"IF(Compliance_Options!D457=\"\",\"\",Compliance_Options!D457)","v":""},"  ",{"$f":"IF(COUNTIF(CU$2:CU435,CU435)=1,CU435,\"\")","v":""},"","","",""]
[{"$nulls":48},{"$f":"+IF(AX436=\"\",\"\",MAX(AW$1:AW435)+1)","v":""},{"$f":"IF(Compliance_Options!B458=\"\",\"\",Compliance_Options!B458)","v":""},{"$f":"IF(Compliance_Options!C458=\"\",\"\",Compliance_Options!C458)","v":""},{"$f":"IF(Compliance_Options!D458=\"\",\"\",Compliance_Options!D458)","v":""},{"$f":"IF(Compliance_Options!E458=\"\",\"\",Compliance_Options!E458)","v":""},{"$f":"IF(Compliance_Options!F458=\"\",\"\",Compliance_Options!F458)","v":""},"    ",{"$f":"IF(COUNTIF(BC$2:BC436,BC436)=1,BC436,\"\")","v":""},"","","","","","","",{"$f":"+IF(BK436=\"\",\"\",MAX(BL$1:BL435)+1)","v":""},"","","","","","","",{"$f":"+IF(BS436=\"\",\"\",MAX(BT$1:BT435)+1)","v":""},"","","","","","","",{"$f":"+IF(CA436=\"\",\"\",MAX(CB$1:CB435)+1)","v":""},"","","","","","","",{"$f":"+IF(CI436=\"\",\"\",MAX(CJ$1:CJ435)+1)","v":""},"","","","","",null,{"$f":"+IF(CR436=\"\",\"\",MAX(CQ$1:CQ435)+1)","v":""},{"$f":"IF(Compliance_Options!B458=\"\",\"\",Compliance_Options!B458)","v":""},{"$f":"IF(Compliance_Options!C458=\"\",\"\",Compliance_Options!C458)","v":""},{"$f":"IF(Compliance_Options!D458=\"\",\"\",Compliance_Options!D458)","v":""},"  ",{"$f":"IF(COUNTIF(CU$2:CU436,CU436)=1,CU436,\"\")","v":""},"","","",""]
[{"$nulls":48},{"$f":"+IF(AX437=\"\",\"\",MAX(AW$1:AW436)+1)","v":""},{"$f":"IF(Compliance_Options!B459=\"\",\"\",Compliance_Options!B459)","v":""},{"$f":"IF(Compliance_Options!C459=\"\",\"\",Compliance_Options!C459)","v":""},{"$f":"IF(Compliance_Options!D459=\"\",\"\",Compliance_Options!D459)","v":""},{"$f":"IF(Compliance_Options!E459=\"\",\"\",Compliance_Options!E459)","v":""},{"$f":"IF(Compliance_Options!F459=\"\",\"\",Compliance_Options!F459)","v":""},"    ",{"$f":"IF(COUNTIF(BC$2:BC437,BC437)=1,BC437,\"\")","v":""},"","","","","","","",{"$f":"+IF(BK437=\"\",\"\",MAX(BL$1:BL436)+1)","v":""},"","","","","","","",{"$f":"+IF(BS437=\"\",\"\",MAX(BT$1:BT436)+1)","v":""},"","","","","","","",{"$f":"+IF(CA437=\"\",\"\",MAX(CB$1:CB436)+1)","v":""},"","","","","","","",{"$f":"+IF(CI437=\"\",\"\",MAX(CJ$1:CJ436)+1)","v":""},"","","","","",null,{"$f":"+IF(CR437=\"\",\"\",MAX(CQ$1:CQ436)+1)","v":""},{"$f":"IF(Compliance_Options!B459=\"\",\"\",Compliance_Options!B459)","v":""},{"$f":"IF(Compliance_Options!C459=\"\",\"\",Compliance_Options!C459)","v":""},{"$f":"IF(Compliance_Options!D459=\"\",\"\",Compliance_Options!D459)","v":""},"  ",{"$f":"IF(COUNTIF(CU$2:CU437,CU437)=1,CU437,\"\")","v":""},"","","",""]
[{"$nulls":48},{"$f":"+IF(AX438=\"\",\"\",MAX(AW$1:AW437)+1)","v":""},{"$f":"IF(Compliance_Options!B460=\"\",\"\",Compliance_Options!B460)","v":""},{"$f":"IF(Compliance_Options!C460=\"\",\"\",Compliance_Options!C460)","v":""},{"$f":"IF(Compliance_Options!D460=\"\",\"\",Compliance_Options!D460)","v":""},{"$f":"IF(Compliance_Options!E460=\"\",\"\",Compliance_Options!E460)","v":""},{"$f":"IF(Compliance_Options!F460=\"\",\"\",Compliance_Options!F460)","v":""},"    ",{"$f":"IF(COUNTIF(BC$2:BC438,BC438)=1,BC438,\"\")","v":""},"","","","","","","",{"$f":"+IF(BK438=\"\",\"\",MAX(BL$1:BL437)+1)","v":""},"","","","","","","",{"$f":"+IF(BS438=\"\",\"\",MAX(BT$1:BT437)+1)","v":""},"","","","","","","",{"$f":"+IF(CA438=\"\",\"\",MAX(CB$1:CB437)+1)","v":""},"","","","","","","",{"$f":"+IF(CI438=\"\",\"\",MAX(CJ$1:CJ437)+1)","v":""},"","","","","",null,{"$f":"+IF(CR438=\"\",\"\",MAX(CQ$1:CQ437)+1)","v":""},{"$f":"IF(Compliance_Options!B460=\"\",\"\",Compliance_Options!B460)","v":""},{"$f":"IF(Compliance_Options!C460=\"\",\"\",Compliance_Options!C460)","v":""},{"$f":"IF(Compliance_Options!D460=\"\",\"\",Compliance_Options!D460)","v":""},"  ",{"$f":"IF(COUNTIF(CU$2:CU438,CU438)=1,CU438,\"\")","v":""},"","","",""]
[{"$nulls":48},{"$f":"+IF(AX439=\"\",\"\",MAX(AW$1:AW438)+1)","v":""},{"$f":"IF(Compliance_Options!B461=\"\",\"\",Compliance_Options!B461)","v":""},{"$f":"IF(Compliance_Options!C461=\"\",\"\",Compliance_Options!C461)","v":""},{"$f":"IF(Compliance_Options!D461=\"\",\"\",Compliance_Options!D461)","v":""},{"$f":"IF(Compliance_Options!E461=\"\",\"\",Compliance_Options!E461)","v":""},{"$f":"IF(Compliance_Options!F461=\"\",\"\",Compliance_Options!F461)","v":""},"    ",{"$f":"IF(COUNTIF(BC$2:BC439,BC439)=1,BC439,\"\")","v":""},"","","","","","","",{"$f":"+IF(BK439=\"\",\"\",MAX(BL$1:BL438)+1)","v":""},"","","","","","","",{"$f":"+IF(BS439=\"\",\"\",MAX(BT$1:BT438)+1)","v":""},"","","","","","","",{"$f":"+IF(CA439=\"\",\"\",MAX(CB$1:CB438)+1)","v":""},"","","","","","","",{"$f":"+IF(CI439=\"\",\"\",MAX(CJ$1:CJ438)+1)","v":""},"","","","","",null,{"$f":"+IF(CR439=\"\",\"\",MAX(CQ$1:CQ438)+1)","v":""},{"$f":"IF(Compliance_Options!B461=\"\",\"\",Compliance_Options!B461)","v":""},{"$f":"IF(Compliance_Options!C461=\"\",\"\",Compliance_Options!C461)","v":""},{"$f":"IF(Compliance_Options!D461=\"\",\"\",Compliance_Options!D461)","v":""},"  ",{"$f":"IF(COUNTIF(CU$2:CU439,CU439)=1,CU439,\"\")","v":""},"","","",""]
[{"$nulls":48},{"$f":"+IF(AX440=\"\",\"\",MAX(AW$1:AW439)+1)","v":""},{"$f":"IF(Compliance_Options!B462=\"\",\"\",Compliance_Options!B462)","v":""},{"$f":"IF(Compliance_Options!C462=\"\",\"\",Compliance_Options!C462)","v":""},{"$f":"IF(Compliance_Options!D462=\"\",\"\",Compliance_Options!D462)","v":""},{"$f":"IF(Compliance_Options!E462=\"\",\"\",Compliance_Options!E462)","v":""},{"$f":"IF(Compliance_Options!F462=\"\",\"\",Compliance_Options!F462)","v":""},"    ",{"$f":"IF(COUNTIF(BC$2:BC440,BC440)=1,BC440,\"\")","v":""},"","","","","","","",{"$f":"+IF(BK440=\"\",\"\",MAX(BL$1:BL439)+1)","v":""},"","","","","","","",{"$f":"+IF(BS440=\"\",\"\",MAX(BT$1:BT439)+1)","v":""},"","","","","","","",{"$f":"+IF(CA440=\"\",\"\",MAX(CB$1:CB439)+1)","v":""},"","","","","","","",{"$f":"+IF(CI440=\"\",\"\",MAX(CJ$1:CJ439)+1)","v":""},"","","","","",null,{"$f":"+IF(CR440=\"\",\"\",MAX(CQ$1:CQ439)+1)","v":""},{"$f":"IF(Compliance_Options!B462=\"\",\"\",Compliance_Options!B462)","v":""},{"$f":"IF(Compliance_Options!C462=\"\",\"\",Compliance_Options!C462)","v":""},{"$f":"IF(Compliance_Options!D462=\"\",\"\",Compliance_Options!D462)","v":""},"  ",{"$f":"IF(COUNTIF(CU$2:CU440,CU440)=1,CU440,\"\")","v":""},"","","",""]
[{"$nulls":48},{"$f":"+IF(AX441=\"\",\"\",MAX(AW$1:AW440)+1)","v":""},{"$f":"IF(Compliance_Options!B463=\"\",\"\",Compliance_Options!B463)","v":""},{"$f":"IF(Compliance_Options!C463=\"\",\"\",Compliance_Options!C463)","v":""},{"$f":"IF(Compliance_Options!D463=\"\",\"\",Compliance_Options!D463)","v":""},{"$f":"IF(Compliance_Options!E463=\"\",\"\",Compliance_Options!E463)","v":""},{"$f":"IF(Compliance_Options!F463=\"\",\"\",Compliance_Options!F463)","v":""},"    ",{"$f":"IF(COUNTIF(BC$2:BC441,BC441)=1,BC441,\"\")","v":""},"","","","","","","",{"$f":"+IF(BK441=\"\",\"\",MAX(BL$1:BL440)+1)","v":""},"","","","","","","",{"$f":"+IF(BS441=\"\",\"\",MAX(BT$1:BT440)+1)","v":""},"","","","","","","",{"$f":"+IF(CA441=\"\",\"\",MAX(CB$1:CB440)+1)","v":""},"","","","","","","",{"$f":"+IF(CI441=\"\",\"\",MAX(CJ$1:CJ440)+1)","v":""},"","","","","",null,{"$f":"+IF(CR441=\"\",\"\",MAX(CQ$1:CQ440)+1)","v":""},{"$f":"IF(Compliance_Options!B463=\"\",\"\",Compliance_Options!B463)","v":""},{"$f":"IF(Compliance_Options!C463=\"\",\"\",Compliance_Options!C463)","v":""},{"$f":"IF(Compliance_Options!D463=\"\",\"\",Compliance_Options!D463)","v":""},"  ",{"$f":"IF(COUNTIF(CU$2:CU441,CU441)=1,CU441,\"\")","v":""},"","","",""]
[{"$nulls":48},{"$f":"+IF(AX442=\"\",\"\",MAX(AW$1:AW441)+1)","v":""},{"$f":"IF(Compliance_Options!B464=\"\",\"\",Compliance_Options!B464)","v":""},{"$f":"IF(Compliance_Options!C464=\"\",\"\",Compliance_Options!C464)","v":""},{"$f":"IF(Compliance_Options!D464=\"\",\"\",Compliance_Options!D464)","v":""},{"$f":"IF(Compliance_Options!E464=\"\",\"\",Compliance_Options!E464)","v":""},{"$f":"IF(Compliance_Options!F464=\"\",\"\",Compliance_Options!F464)","v":""},"    ",{"$f":"IF(COUNTIF(BC$2:BC442,BC442)=1,BC442,\"\")","v":""},"","","","","","","",{"$f":"+IF(BK442=\"\",\"\",MAX(BL$1:BL441)+1)","v":""},"","","","","","","",{"$f":"+IF(BS442=\"\",\"\",MAX(BT$1:BT441)+1)","v":""},"","","","","","","",{"$f":"+IF(CA442=\"\",\"\",MAX(CB$1:CB441)+1)","v":""},"","","","","","","",{"$f":"+IF(CI442=\"\",\"\",MAX(CJ$1:CJ441)+1)","v":""},"","","","","",null,{"$f":"+IF(CR442=\"\",\"\",MAX(CQ$1:CQ441)+1)","v":""},{"$f":"IF(Compliance_Options!B464=\"\",\"\",Compliance_Options!B464)","v":""},{"$f":"IF(Compliance_Options!C464=\"\",\"\",Compliance_Options!C464)","v":""},{"$f":"IF(Compliance_Options!D464=\"\",\"\",Compliance_Options!D464)","v":""},"  ",{"$f":"IF(COUNTIF(CU$2:CU442,CU442)=1,CU442,\"\")","v":""},"","","",""]
[{"$nulls":48},{"$f":"+IF(AX443=\"\",\"\",MAX(AW$1:AW442)+1)","v":""},{"$f":"IF(Compliance_Options!B465=\"\",\"\",Compliance_Options!B465)","v":""},{"$f":"IF(Compliance_Options!C465=\"\",\"\",Compliance_Options!C465)","v":""},{"$f":"IF(Compliance_Options!D465=\"\",\"\",Compliance_Options!D465)","v":""},{"$f":"IF(Compliance_Options!E465=\"\",\"\",Compliance_Options!E465)","v":""},{"$f":"IF(Compliance_Options!F465=\"\",\"\",Compliance_Options!F465)","v":""},"    ",{"$f":"IF(COUNTIF(BC$2:BC443,BC443)=1,BC443,\"\")","v":""},"","","","","","","",{"$f":"+IF(BK443=\"\",\"\",MAX(BL$1:BL442)+1)","v":""},"","","","","","","",{"$f":"+IF(BS443=\"\",\"\",MAX(BT$1:BT442)+1)","v":""},"","","","","","","",{"$f":"+IF(CA443=\"\",\"\",MAX(CB$1:CB442)+1)","v":""},"","","","","","","",{"$f":"+IF(CI443=\"\",\"\",MAX(CJ$1:CJ442)+1)","v":""},"","","","","",null,{"$f":"+IF(CR443=\"\",\"\",MAX(CQ$1:CQ442)+1)","v":""},{"$f":"IF(Compliance_Options!B465=\"\",\"\",Compliance_Options!B465)","v":""},{"$f":"IF(Compliance_Options!C465=\"\",\"\",Compliance_Options!C465)","v":""},{"$f":"IF(Compliance_Options!D465=\"\",\"\",Compliance_Options!D465)","v":""},"  ",{"$f":"IF(COUNTIF(CU$2:CU443,CU443)=1,CU443,\"\")","v":""},"","","",""]
[{"$nulls":48},{"$f":"+IF(AX444=\"\",\"\",MAX(AW$1:AW443)+1)","v":""},{"$f":"IF(Compliance_Options!B466=\"\",\"\",Compliance_Options!B466)","v":""},{"$f":"IF(Compliance_Options!C466=\"\",\"\",Compliance_Options!C466)","v":""},{"$f":"IF(Compliance_Options!D466=\"\",\"\",Compliance_Options!D466)","v":""},{"$f":"IF(Compliance_Options!E466=\"\",\"\",Compliance_Options!E466)","v":""},{"$f":"IF(Compliance_Options!F466=\"\",\"\",Compliance_Options!F466)","v":""},"    ",{"$f":"IF(COUNTIF(BC$2:BC444,BC444)=1,BC444,\"\")","v":""},"","","","","","","",{"$f":"+IF(BK444=\"\",\"\",MAX(BL$1:BL443)+1)","v":""},"","","","","","","",{"$f":"+IF(BS444=\"\",\"\",MAX(BT$1:BT443)+1)","v":""},"","","","","","","",{"$f":"+IF(CA444=\"\",\"\",MAX(CB$1:CB443)+1)","v":""},"","","","","","","",{"$f":"+IF(CI444=\"\",\"\",MAX(CJ$1:CJ443)+1)","v":""},"","","","","",null,{"$f":"+IF(CR444=\"\",\"\",MAX(CQ$1:CQ443)+1)","v":""},{"$f":"IF(Compliance_Options!B466=\"\",\"\",Compliance_Options!B466)","v":""},{"$f":"IF(Compliance_Options!C466=\"\",\"\",Compliance_Options!C466)","v":""},{"$f":"IF(Compliance_Options!D466=\"\",\"\",Compliance_Options!D466)","v":""},"  ",{"$f":"IF(COUNTIF(CU$2:CU444,CU444)=1,CU444,\"\")","v":""},"","","",""]
[{"$nulls":48},{"$f":"+IF(AX445=\"\",\"\",MAX(AW$1:AW444)+1)","v":""},{"$f":"IF(Compliance_Options!B467=\"\",\"\",Compliance_Options!B467)","v":""},{"$f":"IF(Compliance_Options!C467=\"\",\"\",Compliance_Options!C467)","v":""},{"$f":"IF(Compliance_Options!D467=\"\",\"\",Compliance_Options!D467)","v":""},{"$f":"IF(Compliance_Options!E467=\"\",\"\",Compliance_Options!E467)","v":""},{"$f":"IF(Compliance_Options!F467=\"\",\"\",Compliance_Options!F467)","v":""},"    ",{"$f":"IF(COUNTIF(BC$2:BC445,BC445)=1,BC445,\"\")","v":""},"","","","","","","",{"$f":"+IF(BK445=\"\",\"\",MAX(BL$1:BL444)+1)","v":""},"","","","","","","",{"$f":"+IF(BS445=\"\",\"\",MAX(BT$1:BT444)+1)","v":""},"","","","","","","",{"$f":"+IF(CA445=\"\",\"\",MAX(CB$1:CB444)+1)","v":""},"","","","","","","",{"$f":"+IF(CI445=\"\",\"\",MAX(CJ$1:CJ444)+1)","v":""},"","","","","",null,{"$f":"+IF(CR445=\"\",\"\",MAX(CQ$1:CQ444)+1)","v":""},{"$f":"IF(Compliance_Options!B467=\"\",\"\",Compliance_Options!B467)","v":""},{"$f":"IF(Compliance_Options!C467=\"\",\"\",Compliance_Options!C467)","v":""},{"$f":"IF(Compliance_Options!D467=\"\",\"\",Compliance_Options!D467)","v":""},"  ",{"$f":"IF(COUNTIF(CU$2:CU445,CU445)=1,CU445,\"\")","v":""},"","","",""]
[{"$nulls":48},{"$f":"+IF(AX446=\"\",\"\",MAX(AW$1:AW445)+1)","v":""},{"$f":"IF(Compliance_Options!B468=\"\",\"\",Compliance_Options!B468)","v":""},{"$f":"IF(Compliance_Options!C468=\"\",\"\",Compliance_Options!C468)","v":""},{"$f":"IF(Compliance_Options!D468=\"\",\"\",Compliance_Options!D468)","v":""},{"$f":"IF(Compliance_Options!E468=\"\",\"\",Compliance_Options!E468)","v":""},{"$f":"IF(Compliance_Options!F468=\"\",\"\",Compliance_Options!F468)","v":""},"    ",{"$f":"IF(COUNTIF(BC$2:BC446,BC446)=1,BC446,\"\")","v":""},"","","","","","","",{"$f":"+IF(BK446=\"\",\"\",MAX(BL$1:BL445)+1)","v":""},"","","","","","","",{"$f":"+IF(BS446=\"\",\"\",MAX(BT$1:BT445)+1)","v":""},"","","","","","","",{"$f":"+IF(CA446=\"\",\"\",MAX(CB$1:CB445)+1)","v":""},"","","","","","","",{"$f":"+IF(CI446=\"\",\"\",MAX(CJ$1:CJ445)+1)","v":""},"","","","","",null,{"$f":"+IF(CR446=\"\",\"\",MAX(CQ$1:CQ445)+1)","v":""},{"$f":"IF(Compliance_Options!B468=\"\",\"\",Compliance_Options!B468)","v":""},{"$f":"IF(Compliance_Options!C468=\"\",\"\",Compliance_Options!C468)","v":""},{"$f":"IF(Compliance_Options!D468=\"\",\"\",Compliance_Options!D468)","v":""},"  ",{"$f":"IF(COUNTIF(CU$2:CU446,CU446)=1,CU446,\"\")","v":""},"","","",""]
[{"$nulls":48},{"$f":"+IF(AX447=\"\",\"\",MAX(AW$1:AW446)+1)","v":""},{"$f":"IF(Compliance_Options!B469=\"\",\"\",Compliance_Options!B469)","v":""},{"$f":"IF(Compliance_Options!C469=\"\",\"\",Compliance_Options!C469)","v":""},{"$f":"IF(Compliance_Options!D469=\"\",\"\",Compliance_Options!D469)","v":""},{"$f":"IF(Compliance_Options!E469=\"\",\"\",Compliance_Options!E469)","v":""},{"$f":"IF(Compliance_Options!F469=\"\",\"\",Compliance_Options!F469)","v":""},"    ",{"$f":"IF(COUNTIF(BC$2:BC447,BC447)=1,BC447,\"\")","v":""},"","","","","","","",{"$f":"+IF(BK447=\"\",\"\",MAX(BL$1:BL446)+1)","v":""},"","","","","","","",{"$f":"+IF(BS447=\"\",\"\",MAX(BT$1:BT446)+1)","v":""},"","","","","","","",{"$f":"+IF(CA447=\"\",\"\",MAX(CB$1:CB446)+1)","v":""},"","","","","","","",{"$f":"+IF(CI447=\"\",\"\",MAX(CJ$1:CJ446)+1)","v":""},"","","","","",null,{"$f":"+IF(CR447=\"\",\"\",MAX(CQ$1:CQ446)+1)","v":""},{"$f":"IF(Compliance_Options!B469=\"\",\"\",Compliance_Options!B469)","v":""},{"$f":"IF(Compliance_Options!C469=\"\",\"\",Compliance_Options!C469)","v":""},{"$f":"IF(Compliance_Options!D469=\"\",\"\",Compliance_Options!D469)","v":""},"  ",{"$f":"IF(COUNTIF(CU$2:CU447,CU447)=1,CU447,\"\")","v":""},"","","",""]
[{"$nulls":48},{"$f":"+IF(AX448=\"\",\"\",MAX(AW$1:AW447)+1)","v":""},{"$f":"IF(Compliance_Options!B470=\"\",\"\",Compliance_Options!B470)","v":""},{"$f":"IF(Compliance_Options!C470=\"\",\"\",Compliance_Options!C470)","v":""},{"$f":"IF(Compliance_Options!D470=\"\",\"\",Compliance_Options!D470)","v":""},{"$f":"IF(Compliance_Options!E470=\"\",\"\",Compliance_Options!E470)","v":""},{"$f":"IF(Compliance_Options!F470=\"\",\"\",Compliance_Options!F470)","v":""},"    ",{"$f":"IF(COUNTIF(BC$2:BC448,BC448)=1,BC448,\"\")","v":""},"","","","","","","",{"$f":"+IF(BK448=\"\",\"\",MAX(BL$1:BL447)+1)","v":""},"","","","","","","",{"$f":"+IF(BS448=\"\",\"\",MAX(BT$1:BT447)+1)","v":""},"","","","","","","",{"$f":"+IF(CA448=\"\",\"\",MAX(CB$1:CB447)+1)","v":""},"","","","","","","",{"$f":"+IF(CI448=\"\",\"\",MAX(CJ$1:CJ447)+1)","v":""},"","","","","",null,{"$f":"+IF(CR448=\"\",\"\",MAX(CQ$1:CQ447)+1)","v":""},{"$f":"IF(Compliance_Options!B470=\"\",\"\",Compliance_Options!B470)","v":""},{"$f":"IF(Compliance_Options!C470=\"\",\"\",Compliance_Options!C470)","v":""},{"$f":"IF(Compliance_Options!D470=\"\",\"\",Compliance_Options!D470)","v":""},"  ",{"$f":"IF(COUNTIF(CU$2:CU448,CU448)=1,CU448,\"\")","v":""},"","","",""]
[{"$nulls":48},{"$f":"+IF(AX449=\"\",\"\",MAX(AW$1:AW448)+1)","v":""},{"$f":"IF(Compliance_Options!B471=\"\",\"\",Compliance_Options!B471)","v":""},{"$f":"IF(Compliance_Options!C471=\"\",\"\",Compliance_Options!C471)","v":""},{"$f":"IF(Compliance_Options!D471=\"\",\"\",Compliance_Options!D471)","v":""},{"$f":"IF(Compliance_Options!E471=\"\",\"\",Compliance_Options!E471)","v":""},{"$f":"IF(Compliance_Options!F471=\"\",\"\",Compliance_Options!F471)","v":""},"    ",{"$f":"IF(COUNTIF(BC$2:BC449,BC449)=1,BC449,\"\")","v":""},"","","","","","","",{"$f":"+IF(BK449=\"\",\"\",MAX(BL$1:BL448)+1)","v":""},"","","","","","","",{"$f":"+IF(BS449=\"\",\"\",MAX(BT$1:BT448)+1)","v":""},"","","","","","","",{"$f":"+IF(CA449=\"\",\"\",MAX(CB$1:CB448)+1)","v":""},"","","","","","","",{"$f":"+IF(CI449=\"\",\"\",MAX(CJ$1:CJ448)+1)","v":""},"","","","","",null,{"$f":"+IF(CR449=\"\",\"\",MAX(CQ$1:CQ448)+1)","v":""},{"$f":"IF(Compliance_Options!B471=\"\",\"\",Compliance_Options!B471)","v":""},{"$f":"IF(Compliance_Options!C471=\"\",\"\",Compliance_Options!C471)","v":""},{"$f":"IF(Compliance_Options!D471=\"\",\"\",Compliance_Options!D471)","v":""},"  ",{"$f":"IF(COUNTIF(CU$2:CU449,CU449)=1,CU449,\"\")","v":""},"","","",""]
[{"$nulls":48},{"$f":"+IF(AX450=\"\",\"\",MAX(AW$1:AW449)+1)","v":""},{"$f":"IF(Compliance_Options!B472=\"\",\"\",Compliance_Options!B472)","v":""},{"$f":"IF(Compliance_Options!C472=\"\",\"\",Compliance_Options!C472)","v":""},{"$f":"IF(Compliance_Options!D472=\"\",\"\",Compliance_Options!D472)","v":""},{"$f":"IF(Compliance_Options!E472=\"\",\"\",Compliance_Options!E472)","v":""},{"$f":"IF(Compliance_Options!F472=\"\",\"\",Compliance_Options!F472)","v":""},"    ",{"$f":"IF(COUNTIF(BC$2:BC450,BC450)=1,BC450,\"\")","v":""},"","","","","","","",{"$f":"+IF(BK450=\"\",\"\",MAX(BL$1:BL449)+1)","v":""},"","","","","","","",{"$f":"+IF(BS450=\"\",\"\",MAX(BT$1:BT449)+1)","v":""},"","","","","","","",{"$f":"+IF(CA450=\"\",\"\",MAX(CB$1:CB449)+1)","v":""},"","","","","","","",{"$f":"+IF(CI450=\"\",\"\",MAX(CJ$1:CJ449)+1)","v":""},"","","","","",null,{"$f":"+IF(CR450=\"\",\"\",MAX(CQ$1:CQ449)+1)","v":""},{"$f":"IF(Compliance_Options!B472=\"\",\"\",Compliance_Options!B472)","v":""},{"$f":"IF(Compliance_Options!C472=\"\",\"\",Compliance_Options!C472)","v":""},{"$f":"IF(Compliance_Options!D472=\"\",\"\",Compliance_Options!D472)","v":""},"  ",{"$f":"IF(COUNTIF(CU$2:CU450,CU450)=1,CU450,\"\")","v":""},"","","",""]
[{"$nulls":48},{"$f":"+IF(AX451=\"\",\"\",MAX(AW$1:AW450)+1)","v":""},{"$f":"IF(Compliance_Options!B473=\"\",\"\",Compliance_Options!B473)","v":""},{"$f":"IF(Compliance_Options!C473=\"\",\"\",Compliance_Options!C473)","v":""},{"$f":"IF(Compliance_Options!D473=\"\",\"\",Compliance_Options!D473)","v":""},{"$f":"IF(Compliance_Options!E473=\"\",\"\",Compliance_Options!E473)","v":""},{"$f":"IF(Compliance_Options!F473=\"\",\"\",Compliance_Options!F473)","v":""},{"$f":"AX451&\" \"&AY451&\" \"&AZ451&\" \"&BA451&\" \"&BB451","v":"    "},{"$f":"IF(COUNTIF(BC$2:BC451,BC451)=1,BC451,\"\")","v":""},{"$f":"IF(BF451=\"\",\"\",BF451&\" \"&BG451&\" \"&BH451)","v":""},{"$f":"IFERROR(INDEX(AX$2:AX$78,MATCH(ROW()-ROW($BD$1),$AW$2:$AW$78,0)),\"\")","v":""},{"$f":"IFERROR(INDEX(AY$2:AY$78,MATCH(ROW()-ROW($BD$1),$AW$2:$AW$78,0)),\"\")","v":""},{"$f":"IFERROR(INDEX(AZ$2:AZ$78,MATCH(ROW()-ROW($BD$1),$AW$2:$AW$78,0)),\"\")","v":""},{"$f":"IFERROR(INDEX(BA$2:BA$78,MATCH(ROW()-ROW($BD$1),$AW$2:$AW$78,0)),\"\")","v":""},{"$f":"IFERROR(INDEX(BB$2:BB$78,MATCH(ROW()-ROW($BD$1),$AW$2:$AW$78,0)),\"\")","v":""},{"$f":"IF($AZ451=\"Tire Production\",$BC451,\"\")","v":""},{"$f":"+IF(BK451=\"\",\"\",MAX(BL$1:BL450)+1)","v":""},{"$f":"IF(BN451=\"\",\"\",BN451&\" \"&BO451&\" \"&BP451&\" \"&BQ451&\" \"&BR451)","v":""},{"$f":"IFERROR(INDEX(AX$2:AX$78,MATCH(ROW()-ROW($BD$1),$BL$2:$BL$78,0)),\"\")","v":""},{"$f":"IFERROR(INDEX(AY$2:AY$78,MATCH(ROW()-ROW($BD$1),$BL$2:$BL$78,0)),\"\")","v":""},{"$f":"IFERROR(INDEX(AZ$2:AZ$78,MATCH(ROW()-ROW($BD$1),$BL$2:$BL$78,0)),\"\")","v":""},{"$f":"IFERROR(INDEX(BA$2:BA$78,MATCH(ROW()-ROW($BD$1),$BL$2:$BL$78,0)),\"\")","v":""},{"$f":"IFERROR(INDEX(BB$2:BB$78,MATCH(ROW()-ROW($BD$1),$BL$2:$BL$78,0)),\"\")","v":""},{"$f":"IF($AZ451=\"Tire Cord Production\",$BC451,\"\")","v":""},{"$f":"+IF(BS451=\"\",\"\",MAX(BT$1:BT450)+1)","v":""},{"$f":"IF(BV451=\"\",\"\",BV451&\" \"&BW451&\" \"&BX451)","v":""},{"$f":"IFERROR(INDEX(AX$2:AX$78,MATCH(ROW()-ROW($BT$1),$BT$2:$BT$78,0)),\"\")","v":""},{"$f":"IFERROR(INDEX(AY$2:AY$78,MATCH(ROW()-ROW($BT$1),$BT$2:$BT$78,0)),\"\")","v":""},{"$f":"IFERROR(INDEX(AZ$2:AZ$78,MATCH(ROW()-ROW($BT$1),$BT$2:$BT$78,0)),\"\")","v":""},{"$f":"IFERROR(INDEX(BA$2:BA$78,MATCH(ROW()-ROW($BT$1),$BT$2:$BT$78,0)),\"\")","v":""},{"$f":"IFERROR(INDEX(BB$2:BB$78,MATCH(ROW()-ROW($BT$1),$BT$2:$BT$78,0)),\"\")","v":""},{"$f":"IF($AZ451=\"Puncture Sealant Application\",$BC451,\"\")","v":""},{"$f":"+IF(CA451=\"\",\"\",MAX(CB$1:CB450)+1)","v":""},{"$f":"IF(CD451=\"\",\"\",CD451&\" \"&CE451&\" \"&CF451)","v":""},{"$f":"IFERROR(INDEX(AX$2:AX$78,MATCH(ROW()-ROW($CB$1),$CB$2:$CB$78,0)),\"\")","v":""},{"$f":"IFERROR(INDEX(AY$2:AY$78,MATCH(ROW()-ROW($CB$1),$CB$2:$CB$78,0)),\"\")","v":""},{"$f":"IFERROR(INDEX(AZ$2:AZ$78,MATCH(ROW()-ROW($CB$1),$CB$2:$CB$78,0)),\"\")","v":""},{"$f":"IFERROR(INDEX(BA$2:BA$78,MATCH(ROW()-ROW($CB$1),$CB$2:$CB$78,0)),\"\")","v":""},{"$f":"IFERROR(INDEX(BB$2:BB$78,MATCH(ROW()-ROW($CB$1),$CB$2:$CB$78,0)),\"\")","v":""},{"$f":"IF($AZ451=\"Rubber Processing\",$BC451,\"\")","v":""},{"$f":"+IF(CI451=\"\",\"\",MAX(CJ$1:CJ450)+1)","v":""},{"$f":"IFERROR(INDEX(AX$2:AX$78,MATCH(ROW()-ROW($CJ$1),$CJ$2:$CJ$78,0)),\"\")","v":""},{"$f":"IFERROR(INDEX(AY$2:AY$78,MATCH(ROW()-ROW($CJ$1),$CJ$2:$CJ$78,0)),\"\")","v":""},{"$f":"IFERROR(INDEX(AZ$2:AZ$78,MATCH(ROW()-ROW($CJ$1),$CJ$2:$CJ$78,0)),\"\")","v":""},{"$f":"IFERROR(INDEX(BA$2:BA$78,MATCH(ROW()-ROW($CJ$1),$CJ$2:$CJ$78,0)),\"\")","v":""},{"$f":"IFERROR(INDEX(BB$2:BB$78,MATCH(ROW()-ROW($CJ$1),$CJ$2:$CJ$78,0)),\"\")","v":""},null,{"$f":"+IF(CR451=\"\",\"\",MAX(CQ$1:CQ450)+1)","v":""},{"$f":"IF(Compliance_Options!B473=\"\",\"\",Compliance_Options!B473)","v":""},{"$f":"IF(Compliance_Options!C473=\"\",\"\",Compliance_Options!C473)","v":""},{"$f":"IF(Compliance_Options!D473=\"\",\"\",Compliance_Options!D473)","v":""},{"$f":"CR451&\" \"&CS451&\" \"&CT451","v":"  "},{"$f":"IF(COUNTIF(CU$2:CU451,CU451)=1,CU451,\"\")","v":""},{"$f":"IFERROR(INDEX(CV$2:CV$78,MATCH(ROW()-ROW($CV$1),$CQ$2:$CQ$78,0)),\"\")","v":""},{"$f":"IFERROR(INDEX(CR$2:CR$78,MATCH(ROW()-ROW($CV$1),$CQ$2:$CQ$78,0)),\"\")","v":""},{"$f":"IFERROR(INDEX(CS$2:CS$78,MATCH(ROW()-ROW($CV$1),$CQ$2:$CQ$78,0)),\"\")","v":""},{"$f":"IFERROR(INDEX(CT$2:CT$78,MATCH(ROW()-ROW($CV$1),$CQ$2:$CQ$78,0)),\"\")","v":""}]
[{"$nulls":48},{"$f":"+IF(AX452=\"\",\"\",MAX(AW$1:AW451)+1)","v":""},{"$f":"IF(Compliance_Options!B474=\"\",\"\",Compliance_Options!B474)","v":""},{"$f":"IF(Compliance_Options!C474=\"\",\"\",Compliance_Options!C474)","v":""},{"$f":"IF(Compliance_Options!D474=\"\",\"\",Compliance_Options!D474)","v":""},{"$f":"IF(Compliance_Options!E474=\"\",\"\",Compliance_Options!E474)","v":""},{"$f":"IF(Compliance_Options!F474=\"\",\"\",Compliance_Options!F474)","v":""},"    ",{"$f":"IF(COUNTIF(BC$2:BC452,BC452)=1,BC452,\"\")","v":""},"","","","","","","",{"$f":"+IF(BK452=\"\",\"\",MAX(BL$1:BL451)+1)","v":""},"","","","","","","",{"$f":"+IF(BS452=\"\",\"\",MAX(BT$1:BT451)+1)","v":""},"","","","","","","",{"$f":"+IF(CA452=\"\",\"\",MAX(CB$1:CB451)+1)","v":""},"","","","","","","",{"$f":"+IF(CI452=\"\",\"\",MAX(CJ$1:CJ451)+1)","v":""},"","","","","",null,{"$f":"+IF(CR452=\"\",\"\",MAX(CQ$1:CQ451)+1)","v":""},{"$f":"IF(Compliance_Options!B474=\"\",\"\",Compliance_Options!B474)","v":""},{"$f":"IF(Compliance_Options!C474=\"\",\"\",Compliance_Options!C474)","v":""},{"$f":"IF(Compliance_Options!D474=\"\",\"\",Compliance_Options!D474)","v":""},"  ",{"$f":"IF(COUNTIF(CU$2:CU452,CU452)=1,CU452,\"\")","v":""},"","","",""]
[{"$nulls":48},{"$f":"+IF(AX453=\"\",\"\",MAX(AW$1:AW452)+1)","v":""},{"$f":"IF(Compliance_Options!B475=\"\",\"\",Compliance_Options!B475)","v":""},{"$f":"IF(Compliance_Options!C475=\"\",\"\",Compliance_Options!C475)","v":""},{"$f":"IF(Compliance_Options!D475=\"\",\"\",Compliance_Options!D475)","v":""},{"$f":"IF(Compliance_Options!E475=\"\",\"\",Compliance_Options!E475)","v":""},{"$f":"IF(Compliance_Options!F475=\"\",\"\",Compliance_Options!F475)","v":""},"    ",{"$f":"IF(COUNTIF(BC$2:BC453,BC453)=1,BC453,\"\")","v":""},"","","","","","","",{"$f":"+IF(BK453=\"\",\"\",MAX(BL$1:BL452)+1)","v":""},"","","","","","","",{"$f":"+IF(BS453=\"\",\"\",MAX(BT$1:BT452)+1)","v":""},"","","","","","","",{"$f":"+IF(CA453=\"\",\"\",MAX(CB$1:CB452)+1)","v":""},"","","","","","","",{"$f":"+IF(CI453=\"\",\"\",MAX(CJ$1:CJ452)+1)","v":""},"","","","","",null,{"$f":"+IF(CR453=\"\",\"\",MAX(CQ$1:CQ452)+1)","v":""},{"$f":"IF(Compliance_Options!B475=\"\",\"\",Compliance_Options!B475)","v":""},{"$f":"IF(Compliance_Options!C475=\"\",\"\",Compliance_Options!C475)","v":""},{"$f":"IF(Compliance_Options!D475=\"\",\"\",Compliance_Options!D475)","v":""},"  ",{"$f":"IF(COUNTIF(CU$2:CU453,CU453)=1,CU453,\"\")","v":""},"","","",""]
[{"$nulls":48},{"$f":"+IF(AX454=\"\",\"\",MAX(AW$1:AW453)+1)","v":""},{"$f":"IF(Compliance_Options!B476=\"\",\"\",Compliance_Options!B476)","v":""},{"$f":"IF(Compliance_Options!C476=\"\",\"\",Compliance_Options!C476)","v":""},{"$f":"IF(Compliance_Options!D476=\"\",\"\",Compliance_Options!D476)","v":""},{"$f":"IF(Compliance_Options!E476=\"\",\"\",Compliance_Options!E476)","v":""},{"$f":"IF(Compliance_Options!F476=\"\",\"\",Compliance_Options!F476)","v":""},"    ",{"$f":"IF(COUNTIF(BC$2:BC454,BC454)=1,BC454,\"\")","v":""},"","","","","","","",{"$f":"+IF(BK454=\"\",\"\",MAX(BL$1:BL453)+1)","v":""},"","","","","","","",{"$f":"+IF(BS454=\"\",\"\",MAX(BT$1:BT453)+1)","v":""},"","","","","","","",{"$f":"+IF(CA454=\"\",\"\",MAX(CB$1:CB453)+1)","v":""},"","","","","","","",{"$f":"+IF(CI454=\"\",\"\",MAX(CJ$1:CJ453)+1)","v":""},"","","","","",null,{"$f":"+IF(CR454=\"\",\"\",MAX(CQ$1:CQ453)+1)","v":""},{"$f":"IF(Compliance_Options!B476=\"\",\"\",Compliance_Options!B476)","v":""},{"$f":"IF(Compliance_Options!C476=\"\",\"\",Compliance_Options!C476)","v":""},{"$f":"IF(Compliance_Options!D476=\"\",\"\",Compliance_Options!D476)","v":""},"  ",{"$f":"IF(COUNTIF(CU$2:CU454,CU454)=1,CU454,\"\")","v":""},"","","",""]
[{"$nulls":48},{"$f":"+IF(AX455=\"\",\"\",MAX(AW$1:AW454)+1)","v":""},{"$f":"IF(Compliance_Options!B477=\"\",\"\",Compliance_Options!B477)","v":""},{"$f":"IF(Compliance_Options!C477=\"\",\"\",Compliance_Options!C477)","v":""},{"$f":"IF(Compliance_Options!D477=\"\",\"\",Compliance_Options!D477)","v":""},{"$f":"IF(Compliance_Options!E477=\"\",\"\",Compliance_Options!E477)","v":""},{"$f":"IF(Compliance_Options!F477=\"\",\"\",Compliance_Options!F477)","v":""},"    ",{"$f":"IF(COUNTIF(BC$2:BC455,BC455)=1,BC455,\"\")","v":""},"","","","","","","",{"$f":"+IF(BK455=\"\",\"\",MAX(BL$1:BL454)+1)","v":""},"","","","","","","",{"$f":"+IF(BS455=\"\",\"\",MAX(BT$1:BT454)+1)","v":""},"","","","","","","",{"$f":"+IF(CA455=\"\",\"\",MAX(CB$1:CB454)+1)","v":""},"","","","","","","",{"$f":"+IF(CI455=\"\",\"\",MAX(CJ$1:CJ454)+1)","v":""},"","","","","",null,{"$f":"+IF(CR455=\"\",\"\",MAX(CQ$1:CQ454)+1)","v":""},{"$f":"IF(Compliance_Options!B477=\"\",\"\",Compliance_Options!B477)","v":""},{"$f":"IF(Compliance_Options!C477=\"\",\"\",Compliance_Options!C477)","v":""},{"$f":"IF(Compliance_Options!D477=\"\",\"\",Compliance_Options!D477)","v":""},"  ",{"$f":"IF(COUNTIF(CU$2:CU455,CU455)=1,CU455,\"\")","v":""},"","","",""]
[{"$nulls":48},{"$f":"+IF(AX456=\"\",\"\",MAX(AW$1:AW455)+1)","v":""},{"$f":"IF(Compliance_Options!B478=\"\",\"\",Compliance_Options!B478)","v":""},{"$f":"IF(Compliance_Options!C478=\"\",\"\",Compliance_Options!C478)","v":""},{"$f":"IF(Compliance_Options!D478=\"\",\"\",Compliance_Options!D478)","v":""},{"$f":"IF(Compliance_Options!E478=\"\",\"\",Compliance_Options!E478)","v":""},{"$f":"IF(Compliance_Options!F478=\"\",\"\",Compliance_Options!F478)","v":""},"    ",{"$f":"IF(COUNTIF(BC$2:BC456,BC456)=1,BC456,\"\")","v":""},"","","","","","","",{"$f":"+IF(BK456=\"\",\"\",MAX(BL$1:BL455)+1)","v":""},"","","","","","","",{"$f":"+IF(BS456=\"\",\"\",MAX(BT$1:BT455)+1)","v":""},"","","","","","","",{"$f":"+IF(CA456=\"\",\"\",MAX(CB$1:CB455)+1)","v":""},"","","","","","","",{"$f":"+IF(CI456=\"\",\"\",MAX(CJ$1:CJ455)+1)","v":""},"","","","","",null,{"$f":"+IF(CR456=\"\",\"\",MAX(CQ$1:CQ455)+1)","v":""},{"$f":"IF(Compliance_Options!B478=\"\",\"\",Compliance_Options!B478)","v":""},{"$f":"IF(Compliance_Options!C478=\"\",\"\",Compliance_Options!C478)","v":""},{"$f":"IF(Compliance_Options!D478=\"\",\"\",Compliance_Options!D478)","v":""},"  ",{"$f":"IF(COUNTIF(CU$2:CU456,CU456)=1,CU456,\"\")","v":""},"","","",""]
[{"$nulls":48},{"$f":"+IF(AX457=\"\",\"\",MAX(AW$1:AW456)+1)","v":""},{"$f":"IF(Compliance_Options!B479=\"\",\"\",Compliance_Options!B479)","v":""},{"$f":"IF(Compliance_Options!C479=\"\",\"\",Compliance_Options!C479)","v":""},{"$f":"IF(Compliance_Options!D479=\"\",\"\",Compliance_Options!D479)","v":""},{"$f":"IF(Compliance_Options!E479=\"\",\"\",Compliance_Options!E479)","v":""},{"$f":"IF(Compliance_Options!F479=\"\",\"\",Compliance_Options!F479)","v":""},"    ",{"$f":"IF(COUNTIF(BC$2:BC457,BC457)=1,BC457,\"\")","v":""},"","","","","","","",{"$f":"+IF(BK457=\"\",\"\",MAX(BL$1:BL456)+1)","v":""},"","","","","","","",{"$f":"+IF(BS457=\"\",\"\",MAX(BT$1:BT456)+1)","v":""},"","","","","","","",{"$f":"+IF(CA457=\"\",\"\",MAX(CB$1:CB456)+1)","v":""},"","","","","","","",{"$f":"+IF(CI457=\"\",\"\",MAX(CJ$1:CJ456)+1)","v":""},"","","","","",null,{"$f":"+IF(CR457=\"\",\"\",MAX(CQ$1:CQ456)+1)","v":""},{"$f":"IF(Compliance_Options!B479=\"\",\"\",Compliance_Options!B479)","v":""},{"$f":"IF(Compliance_Options!C479=\"\",\"\",Compliance_Options!C479)","v":""},{"$f":"IF(Compliance_Options!D479=\"\",\"\",Compliance_Options!D479)","v":""},"  ",{"$f":"IF(COUNTIF(CU$2:CU457,CU457)=1,CU457,\"\")","v":""},"","","",""]
[{"$nulls":48},{"$f":"+IF(AX458=\"\",\"\",MAX(AW$1:AW457)+1)","v":""},{"$f":"IF(Compliance_Options!B480=\"\",\"\",Compliance_Options!B480)","v":""},{"$f":"IF(Compliance_Options!C480=\"\",\"\",Compliance_Options!C480)","v":""},{"$f":"IF(Compliance_Options!D480=\"\",\"\",Compliance_Options!D480)","v":""},{"$f":"IF(Compliance_Options!E480=\"\",\"\",Compliance_Options!E480)","v":""},{"$f":"IF(Compliance_Options!F480=\"\",\"\",Compliance_Options!F480)","v":""},"    ",{"$f":"IF(COUNTIF(BC$2:BC458,BC458)=1,BC458,\"\")","v":""},"","","","","","","",{"$f":"+IF(BK458=\"\",\"\",MAX(BL$1:BL457)+1)","v":""},"","","","","","","",{"$f":"+IF(BS458=\"\",\"\",MAX(BT$1:BT457)+1)","v":""},"","","","","","","",{"$f":"+IF(CA458=\"\",\"\",MAX(CB$1:CB457)+1)","v":""},"","","","","","","",{"$f":"+IF(CI458=\"\",\"\",MAX(CJ$1:CJ457)+1)","v":""},"","","","","",null,{"$f":"+IF(CR458=\"\",\"\",MAX(CQ$1:CQ457)+1)","v":""},{"$f":"IF(Compliance_Options!B480=\"\",\"\",Compliance_Options!B480)","v":""},{"$f":"IF(Compliance_Options!C480=\"\",\"\",Compliance_Options!C480)","v":""},{"$f":"IF(Compliance_Options!D480=\"\",\"\",Compliance_Options!D480)","v":""},"  ",{"$f":"IF(COUNTIF(CU$2:CU458,CU458)=1,CU458,\"\")","v":""},"","","",""]
[{"$nulls":48},{"$f":"+IF(AX459=\"\",\"\",MAX(AW$1:AW458)+1)","v":""},{"$f":"IF(Compliance_Options!B481=\"\",\"\",Compliance_Options!B481)","v":""},{"$f":"IF(Compliance_Options!C481=\"\",\"\",Compliance_Options!C481)","v":""},{"$f":"IF(Compliance_Options!D481=\"\",\"\",Compliance_Options!D481)","v":""},{"$f":"IF(Compliance_Options!E481=\"\",\"\",Compliance_Options!E481)","v":""},{"$f":"IF(Compliance_Options!F481=\"\",\"\",Compliance_Options!F481)","v":""},"    ",{"$f":"IF(COUNTIF(BC$2:BC459,BC459)=1,BC459,\"\")","v":""},"","","","","","","",{"$f":"+IF(BK459=\"\",\"\",MAX(BL$1:BL458)+1)","v":""},"","","","","","","",{"$f":"+IF(BS459=\"\",\"\",MAX(BT$1:BT458)+1)","v":""},"","","","","","","",{"$f":"+IF(CA459=\"\",\"\",MAX(CB$1:CB458)+1)","v":""},"","","","","","","",{"$f":"+IF(CI459=\"\",\"\",MAX(CJ$1:CJ458)+1)","v":""},"","","","","",null,{"$f":"+IF(CR459=\"\",\"\",MAX(CQ$1:CQ458)+1)","v":""},{"$f":"IF(Compliance_Options!B481=\"\",\"\",Compliance_Options!B481)","v":""},{"$f":"IF(Compliance_Options!C481=\"\",\"\",Compliance_Options!C481)","v":""},{"$f":"IF(Compliance_Options!D481=\"\",\"\",Compliance_Options!D481)","v":""},"  ",{"$f":"IF(COUNTIF(CU$2:CU459,CU459)=1,CU459,\"\")","v":""},"","","",""]
[{"$nulls":48},{"$f":"+IF(AX460=\"\",\"\",MAX(AW$1:AW459)+1)","v":""},{"$f":"IF(Compliance_Options!B482=\"\",\"\",Compliance_Options!B482)","v":""},{"$f":"IF(Compliance_Options!C482=\"\",\"\",Compliance_Options!C482)","v":""},{"$f":"IF(Compliance_Options!D482=\"\",\"\",Compliance_Options!D482)","v":""},{"$f":"IF(Compliance_Options!E482=\"\",\"\",Compliance_Options!E482)","v":""},{"$f":"IF(Compliance_Options!F482=\"\",\"\",Compliance_Options!F482)","v":""},"    ",{"$f":"IF(COUNTIF(BC$2:BC460,BC460)=1,BC460,\"\")","v":""},"","","","","","","",{"$f":"+IF(BK460=\"\",\"\",MAX(BL$1:BL459)+1)","v":""},"","","","","","","",{"$f":"+IF(BS460=\"\",\"\",MAX(BT$1:BT459)+1)","v":""},"","","","","","","",{"$f":"+IF(CA460=\"\",\"\",MAX(CB$1:CB459)+1)","v":""},"","","","","","","",{"$f":"+IF(CI460=\"\",\"\",MAX(CJ$1:CJ459)+1)","v":""},"","","","","",null,{"$f":"+IF(CR460=\"\",\"\",MAX(CQ$1:CQ459)+1)","v":""},{"$f":"IF(Compliance_Options!B482=\"\",\"\",Compliance_Options!B482)","v":""},{"$f":"IF(Compliance_Options!C482=\"\",\"\",Compliance_Options!C482)","v":""},{"$f":"IF(Compliance_Options!D482=\"\",\"\",Compliance_Options!D482)","v":""},"  ",{"$f":"IF(COUNTIF(CU$2:CU460,CU460)=1,CU460,\"\")","v":""},"","","",""]
[{"$nulls":48},{"$f":"+IF(AX461=\"\",\"\",MAX(AW$1:AW460)+1)","v":""},{"$f":"IF(Compliance_Options!B483=\"\",\"\",Compliance_Options!B483)","v":""},{"$f":"IF(Compliance_Options!C483=\"\",\"\",Compliance_Options!C483)","v":""},{"$f":"IF(Compliance_Options!D483=\"\",\"\",Compliance_Options!D483)","v":""},{"$f":"IF(Compliance_Options!E483=\"\",\"\",Compliance_Options!E483)","v":""},{"$f":"IF(Compliance_Options!F483=\"\",\"\",Compliance_Options!F483)","v":""},"    ",{"$f":"IF(COUNTIF(BC$2:BC461,BC461)=1,BC461,\"\")","v":""},"","","","","","","",{"$f":"+IF(BK461=\"\",\"\",MAX(BL$1:BL460)+1)","v":""},"","","","","","","",{"$f":"+IF(BS461=\"\",\"\",MAX(BT$1:BT460)+1)","v":""},"","","","","","","",{"$f":"+IF(CA461=\"\",\"\",MAX(CB$1:CB460)+1)","v":""},"","","","","","","",{"$f":"+IF(CI461=\"\",\"\",MAX(CJ$1:CJ460)+1)","v":""},"","","","","",null,{"$f":"+IF(CR461=\"\",\"\",MAX(CQ$1:CQ460)+1)","v":""},{"$f":"IF(Compliance_Options!B483=\"\",\"\",Compliance_Options!B483)","v":""},{"$f":"IF(Compliance_Options!C483=\"\",\"\",Compliance_Options!C483)","v":""},{"$f":"IF(Compliance_Options!D483=\"\",\"\",Compliance_Options!D483)","v":""},"  ",{"$f":"IF(COUNTIF(CU$2:CU461,CU461)=1,CU461,\"\")","v":""},"","","",""]
[{"$nulls":48},{"$f":"+IF(AX462=\"\",\"\",MAX(AW$1:AW461)+1)","v":""},{"$f":"IF(Compliance_Options!B484=\"\",\"\",Compliance_Options!B484)","v":""},{"$f":"IF(Compliance_Options!C484=\"\",\"\",Compliance_Options!C484)","v":""},{"$f":"IF(Compliance_Options!D484=\"\",\"\",Compliance_Options!D484)","v":""},{"$f":"IF(Compliance_Options!E484=\"\",\"\",Compliance_Options!E484)","v":""},{"$f":"IF(Compliance_Options!F484=\"\",\"\",Compliance_Options!F484)","v":""},"    ",{"$f":"IF(COUNTIF(BC$2:BC462,BC462)=1,BC462,\"\")","v":""},"","","","","","","",{"$f":"+IF(BK462=\"\",\"\",MAX(BL$1:BL461)+1)","v":""},"","","","","","","",{"$f":"+IF(BS462=\"\",\"\",MAX(BT$1:BT461)+1)","v":""},"","","","","","","",{"$f":"+IF(CA462=\"\",\"\",MAX(CB$1:CB461)+1)","v":""},"","","","","","","",{"$f":"+IF(CI462=\"\",\"\",MAX(CJ$1:CJ461)+1)","v":""},"","","","","",null,{"$f":"+IF(CR462=\"\",\"\",MAX(CQ$1:CQ461)+1)","v":""},{"$f":"IF(Compliance_Options!B484=\"\",\"\",Compliance_Options!B484)","v":""},{"$f":"IF(Compliance_Options!C484=\"\",\"\",Compliance_Options!C484)","v":""},{"$f":"IF(Compliance_Options!D484=\"\",\"\",Compliance_Options!D484)","v":""},"  ",{"$f":"IF(COUNTIF(CU$2:CU462,CU462)=1,CU462,\"\")","v":""},"","","",""]
[{"$nulls":48},{"$f":"+IF(AX463=\"\",\"\",MAX(AW$1:AW462)+1)","v":""},{"$f":"IF(Compliance_Options!B485=\"\",\"\",Compliance_Options!B485)","v":""},{"$f":"IF(Compliance_Options!C485=\"\",\"\",Compliance_Options!C485)","v":""},{"$f":"IF(Compliance_Options!D485=\"\",\"\",Compliance_Options!D485)","v":""},{"$f":"IF(Compliance_Options!E485=\"\",\"\",Compliance_Options!E485)","v":""},{"$f":"IF(Compliance_Options!F485=\"\",\"\",Compliance_Options!F485)","v":""},"    ",{"$f":"IF(COUNTIF(BC$2:BC463,BC463)=1,BC463,\"\")","v":""},"","","","","","","",{"$f":"+IF(BK463=\"\",\"\",MAX(BL$1:BL462)+1)","v":""},"","","","","","","",{"$f":"+IF(BS463=\"\",\"\",MAX(BT$1:BT462)+1)","v":""},"","","","","","","",{"$f":"+IF(CA463=\"\",\"\",MAX(CB$1:CB462)+1)","v":""},"","","","","","","",{"$f":"+IF(CI463=\"\",\"\",MAX(CJ$1:CJ462)+1)","v":""},"","","","","",null,{"$f":"+IF(CR463=\"\",\"\",MAX(CQ$1:CQ462)+1)","v":""},{"$f":"IF(Compliance_Options!B485=\"\",\"\",Compliance_Options!B485)","v":""},{"$f":"IF(Compliance_Options!C485=\"\",\"\",Compliance_Options!C485)","v":""},{"$f":"IF(Compliance_Options!D485=\"\",\"\",Compliance_Options!D485)","v":""},"  ",{"$f":"IF(COUNTIF(CU$2:CU463,CU463)=1,CU463,\"\")","v":""},"","","",""]
[{"$nulls":48},{"$f":"+IF(AX464=\"\",\"\",MAX(AW$1:AW463)+1)","v":""},{"$f":"IF(Compliance_Options!B486=\"\",\"\",Compliance_Options!B486)","v":""},{"$f":"IF(Compliance_Options!C486=\"\",\"\",Compliance_Options!C486)","v":""},{"$f":"IF(Compliance_Options!D486=\"\",\"\",Compliance_Options!D486)","v":""},{"$f":"IF(Compliance_Options!E486=\"\",\"\",Compliance_Options!E486)","v":""},{"$f":"IF(Compliance_Options!F486=\"\",\"\",Compliance_Options!F486)","v":""},"    ",{"$f":"IF(COUNTIF(BC$2:BC464,BC464)=1,BC464,\"\")","v":""},"","","","","","","",{"$f":"+IF(BK464=\"\",\"\",MAX(BL$1:BL463)+1)","v":""},"","","","","","","",{"$f":"+IF(BS464=\"\",\"\",MAX(BT$1:BT463)+1)","v":""},"","","","","","","",{"$f":"+IF(CA464=\"\",\"\",MAX(CB$1:CB463)+1)","v":""},"","","","","","","",{"$f":"+IF(CI464=\"\",\"\",MAX(CJ$1:CJ463)+1)","v":""},"","","","","",null,{"$f":"+IF(CR464=\"\",\"\",MAX(CQ$1:CQ463)+1)","v":""},{"$f":"IF(Compliance_Options!B486=\"\",\"\",Compliance_Options!B486)","v":""},{"$f":"IF(Compliance_Options!C486=\"\",\"\",Compliance_Options!C486)","v":""},{"$f":"IF(Compliance_Options!D486=\"\",\"\",Compliance_Options!D486)","v":""},"  ",{"$f":"IF(COUNTIF(CU$2:CU464,CU464)=1,CU464,\"\")","v":""},"","","",""]
[{"$nulls":48},{"$f":"+IF(AX465=\"\",\"\",MAX(AW$1:AW464)+1)","v":""},{"$f":"IF(Compliance_Options!B487=\"\",\"\",Compliance_Options!B487)","v":""},{"$f":"IF(Compliance_Options!C487=\"\",\"\",Compliance_Options!C487)","v":""},{"$f":"IF(Compliance_Options!D487=\"\",\"\",Compliance_Options!D487)","v":""},{"$f":"IF(Compliance_Options!E487=\"\",\"\",Compliance_Options!E487)","v":""},{"$f":"IF(Compliance_Options!F487=\"\",\"\",Compliance_Options!F487)","v":""},"    ",{"$f":"IF(COUNTIF(BC$2:BC465,BC465)=1,BC465,\"\")","v":""},"","","","","","","",{"$f":"+IF(BK465=\"\",\"\",MAX(BL$1:BL464)+1)","v":""},"","","","","","","",{"$f":"+IF(BS465=\"\",\"\",MAX(BT$1:BT464)+1)","v":""},"","","","","","","",{"$f":"+IF(CA465=\"\",\"\",MAX(CB$1:CB464)+1)","v":""},"","","","","","","",{"$f":"+IF(CI465=\"\",\"\",MAX(CJ$1:CJ464)+1)","v":""},"","","","","",null,{"$f":"+IF(CR465=\"\",\"\",MAX(CQ$1:CQ464)+1)","v":""},{"$f":"IF(Compliance_Options!B487=\"\",\"\",Compliance_Options!B487)","v":""},{"$f":"IF(Compliance_Options!C487=\"\",\"\",Compliance_Options!C487)","v":""},{"$f":"IF(Compliance_Options!D487=\"\",\"\",Compliance_Options!D487)","v":""},"  ",{"$f":"IF(COUNTIF(CU$2:CU465,CU465)=1,CU465,\"\")","v":""},"","","",""]
[{"$nulls":48},{"$f":"+IF(AX466=\"\",\"\",MAX(AW$1:AW465)+1)","v":""},{"$f":"IF(Compliance_Options!B488=\"\",\"\",Compliance_Options!B488)","v":""},{"$f":"IF(Compliance_Options!C488=\"\",\"\",Compliance_Options!C488)","v":""},{"$f":"IF(Compliance_Options!D488=\"\",\"\",Compliance_Options!D488)","v":""},{"$f":"IF(Compliance_Options!E488=\"\",\"\",Compliance_Options!E488)","v":""},{"$f":"IF(Compliance_Options!F488=\"\",\"\",Compliance_Options!F488)","v":""},"    ",{"$f":"IF(COUNTIF(BC$2:BC466,BC466)=1,BC466,\"\")","v":""},"","","","","","","",{"$f":"+IF(BK466=\"\",\"\",MAX(BL$1:BL465)+1)","v":""},"","","","","","","",{"$f":"+IF(BS466=\"\",\"\",MAX(BT$1:BT465)+1)","v":""},"","","","","","","",{"$f":"+IF(CA466=\"\",\"\",MAX(CB$1:CB465)+1)","v":""},"","","","","","","",{"$f":"+IF(CI466=\"\",\"\",MAX(CJ$1:CJ465)+1)","v":""},"","","","","",null,{"$f":"+IF(CR466=\"\",\"\",MAX(CQ$1:CQ465)+1)","v":""},{"$f":"IF(Compliance_Options!B488=\"\",\"\",Compliance_Options!B488)","v":""},{"$f":"IF(Compliance_Options!C488=\"\",\"\",Compliance_Options!C488)","v":""},{"$f":"IF(Compliance_Options!D488=\"\",\"\",Compliance_Options!D488)","v":""},"  ",{"$f":"IF(COUNTIF(CU$2:CU466,CU466)=1,CU466,\"\")","v":""},"","","",""]
[{"$nulls":48},{"$f":"+IF(AX467=\"\",\"\",MAX(AW$1:AW466)+1)","v":""},{"$f":"IF(Compliance_Options!B489=\"\",\"\",Compliance_Options!B489)","v":""},{"$f":"IF(Compliance_Options!C489=\"\",\"\",Compliance_Options!C489)","v":""},{"$f":"IF(Compliance_Options!D489=\"\",\"\",Compliance_Options!D489)","v":""},{"$f":"IF(Compliance_Options!E489=\"\",\"\",Compliance_Options!E489)","v":""},{"$f":"IF(Compliance_Options!F489=\"\",\"\",Compliance_Options!F489)","v":""},"    ",{"$f":"IF(COUNTIF(BC$2:BC467,BC467)=1,BC467,\"\")","v":""},"","","","","","","",{"$f":"+IF(BK467=\"\",\"\",MAX(BL$1:BL466)+1)","v":""},"","","","","","","",{"$f":"+IF(BS467=\"\",\"\",MAX(BT$1:BT466)+1)","v":""},"","","","","","","",{"$f":"+IF(CA467=\"\",\"\",MAX(CB$1:CB466)+1)","v":""},"","","","","","","",{"$f":"+IF(CI467=\"\",\"\",MAX(CJ$1:CJ466)+1)","v":""},"","","","","",null,{"$f":"+IF(CR467=\"\",\"\",MAX(CQ$1:CQ466)+1)","v":""},{"$f":"IF(Compliance_Options!B489=\"\",\"\",Compliance_Options!B489)","v":""},{"$f":"IF(Compliance_Options!C489=\"\",\"\",Compliance_Options!C489)","v":""},{"$f":"IF(Compliance_Options!D489=\"\",\"\",Compliance_Options!D489)","v":""},"  ",{"$f":"IF(COUNTIF(CU$2:CU467,CU467)=1,CU467,\"\")","v":""},"","","",""]
[{"$nulls":48},{"$f":"+IF(AX468=\"\",\"\",MAX(AW$1:AW467)+1)","v":""},{"$f":"IF(Compliance_Options!B490=\"\",\"\",Compliance_Options!B490)","v":""},{"$f":"IF(Compliance_Options!C490=\"\",\"\",Compliance_Options!C490)","v":""},{"$f":"IF(Compliance_Options!D490=\"\",\"\",Compliance_Options!D490)","v":""},{"$f":"IF(Compliance_Options!E490=\"\",\"\",Compliance_Options!E490)","v":""},{"$f":"IF(Compliance_Options!F490=\"\",\"\",Compliance_Options!F490)","v":""},"    ",{"$f":"IF(COUNTIF(BC$2:BC468,BC468)=1,BC468,\"\")","v":""},"","","","","","","",{"$f":"+IF(BK468=\"\",\"\",MAX(BL$1:BL467)+1)","v":""},"","","","","","","",{"$f":"+IF(BS468=\"\",\"\",MAX(BT$1:BT467)+1)","v":""},"","","","","","","",{"$f":"+IF(CA468=\"\",\"\",MAX(CB$1:CB467)+1)","v":""},"","","","","","","",{"$f":"+IF(CI468=\"\",\"\",MAX(CJ$1:CJ467)+1)","v":""},"","","","","",null,{"$f":"+IF(CR468=\"\",\"\",MAX(CQ$1:CQ467)+1)","v":""},{"$f":"IF(Compliance_Options!B490=\"\",\"\",Compliance_Options!B490)","v":""},{"$f":"IF(Compliance_Options!C490=\"\",\"\",Compliance_Options!C490)","v":""},{"$f":"IF(Compliance_Options!D490=\"\",\"\",Compliance_Options!D490)","v":""},"  ",{"$f":"IF(COUNTIF(CU$2:CU468,CU468)=1,CU468,\"\")","v":""},"","","",""]
[{"$nulls":48},{"$f":"+IF(AX469=\"\",\"\",MAX(AW$1:AW468)+1)","v":""},{"$f":"IF(Compliance_Options!B491=\"\",\"\",Compliance_Options!B491)","v":""},{"$f":"IF(Compliance_Options!C491=\"\",\"\",Compliance_Options!C491)","v":""},{"$f":"IF(Compliance_Options!D491=\"\",\"\",Compliance_Options!D491)","v":""},{"$f":"IF(Compliance_Options!E491=\"\",\"\",Compliance_Options!E491)","v":""},{"$f":"IF(Compliance_Options!F491=\"\",\"\",Compliance_Options!F491)","v":""},"    ",{"$f":"IF(COUNTIF(BC$2:BC469,BC469)=1,BC469,\"\")","v":""},"","","","","","","",{"$f":"+IF(BK469=\"\",\"\",MAX(BL$1:BL468)+1)","v":""},"","","","","","","",{"$f":"+IF(BS469=\"\",\"\",MAX(BT$1:BT468)+1)","v":""},"","","","","","","",{"$f":"+IF(CA469=\"\",\"\",MAX(CB$1:CB468)+1)","v":""},"","","","","","","",{"$f":"+IF(CI469=\"\",\"\",MAX(CJ$1:CJ468)+1)","v":""},"","","","","",null,{"$f":"+IF(CR469=\"\",\"\",MAX(CQ$1:CQ468)+1)","v":""},{"$f":"IF(Compliance_Options!B491=\"\",\"\",Compliance_Options!B491)","v":""},{"$f":"IF(Compliance_Options!C491=\"\",\"\",Compliance_Options!C491)","v":""},{"$f":"IF(Compliance_Options!D491=\"\",\"\",Compliance_Options!D491)","v":""},"  ",{"$f":"IF(COUNTIF(CU$2:CU469,CU469)=1,CU469,\"\")","v":""},"","","",""]
[{"$nulls":48},{"$f":"+IF(AX470=\"\",\"\",MAX(AW$1:AW469)+1)","v":""},{"$f":"IF(Compliance_Options!B492=\"\",\"\",Compliance_Options!B492)","v":""},{"$f":"IF(Compliance_Options!C492=\"\",\"\",Compliance_Options!C492)","v":""},{"$f":"IF(Compliance_Options!D492=\"\",\"\",Compliance_Options!D492)","v":""},{"$f":"IF(Compliance_Options!E492=\"\",\"\",Compliance_Options!E492)","v":""},{"$f":"IF(Compliance_Options!F492=\"\",\"\",Compliance_Options!F492)","v":""},"    ",{"$f":"IF(COUNTIF(BC$2:BC470,BC470)=1,BC470,\"\")","v":""},"","","","","","","",{"$f":"+IF(BK470=\"\",\"\",MAX(BL$1:BL469)+1)","v":""},"","","","","","","",{"$f":"+IF(BS470=\"\",\"\",MAX(BT$1:BT469)+1)","v":""},"","","","","","","",{"$f":"+IF(CA470=\"\",\"\",MAX(CB$1:CB469)+1)","v":""},"","","","","","","",{"$f":"+IF(CI470=\"\",\"\",MAX(CJ$1:CJ469)+1)","v":""},"","","","","",null,{"$f":"+IF(CR470=\"\",\"\",MAX(CQ$1:CQ469)+1)","v":""},{"$f":"IF(Compliance_Options!B492=\"\",\"\",Compliance_Options!B492)","v":""},{"$f":"IF(Compliance_Options!C492=\"\",\"\",Compliance_Options!C492)","v":""},{"$f":"IF(Compliance_Options!D492=\"\",\"\",Compliance_Options!D492)","v":""},"  ",{"$f":"IF(COUNTIF(CU$2:CU470,CU470)=1,CU470,\"\")","v":""},"","","",""]
[{"$nulls":48},{"$f":"+IF(AX471=\"\",\"\",MAX(AW$1:AW470)+1)","v":""},{"$f":"IF(Compliance_Options!B493=\"\",\"\",Compliance_Options!B493)","v":""},{"$f":"IF(Compliance_Options!C493=\"\",\"\",Compliance_Options!C493)","v":""},{"$f":"IF(Compliance_Options!D493=\"\",\"\",Compliance_Options!D493)","v":""},{"$f":"IF(Compliance_Options!E493=\"\",\"\",Compliance_Options!E493)","v":""},{"$f":"IF(Compliance_Options!F493=\"\",\"\",Compliance_Options!F493)","v":""},"    ",{"$f":"IF(COUNTIF(BC$2:BC471,BC471)=1,BC471,\"\")","v":""},"","","","","","","",{"$f":"+IF(BK471=\"\",\"\",MAX(BL$1:BL470)+1)","v":""},"","","","","","","",{"$f":"+IF(BS471=\"\",\"\",MAX(BT$1:BT470)+1)","v":""},"","","","","","","",{"$f":"+IF(CA471=\"\",\"\",MAX(CB$1:CB470)+1)","v":""},"","","","","","","",{"$f":"+IF(CI471=\"\",\"\",MAX(CJ$1:CJ470)+1)","v":""},"","","","","",null,{"$f":"+IF(CR471=\"\",\"\",MAX(CQ$1:CQ470)+1)","v":""},{"$f":"IF(Compliance_Options!B493=\"\",\"\",Compliance_Options!B493)","v":""},{"$f":"IF(Compliance_Options!C493=\"\",\"\",Compliance_Options!C493)","v":""},{"$f":"IF(Compliance_Options!D493=\"\",\"\",Compliance_Options!D493)","v":""},"  ",{"$f":"IF(COUNTIF(CU$2:CU471,CU471)=1,CU471,\"\")","v":""},"","","",""]
[{"$nulls":48},{"$f":"+IF(AX472=\"\",\"\",MAX(AW$1:AW471)+1)","v":""},{"$f":"IF(Compliance_Options!B494=\"\",\"\",Compliance_Options!B494)","v":""},{"$f":"IF(Compliance_Options!C494=\"\",\"\",Compliance_Options!C494)","v":""},{"$f":"IF(Compliance_Options!D494=\"\",\"\",Compliance_Options!D494)","v":""},{"$f":"IF(Compliance_Options!E494=\"\",\"\",Compliance_Options!E494)","v":""},{"$f":"IF(Compliance_Options!F494=\"\",\"\",Compliance_Options!F494)","v":""},"    ",{"$f":"IF(COUNTIF(BC$2:BC472,BC472)=1,BC472,\"\")","v":""},"","","","","","","",{"$f":"+IF(BK472=\"\",\"\",MAX(BL$1:BL471)+1)","v":""},"","","","","","","",{"$f":"+IF(BS472=\"\",\"\",MAX(BT$1:BT471)+1)","v":""},"","","","","","","",{"$f":"+IF(CA472=\"\",\"\",MAX(CB$1:CB471)+1)","v":""},"","","","","","","",{"$f":"+IF(CI472=\"\",\"\",MAX(CJ$1:CJ471)+1)","v":""},"","","","","",null,{"$f":"+IF(CR472=\"\",\"\",MAX(CQ$1:CQ471)+1)","v":""},{"$f":"IF(Compliance_Options!B494=\"\",\"\",Compliance_Options!B494)","v":""},{"$f":"IF(Compliance_Options!C494=\"\",\"\",Compliance_Options!C494)","v":""},{"$f":"IF(Compliance_Options!D494=\"\",\"\",Compliance_Options!D494)","v":""},"  ",{"$f":"IF(COUNTIF(CU$2:CU472,CU472)=1,CU472,\"\")","v":""},"","","",""]
[{"$nulls":48},{"$f":"+IF(AX473=\"\",\"\",MAX(AW$1:AW472)+1)","v":""},{"$f":"IF(Compliance_Options!B495=\"\",\"\",Compliance_Options!B495)","v":""},{"$f":"IF(Compliance_Options!C495=\"\",\"\",Compliance_Options!C495)","v":""},{"$f":"IF(Compliance_Options!D495=\"\",\"\",Compliance_Options!D495)","v":""},{"$f":"IF(Compliance_Options!E495=\"\",\"\",Compliance_Options!E495)","v":""},{"$f":"IF(Compliance_Options!F495=\"\",\"\",Compliance_Options!F495)","v":""},"    ",{"$f":"IF(COUNTIF(BC$2:BC473,BC473)=1,BC473,\"\")","v":""},"","","","","","","",{"$f":"+IF(BK473=\"\",\"\",MAX(BL$1:BL472)+1)","v":""},"","","","","","","",{"$f":"+IF(BS473=\"\",\"\",MAX(BT$1:BT472)+1)","v":""},"","","","","","","",{"$f":"+IF(CA473=\"\",\"\",MAX(CB$1:CB472)+1)","v":""},"","","","","","","",{"$f":"+IF(CI473=\"\",\"\",MAX(CJ$1:CJ472)+1)","v":""},"","","","","",null,{"$f":"+IF(CR473=\"\",\"\",MAX(CQ$1:CQ472)+1)","v":""},{"$f":"IF(Compliance_Options!B495=\"\",\"\",Compliance_Options!B495)","v":""},{"$f":"IF(Compliance_Options!C495=\"\",\"\",Compliance_Options!C495)","v":""},{"$f":"IF(Compliance_Options!D495=\"\",\"\",Compliance_Options!D495)","v":""},"  ",{"$f":"IF(COUNTIF(CU$2:CU473,CU473)=1,CU473,\"\")","v":""},"","","",""]
[{"$nulls":48},{"$f":"+IF(AX474=\"\",\"\",MAX(AW$1:AW473)+1)","v":""},{"$f":"IF(Compliance_Options!B496=\"\",\"\",Compliance_Options!B496)","v":""},{"$f":"IF(Compliance_Options!C496=\"\",\"\",Compliance_Options!C496)","v":""},{"$f":"IF(Compliance_Options!D496=\"\",\"\",Compliance_Options!D496)","v":""},{"$f":"IF(Compliance_Options!E496=\"\",\"\",Compliance_Options!E496)","v":""},{"$f":"IF(Compliance_Options!F496=\"\",\"\",Compliance_Options!F496)","v":""},"    ",{"$f":"IF(COUNTIF(BC$2:BC474,BC474)=1,BC474,\"\")","v":""},"","","","","","","",{"$f":"+IF(BK474=\"\",\"\",MAX(BL$1:BL473)+1)","v":""},"","","","","","","",{"$f":"+IF(BS474=\"\",\"\",MAX(BT$1:BT473)+1)","v":""},"","","","","","","",{"$f":"+IF(CA474=\"\",\"\",MAX(CB$1:CB473)+1)","v":""},"","","","","","","",{"$f":"+IF(CI474=\"\",\"\",MAX(CJ$1:CJ473)+1)","v":""},"","","","","",null,{"$f":"+IF(CR474=\"\",\"\",MAX(CQ$1:CQ473)+1)","v":""},{"$f":"IF(Compliance_Options!B496=\"\",\"\",Compliance_Options!B496)","v":""},{"$f":"IF(Compliance_Options!C496=\"\",\"\",Compliance_Options!C496)","v":""},{"$f":"IF(Compliance_Options!D496=\"\",\"\",Compliance_Options!D496)","v":""},"  ",{"$f":"IF(COUNTIF(CU$2:CU474,CU474)=1,CU474,\"\")","v":""},"","","",""]
[{"$nulls":48},{"$f":"+IF(AX475=\"\",\"\",MAX(AW$1:AW474)+1)","v":""},{"$f":"IF(Compliance_Options!B497=\"\",\"\",Compliance_Options!B497)","v":""},{"$f":"IF(Compliance_Options!C497=\"\",\"\",Compliance_Options!C497)","v":""},{"$f":"IF(Compliance_Options!D497=\"\",\"\",Compliance_Options!D497)","v":""},{"$f":"IF(Compliance_Options!E497=\"\",\"\",Compliance_Options!E497)","v":""},{"$f":"IF(Compliance_Options!F497=\"\",\"\",Compliance_Options!F497)","v":""},"    ",{"$f":"IF(COUNTIF(BC$2:BC475,BC475)=1,BC475,\"\")","v":""},"","","","","","","",{"$f":"+IF(BK475=\"\",\"\",MAX(BL$1:BL474)+1)","v":""},"","","","","","","",{"$f":"+IF(BS475=\"\",\"\",MAX(BT$1:BT474)+1)","v":""},"","","","","","","",{"$f":"+IF(CA475=\"\",\"\",MAX(CB$1:CB474)+1)","v":""},"","","","","","","",{"$f":"+IF(CI475=\"\",\"\",MAX(CJ$1:CJ474)+1)","v":""},"","","","","",null,{"$f":"+IF(CR475=\"\",\"\",MAX(CQ$1:CQ474)+1)","v":""},{"$f":"IF(Compliance_Options!B497=\"\",\"\",Compliance_Options!B497)","v":""},{"$f":"IF(Compliance_Options!C497=\"\",\"\",Compliance_Options!C497)","v":""},{"$f":"IF(Compliance_Options!D497=\"\",\"\",Compliance_Options!D497)","v":""},"  ",{"$f":"IF(COUNTIF(CU$2:CU475,CU475)=1,CU475,\"\")","v":""},"","","",""]
[{"$nulls":48},{"$f":"+IF(AX476=\"\",\"\",MAX(AW$1:AW475)+1)","v":""},{"$f":"IF(Compliance_Options!B498=\"\",\"\",Compliance_Options!B498)","v":""},{"$f":"IF(Compliance_Options!C498=\"\",\"\",Compliance_Options!C498)","v":""},{"$f":"IF(Compliance_Options!D498=\"\",\"\",Compliance_Options!D498)","v":""},{"$f":"IF(Compliance_Options!E498=\"\",\"\",Compliance_Options!E498)","v":""},{"$f":"IF(Compliance_Options!F498=\"\",\"\",Compliance_Options!F498)","v":""},"    ",{"$f":"IF(COUNTIF(BC$2:BC476,BC476)=1,BC476,\"\")","v":""},"","","","","","","",{"$f":"+IF(BK476=\"\",\"\",MAX(BL$1:BL475)+1)","v":""},"","","","","","","",{"$f":"+IF(BS476=\"\",\"\",MAX(BT$1:BT475)+1)","v":""},"","","","","","","",{"$f":"+IF(CA476=\"\",\"\",MAX(CB$1:CB475)+1)","v":""},"","","","","","","",{"$f":"+IF(CI476=\"\",\"\",MAX(CJ$1:CJ475)+1)","v":""},"","","","","",null,{"$f":"+IF(CR476=\"\",\"\",MAX(CQ$1:CQ475)+1)","v":""},{"$f":"IF(Compliance_Options!B498=\"\",\"\",Compliance_Options!B498)","v":""},{"$f":"IF(Compliance_Options!C498=\"\",\"\",Compliance_Options!C498)","v":""},{"$f":"IF(Compliance_Options!D498=\"\",\"\",Compliance_Options!D498)","v":""},"  ",{"$f":"IF(COUNTIF(CU$2:CU476,CU476)=1,CU476,\"\")","v":""},"","","",""]
[{"$nulls":48},{"$f":"+IF(AX477=\"\",\"\",MAX(AW$1:AW476)+1)","v":""},{"$f":"IF(Compliance_Options!B499=\"\",\"\",Compliance_Options!B499)","v":""},{"$f":"IF(Compliance_Options!C499=\"\",\"\",Compliance_Options!C499)","v":""},{"$f":"IF(Compliance_Options!D499=\"\",\"\",Compliance_Options!D499)","v":""},{"$f":"IF(Compliance_Options!E499=\"\",\"\",Compliance_Options!E499)","v":""},{"$f":"IF(Compliance_Options!F499=\"\",\"\",Compliance_Options!F499)","v":""},"    ",{"$f":"IF(COUNTIF(BC$2:BC477,BC477)=1,BC477,\"\")","v":""},"","","","","","","",{"$f":"+IF(BK477=\"\",\"\",MAX(BL$1:BL476)+1)","v":""},"","","","","","","",{"$f":"+IF(BS477=\"\",\"\",MAX(BT$1:BT476)+1)","v":""},"","","","","","","",{"$f":"+IF(CA477=\"\",\"\",MAX(CB$1:CB476)+1)","v":""},"","","","","","","",{"$f":"+IF(CI477=\"\",\"\",MAX(CJ$1:CJ476)+1)","v":""},"","","","","",null,{"$f":"+IF(CR477=\"\",\"\",MAX(CQ$1:CQ476)+1)","v":""},{"$f":"IF(Compliance_Options!B499=\"\",\"\",Compliance_Options!B499)","v":""},{"$f":"IF(Compliance_Options!C499=\"\",\"\",Compliance_Options!C499)","v":""},{"$f":"IF(Compliance_Options!D499=\"\",\"\",Compliance_Options!D499)","v":""},"  ",{"$f":"IF(COUNTIF(CU$2:CU477,CU477)=1,CU477,\"\")","v":""},"","","",""]
[{"$nulls":19},"End Compliant Material",{"$nulls":28},{"$f":"+IF(AX478=\"\",\"\",MAX(AW$1:AW477)+1)","v":""},{"$f":"IF(Compliance_Options!B500=\"\",\"\",Compliance_Options!B500)","v":""},{"$f":"IF(Compliance_Options!C500=\"\",\"\",Compliance_Options!C500)","v":""},{"$f":"IF(Compliance_Options!D500=\"\",\"\",Compliance_Options!D500)","v":""},{"$f":"IF(Compliance_Options!E500=\"\",\"\",Compliance_Options!E500)","v":""},{"$f":"IF(Compliance_Options!F500=\"\",\"\",Compliance_Options!F500)","v":""},"    ",{"$f":"IF(COUNTIF(BC$2:BC478,BC478)=1,BC478,\"\")","v":""},"","","","","","","",{"$f":"+IF(BK478=\"\",\"\",MAX(BL$1:BL477)+1)","v":""},"","","","","","","",{"$f":"+IF(BS478=\"\",\"\",MAX(BT$1:BT477)+1)","v":""},"","","","","","","",{"$f":"+IF(CA478=\"\",\"\",MAX(CB$1:CB477)+1)","v":""},"","","","","","","",{"$f":"+IF(CI478=\"\",\"\",MAX(CJ$1:CJ477)+1)","v":""},"","","","","",null,{"$f":"+IF(CR478=\"\",\"\",MAX(CQ$1:CQ477)+1)","v":""},{"$f":"IF(Compliance_Options!B500=\"\",\"\",Compliance_Options!B500)","v":""},{"$f":"IF(Compliance_Options!C500=\"\",\"\",Compliance_Options!C500)","v":""},{"$f":"IF(Compliance_Options!D500=\"\",\"\",Compliance_Options!D500)","v":""},"  ",{"$f":"IF(COUNTIF(CU$2:CU478,CU478)=1,CU478,\"\")","v":""},"","","",""]
[{"$nulls":19},"Start No Addon"]
{"$rows_empty":475}
[{"$nulls":19},"End W/out Addon"]
[{"$nulls":19},"Start w/addon"]

{"sheet":"Welcome","index":1,"n_rows":22,"n_cols":2,"rows_kept":22}
["DO NOT REMOVE OR EDIT INFORMATION IN THIS SECTION\nFOR INTERNAL USE ONLY"]
["Template Name","63.6016(k) Notification of Compliance and  §63.6017(g) Semiannual Compliance Report (Spreadsheet Template)"]
["CitationID","63.6016(k) and 63.6017(g)"]
["Template Version","Final ICR Draft"]
["Last Updated Date","2024-08-28"]
[null,"OMB Control Number: 2060-0449 Form 5900-659"]
[null,"For further Paperwork Reduction Act information see: \nhttps://www.epa.gov/electronic-reporting-air-emissions/paperwork-reduction-act-pra-cedri-and-ert"]
[null,"40 CFR Part 63, Subpart XXXX National Emission Standards for Hazardous Air Pollutants: Rubber Tire Manufacturing - §63.6016(k) Notification of Compliance Status and §63.6017(g) Semiannual Compliance Report Spreadsheet Template"]
[null,"Welcome and Instructions"]
[null,"Purpose:"]
[null,"This spreadsheet template was designed by the U.S. EPA to facilitate the Notification of Compliance Status and Compliance reporting for facilities subject to 40 CFR part 63, subpart XXXX. The Notification of Compliance Status (NOCS) is a one time notification that is required for new or reconstructed sources by §63.6016(k) no later than 30 calendar days following the end of the initial 12 month compliance  period. The compliance report is a report that is required for existing sources by §63.6017(g) and is due every six months, unless the facility qualifies for annual reporting (§63.6017(f)). The EPA's Compliance and Emissions Data Reporting (CEDRI) is accessible through the EPA's Central Data Exchange (https://cdx.epa.gov)\n"]
[null,"Electronic reporting:"]
[null,"Electronic submission of Compliance reports through CEDRI is required under §63.6017.\n"]
[null,"A completed spreadsheet template should be uploaded to CEDRI to fulfill the electronic reporting requirements under §63.6016 and §63.6017.\n\n"]
[null,"Do not submit information you claim as confidential business information (CBI) to EPA via CEDRI. EPA will make all the information submitted through this form via CEDRI available to the public without further notice to you. Anything submitted using CEDRI cannot later be claimed to be CBI. Furthermore, under CAA section 114(c) emissions data is not entitled to confidential treatment and requires EPA to make emissions data available to the public. Thus, emissions data will not be protected as CBI and will be made publicly available.\n\nAlthough we do not expect persons to assert a claim of CBI, if persons wish to assert a CBI claim, you must submit the report via CEDRI with the CBI omitted and mail a complete report, including any information claimed to be CBI, to EPA on a compact disc, flash drive, or other commonly used electronic storage media via U.S. postal service. You must mark the outside of the digital storage media as CBI and then identify electronically within the digital storage media the specific information that is claimed as CBI. Mail the media to the address in the referencing federal regulation. If no address is specified, mail the media to:\n\nU.S. EPA/OAQPS/CORE CBI Office Attention: Group Leader, \nMeasurement Policy Group MD C404-02\n4930 Old Page Rd\nDurham, North Carolina 27703"]
[null,"IMPORTANT: The spreadsheet must be uploaded into CEDRI as a single ZIP file, which must include this Excel workbook and any related attachments that were referenced in the workbook (i.e., additional information file found in the \"Company_Information\" worksheet). \n\nNote: If you are uploading file attachments for your report, the uploaded files may be in any format (e.g., zip, docx, PDF). If you would like to include an Excel file(s) as an attachment, you must first zip the excel file(s) into a separate ZIP file and include within the master ZIP file that will be uploaded into CEDRI.\n\nOnce all data have been entered into the worksheets, combine this completed Excel workbook and all attachment files (including any ZIP file containing separate excel file(s), if applicable) into a single ZIP file for upload to CEDRI.\n"]
[null,"Template Navigation and Worksheets to Complete:"]
[null,"Gray worksheets:  The gray worksheets labeled Company_Information and Compliance_ Options contain general information that is common to both the Notification of Compliance Status and the Compliance Report and should be completed first.  After completing the gray worksheets, the spreadsheet may be saved as a site specific template to use in subsequent reports to limit subsequent data entry.  Selecting \"No\" or \"Yes\" in the \"Is this report a Notification of Compliance Status (NOCS)?\" selection (found on the Company_Information worksheet) will hide or make visible the worksheets associated with the NOCS. The information in the gray worksheet varies very little from one reporting period to the next.  NOTE: Some dropdowns on a given worksheet are dependent on data from a preceding column, so it may look like the dropdown is empty at first glance."]
[null,"Orange worksheets: The orange worksheets (NoticeOfComplianceStatus, NOCS_TireProduction, NOCS_TireCordProd, NOCS_PunctureSealantApp, and NOCS_Certification) are required if the submission is a Notification of Compliance Status.  These worksheets will be hidden if \"No\" is selected in column P in the Company Information worksheet as the answer to \"Is this report a Notification of Compliance Status (NOCS)?\" question.  The first three or four columns in each NOCS worksheet will be prefilled based on information entered in the 'Compliance_Options' worksheet.\n"]
[null,"Green worksheets:  In addition to the gray worksheets, complete the green worksheet(s) (Compliance Rpt - Tire Prod, Compliance Rpt - Tire Cord, Compliance Rpt - Puncture Seal, and Compliance Rpt - Deviations), that represents the actual compliance option used for each reporting period.  The first three columns in each Compliance Rpt worksheet will be prefilled based on information entered in the 'Compliance_Options' worksheet.\n\nThe Compliance Rpt - Certification worksheet must be completed for every compliance report. The NOCS Certification worksheet must be completed for the one time NOCS.\n"]
[null,"Within the worksheets, examples are provided (or will be provided in Final template) and example rows are colored light red (rows 14 through 23), and the XML tags (row 13, hidden)) are colored green.  These rows are locked and cannot be used for data entry. \n"]
[null,"Certification:\nComplete the NOCS_Certification worksheet to complete the NOCS certification statement in accordance with §63.9(h)(2)(i)(G). \n\nComplete the Compliance Rpt - Certification worksheet to complete the certification statements required by §63.6017(c)(5), (6), and (8).\n"]

{"sheet":"Company_Information","index":2,"n_rows":33,"n_cols":17,"rows_kept":33}
[null,"DO NOT REMOVE OR EDIT INFORMATION IN THIS SECTION FOR INTERNAL USE ONLY"]
[null,"Template Name",{"$f":"Welcome!B2","v":"63.6016(k) Notification of Compliance and  §63.6017(g) Semiannual Compliance Report (Spreadsheet Template)"}]
[null,"CitationID",{"$f":"Welcome!B3","v":"63.6016(k) and 63.6017(g)"}]
[null,"Template Version",{"$f":"Welcome!B4","v":"Final ICR Draft"}]
[null,"Last Updated Date",{"$f":"Welcome!B5","v":"2024-08-28"}]
[null,{"$f":"Welcome!B6","v":"OMB Control Number: 2060-0449 Form 5900-659"}]
[null,"40 CFR Part 63, Subpart XXXX National Emission Standards for Hazardous Air Pollutants: Rubber Tire Manufacturing - §63.6016(k) Notification of Compliance Status and  §63.6017(g) Semiannual Compliance Report Spreadsheet Template"]
[null,"\n"]
[]
[null,"Note: If submitting NOCS for any Facility listed in the table below, scroll to column Q and select Yes.  New NOCS specfic worksheets will display."]
[null,null,"SITE INFORMATION",{"$nulls":8},"REPORTING PERIOD",null,null,"ADDITIONAL INFORMATION"]
[null,"Company Record No. \n(Field value will automatically generate when Company Name entered in Column C.)","Company Name \n(§63.6017(c)(1))","Address \n(§63.6017(c)(1))","Address 2 ","City\n(§63.6017(c)(1))","County","State Abbreviation\n(§63.6017(c)(1))","Zip Code\n(§63.6017(c)(1))","Responsible Agency Facility ID \n(State Facility Identifier)","Is this an Existing or New or Reconstructed Effective Source\n(Select from dropdown)","Date of Report\n(§63.6017(c)(3))","Beginning Date of Reporting Period\n(§63.6017(c)(3))","Ending Date of Reporting Period (§63.6017(c)(3))","Please enter any additional information.","Enter associated file name reference. ","Is this report a Notification of Compliance Status (NOCS)?\n(Select from dropdown)"]
[null,"RecordId","CompanyName","AddressLine1","AddressLine2","CityName","CountyName","StateName","ZIPCode","StateFacID","EffectiveSource","ReportDate","PeriodStartDate","PeriodEndDate","AddInfo","AddFile","NocsFlag"]
[null,"e.g.: 1","e.g.: EPA Tire & Rubber Co","e.g.: 123 Main Street","e.g.: Suite 100","e.g.: Brooklyn","e.g.: Kings","e.g.: NY","e.g.: 11221","e.g.: 9145555555","e.g.: New or Reconstructed Source","e.g.: 7/2/2017","e.g.: 1/1/2017","e.g.: 6/30/2017","e.g.: Provide any additional information here.","e.g.: addlinfo.zip ","e.g.:Yes"]
[null,"e.g.:","e.g.:","e.g.:","e.g.:","e.g.:","e.g.:","e.g.:","e.g.:","e.g.:","e.g.:","e.g.:","e.g.:","e.g.:","e.g.:","e.g.:","e.g.:"]
[null,"e.g.:","e.g.:","e.g.:","e.g.:","e.g.:","e.g.:","e.g.:","e.g.:","e.g.:","e.g.:","e.g.:","e.g.:","e.g.:","e.g.:","e.g.:","e.g.:"]
[null,"e.g.:","e.g.:","e.g.:","e.g.:","e.g.:","e.g.:","e.g.:","e.g.:","e.g.:","e.g.:","e.g.:","e.g.:","e.g.:","e.g.:","e.g.:","e.g.:"]
[null,"e.g.:","e.g.:","e.g.:","e.g.:","e.g.:","e.g.:","e.g.:","e.g.:","e.g.:","e.g.:","e.g.:","e.g.:","e.g.:","e.g.:","e.g.:","e.g.:"]
[null,"e.g.:","e.g.:","e.g.:","e.g.:","e.g.:","e.g.:","e.g.:","e.g.:","e.g.:","e.g.:","e.g.:","e.g.:","e.g.:","e.g.:","e.g.:","e.g.:"]
[null,"e.g.:","e.g.:","e.g.:","e.g.:","e.g.:","e.g.:","e.g.:","e.g.:","e.g.:","e.g.:","e.g.:","e.g.:","e.g.:","e.g.:","e.g.:","e.g.:"]
[null,"e.g.:","e.g.:","e.g.:","e.g.:","e.g.:","e.g.:","e.g.:","e.g.:","e.g.:","e.g.:","e.g.:","e.g.:","e.g.:","e.g.:","e.g.:","e.g.:"]
[null,"e.g.:","e.g.:","e.g.:","e.g.:","e.g.:","e.g.:","e.g.:","e.g.:","e.g.:","e.g.:","e.g.:","e.g.:","e.g.:","e.g.:","e.g.:","e.g.:"]
[null,"e.g.:","e.g.:","e.g.:","e.g.:","e.g.:","e.g.:","e.g.:","e.g.:","e.g.:","e.g.:","e.g.:","e.g.:","e.g.:","e.g.:","e.g.:","e.g.:"]
[null,{"$f":"+IF(C24=\"\",\"\",MAX(B$23:B23)+1)","v":1},"CompanyName"]
[null,{"$f":"+IF(C25=\"\",\"\",MAX(B$23:B24)+1)","v":""}]
[null,{"$f":"+IF(C26=\"\",\"\",MAX(B$23:B25)+1)","v":""}]
[null,{"$f":"+IF(C27=\"\",\"\",MAX(B$23:B26)+1)","v":""}]
[null,{"$f":"+IF(C28=\"\",\"\",MAX(B$23:B27)+1)","v":""}]
[null,{"$f":"+IF(C29=\"\",\"\",MAX(B$23:B28)+1)","v":""}]
[null,{"$f":"+IF(C30=\"\",\"\",MAX(B$23:B29)+1)","v":""}]
[null,{"$f":"+IF(C31=\"\",\"\",MAX(B$23:B30)+1)","v":""}]
[null,{"$f":"+IF(C32=\"\",\"\",MAX(B$23:B31)+1)","v":""}]
[null,{"$f":"+IF(C33=\"\",\"\",MAX(B$23:B32)+1)","v":""}]

{"sheet":"Compliance_Options","index":3,"n_rows":23,"n_cols":7,"rows_kept":23}
[null,"DO NOT REMOVE OR EDIT INFORMATION IN THIS SECTION\nFOR INTERNAL USE ONLY"]
[null,"Template Name",{"$f":"Welcome!B2","v":"63.6016(k) Notification of Compliance and  §63.6017(g) Semiannual Compliance Report (Spreadsheet Template)"}]
[null,"CitationID",{"$f":"Welcome!B3","v":"63.6016(k) and 63.6017(g)"}]
[null,"Template Version",{"$f":"Welcome!B4","v":"Final ICR Draft"}]
[null,"Last Updated Date",{"$f":"Welcome!B5","v":"2024-08-28"}]
[null,{"$f":"Welcome!B6","v":"OMB Control Number: 2060-0449 Form 5900-659"}]
[null,"40 CFR Part 63, Subpart XXXX National Emission Standards for Hazardous Air Pollutants: Rubber Tire Manufacturing - "]
[null,{"$f":"Welcome!B2","v":"63.6016(k) Notification of Compliance and  §63.6017(g) Semiannual Compliance Report (Spreadsheet Template)"}]
[]
[null,"Note: Company Record No. selections appear once Company(s) are added to Company_Information worksheet. Fill out table moving left to right, as dropdowns are dependent on previous selections."]
[null,"COMPLIANCE OPTIONS"]
[null,"Company Record No.\n(Select from dropdown)","Rubber Tire Manufacturing Affected Source or Facility as stated in §63.6017(c)(7) if applicable.\n(§63.9(h))","Rubber Tire Manufacturing Subcategory\n(Select from dropdown)","Identification of the Compliance Option\n(Appendices - Table 1, 2, 3, 4, 15 or 16 To Subpart XXXX of Part 63)\n(Select from dropdown)","Identification of the Compliance Alternative\n(Appendices - Table 1, 2, 3, 4, 15 or 16 To Subpart XXXX of Part 63)\n(Select from dropdown)","Select corresponding emissions or operating limit\n(Appendices - Table 1, 2, 3, 4, 15 or 16 To Subpart XXXX of Part 63)\n(Select from dropdown)"]
[null,"RecordId","OperationName","Subcategory","ComplianceOptions","ComplianceOptionAlt","EmissionLimit"]
[null,"e.g.: 2","e.g.: EPA Tire & Rubber Co","e.g.: Tire Production","e.g.: Option 1—HAP constituent option","e.g.: Purchase alternative","e.g.: a. Emissions of each HAP in Table 16 to this subpart must not exceed 1,000 grams HAP per megagram (2 pounds per ton) of total cements and solvents used at the tire production affected source, and b. Emissions of each HAP not in Table 16 to this subpart must not exceed 10,000 grams HAP per megagram (20 pounds per ton) of total cements and solvents used at the tire production affected source."]
[null,"e.g.:","e.g.:","e.g.:","e.g.:","e.g.:","e.g.:"]
[null,"e.g.:","e.g.:","e.g.:","e.g.:","e.g.:","e.g.:"]
[null,"e.g.:","e.g.:","e.g.:","e.g.:","e.g.:","e.g.:"]
[null,"e.g.:","e.g.:","e.g.:","e.g.:","e.g.:","e.g.:"]
[null,"e.g.:","e.g.:","e.g.:","e.g.:","e.g.:","e.g.:"]
[null,"e.g.:","e.g.:","e.g.:","e.g.:","e.g.:","e.g.:"]
[null,"e.g.:","e.g.:","e.g.:","e.g.:","e.g.:","e.g.:"]
[null,"e.g.:","e.g.:","e.g.:","e.g.:","e.g.:","e.g.:"]
[null,"e.g.:","e.g.:","e.g.:","e.g.:","e.g.:","e.g.:"]

{"sheet":"NoticeOfComplianceStatus","index":4,"n_rows":100,"n_cols":12,"rows_kept":100,"hidden":true}
[null,"DO NOT REMOVE OR EDIT INFORMATION IN THIS SECTION\nFOR INTERNAL USE ONLY"]
[null,"Template Name",{"$f":"Welcome!B2","v":"63.6016(k) Notification of Compliance and  §63.6017(g) Semiannual Compliance Report (Spreadsheet Template)"}]
[null,"CitationID",{"$f":"Welcome!B3","v":"63.6016(k) and 63.6017(g)"}]
[null,"Template Version",{"$f":"Welcome!B4","v":"Final ICR Draft"}]
[null,"Last Updated Date",{"$f":"Welcome!B5","v":"2024-08-28"}]
[null,{"$f":"Welcome!B6","v":"OMB Control Number: 2060-0449 Form 5900-659"}]
[null,"40 CFR Part 63, Subpart XXXX National Emission Standards for Hazardous Air Pollutants: Rubber Tire Manufacturing - "]
[null,"\n"]
[]
[null,"Note: Columns B through F will be autofilled based on responses provided in the Compliance_Options worksheet."]
[null,"63.6016(k) Notification of Compliance Status - Can Provide single attached file to include all information required to be reported. Provide file name in appropriate cells below.",{"$nulls":9},"Se"]
[null,"Company Record No.\n(Autofilled)","Name of Rubber Tire Manufacturing Affected Source\n(§63.9(h))\n(Autofilled)","Rubber Tire Manufacturing Subcategory\n(Autofilled)","Identification of the methods that were used to determine compliance. \n(§63.9(h)(2)(i)(A)) \n(Autofilled)","Corresponding emissions or operating limit\n(Appendices - Table 1, 2, 3, 4, 15, or 16 To Subpart XXXX of Part 63)\n(Autofilled)","Name of file containing the results of any performance tests, opacity or visible emission observations, continuous monitoring system (CMS) performance evaluations, and/or other monitoring procedures or methods that were conducted.\n(§63.9(h)(2)(i)(B)) ","Name of file containing the Methods that will be used for Determining Continuing Compliance, including a description of monitoring and reporting requirements and test methods\n(§63.9(h)(2)(i)(C))","Name of the file containing the type and quantity of hazardous air pollutants emitted by the source (or surrogate pollutants)\n(§63.9(h)(2)(i)(D))","Name of file containing an analysis demonstrating whether the affected source is a major source (using the emissions data generated for this notification)\n(§63.9(h)(2)(i)(E))","Name of file containing the Descrip. of Air Pollution Control Equipment (or method) for each emission point, incl. each control device (or method) for each HAP and the control efficiency (percent) for each control device (or method)\n(§63.9(h)(2)(i)(F))"]
[null,"RecordId","OperationName","Subcategory","ComplianceOptions","EmissionLimit","AddFile1","AddFile2","AddFile3","AddFile4","AddFile5"]
[null,"e.g.: 1","e.g.: Mixer #1","e.g.: Tire Production","e.g.: Option 1—HAP constituent option","e.g.: a. Emissions of each HAP in Table 16 to this subpart must not exceed 1,000 grams HAP per megagram (2 pounds per ton) of total cements and solvents used at the tire production affected source, and b. Emissions of each HAP not in Table 16 to this subpart must not exceed 10,000 grams HAP per megagram (20 pounds per ton) of total cements and solvents used at the tire production affected source.","e.g.:mixer1data.pdf","e.g.:mixer1data.pdf","e.g.:mixer1data.pdf","e.g.:mixer1data.pdf","e.g.:mixer1data.pdf"]
[null,"e.g.: 2","e.g.: Extruder #1","e.g.: Tire cord Production","e.g.: Option 1.b (production-based option)—New or reconstructed tire cord production affected source","e.g.: Emissions must not exceed 220 grams HAP per megagram (0.43 pounds per ton) of fabric processed at the tire cord production affected source.","e.g.:extruder1data.pdf","e.g.:extruder1data.pdf","e.g.:extruder1data.pdf","e.g.:extruder1data.pdf","e.g.:extruder1data.pdf"]
[null,"e.g.:","e.g.:","e.g.:","e.g.:","e.g.:","e.g.:","e.g.:","e.g.:","e.g.:","e.g.:"]
[null,"e.g.:","e.g.:","e.g.:","e.g.:","e.g.:","e.g.:","e.g.:","e.g.:","e.g.:","e.g.:"]
[null,"e.g.:","e.g.:","e.g.:","e.g.:","e.g.:","e.g.:","e.g.:","e.g.:","e.g.:","e.g.:"]
[null,"e.g.:","e.g.:","e.g.:","e.g.:","e.g.:","e.g.:","e.g.:","e.g.:","e.g.:","e.g.:"]
[null,"e.g.:","e.g.:","e.g.:","e.g.:","e.g.:","e.g.:","e.g.:","e.g.:","e.g.:","e.g.:"]
[null,"e.g.:","e.g.:","e.g.:","e.g.:","e.g.:","e.g.:","e.g.:","e.g.:","e.g.:","e.g.:"]
[null,"e.g.:","e.g.:","e.g.:","e.g.:","e.g.:","e.g.:","e.g.:","e.g.:","e.g.:","e.g.:"]
[null,"e.g.:","e.g.:","e.g.:","e.g.:","e.g.:","e.g.:","e.g.:","e.g.:","e.g.:","e.g.:"]
[null,{"$f":"IF(Lists!BF2=\"\",\"\",Lists!BF2)","v":""},{"$f":"IF(Lists!BG2=\"\",\"\",Lists!BG2)","v":""},{"$f":"IF(Lists!BH2=\"\",\"\",Lists!BH2)","v":""},{"$f":"IF(Lists!BI2=\"\",\"\",Lists!BI2)","v":""},{"$f":"IF(Lists!BJ2=\"\",\"\",Lists!BJ2)","v":""}]
[null,{"$f":"IF(Lists!BF3=\"\",\"\",Lists!BF3)","v":""},{"$f":"IF(Lists!BG3=\"\",\"\",Lists!BG3)","v":""},{"$f":"IF(Lists!BH3=\"\",\"\",Lists!BH3)","v":""},{"$f":"IF(Lists!BI3=\"\",\"\",Lists!BI3)","v":""},{"$f":"IF(Lists!BJ3=\"\",\"\",Lists!BJ3)","v":""}]
[null,{"$f":"IF(Lists!BF4=\"\",\"\",Lists!BF4)","v":""},{"$f":"IF(Lists!BG4=\"\",\"\",Lists!BG4)","v":""},{"$f":"IF(Lists!BH4=\"\",\"\",Lists!BH4)","v":""},{"$f":"IF(Lists!BI4=\"\",\"\",Lists!BI4)","v":""},{"$f":"IF(Lists!BJ4=\"\",\"\",Lists!BJ4)","v":""}]
[null,{"$f":"IF(Lists!BF5=\"\",\"\",Lists!BF5)","v":""},{"$f":"IF(Lists!BG5=\"\",\"\",Lists!BG5)","v":""},{"$f":"IF(Lists!BH5=\"\",\"\",Lists!BH5)","v":""},{"$f":"IF(Lists!BI5=\"\",\"\",Lists!BI5)","v":""},{"$f":"IF(Lists!BJ5=\"\",\"\",Lists!BJ5)","v":""}]
[null,{"$f":"IF(Lists!BF6=\"\",\"\",Lists!BF6)","v":""},{"$f":"IF(Lists!BG6=\"\",\"\",Lists!BG6)","v":""},{"$f":"IF(Lists!BH6=\"\",\"\",Lists!BH6)","v":""},{"$f":"IF(Lists!BI6=\"\",\"\",Lists!BI6)","v":""},{"$f":"IF(Lists!BJ6=\"\",\"\",Lists!BJ6)","v":""}]
[null,{"$f":"IF(Lists!BF7=\"\",\"\",Lists!BF7)","v":""},{"$f":"IF(Lists!BG7=\"\",\"\",Lists!BG7)","v":""},{"$f":"IF(Lists!BH7=\"\",\"\",Lists!BH7)","v":""},{"$f":"IF(Lists!BI7=\"\",\"\",Lists!BI7)","v":""},{"$f":"IF(Lists!BJ7=\"\",\"\",Lists!BJ7)","v":""}]
[null,{"$f":"IF(Lists!BF8=\"\",\"\",Lists!BF8)","v":""},{"$f":"IF(Lists!BG8=\"\",\"\",Lists!BG8)","v":""},{"$f":"IF(Lists!BH8=\"\",\"\",Lists!BH8)","v":""},{"$f":"IF(Lists!BI8=\"\",\"\",Lists!BI8)","v":""},{"$f":"IF(Lists!BJ8=\"\",\"\",Lists!BJ8)","v":""}]
[null,{"$f":"IF(Lists!BF9=\"\",\"\",Lists!BF9)","v":""},{"$f":"IF(Lists!BG9=\"\",\"\",Lists!BG9)","v":""},{"$f":"IF(Lists!BH9=\"\",\"\",Lists!BH9)","v":""},{"$f":"IF(Lists!BI9=\"\",\"\",Lists!BI9)","v":""},{"$f":"IF(Lists!BJ9=\"\",\"\",Lists!BJ9)","v":""}]
[null,{"$f":"IF(Lists!BF10=\"\",\"\",Lists!BF10)","v":""},{"$f":"IF(Lists!BG10=\"\",\"\",Lists!BG10)","v":""},{"$f":"IF(Lists!BH10=\"\",\"\",Lists!BH10)","v":""},{"$f":"IF(Lists!BI10=\"\",\"\",Lists!BI10)","v":""},{"$f":"IF(Lists!BJ10=\"\",\"\",Lists!BJ10)","v":""}]
[null,{"$f":"IF(Lists!BF11=\"\",\"\",Lists!BF11)","v":""},{"$f":"IF(Lists!BG11=\"\",\"\",Lists!BG11)","v":""},{"$f":"IF(Lists!BH11=\"\",\"\",Lists!BH11)","v":""},{"$f":"IF(Lists!BI11=\"\",\"\",Lists!BI11)","v":""},{"$f":"IF(Lists!BJ11=\"\",\"\",Lists!BJ11)","v":""}]
[null,{"$f":"IF(Lists!BF12=\"\",\"\",Lists!BF12)","v":""},{"$f":"IF(Lists!BG12=\"\",\"\",Lists!BG12)","v":""},{"$f":"IF(Lists!BH12=\"\",\"\",Lists!BH12)","v":""},{"$f":"IF(Lists!BI12=\"\",\"\",Lists!BI12)","v":""},{"$f":"IF(Lists!BJ12=\"\",\"\",Lists!BJ12)","v":""}]
[null,{"$f":"IF(Lists!BF13=\"\",\"\",Lists!BF13)","v":""},{"$f":"IF(Lists!BG13=\"\",\"\",Lists!BG13)","v":""},{"$f":"IF(Lists!BH13=\"\",\"\",Lists!BH13)","v":""},{"$f":"IF(Lists!BI13=\"\",\"\",Lists!BI13)","v":""},{"$f":"IF(Lists!BJ13=\"\",\"\",Lists!BJ13)","v":""}]
[null,{"$f":"IF(Lists!BF14=\"\",\"\",Lists!BF14)","v":""},{"$f":"IF(Lists!BG14=\"\",\"\",Lists!BG14)","v":""},{"$f":"IF(Lists!BH14=\"\",\"\",Lists!BH14)","v":""},{"$f":"IF(Lists!BI14=\"\",\"\",Lists!BI14)","v":""},{"$f":"IF(Lists!BJ14=\"\",\"\",Lists!BJ14)","v":""}]
[null,{"$f":"IF(Lists!BF15=\"\",\"\",Lists!BF15)","v":""},{"$f":"IF(Lists!BG15=\"\",\"\",Lists!BG15)","v":""},{"$f":"IF(Lists!BH15=\"\",\"\",Lists!BH15)","v":""},{"$f":"IF(Lists!BI15=\"\",\"\",Lists!BI15)","v":""},{"$f":"IF(Lists!BJ15=\"\",\"\",Lists!BJ15)","v":""}]
[null,{"$f":"IF(Lists!BF16=\"\",\"\",Lists!BF16)","v":""},{"$f":"IF(Lists!BG16=\"\",\"\",Lists!BG16)","v":""},{"$f":"IF(Lists!BH16=\"\",\"\",Lists!BH16)","v":""},{"$f":"IF(Lists!BI16=\"\",\"\",Lists!BI16)","v":""},{"$f":"IF(Lists!BJ16=\"\",\"\",Lists!BJ16)","v":""}]
[null,{"$f":"IF(Lists!BF17=\"\",\"\",Lists!BF17)","v":""},{"$f":"IF(Lists!BG17=\"\",\"\",Lists!BG17)","v":""},{"$f":"IF(Lists!BH17=\"\",\"\",Lists!BH17)","v":""},{"$f":"IF(Lists!BI17=\"\",\"\",Lists!BI17)","v":""},{"$f":"IF(Lists!BJ17=\"\",\"\",Lists!BJ17)","v":""}]
[null,{"$f":"IF(Lists!BF18=\"\",\"\",Lists!BF18)","v":""},{"$f":"IF(Lists!BG18=\"\",\"\",Lists!BG18)","v":""},{"$f":"IF(Lists!BH18=\"\",\"\",Lists!BH18)","v":""},{"$f":"IF(Lists!BI18=\"\",\"\",Lists!BI18)","v":""},{"$f":"IF(Lists!BJ18=\"\",\"\",Lists!BJ18)","v":""}]
[null,{"$f":"IF(Lists!BF19=\"\",\"\",Lists!BF19)","v":""},{"$f":"IF(Lists!BG19=\"\",\"\",Lists!BG19)","v":""},{"$f":"IF(Lists!BH19=\"\",\"\",Lists!BH19)","v":""},{"$f":"IF(Lists!BI19=\"\",\"\",Lists!BI19)","v":""},{"$f":"IF(Lists!BJ19=\"\",\"\",Lists!BJ19)","v":""}]
[null,{"$f":"IF(Lists!BF20=\"\",\"\",Lists!BF20)","v":""},{"$f":"IF(Lists!BG20=\"\",\"\",Lists!BG20)","v":""},{"$f":"IF(Lists!BH20=\"\",\"\",Lists!BH20)","v":""},{"$f":"IF(Lists!BI20=\"\",\"\",Lists!BI20)","v":""},{"$f":"IF(Lists!BJ20=\"\",\"\",Lists!BJ20)","v":""}]
[null,{"$f":"IF(Lists!BF21=\"\",\"\",Lists!BF21)","v":""},{"$f":"IF(Lists!BG21=\"\",\"\",Lists!BG21)","v":""},{"$f":"IF(Lists!BH21=\"\",\"\",Lists!BH21)","v":""},{"$f":"IF(Lists!BI21=\"\",\"\",Lists!BI21)","v":""},{"$f":"IF(Lists!BJ21=\"\",\"\",Lists!BJ21)","v":""}]
[null,{"$f":"IF(Lists!BF22=\"\",\"\",Lists!BF22)","v":""},{"$f":"IF(Lists!BG22=\"\",\"\",Lists!BG22)","v":""},{"$f":"IF(Lists!BH22=\"\",\"\",Lists!BH22)","v":""},{"$f":"IF(Lists!BI22=\"\",\"\",Lists!BI22)","v":""},{"$f":"IF(Lists!BJ22=\"\",\"\",Lists!BJ22)","v":""}]
[null,{"$f":"IF(Lists!BF23=\"\",\"\",Lists!BF23)","v":""},{"$f":"IF(Lists!BG23=\"\",\"\",Lists!BG23)","v":""},{"$f":"IF(Lists!BH23=\"\",\"\",Lists!BH23)","v":""},{"$f":"IF(Lists!BI23=\"\",\"\",Lists!BI23)","v":""},{"$f":"IF(Lists!BJ23=\"\",\"\",Lists!BJ23)","v":""}]
[null,{"$f":"IF(Lists!BF24=\"\",\"\",Lists!BF24)","v":""},{"$f":"IF(Lists!BG24=\"\",\"\",Lists!BG24)","v":""},{"$f":"IF(Lists!BH24=\"\",\"\",Lists!BH24)","v":""},{"$f":"IF(Lists!BI24=\"\",\"\",Lists!BI24)","v":""},{"$f":"IF(Lists!BJ24=\"\",\"\",Lists!BJ24)","v":""}]
[null,{"$f":"IF(Lists!BF25=\"\",\"\",Lists!BF25)","v":""},{"$f":"IF(Lists!BG25=\"\",\"\",Lists!BG25)","v":""},{"$f":"IF(Lists!BH25=\"\",\"\",Lists!BH25)","v":""},{"$f":"IF(Lists!BI25=\"\",\"\",Lists!BI25)","v":""},{"$f":"IF(Lists!BJ25=\"\",\"\",Lists!BJ25)","v":""}]
[null,{"$f":"IF(Lists!BF26=\"\",\"\",Lists!BF26)","v":""},{"$f":"IF(Lists!BG26=\"\",\"\",Lists!BG26)","v":""},{"$f":"IF(Lists!BH26=\"\",\"\",Lists!BH26)","v":""},{"$f":"IF(Lists!BI26=\"\",\"\",Lists!BI26)","v":""},{"$f":"IF(Lists!BJ26=\"\",\"\",Lists!BJ26)","v":""}]
[null,{"$f":"IF(Lists!BF27=\"\",\"\",Lists!BF27)","v":""},{"$f":"IF(Lists!BG27=\"\",\"\",Lists!BG27)","v":""},{"$f":"IF(Lists!BH27=\"\",\"\",Lists!BH27)","v":""},{"$f":"IF(Lists!BI27=\"\",\"\",Lists!BI27)","v":""},{"$f":"IF(Lists!BJ27=\"\",\"\",Lists!BJ27)","v":""}]
[null,{"$f":"IF(Lists!BF28=\"\",\"\",Lists!BF28)","v":""},{"$f":"IF(Lists!BG28=\"\",\"\",Lists!BG28)","v":""},{"$f":"IF(Lists!BH28=\"\",\"\",Lists!BH28)","v":""},{"$f":"IF(Lists!BI28=\"\",\"\",Lists!BI28)","v":""},{"$f":"IF(Lists!BJ28=\"\",\"\",Lists!BJ28)","v":""}]
[null,{"$f":"IF(Lists!BF29=\"\",\"\",Lists!BF29)","v":""},{"$f":"IF(Lists!BG29=\"\",\"\",Lists!BG29)","v":""},{"$f":"IF(Lists!BH29=\"\",\"\",Lists!BH29)","v":""},{"$f":"IF(Lists!BI29=\"\",\"\",Lists!BI29)","v":""},{"$f":"IF(Lists!BJ29=\"\",\"\",Lists!BJ29)","v":""}]
[null,{"$f":"IF(Lists!BF30=\"\",\"\",Lists!BF30)","v":""},{"$f":"IF(Lists!BG30=\"\",\"\",Lists!BG30)","v":""},{"$f":"IF(Lists!BH30=\"\",\"\",Lists!BH30)","v":""},{"$f":"IF(Lists!BI30=\"\",\"\",Lists!BI30)","v":""},{"$f":"IF(Lists!BJ30=\"\",\"\",Lists!BJ30)","v":""}]
[null,{"$f":"IF(Lists!BF31=\"\",\"\",Lists!BF31)","v":""},{"$f":"IF(Lists!BG31=\"\",\"\",Lists!BG31)","v":""},{"$f":"IF(Lists!BH31=\"\",\"\",Lists!BH31)","v":""},{"$f":"IF(Lists!BI31=\"\",\"\",Lists!BI31)","v":""},{"$f":"IF(Lists!BJ31=\"\",\"\",Lists!BJ31)","v":""}]
[null,{"$f":"IF(Lists!BF32=\"\",\"\",Lists!BF32)","v":""},{"$f":"IF(Lists!BG32=\"\",\"\",Lists!BG32)","v":""},{"$f":"IF(Lists!BH32=\"\",\"\",Lists!BH32)","v":""},{"$f":"IF(Lists!BI32=\"\",\"\",Lists!BI32)","v":""},{"$f":"IF(Lists!BJ32=\"\",\"\",Lists!BJ32)","v":""}]
[null,{"$f":"IF(Lists!BF33=\"\",\"\",Lists!BF33)","v":""},{"$f":"IF(Lists!BG33=\"\",\"\",Lists!BG33)","v":""},{"$f":"IF(Lists!BH33=\"\",\"\",Lists!BH33)","v":""},{"$f":"IF(Lists!BI33=\"\",\"\",Lists!BI33)","v":""},{"$f":"IF(Lists!BJ33=\"\",\"\",Lists!BJ33)","v":""}]
[null,{"$f":"IF(Lists!BF34=\"\",\"\",Lists!BF34)","v":""},{"$f":"IF(Lists!BG34=\"\",\"\",Lists!BG34)","v":""},{"$f":"IF(Lists!BH34=\"\",\"\",Lists!BH34)","v":""},{"$f":"IF(Lists!BI34=\"\",\"\",Lists!BI34)","v":""},{"$f":"IF(Lists!BJ34=\"\",\"\",Lists!BJ34)","v":""}]
[null,{"$f":"IF(Lists!BF35=\"\",\"\",Lists!BF35)","v":""},{"$f":"IF(Lists!BG35=\"\",\"\",Lists!BG35)","v":""},{"$f":"IF(Lists!BH35=\"\",\"\",Lists!BH35)","v":""},{"$f":"IF(Lists!BI35=\"\",\"\",Lists!BI35)","v":""},{"$f":"IF(Lists!BJ35=\"\",\"\",Lists!BJ35)","v":""}]
[null,{"$f":"IF(Lists!BF36=\"\",\"\",Lists!BF36)","v":""},{"$f":"IF(Lists!BG36=\"\",\"\",Lists!BG36)","v":""},{"$f":"IF(Lists!BH36=\"\",\"\",Lists!BH36)","v":""},{"$f":"IF(Lists!BI36=\"\",\"\",Lists!BI36)","v":""},{"$f":"IF(Lists!BJ36=\"\",\"\",Lists!BJ36)","v":""}]
[null,{"$f":"IF(Lists!BF37=\"\",\"\",Lists!BF37)","v":""},{"$f":"IF(Lists!BG37=\"\",\"\",Lists!BG37)","v":""},{"$f":"IF(Lists!BH37=\"\",\"\",Lists!BH37)","v":""},{"$f":"IF(Lists!BI37=\"\",\"\",Lists!BI37)","v":""},{"$f":"IF(Lists!BJ37=\"\",\"\",Lists!BJ37)","v":""}]
[null,{"$f":"IF(Lists!BF38=\"\",\"\",Lists!BF38)","v":""},{"$f":"IF(Lists!BG38=\"\",\"\",Lists!BG38)","v":""},{"$f":"IF(Lists!BH38=\"\",\"\",Lists!BH38)","v":""},{"$f":"IF(Lists!BI38=\"\",\"\",Lists!BI38)","v":""},{"$f":"IF(Lists!BJ38=\"\",\"\",Lists!BJ38)","v":""}]
[null,{"$f":"IF(Lists!BF39=\"\",\"\",Lists!BF39)","v":""},{"$f":"IF(Lists!BG39=\"\",\"\",Lists!BG39)","v":""},{"$f":"IF(Lists!BH39=\"\",\"\",Lists!BH39)","v":""},{"$f":"IF(Lists!BI39=\"\",\"\",Lists!BI39)","v":""},{"$f":"IF(Lists!BJ39=\"\",\"\",Lists!BJ39)","v":""}]
[null,{"$f":"IF(Lists!BF40=\"\",\"\",Lists!BF40)","v":""},{"$f":"IF(Lists!BG40=\"\",\"\",Lists!BG40)","v":""},{"$f":"IF(Lists!BH40=\"\",\"\",Lists!BH40)","v":""},{"$f":"IF(Lists!BI40=\"\",\"\",Lists!BI40)","v":""},{"$f":"IF(Lists!BJ40=\"\",\"\",Lists!BJ40)","v":""}]
[null,{"$f":"IF(Lists!BF41=\"\",\"\",Lists!BF41)","v":""},{"$f":"IF(Lists!BG41=\"\",\"\",Lists!BG41)","v":""},{"$f":"IF(Lists!BH41=\"\",\"\",Lists!BH41)","v":""},{"$f":"IF(Lists!BI41=\"\",\"\",Lists!BI41)","v":""},{"$f":"IF(Lists!BJ41=\"\",\"\",Lists!BJ41)","v":""}]
[null,{"$f":"IF(Lists!BF42=\"\",\"\",Lists!BF42)","v":""},{"$f":"IF(Lists!BG42=\"\",\"\",Lists!BG42)","v":""},{"$f":"IF(Lists!BH42=\"\",\"\",Lists!BH42)","v":""},{"$f":"IF(Lists!BI42=\"\",\"\",Lists!BI42)","v":""},{"$f":"IF(Lists!BJ42=\"\",\"\",Lists!BJ42)","v":""}]
[null,{"$f":"IF(Lists!BF43=\"\",\"\",Lists!BF43)","v":""},{"$f":"IF(Lists!BG43=\"\",\"\",Lists!BG43)","v":""},{"$f":"IF(Lists!BH43=\"\",\"\",Lists!BH43)","v":""},{"$f":"IF(Lists!BI43=\"\",\"\",Lists!BI43)","v":""},{"$f":"IF(Lists!BJ43=\"\",\"\",Lists!BJ43)","v":""}]
[null,{"$f":"IF(Lists!BF44=\"\",\"\",Lists!BF44)","v":""},{"$f":"IF(Lists!BG44=\"\",\"\",Lists!BG44)","v":""},{"$f":"IF(Lists!BH44=\"\",\"\",Lists!BH44)","v":""},{"$f":"IF(Lists!BI44=\"\",\"\",Lists!BI44)","v":""},{"$f":"IF(Lists!BJ44=\"\",\"\",Lists!BJ44)","v":""}]
[null,{"$f":"IF(Lists!BF45=\"\",\"\",Lists!BF45)","v":""},{"$f":"IF(Lists!BG45=\"\",\"\",Lists!BG45)","v":""},{"$f":"IF(Lists!BH45=\"\",\"\",Lists!BH45)","v":""},{"$f":"IF(Lists!BI45=\"\",\"\",Lists!BI45)","v":""},{"$f":"IF(Lists!BJ45=\"\",\"\",Lists!BJ45)","v":""}]
[null,{"$f":"IF(Lists!BF46=\"\",\"\",Lists!BF46)","v":""},{"$f":"IF(Lists!BG46=\"\",\"\",Lists!BG46)","v":""},{"$f":"IF(Lists!BH46=\"\",\"\",Lists!BH46)","v":""},{"$f":"IF(Lists!BI46=\"\",\"\",Lists!BI46)","v":""},{"$f":"IF(Lists!BJ46=\"\",\"\",Lists!BJ46)","v":""}]
[null,{"$f":"IF(Lists!BF47=\"\",\"\",Lists!BF47)","v":""},{"$f":"IF(Lists!BG47=\"\",\"\",Lists!BG47)","v":""},{"$f":"IF(Lists!BH47=\"\",\"\",Lists!BH47)","v":""},{"$f":"IF(Lists!BI47=\"\",\"\",Lists!BI47)","v":""},{"$f":"IF(Lists!BJ47=\"\",\"\",Lists!BJ47)","v":""}]
[null,{"$f":"IF(Lists!BF48=\"\",\"\",Lists!BF48)","v":""},{"$f":"IF(Lists!BG48=\"\",\"\",Lists!BG48)","v":""},{"$f":"IF(Lists!BH48=\"\",\"\",Lists!BH48)","v":""},{"$f":"IF(Lists!BI48=\"\",\"\",Lists!BI48)","v":""},{"$f":"IF(Lists!BJ48=\"\",\"\",Lists!BJ48)","v":""}]
[null,{"$f":"IF(Lists!BF49=\"\",\"\",Lists!BF49)","v":""},{"$f":"IF(Lists!BG49=\"\",\"\",Lists!BG49)","v":""},{"$f":"IF(Lists!BH49=\"\",\"\",Lists!BH49)","v":""},{"$f":"IF(Lists!BI49=\"\",\"\",Lists!BI49)","v":""},{"$f":"IF(Lists!BJ49=\"\",\"\",Lists!BJ49)","v":""}]
[null,{"$f":"IF(Lists!BF50=\"\",\"\",Lists!BF50)","v":""},{"$f":"IF(Lists!BG50=\"\",\"\",Lists!BG50)","v":""},{"$f":"IF(Lists!BH50=\"\",\"\",Lists!BH50)","v":""},{"$f":"IF(Lists!BI50=\"\",\"\",Lists!BI50)","v":""},{"$f":"IF(Lists!BJ50=\"\",\"\",Lists!BJ50)","v":""}]
[null,{"$f":"IF(Lists!BF51=\"\",\"\",Lists!BF51)","v":""},{"$f":"IF(Lists!BG51=\"\",\"\",Lists!BG51)","v":""},{"$f":"IF(Lists!BH51=\"\",\"\",Lists!BH51)","v":""},{"$f":"IF(Lists!BI51=\"\",\"\",Lists!BI51)","v":""},{"$f":"IF(Lists!BJ51=\"\",\"\",Lists!BJ51)","v":""}]
[null,{"$f":"IF(Lists!BF52=\"\",\"\",Lists!BF52)","v":""},{"$f":"IF(Lists!BG52=\"\",\"\",Lists!BG52)","v":""},{"$f":"IF(Lists!BH52=\"\",\"\",Lists!BH52)","v":""},{"$f":"IF(Lists!BI52=\"\",\"\",Lists!BI52)","v":""},{"$f":"IF(Lists!BJ52=\"\",\"\",Lists!BJ52)","v":""}]
[null,{"$f":"IF(Lists!BF53=\"\",\"\",Lists!BF53)","v":""},{"$f":"IF(Lists!BG53=\"\",\"\",Lists!BG53)","v":""},{"$f":"IF(Lists!BH53=\"\",\"\",Lists!BH53)","v":""},{"$f":"IF(Lists!BI53=\"\",\"\",Lists!BI53)","v":""},{"$f":"IF(Lists!BJ53=\"\",\"\",Lists!BJ53)","v":""}]
[null,{"$f":"IF(Lists!BF54=\"\",\"\",Lists!BF54)","v":""},{"$f":"IF(Lists!BG54=\"\",\"\",Lists!BG54)","v":""},{"$f":"IF(Lists!BH54=\"\",\"\",Lists!BH54)","v":""},{"$f":"IF(Lists!BI54=\"\",\"\",Lists!BI54)","v":""},{"$f":"IF(Lists!BJ54=\"\",\"\",Lists!BJ54)","v":""}]
[null,{"$f":"IF(Lists!BF55=\"\",\"\",Lists!BF55)","v":""},{"$f":"IF(Lists!BG55=\"\",\"\",Lists!BG55)","v":""},{"$f":"IF(Lists!BH55=\"\",\"\",Lists!BH55)","v":""},{"$f":"IF(Lists!BI55=\"\",\"\",Lists!BI55)","v":""},{"$f":"IF(Lists!BJ55=\"\",\"\",Lists!BJ55)","v":""}]
[null,{"$f":"IF(Lists!BF56=\"\",\"\",Lists!BF56)","v":""},{"$f":"IF(Lists!BG56=\"\",\"\",Lists!BG56)","v":""},{"$f":"IF(Lists!BH56=\"\",\"\",Lists!BH56)","v":""},{"$f":"IF(Lists!BI56=\"\",\"\",Lists!BI56)","v":""},{"$f":"IF(Lists!BJ56=\"\",\"\",Lists!BJ56)","v":""}]
[null,{"$f":"IF(Lists!BF57=\"\",\"\",Lists!BF57)","v":""},{"$f":"IF(Lists!BG57=\"\",\"\",Lists!BG57)","v":""},{"$f":"IF(Lists!BH57=\"\",\"\",Lists!BH57)","v":""},{"$f":"IF(Lists!BI57=\"\",\"\",Lists!BI57)","v":""},{"$f":"IF(Lists!BJ57=\"\",\"\",Lists!BJ57)","v":""}]
[null,{"$f":"IF(Lists!BF58=\"\",\"\",Lists!BF58)","v":""},{"$f":"IF(Lists!BG58=\"\",\"\",Lists!BG58)","v":""},{"$f":"IF(Lists!BH58=\"\",\"\",Lists!BH58)","v":""},{"$f":"IF(Lists!BI58=\"\",\"\",Lists!BI58)","v":""},{"$f":"IF(Lists!BJ58=\"\",\"\",Lists!BJ58)","v":""}]
[null,{"$f":"IF(Lists!BF59=\"\",\"\",Lists!BF59)","v":""},{"$f":"IF(Lists!BG59=\"\",\"\",Lists!BG59)","v":""},{"$f":"IF(Lists!BH59=\"\",\"\",Lists!BH59)","v":""},{"$f":"IF(Lists!BI59=\"\",\"\",Lists!BI59)","v":""},{"$f":"IF(Lists!BJ59=\"\",\"\",Lists!BJ59)","v":""}]
[null,{"$f":"IF(Lists!BF60=\"\",\"\",Lists!BF60)","v":""},{"$f":"IF(Lists!BG60=\"\",\"\",Lists!BG60)","v":""},{"$f":"IF(Lists!BH60=\"\",\"\",Lists!BH60)","v":""},{"$f":"IF(Lists!BI60=\"\",\"\",Lists!BI60)","v":""},{"$f":"IF(Lists!BJ60=\"\",\"\",Lists!BJ60)","v":""}]
[null,{"$f":"IF(Lists!BF61=\"\",\"\",Lists!BF61)","v":""},{"$f":"IF(Lists!BG61=\"\",\"\",Lists!BG61)","v":""},{"$f":"IF(Lists!BH61=\"\",\"\",Lists!BH61)","v":""},{"$f":"IF(Lists!BI61=\"\",\"\",Lists!BI61)","v":""},{"$f":"IF(Lists!BJ61=\"\",\"\",Lists!BJ61)","v":""}]
[null,{"$f":"IF(Lists!BF62=\"\",\"\",Lists!BF62)","v":""},{"$f":"IF(Lists!BG62=\"\",\"\",Lists!BG62)","v":""},{"$f":"IF(Lists!BH62=\"\",\"\",Lists!BH62)","v":""},{"$f":"IF(Lists!BI62=\"\",\"\",Lists!BI62)","v":""},{"$f":"IF(Lists!BJ62=\"\",\"\",Lists!BJ62)","v":""}]
[null,{"$f":"IF(Lists!BF63=\"\",\"\",Lists!BF63)","v":""},{"$f":"IF(Lists!BG63=\"\",\"\",Lists!BG63)","v":""},{"$f":"IF(Lists!BH63=\"\",\"\",Lists!BH63)","v":""},{"$f":"IF(Lists!BI63=\"\",\"\",Lists!BI63)","v":""},{"$f":"IF(Lists!BJ63=\"\",\"\",Lists!BJ63)","v":""}]
[null,{"$f":"IF(Lists!BF64=\"\",\"\",Lists!BF64)","v":""},{"$f":"IF(Lists!BG64=\"\",\"\",Lists!BG64)","v":""},{"$f":"IF(Lists!BH64=\"\",\"\",Lists!BH64)","v":""},{"$f":"IF(Lists!BI64=\"\",\"\",Lists!BI64)","v":""},{"$f":"IF(Lists!BJ64=\"\",\"\",Lists!BJ64)","v":""}]
[null,{"$f":"IF(Lists!BF65=\"\",\"\",Lists!BF65)","v":""},{"$f":"IF(Lists!BG65=\"\",\"\",Lists!BG65)","v":""},{"$f":"IF(Lists!BH65=\"\",\"\",Lists!BH65)","v":""},{"$f":"IF(Lists!BI65=\"\",\"\",Lists!BI65)","v":""},{"$f":"IF(Lists!BJ65=\"\",\"\",Lists!BJ65)","v":""}]
[null,{"$f":"IF(Lists!BF66=\"\",\"\",Lists!BF66)","v":""},{"$f":"IF(Lists!BG66=\"\",\"\",Lists!BG66)","v":""},{"$f":"IF(Lists!BH66=\"\",\"\",Lists!BH66)","v":""},{"$f":"IF(Lists!BI66=\"\",\"\",Lists!BI66)","v":""},{"$f":"IF(Lists!BJ66=\"\",\"\",Lists!BJ66)","v":""}]
[null,{"$f":"IF(Lists!BF67=\"\",\"\",Lists!BF67)","v":""},{"$f":"IF(Lists!BG67=\"\",\"\",Lists!BG67)","v":""},{"$f":"IF(Lists!BH67=\"\",\"\",Lists!BH67)","v":""},{"$f":"IF(Lists!BI67=\"\",\"\",Lists!BI67)","v":""},{"$f":"IF(Lists!BJ67=\"\",\"\",Lists!BJ67)","v":""}]
[null,{"$f":"IF(Lists!BF68=\"\",\"\",Lists!BF68)","v":""},{"$f":"IF(Lists!BG68=\"\",\"\",Lists!BG68)","v":""},{"$f":"IF(Lists!BH68=\"\",\"\",Lists!BH68)","v":""},{"$f":"IF(Lists!BI68=\"\",\"\",Lists!BI68)","v":""},{"$f":"IF(Lists!BJ68=\"\",\"\",Lists!BJ68)","v":""}]
[null,{"$f":"IF(Lists!BF69=\"\",\"\",Lists!BF69)","v":""},{"$f":"IF(Lists!BG69=\"\",\"\",Lists!BG69)","v":""},{"$f":"IF(Lists!BH69=\"\",\"\",Lists!BH69)","v":""},{"$f":"IF(Lists!BI69=\"\",\"\",Lists!BI69)","v":""},{"$f":"IF(Lists!BJ69=\"\",\"\",Lists!BJ69)","v":""}]
[null,{"$f":"IF(Lists!BF70=\"\",\"\",Lists!BF70)","v":""},{"$f":"IF(Lists!BG70=\"\",\"\",Lists!BG70)","v":""},{"$f":"IF(Lists!BH70=\"\",\"\",Lists!BH70)","v":""},{"$f":"IF(Lists!BI70=\"\",\"\",Lists!BI70)","v":""},{"$f":"IF(Lists!BJ70=\"\",\"\",Lists!BJ70)","v":""}]
[null,{"$f":"IF(Lists!BF71=\"\",\"\",Lists!BF71)","v":""},{"$f":"IF(Lists!BG71=\"\",\"\",Lists!BG71)","v":""},{"$f":"IF(Lists!BH71=\"\",\"\",Lists!BH71)","v":""},{"$f":"IF(Lists!BI71=\"\",\"\",Lists!BI71)","v":""},{"$f":"IF(Lists!BJ71=\"\",\"\",Lists!BJ71)","v":""}]
[null,{"$f":"IF(Lists!BF72=\"\",\"\",Lists!BF72)","v":""},{"$f":"IF(Lists!BG72=\"\",\"\",Lists!BG72)","v":""},{"$f":"IF(Lists!BH72=\"\",\"\",Lists!BH72)","v":""},{"$f":"IF(Lists!BI72=\"\",\"\",Lists!BI72)","v":""},{"$f":"IF(Lists!BJ72=\"\",\"\",Lists!BJ72)","v":""}]
[null,{"$f":"IF(Lists!BF73=\"\",\"\",Lists!BF73)","v":""},{"$f":"IF(Lists!BG73=\"\",\"\",Lists!BG73)","v":""},{"$f":"IF(Lists!BH73=\"\",\"\",Lists!BH73)","v":""},{"$f":"IF(Lists!BI73=\"\",\"\",Lists!BI73)","v":""},{"$f":"IF(Lists!BJ73=\"\",\"\",Lists!BJ73)","v":""}]
[null,{"$f":"IF(Lists!BF74=\"\",\"\",Lists!BF74)","v":""},{"$f":"IF(Lists!BG74=\"\",\"\",Lists!BG74)","v":""},{"$f":"IF(Lists!BH74=\"\",\"\",Lists!BH74)","v":""},{"$f":"IF(Lists!BI74=\"\",\"\",Lists!BI74)","v":""},{"$f":"IF(Lists!BJ74=\"\",\"\",Lists!BJ74)","v":""}]
[null,{"$f":"IF(Lists!BF75=\"\",\"\",Lists!BF75)","v":""},{"$f":"IF(Lists!BG75=\"\",\"\",Lists!BG75)","v":""},{"$f":"IF(Lists!BH75=\"\",\"\",Lists!BH75)","v":""},{"$f":"IF(Lists!BI75=\"\",\"\",Lists!BI75)","v":""},{"$f":"IF(Lists!BJ75=\"\",\"\",Lists!BJ75)","v":""}]
[null,{"$f":"IF(Lists!BF76=\"\",\"\",Lists!BF76)","v":""},{"$f":"IF(Lists!BG76=\"\",\"\",Lists!BG76)","v":""},{"$f":"IF(Lists!BH76=\"\",\"\",Lists!BH76)","v":""},{"$f":"IF(Lists!BI76=\"\",\"\",Lists!BI76)","v":""},{"$f":"IF(Lists!BJ76=\"\",\"\",Lists!BJ76)","v":""}]
[null,{"$f":"IF(Lists!BF77=\"\",\"\",Lists!BF77)","v":""},{"$f":"IF(Lists!BG77=\"\",\"\",Lists!BG77)","v":""},{"$f":"IF(Lists!BH77=\"\",\"\",Lists!BH77)","v":""},{"$f":"IF(Lists!BI77=\"\",\"\",Lists!BI77)","v":""},{"$f":"IF(Lists!BJ77=\"\",\"\",Lists!BJ77)","v":""}]
[null,{"$f":"IF(Lists!BF78=\"\",\"\",Lists!BF78)","v":""},{"$f":"IF(Lists!BG78=\"\",\"\",Lists!BG78)","v":""},{"$f":"IF(Lists!BH78=\"\",\"\",Lists!BH78)","v":""},{"$f":"IF(Lists!BI78=\"\",\"\",Lists!BI78)","v":""},{"$f":"IF(Lists!BJ78=\"\",\"\",Lists!BJ78)","v":""}]

{"sheet":"NOCS_TireProduction","index":5,"n_rows":524,"n_cols":13,"rows_kept":524,"hidden":true}
[null,"DO NOT REMOVE OR EDIT INFORMATION IN THIS SECTION\nFOR INTERNAL USE ONLY"]
[null,"Template Name",{"$f":"Welcome!B2","v":"63.6016(k) Notification of Compliance and  §63.6017(g) Semiannual Compliance Report (Spreadsheet Template)"}]
[null,"CitationID",{"$f":"Welcome!B3","v":"63.6016(k) and 63.6017(g)"}]
[null,"Template Version",{"$f":"Welcome!B4","v":"Final ICR Draft"}]
[null,"Last Updated Date",{"$f":"Welcome!B5","v":"2024-08-28"}]
[null,{"$f":"Welcome!B6","v":"OMB Control Number: 2060-0449 Form 5900-659"}]
[null,"40 CFR Part 63, Subpart XXXX National Emission Standards for Hazardous Air Pollutants: Rubber Tire Manufacturing -"]
[null,"\n"]
[]
[null,"Note: Columns B through D will be autofilled based on responses provided in the Compliance_Options worksheet and selecting from dropdown in Column E."]
[null,"63.6016(k) Notification of Compliance Status - continued"]
[null,"Company Record No.\n(Autofilled)","Name of Rubber Tire Manufacturing Affected Source\n(§63.9(h))\n(Autofilled)","Rubber Tire Manufacturing Subcategory\n(Autofilled)","For each tire production affected source, provide the emission limit option in §63.5984 that you have chosen to meet\n(§63.6016(f))\n(Autofilled)","For each tire production affected source, provide the compliance alternative in §63.5985 that you have chosen to meet\n(§63.6016(f))\n(Autofilled)","Company Record No., Name of Rubber Tire Manufacturing Affected Source, and Subcategory\n(§63.9(h))\n(Select from dropdown)","For each tire production affected source complying with the purchase compliance alternative in §63.5985(a),  provide list of each cement and solvent, as purchased\n(§63.6016(g)(1))","For each tire production affected source complying with the purchase compliance alternative in §63.5985(a),  provide list manufacturer or supplier for each cement or solvent listed in column F\n(§63.6016(g)(1))","For each tire production affected source complying with the purchase compliance alternative in §63.5985(a), provide the individual HAP content (percent by mass) of each cement and solvent that is used\n(§63.6016(g)(2))","For each tire production affected source using control device, provide the operating parameter found in §63.5994(e)(1) that applies to you\n(§63.6016(h)(1))\n(Select from dropdown)","For each tire production affected source using control device, for each operating parameter in §63.5994(e)(1) that applies to you, provide operating parameter value avg over full period of the perform. test\n(§63.6016(h)(1))","For each tire production affected source using control device, for each operating param. in §63.5994(e)(1) that applies to you, provide operating parameter range w/in which HAP emissions are reduced\n(§63.6016(h)(2))"]
[null,"RecordId","OperationName","Subcategory","EmissionLimitOption","ComplianceAlternative","RecordSourceSubcategory","CementsAndSolventsUsed","CementOrSolventManufacturer","HAPContent","OperatingParameter","OperatingParameterAvg","OperatingParameterEmissions"]
[null,"e.g.: 1","e.g.: Curing Press","e.g.: Tire Production","e.g.: Option 1 - HAP constituent option","e.g.: Purchase alternative","e.g.: 1 Curing Press Tire Production","e.g.: cement","e.g.: Manufacturer X","e.g.: 0.05","e.g.: Thermal oxidizer","e.g.: 1,500 degrees Fahrenheit","e.g.: 1.00-2.00"]
[null,"e.g.:","e.g.:","e.g.:","e.g.:","e.g.:","e.g.:","e.g.:","e.g.:","e.g.:","e.g.:","e.g.:","e.g.:"]
[null,"e.g.:","e.g.:","e.g.:","e.g.:","e.g.:","e.g.:","e.g.:","e.g.:","e.g.:","e.g.:","e.g.:","e.g.:"]
[null,"e.g.:","e.g.:","e.g.:","e.g.:","e.g.:","e.g.:","e.g.:","e.g.:","e.g.:","e.g.:","e.g.:","e.g.:"]
[null,"e.g.:","e.g.:","e.g.:","e.g.:","e.g.:","e.g.:","e.g.:","e.g.:","e.g.:","e.g.:","e.g.:","e.g.:"]
[null,"e.g.:","e.g.:","e.g.:","e.g.:","e.g.:","e.g.:","e.g.:","e.g.:","e.g.:","e.g.:","e.g.:","e.g.:"]
[null,"e.g.:","e.g.:","e.g.:","e.g.:","e.g.:","e.g.:","e.g.:","e.g.:","e.g.:","e.g.:","e.g.:","e.g.:"]
[null,"e.g.:","e.g.:","e.g.:","e.g.:","e.g.:","e.g.:","e.g.:","e.g.:","e.g.:","e.g.:","e.g.:","e.g.:"]
[null,"e.g.:","e.g.:","e.g.:","e.g.:","e.g.:","e.g.:","e.g.:","e.g.:","e.g.:","e.g.:","e.g.:","e.g.:"]
[null,"e.g.:","e.g.:","e.g.:","e.g.:","e.g.:","e.g.:","e.g.:","e.g.:","e.g.:","e.g.:","e.g.:","e.g.:"]
[null,{"$f":"IF($G24=\"\",\"\",VLOOKUP($G24,Lists!$BM$2:$BR$478,COLUMN(),FALSE))","v":""},{"$f":"IF($G24=\"\",\"\",VLOOKUP($G24,Lists!$BM$2:$BR$478,COLUMN(),FALSE))","v":""},{"$f":"IF($G24=\"\",\"\",VLOOKUP($G24,Lists!$BM$2:$BR$478,COLUMN(),FALSE))","v":""},{"$f":"IF($G24=\"\",\"\",VLOOKUP($G24,Lists!$BM$2:$BR$478,COLUMN(),FALSE))","v":""},{"$f":"IF($G24=\"\",\"\",VLOOKUP($G24,Lists!$BM$2:$BR$478,COLUMN(),FALSE))","v":""}]
[null,{"$f":"IF($G25=\"\",\"\",VLOOKUP($G25,Lists!$BM$2:$BR$478,COLUMN(),FALSE))","v":""},{"$f":"IF($G25=\"\",\"\",VLOOKUP($G25,Lists!$BM$2:$BR$478,COLUMN(),FALSE))","v":""},{"$f":"IF($G25=\"\",\"\",VLOOKUP($G25,Lists!$BM$2:$BR$478,COLUMN(),FALSE))","v":""},{"$f":"IF($G25=\"\",\"\",VLOOKUP($G25,Lists!$BM$2:$BR$478,COLUMN(),FALSE))","v":""},{"$f":"IF($G25=\"\",\"\",VLOOKUP($G25,Lists!$BM$2:$BR$478,COLUMN(),FALSE))","v":""}]
[null,{"$f":"IF($G26=\"\",\"\",VLOOKUP($G26,Lists!$BM$2:$BR$478,COLUMN(),FALSE))","v":""},{"$f":"IF($G26=\"\",\"\",VLOOKUP($G26,Lists!$BM$2:$BR$478,COLUMN(),FALSE))","v":""},{"$f":"IF($G26=\"\",\"\",VLOOKUP($G26,Lists!$BM$2:$BR$478,COLUMN(),FALSE))","v":""},{"$f":"IF($G26=\"\",\"\",VLOOKUP($G26,Lists!$BM$2:$BR$478,COLUMN(),FALSE))","v":""},{"$f":"IF($G26=\"\",\"\",VLOOKUP($G26,Lists!$BM$2:$BR$478,COLUMN(),FALSE))","v":""}]
[null,{"$f":"IF($G27=\"\",\"\",VLOOKUP($G27,Lists!$BM$2:$BR$478,COLUMN(),FALSE))","v":""},{"$f":"IF($G27=\"\",\"\",VLOOKUP($G27,Lists!$BM$2:$BR$478,COLUMN(),FALSE))","v":""},{"$f":"IF($G27=\"\",\"\",VLOOKUP($G27,Lists!$BM$2:$BR$478,COLUMN(),FALSE))","v":""},{"$f":"IF($G27=\"\",\"\",VLOOKUP($G27,Lists!$BM$2:$BR$478,COLUMN(),FALSE))","v":""},{"$f":"IF($G27=\"\",\"\",VLOOKUP($G27,Lists!$BM$2:$BR$478,COLUMN(),FALSE))","v":""}]
[null,{"$f":"IF($G28=\"\",\"\",VLOOKUP($G28,Lists!$BM$2:$BR$478,COLUMN(),FALSE))","v":""},{"$f":"IF($G28=\"\",\"\",VLOOKUP($G28,Lists!$BM$2:$BR$478,COLUMN(),FALSE))","v":""},{"$f":"IF($G28=\"\",\"\",VLOOKUP($G28,Lists!$BM$2:$BR$478,COLUMN(),FALSE))","v":""},{"$f":"IF($G28=\"\",\"\",VLOOKUP($G28,Lists!$BM$2:$BR$478,COLUMN(),FALSE))","v":""},{"$f":"IF($G28=\"\",\"\",VLOOKUP($G28,Lists!$BM$2:$BR$478,COLUMN(),FALSE))","v":""}]
[null,{"$f":"IF($G29=\"\",\"\",VLOOKUP($G29,Lists!$BM$2:$BR$478,COLUMN(),FALSE))","v":""},{"$f":"IF($G29=\"\",\"\",VLOOKUP($G29,Lists!$BM$2:$BR$478,COLUMN(),FALSE))","v":""},{"$f":"IF($G29=\"\",\"\",VLOOKUP($G29,Lists!$BM$2:$BR$478,COLUMN(),FALSE))","v":""},{"$f":"IF($G29=\"\",\"\",VLOOKUP($G29,Lists!$BM$2:$BR$478,COLUMN(),FALSE))","v":""},{"$f":"IF($G29=\"\",\"\",VLOOKUP($G29,Lists!$BM$2:$BR$478,COLUMN(),FALSE))","v":""}]
[null,{"$f":"IF($G30=\"\",\"\",VLOOKUP($G30,Lists!$BM$2:$BR$478,COLUMN(),FALSE))","v":""},{"$f":"IF($G30=\"\",\"\",VLOOKUP($G30,Lists!$BM$2:$BR$478,COLUMN(),FALSE))","v":""},{"$f":"IF($G30=\"\",\"\",VLOOKUP($G30,Lists!$BM$2:$BR$478,COLUMN(),FALSE))","v":""},{"$f":"IF($G30=\"\",\"\",VLOOKUP($G30,Lists!$BM$2:$BR$478,COLUMN(),FALSE))","v":""},{"$f":"IF($G30=\"\",\"\",VLOOKUP($G30,Lists!$BM$2:$BR$478,COLUMN(),FALSE))","v":""}]
[null,{"$f":"IF($G31=\"\",\"\",VLOOKUP($G31,Lists!$BM$2:$BR$478,COLUMN(),FALSE))","v":""},{"$f":"IF($G31=\"\",\"\",VLOOKUP($G31,Lists!$BM$2:$BR$478,COLUMN(),FALSE))","v":""},{"$f":"IF($G31=\"\",\"\",VLOOKUP($G31,Lists!$BM$2:$BR$478,COLUMN(),FALSE))","v":""},{"$f":"IF($G31=\"\",\"\",VLOOKUP($G31,Lists!$BM$2:$BR$478,COLUMN(),FALSE))","v":""},{"$f":"IF($G31=\"\",\"\",VLOOKUP($G31,Lists!$BM$2:$BR$478,COLUMN(),FALSE))","v":""}]
[null,{"$f":"IF($G32=\"\",\"\",VLOOKUP($G32,Lists!$BM$2:$BR$478,COLUMN(),FALSE))","v":""},{"$f":"IF($G32=\"\",\"\",VLOOKUP($G32,Lists!$BM$2:$BR$478,COLUMN(),FALSE))","v":""},{"$f":"IF($G32=\"\",\"\",VLOOKUP($G32,Lists!$BM$2:$BR$478,COLUMN(),FALSE))","v":""},{"$f":"IF($G32=\"\",\"\",VLOOKUP($G32,Lists!$BM$2:$BR$478,COLUMN(),FALSE))","v":""},{"$f":"IF($G32=\"\",\"\",VLOOKUP($G32,Lists!$BM$2:$BR$478,COLUMN(),FALSE))","v":""}]
[null,{"$f":"IF($G33=\"\",\"\",VLOOKUP($G33,Lists!$BM$2:$BR$478,COLUMN(),FALSE))","v":""},{"$f":"IF($G33=\"\",\"\",VLOOKUP($G33,Lists!$BM$2:$BR$478,COLUMN(),FALSE))","v":""},{"$f":"IF($G33=\"\",\"\",VLOOKUP($G33,Lists!$BM$2:$BR$478,COLUMN(),FALSE))","v":""},{"$f":"IF($G33=\"\",\"\",VLOOKUP($G33,Lists!$BM$2:$BR$478,COLUMN(),FALSE))","v":""},{"$f":"IF($G33=\"\",\"\",VLOOKUP($G33,Lists!$BM$2:$BR$478,COLUMN(),FALSE))","v":""}]
[null,{"$f":"IF($G34=\"\",\"\",VLOOKUP($G34,Lists!$BM$2:$BR$478,COLUMN(),FALSE))","v":""},{"$f":"IF($G34=\"\",\"\",VLOOKUP($G34,Lists!$BM$2:$BR$478,COLUMN(),FALSE))","v":""},{"$f":"IF($G34=\"\",\"\",VLOOKUP($G34,Lists!$BM$2:$BR$478,COLUMN(),FALSE))","v":""},{"$f":"IF($G34=\"\",\"\",VLOOKUP($G34,Lists!$BM$2:$BR$478,COLUMN(),FALSE))","v":""},{"$f":"IF($G34=\"\",\"\",VLOOKUP($G34,Lists!$BM$2:$BR$478,COLUMN(),FALSE))","v":""}]
[null,{"$f":"IF($G35=\"\",\"\",VLOOKUP($G35,Lists!$BM$2:$BR$478,COLUMN(),FALSE))","v":""},{"$f":"IF($G35=\"\",\"\",VLOOKUP($G35,Lists!$BM$2:$BR$478,COLUMN(),FALSE))","v":""},{"$f":"IF($G35=\"\",\"\",VLOOKUP($G35,Lists!$BM$2:$BR$478,COLUMN(),FALSE))","v":""},{"$f":"IF($G35=\"\",\"\",VLOOKUP($G35,Lists!$BM$2:$BR$478,COLUMN(),FALSE))","v":""},{"$f":"IF($G35=\"\",\"\",VLOOKUP($G35,Lists!$BM$2:$BR$478,COLUMN(),FALSE))","v":""}]
[null,{"$f":"IF($G36=\"\",\"\",VLOOKUP($G36,Lists!$BM$2:$BR$478,COLUMN(),FALSE))","v":""},{"$f":"IF($G36=\"\",\"\",VLOOKUP($G36,Lists!$BM$2:$BR$478,COLUMN(),FALSE))","v":""},{"$f":"IF($G36=\"\",\"\",VLOOKUP($G36,Lists!$BM$2:$BR$478,COLUMN(),FALSE))","v":""},{"$f":"IF($G36=\"\",\"\",VLOOKUP($G36,Lists!$BM$2:$BR$478,COLUMN(),FALSE))","v":""},{"$f":"IF($G36=\"\",\"\",VLOOKUP($G36,Lists!$BM$2:$BR$478,COLUMN(),FALSE))","v":""}]
[null,{"$f":"IF($G37=\"\",\"\",VLOOKUP($G37,Lists!$BM$2:$BR$478,COLUMN(),FALSE))","v":""},{"$f":"IF($G37=\"\",\"\",VLOOKUP($G37,Lists!$BM$2:$BR$478,COLUMN(),FALSE))","v":""},{"$f":"IF($G37=\"\",\"\",VLOOKUP($G37,Lists!$BM$2:$BR$478,COLUMN(),FALSE))","v":""},{"$f":"IF($G37=\"\",\"\",VLOOKUP($G37,Lists!$BM$2:$BR$478,COLUMN(),FALSE))","v":""},{"$f":"IF($G37=\"\",\"\",VLOOKUP($G37,Lists!$BM$2:$BR$478,COLUMN(),FALSE))","v":""}]
[null,{"$f":"IF($G38=\"\",\"\",VLOOKUP($G38,Lists!$BM$2:$BR$478,COLUMN(),FALSE))","v":""},{"$f":"IF($G38=\"\",\"\",VLOOKUP($G38,Lists!$BM$2:$BR$478,COLUMN(),FALSE))","v":""},{"$f":"IF($G38=\"\",\"\",VLOOKUP($G38,Lists!$BM$2:$BR$478,COLUMN(),FALSE))","v":""},{"$f":"IF($G38=\"\",\"\",VLOOKUP($G38,Lists!$BM$2:$BR$478,COLUMN(),FALSE))","v":""},{"$f":"IF($G38=\"\",\"\",VLOOKUP($G38,Lists!$BM$2:$BR$478,COLUMN(),FALSE))","v":""}]
[null,{"$f":"IF($G39=\"\",\"\",VLOOKUP($G39,Lists!$BM$2:$BR$478,COLUMN(),FALSE))","v":""},{"$f":"IF($G39=\"\",\"\",VLOOKUP($G39,Lists!$BM$2:$BR$478,COLUMN(),FALSE))","v":""},{"$f":"IF($G39=\"\",\"\",VLOOKUP($G39,Lists!$BM$2:$BR$478,COLUMN(),FALSE))","v":""},{"$f":"IF($G39=\"\",\"\",VLOOKUP($G39,Lists!$BM$2:$BR$478,COLUMN(),FALSE))","v":""},{"$f":"IF($G39=\"\",\"\",VLOOKUP($G39,Lists!$BM$2:$BR$478,COLUMN(),FALSE))","v":""}]
[null,{"$f":"IF($G40=\"\",\"\",VLOOKUP($G40,Lists!$BM$2:$BR$478,COLUMN(),FALSE))","v":""},{"$f":"IF($G40=\"\",\"\",VLOOKUP($G40,Lists!$BM$2:$BR$478,COLUMN(),FALSE))","v":""},{"$f":"IF($G40=\"\",\"\",VLOOKUP($G40,Lists!$BM$2:$BR$478,COLUMN(),FALSE))","v":""},{"$f":"IF($G40=\"\",\"\",VLOOKUP($G40,Lists!$BM$2:$BR$478,COLUMN(),FALSE))","v":""},{"$f":"IF($G40=\"\",\"\",VLOOKUP($G40,Lists!$BM$2:$BR$478,COLUMN(),FALSE))","v":""}]
[null,{"$f":"IF($G41=\"\",\"\",VLOOKUP($G41,Lists!$BM$2:$BR$478,COLUMN(),FALSE))","v":""},{"$f":"IF($G41=\"\",\"\",VLOOKUP($G41,Lists!$BM$2:$BR$478,COLUMN(),FALSE))","v":""},{"$f":"IF($G41=\"\",\"\",VLOOKUP($G41,Lists!$BM$2:$BR$478,COLUMN(),FALSE))","v":""},{"$f":"IF($G41=\"\",\"\",VLOOKUP($G41,Lists!$BM$2:$BR$478,COLUMN(),FALSE))","v":""},{"$f":"IF($G41=\"\",\"\",VLOOKUP($G41,Lists!$BM$2:$BR$478,COLUMN(),FALSE))","v":""}]
[null,{"$f":"IF($G42=\"\",\"\",VLOOKUP($G42,Lists!$BM$2:$BR$478,COLUMN(),FALSE))","v":""},{"$f":"IF($G42=\"\",\"\",VLOOKUP($G42,Lists!$BM$2:$BR$478,COLUMN(),FALSE))","v":""},{"$f":"IF($G42=\"\",\"\",VLOOKUP($G42,Lists!$BM$2:$BR$478,COLUMN(),FALSE))","v":""},{"$f":"IF($G42=\"\",\"\",VLOOKUP($G42,Lists!$BM$2:$BR$478,COLUMN(),FALSE))","v":""},{"$f":"IF($G42=\"\",\"\",VLOOKUP($G42,Lists!$BM$2:$BR$478,COLUMN(),FALSE))","v":""}]
[null,{"$f":"IF($G43=\"\",\"\",VLOOKUP($G43,Lists!$BM$2:$BR$478,COLUMN(),FALSE))","v":""},{"$f":"IF($G43=\"\",\"\",VLOOKUP($G43,Lists!$BM$2:$BR$478,COLUMN(),FALSE))","v":""},{"$f":"IF($G43=\"\",\"\",VLOOKUP($G43,Lists!$BM$2:$BR$478,COLUMN(),FALSE))","v":""},{"$f":"IF($G43=\"\",\"\",VLOOKUP($G43,Lists!$BM$2:$BR$478,COLUMN(),FALSE))","v":""},{"$f":"IF($G43=\"\",\"\",VLOOKUP($G43,Lists!$BM$2:$BR$478,COLUMN(),FALSE))","v":""}]
[null,{"$f":"IF($G44=\"\",\"\",VLOOKUP($G44,Lists!$BM$2:$BR$478,COLUMN(),FALSE))","v":""},{"$f":"IF($G44=\"\",\"\",VLOOKUP($G44,Lists!$BM$2:$BR$478,COLUMN(),FALSE))","v":""},{"$f":"IF($G44=\"\",\"\",VLOOKUP($G44,Lists!$BM$2:$BR$478,COLUMN(),FALSE))","v":""},{"$f":"IF($G44=\"\",\"\",VLOOKUP($G44,Lists!$BM$2:$BR$478,COLUMN(),FALSE))","v":""},{"$f":"IF($G44=\"\",\"\",VLOOKUP($G44,Lists!$BM$2:$BR$478,COLUMN(),FALSE))","v":""}]
[null,{"$f":"IF($G45=\"\",\"\",VLOOKUP($G45,Lists!$BM$2:$BR$478,COLUMN(),FALSE))","v":""},{"$f":"IF($G45=\"\",\"\",VLOOKUP($G45,Lists!$BM$2:$BR$478,COLUMN(),FALSE))","v":""},{"$f":"IF($G45=\"\",\"\",VLOOKUP($G45,Lists!$BM$2:$BR$478,COLUMN(),FALSE))","v":""},{"$f":"IF($G45=\"\",\"\",VLOOKUP($G45,Lists!$BM$2:$BR$478,COLUMN(),FALSE))","v":""},{"$f":"IF($G45=\"\",\"\",VLOOKUP($G45,Lists!$BM$2:$BR$478,COLUMN(),FALSE))","v":""}]
[null,{"$f":"IF($G46=\"\",\"\",VLOOKUP($G46,Lists!$BM$2:$BR$478,COLUMN(),FALSE))","v":""},{"$f":"IF($G46=\"\",\"\",VLOOKUP($G46,Lists!$BM$2:$BR$478,COLUMN(),FALSE))","v":""},{"$f":"IF($G46=\"\",\"\",VLOOKUP($G46,Lists!$BM$2:$BR$478,COLUMN(),FALSE))","v":""},{"$f":"IF($G46=\"\",\"\",VLOOKUP($G46,Lists!$BM$2:$BR$478,COLUMN(),FALSE))","v":""},{"$f":"IF($G46=\"\",\"\",VLOOKUP($G46,Lists!$BM$2:$BR$478,COLUMN(),FALSE))","v":""}]
[null,{"$f":"IF($G47=\"\",\"\",VLOOKUP($G47,Lists!$BM$2:$BR$478,COLUMN(),FALSE))","v":""},{"$f":"IF($G47=\"\",\"\",VLOOKUP($G47,Lists!$BM$2:$BR$478,COLUMN(),FALSE))","v":""},{"$f":"IF($G47=\"\",\"\",VLOOKUP($G47,Lists!$BM$2:$BR$478,COLUMN(),FALSE))","v":""},{"$f":"IF($G47=\"\",\"\",VLOOKUP($G47,Lists!$BM$2:$BR$478,COLUMN(),FALSE))","v":""},{"$f":"IF($G47=\"\",\"\",VLOOKUP($G47,Lists!$BM$2:$BR$478,COLUMN(),FALSE))","v":""}]
[null,{"$f":"IF($G48=\"\",\"\",VLOOKUP($G48,Lists!$BM$2:$BR$478,COLUMN(),FALSE))","v":""},{"$f":"IF($G48=\"\",\"\",VLOOKUP($G48,Lists!$BM$2:$BR$478,COLUMN(),FALSE))","v":""},{"$f":"IF($G48=\"\",\"\",VLOOKUP($G48,Lists!$BM$2:$BR$478,COLUMN(),FALSE))","v":""},{"$f":"IF($G48=\"\",\"\",VLOOKUP($G48,Lists!$BM$2:$BR$478,COLUMN(),FALSE))","v":""},{"$f":"IF($G48=\"\",\"\",VLOOKUP($G48,Lists!$BM$2:$BR$478,COLUMN(),FALSE))","v":""}]
[null,{"$f":"IF($G49=\"\",\"\",VLOOKUP($G49,Lists!$BM$2:$BR$478,COLUMN(),FALSE))","v":""},{"$f":"IF($G49=\"\",\"\",VLOOKUP($G49,Lists!$BM$2:$BR$478,COLUMN(),FALSE))","v":""},{"$f":"IF($G49=\"\",\"\",VLOOKUP($G49,Lists!$BM$2:$BR$478,COLUMN(),FALSE))","v":""},{"$f":"IF($G49=\"\",\"\",VLOOKUP($G49,Lists!$BM$2:$BR$478,COLUMN(),FALSE))","v":""},{"$f":"IF($G49=\"\",\"\",VLOOKUP($G49,Lists!$BM$2:$BR$478,COLUMN(),FALSE))","v":""}]
[null,{"$f":"IF($G50=\"\",\"\",VLOOKUP($G50,Lists!$BM$2:$BR$478,COLUMN(),FALSE))","v":""},{"$f":"IF($G50=\"\",\"\",VLOOKUP($G50,Lists!$BM$2:$BR$478,COLUMN(),FALSE))","v":""},{"$f":"IF($G50=\"\",\"\",VLOOKUP($G50,Lists!$BM$2:$BR$478,COLUMN(),FALSE))","v":""},{"$f":"IF($G50=\"\",\"\",VLOOKUP($G50,Lists!$BM$2:$BR$478,COLUMN(),FALSE))","v":""},{"$f":"IF($G50=\"\",\"\",VLOOKUP($G50,Lists!$BM$2:$BR$478,COLUMN(),FALSE))","v":""}]
[null,{"$f":"IF($G51=\"\",\"\",VLOOKUP($G51,Lists!$BM$2:$BR$478,COLUMN(),FALSE))","v":""},{"$f":"IF($G51=\"\",\"\",VLOOKUP($G51,Lists!$BM$2:$BR$478,COLUMN(),FALSE))","v":""},{"$f":"IF($G51=\"\",\"\",VLOOKUP($G51,Lists!$BM$2:$BR$478,COLUMN(),FALSE))","v":""},{"$f":"IF($G51=\"\",\"\",VLOOKUP($G51,Lists!$BM$2:$BR$478,COLUMN(),FALSE))","v":""},{"$f":"IF($G51=\"\",\"\",VLOOKUP($G51,Lists!$BM$2:$BR$478,COLUMN(),FALSE))","v":""}]
[null,{"$f":"IF($G52=\"\",\"\",VLOOKUP($G52,Lists!$BM$2:$BR$478,COLUMN(),FALSE))","v":""},{"$f":"IF($G52=\"\",\"\",VLOOKUP($G52,Lists!$BM$2:$BR$478,COLUMN(),FALSE))","v":""},{"$f":"IF($G52=\"\",\"\",VLOOKUP($G52,Lists!$BM$2:$BR$478,COLUMN(),FALSE))","v":""},{"$f":"IF($G52=\"\",\"\",VLOOKUP($G52,Lists!$BM$2:$BR$478,COLUMN(),FALSE))","v":""},{"$f":"IF($G52=\"\",\"\",VLOOKUP($G52,Lists!$BM$2:$BR$478,COLUMN(),FALSE))","v":""}]
[null,{"$f":"IF($G53=\"\",\"\",VLOOKUP($G53,Lists!$BM$2:$BR$478,COLUMN(),FALSE))","v":""},{"$f":"IF($G53=\"\",\"\",VLOOKUP($G53,Lists!$BM$2:$BR$478,COLUMN(),FALSE))","v":""},{"$f":"IF($G53=\"\",\"\",VLOOKUP($G53,Lists!$BM$2:$BR$478,COLUMN(),FALSE))","v":""},{"$f":"IF($G53=\"\",\"\",VLOOKUP($G53,Lists!$BM$2:$BR$478,COLUMN(),FALSE))","v":""},{"$f":"IF($G53=\"\",\"\",VLOOKUP($G53,Lists!$BM$2:$BR$478,COLUMN(),FALSE))","v":""}]
[null,{"$f":"IF($G54=\"\",\"\",VLOOKUP($G54,Lists!$BM$2:$BR$478,COLUMN(),FALSE))","v":""},{"$f":"IF($G54=\"\",\"\",VLOOKUP($G54,Lists!$BM$2:$BR$478,COLUMN(),FALSE))","v":""},{"$f":"IF($G54=\"\",\"\",VLOOKUP($G54,Lists!$BM$2:$BR$478,COLUMN(),FALSE))","v":""},{"$f":"IF($G54=\"\",\"\",VLOOKUP($G54,Lists!$BM$2:$BR$478,COLUMN(),FALSE))","v":""},{"$f":"IF($G54=\"\",\"\",VLOOKUP($G54,Lists!$BM$2:$BR$478,COLUMN(),FALSE))","v":""}]
[null,{"$f":"IF($G55=\"\",\"\",VLOOKUP($G55,Lists!$BM$2:$BR$478,COLUMN(),FALSE))","v":""},{"$f":"IF($G55=\"\",\"\",VLOOKUP($G55,Lists!$BM$2:$BR$478,COLUMN(),FALSE))","v":""},{"$f":"IF($G55=\"\",\"\",VLOOKUP($G55,Lists!$BM$2:$BR$478,COLUMN(),FALSE))","v":""},{"$f":"IF($G55=\"\",\"\",VLOOKUP($G55,Lists!$BM$2:$BR$478,COLUMN(),FALSE))","v":""},{"$f":"IF($G55=\"\",\"\",VLOOKUP($G55,Lists!$BM$2:$BR$478,COLUMN(),FALSE))","v":""}]
[null,{"$f":"IF($G56=\"\",\"\",VLOOKUP($G56,Lists!$BM$2:$BR$478,COLUMN(),FALSE))","v":""},{"$f":"IF($G56=\"\",\"\",VLOOKUP($G56,Lists!$BM$2:$BR$478,COLUMN(),FALSE))","v":""},{"$f":"IF($G56=\"\",\"\",VLOOKUP($G56,Lists!$BM$2:$BR$478,COLUMN(),FALSE))","v":""},{"$f":"IF($G56=\"\",\"\",VLOOKUP($G56,Lists!$BM$2:$BR$478,COLUMN(),FALSE))","v":""},{"$f":"IF($G56=\"\",\"\",VLOOKUP($G56,Lists!$BM$2:$BR$478,COLUMN(),FALSE))","v":""}]
[null,{"$f":"IF($G57=\"\",\"\",VLOOKUP($G57,Lists!$BM$2:$BR$478,COLUMN(),FALSE))","v":""},{"$f":"IF($G57=\"\",\"\",VLOOKUP($G57,Lists!$BM$2:$BR$478,COLUMN(),FALSE))","v":""},{"$f":"IF($G57=\"\",\"\",VLOOKUP($G57,Lists!$BM$2:$BR$478,COLUMN(),FALSE))","v":""},{"$f":"IF($G57=\"\",\"\",VLOOKUP($G57,Lists!$BM$2:$BR$478,COLUMN(),FALSE))","v":""},{"$f":"IF($G57=\"\",\"\",VLOOKUP($G57,Lists!$BM$2:$BR$478,COLUMN(),FALSE))","v":""}]
[null,{"$f":"IF($G58=\"\",\"\",VLOOKUP($G58,Lists!$BM$2:$BR$478,COLUMN(),FALSE))","v":""},{"$f":"IF($G58=\"\",\"\",VLOOKUP($G58,Lists!$BM$2:$BR$478,COLUMN(),FALSE))","v":""},{"$f":"IF($G58=\"\",\"\",VLOOKUP($G58,Lists!$BM$2:$BR$478,COLUMN(),FALSE))","v":""},{"$f":"IF($G58=\"\",\"\",VLOOKUP($G58,Lists!$BM$2:$BR$478,COLUMN(),FALSE))","v":""},{"$f":"IF($G58=\"\",\"\",VLOOKUP($G58,Lists!$BM$2:$BR$478,COLUMN(),FALSE))","v":""}]
[null,{"$f":"IF($G59=\"\",\"\",VLOOKUP($G59,Lists!$BM$2:$BR$478,COLUMN(),FALSE))","v":""},{"$f":"IF($G59=\"\",\"\",VLOOKUP($G59,Lists!$BM$2:$BR$478,COLUMN(),FALSE))","v":""},{"$f":"IF($G59=\"\",\"\",VLOOKUP($G59,Lists!$BM$2:$BR$478,COLUMN(),FALSE))","v":""},{"$f":"IF($G59=\"\",\"\",VLOOKUP($G59,Lists!$BM$2:$BR$478,COLUMN(),FALSE))","v":""},{"$f":"IF($G59=\"\",\"\",VLOOKUP($G59,Lists!$BM$2:$BR$478,COLUMN(),FALSE))","v":""}]
[null,{"$f":"IF($G60=\"\",\"\",VLOOKUP($G60,Lists!$BM$2:$BR$478,COLUMN(),FALSE))","v":""},{"$f":"IF($G60=\"\",\"\",VLOOKUP($G60,Lists!$BM$2:$BR$478,COLUMN(),FALSE))","v":""},{"$f":"IF($G60=\"\",\"\",VLOOKUP($G60,Lists!$BM$2:$BR$478,COLUMN(),FALSE))","v":""},{"$f":"IF($G60=\"\",\"\",VLOOKUP($G60,Lists!$BM$2:$BR$478,COLUMN(),FALSE))","v":""},{"$f":"IF($G60=\"\",\"\",VLOOKUP($G60,Lists!$BM$2:$BR$478,COLUMN(),FALSE))","v":""}]
[null,{"$f":"IF($G61=\"\",\"\",VLOOKUP($G61,Lists!$BM$2:$BR$478,COLUMN(),FALSE))","v":""},{"$f":"IF($G61=\"\",\"\",VLOOKUP($G61,Lists!$BM$2:$BR$478,COLUMN(),FALSE))","v":""},{"$f":"IF($G61=\"\",\"\",VLOOKUP($G61,Lists!$BM$2:$BR$478,COLUMN(),FALSE))","v":""},{"$f":"IF($G61=\"\",\"\",VLOOKUP($G61,Lists!$BM$2:$BR$478,COLUMN(),FALSE))","v":""},{"$f":"IF($G61=\"\",\"\",VLOOKUP($G61,Lists!$BM$2:$BR$478,COLUMN(),FALSE))","v":""}]
[null,{"$f":"IF($G62=\"\",\"\",VLOOKUP($G62,Lists!$BM$2:$BR$478,COLUMN(),FALSE))","v":""},{"$f":"IF($G62=\"\",\"\",VLOOKUP($G62,Lists!$BM$2:$BR$478,COLUMN(),FALSE))","v":""},{"$f":"IF($G62=\"\",\"\",VLOOKUP($G62,Lists!$BM$2:$BR$478,COLUMN(),FALSE))","v":""},{"$f":"IF($G62=\"\",\"\",VLOOKUP($G62,Lists!$BM$2:$BR$478,COLUMN(),FALSE))","v":""},{"$f":"IF($G62=\"\",\"\",VLOOKUP($G62,Lists!$BM$2:$BR$478,COLUMN(),FALSE))","v":""}]
[null,{"$f":"IF($G63=\"\",\"\",VLOOKUP($G63,Lists!$BM$2:$BR$478,COLUMN(),FALSE))","v":""},{"$f":"IF($G63=\"\",\"\",VLOOKUP($G63,Lists!$BM$2:$BR$478,COLUMN(),FALSE))","v":""},{"$f":"IF($G63=\"\",\"\",VLOOKUP($G63,Lists!$BM$2:$BR$478,COLUMN(),FALSE))","v":""},{"$f":"IF($G63=\"\",\"\",VLOOKUP($G63,Lists!$BM$2:$BR$478,COLUMN(),FALSE))","v":""},{"$f":"IF($G63=\"\",\"\",VLOOKUP($G63,Lists!$BM$2:$BR$478,COLUMN(),FALSE))","v":""}]
[null,{"$f":"IF($G64=\"\",\"\",VLOOKUP($G64,Lists!$BM$2:$BR$478,COLUMN(),FALSE))","v":""},{"$f":"IF($G64=\"\",\"\",VLOOKUP($G64,Lists!$BM$2:$BR$478,COLUMN(),FALSE))","v":""},{"$f":"IF($G64=\"\",\"\",VLOOKUP($G64,Lists!$BM$2:$BR$478,COLUMN(),FALSE))","v":""},{"$f":"IF($G64=\"\",\"\",VLOOKUP($G64,Lists!$BM$2:$BR$478,COLUMN(),FALSE))","v":""},{"$f":"IF($G64=\"\",\"\",VLOOKUP($G64,Lists!$BM$2:$BR$478,COLUMN(),FALSE))","v":""}]
[null,{"$f":"IF($G65=\"\",\"\",VLOOKUP($G65,Lists!$BM$2:$BR$478,COLUMN(),FALSE))","v":""},{"$f":"IF($G65=\"\",\"\",VLOOKUP($G65,Lists!$BM$2:$BR$478,COLUMN(),FALSE))","v":""},{"$f":"IF($G65=\"\",\"\",VLOOKUP($G65,Lists!$BM$2:$BR$478,COLUMN(),FALSE))","v":""},{"$f":"IF($G65=\"\",\"\",VLOOKUP($G65,Lists!$BM$2:$BR$478,COLUMN(),FALSE))","v":""},{"$f":"IF($G65=\"\",\"\",VLOOKUP($G65,Lists!$BM$2:$BR$478,COLUMN(),FALSE))","v":""}]
[null,{"$f":"IF($G66=\"\",\"\",VLOOKUP($G66,Lists!$BM$2:$BR$478,COLUMN(),FALSE))","v":""},{"$f":"IF($G66=\"\",\"\",VLOOKUP($G66,Lists!$BM$2:$BR$478,COLUMN(),FALSE))","v":""},{"$f":"IF($G66=\"\",\"\",VLOOKUP($G66,Lists!$BM$2:$BR$478,COLUMN(),FALSE))","v":""},{"$f":"IF($G66=\"\",\"\",VLOOKUP($G66,Lists!$BM$2:$BR$478,COLUMN(),FALSE))","v":""},{"$f":"IF($G66=\"\",\"\",VLOOKUP($G66,Lists!$BM$2:$BR$478,COLUMN(),FALSE))","v":""}]
[null,{"$f":"IF($G67=\"\",\"\",VLOOKUP($G67,Lists!$BM$2:$BR$478,COLUMN(),FALSE))","v":""},{"$f":"IF($G67=\"\",\"\",VLOOKUP($G67,Lists!$BM$2:$BR$478,COLUMN(),FALSE))","v":""},{"$f":"IF($G67=\"\",\"\",VLOOKUP($G67,Lists!$BM$2:$BR$478,COLUMN(),FALSE))","v":""},{"$f":"IF($G67=\"\",\"\",VLOOKUP($G67,Lists!$BM$2:$BR$478,COLUMN(),FALSE))","v":""},{"$f":"IF($G67=\"\",\"\",VLOOKUP($G67,Lists!$BM$2:$BR$478,COLUMN(),FALSE))","v":""}]
[null,{"$f":"IF($G68=\"\",\"\",VLOOKUP($G68,Lists!$BM$2:$BR$478,COLUMN(),FALSE))","v":""},{"$f":"IF($G68=\"\",\"\",VLOOKUP($G68,Lists!$BM$2:$BR$478,COLUMN(),FALSE))","v":""},{"$f":"IF($G68=\"\",\"\",VLOOKUP($G68,Lists!$BM$2:$BR$478,COLUMN(),FALSE))","v":""},{"$f":"IF($G68=\"\",\"\",VLOOKUP($G68,Lists!$BM$2:$BR$478,COLUMN(),FALSE))","v":""},{"$f":"IF($G68=\"\",\"\",VLOOKUP($G68,Lists!$BM$2:$BR$478,COLUMN(),FALSE))","v":""}]
[null,{"$f":"IF($G69=\"\",\"\",VLOOKUP($G69,Lists!$BM$2:$BR$478,COLUMN(),FALSE))","v":""},{"$f":"IF($G69=\"\",\"\",VLOOKUP($G69,Lists!$BM$2:$BR$478,COLUMN(),FALSE))","v":""},{"$f":"IF($G69=\"\",\"\",VLOOKUP($G69,Lists!$BM$2:$BR$478,COLUMN(),FALSE))","v":""},{"$f":"IF($G69=\"\",\"\",VLOOKUP($G69,Lists!$BM$2:$BR$478,COLUMN(),FALSE))","v":""},{"$f":"IF($G69=\"\",\"\",VLOOKUP($G69,Lists!$BM$2:$BR$478,COLUMN(),FALSE))","v":""}]
[null,{"$f":"IF($G70=\"\",\"\",VLOOKUP($G70,Lists!$BM$2:$BR$478,COLUMN(),FALSE))","v":""},{"$f":"IF($G70=\"\",\"\",VLOOKUP($G70,Lists!$BM$2:$BR$478,COLUMN(),FALSE))","v":""},{"$f":"IF($G70=\"\",\"\",VLOOKUP($G70,Lists!$BM$2:$BR$478,COLUMN(),FALSE))","v":""},{"$f":"IF($G70=\"\",\"\",VLOOKUP($G70,Lists!$BM$2:$BR$478,COLUMN(),FALSE))","v":""},{"$f":"IF($G70=\"\",\"\",VLOOKUP($G70,Lists!$BM$2:$BR$478,COLUMN(),FALSE))","v":""}]
[null,{"$f":"IF($G71=\"\",\"\",VLOOKUP($G71,Lists!$BM$2:$BR$478,COLUMN(),FALSE))","v":""},{"$f":"IF($G71=\"\",\"\",VLOOKUP($G71,Lists!$BM$2:$BR$478,COLUMN(),FALSE))","v":""},{"$f":"IF($G71=\"\",\"\",VLOOKUP($G71,Lists!$BM$2:$BR$478,COLUMN(),FALSE))","v":""},{"$f":"IF($G71=\"\",\"\",VLOOKUP($G71,Lists!$BM$2:$BR$478,COLUMN(),FALSE))","v":""},{"$f":"IF($G71=\"\",\"\",VLOOKUP($G71,Lists!$BM$2:$BR$478,COLUMN(),FALSE))","v":""}]
[null,{"$f":"IF($G72=\"\",\"\",VLOOKUP($G72,Lists!$BM$2:$BR$478,COLUMN(),FALSE))","v":""},{"$f":"IF($G72=\"\",\"\",VLOOKUP($G72,Lists!$BM$2:$BR$478,COLUMN(),FALSE))","v":""},{"$f":"IF($G72=\"\",\"\",VLOOKUP($G72,Lists!$BM$2:$BR$478,COLUMN(),FALSE))","v":""},{"$f":"IF($G72=\"\",\"\",VLOOKUP($G72,Lists!$BM$2:$BR$478,COLUMN(),FALSE))","v":""},{"$f":"IF($G72=\"\",\"\",VLOOKUP($G72,Lists!$BM$2:$BR$478,COLUMN(),FALSE))","v":""}]
[null,{"$f":"IF($G73=\"\",\"\",VLOOKUP($G73,Lists!$BM$2:$BR$478,COLUMN(),FALSE))","v":""},{"$f":"IF($G73=\"\",\"\",VLOOKUP($G73,Lists!$BM$2:$BR$478,COLUMN(),FALSE))","v":""},{"$f":"IF($G73=\"\",\"\",VLOOKUP($G73,Lists!$BM$2:$BR$478,COLUMN(),FALSE))","v":""},{"$f":"IF($G73=\"\",\"\",VLOOKUP($G73,Lists!$BM$2:$BR$478,COLUMN(),FALSE))","v":""},{"$f":"IF($G73=\"\",\"\",VLOOKUP($G73,Lists!$BM$2:$BR$478,COLUMN(),FALSE))","v":""}]
[null,{"$f":"IF($G74=\"\",\"\",VLOOKUP($G74,Lists!$BM$2:$BR$478,COLUMN(),FALSE))","v":""},{"$f":"IF($G74=\"\",\"\",VLOOKUP($G74,Lists!$BM$2:$BR$478,COLUMN(),FALSE))","v":""},{"$f":"IF($G74=\"\",\"\",VLOOKUP($G74,Lists!$BM$2:$BR$478,COLUMN(),FALSE))","v":""},{"$f":"IF($G74=\"\",\"\",VLOOKUP($G74,Lists!$BM$2:$BR$478,COLUMN(),FALSE))","v":""},{"$f":"IF($G74=\"\",\"\",VLOOKUP($G74,Lists!$BM$2:$BR$478,COLUMN(),FALSE))","v":""}]
[null,{"$f":"IF($G75=\"\",\"\",VLOOKUP($G75,Lists!$BM$2:$BR$478,COLUMN(),FALSE))","v":""},{"$f":"IF($G75=\"\",\"\",VLOOKUP($G75,Lists!$BM$2:$BR$478,COLUMN(),FALSE))","v":""},{"$f":"IF($G75=\"\",\"\",VLOOKUP($G75,Lists!$BM$2:$BR$478,COLUMN(),FALSE))","v":""},{"$f":"IF($G75=\"\",\"\",VLOOKUP($G75,Lists!$BM$2:$BR$478,COLUMN(),FALSE))","v":""},{"$f":"IF($G75=\"\",\"\",VLOOKUP($G75,Lists!$BM$2:$BR$478,COLUMN(),FALSE))","v":""}]
[null,{"$f":"IF($G76=\"\",\"\",VLOOKUP($G76,Lists!$BM$2:$BR$478,COLUMN(),FALSE))","v":""},{"$f":"IF($G76=\"\",\"\",VLOOKUP($G76,Lists!$BM$2:$BR$478,COLUMN(),FALSE))","v":""},{"$f":"IF($G76=\"\",\"\",VLOOKUP($G76,Lists!$BM$2:$BR$478,COLUMN(),FALSE))","v":""},{"$f":"IF($G76=\"\",\"\",VLOOKUP($G76,Lists!$BM$2:$BR$478,COLUMN(),FALSE))","v":""},{"$f":"IF($G76=\"\",\"\",VLOOKUP($G76,Lists!$BM$2:$BR$478,COLUMN(),FALSE))","v":""}]
[null,{"$f":"IF($G77=\"\",\"\",VLOOKUP($G77,Lists!$BM$2:$BR$478,COLUMN(),FALSE))","v":""},{"$f":"IF($G77=\"\",\"\",VLOOKUP($G77,Lists!$BM$2:$BR$478,COLUMN(),FALSE))","v":""},{"$f":"IF($G77=\"\",\"\",VLOOKUP($G77,Lists!$BM$2:$BR$478,COLUMN(),FALSE))","v":""},{"$f":"IF($G77=\"\",\"\",VLOOKUP($G77,Lists!$BM$2:$BR$478,COLUMN(),FALSE))","v":""},{"$f":"IF($G77=\"\",\"\",VLOOKUP($G77,Lists!$BM$2:$BR$478,COLUMN(),FALSE))","v":""}]
[null,{"$f":"IF($G78=\"\",\"\",VLOOKUP($G78,Lists!$BM$2:$BR$478,COLUMN(),FALSE))","v":""},{"$f":"IF($G78=\"\",\"\",VLOOKUP($G78,Lists!$BM$2:$BR$478,COLUMN(),FALSE))","v":""},{"$f":"IF($G78=\"\",\"\",VLOOKUP($G78,Lists!$BM$2:$BR$478,COLUMN(),FALSE))","v":""},{"$f":"IF($G78=\"\",\"\",VLOOKUP($G78,Lists!$BM$2:$BR$478,COLUMN(),FALSE))","v":""},{"$f":"IF($G78=\"\",\"\",VLOOKUP($G78,Lists!$BM$2:$BR$478,COLUMN(),FALSE))","v":""}]
[null,{"$f":"IF($G79=\"\",\"\",VLOOKUP($G79,Lists!$BM$2:$BR$478,COLUMN(),FALSE))","v":""},{"$f":"IF($G79=\"\",\"\",VLOOKUP($G79,Lists!$BM$2:$BR$478,COLUMN(),FALSE))","v":""},{"$f":"IF($G79=\"\",\"\",VLOOKUP($G79,Lists!$BM$2:$BR$478,COLUMN(),FALSE))","v":""},{"$f":"IF($G79=\"\",\"\",VLOOKUP($G79,Lists!$BM$2:$BR$478,COLUMN(),FALSE))","v":""},{"$f":"IF($G79=\"\",\"\",VLOOKUP($G79,Lists!$BM$2:$BR$478,COLUMN(),FALSE))","v":""}]
[null,{"$f":"IF($G80=\"\",\"\",VLOOKUP($G80,Lists!$BM$2:$BR$478,COLUMN(),FALSE))","v":""},{"$f":"IF($G80=\"\",\"\",VLOOKUP($G80,Lists!$BM$2:$BR$478,COLUMN(),FALSE))","v":""},{"$f":"IF($G80=\"\",\"\",VLOOKUP($G80,Lists!$BM$2:$BR$478,COLUMN(),FALSE))","v":""},{"$f":"IF($G80=\"\",\"\",VLOOKUP($G80,Lists!$BM$2:$BR$478,COLUMN(),FALSE))","v":""},{"$f":"IF($G80=\"\",\"\",VLOOKUP($G80,Lists!$BM$2:$BR$478,COLUMN(),FALSE))","v":""}]
[null,{"$f":"IF($G81=\"\",\"\",VLOOKUP($G81,Lists!$BM$2:$BR$478,COLUMN(),FALSE))","v":""},{"$f":"IF($G81=\"\",\"\",VLOOKUP($G81,Lists!$BM$2:$BR$478,COLUMN(),FALSE))","v":""},{"$f":"IF($G81=\"\",\"\",VLOOKUP($G81,Lists!$BM$2:$BR$478,COLUMN(),FALSE))","v":""},{"$f":"IF($G81=\"\",\"\",VLOOKUP($G81,Lists!$BM$2:$BR$478,COLUMN(),FALSE))","v":""},{"$f":"IF($G81=\"\",\"\",VLOOKUP($G81,Lists!$BM$2:$BR$478,COLUMN(),FALSE))","v":""}]
[null,{"$f":"IF($G82=\"\",\"\",VLOOKUP($G82,Lists!$BM$2:$BR$478,COLUMN(),FALSE))","v":""},{"$f":"IF($G82=\"\",\"\",VLOOKUP($G82,Lists!$BM$2:$BR$478,COLUMN(),FALSE))","v":""},{"$f":"IF($G82=\"\",\"\",VLOOKUP($G82,Lists!$BM$2:$BR$478,COLUMN(),FALSE))","v":""},{"$f":"IF($G82=\"\",\"\",VLOOKUP($G82,Lists!$BM$2:$BR$478,COLUMN(),FALSE))","v":""},{"$f":"IF($G82=\"\",\"\",VLOOKUP($G82,Lists!$BM$2:$BR$478,COLUMN(),FALSE))","v":""}]
[null,{"$f":"IF($G83=\"\",\"\",VLOOKUP($G83,Lists!$BM$2:$BR$478,COLUMN(),FALSE))","v":""},{"$f":"IF($G83=\"\",\"\",VLOOKUP($G83,Lists!$BM$2:$BR$478,COLUMN(),FALSE))","v":""},{"$f":"IF($G83=\"\",\"\",VLOOKUP($G83,Lists!$BM$2:$BR$478,COLUMN(),FALSE))","v":""},{"$f":"IF($G83=\"\",\"\",VLOOKUP($G83,Lists!$BM$2:$BR$478,COLUMN(),FALSE))","v":""},{"$f":"IF($G83=\"\",\"\",VLOOKUP($G83,Lists!$BM$2:$BR$478,COLUMN(),FALSE))","v":""}]
[null,{"$f":"IF($G84=\"\",\"\",VLOOKUP($G84,Lists!$BM$2:$BR$478,COLUMN(),FALSE))","v":""},{"$f":"IF($G84=\"\",\"\",VLOOKUP($G84,Lists!$BM$2:$BR$478,COLUMN(),FALSE))","v":""},{"$f":"IF($G84=\"\",\"\",VLOOKUP($G84,Lists!$BM$2:$BR$478,COLUMN(),FALSE))","v":""},{"$f":"IF($G84=\"\",\"\",VLOOKUP($G84,Lists!$BM$2:$BR$478,COLUMN(),FALSE))","v":""},{"$f":"IF($G84=\"\",\"\",VLOOKUP($G84,Lists!$BM$2:$BR$478,COLUMN(),FALSE))","v":""}]
[null,{"$f":"IF($G85=\"\",\"\",VLOOKUP($G85,Lists!$BM$2:$BR$478,COLUMN(),FALSE))","v":""},{"$f":"IF($G85=\"\",\"\",VLOOKUP($G85,Lists!$BM$2:$BR$478,COLUMN(),FALSE))","v":""},{"$f":"IF($G85=\"\",\"\",VLOOKUP($G85,Lists!$BM$2:$BR$478,COLUMN(),FALSE))","v":""},{"$f":"IF($G85=\"\",\"\",VLOOKUP($G85,Lists!$BM$2:$BR$478,COLUMN(),FALSE))","v":""},{"$f":"IF($G85=\"\",\"\",VLOOKUP($G85,Lists!$BM$2:$BR$478,COLUMN(),FALSE))","v":""}]
[null,{"$f":"IF($G86=\"\",\"\",VLOOKUP($G86,Lists!$BM$2:$BR$478,COLUMN(),FALSE))","v":""},{"$f":"IF($G86=\"\",\"\",VLOOKUP($G86,Lists!$BM$2:$BR$478,COLUMN(),FALSE))","v":""},{"$f":"IF($G86=\"\",\"\",VLOOKUP($G86,Lists!$BM$2:$BR$478,COLUMN(),FALSE))","v":""},{"$f":"IF($G86=\"\",\"\",VLOOKUP($G86,Lists!$BM$2:$BR$478,COLUMN(),FALSE))","v":""},{"$f":"IF($G86=\"\",\"\",VLOOKUP($G86,Lists!$BM$2:$BR$478,COLUMN(),FALSE))","v":""}]
[null,{"$f":"IF($G87=\"\",\"\",VLOOKUP($G87,Lists!$BM$2:$BR$478,COLUMN(),FALSE))","v":""},{"$f":"IF($G87=\"\",\"\",VLOOKUP($G87,Lists!$BM$2:$BR$478,COLUMN(),FALSE))","v":""},{"$f":"IF($G87=\"\",\"\",VLOOKUP($G87,Lists!$BM$2:$BR$478,COLUMN(),FALSE))","v":""},{"$f":"IF($G87=\"\",\"\",VLOOKUP($G87,Lists!$BM$2:$BR$478,COLUMN(),FALSE))","v":""},{"$f":"IF($G87=\"\",\"\",VLOOKUP($G87,Lists!$BM$2:$BR$478,COLUMN(),FALSE))","v":""}]
[null,{"$f":"IF($G88=\"\",\"\",VLOOKUP($G88,Lists!$BM$2:$BR$478,COLUMN(),FALSE))","v":""},{"$f":"IF($G88=\"\",\"\",VLOOKUP($G88,Lists!$BM$2:$BR$478,COLUMN(),FALSE))","v":""},{"$f":"IF($G88=\"\",\"\",VLOOKUP($G88,Lists!$BM$2:$BR$478,COLUMN(),FALSE))","v":""},{"$f":"IF($G88=\"\",\"\",VLOOKUP($G88,Lists!$BM$2:$BR$478,COLUMN(),FALSE))","v":""},{"$f":"IF($G88=\"\",\"\",VLOOKUP($G88,Lists!$BM$2:$BR$478,COLUMN(),FALSE))","v":""}]
[null,{"$f":"IF($G89=\"\",\"\",VLOOKUP($G89,Lists!$BM$2:$BR$478,COLUMN(),FALSE))","v":""},{"$f":"IF($G89=\"\",\"\",VLOOKUP($G89,Lists!$BM$2:$BR$478,COLUMN(),FALSE))","v":""},{"$f":"IF($G89=\"\",\"\",VLOOKUP($G89,Lists!$BM$2:$BR$478,COLUMN(),FALSE))","v":""},{"$f":"IF($G89=\"\",\"\",VLOOKUP($G89,Lists!$BM$2:$BR$478,COLUMN(),FALSE))","v":""},{"$f":"IF($G89=\"\",\"\",VLOOKUP($G89,Lists!$BM$2:$BR$478,COLUMN(),FALSE))","v":""}]
[null,{"$f":"IF($G90=\"\",\"\",VLOOKUP($G90,Lists!$BM$2:$BR$478,COLUMN(),FALSE))","v":""},{"$f":"IF($G90=\"\",\"\",VLOOKUP($G90,Lists!$BM$2:$BR$478,COLUMN(),FALSE))","v":""},{"$f":"IF($G90=\"\",\"\",VLOOKUP($G90,Lists!$BM$2:$BR$478,COLUMN(),FALSE))","v":""},{"$f":"IF($G90=\"\",\"\",VLOOKUP($G90,Lists!$BM$2:$BR$478,COLUMN(),FALSE))","v":""},{"$f":"IF($G90=\"\",\"\",VLOOKUP($G90,Lists!$BM$2:$BR$478,COLUMN(),FALSE))","v":""}]
[null,{"$f":"IF($G91=\"\",\"\",VLOOKUP($G91,Lists!$BM$2:$BR$478,COLUMN(),FALSE))","v":""},{"$f":"IF($G91=\"\",\"\",VLOOKUP($G91,Lists!$BM$2:$BR$478,COLUMN(),FALSE))","v":""},{"$f":"IF($G91=\"\",\"\",VLOOKUP($G91,Lists!$BM$2:$BR$478,COLUMN(),FALSE))","v":""},{"$f":"IF($G91=\"\",\"\",VLOOKUP($G91,Lists!$BM$2:$BR$478,COLUMN(),FALSE))","v":""},{"$f":"IF($G91=\"\",\"\",VLOOKUP($G91,Lists!$BM$2:$BR$478,COLUMN(),FALSE))","v":""}]
[null,{"$f":"IF($G92=\"\",\"\",VLOOKUP($G92,Lists!$BM$2:$BR$478,COLUMN(),FALSE))","v":""},{"$f":"IF($G92=\"\",\"\",VLOOKUP($G92,Lists!$BM$2:$BR$478,COLUMN(),FALSE))","v":""},{"$f":"IF($G92=\"\",\"\",VLOOKUP($G92,Lists!$BM$2:$BR$478,COLUMN(),FALSE))","v":""},{"$f":"IF($G92=\"\",\"\",VLOOKUP($G92,Lists!$BM$2:$BR$478,COLUMN(),FALSE))","v":""},{"$f":"IF($G92=\"\",\"\",VLOOKUP($G92,Lists!$BM$2:$BR$478,COLUMN(),FALSE))","v":""}]
[null,{"$f":"IF($G93=\"\",\"\",VLOOKUP($G93,Lists!$BM$2:$BR$478,COLUMN(),FALSE))","v":""},{"$f":"IF($G93=\"\",\"\",VLOOKUP($G93,Lists!$BM$2:$BR$478,COLUMN(),FALSE))","v":""},{"$f":"IF($G93=\"\",\"\",VLOOKUP($G93,Lists!$BM$2:$BR$478,COLUMN(),FALSE))","v":""},{"$f":"IF($G93=\"\",\"\",VLOOKUP($G93,Lists!$BM$2:$BR$478,COLUMN(),FALSE))","v":""},{"$f":"IF($G93=\"\",\"\",VLOOKUP($G93,Lists!$BM$2:$BR$478,COLUMN(),FALSE))","v":""}]
[null,{"$f":"IF($G94=\"\",\"\",VLOOKUP($G94,Lists!$BM$2:$BR$478,COLUMN(),FALSE))","v":""},{"$f":"IF($G94=\"\",\"\",VLOOKUP($G94,Lists!$BM$2:$BR$478,COLUMN(),FALSE))","v":""},{"$f":"IF($G94=\"\",\"\",VLOOKUP($G94,Lists!$BM$2:$BR$478,COLUMN(),FALSE))","v":""},{"$f":"IF($G94=\"\",\"\",VLOOKUP($G94,Lists!$BM$2:$BR$478,COLUMN(),FALSE))","v":""},{"$f":"IF($G94=\"\",\"\",VLOOKUP($G94,Lists!$BM$2:$BR$478,COLUMN(),FALSE))","v":""}]
[null,{"$f":"IF($G95=\"\",\"\",VLOOKUP($G95,Lists!$BM$2:$BR$478,COLUMN(),FALSE))","v":""},{"$f":"IF($G95=\"\",\"\",VLOOKUP($G95,Lists!$BM$2:$BR$478,COLUMN(),FALSE))","v":""},{"$f":"IF($G95=\"\",\"\",VLOOKUP($G95,Lists!$BM$2:$BR$478,COLUMN(),FALSE))","v":""},{"$f":"IF($G95=\"\",\"\",VLOOKUP($G95,Lists!$BM$2:$BR$478,COLUMN(),FALSE))","v":""},{"$f":"IF($G95=\"\",\"\",VLOOKUP($G95,Lists!$BM$2:$BR$478,COLUMN(),FALSE))","v":""}]
[null,{"$f":"IF($G96=\"\",\"\",VLOOKUP($G96,Lists!$BM$2:$BR$478,COLUMN(),FALSE))","v":""},{"$f":"IF($G96=\"\",\"\",VLOOKUP($G96,Lists!$BM$2:$BR$478,COLUMN(),FALSE))","v":""},{"$f":"IF($G96=\"\",\"\",VLOOKUP($G96,Lists!$BM$2:$BR$478,COLUMN(),FALSE))","v":""},{"$f":"IF($G96=\"\",\"\",VLOOKUP($G96,Lists!$BM$2:$BR$478,COLUMN(),FALSE))","v":""},{"$f":"IF($G96=\"\",\"\",VLOOKUP($G96,Lists!$BM$2:$BR$478,COLUMN(),FALSE))","v":""}]
[null,{"$f":"IF($G97=\"\",\"\",VLOOKUP($G97,Lists!$BM$2:$BR$478,COLUMN(),FALSE))","v":""},{"$f":"IF($G97=\"\",\"\",VLOOKUP($G97,Lists!$BM$2:$BR$478,COLUMN(),FALSE))","v":""},{"$f":"IF($G97=\"\",\"\",VLOOKUP($G97,Lists!$BM$2:$BR$478,COLUMN(),FALSE))","v":""},{"$f":"IF($G97=\"\",\"\",VLOOKUP($G97,Lists!$BM$2:$BR$478,COLUMN(),FALSE))","v":""},{"$f":"IF($G97=\"\",\"\",VLOOKUP($G97,Lists!$BM$2:$BR$478,COLUMN(),FALSE))","v":""}]
[null,{"$f":"IF($G98=\"\",\"\",VLOOKUP($G98,Lists!$BM$2:$BR$478,COLUMN(),FALSE))","v":""},{"$f":"IF($G98=\"\",\"\",VLOOKUP($G98,Lists!$BM$2:$BR$478,COLUMN(),FALSE))","v":""},{"$f":"IF($G98=\"\",\"\",VLOOKUP($G98,Lists!$BM$2:$BR$478,COLUMN(),FALSE))","v":""},{"$f":"IF($G98=\"\",\"\",VLOOKUP($G98,Lists!$BM$2:$BR$478,COLUMN(),FALSE))","v":""},{"$f":"IF($G98=\"\",\"\",VLOOKUP($G98,Lists!$BM$2:$BR$478,COLUMN(),FALSE))","v":""}]
[null,{"$f":"IF($G99=\"\",\"\",VLOOKUP($G99,Lists!$BM$2:$BR$478,COLUMN(),FALSE))","v":""},{"$f":"IF($G99=\"\",\"\",VLOOKUP($G99,Lists!$BM$2:$BR$478,COLUMN(),FALSE))","v":""},{"$f":"IF($G99=\"\",\"\",VLOOKUP($G99,Lists!$BM$2:$BR$478,COLUMN(),FALSE))","v":""},{"$f":"IF($G99=\"\",\"\",VLOOKUP($G99,Lists!$BM$2:$BR$478,COLUMN(),FALSE))","v":""},{"$f":"IF($G99=\"\",\"\",VLOOKUP($G99,Lists!$BM$2:$BR$478,COLUMN(),FALSE))","v":""}]
[null,{"$f":"IF($G100=\"\",\"\",VLOOKUP($G100,Lists!$BM$2:$BR$478,COLUMN(),FALSE))","v":""},{"$f":"IF($G100=\"\",\"\",VLOOKUP($G100,Lists!$BM$2:$BR$478,COLUMN(),FALSE))","v":""},{"$f":"IF($G100=\"\",\"\",VLOOKUP($G100,Lists!$BM$2:$BR$478,COLUMN(),FALSE))","v":""},{"$f":"IF($G100=\"\",\"\",VLOOKUP($G100,Lists!$BM$2:$BR$478,COLUMN(),FALSE))","v":""},{"$f":"IF($G100=\"\",\"\",VLOOKUP($G100,Lists!$BM$2:$BR$478,COLUMN(),FALSE))","v":""}]
[null,{"$f":"IF($G101=\"\",\"\",VLOOKUP($G101,Lists!$BM$2:$BR$478,COLUMN(),FALSE))","v":""},{"$f":"IF($G101=\"\",\"\",VLOOKUP($G101,Lists!$BM$2:$BR$478,COLUMN(),FALSE))","v":""},{"$f":"IF($G101=\"\",\"\",VLOOKUP($G101,Lists!$BM$2:$BR$478,COLUMN(),FALSE))","v":""},{"$f":"IF($G101=\"\",\"\",VLOOKUP($G101,Lists!$BM$2:$BR$478,COLUMN(),FALSE))","v":""},{"$f":"IF($G101=\"\",\"\",VLOOKUP($G101,Lists!$BM$2:$BR$478,COLUMN(),FALSE))","v":""}]
[null,{"$f":"IF($G102=\"\",\"\",VLOOKUP($G102,Lists!$BM$2:$BR$478,COLUMN(),FALSE))","v":""},{"$f":"IF($G102=\"\",\"\",VLOOKUP($G102,Lists!$BM$2:$BR$478,COLUMN(),FALSE))","v":""},{"$f":"IF($G102=\"\",\"\",VLOOKUP($G102,Lists!$BM$2:$BR$478,COLUMN(),FALSE))","v":""},{"$f":"IF($G102=\"\",\"\",VLOOKUP($G102,Lists!$BM$2:$BR$478,COLUMN(),FALSE))","v":""},{"$f":"IF($G102=\"\",\"\",VLOOKUP($G102,Lists!$BM$2:$BR$478,COLUMN(),FALSE))","v":""}]
[null,{"$f":"IF($G103=\"\",\"\",VLOOKUP($G103,Lists!$BM$2:$BR$478,COLUMN(),FALSE))","v":""},{"$f":"IF($G103=\"\",\"\",VLOOKUP($G103,Lists!$BM$2:$BR$478,COLUMN(),FALSE))","v":""},{"$f":"IF($G103=\"\",\"\",VLOOKUP($G103,Lists!$BM$2:$BR$478,COLUMN(),FALSE))","v":""},{"$f":"IF($G103=\"\",\"\",VLOOKUP($G103,Lists!$BM$2:$BR$478,COLUMN(),FALSE))","v":""},{"$f":"IF($G103=\"\",\"\",VLOOKUP($G103,Lists!$BM$2:$BR$478,COLUMN(),FALSE))","v":""}]
[null,{"$f":"IF($G104=\"\",\"\",VLOOKUP($G104,Lists!$BM$2:$BR$478,COLUMN(),FALSE))","v":""},{"$f":"IF($G104=\"\",\"\",VLOOKUP($G104,Lists!$BM$2:$BR$478,COLUMN(),FALSE))","v":""},{"$f":"IF($G104=\"\",\"\",VLOOKUP($G104,Lists!$BM$2:$BR$478,COLUMN(),FALSE))","v":""},{"$f":"IF($G104=\"\",\"\",VLOOKUP($G104,Lists!$BM$2:$BR$478,COLUMN(),FALSE))","v":""},{"$f":"IF($G104=\"\",\"\",VLOOKUP($G104,Lists!$BM$2:$BR$478,COLUMN(),FALSE))","v":""}]
[null,{"$f":"IF($G105=\"\",\"\",VLOOKUP($G105,Lists!$BM$2:$BR$478,COLUMN(),FALSE))","v":""},{"$f":"IF($G105=\"\",\"\",VLOOKUP($G105,Lists!$BM$2:$BR$478,COLUMN(),FALSE))","v":""},{"$f":"IF($G105=\"\",\"\",VLOOKUP($G105,Lists!$BM$2:$BR$478,COLUMN(),FALSE))","v":""},{"$f":"IF($G105=\"\",\"\",VLOOKUP($G105,Lists!$BM$2:$BR$478,COLUMN(),FALSE))","v":""},{"$f":"IF($G105=\"\",\"\",VLOOKUP($G105,Lists!$BM$2:$BR$478,COLUMN(),FALSE))","v":""}]
[null,{"$f":"IF($G106=\"\",\"\",VLOOKUP($G106,Lists!$BM$2:$BR$478,COLUMN(),FALSE))","v":""},{"$f":"IF($G106=\"\",\"\",VLOOKUP($G106,Lists!$BM$2:$BR$478,COLUMN(),FALSE))","v":""},{"$f":"IF($G106=\"\",\"\",VLOOKUP($G106,Lists!$BM$2:$BR$478,COLUMN(),FALSE))","v":""},{"$f":"IF($G106=\"\",\"\",VLOOKUP($G106,Lists!$BM$2:$BR$478,COLUMN(),FALSE))","v":""},{"$f":"IF($G106=\"\",\"\",VLOOKUP($G106,Lists!$BM$2:$BR$478,COLUMN(),FALSE))","v":""}]
[null,{"$f":"IF($G107=\"\",\"\",VLOOKUP($G107,Lists!$BM$2:$BR$478,COLUMN(),FALSE))","v":""},{"$f":"IF($G107=\"\",\"\",VLOOKUP($G107,Lists!$BM$2:$BR$478,COLUMN(),FALSE))","v":""},{"$f":"IF($G107=\"\",\"\",VLOOKUP($G107,Lists!$BM$2:$BR$478,COLUMN(),FALSE))","v":""},{"$f":"IF($G107=\"\",\"\",VLOOKUP($G107,Lists!$BM$2:$BR$478,COLUMN(),FALSE))","v":""},{"$f":"IF($G107=\"\",\"\",VLOOKUP($G107,Lists!$BM$2:$BR$478,COLUMN(),FALSE))","v":""}]
[null,{"$f":"IF($G108=\"\",\"\",VLOOKUP($G108,Lists!$BM$2:$BR$478,COLUMN(),FALSE))","v":""},{"$f":"IF($G108=\"\",\"\",VLOOKUP($G108,Lists!$BM$2:$BR$478,COLUMN(),FALSE))","v":""},{"$f":"IF($G108=\"\",\"\",VLOOKUP($G108,Lists!$BM$2:$BR$478,COLUMN(),FALSE))","v":""},{"$f":"IF($G108=\"\",\"\",VLOOKUP($G108,Lists!$BM$2:$BR$478,COLUMN(),FALSE))","v":""},{"$f":"IF($G108=\"\",\"\",VLOOKUP($G108,Lists!$BM$2:$BR$478,COLUMN(),FALSE))","v":""}]
[null,{"$f":"IF($G109=\"\",\"\",VLOOKUP($G109,Lists!$BM$2:$BR$478,COLUMN(),FALSE))","v":""},{"$f":"IF($G109=\"\",\"\",VLOOKUP($G109,Lists!$BM$2:$BR$478,COLUMN(),FALSE))","v":""},{"$f":"IF($G109=\"\",\"\",VLOOKUP($G109,Lists!$BM$2:$BR$478,COLUMN(),FALSE))","v":""},{"$f":"IF($G109=\"\",\"\",VLOOKUP($G109,Lists!$BM$2:$BR$478,COLUMN(),FALSE))","v":""},{"$f":"IF($G109=\"\",\"\",VLOOKUP($G109,Lists!$BM$2:$BR$478,COLUMN(),FALSE))","v":""}]
[null,{"$f":"IF($G110=\"\",\"\",VLOOKUP($G110,Lists!$BM$2:$BR$478,COLUMN(),FALSE))","v":""},{"$f":"IF($G110=\"\",\"\",VLOOKUP($G110,Lists!$BM$2:$BR$478,COLUMN(),FALSE))","v":""},{"$f":"IF($G110=\"\",\"\",VLOOKUP($G110,Lists!$BM$2:$BR$478,COLUMN(),FALSE))","v":""},{"$f":"IF($G110=\"\",\"\",VLOOKUP($G110,Lists!$BM$2:$BR$478,COLUMN(),FALSE))","v":""},{"$f":"IF($G110=\"\",\"\",VLOOKUP($G110,Lists!$BM$2:$BR$478,COLUMN(),FALSE))","v":""}]
[null,{"$f":"IF($G111=\"\",\"\",VLOOKUP($G111,Lists!$BM$2:$BR$478,COLUMN(),FALSE))","v":""},{"$f":"IF($G111=\"\",\"\",VLOOKUP($G111,Lists!$BM$2:$BR$478,COLUMN(),FALSE))","v":""},{"$f":"IF($G111=\"\",\"\",VLOOKUP($G111,Lists!$BM$2:$BR$478,COLUMN(),FALSE))","v":""},{"$f":"IF($G111=\"\",\"\",VLOOKUP($G111,Lists!$BM$2:$BR$478,COLUMN(),FALSE))","v":""},{"$f":"IF($G111=\"\",\"\",VLOOKUP($G111,Lists!$BM$2:$BR$478,COLUMN(),FALSE))","v":""}]
[null,{"$f":"IF($G112=\"\",\"\",VLOOKUP($G112,Lists!$BM$2:$BR$478,COLUMN(),FALSE))","v":""},{"$f":"IF($G112=\"\",\"\",VLOOKUP($G112,Lists!$BM$2:$BR$478,COLUMN(),FALSE))","v":""},{"$f":"IF($G112=\"\",\"\",VLOOKUP($G112,Lists!$BM$2:$BR$478,COLUMN(),FALSE))","v":""},{"$f":"IF($G112=\"\",\"\",VLOOKUP($G112,Lists!$BM$2:$BR$478,COLUMN(),FALSE))","v":""},{"$f":"IF($G112=\"\",\"\",VLOOKUP($G112,Lists!$BM$2:$BR$478,COLUMN(),FALSE))","v":""}]
[null,{"$f":"IF($G113=\"\",\"\",VLOOKUP($G113,Lists!$BM$2:$BR$478,COLUMN(),FALSE))","v":""},{"$f":"IF($G113=\"\",\"\",VLOOKUP($G113,Lists!$BM$2:$BR$478,COLUMN(),FALSE))","v":""},{"$f":"IF($G113=\"\",\"\",VLOOKUP($G113,Lists!$BM$2:$BR$478,COLUMN(),FALSE))","v":""},{"$f":"IF($G113=\"\",\"\",VLOOKUP($G113,Lists!$BM$2:$BR$478,COLUMN(),FALSE))","v":""},{"$f":"IF($G113=\"\",\"\",VLOOKUP($G113,Lists!$BM$2:$BR$478,COLUMN(),FALSE))","v":""}]
[null,{"$f":"IF($G114=\"\",\"\",VLOOKUP($G114,Lists!$BM$2:$BR$478,COLUMN(),FALSE))","v":""},{"$f":"IF($G114=\"\",\"\",VLOOKUP($G114,Lists!$BM$2:$BR$478,COLUMN(),FALSE))","v":""},{"$f":"IF($G114=\"\",\"\",VLOOKUP($G114,Lists!$BM$2:$BR$478,COLUMN(),FALSE))","v":""},{"$f":"IF($G114=\"\",\"\",VLOOKUP($G114,Lists!$BM$2:$BR$478,COLUMN(),FALSE))","v":""},{"$f":"IF($G114=\"\",\"\",VLOOKUP($G114,Lists!$BM$2:$BR$478,COLUMN(),FALSE))","v":""}]
[null,{"$f":"IF($G115=\"\",\"\",VLOOKUP($G115,Lists!$BM$2:$BR$478,COLUMN(),FALSE))","v":""},{"$f":"IF($G115=\"\",\"\",VLOOKUP($G115,Lists!$BM$2:$BR$478,COLUMN(),FALSE))","v":""},{"$f":"IF($G115=\"\",\"\",VLOOKUP($G115,Lists!$BM$2:$BR$478,COLUMN(),FALSE))","v":""},{"$f":"IF($G115=\"\",\"\",VLOOKUP($G115,Lists!$BM$2:$BR$478,COLUMN(),FALSE))","v":""},{"$f":"IF($G115=\"\",\"\",VLOOKUP($G115,Lists!$BM$2:$BR$478,COLUMN(),FALSE))","v":""}]
[null,{"$f":"IF($G116=\"\",\"\",VLOOKUP($G116,Lists!$BM$2:$BR$478,COLUMN(),FALSE))","v":""},{"$f":"IF($G116=\"\",\"\",VLOOKUP($G116,Lists!$BM$2:$BR$478,COLUMN(),FALSE))","v":""},{"$f":"IF($G116=\"\",\"\",VLOOKUP($G116,Lists!$BM$2:$BR$478,COLUMN(),FALSE))","v":""},{"$f":"IF($G116=\"\",\"\",VLOOKUP($G116,Lists!$BM$2:$BR$478,COLUMN(),FALSE))","v":""},{"$f":"IF($G116=\"\",\"\",VLOOKUP($G116,Lists!$BM$2:$BR$478,COLUMN(),FALSE))","v":""}]
[null,{"$f":"IF($G117=\"\",\"\",VLOOKUP($G117,Lists!$BM$2:$BR$478,COLUMN(),FALSE))","v":""},{"$f":"IF($G117=\"\",\"\",VLOOKUP($G117,Lists!$BM$2:$BR$478,COLUMN(),FALSE))","v":""},{"$f":"IF($G117=\"\",\"\",VLOOKUP($G117,Lists!$BM$2:$BR$478,COLUMN(),FALSE))","v":""},{"$f":"IF($G117=\"\",\"\",VLOOKUP($G117,Lists!$BM$2:$BR$478,COLUMN(),FALSE))","v":""},{"$f":"IF($G117=\"\",\"\",VLOOKUP($G117,Lists!$BM$2:$BR$478,COLUMN(),FALSE))","v":""}]
[null,{"$f":"IF($G118=\"\",\"\",VLOOKUP($G118,Lists!$BM$2:$BR$478,COLUMN(),FALSE))","v":""},{"$f":"IF($G118=\"\",\"\",VLOOKUP($G118,Lists!$BM$2:$BR$478,COLUMN(),FALSE))","v":""},{"$f":"IF($G118=\"\",\"\",VLOOKUP($G118,Lists!$BM$2:$BR$478,COLUMN(),FALSE))","v":""},{"$f":"IF($G118=\"\",\"\",VLOOKUP($G118,Lists!$BM$2:$BR$478,COLUMN(),FALSE))","v":""},{"$f":"IF($G118=\"\",\"\",VLOOKUP($G118,Lists!$BM$2:$BR$478,COLUMN(),FALSE))","v":""}]
[null,{"$f":"IF($G119=\"\",\"\",VLOOKUP($G119,Lists!$BM$2:$BR$478,COLUMN(),FALSE))","v":""},{"$f":"IF($G119=\"\",\"\",VLOOKUP($G119,Lists!$BM$2:$BR$478,COLUMN(),FALSE))","v":""},{"$f":"IF($G119=\"\",\"\",VLOOKUP($G119,Lists!$BM$2:$BR$478,COLUMN(),FALSE))","v":""},{"$f":"IF($G119=\"\",\"\",VLOOKUP($G119,Lists!$BM$2:$BR$478,COLUMN(),FALSE))","v":""},{"$f":"IF($G119=\"\",\"\",VLOOKUP($G119,Lists!$BM$2:$BR$478,COLUMN(),FALSE))","v":""}]
[null,{"$f":"IF($G120=\"\",\"\",VLOOKUP($G120,Lists!$BM$2:$BR$478,COLUMN(),FALSE))","v":""},{"$f":"IF($G120=\"\",\"\",VLOOKUP($G120,Lists!$BM$2:$BR$478,COLUMN(),FALSE))","v":""},{"$f":"IF($G120=\"\",\"\",VLOOKUP($G120,Lists!$BM$2:$BR$478,COLUMN(),FALSE))","v":""},{"$f":"IF($G120=\"\",\"\",VLOOKUP($G120,Lists!$BM$2:$BR$478,COLUMN(),FALSE))","v":""},{"$f":"IF($G120=\"\",\"\",VLOOKUP($G120,Lists!$BM$2:$BR$478,COLUMN(),FALSE))","v":""}]
[null,{"$f":"IF($G121=\"\",\"\",VLOOKUP($G121,Lists!$BM$2:$BR$478,COLUMN(),FALSE))","v":""},{"$f":"IF($G121=\"\",\"\",VLOOKUP($G121,Lists!$BM$2:$BR$478,COLUMN(),FALSE))","v":""},{"$f":"IF($G121=\"\",\"\",VLOOKUP($G121,Lists!$BM$2:$BR$478,COLUMN(),FALSE))","v":""},{"$f":"IF($G121=\"\",\"\",VLOOKUP($G121,Lists!$BM$2:$BR$478,COLUMN(),FALSE))","v":""},{"$f":"IF($G121=\"\",\"\",VLOOKUP($G121,Lists!$BM$2:$BR$478,COLUMN(),FALSE))","v":""}]
[null,{"$f":"IF($G122=\"\",\"\",VLOOKUP($G122,Lists!$BM$2:$BR$478,COLUMN(),FALSE))","v":""},{"$f":"IF($G122=\"\",\"\",VLOOKUP($G122,Lists!$BM$2:$BR$478,COLUMN(),FALSE))","v":""},{"$f":"IF($G122=\"\",\"\",VLOOKUP($G122,Lists!$BM$2:$BR$478,COLUMN(),FALSE))","v":""},{"$f":"IF($G122=\"\",\"\",VLOOKUP($G122,Lists!$BM$2:$BR$478,COLUMN(),FALSE))","v":""},{"$f":"IF($G122=\"\",\"\",VLOOKUP($G122,Lists!$BM$2:$BR$478,COLUMN(),FALSE))","v":""}]
[null,{"$f":"IF($G123=\"\",\"\",VLOOKUP($G123,Lists!$BM$2:$BR$478,COLUMN(),FALSE))","v":""},{"$f":"IF($G123=\"\",\"\",VLOOKUP($G123,Lists!$BM$2:$BR$478,COLUMN(),FALSE))","v":""},{"$f":"IF($G123=\"\",\"\",VLOOKUP($G123,Lists!$BM$2:$BR$478,COLUMN(),FALSE))","v":""},{"$f":"IF($G123=\"\",\"\",VLOOKUP($G123,Lists!$BM$2:$BR$478,COLUMN(),FALSE))","v":""},{"$f":"IF($G123=\"\",\"\",VLOOKUP($G123,Lists!$BM$2:$BR$478,COLUMN(),FALSE))","v":""}]
[null,{"$f":"IF($G124=\"\",\"\",VLOOKUP($G124,Lists!$BM$2:$BR$478,COLUMN(),FALSE))","v":""},{"$f":"IF($G124=\"\",\"\",VLOOKUP($G124,Lists!$BM$2:$BR$478,COLUMN(),FALSE))","v":""},{"$f":"IF($G124=\"\",\"\",VLOOKUP($G124,Lists!$BM$2:$BR$478,COLUMN(),FALSE))","v":""},{"$f":"IF($G124=\"\",\"\",VLOOKUP($G124,Lists!$BM$2:$BR$478,COLUMN(),FALSE))","v":""},{"$f":"IF($G124=\"\",\"\",VLOOKUP($G124,Lists!$BM$2:$BR$478,COLUMN(),FALSE))","v":""}]
[null,{"$f":"IF($G125=\"\",\"\",VLOOKUP($G125,Lists!$BM$2:$BR$478,COLUMN(),FALSE))","v":""},{"$f":"IF($G125=\"\",\"\",VLOOKUP($G125,Lists!$BM$2:$BR$478,COLUMN(),FALSE))","v":""},{"$f":"IF($G125=\"\",\"\",VLOOKUP($G125,Lists!$BM$2:$BR$478,COLUMN(),FALSE))","v":""},{"$f":"IF($G125=\"\",\"\",VLOOKUP($G125,Lists!$BM$2:$BR$478,COLUMN(),FALSE))","v":""},{"$f":"IF($G125=\"\",\"\",VLOOKUP($G125,Lists!$BM$2:$BR$478,COLUMN(),FALSE))","v":""}]
[null,{"$f":"IF($G126=\"\",\"\",VLOOKUP($G126,Lists!$BM$2:$BR$478,COLUMN(),FALSE))","v":""},{"$f":"IF($G126=\"\",\"\",VLOOKUP($G126,Lists!$BM$2:$BR$478,COLUMN(),FALSE))","v":""},{"$f":"IF($G126=\"\",\"\",VLOOKUP($G126,Lists!$BM$2:$BR$478,COLUMN(),FALSE))","v":""},{"$f":"IF($G126=\"\",\"\",VLOOKUP($G126,Lists!$BM$2:$BR$478,COLUMN(),FALSE))","v":""},{"$f":"IF($G126=\"\",\"\",VLOOKUP($G126,Lists!$BM$2:$BR$478,COLUMN(),FALSE))","v":""}]
[null,{"$f":"IF($G127=\"\",\"\",VLOOKUP($G127,Lists!$BM$2:$BR$478,COLUMN(),FALSE))","v":""},{"$f":"IF($G127=\"\",\"\",VLOOKUP($G127,Lists!$BM$2:$BR$478,COLUMN(),FALSE))","v":""},{"$f":"IF($G127=\"\",\"\",VLOOKUP($G127,Lists!$BM$2:$BR$478,COLUMN(),FALSE))","v":""},{"$f":"IF($G127=\"\",\"\",VLOOKUP($G127,Lists!$BM$2:$BR$478,COLUMN(),FALSE))","v":""},{"$f":"IF($G127=\"\",\"\",VLOOKUP($G127,Lists!$BM$2:$BR$478,COLUMN(),FALSE))","v":""}]
[null,{"$f":"IF($G128=\"\",\"\",VLOOKUP($G128,Lists!$BM$2:$BR$478,COLUMN(),FALSE))","v":""},{"$f":"IF($G128=\"\",\"\",VLOOKUP($G128,Lists!$BM$2:$BR$478,COLUMN(),FALSE))","v":""},{"$f":"IF($G128=\"\",\"\",VLOOKUP($G128,Lists!$BM$2:$BR$478,COLUMN(),FALSE))","v":""},{"$f":"IF($G128=\"\",\"\",VLOOKUP($G128,Lists!$BM$2:$BR$478,COLUMN(),FALSE))","v":""},{"$f":"IF($G128=\"\",\"\",VLOOKUP($G128,Lists!$BM$2:$BR$478,COLUMN(),FALSE))","v":""}]
[null,{"$f":"IF($G129=\"\",\"\",VLOOKUP($G129,Lists!$BM$2:$BR$478,COLUMN(),FALSE))","v":""},{"$f":"IF($G129=\"\",\"\",VLOOKUP($G129,Lists!$BM$2:$BR$478,COLUMN(),FALSE))","v":""},{"$f":"IF($G129=\"\",\"\",VLOOKUP($G129,Lists!$BM$2:$BR$478,COLUMN(),FALSE))","v":""},{"$f":"IF($G129=\"\",\"\",VLOOKUP($G129,Lists!$BM$2:$BR$478,COLUMN(),FALSE))","v":""},{"$f":"IF($G129=\"\",\"\",VLOOKUP($G129,Lists!$BM$2:$BR$478,COLUMN(),FALSE))","v":""}]
[null,{"$f":"IF($G130=\"\",\"\",VLOOKUP($G130,Lists!$BM$2:$BR$478,COLUMN(),FALSE))","v":""},{"$f":"IF($G130=\"\",\"\",VLOOKUP($G130,Lists!$BM$2:$BR$478,COLUMN(),FALSE))","v":""},{"$f":"IF($G130=\"\",\"\",VLOOKUP($G130,Lists!$BM$2:$BR$478,COLUMN(),FALSE))","v":""},{"$f":"IF($G130=\"\",\"\",VLOOKUP($G130,Lists!$BM$2:$BR$478,COLUMN(),FALSE))","v":""},{"$f":"IF($G130=\"\",\"\",VLOOKUP($G130,Lists!$BM$2:$BR$478,COLUMN(),FALSE))","v":""}]
[null,{"$f":"IF($G131=\"\",\"\",VLOOKUP($G131,Lists!$BM$2:$BR$478,COLUMN(),FALSE))","v":""},{"$f":"IF($G131=\"\",\"\",VLOOKUP($G131,Lists!$BM$2:$BR$478,COLUMN(),FALSE))","v":""},{"$f":"IF($G131=\"\",\"\",VLOOKUP($G131,Lists!$BM$2:$BR$478,COLUMN(),FALSE))","v":""},{"$f":"IF($G131=\"\",\"\",VLOOKUP($G131,Lists!$BM$2:$BR$478,COLUMN(),FALSE))","v":""},{"$f":"IF($G131=\"\",\"\",VLOOKUP($G131,Lists!$BM$2:$BR$478,COLUMN(),FALSE))","v":""}]
[null,{"$f":"IF($G132=\"\",\"\",VLOOKUP($G132,Lists!$BM$2:$BR$478,COLUMN(),FALSE))","v":""},{"$f":"IF($G132=\"\",\"\",VLOOKUP($G132,Lists!$BM$2:$BR$478,COLUMN(),FALSE))","v":""},{"$f":"IF($G132=\"\",\"\",VLOOKUP($G132,Lists!$BM$2:$BR$478,COLUMN(),FALSE))","v":""},{"$f":"IF($G132=\"\",\"\",VLOOKUP($G132,Lists!$BM$2:$BR$478,COLUMN(),FALSE))","v":""},{"$f":"IF($G132=\"\",\"\",VLOOKUP($G132,Lists!$BM$2:$BR$478,COLUMN(),FALSE))","v":""}]
[null,{"$f":"IF($G133=\"\",\"\",VLOOKUP($G133,Lists!$BM$2:$BR$478,COLUMN(),FALSE))","v":""},{"$f":"IF($G133=\"\",\"\",VLOOKUP($G133,Lists!$BM$2:$BR$478,COLUMN(),FALSE))","v":""},{"$f":"IF($G133=\"\",\"\",VLOOKUP($G133,Lists!$BM$2:$BR$478,COLUMN(),FALSE))","v":""},{"$f":"IF($G133=\"\",\"\",VLOOKUP($G133,Lists!$BM$2:$BR$478,COLUMN(),FALSE))","v":""},{"$f":"IF($G133=\"\",\"\",VLOOKUP($G133,Lists!$BM$2:$BR$478,COLUMN(),FALSE))","v":""}]
[null,{"$f":"IF($G134=\"\",\"\",VLOOKUP($G134,Lists!$BM$2:$BR$478,COLUMN(),FALSE))","v":""},{"$f":"IF($G134=\"\",\"\",VLOOKUP($G134,Lists!$BM$2:$BR$478,COLUMN(),FALSE))","v":""},{"$f":"IF($G134=\"\",\"\",VLOOKUP($G134,Lists!$BM$2:$BR$478,COLUMN(),FALSE))","v":""},{"$f":"IF($G134=\"\",\"\",VLOOKUP($G134,Lists!$BM$2:$BR$478,COLUMN(),FALSE))","v":""},{"$f":"IF($G134=\"\",\"\",VLOOKUP($G134,Lists!$BM$2:$BR$478,COLUMN(),FALSE))","v":""}]
[null,{"$f":"IF($G135=\"\",\"\",VLOOKUP($G135,Lists!$BM$2:$BR$478,COLUMN(),FALSE))","v":""},{"$f":"IF($G135=\"\",\"\",VLOOKUP($G135,Lists!$BM$2:$BR$478,COLUMN(),FALSE))","v":""},{"$f":"IF($G135=\"\",\"\",VLOOKUP($G135,Lists!$BM$2:$BR$478,COLUMN(),FALSE))","v":""},{"$f":"IF($G135=\"\",\"\",VLOOKUP($G135,Lists!$BM$2:$BR$478,COLUMN(),FALSE))","v":""},{"$f":"IF($G135=\"\",\"\",VLOOKUP($G135,Lists!$BM$2:$BR$478,COLUMN(),FALSE))","v":""}]
[null,{"$f":"IF($G136=\"\",\"\",VLOOKUP($G136,Lists!$BM$2:$BR$478,COLUMN(),FALSE))","v":""},{"$f":"IF($G136=\"\",\"\",VLOOKUP($G136,Lists!$BM$2:$BR$478,COLUMN(),FALSE))","v":""},{"$f":"IF($G136=\"\",\"\",VLOOKUP($G136,Lists!$BM$2:$BR$478,COLUMN(),FALSE))","v":""},{"$f":"IF($G136=\"\",\"\",VLOOKUP($G136,Lists!$BM$2:$BR$478,COLUMN(),FALSE))","v":""},{"$f":"IF($G136=\"\",\"\",VLOOKUP($G136,Lists!$BM$2:$BR$478,COLUMN(),FALSE))","v":""}]
[null,{"$f":"IF($G137=\"\",\"\",VLOOKUP($G137,Lists!$BM$2:$BR$478,COLUMN(),FALSE))","v":""},{"$f":"IF($G137=\"\",\"\",VLOOKUP($G137,Lists!$BM$2:$BR$478,COLUMN(),FALSE))","v":""},{"$f":"IF($G137=\"\",\"\",VLOOKUP($G137,Lists!$BM$2:$BR$478,COLUMN(),FALSE))","v":""},{"$f":"IF($G137=\"\",\"\",VLOOKUP($G137,Lists!$BM$2:$BR$478,COLUMN(),FALSE))","v":""},{"$f":"IF($G137=\"\",\"\",VLOOKUP($G137,Lists!$BM$2:$BR$478,COLUMN(),FALSE))","v":""}]
[null,{"$f":"IF($G138=\"\",\"\",VLOOKUP($G138,Lists!$BM$2:$BR$478,COLUMN(),FALSE))","v":""},{"$f":"IF($G138=\"\",\"\",VLOOKUP($G138,Lists!$BM$2:$BR$478,COLUMN(),FALSE))","v":""},{"$f":"IF($G138=\"\",\"\",VLOOKUP($G138,Lists!$BM$2:$BR$478,COLUMN(),FALSE))","v":""},{"$f":"IF($G138=\"\",\"\",VLOOKUP($G138,Lists!$BM$2:$BR$478,COLUMN(),FALSE))","v":""},{"$f":"IF($G138=\"\",\"\",VLOOKUP($G138,Lists!$BM$2:$BR$478,COLUMN(),FALSE))","v":""}]
[null,{"$f":"IF($G139=\"\",\"\",VLOOKUP($G139,Lists!$BM$2:$BR$478,COLUMN(),FALSE))","v":""},{"$f":"IF($G139=\"\",\"\",VLOOKUP($G139,Lists!$BM$2:$BR$478,COLUMN(),FALSE))","v":""},{"$f":"IF($G139=\"\",\"\",VLOOKUP($G139,Lists!$BM$2:$BR$478,COLUMN(),FALSE))","v":""},{"$f":"IF($G139=\"\",\"\",VLOOKUP($G139,Lists!$BM$2:$BR$478,COLUMN(),FALSE))","v":""},{"$f":"IF($G139=\"\",\"\",VLOOKUP($G139,Lists!$BM$2:$BR$478,COLUMN(),FALSE))","v":""}]
[null,{"$f":"IF($G140=\"\",\"\",VLOOKUP($G140,Lists!$BM$2:$BR$478,COLUMN(),FALSE))","v":""},{"$f":"IF($G140=\"\",\"\",VLOOKUP($G140,Lists!$BM$2:$BR$478,COLUMN(),FALSE))","v":""},{"$f":"IF($G140=\"\",\"\",VLOOKUP($G140,Lists!$BM$2:$BR$478,COLUMN(),FALSE))","v":""},{"$f":"IF($G140=\"\",\"\",VLOOKUP($G140,Lists!$BM$2:$BR$478,COLUMN(),FALSE))","v":""},{"$f":"IF($G140=\"\",\"\",VLOOKUP($G140,Lists!$BM$2:$BR$478,COLUMN(),FALSE))","v":""}]
[null,{"$f":"IF($G141=\"\",\"\",VLOOKUP($G141,Lists!$BM$2:$BR$478,COLUMN(),FALSE))","v":""},{"$f":"IF($G141=\"\",\"\",VLOOKUP($G141,Lists!$BM$2:$BR$478,COLUMN(),FALSE))","v":""},{"$f":"IF($G141=\"\",\"\",VLOOKUP($G141,Lists!$BM$2:$BR$478,COLUMN(),FALSE))","v":""},{"$f":"IF($G141=\"\",\"\",VLOOKUP($G141,Lists!$BM$2:$BR$478,COLUMN(),FALSE))","v":""},{"$f":"IF($G141=\"\",\"\",VLOOKUP($G141,Lists!$BM$2:$BR$478,COLUMN(),FALSE))","v":""}]
[null,{"$f":"IF($G142=\"\",\"\",VLOOKUP($G142,Lists!$BM$2:$BR$478,COLUMN(),FALSE))","v":""},{"$f":"IF($G142=\"\",\"\",VLOOKUP($G142,Lists!$BM$2:$BR$478,COLUMN(),FALSE))","v":""},{"$f":"IF($G142=\"\",\"\",VLOOKUP($G142,Lists!$BM$2:$BR$478,COLUMN(),FALSE))","v":""},{"$f":"IF($G142=\"\",\"\",VLOOKUP($G142,Lists!$BM$2:$BR$478,COLUMN(),FALSE))","v":""},{"$f":"IF($G142=\"\",\"\",VLOOKUP($G142,Lists!$BM$2:$BR$478,COLUMN(),FALSE))","v":""}]
[null,{"$f":"IF($G143=\"\",\"\",VLOOKUP($G143,Lists!$BM$2:$BR$478,COLUMN(),FALSE))","v":""},{"$f":"IF($G143=\"\",\"\",VLOOKUP($G143,Lists!$BM$2:$BR$478,COLUMN(),FALSE))","v":""},{"$f":"IF($G143=\"\",\"\",VLOOKUP($G143,Lists!$BM$2:$BR$478,COLUMN(),FALSE))","v":""},{"$f":"IF($G143=\"\",\"\",VLOOKUP($G143,Lists!$BM$2:$BR$478,COLUMN(),FALSE))","v":""},{"$f":"IF($G143=\"\",\"\",VLOOKUP($G143,Lists!$BM$2:$BR$478,COLUMN(),FALSE))","v":""}]
[null,{"$f":"IF($G144=\"\",\"\",VLOOKUP($G144,Lists!$BM$2:$BR$478,COLUMN(),FALSE))","v":""},{"$f":"IF($G144=\"\",\"\",VLOOKUP($G144,Lists!$BM$2:$BR$478,COLUMN(),FALSE))","v":""},{"$f":"IF($G144=\"\",\"\",VLOOKUP($G144,Lists!$BM$2:$BR$478,COLUMN(),FALSE))","v":""},{"$f":"IF($G144=\"\",\"\",VLOOKUP($G144,Lists!$BM$2:$BR$478,COLUMN(),FALSE))","v":""},{"$f":"IF($G144=\"\",\"\",VLOOKUP($G144,Lists!$BM$2:$BR$478,COLUMN(),FALSE))","v":""}]
[null,{"$f":"IF($G145=\"\",\"\",VLOOKUP($G145,Lists!$BM$2:$BR$478,COLUMN(),FALSE))","v":""},{"$f":"IF($G145=\"\",\"\",VLOOKUP($G145,Lists!$BM$2:$BR$478,COLUMN(),FALSE))","v":""},{"$f":"IF($G145=\"\",\"\",VLOOKUP($G145,Lists!$BM$2:$BR$478,COLUMN(),FALSE))","v":""},{"$f":"IF($G145=\"\",\"\",VLOOKUP($G145,Lists!$BM$2:$BR$478,COLUMN(),FALSE))","v":""},{"$f":"IF($G145=\"\",\"\",VLOOKUP($G145,Lists!$BM$2:$BR$478,COLUMN(),FALSE))","v":""}]
[null,{"$f":"IF($G146=\"\",\"\",VLOOKUP($G146,Lists!$BM$2:$BR$478,COLUMN(),FALSE))","v":""},{"$f":"IF($G146=\"\",\"\",VLOOKUP($G146,Lists!$BM$2:$BR$478,COLUMN(),FALSE))","v":""},{"$f":"IF($G146=\"\",\"\",VLOOKUP($G146,Lists!$BM$2:$BR$478,COLUMN(),FALSE))","v":""},{"$f":"IF($G146=\"\",\"\",VLOOKUP($G146,Lists!$BM$2:$BR$478,COLUMN(),FALSE))","v":""},{"$f":"IF($G146=\"\",\"\",VLOOKUP($G146,Lists!$BM$2:$BR$478,COLUMN(),FALSE))","v":""}]
[null,{"$f":"IF($G147=\"\",\"\",VLOOKUP($G147,Lists!$BM$2:$BR$478,COLUMN(),FALSE))","v":""},{"$f":"IF($G147=\"\",\"\",VLOOKUP($G147,Lists!$BM$2:$BR$478,COLUMN(),FALSE))","v":""},{"$f":"IF($G147=\"\",\"\",VLOOKUP($G147,Lists!$BM$2:$BR$478,COLUMN(),FALSE))","v":""},{"$f":"IF($G147=\"\",\"\",VLOOKUP($G147,Lists!$BM$2:$BR$478,COLUMN(),FALSE))","v":""},{"$f":"IF($G147=\"\",\"\",VLOOKUP($G147,Lists!$BM$2:$BR$478,COLUMN(),FALSE))","v":""}]
[null,{"$f":"IF($G148=\"\",\"\",VLOOKUP($G148,Lists!$BM$2:$BR$478,COLUMN(),FALSE))","v":""},{"$f":"IF($G148=\"\",\"\",VLOOKUP($G148,Lists!$BM$2:$BR$478,COLUMN(),FALSE))","v":""},{"$f":"IF($G148=\"\",\"\",VLOOKUP($G148,Lists!$BM$2:$BR$478,COLUMN(),FALSE))","v":""},{"$f":"IF($G148=\"\",\"\",VLOOKUP($G148,Lists!$BM$2:$BR$478,COLUMN(),FALSE))","v":""},{"$f":"IF($G148=\"\",\"\",VLOOKUP($G148,Lists!$BM$2:$BR$478,COLUMN(),FALSE))","v":""}]
[null,{"$f":"IF($G149=\"\",\"\",VLOOKUP($G149,Lists!$BM$2:$BR$478,COLUMN(),FALSE))","v":""},{"$f":"IF($G149=\"\",\"\",VLOOKUP($G149,Lists!$BM$2:$BR$478,COLUMN(),FALSE))","v":""},{"$f":"IF($G149=\"\",\"\",VLOOKUP($G149,Lists!$BM$2:$BR$478,COLUMN(),FALSE))","v":""},{"$f":"IF($G149=\"\",\"\",VLOOKUP($G149,Lists!$BM$2:$BR$478,COLUMN(),FALSE))","v":""},{"$f":"IF($G149=\"\",\"\",VLOOKUP($G149,Lists!$BM$2:$BR$478,COLUMN(),FALSE))","v":""}]
[null,{"$f":"IF($G150=\"\",\"\",VLOOKUP($G150,Lists!$BM$2:$BR$478,COLUMN(),FALSE))","v":""},{"$f":"IF($G150=\"\",\"\",VLOOKUP($G150,Lists!$BM$2:$BR$478,COLUMN(),FALSE))","v":""},{"$f":"IF($G150=\"\",\"\",VLOOKUP($G150,Lists!$BM$2:$BR$478,COLUMN(),FALSE))","v":""},{"$f":"IF($G150=\"\",\"\",VLOOKUP($G150,Lists!$BM$2:$BR$478,COLUMN(),FALSE))","v":""},{"$f":"IF($G150=\"\",\"\",VLOOKUP($G150,Lists!$BM$2:$BR$478,COLUMN(),FALSE))","v":""}]
[null,{"$f":"IF($G151=\"\",\"\",VLOOKUP($G151,Lists!$BM$2:$BR$478,COLUMN(),FALSE))","v":""},{"$f":"IF($G151=\"\",\"\",VLOOKUP($G151,Lists!$BM$2:$BR$478,COLUMN(),FALSE))","v":""},{"$f":"IF($G151=\"\",\"\",VLOOKUP($G151,Lists!$BM$2:$BR$478,COLUMN(),FALSE))","v":""},{"$f":"IF($G151=\"\",\"\",VLOOKUP($G151,Lists!$BM$2:$BR$478,COLUMN(),FALSE))","v":""},{"$f":"IF($G151=\"\",\"\",VLOOKUP($G151,Lists!$BM$2:$BR$478,COLUMN(),FALSE))","v":""}]
[null,{"$f":"IF($G152=\"\",\"\",VLOOKUP($G152,Lists!$BM$2:$BR$478,COLUMN(),FALSE))","v":""},{"$f":"IF($G152=\"\",\"\",VLOOKUP($G152,Lists!$BM$2:$BR$478,COLUMN(),FALSE))","v":""},{"$f":"IF($G152=\"\",\"\",VLOOKUP($G152,Lists!$BM$2:$BR$478,COLUMN(),FALSE))","v":""},{"$f":"IF($G152=\"\",\"\",VLOOKUP($G152,Lists!$BM$2:$BR$478,COLUMN(),FALSE))","v":""},{"$f":"IF($G152=\"\",\"\",VLOOKUP($G152,Lists!$BM$2:$BR$478,COLUMN(),FALSE))","v":""}]
[null,{"$f":"IF($G153=\"\",\"\",VLOOKUP($G153,Lists!$BM$2:$BR$478,COLUMN(),FALSE))","v":""},{"$f":"IF($G153=\"\",\"\",VLOOKUP($G153,Lists!$BM$2:$BR$478,COLUMN(),FALSE))","v":""},{"$f":"IF($G153=\"\",\"\",VLOOKUP($G153,Lists!$BM$2:$BR$478,COLUMN(),FALSE))","v":""},{"$f":"IF($G153=\"\",\"\",VLOOKUP($G153,Lists!$BM$2:$BR$478,COLUMN(),FALSE))","v":""},{"$f":"IF($G153=\"\",\"\",VLOOKUP($G153,Lists!$BM$2:$BR$478,COLUMN(),FALSE))","v":""}]
[null,{"$f":"IF($G154=\"\",\"\",VLOOKUP($G154,Lists!$BM$2:$BR$478,COLUMN(),FALSE))","v":""},{"$f":"IF($G154=\"\",\"\",VLOOKUP($G154,Lists!$BM$2:$BR$478,COLUMN(),FALSE))","v":""},{"$f":"IF($G154=\"\",\"\",VLOOKUP($G154,Lists!$BM$2:$BR$478,COLUMN(),FALSE))","v":""},{"$f":"IF($G154=\"\",\"\",VLOOKUP($G154,Lists!$BM$2:$BR$478,COLUMN(),FALSE))","v":""},{"$f":"IF($G154=\"\",\"\",VLOOKUP($G154,Lists!$BM$2:$BR$478,COLUMN(),FALSE))","v":""}]
[null,{"$f":"IF($G155=\"\",\"\",VLOOKUP($G155,Lists!$BM$2:$BR$478,COLUMN(),FALSE))","v":""},{"$f":"IF($G155=\"\",\"\",VLOOKUP($G155,Lists!$BM$2:$BR$478,COLUMN(),FALSE))","v":""},{"$f":"IF($G155=\"\",\"\",VLOOKUP($G155,Lists!$BM$2:$BR$478,COLUMN(),FALSE))","v":""},{"$f":"IF($G155=\"\",\"\",VLOOKUP($G155,Lists!$BM$2:$BR$478,COLUMN(),FALSE))","v":""},{"$f":"IF($G155=\"\",\"\",VLOOKUP($G155,Lists!$BM$2:$BR$478,COLUMN(),FALSE))","v":""}]
[null,{"$f":"IF($G156=\"\",\"\",VLOOKUP($G156,Lists!$BM$2:$BR$478,COLUMN(),FALSE))","v":""},{"$f":"IF($G156=\"\",\"\",VLOOKUP($G156,Lists!$BM$2:$BR$478,COLUMN(),FALSE))","v":""},{"$f":"IF($G156=\"\",\"\",VLOOKUP($G156,Lists!$BM$2:$BR$478,COLUMN(),FALSE))","v":""},{"$f":"IF($G156=\"\",\"\",VLOOKUP($G156,Lists!$BM$2:$BR$478,COLUMN(),FALSE))","v":""},{"$f":"IF($G156=\"\",\"\",VLOOKUP($G156,Lists!$BM$2:$BR$478,COLUMN(),FALSE))","v":""}]
[null,{"$f":"IF($G157=\"\",\"\",VLOOKUP($G157,Lists!$BM$2:$BR$478,COLUMN(),FALSE))","v":""},{"$f":"IF($G157=\"\",\"\",VLOOKUP($G157,Lists!$BM$2:$BR$478,COLUMN(),FALSE))","v":""},{"$f":"IF($G157=\"\",\"\",VLOOKUP($G157,Lists!$BM$2:$BR$478,COLUMN(),FALSE))","v":""},{"$f":"IF($G157=\"\",\"\",VLOOKUP($G157,Lists!$BM$2:$BR$478,COLUMN(),FALSE))","v":""},{"$f":"IF($G157=\"\",\"\",VLOOKUP($G157,Lists!$BM$2:$BR$478,COLUMN(),FALSE))","v":""}]
[null,{"$f":"IF($G158=\"\",\"\",VLOOKUP($G158,Lists!$BM$2:$BR$478,COLUMN(),FALSE))","v":""},{"$f":"IF($G158=\"\",\"\",VLOOKUP($G158,Lists!$BM$2:$BR$478,COLUMN(),FALSE))","v":""},{"$f":"IF($G158=\"\",\"\",VLOOKUP($G158,Lists!$BM$2:$BR$478,COLUMN(),FALSE))","v":""},{"$f":"IF($G158=\"\",\"\",VLOOKUP($G158,Lists!$BM$2:$BR$478,COLUMN(),FALSE))","v":""},{"$f":"IF($G158=\"\",\"\",VLOOKUP($G158,Lists!$BM$2:$BR$478,COLUMN(),FALSE))","v":""}]
[null,{"$f":"IF($G159=\"\",\"\",VLOOKUP($G159,Lists!$BM$2:$BR$478,COLUMN(),FALSE))","v":""},{"$f":"IF($G159=\"\",\"\",VLOOKUP($G159,Lists!$BM$2:$BR$478,COLUMN(),FALSE))","v":""},{"$f":"IF($G159=\"\",\"\",VLOOKUP($G159,Lists!$BM$2:$BR$478,COLUMN(),FALSE))","v":""},{"$f":"IF($G159=\"\",\"\",VLOOKUP($G159,Lists!$BM$2:$BR$478,COLUMN(),FALSE))","v":""},{"$f":"IF($G159=\"\",\"\",VLOOKUP($G159,Lists!$BM$2:$BR$478,COLUMN(),FALSE))","v":""}]
[null,{"$f":"IF($G160=\"\",\"\",VLOOKUP($G160,Lists!$BM$2:$BR$478,COLUMN(),FALSE))","v":""},{"$f":"IF($G160=\"\",\"\",VLOOKUP($G160,Lists!$BM$2:$BR$478,COLUMN(),FALSE))","v":""},{"$f":"IF($G160=\"\",\"\",VLOOKUP($G160,Lists!$BM$2:$BR$478,COLUMN(),FALSE))","v":""},{"$f":"IF($G160=\"\",\"\",VLOOKUP($G160,Lists!$BM$2:$BR$478,COLUMN(),FALSE))","v":""},{"$f":"IF($G160=\"\",\"\",VLOOKUP($G160,Lists!$BM$2:$BR$478,COLUMN(),FALSE))","v":""}]
[null,{"$f":"IF($G161=\"\",\"\",VLOOKUP($G161,Lists!$BM$2:$BR$478,COLUMN(),FALSE))","v":""},{"$f":"IF($G161=\"\",\"\",VLOOKUP($G161,Lists!$BM$2:$BR$478,COLUMN(),FALSE))","v":""},{"$f":"IF($G161=\"\",\"\",VLOOKUP($G161,Lists!$BM$2:$BR$478,COLUMN(),FALSE))","v":""},{"$f":"IF($G161=\"\",\"\",VLOOKUP($G161,Lists!$BM$2:$BR$478,COLUMN(),FALSE))","v":""},{"$f":"IF($G161=\"\",\"\",VLOOKUP($G161,Lists!$BM$2:$BR$478,COLUMN(),FALSE))","v":""}]
[null,{"$f":"IF($G162=\"\",\"\",VLOOKUP($G162,Lists!$BM$2:$BR$478,COLUMN(),FALSE))","v":""},{"$f":"IF($G162=\"\",\"\",VLOOKUP($G162,Lists!$BM$2:$BR$478,COLUMN(),FALSE))","v":""},{"$f":"IF($G162=\"\",\"\",VLOOKUP($G162,Lists!$BM$2:$BR$478,COLUMN(),FALSE))","v":""},{"$f":"IF($G162=\"\",\"\",VLOOKUP($G162,Lists!$BM$2:$BR$478,COLUMN(),FALSE))","v":""},{"$f":"IF($G162=\"\",\"\",VLOOKUP($G162,Lists!$BM$2:$BR$478,COLUMN(),FALSE))","v":""}]
[null,{"$f":"IF($G163=\"\",\"\",VLOOKUP($G163,Lists!$BM$2:$BR$478,COLUMN(),FALSE))","v":""},{"$f":"IF($G163=\"\",\"\",VLOOKUP($G163,Lists!$BM$2:$BR$478,COLUMN(),FALSE))","v":""},{"$f":"IF($G163=\"\",\"\",VLOOKUP($G163,Lists!$BM$2:$BR$478,COLUMN(),FALSE))","v":""},{"$f":"IF($G163=\"\",\"\",VLOOKUP($G163,Lists!$BM$2:$BR$478,COLUMN(),FALSE))","v":""},{"$f":"IF($G163=\"\",\"\",VLOOKUP($G163,Lists!$BM$2:$BR$478,COLUMN(),FALSE))","v":""}]
[null,{"$f":"IF($G164=\"\",\"\",VLOOKUP($G164,Lists!$BM$2:$BR$478,COLUMN(),FALSE))","v":""},{"$f":"IF($G164=\"\",\"\",VLOOKUP($G164,Lists!$BM$2:$BR$478,COLUMN(),FALSE))","v":""},{"$f":"IF($G164=\"\",\"\",VLOOKUP($G164,Lists!$BM$2:$BR$478,COLUMN(),FALSE))","v":""},{"$f":"IF($G164=\"\",\"\",VLOOKUP($G164,Lists!$BM$2:$BR$478,COLUMN(),FALSE))","v":""},{"$f":"IF($G164=\"\",\"\",VLOOKUP($G164,Lists!$BM$2:$BR$478,COLUMN(),FALSE))","v":""}]
[null,{"$f":"IF($G165=\"\",\"\",VLOOKUP($G165,Lists!$BM$2:$BR$478,COLUMN(),FALSE))","v":""},{"$f":"IF($G165=\"\",\"\",VLOOKUP($G165,Lists!$BM$2:$BR$478,COLUMN(),FALSE))","v":""},{"$f":"IF($G165=\"\",\"\",VLOOKUP($G165,Lists!$BM$2:$BR$478,COLUMN(),FALSE))","v":""},{"$f":"IF($G165=\"\",\"\",VLOOKUP($G165,Lists!$BM$2:$BR$478,COLUMN(),FALSE))","v":""},{"$f":"IF($G165=\"\",\"\",VLOOKUP($G165,Lists!$BM$2:$BR$478,COLUMN(),FALSE))","v":""}]
[null,{"$f":"IF($G166=\"\",\"\",VLOOKUP($G166,Lists!$BM$2:$BR$478,COLUMN(),FALSE))","v":""},{"$f":"IF($G166=\"\",\"\",VLOOKUP($G166,Lists!$BM$2:$BR$478,COLUMN(),FALSE))","v":""},{"$f":"IF($G166=\"\",\"\",VLOOKUP($G166,Lists!$BM$2:$BR$478,COLUMN(),FALSE))","v":""},{"$f":"IF($G166=\"\",\"\",VLOOKUP($G166,Lists!$BM$2:$BR$478,COLUMN(),FALSE))","v":""},{"$f":"IF($G166=\"\",\"\",VLOOKUP($G166,Lists!$BM$2:$BR$478,COLUMN(),FALSE))","v":""}]
[null,{"$f":"IF($G167=\"\",\"\",VLOOKUP($G167,Lists!$BM$2:$BR$478,COLUMN(),FALSE))","v":""},{"$f":"IF($G167=\"\",\"\",VLOOKUP($G167,Lists!$BM$2:$BR$478,COLUMN(),FALSE))","v":""},{"$f":"IF($G167=\"\",\"\",VLOOKUP($G167,Lists!$BM$2:$BR$478,COLUMN(),FALSE))","v":""},{"$f":"IF($G167=\"\",\"\",VLOOKUP($G167,Lists!$BM$2:$BR$478,COLUMN(),FALSE))","v":""},{"$f":"IF($G167=\"\",\"\",VLOOKUP($G167,Lists!$BM$2:$BR$478,COLUMN(),FALSE))","v":""}]
[null,{"$f":"IF($G168=\"\",\"\",VLOOKUP($G168,Lists!$BM$2:$BR$478,COLUMN(),FALSE))","v":""},{"$f":"IF($G168=\"\",\"\",VLOOKUP($G168,Lists!$BM$2:$BR$478,COLUMN(),FALSE))","v":""},{"$f":"IF($G168=\"\",\"\",VLOOKUP($G168,Lists!$BM$2:$BR$478,COLUMN(),FALSE))","v":""},{"$f":"IF($G168=\"\",\"\",VLOOKUP($G168,Lists!$BM$2:$BR$478,COLUMN(),FALSE))","v":""},{"$f":"IF($G168=\"\",\"\",VLOOKUP($G168,Lists!$BM$2:$BR$478,COLUMN(),FALSE))","v":""}]
[null,{"$f":"IF($G169=\"\",\"\",VLOOKUP($G169,Lists!$BM$2:$BR$478,COLUMN(),FALSE))","v":""},{"$f":"IF($G169=\"\",\"\",VLOOKUP($G169,Lists!$BM$2:$BR$478,COLUMN(),FALSE))","v":""},{"$f":"IF($G169=\"\",\"\",VLOOKUP($G169,Lists!$BM$2:$BR$478,COLUMN(),FALSE))","v":""},{"$f":"IF($G169=\"\",\"\",VLOOKUP($G169,Lists!$BM$2:$BR$478,COLUMN(),FALSE))","v":""},{"$f":"IF($G169=\"\",\"\",VLOOKUP($G169,Lists!$BM$2:$BR$478,COLUMN(),FALSE))","v":""}]
[null,{"$f":"IF($G170=\"\",\"\",VLOOKUP($G170,Lists!$BM$2:$BR$478,COLUMN(),FALSE))","v":""},{"$f":"IF($G170=\"\",\"\",VLOOKUP($G170,Lists!$BM$2:$BR$478,COLUMN(),FALSE))","v":""},{"$f":"IF($G170=\"\",\"\",VLOOKUP($G170,Lists!$BM$2:$BR$478,COLUMN(),FALSE))","v":""},{"$f":"IF($G170=\"\",\"\",VLOOKUP($G170,Lists!$BM$2:$BR$478,COLUMN(),FALSE))","v":""},{"$f":"IF($G170=\"\",\"\",VLOOKUP($G170,Lists!$BM$2:$BR$478,COLUMN(),FALSE))","v":""}]
[null,{"$f":"IF($G171=\"\",\"\",VLOOKUP($G171,Lists!$BM$2:$BR$478,COLUMN(),FALSE))","v":""},{"$f":"IF($G171=\"\",\"\",VLOOKUP($G171,Lists!$BM$2:$BR$478,COLUMN(),FALSE))","v":""},{"$f":"IF($G171=\"\",\"\",VLOOKUP($G171,Lists!$BM$2:$BR$478,COLUMN(),FALSE))","v":""},{"$f":"IF($G171=\"\",\"\",VLOOKUP($G171,Lists!$BM$2:$BR$478,COLUMN(),FALSE))","v":""},{"$f":"IF($G171=\"\",\"\",VLOOKUP($G171,Lists!$BM$2:$BR$478,COLUMN(),FALSE))","v":""}]
[null,{"$f":"IF($G172=\"\",\"\",VLOOKUP($G172,Lists!$BM$2:$BR$478,COLUMN(),FALSE))","v":""},{"$f":"IF($G172=\"\",\"\",VLOOKUP($G172,Lists!$BM$2:$BR$478,COLUMN(),FALSE))","v":""},{"$f":"IF($G172=\"\",\"\",VLOOKUP($G172,Lists!$BM$2:$BR$478,COLUMN(),FALSE))","v":""},{"$f":"IF($G172=\"\",\"\",VLOOKUP($G172,Lists!$BM$2:$BR$478,COLUMN(),FALSE))","v":""},{"$f":"IF($G172=\"\",\"\",VLOOKUP($G172,Lists!$BM$2:$BR$478,COLUMN(),FALSE))","v":""}]
[null,{"$f":"IF($G173=\"\",\"\",VLOOKUP($G173,Lists!$BM$2:$BR$478,COLUMN(),FALSE))","v":""},{"$f":"IF($G173=\"\",\"\",VLOOKUP($G173,Lists!$BM$2:$BR$478,COLUMN(),FALSE))","v":""},{"$f":"IF($G173=\"\",\"\",VLOOKUP($G173,Lists!$BM$2:$BR$478,COLUMN(),FALSE))","v":""},{"$f":"IF($G173=\"\",\"\",VLOOKUP($G173,Lists!$BM$2:$BR$478,COLUMN(),FALSE))","v":""},{"$f":"IF($G173=\"\",\"\",VLOOKUP($G173,Lists!$BM$2:$BR$478,COLUMN(),FALSE))","v":""}]
[null,{"$f":"IF($G174=\"\",\"\",VLOOKUP($G174,Lists!$BM$2:$BR$478,COLUMN(),FALSE))","v":""},{"$f":"IF($G174=\"\",\"\",VLOOKUP($G174,Lists!$BM$2:$BR$478,COLUMN(),FALSE))","v":""},{"$f":"IF($G174=\"\",\"\",VLOOKUP($G174,Lists!$BM$2:$BR$478,COLUMN(),FALSE))","v":""},{"$f":"IF($G174=\"\",\"\",VLOOKUP($G174,Lists!$BM$2:$BR$478,COLUMN(),FALSE))","v":""},{"$f":"IF($G174=\"\",\"\",VLOOKUP($G174,Lists!$BM$2:$BR$478,COLUMN(),FALSE))","v":""}]
[null,{"$f":"IF($G175=\"\",\"\",VLOOKUP($G175,Lists!$BM$2:$BR$478,COLUMN(),FALSE))","v":""},{"$f":"IF($G175=\"\",\"\",VLOOKUP($G175,Lists!$BM$2:$BR$478,COLUMN(),FALSE))","v":""},{"$f":"IF($G175=\"\",\"\",VLOOKUP($G175,Lists!$BM$2:$BR$478,COLUMN(),FALSE))","v":""},{"$f":"IF($G175=\"\",\"\",VLOOKUP($G175,Lists!$BM$2:$BR$478,COLUMN(),FALSE))","v":""},{"$f":"IF($G175=\"\",\"\",VLOOKUP($G175,Lists!$BM$2:$BR$478,COLUMN(),FALSE))","v":""}]
[null,{"$f":"IF($G176=\"\",\"\",VLOOKUP($G176,Lists!$BM$2:$BR$478,COLUMN(),FALSE))","v":""},{"$f":"IF($G176=\"\",\"\",VLOOKUP($G176,Lists!$BM$2:$BR$478,COLUMN(),FALSE))","v":""},{"$f":"IF($G176=\"\",\"\",VLOOKUP($G176,Lists!$BM$2:$BR$478,COLUMN(),FALSE))","v":""},{"$f":"IF($G176=\"\",\"\",VLOOKUP($G176,Lists!$BM$2:$BR$478,COLUMN(),FALSE))","v":""},{"$f":"IF($G176=\"\",\"\",VLOOKUP($G176,Lists!$BM$2:$BR$478,COLUMN(),FALSE))","v":""}]
[null,{"$f":"IF($G177=\"\",\"\",VLOOKUP($G177,Lists!$BM$2:$BR$478,COLUMN(),FALSE))","v":""},{"$f":"IF($G177=\"\",\"\",VLOOKUP($G177,Lists!$BM$2:$BR$478,COLUMN(),FALSE))","v":""},{"$f":"IF($G177=\"\",\"\",VLOOKUP($G177,Lists!$BM$2:$BR$478,COLUMN(),FALSE))","v":""},{"$f":"IF($G177=\"\",\"\",VLOOKUP($G177,Lists!$BM$2:$BR$478,COLUMN(),FALSE))","v":""},{"$f":"IF($G177=\"\",\"\",VLOOKUP($G177,Lists!$BM$2:$BR$478,COLUMN(),FALSE))","v":""}]
[null,{"$f":"IF($G178=\"\",\"\",VLOOKUP($G178,Lists!$BM$2:$BR$478,COLUMN(),FALSE))","v":""},{"$f":"IF($G178=\"\",\"\",VLOOKUP($G178,Lists!$BM$2:$BR$478,COLUMN(),FALSE))","v":""},{"$f":"IF($G178=\"\",\"\",VLOOKUP($G178,Lists!$BM$2:$BR$478,COLUMN(),FALSE))","v":""},{"$f":"IF($G178=\"\",\"\",VLOOKUP($G178,Lists!$BM$2:$BR$478,COLUMN(),FALSE))","v":""},{"$f":"IF($G178=\"\",\"\",VLOOKUP($G178,Lists!$BM$2:$BR$478,COLUMN(),FALSE))","v":""}]
[null,{"$f":"IF($G179=\"\",\"\",VLOOKUP($G179,Lists!$BM$2:$BR$478,COLUMN(),FALSE))","v":""},{"$f":"IF($G179=\"\",\"\",VLOOKUP($G179,Lists!$BM$2:$BR$478,COLUMN(),FALSE))","v":""},{"$f":"IF($G179=\"\",\"\",VLOOKUP($G179,Lists!$BM$2:$BR$478,COLUMN(),FALSE))","v":""},{"$f":"IF($G179=\"\",\"\",VLOOKUP($G179,Lists!$BM$2:$BR$478,COLUMN(),FALSE))","v":""},{"$f":"IF($G179=\"\",\"\",VLOOKUP($G179,Lists!$BM$2:$BR$478,COLUMN(),FALSE))","v":""}]
[null,{"$f":"IF($G180=\"\",\"\",VLOOKUP($G180,Lists!$BM$2:$BR$478,COLUMN(),FALSE))","v":""},{"$f":"IF($G180=\"\",\"\",VLOOKUP($G180,Lists!$BM$2:$BR$478,COLUMN(),FALSE))","v":""},{"$f":"IF($G180=\"\",\"\",VLOOKUP($G180,Lists!$BM$2:$BR$478,COLUMN(),FALSE))","v":""},{"$f":"IF($G180=\"\",\"\",VLOOKUP($G180,Lists!$BM$2:$BR$478,COLUMN(),FALSE))","v":""},{"$f":"IF($G180=\"\",\"\",VLOOKUP($G180,Lists!$BM$2:$BR$478,COLUMN(),FALSE))","v":""}]
[null,{"$f":"IF($G181=\"\",\"\",VLOOKUP($G181,Lists!$BM$2:$BR$478,COLUMN(),FALSE))","v":""},{"$f":"IF($G181=\"\",\"\",VLOOKUP($G181,Lists!$BM$2:$BR$478,COLUMN(),FALSE))","v":""},{"$f":"IF($G181=\"\",\"\",VLOOKUP($G181,Lists!$BM$2:$BR$478,COLUMN(),FALSE))","v":""},{"$f":"IF($G181=\"\",\"\",VLOOKUP($G181,Lists!$BM$2:$BR$478,COLUMN(),FALSE))","v":""},{"$f":"IF($G181=\"\",\"\",VLOOKUP($G181,Lists!$BM$2:$BR$478,COLUMN(),FALSE))","v":""}]
[null,{"$f":"IF($G182=\"\",\"\",VLOOKUP($G182,Lists!$BM$2:$BR$478,COLUMN(),FALSE))","v":""},{"$f":"IF($G182=\"\",\"\",VLOOKUP($G182,Lists!$BM$2:$BR$478,COLUMN(),FALSE))","v":""},{"$f":"IF($G182=\"\",\"\",VLOOKUP($G182,Lists!$BM$2:$BR$478,COLUMN(),FALSE))","v":""},{"$f":"IF($G182=\"\",\"\",VLOOKUP($G182,Lists!$BM$2:$BR$478,COLUMN(),FALSE))","v":""},{"$f":"IF($G182=\"\",\"\",VLOOKUP($G182,Lists!$BM$2:$BR$478,COLUMN(),FALSE))","v":""}]
[null,{"$f":"IF($G183=\"\",\"\",VLOOKUP($G183,Lists!$BM$2:$BR$478,COLUMN(),FALSE))","v":""},{"$f":"IF($G183=\"\",\"\",VLOOKUP($G183,Lists!$BM$2:$BR$478,COLUMN(),FALSE))","v":""},{"$f":"IF($G183=\"\",\"\",VLOOKUP($G183,Lists!$BM$2:$BR$478,COLUMN(),FALSE))","v":""},{"$f":"IF($G183=\"\",\"\",VLOOKUP($G183,Lists!$BM$2:$BR$478,COLUMN(),FALSE))","v":""},{"$f":"IF($G183=\"\",\"\",VLOOKUP($G183,Lists!$BM$2:$BR$478,COLUMN(),FALSE))","v":""}]
[null,{"$f":"IF($G184=\"\",\"\",VLOOKUP($G184,Lists!$BM$2:$BR$478,COLUMN(),FALSE))","v":""},{"$f":"IF($G184=\"\",\"\",VLOOKUP($G184,Lists!$BM$2:$BR$478,COLUMN(),FALSE))","v":""},{"$f":"IF($G184=\"\",\"\",VLOOKUP($G184,Lists!$BM$2:$BR$478,COLUMN(),FALSE))","v":""},{"$f":"IF($G184=\"\",\"\",VLOOKUP($G184,Lists!$BM$2:$BR$478,COLUMN(),FALSE))","v":""},{"$f":"IF($G184=\"\",\"\",VLOOKUP($G184,Lists!$BM$2:$BR$478,COLUMN(),FALSE))","v":""}]
[null,{"$f":"IF($G185=\"\",\"\",VLOOKUP($G185,Lists!$BM$2:$BR$478,COLUMN(),FALSE))","v":""},{"$f":"IF($G185=\"\",\"\",VLOOKUP($G185,Lists!$BM$2:$BR$478,COLUMN(),FALSE))","v":""},{"$f":"IF($G185=\"\",\"\",VLOOKUP($G185,Lists!$BM$2:$BR$478,COLUMN(),FALSE))","v":""},{"$f":"IF($G185=\"\",\"\",VLOOKUP($G185,Lists!$BM$2:$BR$478,COLUMN(),FALSE))","v":""},{"$f":"IF($G185=\"\",\"\",VLOOKUP($G185,Lists!$BM$2:$BR$478,COLUMN(),FALSE))","v":""}]
[null,{"$f":"IF($G186=\"\",\"\",VLOOKUP($G186,Lists!$BM$2:$BR$478,COLUMN(),FALSE))","v":""},{"$f":"IF($G186=\"\",\"\",VLOOKUP($G186,Lists!$BM$2:$BR$478,COLUMN(),FALSE))","v":""},{"$f":"IF($G186=\"\",\"\",VLOOKUP($G186,Lists!$BM$2:$BR$478,COLUMN(),FALSE))","v":""},{"$f":"IF($G186=\"\",\"\",VLOOKUP($G186,Lists!$BM$2:$BR$478,COLUMN(),FALSE))","v":""},{"$f":"IF($G186=\"\",\"\",VLOOKUP($G186,Lists!$BM$2:$BR$478,COLUMN(),FALSE))","v":""}]
[null,{"$f":"IF($G187=\"\",\"\",VLOOKUP($G187,Lists!$BM$2:$BR$478,COLUMN(),FALSE))","v":""},{"$f":"IF($G187=\"\",\"\",VLOOKUP($G187,Lists!$BM$2:$BR$478,COLUMN(),FALSE))","v":""},{"$f":"IF($G187=\"\",\"\",VLOOKUP($G187,Lists!$BM$2:$BR$478,COLUMN(),FALSE))","v":""},{"$f":"IF($G187=\"\",\"\",VLOOKUP($G187,Lists!$BM$2:$BR$478,COLUMN(),FALSE))","v":""},{"$f":"IF($G187=\"\",\"\",VLOOKUP($G187,Lists!$BM$2:$BR$478,COLUMN(),FALSE))","v":""}]
[null,{"$f":"IF($G188=\"\",\"\",VLOOKUP($G188,Lists!$BM$2:$BR$478,COLUMN(),FALSE))","v":""},{"$f":"IF($G188=\"\",\"\",VLOOKUP($G188,Lists!$BM$2:$BR$478,COLUMN(),FALSE))","v":""},{"$f":"IF($G188=\"\",\"\",VLOOKUP($G188,Lists!$BM$2:$BR$478,COLUMN(),FALSE))","v":""},{"$f":"IF($G188=\"\",\"\",VLOOKUP($G188,Lists!$BM$2:$BR$478,COLUMN(),FALSE))","v":""},{"$f":"IF($G188=\"\",\"\",VLOOKUP($G188,Lists!$BM$2:$BR$478,COLUMN(),FALSE))","v":""}]
[null,{"$f":"IF($G189=\"\",\"\",VLOOKUP($G189,Lists!$BM$2:$BR$478,COLUMN(),FALSE))","v":""},{"$f":"IF($G189=\"\",\"\",VLOOKUP($G189,Lists!$BM$2:$BR$478,COLUMN(),FALSE))","v":""},{"$f":"IF($G189=\"\",\"\",VLOOKUP($G189,Lists!$BM$2:$BR$478,COLUMN(),FALSE))","v":""},{"$f":"IF($G189=\"\",\"\",VLOOKUP($G189,Lists!$BM$2:$BR$478,COLUMN(),FALSE))","v":""},{"$f":"IF($G189=\"\",\"\",VLOOKUP($G189,Lists!$BM$2:$BR$478,COLUMN(),FALSE))","v":""}]
[null,{"$f":"IF($G190=\"\",\"\",VLOOKUP($G190,Lists!$BM$2:$BR$478,COLUMN(),FALSE))","v":""},{"$f":"IF($G190=\"\",\"\",VLOOKUP($G190,Lists!$BM$2:$BR$478,COLUMN(),FALSE))","v":""},{"$f":"IF($G190=\"\",\"\",VLOOKUP($G190,Lists!$BM$2:$BR$478,COLUMN(),FALSE))","v":""},{"$f":"IF($G190=\"\",\"\",VLOOKUP($G190,Lists!$BM$2:$BR$478,COLUMN(),FALSE))","v":""},{"$f":"IF($G190=\"\",\"\",VLOOKUP($G190,Lists!$BM$2:$BR$478,COLUMN(),FALSE))","v":""}]
[null,{"$f":"IF($G191=\"\",\"\",VLOOKUP($G191,Lists!$BM$2:$BR$478,COLUMN(),FALSE))","v":""},{"$f":"IF($G191=\"\",\"\",VLOOKUP($G191,Lists!$BM$2:$BR$478,COLUMN(),FALSE))","v":""},{"$f":"IF($G191=\"\",\"\",VLOOKUP($G191,Lists!$BM$2:$BR$478,COLUMN(),FALSE))","v":""},{"$f":"IF($G191=\"\",\"\",VLOOKUP($G191,Lists!$BM$2:$BR$478,COLUMN(),FALSE))","v":""},{"$f":"IF($G191=\"\",\"\",VLOOKUP($G191,Lists!$BM$2:$BR$478,COLUMN(),FALSE))","v":""}]
[null,{"$f":"IF($G192=\"\",\"\",VLOOKUP($G192,Lists!$BM$2:$BR$478,COLUMN(),FALSE))","v":""},{"$f":"IF($G192=\"\",\"\",VLOOKUP($G192,Lists!$BM$2:$BR$478,COLUMN(),FALSE))","v":""},{"$f":"IF($G192=\"\",\"\",VLOOKUP($G192,Lists!$BM$2:$BR$478,COLUMN(),FALSE))","v":""},{"$f":"IF($G192=\"\",\"\",VLOOKUP($G192,Lists!$BM$2:$BR$478,COLUMN(),FALSE))","v":""},{"$f":"IF($G192=\"\",\"\",VLOOKUP($G192,Lists!$BM$2:$BR$478,COLUMN(),FALSE))","v":""}]
[null,{"$f":"IF($G193=\"\",\"\",VLOOKUP($G193,Lists!$BM$2:$BR$478,COLUMN(),FALSE))","v":""},{"$f":"IF($G193=\"\",\"\",VLOOKUP($G193,Lists!$BM$2:$BR$478,COLUMN(),FALSE))","v":""},{"$f":"IF($G193=\"\",\"\",VLOOKUP($G193,Lists!$BM$2:$BR$478,COLUMN(),FALSE))","v":""},{"$f":"IF($G193=\"\",\"\",VLOOKUP($G193,Lists!$BM$2:$BR$478,COLUMN(),FALSE))","v":""},{"$f":"IF($G193=\"\",\"\",VLOOKUP($G193,Lists!$BM$2:$BR$478,COLUMN(),FALSE))","v":""}]
[null,{"$f":"IF($G194=\"\",\"\",VLOOKUP($G194,Lists!$BM$2:$BR$478,COLUMN(),FALSE))","v":""},{"$f":"IF($G194=\"\",\"\",VLOOKUP($G194,Lists!$BM$2:$BR$478,COLUMN(),FALSE))","v":""},{"$f":"IF($G194=\"\",\"\",VLOOKUP($G194,Lists!$BM$2:$BR$478,COLUMN(),FALSE))","v":""},{"$f":"IF($G194=\"\",\"\",VLOOKUP($G194,Lists!$BM$2:$BR$478,COLUMN(),FALSE))","v":""},{"$f":"IF($G194=\"\",\"\",VLOOKUP($G194,Lists!$BM$2:$BR$478,COLUMN(),FALSE))","v":""}]
[null,{"$f":"IF($G195=\"\",\"\",VLOOKUP($G195,Lists!$BM$2:$BR$478,COLUMN(),FALSE))","v":""},{"$f":"IF($G195=\"\",\"\",VLOOKUP($G195,Lists!$BM$2:$BR$478,COLUMN(),FALSE))","v":""},{"$f":"IF($G195=\"\",\"\",VLOOKUP($G195,Lists!$BM$2:$BR$478,COLUMN(),FALSE))","v":""},{"$f":"IF($G195=\"\",\"\",VLOOKUP($G195,Lists!$BM$2:$BR$478,COLUMN(),FALSE))","v":""},{"$f":"IF($G195=\"\",\"\",VLOOKUP($G195,Lists!$BM$2:$BR$478,COLUMN(),FALSE))","v":""}]
[null,{"$f":"IF($G196=\"\",\"\",VLOOKUP($G196,Lists!$BM$2:$BR$478,COLUMN(),FALSE))","v":""},{"$f":"IF($G196=\"\",\"\",VLOOKUP($G196,Lists!$BM$2:$BR$478,COLUMN(),FALSE))","v":""},{"$f":"IF($G196=\"\",\"\",VLOOKUP($G196,Lists!$BM$2:$BR$478,COLUMN(),FALSE))","v":""},{"$f":"IF($G196=\"\",\"\",VLOOKUP($G196,Lists!$BM$2:$BR$478,COLUMN(),FALSE))","v":""},{"$f":"IF($G196=\"\",\"\",VLOOKUP($G196,Lists!$BM$2:$BR$478,COLUMN(),FALSE))","v":""}]
[null,{"$f":"IF($G197=\"\",\"\",VLOOKUP($G197,Lists!$BM$2:$BR$478,COLUMN(),FALSE))","v":""},{"$f":"IF($G197=\"\",\"\",VLOOKUP($G197,Lists!$BM$2:$BR$478,COLUMN(),FALSE))","v":""},{"$f":"IF($G197=\"\",\"\",VLOOKUP($G197,Lists!$BM$2:$BR$478,COLUMN(),FALSE))","v":""},{"$f":"IF($G197=\"\",\"\",VLOOKUP($G197,Lists!$BM$2:$BR$478,COLUMN(),FALSE))","v":""},{"$f":"IF($G197=\"\",\"\",VLOOKUP($G197,Lists!$BM$2:$BR$478,COLUMN(),FALSE))","v":""}]
[null,{"$f":"IF($G198=\"\",\"\",VLOOKUP($G198,Lists!$BM$2:$BR$478,COLUMN(),FALSE))","v":""},{"$f":"IF($G198=\"\",\"\",VLOOKUP($G198,Lists!$BM$2:$BR$478,COLUMN(),FALSE))","v":""},{"$f":"IF($G198=\"\",\"\",VLOOKUP($G198,Lists!$BM$2:$BR$478,COLUMN(),FALSE))","v":""},{"$f":"IF($G198=\"\",\"\",VLOOKUP($G198,Lists!$BM$2:$BR$478,COLUMN(),FALSE))","v":""},{"$f":"IF($G198=\"\",\"\",VLOOKUP($G198,Lists!$BM$2:$BR$478,COLUMN(),FALSE))","v":""}]
[null,{"$f":"IF($G199=\"\",\"\",VLOOKUP($G199,Lists!$BM$2:$BR$478,COLUMN(),FALSE))","v":""},{"$f":"IF($G199=\"\",\"\",VLOOKUP($G199,Lists!$BM$2:$BR$478,COLUMN(),FALSE))","v":""},{"$f":"IF($G199=\"\",\"\",VLOOKUP($G199,Lists!$BM$2:$BR$478,COLUMN(),FALSE))","v":""},{"$f":"IF($G199=\"\",\"\",VLOOKUP($G199,Lists!$BM$2:$BR$478,COLUMN(),FALSE))","v":""},{"$f":"IF($G199=\"\",\"\",VLOOKUP($G199,Lists!$BM$2:$BR$478,COLUMN(),FALSE))","v":""}]
[null,{"$f":"IF($G200=\"\",\"\",VLOOKUP($G200,Lists!$BM$2:$BR$478,COLUMN(),FALSE))","v":""},{"$f":"IF($G200=\"\",\"\",VLOOKUP($G200,Lists!$BM$2:$BR$478,COLUMN(),FALSE))","v":""},{"$f":"IF($G200=\"\",\"\",VLOOKUP($G200,Lists!$BM$2:$BR$478,COLUMN(),FALSE))","v":""},{"$f":"IF($G200=\"\",\"\",VLOOKUP($G200,Lists!$BM$2:$BR$478,COLUMN(),FALSE))","v":""},{"$f":"IF($G200=\"\",\"\",VLOOKUP($G200,Lists!$BM$2:$BR$478,COLUMN(),FALSE))","v":""}]
[null,{"$f":"IF($G201=\"\",\"\",VLOOKUP($G201,Lists!$BM$2:$BR$478,COLUMN(),FALSE))","v":""},{"$f":"IF($G201=\"\",\"\",VLOOKUP($G201,Lists!$BM$2:$BR$478,COLUMN(),FALSE))","v":""},{"$f":"IF($G201=\"\",\"\",VLOOKUP($G201,Lists!$BM$2:$BR$478,COLUMN(),FALSE))","v":""},{"$f":"IF($G201=\"\",\"\",VLOOKUP($G201,Lists!$BM$2:$BR$478,COLUMN(),FALSE))","v":""},{"$f":"IF($G201=\"\",\"\",VLOOKUP($G201,Lists!$BM$2:$BR$478,COLUMN(),FALSE))","v":""}]
[null,{"$f":"IF($G202=\"\",\"\",VLOOKUP($G202,Lists!$BM$2:$BR$478,COLUMN(),FALSE))","v":""},{"$f":"IF($G202=\"\",\"\",VLOOKUP($G202,Lists!$BM$2:$BR$478,COLUMN(),FALSE))","v":""},{"$f":"IF($G202=\"\",\"\",VLOOKUP($G202,Lists!$BM$2:$BR$478,COLUMN(),FALSE))","v":""},{"$f":"IF($G202=\"\",\"\",VLOOKUP($G202,Lists!$BM$2:$BR$478,COLUMN(),FALSE))","v":""},{"$f":"IF($G202=\"\",\"\",VLOOKUP($G202,Lists!$BM$2:$BR$478,COLUMN(),FALSE))","v":""}]
[null,{"$f":"IF($G203=\"\",\"\",VLOOKUP($G203,Lists!$BM$2:$BR$478,COLUMN(),FALSE))","v":""},{"$f":"IF($G203=\"\",\"\",VLOOKUP($G203,Lists!$BM$2:$BR$478,COLUMN(),FALSE))","v":""},{"$f":"IF($G203=\"\",\"\",VLOOKUP($G203,Lists!$BM$2:$BR$478,COLUMN(),FALSE))","v":""},{"$f":"IF($G203=\"\",\"\",VLOOKUP($G203,Lists!$BM$2:$BR$478,COLUMN(),FALSE))","v":""},{"$f":"IF($G203=\"\",\"\",VLOOKUP($G203,Lists!$BM$2:$BR$478,COLUMN(),FALSE))","v":""}]
[null,{"$f":"IF($G204=\"\",\"\",VLOOKUP($G204,Lists!$BM$2:$BR$478,COLUMN(),FALSE))","v":""},{"$f":"IF($G204=\"\",\"\",VLOOKUP($G204,Lists!$BM$2:$BR$478,COLUMN(),FALSE))","v":""},{"$f":"IF($G204=\"\",\"\",VLOOKUP($G204,Lists!$BM$2:$BR$478,COLUMN(),FALSE))","v":""},{"$f":"IF($G204=\"\",\"\",VLOOKUP($G204,Lists!$BM$2:$BR$478,COLUMN(),FALSE))","v":""},{"$f":"IF($G204=\"\",\"\",VLOOKUP($G204,Lists!$BM$2:$BR$478,COLUMN(),FALSE))","v":""}]
[null,{"$f":"IF($G205=\"\",\"\",VLOOKUP($G205,Lists!$BM$2:$BR$478,COLUMN(),FALSE))","v":""},{"$f":"IF($G205=\"\",\"\",VLOOKUP($G205,Lists!$BM$2:$BR$478,COLUMN(),FALSE))","v":""},{"$f":"IF($G205=\"\",\"\",VLOOKUP($G205,Lists!$BM$2:$BR$478,COLUMN(),FALSE))","v":""},{"$f":"IF($G205=\"\",\"\",VLOOKUP($G205,Lists!$BM$2:$BR$478,COLUMN(),FALSE))","v":""},{"$f":"IF($G205=\"\",\"\",VLOOKUP($G205,Lists!$BM$2:$BR$478,COLUMN(),FALSE))","v":""}]
[null,{"$f":"IF($G206=\"\",\"\",VLOOKUP($G206,Lists!$BM$2:$BR$478,COLUMN(),FALSE))","v":""},{"$f":"IF($G206=\"\",\"\",VLOOKUP($G206,Lists!$BM$2:$BR$478,COLUMN(),FALSE))","v":""},{"$f":"IF($G206=\"\",\"\",VLOOKUP($G206,Lists!$BM$2:$BR$478,COLUMN(),FALSE))","v":""},{"$f":"IF($G206=\"\",\"\",VLOOKUP($G206,Lists!$BM$2:$BR$478,COLUMN(),FALSE))","v":""},{"$f":"IF($G206=\"\",\"\",VLOOKUP($G206,Lists!$BM$2:$BR$478,COLUMN(),FALSE))","v":""}]
[null,{"$f":"IF($G207=\"\",\"\",VLOOKUP($G207,Lists!$BM$2:$BR$478,COLUMN(),FALSE))","v":""},{"$f":"IF($G207=\"\",\"\",VLOOKUP($G207,Lists!$BM$2:$BR$478,COLUMN(),FALSE))","v":""},{"$f":"IF($G207=\"\",\"\",VLOOKUP($G207,Lists!$BM$2:$BR$478,COLUMN(),FALSE))","v":""},{"$f":"IF($G207=\"\",\"\",VLOOKUP($G207,Lists!$BM$2:$BR$478,COLUMN(),FALSE))","v":""},{"$f":"IF($G207=\"\",\"\",VLOOKUP($G207,Lists!$BM$2:$BR$478,COLUMN(),FALSE))","v":""}]
[null,{"$f":"IF($G208=\"\",\"\",VLOOKUP($G208,Lists!$BM$2:$BR$478,COLUMN(),FALSE))","v":""},{"$f":"IF($G208=\"\",\"\",VLOOKUP($G208,Lists!$BM$2:$BR$478,COLUMN(),FALSE))","v":""},{"$f":"IF($G208=\"\",\"\",VLOOKUP($G208,Lists!$BM$2:$BR$478,COLUMN(),FALSE))","v":""},{"$f":"IF($G208=\"\",\"\",VLOOKUP($G208,Lists!$BM$2:$BR$478,COLUMN(),FALSE))","v":""},{"$f":"IF($G208=\"\",\"\",VLOOKUP($G208,Lists!$BM$2:$BR$478,COLUMN(),FALSE))","v":""}]
[null,{"$f":"IF($G209=\"\",\"\",VLOOKUP($G209,Lists!$BM$2:$BR$478,COLUMN(),FALSE))","v":""},{"$f":"IF($G209=\"\",\"\",VLOOKUP($G209,Lists!$BM$2:$BR$478,COLUMN(),FALSE))","v":""},{"$f":"IF($G209=\"\",\"\",VLOOKUP($G209,Lists!$BM$2:$BR$478,COLUMN(),FALSE))","v":""},{"$f":"IF($G209=\"\",\"\",VLOOKUP($G209,Lists!$BM$2:$BR$478,COLUMN(),FALSE))","v":""},{"$f":"IF($G209=\"\",\"\",VLOOKUP($G209,Lists!$BM$2:$BR$478,COLUMN(),FALSE))","v":""}]
[null,{"$f":"IF($G210=\"\",\"\",VLOOKUP($G210,Lists!$BM$2:$BR$478,COLUMN(),FALSE))","v":""},{"$f":"IF($G210=\"\",\"\",VLOOKUP($G210,Lists!$BM$2:$BR$478,COLUMN(),FALSE))","v":""},{"$f":"IF($G210=\"\",\"\",VLOOKUP($G210,Lists!$BM$2:$BR$478,COLUMN(),FALSE))","v":""},{"$f":"IF($G210=\"\",\"\",VLOOKUP($G210,Lists!$BM$2:$BR$478,COLUMN(),FALSE))","v":""},{"$f":"IF($G210=\"\",\"\",VLOOKUP($G210,Lists!$BM$2:$BR$478,COLUMN(),FALSE))","v":""}]
[null,{"$f":"IF($G211=\"\",\"\",VLOOKUP($G211,Lists!$BM$2:$BR$478,COLUMN(),FALSE))","v":""},{"$f":"IF($G211=\"\",\"\",VLOOKUP($G211,Lists!$BM$2:$BR$478,COLUMN(),FALSE))","v":""},{"$f":"IF($G211=\"\",\"\",VLOOKUP($G211,Lists!$BM$2:$BR$478,COLUMN(),FALSE))","v":""},{"$f":"IF($G211=\"\",\"\",VLOOKUP($G211,Lists!$BM$2:$BR$478,COLUMN(),FALSE))","v":""},{"$f":"IF($G211=\"\",\"\",VLOOKUP($G211,Lists!$BM$2:$BR$478,COLUMN(),FALSE))","v":""}]
[null,{"$f":"IF($G212=\"\",\"\",VLOOKUP($G212,Lists!$BM$2:$BR$478,COLUMN(),FALSE))","v":""},{"$f":"IF($G212=\"\",\"\",VLOOKUP($G212,Lists!$BM$2:$BR$478,COLUMN(),FALSE))","v":""},{"$f":"IF($G212=\"\",\"\",VLOOKUP($G212,Lists!$BM$2:$BR$478,COLUMN(),FALSE))","v":""},{"$f":"IF($G212=\"\",\"\",VLOOKUP($G212,Lists!$BM$2:$BR$478,COLUMN(),FALSE))","v":""},{"$f":"IF($G212=\"\",\"\",VLOOKUP($G212,Lists!$BM$2:$BR$478,COLUMN(),FALSE))","v":""}]
[null,{"$f":"IF($G213=\"\",\"\",VLOOKUP($G213,Lists!$BM$2:$BR$478,COLUMN(),FALSE))","v":""},{"$f":"IF($G213=\"\",\"\",VLOOKUP($G213,Lists!$BM$2:$BR$478,COLUMN(),FALSE))","v":""},{"$f":"IF($G213=\"\",\"\",VLOOKUP($G213,Lists!$BM$2:$BR$478,COLUMN(),FALSE))","v":""},{"$f":"IF($G213=\"\",\"\",VLOOKUP($G213,Lists!$BM$2:$BR$478,COLUMN(),FALSE))","v":""},{"$f":"IF($G213=\"\",\"\",VLOOKUP($G213,Lists!$BM$2:$BR$478,COLUMN(),FALSE))","v":""}]
[null,{"$f":"IF($G214=\"\",\"\",VLOOKUP($G214,Lists!$BM$2:$BR$478,COLUMN(),FALSE))","v":""},{"$f":"IF($G214=\"\",\"\",VLOOKUP($G214,Lists!$BM$2:$BR$478,COLUMN(),FALSE))","v":""},{"$f":"IF($G214=\"\",\"\",VLOOKUP($G214,Lists!$BM$2:$BR$478,COLUMN(),FALSE))","v":""},{"$f":"IF($G214=\"\",\"\",VLOOKUP($G214,Lists!$BM$2:$BR$478,COLUMN(),FALSE))","v":""},{"$f":"IF($G214=\"\",\"\",VLOOKUP($G214,Lists!$BM$2:$BR$478,COLUMN(),FALSE))","v":""}]
[null,{"$f":"IF($G215=\"\",\"\",VLOOKUP($G215,Lists!$BM$2:$BR$478,COLUMN(),FALSE))","v":""},{"$f":"IF($G215=\"\",\"\",VLOOKUP($G215,Lists!$BM$2:$BR$478,COLUMN(),FALSE))","v":""},{"$f":"IF($G215=\"\",\"\",VLOOKUP($G215,Lists!$BM$2:$BR$478,COLUMN(),FALSE))","v":""},{"$f":"IF($G215=\"\",\"\",VLOOKUP($G215,Lists!$BM$2:$BR$478,COLUMN(),FALSE))","v":""},{"$f":"IF($G215=\"\",\"\",VLOOKUP($G215,Lists!$BM$2:$BR$478,COLUMN(),FALSE))","v":""}]
[null,{"$f":"IF($G216=\"\",\"\",VLOOKUP($G216,Lists!$BM$2:$BR$478,COLUMN(),FALSE))","v":""},{"$f":"IF($G216=\"\",\"\",VLOOKUP($G216,Lists!$BM$2:$BR$478,COLUMN(),FALSE))","v":""},{"$f":"IF($G216=\"\",\"\",VLOOKUP($G216,Lists!$BM$2:$BR$478,COLUMN(),FALSE))","v":""},{"$f":"IF($G216=\"\",\"\",VLOOKUP($G216,Lists!$BM$2:$BR$478,COLUMN(),FALSE))","v":""},{"$f":"IF($G216=\"\",\"\",VLOOKUP($G216,Lists!$BM$2:$BR$478,COLUMN(),FALSE))","v":""}]
[null,{"$f":"IF($G217=\"\",\"\",VLOOKUP($G217,Lists!$BM$2:$BR$478,COLUMN(),FALSE))","v":""},{"$f":"IF($G217=\"\",\"\",VLOOKUP($G217,Lists!$BM$2:$BR$478,COLUMN(),FALSE))","v":""},{"$f":"IF($G217=\"\",\"\",VLOOKUP($G217,Lists!$BM$2:$BR$478,COLUMN(),FALSE))","v":""},{"$f":"IF($G217=\"\",\"\",VLOOKUP($G217,Lists!$BM$2:$BR$478,COLUMN(),FALSE))","v":""},{"$f":"IF($G217=\"\",\"\",VLOOKUP($G217,Lists!$BM$2:$BR$478,COLUMN(),FALSE))","v":""}]
[null,{"$f":"IF($G218=\"\",\"\",VLOOKUP($G218,Lists!$BM$2:$BR$478,COLUMN(),FALSE))","v":""},{"$f":"IF($G218=\"\",\"\",VLOOKUP($G218,Lists!$BM$2:$BR$478,COLUMN(),FALSE))","v":""},{"$f":"IF($G218=\"\",\"\",VLOOKUP($G218,Lists!$BM$2:$BR$478,COLUMN(),FALSE))","v":""},{"$f":"IF($G218=\"\",\"\",VLOOKUP($G218,Lists!$BM$2:$BR$478,COLUMN(),FALSE))","v":""},{"$f":"IF($G218=\"\",\"\",VLOOKUP($G218,Lists!$BM$2:$BR$478,COLUMN(),FALSE))","v":""}]
[null,{"$f":"IF($G219=\"\",\"\",VLOOKUP($G219,Lists!$BM$2:$BR$478,COLUMN(),FALSE))","v":""},{"$f":"IF($G219=\"\",\"\",VLOOKUP($G219,Lists!$BM$2:$BR$478,COLUMN(),FALSE))","v":""},{"$f":"IF($G219=\"\",\"\",VLOOKUP($G219,Lists!$BM$2:$BR$478,COLUMN(),FALSE))","v":""},{"$f":"IF($G219=\"\",\"\",VLOOKUP($G219,Lists!$BM$2:$BR$478,COLUMN(),FALSE))","v":""},{"$f":"IF($G219=\"\",\"\",VLOOKUP($G219,Lists!$BM$2:$BR$478,COLUMN(),FALSE))","v":""}]
[null,{"$f":"IF($G220=\"\",\"\",VLOOKUP($G220,Lists!$BM$2:$BR$478,COLUMN(),FALSE))","v":""},{"$f":"IF($G220=\"\",\"\",VLOOKUP($G220,Lists!$BM$2:$BR$478,COLUMN(),FALSE))","v":""},{"$f":"IF($G220=\"\",\"\",VLOOKUP($G220,Lists!$BM$2:$BR$478,COLUMN(),FALSE))","v":""},{"$f":"IF($G220=\"\",\"\",VLOOKUP($G220,Lists!$BM$2:$BR$478,COLUMN(),FALSE))","v":""},{"$f":"IF($G220=\"\",\"\",VLOOKUP($G220,Lists!$BM$2:$BR$478,COLUMN(),FALSE))","v":""}]
[null,{"$f":"IF($G221=\"\",\"\",VLOOKUP($G221,Lists!$BM$2:$BR$478,COLUMN(),FALSE))","v":""},{"$f":"IF($G221=\"\",\"\",VLOOKUP($G221,Lists!$BM$2:$BR$478,COLUMN(),FALSE))","v":""},{"$f":"IF($G221=\"\",\"\",VLOOKUP($G221,Lists!$BM$2:$BR$478,COLUMN(),FALSE))","v":""},{"$f":"IF($G221=\"\",\"\",VLOOKUP($G221,Lists!$BM$2:$BR$478,COLUMN(),FALSE))","v":""},{"$f":"IF($G221=\"\",\"\",VLOOKUP($G221,Lists!$BM$2:$BR$478,COLUMN(),FALSE))","v":""}]
[null,{"$f":"IF($G222=\"\",\"\",VLOOKUP($G222,Lists!$BM$2:$BR$478,COLUMN(),FALSE))","v":""},{"$f":"IF($G222=\"\",\"\",VLOOKUP($G222,Lists!$BM$2:$BR$478,COLUMN(),FALSE))","v":""},{"$f":"IF($G222=\"\",\"\",VLOOKUP($G222,Lists!$BM$2:$BR$478,COLUMN(),FALSE))","v":""},{"$f":"IF($G222=\"\",\"\",VLOOKUP($G222,Lists!$BM$2:$BR$478,COLUMN(),FALSE))","v":""},{"$f":"IF($G222=\"\",\"\",VLOOKUP($G222,Lists!$BM$2:$BR$478,COLUMN(),FALSE))","v":""}]
[null,{"$f":"IF($G223=\"\",\"\",VLOOKUP($G223,Lists!$BM$2:$BR$478,COLUMN(),FALSE))","v":""},{"$f":"IF($G223=\"\",\"\",VLOOKUP($G223,Lists!$BM$2:$BR$478,COLUMN(),FALSE))","v":""},{"$f":"IF($G223=\"\",\"\",VLOOKUP($G223,Lists!$BM$2:$BR$478,COLUMN(),FALSE))","v":""},{"$f":"IF($G223=\"\",\"\",VLOOKUP($G223,Lists!$BM$2:$BR$478,COLUMN(),FALSE))","v":""},{"$f":"IF($G223=\"\",\"\",VLOOKUP($G223,Lists!$BM$2:$BR$478,COLUMN(),FALSE))","v":""}]
[null,{"$f":"IF($G224=\"\",\"\",VLOOKUP($G224,Lists!$BM$2:$BR$478,COLUMN(),FALSE))","v":""},{"$f":"IF($G224=\"\",\"\",VLOOKUP($G224,Lists!$BM$2:$BR$478,COLUMN(),FALSE))","v":""},{"$f":"IF($G224=\"\",\"\",VLOOKUP($G224,Lists!$BM$2:$BR$478,COLUMN(),FALSE))","v":""},{"$f":"IF($G224=\"\",\"\",VLOOKUP($G224,Lists!$BM$2:$BR$478,COLUMN(),FALSE))","v":""},{"$f":"IF($G224=\"\",\"\",VLOOKUP($G224,Lists!$BM$2:$BR$478,COLUMN(),FALSE))","v":""}]
[null,{"$f":"IF($G225=\"\",\"\",VLOOKUP($G225,Lists!$BM$2:$BR$478,COLUMN(),FALSE))","v":""},{"$f":"IF($G225=\"\",\"\",VLOOKUP($G225,Lists!$BM$2:$BR$478,COLUMN(),FALSE))","v":""},{"$f":"IF($G225=\"\",\"\",VLOOKUP($G225,Lists!$BM$2:$BR$478,COLUMN(),FALSE))","v":""},{"$f":"IF($G225=\"\",\"\",VLOOKUP($G225,Lists!$BM$2:$BR$478,COLUMN(),FALSE))","v":""},{"$f":"IF($G225=\"\",\"\",VLOOKUP($G225,Lists!$BM$2:$BR$478,COLUMN(),FALSE))","v":""}]
[null,{"$f":"IF($G226=\"\",\"\",VLOOKUP($G226,Lists!$BM$2:$BR$478,COLUMN(),FALSE))","v":""},{"$f":"IF($G226=\"\",\"\",VLOOKUP($G226,Lists!$BM$2:$BR$478,COLUMN(),FALSE))","v":""},{"$f":"IF($G226=\"\",\"\",VLOOKUP($G226,Lists!$BM$2:$BR$478,COLUMN(),FALSE))","v":""},{"$f":"IF($G226=\"\",\"\",VLOOKUP($G226,Lists!$BM$2:$BR$478,COLUMN(),FALSE))","v":""},{"$f":"IF($G226=\"\",\"\",VLOOKUP($G226,Lists!$BM$2:$BR$478,COLUMN(),FALSE))","v":""}]
[null,{"$f":"IF($G227=\"\",\"\",VLOOKUP($G227,Lists!$BM$2:$BR$478,COLUMN(),FALSE))","v":""},{"$f":"IF($G227=\"\",\"\",VLOOKUP($G227,Lists!$BM$2:$BR$478,COLUMN(),FALSE))","v":""},{"$f":"IF($G227=\"\",\"\",VLOOKUP($G227,Lists!$BM$2:$BR$478,COLUMN(),FALSE))","v":""},{"$f":"IF($G227=\"\",\"\",VLOOKUP($G227,Lists!$BM$2:$BR$478,COLUMN(),FALSE))","v":""},{"$f":"IF($G227=\"\",\"\",VLOOKUP($G227,Lists!$BM$2:$BR$478,COLUMN(),FALSE))","v":""}]
[null,{"$f":"IF($G228=\"\",\"\",VLOOKUP($G228,Lists!$BM$2:$BR$478,COLUMN(),FALSE))","v":""},{"$f":"IF($G228=\"\",\"\",VLOOKUP($G228,Lists!$BM$2:$BR$478,COLUMN(),FALSE))","v":""},{"$f":"IF($G228=\"\",\"\",VLOOKUP($G228,Lists!$BM$2:$BR$478,COLUMN(),FALSE))","v":""},{"$f":"IF($G228=\"\",\"\",VLOOKUP($G228,Lists!$BM$2:$BR$478,COLUMN(),FALSE))","v":""},{"$f":"IF($G228=\"\",\"\",VLOOKUP($G228,Lists!$BM$2:$BR$478,COLUMN(),FALSE))","v":""}]
[null,{"$f":"IF($G229=\"\",\"\",VLOOKUP($G229,Lists!$BM$2:$BR$478,COLUMN(),FALSE))","v":""},{"$f":"IF($G229=\"\",\"\",VLOOKUP($G229,Lists!$BM$2:$BR$478,COLUMN(),FALSE))","v":""},{"$f":"IF($G229=\"\",\"\",VLOOKUP($G229,Lists!$BM$2:$BR$478,COLUMN(),FALSE))","v":""},{"$f":"IF($G229=\"\",\"\",VLOOKUP($G229,Lists!$BM$2:$BR$478,COLUMN(),FALSE))","v":""},{"$f":"IF($G229=\"\",\"\",VLOOKUP($G229,Lists!$BM$2:$BR$478,COLUMN(),FALSE))","v":""}]
[null,{"$f":"IF($G230=\"\",\"\",VLOOKUP($G230,Lists!$BM$2:$BR$478,COLUMN(),FALSE))","v":""},{"$f":"IF($G230=\"\",\"\",VLOOKUP($G230,Lists!$BM$2:$BR$478,COLUMN(),FALSE))","v":""},{"$f":"IF($G230=\"\",\"\",VLOOKUP($G230,Lists!$BM$2:$BR$478,COLUMN(),FALSE))","v":""},{"$f":"IF($G230=\"\",\"\",VLOOKUP($G230,Lists!$BM$2:$BR$478,COLUMN(),FALSE))","v":""},{"$f":"IF($G230=\"\",\"\",VLOOKUP($G230,Lists!$BM$2:$BR$478,COLUMN(),FALSE))","v":""}]
[null,{"$f":"IF($G231=\"\",\"\",VLOOKUP($G231,Lists!$BM$2:$BR$478,COLUMN(),FALSE))","v":""},{"$f":"IF($G231=\"\",\"\",VLOOKUP($G231,Lists!$BM$2:$BR$478,COLUMN(),FALSE))","v":""},{"$f":"IF($G231=\"\",\"\",VLOOKUP($G231,Lists!$BM$2:$BR$478,COLUMN(),FALSE))","v":""},{"$f":"IF($G231=\"\",\"\",VLOOKUP($G231,Lists!$BM$2:$BR$478,COLUMN(),FALSE))","v":""},{"$f":"IF($G231=\"\",\"\",VLOOKUP($G231,Lists!$BM$2:$BR$478,COLUMN(),FALSE))","v":""}]
[null,{"$f":"IF($G232=\"\",\"\",VLOOKUP($G232,Lists!$BM$2:$BR$478,COLUMN(),FALSE))","v":""},{"$f":"IF($G232=\"\",\"\",VLOOKUP($G232,Lists!$BM$2:$BR$478,COLUMN(),FALSE))","v":""},{"$f":"IF($G232=\"\",\"\",VLOOKUP($G232,Lists!$BM$2:$BR$478,COLUMN(),FALSE))","v":""},{"$f":"IF($G232=\"\",\"\",VLOOKUP($G232,Lists!$BM$2:$BR$478,COLUMN(),FALSE))","v":""},{"$f":"IF($G232=\"\",\"\",VLOOKUP($G232,Lists!$BM$2:$BR$478,COLUMN(),FALSE))","v":""}]
[null,{"$f":"IF($G233=\"\",\"\",VLOOKUP($G233,Lists!$BM$2:$BR$478,COLUMN(),FALSE))","v":""},{"$f":"IF($G233=\"\",\"\",VLOOKUP($G233,Lists!$BM$2:$BR$478,COLUMN(),FALSE))","v":""},{"$f":"IF($G233=\"\",\"\",VLOOKUP($G233,Lists!$BM$2:$BR$478,COLUMN(),FALSE))","v":""},{"$f":"IF($G233=\"\",\"\",VLOOKUP($G233,Lists!$BM$2:$BR$478,COLUMN(),FALSE))","v":""},{"$f":"IF($G233=\"\",\"\",VLOOKUP($G233,Lists!$BM$2:$BR$478,COLUMN(),FALSE))","v":""}]
[null,{"$f":"IF($G234=\"\",\"\",VLOOKUP($G234,Lists!$BM$2:$BR$478,COLUMN(),FALSE))","v":""},{"$f":"IF($G234=\"\",\"\",VLOOKUP($G234,Lists!$BM$2:$BR$478,COLUMN(),FALSE))","v":""},{"$f":"IF($G234=\"\",\"\",VLOOKUP($G234,Lists!$BM$2:$BR$478,COLUMN(),FALSE))","v":""},{"$f":"IF($G234=\"\",\"\",VLOOKUP($G234,Lists!$BM$2:$BR$478,COLUMN(),FALSE))","v":""},{"$f":"IF($G234=\"\",\"\",VLOOKUP($G234,Lists!$BM$2:$BR$478,COLUMN(),FALSE))","v":""}]
[null,{"$f":"IF($G235=\"\",\"\",VLOOKUP($G235,Lists!$BM$2:$BR$478,COLUMN(),FALSE))","v":""},{"$f":"IF($G235=\"\",\"\",VLOOKUP($G235,Lists!$BM$2:$BR$478,COLUMN(),FALSE))","v":""},{"$f":"IF($G235=\"\",\"\",VLOOKUP($G235,Lists!$BM$2:$BR$478,COLUMN(),FALSE))","v":""},{"$f":"IF($G235=\"\",\"\",VLOOKUP($G235,Lists!$BM$2:$BR$478,COLUMN(),FALSE))","v":""},{"$f":"IF($G235=\"\",\"\",VLOOKUP($G235,Lists!$BM$2:$BR$478,COLUMN(),FALSE))","v":""}]
[null,{"$f":"IF($G236=\"\",\"\",VLOOKUP($G236,Lists!$BM$2:$BR$478,COLUMN(),FALSE))","v":""},{"$f":"IF($G236=\"\",\"\",VLOOKUP($G236,Lists!$BM$2:$BR$478,COLUMN(),FALSE))","v":""},{"$f":"IF($G236=\"\",\"\",VLOOKUP($G236,Lists!$BM$2:$BR$478,COLUMN(),FALSE))","v":""},{"$f":"IF($G236=\"\",\"\",VLOOKUP($G236,Lists!$BM$2:$BR$478,COLUMN(),FALSE))","v":""},{"$f":"IF($G236=\"\",\"\",VLOOKUP($G236,Lists!$BM$2:$BR$478,COLUMN(),FALSE))","v":""}]
[null,{"$f":"IF($G237=\"\",\"\",VLOOKUP($G237,Lists!$BM$2:$BR$478,COLUMN(),FALSE))","v":""},{"$f":"IF($G237=\"\",\"\",VLOOKUP($G237,Lists!$BM$2:$BR$478,COLUMN(),FALSE))","v":""},{"$f":"IF($G237=\"\",\"\",VLOOKUP($G237,Lists!$BM$2:$BR$478,COLUMN(),FALSE))","v":""},{"$f":"IF($G237=\"\",\"\",VLOOKUP($G237,Lists!$BM$2:$BR$478,COLUMN(),FALSE))","v":""},{"$f":"IF($G237=\"\",\"\",VLOOKUP($G237,Lists!$BM$2:$BR$478,COLUMN(),FALSE))","v":""}]
[null,{"$f":"IF($G238=\"\",\"\",VLOOKUP($G238,Lists!$BM$2:$BR$478,COLUMN(),FALSE))","v":""},{"$f":"IF($G238=\"\",\"\",VLOOKUP($G238,Lists!$BM$2:$BR$478,COLUMN(),FALSE))","v":""},{"$f":"IF($G238=\"\",\"\",VLOOKUP($G238,Lists!$BM$2:$BR$478,COLUMN(),FALSE))","v":""},{"$f":"IF($G238=\"\",\"\",VLOOKUP($G238,Lists!$BM$2:$BR$478,COLUMN(),FALSE))","v":""},{"$f":"IF($G238=\"\",\"\",VLOOKUP($G238,Lists!$BM$2:$BR$478,COLUMN(),FALSE))","v":""}]
[null,{"$f":"IF($G239=\"\",\"\",VLOOKUP($G239,Lists!$BM$2:$BR$478,COLUMN(),FALSE))","v":""},{"$f":"IF($G239=\"\",\"\",VLOOKUP($G239,Lists!$BM$2:$BR$478,COLUMN(),FALSE))","v":""},{"$f":"IF($G239=\"\",\"\",VLOOKUP($G239,Lists!$BM$2:$BR$478,COLUMN(),FALSE))","v":""},{"$f":"IF($G239=\"\",\"\",VLOOKUP($G239,Lists!$BM$2:$BR$478,COLUMN(),FALSE))","v":""},{"$f":"IF($G239=\"\",\"\",VLOOKUP($G239,Lists!$BM$2:$BR$478,COLUMN(),FALSE))","v":""}]
[null,{"$f":"IF($G240=\"\",\"\",VLOOKUP($G240,Lists!$BM$2:$BR$478,COLUMN(),FALSE))","v":""},{"$f":"IF($G240=\"\",\"\",VLOOKUP($G240,Lists!$BM$2:$BR$478,COLUMN(),FALSE))","v":""},{"$f":"IF($G240=\"\",\"\",VLOOKUP($G240,Lists!$BM$2:$BR$478,COLUMN(),FALSE))","v":""},{"$f":"IF($G240=\"\",\"\",VLOOKUP($G240,Lists!$BM$2:$BR$478,COLUMN(),FALSE))","v":""},{"$f":"IF($G240=\"\",\"\",VLOOKUP($G240,Lists!$BM$2:$BR$478,COLUMN(),FALSE))","v":""}]
[null,{"$f":"IF($G241=\"\",\"\",VLOOKUP($G241,Lists!$BM$2:$BR$478,COLUMN(),FALSE))","v":""},{"$f":"IF($G241=\"\",\"\",VLOOKUP($G241,Lists!$BM$2:$BR$478,COLUMN(),FALSE))","v":""},{"$f":"IF($G241=\"\",\"\",VLOOKUP($G241,Lists!$BM$2:$BR$478,COLUMN(),FALSE))","v":""},{"$f":"IF($G241=\"\",\"\",VLOOKUP($G241,Lists!$BM$2:$BR$478,COLUMN(),FALSE))","v":""},{"$f":"IF($G241=\"\",\"\",VLOOKUP($G241,Lists!$BM$2:$BR$478,COLUMN(),FALSE))","v":""}]
[null,{"$f":"IF($G242=\"\",\"\",VLOOKUP($G242,Lists!$BM$2:$BR$478,COLUMN(),FALSE))","v":""},{"$f":"IF($G242=\"\",\"\",VLOOKUP($G242,Lists!$BM$2:$BR$478,COLUMN(),FALSE))","v":""},{"$f":"IF($G242=\"\",\"\",VLOOKUP($G242,Lists!$BM$2:$BR$478,COLUMN(),FALSE))","v":""},{"$f":"IF($G242=\"\",\"\",VLOOKUP($G242,Lists!$BM$2:$BR$478,COLUMN(),FALSE))","v":""},{"$f":"IF($G242=\"\",\"\",VLOOKUP($G242,Lists!$BM$2:$BR$478,COLUMN(),FALSE))","v":""}]
[null,{"$f":"IF($G243=\"\",\"\",VLOOKUP($G243,Lists!$BM$2:$BR$478,COLUMN(),FALSE))","v":""},{"$f":"IF($G243=\"\",\"\",VLOOKUP($G243,Lists!$BM$2:$BR$478,COLUMN(),FALSE))","v":""},{"$f":"IF($G243=\"\",\"\",VLOOKUP($G243,Lists!$BM$2:$BR$478,COLUMN(),FALSE))","v":""},{"$f":"IF($G243=\"\",\"\",VLOOKUP($G243,Lists!$BM$2:$BR$478,COLUMN(),FALSE))","v":""},{"$f":"IF($G243=\"\",\"\",VLOOKUP($G243,Lists!$BM$2:$BR$478,COLUMN(),FALSE))","v":""}]
[null,{"$f":"IF($G244=\"\",\"\",VLOOKUP($G244,Lists!$BM$2:$BR$478,COLUMN(),FALSE))","v":""},{"$f":"IF($G244=\"\",\"\",VLOOKUP($G244,Lists!$BM$2:$BR$478,COLUMN(),FALSE))","v":""},{"$f":"IF($G244=\"\",\"\",VLOOKUP($G244,Lists!$BM$2:$BR$478,COLUMN(),FALSE))","v":""},{"$f":"IF($G244=\"\",\"\",VLOOKUP($G244,Lists!$BM$2:$BR$478,COLUMN(),FALSE))","v":""},{"$f":"IF($G244=\"\",\"\",VLOOKUP($G244,Lists!$BM$2:$BR$478,COLUMN(),FALSE))","v":""}]
[null,{"$f":"IF($G245=\"\",\"\",VLOOKUP($G245,Lists!$BM$2:$BR$478,COLUMN(),FALSE))","v":""},{"$f":"IF($G245=\"\",\"\",VLOOKUP($G245,Lists!$BM$2:$BR$478,COLUMN(),FALSE))","v":""},{"$f":"IF($G245=\"\",\"\",VLOOKUP($G245,Lists!$BM$2:$BR$478,COLUMN(),FALSE))","v":""},{"$f":"IF($G245=\"\",\"\",VLOOKUP($G245,Lists!$BM$2:$BR$478,COLUMN(),FALSE))","v":""},{"$f":"IF($G245=\"\",\"\",VLOOKUP($G245,Lists!$BM$2:$BR$478,COLUMN(),FALSE))","v":""}]
[null,{"$f":"IF($G246=\"\",\"\",VLOOKUP($G246,Lists!$BM$2:$BR$478,COLUMN(),FALSE))","v":""},{"$f":"IF($G246=\"\",\"\",VLOOKUP($G246,Lists!$BM$2:$BR$478,COLUMN(),FALSE))","v":""},{"$f":"IF($G246=\"\",\"\",VLOOKUP($G246,Lists!$BM$2:$BR$478,COLUMN(),FALSE))","v":""},{"$f":"IF($G246=\"\",\"\",VLOOKUP($G246,Lists!$BM$2:$BR$478,COLUMN(),FALSE))","v":""},{"$f":"IF($G246=\"\",\"\",VLOOKUP($G246,Lists!$BM$2:$BR$478,COLUMN(),FALSE))","v":""}]
[null,{"$f":"IF($G247=\"\",\"\",VLOOKUP($G247,Lists!$BM$2:$BR$478,COLUMN(),FALSE))","v":""},{"$f":"IF($G247=\"\",\"\",VLOOKUP($G247,Lists!$BM$2:$BR$478,COLUMN(),FALSE))","v":""},{"$f":"IF($G247=\"\",\"\",VLOOKUP($G247,Lists!$BM$2:$BR$478,COLUMN(),FALSE))","v":""},{"$f":"IF($G247=\"\",\"\",VLOOKUP($G247,Lists!$BM$2:$BR$478,COLUMN(),FALSE))","v":""},{"$f":"IF($G247=\"\",\"\",VLOOKUP($G247,Lists!$BM$2:$BR$478,COLUMN(),FALSE))","v":""}]
[null,{"$f":"IF($G248=\"\",\"\",VLOOKUP($G248,Lists!$BM$2:$BR$478,COLUMN(),FALSE))","v":""},{"$f":"IF($G248=\"\",\"\",VLOOKUP($G248,Lists!$BM$2:$BR$478,COLUMN(),FALSE))","v":""},{"$f":"IF($G248=\"\",\"\",VLOOKUP($G248,Lists!$BM$2:$BR$478,COLUMN(),FALSE))","v":""},{"$f":"IF($G248=\"\",\"\",VLOOKUP($G248,Lists!$BM$2:$BR$478,COLUMN(),FALSE))","v":""},{"$f":"IF($G248=\"\",\"\",VLOOKUP($G248,Lists!$BM$2:$BR$478,COLUMN(),FALSE))","v":""}]
[null,{"$f":"IF($G249=\"\",\"\",VLOOKUP($G249,Lists!$BM$2:$BR$478,COLUMN(),FALSE))","v":""},{"$f":"IF($G249=\"\",\"\",VLOOKUP($G249,Lists!$BM$2:$BR$478,COLUMN(),FALSE))","v":""},{"$f":"IF($G249=\"\",\"\",VLOOKUP($G249,Lists!$BM$2:$BR$478,COLUMN(),FALSE))","v":""},{"$f":"IF($G249=\"\",\"\",VLOOKUP($G249,Lists!$BM$2:$BR$478,COLUMN(),FALSE))","v":""},{"$f":"IF($G249=\"\",\"\",VLOOKUP($G249,Lists!$BM$2:$BR$478,COLUMN(),FALSE))","v":""}]
[null,{"$f":"IF($G250=\"\",\"\",VLOOKUP($G250,Lists!$BM$2:$BR$478,COLUMN(),FALSE))","v":""},{"$f":"IF($G250=\"\",\"\",VLOOKUP($G250,Lists!$BM$2:$BR$478,COLUMN(),FALSE))","v":""},{"$f":"IF($G250=\"\",\"\",VLOOKUP($G250,Lists!$BM$2:$BR$478,COLUMN(),FALSE))","v":""},{"$f":"IF($G250=\"\",\"\",VLOOKUP($G250,Lists!$BM$2:$BR$478,COLUMN(),FALSE))","v":""},{"$f":"IF($G250=\"\",\"\",VLOOKUP($G250,Lists!$BM$2:$BR$478,COLUMN(),FALSE))","v":""}]
[null,{"$f":"IF($G251=\"\",\"\",VLOOKUP($G251,Lists!$BM$2:$BR$478,COLUMN(),FALSE))","v":""},{"$f":"IF($G251=\"\",\"\",VLOOKUP($G251,Lists!$BM$2:$BR$478,COLUMN(),FALSE))","v":""},{"$f":"IF($G251=\"\",\"\",VLOOKUP($G251,Lists!$BM$2:$BR$478,COLUMN(),FALSE))","v":""},{"$f":"IF($G251=\"\",\"\",VLOOKUP($G251,Lists!$BM$2:$BR$478,COLUMN(),FALSE))","v":""},{"$f":"IF($G251=\"\",\"\",VLOOKUP($G251,Lists!$BM$2:$BR$478,COLUMN(),FALSE))","v":""}]
[null,{"$f":"IF($G252=\"\",\"\",VLOOKUP($G252,Lists!$BM$2:$BR$478,COLUMN(),FALSE))","v":""},{"$f":"IF($G252=\"\",\"\",VLOOKUP($G252,Lists!$BM$2:$BR$478,COLUMN(),FALSE))","v":""},{"$f":"IF($G252=\"\",\"\",VLOOKUP($G252,Lists!$BM$2:$BR$478,COLUMN(),FALSE))","v":""},{"$f":"IF($G252=\"\",\"\",VLOOKUP($G252,Lists!$BM$2:$BR$478,COLUMN(),FALSE))","v":""},{"$f":"IF($G252=\"\",\"\",VLOOKUP($G252,Lists!$BM$2:$BR$478,COLUMN(),FALSE))","v":""}]
[null,{"$f":"IF($G253=\"\",\"\",VLOOKUP($G253,Lists!$BM$2:$BR$478,COLUMN(),FALSE))","v":""},{"$f":"IF($G253=\"\",\"\",VLOOKUP($G253,Lists!$BM$2:$BR$478,COLUMN(),FALSE))","v":""},{"$f":"IF($G253=\"\",\"\",VLOOKUP($G253,Lists!$BM$2:$BR$478,COLUMN(),FALSE))","v":""},{"$f":"IF($G253=\"\",\"\",VLOOKUP($G253,Lists!$BM$2:$BR$478,COLUMN(),FALSE))","v":""},{"$f":"IF($G253=\"\",\"\",VLOOKUP($G253,Lists!$BM$2:$BR$478,COLUMN(),FALSE))","v":""}]
[null,{"$f":"IF($G254=\"\",\"\",VLOOKUP($G254,Lists!$BM$2:$BR$478,COLUMN(),FALSE))","v":""},{"$f":"IF($G254=\"\",\"\",VLOOKUP($G254,Lists!$BM$2:$BR$478,COLUMN(),FALSE))","v":""},{"$f":"IF($G254=\"\",\"\",VLOOKUP($G254,Lists!$BM$2:$BR$478,COLUMN(),FALSE))","v":""},{"$f":"IF($G254=\"\",\"\",VLOOKUP($G254,Lists!$BM$2:$BR$478,COLUMN(),FALSE))","v":""},{"$f":"IF($G254=\"\",\"\",VLOOKUP($G254,Lists!$BM$2:$BR$478,COLUMN(),FALSE))","v":""}]
[null,{"$f":"IF($G255=\"\",\"\",VLOOKUP($G255,Lists!$BM$2:$BR$478,COLUMN(),FALSE))","v":""},{"$f":"IF($G255=\"\",\"\",VLOOKUP($G255,Lists!$BM$2:$BR$478,COLUMN(),FALSE))","v":""},{"$f":"IF($G255=\"\",\"\",VLOOKUP($G255,Lists!$BM$2:$BR$478,COLUMN(),FALSE))","v":""},{"$f":"IF($G255=\"\",\"\",VLOOKUP($G255,Lists!$BM$2:$BR$478,COLUMN(),FALSE))","v":""},{"$f":"IF($G255=\"\",\"\",VLOOKUP($G255,Lists!$BM$2:$BR$478,COLUMN(),FALSE))","v":""}]
[null,{"$f":"IF($G256=\"\",\"\",VLOOKUP($G256,Lists!$BM$2:$BR$478,COLUMN(),FALSE))","v":""},{"$f":"IF($G256=\"\",\"\",VLOOKUP($G256,Lists!$BM$2:$BR$478,COLUMN(),FALSE))","v":""},{"$f":"IF($G256=\"\",\"\",VLOOKUP($G256,Lists!$BM$2:$BR$478,COLUMN(),FALSE))","v":""},{"$f":"IF($G256=\"\",\"\",VLOOKUP($G256,Lists!$BM$2:$BR$478,COLUMN(),FALSE))","v":""},{"$f":"IF($G256=\"\",\"\",VLOOKUP($G256,Lists!$BM$2:$BR$478,COLUMN(),FALSE))","v":""}]
[null,{"$f":"IF($G257=\"\",\"\",VLOOKUP($G257,Lists!$BM$2:$BR$478,COLUMN(),FALSE))","v":""},{"$f":"IF($G257=\"\",\"\",VLOOKUP($G257,Lists!$BM$2:$BR$478,COLUMN(),FALSE))","v":""},{"$f":"IF($G257=\"\",\"\",VLOOKUP($G257,Lists!$BM$2:$BR$478,COLUMN(),FALSE))","v":""},{"$f":"IF($G257=\"\",\"\",VLOOKUP($G257,Lists!$BM$2:$BR$478,COLUMN(),FALSE))","v":""},{"$f":"IF($G257=\"\",\"\",VLOOKUP($G257,Lists!$BM$2:$BR$478,COLUMN(),FALSE))","v":""}]
[null,{"$f":"IF($G258=\"\",\"\",VLOOKUP($G258,Lists!$BM$2:$BR$478,COLUMN(),FALSE))","v":""},{"$f":"IF($G258=\"\",\"\",VLOOKUP($G258,Lists!$BM$2:$BR$478,COLUMN(),FALSE))","v":""},{"$f":"IF($G258=\"\",\"\",VLOOKUP($G258,Lists!$BM$2:$BR$478,COLUMN(),FALSE))","v":""},{"$f":"IF($G258=\"\",\"\",VLOOKUP($G258,Lists!$BM$2:$BR$478,COLUMN(),FALSE))","v":""},{"$f":"IF($G258=\"\",\"\",VLOOKUP($G258,Lists!$BM$2:$BR$478,COLUMN(),FALSE))","v":""}]
[null,{"$f":"IF($G259=\"\",\"\",VLOOKUP($G259,Lists!$BM$2:$BR$478,COLUMN(),FALSE))","v":""},{"$f":"IF($G259=\"\",\"\",VLOOKUP($G259,Lists!$BM$2:$BR$478,COLUMN(),FALSE))","v":""},{"$f":"IF($G259=\"\",\"\",VLOOKUP($G259,Lists!$BM$2:$BR$478,COLUMN(),FALSE))","v":""},{"$f":"IF($G259=\"\",\"\",VLOOKUP($G259,Lists!$BM$2:$BR$478,COLUMN(),FALSE))","v":""},{"$f":"IF($G259=\"\",\"\",VLOOKUP($G259,Lists!$BM$2:$BR$478,COLUMN(),FALSE))","v":""}]
[null,{"$f":"IF($G260=\"\",\"\",VLOOKUP($G260,Lists!$BM$2:$BR$478,COLUMN(),FALSE))","v":""},{"$f":"IF($G260=\"\",\"\",VLOOKUP($G260,Lists!$BM$2:$BR$478,COLUMN(),FALSE))","v":""},{"$f":"IF($G260=\"\",\"\",VLOOKUP($G260,Lists!$BM$2:$BR$478,COLUMN(),FALSE))","v":""},{"$f":"IF($G260=\"\",\"\",VLOOKUP($G260,Lists!$BM$2:$BR$478,COLUMN(),FALSE))","v":""},{"$f":"IF($G260=\"\",\"\",VLOOKUP($G260,Lists!$BM$2:$BR$478,COLUMN(),FALSE))","v":""}]
[null,{"$f":"IF($G261=\"\",\"\",VLOOKUP($G261,Lists!$BM$2:$BR$478,COLUMN(),FALSE))","v":""},{"$f":"IF($G261=\"\",\"\",VLOOKUP($G261,Lists!$BM$2:$BR$478,COLUMN(),FALSE))","v":""},{"$f":"IF($G261=\"\",\"\",VLOOKUP($G261,Lists!$BM$2:$BR$478,COLUMN(),FALSE))","v":""},{"$f":"IF($G261=\"\",\"\",VLOOKUP($G261,Lists!$BM$2:$BR$478,COLUMN(),FALSE))","v":""},{"$f":"IF($G261=\"\",\"\",VLOOKUP($G261,Lists!$BM$2:$BR$478,COLUMN(),FALSE))","v":""}]
[null,{"$f":"IF($G262=\"\",\"\",VLOOKUP($G262,Lists!$BM$2:$BR$478,COLUMN(),FALSE))","v":""},{"$f":"IF($G262=\"\",\"\",VLOOKUP($G262,Lists!$BM$2:$BR$478,COLUMN(),FALSE))","v":""},{"$f":"IF($G262=\"\",\"\",VLOOKUP($G262,Lists!$BM$2:$BR$478,COLUMN(),FALSE))","v":""},{"$f":"IF($G262=\"\",\"\",VLOOKUP($G262,Lists!$BM$2:$BR$478,COLUMN(),FALSE))","v":""},{"$f":"IF($G262=\"\",\"\",VLOOKUP($G262,Lists!$BM$2:$BR$478,COLUMN(),FALSE))","v":""}]
[null,{"$f":"IF($G263=\"\",\"\",VLOOKUP($G263,Lists!$BM$2:$BR$478,COLUMN(),FALSE))","v":""},{"$f":"IF($G263=\"\",\"\",VLOOKUP($G263,Lists!$BM$2:$BR$478,COLUMN(),FALSE))","v":""},{"$f":"IF($G263=\"\",\"\",VLOOKUP($G263,Lists!$BM$2:$BR$478,COLUMN(),FALSE))","v":""},{"$f":"IF($G263=\"\",\"\",VLOOKUP($G263,Lists!$BM$2:$BR$478,COLUMN(),FALSE))","v":""},{"$f":"IF($G263=\"\",\"\",VLOOKUP($G263,Lists!$BM$2:$BR$478,COLUMN(),FALSE))","v":""}]
[null,{"$f":"IF($G264=\"\",\"\",VLOOKUP($G264,Lists!$BM$2:$BR$478,COLUMN(),FALSE))","v":""},{"$f":"IF($G264=\"\",\"\",VLOOKUP($G264,Lists!$BM$2:$BR$478,COLUMN(),FALSE))","v":""},{"$f":"IF($G264=\"\",\"\",VLOOKUP($G264,Lists!$BM$2:$BR$478,COLUMN(),FALSE))","v":""},{"$f":"IF($G264=\"\",\"\",VLOOKUP($G264,Lists!$BM$2:$BR$478,COLUMN(),FALSE))","v":""},{"$f":"IF($G264=\"\",\"\",VLOOKUP($G264,Lists!$BM$2:$BR$478,COLUMN(),FALSE))","v":""}]
[null,{"$f":"IF($G265=\"\",\"\",VLOOKUP($G265,Lists!$BM$2:$BR$478,COLUMN(),FALSE))","v":""},{"$f":"IF($G265=\"\",\"\",VLOOKUP($G265,Lists!$BM$2:$BR$478,COLUMN(),FALSE))","v":""},{"$f":"IF($G265=\"\",\"\",VLOOKUP($G265,Lists!$BM$2:$BR$478,COLUMN(),FALSE))","v":""},{"$f":"IF($G265=\"\",\"\",VLOOKUP($G265,Lists!$BM$2:$BR$478,COLUMN(),FALSE))","v":""},{"$f":"IF($G265=\"\",\"\",VLOOKUP($G265,Lists!$BM$2:$BR$478,COLUMN(),FALSE))","v":""}]
[null,{"$f":"IF($G266=\"\",\"\",VLOOKUP($G266,Lists!$BM$2:$BR$478,COLUMN(),FALSE))","v":""},{"$f":"IF($G266=\"\",\"\",VLOOKUP($G266,Lists!$BM$2:$BR$478,COLUMN(),FALSE))","v":""},{"$f":"IF($G266=\"\",\"\",VLOOKUP($G266,Lists!$BM$2:$BR$478,COLUMN(),FALSE))","v":""},{"$f":"IF($G266=\"\",\"\",VLOOKUP($G266,Lists!$BM$2:$BR$478,COLUMN(),FALSE))","v":""},{"$f":"IF($G266=\"\",\"\",VLOOKUP($G266,Lists!$BM$2:$BR$478,COLUMN(),FALSE))","v":""}]
[null,{"$f":"IF($G267=\"\",\"\",VLOOKUP($G267,Lists!$BM$2:$BR$478,COLUMN(),FALSE))","v":""},{"$f":"IF($G267=\"\",\"\",VLOOKUP($G267,Lists!$BM$2:$BR$478,COLUMN(),FALSE))","v":""},{"$f":"IF($G267=\"\",\"\",VLOOKUP($G267,Lists!$BM$2:$BR$478,COLUMN(),FALSE))","v":""},{"$f":"IF($G267=\"\",\"\",VLOOKUP($G267,Lists!$BM$2:$BR$478,COLUMN(),FALSE))","v":""},{"$f":"IF($G267=\"\",\"\",VLOOKUP($G267,Lists!$BM$2:$BR$478,COLUMN(),FALSE))","v":""}]
[null,{"$f":"IF($G268=\"\",\"\",VLOOKUP($G268,Lists!$BM$2:$BR$478,COLUMN(),FALSE))","v":""},{"$f":"IF($G268=\"\",\"\",VLOOKUP($G268,Lists!$BM$2:$BR$478,COLUMN(),FALSE))","v":""},{"$f":"IF($G268=\"\",\"\",VLOOKUP($G268,Lists!$BM$2:$BR$478,COLUMN(),FALSE))","v":""},{"$f":"IF($G268=\"\",\"\",VLOOKUP($G268,Lists!$BM$2:$BR$478,COLUMN(),FALSE))","v":""},{"$f":"IF($G268=\"\",\"\",VLOOKUP($G268,Lists!$BM$2:$BR$478,COLUMN(),FALSE))","v":""}]
[null,{"$f":"IF($G269=\"\",\"\",VLOOKUP($G269,Lists!$BM$2:$BR$478,COLUMN(),FALSE))","v":""},{"$f":"IF($G269=\"\",\"\",VLOOKUP($G269,Lists!$BM$2:$BR$478,COLUMN(),FALSE))","v":""},{"$f":"IF($G269=\"\",\"\",VLOOKUP($G269,Lists!$BM$2:$BR$478,COLUMN(),FALSE))","v":""},{"$f":"IF($G269=\"\",\"\",VLOOKUP($G269,Lists!$BM$2:$BR$478,COLUMN(),FALSE))","v":""},{"$f":"IF($G269=\"\",\"\",VLOOKUP($G269,Lists!$BM$2:$BR$478,COLUMN(),FALSE))","v":""}]
[null,{"$f":"IF($G270=\"\",\"\",VLOOKUP($G270,Lists!$BM$2:$BR$478,COLUMN(),FALSE))","v":""},{"$f":"IF($G270=\"\",\"\",VLOOKUP($G270,Lists!$BM$2:$BR$478,COLUMN(),FALSE))","v":""},{"$f":"IF($G270=\"\",\"\",VLOOKUP($G270,Lists!$BM$2:$BR$478,COLUMN(),FALSE))","v":""},{"$f":"IF($G270=\"\",\"\",VLOOKUP($G270,Lists!$BM$2:$BR$478,COLUMN(),FALSE))","v":""},{"$f":"IF($G270=\"\",\"\",VLOOKUP($G270,Lists!$BM$2:$BR$478,COLUMN(),FALSE))","v":""}]
[null,{"$f":"IF($G271=\"\",\"\",VLOOKUP($G271,Lists!$BM$2:$BR$478,COLUMN(),FALSE))","v":""},{"$f":"IF($G271=\"\",\"\",VLOOKUP($G271,Lists!$BM$2:$BR$478,COLUMN(),FALSE))","v":""},{"$f":"IF($G271=\"\",\"\",VLOOKUP($G271,Lists!$BM$2:$BR$478,COLUMN(),FALSE))","v":""},{"$f":"IF($G271=\"\",\"\",VLOOKUP($G271,Lists!$BM$2:$BR$478,COLUMN(),FALSE))","v":""},{"$f":"IF($G271=\"\",\"\",VLOOKUP($G271,Lists!$BM$2:$BR$478,COLUMN(),FALSE))","v":""}]
[null,{"$f":"IF($G272=\"\",\"\",VLOOKUP($G272,Lists!$BM$2:$BR$478,COLUMN(),FALSE))","v":""},{"$f":"IF($G272=\"\",\"\",VLOOKUP($G272,Lists!$BM$2:$BR$478,COLUMN(),FALSE))","v":""},{"$f":"IF($G272=\"\",\"\",VLOOKUP($G272,Lists!$BM$2:$BR$478,COLUMN(),FALSE))","v":""},{"$f":"IF($G272=\"\",\"\",VLOOKUP($G272,Lists!$BM$2:$BR$478,COLUMN(),FALSE))","v":""},{"$f":"IF($G272=\"\",\"\",VLOOKUP($G272,Lists!$BM$2:$BR$478,COLUMN(),FALSE))","v":""}]
[null,{"$f":"IF($G273=\"\",\"\",VLOOKUP($G273,Lists!$BM$2:$BR$478,COLUMN(),FALSE))","v":""},{"$f":"IF($G273=\"\",\"\",VLOOKUP($G273,Lists!$BM$2:$BR$478,COLUMN(),FALSE))","v":""},{"$f":"IF($G273=\"\",\"\",VLOOKUP($G273,Lists!$BM$2:$BR$478,COLUMN(),FALSE))","v":""},{"$f":"IF($G273=\"\",\"\",VLOOKUP($G273,Lists!$BM$2:$BR$478,COLUMN(),FALSE))","v":""},{"$f":"IF($G273=\"\",\"\",VLOOKUP($G273,Lists!$BM$2:$BR$478,COLUMN(),FALSE))","v":""}]
[null,{"$f":"IF($G274=\"\",\"\",VLOOKUP($G274,Lists!$BM$2:$BR$478,COLUMN(),FALSE))","v":""},{"$f":"IF($G274=\"\",\"\",VLOOKUP($G274,Lists!$BM$2:$BR$478,COLUMN(),FALSE))","v":""},{"$f":"IF($G274=\"\",\"\",VLOOKUP($G274,Lists!$BM$2:$BR$478,COLUMN(),FALSE))","v":""},{"$f":"IF($G274=\"\",\"\",VLOOKUP($G274,Lists!$BM$2:$BR$478,COLUMN(),FALSE))","v":""},{"$f":"IF($G274=\"\",\"\",VLOOKUP($G274,Lists!$BM$2:$BR$478,COLUMN(),FALSE))","v":""}]
[null,{"$f":"IF($G275=\"\",\"\",VLOOKUP($G275,Lists!$BM$2:$BR$478,COLUMN(),FALSE))","v":""},{"$f":"IF($G275=\"\",\"\",VLOOKUP($G275,Lists!$BM$2:$BR$478,COLUMN(),FALSE))","v":""},{"$f":"IF($G275=\"\",\"\",VLOOKUP($G275,Lists!$BM$2:$BR$478,COLUMN(),FALSE))","v":""},{"$f":"IF($G275=\"\",\"\",VLOOKUP($G275,Lists!$BM$2:$BR$478,COLUMN(),FALSE))","v":""},{"$f":"IF($G275=\"\",\"\",VLOOKUP($G275,Lists!$BM$2:$BR$478,COLUMN(),FALSE))","v":""}]
[null,{"$f":"IF($G276=\"\",\"\",VLOOKUP($G276,Lists!$BM$2:$BR$478,COLUMN(),FALSE))","v":""},{"$f":"IF($G276=\"\",\"\",VLOOKUP($G276,Lists!$BM$2:$BR$478,COLUMN(),FALSE))","v":""},{"$f":"IF($G276=\"\",\"\",VLOOKUP($G276,Lists!$BM$2:$BR$478,COLUMN(),FALSE))","v":""},{"$f":"IF($G276=\"\",\"\",VLOOKUP($G276,Lists!$BM$2:$BR$478,COLUMN(),FALSE))","v":""},{"$f":"IF($G276=\"\",\"\",VLOOKUP($G276,Lists!$BM$2:$BR$478,COLUMN(),FALSE))","v":""}]
[null,{"$f":"IF($G277=\"\",\"\",VLOOKUP($G277,Lists!$BM$2:$BR$478,COLUMN(),FALSE))","v":""},{"$f":"IF($G277=\"\",\"\",VLOOKUP($G277,Lists!$BM$2:$BR$478,COLUMN(),FALSE))","v":""},{"$f":"IF($G277=\"\",\"\",VLOOKUP($G277,Lists!$BM$2:$BR$478,COLUMN(),FALSE))","v":""},{"$f":"IF($G277=\"\",\"\",VLOOKUP($G277,Lists!$BM$2:$BR$478,COLUMN(),FALSE))","v":""},{"$f":"IF($G277=\"\",\"\",VLOOKUP($G277,Lists!$BM$2:$BR$478,COLUMN(),FALSE))","v":""}]
[null,{"$f":"IF($G278=\"\",\"\",VLOOKUP($G278,Lists!$BM$2:$BR$478,COLUMN(),FALSE))","v":""},{"$f":"IF($G278=\"\",\"\",VLOOKUP($G278,Lists!$BM$2:$BR$478,COLUMN(),FALSE))","v":""},{"$f":"IF($G278=\"\",\"\",VLOOKUP($G278,Lists!$BM$2:$BR$478,COLUMN(),FALSE))","v":""},{"$f":"IF($G278=\"\",\"\",VLOOKUP($G278,Lists!$BM$2:$BR$478,COLUMN(),FALSE))","v":""},{"$f":"IF($G278=\"\",\"\",VLOOKUP($G278,Lists!$BM$2:$BR$478,COLUMN(),FALSE))","v":""}]
[null,{"$f":"IF($G279=\"\",\"\",VLOOKUP($G279,Lists!$BM$2:$BR$478,COLUMN(),FALSE))","v":""},{"$f":"IF($G279=\"\",\"\",VLOOKUP($G279,Lists!$BM$2:$BR$478,COLUMN(),FALSE))","v":""},{"$f":"IF($G279=\"\",\"\",VLOOKUP($G279,Lists!$BM$2:$BR$478,COLUMN(),FALSE))","v":""},{"$f":"IF($G279=\"\",\"\",VLOOKUP($G279,Lists!$BM$2:$BR$478,COLUMN(),FALSE))","v":""},{"$f":"IF($G279=\"\",\"\",VLOOKUP($G279,Lists!$BM$2:$BR$478,COLUMN(),FALSE))","v":""}]
[null,{"$f":"IF($G280=\"\",\"\",VLOOKUP($G280,Lists!$BM$2:$BR$478,COLUMN(),FALSE))","v":""},{"$f":"IF($G280=\"\",\"\",VLOOKUP($G280,Lists!$BM$2:$BR$478,COLUMN(),FALSE))","v":""},{"$f":"IF($G280=\"\",\"\",VLOOKUP($G280,Lists!$BM$2:$BR$478,COLUMN(),FALSE))","v":""},{"$f":"IF($G280=\"\",\"\",VLOOKUP($G280,Lists!$BM$2:$BR$478,COLUMN(),FALSE))","v":""},{"$f":"IF($G280=\"\",\"\",VLOOKUP($G280,Lists!$BM$2:$BR$478,COLUMN(),FALSE))","v":""}]
[null,{"$f":"IF($G281=\"\",\"\",VLOOKUP($G281,Lists!$BM$2:$BR$478,COLUMN(),FALSE))","v":""},{"$f":"IF($G281=\"\",\"\",VLOOKUP($G281,Lists!$BM$2:$BR$478,COLUMN(),FALSE))","v":""},{"$f":"IF($G281=\"\",\"\",VLOOKUP($G281,Lists!$BM$2:$BR$478,COLUMN(),FALSE))","v":""},{"$f":"IF($G281=\"\",\"\",VLOOKUP($G281,Lists!$BM$2:$BR$478,COLUMN(),FALSE))","v":""},{"$f":"IF($G281=\"\",\"\",VLOOKUP($G281,Lists!$BM$2:$BR$478,COLUMN(),FALSE))","v":""}]
[null,{"$f":"IF($G282=\"\",\"\",VLOOKUP($G282,Lists!$BM$2:$BR$478,COLUMN(),FALSE))","v":""},{"$f":"IF($G282=\"\",\"\",VLOOKUP($G282,Lists!$BM$2:$BR$478,COLUMN(),FALSE))","v":""},{"$f":"IF($G282=\"\",\"\",VLOOKUP($G282,Lists!$BM$2:$BR$478,COLUMN(),FALSE))","v":""},{"$f":"IF($G282=\"\",\"\",VLOOKUP($G282,Lists!$BM$2:$BR$478,COLUMN(),FALSE))","v":""},{"$f":"IF($G282=\"\",\"\",VLOOKUP($G282,Lists!$BM$2:$BR$478,COLUMN(),FALSE))","v":""}]
[null,{"$f":"IF($G283=\"\",\"\",VLOOKUP($G283,Lists!$BM$2:$BR$478,COLUMN(),FALSE))","v":""},{"$f":"IF($G283=\"\",\"\",VLOOKUP($G283,Lists!$BM$2:$BR$478,COLUMN(),FALSE))","v":""},{"$f":"IF($G283=\"\",\"\",VLOOKUP($G283,Lists!$BM$2:$BR$478,COLUMN(),FALSE))","v":""},{"$f":"IF($G283=\"\",\"\",VLOOKUP($G283,Lists!$BM$2:$BR$478,COLUMN(),FALSE))","v":""},{"$f":"IF($G283=\"\",\"\",VLOOKUP($G283,Lists!$BM$2:$BR$478,COLUMN(),FALSE))","v":""}]
[null,{"$f":"IF($G284=\"\",\"\",VLOOKUP($G284,Lists!$BM$2:$BR$478,COLUMN(),FALSE))","v":""},{"$f":"IF($G284=\"\",\"\",VLOOKUP($G284,Lists!$BM$2:$BR$478,COLUMN(),FALSE))","v":""},{"$f":"IF($G284=\"\",\"\",VLOOKUP($G284,Lists!$BM$2:$BR$478,COLUMN(),FALSE))","v":""},{"$f":"IF($G284=\"\",\"\",VLOOKUP($G284,Lists!$BM$2:$BR$478,COLUMN(),FALSE))","v":""},{"$f":"IF($G284=\"\",\"\",VLOOKUP($G284,Lists!$BM$2:$BR$478,COLUMN(),FALSE))","v":""}]
[null,{"$f":"IF($G285=\"\",\"\",VLOOKUP($G285,Lists!$BM$2:$BR$478,COLUMN(),FALSE))","v":""},{"$f":"IF($G285=\"\",\"\",VLOOKUP($G285,Lists!$BM$2:$BR$478,COLUMN(),FALSE))","v":""},{"$f":"IF($G285=\"\",\"\",VLOOKUP($G285,Lists!$BM$2:$BR$478,COLUMN(),FALSE))","v":""},{"$f":"IF($G285=\"\",\"\",VLOOKUP($G285,Lists!$BM$2:$BR$478,COLUMN(),FALSE))","v":""},{"$f":"IF($G285=\"\",\"\",VLOOKUP($G285,Lists!$BM$2:$BR$478,COLUMN(),FALSE))","v":""}]
[null,{"$f":"IF($G286=\"\",\"\",VLOOKUP($G286,Lists!$BM$2:$BR$478,COLUMN(),FALSE))","v":""},{"$f":"IF($G286=\"\",\"\",VLOOKUP($G286,Lists!$BM$2:$BR$478,COLUMN(),FALSE))","v":""},{"$f":"IF($G286=\"\",\"\",VLOOKUP($G286,Lists!$BM$2:$BR$478,COLUMN(),FALSE))","v":""},{"$f":"IF($G286=\"\",\"\",VLOOKUP($G286,Lists!$BM$2:$BR$478,COLUMN(),FALSE))","v":""},{"$f":"IF($G286=\"\",\"\",VLOOKUP($G286,Lists!$BM$2:$BR$478,COLUMN(),FALSE))","v":""}]
[null,{"$f":"IF($G287=\"\",\"\",VLOOKUP($G287,Lists!$BM$2:$BR$478,COLUMN(),FALSE))","v":""},{"$f":"IF($G287=\"\",\"\",VLOOKUP($G287,Lists!$BM$2:$BR$478,COLUMN(),FALSE))","v":""},{"$f":"IF($G287=\"\",\"\",VLOOKUP($G287,Lists!$BM$2:$BR$478,COLUMN(),FALSE))","v":""},{"$f":"IF($G287=\"\",\"\",VLOOKUP($G287,Lists!$BM$2:$BR$478,COLUMN(),FALSE))","v":""},{"$f":"IF($G287=\"\",\"\",VLOOKUP($G287,Lists!$BM$2:$BR$478,COLUMN(),FALSE))","v":""}]
[null,{"$f":"IF($G288=\"\",\"\",VLOOKUP($G288,Lists!$BM$2:$BR$478,COLUMN(),FALSE))","v":""},{"$f":"IF($G288=\"\",\"\",VLOOKUP($G288,Lists!$BM$2:$BR$478,COLUMN(),FALSE))","v":""},{"$f":"IF($G288=\"\",\"\",VLOOKUP($G288,Lists!$BM$2:$BR$478,COLUMN(),FALSE))","v":""},{"$f":"IF($G288=\"\",\"\",VLOOKUP($G288,Lists!$BM$2:$BR$478,COLUMN(),FALSE))","v":""},{"$f":"IF($G288=\"\",\"\",VLOOKUP($G288,Lists!$BM$2:$BR$478,COLUMN(),FALSE))","v":""}]
[null,{"$f":"IF($G289=\"\",\"\",VLOOKUP($G289,Lists!$BM$2:$BR$478,COLUMN(),FALSE))","v":""},{"$f":"IF($G289=\"\",\"\",VLOOKUP($G289,Lists!$BM$2:$BR$478,COLUMN(),FALSE))","v":""},{"$f":"IF($G289=\"\",\"\",VLOOKUP($G289,Lists!$BM$2:$BR$478,COLUMN(),FALSE))","v":""},{"$f":"IF($G289=\"\",\"\",VLOOKUP($G289,Lists!$BM$2:$BR$478,COLUMN(),FALSE))","v":""},{"$f":"IF($G289=\"\",\"\",VLOOKUP($G289,Lists!$BM$2:$BR$478,COLUMN(),FALSE))","v":""}]
[null,{"$f":"IF($G290=\"\",\"\",VLOOKUP($G290,Lists!$BM$2:$BR$478,COLUMN(),FALSE))","v":""},{"$f":"IF($G290=\"\",\"\",VLOOKUP($G290,Lists!$BM$2:$BR$478,COLUMN(),FALSE))","v":""},{"$f":"IF($G290=\"\",\"\",VLOOKUP($G290,Lists!$BM$2:$BR$478,COLUMN(),FALSE))","v":""},{"$f":"IF($G290=\"\",\"\",VLOOKUP($G290,Lists!$BM$2:$BR$478,COLUMN(),FALSE))","v":""},{"$f":"IF($G290=\"\",\"\",VLOOKUP($G290,Lists!$BM$2:$BR$478,COLUMN(),FALSE))","v":""}]
[null,{"$f":"IF($G291=\"\",\"\",VLOOKUP($G291,Lists!$BM$2:$BR$478,COLUMN(),FALSE))","v":""},{"$f":"IF($G291=\"\",\"\",VLOOKUP($G291,Lists!$BM$2:$BR$478,COLUMN(),FALSE))","v":""},{"$f":"IF($G291=\"\",\"\",VLOOKUP($G291,Lists!$BM$2:$BR$478,COLUMN(),FALSE))","v":""},{"$f":"IF($G291=\"\",\"\",VLOOKUP($G291,Lists!$BM$2:$BR$478,COLUMN(),FALSE))","v":""},{"$f":"IF($G291=\"\",\"\",VLOOKUP($G291,Lists!$BM$2:$BR$478,COLUMN(),FALSE))","v":""}]
[null,{"$f":"IF($G292=\"\",\"\",VLOOKUP($G292,Lists!$BM$2:$BR$478,COLUMN(),FALSE))","v":""},{"$f":"IF($G292=\"\",\"\",VLOOKUP($G292,Lists!$BM$2:$BR$478,COLUMN(),FALSE))","v":""},{"$f":"IF($G292=\"\",\"\",VLOOKUP($G292,Lists!$BM$2:$BR$478,COLUMN(),FALSE))","v":""},{"$f":"IF($G292=\"\",\"\",VLOOKUP($G292,Lists!$BM$2:$BR$478,COLUMN(),FALSE))","v":""},{"$f":"IF($G292=\"\",\"\",VLOOKUP($G292,Lists!$BM$2:$BR$478,COLUMN(),FALSE))","v":""}]
[null,{"$f":"IF($G293=\"\",\"\",VLOOKUP($G293,Lists!$BM$2:$BR$478,COLUMN(),FALSE))","v":""},{"$f":"IF($G293=\"\",\"\",VLOOKUP($G293,Lists!$BM$2:$BR$478,COLUMN(),FALSE))","v":""},{"$f":"IF($G293=\"\",\"\",VLOOKUP($G293,Lists!$BM$2:$BR$478,COLUMN(),FALSE))","v":""},{"$f":"IF($G293=\"\",\"\",VLOOKUP($G293,Lists!$BM$2:$BR$478,COLUMN(),FALSE))","v":""},{"$f":"IF($G293=\"\",\"\",VLOOKUP($G293,Lists!$BM$2:$BR$478,COLUMN(),FALSE))","v":""}]
[null,{"$f":"IF($G294=\"\",\"\",VLOOKUP($G294,Lists!$BM$2:$BR$478,COLUMN(),FALSE))","v":""},{"$f":"IF($G294=\"\",\"\",VLOOKUP($G294,Lists!$BM$2:$BR$478,COLUMN(),FALSE))","v":""},{"$f":"IF($G294=\"\",\"\",VLOOKUP($G294,Lists!$BM$2:$BR$478,COLUMN(),FALSE))","v":""},{"$f":"IF($G294=\"\",\"\",VLOOKUP($G294,Lists!$BM$2:$BR$478,COLUMN(),FALSE))","v":""},{"$f":"IF($G294=\"\",\"\",VLOOKUP($G294,Lists!$BM$2:$BR$478,COLUMN(),FALSE))","v":""}]
[null,{"$f":"IF($G295=\"\",\"\",VLOOKUP($G295,Lists!$BM$2:$BR$478,COLUMN(),FALSE))","v":""},{"$f":"IF($G295=\"\",\"\",VLOOKUP($G295,Lists!$BM$2:$BR$478,COLUMN(),FALSE))","v":""},{"$f":"IF($G295=\"\",\"\",VLOOKUP($G295,Lists!$BM$2:$BR$478,COLUMN(),FALSE))","v":""},{"$f":"IF($G295=\"\",\"\",VLOOKUP($G295,Lists!$BM$2:$BR$478,COLUMN(),FALSE))","v":""},{"$f":"IF($G295=\"\",\"\",VLOOKUP($G295,Lists!$BM$2:$BR$478,COLUMN(),FALSE))","v":""}]
[null,{"$f":"IF($G296=\"\",\"\",VLOOKUP($G296,Lists!$BM$2:$BR$478,COLUMN(),FALSE))","v":""},{"$f":"IF($G296=\"\",\"\",VLOOKUP($G296,Lists!$BM$2:$BR$478,COLUMN(),FALSE))","v":""},{"$f":"IF($G296=\"\",\"\",VLOOKUP($G296,Lists!$BM$2:$BR$478,COLUMN(),FALSE))","v":""},{"$f":"IF($G296=\"\",\"\",VLOOKUP($G296,Lists!$BM$2:$BR$478,COLUMN(),FALSE))","v":""},{"$f":"IF($G296=\"\",\"\",VLOOKUP($G296,Lists!$BM$2:$BR$478,COLUMN(),FALSE))","v":""}]
[null,{"$f":"IF($G297=\"\",\"\",VLOOKUP($G297,Lists!$BM$2:$BR$478,COLUMN(),FALSE))","v":""},{"$f":"IF($G297=\"\",\"\",VLOOKUP($G297,Lists!$BM$2:$BR$478,COLUMN(),FALSE))","v":""},{"$f":"IF($G297=\"\",\"\",VLOOKUP($G297,Lists!$BM$2:$BR$478,COLUMN(),FALSE))","v":""},{"$f":"IF($G297=\"\",\"\",VLOOKUP($G297,Lists!$BM$2:$BR$478,COLUMN(),FALSE))","v":""},{"$f":"IF($G297=\"\",\"\",VLOOKUP($G297,Lists!$BM$2:$BR$478,COLUMN(),FALSE))","v":""}]
[null,{"$f":"IF($G298=\"\",\"\",VLOOKUP($G298,Lists!$BM$2:$BR$478,COLUMN(),FALSE))","v":""},{"$f":"IF($G298=\"\",\"\",VLOOKUP($G298,Lists!$BM$2:$BR$478,COLUMN(),FALSE))","v":""},{"$f":"IF($G298=\"\",\"\",VLOOKUP($G298,Lists!$BM$2:$BR$478,COLUMN(),FALSE))","v":""},{"$f":"IF($G298=\"\",\"\",VLOOKUP($G298,Lists!$BM$2:$BR$478,COLUMN(),FALSE))","v":""},{"$f":"IF($G298=\"\",\"\",VLOOKUP($G298,Lists!$BM$2:$BR$478,COLUMN(),FALSE))","v":""}]
[null,{"$f":"IF($G299=\"\",\"\",VLOOKUP($G299,Lists!$BM$2:$BR$478,COLUMN(),FALSE))","v":""},{"$f":"IF($G299=\"\",\"\",VLOOKUP($G299,Lists!$BM$2:$BR$478,COLUMN(),FALSE))","v":""},{"$f":"IF($G299=\"\",\"\",VLOOKUP($G299,Lists!$BM$2:$BR$478,COLUMN(),FALSE))","v":""},{"$f":"IF($G299=\"\",\"\",VLOOKUP($G299,Lists!$BM$2:$BR$478,COLUMN(),FALSE))","v":""},{"$f":"IF($G299=\"\",\"\",VLOOKUP($G299,Lists!$BM$2:$BR$478,COLUMN(),FALSE))","v":""}]
[null,{"$f":"IF($G300=\"\",\"\",VLOOKUP($G300,Lists!$BM$2:$BR$478,COLUMN(),FALSE))","v":""},{"$f":"IF($G300=\"\",\"\",VLOOKUP($G300,Lists!$BM$2:$BR$478,COLUMN(),FALSE))","v":""},{"$f":"IF($G300=\"\",\"\",VLOOKUP($G300,Lists!$BM$2:$BR$478,COLUMN(),FALSE))","v":""},{"$f":"IF($G300=\"\",\"\",VLOOKUP($G300,Lists!$BM$2:$BR$478,COLUMN(),FALSE))","v":""},{"$f":"IF($G300=\"\",\"\",VLOOKUP($G300,Lists!$BM$2:$BR$478,COLUMN(),FALSE))","v":""}]
[null,{"$f":"IF($G301=\"\",\"\",VLOOKUP($G301,Lists!$BM$2:$BR$478,COLUMN(),FALSE))","v":""},{"$f":"IF($G301=\"\",\"\",VLOOKUP($G301,Lists!$BM$2:$BR$478,COLUMN(),FALSE))","v":""},{"$f":"IF($G301=\"\",\"\",VLOOKUP($G301,Lists!$BM$2:$BR$478,COLUMN(),FALSE))","v":""},{"$f":"IF($G301=\"\",\"\",VLOOKUP($G301,Lists!$BM$2:$BR$478,COLUMN(),FALSE))","v":""},{"$f":"IF($G301=\"\",\"\",VLOOKUP($G301,Lists!$BM$2:$BR$478,COLUMN(),FALSE))","v":""}]
[null,{"$f":"IF($G302=\"\",\"\",VLOOKUP($G302,Lists!$BM$2:$BR$478,COLUMN(),FALSE))","v":""},{"$f":"IF($G302=\"\",\"\",VLOOKUP($G302,Lists!$BM$2:$BR$478,COLUMN(),FALSE))","v":""},{"$f":"IF($G302=\"\",\"\",VLOOKUP($G302,Lists!$BM$2:$BR$478,COLUMN(),FALSE))","v":""},{"$f":"IF($G302=\"\",\"\",VLOOKUP($G302,Lists!$BM$2:$BR$478,COLUMN(),FALSE))","v":""},{"$f":"IF($G302=\"\",\"\",VLOOKUP($G302,Lists!$BM$2:$BR$478,COLUMN(),FALSE))","v":""}]
[null,{"$f":"IF($G303=\"\",\"\",VLOOKUP($G303,Lists!$BM$2:$BR$478,COLUMN(),FALSE))","v":""},{"$f":"IF($G303=\"\",\"\",VLOOKUP($G303,Lists!$BM$2:$BR$478,COLUMN(),FALSE))","v":""},{"$f":"IF($G303=\"\",\"\",VLOOKUP($G303,Lists!$BM$2:$BR$478,COLUMN(),FALSE))","v":""},{"$f":"IF($G303=\"\",\"\",VLOOKUP($G303,Lists!$BM$2:$BR$478,COLUMN(),FALSE))","v":""},{"$f":"IF($G303=\"\",\"\",VLOOKUP($G303,Lists!$BM$2:$BR$478,COLUMN(),FALSE))","v":""}]
[null,{"$f":"IF($G304=\"\",\"\",VLOOKUP($G304,Lists!$BM$2:$BR$478,COLUMN(),FALSE))","v":""},{"$f":"IF($G304=\"\",\"\",VLOOKUP($G304,Lists!$BM$2:$BR$478,COLUMN(),FALSE))","v":""},{"$f":"IF($G304=\"\",\"\",VLOOKUP($G304,Lists!$BM$2:$BR$478,COLUMN(),FALSE))","v":""},{"$f":"IF($G304=\"\",\"\",VLOOKUP($G304,Lists!$BM$2:$BR$478,COLUMN(),FALSE))","v":""},{"$f":"IF($G304=\"\",\"\",VLOOKUP($G304,Lists!$BM$2:$BR$478,COLUMN(),FALSE))","v":""}]
[null,{"$f":"IF($G305=\"\",\"\",VLOOKUP($G305,Lists!$BM$2:$BR$478,COLUMN(),FALSE))","v":""},{"$f":"IF($G305=\"\",\"\",VLOOKUP($G305,Lists!$BM$2:$BR$478,COLUMN(),FALSE))","v":""},{"$f":"IF($G305=\"\",\"\",VLOOKUP($G305,Lists!$BM$2:$BR$478,COLUMN(),FALSE))","v":""},{"$f":"IF($G305=\"\",\"\",VLOOKUP($G305,Lists!$BM$2:$BR$478,COLUMN(),FALSE))","v":""},{"$f":"IF($G305=\"\",\"\",VLOOKUP($G305,Lists!$BM$2:$BR$478,COLUMN(),FALSE))","v":""}]
[null,{"$f":"IF($G306=\"\",\"\",VLOOKUP($G306,Lists!$BM$2:$BR$478,COLUMN(),FALSE))","v":""},{"$f":"IF($G306=\"\",\"\",VLOOKUP($G306,Lists!$BM$2:$BR$478,COLUMN(),FALSE))","v":""},{"$f":"IF($G306=\"\",\"\",VLOOKUP($G306,Lists!$BM$2:$BR$478,COLUMN(),FALSE))","v":""},{"$f":"IF($G306=\"\",\"\",VLOOKUP($G306,Lists!$BM$2:$BR$478,COLUMN(),FALSE))","v":""},{"$f":"IF($G306=\"\",\"\",VLOOKUP($G306,Lists!$BM$2:$BR$478,COLUMN(),FALSE))","v":""}]
[null,{"$f":"IF($G307=\"\",\"\",VLOOKUP($G307,Lists!$BM$2:$BR$478,COLUMN(),FALSE))","v":""},{"$f":"IF($G307=\"\",\"\",VLOOKUP($G307,Lists!$BM$2:$BR$478,COLUMN(),FALSE))","v":""},{"$f":"IF($G307=\"\",\"\",VLOOKUP($G307,Lists!$BM$2:$BR$478,COLUMN(),FALSE))","v":""},{"$f":"IF($G307=\"\",\"\",VLOOKUP($G307,Lists!$BM$2:$BR$478,COLUMN(),FALSE))","v":""},{"$f":"IF($G307=\"\",\"\",VLOOKUP($G307,Lists!$BM$2:$BR$478,COLUMN(),FALSE))","v":""}]
[null,{"$f":"IF($G308=\"\",\"\",VLOOKUP($G308,Lists!$BM$2:$BR$478,COLUMN(),FALSE))","v":""},{"$f":"IF($G308=\"\",\"\",VLOOKUP($G308,Lists!$BM$2:$BR$478,COLUMN(),FALSE))","v":""},{"$f":"IF($G308=\"\",\"\",VLOOKUP($G308,Lists!$BM$2:$BR$478,COLUMN(),FALSE))","v":""},{"$f":"IF($G308=\"\",\"\",VLOOKUP($G308,Lists!$BM$2:$BR$478,COLUMN(),FALSE))","v":""},{"$f":"IF($G308=\"\",\"\",VLOOKUP($G308,Lists!$BM$2:$BR$478,COLUMN(),FALSE))","v":""}]
[null,{"$f":"IF($G309=\"\",\"\",VLOOKUP($G309,Lists!$BM$2:$BR$478,COLUMN(),FALSE))","v":""},{"$f":"IF($G309=\"\",\"\",VLOOKUP($G309,Lists!$BM$2:$BR$478,COLUMN(),FALSE))","v":""},{"$f":"IF($G309=\"\",\"\",VLOOKUP($G309,Lists!$BM$2:$BR$478,COLUMN(),FALSE))","v":""},{"$f":"IF($G309=\"\",\"\",VLOOKUP($G309,Lists!$BM$2:$BR$478,COLUMN(),FALSE))","v":""},{"$f":"IF($G309=\"\",\"\",VLOOKUP($G309,Lists!$BM$2:$BR$478,COLUMN(),FALSE))","v":""}]
[null,{"$f":"IF($G310=\"\",\"\",VLOOKUP($G310,Lists!$BM$2:$BR$478,COLUMN(),FALSE))","v":""},{"$f":"IF($G310=\"\",\"\",VLOOKUP($G310,Lists!$BM$2:$BR$478,COLUMN(),FALSE))","v":""},{"$f":"IF($G310=\"\",\"\",VLOOKUP($G310,Lists!$BM$2:$BR$478,COLUMN(),FALSE))","v":""},{"$f":"IF($G310=\"\",\"\",VLOOKUP($G310,Lists!$BM$2:$BR$478,COLUMN(),FALSE))","v":""},{"$f":"IF($G310=\"\",\"\",VLOOKUP($G310,Lists!$BM$2:$BR$478,COLUMN(),FALSE))","v":""}]
[null,{"$f":"IF($G311=\"\",\"\",VLOOKUP($G311,Lists!$BM$2:$BR$478,COLUMN(),FALSE))","v":""},{"$f":"IF($G311=\"\",\"\",VLOOKUP($G311,Lists!$BM$2:$BR$478,COLUMN(),FALSE))","v":""},{"$f":"IF($G311=\"\",\"\",VLOOKUP($G311,Lists!$BM$2:$BR$478,COLUMN(),FALSE))","v":""},{"$f":"IF($G311=\"\",\"\",VLOOKUP($G311,Lists!$BM$2:$BR$478,COLUMN(),FALSE))","v":""},{"$f":"IF($G311=\"\",\"\",VLOOKUP($G311,Lists!$BM$2:$BR$478,COLUMN(),FALSE))","v":""}]
[null,{"$f":"IF($G312=\"\",\"\",VLOOKUP($G312,Lists!$BM$2:$BR$478,COLUMN(),FALSE))","v":""},{"$f":"IF($G312=\"\",\"\",VLOOKUP($G312,Lists!$BM$2:$BR$478,COLUMN(),FALSE))","v":""},{"$f":"IF($G312=\"\",\"\",VLOOKUP($G312,Lists!$BM$2:$BR$478,COLUMN(),FALSE))","v":""},{"$f":"IF($G312=\"\",\"\",VLOOKUP($G312,Lists!$BM$2:$BR$478,COLUMN(),FALSE))","v":""},{"$f":"IF($G312=\"\",\"\",VLOOKUP($G312,Lists!$BM$2:$BR$478,COLUMN(),FALSE))","v":""}]
[null,{"$f":"IF($G313=\"\",\"\",VLOOKUP($G313,Lists!$BM$2:$BR$478,COLUMN(),FALSE))","v":""},{"$f":"IF($G313=\"\",\"\",VLOOKUP($G313,Lists!$BM$2:$BR$478,COLUMN(),FALSE))","v":""},{"$f":"IF($G313=\"\",\"\",VLOOKUP($G313,Lists!$BM$2:$BR$478,COLUMN(),FALSE))","v":""},{"$f":"IF($G313=\"\",\"\",VLOOKUP($G313,Lists!$BM$2:$BR$478,COLUMN(),FALSE))","v":""},{"$f":"IF($G313=\"\",\"\",VLOOKUP($G313,Lists!$BM$2:$BR$478,COLUMN(),FALSE))","v":""}]
[null,{"$f":"IF($G314=\"\",\"\",VLOOKUP($G314,Lists!$BM$2:$BR$478,COLUMN(),FALSE))","v":""},{"$f":"IF($G314=\"\",\"\",VLOOKUP($G314,Lists!$BM$2:$BR$478,COLUMN(),FALSE))","v":""},{"$f":"IF($G314=\"\",\"\",VLOOKUP($G314,Lists!$BM$2:$BR$478,COLUMN(),FALSE))","v":""},{"$f":"IF($G314=\"\",\"\",VLOOKUP($G314,Lists!$BM$2:$BR$478,COLUMN(),FALSE))","v":""},{"$f":"IF($G314=\"\",\"\",VLOOKUP($G314,Lists!$BM$2:$BR$478,COLUMN(),FALSE))","v":""}]
[null,{"$f":"IF($G315=\"\",\"\",VLOOKUP($G315,Lists!$BM$2:$BR$478,COLUMN(),FALSE))","v":""},{"$f":"IF($G315=\"\",\"\",VLOOKUP($G315,Lists!$BM$2:$BR$478,COLUMN(),FALSE))","v":""},{"$f":"IF($G315=\"\",\"\",VLOOKUP($G315,Lists!$BM$2:$BR$478,COLUMN(),FALSE))","v":""},{"$f":"IF($G315=\"\",\"\",VLOOKUP($G315,Lists!$BM$2:$BR$478,COLUMN(),FALSE))","v":""},{"$f":"IF($G315=\"\",\"\",VLOOKUP($G315,Lists!$BM$2:$BR$478,COLUMN(),FALSE))","v":""}]
[null,{"$f":"IF($G316=\"\",\"\",VLOOKUP($G316,Lists!$BM$2:$BR$478,COLUMN(),FALSE))","v":""},{"$f":"IF($G316=\"\",\"\",VLOOKUP($G316,Lists!$BM$2:$BR$478,COLUMN(),FALSE))","v":""},{"$f":"IF($G316=\"\",\"\",VLOOKUP($G316,Lists!$BM$2:$BR$478,COLUMN(),FALSE))","v":""},{"$f":"IF($G316=\"\",\"\",VLOOKUP($G316,Lists!$BM$2:$BR$478,COLUMN(),FALSE))","v":""},{"$f":"IF($G316=\"\",\"\",VLOOKUP($G316,Lists!$BM$2:$BR$478,COLUMN(),FALSE))","v":""}]
[null,{"$f":"IF($G317=\"\",\"\",VLOOKUP($G317,Lists!$BM$2:$BR$478,COLUMN(),FALSE))","v":""},{"$f":"IF($G317=\"\",\"\",VLOOKUP($G317,Lists!$BM$2:$BR$478,COLUMN(),FALSE))","v":""},{"$f":"IF($G317=\"\",\"\",VLOOKUP($G317,Lists!$BM$2:$BR$478,COLUMN(),FALSE))","v":""},{"$f":"IF($G317=\"\",\"\",VLOOKUP($G317,Lists!$BM$2:$BR$478,COLUMN(),FALSE))","v":""},{"$f":"IF($G317=\"\",\"\",VLOOKUP($G317,Lists!$BM$2:$BR$478,COLUMN(),FALSE))","v":""}]
[null,{"$f":"IF($G318=\"\",\"\",VLOOKUP($G318,Lists!$BM$2:$BR$478,COLUMN(),FALSE))","v":""},{"$f":"IF($G318=\"\",\"\",VLOOKUP($G318,Lists!$BM$2:$BR$478,COLUMN(),FALSE))","v":""},{"$f":"IF($G318=\"\",\"\",VLOOKUP($G318,Lists!$BM$2:$BR$478,COLUMN(),FALSE))","v":""},{"$f":"IF($G318=\"\",\"\",VLOOKUP($G318,Lists!$BM$2:$BR$478,COLUMN(),FALSE))","v":""},{"$f":"IF($G318=\"\",\"\",VLOOKUP($G318,Lists!$BM$2:$BR$478,COLUMN(),FALSE))","v":""}]
[null,{"$f":"IF($G319=\"\",\"\",VLOOKUP($G319,Lists!$BM$2:$BR$478,COLUMN(),FALSE))","v":""},{"$f":"IF($G319=\"\",\"\",VLOOKUP($G319,Lists!$BM$2:$BR$478,COLUMN(),FALSE))","v":""},{"$f":"IF($G319=\"\",\"\",VLOOKUP($G319,Lists!$BM$2:$BR$478,COLUMN(),FALSE))","v":""},{"$f":"IF($G319=\"\",\"\",VLOOKUP($G319,Lists!$BM$2:$BR$478,COLUMN(),FALSE))","v":""},{"$f":"IF($G319=\"\",\"\",VLOOKUP($G319,Lists!$BM$2:$BR$478,COLUMN(),FALSE))","v":""}]
[null,{"$f":"IF($G320=\"\",\"\",VLOOKUP($G320,Lists!$BM$2:$BR$478,COLUMN(),FALSE))","v":""},{"$f":"IF($G320=\"\",\"\",VLOOKUP($G320,Lists!$BM$2:$BR$478,COLUMN(),FALSE))","v":""},{"$f":"IF($G320=\"\",\"\",VLOOKUP($G320,Lists!$BM$2:$BR$478,COLUMN(),FALSE))","v":""},{"$f":"IF($G320=\"\",\"\",VLOOKUP($G320,Lists!$BM$2:$BR$478,COLUMN(),FALSE))","v":""},{"$f":"IF($G320=\"\",\"\",VLOOKUP($G320,Lists!$BM$2:$BR$478,COLUMN(),FALSE))","v":""}]
[null,{"$f":"IF($G321=\"\",\"\",VLOOKUP($G321,Lists!$BM$2:$BR$478,COLUMN(),FALSE))","v":""},{"$f":"IF($G321=\"\",\"\",VLOOKUP($G321,Lists!$BM$2:$BR$478,COLUMN(),FALSE))","v":""},{"$f":"IF($G321=\"\",\"\",VLOOKUP($G321,Lists!$BM$2:$BR$478,COLUMN(),FALSE))","v":""},{"$f":"IF($G321=\"\",\"\",VLOOKUP($G321,Lists!$BM$2:$BR$478,COLUMN(),FALSE))","v":""},{"$f":"IF($G321=\"\",\"\",VLOOKUP($G321,Lists!$BM$2:$BR$478,COLUMN(),FALSE))","v":""}]
[null,{"$f":"IF($G322=\"\",\"\",VLOOKUP($G322,Lists!$BM$2:$BR$478,COLUMN(),FALSE))","v":""},{"$f":"IF($G322=\"\",\"\",VLOOKUP($G322,Lists!$BM$2:$BR$478,COLUMN(),FALSE))","v":""},{"$f":"IF($G322=\"\",\"\",VLOOKUP($G322,Lists!$BM$2:$BR$478,COLUMN(),FALSE))","v":""},{"$f":"IF($G322=\"\",\"\",VLOOKUP($G322,Lists!$BM$2:$BR$478,COLUMN(),FALSE))","v":""},{"$f":"IF($G322=\"\",\"\",VLOOKUP($G322,Lists!$BM$2:$BR$478,COLUMN(),FALSE))","v":""}]
[null,{"$f":"IF($G323=\"\",\"\",VLOOKUP($G323,Lists!$BM$2:$BR$478,COLUMN(),FALSE))","v":""},{"$f":"IF($G323=\"\",\"\",VLOOKUP($G323,Lists!$BM$2:$BR$478,COLUMN(),FALSE))","v":""},{"$f":"IF($G323=\"\",\"\",VLOOKUP($G323,Lists!$BM$2:$BR$478,COLUMN(),FALSE))","v":""},{"$f":"IF($G323=\"\",\"\",VLOOKUP($G323,Lists!$BM$2:$BR$478,COLUMN(),FALSE))","v":""},{"$f":"IF($G323=\"\",\"\",VLOOKUP($G323,Lists!$BM$2:$BR$478,COLUMN(),FALSE))","v":""}]
[null,{"$f":"IF($G324=\"\",\"\",VLOOKUP($G324,Lists!$BM$2:$BR$478,COLUMN(),FALSE))","v":""},{"$f":"IF($G324=\"\",\"\",VLOOKUP($G324,Lists!$BM$2:$BR$478,COLUMN(),FALSE))","v":""},{"$f":"IF($G324=\"\",\"\",VLOOKUP($G324,Lists!$BM$2:$BR$478,COLUMN(),FALSE))","v":""},{"$f":"IF($G324=\"\",\"\",VLOOKUP($G324,Lists!$BM$2:$BR$478,COLUMN(),FALSE))","v":""},{"$f":"IF($G324=\"\",\"\",VLOOKUP($G324,Lists!$BM$2:$BR$478,COLUMN(),FALSE))","v":""}]
[null,{"$f":"IF($G325=\"\",\"\",VLOOKUP($G325,Lists!$BM$2:$BR$478,COLUMN(),FALSE))","v":""},{"$f":"IF($G325=\"\",\"\",VLOOKUP($G325,Lists!$BM$2:$BR$478,COLUMN(),FALSE))","v":""},{"$f":"IF($G325=\"\",\"\",VLOOKUP($G325,Lists!$BM$2:$BR$478,COLUMN(),FALSE))","v":""},{"$f":"IF($G325=\"\",\"\",VLOOKUP($G325,Lists!$BM$2:$BR$478,COLUMN(),FALSE))","v":""},{"$f":"IF($G325=\"\",\"\",VLOOKUP($G325,Lists!$BM$2:$BR$478,COLUMN(),FALSE))","v":""}]
[null,{"$f":"IF($G326=\"\",\"\",VLOOKUP($G326,Lists!$BM$2:$BR$478,COLUMN(),FALSE))","v":""},{"$f":"IF($G326=\"\",\"\",VLOOKUP($G326,Lists!$BM$2:$BR$478,COLUMN(),FALSE))","v":""},{"$f":"IF($G326=\"\",\"\",VLOOKUP($G326,Lists!$BM$2:$BR$478,COLUMN(),FALSE))","v":""},{"$f":"IF($G326=\"\",\"\",VLOOKUP($G326,Lists!$BM$2:$BR$478,COLUMN(),FALSE))","v":""},{"$f":"IF($G326=\"\",\"\",VLOOKUP($G326,Lists!$BM$2:$BR$478,COLUMN(),FALSE))","v":""}]
[null,{"$f":"IF($G327=\"\",\"\",VLOOKUP($G327,Lists!$BM$2:$BR$478,COLUMN(),FALSE))","v":""},{"$f":"IF($G327=\"\",\"\",VLOOKUP($G327,Lists!$BM$2:$BR$478,COLUMN(),FALSE))","v":""},{"$f":"IF($G327=\"\",\"\",VLOOKUP($G327,Lists!$BM$2:$BR$478,COLUMN(),FALSE))","v":""},{"$f":"IF($G327=\"\",\"\",VLOOKUP($G327,Lists!$BM$2:$BR$478,COLUMN(),FALSE))","v":""},{"$f":"IF($G327=\"\",\"\",VLOOKUP($G327,Lists!$BM$2:$BR$478,COLUMN(),FALSE))","v":""}]
[null,{"$f":"IF($G328=\"\",\"\",VLOOKUP($G328,Lists!$BM$2:$BR$478,COLUMN(),FALSE))","v":""},{"$f":"IF($G328=\"\",\"\",VLOOKUP($G328,Lists!$BM$2:$BR$478,COLUMN(),FALSE))","v":""},{"$f":"IF($G328=\"\",\"\",VLOOKUP($G328,Lists!$BM$2:$BR$478,COLUMN(),FALSE))","v":""},{"$f":"IF($G328=\"\",\"\",VLOOKUP($G328,Lists!$BM$2:$BR$478,COLUMN(),FALSE))","v":""},{"$f":"IF($G328=\"\",\"\",VLOOKUP($G328,Lists!$BM$2:$BR$478,COLUMN(),FALSE))","v":""}]
[null,{"$f":"IF($G329=\"\",\"\",VLOOKUP($G329,Lists!$BM$2:$BR$478,COLUMN(),FALSE))","v":""},{"$f":"IF($G329=\"\",\"\",VLOOKUP($G329,Lists!$BM$2:$BR$478,COLUMN(),FALSE))","v":""},{"$f":"IF($G329=\"\",\"\",VLOOKUP($G329,Lists!$BM$2:$BR$478,COLUMN(),FALSE))","v":""},{"$f":"IF($G329=\"\",\"\",VLOOKUP($G329,Lists!$BM$2:$BR$478,COLUMN(),FALSE))","v":""},{"$f":"IF($G329=\"\",\"\",VLOOKUP($G329,Lists!$BM$2:$BR$478,COLUMN(),FALSE))","v":""}]
[null,{"$f":"IF($G330=\"\",\"\",VLOOKUP($G330,Lists!$BM$2:$BR$478,COLUMN(),FALSE))","v":""},{"$f":"IF($G330=\"\",\"\",VLOOKUP($G330,Lists!$BM$2:$BR$478,COLUMN(),FALSE))","v":""},{"$f":"IF($G330=\"\",\"\",VLOOKUP($G330,Lists!$BM$2:$BR$478,COLUMN(),FALSE))","v":""},{"$f":"IF($G330=\"\",\"\",VLOOKUP($G330,Lists!$BM$2:$BR$478,COLUMN(),FALSE))","v":""},{"$f":"IF($G330=\"\",\"\",VLOOKUP($G330,Lists!$BM$2:$BR$478,COLUMN(),FALSE))","v":""}]
[null,{"$f":"IF($G331=\"\",\"\",VLOOKUP($G331,Lists!$BM$2:$BR$478,COLUMN(),FALSE))","v":""},{"$f":"IF($G331=\"\",\"\",VLOOKUP($G331,Lists!$BM$2:$BR$478,COLUMN(),FALSE))","v":""},{"$f":"IF($G331=\"\",\"\",VLOOKUP($G331,Lists!$BM$2:$BR$478,COLUMN(),FALSE))","v":""},{"$f":"IF($G331=\"\",\"\",VLOOKUP($G331,Lists!$BM$2:$BR$478,COLUMN(),FALSE))","v":""},{"$f":"IF($G331=\"\",\"\",VLOOKUP($G331,Lists!$BM$2:$BR$478,COLUMN(),FALSE))","v":""}]
[null,{"$f":"IF($G332=\"\",\"\",VLOOKUP($G332,Lists!$BM$2:$BR$478,COLUMN(),FALSE))","v":""},{"$f":"IF($G332=\"\",\"\",VLOOKUP($G332,Lists!$BM$2:$BR$478,COLUMN(),FALSE))","v":""},{"$f":"IF($G332=\"\",\"\",VLOOKUP($G332,Lists!$BM$2:$BR$478,COLUMN(),FALSE))","v":""},{"$f":"IF($G332=\"\",\"\",VLOOKUP($G332,Lists!$BM$2:$BR$478,COLUMN(),FALSE))","v":""},{"$f":"IF($G332=\"\",\"\",VLOOKUP($G332,Lists!$BM$2:$BR$478,COLUMN(),FALSE))","v":""}]
[null,{"$f":"IF($G333=\"\",\"\",VLOOKUP($G333,Lists!$BM$2:$BR$478,COLUMN(),FALSE))","v":""},{"$f":"IF($G333=\"\",\"\",VLOOKUP($G333,Lists!$BM$2:$BR$478,COLUMN(),FALSE))","v":""},{"$f":"IF($G333=\"\",\"\",VLOOKUP($G333,Lists!$BM$2:$BR$478,COLUMN(),FALSE))","v":""},{"$f":"IF($G333=\"\",\"\",VLOOKUP($G333,Lists!$BM$2:$BR$478,COLUMN(),FALSE))","v":""},{"$f":"IF($G333=\"\",\"\",VLOOKUP($G333,Lists!$BM$2:$BR$478,COLUMN(),FALSE))","v":""}]
[null,{"$f":"IF($G334=\"\",\"\",VLOOKUP($G334,Lists!$BM$2:$BR$478,COLUMN(),FALSE))","v":""},{"$f":"IF($G334=\"\",\"\",VLOOKUP($G334,Lists!$BM$2:$BR$478,COLUMN(),FALSE))","v":""},{"$f":"IF($G334=\"\",\"\",VLOOKUP($G334,Lists!$BM$2:$BR$478,COLUMN(),FALSE))","v":""},{"$f":"IF($G334=\"\",\"\",VLOOKUP($G334,Lists!$BM$2:$BR$478,COLUMN(),FALSE))","v":""},{"$f":"IF($G334=\"\",\"\",VLOOKUP($G334,Lists!$BM$2:$BR$478,COLUMN(),FALSE))","v":""}]
[null,{"$f":"IF($G335=\"\",\"\",VLOOKUP($G335,Lists!$BM$2:$BR$478,COLUMN(),FALSE))","v":""},{"$f":"IF($G335=\"\",\"\",VLOOKUP($G335,Lists!$BM$2:$BR$478,COLUMN(),FALSE))","v":""},{"$f":"IF($G335=\"\",\"\",VLOOKUP($G335,Lists!$BM$2:$BR$478,COLUMN(),FALSE))","v":""},{"$f":"IF($G335=\"\",\"\",VLOOKUP($G335,Lists!$BM$2:$BR$478,COLUMN(),FALSE))","v":""},{"$f":"IF($G335=\"\",\"\",VLOOKUP($G335,Lists!$BM$2:$BR$478,COLUMN(),FALSE))","v":""}]
[null,{"$f":"IF($G336=\"\",\"\",VLOOKUP($G336,Lists!$BM$2:$BR$478,COLUMN(),FALSE))","v":""},{"$f":"IF($G336=\"\",\"\",VLOOKUP($G336,Lists!$BM$2:$BR$478,COLUMN(),FALSE))","v":""},{"$f":"IF($G336=\"\",\"\",VLOOKUP($G336,Lists!$BM$2:$BR$478,COLUMN(),FALSE))","v":""},{"$f":"IF($G336=\"\",\"\",VLOOKUP($G336,Lists!$BM$2:$BR$478,COLUMN(),FALSE))","v":""},{"$f":"IF($G336=\"\",\"\",VLOOKUP($G336,Lists!$BM$2:$BR$478,COLUMN(),FALSE))","v":""}]
[null,{"$f":"IF($G337=\"\",\"\",VLOOKUP($G337,Lists!$BM$2:$BR$478,COLUMN(),FALSE))","v":""},{"$f":"IF($G337=\"\",\"\",VLOOKUP($G337,Lists!$BM$2:$BR$478,COLUMN(),FALSE))","v":""},{"$f":"IF($G337=\"\",\"\",VLOOKUP($G337,Lists!$BM$2:$BR$478,COLUMN(),FALSE))","v":""},{"$f":"IF($G337=\"\",\"\",VLOOKUP($G337,Lists!$BM$2:$BR$478,COLUMN(),FALSE))","v":""},{"$f":"IF($G337=\"\",\"\",VLOOKUP($G337,Lists!$BM$2:$BR$478,COLUMN(),FALSE))","v":""}]
[null,{"$f":"IF($G338=\"\",\"\",VLOOKUP($G338,Lists!$BM$2:$BR$478,COLUMN(),FALSE))","v":""},{"$f":"IF($G338=\"\",\"\",VLOOKUP($G338,Lists!$BM$2:$BR$478,COLUMN(),FALSE))","v":""},{"$f":"IF($G338=\"\",\"\",VLOOKUP($G338,Lists!$BM$2:$BR$478,COLUMN(),FALSE))","v":""},{"$f":"IF($G338=\"\",\"\",VLOOKUP($G338,Lists!$BM$2:$BR$478,COLUMN(),FALSE))","v":""},{"$f":"IF($G338=\"\",\"\",VLOOKUP($G338,Lists!$BM$2:$BR$478,COLUMN(),FALSE))","v":""}]
[null,{"$f":"IF($G339=\"\",\"\",VLOOKUP($G339,Lists!$BM$2:$BR$478,COLUMN(),FALSE))","v":""},{"$f":"IF($G339=\"\",\"\",VLOOKUP($G339,Lists!$BM$2:$BR$478,COLUMN(),FALSE))","v":""},{"$f":"IF($G339=\"\",\"\",VLOOKUP($G339,Lists!$BM$2:$BR$478,COLUMN(),FALSE))","v":""},{"$f":"IF($G339=\"\",\"\",VLOOKUP($G339,Lists!$BM$2:$BR$478,COLUMN(),FALSE))","v":""},{"$f":"IF($G339=\"\",\"\",VLOOKUP($G339,Lists!$BM$2:$BR$478,COLUMN(),FALSE))","v":""}]
[null,{"$f":"IF($G340=\"\",\"\",VLOOKUP($G340,Lists!$BM$2:$BR$478,COLUMN(),FALSE))","v":""},{"$f":"IF($G340=\"\",\"\",VLOOKUP($G340,Lists!$BM$2:$BR$478,COLUMN(),FALSE))","v":""},{"$f":"IF($G340=\"\",\"\",VLOOKUP($G340,Lists!$BM$2:$BR$478,COLUMN(),FALSE))","v":""},{"$f":"IF($G340=\"\",\"\",VLOOKUP($G340,Lists!$BM$2:$BR$478,COLUMN(),FALSE))","v":""},{"$f":"IF($G340=\"\",\"\",VLOOKUP($G340,Lists!$BM$2:$BR$478,COLUMN(),FALSE))","v":""}]
[null,{"$f":"IF($G341=\"\",\"\",VLOOKUP($G341,Lists!$BM$2:$BR$478,COLUMN(),FALSE))","v":""},{"$f":"IF($G341=\"\",\"\",VLOOKUP($G341,Lists!$BM$2:$BR$478,COLUMN(),FALSE))","v":""},{"$f":"IF($G341=\"\",\"\",VLOOKUP($G341,Lists!$BM$2:$BR$478,COLUMN(),FALSE))","v":""},{"$f":"IF($G341=\"\",\"\",VLOOKUP($G341,Lists!$BM$2:$BR$478,COLUMN(),FALSE))","v":""},{"$f":"IF($G341=\"\",\"\",VLOOKUP($G341,Lists!$BM$2:$BR$478,COLUMN(),FALSE))","v":""}]
[null,{"$f":"IF($G342=\"\",\"\",VLOOKUP($G342,Lists!$BM$2:$BR$478,COLUMN(),FALSE))","v":""},{"$f":"IF($G342=\"\",\"\",VLOOKUP($G342,Lists!$BM$2:$BR$478,COLUMN(),FALSE))","v":""},{"$f":"IF($G342=\"\",\"\",VLOOKUP($G342,Lists!$BM$2:$BR$478,COLUMN(),FALSE))","v":""},{"$f":"IF($G342=\"\",\"\",VLOOKUP($G342,Lists!$BM$2:$BR$478,COLUMN(),FALSE))","v":""},{"$f":"IF($G342=\"\",\"\",VLOOKUP($G342,Lists!$BM$2:$BR$478,COLUMN(),FALSE))","v":""}]
[null,{"$f":"IF($G343=\"\",\"\",VLOOKUP($G343,Lists!$BM$2:$BR$478,COLUMN(),FALSE))","v":""},{"$f":"IF($G343=\"\",\"\",VLOOKUP($G343,Lists!$BM$2:$BR$478,COLUMN(),FALSE))","v":""},{"$f":"IF($G343=\"\",\"\",VLOOKUP($G343,Lists!$BM$2:$BR$478,COLUMN(),FALSE))","v":""},{"$f":"IF($G343=\"\",\"\",VLOOKUP($G343,Lists!$BM$2:$BR$478,COLUMN(),FALSE))","v":""},{"$f":"IF($G343=\"\",\"\",VLOOKUP($G343,Lists!$BM$2:$BR$478,COLUMN(),FALSE))","v":""}]
[null,{"$f":"IF($G344=\"\",\"\",VLOOKUP($G344,Lists!$BM$2:$BR$478,COLUMN(),FALSE))","v":""},{"$f":"IF($G344=\"\",\"\",VLOOKUP($G344,Lists!$BM$2:$BR$478,COLUMN(),FALSE))","v":""},{"$f":"IF($G344=\"\",\"\",VLOOKUP($G344,Lists!$BM$2:$BR$478,COLUMN(),FALSE))","v":""},{"$f":"IF($G344=\"\",\"\",VLOOKUP($G344,Lists!$BM$2:$BR$478,COLUMN(),FALSE))","v":""},{"$f":"IF($G344=\"\",\"\",VLOOKUP($G344,Lists!$BM$2:$BR$478,COLUMN(),FALSE))","v":""}]
[null,{"$f":"IF($G345=\"\",\"\",VLOOKUP($G345,Lists!$BM$2:$BR$478,COLUMN(),FALSE))","v":""},{"$f":"IF($G345=\"\",\"\",VLOOKUP($G345,Lists!$BM$2:$BR$478,COLUMN(),FALSE))","v":""},{"$f":"IF($G345=\"\",\"\",VLOOKUP($G345,Lists!$BM$2:$BR$478,COLUMN(),FALSE))","v":""},{"$f":"IF($G345=\"\",\"\",VLOOKUP($G345,Lists!$BM$2:$BR$478,COLUMN(),FALSE))","v":""},{"$f":"IF($G345=\"\",\"\",VLOOKUP($G345,Lists!$BM$2:$BR$478,COLUMN(),FALSE))","v":""}]
[null,{"$f":"IF($G346=\"\",\"\",VLOOKUP($G346,Lists!$BM$2:$BR$478,COLUMN(),FALSE))","v":""},{"$f":"IF($G346=\"\",\"\",VLOOKUP($G346,Lists!$BM$2:$BR$478,COLUMN(),FALSE))","v":""},{"$f":"IF($G346=\"\",\"\",VLOOKUP($G346,Lists!$BM$2:$BR$478,COLUMN(),FALSE))","v":""},{"$f":"IF($G346=\"\",\"\",VLOOKUP($G346,Lists!$BM$2:$BR$478,COLUMN(),FALSE))","v":""},{"$f":"IF($G346=\"\",\"\",VLOOKUP($G346,Lists!$BM$2:$BR$478,COLUMN(),FALSE))","v":""}]
[null,{"$f":"IF($G347=\"\",\"\",VLOOKUP($G347,Lists!$BM$2:$BR$478,COLUMN(),FALSE))","v":""},{"$f":"IF($G347=\"\",\"\",VLOOKUP($G347,Lists!$BM$2:$BR$478,COLUMN(),FALSE))","v":""},{"$f":"IF($G347=\"\",\"\",VLOOKUP($G347,Lists!$BM$2:$BR$478,COLUMN(),FALSE))","v":""},{"$f":"IF($G347=\"\",\"\",VLOOKUP($G347,Lists!$BM$2:$BR$478,COLUMN(),FALSE))","v":""},{"$f":"IF($G347=\"\",\"\",VLOOKUP($G347,Lists!$BM$2:$BR$478,COLUMN(),FALSE))","v":""}]
[null,{"$f":"IF($G348=\"\",\"\",VLOOKUP($G348,Lists!$BM$2:$BR$478,COLUMN(),FALSE))","v":""},{"$f":"IF($G348=\"\",\"\",VLOOKUP($G348,Lists!$BM$2:$BR$478,COLUMN(),FALSE))","v":""},{"$f":"IF($G348=\"\",\"\",VLOOKUP($G348,Lists!$BM$2:$BR$478,COLUMN(),FALSE))","v":""},{"$f":"IF($G348=\"\",\"\",VLOOKUP($G348,Lists!$BM$2:$BR$478,COLUMN(),FALSE))","v":""},{"$f":"IF($G348=\"\",\"\",VLOOKUP($G348,Lists!$BM$2:$BR$478,COLUMN(),FALSE))","v":""}]
[null,{"$f":"IF($G349=\"\",\"\",VLOOKUP($G349,Lists!$BM$2:$BR$478,COLUMN(),FALSE))","v":""},{"$f":"IF($G349=\"\",\"\",VLOOKUP($G349,Lists!$BM$2:$BR$478,COLUMN(),FALSE))","v":""},{"$f":"IF($G349=\"\",\"\",VLOOKUP($G349,Lists!$BM$2:$BR$478,COLUMN(),FALSE))","v":""},{"$f":"IF($G349=\"\",\"\",VLOOKUP($G349,Lists!$BM$2:$BR$478,COLUMN(),FALSE))","v":""},{"$f":"IF($G349=\"\",\"\",VLOOKUP($G349,Lists!$BM$2:$BR$478,COLUMN(),FALSE))","v":""}]
[null,{"$f":"IF($G350=\"\",\"\",VLOOKUP($G350,Lists!$BM$2:$BR$478,COLUMN(),FALSE))","v":""},{"$f":"IF($G350=\"\",\"\",VLOOKUP($G350,Lists!$BM$2:$BR$478,COLUMN(),FALSE))","v":""},{"$f":"IF($G350=\"\",\"\",VLOOKUP($G350,Lists!$BM$2:$BR$478,COLUMN(),FALSE))","v":""},{"$f":"IF($G350=\"\",\"\",VLOOKUP($G350,Lists!$BM$2:$BR$478,COLUMN(),FALSE))","v":""},{"$f":"IF($G350=\"\",\"\",VLOOKUP($G350,Lists!$BM$2:$BR$478,COLUMN(),FALSE))","v":""}]
[null,{"$f":"IF($G351=\"\",\"\",VLOOKUP($G351,Lists!$BM$2:$BR$478,COLUMN(),FALSE))","v":""},{"$f":"IF($G351=\"\",\"\",VLOOKUP($G351,Lists!$BM$2:$BR$478,COLUMN(),FALSE))","v":""},{"$f":"IF($G351=\"\",\"\",VLOOKUP($G351,Lists!$BM$2:$BR$478,COLUMN(),FALSE))","v":""},{"$f":"IF($G351=\"\",\"\",VLOOKUP($G351,Lists!$BM$2:$BR$478,COLUMN(),FALSE))","v":""},{"$f":"IF($G351=\"\",\"\",VLOOKUP($G351,Lists!$BM$2:$BR$478,COLUMN(),FALSE))","v":""}]
[null,{"$f":"IF($G352=\"\",\"\",VLOOKUP($G352,Lists!$BM$2:$BR$478,COLUMN(),FALSE))","v":""},{"$f":"IF($G352=\"\",\"\",VLOOKUP($G352,Lists!$BM$2:$BR$478,COLUMN(),FALSE))","v":""},{"$f":"IF($G352=\"\",\"\",VLOOKUP($G352,Lists!$BM$2:$BR$478,COLUMN(),FALSE))","v":""},{"$f":"IF($G352=\"\",\"\",VLOOKUP($G352,Lists!$BM$2:$BR$478,COLUMN(),FALSE))","v":""},{"$f":"IF($G352=\"\",\"\",VLOOKUP($G352,Lists!$BM$2:$BR$478,COLUMN(),FALSE))","v":""}]
[null,{"$f":"IF($G353=\"\",\"\",VLOOKUP($G353,Lists!$BM$2:$BR$478,COLUMN(),FALSE))","v":""},{"$f":"IF($G353=\"\",\"\",VLOOKUP($G353,Lists!$BM$2:$BR$478,COLUMN(),FALSE))","v":""},{"$f":"IF($G353=\"\",\"\",VLOOKUP($G353,Lists!$BM$2:$BR$478,COLUMN(),FALSE))","v":""},{"$f":"IF($G353=\"\",\"\",VLOOKUP($G353,Lists!$BM$2:$BR$478,COLUMN(),FALSE))","v":""},{"$f":"IF($G353=\"\",\"\",VLOOKUP($G353,Lists!$BM$2:$BR$478,COLUMN(),FALSE))","v":""}]
[null,{"$f":"IF($G354=\"\",\"\",VLOOKUP($G354,Lists!$BM$2:$BR$478,COLUMN(),FALSE))","v":""},{"$f":"IF($G354=\"\",\"\",VLOOKUP($G354,Lists!$BM$2:$BR$478,COLUMN(),FALSE))","v":""},{"$f":"IF($G354=\"\",\"\",VLOOKUP($G354,Lists!$BM$2:$BR$478,COLUMN(),FALSE))","v":""},{"$f":"IF($G354=\"\",\"\",VLOOKUP($G354,Lists!$BM$2:$BR$478,COLUMN(),FALSE))","v":""},{"$f":"IF($G354=\"\",\"\",VLOOKUP($G354,Lists!$BM$2:$BR$478,COLUMN(),FALSE))","v":""}]
[null,{"$f":"IF($G355=\"\",\"\",VLOOKUP($G355,Lists!$BM$2:$BR$478,COLUMN(),FALSE))","v":""},{"$f":"IF($G355=\"\",\"\",VLOOKUP($G355,Lists!$BM$2:$BR$478,COLUMN(),FALSE))","v":""},{"$f":"IF($G355=\"\",\"\",VLOOKUP($G355,Lists!$BM$2:$BR$478,COLUMN(),FALSE))","v":""},{"$f":"IF($G355=\"\",\"\",VLOOKUP($G355,Lists!$BM$2:$BR$478,COLUMN(),FALSE))","v":""},{"$f":"IF($G355=\"\",\"\",VLOOKUP($G355,Lists!$BM$2:$BR$478,COLUMN(),FALSE))","v":""}]
[null,{"$f":"IF($G356=\"\",\"\",VLOOKUP($G356,Lists!$BM$2:$BR$478,COLUMN(),FALSE))","v":""},{"$f":"IF($G356=\"\",\"\",VLOOKUP($G356,Lists!$BM$2:$BR$478,COLUMN(),FALSE))","v":""},{"$f":"IF($G356=\"\",\"\",VLOOKUP($G356,Lists!$BM$2:$BR$478,COLUMN(),FALSE))","v":""},{"$f":"IF($G356=\"\",\"\",VLOOKUP($G356,Lists!$BM$2:$BR$478,COLUMN(),FALSE))","v":""},{"$f":"IF($G356=\"\",\"\",VLOOKUP($G356,Lists!$BM$2:$BR$478,COLUMN(),FALSE))","v":""}]
[null,{"$f":"IF($G357=\"\",\"\",VLOOKUP($G357,Lists!$BM$2:$BR$478,COLUMN(),FALSE))","v":""},{"$f":"IF($G357=\"\",\"\",VLOOKUP($G357,Lists!$BM$2:$BR$478,COLUMN(),FALSE))","v":""},{"$f":"IF($G357=\"\",\"\",VLOOKUP($G357,Lists!$BM$2:$BR$478,COLUMN(),FALSE))","v":""},{"$f":"IF($G357=\"\",\"\",VLOOKUP($G357,Lists!$BM$2:$BR$478,COLUMN(),FALSE))","v":""},{"$f":"IF($G357=\"\",\"\",VLOOKUP($G357,Lists!$BM$2:$BR$478,COLUMN(),FALSE))","v":""}]
[null,{"$f":"IF($G358=\"\",\"\",VLOOKUP($G358,Lists!$BM$2:$BR$478,COLUMN(),FALSE))","v":""},{"$f":"IF($G358=\"\",\"\",VLOOKUP($G358,Lists!$BM$2:$BR$478,COLUMN(),FALSE))","v":""},{"$f":"IF($G358=\"\",\"\",VLOOKUP($G358,Lists!$BM$2:$BR$478,COLUMN(),FALSE))","v":""},{"$f":"IF($G358=\"\",\"\",VLOOKUP($G358,Lists!$BM$2:$BR$478,COLUMN(),FALSE))","v":""},{"$f":"IF($G358=\"\",\"\",VLOOKUP($G358,Lists!$BM$2:$BR$478,COLUMN(),FALSE))","v":""}]
[null,{"$f":"IF($G359=\"\",\"\",VLOOKUP($G359,Lists!$BM$2:$BR$478,COLUMN(),FALSE))","v":""},{"$f":"IF($G359=\"\",\"\",VLOOKUP($G359,Lists!$BM$2:$BR$478,COLUMN(),FALSE))","v":""},{"$f":"IF($G359=\"\",\"\",VLOOKUP($G359,Lists!$BM$2:$BR$478,COLUMN(),FALSE))","v":""},{"$f":"IF($G359=\"\",\"\",VLOOKUP($G359,Lists!$BM$2:$BR$478,COLUMN(),FALSE))","v":""},{"$f":"IF($G359=\"\",\"\",VLOOKUP($G359,Lists!$BM$2:$BR$478,COLUMN(),FALSE))","v":""}]
[null,{"$f":"IF($G360=\"\",\"\",VLOOKUP($G360,Lists!$BM$2:$BR$478,COLUMN(),FALSE))","v":""},{"$f":"IF($G360=\"\",\"\",VLOOKUP($G360,Lists!$BM$2:$BR$478,COLUMN(),FALSE))","v":""},{"$f":"IF($G360=\"\",\"\",VLOOKUP($G360,Lists!$BM$2:$BR$478,COLUMN(),FALSE))","v":""},{"$f":"IF($G360=\"\",\"\",VLOOKUP($G360,Lists!$BM$2:$BR$478,COLUMN(),FALSE))","v":""},{"$f":"IF($G360=\"\",\"\",VLOOKUP($G360,Lists!$BM$2:$BR$478,COLUMN(),FALSE))","v":""}]
[null,{"$f":"IF($G361=\"\",\"\",VLOOKUP($G361,Lists!$BM$2:$BR$478,COLUMN(),FALSE))","v":""},{"$f":"IF($G361=\"\",\"\",VLOOKUP($G361,Lists!$BM$2:$BR$478,COLUMN(),FALSE))","v":""},{"$f":"IF($G361=\"\",\"\",VLOOKUP($G361,Lists!$BM$2:$BR$478,COLUMN(),FALSE))","v":""},{"$f":"IF($G361=\"\",\"\",VLOOKUP($G361,Lists!$BM$2:$BR$478,COLUMN(),FALSE))","v":""},{"$f":"IF($G361=\"\",\"\",VLOOKUP($G361,Lists!$BM$2:$BR$478,COLUMN(),FALSE))","v":""}]
[null,{"$f":"IF($G362=\"\",\"\",VLOOKUP($G362,Lists!$BM$2:$BR$478,COLUMN(),FALSE))","v":""},{"$f":"IF($G362=\"\",\"\",VLOOKUP($G362,Lists!$BM$2:$BR$478,COLUMN(),FALSE))","v":""},{"$f":"IF($G362=\"\",\"\",VLOOKUP($G362,Lists!$BM$2:$BR$478,COLUMN(),FALSE))","v":""},{"$f":"IF($G362=\"\",\"\",VLOOKUP($G362,Lists!$BM$2:$BR$478,COLUMN(),FALSE))","v":""},{"$f":"IF($G362=\"\",\"\",VLOOKUP($G362,Lists!$BM$2:$BR$478,COLUMN(),FALSE))","v":""}]
[null,{"$f":"IF($G363=\"\",\"\",VLOOKUP($G363,Lists!$BM$2:$BR$478,COLUMN(),FALSE))","v":""},{"$f":"IF($G363=\"\",\"\",VLOOKUP($G363,Lists!$BM$2:$BR$478,COLUMN(),FALSE))","v":""},{"$f":"IF($G363=\"\",\"\",VLOOKUP($G363,Lists!$BM$2:$BR$478,COLUMN(),FALSE))","v":""},{"$f":"IF($G363=\"\",\"\",VLOOKUP($G363,Lists!$BM$2:$BR$478,COLUMN(),FALSE))","v":""},{"$f":"IF($G363=\"\",\"\",VLOOKUP($G363,Lists!$BM$2:$BR$478,COLUMN(),FALSE))","v":""}]
[null,{"$f":"IF($G364=\"\",\"\",VLOOKUP($G364,Lists!$BM$2:$BR$478,COLUMN(),FALSE))","v":""},{"$f":"IF($G364=\"\",\"\",VLOOKUP($G364,Lists!$BM$2:$BR$478,COLUMN(),FALSE))","v":""},{"$f":"IF($G364=\"\",\"\",VLOOKUP($G364,Lists!$BM$2:$BR$478,COLUMN(),FALSE))","v":""},{"$f":"IF($G364=\"\",\"\",VLOOKUP($G364,Lists!$BM$2:$BR$478,COLUMN(),FALSE))","v":""},{"$f":"IF($G364=\"\",\"\",VLOOKUP($G364,Lists!$BM$2:$BR$478,COLUMN(),FALSE))","v":""}]
[null,{"$f":"IF($G365=\"\",\"\",VLOOKUP($G365,Lists!$BM$2:$BR$478,COLUMN(),FALSE))","v":""},{"$f":"IF($G365=\"\",\"\",VLOOKUP($G365,Lists!$BM$2:$BR$478,COLUMN(),FALSE))","v":""},{"$f":"IF($G365=\"\",\"\",VLOOKUP($G365,Lists!$BM$2:$BR$478,COLUMN(),FALSE))","v":""},{"$f":"IF($G365=\"\",\"\",VLOOKUP($G365,Lists!$BM$2:$BR$478,COLUMN(),FALSE))","v":""},{"$f":"IF($G365=\"\",\"\",VLOOKUP($G365,Lists!$BM$2:$BR$478,COLUMN(),FALSE))","v":""}]
[null,{"$f":"IF($G366=\"\",\"\",VLOOKUP($G366,Lists!$BM$2:$BR$478,COLUMN(),FALSE))","v":""},{"$f":"IF($G366=\"\",\"\",VLOOKUP($G366,Lists!$BM$2:$BR$478,COLUMN(),FALSE))","v":""},{"$f":"IF($G366=\"\",\"\",VLOOKUP($G366,Lists!$BM$2:$BR$478,COLUMN(),FALSE))","v":""},{"$f":"IF($G366=\"\",\"\",VLOOKUP($G366,Lists!$BM$2:$BR$478,COLUMN(),FALSE))","v":""},{"$f":"IF($G366=\"\",\"\",VLOOKUP($G366,Lists!$BM$2:$BR$478,COLUMN(),FALSE))","v":""}]
[null,{"$f":"IF($G367=\"\",\"\",VLOOKUP($G367,Lists!$BM$2:$BR$478,COLUMN(),FALSE))","v":""},{"$f":"IF($G367=\"\",\"\",VLOOKUP($G367,Lists!$BM$2:$BR$478,COLUMN(),FALSE))","v":""},{"$f":"IF($G367=\"\",\"\",VLOOKUP($G367,Lists!$BM$2:$BR$478,COLUMN(),FALSE))","v":""},{"$f":"IF($G367=\"\",\"\",VLOOKUP($G367,Lists!$BM$2:$BR$478,COLUMN(),FALSE))","v":""},{"$f":"IF($G367=\"\",\"\",VLOOKUP($G367,Lists!$BM$2:$BR$478,COLUMN(),FALSE))","v":""}]
[null,{"$f":"IF($G368=\"\",\"\",VLOOKUP($G368,Lists!$BM$2:$BR$478,COLUMN(),FALSE))","v":""},{"$f":"IF($G368=\"\",\"\",VLOOKUP($G368,Lists!$BM$2:$BR$478,COLUMN(),FALSE))","v":""},{"$f":"IF($G368=\"\",\"\",VLOOKUP($G368,Lists!$BM$2:$BR$478,COLUMN(),FALSE))","v":""},{"$f":"IF($G368=\"\",\"\",VLOOKUP($G368,Lists!$BM$2:$BR$478,COLUMN(),FALSE))","v":""},{"$f":"IF($G368=\"\",\"\",VLOOKUP($G368,Lists!$BM$2:$BR$478,COLUMN(),FALSE))","v":""}]
[null,{"$f":"IF($G369=\"\",\"\",VLOOKUP($G369,Lists!$BM$2:$BR$478,COLUMN(),FALSE))","v":""},{"$f":"IF($G369=\"\",\"\",VLOOKUP($G369,Lists!$BM$2:$BR$478,COLUMN(),FALSE))","v":""},{"$f":"IF($G369=\"\",\"\",VLOOKUP($G369,Lists!$BM$2:$BR$478,COLUMN(),FALSE))","v":""},{"$f":"IF($G369=\"\",\"\",VLOOKUP($G369,Lists!$BM$2:$BR$478,COLUMN(),FALSE))","v":""},{"$f":"IF($G369=\"\",\"\",VLOOKUP($G369,Lists!$BM$2:$BR$478,COLUMN(),FALSE))","v":""}]
[null,{"$f":"IF($G370=\"\",\"\",VLOOKUP($G370,Lists!$BM$2:$BR$478,COLUMN(),FALSE))","v":""},{"$f":"IF($G370=\"\",\"\",VLOOKUP($G370,Lists!$BM$2:$BR$478,COLUMN(),FALSE))","v":""},{"$f":"IF($G370=\"\",\"\",VLOOKUP($G370,Lists!$BM$2:$BR$478,COLUMN(),FALSE))","v":""},{"$f":"IF($G370=\"\",\"\",VLOOKUP($G370,Lists!$BM$2:$BR$478,COLUMN(),FALSE))","v":""},{"$f":"IF($G370=\"\",\"\",VLOOKUP($G370,Lists!$BM$2:$BR$478,COLUMN(),FALSE))","v":""}]
[null,{"$f":"IF($G371=\"\",\"\",VLOOKUP($G371,Lists!$BM$2:$BR$478,COLUMN(),FALSE))","v":""},{"$f":"IF($G371=\"\",\"\",VLOOKUP($G371,Lists!$BM$2:$BR$478,COLUMN(),FALSE))","v":""},{"$f":"IF($G371=\"\",\"\",VLOOKUP($G371,Lists!$BM$2:$BR$478,COLUMN(),FALSE))","v":""},{"$f":"IF($G371=\"\",\"\",VLOOKUP($G371,Lists!$BM$2:$BR$478,COLUMN(),FALSE))","v":""},{"$f":"IF($G371=\"\",\"\",VLOOKUP($G371,Lists!$BM$2:$BR$478,COLUMN(),FALSE))","v":""}]
[null,{"$f":"IF($G372=\"\",\"\",VLOOKUP($G372,Lists!$BM$2:$BR$478,COLUMN(),FALSE))","v":""},{"$f":"IF($G372=\"\",\"\",VLOOKUP($G372,Lists!$BM$2:$BR$478,COLUMN(),FALSE))","v":""},{"$f":"IF($G372=\"\",\"\",VLOOKUP($G372,Lists!$BM$2:$BR$478,COLUMN(),FALSE))","v":""},{"$f":"IF($G372=\"\",\"\",VLOOKUP($G372,Lists!$BM$2:$BR$478,COLUMN(),FALSE))","v":""},{"$f":"IF($G372=\"\",\"\",VLOOKUP($G372,Lists!$BM$2:$BR$478,COLUMN(),FALSE))","v":""}]
[null,{"$f":"IF($G373=\"\",\"\",VLOOKUP($G373,Lists!$BM$2:$BR$478,COLUMN(),FALSE))","v":""},{"$f":"IF($G373=\"\",\"\",VLOOKUP($G373,Lists!$BM$2:$BR$478,COLUMN(),FALSE))","v":""},{"$f":"IF($G373=\"\",\"\",VLOOKUP($G373,Lists!$BM$2:$BR$478,COLUMN(),FALSE))","v":""},{"$f":"IF($G373=\"\",\"\",VLOOKUP($G373,Lists!$BM$2:$BR$478,COLUMN(),FALSE))","v":""},{"$f":"IF($G373=\"\",\"\",VLOOKUP($G373,Lists!$BM$2:$BR$478,COLUMN(),FALSE))","v":""}]
[null,{"$f":"IF($G374=\"\",\"\",VLOOKUP($G374,Lists!$BM$2:$BR$478,COLUMN(),FALSE))","v":""},{"$f":"IF($G374=\"\",\"\",VLOOKUP($G374,Lists!$BM$2:$BR$478,COLUMN(),FALSE))","v":""},{"$f":"IF($G374=\"\",\"\",VLOOKUP($G374,Lists!$BM$2:$BR$478,COLUMN(),FALSE))","v":""},{"$f":"IF($G374=\"\",\"\",VLOOKUP($G374,Lists!$BM$2:$BR$478,COLUMN(),FALSE))","v":""},{"$f":"IF($G374=\"\",\"\",VLOOKUP($G374,Lists!$BM$2:$BR$478,COLUMN(),FALSE))","v":""}]
[null,{"$f":"IF($G375=\"\",\"\",VLOOKUP($G375,Lists!$BM$2:$BR$478,COLUMN(),FALSE))","v":""},{"$f":"IF($G375=\"\",\"\",VLOOKUP($G375,Lists!$BM$2:$BR$478,COLUMN(),FALSE))","v":""},{"$f":"IF($G375=\"\",\"\",VLOOKUP($G375,Lists!$BM$2:$BR$478,COLUMN(),FALSE))","v":""},{"$f":"IF($G375=\"\",\"\",VLOOKUP($G375,Lists!$BM$2:$BR$478,COLUMN(),FALSE))","v":""},{"$f":"IF($G375=\"\",\"\",VLOOKUP($G375,Lists!$BM$2:$BR$478,COLUMN(),FALSE))","v":""}]
[null,{"$f":"IF($G376=\"\",\"\",VLOOKUP($G376,Lists!$BM$2:$BR$478,COLUMN(),FALSE))","v":""},{"$f":"IF($G376=\"\",\"\",VLOOKUP($G376,Lists!$BM$2:$BR$478,COLUMN(),FALSE))","v":""},{"$f":"IF($G376=\"\",\"\",VLOOKUP($G376,Lists!$BM$2:$BR$478,COLUMN(),FALSE))","v":""},{"$f":"IF($G376=\"\",\"\",VLOOKUP($G376,Lists!$BM$2:$BR$478,COLUMN(),FALSE))","v":""},{"$f":"IF($G376=\"\",\"\",VLOOKUP($G376,Lists!$BM$2:$BR$478,COLUMN(),FALSE))","v":""}]
[null,{"$f":"IF($G377=\"\",\"\",VLOOKUP($G377,Lists!$BM$2:$BR$478,COLUMN(),FALSE))","v":""},{"$f":"IF($G377=\"\",\"\",VLOOKUP($G377,Lists!$BM$2:$BR$478,COLUMN(),FALSE))","v":""},{"$f":"IF($G377=\"\",\"\",VLOOKUP($G377,Lists!$BM$2:$BR$478,COLUMN(),FALSE))","v":""},{"$f":"IF($G377=\"\",\"\",VLOOKUP($G377,Lists!$BM$2:$BR$478,COLUMN(),FALSE))","v":""},{"$f":"IF($G377=\"\",\"\",VLOOKUP($G377,Lists!$BM$2:$BR$478,COLUMN(),FALSE))","v":""}]
[null,{"$f":"IF($G378=\"\",\"\",VLOOKUP($G378,Lists!$BM$2:$BR$478,COLUMN(),FALSE))","v":""},{"$f":"IF($G378=\"\",\"\",VLOOKUP($G378,Lists!$BM$2:$BR$478,COLUMN(),FALSE))","v":""},{"$f":"IF($G378=\"\",\"\",VLOOKUP($G378,Lists!$BM$2:$BR$478,COLUMN(),FALSE))","v":""},{"$f":"IF($G378=\"\",\"\",VLOOKUP($G378,Lists!$BM$2:$BR$478,COLUMN(),FALSE))","v":""},{"$f":"IF($G378=\"\",\"\",VLOOKUP($G378,Lists!$BM$2:$BR$478,COLUMN(),FALSE))","v":""}]
[null,{"$f":"IF($G379=\"\",\"\",VLOOKUP($G379,Lists!$BM$2:$BR$478,COLUMN(),FALSE))","v":""},{"$f":"IF($G379=\"\",\"\",VLOOKUP($G379,Lists!$BM$2:$BR$478,COLUMN(),FALSE))","v":""},{"$f":"IF($G379=\"\",\"\",VLOOKUP($G379,Lists!$BM$2:$BR$478,COLUMN(),FALSE))","v":""},{"$f":"IF($G379=\"\",\"\",VLOOKUP($G379,Lists!$BM$2:$BR$478,COLUMN(),FALSE))","v":""},{"$f":"IF($G379=\"\",\"\",VLOOKUP($G379,Lists!$BM$2:$BR$478,COLUMN(),FALSE))","v":""}]
[null,{"$f":"IF($G380=\"\",\"\",VLOOKUP($G380,Lists!$BM$2:$BR$478,COLUMN(),FALSE))","v":""},{"$f":"IF($G380=\"\",\"\",VLOOKUP($G380,Lists!$BM$2:$BR$478,COLUMN(),FALSE))","v":""},{"$f":"IF($G380=\"\",\"\",VLOOKUP($G380,Lists!$BM$2:$BR$478,COLUMN(),FALSE))","v":""},{"$f":"IF($G380=\"\",\"\",VLOOKUP($G380,Lists!$BM$2:$BR$478,COLUMN(),FALSE))","v":""},{"$f":"IF($G380=\"\",\"\",VLOOKUP($G380,Lists!$BM$2:$BR$478,COLUMN(),FALSE))","v":""}]
[null,{"$f":"IF($G381=\"\",\"\",VLOOKUP($G381,Lists!$BM$2:$BR$478,COLUMN(),FALSE))","v":""},{"$f":"IF($G381=\"\",\"\",VLOOKUP($G381,Lists!$BM$2:$BR$478,COLUMN(),FALSE))","v":""},{"$f":"IF($G381=\"\",\"\",VLOOKUP($G381,Lists!$BM$2:$BR$478,COLUMN(),FALSE))","v":""},{"$f":"IF($G381=\"\",\"\",VLOOKUP($G381,Lists!$BM$2:$BR$478,COLUMN(),FALSE))","v":""},{"$f":"IF($G381=\"\",\"\",VLOOKUP($G381,Lists!$BM$2:$BR$478,COLUMN(),FALSE))","v":""}]
[null,{"$f":"IF($G382=\"\",\"\",VLOOKUP($G382,Lists!$BM$2:$BR$478,COLUMN(),FALSE))","v":""},{"$f":"IF($G382=\"\",\"\",VLOOKUP($G382,Lists!$BM$2:$BR$478,COLUMN(),FALSE))","v":""},{"$f":"IF($G382=\"\",\"\",VLOOKUP($G382,Lists!$BM$2:$BR$478,COLUMN(),FALSE))","v":""},{"$f":"IF($G382=\"\",\"\",VLOOKUP($G382,Lists!$BM$2:$BR$478,COLUMN(),FALSE))","v":""},{"$f":"IF($G382=\"\",\"\",VLOOKUP($G382,Lists!$BM$2:$BR$478,COLUMN(),FALSE))","v":""}]
[null,{"$f":"IF($G383=\"\",\"\",VLOOKUP($G383,Lists!$BM$2:$BR$478,COLUMN(),FALSE))","v":""},{"$f":"IF($G383=\"\",\"\",VLOOKUP($G383,Lists!$BM$2:$BR$478,COLUMN(),FALSE))","v":""},{"$f":"IF($G383=\"\",\"\",VLOOKUP($G383,Lists!$BM$2:$BR$478,COLUMN(),FALSE))","v":""},{"$f":"IF($G383=\"\",\"\",VLOOKUP($G383,Lists!$BM$2:$BR$478,COLUMN(),FALSE))","v":""},{"$f":"IF($G383=\"\",\"\",VLOOKUP($G383,Lists!$BM$2:$BR$478,COLUMN(),FALSE))","v":""}]
[null,{"$f":"IF($G384=\"\",\"\",VLOOKUP($G384,Lists!$BM$2:$BR$478,COLUMN(),FALSE))","v":""},{"$f":"IF($G384=\"\",\"\",VLOOKUP($G384,Lists!$BM$2:$BR$478,COLUMN(),FALSE))","v":""},{"$f":"IF($G384=\"\",\"\",VLOOKUP($G384,Lists!$BM$2:$BR$478,COLUMN(),FALSE))","v":""},{"$f":"IF($G384=\"\",\"\",VLOOKUP($G384,Lists!$BM$2:$BR$478,COLUMN(),FALSE))","v":""},{"$f":"IF($G384=\"\",\"\",VLOOKUP($G384,Lists!$BM$2:$BR$478,COLUMN(),FALSE))","v":""}]
[null,{"$f":"IF($G385=\"\",\"\",VLOOKUP($G385,Lists!$BM$2:$BR$478,COLUMN(),FALSE))","v":""},{"$f":"IF($G385=\"\",\"\",VLOOKUP($G385,Lists!$BM$2:$BR$478,COLUMN(),FALSE))","v":""},{"$f":"IF($G385=\"\",\"\",VLOOKUP($G385,Lists!$BM$2:$BR$478,COLUMN(),FALSE))","v":""},{"$f":"IF($G385=\"\",\"\",VLOOKUP($G385,Lists!$BM$2:$BR$478,COLUMN(),FALSE))","v":""},{"$f":"IF($G385=\"\",\"\",VLOOKUP($G385,Lists!$BM$2:$BR$478,COLUMN(),FALSE))","v":""}]
[null,{"$f":"IF($G386=\"\",\"\",VLOOKUP($G386,Lists!$BM$2:$BR$478,COLUMN(),FALSE))","v":""},{"$f":"IF($G386=\"\",\"\",VLOOKUP($G386,Lists!$BM$2:$BR$478,COLUMN(),FALSE))","v":""},{"$f":"IF($G386=\"\",\"\",VLOOKUP($G386,Lists!$BM$2:$BR$478,COLUMN(),FALSE))","v":""},{"$f":"IF($G386=\"\",\"\",VLOOKUP($G386,Lists!$BM$2:$BR$478,COLUMN(),FALSE))","v":""},{"$f":"IF($G386=\"\",\"\",VLOOKUP($G386,Lists!$BM$2:$BR$478,COLUMN(),FALSE))","v":""}]
[null,{"$f":"IF($G387=\"\",\"\",VLOOKUP($G387,Lists!$BM$2:$BR$478,COLUMN(),FALSE))","v":""},{"$f":"IF($G387=\"\",\"\",VLOOKUP($G387,Lists!$BM$2:$BR$478,COLUMN(),FALSE))","v":""},{"$f":"IF($G387=\"\",\"\",VLOOKUP($G387,Lists!$BM$2:$BR$478,COLUMN(),FALSE))","v":""},{"$f":"IF($G387=\"\",\"\",VLOOKUP($G387,Lists!$BM$2:$BR$478,COLUMN(),FALSE))","v":""},{"$f":"IF($G387=\"\",\"\",VLOOKUP($G387,Lists!$BM$2:$BR$478,COLUMN(),FALSE))","v":""}]
[null,{"$f":"IF($G388=\"\",\"\",VLOOKUP($G388,Lists!$BM$2:$BR$478,COLUMN(),FALSE))","v":""},{"$f":"IF($G388=\"\",\"\",VLOOKUP($G388,Lists!$BM$2:$BR$478,COLUMN(),FALSE))","v":""},{"$f":"IF($G388=\"\",\"\",VLOOKUP($G388,Lists!$BM$2:$BR$478,COLUMN(),FALSE))","v":""},{"$f":"IF($G388=\"\",\"\",VLOOKUP($G388,Lists!$BM$2:$BR$478,COLUMN(),FALSE))","v":""},{"$f":"IF($G388=\"\",\"\",VLOOKUP($G388,Lists!$BM$2:$BR$478,COLUMN(),FALSE))","v":""}]
[null,{"$f":"IF($G389=\"\",\"\",VLOOKUP($G389,Lists!$BM$2:$BR$478,COLUMN(),FALSE))","v":""},{"$f":"IF($G389=\"\",\"\",VLOOKUP($G389,Lists!$BM$2:$BR$478,COLUMN(),FALSE))","v":""},{"$f":"IF($G389=\"\",\"\",VLOOKUP($G389,Lists!$BM$2:$BR$478,COLUMN(),FALSE))","v":""},{"$f":"IF($G389=\"\",\"\",VLOOKUP($G389,Lists!$BM$2:$BR$478,COLUMN(),FALSE))","v":""},{"$f":"IF($G389=\"\",\"\",VLOOKUP($G389,Lists!$BM$2:$BR$478,COLUMN(),FALSE))","v":""}]
[null,{"$f":"IF($G390=\"\",\"\",VLOOKUP($G390,Lists!$BM$2:$BR$478,COLUMN(),FALSE))","v":""},{"$f":"IF($G390=\"\",\"\",VLOOKUP($G390,Lists!$BM$2:$BR$478,COLUMN(),FALSE))","v":""},{"$f":"IF($G390=\"\",\"\",VLOOKUP($G390,Lists!$BM$2:$BR$478,COLUMN(),FALSE))","v":""},{"$f":"IF($G390=\"\",\"\",VLOOKUP($G390,Lists!$BM$2:$BR$478,COLUMN(),FALSE))","v":""},{"$f":"IF($G390=\"\",\"\",VLOOKUP($G390,Lists!$BM$2:$BR$478,COLUMN(),FALSE))","v":""}]
[null,{"$f":"IF($G391=\"\",\"\",VLOOKUP($G391,Lists!$BM$2:$BR$478,COLUMN(),FALSE))","v":""},{"$f":"IF($G391=\"\",\"\",VLOOKUP($G391,Lists!$BM$2:$BR$478,COLUMN(),FALSE))","v":""},{"$f":"IF($G391=\"\",\"\",VLOOKUP($G391,Lists!$BM$2:$BR$478,COLUMN(),FALSE))","v":""},{"$f":"IF($G391=\"\",\"\",VLOOKUP($G391,Lists!$BM$2:$BR$478,COLUMN(),FALSE))","v":""},{"$f":"IF($G391=\"\",\"\",VLOOKUP($G391,Lists!$BM$2:$BR$478,COLUMN(),FALSE))","v":""}]
[null,{"$f":"IF($G392=\"\",\"\",VLOOKUP($G392,Lists!$BM$2:$BR$478,COLUMN(),FALSE))","v":""},{"$f":"IF($G392=\"\",\"\",VLOOKUP($G392,Lists!$BM$2:$BR$478,COLUMN(),FALSE))","v":""},{"$f":"IF($G392=\"\",\"\",VLOOKUP($G392,Lists!$BM$2:$BR$478,COLUMN(),FALSE))","v":""},{"$f":"IF($G392=\"\",\"\",VLOOKUP($G392,Lists!$BM$2:$BR$478,COLUMN(),FALSE))","v":""},{"$f":"IF($G392=\"\",\"\",VLOOKUP($G392,Lists!$BM$2:$BR$478,COLUMN(),FALSE))","v":""}]
[null,{"$f":"IF($G393=\"\",\"\",VLOOKUP($G393,Lists!$BM$2:$BR$478,COLUMN(),FALSE))","v":""},{"$f":"IF($G393=\"\",\"\",VLOOKUP($G393,Lists!$BM$2:$BR$478,COLUMN(),FALSE))","v":""},{"$f":"IF($G393=\"\",\"\",VLOOKUP($G393,Lists!$BM$2:$BR$478,COLUMN(),FALSE))","v":""},{"$f":"IF($G393=\"\",\"\",VLOOKUP($G393,Lists!$BM$2:$BR$478,COLUMN(),FALSE))","v":""},{"$f":"IF($G393=\"\",\"\",VLOOKUP($G393,Lists!$BM$2:$BR$478,COLUMN(),FALSE))","v":""}]
[null,{"$f":"IF($G394=\"\",\"\",VLOOKUP($G394,Lists!$BM$2:$BR$478,COLUMN(),FALSE))","v":""},{"$f":"IF($G394=\"\",\"\",VLOOKUP($G394,Lists!$BM$2:$BR$478,COLUMN(),FALSE))","v":""},{"$f":"IF($G394=\"\",\"\",VLOOKUP($G394,Lists!$BM$2:$BR$478,COLUMN(),FALSE))","v":""},{"$f":"IF($G394=\"\",\"\",VLOOKUP($G394,Lists!$BM$2:$BR$478,COLUMN(),FALSE))","v":""},{"$f":"IF($G394=\"\",\"\",VLOOKUP($G394,Lists!$BM$2:$BR$478,COLUMN(),FALSE))","v":""}]
[null,{"$f":"IF($G395=\"\",\"\",VLOOKUP($G395,Lists!$BM$2:$BR$478,COLUMN(),FALSE))","v":""},{"$f":"IF($G395=\"\",\"\",VLOOKUP($G395,Lists!$BM$2:$BR$478,COLUMN(),FALSE))","v":""},{"$f":"IF($G395=\"\",\"\",VLOOKUP($G395,Lists!$BM$2:$BR$478,COLUMN(),FALSE))","v":""},{"$f":"IF($G395=\"\",\"\",VLOOKUP($G395,Lists!$BM$2:$BR$478,COLUMN(),FALSE))","v":""},{"$f":"IF($G395=\"\",\"\",VLOOKUP($G395,Lists!$BM$2:$BR$478,COLUMN(),FALSE))","v":""}]
[null,{"$f":"IF($G396=\"\",\"\",VLOOKUP($G396,Lists!$BM$2:$BR$478,COLUMN(),FALSE))","v":""},{"$f":"IF($G396=\"\",\"\",VLOOKUP($G396,Lists!$BM$2:$BR$478,COLUMN(),FALSE))","v":""},{"$f":"IF($G396=\"\",\"\",VLOOKUP($G396,Lists!$BM$2:$BR$478,COLUMN(),FALSE))","v":""},{"$f":"IF($G396=\"\",\"\",VLOOKUP($G396,Lists!$BM$2:$BR$478,COLUMN(),FALSE))","v":""},{"$f":"IF($G396=\"\",\"\",VLOOKUP($G396,Lists!$BM$2:$BR$478,COLUMN(),FALSE))","v":""}]
[null,{"$f":"IF($G397=\"\",\"\",VLOOKUP($G397,Lists!$BM$2:$BR$478,COLUMN(),FALSE))","v":""},{"$f":"IF($G397=\"\",\"\",VLOOKUP($G397,Lists!$BM$2:$BR$478,COLUMN(),FALSE))","v":""},{"$f":"IF($G397=\"\",\"\",VLOOKUP($G397,Lists!$BM$2:$BR$478,COLUMN(),FALSE))","v":""},{"$f":"IF($G397=\"\",\"\",VLOOKUP($G397,Lists!$BM$2:$BR$478,COLUMN(),FALSE))","v":""},{"$f":"IF($G397=\"\",\"\",VLOOKUP($G397,Lists!$BM$2:$BR$478,COLUMN(),FALSE))","v":""}]
[null,{"$f":"IF($G398=\"\",\"\",VLOOKUP($G398,Lists!$BM$2:$BR$478,COLUMN(),FALSE))","v":""},{"$f":"IF($G398=\"\",\"\",VLOOKUP($G398,Lists!$BM$2:$BR$478,COLUMN(),FALSE))","v":""},{"$f":"IF($G398=\"\",\"\",VLOOKUP($G398,Lists!$BM$2:$BR$478,COLUMN(),FALSE))","v":""},{"$f":"IF($G398=\"\",\"\",VLOOKUP($G398,Lists!$BM$2:$BR$478,COLUMN(),FALSE))","v":""},{"$f":"IF($G398=\"\",\"\",VLOOKUP($G398,Lists!$BM$2:$BR$478,COLUMN(),FALSE))","v":""}]
[null,{"$f":"IF($G399=\"\",\"\",VLOOKUP($G399,Lists!$BM$2:$BR$478,COLUMN(),FALSE))","v":""},{"$f":"IF($G399=\"\",\"\",VLOOKUP($G399,Lists!$BM$2:$BR$478,COLUMN(),FALSE))","v":""},{"$f":"IF($G399=\"\",\"\",VLOOKUP($G399,Lists!$BM$2:$BR$478,COLUMN(),FALSE))","v":""},{"$f":"IF($G399=\"\",\"\",VLOOKUP($G399,Lists!$BM$2:$BR$478,COLUMN(),FALSE))","v":""},{"$f":"IF($G399=\"\",\"\",VLOOKUP($G399,Lists!$BM$2:$BR$478,COLUMN(),FALSE))","v":""}]
[null,{"$f":"IF($G400=\"\",\"\",VLOOKUP($G400,Lists!$BM$2:$BR$478,COLUMN(),FALSE))","v":""},{"$f":"IF($G400=\"\",\"\",VLOOKUP($G400,Lists!$BM$2:$BR$478,COLUMN(),FALSE))","v":""},{"$f":"IF($G400=\"\",\"\",VLOOKUP($G400,Lists!$BM$2:$BR$478,COLUMN(),FALSE))","v":""},{"$f":"IF($G400=\"\",\"\",VLOOKUP($G400,Lists!$BM$2:$BR$478,COLUMN(),FALSE))","v":""},{"$f":"IF($G400=\"\",\"\",VLOOKUP($G400,Lists!$BM$2:$BR$478,COLUMN(),FALSE))","v":""}]
[null,{"$f":"IF($G401=\"\",\"\",VLOOKUP($G401,Lists!$BM$2:$BR$478,COLUMN(),FALSE))","v":""},{"$f":"IF($G401=\"\",\"\",VLOOKUP($G401,Lists!$BM$2:$BR$478,COLUMN(),FALSE))","v":""},{"$f":"IF($G401=\"\",\"\",VLOOKUP($G401,Lists!$BM$2:$BR$478,COLUMN(),FALSE))","v":""},{"$f":"IF($G401=\"\",\"\",VLOOKUP($G401,Lists!$BM$2:$BR$478,COLUMN(),FALSE))","v":""},{"$f":"IF($G401=\"\",\"\",VLOOKUP($G401,Lists!$BM$2:$BR$478,COLUMN(),FALSE))","v":""}]
[null,{"$f":"IF($G402=\"\",\"\",VLOOKUP($G402,Lists!$BM$2:$BR$478,COLUMN(),FALSE))","v":""},{"$f":"IF($G402=\"\",\"\",VLOOKUP($G402,Lists!$BM$2:$BR$478,COLUMN(),FALSE))","v":""},{"$f":"IF($G402=\"\",\"\",VLOOKUP($G402,Lists!$BM$2:$BR$478,COLUMN(),FALSE))","v":""},{"$f":"IF($G402=\"\",\"\",VLOOKUP($G402,Lists!$BM$2:$BR$478,COLUMN(),FALSE))","v":""},{"$f":"IF($G402=\"\",\"\",VLOOKUP($G402,Lists!$BM$2:$BR$478,COLUMN(),FALSE))","v":""}]
[null,{"$f":"IF($G403=\"\",\"\",VLOOKUP($G403,Lists!$BM$2:$BR$478,COLUMN(),FALSE))","v":""},{"$f":"IF($G403=\"\",\"\",VLOOKUP($G403,Lists!$BM$2:$BR$478,COLUMN(),FALSE))","v":""},{"$f":"IF($G403=\"\",\"\",VLOOKUP($G403,Lists!$BM$2:$BR$478,COLUMN(),FALSE))","v":""},{"$f":"IF($G403=\"\",\"\",VLOOKUP($G403,Lists!$BM$2:$BR$478,COLUMN(),FALSE))","v":""},{"$f":"IF($G403=\"\",\"\",VLOOKUP($G403,Lists!$BM$2:$BR$478,COLUMN(),FALSE))","v":""}]
[null,{"$f":"IF($G404=\"\",\"\",VLOOKUP($G404,Lists!$BM$2:$BR$478,COLUMN(),FALSE))","v":""},{"$f":"IF($G404=\"\",\"\",VLOOKUP($G404,Lists!$BM$2:$BR$478,COLUMN(),FALSE))","v":""},{"$f":"IF($G404=\"\",\"\",VLOOKUP($G404,Lists!$BM$2:$BR$478,COLUMN(),FALSE))","v":""},{"$f":"IF($G404=\"\",\"\",VLOOKUP($G404,Lists!$BM$2:$BR$478,COLUMN(),FALSE))","v":""},{"$f":"IF($G404=\"\",\"\",VLOOKUP($G404,Lists!$BM$2:$BR$478,COLUMN(),FALSE))","v":""}]
[null,{"$f":"IF($G405=\"\",\"\",VLOOKUP($G405,Lists!$BM$2:$BR$478,COLUMN(),FALSE))","v":""},{"$f":"IF($G405=\"\",\"\",VLOOKUP($G405,Lists!$BM$2:$BR$478,COLUMN(),FALSE))","v":""},{"$f":"IF($G405=\"\",\"\",VLOOKUP($G405,Lists!$BM$2:$BR$478,COLUMN(),FALSE))","v":""},{"$f":"IF($G405=\"\",\"\",VLOOKUP($G405,Lists!$BM$2:$BR$478,COLUMN(),FALSE))","v":""},{"$f":"IF($G405=\"\",\"\",VLOOKUP($G405,Lists!$BM$2:$BR$478,COLUMN(),FALSE))","v":""}]
[null,{"$f":"IF($G406=\"\",\"\",VLOOKUP($G406,Lists!$BM$2:$BR$478,COLUMN(),FALSE))","v":""},{"$f":"IF($G406=\"\",\"\",VLOOKUP($G406,Lists!$BM$2:$BR$478,COLUMN(),FALSE))","v":""},{"$f":"IF($G406=\"\",\"\",VLOOKUP($G406,Lists!$BM$2:$BR$478,COLUMN(),FALSE))","v":""},{"$f":"IF($G406=\"\",\"\",VLOOKUP($G406,Lists!$BM$2:$BR$478,COLUMN(),FALSE))","v":""},{"$f":"IF($G406=\"\",\"\",VLOOKUP($G406,Lists!$BM$2:$BR$478,COLUMN(),FALSE))","v":""}]
[null,{"$f":"IF($G407=\"\",\"\",VLOOKUP($G407,Lists!$BM$2:$BR$478,COLUMN(),FALSE))","v":""},{"$f":"IF($G407=\"\",\"\",VLOOKUP($G407,Lists!$BM$2:$BR$478,COLUMN(),FALSE))","v":""},{"$f":"IF($G407=\"\",\"\",VLOOKUP($G407,Lists!$BM$2:$BR$478,COLUMN(),FALSE))","v":""},{"$f":"IF($G407=\"\",\"\",VLOOKUP($G407,Lists!$BM$2:$BR$478,COLUMN(),FALSE))","v":""},{"$f":"IF($G407=\"\",\"\",VLOOKUP($G407,Lists!$BM$2:$BR$478,COLUMN(),FALSE))","v":""}]
[null,{"$f":"IF($G408=\"\",\"\",VLOOKUP($G408,Lists!$BM$2:$BR$478,COLUMN(),FALSE))","v":""},{"$f":"IF($G408=\"\",\"\",VLOOKUP($G408,Lists!$BM$2:$BR$478,COLUMN(),FALSE))","v":""},{"$f":"IF($G408=\"\",\"\",VLOOKUP($G408,Lists!$BM$2:$BR$478,COLUMN(),FALSE))","v":""},{"$f":"IF($G408=\"\",\"\",VLOOKUP($G408,Lists!$BM$2:$BR$478,COLUMN(),FALSE))","v":""},{"$f":"IF($G408=\"\",\"\",VLOOKUP($G408,Lists!$BM$2:$BR$478,COLUMN(),FALSE))","v":""}]
[null,{"$f":"IF($G409=\"\",\"\",VLOOKUP($G409,Lists!$BM$2:$BR$478,COLUMN(),FALSE))","v":""},{"$f":"IF($G409=\"\",\"\",VLOOKUP($G409,Lists!$BM$2:$BR$478,COLUMN(),FALSE))","v":""},{"$f":"IF($G409=\"\",\"\",VLOOKUP($G409,Lists!$BM$2:$BR$478,COLUMN(),FALSE))","v":""},{"$f":"IF($G409=\"\",\"\",VLOOKUP($G409,Lists!$BM$2:$BR$478,COLUMN(),FALSE))","v":""},{"$f":"IF($G409=\"\",\"\",VLOOKUP($G409,Lists!$BM$2:$BR$478,COLUMN(),FALSE))","v":""}]
[null,{"$f":"IF($G410=\"\",\"\",VLOOKUP($G410,Lists!$BM$2:$BR$478,COLUMN(),FALSE))","v":""},{"$f":"IF($G410=\"\",\"\",VLOOKUP($G410,Lists!$BM$2:$BR$478,COLUMN(),FALSE))","v":""},{"$f":"IF($G410=\"\",\"\",VLOOKUP($G410,Lists!$BM$2:$BR$478,COLUMN(),FALSE))","v":""},{"$f":"IF($G410=\"\",\"\",VLOOKUP($G410,Lists!$BM$2:$BR$478,COLUMN(),FALSE))","v":""},{"$f":"IF($G410=\"\",\"\",VLOOKUP($G410,Lists!$BM$2:$BR$478,COLUMN(),FALSE))","v":""}]
[null,{"$f":"IF($G411=\"\",\"\",VLOOKUP($G411,Lists!$BM$2:$BR$478,COLUMN(),FALSE))","v":""},{"$f":"IF($G411=\"\",\"\",VLOOKUP($G411,Lists!$BM$2:$BR$478,COLUMN(),FALSE))","v":""},{"$f":"IF($G411=\"\",\"\",VLOOKUP($G411,Lists!$BM$2:$BR$478,COLUMN(),FALSE))","v":""},{"$f":"IF($G411=\"\",\"\",VLOOKUP($G411,Lists!$BM$2:$BR$478,COLUMN(),FALSE))","v":""},{"$f":"IF($G411=\"\",\"\",VLOOKUP($G411,Lists!$BM$2:$BR$478,COLUMN(),FALSE))","v":""}]
[null,{"$f":"IF($G412=\"\",\"\",VLOOKUP($G412,Lists!$BM$2:$BR$478,COLUMN(),FALSE))","v":""},{"$f":"IF($G412=\"\",\"\",VLOOKUP($G412,Lists!$BM$2:$BR$478,COLUMN(),FALSE))","v":""},{"$f":"IF($G412=\"\",\"\",VLOOKUP($G412,Lists!$BM$2:$BR$478,COLUMN(),FALSE))","v":""},{"$f":"IF($G412=\"\",\"\",VLOOKUP($G412,Lists!$BM$2:$BR$478,COLUMN(),FALSE))","v":""},{"$f":"IF($G412=\"\",\"\",VLOOKUP($G412,Lists!$BM$2:$BR$478,COLUMN(),FALSE))","v":""}]
[null,{"$f":"IF($G413=\"\",\"\",VLOOKUP($G413,Lists!$BM$2:$BR$478,COLUMN(),FALSE))","v":""},{"$f":"IF($G413=\"\",\"\",VLOOKUP($G413,Lists!$BM$2:$BR$478,COLUMN(),FALSE))","v":""},{"$f":"IF($G413=\"\",\"\",VLOOKUP($G413,Lists!$BM$2:$BR$478,COLUMN(),FALSE))","v":""},{"$f":"IF($G413=\"\",\"\",VLOOKUP($G413,Lists!$BM$2:$BR$478,COLUMN(),FALSE))","v":""},{"$f":"IF($G413=\"\",\"\",VLOOKUP($G413,Lists!$BM$2:$BR$478,COLUMN(),FALSE))","v":""}]
[null,{"$f":"IF($G414=\"\",\"\",VLOOKUP($G414,Lists!$BM$2:$BR$478,COLUMN(),FALSE))","v":""},{"$f":"IF($G414=\"\",\"\",VLOOKUP($G414,Lists!$BM$2:$BR$478,COLUMN(),FALSE))","v":""},{"$f":"IF($G414=\"\",\"\",VLOOKUP($G414,Lists!$BM$2:$BR$478,COLUMN(),FALSE))","v":""},{"$f":"IF($G414=\"\",\"\",VLOOKUP($G414,Lists!$BM$2:$BR$478,COLUMN(),FALSE))","v":""},{"$f":"IF($G414=\"\",\"\",VLOOKUP($G414,Lists!$BM$2:$BR$478,COLUMN(),FALSE))","v":""}]
[null,{"$f":"IF($G415=\"\",\"\",VLOOKUP($G415,Lists!$BM$2:$BR$478,COLUMN(),FALSE))","v":""},{"$f":"IF($G415=\"\",\"\",VLOOKUP($G415,Lists!$BM$2:$BR$478,COLUMN(),FALSE))","v":""},{"$f":"IF($G415=\"\",\"\",VLOOKUP($G415,Lists!$BM$2:$BR$478,COLUMN(),FALSE))","v":""},{"$f":"IF($G415=\"\",\"\",VLOOKUP($G415,Lists!$BM$2:$BR$478,COLUMN(),FALSE))","v":""},{"$f":"IF($G415=\"\",\"\",VLOOKUP($G415,Lists!$BM$2:$BR$478,COLUMN(),FALSE))","v":""}]
[null,{"$f":"IF($G416=\"\",\"\",VLOOKUP($G416,Lists!$BM$2:$BR$478,COLUMN(),FALSE))","v":""},{"$f":"IF($G416=\"\",\"\",VLOOKUP($G416,Lists!$BM$2:$BR$478,COLUMN(),FALSE))","v":""},{"$f":"IF($G416=\"\",\"\",VLOOKUP($G416,Lists!$BM$2:$BR$478,COLUMN(),FALSE))","v":""},{"$f":"IF($G416=\"\",\"\",VLOOKUP($G416,Lists!$BM$2:$BR$478,COLUMN(),FALSE))","v":""},{"$f":"IF($G416=\"\",\"\",VLOOKUP($G416,Lists!$BM$2:$BR$478,COLUMN(),FALSE))","v":""}]
[null,{"$f":"IF($G417=\"\",\"\",VLOOKUP($G417,Lists!$BM$2:$BR$478,COLUMN(),FALSE))","v":""},{"$f":"IF($G417=\"\",\"\",VLOOKUP($G417,Lists!$BM$2:$BR$478,COLUMN(),FALSE))","v":""},{"$f":"IF($G417=\"\",\"\",VLOOKUP($G417,Lists!$BM$2:$BR$478,COLUMN(),FALSE))","v":""},{"$f":"IF($G417=\"\",\"\",VLOOKUP($G417,Lists!$BM$2:$BR$478,COLUMN(),FALSE))","v":""},{"$f":"IF($G417=\"\",\"\",VLOOKUP($G417,Lists!$BM$2:$BR$478,COLUMN(),FALSE))","v":""}]
[null,{"$f":"IF($G418=\"\",\"\",VLOOKUP($G418,Lists!$BM$2:$BR$478,COLUMN(),FALSE))","v":""},{"$f":"IF($G418=\"\",\"\",VLOOKUP($G418,Lists!$BM$2:$BR$478,COLUMN(),FALSE))","v":""},{"$f":"IF($G418=\"\",\"\",VLOOKUP($G418,Lists!$BM$2:$BR$478,COLUMN(),FALSE))","v":""},{"$f":"IF($G418=\"\",\"\",VLOOKUP($G418,Lists!$BM$2:$BR$478,COLUMN(),FALSE))","v":""},{"$f":"IF($G418=\"\",\"\",VLOOKUP($G418,Lists!$BM$2:$BR$478,COLUMN(),FALSE))","v":""}]
[null,{"$f":"IF($G419=\"\",\"\",VLOOKUP($G419,Lists!$BM$2:$BR$478,COLUMN(),FALSE))","v":""},{"$f":"IF($G419=\"\",\"\",VLOOKUP($G419,Lists!$BM$2:$BR$478,COLUMN(),FALSE))","v":""},{"$f":"IF($G419=\"\",\"\",VLOOKUP($G419,Lists!$BM$2:$BR$478,COLUMN(),FALSE))","v":""},{"$f":"IF($G419=\"\",\"\",VLOOKUP($G419,Lists!$BM$2:$BR$478,COLUMN(),FALSE))","v":""},{"$f":"IF($G419=\"\",\"\",VLOOKUP($G419,Lists!$BM$2:$BR$478,COLUMN(),FALSE))","v":""}]
[null,{"$f":"IF($G420=\"\",\"\",VLOOKUP($G420,Lists!$BM$2:$BR$478,COLUMN(),FALSE))","v":""},{"$f":"IF($G420=\"\",\"\",VLOOKUP($G420,Lists!$BM$2:$BR$478,COLUMN(),FALSE))","v":""},{"$f":"IF($G420=\"\",\"\",VLOOKUP($G420,Lists!$BM$2:$BR$478,COLUMN(),FALSE))","v":""},{"$f":"IF($G420=\"\",\"\",VLOOKUP($G420,Lists!$BM$2:$BR$478,COLUMN(),FALSE))","v":""},{"$f":"IF($G420=\"\",\"\",VLOOKUP($G420,Lists!$BM$2:$BR$478,COLUMN(),FALSE))","v":""}]
[null,{"$f":"IF($G421=\"\",\"\",VLOOKUP($G421,Lists!$BM$2:$BR$478,COLUMN(),FALSE))","v":""},{"$f":"IF($G421=\"\",\"\",VLOOKUP($G421,Lists!$BM$2:$BR$478,COLUMN(),FALSE))","v":""},{"$f":"IF($G421=\"\",\"\",VLOOKUP($G421,Lists!$BM$2:$BR$478,COLUMN(),FALSE))","v":""},{"$f":"IF($G421=\"\",\"\",VLOOKUP($G421,Lists!$BM$2:$BR$478,COLUMN(),FALSE))","v":""},{"$f":"IF($G421=\"\",\"\",VLOOKUP($G421,Lists!$BM$2:$BR$478,COLUMN(),FALSE))","v":""}]
[null,{"$f":"IF($G422=\"\",\"\",VLOOKUP($G422,Lists!$BM$2:$BR$478,COLUMN(),FALSE))","v":""},{"$f":"IF($G422=\"\",\"\",VLOOKUP($G422,Lists!$BM$2:$BR$478,COLUMN(),FALSE))","v":""},{"$f":"IF($G422=\"\",\"\",VLOOKUP($G422,Lists!$BM$2:$BR$478,COLUMN(),FALSE))","v":""},{"$f":"IF($G422=\"\",\"\",VLOOKUP($G422,Lists!$BM$2:$BR$478,COLUMN(),FALSE))","v":""},{"$f":"IF($G422=\"\",\"\",VLOOKUP($G422,Lists!$BM$2:$BR$478,COLUMN(),FALSE))","v":""}]
[null,{"$f":"IF($G423=\"\",\"\",VLOOKUP($G423,Lists!$BM$2:$BR$478,COLUMN(),FALSE))","v":""},{"$f":"IF($G423=\"\",\"\",VLOOKUP($G423,Lists!$BM$2:$BR$478,COLUMN(),FALSE))","v":""},{"$f":"IF($G423=\"\",\"\",VLOOKUP($G423,Lists!$BM$2:$BR$478,COLUMN(),FALSE))","v":""},{"$f":"IF($G423=\"\",\"\",VLOOKUP($G423,Lists!$BM$2:$BR$478,COLUMN(),FALSE))","v":""},{"$f":"IF($G423=\"\",\"\",VLOOKUP($G423,Lists!$BM$2:$BR$478,COLUMN(),FALSE))","v":""}]
[null,{"$f":"IF($G424=\"\",\"\",VLOOKUP($G424,Lists!$BM$2:$BR$478,COLUMN(),FALSE))","v":""},{"$f":"IF($G424=\"\",\"\",VLOOKUP($G424,Lists!$BM$2:$BR$478,COLUMN(),FALSE))","v":""},{"$f":"IF($G424=\"\",\"\",VLOOKUP($G424,Lists!$BM$2:$BR$478,COLUMN(),FALSE))","v":""},{"$f":"IF($G424=\"\",\"\",VLOOKUP($G424,Lists!$BM$2:$BR$478,COLUMN(),FALSE))","v":""},{"$f":"IF($G424=\"\",\"\",VLOOKUP($G424,Lists!$BM$2:$BR$478,COLUMN(),FALSE))","v":""}]
[null,{"$f":"IF($G425=\"\",\"\",VLOOKUP($G425,Lists!$BM$2:$BR$478,COLUMN(),FALSE))","v":""},{"$f":"IF($G425=\"\",\"\",VLOOKUP($G425,Lists!$BM$2:$BR$478,COLUMN(),FALSE))","v":""},{"$f":"IF($G425=\"\",\"\",VLOOKUP($G425,Lists!$BM$2:$BR$478,COLUMN(),FALSE))","v":""},{"$f":"IF($G425=\"\",\"\",VLOOKUP($G425,Lists!$BM$2:$BR$478,COLUMN(),FALSE))","v":""},{"$f":"IF($G425=\"\",\"\",VLOOKUP($G425,Lists!$BM$2:$BR$478,COLUMN(),FALSE))","v":""}]
[null,{"$f":"IF($G426=\"\",\"\",VLOOKUP($G426,Lists!$BM$2:$BR$478,COLUMN(),FALSE))","v":""},{"$f":"IF($G426=\"\",\"\",VLOOKUP($G426,Lists!$BM$2:$BR$478,COLUMN(),FALSE))","v":""},{"$f":"IF($G426=\"\",\"\",VLOOKUP($G426,Lists!$BM$2:$BR$478,COLUMN(),FALSE))","v":""},{"$f":"IF($G426=\"\",\"\",VLOOKUP($G426,Lists!$BM$2:$BR$478,COLUMN(),FALSE))","v":""},{"$f":"IF($G426=\"\",\"\",VLOOKUP($G426,Lists!$BM$2:$BR$478,COLUMN(),FALSE))","v":""}]
[null,{"$f":"IF($G427=\"\",\"\",VLOOKUP($G427,Lists!$BM$2:$BR$478,COLUMN(),FALSE))","v":""},{"$f":"IF($G427=\"\",\"\",VLOOKUP($G427,Lists!$BM$2:$BR$478,COLUMN(),FALSE))","v":""},{"$f":"IF($G427=\"\",\"\",VLOOKUP($G427,Lists!$BM$2:$BR$478,COLUMN(),FALSE))","v":""},{"$f":"IF($G427=\"\",\"\",VLOOKUP($G427,Lists!$BM$2:$BR$478,COLUMN(),FALSE))","v":""},{"$f":"IF($G427=\"\",\"\",VLOOKUP($G427,Lists!$BM$2:$BR$478,COLUMN(),FALSE))","v":""}]
[null,{"$f":"IF($G428=\"\",\"\",VLOOKUP($G428,Lists!$BM$2:$BR$478,COLUMN(),FALSE))","v":""},{"$f":"IF($G428=\"\",\"\",VLOOKUP($G428,Lists!$BM$2:$BR$478,COLUMN(),FALSE))","v":""},{"$f":"IF($G428=\"\",\"\",VLOOKUP($G428,Lists!$BM$2:$BR$478,COLUMN(),FALSE))","v":""},{"$f":"IF($G428=\"\",\"\",VLOOKUP($G428,Lists!$BM$2:$BR$478,COLUMN(),FALSE))","v":""},{"$f":"IF($G428=\"\",\"\",VLOOKUP($G428,Lists!$BM$2:$BR$478,COLUMN(),FALSE))","v":""}]
[null,{"$f":"IF($G429=\"\",\"\",VLOOKUP($G429,Lists!$BM$2:$BR$478,COLUMN(),FALSE))","v":""},{"$f":"IF($G429=\"\",\"\",VLOOKUP($G429,Lists!$BM$2:$BR$478,COLUMN(),FALSE))","v":""},{"$f":"IF($G429=\"\",\"\",VLOOKUP($G429,Lists!$BM$2:$BR$478,COLUMN(),FALSE))","v":""},{"$f":"IF($G429=\"\",\"\",VLOOKUP($G429,Lists!$BM$2:$BR$478,COLUMN(),FALSE))","v":""},{"$f":"IF($G429=\"\",\"\",VLOOKUP($G429,Lists!$BM$2:$BR$478,COLUMN(),FALSE))","v":""}]
[null,{"$f":"IF($G430=\"\",\"\",VLOOKUP($G430,Lists!$BM$2:$BR$478,COLUMN(),FALSE))","v":""},{"$f":"IF($G430=\"\",\"\",VLOOKUP($G430,Lists!$BM$2:$BR$478,COLUMN(),FALSE))","v":""},{"$f":"IF($G430=\"\",\"\",VLOOKUP($G430,Lists!$BM$2:$BR$478,COLUMN(),FALSE))","v":""},{"$f":"IF($G430=\"\",\"\",VLOOKUP($G430,Lists!$BM$2:$BR$478,COLUMN(),FALSE))","v":""},{"$f":"IF($G430=\"\",\"\",VLOOKUP($G430,Lists!$BM$2:$BR$478,COLUMN(),FALSE))","v":""}]
[null,{"$f":"IF($G431=\"\",\"\",VLOOKUP($G431,Lists!$BM$2:$BR$478,COLUMN(),FALSE))","v":""},{"$f":"IF($G431=\"\",\"\",VLOOKUP($G431,Lists!$BM$2:$BR$478,COLUMN(),FALSE))","v":""},{"$f":"IF($G431=\"\",\"\",VLOOKUP($G431,Lists!$BM$2:$BR$478,COLUMN(),FALSE))","v":""},{"$f":"IF($G431=\"\",\"\",VLOOKUP($G431,Lists!$BM$2:$BR$478,COLUMN(),FALSE))","v":""},{"$f":"IF($G431=\"\",\"\",VLOOKUP($G431,Lists!$BM$2:$BR$478,COLUMN(),FALSE))","v":""}]
[null,{"$f":"IF($G432=\"\",\"\",VLOOKUP($G432,Lists!$BM$2:$BR$478,COLUMN(),FALSE))","v":""},{"$f":"IF($G432=\"\",\"\",VLOOKUP($G432,Lists!$BM$2:$BR$478,COLUMN(),FALSE))","v":""},{"$f":"IF($G432=\"\",\"\",VLOOKUP($G432,Lists!$BM$2:$BR$478,COLUMN(),FALSE))","v":""},{"$f":"IF($G432=\"\",\"\",VLOOKUP($G432,Lists!$BM$2:$BR$478,COLUMN(),FALSE))","v":""},{"$f":"IF($G432=\"\",\"\",VLOOKUP($G432,Lists!$BM$2:$BR$478,COLUMN(),FALSE))","v":""}]
[null,{"$f":"IF($G433=\"\",\"\",VLOOKUP($G433,Lists!$BM$2:$BR$478,COLUMN(),FALSE))","v":""},{"$f":"IF($G433=\"\",\"\",VLOOKUP($G433,Lists!$BM$2:$BR$478,COLUMN(),FALSE))","v":""},{"$f":"IF($G433=\"\",\"\",VLOOKUP($G433,Lists!$BM$2:$BR$478,COLUMN(),FALSE))","v":""},{"$f":"IF($G433=\"\",\"\",VLOOKUP($G433,Lists!$BM$2:$BR$478,COLUMN(),FALSE))","v":""},{"$f":"IF($G433=\"\",\"\",VLOOKUP($G433,Lists!$BM$2:$BR$478,COLUMN(),FALSE))","v":""}]
[null,{"$f":"IF($G434=\"\",\"\",VLOOKUP($G434,Lists!$BM$2:$BR$478,COLUMN(),FALSE))","v":""},{"$f":"IF($G434=\"\",\"\",VLOOKUP($G434,Lists!$BM$2:$BR$478,COLUMN(),FALSE))","v":""},{"$f":"IF($G434=\"\",\"\",VLOOKUP($G434,Lists!$BM$2:$BR$478,COLUMN(),FALSE))","v":""},{"$f":"IF($G434=\"\",\"\",VLOOKUP($G434,Lists!$BM$2:$BR$478,COLUMN(),FALSE))","v":""},{"$f":"IF($G434=\"\",\"\",VLOOKUP($G434,Lists!$BM$2:$BR$478,COLUMN(),FALSE))","v":""}]
[null,{"$f":"IF($G435=\"\",\"\",VLOOKUP($G435,Lists!$BM$2:$BR$478,COLUMN(),FALSE))","v":""},{"$f":"IF($G435=\"\",\"\",VLOOKUP($G435,Lists!$BM$2:$BR$478,COLUMN(),FALSE))","v":""},{"$f":"IF($G435=\"\",\"\",VLOOKUP($G435,Lists!$BM$2:$BR$478,COLUMN(),FALSE))","v":""},{"$f":"IF($G435=\"\",\"\",VLOOKUP($G435,Lists!$BM$2:$BR$478,COLUMN(),FALSE))","v":""},{"$f":"IF($G435=\"\",\"\",VLOOKUP($G435,Lists!$BM$2:$BR$478,COLUMN(),FALSE))","v":""}]
[null,{"$f":"IF($G436=\"\",\"\",VLOOKUP($G436,Lists!$BM$2:$BR$478,COLUMN(),FALSE))","v":""},{"$f":"IF($G436=\"\",\"\",VLOOKUP($G436,Lists!$BM$2:$BR$478,COLUMN(),FALSE))","v":""},{"$f":"IF($G436=\"\",\"\",VLOOKUP($G436,Lists!$BM$2:$BR$478,COLUMN(),FALSE))","v":""},{"$f":"IF($G436=\"\",\"\",VLOOKUP($G436,Lists!$BM$2:$BR$478,COLUMN(),FALSE))","v":""},{"$f":"IF($G436=\"\",\"\",VLOOKUP($G436,Lists!$BM$2:$BR$478,COLUMN(),FALSE))","v":""}]
[null,{"$f":"IF($G437=\"\",\"\",VLOOKUP($G437,Lists!$BM$2:$BR$478,COLUMN(),FALSE))","v":""},{"$f":"IF($G437=\"\",\"\",VLOOKUP($G437,Lists!$BM$2:$BR$478,COLUMN(),FALSE))","v":""},{"$f":"IF($G437=\"\",\"\",VLOOKUP($G437,Lists!$BM$2:$BR$478,COLUMN(),FALSE))","v":""},{"$f":"IF($G437=\"\",\"\",VLOOKUP($G437,Lists!$BM$2:$BR$478,COLUMN(),FALSE))","v":""},{"$f":"IF($G437=\"\",\"\",VLOOKUP($G437,Lists!$BM$2:$BR$478,COLUMN(),FALSE))","v":""}]
[null,{"$f":"IF($G438=\"\",\"\",VLOOKUP($G438,Lists!$BM$2:$BR$478,COLUMN(),FALSE))","v":""},{"$f":"IF($G438=\"\",\"\",VLOOKUP($G438,Lists!$BM$2:$BR$478,COLUMN(),FALSE))","v":""},{"$f":"IF($G438=\"\",\"\",VLOOKUP($G438,Lists!$BM$2:$BR$478,COLUMN(),FALSE))","v":""},{"$f":"IF($G438=\"\",\"\",VLOOKUP($G438,Lists!$BM$2:$BR$478,COLUMN(),FALSE))","v":""},{"$f":"IF($G438=\"\",\"\",VLOOKUP($G438,Lists!$BM$2:$BR$478,COLUMN(),FALSE))","v":""}]
[null,{"$f":"IF($G439=\"\",\"\",VLOOKUP($G439,Lists!$BM$2:$BR$478,COLUMN(),FALSE))","v":""},{"$f":"IF($G439=\"\",\"\",VLOOKUP($G439,Lists!$BM$2:$BR$478,COLUMN(),FALSE))","v":""},{"$f":"IF($G439=\"\",\"\",VLOOKUP($G439,Lists!$BM$2:$BR$478,COLUMN(),FALSE))","v":""},{"$f":"IF($G439=\"\",\"\",VLOOKUP($G439,Lists!$BM$2:$BR$478,COLUMN(),FALSE))","v":""},{"$f":"IF($G439=\"\",\"\",VLOOKUP($G439,Lists!$BM$2:$BR$478,COLUMN(),FALSE))","v":""}]
[null,{"$f":"IF($G440=\"\",\"\",VLOOKUP($G440,Lists!$BM$2:$BR$478,COLUMN(),FALSE))","v":""},{"$f":"IF($G440=\"\",\"\",VLOOKUP($G440,Lists!$BM$2:$BR$478,COLUMN(),FALSE))","v":""},{"$f":"IF($G440=\"\",\"\",VLOOKUP($G440,Lists!$BM$2:$BR$478,COLUMN(),FALSE))","v":""},{"$f":"IF($G440=\"\",\"\",VLOOKUP($G440,Lists!$BM$2:$BR$478,COLUMN(),FALSE))","v":""},{"$f":"IF($G440=\"\",\"\",VLOOKUP($G440,Lists!$BM$2:$BR$478,COLUMN(),FALSE))","v":""}]
[null,{"$f":"IF($G441=\"\",\"\",VLOOKUP($G441,Lists!$BM$2:$BR$478,COLUMN(),FALSE))","v":""},{"$f":"IF($G441=\"\",\"\",VLOOKUP($G441,Lists!$BM$2:$BR$478,COLUMN(),FALSE))","v":""},{"$f":"IF($G441=\"\",\"\",VLOOKUP($G441,Lists!$BM$2:$BR$478,COLUMN(),FALSE))","v":""},{"$f":"IF($G441=\"\",\"\",VLOOKUP($G441,Lists!$BM$2:$BR$478,COLUMN(),FALSE))","v":""},{"$f":"IF($G441=\"\",\"\",VLOOKUP($G441,Lists!$BM$2:$BR$478,COLUMN(),FALSE))","v":""}]
[null,{"$f":"IF($G442=\"\",\"\",VLOOKUP($G442,Lists!$BM$2:$BR$478,COLUMN(),FALSE))","v":""},{"$f":"IF($G442=\"\",\"\",VLOOKUP($G442,Lists!$BM$2:$BR$478,COLUMN(),FALSE))","v":""},{"$f":"IF($G442=\"\",\"\",VLOOKUP($G442,Lists!$BM$2:$BR$478,COLUMN(),FALSE))","v":""},{"$f":"IF($G442=\"\",\"\",VLOOKUP($G442,Lists!$BM$2:$BR$478,COLUMN(),FALSE))","v":""},{"$f":"IF($G442=\"\",\"\",VLOOKUP($G442,Lists!$BM$2:$BR$478,COLUMN(),FALSE))","v":""}]
[null,{"$f":"IF($G443=\"\",\"\",VLOOKUP($G443,Lists!$BM$2:$BR$478,COLUMN(),FALSE))","v":""},{"$f":"IF($G443=\"\",\"\",VLOOKUP($G443,Lists!$BM$2:$BR$478,COLUMN(),FALSE))","v":""},{"$f":"IF($G443=\"\",\"\",VLOOKUP($G443,Lists!$BM$2:$BR$478,COLUMN(),FALSE))","v":""},{"$f":"IF($G443=\"\",\"\",VLOOKUP($G443,Lists!$BM$2:$BR$478,COLUMN(),FALSE))","v":""},{"$f":"IF($G443=\"\",\"\",VLOOKUP($G443,Lists!$BM$2:$BR$478,COLUMN(),FALSE))","v":""}]
[null,{"$f":"IF($G444=\"\",\"\",VLOOKUP($G444,Lists!$BM$2:$BR$478,COLUMN(),FALSE))","v":""},{"$f":"IF($G444=\"\",\"\",VLOOKUP($G444,Lists!$BM$2:$BR$478,COLUMN(),FALSE))","v":""},{"$f":"IF($G444=\"\",\"\",VLOOKUP($G444,Lists!$BM$2:$BR$478,COLUMN(),FALSE))","v":""},{"$f":"IF($G444=\"\",\"\",VLOOKUP($G444,Lists!$BM$2:$BR$478,COLUMN(),FALSE))","v":""},{"$f":"IF($G444=\"\",\"\",VLOOKUP($G444,Lists!$BM$2:$BR$478,COLUMN(),FALSE))","v":""}]
[null,{"$f":"IF($G445=\"\",\"\",VLOOKUP($G445,Lists!$BM$2:$BR$478,COLUMN(),FALSE))","v":""},{"$f":"IF($G445=\"\",\"\",VLOOKUP($G445,Lists!$BM$2:$BR$478,COLUMN(),FALSE))","v":""},{"$f":"IF($G445=\"\",\"\",VLOOKUP($G445,Lists!$BM$2:$BR$478,COLUMN(),FALSE))","v":""},{"$f":"IF($G445=\"\",\"\",VLOOKUP($G445,Lists!$BM$2:$BR$478,COLUMN(),FALSE))","v":""},{"$f":"IF($G445=\"\",\"\",VLOOKUP($G445,Lists!$BM$2:$BR$478,COLUMN(),FALSE))","v":""}]
[null,{"$f":"IF($G446=\"\",\"\",VLOOKUP($G446,Lists!$BM$2:$BR$478,COLUMN(),FALSE))","v":""},{"$f":"IF($G446=\"\",\"\",VLOOKUP($G446,Lists!$BM$2:$BR$478,COLUMN(),FALSE))","v":""},{"$f":"IF($G446=\"\",\"\",VLOOKUP($G446,Lists!$BM$2:$BR$478,COLUMN(),FALSE))","v":""},{"$f":"IF($G446=\"\",\"\",VLOOKUP($G446,Lists!$BM$2:$BR$478,COLUMN(),FALSE))","v":""},{"$f":"IF($G446=\"\",\"\",VLOOKUP($G446,Lists!$BM$2:$BR$478,COLUMN(),FALSE))","v":""}]
[null,{"$f":"IF($G447=\"\",\"\",VLOOKUP($G447,Lists!$BM$2:$BR$478,COLUMN(),FALSE))","v":""},{"$f":"IF($G447=\"\",\"\",VLOOKUP($G447,Lists!$BM$2:$BR$478,COLUMN(),FALSE))","v":""},{"$f":"IF($G447=\"\",\"\",VLOOKUP($G447,Lists!$BM$2:$BR$478,COLUMN(),FALSE))","v":""},{"$f":"IF($G447=\"\",\"\",VLOOKUP($G447,Lists!$BM$2:$BR$478,COLUMN(),FALSE))","v":""},{"$f":"IF($G447=\"\",\"\",VLOOKUP($G447,Lists!$BM$2:$BR$478,COLUMN(),FALSE))","v":""}]
[null,{"$f":"IF($G448=\"\",\"\",VLOOKUP($G448,Lists!$BM$2:$BR$478,COLUMN(),FALSE))","v":""},{"$f":"IF($G448=\"\",\"\",VLOOKUP($G448,Lists!$BM$2:$BR$478,COLUMN(),FALSE))","v":""},{"$f":"IF($G448=\"\",\"\",VLOOKUP($G448,Lists!$BM$2:$BR$478,COLUMN(),FALSE))","v":""},{"$f":"IF($G448=\"\",\"\",VLOOKUP($G448,Lists!$BM$2:$BR$478,COLUMN(),FALSE))","v":""},{"$f":"IF($G448=\"\",\"\",VLOOKUP($G448,Lists!$BM$2:$BR$478,COLUMN(),FALSE))","v":""}]
[null,{"$f":"IF($G449=\"\",\"\",VLOOKUP($G449,Lists!$BM$2:$BR$478,COLUMN(),FALSE))","v":""},{"$f":"IF($G449=\"\",\"\",VLOOKUP($G449,Lists!$BM$2:$BR$478,COLUMN(),FALSE))","v":""},{"$f":"IF($G449=\"\",\"\",VLOOKUP($G449,Lists!$BM$2:$BR$478,COLUMN(),FALSE))","v":""},{"$f":"IF($G449=\"\",\"\",VLOOKUP($G449,Lists!$BM$2:$BR$478,COLUMN(),FALSE))","v":""},{"$f":"IF($G449=\"\",\"\",VLOOKUP($G449,Lists!$BM$2:$BR$478,COLUMN(),FALSE))","v":""}]
[null,{"$f":"IF($G450=\"\",\"\",VLOOKUP($G450,Lists!$BM$2:$BR$478,COLUMN(),FALSE))","v":""},{"$f":"IF($G450=\"\",\"\",VLOOKUP($G450,Lists!$BM$2:$BR$478,COLUMN(),FALSE))","v":""},{"$f":"IF($G450=\"\",\"\",VLOOKUP($G450,Lists!$BM$2:$BR$478,COLUMN(),FALSE))","v":""},{"$f":"IF($G450=\"\",\"\",VLOOKUP($G450,Lists!$BM$2:$BR$478,COLUMN(),FALSE))","v":""},{"$f":"IF($G450=\"\",\"\",VLOOKUP($G450,Lists!$BM$2:$BR$478,COLUMN(),FALSE))","v":""}]
[null,{"$f":"IF($G451=\"\",\"\",VLOOKUP($G451,Lists!$BM$2:$BR$478,COLUMN(),FALSE))","v":""},{"$f":"IF($G451=\"\",\"\",VLOOKUP($G451,Lists!$BM$2:$BR$478,COLUMN(),FALSE))","v":""},{"$f":"IF($G451=\"\",\"\",VLOOKUP($G451,Lists!$BM$2:$BR$478,COLUMN(),FALSE))","v":""},{"$f":"IF($G451=\"\",\"\",VLOOKUP($G451,Lists!$BM$2:$BR$478,COLUMN(),FALSE))","v":""},{"$f":"IF($G451=\"\",\"\",VLOOKUP($G451,Lists!$BM$2:$BR$478,COLUMN(),FALSE))","v":""}]
[null,{"$f":"IF($G452=\"\",\"\",VLOOKUP($G452,Lists!$BM$2:$BR$478,COLUMN(),FALSE))","v":""},{"$f":"IF($G452=\"\",\"\",VLOOKUP($G452,Lists!$BM$2:$BR$478,COLUMN(),FALSE))","v":""},{"$f":"IF($G452=\"\",\"\",VLOOKUP($G452,Lists!$BM$2:$BR$478,COLUMN(),FALSE))","v":""},{"$f":"IF($G452=\"\",\"\",VLOOKUP($G452,Lists!$BM$2:$BR$478,COLUMN(),FALSE))","v":""},{"$f":"IF($G452=\"\",\"\",VLOOKUP($G452,Lists!$BM$2:$BR$478,COLUMN(),FALSE))","v":""}]
[null,{"$f":"IF($G453=\"\",\"\",VLOOKUP($G453,Lists!$BM$2:$BR$478,COLUMN(),FALSE))","v":""},{"$f":"IF($G453=\"\",\"\",VLOOKUP($G453,Lists!$BM$2:$BR$478,COLUMN(),FALSE))","v":""},{"$f":"IF($G453=\"\",\"\",VLOOKUP($G453,Lists!$BM$2:$BR$478,COLUMN(),FALSE))","v":""},{"$f":"IF($G453=\"\",\"\",VLOOKUP($G453,Lists!$BM$2:$BR$478,COLUMN(),FALSE))","v":""},{"$f":"IF($G453=\"\",\"\",VLOOKUP($G453,Lists!$BM$2:$BR$478,COLUMN(),FALSE))","v":""}]
[null,{"$f":"IF($G454=\"\",\"\",VLOOKUP($G454,Lists!$BM$2:$BR$478,COLUMN(),FALSE))","v":""},{"$f":"IF($G454=\"\",\"\",VLOOKUP($G454,Lists!$BM$2:$BR$478,COLUMN(),FALSE))","v":""},{"$f":"IF($G454=\"\",\"\",VLOOKUP($G454,Lists!$BM$2:$BR$478,COLUMN(),FALSE))","v":""},{"$f":"IF($G454=\"\",\"\",VLOOKUP($G454,Lists!$BM$2:$BR$478,COLUMN(),FALSE))","v":""},{"$f":"IF($G454=\"\",\"\",VLOOKUP($G454,Lists!$BM$2:$BR$478,COLUMN(),FALSE))","v":""}]
[null,{"$f":"IF($G455=\"\",\"\",VLOOKUP($G455,Lists!$BM$2:$BR$478,COLUMN(),FALSE))","v":""},{"$f":"IF($G455=\"\",\"\",VLOOKUP($G455,Lists!$BM$2:$BR$478,COLUMN(),FALSE))","v":""},{"$f":"IF($G455=\"\",\"\",VLOOKUP($G455,Lists!$BM$2:$BR$478,COLUMN(),FALSE))","v":""},{"$f":"IF($G455=\"\",\"\",VLOOKUP($G455,Lists!$BM$2:$BR$478,COLUMN(),FALSE))","v":""},{"$f":"IF($G455=\"\",\"\",VLOOKUP($G455,Lists!$BM$2:$BR$478,COLUMN(),FALSE))","v":""}]
[null,{"$f":"IF($G456=\"\",\"\",VLOOKUP($G456,Lists!$BM$2:$BR$478,COLUMN(),FALSE))","v":""},{"$f":"IF($G456=\"\",\"\",VLOOKUP($G456,Lists!$BM$2:$BR$478,COLUMN(),FALSE))","v":""},{"$f":"IF($G456=\"\",\"\",VLOOKUP($G456,Lists!$BM$2:$BR$478,COLUMN(),FALSE))","v":""},{"$f":"IF($G456=\"\",\"\",VLOOKUP($G456,Lists!$BM$2:$BR$478,COLUMN(),FALSE))","v":""},{"$f":"IF($G456=\"\",\"\",VLOOKUP($G456,Lists!$BM$2:$BR$478,COLUMN(),FALSE))","v":""}]
[null,{"$f":"IF($G457=\"\",\"\",VLOOKUP($G457,Lists!$BM$2:$BR$478,COLUMN(),FALSE))","v":""},{"$f":"IF($G457=\"\",\"\",VLOOKUP($G457,Lists!$BM$2:$BR$478,COLUMN(),FALSE))","v":""},{"$f":"IF($G457=\"\",\"\",VLOOKUP($G457,Lists!$BM$2:$BR$478,COLUMN(),FALSE))","v":""},{"$f":"IF($G457=\"\",\"\",VLOOKUP($G457,Lists!$BM$2:$BR$478,COLUMN(),FALSE))","v":""},{"$f":"IF($G457=\"\",\"\",VLOOKUP($G457,Lists!$BM$2:$BR$478,COLUMN(),FALSE))","v":""}]
[null,{"$f":"IF($G458=\"\",\"\",VLOOKUP($G458,Lists!$BM$2:$BR$478,COLUMN(),FALSE))","v":""},{"$f":"IF($G458=\"\",\"\",VLOOKUP($G458,Lists!$BM$2:$BR$478,COLUMN(),FALSE))","v":""},{"$f":"IF($G458=\"\",\"\",VLOOKUP($G458,Lists!$BM$2:$BR$478,COLUMN(),FALSE))","v":""},{"$f":"IF($G458=\"\",\"\",VLOOKUP($G458,Lists!$BM$2:$BR$478,COLUMN(),FALSE))","v":""},{"$f":"IF($G458=\"\",\"\",VLOOKUP($G458,Lists!$BM$2:$BR$478,COLUMN(),FALSE))","v":""}]
[null,{"$f":"IF($G459=\"\",\"\",VLOOKUP($G459,Lists!$BM$2:$BR$478,COLUMN(),FALSE))","v":""},{"$f":"IF($G459=\"\",\"\",VLOOKUP($G459,Lists!$BM$2:$BR$478,COLUMN(),FALSE))","v":""},{"$f":"IF($G459=\"\",\"\",VLOOKUP($G459,Lists!$BM$2:$BR$478,COLUMN(),FALSE))","v":""},{"$f":"IF($G459=\"\",\"\",VLOOKUP($G459,Lists!$BM$2:$BR$478,COLUMN(),FALSE))","v":""},{"$f":"IF($G459=\"\",\"\",VLOOKUP($G459,Lists!$BM$2:$BR$478,COLUMN(),FALSE))","v":""}]
[null,{"$f":"IF($G460=\"\",\"\",VLOOKUP($G460,Lists!$BM$2:$BR$478,COLUMN(),FALSE))","v":""},{"$f":"IF($G460=\"\",\"\",VLOOKUP($G460,Lists!$BM$2:$BR$478,COLUMN(),FALSE))","v":""},{"$f":"IF($G460=\"\",\"\",VLOOKUP($G460,Lists!$BM$2:$BR$478,COLUMN(),FALSE))","v":""},{"$f":"IF($G460=\"\",\"\",VLOOKUP($G460,Lists!$BM$2:$BR$478,COLUMN(),FALSE))","v":""},{"$f":"IF($G460=\"\",\"\",VLOOKUP($G460,Lists!$BM$2:$BR$478,COLUMN(),FALSE))","v":""}]
[null,{"$f":"IF($G461=\"\",\"\",VLOOKUP($G461,Lists!$BM$2:$BR$478,COLUMN(),FALSE))","v":""},{"$f":"IF($G461=\"\",\"\",VLOOKUP($G461,Lists!$BM$2:$BR$478,COLUMN(),FALSE))","v":""},{"$f":"IF($G461=\"\",\"\",VLOOKUP($G461,Lists!$BM$2:$BR$478,COLUMN(),FALSE))","v":""},{"$f":"IF($G461=\"\",\"\",VLOOKUP($G461,Lists!$BM$2:$BR$478,COLUMN(),FALSE))","v":""},{"$f":"IF($G461=\"\",\"\",VLOOKUP($G461,Lists!$BM$2:$BR$478,COLUMN(),FALSE))","v":""}]
[null,{"$f":"IF($G462=\"\",\"\",VLOOKUP($G462,Lists!$BM$2:$BR$478,COLUMN(),FALSE))","v":""},{"$f":"IF($G462=\"\",\"\",VLOOKUP($G462,Lists!$BM$2:$BR$478,COLUMN(),FALSE))","v":""},{"$f":"IF($G462=\"\",\"\",VLOOKUP($G462,Lists!$BM$2:$BR$478,COLUMN(),FALSE))","v":""},{"$f":"IF($G462=\"\",\"\",VLOOKUP($G462,Lists!$BM$2:$BR$478,COLUMN(),FALSE))","v":""},{"$f":"IF($G462=\"\",\"\",VLOOKUP($G462,Lists!$BM$2:$BR$478,COLUMN(),FALSE))","v":""}]
[null,{"$f":"IF($G463=\"\",\"\",VLOOKUP($G463,Lists!$BM$2:$BR$478,COLUMN(),FALSE))","v":""},{"$f":"IF($G463=\"\",\"\",VLOOKUP($G463,Lists!$BM$2:$BR$478,COLUMN(),FALSE))","v":""},{"$f":"IF($G463=\"\",\"\",VLOOKUP($G463,Lists!$BM$2:$BR$478,COLUMN(),FALSE))","v":""},{"$f":"IF($G463=\"\",\"\",VLOOKUP($G463,Lists!$BM$2:$BR$478,COLUMN(),FALSE))","v":""},{"$f":"IF($G463=\"\",\"\",VLOOKUP($G463,Lists!$BM$2:$BR$478,COLUMN(),FALSE))","v":""}]
[null,{"$f":"IF($G464=\"\",\"\",VLOOKUP($G464,Lists!$BM$2:$BR$478,COLUMN(),FALSE))","v":""},{"$f":"IF($G464=\"\",\"\",VLOOKUP($G464,Lists!$BM$2:$BR$478,COLUMN(),FALSE))","v":""},{"$f":"IF($G464=\"\",\"\",VLOOKUP($G464,Lists!$BM$2:$BR$478,COLUMN(),FALSE))","v":""},{"$f":"IF($G464=\"\",\"\",VLOOKUP($G464,Lists!$BM$2:$BR$478,COLUMN(),FALSE))","v":""},{"$f":"IF($G464=\"\",\"\",VLOOKUP($G464,Lists!$BM$2:$BR$478,COLUMN(),FALSE))","v":""}]
[null,{"$f":"IF($G465=\"\",\"\",VLOOKUP($G465,Lists!$BM$2:$BR$478,COLUMN(),FALSE))","v":""},{"$f":"IF($G465=\"\",\"\",VLOOKUP($G465,Lists!$BM$2:$BR$478,COLUMN(),FALSE))","v":""},{"$f":"IF($G465=\"\",\"\",VLOOKUP($G465,Lists!$BM$2:$BR$478,COLUMN(),FALSE))","v":""},{"$f":"IF($G465=\"\",\"\",VLOOKUP($G465,Lists!$BM$2:$BR$478,COLUMN(),FALSE))","v":""},{"$f":"IF($G465=\"\",\"\",VLOOKUP($G465,Lists!$BM$2:$BR$478,COLUMN(),FALSE))","v":""}]
[null,{"$f":"IF($G466=\"\",\"\",VLOOKUP($G466,Lists!$BM$2:$BR$478,COLUMN(),FALSE))","v":""},{"$f":"IF($G466=\"\",\"\",VLOOKUP($G466,Lists!$BM$2:$BR$478,COLUMN(),FALSE))","v":""},{"$f":"IF($G466=\"\",\"\",VLOOKUP($G466,Lists!$BM$2:$BR$478,COLUMN(),FALSE))","v":""},{"$f":"IF($G466=\"\",\"\",VLOOKUP($G466,Lists!$BM$2:$BR$478,COLUMN(),FALSE))","v":""},{"$f":"IF($G466=\"\",\"\",VLOOKUP($G466,Lists!$BM$2:$BR$478,COLUMN(),FALSE))","v":""}]
[null,{"$f":"IF($G467=\"\",\"\",VLOOKUP($G467,Lists!$BM$2:$BR$478,COLUMN(),FALSE))","v":""},{"$f":"IF($G467=\"\",\"\",VLOOKUP($G467,Lists!$BM$2:$BR$478,COLUMN(),FALSE))","v":""},{"$f":"IF($G467=\"\",\"\",VLOOKUP($G467,Lists!$BM$2:$BR$478,COLUMN(),FALSE))","v":""},{"$f":"IF($G467=\"\",\"\",VLOOKUP($G467,Lists!$BM$2:$BR$478,COLUMN(),FALSE))","v":""},{"$f":"IF($G467=\"\",\"\",VLOOKUP($G467,Lists!$BM$2:$BR$478,COLUMN(),FALSE))","v":""}]
[null,{"$f":"IF($G468=\"\",\"\",VLOOKUP($G468,Lists!$BM$2:$BR$478,COLUMN(),FALSE))","v":""},{"$f":"IF($G468=\"\",\"\",VLOOKUP($G468,Lists!$BM$2:$BR$478,COLUMN(),FALSE))","v":""},{"$f":"IF($G468=\"\",\"\",VLOOKUP($G468,Lists!$BM$2:$BR$478,COLUMN(),FALSE))","v":""},{"$f":"IF($G468=\"\",\"\",VLOOKUP($G468,Lists!$BM$2:$BR$478,COLUMN(),FALSE))","v":""},{"$f":"IF($G468=\"\",\"\",VLOOKUP($G468,Lists!$BM$2:$BR$478,COLUMN(),FALSE))","v":""}]
[null,{"$f":"IF($G469=\"\",\"\",VLOOKUP($G469,Lists!$BM$2:$BR$478,COLUMN(),FALSE))","v":""},{"$f":"IF($G469=\"\",\"\",VLOOKUP($G469,Lists!$BM$2:$BR$478,COLUMN(),FALSE))","v":""},{"$f":"IF($G469=\"\",\"\",VLOOKUP($G469,Lists!$BM$2:$BR$478,COLUMN(),FALSE))","v":""},{"$f":"IF($G469=\"\",\"\",VLOOKUP($G469,Lists!$BM$2:$BR$478,COLUMN(),FALSE))","v":""},{"$f":"IF($G469=\"\",\"\",VLOOKUP($G469,Lists!$BM$2:$BR$478,COLUMN(),FALSE))","v":""}]
[null,{"$f":"IF($G470=\"\",\"\",VLOOKUP($G470,Lists!$BM$2:$BR$478,COLUMN(),FALSE))","v":""},{"$f":"IF($G470=\"\",\"\",VLOOKUP($G470,Lists!$BM$2:$BR$478,COLUMN(),FALSE))","v":""},{"$f":"IF($G470=\"\",\"\",VLOOKUP($G470,Lists!$BM$2:$BR$478,COLUMN(),FALSE))","v":""},{"$f":"IF($G470=\"\",\"\",VLOOKUP($G470,Lists!$BM$2:$BR$478,COLUMN(),FALSE))","v":""},{"$f":"IF($G470=\"\",\"\",VLOOKUP($G470,Lists!$BM$2:$BR$478,COLUMN(),FALSE))","v":""}]
[null,{"$f":"IF($G471=\"\",\"\",VLOOKUP($G471,Lists!$BM$2:$BR$478,COLUMN(),FALSE))","v":""},{"$f":"IF($G471=\"\",\"\",VLOOKUP($G471,Lists!$BM$2:$BR$478,COLUMN(),FALSE))","v":""},{"$f":"IF($G471=\"\",\"\",VLOOKUP($G471,Lists!$BM$2:$BR$478,COLUMN(),FALSE))","v":""},{"$f":"IF($G471=\"\",\"\",VLOOKUP($G471,Lists!$BM$2:$BR$478,COLUMN(),FALSE))","v":""},{"$f":"IF($G471=\"\",\"\",VLOOKUP($G471,Lists!$BM$2:$BR$478,COLUMN(),FALSE))","v":""}]
[null,{"$f":"IF($G472=\"\",\"\",VLOOKUP($G472,Lists!$BM$2:$BR$478,COLUMN(),FALSE))","v":""},{"$f":"IF($G472=\"\",\"\",VLOOKUP($G472,Lists!$BM$2:$BR$478,COLUMN(),FALSE))","v":""},{"$f":"IF($G472=\"\",\"\",VLOOKUP($G472,Lists!$BM$2:$BR$478,COLUMN(),FALSE))","v":""},{"$f":"IF($G472=\"\",\"\",VLOOKUP($G472,Lists!$BM$2:$BR$478,COLUMN(),FALSE))","v":""},{"$f":"IF($G472=\"\",\"\",VLOOKUP($G472,Lists!$BM$2:$BR$478,COLUMN(),FALSE))","v":""}]
[null,{"$f":"IF($G473=\"\",\"\",VLOOKUP($G473,Lists!$BM$2:$BR$478,COLUMN(),FALSE))","v":""},{"$f":"IF($G473=\"\",\"\",VLOOKUP($G473,Lists!$BM$2:$BR$478,COLUMN(),FALSE))","v":""},{"$f":"IF($G473=\"\",\"\",VLOOKUP($G473,Lists!$BM$2:$BR$478,COLUMN(),FALSE))","v":""},{"$f":"IF($G473=\"\",\"\",VLOOKUP($G473,Lists!$BM$2:$BR$478,COLUMN(),FALSE))","v":""},{"$f":"IF($G473=\"\",\"\",VLOOKUP($G473,Lists!$BM$2:$BR$478,COLUMN(),FALSE))","v":""}]
[null,{"$f":"IF($G474=\"\",\"\",VLOOKUP($G474,Lists!$BM$2:$BR$478,COLUMN(),FALSE))","v":""},{"$f":"IF($G474=\"\",\"\",VLOOKUP($G474,Lists!$BM$2:$BR$478,COLUMN(),FALSE))","v":""},{"$f":"IF($G474=\"\",\"\",VLOOKUP($G474,Lists!$BM$2:$BR$478,COLUMN(),FALSE))","v":""},{"$f":"IF($G474=\"\",\"\",VLOOKUP($G474,Lists!$BM$2:$BR$478,COLUMN(),FALSE))","v":""},{"$f":"IF($G474=\"\",\"\",VLOOKUP($G474,Lists!$BM$2:$BR$478,COLUMN(),FALSE))","v":""}]
[null,{"$f":"IF($G475=\"\",\"\",VLOOKUP($G475,Lists!$BM$2:$BR$478,COLUMN(),FALSE))","v":""},{"$f":"IF($G475=\"\",\"\",VLOOKUP($G475,Lists!$BM$2:$BR$478,COLUMN(),FALSE))","v":""},{"$f":"IF($G475=\"\",\"\",VLOOKUP($G475,Lists!$BM$2:$BR$478,COLUMN(),FALSE))","v":""},{"$f":"IF($G475=\"\",\"\",VLOOKUP($G475,Lists!$BM$2:$BR$478,COLUMN(),FALSE))","v":""},{"$f":"IF($G475=\"\",\"\",VLOOKUP($G475,Lists!$BM$2:$BR$478,COLUMN(),FALSE))","v":""}]
[null,{"$f":"IF($G476=\"\",\"\",VLOOKUP($G476,Lists!$BM$2:$BR$478,COLUMN(),FALSE))","v":""},{"$f":"IF($G476=\"\",\"\",VLOOKUP($G476,Lists!$BM$2:$BR$478,COLUMN(),FALSE))","v":""},{"$f":"IF($G476=\"\",\"\",VLOOKUP($G476,Lists!$BM$2:$BR$478,COLUMN(),FALSE))","v":""},{"$f":"IF($G476=\"\",\"\",VLOOKUP($G476,Lists!$BM$2:$BR$478,COLUMN(),FALSE))","v":""},{"$f":"IF($G476=\"\",\"\",VLOOKUP($G476,Lists!$BM$2:$BR$478,COLUMN(),FALSE))","v":""}]
[null,{"$f":"IF($G477=\"\",\"\",VLOOKUP($G477,Lists!$BM$2:$BR$478,COLUMN(),FALSE))","v":""},{"$f":"IF($G477=\"\",\"\",VLOOKUP($G477,Lists!$BM$2:$BR$478,COLUMN(),FALSE))","v":""},{"$f":"IF($G477=\"\",\"\",VLOOKUP($G477,Lists!$BM$2:$BR$478,COLUMN(),FALSE))","v":""},{"$f":"IF($G477=\"\",\"\",VLOOKUP($G477,Lists!$BM$2:$BR$478,COLUMN(),FALSE))","v":""},{"$f":"IF($G477=\"\",\"\",VLOOKUP($G477,Lists!$BM$2:$BR$478,COLUMN(),FALSE))","v":""}]
[null,{"$f":"IF($G478=\"\",\"\",VLOOKUP($G478,Lists!$BM$2:$BR$478,COLUMN(),FALSE))","v":""},{"$f":"IF($G478=\"\",\"\",VLOOKUP($G478,Lists!$BM$2:$BR$478,COLUMN(),FALSE))","v":""},{"$f":"IF($G478=\"\",\"\",VLOOKUP($G478,Lists!$BM$2:$BR$478,COLUMN(),FALSE))","v":""},{"$f":"IF($G478=\"\",\"\",VLOOKUP($G478,Lists!$BM$2:$BR$478,COLUMN(),FALSE))","v":""},{"$f":"IF($G478=\"\",\"\",VLOOKUP($G478,Lists!$BM$2:$BR$478,COLUMN(),FALSE))","v":""}]
[null,{"$f":"IF($G479=\"\",\"\",VLOOKUP($G479,Lists!$BM$2:$BR$478,COLUMN(),FALSE))","v":""},{"$f":"IF($G479=\"\",\"\",VLOOKUP($G479,Lists!$BM$2:$BR$478,COLUMN(),FALSE))","v":""},{"$f":"IF($G479=\"\",\"\",VLOOKUP($G479,Lists!$BM$2:$BR$478,COLUMN(),FALSE))","v":""},{"$f":"IF($G479=\"\",\"\",VLOOKUP($G479,Lists!$BM$2:$BR$478,COLUMN(),FALSE))","v":""},{"$f":"IF($G479=\"\",\"\",VLOOKUP($G479,Lists!$BM$2:$BR$478,COLUMN(),FALSE))","v":""}]
[null,{"$f":"IF($G480=\"\",\"\",VLOOKUP($G480,Lists!$BM$2:$BR$478,COLUMN(),FALSE))","v":""},{"$f":"IF($G480=\"\",\"\",VLOOKUP($G480,Lists!$BM$2:$BR$478,COLUMN(),FALSE))","v":""},{"$f":"IF($G480=\"\",\"\",VLOOKUP($G480,Lists!$BM$2:$BR$478,COLUMN(),FALSE))","v":""},{"$f":"IF($G480=\"\",\"\",VLOOKUP($G480,Lists!$BM$2:$BR$478,COLUMN(),FALSE))","v":""},{"$f":"IF($G480=\"\",\"\",VLOOKUP($G480,Lists!$BM$2:$BR$478,COLUMN(),FALSE))","v":""}]
[null,{"$f":"IF($G481=\"\",\"\",VLOOKUP($G481,Lists!$BM$2:$BR$478,COLUMN(),FALSE))","v":""},{"$f":"IF($G481=\"\",\"\",VLOOKUP($G481,Lists!$BM$2:$BR$478,COLUMN(),FALSE))","v":""},{"$f":"IF($G481=\"\",\"\",VLOOKUP($G481,Lists!$BM$2:$BR$478,COLUMN(),FALSE))","v":""},{"$f":"IF($G481=\"\",\"\",VLOOKUP($G481,Lists!$BM$2:$BR$478,COLUMN(),FALSE))","v":""},{"$f":"IF($G481=\"\",\"\",VLOOKUP($G481,Lists!$BM$2:$BR$478,COLUMN(),FALSE))","v":""}]
[null,{"$f":"IF($G482=\"\",\"\",VLOOKUP($G482,Lists!$BM$2:$BR$478,COLUMN(),FALSE))","v":""},{"$f":"IF($G482=\"\",\"\",VLOOKUP($G482,Lists!$BM$2:$BR$478,COLUMN(),FALSE))","v":""},{"$f":"IF($G482=\"\",\"\",VLOOKUP($G482,Lists!$BM$2:$BR$478,COLUMN(),FALSE))","v":""},{"$f":"IF($G482=\"\",\"\",VLOOKUP($G482,Lists!$BM$2:$BR$478,COLUMN(),FALSE))","v":""},{"$f":"IF($G482=\"\",\"\",VLOOKUP($G482,Lists!$BM$2:$BR$478,COLUMN(),FALSE))","v":""}]
[null,{"$f":"IF($G483=\"\",\"\",VLOOKUP($G483,Lists!$BM$2:$BR$478,COLUMN(),FALSE))","v":""},{"$f":"IF($G483=\"\",\"\",VLOOKUP($G483,Lists!$BM$2:$BR$478,COLUMN(),FALSE))","v":""},{"$f":"IF($G483=\"\",\"\",VLOOKUP($G483,Lists!$BM$2:$BR$478,COLUMN(),FALSE))","v":""},{"$f":"IF($G483=\"\",\"\",VLOOKUP($G483,Lists!$BM$2:$BR$478,COLUMN(),FALSE))","v":""},{"$f":"IF($G483=\"\",\"\",VLOOKUP($G483,Lists!$BM$2:$BR$478,COLUMN(),FALSE))","v":""}]
[null,{"$f":"IF($G484=\"\",\"\",VLOOKUP($G484,Lists!$BM$2:$BR$478,COLUMN(),FALSE))","v":""},{"$f":"IF($G484=\"\",\"\",VLOOKUP($G484,Lists!$BM$2:$BR$478,COLUMN(),FALSE))","v":""},{"$f":"IF($G484=\"\",\"\",VLOOKUP($G484,Lists!$BM$2:$BR$478,COLUMN(),FALSE))","v":""},{"$f":"IF($G484=\"\",\"\",VLOOKUP($G484,Lists!$BM$2:$BR$478,COLUMN(),FALSE))","v":""},{"$f":"IF($G484=\"\",\"\",VLOOKUP($G484,Lists!$BM$2:$BR$478,COLUMN(),FALSE))","v":""}]
[null,{"$f":"IF($G485=\"\",\"\",VLOOKUP($G485,Lists!$BM$2:$BR$478,COLUMN(),FALSE))","v":""},{"$f":"IF($G485=\"\",\"\",VLOOKUP($G485,Lists!$BM$2:$BR$478,COLUMN(),FALSE))","v":""},{"$f":"IF($G485=\"\",\"\",VLOOKUP($G485,Lists!$BM$2:$BR$478,COLUMN(),FALSE))","v":""},{"$f":"IF($G485=\"\",\"\",VLOOKUP($G485,Lists!$BM$2:$BR$478,COLUMN(),FALSE))","v":""},{"$f":"IF($G485=\"\",\"\",VLOOKUP($G485,Lists!$BM$2:$BR$478,COLUMN(),FALSE))","v":""}]
[null,{"$f":"IF($G486=\"\",\"\",VLOOKUP($G486,Lists!$BM$2:$BR$478,COLUMN(),FALSE))","v":""},{"$f":"IF($G486=\"\",\"\",VLOOKUP($G486,Lists!$BM$2:$BR$478,COLUMN(),FALSE))","v":""},{"$f":"IF($G486=\"\",\"\",VLOOKUP($G486,Lists!$BM$2:$BR$478,COLUMN(),FALSE))","v":""},{"$f":"IF($G486=\"\",\"\",VLOOKUP($G486,Lists!$BM$2:$BR$478,COLUMN(),FALSE))","v":""},{"$f":"IF($G486=\"\",\"\",VLOOKUP($G486,Lists!$BM$2:$BR$478,COLUMN(),FALSE))","v":""}]
[null,{"$f":"IF($G487=\"\",\"\",VLOOKUP($G487,Lists!$BM$2:$BR$478,COLUMN(),FALSE))","v":""},{"$f":"IF($G487=\"\",\"\",VLOOKUP($G487,Lists!$BM$2:$BR$478,COLUMN(),FALSE))","v":""},{"$f":"IF($G487=\"\",\"\",VLOOKUP($G487,Lists!$BM$2:$BR$478,COLUMN(),FALSE))","v":""},{"$f":"IF($G487=\"\",\"\",VLOOKUP($G487,Lists!$BM$2:$BR$478,COLUMN(),FALSE))","v":""},{"$f":"IF($G487=\"\",\"\",VLOOKUP($G487,Lists!$BM$2:$BR$478,COLUMN(),FALSE))","v":""}]
[null,{"$f":"IF($G488=\"\",\"\",VLOOKUP($G488,Lists!$BM$2:$BR$478,COLUMN(),FALSE))","v":""},{"$f":"IF($G488=\"\",\"\",VLOOKUP($G488,Lists!$BM$2:$BR$478,COLUMN(),FALSE))","v":""},{"$f":"IF($G488=\"\",\"\",VLOOKUP($G488,Lists!$BM$2:$BR$478,COLUMN(),FALSE))","v":""},{"$f":"IF($G488=\"\",\"\",VLOOKUP($G488,Lists!$BM$2:$BR$478,COLUMN(),FALSE))","v":""},{"$f":"IF($G488=\"\",\"\",VLOOKUP($G488,Lists!$BM$2:$BR$478,COLUMN(),FALSE))","v":""}]
[null,{"$f":"IF($G489=\"\",\"\",VLOOKUP($G489,Lists!$BM$2:$BR$478,COLUMN(),FALSE))","v":""},{"$f":"IF($G489=\"\",\"\",VLOOKUP($G489,Lists!$BM$2:$BR$478,COLUMN(),FALSE))","v":""},{"$f":"IF($G489=\"\",\"\",VLOOKUP($G489,Lists!$BM$2:$BR$478,COLUMN(),FALSE))","v":""},{"$f":"IF($G489=\"\",\"\",VLOOKUP($G489,Lists!$BM$2:$BR$478,COLUMN(),FALSE))","v":""},{"$f":"IF($G489=\"\",\"\",VLOOKUP($G489,Lists!$BM$2:$BR$478,COLUMN(),FALSE))","v":""}]
[null,{"$f":"IF($G490=\"\",\"\",VLOOKUP($G490,Lists!$BM$2:$BR$478,COLUMN(),FALSE))","v":""},{"$f":"IF($G490=\"\",\"\",VLOOKUP($G490,Lists!$BM$2:$BR$478,COLUMN(),FALSE))","v":""},{"$f":"IF($G490=\"\",\"\",VLOOKUP($G490,Lists!$BM$2:$BR$478,COLUMN(),FALSE))","v":""},{"$f":"IF($G490=\"\",\"\",VLOOKUP($G490,Lists!$BM$2:$BR$478,COLUMN(),FALSE))","v":""},{"$f":"IF($G490=\"\",\"\",VLOOKUP($G490,Lists!$BM$2:$BR$478,COLUMN(),FALSE))","v":""}]
[null,{"$f":"IF($G491=\"\",\"\",VLOOKUP($G491,Lists!$BM$2:$BR$478,COLUMN(),FALSE))","v":""},{"$f":"IF($G491=\"\",\"\",VLOOKUP($G491,Lists!$BM$2:$BR$478,COLUMN(),FALSE))","v":""},{"$f":"IF($G491=\"\",\"\",VLOOKUP($G491,Lists!$BM$2:$BR$478,COLUMN(),FALSE))","v":""},{"$f":"IF($G491=\"\",\"\",VLOOKUP($G491,Lists!$BM$2:$BR$478,COLUMN(),FALSE))","v":""},{"$f":"IF($G491=\"\",\"\",VLOOKUP($G491,Lists!$BM$2:$BR$478,COLUMN(),FALSE))","v":""}]
[null,{"$f":"IF($G492=\"\",\"\",VLOOKUP($G492,Lists!$BM$2:$BR$478,COLUMN(),FALSE))","v":""},{"$f":"IF($G492=\"\",\"\",VLOOKUP($G492,Lists!$BM$2:$BR$478,COLUMN(),FALSE))","v":""},{"$f":"IF($G492=\"\",\"\",VLOOKUP($G492,Lists!$BM$2:$BR$478,COLUMN(),FALSE))","v":""},{"$f":"IF($G492=\"\",\"\",VLOOKUP($G492,Lists!$BM$2:$BR$478,COLUMN(),FALSE))","v":""},{"$f":"IF($G492=\"\",\"\",VLOOKUP($G492,Lists!$BM$2:$BR$478,COLUMN(),FALSE))","v":""}]
[null,{"$f":"IF($G493=\"\",\"\",VLOOKUP($G493,Lists!$BM$2:$BR$478,COLUMN(),FALSE))","v":""},{"$f":"IF($G493=\"\",\"\",VLOOKUP($G493,Lists!$BM$2:$BR$478,COLUMN(),FALSE))","v":""},{"$f":"IF($G493=\"\",\"\",VLOOKUP($G493,Lists!$BM$2:$BR$478,COLUMN(),FALSE))","v":""},{"$f":"IF($G493=\"\",\"\",VLOOKUP($G493,Lists!$BM$2:$BR$478,COLUMN(),FALSE))","v":""},{"$f":"IF($G493=\"\",\"\",VLOOKUP($G493,Lists!$BM$2:$BR$478,COLUMN(),FALSE))","v":""}]
[null,{"$f":"IF($G494=\"\",\"\",VLOOKUP($G494,Lists!$BM$2:$BR$478,COLUMN(),FALSE))","v":""},{"$f":"IF($G494=\"\",\"\",VLOOKUP($G494,Lists!$BM$2:$BR$478,COLUMN(),FALSE))","v":""},{"$f":"IF($G494=\"\",\"\",VLOOKUP($G494,Lists!$BM$2:$BR$478,COLUMN(),FALSE))","v":""},{"$f":"IF($G494=\"\",\"\",VLOOKUP($G494,Lists!$BM$2:$BR$478,COLUMN(),FALSE))","v":""},{"$f":"IF($G494=\"\",\"\",VLOOKUP($G494,Lists!$BM$2:$BR$478,COLUMN(),FALSE))","v":""}]
[null,{"$f":"IF($G495=\"\",\"\",VLOOKUP($G495,Lists!$BM$2:$BR$478,COLUMN(),FALSE))","v":""},{"$f":"IF($G495=\"\",\"\",VLOOKUP($G495,Lists!$BM$2:$BR$478,COLUMN(),FALSE))","v":""},{"$f":"IF($G495=\"\",\"\",VLOOKUP($G495,Lists!$BM$2:$BR$478,COLUMN(),FALSE))","v":""},{"$f":"IF($G495=\"\",\"\",VLOOKUP($G495,Lists!$BM$2:$BR$478,COLUMN(),FALSE))","v":""},{"$f":"IF($G495=\"\",\"\",VLOOKUP($G495,Lists!$BM$2:$BR$478,COLUMN(),FALSE))","v":""}]
[null,{"$f":"IF($G496=\"\",\"\",VLOOKUP($G496,Lists!$BM$2:$BR$478,COLUMN(),FALSE))","v":""},{"$f":"IF($G496=\"\",\"\",VLOOKUP($G496,Lists!$BM$2:$BR$478,COLUMN(),FALSE))","v":""},{"$f":"IF($G496=\"\",\"\",VLOOKUP($G496,Lists!$BM$2:$BR$478,COLUMN(),FALSE))","v":""},{"$f":"IF($G496=\"\",\"\",VLOOKUP($G496,Lists!$BM$2:$BR$478,COLUMN(),FALSE))","v":""},{"$f":"IF($G496=\"\",\"\",VLOOKUP($G496,Lists!$BM$2:$BR$478,COLUMN(),FALSE))","v":""}]
[null,{"$f":"IF($G497=\"\",\"\",VLOOKUP($G497,Lists!$BM$2:$BR$478,COLUMN(),FALSE))","v":""},{"$f":"IF($G497=\"\",\"\",VLOOKUP($G497,Lists!$BM$2:$BR$478,COLUMN(),FALSE))","v":""},{"$f":"IF($G497=\"\",\"\",VLOOKUP($G497,Lists!$BM$2:$BR$478,COLUMN(),FALSE))","v":""},{"$f":"IF($G497=\"\",\"\",VLOOKUP($G497,Lists!$BM$2:$BR$478,COLUMN(),FALSE))","v":""},{"$f":"IF($G497=\"\",\"\",VLOOKUP($G497,Lists!$BM$2:$BR$478,COLUMN(),FALSE))","v":""}]
[null,{"$f":"IF($G498=\"\",\"\",VLOOKUP($G498,Lists!$BM$2:$BR$478,COLUMN(),FALSE))","v":""},{"$f":"IF($G498=\"\",\"\",VLOOKUP($G498,Lists!$BM$2:$BR$478,COLUMN(),FALSE))","v":""},{"$f":"IF($G498=\"\",\"\",VLOOKUP($G498,Lists!$BM$2:$BR$478,COLUMN(),FALSE))","v":""},{"$f":"IF($G498=\"\",\"\",VLOOKUP($G498,Lists!$BM$2:$BR$478,COLUMN(),FALSE))","v":""},{"$f":"IF($G498=\"\",\"\",VLOOKUP($G498,Lists!$BM$2:$BR$478,COLUMN(),FALSE))","v":""}]
[null,{"$f":"IF($G499=\"\",\"\",VLOOKUP($G499,Lists!$BM$2:$BR$478,COLUMN(),FALSE))","v":""},{"$f":"IF($G499=\"\",\"\",VLOOKUP($G499,Lists!$BM$2:$BR$478,COLUMN(),FALSE))","v":""},{"$f":"IF($G499=\"\",\"\",VLOOKUP($G499,Lists!$BM$2:$BR$478,COLUMN(),FALSE))","v":""},{"$f":"IF($G499=\"\",\"\",VLOOKUP($G499,Lists!$BM$2:$BR$478,COLUMN(),FALSE))","v":""},{"$f":"IF($G499=\"\",\"\",VLOOKUP($G499,Lists!$BM$2:$BR$478,COLUMN(),FALSE))","v":""}]
[null,{"$f":"IF($G500=\"\",\"\",VLOOKUP($G500,Lists!$BM$2:$BR$478,COLUMN(),FALSE))","v":""},{"$f":"IF($G500=\"\",\"\",VLOOKUP($G500,Lists!$BM$2:$BR$478,COLUMN(),FALSE))","v":""},{"$f":"IF($G500=\"\",\"\",VLOOKUP($G500,Lists!$BM$2:$BR$478,COLUMN(),FALSE))","v":""},{"$f":"IF($G500=\"\",\"\",VLOOKUP($G500,Lists!$BM$2:$BR$478,COLUMN(),FALSE))","v":""},{"$f":"IF($G500=\"\",\"\",VLOOKUP($G500,Lists!$BM$2:$BR$478,COLUMN(),FALSE))","v":""}]
[null,{"$f":"IF($G501=\"\",\"\",VLOOKUP($G501,Lists!$BM$2:$BR$478,COLUMN(),FALSE))","v":""},{"$f":"IF($G501=\"\",\"\",VLOOKUP($G501,Lists!$BM$2:$BR$478,COLUMN(),FALSE))","v":""},{"$f":"IF($G501=\"\",\"\",VLOOKUP($G501,Lists!$BM$2:$BR$478,COLUMN(),FALSE))","v":""},{"$f":"IF($G501=\"\",\"\",VLOOKUP($G501,Lists!$BM$2:$BR$478,COLUMN(),FALSE))","v":""},{"$f":"IF($G501=\"\",\"\",VLOOKUP($G501,Lists!$BM$2:$BR$478,COLUMN(),FALSE))","v":""}]
[null,{"$f":"IF($G502=\"\",\"\",VLOOKUP($G502,Lists!$BM$2:$BR$478,COLUMN(),FALSE))","v":""},{"$f":"IF($G502=\"\",\"\",VLOOKUP($G502,Lists!$BM$2:$BR$478,COLUMN(),FALSE))","v":""},{"$f":"IF($G502=\"\",\"\",VLOOKUP($G502,Lists!$BM$2:$BR$478,COLUMN(),FALSE))","v":""},{"$f":"IF($G502=\"\",\"\",VLOOKUP($G502,Lists!$BM$2:$BR$478,COLUMN(),FALSE))","v":""},{"$f":"IF($G502=\"\",\"\",VLOOKUP($G502,Lists!$BM$2:$BR$478,COLUMN(),FALSE))","v":""}]
[null,{"$f":"IF($G503=\"\",\"\",VLOOKUP($G503,Lists!$BM$2:$BR$478,COLUMN(),FALSE))","v":""},{"$f":"IF($G503=\"\",\"\",VLOOKUP($G503,Lists!$BM$2:$BR$478,COLUMN(),FALSE))","v":""},{"$f":"IF($G503=\"\",\"\",VLOOKUP($G503,Lists!$BM$2:$BR$478,COLUMN(),FALSE))","v":""},{"$f":"IF($G503=\"\",\"\",VLOOKUP($G503,Lists!$BM$2:$BR$478,COLUMN(),FALSE))","v":""},{"$f":"IF($G503=\"\",\"\",VLOOKUP($G503,Lists!$BM$2:$BR$478,COLUMN(),FALSE))","v":""}]
[null,{"$f":"IF($G504=\"\",\"\",VLOOKUP($G504,Lists!$BM$2:$BR$478,COLUMN(),FALSE))","v":""},{"$f":"IF($G504=\"\",\"\",VLOOKUP($G504,Lists!$BM$2:$BR$478,COLUMN(),FALSE))","v":""},{"$f":"IF($G504=\"\",\"\",VLOOKUP($G504,Lists!$BM$2:$BR$478,COLUMN(),FALSE))","v":""},{"$f":"IF($G504=\"\",\"\",VLOOKUP($G504,Lists!$BM$2:$BR$478,COLUMN(),FALSE))","v":""},{"$f":"IF($G504=\"\",\"\",VLOOKUP($G504,Lists!$BM$2:$BR$478,COLUMN(),FALSE))","v":""}]
[null,{"$f":"IF($G505=\"\",\"\",VLOOKUP($G505,Lists!$BM$2:$BR$478,COLUMN(),FALSE))","v":""},{"$f":"IF($G505=\"\",\"\",VLOOKUP($G505,Lists!$BM$2:$BR$478,COLUMN(),FALSE))","v":""},{"$f":"IF($G505=\"\",\"\",VLOOKUP($G505,Lists!$BM$2:$BR$478,COLUMN(),FALSE))","v":""},{"$f":"IF($G505=\"\",\"\",VLOOKUP($G505,Lists!$BM$2:$BR$478,COLUMN(),FALSE))","v":""},{"$f":"IF($G505=\"\",\"\",VLOOKUP($G505,Lists!$BM$2:$BR$478,COLUMN(),FALSE))","v":""}]
[null,{"$f":"IF($G506=\"\",\"\",VLOOKUP($G506,Lists!$BM$2:$BR$478,COLUMN(),FALSE))","v":""},{"$f":"IF($G506=\"\",\"\",VLOOKUP($G506,Lists!$BM$2:$BR$478,COLUMN(),FALSE))","v":""},{"$f":"IF($G506=\"\",\"\",VLOOKUP($G506,Lists!$BM$2:$BR$478,COLUMN(),FALSE))","v":""},{"$f":"IF($G506=\"\",\"\",VLOOKUP($G506,Lists!$BM$2:$BR$478,COLUMN(),FALSE))","v":""},{"$f":"IF($G506=\"\",\"\",VLOOKUP($G506,Lists!$BM$2:$BR$478,COLUMN(),FALSE))","v":""}]
[null,{"$f":"IF($G507=\"\",\"\",VLOOKUP($G507,Lists!$BM$2:$BR$478,COLUMN(),FALSE))","v":""},{"$f":"IF($G507=\"\",\"\",VLOOKUP($G507,Lists!$BM$2:$BR$478,COLUMN(),FALSE))","v":""},{"$f":"IF($G507=\"\",\"\",VLOOKUP($G507,Lists!$BM$2:$BR$478,COLUMN(),FALSE))","v":""},{"$f":"IF($G507=\"\",\"\",VLOOKUP($G507,Lists!$BM$2:$BR$478,COLUMN(),FALSE))","v":""},{"$f":"IF($G507=\"\",\"\",VLOOKUP($G507,Lists!$BM$2:$BR$478,COLUMN(),FALSE))","v":""}]
[null,{"$f":"IF($G508=\"\",\"\",VLOOKUP($G508,Lists!$BM$2:$BR$478,COLUMN(),FALSE))","v":""},{"$f":"IF($G508=\"\",\"\",VLOOKUP($G508,Lists!$BM$2:$BR$478,COLUMN(),FALSE))","v":""},{"$f":"IF($G508=\"\",\"\",VLOOKUP($G508,Lists!$BM$2:$BR$478,COLUMN(),FALSE))","v":""},{"$f":"IF($G508=\"\",\"\",VLOOKUP($G508,Lists!$BM$2:$BR$478,COLUMN(),FALSE))","v":""},{"$f":"IF($G508=\"\",\"\",VLOOKUP($G508,Lists!$BM$2:$BR$478,COLUMN(),FALSE))","v":""}]
[null,{"$f":"IF($G509=\"\",\"\",VLOOKUP($G509,Lists!$BM$2:$BR$478,COLUMN(),FALSE))","v":""},{"$f":"IF($G509=\"\",\"\",VLOOKUP($G509,Lists!$BM$2:$BR$478,COLUMN(),FALSE))","v":""},{"$f":"IF($G509=\"\",\"\",VLOOKUP($G509,Lists!$BM$2:$BR$478,COLUMN(),FALSE))","v":""},{"$f":"IF($G509=\"\",\"\",VLOOKUP($G509,Lists!$BM$2:$BR$478,COLUMN(),FALSE))","v":""},{"$f":"IF($G509=\"\",\"\",VLOOKUP($G509,Lists!$BM$2:$BR$478,COLUMN(),FALSE))","v":""}]
[null,{"$f":"IF($G510=\"\",\"\",VLOOKUP($G510,Lists!$BM$2:$BR$478,COLUMN(),FALSE))","v":""},{"$f":"IF($G510=\"\",\"\",VLOOKUP($G510,Lists!$BM$2:$BR$478,COLUMN(),FALSE))","v":""},{"$f":"IF($G510=\"\",\"\",VLOOKUP($G510,Lists!$BM$2:$BR$478,COLUMN(),FALSE))","v":""},{"$f":"IF($G510=\"\",\"\",VLOOKUP($G510,Lists!$BM$2:$BR$478,COLUMN(),FALSE))","v":""},{"$f":"IF($G510=\"\",\"\",VLOOKUP($G510,Lists!$BM$2:$BR$478,COLUMN(),FALSE))","v":""}]
[null,{"$f":"IF($G511=\"\",\"\",VLOOKUP($G511,Lists!$BM$2:$BR$478,COLUMN(),FALSE))","v":""},{"$f":"IF($G511=\"\",\"\",VLOOKUP($G511,Lists!$BM$2:$BR$478,COLUMN(),FALSE))","v":""},{"$f":"IF($G511=\"\",\"\",VLOOKUP($G511,Lists!$BM$2:$BR$478,COLUMN(),FALSE))","v":""},{"$f":"IF($G511=\"\",\"\",VLOOKUP($G511,Lists!$BM$2:$BR$478,COLUMN(),FALSE))","v":""},{"$f":"IF($G511=\"\",\"\",VLOOKUP($G511,Lists!$BM$2:$BR$478,COLUMN(),FALSE))","v":""}]
[null,{"$f":"IF($G512=\"\",\"\",VLOOKUP($G512,Lists!$BM$2:$BR$478,COLUMN(),FALSE))","v":""},{"$f":"IF($G512=\"\",\"\",VLOOKUP($G512,Lists!$BM$2:$BR$478,COLUMN(),FALSE))","v":""},{"$f":"IF($G512=\"\",\"\",VLOOKUP($G512,Lists!$BM$2:$BR$478,COLUMN(),FALSE))","v":""},{"$f":"IF($G512=\"\",\"\",VLOOKUP($G512,Lists!$BM$2:$BR$478,COLUMN(),FALSE))","v":""},{"$f":"IF($G512=\"\",\"\",VLOOKUP($G512,Lists!$BM$2:$BR$478,COLUMN(),FALSE))","v":""}]
[null,{"$f":"IF($G513=\"\",\"\",VLOOKUP($G513,Lists!$BM$2:$BR$478,COLUMN(),FALSE))","v":""},{"$f":"IF($G513=\"\",\"\",VLOOKUP($G513,Lists!$BM$2:$BR$478,COLUMN(),FALSE))","v":""},{"$f":"IF($G513=\"\",\"\",VLOOKUP($G513,Lists!$BM$2:$BR$478,COLUMN(),FALSE))","v":""},{"$f":"IF($G513=\"\",\"\",VLOOKUP($G513,Lists!$BM$2:$BR$478,COLUMN(),FALSE))","v":""},{"$f":"IF($G513=\"\",\"\",VLOOKUP($G513,Lists!$BM$2:$BR$478,COLUMN(),FALSE))","v":""}]
[null,{"$f":"IF($G514=\"\",\"\",VLOOKUP($G514,Lists!$BM$2:$BR$478,COLUMN(),FALSE))","v":""},{"$f":"IF($G514=\"\",\"\",VLOOKUP($G514,Lists!$BM$2:$BR$478,COLUMN(),FALSE))","v":""},{"$f":"IF($G514=\"\",\"\",VLOOKUP($G514,Lists!$BM$2:$BR$478,COLUMN(),FALSE))","v":""},{"$f":"IF($G514=\"\",\"\",VLOOKUP($G514,Lists!$BM$2:$BR$478,COLUMN(),FALSE))","v":""},{"$f":"IF($G514=\"\",\"\",VLOOKUP($G514,Lists!$BM$2:$BR$478,COLUMN(),FALSE))","v":""}]
[null,{"$f":"IF($G515=\"\",\"\",VLOOKUP($G515,Lists!$BM$2:$BR$478,COLUMN(),FALSE))","v":""},{"$f":"IF($G515=\"\",\"\",VLOOKUP($G515,Lists!$BM$2:$BR$478,COLUMN(),FALSE))","v":""},{"$f":"IF($G515=\"\",\"\",VLOOKUP($G515,Lists!$BM$2:$BR$478,COLUMN(),FALSE))","v":""},{"$f":"IF($G515=\"\",\"\",VLOOKUP($G515,Lists!$BM$2:$BR$478,COLUMN(),FALSE))","v":""},{"$f":"IF($G515=\"\",\"\",VLOOKUP($G515,Lists!$BM$2:$BR$478,COLUMN(),FALSE))","v":""}]
[null,{"$f":"IF($G516=\"\",\"\",VLOOKUP($G516,Lists!$BM$2:$BR$478,COLUMN(),FALSE))","v":""},{"$f":"IF($G516=\"\",\"\",VLOOKUP($G516,Lists!$BM$2:$BR$478,COLUMN(),FALSE))","v":""},{"$f":"IF($G516=\"\",\"\",VLOOKUP($G516,Lists!$BM$2:$BR$478,COLUMN(),FALSE))","v":""},{"$f":"IF($G516=\"\",\"\",VLOOKUP($G516,Lists!$BM$2:$BR$478,COLUMN(),FALSE))","v":""},{"$f":"IF($G516=\"\",\"\",VLOOKUP($G516,Lists!$BM$2:$BR$478,COLUMN(),FALSE))","v":""}]
[null,{"$f":"IF($G517=\"\",\"\",VLOOKUP($G517,Lists!$BM$2:$BR$478,COLUMN(),FALSE))","v":""},{"$f":"IF($G517=\"\",\"\",VLOOKUP($G517,Lists!$BM$2:$BR$478,COLUMN(),FALSE))","v":""},{"$f":"IF($G517=\"\",\"\",VLOOKUP($G517,Lists!$BM$2:$BR$478,COLUMN(),FALSE))","v":""},{"$f":"IF($G517=\"\",\"\",VLOOKUP($G517,Lists!$BM$2:$BR$478,COLUMN(),FALSE))","v":""},{"$f":"IF($G517=\"\",\"\",VLOOKUP($G517,Lists!$BM$2:$BR$478,COLUMN(),FALSE))","v":""}]
[null,{"$f":"IF($G518=\"\",\"\",VLOOKUP($G518,Lists!$BM$2:$BR$478,COLUMN(),FALSE))","v":""},{"$f":"IF($G518=\"\",\"\",VLOOKUP($G518,Lists!$BM$2:$BR$478,COLUMN(),FALSE))","v":""},{"$f":"IF($G518=\"\",\"\",VLOOKUP($G518,Lists!$BM$2:$BR$478,COLUMN(),FALSE))","v":""},{"$f":"IF($G518=\"\",\"\",VLOOKUP($G518,Lists!$BM$2:$BR$478,COLUMN(),FALSE))","v":""},{"$f":"IF($G518=\"\",\"\",VLOOKUP($G518,Lists!$BM$2:$BR$478,COLUMN(),FALSE))","v":""}]
[null,{"$f":"IF($G519=\"\",\"\",VLOOKUP($G519,Lists!$BM$2:$BR$478,COLUMN(),FALSE))","v":""},{"$f":"IF($G519=\"\",\"\",VLOOKUP($G519,Lists!$BM$2:$BR$478,COLUMN(),FALSE))","v":""},{"$f":"IF($G519=\"\",\"\",VLOOKUP($G519,Lists!$BM$2:$BR$478,COLUMN(),FALSE))","v":""},{"$f":"IF($G519=\"\",\"\",VLOOKUP($G519,Lists!$BM$2:$BR$478,COLUMN(),FALSE))","v":""},{"$f":"IF($G519=\"\",\"\",VLOOKUP($G519,Lists!$BM$2:$BR$478,COLUMN(),FALSE))","v":""}]
[null,{"$f":"IF($G520=\"\",\"\",VLOOKUP($G520,Lists!$BM$2:$BR$478,COLUMN(),FALSE))","v":""},{"$f":"IF($G520=\"\",\"\",VLOOKUP($G520,Lists!$BM$2:$BR$478,COLUMN(),FALSE))","v":""},{"$f":"IF($G520=\"\",\"\",VLOOKUP($G520,Lists!$BM$2:$BR$478,COLUMN(),FALSE))","v":""},{"$f":"IF($G520=\"\",\"\",VLOOKUP($G520,Lists!$BM$2:$BR$478,COLUMN(),FALSE))","v":""},{"$f":"IF($G520=\"\",\"\",VLOOKUP($G520,Lists!$BM$2:$BR$478,COLUMN(),FALSE))","v":""}]
[null,{"$f":"IF($G521=\"\",\"\",VLOOKUP($G521,Lists!$BM$2:$BR$478,COLUMN(),FALSE))","v":""},{"$f":"IF($G521=\"\",\"\",VLOOKUP($G521,Lists!$BM$2:$BR$478,COLUMN(),FALSE))","v":""},{"$f":"IF($G521=\"\",\"\",VLOOKUP($G521,Lists!$BM$2:$BR$478,COLUMN(),FALSE))","v":""},{"$f":"IF($G521=\"\",\"\",VLOOKUP($G521,Lists!$BM$2:$BR$478,COLUMN(),FALSE))","v":""},{"$f":"IF($G521=\"\",\"\",VLOOKUP($G521,Lists!$BM$2:$BR$478,COLUMN(),FALSE))","v":""}]
[null,{"$f":"IF($G522=\"\",\"\",VLOOKUP($G522,Lists!$BM$2:$BR$478,COLUMN(),FALSE))","v":""},{"$f":"IF($G522=\"\",\"\",VLOOKUP($G522,Lists!$BM$2:$BR$478,COLUMN(),FALSE))","v":""},{"$f":"IF($G522=\"\",\"\",VLOOKUP($G522,Lists!$BM$2:$BR$478,COLUMN(),FALSE))","v":""},{"$f":"IF($G522=\"\",\"\",VLOOKUP($G522,Lists!$BM$2:$BR$478,COLUMN(),FALSE))","v":""},{"$f":"IF($G522=\"\",\"\",VLOOKUP($G522,Lists!$BM$2:$BR$478,COLUMN(),FALSE))","v":""}]
[null,{"$f":"IF($G523=\"\",\"\",VLOOKUP($G523,Lists!$BM$2:$BR$478,COLUMN(),FALSE))","v":""},{"$f":"IF($G523=\"\",\"\",VLOOKUP($G523,Lists!$BM$2:$BR$478,COLUMN(),FALSE))","v":""},{"$f":"IF($G523=\"\",\"\",VLOOKUP($G523,Lists!$BM$2:$BR$478,COLUMN(),FALSE))","v":""},{"$f":"IF($G523=\"\",\"\",VLOOKUP($G523,Lists!$BM$2:$BR$478,COLUMN(),FALSE))","v":""},{"$f":"IF($G523=\"\",\"\",VLOOKUP($G523,Lists!$BM$2:$BR$478,COLUMN(),FALSE))","v":""}]
[null,{"$f":"IF($G524=\"\",\"\",VLOOKUP($G524,Lists!$BM$2:$BR$478,COLUMN(),FALSE))","v":""},{"$f":"IF($G524=\"\",\"\",VLOOKUP($G524,Lists!$BM$2:$BR$478,COLUMN(),FALSE))","v":""},{"$f":"IF($G524=\"\",\"\",VLOOKUP($G524,Lists!$BM$2:$BR$478,COLUMN(),FALSE))","v":""},{"$f":"IF($G524=\"\",\"\",VLOOKUP($G524,Lists!$BM$2:$BR$478,COLUMN(),FALSE))","v":""},{"$f":"IF($G524=\"\",\"\",VLOOKUP($G524,Lists!$BM$2:$BR$478,COLUMN(),FALSE))","v":""}]

{"sheet":"NOCS_TireCordProd","index":6,"n_rows":100,"n_cols":9,"rows_kept":100,"hidden":true}
[null,"DO NOT REMOVE OR EDIT INFORMATION IN THIS SECTION\nFOR INTERNAL USE ONLY"]
[null,"Template Name",{"$f":"Welcome!B2","v":"63.6016(k) Notification of Compliance and  §63.6017(g) Semiannual Compliance Report (Spreadsheet Template)"}]
[null,"CitationID",{"$f":"Welcome!B3","v":"63.6016(k) and 63.6017(g)"}]
[null,"Template Version",{"$f":"Welcome!B4","v":"Final ICR Draft"}]
[null,"Last Updated Date",{"$f":"Welcome!B5","v":"2024-08-28"}]
[null,{"$f":"Welcome!B6","v":"OMB Control Number: 2060-0449 Form 5900-659"}]
[null,"40 CFR Part 63, Subpart XXXX National Emission Standards for Hazardous Air Pollutants: Rubber Tire Manufacturing -"]
[null,"\n"]
[]
[null,"Note: Columns B through D will be autofilled based on responses provided in the Compliance_Options worksheet."]
[null,"63.6016(k) Notification of Compliance Status - continued"]
[null,"Company Record No.\n(Autofilled)","Name of Rubber Tire Manufacturing Affected Source\n(§63.9(h))\n(Autofilled)","Rubber Tire Manufacturing Subcategory\n(Autofilled)","Company Record No., Name of Rubber Tire Manufacturing Affected Source, and Subcategory\n(§63.9(h))\n(Select from dropdown)","For each tire cord production affected source using control device, provide the operating parameter found in 63.5997(e)(1) that applies to you\n(§63.6016(h)(1))\n(Select from dropdown)","For each tire cord production affected source using control device, provide the operating parameter found in 63.5997(e)(1) that applies to you, provide operating parameter value avg over full period of the perform. test\n(§63.6016(h)(1))","For each tire cord production affected source using control device, provide the operating parameter found in 63.5997(e)(1) that applies to you, provide operating parameter range w/in which HAP emissions are reduced\n(§63.6016(h)(2))","Name of file containing the a notice of the results of the reassessment for each tire cord production affected source required to assess the predominant use for coating web substrates as required by §63.5981(b)\n(§63.6016(j)) "]
[null,"RecordId","OperationName","Subcategory","RecordSourceSubcategory","OperatingParameter","OperatingParameterAvg","OperatingParameterEmissions","AddFile"]
[null,"e.g.: 1","e.g.: Extruder1","e.g.: Tire Cord Production","e.g.: 1 Extruder1 Tire Cord Production","e.g.: Carbon bed temperature","e.g.: 1,500 degrees Fahrenheit","e.g.: 1.0-2.0","e.g.:  reassessment.pdf"]
[null,"e.g.:","e.g.:","e.g.:","e.g.:","e.g.:","e.g.:","e.g.:","e.g.:"]
[null,"e.g.:","e.g.:","e.g.:","e.g.:","e.g.:","e.g.:","e.g.:","e.g.:"]
[null,"e.g.:","e.g.:","e.g.:","e.g.:","e.g.:","e.g.:","e.g.:","e.g.:"]
[null,"e.g.:","e.g.:","e.g.:","e.g.:","e.g.:","e.g.:","e.g.:","e.g.:"]
[null,"e.g.:","e.g.:","e.g.:","e.g.:","e.g.:","e.g.:","e.g.:","e.g.:"]
[null,"e.g.:","e.g.:","e.g.:","e.g.:","e.g.:","e.g.:","e.g.:","e.g.:"]
[null,"e.g.:","e.g.:","e.g.:","e.g.:","e.g.:","e.g.:","e.g.:","e.g.:"]
[null,"e.g.:","e.g.:","e.g.:","e.g.:","e.g.:","e.g.:","e.g.:","e.g.:"]
[null,"e.g.:","e.g.:","e.g.:","e.g.:","e.g.:","e.g.:","e.g.:","e.g.:"]
[null,{"$f":"IF($E24=\"\",\"\",VLOOKUP($E24,Lists!$BU$2:$BX$478,COLUMN(),FALSE))","v":""},{"$f":"IF($E24=\"\",\"\",VLOOKUP($E24,Lists!$BU$2:$BX$478,COLUMN(),FALSE))","v":""},{"$f":"IF($E24=\"\",\"\",VLOOKUP($E24,Lists!$BU$2:$BX$478,COLUMN(),FALSE))","v":""}]
[null,{"$f":"IF($E25=\"\",\"\",VLOOKUP($E25,Lists!$BU$2:$BX$478,COLUMN(),FALSE))","v":""},{"$f":"IF($E25=\"\",\"\",VLOOKUP($E25,Lists!$BU$2:$BX$478,COLUMN(),FALSE))","v":""},{"$f":"IF($E25=\"\",\"\",VLOOKUP($E25,Lists!$BU$2:$BX$478,COLUMN(),FALSE))","v":""}]
[null,{"$f":"IF($E26=\"\",\"\",VLOOKUP($E26,Lists!$BU$2:$BX$478,COLUMN(),FALSE))","v":""},{"$f":"IF($E26=\"\",\"\",VLOOKUP($E26,Lists!$BU$2:$BX$478,COLUMN(),FALSE))","v":""},{"$f":"IF($E26=\"\",\"\",VLOOKUP($E26,Lists!$BU$2:$BX$478,COLUMN(),FALSE))","v":""}]
[null,{"$f":"IF($E27=\"\",\"\",VLOOKUP($E27,Lists!$BU$2:$BX$478,COLUMN(),FALSE))","v":""},{"$f":"IF($E27=\"\",\"\",VLOOKUP($E27,Lists!$BU$2:$BX$478,COLUMN(),FALSE))","v":""},{"$f":"IF($E27=\"\",\"\",VLOOKUP($E27,Lists!$BU$2:$BX$478,COLUMN(),FALSE))","v":""}]
[null,{"$f":"IF($E28=\"\",\"\",VLOOKUP($E28,Lists!$BU$2:$BX$478,COLUMN(),FALSE))","v":""},{"$f":"IF($E28=\"\",\"\",VLOOKUP($E28,Lists!$BU$2:$BX$478,COLUMN(),FALSE))","v":""},{"$f":"IF($E28=\"\",\"\",VLOOKUP($E28,Lists!$BU$2:$BX$478,COLUMN(),FALSE))","v":""}]
[null,{"$f":"IF($E29=\"\",\"\",VLOOKUP($E29,Lists!$BU$2:$BX$478,COLUMN(),FALSE))","v":""},{"$f":"IF($E29=\"\",\"\",VLOOKUP($E29,Lists!$BU$2:$BX$478,COLUMN(),FALSE))","v":""},{"$f":"IF($E29=\"\",\"\",VLOOKUP($E29,Lists!$BU$2:$BX$478,COLUMN(),FALSE))","v":""}]
[null,{"$f":"IF($E30=\"\",\"\",VLOOKUP($E30,Lists!$BU$2:$BX$478,COLUMN(),FALSE))","v":""},{"$f":"IF($E30=\"\",\"\",VLOOKUP($E30,Lists!$BU$2:$BX$478,COLUMN(),FALSE))","v":""},{"$f":"IF($E30=\"\",\"\",VLOOKUP($E30,Lists!$BU$2:$BX$478,COLUMN(),FALSE))","v":""}]
[null,{"$f":"IF($E31=\"\",\"\",VLOOKUP($E31,Lists!$BU$2:$BX$478,COLUMN(),FALSE))","v":""},{"$f":"IF($E31=\"\",\"\",VLOOKUP($E31,Lists!$BU$2:$BX$478,COLUMN(),FALSE))","v":""},{"$f":"IF($E31=\"\",\"\",VLOOKUP($E31,Lists!$BU$2:$BX$478,COLUMN(),FALSE))","v":""}]
[null,{"$f":"IF($E32=\"\",\"\",VLOOKUP($E32,Lists!$BU$2:$BX$478,COLUMN(),FALSE))","v":""},{"$f":"IF($E32=\"\",\"\",VLOOKUP($E32,Lists!$BU$2:$BX$478,COLUMN(),FALSE))","v":""},{"$f":"IF($E32=\"\",\"\",VLOOKUP($E32,Lists!$BU$2:$BX$478,COLUMN(),FALSE))","v":""}]
[null,{"$f":"IF($E33=\"\",\"\",VLOOKUP($E33,Lists!$BU$2:$BX$478,COLUMN(),FALSE))","v":""},{"$f":"IF($E33=\"\",\"\",VLOOKUP($E33,Lists!$BU$2:$BX$478,COLUMN(),FALSE))","v":""},{"$f":"IF($E33=\"\",\"\",VLOOKUP($E33,Lists!$BU$2:$BX$478,COLUMN(),FALSE))","v":""}]
[null,{"$f":"IF($E34=\"\",\"\",VLOOKUP($E34,Lists!$BU$2:$BX$478,COLUMN(),FALSE))","v":""},{"$f":"IF($E34=\"\",\"\",VLOOKUP($E34,Lists!$BU$2:$BX$478,COLUMN(),FALSE))","v":""},{"$f":"IF($E34=\"\",\"\",VLOOKUP($E34,Lists!$BU$2:$BX$478,COLUMN(),FALSE))","v":""}]
[null,{"$f":"IF($E35=\"\",\"\",VLOOKUP($E35,Lists!$BU$2:$BX$478,COLUMN(),FALSE))","v":""},{"$f":"IF($E35=\"\",\"\",VLOOKUP($E35,Lists!$BU$2:$BX$478,COLUMN(),FALSE))","v":""},{"$f":"IF($E35=\"\",\"\",VLOOKUP($E35,Lists!$BU$2:$BX$478,COLUMN(),FALSE))","v":""}]
[null,{"$f":"IF($E36=\"\",\"\",VLOOKUP($E36,Lists!$BU$2:$BX$478,COLUMN(),FALSE))","v":""},{"$f":"IF($E36=\"\",\"\",VLOOKUP($E36,Lists!$BU$2:$BX$478,COLUMN(),FALSE))","v":""},{"$f":"IF($E36=\"\",\"\",VLOOKUP($E36,Lists!$BU$2:$BX$478,COLUMN(),FALSE))","v":""}]
[null,{"$f":"IF($E37=\"\",\"\",VLOOKUP($E37,Lists!$BU$2:$BX$478,COLUMN(),FALSE))","v":""},{"$f":"IF($E37=\"\",\"\",VLOOKUP($E37,Lists!$BU$2:$BX$478,COLUMN(),FALSE))","v":""},{"$f":"IF($E37=\"\",\"\",VLOOKUP($E37,Lists!$BU$2:$BX$478,COLUMN(),FALSE))","v":""}]
[null,{"$f":"IF($E38=\"\",\"\",VLOOKUP($E38,Lists!$BU$2:$BX$478,COLUMN(),FALSE))","v":""},{"$f":"IF($E38=\"\",\"\",VLOOKUP($E38,Lists!$BU$2:$BX$478,COLUMN(),FALSE))","v":""},{"$f":"IF($E38=\"\",\"\",VLOOKUP($E38,Lists!$BU$2:$BX$478,COLUMN(),FALSE))","v":""}]
[null,{"$f":"IF($E39=\"\",\"\",VLOOKUP($E39,Lists!$BU$2:$BX$478,COLUMN(),FALSE))","v":""},{"$f":"IF($E39=\"\",\"\",VLOOKUP($E39,Lists!$BU$2:$BX$478,COLUMN(),FALSE))","v":""},{"$f":"IF($E39=\"\",\"\",VLOOKUP($E39,Lists!$BU$2:$BX$478,COLUMN(),FALSE))","v":""}]
[null,{"$f":"IF($E40=\"\",\"\",VLOOKUP($E40,Lists!$BU$2:$BX$478,COLUMN(),FALSE))","v":""},{"$f":"IF($E40=\"\",\"\",VLOOKUP($E40,Lists!$BU$2:$BX$478,COLUMN(),FALSE))","v":""},{"$f":"IF($E40=\"\",\"\",VLOOKUP($E40,Lists!$BU$2:$BX$478,COLUMN(),FALSE))","v":""}]
[null,{"$f":"IF($E41=\"\",\"\",VLOOKUP($E41,Lists!$BU$2:$BX$478,COLUMN(),FALSE))","v":""},{"$f":"IF($E41=\"\",\"\",VLOOKUP($E41,Lists!$BU$2:$BX$478,COLUMN(),FALSE))","v":""},{"$f":"IF($E41=\"\",\"\",VLOOKUP($E41,Lists!$BU$2:$BX$478,COLUMN(),FALSE))","v":""}]
[null,{"$f":"IF($E42=\"\",\"\",VLOOKUP($E42,Lists!$BU$2:$BX$478,COLUMN(),FALSE))","v":""},{"$f":"IF($E42=\"\",\"\",VLOOKUP($E42,Lists!$BU$2:$BX$478,COLUMN(),FALSE))","v":""},{"$f":"IF($E42=\"\",\"\",VLOOKUP($E42,Lists!$BU$2:$BX$478,COLUMN(),FALSE))","v":""}]
[null,{"$f":"IF($E43=\"\",\"\",VLOOKUP($E43,Lists!$BU$2:$BX$478,COLUMN(),FALSE))","v":""},{"$f":"IF($E43=\"\",\"\",VLOOKUP($E43,Lists!$BU$2:$BX$478,COLUMN(),FALSE))","v":""},{"$f":"IF($E43=\"\",\"\",VLOOKUP($E43,Lists!$BU$2:$BX$478,COLUMN(),FALSE))","v":""}]
[null,{"$f":"IF($E44=\"\",\"\",VLOOKUP($E44,Lists!$BU$2:$BX$478,COLUMN(),FALSE))","v":""},{"$f":"IF($E44=\"\",\"\",VLOOKUP($E44,Lists!$BU$2:$BX$478,COLUMN(),FALSE))","v":""},{"$f":"IF($E44=\"\",\"\",VLOOKUP($E44,Lists!$BU$2:$BX$478,COLUMN(),FALSE))","v":""}]
[null,{"$f":"IF($E45=\"\",\"\",VLOOKUP($E45,Lists!$BU$2:$BX$478,COLUMN(),FALSE))","v":""},{"$f":"IF($E45=\"\",\"\",VLOOKUP($E45,Lists!$BU$2:$BX$478,COLUMN(),FALSE))","v":""},{"$f":"IF($E45=\"\",\"\",VLOOKUP($E45,Lists!$BU$2:$BX$478,COLUMN(),FALSE))","v":""}]
[null,{"$f":"IF($E46=\"\",\"\",VLOOKUP($E46,Lists!$BU$2:$BX$478,COLUMN(),FALSE))","v":""},{"$f":"IF($E46=\"\",\"\",VLOOKUP($E46,Lists!$BU$2:$BX$478,COLUMN(),FALSE))","v":""},{"$f":"IF($E46=\"\",\"\",VLOOKUP($E46,Lists!$BU$2:$BX$478,COLUMN(),FALSE))","v":""}]
[null,{"$f":"IF($E47=\"\",\"\",VLOOKUP($E47,Lists!$BU$2:$BX$478,COLUMN(),FALSE))","v":""},{"$f":"IF($E47=\"\",\"\",VLOOKUP($E47,Lists!$BU$2:$BX$478,COLUMN(),FALSE))","v":""},{"$f":"IF($E47=\"\",\"\",VLOOKUP($E47,Lists!$BU$2:$BX$478,COLUMN(),FALSE))","v":""}]
[null,{"$f":"IF($E48=\"\",\"\",VLOOKUP($E48,Lists!$BU$2:$BX$478,COLUMN(),FALSE))","v":""},{"$f":"IF($E48=\"\",\"\",VLOOKUP($E48,Lists!$BU$2:$BX$478,COLUMN(),FALSE))","v":""},{"$f":"IF($E48=\"\",\"\",VLOOKUP($E48,Lists!$BU$2:$BX$478,COLUMN(),FALSE))","v":""}]
[null,{"$f":"IF($E49=\"\",\"\",VLOOKUP($E49,Lists!$BU$2:$BX$478,COLUMN(),FALSE))","v":""},{"$f":"IF($E49=\"\",\"\",VLOOKUP($E49,Lists!$BU$2:$BX$478,COLUMN(),FALSE))","v":""},{"$f":"IF($E49=\"\",\"\",VLOOKUP($E49,Lists!$BU$2:$BX$478,COLUMN(),FALSE))","v":""}]
[null,{"$f":"IF($E50=\"\",\"\",VLOOKUP($E50,Lists!$BU$2:$BX$478,COLUMN(),FALSE))","v":""},{"$f":"IF($E50=\"\",\"\",VLOOKUP($E50,Lists!$BU$2:$BX$478,COLUMN(),FALSE))","v":""},{"$f":"IF($E50=\"\",\"\",VLOOKUP($E50,Lists!$BU$2:$BX$478,COLUMN(),FALSE))","v":""}]
[null,{"$f":"IF($E51=\"\",\"\",VLOOKUP($E51,Lists!$BU$2:$BX$478,COLUMN(),FALSE))","v":""},{"$f":"IF($E51=\"\",\"\",VLOOKUP($E51,Lists!$BU$2:$BX$478,COLUMN(),FALSE))","v":""},{"$f":"IF($E51=\"\",\"\",VLOOKUP($E51,Lists!$BU$2:$BX$478,COLUMN(),FALSE))","v":""}]
[null,{"$f":"IF($E52=\"\",\"\",VLOOKUP($E52,Lists!$BU$2:$BX$478,COLUMN(),FALSE))","v":""},{"$f":"IF($E52=\"\",\"\",VLOOKUP($E52,Lists!$BU$2:$BX$478,COLUMN(),FALSE))","v":""},{"$f":"IF($E52=\"\",\"\",VLOOKUP($E52,Lists!$BU$2:$BX$478,COLUMN(),FALSE))","v":""}]
[null,{"$f":"IF($E53=\"\",\"\",VLOOKUP($E53,Lists!$BU$2:$BX$478,COLUMN(),FALSE))","v":""},{"$f":"IF($E53=\"\",\"\",VLOOKUP($E53,Lists!$BU$2:$BX$478,COLUMN(),FALSE))","v":""},{"$f":"IF($E53=\"\",\"\",VLOOKUP($E53,Lists!$BU$2:$BX$478,COLUMN(),FALSE))","v":""}]
[null,{"$f":"IF($E54=\"\",\"\",VLOOKUP($E54,Lists!$BU$2:$BX$478,COLUMN(),FALSE))","v":""},{"$f":"IF($E54=\"\",\"\",VLOOKUP($E54,Lists!$BU$2:$BX$478,COLUMN(),FALSE))","v":""},{"$f":"IF($E54=\"\",\"\",VLOOKUP($E54,Lists!$BU$2:$BX$478,COLUMN(),FALSE))","v":""}]
[null,{"$f":"IF($E55=\"\",\"\",VLOOKUP($E55,Lists!$BU$2:$BX$478,COLUMN(),FALSE))","v":""},{"$f":"IF($E55=\"\",\"\",VLOOKUP($E55,Lists!$BU$2:$BX$478,COLUMN(),FALSE))","v":""},{"$f":"IF($E55=\"\",\"\",VLOOKUP($E55,Lists!$BU$2:$BX$478,COLUMN(),FALSE))","v":""}]
[null,{"$f":"IF($E56=\"\",\"\",VLOOKUP($E56,Lists!$BU$2:$BX$478,COLUMN(),FALSE))","v":""},{"$f":"IF($E56=\"\",\"\",VLOOKUP($E56,Lists!$BU$2:$BX$478,COLUMN(),FALSE))","v":""},{"$f":"IF($E56=\"\",\"\",VLOOKUP($E56,Lists!$BU$2:$BX$478,COLUMN(),FALSE))","v":""}]
[null,{"$f":"IF($E57=\"\",\"\",VLOOKUP($E57,Lists!$BU$2:$BX$478,COLUMN(),FALSE))","v":""},{"$f":"IF($E57=\"\",\"\",VLOOKUP($E57,Lists!$BU$2:$BX$478,COLUMN(),FALSE))","v":""},{"$f":"IF($E57=\"\",\"\",VLOOKUP($E57,Lists!$BU$2:$BX$478,COLUMN(),FALSE))","v":""}]
[null,{"$f":"IF($E58=\"\",\"\",VLOOKUP($E58,Lists!$BU$2:$BX$478,COLUMN(),FALSE))","v":""},{"$f":"IF($E58=\"\",\"\",VLOOKUP($E58,Lists!$BU$2:$BX$478,COLUMN(),FALSE))","v":""},{"$f":"IF($E58=\"\",\"\",VLOOKUP($E58,Lists!$BU$2:$BX$478,COLUMN(),FALSE))","v":""}]
[null,{"$f":"IF($E59=\"\",\"\",VLOOKUP($E59,Lists!$BU$2:$BX$478,COLUMN(),FALSE))","v":""},{"$f":"IF($E59=\"\",\"\",VLOOKUP($E59,Lists!$BU$2:$BX$478,COLUMN(),FALSE))","v":""},{"$f":"IF($E59=\"\",\"\",VLOOKUP($E59,Lists!$BU$2:$BX$478,COLUMN(),FALSE))","v":""}]
[null,{"$f":"IF($E60=\"\",\"\",VLOOKUP($E60,Lists!$BU$2:$BX$478,COLUMN(),FALSE))","v":""},{"$f":"IF($E60=\"\",\"\",VLOOKUP($E60,Lists!$BU$2:$BX$478,COLUMN(),FALSE))","v":""},{"$f":"IF($E60=\"\",\"\",VLOOKUP($E60,Lists!$BU$2:$BX$478,COLUMN(),FALSE))","v":""}]
[null,{"$f":"IF($E61=\"\",\"\",VLOOKUP($E61,Lists!$BU$2:$BX$478,COLUMN(),FALSE))","v":""},{"$f":"IF($E61=\"\",\"\",VLOOKUP($E61,Lists!$BU$2:$BX$478,COLUMN(),FALSE))","v":""},{"$f":"IF($E61=\"\",\"\",VLOOKUP($E61,Lists!$BU$2:$BX$478,COLUMN(),FALSE))","v":""}]
[null,{"$f":"IF($E62=\"\",\"\",VLOOKUP($E62,Lists!$BU$2:$BX$478,COLUMN(),FALSE))","v":""},{"$f":"IF($E62=\"\",\"\",VLOOKUP($E62,Lists!$BU$2:$BX$478,COLUMN(),FALSE))","v":""},{"$f":"IF($E62=\"\",\"\",VLOOKUP($E62,Lists!$BU$2:$BX$478,COLUMN(),FALSE))","v":""}]
[null,{"$f":"IF($E63=\"\",\"\",VLOOKUP($E63,Lists!$BU$2:$BX$478,COLUMN(),FALSE))","v":""},{"$f":"IF($E63=\"\",\"\",VLOOKUP($E63,Lists!$BU$2:$BX$478,COLUMN(),FALSE))","v":""},{"$f":"IF($E63=\"\",\"\",VLOOKUP($E63,Lists!$BU$2:$BX$478,COLUMN(),FALSE))","v":""}]
[null,{"$f":"IF($E64=\"\",\"\",VLOOKUP($E64,Lists!$BU$2:$BX$478,COLUMN(),FALSE))","v":""},{"$f":"IF($E64=\"\",\"\",VLOOKUP($E64,Lists!$BU$2:$BX$478,COLUMN(),FALSE))","v":""},{"$f":"IF($E64=\"\",\"\",VLOOKUP($E64,Lists!$BU$2:$BX$478,COLUMN(),FALSE))","v":""}]
[null,{"$f":"IF($E65=\"\",\"\",VLOOKUP($E65,Lists!$BU$2:$BX$478,COLUMN(),FALSE))","v":""},{"$f":"IF($E65=\"\",\"\",VLOOKUP($E65,Lists!$BU$2:$BX$478,COLUMN(),FALSE))","v":""},{"$f":"IF($E65=\"\",\"\",VLOOKUP($E65,Lists!$BU$2:$BX$478,COLUMN(),FALSE))","v":""}]
[null,{"$f":"IF($E66=\"\",\"\",VLOOKUP($E66,Lists!$BU$2:$BX$478,COLUMN(),FALSE))","v":""},{"$f":"IF($E66=\"\",\"\",VLOOKUP($E66,Lists!$BU$2:$BX$478,COLUMN(),FALSE))","v":""},{"$f":"IF($E66=\"\",\"\",VLOOKUP($E66,Lists!$BU$2:$BX$478,COLUMN(),FALSE))","v":""}]
[null,{"$f":"IF($E67=\"\",\"\",VLOOKUP($E67,Lists!$BU$2:$BX$478,COLUMN(),FALSE))","v":""},{"$f":"IF($E67=\"\",\"\",VLOOKUP($E67,Lists!$BU$2:$BX$478,COLUMN(),FALSE))","v":""},{"$f":"IF($E67=\"\",\"\",VLOOKUP($E67,Lists!$BU$2:$BX$478,COLUMN(),FALSE))","v":""}]
[null,{"$f":"IF($E68=\"\",\"\",VLOOKUP($E68,Lists!$BU$2:$BX$478,COLUMN(),FALSE))","v":""},{"$f":"IF($E68=\"\",\"\",VLOOKUP($E68,Lists!$BU$2:$BX$478,COLUMN(),FALSE))","v":""},{"$f":"IF($E68=\"\",\"\",VLOOKUP($E68,Lists!$BU$2:$BX$478,COLUMN(),FALSE))","v":""}]
[null,{"$f":"IF($E69=\"\",\"\",VLOOKUP($E69,Lists!$BU$2:$BX$478,COLUMN(),FALSE))","v":""},{"$f":"IF($E69=\"\",\"\",VLOOKUP($E69,Lists!$BU$2:$BX$478,COLUMN(),FALSE))","v":""},{"$f":"IF($E69=\"\",\"\",VLOOKUP($E69,Lists!$BU$2:$BX$478,COLUMN(),FALSE))","v":""}]
[null,{"$f":"IF($E70=\"\",\"\",VLOOKUP($E70,Lists!$BU$2:$BX$478,COLUMN(),FALSE))","v":""},{"$f":"IF($E70=\"\",\"\",VLOOKUP($E70,Lists!$BU$2:$BX$478,COLUMN(),FALSE))","v":""},{"$f":"IF($E70=\"\",\"\",VLOOKUP($E70,Lists!$BU$2:$BX$478,COLUMN(),FALSE))","v":""}]
[null,{"$f":"IF($E71=\"\",\"\",VLOOKUP($E71,Lists!$BU$2:$BX$478,COLUMN(),FALSE))","v":""},{"$f":"IF($E71=\"\",\"\",VLOOKUP($E71,Lists!$BU$2:$BX$478,COLUMN(),FALSE))","v":""},{"$f":"IF($E71=\"\",\"\",VLOOKUP($E71,Lists!$BU$2:$BX$478,COLUMN(),FALSE))","v":""}]
[null,{"$f":"IF($E72=\"\",\"\",VLOOKUP($E72,Lists!$BU$2:$BX$478,COLUMN(),FALSE))","v":""},{"$f":"IF($E72=\"\",\"\",VLOOKUP($E72,Lists!$BU$2:$BX$478,COLUMN(),FALSE))","v":""},{"$f":"IF($E72=\"\",\"\",VLOOKUP($E72,Lists!$BU$2:$BX$478,COLUMN(),FALSE))","v":""}]
[null,{"$f":"IF($E73=\"\",\"\",VLOOKUP($E73,Lists!$BU$2:$BX$478,COLUMN(),FALSE))","v":""},{"$f":"IF($E73=\"\",\"\",VLOOKUP($E73,Lists!$BU$2:$BX$478,COLUMN(),FALSE))","v":""},{"$f":"IF($E73=\"\",\"\",VLOOKUP($E73,Lists!$BU$2:$BX$478,COLUMN(),FALSE))","v":""}]
[null,{"$f":"IF($E74=\"\",\"\",VLOOKUP($E74,Lists!$BU$2:$BX$478,COLUMN(),FALSE))","v":""},{"$f":"IF($E74=\"\",\"\",VLOOKUP($E74,Lists!$BU$2:$BX$478,COLUMN(),FALSE))","v":""},{"$f":"IF($E74=\"\",\"\",VLOOKUP($E74,Lists!$BU$2:$BX$478,COLUMN(),FALSE))","v":""}]
[null,{"$f":"IF($E75=\"\",\"\",VLOOKUP($E75,Lists!$BU$2:$BX$478,COLUMN(),FALSE))","v":""},{"$f":"IF($E75=\"\",\"\",VLOOKUP($E75,Lists!$BU$2:$BX$478,COLUMN(),FALSE))","v":""},{"$f":"IF($E75=\"\",\"\",VLOOKUP($E75,Lists!$BU$2:$BX$478,COLUMN(),FALSE))","v":""}]
[null,{"$f":"IF($E76=\"\",\"\",VLOOKUP($E76,Lists!$BU$2:$BX$478,COLUMN(),FALSE))","v":""},{"$f":"IF($E76=\"\",\"\",VLOOKUP($E76,Lists!$BU$2:$BX$478,COLUMN(),FALSE))","v":""},{"$f":"IF($E76=\"\",\"\",VLOOKUP($E76,Lists!$BU$2:$BX$478,COLUMN(),FALSE))","v":""}]
[null,{"$f":"IF($E77=\"\",\"\",VLOOKUP($E77,Lists!$BU$2:$BX$478,COLUMN(),FALSE))","v":""},{"$f":"IF($E77=\"\",\"\",VLOOKUP($E77,Lists!$BU$2:$BX$478,COLUMN(),FALSE))","v":""},{"$f":"IF($E77=\"\",\"\",VLOOKUP($E77,Lists!$BU$2:$BX$478,COLUMN(),FALSE))","v":""}]
[null,{"$f":"IF($E78=\"\",\"\",VLOOKUP($E78,Lists!$BU$2:$BX$478,COLUMN(),FALSE))","v":""},{"$f":"IF($E78=\"\",\"\",VLOOKUP($E78,Lists!$BU$2:$BX$478,COLUMN(),FALSE))","v":""},{"$f":"IF($E78=\"\",\"\",VLOOKUP($E78,Lists!$BU$2:$BX$478,COLUMN(),FALSE))","v":""}]
[null,{"$f":"IF($E79=\"\",\"\",VLOOKUP($E79,Lists!$BU$2:$BX$478,COLUMN(),FALSE))","v":""},{"$f":"IF($E79=\"\",\"\",VLOOKUP($E79,Lists!$BU$2:$BX$478,COLUMN(),FALSE))","v":""},{"$f":"IF($E79=\"\",\"\",VLOOKUP($E79,Lists!$BU$2:$BX$478,COLUMN(),FALSE))","v":""}]
[null,{"$f":"IF($E80=\"\",\"\",VLOOKUP($E80,Lists!$BU$2:$BX$478,COLUMN(),FALSE))","v":""},{"$f":"IF($E80=\"\",\"\",VLOOKUP($E80,Lists!$BU$2:$BX$478,COLUMN(),FALSE))","v":""},{"$f":"IF($E80=\"\",\"\",VLOOKUP($E80,Lists!$BU$2:$BX$478,COLUMN(),FALSE))","v":""}]
[null,{"$f":"IF($E81=\"\",\"\",VLOOKUP($E81,Lists!$BU$2:$BX$478,COLUMN(),FALSE))","v":""},{"$f":"IF($E81=\"\",\"\",VLOOKUP($E81,Lists!$BU$2:$BX$478,COLUMN(),FALSE))","v":""},{"$f":"IF($E81=\"\",\"\",VLOOKUP($E81,Lists!$BU$2:$BX$478,COLUMN(),FALSE))","v":""}]
[null,{"$f":"IF($E82=\"\",\"\",VLOOKUP($E82,Lists!$BU$2:$BX$478,COLUMN(),FALSE))","v":""},{"$f":"IF($E82=\"\",\"\",VLOOKUP($E82,Lists!$BU$2:$BX$478,COLUMN(),FALSE))","v":""},{"$f":"IF($E82=\"\",\"\",VLOOKUP($E82,Lists!$BU$2:$BX$478,COLUMN(),FALSE))","v":""}]
[null,{"$f":"IF($E83=\"\",\"\",VLOOKUP($E83,Lists!$BU$2:$BX$478,COLUMN(),FALSE))","v":""},{"$f":"IF($E83=\"\",\"\",VLOOKUP($E83,Lists!$BU$2:$BX$478,COLUMN(),FALSE))","v":""},{"$f":"IF($E83=\"\",\"\",VLOOKUP($E83,Lists!$BU$2:$BX$478,COLUMN(),FALSE))","v":""}]
[null,{"$f":"IF($E84=\"\",\"\",VLOOKUP($E84,Lists!$BU$2:$BX$478,COLUMN(),FALSE))","v":""},{"$f":"IF($E84=\"\",\"\",VLOOKUP($E84,Lists!$BU$2:$BX$478,COLUMN(),FALSE))","v":""},{"$f":"IF($E84=\"\",\"\",VLOOKUP($E84,Lists!$BU$2:$BX$478,COLUMN(),FALSE))","v":""}]
[null,{"$f":"IF($E85=\"\",\"\",VLOOKUP($E85,Lists!$BU$2:$BX$478,COLUMN(),FALSE))","v":""},{"$f":"IF($E85=\"\",\"\",VLOOKUP($E85,Lists!$BU$2:$BX$478,COLUMN(),FALSE))","v":""},{"$f":"IF($E85=\"\",\"\",VLOOKUP($E85,Lists!$BU$2:$BX$478,COLUMN(),FALSE))","v":""}]
[null,{"$f":"IF($E86=\"\",\"\",VLOOKUP($E86,Lists!$BU$2:$BX$478,COLUMN(),FALSE))","v":""},{"$f":"IF($E86=\"\",\"\",VLOOKUP($E86,Lists!$BU$2:$BX$478,COLUMN(),FALSE))","v":""},{"$f":"IF($E86=\"\",\"\",VLOOKUP($E86,Lists!$BU$2:$BX$478,COLUMN(),FALSE))","v":""}]
[null,{"$f":"IF($E87=\"\",\"\",VLOOKUP($E87,Lists!$BU$2:$BX$478,COLUMN(),FALSE))","v":""},{"$f":"IF($E87=\"\",\"\",VLOOKUP($E87,Lists!$BU$2:$BX$478,COLUMN(),FALSE))","v":""},{"$f":"IF($E87=\"\",\"\",VLOOKUP($E87,Lists!$BU$2:$BX$478,COLUMN(),FALSE))","v":""}]
[null,{"$f":"IF($E88=\"\",\"\",VLOOKUP($E88,Lists!$BU$2:$BX$478,COLUMN(),FALSE))","v":""},{"$f":"IF($E88=\"\",\"\",VLOOKUP($E88,Lists!$BU$2:$BX$478,COLUMN(),FALSE))","v":""},{"$f":"IF($E88=\"\",\"\",VLOOKUP($E88,Lists!$BU$2:$BX$478,COLUMN(),FALSE))","v":""}]
[null,{"$f":"IF($E89=\"\",\"\",VLOOKUP($E89,Lists!$BU$2:$BX$478,COLUMN(),FALSE))","v":""},{"$f":"IF($E89=\"\",\"\",VLOOKUP($E89,Lists!$BU$2:$BX$478,COLUMN(),FALSE))","v":""},{"$f":"IF($E89=\"\",\"\",VLOOKUP($E89,Lists!$BU$2:$BX$478,COLUMN(),FALSE))","v":""}]
[null,{"$f":"IF($E90=\"\",\"\",VLOOKUP($E90,Lists!$BU$2:$BX$478,COLUMN(),FALSE))","v":""},{"$f":"IF($E90=\"\",\"\",VLOOKUP($E90,Lists!$BU$2:$BX$478,COLUMN(),FALSE))","v":""},{"$f":"IF($E90=\"\",\"\",VLOOKUP($E90,Lists!$BU$2:$BX$478,COLUMN(),FALSE))","v":""}]
[null,{"$f":"IF($E91=\"\",\"\",VLOOKUP($E91,Lists!$BU$2:$BX$478,COLUMN(),FALSE))","v":""},{"$f":"IF($E91=\"\",\"\",VLOOKUP($E91,Lists!$BU$2:$BX$478,COLUMN(),FALSE))","v":""},{"$f":"IF($E91=\"\",\"\",VLOOKUP($E91,Lists!$BU$2:$BX$478,COLUMN(),FALSE))","v":""}]
[null,{"$f":"IF($E92=\"\",\"\",VLOOKUP($E92,Lists!$BU$2:$BX$478,COLUMN(),FALSE))","v":""},{"$f":"IF($E92=\"\",\"\",VLOOKUP($E92,Lists!$BU$2:$BX$478,COLUMN(),FALSE))","v":""},{"$f":"IF($E92=\"\",\"\",VLOOKUP($E92,Lists!$BU$2:$BX$478,COLUMN(),FALSE))","v":""}]
[null,{"$f":"IF($E93=\"\",\"\",VLOOKUP($E93,Lists!$BU$2:$BX$478,COLUMN(),FALSE))","v":""},{"$f":"IF($E93=\"\",\"\",VLOOKUP($E93,Lists!$BU$2:$BX$478,COLUMN(),FALSE))","v":""},{"$f":"IF($E93=\"\",\"\",VLOOKUP($E93,Lists!$BU$2:$BX$478,COLUMN(),FALSE))","v":""}]
[null,{"$f":"IF($E94=\"\",\"\",VLOOKUP($E94,Lists!$BU$2:$BX$478,COLUMN(),FALSE))","v":""},{"$f":"IF($E94=\"\",\"\",VLOOKUP($E94,Lists!$BU$2:$BX$478,COLUMN(),FALSE))","v":""},{"$f":"IF($E94=\"\",\"\",VLOOKUP($E94,Lists!$BU$2:$BX$478,COLUMN(),FALSE))","v":""}]
[null,{"$f":"IF($E95=\"\",\"\",VLOOKUP($E95,Lists!$BU$2:$BX$478,COLUMN(),FALSE))","v":""},{"$f":"IF($E95=\"\",\"\",VLOOKUP($E95,Lists!$BU$2:$BX$478,COLUMN(),FALSE))","v":""},{"$f":"IF($E95=\"\",\"\",VLOOKUP($E95,Lists!$BU$2:$BX$478,COLUMN(),FALSE))","v":""}]
[null,{"$f":"IF($E96=\"\",\"\",VLOOKUP($E96,Lists!$BU$2:$BX$478,COLUMN(),FALSE))","v":""},{"$f":"IF($E96=\"\",\"\",VLOOKUP($E96,Lists!$BU$2:$BX$478,COLUMN(),FALSE))","v":""},{"$f":"IF($E96=\"\",\"\",VLOOKUP($E96,Lists!$BU$2:$BX$478,COLUMN(),FALSE))","v":""}]
[null,{"$f":"IF($E97=\"\",\"\",VLOOKUP($E97,Lists!$BU$2:$BX$478,COLUMN(),FALSE))","v":""},{"$f":"IF($E97=\"\",\"\",VLOOKUP($E97,Lists!$BU$2:$BX$478,COLUMN(),FALSE))","v":""},{"$f":"IF($E97=\"\",\"\",VLOOKUP($E97,Lists!$BU$2:$BX$478,COLUMN(),FALSE))","v":""}]
[null,{"$f":"IF($E98=\"\",\"\",VLOOKUP($E98,Lists!$BU$2:$BX$478,COLUMN(),FALSE))","v":""},{"$f":"IF($E98=\"\",\"\",VLOOKUP($E98,Lists!$BU$2:$BX$478,COLUMN(),FALSE))","v":""},{"$f":"IF($E98=\"\",\"\",VLOOKUP($E98,Lists!$BU$2:$BX$478,COLUMN(),FALSE))","v":""}]
[null,{"$f":"IF($E99=\"\",\"\",VLOOKUP($E99,Lists!$BU$2:$BX$478,COLUMN(),FALSE))","v":""},{"$f":"IF($E99=\"\",\"\",VLOOKUP($E99,Lists!$BU$2:$BX$478,COLUMN(),FALSE))","v":""},{"$f":"IF($E99=\"\",\"\",VLOOKUP($E99,Lists!$BU$2:$BX$478,COLUMN(),FALSE))","v":""}]
[null,{"$f":"IF($E100=\"\",\"\",VLOOKUP($E100,Lists!$BU$2:$BX$478,COLUMN(),FALSE))","v":""},{"$f":"IF($E100=\"\",\"\",VLOOKUP($E100,Lists!$BU$2:$BX$478,COLUMN(),FALSE))","v":""},{"$f":"IF($E100=\"\",\"\",VLOOKUP($E100,Lists!$BU$2:$BX$478,COLUMN(),FALSE))","v":""}]

{"sheet":"NOCS_PunctureSealantApp","index":7,"n_rows":100,"n_cols":8,"rows_kept":100,"hidden":true}
[null,"DO NOT REMOVE OR EDIT INFORMATION IN THIS SECTION\nFOR INTERNAL USE ONLY"]
[null,"Template Name",{"$f":"Welcome!B2","v":"63.6016(k) Notification of Compliance and  §63.6017(g) Semiannual Compliance Report (Spreadsheet Template)"}]
[null,"CitationID",{"$f":"Welcome!B3","v":"63.6016(k) and 63.6017(g)"}]
[null,"Template Version",{"$f":"Welcome!B4","v":"Final ICR Draft"}]
[null,"Last Updated Date",{"$f":"Welcome!B5","v":"2024-08-28"}]
[null,{"$f":"Welcome!B6","v":"OMB Control Number: 2060-0449 Form 5900-659"}]
[null,"40 CFR Part 63, Subpart XXXX National Emission Standards for Hazardous Air Pollutants: Rubber Tire Manufacturing -"]
[null,"\n"]
[]
[null,"Note: Columns B through D will be autofilled based on responses provided in the Compliance_Options worksheet."]
[null,"63.6016(k) Notification of Compliance Status - continued"]
[null,"Company Record No.\n(Autofilled)","Name of Rubber Tire Manufacturing Affected Source\n(§63.9(h))\n(Autofilled)","Rubber Tire Manufacturing Subcategory\n(Autofilled)","Company Record No., Name of Rubber Tire Manufacturing Affected Source, and Subcategory\n(§63.9(h))\n(Select from dropdown)","For each punct. sealant affected source using control device, provide the operating param. found in §63.6000(b)(3) that applies to you\n(§63.6016(h)(1))\n(Select from dropdown)","For each punct. sealant app. affect. source using a control device, for each operating limit in §63.6000(b)(3), provide operating limit or oper. param. value avg over full period of the perform. test\n(§63.6016(i)(1))","For each punct. sealant app. affect. source, the operating lmt or operating param. range w/in which HAP emissions are reduc. to the levels correspond. to meet the appl. emission lmts in Table 3 to this subpart\n(§63.6016(i)(2))"]
[null,"RecordId","OperationName","Subcategory","RecordSourceSubcategory","OperatingParameter","OperatingParameterAvg","OperatingParameterEmissions"]
[null,"e.g.: 1","e.g.: extruder 1","e.g.: Puncture Sealant Application","e.g.: 1 extruder 1 Puncture Sealant Application","Firebox secondary chamber temperature","1,500 degrees Fahrenheit","e.g.: 1.0-2.0"]
[null,"e.g.:","e.g.:","e.g.:","e.g.:","e.g.:","e.g.:","e.g.:"]
[null,"e.g.:","e.g.:","e.g.:","e.g.:","e.g.:","e.g.:","e.g.:"]
[null,"e.g.:","e.g.:","e.g.:","e.g.:","e.g.:","e.g.:","e.g.:"]
[null,"e.g.:","e.g.:","e.g.:","e.g.:","e.g.:","e.g.:","e.g.:"]
[null,"e.g.:","e.g.:","e.g.:","e.g.:","e.g.:","e.g.:","e.g.:"]
[null,"e.g.:","e.g.:","e.g.:","e.g.:","e.g.:","e.g.:","e.g.:"]
[null,"e.g.:","e.g.:","e.g.:","e.g.:","e.g.:","e.g.:","e.g.:"]
[null,"e.g.:","e.g.:","e.g.:","e.g.:","e.g.:","e.g.:","e.g.:"]
[null,"e.g.:","e.g.:","e.g.:","e.g.:","e.g.:","e.g.:","e.g.:"]
[null,{"$f":"IF($E24=\"\",\"\",VLOOKUP($E24,Lists!$CC$2:$CF$478,COLUMN(),FALSE))","v":""},{"$f":"IF($E24=\"\",\"\",VLOOKUP($E24,Lists!$CC$2:$CF$478,COLUMN(),FALSE))","v":""},{"$f":"IF($E24=\"\",\"\",VLOOKUP($E24,Lists!$CC$2:$CF$478,COLUMN(),FALSE))","v":""}]
[null,{"$f":"IF($E25=\"\",\"\",VLOOKUP($E25,Lists!$CC$2:$CF$478,COLUMN(),FALSE))","v":""},{"$f":"IF($E25=\"\",\"\",VLOOKUP($E25,Lists!$CC$2:$CF$478,COLUMN(),FALSE))","v":""},{"$f":"IF($E25=\"\",\"\",VLOOKUP($E25,Lists!$CC$2:$CF$478,COLUMN(),FALSE))","v":""}]
[null,{"$f":"IF($E26=\"\",\"\",VLOOKUP($E26,Lists!$CC$2:$CF$478,COLUMN(),FALSE))","v":""},{"$f":"IF($E26=\"\",\"\",VLOOKUP($E26,Lists!$CC$2:$CF$478,COLUMN(),FALSE))","v":""},{"$f":"IF($E26=\"\",\"\",VLOOKUP($E26,Lists!$CC$2:$CF$478,COLUMN(),FALSE))","v":""}]
[null,{"$f":"IF($E27=\"\",\"\",VLOOKUP($E27,Lists!$CC$2:$CF$478,COLUMN(),FALSE))","v":""},{"$f":"IF($E27=\"\",\"\",VLOOKUP($E27,Lists!$CC$2:$CF$478,COLUMN(),FALSE))","v":""},{"$f":"IF($E27=\"\",\"\",VLOOKUP($E27,Lists!$CC$2:$CF$478,COLUMN(),FALSE))","v":""}]
[null,{"$f":"IF($E28=\"\",\"\",VLOOKUP($E28,Lists!$CC$2:$CF$478,COLUMN(),FALSE))","v":""},{"$f":"IF($E28=\"\",\"\",VLOOKUP($E28,Lists!$CC$2:$CF$478,COLUMN(),FALSE))","v":""},{"$f":"IF($E28=\"\",\"\",VLOOKUP($E28,Lists!$CC$2:$CF$478,COLUMN(),FALSE))","v":""}]
[null,{"$f":"IF($E29=\"\",\"\",VLOOKUP($E29,Lists!$CC$2:$CF$478,COLUMN(),FALSE))","v":""},{"$f":"IF($E29=\"\",\"\",VLOOKUP($E29,Lists!$CC$2:$CF$478,COLUMN(),FALSE))","v":""},{"$f":"IF($E29=\"\",\"\",VLOOKUP($E29,Lists!$CC$2:$CF$478,COLUMN(),FALSE))","v":""}]
[null,{"$f":"IF($E30=\"\",\"\",VLOOKUP($E30,Lists!$CC$2:$CF$478,COLUMN(),FALSE))","v":""},{"$f":"IF($E30=\"\",\"\",VLOOKUP($E30,Lists!$CC$2:$CF$478,COLUMN(),FALSE))","v":""},{"$f":"IF($E30=\"\",\"\",VLOOKUP($E30,Lists!$CC$2:$CF$478,COLUMN(),FALSE))","v":""}]
[null,{"$f":"IF($E31=\"\",\"\",VLOOKUP($E31,Lists!$CC$2:$CF$478,COLUMN(),FALSE))","v":""},{"$f":"IF($E31=\"\",\"\",VLOOKUP($E31,Lists!$CC$2:$CF$478,COLUMN(),FALSE))","v":""},{"$f":"IF($E31=\"\",\"\",VLOOKUP($E31,Lists!$CC$2:$CF$478,COLUMN(),FALSE))","v":""}]
[null,{"$f":"IF($E32=\"\",\"\",VLOOKUP($E32,Lists!$CC$2:$CF$478,COLUMN(),FALSE))","v":""},{"$f":"IF($E32=\"\",\"\",VLOOKUP($E32,Lists!$CC$2:$CF$478,COLUMN(),FALSE))","v":""},{"$f":"IF($E32=\"\",\"\",VLOOKUP($E32,Lists!$CC$2:$CF$478,COLUMN(),FALSE))","v":""}]
[null,{"$f":"IF($E33=\"\",\"\",VLOOKUP($E33,Lists!$CC$2:$CF$478,COLUMN(),FALSE))","v":""},{"$f":"IF($E33=\"\",\"\",VLOOKUP($E33,Lists!$CC$2:$CF$478,COLUMN(),FALSE))","v":""},{"$f":"IF($E33=\"\",\"\",VLOOKUP($E33,Lists!$CC$2:$CF$478,COLUMN(),FALSE))","v":""}]
[null,{"$f":"IF($E34=\"\",\"\",VLOOKUP($E34,Lists!$CC$2:$CF$478,COLUMN(),FALSE))","v":""},{"$f":"IF($E34=\"\",\"\",VLOOKUP($E34,Lists!$CC$2:$CF$478,COLUMN(),FALSE))","v":""},{"$f":"IF($E34=\"\",\"\",VLOOKUP($E34,Lists!$CC$2:$CF$478,COLUMN(),FALSE))","v":""}]
[null,{"$f":"IF($E35=\"\",\"\",VLOOKUP($E35,Lists!$CC$2:$CF$478,COLUMN(),FALSE))","v":""},{"$f":"IF($E35=\"\",\"\",VLOOKUP($E35,Lists!$CC$2:$CF$478,COLUMN(),FALSE))","v":""},{"$f":"IF($E35=\"\",\"\",VLOOKUP($E35,Lists!$CC$2:$CF$478,COLUMN(),FALSE))","v":""}]
[null,{"$f":"IF($E36=\"\",\"\",VLOOKUP($E36,Lists!$CC$2:$CF$478,COLUMN(),FALSE))","v":""},{"$f":"IF($E36=\"\",\"\",VLOOKUP($E36,Lists!$CC$2:$CF$478,COLUMN(),FALSE))","v":""},{"$f":"IF($E36=\"\",\"\",VLOOKUP($E36,Lists!$CC$2:$CF$478,COLUMN(),FALSE))","v":""}]
[null,{"$f":"IF($E37=\"\",\"\",VLOOKUP($E37,Lists!$CC$2:$CF$478,COLUMN(),FALSE))","v":""},{"$f":"IF($E37=\"\",\"\",VLOOKUP($E37,Lists!$CC$2:$CF$478,COLUMN(),FALSE))","v":""},{"$f":"IF($E37=\"\",\"\",VLOOKUP($E37,Lists!$CC$2:$CF$478,COLUMN(),FALSE))","v":""}]
[null,{"$f":"IF($E38=\"\",\"\",VLOOKUP($E38,Lists!$CC$2:$CF$478,COLUMN(),FALSE))","v":""},{"$f":"IF($E38=\"\",\"\",VLOOKUP($E38,Lists!$CC$2:$CF$478,COLUMN(),FALSE))","v":""},{"$f":"IF($E38=\"\",\"\",VLOOKUP($E38,Lists!$CC$2:$CF$478,COLUMN(),FALSE))","v":""}]
[null,{"$f":"IF($E39=\"\",\"\",VLOOKUP($E39,Lists!$CC$2:$CF$478,COLUMN(),FALSE))","v":""},{"$f":"IF($E39=\"\",\"\",VLOOKUP($E39,Lists!$CC$2:$CF$478,COLUMN(),FALSE))","v":""},{"$f":"IF($E39=\"\",\"\",VLOOKUP($E39,Lists!$CC$2:$CF$478,COLUMN(),FALSE))","v":""}]
[null,{"$f":"IF($E40=\"\",\"\",VLOOKUP($E40,Lists!$CC$2:$CF$478,COLUMN(),FALSE))","v":""},{"$f":"IF($E40=\"\",\"\",VLOOKUP($E40,Lists!$CC$2:$CF$478,COLUMN(),FALSE))","v":""},{"$f":"IF($E40=\"\",\"\",VLOOKUP($E40,Lists!$CC$2:$CF$478,COLUMN(),FALSE))","v":""}]
[null,{"$f":"IF($E41=\"\",\"\",VLOOKUP($E41,Lists!$CC$2:$CF$478,COLUMN(),FALSE))","v":""},{"$f":"IF($E41=\"\",\"\",VLOOKUP($E41,Lists!$CC$2:$CF$478,COLUMN(),FALSE))","v":""},{"$f":"IF($E41=\"\",\"\",VLOOKUP($E41,Lists!$CC$2:$CF$478,COLUMN(),FALSE))","v":""}]
[null,{"$f":"IF($E42=\"\",\"\",VLOOKUP($E42,Lists!$CC$2:$CF$478,COLUMN(),FALSE))","v":""},{"$f":"IF($E42=\"\",\"\",VLOOKUP($E42,Lists!$CC$2:$CF$478,COLUMN(),FALSE))","v":""},{"$f":"IF($E42=\"\",\"\",VLOOKUP($E42,Lists!$CC$2:$CF$478,COLUMN(),FALSE))","v":""}]
[null,{"$f":"IF($E43=\"\",\"\",VLOOKUP($E43,Lists!$CC$2:$CF$478,COLUMN(),FALSE))","v":""},{"$f":"IF($E43=\"\",\"\",VLOOKUP($E43,Lists!$CC$2:$CF$478,COLUMN(),FALSE))","v":""},{"$f":"IF($E43=\"\",\"\",VLOOKUP($E43,Lists!$CC$2:$CF$478,COLUMN(),FALSE))","v":""}]
[null,{"$f":"IF($E44=\"\",\"\",VLOOKUP($E44,Lists!$CC$2:$CF$478,COLUMN(),FALSE))","v":""},{"$f":"IF($E44=\"\",\"\",VLOOKUP($E44,Lists!$CC$2:$CF$478,COLUMN(),FALSE))","v":""},{"$f":"IF($E44=\"\",\"\",VLOOKUP($E44,Lists!$CC$2:$CF$478,COLUMN(),FALSE))","v":""}]
[null,{"$f":"IF($E45=\"\",\"\",VLOOKUP($E45,Lists!$CC$2:$CF$478,COLUMN(),FALSE))","v":""},{"$f":"IF($E45=\"\",\"\",VLOOKUP($E45,Lists!$CC$2:$CF$478,COLUMN(),FALSE))","v":""},{"$f":"IF($E45=\"\",\"\",VLOOKUP($E45,Lists!$CC$2:$CF$478,COLUMN(),FALSE))","v":""}]
[null,{"$f":"IF($E46=\"\",\"\",VLOOKUP($E46,Lists!$CC$2:$CF$478,COLUMN(),FALSE))","v":""},{"$f":"IF($E46=\"\",\"\",VLOOKUP($E46,Lists!$CC$2:$CF$478,COLUMN(),FALSE))","v":""},{"$f":"IF($E46=\"\",\"\",VLOOKUP($E46,Lists!$CC$2:$CF$478,COLUMN(),FALSE))","v":""}]
[null,{"$f":"IF($E47=\"\",\"\",VLOOKUP($E47,Lists!$CC$2:$CF$478,COLUMN(),FALSE))","v":""},{"$f":"IF($E47=\"\",\"\",VLOOKUP($E47,Lists!$CC$2:$CF$478,COLUMN(),FALSE))","v":""},{"$f":"IF($E47=\"\",\"\",VLOOKUP($E47,Lists!$CC$2:$CF$478,COLUMN(),FALSE))","v":""}]
[null,{"$f":"IF($E48=\"\",\"\",VLOOKUP($E48,Lists!$CC$2:$CF$478,COLUMN(),FALSE))","v":""},{"$f":"IF($E48=\"\",\"\",VLOOKUP($E48,Lists!$CC$2:$CF$478,COLUMN(),FALSE))","v":""},{"$f":"IF($E48=\"\",\"\",VLOOKUP($E48,Lists!$CC$2:$CF$478,COLUMN(),FALSE))","v":""}]
[null,{"$f":"IF($E49=\"\",\"\",VLOOKUP($E49,Lists!$CC$2:$CF$478,COLUMN(),FALSE))","v":""},{"$f":"IF($E49=\"\",\"\",VLOOKUP($E49,Lists!$CC$2:$CF$478,COLUMN(),FALSE))","v":""},{"$f":"IF($E49=\"\",\"\",VLOOKUP($E49,Lists!$CC$2:$CF$478,COLUMN(),FALSE))","v":""}]
[null,{"$f":"IF($E50=\"\",\"\",VLOOKUP($E50,Lists!$CC$2:$CF$478,COLUMN(),FALSE))","v":""},{"$f":"IF($E50=\"\",\"\",VLOOKUP($E50,Lists!$CC$2:$CF$478,COLUMN(),FALSE))","v":""},{"$f":"IF($E50=\"\",\"\",VLOOKUP($E50,Lists!$CC$2:$CF$478,COLUMN(),FALSE))","v":""}]
[null,{"$f":"IF($E51=\"\",\"\",VLOOKUP($E51,Lists!$CC$2:$CF$478,COLUMN(),FALSE))","v":""},{"$f":"IF($E51=\"\",\"\",VLOOKUP($E51,Lists!$CC$2:$CF$478,COLUMN(),FALSE))","v":""},{"$f":"IF($E51=\"\",\"\",VLOOKUP($E51,Lists!$CC$2:$CF$478,COLUMN(),FALSE))","v":""}]
[null,{"$f":"IF($E52=\"\",\"\",VLOOKUP($E52,Lists!$CC$2:$CF$478,COLUMN(),FALSE))","v":""},{"$f":"IF($E52=\"\",\"\",VLOOKUP($E52,Lists!$CC$2:$CF$478,COLUMN(),FALSE))","v":""},{"$f":"IF($E52=\"\",\"\",VLOOKUP($E52,Lists!$CC$2:$CF$478,COLUMN(),FALSE))","v":""}]
[null,{"$f":"IF($E53=\"\",\"\",VLOOKUP($E53,Lists!$CC$2:$CF$478,COLUMN(),FALSE))","v":""},{"$f":"IF($E53=\"\",\"\",VLOOKUP($E53,Lists!$CC$2:$CF$478,COLUMN(),FALSE))","v":""},{"$f":"IF($E53=\"\",\"\",VLOOKUP($E53,Lists!$CC$2:$CF$478,COLUMN(),FALSE))","v":""}]
[null,{"$f":"IF($E54=\"\",\"\",VLOOKUP($E54,Lists!$CC$2:$CF$478,COLUMN(),FALSE))","v":""},{"$f":"IF($E54=\"\",\"\",VLOOKUP($E54,Lists!$CC$2:$CF$478,COLUMN(),FALSE))","v":""},{"$f":"IF($E54=\"\",\"\",VLOOKUP($E54,Lists!$CC$2:$CF$478,COLUMN(),FALSE))","v":""}]
[null,{"$f":"IF($E55=\"\",\"\",VLOOKUP($E55,Lists!$CC$2:$CF$478,COLUMN(),FALSE))","v":""},{"$f":"IF($E55=\"\",\"\",VLOOKUP($E55,Lists!$CC$2:$CF$478,COLUMN(),FALSE))","v":""},{"$f":"IF($E55=\"\",\"\",VLOOKUP($E55,Lists!$CC$2:$CF$478,COLUMN(),FALSE))","v":""}]
[null,{"$f":"IF($E56=\"\",\"\",VLOOKUP($E56,Lists!$CC$2:$CF$478,COLUMN(),FALSE))","v":""},{"$f":"IF($E56=\"\",\"\",VLOOKUP($E56,Lists!$CC$2:$CF$478,COLUMN(),FALSE))","v":""},{"$f":"IF($E56=\"\",\"\",VLOOKUP($E56,Lists!$CC$2:$CF$478,COLUMN(),FALSE))","v":""}]
[null,{"$f":"IF($E57=\"\",\"\",VLOOKUP($E57,Lists!$CC$2:$CF$478,COLUMN(),FALSE))","v":""},{"$f":"IF($E57=\"\",\"\",VLOOKUP($E57,Lists!$CC$2:$CF$478,COLUMN(),FALSE))","v":""},{"$f":"IF($E57=\"\",\"\",VLOOKUP($E57,Lists!$CC$2:$CF$478,COLUMN(),FALSE))","v":""}]
[null,{"$f":"IF($E58=\"\",\"\",VLOOKUP($E58,Lists!$CC$2:$CF$478,COLUMN(),FALSE))","v":""},{"$f":"IF($E58=\"\",\"\",VLOOKUP($E58,Lists!$CC$2:$CF$478,COLUMN(),FALSE))","v":""},{"$f":"IF($E58=\"\",\"\",VLOOKUP($E58,Lists!$CC$2:$CF$478,COLUMN(),FALSE))","v":""}]
[null,{"$f":"IF($E59=\"\",\"\",VLOOKUP($E59,Lists!$CC$2:$CF$478,COLUMN(),FALSE))","v":""},{"$f":"IF($E59=\"\",\"\",VLOOKUP($E59,Lists!$CC$2:$CF$478,COLUMN(),FALSE))","v":""},{"$f":"IF($E59=\"\",\"\",VLOOKUP($E59,Lists!$CC$2:$CF$478,COLUMN(),FALSE))","v":""}]
[null,{"$f":"IF($E60=\"\",\"\",VLOOKUP($E60,Lists!$CC$2:$CF$478,COLUMN(),FALSE))","v":""},{"$f":"IF($E60=\"\",\"\",VLOOKUP($E60,Lists!$CC$2:$CF$478,COLUMN(),FALSE))","v":""},{"$f":"IF($E60=\"\",\"\",VLOOKUP($E60,Lists!$CC$2:$CF$478,COLUMN(),FALSE))","v":""}]
[null,{"$f":"IF($E61=\"\",\"\",VLOOKUP($E61,Lists!$CC$2:$CF$478,COLUMN(),FALSE))","v":""},{"$f":"IF($E61=\"\",\"\",VLOOKUP($E61,Lists!$CC$2:$CF$478,COLUMN(),FALSE))","v":""},{"$f":"IF($E61=\"\",\"\",VLOOKUP($E61,Lists!$CC$2:$CF$478,COLUMN(),FALSE))","v":""}]
[null,{"$f":"IF($E62=\"\",\"\",VLOOKUP($E62,Lists!$CC$2:$CF$478,COLUMN(),FALSE))","v":""},{"$f":"IF($E62=\"\",\"\",VLOOKUP($E62,Lists!$CC$2:$CF$478,COLUMN(),FALSE))","v":""},{"$f":"IF($E62=\"\",\"\",VLOOKUP($E62,Lists!$CC$2:$CF$478,COLUMN(),FALSE))","v":""}]
[null,{"$f":"IF($E63=\"\",\"\",VLOOKUP($E63,Lists!$CC$2:$CF$478,COLUMN(),FALSE))","v":""},{"$f":"IF($E63=\"\",\"\",VLOOKUP($E63,Lists!$CC$2:$CF$478,COLUMN(),FALSE))","v":""},{"$f":"IF($E63=\"\",\"\",VLOOKUP($E63,Lists!$CC$2:$CF$478,COLUMN(),FALSE))","v":""}]
[null,{"$f":"IF($E64=\"\",\"\",VLOOKUP($E64,Lists!$CC$2:$CF$478,COLUMN(),FALSE))","v":""},{"$f":"IF($E64=\"\",\"\",VLOOKUP($E64,Lists!$CC$2:$CF$478,COLUMN(),FALSE))","v":""},{"$f":"IF($E64=\"\",\"\",VLOOKUP($E64,Lists!$CC$2:$CF$478,COLUMN(),FALSE))","v":""}]
[null,{"$f":"IF($E65=\"\",\"\",VLOOKUP($E65,Lists!$CC$2:$CF$478,COLUMN(),FALSE))","v":""},{"$f":"IF($E65=\"\",\"\",VLOOKUP($E65,Lists!$CC$2:$CF$478,COLUMN(),FALSE))","v":""},{"$f":"IF($E65=\"\",\"\",VLOOKUP($E65,Lists!$CC$2:$CF$478,COLUMN(),FALSE))","v":""}]
[null,{"$f":"IF($E66=\"\",\"\",VLOOKUP($E66,Lists!$CC$2:$CF$478,COLUMN(),FALSE))","v":""},{"$f":"IF($E66=\"\",\"\",VLOOKUP($E66,Lists!$CC$2:$CF$478,COLUMN(),FALSE))","v":""},{"$f":"IF($E66=\"\",\"\",VLOOKUP($E66,Lists!$CC$2:$CF$478,COLUMN(),FALSE))","v":""}]
[null,{"$f":"IF($E67=\"\",\"\",VLOOKUP($E67,Lists!$CC$2:$CF$478,COLUMN(),FALSE))","v":""},{"$f":"IF($E67=\"\",\"\",VLOOKUP($E67,Lists!$CC$2:$CF$478,COLUMN(),FALSE))","v":""},{"$f":"IF($E67=\"\",\"\",VLOOKUP($E67,Lists!$CC$2:$CF$478,COLUMN(),FALSE))","v":""}]
[null,{"$f":"IF($E68=\"\",\"\",VLOOKUP($E68,Lists!$CC$2:$CF$478,COLUMN(),FALSE))","v":""},{"$f":"IF($E68=\"\",\"\",VLOOKUP($E68,Lists!$CC$2:$CF$478,COLUMN(),FALSE))","v":""},{"$f":"IF($E68=\"\",\"\",VLOOKUP($E68,Lists!$CC$2:$CF$478,COLUMN(),FALSE))","v":""}]
[null,{"$f":"IF($E69=\"\",\"\",VLOOKUP($E69,Lists!$CC$2:$CF$478,COLUMN(),FALSE))","v":""},{"$f":"IF($E69=\"\",\"\",VLOOKUP($E69,Lists!$CC$2:$CF$478,COLUMN(),FALSE))","v":""},{"$f":"IF($E69=\"\",\"\",VLOOKUP($E69,Lists!$CC$2:$CF$478,COLUMN(),FALSE))","v":""}]
[null,{"$f":"IF($E70=\"\",\"\",VLOOKUP($E70,Lists!$CC$2:$CF$478,COLUMN(),FALSE))","v":""},{"$f":"IF($E70=\"\",\"\",VLOOKUP($E70,Lists!$CC$2:$CF$478,COLUMN(),FALSE))","v":""},{"$f":"IF($E70=\"\",\"\",VLOOKUP($E70,Lists!$CC$2:$CF$478,COLUMN(),FALSE))","v":""}]
[null,{"$f":"IF($E71=\"\",\"\",VLOOKUP($E71,Lists!$CC$2:$CF$478,COLUMN(),FALSE))","v":""},{"$f":"IF($E71=\"\",\"\",VLOOKUP($E71,Lists!$CC$2:$CF$478,COLUMN(),FALSE))","v":""},{"$f":"IF($E71=\"\",\"\",VLOOKUP($E71,Lists!$CC$2:$CF$478,COLUMN(),FALSE))","v":""}]
[null,{"$f":"IF($E72=\"\",\"\",VLOOKUP($E72,Lists!$CC$2:$CF$478,COLUMN(),FALSE))","v":""},{"$f":"IF($E72=\"\",\"\",VLOOKUP($E72,Lists!$CC$2:$CF$478,COLUMN(),FALSE))","v":""},{"$f":"IF($E72=\"\",\"\",VLOOKUP($E72,Lists!$CC$2:$CF$478,COLUMN(),FALSE))","v":""}]
[null,{"$f":"IF($E73=\"\",\"\",VLOOKUP($E73,Lists!$CC$2:$CF$478,COLUMN(),FALSE))","v":""},{"$f":"IF($E73=\"\",\"\",VLOOKUP($E73,Lists!$CC$2:$CF$478,COLUMN(),FALSE))","v":""},{"$f":"IF($E73=\"\",\"\",VLOOKUP($E73,Lists!$CC$2:$CF$478,COLUMN(),FALSE))","v":""}]
[null,{"$f":"IF($E74=\"\",\"\",VLOOKUP($E74,Lists!$CC$2:$CF$478,COLUMN(),FALSE))","v":""},{"$f":"IF($E74=\"\",\"\",VLOOKUP($E74,Lists!$CC$2:$CF$478,COLUMN(),FALSE))","v":""},{"$f":"IF($E74=\"\",\"\",VLOOKUP($E74,Lists!$CC$2:$CF$478,COLUMN(),FALSE))","v":""}]
[null,{"$f":"IF($E75=\"\",\"\",VLOOKUP($E75,Lists!$CC$2:$CF$478,COLUMN(),FALSE))","v":""},{"$f":"IF($E75=\"\",\"\",VLOOKUP($E75,Lists!$CC$2:$CF$478,COLUMN(),FALSE))","v":""},{"$f":"IF($E75=\"\",\"\",VLOOKUP($E75,Lists!$CC$2:$CF$478,COLUMN(),FALSE))","v":""}]
[null,{"$f":"IF($E76=\"\",\"\",VLOOKUP($E76,Lists!$CC$2:$CF$478,COLUMN(),FALSE))","v":""},{"$f":"IF($E76=\"\",\"\",VLOOKUP($E76,Lists!$CC$2:$CF$478,COLUMN(),FALSE))","v":""},{"$f":"IF($E76=\"\",\"\",VLOOKUP($E76,Lists!$CC$2:$CF$478,COLUMN(),FALSE))","v":""}]
[null,{"$f":"IF($E77=\"\",\"\",VLOOKUP($E77,Lists!$CC$2:$CF$478,COLUMN(),FALSE))","v":""},{"$f":"IF($E77=\"\",\"\",VLOOKUP($E77,Lists!$CC$2:$CF$478,COLUMN(),FALSE))","v":""},{"$f":"IF($E77=\"\",\"\",VLOOKUP($E77,Lists!$CC$2:$CF$478,COLUMN(),FALSE))","v":""}]
[null,{"$f":"IF($E78=\"\",\"\",VLOOKUP($E78,Lists!$CC$2:$CF$478,COLUMN(),FALSE))","v":""},{"$f":"IF($E78=\"\",\"\",VLOOKUP($E78,Lists!$CC$2:$CF$478,COLUMN(),FALSE))","v":""},{"$f":"IF($E78=\"\",\"\",VLOOKUP($E78,Lists!$CC$2:$CF$478,COLUMN(),FALSE))","v":""}]
[null,{"$f":"IF($E79=\"\",\"\",VLOOKUP($E79,Lists!$CC$2:$CF$478,COLUMN(),FALSE))","v":""},{"$f":"IF($E79=\"\",\"\",VLOOKUP($E79,Lists!$CC$2:$CF$478,COLUMN(),FALSE))","v":""},{"$f":"IF($E79=\"\",\"\",VLOOKUP($E79,Lists!$CC$2:$CF$478,COLUMN(),FALSE))","v":""}]
[null,{"$f":"IF($E80=\"\",\"\",VLOOKUP($E80,Lists!$CC$2:$CF$478,COLUMN(),FALSE))","v":""},{"$f":"IF($E80=\"\",\"\",VLOOKUP($E80,Lists!$CC$2:$CF$478,COLUMN(),FALSE))","v":""},{"$f":"IF($E80=\"\",\"\",VLOOKUP($E80,Lists!$CC$2:$CF$478,COLUMN(),FALSE))","v":""}]
[null,{"$f":"IF($E81=\"\",\"\",VLOOKUP($E81,Lists!$CC$2:$CF$478,COLUMN(),FALSE))","v":""},{"$f":"IF($E81=\"\",\"\",VLOOKUP($E81,Lists!$CC$2:$CF$478,COLUMN(),FALSE))","v":""},{"$f":"IF($E81=\"\",\"\",VLOOKUP($E81,Lists!$CC$2:$CF$478,COLUMN(),FALSE))","v":""}]
[null,{"$f":"IF($E82=\"\",\"\",VLOOKUP($E82,Lists!$CC$2:$CF$478,COLUMN(),FALSE))","v":""},{"$f":"IF($E82=\"\",\"\",VLOOKUP($E82,Lists!$CC$2:$CF$478,COLUMN(),FALSE))","v":""},{"$f":"IF($E82=\"\",\"\",VLOOKUP($E82,Lists!$CC$2:$CF$478,COLUMN(),FALSE))","v":""}]
[null,{"$f":"IF($E83=\"\",\"\",VLOOKUP($E83,Lists!$CC$2:$CF$478,COLUMN(),FALSE))","v":""},{"$f":"IF($E83=\"\",\"\",VLOOKUP($E83,Lists!$CC$2:$CF$478,COLUMN(),FALSE))","v":""},{"$f":"IF($E83=\"\",\"\",VLOOKUP($E83,Lists!$CC$2:$CF$478,COLUMN(),FALSE))","v":""}]
[null,{"$f":"IF($E84=\"\",\"\",VLOOKUP($E84,Lists!$CC$2:$CF$478,COLUMN(),FALSE))","v":""},{"$f":"IF($E84=\"\",\"\",VLOOKUP($E84,Lists!$CC$2:$CF$478,COLUMN(),FALSE))","v":""},{"$f":"IF($E84=\"\",\"\",VLOOKUP($E84,Lists!$CC$2:$CF$478,COLUMN(),FALSE))","v":""}]
[null,{"$f":"IF($E85=\"\",\"\",VLOOKUP($E85,Lists!$CC$2:$CF$478,COLUMN(),FALSE))","v":""},{"$f":"IF($E85=\"\",\"\",VLOOKUP($E85,Lists!$CC$2:$CF$478,COLUMN(),FALSE))","v":""},{"$f":"IF($E85=\"\",\"\",VLOOKUP($E85,Lists!$CC$2:$CF$478,COLUMN(),FALSE))","v":""}]
[null,{"$f":"IF($E86=\"\",\"\",VLOOKUP($E86,Lists!$CC$2:$CF$478,COLUMN(),FALSE))","v":""},{"$f":"IF($E86=\"\",\"\",VLOOKUP($E86,Lists!$CC$2:$CF$478,COLUMN(),FALSE))","v":""},{"$f":"IF($E86=\"\",\"\",VLOOKUP($E86,Lists!$CC$2:$CF$478,COLUMN(),FALSE))","v":""}]
[null,{"$f":"IF($E87=\"\",\"\",VLOOKUP($E87,Lists!$CC$2:$CF$478,COLUMN(),FALSE))","v":""},{"$f":"IF($E87=\"\",\"\",VLOOKUP($E87,Lists!$CC$2:$CF$478,COLUMN(),FALSE))","v":""},{"$f":"IF($E87=\"\",\"\",VLOOKUP($E87,Lists!$CC$2:$CF$478,COLUMN(),FALSE))","v":""}]
[null,{"$f":"IF($E88=\"\",\"\",VLOOKUP($E88,Lists!$CC$2:$CF$478,COLUMN(),FALSE))","v":""},{"$f":"IF($E88=\"\",\"\",VLOOKUP($E88,Lists!$CC$2:$CF$478,COLUMN(),FALSE))","v":""},{"$f":"IF($E88=\"\",\"\",VLOOKUP($E88,Lists!$CC$2:$CF$478,COLUMN(),FALSE))","v":""}]
[null,{"$f":"IF($E89=\"\",\"\",VLOOKUP($E89,Lists!$CC$2:$CF$478,COLUMN(),FALSE))","v":""},{"$f":"IF($E89=\"\",\"\",VLOOKUP($E89,Lists!$CC$2:$CF$478,COLUMN(),FALSE))","v":""},{"$f":"IF($E89=\"\",\"\",VLOOKUP($E89,Lists!$CC$2:$CF$478,COLUMN(),FALSE))","v":""}]
[null,{"$f":"IF($E90=\"\",\"\",VLOOKUP($E90,Lists!$CC$2:$CF$478,COLUMN(),FALSE))","v":""},{"$f":"IF($E90=\"\",\"\",VLOOKUP($E90,Lists!$CC$2:$CF$478,COLUMN(),FALSE))","v":""},{"$f":"IF($E90=\"\",\"\",VLOOKUP($E90,Lists!$CC$2:$CF$478,COLUMN(),FALSE))","v":""}]
[null,{"$f":"IF($E91=\"\",\"\",VLOOKUP($E91,Lists!$CC$2:$CF$478,COLUMN(),FALSE))","v":""},{"$f":"IF($E91=\"\",\"\",VLOOKUP($E91,Lists!$CC$2:$CF$478,COLUMN(),FALSE))","v":""},{"$f":"IF($E91=\"\",\"\",VLOOKUP($E91,Lists!$CC$2:$CF$478,COLUMN(),FALSE))","v":""}]
[null,{"$f":"IF($E92=\"\",\"\",VLOOKUP($E92,Lists!$CC$2:$CF$478,COLUMN(),FALSE))","v":""},{"$f":"IF($E92=\"\",\"\",VLOOKUP($E92,Lists!$CC$2:$CF$478,COLUMN(),FALSE))","v":""},{"$f":"IF($E92=\"\",\"\",VLOOKUP($E92,Lists!$CC$2:$CF$478,COLUMN(),FALSE))","v":""}]
[null,{"$f":"IF($E93=\"\",\"\",VLOOKUP($E93,Lists!$CC$2:$CF$478,COLUMN(),FALSE))","v":""},{"$f":"IF($E93=\"\",\"\",VLOOKUP($E93,Lists!$CC$2:$CF$478,COLUMN(),FALSE))","v":""},{"$f":"IF($E93=\"\",\"\",VLOOKUP($E93,Lists!$CC$2:$CF$478,COLUMN(),FALSE))","v":""}]
[null,{"$f":"IF($E94=\"\",\"\",VLOOKUP($E94,Lists!$CC$2:$CF$478,COLUMN(),FALSE))","v":""},{"$f":"IF($E94=\"\",\"\",VLOOKUP($E94,Lists!$CC$2:$CF$478,COLUMN(),FALSE))","v":""},{"$f":"IF($E94=\"\",\"\",VLOOKUP($E94,Lists!$CC$2:$CF$478,COLUMN(),FALSE))","v":""}]
[null,{"$f":"IF($E95=\"\",\"\",VLOOKUP($E95,Lists!$CC$2:$CF$478,COLUMN(),FALSE))","v":""},{"$f":"IF($E95=\"\",\"\",VLOOKUP($E95,Lists!$CC$2:$CF$478,COLUMN(),FALSE))","v":""},{"$f":"IF($E95=\"\",\"\",VLOOKUP($E95,Lists!$CC$2:$CF$478,COLUMN(),FALSE))","v":""}]
[null,{"$f":"IF($E96=\"\",\"\",VLOOKUP($E96,Lists!$CC$2:$CF$478,COLUMN(),FALSE))","v":""},{"$f":"IF($E96=\"\",\"\",VLOOKUP($E96,Lists!$CC$2:$CF$478,COLUMN(),FALSE))","v":""},{"$f":"IF($E96=\"\",\"\",VLOOKUP($E96,Lists!$CC$2:$CF$478,COLUMN(),FALSE))","v":""}]
[null,{"$f":"IF($E97=\"\",\"\",VLOOKUP($E97,Lists!$CC$2:$CF$478,COLUMN(),FALSE))","v":""},{"$f":"IF($E97=\"\",\"\",VLOOKUP($E97,Lists!$CC$2:$CF$478,COLUMN(),FALSE))","v":""},{"$f":"IF($E97=\"\",\"\",VLOOKUP($E97,Lists!$CC$2:$CF$478,COLUMN(),FALSE))","v":""}]
[null,{"$f":"IF($E98=\"\",\"\",VLOOKUP($E98,Lists!$CC$2:$CF$478,COLUMN(),FALSE))","v":""},{"$f":"IF($E98=\"\",\"\",VLOOKUP($E98,Lists!$CC$2:$CF$478,COLUMN(),FALSE))","v":""},{"$f":"IF($E98=\"\",\"\",VLOOKUP($E98,Lists!$CC$2:$CF$478,COLUMN(),FALSE))","v":""}]
[null,{"$f":"IF($E99=\"\",\"\",VLOOKUP($E99,Lists!$CC$2:$CF$478,COLUMN(),FALSE))","v":""},{"$f":"IF($E99=\"\",\"\",VLOOKUP($E99,Lists!$CC$2:$CF$478,COLUMN(),FALSE))","v":""},{"$f":"IF($E99=\"\",\"\",VLOOKUP($E99,Lists!$CC$2:$CF$478,COLUMN(),FALSE))","v":""}]
[null,{"$f":"IF($E100=\"\",\"\",VLOOKUP($E100,Lists!$CC$2:$CF$478,COLUMN(),FALSE))","v":""},{"$f":"IF($E100=\"\",\"\",VLOOKUP($E100,Lists!$CC$2:$CF$478,COLUMN(),FALSE))","v":""},{"$f":"IF($E100=\"\",\"\",VLOOKUP($E100,Lists!$CC$2:$CF$478,COLUMN(),FALSE))","v":""}]

{"sheet":"NOCS_Certification","index":8,"n_rows":33,"n_cols":3,"rows_kept":33,"hidden":true}
[null,"DO NOT REMOVE OR EDIT INFORMATION IN THIS SECTION\nFOR INTERNAL USE ONLY"]
[null,"Template Name",{"$f":"Welcome!B2","v":"63.6016(k) Notification of Compliance and  §63.6017(g) Semiannual Compliance Report (Spreadsheet Template)"}]
[null,"CitationID",{"$f":"Welcome!B3","v":"63.6016(k) and 63.6017(g)"}]
[null,"Template Version",{"$f":"Welcome!B4","v":"Final ICR Draft"}]
[null,"Last Updated Date",{"$f":"Welcome!B5","v":"2024-08-28"}]
[null,{"$f":"Welcome!B6","v":"OMB Control Number: 2060-0449 Form 5900-659"}]
[null,"40 CFR Part 63, Subpart XXXX National Emission Standards for Hazardous Air Pollutants: Rubber Tire Manufacturing -"]
[null,"63.6016(k) Notification of Compliance Status - continued"]
[null,"Note: Columns B will be autofilled based on responses provided in the Company_Information worksheet."]
[null,"Complete this form when you have completed the Notification of Compliance."]
[]
[null,"Company Record No.\n(Autofilled)","As the owner or operator of the affected existing, new, or reconstructed source, we have complied with the relevant standard or other requirements.\n(§63.9(h)(2)(i)(G))\n(Select from dropdown)"]
[null,"RecordId","NOCSComplianceFlag"]
[null,"e.g.: 1","e.g.: Yes"]
[null,"e.g.:","e.g.:"]
[null,"e.g.:","e.g.:"]
[null,"e.g.:","e.g.:"]
[null,"e.g.:","e.g.:"]
[null,"e.g.:","e.g.:"]
[null,"e.g.:","e.g.:"]
[null,"e.g.:","e.g.:"]
[null,"e.g.:","e.g.:"]
[null,"e.g.:","e.g.:"]
[null,{"$f":"IF(Lists!C21=\"\",\"\",Lists!C21)","v":""}]
[null,{"$f":"IF(Lists!C22=\"\",\"\",Lists!C22)","v":""}]
[null,{"$f":"IF(Lists!C23=\"\",\"\",Lists!C23)","v":""}]
[null,{"$f":"IF(Lists!C24=\"\",\"\",Lists!C24)","v":""}]
[null,{"$f":"IF(Lists!C25=\"\",\"\",Lists!C25)","v":""}]
[null,{"$f":"IF(Lists!C26=\"\",\"\",Lists!C26)","v":""}]
[null,{"$f":"IF(Lists!C27=\"\",\"\",Lists!C27)","v":""}]
[null,{"$f":"IF(Lists!C28=\"\",\"\",Lists!C28)","v":""}]
[null,{"$f":"IF(Lists!C29=\"\",\"\",Lists!C29)","v":""}]
[null,{"$f":"IF(Lists!C30=\"\",\"\",Lists!C30)","v":""}]

{"sheet":"Compliance Rpt - Tire Prod","index":9,"n_rows":100,"n_cols":8,"rows_kept":100}
[null,"DO NOT REMOVE OR EDIT INFORMATION IN THIS SECTION\nFOR INTERNAL USE ONLY"]
[null,"Template Name",{"$f":"Welcome!B2","v":"63.6016(k) Notification of Compliance and  §63.6017(g) Semiannual Compliance Report (Spreadsheet Template)"}]
[null,"CitationID",{"$f":"Welcome!B3","v":"63.6016(k) and 63.6017(g)"}]
[null,"Template Version",{"$f":"Welcome!B4","v":"Final ICR Draft"}]
[null,"Last Updated Date",{"$f":"Welcome!B5","v":"2024-08-28"}]
[null,{"$f":"Welcome!B6","v":"OMB Control Number: 2060-0449 Form 5900-659"}]
[null,"40 CFR Part 63, Subpart XXXX National Emission Standards for Hazardous Air Pollutants: Rubber Tire Manufacturing -"]
[null,"\n"]
[]
[null,"Note: Columns B through D will be autofilled based on responses provided in the Compliance_Options worksheet."]
[null,"63.6017(g) Semiannual Compliance Report"]
[null,"Company Record No.\n(Autofilled)","Rubber Tire Manufacturing Affected Source or Facility as stated in §63.6017(c)(7).\n(Autofilled)","Rubber Tire Manufacturing Subcategory\n(Autofilled)","For each tire production affected source, provide the emission limit option in §63.5984 that you have chosen to meet\n(§63.6017(c)(7))\n(Autofilled)","For each tire production affected source, provide the compliance alternative in §63.5985 that you have chosen to meet\n(§63.6017(c)(7))\n(Autofilled)","For each tire production affected source complying with the purchase compliance alternative in §63.5985(a), not listed in NOCS in §63.6016(g), provide updated list of all cements and solvents used, as purchased at affected source\n(§63.6017(c)(8))","Certify that each cement or solvent, as purchased, used at the affected source during the reporting period met the HAP constituent limits (option 1) in Table 1 to this subpart.\n(§63.6017(c)(8))"]
[null,"RecordId","OperationName","Subcategory","EmissionLimitOption","ComplianceAlternative","CementsAndSolventsUsed","HAPConstituentLimits"]
[null,"e.g.: 1","e.g.: CuringPress1","e.g.: Tire Production","e.g.: HAP constituent option","e.g.: Purchase alternative","e.g.: cementX","e.g.: Yes"]
[null,"e.g.:","e.g.:","e.g.:","e.g.:","e.g.:","e.g.:","e.g.:"]
[null,"e.g.:","e.g.:","e.g.:","e.g.:","e.g.:","e.g.:","e.g.:"]
[null,"e.g.:","e.g.:","e.g.:","e.g.:","e.g.:","e.g.:","e.g.:"]
[null,"e.g.:","e.g.:","e.g.:","e.g.:","e.g.:","e.g.:","e.g.:"]
[null,"e.g.:","e.g.:","e.g.:","e.g.:","e.g.:","e.g.:","e.g.:"]
[null,"e.g.:","e.g.:","e.g.:","e.g.:","e.g.:","e.g.:","e.g.:"]
[null,"e.g.:","e.g.:","e.g.:","e.g.:","e.g.:","e.g.:","e.g.:"]
[null,"e.g.:","e.g.:","e.g.:","e.g.:","e.g.:","e.g.:","e.g.:"]
[null,"e.g.:","e.g.:","e.g.:","e.g.:","e.g.:","e.g.:","e.g.:"]
[null,{"$f":"+IF(Lists!BN2=\"\",\"\",Lists!BN2)","v":""},{"$f":"+IF(Lists!BO2=\"\",\"\",Lists!BO2)","v":""},{"$f":"+IF(Lists!BP2=\"\",\"\",Lists!BP2)","v":""},{"$f":"+IF(Lists!BQ2=\"\",\"\",Lists!BQ2)","v":""},{"$f":"+IF(Lists!BR2=\"\",\"\",Lists!BR2)","v":""}]
[null,{"$f":"+IF(Lists!BN3=\"\",\"\",Lists!BN3)","v":""},{"$f":"+IF(Lists!BO3=\"\",\"\",Lists!BO3)","v":""},{"$f":"+IF(Lists!BP3=\"\",\"\",Lists!BP3)","v":""},{"$f":"+IF(Lists!BQ3=\"\",\"\",Lists!BQ3)","v":""},{"$f":"+IF(Lists!BR3=\"\",\"\",Lists!BR3)","v":""}]
[null,{"$f":"+IF(Lists!BN4=\"\",\"\",Lists!BN4)","v":""},{"$f":"+IF(Lists!BO4=\"\",\"\",Lists!BO4)","v":""},{"$f":"+IF(Lists!BP4=\"\",\"\",Lists!BP4)","v":""},{"$f":"+IF(Lists!BQ4=\"\",\"\",Lists!BQ4)","v":""},{"$f":"+IF(Lists!BR4=\"\",\"\",Lists!BR4)","v":""}]
[null,{"$f":"+IF(Lists!BN5=\"\",\"\",Lists!BN5)","v":""},{"$f":"+IF(Lists!BO5=\"\",\"\",Lists!BO5)","v":""},{"$f":"+IF(Lists!BP5=\"\",\"\",Lists!BP5)","v":""},{"$f":"+IF(Lists!BQ5=\"\",\"\",Lists!BQ5)","v":""},{"$f":"+IF(Lists!BR5=\"\",\"\",Lists!BR5)","v":""}]
[null,{"$f":"+IF(Lists!BN6=\"\",\"\",Lists!BN6)","v":""},{"$f":"+IF(Lists!BO6=\"\",\"\",Lists!BO6)","v":""},{"$f":"+IF(Lists!BP6=\"\",\"\",Lists!BP6)","v":""},{"$f":"+IF(Lists!BQ6=\"\",\"\",Lists!BQ6)","v":""},{"$f":"+IF(Lists!BR6=\"\",\"\",Lists!BR6)","v":""}]
[null,{"$f":"+IF(Lists!BN7=\"\",\"\",Lists!BN7)","v":""},{"$f":"+IF(Lists!BO7=\"\",\"\",Lists!BO7)","v":""},{"$f":"+IF(Lists!BP7=\"\",\"\",Lists!BP7)","v":""},{"$f":"+IF(Lists!BQ7=\"\",\"\",Lists!BQ7)","v":""},{"$f":"+IF(Lists!BR7=\"\",\"\",Lists!BR7)","v":""}]
[null,{"$f":"+IF(Lists!BN8=\"\",\"\",Lists!BN8)","v":""},{"$f":"+IF(Lists!BO8=\"\",\"\",Lists!BO8)","v":""},{"$f":"+IF(Lists!BP8=\"\",\"\",Lists!BP8)","v":""},{"$f":"+IF(Lists!BQ8=\"\",\"\",Lists!BQ8)","v":""},{"$f":"+IF(Lists!BR8=\"\",\"\",Lists!BR8)","v":""}]
[null,{"$f":"+IF(Lists!BN9=\"\",\"\",Lists!BN9)","v":""},{"$f":"+IF(Lists!BO9=\"\",\"\",Lists!BO9)","v":""},{"$f":"+IF(Lists!BP9=\"\",\"\",Lists!BP9)","v":""},{"$f":"+IF(Lists!BQ9=\"\",\"\",Lists!BQ9)","v":""},{"$f":"+IF(Lists!BR9=\"\",\"\",Lists!BR9)","v":""}]
[null,{"$f":"+IF(Lists!BN10=\"\",\"\",Lists!BN10)","v":""},{"$f":"+IF(Lists!BO10=\"\",\"\",Lists!BO10)","v":""},{"$f":"+IF(Lists!BP10=\"\",\"\",Lists!BP10)","v":""},{"$f":"+IF(Lists!BQ10=\"\",\"\",Lists!BQ10)","v":""},{"$f":"+IF(Lists!BR10=\"\",\"\",Lists!BR10)","v":""}]
[null,{"$f":"+IF(Lists!BN11=\"\",\"\",Lists!BN11)","v":""},{"$f":"+IF(Lists!BO11=\"\",\"\",Lists!BO11)","v":""},{"$f":"+IF(Lists!BP11=\"\",\"\",Lists!BP11)","v":""},{"$f":"+IF(Lists!BQ11=\"\",\"\",Lists!BQ11)","v":""},{"$f":"+IF(Lists!BR11=\"\",\"\",Lists!BR11)","v":""}]
[null,{"$f":"+IF(Lists!BN12=\"\",\"\",Lists!BN12)","v":""},{"$f":"+IF(Lists!BO12=\"\",\"\",Lists!BO12)","v":""},{"$f":"+IF(Lists!BP12=\"\",\"\",Lists!BP12)","v":""},{"$f":"+IF(Lists!BQ12=\"\",\"\",Lists!BQ12)","v":""},{"$f":"+IF(Lists!BR12=\"\",\"\",Lists!BR12)","v":""}]
[null,{"$f":"+IF(Lists!BN13=\"\",\"\",Lists!BN13)","v":""},{"$f":"+IF(Lists!BO13=\"\",\"\",Lists!BO13)","v":""},{"$f":"+IF(Lists!BP13=\"\",\"\",Lists!BP13)","v":""},{"$f":"+IF(Lists!BQ13=\"\",\"\",Lists!BQ13)","v":""},{"$f":"+IF(Lists!BR13=\"\",\"\",Lists!BR13)","v":""}]
[null,{"$f":"+IF(Lists!BN14=\"\",\"\",Lists!BN14)","v":""},{"$f":"+IF(Lists!BO14=\"\",\"\",Lists!BO14)","v":""},{"$f":"+IF(Lists!BP14=\"\",\"\",Lists!BP14)","v":""},{"$f":"+IF(Lists!BQ14=\"\",\"\",Lists!BQ14)","v":""},{"$f":"+IF(Lists!BR14=\"\",\"\",Lists!BR14)","v":""}]
[null,{"$f":"+IF(Lists!BN15=\"\",\"\",Lists!BN15)","v":""},{"$f":"+IF(Lists!BO15=\"\",\"\",Lists!BO15)","v":""},{"$f":"+IF(Lists!BP15=\"\",\"\",Lists!BP15)","v":""},{"$f":"+IF(Lists!BQ15=\"\",\"\",Lists!BQ15)","v":""},{"$f":"+IF(Lists!BR15=\"\",\"\",Lists!BR15)","v":""}]
[null,{"$f":"+IF(Lists!BN16=\"\",\"\",Lists!BN16)","v":""},{"$f":"+IF(Lists!BO16=\"\",\"\",Lists!BO16)","v":""},{"$f":"+IF(Lists!BP16=\"\",\"\",Lists!BP16)","v":""},{"$f":"+IF(Lists!BQ16=\"\",\"\",Lists!BQ16)","v":""},{"$f":"+IF(Lists!BR16=\"\",\"\",Lists!BR16)","v":""}]
[null,{"$f":"+IF(Lists!BN17=\"\",\"\",Lists!BN17)","v":""},{"$f":"+IF(Lists!BO17=\"\",\"\",Lists!BO17)","v":""},{"$f":"+IF(Lists!BP17=\"\",\"\",Lists!BP17)","v":""},{"$f":"+IF(Lists!BQ17=\"\",\"\",Lists!BQ17)","v":""},{"$f":"+IF(Lists!BR17=\"\",\"\",Lists!BR17)","v":""}]
[null,{"$f":"+IF(Lists!BN18=\"\",\"\",Lists!BN18)","v":""},{"$f":"+IF(Lists!BO18=\"\",\"\",Lists!BO18)","v":""},{"$f":"+IF(Lists!BP18=\"\",\"\",Lists!BP18)","v":""},{"$f":"+IF(Lists!BQ18=\"\",\"\",Lists!BQ18)","v":""},{"$f":"+IF(Lists!BR18=\"\",\"\",Lists!BR18)","v":""}]
[null,{"$f":"+IF(Lists!BN19=\"\",\"\",Lists!BN19)","v":""},{"$f":"+IF(Lists!BO19=\"\",\"\",Lists!BO19)","v":""},{"$f":"+IF(Lists!BP19=\"\",\"\",Lists!BP19)","v":""},{"$f":"+IF(Lists!BQ19=\"\",\"\",Lists!BQ19)","v":""},{"$f":"+IF(Lists!BR19=\"\",\"\",Lists!BR19)","v":""}]
[null,{"$f":"+IF(Lists!BN20=\"\",\"\",Lists!BN20)","v":""},{"$f":"+IF(Lists!BO20=\"\",\"\",Lists!BO20)","v":""},{"$f":"+IF(Lists!BP20=\"\",\"\",Lists!BP20)","v":""},{"$f":"+IF(Lists!BQ20=\"\",\"\",Lists!BQ20)","v":""},{"$f":"+IF(Lists!BR20=\"\",\"\",Lists!BR20)","v":""}]
[null,{"$f":"+IF(Lists!BN21=\"\",\"\",Lists!BN21)","v":""},{"$f":"+IF(Lists!BO21=\"\",\"\",Lists!BO21)","v":""},{"$f":"+IF(Lists!BP21=\"\",\"\",Lists!BP21)","v":""},{"$f":"+IF(Lists!BQ21=\"\",\"\",Lists!BQ21)","v":""},{"$f":"+IF(Lists!BR21=\"\",\"\",Lists!BR21)","v":""}]
[null,{"$f":"+IF(Lists!BN22=\"\",\"\",Lists!BN22)","v":""},{"$f":"+IF(Lists!BO22=\"\",\"\",Lists!BO22)","v":""},{"$f":"+IF(Lists!BP22=\"\",\"\",Lists!BP22)","v":""},{"$f":"+IF(Lists!BQ22=\"\",\"\",Lists!BQ22)","v":""},{"$f":"+IF(Lists!BR22=\"\",\"\",Lists!BR22)","v":""}]
[null,{"$f":"+IF(Lists!BN23=\"\",\"\",Lists!BN23)","v":""},{"$f":"+IF(Lists!BO23=\"\",\"\",Lists!BO23)","v":""},{"$f":"+IF(Lists!BP23=\"\",\"\",Lists!BP23)","v":""},{"$f":"+IF(Lists!BQ23=\"\",\"\",Lists!BQ23)","v":""},{"$f":"+IF(Lists!BR23=\"\",\"\",Lists!BR23)","v":""}]
[null,{"$f":"+IF(Lists!BN24=\"\",\"\",Lists!BN24)","v":""},{"$f":"+IF(Lists!BO24=\"\",\"\",Lists!BO24)","v":""},{"$f":"+IF(Lists!BP24=\"\",\"\",Lists!BP24)","v":""},{"$f":"+IF(Lists!BQ24=\"\",\"\",Lists!BQ24)","v":""},{"$f":"+IF(Lists!BR24=\"\",\"\",Lists!BR24)","v":""}]
[null,{"$f":"+IF(Lists!BN25=\"\",\"\",Lists!BN25)","v":""},{"$f":"+IF(Lists!BO25=\"\",\"\",Lists!BO25)","v":""},{"$f":"+IF(Lists!BP25=\"\",\"\",Lists!BP25)","v":""},{"$f":"+IF(Lists!BQ25=\"\",\"\",Lists!BQ25)","v":""},{"$f":"+IF(Lists!BR25=\"\",\"\",Lists!BR25)","v":""}]
[null,{"$f":"+IF(Lists!BN26=\"\",\"\",Lists!BN26)","v":""},{"$f":"+IF(Lists!BO26=\"\",\"\",Lists!BO26)","v":""},{"$f":"+IF(Lists!BP26=\"\",\"\",Lists!BP26)","v":""},{"$f":"+IF(Lists!BQ26=\"\",\"\",Lists!BQ26)","v":""},{"$f":"+IF(Lists!BR26=\"\",\"\",Lists!BR26)","v":""}]
[null,{"$f":"+IF(Lists!BN27=\"\",\"\",Lists!BN27)","v":""},{"$f":"+IF(Lists!BO27=\"\",\"\",Lists!BO27)","v":""},{"$f":"+IF(Lists!BP27=\"\",\"\",Lists!BP27)","v":""},{"$f":"+IF(Lists!BQ27=\"\",\"\",Lists!BQ27)","v":""},{"$f":"+IF(Lists!BR27=\"\",\"\",Lists!BR27)","v":""}]
[null,{"$f":"+IF(Lists!BN28=\"\",\"\",Lists!BN28)","v":""},{"$f":"+IF(Lists!BO28=\"\",\"\",Lists!BO28)","v":""},{"$f":"+IF(Lists!BP28=\"\",\"\",Lists!BP28)","v":""},{"$f":"+IF(Lists!BQ28=\"\",\"\",Lists!BQ28)","v":""},{"$f":"+IF(Lists!BR28=\"\",\"\",Lists!BR28)","v":""}]
[null,{"$f":"+IF(Lists!BN29=\"\",\"\",Lists!BN29)","v":""},{"$f":"+IF(Lists!BO29=\"\",\"\",Lists!BO29)","v":""},{"$f":"+IF(Lists!BP29=\"\",\"\",Lists!BP29)","v":""},{"$f":"+IF(Lists!BQ29=\"\",\"\",Lists!BQ29)","v":""},{"$f":"+IF(Lists!BR29=\"\",\"\",Lists!BR29)","v":""}]
[null,{"$f":"+IF(Lists!BN30=\"\",\"\",Lists!BN30)","v":""},{"$f":"+IF(Lists!BO30=\"\",\"\",Lists!BO30)","v":""},{"$f":"+IF(Lists!BP30=\"\",\"\",Lists!BP30)","v":""},{"$f":"+IF(Lists!BQ30=\"\",\"\",Lists!BQ30)","v":""},{"$f":"+IF(Lists!BR30=\"\",\"\",Lists!BR30)","v":""}]
[null,{"$f":"+IF(Lists!BN31=\"\",\"\",Lists!BN31)","v":""},{"$f":"+IF(Lists!BO31=\"\",\"\",Lists!BO31)","v":""},{"$f":"+IF(Lists!BP31=\"\",\"\",Lists!BP31)","v":""},{"$f":"+IF(Lists!BQ31=\"\",\"\",Lists!BQ31)","v":""},{"$f":"+IF(Lists!BR31=\"\",\"\",Lists!BR31)","v":""}]
[null,{"$f":"+IF(Lists!BN32=\"\",\"\",Lists!BN32)","v":""},{"$f":"+IF(Lists!BO32=\"\",\"\",Lists!BO32)","v":""},{"$f":"+IF(Lists!BP32=\"\",\"\",Lists!BP32)","v":""},{"$f":"+IF(Lists!BQ32=\"\",\"\",Lists!BQ32)","v":""},{"$f":"+IF(Lists!BR32=\"\",\"\",Lists!BR32)","v":""}]
[null,{"$f":"+IF(Lists!BN33=\"\",\"\",Lists!BN33)","v":""},{"$f":"+IF(Lists!BO33=\"\",\"\",Lists!BO33)","v":""},{"$f":"+IF(Lists!BP33=\"\",\"\",Lists!BP33)","v":""},{"$f":"+IF(Lists!BQ33=\"\",\"\",Lists!BQ33)","v":""},{"$f":"+IF(Lists!BR33=\"\",\"\",Lists!BR33)","v":""}]
[null,{"$f":"+IF(Lists!BN34=\"\",\"\",Lists!BN34)","v":""},{"$f":"+IF(Lists!BO34=\"\",\"\",Lists!BO34)","v":""},{"$f":"+IF(Lists!BP34=\"\",\"\",Lists!BP34)","v":""},{"$f":"+IF(Lists!BQ34=\"\",\"\",Lists!BQ34)","v":""},{"$f":"+IF(Lists!BR34=\"\",\"\",Lists!BR34)","v":""}]
[null,{"$f":"+IF(Lists!BN35=\"\",\"\",Lists!BN35)","v":""},{"$f":"+IF(Lists!BO35=\"\",\"\",Lists!BO35)","v":""},{"$f":"+IF(Lists!BP35=\"\",\"\",Lists!BP35)","v":""},{"$f":"+IF(Lists!BQ35=\"\",\"\",Lists!BQ35)","v":""},{"$f":"+IF(Lists!BR35=\"\",\"\",Lists!BR35)","v":""}]
[null,{"$f":"+IF(Lists!BN36=\"\",\"\",Lists!BN36)","v":""},{"$f":"+IF(Lists!BO36=\"\",\"\",Lists!BO36)","v":""},{"$f":"+IF(Lists!BP36=\"\",\"\",Lists!BP36)","v":""},{"$f":"+IF(Lists!BQ36=\"\",\"\",Lists!BQ36)","v":""},{"$f":"+IF(Lists!BR36=\"\",\"\",Lists!BR36)","v":""}]
[null,{"$f":"+IF(Lists!BN37=\"\",\"\",Lists!BN37)","v":""},{"$f":"+IF(Lists!BO37=\"\",\"\",Lists!BO37)","v":""},{"$f":"+IF(Lists!BP37=\"\",\"\",Lists!BP37)","v":""},{"$f":"+IF(Lists!BQ37=\"\",\"\",Lists!BQ37)","v":""},{"$f":"+IF(Lists!BR37=\"\",\"\",Lists!BR37)","v":""}]
[null,{"$f":"+IF(Lists!BN38=\"\",\"\",Lists!BN38)","v":""},{"$f":"+IF(Lists!BO38=\"\",\"\",Lists!BO38)","v":""},{"$f":"+IF(Lists!BP38=\"\",\"\",Lists!BP38)","v":""},{"$f":"+IF(Lists!BQ38=\"\",\"\",Lists!BQ38)","v":""},{"$f":"+IF(Lists!BR38=\"\",\"\",Lists!BR38)","v":""}]
[null,{"$f":"+IF(Lists!BN39=\"\",\"\",Lists!BN39)","v":""},{"$f":"+IF(Lists!BO39=\"\",\"\",Lists!BO39)","v":""},{"$f":"+IF(Lists!BP39=\"\",\"\",Lists!BP39)","v":""},{"$f":"+IF(Lists!BQ39=\"\",\"\",Lists!BQ39)","v":""},{"$f":"+IF(Lists!BR39=\"\",\"\",Lists!BR39)","v":""}]
[null,{"$f":"+IF(Lists!BN40=\"\",\"\",Lists!BN40)","v":""},{"$f":"+IF(Lists!BO40=\"\",\"\",Lists!BO40)","v":""},{"$f":"+IF(Lists!BP40=\"\",\"\",Lists!BP40)","v":""},{"$f":"+IF(Lists!BQ40=\"\",\"\",Lists!BQ40)","v":""},{"$f":"+IF(Lists!BR40=\"\",\"\",Lists!BR40)","v":""}]
[null,{"$f":"+IF(Lists!BN41=\"\",\"\",Lists!BN41)","v":""},{"$f":"+IF(Lists!BO41=\"\",\"\",Lists!BO41)","v":""},{"$f":"+IF(Lists!BP41=\"\",\"\",Lists!BP41)","v":""},{"$f":"+IF(Lists!BQ41=\"\",\"\",Lists!BQ41)","v":""},{"$f":"+IF(Lists!BR41=\"\",\"\",Lists!BR41)","v":""}]
[null,{"$f":"+IF(Lists!BN42=\"\",\"\",Lists!BN42)","v":""},{"$f":"+IF(Lists!BO42=\"\",\"\",Lists!BO42)","v":""},{"$f":"+IF(Lists!BP42=\"\",\"\",Lists!BP42)","v":""},{"$f":"+IF(Lists!BQ42=\"\",\"\",Lists!BQ42)","v":""},{"$f":"+IF(Lists!BR42=\"\",\"\",Lists!BR42)","v":""}]
[null,{"$f":"+IF(Lists!BN43=\"\",\"\",Lists!BN43)","v":""},{"$f":"+IF(Lists!BO43=\"\",\"\",Lists!BO43)","v":""},{"$f":"+IF(Lists!BP43=\"\",\"\",Lists!BP43)","v":""},{"$f":"+IF(Lists!BQ43=\"\",\"\",Lists!BQ43)","v":""},{"$f":"+IF(Lists!BR43=\"\",\"\",Lists!BR43)","v":""}]
[null,{"$f":"+IF(Lists!BN44=\"\",\"\",Lists!BN44)","v":""},{"$f":"+IF(Lists!BO44=\"\",\"\",Lists!BO44)","v":""},{"$f":"+IF(Lists!BP44=\"\",\"\",Lists!BP44)","v":""},{"$f":"+IF(Lists!BQ44=\"\",\"\",Lists!BQ44)","v":""},{"$f":"+IF(Lists!BR44=\"\",\"\",Lists!BR44)","v":""}]
[null,{"$f":"+IF(Lists!BN45=\"\",\"\",Lists!BN45)","v":""},{"$f":"+IF(Lists!BO45=\"\",\"\",Lists!BO45)","v":""},{"$f":"+IF(Lists!BP45=\"\",\"\",Lists!BP45)","v":""},{"$f":"+IF(Lists!BQ45=\"\",\"\",Lists!BQ45)","v":""},{"$f":"+IF(Lists!BR45=\"\",\"\",Lists!BR45)","v":""}]
[null,{"$f":"+IF(Lists!BN46=\"\",\"\",Lists!BN46)","v":""},{"$f":"+IF(Lists!BO46=\"\",\"\",Lists!BO46)","v":""},{"$f":"+IF(Lists!BP46=\"\",\"\",Lists!BP46)","v":""},{"$f":"+IF(Lists!BQ46=\"\",\"\",Lists!BQ46)","v":""},{"$f":"+IF(Lists!BR46=\"\",\"\",Lists!BR46)","v":""}]
[null,{"$f":"+IF(Lists!BN47=\"\",\"\",Lists!BN47)","v":""},{"$f":"+IF(Lists!BO47=\"\",\"\",Lists!BO47)","v":""},{"$f":"+IF(Lists!BP47=\"\",\"\",Lists!BP47)","v":""},{"$f":"+IF(Lists!BQ47=\"\",\"\",Lists!BQ47)","v":""},{"$f":"+IF(Lists!BR47=\"\",\"\",Lists!BR47)","v":""}]
[null,{"$f":"+IF(Lists!BN48=\"\",\"\",Lists!BN48)","v":""},{"$f":"+IF(Lists!BO48=\"\",\"\",Lists!BO48)","v":""},{"$f":"+IF(Lists!BP48=\"\",\"\",Lists!BP48)","v":""},{"$f":"+IF(Lists!BQ48=\"\",\"\",Lists!BQ48)","v":""},{"$f":"+IF(Lists!BR48=\"\",\"\",Lists!BR48)","v":""}]
[null,{"$f":"+IF(Lists!BN49=\"\",\"\",Lists!BN49)","v":""},{"$f":"+IF(Lists!BO49=\"\",\"\",Lists!BO49)","v":""},{"$f":"+IF(Lists!BP49=\"\",\"\",Lists!BP49)","v":""},{"$f":"+IF(Lists!BQ49=\"\",\"\",Lists!BQ49)","v":""},{"$f":"+IF(Lists!BR49=\"\",\"\",Lists!BR49)","v":""}]
[null,{"$f":"+IF(Lists!BN50=\"\",\"\",Lists!BN50)","v":""},{"$f":"+IF(Lists!BO50=\"\",\"\",Lists!BO50)","v":""},{"$f":"+IF(Lists!BP50=\"\",\"\",Lists!BP50)","v":""},{"$f":"+IF(Lists!BQ50=\"\",\"\",Lists!BQ50)","v":""},{"$f":"+IF(Lists!BR50=\"\",\"\",Lists!BR50)","v":""}]
[null,{"$f":"+IF(Lists!BN51=\"\",\"\",Lists!BN51)","v":""},{"$f":"+IF(Lists!BO51=\"\",\"\",Lists!BO51)","v":""},{"$f":"+IF(Lists!BP51=\"\",\"\",Lists!BP51)","v":""},{"$f":"+IF(Lists!BQ51=\"\",\"\",Lists!BQ51)","v":""},{"$f":"+IF(Lists!BR51=\"\",\"\",Lists!BR51)","v":""}]
[null,{"$f":"+IF(Lists!BN52=\"\",\"\",Lists!BN52)","v":""},{"$f":"+IF(Lists!BO52=\"\",\"\",Lists!BO52)","v":""},{"$f":"+IF(Lists!BP52=\"\",\"\",Lists!BP52)","v":""},{"$f":"+IF(Lists!BQ52=\"\",\"\",Lists!BQ52)","v":""},{"$f":"+IF(Lists!BR52=\"\",\"\",Lists!BR52)","v":""}]
[null,{"$f":"+IF(Lists!BN53=\"\",\"\",Lists!BN53)","v":""},{"$f":"+IF(Lists!BO53=\"\",\"\",Lists!BO53)","v":""},{"$f":"+IF(Lists!BP53=\"\",\"\",Lists!BP53)","v":""},{"$f":"+IF(Lists!BQ53=\"\",\"\",Lists!BQ53)","v":""},{"$f":"+IF(Lists!BR53=\"\",\"\",Lists!BR53)","v":""}]
[null,{"$f":"+IF(Lists!BN54=\"\",\"\",Lists!BN54)","v":""},{"$f":"+IF(Lists!BO54=\"\",\"\",Lists!BO54)","v":""},{"$f":"+IF(Lists!BP54=\"\",\"\",Lists!BP54)","v":""},{"$f":"+IF(Lists!BQ54=\"\",\"\",Lists!BQ54)","v":""},{"$f":"+IF(Lists!BR54=\"\",\"\",Lists!BR54)","v":""}]
[null,{"$f":"+IF(Lists!BN55=\"\",\"\",Lists!BN55)","v":""},{"$f":"+IF(Lists!BO55=\"\",\"\",Lists!BO55)","v":""},{"$f":"+IF(Lists!BP55=\"\",\"\",Lists!BP55)","v":""},{"$f":"+IF(Lists!BQ55=\"\",\"\",Lists!BQ55)","v":""},{"$f":"+IF(Lists!BR55=\"\",\"\",Lists!BR55)","v":""}]
[null,{"$f":"+IF(Lists!BN56=\"\",\"\",Lists!BN56)","v":""},{"$f":"+IF(Lists!BO56=\"\",\"\",Lists!BO56)","v":""},{"$f":"+IF(Lists!BP56=\"\",\"\",Lists!BP56)","v":""},{"$f":"+IF(Lists!BQ56=\"\",\"\",Lists!BQ56)","v":""},{"$f":"+IF(Lists!BR56=\"\",\"\",Lists!BR56)","v":""}]
[null,{"$f":"+IF(Lists!BN57=\"\",\"\",Lists!BN57)","v":""},{"$f":"+IF(Lists!BO57=\"\",\"\",Lists!BO57)","v":""},{"$f":"+IF(Lists!BP57=\"\",\"\",Lists!BP57)","v":""},{"$f":"+IF(Lists!BQ57=\"\",\"\",Lists!BQ57)","v":""},{"$f":"+IF(Lists!BR57=\"\",\"\",Lists!BR57)","v":""}]
[null,{"$f":"+IF(Lists!BN58=\"\",\"\",Lists!BN58)","v":""},{"$f":"+IF(Lists!BO58=\"\",\"\",Lists!BO58)","v":""},{"$f":"+IF(Lists!BP58=\"\",\"\",Lists!BP58)","v":""},{"$f":"+IF(Lists!BQ58=\"\",\"\",Lists!BQ58)","v":""},{"$f":"+IF(Lists!BR58=\"\",\"\",Lists!BR58)","v":""}]
[null,{"$f":"+IF(Lists!BN59=\"\",\"\",Lists!BN59)","v":""},{"$f":"+IF(Lists!BO59=\"\",\"\",Lists!BO59)","v":""},{"$f":"+IF(Lists!BP59=\"\",\"\",Lists!BP59)","v":""},{"$f":"+IF(Lists!BQ59=\"\",\"\",Lists!BQ59)","v":""},{"$f":"+IF(Lists!BR59=\"\",\"\",Lists!BR59)","v":""}]
[null,{"$f":"+IF(Lists!BN60=\"\",\"\",Lists!BN60)","v":""},{"$f":"+IF(Lists!BO60=\"\",\"\",Lists!BO60)","v":""},{"$f":"+IF(Lists!BP60=\"\",\"\",Lists!BP60)","v":""},{"$f":"+IF(Lists!BQ60=\"\",\"\",Lists!BQ60)","v":""},{"$f":"+IF(Lists!BR60=\"\",\"\",Lists!BR60)","v":""}]
[null,{"$f":"+IF(Lists!BN61=\"\",\"\",Lists!BN61)","v":""},{"$f":"+IF(Lists!BO61=\"\",\"\",Lists!BO61)","v":""},{"$f":"+IF(Lists!BP61=\"\",\"\",Lists!BP61)","v":""},{"$f":"+IF(Lists!BQ61=\"\",\"\",Lists!BQ61)","v":""},{"$f":"+IF(Lists!BR61=\"\",\"\",Lists!BR61)","v":""}]
[null,{"$f":"+IF(Lists!BN62=\"\",\"\",Lists!BN62)","v":""},{"$f":"+IF(Lists!BO62=\"\",\"\",Lists!BO62)","v":""},{"$f":"+IF(Lists!BP62=\"\",\"\",Lists!BP62)","v":""},{"$f":"+IF(Lists!BQ62=\"\",\"\",Lists!BQ62)","v":""},{"$f":"+IF(Lists!BR62=\"\",\"\",Lists!BR62)","v":""}]
[null,{"$f":"+IF(Lists!BN63=\"\",\"\",Lists!BN63)","v":""},{"$f":"+IF(Lists!BO63=\"\",\"\",Lists!BO63)","v":""},{"$f":"+IF(Lists!BP63=\"\",\"\",Lists!BP63)","v":""},{"$f":"+IF(Lists!BQ63=\"\",\"\",Lists!BQ63)","v":""},{"$f":"+IF(Lists!BR63=\"\",\"\",Lists!BR63)","v":""}]
[null,{"$f":"+IF(Lists!BN64=\"\",\"\",Lists!BN64)","v":""},{"$f":"+IF(Lists!BO64=\"\",\"\",Lists!BO64)","v":""},{"$f":"+IF(Lists!BP64=\"\",\"\",Lists!BP64)","v":""},{"$f":"+IF(Lists!BQ64=\"\",\"\",Lists!BQ64)","v":""},{"$f":"+IF(Lists!BR64=\"\",\"\",Lists!BR64)","v":""}]
[null,{"$f":"+IF(Lists!BN65=\"\",\"\",Lists!BN65)","v":""},{"$f":"+IF(Lists!BO65=\"\",\"\",Lists!BO65)","v":""},{"$f":"+IF(Lists!BP65=\"\",\"\",Lists!BP65)","v":""},{"$f":"+IF(Lists!BQ65=\"\",\"\",Lists!BQ65)","v":""},{"$f":"+IF(Lists!BR65=\"\",\"\",Lists!BR65)","v":""}]
[null,{"$f":"+IF(Lists!BN66=\"\",\"\",Lists!BN66)","v":""},{"$f":"+IF(Lists!BO66=\"\",\"\",Lists!BO66)","v":""},{"$f":"+IF(Lists!BP66=\"\",\"\",Lists!BP66)","v":""},{"$f":"+IF(Lists!BQ66=\"\",\"\",Lists!BQ66)","v":""},{"$f":"+IF(Lists!BR66=\"\",\"\",Lists!BR66)","v":""}]
[null,{"$f":"+IF(Lists!BN67=\"\",\"\",Lists!BN67)","v":""},{"$f":"+IF(Lists!BO67=\"\",\"\",Lists!BO67)","v":""},{"$f":"+IF(Lists!BP67=\"\",\"\",Lists!BP67)","v":""},{"$f":"+IF(Lists!BQ67=\"\",\"\",Lists!BQ67)","v":""},{"$f":"+IF(Lists!BR67=\"\",\"\",Lists!BR67)","v":""}]
[null,{"$f":"+IF(Lists!BN68=\"\",\"\",Lists!BN68)","v":""},{"$f":"+IF(Lists!BO68=\"\",\"\",Lists!BO68)","v":""},{"$f":"+IF(Lists!BP68=\"\",\"\",Lists!BP68)","v":""},{"$f":"+IF(Lists!BQ68=\"\",\"\",Lists!BQ68)","v":""},{"$f":"+IF(Lists!BR68=\"\",\"\",Lists!BR68)","v":""}]
[null,{"$f":"+IF(Lists!BN69=\"\",\"\",Lists!BN69)","v":""},{"$f":"+IF(Lists!BO69=\"\",\"\",Lists!BO69)","v":""},{"$f":"+IF(Lists!BP69=\"\",\"\",Lists!BP69)","v":""},{"$f":"+IF(Lists!BQ69=\"\",\"\",Lists!BQ69)","v":""},{"$f":"+IF(Lists!BR69=\"\",\"\",Lists!BR69)","v":""}]
[null,{"$f":"+IF(Lists!BN70=\"\",\"\",Lists!BN70)","v":""},{"$f":"+IF(Lists!BO70=\"\",\"\",Lists!BO70)","v":""},{"$f":"+IF(Lists!BP70=\"\",\"\",Lists!BP70)","v":""},{"$f":"+IF(Lists!BQ70=\"\",\"\",Lists!BQ70)","v":""},{"$f":"+IF(Lists!BR70=\"\",\"\",Lists!BR70)","v":""}]
[null,{"$f":"+IF(Lists!BN71=\"\",\"\",Lists!BN71)","v":""},{"$f":"+IF(Lists!BO71=\"\",\"\",Lists!BO71)","v":""},{"$f":"+IF(Lists!BP71=\"\",\"\",Lists!BP71)","v":""},{"$f":"+IF(Lists!BQ71=\"\",\"\",Lists!BQ71)","v":""},{"$f":"+IF(Lists!BR71=\"\",\"\",Lists!BR71)","v":""}]
[null,{"$f":"+IF(Lists!BN72=\"\",\"\",Lists!BN72)","v":""},{"$f":"+IF(Lists!BO72=\"\",\"\",Lists!BO72)","v":""},{"$f":"+IF(Lists!BP72=\"\",\"\",Lists!BP72)","v":""},{"$f":"+IF(Lists!BQ72=\"\",\"\",Lists!BQ72)","v":""},{"$f":"+IF(Lists!BR72=\"\",\"\",Lists!BR72)","v":""}]
[null,{"$f":"+IF(Lists!BN73=\"\",\"\",Lists!BN73)","v":""},{"$f":"+IF(Lists!BO73=\"\",\"\",Lists!BO73)","v":""},{"$f":"+IF(Lists!BP73=\"\",\"\",Lists!BP73)","v":""},{"$f":"+IF(Lists!BQ73=\"\",\"\",Lists!BQ73)","v":""},{"$f":"+IF(Lists!BR73=\"\",\"\",Lists!BR73)","v":""}]
[null,{"$f":"+IF(Lists!BN74=\"\",\"\",Lists!BN74)","v":""},{"$f":"+IF(Lists!BO74=\"\",\"\",Lists!BO74)","v":""},{"$f":"+IF(Lists!BP74=\"\",\"\",Lists!BP74)","v":""},{"$f":"+IF(Lists!BQ74=\"\",\"\",Lists!BQ74)","v":""},{"$f":"+IF(Lists!BR74=\"\",\"\",Lists!BR74)","v":""}]
[null,{"$f":"+IF(Lists!BN75=\"\",\"\",Lists!BN75)","v":""},{"$f":"+IF(Lists!BO75=\"\",\"\",Lists!BO75)","v":""},{"$f":"+IF(Lists!BP75=\"\",\"\",Lists!BP75)","v":""},{"$f":"+IF(Lists!BQ75=\"\",\"\",Lists!BQ75)","v":""},{"$f":"+IF(Lists!BR75=\"\",\"\",Lists!BR75)","v":""}]
[null,{"$f":"+IF(Lists!BN76=\"\",\"\",Lists!BN76)","v":""},{"$f":"+IF(Lists!BO76=\"\",\"\",Lists!BO76)","v":""},{"$f":"+IF(Lists!BP76=\"\",\"\",Lists!BP76)","v":""},{"$f":"+IF(Lists!BQ76=\"\",\"\",Lists!BQ76)","v":""},{"$f":"+IF(Lists!BR76=\"\",\"\",Lists!BR76)","v":""}]
[null,{"$f":"+IF(Lists!BN77=\"\",\"\",Lists!BN77)","v":""},{"$f":"+IF(Lists!BO77=\"\",\"\",Lists!BO77)","v":""},{"$f":"+IF(Lists!BP77=\"\",\"\",Lists!BP77)","v":""},{"$f":"+IF(Lists!BQ77=\"\",\"\",Lists!BQ77)","v":""},{"$f":"+IF(Lists!BR77=\"\",\"\",Lists!BR77)","v":""}]
[null,{"$f":"+IF(Lists!BN78=\"\",\"\",Lists!BN78)","v":""},{"$f":"+IF(Lists!BO78=\"\",\"\",Lists!BO78)","v":""},{"$f":"+IF(Lists!BP78=\"\",\"\",Lists!BP78)","v":""},{"$f":"+IF(Lists!BQ78=\"\",\"\",Lists!BQ78)","v":""},{"$f":"+IF(Lists!BR78=\"\",\"\",Lists!BR78)","v":""}]

{"sheet":"Compliance Rpt - Tire Cord","index":10,"n_rows":100,"n_cols":6,"rows_kept":100}
[null,"DO NOT REMOVE OR EDIT INFORMATION IN THIS SECTION\nFOR INTERNAL USE ONLY"]
[null,"Template Name",{"$f":"Welcome!B2","v":"63.6016(k) Notification of Compliance and  §63.6017(g) Semiannual Compliance Report (Spreadsheet Template)"}]
[null,"CitationID",{"$f":"Welcome!B3","v":"63.6016(k) and 63.6017(g)"}]
[null,"Template Version",{"$f":"Welcome!B4","v":"Final ICR Draft"}]
[null,"Last Updated Date",{"$f":"Welcome!B5","v":"2024-08-28"}]
[null,{"$f":"Welcome!B6","v":"OMB Control Number: 2060-0449 Form 5900-659"}]
[null,"40 CFR Part 63, Subpart XXXX National Emission Standards for Hazardous Air Pollutants: Rubber Tire Manufacturing -"]
[null,"\n"]
[]
[null,"Note: Columns B through D will be autofilled based on responses provided in the Compliance_Options worksheet."]
[null,"63.6017(g) Semiannual Compliance Report"]
[null,"Company Record No.\n(Autofilled)","Name of Rubber Tire Manufacturing Affected Source\n(§63.9(h))\n(Autofilled)","Rubber Tire Manufacturing Subcategory\n(Autofilled)","For each tire cord production affected source, provide the emission limit option in §63.5986 that you have chosen to meet\n(§63.6017(c)(9))\n(Autofilled)","For each tire cord production affected source, provide the compliance alternative in §63.5987 that you have chosen to meet\n(§63.6017(c)(9))\n(Autofilled)"]
[null,"RecordId","OperationName","Subcategory","EmissionLimitOption","ComplianceAlternative"]
[null,"e.g.: 1","e.g.: Extruder1","e.g.: Tire Cord Production","e.g.: Option 1.a (production-based option)—Existing","e.g.: Monthly average alternative, using an add-on control device"]
[null,"e.g.:","e.g.:","e.g.:","e.g.:","e.g.:"]
[null,"e.g.:","e.g.:","e.g.:","e.g.:","e.g.:"]
[null,"e.g.:","e.g.:","e.g.:","e.g.:","e.g.:"]
[null,"e.g.:","e.g.:","e.g.:","e.g.:","e.g.:"]
[null,"e.g.:","e.g.:","e.g.:","e.g.:","e.g.:"]
[null,"e.g.:","e.g.:","e.g.:","e.g.:","e.g.:"]
[null,"e.g.:","e.g.:","e.g.:","e.g.:","e.g.:"]
[null,"e.g.:","e.g.:","e.g.:","e.g.:","e.g.:"]
[null,"e.g.:","e.g.:","e.g.:","e.g.:","e.g.:"]
[null,{"$f":"+IF(Lists!BV2=\"\",\"\",Lists!BV2)","v":""},{"$f":"+IF(Lists!BW2=\"\",\"\",Lists!BW2)","v":""},{"$f":"+IF(Lists!BX2=\"\",\"\",Lists!BX2)","v":""},{"$f":"+IF(Lists!BY2=\"\",\"\",Lists!BY2)","v":""},{"$f":"+IF(Lists!BZ2=\"\",\"\",Lists!BZ2)","v":""}]
[null,{"$f":"+IF(Lists!BV3=\"\",\"\",Lists!BV3)","v":""},{"$f":"+IF(Lists!BW3=\"\",\"\",Lists!BW3)","v":""},{"$f":"+IF(Lists!BX3=\"\",\"\",Lists!BX3)","v":""},{"$f":"+IF(Lists!BY3=\"\",\"\",Lists!BY3)","v":""},{"$f":"+IF(Lists!BZ3=\"\",\"\",Lists!BZ3)","v":""}]
[null,{"$f":"+IF(Lists!BV4=\"\",\"\",Lists!BV4)","v":""},{"$f":"+IF(Lists!BW4=\"\",\"\",Lists!BW4)","v":""},{"$f":"+IF(Lists!BX4=\"\",\"\",Lists!BX4)","v":""},{"$f":"+IF(Lists!BY4=\"\",\"\",Lists!BY4)","v":""},{"$f":"+IF(Lists!BZ4=\"\",\"\",Lists!BZ4)","v":""}]
[null,{"$f":"+IF(Lists!BV5=\"\",\"\",Lists!BV5)","v":""},{"$f":"+IF(Lists!BW5=\"\",\"\",Lists!BW5)","v":""},{"$f":"+IF(Lists!BX5=\"\",\"\",Lists!BX5)","v":""},{"$f":"+IF(Lists!BY5=\"\",\"\",Lists!BY5)","v":""},{"$f":"+IF(Lists!BZ5=\"\",\"\",Lists!BZ5)","v":""}]
[null,{"$f":"+IF(Lists!BV6=\"\",\"\",Lists!BV6)","v":""},{"$f":"+IF(Lists!BW6=\"\",\"\",Lists!BW6)","v":""},{"$f":"+IF(Lists!BX6=\"\",\"\",Lists!BX6)","v":""},{"$f":"+IF(Lists!BY6=\"\",\"\",Lists!BY6)","v":""},{"$f":"+IF(Lists!BZ6=\"\",\"\",Lists!BZ6)","v":""}]
[null,{"$f":"+IF(Lists!BV7=\"\",\"\",Lists!BV7)","v":""},{"$f":"+IF(Lists!BW7=\"\",\"\",Lists!BW7)","v":""},{"$f":"+IF(Lists!BX7=\"\",\"\",Lists!BX7)","v":""},{"$f":"+IF(Lists!BY7=\"\",\"\",Lists!BY7)","v":""},{"$f":"+IF(Lists!BZ7=\"\",\"\",Lists!BZ7)","v":""}]
[null,{"$f":"+IF(Lists!BV8=\"\",\"\",Lists!BV8)","v":""},{"$f":"+IF(Lists!BW8=\"\",\"\",Lists!BW8)","v":""},{"$f":"+IF(Lists!BX8=\"\",\"\",Lists!BX8)","v":""},{"$f":"+IF(Lists!BY8=\"\",\"\",Lists!BY8)","v":""},{"$f":"+IF(Lists!BZ8=\"\",\"\",Lists!BZ8)","v":""}]
[null,{"$f":"+IF(Lists!BV9=\"\",\"\",Lists!BV9)","v":""},{"$f":"+IF(Lists!BW9=\"\",\"\",Lists!BW9)","v":""},{"$f":"+IF(Lists!BX9=\"\",\"\",Lists!BX9)","v":""},{"$f":"+IF(Lists!BY9=\"\",\"\",Lists!BY9)","v":""},{"$f":"+IF(Lists!BZ9=\"\",\"\",Lists!BZ9)","v":""}]
[null,{"$f":"+IF(Lists!BV10=\"\",\"\",Lists!BV10)","v":""},{"$f":"+IF(Lists!BW10=\"\",\"\",Lists!BW10)","v":""},{"$f":"+IF(Lists!BX10=\"\",\"\",Lists!BX10)","v":""},{"$f":"+IF(Lists!BY10=\"\",\"\",Lists!BY10)","v":""},{"$f":"+IF(Lists!BZ10=\"\",\"\",Lists!BZ10)","v":""}]
[null,{"$f":"+IF(Lists!BV11=\"\",\"\",Lists!BV11)","v":""},{"$f":"+IF(Lists!BW11=\"\",\"\",Lists!BW11)","v":""},{"$f":"+IF(Lists!BX11=\"\",\"\",Lists!BX11)","v":""},{"$f":"+IF(Lists!BY11=\"\",\"\",Lists!BY11)","v":""},{"$f":"+IF(Lists!BZ11=\"\",\"\",Lists!BZ11)","v":""}]
[null,{"$f":"+IF(Lists!BV12=\"\",\"\",Lists!BV12)","v":""},{"$f":"+IF(Lists!BW12=\"\",\"\",Lists!BW12)","v":""},{"$f":"+IF(Lists!BX12=\"\",\"\",Lists!BX12)","v":""},{"$f":"+IF(Lists!BY12=\"\",\"\",Lists!BY12)","v":""},{"$f":"+IF(Lists!BZ12=\"\",\"\",Lists!BZ12)","v":""}]
[null,{"$f":"+IF(Lists!BV13=\"\",\"\",Lists!BV13)","v":""},{"$f":"+IF(Lists!BW13=\"\",\"\",Lists!BW13)","v":""},{"$f":"+IF(Lists!BX13=\"\",\"\",Lists!BX13)","v":""},{"$f":"+IF(Lists!BY13=\"\",\"\",Lists!BY13)","v":""},{"$f":"+IF(Lists!BZ13=\"\",\"\",Lists!BZ13)","v":""}]
[null,{"$f":"+IF(Lists!BV14=\"\",\"\",Lists!BV14)","v":""},{"$f":"+IF(Lists!BW14=\"\",\"\",Lists!BW14)","v":""},{"$f":"+IF(Lists!BX14=\"\",\"\",Lists!BX14)","v":""},{"$f":"+IF(Lists!BY14=\"\",\"\",Lists!BY14)","v":""},{"$f":"+IF(Lists!BZ14=\"\",\"\",Lists!BZ14)","v":""}]
[null,{"$f":"+IF(Lists!BV15=\"\",\"\",Lists!BV15)","v":""},{"$f":"+IF(Lists!BW15=\"\",\"\",Lists!BW15)","v":""},{"$f":"+IF(Lists!BX15=\"\",\"\",Lists!BX15)","v":""},{"$f":"+IF(Lists!BY15=\"\",\"\",Lists!BY15)","v":""},{"$f":"+IF(Lists!BZ15=\"\",\"\",Lists!BZ15)","v":""}]
[null,{"$f":"+IF(Lists!BV16=\"\",\"\",Lists!BV16)","v":""},{"$f":"+IF(Lists!BW16=\"\",\"\",Lists!BW16)","v":""},{"$f":"+IF(Lists!BX16=\"\",\"\",Lists!BX16)","v":""},{"$f":"+IF(Lists!BY16=\"\",\"\",Lists!BY16)","v":""},{"$f":"+IF(Lists!BZ16=\"\",\"\",Lists!BZ16)","v":""}]
[null,{"$f":"+IF(Lists!BV17=\"\",\"\",Lists!BV17)","v":""},{"$f":"+IF(Lists!BW17=\"\",\"\",Lists!BW17)","v":""},{"$f":"+IF(Lists!BX17=\"\",\"\",Lists!BX17)","v":""},{"$f":"+IF(Lists!BY17=\"\",\"\",Lists!BY17)","v":""},{"$f":"+IF(Lists!BZ17=\"\",\"\",Lists!BZ17)","v":""}]
[null,{"$f":"+IF(Lists!BV18=\"\",\"\",Lists!BV18)","v":""},{"$f":"+IF(Lists!BW18=\"\",\"\",Lists!BW18)","v":""},{"$f":"+IF(Lists!BX18=\"\",\"\",Lists!BX18)","v":""},{"$f":"+IF(Lists!BY18=\"\",\"\",Lists!BY18)","v":""},{"$f":"+IF(Lists!BZ18=\"\",\"\",Lists!BZ18)","v":""}]
[null,{"$f":"+IF(Lists!BV19=\"\",\"\",Lists!BV19)","v":""},{"$f":"+IF(Lists!BW19=\"\",\"\",Lists!BW19)","v":""},{"$f":"+IF(Lists!BX19=\"\",\"\",Lists!BX19)","v":""},{"$f":"+IF(Lists!BY19=\"\",\"\",Lists!BY19)","v":""},{"$f":"+IF(Lists!BZ19=\"\",\"\",Lists!BZ19)","v":""}]
[null,{"$f":"+IF(Lists!BV20=\"\",\"\",Lists!BV20)","v":""},{"$f":"+IF(Lists!BW20=\"\",\"\",Lists!BW20)","v":""},{"$f":"+IF(Lists!BX20=\"\",\"\",Lists!BX20)","v":""},{"$f":"+IF(Lists!BY20=\"\",\"\",Lists!BY20)","v":""},{"$f":"+IF(Lists!BZ20=\"\",\"\",Lists!BZ20)","v":""}]
[null,{"$f":"+IF(Lists!BV21=\"\",\"\",Lists!BV21)","v":""},{"$f":"+IF(Lists!BW21=\"\",\"\",Lists!BW21)","v":""},{"$f":"+IF(Lists!BX21=\"\",\"\",Lists!BX21)","v":""},{"$f":"+IF(Lists!BY21=\"\",\"\",Lists!BY21)","v":""},{"$f":"+IF(Lists!BZ21=\"\",\"\",Lists!BZ21)","v":""}]
[null,{"$f":"+IF(Lists!BV22=\"\",\"\",Lists!BV22)","v":""},{"$f":"+IF(Lists!BW22=\"\",\"\",Lists!BW22)","v":""},{"$f":"+IF(Lists!BX22=\"\",\"\",Lists!BX22)","v":""},{"$f":"+IF(Lists!BY22=\"\",\"\",Lists!BY22)","v":""},{"$f":"+IF(Lists!BZ22=\"\",\"\",Lists!BZ22)","v":""}]
[null,{"$f":"+IF(Lists!BV23=\"\",\"\",Lists!BV23)","v":""},{"$f":"+IF(Lists!BW23=\"\",\"\",Lists!BW23)","v":""},{"$f":"+IF(Lists!BX23=\"\",\"\",Lists!BX23)","v":""},{"$f":"+IF(Lists!BY23=\"\",\"\",Lists!BY23)","v":""},{"$f":"+IF(Lists!BZ23=\"\",\"\",Lists!BZ23)","v":""}]
[null,{"$f":"+IF(Lists!BV24=\"\",\"\",Lists!BV24)","v":""},{"$f":"+IF(Lists!BW24=\"\",\"\",Lists!BW24)","v":""},{"$f":"+IF(Lists!BX24=\"\",\"\",Lists!BX24)","v":""},{"$f":"+IF(Lists!BY24=\"\",\"\",Lists!BY24)","v":""},{"$f":"+IF(Lists!BZ24=\"\",\"\",Lists!BZ24)","v":""}]
[null,{"$f":"+IF(Lists!BV25=\"\",\"\",Lists!BV25)","v":""},{"$f":"+IF(Lists!BW25=\"\",\"\",Lists!BW25)","v":""},{"$f":"+IF(Lists!BX25=\"\",\"\",Lists!BX25)","v":""},{"$f":"+IF(Lists!BY25=\"\",\"\",Lists!BY25)","v":""},{"$f":"+IF(Lists!BZ25=\"\",\"\",Lists!BZ25)","v":""}]
[null,{"$f":"+IF(Lists!BV26=\"\",\"\",Lists!BV26)","v":""},{"$f":"+IF(Lists!BW26=\"\",\"\",Lists!BW26)","v":""},{"$f":"+IF(Lists!BX26=\"\",\"\",Lists!BX26)","v":""},{"$f":"+IF(Lists!BY26=\"\",\"\",Lists!BY26)","v":""},{"$f":"+IF(Lists!BZ26=\"\",\"\",Lists!BZ26)","v":""}]
[null,{"$f":"+IF(Lists!BV27=\"\",\"\",Lists!BV27)","v":""},{"$f":"+IF(Lists!BW27=\"\",\"\",Lists!BW27)","v":""},{"$f":"+IF(Lists!BX27=\"\",\"\",Lists!BX27)","v":""},{"$f":"+IF(Lists!BY27=\"\",\"\",Lists!BY27)","v":""},{"$f":"+IF(Lists!BZ27=\"\",\"\",Lists!BZ27)","v":""}]
[null,{"$f":"+IF(Lists!BV28=\"\",\"\",Lists!BV28)","v":""},{"$f":"+IF(Lists!BW28=\"\",\"\",Lists!BW28)","v":""},{"$f":"+IF(Lists!BX28=\"\",\"\",Lists!BX28)","v":""},{"$f":"+IF(Lists!BY28=\"\",\"\",Lists!BY28)","v":""},{"$f":"+IF(Lists!BZ28=\"\",\"\",Lists!BZ28)","v":""}]
[null,{"$f":"+IF(Lists!BV29=\"\",\"\",Lists!BV29)","v":""},{"$f":"+IF(Lists!BW29=\"\",\"\",Lists!BW29)","v":""},{"$f":"+IF(Lists!BX29=\"\",\"\",Lists!BX29)","v":""},{"$f":"+IF(Lists!BY29=\"\",\"\",Lists!BY29)","v":""},{"$f":"+IF(Lists!BZ29=\"\",\"\",Lists!BZ29)","v":""}]
[null,{"$f":"+IF(Lists!BV30=\"\",\"\",Lists!BV30)","v":""},{"$f":"+IF(Lists!BW30=\"\",\"\",Lists!BW30)","v":""},{"$f":"+IF(Lists!BX30=\"\",\"\",Lists!BX30)","v":""},{"$f":"+IF(Lists!BY30=\"\",\"\",Lists!BY30)","v":""},{"$f":"+IF(Lists!BZ30=\"\",\"\",Lists!BZ30)","v":""}]
[null,{"$f":"+IF(Lists!BV31=\"\",\"\",Lists!BV31)","v":""},{"$f":"+IF(Lists!BW31=\"\",\"\",Lists!BW31)","v":""},{"$f":"+IF(Lists!BX31=\"\",\"\",Lists!BX31)","v":""},{"$f":"+IF(Lists!BY31=\"\",\"\",Lists!BY31)","v":""},{"$f":"+IF(Lists!BZ31=\"\",\"\",Lists!BZ31)","v":""}]
[null,{"$f":"+IF(Lists!BV32=\"\",\"\",Lists!BV32)","v":""},{"$f":"+IF(Lists!BW32=\"\",\"\",Lists!BW32)","v":""},{"$f":"+IF(Lists!BX32=\"\",\"\",Lists!BX32)","v":""},{"$f":"+IF(Lists!BY32=\"\",\"\",Lists!BY32)","v":""},{"$f":"+IF(Lists!BZ32=\"\",\"\",Lists!BZ32)","v":""}]
[null,{"$f":"+IF(Lists!BV33=\"\",\"\",Lists!BV33)","v":""},{"$f":"+IF(Lists!BW33=\"\",\"\",Lists!BW33)","v":""},{"$f":"+IF(Lists!BX33=\"\",\"\",Lists!BX33)","v":""},{"$f":"+IF(Lists!BY33=\"\",\"\",Lists!BY33)","v":""},{"$f":"+IF(Lists!BZ33=\"\",\"\",Lists!BZ33)","v":""}]
[null,{"$f":"+IF(Lists!BV34=\"\",\"\",Lists!BV34)","v":""},{"$f":"+IF(Lists!BW34=\"\",\"\",Lists!BW34)","v":""},{"$f":"+IF(Lists!BX34=\"\",\"\",Lists!BX34)","v":""},{"$f":"+IF(Lists!BY34=\"\",\"\",Lists!BY34)","v":""},{"$f":"+IF(Lists!BZ34=\"\",\"\",Lists!BZ34)","v":""}]
[null,{"$f":"+IF(Lists!BV35=\"\",\"\",Lists!BV35)","v":""},{"$f":"+IF(Lists!BW35=\"\",\"\",Lists!BW35)","v":""},{"$f":"+IF(Lists!BX35=\"\",\"\",Lists!BX35)","v":""},{"$f":"+IF(Lists!BY35=\"\",\"\",Lists!BY35)","v":""},{"$f":"+IF(Lists!BZ35=\"\",\"\",Lists!BZ35)","v":""}]
[null,{"$f":"+IF(Lists!BV36=\"\",\"\",Lists!BV36)","v":""},{"$f":"+IF(Lists!BW36=\"\",\"\",Lists!BW36)","v":""},{"$f":"+IF(Lists!BX36=\"\",\"\",Lists!BX36)","v":""},{"$f":"+IF(Lists!BY36=\"\",\"\",Lists!BY36)","v":""},{"$f":"+IF(Lists!BZ36=\"\",\"\",Lists!BZ36)","v":""}]
[null,{"$f":"+IF(Lists!BV37=\"\",\"\",Lists!BV37)","v":""},{"$f":"+IF(Lists!BW37=\"\",\"\",Lists!BW37)","v":""},{"$f":"+IF(Lists!BX37=\"\",\"\",Lists!BX37)","v":""},{"$f":"+IF(Lists!BY37=\"\",\"\",Lists!BY37)","v":""},{"$f":"+IF(Lists!BZ37=\"\",\"\",Lists!BZ37)","v":""}]
[null,{"$f":"+IF(Lists!BV38=\"\",\"\",Lists!BV38)","v":""},{"$f":"+IF(Lists!BW38=\"\",\"\",Lists!BW38)","v":""},{"$f":"+IF(Lists!BX38=\"\",\"\",Lists!BX38)","v":""},{"$f":"+IF(Lists!BY38=\"\",\"\",Lists!BY38)","v":""},{"$f":"+IF(Lists!BZ38=\"\",\"\",Lists!BZ38)","v":""}]
[null,{"$f":"+IF(Lists!BV39=\"\",\"\",Lists!BV39)","v":""},{"$f":"+IF(Lists!BW39=\"\",\"\",Lists!BW39)","v":""},{"$f":"+IF(Lists!BX39=\"\",\"\",Lists!BX39)","v":""},{"$f":"+IF(Lists!BY39=\"\",\"\",Lists!BY39)","v":""},{"$f":"+IF(Lists!BZ39=\"\",\"\",Lists!BZ39)","v":""}]
[null,{"$f":"+IF(Lists!BV40=\"\",\"\",Lists!BV40)","v":""},{"$f":"+IF(Lists!BW40=\"\",\"\",Lists!BW40)","v":""},{"$f":"+IF(Lists!BX40=\"\",\"\",Lists!BX40)","v":""},{"$f":"+IF(Lists!BY40=\"\",\"\",Lists!BY40)","v":""},{"$f":"+IF(Lists!BZ40=\"\",\"\",Lists!BZ40)","v":""}]
[null,{"$f":"+IF(Lists!BV41=\"\",\"\",Lists!BV41)","v":""},{"$f":"+IF(Lists!BW41=\"\",\"\",Lists!BW41)","v":""},{"$f":"+IF(Lists!BX41=\"\",\"\",Lists!BX41)","v":""},{"$f":"+IF(Lists!BY41=\"\",\"\",Lists!BY41)","v":""},{"$f":"+IF(Lists!BZ41=\"\",\"\",Lists!BZ41)","v":""}]
[null,{"$f":"+IF(Lists!BV42=\"\",\"\",Lists!BV42)","v":""},{"$f":"+IF(Lists!BW42=\"\",\"\",Lists!BW42)","v":""},{"$f":"+IF(Lists!BX42=\"\",\"\",Lists!BX42)","v":""},{"$f":"+IF(Lists!BY42=\"\",\"\",Lists!BY42)","v":""},{"$f":"+IF(Lists!BZ42=\"\",\"\",Lists!BZ42)","v":""}]
[null,{"$f":"+IF(Lists!BV43=\"\",\"\",Lists!BV43)","v":""},{"$f":"+IF(Lists!BW43=\"\",\"\",Lists!BW43)","v":""},{"$f":"+IF(Lists!BX43=\"\",\"\",Lists!BX43)","v":""},{"$f":"+IF(Lists!BY43=\"\",\"\",Lists!BY43)","v":""},{"$f":"+IF(Lists!BZ43=\"\",\"\",Lists!BZ43)","v":""}]
[null,{"$f":"+IF(Lists!BV44=\"\",\"\",Lists!BV44)","v":""},{"$f":"+IF(Lists!BW44=\"\",\"\",Lists!BW44)","v":""},{"$f":"+IF(Lists!BX44=\"\",\"\",Lists!BX44)","v":""},{"$f":"+IF(Lists!BY44=\"\",\"\",Lists!BY44)","v":""},{"$f":"+IF(Lists!BZ44=\"\",\"\",Lists!BZ44)","v":""}]
[null,{"$f":"+IF(Lists!BV45=\"\",\"\",Lists!BV45)","v":""},{"$f":"+IF(Lists!BW45=\"\",\"\",Lists!BW45)","v":""},{"$f":"+IF(Lists!BX45=\"\",\"\",Lists!BX45)","v":""},{"$f":"+IF(Lists!BY45=\"\",\"\",Lists!BY45)","v":""},{"$f":"+IF(Lists!BZ45=\"\",\"\",Lists!BZ45)","v":""}]
[null,{"$f":"+IF(Lists!BV46=\"\",\"\",Lists!BV46)","v":""},{"$f":"+IF(Lists!BW46=\"\",\"\",Lists!BW46)","v":""},{"$f":"+IF(Lists!BX46=\"\",\"\",Lists!BX46)","v":""},{"$f":"+IF(Lists!BY46=\"\",\"\",Lists!BY46)","v":""},{"$f":"+IF(Lists!BZ46=\"\",\"\",Lists!BZ46)","v":""}]
[null,{"$f":"+IF(Lists!BV47=\"\",\"\",Lists!BV47)","v":""},{"$f":"+IF(Lists!BW47=\"\",\"\",Lists!BW47)","v":""},{"$f":"+IF(Lists!BX47=\"\",\"\",Lists!BX47)","v":""},{"$f":"+IF(Lists!BY47=\"\",\"\",Lists!BY47)","v":""},{"$f":"+IF(Lists!BZ47=\"\",\"\",Lists!BZ47)","v":""}]
[null,{"$f":"+IF(Lists!BV48=\"\",\"\",Lists!BV48)","v":""},{"$f":"+IF(Lists!BW48=\"\",\"\",Lists!BW48)","v":""},{"$f":"+IF(Lists!BX48=\"\",\"\",Lists!BX48)","v":""},{"$f":"+IF(Lists!BY48=\"\",\"\",Lists!BY48)","v":""},{"$f":"+IF(Lists!BZ48=\"\",\"\",Lists!BZ48)","v":""}]
[null,{"$f":"+IF(Lists!BV49=\"\",\"\",Lists!BV49)","v":""},{"$f":"+IF(Lists!BW49=\"\",\"\",Lists!BW49)","v":""},{"$f":"+IF(Lists!BX49=\"\",\"\",Lists!BX49)","v":""},{"$f":"+IF(Lists!BY49=\"\",\"\",Lists!BY49)","v":""},{"$f":"+IF(Lists!BZ49=\"\",\"\",Lists!BZ49)","v":""}]
[null,{"$f":"+IF(Lists!BV50=\"\",\"\",Lists!BV50)","v":""},{"$f":"+IF(Lists!BW50=\"\",\"\",Lists!BW50)","v":""},{"$f":"+IF(Lists!BX50=\"\",\"\",Lists!BX50)","v":""},{"$f":"+IF(Lists!BY50=\"\",\"\",Lists!BY50)","v":""},{"$f":"+IF(Lists!BZ50=\"\",\"\",Lists!BZ50)","v":""}]
[null,{"$f":"+IF(Lists!BV51=\"\",\"\",Lists!BV51)","v":""},{"$f":"+IF(Lists!BW51=\"\",\"\",Lists!BW51)","v":""},{"$f":"+IF(Lists!BX51=\"\",\"\",Lists!BX51)","v":""},{"$f":"+IF(Lists!BY51=\"\",\"\",Lists!BY51)","v":""},{"$f":"+IF(Lists!BZ51=\"\",\"\",Lists!BZ51)","v":""}]
[null,{"$f":"+IF(Lists!BV52=\"\",\"\",Lists!BV52)","v":""},{"$f":"+IF(Lists!BW52=\"\",\"\",Lists!BW52)","v":""},{"$f":"+IF(Lists!BX52=\"\",\"\",Lists!BX52)","v":""},{"$f":"+IF(Lists!BY52=\"\",\"\",Lists!BY52)","v":""},{"$f":"+IF(Lists!BZ52=\"\",\"\",Lists!BZ52)","v":""}]
[null,{"$f":"+IF(Lists!BV53=\"\",\"\",Lists!BV53)","v":""},{"$f":"+IF(Lists!BW53=\"\",\"\",Lists!BW53)","v":""},{"$f":"+IF(Lists!BX53=\"\",\"\",Lists!BX53)","v":""},{"$f":"+IF(Lists!BY53=\"\",\"\",Lists!BY53)","v":""},{"$f":"+IF(Lists!BZ53=\"\",\"\",Lists!BZ53)","v":""}]
[null,{"$f":"+IF(Lists!BV54=\"\",\"\",Lists!BV54)","v":""},{"$f":"+IF(Lists!BW54=\"\",\"\",Lists!BW54)","v":""},{"$f":"+IF(Lists!BX54=\"\",\"\",Lists!BX54)","v":""},{"$f":"+IF(Lists!BY54=\"\",\"\",Lists!BY54)","v":""},{"$f":"+IF(Lists!BZ54=\"\",\"\",Lists!BZ54)","v":""}]
[null,{"$f":"+IF(Lists!BV55=\"\",\"\",Lists!BV55)","v":""},{"$f":"+IF(Lists!BW55=\"\",\"\",Lists!BW55)","v":""},{"$f":"+IF(Lists!BX55=\"\",\"\",Lists!BX55)","v":""},{"$f":"+IF(Lists!BY55=\"\",\"\",Lists!BY55)","v":""},{"$f":"+IF(Lists!BZ55=\"\",\"\",Lists!BZ55)","v":""}]
[null,{"$f":"+IF(Lists!BV56=\"\",\"\",Lists!BV56)","v":""},{"$f":"+IF(Lists!BW56=\"\",\"\",Lists!BW56)","v":""},{"$f":"+IF(Lists!BX56=\"\",\"\",Lists!BX56)","v":""},{"$f":"+IF(Lists!BY56=\"\",\"\",Lists!BY56)","v":""},{"$f":"+IF(Lists!BZ56=\"\",\"\",Lists!BZ56)","v":""}]
[null,{"$f":"+IF(Lists!BV57=\"\",\"\",Lists!BV57)","v":""},{"$f":"+IF(Lists!BW57=\"\",\"\",Lists!BW57)","v":""},{"$f":"+IF(Lists!BX57=\"\",\"\",Lists!BX57)","v":""},{"$f":"+IF(Lists!BY57=\"\",\"\",Lists!BY57)","v":""},{"$f":"+IF(Lists!BZ57=\"\",\"\",Lists!BZ57)","v":""}]
[null,{"$f":"+IF(Lists!BV58=\"\",\"\",Lists!BV58)","v":""},{"$f":"+IF(Lists!BW58=\"\",\"\",Lists!BW58)","v":""},{"$f":"+IF(Lists!BX58=\"\",\"\",Lists!BX58)","v":""},{"$f":"+IF(Lists!BY58=\"\",\"\",Lists!BY58)","v":""},{"$f":"+IF(Lists!BZ58=\"\",\"\",Lists!BZ58)","v":""}]
[null,{"$f":"+IF(Lists!BV59=\"\",\"\",Lists!BV59)","v":""},{"$f":"+IF(Lists!BW59=\"\",\"\",Lists!BW59)","v":""},{"$f":"+IF(Lists!BX59=\"\",\"\",Lists!BX59)","v":""},{"$f":"+IF(Lists!BY59=\"\",\"\",Lists!BY59)","v":""},{"$f":"+IF(Lists!BZ59=\"\",\"\",Lists!BZ59)","v":""}]
[null,{"$f":"+IF(Lists!BV60=\"\",\"\",Lists!BV60)","v":""},{"$f":"+IF(Lists!BW60=\"\",\"\",Lists!BW60)","v":""},{"$f":"+IF(Lists!BX60=\"\",\"\",Lists!BX60)","v":""},{"$f":"+IF(Lists!BY60=\"\",\"\",Lists!BY60)","v":""},{"$f":"+IF(Lists!BZ60=\"\",\"\",Lists!BZ60)","v":""}]
[null,{"$f":"+IF(Lists!BV61=\"\",\"\",Lists!BV61)","v":""},{"$f":"+IF(Lists!BW61=\"\",\"\",Lists!BW61)","v":""},{"$f":"+IF(Lists!BX61=\"\",\"\",Lists!BX61)","v":""},{"$f":"+IF(Lists!BY61=\"\",\"\",Lists!BY61)","v":""},{"$f":"+IF(Lists!BZ61=\"\",\"\",Lists!BZ61)","v":""}]
[null,{"$f":"+IF(Lists!BV62=\"\",\"\",Lists!BV62)","v":""},{"$f":"+IF(Lists!BW62=\"\",\"\",Lists!BW62)","v":""},{"$f":"+IF(Lists!BX62=\"\",\"\",Lists!BX62)","v":""},{"$f":"+IF(Lists!BY62=\"\",\"\",Lists!BY62)","v":""},{"$f":"+IF(Lists!BZ62=\"\",\"\",Lists!BZ62)","v":""}]
[null,{"$f":"+IF(Lists!BV63=\"\",\"\",Lists!BV63)","v":""},{"$f":"+IF(Lists!BW63=\"\",\"\",Lists!BW63)","v":""},{"$f":"+IF(Lists!BX63=\"\",\"\",Lists!BX63)","v":""},{"$f":"+IF(Lists!BY63=\"\",\"\",Lists!BY63)","v":""},{"$f":"+IF(Lists!BZ63=\"\",\"\",Lists!BZ63)","v":""}]
[null,{"$f":"+IF(Lists!BV64=\"\",\"\",Lists!BV64)","v":""},{"$f":"+IF(Lists!BW64=\"\",\"\",Lists!BW64)","v":""},{"$f":"+IF(Lists!BX64=\"\",\"\",Lists!BX64)","v":""},{"$f":"+IF(Lists!BY64=\"\",\"\",Lists!BY64)","v":""},{"$f":"+IF(Lists!BZ64=\"\",\"\",Lists!BZ64)","v":""}]
[null,{"$f":"+IF(Lists!BV65=\"\",\"\",Lists!BV65)","v":""},{"$f":"+IF(Lists!BW65=\"\",\"\",Lists!BW65)","v":""},{"$f":"+IF(Lists!BX65=\"\",\"\",Lists!BX65)","v":""},{"$f":"+IF(Lists!BY65=\"\",\"\",Lists!BY65)","v":""},{"$f":"+IF(Lists!BZ65=\"\",\"\",Lists!BZ65)","v":""}]
[null,{"$f":"+IF(Lists!BV66=\"\",\"\",Lists!BV66)","v":""},{"$f":"+IF(Lists!BW66=\"\",\"\",Lists!BW66)","v":""},{"$f":"+IF(Lists!BX66=\"\",\"\",Lists!BX66)","v":""},{"$f":"+IF(Lists!BY66=\"\",\"\",Lists!BY66)","v":""},{"$f":"+IF(Lists!BZ66=\"\",\"\",Lists!BZ66)","v":""}]
[null,{"$f":"+IF(Lists!BV67=\"\",\"\",Lists!BV67)","v":""},{"$f":"+IF(Lists!BW67=\"\",\"\",Lists!BW67)","v":""},{"$f":"+IF(Lists!BX67=\"\",\"\",Lists!BX67)","v":""},{"$f":"+IF(Lists!BY67=\"\",\"\",Lists!BY67)","v":""},{"$f":"+IF(Lists!BZ67=\"\",\"\",Lists!BZ67)","v":""}]
[null,{"$f":"+IF(Lists!BV68=\"\",\"\",Lists!BV68)","v":""},{"$f":"+IF(Lists!BW68=\"\",\"\",Lists!BW68)","v":""},{"$f":"+IF(Lists!BX68=\"\",\"\",Lists!BX68)","v":""},{"$f":"+IF(Lists!BY68=\"\",\"\",Lists!BY68)","v":""},{"$f":"+IF(Lists!BZ68=\"\",\"\",Lists!BZ68)","v":""}]
[null,{"$f":"+IF(Lists!BV69=\"\",\"\",Lists!BV69)","v":""},{"$f":"+IF(Lists!BW69=\"\",\"\",Lists!BW69)","v":""},{"$f":"+IF(Lists!BX69=\"\",\"\",Lists!BX69)","v":""},{"$f":"+IF(Lists!BY69=\"\",\"\",Lists!BY69)","v":""},{"$f":"+IF(Lists!BZ69=\"\",\"\",Lists!BZ69)","v":""}]
[null,{"$f":"+IF(Lists!BV70=\"\",\"\",Lists!BV70)","v":""},{"$f":"+IF(Lists!BW70=\"\",\"\",Lists!BW70)","v":""},{"$f":"+IF(Lists!BX70=\"\",\"\",Lists!BX70)","v":""},{"$f":"+IF(Lists!BY70=\"\",\"\",Lists!BY70)","v":""},{"$f":"+IF(Lists!BZ70=\"\",\"\",Lists!BZ70)","v":""}]
[null,{"$f":"+IF(Lists!BV71=\"\",\"\",Lists!BV71)","v":""},{"$f":"+IF(Lists!BW71=\"\",\"\",Lists!BW71)","v":""},{"$f":"+IF(Lists!BX71=\"\",\"\",Lists!BX71)","v":""},{"$f":"+IF(Lists!BY71=\"\",\"\",Lists!BY71)","v":""},{"$f":"+IF(Lists!BZ71=\"\",\"\",Lists!BZ71)","v":""}]
[null,{"$f":"+IF(Lists!BV72=\"\",\"\",Lists!BV72)","v":""},{"$f":"+IF(Lists!BW72=\"\",\"\",Lists!BW72)","v":""},{"$f":"+IF(Lists!BX72=\"\",\"\",Lists!BX72)","v":""},{"$f":"+IF(Lists!BY72=\"\",\"\",Lists!BY72)","v":""},{"$f":"+IF(Lists!BZ72=\"\",\"\",Lists!BZ72)","v":""}]
[null,{"$f":"+IF(Lists!BV73=\"\",\"\",Lists!BV73)","v":""},{"$f":"+IF(Lists!BW73=\"\",\"\",Lists!BW73)","v":""},{"$f":"+IF(Lists!BX73=\"\",\"\",Lists!BX73)","v":""},{"$f":"+IF(Lists!BY73=\"\",\"\",Lists!BY73)","v":""},{"$f":"+IF(Lists!BZ73=\"\",\"\",Lists!BZ73)","v":""}]
[null,{"$f":"+IF(Lists!BV74=\"\",\"\",Lists!BV74)","v":""},{"$f":"+IF(Lists!BW74=\"\",\"\",Lists!BW74)","v":""},{"$f":"+IF(Lists!BX74=\"\",\"\",Lists!BX74)","v":""},{"$f":"+IF(Lists!BY74=\"\",\"\",Lists!BY74)","v":""},{"$f":"+IF(Lists!BZ74=\"\",\"\",Lists!BZ74)","v":""}]
[null,{"$f":"+IF(Lists!BV75=\"\",\"\",Lists!BV75)","v":""},{"$f":"+IF(Lists!BW75=\"\",\"\",Lists!BW75)","v":""},{"$f":"+IF(Lists!BX75=\"\",\"\",Lists!BX75)","v":""},{"$f":"+IF(Lists!BY75=\"\",\"\",Lists!BY75)","v":""},{"$f":"+IF(Lists!BZ75=\"\",\"\",Lists!BZ75)","v":""}]
[null,{"$f":"+IF(Lists!BV76=\"\",\"\",Lists!BV76)","v":""},{"$f":"+IF(Lists!BW76=\"\",\"\",Lists!BW76)","v":""},{"$f":"+IF(Lists!BX76=\"\",\"\",Lists!BX76)","v":""},{"$f":"+IF(Lists!BY76=\"\",\"\",Lists!BY76)","v":""},{"$f":"+IF(Lists!BZ76=\"\",\"\",Lists!BZ76)","v":""}]
[null,{"$f":"+IF(Lists!BV77=\"\",\"\",Lists!BV77)","v":""},{"$f":"+IF(Lists!BW77=\"\",\"\",Lists!BW77)","v":""},{"$f":"+IF(Lists!BX77=\"\",\"\",Lists!BX77)","v":""},{"$f":"+IF(Lists!BY77=\"\",\"\",Lists!BY77)","v":""},{"$f":"+IF(Lists!BZ77=\"\",\"\",Lists!BZ77)","v":""}]
[null,{"$f":"+IF(Lists!BV78=\"\",\"\",Lists!BV78)","v":""},{"$f":"+IF(Lists!BW78=\"\",\"\",Lists!BW78)","v":""},{"$f":"+IF(Lists!BX78=\"\",\"\",Lists!BX78)","v":""},{"$f":"+IF(Lists!BY78=\"\",\"\",Lists!BY78)","v":""},{"$f":"+IF(Lists!BZ78=\"\",\"\",Lists!BZ78)","v":""}]

{"sheet":"Compliance Rpt - Puncture Seal","index":11,"n_rows":100,"n_cols":6,"rows_kept":100}
[null,"DO NOT REMOVE OR EDIT INFORMATION IN THIS SECTION\nFOR INTERNAL USE ONLY"]
[null,"Template Name",{"$f":"Welcome!B2","v":"63.6016(k) Notification of Compliance and  §63.6017(g) Semiannual Compliance Report (Spreadsheet Template)"}]
[null,"CitationID",{"$f":"Welcome!B3","v":"63.6016(k) and 63.6017(g)"}]
[null,"Template Version",{"$f":"Welcome!B4","v":"Final ICR Draft"}]
[null,"Last Updated Date",{"$f":"Welcome!B5","v":"2024-08-28"}]
[null,{"$f":"Welcome!B6","v":"OMB Control Number: 2060-0449 Form 5900-659"}]
[null,"40 CFR Part 63, Subpart XXXX National Emission Standards for Hazardous Air Pollutants: Rubber Tire Manufacturing -"]
[null,"\n"]
[]
[null,"Note: Columns B through D will be autofilled based on responses provided in the Compliance_Options worksheet."]
[null,"63.6017(g) Semiannual Compliance Report"]
[null,"Company Record No.\n(Autofilled)","Name of Rubber Tire Manufacturing Affected Source\n(§63.9(h))\n(Autofilled)","Rubber Tire Manufacturing Subcategory\n(Autofilled)","For each puncture sealant application affected source, provide the emission limit option in §63.5988 that you have chosen to meet\n(§63.6017(c)(10))\n(Autofilled)","For each puncture sealant application affected source, provide the compliance alternative in §63.5989 that you have chosen to meet\n(§63.6017(c)(10))\n(Autofilled)"]
[null,"RecordId","OperationName","Subcategory","EmissionLimitOption","ComplianceAlternative"]
[null,"e.g.: 1","e.g.: tire 3","e.g.: Puncture Sealant Application","e.g.: Option 1.a (percent reduction option)—Existing","e.g.: Overall control efficiency alternative"]
[null,"e.g.:","e.g.:","e.g.:","e.g.:","e.g.:"]
[null,"e.g.:","e.g.:","e.g.:","e.g.:","e.g.:"]
[null,"e.g.:","e.g.:","e.g.:","e.g.:","e.g.:"]
[null,"e.g.:","e.g.:","e.g.:","e.g.:","e.g.:"]
[null,"e.g.:","e.g.:","e.g.:","e.g.:","e.g.:"]
[null,"e.g.:","e.g.:","e.g.:","e.g.:","e.g.:"]
[null,"e.g.:","e.g.:","e.g.:","e.g.:","e.g.:"]
[null,"e.g.:","e.g.:","e.g.:","e.g.:","e.g.:"]
[null,"e.g.:","e.g.:","e.g.:","e.g.:","e.g.:"]
[null,{"$f":"+IF(Lists!CD2=\"\",\"\",Lists!CD2)","v":""},{"$f":"+IF(Lists!CE2=\"\",\"\",Lists!CE2)","v":""},{"$f":"+IF(Lists!CF2=\"\",\"\",Lists!CF2)","v":""},{"$f":"+IF(Lists!CG2=\"\",\"\",Lists!CG2)","v":""},{"$f":"+IF(Lists!CH2=\"\",\"\",Lists!CH2)","v":""}]
[null,{"$f":"+IF(Lists!CD3=\"\",\"\",Lists!CD3)","v":""},{"$f":"+IF(Lists!CE3=\"\",\"\",Lists!CE3)","v":""},{"$f":"+IF(Lists!CF3=\"\",\"\",Lists!CF3)","v":""},{"$f":"+IF(Lists!CG3=\"\",\"\",Lists!CG3)","v":""},{"$f":"+IF(Lists!CH3=\"\",\"\",Lists!CH3)","v":""}]
[null,{"$f":"+IF(Lists!CD4=\"\",\"\",Lists!CD4)","v":""},{"$f":"+IF(Lists!CE4=\"\",\"\",Lists!CE4)","v":""},{"$f":"+IF(Lists!CF4=\"\",\"\",Lists!CF4)","v":""},{"$f":"+IF(Lists!CG4=\"\",\"\",Lists!CG4)","v":""},{"$f":"+IF(Lists!CH4=\"\",\"\",Lists!CH4)","v":""}]
[null,{"$f":"+IF(Lists!CD5=\"\",\"\",Lists!CD5)","v":""},{"$f":"+IF(Lists!CE5=\"\",\"\",Lists!CE5)","v":""},{"$f":"+IF(Lists!CF5=\"\",\"\",Lists!CF5)","v":""},{"$f":"+IF(Lists!CG5=\"\",\"\",Lists!CG5)","v":""},{"$f":"+IF(Lists!CH5=\"\",\"\",Lists!CH5)","v":""}]
[null,{"$f":"+IF(Lists!CD6=\"\",\"\",Lists!CD6)","v":""},{"$f":"+IF(Lists!CE6=\"\",\"\",Lists!CE6)","v":""},{"$f":"+IF(Lists!CF6=\"\",\"\",Lists!CF6)","v":""},{"$f":"+IF(Lists!CG6=\"\",\"\",Lists!CG6)","v":""},{"$f":"+IF(Lists!CH6=\"\",\"\",Lists!CH6)","v":""}]
[null,{"$f":"+IF(Lists!CD7=\"\",\"\",Lists!CD7)","v":""},{"$f":"+IF(Lists!CE7=\"\",\"\",Lists!CE7)","v":""},{"$f":"+IF(Lists!CF7=\"\",\"\",Lists!CF7)","v":""},{"$f":"+IF(Lists!CG7=\"\",\"\",Lists!CG7)","v":""},{"$f":"+IF(Lists!CH7=\"\",\"\",Lists!CH7)","v":""}]
[null,{"$f":"+IF(Lists!CD8=\"\",\"\",Lists!CD8)","v":""},{"$f":"+IF(Lists!CE8=\"\",\"\",Lists!CE8)","v":""},{"$f":"+IF(Lists!CF8=\"\",\"\",Lists!CF8)","v":""},{"$f":"+IF(Lists!CG8=\"\",\"\",Lists!CG8)","v":""},{"$f":"+IF(Lists!CH8=\"\",\"\",Lists!CH8)","v":""}]
[null,{"$f":"+IF(Lists!CD9=\"\",\"\",Lists!CD9)","v":""},{"$f":"+IF(Lists!CE9=\"\",\"\",Lists!CE9)","v":""},{"$f":"+IF(Lists!CF9=\"\",\"\",Lists!CF9)","v":""},{"$f":"+IF(Lists!CG9=\"\",\"\",Lists!CG9)","v":""},{"$f":"+IF(Lists!CH9=\"\",\"\",Lists!CH9)","v":""}]
[null,{"$f":"+IF(Lists!CD10=\"\",\"\",Lists!CD10)","v":""},{"$f":"+IF(Lists!CE10=\"\",\"\",Lists!CE10)","v":""},{"$f":"+IF(Lists!CF10=\"\",\"\",Lists!CF10)","v":""},{"$f":"+IF(Lists!CG10=\"\",\"\",Lists!CG10)","v":""},{"$f":"+IF(Lists!CH10=\"\",\"\",Lists!CH10)","v":""}]
[null,{"$f":"+IF(Lists!CD11=\"\",\"\",Lists!CD11)","v":""},{"$f":"+IF(Lists!CE11=\"\",\"\",Lists!CE11)","v":""},{"$f":"+IF(Lists!CF11=\"\",\"\",Lists!CF11)","v":""},{"$f":"+IF(Lists!CG11=\"\",\"\",Lists!CG11)","v":""},{"$f":"+IF(Lists!CH11=\"\",\"\",Lists!CH11)","v":""}]
[null,{"$f":"+IF(Lists!CD12=\"\",\"\",Lists!CD12)","v":""},{"$f":"+IF(Lists!CE12=\"\",\"\",Lists!CE12)","v":""},{"$f":"+IF(Lists!CF12=\"\",\"\",Lists!CF12)","v":""},{"$f":"+IF(Lists!CG12=\"\",\"\",Lists!CG12)","v":""},{"$f":"+IF(Lists!CH12=\"\",\"\",Lists!CH12)","v":""}]
[null,{"$f":"+IF(Lists!CD13=\"\",\"\",Lists!CD13)","v":""},{"$f":"+IF(Lists!CE13=\"\",\"\",Lists!CE13)","v":""},{"$f":"+IF(Lists!CF13=\"\",\"\",Lists!CF13)","v":""},{"$f":"+IF(Lists!CG13=\"\",\"\",Lists!CG13)","v":""},{"$f":"+IF(Lists!CH13=\"\",\"\",Lists!CH13)","v":""}]
[null,{"$f":"+IF(Lists!CD14=\"\",\"\",Lists!CD14)","v":""},{"$f":"+IF(Lists!CE14=\"\",\"\",Lists!CE14)","v":""},{"$f":"+IF(Lists!CF14=\"\",\"\",Lists!CF14)","v":""},{"$f":"+IF(Lists!CG14=\"\",\"\",Lists!CG14)","v":""},{"$f":"+IF(Lists!CH14=\"\",\"\",Lists!CH14)","v":""}]
[null,{"$f":"+IF(Lists!CD15=\"\",\"\",Lists!CD15)","v":""},{"$f":"+IF(Lists!CE15=\"\",\"\",Lists!CE15)","v":""},{"$f":"+IF(Lists!CF15=\"\",\"\",Lists!CF15)","v":""},{"$f":"+IF(Lists!CG15=\"\",\"\",Lists!CG15)","v":""},{"$f":"+IF(Lists!CH15=\"\",\"\",Lists!CH15)","v":""}]
[null,{"$f":"+IF(Lists!CD16=\"\",\"\",Lists!CD16)","v":""},{"$f":"+IF(Lists!CE16=\"\",\"\",Lists!CE16)","v":""},{"$f":"+IF(Lists!CF16=\"\",\"\",Lists!CF16)","v":""},{"$f":"+IF(Lists!CG16=\"\",\"\",Lists!CG16)","v":""},{"$f":"+IF(Lists!CH16=\"\",\"\",Lists!CH16)","v":""}]
[null,{"$f":"+IF(Lists!CD17=\"\",\"\",Lists!CD17)","v":""},{"$f":"+IF(Lists!CE17=\"\",\"\",Lists!CE17)","v":""},{"$f":"+IF(Lists!CF17=\"\",\"\",Lists!CF17)","v":""},{"$f":"+IF(Lists!CG17=\"\",\"\",Lists!CG17)","v":""},{"$f":"+IF(Lists!CH17=\"\",\"\",Lists!CH17)","v":""}]
[null,{"$f":"+IF(Lists!CD18=\"\",\"\",Lists!CD18)","v":""},{"$f":"+IF(Lists!CE18=\"\",\"\",Lists!CE18)","v":""},{"$f":"+IF(Lists!CF18=\"\",\"\",Lists!CF18)","v":""},{"$f":"+IF(Lists!CG18=\"\",\"\",Lists!CG18)","v":""},{"$f":"+IF(Lists!CH18=\"\",\"\",Lists!CH18)","v":""}]
[null,{"$f":"+IF(Lists!CD19=\"\",\"\",Lists!CD19)","v":""},{"$f":"+IF(Lists!CE19=\"\",\"\",Lists!CE19)","v":""},{"$f":"+IF(Lists!CF19=\"\",\"\",Lists!CF19)","v":""},{"$f":"+IF(Lists!CG19=\"\",\"\",Lists!CG19)","v":""},{"$f":"+IF(Lists!CH19=\"\",\"\",Lists!CH19)","v":""}]
[null,{"$f":"+IF(Lists!CD20=\"\",\"\",Lists!CD20)","v":""},{"$f":"+IF(Lists!CE20=\"\",\"\",Lists!CE20)","v":""},{"$f":"+IF(Lists!CF20=\"\",\"\",Lists!CF20)","v":""},{"$f":"+IF(Lists!CG20=\"\",\"\",Lists!CG20)","v":""},{"$f":"+IF(Lists!CH20=\"\",\"\",Lists!CH20)","v":""}]
[null,{"$f":"+IF(Lists!CD21=\"\",\"\",Lists!CD21)","v":""},{"$f":"+IF(Lists!CE21=\"\",\"\",Lists!CE21)","v":""},{"$f":"+IF(Lists!CF21=\"\",\"\",Lists!CF21)","v":""},{"$f":"+IF(Lists!CG21=\"\",\"\",Lists!CG21)","v":""},{"$f":"+IF(Lists!CH21=\"\",\"\",Lists!CH21)","v":""}]
[null,{"$f":"+IF(Lists!CD22=\"\",\"\",Lists!CD22)","v":""},{"$f":"+IF(Lists!CE22=\"\",\"\",Lists!CE22)","v":""},{"$f":"+IF(Lists!CF22=\"\",\"\",Lists!CF22)","v":""},{"$f":"+IF(Lists!CG22=\"\",\"\",Lists!CG22)","v":""},{"$f":"+IF(Lists!CH22=\"\",\"\",Lists!CH22)","v":""}]
[null,{"$f":"+IF(Lists!CD23=\"\",\"\",Lists!CD23)","v":""},{"$f":"+IF(Lists!CE23=\"\",\"\",Lists!CE23)","v":""},{"$f":"+IF(Lists!CF23=\"\",\"\",Lists!CF23)","v":""},{"$f":"+IF(Lists!CG23=\"\",\"\",Lists!CG23)","v":""},{"$f":"+IF(Lists!CH23=\"\",\"\",Lists!CH23)","v":""}]
[null,{"$f":"+IF(Lists!CD24=\"\",\"\",Lists!CD24)","v":""},{"$f":"+IF(Lists!CE24=\"\",\"\",Lists!CE24)","v":""},{"$f":"+IF(Lists!CF24=\"\",\"\",Lists!CF24)","v":""},{"$f":"+IF(Lists!CG24=\"\",\"\",Lists!CG24)","v":""},{"$f":"+IF(Lists!CH24=\"\",\"\",Lists!CH24)","v":""}]
[null,{"$f":"+IF(Lists!CD25=\"\",\"\",Lists!CD25)","v":""},{"$f":"+IF(Lists!CE25=\"\",\"\",Lists!CE25)","v":""},{"$f":"+IF(Lists!CF25=\"\",\"\",Lists!CF25)","v":""},{"$f":"+IF(Lists!CG25=\"\",\"\",Lists!CG25)","v":""},{"$f":"+IF(Lists!CH25=\"\",\"\",Lists!CH25)","v":""}]
[null,{"$f":"+IF(Lists!CD26=\"\",\"\",Lists!CD26)","v":""},{"$f":"+IF(Lists!CE26=\"\",\"\",Lists!CE26)","v":""},{"$f":"+IF(Lists!CF26=\"\",\"\",Lists!CF26)","v":""},{"$f":"+IF(Lists!CG26=\"\",\"\",Lists!CG26)","v":""},{"$f":"+IF(Lists!CH26=\"\",\"\",Lists!CH26)","v":""}]
[null,{"$f":"+IF(Lists!CD27=\"\",\"\",Lists!CD27)","v":""},{"$f":"+IF(Lists!CE27=\"\",\"\",Lists!CE27)","v":""},{"$f":"+IF(Lists!CF27=\"\",\"\",Lists!CF27)","v":""},{"$f":"+IF(Lists!CG27=\"\",\"\",Lists!CG27)","v":""},{"$f":"+IF(Lists!CH27=\"\",\"\",Lists!CH27)","v":""}]
[null,{"$f":"+IF(Lists!CD28=\"\",\"\",Lists!CD28)","v":""},{"$f":"+IF(Lists!CE28=\"\",\"\",Lists!CE28)","v":""},{"$f":"+IF(Lists!CF28=\"\",\"\",Lists!CF28)","v":""},{"$f":"+IF(Lists!CG28=\"\",\"\",Lists!CG28)","v":""},{"$f":"+IF(Lists!CH28=\"\",\"\",Lists!CH28)","v":""}]
[null,{"$f":"+IF(Lists!CD29=\"\",\"\",Lists!CD29)","v":""},{"$f":"+IF(Lists!CE29=\"\",\"\",Lists!CE29)","v":""},{"$f":"+IF(Lists!CF29=\"\",\"\",Lists!CF29)","v":""},{"$f":"+IF(Lists!CG29=\"\",\"\",Lists!CG29)","v":""},{"$f":"+IF(Lists!CH29=\"\",\"\",Lists!CH29)","v":""}]
[null,{"$f":"+IF(Lists!CD30=\"\",\"\",Lists!CD30)","v":""},{"$f":"+IF(Lists!CE30=\"\",\"\",Lists!CE30)","v":""},{"$f":"+IF(Lists!CF30=\"\",\"\",Lists!CF30)","v":""},{"$f":"+IF(Lists!CG30=\"\",\"\",Lists!CG30)","v":""},{"$f":"+IF(Lists!CH30=\"\",\"\",Lists!CH30)","v":""}]
[null,{"$f":"+IF(Lists!CD31=\"\",\"\",Lists!CD31)","v":""},{"$f":"+IF(Lists!CE31=\"\",\"\",Lists!CE31)","v":""},{"$f":"+IF(Lists!CF31=\"\",\"\",Lists!CF31)","v":""},{"$f":"+IF(Lists!CG31=\"\",\"\",Lists!CG31)","v":""},{"$f":"+IF(Lists!CH31=\"\",\"\",Lists!CH31)","v":""}]
[null,{"$f":"+IF(Lists!CD32=\"\",\"\",Lists!CD32)","v":""},{"$f":"+IF(Lists!CE32=\"\",\"\",Lists!CE32)","v":""},{"$f":"+IF(Lists!CF32=\"\",\"\",Lists!CF32)","v":""},{"$f":"+IF(Lists!CG32=\"\",\"\",Lists!CG32)","v":""},{"$f":"+IF(Lists!CH32=\"\",\"\",Lists!CH32)","v":""}]
[null,{"$f":"+IF(Lists!CD33=\"\",\"\",Lists!CD33)","v":""},{"$f":"+IF(Lists!CE33=\"\",\"\",Lists!CE33)","v":""},{"$f":"+IF(Lists!CF33=\"\",\"\",Lists!CF33)","v":""},{"$f":"+IF(Lists!CG33=\"\",\"\",Lists!CG33)","v":""},{"$f":"+IF(Lists!CH33=\"\",\"\",Lists!CH33)","v":""}]
[null,{"$f":"+IF(Lists!CD34=\"\",\"\",Lists!CD34)","v":""},{"$f":"+IF(Lists!CE34=\"\",\"\",Lists!CE34)","v":""},{"$f":"+IF(Lists!CF34=\"\",\"\",Lists!CF34)","v":""},{"$f":"+IF(Lists!CG34=\"\",\"\",Lists!CG34)","v":""},{"$f":"+IF(Lists!CH34=\"\",\"\",Lists!CH34)","v":""}]
[null,{"$f":"+IF(Lists!CD35=\"\",\"\",Lists!CD35)","v":""},{"$f":"+IF(Lists!CE35=\"\",\"\",Lists!CE35)","v":""},{"$f":"+IF(Lists!CF35=\"\",\"\",Lists!CF35)","v":""},{"$f":"+IF(Lists!CG35=\"\",\"\",Lists!CG35)","v":""},{"$f":"+IF(Lists!CH35=\"\",\"\",Lists!CH35)","v":""}]
[null,{"$f":"+IF(Lists!CD36=\"\",\"\",Lists!CD36)","v":""},{"$f":"+IF(Lists!CE36=\"\",\"\",Lists!CE36)","v":""},{"$f":"+IF(Lists!CF36=\"\",\"\",Lists!CF36)","v":""},{"$f":"+IF(Lists!CG36=\"\",\"\",Lists!CG36)","v":""},{"$f":"+IF(Lists!CH36=\"\",\"\",Lists!CH36)","v":""}]
[null,{"$f":"+IF(Lists!CD37=\"\",\"\",Lists!CD37)","v":""},{"$f":"+IF(Lists!CE37=\"\",\"\",Lists!CE37)","v":""},{"$f":"+IF(Lists!CF37=\"\",\"\",Lists!CF37)","v":""},{"$f":"+IF(Lists!CG37=\"\",\"\",Lists!CG37)","v":""},{"$f":"+IF(Lists!CH37=\"\",\"\",Lists!CH37)","v":""}]
[null,{"$f":"+IF(Lists!CD38=\"\",\"\",Lists!CD38)","v":""},{"$f":"+IF(Lists!CE38=\"\",\"\",Lists!CE38)","v":""},{"$f":"+IF(Lists!CF38=\"\",\"\",Lists!CF38)","v":""},{"$f":"+IF(Lists!CG38=\"\",\"\",Lists!CG38)","v":""},{"$f":"+IF(Lists!CH38=\"\",\"\",Lists!CH38)","v":""}]
[null,{"$f":"+IF(Lists!CD39=\"\",\"\",Lists!CD39)","v":""},{"$f":"+IF(Lists!CE39=\"\",\"\",Lists!CE39)","v":""},{"$f":"+IF(Lists!CF39=\"\",\"\",Lists!CF39)","v":""},{"$f":"+IF(Lists!CG39=\"\",\"\",Lists!CG39)","v":""},{"$f":"+IF(Lists!CH39=\"\",\"\",Lists!CH39)","v":""}]
[null,{"$f":"+IF(Lists!CD40=\"\",\"\",Lists!CD40)","v":""},{"$f":"+IF(Lists!CE40=\"\",\"\",Lists!CE40)","v":""},{"$f":"+IF(Lists!CF40=\"\",\"\",Lists!CF40)","v":""},{"$f":"+IF(Lists!CG40=\"\",\"\",Lists!CG40)","v":""},{"$f":"+IF(Lists!CH40=\"\",\"\",Lists!CH40)","v":""}]
[null,{"$f":"+IF(Lists!CD41=\"\",\"\",Lists!CD41)","v":""},{"$f":"+IF(Lists!CE41=\"\",\"\",Lists!CE41)","v":""},{"$f":"+IF(Lists!CF41=\"\",\"\",Lists!CF41)","v":""},{"$f":"+IF(Lists!CG41=\"\",\"\",Lists!CG41)","v":""},{"$f":"+IF(Lists!CH41=\"\",\"\",Lists!CH41)","v":""}]
[null,{"$f":"+IF(Lists!CD42=\"\",\"\",Lists!CD42)","v":""},{"$f":"+IF(Lists!CE42=\"\",\"\",Lists!CE42)","v":""},{"$f":"+IF(Lists!CF42=\"\",\"\",Lists!CF42)","v":""},{"$f":"+IF(Lists!CG42=\"\",\"\",Lists!CG42)","v":""},{"$f":"+IF(Lists!CH42=\"\",\"\",Lists!CH42)","v":""}]
[null,{"$f":"+IF(Lists!CD43=\"\",\"\",Lists!CD43)","v":""},{"$f":"+IF(Lists!CE43=\"\",\"\",Lists!CE43)","v":""},{"$f":"+IF(Lists!CF43=\"\",\"\",Lists!CF43)","v":""},{"$f":"+IF(Lists!CG43=\"\",\"\",Lists!CG43)","v":""},{"$f":"+IF(Lists!CH43=\"\",\"\",Lists!CH43)","v":""}]
[null,{"$f":"+IF(Lists!CD44=\"\",\"\",Lists!CD44)","v":""},{"$f":"+IF(Lists!CE44=\"\",\"\",Lists!CE44)","v":""},{"$f":"+IF(Lists!CF44=\"\",\"\",Lists!CF44)","v":""},{"$f":"+IF(Lists!CG44=\"\",\"\",Lists!CG44)","v":""},{"$f":"+IF(Lists!CH44=\"\",\"\",Lists!CH44)","v":""}]
[null,{"$f":"+IF(Lists!CD45=\"\",\"\",Lists!CD45)","v":""},{"$f":"+IF(Lists!CE45=\"\",\"\",Lists!CE45)","v":""},{"$f":"+IF(Lists!CF45=\"\",\"\",Lists!CF45)","v":""},{"$f":"+IF(Lists!CG45=\"\",\"\",Lists!CG45)","v":""},{"$f":"+IF(Lists!CH45=\"\",\"\",Lists!CH45)","v":""}]
[null,{"$f":"+IF(Lists!CD46=\"\",\"\",Lists!CD46)","v":""},{"$f":"+IF(Lists!CE46=\"\",\"\",Lists!CE46)","v":""},{"$f":"+IF(Lists!CF46=\"\",\"\",Lists!CF46)","v":""},{"$f":"+IF(Lists!CG46=\"\",\"\",Lists!CG46)","v":""},{"$f":"+IF(Lists!CH46=\"\",\"\",Lists!CH46)","v":""}]
[null,{"$f":"+IF(Lists!CD47=\"\",\"\",Lists!CD47)","v":""},{"$f":"+IF(Lists!CE47=\"\",\"\",Lists!CE47)","v":""},{"$f":"+IF(Lists!CF47=\"\",\"\",Lists!CF47)","v":""},{"$f":"+IF(Lists!CG47=\"\",\"\",Lists!CG47)","v":""},{"$f":"+IF(Lists!CH47=\"\",\"\",Lists!CH47)","v":""}]
[null,{"$f":"+IF(Lists!CD48=\"\",\"\",Lists!CD48)","v":""},{"$f":"+IF(Lists!CE48=\"\",\"\",Lists!CE48)","v":""},{"$f":"+IF(Lists!CF48=\"\",\"\",Lists!CF48)","v":""},{"$f":"+IF(Lists!CG48=\"\",\"\",Lists!CG48)","v":""},{"$f":"+IF(Lists!CH48=\"\",\"\",Lists!CH48)","v":""}]
[null,{"$f":"+IF(Lists!CD49=\"\",\"\",Lists!CD49)","v":""},{"$f":"+IF(Lists!CE49=\"\",\"\",Lists!CE49)","v":""},{"$f":"+IF(Lists!CF49=\"\",\"\",Lists!CF49)","v":""},{"$f":"+IF(Lists!CG49=\"\",\"\",Lists!CG49)","v":""},{"$f":"+IF(Lists!CH49=\"\",\"\",Lists!CH49)","v":""}]
[null,{"$f":"+IF(Lists!CD50=\"\",\"\",Lists!CD50)","v":""},{"$f":"+IF(Lists!CE50=\"\",\"\",Lists!CE50)","v":""},{"$f":"+IF(Lists!CF50=\"\",\"\",Lists!CF50)","v":""},{"$f":"+IF(Lists!CG50=\"\",\"\",Lists!CG50)","v":""},{"$f":"+IF(Lists!CH50=\"\",\"\",Lists!CH50)","v":""}]
[null,{"$f":"+IF(Lists!CD51=\"\",\"\",Lists!CD51)","v":""},{"$f":"+IF(Lists!CE51=\"\",\"\",Lists!CE51)","v":""},{"$f":"+IF(Lists!CF51=\"\",\"\",Lists!CF51)","v":""},{"$f":"+IF(Lists!CG51=\"\",\"\",Lists!CG51)","v":""},{"$f":"+IF(Lists!CH51=\"\",\"\",Lists!CH51)","v":""}]
[null,{"$f":"+IF(Lists!CD52=\"\",\"\",Lists!CD52)","v":""},{"$f":"+IF(Lists!CE52=\"\",\"\",Lists!CE52)","v":""},{"$f":"+IF(Lists!CF52=\"\",\"\",Lists!CF52)","v":""},{"$f":"+IF(Lists!CG52=\"\",\"\",Lists!CG52)","v":""},{"$f":"+IF(Lists!CH52=\"\",\"\",Lists!CH52)","v":""}]
[null,{"$f":"+IF(Lists!CD53=\"\",\"\",Lists!CD53)","v":""},{"$f":"+IF(Lists!CE53=\"\",\"\",Lists!CE53)","v":""},{"$f":"+IF(Lists!CF53=\"\",\"\",Lists!CF53)","v":""},{"$f":"+IF(Lists!CG53=\"\",\"\",Lists!CG53)","v":""},{"$f":"+IF(Lists!CH53=\"\",\"\",Lists!CH53)","v":""}]
[null,{"$f":"+IF(Lists!CD54=\"\",\"\",Lists!CD54)","v":""},{"$f":"+IF(Lists!CE54=\"\",\"\",Lists!CE54)","v":""},{"$f":"+IF(Lists!CF54=\"\",\"\",Lists!CF54)","v":""},{"$f":"+IF(Lists!CG54=\"\",\"\",Lists!CG54)","v":""},{"$f":"+IF(Lists!CH54=\"\",\"\",Lists!CH54)","v":""}]
[null,{"$f":"+IF(Lists!CD55=\"\",\"\",Lists!CD55)","v":""},{"$f":"+IF(Lists!CE55=\"\",\"\",Lists!CE55)","v":""},{"$f":"+IF(Lists!CF55=\"\",\"\",Lists!CF55)","v":""},{"$f":"+IF(Lists!CG55=\"\",\"\",Lists!CG55)","v":""},{"$f":"+IF(Lists!CH55=\"\",\"\",Lists!CH55)","v":""}]
[null,{"$f":"+IF(Lists!CD56=\"\",\"\",Lists!CD56)","v":""},{"$f":"+IF(Lists!CE56=\"\",\"\",Lists!CE56)","v":""},{"$f":"+IF(Lists!CF56=\"\",\"\",Lists!CF56)","v":""},{"$f":"+IF(Lists!CG56=\"\",\"\",Lists!CG56)","v":""},{"$f":"+IF(Lists!CH56=\"\",\"\",Lists!CH56)","v":""}]
[null,{"$f":"+IF(Lists!CD57=\"\",\"\",Lists!CD57)","v":""},{"$f":"+IF(Lists!CE57=\"\",\"\",Lists!CE57)","v":""},{"$f":"+IF(Lists!CF57=\"\",\"\",Lists!CF57)","v":""},{"$f":"+IF(Lists!CG57=\"\",\"\",Lists!CG57)","v":""},{"$f":"+IF(Lists!CH57=\"\",\"\",Lists!CH57)","v":""}]
[null,{"$f":"+IF(Lists!CD58=\"\",\"\",Lists!CD58)","v":""},{"$f":"+IF(Lists!CE58=\"\",\"\",Lists!CE58)","v":""},{"$f":"+IF(Lists!CF58=\"\",\"\",Lists!CF58)","v":""},{"$f":"+IF(Lists!CG58=\"\",\"\",Lists!CG58)","v":""},{"$f":"+IF(Lists!CH58=\"\",\"\",Lists!CH58)","v":""}]
[null,{"$f":"+IF(Lists!CD59=\"\",\"\",Lists!CD59)","v":""},{"$f":"+IF(Lists!CE59=\"\",\"\",Lists!CE59)","v":""},{"$f":"+IF(Lists!CF59=\"\",\"\",Lists!CF59)","v":""},{"$f":"+IF(Lists!CG59=\"\",\"\",Lists!CG59)","v":""},{"$f":"+IF(Lists!CH59=\"\",\"\",Lists!CH59)","v":""}]
[null,{"$f":"+IF(Lists!CD60=\"\",\"\",Lists!CD60)","v":""},{"$f":"+IF(Lists!CE60=\"\",\"\",Lists!CE60)","v":""},{"$f":"+IF(Lists!CF60=\"\",\"\",Lists!CF60)","v":""},{"$f":"+IF(Lists!CG60=\"\",\"\",Lists!CG60)","v":""},{"$f":"+IF(Lists!CH60=\"\",\"\",Lists!CH60)","v":""}]
[null,{"$f":"+IF(Lists!CD61=\"\",\"\",Lists!CD61)","v":""},{"$f":"+IF(Lists!CE61=\"\",\"\",Lists!CE61)","v":""},{"$f":"+IF(Lists!CF61=\"\",\"\",Lists!CF61)","v":""},{"$f":"+IF(Lists!CG61=\"\",\"\",Lists!CG61)","v":""},{"$f":"+IF(Lists!CH61=\"\",\"\",Lists!CH61)","v":""}]
[null,{"$f":"+IF(Lists!CD62=\"\",\"\",Lists!CD62)","v":""},{"$f":"+IF(Lists!CE62=\"\",\"\",Lists!CE62)","v":""},{"$f":"+IF(Lists!CF62=\"\",\"\",Lists!CF62)","v":""},{"$f":"+IF(Lists!CG62=\"\",\"\",Lists!CG62)","v":""},{"$f":"+IF(Lists!CH62=\"\",\"\",Lists!CH62)","v":""}]
[null,{"$f":"+IF(Lists!CD63=\"\",\"\",Lists!CD63)","v":""},{"$f":"+IF(Lists!CE63=\"\",\"\",Lists!CE63)","v":""},{"$f":"+IF(Lists!CF63=\"\",\"\",Lists!CF63)","v":""},{"$f":"+IF(Lists!CG63=\"\",\"\",Lists!CG63)","v":""},{"$f":"+IF(Lists!CH63=\"\",\"\",Lists!CH63)","v":""}]
[null,{"$f":"+IF(Lists!CD64=\"\",\"\",Lists!CD64)","v":""},{"$f":"+IF(Lists!CE64=\"\",\"\",Lists!CE64)","v":""},{"$f":"+IF(Lists!CF64=\"\",\"\",Lists!CF64)","v":""},{"$f":"+IF(Lists!CG64=\"\",\"\",Lists!CG64)","v":""},{"$f":"+IF(Lists!CH64=\"\",\"\",Lists!CH64)","v":""}]
[null,{"$f":"+IF(Lists!CD65=\"\",\"\",Lists!CD65)","v":""},{"$f":"+IF(Lists!CE65=\"\",\"\",Lists!CE65)","v":""},{"$f":"+IF(Lists!CF65=\"\",\"\",Lists!CF65)","v":""},{"$f":"+IF(Lists!CG65=\"\",\"\",Lists!CG65)","v":""},{"$f":"+IF(Lists!CH65=\"\",\"\",Lists!CH65)","v":""}]
[null,{"$f":"+IF(Lists!CD66=\"\",\"\",Lists!CD66)","v":""},{"$f":"+IF(Lists!CE66=\"\",\"\",Lists!CE66)","v":""},{"$f":"+IF(Lists!CF66=\"\",\"\",Lists!CF66)","v":""},{"$f":"+IF(Lists!CG66=\"\",\"\",Lists!CG66)","v":""},{"$f":"+IF(Lists!CH66=\"\",\"\",Lists!CH66)","v":""}]
[null,{"$f":"+IF(Lists!CD67=\"\",\"\",Lists!CD67)","v":""},{"$f":"+IF(Lists!CE67=\"\",\"\",Lists!CE67)","v":""},{"$f":"+IF(Lists!CF67=\"\",\"\",Lists!CF67)","v":""},{"$f":"+IF(Lists!CG67=\"\",\"\",Lists!CG67)","v":""},{"$f":"+IF(Lists!CH67=\"\",\"\",Lists!CH67)","v":""}]
[null,{"$f":"+IF(Lists!CD68=\"\",\"\",Lists!CD68)","v":""},{"$f":"+IF(Lists!CE68=\"\",\"\",Lists!CE68)","v":""},{"$f":"+IF(Lists!CF68=\"\",\"\",Lists!CF68)","v":""},{"$f":"+IF(Lists!CG68=\"\",\"\",Lists!CG68)","v":""},{"$f":"+IF(Lists!CH68=\"\",\"\",Lists!CH68)","v":""}]
[null,{"$f":"+IF(Lists!CD69=\"\",\"\",Lists!CD69)","v":""},{"$f":"+IF(Lists!CE69=\"\",\"\",Lists!CE69)","v":""},{"$f":"+IF(Lists!CF69=\"\",\"\",Lists!CF69)","v":""},{"$f":"+IF(Lists!CG69=\"\",\"\",Lists!CG69)","v":""},{"$f":"+IF(Lists!CH69=\"\",\"\",Lists!CH69)","v":""}]
[null,{"$f":"+IF(Lists!CD70=\"\",\"\",Lists!CD70)","v":""},{"$f":"+IF(Lists!CE70=\"\",\"\",Lists!CE70)","v":""},{"$f":"+IF(Lists!CF70=\"\",\"\",Lists!CF70)","v":""},{"$f":"+IF(Lists!CG70=\"\",\"\",Lists!CG70)","v":""},{"$f":"+IF(Lists!CH70=\"\",\"\",Lists!CH70)","v":""}]
[null,{"$f":"+IF(Lists!CD71=\"\",\"\",Lists!CD71)","v":""},{"$f":"+IF(Lists!CE71=\"\",\"\",Lists!CE71)","v":""},{"$f":"+IF(Lists!CF71=\"\",\"\",Lists!CF71)","v":""},{"$f":"+IF(Lists!CG71=\"\",\"\",Lists!CG71)","v":""},{"$f":"+IF(Lists!CH71=\"\",\"\",Lists!CH71)","v":""}]
[null,{"$f":"+IF(Lists!CD72=\"\",\"\",Lists!CD72)","v":""},{"$f":"+IF(Lists!CE72=\"\",\"\",Lists!CE72)","v":""},{"$f":"+IF(Lists!CF72=\"\",\"\",Lists!CF72)","v":""},{"$f":"+IF(Lists!CG72=\"\",\"\",Lists!CG72)","v":""},{"$f":"+IF(Lists!CH72=\"\",\"\",Lists!CH72)","v":""}]
[null,{"$f":"+IF(Lists!CD73=\"\",\"\",Lists!CD73)","v":""},{"$f":"+IF(Lists!CE73=\"\",\"\",Lists!CE73)","v":""},{"$f":"+IF(Lists!CF73=\"\",\"\",Lists!CF73)","v":""},{"$f":"+IF(Lists!CG73=\"\",\"\",Lists!CG73)","v":""},{"$f":"+IF(Lists!CH73=\"\",\"\",Lists!CH73)","v":""}]
[null,{"$f":"+IF(Lists!CD74=\"\",\"\",Lists!CD74)","v":""},{"$f":"+IF(Lists!CE74=\"\",\"\",Lists!CE74)","v":""},{"$f":"+IF(Lists!CF74=\"\",\"\",Lists!CF74)","v":""},{"$f":"+IF(Lists!CG74=\"\",\"\",Lists!CG74)","v":""},{"$f":"+IF(Lists!CH74=\"\",\"\",Lists!CH74)","v":""}]
[null,{"$f":"+IF(Lists!CD75=\"\",\"\",Lists!CD75)","v":""},{"$f":"+IF(Lists!CE75=\"\",\"\",Lists!CE75)","v":""},{"$f":"+IF(Lists!CF75=\"\",\"\",Lists!CF75)","v":""},{"$f":"+IF(Lists!CG75=\"\",\"\",Lists!CG75)","v":""},{"$f":"+IF(Lists!CH75=\"\",\"\",Lists!CH75)","v":""}]
[null,{"$f":"+IF(Lists!CD76=\"\",\"\",Lists!CD76)","v":""},{"$f":"+IF(Lists!CE76=\"\",\"\",Lists!CE76)","v":""},{"$f":"+IF(Lists!CF76=\"\",\"\",Lists!CF76)","v":""},{"$f":"+IF(Lists!CG76=\"\",\"\",Lists!CG76)","v":""},{"$f":"+IF(Lists!CH76=\"\",\"\",Lists!CH76)","v":""}]
[null,{"$f":"+IF(Lists!CD77=\"\",\"\",Lists!CD77)","v":""},{"$f":"+IF(Lists!CE77=\"\",\"\",Lists!CE77)","v":""},{"$f":"+IF(Lists!CF77=\"\",\"\",Lists!CF77)","v":""},{"$f":"+IF(Lists!CG77=\"\",\"\",Lists!CG77)","v":""},{"$f":"+IF(Lists!CH77=\"\",\"\",Lists!CH77)","v":""}]
[null,{"$f":"+IF(Lists!CD78=\"\",\"\",Lists!CD78)","v":""},{"$f":"+IF(Lists!CE78=\"\",\"\",Lists!CE78)","v":""},{"$f":"+IF(Lists!CF78=\"\",\"\",Lists!CF78)","v":""},{"$f":"+IF(Lists!CG78=\"\",\"\",Lists!CG78)","v":""},{"$f":"+IF(Lists!CH78=\"\",\"\",Lists!CH78)","v":""}]

{"sheet":"Compliance Rpt - metHAP or PM","index":12,"n_rows":100,"n_cols":4,"rows_kept":100}
[null,"DO NOT REMOVE OR EDIT INFORMATION IN THIS SECTION\nFOR INTERNAL USE ONLY"]
[null,"Template Name",{"$f":"[1]Welcome!B2","v":"63.6016(k) Notification of Compliance and  §63.6017(g) Semiannual Compliance Report (Spreadsheet Template)"}]
[null,"CitationID",{"$f":"[1]Welcome!B3","v":"63.6016(k) and 63.6017(g)"}]
[null,"Template Version",{"$f":"[1]Welcome!B4","v":"v1.0"}]
[null,"Last Updated Date",{"$f":"[1]Welcome!B5","v":"2023-10-19"}]
[null,{"$f":"[1]Welcome!B6","v":"OMB Control Number: 2060-0449"}]
[null,"40 CFR Part 63, Subpart XXXX National Emission Standards for Hazardous Air Pollutants: Rubber Tire Manufacturing -"]
[null,"\n"]
[]
[null,"Note: Columns B through C will be autofilled based on responses provided in the Compliance_Options worksheet."]
[null,"63.6017(g) Semiannual Compliance Report"]
[null,"Company Record No.\n(Autofilled)","Name of Rubber Tire Manufacturing Affected Source\n(§63.9(h))\n(Autofilled)","For each rubber processing affected source, provide the emission limit option in §63.6010(b) that you have chosen to meet - either metal HAP emission limit or PM emission limit\n(§63.6017(c)(11))\n(Autofilled)"]
[null,"RecordId","OperationName","EmissionLimitOption"]
[null,"e.g.: 1","e.g.: tire 3","e.g.: Option 1.a (percent reduction option)—Existing"]
[null,"e.g.:","e.g.:","e.g.:"]
[null,"e.g.:","e.g.:","e.g.:"]
[null,"e.g.:","e.g.:","e.g.:"]
[null,"e.g.:","e.g.:","e.g.:"]
[null,"e.g.:","e.g.:","e.g.:"]
[null,"e.g.:","e.g.:","e.g.:"]
[null,"e.g.:","e.g.:","e.g.:"]
[null,"e.g.:","e.g.:","e.g.:"]
[null,"e.g.:","e.g.:","e.g.:"]
[null,{"$f":"+IF(Lists!CK2=\"\",\"\",Lists!CK2)","v":""},{"$f":"+IF(Lists!CL2=\"\",\"\",Lists!CL2)","v":""},{"$f":"+IF(Lists!CO2=\"\",\"\",Lists!CO2)","v":""}]
[null,{"$f":"+IF(Lists!CK3=\"\",\"\",Lists!CK3)","v":""},{"$f":"+IF(Lists!CL3=\"\",\"\",Lists!CL3)","v":""},{"$f":"+IF(Lists!CO3=\"\",\"\",Lists!CO3)","v":""}]
[null,{"$f":"+IF(Lists!CK4=\"\",\"\",Lists!CK4)","v":""},{"$f":"+IF(Lists!CL4=\"\",\"\",Lists!CL4)","v":""},{"$f":"+IF(Lists!CO4=\"\",\"\",Lists!CO4)","v":""}]
[null,{"$f":"+IF(Lists!CK5=\"\",\"\",Lists!CK5)","v":""},{"$f":"+IF(Lists!CL5=\"\",\"\",Lists!CL5)","v":""},{"$f":"+IF(Lists!CO5=\"\",\"\",Lists!CO5)","v":""}]
[null,{"$f":"+IF(Lists!CK6=\"\",\"\",Lists!CK6)","v":""},{"$f":"+IF(Lists!CL6=\"\",\"\",Lists!CL6)","v":""},{"$f":"+IF(Lists!CO6=\"\",\"\",Lists!CO6)","v":""}]
[null,{"$f":"+IF(Lists!CK7=\"\",\"\",Lists!CK7)","v":""},{"$f":"+IF(Lists!CL7=\"\",\"\",Lists!CL7)","v":""},{"$f":"+IF(Lists!CO7=\"\",\"\",Lists!CO7)","v":""}]
[null,{"$f":"+IF(Lists!CK8=\"\",\"\",Lists!CK8)","v":""},{"$f":"+IF(Lists!CL8=\"\",\"\",Lists!CL8)","v":""},{"$f":"+IF(Lists!CO8=\"\",\"\",Lists!CO8)","v":""}]
[null,{"$f":"+IF(Lists!CK9=\"\",\"\",Lists!CK9)","v":""},{"$f":"+IF(Lists!CL9=\"\",\"\",Lists!CL9)","v":""},{"$f":"+IF(Lists!CO9=\"\",\"\",Lists!CO9)","v":""}]
[null,{"$f":"+IF(Lists!CK10=\"\",\"\",Lists!CK10)","v":""},{"$f":"+IF(Lists!CL10=\"\",\"\",Lists!CL10)","v":""},{"$f":"+IF(Lists!CO10=\"\",\"\",Lists!CO10)","v":""}]
[null,{"$f":"+IF(Lists!CK11=\"\",\"\",Lists!CK11)","v":""},{"$f":"+IF(Lists!CL11=\"\",\"\",Lists!CL11)","v":""},{"$f":"+IF(Lists!CO11=\"\",\"\",Lists!CO11)","v":""}]
[null,{"$f":"+IF(Lists!CK12=\"\",\"\",Lists!CK12)","v":""},{"$f":"+IF(Lists!CL12=\"\",\"\",Lists!CL12)","v":""},{"$f":"+IF(Lists!CO12=\"\",\"\",Lists!CO12)","v":""}]
[null,{"$f":"+IF(Lists!CK13=\"\",\"\",Lists!CK13)","v":""},{"$f":"+IF(Lists!CL13=\"\",\"\",Lists!CL13)","v":""},{"$f":"+IF(Lists!CO13=\"\",\"\",Lists!CO13)","v":""}]
[null,{"$f":"+IF(Lists!CK14=\"\",\"\",Lists!CK14)","v":""},{"$f":"+IF(Lists!CL14=\"\",\"\",Lists!CL14)","v":""},{"$f":"+IF(Lists!CO14=\"\",\"\",Lists!CO14)","v":""}]
[null,{"$f":"+IF(Lists!CK15=\"\",\"\",Lists!CK15)","v":""},{"$f":"+IF(Lists!CL15=\"\",\"\",Lists!CL15)","v":""},{"$f":"+IF(Lists!CO15=\"\",\"\",Lists!CO15)","v":""}]
[null,{"$f":"+IF(Lists!CK16=\"\",\"\",Lists!CK16)","v":""},{"$f":"+IF(Lists!CL16=\"\",\"\",Lists!CL16)","v":""},{"$f":"+IF(Lists!CO16=\"\",\"\",Lists!CO16)","v":""}]
[null,{"$f":"+IF(Lists!CK17=\"\",\"\",Lists!CK17)","v":""},{"$f":"+IF(Lists!CL17=\"\",\"\",Lists!CL17)","v":""},{"$f":"+IF(Lists!CO17=\"\",\"\",Lists!CO17)","v":""}]
[null,{"$f":"+IF(Lists!CK18=\"\",\"\",Lists!CK18)","v":""},{"$f":"+IF(Lists!CL18=\"\",\"\",Lists!CL18)","v":""},{"$f":"+IF(Lists!CO18=\"\",\"\",Lists!CO18)","v":""}]
[null,{"$f":"+IF(Lists!CK19=\"\",\"\",Lists!CK19)","v":""},{"$f":"+IF(Lists!CL19=\"\",\"\",Lists!CL19)","v":""},{"$f":"+IF(Lists!CO19=\"\",\"\",Lists!CO19)","v":""}]
[null,{"$f":"+IF(Lists!CK20=\"\",\"\",Lists!CK20)","v":""},{"$f":"+IF(Lists!CL20=\"\",\"\",Lists!CL20)","v":""},{"$f":"+IF(Lists!CO20=\"\",\"\",Lists!CO20)","v":""}]
[null,{"$f":"+IF(Lists!CK21=\"\",\"\",Lists!CK21)","v":""},{"$f":"+IF(Lists!CL21=\"\",\"\",Lists!CL21)","v":""},{"$f":"+IF(Lists!CO21=\"\",\"\",Lists!CO21)","v":""}]
[null,{"$f":"+IF(Lists!CK22=\"\",\"\",Lists!CK22)","v":""},{"$f":"+IF(Lists!CL22=\"\",\"\",Lists!CL22)","v":""},{"$f":"+IF(Lists!CO22=\"\",\"\",Lists!CO22)","v":""}]
[null,{"$f":"+IF(Lists!CK23=\"\",\"\",Lists!CK23)","v":""},{"$f":"+IF(Lists!CL23=\"\",\"\",Lists!CL23)","v":""},{"$f":"+IF(Lists!CO23=\"\",\"\",Lists!CO23)","v":""}]
[null,{"$f":"+IF(Lists!CK24=\"\",\"\",Lists!CK24)","v":""},{"$f":"+IF(Lists!CL24=\"\",\"\",Lists!CL24)","v":""},{"$f":"+IF(Lists!CO24=\"\",\"\",Lists!CO24)","v":""}]
[null,{"$f":"+IF(Lists!CK25=\"\",\"\",Lists!CK25)","v":""},{"$f":"+IF(Lists!CL25=\"\",\"\",Lists!CL25)","v":""},{"$f":"+IF(Lists!CO25=\"\",\"\",Lists!CO25)","v":""}]
[null,{"$f":"+IF(Lists!CK26=\"\",\"\",Lists!CK26)","v":""},{"$f":"+IF(Lists!CL26=\"\",\"\",Lists!CL26)","v":""},{"$f":"+IF(Lists!CO26=\"\",\"\",Lists!CO26)","v":""}]
[null,{"$f":"+IF(Lists!CK27=\"\",\"\",Lists!CK27)","v":""},{"$f":"+IF(Lists!CL27=\"\",\"\",Lists!CL27)","v":""},{"$f":"+IF(Lists!CO27=\"\",\"\",Lists!CO27)","v":""}]
[null,{"$f":"+IF(Lists!CK28=\"\",\"\",Lists!CK28)","v":""},{"$f":"+IF(Lists!CL28=\"\",\"\",Lists!CL28)","v":""},{"$f":"+IF(Lists!CO28=\"\",\"\",Lists!CO28)","v":""}]
[null,{"$f":"+IF(Lists!CK29=\"\",\"\",Lists!CK29)","v":""},{"$f":"+IF(Lists!CL29=\"\",\"\",Lists!CL29)","v":""},{"$f":"+IF(Lists!CO29=\"\",\"\",Lists!CO29)","v":""}]
[null,{"$f":"+IF(Lists!CK30=\"\",\"\",Lists!CK30)","v":""},{"$f":"+IF(Lists!CL30=\"\",\"\",Lists!CL30)","v":""},{"$f":"+IF(Lists!CO30=\"\",\"\",Lists!CO30)","v":""}]
[null,{"$f":"+IF(Lists!CK31=\"\",\"\",Lists!CK31)","v":""},{"$f":"+IF(Lists!CL31=\"\",\"\",Lists!CL31)","v":""},{"$f":"+IF(Lists!CO31=\"\",\"\",Lists!CO31)","v":""}]
[null,{"$f":"+IF(Lists!CK32=\"\",\"\",Lists!CK32)","v":""},{"$f":"+IF(Lists!CL32=\"\",\"\",Lists!CL32)","v":""},{"$f":"+IF(Lists!CO32=\"\",\"\",Lists!CO32)","v":""}]
[null,{"$f":"+IF(Lists!CK33=\"\",\"\",Lists!CK33)","v":""},{"$f":"+IF(Lists!CL33=\"\",\"\",Lists!CL33)","v":""},{"$f":"+IF(Lists!CO33=\"\",\"\",Lists!CO33)","v":""}]
[null,{"$f":"+IF(Lists!CK34=\"\",\"\",Lists!CK34)","v":""},{"$f":"+IF(Lists!CL34=\"\",\"\",Lists!CL34)","v":""},{"$f":"+IF(Lists!CO34=\"\",\"\",Lists!CO34)","v":""}]
[null,{"$f":"+IF(Lists!CK35=\"\",\"\",Lists!CK35)","v":""},{"$f":"+IF(Lists!CL35=\"\",\"\",Lists!CL35)","v":""},{"$f":"+IF(Lists!CO35=\"\",\"\",Lists!CO35)","v":""}]
[null,{"$f":"+IF(Lists!CK36=\"\",\"\",Lists!CK36)","v":""},{"$f":"+IF(Lists!CL36=\"\",\"\",Lists!CL36)","v":""},{"$f":"+IF(Lists!CO36=\"\",\"\",Lists!CO36)","v":""}]
[null,{"$f":"+IF(Lists!CK37=\"\",\"\",Lists!CK37)","v":""},{"$f":"+IF(Lists!CL37=\"\",\"\",Lists!CL37)","v":""},{"$f":"+IF(Lists!CO37=\"\",\"\",Lists!CO37)","v":""}]
[null,{"$f":"+IF(Lists!CK38=\"\",\"\",Lists!CK38)","v":""},{"$f":"+IF(Lists!CL38=\"\",\"\",Lists!CL38)","v":""},{"$f":"+IF(Lists!CO38=\"\",\"\",Lists!CO38)","v":""}]
[null,{"$f":"+IF(Lists!CK39=\"\",\"\",Lists!CK39)","v":""},{"$f":"+IF(Lists!CL39=\"\",\"\",Lists!CL39)","v":""},{"$f":"+IF(Lists!CO39=\"\",\"\",Lists!CO39)","v":""}]
[null,{"$f":"+IF(Lists!CK40=\"\",\"\",Lists!CK40)","v":""},{"$f":"+IF(Lists!CL40=\"\",\"\",Lists!CL40)","v":""},{"$f":"+IF(Lists!CO40=\"\",\"\",Lists!CO40)","v":""}]
[null,{"$f":"+IF(Lists!CK41=\"\",\"\",Lists!CK41)","v":""},{"$f":"+IF(Lists!CL41=\"\",\"\",Lists!CL41)","v":""},{"$f":"+IF(Lists!CO41=\"\",\"\",Lists!CO41)","v":""}]
[null,{"$f":"+IF(Lists!CK42=\"\",\"\",Lists!CK42)","v":""},{"$f":"+IF(Lists!CL42=\"\",\"\",Lists!CL42)","v":""},{"$f":"+IF(Lists!CO42=\"\",\"\",Lists!CO42)","v":""}]
[null,{"$f":"+IF(Lists!CK43=\"\",\"\",Lists!CK43)","v":""},{"$f":"+IF(Lists!CL43=\"\",\"\",Lists!CL43)","v":""},{"$f":"+IF(Lists!CO43=\"\",\"\",Lists!CO43)","v":""}]
[null,{"$f":"+IF(Lists!CK44=\"\",\"\",Lists!CK44)","v":""},{"$f":"+IF(Lists!CL44=\"\",\"\",Lists!CL44)","v":""},{"$f":"+IF(Lists!CO44=\"\",\"\",Lists!CO44)","v":""}]
[null,{"$f":"+IF(Lists!CK45=\"\",\"\",Lists!CK45)","v":""},{"$f":"+IF(Lists!CL45=\"\",\"\",Lists!CL45)","v":""},{"$f":"+IF(Lists!CO45=\"\",\"\",Lists!CO45)","v":""}]
[null,{"$f":"+IF(Lists!CK46=\"\",\"\",Lists!CK46)","v":""},{"$f":"+IF(Lists!CL46=\"\",\"\",Lists!CL46)","v":""},{"$f":"+IF(Lists!CO46=\"\",\"\",Lists!CO46)","v":""}]
[null,{"$f":"+IF(Lists!CK47=\"\",\"\",Lists!CK47)","v":""},{"$f":"+IF(Lists!CL47=\"\",\"\",Lists!CL47)","v":""},{"$f":"+IF(Lists!CO47=\"\",\"\",Lists!CO47)","v":""}]
[null,{"$f":"+IF(Lists!CK48=\"\",\"\",Lists!CK48)","v":""},{"$f":"+IF(Lists!CL48=\"\",\"\",Lists!CL48)","v":""},{"$f":"+IF(Lists!CO48=\"\",\"\",Lists!CO48)","v":""}]
[null,{"$f":"+IF(Lists!CK49=\"\",\"\",Lists!CK49)","v":""},{"$f":"+IF(Lists!CL49=\"\",\"\",Lists!CL49)","v":""},{"$f":"+IF(Lists!CO49=\"\",\"\",Lists!CO49)","v":""}]
[null,{"$f":"+IF(Lists!CK50=\"\",\"\",Lists!CK50)","v":""},{"$f":"+IF(Lists!CL50=\"\",\"\",Lists!CL50)","v":""},{"$f":"+IF(Lists!CO50=\"\",\"\",Lists!CO50)","v":""}]
[null,{"$f":"+IF(Lists!CK51=\"\",\"\",Lists!CK51)","v":""},{"$f":"+IF(Lists!CL51=\"\",\"\",Lists!CL51)","v":""},{"$f":"+IF(Lists!CO51=\"\",\"\",Lists!CO51)","v":""}]
[null,{"$f":"+IF(Lists!CK52=\"\",\"\",Lists!CK52)","v":""},{"$f":"+IF(Lists!CL52=\"\",\"\",Lists!CL52)","v":""},{"$f":"+IF(Lists!CO52=\"\",\"\",Lists!CO52)","v":""}]
[null,{"$f":"+IF(Lists!CK53=\"\",\"\",Lists!CK53)","v":""},{"$f":"+IF(Lists!CL53=\"\",\"\",Lists!CL53)","v":""},{"$f":"+IF(Lists!CO53=\"\",\"\",Lists!CO53)","v":""}]
[null,{"$f":"+IF(Lists!CK54=\"\",\"\",Lists!CK54)","v":""},{"$f":"+IF(Lists!CL54=\"\",\"\",Lists!CL54)","v":""},{"$f":"+IF(Lists!CO54=\"\",\"\",Lists!CO54)","v":""}]
[null,{"$f":"+IF(Lists!CK55=\"\",\"\",Lists!CK55)","v":""},{"$f":"+IF(Lists!CL55=\"\",\"\",Lists!CL55)","v":""},{"$f":"+IF(Lists!CO55=\"\",\"\",Lists!CO55)","v":""}]
[null,{"$f":"+IF(Lists!CK56=\"\",\"\",Lists!CK56)","v":""},{"$f":"+IF(Lists!CL56=\"\",\"\",Lists!CL56)","v":""},{"$f":"+IF(Lists!CO56=\"\",\"\",Lists!CO56)","v":""}]
[null,{"$f":"+IF(Lists!CK57=\"\",\"\",Lists!CK57)","v":""},{"$f":"+IF(Lists!CL57=\"\",\"\",Lists!CL57)","v":""},{"$f":"+IF(Lists!CO57=\"\",\"\",Lists!CO57)","v":""}]
[null,{"$f":"+IF(Lists!CK58=\"\",\"\",Lists!CK58)","v":""},{"$f":"+IF(Lists!CL58=\"\",\"\",Lists!CL58)","v":""},{"$f":"+IF(Lists!CO58=\"\",\"\",Lists!CO58)","v":""}]
[null,{"$f":"+IF(Lists!CK59=\"\",\"\",Lists!CK59)","v":""},{"$f":"+IF(Lists!CL59=\"\",\"\",Lists!CL59)","v":""},{"$f":"+IF(Lists!CO59=\"\",\"\",Lists!CO59)","v":""}]
[null,{"$f":"+IF(Lists!CK60=\"\",\"\",Lists!CK60)","v":""},{"$f":"+IF(Lists!CL60=\"\",\"\",Lists!CL60)","v":""},{"$f":"+IF(Lists!CO60=\"\",\"\",Lists!CO60)","v":""}]
[null,{"$f":"+IF(Lists!CK61=\"\",\"\",Lists!CK61)","v":""},{"$f":"+IF(Lists!CL61=\"\",\"\",Lists!CL61)","v":""},{"$f":"+IF(Lists!CO61=\"\",\"\",Lists!CO61)","v":""}]
[null,{"$f":"+IF(Lists!CK62=\"\",\"\",Lists!CK62)","v":""},{"$f":"+IF(Lists!CL62=\"\",\"\",Lists!CL62)","v":""},{"$f":"+IF(Lists!CO62=\"\",\"\",Lists!CO62)","v":""}]
[null,{"$f":"+IF(Lists!CK63=\"\",\"\",Lists!CK63)","v":""},{"$f":"+IF(Lists!CL63=\"\",\"\",Lists!CL63)","v":""},{"$f":"+IF(Lists!CO63=\"\",\"\",Lists!CO63)","v":""}]
[null,{"$f":"+IF(Lists!CK64=\"\",\"\",Lists!CK64)","v":""},{"$f":"+IF(Lists!CL64=\"\",\"\",Lists!CL64)","v":""},{"$f":"+IF(Lists!CO64=\"\",\"\",Lists!CO64)","v":""}]
[null,{"$f":"+IF(Lists!CK65=\"\",\"\",Lists!CK65)","v":""},{"$f":"+IF(Lists!CL65=\"\",\"\",Lists!CL65)","v":""},{"$f":"+IF(Lists!CO65=\"\",\"\",Lists!CO65)","v":""}]
[null,{"$f":"+IF(Lists!CK66=\"\",\"\",Lists!CK66)","v":""},{"$f":"+IF(Lists!CL66=\"\",\"\",Lists!CL66)","v":""},{"$f":"+IF(Lists!CO66=\"\",\"\",Lists!CO66)","v":""}]
[null,{"$f":"+IF(Lists!CK67=\"\",\"\",Lists!CK67)","v":""},{"$f":"+IF(Lists!CL67=\"\",\"\",Lists!CL67)","v":""},{"$f":"+IF(Lists!CO67=\"\",\"\",Lists!CO67)","v":""}]
[null,{"$f":"+IF(Lists!CK68=\"\",\"\",Lists!CK68)","v":""},{"$f":"+IF(Lists!CL68=\"\",\"\",Lists!CL68)","v":""},{"$f":"+IF(Lists!CO68=\"\",\"\",Lists!CO68)","v":""}]
[null,{"$f":"+IF(Lists!CK69=\"\",\"\",Lists!CK69)","v":""},{"$f":"+IF(Lists!CL69=\"\",\"\",Lists!CL69)","v":""},{"$f":"+IF(Lists!CO69=\"\",\"\",Lists!CO69)","v":""}]
[null,{"$f":"+IF(Lists!CK70=\"\",\"\",Lists!CK70)","v":""},{"$f":"+IF(Lists!CL70=\"\",\"\",Lists!CL70)","v":""},{"$f":"+IF(Lists!CO70=\"\",\"\",Lists!CO70)","v":""}]
[null,{"$f":"+IF(Lists!CK71=\"\",\"\",Lists!CK71)","v":""},{"$f":"+IF(Lists!CL71=\"\",\"\",Lists!CL71)","v":""},{"$f":"+IF(Lists!CO71=\"\",\"\",Lists!CO71)","v":""}]
[null,{"$f":"+IF(Lists!CK72=\"\",\"\",Lists!CK72)","v":""},{"$f":"+IF(Lists!CL72=\"\",\"\",Lists!CL72)","v":""},{"$f":"+IF(Lists!CO72=\"\",\"\",Lists!CO72)","v":""}]
[null,{"$f":"+IF(Lists!CK73=\"\",\"\",Lists!CK73)","v":""},{"$f":"+IF(Lists!CL73=\"\",\"\",Lists!CL73)","v":""},{"$f":"+IF(Lists!CO73=\"\",\"\",Lists!CO73)","v":""}]
[null,{"$f":"+IF(Lists!CK74=\"\",\"\",Lists!CK74)","v":""},{"$f":"+IF(Lists!CL74=\"\",\"\",Lists!CL74)","v":""},{"$f":"+IF(Lists!CO74=\"\",\"\",Lists!CO74)","v":""}]
[null,{"$f":"+IF(Lists!CK75=\"\",\"\",Lists!CK75)","v":""},{"$f":"+IF(Lists!CL75=\"\",\"\",Lists!CL75)","v":""},{"$f":"+IF(Lists!CO75=\"\",\"\",Lists!CO75)","v":""}]
[null,{"$f":"+IF(Lists!CK76=\"\",\"\",Lists!CK76)","v":""},{"$f":"+IF(Lists!CL76=\"\",\"\",Lists!CL76)","v":""},{"$f":"+IF(Lists!CO76=\"\",\"\",Lists!CO76)","v":""}]
[null,{"$f":"+IF(Lists!CK77=\"\",\"\",Lists!CK77)","v":""},{"$f":"+IF(Lists!CL77=\"\",\"\",Lists!CL77)","v":""},{"$f":"+IF(Lists!CO77=\"\",\"\",Lists!CO77)","v":""}]
[null,{"$f":"+IF(Lists!CK78=\"\",\"\",Lists!CK78)","v":""},{"$f":"+IF(Lists!CL78=\"\",\"\",Lists!CL78)","v":""},{"$f":"+IF(Lists!CO78=\"\",\"\",Lists!CO78)","v":""}]

{"sheet":"Compliance Rpt - 15 Day Avgs","index":13,"n_rows":1024,"n_cols":4,"rows_kept":1024}
[null,"DO NOT REMOVE OR EDIT INFORMATION IN THIS SECTION\nFOR INTERNAL USE ONLY"]
[null,"Template Name",{"$f":"[1]Welcome!B2","v":"63.6016(k) Notification of Compliance and  §63.6017(g) Semiannual Compliance Report (Spreadsheet Template)"}]
[null,"CitationID",{"$f":"[1]Welcome!B3","v":"63.6016(k) and 63.6017(g)"}]
[null,"Template Version",{"$f":"[1]Welcome!B4","v":"v1.0"}]
[null,"Last Updated Date",{"$f":"[1]Welcome!B5","v":"2023-10-19"}]
[null,{"$f":"[1]Welcome!B6","v":"OMB Control Number: 2060-0449"}]
[null,"40 CFR Part 63, Subpart XXXX National Emission Standards for Hazardous Air Pollutants: Rubber Tire Manufacturing -"]
[null,"\n"]
[]
[null,"Note: Columns B through C will be autofilled based on responses provided in the Compliance_Options worksheet."]
[null,"63.6017(k) 15 -day Rolling Average Report"]
[null,"Company Record No.\n(Autofilled)","Name of Rubber Tire Manufacturing Affected Source\n(§63.9(h))\n(Autofilled)","For each rubber processing affected source, provide the THC 15-day rolling average values \n(g/Mg of Rubber Processed)\n(§63.6017(k))"]
[null,"RecordId","OperationName","15DayRollingAverage"]
[null,"e.g.: 1","e.g.: tire 3","e.g.: 0.20"]
[null,"e.g.:","e.g.:","e.g.:"]
[null,"e.g.:","e.g.:","e.g.:"]
[null,"e.g.:","e.g.:","e.g.:"]
[null,"e.g.:","e.g.:","e.g.:"]
[null,"e.g.:","e.g.:","e.g.:"]
[null,"e.g.:","e.g.:","e.g.:"]
[null,"e.g.:","e.g.:","e.g.:"]
[null,"e.g.:","e.g.:","e.g.:"]
[null,"e.g.:","e.g.:","e.g.:"]
[null,{"$f":"+IF(Lists!CK2=\"\",\"\",Lists!CK2)","v":""},{"$f":"+IF(Lists!CL2=\"\",\"\",Lists!CL2)","v":""}]
[null,{"$f":"+IF(Lists!CK3=\"\",\"\",Lists!CK3)","v":""},{"$f":"+IF(Lists!CL3=\"\",\"\",Lists!CL3)","v":""}]
[null,{"$f":"+IF(Lists!CK4=\"\",\"\",Lists!CK4)","v":""},{"$f":"+IF(Lists!CL4=\"\",\"\",Lists!CL4)","v":""}]
[null,{"$f":"+IF(Lists!CK5=\"\",\"\",Lists!CK5)","v":""},{"$f":"+IF(Lists!CL5=\"\",\"\",Lists!CL5)","v":""}]
[null,{"$f":"+IF(Lists!CK6=\"\",\"\",Lists!CK6)","v":""},{"$f":"+IF(Lists!CL6=\"\",\"\",Lists!CL6)","v":""}]
[null,{"$f":"+IF(Lists!CK7=\"\",\"\",Lists!CK7)","v":""},{"$f":"+IF(Lists!CL7=\"\",\"\",Lists!CL7)","v":""}]
[null,{"$f":"+IF(Lists!CK8=\"\",\"\",Lists!CK8)","v":""},{"$f":"+IF(Lists!CL8=\"\",\"\",Lists!CL8)","v":""}]
[null,{"$f":"+IF(Lists!CK9=\"\",\"\",Lists!CK9)","v":""},{"$f":"+IF(Lists!CL9=\"\",\"\",Lists!CL9)","v":""}]
[null,{"$f":"+IF(Lists!CK10=\"\",\"\",Lists!CK10)","v":""},{"$f":"+IF(Lists!CL10=\"\",\"\",Lists!CL10)","v":""}]
[null,{"$f":"+IF(Lists!CK11=\"\",\"\",Lists!CK11)","v":""},{"$f":"+IF(Lists!CL11=\"\",\"\",Lists!CL11)","v":""}]
[null,{"$f":"+IF(Lists!CK12=\"\",\"\",Lists!CK12)","v":""},{"$f":"+IF(Lists!CL12=\"\",\"\",Lists!CL12)","v":""}]
[null,{"$f":"+IF(Lists!CK13=\"\",\"\",Lists!CK13)","v":""},{"$f":"+IF(Lists!CL13=\"\",\"\",Lists!CL13)","v":""}]
[null,{"$f":"+IF(Lists!CK14=\"\",\"\",Lists!CK14)","v":""},{"$f":"+IF(Lists!CL14=\"\",\"\",Lists!CL14)","v":""}]
[null,{"$f":"+IF(Lists!CK15=\"\",\"\",Lists!CK15)","v":""},{"$f":"+IF(Lists!CL15=\"\",\"\",Lists!CL15)","v":""}]
[null,{"$f":"+IF(Lists!CK16=\"\",\"\",Lists!CK16)","v":""},{"$f":"+IF(Lists!CL16=\"\",\"\",Lists!CL16)","v":""}]
[null,{"$f":"+IF(Lists!CK17=\"\",\"\",Lists!CK17)","v":""},{"$f":"+IF(Lists!CL17=\"\",\"\",Lists!CL17)","v":""}]
[null,{"$f":"+IF(Lists!CK18=\"\",\"\",Lists!CK18)","v":""},{"$f":"+IF(Lists!CL18=\"\",\"\",Lists!CL18)","v":""}]
[null,{"$f":"+IF(Lists!CK19=\"\",\"\",Lists!CK19)","v":""},{"$f":"+IF(Lists!CL19=\"\",\"\",Lists!CL19)","v":""}]
[null,{"$f":"+IF(Lists!CK20=\"\",\"\",Lists!CK20)","v":""},{"$f":"+IF(Lists!CL20=\"\",\"\",Lists!CL20)","v":""}]
[null,{"$f":"+IF(Lists!CK21=\"\",\"\",Lists!CK21)","v":""},{"$f":"+IF(Lists!CL21=\"\",\"\",Lists!CL21)","v":""}]
[null,{"$f":"+IF(Lists!CK22=\"\",\"\",Lists!CK22)","v":""},{"$f":"+IF(Lists!CL22=\"\",\"\",Lists!CL22)","v":""}]
[null,{"$f":"+IF(Lists!CK23=\"\",\"\",Lists!CK23)","v":""},{"$f":"+IF(Lists!CL23=\"\",\"\",Lists!CL23)","v":""}]
[null,{"$f":"+IF(Lists!CK24=\"\",\"\",Lists!CK24)","v":""},{"$f":"+IF(Lists!CL24=\"\",\"\",Lists!CL24)","v":""}]
[null,{"$f":"+IF(Lists!CK25=\"\",\"\",Lists!CK25)","v":""},{"$f":"+IF(Lists!CL25=\"\",\"\",Lists!CL25)","v":""}]
[null,{"$f":"+IF(Lists!CK26=\"\",\"\",Lists!CK26)","v":""},{"$f":"+IF(Lists!CL26=\"\",\"\",Lists!CL26)","v":""}]
[null,{"$f":"+IF(Lists!CK27=\"\",\"\",Lists!CK27)","v":""},{"$f":"+IF(Lists!CL27=\"\",\"\",Lists!CL27)","v":""}]
[null,{"$f":"+IF(Lists!CK28=\"\",\"\",Lists!CK28)","v":""},{"$f":"+IF(Lists!CL28=\"\",\"\",Lists!CL28)","v":""}]
[null,{"$f":"+IF(Lists!CK29=\"\",\"\",Lists!CK29)","v":""},{"$f":"+IF(Lists!CL29=\"\",\"\",Lists!CL29)","v":""}]
[null,{"$f":"+IF(Lists!CK30=\"\",\"\",Lists!CK30)","v":""},{"$f":"+IF(Lists!CL30=\"\",\"\",Lists!CL30)","v":""}]
[null,{"$f":"+IF(Lists!CK31=\"\",\"\",Lists!CK31)","v":""},{"$f":"+IF(Lists!CL31=\"\",\"\",Lists!CL31)","v":""}]
[null,{"$f":"+IF(Lists!CK32=\"\",\"\",Lists!CK32)","v":""},{"$f":"+IF(Lists!CL32=\"\",\"\",Lists!CL32)","v":""}]
[null,{"$f":"+IF(Lists!CK33=\"\",\"\",Lists!CK33)","v":""},{"$f":"+IF(Lists!CL33=\"\",\"\",Lists!CL33)","v":""}]
[null,{"$f":"+IF(Lists!CK34=\"\",\"\",Lists!CK34)","v":""},{"$f":"+IF(Lists!CL34=\"\",\"\",Lists!CL34)","v":""}]
[null,{"$f":"+IF(Lists!CK35=\"\",\"\",Lists!CK35)","v":""},{"$f":"+IF(Lists!CL35=\"\",\"\",Lists!CL35)","v":""}]
[null,{"$f":"+IF(Lists!CK36=\"\",\"\",Lists!CK36)","v":""},{"$f":"+IF(Lists!CL36=\"\",\"\",Lists!CL36)","v":""}]
[null,{"$f":"+IF(Lists!CK37=\"\",\"\",Lists!CK37)","v":""},{"$f":"+IF(Lists!CL37=\"\",\"\",Lists!CL37)","v":""}]
[null,{"$f":"+IF(Lists!CK38=\"\",\"\",Lists!CK38)","v":""},{"$f":"+IF(Lists!CL38=\"\",\"\",Lists!CL38)","v":""}]
[null,{"$f":"+IF(Lists!CK39=\"\",\"\",Lists!CK39)","v":""},{"$f":"+IF(Lists!CL39=\"\",\"\",Lists!CL39)","v":""}]
[null,{"$f":"+IF(Lists!CK40=\"\",\"\",Lists!CK40)","v":""},{"$f":"+IF(Lists!CL40=\"\",\"\",Lists!CL40)","v":""}]
[null,{"$f":"+IF(Lists!CK41=\"\",\"\",Lists!CK41)","v":""},{"$f":"+IF(Lists!CL41=\"\",\"\",Lists!CL41)","v":""}]
[null,{"$f":"+IF(Lists!CK42=\"\",\"\",Lists!CK42)","v":""},{"$f":"+IF(Lists!CL42=\"\",\"\",Lists!CL42)","v":""}]
[null,{"$f":"+IF(Lists!CK43=\"\",\"\",Lists!CK43)","v":""},{"$f":"+IF(Lists!CL43=\"\",\"\",Lists!CL43)","v":""}]
[null,{"$f":"+IF(Lists!CK44=\"\",\"\",Lists!CK44)","v":""},{"$f":"+IF(Lists!CL44=\"\",\"\",Lists!CL44)","v":""}]
[null,{"$f":"+IF(Lists!CK45=\"\",\"\",Lists!CK45)","v":""},{"$f":"+IF(Lists!CL45=\"\",\"\",Lists!CL45)","v":""}]
[null,{"$f":"+IF(Lists!CK46=\"\",\"\",Lists!CK46)","v":""},{"$f":"+IF(Lists!CL46=\"\",\"\",Lists!CL46)","v":""}]
[null,{"$f":"+IF(Lists!CK47=\"\",\"\",Lists!CK47)","v":""},{"$f":"+IF(Lists!CL47=\"\",\"\",Lists!CL47)","v":""}]
[null,{"$f":"+IF(Lists!CK48=\"\",\"\",Lists!CK48)","v":""},{"$f":"+IF(Lists!CL48=\"\",\"\",Lists!CL48)","v":""}]
[null,{"$f":"+IF(Lists!CK49=\"\",\"\",Lists!CK49)","v":""},{"$f":"+IF(Lists!CL49=\"\",\"\",Lists!CL49)","v":""}]
[null,{"$f":"+IF(Lists!CK50=\"\",\"\",Lists!CK50)","v":""},{"$f":"+IF(Lists!CL50=\"\",\"\",Lists!CL50)","v":""}]
[null,{"$f":"+IF(Lists!CK51=\"\",\"\",Lists!CK51)","v":""},{"$f":"+IF(Lists!CL51=\"\",\"\",Lists!CL51)","v":""}]
[null,{"$f":"+IF(Lists!CK52=\"\",\"\",Lists!CK52)","v":""},{"$f":"+IF(Lists!CL52=\"\",\"\",Lists!CL52)","v":""}]
[null,{"$f":"+IF(Lists!CK53=\"\",\"\",Lists!CK53)","v":""},{"$f":"+IF(Lists!CL53=\"\",\"\",Lists!CL53)","v":""}]
[null,{"$f":"+IF(Lists!CK54=\"\",\"\",Lists!CK54)","v":""},{"$f":"+IF(Lists!CL54=\"\",\"\",Lists!CL54)","v":""}]
[null,{"$f":"+IF(Lists!CK55=\"\",\"\",Lists!CK55)","v":""},{"$f":"+IF(Lists!CL55=\"\",\"\",Lists!CL55)","v":""}]
[null,{"$f":"+IF(Lists!CK56=\"\",\"\",Lists!CK56)","v":""},{"$f":"+IF(Lists!CL56=\"\",\"\",Lists!CL56)","v":""}]
[null,{"$f":"+IF(Lists!CK57=\"\",\"\",Lists!CK57)","v":""},{"$f":"+IF(Lists!CL57=\"\",\"\",Lists!CL57)","v":""}]
[null,{"$f":"+IF(Lists!CK58=\"\",\"\",Lists!CK58)","v":""},{"$f":"+IF(Lists!CL58=\"\",\"\",Lists!CL58)","v":""}]
[null,{"$f":"+IF(Lists!CK59=\"\",\"\",Lists!CK59)","v":""},{"$f":"+IF(Lists!CL59=\"\",\"\",Lists!CL59)","v":""}]
[null,{"$f":"+IF(Lists!CK60=\"\",\"\",Lists!CK60)","v":""},{"$f":"+IF(Lists!CL60=\"\",\"\",Lists!CL60)","v":""}]
[null,{"$f":"+IF(Lists!CK61=\"\",\"\",Lists!CK61)","v":""},{"$f":"+IF(Lists!CL61=\"\",\"\",Lists!CL61)","v":""}]
[null,{"$f":"+IF(Lists!CK62=\"\",\"\",Lists!CK62)","v":""},{"$f":"+IF(Lists!CL62=\"\",\"\",Lists!CL62)","v":""}]
[null,{"$f":"+IF(Lists!CK63=\"\",\"\",Lists!CK63)","v":""},{"$f":"+IF(Lists!CL63=\"\",\"\",Lists!CL63)","v":""}]
[null,{"$f":"+IF(Lists!CK64=\"\",\"\",Lists!CK64)","v":""},{"$f":"+IF(Lists!CL64=\"\",\"\",Lists!CL64)","v":""}]
[null,{"$f":"+IF(Lists!CK65=\"\",\"\",Lists!CK65)","v":""},{"$f":"+IF(Lists!CL65=\"\",\"\",Lists!CL65)","v":""}]
[null,{"$f":"+IF(Lists!CK66=\"\",\"\",Lists!CK66)","v":""},{"$f":"+IF(Lists!CL66=\"\",\"\",Lists!CL66)","v":""}]
[null,{"$f":"+IF(Lists!CK67=\"\",\"\",Lists!CK67)","v":""},{"$f":"+IF(Lists!CL67=\"\",\"\",Lists!CL67)","v":""}]
[null,{"$f":"+IF(Lists!CK68=\"\",\"\",Lists!CK68)","v":""},{"$f":"+IF(Lists!CL68=\"\",\"\",Lists!CL68)","v":""}]
[null,{"$f":"+IF(Lists!CK69=\"\",\"\",Lists!CK69)","v":""},{"$f":"+IF(Lists!CL69=\"\",\"\",Lists!CL69)","v":""}]
[null,{"$f":"+IF(Lists!CK70=\"\",\"\",Lists!CK70)","v":""},{"$f":"+IF(Lists!CL70=\"\",\"\",Lists!CL70)","v":""}]
[null,{"$f":"+IF(Lists!CK71=\"\",\"\",Lists!CK71)","v":""},{"$f":"+IF(Lists!CL71=\"\",\"\",Lists!CL71)","v":""}]
[null,{"$f":"+IF(Lists!CK72=\"\",\"\",Lists!CK72)","v":""},{"$f":"+IF(Lists!CL72=\"\",\"\",Lists!CL72)","v":""}]
[null,{"$f":"+IF(Lists!CK73=\"\",\"\",Lists!CK73)","v":""},{"$f":"+IF(Lists!CL73=\"\",\"\",Lists!CL73)","v":""}]
[null,{"$f":"+IF(Lists!CK74=\"\",\"\",Lists!CK74)","v":""},{"$f":"+IF(Lists!CL74=\"\",\"\",Lists!CL74)","v":""}]
[null,{"$f":"+IF(Lists!CK75=\"\",\"\",Lists!CK75)","v":""},{"$f":"+IF(Lists!CL75=\"\",\"\",Lists!CL75)","v":""}]
[null,{"$f":"+IF(Lists!CK76=\"\",\"\",Lists!CK76)","v":""},{"$f":"+IF(Lists!CL76=\"\",\"\",Lists!CL76)","v":""}]
[null,{"$f":"+IF(Lists!CK77=\"\",\"\",Lists!CK77)","v":""},{"$f":"+IF(Lists!CL77=\"\",\"\",Lists!CL77)","v":""}]
[null,{"$f":"+IF(Lists!CK78=\"\",\"\",Lists!CK78)","v":""},{"$f":"+IF(Lists!CL78=\"\",\"\",Lists!CL78)","v":""}]
[null,{"$f":"+IF(Lists!CK79=\"\",\"\",Lists!CK79)","v":""},{"$f":"+IF(Lists!CL79=\"\",\"\",Lists!CL79)","v":""}]
[null,{"$f":"+IF(Lists!CK80=\"\",\"\",Lists!CK80)","v":""},{"$f":"+IF(Lists!CL80=\"\",\"\",Lists!CL80)","v":""}]
[null,{"$f":"+IF(Lists!CK81=\"\",\"\",Lists!CK81)","v":""},{"$f":"+IF(Lists!CL81=\"\",\"\",Lists!CL81)","v":""}]
[null,{"$f":"+IF(Lists!CK82=\"\",\"\",Lists!CK82)","v":""},{"$f":"+IF(Lists!CL82=\"\",\"\",Lists!CL82)","v":""}]
[null,{"$f":"+IF(Lists!CK83=\"\",\"\",Lists!CK83)","v":""},{"$f":"+IF(Lists!CL83=\"\",\"\",Lists!CL83)","v":""}]
[null,{"$f":"+IF(Lists!CK84=\"\",\"\",Lists!CK84)","v":""},{"$f":"+IF(Lists!CL84=\"\",\"\",Lists!CL84)","v":""}]
[null,{"$f":"+IF(Lists!CK85=\"\",\"\",Lists!CK85)","v":""},{"$f":"+IF(Lists!CL85=\"\",\"\",Lists!CL85)","v":""}]
[null,{"$f":"+IF(Lists!CK86=\"\",\"\",Lists!CK86)","v":""},{"$f":"+IF(Lists!CL86=\"\",\"\",Lists!CL86)","v":""}]
[null,{"$f":"+IF(Lists!CK87=\"\",\"\",Lists!CK87)","v":""},{"$f":"+IF(Lists!CL87=\"\",\"\",Lists!CL87)","v":""}]
[null,{"$f":"+IF(Lists!CK88=\"\",\"\",Lists!CK88)","v":""},{"$f":"+IF(Lists!CL88=\"\",\"\",Lists!CL88)","v":""}]
[null,{"$f":"+IF(Lists!CK89=\"\",\"\",Lists!CK89)","v":""},{"$f":"+IF(Lists!CL89=\"\",\"\",Lists!CL89)","v":""}]
[null,{"$f":"+IF(Lists!CK90=\"\",\"\",Lists!CK90)","v":""},{"$f":"+IF(Lists!CL90=\"\",\"\",Lists!CL90)","v":""}]
[null,{"$f":"+IF(Lists!CK91=\"\",\"\",Lists!CK91)","v":""},{"$f":"+IF(Lists!CL91=\"\",\"\",Lists!CL91)","v":""}]
[null,{"$f":"+IF(Lists!CK92=\"\",\"\",Lists!CK92)","v":""},{"$f":"+IF(Lists!CL92=\"\",\"\",Lists!CL92)","v":""}]
[null,{"$f":"+IF(Lists!CK93=\"\",\"\",Lists!CK93)","v":""},{"$f":"+IF(Lists!CL93=\"\",\"\",Lists!CL93)","v":""}]
[null,{"$f":"+IF(Lists!CK94=\"\",\"\",Lists!CK94)","v":""},{"$f":"+IF(Lists!CL94=\"\",\"\",Lists!CL94)","v":""}]
[null,{"$f":"+IF(Lists!CK95=\"\",\"\",Lists!CK95)","v":""},{"$f":"+IF(Lists!CL95=\"\",\"\",Lists!CL95)","v":""}]
[null,{"$f":"+IF(Lists!CK96=\"\",\"\",Lists!CK96)","v":""},{"$f":"+IF(Lists!CL96=\"\",\"\",Lists!CL96)","v":""}]
[null,{"$f":"+IF(Lists!CK97=\"\",\"\",Lists!CK97)","v":""},{"$f":"+IF(Lists!CL97=\"\",\"\",Lists!CL97)","v":""}]
[null,{"$f":"+IF(Lists!CK98=\"\",\"\",Lists!CK98)","v":""},{"$f":"+IF(Lists!CL98=\"\",\"\",Lists!CL98)","v":""}]
[null,{"$f":"+IF(Lists!CK99=\"\",\"\",Lists!CK99)","v":""},{"$f":"+IF(Lists!CL99=\"\",\"\",Lists!CL99)","v":""}]
[null,{"$f":"+IF(Lists!CK100=\"\",\"\",Lists!CK100)","v":""},{"$f":"+IF(Lists!CL100=\"\",\"\",Lists!CL100)","v":""}]
[null,{"$f":"+IF(Lists!CK101=\"\",\"\",Lists!CK101)","v":""},{"$f":"+IF(Lists!CL101=\"\",\"\",Lists!CL101)","v":""}]
[null,{"$f":"+IF(Lists!CK102=\"\",\"\",Lists!CK102)","v":""},{"$f":"+IF(Lists!CL102=\"\",\"\",Lists!CL102)","v":""}]
[null,{"$f":"+IF(Lists!CK103=\"\",\"\",Lists!CK103)","v":""},{"$f":"+IF(Lists!CL103=\"\",\"\",Lists!CL103)","v":""}]
[null,{"$f":"+IF(Lists!CK104=\"\",\"\",Lists!CK104)","v":""},{"$f":"+IF(Lists!CL104=\"\",\"\",Lists!CL104)","v":""}]
[null,{"$f":"+IF(Lists!CK105=\"\",\"\",Lists!CK105)","v":""},{"$f":"+IF(Lists!CL105=\"\",\"\",Lists!CL105)","v":""}]
[null,{"$f":"+IF(Lists!CK106=\"\",\"\",Lists!CK106)","v":""},{"$f":"+IF(Lists!CL106=\"\",\"\",Lists!CL106)","v":""}]
[null,{"$f":"+IF(Lists!CK107=\"\",\"\",Lists!CK107)","v":""},{"$f":"+IF(Lists!CL107=\"\",\"\",Lists!CL107)","v":""}]
[null,{"$f":"+IF(Lists!CK108=\"\",\"\",Lists!CK108)","v":""},{"$f":"+IF(Lists!CL108=\"\",\"\",Lists!CL108)","v":""}]
[null,{"$f":"+IF(Lists!CK109=\"\",\"\",Lists!CK109)","v":""},{"$f":"+IF(Lists!CL109=\"\",\"\",Lists!CL109)","v":""}]
[null,{"$f":"+IF(Lists!CK110=\"\",\"\",Lists!CK110)","v":""},{"$f":"+IF(Lists!CL110=\"\",\"\",Lists!CL110)","v":""}]
[null,{"$f":"+IF(Lists!CK111=\"\",\"\",Lists!CK111)","v":""},{"$f":"+IF(Lists!CL111=\"\",\"\",Lists!CL111)","v":""}]
[null,{"$f":"+IF(Lists!CK112=\"\",\"\",Lists!CK112)","v":""},{"$f":"+IF(Lists!CL112=\"\",\"\",Lists!CL112)","v":""}]
[null,{"$f":"+IF(Lists!CK113=\"\",\"\",Lists!CK113)","v":""},{"$f":"+IF(Lists!CL113=\"\",\"\",Lists!CL113)","v":""}]
[null,{"$f":"+IF(Lists!CK114=\"\",\"\",Lists!CK114)","v":""},{"$f":"+IF(Lists!CL114=\"\",\"\",Lists!CL114)","v":""}]
[null,{"$f":"+IF(Lists!CK115=\"\",\"\",Lists!CK115)","v":""},{"$f":"+IF(Lists!CL115=\"\",\"\",Lists!CL115)","v":""}]
[null,{"$f":"+IF(Lists!CK116=\"\",\"\",Lists!CK116)","v":""},{"$f":"+IF(Lists!CL116=\"\",\"\",Lists!CL116)","v":""}]
[null,{"$f":"+IF(Lists!CK117=\"\",\"\",Lists!CK117)","v":""},{"$f":"+IF(Lists!CL117=\"\",\"\",Lists!CL117)","v":""}]
[null,{"$f":"+IF(Lists!CK118=\"\",\"\",Lists!CK118)","v":""},{"$f":"+IF(Lists!CL118=\"\",\"\",Lists!CL118)","v":""}]
[null,{"$f":"+IF(Lists!CK119=\"\",\"\",Lists!CK119)","v":""},{"$f":"+IF(Lists!CL119=\"\",\"\",Lists!CL119)","v":""}]
[null,{"$f":"+IF(Lists!CK120=\"\",\"\",Lists!CK120)","v":""},{"$f":"+IF(Lists!CL120=\"\",\"\",Lists!CL120)","v":""}]
[null,{"$f":"+IF(Lists!CK121=\"\",\"\",Lists!CK121)","v":""},{"$f":"+IF(Lists!CL121=\"\",\"\",Lists!CL121)","v":""}]
[null,{"$f":"+IF(Lists!CK122=\"\",\"\",Lists!CK122)","v":""},{"$f":"+IF(Lists!CL122=\"\",\"\",Lists!CL122)","v":""}]
[null,{"$f":"+IF(Lists!CK123=\"\",\"\",Lists!CK123)","v":""},{"$f":"+IF(Lists!CL123=\"\",\"\",Lists!CL123)","v":""}]
[null,{"$f":"+IF(Lists!CK124=\"\",\"\",Lists!CK124)","v":""},{"$f":"+IF(Lists!CL124=\"\",\"\",Lists!CL124)","v":""}]
[null,{"$f":"+IF(Lists!CK125=\"\",\"\",Lists!CK125)","v":""},{"$f":"+IF(Lists!CL125=\"\",\"\",Lists!CL125)","v":""}]
[null,{"$f":"+IF(Lists!CK126=\"\",\"\",Lists!CK126)","v":""},{"$f":"+IF(Lists!CL126=\"\",\"\",Lists!CL126)","v":""}]
[null,{"$f":"+IF(Lists!CK127=\"\",\"\",Lists!CK127)","v":""},{"$f":"+IF(Lists!CL127=\"\",\"\",Lists!CL127)","v":""}]
[null,{"$f":"+IF(Lists!CK128=\"\",\"\",Lists!CK128)","v":""},{"$f":"+IF(Lists!CL128=\"\",\"\",Lists!CL128)","v":""}]
[null,{"$f":"+IF(Lists!CK129=\"\",\"\",Lists!CK129)","v":""},{"$f":"+IF(Lists!CL129=\"\",\"\",Lists!CL129)","v":""}]
[null,{"$f":"+IF(Lists!CK130=\"\",\"\",Lists!CK130)","v":""},{"$f":"+IF(Lists!CL130=\"\",\"\",Lists!CL130)","v":""}]
[null,{"$f":"+IF(Lists!CK131=\"\",\"\",Lists!CK131)","v":""},{"$f":"+IF(Lists!CL131=\"\",\"\",Lists!CL131)","v":""}]
[null,{"$f":"+IF(Lists!CK132=\"\",\"\",Lists!CK132)","v":""},{"$f":"+IF(Lists!CL132=\"\",\"\",Lists!CL132)","v":""}]
[null,{"$f":"+IF(Lists!CK133=\"\",\"\",Lists!CK133)","v":""},{"$f":"+IF(Lists!CL133=\"\",\"\",Lists!CL133)","v":""}]
[null,{"$f":"+IF(Lists!CK134=\"\",\"\",Lists!CK134)","v":""},{"$f":"+IF(Lists!CL134=\"\",\"\",Lists!CL134)","v":""}]
[null,{"$f":"+IF(Lists!CK135=\"\",\"\",Lists!CK135)","v":""},{"$f":"+IF(Lists!CL135=\"\",\"\",Lists!CL135)","v":""}]
[null,{"$f":"+IF(Lists!CK136=\"\",\"\",Lists!CK136)","v":""},{"$f":"+IF(Lists!CL136=\"\",\"\",Lists!CL136)","v":""}]
[null,{"$f":"+IF(Lists!CK137=\"\",\"\",Lists!CK137)","v":""},{"$f":"+IF(Lists!CL137=\"\",\"\",Lists!CL137)","v":""}]
[null,{"$f":"+IF(Lists!CK138=\"\",\"\",Lists!CK138)","v":""},{"$f":"+IF(Lists!CL138=\"\",\"\",Lists!CL138)","v":""}]
[null,{"$f":"+IF(Lists!CK139=\"\",\"\",Lists!CK139)","v":""},{"$f":"+IF(Lists!CL139=\"\",\"\",Lists!CL139)","v":""}]
[null,{"$f":"+IF(Lists!CK140=\"\",\"\",Lists!CK140)","v":""},{"$f":"+IF(Lists!CL140=\"\",\"\",Lists!CL140)","v":""}]
[null,{"$f":"+IF(Lists!CK141=\"\",\"\",Lists!CK141)","v":""},{"$f":"+IF(Lists!CL141=\"\",\"\",Lists!CL141)","v":""}]
[null,{"$f":"+IF(Lists!CK142=\"\",\"\",Lists!CK142)","v":""},{"$f":"+IF(Lists!CL142=\"\",\"\",Lists!CL142)","v":""}]
[null,{"$f":"+IF(Lists!CK143=\"\",\"\",Lists!CK143)","v":""},{"$f":"+IF(Lists!CL143=\"\",\"\",Lists!CL143)","v":""}]
[null,{"$f":"+IF(Lists!CK144=\"\",\"\",Lists!CK144)","v":""},{"$f":"+IF(Lists!CL144=\"\",\"\",Lists!CL144)","v":""}]
[null,{"$f":"+IF(Lists!CK145=\"\",\"\",Lists!CK145)","v":""},{"$f":"+IF(Lists!CL145=\"\",\"\",Lists!CL145)","v":""}]
[null,{"$f":"+IF(Lists!CK146=\"\",\"\",Lists!CK146)","v":""},{"$f":"+IF(Lists!CL146=\"\",\"\",Lists!CL146)","v":""}]
[null,{"$f":"+IF(Lists!CK147=\"\",\"\",Lists!CK147)","v":""},{"$f":"+IF(Lists!CL147=\"\",\"\",Lists!CL147)","v":""}]
[null,{"$f":"+IF(Lists!CK148=\"\",\"\",Lists!CK148)","v":""},{"$f":"+IF(Lists!CL148=\"\",\"\",Lists!CL148)","v":""}]
[null,{"$f":"+IF(Lists!CK149=\"\",\"\",Lists!CK149)","v":""},{"$f":"+IF(Lists!CL149=\"\",\"\",Lists!CL149)","v":""}]
[null,{"$f":"+IF(Lists!CK150=\"\",\"\",Lists!CK150)","v":""},{"$f":"+IF(Lists!CL150=\"\",\"\",Lists!CL150)","v":""}]
[null,{"$f":"+IF(Lists!CK151=\"\",\"\",Lists!CK151)","v":""},{"$f":"+IF(Lists!CL151=\"\",\"\",Lists!CL151)","v":""}]
[null,{"$f":"+IF(Lists!CK152=\"\",\"\",Lists!CK152)","v":""},{"$f":"+IF(Lists!CL152=\"\",\"\",Lists!CL152)","v":""}]
[null,{"$f":"+IF(Lists!CK153=\"\",\"\",Lists!CK153)","v":""},{"$f":"+IF(Lists!CL153=\"\",\"\",Lists!CL153)","v":""}]
[null,{"$f":"+IF(Lists!CK154=\"\",\"\",Lists!CK154)","v":""},{"$f":"+IF(Lists!CL154=\"\",\"\",Lists!CL154)","v":""}]
[null,{"$f":"+IF(Lists!CK155=\"\",\"\",Lists!CK155)","v":""},{"$f":"+IF(Lists!CL155=\"\",\"\",Lists!CL155)","v":""}]
[null,{"$f":"+IF(Lists!CK156=\"\",\"\",Lists!CK156)","v":""},{"$f":"+IF(Lists!CL156=\"\",\"\",Lists!CL156)","v":""}]
[null,{"$f":"+IF(Lists!CK157=\"\",\"\",Lists!CK157)","v":""},{"$f":"+IF(Lists!CL157=\"\",\"\",Lists!CL157)","v":""}]
[null,{"$f":"+IF(Lists!CK158=\"\",\"\",Lists!CK158)","v":""},{"$f":"+IF(Lists!CL158=\"\",\"\",Lists!CL158)","v":""}]
[null,{"$f":"+IF(Lists!CK159=\"\",\"\",Lists!CK159)","v":""},{"$f":"+IF(Lists!CL159=\"\",\"\",Lists!CL159)","v":""}]
[null,{"$f":"+IF(Lists!CK160=\"\",\"\",Lists!CK160)","v":""},{"$f":"+IF(Lists!CL160=\"\",\"\",Lists!CL160)","v":""}]
[null,{"$f":"+IF(Lists!CK161=\"\",\"\",Lists!CK161)","v":""},{"$f":"+IF(Lists!CL161=\"\",\"\",Lists!CL161)","v":""}]
[null,{"$f":"+IF(Lists!CK162=\"\",\"\",Lists!CK162)","v":""},{"$f":"+IF(Lists!CL162=\"\",\"\",Lists!CL162)","v":""}]
[null,{"$f":"+IF(Lists!CK163=\"\",\"\",Lists!CK163)","v":""},{"$f":"+IF(Lists!CL163=\"\",\"\",Lists!CL163)","v":""}]
[null,{"$f":"+IF(Lists!CK164=\"\",\"\",Lists!CK164)","v":""},{"$f":"+IF(Lists!CL164=\"\",\"\",Lists!CL164)","v":""}]
[null,{"$f":"+IF(Lists!CK165=\"\",\"\",Lists!CK165)","v":""},{"$f":"+IF(Lists!CL165=\"\",\"\",Lists!CL165)","v":""}]
[null,{"$f":"+IF(Lists!CK166=\"\",\"\",Lists!CK166)","v":""},{"$f":"+IF(Lists!CL166=\"\",\"\",Lists!CL166)","v":""}]
[null,{"$f":"+IF(Lists!CK167=\"\",\"\",Lists!CK167)","v":""},{"$f":"+IF(Lists!CL167=\"\",\"\",Lists!CL167)","v":""}]
[null,{"$f":"+IF(Lists!CK168=\"\",\"\",Lists!CK168)","v":""},{"$f":"+IF(Lists!CL168=\"\",\"\",Lists!CL168)","v":""}]
[null,{"$f":"+IF(Lists!CK169=\"\",\"\",Lists!CK169)","v":""},{"$f":"+IF(Lists!CL169=\"\",\"\",Lists!CL169)","v":""}]
[null,{"$f":"+IF(Lists!CK170=\"\",\"\",Lists!CK170)","v":""},{"$f":"+IF(Lists!CL170=\"\",\"\",Lists!CL170)","v":""}]
[null,{"$f":"+IF(Lists!CK171=\"\",\"\",Lists!CK171)","v":""},{"$f":"+IF(Lists!CL171=\"\",\"\",Lists!CL171)","v":""}]
[null,{"$f":"+IF(Lists!CK172=\"\",\"\",Lists!CK172)","v":""},{"$f":"+IF(Lists!CL172=\"\",\"\",Lists!CL172)","v":""}]
[null,{"$f":"+IF(Lists!CK173=\"\",\"\",Lists!CK173)","v":""},{"$f":"+IF(Lists!CL173=\"\",\"\",Lists!CL173)","v":""}]
[null,{"$f":"+IF(Lists!CK174=\"\",\"\",Lists!CK174)","v":""},{"$f":"+IF(Lists!CL174=\"\",\"\",Lists!CL174)","v":""}]
[null,{"$f":"+IF(Lists!CK175=\"\",\"\",Lists!CK175)","v":""},{"$f":"+IF(Lists!CL175=\"\",\"\",Lists!CL175)","v":""}]
[null,{"$f":"+IF(Lists!CK176=\"\",\"\",Lists!CK176)","v":""},{"$f":"+IF(Lists!CL176=\"\",\"\",Lists!CL176)","v":""}]
[null,{"$f":"+IF(Lists!CK177=\"\",\"\",Lists!CK177)","v":""},{"$f":"+IF(Lists!CL177=\"\",\"\",Lists!CL177)","v":""}]
[null,{"$f":"+IF(Lists!CK178=\"\",\"\",Lists!CK178)","v":""},{"$f":"+IF(Lists!CL178=\"\",\"\",Lists!CL178)","v":""}]
[null,{"$f":"+IF(Lists!CK179=\"\",\"\",Lists!CK179)","v":""},{"$f":"+IF(Lists!CL179=\"\",\"\",Lists!CL179)","v":""}]
[null,{"$f":"+IF(Lists!CK180=\"\",\"\",Lists!CK180)","v":""},{"$f":"+IF(Lists!CL180=\"\",\"\",Lists!CL180)","v":""}]
[null,{"$f":"+IF(Lists!CK181=\"\",\"\",Lists!CK181)","v":""},{"$f":"+IF(Lists!CL181=\"\",\"\",Lists!CL181)","v":""}]
[null,{"$f":"+IF(Lists!CK182=\"\",\"\",Lists!CK182)","v":""},{"$f":"+IF(Lists!CL182=\"\",\"\",Lists!CL182)","v":""}]
[null,{"$f":"+IF(Lists!CK183=\"\",\"\",Lists!CK183)","v":""},{"$f":"+IF(Lists!CL183=\"\",\"\",Lists!CL183)","v":""}]
[null,{"$f":"+IF(Lists!CK184=\"\",\"\",Lists!CK184)","v":""},{"$f":"+IF(Lists!CL184=\"\",\"\",Lists!CL184)","v":""}]
[null,{"$f":"+IF(Lists!CK185=\"\",\"\",Lists!CK185)","v":""},{"$f":"+IF(Lists!CL185=\"\",\"\",Lists!CL185)","v":""}]
[null,{"$f":"+IF(Lists!CK186=\"\",\"\",Lists!CK186)","v":""},{"$f":"+IF(Lists!CL186=\"\",\"\",Lists!CL186)","v":""}]
[null,{"$f":"+IF(Lists!CK187=\"\",\"\",Lists!CK187)","v":""},{"$f":"+IF(Lists!CL187=\"\",\"\",Lists!CL187)","v":""}]
[null,{"$f":"+IF(Lists!CK188=\"\",\"\",Lists!CK188)","v":""},{"$f":"+IF(Lists!CL188=\"\",\"\",Lists!CL188)","v":""}]
[null,{"$f":"+IF(Lists!CK189=\"\",\"\",Lists!CK189)","v":""},{"$f":"+IF(Lists!CL189=\"\",\"\",Lists!CL189)","v":""}]
[null,{"$f":"+IF(Lists!CK190=\"\",\"\",Lists!CK190)","v":""},{"$f":"+IF(Lists!CL190=\"\",\"\",Lists!CL190)","v":""}]
[null,{"$f":"+IF(Lists!CK191=\"\",\"\",Lists!CK191)","v":""},{"$f":"+IF(Lists!CL191=\"\",\"\",Lists!CL191)","v":""}]
[null,{"$f":"+IF(Lists!CK192=\"\",\"\",Lists!CK192)","v":""},{"$f":"+IF(Lists!CL192=\"\",\"\",Lists!CL192)","v":""}]
[null,{"$f":"+IF(Lists!CK193=\"\",\"\",Lists!CK193)","v":""},{"$f":"+IF(Lists!CL193=\"\",\"\",Lists!CL193)","v":""}]
[null,{"$f":"+IF(Lists!CK194=\"\",\"\",Lists!CK194)","v":""},{"$f":"+IF(Lists!CL194=\"\",\"\",Lists!CL194)","v":""}]
[null,{"$f":"+IF(Lists!CK195=\"\",\"\",Lists!CK195)","v":""},{"$f":"+IF(Lists!CL195=\"\",\"\",Lists!CL195)","v":""}]
[null,{"$f":"+IF(Lists!CK196=\"\",\"\",Lists!CK196)","v":""},{"$f":"+IF(Lists!CL196=\"\",\"\",Lists!CL196)","v":""}]
[null,{"$f":"+IF(Lists!CK197=\"\",\"\",Lists!CK197)","v":""},{"$f":"+IF(Lists!CL197=\"\",\"\",Lists!CL197)","v":""}]
[null,{"$f":"+IF(Lists!CK198=\"\",\"\",Lists!CK198)","v":""},{"$f":"+IF(Lists!CL198=\"\",\"\",Lists!CL198)","v":""}]
[null,{"$f":"+IF(Lists!CK199=\"\",\"\",Lists!CK199)","v":""},{"$f":"+IF(Lists!CL199=\"\",\"\",Lists!CL199)","v":""}]
[null,{"$f":"+IF(Lists!CK200=\"\",\"\",Lists!CK200)","v":""},{"$f":"+IF(Lists!CL200=\"\",\"\",Lists!CL200)","v":""}]
[null,{"$f":"+IF(Lists!CK201=\"\",\"\",Lists!CK201)","v":""},{"$f":"+IF(Lists!CL201=\"\",\"\",Lists!CL201)","v":""}]
[null,{"$f":"+IF(Lists!CK202=\"\",\"\",Lists!CK202)","v":""},{"$f":"+IF(Lists!CL202=\"\",\"\",Lists!CL202)","v":""}]
[null,{"$f":"+IF(Lists!CK203=\"\",\"\",Lists!CK203)","v":""},{"$f":"+IF(Lists!CL203=\"\",\"\",Lists!CL203)","v":""}]
[null,{"$f":"+IF(Lists!CK204=\"\",\"\",Lists!CK204)","v":""},{"$f":"+IF(Lists!CL204=\"\",\"\",Lists!CL204)","v":""}]
[null,{"$f":"+IF(Lists!CK205=\"\",\"\",Lists!CK205)","v":""},{"$f":"+IF(Lists!CL205=\"\",\"\",Lists!CL205)","v":""}]
[null,{"$f":"+IF(Lists!CK206=\"\",\"\",Lists!CK206)","v":""},{"$f":"+IF(Lists!CL206=\"\",\"\",Lists!CL206)","v":""}]
[null,{"$f":"+IF(Lists!CK207=\"\",\"\",Lists!CK207)","v":""},{"$f":"+IF(Lists!CL207=\"\",\"\",Lists!CL207)","v":""}]
[null,{"$f":"+IF(Lists!CK208=\"\",\"\",Lists!CK208)","v":""},{"$f":"+IF(Lists!CL208=\"\",\"\",Lists!CL208)","v":""}]
[null,{"$f":"+IF(Lists!CK209=\"\",\"\",Lists!CK209)","v":""},{"$f":"+IF(Lists!CL209=\"\",\"\",Lists!CL209)","v":""}]
[null,{"$f":"+IF(Lists!CK210=\"\",\"\",Lists!CK210)","v":""},{"$f":"+IF(Lists!CL210=\"\",\"\",Lists!CL210)","v":""}]
[null,{"$f":"+IF(Lists!CK211=\"\",\"\",Lists!CK211)","v":""},{"$f":"+IF(Lists!CL211=\"\",\"\",Lists!CL211)","v":""}]
[null,{"$f":"+IF(Lists!CK212=\"\",\"\",Lists!CK212)","v":""},{"$f":"+IF(Lists!CL212=\"\",\"\",Lists!CL212)","v":""}]
[null,{"$f":"+IF(Lists!CK213=\"\",\"\",Lists!CK213)","v":""},{"$f":"+IF(Lists!CL213=\"\",\"\",Lists!CL213)","v":""}]
[null,{"$f":"+IF(Lists!CK214=\"\",\"\",Lists!CK214)","v":""},{"$f":"+IF(Lists!CL214=\"\",\"\",Lists!CL214)","v":""}]
[null,{"$f":"+IF(Lists!CK215=\"\",\"\",Lists!CK215)","v":""},{"$f":"+IF(Lists!CL215=\"\",\"\",Lists!CL215)","v":""}]
[null,{"$f":"+IF(Lists!CK216=\"\",\"\",Lists!CK216)","v":""},{"$f":"+IF(Lists!CL216=\"\",\"\",Lists!CL216)","v":""}]
[null,{"$f":"+IF(Lists!CK217=\"\",\"\",Lists!CK217)","v":""},{"$f":"+IF(Lists!CL217=\"\",\"\",Lists!CL217)","v":""}]
[null,{"$f":"+IF(Lists!CK218=\"\",\"\",Lists!CK218)","v":""},{"$f":"+IF(Lists!CL218=\"\",\"\",Lists!CL218)","v":""}]
[null,{"$f":"+IF(Lists!CK219=\"\",\"\",Lists!CK219)","v":""},{"$f":"+IF(Lists!CL219=\"\",\"\",Lists!CL219)","v":""}]
[null,{"$f":"+IF(Lists!CK220=\"\",\"\",Lists!CK220)","v":""},{"$f":"+IF(Lists!CL220=\"\",\"\",Lists!CL220)","v":""}]
[null,{"$f":"+IF(Lists!CK221=\"\",\"\",Lists!CK221)","v":""},{"$f":"+IF(Lists!CL221=\"\",\"\",Lists!CL221)","v":""}]
[null,{"$f":"+IF(Lists!CK222=\"\",\"\",Lists!CK222)","v":""},{"$f":"+IF(Lists!CL222=\"\",\"\",Lists!CL222)","v":""}]
[null,{"$f":"+IF(Lists!CK223=\"\",\"\",Lists!CK223)","v":""},{"$f":"+IF(Lists!CL223=\"\",\"\",Lists!CL223)","v":""}]
[null,{"$f":"+IF(Lists!CK224=\"\",\"\",Lists!CK224)","v":""},{"$f":"+IF(Lists!CL224=\"\",\"\",Lists!CL224)","v":""}]
[null,{"$f":"+IF(Lists!CK225=\"\",\"\",Lists!CK225)","v":""},{"$f":"+IF(Lists!CL225=\"\",\"\",Lists!CL225)","v":""}]
[null,{"$f":"+IF(Lists!CK226=\"\",\"\",Lists!CK226)","v":""},{"$f":"+IF(Lists!CL226=\"\",\"\",Lists!CL226)","v":""}]
[null,{"$f":"+IF(Lists!CK227=\"\",\"\",Lists!CK227)","v":""},{"$f":"+IF(Lists!CL227=\"\",\"\",Lists!CL227)","v":""}]
[null,{"$f":"+IF(Lists!CK228=\"\",\"\",Lists!CK228)","v":""},{"$f":"+IF(Lists!CL228=\"\",\"\",Lists!CL228)","v":""}]
[null,{"$f":"+IF(Lists!CK229=\"\",\"\",Lists!CK229)","v":""},{"$f":"+IF(Lists!CL229=\"\",\"\",Lists!CL229)","v":""}]
[null,{"$f":"+IF(Lists!CK230=\"\",\"\",Lists!CK230)","v":""},{"$f":"+IF(Lists!CL230=\"\",\"\",Lists!CL230)","v":""}]
[null,{"$f":"+IF(Lists!CK231=\"\",\"\",Lists!CK231)","v":""},{"$f":"+IF(Lists!CL231=\"\",\"\",Lists!CL231)","v":""}]
[null,{"$f":"+IF(Lists!CK232=\"\",\"\",Lists!CK232)","v":""},{"$f":"+IF(Lists!CL232=\"\",\"\",Lists!CL232)","v":""}]
[null,{"$f":"+IF(Lists!CK233=\"\",\"\",Lists!CK233)","v":""},{"$f":"+IF(Lists!CL233=\"\",\"\",Lists!CL233)","v":""}]
[null,{"$f":"+IF(Lists!CK234=\"\",\"\",Lists!CK234)","v":""},{"$f":"+IF(Lists!CL234=\"\",\"\",Lists!CL234)","v":""}]
[null,{"$f":"+IF(Lists!CK235=\"\",\"\",Lists!CK235)","v":""},{"$f":"+IF(Lists!CL235=\"\",\"\",Lists!CL235)","v":""}]
[null,{"$f":"+IF(Lists!CK236=\"\",\"\",Lists!CK236)","v":""},{"$f":"+IF(Lists!CL236=\"\",\"\",Lists!CL236)","v":""}]
[null,{"$f":"+IF(Lists!CK237=\"\",\"\",Lists!CK237)","v":""},{"$f":"+IF(Lists!CL237=\"\",\"\",Lists!CL237)","v":""}]
[null,{"$f":"+IF(Lists!CK238=\"\",\"\",Lists!CK238)","v":""},{"$f":"+IF(Lists!CL238=\"\",\"\",Lists!CL238)","v":""}]
[null,{"$f":"+IF(Lists!CK239=\"\",\"\",Lists!CK239)","v":""},{"$f":"+IF(Lists!CL239=\"\",\"\",Lists!CL239)","v":""}]
[null,{"$f":"+IF(Lists!CK240=\"\",\"\",Lists!CK240)","v":""},{"$f":"+IF(Lists!CL240=\"\",\"\",Lists!CL240)","v":""}]
[null,{"$f":"+IF(Lists!CK241=\"\",\"\",Lists!CK241)","v":""},{"$f":"+IF(Lists!CL241=\"\",\"\",Lists!CL241)","v":""}]
[null,{"$f":"+IF(Lists!CK242=\"\",\"\",Lists!CK242)","v":""},{"$f":"+IF(Lists!CL242=\"\",\"\",Lists!CL242)","v":""}]
[null,{"$f":"+IF(Lists!CK243=\"\",\"\",Lists!CK243)","v":""},{"$f":"+IF(Lists!CL243=\"\",\"\",Lists!CL243)","v":""}]
[null,{"$f":"+IF(Lists!CK244=\"\",\"\",Lists!CK244)","v":""},{"$f":"+IF(Lists!CL244=\"\",\"\",Lists!CL244)","v":""}]
[null,{"$f":"+IF(Lists!CK245=\"\",\"\",Lists!CK245)","v":""},{"$f":"+IF(Lists!CL245=\"\",\"\",Lists!CL245)","v":""}]
[null,{"$f":"+IF(Lists!CK246=\"\",\"\",Lists!CK246)","v":""},{"$f":"+IF(Lists!CL246=\"\",\"\",Lists!CL246)","v":""}]
[null,{"$f":"+IF(Lists!CK247=\"\",\"\",Lists!CK247)","v":""},{"$f":"+IF(Lists!CL247=\"\",\"\",Lists!CL247)","v":""}]
[null,{"$f":"+IF(Lists!CK248=\"\",\"\",Lists!CK248)","v":""},{"$f":"+IF(Lists!CL248=\"\",\"\",Lists!CL248)","v":""}]
[null,{"$f":"+IF(Lists!CK249=\"\",\"\",Lists!CK249)","v":""},{"$f":"+IF(Lists!CL249=\"\",\"\",Lists!CL249)","v":""}]
[null,{"$f":"+IF(Lists!CK250=\"\",\"\",Lists!CK250)","v":""},{"$f":"+IF(Lists!CL250=\"\",\"\",Lists!CL250)","v":""}]
[null,{"$f":"+IF(Lists!CK251=\"\",\"\",Lists!CK251)","v":""},{"$f":"+IF(Lists!CL251=\"\",\"\",Lists!CL251)","v":""}]
[null,{"$f":"+IF(Lists!CK252=\"\",\"\",Lists!CK252)","v":""},{"$f":"+IF(Lists!CL252=\"\",\"\",Lists!CL252)","v":""}]
[null,{"$f":"+IF(Lists!CK253=\"\",\"\",Lists!CK253)","v":""},{"$f":"+IF(Lists!CL253=\"\",\"\",Lists!CL253)","v":""}]
[null,{"$f":"+IF(Lists!CK254=\"\",\"\",Lists!CK254)","v":""},{"$f":"+IF(Lists!CL254=\"\",\"\",Lists!CL254)","v":""}]
[null,{"$f":"+IF(Lists!CK255=\"\",\"\",Lists!CK255)","v":""},{"$f":"+IF(Lists!CL255=\"\",\"\",Lists!CL255)","v":""}]
[null,{"$f":"+IF(Lists!CK256=\"\",\"\",Lists!CK256)","v":""},{"$f":"+IF(Lists!CL256=\"\",\"\",Lists!CL256)","v":""}]
[null,{"$f":"+IF(Lists!CK257=\"\",\"\",Lists!CK257)","v":""},{"$f":"+IF(Lists!CL257=\"\",\"\",Lists!CL257)","v":""}]
[null,{"$f":"+IF(Lists!CK258=\"\",\"\",Lists!CK258)","v":""},{"$f":"+IF(Lists!CL258=\"\",\"\",Lists!CL258)","v":""}]
[null,{"$f":"+IF(Lists!CK259=\"\",\"\",Lists!CK259)","v":""},{"$f":"+IF(Lists!CL259=\"\",\"\",Lists!CL259)","v":""}]
[null,{"$f":"+IF(Lists!CK260=\"\",\"\",Lists!CK260)","v":""},{"$f":"+IF(Lists!CL260=\"\",\"\",Lists!CL260)","v":""}]
[null,{"$f":"+IF(Lists!CK261=\"\",\"\",Lists!CK261)","v":""},{"$f":"+IF(Lists!CL261=\"\",\"\",Lists!CL261)","v":""}]
[null,{"$f":"+IF(Lists!CK262=\"\",\"\",Lists!CK262)","v":""},{"$f":"+IF(Lists!CL262=\"\",\"\",Lists!CL262)","v":""}]
[null,{"$f":"+IF(Lists!CK263=\"\",\"\",Lists!CK263)","v":""},{"$f":"+IF(Lists!CL263=\"\",\"\",Lists!CL263)","v":""}]
[null,{"$f":"+IF(Lists!CK264=\"\",\"\",Lists!CK264)","v":""},{"$f":"+IF(Lists!CL264=\"\",\"\",Lists!CL264)","v":""}]
[null,{"$f":"+IF(Lists!CK265=\"\",\"\",Lists!CK265)","v":""},{"$f":"+IF(Lists!CL265=\"\",\"\",Lists!CL265)","v":""}]
[null,{"$f":"+IF(Lists!CK266=\"\",\"\",Lists!CK266)","v":""},{"$f":"+IF(Lists!CL266=\"\",\"\",Lists!CL266)","v":""}]
[null,{"$f":"+IF(Lists!CK267=\"\",\"\",Lists!CK267)","v":""},{"$f":"+IF(Lists!CL267=\"\",\"\",Lists!CL267)","v":""}]
[null,{"$f":"+IF(Lists!CK268=\"\",\"\",Lists!CK268)","v":""},{"$f":"+IF(Lists!CL268=\"\",\"\",Lists!CL268)","v":""}]
[null,{"$f":"+IF(Lists!CK269=\"\",\"\",Lists!CK269)","v":""},{"$f":"+IF(Lists!CL269=\"\",\"\",Lists!CL269)","v":""}]
[null,{"$f":"+IF(Lists!CK270=\"\",\"\",Lists!CK270)","v":""},{"$f":"+IF(Lists!CL270=\"\",\"\",Lists!CL270)","v":""}]
[null,{"$f":"+IF(Lists!CK271=\"\",\"\",Lists!CK271)","v":""},{"$f":"+IF(Lists!CL271=\"\",\"\",Lists!CL271)","v":""}]
[null,{"$f":"+IF(Lists!CK272=\"\",\"\",Lists!CK272)","v":""},{"$f":"+IF(Lists!CL272=\"\",\"\",Lists!CL272)","v":""}]
[null,{"$f":"+IF(Lists!CK273=\"\",\"\",Lists!CK273)","v":""},{"$f":"+IF(Lists!CL273=\"\",\"\",Lists!CL273)","v":""}]
[null,{"$f":"+IF(Lists!CK274=\"\",\"\",Lists!CK274)","v":""},{"$f":"+IF(Lists!CL274=\"\",\"\",Lists!CL274)","v":""}]
[null,{"$f":"+IF(Lists!CK275=\"\",\"\",Lists!CK275)","v":""},{"$f":"+IF(Lists!CL275=\"\",\"\",Lists!CL275)","v":""}]
[null,{"$f":"+IF(Lists!CK276=\"\",\"\",Lists!CK276)","v":""},{"$f":"+IF(Lists!CL276=\"\",\"\",Lists!CL276)","v":""}]
[null,{"$f":"+IF(Lists!CK277=\"\",\"\",Lists!CK277)","v":""},{"$f":"+IF(Lists!CL277=\"\",\"\",Lists!CL277)","v":""}]
[null,{"$f":"+IF(Lists!CK278=\"\",\"\",Lists!CK278)","v":""},{"$f":"+IF(Lists!CL278=\"\",\"\",Lists!CL278)","v":""}]
[null,{"$f":"+IF(Lists!CK279=\"\",\"\",Lists!CK279)","v":""},{"$f":"+IF(Lists!CL279=\"\",\"\",Lists!CL279)","v":""}]
[null,{"$f":"+IF(Lists!CK280=\"\",\"\",Lists!CK280)","v":""},{"$f":"+IF(Lists!CL280=\"\",\"\",Lists!CL280)","v":""}]
[null,{"$f":"+IF(Lists!CK281=\"\",\"\",Lists!CK281)","v":""},{"$f":"+IF(Lists!CL281=\"\",\"\",Lists!CL281)","v":""}]
[null,{"$f":"+IF(Lists!CK282=\"\",\"\",Lists!CK282)","v":""},{"$f":"+IF(Lists!CL282=\"\",\"\",Lists!CL282)","v":""}]
[null,{"$f":"+IF(Lists!CK283=\"\",\"\",Lists!CK283)","v":""},{"$f":"+IF(Lists!CL283=\"\",\"\",Lists!CL283)","v":""}]
[null,{"$f":"+IF(Lists!CK284=\"\",\"\",Lists!CK284)","v":""},{"$f":"+IF(Lists!CL284=\"\",\"\",Lists!CL284)","v":""}]
[null,{"$f":"+IF(Lists!CK285=\"\",\"\",Lists!CK285)","v":""},{"$f":"+IF(Lists!CL285=\"\",\"\",Lists!CL285)","v":""}]
[null,{"$f":"+IF(Lists!CK286=\"\",\"\",Lists!CK286)","v":""},{"$f":"+IF(Lists!CL286=\"\",\"\",Lists!CL286)","v":""}]
[null,{"$f":"+IF(Lists!CK287=\"\",\"\",Lists!CK287)","v":""},{"$f":"+IF(Lists!CL287=\"\",\"\",Lists!CL287)","v":""}]
[null,{"$f":"+IF(Lists!CK288=\"\",\"\",Lists!CK288)","v":""},{"$f":"+IF(Lists!CL288=\"\",\"\",Lists!CL288)","v":""}]
[null,{"$f":"+IF(Lists!CK289=\"\",\"\",Lists!CK289)","v":""},{"$f":"+IF(Lists!CL289=\"\",\"\",Lists!CL289)","v":""}]
[null,{"$f":"+IF(Lists!CK290=\"\",\"\",Lists!CK290)","v":""},{"$f":"+IF(Lists!CL290=\"\",\"\",Lists!CL290)","v":""}]
[null,{"$f":"+IF(Lists!CK291=\"\",\"\",Lists!CK291)","v":""},{"$f":"+IF(Lists!CL291=\"\",\"\",Lists!CL291)","v":""}]
[null,{"$f":"+IF(Lists!CK292=\"\",\"\",Lists!CK292)","v":""},{"$f":"+IF(Lists!CL292=\"\",\"\",Lists!CL292)","v":""}]
[null,{"$f":"+IF(Lists!CK293=\"\",\"\",Lists!CK293)","v":""},{"$f":"+IF(Lists!CL293=\"\",\"\",Lists!CL293)","v":""}]
[null,{"$f":"+IF(Lists!CK294=\"\",\"\",Lists!CK294)","v":""},{"$f":"+IF(Lists!CL294=\"\",\"\",Lists!CL294)","v":""}]
[null,{"$f":"+IF(Lists!CK295=\"\",\"\",Lists!CK295)","v":""},{"$f":"+IF(Lists!CL295=\"\",\"\",Lists!CL295)","v":""}]
[null,{"$f":"+IF(Lists!CK296=\"\",\"\",Lists!CK296)","v":""},{"$f":"+IF(Lists!CL296=\"\",\"\",Lists!CL296)","v":""}]
[null,{"$f":"+IF(Lists!CK297=\"\",\"\",Lists!CK297)","v":""},{"$f":"+IF(Lists!CL297=\"\",\"\",Lists!CL297)","v":""}]
[null,{"$f":"+IF(Lists!CK298=\"\",\"\",Lists!CK298)","v":""},{"$f":"+IF(Lists!CL298=\"\",\"\",Lists!CL298)","v":""}]
[null,{"$f":"+IF(Lists!CK299=\"\",\"\",Lists!CK299)","v":""},{"$f":"+IF(Lists!CL299=\"\",\"\",Lists!CL299)","v":""}]
[null,{"$f":"+IF(Lists!CK300=\"\",\"\",Lists!CK300)","v":""},{"$f":"+IF(Lists!CL300=\"\",\"\",Lists!CL300)","v":""}]
[null,{"$f":"+IF(Lists!CK301=\"\",\"\",Lists!CK301)","v":""},{"$f":"+IF(Lists!CL301=\"\",\"\",Lists!CL301)","v":""}]
[null,{"$f":"+IF(Lists!CK302=\"\",\"\",Lists!CK302)","v":""},{"$f":"+IF(Lists!CL302=\"\",\"\",Lists!CL302)","v":""}]
[null,{"$f":"+IF(Lists!CK303=\"\",\"\",Lists!CK303)","v":""},{"$f":"+IF(Lists!CL303=\"\",\"\",Lists!CL303)","v":""}]
[null,{"$f":"+IF(Lists!CK304=\"\",\"\",Lists!CK304)","v":""},{"$f":"+IF(Lists!CL304=\"\",\"\",Lists!CL304)","v":""}]
[null,{"$f":"+IF(Lists!CK305=\"\",\"\",Lists!CK305)","v":""},{"$f":"+IF(Lists!CL305=\"\",\"\",Lists!CL305)","v":""}]
[null,{"$f":"+IF(Lists!CK306=\"\",\"\",Lists!CK306)","v":""},{"$f":"+IF(Lists!CL306=\"\",\"\",Lists!CL306)","v":""}]
[null,{"$f":"+IF(Lists!CK307=\"\",\"\",Lists!CK307)","v":""},{"$f":"+IF(Lists!CL307=\"\",\"\",Lists!CL307)","v":""}]
[null,{"$f":"+IF(Lists!CK308=\"\",\"\",Lists!CK308)","v":""},{"$f":"+IF(Lists!CL308=\"\",\"\",Lists!CL308)","v":""}]
[null,{"$f":"+IF(Lists!CK309=\"\",\"\",Lists!CK309)","v":""},{"$f":"+IF(Lists!CL309=\"\",\"\",Lists!CL309)","v":""}]
[null,{"$f":"+IF(Lists!CK310=\"\",\"\",Lists!CK310)","v":""},{"$f":"+IF(Lists!CL310=\"\",\"\",Lists!CL310)","v":""}]
[null,{"$f":"+IF(Lists!CK311=\"\",\"\",Lists!CK311)","v":""},{"$f":"+IF(Lists!CL311=\"\",\"\",Lists!CL311)","v":""}]
[null,{"$f":"+IF(Lists!CK312=\"\",\"\",Lists!CK312)","v":""},{"$f":"+IF(Lists!CL312=\"\",\"\",Lists!CL312)","v":""}]
[null,{"$f":"+IF(Lists!CK313=\"\",\"\",Lists!CK313)","v":""},{"$f":"+IF(Lists!CL313=\"\",\"\",Lists!CL313)","v":""}]
[null,{"$f":"+IF(Lists!CK314=\"\",\"\",Lists!CK314)","v":""},{"$f":"+IF(Lists!CL314=\"\",\"\",Lists!CL314)","v":""}]
[null,{"$f":"+IF(Lists!CK315=\"\",\"\",Lists!CK315)","v":""},{"$f":"+IF(Lists!CL315=\"\",\"\",Lists!CL315)","v":""}]
[null,{"$f":"+IF(Lists!CK316=\"\",\"\",Lists!CK316)","v":""},{"$f":"+IF(Lists!CL316=\"\",\"\",Lists!CL316)","v":""}]
[null,{"$f":"+IF(Lists!CK317=\"\",\"\",Lists!CK317)","v":""},{"$f":"+IF(Lists!CL317=\"\",\"\",Lists!CL317)","v":""}]
[null,{"$f":"+IF(Lists!CK318=\"\",\"\",Lists!CK318)","v":""},{"$f":"+IF(Lists!CL318=\"\",\"\",Lists!CL318)","v":""}]
[null,{"$f":"+IF(Lists!CK319=\"\",\"\",Lists!CK319)","v":""},{"$f":"+IF(Lists!CL319=\"\",\"\",Lists!CL319)","v":""}]
[null,{"$f":"+IF(Lists!CK320=\"\",\"\",Lists!CK320)","v":""},{"$f":"+IF(Lists!CL320=\"\",\"\",Lists!CL320)","v":""}]
[null,{"$f":"+IF(Lists!CK321=\"\",\"\",Lists!CK321)","v":""},{"$f":"+IF(Lists!CL321=\"\",\"\",Lists!CL321)","v":""}]
[null,{"$f":"+IF(Lists!CK322=\"\",\"\",Lists!CK322)","v":""},{"$f":"+IF(Lists!CL322=\"\",\"\",Lists!CL322)","v":""}]
[null,{"$f":"+IF(Lists!CK323=\"\",\"\",Lists!CK323)","v":""},{"$f":"+IF(Lists!CL323=\"\",\"\",Lists!CL323)","v":""}]
[null,{"$f":"+IF(Lists!CK324=\"\",\"\",Lists!CK324)","v":""},{"$f":"+IF(Lists!CL324=\"\",\"\",Lists!CL324)","v":""}]
[null,{"$f":"+IF(Lists!CK325=\"\",\"\",Lists!CK325)","v":""},{"$f":"+IF(Lists!CL325=\"\",\"\",Lists!CL325)","v":""}]
[null,{"$f":"+IF(Lists!CK326=\"\",\"\",Lists!CK326)","v":""},{"$f":"+IF(Lists!CL326=\"\",\"\",Lists!CL326)","v":""}]
[null,{"$f":"+IF(Lists!CK327=\"\",\"\",Lists!CK327)","v":""},{"$f":"+IF(Lists!CL327=\"\",\"\",Lists!CL327)","v":""}]
[null,{"$f":"+IF(Lists!CK328=\"\",\"\",Lists!CK328)","v":""},{"$f":"+IF(Lists!CL328=\"\",\"\",Lists!CL328)","v":""}]
[null,{"$f":"+IF(Lists!CK329=\"\",\"\",Lists!CK329)","v":""},{"$f":"+IF(Lists!CL329=\"\",\"\",Lists!CL329)","v":""}]
[null,{"$f":"+IF(Lists!CK330=\"\",\"\",Lists!CK330)","v":""},{"$f":"+IF(Lists!CL330=\"\",\"\",Lists!CL330)","v":""}]
[null,{"$f":"+IF(Lists!CK331=\"\",\"\",Lists!CK331)","v":""},{"$f":"+IF(Lists!CL331=\"\",\"\",Lists!CL331)","v":""}]
[null,{"$f":"+IF(Lists!CK332=\"\",\"\",Lists!CK332)","v":""},{"$f":"+IF(Lists!CL332=\"\",\"\",Lists!CL332)","v":""}]
[null,{"$f":"+IF(Lists!CK333=\"\",\"\",Lists!CK333)","v":""},{"$f":"+IF(Lists!CL333=\"\",\"\",Lists!CL333)","v":""}]
[null,{"$f":"+IF(Lists!CK334=\"\",\"\",Lists!CK334)","v":""},{"$f":"+IF(Lists!CL334=\"\",\"\",Lists!CL334)","v":""}]
[null,{"$f":"+IF(Lists!CK335=\"\",\"\",Lists!CK335)","v":""},{"$f":"+IF(Lists!CL335=\"\",\"\",Lists!CL335)","v":""}]
[null,{"$f":"+IF(Lists!CK336=\"\",\"\",Lists!CK336)","v":""},{"$f":"+IF(Lists!CL336=\"\",\"\",Lists!CL336)","v":""}]
[null,{"$f":"+IF(Lists!CK337=\"\",\"\",Lists!CK337)","v":""},{"$f":"+IF(Lists!CL337=\"\",\"\",Lists!CL337)","v":""}]
[null,{"$f":"+IF(Lists!CK338=\"\",\"\",Lists!CK338)","v":""},{"$f":"+IF(Lists!CL338=\"\",\"\",Lists!CL338)","v":""}]
[null,{"$f":"+IF(Lists!CK339=\"\",\"\",Lists!CK339)","v":""},{"$f":"+IF(Lists!CL339=\"\",\"\",Lists!CL339)","v":""}]
[null,{"$f":"+IF(Lists!CK340=\"\",\"\",Lists!CK340)","v":""},{"$f":"+IF(Lists!CL340=\"\",\"\",Lists!CL340)","v":""}]
[null,{"$f":"+IF(Lists!CK341=\"\",\"\",Lists!CK341)","v":""},{"$f":"+IF(Lists!CL341=\"\",\"\",Lists!CL341)","v":""}]
[null,{"$f":"+IF(Lists!CK342=\"\",\"\",Lists!CK342)","v":""},{"$f":"+IF(Lists!CL342=\"\",\"\",Lists!CL342)","v":""}]
[null,{"$f":"+IF(Lists!CK343=\"\",\"\",Lists!CK343)","v":""},{"$f":"+IF(Lists!CL343=\"\",\"\",Lists!CL343)","v":""}]
[null,{"$f":"+IF(Lists!CK344=\"\",\"\",Lists!CK344)","v":""},{"$f":"+IF(Lists!CL344=\"\",\"\",Lists!CL344)","v":""}]
[null,{"$f":"+IF(Lists!CK345=\"\",\"\",Lists!CK345)","v":""},{"$f":"+IF(Lists!CL345=\"\",\"\",Lists!CL345)","v":""}]
[null,{"$f":"+IF(Lists!CK346=\"\",\"\",Lists!CK346)","v":""},{"$f":"+IF(Lists!CL346=\"\",\"\",Lists!CL346)","v":""}]
[null,{"$f":"+IF(Lists!CK347=\"\",\"\",Lists!CK347)","v":""},{"$f":"+IF(Lists!CL347=\"\",\"\",Lists!CL347)","v":""}]
[null,{"$f":"+IF(Lists!CK348=\"\",\"\",Lists!CK348)","v":""},{"$f":"+IF(Lists!CL348=\"\",\"\",Lists!CL348)","v":""}]
[null,{"$f":"+IF(Lists!CK349=\"\",\"\",Lists!CK349)","v":""},{"$f":"+IF(Lists!CL349=\"\",\"\",Lists!CL349)","v":""}]
[null,{"$f":"+IF(Lists!CK350=\"\",\"\",Lists!CK350)","v":""},{"$f":"+IF(Lists!CL350=\"\",\"\",Lists!CL350)","v":""}]
[null,{"$f":"+IF(Lists!CK351=\"\",\"\",Lists!CK351)","v":""},{"$f":"+IF(Lists!CL351=\"\",\"\",Lists!CL351)","v":""}]
[null,{"$f":"+IF(Lists!CK352=\"\",\"\",Lists!CK352)","v":""},{"$f":"+IF(Lists!CL352=\"\",\"\",Lists!CL352)","v":""}]
[null,{"$f":"+IF(Lists!CK353=\"\",\"\",Lists!CK353)","v":""},{"$f":"+IF(Lists!CL353=\"\",\"\",Lists!CL353)","v":""}]
[null,{"$f":"+IF(Lists!CK354=\"\",\"\",Lists!CK354)","v":""},{"$f":"+IF(Lists!CL354=\"\",\"\",Lists!CL354)","v":""}]
[null,{"$f":"+IF(Lists!CK355=\"\",\"\",Lists!CK355)","v":""},{"$f":"+IF(Lists!CL355=\"\",\"\",Lists!CL355)","v":""}]
[null,{"$f":"+IF(Lists!CK356=\"\",\"\",Lists!CK356)","v":""},{"$f":"+IF(Lists!CL356=\"\",\"\",Lists!CL356)","v":""}]
[null,{"$f":"+IF(Lists!CK357=\"\",\"\",Lists!CK357)","v":""},{"$f":"+IF(Lists!CL357=\"\",\"\",Lists!CL357)","v":""}]
[null,{"$f":"+IF(Lists!CK358=\"\",\"\",Lists!CK358)","v":""},{"$f":"+IF(Lists!CL358=\"\",\"\",Lists!CL358)","v":""}]
[null,{"$f":"+IF(Lists!CK359=\"\",\"\",Lists!CK359)","v":""},{"$f":"+IF(Lists!CL359=\"\",\"\",Lists!CL359)","v":""}]
[null,{"$f":"+IF(Lists!CK360=\"\",\"\",Lists!CK360)","v":""},{"$f":"+IF(Lists!CL360=\"\",\"\",Lists!CL360)","v":""}]
[null,{"$f":"+IF(Lists!CK361=\"\",\"\",Lists!CK361)","v":""},{"$f":"+IF(Lists!CL361=\"\",\"\",Lists!CL361)","v":""}]
[null,{"$f":"+IF(Lists!CK362=\"\",\"\",Lists!CK362)","v":""},{"$f":"+IF(Lists!CL362=\"\",\"\",Lists!CL362)","v":""}]
[null,{"$f":"+IF(Lists!CK363=\"\",\"\",Lists!CK363)","v":""},{"$f":"+IF(Lists!CL363=\"\",\"\",Lists!CL363)","v":""}]
[null,{"$f":"+IF(Lists!CK364=\"\",\"\",Lists!CK364)","v":""},{"$f":"+IF(Lists!CL364=\"\",\"\",Lists!CL364)","v":""}]
[null,{"$f":"+IF(Lists!CK365=\"\",\"\",Lists!CK365)","v":""},{"$f":"+IF(Lists!CL365=\"\",\"\",Lists!CL365)","v":""}]
[null,{"$f":"+IF(Lists!CK366=\"\",\"\",Lists!CK366)","v":""},{"$f":"+IF(Lists!CL366=\"\",\"\",Lists!CL366)","v":""}]
[null,{"$f":"+IF(Lists!CK367=\"\",\"\",Lists!CK367)","v":""},{"$f":"+IF(Lists!CL367=\"\",\"\",Lists!CL367)","v":""}]
[null,{"$f":"+IF(Lists!CK368=\"\",\"\",Lists!CK368)","v":""},{"$f":"+IF(Lists!CL368=\"\",\"\",Lists!CL368)","v":""}]
[null,{"$f":"+IF(Lists!CK369=\"\",\"\",Lists!CK369)","v":""},{"$f":"+IF(Lists!CL369=\"\",\"\",Lists!CL369)","v":""}]
[null,{"$f":"+IF(Lists!CK370=\"\",\"\",Lists!CK370)","v":""},{"$f":"+IF(Lists!CL370=\"\",\"\",Lists!CL370)","v":""}]
[null,{"$f":"+IF(Lists!CK371=\"\",\"\",Lists!CK371)","v":""},{"$f":"+IF(Lists!CL371=\"\",\"\",Lists!CL371)","v":""}]
[null,{"$f":"+IF(Lists!CK372=\"\",\"\",Lists!CK372)","v":""},{"$f":"+IF(Lists!CL372=\"\",\"\",Lists!CL372)","v":""}]
[null,{"$f":"+IF(Lists!CK373=\"\",\"\",Lists!CK373)","v":""},{"$f":"+IF(Lists!CL373=\"\",\"\",Lists!CL373)","v":""}]
[null,{"$f":"+IF(Lists!CK374=\"\",\"\",Lists!CK374)","v":""},{"$f":"+IF(Lists!CL374=\"\",\"\",Lists!CL374)","v":""}]
[null,{"$f":"+IF(Lists!CK375=\"\",\"\",Lists!CK375)","v":""},{"$f":"+IF(Lists!CL375=\"\",\"\",Lists!CL375)","v":""}]
[null,{"$f":"+IF(Lists!CK376=\"\",\"\",Lists!CK376)","v":""},{"$f":"+IF(Lists!CL376=\"\",\"\",Lists!CL376)","v":""}]
[null,{"$f":"+IF(Lists!CK377=\"\",\"\",Lists!CK377)","v":""},{"$f":"+IF(Lists!CL377=\"\",\"\",Lists!CL377)","v":""}]
[null,{"$f":"+IF(Lists!CK378=\"\",\"\",Lists!CK378)","v":""},{"$f":"+IF(Lists!CL378=\"\",\"\",Lists!CL378)","v":""}]
[null,{"$f":"+IF(Lists!CK379=\"\",\"\",Lists!CK379)","v":""},{"$f":"+IF(Lists!CL379=\"\",\"\",Lists!CL379)","v":""}]
[null,{"$f":"+IF(Lists!CK380=\"\",\"\",Lists!CK380)","v":""},{"$f":"+IF(Lists!CL380=\"\",\"\",Lists!CL380)","v":""}]
[null,{"$f":"+IF(Lists!CK381=\"\",\"\",Lists!CK381)","v":""},{"$f":"+IF(Lists!CL381=\"\",\"\",Lists!CL381)","v":""}]
[null,{"$f":"+IF(Lists!CK382=\"\",\"\",Lists!CK382)","v":""},{"$f":"+IF(Lists!CL382=\"\",\"\",Lists!CL382)","v":""}]
[null,{"$f":"+IF(Lists!CK383=\"\",\"\",Lists!CK383)","v":""},{"$f":"+IF(Lists!CL383=\"\",\"\",Lists!CL383)","v":""}]
[null,{"$f":"+IF(Lists!CK384=\"\",\"\",Lists!CK384)","v":""},{"$f":"+IF(Lists!CL384=\"\",\"\",Lists!CL384)","v":""}]
[null,{"$f":"+IF(Lists!CK385=\"\",\"\",Lists!CK385)","v":""},{"$f":"+IF(Lists!CL385=\"\",\"\",Lists!CL385)","v":""}]
[null,{"$f":"+IF(Lists!CK386=\"\",\"\",Lists!CK386)","v":""},{"$f":"+IF(Lists!CL386=\"\",\"\",Lists!CL386)","v":""}]
[null,{"$f":"+IF(Lists!CK387=\"\",\"\",Lists!CK387)","v":""},{"$f":"+IF(Lists!CL387=\"\",\"\",Lists!CL387)","v":""}]
[null,{"$f":"+IF(Lists!CK388=\"\",\"\",Lists!CK388)","v":""},{"$f":"+IF(Lists!CL388=\"\",\"\",Lists!CL388)","v":""}]
[null,{"$f":"+IF(Lists!CK389=\"\",\"\",Lists!CK389)","v":""},{"$f":"+IF(Lists!CL389=\"\",\"\",Lists!CL389)","v":""}]
[null,{"$f":"+IF(Lists!CK390=\"\",\"\",Lists!CK390)","v":""},{"$f":"+IF(Lists!CL390=\"\",\"\",Lists!CL390)","v":""}]
[null,{"$f":"+IF(Lists!CK391=\"\",\"\",Lists!CK391)","v":""},{"$f":"+IF(Lists!CL391=\"\",\"\",Lists!CL391)","v":""}]
[null,{"$f":"+IF(Lists!CK392=\"\",\"\",Lists!CK392)","v":""},{"$f":"+IF(Lists!CL392=\"\",\"\",Lists!CL392)","v":""}]
[null,{"$f":"+IF(Lists!CK393=\"\",\"\",Lists!CK393)","v":""},{"$f":"+IF(Lists!CL393=\"\",\"\",Lists!CL393)","v":""}]
[null,{"$f":"+IF(Lists!CK394=\"\",\"\",Lists!CK394)","v":""},{"$f":"+IF(Lists!CL394=\"\",\"\",Lists!CL394)","v":""}]
[null,{"$f":"+IF(Lists!CK395=\"\",\"\",Lists!CK395)","v":""},{"$f":"+IF(Lists!CL395=\"\",\"\",Lists!CL395)","v":""}]
[null,{"$f":"+IF(Lists!CK396=\"\",\"\",Lists!CK396)","v":""},{"$f":"+IF(Lists!CL396=\"\",\"\",Lists!CL396)","v":""}]
[null,{"$f":"+IF(Lists!CK397=\"\",\"\",Lists!CK397)","v":""},{"$f":"+IF(Lists!CL397=\"\",\"\",Lists!CL397)","v":""}]
[null,{"$f":"+IF(Lists!CK398=\"\",\"\",Lists!CK398)","v":""},{"$f":"+IF(Lists!CL398=\"\",\"\",Lists!CL398)","v":""}]
[null,{"$f":"+IF(Lists!CK399=\"\",\"\",Lists!CK399)","v":""},{"$f":"+IF(Lists!CL399=\"\",\"\",Lists!CL399)","v":""}]
[null,{"$f":"+IF(Lists!CK400=\"\",\"\",Lists!CK400)","v":""},{"$f":"+IF(Lists!CL400=\"\",\"\",Lists!CL400)","v":""}]
[null,{"$f":"+IF(Lists!CK401=\"\",\"\",Lists!CK401)","v":""},{"$f":"+IF(Lists!CL401=\"\",\"\",Lists!CL401)","v":""}]
[null,{"$f":"+IF(Lists!CK402=\"\",\"\",Lists!CK402)","v":""},{"$f":"+IF(Lists!CL402=\"\",\"\",Lists!CL402)","v":""}]
[null,{"$f":"+IF(Lists!CK403=\"\",\"\",Lists!CK403)","v":""},{"$f":"+IF(Lists!CL403=\"\",\"\",Lists!CL403)","v":""}]
[null,{"$f":"+IF(Lists!CK404=\"\",\"\",Lists!CK404)","v":""},{"$f":"+IF(Lists!CL404=\"\",\"\",Lists!CL404)","v":""}]
[null,{"$f":"+IF(Lists!CK405=\"\",\"\",Lists!CK405)","v":""},{"$f":"+IF(Lists!CL405=\"\",\"\",Lists!CL405)","v":""}]
[null,{"$f":"+IF(Lists!CK406=\"\",\"\",Lists!CK406)","v":""},{"$f":"+IF(Lists!CL406=\"\",\"\",Lists!CL406)","v":""}]
[null,{"$f":"+IF(Lists!CK407=\"\",\"\",Lists!CK407)","v":""},{"$f":"+IF(Lists!CL407=\"\",\"\",Lists!CL407)","v":""}]
[null,{"$f":"+IF(Lists!CK408=\"\",\"\",Lists!CK408)","v":""},{"$f":"+IF(Lists!CL408=\"\",\"\",Lists!CL408)","v":""}]
[null,{"$f":"+IF(Lists!CK409=\"\",\"\",Lists!CK409)","v":""},{"$f":"+IF(Lists!CL409=\"\",\"\",Lists!CL409)","v":""}]
[null,{"$f":"+IF(Lists!CK410=\"\",\"\",Lists!CK410)","v":""},{"$f":"+IF(Lists!CL410=\"\",\"\",Lists!CL410)","v":""}]
[null,{"$f":"+IF(Lists!CK411=\"\",\"\",Lists!CK411)","v":""},{"$f":"+IF(Lists!CL411=\"\",\"\",Lists!CL411)","v":""}]
[null,{"$f":"+IF(Lists!CK412=\"\",\"\",Lists!CK412)","v":""},{"$f":"+IF(Lists!CL412=\"\",\"\",Lists!CL412)","v":""}]
[null,{"$f":"+IF(Lists!CK413=\"\",\"\",Lists!CK413)","v":""},{"$f":"+IF(Lists!CL413=\"\",\"\",Lists!CL413)","v":""}]
[null,{"$f":"+IF(Lists!CK414=\"\",\"\",Lists!CK414)","v":""},{"$f":"+IF(Lists!CL414=\"\",\"\",Lists!CL414)","v":""}]
[null,{"$f":"+IF(Lists!CK415=\"\",\"\",Lists!CK415)","v":""},{"$f":"+IF(Lists!CL415=\"\",\"\",Lists!CL415)","v":""}]
[null,{"$f":"+IF(Lists!CK416=\"\",\"\",Lists!CK416)","v":""},{"$f":"+IF(Lists!CL416=\"\",\"\",Lists!CL416)","v":""}]
[null,{"$f":"+IF(Lists!CK417=\"\",\"\",Lists!CK417)","v":""},{"$f":"+IF(Lists!CL417=\"\",\"\",Lists!CL417)","v":""}]
[null,{"$f":"+IF(Lists!CK418=\"\",\"\",Lists!CK418)","v":""},{"$f":"+IF(Lists!CL418=\"\",\"\",Lists!CL418)","v":""}]
[null,{"$f":"+IF(Lists!CK419=\"\",\"\",Lists!CK419)","v":""},{"$f":"+IF(Lists!CL419=\"\",\"\",Lists!CL419)","v":""}]
[null,{"$f":"+IF(Lists!CK420=\"\",\"\",Lists!CK420)","v":""},{"$f":"+IF(Lists!CL420=\"\",\"\",Lists!CL420)","v":""}]
[null,{"$f":"+IF(Lists!CK421=\"\",\"\",Lists!CK421)","v":""},{"$f":"+IF(Lists!CL421=\"\",\"\",Lists!CL421)","v":""}]
[null,{"$f":"+IF(Lists!CK422=\"\",\"\",Lists!CK422)","v":""},{"$f":"+IF(Lists!CL422=\"\",\"\",Lists!CL422)","v":""}]
[null,{"$f":"+IF(Lists!CK423=\"\",\"\",Lists!CK423)","v":""},{"$f":"+IF(Lists!CL423=\"\",\"\",Lists!CL423)","v":""}]
[null,{"$f":"+IF(Lists!CK424=\"\",\"\",Lists!CK424)","v":""},{"$f":"+IF(Lists!CL424=\"\",\"\",Lists!CL424)","v":""}]
[null,{"$f":"+IF(Lists!CK425=\"\",\"\",Lists!CK425)","v":""},{"$f":"+IF(Lists!CL425=\"\",\"\",Lists!CL425)","v":""}]
[null,{"$f":"+IF(Lists!CK426=\"\",\"\",Lists!CK426)","v":""},{"$f":"+IF(Lists!CL426=\"\",\"\",Lists!CL426)","v":""}]
[null,{"$f":"+IF(Lists!CK427=\"\",\"\",Lists!CK427)","v":""},{"$f":"+IF(Lists!CL427=\"\",\"\",Lists!CL427)","v":""}]
[null,{"$f":"+IF(Lists!CK428=\"\",\"\",Lists!CK428)","v":""},{"$f":"+IF(Lists!CL428=\"\",\"\",Lists!CL428)","v":""}]
[null,{"$f":"+IF(Lists!CK429=\"\",\"\",Lists!CK429)","v":""},{"$f":"+IF(Lists!CL429=\"\",\"\",Lists!CL429)","v":""}]
[null,{"$f":"+IF(Lists!CK430=\"\",\"\",Lists!CK430)","v":""},{"$f":"+IF(Lists!CL430=\"\",\"\",Lists!CL430)","v":""}]
[null,{"$f":"+IF(Lists!CK431=\"\",\"\",Lists!CK431)","v":""},{"$f":"+IF(Lists!CL431=\"\",\"\",Lists!CL431)","v":""}]
[null,{"$f":"+IF(Lists!CK432=\"\",\"\",Lists!CK432)","v":""},{"$f":"+IF(Lists!CL432=\"\",\"\",Lists!CL432)","v":""}]
[null,{"$f":"+IF(Lists!CK433=\"\",\"\",Lists!CK433)","v":""},{"$f":"+IF(Lists!CL433=\"\",\"\",Lists!CL433)","v":""}]
[null,{"$f":"+IF(Lists!CK434=\"\",\"\",Lists!CK434)","v":""},{"$f":"+IF(Lists!CL434=\"\",\"\",Lists!CL434)","v":""}]
[null,{"$f":"+IF(Lists!CK435=\"\",\"\",Lists!CK435)","v":""},{"$f":"+IF(Lists!CL435=\"\",\"\",Lists!CL435)","v":""}]
[null,{"$f":"+IF(Lists!CK436=\"\",\"\",Lists!CK436)","v":""},{"$f":"+IF(Lists!CL436=\"\",\"\",Lists!CL436)","v":""}]
[null,{"$f":"+IF(Lists!CK437=\"\",\"\",Lists!CK437)","v":""},{"$f":"+IF(Lists!CL437=\"\",\"\",Lists!CL437)","v":""}]
[null,{"$f":"+IF(Lists!CK438=\"\",\"\",Lists!CK438)","v":""},{"$f":"+IF(Lists!CL438=\"\",\"\",Lists!CL438)","v":""}]
[null,{"$f":"+IF(Lists!CK439=\"\",\"\",Lists!CK439)","v":""},{"$f":"+IF(Lists!CL439=\"\",\"\",Lists!CL439)","v":""}]
[null,{"$f":"+IF(Lists!CK440=\"\",\"\",Lists!CK440)","v":""},{"$f":"+IF(Lists!CL440=\"\",\"\",Lists!CL440)","v":""}]
[null,{"$f":"+IF(Lists!CK441=\"\",\"\",Lists!CK441)","v":""},{"$f":"+IF(Lists!CL441=\"\",\"\",Lists!CL441)","v":""}]
[null,{"$f":"+IF(Lists!CK442=\"\",\"\",Lists!CK442)","v":""},{"$f":"+IF(Lists!CL442=\"\",\"\",Lists!CL442)","v":""}]
[null,{"$f":"+IF(Lists!CK443=\"\",\"\",Lists!CK443)","v":""},{"$f":"+IF(Lists!CL443=\"\",\"\",Lists!CL443)","v":""}]
[null,{"$f":"+IF(Lists!CK444=\"\",\"\",Lists!CK444)","v":""},{"$f":"+IF(Lists!CL444=\"\",\"\",Lists!CL444)","v":""}]
[null,{"$f":"+IF(Lists!CK445=\"\",\"\",Lists!CK445)","v":""},{"$f":"+IF(Lists!CL445=\"\",\"\",Lists!CL445)","v":""}]
[null,{"$f":"+IF(Lists!CK446=\"\",\"\",Lists!CK446)","v":""},{"$f":"+IF(Lists!CL446=\"\",\"\",Lists!CL446)","v":""}]
[null,{"$f":"+IF(Lists!CK447=\"\",\"\",Lists!CK447)","v":""},{"$f":"+IF(Lists!CL447=\"\",\"\",Lists!CL447)","v":""}]
[null,{"$f":"+IF(Lists!CK448=\"\",\"\",Lists!CK448)","v":""},{"$f":"+IF(Lists!CL448=\"\",\"\",Lists!CL448)","v":""}]
[null,{"$f":"+IF(Lists!CK449=\"\",\"\",Lists!CK449)","v":""},{"$f":"+IF(Lists!CL449=\"\",\"\",Lists!CL449)","v":""}]
[null,{"$f":"+IF(Lists!CK450=\"\",\"\",Lists!CK450)","v":""},{"$f":"+IF(Lists!CL450=\"\",\"\",Lists!CL450)","v":""}]
[null,{"$f":"+IF(Lists!CK451=\"\",\"\",Lists!CK451)","v":""},{"$f":"+IF(Lists!CL451=\"\",\"\",Lists!CL451)","v":""}]
[null,{"$f":"+IF(Lists!CK452=\"\",\"\",Lists!CK452)","v":""},{"$f":"+IF(Lists!CL452=\"\",\"\",Lists!CL452)","v":""}]
[null,{"$f":"+IF(Lists!CK453=\"\",\"\",Lists!CK453)","v":""},{"$f":"+IF(Lists!CL453=\"\",\"\",Lists!CL453)","v":""}]
[null,{"$f":"+IF(Lists!CK454=\"\",\"\",Lists!CK454)","v":""},{"$f":"+IF(Lists!CL454=\"\",\"\",Lists!CL454)","v":""}]
[null,{"$f":"+IF(Lists!CK455=\"\",\"\",Lists!CK455)","v":""},{"$f":"+IF(Lists!CL455=\"\",\"\",Lists!CL455)","v":""}]
[null,{"$f":"+IF(Lists!CK456=\"\",\"\",Lists!CK456)","v":""},{"$f":"+IF(Lists!CL456=\"\",\"\",Lists!CL456)","v":""}]
[null,{"$f":"+IF(Lists!CK457=\"\",\"\",Lists!CK457)","v":""},{"$f":"+IF(Lists!CL457=\"\",\"\",Lists!CL457)","v":""}]
[null,{"$f":"+IF(Lists!CK458=\"\",\"\",Lists!CK458)","v":""},{"$f":"+IF(Lists!CL458=\"\",\"\",Lists!CL458)","v":""}]
[null,{"$f":"+IF(Lists!CK459=\"\",\"\",Lists!CK459)","v":""},{"$f":"+IF(Lists!CL459=\"\",\"\",Lists!CL459)","v":""}]
[null,{"$f":"+IF(Lists!CK460=\"\",\"\",Lists!CK460)","v":""},{"$f":"+IF(Lists!CL460=\"\",\"\",Lists!CL460)","v":""}]
[null,{"$f":"+IF(Lists!CK461=\"\",\"\",Lists!CK461)","v":""},{"$f":"+IF(Lists!CL461=\"\",\"\",Lists!CL461)","v":""}]
[null,{"$f":"+IF(Lists!CK462=\"\",\"\",Lists!CK462)","v":""},{"$f":"+IF(Lists!CL462=\"\",\"\",Lists!CL462)","v":""}]
[null,{"$f":"+IF(Lists!CK463=\"\",\"\",Lists!CK463)","v":""},{"$f":"+IF(Lists!CL463=\"\",\"\",Lists!CL463)","v":""}]
[null,{"$f":"+IF(Lists!CK464=\"\",\"\",Lists!CK464)","v":""},{"$f":"+IF(Lists!CL464=\"\",\"\",Lists!CL464)","v":""}]
[null,{"$f":"+IF(Lists!CK465=\"\",\"\",Lists!CK465)","v":""},{"$f":"+IF(Lists!CL465=\"\",\"\",Lists!CL465)","v":""}]
[null,{"$f":"+IF(Lists!CK466=\"\",\"\",Lists!CK466)","v":""},{"$f":"+IF(Lists!CL466=\"\",\"\",Lists!CL466)","v":""}]
[null,{"$f":"+IF(Lists!CK467=\"\",\"\",Lists!CK467)","v":""},{"$f":"+IF(Lists!CL467=\"\",\"\",Lists!CL467)","v":""}]
[null,{"$f":"+IF(Lists!CK468=\"\",\"\",Lists!CK468)","v":""},{"$f":"+IF(Lists!CL468=\"\",\"\",Lists!CL468)","v":""}]
[null,{"$f":"+IF(Lists!CK469=\"\",\"\",Lists!CK469)","v":""},{"$f":"+IF(Lists!CL469=\"\",\"\",Lists!CL469)","v":""}]
[null,{"$f":"+IF(Lists!CK470=\"\",\"\",Lists!CK470)","v":""},{"$f":"+IF(Lists!CL470=\"\",\"\",Lists!CL470)","v":""}]
[null,{"$f":"+IF(Lists!CK471=\"\",\"\",Lists!CK471)","v":""},{"$f":"+IF(Lists!CL471=\"\",\"\",Lists!CL471)","v":""}]
[null,{"$f":"+IF(Lists!CK472=\"\",\"\",Lists!CK472)","v":""},{"$f":"+IF(Lists!CL472=\"\",\"\",Lists!CL472)","v":""}]
[null,{"$f":"+IF(Lists!CK473=\"\",\"\",Lists!CK473)","v":""},{"$f":"+IF(Lists!CL473=\"\",\"\",Lists!CL473)","v":""}]
[null,{"$f":"+IF(Lists!CK474=\"\",\"\",Lists!CK474)","v":""},{"$f":"+IF(Lists!CL474=\"\",\"\",Lists!CL474)","v":""}]
[null,{"$f":"+IF(Lists!CK475=\"\",\"\",Lists!CK475)","v":""},{"$f":"+IF(Lists!CL475=\"\",\"\",Lists!CL475)","v":""}]
[null,{"$f":"+IF(Lists!CK476=\"\",\"\",Lists!CK476)","v":""},{"$f":"+IF(Lists!CL476=\"\",\"\",Lists!CL476)","v":""}]
[null,{"$f":"+IF(Lists!CK477=\"\",\"\",Lists!CK477)","v":""},{"$f":"+IF(Lists!CL477=\"\",\"\",Lists!CL477)","v":""}]
[null,{"$f":"+IF(Lists!CK478=\"\",\"\",Lists!CK478)","v":""},{"$f":"+IF(Lists!CL478=\"\",\"\",Lists!CL478)","v":""}]
[null,{"$f":"+IF(Lists!CK479=\"\",\"\",Lists!CK479)","v":""},{"$f":"+IF(Lists!CL479=\"\",\"\",Lists!CL479)","v":""}]
[null,{"$f":"+IF(Lists!CK480=\"\",\"\",Lists!CK480)","v":""},{"$f":"+IF(Lists!CL480=\"\",\"\",Lists!CL480)","v":""}]
[null,{"$f":"+IF(Lists!CK481=\"\",\"\",Lists!CK481)","v":""},{"$f":"+IF(Lists!CL481=\"\",\"\",Lists!CL481)","v":""}]
[null,{"$f":"+IF(Lists!CK482=\"\",\"\",Lists!CK482)","v":""},{"$f":"+IF(Lists!CL482=\"\",\"\",Lists!CL482)","v":""}]
[null,{"$f":"+IF(Lists!CK483=\"\",\"\",Lists!CK483)","v":""},{"$f":"+IF(Lists!CL483=\"\",\"\",Lists!CL483)","v":""}]
[null,{"$f":"+IF(Lists!CK484=\"\",\"\",Lists!CK484)","v":""},{"$f":"+IF(Lists!CL484=\"\",\"\",Lists!CL484)","v":""}]
[null,{"$f":"+IF(Lists!CK485=\"\",\"\",Lists!CK485)","v":""},{"$f":"+IF(Lists!CL485=\"\",\"\",Lists!CL485)","v":""}]
[null,{"$f":"+IF(Lists!CK486=\"\",\"\",Lists!CK486)","v":""},{"$f":"+IF(Lists!CL486=\"\",\"\",Lists!CL486)","v":""}]
[null,{"$f":"+IF(Lists!CK487=\"\",\"\",Lists!CK487)","v":""},{"$f":"+IF(Lists!CL487=\"\",\"\",Lists!CL487)","v":""}]
[null,{"$f":"+IF(Lists!CK488=\"\",\"\",Lists!CK488)","v":""},{"$f":"+IF(Lists!CL488=\"\",\"\",Lists!CL488)","v":""}]
[null,{"$f":"+IF(Lists!CK489=\"\",\"\",Lists!CK489)","v":""},{"$f":"+IF(Lists!CL489=\"\",\"\",Lists!CL489)","v":""}]
[null,{"$f":"+IF(Lists!CK490=\"\",\"\",Lists!CK490)","v":""},{"$f":"+IF(Lists!CL490=\"\",\"\",Lists!CL490)","v":""}]
[null,{"$f":"+IF(Lists!CK491=\"\",\"\",Lists!CK491)","v":""},{"$f":"+IF(Lists!CL491=\"\",\"\",Lists!CL491)","v":""}]
[null,{"$f":"+IF(Lists!CK492=\"\",\"\",Lists!CK492)","v":""},{"$f":"+IF(Lists!CL492=\"\",\"\",Lists!CL492)","v":""}]
[null,{"$f":"+IF(Lists!CK493=\"\",\"\",Lists!CK493)","v":""},{"$f":"+IF(Lists!CL493=\"\",\"\",Lists!CL493)","v":""}]
[null,{"$f":"+IF(Lists!CK494=\"\",\"\",Lists!CK494)","v":""},{"$f":"+IF(Lists!CL494=\"\",\"\",Lists!CL494)","v":""}]
[null,{"$f":"+IF(Lists!CK495=\"\",\"\",Lists!CK495)","v":""},{"$f":"+IF(Lists!CL495=\"\",\"\",Lists!CL495)","v":""}]
[null,{"$f":"+IF(Lists!CK496=\"\",\"\",Lists!CK496)","v":""},{"$f":"+IF(Lists!CL496=\"\",\"\",Lists!CL496)","v":""}]
[null,{"$f":"+IF(Lists!CK497=\"\",\"\",Lists!CK497)","v":""},{"$f":"+IF(Lists!CL497=\"\",\"\",Lists!CL497)","v":""}]
[null,{"$f":"+IF(Lists!CK498=\"\",\"\",Lists!CK498)","v":""},{"$f":"+IF(Lists!CL498=\"\",\"\",Lists!CL498)","v":""}]
[null,{"$f":"+IF(Lists!CK499=\"\",\"\",Lists!CK499)","v":""},{"$f":"+IF(Lists!CL499=\"\",\"\",Lists!CL499)","v":""}]
[null,{"$f":"+IF(Lists!CK500=\"\",\"\",Lists!CK500)","v":""},{"$f":"+IF(Lists!CL500=\"\",\"\",Lists!CL500)","v":""}]
[null,{"$f":"+IF(Lists!CK501=\"\",\"\",Lists!CK501)","v":""},{"$f":"+IF(Lists!CL501=\"\",\"\",Lists!CL501)","v":""}]
[null,{"$f":"+IF(Lists!CK502=\"\",\"\",Lists!CK502)","v":""},{"$f":"+IF(Lists!CL502=\"\",\"\",Lists!CL502)","v":""}]
[null,{"$f":"+IF(Lists!CK503=\"\",\"\",Lists!CK503)","v":""},{"$f":"+IF(Lists!CL503=\"\",\"\",Lists!CL503)","v":""}]
[null,{"$f":"+IF(Lists!CK504=\"\",\"\",Lists!CK504)","v":""},{"$f":"+IF(Lists!CL504=\"\",\"\",Lists!CL504)","v":""}]
[null,{"$f":"+IF(Lists!CK505=\"\",\"\",Lists!CK505)","v":""},{"$f":"+IF(Lists!CL505=\"\",\"\",Lists!CL505)","v":""}]
[null,{"$f":"+IF(Lists!CK506=\"\",\"\",Lists!CK506)","v":""},{"$f":"+IF(Lists!CL506=\"\",\"\",Lists!CL506)","v":""}]
[null,{"$f":"+IF(Lists!CK507=\"\",\"\",Lists!CK507)","v":""},{"$f":"+IF(Lists!CL507=\"\",\"\",Lists!CL507)","v":""}]
[null,{"$f":"+IF(Lists!CK508=\"\",\"\",Lists!CK508)","v":""},{"$f":"+IF(Lists!CL508=\"\",\"\",Lists!CL508)","v":""}]
[null,{"$f":"+IF(Lists!CK509=\"\",\"\",Lists!CK509)","v":""},{"$f":"+IF(Lists!CL509=\"\",\"\",Lists!CL509)","v":""}]
[null,{"$f":"+IF(Lists!CK510=\"\",\"\",Lists!CK510)","v":""},{"$f":"+IF(Lists!CL510=\"\",\"\",Lists!CL510)","v":""}]
[null,{"$f":"+IF(Lists!CK511=\"\",\"\",Lists!CK511)","v":""},{"$f":"+IF(Lists!CL511=\"\",\"\",Lists!CL511)","v":""}]
[null,{"$f":"+IF(Lists!CK512=\"\",\"\",Lists!CK512)","v":""},{"$f":"+IF(Lists!CL512=\"\",\"\",Lists!CL512)","v":""}]
[null,{"$f":"+IF(Lists!CK513=\"\",\"\",Lists!CK513)","v":""},{"$f":"+IF(Lists!CL513=\"\",\"\",Lists!CL513)","v":""}]
[null,{"$f":"+IF(Lists!CK514=\"\",\"\",Lists!CK514)","v":""},{"$f":"+IF(Lists!CL514=\"\",\"\",Lists!CL514)","v":""}]
[null,{"$f":"+IF(Lists!CK515=\"\",\"\",Lists!CK515)","v":""},{"$f":"+IF(Lists!CL515=\"\",\"\",Lists!CL515)","v":""}]
[null,{"$f":"+IF(Lists!CK516=\"\",\"\",Lists!CK516)","v":""},{"$f":"+IF(Lists!CL516=\"\",\"\",Lists!CL516)","v":""}]
[null,{"$f":"+IF(Lists!CK517=\"\",\"\",Lists!CK517)","v":""},{"$f":"+IF(Lists!CL517=\"\",\"\",Lists!CL517)","v":""}]
[null,{"$f":"+IF(Lists!CK518=\"\",\"\",Lists!CK518)","v":""},{"$f":"+IF(Lists!CL518=\"\",\"\",Lists!CL518)","v":""}]
[null,{"$f":"+IF(Lists!CK519=\"\",\"\",Lists!CK519)","v":""},{"$f":"+IF(Lists!CL519=\"\",\"\",Lists!CL519)","v":""}]
[null,{"$f":"+IF(Lists!CK520=\"\",\"\",Lists!CK520)","v":""},{"$f":"+IF(Lists!CL520=\"\",\"\",Lists!CL520)","v":""}]
[null,{"$f":"+IF(Lists!CK521=\"\",\"\",Lists!CK521)","v":""},{"$f":"+IF(Lists!CL521=\"\",\"\",Lists!CL521)","v":""}]
[null,{"$f":"+IF(Lists!CK522=\"\",\"\",Lists!CK522)","v":""},{"$f":"+IF(Lists!CL522=\"\",\"\",Lists!CL522)","v":""}]
[null,{"$f":"+IF(Lists!CK523=\"\",\"\",Lists!CK523)","v":""},{"$f":"+IF(Lists!CL523=\"\",\"\",Lists!CL523)","v":""}]
[null,{"$f":"+IF(Lists!CK524=\"\",\"\",Lists!CK524)","v":""},{"$f":"+IF(Lists!CL524=\"\",\"\",Lists!CL524)","v":""}]
[null,{"$f":"+IF(Lists!CK525=\"\",\"\",Lists!CK525)","v":""},{"$f":"+IF(Lists!CL525=\"\",\"\",Lists!CL525)","v":""}]
[null,{"$f":"+IF(Lists!CK526=\"\",\"\",Lists!CK526)","v":""},{"$f":"+IF(Lists!CL526=\"\",\"\",Lists!CL526)","v":""}]
[null,{"$f":"+IF(Lists!CK527=\"\",\"\",Lists!CK527)","v":""},{"$f":"+IF(Lists!CL527=\"\",\"\",Lists!CL527)","v":""}]
[null,{"$f":"+IF(Lists!CK528=\"\",\"\",Lists!CK528)","v":""},{"$f":"+IF(Lists!CL528=\"\",\"\",Lists!CL528)","v":""}]
[null,{"$f":"+IF(Lists!CK529=\"\",\"\",Lists!CK529)","v":""},{"$f":"+IF(Lists!CL529=\"\",\"\",Lists!CL529)","v":""}]
[null,{"$f":"+IF(Lists!CK530=\"\",\"\",Lists!CK530)","v":""},{"$f":"+IF(Lists!CL530=\"\",\"\",Lists!CL530)","v":""}]
[null,{"$f":"+IF(Lists!CK531=\"\",\"\",Lists!CK531)","v":""},{"$f":"+IF(Lists!CL531=\"\",\"\",Lists!CL531)","v":""}]
[null,{"$f":"+IF(Lists!CK532=\"\",\"\",Lists!CK532)","v":""},{"$f":"+IF(Lists!CL532=\"\",\"\",Lists!CL532)","v":""}]
[null,{"$f":"+IF(Lists!CK533=\"\",\"\",Lists!CK533)","v":""},{"$f":"+IF(Lists!CL533=\"\",\"\",Lists!CL533)","v":""}]
[null,{"$f":"+IF(Lists!CK534=\"\",\"\",Lists!CK534)","v":""},{"$f":"+IF(Lists!CL534=\"\",\"\",Lists!CL534)","v":""}]
[null,{"$f":"+IF(Lists!CK535=\"\",\"\",Lists!CK535)","v":""},{"$f":"+IF(Lists!CL535=\"\",\"\",Lists!CL535)","v":""}]
[null,{"$f":"+IF(Lists!CK536=\"\",\"\",Lists!CK536)","v":""},{"$f":"+IF(Lists!CL536=\"\",\"\",Lists!CL536)","v":""}]
[null,{"$f":"+IF(Lists!CK537=\"\",\"\",Lists!CK537)","v":""},{"$f":"+IF(Lists!CL537=\"\",\"\",Lists!CL537)","v":""}]
[null,{"$f":"+IF(Lists!CK538=\"\",\"\",Lists!CK538)","v":""},{"$f":"+IF(Lists!CL538=\"\",\"\",Lists!CL538)","v":""}]
[null,{"$f":"+IF(Lists!CK539=\"\",\"\",Lists!CK539)","v":""},{"$f":"+IF(Lists!CL539=\"\",\"\",Lists!CL539)","v":""}]
[null,{"$f":"+IF(Lists!CK540=\"\",\"\",Lists!CK540)","v":""},{"$f":"+IF(Lists!CL540=\"\",\"\",Lists!CL540)","v":""}]
[null,{"$f":"+IF(Lists!CK541=\"\",\"\",Lists!CK541)","v":""},{"$f":"+IF(Lists!CL541=\"\",\"\",Lists!CL541)","v":""}]
[null,{"$f":"+IF(Lists!CK542=\"\",\"\",Lists!CK542)","v":""},{"$f":"+IF(Lists!CL542=\"\",\"\",Lists!CL542)","v":""}]
[null,{"$f":"+IF(Lists!CK543=\"\",\"\",Lists!CK543)","v":""},{"$f":"+IF(Lists!CL543=\"\",\"\",Lists!CL543)","v":""}]
[null,{"$f":"+IF(Lists!CK544=\"\",\"\",Lists!CK544)","v":""},{"$f":"+IF(Lists!CL544=\"\",\"\",Lists!CL544)","v":""}]
[null,{"$f":"+IF(Lists!CK545=\"\",\"\",Lists!CK545)","v":""},{"$f":"+IF(Lists!CL545=\"\",\"\",Lists!CL545)","v":""}]
[null,{"$f":"+IF(Lists!CK546=\"\",\"\",Lists!CK546)","v":""},{"$f":"+IF(Lists!CL546=\"\",\"\",Lists!CL546)","v":""}]
[null,{"$f":"+IF(Lists!CK547=\"\",\"\",Lists!CK547)","v":""},{"$f":"+IF(Lists!CL547=\"\",\"\",Lists!CL547)","v":""}]
[null,{"$f":"+IF(Lists!CK548=\"\",\"\",Lists!CK548)","v":""},{"$f":"+IF(Lists!CL548=\"\",\"\",Lists!CL548)","v":""}]
[null,{"$f":"+IF(Lists!CK549=\"\",\"\",Lists!CK549)","v":""},{"$f":"+IF(Lists!CL549=\"\",\"\",Lists!CL549)","v":""}]
[null,{"$f":"+IF(Lists!CK550=\"\",\"\",Lists!CK550)","v":""},{"$f":"+IF(Lists!CL550=\"\",\"\",Lists!CL550)","v":""}]
[null,{"$f":"+IF(Lists!CK551=\"\",\"\",Lists!CK551)","v":""},{"$f":"+IF(Lists!CL551=\"\",\"\",Lists!CL551)","v":""}]
[null,{"$f":"+IF(Lists!CK552=\"\",\"\",Lists!CK552)","v":""},{"$f":"+IF(Lists!CL552=\"\",\"\",Lists!CL552)","v":""}]
[null,{"$f":"+IF(Lists!CK553=\"\",\"\",Lists!CK553)","v":""},{"$f":"+IF(Lists!CL553=\"\",\"\",Lists!CL553)","v":""}]
[null,{"$f":"+IF(Lists!CK554=\"\",\"\",Lists!CK554)","v":""},{"$f":"+IF(Lists!CL554=\"\",\"\",Lists!CL554)","v":""}]
[null,{"$f":"+IF(Lists!CK555=\"\",\"\",Lists!CK555)","v":""},{"$f":"+IF(Lists!CL555=\"\",\"\",Lists!CL555)","v":""}]
[null,{"$f":"+IF(Lists!CK556=\"\",\"\",Lists!CK556)","v":""},{"$f":"+IF(Lists!CL556=\"\",\"\",Lists!CL556)","v":""}]
[null,{"$f":"+IF(Lists!CK557=\"\",\"\",Lists!CK557)","v":""},{"$f":"+IF(Lists!CL557=\"\",\"\",Lists!CL557)","v":""}]
[null,{"$f":"+IF(Lists!CK558=\"\",\"\",Lists!CK558)","v":""},{"$f":"+IF(Lists!CL558=\"\",\"\",Lists!CL558)","v":""}]
[null,{"$f":"+IF(Lists!CK559=\"\",\"\",Lists!CK559)","v":""},{"$f":"+IF(Lists!CL559=\"\",\"\",Lists!CL559)","v":""}]
[null,{"$f":"+IF(Lists!CK560=\"\",\"\",Lists!CK560)","v":""},{"$f":"+IF(Lists!CL560=\"\",\"\",Lists!CL560)","v":""}]
[null,{"$f":"+IF(Lists!CK561=\"\",\"\",Lists!CK561)","v":""},{"$f":"+IF(Lists!CL561=\"\",\"\",Lists!CL561)","v":""}]
[null,{"$f":"+IF(Lists!CK562=\"\",\"\",Lists!CK562)","v":""},{"$f":"+IF(Lists!CL562=\"\",\"\",Lists!CL562)","v":""}]
[null,{"$f":"+IF(Lists!CK563=\"\",\"\",Lists!CK563)","v":""},{"$f":"+IF(Lists!CL563=\"\",\"\",Lists!CL563)","v":""}]
[null,{"$f":"+IF(Lists!CK564=\"\",\"\",Lists!CK564)","v":""},{"$f":"+IF(Lists!CL564=\"\",\"\",Lists!CL564)","v":""}]
[null,{"$f":"+IF(Lists!CK565=\"\",\"\",Lists!CK565)","v":""},{"$f":"+IF(Lists!CL565=\"\",\"\",Lists!CL565)","v":""}]
[null,{"$f":"+IF(Lists!CK566=\"\",\"\",Lists!CK566)","v":""},{"$f":"+IF(Lists!CL566=\"\",\"\",Lists!CL566)","v":""}]
[null,{"$f":"+IF(Lists!CK567=\"\",\"\",Lists!CK567)","v":""},{"$f":"+IF(Lists!CL567=\"\",\"\",Lists!CL567)","v":""}]
[null,{"$f":"+IF(Lists!CK568=\"\",\"\",Lists!CK568)","v":""},{"$f":"+IF(Lists!CL568=\"\",\"\",Lists!CL568)","v":""}]
[null,{"$f":"+IF(Lists!CK569=\"\",\"\",Lists!CK569)","v":""},{"$f":"+IF(Lists!CL569=\"\",\"\",Lists!CL569)","v":""}]
[null,{"$f":"+IF(Lists!CK570=\"\",\"\",Lists!CK570)","v":""},{"$f":"+IF(Lists!CL570=\"\",\"\",Lists!CL570)","v":""}]
[null,{"$f":"+IF(Lists!CK571=\"\",\"\",Lists!CK571)","v":""},{"$f":"+IF(Lists!CL571=\"\",\"\",Lists!CL571)","v":""}]
[null,{"$f":"+IF(Lists!CK572=\"\",\"\",Lists!CK572)","v":""},{"$f":"+IF(Lists!CL572=\"\",\"\",Lists!CL572)","v":""}]
[null,{"$f":"+IF(Lists!CK573=\"\",\"\",Lists!CK573)","v":""},{"$f":"+IF(Lists!CL573=\"\",\"\",Lists!CL573)","v":""}]
[null,{"$f":"+IF(Lists!CK574=\"\",\"\",Lists!CK574)","v":""},{"$f":"+IF(Lists!CL574=\"\",\"\",Lists!CL574)","v":""}]
[null,{"$f":"+IF(Lists!CK575=\"\",\"\",Lists!CK575)","v":""},{"$f":"+IF(Lists!CL575=\"\",\"\",Lists!CL575)","v":""}]
[null,{"$f":"+IF(Lists!CK576=\"\",\"\",Lists!CK576)","v":""},{"$f":"+IF(Lists!CL576=\"\",\"\",Lists!CL576)","v":""}]
[null,{"$f":"+IF(Lists!CK577=\"\",\"\",Lists!CK577)","v":""},{"$f":"+IF(Lists!CL577=\"\",\"\",Lists!CL577)","v":""}]
[null,{"$f":"+IF(Lists!CK578=\"\",\"\",Lists!CK578)","v":""},{"$f":"+IF(Lists!CL578=\"\",\"\",Lists!CL578)","v":""}]
[null,{"$f":"+IF(Lists!CK579=\"\",\"\",Lists!CK579)","v":""},{"$f":"+IF(Lists!CL579=\"\",\"\",Lists!CL579)","v":""}]
[null,{"$f":"+IF(Lists!CK580=\"\",\"\",Lists!CK580)","v":""},{"$f":"+IF(Lists!CL580=\"\",\"\",Lists!CL580)","v":""}]
[null,{"$f":"+IF(Lists!CK581=\"\",\"\",Lists!CK581)","v":""},{"$f":"+IF(Lists!CL581=\"\",\"\",Lists!CL581)","v":""}]
[null,{"$f":"+IF(Lists!CK582=\"\",\"\",Lists!CK582)","v":""},{"$f":"+IF(Lists!CL582=\"\",\"\",Lists!CL582)","v":""}]
[null,{"$f":"+IF(Lists!CK583=\"\",\"\",Lists!CK583)","v":""},{"$f":"+IF(Lists!CL583=\"\",\"\",Lists!CL583)","v":""}]
[null,{"$f":"+IF(Lists!CK584=\"\",\"\",Lists!CK584)","v":""},{"$f":"+IF(Lists!CL584=\"\",\"\",Lists!CL584)","v":""}]
[null,{"$f":"+IF(Lists!CK585=\"\",\"\",Lists!CK585)","v":""},{"$f":"+IF(Lists!CL585=\"\",\"\",Lists!CL585)","v":""}]
[null,{"$f":"+IF(Lists!CK586=\"\",\"\",Lists!CK586)","v":""},{"$f":"+IF(Lists!CL586=\"\",\"\",Lists!CL586)","v":""}]
[null,{"$f":"+IF(Lists!CK587=\"\",\"\",Lists!CK587)","v":""},{"$f":"+IF(Lists!CL587=\"\",\"\",Lists!CL587)","v":""}]
[null,{"$f":"+IF(Lists!CK588=\"\",\"\",Lists!CK588)","v":""},{"$f":"+IF(Lists!CL588=\"\",\"\",Lists!CL588)","v":""}]
[null,{"$f":"+IF(Lists!CK589=\"\",\"\",Lists!CK589)","v":""},{"$f":"+IF(Lists!CL589=\"\",\"\",Lists!CL589)","v":""}]
[null,{"$f":"+IF(Lists!CK590=\"\",\"\",Lists!CK590)","v":""},{"$f":"+IF(Lists!CL590=\"\",\"\",Lists!CL590)","v":""}]
[null,{"$f":"+IF(Lists!CK591=\"\",\"\",Lists!CK591)","v":""},{"$f":"+IF(Lists!CL591=\"\",\"\",Lists!CL591)","v":""}]
[null,{"$f":"+IF(Lists!CK592=\"\",\"\",Lists!CK592)","v":""},{"$f":"+IF(Lists!CL592=\"\",\"\",Lists!CL592)","v":""}]
[null,{"$f":"+IF(Lists!CK593=\"\",\"\",Lists!CK593)","v":""},{"$f":"+IF(Lists!CL593=\"\",\"\",Lists!CL593)","v":""}]
[null,{"$f":"+IF(Lists!CK594=\"\",\"\",Lists!CK594)","v":""},{"$f":"+IF(Lists!CL594=\"\",\"\",Lists!CL594)","v":""}]
[null,{"$f":"+IF(Lists!CK595=\"\",\"\",Lists!CK595)","v":""},{"$f":"+IF(Lists!CL595=\"\",\"\",Lists!CL595)","v":""}]
[null,{"$f":"+IF(Lists!CK596=\"\",\"\",Lists!CK596)","v":""},{"$f":"+IF(Lists!CL596=\"\",\"\",Lists!CL596)","v":""}]
[null,{"$f":"+IF(Lists!CK597=\"\",\"\",Lists!CK597)","v":""},{"$f":"+IF(Lists!CL597=\"\",\"\",Lists!CL597)","v":""}]
[null,{"$f":"+IF(Lists!CK598=\"\",\"\",Lists!CK598)","v":""},{"$f":"+IF(Lists!CL598=\"\",\"\",Lists!CL598)","v":""}]
[null,{"$f":"+IF(Lists!CK599=\"\",\"\",Lists!CK599)","v":""},{"$f":"+IF(Lists!CL599=\"\",\"\",Lists!CL599)","v":""}]
[null,{"$f":"+IF(Lists!CK600=\"\",\"\",Lists!CK600)","v":""},{"$f":"+IF(Lists!CL600=\"\",\"\",Lists!CL600)","v":""}]
[null,{"$f":"+IF(Lists!CK601=\"\",\"\",Lists!CK601)","v":""},{"$f":"+IF(Lists!CL601=\"\",\"\",Lists!CL601)","v":""}]
[null,{"$f":"+IF(Lists!CK602=\"\",\"\",Lists!CK602)","v":""},{"$f":"+IF(Lists!CL602=\"\",\"\",Lists!CL602)","v":""}]
[null,{"$f":"+IF(Lists!CK603=\"\",\"\",Lists!CK603)","v":""},{"$f":"+IF(Lists!CL603=\"\",\"\",Lists!CL603)","v":""}]
[null,{"$f":"+IF(Lists!CK604=\"\",\"\",Lists!CK604)","v":""},{"$f":"+IF(Lists!CL604=\"\",\"\",Lists!CL604)","v":""}]
[null,{"$f":"+IF(Lists!CK605=\"\",\"\",Lists!CK605)","v":""},{"$f":"+IF(Lists!CL605=\"\",\"\",Lists!CL605)","v":""}]
[null,{"$f":"+IF(Lists!CK606=\"\",\"\",Lists!CK606)","v":""},{"$f":"+IF(Lists!CL606=\"\",\"\",Lists!CL606)","v":""}]
[null,{"$f":"+IF(Lists!CK607=\"\",\"\",Lists!CK607)","v":""},{"$f":"+IF(Lists!CL607=\"\",\"\",Lists!CL607)","v":""}]
[null,{"$f":"+IF(Lists!CK608=\"\",\"\",Lists!CK608)","v":""},{"$f":"+IF(Lists!CL608=\"\",\"\",Lists!CL608)","v":""}]
[null,{"$f":"+IF(Lists!CK609=\"\",\"\",Lists!CK609)","v":""},{"$f":"+IF(Lists!CL609=\"\",\"\",Lists!CL609)","v":""}]
[null,{"$f":"+IF(Lists!CK610=\"\",\"\",Lists!CK610)","v":""},{"$f":"+IF(Lists!CL610=\"\",\"\",Lists!CL610)","v":""}]
[null,{"$f":"+IF(Lists!CK611=\"\",\"\",Lists!CK611)","v":""},{"$f":"+IF(Lists!CL611=\"\",\"\",Lists!CL611)","v":""}]
[null,{"$f":"+IF(Lists!CK612=\"\",\"\",Lists!CK612)","v":""},{"$f":"+IF(Lists!CL612=\"\",\"\",Lists!CL612)","v":""}]
[null,{"$f":"+IF(Lists!CK613=\"\",\"\",Lists!CK613)","v":""},{"$f":"+IF(Lists!CL613=\"\",\"\",Lists!CL613)","v":""}]
[null,{"$f":"+IF(Lists!CK614=\"\",\"\",Lists!CK614)","v":""},{"$f":"+IF(Lists!CL614=\"\",\"\",Lists!CL614)","v":""}]
[null,{"$f":"+IF(Lists!CK615=\"\",\"\",Lists!CK615)","v":""},{"$f":"+IF(Lists!CL615=\"\",\"\",Lists!CL615)","v":""}]
[null,{"$f":"+IF(Lists!CK616=\"\",\"\",Lists!CK616)","v":""},{"$f":"+IF(Lists!CL616=\"\",\"\",Lists!CL616)","v":""}]
[null,{"$f":"+IF(Lists!CK617=\"\",\"\",Lists!CK617)","v":""},{"$f":"+IF(Lists!CL617=\"\",\"\",Lists!CL617)","v":""}]
[null,{"$f":"+IF(Lists!CK618=\"\",\"\",Lists!CK618)","v":""},{"$f":"+IF(Lists!CL618=\"\",\"\",Lists!CL618)","v":""}]
[null,{"$f":"+IF(Lists!CK619=\"\",\"\",Lists!CK619)","v":""},{"$f":"+IF(Lists!CL619=\"\",\"\",Lists!CL619)","v":""}]
[null,{"$f":"+IF(Lists!CK620=\"\",\"\",Lists!CK620)","v":""},{"$f":"+IF(Lists!CL620=\"\",\"\",Lists!CL620)","v":""}]
[null,{"$f":"+IF(Lists!CK621=\"\",\"\",Lists!CK621)","v":""},{"$f":"+IF(Lists!CL621=\"\",\"\",Lists!CL621)","v":""}]
[null,{"$f":"+IF(Lists!CK622=\"\",\"\",Lists!CK622)","v":""},{"$f":"+IF(Lists!CL622=\"\",\"\",Lists!CL622)","v":""}]
[null,{"$f":"+IF(Lists!CK623=\"\",\"\",Lists!CK623)","v":""},{"$f":"+IF(Lists!CL623=\"\",\"\",Lists!CL623)","v":""}]
[null,{"$f":"+IF(Lists!CK624=\"\",\"\",Lists!CK624)","v":""},{"$f":"+IF(Lists!CL624=\"\",\"\",Lists!CL624)","v":""}]
[null,{"$f":"+IF(Lists!CK625=\"\",\"\",Lists!CK625)","v":""},{"$f":"+IF(Lists!CL625=\"\",\"\",Lists!CL625)","v":""}]
[null,{"$f":"+IF(Lists!CK626=\"\",\"\",Lists!CK626)","v":""},{"$f":"+IF(Lists!CL626=\"\",\"\",Lists!CL626)","v":""}]
[null,{"$f":"+IF(Lists!CK627=\"\",\"\",Lists!CK627)","v":""},{"$f":"+IF(Lists!CL627=\"\",\"\",Lists!CL627)","v":""}]
[null,{"$f":"+IF(Lists!CK628=\"\",\"\",Lists!CK628)","v":""},{"$f":"+IF(Lists!CL628=\"\",\"\",Lists!CL628)","v":""}]
[null,{"$f":"+IF(Lists!CK629=\"\",\"\",Lists!CK629)","v":""},{"$f":"+IF(Lists!CL629=\"\",\"\",Lists!CL629)","v":""}]
[null,{"$f":"+IF(Lists!CK630=\"\",\"\",Lists!CK630)","v":""},{"$f":"+IF(Lists!CL630=\"\",\"\",Lists!CL630)","v":""}]
[null,{"$f":"+IF(Lists!CK631=\"\",\"\",Lists!CK631)","v":""},{"$f":"+IF(Lists!CL631=\"\",\"\",Lists!CL631)","v":""}]
[null,{"$f":"+IF(Lists!CK632=\"\",\"\",Lists!CK632)","v":""},{"$f":"+IF(Lists!CL632=\"\",\"\",Lists!CL632)","v":""}]
[null,{"$f":"+IF(Lists!CK633=\"\",\"\",Lists!CK633)","v":""},{"$f":"+IF(Lists!CL633=\"\",\"\",Lists!CL633)","v":""}]
[null,{"$f":"+IF(Lists!CK634=\"\",\"\",Lists!CK634)","v":""},{"$f":"+IF(Lists!CL634=\"\",\"\",Lists!CL634)","v":""}]
[null,{"$f":"+IF(Lists!CK635=\"\",\"\",Lists!CK635)","v":""},{"$f":"+IF(Lists!CL635=\"\",\"\",Lists!CL635)","v":""}]
[null,{"$f":"+IF(Lists!CK636=\"\",\"\",Lists!CK636)","v":""},{"$f":"+IF(Lists!CL636=\"\",\"\",Lists!CL636)","v":""}]
[null,{"$f":"+IF(Lists!CK637=\"\",\"\",Lists!CK637)","v":""},{"$f":"+IF(Lists!CL637=\"\",\"\",Lists!CL637)","v":""}]
[null,{"$f":"+IF(Lists!CK638=\"\",\"\",Lists!CK638)","v":""},{"$f":"+IF(Lists!CL638=\"\",\"\",Lists!CL638)","v":""}]
[null,{"$f":"+IF(Lists!CK639=\"\",\"\",Lists!CK639)","v":""},{"$f":"+IF(Lists!CL639=\"\",\"\",Lists!CL639)","v":""}]
[null,{"$f":"+IF(Lists!CK640=\"\",\"\",Lists!CK640)","v":""},{"$f":"+IF(Lists!CL640=\"\",\"\",Lists!CL640)","v":""}]
[null,{"$f":"+IF(Lists!CK641=\"\",\"\",Lists!CK641)","v":""},{"$f":"+IF(Lists!CL641=\"\",\"\",Lists!CL641)","v":""}]
[null,{"$f":"+IF(Lists!CK642=\"\",\"\",Lists!CK642)","v":""},{"$f":"+IF(Lists!CL642=\"\",\"\",Lists!CL642)","v":""}]
[null,{"$f":"+IF(Lists!CK643=\"\",\"\",Lists!CK643)","v":""},{"$f":"+IF(Lists!CL643=\"\",\"\",Lists!CL643)","v":""}]
[null,{"$f":"+IF(Lists!CK644=\"\",\"\",Lists!CK644)","v":""},{"$f":"+IF(Lists!CL644=\"\",\"\",Lists!CL644)","v":""}]
[null,{"$f":"+IF(Lists!CK645=\"\",\"\",Lists!CK645)","v":""},{"$f":"+IF(Lists!CL645=\"\",\"\",Lists!CL645)","v":""}]
[null,{"$f":"+IF(Lists!CK646=\"\",\"\",Lists!CK646)","v":""},{"$f":"+IF(Lists!CL646=\"\",\"\",Lists!CL646)","v":""}]
[null,{"$f":"+IF(Lists!CK647=\"\",\"\",Lists!CK647)","v":""},{"$f":"+IF(Lists!CL647=\"\",\"\",Lists!CL647)","v":""}]
[null,{"$f":"+IF(Lists!CK648=\"\",\"\",Lists!CK648)","v":""},{"$f":"+IF(Lists!CL648=\"\",\"\",Lists!CL648)","v":""}]
[null,{"$f":"+IF(Lists!CK649=\"\",\"\",Lists!CK649)","v":""},{"$f":"+IF(Lists!CL649=\"\",\"\",Lists!CL649)","v":""}]
[null,{"$f":"+IF(Lists!CK650=\"\",\"\",Lists!CK650)","v":""},{"$f":"+IF(Lists!CL650=\"\",\"\",Lists!CL650)","v":""}]
[null,{"$f":"+IF(Lists!CK651=\"\",\"\",Lists!CK651)","v":""},{"$f":"+IF(Lists!CL651=\"\",\"\",Lists!CL651)","v":""}]
[null,{"$f":"+IF(Lists!CK652=\"\",\"\",Lists!CK652)","v":""},{"$f":"+IF(Lists!CL652=\"\",\"\",Lists!CL652)","v":""}]
[null,{"$f":"+IF(Lists!CK653=\"\",\"\",Lists!CK653)","v":""},{"$f":"+IF(Lists!CL653=\"\",\"\",Lists!CL653)","v":""}]
[null,{"$f":"+IF(Lists!CK654=\"\",\"\",Lists!CK654)","v":""},{"$f":"+IF(Lists!CL654=\"\",\"\",Lists!CL654)","v":""}]
[null,{"$f":"+IF(Lists!CK655=\"\",\"\",Lists!CK655)","v":""},{"$f":"+IF(Lists!CL655=\"\",\"\",Lists!CL655)","v":""}]
[null,{"$f":"+IF(Lists!CK656=\"\",\"\",Lists!CK656)","v":""},{"$f":"+IF(Lists!CL656=\"\",\"\",Lists!CL656)","v":""}]
[null,{"$f":"+IF(Lists!CK657=\"\",\"\",Lists!CK657)","v":""},{"$f":"+IF(Lists!CL657=\"\",\"\",Lists!CL657)","v":""}]
[null,{"$f":"+IF(Lists!CK658=\"\",\"\",Lists!CK658)","v":""},{"$f":"+IF(Lists!CL658=\"\",\"\",Lists!CL658)","v":""}]
[null,{"$f":"+IF(Lists!CK659=\"\",\"\",Lists!CK659)","v":""},{"$f":"+IF(Lists!CL659=\"\",\"\",Lists!CL659)","v":""}]
[null,{"$f":"+IF(Lists!CK660=\"\",\"\",Lists!CK660)","v":""},{"$f":"+IF(Lists!CL660=\"\",\"\",Lists!CL660)","v":""}]
[null,{"$f":"+IF(Lists!CK661=\"\",\"\",Lists!CK661)","v":""},{"$f":"+IF(Lists!CL661=\"\",\"\",Lists!CL661)","v":""}]
[null,{"$f":"+IF(Lists!CK662=\"\",\"\",Lists!CK662)","v":""},{"$f":"+IF(Lists!CL662=\"\",\"\",Lists!CL662)","v":""}]
[null,{"$f":"+IF(Lists!CK663=\"\",\"\",Lists!CK663)","v":""},{"$f":"+IF(Lists!CL663=\"\",\"\",Lists!CL663)","v":""}]
[null,{"$f":"+IF(Lists!CK664=\"\",\"\",Lists!CK664)","v":""},{"$f":"+IF(Lists!CL664=\"\",\"\",Lists!CL664)","v":""}]
[null,{"$f":"+IF(Lists!CK665=\"\",\"\",Lists!CK665)","v":""},{"$f":"+IF(Lists!CL665=\"\",\"\",Lists!CL665)","v":""}]
[null,{"$f":"+IF(Lists!CK666=\"\",\"\",Lists!CK666)","v":""},{"$f":"+IF(Lists!CL666=\"\",\"\",Lists!CL666)","v":""}]
[null,{"$f":"+IF(Lists!CK667=\"\",\"\",Lists!CK667)","v":""},{"$f":"+IF(Lists!CL667=\"\",\"\",Lists!CL667)","v":""}]
[null,{"$f":"+IF(Lists!CK668=\"\",\"\",Lists!CK668)","v":""},{"$f":"+IF(Lists!CL668=\"\",\"\",Lists!CL668)","v":""}]
[null,{"$f":"+IF(Lists!CK669=\"\",\"\",Lists!CK669)","v":""},{"$f":"+IF(Lists!CL669=\"\",\"\",Lists!CL669)","v":""}]
[null,{"$f":"+IF(Lists!CK670=\"\",\"\",Lists!CK670)","v":""},{"$f":"+IF(Lists!CL670=\"\",\"\",Lists!CL670)","v":""}]
[null,{"$f":"+IF(Lists!CK671=\"\",\"\",Lists!CK671)","v":""},{"$f":"+IF(Lists!CL671=\"\",\"\",Lists!CL671)","v":""}]
[null,{"$f":"+IF(Lists!CK672=\"\",\"\",Lists!CK672)","v":""},{"$f":"+IF(Lists!CL672=\"\",\"\",Lists!CL672)","v":""}]
[null,{"$f":"+IF(Lists!CK673=\"\",\"\",Lists!CK673)","v":""},{"$f":"+IF(Lists!CL673=\"\",\"\",Lists!CL673)","v":""}]
[null,{"$f":"+IF(Lists!CK674=\"\",\"\",Lists!CK674)","v":""},{"$f":"+IF(Lists!CL674=\"\",\"\",Lists!CL674)","v":""}]
[null,{"$f":"+IF(Lists!CK675=\"\",\"\",Lists!CK675)","v":""},{"$f":"+IF(Lists!CL675=\"\",\"\",Lists!CL675)","v":""}]
[null,{"$f":"+IF(Lists!CK676=\"\",\"\",Lists!CK676)","v":""},{"$f":"+IF(Lists!CL676=\"\",\"\",Lists!CL676)","v":""}]
[null,{"$f":"+IF(Lists!CK677=\"\",\"\",Lists!CK677)","v":""},{"$f":"+IF(Lists!CL677=\"\",\"\",Lists!CL677)","v":""}]
[null,{"$f":"+IF(Lists!CK678=\"\",\"\",Lists!CK678)","v":""},{"$f":"+IF(Lists!CL678=\"\",\"\",Lists!CL678)","v":""}]
[null,{"$f":"+IF(Lists!CK679=\"\",\"\",Lists!CK679)","v":""},{"$f":"+IF(Lists!CL679=\"\",\"\",Lists!CL679)","v":""}]
[null,{"$f":"+IF(Lists!CK680=\"\",\"\",Lists!CK680)","v":""},{"$f":"+IF(Lists!CL680=\"\",\"\",Lists!CL680)","v":""}]
[null,{"$f":"+IF(Lists!CK681=\"\",\"\",Lists!CK681)","v":""},{"$f":"+IF(Lists!CL681=\"\",\"\",Lists!CL681)","v":""}]
[null,{"$f":"+IF(Lists!CK682=\"\",\"\",Lists!CK682)","v":""},{"$f":"+IF(Lists!CL682=\"\",\"\",Lists!CL682)","v":""}]
[null,{"$f":"+IF(Lists!CK683=\"\",\"\",Lists!CK683)","v":""},{"$f":"+IF(Lists!CL683=\"\",\"\",Lists!CL683)","v":""}]
[null,{"$f":"+IF(Lists!CK684=\"\",\"\",Lists!CK684)","v":""},{"$f":"+IF(Lists!CL684=\"\",\"\",Lists!CL684)","v":""}]
[null,{"$f":"+IF(Lists!CK685=\"\",\"\",Lists!CK685)","v":""},{"$f":"+IF(Lists!CL685=\"\",\"\",Lists!CL685)","v":""}]
[null,{"$f":"+IF(Lists!CK686=\"\",\"\",Lists!CK686)","v":""},{"$f":"+IF(Lists!CL686=\"\",\"\",Lists!CL686)","v":""}]
[null,{"$f":"+IF(Lists!CK687=\"\",\"\",Lists!CK687)","v":""},{"$f":"+IF(Lists!CL687=\"\",\"\",Lists!CL687)","v":""}]
[null,{"$f":"+IF(Lists!CK688=\"\",\"\",Lists!CK688)","v":""},{"$f":"+IF(Lists!CL688=\"\",\"\",Lists!CL688)","v":""}]
[null,{"$f":"+IF(Lists!CK689=\"\",\"\",Lists!CK689)","v":""},{"$f":"+IF(Lists!CL689=\"\",\"\",Lists!CL689)","v":""}]
[null,{"$f":"+IF(Lists!CK690=\"\",\"\",Lists!CK690)","v":""},{"$f":"+IF(Lists!CL690=\"\",\"\",Lists!CL690)","v":""}]
[null,{"$f":"+IF(Lists!CK691=\"\",\"\",Lists!CK691)","v":""},{"$f":"+IF(Lists!CL691=\"\",\"\",Lists!CL691)","v":""}]
[null,{"$f":"+IF(Lists!CK692=\"\",\"\",Lists!CK692)","v":""},{"$f":"+IF(Lists!CL692=\"\",\"\",Lists!CL692)","v":""}]
[null,{"$f":"+IF(Lists!CK693=\"\",\"\",Lists!CK693)","v":""},{"$f":"+IF(Lists!CL693=\"\",\"\",Lists!CL693)","v":""}]
[null,{"$f":"+IF(Lists!CK694=\"\",\"\",Lists!CK694)","v":""},{"$f":"+IF(Lists!CL694=\"\",\"\",Lists!CL694)","v":""}]
[null,{"$f":"+IF(Lists!CK695=\"\",\"\",Lists!CK695)","v":""},{"$f":"+IF(Lists!CL695=\"\",\"\",Lists!CL695)","v":""}]
[null,{"$f":"+IF(Lists!CK696=\"\",\"\",Lists!CK696)","v":""},{"$f":"+IF(Lists!CL696=\"\",\"\",Lists!CL696)","v":""}]
[null,{"$f":"+IF(Lists!CK697=\"\",\"\",Lists!CK697)","v":""},{"$f":"+IF(Lists!CL697=\"\",\"\",Lists!CL697)","v":""}]
[null,{"$f":"+IF(Lists!CK698=\"\",\"\",Lists!CK698)","v":""},{"$f":"+IF(Lists!CL698=\"\",\"\",Lists!CL698)","v":""}]
[null,{"$f":"+IF(Lists!CK699=\"\",\"\",Lists!CK699)","v":""},{"$f":"+IF(Lists!CL699=\"\",\"\",Lists!CL699)","v":""}]
[null,{"$f":"+IF(Lists!CK700=\"\",\"\",Lists!CK700)","v":""},{"$f":"+IF(Lists!CL700=\"\",\"\",Lists!CL700)","v":""}]
[null,{"$f":"+IF(Lists!CK701=\"\",\"\",Lists!CK701)","v":""},{"$f":"+IF(Lists!CL701=\"\",\"\",Lists!CL701)","v":""}]
[null,{"$f":"+IF(Lists!CK702=\"\",\"\",Lists!CK702)","v":""},{"$f":"+IF(Lists!CL702=\"\",\"\",Lists!CL702)","v":""}]
[null,{"$f":"+IF(Lists!CK703=\"\",\"\",Lists!CK703)","v":""},{"$f":"+IF(Lists!CL703=\"\",\"\",Lists!CL703)","v":""}]
[null,{"$f":"+IF(Lists!CK704=\"\",\"\",Lists!CK704)","v":""},{"$f":"+IF(Lists!CL704=\"\",\"\",Lists!CL704)","v":""}]
[null,{"$f":"+IF(Lists!CK705=\"\",\"\",Lists!CK705)","v":""},{"$f":"+IF(Lists!CL705=\"\",\"\",Lists!CL705)","v":""}]
[null,{"$f":"+IF(Lists!CK706=\"\",\"\",Lists!CK706)","v":""},{"$f":"+IF(Lists!CL706=\"\",\"\",Lists!CL706)","v":""}]
[null,{"$f":"+IF(Lists!CK707=\"\",\"\",Lists!CK707)","v":""},{"$f":"+IF(Lists!CL707=\"\",\"\",Lists!CL707)","v":""}]
[null,{"$f":"+IF(Lists!CK708=\"\",\"\",Lists!CK708)","v":""},{"$f":"+IF(Lists!CL708=\"\",\"\",Lists!CL708)","v":""}]
[null,{"$f":"+IF(Lists!CK709=\"\",\"\",Lists!CK709)","v":""},{"$f":"+IF(Lists!CL709=\"\",\"\",Lists!CL709)","v":""}]
[null,{"$f":"+IF(Lists!CK710=\"\",\"\",Lists!CK710)","v":""},{"$f":"+IF(Lists!CL710=\"\",\"\",Lists!CL710)","v":""}]
[null,{"$f":"+IF(Lists!CK711=\"\",\"\",Lists!CK711)","v":""},{"$f":"+IF(Lists!CL711=\"\",\"\",Lists!CL711)","v":""}]
[null,{"$f":"+IF(Lists!CK712=\"\",\"\",Lists!CK712)","v":""},{"$f":"+IF(Lists!CL712=\"\",\"\",Lists!CL712)","v":""}]
[null,{"$f":"+IF(Lists!CK713=\"\",\"\",Lists!CK713)","v":""},{"$f":"+IF(Lists!CL713=\"\",\"\",Lists!CL713)","v":""}]
[null,{"$f":"+IF(Lists!CK714=\"\",\"\",Lists!CK714)","v":""},{"$f":"+IF(Lists!CL714=\"\",\"\",Lists!CL714)","v":""}]
[null,{"$f":"+IF(Lists!CK715=\"\",\"\",Lists!CK715)","v":""},{"$f":"+IF(Lists!CL715=\"\",\"\",Lists!CL715)","v":""}]
[null,{"$f":"+IF(Lists!CK716=\"\",\"\",Lists!CK716)","v":""},{"$f":"+IF(Lists!CL716=\"\",\"\",Lists!CL716)","v":""}]
[null,{"$f":"+IF(Lists!CK717=\"\",\"\",Lists!CK717)","v":""},{"$f":"+IF(Lists!CL717=\"\",\"\",Lists!CL717)","v":""}]
[null,{"$f":"+IF(Lists!CK718=\"\",\"\",Lists!CK718)","v":""},{"$f":"+IF(Lists!CL718=\"\",\"\",Lists!CL718)","v":""}]
[null,{"$f":"+IF(Lists!CK719=\"\",\"\",Lists!CK719)","v":""},{"$f":"+IF(Lists!CL719=\"\",\"\",Lists!CL719)","v":""}]
[null,{"$f":"+IF(Lists!CK720=\"\",\"\",Lists!CK720)","v":""},{"$f":"+IF(Lists!CL720=\"\",\"\",Lists!CL720)","v":""}]
[null,{"$f":"+IF(Lists!CK721=\"\",\"\",Lists!CK721)","v":""},{"$f":"+IF(Lists!CL721=\"\",\"\",Lists!CL721)","v":""}]
[null,{"$f":"+IF(Lists!CK722=\"\",\"\",Lists!CK722)","v":""},{"$f":"+IF(Lists!CL722=\"\",\"\",Lists!CL722)","v":""}]
[null,{"$f":"+IF(Lists!CK723=\"\",\"\",Lists!CK723)","v":""},{"$f":"+IF(Lists!CL723=\"\",\"\",Lists!CL723)","v":""}]
[null,{"$f":"+IF(Lists!CK724=\"\",\"\",Lists!CK724)","v":""},{"$f":"+IF(Lists!CL724=\"\",\"\",Lists!CL724)","v":""}]
[null,{"$f":"+IF(Lists!CK725=\"\",\"\",Lists!CK725)","v":""},{"$f":"+IF(Lists!CL725=\"\",\"\",Lists!CL725)","v":""}]
[null,{"$f":"+IF(Lists!CK726=\"\",\"\",Lists!CK726)","v":""},{"$f":"+IF(Lists!CL726=\"\",\"\",Lists!CL726)","v":""}]
[null,{"$f":"+IF(Lists!CK727=\"\",\"\",Lists!CK727)","v":""},{"$f":"+IF(Lists!CL727=\"\",\"\",Lists!CL727)","v":""}]
[null,{"$f":"+IF(Lists!CK728=\"\",\"\",Lists!CK728)","v":""},{"$f":"+IF(Lists!CL728=\"\",\"\",Lists!CL728)","v":""}]
[null,{"$f":"+IF(Lists!CK729=\"\",\"\",Lists!CK729)","v":""},{"$f":"+IF(Lists!CL729=\"\",\"\",Lists!CL729)","v":""}]
[null,{"$f":"+IF(Lists!CK730=\"\",\"\",Lists!CK730)","v":""},{"$f":"+IF(Lists!CL730=\"\",\"\",Lists!CL730)","v":""}]
[null,{"$f":"+IF(Lists!CK731=\"\",\"\",Lists!CK731)","v":""},{"$f":"+IF(Lists!CL731=\"\",\"\",Lists!CL731)","v":""}]
[null,{"$f":"+IF(Lists!CK732=\"\",\"\",Lists!CK732)","v":""},{"$f":"+IF(Lists!CL732=\"\",\"\",Lists!CL732)","v":""}]
[null,{"$f":"+IF(Lists!CK733=\"\",\"\",Lists!CK733)","v":""},{"$f":"+IF(Lists!CL733=\"\",\"\",Lists!CL733)","v":""}]
[null,{"$f":"+IF(Lists!CK734=\"\",\"\",Lists!CK734)","v":""},{"$f":"+IF(Lists!CL734=\"\",\"\",Lists!CL734)","v":""}]
[null,{"$f":"+IF(Lists!CK735=\"\",\"\",Lists!CK735)","v":""},{"$f":"+IF(Lists!CL735=\"\",\"\",Lists!CL735)","v":""}]
[null,{"$f":"+IF(Lists!CK736=\"\",\"\",Lists!CK736)","v":""},{"$f":"+IF(Lists!CL736=\"\",\"\",Lists!CL736)","v":""}]
[null,{"$f":"+IF(Lists!CK737=\"\",\"\",Lists!CK737)","v":""},{"$f":"+IF(Lists!CL737=\"\",\"\",Lists!CL737)","v":""}]
[null,{"$f":"+IF(Lists!CK738=\"\",\"\",Lists!CK738)","v":""},{"$f":"+IF(Lists!CL738=\"\",\"\",Lists!CL738)","v":""}]
[null,{"$f":"+IF(Lists!CK739=\"\",\"\",Lists!CK739)","v":""},{"$f":"+IF(Lists!CL739=\"\",\"\",Lists!CL739)","v":""}]
[null,{"$f":"+IF(Lists!CK740=\"\",\"\",Lists!CK740)","v":""},{"$f":"+IF(Lists!CL740=\"\",\"\",Lists!CL740)","v":""}]
[null,{"$f":"+IF(Lists!CK741=\"\",\"\",Lists!CK741)","v":""},{"$f":"+IF(Lists!CL741=\"\",\"\",Lists!CL741)","v":""}]
[null,{"$f":"+IF(Lists!CK742=\"\",\"\",Lists!CK742)","v":""},{"$f":"+IF(Lists!CL742=\"\",\"\",Lists!CL742)","v":""}]
[null,{"$f":"+IF(Lists!CK743=\"\",\"\",Lists!CK743)","v":""},{"$f":"+IF(Lists!CL743=\"\",\"\",Lists!CL743)","v":""}]
[null,{"$f":"+IF(Lists!CK744=\"\",\"\",Lists!CK744)","v":""},{"$f":"+IF(Lists!CL744=\"\",\"\",Lists!CL744)","v":""}]
[null,{"$f":"+IF(Lists!CK745=\"\",\"\",Lists!CK745)","v":""},{"$f":"+IF(Lists!CL745=\"\",\"\",Lists!CL745)","v":""}]
[null,{"$f":"+IF(Lists!CK746=\"\",\"\",Lists!CK746)","v":""},{"$f":"+IF(Lists!CL746=\"\",\"\",Lists!CL746)","v":""}]
[null,{"$f":"+IF(Lists!CK747=\"\",\"\",Lists!CK747)","v":""},{"$f":"+IF(Lists!CL747=\"\",\"\",Lists!CL747)","v":""}]
[null,{"$f":"+IF(Lists!CK748=\"\",\"\",Lists!CK748)","v":""},{"$f":"+IF(Lists!CL748=\"\",\"\",Lists!CL748)","v":""}]
[null,{"$f":"+IF(Lists!CK749=\"\",\"\",Lists!CK749)","v":""},{"$f":"+IF(Lists!CL749=\"\",\"\",Lists!CL749)","v":""}]
[null,{"$f":"+IF(Lists!CK750=\"\",\"\",Lists!CK750)","v":""},{"$f":"+IF(Lists!CL750=\"\",\"\",Lists!CL750)","v":""}]
[null,{"$f":"+IF(Lists!CK751=\"\",\"\",Lists!CK751)","v":""},{"$f":"+IF(Lists!CL751=\"\",\"\",Lists!CL751)","v":""}]
[null,{"$f":"+IF(Lists!CK752=\"\",\"\",Lists!CK752)","v":""},{"$f":"+IF(Lists!CL752=\"\",\"\",Lists!CL752)","v":""}]
[null,{"$f":"+IF(Lists!CK753=\"\",\"\",Lists!CK753)","v":""},{"$f":"+IF(Lists!CL753=\"\",\"\",Lists!CL753)","v":""}]
[null,{"$f":"+IF(Lists!CK754=\"\",\"\",Lists!CK754)","v":""},{"$f":"+IF(Lists!CL754=\"\",\"\",Lists!CL754)","v":""}]
[null,{"$f":"+IF(Lists!CK755=\"\",\"\",Lists!CK755)","v":""},{"$f":"+IF(Lists!CL755=\"\",\"\",Lists!CL755)","v":""}]
[null,{"$f":"+IF(Lists!CK756=\"\",\"\",Lists!CK756)","v":""},{"$f":"+IF(Lists!CL756=\"\",\"\",Lists!CL756)","v":""}]
[null,{"$f":"+IF(Lists!CK757=\"\",\"\",Lists!CK757)","v":""},{"$f":"+IF(Lists!CL757=\"\",\"\",Lists!CL757)","v":""}]
[null,{"$f":"+IF(Lists!CK758=\"\",\"\",Lists!CK758)","v":""},{"$f":"+IF(Lists!CL758=\"\",\"\",Lists!CL758)","v":""}]
[null,{"$f":"+IF(Lists!CK759=\"\",\"\",Lists!CK759)","v":""},{"$f":"+IF(Lists!CL759=\"\",\"\",Lists!CL759)","v":""}]
[null,{"$f":"+IF(Lists!CK760=\"\",\"\",Lists!CK760)","v":""},{"$f":"+IF(Lists!CL760=\"\",\"\",Lists!CL760)","v":""}]
[null,{"$f":"+IF(Lists!CK761=\"\",\"\",Lists!CK761)","v":""},{"$f":"+IF(Lists!CL761=\"\",\"\",Lists!CL761)","v":""}]
[null,{"$f":"+IF(Lists!CK762=\"\",\"\",Lists!CK762)","v":""},{"$f":"+IF(Lists!CL762=\"\",\"\",Lists!CL762)","v":""}]
[null,{"$f":"+IF(Lists!CK763=\"\",\"\",Lists!CK763)","v":""},{"$f":"+IF(Lists!CL763=\"\",\"\",Lists!CL763)","v":""}]
[null,{"$f":"+IF(Lists!CK764=\"\",\"\",Lists!CK764)","v":""},{"$f":"+IF(Lists!CL764=\"\",\"\",Lists!CL764)","v":""}]
[null,{"$f":"+IF(Lists!CK765=\"\",\"\",Lists!CK765)","v":""},{"$f":"+IF(Lists!CL765=\"\",\"\",Lists!CL765)","v":""}]
[null,{"$f":"+IF(Lists!CK766=\"\",\"\",Lists!CK766)","v":""},{"$f":"+IF(Lists!CL766=\"\",\"\",Lists!CL766)","v":""}]
[null,{"$f":"+IF(Lists!CK767=\"\",\"\",Lists!CK767)","v":""},{"$f":"+IF(Lists!CL767=\"\",\"\",Lists!CL767)","v":""}]
[null,{"$f":"+IF(Lists!CK768=\"\",\"\",Lists!CK768)","v":""},{"$f":"+IF(Lists!CL768=\"\",\"\",Lists!CL768)","v":""}]
[null,{"$f":"+IF(Lists!CK769=\"\",\"\",Lists!CK769)","v":""},{"$f":"+IF(Lists!CL769=\"\",\"\",Lists!CL769)","v":""}]
[null,{"$f":"+IF(Lists!CK770=\"\",\"\",Lists!CK770)","v":""},{"$f":"+IF(Lists!CL770=\"\",\"\",Lists!CL770)","v":""}]
[null,{"$f":"+IF(Lists!CK771=\"\",\"\",Lists!CK771)","v":""},{"$f":"+IF(Lists!CL771=\"\",\"\",Lists!CL771)","v":""}]
[null,{"$f":"+IF(Lists!CK772=\"\",\"\",Lists!CK772)","v":""},{"$f":"+IF(Lists!CL772=\"\",\"\",Lists!CL772)","v":""}]
[null,{"$f":"+IF(Lists!CK773=\"\",\"\",Lists!CK773)","v":""},{"$f":"+IF(Lists!CL773=\"\",\"\",Lists!CL773)","v":""}]
[null,{"$f":"+IF(Lists!CK774=\"\",\"\",Lists!CK774)","v":""},{"$f":"+IF(Lists!CL774=\"\",\"\",Lists!CL774)","v":""}]
[null,{"$f":"+IF(Lists!CK775=\"\",\"\",Lists!CK775)","v":""},{"$f":"+IF(Lists!CL775=\"\",\"\",Lists!CL775)","v":""}]
[null,{"$f":"+IF(Lists!CK776=\"\",\"\",Lists!CK776)","v":""},{"$f":"+IF(Lists!CL776=\"\",\"\",Lists!CL776)","v":""}]
[null,{"$f":"+IF(Lists!CK777=\"\",\"\",Lists!CK777)","v":""},{"$f":"+IF(Lists!CL777=\"\",\"\",Lists!CL777)","v":""}]
[null,{"$f":"+IF(Lists!CK778=\"\",\"\",Lists!CK778)","v":""},{"$f":"+IF(Lists!CL778=\"\",\"\",Lists!CL778)","v":""}]
[null,{"$f":"+IF(Lists!CK779=\"\",\"\",Lists!CK779)","v":""},{"$f":"+IF(Lists!CL779=\"\",\"\",Lists!CL779)","v":""}]
[null,{"$f":"+IF(Lists!CK780=\"\",\"\",Lists!CK780)","v":""},{"$f":"+IF(Lists!CL780=\"\",\"\",Lists!CL780)","v":""}]
[null,{"$f":"+IF(Lists!CK781=\"\",\"\",Lists!CK781)","v":""},{"$f":"+IF(Lists!CL781=\"\",\"\",Lists!CL781)","v":""}]
[null,{"$f":"+IF(Lists!CK782=\"\",\"\",Lists!CK782)","v":""},{"$f":"+IF(Lists!CL782=\"\",\"\",Lists!CL782)","v":""}]
[null,{"$f":"+IF(Lists!CK783=\"\",\"\",Lists!CK783)","v":""},{"$f":"+IF(Lists!CL783=\"\",\"\",Lists!CL783)","v":""}]
[null,{"$f":"+IF(Lists!CK784=\"\",\"\",Lists!CK784)","v":""},{"$f":"+IF(Lists!CL784=\"\",\"\",Lists!CL784)","v":""}]
[null,{"$f":"+IF(Lists!CK785=\"\",\"\",Lists!CK785)","v":""},{"$f":"+IF(Lists!CL785=\"\",\"\",Lists!CL785)","v":""}]
[null,{"$f":"+IF(Lists!CK786=\"\",\"\",Lists!CK786)","v":""},{"$f":"+IF(Lists!CL786=\"\",\"\",Lists!CL786)","v":""}]
[null,{"$f":"+IF(Lists!CK787=\"\",\"\",Lists!CK787)","v":""},{"$f":"+IF(Lists!CL787=\"\",\"\",Lists!CL787)","v":""}]
[null,{"$f":"+IF(Lists!CK788=\"\",\"\",Lists!CK788)","v":""},{"$f":"+IF(Lists!CL788=\"\",\"\",Lists!CL788)","v":""}]
[null,{"$f":"+IF(Lists!CK789=\"\",\"\",Lists!CK789)","v":""},{"$f":"+IF(Lists!CL789=\"\",\"\",Lists!CL789)","v":""}]
[null,{"$f":"+IF(Lists!CK790=\"\",\"\",Lists!CK790)","v":""},{"$f":"+IF(Lists!CL790=\"\",\"\",Lists!CL790)","v":""}]
[null,{"$f":"+IF(Lists!CK791=\"\",\"\",Lists!CK791)","v":""},{"$f":"+IF(Lists!CL791=\"\",\"\",Lists!CL791)","v":""}]
[null,{"$f":"+IF(Lists!CK792=\"\",\"\",Lists!CK792)","v":""},{"$f":"+IF(Lists!CL792=\"\",\"\",Lists!CL792)","v":""}]
[null,{"$f":"+IF(Lists!CK793=\"\",\"\",Lists!CK793)","v":""},{"$f":"+IF(Lists!CL793=\"\",\"\",Lists!CL793)","v":""}]
[null,{"$f":"+IF(Lists!CK794=\"\",\"\",Lists!CK794)","v":""},{"$f":"+IF(Lists!CL794=\"\",\"\",Lists!CL794)","v":""}]
[null,{"$f":"+IF(Lists!CK795=\"\",\"\",Lists!CK795)","v":""},{"$f":"+IF(Lists!CL795=\"\",\"\",Lists!CL795)","v":""}]
[null,{"$f":"+IF(Lists!CK796=\"\",\"\",Lists!CK796)","v":""},{"$f":"+IF(Lists!CL796=\"\",\"\",Lists!CL796)","v":""}]
[null,{"$f":"+IF(Lists!CK797=\"\",\"\",Lists!CK797)","v":""},{"$f":"+IF(Lists!CL797=\"\",\"\",Lists!CL797)","v":""}]
[null,{"$f":"+IF(Lists!CK798=\"\",\"\",Lists!CK798)","v":""},{"$f":"+IF(Lists!CL798=\"\",\"\",Lists!CL798)","v":""}]
[null,{"$f":"+IF(Lists!CK799=\"\",\"\",Lists!CK799)","v":""},{"$f":"+IF(Lists!CL799=\"\",\"\",Lists!CL799)","v":""}]
[null,{"$f":"+IF(Lists!CK800=\"\",\"\",Lists!CK800)","v":""},{"$f":"+IF(Lists!CL800=\"\",\"\",Lists!CL800)","v":""}]
[null,{"$f":"+IF(Lists!CK801=\"\",\"\",Lists!CK801)","v":""},{"$f":"+IF(Lists!CL801=\"\",\"\",Lists!CL801)","v":""}]
[null,{"$f":"+IF(Lists!CK802=\"\",\"\",Lists!CK802)","v":""},{"$f":"+IF(Lists!CL802=\"\",\"\",Lists!CL802)","v":""}]
[null,{"$f":"+IF(Lists!CK803=\"\",\"\",Lists!CK803)","v":""},{"$f":"+IF(Lists!CL803=\"\",\"\",Lists!CL803)","v":""}]
[null,{"$f":"+IF(Lists!CK804=\"\",\"\",Lists!CK804)","v":""},{"$f":"+IF(Lists!CL804=\"\",\"\",Lists!CL804)","v":""}]
[null,{"$f":"+IF(Lists!CK805=\"\",\"\",Lists!CK805)","v":""},{"$f":"+IF(Lists!CL805=\"\",\"\",Lists!CL805)","v":""}]
[null,{"$f":"+IF(Lists!CK806=\"\",\"\",Lists!CK806)","v":""},{"$f":"+IF(Lists!CL806=\"\",\"\",Lists!CL806)","v":""}]
[null,{"$f":"+IF(Lists!CK807=\"\",\"\",Lists!CK807)","v":""},{"$f":"+IF(Lists!CL807=\"\",\"\",Lists!CL807)","v":""}]
[null,{"$f":"+IF(Lists!CK808=\"\",\"\",Lists!CK808)","v":""},{"$f":"+IF(Lists!CL808=\"\",\"\",Lists!CL808)","v":""}]
[null,{"$f":"+IF(Lists!CK809=\"\",\"\",Lists!CK809)","v":""},{"$f":"+IF(Lists!CL809=\"\",\"\",Lists!CL809)","v":""}]
[null,{"$f":"+IF(Lists!CK810=\"\",\"\",Lists!CK810)","v":""},{"$f":"+IF(Lists!CL810=\"\",\"\",Lists!CL810)","v":""}]
[null,{"$f":"+IF(Lists!CK811=\"\",\"\",Lists!CK811)","v":""},{"$f":"+IF(Lists!CL811=\"\",\"\",Lists!CL811)","v":""}]
[null,{"$f":"+IF(Lists!CK812=\"\",\"\",Lists!CK812)","v":""},{"$f":"+IF(Lists!CL812=\"\",\"\",Lists!CL812)","v":""}]
[null,{"$f":"+IF(Lists!CK813=\"\",\"\",Lists!CK813)","v":""},{"$f":"+IF(Lists!CL813=\"\",\"\",Lists!CL813)","v":""}]
[null,{"$f":"+IF(Lists!CK814=\"\",\"\",Lists!CK814)","v":""},{"$f":"+IF(Lists!CL814=\"\",\"\",Lists!CL814)","v":""}]
[null,{"$f":"+IF(Lists!CK815=\"\",\"\",Lists!CK815)","v":""},{"$f":"+IF(Lists!CL815=\"\",\"\",Lists!CL815)","v":""}]
[null,{"$f":"+IF(Lists!CK816=\"\",\"\",Lists!CK816)","v":""},{"$f":"+IF(Lists!CL816=\"\",\"\",Lists!CL816)","v":""}]
[null,{"$f":"+IF(Lists!CK817=\"\",\"\",Lists!CK817)","v":""},{"$f":"+IF(Lists!CL817=\"\",\"\",Lists!CL817)","v":""}]
[null,{"$f":"+IF(Lists!CK818=\"\",\"\",Lists!CK818)","v":""},{"$f":"+IF(Lists!CL818=\"\",\"\",Lists!CL818)","v":""}]
[null,{"$f":"+IF(Lists!CK819=\"\",\"\",Lists!CK819)","v":""},{"$f":"+IF(Lists!CL819=\"\",\"\",Lists!CL819)","v":""}]
[null,{"$f":"+IF(Lists!CK820=\"\",\"\",Lists!CK820)","v":""},{"$f":"+IF(Lists!CL820=\"\",\"\",Lists!CL820)","v":""}]
[null,{"$f":"+IF(Lists!CK821=\"\",\"\",Lists!CK821)","v":""},{"$f":"+IF(Lists!CL821=\"\",\"\",Lists!CL821)","v":""}]
[null,{"$f":"+IF(Lists!CK822=\"\",\"\",Lists!CK822)","v":""},{"$f":"+IF(Lists!CL822=\"\",\"\",Lists!CL822)","v":""}]
[null,{"$f":"+IF(Lists!CK823=\"\",\"\",Lists!CK823)","v":""},{"$f":"+IF(Lists!CL823=\"\",\"\",Lists!CL823)","v":""}]
[null,{"$f":"+IF(Lists!CK824=\"\",\"\",Lists!CK824)","v":""},{"$f":"+IF(Lists!CL824=\"\",\"\",Lists!CL824)","v":""}]
[null,{"$f":"+IF(Lists!CK825=\"\",\"\",Lists!CK825)","v":""},{"$f":"+IF(Lists!CL825=\"\",\"\",Lists!CL825)","v":""}]
[null,{"$f":"+IF(Lists!CK826=\"\",\"\",Lists!CK826)","v":""},{"$f":"+IF(Lists!CL826=\"\",\"\",Lists!CL826)","v":""}]
[null,{"$f":"+IF(Lists!CK827=\"\",\"\",Lists!CK827)","v":""},{"$f":"+IF(Lists!CL827=\"\",\"\",Lists!CL827)","v":""}]
[null,{"$f":"+IF(Lists!CK828=\"\",\"\",Lists!CK828)","v":""},{"$f":"+IF(Lists!CL828=\"\",\"\",Lists!CL828)","v":""}]
[null,{"$f":"+IF(Lists!CK829=\"\",\"\",Lists!CK829)","v":""},{"$f":"+IF(Lists!CL829=\"\",\"\",Lists!CL829)","v":""}]
[null,{"$f":"+IF(Lists!CK830=\"\",\"\",Lists!CK830)","v":""},{"$f":"+IF(Lists!CL830=\"\",\"\",Lists!CL830)","v":""}]
[null,{"$f":"+IF(Lists!CK831=\"\",\"\",Lists!CK831)","v":""},{"$f":"+IF(Lists!CL831=\"\",\"\",Lists!CL831)","v":""}]
[null,{"$f":"+IF(Lists!CK832=\"\",\"\",Lists!CK832)","v":""},{"$f":"+IF(Lists!CL832=\"\",\"\",Lists!CL832)","v":""}]
[null,{"$f":"+IF(Lists!CK833=\"\",\"\",Lists!CK833)","v":""},{"$f":"+IF(Lists!CL833=\"\",\"\",Lists!CL833)","v":""}]
[null,{"$f":"+IF(Lists!CK834=\"\",\"\",Lists!CK834)","v":""},{"$f":"+IF(Lists!CL834=\"\",\"\",Lists!CL834)","v":""}]
[null,{"$f":"+IF(Lists!CK835=\"\",\"\",Lists!CK835)","v":""},{"$f":"+IF(Lists!CL835=\"\",\"\",Lists!CL835)","v":""}]
[null,{"$f":"+IF(Lists!CK836=\"\",\"\",Lists!CK836)","v":""},{"$f":"+IF(Lists!CL836=\"\",\"\",Lists!CL836)","v":""}]
[null,{"$f":"+IF(Lists!CK837=\"\",\"\",Lists!CK837)","v":""},{"$f":"+IF(Lists!CL837=\"\",\"\",Lists!CL837)","v":""}]
[null,{"$f":"+IF(Lists!CK838=\"\",\"\",Lists!CK838)","v":""},{"$f":"+IF(Lists!CL838=\"\",\"\",Lists!CL838)","v":""}]
[null,{"$f":"+IF(Lists!CK839=\"\",\"\",Lists!CK839)","v":""},{"$f":"+IF(Lists!CL839=\"\",\"\",Lists!CL839)","v":""}]
[null,{"$f":"+IF(Lists!CK840=\"\",\"\",Lists!CK840)","v":""},{"$f":"+IF(Lists!CL840=\"\",\"\",Lists!CL840)","v":""}]
[null,{"$f":"+IF(Lists!CK841=\"\",\"\",Lists!CK841)","v":""},{"$f":"+IF(Lists!CL841=\"\",\"\",Lists!CL841)","v":""}]
[null,{"$f":"+IF(Lists!CK842=\"\",\"\",Lists!CK842)","v":""},{"$f":"+IF(Lists!CL842=\"\",\"\",Lists!CL842)","v":""}]
[null,{"$f":"+IF(Lists!CK843=\"\",\"\",Lists!CK843)","v":""},{"$f":"+IF(Lists!CL843=\"\",\"\",Lists!CL843)","v":""}]
[null,{"$f":"+IF(Lists!CK844=\"\",\"\",Lists!CK844)","v":""},{"$f":"+IF(Lists!CL844=\"\",\"\",Lists!CL844)","v":""}]
[null,{"$f":"+IF(Lists!CK845=\"\",\"\",Lists!CK845)","v":""},{"$f":"+IF(Lists!CL845=\"\",\"\",Lists!CL845)","v":""}]
[null,{"$f":"+IF(Lists!CK846=\"\",\"\",Lists!CK846)","v":""},{"$f":"+IF(Lists!CL846=\"\",\"\",Lists!CL846)","v":""}]
[null,{"$f":"+IF(Lists!CK847=\"\",\"\",Lists!CK847)","v":""},{"$f":"+IF(Lists!CL847=\"\",\"\",Lists!CL847)","v":""}]
[null,{"$f":"+IF(Lists!CK848=\"\",\"\",Lists!CK848)","v":""},{"$f":"+IF(Lists!CL848=\"\",\"\",Lists!CL848)","v":""}]
[null,{"$f":"+IF(Lists!CK849=\"\",\"\",Lists!CK849)","v":""},{"$f":"+IF(Lists!CL849=\"\",\"\",Lists!CL849)","v":""}]
[null,{"$f":"+IF(Lists!CK850=\"\",\"\",Lists!CK850)","v":""},{"$f":"+IF(Lists!CL850=\"\",\"\",Lists!CL850)","v":""}]
[null,{"$f":"+IF(Lists!CK851=\"\",\"\",Lists!CK851)","v":""},{"$f":"+IF(Lists!CL851=\"\",\"\",Lists!CL851)","v":""}]
[null,{"$f":"+IF(Lists!CK852=\"\",\"\",Lists!CK852)","v":""},{"$f":"+IF(Lists!CL852=\"\",\"\",Lists!CL852)","v":""}]
[null,{"$f":"+IF(Lists!CK853=\"\",\"\",Lists!CK853)","v":""},{"$f":"+IF(Lists!CL853=\"\",\"\",Lists!CL853)","v":""}]
[null,{"$f":"+IF(Lists!CK854=\"\",\"\",Lists!CK854)","v":""},{"$f":"+IF(Lists!CL854=\"\",\"\",Lists!CL854)","v":""}]
[null,{"$f":"+IF(Lists!CK855=\"\",\"\",Lists!CK855)","v":""},{"$f":"+IF(Lists!CL855=\"\",\"\",Lists!CL855)","v":""}]
[null,{"$f":"+IF(Lists!CK856=\"\",\"\",Lists!CK856)","v":""},{"$f":"+IF(Lists!CL856=\"\",\"\",Lists!CL856)","v":""}]
[null,{"$f":"+IF(Lists!CK857=\"\",\"\",Lists!CK857)","v":""},{"$f":"+IF(Lists!CL857=\"\",\"\",Lists!CL857)","v":""}]
[null,{"$f":"+IF(Lists!CK858=\"\",\"\",Lists!CK858)","v":""},{"$f":"+IF(Lists!CL858=\"\",\"\",Lists!CL858)","v":""}]
[null,{"$f":"+IF(Lists!CK859=\"\",\"\",Lists!CK859)","v":""},{"$f":"+IF(Lists!CL859=\"\",\"\",Lists!CL859)","v":""}]
[null,{"$f":"+IF(Lists!CK860=\"\",\"\",Lists!CK860)","v":""},{"$f":"+IF(Lists!CL860=\"\",\"\",Lists!CL860)","v":""}]
[null,{"$f":"+IF(Lists!CK861=\"\",\"\",Lists!CK861)","v":""},{"$f":"+IF(Lists!CL861=\"\",\"\",Lists!CL861)","v":""}]
[null,{"$f":"+IF(Lists!CK862=\"\",\"\",Lists!CK862)","v":""},{"$f":"+IF(Lists!CL862=\"\",\"\",Lists!CL862)","v":""}]
[null,{"$f":"+IF(Lists!CK863=\"\",\"\",Lists!CK863)","v":""},{"$f":"+IF(Lists!CL863=\"\",\"\",Lists!CL863)","v":""}]
[null,{"$f":"+IF(Lists!CK864=\"\",\"\",Lists!CK864)","v":""},{"$f":"+IF(Lists!CL864=\"\",\"\",Lists!CL864)","v":""}]
[null,{"$f":"+IF(Lists!CK865=\"\",\"\",Lists!CK865)","v":""},{"$f":"+IF(Lists!CL865=\"\",\"\",Lists!CL865)","v":""}]
[null,{"$f":"+IF(Lists!CK866=\"\",\"\",Lists!CK866)","v":""},{"$f":"+IF(Lists!CL866=\"\",\"\",Lists!CL866)","v":""}]
[null,{"$f":"+IF(Lists!CK867=\"\",\"\",Lists!CK867)","v":""},{"$f":"+IF(Lists!CL867=\"\",\"\",Lists!CL867)","v":""}]
[null,{"$f":"+IF(Lists!CK868=\"\",\"\",Lists!CK868)","v":""},{"$f":"+IF(Lists!CL868=\"\",\"\",Lists!CL868)","v":""}]
[null,{"$f":"+IF(Lists!CK869=\"\",\"\",Lists!CK869)","v":""},{"$f":"+IF(Lists!CL869=\"\",\"\",Lists!CL869)","v":""}]
[null,{"$f":"+IF(Lists!CK870=\"\",\"\",Lists!CK870)","v":""},{"$f":"+IF(Lists!CL870=\"\",\"\",Lists!CL870)","v":""}]
[null,{"$f":"+IF(Lists!CK871=\"\",\"\",Lists!CK871)","v":""},{"$f":"+IF(Lists!CL871=\"\",\"\",Lists!CL871)","v":""}]
[null,{"$f":"+IF(Lists!CK872=\"\",\"\",Lists!CK872)","v":""},{"$f":"+IF(Lists!CL872=\"\",\"\",Lists!CL872)","v":""}]
[null,{"$f":"+IF(Lists!CK873=\"\",\"\",Lists!CK873)","v":""},{"$f":"+IF(Lists!CL873=\"\",\"\",Lists!CL873)","v":""}]
[null,{"$f":"+IF(Lists!CK874=\"\",\"\",Lists!CK874)","v":""},{"$f":"+IF(Lists!CL874=\"\",\"\",Lists!CL874)","v":""}]
[null,{"$f":"+IF(Lists!CK875=\"\",\"\",Lists!CK875)","v":""},{"$f":"+IF(Lists!CL875=\"\",\"\",Lists!CL875)","v":""}]
[null,{"$f":"+IF(Lists!CK876=\"\",\"\",Lists!CK876)","v":""},{"$f":"+IF(Lists!CL876=\"\",\"\",Lists!CL876)","v":""}]
[null,{"$f":"+IF(Lists!CK877=\"\",\"\",Lists!CK877)","v":""},{"$f":"+IF(Lists!CL877=\"\",\"\",Lists!CL877)","v":""}]
[null,{"$f":"+IF(Lists!CK878=\"\",\"\",Lists!CK878)","v":""},{"$f":"+IF(Lists!CL878=\"\",\"\",Lists!CL878)","v":""}]
[null,{"$f":"+IF(Lists!CK879=\"\",\"\",Lists!CK879)","v":""},{"$f":"+IF(Lists!CL879=\"\",\"\",Lists!CL879)","v":""}]
[null,{"$f":"+IF(Lists!CK880=\"\",\"\",Lists!CK880)","v":""},{"$f":"+IF(Lists!CL880=\"\",\"\",Lists!CL880)","v":""}]
[null,{"$f":"+IF(Lists!CK881=\"\",\"\",Lists!CK881)","v":""},{"$f":"+IF(Lists!CL881=\"\",\"\",Lists!CL881)","v":""}]
[null,{"$f":"+IF(Lists!CK882=\"\",\"\",Lists!CK882)","v":""},{"$f":"+IF(Lists!CL882=\"\",\"\",Lists!CL882)","v":""}]
[null,{"$f":"+IF(Lists!CK883=\"\",\"\",Lists!CK883)","v":""},{"$f":"+IF(Lists!CL883=\"\",\"\",Lists!CL883)","v":""}]
[null,{"$f":"+IF(Lists!CK884=\"\",\"\",Lists!CK884)","v":""},{"$f":"+IF(Lists!CL884=\"\",\"\",Lists!CL884)","v":""}]
[null,{"$f":"+IF(Lists!CK885=\"\",\"\",Lists!CK885)","v":""},{"$f":"+IF(Lists!CL885=\"\",\"\",Lists!CL885)","v":""}]
[null,{"$f":"+IF(Lists!CK886=\"\",\"\",Lists!CK886)","v":""},{"$f":"+IF(Lists!CL886=\"\",\"\",Lists!CL886)","v":""}]
[null,{"$f":"+IF(Lists!CK887=\"\",\"\",Lists!CK887)","v":""},{"$f":"+IF(Lists!CL887=\"\",\"\",Lists!CL887)","v":""}]
[null,{"$f":"+IF(Lists!CK888=\"\",\"\",Lists!CK888)","v":""},{"$f":"+IF(Lists!CL888=\"\",\"\",Lists!CL888)","v":""}]
[null,{"$f":"+IF(Lists!CK889=\"\",\"\",Lists!CK889)","v":""},{"$f":"+IF(Lists!CL889=\"\",\"\",Lists!CL889)","v":""}]
[null,{"$f":"+IF(Lists!CK890=\"\",\"\",Lists!CK890)","v":""},{"$f":"+IF(Lists!CL890=\"\",\"\",Lists!CL890)","v":""}]
[null,{"$f":"+IF(Lists!CK891=\"\",\"\",Lists!CK891)","v":""},{"$f":"+IF(Lists!CL891=\"\",\"\",Lists!CL891)","v":""}]
[null,{"$f":"+IF(Lists!CK892=\"\",\"\",Lists!CK892)","v":""},{"$f":"+IF(Lists!CL892=\"\",\"\",Lists!CL892)","v":""}]
[null,{"$f":"+IF(Lists!CK893=\"\",\"\",Lists!CK893)","v":""},{"$f":"+IF(Lists!CL893=\"\",\"\",Lists!CL893)","v":""}]
[null,{"$f":"+IF(Lists!CK894=\"\",\"\",Lists!CK894)","v":""},{"$f":"+IF(Lists!CL894=\"\",\"\",Lists!CL894)","v":""}]
[null,{"$f":"+IF(Lists!CK895=\"\",\"\",Lists!CK895)","v":""},{"$f":"+IF(Lists!CL895=\"\",\"\",Lists!CL895)","v":""}]
[null,{"$f":"+IF(Lists!CK896=\"\",\"\",Lists!CK896)","v":""},{"$f":"+IF(Lists!CL896=\"\",\"\",Lists!CL896)","v":""}]
[null,{"$f":"+IF(Lists!CK897=\"\",\"\",Lists!CK897)","v":""},{"$f":"+IF(Lists!CL897=\"\",\"\",Lists!CL897)","v":""}]
[null,{"$f":"+IF(Lists!CK898=\"\",\"\",Lists!CK898)","v":""},{"$f":"+IF(Lists!CL898=\"\",\"\",Lists!CL898)","v":""}]
[null,{"$f":"+IF(Lists!CK899=\"\",\"\",Lists!CK899)","v":""},{"$f":"+IF(Lists!CL899=\"\",\"\",Lists!CL899)","v":""}]
[null,{"$f":"+IF(Lists!CK900=\"\",\"\",Lists!CK900)","v":""},{"$f":"+IF(Lists!CL900=\"\",\"\",Lists!CL900)","v":""}]
[null,{"$f":"+IF(Lists!CK901=\"\",\"\",Lists!CK901)","v":""},{"$f":"+IF(Lists!CL901=\"\",\"\",Lists!CL901)","v":""}]
[null,{"$f":"+IF(Lists!CK902=\"\",\"\",Lists!CK902)","v":""},{"$f":"+IF(Lists!CL902=\"\",\"\",Lists!CL902)","v":""}]
[null,{"$f":"+IF(Lists!CK903=\"\",\"\",Lists!CK903)","v":""},{"$f":"+IF(Lists!CL903=\"\",\"\",Lists!CL903)","v":""}]
[null,{"$f":"+IF(Lists!CK904=\"\",\"\",Lists!CK904)","v":""},{"$f":"+IF(Lists!CL904=\"\",\"\",Lists!CL904)","v":""}]
[null,{"$f":"+IF(Lists!CK905=\"\",\"\",Lists!CK905)","v":""},{"$f":"+IF(Lists!CL905=\"\",\"\",Lists!CL905)","v":""}]
[null,{"$f":"+IF(Lists!CK906=\"\",\"\",Lists!CK906)","v":""},{"$f":"+IF(Lists!CL906=\"\",\"\",Lists!CL906)","v":""}]
[null,{"$f":"+IF(Lists!CK907=\"\",\"\",Lists!CK907)","v":""},{"$f":"+IF(Lists!CL907=\"\",\"\",Lists!CL907)","v":""}]
[null,{"$f":"+IF(Lists!CK908=\"\",\"\",Lists!CK908)","v":""},{"$f":"+IF(Lists!CL908=\"\",\"\",Lists!CL908)","v":""}]
[null,{"$f":"+IF(Lists!CK909=\"\",\"\",Lists!CK909)","v":""},{"$f":"+IF(Lists!CL909=\"\",\"\",Lists!CL909)","v":""}]
[null,{"$f":"+IF(Lists!CK910=\"\",\"\",Lists!CK910)","v":""},{"$f":"+IF(Lists!CL910=\"\",\"\",Lists!CL910)","v":""}]
[null,{"$f":"+IF(Lists!CK911=\"\",\"\",Lists!CK911)","v":""},{"$f":"+IF(Lists!CL911=\"\",\"\",Lists!CL911)","v":""}]
[null,{"$f":"+IF(Lists!CK912=\"\",\"\",Lists!CK912)","v":""},{"$f":"+IF(Lists!CL912=\"\",\"\",Lists!CL912)","v":""}]
[null,{"$f":"+IF(Lists!CK913=\"\",\"\",Lists!CK913)","v":""},{"$f":"+IF(Lists!CL913=\"\",\"\",Lists!CL913)","v":""}]
[null,{"$f":"+IF(Lists!CK914=\"\",\"\",Lists!CK914)","v":""},{"$f":"+IF(Lists!CL914=\"\",\"\",Lists!CL914)","v":""}]
[null,{"$f":"+IF(Lists!CK915=\"\",\"\",Lists!CK915)","v":""},{"$f":"+IF(Lists!CL915=\"\",\"\",Lists!CL915)","v":""}]
[null,{"$f":"+IF(Lists!CK916=\"\",\"\",Lists!CK916)","v":""},{"$f":"+IF(Lists!CL916=\"\",\"\",Lists!CL916)","v":""}]
[null,{"$f":"+IF(Lists!CK917=\"\",\"\",Lists!CK917)","v":""},{"$f":"+IF(Lists!CL917=\"\",\"\",Lists!CL917)","v":""}]
[null,{"$f":"+IF(Lists!CK918=\"\",\"\",Lists!CK918)","v":""},{"$f":"+IF(Lists!CL918=\"\",\"\",Lists!CL918)","v":""}]
[null,{"$f":"+IF(Lists!CK919=\"\",\"\",Lists!CK919)","v":""},{"$f":"+IF(Lists!CL919=\"\",\"\",Lists!CL919)","v":""}]
[null,{"$f":"+IF(Lists!CK920=\"\",\"\",Lists!CK920)","v":""},{"$f":"+IF(Lists!CL920=\"\",\"\",Lists!CL920)","v":""}]
[null,{"$f":"+IF(Lists!CK921=\"\",\"\",Lists!CK921)","v":""},{"$f":"+IF(Lists!CL921=\"\",\"\",Lists!CL921)","v":""}]
[null,{"$f":"+IF(Lists!CK922=\"\",\"\",Lists!CK922)","v":""},{"$f":"+IF(Lists!CL922=\"\",\"\",Lists!CL922)","v":""}]
[null,{"$f":"+IF(Lists!CK923=\"\",\"\",Lists!CK923)","v":""},{"$f":"+IF(Lists!CL923=\"\",\"\",Lists!CL923)","v":""}]
[null,{"$f":"+IF(Lists!CK924=\"\",\"\",Lists!CK924)","v":""},{"$f":"+IF(Lists!CL924=\"\",\"\",Lists!CL924)","v":""}]
[null,{"$f":"+IF(Lists!CK925=\"\",\"\",Lists!CK925)","v":""},{"$f":"+IF(Lists!CL925=\"\",\"\",Lists!CL925)","v":""}]
[null,{"$f":"+IF(Lists!CK926=\"\",\"\",Lists!CK926)","v":""},{"$f":"+IF(Lists!CL926=\"\",\"\",Lists!CL926)","v":""}]
[null,{"$f":"+IF(Lists!CK927=\"\",\"\",Lists!CK927)","v":""},{"$f":"+IF(Lists!CL927=\"\",\"\",Lists!CL927)","v":""}]
[null,{"$f":"+IF(Lists!CK928=\"\",\"\",Lists!CK928)","v":""},{"$f":"+IF(Lists!CL928=\"\",\"\",Lists!CL928)","v":""}]
[null,{"$f":"+IF(Lists!CK929=\"\",\"\",Lists!CK929)","v":""},{"$f":"+IF(Lists!CL929=\"\",\"\",Lists!CL929)","v":""}]
[null,{"$f":"+IF(Lists!CK930=\"\",\"\",Lists!CK930)","v":""},{"$f":"+IF(Lists!CL930=\"\",\"\",Lists!CL930)","v":""}]
[null,{"$f":"+IF(Lists!CK931=\"\",\"\",Lists!CK931)","v":""},{"$f":"+IF(Lists!CL931=\"\",\"\",Lists!CL931)","v":""}]
[null,{"$f":"+IF(Lists!CK932=\"\",\"\",Lists!CK932)","v":""},{"$f":"+IF(Lists!CL932=\"\",\"\",Lists!CL932)","v":""}]
[null,{"$f":"+IF(Lists!CK933=\"\",\"\",Lists!CK933)","v":""},{"$f":"+IF(Lists!CL933=\"\",\"\",Lists!CL933)","v":""}]
[null,{"$f":"+IF(Lists!CK934=\"\",\"\",Lists!CK934)","v":""},{"$f":"+IF(Lists!CL934=\"\",\"\",Lists!CL934)","v":""}]
[null,{"$f":"+IF(Lists!CK935=\"\",\"\",Lists!CK935)","v":""},{"$f":"+IF(Lists!CL935=\"\",\"\",Lists!CL935)","v":""}]
[null,{"$f":"+IF(Lists!CK936=\"\",\"\",Lists!CK936)","v":""},{"$f":"+IF(Lists!CL936=\"\",\"\",Lists!CL936)","v":""}]
[null,{"$f":"+IF(Lists!CK937=\"\",\"\",Lists!CK937)","v":""},{"$f":"+IF(Lists!CL937=\"\",\"\",Lists!CL937)","v":""}]
[null,{"$f":"+IF(Lists!CK938=\"\",\"\",Lists!CK938)","v":""},{"$f":"+IF(Lists!CL938=\"\",\"\",Lists!CL938)","v":""}]
[null,{"$f":"+IF(Lists!CK939=\"\",\"\",Lists!CK939)","v":""},{"$f":"+IF(Lists!CL939=\"\",\"\",Lists!CL939)","v":""}]
[null,{"$f":"+IF(Lists!CK940=\"\",\"\",Lists!CK940)","v":""},{"$f":"+IF(Lists!CL940=\"\",\"\",Lists!CL940)","v":""}]
[null,{"$f":"+IF(Lists!CK941=\"\",\"\",Lists!CK941)","v":""},{"$f":"+IF(Lists!CL941=\"\",\"\",Lists!CL941)","v":""}]
[null,{"$f":"+IF(Lists!CK942=\"\",\"\",Lists!CK942)","v":""},{"$f":"+IF(Lists!CL942=\"\",\"\",Lists!CL942)","v":""}]
[null,{"$f":"+IF(Lists!CK943=\"\",\"\",Lists!CK943)","v":""},{"$f":"+IF(Lists!CL943=\"\",\"\",Lists!CL943)","v":""}]
[null,{"$f":"+IF(Lists!CK944=\"\",\"\",Lists!CK944)","v":""},{"$f":"+IF(Lists!CL944=\"\",\"\",Lists!CL944)","v":""}]
[null,{"$f":"+IF(Lists!CK945=\"\",\"\",Lists!CK945)","v":""},{"$f":"+IF(Lists!CL945=\"\",\"\",Lists!CL945)","v":""}]
[null,{"$f":"+IF(Lists!CK946=\"\",\"\",Lists!CK946)","v":""},{"$f":"+IF(Lists!CL946=\"\",\"\",Lists!CL946)","v":""}]
[null,{"$f":"+IF(Lists!CK947=\"\",\"\",Lists!CK947)","v":""},{"$f":"+IF(Lists!CL947=\"\",\"\",Lists!CL947)","v":""}]
[null,{"$f":"+IF(Lists!CK948=\"\",\"\",Lists!CK948)","v":""},{"$f":"+IF(Lists!CL948=\"\",\"\",Lists!CL948)","v":""}]
[null,{"$f":"+IF(Lists!CK949=\"\",\"\",Lists!CK949)","v":""},{"$f":"+IF(Lists!CL949=\"\",\"\",Lists!CL949)","v":""}]
[null,{"$f":"+IF(Lists!CK950=\"\",\"\",Lists!CK950)","v":""},{"$f":"+IF(Lists!CL950=\"\",\"\",Lists!CL950)","v":""}]
[null,{"$f":"+IF(Lists!CK951=\"\",\"\",Lists!CK951)","v":""},{"$f":"+IF(Lists!CL951=\"\",\"\",Lists!CL951)","v":""}]
[null,{"$f":"+IF(Lists!CK952=\"\",\"\",Lists!CK952)","v":""},{"$f":"+IF(Lists!CL952=\"\",\"\",Lists!CL952)","v":""}]
[null,{"$f":"+IF(Lists!CK953=\"\",\"\",Lists!CK953)","v":""},{"$f":"+IF(Lists!CL953=\"\",\"\",Lists!CL953)","v":""}]
[null,{"$f":"+IF(Lists!CK954=\"\",\"\",Lists!CK954)","v":""},{"$f":"+IF(Lists!CL954=\"\",\"\",Lists!CL954)","v":""}]
[null,{"$f":"+IF(Lists!CK955=\"\",\"\",Lists!CK955)","v":""},{"$f":"+IF(Lists!CL955=\"\",\"\",Lists!CL955)","v":""}]
[null,{"$f":"+IF(Lists!CK956=\"\",\"\",Lists!CK956)","v":""},{"$f":"+IF(Lists!CL956=\"\",\"\",Lists!CL956)","v":""}]
[null,{"$f":"+IF(Lists!CK957=\"\",\"\",Lists!CK957)","v":""},{"$f":"+IF(Lists!CL957=\"\",\"\",Lists!CL957)","v":""}]
[null,{"$f":"+IF(Lists!CK958=\"\",\"\",Lists!CK958)","v":""},{"$f":"+IF(Lists!CL958=\"\",\"\",Lists!CL958)","v":""}]
[null,{"$f":"+IF(Lists!CK959=\"\",\"\",Lists!CK959)","v":""},{"$f":"+IF(Lists!CL959=\"\",\"\",Lists!CL959)","v":""}]
[null,{"$f":"+IF(Lists!CK960=\"\",\"\",Lists!CK960)","v":""},{"$f":"+IF(Lists!CL960=\"\",\"\",Lists!CL960)","v":""}]
[null,{"$f":"+IF(Lists!CK961=\"\",\"\",Lists!CK961)","v":""},{"$f":"+IF(Lists!CL961=\"\",\"\",Lists!CL961)","v":""}]
[null,{"$f":"+IF(Lists!CK962=\"\",\"\",Lists!CK962)","v":""},{"$f":"+IF(Lists!CL962=\"\",\"\",Lists!CL962)","v":""}]
[null,{"$f":"+IF(Lists!CK963=\"\",\"\",Lists!CK963)","v":""},{"$f":"+IF(Lists!CL963=\"\",\"\",Lists!CL963)","v":""}]
[null,{"$f":"+IF(Lists!CK964=\"\",\"\",Lists!CK964)","v":""},{"$f":"+IF(Lists!CL964=\"\",\"\",Lists!CL964)","v":""}]
[null,{"$f":"+IF(Lists!CK965=\"\",\"\",Lists!CK965)","v":""},{"$f":"+IF(Lists!CL965=\"\",\"\",Lists!CL965)","v":""}]
[null,{"$f":"+IF(Lists!CK966=\"\",\"\",Lists!CK966)","v":""},{"$f":"+IF(Lists!CL966=\"\",\"\",Lists!CL966)","v":""}]
[null,{"$f":"+IF(Lists!CK967=\"\",\"\",Lists!CK967)","v":""},{"$f":"+IF(Lists!CL967=\"\",\"\",Lists!CL967)","v":""}]
[null,{"$f":"+IF(Lists!CK968=\"\",\"\",Lists!CK968)","v":""},{"$f":"+IF(Lists!CL968=\"\",\"\",Lists!CL968)","v":""}]
[null,{"$f":"+IF(Lists!CK969=\"\",\"\",Lists!CK969)","v":""},{"$f":"+IF(Lists!CL969=\"\",\"\",Lists!CL969)","v":""}]
[null,{"$f":"+IF(Lists!CK970=\"\",\"\",Lists!CK970)","v":""},{"$f":"+IF(Lists!CL970=\"\",\"\",Lists!CL970)","v":""}]
[null,{"$f":"+IF(Lists!CK971=\"\",\"\",Lists!CK971)","v":""},{"$f":"+IF(Lists!CL971=\"\",\"\",Lists!CL971)","v":""}]
[null,{"$f":"+IF(Lists!CK972=\"\",\"\",Lists!CK972)","v":""},{"$f":"+IF(Lists!CL972=\"\",\"\",Lists!CL972)","v":""}]
[null,{"$f":"+IF(Lists!CK973=\"\",\"\",Lists!CK973)","v":""},{"$f":"+IF(Lists!CL973=\"\",\"\",Lists!CL973)","v":""}]
[null,{"$f":"+IF(Lists!CK974=\"\",\"\",Lists!CK974)","v":""},{"$f":"+IF(Lists!CL974=\"\",\"\",Lists!CL974)","v":""}]
[null,{"$f":"+IF(Lists!CK975=\"\",\"\",Lists!CK975)","v":""},{"$f":"+IF(Lists!CL975=\"\",\"\",Lists!CL975)","v":""}]
[null,{"$f":"+IF(Lists!CK976=\"\",\"\",Lists!CK976)","v":""},{"$f":"+IF(Lists!CL976=\"\",\"\",Lists!CL976)","v":""}]
[null,{"$f":"+IF(Lists!CK977=\"\",\"\",Lists!CK977)","v":""},{"$f":"+IF(Lists!CL977=\"\",\"\",Lists!CL977)","v":""}]
[null,{"$f":"+IF(Lists!CK978=\"\",\"\",Lists!CK978)","v":""},{"$f":"+IF(Lists!CL978=\"\",\"\",Lists!CL978)","v":""}]
[null,{"$f":"+IF(Lists!CK979=\"\",\"\",Lists!CK979)","v":""},{"$f":"+IF(Lists!CL979=\"\",\"\",Lists!CL979)","v":""}]
[null,{"$f":"+IF(Lists!CK980=\"\",\"\",Lists!CK980)","v":""},{"$f":"+IF(Lists!CL980=\"\",\"\",Lists!CL980)","v":""}]
[null,{"$f":"+IF(Lists!CK981=\"\",\"\",Lists!CK981)","v":""},{"$f":"+IF(Lists!CL981=\"\",\"\",Lists!CL981)","v":""}]
[null,{"$f":"+IF(Lists!CK982=\"\",\"\",Lists!CK982)","v":""},{"$f":"+IF(Lists!CL982=\"\",\"\",Lists!CL982)","v":""}]
[null,{"$f":"+IF(Lists!CK983=\"\",\"\",Lists!CK983)","v":""},{"$f":"+IF(Lists!CL983=\"\",\"\",Lists!CL983)","v":""}]
[null,{"$f":"+IF(Lists!CK984=\"\",\"\",Lists!CK984)","v":""},{"$f":"+IF(Lists!CL984=\"\",\"\",Lists!CL984)","v":""}]
[null,{"$f":"+IF(Lists!CK985=\"\",\"\",Lists!CK985)","v":""},{"$f":"+IF(Lists!CL985=\"\",\"\",Lists!CL985)","v":""}]
[null,{"$f":"+IF(Lists!CK986=\"\",\"\",Lists!CK986)","v":""},{"$f":"+IF(Lists!CL986=\"\",\"\",Lists!CL986)","v":""}]
[null,{"$f":"+IF(Lists!CK987=\"\",\"\",Lists!CK987)","v":""},{"$f":"+IF(Lists!CL987=\"\",\"\",Lists!CL987)","v":""}]
[null,{"$f":"+IF(Lists!CK988=\"\",\"\",Lists!CK988)","v":""},{"$f":"+IF(Lists!CL988=\"\",\"\",Lists!CL988)","v":""}]
[null,{"$f":"+IF(Lists!CK989=\"\",\"\",Lists!CK989)","v":""},{"$f":"+IF(Lists!CL989=\"\",\"\",Lists!CL989)","v":""}]
[null,{"$f":"+IF(Lists!CK990=\"\",\"\",Lists!CK990)","v":""},{"$f":"+IF(Lists!CL990=\"\",\"\",Lists!CL990)","v":""}]
[null,{"$f":"+IF(Lists!CK991=\"\",\"\",Lists!CK991)","v":""},{"$f":"+IF(Lists!CL991=\"\",\"\",Lists!CL991)","v":""}]
[null,{"$f":"+IF(Lists!CK992=\"\",\"\",Lists!CK992)","v":""},{"$f":"+IF(Lists!CL992=\"\",\"\",Lists!CL992)","v":""}]
[null,{"$f":"+IF(Lists!CK993=\"\",\"\",Lists!CK993)","v":""},{"$f":"+IF(Lists!CL993=\"\",\"\",Lists!CL993)","v":""}]
[null,{"$f":"+IF(Lists!CK994=\"\",\"\",Lists!CK994)","v":""},{"$f":"+IF(Lists!CL994=\"\",\"\",Lists!CL994)","v":""}]
[null,{"$f":"+IF(Lists!CK995=\"\",\"\",Lists!CK995)","v":""},{"$f":"+IF(Lists!CL995=\"\",\"\",Lists!CL995)","v":""}]
[null,{"$f":"+IF(Lists!CK996=\"\",\"\",Lists!CK996)","v":""},{"$f":"+IF(Lists!CL996=\"\",\"\",Lists!CL996)","v":""}]
[null,{"$f":"+IF(Lists!CK997=\"\",\"\",Lists!CK997)","v":""},{"$f":"+IF(Lists!CL997=\"\",\"\",Lists!CL997)","v":""}]
[null,{"$f":"+IF(Lists!CK998=\"\",\"\",Lists!CK998)","v":""},{"$f":"+IF(Lists!CL998=\"\",\"\",Lists!CL998)","v":""}]
[null,{"$f":"+IF(Lists!CK999=\"\",\"\",Lists!CK999)","v":""},{"$f":"+IF(Lists!CL999=\"\",\"\",Lists!CL999)","v":""}]
[null,{"$f":"+IF(Lists!CK1000=\"\",\"\",Lists!CK1000)","v":""},{"$f":"+IF(Lists!CL1000=\"\",\"\",Lists!CL1000)","v":""}]
[null,{"$f":"+IF(Lists!CK1001=\"\",\"\",Lists!CK1001)","v":""},{"$f":"+IF(Lists!CL1001=\"\",\"\",Lists!CL1001)","v":""}]
[null,{"$f":"+IF(Lists!CK1002=\"\",\"\",Lists!CK1002)","v":""},{"$f":"+IF(Lists!CL1002=\"\",\"\",Lists!CL1002)","v":""}]

{"sheet":"Compliance Rpt - Deviations","index":14,"n_rows":100,"n_cols":13,"rows_kept":100}
[null,"DO NOT REMOVE OR EDIT INFORMATION IN THIS SECTION\nFOR INTERNAL USE ONLY"]
[null,"Template Name",{"$f":"Welcome!B2","v":"63.6016(k) Notification of Compliance and  §63.6017(g) Semiannual Compliance Report (Spreadsheet Template)"}]
[null,"CitationID",{"$f":"Welcome!B3","v":"63.6016(k) and 63.6017(g)"}]
[null,"Template Version",{"$f":"Welcome!B4","v":"Final ICR Draft"}]
[null,"Last Updated Date",{"$f":"Welcome!B5","v":"2024-08-28"}]
[null,{"$f":"Welcome!B6","v":"OMB Control Number: 2060-0449 Form 5900-659"}]
[null,"40 CFR Part 63, Subpart XXXX National Emission Standards for Hazardous Air Pollutants: Rubber Tire Manufacturing -"]
[null,"\n"]
[]
[null,"Note: Start by using dropdown in Column E to select affected source. Columns B through D will be autofilled based on responses provided in the Compliance_Options worksheet."]
[null,"63.6017(g) Semiannual Compliance Report - Deviations from an emission limitation (emission limit or operating limit)"]
[null,"Company Record No.\n(Autofilled)","Name of Rubber Tire Manufacturing Affected Source\n(§63.9(h))\n(Autofilled)","Rubber Tire Manufacturing Subcategory\n(Autofilled)","Company Record No., Name of Rubber Tire Manufacturing Affected Source, and Subcategory\n(§63.9(h))\n(Select from dropdown)","Cement or solvent that deviated from the emission limit \n(§63.6017(d))","Date of each deviation\n(§63.6017(d)(1))","Time of each deviation\n(§63.6017(d)(1))","Duration (hours) of each deviation \n(§63.6017(d)(1))","Estimate of the Quantity Emitted Over Emission Limit\n(§63.6017(d)(2))","Description of the Method Used to Estimate the Emissions.\n(§63.6017(d)(2))","Cause of deviation\n(§63.6017(d)(2))","Corrective Action(s) Taken\n(§63.6017(d)(3))"]
[null,"RecordId","OperationName","Subcategory","RecordSourceSubcategory","CoatingName","UseStartDate","UseStartTime","UseDuration","EmissionsQuantity","EstimationMethod","DeviationCause","CorrectiveAction"]
[null,"e.g.: 1","e.g.: CuringPress1","e.g.: Tire Production","e.g.: 1 CuringPress1 Tire Production","e.g.: solventx","e.g.: 2/1/2017","e.g.: 13:05","e.g.: 36.25","e.g.: 2.5","e.g.: Mass balance","e.g.: leak","e.g.: Ordered new materials"]
[null,"e.g.:","e.g.:","e.g.:","e.g.:","e.g.:","e.g.:","e.g.:","e.g.:","e.g.:","e.g.:","e.g.:","e.g.:"]
[null,"e.g.:","e.g.:","e.g.:","e.g.:","e.g.:","e.g.:","e.g.:","e.g.:","e.g.:","e.g.:","e.g.:","e.g.:"]
[null,"e.g.:","e.g.:","e.g.:","e.g.:","e.g.:","e.g.:","e.g.:","e.g.:","e.g.:","e.g.:","e.g.:","e.g.:"]
[null,"e.g.:","e.g.:","e.g.:","e.g.:","e.g.:","e.g.:","e.g.:","e.g.:","e.g.:","e.g.:","e.g.:","e.g.:"]
[null,"e.g.:","e.g.:","e.g.:","e.g.:","e.g.:","e.g.:","e.g.:","e.g.:","e.g.:","e.g.:","e.g.:","e.g.:"]
[null,"e.g.:","e.g.:","e.g.:","e.g.:","e.g.:","e.g.:","e.g.:","e.g.:","e.g.:","e.g.:","e.g.:","e.g.:"]
[null,"e.g.:","e.g.:","e.g.:","e.g.:","e.g.:","e.g.:","e.g.:","e.g.:","e.g.:","e.g.:","e.g.:","e.g.:"]
[null,"e.g.:","e.g.:","e.g.:","e.g.:","e.g.:","e.g.:","e.g.:","e.g.:","e.g.:","e.g.:","e.g.:","e.g.:"]
[null,"e.g.:","e.g.:","e.g.:","e.g.:","e.g.:","e.g.:","e.g.:","e.g.:","e.g.:","e.g.:","e.g.:","e.g.:"]
[null,{"$f":"IF($E24=\"\",\"\",VLOOKUP($E24,Lists!$CW$2:$CZ$478,COLUMN(),FALSE))","v":""},{"$f":"IF($E24=\"\",\"\",VLOOKUP($E24,Lists!$CW$2:$CZ$478,COLUMN(),FALSE))","v":""},{"$f":"IF($E24=\"\",\"\",VLOOKUP($E24,Lists!$CW$2:$CZ$478,COLUMN(),FALSE))","v":""}]
[null,{"$f":"IF($E25=\"\",\"\",VLOOKUP($E25,Lists!$CW$2:$CZ$478,COLUMN(),FALSE))","v":""},{"$f":"IF($E25=\"\",\"\",VLOOKUP($E25,Lists!$CW$2:$CZ$478,COLUMN(),FALSE))","v":""},{"$f":"IF($E25=\"\",\"\",VLOOKUP($E25,Lists!$CW$2:$CZ$478,COLUMN(),FALSE))","v":""}]
[null,{"$f":"IF($E26=\"\",\"\",VLOOKUP($E26,Lists!$CW$2:$CZ$478,COLUMN(),FALSE))","v":""},{"$f":"IF($E26=\"\",\"\",VLOOKUP($E26,Lists!$CW$2:$CZ$478,COLUMN(),FALSE))","v":""},{"$f":"IF($E26=\"\",\"\",VLOOKUP($E26,Lists!$CW$2:$CZ$478,COLUMN(),FALSE))","v":""}]
[null,{"$f":"IF($E27=\"\",\"\",VLOOKUP($E27,Lists!$CW$2:$CZ$478,COLUMN(),FALSE))","v":""},{"$f":"IF($E27=\"\",\"\",VLOOKUP($E27,Lists!$CW$2:$CZ$478,COLUMN(),FALSE))","v":""},{"$f":"IF($E27=\"\",\"\",VLOOKUP($E27,Lists!$CW$2:$CZ$478,COLUMN(),FALSE))","v":""}]
[null,{"$f":"IF($E28=\"\",\"\",VLOOKUP($E28,Lists!$CW$2:$CZ$478,COLUMN(),FALSE))","v":""},{"$f":"IF($E28=\"\",\"\",VLOOKUP($E28,Lists!$CW$2:$CZ$478,COLUMN(),FALSE))","v":""},{"$f":"IF($E28=\"\",\"\",VLOOKUP($E28,Lists!$CW$2:$CZ$478,COLUMN(),FALSE))","v":""}]
[null,{"$f":"IF($E29=\"\",\"\",VLOOKUP($E29,Lists!$CW$2:$CZ$478,COLUMN(),FALSE))","v":""},{"$f":"IF($E29=\"\",\"\",VLOOKUP($E29,Lists!$CW$2:$CZ$478,COLUMN(),FALSE))","v":""},{"$f":"IF($E29=\"\",\"\",VLOOKUP($E29,Lists!$CW$2:$CZ$478,COLUMN(),FALSE))","v":""}]
[null,{"$f":"IF($E30=\"\",\"\",VLOOKUP($E30,Lists!$CW$2:$CZ$478,COLUMN(),FALSE))","v":""},{"$f":"IF($E30=\"\",\"\",VLOOKUP($E30,Lists!$CW$2:$CZ$478,COLUMN(),FALSE))","v":""},{"$f":"IF($E30=\"\",\"\",VLOOKUP($E30,Lists!$CW$2:$CZ$478,COLUMN(),FALSE))","v":""}]
[null,{"$f":"IF($E31=\"\",\"\",VLOOKUP($E31,Lists!$CW$2:$CZ$478,COLUMN(),FALSE))","v":""},{"$f":"IF($E31=\"\",\"\",VLOOKUP($E31,Lists!$CW$2:$CZ$478,COLUMN(),FALSE))","v":""},{"$f":"IF($E31=\"\",\"\",VLOOKUP($E31,Lists!$CW$2:$CZ$478,COLUMN(),FALSE))","v":""}]
[null,{"$f":"IF($E32=\"\",\"\",VLOOKUP($E32,Lists!$CW$2:$CZ$478,COLUMN(),FALSE))","v":""},{"$f":"IF($E32=\"\",\"\",VLOOKUP($E32,Lists!$CW$2:$CZ$478,COLUMN(),FALSE))","v":""},{"$f":"IF($E32=\"\",\"\",VLOOKUP($E32,Lists!$CW$2:$CZ$478,COLUMN(),FALSE))","v":""}]
[null,{"$f":"IF($E33=\"\",\"\",VLOOKUP($E33,Lists!$CW$2:$CZ$478,COLUMN(),FALSE))","v":""},{"$f":"IF($E33=\"\",\"\",VLOOKUP($E33,Lists!$CW$2:$CZ$478,COLUMN(),FALSE))","v":""},{"$f":"IF($E33=\"\",\"\",VLOOKUP($E33,Lists!$CW$2:$CZ$478,COLUMN(),FALSE))","v":""}]
[null,{"$f":"IF($E34=\"\",\"\",VLOOKUP($E34,Lists!$CW$2:$CZ$478,COLUMN(),FALSE))","v":""},{"$f":"IF($E34=\"\",\"\",VLOOKUP($E34,Lists!$CW$2:$CZ$478,COLUMN(),FALSE))","v":""},{"$f":"IF($E34=\"\",\"\",VLOOKUP($E34,Lists!$CW$2:$CZ$478,COLUMN(),FALSE))","v":""}]
[null,{"$f":"IF($E35=\"\",\"\",VLOOKUP($E35,Lists!$CW$2:$CZ$478,COLUMN(),FALSE))","v":""},{"$f":"IF($E35=\"\",\"\",VLOOKUP($E35,Lists!$CW$2:$CZ$478,COLUMN(),FALSE))","v":""},{"$f":"IF($E35=\"\",\"\",VLOOKUP($E35,Lists!$CW$2:$CZ$478,COLUMN(),FALSE))","v":""}]
[null,{"$f":"IF($E36=\"\",\"\",VLOOKUP($E36,Lists!$CW$2:$CZ$478,COLUMN(),FALSE))","v":""},{"$f":"IF($E36=\"\",\"\",VLOOKUP($E36,Lists!$CW$2:$CZ$478,COLUMN(),FALSE))","v":""},{"$f":"IF($E36=\"\",\"\",VLOOKUP($E36,Lists!$CW$2:$CZ$478,COLUMN(),FALSE))","v":""}]
[null,{"$f":"IF($E37=\"\",\"\",VLOOKUP($E37,Lists!$CW$2:$CZ$478,COLUMN(),FALSE))","v":""},{"$f":"IF($E37=\"\",\"\",VLOOKUP($E37,Lists!$CW$2:$CZ$478,COLUMN(),FALSE))","v":""},{"$f":"IF($E37=\"\",\"\",VLOOKUP($E37,Lists!$CW$2:$CZ$478,COLUMN(),FALSE))","v":""}]
[null,{"$f":"IF($E38=\"\",\"\",VLOOKUP($E38,Lists!$CW$2:$CZ$478,COLUMN(),FALSE))","v":""},{"$f":"IF($E38=\"\",\"\",VLOOKUP($E38,Lists!$CW$2:$CZ$478,COLUMN(),FALSE))","v":""},{"$f":"IF($E38=\"\",\"\",VLOOKUP($E38,Lists!$CW$2:$CZ$478,COLUMN(),FALSE))","v":""}]
[null,{"$f":"IF($E39=\"\",\"\",VLOOKUP($E39,Lists!$CW$2:$CZ$478,COLUMN(),FALSE))","v":""},{"$f":"IF($E39=\"\",\"\",VLOOKUP($E39,Lists!$CW$2:$CZ$478,COLUMN(),FALSE))","v":""},{"$f":"IF($E39=\"\",\"\",VLOOKUP($E39,Lists!$CW$2:$CZ$478,COLUMN(),FALSE))","v":""}]
[null,{"$f":"IF($E40=\"\",\"\",VLOOKUP($E40,Lists!$CW$2:$CZ$478,COLUMN(),FALSE))","v":""},{"$f":"IF($E40=\"\",\"\",VLOOKUP($E40,Lists!$CW$2:$CZ$478,COLUMN(),FALSE))","v":""},{"$f":"IF($E40=\"\",\"\",VLOOKUP($E40,Lists!$CW$2:$CZ$478,COLUMN(),FALSE))","v":""}]
[null,{"$f":"IF($E41=\"\",\"\",VLOOKUP($E41,Lists!$CW$2:$CZ$478,COLUMN(),FALSE))","v":""},{"$f":"IF($E41=\"\",\"\",VLOOKUP($E41,Lists!$CW$2:$CZ$478,COLUMN(),FALSE))","v":""},{"$f":"IF($E41=\"\",\"\",VLOOKUP($E41,Lists!$CW$2:$CZ$478,COLUMN(),FALSE))","v":""}]
[null,{"$f":"IF($E42=\"\",\"\",VLOOKUP($E42,Lists!$CW$2:$CZ$478,COLUMN(),FALSE))","v":""},{"$f":"IF($E42=\"\",\"\",VLOOKUP($E42,Lists!$CW$2:$CZ$478,COLUMN(),FALSE))","v":""},{"$f":"IF($E42=\"\",\"\",VLOOKUP($E42,Lists!$CW$2:$CZ$478,COLUMN(),FALSE))","v":""}]
[null,{"$f":"IF($E43=\"\",\"\",VLOOKUP($E43,Lists!$CW$2:$CZ$478,COLUMN(),FALSE))","v":""},{"$f":"IF($E43=\"\",\"\",VLOOKUP($E43,Lists!$CW$2:$CZ$478,COLUMN(),FALSE))","v":""},{"$f":"IF($E43=\"\",\"\",VLOOKUP($E43,Lists!$CW$2:$CZ$478,COLUMN(),FALSE))","v":""}]
[null,{"$f":"IF($E44=\"\",\"\",VLOOKUP($E44,Lists!$CW$2:$CZ$478,COLUMN(),FALSE))","v":""},{"$f":"IF($E44=\"\",\"\",VLOOKUP($E44,Lists!$CW$2:$CZ$478,COLUMN(),FALSE))","v":""},{"$f":"IF($E44=\"\",\"\",VLOOKUP($E44,Lists!$CW$2:$CZ$478,COLUMN(),FALSE))","v":""}]
[null,{"$f":"IF($E45=\"\",\"\",VLOOKUP($E45,Lists!$CW$2:$CZ$478,COLUMN(),FALSE))","v":""},{"$f":"IF($E45=\"\",\"\",VLOOKUP($E45,Lists!$CW$2:$CZ$478,COLUMN(),FALSE))","v":""},{"$f":"IF($E45=\"\",\"\",VLOOKUP($E45,Lists!$CW$2:$CZ$478,COLUMN(),FALSE))","v":""}]
[null,{"$f":"IF($E46=\"\",\"\",VLOOKUP($E46,Lists!$CW$2:$CZ$478,COLUMN(),FALSE))","v":""},{"$f":"IF($E46=\"\",\"\",VLOOKUP($E46,Lists!$CW$2:$CZ$478,COLUMN(),FALSE))","v":""},{"$f":"IF($E46=\"\",\"\",VLOOKUP($E46,Lists!$CW$2:$CZ$478,COLUMN(),FALSE))","v":""}]
[null,{"$f":"IF($E47=\"\",\"\",VLOOKUP($E47,Lists!$CW$2:$CZ$478,COLUMN(),FALSE))","v":""},{"$f":"IF($E47=\"\",\"\",VLOOKUP($E47,Lists!$CW$2:$CZ$478,COLUMN(),FALSE))","v":""},{"$f":"IF($E47=\"\",\"\",VLOOKUP($E47,Lists!$CW$2:$CZ$478,COLUMN(),FALSE))","v":""}]
[null,{"$f":"IF($E48=\"\",\"\",VLOOKUP($E48,Lists!$CW$2:$CZ$478,COLUMN(),FALSE))","v":""},{"$f":"IF($E48=\"\",\"\",VLOOKUP($E48,Lists!$CW$2:$CZ$478,COLUMN(),FALSE))","v":""},{"$f":"IF($E48=\"\",\"\",VLOOKUP($E48,Lists!$CW$2:$CZ$478,COLUMN(),FALSE))","v":""}]
[null,{"$f":"IF($E49=\"\",\"\",VLOOKUP($E49,Lists!$CW$2:$CZ$478,COLUMN(),FALSE))","v":""},{"$f":"IF($E49=\"\",\"\",VLOOKUP($E49,Lists!$CW$2:$CZ$478,COLUMN(),FALSE))","v":""},{"$f":"IF($E49=\"\",\"\",VLOOKUP($E49,Lists!$CW$2:$CZ$478,COLUMN(),FALSE))","v":""}]
[null,{"$f":"IF($E50=\"\",\"\",VLOOKUP($E50,Lists!$CW$2:$CZ$478,COLUMN(),FALSE))","v":""},{"$f":"IF($E50=\"\",\"\",VLOOKUP($E50,Lists!$CW$2:$CZ$478,COLUMN(),FALSE))","v":""},{"$f":"IF($E50=\"\",\"\",VLOOKUP($E50,Lists!$CW$2:$CZ$478,COLUMN(),FALSE))","v":""}]
[null,{"$f":"IF($E51=\"\",\"\",VLOOKUP($E51,Lists!$CW$2:$CZ$478,COLUMN(),FALSE))","v":""},{"$f":"IF($E51=\"\",\"\",VLOOKUP($E51,Lists!$CW$2:$CZ$478,COLUMN(),FALSE))","v":""},{"$f":"IF($E51=\"\",\"\",VLOOKUP($E51,Lists!$CW$2:$CZ$478,COLUMN(),FALSE))","v":""}]
[null,{"$f":"IF($E52=\"\",\"\",VLOOKUP($E52,Lists!$CW$2:$CZ$478,COLUMN(),FALSE))","v":""},{"$f":"IF($E52=\"\",\"\",VLOOKUP($E52,Lists!$CW$2:$CZ$478,COLUMN(),FALSE))","v":""},{"$f":"IF($E52=\"\",\"\",VLOOKUP($E52,Lists!$CW$2:$CZ$478,COLUMN(),FALSE))","v":""}]
[null,{"$f":"IF($E53=\"\",\"\",VLOOKUP($E53,Lists!$CW$2:$CZ$478,COLUMN(),FALSE))","v":""},{"$f":"IF($E53=\"\",\"\",VLOOKUP($E53,Lists!$CW$2:$CZ$478,COLUMN(),FALSE))","v":""},{"$f":"IF($E53=\"\",\"\",VLOOKUP($E53,Lists!$CW$2:$CZ$478,COLUMN(),FALSE))","v":""}]
[null,{"$f":"IF($E54=\"\",\"\",VLOOKUP($E54,Lists!$CW$2:$CZ$478,COLUMN(),FALSE))","v":""},{"$f":"IF($E54=\"\",\"\",VLOOKUP($E54,Lists!$CW$2:$CZ$478,COLUMN(),FALSE))","v":""},{"$f":"IF($E54=\"\",\"\",VLOOKUP($E54,Lists!$CW$2:$CZ$478,COLUMN(),FALSE))","v":""}]
[null,{"$f":"IF($E55=\"\",\"\",VLOOKUP($E55,Lists!$CW$2:$CZ$478,COLUMN(),FALSE))","v":""},{"$f":"IF($E55=\"\",\"\",VLOOKUP($E55,Lists!$CW$2:$CZ$478,COLUMN(),FALSE))","v":""},{"$f":"IF($E55=\"\",\"\",VLOOKUP($E55,Lists!$CW$2:$CZ$478,COLUMN(),FALSE))","v":""}]
[null,{"$f":"IF($E56=\"\",\"\",VLOOKUP($E56,Lists!$CW$2:$CZ$478,COLUMN(),FALSE))","v":""},{"$f":"IF($E56=\"\",\"\",VLOOKUP($E56,Lists!$CW$2:$CZ$478,COLUMN(),FALSE))","v":""},{"$f":"IF($E56=\"\",\"\",VLOOKUP($E56,Lists!$CW$2:$CZ$478,COLUMN(),FALSE))","v":""}]
[null,{"$f":"IF($E57=\"\",\"\",VLOOKUP($E57,Lists!$CW$2:$CZ$478,COLUMN(),FALSE))","v":""},{"$f":"IF($E57=\"\",\"\",VLOOKUP($E57,Lists!$CW$2:$CZ$478,COLUMN(),FALSE))","v":""},{"$f":"IF($E57=\"\",\"\",VLOOKUP($E57,Lists!$CW$2:$CZ$478,COLUMN(),FALSE))","v":""}]
[null,{"$f":"IF($E58=\"\",\"\",VLOOKUP($E58,Lists!$CW$2:$CZ$478,COLUMN(),FALSE))","v":""},{"$f":"IF($E58=\"\",\"\",VLOOKUP($E58,Lists!$CW$2:$CZ$478,COLUMN(),FALSE))","v":""},{"$f":"IF($E58=\"\",\"\",VLOOKUP($E58,Lists!$CW$2:$CZ$478,COLUMN(),FALSE))","v":""}]
[null,{"$f":"IF($E59=\"\",\"\",VLOOKUP($E59,Lists!$CW$2:$CZ$478,COLUMN(),FALSE))","v":""},{"$f":"IF($E59=\"\",\"\",VLOOKUP($E59,Lists!$CW$2:$CZ$478,COLUMN(),FALSE))","v":""},{"$f":"IF($E59=\"\",\"\",VLOOKUP($E59,Lists!$CW$2:$CZ$478,COLUMN(),FALSE))","v":""}]
[null,{"$f":"IF($E60=\"\",\"\",VLOOKUP($E60,Lists!$CW$2:$CZ$478,COLUMN(),FALSE))","v":""},{"$f":"IF($E60=\"\",\"\",VLOOKUP($E60,Lists!$CW$2:$CZ$478,COLUMN(),FALSE))","v":""},{"$f":"IF($E60=\"\",\"\",VLOOKUP($E60,Lists!$CW$2:$CZ$478,COLUMN(),FALSE))","v":""}]
[null,{"$f":"IF($E61=\"\",\"\",VLOOKUP($E61,Lists!$CW$2:$CZ$478,COLUMN(),FALSE))","v":""},{"$f":"IF($E61=\"\",\"\",VLOOKUP($E61,Lists!$CW$2:$CZ$478,COLUMN(),FALSE))","v":""},{"$f":"IF($E61=\"\",\"\",VLOOKUP($E61,Lists!$CW$2:$CZ$478,COLUMN(),FALSE))","v":""}]
[null,{"$f":"IF($E62=\"\",\"\",VLOOKUP($E62,Lists!$CW$2:$CZ$478,COLUMN(),FALSE))","v":""},{"$f":"IF($E62=\"\",\"\",VLOOKUP($E62,Lists!$CW$2:$CZ$478,COLUMN(),FALSE))","v":""},{"$f":"IF($E62=\"\",\"\",VLOOKUP($E62,Lists!$CW$2:$CZ$478,COLUMN(),FALSE))","v":""}]
[null,{"$f":"IF($E63=\"\",\"\",VLOOKUP($E63,Lists!$CW$2:$CZ$478,COLUMN(),FALSE))","v":""},{"$f":"IF($E63=\"\",\"\",VLOOKUP($E63,Lists!$CW$2:$CZ$478,COLUMN(),FALSE))","v":""},{"$f":"IF($E63=\"\",\"\",VLOOKUP($E63,Lists!$CW$2:$CZ$478,COLUMN(),FALSE))","v":""}]
[null,{"$f":"IF($E64=\"\",\"\",VLOOKUP($E64,Lists!$CW$2:$CZ$478,COLUMN(),FALSE))","v":""},{"$f":"IF($E64=\"\",\"\",VLOOKUP($E64,Lists!$CW$2:$CZ$478,COLUMN(),FALSE))","v":""},{"$f":"IF($E64=\"\",\"\",VLOOKUP($E64,Lists!$CW$2:$CZ$478,COLUMN(),FALSE))","v":""}]
[null,{"$f":"IF($E65=\"\",\"\",VLOOKUP($E65,Lists!$CW$2:$CZ$478,COLUMN(),FALSE))","v":""},{"$f":"IF($E65=\"\",\"\",VLOOKUP($E65,Lists!$CW$2:$CZ$478,COLUMN(),FALSE))","v":""},{"$f":"IF($E65=\"\",\"\",VLOOKUP($E65,Lists!$CW$2:$CZ$478,COLUMN(),FALSE))","v":""}]
[null,{"$f":"IF($E66=\"\",\"\",VLOOKUP($E66,Lists!$CW$2:$CZ$478,COLUMN(),FALSE))","v":""},{"$f":"IF($E66=\"\",\"\",VLOOKUP($E66,Lists!$CW$2:$CZ$478,COLUMN(),FALSE))","v":""},{"$f":"IF($E66=\"\",\"\",VLOOKUP($E66,Lists!$CW$2:$CZ$478,COLUMN(),FALSE))","v":""}]
[null,{"$f":"IF($E67=\"\",\"\",VLOOKUP($E67,Lists!$CW$2:$CZ$478,COLUMN(),FALSE))","v":""},{"$f":"IF($E67=\"\",\"\",VLOOKUP($E67,Lists!$CW$2:$CZ$478,COLUMN(),FALSE))","v":""},{"$f":"IF($E67=\"\",\"\",VLOOKUP($E67,Lists!$CW$2:$CZ$478,COLUMN(),FALSE))","v":""}]
[null,{"$f":"IF($E68=\"\",\"\",VLOOKUP($E68,Lists!$CW$2:$CZ$478,COLUMN(),FALSE))","v":""},{"$f":"IF($E68=\"\",\"\",VLOOKUP($E68,Lists!$CW$2:$CZ$478,COLUMN(),FALSE))","v":""},{"$f":"IF($E68=\"\",\"\",VLOOKUP($E68,Lists!$CW$2:$CZ$478,COLUMN(),FALSE))","v":""}]
[null,{"$f":"IF($E69=\"\",\"\",VLOOKUP($E69,Lists!$CW$2:$CZ$478,COLUMN(),FALSE))","v":""},{"$f":"IF($E69=\"\",\"\",VLOOKUP($E69,Lists!$CW$2:$CZ$478,COLUMN(),FALSE))","v":""},{"$f":"IF($E69=\"\",\"\",VLOOKUP($E69,Lists!$CW$2:$CZ$478,COLUMN(),FALSE))","v":""}]
[null,{"$f":"IF($E70=\"\",\"\",VLOOKUP($E70,Lists!$CW$2:$CZ$478,COLUMN(),FALSE))","v":""},{"$f":"IF($E70=\"\",\"\",VLOOKUP($E70,Lists!$CW$2:$CZ$478,COLUMN(),FALSE))","v":""},{"$f":"IF($E70=\"\",\"\",VLOOKUP($E70,Lists!$CW$2:$CZ$478,COLUMN(),FALSE))","v":""}]
[null,{"$f":"IF($E71=\"\",\"\",VLOOKUP($E71,Lists!$CW$2:$CZ$478,COLUMN(),FALSE))","v":""},{"$f":"IF($E71=\"\",\"\",VLOOKUP($E71,Lists!$CW$2:$CZ$478,COLUMN(),FALSE))","v":""},{"$f":"IF($E71=\"\",\"\",VLOOKUP($E71,Lists!$CW$2:$CZ$478,COLUMN(),FALSE))","v":""}]
[null,{"$f":"IF($E72=\"\",\"\",VLOOKUP($E72,Lists!$CW$2:$CZ$478,COLUMN(),FALSE))","v":""},{"$f":"IF($E72=\"\",\"\",VLOOKUP($E72,Lists!$CW$2:$CZ$478,COLUMN(),FALSE))","v":""},{"$f":"IF($E72=\"\",\"\",VLOOKUP($E72,Lists!$CW$2:$CZ$478,COLUMN(),FALSE))","v":""}]
[null,{"$f":"IF($E73=\"\",\"\",VLOOKUP($E73,Lists!$CW$2:$CZ$478,COLUMN(),FALSE))","v":""},{"$f":"IF($E73=\"\",\"\",VLOOKUP($E73,Lists!$CW$2:$CZ$478,COLUMN(),FALSE))","v":""},{"$f":"IF($E73=\"\",\"\",VLOOKUP($E73,Lists!$CW$2:$CZ$478,COLUMN(),FALSE))","v":""}]
[null,{"$f":"IF($E74=\"\",\"\",VLOOKUP($E74,Lists!$CW$2:$CZ$478,COLUMN(),FALSE))","v":""},{"$f":"IF($E74=\"\",\"\",VLOOKUP($E74,Lists!$CW$2:$CZ$478,COLUMN(),FALSE))","v":""},{"$f":"IF($E74=\"\",\"\",VLOOKUP($E74,Lists!$CW$2:$CZ$478,COLUMN(),FALSE))","v":""}]
[null,{"$f":"IF($E75=\"\",\"\",VLOOKUP($E75,Lists!$CW$2:$CZ$478,COLUMN(),FALSE))","v":""},{"$f":"IF($E75=\"\",\"\",VLOOKUP($E75,Lists!$CW$2:$CZ$478,COLUMN(),FALSE))","v":""},{"$f":"IF($E75=\"\",\"\",VLOOKUP($E75,Lists!$CW$2:$CZ$478,COLUMN(),FALSE))","v":""}]
[null,{"$f":"IF($E76=\"\",\"\",VLOOKUP($E76,Lists!$CW$2:$CZ$478,COLUMN(),FALSE))","v":""},{"$f":"IF($E76=\"\",\"\",VLOOKUP($E76,Lists!$CW$2:$CZ$478,COLUMN(),FALSE))","v":""},{"$f":"IF($E76=\"\",\"\",VLOOKUP($E76,Lists!$CW$2:$CZ$478,COLUMN(),FALSE))","v":""}]
[null,{"$f":"IF($E77=\"\",\"\",VLOOKUP($E77,Lists!$CW$2:$CZ$478,COLUMN(),FALSE))","v":""},{"$f":"IF($E77=\"\",\"\",VLOOKUP($E77,Lists!$CW$2:$CZ$478,COLUMN(),FALSE))","v":""},{"$f":"IF($E77=\"\",\"\",VLOOKUP($E77,Lists!$CW$2:$CZ$478,COLUMN(),FALSE))","v":""}]
[null,{"$f":"IF($E78=\"\",\"\",VLOOKUP($E78,Lists!$CW$2:$CZ$478,COLUMN(),FALSE))","v":""},{"$f":"IF($E78=\"\",\"\",VLOOKUP($E78,Lists!$CW$2:$CZ$478,COLUMN(),FALSE))","v":""},{"$f":"IF($E78=\"\",\"\",VLOOKUP($E78,Lists!$CW$2:$CZ$478,COLUMN(),FALSE))","v":""}]
[null,{"$f":"IF($E79=\"\",\"\",VLOOKUP($E79,Lists!$CW$2:$CZ$478,COLUMN(),FALSE))","v":""},{"$f":"IF($E79=\"\",\"\",VLOOKUP($E79,Lists!$CW$2:$CZ$478,COLUMN(),FALSE))","v":""},{"$f":"IF($E79=\"\",\"\",VLOOKUP($E79,Lists!$CW$2:$CZ$478,COLUMN(),FALSE))","v":""}]
[null,{"$f":"IF($E80=\"\",\"\",VLOOKUP($E80,Lists!$CW$2:$CZ$478,COLUMN(),FALSE))","v":""},{"$f":"IF($E80=\"\",\"\",VLOOKUP($E80,Lists!$CW$2:$CZ$478,COLUMN(),FALSE))","v":""},{"$f":"IF($E80=\"\",\"\",VLOOKUP($E80,Lists!$CW$2:$CZ$478,COLUMN(),FALSE))","v":""}]
[null,{"$f":"IF($E81=\"\",\"\",VLOOKUP($E81,Lists!$CW$2:$CZ$478,COLUMN(),FALSE))","v":""},{"$f":"IF($E81=\"\",\"\",VLOOKUP($E81,Lists!$CW$2:$CZ$478,COLUMN(),FALSE))","v":""},{"$f":"IF($E81=\"\",\"\",VLOOKUP($E81,Lists!$CW$2:$CZ$478,COLUMN(),FALSE))","v":""}]
[null,{"$f":"IF($E82=\"\",\"\",VLOOKUP($E82,Lists!$CW$2:$CZ$478,COLUMN(),FALSE))","v":""},{"$f":"IF($E82=\"\",\"\",VLOOKUP($E82,Lists!$CW$2:$CZ$478,COLUMN(),FALSE))","v":""},{"$f":"IF($E82=\"\",\"\",VLOOKUP($E82,Lists!$CW$2:$CZ$478,COLUMN(),FALSE))","v":""}]
[null,{"$f":"IF($E83=\"\",\"\",VLOOKUP($E83,Lists!$CW$2:$CZ$478,COLUMN(),FALSE))","v":""},{"$f":"IF($E83=\"\",\"\",VLOOKUP($E83,Lists!$CW$2:$CZ$478,COLUMN(),FALSE))","v":""},{"$f":"IF($E83=\"\",\"\",VLOOKUP($E83,Lists!$CW$2:$CZ$478,COLUMN(),FALSE))","v":""}]
[null,{"$f":"IF($E84=\"\",\"\",VLOOKUP($E84,Lists!$CW$2:$CZ$478,COLUMN(),FALSE))","v":""},{"$f":"IF($E84=\"\",\"\",VLOOKUP($E84,Lists!$CW$2:$CZ$478,COLUMN(),FALSE))","v":""},{"$f":"IF($E84=\"\",\"\",VLOOKUP($E84,Lists!$CW$2:$CZ$478,COLUMN(),FALSE))","v":""}]
[null,{"$f":"IF($E85=\"\",\"\",VLOOKUP($E85,Lists!$CW$2:$CZ$478,COLUMN(),FALSE))","v":""},{"$f":"IF($E85=\"\",\"\",VLOOKUP($E85,Lists!$CW$2:$CZ$478,COLUMN(),FALSE))","v":""},{"$f":"IF($E85=\"\",\"\",VLOOKUP($E85,Lists!$CW$2:$CZ$478,COLUMN(),FALSE))","v":""}]
[null,{"$f":"IF($E86=\"\",\"\",VLOOKUP($E86,Lists!$CW$2:$CZ$478,COLUMN(),FALSE))","v":""},{"$f":"IF($E86=\"\",\"\",VLOOKUP($E86,Lists!$CW$2:$CZ$478,COLUMN(),FALSE))","v":""},{"$f":"IF($E86=\"\",\"\",VLOOKUP($E86,Lists!$CW$2:$CZ$478,COLUMN(),FALSE))","v":""}]
[null,{"$f":"IF($E87=\"\",\"\",VLOOKUP($E87,Lists!$CW$2:$CZ$478,COLUMN(),FALSE))","v":""},{"$f":"IF($E87=\"\",\"\",VLOOKUP($E87,Lists!$CW$2:$CZ$478,COLUMN(),FALSE))","v":""},{"$f":"IF($E87=\"\",\"\",VLOOKUP($E87,Lists!$CW$2:$CZ$478,COLUMN(),FALSE))","v":""}]
[null,{"$f":"IF($E88=\"\",\"\",VLOOKUP($E88,Lists!$CW$2:$CZ$478,COLUMN(),FALSE))","v":""},{"$f":"IF($E88=\"\",\"\",VLOOKUP($E88,Lists!$CW$2:$CZ$478,COLUMN(),FALSE))","v":""},{"$f":"IF($E88=\"\",\"\",VLOOKUP($E88,Lists!$CW$2:$CZ$478,COLUMN(),FALSE))","v":""}]
[null,{"$f":"IF($E89=\"\",\"\",VLOOKUP($E89,Lists!$CW$2:$CZ$478,COLUMN(),FALSE))","v":""},{"$f":"IF($E89=\"\",\"\",VLOOKUP($E89,Lists!$CW$2:$CZ$478,COLUMN(),FALSE))","v":""},{"$f":"IF($E89=\"\",\"\",VLOOKUP($E89,Lists!$CW$2:$CZ$478,COLUMN(),FALSE))","v":""}]
[null,{"$f":"IF($E90=\"\",\"\",VLOOKUP($E90,Lists!$CW$2:$CZ$478,COLUMN(),FALSE))","v":""},{"$f":"IF($E90=\"\",\"\",VLOOKUP($E90,Lists!$CW$2:$CZ$478,COLUMN(),FALSE))","v":""},{"$f":"IF($E90=\"\",\"\",VLOOKUP($E90,Lists!$CW$2:$CZ$478,COLUMN(),FALSE))","v":""}]
[null,{"$f":"IF($E91=\"\",\"\",VLOOKUP($E91,Lists!$CW$2:$CZ$478,COLUMN(),FALSE))","v":""},{"$f":"IF($E91=\"\",\"\",VLOOKUP($E91,Lists!$CW$2:$CZ$478,COLUMN(),FALSE))","v":""},{"$f":"IF($E91=\"\",\"\",VLOOKUP($E91,Lists!$CW$2:$CZ$478,COLUMN(),FALSE))","v":""}]
[null,{"$f":"IF($E92=\"\",\"\",VLOOKUP($E92,Lists!$CW$2:$CZ$478,COLUMN(),FALSE))","v":""},{"$f":"IF($E92=\"\",\"\",VLOOKUP($E92,Lists!$CW$2:$CZ$478,COLUMN(),FALSE))","v":""},{"$f":"IF($E92=\"\",\"\",VLOOKUP($E92,Lists!$CW$2:$CZ$478,COLUMN(),FALSE))","v":""}]
[null,{"$f":"IF($E93=\"\",\"\",VLOOKUP($E93,Lists!$CW$2:$CZ$478,COLUMN(),FALSE))","v":""},{"$f":"IF($E93=\"\",\"\",VLOOKUP($E93,Lists!$CW$2:$CZ$478,COLUMN(),FALSE))","v":""},{"$f":"IF($E93=\"\",\"\",VLOOKUP($E93,Lists!$CW$2:$CZ$478,COLUMN(),FALSE))","v":""}]
[null,{"$f":"IF($E94=\"\",\"\",VLOOKUP($E94,Lists!$CW$2:$CZ$478,COLUMN(),FALSE))","v":""},{"$f":"IF($E94=\"\",\"\",VLOOKUP($E94,Lists!$CW$2:$CZ$478,COLUMN(),FALSE))","v":""},{"$f":"IF($E94=\"\",\"\",VLOOKUP($E94,Lists!$CW$2:$CZ$478,COLUMN(),FALSE))","v":""}]
[null,{"$f":"IF($E95=\"\",\"\",VLOOKUP($E95,Lists!$CW$2:$CZ$478,COLUMN(),FALSE))","v":""},{"$f":"IF($E95=\"\",\"\",VLOOKUP($E95,Lists!$CW$2:$CZ$478,COLUMN(),FALSE))","v":""},{"$f":"IF($E95=\"\",\"\",VLOOKUP($E95,Lists!$CW$2:$CZ$478,COLUMN(),FALSE))","v":""}]
[null,{"$f":"IF($E96=\"\",\"\",VLOOKUP($E96,Lists!$CW$2:$CZ$478,COLUMN(),FALSE))","v":""},{"$f":"IF($E96=\"\",\"\",VLOOKUP($E96,Lists!$CW$2:$CZ$478,COLUMN(),FALSE))","v":""},{"$f":"IF($E96=\"\",\"\",VLOOKUP($E96,Lists!$CW$2:$CZ$478,COLUMN(),FALSE))","v":""}]
[null,{"$f":"IF($E97=\"\",\"\",VLOOKUP($E97,Lists!$CW$2:$CZ$478,COLUMN(),FALSE))","v":""},{"$f":"IF($E97=\"\",\"\",VLOOKUP($E97,Lists!$CW$2:$CZ$478,COLUMN(),FALSE))","v":""},{"$f":"IF($E97=\"\",\"\",VLOOKUP($E97,Lists!$CW$2:$CZ$478,COLUMN(),FALSE))","v":""}]
[null,{"$f":"IF($E98=\"\",\"\",VLOOKUP($E98,Lists!$CW$2:$CZ$478,COLUMN(),FALSE))","v":""},{"$f":"IF($E98=\"\",\"\",VLOOKUP($E98,Lists!$CW$2:$CZ$478,COLUMN(),FALSE))","v":""},{"$f":"IF($E98=\"\",\"\",VLOOKUP($E98,Lists!$CW$2:$CZ$478,COLUMN(),FALSE))","v":""}]
[null,{"$f":"IF($E99=\"\",\"\",VLOOKUP($E99,Lists!$CW$2:$CZ$478,COLUMN(),FALSE))","v":""},{"$f":"IF($E99=\"\",\"\",VLOOKUP($E99,Lists!$CW$2:$CZ$478,COLUMN(),FALSE))","v":""},{"$f":"IF($E99=\"\",\"\",VLOOKUP($E99,Lists!$CW$2:$CZ$478,COLUMN(),FALSE))","v":""}]
[null,{"$f":"IF($E100=\"\",\"\",VLOOKUP($E100,Lists!$CW$2:$CZ$478,COLUMN(),FALSE))","v":""},{"$f":"IF($E100=\"\",\"\",VLOOKUP($E100,Lists!$CW$2:$CZ$478,COLUMN(),FALSE))","v":""},{"$f":"IF($E100=\"\",\"\",VLOOKUP($E100,Lists!$CW$2:$CZ$478,COLUMN(),FALSE))","v":""}]

{"sheet":"Compliance Rpt - Certification","index":15,"n_rows":33,"n_cols":5,"rows_kept":33}
[null,"DO NOT REMOVE OR EDIT INFORMATION IN THIS SECTION\nFOR INTERNAL USE ONLY"]
[null,"Template Name",{"$f":"Welcome!B2","v":"63.6016(k) Notification of Compliance and  §63.6017(g) Semiannual Compliance Report (Spreadsheet Template)"}]
[null,"CitationID",{"$f":"Welcome!B3","v":"63.6016(k) and 63.6017(g)"}]
[null,"Template Version",{"$f":"Welcome!B4","v":"Final ICR Draft"}]
[null,"Last Updated Date",{"$f":"Welcome!B5","v":45532}]
[null,{"$f":"Welcome!B6","v":"OMB Control Number: 2060-0449 Form 5900-659"}]
[null,"40 CFR Part 63, Subpart XXXX National Emission Standards for Hazardous Air Pollutants: Rubber Tire Manufacturing - §63.6017(g) Semiannual Compliance Report Spreadsheet Template"]
[null,"Complete this form when you have completed the semiannual compliance report."]
[]
[null,"63.6017(g) Semiannual Compliance Report"]
[]
[null,"Company Record No.\n(Autofilled)","There were no deviations from any emission limitations (emission limit or operating limit) during the reporting period. \n(§63.6017(c)(5))\n(Select from dropdown)","There were no periods during which the operating parameter monitoring systems or CPMS were out-of-control during the reporting period. \n(§63.6017(c)(6))\n(Select from dropdown)","For each tire production affected source complying with the purchase compliance alternative in §63.5985(a),  I certify that each cement and solvent, as purchased, that was used at the affected source during the reporting period met the HAP constituent limits (Option 1) in Table 1 to this subpart.\n(§63.6017(c)(8))\n(Select from dropdown)"]
[null,"RecordId","PeriodDeviationFlag","CPMSAddonComplianceFlag","HAPConstituentFlag"]
[null,"e.g.: 1","e.g.: No","e.g.: Yes","e.g.: Yes"]
[null,"e.g.:","e.g.:","e.g.:","e.g.:"]
[null,"e.g.:","e.g.:","e.g.:","e.g.:"]
[null,"e.g.:","e.g.:","e.g.:","e.g.:"]
[null,"e.g.:","e.g.:","e.g.:","e.g.:"]
[null,"e.g.:","e.g.:","e.g.:","e.g.:"]
[null,"e.g.:","e.g.:","e.g.:","e.g.:"]
[null,"e.g.:","e.g.:","e.g.:","e.g.:"]
[null,"e.g.:","e.g.:","e.g.:","e.g.:"]
[null,"e.g.:","e.g.:","e.g.:","e.g.:"]
[null,{"$f":"IF(Lists!C2=\"\",\"\",Lists!C2)","v":1}]
[null,{"$f":"IF(Lists!C3=\"\",\"\",Lists!C3)","v":""}]
[null,{"$f":"IF(Lists!C4=\"\",\"\",Lists!C4)","v":""}]
[null,{"$f":"IF(Lists!C5=\"\",\"\",Lists!C5)","v":""}]
[null,{"$f":"IF(Lists!C6=\"\",\"\",Lists!C6)","v":""}]
[null,{"$f":"IF(Lists!C7=\"\",\"\",Lists!C7)","v":""}]
[null,{"$f":"IF(Lists!C8=\"\",\"\",Lists!C8)","v":""}]
[null,{"$f":"IF(Lists!C9=\"\",\"\",Lists!C9)","v":""}]
[null,{"$f":"IF(Lists!C10=\"\",\"\",Lists!C10)","v":""}]
[null,{"$f":"IF(Lists!C11=\"\",\"\",Lists!C11)","v":""}]

{"sheet":"Revisions","index":16,"n_rows":7,"n_cols":3,"rows_kept":7}
["40 CFR Part 63, Subpart XXXX National Emission Standards for Hazardous Air Pollutants: Rubber Tire Manufacturing - "]
["§63.6017(g) Semiannual Compliance Report Spreadsheet Template"]
["Revision Number","Date","Revisions"]
[{"v":1,"d":"1.00"},"2020-06-05","Finalized Release Version"]
[1.02,"2020-06-16","Unlocked Column F on NOCS_PunctureSealantApp, Columns F-M on Compliance Rpt - Deviations, and entry cells on Compliance Rpt - Certification tabs"]
[1.03,"2024-04-09","Updated Welcome tab"]
["Final ICR Draft","2024-08-28","Update regulatory citations throughout to reflect revised regulatory text, updated formatting, removed \"*\", added \"e.g.:\" to all blank example rows; Revisions: Header added; Compliance_Options: updated examples, updated dropdown to reflect new compliance options, updated header to reflect Tables 15 and 16; NoticeOfComplianceStatus: updated header to reflect Tables 15 and 16; Add tab Compliance Rpt - metHAP or PM; "]

{"sheet":"Worksheet Map","index":17,"n_rows":15,"n_cols":5,"rows_kept":15,"hidden":true}
["Worksheet Name","Parent","JSON Key","Parent Primary Key","Child Foreign Key"]
["Company_Information",null,"records"]
["Compliance_Options","records","ComplianceOptions","RecordId","RecordId"]
["NoticeOfComplianceStatus","records","NoticeOfComplianceStatus","RecordId","RecordId"]
["NOCS_TireProduction","records","NOCSTireProduction","RecordId","RecordId"]
["NOCS_TireCordProd","records","NOCSTireCordProd","RecordId","RecordId"]
["NOCS_PunctureSealantApp","records","NOCSPunctureSealantApp","RecordId","RecordId"]
["NOCS_Certification","records","NOCSCertification","RecordId","RecordId"]
["Compliance Rpt - Tire Prod","records","Compliance RptTire Prod","RecordId","RecordId"]
["Compliance Rpt - Tire Cord","records","Compliance RptTire Cord","RecordId","RecordId"]
["Compliance Rpt - Puncture Seal","records","Compliance RptPuncture Seal","RecordId","RecordId"]
["Compliance Rpt - metHAP or PM","records","Compliance RptmetHAP or PM","RecordId","RecordId"]
["Compliance Rpt - 15 Day Avgs","records","Compliance Rpt15DayAvgs","RecordId","RecordId"]
["Compliance Rpt - Deviations","records","Compliance RptDeviations","RecordId","RecordId"]
["Compliance Rpt - Certification","records","Compliance RpCertification","RecordId","RecordId"]