{"text_format":"3","workbook":"xlsx","n_sheets":10,"sheets":["Definitions","Risk Values","Critical-Representative Assets","Heavy Rail Assets","Commuter Rail Assets","Light Rail Assets","Bus Assets","Ferry Service Assets","Additional Assets","Risk Summary"],"not_rendered":{"macros":1,"defined_names":1,"comments":8},"read":"whole","date_system":"1900"}

{"sheet":"Definitions","index":0,"n_rows":152,"n_cols":14,"rows_kept":152,"merged":[[0,0,2,14],[3,0,3,14],[4,0,4,14],[5,0,5,2],[5,3,5,14],[6,0,6,2],[6,3,6,14],[7,0,7,2],[7,3,7,14],[8,0,8,2],[8,3,8,14],[9,0,9,2],[9,3,9,14],[10,0,11,2],[10,3,10,14],[11,3,11,4],[11,5,11,6],[11,7,11,8],[11,9,11,10],[11,11,11,12],[11,13,11,14],[12,0,12,2],[12,3,12,14],[13,0,13,2],[13,3,13,14],[14,0,14,2],[14,3,14,14],[15,0,15,2],[15,3,15,14],[16,0,16,14],[17,0,17,2],[17,3,17,14],[18,0,22,2],[18,3,18,7],[18,8,18,14],[19,3,19,7],[19,8,19,14],[20,3,20,7],[20,8,20,14],[21,3,21,7],[21,8,21,14],[22,3,22,7],[22,8,22,14],[23,0,26,2],[23,3,23,7],[23,8,23,14],[24,3,24,7],[24,8,24,14],[25,3,25,7],[25,8,25,14],[26,3,26,7],[26,8,26,14],[27,0,27,2],[27,3,27,7],[27,8,27,14],[28,0,28,14],[29,0,29,14],[30,0,33,2],[30,3,30,6],[30,7,30,14],[31,3,31,6],[31,7,31,14],[32,3,32,6],[32,7,32,14],[33,3,33,6],[33,7,33,14],[34,0,35,2],[34,3,34,6],[34,7,34,14],[35,3,35,6],[35,7,35,14],[36,0,38,2],[36,3,36,6],[36,7,36,14],[37,3,37,6],[37,7,37,14],[38,3,38,6],[38,7,38,14],[39,0,41,2],[39,3,39,6],[39,7,39,14],[40,3,40,6],[40,7,40,14],[41,3,41,6],[41,7,41,14],[42,0,45,2],[42,3,42,6],[42,7,42,14],[43,3,43,6],[43,7,43,14],[44,3,44,6],[44,7,44,14],[45,3,45,6],[45,7,45,14],[46,0,47,2],[46,3,46,6],[46,7,46,14],[47,3,47,6],[47,7,47,14],[48,0,50,2],[48,3,48,6],[48,7,48,14],[49,3,49,6],[49,7,49,14],[50,3,50,6],[50,7,50,14],[51,0,51,14],[52,0,55,2],[52,3,52,6],[52,7,52,14],[53,3,53,6],[53,7,53,14],[54,3,54,6],[54,7,54,14],[55,3,55,6],[55,7,55,14],[56,0,57,2],[56,3,56,6],[56,7,56,14],[57,3,57,6],[57,7,57,14],[58,0,59,2],[58,3,58,6],[58,7,58,14],[59,3,59,6],[59,7,59,14],[60,0,62,2],[60,3,60,6],[60,7,60,14],[61,3,61,6],[61,7,61,14],[62,3,62,6],[62,7,62,14],[63,0,66,2],[63,3,63,6],[63,7,63,14],[64,3,64,6],[64,7,64,14],[65,3,65,6],[65,7,65,14],[66,3,66,6],[66,7,66,14],[67,0,68,2],[67,3,67,6],[67,7,67,14],[68,3,68,6],[68,7,68,14],[69,0,71,2],[69,3,69,6],[69,7,69,14],[70,3,70,6],[70,7,70,14],[71,3,71,6],[71,7,71,14],[72,0,72,14],[73,0,76,2],[73,3,73,6],[73,7,73,14],[74,3,74,6],[74,7,74,14],[75,3,75,6],[75,7,75,14],[76,3,76,6],[76,7,76,14],[77,0,78,2],[77,3,77,6],[77,7,77,14],[78,3,78,6],[78,7,78,14],[79,0,80,2],[79,3,79,6],[79,7,79,14],[80,3,80,6],[80,7,80,14],[81,0,83,2],[81,3,81,6],[81,7,81,14],[82,3,82,6],[82,7,82,14],[83,3,83,6],[83,7,83,14],[84,0,87,2],[84,3,84,6],[84,7,84,14],[85,3,85,6],[85,7,85,14],[86,3,86,6],[86,7,86,14],[87,3,87,6],[87,7,87,14],[88,0,88,2],[88,3,88,6],[88,7,88,14],[89,0,91,2],[89,3,89,6],[89,7,89,14],[90,3,90,6],[90,7,90,14],[91,3,91,6],[91,7,91,14],[92,0,92,14],[93,0,94,2],[93,3,93,6],[93,7,93,14],[94,3,94,6],[94,7,94,14],[95,0,96,2],[95,3,95,6],[95,7,95,14],[96,3,96,6],[96,7,96,14],[97,0,98,2],[97,3,97,6],[97,7,97,14],[98,3,98,6],[98,7,98,14],[99,0,100,2],[99,3,99,6],[99,7,99,14],[100,3,100,6],[100,7,100,14],[101,0,101,14],[102,0,104,2],[102,3,102,6],[102,7,102,14],[103,3,103,6],[103,7,103,14],[104,3,104,6],[104,7,104,14],[105,0,106,2],[105,3,105,6],[105,7,105,14],[106,3,106,6],[106,7,106,14],[107,0,108,2],[107,3,107,6],[107,7,107,14],[108,3,108,6],[108,7,108,14],[109,0,110,2],[109,3,109,6],[109,7,109,14],[110,3,110,6],[110,7,110,14],[111,0,111,2],[111,3,111,6],[111,7,111,14],[112,0,112,14],[113,0,115,14]]}
["WARNING: This document contains Sensitive Security Information that is controlled under 49 CFR 1520. No part of this document may be released to persons without a need to know, as defined in 49 CFR 1520, except with the written permission of the FEMA Administrator, Washington, DC. Unauthorized release may result in civil penalty or other action. For U.S. Government agencies, public release is governed by 5 U.S.C. 522."]
[]
[]
["SENSITIVE SECURITY INFORMATION"]
["General "]
["Guide Book",null,null,"This tool has an accompanying Guide book entitled: \"Risk Assessment, A How-To Guide for Executing a Simplified Enterprise Risk Assessment of a Public Transportation System.\" Please review the guide before using the tool."]
["Threat",null,null,"The indication of potential harm to life, information, operations, the environment and/or property.  A threat may be a natural or human-created occurrence and includes capabilities, intentions, and attack methods of adversaries used to exploit circumstances or occurrences with the intent to cause harm. Threat refers to an individual, entity, action, or occurrence.  For the purpose of calculating security risk, \"threat\" from intentional acts accounts for both the intent and capability of the adversary and is an expression of the likelihood of an incident being attempted by an adversary. For other (non-intentional) hazards, threat is generally estimated as the likelihood that a hazard will manifest. "]
["Vulnerability",null,null,"A physical feature or operational attribute that renders an entity, asset, system, network, or geographic area open to exploitation or susceptible to a given hazard.  A vulnerability may be a characteristic of design, location, security posture, operation, or any combination thereof, that renders an entity, asset, system, network, or geographic area susceptible to disruption, destruction, or exploitation.  In developing a numeric valuation of vulnerability, it may be considered as the likelihood of an attack succeeding (or an incident affecting) a given asset and the extent to which that success or affect would rise."]
["Consequence",null,null,"Effect of an event, incident, or occurrence. Consequence is commonly measured in four ways: human, economic, mission, and psychological, but may also include other factors such as impact on the environment. "]
["Risk",null,null,"DHS defines \"risk\" as the potential for an adverse outcome assessed as a function of hazard/threats, assets and their vulnerabilities, and consequence. PT-RAM is focused more directly on \"security risk,\" defined as risk associated with the security/vulnerability of systems, web sites, information and networks.  In using the results of PT-RAM, the assessed risk might be thought of as the potential for an unwanted outcome based on the threats, vulnerabilities, and consequences associated with an incident, event, or occurrence as applied to an asset.  In numerical terms within this assessment,  the risk value is derived from the assigned values of consequence, vulnerability and threat in a given planning scenario.    "]
["Risk Rating ",null,null,"In a risk assessment, risk is \"scored\" or \"rated\" as a numerical result to a semi-quantitative risk assessment process.  In the PT-RAM, Risk is categorized as Highest, Very High, High, Moderate and Lower, in accordance with a color code:"]
[{"$nulls":3},"Not Assessed",null,"Lower Risk",null,"Moderate Risk",null,"High Risk ",null,"Very High Risk",null,"Highest Risk"]
["Critical Asset",null,null,"A specific person, structure, facility, information, material, or process that is of such extraordinary importance that its incapacitation or destruction would have a very serious, debilitating effect on the ability of the system to function effectively.  This would include contracts, facilities, property, records, funds or resources, personnel, intelligence, technology, or physical infrastructure, or anything useful that contributes to the success of the enterprise. Assets are things of value or properties to which value can be assigned. In some domains, capabilities and activities may be considered assets as well. Assets are critical based upon importance to a mission or function, or continuity of operations."]
["Additional Asset",null,null,"This tool includes a provision for assessment of assets other than the selected representative asset.  For example, a system operator may wish to assess risk for many line stations as opposed to one representative station. This can be done using the Additional Assets feature."]
["Type of System",null,null,"Refers to the general type of transit system being reviewed.  The PT-RAM is designed to support assessment of 5 types of systems:  commuter rail, local mass transit heavy rail such as a subway system, light rail or streetcar systems, bus (both commuter and local), and ferry systems.  Assets which support multiple systems can be  considered collectively (once, with a notation on the Risk Summary Sheet)."]
["Planning Scenario",null,null,"A Planning Scenario is a hypothetical situation comprised of a hazard, an entity impacted by that hazard, and associated conditions.  As used in the PT-RAM, it is the pairing of a specific asset and a specific incident."]
["Security Incidents"]
["Security Incident ",null,null,"An occurrence caused by either human action or natural phenomena, that may cause harm and that may require action.  Security incidents can include major disasters, emergencies, terrorist attacks, terrorist threats, wildland and urban fires, floods, hazardous materials spills, nuclear accidents, aircraft accidents, earthquakes, hurricanes, tornadoes, tropical storms, war-related disasters, public health and medical emergencies, law enforcement encounters and other occurrences requiring a mitigating response. A security incident may be cascading – that is, the consequence of one incident may be the creation of subsequent, linked incidents.  A power outage can cause a train derailment, causing the release of a toxic chemical. For purposes of this assessment, a security incident should be evaluated independently if its consequences are likely to be significant relative to a critical asset. "]
["Type 1 Incidents:  Primary Effect Incidents",null,null,"Armed Assault/Active Shooter",{"$nulls":4},"Attack by 1 or several individuals using simple, easily acquired weapons including vehicles, firearms, pipe bombs, suicide bombs."]
[{"$nulls":3}," VBIED or IED",{"$nulls":4},"An improvised explosive device deployed via automobile with explosive equivalent up to  150lb. of TNT or truck/bus with explosive equivalent of 500lbs. of TNT, or man portable with an explosive equivalent of 40lbs. TNT."]
[{"$nulls":3},"Hijack",{"$nulls":4},"Attack by 1 person (against a wheeled vehicle) or 3 or more persons (against a train) using simple, easily acquired weapons (including charges sufficient to destroy/derail the vehicle) for purposes of seizing control of a vehicle in the prosecution of a further attack. "]
[{"$nulls":3},"Coordinated Complex Attack",{"$nulls":4},"Attack by more than 2 teams of greater than 1 individual using simple weapons, or by more than 1 team plus a planted explosive, occurring at 2 or more points within single system and one hour; system is the ultimate target. "]
[{"$nulls":3},"Cyber Attack",{"$nulls":4},"Attack occurring on or conducted through a computer network that actually or imminently jeopardizes the integrity, confidentiality, or availability of computers, information or communications systems or networks, PCS, DCS, SCADA or Supervisory Systems, or any physical or virtual infrastructure supporting such systems."]
["Type 2 Incidents:  Secondary Effect Incidents",null,null,"Natural Disaster",{"$nulls":4},"A natural event such as a severe storm, flood, wild fire, earth movement, etc.  "]
[{"$nulls":3},"Industrial Disaster ",{"$nulls":4},"An adverse condition or occurrence in an industrial or infrastructure system, that requires coordinated action across multiple entities and/or levels of government to resolve.  For purposes of PT-RAM, consider an accidental or intentional disaster at a major facility adjacent to or in a position to impact the system. Consider chemical spill, toxic release, explosion, train derailment, structure collapse, fire, etc. "]
[{"$nulls":3},"Derailment/Collision",{"$nulls":4},"Occurs when on-track equipment leaves the rail or guide system, or when an impact occurs between railcars, buses, watercraft and/or other vehicles or fixed objects. Derailments and collisions may be intentional or unintentional. In some cases, they may result in the loss/failure of control centers, control equipment or other essential components of infrastructure."]
[{"$nulls":3},"Widespread Power Outage",{"$nulls":4},"Widespread power outage arising from an attack on or failure of power generation, transfer, distribution or management."]
["Type 3 Incidents:  Low Probability - Extreme Consequences Attack",null,null,"Weapon of Mass Destruction ",{"$nulls":4},"An attack employing a weapon of mass destruction, which could include a bio agent, a radiological dispersant device, a chemical weapon or a nuclear device. Please see the guide for additional information.   "]
["Critical/Representative Assets"]
["Commuter Rail Systems"]
["Commuter Rail System Public Area",null,null,"Headquarters Building",{"$nulls":3},"The building housing the executive and administrative offices of the system"]
[{"$nulls":3},"Major Passenger Terminals",{"$nulls":3},"The primary or brand name passenger terminal for the system"]
[{"$nulls":3},"Major Line Stations",{"$nulls":3},"A major station other than the central terminal"]
[{"$nulls":3},"Parking Structures",{"$nulls":3},"A parking structure (not an on-grade lot) usually for passengers"]
["Commuter Rail System Rolling Stock",null,null,"Consist - Type 1",{"$nulls":3},"A lineup or sequence of rail cars, with or without a locomotive, that form a unit"]
[{"$nulls":3},"Consist - Type 2",{"$nulls":3},"Another type of lineup or sequence of rail cars, with or without a locomotive, that form a unit"]
["Commuter Rail System Control",null,null,"Primary Control Center",{"$nulls":3},"The facility from which primary system control is exercised"]
[{"$nulls":3},"Control Towers",{"$nulls":3},"Sub-stations supporting the primary control center"]
[{"$nulls":3},"Cyber Systems",{"$nulls":3},"Logical systems (hardware, software, firmware, etc.) supporting system operation"]
["Commuter Rail System Operations",null,null,"Right of Way (ROW)",{"$nulls":3},"The fixed route carrying the rail or other infrastructure used to manage rolling stock"]
[{"$nulls":3},"Signals & PTC",{"$nulls":3},"Equipment designed to monitor the safe operation of rolling stock and to intervene if necessary, and/or equipment for signaling vehicle operators"]
[{"$nulls":3},"Switches ",{"$nulls":3},"Equipment designed to start, stop or redirect rolling stock"]
["Commuter Rail System ROW Infrastructure",null,null,"Bridges",{"$nulls":3},"Bridges or viaducts carrying right of way"]
[{"$nulls":3},"Elevated Track",{"$nulls":3},"Track raised on conduits - generally not earthen"]
[{"$nulls":3},"Tunnels ",{"$nulls":3},"Bored or cut-and-fill tunnels through which traffic transits"]
[{"$nulls":3},"Choke Points on ROW",{"$nulls":3},"Places where a significant portion of traffic transits a restricted space "]
["Commuter Rail System Safety",null,null,"Fire Suppression",{"$nulls":3},"Systems designed and installed to detect and extinguish fires automatically"]
[{"$nulls":3},"Air Handling",{"$nulls":3},"HVAC, smoke control or other ventilation systems"]
["Commuter Rail System Support",null,null,"Power Generation/Distribution",{"$nulls":3},"Infrastructure providing electric power to system, safety features, and/or control"]
[{"$nulls":3},"Yards",{"$nulls":3},"Places where rolling stock is marshaled or stored"]
[{"$nulls":3},"Maintenance Barns/Facilities",{"$nulls":3},"Places and facilities where rolling stock is maintained or repaired "]
["Heavy Rail (Subway)"]
["Heavy Rail System Public Area",null,null,"Headquarters Building",{"$nulls":3},"See above"]
[{"$nulls":3},"Major Passenger Terminals",{"$nulls":3},"See above"]
[{"$nulls":3},"Major Line Stations",{"$nulls":3},"See above"]
[{"$nulls":3},"Parking Structures",{"$nulls":3},"See above"]
["Heavy Rail System Rolling Stock",null,null,"Consist - Type 1",{"$nulls":3},"See above"]
[{"$nulls":3},"Consist - Type 2",{"$nulls":3},"See above"]
["Heavy Rail System Control",null,null,"Primary Control Center",{"$nulls":3},"See above"]
[{"$nulls":3},"Cyber Systems",{"$nulls":3},"See above"]
["Heavy Rail System Operations",null,null,"Right of Way (ROW)",{"$nulls":3},"See above"]
[{"$nulls":3},"Signals & PTC",{"$nulls":3},"See above"]
[{"$nulls":3},"Switches ",{"$nulls":3},"See above"]
["Heavy Rail System ROW Infrastructure",null,null,"Bridges",{"$nulls":3},"See above"]
[{"$nulls":3},"Elevated Track",{"$nulls":3},"See above"]
[{"$nulls":3},"Tunnels ",{"$nulls":3},"See above"]
[{"$nulls":3},"Choke Points on ROW",{"$nulls":3},"See above"]
["Heavy Rail System Safety",null,null,"Fire Suppression",{"$nulls":3},"See above"]
[{"$nulls":3},"Air Handling",{"$nulls":3},"See above"]
["Heavy Rail System Support",null,null,"Power Generation/Distribution",{"$nulls":3},"See above"]
[{"$nulls":3},"Yards",{"$nulls":3},"See above"]
[{"$nulls":3},"Maintenance Barns/Facilities",{"$nulls":3},"See above"]
["Light Rail/Streetcar"]
["Light Rail System Public Area",null,null,"Headquarters Building",{"$nulls":3},"See above"]
[{"$nulls":3},"Major Passenger Terminals",{"$nulls":3},"See above"]
[{"$nulls":3},"Major Line Stations",{"$nulls":3},"See above"]
[{"$nulls":3},"Parking Structures",{"$nulls":3},"See above"]
["Light Rail System Rolling Stock",null,null,"Consist - Type 1",{"$nulls":3},"See above"]
[{"$nulls":3},"Consist - Type 2",{"$nulls":3},"See above"]
["Light Rail System Control",null,null,"Primary Control Center",{"$nulls":3},"See above"]
[{"$nulls":3},"Cyber Systems",{"$nulls":3},"See above"]
["Light Rail System Operations",null,null,"Right of Way (ROW)",{"$nulls":3},"See above"]
[{"$nulls":3},"Signals & PTC",{"$nulls":3},"See above"]
[{"$nulls":3},"Switches ",{"$nulls":3},"See above"]
["Light Rail System ROW Infrastructure",null,null,"Bridges",{"$nulls":3},"See above"]
[{"$nulls":3},"Elevated Track",{"$nulls":3},"See above"]
[{"$nulls":3},"Tunnels ",{"$nulls":3},"See above"]
[{"$nulls":3},"Choke Points on ROW",{"$nulls":3},"See above"]
["Light Rail System Safety",null,null,"Fire Suppression",{"$nulls":3},"See above"]
["Light Rail System Support",null,null,"Power Generation/Distribution",{"$nulls":3},"See above"]
[{"$nulls":3},"Yards",{"$nulls":3},"See above"]
[{"$nulls":3},"Maintenance Barns/Facilities",{"$nulls":3},"See above"]
["Bus (Intracity Bus, Commuter Bus)"]
["Bus System Public Area",null,null,"Headquarters Building",{"$nulls":3},"See above"]
[{"$nulls":3},"System Owned Bus Station",{"$nulls":3},"The primary or brand name passenger terminal for the system"]
["Bus System Rolling Stock",null,null,"Bus - Type 1",{"$nulls":3},"A widely used type of bus - this may be a large cruiser for example"]
[{"$nulls":3},"Bus - Type 2",{"$nulls":3},"Another type of bus, used differently or structurally different, or both"]
["Bus System Control",null,null,"Dispatch/Control Center",{"$nulls":3},"The facility from which primary system control is exercised"]
[{"$nulls":3},"Cyber Systems",{"$nulls":3},"See above"]
["Bus System Support",null,null,"Fueling Facilities/Depots",{"$nulls":3},"The facility where fuels are delivered, stored and filled to rolling stock"]
[{"$nulls":3},"Maintenance Barns/Facilities",{"$nulls":3},"See above"]
["Ferry Service"]
["Ferry System Public Area",null,null,"Headquarters Building",{"$nulls":3},"See above"]
[{"$nulls":3},"System Owned Ferry Terminals",{"$nulls":3},"The primary or brand name ferry terminal for the system"]
[{"$nulls":3},"Parking Structures",{"$nulls":3},"See above"]
["Ferry System Vessels",null,null,"Ferry Vessel - Type 1",{"$nulls":3},"A merchant vessel used to carry passengers, and sometimes vehicles and cargo, across a body of water"]
[{"$nulls":3},"Ferry Vessel - Type 2",{"$nulls":3},"Another type of merchant vessel used to carry passengers, and sometimes vehicles and cargo, across a body of water"]
["Ferry System Control",null,null,"Primary Control Center",{"$nulls":3},"See above"]
[{"$nulls":3},"Cyber Systems",{"$nulls":3},"See above"]
["Ferry System Operations",null,null,"Aids to Navigation",{"$nulls":3},"Systems designed to assist mariners in avoiding hazards and route finding"]
[{"$nulls":3},"Support Craft",{"$nulls":3},"Watercraft supporting ferry operations such as tug boats, security vessels, etc."]
["Ferry System Support",null,null,"Maintenance Facilities",{"$nulls":3},"Places and facilities where vessels are maintained or repaired "]
["SENSITIVE SECURITY INFORMATION"]
["WARNING: This document contains Sensitive Security Information that is controlled under 49 CFR 1520. No part of this document may be released to persons without a need to know, as defined in 49 CFR 1520, except with the written permission of the FEMA Administrator, Washington, DC. Unauthorized release may result in civil penalty or other action. For U.S. Government agencies, public release is governed by 5 U.S.C. 522. TSGP OMB # 1660-0112"]
[]
[]
["Column1","Column2","Column3","Column1","Column2","Column3"]
[]
[{"$f":"T(A31)","v":"Commuter Rail System Public Area"},null,null,{"$f":"T(D31)","v":"Headquarters Building"}]
[{"$f":"T(A35)","v":"Commuter Rail System Rolling Stock"},null,null,"Major Passenger Terminals"]
[{"$f":"T(A37)","v":"Commuter Rail System Control"},null,null,"Major Line Stations"]
[{"$f":"T(A40)","v":"Commuter Rail System Operations"},null,null,"Parking Structures"]
[{"$f":"T(A43)","v":"Commuter Rail System ROW Infrastructure"},null,null,"Consist - Type 1"]
[{"$f":"T(A47)","v":"Commuter Rail System Safety"},null,null,"Consist - Type 2"]
[{"$f":"T(A49)","v":"Commuter Rail System Support"},null,null,"Primary Control Center"]
[{"$f":"T(A52)","v":"Heavy Rail (Subway)"},null,null,"Control Towers"]
[{"$f":"T(A53)","v":"Heavy Rail System Public Area"},null,null,"Cyber Systems"]
[{"$f":"T(A57)","v":"Heavy Rail System Rolling Stock"},null,null,"Right of Way (ROW)"]
[{"$f":"T(A59)","v":"Heavy Rail System Control"},null,null,"Signals & PTC"]
[{"$f":"T(A61)","v":"Heavy Rail System Operations"},null,null,"Switches "]
[{"$f":"T(A64)","v":"Heavy Rail System ROW Infrastructure"},null,null,"Bridges"]
[{"$f":"T(A68)","v":"Heavy Rail System Safety"},null,null,"Elevated Track"]
[{"$f":"T(A70)","v":"Heavy Rail System Support"},null,null,"Tunnels "]
[{"$f":"T(A73)","v":"Light Rail/Streetcar"},null,null,"Choke Points on ROW"]
[{"$f":"T(A74)","v":"Light Rail System Public Area"},null,null,"Fire Suppression"]
[{"$f":"T(A78)","v":"Light Rail System Rolling Stock"},null,null,"Air Handling"]
[{"$f":"T(A80)","v":"Light Rail System Control"},null,null,"Power Generation/Distribution"]
[{"$f":"T(A82)","v":"Light Rail System Operations"},null,null,"Yards"]
[{"$f":"T(A85)","v":"Light Rail System ROW Infrastructure"},null,null,"Maintenance Barns/Facilities"]
[{"$f":"T(A89)","v":"Light Rail System Safety"},null,null,{"$f":"T(D95)","v":"System Owned Bus Station"}]
[{"$f":"T(A90)","v":"Light Rail System Support"},null,null,{"$f":"T(D96)","v":"Bus - Type 1"}]
[{"$f":"T(A93)","v":"Bus (Intracity Bus, Commuter Bus)"},null,null,{"$f":"T(D97)","v":"Bus - Type 2"}]
[{"$f":"T(A94)","v":"Bus System Public Area"},null,null,{"$f":"T(D98)","v":"Dispatch/Control Center"}]
[{"$f":"T(A96)","v":"Bus System Rolling Stock"},null,null,{"$f":"T(D100)","v":"Fueling Facilities/Depots"}]
[{"$f":"T(A98)","v":"Bus System Control"},null,null,{"$f":"T(D104)","v":"System Owned Ferry Terminals"}]
[{"$f":"T(A100)","v":"Bus System Support"},null,null,{"$f":"T(D106)","v":"Ferry Vessel - Type 1"}]
[{"$f":"T(A102)","v":"Ferry Service"},null,null,{"$f":"T(D107)","v":"Ferry Vessel - Type 2"}]
[{"$f":"T(A103)","v":"Ferry System Public Area"},null,null,{"$f":"T(D110)","v":"Aids to Navigation"}]
[{"$f":"T(A106)","v":"Ferry System Vessels"},null,null,{"$f":"T(D111)","v":"Support Craft"}]
[{"$f":"T(A108)","v":"Ferry System Control"},null,null,{"$f":"T(D112)","v":"Maintenance Facilities"}]
[{"$f":"T(A110)","v":"Ferry System Operations"}]
[{"$f":"T(A112)","v":"Ferry System Support"}]

{"sheet":"Risk Values","index":1,"n_rows":191,"n_cols":7,"rows_kept":191,"merged":[[0,0,2,14],[3,0,3,14],[4,0,4,14],[5,0,11,2],[5,3,11,14],[12,0,14,2],[12,3,14,5],[12,6,14,14],[15,0,24,2],[15,3,16,5],[15,6,16,14],[17,3,19,5],[17,6,19,14],[20,3,24,5],[20,6,24,14],[25,0,37,2],[25,3,28,5],[25,6,28,14],[29,3,32,5],[29,6,32,14],[33,3,37,5],[33,6,37,14],[38,0,38,14],[39,0,39,14],[40,0,43,14],[44,0,47,1],[44,2,47,14],[48,0,51,1],[48,2,51,14],[52,0,55,1],[52,2,55,14],[56,0,59,1],[56,2,59,14],[60,0,64,1],[60,2,64,14],[65,0,68,1],[65,2,68,14],[69,0,69,14],[70,0,70,1],[70,2,71,14],[71,0,71,1],[72,0,72,1],[72,2,73,14],[73,0,73,1],[74,0,74,1],[74,2,75,14],[75,0,75,1],[76,0,76,1],[76,2,77,14],[77,0,77,1],[78,0,78,1],[78,2,79,14],[79,0,79,1],[80,0,80,1],[80,2,81,14],[81,0,81,1],[82,0,82,1],[82,2,83,14],[83,0,83,1],[84,0,84,1],[84,2,85,14],[85,0,85,1],[86,0,86,1],[86,2,87,14],[87,0,87,1],[88,0,88,1],[88,2,89,14],[89,0,89,1],[90,0,90,1],[90,2,91,14],[91,0,91,1],[92,0,92,1],[92,2,93,14],[93,0,93,1],[94,0,94,1],[94,2,95,14],[95,0,95,1],[96,0,96,1],[96,2,97,14],[97,0,97,1],[98,0,98,1],[98,2,99,14],[99,0,99,1],[100,0,100,1],[100,2,101,14],[101,0,101,1],[102,0,102,1],[102,2,103,14],[103,0,103,1],[104,0,104,1],[104,2,105,14],[105,0,105,1],[106,0,107,1],[106,2,108,14],[108,0,108,1],[109,0,110,1],[109,2,111,14],[111,0,111,1],[112,0,113,1],[112,2,114,14],[114,0,114,1],[115,0,116,1],[115,2,117,14],[117,0,117,1],[118,0,119,1],[118,2,120,14],[120,0,120,1],[121,0,122,1],[121,2,123,14],[123,0,123,1],[124,0,124,1],[124,2,125,14],[125,0,125,1],[126,0,126,1],[126,2,127,14],[127,0,127,1],[128,0,128,1],[128,2,129,14],[129,0,129,1],[130,0,130,1],[130,2,131,14],[131,0,131,1],[132,0,132,1],[132,2,133,14],[133,0,133,1],[134,0,134,1],[134,2,135,14],[135,0,135,1],[136,0,136,14],[137,0,137,1],[137,2,139,14],[138,0,139,1],[140,0,140,1],[140,2,142,14],[141,0,142,1],[143,0,143,1],[143,2,145,14],[144,0,145,1],[146,0,146,1],[146,2,148,14],[147,0,148,1],[149,0,149,1],[149,2,152,14],[150,0,152,1],[153,0,153,1],[153,2,154,14],[154,0,154,1],[155,0,155,1],[155,2,158,14],[156,0,158,1],[159,0,159,1],[159,2,162,14],[160,0,162,1],[163,0,163,1],[163,2,166,14],[164,0,166,1],[167,0,167,1],[167,2,170,14],[168,0,170,1],[171,0,171,1],[171,2,174,14],[172,0,174,1],[175,0,175,1],[175,2,176,14],[176,0,176,1],[177,0,177,1],[177,2,178,14],[178,0,178,1],[179,0,179,1],[179,2,180,14],[180,0,180,1],[181,0,181,1],[181,2,182,14],[182,0,182,1],[183,0,183,1],[183,2,184,14],[184,0,184,1],[185,0,185,1],[185,2,186,14],[186,0,186,1],[187,0,187,1],[187,2,188,14],[188,0,188,1],[189,0,189,14],[190,0,192,14]]}
["WARNING: This document contains Sensitive Security Information that is controlled under 49 CFR 1520. No part of this document may be released to persons without a need to know, as defined in 49 CFR 1520, except with the written permission of the FEMA Administrator, Washington, DC. Unauthorized release may result in civil penalty or other action. For U.S. Government agencies, public release is governed by 5 U.S.C. 522."]
[]
[]
["SENSITIVE SECURITY INFORMATION"]
["Elements of Security Risk"]
["Criticality",null,null,"A thing or a capability is critical when it is essential to the operation of a system; is essential to human health and safety; or is essential to the ability to govern, provide essential services, or to provide community and/or national security.  When considering the degree to which a thing or capability is critical, consider the extent to which a system would be disabled, the role of that system in society, the duration of the disruption, work-arounds to include expensive/manpower intensive options, and the extent to which such work-arounds could be employed and deployed.   For example, manpower can substituted for some aspects of system management, but normally only at great cost, significant loss in efficiency, and for a limited duration regardless of cost. "]
[]
[]
[]
[]
[]
[]
["Threat",null,null,"Intent & Capability",null,null,"Threat from intentional acts accounts for both the intent and capability of the adversary and is an expression of the likelihood of an incident being attempted. For other (non-intentional) hazards, threat is estimated as the likelihood that a hazard will manifest. "]
[]
[]
["Vulnerability",null,null,"Exposure",null,null,"Exposure considers two factors.  The first is the extent to which this asset is open to compromise by the incident type.  For example, the Port of Houston is not exposed to blizzards or ice storms, but the Port of New York might be, at least to some degree. The second, which applies to acts of malfeasance, is the extent to which the application of this incident to this asset is reasonable.  For example, a terrorist who has constructed a sophisticated chemical weapon is unlikely to use that weapon in an attack on a transit system's maintenance facility when it could be more easily and effectively deployed against a major terminal or a high occupancy carriage.  "]
[]
[{"$nulls":3},"Protective Measures",null,null,"Protective Measures considers equipment, procedures, etc. that are in place and designed to prevent, protect, detect, respond to and/or recover from the incident type as it impacts this asset. Generally, protective measures are active (as opposed to the basic nature of the asset, considered below) or are developed and maintained capability, such as training personnel to run, hide or fight in response to an active shooter, or developing an effective \"see something, say something\" culture.   "]
[]
[]
[{"$nulls":3},"Robustness/Resilience",null,null,"Robustness and resilience is also a double consideration.  First, it considers the inherent or natural strength of the asset to absorb the incident under assessment without significant damage.  For example, Grand Central Station may be quite robust against many explosive devices, simply owing to the way it is constructed.  A modern tank farm may be quite robust against a single device because tanks are too widely separated for one device to damage multiple tanks.  This is a consideration of the inherent ability of an asset to withstand the incident type with little or no damage even in the absence of human intervention.  Resilience is concerned with both the ability to adjust to the loss at the macro level (moving to electric vehicles for ambulance services in response to loss of gasoline refining capacity) or for rapid implementation of work-arounds pending a fast recovery from the loss."]
[]
[]
[]
[]
["Consequence",null,null,"Human Impact",null,null,"Human impact should be scored in accordance with the sensitivity of the assessing entity to loss of life and/or severe injuries or other human impacts.  A national security entity (Army, Coast Guard) is likely less sensitive to loss of life than a grade school.  \"Severe\" for one could be a significantly higher number for the Army than for a school.  Human impact considers loss of life as the first and most significant consideration, but also considers life-changing injury, permanent displacement, and similar less extreme impacts.  At the national level, losses similar to or beyond 9/11 are extreme, similar to or beyond the Las Vegas attack, severe.  "]
[]
[]
[]
[{"$nulls":3},"Economic Impact",null,null,"Economic impact considers the 1st level loss of assets (a building destroyed) and 2nd level impacts (businesses lost due to the loss of the customers who worked in, or came regularly to the lost building).  Do not consider business merely displaced. Do consider damage to long term viability (i.e. loss of tourism that may not recover), and unambiguous cascade impact.  Consider direct cost to recover and future increased operation costs (such as significantly increased security costs).  "]
[]
[]
[]
[{"$nulls":3},"Psychological Impact",null,null,"Effect of an incident, event, or occurrence on the mental or emotional state of individuals or groups resulting in a change in perception and/or behavior.  In the context of homeland security, psychological consequences are negative and refer to the impact of an incident, event, or occurrence on the behavior or emotional and mental state of an affected population."]
[]
[]
[]
[]
["Scales"]
["Criticality"]
["In general, the descriptions and suggested weights of risk factors are provided as reference points and should not be interpreted literally. Please note that when considering criticality, individual elements of criticality are not additive, that is, a thing does not have to achieve every criteria to be scaled at the level being considered. More generally, the panel should interpolate among the descriptors and consider them as suggestions or points of departure for discussion, and not established \"rules.\" The exception is for protective measures as related to cyber attacks. In that case, the expert panel should determine if the system under consideration has installed logical security meeting current NIST standards. If yes, the panel may consider ratings of 2 or 1.  If a system's logical security measures do not meet current NIST standards, the expert panel should not assign any rating lower (more favorable) than 3 for protective measures.  "]
[]
[]
[]
[5,null,"Physical/cyber damage to this asset will likely leave the agency unable to operate all or most of the system for an extended period. Workarounds will be expensive, inefficient, and disruptive to the community. The loss of life, loss of public confidence and/or loss of the ability of the regional government or economy to function are potentially extreme."]
[]
[]
[]
[4,null,"Physical/cyber damage to this asset carries a significant risk of leaving the agency unable to operate all or most of the system for a significant period. Repair/recovery will be very expensive. Workarounds will be expensive, inefficient, and disruptive to the community. The loss of life, loss of public confidence and/or loss of the ability of the regional government or economy to function are potentially very high."]
[]
[]
[]
[3,null,"Physical/cyber damage to this asset carries a risk of leaving the agency unable to operate all or most of the system for one or several days. Repair/recovery will be highly expensive. Workarounds will be inefficient and possibly disruptive to the community. The loss of life, loss of public confidence and/or loss of the ability of the regional government or economy to function are potentially high."]
[]
[]
[]
[2,null,"Physical/cyber damage to this asset carries a risk of leaving the agency unable to operate parts of the system for one or several days. Workarounds may be inefficient and possibly have ripple effects in the community. The loss of life, loss of public confidence and/or loss of the ability of the regional government or economy to function are potentially significant."]
[]
[]
[]
[1,null,"Without this asset, the system can operate as normal with minimal loss of capacity. Workarounds can be sustained long term. Physical/cyber damage to this asset carries a risk of hindering the agency’s ability to operate parts of the system for one or several days. Workarounds are readily available and can be implemented with minimal impact on the community. The potential for loss of life, public confidence and/or ability of the regional government or economy to function are present."]
[]
[]
[]
[]
[0,null,"Physical/cyber damage to this asset carries no risk hindering the agency’s ability to operate the system. Workarounds are available, are reasonably efficient and can be implemented with minimal effect on the community. The loss of life, loss of public confidence and/or loss of the ability of the regional government or economy to function are not present."]
[]
[]
[]
["Vulnerability"]
["Natural Exposure",null,"Asset is fully exposed with no inherent protection in an area where natural events (storms, flooding, earthquakes, etc.) occur frequently. An incident of typical proportions will severely compromise the asset."]
[5]
["Natural Exposure",null,"Asset is generally exposed with little inherent protection in an area where natural events (storms, flooding, earthquakes, etc.) occur semi-regularly. An incident of typical proportions may compromise the asset, while a severe incident will certainly compromise it. "]
[4]
["Natural Exposure",null,"Asset is partially exposed with some inherent protection in an area where natural events (storms, flooding, earthquakes, etc.) occur infrequently. An incident of severe proportions may compromise the asset."]
[3]
["Natural Exposure",null,"Asset is not exposed and has inherent protection in an area where natural events (storms, flooding, earthquakes, etc.) occur very infrequently. Only an incident of extreme proportions could partially compromise the asset."]
[2]
["Natural Exposure",null,"Asset is not exposed and is inherently protected in an area where natural events (storms, flooding, earthquakes, etc.) could possibly occur, but have never occurred/been an issue. An incident cannot directly compromise the asset, but an extreme event could cause secondary effects."]
[1]
["Natural Exposure",null,"Not applicable"]
[0]
["Technical  Exposure",null,"Asset is fully exposed and there are no natural/man-made redundancies to keep an accident from taking place. An operational mishap of normal proportions risks severely compromising the asset."]
[5]
["Technical  Exposure",null,"Asset is generally exposed and there are few natural/man-made redundancies to keep an accident from taking place. An operational mishap of normal proportions risks compromising the asset. "]
[4]
["Technical  Exposure",null,"Asset is partially exposed and there are some natural/man-made redundancies to keep an accident from taking place. An operational mishap of significant proportions risks compromising the asset. "]
[3]
["Technical  Exposure",null,"Asset is not exposed and there are natural/man-made redundancies to keep an accident from taking place. An operational mishap of extreme proportions may risk compromising the asset. "]
[2]
["Technical  Exposure",null,"Asset is not exposed and there are numerous natural/man-made redundancies to keep an accident from taking place. An operational mishap of extreme proportions will not compromise the asset, but secondary effects might."]
[1]
["Technical  Exposure",null,"Not applicable"]
[0]
["Security Exposure",null,"Asset is fully exposed and there are no natural/man-made redundancies to keep an attack from taking place. A simple, unplanned attack by an individual risks severely compromising the asset."]
[5]
["Security Exposure",null,"Asset is fully exposed and there are no natural/man-made redundancies to keep an attack from taking place. A simple attack by an individual or small group risks compromising the asset."]
[4]
["Security Exposure",null,"Asset is fully exposed and there are no natural/man-made redundancies to keep an attack from taking place. A coordinated attack by a group of professionals risks compromising the asset."]
[3]
["Security Exposure",null,"Asset is fully exposed and there are no natural/man-made redundancies to keep an attack from taking place. A complex, coordinated attack by numerous professionals may risk compromising the asset."]
[2]
["Security Exposure",null,"Asset is fully exposed and there are no natural/man-made redundancies to keep an attack from taking place. A complex, coordinated attack by numerous groups of professionals will not compromise the asset, but might trigger secondary effects that do."]
[1]
["Security Exposure",null,"Not applicable"]
[0]
["Protective Measures",null,"This type of attack against this type of target is practically certain to succeed if attempted, assuming planning and execution is basically competent."]
[]
[5]
["Protective Measures",null,"This type of attack against this asset is likely to succeed if planning and execution is competent."]
[]
[4]
["Protective Measures",null,"This type of attack against this asset may succeed if there is skillful planning and execution."]
[]
[3]
["Protective Measures",null,"This type of attack against this asset can succeed if there is very skillful planning and execution, but there is a strong possibility that it would be defeated."]
[]
[2]
["Protective Measures",null,"This type of attack against this asset can only succeed if there is extremely skillful planning and execution, but  there is a high likelihood that it would be defeated."]
[]
[1]
["Protective Measures",null,"Not applicable"]
[]
[0]
["Robustness",null,"This asset has no inherent strength and is a discrete point target. If compromised, it may not be possible to return it  to full service."]
[5]
["Robustness",null,"This asset has limited inherent strength and is not dispersed. If compromised, it can be returned to full service at considerable cost over an extended period of repair."]
[4]
["Robustness",null,"This asset has moderate inherent strength or is partially dispersed. If compromised, it can be returned to full service in a manageable time and at a manageable cost."]
[3]
["Robustness",null,"This asset has considerable inherent strength or is widely dispersed. If compromised, it can be rapidly returned to full service."]
[2]
["Robustness",null,"This asset is inherently strong, widely dispersed, or otherwise difficult or impossible to compromise for the long term."]
[1]
["Robustness",null,"Not applicable"]
[0]
["Consequence"]
["Human",null,"Event will result in loss of life that drastically exceeds established mass-casualty management processes and capabilities. The combined capabilities of all regional jurisdictions able to respond in a timely manner may not be sufficient to mount a timely and effective response. This is an incident that may include loss-of-life of a magnitude that we would consider a major disaster. Additional less-than-lethal human impact such as management of injured and/or \"worried well\" that exceeds local and regional capabilities by orders of magnitude should be considered.  For the Federal Government, 9/11 and Hurricane Katrina would fall into this category."]
[5]
[]
["Human",null,"This event will likely result in loss of life that exceeds established mass-casualty management processes and capabilities. The combined capabilities of many regional jurisdictions able to respond in a timely manner would be needed to deal with this event. This incident may include loss-of-life of a magnitude we would consider severe. Additional less-than-lethal human impact such as management of injured and/or \"worried well\" that will exceed local and may exceed regional capabilities should be considered.  For the Federal Government, a terrorist attack such as the combined, coordinated attack on the city of Mumbai would meet this criteria."]
[4]
[]
["Human",null,"This event may result in loss of life that severely stresses established mass-casualty management processes and capabilities. The capabilities of more than one additional regional jurisdiction able to respond in a timely manner may be required. This may include loss-of-life of a magnitude we would consider a major event. Additional less than lethal human impact such as management of injured and/or \"worried well\" that may exceed local capabilities should be considered. For the Federal Government, a terrorist attack such as the Oklahoma City bombing would meet this criteria."]
[3]
[]
["Human",null,"This event may result in loss of life that requires highly efficient, well-coordinated mass-casualty management. The capabilities of an additional regional jurisdiction able to respond in a timely manner may be required. This could include loss-of-life of a magnitude we would consider moderate.  Additional less than lethal human impact such as management of injured and/or \"worried well\" that may stress local capabilities should be considered.  For the Federal Government, a terrorist attack such as the Las Vegas shooting would meet this criteria."]
[2]
[]
["Human",null,"This event may result in loss of life that requires mass-casualty management. The capabilities of a significant portion of local response capability may be required.  This incident could include loss-of-life of a magnitude that we regularly plan for.   Additional less than lethal human impact such as management of injured and/or \"worried well\" that may occupy local capabilities should be considered. like a mass shooting For the Federal Government, a terrorist attack such as the Virginia Tech shooting would meet this criteria."]
[1]
[]
[]
["Human",null,"Not applicable"]
[0]
["Economic",null,"Primary and secondary impact will likely exceed 50% of the company/locality operating budget. Also, 20% or more of organizational jobs are likely to be permanently lost. Similar or higher numbers of outside job losses are possible. Iconic assets may be lost permanently. Repair and recovery would be prohibitively expensive and will almost certainly require federal assistance, either financially, technically, or both. "]
[5]
[]
[]
["Economic",null,"Primary and secondary impact will likely exceed 25% of the company/locality operating budget. Also, 10% or more of organizational jobs are likely to be permanently lost and similar or higher numbers of outside job losses are possible. Iconic assets may be lost permanently, Repair and recovery would be very time consuming and expensive  and will likely require federal assistance, either financially, technically, or both. "]
[4]
[]
[]
["Economic",null,"Primary and secondary impact will likely exceed 10% of the company/locality operating budget. Some organizational jobs are likely to be permanently lost. Outside job losses are possible. Iconic assets may be lost for an extended time (1+ years). Repair and recovery would be time-consuming and expensive, and may require federal assistance, either financially, technically, or both.   "]
[3]
[]
[]
["Economic",null,"Primary and secondary impact will likely exceed 5% of the company/locality operating budget. Some organizational jobs are likely to be permanently lost, with additional outside job losses possible. Assets may be unusable for more than six months.  Repair and recovery would be manageable but potentially time consuming, but could be expedited with federal assistance, either financially, technically, or both.   "]
[2]
[]
[]
["Economic",null,"Primary and secondary impacts may place heavy stress on organizational/locality budgets. Impacts will include some temporary job losses and will not be filled in the near term, with additional impacts including loss of infrastructure, loss of business not replaced, and outlays for response and post-event temporary security measures.  Federal assistance will not be required."]
[1]
[]
[]
["Economic",null,"Not applicable"]
[0]
["Psychological",null,"The event will cause an extreme effect on the mental or emotional state of individuals or groups resulting in a permanent and significant change in the policies and practices of government, and a permanent change in perception and/or behavior.  "]
[5]
["Psychological",null,"The event will cause a severe effect on the mental or emotional state of individuals or groups resulting in a permanent change in the policies and practices of government, and a permanent or near-permanent change in perception and/or behavior.  "]
[4]
["Psychological",null,"The event will have a significant effect on the mental or emotional state of individuals or groups resulting in some modification to government policies and practices, and a long-term change in perception and/or behavior.  "]
[3]
["Psychological",null,"The event will have a noticeable effect on the mental or emotional state of individuals or groups resulting in a long-term change in perception and/or behavior.  "]
[2]
["Psychological",null,"The event will have a temporary effect on the mental or emotional state of individuals or groups and may result in a temporary change in perception and/or behavior. "]
[1]
["Psychological",null,"Not applicable"]
[0]
["SENSITIVE SECURITY INFORMATION"]
["WARNING: This document contains Sensitive Security Information that is controlled under 49 CFR 1520. No part of this document may be released to persons without a need to know, as defined in 49 CFR 1520, except with the written permission of the FEMA Administrator, Washington, DC. Unauthorized release may result in civil penalty or other action. For U.S. Government agencies, public release is governed by 5 U.S.C. 522."]

{"sheet":"Critical-Representative Assets","index":2,"n_rows":200,"n_cols":6,"rows_kept":200,"merged":[[0,0,2,5],[3,0,3,5],[4,2,4,3],[4,4,4,5],[5,1,5,5],[6,0,7,5],[8,0,9,5],[10,2,10,3],[11,0,14,0],[15,0,16,0],[17,0,19,0],[20,0,22,0],[23,0,26,0],[27,0,28,0],[29,0,31,0],[32,0,33,5],[34,2,34,3],[35,0,38,0],[39,0,40,0],[41,0,43,0],[44,0,45,0],[46,0,49,0],[50,0,51,0],[52,0,54,0],[55,0,56,5],[57,2,57,3],[58,0,61,0],[62,0,63,0],[64,0,66,0],[67,0,68,0],[69,0,72,0],[74,0,76,0],[77,0,78,5],[79,2,79,3],[80,0,81,0],[82,0,83,0],[84,0,85,0],[86,0,87,0],[88,0,89,5],[90,2,90,3],[91,0,93,0],[94,0,95,0],[96,0,97,0],[98,0,99,0],[101,0,102,5],[103,2,103,3],[114,0,114,5],[115,0,117,5],[123,0,123,1],[124,0,127,0],[128,0,130,0],[131,0,133,0],[134,0,137,0],[138,0,139,0],[140,0,142,0],[143,0,143,1],[144,0,147,0],[148,0,149,0],[150,0,152,0],[153,0,156,0],[157,0,158,0],[159,0,161,0],[162,0,162,1],[163,0,166,0],[167,0,168,0],[169,0,171,0],[172,0,175,0],[177,0,179,0],[180,0,180,1],[181,0,182,0],[183,0,184,0],[185,0,186,0],[187,0,188,0],[189,0,189,1],[190,0,192,0],[193,0,194,0],[195,0,196,0],[198,0,199,0]]}
["WARNING: This document contains Sensitive Security Information that is controlled under 49 CFR 1520. No part of this document may be released to persons without a need to know, as defined in 49 CFR 1520, except with the written permission of the FEMA Administrator, Washington, DC. Unauthorized release may result in civil penalty or other action. For U.S. Government agencies, public release is governed by 5 U.S.C. 522."]
[]
[]
["SENSITIVE SECURITY INFORMATION"]
["Facilitator:",null,"Recorder:"]
["Risk Analysis of: "]
["CRITICAL/REPRESENTATIVE ASSETS"]
[]
["Commuter Rail"]
[]
["Asset Category","Asset Type","Asset Number ",null,"Selected Asset (most critical or most representative)","Assigned Criticality Value"]
[{"$f":"T(Definitions!A31)","v":"Commuter Rail System Public Area"},{"$f":"T(Definitions!D31)","v":"Headquarters Building"},"CR",1]
[null,{"$f":"T(Definitions!D32)","v":"Major Passenger Terminals"},"CR",{"$f":"SUM(D12+1)","v":2}]
[null,{"$f":"T(Definitions!D33)","v":"Major Line Stations"},"CR",3]
[null,{"$f":"T(Definitions!D34)","v":"Parking Structures"},"CR",4]
[{"$f":"T(Definitions!A35)","v":"Commuter Rail System Rolling Stock"},{"$f":"T(Definitions!D35)","v":"Consist - Type 1"},"CR",5]
[null,{"$f":"T(Definitions!D36)","v":"Consist - Type 2"},"CR",6]
[{"$f":"T(Definitions!A37)","v":"Commuter Rail System Control"},{"$f":"T(Definitions!D37)","v":"Primary Control Center"},"CR",7]
[null,{"$f":"T(Definitions!D38)","v":"Control Towers"},"CR",8]
[null,{"$f":"T(Definitions!D39)","v":"Cyber Systems"},"CR",9]
[{"$f":"T(Definitions!A40)","v":"Commuter Rail System Operations"},{"$f":"T(Definitions!D40)","v":"Right of Way (ROW)"},"CR",10]
[null,{"$f":"T(Definitions!D41)","v":"Signals & PTC"},"CR",11]
[null,{"$f":"T(Definitions!D42)","v":"Switches "},"CR",12]
[{"$f":"T(Definitions!A43)","v":"Commuter Rail System ROW Infrastructure"},{"$f":"T(Definitions!D43)","v":"Bridges"},"CR",13]
[null,{"$f":"T(Definitions!D44)","v":"Elevated Track"},"CR",14]
[null,{"$f":"T(Definitions!D45)","v":"Tunnels "},"CR",15]
[null,{"$f":"T(Definitions!D46)","v":"Choke Points on ROW"},"CR",16]
[{"$f":"T(Definitions!A47)","v":"Commuter Rail System Safety"},{"$f":"T(Definitions!D47)","v":"Fire Suppression"},"CR",17]
[null,{"$f":"T(Definitions!D48)","v":"Air Handling"},"CR",18]
[{"$f":"T(Definitions!A49)","v":"Commuter Rail System Support"},{"$f":"T(Definitions!D49)","v":"Power Generation/Distribution"},"CR",19]
[null,{"$f":"T(Definitions!D50)","v":"Yards"},"CR",20]
[null,{"$f":"T(Definitions!D51)","v":"Maintenance Barns/Facilities"},"CR",21]
["Heavy Rail (Subway)"]
[]
["Asset Category","Asset Type","Asset Number ",null,"Selected Asset (most critical or most representative)","Assigned Criticality Value"]
[{"$f":"T(Definitions!A53)","v":"Heavy Rail System Public Area"},{"$f":"T(Definitions!D53)","v":"Headquarters Building"},"HR",1]
[null,{"$f":"T(Definitions!D54)","v":"Major Passenger Terminals"},"HR",{"$f":"SUM(D36+1)","v":2}]
[null,{"$f":"T(Definitions!D55)","v":"Major Line Stations"},"HR",3]
[null,{"$f":"T(Definitions!D56)","v":"Parking Structures"},"HR",4]
[{"$f":"T(Definitions!A57)","v":"Heavy Rail System Rolling Stock"},{"$f":"T(Definitions!D57)","v":"Consist - Type 1"},"HR",5]
[null,{"$f":"T(Definitions!D58)","v":"Consist - Type 2"},"HR",6]
[{"$f":"T(Definitions!A59)","v":"Heavy Rail System Control"},{"$f":"T(Definitions!D59)","v":"Primary Control Center"},"HR",7]
[null,{"$f":"T(Definitions!D60)","v":"Cyber Systems"},"HR",8]
[null,{"$f":"T(Definitions!D61)","v":"Right of Way (ROW)"},"HR",9]
[{"$f":"T(Definitions!A61)","v":"Heavy Rail System Operations"},{"$f":"T(Definitions!D62)","v":"Signals & PTC"},"HR",10]
[null,{"$f":"T(Definitions!D63)","v":"Switches "},"HR",11]
[{"$f":"T(Definitions!A64)","v":"Heavy Rail System ROW Infrastructure"},{"$f":"T(Definitions!D64)","v":"Bridges"},"HR",12]
[null,{"$f":"T(Definitions!D65)","v":"Elevated Track"},"HR",13]
[null,{"$f":"T(Definitions!D66)","v":"Tunnels "},"HR",14]
[null,{"$f":"T(Definitions!D67)","v":"Choke Points on ROW"},"HR",15]
[{"$f":"T(Definitions!A68)","v":"Heavy Rail System Safety"},{"$f":"T(Definitions!D68)","v":"Fire Suppression"},"HR",16]
[null,{"$f":"T(Definitions!D69)","v":"Air Handling"},"HR",17]
[{"$f":"T(Definitions!A70)","v":"Heavy Rail System Support"},{"$f":"T(Definitions!D70)","v":"Power Generation/Distribution"},"HR",18]
[null,{"$f":"T(Definitions!D71)","v":"Yards"},"HR",19]
[null,{"$f":"T(Definitions!D72)","v":"Maintenance Barns/Facilities"},"HR",20]
["Light Rail/Streetcar"]
[]
["Asset Category","Asset Type","Asset Number ",null,"Selected Asset (most critical or most representative)","Assigned Criticality Value"]
[{"$f":"T(Definitions!A74)","v":"Light Rail System Public Area"},{"$f":"T(Definitions!D74)","v":"Headquarters Building"},"LR",1]
[null,{"$f":"T(Definitions!D75)","v":"Major Passenger Terminals"},"LR",{"$f":"SUM(D59+1)","v":2}]
[null,{"$f":"T(Definitions!D76)","v":"Major Line Stations"},"LR",3]
[null,{"$f":"T(Definitions!D77)","v":"Parking Structures"},"LR",4]
[{"$f":"T(Definitions!A78)","v":"Light Rail System Rolling Stock"},{"$f":"T(Definitions!D78)","v":"Consist - Type 1"},"LR",5]
[null,{"$f":"T(Definitions!D79)","v":"Consist - Type 2"},"LR",6]
[{"$f":"T(Definitions!A80)","v":"Light Rail System Control"},{"$f":"T(Definitions!D80)","v":"Primary Control Center"},"LR",7]
[null,{"$f":"T(Definitions!D81)","v":"Cyber Systems"},"LR",8]
[null,{"$f":"T(Definitions!D82)","v":"Right of Way (ROW)"},"LR",9]
[{"$f":"T(Definitions!A82)","v":"Light Rail System Operations"},{"$f":"T(Definitions!D83)","v":"Signals & PTC"},"LR",10]
[null,{"$f":"T(Definitions!D84)","v":"Switches "},"LR",11]
[{"$f":"T(Definitions!A85)","v":"Light Rail System ROW Infrastructure"},{"$f":"T(Definitions!D85)","v":"Bridges"},"LR",12]
[null,{"$f":"T(Definitions!D86)","v":"Elevated Track"},"LR",13]
[null,{"$f":"T(Definitions!D87)","v":"Tunnels "},"LR",14]
[null,{"$f":"T(Definitions!D88)","v":"Choke Points on ROW"},"LR",15]
[{"$f":"T(Definitions!A89)","v":"Light Rail System Safety"},{"$f":"T(Definitions!D89)","v":"Fire Suppression"},"LR",16]
[{"$f":"T(Definitions!A90)","v":"Light Rail System Support"},{"$f":"T(Definitions!D90)","v":"Power Generation/Distribution"},"LR",17]
[null,{"$f":"T(Definitions!D91)","v":"Yards"},"LR",18]
[null,{"$f":"T(Definitions!D92)","v":"Maintenance Barns/Facilities"},"LR",19]
["Bus (Intracity Bus, Commuter Bus)"]
[]
["Asset Category","Asset Type","Asset Number ",null,"Selected Asset (most critical or most representative)","Assigned Criticality Value"]
[{"$f":"T(Definitions!A94)","v":"Bus System Public Area"},{"$f":"T(Definitions!D94)","v":"Headquarters Building"},"BUS",1]
[null,{"$f":"T(Definitions!D95)","v":"System Owned Bus Station"},"BUS",{"$f":"SUM(D81+1)","v":2}]
[{"$f":"T(Definitions!A96)","v":"Bus System Rolling Stock"},{"$f":"T(Definitions!D96)","v":"Bus - Type 1"},"BUS",3]
[null,{"$f":"T(Definitions!D97)","v":"Bus - Type 2"},"BUS",4]
[{"$f":"T(Definitions!A98)","v":"Bus System Control"},{"$f":"T(Definitions!D98)","v":"Dispatch/Control Center"},"BUS",5]
[null,{"$f":"T(Definitions!D99)","v":"Cyber Systems"},"BUS",6]
[{"$f":"T(Definitions!A100)","v":"Bus System Support"},{"$f":"T(Definitions!D100)","v":"Fueling Facilities/Depots"},"BUS",7]
[null,{"$f":"T(Definitions!D101)","v":"Maintenance Barns/Facilities"},"BUS",8]
["Ferry Service"]
[]
["Asset Category","Asset Type","Asset Number ",null,"Selected Asset (most critical or most representative)","Assigned Criticality Value"]
[{"$f":"T(Definitions!A103)","v":"Ferry System Public Area"},{"$f":"T(Definitions!D103)","v":"Headquarters Building"},"FS",1]
[null,{"$f":"T(Definitions!D104)","v":"System Owned Ferry Terminals"},"FS",{"$f":"SUM(D92+1)","v":2}]
[null,{"$f":"T(Definitions!D105)","v":"Parking Structures"},"FS",3]
[{"$f":"T(Definitions!A106)","v":"Ferry System Vessels"},{"$f":"T(Definitions!D106)","v":"Ferry Vessel - Type 1"},"FS",4]
[null,{"$f":"T(Definitions!D107)","v":"Ferry Vessel - Type 2"},"FS",5]
[{"$f":"T(Definitions!A108)","v":"Ferry System Control"},{"$f":"T(Definitions!D108)","v":"Primary Control Center"},"FS",6]
[null,{"$f":"T(Definitions!D109)","v":"Cyber Systems"},"FS",7]
[{"$f":"T(Definitions!A110)","v":"Ferry System Operations"},{"$f":"T(Definitions!D110)","v":"Aids to Navigation"},"FS",8]
[null,{"$f":"T(Definitions!D111)","v":"Support Craft"},"FS",9]
[{"$f":"T(Definitions!A112)","v":"Ferry System Support"},{"$f":"T(Definitions!D112)","v":"Maintenance Facilities"},"FS",10]
["Additional Assets Considered"]
[]
["System","Asset Type","Asset Number ",null,"Selected Asset (most critical or most representative)","Assigned Criticality Value"]
[null,null,"AA",1]
[null,null,"AA",{"$f":"SUM(D105+1)","v":2}]
[null,null,"AA",3]
[null,null,"AA",4]
[null,null,"AA",5]
[null,null,"AA",6]
[null,null,"AA",7]
[null,null,"AA",8]
[null,null,"AA",9]
[null,null,"AA",10]
["SENSITIVE SECURITY INFORMATION"]
["WARNING: This document contains Sensitive Security Information that is controlled under 49 CFR 1520. No part of this document may be released to persons without a need to know, as defined in 49 CFR 1520, except with the written permission of the FEMA Administrator, Washington, DC. Unauthorized release may result in civil penalty or other action. For U.S. Government agencies, public release is governed by 5 U.S.C. 522."]
{"$rows_empty":7}
["Commuter Rail"]
["Public Area","Headquarters Building"]
[null,"Major Passenger Terminals"]
[null,"Major Line Stations"]
[null,"Parking Structures"]
["Commuter Rail System Control","Primary Control Center"]
[null,"Control Towers"]
[null,"Cyber Systems"]
["Commuter Rail System Operations","Right of Way (ROW)"]
[null,"Signals & PTC"]
[null,"Switches "]
["ROW Infrastructure","Bridges"]
[null,"Elevated Track"]
[null,"Tunnels "]
[null,"Choke Points on ROW"]
["Safety","Fire Suppression"]
[null,"Air Handling"]
["Commuter Rail System Support","Power Generation/Distribution"]
[null,"Yards"]
[null,"Maintenance Barns/Facilities"]
["Heavy Rail"]
["Public Area","Headquarters Building"]
[null,"Major Passenger Terminals"]
[null,"Major Line Stations"]
[null,"Parking Structures"]
["Subway System Control","Primary Control Center"]
[null,"Cyber Systems"]
["Subway System Operations","Right of Way (ROW)"]
[null,"Signals & PTC"]
[null,"Switches "]
["ROW Infrastructure","Bridges"]
[null,"Elevated Track"]
[null,"Tunnels "]
[null,"Choke Points on ROW"]
["Safety","Fire Suppression"]
[null,"Air Handling"]
["Subway System Support","Power Generation/Distribution"]
[null,"Yards"]
[null,"Maintenance Barns/Facilities"]
["Light Rail"]
["Public Area","Headquarters Building"]
[null,"Major Passenger Terminals"]
[null,"Major Line Stations"]
[null,"Parking Structures"]
["Light Rail System Control","Primary Control Center"]
[null,"Cyber Systems"]
["Light Rail System Operations","Right of Way (ROW)"]
[null,"Signals & PTC"]
[null,"Switches "]
["ROW Infrastructure","Bridges"]
[null,"Elevated Track"]
[null,"Tunnels "]
[null,"Choke Points on ROW"]
["Safety","Fire Suppression"]
["Heavy Rail System Support","Power Generation/Distribution"]
[null,"Yards"]
[null,"Maintenance Barns/Facilities"]
["Bus"]
["Public Area","Headquarters Building"]
[null,"System Owned Bus Station"]
["Rolling Stock","Bus - Type 1"]
[null,"Bus - Type 2"]
["Commuter Bus Control","Dispatch/Control Center"]
[null,"Cyber Systems"]
["Commuter Bus Support","Fueling Facilities/Depots"]
[null,"Maintenance Barns/Facilities"]
["Ferry"]
["Public Area","Headquarters Building"]
[null,"System Owned Ferry Terminals"]
[null,"Parking Structures"]
["Ferry Service Control","Primary Control Center"]
[null,"Cyber Systems"]
["System Operations","Aids to Navigation"]
[null,"Support Craft"]
["Safety","Fire Suppression"]
["Ferry Service Support","Power Generation/Distribution"]
[null,"Maintenance Barns/Facilities"]

{"sheet":"Heavy Rail Assets","index":3,"n_rows":1221,"n_cols":28,"rows_kept":1221,"merged":[[856,0,856,27],[935,0,936,3],[935,4,936,5],[935,6,936,8],[935,9,935,17],[935,18,935,26],[935,27,939,27],[936,9,936,11],[936,12,936,14],[936,15,936,17],[936,18,936,20],[936,21,936,23],[936,24,936,26],[941,0,942,3],[941,9,941,17],[941,18,941,26],[941,27,945,27],[942,9,942,11],[942,12,942,14],[942,15,942,17],[942,18,942,20],[942,21,942,23],[942,24,942,26],[943,0,943,1],[943,4,944,5],[943,6,944,8],[943,9,944,11],[943,12,944,14],[943,15,944,17],[943,18,944,20],[943,21,944,23],[943,24,944,26],[944,0,945,3],[945,4,945,5],[945,6,945,8],[947,0,948,3],[947,9,947,17],[947,18,947,26],[947,27,951,27],[948,9,948,11],[948,12,948,14],[948,15,948,17],[948,18,948,20],[948,21,948,23],[948,24,948,26],[949,0,949,1],[949,4,950,5],[949,6,950,8],[949,9,950,11],[949,12,950,14],[949,15,950,17],[949,18,950,20],[949,21,950,23],[949,24,950,26],[950,0,951,3],[951,4,951,5],[951,6,951,8],[953,9,953,17],[953,18,953,26],[953,27,957,27],[954,9,954,11],[954,12,954,14],[954,15,954,17],[954,18,954,20],[954,21,954,23],[954,24,954,26],[955,0,955,1],[955,4,956,5],[955,6,956,8],[955,9,956,11],[955,12,956,14],[955,15,956,17],[955,18,956,20],[955,21,956,23],[955,24,956,26],[956,0,957,3],[957,4,957,5],[957,6,957,8],[959,0,960,3],[959,9,959,17],[959,18,959,26],[959,27,963,27],[960,9,960,11],[960,12,960,14],[960,15,960,17],[960,18,960,20],[960,21,960,23],[960,24,960,26],[961,0,961,1],[961,4,962,5],[961,6,962,8],[961,9,962,11],[961,12,962,14],[961,15,962,17],[961,18,962,20],[961,21,962,23],[961,24,962,26],[962,0,963,3],[963,4,963,5],[963,6,963,8],[965,0,966,3],[965,9,965,17],[965,18,965,26],[965,27,969,27],[966,9,966,11],[966,12,966,14],[966,15,966,17],[966,18,966,20],[966,21,966,23],[966,24,966,26],[967,0,967,1],[967,4,968,5],[967,6,968,8],[967,9,968,11],[967,12,968,14],[967,15,968,17],[967,18,968,20],[967,21,968,23],[967,24,968,26],[968,0,969,3],[969,4,969,5],[969,6,969,8],[969,9,969,17],[969,18,969,26],[971,0,972,3],[971,4,972,5],[971,6,972,8],[971,9,971,17],[971,18,971,26],[971,27,975,27],[972,9,972,11],[972,12,972,14],[972,15,972,17],[972,18,972,20],[972,21,972,23],[972,24,972,26],[973,0,973,1],[973,4,974,5],[973,6,974,8],[973,9,974,11],[973,12,974,14],[973,15,974,17],[973,18,974,20],[973,21,974,23],[973,24,974,26],[974,0,975,3],[975,4,975,5],[975,6,975,8],[975,9,975,17],[975,18,975,26],[977,0,977,27],[978,0,979,3],[978,4,979,5],[978,6,979,8],[978,9,978,17],[978,18,978,26],[978,27,982,27],[979,9,979,11],[979,12,979,14],[979,15,979,17],[979,18,979,20],[979,21,979,23],[979,24,979,26],[980,0,980,1],[980,4,981,5],[980,6,981,8],[980,9,981,11],[980,12,981,14],[980,15,981,17],[980,18,981,20],[980,21,981,23],[980,24,981,26],[981,0,982,3],[982,4,982,5],[982,6,982,8],[982,9,982,17],[982,18,982,26],[984,0,985,3],[984,4,985,5],[984,6,985,8],[984,9,984,17],[984,18,984,26],[984,27,988,27],[985,9,985,11],[985,12,985,14],[985,15,985,17],[985,18,985,20],[985,21,985,23],[985,24,985,26],[986,0,986,1],[986,4,987,5],[986,6,987,8],[986,9,987,11],[986,12,987,14],[986,15,987,17],[986,18,987,20],[986,21,987,23],[986,24,987,26],[987,0,988,3],[988,4,988,5],[988,6,988,8],[988,9,988,17],[988,18,988,26],[990,0,991,3],[990,4,991,5],[990,6,991,8],[990,9,990,17],[990,18,990,26],[990,27,994,27],[991,9,991,11],[991,12,991,14],[991,15,991,17],[991,18,991,20],[991,21,991,23],[991,24,991,26],[992,0,992,1],[992,4,993,5],[992,6,993,8],[992,9,993,11],[992,12,993,14],[992,15,993,17],[992,18,993,20],[992,21,993,23],[992,24,993,26],[993,0,994,3],[994,4,994,5],[994,6,994,8],[994,9,994,17],[994,18,994,26],[996,0,997,3],[996,4,997,5],[996,6,997,8],[996,9,996,17],[996,18,996,26],[996,27,1000,27],[997,9,997,11],[997,12,997,14],[997,15,997,17],[997,18,997,20],[997,21,997,23],[997,24,997,26],[998,0,998,1],[998,4,999,5],[998,6,999,8],[998,9,999,11],[998,12,999,14],[998,15,999,17],[998,18,999,20],[998,21,999,23],[998,24,999,26],[999,0,1000,3],[1000,4,1000,5],[1000,6,1000,8],[1000,9,1000,17],[1000,18,1000,26],[1002,0,1003,3],[1002,4,1003,5],[1002,6,1003,8],[1002,9,1002,17],[1002,18,1002,26],[1002,27,1006,27],[1003,9,1003,11],[1003,12,1003,14],[1003,15,1003,17],[1003,18,1003,20],[1003,21,1003,23],[1003,24,1003,26],[1004,0,1004,1],[1004,4,1005,5],[1004,6,1005,8],[1004,9,1005,11],[1004,12,1005,14],[1004,15,1005,17],[1004,18,1005,20],[1004,21,1005,23],[1004,24,1005,26],[1005,0,1006,3],[1006,4,1006,5],[1006,6,1006,8],[1006,9,1006,17],[1006,18,1006,26],[1008,0,1009,3],[1008,4,1009,5],[1008,6,1009,8],[1008,9,1008,17],[1008,18,1008,26],[1008,27,1012,27],[1009,9,1009,11],[1009,12,1009,14],[1009,15,1009,17],[1009,18,1009,20],[1009,21,1009,23],[1009,24,1009,26],[1010,0,1010,1],[1010,4,1011,5],[1010,6,1011,8],[1010,9,1011,11],[1010,12,1011,14],[1010,15,1011,17],[1010,18,1011,20],[1010,21,1011,23],[1010,24,1011,26],[1011,0,1012,3],[1012,4,1012,5],[1012,6,1012,8],[1012,9,1012,17],[1012,18,1012,26],[1014,0,1015,3],[1014,4,1015,5],[1014,6,1015,8],[1014,9,1014,17],[1014,18,1014,26],[1014,27,1018,27],[1015,9,1015,11],[1015,12,1015,14],[1015,15,1015,17],[1015,18,1015,20],[1015,21,1015,23],[1015,24,1015,26],[1016,0,1016,1],[1016,4,1017,5],[1016,6,1017,8],[1016,9,1017,11],[1016,12,1017,14],[1016,15,1017,17],[1016,18,1017,20],[1016,21,1017,23],[1016,24,1017,26],[1018,4,1018,5],[1018,6,1018,8],[1018,9,1018,17],[1018,18,1018,26],[1036,9,1036,17],[1036,18,1036,26],[1038,4,1039,5],[1038,6,1039,8],[1038,9,1038,17],[1038,18,1038,26],[1038,27,1042,27],[1039,9,1039,11],[1039,12,1039,14],[1039,15,1039,17],[1039,18,1039,20],[1039,21,1039,23],[1039,24,1039,26],[1040,0,1040,1],[1040,4,1041,5],[1040,6,1041,8],[1040,9,1041,11],[1040,12,1041,14],[1040,15,1041,17],[1040,18,1041,20],[1040,21,1041,23],[1040,24,1041,26],[1042,4,1042,5],[1042,6,1042,8],[1042,9,1042,17],[1042,18,1042,26],[1044,27,1048,27],[1045,9,1045,11],[1045,12,1045,14],[1045,15,1045,17],[1045,18,1045,20],[1045,21,1045,23],[1045,24,1045,26],[1046,0,1046,1],[1046,4,1047,5],[1046,6,1047,8],[1046,9,1047,11],[1046,12,1047,14],[1046,15,1047,17],[1046,18,1047,20],[1046,21,1047,23],[1046,24,1047,26],[1047,0,1048,3],[1048,4,1048,5],[1048,6,1048,8],[1048,9,1048,17],[1048,18,1048,26],[1050,0,1051,3],[1050,4,1051,5],[1050,6,1051,8],[1050,9,1050,17],[1050,18,1050,26],[1050,27,1054,27],[1051,9,1051,11],[1051,12,1051,14],[1051,15,1051,17],[1051,18,1051,20],[1051,21,1051,23],[1051,24,1051,26],[1052,0,1052,1],[1052,4,1053,5],[1052,6,1053,8],[1052,9,1053,11],[1052,12,1053,14],[1052,15,1053,17],[1052,18,1053,20],[1052,21,1053,23],[1052,24,1053,26],[1053,0,1054,3],[1054,4,1054,5],[1054,6,1054,8],[1054,9,1054,17],[1054,18,1054,26],[1056,0,1057,3],[1056,4,1057,5],[1056,6,1057,8],[1056,9,1056,17],[1056,18,1056,26],[1056,27,1060,27],[1057,9,1057,11],[1057,12,1057,14],[1057,15,1057,17],[1057,18,1057,20],[1057,21,1057,23],[1057,24,1057,26],[1058,0,1058,1],[1058,4,1059,5],[1058,6,1059,8],[1058,9,1059,11],[1058,12,1059,14],[1058,15,1059,17],[1058,18,1059,20],[1058,21,1059,23],[1058,24,1059,26],[1059,0,1060,3],[1060,4,1060,5],[1060,6,1060,8],[1060,9,1060,17],[1060,18,1060,26],[1062,0,1063,3],[1062,4,1063,5],[1062,6,1063,8],[1062,9,1062,17],[1062,18,1062,26],[1062,27,1066,27],[1063,9,1063,11],[1063,12,1063,14],[1063,15,1063,17],[1063,18,1063,20],[1063,21,1063,23],[1063,24,1063,26],[1064,0,1064,1],[1064,4,1065,5],[1064,6,1065,8],[1064,9,1065,11],[1064,12,1065,14],[1064,15,1065,17],[1064,18,1065,20],[1064,21,1065,23],[1064,24,1065,26],[1065,0,1066,3],[1066,4,1066,5],[1066,6,1066,8],[1066,9,1066,17],[1066,18,1066,26],[1068,0,1069,3],[1068,4,1069,5],[1068,6,1069,8],[1068,9,1068,17],[1068,18,1068,26],[1068,27,1072,27],[1069,9,1069,11],[1069,12,1069,14],[1069,15,1069,17],[1069,18,1069,20],[1069,21,1069,23],[1069,24,1069,26],[1070,0,1070,1],[1070,4,1071,5],[1070,6,1071,8],[1070,9,1071,11],[1070,12,1071,14],[1070,15,1071,17],[1070,18,1071,20],[1070,21,1071,23],[1070,24,1071,26],[1071,0,1072,3],[1072,4,1072,5],[1072,6,1072,8],[1072,9,1072,17],[1072,18,1072,26],[1074,0,1075,3],[1074,4,1075,5],[1074,6,1075,8],[1074,9,1074,17],[1074,18,1074,26],[1074,27,1078,27],[1075,9,1075,11],[1075,12,1075,14],[1075,15,1075,17],[1075,18,1075,20],[1075,21,1075,23],[1075,24,1075,26],[1076,0,1076,1],[1076,4,1077,5],[1076,6,1077,8],[1076,9,1077,11],[1076,12,1077,14],[1076,15,1077,17],[1076,18,1077,20],[1076,21,1077,23],[1076,24,1077,26],[1077,0,1078,3],[1078,4,1078,5],[1078,6,1078,8],[1078,9,1078,17],[1078,18,1078,26],[1080,0,1081,3],[1080,4,1081,5],[1080,6,1081,8],[1080,9,1080,17],[1080,18,1080,26],[1080,27,1084,27],[1081,9,1081,11],[1081,12,1081,14],[1081,15,1081,17],[1081,18,1081,20],[1081,21,1081,23],[1081,24,1081,26],[1082,0,1082,1],[1082,4,1083,5],[1082,6,1083,8],[1082,9,1083,11],[1082,12,1083,14],[1082,15,1083,17],[1082,18,1083,20],[1082,21,1083,23],[1082,24,1083,26],[1083,0,1084,3],[1084,4,1084,5],[1084,6,1084,8],[1084,9,1084,17],[1084,18,1084,26],[1086,0,1087,3],[1086,4,1087,5],[1086,6,1087,8],[1086,9,1086,17],[1086,18,1086,26],[1086,27,1090,27],[1087,9,1087,11],[1087,12,1087,14],[1087,15,1087,17],[1087,18,1087,20],[1087,21,1087,23],[1087,24,1087,26],[1088,0,1088,1],[1088,4,1089,5],[1088,6,1089,8],[1088,9,1089,11],[1088,12,1089,14],[1088,15,1089,17],[1088,18,1089,20],[1088,21,1089,23],[1088,24,1089,26],[1089,0,1090,3],[1090,4,1090,5],[1090,6,1090,8],[1090,9,1090,17],[1090,18,1090,26],[1092,0,1093,3],[1092,4,1093,5],[1092,6,1093,8],[1092,9,1092,17],[1092,18,1092,26],[1092,27,1096,27],[1093,9,1093,11],[1093,12,1093,14],[1093,15,1093,17],[1093,18,1093,20],[1093,21,1093,23],[1093,24,1093,26],[1094,0,1094,1],[1094,4,1095,5],[1094,6,1095,8],[1094,9,1095,11],[1094,12,1095,14],[1094,15,1095,17],[1094,18,1095,20],[1094,21,1095,23],[1094,24,1095,26],[1095,0,1096,3],[1096,4,1096,5],[1096,6,1096,8],[1105,9,1105,17],[1105,18,1105,26],[1105,27,1109,27],[1106,9,1106,11],[1106,12,1106,14],[1106,15,1106,17],[1106,18,1106,20],[1106,21,1106,23],[1106,24,1106,26],[1107,0,1107,1],[1107,4,1108,5],[1107,6,1108,8],[1107,9,1108,11],[1107,12,1108,14],[1107,15,1108,17],[1107,18,1108,20],[1107,21,1108,23],[1107,24,1108,26],[1108,0,1109,3],[1109,4,1109,5],[1109,6,1109,8],[1109,9,1109,17],[1109,18,1109,26],[1111,0,1112,3],[1111,4,1112,5],[1111,6,1112,8],[1111,9,1111,17],[1111,18,1111,26],[1111,27,1115,27],[1112,9,1112,11],[1112,12,1112,14],[1112,15,1112,17],[1112,18,1112,20],[1112,21,1112,23],[1112,24,1112,26],[1113,0,1113,1],[1113,4,1114,5],[1113,6,1114,8],[1113,9,1114,11],[1113,12,1114,14],[1113,15,1114,17],[1113,18,1114,20],[1113,21,1114,23],[1113,24,1114,26],[1114,0,1115,3],[1115,4,1115,5],[1115,6,1115,8],[1115,9,1115,17],[1115,18,1115,26],[1117,0,1118,3],[1117,4,1118,5],[1117,6,1118,8],[1117,9,1117,17],[1117,18,1117,26],[1117,27,1121,27],[1118,9,1118,11],[1118,12,1118,14],[1118,15,1118,17],[1118,18,1118,20],[1118,21,1118,23],[1118,24,1118,26],[1119,0,1119,1],[1119,4,1120,5],[1119,6,1120,8],[1119,9,1120,11],[1119,12,1120,14],[1119,15,1120,17],[1119,18,1120,20],[1119,21,1120,23],[1119,24,1120,26],[1120,0,1121,3],[1121,4,1121,5],[1121,6,1121,8],[1121,9,1121,17],[1121,18,1121,26],[1123,0,1124,3],[1123,4,1124,5],[1123,6,1124,8],[1123,9,1123,17],[1123,18,1123,26],[1123,27,1127,27],[1124,9,1124,11],[1124,12,1124,14],[1124,15,1124,17],[1124,18,1124,20],[1124,21,1124,23],[1124,24,1124,26],[1125,0,1125,1],[1125,4,1126,5],[1125,6,1126,8],[1125,9,1126,11],[1125,12,1126,14],[1125,15,1126,17],[1125,18,1126,20],[1125,21,1126,23],[1125,24,1126,26],[1126,0,1127,3],[1127,4,1127,5],[1127,6,1127,8],[1127,9,1127,17],[1127,18,1127,26],[1129,0,1130,3],[1129,4,1130,5],[1129,6,1130,8],[1129,9,1129,17],[1129,18,1129,26],[1129,27,1133,27],[1130,9,1130,11],[1130,12,1130,14],[1130,15,1130,17],[1130,18,1130,20],[1130,21,1130,23],[1130,24,1130,26],[1131,0,1131,1],[1131,4,1132,5],[1131,6,1132,8],[1131,9,1132,11],[1131,12,1132,14],[1131,15,1132,17],[1131,18,1132,20],[1131,21,1132,23],[1131,24,1132,26],[1133,4,1133,5],[1133,6,1133,8],[1133,9,1133,17],[1133,18,1133,26],[1139,9,1139,17],[1139,18,1139,26],[1147,0,1148,3],[1147,4,1148,5],[1147,6,1148,8],[1147,9,1147,17],[1147,18,1147,26],[1147,27,1151,27],[1153,4,1154,5],[1153,6,1154,8],[1153,9,1153,17],[1153,18,1153,26],[1153,27,1157,27],[1154,9,1154,11],[1154,12,1154,14],[1154,15,1154,17],[1154,18,1154,20],[1154,21,1154,23],[1154,24,1154,26],[1155,0,1155,1],[1155,4,1156,5],[1155,6,1156,8],[1155,9,1156,11],[1155,12,1156,14],[1155,15,1156,17],[1155,18,1156,20],[1155,21,1156,23],[1155,24,1156,26],[1157,4,1157,5],[1157,6,1157,8],[1157,9,1157,17],[1157,18,1157,26],[1159,27,1163,27],[1160,9,1160,11],[1160,12,1160,14],[1160,15,1160,17],[1160,18,1160,20],[1160,21,1160,23],[1160,24,1160,26],[1161,0,1161,1],[1161,4,1162,5],[1161,6,1162,8],[1161,9,1162,11],[1161,12,1162,14],[1161,15,1162,17],[1161,18,1162,20],[1161,21,1162,23],[1161,24,1162,26],[1162,0,1163,3],[1163,4,1163,5],[1163,6,1163,8],[1163,9,1163,17],[1163,18,1163,26],[1165,0,1166,3],[1165,4,1166,5],[1165,6,1166,8],[1165,9,1165,17],[1165,18,1165,26],[1165,27,1169,27],[1166,9,1166,11],[1166,12,1166,14],[1166,15,1166,17],[1166,18,1166,20],[1166,21,1166,23],[1166,24,1166,26],[1167,0,1167,1],[1167,4,1168,5],[1167,6,1168,8],[1167,9,1168,11],[1167,12,1168,14],[1167,15,1168,17],[1167,18,1168,20],[1167,21,1168,23],[1167,24,1168,26],[1168,0,1169,3],[1169,4,1169,5],[1169,6,1169,8],[1169,9,1169,17],[1169,18,1169,26],[1171,0,1172,3],[1171,4,1172,5],[1171,6,1172,8],[1171,9,1171,17],[1171,18,1171,26],[1171,27,1175,27],[1172,9,1172,11],[1172,12,1172,14],[1172,15,1172,17],[1172,18,1172,20],[1172,21,1172,23],[1172,24,1172,26],[1173,0,1173,1],[1173,4,1174,5],[1173,6,1174,8],[1173,9,1174,11],[1173,12,1174,14],[1173,15,1174,17],[1173,18,1174,20],[1173,21,1174,23],[1173,24,1174,26],[1174,0,1175,3],[1175,4,1175,5],[1175,6,1175,8],[1175,9,1175,17],[1175,18,1175,26],[1177,0,1178,3],[1177,4,1178,5],[1177,6,1178,8],[1177,9,1177,17],[1177,18,1177,26],[1177,27,1181,27],[1178,9,1178,11],[1178,12,1178,14],[1178,15,1178,17],[1178,18,1178,20],[1178,21,1178,23],[1178,24,1178,26],[1179,0,1179,1],[1179,4,1180,5],[1179,6,1180,8],[1179,9,1180,11],[1179,12,1180,14],[1179,15,1180,17],[1179,18,1180,20],[1179,21,1180,23],[1179,24,1180,26],[1180,0,1181,3],[1181,4,1181,5],[1181,6,1181,8],[1181,9,1181,17],[1181,18,1181,26],[1183,0,1184,3],[1183,4,1184,5],[1183,6,1184,8],[1183,9,1183,17],[1183,18,1183,26],[1183,27,1187,27],[1184,9,1184,11],[1184,12,1184,14],[1184,15,1184,17],[1184,18,1184,20],[1184,21,1184,23],[1184,24,1184,26],[1185,0,1185,1],[1185,4,1186,5],[1185,6,1186,8],[1185,9,1186,11],[1185,12,1186,14],[1185,15,1186,17],[1185,18,1186,20],[1185,21,1186,23],[1185,24,1186,26],[1186,0,1187,3],[1187,4,1187,5],[1187,6,1187,8],[1187,9,1187,17],[1187,18,1187,26],[1189,0,1190,3],[1189,4,1190,5],[1189,6,1190,8],[1189,9,1189,17],[1189,18,1189,26],[1189,27,1193,27],[1190,9,1190,11],[1190,12,1190,14],[1190,15,1190,17],[1190,18,1190,20],[1190,21,1190,23],[1190,24,1190,26],[1191,0,1191,1],[1191,4,1192,5],[1191,6,1192,8],[1191,9,1192,11],[1191,12,1192,14],[1191,15,1192,17],[1191,18,1192,20],[1191,21,1192,23],[1191,24,1192,26],[1192,0,1193,3],[1193,4,1193,5],[1193,6,1193,8],[1193,9,1193,17],[1193,18,1193,26],[1195,0,1196,3],[1195,4,1196,5],[1195,6,1196,8],[1195,9,1195,17],[1195,18,1195,26],[1195,27,1199,27],[1196,9,1196,11],[1196,12,1196,14],[1196,15,1196,17],[1196,18,1196,20],[1196,21,1196,23],[1196,24,1196,26],[1197,0,1197,1],[1197,4,1198,5],[1197,6,1198,8],[1197,9,1198,11],[1197,12,1198,14],[1197,15,1198,17],[1197,18,1198,20],[1197,21,1198,23],[1197,24,1198,26],[1198,0,1199,3],[1199,4,1199,5],[1199,6,1199,8],[1199,9,1199,17],[1199,18,1199,26],[1201,0,1202,3],[1201,4,1202,5],[1201,6,1202,8],[1201,9,1201,17],[1201,18,1201,26],[1201,27,1205,27],[1202,9,1202,11],[1202,12,1202,14],[1202,15,1202,17],[1202,18,1202,20],[1202,21,1202,23],[1202,24,1202,26],[1203,0,1203,1],[1203,4,1204,5],[1203,6,1204,8],[1203,9,1204,11],[1203,12,1204,14],[1203,15,1204,17],[1203,18,1204,20],[1203,21,1204,23],[1203,24,1204,26],[1204,0,1205,3],[1205,4,1205,5],[1205,6,1205,8],[1205,9,1205,17],[1205,18,1205,26],[1207,0,1208,3],[1207,4,1208,5],[1207,6,1208,8],[1207,9,1207,17],[1207,18,1207,26],[1207,27,1211,27],[1208,9,1208,11],[1208,12,1208,14],[1208,15,1208,17],[1208,18,1208,20],[1208,21,1208,23],[1208,24,1208,26],[1209,0,1209,1],[1209,4,1210,5],[1209,6,1210,8],[1209,9,1210,11],[1209,12,1210,14],[1209,15,1210,17],[1209,18,1210,20],[1209,21,1210,23],[1209,24,1210,26],[1210,0,1211,3],[1211,4,1211,5],[1211,6,1211,8],[1211,9,1211,17],[1211,18,1211,26],[1213,0,1214,3],[1213,4,1214,5],[1213,6,1214,8],[1213,9,1213,17],[1213,18,1213,26],[1213,27,1217,27],[1214,9,1214,11],[1214,12,1214,14],[1214,15,1214,17],[1214,18,1214,20],[1214,21,1214,23],[1214,24,1214,26],[1215,0,1215,1],[1215,4,1216,5],[1215,6,1216,8],[1215,9,1216,11],[1215,12,1216,14],[1215,15,1216,17],[1215,18,1216,20],[1215,21,1216,23],[1215,24,1216,26],[1216,0,1217,3],[1217,4,1217,5],[1217,6,1217,8],[1217,9,1217,17],[1217,18,1217,26],[1219,0,1219,27],[1220,0,1222,27]],"merged_total":5215,"flags":["merged_cut"]}
[]
["WARNING: This document contains Sensitive Security Information that is controlled under 49 CFR 1520. No part of this document may be released to persons without a need to know, as defined in 49 CFR 1520, except with the written permission of the FEMA Administrator, Washington, DC. Unauthorized release may result in civil penalty or other action. For U.S. Government agencies, public release is governed by 5 U.S.C. 522."]
[]
[]
["SENSITIVE SECURITY INFORMATION"]
["Incident types are defined in notes on the far right side of the table by holding the cursor over the incident word. "]
[" Heavy Rail Assets     "]
[]
[]
[{"$f":"T(Definitions!D19)","v":"Armed Assault/Active Shooter"}]
[{"$f":"T(A10)","v":"Armed Assault/Active Shooter"},{"$nulls":3},"Threat",null,"Criticality",null,null,"Vulnerability",{"$nulls":8},"Consequence",{"$nulls":8},{"$f":"SUM(((((J15+S15)/2)*G15)*E15))","v":0}]
[{"$nulls":9},"Exposure",null,null,"Protective Measures",null,null,"Robustness/Resilience",null,null,"Human",null,null,"Economic",null,null,"Psychological"]
[{"$f":"T('Critical-Representative Assets'!B36)","v":"Headquarters Building"},null,{"$f":"T('Critical-Representative Assets'!C36)","v":"HR"},{"$f":"SUM('Critical-Representative Assets'!D36)","v":1},{"v":1,"d":"1.0"},null,{"$f":"SUM('Critical-Representative Assets'!F36)","v":{"v":0,"d":"0.0"}},null,null,{"v":0,"d":"0.0"},null,null,{"v":0,"d":"0.0"},null,null,{"v":0,"d":"0.0"},null,null,{"v":0,"d":"0.0"},null,null,{"v":0,"d":"0.0"},null,null,{"v":0,"d":"0.0"}]
[{"$f":"T('Critical-Representative Assets'!E36)","v":""}]
[{"$nulls":4},{"$f":"SUM(E13)","v":{"v":1,"d":"1.0"}},null,{"$f":"SUM(G13)","v":{"v":0,"d":"0.0"}},null,null,{"$f":"SUM((J13+M13+P13)/3)","v":{"v":0,"d":"0.0"}},{"$nulls":8},{"$f":"SUM(((S13*3)+V13+Y13)/5)","v":{"v":0,"d":"0.0"}}]
[]
[{"$f":"T(A11)","v":"Armed Assault/Active Shooter"},{"$nulls":3},"Threat",null,"Criticality",null,null,"Vulnerability",{"$nulls":8},"Consequence",{"$nulls":8},{"$f":"SUM(((((J21+S21)/2)*G21)*E21))","v":0}]
[{"$nulls":9},"Exposure",null,null,"Protective Measures",null,null,"Robustness/Resilience",null,null,"Human",null,null,"Economic",null,null,"Psychological"]
[{"$f":"T('Critical-Representative Assets'!B37)","v":"Major Passenger Terminals"},null,{"$f":"T('Critical-Representative Assets'!C37)","v":"HR"},{"$f":"SUM('Critical-Representative Assets'!D37)","v":2},{"v":1,"d":"1.0"},null,{"$f":"SUM('Critical-Representative Assets'!F37)","v":{"v":0,"d":"0.0"}},null,null,{"v":0,"d":"0.0"},null,null,{"v":0,"d":"0.0"},null,null,{"v":0,"d":"0.0"},null,null,{"v":0,"d":"0.0"},null,null,{"v":0,"d":"0.0"},null,null,{"v":0,"d":"0.0"}]
[{"$f":"T('Critical-Representative Assets'!E37)","v":""}]
[{"$nulls":4},{"$f":"SUM(E19)","v":{"v":1,"d":"1.0"}},null,{"$f":"SUM(G19)","v":{"v":0,"d":"0.0"}},null,null,{"$f":"SUM((J19+M19+P19)/3)","v":{"v":0,"d":"0.0"}},{"$nulls":8},{"$f":"SUM(((S19*3)+V19+Y19)/5)","v":{"v":0,"d":"0.0"}}]
[]
[{"$f":"T(A17)","v":"Armed Assault/Active Shooter"},{"$nulls":3},"Threat",null,"Criticality",null,null,"Vulnerability",{"$nulls":8},"Consequence",{"$nulls":8},{"$f":"SUM(((((J27+S27)/2)*G27)*E27))","v":0}]
[{"$nulls":9},"Exposure",null,null,"Protective Measures",null,null,"Robustness/Resilience",null,null,"Human",null,null,"Economic",null,null,"Psychological"]
[{"$f":"T('Critical-Representative Assets'!B38)","v":"Major Line Stations"},null,{"$f":"T('Critical-Representative Assets'!C38)","v":"HR"},{"$f":"SUM('Critical-Representative Assets'!D38)","v":3},{"v":1,"d":"1.0"},null,{"$f":"SUM('Critical-Representative Assets'!F38)","v":{"v":0,"d":"0.0"}},null,null,{"v":0,"d":"0.0"},null,null,{"v":0,"d":"0.0"},null,null,{"v":0,"d":"0.0"},null,null,{"v":0,"d":"0.0"},null,null,{"v":0,"d":"0.0"},null,null,{"v":0,"d":"0.0"}]
[{"$f":"T('Critical-Representative Assets'!E38)","v":""}]
[{"$nulls":4},{"$f":"SUM(E25)","v":{"v":1,"d":"1.0"}},null,{"$f":"SUM(G25)","v":{"v":0,"d":"0.0"}},null,null,{"$f":"SUM((J25+M25+P25)/3)","v":{"v":0,"d":"0.0"}},{"$nulls":8},{"$f":"SUM(((S25*3)+V25+Y25)/5)","v":{"v":0,"d":"0.0"}}]
[]
[{"$f":"T(A23)","v":"Armed Assault/Active Shooter"},{"$nulls":3},"Threat",null,"Criticality",null,null,"Vulnerability",{"$nulls":8},"Consequence",{"$nulls":8},{"$f":"SUM(((((J33+S33)/2)*G33)*E33))","v":0}]
[{"$nulls":9},"Exposure",null,null,"Protective Measures",null,null,"Robustness/Resilience",null,null,"Human",null,null,"Economic",null,null,"Psychological"]
[{"$f":"T('Critical-Representative Assets'!B39)","v":"Parking Structures"},null,{"$f":"T('Critical-Representative Assets'!C39)","v":"HR"},{"$f":"SUM('Critical-Representative Assets'!D39)","v":4},{"v":1,"d":"1.0"},null,{"$f":"SUM('Critical-Representative Assets'!F39)","v":{"v":0,"d":"0.0"}},null,null,{"v":0,"d":"0.0"},null,null,{"v":0,"d":"0.0"},null,null,{"v":0,"d":"0.0"},null,null,{"v":0,"d":"0.0"},null,null,{"v":0,"d":"0.0"},null,null,{"v":0,"d":"0.0"}]
[{"$f":"T('Critical-Representative Assets'!E39)","v":""}]
[{"$nulls":4},{"$f":"SUM(E31)","v":{"v":1,"d":"1.0"}},null,{"$f":"SUM(G31)","v":{"v":0,"d":"0.0"}},null,null,{"$f":"SUM((J31+M31+P31)/3)","v":{"v":0,"d":"0.0"}},{"$nulls":8},{"$f":"SUM(((S31*3)+V31+Y31)/5)","v":{"v":0,"d":"0.0"}}]
[]
[{"$f":"T(A29)","v":"Armed Assault/Active Shooter"},{"$nulls":3},"Threat",null,"Criticality",null,null,"Vulnerability",{"$nulls":8},"Consequence",{"$nulls":8},{"$f":"SUM(((((J39+S39)/2)*G39)*E39))","v":0}]
[{"$nulls":9},"Exposure",null,null,"Protective Measures",null,null,"Robustness/Resilience",null,null,"Human",null,null,"Economic",null,null,"Psychological"]
[{"$f":"T('Critical-Representative Assets'!B40)","v":"Consist - Type 1"},null,{"$f":"T('Critical-Representative Assets'!C40)","v":"HR"},{"$f":"SUM('Critical-Representative Assets'!D40)","v":5},{"v":1,"d":"1.0"},null,{"$f":"SUM('Critical-Representative Assets'!F40)","v":{"v":0,"d":"0.0"}},null,null,{"v":0,"d":"0.0"},null,null,{"v":0,"d":"0.0"},null,null,{"v":0,"d":"0.0"},null,null,{"v":0,"d":"0.0"},null,null,{"v":0,"d":"0.0"},null,null,{"v":0,"d":"0.0"}]
[{"$f":"T('Critical-Representative Assets'!E40)","v":""}]
[{"$nulls":4},{"$f":"SUM(E37)","v":{"v":1,"d":"1.0"}},null,{"$f":"SUM(G37)","v":{"v":0,"d":"0.0"}},null,null,{"$f":"SUM((J37+M37+P37)/3)","v":{"v":0,"d":"0.0"}},{"$nulls":8},{"$f":"SUM(((S37*3)+V37+Y37)/5)","v":{"v":0,"d":"0.0"}}]
[]
[{"$f":"T(A35)","v":"Armed Assault/Active Shooter"},{"$nulls":3},"Threat",null,"Criticality",null,null,"Vulnerability",{"$nulls":8},"Consequence",{"$nulls":8},{"$f":"SUM(((((J45+S45)/2)*G45)*E45))","v":0}]
[{"$nulls":9},"Exposure",null,null,"Protective Measures",null,null,"Robustness/Resilience",null,null,"Human",null,null,"Economic",null,null,"Psychological"]
[{"$f":"T('Critical-Representative Assets'!B41)","v":"Consist - Type 2"},null,{"$f":"T('Critical-Representative Assets'!C41)","v":"HR"},{"$f":"SUM('Critical-Representative Assets'!D41)","v":6},{"v":1,"d":"1.0"},null,{"$f":"SUM('Critical-Representative Assets'!F41)","v":{"v":0,"d":"0.0"}},null,null,{"v":0,"d":"0.0"},null,null,{"v":0,"d":"0.0"},null,null,{"v":0,"d":"0.0"},null,null,{"v":0,"d":"0.0"},null,null,{"v":0,"d":"0.0"},null,null,{"v":0,"d":"0.0"}]
[{"$f":"T('Critical-Representative Assets'!E41)","v":""}]
[{"$nulls":4},{"$f":"SUM(E43)","v":{"v":1,"d":"1.0"}},null,{"$f":"SUM(G43)","v":{"v":0,"d":"0.0"}},null,null,{"$f":"SUM((J43+M43+P43)/3)","v":{"v":0,"d":"0.0"}},{"$nulls":8},{"$f":"SUM(((S43*3)+V43+Y43)/5)","v":{"v":0,"d":"0.0"}}]
[]
[{"$f":"T(A41)","v":"Armed Assault/Active Shooter"},{"$nulls":3},"Threat",null,"Criticality",null,null,"Vulnerability",{"$nulls":8},"Consequence",{"$nulls":8},{"$f":"SUM(((((J51+S51)/2)*G51)*E51))","v":0}]
[{"$nulls":9},"Exposure",null,null,"Protective Measures",null,null,"Robustness/Resilience",null,null,"Human",null,null,"Economic",null,null,"Psychological"]
[{"$f":"T('Critical-Representative Assets'!B42)","v":"Primary Control Center"},null,{"$f":"T('Critical-Representative Assets'!C42)","v":"HR"},{"$f":"SUM('Critical-Representative Assets'!D42)","v":7},{"v":1,"d":"1.0"},null,{"$f":"SUM('Critical-Representative Assets'!F42)","v":{"v":0,"d":"0.0"}},null,null,{"v":0,"d":"0.0"},null,null,{"v":0,"d":"0.0"},null,null,{"v":0,"d":"0.0"},null,null,{"v":0,"d":"0.0"},null,null,{"v":0,"d":"0.0"},null,null,{"v":0,"d":"0.0"}]
[{"$f":"T('Critical-Representative Assets'!E42)","v":""}]
[{"$nulls":4},{"$f":"SUM(E49)","v":{"v":1,"d":"1.0"}},null,{"$f":"SUM(G49)","v":{"v":0,"d":"0.0"}},null,null,{"$f":"SUM((J49+M49+P49)/3)","v":{"v":0,"d":"0.0"}},{"$nulls":8},{"$f":"SUM(((S49*3)+V49+Y49)/5)","v":{"v":0,"d":"0.0"}}]
[]
[{"$f":"T(A47)","v":"Armed Assault/Active Shooter"},{"$nulls":3},"Threat",null,"Criticality",null,null,"Vulnerability",{"$nulls":8},"Consequence",{"$nulls":8},{"$f":"SUM(((((J57+S57)/2)*G57)*E57))","v":0}]
[{"$nulls":9},"Exposure",null,null,"Protective Measures",null,null,"Robustness/Resilience",null,null,"Human",null,null,"Economic",null,null,"Psychological"]
[{"$f":"T('Critical-Representative Assets'!B43)","v":"Cyber Systems"},null,{"$f":"T('Critical-Representative Assets'!C43)","v":"HR"},{"$f":"SUM('Critical-Representative Assets'!D43)","v":8},{"v":1,"d":"1.0"},null,{"$f":"SUM('Critical-Representative Assets'!F43)","v":{"v":0,"d":"0.0"}},null,null,{"v":0,"d":"0.0"},null,null,{"v":0,"d":"0.0"},null,null,{"v":0,"d":"0.0"},null,null,{"v":0,"d":"0.0"},null,null,{"v":0,"d":"0.0"},null,null,{"v":0,"d":"0.0"}]
[{"$f":"T('Critical-Representative Assets'!E43)","v":""}]
[{"$nulls":4},{"$f":"SUM(E55)","v":{"v":1,"d":"1.0"}},null,{"$f":"SUM(G55)","v":{"v":0,"d":"0.0"}},null,null,{"$f":"SUM((J55+M55+P55)/3)","v":{"v":0,"d":"0.0"}},{"$nulls":8},{"$f":"SUM(((S55*3)+V55+Y55)/5)","v":{"v":0,"d":"0.0"}}]
[]
[{"$f":"T(A47)","v":"Armed Assault/Active Shooter"},{"$nulls":3},"Threat",null,"Criticality",null,null,"Vulnerability",{"$nulls":8},"Consequence",{"$nulls":8},{"$f":"SUM(((((J63+S63)/2)*G63)*E63))","v":0}]
[{"$nulls":9},"Exposure",null,null,"Protective Measures",null,null,"Robustness/Resilience",null,null,"Human",null,null,"Economic",null,null,"Psychological"]
[{"$f":"T('Critical-Representative Assets'!B44)","v":"Right of Way (ROW)"},null,{"$f":"T('Critical-Representative Assets'!C49)","v":"HR"},{"$f":"SUM('Critical-Representative Assets'!D44)","v":9},{"v":1,"d":"1.0"},null,{"$f":"SUM('Critical-Representative Assets'!F44)","v":{"v":0,"d":"0.0"}},null,null,{"v":0,"d":"0.0"},null,null,{"v":0,"d":"0.0"},null,null,{"v":0,"d":"0.0"},null,null,{"v":0,"d":"0.0"},null,null,{"v":0,"d":"0.0"},null,null,{"v":0,"d":"0.0"}]
[{"$f":"T('Critical-Representative Assets'!E44)","v":""}]
[{"$nulls":4},{"$f":"SUM(E61)","v":{"v":1,"d":"1.0"}},null,{"$f":"SUM(G61)","v":{"v":0,"d":"0.0"}},null,null,{"$f":"SUM((J61+M61+P61)/3)","v":{"v":0,"d":"0.0"}},{"$nulls":8},{"$f":"SUM(((S61*3)+V61+Y61)/5)","v":{"v":0,"d":"0.0"}}]
[]
[{"$f":"T(A47)","v":"Armed Assault/Active Shooter"},{"$nulls":3},"Threat",null,"Criticality",null,null,"Vulnerability",{"$nulls":8},"Consequence",{"$nulls":8},{"$f":"SUM(((((J69+S69)/2)*G69)*E69))","v":0}]
[{"$nulls":9},"Exposure",null,null,"Protective Measures",null,null,"Robustness/Resilience",null,null,"Human",null,null,"Economic",null,null,"Psychological"]
[{"$f":"T('Critical-Representative Assets'!B45)","v":"Signals & PTC"},null,{"$f":"T('Critical-Representative Assets'!C45)","v":"HR"},{"$f":"SUM('Critical-Representative Assets'!D45)","v":10},{"v":1,"d":"1.0"},null,{"$f":"SUM('Critical-Representative Assets'!F45)","v":{"v":0,"d":"0.0"}},null,null,{"v":0,"d":"0.0"},null,null,{"v":0,"d":"0.0"},null,null,{"v":0,"d":"0.0"},null,null,{"v":0,"d":"0.0"},null,null,{"v":0,"d":"0.0"},null,null,{"v":0,"d":"0.0"}]
[{"$f":"T('Critical-Representative Assets'!E45)","v":""}]
[{"$nulls":4},{"$f":"SUM(E67)","v":{"v":1,"d":"1.0"}},null,{"$f":"SUM(G67)","v":{"v":0,"d":"0.0"}},null,null,{"$f":"SUM((J67+M67+P67)/3)","v":{"v":0,"d":"0.0"}},{"$nulls":8},{"$f":"SUM(((S67*3)+V67+Y67)/5)","v":{"v":0,"d":"0.0"}}]
[]
[{"$f":"T(A65)","v":"Armed Assault/Active Shooter"},{"$nulls":3},"Threat",null,"Criticality",null,null,"Vulnerability",{"$nulls":8},"Consequence",{"$nulls":8},{"$f":"SUM(((((J75+S75)/2)*G75)*E75))","v":0}]
[{"$nulls":9},"Exposure",null,null,"Protective Measures",null,null,"Robustness/Resilience",null,null,"Human",null,null,"Economic",null,null,"Psychological"]
[{"$f":"T('Critical-Representative Assets'!B46)","v":"Switches "},null,{"$f":"T('Critical-Representative Assets'!C46)","v":"HR"},{"$f":"SUM('Critical-Representative Assets'!D46)","v":11},{"v":1,"d":"1.0"},null,{"$f":"SUM('Critical-Representative Assets'!F46)","v":{"v":0,"d":"0.0"}},null,null,{"v":0,"d":"0.0"},null,null,{"v":0,"d":"0.0"},null,null,{"v":0,"d":"0.0"},null,null,{"v":0,"d":"0.0"},null,null,{"v":0,"d":"0.0"},null,null,{"v":0,"d":"0.0"}]
[{"$f":"T('Critical-Representative Assets'!E46)","v":""}]
[{"$nulls":4},{"$f":"SUM(E73)","v":{"v":1,"d":"1.0"}},null,{"$f":"SUM(G73)","v":{"v":0,"d":"0.0"}},null,null,{"$f":"SUM((J73+M73+P73)/3)","v":{"v":0,"d":"0.0"}},{"$nulls":8},{"$f":"SUM(((S73*3)+V73+Y73)/5)","v":{"v":0,"d":"0.0"}}]
[]
[{"$f":"T(A71)","v":"Armed Assault/Active Shooter"},{"$nulls":3},"Threat",null,"Criticality",null,null,"Vulnerability",{"$nulls":8},"Consequence",{"$nulls":8},{"$f":"SUM(((((J81+S81)/2)*G81)*E81))","v":0}]
[{"$nulls":9},"Exposure",null,null,"Protective Measures",null,null,"Robustness/Resilience",null,null,"Human",null,null,"Economic",null,null,"Psychological"]
[{"$f":"T('Critical-Representative Assets'!B47)","v":"Bridges"},null,{"$f":"T('Critical-Representative Assets'!C47)","v":"HR"},{"$f":"SUM('Critical-Representative Assets'!D47)","v":12},{"v":1,"d":"1.0"},null,{"$f":"SUM('Critical-Representative Assets'!F47)","v":{"v":0,"d":"0.0"}},null,null,{"v":0,"d":"0.0"},null,null,{"v":0,"d":"0.0"},null,null,{"v":0,"d":"0.0"},null,null,{"v":0,"d":"0.0"},null,null,{"v":0,"d":"0.0"},null,null,{"v":0,"d":"0.0"}]
[{"$f":"T('Critical-Representative Assets'!E47)","v":""}]
[{"$nulls":4},{"$f":"SUM(E79)","v":{"v":1,"d":"1.0"}},null,{"$f":"SUM(G79)","v":{"v":0,"d":"0.0"}},null,null,{"$f":"SUM((J79+M79+P79)/3)","v":{"v":0,"d":"0.0"}},{"$nulls":8},{"$f":"SUM(((S79*3)+V79+Y79)/5)","v":{"v":0,"d":"0.0"}}]
[]
[{"$f":"T(A77)","v":"Armed Assault/Active Shooter"},{"$nulls":3},"Threat",null,"Criticality",null,null,"Vulnerability",{"$nulls":8},"Consequence",{"$nulls":8},{"$f":"SUM(((((J87+S87)/2)*G87)*E87))","v":0}]
[{"$nulls":9},"Exposure",null,null,"Protective Measures",null,null,"Robustness/Resilience",null,null,"Human",null,null,"Economic",null,null,"Psychological"]
[{"$f":"T('Critical-Representative Assets'!B48)","v":"Elevated Track"},null,{"$f":"T('Critical-Representative Assets'!C48)","v":"HR"},{"$f":"SUM('Critical-Representative Assets'!D48)","v":13},{"v":1,"d":"1.0"},null,{"$f":"SUM('Critical-Representative Assets'!F48)","v":{"v":0,"d":"0.0"}},null,null,{"v":0,"d":"0.0"},null,null,{"v":0,"d":"0.0"},null,null,{"v":0,"d":"0.0"},null,null,{"v":0,"d":"0.0"},null,null,{"v":0,"d":"0.0"},null,null,{"v":0,"d":"0.0"}]
[{"$f":"T('Critical-Representative Assets'!E48)","v":""}]
[{"$nulls":4},{"$f":"SUM(E85)","v":{"v":1,"d":"1.0"}},null,{"$f":"SUM(G85)","v":{"v":0,"d":"0.0"}},null,null,{"$f":"SUM((J85+M85+P85)/3)","v":{"v":0,"d":"0.0"}},{"$nulls":8},{"$f":"SUM(((S85*3)+V85+Y85)/5)","v":{"v":0,"d":"0.0"}}]
[]
[{"$f":"T(A83)","v":"Armed Assault/Active Shooter"},{"$nulls":3},"Threat",null,"Criticality",null,null,"Vulnerability",{"$nulls":8},"Consequence",{"$nulls":8},{"$f":"SUM(((((J93+S93)/2)*G93)*E93))","v":0}]
[{"$nulls":9},"Exposure",null,null,"Protective Measures",null,null,"Robustness/Resilience",null,null,"Human",null,null,"Economic",null,null,"Psychological"]
[{"$f":"T('Critical-Representative Assets'!B49)","v":"Tunnels "},null,{"$f":"T('Critical-Representative Assets'!C49)","v":"HR"},{"$f":"SUM('Critical-Representative Assets'!D49)","v":14},{"v":1,"d":"1.0"},null,{"$f":"SUM('Critical-Representative Assets'!F49)","v":{"v":0,"d":"0.0"}},null,null,{"v":0,"d":"0.0"},null,null,{"v":0,"d":"0.0"},null,null,{"v":0,"d":"0.0"},null,null,{"v":0,"d":"0.0"},null,null,{"v":0,"d":"0.0"},null,null,{"v":0,"d":"0.0"}]
[{"$f":"T('Critical-Representative Assets'!E49)","v":""}]
[{"$nulls":4},{"$f":"SUM(E91)","v":{"v":1,"d":"1.0"}},null,{"$f":"SUM(G91)","v":{"v":0,"d":"0.0"}},null,null,{"$f":"SUM((J91+M91+P91)/3)","v":{"v":0,"d":"0.0"}},{"$nulls":8},{"$f":"SUM(((S91*3)+V91+Y91)/5)","v":{"v":0,"d":"0.0"}}]
[]
[{"$f":"T(A89)","v":"Armed Assault/Active Shooter"},{"$nulls":3},"Threat",null,"Criticality",null,null,"Vulnerability",{"$nulls":8},"Consequence",{"$nulls":8},{"$f":"SUM(((((J99+S99)/2)*G99)*E99))","v":0}]
[{"$nulls":9},"Exposure",null,null,"Protective Measures",null,null,"Robustness/Resilience",null,null,"Human",null,null,"Economic",null,null,"Psychological"]
[{"$f":"T('Critical-Representative Assets'!B50)","v":"Choke Points on ROW"},null,{"$f":"T('Critical-Representative Assets'!C50)","v":"HR"},{"$f":"SUM('Critical-Representative Assets'!D50)","v":15},{"v":1,"d":"1.0"},null,{"$f":"SUM('Critical-Representative Assets'!F50)","v":{"v":0,"d":"0.0"}},null,null,{"v":0,"d":"0.0"},null,null,{"v":0,"d":"0.0"},null,null,{"v":0,"d":"0.0"},null,null,{"v":0,"d":"0.0"},null,null,{"v":0,"d":"0.0"},null,null,{"v":0,"d":"0.0"}]
[{"$f":"T('Critical-Representative Assets'!E50)","v":""}]
[{"$nulls":4},{"$f":"SUM(E97)","v":{"v":1,"d":"1.0"}},null,{"$f":"SUM(G97)","v":{"v":0,"d":"0.0"}},null,null,{"$f":"SUM((J97+M97+P97)/3)","v":{"v":0,"d":"0.0"}},{"$nulls":8},{"$f":"SUM(((S97*3)+V97+Y97)/5)","v":{"v":0,"d":"0.0"}}]
[]
[{"$f":"T(A95)","v":"Armed Assault/Active Shooter"},{"$nulls":3},"Threat",null,"Criticality",null,null,"Vulnerability",{"$nulls":8},"Consequence",{"$nulls":8},{"$f":"SUM(((((J105+S105)/2)*G105)*E105))","v":0}]
[{"$nulls":9},"Exposure",null,null,"Protective Measures",null,null,"Robustness/Resilience",null,null,"Human",null,null,"Economic",null,null,"Psychological"]
[{"$f":"T('Critical-Representative Assets'!B51)","v":"Fire Suppression"},null,{"$f":"T('Critical-Representative Assets'!C51)","v":"HR"},{"$f":"SUM('Critical-Representative Assets'!D51)","v":16},{"v":1,"d":"1.0"},null,{"$f":"SUM('Critical-Representative Assets'!F51)","v":{"v":0,"d":"0.0"}},null,null,{"v":0,"d":"0.0"},null,null,{"v":0,"d":"0.0"},null,null,{"v":0,"d":"0.0"},null,null,{"v":0,"d":"0.0"},null,null,{"v":0,"d":"0.0"},null,null,{"v":0,"d":"0.0"}]
[{"$f":"T('Critical-Representative Assets'!E51)","v":""}]
[{"$nulls":4},{"$f":"SUM(E103)","v":{"v":1,"d":"1.0"}},null,{"$f":"SUM(G103)","v":{"v":0,"d":"0.0"}},null,null,{"$f":"SUM((J103+M103+P103)/3)","v":{"v":0,"d":"0.0"}},{"$nulls":8},{"$f":"SUM(((S103*3)+V103+Y103)/5)","v":{"v":0,"d":"0.0"}}]
[]
[{"$f":"T(A101)","v":"Armed Assault/Active Shooter"},{"$nulls":3},"Threat",null,"Criticality",null,null,"Vulnerability",{"$nulls":8},"Consequence",{"$nulls":8},{"$f":"SUM(((((J111+S111)/2)*G111)*E111))","v":0}]
[{"$nulls":9},"Exposure",null,null,"Protective Measures",null,null,"Robustness/Resilience",null,null,"Human",null,null,"Economic",null,null,"Psychological"]
[{"$f":"T('Critical-Representative Assets'!B52)","v":"Air Handling"},null,{"$f":"T('Critical-Representative Assets'!C52)","v":"HR"},{"$f":"SUM('Critical-Representative Assets'!D52)","v":17},{"v":1,"d":"1.0"},null,{"$f":"SUM('Critical-Representative Assets'!F52)","v":{"v":0,"d":"0.0"}},null,null,{"v":0,"d":"0.0"},null,null,{"v":0,"d":"0.0"},null,null,{"v":0,"d":"0.0"},null,null,{"v":0,"d":"0.0"},null,null,{"v":0,"d":"0.0"},null,null,{"v":0,"d":"0.0"}]
[{"$f":"T('Critical-Representative Assets'!E52)","v":""}]
[{"$nulls":4},{"$f":"SUM(E109)","v":{"v":1,"d":"1.0"}},null,{"$f":"SUM(G109)","v":{"v":0,"d":"0.0"}},null,null,{"$f":"SUM((J109+M109+P109)/3)","v":{"v":0,"d":"0.0"}},{"$nulls":8},{"$f":"SUM(((S109*3)+V109+Y109)/5)","v":{"v":0,"d":"0.0"}}]
[]
[{"$f":"T(A107)","v":"Armed Assault/Active Shooter"},{"$nulls":3},"Threat",null,"Criticality",null,null,"Vulnerability",{"$nulls":8},"Consequence",{"$nulls":8},{"$f":"SUM(((((J117+S117)/2)*G117)*E117))","v":0}]
[{"$nulls":9},"Exposure",null,null,"Protective Measures",null,null,"Robustness/Resilience",null,null,"Human",null,null,"Economic",null,null,"Psychological"]
[{"$f":"T('Critical-Representative Assets'!B53)","v":"Power Generation/Distribution"},null,{"$f":"T('Critical-Representative Assets'!C53)","v":"HR"},{"$f":"SUM('Critical-Representative Assets'!D53)","v":18},{"v":1,"d":"1.0"},null,{"$f":"SUM('Critical-Representative Assets'!F53)","v":{"v":0,"d":"0.0"}},null,null,{"v":0,"d":"0.0"},null,null,{"v":0,"d":"0.0"},null,null,{"v":0,"d":"0.0"},null,null,{"v":0,"d":"0.0"},null,null,{"v":0,"d":"0.0"},null,null,{"v":0,"d":"0.0"}]
[{"$f":"T('Critical-Representative Assets'!E53)","v":""}]
[{"$nulls":4},{"$f":"SUM(E115)","v":{"v":1,"d":"1.0"}},null,{"$f":"SUM(G115)","v":{"v":0,"d":"0.0"}},null,null,{"$f":"SUM((J115+M115+P115)/3)","v":{"v":0,"d":"0.0"}},{"$nulls":8},{"$f":"SUM(((S115*3)+V115+Y115)/5)","v":{"v":0,"d":"0.0"}}]
[]
[{"$f":"T(A113)","v":"Armed Assault/Active Shooter"},{"$nulls":3},"Threat",null,"Criticality",null,null,"Vulnerability",{"$nulls":8},"Consequence",{"$nulls":8},{"$f":"SUM(((((J123+S123)/2)*G123)*E123))","v":0}]
[{"$nulls":9},"Exposure",null,null,"Protective Measures",null,null,"Robustness/Resilience",null,null,"Human",null,null,"Economic",null,null,"Psychological"]
[{"$f":"T('Critical-Representative Assets'!B54)","v":"Yards"},null,{"$f":"T('Critical-Representative Assets'!C54)","v":"HR"},{"$f":"SUM('Critical-Representative Assets'!D54)","v":19},{"v":1,"d":"1.0"},null,{"$f":"SUM('Critical-Representative Assets'!F54)","v":{"v":0,"d":"0.0"}},null,null,{"v":0,"d":"0.0"},null,null,{"v":0,"d":"0.0"},null,null,{"v":0,"d":"0.0"},null,null,{"v":0,"d":"0.0"},null,null,{"v":0,"d":"0.0"},null,null,{"v":0,"d":"0.0"}]
[{"$f":"T('Critical-Representative Assets'!E54)","v":""}]
[{"$nulls":4},{"$f":"SUM(E121)","v":{"v":1,"d":"1.0"}},null,{"$f":"SUM(G121)","v":{"v":0,"d":"0.0"}},null,null,{"$f":"SUM((J121+M121+P121)/3)","v":{"v":0,"d":"0.0"}},{"$nulls":8},{"$f":"SUM(((S121*3)+V121+Y121)/5)","v":{"v":0,"d":"0.0"}}]
[]
[{"$f":"T(A119)","v":"Armed Assault/Active Shooter"},{"$nulls":3},"Threat",null,"Criticality",null,null,"Vulnerability",{"$nulls":8},"Consequence",{"$nulls":8},{"$f":"SUM(((((J129+S129)/2)*G129)*E129))","v":0}]
[{"$nulls":9},"Exposure",null,null,"Protective Measures",null,null,"Robustness/Resilience",null,null,"Human",null,null,"Economic",null,null,"Psychological"]
[{"$f":"T('Critical-Representative Assets'!B55)","v":"Maintenance Barns/Facilities"},null,{"$f":"T('Critical-Representative Assets'!C55)","v":"HR"},{"$f":"SUM('Critical-Representative Assets'!D55)","v":20},{"v":1,"d":"1.0"},null,{"$f":"SUM('Critical-Representative Assets'!F55)","v":{"v":0,"d":"0.0"}},null,null,{"v":0,"d":"0.0"},null,null,{"v":0,"d":"0.0"},null,null,{"v":0,"d":"0.0"},null,null,{"v":0,"d":"0.0"},null,null,{"v":0,"d":"0.0"},null,null,{"v":0,"d":"0.0"}]
[{"$f":"T('Critical-Representative Assets'!E55)","v":""}]
[{"$nulls":4},{"$f":"SUM(E127)","v":{"v":1,"d":"1.0"}},null,{"$f":"SUM(G127)","v":{"v":0,"d":"0.0"}},null,null,{"$f":"SUM((J127+M127+P127)/3)","v":{"v":0,"d":"0.0"}},{"$nulls":8},{"$f":"SUM(((S127*3)+V127+Y127)/5)","v":{"v":0,"d":"0.0"}}]
[]
[{"$f":"T(Definitions!D20)","v":" VBIED or IED"}]
[{"$f":"T(A131)","v":" VBIED or IED"},{"$nulls":3},"Threat",null,"Criticality",null,null,"Vulnerability",{"$nulls":8},"Consequence",{"$nulls":8},{"$f":"SUM(((((J136+S136)/2)*G136)*E136))","v":0}]
[{"$nulls":9},"Exposure",null,null,"Protective Measures",null,null,"Robustness/Resilience",null,null,"Human",null,null,"Economic",null,null,"Psychological"]
[{"$f":"T(A13)","v":"Headquarters Building"},null,{"$f":"T(C13)","v":"HR"},{"$f":"SUM(D13)","v":1},{"v":1,"d":"1.0"},null,{"$f":"SUM(G13)","v":{"v":0,"d":"0.0"}},null,null,{"v":0,"d":"0.0"},null,null,{"v":0,"d":"0.0"},null,null,{"v":0,"d":"0.0"},null,null,{"v":0,"d":"0.0"},null,null,{"v":0,"d":"0.0"},null,null,{"v":0,"d":"0.0"}]
[{"$f":"T(A14)","v":""}]
[{"$nulls":4},{"$f":"SUM(E134)","v":{"v":1,"d":"1.0"}},null,{"$f":"SUM(G134)","v":{"v":0,"d":"0.0"}},null,null,{"$f":"SUM((J134+M134+P134)/3)","v":{"v":0,"d":"0.0"}},{"$nulls":8},{"$f":"SUM(((S134*3)+V134+Y134)/5)","v":{"v":0,"d":"0.0"}}]
[]
[{"$f":"T(A132)","v":" VBIED or IED"},{"$nulls":3},"Threat",null,"Criticality",null,null,"Vulnerability",{"$nulls":8},"Consequence",{"$nulls":8},{"$f":"SUM(((((J142+S142)/2)*G142)*E142))","v":0}]
[{"$nulls":9},"Exposure",null,null,"Protective Measures",null,null,"Robustness/Resilience",null,null,"Human",null,null,"Economic",null,null,"Psychological"]
[{"$f":"T(A19)","v":"Major Passenger Terminals"},null,{"$f":"T(C19)","v":"HR"},{"$f":"SUM(D19)","v":2},{"v":1,"d":"1.0"},null,{"$f":"SUM(G19)","v":{"v":0,"d":"0.0"}},null,null,{"v":0,"d":"0.0"},null,null,{"v":0,"d":"0.0"},null,null,{"v":0,"d":"0.0"},null,null,{"v":0,"d":"0.0"},null,null,{"v":0,"d":"0.0"},null,null,{"v":0,"d":"0.0"}]
[{"$f":"T(A20)","v":""}]
[{"$nulls":4},{"$f":"SUM(E140)","v":{"v":1,"d":"1.0"}},null,{"$f":"SUM(G140)","v":{"v":0,"d":"0.0"}},null,null,{"$f":"SUM((J140+M140+P140)/3)","v":{"v":0,"d":"0.0"}},{"$nulls":8},{"$f":"SUM(((S140*3)+V140+Y140)/5)","v":{"v":0,"d":"0.0"}}]
[]
[{"$f":"T(A138)","v":" VBIED or IED"},{"$nulls":3},"Threat",null,"Criticality",null,null,"Vulnerability",{"$nulls":8},"Consequence",{"$nulls":8},{"$f":"SUM(((((J148+S148)/2)*G148)*E148))","v":0}]
[{"$nulls":9},"Exposure",null,null,"Protective Measures",null,null,"Robustness/Resilience",null,null,"Human",null,null,"Economic",null,null,"Psychological"]
[{"$f":"T(A25)","v":"Major Line Stations"},null,{"$f":"T(C25)","v":"HR"},{"$f":"SUM(D25)","v":3},{"v":1,"d":"1.0"},null,{"$f":"SUM(G25)","v":{"v":0,"d":"0.0"}},null,null,{"v":0,"d":"0.0"},null,null,{"v":0,"d":"0.0"},null,null,{"v":0,"d":"0.0"},null,null,{"v":0,"d":"0.0"},null,null,{"v":0,"d":"0.0"},null,null,{"v":0,"d":"0.0"}]
[{"$f":"T(A26)","v":""}]
[{"$nulls":4},{"$f":"SUM(E146)","v":{"v":1,"d":"1.0"}},null,{"$f":"SUM(G146)","v":{"v":0,"d":"0.0"}},null,null,{"$f":"SUM((J146+M146+P146)/3)","v":{"v":0,"d":"0.0"}},{"$nulls":8},{"$f":"SUM(((S146*3)+V146+Y146)/5)","v":{"v":0,"d":"0.0"}}]
[]
[{"$f":"T(A144)","v":" VBIED or IED"},{"$nulls":3},"Threat",null,"Criticality",null,null,"Vulnerability",{"$nulls":8},"Consequence",{"$nulls":8},{"$f":"SUM(((((J154+S154)/2)*G154)*E154))","v":0}]
[{"$nulls":9},"Exposure",null,null,"Protective Measures",null,null,"Robustness/Resilience",null,null,"Human",null,null,"Economic",null,null,"Psychological"]
[{"$f":"T(A31)","v":"Parking Structures"},null,{"$f":"T(C31)","v":"HR"},{"$f":"SUM(D31)","v":4},{"v":1,"d":"1.0"},null,{"$f":"SUM(G31)","v":{"v":0,"d":"0.0"}},null,null,{"v":0,"d":"0.0"},null,null,{"v":0,"d":"0.0"},null,null,{"v":0,"d":"0.0"},null,null,{"v":0,"d":"0.0"},null,null,{"v":0,"d":"0.0"},null,null,{"v":0,"d":"0.0"}]
[{"$f":"T(A32)","v":""}]
[{"$nulls":4},{"$f":"SUM(E152)","v":{"v":1,"d":"1.0"}},null,{"$f":"SUM(G152)","v":{"v":0,"d":"0.0"}},null,null,{"$f":"SUM((J152+M152+P152)/3)","v":{"v":0,"d":"0.0"}},{"$nulls":8},{"$f":"SUM(((S152*3)+V152+Y152)/5)","v":{"v":0,"d":"0.0"}}]
[]
[{"$f":"T(A150)","v":" VBIED or IED"},{"$nulls":3},"Threat",null,"Criticality",null,null,"Vulnerability",{"$nulls":8},"Consequence",{"$nulls":8},{"$f":"SUM(((((J160+S160)/2)*G160)*E160))","v":0}]
[{"$nulls":9},"Exposure",null,null,"Protective Measures",null,null,"Robustness/Resilience",null,null,"Human",null,null,"Economic",null,null,"Psychological"]
[{"$f":"T(A37)","v":"Consist - Type 1"},null,{"$f":"T(C37)","v":"HR"},{"$f":"SUM(D37)","v":5},{"v":1,"d":"1.0"},null,{"$f":"SUM(G37)","v":{"v":0,"d":"0.0"}},null,null,{"v":0,"d":"0.0"},null,null,{"v":0,"d":"0.0"},null,null,{"v":0,"d":"0.0"},null,null,{"v":0,"d":"0.0"},null,null,{"v":0,"d":"0.0"},null,null,{"v":0,"d":"0.0"}]
[{"$f":"T(A38)","v":""}]
[{"$nulls":4},{"$f":"SUM(E158)","v":{"v":1,"d":"1.0"}},null,{"$f":"SUM(G158)","v":{"v":0,"d":"0.0"}},null,null,{"$f":"SUM((J158+M158+P158)/3)","v":{"v":0,"d":"0.0"}},{"$nulls":8},{"$f":"SUM(((S158*3)+V158+Y158)/5)","v":{"v":0,"d":"0.0"}}]
[]
[{"$f":"T(A156)","v":" VBIED or IED"},{"$nulls":3},"Threat",null,"Criticality",null,null,"Vulnerability",{"$nulls":8},"Consequence",{"$nulls":8},{"$f":"SUM(((((J166+S166)/2)*G166)*E166))","v":0}]
[{"$nulls":9},"Exposure",null,null,"Protective Measures",null,null,"Robustness/Resilience",null,null,"Human",null,null,"Economic",null,null,"Psychological"]
[{"$f":"T(A43)","v":"Consist - Type 2"},null,{"$f":"T(C43)","v":"HR"},{"$f":"SUM(D43)","v":6},{"v":1,"d":"1.0"},null,{"$f":"SUM(G43)","v":{"v":0,"d":"0.0"}},null,null,{"v":0,"d":"0.0"},null,null,{"v":0,"d":"0.0"},null,null,{"v":0,"d":"0.0"},null,null,{"v":0,"d":"0.0"},null,null,{"v":0,"d":"0.0"},null,null,{"v":0,"d":"0.0"}]
[{"$f":"T(A44)","v":""}]
[{"$nulls":4},{"$f":"SUM(E164)","v":{"v":1,"d":"1.0"}},null,{"$f":"SUM(G164)","v":{"v":0,"d":"0.0"}},null,null,{"$f":"SUM((J164+M164+P164)/3)","v":{"v":0,"d":"0.0"}},{"$nulls":8},{"$f":"SUM(((S164*3)+V164+Y164)/5)","v":{"v":0,"d":"0.0"}}]
[]
[{"$f":"T(A162)","v":" VBIED or IED"},{"$nulls":3},"Threat",null,"Criticality",null,null,"Vulnerability",{"$nulls":8},"Consequence",{"$nulls":8},{"$f":"SUM(((((J172+S172)/2)*G172)*E172))","v":0}]
[{"$nulls":9},"Exposure",null,null,"Protective Measures",null,null,"Robustness/Resilience",null,null,"Human",null,null,"Economic",null,null,"Psychological"]
[{"$f":"T(A49)","v":"Primary Control Center"},null,{"$f":"T(C49)","v":"HR"},{"$f":"SUM(D49)","v":7},{"v":1,"d":"1.0"},null,{"$f":"SUM(G49)","v":{"v":0,"d":"0.0"}},null,null,{"v":0,"d":"0.0"},null,null,{"v":0,"d":"0.0"},null,null,{"v":0,"d":"0.0"},null,null,{"v":0,"d":"0.0"},null,null,{"v":0,"d":"0.0"},null,null,{"v":0,"d":"0.0"}]
[{"$f":"T(A50)","v":""}]
[{"$nulls":4},{"$f":"SUM(E170)","v":{"v":1,"d":"1.0"}},null,{"$f":"SUM(G170)","v":{"v":0,"d":"0.0"}},null,null,{"$f":"SUM((J170+M170+P170)/3)","v":{"v":0,"d":"0.0"}},{"$nulls":8},{"$f":"SUM(((S170*3)+V170+Y170)/5)","v":{"v":0,"d":"0.0"}}]
[]
[{"$f":"T(A168)","v":" VBIED or IED"},{"$nulls":3},"Threat",null,"Criticality",null,null,"Vulnerability",{"$nulls":8},"Consequence",{"$nulls":8},{"$f":"SUM(((((J178+S178)/2)*G178)*E178))","v":0}]
[{"$nulls":9},"Exposure",null,null,"Protective Measures",null,null,"Robustness/Resilience",null,null,"Human",null,null,"Economic",null,null,"Psychological"]
[{"$f":"T(A55)","v":"Cyber Systems"},null,{"$f":"T(C55)","v":"HR"},{"$f":"SUM(D55)","v":8},{"v":1,"d":"1.0"},null,{"$f":"SUM(G55)","v":{"v":0,"d":"0.0"}},null,null,{"v":0,"d":"0.0"},null,null,{"v":0,"d":"0.0"},null,null,{"v":0,"d":"0.0"},null,null,{"v":0,"d":"0.0"},null,null,{"v":0,"d":"0.0"},null,null,{"v":0,"d":"0.0"}]
[{"$f":"T(A56)","v":""}]
[{"$nulls":4},{"$f":"SUM(E176)","v":{"v":1,"d":"1.0"}},null,{"$f":"SUM(G176)","v":{"v":0,"d":"0.0"}},null,null,{"$f":"SUM((J176+M176+P176)/3)","v":{"v":0,"d":"0.0"}},{"$nulls":8},{"$f":"SUM(((S176*3)+V176+Y176)/5)","v":{"v":0,"d":"0.0"}}]
[]
[{"$f":"T(A168)","v":" VBIED or IED"},{"$nulls":3},"Threat",null,"Criticality",null,null,"Vulnerability",{"$nulls":8},"Consequence",{"$nulls":8},{"$f":"SUM(((((J184+S184)/2)*G184)*E184))","v":0}]
[{"$nulls":9},"Exposure",null,null,"Protective Measures",null,null,"Robustness/Resilience",null,null,"Human",null,null,"Economic",null,null,"Psychological"]
[{"$f":"T(A61)","v":"Right of Way (ROW)"},null,{"$f":"T(C61)","v":"HR"},{"$f":"SUM(D61)","v":9},{"v":1,"d":"1.0"},null,{"$f":"SUM(G61)","v":{"v":0,"d":"0.0"}},null,null,{"v":0,"d":"0.0"},null,null,{"v":0,"d":"0.0"},null,null,{"v":0,"d":"0.0"},null,null,{"v":0,"d":"0.0"},null,null,{"v":0,"d":"0.0"},null,null,{"v":0,"d":"0.0"}]
[{"$f":"T(A62)","v":""}]
[{"$nulls":4},{"$f":"SUM(E182)","v":{"v":1,"d":"1.0"}},null,{"$f":"SUM(G182)","v":{"v":0,"d":"0.0"}},null,null,{"$f":"SUM((J182+M182+P182)/3)","v":{"v":0,"d":"0.0"}},{"$nulls":8},{"$f":"SUM(((S182*3)+V182+Y182)/5)","v":{"v":0,"d":"0.0"}}]
[]
[{"$f":"T(A168)","v":" VBIED or IED"},{"$nulls":3},"Threat",null,"Criticality",null,null,"Vulnerability",{"$nulls":8},"Consequence",{"$nulls":8},{"$f":"SUM(((((J190+S190)/2)*G190)*E190))","v":0}]
[{"$nulls":9},"Exposure",null,null,"Protective Measures",null,null,"Robustness/Resilience",null,null,"Human",null,null,"Economic",null,null,"Psychological"]
[{"$f":"T(A67)","v":"Signals & PTC"},null,{"$f":"T(C67)","v":"HR"},{"$f":"SUM(D67)","v":10},{"v":1,"d":"1.0"},null,{"$f":"SUM(G67)","v":{"v":0,"d":"0.0"}},null,null,{"v":0,"d":"0.0"},null,null,{"v":0,"d":"0.0"},null,null,{"v":0,"d":"0.0"},null,null,{"v":0,"d":"0.0"},null,null,{"v":0,"d":"0.0"},null,null,{"v":0,"d":"0.0"}]
[{"$f":"T(A68)","v":""}]
[{"$nulls":4},{"$f":"SUM(E188)","v":{"v":1,"d":"1.0"}},null,{"$f":"SUM(G188)","v":{"v":0,"d":"0.0"}},null,null,{"$f":"SUM((J188+M188+P188)/3)","v":{"v":0,"d":"0.0"}},{"$nulls":8},{"$f":"SUM(((S188*3)+V188+Y188)/5)","v":{"v":0,"d":"0.0"}}]
[]
[{"$f":"T(A186)","v":" VBIED or IED"},{"$nulls":3},"Threat",null,"Criticality",null,null,"Vulnerability",{"$nulls":8},"Consequence",{"$nulls":8},{"$f":"SUM(((((J196+S196)/2)*G196)*E196))","v":0}]
[{"$nulls":9},"Exposure",null,null,"Protective Measures",null,null,"Robustness/Resilience",null,null,"Human",null,null,"Economic",null,null,"Psychological"]
[{"$f":"T(A73)","v":"Switches "},null,{"$f":"T(C73)","v":"HR"},{"$f":"SUM(D73)","v":11},{"v":1,"d":"1.0"},null,{"$f":"SUM(G73)","v":{"v":0,"d":"0.0"}},null,null,{"v":0,"d":"0.0"},null,null,{"v":0,"d":"0.0"},null,null,{"v":0,"d":"0.0"},null,null,{"v":0,"d":"0.0"},null,null,{"v":0,"d":"0.0"},null,null,{"v":0,"d":"0.0"}]
[{"$f":"T(A74)","v":""}]
[{"$nulls":4},{"$f":"SUM(E194)","v":{"v":1,"d":"1.0"}},null,{"$f":"SUM(G194)","v":{"v":0,"d":"0.0"}},null,null,{"$f":"SUM((J194+M194+P194)/3)","v":{"v":0,"d":"0.0"}},{"$nulls":8},{"$f":"SUM(((S194*3)+V194+Y194)/5)","v":{"v":0,"d":"0.0"}}]
[]
[{"$f":"T(A192)","v":" VBIED or IED"},{"$nulls":3},"Threat",null,"Criticality",null,null,"Vulnerability",{"$nulls":8},"Consequence",{"$nulls":8},{"$f":"SUM(((((J202+S202)/2)*G202)*E202))","v":0}]
[{"$nulls":9},"Exposure",null,null,"Protective Measures",null,null,"Robustness/Resilience",null,null,"Human",null,null,"Economic",null,null,"Psychological"]
[{"$f":"T(A79)","v":"Bridges"},null,{"$f":"T(C79)","v":"HR"},{"$f":"SUM(D79)","v":12},{"v":1,"d":"1.0"},null,{"$f":"SUM(G79)","v":{"v":0,"d":"0.0"}},null,null,{"v":0,"d":"0.0"},null,null,{"v":0,"d":"0.0"},null,null,{"v":0,"d":"0.0"},null,null,{"v":0,"d":"0.0"},null,null,{"v":0,"d":"0.0"},null,null,{"v":0,"d":"0.0"}]
[{"$f":"T(A80)","v":""}]
[{"$nulls":4},{"$f":"SUM(E200)","v":{"v":1,"d":"1.0"}},null,{"$f":"SUM(G200)","v":{"v":0,"d":"0.0"}},null,null,{"$f":"SUM((J200+M200+P200)/3)","v":{"v":0,"d":"0.0"}},{"$nulls":8},{"$f":"SUM(((S200*3)+V200+Y200)/5)","v":{"v":0,"d":"0.0"}}]
[]
[{"$f":"T(A198)","v":" VBIED or IED"},{"$nulls":3},"Threat",null,"Criticality",null,null,"Vulnerability",{"$nulls":8},"Consequence",{"$nulls":8},{"$f":"SUM(((((J208+S208)/2)*G208)*E208))","v":0}]
[{"$nulls":9},"Exposure",null,null,"Protective Measures",null,null,"Robustness/Resilience",null,null,"Human",null,null,"Economic",null,null,"Psychological"]
[{"$f":"T(A85)","v":"Elevated Track"},null,{"$f":"T(C85)","v":"HR"},{"$f":"SUM(D85)","v":13},{"v":1,"d":"1.0"},null,{"$f":"SUM(G85)","v":{"v":0,"d":"0.0"}},null,null,{"v":0,"d":"0.0"},null,null,{"v":0,"d":"0.0"},null,null,{"v":0,"d":"0.0"},null,null,{"v":0,"d":"0.0"},null,null,{"v":0,"d":"0.0"},null,null,{"v":0,"d":"0.0"}]
[{"$f":"T(A86)","v":""}]
[{"$nulls":4},{"$f":"SUM(E206)","v":{"v":1,"d":"1.0"}},null,{"$f":"SUM(G206)","v":{"v":0,"d":"0.0"}},null,null,{"$f":"SUM((J206+M206+P206)/3)","v":{"v":0,"d":"0.0"}},{"$nulls":8},{"$f":"SUM(((S206*3)+V206+Y206)/5)","v":{"v":0,"d":"0.0"}}]
[]
[{"$f":"T(A204)","v":" VBIED or IED"},{"$nulls":3},"Threat",null,"Criticality",null,null,"Vulnerability",{"$nulls":8},"Consequence",{"$nulls":8},{"$f":"SUM(((((J214+S214)/2)*G214)*E214))","v":0}]
[{"$nulls":9},"Exposure",null,null,"Protective Measures",null,null,"Robustness/Resilience",null,null,"Human",null,null,"Economic",null,null,"Psychological"]
[{"$f":"T(A91)","v":"Tunnels "},null,{"$f":"T(C91)","v":"HR"},{"$f":"SUM(D91)","v":14},{"v":1,"d":"1.0"},null,{"$f":"SUM(G91)","v":{"v":0,"d":"0.0"}},null,null,{"v":0,"d":"0.0"},null,null,{"v":0,"d":"0.0"},null,null,{"v":0,"d":"0.0"},null,null,{"v":0,"d":"0.0"},null,null,{"v":0,"d":"0.0"},null,null,{"v":0,"d":"0.0"}]
[{"$f":"T(A92)","v":""}]
[{"$nulls":4},{"$f":"SUM(E212)","v":{"v":1,"d":"1.0"}},null,{"$f":"SUM(G212)","v":{"v":0,"d":"0.0"}},null,null,{"$f":"SUM((J212+M212+P212)/3)","v":{"v":0,"d":"0.0"}},{"$nulls":8},{"$f":"SUM(((S212*3)+V212+Y212)/5)","v":{"v":0,"d":"0.0"}}]
[]
[{"$f":"T(A210)","v":" VBIED or IED"},{"$nulls":3},"Threat",null,"Criticality",null,null,"Vulnerability",{"$nulls":8},"Consequence",{"$nulls":8},{"$f":"SUM(((((J220+S220)/2)*G220)*E220))","v":0}]
[{"$nulls":9},"Exposure",null,null,"Protective Measures",null,null,"Robustness/Resilience",null,null,"Human",null,null,"Economic",null,null,"Psychological"]
[{"$f":"T(A97)","v":"Choke Points on ROW"},null,{"$f":"T(C97)","v":"HR"},{"$f":"SUM(D97)","v":15},{"v":1,"d":"1.0"},null,{"$f":"SUM(G97)","v":{"v":0,"d":"0.0"}},null,null,{"v":0,"d":"0.0"},null,null,{"v":0,"d":"0.0"},null,null,{"v":0,"d":"0.0"},null,null,{"v":0,"d":"0.0"},null,null,{"v":0,"d":"0.0"},null,null,{"v":0,"d":"0.0"}]
[{"$f":"T(A98)","v":""}]
[{"$nulls":4},{"$f":"SUM(E218)","v":{"v":1,"d":"1.0"}},null,{"$f":"SUM(G218)","v":{"v":0,"d":"0.0"}},null,null,{"$f":"SUM((J218+M218+P218)/3)","v":{"v":0,"d":"0.0"}},{"$nulls":8},{"$f":"SUM(((S218*3)+V218+Y218)/5)","v":{"v":0,"d":"0.0"}}]
[]
[{"$f":"T(A216)","v":" VBIED or IED"},{"$nulls":3},"Threat",null,"Criticality",null,null,"Vulnerability",{"$nulls":8},"Consequence",{"$nulls":8},{"$f":"SUM(((((J226+S226)/2)*G226)*E226))","v":0}]
[{"$nulls":9},"Exposure",null,null,"Protective Measures",null,null,"Robustness/Resilience",null,null,"Human",null,null,"Economic",null,null,"Psychological"]
[{"$f":"T(A103)","v":"Fire Suppression"},null,{"$f":"T(C103)","v":"HR"},{"$f":"SUM(D103)","v":16},{"v":1,"d":"1.0"},null,{"$f":"SUM(G103)","v":{"v":0,"d":"0.0"}},null,null,{"v":0,"d":"0.0"},null,null,{"v":0,"d":"0.0"},null,null,{"v":0,"d":"0.0"},null,null,{"v":0,"d":"0.0"},null,null,{"v":0,"d":"0.0"},null,null,{"v":0,"d":"0.0"}]
[{"$f":"T(A104)","v":""}]
[{"$nulls":4},{"$f":"SUM(E224)","v":{"v":1,"d":"1.0"}},null,{"$f":"SUM(G224)","v":{"v":0,"d":"0.0"}},null,null,{"$f":"SUM((J224+M224+P224)/3)","v":{"v":0,"d":"0.0"}},{"$nulls":8},{"$f":"SUM(((S224*3)+V224+Y224)/5)","v":{"v":0,"d":"0.0"}}]
[]
[{"$f":"T(A222)","v":" VBIED or IED"},{"$nulls":3},"Threat",null,"Criticality",null,null,"Vulnerability",{"$nulls":8},"Consequence",{"$nulls":8},{"$f":"SUM(((((J232+S232)/2)*G232)*E232))","v":0}]
[{"$nulls":9},"Exposure",null,null,"Protective Measures",null,null,"Robustness/Resilience",null,null,"Human",null,null,"Economic",null,null,"Psychological"]
[{"$f":"T(A109)","v":"Air Handling"},null,{"$f":"T(C109)","v":"HR"},{"$f":"SUM(D109)","v":17},{"v":1,"d":"1.0"},null,{"$f":"SUM(G109)","v":{"v":0,"d":"0.0"}},null,null,{"v":0,"d":"0.0"},null,null,{"v":0,"d":"0.0"},null,null,{"v":0,"d":"0.0"},null,null,{"v":0,"d":"0.0"},null,null,{"v":0,"d":"0.0"},null,null,{"v":0,"d":"0.0"}]
[{"$f":"T(A110)","v":""}]
[{"$nulls":4},{"$f":"SUM(E230)","v":{"v":1,"d":"1.0"}},null,{"$f":"SUM(G230)","v":{"v":0,"d":"0.0"}},null,null,{"$f":"SUM((J230+M230+P230)/3)","v":{"v":0,"d":"0.0"}},{"$nulls":8},{"$f":"SUM(((S230*3)+V230+Y230)/5)","v":{"v":0,"d":"0.0"}}]
[]
[{"$f":"T(A228)","v":" VBIED or IED"},{"$nulls":3},"Threat",null,"Criticality",null,null,"Vulnerability",{"$nulls":8},"Consequence",{"$nulls":8},{"$f":"SUM(((((J238+S238)/2)*G238)*E238))","v":0}]
[{"$nulls":9},"Exposure",null,null,"Protective Measures",null,null,"Robustness/Resilience",null,null,"Human",null,null,"Economic",null,null,"Psychological"]
[{"$f":"T(A115)","v":"Power Generation/Distribution"},null,{"$f":"T(C115)","v":"HR"},{"$f":"SUM(D115)","v":18},{"v":1,"d":"1.0"},null,{"$f":"SUM(G115)","v":{"v":0,"d":"0.0"}},null,null,{"v":0,"d":"0.0"},null,null,{"v":0,"d":"0.0"},null,null,{"v":0,"d":"0.0"},null,null,{"v":0,"d":"0.0"},null,null,{"v":0,"d":"0.0"},null,null,{"v":0,"d":"0.0"}]
[{"$f":"T(A116)","v":""}]
[{"$nulls":4},{"$f":"SUM(E236)","v":{"v":1,"d":"1.0"}},null,{"$f":"SUM(G236)","v":{"v":0,"d":"0.0"}},null,null,{"$f":"SUM((J236+M236+P236)/3)","v":{"v":0,"d":"0.0"}},{"$nulls":8},{"$f":"SUM(((S236*3)+V236+Y236)/5)","v":{"v":0,"d":"0.0"}}]
[]
[{"$f":"T(A234)","v":" VBIED or IED"},{"$nulls":3},"Threat",null,"Criticality",null,null,"Vulnerability",{"$nulls":8},"Consequence",{"$nulls":8},{"$f":"SUM(((((J244+S244)/2)*G244)*E244))","v":0}]
[{"$nulls":9},"Exposure",null,null,"Protective Measures",null,null,"Robustness/Resilience",null,null,"Human",null,null,"Economic",null,null,"Psychological"]
[{"$f":"T(A121)","v":"Yards"},null,{"$f":"T(C121)","v":"HR"},{"$f":"SUM(D121)","v":19},{"v":1,"d":"1.0"},null,{"$f":"SUM(G121)","v":{"v":0,"d":"0.0"}},null,null,{"v":0,"d":"0.0"},null,null,{"v":0,"d":"0.0"},null,null,{"v":0,"d":"0.0"},null,null,{"v":0,"d":"0.0"},null,null,{"v":0,"d":"0.0"},null,null,{"v":0,"d":"0.0"}]
[{"$f":"T(A122)","v":""}]
[{"$nulls":4},{"$f":"SUM(E242)","v":{"v":1,"d":"1.0"}},null,{"$f":"SUM(G242)","v":{"v":0,"d":"0.0"}},null,null,{"$f":"SUM((J242+M242+P242)/3)","v":{"v":0,"d":"0.0"}},{"$nulls":8},{"$f":"SUM(((S242*3)+V242+Y242)/5)","v":{"v":0,"d":"0.0"}}]
[]
[{"$f":"T(A240)","v":" VBIED or IED"},{"$nulls":3},"Threat",null,"Criticality",null,null,"Vulnerability",{"$nulls":8},"Consequence",{"$nulls":8},{"$f":"SUM(((((J250+S250)/2)*G250)*E250))","v":0}]
[{"$nulls":9},"Exposure",null,null,"Protective Measures",null,null,"Robustness/Resilience",null,null,"Human",null,null,"Economic",null,null,"Psychological"]
[{"$f":"T(A127)","v":"Maintenance Barns/Facilities"},null,{"$f":"T(C127)","v":"HR"},{"$f":"SUM(D127)","v":20},{"v":1,"d":"1.0"},null,{"$f":"SUM(G127)","v":{"v":0,"d":"0.0"}},null,null,{"v":0,"d":"0.0"},null,null,{"v":0,"d":"0.0"},null,null,{"v":0,"d":"0.0"},null,null,{"v":0,"d":"0.0"},null,null,{"v":0,"d":"0.0"},null,null,{"v":0,"d":"0.0"}]
[{"$f":"T(A128)","v":""}]
[{"$nulls":4},{"$f":"SUM(E248)","v":{"v":1,"d":"1.0"}},null,{"$f":"SUM(G248)","v":{"v":0,"d":"0.0"}},null,null,{"$f":"SUM((J248+M248+P248)/3)","v":{"v":0,"d":"0.0"}},{"$nulls":8},{"$f":"SUM(((S248*3)+V248+Y248)/5)","v":{"v":0,"d":"0.0"}}]
[]
[{"$f":"T(Definitions!D21)","v":"Hijack"}]
[{"$f":"T(A252)","v":"Hijack"},{"$nulls":3},"Threat",null,"Criticality",null,null,"Vulnerability",{"$nulls":8},"Consequence",{"$nulls":8},{"$f":"SUM(((((J257+S257)/2)*G257)*E257))","v":0}]
[{"$nulls":9},"Exposure",null,null,"Protective Measures",null,null,"Robustness/Resilience",null,null,"Human",null,null,"Economic",null,null,"Psychological"]
[{"$f":"T(A134)","v":"Headquarters Building"},null,{"$f":"T(C134)","v":"HR"},{"$f":"SUM(D134)","v":1},{"v":1,"d":"1.0"},null,{"$f":"SUM(G134)","v":{"v":0,"d":"0.0"}},null,null,{"v":0,"d":"0.0"},null,null,{"v":0,"d":"0.0"},null,null,{"v":0,"d":"0.0"},null,null,{"v":0,"d":"0.0"},null,null,{"v":0,"d":"0.0"},null,null,{"v":0,"d":"0.0"}]
[{"$f":"T(A135)","v":""}]
[{"$nulls":4},{"$f":"SUM(E255)","v":{"v":1,"d":"1.0"}},null,{"$f":"SUM(G255)","v":{"v":0,"d":"0.0"}},null,null,{"$f":"SUM((J255+M255+P255)/3)","v":{"v":0,"d":"0.0"}},{"$nulls":8},{"$f":"SUM(((S255*3)+V255+Y255)/5)","v":{"v":0,"d":"0.0"}}]
[]
[{"$f":"T(A253)","v":"Hijack"},{"$nulls":3},"Threat",null,"Criticality",null,null,"Vulnerability",{"$nulls":8},"Consequence",{"$nulls":8},{"$f":"SUM(((((J263+S263)/2)*G263)*E263))","v":0}]
[{"$nulls":9},"Exposure",null,null,"Protective Measures",null,null,"Robustness/Resilience",null,null,"Human",null,null,"Economic",null,null,"Psychological"]
[{"$f":"T(A140)","v":"Major Passenger Terminals"},null,{"$f":"T(C140)","v":"HR"},{"$f":"SUM(D140)","v":2},{"v":1,"d":"1.0"},null,{"$f":"SUM(G140)","v":{"v":0,"d":"0.0"}},null,null,{"v":0,"d":"0.0"},null,null,{"v":0,"d":"0.0"},null,null,{"v":0,"d":"0.0"},null,null,{"v":0,"d":"0.0"},null,null,{"v":0,"d":"0.0"},null,null,{"v":0,"d":"0.0"}]
[{"$f":"T(A141)","v":""}]
[{"$nulls":4},{"$f":"SUM(E261)","v":{"v":1,"d":"1.0"}},null,{"$f":"SUM(G261)","v":{"v":0,"d":"0.0"}},null,null,{"$f":"SUM((J261+M261+P261)/3)","v":{"v":0,"d":"0.0"}},{"$nulls":8},{"$f":"SUM(((S261*3)+V261+Y261)/5)","v":{"v":0,"d":"0.0"}}]
[]
[{"$f":"T(A259)","v":"Hijack"},{"$nulls":3},"Threat",null,"Criticality",null,null,"Vulnerability",{"$nulls":8},"Consequence",{"$nulls":8},{"$f":"SUM(((((J269+S269)/2)*G269)*E269))","v":0}]
[{"$nulls":9},"Exposure",null,null,"Protective Measures",null,null,"Robustness/Resilience",null,null,"Human",null,null,"Economic",null,null,"Psychological"]
[{"$f":"T(A146)","v":"Major Line Stations"},null,{"$f":"T(C146)","v":"HR"},{"$f":"SUM(D146)","v":3},{"v":1,"d":"1.0"},null,{"$f":"SUM(G146)","v":{"v":0,"d":"0.0"}},null,null,{"v":0,"d":"0.0"},null,null,{"v":0,"d":"0.0"},null,null,{"v":0,"d":"0.0"},null,null,{"v":0,"d":"0.0"},null,null,{"v":0,"d":"0.0"},null,null,{"v":0,"d":"0.0"}]
[{"$f":"T(A147)","v":""}]
[{"$nulls":4},{"$f":"SUM(E267)","v":{"v":1,"d":"1.0"}},null,{"$f":"SUM(G267)","v":{"v":0,"d":"0.0"}},null,null,{"$f":"SUM((J267+M267+P267)/3)","v":{"v":0,"d":"0.0"}},{"$nulls":8},{"$f":"SUM(((S267*3)+V267+Y267)/5)","v":{"v":0,"d":"0.0"}}]
[]
[{"$f":"T(A265)","v":"Hijack"},{"$nulls":3},"Threat",null,"Criticality",null,null,"Vulnerability",{"$nulls":8},"Consequence",{"$nulls":8},{"$f":"SUM(((((J275+S275)/2)*G275)*E275))","v":0}]
[{"$nulls":9},"Exposure",null,null,"Protective Measures",null,null,"Robustness/Resilience",null,null,"Human",null,null,"Economic",null,null,"Psychological"]
[{"$f":"T(A152)","v":"Parking Structures"},null,{"$f":"T(C152)","v":"HR"},{"$f":"SUM(D152)","v":4},{"v":1,"d":"1.0"},null,{"$f":"SUM(G152)","v":{"v":0,"d":"0.0"}},null,null,{"v":0,"d":"0.0"},null,null,{"v":0,"d":"0.0"},null,null,{"v":0,"d":"0.0"},null,null,{"v":0,"d":"0.0"},null,null,{"v":0,"d":"0.0"},null,null,{"v":0,"d":"0.0"}]
[{"$f":"T(A153)","v":""}]
[{"$nulls":4},{"$f":"SUM(E273)","v":{"v":1,"d":"1.0"}},null,{"$f":"SUM(G273)","v":{"v":0,"d":"0.0"}},null,null,{"$f":"SUM((J273+M273+P273)/3)","v":{"v":0,"d":"0.0"}},{"$nulls":8},{"$f":"SUM(((S273*3)+V273+Y273)/5)","v":{"v":0,"d":"0.0"}}]
[]
[{"$f":"T(A271)","v":"Hijack"},{"$nulls":3},"Threat",null,"Criticality",null,null,"Vulnerability",{"$nulls":8},"Consequence",{"$nulls":8},{"$f":"SUM(((((J281+S281)/2)*G281)*E281))","v":0}]
[{"$nulls":9},"Exposure",null,null,"Protective Measures",null,null,"Robustness/Resilience",null,null,"Human",null,null,"Economic",null,null,"Psychological"]
[{"$f":"T(A158)","v":"Consist - Type 1"},null,{"$f":"T(C158)","v":"HR"},{"$f":"SUM(D158)","v":5},{"v":1,"d":"1.0"},null,{"$f":"SUM(G158)","v":{"v":0,"d":"0.0"}},null,null,{"v":0,"d":"0.0"},null,null,{"v":0,"d":"0.0"},null,null,{"v":0,"d":"0.0"},null,null,{"v":0,"d":"0.0"},null,null,{"v":0,"d":"0.0"},null,null,{"v":0,"d":"0.0"}]
[{"$f":"T(A159)","v":""}]
[{"$nulls":4},{"$f":"SUM(E279)","v":{"v":1,"d":"1.0"}},null,{"$f":"SUM(G279)","v":{"v":0,"d":"0.0"}},null,null,{"$f":"SUM((J279+M279+P279)/3)","v":{"v":0,"d":"0.0"}},{"$nulls":8},{"$f":"SUM(((S279*3)+V279+Y279)/5)","v":{"v":0,"d":"0.0"}}]
[]
[{"$f":"T(A277)","v":"Hijack"},{"$nulls":3},"Threat",null,"Criticality",null,null,"Vulnerability",{"$nulls":8},"Consequence",{"$nulls":8},{"$f":"SUM(((((J287+S287)/2)*G287)*E287))","v":0}]
[{"$nulls":9},"Exposure",null,null,"Protective Measures",null,null,"Robustness/Resilience",null,null,"Human",null,null,"Economic",null,null,"Psychological"]
[{"$f":"T(A164)","v":"Consist - Type 2"},null,{"$f":"T(C164)","v":"HR"},{"$f":"SUM(D164)","v":6},{"v":1,"d":"1.0"},null,{"$f":"SUM(G164)","v":{"v":0,"d":"0.0"}},null,null,{"v":0,"d":"0.0"},null,null,{"v":0,"d":"0.0"},null,null,{"v":0,"d":"0.0"},null,null,{"v":0,"d":"0.0"},null,null,{"v":0,"d":"0.0"},null,null,{"v":0,"d":"0.0"}]
[{"$f":"T(A165)","v":""}]
[{"$nulls":4},{"$f":"SUM(E285)","v":{"v":1,"d":"1.0"}},null,{"$f":"SUM(G285)","v":{"v":0,"d":"0.0"}},null,null,{"$f":"SUM((J285+M285+P285)/3)","v":{"v":0,"d":"0.0"}},{"$nulls":8},{"$f":"SUM(((S285*3)+V285+Y285)/5)","v":{"v":0,"d":"0.0"}}]
[]
[{"$f":"T(A283)","v":"Hijack"},{"$nulls":3},"Threat",null,"Criticality",null,null,"Vulnerability",{"$nulls":8},"Consequence",{"$nulls":8},{"$f":"SUM(((((J293+S293)/2)*G293)*E293))","v":0}]
[{"$nulls":9},"Exposure",null,null,"Protective Measures",null,null,"Robustness/Resilience",null,null,"Human",null,null,"Economic",null,null,"Psychological"]
[{"$f":"T(A170)","v":"Primary Control Center"},null,{"$f":"T(C170)","v":"HR"},{"$f":"SUM(D170)","v":7},{"v":1,"d":"1.0"},null,{"$f":"SUM(G170)","v":{"v":0,"d":"0.0"}},null,null,{"v":0,"d":"0.0"},null,null,{"v":0,"d":"0.0"},null,null,{"v":0,"d":"0.0"},null,null,{"v":0,"d":"0.0"},null,null,{"v":0,"d":"0.0"},null,null,{"v":0,"d":"0.0"}]
[{"$f":"T(A171)","v":""}]
[{"$nulls":4},{"$f":"SUM(E291)","v":{"v":1,"d":"1.0"}},null,{"$f":"SUM(G291)","v":{"v":0,"d":"0.0"}},null,null,{"$f":"SUM((J291+M291+P291)/3)","v":{"v":0,"d":"0.0"}},{"$nulls":8},{"$f":"SUM(((S291*3)+V291+Y291)/5)","v":{"v":0,"d":"0.0"}}]
[]
[{"$f":"T(A289)","v":"Hijack"},{"$nulls":3},"Threat",null,"Criticality",null,null,"Vulnerability",{"$nulls":8},"Consequence",{"$nulls":8},{"$f":"SUM(((((J299+S299)/2)*G299)*E299))","v":0}]
[{"$nulls":9},"Exposure",null,null,"Protective Measures",null,null,"Robustness/Resilience",null,null,"Human",null,null,"Economic",null,null,"Psychological"]
[{"$f":"T(A176)","v":"Cyber Systems"},null,{"$f":"T(C176)","v":"HR"},{"$f":"SUM(D176)","v":8},{"v":1,"d":"1.0"},null,{"$f":"SUM(G176)","v":{"v":0,"d":"0.0"}},null,null,{"v":0,"d":"0.0"},null,null,{"v":0,"d":"0.0"},null,null,{"v":0,"d":"0.0"},null,null,{"v":0,"d":"0.0"},null,null,{"v":0,"d":"0.0"},null,null,{"v":0,"d":"0.0"}]
[{"$f":"T(A177)","v":""}]
[{"$nulls":4},{"$f":"SUM(E297)","v":{"v":1,"d":"1.0"}},null,{"$f":"SUM(G297)","v":{"v":0,"d":"0.0"}},null,null,{"$f":"SUM((J297+M297+P297)/3)","v":{"v":0,"d":"0.0"}},{"$nulls":8},{"$f":"SUM(((S297*3)+V297+Y297)/5)","v":{"v":0,"d":"0.0"}}]
[]
[{"$f":"T(A289)","v":"Hijack"},{"$nulls":3},"Threat",null,"Criticality",null,null,"Vulnerability",{"$nulls":8},"Consequence",{"$nulls":8},{"$f":"SUM(((((J305+S305)/2)*G305)*E305))","v":0}]
[{"$nulls":9},"Exposure",null,null,"Protective Measures",null,null,"Robustness/Resilience",null,null,"Human",null,null,"Economic",null,null,"Psychological"]
[{"$f":"T(A182)","v":"Right of Way (ROW)"},null,{"$f":"T(C182)","v":"HR"},{"$f":"SUM(D182)","v":9},{"v":1,"d":"1.0"},null,{"$f":"SUM(G182)","v":{"v":0,"d":"0.0"}},null,null,{"v":0,"d":"0.0"},null,null,{"v":0,"d":"0.0"},null,null,{"v":0,"d":"0.0"},null,null,{"v":0,"d":"0.0"},null,null,{"v":0,"d":"0.0"},null,null,{"v":0,"d":"0.0"}]
[{"$f":"T(A183)","v":""}]
[{"$nulls":4},{"$f":"SUM(E303)","v":{"v":1,"d":"1.0"}},null,{"$f":"SUM(G303)","v":{"v":0,"d":"0.0"}},null,null,{"$f":"SUM((J303+M303+P303)/3)","v":{"v":0,"d":"0.0"}},{"$nulls":8},{"$f":"SUM(((S303*3)+V303+Y303)/5)","v":{"v":0,"d":"0.0"}}]
[]
[{"$f":"T(A289)","v":"Hijack"},{"$nulls":3},"Threat",null,"Criticality",null,null,"Vulnerability",{"$nulls":8},"Consequence",{"$nulls":8},{"$f":"SUM(((((J311+S311)/2)*G311)*E311))","v":0}]
[{"$nulls":9},"Exposure",null,null,"Protective Measures",null,null,"Robustness/Resilience",null,null,"Human",null,null,"Economic",null,null,"Psychological"]
[{"$f":"T(A188)","v":"Signals & PTC"},null,{"$f":"T(C188)","v":"HR"},{"$f":"SUM(D188)","v":10},{"v":1,"d":"1.0"},null,{"$f":"SUM(G188)","v":{"v":0,"d":"0.0"}},null,null,{"v":0,"d":"0.0"},null,null,{"v":0,"d":"0.0"},null,null,{"v":0,"d":"0.0"},null,null,{"v":0,"d":"0.0"},null,null,{"v":0,"d":"0.0"},null,null,{"v":0,"d":"0.0"}]
[{"$f":"T(A189)","v":""}]
[{"$nulls":4},{"$f":"SUM(E309)","v":{"v":1,"d":"1.0"}},null,{"$f":"SUM(G309)","v":{"v":0,"d":"0.0"}},null,null,{"$f":"SUM((J309+M309+P309)/3)","v":{"v":0,"d":"0.0"}},{"$nulls":8},{"$f":"SUM(((S309*3)+V309+Y309)/5)","v":{"v":0,"d":"0.0"}}]
[]
[{"$f":"T(A307)","v":"Hijack"},{"$nulls":3},"Threat",null,"Criticality",null,null,"Vulnerability",{"$nulls":8},"Consequence",{"$nulls":8},{"$f":"SUM(((((J317+S317)/2)*G317)*E317))","v":0}]
[{"$nulls":9},"Exposure",null,null,"Protective Measures",null,null,"Robustness/Resilience",null,null,"Human",null,null,"Economic",null,null,"Psychological"]
[{"$f":"T(A194)","v":"Switches "},null,{"$f":"T(C194)","v":"HR"},{"$f":"SUM(D194)","v":11},{"v":1,"d":"1.0"},null,{"$f":"SUM(G194)","v":{"v":0,"d":"0.0"}},null,null,{"v":0,"d":"0.0"},null,null,{"v":0,"d":"0.0"},null,null,{"v":0,"d":"0.0"},null,null,{"v":0,"d":"0.0"},null,null,{"v":0,"d":"0.0"},null,null,{"v":0,"d":"0.0"}]
[{"$f":"T(A195)","v":""}]
[{"$nulls":4},{"$f":"SUM(E315)","v":{"v":1,"d":"1.0"}},null,{"$f":"SUM(G315)","v":{"v":0,"d":"0.0"}},null,null,{"$f":"SUM((J315+M315+P315)/3)","v":{"v":0,"d":"0.0"}},{"$nulls":8},{"$f":"SUM(((S315*3)+V315+Y315)/5)","v":{"v":0,"d":"0.0"}}]
[]
[{"$f":"T(A313)","v":"Hijack"},{"$nulls":3},"Threat",null,"Criticality",null,null,"Vulnerability",{"$nulls":8},"Consequence",{"$nulls":8},{"$f":"SUM(((((J323+S323)/2)*G323)*E323))","v":0}]
[{"$nulls":9},"Exposure",null,null,"Protective Measures",null,null,"Robustness/Resilience",null,null,"Human",null,null,"Economic",null,null,"Psychological"]
[{"$f":"T(A200)","v":"Bridges"},null,{"$f":"T(C200)","v":"HR"},{"$f":"SUM(D200)","v":12},{"v":1,"d":"1.0"},null,{"$f":"SUM(G200)","v":{"v":0,"d":"0.0"}},null,null,{"v":0,"d":"0.0"},null,null,{"v":0,"d":"0.0"},null,null,{"v":0,"d":"0.0"},null,null,{"v":0,"d":"0.0"},null,null,{"v":0,"d":"0.0"},null,null,{"v":0,"d":"0.0"}]
[{"$f":"T(A201)","v":""}]
[{"$nulls":4},{"$f":"SUM(E321)","v":{"v":1,"d":"1.0"}},null,{"$f":"SUM(G321)","v":{"v":0,"d":"0.0"}},null,null,{"$f":"SUM((J321+M321+P321)/3)","v":{"v":0,"d":"0.0"}},{"$nulls":8},{"$f":"SUM(((S321*3)+V321+Y321)/5)","v":{"v":0,"d":"0.0"}}]
[]
[{"$f":"T(A319)","v":"Hijack"},{"$nulls":3},"Threat",null,"Criticality",null,null,"Vulnerability",{"$nulls":8},"Consequence",{"$nulls":8},{"$f":"SUM(((((J329+S329)/2)*G329)*E329))","v":0}]
[{"$nulls":9},"Exposure",null,null,"Protective Measures",null,null,"Robustness/Resilience",null,null,"Human",null,null,"Economic",null,null,"Psychological"]
[{"$f":"T(A206)","v":"Elevated Track"},null,{"$f":"T(C206)","v":"HR"},{"$f":"SUM(D206)","v":13},{"v":1,"d":"1.0"},null,{"$f":"SUM(G206)","v":{"v":0,"d":"0.0"}},null,null,{"v":0,"d":"0.0"},null,null,{"v":0,"d":"0.0"},null,null,{"v":0,"d":"0.0"},null,null,{"v":0,"d":"0.0"},null,null,{"v":0,"d":"0.0"},null,null,{"v":0,"d":"0.0"}]
[{"$f":"T(A207)","v":""}]
[{"$nulls":4},{"$f":"SUM(E327)","v":{"v":1,"d":"1.0"}},null,{"$f":"SUM(G327)","v":{"v":0,"d":"0.0"}},null,null,{"$f":"SUM((J327+M327+P327)/3)","v":{"v":0,"d":"0.0"}},{"$nulls":8},{"$f":"SUM(((S327*3)+V327+Y327)/5)","v":{"v":0,"d":"0.0"}}]
[]
[{"$f":"T(A325)","v":"Hijack"},{"$nulls":3},"Threat",null,"Criticality",null,null,"Vulnerability",{"$nulls":8},"Consequence",{"$nulls":8},{"$f":"SUM(((((J335+S335)/2)*G335)*E335))","v":0}]
[{"$nulls":9},"Exposure",null,null,"Protective Measures",null,null,"Robustness/Resilience",null,null,"Human",null,null,"Economic",null,null,"Psychological"]
[{"$f":"T(A212)","v":"Tunnels "},null,{"$f":"T(C212)","v":"HR"},{"$f":"SUM(D212)","v":14},{"v":1,"d":"1.0"},null,{"$f":"SUM(G212)","v":{"v":0,"d":"0.0"}},null,null,{"v":0,"d":"0.0"},null,null,{"v":0,"d":"0.0"},null,null,{"v":0,"d":"0.0"},null,null,{"v":0,"d":"0.0"},null,null,{"v":0,"d":"0.0"},null,null,{"v":0,"d":"0.0"}]
[{"$f":"T(A213)","v":""}]
[{"$nulls":4},{"$f":"SUM(E333)","v":{"v":1,"d":"1.0"}},null,{"$f":"SUM(G333)","v":{"v":0,"d":"0.0"}},null,null,{"$f":"SUM((J333+M333+P333)/3)","v":{"v":0,"d":"0.0"}},{"$nulls":8},{"$f":"SUM(((S333*3)+V333+Y333)/5)","v":{"v":0,"d":"0.0"}}]
[]
[{"$f":"T(A331)","v":"Hijack"},{"$nulls":3},"Threat",null,"Criticality",null,null,"Vulnerability",{"$nulls":8},"Consequence",{"$nulls":8},{"$f":"SUM(((((J341+S341)/2)*G341)*E341))","v":0}]
[{"$nulls":9},"Exposure",null,null,"Protective Measures",null,null,"Robustness/Resilience",null,null,"Human",null,null,"Economic",null,null,"Psychological"]
[{"$f":"T(A218)","v":"Choke Points on ROW"},null,{"$f":"T(C218)","v":"HR"},{"$f":"SUM(D218)","v":15},{"v":1,"d":"1.0"},null,{"$f":"SUM(G218)","v":{"v":0,"d":"0.0"}},null,null,{"v":0,"d":"0.0"},null,null,{"v":0,"d":"0.0"},null,null,{"v":0,"d":"0.0"},null,null,{"v":0,"d":"0.0"},null,null,{"v":0,"d":"0.0"},null,null,{"v":0,"d":"0.0"}]
[{"$f":"T(A219)","v":""}]
[{"$nulls":4},{"$f":"SUM(E339)","v":{"v":1,"d":"1.0"}},null,{"$f":"SUM(G339)","v":{"v":0,"d":"0.0"}},null,null,{"$f":"SUM((J339+M339+P339)/3)","v":{"v":0,"d":"0.0"}},{"$nulls":8},{"$f":"SUM(((S339*3)+V339+Y339)/5)","v":{"v":0,"d":"0.0"}}]
[]
[{"$f":"T(A337)","v":"Hijack"},{"$nulls":3},"Threat",null,"Criticality",null,null,"Vulnerability",{"$nulls":8},"Consequence",{"$nulls":8},{"$f":"SUM(((((J347+S347)/2)*G347)*E347))","v":0}]
[{"$nulls":9},"Exposure",null,null,"Protective Measures",null,null,"Robustness/Resilience",null,null,"Human",null,null,"Economic",null,null,"Psychological"]
[{"$f":"T(A224)","v":"Fire Suppression"},null,{"$f":"T(C224)","v":"HR"},{"$f":"SUM(D224)","v":16},{"v":1,"d":"1.0"},null,{"$f":"SUM(G224)","v":{"v":0,"d":"0.0"}},null,null,{"v":0,"d":"0.0"},null,null,{"v":0,"d":"0.0"},null,null,{"v":0,"d":"0.0"},null,null,{"v":0,"d":"0.0"},null,null,{"v":0,"d":"0.0"},null,null,{"v":0,"d":"0.0"}]
[{"$f":"T(A225)","v":""}]
[{"$nulls":4},{"$f":"SUM(E345)","v":{"v":1,"d":"1.0"}},null,{"$f":"SUM(G345)","v":{"v":0,"d":"0.0"}},null,null,{"$f":"SUM((J345+M345+P345)/3)","v":{"v":0,"d":"0.0"}},{"$nulls":8},{"$f":"SUM(((S345*3)+V345+Y345)/5)","v":{"v":0,"d":"0.0"}}]
[]
[{"$f":"T(A343)","v":"Hijack"},{"$nulls":3},"Threat",null,"Criticality",null,null,"Vulnerability",{"$nulls":8},"Consequence",{"$nulls":8},{"$f":"SUM(((((J353+S353)/2)*G353)*E353))","v":0}]
[{"$nulls":9},"Exposure",null,null,"Protective Measures",null,null,"Robustness/Resilience",null,null,"Human",null,null,"Economic",null,null,"Psychological"]
[{"$f":"T(A230)","v":"Air Handling"},null,{"$f":"T(C230)","v":"HR"},{"$f":"SUM(D230)","v":17},{"v":1,"d":"1.0"},null,{"$f":"SUM(G230)","v":{"v":0,"d":"0.0"}},null,null,{"v":0,"d":"0.0"},null,null,{"v":0,"d":"0.0"},null,null,{"v":0,"d":"0.0"},null,null,{"v":0,"d":"0.0"},null,null,{"v":0,"d":"0.0"},null,null,{"v":0,"d":"0.0"}]
[{"$f":"T(A231)","v":""}]
[{"$nulls":4},{"$f":"SUM(E351)","v":{"v":1,"d":"1.0"}},null,{"$f":"SUM(G351)","v":{"v":0,"d":"0.0"}},null,null,{"$f":"SUM((J351+M351+P351)/3)","v":{"v":0,"d":"0.0"}},{"$nulls":8},{"$f":"SUM(((S351*3)+V351+Y351)/5)","v":{"v":0,"d":"0.0"}}]
[]
[{"$f":"T(A349)","v":"Hijack"},{"$nulls":3},"Threat",null,"Criticality",null,null,"Vulnerability",{"$nulls":8},"Consequence",{"$nulls":8},{"$f":"SUM(((((J359+S359)/2)*G359)*E359))","v":0}]
[{"$nulls":9},"Exposure",null,null,"Protective Measures",null,null,"Robustness/Resilience",null,null,"Human",null,null,"Economic",null,null,"Psychological"]
[{"$f":"T(A236)","v":"Power Generation/Distribution"},null,{"$f":"T(C236)","v":"HR"},{"$f":"SUM(D236)","v":18},{"v":1,"d":"1.0"},null,{"$f":"SUM(G236)","v":{"v":0,"d":"0.0"}},null,null,{"v":0,"d":"0.0"},null,null,{"v":0,"d":"0.0"},null,null,{"v":0,"d":"0.0"},null,null,{"v":0,"d":"0.0"},null,null,{"v":0,"d":"0.0"},null,null,{"v":0,"d":"0.0"}]
[{"$f":"T(A237)","v":""}]
[{"$nulls":4},{"$f":"SUM(E357)","v":{"v":1,"d":"1.0"}},null,{"$f":"SUM(G357)","v":{"v":0,"d":"0.0"}},null,null,{"$f":"SUM((J357+M357+P357)/3)","v":{"v":0,"d":"0.0"}},{"$nulls":8},{"$f":"SUM(((S357*3)+V357+Y357)/5)","v":{"v":0,"d":"0.0"}}]
[]
[{"$f":"T(A355)","v":"Hijack"},{"$nulls":3},"Threat",null,"Criticality",null,null,"Vulnerability",{"$nulls":8},"Consequence",{"$nulls":8},{"$f":"SUM(((((J365+S365)/2)*G365)*E365))","v":0}]
[{"$nulls":9},"Exposure",null,null,"Protective Measures",null,null,"Robustness/Resilience",null,null,"Human",null,null,"Economic",null,null,"Psychological"]
[{"$f":"T(A242)","v":"Yards"},null,{"$f":"T(C242)","v":"HR"},{"$f":"SUM(D242)","v":19},{"v":1,"d":"1.0"},null,{"$f":"SUM(G242)","v":{"v":0,"d":"0.0"}},null,null,{"v":0,"d":"0.0"},null,null,{"v":0,"d":"0.0"},null,null,{"v":0,"d":"0.0"},null,null,{"v":0,"d":"0.0"},null,null,{"v":0,"d":"0.0"},null,null,{"v":0,"d":"0.0"}]
[{"$f":"T(A243)","v":""}]
[{"$nulls":4},{"$f":"SUM(E363)","v":{"v":1,"d":"1.0"}},null,{"$f":"SUM(G363)","v":{"v":0,"d":"0.0"}},null,null,{"$f":"SUM((J363+M363+P363)/3)","v":{"v":0,"d":"0.0"}},{"$nulls":8},{"$f":"SUM(((S363*3)+V363+Y363)/5)","v":{"v":0,"d":"0.0"}}]
[]
[{"$f":"T(A361)","v":"Hijack"},{"$nulls":3},"Threat",null,"Criticality",null,null,"Vulnerability",{"$nulls":8},"Consequence",{"$nulls":8},{"$f":"SUM(((((J371+S371)/2)*G371)*E371))","v":0}]
[{"$nulls":9},"Exposure",null,null,"Protective Measures",null,null,"Robustness/Resilience",null,null,"Human",null,null,"Economic",null,null,"Psychological"]
[{"$f":"T(A248)","v":"Maintenance Barns/Facilities"},null,{"$f":"T(C248)","v":"HR"},{"$f":"SUM(D248)","v":20},{"v":1,"d":"1.0"},null,{"$f":"SUM(G248)","v":{"v":0,"d":"0.0"}},null,null,{"v":0,"d":"0.0"},null,null,{"v":0,"d":"0.0"},null,null,{"v":0,"d":"0.0"},null,null,{"v":0,"d":"0.0"},null,null,{"v":0,"d":"0.0"},null,null,{"v":0,"d":"0.0"}]
[{"$f":"T(A249)","v":""}]
[{"$nulls":4},{"$f":"SUM(E369)","v":{"v":1,"d":"1.0"}},null,{"$f":"SUM(G369)","v":{"v":0,"d":"0.0"}},null,null,{"$f":"SUM((J369+M369+P369)/3)","v":{"v":0,"d":"0.0"}},{"$nulls":8},{"$f":"SUM(((S369*3)+V369+Y369)/5)","v":{"v":0,"d":"0.0"}}]
[]
[{"$f":"T(Definitions!D22)","v":"Coordinated Complex Attack"}]
[{"$f":"T(A373)","v":"Coordinated Complex Attack"},{"$nulls":3},"Threat",null,"Criticality",null,null,"Vulnerability",{"$nulls":8},"Consequence",{"$nulls":8},{"$f":"SUM(((((J378+S378)/2)*G378)*E378))","v":0}]
[{"$nulls":9},"Exposure",null,null,"Protective Measures",null,null,"Robustness/Resilience",null,null,"Human",null,null,"Economic",null,null,"Psychological"]
[{"$f":"T(A255)","v":"Headquarters Building"},null,{"$f":"T(C255)","v":"HR"},{"$f":"SUM(D255)","v":1},{"v":1,"d":"1.0"},null,{"$f":"SUM(G255)","v":{"v":0,"d":"0.0"}},null,null,{"v":0,"d":"0.0"},null,null,{"v":0,"d":"0.0"},null,null,{"v":0,"d":"0.0"},null,null,{"v":0,"d":"0.0"},null,null,{"v":0,"d":"0.0"},null,null,{"v":0,"d":"0.0"}]
[{"$f":"T(A256)","v":""}]
[{"$nulls":4},{"$f":"SUM(E376)","v":{"v":1,"d":"1.0"}},null,{"$f":"SUM(G376)","v":{"v":0,"d":"0.0"}},null,null,{"$f":"SUM((J376+M376+P376)/3)","v":{"v":0,"d":"0.0"}},{"$nulls":8},{"$f":"SUM(((S376*3)+V376+Y376)/5)","v":{"v":0,"d":"0.0"}}]
[]
[{"$f":"T(A374)","v":"Coordinated Complex Attack"},{"$nulls":3},"Threat",null,"Criticality",null,null,"Vulnerability",{"$nulls":8},"Consequence",{"$nulls":8},{"$f":"SUM(((((J384+S384)/2)*G384)*E384))","v":0}]
[{"$nulls":9},"Exposure",null,null,"Protective Measures",null,null,"Robustness/Resilience",null,null,"Human",null,null,"Economic",null,null,"Psychological"]
[{"$f":"T(A261)","v":"Major Passenger Terminals"},null,{"$f":"T(C261)","v":"HR"},{"$f":"SUM(D261)","v":2},{"v":1,"d":"1.0"},null,{"$f":"SUM(G261)","v":{"v":0,"d":"0.0"}},null,null,{"v":0,"d":"0.0"},null,null,{"v":0,"d":"0.0"},null,null,{"v":0,"d":"0.0"},null,null,{"v":0,"d":"0.0"},null,null,{"v":0,"d":"0.0"},null,null,{"v":0,"d":"0.0"}]
[{"$f":"T(A262)","v":""}]
[{"$nulls":4},{"$f":"SUM(E382)","v":{"v":1,"d":"1.0"}},null,{"$f":"SUM(G382)","v":{"v":0,"d":"0.0"}},null,null,{"$f":"SUM((J382+M382+P382)/3)","v":{"v":0,"d":"0.0"}},{"$nulls":8},{"$f":"SUM(((S382*3)+V382+Y382)/5)","v":{"v":0,"d":"0.0"}}]
[]
[{"$f":"T(A380)","v":"Coordinated Complex Attack"},{"$nulls":3},"Threat",null,"Criticality",null,null,"Vulnerability",{"$nulls":8},"Consequence",{"$nulls":8},{"$f":"SUM(((((J390+S390)/2)*G390)*E390))","v":0}]
[{"$nulls":9},"Exposure",null,null,"Protective Measures",null,null,"Robustness/Resilience",null,null,"Human",null,null,"Economic",null,null,"Psychological"]
[{"$f":"T(A267)","v":"Major Line Stations"},null,{"$f":"T(C267)","v":"HR"},{"$f":"SUM(D267)","v":3},{"v":1,"d":"1.0"},null,{"$f":"SUM(G267)","v":{"v":0,"d":"0.0"}},null,null,{"v":0,"d":"0.0"},null,null,{"v":0,"d":"0.0"},null,null,{"v":0,"d":"0.0"},null,null,{"v":0,"d":"0.0"},null,null,{"v":0,"d":"0.0"},null,null,{"v":0,"d":"0.0"}]
[{"$f":"T(A268)","v":""}]
[{"$nulls":4},{"$f":"SUM(E388)","v":{"v":1,"d":"1.0"}},null,{"$f":"SUM(G388)","v":{"v":0,"d":"0.0"}},null,null,{"$f":"SUM((J388+M388+P388)/3)","v":{"v":0,"d":"0.0"}},{"$nulls":8},{"$f":"SUM(((S388*3)+V388+Y388)/5)","v":{"v":0,"d":"0.0"}}]
[]
[{"$f":"T(A386)","v":"Coordinated Complex Attack"},{"$nulls":3},"Threat",null,"Criticality",null,null,"Vulnerability",{"$nulls":8},"Consequence",{"$nulls":8},{"$f":"SUM(((((J396+S396)/2)*G396)*E396))","v":0}]
[{"$nulls":9},"Exposure",null,null,"Protective Measures",null,null,"Robustness/Resilience",null,null,"Human",null,null,"Economic",null,null,"Psychological"]
[{"$f":"T(A273)","v":"Parking Structures"},null,{"$f":"T(C273)","v":"HR"},{"$f":"SUM(D273)","v":4},{"v":1,"d":"1.0"},null,{"$f":"SUM(G273)","v":{"v":0,"d":"0.0"}},null,null,{"v":0,"d":"0.0"},null,null,{"v":0,"d":"0.0"},null,null,{"v":0,"d":"0.0"},null,null,{"v":0,"d":"0.0"},null,null,{"v":0,"d":"0.0"},null,null,{"v":0,"d":"0.0"}]
[{"$f":"T(A274)","v":""}]
[{"$nulls":4},{"$f":"SUM(E394)","v":{"v":1,"d":"1.0"}},null,{"$f":"SUM(G394)","v":{"v":0,"d":"0.0"}},null,null,{"$f":"SUM((J394+M394+P394)/3)","v":{"v":0,"d":"0.0"}},{"$nulls":8},{"$f":"SUM(((S394*3)+V394+Y394)/5)","v":{"v":0,"d":"0.0"}}]
[]
[{"$f":"T(A392)","v":"Coordinated Complex Attack"},{"$nulls":3},"Threat",null,"Criticality",null,null,"Vulnerability",{"$nulls":8},"Consequence",{"$nulls":8},{"$f":"SUM(((((J402+S402)/2)*G402)*E402))","v":0}]
[{"$nulls":9},"Exposure",null,null,"Protective Measures",null,null,"Robustness/Resilience",null,null,"Human",null,null,"Economic",null,null,"Psychological"]
[{"$f":"T(A279)","v":"Consist - Type 1"},null,{"$f":"T(C279)","v":"HR"},{"$f":"SUM(D279)","v":5},{"v":1,"d":"1.0"},null,{"$f":"SUM(G279)","v":{"v":0,"d":"0.0"}},null,null,{"v":0,"d":"0.0"},null,null,{"v":0,"d":"0.0"},null,null,{"v":0,"d":"0.0"},null,null,{"v":0,"d":"0.0"},null,null,{"v":0,"d":"0.0"},null,null,{"v":0,"d":"0.0"}]
[{"$f":"T(A280)","v":""}]
[{"$nulls":4},{"$f":"SUM(E400)","v":{"v":1,"d":"1.0"}},null,{"$f":"SUM(G400)","v":{"v":0,"d":"0.0"}},null,null,{"$f":"SUM((J400+M400+P400)/3)","v":{"v":0,"d":"0.0"}},{"$nulls":8},{"$f":"SUM(((S400*3)+V400+Y400)/5)","v":{"v":0,"d":"0.0"}}]
[]
[{"$f":"T(A398)","v":"Coordinated Complex Attack"},{"$nulls":3},"Threat",null,"Criticality",null,null,"Vulnerability",{"$nulls":8},"Consequence",{"$nulls":8},{"$f":"SUM(((((J408+S408)/2)*G408)*E408))","v":0}]
[{"$nulls":9},"Exposure",null,null,"Protective Measures",null,null,"Robustness/Resilience",null,null,"Human",null,null,"Economic",null,null,"Psychological"]
[{"$f":"T(A285)","v":"Consist - Type 2"},null,{"$f":"T(C285)","v":"HR"},{"$f":"SUM(D285)","v":6},{"v":1,"d":"1.0"},null,{"$f":"SUM(G285)","v":{"v":0,"d":"0.0"}},null,null,{"v":0,"d":"0.0"},null,null,{"v":0,"d":"0.0"},null,null,{"v":0,"d":"0.0"},null,null,{"v":0,"d":"0.0"},null,null,{"v":0,"d":"0.0"},null,null,{"v":0,"d":"0.0"}]
[{"$f":"T(A286)","v":""}]
[{"$nulls":4},{"$f":"SUM(E406)","v":{"v":1,"d":"1.0"}},null,{"$f":"SUM(G406)","v":{"v":0,"d":"0.0"}},null,null,{"$f":"SUM((J406+M406+P406)/3)","v":{"v":0,"d":"0.0"}},{"$nulls":8},{"$f":"SUM(((S406*3)+V406+Y406)/5)","v":{"v":0,"d":"0.0"}}]
[]
[{"$f":"T(A404)","v":"Coordinated Complex Attack"},{"$nulls":3},"Threat",null,"Criticality",null,null,"Vulnerability",{"$nulls":8},"Consequence",{"$nulls":8},{"$f":"SUM(((((J414+S414)/2)*G414)*E414))","v":0}]
[{"$nulls":9},"Exposure",null,null,"Protective Measures",null,null,"Robustness/Resilience",null,null,"Human",null,null,"Economic",null,null,"Psychological"]
[{"$f":"T(A291)","v":"Primary Control Center"},null,{"$f":"T(C291)","v":"HR"},{"$f":"SUM(D291)","v":7},{"v":1,"d":"1.0"},null,{"$f":"SUM(G291)","v":{"v":0,"d":"0.0"}},null,null,{"v":0,"d":"0.0"},null,null,{"v":0,"d":"0.0"},null,null,{"v":0,"d":"0.0"},null,null,{"v":0,"d":"0.0"},null,null,{"v":0,"d":"0.0"},null,null,{"v":0,"d":"0.0"}]
[{"$f":"T(A292)","v":""}]
[{"$nulls":4},{"$f":"SUM(E412)","v":{"v":1,"d":"1.0"}},null,{"$f":"SUM(G412)","v":{"v":0,"d":"0.0"}},null,null,{"$f":"SUM((J412+M412+P412)/3)","v":{"v":0,"d":"0.0"}},{"$nulls":8},{"$f":"SUM(((S412*3)+V412+Y412)/5)","v":{"v":0,"d":"0.0"}}]
[]
[{"$f":"T(A410)","v":"Coordinated Complex Attack"},{"$nulls":3},"Threat",null,"Criticality",null,null,"Vulnerability",{"$nulls":8},"Consequence",{"$nulls":8},{"$f":"SUM(((((J420+S420)/2)*G420)*E420))","v":0}]
[{"$nulls":9},"Exposure",null,null,"Protective Measures",null,null,"Robustness/Resilience",null,null,"Human",null,null,"Economic",null,null,"Psychological"]
[{"$f":"T(A297)","v":"Cyber Systems"},null,{"$f":"T(C297)","v":"HR"},{"$f":"SUM(D297)","v":8},{"v":1,"d":"1.0"},null,{"$f":"SUM(G297)","v":{"v":0,"d":"0.0"}},null,null,{"v":0,"d":"0.0"},null,null,{"v":0,"d":"0.0"},null,null,{"v":0,"d":"0.0"},null,null,{"v":0,"d":"0.0"},null,null,{"v":0,"d":"0.0"},null,null,{"v":0,"d":"0.0"}]
[{"$f":"T(A298)","v":""}]
[{"$nulls":4},{"$f":"SUM(E418)","v":{"v":1,"d":"1.0"}},null,{"$f":"SUM(G418)","v":{"v":0,"d":"0.0"}},null,null,{"$f":"SUM((J418+M418+P418)/3)","v":{"v":0,"d":"0.0"}},{"$nulls":8},{"$f":"SUM(((S418*3)+V418+Y418)/5)","v":{"v":0,"d":"0.0"}}]
[]
[{"$f":"T(A410)","v":"Coordinated Complex Attack"},{"$nulls":3},"Threat",null,"Criticality",null,null,"Vulnerability",{"$nulls":8},"Consequence",{"$nulls":8},{"$f":"SUM(((((J426+S426)/2)*G426)*E426))","v":0}]
[{"$nulls":9},"Exposure",null,null,"Protective Measures",null,null,"Robustness/Resilience",null,null,"Human",null,null,"Economic",null,null,"Psychological"]
[{"$f":"T(A303)","v":"Right of Way (ROW)"},null,{"$f":"T(C303)","v":"HR"},{"$f":"SUM(D303)","v":9},{"v":1,"d":"1.0"},null,{"$f":"SUM(G303)","v":{"v":0,"d":"0.0"}},null,null,{"v":0,"d":"0.0"},null,null,{"v":0,"d":"0.0"},null,null,{"v":0,"d":"0.0"},null,null,{"v":0,"d":"0.0"},null,null,{"v":0,"d":"0.0"},null,null,{"v":0,"d":"0.0"}]
[{"$f":"T(A304)","v":""}]
[{"$nulls":4},{"$f":"SUM(E424)","v":{"v":1,"d":"1.0"}},null,{"$f":"SUM(G424)","v":{"v":0,"d":"0.0"}},null,null,{"$f":"SUM((J424+M424+P424)/3)","v":{"v":0,"d":"0.0"}},{"$nulls":8},{"$f":"SUM(((S424*3)+V424+Y424)/5)","v":{"v":0,"d":"0.0"}}]
[]
[{"$f":"T(A410)","v":"Coordinated Complex Attack"},{"$nulls":3},"Threat",null,"Criticality",null,null,"Vulnerability",{"$nulls":8},"Consequence",{"$nulls":8},{"$f":"SUM(((((J432+S432)/2)*G432)*E432))","v":0}]
[{"$nulls":9},"Exposure",null,null,"Protective Measures",null,null,"Robustness/Resilience",null,null,"Human",null,null,"Economic",null,null,"Psychological"]
[{"$f":"T(A309)","v":"Signals & PTC"},null,{"$f":"T(C309)","v":"HR"},{"$f":"SUM(D309)","v":10},{"v":1,"d":"1.0"},null,{"$f":"SUM(G309)","v":{"v":0,"d":"0.0"}},null,null,{"v":0,"d":"0.0"},null,null,{"v":0,"d":"0.0"},null,null,{"v":0,"d":"0.0"},null,null,{"v":0,"d":"0.0"},null,null,{"v":0,"d":"0.0"},null,null,{"v":0,"d":"0.0"}]
[{"$f":"T(A310)","v":""}]
[{"$nulls":4},{"$f":"SUM(E430)","v":{"v":1,"d":"1.0"}},null,{"$f":"SUM(G430)","v":{"v":0,"d":"0.0"}},null,null,{"$f":"SUM((J430+M430+P430)/3)","v":{"v":0,"d":"0.0"}},{"$nulls":8},{"$f":"SUM(((S430*3)+V430+Y430)/5)","v":{"v":0,"d":"0.0"}}]
[]
[{"$f":"T(A428)","v":"Coordinated Complex Attack"},{"$nulls":3},"Threat",null,"Criticality",null,null,"Vulnerability",{"$nulls":8},"Consequence",{"$nulls":8},{"$f":"SUM(((((J438+S438)/2)*G438)*E438))","v":0}]
[{"$nulls":9},"Exposure",null,null,"Protective Measures",null,null,"Robustness/Resilience",null,null,"Human",null,null,"Economic",null,null,"Psychological"]
[{"$f":"T(A315)","v":"Switches "},null,{"$f":"T(C315)","v":"HR"},{"$f":"SUM(D315)","v":11},{"v":1,"d":"1.0"},null,{"$f":"SUM(G315)","v":{"v":0,"d":"0.0"}},null,null,{"v":0,"d":"0.0"},null,null,{"v":0,"d":"0.0"},null,null,{"v":0,"d":"0.0"},null,null,{"v":0,"d":"0.0"},null,null,{"v":0,"d":"0.0"},null,null,{"v":0,"d":"0.0"}]
[{"$f":"T(A316)","v":""}]
[{"$nulls":4},{"$f":"SUM(E436)","v":{"v":1,"d":"1.0"}},null,{"$f":"SUM(G436)","v":{"v":0,"d":"0.0"}},null,null,{"$f":"SUM((J436+M436+P436)/3)","v":{"v":0,"d":"0.0"}},{"$nulls":8},{"$f":"SUM(((S436*3)+V436+Y436)/5)","v":{"v":0,"d":"0.0"}}]
[]
[{"$f":"T(A434)","v":"Coordinated Complex Attack"},{"$nulls":3},"Threat",null,"Criticality",null,null,"Vulnerability",{"$nulls":8},"Consequence",{"$nulls":8},{"$f":"SUM(((((J444+S444)/2)*G444)*E444))","v":0}]
[{"$nulls":9},"Exposure",null,null,"Protective Measures",null,null,"Robustness/Resilience",null,null,"Human",null,null,"Economic",null,null,"Psychological"]
[{"$f":"T(A321)","v":"Bridges"},null,{"$f":"T(C321)","v":"HR"},{"$f":"SUM(D321)","v":12},{"v":1,"d":"1.0"},null,{"$f":"SUM(G321)","v":{"v":0,"d":"0.0"}},null,null,{"v":0,"d":"0.0"},null,null,{"v":0,"d":"0.0"},null,null,{"v":0,"d":"0.0"},null,null,{"v":0,"d":"0.0"},null,null,{"v":0,"d":"0.0"},null,null,{"v":0,"d":"0.0"}]
[{"$f":"T(A322)","v":""}]
[{"$nulls":4},{"$f":"SUM(E442)","v":{"v":1,"d":"1.0"}},null,{"$f":"SUM(G442)","v":{"v":0,"d":"0.0"}},null,null,{"$f":"SUM((J442+M442+P442)/3)","v":{"v":0,"d":"0.0"}},{"$nulls":8},{"$f":"SUM(((S442*3)+V442+Y442)/5)","v":{"v":0,"d":"0.0"}}]
[]
[{"$f":"T(A440)","v":"Coordinated Complex Attack"},{"$nulls":3},"Threat",null,"Criticality",null,null,"Vulnerability",{"$nulls":8},"Consequence",{"$nulls":8},{"$f":"SUM(((((J450+S450)/2)*G450)*E450))","v":0}]
[{"$nulls":9},"Exposure",null,null,"Protective Measures",null,null,"Robustness/Resilience",null,null,"Human",null,null,"Economic",null,null,"Psychological"]
[{"$f":"T(A327)","v":"Elevated Track"},null,{"$f":"T(C327)","v":"HR"},{"$f":"SUM(D327)","v":13},{"v":1,"d":"1.0"},null,{"$f":"SUM(G327)","v":{"v":0,"d":"0.0"}},null,null,{"v":0,"d":"0.0"},null,null,{"v":0,"d":"0.0"},null,null,{"v":0,"d":"0.0"},null,null,{"v":0,"d":"0.0"},null,null,{"v":0,"d":"0.0"},null,null,{"v":0,"d":"0.0"}]
[{"$f":"T(A328)","v":""}]
[{"$nulls":4},{"$f":"SUM(E448)","v":{"v":1,"d":"1.0"}},null,{"$f":"SUM(G448)","v":{"v":0,"d":"0.0"}},null,null,{"$f":"SUM((J448+M448+P448)/3)","v":{"v":0,"d":"0.0"}},{"$nulls":8},{"$f":"SUM(((S448*3)+V448+Y448)/5)","v":{"v":0,"d":"0.0"}}]
[]
[{"$f":"T(A446)","v":"Coordinated Complex Attack"},{"$nulls":3},"Threat",null,"Criticality",null,null,"Vulnerability",{"$nulls":8},"Consequence",{"$nulls":8},{"$f":"SUM(((((J456+S456)/2)*G456)*E456))","v":0}]
[{"$nulls":9},"Exposure",null,null,"Protective Measures",null,null,"Robustness/Resilience",null,null,"Human",null,null,"Economic",null,null,"Psychological"]
[{"$f":"T(A333)","v":"Tunnels "},null,{"$f":"T(C333)","v":"HR"},{"$f":"SUM(D333)","v":14},{"v":1,"d":"1.0"},null,{"$f":"SUM(G333)","v":{"v":0,"d":"0.0"}},null,null,{"v":0,"d":"0.0"},null,null,{"v":0,"d":"0.0"},null,null,{"v":0,"d":"0.0"},null,null,{"v":0,"d":"0.0"},null,null,{"v":0,"d":"0.0"},null,null,{"v":0,"d":"0.0"}]
[{"$f":"T(A334)","v":""}]
[{"$nulls":4},{"$f":"SUM(E454)","v":{"v":1,"d":"1.0"}},null,{"$f":"SUM(G454)","v":{"v":0,"d":"0.0"}},null,null,{"$f":"SUM((J454+M454+P454)/3)","v":{"v":0,"d":"0.0"}},{"$nulls":8},{"$f":"SUM(((S454*3)+V454+Y454)/5)","v":{"v":0,"d":"0.0"}}]
[]
[{"$f":"T(A452)","v":"Coordinated Complex Attack"},{"$nulls":3},"Threat",null,"Criticality",null,null,"Vulnerability",{"$nulls":8},"Consequence",{"$nulls":8},{"$f":"SUM(((((J462+S462)/2)*G462)*E462))","v":0}]
[{"$nulls":9},"Exposure",null,null,"Protective Measures",null,null,"Robustness/Resilience",null,null,"Human",null,null,"Economic",null,null,"Psychological"]
[{"$f":"T(A339)","v":"Choke Points on ROW"},null,{"$f":"T(C339)","v":"HR"},{"$f":"SUM(D339)","v":15},{"v":1,"d":"1.0"},null,{"$f":"SUM(G339)","v":{"v":0,"d":"0.0"}},null,null,{"v":0,"d":"0.0"},null,null,{"v":0,"d":"0.0"},null,null,{"v":0,"d":"0.0"},null,null,{"v":0,"d":"0.0"},null,null,{"v":0,"d":"0.0"},null,null,{"v":0,"d":"0.0"}]
[{"$f":"T(A340)","v":""}]
[{"$nulls":4},{"$f":"SUM(E460)","v":{"v":1,"d":"1.0"}},null,{"$f":"SUM(G460)","v":{"v":0,"d":"0.0"}},null,null,{"$f":"SUM((J460+M460+P460)/3)","v":{"v":0,"d":"0.0"}},{"$nulls":8},{"$f":"SUM(((S460*3)+V460+Y460)/5)","v":{"v":0,"d":"0.0"}}]
[]
[{"$f":"T(A458)","v":"Coordinated Complex Attack"},{"$nulls":3},"Threat",null,"Criticality",null,null,"Vulnerability",{"$nulls":8},"Consequence",{"$nulls":8},{"$f":"SUM(((((J468+S468)/2)*G468)*E468))","v":0}]
[{"$nulls":9},"Exposure",null,null,"Protective Measures",null,null,"Robustness/Resilience",null,null,"Human",null,null,"Economic",null,null,"Psychological"]
[{"$f":"T(A345)","v":"Fire Suppression"},null,{"$f":"T(C345)","v":"HR"},{"$f":"SUM(D345)","v":16},{"v":1,"d":"1.0"},null,{"$f":"SUM(G345)","v":{"v":0,"d":"0.0"}},null,null,{"v":0,"d":"0.0"},null,null,{"v":0,"d":"0.0"},null,null,{"v":0,"d":"0.0"},null,null,{"v":0,"d":"0.0"},null,null,{"v":0,"d":"0.0"},null,null,{"v":0,"d":"0.0"}]
[{"$f":"T(A346)","v":""}]
[{"$nulls":4},{"$f":"SUM(E466)","v":{"v":1,"d":"1.0"}},null,{"$f":"SUM(G466)","v":{"v":0,"d":"0.0"}},null,null,{"$f":"SUM((J466+M466+P466)/3)","v":{"v":0,"d":"0.0"}},{"$nulls":8},{"$f":"SUM(((S466*3)+V466+Y466)/5)","v":{"v":0,"d":"0.0"}}]
[]
[{"$f":"T(A464)","v":"Coordinated Complex Attack"},{"$nulls":3},"Threat",null,"Criticality",null,null,"Vulnerability",{"$nulls":8},"Consequence",{"$nulls":8},{"$f":"SUM(((((J474+S474)/2)*G474)*E474))","v":0}]
[{"$nulls":9},"Exposure",null,null,"Protective Measures",null,null,"Robustness/Resilience",null,null,"Human",null,null,"Economic",null,null,"Psychological"]
[{"$f":"T(A351)","v":"Air Handling"},null,{"$f":"T(C351)","v":"HR"},{"$f":"SUM(D351)","v":17},{"v":1,"d":"1.0"},null,{"$f":"SUM(G351)","v":{"v":0,"d":"0.0"}},null,null,{"v":0,"d":"0.0"},null,null,{"v":0,"d":"0.0"},null,null,{"v":0,"d":"0.0"},null,null,{"v":0,"d":"0.0"},null,null,{"v":0,"d":"0.0"},null,null,{"v":0,"d":"0.0"}]
[{"$f":"T(A352)","v":""}]
[{"$nulls":4},{"$f":"SUM(E472)","v":{"v":1,"d":"1.0"}},null,{"$f":"SUM(G472)","v":{"v":0,"d":"0.0"}},null,null,{"$f":"SUM((J472+M472+P472)/3)","v":{"v":0,"d":"0.0"}},{"$nulls":8},{"$f":"SUM(((S472*3)+V472+Y472)/5)","v":{"v":0,"d":"0.0"}}]
[]
[{"$f":"T(A470)","v":"Coordinated Complex Attack"},{"$nulls":3},"Threat",null,"Criticality",null,null,"Vulnerability",{"$nulls":8},"Consequence",{"$nulls":8},{"$f":"SUM(((((J480+S480)/2)*G480)*E480))","v":0}]
[{"$nulls":9},"Exposure",null,null,"Protective Measures",null,null,"Robustness/Resilience",null,null,"Human",null,null,"Economic",null,null,"Psychological"]
[{"$f":"T(A357)","v":"Power Generation/Distribution"},null,{"$f":"T(C357)","v":"HR"},{"$f":"SUM(D357)","v":18},{"v":1,"d":"1.0"},null,{"$f":"SUM(G357)","v":{"v":0,"d":"0.0"}},null,null,{"v":0,"d":"0.0"},null,null,{"v":0,"d":"0.0"},null,null,{"v":0,"d":"0.0"},null,null,{"v":0,"d":"0.0"},null,null,{"v":0,"d":"0.0"},null,null,{"v":0,"d":"0.0"}]
[{"$f":"T(A358)","v":""}]
[{"$nulls":4},{"$f":"SUM(E478)","v":{"v":1,"d":"1.0"}},null,{"$f":"SUM(G478)","v":{"v":0,"d":"0.0"}},null,null,{"$f":"SUM((J478+M478+P478)/3)","v":{"v":0,"d":"0.0"}},{"$nulls":8},{"$f":"SUM(((S478*3)+V478+Y478)/5)","v":{"v":0,"d":"0.0"}}]
[]
[{"$f":"T(A476)","v":"Coordinated Complex Attack"},{"$nulls":3},"Threat",null,"Criticality",null,null,"Vulnerability",{"$nulls":8},"Consequence",{"$nulls":8},{"$f":"SUM(((((J486+S486)/2)*G486)*E486))","v":0}]
[{"$nulls":9},"Exposure",null,null,"Protective Measures",null,null,"Robustness/Resilience",null,null,"Human",null,null,"Economic",null,null,"Psychological"]
[{"$f":"T(A363)","v":"Yards"},null,{"$f":"T(C363)","v":"HR"},{"$f":"SUM(D363)","v":19},{"v":1,"d":"1.0"},null,{"$f":"SUM(G363)","v":{"v":0,"d":"0.0"}},null,null,{"v":0,"d":"0.0"},null,null,{"v":0,"d":"0.0"},null,null,{"v":0,"d":"0.0"},null,null,{"v":0,"d":"0.0"},null,null,{"v":0,"d":"0.0"},null,null,{"v":0,"d":"0.0"}]
[{"$f":"T(A364)","v":""}]
[{"$nulls":4},{"$f":"SUM(E484)","v":{"v":1,"d":"1.0"}},null,{"$f":"SUM(G484)","v":{"v":0,"d":"0.0"}},null,null,{"$f":"SUM((J484+M484+P484)/3)","v":{"v":0,"d":"0.0"}},{"$nulls":8},{"$f":"SUM(((S484*3)+V484+Y484)/5)","v":{"v":0,"d":"0.0"}}]
[]
[{"$f":"T(A482)","v":"Coordinated Complex Attack"},{"$nulls":3},"Threat",null,"Criticality",null,null,"Vulnerability",{"$nulls":8},"Consequence",{"$nulls":8},{"$f":"SUM(((((J492+S492)/2)*G492)*E492))","v":0}]
[{"$nulls":9},"Exposure",null,null,"Protective Measures",null,null,"Robustness/Resilience",null,null,"Human",null,null,"Economic",null,null,"Psychological"]
[{"$f":"T(A369)","v":"Maintenance Barns/Facilities"},null,{"$f":"T(C369)","v":"HR"},{"$f":"SUM(D369)","v":20},{"v":1,"d":"1.0"},null,{"$f":"SUM(G369)","v":{"v":0,"d":"0.0"}},null,null,{"v":0,"d":"0.0"},null,null,{"v":0,"d":"0.0"},null,null,{"v":0,"d":"0.0"},null,null,{"v":0,"d":"0.0"},null,null,{"v":0,"d":"0.0"},null,null,{"v":0,"d":"0.0"}]
[{"$f":"T(A370)","v":""}]
[{"$nulls":4},{"$f":"SUM(E490)","v":{"v":1,"d":"1.0"}},null,{"$f":"SUM(G490)","v":{"v":0,"d":"0.0"}},null,null,{"$f":"SUM((J490+M490+P490)/3)","v":{"v":0,"d":"0.0"}},{"$nulls":8},{"$f":"SUM(((S490*3)+V490+Y490)/5)","v":{"v":0,"d":"0.0"}}]
[]
[{"$f":"T(Definitions!D23)","v":"Cyber Attack"}]
[{"$f":"T(A494)","v":"Cyber Attack"},{"$nulls":3},"Threat",null,"Criticality",null,null,"Vulnerability",{"$nulls":8},"Consequence",{"$nulls":8},{"$f":"SUM(((((J499+S499)/2)*G499)*E499))","v":0}]
[{"$nulls":9},"Exposure",null,null,"Protective Measures",null,null,"Robustness/Resilience",null,null,"Human",null,null,"Economic",null,null,"Psychological"]
[{"$f":"T(A376)","v":"Headquarters Building"},null,{"$f":"T(C376)","v":"HR"},{"$f":"SUM(D376)","v":1},{"v":1,"d":"1.0"},null,{"$f":"SUM(G376)","v":{"v":0,"d":"0.0"}},null,null,{"v":0,"d":"0.0"},null,null,{"v":0,"d":"0.0"},null,null,{"v":0,"d":"0.0"},null,null,{"v":0,"d":"0.0"},null,null,{"v":0,"d":"0.0"},null,null,{"v":0,"d":"0.0"}]
[{"$f":"T(A377)","v":""}]
[{"$nulls":4},{"$f":"SUM(E497)","v":{"v":1,"d":"1.0"}},null,{"$f":"SUM(G497)","v":{"v":0,"d":"0.0"}},null,null,{"$f":"SUM((J497+M497+P497)/3)","v":{"v":0,"d":"0.0"}},{"$nulls":8},{"$f":"SUM(((S497*3)+V497+Y497)/5)","v":{"v":0,"d":"0.0"}}]
[]
[{"$f":"T(A495)","v":"Cyber Attack"},{"$nulls":3},"Threat",null,"Criticality",null,null,"Vulnerability",{"$nulls":8},"Consequence",{"$nulls":8},{"$f":"SUM(((((J505+S505)/2)*G505)*E505))","v":0}]
[{"$nulls":9},"Exposure",null,null,"Protective Measures",null,null,"Robustness/Resilience",null,null,"Human",null,null,"Economic",null,null,"Psychological"]
[{"$f":"T(A382)","v":"Major Passenger Terminals"},null,{"$f":"T(C382)","v":"HR"},{"$f":"SUM(D382)","v":2},{"v":1,"d":"1.0"},null,{"$f":"SUM(G382)","v":{"v":0,"d":"0.0"}},null,null,{"v":0,"d":"0.0"},null,null,{"v":0,"d":"0.0"},null,null,{"v":0,"d":"0.0"},null,null,{"v":0,"d":"0.0"},null,null,{"v":0,"d":"0.0"},null,null,{"v":0,"d":"0.0"}]
[{"$f":"T(A383)","v":""}]
[{"$nulls":4},{"$f":"SUM(E503)","v":{"v":1,"d":"1.0"}},null,{"$f":"SUM(G503)","v":{"v":0,"d":"0.0"}},null,null,{"$f":"SUM((J503+M503+P503)/3)","v":{"v":0,"d":"0.0"}},{"$nulls":8},{"$f":"SUM(((S503*3)+V503+Y503)/5)","v":{"v":0,"d":"0.0"}}]
[]
[{"$f":"T(A501)","v":"Cyber Attack"},{"$nulls":3},"Threat",null,"Criticality",null,null,"Vulnerability",{"$nulls":8},"Consequence",{"$nulls":8},{"$f":"SUM(((((J511+S511)/2)*G511)*E511))","v":0}]
[{"$nulls":9},"Exposure",null,null,"Protective Measures",null,null,"Robustness/Resilience",null,null,"Human",null,null,"Economic",null,null,"Psychological"]
[{"$f":"T(A388)","v":"Major Line Stations"},null,{"$f":"T(C388)","v":"HR"},{"$f":"SUM(D388)","v":3},{"v":1,"d":"1.0"},null,{"$f":"SUM(G388)","v":{"v":0,"d":"0.0"}},null,null,{"v":0,"d":"0.0"},null,null,{"v":0,"d":"0.0"},null,null,{"v":0,"d":"0.0"},null,null,{"v":0,"d":"0.0"},null,null,{"v":0,"d":"0.0"},null,null,{"v":0,"d":"0.0"}]
[{"$f":"T(A389)","v":""}]
[{"$nulls":4},{"$f":"SUM(E509)","v":{"v":1,"d":"1.0"}},null,{"$f":"SUM(G509)","v":{"v":0,"d":"0.0"}},null,null,{"$f":"SUM((J509+M509+P509)/3)","v":{"v":0,"d":"0.0"}},{"$nulls":8},{"$f":"SUM(((S509*3)+V509+Y509)/5)","v":{"v":0,"d":"0.0"}}]
[]
[{"$f":"T(A507)","v":"Cyber Attack"},{"$nulls":3},"Threat",null,"Criticality",null,null,"Vulnerability",{"$nulls":8},"Consequence",{"$nulls":8},{"$f":"SUM(((((J517+S517)/2)*G517)*E517))","v":0}]
[{"$nulls":9},"Exposure",null,null,"Protective Measures",null,null,"Robustness/Resilience",null,null,"Human",null,null,"Economic",null,null,"Psychological"]
[{"$f":"T(A394)","v":"Parking Structures"},null,{"$f":"T(C394)","v":"HR"},{"$f":"SUM(D394)","v":4},{"v":1,"d":"1.0"},null,{"$f":"SUM(G394)","v":{"v":0,"d":"0.0"}},null,null,{"v":0,"d":"0.0"},null,null,{"v":0,"d":"0.0"},null,null,{"v":0,"d":"0.0"},null,null,{"v":0,"d":"0.0"},null,null,{"v":0,"d":"0.0"},null,null,{"v":0,"d":"0.0"}]
[{"$f":"T(A395)","v":""}]
[{"$nulls":4},{"$f":"SUM(E515)","v":{"v":1,"d":"1.0"}},null,{"$f":"SUM(G515)","v":{"v":0,"d":"0.0"}},null,null,{"$f":"SUM((J515+M515+P515)/3)","v":{"v":0,"d":"0.0"}},{"$nulls":8},{"$f":"SUM(((S515*3)+V515+Y515)/5)","v":{"v":0,"d":"0.0"}}]
[]
[{"$f":"T(A513)","v":"Cyber Attack"},{"$nulls":3},"Threat",null,"Criticality",null,null,"Vulnerability",{"$nulls":8},"Consequence",{"$nulls":8},{"$f":"SUM(((((J523+S523)/2)*G523)*E523))","v":0}]
[{"$nulls":9},"Exposure",null,null,"Protective Measures",null,null,"Robustness/Resilience",null,null,"Human",null,null,"Economic",null,null,"Psychological"]
[{"$f":"T(A400)","v":"Consist - Type 1"},null,{"$f":"T(C400)","v":"HR"},{"$f":"SUM(D400)","v":5},{"v":1,"d":"1.0"},null,{"$f":"SUM(G400)","v":{"v":0,"d":"0.0"}},null,null,{"v":0,"d":"0.0"},null,null,{"v":0,"d":"0.0"},null,null,{"v":0,"d":"0.0"},null,null,{"v":0,"d":"0.0"},null,null,{"v":0,"d":"0.0"},null,null,{"v":0,"d":"0.0"}]
[{"$f":"T(A401)","v":""}]
[{"$nulls":4},{"$f":"SUM(E521)","v":{"v":1,"d":"1.0"}},null,{"$f":"SUM(G521)","v":{"v":0,"d":"0.0"}},null,null,{"$f":"SUM((J521+M521+P521)/3)","v":{"v":0,"d":"0.0"}},{"$nulls":8},{"$f":"SUM(((S521*3)+V521+Y521)/5)","v":{"v":0,"d":"0.0"}}]
[]
[{"$f":"T(A519)","v":"Cyber Attack"},{"$nulls":3},"Threat",null,"Criticality",null,null,"Vulnerability",{"$nulls":8},"Consequence",{"$nulls":8},{"$f":"SUM(((((J529+S529)/2)*G529)*E529))","v":0}]
[{"$nulls":9},"Exposure",null,null,"Protective Measures",null,null,"Robustness/Resilience",null,null,"Human",null,null,"Economic",null,null,"Psychological"]
[{"$f":"T(A406)","v":"Consist - Type 2"},null,{"$f":"T(C406)","v":"HR"},{"$f":"SUM(D406)","v":6},{"v":1,"d":"1.0"},null,{"$f":"SUM(G406)","v":{"v":0,"d":"0.0"}},null,null,{"v":0,"d":"0.0"},null,null,{"v":0,"d":"0.0"},null,null,{"v":0,"d":"0.0"},null,null,{"v":0,"d":"0.0"},null,null,{"v":0,"d":"0.0"},null,null,{"v":0,"d":"0.0"}]
[{"$f":"T(A407)","v":""}]
[{"$nulls":4},{"$f":"SUM(E527)","v":{"v":1,"d":"1.0"}},null,{"$f":"SUM(G527)","v":{"v":0,"d":"0.0"}},null,null,{"$f":"SUM((J527+M527+P527)/3)","v":{"v":0,"d":"0.0"}},{"$nulls":8},{"$f":"SUM(((S527*3)+V527+Y527)/5)","v":{"v":0,"d":"0.0"}}]
[]
[{"$f":"T(A525)","v":"Cyber Attack"},{"$nulls":3},"Threat",null,"Criticality",null,null,"Vulnerability",{"$nulls":8},"Consequence",{"$nulls":8},{"$f":"SUM(((((J535+S535)/2)*G535)*E535))","v":0}]
[{"$nulls":9},"Exposure",null,null,"Protective Measures",null,null,"Robustness/Resilience",null,null,"Human",null,null,"Economic",null,null,"Psychological"]
[{"$f":"T(A412)","v":"Primary Control Center"},null,{"$f":"T(C412)","v":"HR"},{"$f":"SUM(D412)","v":7},{"v":1,"d":"1.0"},null,{"$f":"SUM(G412)","v":{"v":0,"d":"0.0"}},null,null,{"v":0,"d":"0.0"},null,null,{"v":0,"d":"0.0"},null,null,{"v":0,"d":"0.0"},null,null,{"v":0,"d":"0.0"},null,null,{"v":0,"d":"0.0"},null,null,{"v":0,"d":"0.0"}]
[{"$f":"T(A413)","v":""}]
[{"$nulls":4},{"$f":"SUM(E533)","v":{"v":1,"d":"1.0"}},null,{"$f":"SUM(G533)","v":{"v":0,"d":"0.0"}},null,null,{"$f":"SUM((J533+M533+P533)/3)","v":{"v":0,"d":"0.0"}},{"$nulls":8},{"$f":"SUM(((S533*3)+V533+Y533)/5)","v":{"v":0,"d":"0.0"}}]
[]
[{"$f":"T(A531)","v":"Cyber Attack"},{"$nulls":3},"Threat",null,"Criticality",null,null,"Vulnerability",{"$nulls":8},"Consequence",{"$nulls":8},{"$f":"SUM(((((J541+S541)/2)*G541)*E541))","v":0}]
[{"$nulls":9},"Exposure",null,null,"Protective Measures",null,null,"Robustness/Resilience",null,null,"Human",null,null,"Economic",null,null,"Psychological"]
[{"$f":"T(A418)","v":"Cyber Systems"},null,{"$f":"T(C418)","v":"HR"},{"$f":"SUM(D418)","v":8},{"v":1,"d":"1.0"},null,{"$f":"SUM(G418)","v":{"v":0,"d":"0.0"}},null,null,{"v":0,"d":"0.0"},null,null,{"v":0,"d":"0.0"},null,null,{"v":0,"d":"0.0"},null,null,{"v":0,"d":"0.0"},null,null,{"v":0,"d":"0.0"},null,null,{"v":0,"d":"0.0"}]
[{"$f":"T(A419)","v":""}]
[{"$nulls":4},{"$f":"SUM(E539)","v":{"v":1,"d":"1.0"}},null,{"$f":"SUM(G539)","v":{"v":0,"d":"0.0"}},null,null,{"$f":"SUM((J539+M539+P539)/3)","v":{"v":0,"d":"0.0"}},{"$nulls":8},{"$f":"SUM(((S539*3)+V539+Y539)/5)","v":{"v":0,"d":"0.0"}}]
[]
[{"$f":"T(A531)","v":"Cyber Attack"},{"$nulls":3},"Threat",null,"Criticality",null,null,"Vulnerability",{"$nulls":8},"Consequence",{"$nulls":8},{"$f":"SUM(((((J547+S547)/2)*G547)*E547))","v":0}]
[{"$nulls":9},"Exposure",null,null,"Protective Measures",null,null,"Robustness/Resilience",null,null,"Human",null,null,"Economic",null,null,"Psychological"]
[{"$f":"T(A424)","v":"Right of Way (ROW)"},null,{"$f":"T(C424)","v":"HR"},{"$f":"SUM(D424)","v":9},{"v":1,"d":"1.0"},null,{"$f":"SUM(G424)","v":{"v":0,"d":"0.0"}},null,null,{"v":0,"d":"0.0"},null,null,{"v":0,"d":"0.0"},null,null,{"v":0,"d":"0.0"},null,null,{"v":0,"d":"0.0"},null,null,{"v":0,"d":"0.0"},null,null,{"v":0,"d":"0.0"}]
[{"$f":"T(A425)","v":""}]
[{"$nulls":4},{"$f":"SUM(E545)","v":{"v":1,"d":"1.0"}},null,{"$f":"SUM(G545)","v":{"v":0,"d":"0.0"}},null,null,{"$f":"SUM((J545+M545+P545)/3)","v":{"v":0,"d":"0.0"}},{"$nulls":8},{"$f":"SUM(((S545*3)+V545+Y545)/5)","v":{"v":0,"d":"0.0"}}]
[]
[{"$f":"T(A531)","v":"Cyber Attack"},{"$nulls":3},"Threat",null,"Criticality",null,null,"Vulnerability",{"$nulls":8},"Consequence",{"$nulls":8},{"$f":"SUM(((((J553+S553)/2)*G553)*E553))","v":0}]
[{"$nulls":9},"Exposure",null,null,"Protective Measures",null,null,"Robustness/Resilience",null,null,"Human",null,null,"Economic",null,null,"Psychological"]
[{"$f":"T(A430)","v":"Signals & PTC"},null,{"$f":"T(C430)","v":"HR"},{"$f":"SUM(D430)","v":10},{"v":1,"d":"1.0"},null,{"$f":"SUM(G430)","v":{"v":0,"d":"0.0"}},null,null,{"v":0,"d":"0.0"},null,null,{"v":0,"d":"0.0"},null,null,{"v":0,"d":"0.0"},null,null,{"v":0,"d":"0.0"},null,null,{"v":0,"d":"0.0"},null,null,{"v":0,"d":"0.0"}]
[{"$f":"T(A431)","v":""}]
[{"$nulls":4},{"$f":"SUM(E551)","v":{"v":1,"d":"1.0"}},null,{"$f":"SUM(G551)","v":{"v":0,"d":"0.0"}},null,null,{"$f":"SUM((J551+M551+P551)/3)","v":{"v":0,"d":"0.0"}},{"$nulls":8},{"$f":"SUM(((S551*3)+V551+Y551)/5)","v":{"v":0,"d":"0.0"}}]
[]
[{"$f":"T(A549)","v":"Cyber Attack"},{"$nulls":3},"Threat",null,"Criticality",null,null,"Vulnerability",{"$nulls":8},"Consequence",{"$nulls":8},{"$f":"SUM(((((J559+S559)/2)*G559)*E559))","v":0}]
[{"$nulls":9},"Exposure",null,null,"Protective Measures",null,null,"Robustness/Resilience",null,null,"Human",null,null,"Economic",null,null,"Psychological"]
[{"$f":"T(A436)","v":"Switches "},null,{"$f":"T(C436)","v":"HR"},{"$f":"SUM(D436)","v":11},{"v":1,"d":"1.0"},null,{"$f":"SUM(G436)","v":{"v":0,"d":"0.0"}},null,null,{"v":0,"d":"0.0"},null,null,{"v":0,"d":"0.0"},null,null,{"v":0,"d":"0.0"},null,null,{"v":0,"d":"0.0"},null,null,{"v":0,"d":"0.0"},null,null,{"v":0,"d":"0.0"}]
[{"$f":"T(A437)","v":""}]
[{"$nulls":4},{"$f":"SUM(E557)","v":{"v":1,"d":"1.0"}},null,{"$f":"SUM(G557)","v":{"v":0,"d":"0.0"}},null,null,{"$f":"SUM((J557+M557+P557)/3)","v":{"v":0,"d":"0.0"}},{"$nulls":8},{"$f":"SUM(((S557*3)+V557+Y557)/5)","v":{"v":0,"d":"0.0"}}]
[]
[{"$f":"T(A555)","v":"Cyber Attack"},{"$nulls":3},"Threat",null,"Criticality",null,null,"Vulnerability",{"$nulls":8},"Consequence",{"$nulls":8},{"$f":"SUM(((((J565+S565)/2)*G565)*E565))","v":0}]
[{"$nulls":9},"Exposure",null,null,"Protective Measures",null,null,"Robustness/Resilience",null,null,"Human",null,null,"Economic",null,null,"Psychological"]
[{"$f":"T(A442)","v":"Bridges"},null,{"$f":"T(C442)","v":"HR"},{"$f":"SUM(D442)","v":12},{"v":1,"d":"1.0"},null,{"$f":"SUM(G442)","v":{"v":0,"d":"0.0"}},null,null,{"v":0,"d":"0.0"},null,null,{"v":0,"d":"0.0"},null,null,{"v":0,"d":"0.0"},null,null,{"v":0,"d":"0.0"},null,null,{"v":0,"d":"0.0"},null,null,{"v":0,"d":"0.0"}]
[{"$f":"T(A443)","v":""}]
[{"$nulls":4},{"$f":"SUM(E563)","v":{"v":1,"d":"1.0"}},null,{"$f":"SUM(G563)","v":{"v":0,"d":"0.0"}},null,null,{"$f":"SUM((J563+M563+P563)/3)","v":{"v":0,"d":"0.0"}},{"$nulls":8},{"$f":"SUM(((S563*3)+V563+Y563)/5)","v":{"v":0,"d":"0.0"}}]
[]
[{"$f":"T(A561)","v":"Cyber Attack"},{"$nulls":3},"Threat",null,"Criticality",null,null,"Vulnerability",{"$nulls":8},"Consequence",{"$nulls":8},{"$f":"SUM(((((J571+S571)/2)*G571)*E571))","v":0}]
[{"$nulls":9},"Exposure",null,null,"Protective Measures",null,null,"Robustness/Resilience",null,null,"Human",null,null,"Economic",null,null,"Psychological"]
[{"$f":"T(A448)","v":"Elevated Track"},null,{"$f":"T(C448)","v":"HR"},{"$f":"SUM(D448)","v":13},{"v":1,"d":"1.0"},null,{"$f":"SUM(G448)","v":{"v":0,"d":"0.0"}},null,null,{"v":0,"d":"0.0"},null,null,{"v":0,"d":"0.0"},null,null,{"v":0,"d":"0.0"},null,null,{"v":0,"d":"0.0"},null,null,{"v":0,"d":"0.0"},null,null,{"v":0,"d":"0.0"}]
[{"$f":"T(A449)","v":""}]
[{"$nulls":4},{"$f":"SUM(E569)","v":{"v":1,"d":"1.0"}},null,{"$f":"SUM(G569)","v":{"v":0,"d":"0.0"}},null,null,{"$f":"SUM((J569+M569+P569)/3)","v":{"v":0,"d":"0.0"}},{"$nulls":8},{"$f":"SUM(((S569*3)+V569+Y569)/5)","v":{"v":0,"d":"0.0"}}]
[]
[{"$f":"T(A567)","v":"Cyber Attack"},{"$nulls":3},"Threat",null,"Criticality",null,null,"Vulnerability",{"$nulls":8},"Consequence",{"$nulls":8},{"$f":"SUM(((((J577+S577)/2)*G577)*E577))","v":0}]
[{"$nulls":9},"Exposure",null,null,"Protective Measures",null,null,"Robustness/Resilience",null,null,"Human",null,null,"Economic",null,null,"Psychological"]
[{"$f":"T(A454)","v":"Tunnels "},null,{"$f":"T(C454)","v":"HR"},{"$f":"SUM(D454)","v":14},{"v":1,"d":"1.0"},null,{"$f":"SUM(G454)","v":{"v":0,"d":"0.0"}},null,null,{"v":0,"d":"0.0"},null,null,{"v":0,"d":"0.0"},null,null,{"v":0,"d":"0.0"},null,null,{"v":0,"d":"0.0"},null,null,{"v":0,"d":"0.0"},null,null,{"v":0,"d":"0.0"}]
[{"$f":"T(A455)","v":""}]
[{"$nulls":4},{"$f":"SUM(E575)","v":{"v":1,"d":"1.0"}},null,{"$f":"SUM(G575)","v":{"v":0,"d":"0.0"}},null,null,{"$f":"SUM((J575+M575+P575)/3)","v":{"v":0,"d":"0.0"}},{"$nulls":8},{"$f":"SUM(((S575*3)+V575+Y575)/5)","v":{"v":0,"d":"0.0"}}]
[]
[{"$f":"T(A573)","v":"Cyber Attack"},{"$nulls":3},"Threat",null,"Criticality",null,null,"Vulnerability",{"$nulls":8},"Consequence",{"$nulls":8},{"$f":"SUM(((((J583+S583)/2)*G583)*E583))","v":0}]
[{"$nulls":9},"Exposure",null,null,"Protective Measures",null,null,"Robustness/Resilience",null,null,"Human",null,null,"Economic",null,null,"Psychological"]
[{"$f":"T(A460)","v":"Choke Points on ROW"},null,{"$f":"T(C460)","v":"HR"},{"$f":"SUM(D460)","v":15},{"v":1,"d":"1.0"},null,{"$f":"SUM(G460)","v":{"v":0,"d":"0.0"}},null,null,{"v":0,"d":"0.0"},null,null,{"v":0,"d":"0.0"},null,null,{"v":0,"d":"0.0"},null,null,{"v":0,"d":"0.0"},null,null,{"v":0,"d":"0.0"},null,null,{"v":0,"d":"0.0"}]
[{"$f":"T(A461)","v":""}]
[{"$nulls":4},{"$f":"SUM(E581)","v":{"v":1,"d":"1.0"}},null,{"$f":"SUM(G581)","v":{"v":0,"d":"0.0"}},null,null,{"$f":"SUM((J581+M581+P581)/3)","v":{"v":0,"d":"0.0"}},{"$nulls":8},{"$f":"SUM(((S581*3)+V581+Y581)/5)","v":{"v":0,"d":"0.0"}}]
[]
[{"$f":"T(A579)","v":"Cyber Attack"},{"$nulls":3},"Threat",null,"Criticality",null,null,"Vulnerability",{"$nulls":8},"Consequence",{"$nulls":8},{"$f":"SUM(((((J589+S589)/2)*G589)*E589))","v":0}]
[{"$nulls":9},"Exposure",null,null,"Protective Measures",null,null,"Robustness/Resilience",null,null,"Human",null,null,"Economic",null,null,"Psychological"]
[{"$f":"T(A466)","v":"Fire Suppression"},null,{"$f":"T(C466)","v":"HR"},{"$f":"SUM(D466)","v":16},{"v":1,"d":"1.0"},null,{"$f":"SUM(G466)","v":{"v":0,"d":"0.0"}},null,null,{"v":0,"d":"0.0"},null,null,{"v":0,"d":"0.0"},null,null,{"v":0,"d":"0.0"},null,null,{"v":0,"d":"0.0"},null,null,{"v":0,"d":"0.0"},null,null,{"v":0,"d":"0.0"}]
[{"$f":"T(A467)","v":""}]
[{"$nulls":4},{"$f":"SUM(E587)","v":{"v":1,"d":"1.0"}},null,{"$f":"SUM(G587)","v":{"v":0,"d":"0.0"}},null,null,{"$f":"SUM((J587+M587+P587)/3)","v":{"v":0,"d":"0.0"}},{"$nulls":8},{"$f":"SUM(((S587*3)+V587+Y587)/5)","v":{"v":0,"d":"0.0"}}]
[]
[{"$f":"T(A585)","v":"Cyber Attack"},{"$nulls":3},"Threat",null,"Criticality",null,null,"Vulnerability",{"$nulls":8},"Consequence",{"$nulls":8},{"$f":"SUM(((((J595+S595)/2)*G595)*E595))","v":0}]
[{"$nulls":9},"Exposure",null,null,"Protective Measures",null,null,"Robustness/Resilience",null,null,"Human",null,null,"Economic",null,null,"Psychological"]
[{"$f":"T(A472)","v":"Air Handling"},null,{"$f":"T(C472)","v":"HR"},{"$f":"SUM(D472)","v":17},{"v":1,"d":"1.0"},null,{"$f":"SUM(G472)","v":{"v":0,"d":"0.0"}},null,null,{"v":0,"d":"0.0"},null,null,{"v":0,"d":"0.0"},null,null,{"v":0,"d":"0.0"},null,null,{"v":0,"d":"0.0"},null,null,{"v":0,"d":"0.0"},null,null,{"v":0,"d":"0.0"}]
[{"$f":"T(A473)","v":""}]
[{"$nulls":4},{"$f":"SUM(E593)","v":{"v":1,"d":"1.0"}},null,{"$f":"SUM(G593)","v":{"v":0,"d":"0.0"}},null,null,{"$f":"SUM((J593+M593+P593)/3)","v":{"v":0,"d":"0.0"}},{"$nulls":8},{"$f":"SUM(((S593*3)+V593+Y593)/5)","v":{"v":0,"d":"0.0"}}]
[]
[{"$f":"T(A591)","v":"Cyber Attack"},{"$nulls":3},"Threat",null,"Criticality",null,null,"Vulnerability",{"$nulls":8},"Consequence",{"$nulls":8},{"$f":"SUM(((((J601+S601)/2)*G601)*E601))","v":0}]
[{"$nulls":9},"Exposure",null,null,"Protective Measures",null,null,"Robustness/Resilience",null,null,"Human",null,null,"Economic",null,null,"Psychological"]
[{"$f":"T(A478)","v":"Power Generation/Distribution"},null,{"$f":"T(C478)","v":"HR"},{"$f":"SUM(D478)","v":18},{"v":1,"d":"1.0"},null,{"$f":"SUM(G478)","v":{"v":0,"d":"0.0"}},null,null,{"v":0,"d":"0.0"},null,null,{"v":0,"d":"0.0"},null,null,{"v":0,"d":"0.0"},null,null,{"v":0,"d":"0.0"},null,null,{"v":0,"d":"0.0"},null,null,{"v":0,"d":"0.0"}]
[{"$f":"T(A479)","v":""}]
[{"$nulls":4},{"$f":"SUM(E599)","v":{"v":1,"d":"1.0"}},null,{"$f":"SUM(G599)","v":{"v":0,"d":"0.0"}},null,null,{"$f":"SUM((J599+M599+P599)/3)","v":{"v":0,"d":"0.0"}},{"$nulls":8},{"$f":"SUM(((S599*3)+V599+Y599)/5)","v":{"v":0,"d":"0.0"}}]
[]
[{"$f":"T(A597)","v":"Cyber Attack"},{"$nulls":3},"Threat",null,"Criticality",null,null,"Vulnerability",{"$nulls":8},"Consequence",{"$nulls":8},{"$f":"SUM(((((J607+S607)/2)*G607)*E607))","v":0}]
[{"$nulls":9},"Exposure",null,null,"Protective Measures",null,null,"Robustness/Resilience",null,null,"Human",null,null,"Economic",null,null,"Psychological"]
[{"$f":"T(A484)","v":"Yards"},null,{"$f":"T(C484)","v":"HR"},{"$f":"SUM(D484)","v":19},{"v":1,"d":"1.0"},null,{"$f":"SUM(G484)","v":{"v":0,"d":"0.0"}},null,null,{"v":0,"d":"0.0"},null,null,{"v":0,"d":"0.0"},null,null,{"v":0,"d":"0.0"},null,null,{"v":0,"d":"0.0"},null,null,{"v":0,"d":"0.0"},null,null,{"v":0,"d":"0.0"}]
[{"$f":"T(A485)","v":""}]
[{"$nulls":4},{"$f":"SUM(E605)","v":{"v":1,"d":"1.0"}},null,{"$f":"SUM(G605)","v":{"v":0,"d":"0.0"}},null,null,{"$f":"SUM((J605+M605+P605)/3)","v":{"v":0,"d":"0.0"}},{"$nulls":8},{"$f":"SUM(((S605*3)+V605+Y605)/5)","v":{"v":0,"d":"0.0"}}]
[]
[{"$f":"T(A603)","v":"Cyber Attack"},{"$nulls":3},"Threat",null,"Criticality",null,null,"Vulnerability",{"$nulls":8},"Consequence",{"$nulls":8},{"$f":"SUM(((((J613+S613)/2)*G613)*E613))","v":0}]
[{"$nulls":9},"Exposure",null,null,"Protective Measures",null,null,"Robustness/Resilience",null,null,"Human",null,null,"Economic",null,null,"Psychological"]
[{"$f":"T(A490)","v":"Maintenance Barns/Facilities"},null,{"$f":"T(C490)","v":"HR"},{"$f":"SUM(D490)","v":20},{"v":1,"d":"1.0"},null,{"$f":"SUM(G490)","v":{"v":0,"d":"0.0"}},null,null,{"v":0,"d":"0.0"},null,null,{"v":0,"d":"0.0"},null,null,{"v":0,"d":"0.0"},null,null,{"v":0,"d":"0.0"},null,null,{"v":0,"d":"0.0"},null,null,{"v":0,"d":"0.0"}]
[{"$f":"T(A491)","v":""}]
[{"$nulls":4},{"$f":"SUM(E611)","v":{"v":1,"d":"1.0"}},null,{"$f":"SUM(G611)","v":{"v":0,"d":"0.0"}},null,null,{"$f":"SUM((J611+M611+P611)/3)","v":{"v":0,"d":"0.0"}},{"$nulls":8},{"$f":"SUM(((S611*3)+V611+Y611)/5)","v":{"v":0,"d":"0.0"}}]
[]
[{"$f":"T(Definitions!D24)","v":"Natural Disaster"}]
[{"$f":"T(A615)","v":"Natural Disaster"},{"$nulls":3},"Threat",null,"Criticality",null,null,"Vulnerability",{"$nulls":8},"Consequence",{"$nulls":8},{"$f":"SUM(((((J620+S620)/2)*G620)*E620))","v":0}]
[{"$nulls":9},"Exposure",null,null,"Protective Measures",null,null,"Robustness/Resilience",null,null,"Human",null,null,"Economic",null,null,"Psychological"]
[{"$f":"T(A497)","v":"Headquarters Building"},null,{"$f":"T(C497)","v":"HR"},{"$f":"SUM(D497)","v":1},{"v":1,"d":"1.0"},null,{"$f":"SUM(G497)","v":{"v":0,"d":"0.0"}},null,null,{"v":0,"d":"0.0"},null,null,{"v":0,"d":"0.0"},null,null,{"v":0,"d":"0.0"},null,null,{"v":0,"d":"0.0"},null,null,{"v":0,"d":"0.0"},null,null,{"v":0,"d":"0.0"}]
[{"$f":"T(A498)","v":""}]
[{"$nulls":4},{"$f":"SUM(E618)","v":{"v":1,"d":"1.0"}},null,{"$f":"SUM(G618)","v":{"v":0,"d":"0.0"}},null,null,{"$f":"SUM((J618+M618+P618)/3)","v":{"v":0,"d":"0.0"}},{"$nulls":8},{"$f":"SUM(((S618*3)+V618+Y618)/5)","v":{"v":0,"d":"0.0"}}]
[]
[{"$f":"T(A616)","v":"Natural Disaster"},{"$nulls":3},"Threat",null,"Criticality",null,null,"Vulnerability",{"$nulls":8},"Consequence",{"$nulls":8},{"$f":"SUM(((((J626+S626)/2)*G626)*E626))","v":0}]
[{"$nulls":9},"Exposure",null,null,"Protective Measures",null,null,"Robustness/Resilience",null,null,"Human",null,null,"Economic",null,null,"Psychological"]
[{"$f":"T(A503)","v":"Major Passenger Terminals"},null,{"$f":"T(C503)","v":"HR"},{"$f":"SUM(D503)","v":2},{"v":1,"d":"1.0"},null,{"$f":"SUM(G503)","v":{"v":0,"d":"0.0"}},null,null,{"v":0,"d":"0.0"},null,null,{"v":0,"d":"0.0"},null,null,{"v":0,"d":"0.0"},null,null,{"v":0,"d":"0.0"},null,null,{"v":0,"d":"0.0"},null,null,{"v":0,"d":"0.0"}]
[{"$f":"T(A504)","v":""}]
[{"$nulls":4},{"$f":"SUM(E624)","v":{"v":1,"d":"1.0"}},null,{"$f":"SUM(G624)","v":{"v":0,"d":"0.0"}},null,null,{"$f":"SUM((J624+M624+P624)/3)","v":{"v":0,"d":"0.0"}},{"$nulls":8},{"$f":"SUM(((S624*3)+V624+Y624)/5)","v":{"v":0,"d":"0.0"}}]
[]
[{"$f":"T(A622)","v":"Natural Disaster"},{"$nulls":3},"Threat",null,"Criticality",null,null,"Vulnerability",{"$nulls":8},"Consequence",{"$nulls":8},{"$f":"SUM(((((J632+S632)/2)*G632)*E632))","v":0}]
[{"$nulls":9},"Exposure",null,null,"Protective Measures",null,null,"Robustness/Resilience",null,null,"Human",null,null,"Economic",null,null,"Psychological"]
[{"$f":"T(A509)","v":"Major Line Stations"},null,{"$f":"T(C509)","v":"HR"},{"$f":"SUM(D509)","v":3},{"v":1,"d":"1.0"},null,{"$f":"SUM(G509)","v":{"v":0,"d":"0.0"}},null,null,{"v":0,"d":"0.0"},null,null,{"v":0,"d":"0.0"},null,null,{"v":0,"d":"0.0"},null,null,{"v":0,"d":"0.0"},null,null,{"v":0,"d":"0.0"},null,null,{"v":0,"d":"0.0"}]
[{"$f":"T(A510)","v":""}]
[{"$nulls":4},{"$f":"SUM(E630)","v":{"v":1,"d":"1.0"}},null,{"$f":"SUM(G630)","v":{"v":0,"d":"0.0"}},null,null,{"$f":"SUM((J630+M630+P630)/3)","v":{"v":0,"d":"0.0"}},{"$nulls":8},{"$f":"SUM(((S630*3)+V630+Y630)/5)","v":{"v":0,"d":"0.0"}}]
[]
[{"$f":"T(A628)","v":"Natural Disaster"},{"$nulls":3},"Threat",null,"Criticality",null,null,"Vulnerability",{"$nulls":8},"Consequence",{"$nulls":8},{"$f":"SUM(((((J638+S638)/2)*G638)*E638))","v":0}]
[{"$nulls":9},"Exposure",null,null,"Protective Measures",null,null,"Robustness/Resilience",null,null,"Human",null,null,"Economic",null,null,"Psychological"]
[{"$f":"T(A515)","v":"Parking Structures"},null,{"$f":"T(C515)","v":"HR"},{"$f":"SUM(D515)","v":4},{"v":1,"d":"1.0"},null,{"$f":"SUM(G515)","v":{"v":0,"d":"0.0"}},null,null,{"v":0,"d":"0.0"},null,null,{"v":0,"d":"0.0"},null,null,{"v":0,"d":"0.0"},null,null,{"v":0,"d":"0.0"},null,null,{"v":0,"d":"0.0"},null,null,{"v":0,"d":"0.0"}]
[{"$f":"T(A516)","v":""}]
[{"$nulls":4},{"$f":"SUM(E636)","v":{"v":1,"d":"1.0"}},null,{"$f":"SUM(G636)","v":{"v":0,"d":"0.0"}},null,null,{"$f":"SUM((J636+M636+P636)/3)","v":{"v":0,"d":"0.0"}},{"$nulls":8},{"$f":"SUM(((S636*3)+V636+Y636)/5)","v":{"v":0,"d":"0.0"}}]
[]
[{"$f":"T(A634)","v":"Natural Disaster"},{"$nulls":3},"Threat",null,"Criticality",null,null,"Vulnerability",{"$nulls":8},"Consequence",{"$nulls":8},{"$f":"SUM(((((J644+S644)/2)*G644)*E644))","v":0}]
[{"$nulls":9},"Exposure",null,null,"Protective Measures",null,null,"Robustness/Resilience",null,null,"Human",null,null,"Economic",null,null,"Psychological"]
[{"$f":"T(A521)","v":"Consist - Type 1"},null,{"$f":"T(C521)","v":"HR"},{"$f":"SUM(D521)","v":5},{"v":1,"d":"1.0"},null,{"$f":"SUM(G521)","v":{"v":0,"d":"0.0"}},null,null,{"v":0,"d":"0.0"},null,null,{"v":0,"d":"0.0"},null,null,{"v":0,"d":"0.0"},null,null,{"v":0,"d":"0.0"},null,null,{"v":0,"d":"0.0"},null,null,{"v":0,"d":"0.0"}]
[{"$f":"T(A522)","v":""}]
[{"$nulls":4},{"$f":"SUM(E642)","v":{"v":1,"d":"1.0"}},null,{"$f":"SUM(G642)","v":{"v":0,"d":"0.0"}},null,null,{"$f":"SUM((J642+M642+P642)/3)","v":{"v":0,"d":"0.0"}},{"$nulls":8},{"$f":"SUM(((S642*3)+V642+Y642)/5)","v":{"v":0,"d":"0.0"}}]
[]
[{"$f":"T(A640)","v":"Natural Disaster"},{"$nulls":3},"Threat",null,"Criticality",null,null,"Vulnerability",{"$nulls":8},"Consequence",{"$nulls":8},{"$f":"SUM(((((J650+S650)/2)*G650)*E650))","v":0}]
[{"$nulls":9},"Exposure",null,null,"Protective Measures",null,null,"Robustness/Resilience",null,null,"Human",null,null,"Economic",null,null,"Psychological"]
[{"$f":"T(A527)","v":"Consist - Type 2"},null,{"$f":"T(C527)","v":"HR"},{"$f":"SUM(D527)","v":6},{"v":1,"d":"1.0"},null,{"$f":"SUM(G527)","v":{"v":0,"d":"0.0"}},null,null,{"v":0,"d":"0.0"},null,null,{"v":0,"d":"0.0"},null,null,{"v":0,"d":"0.0"},null,null,{"v":0,"d":"0.0"},null,null,{"v":0,"d":"0.0"},null,null,{"v":0,"d":"0.0"}]
[{"$f":"T(A528)","v":""}]
[{"$nulls":4},{"$f":"SUM(E648)","v":{"v":1,"d":"1.0"}},null,{"$f":"SUM(G648)","v":{"v":0,"d":"0.0"}},null,null,{"$f":"SUM((J648+M648+P648)/3)","v":{"v":0,"d":"0.0"}},{"$nulls":8},{"$f":"SUM(((S648*3)+V648+Y648)/5)","v":{"v":0,"d":"0.0"}}]
[]
[{"$f":"T(A646)","v":"Natural Disaster"},{"$nulls":3},"Threat",null,"Criticality",null,null,"Vulnerability",{"$nulls":8},"Consequence",{"$nulls":8},{"$f":"SUM(((((J656+S656)/2)*G656)*E656))","v":0}]
[{"$nulls":9},"Exposure",null,null,"Protective Measures",null,null,"Robustness/Resilience",null,null,"Human",null,null,"Economic",null,null,"Psychological"]
[{"$f":"T(A533)","v":"Primary Control Center"},null,{"$f":"T(C533)","v":"HR"},{"$f":"SUM(D533)","v":7},{"v":1,"d":"1.0"},null,{"$f":"SUM(G533)","v":{"v":0,"d":"0.0"}},null,null,{"v":0,"d":"0.0"},null,null,{"v":0,"d":"0.0"},null,null,{"v":0,"d":"0.0"},null,null,{"v":0,"d":"0.0"},null,null,{"v":0,"d":"0.0"},null,null,{"v":0,"d":"0.0"}]
[{"$f":"T(A534)","v":""}]
[{"$nulls":4},{"$f":"SUM(E654)","v":{"v":1,"d":"1.0"}},null,{"$f":"SUM(G654)","v":{"v":0,"d":"0.0"}},null,null,{"$f":"SUM((J654+M654+P654)/3)","v":{"v":0,"d":"0.0"}},{"$nulls":8},{"$f":"SUM(((S654*3)+V654+Y654)/5)","v":{"v":0,"d":"0.0"}}]
[]
[{"$f":"T(A652)","v":"Natural Disaster"},{"$nulls":3},"Threat",null,"Criticality",null,null,"Vulnerability",{"$nulls":8},"Consequence",{"$nulls":8},{"$f":"SUM(((((J662+S662)/2)*G662)*E662))","v":0}]
[{"$nulls":9},"Exposure",null,null,"Protective Measures",null,null,"Robustness/Resilience",null,null,"Human",null,null,"Economic",null,null,"Psychological"]
[{"$f":"T(A539)","v":"Cyber Systems"},null,{"$f":"T(C539)","v":"HR"},{"$f":"SUM(D539)","v":8},{"v":1,"d":"1.0"},null,{"$f":"SUM(G539)","v":{"v":0,"d":"0.0"}},null,null,{"v":0,"d":"0.0"},null,null,{"v":0,"d":"0.0"},null,null,{"v":0,"d":"0.0"},null,null,{"v":0,"d":"0.0"},null,null,{"v":0,"d":"0.0"},null,null,{"v":0,"d":"0.0"}]
[{"$f":"T(A540)","v":""}]
[{"$nulls":4},{"$f":"SUM(E660)","v":{"v":1,"d":"1.0"}},null,{"$f":"SUM(G660)","v":{"v":0,"d":"0.0"}},null,null,{"$f":"SUM((J660+M660+P660)/3)","v":{"v":0,"d":"0.0"}},{"$nulls":8},{"$f":"SUM(((S660*3)+V660+Y660)/5)","v":{"v":0,"d":"0.0"}}]
[]
[{"$f":"T(A652)","v":"Natural Disaster"},{"$nulls":3},"Threat",null,"Criticality",null,null,"Vulnerability",{"$nulls":8},"Consequence",{"$nulls":8},{"$f":"SUM(((((J668+S668)/2)*G668)*E668))","v":0}]
[{"$nulls":9},"Exposure",null,null,"Protective Measures",null,null,"Robustness/Resilience",null,null,"Human",null,null,"Economic",null,null,"Psychological"]
[{"$f":"T(A545)","v":"Right of Way (ROW)"},null,{"$f":"T(C545)","v":"HR"},{"$f":"SUM(D545)","v":9},{"v":1,"d":"1.0"},null,{"$f":"SUM(G545)","v":{"v":0,"d":"0.0"}},null,null,{"v":0,"d":"0.0"},null,null,{"v":0,"d":"0.0"},null,null,{"v":0,"d":"0.0"},null,null,{"v":0,"d":"0.0"},null,null,{"v":0,"d":"0.0"},null,null,{"v":0,"d":"0.0"}]
[{"$f":"T(A546)","v":""}]
[{"$nulls":4},{"$f":"SUM(E666)","v":{"v":1,"d":"1.0"}},null,{"$f":"SUM(G666)","v":{"v":0,"d":"0.0"}},null,null,{"$f":"SUM((J666+M666+P666)/3)","v":{"v":0,"d":"0.0"}},{"$nulls":8},{"$f":"SUM(((S666*3)+V666+Y666)/5)","v":{"v":0,"d":"0.0"}}]
[]
[{"$f":"T(A652)","v":"Natural Disaster"},{"$nulls":3},"Threat",null,"Criticality",null,null,"Vulnerability",{"$nulls":8},"Consequence",{"$nulls":8},{"$f":"SUM(((((J674+S674)/2)*G674)*E674))","v":0}]
[{"$nulls":9},"Exposure",null,null,"Protective Measures",null,null,"Robustness/Resilience",null,null,"Human",null,null,"Economic",null,null,"Psychological"]
[{"$f":"T(A551)","v":"Signals & PTC"},null,{"$f":"T(C551)","v":"HR"},{"$f":"SUM(D551)","v":10},{"v":1,"d":"1.0"},null,{"$f":"SUM(G551)","v":{"v":0,"d":"0.0"}},null,null,{"v":0,"d":"0.0"},null,null,{"v":0,"d":"0.0"},null,null,{"v":0,"d":"0.0"},null,null,{"v":0,"d":"0.0"},null,null,{"v":0,"d":"0.0"},null,null,{"v":0,"d":"0.0"}]
[{"$f":"T(A552)","v":""}]
[{"$nulls":4},{"$f":"SUM(E672)","v":{"v":1,"d":"1.0"}},null,{"$f":"SUM(G672)","v":{"v":0,"d":"0.0"}},null,null,{"$f":"SUM((J672+M672+P672)/3)","v":{"v":0,"d":"0.0"}},{"$nulls":8},{"$f":"SUM(((S672*3)+V672+Y672)/5)","v":{"v":0,"d":"0.0"}}]
[]
[{"$f":"T(A670)","v":"Natural Disaster"},{"$nulls":3},"Threat",null,"Criticality",null,null,"Vulnerability",{"$nulls":8},"Consequence",{"$nulls":8},{"$f":"SUM(((((J680+S680)/2)*G680)*E680))","v":0}]
[{"$nulls":9},"Exposure",null,null,"Protective Measures",null,null,"Robustness/Resilience",null,null,"Human",null,null,"Economic",null,null,"Psychological"]
[{"$f":"T(A557)","v":"Switches "},null,{"$f":"T(C557)","v":"HR"},{"$f":"SUM(D557)","v":11},{"v":1,"d":"1.0"},null,{"$f":"SUM(G557)","v":{"v":0,"d":"0.0"}},null,null,{"v":0,"d":"0.0"},null,null,{"v":0,"d":"0.0"},null,null,{"v":0,"d":"0.0"},null,null,{"v":0,"d":"0.0"},null,null,{"v":0,"d":"0.0"},null,null,{"v":0,"d":"0.0"}]
[{"$f":"T(A558)","v":""}]
[{"$nulls":4},{"$f":"SUM(E678)","v":{"v":1,"d":"1.0"}},null,{"$f":"SUM(G678)","v":{"v":0,"d":"0.0"}},null,null,{"$f":"SUM((J678+M678+P678)/3)","v":{"v":0,"d":"0.0"}},{"$nulls":8},{"$f":"SUM(((S678*3)+V678+Y678)/5)","v":{"v":0,"d":"0.0"}}]
[]
[{"$f":"T(A676)","v":"Natural Disaster"},{"$nulls":3},"Threat",null,"Criticality",null,null,"Vulnerability",{"$nulls":8},"Consequence",{"$nulls":8},{"$f":"SUM(((((J686+S686)/2)*G686)*E686))","v":0}]
[{"$nulls":9},"Exposure",null,null,"Protective Measures",null,null,"Robustness/Resilience",null,null,"Human",null,null,"Economic",null,null,"Psychological"]
[{"$f":"T(A563)","v":"Bridges"},null,{"$f":"T(C563)","v":"HR"},{"$f":"SUM(D563)","v":12},{"v":1,"d":"1.0"},null,{"$f":"SUM(G563)","v":{"v":0,"d":"0.0"}},null,null,{"v":0,"d":"0.0"},null,null,{"v":0,"d":"0.0"},null,null,{"v":0,"d":"0.0"},null,null,{"v":0,"d":"0.0"},null,null,{"v":0,"d":"0.0"},null,null,{"v":0,"d":"0.0"}]
[{"$f":"T(A564)","v":""}]
[{"$nulls":4},{"$f":"SUM(E684)","v":{"v":1,"d":"1.0"}},null,{"$f":"SUM(G684)","v":{"v":0,"d":"0.0"}},null,null,{"$f":"SUM((J684+M684+P684)/3)","v":{"v":0,"d":"0.0"}},{"$nulls":8},{"$f":"SUM(((S684*3)+V684+Y684)/5)","v":{"v":0,"d":"0.0"}}]
[]
[{"$f":"T(A682)","v":"Natural Disaster"},{"$nulls":3},"Threat",null,"Criticality",null,null,"Vulnerability",{"$nulls":8},"Consequence",{"$nulls":8},{"$f":"SUM(((((J692+S692)/2)*G692)*E692))","v":0}]
[{"$nulls":9},"Exposure",null,null,"Protective Measures",null,null,"Robustness/Resilience",null,null,"Human",null,null,"Economic",null,null,"Psychological"]
[{"$f":"T(A569)","v":"Elevated Track"},null,{"$f":"T(C569)","v":"HR"},{"$f":"SUM(D569)","v":13},{"v":1,"d":"1.0"},null,{"$f":"SUM(G569)","v":{"v":0,"d":"0.0"}},null,null,{"v":0,"d":"0.0"},null,null,{"v":0,"d":"0.0"},null,null,{"v":0,"d":"0.0"},null,null,{"v":0,"d":"0.0"},null,null,{"v":0,"d":"0.0"},null,null,{"v":0,"d":"0.0"}]
[{"$f":"T(A570)","v":""}]
[{"$nulls":4},{"$f":"SUM(E690)","v":{"v":1,"d":"1.0"}},null,{"$f":"SUM(G690)","v":{"v":0,"d":"0.0"}},null,null,{"$f":"SUM((J690+M690+P690)/3)","v":{"v":0,"d":"0.0"}},{"$nulls":8},{"$f":"SUM(((S690*3)+V690+Y690)/5)","v":{"v":0,"d":"0.0"}}]
[]
[{"$f":"T(A688)","v":"Natural Disaster"},{"$nulls":3},"Threat",null,"Criticality",null,null,"Vulnerability",{"$nulls":8},"Consequence",{"$nulls":8},{"$f":"SUM(((((J698+S698)/2)*G698)*E698))","v":0}]
[{"$nulls":9},"Exposure",null,null,"Protective Measures",null,null,"Robustness/Resilience",null,null,"Human",null,null,"Economic",null,null,"Psychological"]
[{"$f":"T(A575)","v":"Tunnels "},null,{"$f":"T(C575)","v":"HR"},{"$f":"SUM(D575)","v":14},{"v":1,"d":"1.0"},null,{"$f":"SUM(G575)","v":{"v":0,"d":"0.0"}},null,null,{"v":0,"d":"0.0"},null,null,{"v":0,"d":"0.0"},null,null,{"v":0,"d":"0.0"},null,null,{"v":0,"d":"0.0"},null,null,{"v":0,"d":"0.0"},null,null,{"v":0,"d":"0.0"}]
[{"$f":"T(A576)","v":""}]
[{"$nulls":4},{"$f":"SUM(E696)","v":{"v":1,"d":"1.0"}},null,{"$f":"SUM(G696)","v":{"v":0,"d":"0.0"}},null,null,{"$f":"SUM((J696+M696+P696)/3)","v":{"v":0,"d":"0.0"}},{"$nulls":8},{"$f":"SUM(((S696*3)+V696+Y696)/5)","v":{"v":0,"d":"0.0"}}]
[]
[{"$f":"T(A694)","v":"Natural Disaster"},{"$nulls":3},"Threat",null,"Criticality",null,null,"Vulnerability",{"$nulls":8},"Consequence",{"$nulls":8},{"$f":"SUM(((((J704+S704)/2)*G704)*E704))","v":0}]
[{"$nulls":9},"Exposure",null,null,"Protective Measures",null,null,"Robustness/Resilience",null,null,"Human",null,null,"Economic",null,null,"Psychological"]
[{"$f":"T(A581)","v":"Choke Points on ROW"},null,{"$f":"T(C581)","v":"HR"},{"$f":"SUM(D581)","v":15},{"v":1,"d":"1.0"},null,{"$f":"SUM(G581)","v":{"v":0,"d":"0.0"}},null,null,{"v":0,"d":"0.0"},null,null,{"v":0,"d":"0.0"},null,null,{"v":0,"d":"0.0"},null,null,{"v":0,"d":"0.0"},null,null,{"v":0,"d":"0.0"},null,null,{"v":0,"d":"0.0"}]
[{"$f":"T(A582)","v":""}]
[{"$nulls":4},{"$f":"SUM(E702)","v":{"v":1,"d":"1.0"}},null,{"$f":"SUM(G702)","v":{"v":0,"d":"0.0"}},null,null,{"$f":"SUM((J702+M702+P702)/3)","v":{"v":0,"d":"0.0"}},{"$nulls":8},{"$f":"SUM(((S702*3)+V702+Y702)/5)","v":{"v":0,"d":"0.0"}}]
[]
[{"$f":"T(A700)","v":"Natural Disaster"},{"$nulls":3},"Threat",null,"Criticality",null,null,"Vulnerability",{"$nulls":8},"Consequence",{"$nulls":8},{"$f":"SUM(((((J710+S710)/2)*G710)*E710))","v":0}]
[{"$nulls":9},"Exposure",null,null,"Protective Measures",null,null,"Robustness/Resilience",null,null,"Human",null,null,"Economic",null,null,"Psychological"]
[{"$f":"T(A587)","v":"Fire Suppression"},null,{"$f":"T(C587)","v":"HR"},{"$f":"SUM(D587)","v":16},{"v":1,"d":"1.0"},null,{"$f":"SUM(G587)","v":{"v":0,"d":"0.0"}},null,null,{"v":0,"d":"0.0"},null,null,{"v":0,"d":"0.0"},null,null,{"v":0,"d":"0.0"},null,null,{"v":0,"d":"0.0"},null,null,{"v":0,"d":"0.0"},null,null,{"v":0,"d":"0.0"}]
[{"$f":"T(A588)","v":""}]
[{"$nulls":4},{"$f":"SUM(E708)","v":{"v":1,"d":"1.0"}},null,{"$f":"SUM(G708)","v":{"v":0,"d":"0.0"}},null,null,{"$f":"SUM((J708+M708+P708)/3)","v":{"v":0,"d":"0.0"}},{"$nulls":8},{"$f":"SUM(((S708*3)+V708+Y708)/5)","v":{"v":0,"d":"0.0"}}]
[]
[{"$f":"T(A706)","v":"Natural Disaster"},{"$nulls":3},"Threat",null,"Criticality",null,null,"Vulnerability",{"$nulls":8},"Consequence",{"$nulls":8},{"$f":"SUM(((((J716+S716)/2)*G716)*E716))","v":0}]
[{"$nulls":9},"Exposure",null,null,"Protective Measures",null,null,"Robustness/Resilience",null,null,"Human",null,null,"Economic",null,null,"Psychological"]
[{"$f":"T(A593)","v":"Air Handling"},null,{"$f":"T(C593)","v":"HR"},{"$f":"SUM(D593)","v":17},{"v":1,"d":"1.0"},null,{"$f":"SUM(G593)","v":{"v":0,"d":"0.0"}},null,null,{"v":0,"d":"0.0"},null,null,{"v":0,"d":"0.0"},null,null,{"v":0,"d":"0.0"},null,null,{"v":0,"d":"0.0"},null,null,{"v":0,"d":"0.0"},null,null,{"v":0,"d":"0.0"}]
[{"$f":"T(A594)","v":""}]
[{"$nulls":4},{"$f":"SUM(E714)","v":{"v":1,"d":"1.0"}},null,{"$f":"SUM(G714)","v":{"v":0,"d":"0.0"}},null,null,{"$f":"SUM((J714+M714+P714)/3)","v":{"v":0,"d":"0.0"}},{"$nulls":8},{"$f":"SUM(((S714*3)+V714+Y714)/5)","v":{"v":0,"d":"0.0"}}]
[]
[{"$f":"T(A712)","v":"Natural Disaster"},{"$nulls":3},"Threat",null,"Criticality",null,null,"Vulnerability",{"$nulls":8},"Consequence",{"$nulls":8},{"$f":"SUM(((((J722+S722)/2)*G722)*E722))","v":0}]
[{"$nulls":9},"Exposure",null,null,"Protective Measures",null,null,"Robustness/Resilience",null,null,"Human",null,null,"Economic",null,null,"Psychological"]
[{"$f":"T(A599)","v":"Power Generation/Distribution"},null,{"$f":"T(C599)","v":"HR"},{"$f":"SUM(D599)","v":18},{"v":1,"d":"1.0"},null,{"$f":"SUM(G599)","v":{"v":0,"d":"0.0"}},null,null,{"v":0,"d":"0.0"},null,null,{"v":0,"d":"0.0"},null,null,{"v":0,"d":"0.0"},null,null,{"v":0,"d":"0.0"},null,null,{"v":0,"d":"0.0"},null,null,{"v":0,"d":"0.0"}]
[{"$f":"T(A600)","v":""}]
[{"$nulls":4},{"$f":"SUM(E720)","v":{"v":1,"d":"1.0"}},null,{"$f":"SUM(G720)","v":{"v":0,"d":"0.0"}},null,null,{"$f":"SUM((J720+M720+P720)/3)","v":{"v":0,"d":"0.0"}},{"$nulls":8},{"$f":"SUM(((S720*3)+V720+Y720)/5)","v":{"v":0,"d":"0.0"}}]
[]
[{"$f":"T(A718)","v":"Natural Disaster"},{"$nulls":3},"Threat",null,"Criticality",null,null,"Vulnerability",{"$nulls":8},"Consequence",{"$nulls":8},{"$f":"SUM(((((J728+S728)/2)*G728)*E728))","v":0}]
[{"$nulls":9},"Exposure",null,null,"Protective Measures",null,null,"Robustness/Resilience",null,null,"Human",null,null,"Economic",null,null,"Psychological"]
[{"$f":"T(A605)","v":"Yards"},null,{"$f":"T(C605)","v":"HR"},{"$f":"SUM(D605)","v":19},{"v":1,"d":"1.0"},null,{"$f":"SUM(G605)","v":{"v":0,"d":"0.0"}},null,null,{"v":0,"d":"0.0"},null,null,{"v":0,"d":"0.0"},null,null,{"v":0,"d":"0.0"},null,null,{"v":0,"d":"0.0"},null,null,{"v":0,"d":"0.0"},null,null,{"v":0,"d":"0.0"}]
[{"$f":"T(A606)","v":""}]
[{"$nulls":4},{"$f":"SUM(E726)","v":{"v":1,"d":"1.0"}},null,{"$f":"SUM(G726)","v":{"v":0,"d":"0.0"}},null,null,{"$f":"SUM((J726+M726+P726)/3)","v":{"v":0,"d":"0.0"}},{"$nulls":8},{"$f":"SUM(((S726*3)+V726+Y726)/5)","v":{"v":0,"d":"0.0"}}]
[]
[{"$f":"T(A724)","v":"Natural Disaster"},{"$nulls":3},"Threat",null,"Criticality",null,null,"Vulnerability",{"$nulls":8},"Consequence",{"$nulls":8},{"$f":"SUM(((((J734+S734)/2)*G734)*E734))","v":0}]
[{"$nulls":9},"Exposure",null,null,"Protective Measures",null,null,"Robustness/Resilience",null,null,"Human",null,null,"Economic",null,null,"Psychological"]
[{"$f":"T(A611)","v":"Maintenance Barns/Facilities"},null,{"$f":"T(C611)","v":"HR"},{"$f":"SUM(D611)","v":20},{"v":1,"d":"1.0"},null,{"$f":"SUM(G611)","v":{"v":0,"d":"0.0"}},null,null,{"v":0,"d":"0.0"},null,null,{"v":0,"d":"0.0"},null,null,{"v":0,"d":"0.0"},null,null,{"v":0,"d":"0.0"},null,null,{"v":0,"d":"0.0"},null,null,{"v":0,"d":"0.0"}]
[{"$f":"T(A612)","v":""}]
[{"$nulls":4},{"$f":"SUM(E732)","v":{"v":1,"d":"1.0"}},null,{"$f":"SUM(G732)","v":{"v":0,"d":"0.0"}},null,null,{"$f":"SUM((J732+M732+P732)/3)","v":{"v":0,"d":"0.0"}},{"$nulls":8},{"$f":"SUM(((S732*3)+V732+Y732)/5)","v":{"v":0,"d":"0.0"}}]
[]
[{"$f":"T(Definitions!D25)","v":"Industrial Disaster "}]
[{"$f":"T(A736)","v":"Industrial Disaster "},{"$nulls":3},"Threat",null,"Criticality",null,null,"Vulnerability",{"$nulls":8},"Consequence",{"$nulls":8},{"$f":"SUM(((((J741+S741)/2)*G741)*E741))","v":0}]
[{"$nulls":9},"Exposure",null,null,"Protective Measures",null,null,"Robustness/Resilience",null,null,"Human",null,null,"Economic",null,null,"Psychological"]
[{"$f":"T(A618)","v":"Headquarters Building"},null,{"$f":"T(C618)","v":"HR"},{"$f":"SUM(D618)","v":1},{"v":1,"d":"1.0"},null,{"$f":"SUM(G618)","v":{"v":0,"d":"0.0"}},null,null,{"v":0,"d":"0.0"},null,null,{"v":0,"d":"0.0"},null,null,{"v":0,"d":"0.0"},null,null,{"v":0,"d":"0.0"},null,null,{"v":0,"d":"0.0"},null,null,{"v":0,"d":"0.0"}]
[{"$f":"T(A619)","v":""}]
[{"$nulls":4},{"$f":"SUM(E739)","v":{"v":1,"d":"1.0"}},null,{"$f":"SUM(G739)","v":{"v":0,"d":"0.0"}},null,null,{"$f":"SUM((J739+M739+P739)/3)","v":{"v":0,"d":"0.0"}},{"$nulls":8},{"$f":"SUM(((S739*3)+V739+Y739)/5)","v":{"v":0,"d":"0.0"}}]
[]
[{"$f":"T(A737)","v":"Industrial Disaster "},{"$nulls":3},"Threat",null,"Criticality",null,null,"Vulnerability",{"$nulls":8},"Consequence",{"$nulls":8},{"$f":"SUM(((((J747+S747)/2)*G747)*E747))","v":0}]
[{"$nulls":9},"Exposure",null,null,"Protective Measures",null,null,"Robustness/Resilience",null,null,"Human",null,null,"Economic",null,null,"Psychological"]
[{"$f":"T(A624)","v":"Major Passenger Terminals"},null,{"$f":"T(C624)","v":"HR"},{"$f":"SUM(D624)","v":2},{"v":1,"d":"1.0"},null,{"$f":"SUM(G624)","v":{"v":0,"d":"0.0"}},null,null,{"v":0,"d":"0.0"},null,null,{"v":0,"d":"0.0"},null,null,{"v":0,"d":"0.0"},null,null,{"v":0,"d":"0.0"},null,null,{"v":0,"d":"0.0"},null,null,{"v":0,"d":"0.0"}]
[{"$f":"T(A625)","v":""}]
[{"$nulls":4},{"$f":"SUM(E745)","v":{"v":1,"d":"1.0"}},null,{"$f":"SUM(G745)","v":{"v":0,"d":"0.0"}},null,null,{"$f":"SUM((J745+M745+P745)/3)","v":{"v":0,"d":"0.0"}},{"$nulls":8},{"$f":"SUM(((S745*3)+V745+Y745)/5)","v":{"v":0,"d":"0.0"}}]
[]
[{"$f":"T(A743)","v":"Industrial Disaster "},{"$nulls":3},"Threat",null,"Criticality",null,null,"Vulnerability",{"$nulls":8},"Consequence",{"$nulls":8},{"$f":"SUM(((((J753+S753)/2)*G753)*E753))","v":0}]
[{"$nulls":9},"Exposure",null,null,"Protective Measures",null,null,"Robustness/Resilience",null,null,"Human",null,null,"Economic",null,null,"Psychological"]
[{"$f":"T(A630)","v":"Major Line Stations"},null,{"$f":"T(C630)","v":"HR"},{"$f":"SUM(D630)","v":3},{"v":1,"d":"1.0"},null,{"$f":"SUM(G630)","v":{"v":0,"d":"0.0"}},null,null,{"v":0,"d":"0.0"},null,null,{"v":0,"d":"0.0"},null,null,{"v":0,"d":"0.0"},null,null,{"v":0,"d":"0.0"},null,null,{"v":0,"d":"0.0"},null,null,{"v":0,"d":"0.0"}]
[{"$f":"T(A631)","v":""}]
[{"$nulls":4},{"$f":"SUM(E751)","v":{"v":1,"d":"1.0"}},null,{"$f":"SUM(G751)","v":{"v":0,"d":"0.0"}},null,null,{"$f":"SUM((J751+M751+P751)/3)","v":{"v":0,"d":"0.0"}},{"$nulls":8},{"$f":"SUM(((S751*3)+V751+Y751)/5)","v":{"v":0,"d":"0.0"}}]
[]
[{"$f":"T(A749)","v":"Industrial Disaster "},{"$nulls":3},"Threat",null,"Criticality",null,null,"Vulnerability",{"$nulls":8},"Consequence",{"$nulls":8},{"$f":"SUM(((((J759+S759)/2)*G759)*E759))","v":0}]
[{"$nulls":9},"Exposure",null,null,"Protective Measures",null,null,"Robustness/Resilience",null,null,"Human",null,null,"Economic",null,null,"Psychological"]
[{"$f":"T(A636)","v":"Parking Structures"},null,{"$f":"T(C636)","v":"HR"},{"$f":"SUM(D636)","v":4},{"v":1,"d":"1.0"},null,{"$f":"SUM(G636)","v":{"v":0,"d":"0.0"}},null,null,{"v":0,"d":"0.0"},null,null,{"v":0,"d":"0.0"},null,null,{"v":0,"d":"0.0"},null,null,{"v":0,"d":"0.0"},null,null,{"v":0,"d":"0.0"},null,null,{"v":0,"d":"0.0"}]
[{"$f":"T(A637)","v":""}]
[{"$nulls":4},{"$f":"SUM(E757)","v":{"v":1,"d":"1.0"}},null,{"$f":"SUM(G757)","v":{"v":0,"d":"0.0"}},null,null,{"$f":"SUM((J757+M757+P757)/3)","v":{"v":0,"d":"0.0"}},{"$nulls":8},{"$f":"SUM(((S757*3)+V757+Y757)/5)","v":{"v":0,"d":"0.0"}}]
[]
[{"$f":"T(A755)","v":"Industrial Disaster "},{"$nulls":3},"Threat",null,"Criticality",null,null,"Vulnerability",{"$nulls":8},"Consequence",{"$nulls":8},{"$f":"SUM(((((J765+S765)/2)*G765)*E765))","v":0}]
[{"$nulls":9},"Exposure",null,null,"Protective Measures",null,null,"Robustness/Resilience",null,null,"Human",null,null,"Economic",null,null,"Psychological"]
[{"$f":"T(A642)","v":"Consist - Type 1"},null,{"$f":"T(C642)","v":"HR"},{"$f":"SUM(D642)","v":5},{"v":1,"d":"1.0"},null,{"$f":"SUM(G642)","v":{"v":0,"d":"0.0"}},null,null,{"v":0,"d":"0.0"},null,null,{"v":0,"d":"0.0"},null,null,{"v":0,"d":"0.0"},null,null,{"v":0,"d":"0.0"},null,null,{"v":0,"d":"0.0"},null,null,{"v":0,"d":"0.0"}]
[{"$f":"T(A643)","v":""}]
[{"$nulls":4},{"$f":"SUM(E763)","v":{"v":1,"d":"1.0"}},null,{"$f":"SUM(G763)","v":{"v":0,"d":"0.0"}},null,null,{"$f":"SUM((J763+M763+P763)/3)","v":{"v":0,"d":"0.0"}},{"$nulls":8},{"$f":"SUM(((S763*3)+V763+Y763)/5)","v":{"v":0,"d":"0.0"}}]
[]
[{"$f":"T(A761)","v":"Industrial Disaster "},{"$nulls":3},"Threat",null,"Criticality",null,null,"Vulnerability",{"$nulls":8},"Consequence",{"$nulls":8},{"$f":"SUM(((((J771+S771)/2)*G771)*E771))","v":0}]
[{"$nulls":9},"Exposure",null,null,"Protective Measures",null,null,"Robustness/Resilience",null,null,"Human",null,null,"Economic",null,null,"Psychological"]
[{"$f":"T(A648)","v":"Consist - Type 2"},null,{"$f":"T(C648)","v":"HR"},{"$f":"SUM(D648)","v":6},{"v":1,"d":"1.0"},null,{"$f":"SUM(G648)","v":{"v":0,"d":"0.0"}},null,null,{"v":0,"d":"0.0"},null,null,{"v":0,"d":"0.0"},null,null,{"v":0,"d":"0.0"},null,null,{"v":0,"d":"0.0"},null,null,{"v":0,"d":"0.0"},null,null,{"v":0,"d":"0.0"}]
[{"$f":"T(A649)","v":""}]
[{"$nulls":4},{"$f":"SUM(E769)","v":{"v":1,"d":"1.0"}},null,{"$f":"SUM(G769)","v":{"v":0,"d":"0.0"}},null,null,{"$f":"SUM((J769+M769+P769)/3)","v":{"v":0,"d":"0.0"}},{"$nulls":8},{"$f":"SUM(((S769*3)+V769+Y769)/5)","v":{"v":0,"d":"0.0"}}]
[]
[{"$f":"T(A767)","v":"Industrial Disaster "},{"$nulls":3},"Threat",null,"Criticality",null,null,"Vulnerability",{"$nulls":8},"Consequence",{"$nulls":8},{"$f":"SUM(((((J777+S777)/2)*G777)*E777))","v":0}]
[{"$nulls":9},"Exposure",null,null,"Protective Measures",null,null,"Robustness/Resilience",null,null,"Human",null,null,"Economic",null,null,"Psychological"]
[{"$f":"T(A654)","v":"Primary Control Center"},null,{"$f":"T(C654)","v":"HR"},{"$f":"SUM(D654)","v":7},{"v":1,"d":"1.0"},null,{"$f":"SUM(G654)","v":{"v":0,"d":"0.0"}},null,null,{"v":0,"d":"0.0"},null,null,{"v":0,"d":"0.0"},null,null,{"v":0,"d":"0.0"},null,null,{"v":0,"d":"0.0"},null,null,{"v":0,"d":"0.0"},null,null,{"v":0,"d":"0.0"}]
[{"$f":"T(A655)","v":""}]
[{"$nulls":4},{"$f":"SUM(E775)","v":{"v":1,"d":"1.0"}},null,{"$f":"SUM(G775)","v":{"v":0,"d":"0.0"}},null,null,{"$f":"SUM((J775+M775+P775)/3)","v":{"v":0,"d":"0.0"}},{"$nulls":8},{"$f":"SUM(((S775*3)+V775+Y775)/5)","v":{"v":0,"d":"0.0"}}]
[]
[{"$f":"T(A773)","v":"Industrial Disaster "},{"$nulls":3},"Threat",null,"Criticality",null,null,"Vulnerability",{"$nulls":8},"Consequence",{"$nulls":8},{"$f":"SUM(((((J783+S783)/2)*G783)*E783))","v":0}]
[{"$nulls":9},"Exposure",null,null,"Protective Measures",null,null,"Robustness/Resilience",null,null,"Human",null,null,"Economic",null,null,"Psychological"]
[{"$f":"T(A660)","v":"Cyber Systems"},null,{"$f":"T(C660)","v":"HR"},{"$f":"SUM(D660)","v":8},{"v":1,"d":"1.0"},null,{"$f":"SUM(G660)","v":{"v":0,"d":"0.0"}},null,null,{"v":0,"d":"0.0"},null,null,{"v":0,"d":"0.0"},null,null,{"v":0,"d":"0.0"},null,null,{"v":0,"d":"0.0"},null,null,{"v":0,"d":"0.0"},null,null,{"v":0,"d":"0.0"}]
[{"$f":"T(A661)","v":""}]
[{"$nulls":4},{"$f":"SUM(E781)","v":{"v":1,"d":"1.0"}},null,{"$f":"SUM(G781)","v":{"v":0,"d":"0.0"}},null,null,{"$f":"SUM((J781+M781+P781)/3)","v":{"v":0,"d":"0.0"}},{"$nulls":8},{"$f":"SUM(((S781*3)+V781+Y781)/5)","v":{"v":0,"d":"0.0"}}]
[]
[{"$f":"T(A773)","v":"Industrial Disaster "},{"$nulls":3},"Threat",null,"Criticality",null,null,"Vulnerability",{"$nulls":8},"Consequence",{"$nulls":8},{"$f":"SUM(((((J789+S789)/2)*G789)*E789))","v":0}]
[{"$nulls":9},"Exposure",null,null,"Protective Measures",null,null,"Robustness/Resilience",null,null,"Human",null,null,"Economic",null,null,"Psychological"]
[{"$f":"T(A666)","v":"Right of Way (ROW)"},null,{"$f":"T(C666)","v":"HR"},{"$f":"SUM(D666)","v":9},{"v":1,"d":"1.0"},null,{"$f":"SUM(G666)","v":{"v":0,"d":"0.0"}},null,null,{"v":0,"d":"0.0"},null,null,{"v":0,"d":"0.0"},null,null,{"v":0,"d":"0.0"},null,null,{"v":0,"d":"0.0"},null,null,{"v":0,"d":"0.0"},null,null,{"v":0,"d":"0.0"}]
[{"$f":"T(A667)","v":""}]
[{"$nulls":4},{"$f":"SUM(E787)","v":{"v":1,"d":"1.0"}},null,{"$f":"SUM(G787)","v":{"v":0,"d":"0.0"}},null,null,{"$f":"SUM((J787+M787+P787)/3)","v":{"v":0,"d":"0.0"}},{"$nulls":8},{"$f":"SUM(((S787*3)+V787+Y787)/5)","v":{"v":0,"d":"0.0"}}]
[]
[{"$f":"T(A773)","v":"Industrial Disaster "},{"$nulls":3},"Threat",null,"Criticality",null,null,"Vulnerability",{"$nulls":8},"Consequence",{"$nulls":8},{"$f":"SUM(((((J795+S795)/2)*G795)*E795))","v":0}]
[{"$nulls":9},"Exposure",null,null,"Protective Measures",null,null,"Robustness/Resilience",null,null,"Human",null,null,"Economic",null,null,"Psychological"]
[{"$f":"T(A672)","v":"Signals & PTC"},null,{"$f":"T(C672)","v":"HR"},{"$f":"SUM(D672)","v":10},{"v":1,"d":"1.0"},null,{"$f":"SUM(G672)","v":{"v":0,"d":"0.0"}},null,null,{"v":0,"d":"0.0"},null,null,{"v":0,"d":"0.0"},null,null,{"v":0,"d":"0.0"},null,null,{"v":0,"d":"0.0"},null,null,{"v":0,"d":"0.0"},null,null,{"v":0,"d":"0.0"}]
[{"$f":"T(A673)","v":""}]
[{"$nulls":4},{"$f":"SUM(E793)","v":{"v":1,"d":"1.0"}},null,{"$f":"SUM(G793)","v":{"v":0,"d":"0.0"}},null,null,{"$f":"SUM((J793+M793+P793)/3)","v":{"v":0,"d":"0.0"}},{"$nulls":8},{"$f":"SUM(((S793*3)+V793+Y793)/5)","v":{"v":0,"d":"0.0"}}]
[]
[{"$f":"T(A791)","v":"Industrial Disaster "},{"$nulls":3},"Threat",null,"Criticality",null,null,"Vulnerability",{"$nulls":8},"Consequence",{"$nulls":8},{"$f":"SUM(((((J801+S801)/2)*G801)*E801))","v":0}]
[{"$nulls":9},"Exposure",null,null,"Protective Measures",null,null,"Robustness/Resilience",null,null,"Human",null,null,"Economic",null,null,"Psychological"]
[{"$f":"T(A678)","v":"Switches "},null,{"$f":"T(C678)","v":"HR"},{"$f":"SUM(D678)","v":11},{"v":1,"d":"1.0"},null,{"$f":"SUM(G678)","v":{"v":0,"d":"0.0"}},null,null,{"v":0,"d":"0.0"},null,null,{"v":0,"d":"0.0"},null,null,{"v":0,"d":"0.0"},null,null,{"v":0,"d":"0.0"},null,null,{"v":0,"d":"0.0"},null,null,{"v":0,"d":"0.0"}]
[{"$f":"T(A679)","v":""}]
[{"$nulls":4},{"$f":"SUM(E799)","v":{"v":1,"d":"1.0"}},null,{"$f":"SUM(G799)","v":{"v":0,"d":"0.0"}},null,null,{"$f":"SUM((J799+M799+P799)/3)","v":{"v":0,"d":"0.0"}},{"$nulls":8},{"$f":"SUM(((S799*3)+V799+Y799)/5)","v":{"v":0,"d":"0.0"}}]
[]
[{"$f":"T(A797)","v":"Industrial Disaster "},{"$nulls":3},"Threat",null,"Criticality",null,null,"Vulnerability",{"$nulls":8},"Consequence",{"$nulls":8},{"$f":"SUM(((((J807+S807)/2)*G807)*E807))","v":0}]
[{"$nulls":9},"Exposure",null,null,"Protective Measures",null,null,"Robustness/Resilience",null,null,"Human",null,null,"Economic",null,null,"Psychological"]
[{"$f":"T(A684)","v":"Bridges"},null,{"$f":"T(C684)","v":"HR"},{"$f":"SUM(D684)","v":12},{"v":1,"d":"1.0"},null,{"$f":"SUM(G684)","v":{"v":0,"d":"0.0"}},null,null,{"v":0,"d":"0.0"},null,null,{"v":0,"d":"0.0"},null,null,{"v":0,"d":"0.0"},null,null,{"v":0,"d":"0.0"},null,null,{"v":0,"d":"0.0"},null,null,{"v":0,"d":"0.0"}]
[{"$f":"T(A685)","v":""}]
[{"$nulls":4},{"$f":"SUM(E805)","v":{"v":1,"d":"1.0"}},null,{"$f":"SUM(G805)","v":{"v":0,"d":"0.0"}},null,null,{"$f":"SUM((J805+M805+P805)/3)","v":{"v":0,"d":"0.0"}},{"$nulls":8},{"$f":"SUM(((S805*3)+V805+Y805)/5)","v":{"v":0,"d":"0.0"}}]
[]
[{"$f":"T(A803)","v":"Industrial Disaster "},{"$nulls":3},"Threat",null,"Criticality",null,null,"Vulnerability",{"$nulls":8},"Consequence",{"$nulls":8},{"$f":"SUM(((((J813+S813)/2)*G813)*E813))","v":0}]
[{"$nulls":9},"Exposure",null,null,"Protective Measures",null,null,"Robustness/Resilience",null,null,"Human",null,null,"Economic",null,null,"Psychological"]
[{"$f":"T(A690)","v":"Elevated Track"},null,{"$f":"T(C690)","v":"HR"},{"$f":"SUM(D690)","v":13},{"v":1,"d":"1.0"},null,{"$f":"SUM(G690)","v":{"v":0,"d":"0.0"}},null,null,{"v":0,"d":"0.0"},null,null,{"v":0,"d":"0.0"},null,null,{"v":0,"d":"0.0"},null,null,{"v":0,"d":"0.0"},null,null,{"v":0,"d":"0.0"},null,null,{"v":0,"d":"0.0"}]
[{"$f":"T(A691)","v":""}]
[{"$nulls":4},{"$f":"SUM(E811)","v":{"v":1,"d":"1.0"}},null,{"$f":"SUM(G811)","v":{"v":0,"d":"0.0"}},null,null,{"$f":"SUM((J811+M811+P811)/3)","v":{"v":0,"d":"0.0"}},{"$nulls":8},{"$f":"SUM(((S811*3)+V811+Y811)/5)","v":{"v":0,"d":"0.0"}}]
[]
[{"$f":"T(A809)","v":"Industrial Disaster "},{"$nulls":3},"Threat",null,"Criticality",null,null,"Vulnerability",{"$nulls":8},"Consequence",{"$nulls":8},{"$f":"SUM(((((J819+S819)/2)*G819)*E819))","v":0}]
[{"$nulls":9},"Exposure",null,null,"Protective Measures",null,null,"Robustness/Resilience",null,null,"Human",null,null,"Economic",null,null,"Psychological"]
[{"$f":"T(A696)","v":"Tunnels "},null,{"$f":"T(C696)","v":"HR"},{"$f":"SUM(D696)","v":14},{"v":1,"d":"1.0"},null,{"$f":"SUM(G696)","v":{"v":0,"d":"0.0"}},null,null,{"v":0,"d":"0.0"},null,null,{"v":0,"d":"0.0"},null,null,{"v":0,"d":"0.0"},null,null,{"v":0,"d":"0.0"},null,null,{"v":0,"d":"0.0"},null,null,{"v":0,"d":"0.0"}]
[{"$f":"T(A697)","v":""}]
[{"$nulls":4},{"$f":"SUM(E817)","v":{"v":1,"d":"1.0"}},null,{"$f":"SUM(G817)","v":{"v":0,"d":"0.0"}},null,null,{"$f":"SUM((J817+M817+P817)/3)","v":{"v":0,"d":"0.0"}},{"$nulls":8},{"$f":"SUM(((S817*3)+V817+Y817)/5)","v":{"v":0,"d":"0.0"}}]
[]
[{"$f":"T(A815)","v":"Industrial Disaster "},{"$nulls":3},"Threat",null,"Criticality",null,null,"Vulnerability",{"$nulls":8},"Consequence",{"$nulls":8},{"$f":"SUM(((((J825+S825)/2)*G825)*E825))","v":0}]
[{"$nulls":9},"Exposure",null,null,"Protective Measures",null,null,"Robustness/Resilience",null,null,"Human",null,null,"Economic",null,null,"Psychological"]
[{"$f":"T(A702)","v":"Choke Points on ROW"},null,{"$f":"T(C702)","v":"HR"},{"$f":"SUM(D702)","v":15},{"v":1,"d":"1.0"},null,{"$f":"SUM(G702)","v":{"v":0,"d":"0.0"}},null,null,{"v":0,"d":"0.0"},null,null,{"v":0,"d":"0.0"},null,null,{"v":0,"d":"0.0"},null,null,{"v":0,"d":"0.0"},null,null,{"v":0,"d":"0.0"},null,null,{"v":0,"d":"0.0"}]
[{"$f":"T(A703)","v":""}]
[{"$nulls":4},{"$f":"SUM(E823)","v":{"v":1,"d":"1.0"}},null,{"$f":"SUM(G823)","v":{"v":0,"d":"0.0"}},null,null,{"$f":"SUM((J823+M823+P823)/3)","v":{"v":0,"d":"0.0"}},{"$nulls":8},{"$f":"SUM(((S823*3)+V823+Y823)/5)","v":{"v":0,"d":"0.0"}}]
[]
[{"$f":"T(A821)","v":"Industrial Disaster "},{"$nulls":3},"Threat",null,"Criticality",null,null,"Vulnerability",{"$nulls":8},"Consequence",{"$nulls":8},{"$f":"SUM(((((J831+S831)/2)*G831)*E831))","v":0}]
[{"$nulls":9},"Exposure",null,null,"Protective Measures",null,null,"Robustness/Resilience",null,null,"Human",null,null,"Economic",null,null,"Psychological"]
[{"$f":"T(A708)","v":"Fire Suppression"},null,{"$f":"T(C708)","v":"HR"},{"$f":"SUM(D708)","v":16},{"v":1,"d":"1.0"},null,{"$f":"SUM(G708)","v":{"v":0,"d":"0.0"}},null,null,{"v":0,"d":"0.0"},null,null,{"v":0,"d":"0.0"},null,null,{"v":0,"d":"0.0"},null,null,{"v":0,"d":"0.0"},null,null,{"v":0,"d":"0.0"},null,null,{"v":0,"d":"0.0"}]
[{"$f":"T(A709)","v":""}]
[{"$nulls":4},{"$f":"SUM(E829)","v":{"v":1,"d":"1.0"}},null,{"$f":"SUM(G829)","v":{"v":0,"d":"0.0"}},null,null,{"$f":"SUM((J829+M829+P829)/3)","v":{"v":0,"d":"0.0"}},{"$nulls":8},{"$f":"SUM(((S829*3)+V829+Y829)/5)","v":{"v":0,"d":"0.0"}}]
[]
[{"$f":"T(A827)","v":"Industrial Disaster "},{"$nulls":3},"Threat",null,"Criticality",null,null,"Vulnerability",{"$nulls":8},"Consequence",{"$nulls":8},{"$f":"SUM(((((J837+S837)/2)*G837)*E837))","v":0}]
[{"$nulls":9},"Exposure",null,null,"Protective Measures",null,null,"Robustness/Resilience",null,null,"Human",null,null,"Economic",null,null,"Psychological"]
[{"$f":"T(A714)","v":"Air Handling"},null,{"$f":"T(C714)","v":"HR"},{"$f":"SUM(D714)","v":17},{"v":1,"d":"1.0"},null,{"$f":"SUM(G714)","v":{"v":0,"d":"0.0"}},null,null,{"v":0,"d":"0.0"},null,null,{"v":0,"d":"0.0"},null,null,{"v":0,"d":"0.0"},null,null,{"v":0,"d":"0.0"},null,null,{"v":0,"d":"0.0"},null,null,{"v":0,"d":"0.0"}]
[{"$f":"T(A715)","v":""}]
[{"$nulls":4},{"$f":"SUM(E835)","v":{"v":1,"d":"1.0"}},null,{"$f":"SUM(G835)","v":{"v":0,"d":"0.0"}},null,null,{"$f":"SUM((J835+M835+P835)/3)","v":{"v":0,"d":"0.0"}},{"$nulls":8},{"$f":"SUM(((S835*3)+V835+Y835)/5)","v":{"v":0,"d":"0.0"}}]
[]
[{"$f":"T(A833)","v":"Industrial Disaster "},{"$nulls":3},"Threat",null,"Criticality",null,null,"Vulnerability",{"$nulls":8},"Consequence",{"$nulls":8},{"$f":"SUM(((((J843+S843)/2)*G843)*E843))","v":0}]
[{"$nulls":9},"Exposure",null,null,"Protective Measures",null,null,"Robustness/Resilience",null,null,"Human",null,null,"Economic",null,null,"Psychological"]
[{"$f":"T(A720)","v":"Power Generation/Distribution"},null,{"$f":"T(C720)","v":"HR"},{"$f":"SUM(D720)","v":18},{"v":1,"d":"1.0"},null,{"$f":"SUM(G720)","v":{"v":0,"d":"0.0"}},null,null,{"v":0,"d":"0.0"},null,null,{"v":0,"d":"0.0"},null,null,{"v":0,"d":"0.0"},null,null,{"v":0,"d":"0.0"},null,null,{"v":0,"d":"0.0"},null,null,{"v":0,"d":"0.0"}]
[{"$f":"T(A721)","v":""}]
[{"$nulls":4},{"$f":"SUM(E841)","v":{"v":1,"d":"1.0"}},null,{"$f":"SUM(G841)","v":{"v":0,"d":"0.0"}},null,null,{"$f":"SUM((J841+M841+P841)/3)","v":{"v":0,"d":"0.0"}},{"$nulls":8},{"$f":"SUM(((S841*3)+V841+Y841)/5)","v":{"v":0,"d":"0.0"}}]
[]
[{"$f":"T(A839)","v":"Industrial Disaster "},{"$nulls":3},"Threat",null,"Criticality",null,null,"Vulnerability",{"$nulls":8},"Consequence",{"$nulls":8},{"$f":"SUM(((((J849+S849)/2)*G849)*E849))","v":0}]
[{"$nulls":9},"Exposure",null,null,"Protective Measures",null,null,"Robustness/Resilience",null,null,"Human",null,null,"Economic",null,null,"Psychological"]
[{"$f":"T(A726)","v":"Yards"},null,{"$f":"T(C726)","v":"HR"},{"$f":"SUM(D726)","v":19},{"v":1,"d":"1.0"},null,{"$f":"SUM(G726)","v":{"v":0,"d":"0.0"}},null,null,{"v":0,"d":"0.0"},null,null,{"v":0,"d":"0.0"},null,null,{"v":0,"d":"0.0"},null,null,{"v":0,"d":"0.0"},null,null,{"v":0,"d":"0.0"},null,null,{"v":0,"d":"0.0"}]
[{"$f":"T(A727)","v":""}]
[{"$nulls":4},{"$f":"SUM(E847)","v":{"v":1,"d":"1.0"}},null,{"$f":"SUM(G847)","v":{"v":0,"d":"0.0"}},null,null,{"$f":"SUM((J847+M847+P847)/3)","v":{"v":0,"d":"0.0"}},{"$nulls":8},{"$f":"SUM(((S847*3)+V847+Y847)/5)","v":{"v":0,"d":"0.0"}}]
[]
[{"$f":"T(A845)","v":"Industrial Disaster "},{"$nulls":3},"Threat",null,"Criticality",null,null,"Vulnerability",{"$nulls":8},"Consequence",{"$nulls":8},{"$f":"SUM(((((J855+S855)/2)*G855)*E855))","v":0}]
[{"$nulls":9},"Exposure",null,null,"Protective Measures",null,null,"Robustness/Resilience",null,null,"Human",null,null,"Economic",null,null,"Psychological"]
[{"$f":"T(A732)","v":"Maintenance Barns/Facilities"},null,{"$f":"T(C732)","v":"HR"},{"$f":"SUM(D732)","v":20},{"v":1,"d":"1.0"},null,{"$f":"SUM(G732)","v":{"v":0,"d":"0.0"}},null,null,{"v":0,"d":"0.0"},null,null,{"v":0,"d":"0.0"},null,null,{"v":0,"d":"0.0"},null,null,{"v":0,"d":"0.0"},null,null,{"v":0,"d":"0.0"},null,null,{"v":0,"d":"0.0"}]
[{"$f":"T(A733)","v":""}]
[{"$nulls":4},{"$f":"SUM(E853)","v":{"v":1,"d":"1.0"}},null,{"$f":"SUM(G853)","v":{"v":0,"d":"0.0"}},null,null,{"$f":"SUM((J853+M853+P853)/3)","v":{"v":0,"d":"0.0"}},{"$nulls":8},{"$f":"SUM(((S853*3)+V853+Y853)/5)","v":{"v":0,"d":"0.0"}}]
[]
[{"$f":"T(Definitions!D26)","v":"Derailment/Collision"}]
[{"$f":"T(A857)","v":"Derailment/Collision"},{"$nulls":3},"Threat",null,"Criticality",null,null,"Vulnerability",{"$nulls":8},"Consequence",{"$nulls":8},{"$f":"SUM(((((J862+S862)/2)*G862)*E862))","v":0}]
[{"$nulls":9},"Exposure",null,null,"Protective Measures",null,null,"Robustness/Resilience",null,null,"Human",null,null,"Economic",null,null,"Psychological"]
[{"$f":"T(A739)","v":"Headquarters Building"},null,{"$f":"T(C739)","v":"HR"},{"$f":"SUM(D739)","v":1},{"v":1,"d":"1.0"},null,{"$f":"SUM(G739)","v":{"v":0,"d":"0.0"}},null,null,{"v":0,"d":"0.0"},null,null,{"v":0,"d":"0.0"},null,null,{"v":0,"d":"0.0"},null,null,{"v":0,"d":"0.0"},null,null,{"v":0,"d":"0.0"},null,null,{"v":0,"d":"0.0"}]
[{"$f":"T(A740)","v":""}]
[{"$nulls":4},{"$f":"SUM(E860)","v":{"v":1,"d":"1.0"}},null,{"$f":"SUM(G860)","v":{"v":0,"d":"0.0"}},null,null,{"$f":"SUM((J860+M860+P860)/3)","v":{"v":0,"d":"0.0"}},{"$nulls":8},{"$f":"SUM(((S860*3)+V860+Y860)/5)","v":{"v":0,"d":"0.0"}}]
[]
[{"$f":"T(A857)","v":"Derailment/Collision"},{"$nulls":3},"Threat",null,"Criticality",null,null,"Vulnerability",{"$nulls":8},"Consequence",{"$nulls":8},{"$f":"SUM(((((J868+S868)/2)*G868)*E868))","v":0}]
[{"$nulls":9},"Exposure",null,null,"Protective Measures",null,null,"Robustness/Resilience",null,null,"Human",null,null,"Economic",null,null,"Psychological"]
[{"$f":"T(A745)","v":"Major Passenger Terminals"},null,{"$f":"T(C745)","v":"HR"},{"$f":"SUM(D745)","v":2},{"v":1,"d":"1.0"},null,{"$f":"SUM(G745)","v":{"v":0,"d":"0.0"}},null,null,{"v":0,"d":"0.0"},null,null,{"v":0,"d":"0.0"},null,null,{"v":0,"d":"0.0"},null,null,{"v":0,"d":"0.0"},null,null,{"v":0,"d":"0.0"},null,null,{"v":0,"d":"0.0"}]
[{"$f":"T(A746)","v":""}]
[{"$nulls":4},{"$f":"SUM(E866)","v":{"v":1,"d":"1.0"}},null,{"$f":"SUM(G866)","v":{"v":0,"d":"0.0"}},null,null,{"$f":"SUM((J866+M866+P866)/3)","v":{"v":0,"d":"0.0"}},{"$nulls":8},{"$f":"SUM(((S866*3)+V866+Y866)/5)","v":{"v":0,"d":"0.0"}}]
[]
[{"$f":"T(A864)","v":"Derailment/Collision"},{"$nulls":3},"Threat",null,"Criticality",null,null,"Vulnerability",{"$nulls":8},"Consequence",{"$nulls":8},{"$f":"SUM(((((J874+S874)/2)*G874)*E874))","v":0}]
[{"$nulls":9},"Exposure",null,null,"Protective Measures",null,null,"Robustness/Resilience",null,null,"Human",null,null,"Economic",null,null,"Psychological"]
[{"$f":"T(A751)","v":"Major Line Stations"},null,{"$f":"T(C751)","v":"HR"},{"$f":"SUM(D751)","v":3},{"v":1,"d":"1.0"},null,{"$f":"SUM(G751)","v":{"v":0,"d":"0.0"}},null,null,{"v":0,"d":"0.0"},null,null,{"v":0,"d":"0.0"},null,null,{"v":0,"d":"0.0"},null,null,{"v":0,"d":"0.0"},null,null,{"v":0,"d":"0.0"},null,null,{"v":0,"d":"0.0"}]
[{"$f":"T(A752)","v":""}]
[{"$nulls":4},{"$f":"SUM(E872)","v":{"v":1,"d":"1.0"}},null,{"$f":"SUM(G872)","v":{"v":0,"d":"0.0"}},null,null,{"$f":"SUM((J872+M872+P872)/3)","v":{"v":0,"d":"0.0"}},{"$nulls":8},{"$f":"SUM(((S872*3)+V872+Y872)/5)","v":{"v":0,"d":"0.0"}}]
[]
[{"$f":"T(A870)","v":"Derailment/Collision"},{"$nulls":3},"Threat",null,"Criticality",null,null,"Vulnerability",{"$nulls":8},"Consequence",{"$nulls":8},{"$f":"SUM(((((J880+S880)/2)*G880)*E880))","v":0}]
[{"$nulls":9},"Exposure",null,null,"Protective Measures",null,null,"Robustness/Resilience",null,null,"Human",null,null,"Economic",null,null,"Psychological"]
[{"$f":"T(A757)","v":"Parking Structures"},null,{"$f":"T(C757)","v":"HR"},{"$f":"SUM(D757)","v":4},{"v":1,"d":"1.0"},null,{"$f":"SUM(G757)","v":{"v":0,"d":"0.0"}},null,null,{"v":0,"d":"0.0"},null,null,{"v":0,"d":"0.0"},null,null,{"v":0,"d":"0.0"},null,null,{"v":0,"d":"0.0"},null,null,{"v":0,"d":"0.0"},null,null,{"v":0,"d":"0.0"}]
[{"$f":"T(A758)","v":""}]
[{"$nulls":4},{"$f":"SUM(E878)","v":{"v":1,"d":"1.0"}},null,{"$f":"SUM(G878)","v":{"v":0,"d":"0.0"}},null,null,{"$f":"SUM((J878+M878+P878)/3)","v":{"v":0,"d":"0.0"}},{"$nulls":8},{"$f":"SUM(((S878*3)+V878+Y878)/5)","v":{"v":0,"d":"0.0"}}]
[]
[{"$f":"T(A876)","v":"Derailment/Collision"},{"$nulls":3},"Threat",null,"Criticality",null,null,"Vulnerability",{"$nulls":8},"Consequence",{"$nulls":8},{"$f":"SUM(((((J886+S886)/2)*G886)*E886))","v":0}]
[{"$nulls":9},"Exposure",null,null,"Protective Measures",null,null,"Robustness/Resilience",null,null,"Human",null,null,"Economic",null,null,"Psychological"]
[{"$f":"T(A763)","v":"Consist - Type 1"},null,{"$f":"T(C763)","v":"HR"},{"$f":"SUM(D763)","v":5},{"v":1,"d":"1.0"},null,{"$f":"SUM(G763)","v":{"v":0,"d":"0.0"}},null,null,{"v":0,"d":"0.0"},null,null,{"v":0,"d":"0.0"},null,null,{"v":0,"d":"0.0"},null,null,{"v":0,"d":"0.0"},null,null,{"v":0,"d":"0.0"},null,null,{"v":0,"d":"0.0"}]
[{"$f":"T(A764)","v":""}]
[{"$nulls":4},{"$f":"SUM(E884)","v":{"v":1,"d":"1.0"}},null,{"$f":"SUM(G884)","v":{"v":0,"d":"0.0"}},null,null,{"$f":"SUM((J884+M884+P884)/3)","v":{"v":0,"d":"0.0"}},{"$nulls":8},{"$f":"SUM(((S884*3)+V884+Y884)/5)","v":{"v":0,"d":"0.0"}}]
[]
[{"$f":"T(A882)","v":"Derailment/Collision"},{"$nulls":3},"Threat",null,"Criticality",null,null,"Vulnerability",{"$nulls":8},"Consequence",{"$nulls":8},{"$f":"SUM(((((J892+S892)/2)*G892)*E892))","v":0}]
[{"$nulls":9},"Exposure",null,null,"Protective Measures",null,null,"Robustness/Resilience",null,null,"Human",null,null,"Economic",null,null,"Psychological"]
[{"$f":"T(A769)","v":"Consist - Type 2"},null,{"$f":"T(C769)","v":"HR"},{"$f":"SUM(D769)","v":6},{"v":1,"d":"1.0"},null,{"$f":"SUM(G769)","v":{"v":0,"d":"0.0"}},null,null,{"v":0,"d":"0.0"},null,null,{"v":0,"d":"0.0"},null,null,{"v":0,"d":"0.0"},null,null,{"v":0,"d":"0.0"},null,null,{"v":0,"d":"0.0"},null,null,{"v":0,"d":"0.0"}]
[{"$f":"T(A770)","v":""}]
[{"$nulls":4},{"$f":"SUM(E890)","v":{"v":1,"d":"1.0"}},null,{"$f":"SUM(G890)","v":{"v":0,"d":"0.0"}},null,null,{"$f":"SUM((J890+M890+P890)/3)","v":{"v":0,"d":"0.0"}},{"$nulls":8},{"$f":"SUM(((S890*3)+V890+Y890)/5)","v":{"v":0,"d":"0.0"}}]
[]
[{"$f":"T(A888)","v":"Derailment/Collision"},{"$nulls":3},"Threat",null,"Criticality",null,null,"Vulnerability",{"$nulls":8},"Consequence",{"$nulls":8},{"$f":"SUM(((((J898+S898)/2)*G898)*E898))","v":0}]
[{"$nulls":9},"Exposure",null,null,"Protective Measures",null,null,"Robustness/Resilience",null,null,"Human",null,null,"Economic",null,null,"Psychological"]
[{"$f":"T(A775)","v":"Primary Control Center"},null,{"$f":"T(C775)","v":"HR"},{"$f":"SUM(D775)","v":7},{"v":1,"d":"1.0"},null,{"$f":"SUM(G775)","v":{"v":0,"d":"0.0"}},null,null,{"v":0,"d":"0.0"},null,null,{"v":0,"d":"0.0"},null,null,{"v":0,"d":"0.0"},null,null,{"v":0,"d":"0.0"},null,null,{"v":0,"d":"0.0"},null,null,{"v":0,"d":"0.0"}]
[{"$f":"T(A776)","v":""}]
[{"$nulls":4},{"$f":"SUM(E896)","v":{"v":1,"d":"1.0"}},null,{"$f":"SUM(G896)","v":{"v":0,"d":"0.0"}},null,null,{"$f":"SUM((J896+M896+P896)/3)","v":{"v":0,"d":"0.0"}},{"$nulls":8},{"$f":"SUM(((S896*3)+V896+Y896)/5)","v":{"v":0,"d":"0.0"}}]
[]
[{"$f":"T(A894)","v":"Derailment/Collision"},{"$nulls":3},"Threat",null,"Criticality",null,null,"Vulnerability",{"$nulls":8},"Consequence",{"$nulls":8},{"$f":"SUM(((((J904+S904)/2)*G904)*E904))","v":0}]
[{"$nulls":9},"Exposure",null,null,"Protective Measures",null,null,"Robustness/Resilience",null,null,"Human",null,null,"Economic",null,null,"Psychological"]
[{"$f":"T(A781)","v":"Cyber Systems"},null,{"$f":"T(C781)","v":"HR"},{"$f":"SUM(D781)","v":8},{"v":1,"d":"1.0"},null,{"$f":"SUM(G781)","v":{"v":0,"d":"0.0"}},null,null,{"v":0,"d":"0.0"},null,null,{"v":0,"d":"0.0"},null,null,{"v":0,"d":"0.0"},null,null,{"v":0,"d":"0.0"},null,null,{"v":0,"d":"0.0"},null,null,{"v":0,"d":"0.0"}]
[{"$f":"T(A782)","v":""}]
[{"$nulls":4},{"$f":"SUM(E902)","v":{"v":1,"d":"1.0"}},null,{"$f":"SUM(G902)","v":{"v":0,"d":"0.0"}},null,null,{"$f":"SUM((J902+M902+P902)/3)","v":{"v":0,"d":"0.0"}},{"$nulls":8},{"$f":"SUM(((S902*3)+V902+Y902)/5)","v":{"v":0,"d":"0.0"}}]
[]
[{"$f":"T(A894)","v":"Derailment/Collision"},{"$nulls":3},"Threat",null,"Criticality",null,null,"Vulnerability",{"$nulls":8},"Consequence",{"$nulls":8},{"$f":"SUM(((((J910+S910)/2)*G910)*E910))","v":0}]
[{"$nulls":9},"Exposure",null,null,"Protective Measures",null,null,"Robustness/Resilience",null,null,"Human",null,null,"Economic",null,null,"Psychological"]
[{"$f":"T(A787)","v":"Right of Way (ROW)"},null,{"$f":"T(C787)","v":"HR"},{"$f":"SUM(D787)","v":9},{"v":1,"d":"1.0"},null,{"$f":"SUM(G787)","v":{"v":0,"d":"0.0"}},null,null,{"v":0,"d":"0.0"},null,null,{"v":0,"d":"0.0"},null,null,{"v":0,"d":"0.0"},null,null,{"v":0,"d":"0.0"},null,null,{"v":0,"d":"0.0"},null,null,{"v":0,"d":"0.0"}]
[{"$f":"T(A788)","v":""}]
[{"$nulls":4},{"$f":"SUM(E908)","v":{"v":1,"d":"1.0"}},null,{"$f":"SUM(G908)","v":{"v":0,"d":"0.0"}},null,null,{"$f":"SUM((J908+M908+P908)/3)","v":{"v":0,"d":"0.0"}},{"$nulls":8},{"$f":"SUM(((S908*3)+V908+Y908)/5)","v":{"v":0,"d":"0.0"}}]
[]
[{"$f":"T(A894)","v":"Derailment/Collision"},{"$nulls":3},"Threat",null,"Criticality",null,null,"Vulnerability",{"$nulls":8},"Consequence",{"$nulls":8},{"$f":"SUM(((((J916+S916)/2)*G916)*E916))","v":0}]
[{"$nulls":9},"Exposure",null,null,"Protective Measures",null,null,"Robustness/Resilience",null,null,"Human",null,null,"Economic",null,null,"Psychological"]
[{"$f":"T(A793)","v":"Signals & PTC"},null,{"$f":"T(C793)","v":"HR"},{"$f":"SUM(D793)","v":10},{"v":1,"d":"1.0"},null,{"$f":"SUM(G793)","v":{"v":0,"d":"0.0"}},null,null,{"v":0,"d":"0.0"},null,null,{"v":0,"d":"0.0"},null,null,{"v":0,"d":"0.0"},null,null,{"v":0,"d":"0.0"},null,null,{"v":0,"d":"0.0"},null,null,{"v":0,"d":"0.0"}]
[{"$f":"T(A794)","v":""}]
[{"$nulls":4},{"$f":"SUM(E914)","v":{"v":1,"d":"1.0"}},null,{"$f":"SUM(G914)","v":{"v":0,"d":"0.0"}},null,null,{"$f":"SUM((J914+M914+P914)/3)","v":{"v":0,"d":"0.0"}},{"$nulls":8},{"$f":"SUM(((S914*3)+V914+Y914)/5)","v":{"v":0,"d":"0.0"}}]
[]
[{"$f":"T(A912)","v":"Derailment/Collision"},{"$nulls":3},"Threat",null,"Criticality",null,null,"Vulnerability",{"$nulls":8},"Consequence",{"$nulls":8},{"$f":"SUM(((((J922+S922)/2)*G922)*E922))","v":0}]
[{"$nulls":9},"Exposure",null,null,"Protective Measures",null,null,"Robustness/Resilience",null,null,"Human",null,null,"Economic",null,null,"Psychological"]
[{"$f":"T(A799)","v":"Switches "},null,{"$f":"T(C799)","v":"HR"},{"$f":"SUM(D799)","v":11},{"v":1,"d":"1.0"},null,{"$f":"SUM(G799)","v":{"v":0,"d":"0.0"}},null,null,{"v":0,"d":"0.0"},null,null,{"v":0,"d":"0.0"},null,null,{"v":0,"d":"0.0"},null,null,{"v":0,"d":"0.0"},null,null,{"v":0,"d":"0.0"},null,null,{"v":0,"d":"0.0"}]
[{"$f":"T(A800)","v":""}]
[{"$nulls":4},{"$f":"SUM(E920)","v":{"v":1,"d":"1.0"}},null,{"$f":"SUM(G920)","v":{"v":0,"d":"0.0"}},null,null,{"$f":"SUM((J920+M920+P920)/3)","v":{"v":0,"d":"0.0"}},{"$nulls":8},{"$f":"SUM(((S920*3)+V920+Y920)/5)","v":{"v":0,"d":"0.0"}}]
[]
[{"$f":"T(A918)","v":"Derailment/Collision"},{"$nulls":3},"Threat",null,"Criticality",null,null,"Vulnerability",{"$nulls":8},"Consequence",{"$nulls":8},{"$f":"SUM(((((J928+S928)/2)*G928)*E928))","v":0}]
[{"$nulls":9},"Exposure",null,null,"Protective Measures",null,null,"Robustness/Resilience",null,null,"Human",null,null,"Economic",null,null,"Psychological"]
[{"$f":"T(A805)","v":"Bridges"},null,{"$f":"T(C805)","v":"HR"},{"$f":"SUM(D805)","v":12},{"v":1,"d":"1.0"},null,{"$f":"SUM(G805)","v":{"v":0,"d":"0.0"}},null,null,{"v":0,"d":"0.0"},null,null,{"v":0,"d":"0.0"},null,null,{"v":0,"d":"0.0"},null,null,{"v":0,"d":"0.0"},null,null,{"v":0,"d":"0.0"},null,null,{"v":0,"d":"0.0"}]
[{"$f":"T(A806)","v":""}]
[{"$nulls":4},{"$f":"SUM(E926)","v":{"v":1,"d":"1.0"}},null,{"$f":"SUM(G926)","v":{"v":0,"d":"0.0"}},null,null,{"$f":"SUM((J926+M926+P926)/3)","v":{"v":0,"d":"0.0"}},{"$nulls":8},{"$f":"SUM(((S926*3)+V926+Y926)/5)","v":{"v":0,"d":"0.0"}}]
[]
[{"$f":"T(A924)","v":"Derailment/Collision"},{"$nulls":3},"Threat",null,"Criticality",null,null,"Vulnerability",{"$nulls":8},"Consequence",{"$nulls":8},{"$f":"SUM(((((J934+S934)/2)*G934)*E934))","v":0}]
[{"$nulls":9},"Exposure",null,null,"Protective Measures",null,null,"Robustness/Resilience",null,null,"Human",null,null,"Economic",null,null,"Psychological"]
[{"$f":"T(A811)","v":"Elevated Track"},null,{"$f":"T(C811)","v":"HR"},{"$f":"SUM(D811)","v":13},{"v":1,"d":"1.0"},null,{"$f":"SUM(G811)","v":{"v":0,"d":"0.0"}},null,null,{"v":0,"d":"0.0"},null,null,{"v":0,"d":"0.0"},null,null,{"v":0,"d":"0.0"},null,null,{"v":0,"d":"0.0"},null,null,{"v":0,"d":"0.0"},null,null,{"v":0,"d":"0.0"}]
[{"$f":"T(A812)","v":""}]
[{"$nulls":4},{"$f":"SUM(E932)","v":{"v":1,"d":"1.0"}},null,{"$f":"SUM(G932)","v":{"v":0,"d":"0.0"}},null,null,{"$f":"SUM((J932+M932+P932)/3)","v":{"v":0,"d":"0.0"}},{"$nulls":8},{"$f":"SUM(((S932*3)+V932+Y932)/5)","v":{"v":0,"d":"0.0"}}]
[]
[{"$f":"T(A930)","v":"Derailment/Collision"},{"$nulls":3},"Threat",null,"Criticality",null,null,"Vulnerability",{"$nulls":8},"Consequence",{"$nulls":8},{"$f":"SUM(((((J940+S940)/2)*G940)*E940))","v":0}]
[{"$nulls":9},"Exposure",null,null,"Protective Measures",null,null,"Robustness/Resilience",null,null,"Human",null,null,"Economic",null,null,"Psychological"]
[{"$f":"T(A817)","v":"Tunnels "},null,{"$f":"T(C817)","v":"HR"},{"$f":"SUM(D817)","v":14},{"v":1,"d":"1.0"},null,{"$f":"SUM(G817)","v":{"v":0,"d":"0.0"}},null,null,{"v":0,"d":"0.0"},null,null,{"v":0,"d":"0.0"},null,null,{"v":0,"d":"0.0"},null,null,{"v":0,"d":"0.0"},null,null,{"v":0,"d":"0.0"},null,null,{"v":0,"d":"0.0"}]
[{"$f":"T(A818)","v":""}]
[{"$nulls":4},{"$f":"SUM(E938)","v":{"v":1,"d":"1.0"}},null,{"$f":"SUM(G938)","v":{"v":0,"d":"0.0"}},null,null,{"$f":"SUM((J938+M938+P938)/3)","v":{"v":0,"d":"0.0"}},{"$nulls":8},{"$f":"SUM(((S938*3)+V938+Y938)/5)","v":{"v":0,"d":"0.0"}}]
[]
[{"$f":"T(A936)","v":"Derailment/Collision"},{"$nulls":3},"Threat",null,"Criticality",null,null,"Vulnerability",{"$nulls":8},"Consequence",{"$nulls":8},{"$f":"SUM(((((J946+S946)/2)*G946)*E946))","v":0}]
[{"$nulls":9},"Exposure",null,null,"Protective Measures",null,null,"Robustness/Resilience",null,null,"Human",null,null,"Economic",null,null,"Psychological"]
[{"$f":"T(A823)","v":"Choke Points on ROW"},null,{"$f":"T(C823)","v":"HR"},{"$f":"SUM(D823)","v":15},{"v":1,"d":"1.0"},null,{"$f":"SUM(G823)","v":{"v":0,"d":"0.0"}},null,null,{"v":0,"d":"0.0"},null,null,{"v":0,"d":"0.0"},null,null,{"v":0,"d":"0.0"},null,null,{"v":0,"d":"0.0"},null,null,{"v":0,"d":"0.0"},null,null,{"v":0,"d":"0.0"}]
[{"$f":"T(A824)","v":""}]
[{"$nulls":4},{"$f":"SUM(E944)","v":{"v":1,"d":"1.0"}},null,{"$f":"SUM(G944)","v":{"v":0,"d":"0.0"}},null,null,{"$f":"SUM((J944+M944+P944)/3)","v":{"v":0,"d":"0.0"}},{"$nulls":8},{"$f":"SUM(((S944*3)+V944+Y944)/5)","v":{"v":0,"d":"0.0"}}]
[]
[{"$f":"T(A942)","v":"Derailment/Collision"},{"$nulls":3},"Threat",null,"Criticality",null,null,"Vulnerability",{"$nulls":8},"Consequence",{"$nulls":8},{"$f":"SUM(((((J952+S952)/2)*G952)*E952))","v":0}]
[{"$nulls":9},"Exposure",null,null,"Protective Measures",null,null,"Robustness/Resilience",null,null,"Human",null,null,"Economic",null,null,"Psychological"]
[{"$f":"T(A829)","v":"Fire Suppression"},null,{"$f":"T(C829)","v":"HR"},{"$f":"SUM(D829)","v":16},{"v":1,"d":"1.0"},null,{"$f":"SUM(G829)","v":{"v":0,"d":"0.0"}},null,null,{"v":0,"d":"0.0"},null,null,{"v":0,"d":"0.0"},null,null,{"v":0,"d":"0.0"},null,null,{"v":0,"d":"0.0"},null,null,{"v":0,"d":"0.0"},null,null,{"v":0,"d":"0.0"}]
[{"$f":"T(A830)","v":""}]
[{"$nulls":4},{"$f":"SUM(E950)","v":{"v":1,"d":"1.0"}},null,{"$f":"SUM(G950)","v":{"v":0,"d":"0.0"}},null,null,{"$f":"SUM((J950+M950+P950)/3)","v":{"v":0,"d":"0.0"}},{"$nulls":8},{"$f":"SUM(((S950*3)+V950+Y950)/5)","v":{"v":0,"d":"0.0"}}]
[]
[{"$f":"T(A948)","v":"Derailment/Collision"},{"$nulls":3},"Threat",null,"Criticality",null,null,"Vulnerability",{"$nulls":8},"Consequence",{"$nulls":8},{"$f":"SUM(((((J958+S958)/2)*G958)*E958))","v":0}]
[{"$nulls":9},"Exposure",null,null,"Protective Measures",null,null,"Robustness/Resilience",null,null,"Human",null,null,"Economic",null,null,"Psychological"]
[{"$f":"T(A835)","v":"Air Handling"},null,{"$f":"T(C835)","v":"HR"},{"$f":"SUM(D835)","v":17},{"v":1,"d":"1.0"},null,{"$f":"SUM(G835)","v":{"v":0,"d":"0.0"}},null,null,{"v":0,"d":"0.0"},null,null,{"v":0,"d":"0.0"},null,null,{"v":0,"d":"0.0"},null,null,{"v":0,"d":"0.0"},null,null,{"v":0,"d":"0.0"},null,null,{"v":0,"d":"0.0"}]
[{"$f":"T(A836)","v":""}]
[{"$nulls":4},{"$f":"SUM(E956)","v":{"v":1,"d":"1.0"}},null,{"$f":"SUM(G956)","v":{"v":0,"d":"0.0"}},null,null,{"$f":"SUM((J956+M956+P956)/3)","v":{"v":0,"d":"0.0"}},{"$nulls":8},{"$f":"SUM(((S956*3)+V956+Y956)/5)","v":{"v":0,"d":"0.0"}}]
[]
[{"$f":"T(A954)","v":"Derailment/Collision"},{"$nulls":3},"Threat",null,"Criticality",null,null,"Vulnerability",{"$nulls":8},"Consequence",{"$nulls":8},{"$f":"SUM(((((J964+S964)/2)*G964)*E964))","v":0}]
[{"$nulls":9},"Exposure",null,null,"Protective Measures",null,null,"Robustness/Resilience",null,null,"Human",null,null,"Economic",null,null,"Psychological"]
[{"$f":"T(A841)","v":"Power Generation/Distribution"},null,{"$f":"T(C841)","v":"HR"},{"$f":"SUM(D841)","v":18},{"v":1,"d":"1.0"},null,{"$f":"SUM(G841)","v":{"v":0,"d":"0.0"}},null,null,{"v":0,"d":"0.0"},null,null,{"v":0,"d":"0.0"},null,null,{"v":0,"d":"0.0"},null,null,{"v":0,"d":"0.0"},null,null,{"v":0,"d":"0.0"},null,null,{"v":0,"d":"0.0"}]
[{"$f":"T(A842)","v":""}]
[{"$nulls":4},{"$f":"SUM(E962)","v":{"v":1,"d":"1.0"}},null,{"$f":"SUM(G962)","v":{"v":0,"d":"0.0"}},null,null,{"$f":"SUM((J962+M962+P962)/3)","v":{"v":0,"d":"0.0"}},{"$nulls":8},{"$f":"SUM(((S962*3)+V962+Y962)/5)","v":{"v":0,"d":"0.0"}}]
[]
[{"$f":"T(A960)","v":"Derailment/Collision"},{"$nulls":3},"Threat",null,"Criticality",null,null,"Vulnerability",{"$nulls":8},"Consequence",{"$nulls":8},{"$f":"SUM(((((J970+S970)/2)*G970)*E970))","v":0}]
[{"$nulls":9},"Exposure",null,null,"Protective Measures",null,null,"Robustness/Resilience",null,null,"Human",null,null,"Economic",null,null,"Psychological"]
[{"$f":"T(A847)","v":"Yards"},null,{"$f":"T(C847)","v":"HR"},{"$f":"SUM(D847)","v":19},{"v":1,"d":"1.0"},null,{"$f":"SUM(G847)","v":{"v":0,"d":"0.0"}},null,null,{"v":0,"d":"0.0"},null,null,{"v":0,"d":"0.0"},null,null,{"v":0,"d":"0.0"},null,null,{"v":0,"d":"0.0"},null,null,{"v":0,"d":"0.0"},null,null,{"v":0,"d":"0.0"}]
[{"$f":"T(A848)","v":""}]
[{"$nulls":4},{"$f":"SUM(E968)","v":{"v":1,"d":"1.0"}},null,{"$f":"SUM(G968)","v":{"v":0,"d":"0.0"}},null,null,{"$f":"SUM((J968+M968+P968)/3)","v":{"v":0,"d":"0.0"}},{"$nulls":8},{"$f":"SUM(((S968*3)+V968+Y968)/5)","v":{"v":0,"d":"0.0"}}]
[]
[{"$f":"T(A966)","v":"Derailment/Collision"},{"$nulls":3},"Threat",null,"Criticality",null,null,"Vulnerability",{"$nulls":8},"Consequence",{"$nulls":8},{"$f":"SUM(((((J976+S976)/2)*G976)*E976))","v":0}]
[{"$nulls":9},"Exposure",null,null,"Protective Measures",null,null,"Robustness/Resilience",null,null,"Human",null,null,"Economic",null,null,"Psychological"]
[{"$f":"T(A853)","v":"Maintenance Barns/Facilities"},null,{"$f":"T(C853)","v":"HR"},{"$f":"SUM(D853)","v":20},{"v":1,"d":"1.0"},null,{"$f":"SUM(G853)","v":{"v":0,"d":"0.0"}},null,null,{"v":0,"d":"0.0"},null,null,{"v":0,"d":"0.0"},null,null,{"v":0,"d":"0.0"},null,null,{"v":0,"d":"0.0"},null,null,{"v":0,"d":"0.0"},null,null,{"v":0,"d":"0.0"}]
[{"$f":"T(A854)","v":""}]
[{"$nulls":4},{"$f":"SUM(E974)","v":{"v":1,"d":"1.0"}},null,{"$f":"SUM(G974)","v":{"v":0,"d":"0.0"}},null,null,{"$f":"SUM((J974+M974+P974)/3)","v":{"v":0,"d":"0.0"}},{"$nulls":8},{"$f":"SUM(((S974*3)+V974+Y974)/5)","v":{"v":0,"d":"0.0"}}]
[]
[{"$f":"T(Definitions!D27)","v":"Widespread Power Outage"}]
[{"$f":"T(A978)","v":"Widespread Power Outage"},{"$nulls":3},"Threat",null,"Criticality",null,null,"Vulnerability",{"$nulls":8},"Consequence",{"$nulls":8},{"$f":"SUM(((((J983+S983)/2)*G983)*E983))","v":0}]
[{"$nulls":9},"Exposure",null,null,"Protective Measures",null,null,"Robustness/Resilience",null,null,"Human",null,null,"Economic",null,null,"Psychological"]
[{"$f":"T(A860)","v":"Headquarters Building"},null,{"$f":"T(C860)","v":"HR"},{"$f":"SUM(D860)","v":1},{"v":1,"d":"1.0"},null,{"$f":"SUM(G860)","v":{"v":0,"d":"0.0"}},null,null,{"v":0,"d":"0.0"},null,null,{"v":0,"d":"0.0"},null,null,{"v":0,"d":"0.0"},null,null,{"v":0,"d":"0.0"},null,null,{"v":0,"d":"0.0"},null,null,{"v":0,"d":"0.0"}]
[{"$f":"T(A861)","v":""}]
[{"$nulls":4},{"$f":"SUM(E981)","v":{"v":1,"d":"1.0"}},null,{"$f":"SUM(G981)","v":{"v":0,"d":"0.0"}},null,null,{"$f":"SUM((J981+M981+P981)/3)","v":{"v":0,"d":"0.0"}},{"$nulls":8},{"$f":"SUM(((S981*3)+V981+Y981)/5)","v":{"v":0,"d":"0.0"}}]
[]
[{"$f":"T(A978)","v":"Widespread Power Outage"},{"$nulls":3},"Threat",null,"Criticality",null,null,"Vulnerability",{"$nulls":8},"Consequence",{"$nulls":8},{"$f":"SUM(((((J989+S989)/2)*G989)*E989))","v":0}]
[{"$nulls":9},"Exposure",null,null,"Protective Measures",null,null,"Robustness/Resilience",null,null,"Human",null,null,"Economic",null,null,"Psychological"]
[{"$f":"T(A866)","v":"Major Passenger Terminals"},null,{"$f":"T(C866)","v":"HR"},{"$f":"SUM(D866)","v":2},{"v":1,"d":"1.0"},null,{"$f":"SUM(G866)","v":{"v":0,"d":"0.0"}},null,null,{"v":0,"d":"0.0"},null,null,{"v":0,"d":"0.0"},null,null,{"v":0,"d":"0.0"},null,null,{"v":0,"d":"0.0"},null,null,{"v":0,"d":"0.0"},null,null,{"v":0,"d":"0.0"}]
[{"$f":"T(A867)","v":""}]
[{"$nulls":4},{"$f":"SUM(E987)","v":{"v":1,"d":"1.0"}},null,{"$f":"SUM(G987)","v":{"v":0,"d":"0.0"}},null,null,{"$f":"SUM((J987+M987+P987)/3)","v":{"v":0,"d":"0.0"}},{"$nulls":8},{"$f":"SUM(((S987*3)+V987+Y987)/5)","v":{"v":0,"d":"0.0"}}]
[]
[{"$f":"T(A985)","v":"Widespread Power Outage"},{"$nulls":3},"Threat",null,"Criticality",null,null,"Vulnerability",{"$nulls":8},"Consequence",{"$nulls":8},{"$f":"SUM(((((J995+S995)/2)*G995)*E995))","v":0}]
[{"$nulls":9},"Exposure",null,null,"Protective Measures",null,null,"Robustness/Resilience",null,null,"Human",null,null,"Economic",null,null,"Psychological"]
[{"$f":"T(A872)","v":"Major Line Stations"},null,{"$f":"T(C872)","v":"HR"},{"$f":"SUM(D872)","v":3},{"v":1,"d":"1.0"},null,{"$f":"SUM(G872)","v":{"v":0,"d":"0.0"}},null,null,{"v":0,"d":"0.0"},null,null,{"v":0,"d":"0.0"},null,null,{"v":0,"d":"0.0"},null,null,{"v":0,"d":"0.0"},null,null,{"v":0,"d":"0.0"},null,null,{"v":0,"d":"0.0"}]
[{"$f":"T(A873)","v":""}]
[{"$nulls":4},{"$f":"SUM(E993)","v":{"v":1,"d":"1.0"}},null,{"$f":"SUM(G993)","v":{"v":0,"d":"0.0"}},null,null,{"$f":"SUM((J993+M993+P993)/3)","v":{"v":0,"d":"0.0"}},{"$nulls":8},{"$f":"SUM(((S993*3)+V993+Y993)/5)","v":{"v":0,"d":"0.0"}}]
[]
[{"$f":"T(A991)","v":"Widespread Power Outage"},{"$nulls":3},"Threat",null,"Criticality",null,null,"Vulnerability",{"$nulls":8},"Consequence",{"$nulls":8},{"$f":"SUM(((((J1001+S1001)/2)*G1001)*E1001))","v":0}]
[{"$nulls":9},"Exposure",null,null,"Protective Measures",null,null,"Robustness/Resilience",null,null,"Human",null,null,"Economic",null,null,"Psychological"]
[{"$f":"T(A878)","v":"Parking Structures"},null,{"$f":"T(C878)","v":"HR"},{"$f":"SUM(D878)","v":4},{"v":1,"d":"1.0"},null,{"$f":"SUM(G878)","v":{"v":0,"d":"0.0"}},null,null,{"v":0,"d":"0.0"},null,null,{"v":0,"d":"0.0"},null,null,{"v":0,"d":"0.0"},null,null,{"v":0,"d":"0.0"},null,null,{"v":0,"d":"0.0"},null,null,{"v":0,"d":"0.0"}]
[{"$f":"T(A879)","v":""}]
[{"$nulls":4},{"$f":"SUM(E999)","v":{"v":1,"d":"1.0"}},null,{"$f":"SUM(G999)","v":{"v":0,"d":"0.0"}},null,null,{"$f":"SUM((J999+M999+P999)/3)","v":{"v":0,"d":"0.0"}},{"$nulls":8},{"$f":"SUM(((S999*3)+V999+Y999)/5)","v":{"v":0,"d":"0.0"}}]
[]
[{"$f":"T(A997)","v":"Widespread Power Outage"},{"$nulls":3},"Threat",null,"Criticality",null,null,"Vulnerability",{"$nulls":8},"Consequence",{"$nulls":8},{"$f":"SUM(((((J1007+S1007)/2)*G1007)*E1007))","v":0}]
[{"$nulls":9},"Exposure",null,null,"Protective Measures",null,null,"Robustness/Resilience",null,null,"Human",null,null,"Economic",null,null,"Psychological"]
[{"$f":"T(A884)","v":"Consist - Type 1"},null,{"$f":"T(C884)","v":"HR"},{"$f":"SUM(D884)","v":5},{"v":1,"d":"1.0"},null,{"$f":"SUM(G884)","v":{"v":0,"d":"0.0"}},null,null,{"v":0,"d":"0.0"},null,null,{"v":0,"d":"0.0"},null,null,{"v":0,"d":"0.0"},null,null,{"v":0,"d":"0.0"},null,null,{"v":0,"d":"0.0"},null,null,{"v":0,"d":"0.0"}]
[{"$f":"T(A885)","v":""}]
[{"$nulls":4},{"$f":"SUM(E1005)","v":{"v":1,"d":"1.0"}},null,{"$f":"SUM(G1005)","v":{"v":0,"d":"0.0"}},null,null,{"$f":"SUM((J1005+M1005+P1005)/3)","v":{"v":0,"d":"0.0"}},{"$nulls":8},{"$f":"SUM(((S1005*3)+V1005+Y1005)/5)","v":{"v":0,"d":"0.0"}}]
[]
[{"$f":"T(A1003)","v":"Widespread Power Outage"},{"$nulls":3},"Threat",null,"Criticality",null,null,"Vulnerability",{"$nulls":8},"Consequence",{"$nulls":8},{"$f":"SUM(((((J1013+S1013)/2)*G1013)*E1013))","v":0}]
[{"$nulls":9},"Exposure",null,null,"Protective Measures",null,null,"Robustness/Resilience",null,null,"Human",null,null,"Economic",null,null,"Psychological"]
[{"$f":"T(A890)","v":"Consist - Type 2"},null,{"$f":"T(C890)","v":"HR"},{"$f":"SUM(D890)","v":6},{"v":1,"d":"1.0"},null,{"$f":"SUM(G890)","v":{"v":0,"d":"0.0"}},null,null,{"v":0,"d":"0.0"},null,null,{"v":0,"d":"0.0"},null,null,{"v":0,"d":"0.0"},null,null,{"v":0,"d":"0.0"},null,null,{"v":0,"d":"0.0"},null,null,{"v":0,"d":"0.0"}]
[{"$f":"T(A891)","v":""}]
[{"$nulls":4},{"$f":"SUM(E1011)","v":{"v":1,"d":"1.0"}},null,{"$f":"SUM(G1011)","v":{"v":0,"d":"0.0"}},null,null,{"$f":"SUM((J1011+M1011+P1011)/3)","v":{"v":0,"d":"0.0"}},{"$nulls":8},{"$f":"SUM(((S1011*3)+V1011+Y1011)/5)","v":{"v":0,"d":"0.0"}}]
[]
[{"$f":"T(A1009)","v":"Widespread Power Outage"},{"$nulls":3},"Threat",null,"Criticality",null,null,"Vulnerability",{"$nulls":8},"Consequence",{"$nulls":8},{"$f":"SUM(((((J1019+S1019)/2)*G1019)*E1019))","v":0}]
[{"$nulls":9},"Exposure",null,null,"Protective Measures",null,null,"Robustness/Resilience",null,null,"Human",null,null,"Economic",null,null,"Psychological"]
[{"$f":"T(A896)","v":"Primary Control Center"},null,{"$f":"T(C896)","v":"HR"},{"$f":"SUM(D896)","v":7},{"v":1,"d":"1.0"},null,{"$f":"SUM(G896)","v":{"v":0,"d":"0.0"}},null,null,{"v":0,"d":"0.0"},null,null,{"v":0,"d":"0.0"},null,null,{"v":0,"d":"0.0"},null,null,{"v":0,"d":"0.0"},null,null,{"v":0,"d":"0.0"},null,null,{"v":0,"d":"0.0"}]
[{"$f":"T(A897)","v":""}]
[{"$nulls":4},{"$f":"SUM(E1017)","v":{"v":1,"d":"1.0"}},null,{"$f":"SUM(G1017)","v":{"v":0,"d":"0.0"}},null,null,{"$f":"SUM((J1017+M1017+P1017)/3)","v":{"v":0,"d":"0.0"}},{"$nulls":8},{"$f":"SUM(((S1017*3)+V1017+Y1017)/5)","v":{"v":0,"d":"0.0"}}]
[]
[{"$f":"T(A1015)","v":"Widespread Power Outage"},{"$nulls":3},"Threat",null,"Criticality",null,null,"Vulnerability",{"$nulls":8},"Consequence",{"$nulls":8},{"$f":"SUM(((((J1025+S1025)/2)*G1025)*E1025))","v":0}]
[{"$nulls":9},"Exposure",null,null,"Protective Measures",null,null,"Robustness/Resilience",null,null,"Human",null,null,"Economic",null,null,"Psychological"]
[{"$f":"T(A902)","v":"Cyber Systems"},null,{"$f":"T(C902)","v":"HR"},{"$f":"SUM(D902)","v":8},{"v":1,"d":"1.0"},null,{"$f":"SUM(G902)","v":{"v":0,"d":"0.0"}},null,null,{"v":0,"d":"0.0"},null,null,{"v":0,"d":"0.0"},null,null,{"v":0,"d":"0.0"},null,null,{"v":0,"d":"0.0"},null,null,{"v":0,"d":"0.0"},null,null,{"v":0,"d":"0.0"}]
[{"$f":"T(A903)","v":""}]
[{"$nulls":4},{"$f":"SUM(E1023)","v":{"v":1,"d":"1.0"}},null,{"$f":"SUM(G1023)","v":{"v":0,"d":"0.0"}},null,null,{"$f":"SUM((J1023+M1023+P1023)/3)","v":{"v":0,"d":"0.0"}},{"$nulls":8},{"$f":"SUM(((S1023*3)+V1023+Y1023)/5)","v":{"v":0,"d":"0.0"}}]
[]
[{"$f":"T(A1015)","v":"Widespread Power Outage"},{"$nulls":3},"Threat",null,"Criticality",null,null,"Vulnerability",{"$nulls":8},"Consequence",{"$nulls":8},{"$f":"SUM(((((J1031+S1031)/2)*G1031)*E1031))","v":0}]
[{"$nulls":9},"Exposure",null,null,"Protective Measures",null,null,"Robustness/Resilience",null,null,"Human",null,null,"Economic",null,null,"Psychological"]
[{"$f":"T(A908)","v":"Right of Way (ROW)"},null,{"$f":"T(C908)","v":"HR"},{"$f":"SUM(D908)","v":9},{"v":1,"d":"1.0"},null,{"$f":"SUM(G908)","v":{"v":0,"d":"0.0"}},null,null,{"v":0,"d":"0.0"},null,null,{"v":0,"d":"0.0"},null,null,{"v":0,"d":"0.0"},null,null,{"v":0,"d":"0.0"},null,null,{"v":0,"d":"0.0"},null,null,{"v":0,"d":"0.0"}]
[{"$f":"T(A909)","v":""}]
[{"$nulls":4},{"$f":"SUM(E1029)","v":{"v":1,"d":"1.0"}},null,{"$f":"SUM(G1029)","v":{"v":0,"d":"0.0"}},null,null,{"$f":"SUM((J1029+M1029+P1029)/3)","v":{"v":0,"d":"0.0"}},{"$nulls":8},{"$f":"SUM(((S1029*3)+V1029+Y1029)/5)","v":{"v":0,"d":"0.0"}}]
[]
[{"$f":"T(A1015)","v":"Widespread Power Outage"},{"$nulls":3},"Threat",null,"Criticality",null,null,"Vulnerability",{"$nulls":8},"Consequence",{"$nulls":8},{"$f":"SUM(((((J1037+S1037)/2)*G1037)*E1037))","v":0}]
[{"$nulls":9},"Exposure",null,null,"Protective Measures",null,null,"Robustness/Resilience",null,null,"Human",null,null,"Economic",null,null,"Psychological"]
[{"$f":"T(A914)","v":"Signals & PTC"},null,{"$f":"T(C914)","v":"HR"},{"$f":"SUM(D914)","v":10},{"v":1,"d":"1.0"},null,{"$f":"SUM(G914)","v":{"v":0,"d":"0.0"}},null,null,{"v":0,"d":"0.0"},null,null,{"v":0,"d":"0.0"},null,null,{"v":0,"d":"0.0"},null,null,{"v":0,"d":"0.0"},null,null,{"v":0,"d":"0.0"},null,null,{"v":0,"d":"0.0"}]
[{"$f":"T(A915)","v":""}]
[{"$nulls":4},{"$f":"SUM(E1035)","v":{"v":1,"d":"1.0"}},null,{"$f":"SUM(G1035)","v":{"v":0,"d":"0.0"}},null,null,{"$f":"SUM((J1035+M1035+P1035)/3)","v":{"v":0,"d":"0.0"}},{"$nulls":8},{"$f":"SUM(((S1035*3)+V1035+Y1035)/5)","v":{"v":0,"d":"0.0"}}]
[]
[{"$f":"T(A1033)","v":"Widespread Power Outage"},{"$nulls":3},"Threat",null,"Criticality",null,null,"Vulnerability",{"$nulls":8},"Consequence",{"$nulls":8},{"$f":"SUM(((((J1043+S1043)/2)*G1043)*E1043))","v":0}]
[{"$nulls":9},"Exposure",null,null,"Protective Measures",null,null,"Robustness/Resilience",null,null,"Human",null,null,"Economic",null,null,"Psychological"]
[{"$f":"T(A920)","v":"Switches "},null,{"$f":"T(C920)","v":"HR"},{"$f":"SUM(D920)","v":11},{"v":1,"d":"1.0"},null,{"$f":"SUM(G920)","v":{"v":0,"d":"0.0"}},null,null,{"v":0,"d":"0.0"},null,null,{"v":0,"d":"0.0"},null,null,{"v":0,"d":"0.0"},null,null,{"v":0,"d":"0.0"},null,null,{"v":0,"d":"0.0"},null,null,{"v":0,"d":"0.0"}]
[{"$f":"T(A921)","v":""}]
[{"$nulls":4},{"$f":"SUM(E1041)","v":{"v":1,"d":"1.0"}},null,{"$f":"SUM(G1041)","v":{"v":0,"d":"0.0"}},null,null,{"$f":"SUM((J1041+M1041+P1041)/3)","v":{"v":0,"d":"0.0"}},{"$nulls":8},{"$f":"SUM(((S1041*3)+V1041+Y1041)/5)","v":{"v":0,"d":"0.0"}}]
[]
[{"$f":"T(A1039)","v":"Widespread Power Outage"},{"$nulls":3},"Threat",null,"Criticality",null,null,"Vulnerability",{"$nulls":8},"Consequence",{"$nulls":8},{"$f":"SUM(((((J1049+S1049)/2)*G1049)*E1049))","v":0}]
[{"$nulls":9},"Exposure",null,null,"Protective Measures",null,null,"Robustness/Resilience",null,null,"Human",null,null,"Economic",null,null,"Psychological"]
[{"$f":"T(A926)","v":"Bridges"},null,{"$f":"T(C926)","v":"HR"},{"$f":"SUM(D926)","v":12},{"v":1,"d":"1.0"},null,{"$f":"SUM(G926)","v":{"v":0,"d":"0.0"}},null,null,{"v":0,"d":"0.0"},null,null,{"v":0,"d":"0.0"},null,null,{"v":0,"d":"0.0"},null,null,{"v":0,"d":"0.0"},null,null,{"v":0,"d":"0.0"},null,null,{"v":0,"d":"0.0"}]
[{"$f":"T(A927)","v":""}]
[{"$nulls":4},{"$f":"SUM(E1047)","v":{"v":1,"d":"1.0"}},null,{"$f":"SUM(G1047)","v":{"v":0,"d":"0.0"}},null,null,{"$f":"SUM((J1047+M1047+P1047)/3)","v":{"v":0,"d":"0.0"}},{"$nulls":8},{"$f":"SUM(((S1047*3)+V1047+Y1047)/5)","v":{"v":0,"d":"0.0"}}]
[]
[{"$f":"T(A1045)","v":"Widespread Power Outage"},{"$nulls":3},"Threat",null,"Criticality",null,null,"Vulnerability",{"$nulls":8},"Consequence",{"$nulls":8},{"$f":"SUM(((((J1055+S1055)/2)*G1055)*E1055))","v":0}]
[{"$nulls":9},"Exposure",null,null,"Protective Measures",null,null,"Robustness/Resilience",null,null,"Human",null,null,"Economic",null,null,"Psychological"]
[{"$f":"T(A932)","v":"Elevated Track"},null,{"$f":"T(C932)","v":"HR"},{"$f":"SUM(D932)","v":13},{"v":1,"d":"1.0"},null,{"$f":"SUM(G932)","v":{"v":0,"d":"0.0"}},null,null,{"v":0,"d":"0.0"},null,null,{"v":0,"d":"0.0"},null,null,{"v":0,"d":"0.0"},null,null,{"v":0,"d":"0.0"},null,null,{"v":0,"d":"0.0"},null,null,{"v":0,"d":"0.0"}]
[{"$f":"T(A933)","v":""}]
[{"$nulls":4},{"$f":"SUM(E1053)","v":{"v":1,"d":"1.0"}},null,{"$f":"SUM(G1053)","v":{"v":0,"d":"0.0"}},null,null,{"$f":"SUM((J1053+M1053+P1053)/3)","v":{"v":0,"d":"0.0"}},{"$nulls":8},{"$f":"SUM(((S1053*3)+V1053+Y1053)/5)","v":{"v":0,"d":"0.0"}}]
[]
[{"$f":"T(A1051)","v":"Widespread Power Outage"},{"$nulls":3},"Threat",null,"Criticality",null,null,"Vulnerability",{"$nulls":8},"Consequence",{"$nulls":8},{"$f":"SUM(((((J1061+S1061)/2)*G1061)*E1061))","v":0}]
[{"$nulls":9},"Exposure",null,null,"Protective Measures",null,null,"Robustness/Resilience",null,null,"Human",null,null,"Economic",null,null,"Psychological"]
[{"$f":"T(A938)","v":"Tunnels "},null,{"$f":"T(C938)","v":"HR"},{"$f":"SUM(D938)","v":14},{"v":1,"d":"1.0"},null,{"$f":"SUM(G938)","v":{"v":0,"d":"0.0"}},null,null,{"v":0,"d":"0.0"},null,null,{"v":0,"d":"0.0"},null,null,{"v":0,"d":"0.0"},null,null,{"v":0,"d":"0.0"},null,null,{"v":0,"d":"0.0"},null,null,{"v":0,"d":"0.0"}]
[{"$f":"T(A939)","v":""}]
[{"$nulls":4},{"$f":"SUM(E1059)","v":{"v":1,"d":"1.0"}},null,{"$f":"SUM(G1059)","v":{"v":0,"d":"0.0"}},null,null,{"$f":"SUM((J1059+M1059+P1059)/3)","v":{"v":0,"d":"0.0"}},{"$nulls":8},{"$f":"SUM(((S1059*3)+V1059+Y1059)/5)","v":{"v":0,"d":"0.0"}}]
[]
[{"$f":"T(A1057)","v":"Widespread Power Outage"},{"$nulls":3},"Threat",null,"Criticality",null,null,"Vulnerability",{"$nulls":8},"Consequence",{"$nulls":8},{"$f":"SUM(((((J1067+S1067)/2)*G1067)*E1067))","v":0}]
[{"$nulls":9},"Exposure",null,null,"Protective Measures",null,null,"Robustness/Resilience",null,null,"Human",null,null,"Economic",null,null,"Psychological"]
[{"$f":"T(A944)","v":"Choke Points on ROW"},null,{"$f":"T(C944)","v":"HR"},{"$f":"SUM(D944)","v":15},{"v":1,"d":"1.0"},null,{"$f":"SUM(G944)","v":{"v":0,"d":"0.0"}},null,null,{"v":0,"d":"0.0"},null,null,{"v":0,"d":"0.0"},null,null,{"v":0,"d":"0.0"},null,null,{"v":0,"d":"0.0"},null,null,{"v":0,"d":"0.0"},null,null,{"v":0,"d":"0.0"}]
[{"$f":"T(A945)","v":""}]
[{"$nulls":4},{"$f":"SUM(E1065)","v":{"v":1,"d":"1.0"}},null,{"$f":"SUM(G1065)","v":{"v":0,"d":"0.0"}},null,null,{"$f":"SUM((J1065+M1065+P1065)/3)","v":{"v":0,"d":"0.0"}},{"$nulls":8},{"$f":"SUM(((S1065*3)+V1065+Y1065)/5)","v":{"v":0,"d":"0.0"}}]
[]
[{"$f":"T(A1063)","v":"Widespread Power Outage"},{"$nulls":3},"Threat",null,"Criticality",null,null,"Vulnerability",{"$nulls":8},"Consequence",{"$nulls":8},{"$f":"SUM(((((J1073+S1073)/2)*G1073)*E1073))","v":0}]
[{"$nulls":9},"Exposure",null,null,"Protective Measures",null,null,"Robustness/Resilience",null,null,"Human",null,null,"Economic",null,null,"Psychological"]
[{"$f":"T(A950)","v":"Fire Suppression"},null,{"$f":"T(C950)","v":"HR"},{"$f":"SUM(D950)","v":16},{"v":1,"d":"1.0"},null,{"$f":"SUM(G950)","v":{"v":0,"d":"0.0"}},null,null,{"v":0,"d":"0.0"},null,null,{"v":0,"d":"0.0"},null,null,{"v":0,"d":"0.0"},null,null,{"v":0,"d":"0.0"},null,null,{"v":0,"d":"0.0"},null,null,{"v":0,"d":"0.0"}]
[{"$f":"T(A951)","v":""}]
[{"$nulls":4},{"$f":"SUM(E1071)","v":{"v":1,"d":"1.0"}},null,{"$f":"SUM(G1071)","v":{"v":0,"d":"0.0"}},null,null,{"$f":"SUM((J1071+M1071+P1071)/3)","v":{"v":0,"d":"0.0"}},{"$nulls":8},{"$f":"SUM(((S1071*3)+V1071+Y1071)/5)","v":{"v":0,"d":"0.0"}}]
[]
[{"$f":"T(A1069)","v":"Widespread Power Outage"},{"$nulls":3},"Threat",null,"Criticality",null,null,"Vulnerability",{"$nulls":8},"Consequence",{"$nulls":8},{"$f":"SUM(((((J1079+S1079)/2)*G1079)*E1079))","v":0}]
[{"$nulls":9},"Exposure",null,null,"Protective Measures",null,null,"Robustness/Resilience",null,null,"Human",null,null,"Economic",null,null,"Psychological"]
[{"$f":"T(A956)","v":"Air Handling"},null,{"$f":"T(C956)","v":"HR"},{"$f":"SUM(D956)","v":17},{"v":1,"d":"1.0"},null,{"$f":"SUM(G956)","v":{"v":0,"d":"0.0"}},null,null,{"v":0,"d":"0.0"},null,null,{"v":0,"d":"0.0"},null,null,{"v":0,"d":"0.0"},null,null,{"v":0,"d":"0.0"},null,null,{"v":0,"d":"0.0"},null,null,{"v":0,"d":"0.0"}]
[{"$f":"T(A957)","v":""}]
[{"$nulls":4},{"$f":"SUM(E1077)","v":{"v":1,"d":"1.0"}},null,{"$f":"SUM(G1077)","v":{"v":0,"d":"0.0"}},null,null,{"$f":"SUM((J1077+M1077+P1077)/3)","v":{"v":0,"d":"0.0"}},{"$nulls":8},{"$f":"SUM(((S1077*3)+V1077+Y1077)/5)","v":{"v":0,"d":"0.0"}}]
[]
[{"$f":"T(A1075)","v":"Widespread Power Outage"},{"$nulls":3},"Threat",null,"Criticality",null,null,"Vulnerability",{"$nulls":8},"Consequence",{"$nulls":8},{"$f":"SUM(((((J1085+S1085)/2)*G1085)*E1085))","v":0}]
[{"$nulls":9},"Exposure",null,null,"Protective Measures",null,null,"Robustness/Resilience",null,null,"Human",null,null,"Economic",null,null,"Psychological"]
[{"$f":"T(A962)","v":"Power Generation/Distribution"},null,{"$f":"T(C962)","v":"HR"},{"$f":"SUM(D962)","v":18},{"v":1,"d":"1.0"},null,{"$f":"SUM(G962)","v":{"v":0,"d":"0.0"}},null,null,{"v":0,"d":"0.0"},null,null,{"v":0,"d":"0.0"},null,null,{"v":0,"d":"0.0"},null,null,{"v":0,"d":"0.0"},null,null,{"v":0,"d":"0.0"},null,null,{"v":0,"d":"0.0"}]
[{"$f":"T(A963)","v":""}]
[{"$nulls":4},{"$f":"SUM(E1083)","v":{"v":1,"d":"1.0"}},null,{"$f":"SUM(G1083)","v":{"v":0,"d":"0.0"}},null,null,{"$f":"SUM((J1083+M1083+P1083)/3)","v":{"v":0,"d":"0.0"}},{"$nulls":8},{"$f":"SUM(((S1083*3)+V1083+Y1083)/5)","v":{"v":0,"d":"0.0"}}]
[]
[{"$f":"T(A1081)","v":"Widespread Power Outage"},{"$nulls":3},"Threat",null,"Criticality",null,null,"Vulnerability",{"$nulls":8},"Consequence",{"$nulls":8},{"$f":"SUM(((((J1091+S1091)/2)*G1091)*E1091))","v":0}]
[{"$nulls":9},"Exposure",null,null,"Protective Measures",null,null,"Robustness/Resilience",null,null,"Human",null,null,"Economic",null,null,"Psychological"]
[{"$f":"T(A968)","v":"Yards"},null,{"$f":"T(C968)","v":"HR"},{"$f":"SUM(D968)","v":19},{"v":1,"d":"1.0"},null,{"$f":"SUM(G968)","v":{"v":0,"d":"0.0"}},null,null,{"v":0,"d":"0.0"},null,null,{"v":0,"d":"0.0"},null,null,{"v":0,"d":"0.0"},null,null,{"v":0,"d":"0.0"},null,null,{"v":0,"d":"0.0"},null,null,{"v":0,"d":"0.0"}]
[{"$f":"T(A969)","v":""}]
[{"$nulls":4},{"$f":"SUM(E1089)","v":{"v":1,"d":"1.0"}},null,{"$f":"SUM(G1089)","v":{"v":0,"d":"0.0"}},null,null,{"$f":"SUM((J1089+M1089+P1089)/3)","v":{"v":0,"d":"0.0"}},{"$nulls":8},{"$f":"SUM(((S1089*3)+V1089+Y1089)/5)","v":{"v":0,"d":"0.0"}}]
[]
[{"$f":"T(A1087)","v":"Widespread Power Outage"},{"$nulls":3},"Threat",null,"Criticality",null,null,"Vulnerability",{"$nulls":8},"Consequence",{"$nulls":8},{"$f":"SUM(((((J1097+S1097)/2)*G1097)*E1097))","v":0}]
[{"$nulls":9},"Exposure",null,null,"Protective Measures",null,null,"Robustness/Resilience",null,null,"Human",null,null,"Economic",null,null,"Psychological"]
[{"$f":"T(A974)","v":"Maintenance Barns/Facilities"},null,{"$f":"T(C974)","v":"HR"},{"$f":"SUM(D974)","v":20},{"v":1,"d":"1.0"},null,{"$f":"SUM(G974)","v":{"v":0,"d":"0.0"}},null,null,{"v":0,"d":"0.0"},null,null,{"v":0,"d":"0.0"},null,null,{"v":0,"d":"0.0"},null,null,{"v":0,"d":"0.0"},null,null,{"v":0,"d":"0.0"},null,null,{"v":0,"d":"0.0"}]
[{"$f":"T(A975)","v":""}]
[{"$nulls":4},{"$f":"SUM(E1095)","v":{"v":1,"d":"1.0"}},null,{"$f":"SUM(G1095)","v":{"v":0,"d":"0.0"}},null,null,{"$f":"SUM((J1095+M1095+P1095)/3)","v":{"v":0,"d":"0.0"}},{"$nulls":8},{"$f":"SUM(((S1095*3)+V1095+Y1095)/5)","v":{"v":0,"d":"0.0"}}]
[]
[{"$f":"T(Definitions!D28)","v":"Weapon of Mass Destruction "}]
[{"$f":"T(A1099)","v":"Weapon of Mass Destruction "},{"$nulls":3},"Threat",null,"Criticality",null,null,"Vulnerability",{"$nulls":8},"Consequence",{"$nulls":8},{"$f":"SUM(((((J1104+S1104)/2)*G1104)*E1104))","v":0}]
[{"$nulls":9},"Exposure",null,null,"Protective Measures",null,null,"Robustness/Resilience",null,null,"Human",null,null,"Economic",null,null,"Psychological"]
[{"$f":"T(A981)","v":"Headquarters Building"},null,{"$f":"T(C981)","v":"HR"},{"$f":"SUM(D981)","v":1},{"v":1,"d":"1.0"},null,{"$f":"SUM(G981)","v":{"v":0,"d":"0.0"}},null,null,{"v":0,"d":"0.0"},null,null,{"v":0,"d":"0.0"},null,null,{"v":0,"d":"0.0"},null,null,{"v":0,"d":"0.0"},null,null,{"v":0,"d":"0.0"},null,null,{"v":0,"d":"0.0"}]
[{"$f":"T(A982)","v":""}]
[{"$nulls":4},{"$f":"SUM(E1102)","v":{"v":1,"d":"1.0"}},null,{"$f":"SUM(G1102)","v":{"v":0,"d":"0.0"}},null,null,{"$f":"SUM((J1102+M1102+P1102)/3)","v":{"v":0,"d":"0.0"}},{"$nulls":8},{"$f":"SUM(((S1102*3)+V1102+Y1102)/5)","v":{"v":0,"d":"0.0"}}]
[]
[{"$f":"T(A1099)","v":"Weapon of Mass Destruction "},{"$nulls":3},"Threat",null,"Criticality",null,null,"Vulnerability",{"$nulls":8},"Consequence",{"$nulls":8},{"$f":"SUM(((((J1110+S1110)/2)*G1110)*E1110))","v":0}]
[{"$nulls":9},"Exposure",null,null,"Protective Measures",null,null,"Robustness/Resilience",null,null,"Human",null,null,"Economic",null,null,"Psychological"]
[{"$f":"T(A987)","v":"Major Passenger Terminals"},null,{"$f":"T(C987)","v":"HR"},{"$f":"SUM(D987)","v":2},{"v":1,"d":"1.0"},null,{"$f":"SUM(G987)","v":{"v":0,"d":"0.0"}},null,null,{"v":0,"d":"0.0"},null,null,{"v":0,"d":"0.0"},null,null,{"v":0,"d":"0.0"},null,null,{"v":0,"d":"0.0"},null,null,{"v":0,"d":"0.0"},null,null,{"v":0,"d":"0.0"}]
[{"$f":"T(A988)","v":""}]
[{"$nulls":4},{"$f":"SUM(E1108)","v":{"v":1,"d":"1.0"}},null,{"$f":"SUM(G1108)","v":{"v":0,"d":"0.0"}},null,null,{"$f":"SUM((J1108+M1108+P1108)/3)","v":{"v":0,"d":"0.0"}},{"$nulls":8},{"$f":"SUM(((S1108*3)+V1108+Y1108)/5)","v":{"v":0,"d":"0.0"}}]
[]
[{"$f":"T(A1106)","v":"Weapon of Mass Destruction "},{"$nulls":3},"Threat",null,"Criticality",null,null,"Vulnerability",{"$nulls":8},"Consequence",{"$nulls":8},{"$f":"SUM(((((J1116+S1116)/2)*G1116)*E1116))","v":0}]
[{"$nulls":9},"Exposure",null,null,"Protective Measures",null,null,"Robustness/Resilience",null,null,"Human",null,null,"Economic",null,null,"Psychological"]
[{"$f":"T(A993)","v":"Major Line Stations"},null,{"$f":"T(C993)","v":"HR"},{"$f":"SUM(D993)","v":3},{"v":1,"d":"1.0"},null,{"$f":"SUM(G993)","v":{"v":0,"d":"0.0"}},null,null,{"v":0,"d":"0.0"},null,null,{"v":0,"d":"0.0"},null,null,{"v":0,"d":"0.0"},null,null,{"v":0,"d":"0.0"},null,null,{"v":0,"d":"0.0"},null,null,{"v":0,"d":"0.0"}]
[{"$f":"T(A994)","v":""}]
[{"$nulls":4},{"$f":"SUM(E1114)","v":{"v":1,"d":"1.0"}},null,{"$f":"SUM(G1114)","v":{"v":0,"d":"0.0"}},null,null,{"$f":"SUM((J1114+M1114+P1114)/3)","v":{"v":0,"d":"0.0"}},{"$nulls":8},{"$f":"SUM(((S1114*3)+V1114+Y1114)/5)","v":{"v":0,"d":"0.0"}}]
[]
[{"$f":"T(A1112)","v":"Weapon of Mass Destruction "},{"$nulls":3},"Threat",null,"Criticality",null,null,"Vulnerability",{"$nulls":8},"Consequence",{"$nulls":8},{"$f":"SUM(((((J1122+S1122)/2)*G1122)*E1122))","v":0}]
[{"$nulls":9},"Exposure",null,null,"Protective Measures",null,null,"Robustness/Resilience",null,null,"Human",null,null,"Economic",null,null,"Psychological"]
[{"$f":"T(A999)","v":"Parking Structures"},null,{"$f":"T(C999)","v":"HR"},{"$f":"SUM(D999)","v":4},{"v":1,"d":"1.0"},null,{"$f":"SUM(G999)","v":{"v":0,"d":"0.0"}},null,null,{"v":0,"d":"0.0"},null,null,{"v":0,"d":"0.0"},null,null,{"v":0,"d":"0.0"},null,null,{"v":0,"d":"0.0"},null,null,{"v":0,"d":"0.0"},null,null,{"v":0,"d":"0.0"}]
[{"$f":"T(A1000)","v":""}]
[{"$nulls":4},{"$f":"SUM(E1120)","v":{"v":1,"d":"1.0"}},null,{"$f":"SUM(G1120)","v":{"v":0,"d":"0.0"}},null,null,{"$f":"SUM((J1120+M1120+P1120)/3)","v":{"v":0,"d":"0.0"}},{"$nulls":8},{"$f":"SUM(((S1120*3)+V1120+Y1120)/5)","v":{"v":0,"d":"0.0"}}]
[]
[{"$f":"T(A1118)","v":"Weapon of Mass Destruction "},{"$nulls":3},"Threat",null,"Criticality",null,null,"Vulnerability",{"$nulls":8},"Consequence",{"$nulls":8},{"$f":"SUM(((((J1128+S1128)/2)*G1128)*E1128))","v":0}]
[{"$nulls":9},"Exposure",null,null,"Protective Measures",null,null,"Robustness/Resilience",null,null,"Human",null,null,"Economic",null,null,"Psychological"]
[{"$f":"T(A1005)","v":"Consist - Type 1"},null,{"$f":"T(C1005)","v":"HR"},{"$f":"SUM(D1005)","v":5},{"v":1,"d":"1.0"},null,{"$f":"SUM(G1005)","v":{"v":0,"d":"0.0"}},null,null,{"v":0,"d":"0.0"},null,null,{"v":0,"d":"0.0"},null,null,{"v":0,"d":"0.0"},null,null,{"v":0,"d":"0.0"},null,null,{"v":0,"d":"0.0"},null,null,{"v":0,"d":"0.0"}]
[{"$f":"T(A1006)","v":""}]
[{"$nulls":4},{"$f":"SUM(E1126)","v":{"v":1,"d":"1.0"}},null,{"$f":"SUM(G1126)","v":{"v":0,"d":"0.0"}},null,null,{"$f":"SUM((J1126+M1126+P1126)/3)","v":{"v":0,"d":"0.0"}},{"$nulls":8},{"$f":"SUM(((S1126*3)+V1126+Y1126)/5)","v":{"v":0,"d":"0.0"}}]
[]
[{"$f":"T(A1124)","v":"Weapon of Mass Destruction "},{"$nulls":3},"Threat",null,"Criticality",null,null,"Vulnerability",{"$nulls":8},"Consequence",{"$nulls":8},{"$f":"SUM(((((J1134+S1134)/2)*G1134)*E1134))","v":0}]
[{"$nulls":9},"Exposure",null,null,"Protective Measures",null,null,"Robustness/Resilience",null,null,"Human",null,null,"Economic",null,null,"Psychological"]
[{"$f":"T(A1011)","v":"Consist - Type 2"},null,{"$f":"T(C1011)","v":"HR"},{"$f":"SUM(D1011)","v":6},{"v":1,"d":"1.0"},null,{"$f":"SUM(G1011)","v":{"v":0,"d":"0.0"}},null,null,{"v":0,"d":"0.0"},null,null,{"v":0,"d":"0.0"},null,null,{"v":0,"d":"0.0"},null,null,{"v":0,"d":"0.0"},null,null,{"v":0,"d":"0.0"},null,null,{"v":0,"d":"0.0"}]
[{"$f":"T(A1012)","v":""}]
[{"$nulls":4},{"$f":"SUM(E1132)","v":{"v":1,"d":"1.0"}},null,{"$f":"SUM(G1132)","v":{"v":0,"d":"0.0"}},null,null,{"$f":"SUM((J1132+M1132+P1132)/3)","v":{"v":0,"d":"0.0"}},{"$nulls":8},{"$f":"SUM(((S1132*3)+V1132+Y1132)/5)","v":{"v":0,"d":"0.0"}}]
[]
[{"$f":"T(A1130)","v":"Weapon of Mass Destruction "},{"$nulls":3},"Threat",null,"Criticality",null,null,"Vulnerability",{"$nulls":8},"Consequence",{"$nulls":8},{"$f":"SUM(((((J1140+S1140)/2)*G1140)*E1140))","v":0}]
[{"$nulls":9},"Exposure",null,null,"Protective Measures",null,null,"Robustness/Resilience",null,null,"Human",null,null,"Economic",null,null,"Psychological"]
[{"$f":"T(A1017)","v":"Primary Control Center"},null,{"$f":"T(C1017)","v":"HR"},{"$f":"SUM(D1017)","v":7},{"v":1,"d":"1.0"},null,{"$f":"SUM(G1017)","v":{"v":0,"d":"0.0"}},null,null,{"v":0,"d":"0.0"},null,null,{"v":0,"d":"0.0"},null,null,{"v":0,"d":"0.0"},null,null,{"v":0,"d":"0.0"},null,null,{"v":0,"d":"0.0"},null,null,{"v":0,"d":"0.0"}]
[{"$f":"T(A1018)","v":""}]
[{"$nulls":4},{"$f":"SUM(E1138)","v":{"v":1,"d":"1.0"}},null,{"$f":"SUM(G1138)","v":{"v":0,"d":"0.0"}},null,null,{"$f":"SUM((J1138+M1138+P1138)/3)","v":{"v":0,"d":"0.0"}},{"$nulls":8},{"$f":"SUM(((S1138*3)+V1138+Y1138)/5)","v":{"v":0,"d":"0.0"}}]
[]
[{"$f":"T(A1136)","v":"Weapon of Mass Destruction "},{"$nulls":3},"Threat",null,"Criticality",null,null,"Vulnerability",{"$nulls":8},"Consequence",{"$nulls":8},{"$f":"SUM(((((J1146+S1146)/2)*G1146)*E1146))","v":0}]
[{"$nulls":9},"Exposure",null,null,"Protective Measures",null,null,"Robustness/Resilience",null,null,"Human",null,null,"Economic",null,null,"Psychological"]
[{"$f":"T(A1023)","v":"Cyber Systems"},null,{"$f":"T(C1023)","v":"HR"},{"$f":"SUM(D1023)","v":8},{"v":1,"d":"1.0"},null,{"$f":"SUM(G1023)","v":{"v":0,"d":"0.0"}},null,null,{"v":0,"d":"0.0"},null,null,{"v":0,"d":"0.0"},null,null,{"v":0,"d":"0.0"},null,null,{"v":0,"d":"0.0"},null,null,{"v":0,"d":"0.0"},null,null,{"v":0,"d":"0.0"}]
[{"$f":"T(A1024)","v":""}]
[{"$nulls":4},{"$f":"SUM(E1144)","v":{"v":1,"d":"1.0"}},null,{"$f":"SUM(G1144)","v":{"v":0,"d":"0.0"}},null,null,{"$f":"SUM((J1144+M1144+P1144)/3)","v":{"v":0,"d":"0.0"}},{"$nulls":8},{"$f":"SUM(((S1144*3)+V1144+Y1144)/5)","v":{"v":0,"d":"0.0"}}]
[]
[{"$f":"T(A1136)","v":"Weapon of Mass Destruction "},{"$nulls":3},"Threat",null,"Criticality",null,null,"Vulnerability",{"$nulls":8},"Consequence",{"$nulls":8},{"$f":"SUM(((((J1152+S1152)/2)*G1152)*E1152))","v":0}]
[{"$nulls":9},"Exposure",null,null,"Protective Measures",null,null,"Robustness/Resilience",null,null,"Human",null,null,"Economic",null,null,"Psychological"]
[{"$f":"T(A1029)","v":"Right of Way (ROW)"},null,{"$f":"T(C1029)","v":"HR"},{"$f":"SUM(D1029)","v":9},{"v":1,"d":"1.0"},null,{"$f":"SUM(G1029)","v":{"v":0,"d":"0.0"}},null,null,{"v":0,"d":"0.0"},null,null,{"v":0,"d":"0.0"},null,null,{"v":0,"d":"0.0"},null,null,{"v":0,"d":"0.0"},null,null,{"v":0,"d":"0.0"},null,null,{"v":0,"d":"0.0"}]
[{"$f":"T(A1030)","v":""}]
[{"$nulls":4},{"$f":"SUM(E1150)","v":{"v":1,"d":"1.0"}},null,{"$f":"SUM(G1150)","v":{"v":0,"d":"0.0"}},null,null,{"$f":"SUM((J1150+M1150+P1150)/3)","v":{"v":0,"d":"0.0"}},{"$nulls":8},{"$f":"SUM(((S1150*3)+V1150+Y1150)/5)","v":{"v":0,"d":"0.0"}}]
[]
[{"$f":"T(A1136)","v":"Weapon of Mass Destruction "},{"$nulls":3},"Threat",null,"Criticality",null,null,"Vulnerability",{"$nulls":8},"Consequence",{"$nulls":8},{"$f":"SUM(((((J1158+S1158)/2)*G1158)*E1158))","v":0}]
[{"$nulls":9},"Exposure",null,null,"Protective Measures",null,null,"Robustness/Resilience",null,null,"Human",null,null,"Economic",null,null,"Psychological"]
[{"$f":"T(A1035)","v":"Signals & PTC"},null,{"$f":"T(C1035)","v":"HR"},{"$f":"SUM(D1035)","v":10},{"v":1,"d":"1.0"},null,{"$f":"SUM(G1035)","v":{"v":0,"d":"0.0"}},null,null,{"v":0,"d":"0.0"},null,null,{"v":0,"d":"0.0"},null,null,{"v":0,"d":"0.0"},null,null,{"v":0,"d":"0.0"},null,null,{"v":0,"d":"0.0"},null,null,{"v":0,"d":"0.0"}]
[{"$f":"T(A1036)","v":""}]
[{"$nulls":4},{"$f":"SUM(E1156)","v":{"v":1,"d":"1.0"}},null,{"$f":"SUM(G1156)","v":{"v":0,"d":"0.0"}},null,null,{"$f":"SUM((J1156+M1156+P1156)/3)","v":{"v":0,"d":"0.0"}},{"$nulls":8},{"$f":"SUM(((S1156*3)+V1156+Y1156)/5)","v":{"v":0,"d":"0.0"}}]
[]
[{"$f":"T(A1154)","v":"Weapon of Mass Destruction "},{"$nulls":3},"Threat",null,"Criticality",null,null,"Vulnerability",{"$nulls":8},"Consequence",{"$nulls":8},{"$f":"SUM(((((J1164+S1164)/2)*G1164)*E1164))","v":0}]
[{"$nulls":9},"Exposure",null,null,"Protective Measures",null,null,"Robustness/Resilience",null,null,"Human",null,null,"Economic",null,null,"Psychological"]
[{"$f":"T(A1041)","v":"Switches "},null,{"$f":"T(C1041)","v":"HR"},{"$f":"SUM(D1041)","v":11},{"v":1,"d":"1.0"},null,{"$f":"SUM(G1041)","v":{"v":0,"d":"0.0"}},null,null,{"v":0,"d":"0.0"},null,null,{"v":0,"d":"0.0"},null,null,{"v":0,"d":"0.0"},null,null,{"v":0,"d":"0.0"},null,null,{"v":0,"d":"0.0"},null,null,{"v":0,"d":"0.0"}]
[{"$f":"T(A1042)","v":""}]
[{"$nulls":4},{"$f":"SUM(E1162)","v":{"v":1,"d":"1.0"}},null,{"$f":"SUM(G1162)","v":{"v":0,"d":"0.0"}},null,null,{"$f":"SUM((J1162+M1162+P1162)/3)","v":{"v":0,"d":"0.0"}},{"$nulls":8},{"$f":"SUM(((S1162*3)+V1162+Y1162)/5)","v":{"v":0,"d":"0.0"}}]
[]
[{"$f":"T(A1160)","v":"Weapon of Mass Destruction "},{"$nulls":3},"Threat",null,"Criticality",null,null,"Vulnerability",{"$nulls":8},"Consequence",{"$nulls":8},{"$f":"SUM(((((J1170+S1170)/2)*G1170)*E1170))","v":0}]
[{"$nulls":9},"Exposure",null,null,"Protective Measures",null,null,"Robustness/Resilience",null,null,"Human",null,null,"Economic",null,null,"Psychological"]
[{"$f":"T(A1047)","v":"Bridges"},null,{"$f":"T(C1047)","v":"HR"},{"$f":"SUM(D1047)","v":12},{"v":1,"d":"1.0"},null,{"$f":"SUM(G1047)","v":{"v":0,"d":"0.0"}},null,null,{"v":0,"d":"0.0"},null,null,{"v":0,"d":"0.0"},null,null,{"v":0,"d":"0.0"},null,null,{"v":0,"d":"0.0"},null,null,{"v":0,"d":"0.0"},null,null,{"v":0,"d":"0.0"}]
[{"$f":"T(A1048)","v":""}]
[{"$nulls":4},{"$f":"SUM(E1168)","v":{"v":1,"d":"1.0"}},null,{"$f":"SUM(G1168)","v":{"v":0,"d":"0.0"}},null,null,{"$f":"SUM((J1168+M1168+P1168)/3)","v":{"v":0,"d":"0.0"}},{"$nulls":8},{"$f":"SUM(((S1168*3)+V1168+Y1168)/5)","v":{"v":0,"d":"0.0"}}]
[]
[{"$f":"T(A1166)","v":"Weapon of Mass Destruction "},{"$nulls":3},"Threat",null,"Criticality",null,null,"Vulnerability",{"$nulls":8},"Consequence",{"$nulls":8},{"$f":"SUM(((((J1176+S1176)/2)*G1176)*E1176))","v":0}]
[{"$nulls":9},"Exposure",null,null,"Protective Measures",null,null,"Robustness/Resilience",null,null,"Human",null,null,"Economic",null,null,"Psychological"]
[{"$f":"T(A1053)","v":"Elevated Track"},null,{"$f":"T(C1053)","v":"HR"},{"$f":"SUM(D1053)","v":13},{"v":1,"d":"1.0"},null,{"$f":"SUM(G1053)","v":{"v":0,"d":"0.0"}},null,null,{"v":0,"d":"0.0"},null,null,{"v":0,"d":"0.0"},null,null,{"v":0,"d":"0.0"},null,null,{"v":0,"d":"0.0"},null,null,{"v":0,"d":"0.0"},null,null,{"v":0,"d":"0.0"}]
[{"$f":"T(A1054)","v":""}]
[{"$nulls":4},{"$f":"SUM(E1174)","v":{"v":1,"d":"1.0"}},null,{"$f":"SUM(G1174)","v":{"v":0,"d":"0.0"}},null,null,{"$f":"SUM((J1174+M1174+P1174)/3)","v":{"v":0,"d":"0.0"}},{"$nulls":8},{"$f":"SUM(((S1174*3)+V1174+Y1174)/5)","v":{"v":0,"d":"0.0"}}]
[]
[{"$f":"T(A1172)","v":"Weapon of Mass Destruction "},{"$nulls":3},"Threat",null,"Criticality",null,null,"Vulnerability",{"$nulls":8},"Consequence",{"$nulls":8},{"$f":"SUM(((((J1182+S1182)/2)*G1182)*E1182))","v":0}]
[{"$nulls":9},"Exposure",null,null,"Protective Measures",null,null,"Robustness/Resilience",null,null,"Human",null,null,"Economic",null,null,"Psychological"]
[{"$f":"T(A1059)","v":"Tunnels "},null,{"$f":"T(C1059)","v":"HR"},{"$f":"SUM(D1059)","v":14},{"v":1,"d":"1.0"},null,{"$f":"SUM(G1059)","v":{"v":0,"d":"0.0"}},null,null,{"v":0,"d":"0.0"},null,null,{"v":0,"d":"0.0"},null,null,{"v":0,"d":"0.0"},null,null,{"v":0,"d":"0.0"},null,null,{"v":0,"d":"0.0"},null,null,{"v":0,"d":"0.0"}]
[{"$f":"T(A1060)","v":""}]
[{"$nulls":4},{"$f":"SUM(E1180)","v":{"v":1,"d":"1.0"}},null,{"$f":"SUM(G1180)","v":{"v":0,"d":"0.0"}},null,null,{"$f":"SUM((J1180+M1180+P1180)/3)","v":{"v":0,"d":"0.0"}},{"$nulls":8},{"$f":"SUM(((S1180*3)+V1180+Y1180)/5)","v":{"v":0,"d":"0.0"}}]
[]
[{"$f":"T(A1178)","v":"Weapon of Mass Destruction "},{"$nulls":3},"Threat",null,"Criticality",null,null,"Vulnerability",{"$nulls":8},"Consequence",{"$nulls":8},{"$f":"SUM(((((J1188+S1188)/2)*G1188)*E1188))","v":0}]
[{"$nulls":9},"Exposure",null,null,"Protective Measures",null,null,"Robustness/Resilience",null,null,"Human",null,null,"Economic",null,null,"Psychological"]
[{"$f":"T(A1065)","v":"Choke Points on ROW"},null,{"$f":"T(C1065)","v":"HR"},{"$f":"SUM(D1065)","v":15},{"v":1,"d":"1.0"},null,{"$f":"SUM(G1065)","v":{"v":0,"d":"0.0"}},null,null,{"v":0,"d":"0.0"},null,null,{"v":0,"d":"0.0"},null,null,{"v":0,"d":"0.0"},null,null,{"v":0,"d":"0.0"},null,null,{"v":0,"d":"0.0"},null,null,{"v":0,"d":"0.0"}]
[{"$f":"T(A1066)","v":""}]
[{"$nulls":4},{"$f":"SUM(E1186)","v":{"v":1,"d":"1.0"}},null,{"$f":"SUM(G1186)","v":{"v":0,"d":"0.0"}},null,null,{"$f":"SUM((J1186+M1186+P1186)/3)","v":{"v":0,"d":"0.0"}},{"$nulls":8},{"$f":"SUM(((S1186*3)+V1186+Y1186)/5)","v":{"v":0,"d":"0.0"}}]
[]
[{"$f":"T(A1184)","v":"Weapon of Mass Destruction "},{"$nulls":3},"Threat",null,"Criticality",null,null,"Vulnerability",{"$nulls":8},"Consequence",{"$nulls":8},{"$f":"SUM(((((J1194+S1194)/2)*G1194)*E1194))","v":0}]
[{"$nulls":9},"Exposure",null,null,"Protective Measures",null,null,"Robustness/Resilience",null,null,"Human",null,null,"Economic",null,null,"Psychological"]
[{"$f":"T(A1071)","v":"Fire Suppression"},null,{"$f":"T(C1071)","v":"HR"},{"$f":"SUM(D1071)","v":16},{"v":1,"d":"1.0"},null,{"$f":"SUM(G1071)","v":{"v":0,"d":"0.0"}},null,null,{"v":0,"d":"0.0"},null,null,{"v":0,"d":"0.0"},null,null,{"v":0,"d":"0.0"},null,null,{"v":0,"d":"0.0"},null,null,{"v":0,"d":"0.0"},null,null,{"v":0,"d":"0.0"}]
[{"$f":"T(A1072)","v":""}]
[{"$nulls":4},{"$f":"SUM(E1192)","v":{"v":1,"d":"1.0"}},null,{"$f":"SUM(G1192)","v":{"v":0,"d":"0.0"}},null,null,{"$f":"SUM((J1192+M1192+P1192)/3)","v":{"v":0,"d":"0.0"}},{"$nulls":8},{"$f":"SUM(((S1192*3)+V1192+Y1192)/5)","v":{"v":0,"d":"0.0"}}]
[]
[{"$f":"T(A1190)","v":"Weapon of Mass Destruction "},{"$nulls":3},"Threat",null,"Criticality",null,null,"Vulnerability",{"$nulls":8},"Consequence",{"$nulls":8},{"$f":"SUM(((((J1200+S1200)/2)*G1200)*E1200))","v":0}]
[{"$nulls":9},"Exposure",null,null,"Protective Measures",null,null,"Robustness/Resilience",null,null,"Human",null,null,"Economic",null,null,"Psychological"]
[{"$f":"T(A1077)","v":"Air Handling"},null,{"$f":"T(C1077)","v":"HR"},{"$f":"SUM(D1077)","v":17},{"v":1,"d":"1.0"},null,{"$f":"SUM(G1077)","v":{"v":0,"d":"0.0"}},null,null,{"v":0,"d":"0.0"},null,null,{"v":0,"d":"0.0"},null,null,{"v":0,"d":"0.0"},null,null,{"v":0,"d":"0.0"},null,null,{"v":0,"d":"0.0"},null,null,{"v":0,"d":"0.0"}]
[{"$f":"T(A1078)","v":""}]
[{"$nulls":4},{"$f":"SUM(E1198)","v":{"v":1,"d":"1.0"}},null,{"$f":"SUM(G1198)","v":{"v":0,"d":"0.0"}},null,null,{"$f":"SUM((J1198+M1198+P1198)/3)","v":{"v":0,"d":"0.0"}},{"$nulls":8},{"$f":"SUM(((S1198*3)+V1198+Y1198)/5)","v":{"v":0,"d":"0.0"}}]
[]
[{"$f":"T(A1196)","v":"Weapon of Mass Destruction "},{"$nulls":3},"Threat",null,"Criticality",null,null,"Vulnerability",{"$nulls":8},"Consequence",{"$nulls":8},{"$f":"SUM(((((J1206+S1206)/2)*G1206)*E1206))","v":0}]
[{"$nulls":9},"Exposure",null,null,"Protective Measures",null,null,"Robustness/Resilience",null,null,"Human",null,null,"Economic",null,null,"Psychological"]
[{"$f":"T(A1083)","v":"Power Generation/Distribution"},null,{"$f":"T(C1083)","v":"HR"},{"$f":"SUM(D1083)","v":18},{"v":1,"d":"1.0"},null,{"$f":"SUM(G1083)","v":{"v":0,"d":"0.0"}},null,null,{"v":0,"d":"0.0"},null,null,{"v":0,"d":"0.0"},null,null,{"v":0,"d":"0.0"},null,null,{"v":0,"d":"0.0"},null,null,{"v":0,"d":"0.0"},null,null,{"v":0,"d":"0.0"}]
[{"$f":"T(A1084)","v":""}]
[{"$nulls":4},{"$f":"SUM(E1204)","v":{"v":1,"d":"1.0"}},null,{"$f":"SUM(G1204)","v":{"v":0,"d":"0.0"}},null,null,{"$f":"SUM((J1204+M1204+P1204)/3)","v":{"v":0,"d":"0.0"}},{"$nulls":8},{"$f":"SUM(((S1204*3)+V1204+Y1204)/5)","v":{"v":0,"d":"0.0"}}]
[]
[{"$f":"T(A1202)","v":"Weapon of Mass Destruction "},{"$nulls":3},"Threat",null,"Criticality",null,null,"Vulnerability",{"$nulls":8},"Consequence",{"$nulls":8},{"$f":"SUM(((((J1212+S1212)/2)*G1212)*E1212))","v":0}]
[{"$nulls":9},"Exposure",null,null,"Protective Measures",null,null,"Robustness/Resilience",null,null,"Human",null,null,"Economic",null,null,"Psychological"]
[{"$f":"T(A1089)","v":"Yards"},null,{"$f":"T(C1089)","v":"HR"},{"$f":"SUM(D1089)","v":19},{"v":1,"d":"1.0"},null,{"$f":"SUM(G1089)","v":{"v":0,"d":"0.0"}},null,null,{"v":0,"d":"0.0"},null,null,{"v":0,"d":"0.0"},null,null,{"v":0,"d":"0.0"},null,null,{"v":0,"d":"0.0"},null,null,{"v":0,"d":"0.0"},null,null,{"v":0,"d":"0.0"}]
[{"$f":"T(A1090)","v":""}]
[{"$nulls":4},{"$f":"SUM(E1210)","v":{"v":1,"d":"1.0"}},null,{"$f":"SUM(G1210)","v":{"v":0,"d":"0.0"}},null,null,{"$f":"SUM((J1210+M1210+P1210)/3)","v":{"v":0,"d":"0.0"}},{"$nulls":8},{"$f":"SUM(((S1210*3)+V1210+Y1210)/5)","v":{"v":0,"d":"0.0"}}]
[]
[{"$f":"T(A1208)","v":"Weapon of Mass Destruction "},{"$nulls":3},"Threat",null,"Criticality",null,null,"Vulnerability",{"$nulls":8},"Consequence",{"$nulls":8},{"$f":"SUM(((((J1218+S1218)/2)*G1218)*E1218))","v":0}]
[{"$nulls":9},"Exposure",null,null,"Protective Measures",null,null,"Robustness/Resilience",null,null,"Human",null,null,"Economic",null,null,"Psychological"]
[{"$f":"T(A1095)","v":"Maintenance Barns/Facilities"},null,{"$f":"T(C1095)","v":"HR"},{"$f":"SUM(D1095)","v":20},{"v":1,"d":"1.0"},null,{"$f":"SUM(G1095)","v":{"v":0,"d":"0.0"}},null,null,{"v":0,"d":"0.0"},null,null,{"v":0,"d":"0.0"},null,null,{"v":0,"d":"0.0"},null,null,{"v":0,"d":"0.0"},null,null,{"v":0,"d":"0.0"},null,null,{"v":0,"d":"0.0"}]
[{"$f":"T(A1096)","v":""}]
[{"$nulls":4},{"$f":"SUM(E1216)","v":{"v":1,"d":"1.0"}},null,{"$f":"SUM(G1216)","v":{"v":0,"d":"0.0"}},null,null,{"$f":"SUM((J1216+M1216+P1216)/3)","v":{"v":0,"d":"0.0"}},{"$nulls":8},{"$f":"SUM(((S1216*3)+V1216+Y1216)/5)","v":{"v":0,"d":"0.0"}}]
[]
["SENSITIVE SECURITY INFORMATION"]
["WARNING: This document contains Sensitive Security Information that is controlled under 49 CFR 1520. No part of this document may be released to persons without a need to know, as defined in 49 CFR 1520, except with the written permission of the FEMA Administrator, Washington, DC. Unauthorized release may result in civil penalty or other action. For U.S. Government agencies, public release is governed by 5 U.S.C. 522."]

{"sheet":"Commuter Rail Assets","index":4,"n_rows":1281,"n_cols":28,"rows_kept":1281,"merged":[[784,27,788,27],[874,27,878,27],[875,9,875,11],[875,12,875,14],[875,15,875,17],[875,18,875,20],[875,21,875,23],[875,24,875,26],[876,0,876,1],[876,4,877,5],[876,6,877,8],[876,9,877,11],[876,12,877,14],[876,15,877,17],[876,18,877,20],[876,21,877,23],[876,24,877,26],[877,0,878,3],[878,4,878,5],[878,6,878,8],[878,9,878,17],[878,18,878,26],[880,0,881,3],[880,4,881,5],[880,6,881,8],[880,9,880,17],[880,18,880,26],[880,27,884,27],[881,9,881,11],[881,12,881,14],[881,15,881,17],[881,18,881,20],[881,21,881,23],[881,24,881,26],[882,0,882,1],[882,4,883,5],[882,6,883,8],[882,9,883,11],[882,12,883,14],[882,15,883,17],[882,18,883,20],[882,21,883,23],[882,24,883,26],[883,0,884,3],[884,4,884,5],[884,6,884,8],[884,9,884,17],[884,18,884,26],[892,27,896,27],[893,9,893,11],[893,12,893,14],[893,15,893,17],[893,18,893,20],[893,21,893,23],[893,24,893,26],[894,0,894,1],[894,4,895,5],[894,6,895,8],[894,9,895,11],[894,12,895,14],[894,15,895,17],[894,18,895,20],[894,21,895,23],[894,24,895,26],[895,0,896,3],[896,4,896,5],[896,6,896,8],[896,9,896,17],[896,18,896,26],[898,0,898,27],[899,0,900,3],[899,4,900,5],[899,6,900,8],[899,9,899,17],[899,18,899,26],[983,0,984,3],[983,4,984,5],[983,6,984,8],[983,9,983,17],[983,18,983,26],[983,27,987,27],[984,9,984,11],[984,12,984,14],[984,15,984,17],[984,18,984,20],[984,21,984,23],[984,24,984,26],[985,0,985,1],[985,4,986,5],[985,6,986,8],[985,9,986,11],[985,12,986,14],[985,15,986,17],[985,18,986,20],[985,21,986,23],[985,24,986,26],[986,0,987,3],[987,4,987,5],[987,6,987,8],[987,9,987,17],[987,18,987,26],[989,27,993,27],[990,9,990,11],[990,12,990,14],[990,15,990,17],[990,18,990,20],[990,21,990,23],[990,24,990,26],[991,0,991,1],[991,4,992,5],[991,6,992,8],[991,9,992,11],[991,12,992,14],[991,15,992,17],[991,18,992,20],[991,21,992,23],[991,24,992,26],[992,0,993,3],[993,4,993,5],[993,6,993,8],[993,9,993,17],[993,18,993,26],[995,0,996,3],[995,4,996,5],[995,6,996,8],[995,9,995,17],[995,18,995,26],[995,27,999,27],[996,9,996,11],[996,12,996,14],[996,15,996,17],[996,18,996,20],[996,21,996,23],[996,24,996,26],[997,0,997,1],[997,4,998,5],[997,6,998,8],[997,9,998,11],[997,12,998,14],[997,15,998,17],[997,18,998,20],[997,21,998,23],[997,24,998,26],[998,0,999,3],[999,4,999,5],[999,6,999,8],[999,9,999,17],[999,18,999,26],[1001,27,1005,27],[1002,9,1002,11],[1002,12,1002,14],[1002,15,1002,17],[1002,18,1002,20],[1002,21,1002,23],[1002,24,1002,26],[1003,0,1003,1],[1003,4,1004,5],[1003,6,1004,8],[1003,9,1004,11],[1003,12,1004,14],[1003,15,1004,17],[1003,18,1004,20],[1003,21,1004,23],[1003,24,1004,26],[1004,0,1005,3],[1005,4,1005,5],[1005,6,1005,8],[1005,9,1005,17],[1005,18,1005,26],[1007,0,1008,3],[1007,4,1008,5],[1007,6,1008,8],[1007,9,1007,17],[1007,18,1007,26],[1007,27,1011,27],[1008,9,1008,11],[1008,12,1008,14],[1008,15,1008,17],[1008,18,1008,20],[1008,21,1008,23],[1008,24,1008,26],[1009,0,1009,1],[1009,4,1010,5],[1009,6,1010,8],[1009,9,1010,11],[1009,12,1010,14],[1009,15,1010,17],[1009,18,1010,20],[1009,21,1010,23],[1009,24,1010,26],[1010,0,1011,3],[1011,4,1011,5],[1011,6,1011,8],[1011,9,1011,17],[1011,18,1011,26],[1019,27,1023,27],[1020,9,1020,11],[1020,12,1020,14],[1020,15,1020,17],[1020,18,1020,20],[1020,21,1020,23],[1020,24,1020,26],[1021,0,1021,1],[1021,4,1022,5],[1021,6,1022,8],[1021,9,1022,11],[1021,12,1022,14],[1021,15,1022,17],[1021,18,1022,20],[1021,21,1022,23],[1021,24,1022,26],[1022,0,1023,3],[1023,4,1023,5],[1023,6,1023,8],[1023,9,1023,17],[1023,18,1023,26],[1025,0,1025,27],[1026,0,1027,3],[1026,9,1026,17],[1026,18,1026,26],[1026,27,1030,27],[1027,9,1027,11],[1027,12,1027,14],[1027,15,1027,17],[1027,18,1027,20],[1027,21,1027,23],[1027,24,1027,26],[1028,0,1028,1],[1028,4,1029,5],[1028,6,1029,8],[1028,9,1029,11],[1028,12,1029,14],[1028,15,1029,17],[1028,18,1029,20],[1028,21,1029,23],[1028,24,1029,26],[1029,0,1030,3],[1030,4,1030,5],[1030,6,1030,8],[1030,9,1030,17],[1030,18,1030,26],[1032,0,1033,3],[1032,4,1033,5],[1032,6,1033,8],[1032,9,1032,17],[1032,18,1032,26],[1032,27,1036,27],[1033,9,1033,11],[1033,12,1033,14],[1033,15,1033,17],[1033,18,1033,20],[1033,21,1033,23],[1033,24,1033,26],[1034,0,1034,1],[1034,4,1035,5],[1034,6,1035,8],[1034,9,1035,11],[1034,12,1035,14],[1034,15,1035,17],[1034,18,1035,20],[1034,21,1035,23],[1034,24,1035,26],[1035,0,1036,3],[1036,4,1036,5],[1036,6,1036,8],[1036,9,1036,17],[1036,18,1036,26],[1038,0,1039,3],[1038,4,1039,5],[1038,6,1039,8],[1038,9,1038,17],[1038,18,1038,26],[1038,27,1042,27],[1039,9,1039,11],[1039,12,1039,14],[1039,15,1039,17],[1039,18,1039,20],[1039,21,1039,23],[1039,24,1039,26],[1040,0,1040,1],[1040,4,1041,5],[1040,6,1041,8],[1040,9,1041,11],[1040,12,1041,14],[1040,15,1041,17],[1040,18,1041,20],[1040,21,1041,23],[1040,24,1041,26],[1041,0,1042,3],[1042,4,1042,5],[1042,6,1042,8],[1042,9,1042,17],[1042,18,1042,26],[1044,0,1045,3],[1044,4,1045,5],[1044,6,1045,8],[1044,9,1044,17],[1044,18,1044,26],[1044,27,1048,27],[1045,9,1045,11],[1045,12,1045,14],[1045,15,1045,17],[1045,18,1045,20],[1045,21,1045,23],[1045,24,1045,26],[1046,0,1046,1],[1046,4,1047,5],[1046,6,1047,8],[1046,9,1047,11],[1046,12,1047,14],[1046,15,1047,17],[1046,18,1047,20],[1046,21,1047,23],[1046,24,1047,26],[1047,0,1048,3],[1048,4,1048,5],[1048,6,1048,8],[1048,9,1048,17],[1048,18,1048,26],[1050,0,1051,3],[1050,4,1051,5],[1050,6,1051,8],[1050,9,1050,17],[1050,18,1050,26],[1050,27,1054,27],[1051,9,1051,11],[1051,12,1051,14],[1051,15,1051,17],[1051,18,1051,20],[1051,21,1051,23],[1051,24,1051,26],[1052,0,1052,1],[1052,4,1053,5],[1052,6,1053,8],[1052,9,1053,11],[1052,12,1053,14],[1052,15,1053,17],[1052,18,1053,20],[1052,21,1053,23],[1052,24,1053,26],[1053,0,1054,3],[1054,4,1054,5],[1054,6,1054,8],[1054,9,1054,17],[1054,18,1054,26],[1056,0,1057,3],[1056,4,1057,5],[1056,6,1057,8],[1056,9,1056,17],[1056,18,1056,26],[1056,27,1060,27],[1057,9,1057,11],[1057,12,1057,14],[1057,15,1057,17],[1057,18,1057,20],[1057,21,1057,23],[1057,24,1057,26],[1058,0,1058,1],[1058,4,1059,5],[1058,6,1059,8],[1058,9,1059,11],[1058,12,1059,14],[1058,15,1059,17],[1058,18,1059,20],[1058,21,1059,23],[1058,24,1059,26],[1059,0,1060,3],[1060,4,1060,5],[1060,6,1060,8],[1060,9,1060,17],[1060,18,1060,26],[1062,0,1063,3],[1062,4,1063,5],[1062,6,1063,8],[1062,9,1062,17],[1062,18,1062,26],[1062,27,1066,27],[1063,9,1063,11],[1063,12,1063,14],[1063,15,1063,17],[1063,18,1063,20],[1063,21,1063,23],[1063,24,1063,26],[1064,0,1064,1],[1064,4,1065,5],[1064,6,1065,8],[1064,9,1065,11],[1064,12,1065,14],[1064,15,1065,17],[1064,18,1065,20],[1064,21,1065,23],[1064,24,1065,26],[1065,0,1066,3],[1066,4,1066,5],[1066,6,1066,8],[1066,9,1066,17],[1066,18,1066,26],[1068,0,1069,3],[1068,4,1069,5],[1068,6,1069,8],[1068,9,1068,17],[1068,18,1068,26],[1068,27,1072,27],[1069,9,1069,11],[1069,12,1069,14],[1069,15,1069,17],[1069,18,1069,20],[1069,21,1069,23],[1069,24,1069,26],[1070,0,1070,1],[1070,4,1071,5],[1070,6,1071,8],[1070,9,1071,11],[1070,12,1071,14],[1070,15,1071,17],[1070,18,1071,20],[1070,21,1071,23],[1070,24,1071,26],[1071,0,1072,3],[1072,4,1072,5],[1072,6,1072,8],[1072,9,1072,17],[1072,18,1072,26],[1074,0,1075,3],[1074,4,1075,5],[1074,6,1075,8],[1074,9,1074,17],[1074,18,1074,26],[1080,0,1081,3],[1080,4,1081,5],[1080,6,1081,8],[1080,9,1080,17],[1080,18,1080,26],[1080,27,1084,27],[1081,9,1081,11],[1081,12,1081,14],[1081,15,1081,17],[1081,18,1081,20],[1081,21,1081,23],[1081,24,1081,26],[1082,0,1082,1],[1082,4,1083,5],[1082,6,1083,8],[1082,9,1083,11],[1082,12,1083,14],[1082,15,1083,17],[1082,18,1083,20],[1082,21,1083,23],[1082,24,1083,26],[1083,0,1084,3],[1084,4,1084,5],[1084,6,1084,8],[1086,27,1090,27],[1092,27,1096,27],[1093,9,1093,11],[1093,12,1093,14],[1093,15,1093,17],[1093,18,1093,20],[1093,21,1093,23],[1093,24,1093,26],[1094,0,1094,1],[1094,4,1095,5],[1094,6,1095,8],[1094,9,1095,11],[1094,12,1095,14],[1094,15,1095,17],[1094,18,1095,20],[1094,21,1095,23],[1094,24,1095,26],[1095,0,1096,3],[1096,4,1096,5],[1096,6,1096,8],[1098,4,1099,5],[1098,6,1099,8],[1098,27,1102,27],[1099,9,1099,11],[1099,12,1099,14],[1099,15,1099,17],[1099,18,1099,20],[1099,21,1099,23],[1099,24,1099,26],[1100,0,1100,1],[1100,4,1101,5],[1100,6,1101,8],[1100,9,1101,11],[1100,12,1101,14],[1100,15,1101,17],[1100,18,1101,20],[1100,21,1101,23],[1100,24,1101,26],[1101,0,1102,3],[1102,4,1102,5],[1102,6,1102,8],[1104,0,1105,3],[1104,9,1104,17],[1104,18,1104,26],[1104,27,1108,27],[1105,9,1105,11],[1105,12,1105,14],[1105,15,1105,17],[1105,18,1105,20],[1105,21,1105,23],[1105,24,1105,26],[1106,0,1106,1],[1106,4,1107,5],[1106,6,1107,8],[1106,9,1107,11],[1106,12,1107,14],[1106,15,1107,17],[1106,18,1107,20],[1106,21,1107,23],[1106,24,1107,26],[1107,0,1108,3],[1108,4,1108,5],[1108,6,1108,8],[1108,9,1108,17],[1108,18,1108,26],[1154,24,1154,26],[1155,0,1155,1],[1155,4,1156,5],[1155,6,1156,8],[1155,9,1156,11],[1155,12,1156,14],[1155,15,1156,17],[1155,18,1156,20],[1155,21,1156,23],[1155,24,1156,26],[1156,0,1157,3],[1157,4,1157,5],[1157,6,1157,8],[1157,9,1157,17],[1157,18,1157,26],[1159,0,1160,3],[1159,4,1160,5],[1159,6,1160,8],[1159,9,1159,17],[1159,18,1159,26],[1159,27,1163,27],[1160,9,1160,11],[1160,12,1160,14],[1160,15,1160,17],[1160,18,1160,20],[1160,21,1160,23],[1160,24,1160,26],[1161,0,1161,1],[1161,4,1162,5],[1161,6,1162,8],[1161,9,1162,11],[1161,12,1162,14],[1161,15,1162,17],[1161,18,1162,20],[1161,21,1162,23],[1161,24,1162,26],[1162,0,1163,3],[1163,4,1163,5],[1163,6,1163,8],[1163,9,1163,17],[1163,18,1163,26],[1165,0,1166,3],[1165,4,1166,5],[1165,6,1166,8],[1165,9,1165,17],[1165,18,1165,26],[1165,27,1169,27],[1166,9,1166,11],[1166,12,1166,14],[1166,15,1166,17],[1166,18,1166,20],[1166,21,1166,23],[1166,24,1166,26],[1167,0,1167,1],[1167,4,1168,5],[1167,6,1168,8],[1167,9,1168,11],[1167,12,1168,14],[1167,15,1168,17],[1167,18,1168,20],[1167,21,1168,23],[1167,24,1168,26],[1168,0,1169,3],[1169,4,1169,5],[1169,6,1169,8],[1169,9,1169,17],[1169,18,1169,26],[1171,0,1172,3],[1171,4,1172,5],[1171,6,1172,8],[1171,9,1171,17],[1171,18,1171,26],[1171,27,1175,27],[1172,9,1172,11],[1172,12,1172,14],[1172,15,1172,17],[1172,18,1172,20],[1172,21,1172,23],[1172,24,1172,26],[1173,0,1173,1],[1173,4,1174,5],[1173,6,1174,8],[1173,9,1174,11],[1173,12,1174,14],[1173,15,1174,17],[1173,18,1174,20],[1173,21,1174,23],[1173,24,1174,26],[1174,0,1175,3],[1175,4,1175,5],[1175,6,1175,8],[1175,9,1175,17],[1175,18,1175,26],[1177,0,1178,3],[1177,4,1178,5],[1177,6,1178,8],[1177,9,1177,17],[1177,18,1177,26],[1177,27,1181,27],[1178,9,1178,11],[1178,12,1178,14],[1178,15,1178,17],[1178,18,1178,20],[1178,21,1178,23],[1178,24,1178,26],[1179,0,1179,1],[1179,4,1180,5],[1179,6,1180,8],[1179,9,1180,11],[1179,12,1180,14],[1179,15,1180,17],[1179,18,1180,20],[1179,21,1180,23],[1179,24,1180,26],[1180,0,1181,3],[1181,4,1181,5],[1181,6,1181,8],[1181,9,1181,17],[1181,18,1181,26],[1183,0,1184,3],[1183,4,1184,5],[1183,6,1184,8],[1183,9,1183,17],[1183,18,1183,26],[1183,27,1187,27],[1184,9,1184,11],[1184,12,1184,14],[1184,15,1184,17],[1184,18,1184,20],[1184,21,1184,23],[1184,24,1184,26],[1185,0,1185,1],[1185,4,1186,5],[1185,6,1186,8],[1185,9,1186,11],[1185,12,1186,14],[1185,15,1186,17],[1185,18,1186,20],[1185,21,1186,23],[1185,24,1186,26],[1186,0,1187,3],[1187,4,1187,5],[1187,6,1187,8],[1187,9,1187,17],[1187,18,1187,26],[1189,0,1190,3],[1189,4,1190,5],[1189,6,1190,8],[1189,9,1189,17],[1189,18,1189,26],[1189,27,1193,27],[1190,9,1190,11],[1190,12,1190,14],[1190,15,1190,17],[1190,18,1190,20],[1190,21,1190,23],[1190,24,1190,26],[1191,0,1191,1],[1191,4,1192,5],[1191,6,1192,8],[1191,9,1192,11],[1191,12,1192,14],[1191,15,1192,17],[1191,18,1192,20],[1191,21,1192,23],[1191,24,1192,26],[1192,0,1193,3],[1193,4,1193,5],[1193,6,1193,8],[1193,9,1193,17],[1193,18,1193,26],[1195,0,1196,3],[1195,4,1196,5],[1195,6,1196,8],[1195,9,1195,17],[1195,18,1195,26],[1195,27,1199,27],[1196,9,1196,11],[1196,12,1196,14],[1196,15,1196,17],[1196,18,1196,20],[1196,21,1196,23],[1196,24,1196,26],[1197,0,1197,1],[1197,4,1198,5],[1197,6,1198,8],[1197,9,1198,11],[1197,12,1198,14],[1197,15,1198,17],[1197,18,1198,20],[1197,21,1198,23],[1197,24,1198,26],[1198,0,1199,3],[1199,4,1199,5],[1199,6,1199,8],[1199,9,1199,17],[1199,18,1199,26],[1207,0,1208,3],[1207,4,1208,5],[1207,6,1208,8],[1207,9,1207,17],[1207,18,1207,26],[1207,27,1211,27],[1208,9,1208,11],[1208,12,1208,14],[1208,15,1208,17],[1208,18,1208,20],[1208,21,1208,23],[1208,24,1208,26],[1209,0,1209,1],[1209,4,1210,5],[1209,6,1210,8],[1209,9,1210,11],[1209,12,1210,14],[1209,15,1210,17],[1209,18,1210,20],[1209,21,1210,23],[1209,24,1210,26],[1210,0,1211,3],[1211,4,1211,5],[1211,6,1211,8],[1211,9,1211,17],[1211,18,1211,26],[1213,0,1214,3],[1213,4,1214,5],[1213,6,1214,8],[1213,9,1213,17],[1213,18,1213,26],[1213,27,1217,27],[1214,9,1214,11],[1214,12,1214,14],[1214,15,1214,17],[1214,18,1214,20],[1214,21,1214,23],[1214,24,1214,26],[1215,0,1215,1],[1215,4,1216,5],[1215,6,1216,8],[1215,9,1216,11],[1215,12,1216,14],[1215,15,1216,17],[1215,18,1216,20],[1215,21,1216,23],[1215,24,1216,26],[1216,0,1217,3],[1217,4,1217,5],[1217,6,1217,8],[1217,9,1217,17],[1217,18,1217,26],[1219,0,1220,3],[1219,4,1220,5],[1219,6,1220,8],[1219,9,1219,17],[1219,18,1219,26],[1219,27,1223,27],[1220,9,1220,11],[1220,12,1220,14],[1220,15,1220,17],[1220,18,1220,20],[1220,21,1220,23],[1220,24,1220,26],[1221,0,1221,1],[1221,4,1222,5],[1221,6,1222,8],[1221,9,1222,11],[1221,12,1222,14],[1221,15,1222,17],[1221,18,1222,20],[1221,21,1222,23],[1221,24,1222,26],[1222,0,1223,3],[1223,4,1223,5],[1223,6,1223,8],[1223,9,1223,17],[1223,18,1223,26],[1225,0,1226,3],[1225,4,1226,5],[1225,6,1226,8],[1225,9,1225,17],[1225,18,1225,26],[1225,27,1229,27],[1226,9,1226,11],[1226,12,1226,14],[1226,15,1226,17],[1226,18,1226,20],[1226,21,1226,23],[1226,24,1226,26],[1227,0,1227,1],[1227,4,1228,5],[1227,6,1228,8],[1227,9,1228,11],[1227,12,1228,14],[1227,15,1228,17],[1227,18,1228,20],[1227,21,1228,23],[1227,24,1228,26],[1228,0,1229,3],[1229,4,1229,5],[1229,6,1229,8],[1229,9,1229,17],[1229,18,1229,26],[1231,0,1232,3],[1231,4,1232,5],[1231,6,1232,8],[1231,9,1231,17],[1231,18,1231,26],[1231,27,1235,27],[1232,9,1232,11],[1232,12,1232,14],[1232,15,1232,17],[1232,18,1232,20],[1232,21,1232,23],[1232,24,1232,26],[1233,0,1233,1],[1233,4,1234,5],[1233,6,1234,8],[1233,9,1234,11],[1233,12,1234,14],[1233,15,1234,17],[1233,18,1234,20],[1233,21,1234,23],[1233,24,1234,26],[1234,0,1235,3],[1235,4,1235,5],[1235,6,1235,8],[1235,9,1235,17],[1235,18,1235,26],[1237,0,1238,3],[1237,4,1238,5],[1237,6,1238,8],[1237,9,1237,17],[1237,18,1237,26],[1237,27,1241,27],[1238,9,1238,11],[1238,12,1238,14],[1238,15,1238,17],[1238,18,1238,20],[1238,21,1238,23],[1238,24,1238,26],[1239,0,1239,1],[1239,4,1240,5],[1239,6,1240,8],[1239,9,1240,11],[1239,12,1240,14],[1239,15,1240,17],[1239,18,1240,20],[1239,21,1240,23],[1239,24,1240,26],[1240,0,1241,3],[1241,4,1241,5],[1241,6,1241,8],[1241,9,1241,17],[1241,18,1241,26],[1243,0,1244,3],[1243,4,1244,5],[1243,6,1244,8],[1243,9,1243,17],[1243,18,1243,26],[1243,27,1247,27],[1244,9,1244,11],[1244,12,1244,14],[1244,15,1244,17],[1244,18,1244,20],[1244,21,1244,23],[1244,24,1244,26],[1245,0,1245,1],[1245,4,1246,5],[1245,6,1246,8],[1245,9,1246,11],[1245,12,1246,14],[1245,15,1246,17],[1245,18,1246,20],[1245,21,1246,23],[1245,24,1246,26],[1246,0,1247,3],[1247,4,1247,5],[1247,6,1247,8],[1247,9,1247,17],[1247,18,1247,26],[1249,0,1250,3],[1249,4,1250,5],[1249,6,1250,8],[1249,9,1249,17],[1249,18,1249,26],[1249,27,1253,27],[1250,9,1250,11],[1250,12,1250,14],[1250,15,1250,17],[1250,18,1250,20],[1250,21,1250,23],[1250,24,1250,26],[1251,0,1251,1],[1251,4,1252,5],[1251,6,1252,8],[1251,9,1252,11],[1251,12,1252,14],[1251,15,1252,17],[1251,18,1252,20],[1251,21,1252,23],[1251,24,1252,26],[1252,0,1253,3],[1253,4,1253,5],[1253,6,1253,8],[1253,9,1253,17],[1253,18,1253,26],[1255,0,1256,3],[1255,4,1256,5],[1255,6,1256,8],[1255,9,1255,17],[1255,18,1255,26],[1255,27,1259,27],[1256,9,1256,11],[1256,12,1256,14],[1256,15,1256,17],[1256,18,1256,20],[1256,21,1256,23],[1256,24,1256,26],[1257,0,1257,1],[1257,4,1258,5],[1257,6,1258,8],[1257,9,1258,11],[1257,12,1258,14],[1257,15,1258,17],[1257,18,1258,20],[1257,21,1258,23],[1257,24,1258,26],[1258,0,1259,3],[1259,4,1259,5],[1259,6,1259,8],[1259,9,1259,17],[1259,18,1259,26],[1261,0,1262,3],[1261,4,1262,5],[1261,6,1262,8],[1261,9,1261,17],[1261,18,1261,26],[1261,27,1265,27],[1262,9,1262,11],[1262,12,1262,14],[1262,15,1262,17],[1262,18,1262,20],[1262,21,1262,23],[1262,24,1262,26],[1263,0,1263,1],[1263,4,1264,5],[1263,6,1264,8],[1263,9,1264,11],[1263,12,1264,14],[1263,15,1264,17],[1263,18,1264,20],[1263,21,1264,23],[1263,24,1264,26],[1264,0,1265,3],[1265,4,1265,5],[1265,6,1265,8],[1265,9,1265,17],[1265,18,1265,26],[1273,0,1274,3],[1273,4,1274,5],[1273,6,1274,8],[1273,9,1273,17],[1273,18,1273,26],[1273,27,1277,27],[1274,9,1274,11],[1274,12,1274,14],[1274,15,1274,17],[1274,18,1274,20],[1274,21,1274,23],[1274,24,1274,26],[1275,0,1275,1],[1275,4,1276,5],[1275,6,1276,8],[1275,9,1276,11],[1275,12,1276,14],[1275,15,1276,17],[1275,18,1276,20],[1275,21,1276,23],[1275,24,1276,26],[1276,0,1277,3],[1277,4,1277,5],[1277,6,1277,8],[1277,9,1277,17],[1277,18,1277,26]],"merged_total":5475,"flags":["merged_cut"]}
[]
["WARNING: This document contains Sensitive Security Information that is controlled under 49 CFR 1520. No part of this document may be released to persons without a need to know, as defined in 49 CFR 1520, except with the written permission of the FEMA Administrator, Washington, DC. Unauthorized release may result in civil penalty or other action. For U.S. Government agencies, public release is governed by 5 U.S.C. 522."]
[]
[]
["SENSITIVE SECURITY INFORMATION"]
["Incident types are defined in notes on the far right side of the table by holding the cursor over the incident word. "]
[" Commuter Rail Assets     "]
[]
[]
[{"$f":"T(Definitions!D19)","v":"Armed Assault/Active Shooter"}]
[{"$f":"T(A10)","v":"Armed Assault/Active Shooter"},{"$nulls":3},"Threat",null,"Criticality",null,null,"Vulnerability",{"$nulls":8},"Consequence",{"$nulls":8},{"$f":"SUM(((((J15+S15)/2)*G15)*E15))","v":0}]
[{"$nulls":9},"Exposure",null,null,"Protective Measures",null,null,"Robustness/Resilience",null,null,"Human",null,null,"Economic",null,null,"Psychological"]
[{"$f":"T('Critical-Representative Assets'!B12)","v":"Headquarters Building"},null,{"$f":"T('Critical-Representative Assets'!C12)","v":"CR"},{"$f":"SUM('Critical-Representative Assets'!D12)","v":1},{"v":1,"d":"1.0"},null,{"$f":"SUM('Critical-Representative Assets'!F12)","v":{"v":0,"d":"0.0"}},null,null,{"v":0,"d":"0.0"},null,null,{"v":0,"d":"0.0"},null,null,{"v":0,"d":"0.0"},null,null,{"v":0,"d":"0.0"},null,null,{"v":0,"d":"0.0"},null,null,{"v":0,"d":"0.0"}]
[{"$f":"T('Critical-Representative Assets'!E12)","v":""}]
[{"$nulls":4},{"$f":"SUM(E13)","v":{"v":1,"d":"1.0"}},null,{"$f":"SUM(G13)","v":{"v":0,"d":"0.0"}},null,null,{"$f":"SUM((J13+M13+P13)/3)","v":{"v":0,"d":"0.0"}},{"$nulls":8},{"$f":"SUM(((S13*3)+V13+Y13)/5)","v":{"v":0,"d":"0.0"}}]
[]
[{"$f":"T(A11)","v":"Armed Assault/Active Shooter"},{"$nulls":3},"Threat",null,"Criticality",null,null,"Vulnerability",{"$nulls":8},"Consequence",{"$nulls":8},{"$f":"SUM(((((J21+S21)/2)*G21)*E21))","v":0}]
[{"$nulls":9},"Exposure",null,null,"Protective Measures",null,null,"Robustness/Resilience",null,null,"Human",null,null,"Economic",null,null,"Psychological"]
[{"$f":"T('Critical-Representative Assets'!B13)","v":"Major Passenger Terminals"},null,{"$f":"T('Critical-Representative Assets'!C13)","v":"CR"},{"$f":"SUM('Critical-Representative Assets'!D13)","v":2},{"v":1,"d":"1.0"},null,{"$f":"SUM('Critical-Representative Assets'!F13)","v":{"v":0,"d":"0.0"}},null,null,{"v":0,"d":"0.0"},null,null,{"v":0,"d":"0.0"},null,null,{"v":0,"d":"0.0"},null,null,{"v":0,"d":"0.0"},null,null,{"v":0,"d":"0.0"},null,null,{"v":0,"d":"0.0"}]
[{"$f":"T('Critical-Representative Assets'!E13)","v":""}]
[{"$nulls":4},{"$f":"SUM(E19)","v":{"v":1,"d":"1.0"}},null,{"$f":"SUM(G19)","v":{"v":0,"d":"0.0"}},null,null,{"$f":"SUM((J19+M19+P19)/3)","v":{"v":0,"d":"0.0"}},{"$nulls":8},{"$f":"SUM(((S19*3)+V19+Y19)/5)","v":{"v":0,"d":"0.0"}}]
[]
[{"$f":"T(A17)","v":"Armed Assault/Active Shooter"},{"$nulls":3},"Threat",null,"Criticality",null,null,"Vulnerability",{"$nulls":8},"Consequence",{"$nulls":8},{"$f":"SUM(((((J27+S27)/2)*G27)*E27))","v":0}]
[{"$nulls":9},"Exposure",null,null,"Protective Measures",null,null,"Robustness/Resilience",null,null,"Human",null,null,"Economic",null,null,"Psychological"]
[{"$f":"T('Critical-Representative Assets'!B14)","v":"Major Line Stations"},null,{"$f":"T('Critical-Representative Assets'!C14)","v":"CR"},{"$f":"SUM('Critical-Representative Assets'!D14)","v":3},{"v":1,"d":"1.0"},null,{"$f":"SUM('Critical-Representative Assets'!F14)","v":{"v":0,"d":"0.0"}},null,null,{"v":0,"d":"0.0"},null,null,{"v":0,"d":"0.0"},null,null,{"v":0,"d":"0.0"},null,null,{"v":0,"d":"0.0"},null,null,{"v":0,"d":"0.0"},null,null,{"v":0,"d":"0.0"}]
[{"$f":"T('Critical-Representative Assets'!E14)","v":""}]
[{"$nulls":4},{"$f":"SUM(E25)","v":{"v":1,"d":"1.0"}},null,{"$f":"SUM(G25)","v":{"v":0,"d":"0.0"}},null,null,{"$f":"SUM((J25+M25+P25)/3)","v":{"v":0,"d":"0.0"}},{"$nulls":8},{"$f":"SUM(((S25*3)+V25+Y25)/5)","v":{"v":0,"d":"0.0"}}]
[]
[{"$f":"T(A23)","v":"Armed Assault/Active Shooter"},{"$nulls":3},"Threat",null,"Criticality",null,null,"Vulnerability",{"$nulls":8},"Consequence",{"$nulls":8},{"$f":"SUM(((((J33+S33)/2)*G33)*E33))","v":0}]
[{"$nulls":9},"Exposure",null,null,"Protective Measures",null,null,"Robustness/Resilience",null,null,"Human",null,null,"Economic",null,null,"Psychological"]
[{"$f":"T('Critical-Representative Assets'!B15)","v":"Parking Structures"},null,{"$f":"T('Critical-Representative Assets'!C15)","v":"CR"},{"$f":"SUM('Critical-Representative Assets'!D15)","v":4},{"v":1,"d":"1.0"},null,{"$f":"SUM('Critical-Representative Assets'!F15)","v":{"v":0,"d":"0.0"}},null,null,{"v":0,"d":"0.0"},null,null,{"v":0,"d":"0.0"},null,null,{"v":0,"d":"0.0"},null,null,{"v":0,"d":"0.0"},null,null,{"v":0,"d":"0.0"},null,null,{"v":0,"d":"0.0"}]
[{"$f":"T('Critical-Representative Assets'!E15)","v":""}]
[{"$nulls":4},{"$f":"SUM(E31)","v":{"v":1,"d":"1.0"}},null,{"$f":"SUM(G31)","v":{"v":0,"d":"0.0"}},null,null,{"$f":"SUM((J31+M31+P31)/3)","v":{"v":0,"d":"0.0"}},{"$nulls":8},{"$f":"SUM(((S31*3)+V31+Y31)/5)","v":{"v":0,"d":"0.0"}}]
[]
[{"$f":"T(A29)","v":"Armed Assault/Active Shooter"},{"$nulls":3},"Threat",null,"Criticality",null,null,"Vulnerability",{"$nulls":8},"Consequence",{"$nulls":8},{"$f":"SUM(((((J39+S39)/2)*G39)*E39))","v":0}]
[{"$nulls":9},"Exposure",null,null,"Protective Measures",null,null,"Robustness/Resilience",null,null,"Human",null,null,"Economic",null,null,"Psychological"]
[{"$f":"T('Critical-Representative Assets'!B16)","v":"Consist - Type 1"},null,{"$f":"T('Critical-Representative Assets'!C16)","v":"CR"},{"$f":"SUM('Critical-Representative Assets'!D16)","v":5},{"v":1,"d":"1.0"},null,{"$f":"SUM('Critical-Representative Assets'!F16)","v":{"v":0,"d":"0.0"}},null,null,{"v":0,"d":"0.0"},null,null,{"v":0,"d":"0.0"},null,null,{"v":0,"d":"0.0"},null,null,{"v":0,"d":"0.0"},null,null,{"v":0,"d":"0.0"},null,null,{"v":0,"d":"0.0"}]
[{"$f":"T('Critical-Representative Assets'!E16)","v":""}]
[{"$nulls":4},{"$f":"SUM(E37)","v":{"v":1,"d":"1.0"}},null,{"$f":"SUM(G37)","v":{"v":0,"d":"0.0"}},null,null,{"$f":"SUM((J37+M37+P37)/3)","v":{"v":0,"d":"0.0"}},{"$nulls":8},{"$f":"SUM(((S37*3)+V37+Y37)/5)","v":{"v":0,"d":"0.0"}}]
[]
[{"$f":"T(A35)","v":"Armed Assault/Active Shooter"},{"$nulls":3},"Threat",null,"Criticality",null,null,"Vulnerability",{"$nulls":8},"Consequence",{"$nulls":8},{"$f":"SUM(((((J45+S45)/2)*G45)*E45))","v":0}]
[{"$nulls":9},"Exposure",null,null,"Protective Measures",null,null,"Robustness/Resilience",null,null,"Human",null,null,"Economic",null,null,"Psychological"]
[{"$f":"T('Critical-Representative Assets'!B17)","v":"Consist - Type 2"},null,{"$f":"T('Critical-Representative Assets'!C17)","v":"CR"},{"$f":"SUM('Critical-Representative Assets'!D17)","v":6},{"v":1,"d":"1.0"},null,{"$f":"SUM('Critical-Representative Assets'!F17)","v":{"v":0,"d":"0.0"}},null,null,{"v":0,"d":"0.0"},null,null,{"v":0,"d":"0.0"},null,null,{"v":0,"d":"0.0"},null,null,{"v":0,"d":"0.0"},null,null,{"v":0,"d":"0.0"},null,null,{"v":0,"d":"0.0"}]
[{"$f":"T('Critical-Representative Assets'!E17)","v":""}]
[{"$nulls":4},{"$f":"SUM(E43)","v":{"v":1,"d":"1.0"}},null,{"$f":"SUM(G43)","v":{"v":0,"d":"0.0"}},null,null,{"$f":"SUM((J43+M43+P43)/3)","v":{"v":0,"d":"0.0"}},{"$nulls":8},{"$f":"SUM(((S43*3)+V43+Y43)/5)","v":{"v":0,"d":"0.0"}}]
[]
[{"$f":"T(A41)","v":"Armed Assault/Active Shooter"},{"$nulls":3},"Threat",null,"Criticality",null,null,"Vulnerability",{"$nulls":8},"Consequence",{"$nulls":8},{"$f":"SUM(((((J51+S51)/2)*G51)*E51))","v":0}]
[{"$nulls":9},"Exposure",null,null,"Protective Measures",null,null,"Robustness/Resilience",null,null,"Human",null,null,"Economic",null,null,"Psychological"]
[{"$f":"T('Critical-Representative Assets'!B18)","v":"Primary Control Center"},null,{"$f":"T('Critical-Representative Assets'!C18)","v":"CR"},{"$f":"SUM('Critical-Representative Assets'!D18)","v":7},{"v":1,"d":"1.0"},null,{"$f":"SUM('Critical-Representative Assets'!F18)","v":{"v":0,"d":"0.0"}},null,null,{"v":0,"d":"0.0"},null,null,{"v":0,"d":"0.0"},null,null,{"v":0,"d":"0.0"},null,null,{"v":0,"d":"0.0"},null,null,{"v":0,"d":"0.0"},null,null,{"v":0,"d":"0.0"}]
[{"$f":"T('Critical-Representative Assets'!E18)","v":""}]
[{"$nulls":4},{"$f":"SUM(E49)","v":{"v":1,"d":"1.0"}},null,{"$f":"SUM(G49)","v":{"v":0,"d":"0.0"}},null,null,{"$f":"SUM((J49+M49+P49)/3)","v":{"v":0,"d":"0.0"}},{"$nulls":8},{"$f":"SUM(((S49*3)+V49+Y49)/5)","v":{"v":0,"d":"0.0"}}]
[]
[{"$f":"T(A47)","v":"Armed Assault/Active Shooter"},{"$nulls":3},"Threat",null,"Criticality",null,null,"Vulnerability",{"$nulls":8},"Consequence",{"$nulls":8},{"$f":"SUM(((((J57+S57)/2)*G57)*E57))","v":0}]
[{"$nulls":9},"Exposure",null,null,"Protective Measures",null,null,"Robustness/Resilience",null,null,"Human",null,null,"Economic",null,null,"Psychological"]
[{"$f":"T('Critical-Representative Assets'!B19)","v":"Control Towers"},null,{"$f":"T('Critical-Representative Assets'!C19)","v":"CR"},{"$f":"SUM('Critical-Representative Assets'!D19)","v":8},{"v":1,"d":"1.0"},null,{"$f":"SUM('Critical-Representative Assets'!F19)","v":{"v":0,"d":"0.0"}},null,null,{"v":0,"d":"0.0"},null,null,{"v":0,"d":"0.0"},null,null,{"v":0,"d":"0.0"},null,null,{"v":0,"d":"0.0"},null,null,{"v":0,"d":"0.0"},null,null,{"v":0,"d":"0.0"}]
[{"$f":"T('Critical-Representative Assets'!E19)","v":""}]
[{"$nulls":4},{"$f":"SUM(E55)","v":{"v":1,"d":"1.0"}},null,{"$f":"SUM(G55)","v":{"v":0,"d":"0.0"}},null,null,{"$f":"SUM((J55+M55+P55)/3)","v":{"v":0,"d":"0.0"}},{"$nulls":8},{"$f":"SUM(((S55*3)+V55+Y55)/5)","v":{"v":0,"d":"0.0"}}]
[]
[{"$f":"T(A53)","v":"Armed Assault/Active Shooter"},{"$nulls":3},"Threat",null,"Criticality",null,null,"Vulnerability",{"$nulls":8},"Consequence",{"$nulls":8},{"$f":"SUM(((((J63+S63)/2)*G63)*E63))","v":0}]
[{"$nulls":9},"Exposure",null,null,"Protective Measures",null,null,"Robustness/Resilience",null,null,"Human",null,null,"Economic",null,null,"Psychological"]
[{"$f":"T('Critical-Representative Assets'!B20)","v":"Cyber Systems"},null,{"$f":"T('Critical-Representative Assets'!C20)","v":"CR"},{"$f":"SUM('Critical-Representative Assets'!D20)","v":9},{"v":1,"d":"1.0"},null,{"$f":"SUM('Critical-Representative Assets'!F20)","v":{"v":0,"d":"0.0"}},null,null,{"v":0,"d":"0.0"},null,null,{"v":0,"d":"0.0"},null,null,{"v":0,"d":"0.0"},null,null,{"v":0,"d":"0.0"},null,null,{"v":0,"d":"0.0"},null,null,{"v":0,"d":"0.0"}]
[{"$f":"T('Critical-Representative Assets'!E20)","v":""}]
[{"$nulls":4},{"$f":"SUM(E61)","v":{"v":1,"d":"1.0"}},null,{"$f":"SUM(G61)","v":{"v":0,"d":"0.0"}},null,null,{"$f":"SUM((J61+M61+P61)/3)","v":{"v":0,"d":"0.0"}},{"$nulls":8},{"$f":"SUM(((S61*3)+V61+Y61)/5)","v":{"v":0,"d":"0.0"}}]
[]
[{"$f":"T(A59)","v":"Armed Assault/Active Shooter"},{"$nulls":3},"Threat",null,"Criticality",null,null,"Vulnerability",{"$nulls":8},"Consequence",{"$nulls":8},{"$f":"SUM(((((J69+S69)/2)*G69)*E69))","v":0}]
[{"$nulls":9},"Exposure",null,null,"Protective Measures",null,null,"Robustness/Resilience",null,null,"Human",null,null,"Economic",null,null,"Psychological"]
[{"$f":"T('Critical-Representative Assets'!B21)","v":"Right of Way (ROW)"},null,{"$f":"T('Critical-Representative Assets'!C21)","v":"CR"},{"$f":"SUM('Critical-Representative Assets'!D21)","v":10},{"v":1,"d":"1.0"},null,{"$f":"SUM('Critical-Representative Assets'!F21)","v":{"v":0,"d":"0.0"}},null,null,{"v":0,"d":"0.0"},null,null,{"v":0,"d":"0.0"},null,null,{"v":0,"d":"0.0"},null,null,{"v":0,"d":"0.0"},null,null,{"v":0,"d":"0.0"},null,null,{"v":0,"d":"0.0"}]
[{"$f":"T('Critical-Representative Assets'!E21)","v":""}]
[{"$nulls":4},{"$f":"SUM(E67)","v":{"v":1,"d":"1.0"}},null,{"$f":"SUM(G67)","v":{"v":0,"d":"0.0"}},null,null,{"$f":"SUM((J67+M67+P67)/3)","v":{"v":0,"d":"0.0"}},{"$nulls":8},{"$f":"SUM(((S67*3)+V67+Y67)/5)","v":{"v":0,"d":"0.0"}}]
[]
[{"$f":"T(A65)","v":"Armed Assault/Active Shooter"},{"$nulls":3},"Threat",null,"Criticality",null,null,"Vulnerability",{"$nulls":8},"Consequence",{"$nulls":8},{"$f":"SUM(((((J75+S75)/2)*G75)*E75))","v":0}]
[{"$nulls":9},"Exposure",null,null,"Protective Measures",null,null,"Robustness/Resilience",null,null,"Human",null,null,"Economic",null,null,"Psychological"]
[{"$f":"T('Critical-Representative Assets'!B22)","v":"Signals & PTC"},null,{"$f":"T('Critical-Representative Assets'!C22)","v":"CR"},{"$f":"SUM('Critical-Representative Assets'!D22)","v":11},{"v":1,"d":"1.0"},null,{"$f":"SUM('Critical-Representative Assets'!F22)","v":{"v":0,"d":"0.0"}},null,null,{"v":0,"d":"0.0"},null,null,{"v":0,"d":"0.0"},null,null,{"v":0,"d":"0.0"},null,null,{"v":0,"d":"0.0"},null,null,{"v":0,"d":"0.0"},null,null,{"v":0,"d":"0.0"}]
[{"$f":"T('Critical-Representative Assets'!E22)","v":""}]
[{"$nulls":4},{"$f":"SUM(E73)","v":{"v":1,"d":"1.0"}},null,{"$f":"SUM(G73)","v":{"v":0,"d":"0.0"}},null,null,{"$f":"SUM((J73+M73+P73)/3)","v":{"v":0,"d":"0.0"}},{"$nulls":8},{"$f":"SUM(((S73*3)+V73+Y73)/5)","v":{"v":0,"d":"0.0"}}]
[]
[{"$f":"T(A71)","v":"Armed Assault/Active Shooter"},{"$nulls":3},"Threat",null,"Criticality",null,null,"Vulnerability",{"$nulls":8},"Consequence",{"$nulls":8},{"$f":"SUM(((((J81+S81)/2)*G81)*E81))","v":0}]
[{"$nulls":9},"Exposure",null,null,"Protective Measures",null,null,"Robustness/Resilience",null,null,"Human",null,null,"Economic",null,null,"Psychological"]
[{"$f":"T('Critical-Representative Assets'!B23)","v":"Switches "},null,{"$f":"T('Critical-Representative Assets'!C23)","v":"CR"},{"$f":"SUM('Critical-Representative Assets'!D23)","v":12},{"v":1,"d":"1.0"},null,{"$f":"SUM('Critical-Representative Assets'!F23)","v":{"v":0,"d":"0.0"}},null,null,{"v":0,"d":"0.0"},null,null,{"v":0,"d":"0.0"},null,null,{"v":0,"d":"0.0"},null,null,{"v":0,"d":"0.0"},null,null,{"v":0,"d":"0.0"},null,null,{"v":0,"d":"0.0"}]
[{"$f":"T('Critical-Representative Assets'!E23)","v":""}]
[{"$nulls":4},{"$f":"SUM(E79)","v":{"v":1,"d":"1.0"}},null,{"$f":"SUM(G79)","v":{"v":0,"d":"0.0"}},null,null,{"$f":"SUM((J79+M79+P79)/3)","v":{"v":0,"d":"0.0"}},{"$nulls":8},{"$f":"SUM(((S79*3)+V79+Y79)/5)","v":{"v":0,"d":"0.0"}}]
[]
[{"$f":"T(A65)","v":"Armed Assault/Active Shooter"},{"$nulls":3},"Threat",null,"Criticality",null,null,"Vulnerability",{"$nulls":8},"Consequence",{"$nulls":8},{"$f":"SUM(((((J87+S87)/2)*G87)*E87))","v":0}]
[{"$nulls":9},"Exposure",null,null,"Protective Measures",null,null,"Robustness/Resilience",null,null,"Human",null,null,"Economic",null,null,"Psychological"]
[{"$f":"T('Critical-Representative Assets'!B24)","v":"Bridges"},null,{"$f":"T('Critical-Representative Assets'!C24)","v":"CR"},{"$f":"SUM('Critical-Representative Assets'!D24)","v":13},{"v":1,"d":"1.0"},null,{"$f":"SUM('Critical-Representative Assets'!F24)","v":{"v":0,"d":"0.0"}},null,null,{"v":0,"d":"0.0"},null,null,{"v":0,"d":"0.0"},null,null,{"v":0,"d":"0.0"},null,null,{"v":0,"d":"0.0"},null,null,{"v":0,"d":"0.0"},null,null,{"v":0,"d":"0.0"}]
[{"$f":"T('Critical-Representative Assets'!E24)","v":""}]
[{"$nulls":4},{"$f":"SUM(E85)","v":{"v":1,"d":"1.0"}},null,{"$f":"SUM(G85)","v":{"v":0,"d":"0.0"}},null,null,{"$f":"SUM((J85+M85+P85)/3)","v":{"v":0,"d":"0.0"}},{"$nulls":8},{"$f":"SUM(((S85*3)+V85+Y85)/5)","v":{"v":0,"d":"0.0"}}]
[]
[{"$f":"T(A83)","v":"Armed Assault/Active Shooter"},{"$nulls":3},"Threat",null,"Criticality",null,null,"Vulnerability",{"$nulls":8},"Consequence",{"$nulls":8},{"$f":"SUM(((((J93+S93)/2)*G93)*E93))","v":0}]
[{"$nulls":9},"Exposure",null,null,"Protective Measures",null,null,"Robustness/Resilience",null,null,"Human",null,null,"Economic",null,null,"Psychological"]
[{"$f":"T('Critical-Representative Assets'!B25)","v":"Elevated Track"},null,{"$f":"T('Critical-Representative Assets'!C25)","v":"CR"},{"$f":"SUM('Critical-Representative Assets'!D25)","v":14},{"v":1,"d":"1.0"},null,{"$f":"SUM('Critical-Representative Assets'!F25)","v":{"v":0,"d":"0.0"}},null,null,{"v":0,"d":"0.0"},null,null,{"v":0,"d":"0.0"},null,null,{"v":0,"d":"0.0"},null,null,{"v":0,"d":"0.0"},null,null,{"v":0,"d":"0.0"},null,null,{"v":0,"d":"0.0"}]
[{"$f":"T('Critical-Representative Assets'!E25)","v":""}]
[{"$nulls":4},{"$f":"SUM(E91)","v":{"v":1,"d":"1.0"}},null,{"$f":"SUM(G91)","v":{"v":0,"d":"0.0"}},null,null,{"$f":"SUM((J91+M91+P91)/3)","v":{"v":0,"d":"0.0"}},{"$nulls":8},{"$f":"SUM(((S91*3)+V91+Y91)/5)","v":{"v":0,"d":"0.0"}}]
[]
[{"$f":"T(A89)","v":"Armed Assault/Active Shooter"},{"$nulls":3},"Threat",null,"Criticality",null,null,"Vulnerability",{"$nulls":8},"Consequence",{"$nulls":8},{"$f":"SUM(((((J99+S99)/2)*G99)*E99))","v":0}]
[{"$nulls":9},"Exposure",null,null,"Protective Measures",null,null,"Robustness/Resilience",null,null,"Human",null,null,"Economic",null,null,"Psychological"]
[{"$f":"T('Critical-Representative Assets'!B26)","v":"Tunnels "},null,{"$f":"T('Critical-Representative Assets'!C26)","v":"CR"},{"$f":"SUM('Critical-Representative Assets'!D26)","v":15},{"v":1,"d":"1.0"},null,{"$f":"SUM('Critical-Representative Assets'!F26)","v":{"v":0,"d":"0.0"}},null,null,{"v":0,"d":"0.0"},null,null,{"v":0,"d":"0.0"},null,null,{"v":0,"d":"0.0"},null,null,{"v":0,"d":"0.0"},null,null,{"v":0,"d":"0.0"},null,null,{"v":0,"d":"0.0"}]
[{"$f":"T('Critical-Representative Assets'!E26)","v":""}]
[{"$nulls":4},{"$f":"SUM(E97)","v":{"v":1,"d":"1.0"}},null,{"$f":"SUM(G97)","v":{"v":0,"d":"0.0"}},null,null,{"$f":"SUM((J97+M97+P97)/3)","v":{"v":0,"d":"0.0"}},{"$nulls":8},{"$f":"SUM(((S97*3)+V97+Y97)/5)","v":{"v":0,"d":"0.0"}}]
[]
[{"$f":"T(A95)","v":"Armed Assault/Active Shooter"},{"$nulls":3},"Threat",null,"Criticality",null,null,"Vulnerability",{"$nulls":8},"Consequence",{"$nulls":8},{"$f":"SUM(((((J105+S105)/2)*G105)*E105))","v":0}]
[{"$nulls":9},"Exposure",null,null,"Protective Measures",null,null,"Robustness/Resilience",null,null,"Human",null,null,"Economic",null,null,"Psychological"]
[{"$f":"T('Critical-Representative Assets'!B27)","v":"Choke Points on ROW"},null,{"$f":"T('Critical-Representative Assets'!C27)","v":"CR"},{"$f":"SUM('Critical-Representative Assets'!D27)","v":16},{"v":1,"d":"1.0"},null,{"$f":"SUM('Critical-Representative Assets'!F27)","v":{"v":0,"d":"0.0"}},null,null,{"v":0,"d":"0.0"},null,null,{"v":0,"d":"0.0"},null,null,{"v":0,"d":"0.0"},null,null,{"v":0,"d":"0.0"},null,null,{"v":0,"d":"0.0"},null,null,{"v":0,"d":"0.0"}]
[{"$f":"T('Critical-Representative Assets'!E27)","v":""}]
[{"$nulls":4},{"$f":"SUM(E103)","v":{"v":1,"d":"1.0"}},null,{"$f":"SUM(G103)","v":{"v":0,"d":"0.0"}},null,null,{"$f":"SUM((J103+M103+P103)/3)","v":{"v":0,"d":"0.0"}},{"$nulls":8},{"$f":"SUM(((S103*3)+V103+Y103)/5)","v":{"v":0,"d":"0.0"}}]
[]
[{"$f":"T(A101)","v":"Armed Assault/Active Shooter"},{"$nulls":3},"Threat",null,"Criticality",null,null,"Vulnerability",{"$nulls":8},"Consequence",{"$nulls":8},{"$f":"SUM(((((J111+S111)/2)*G111)*E111))","v":0}]
[{"$nulls":9},"Exposure",null,null,"Protective Measures",null,null,"Robustness/Resilience",null,null,"Human",null,null,"Economic",null,null,"Psychological"]
[{"$f":"T('Critical-Representative Assets'!B28)","v":"Fire Suppression"},null,{"$f":"T('Critical-Representative Assets'!C28)","v":"CR"},{"$f":"SUM('Critical-Representative Assets'!D28)","v":17},{"v":1,"d":"1.0"},null,{"$f":"SUM('Critical-Representative Assets'!F28)","v":{"v":0,"d":"0.0"}},null,null,{"v":0,"d":"0.0"},null,null,{"v":0,"d":"0.0"},null,null,{"v":0,"d":"0.0"},null,null,{"v":0,"d":"0.0"},null,null,{"v":0,"d":"0.0"},null,null,{"v":0,"d":"0.0"}]
[{"$f":"T('Critical-Representative Assets'!E28)","v":""}]
[{"$nulls":4},{"$f":"SUM(E109)","v":{"v":1,"d":"1.0"}},null,{"$f":"SUM(G109)","v":{"v":0,"d":"0.0"}},null,null,{"$f":"SUM((J109+M109+P109)/3)","v":{"v":0,"d":"0.0"}},{"$nulls":8},{"$f":"SUM(((S109*3)+V109+Y109)/5)","v":{"v":0,"d":"0.0"}}]
[]
[{"$f":"T(A107)","v":"Armed Assault/Active Shooter"},{"$nulls":3},"Threat",null,"Criticality",null,null,"Vulnerability",{"$nulls":8},"Consequence",{"$nulls":8},{"$f":"SUM(((((J117+S117)/2)*G117)*E117))","v":0}]
[{"$nulls":9},"Exposure",null,null,"Protective Measures",null,null,"Robustness/Resilience",null,null,"Human",null,null,"Economic",null,null,"Psychological"]
[{"$f":"T('Critical-Representative Assets'!B29)","v":"Air Handling"},null,{"$f":"T('Critical-Representative Assets'!C29)","v":"CR"},{"$f":"SUM('Critical-Representative Assets'!D29)","v":18},{"v":1,"d":"1.0"},null,{"$f":"SUM('Critical-Representative Assets'!F29)","v":{"v":0,"d":"0.0"}},null,null,{"v":0,"d":"0.0"},null,null,{"v":0,"d":"0.0"},null,null,{"v":0,"d":"0.0"},null,null,{"v":0,"d":"0.0"},null,null,{"v":0,"d":"0.0"},null,null,{"v":0,"d":"0.0"}]
[{"$f":"T('Critical-Representative Assets'!E29)","v":""}]
[{"$nulls":4},{"$f":"SUM(E115)","v":{"v":1,"d":"1.0"}},null,{"$f":"SUM(G115)","v":{"v":0,"d":"0.0"}},null,null,{"$f":"SUM((J115+M115+P115)/3)","v":{"v":0,"d":"0.0"}},{"$nulls":8},{"$f":"SUM(((S115*3)+V115+Y115)/5)","v":{"v":0,"d":"0.0"}}]
[]
[{"$f":"T(A113)","v":"Armed Assault/Active Shooter"},{"$nulls":3},"Threat",null,"Criticality",null,null,"Vulnerability",{"$nulls":8},"Consequence",{"$nulls":8},{"$f":"SUM(((((J123+S123)/2)*G123)*E123))","v":0}]
[{"$nulls":9},"Exposure",null,null,"Protective Measures",null,null,"Robustness/Resilience",null,null,"Human",null,null,"Economic",null,null,"Psychological"]
[{"$f":"T('Critical-Representative Assets'!B30)","v":"Power Generation/Distribution"},null,{"$f":"T('Critical-Representative Assets'!C30)","v":"CR"},{"$f":"SUM('Critical-Representative Assets'!D30)","v":19},{"v":1,"d":"1.0"},null,{"$f":"SUM('Critical-Representative Assets'!F30)","v":{"v":0,"d":"0.0"}},null,null,{"v":0,"d":"0.0"},null,null,{"v":0,"d":"0.0"},null,null,{"v":0,"d":"0.0"},null,null,{"v":0,"d":"0.0"},null,null,{"v":0,"d":"0.0"},null,null,{"v":0,"d":"0.0"}]
[{"$f":"T('Critical-Representative Assets'!E30)","v":""}]
[{"$nulls":4},{"$f":"SUM(E121)","v":{"v":1,"d":"1.0"}},null,{"$f":"SUM(G121)","v":{"v":0,"d":"0.0"}},null,null,{"$f":"SUM((J121+M121+P121)/3)","v":{"v":0,"d":"0.0"}},{"$nulls":8},{"$f":"SUM(((S121*3)+V121+Y121)/5)","v":{"v":0,"d":"0.0"}}]
[]
[{"$f":"T(A119)","v":"Armed Assault/Active Shooter"},{"$nulls":3},"Threat",null,"Criticality",null,null,"Vulnerability",{"$nulls":8},"Consequence",{"$nulls":8},{"$f":"SUM(((((J129+S129)/2)*G129)*E129))","v":0}]
[{"$nulls":9},"Exposure",null,null,"Protective Measures",null,null,"Robustness/Resilience",null,null,"Human",null,null,"Economic",null,null,"Psychological"]
[{"$f":"T('Critical-Representative Assets'!B31)","v":"Yards"},null,{"$f":"T('Critical-Representative Assets'!C31)","v":"CR"},{"$f":"SUM('Critical-Representative Assets'!D31)","v":20},{"v":1,"d":"1.0"},null,{"$f":"SUM('Critical-Representative Assets'!F31)","v":{"v":0,"d":"0.0"}},null,null,{"v":0,"d":"0.0"},null,null,{"v":0,"d":"0.0"},null,null,{"v":0,"d":"0.0"},null,null,{"v":0,"d":"0.0"},null,null,{"v":0,"d":"0.0"},null,null,{"v":0,"d":"0.0"}]
[{"$f":"T('Critical-Representative Assets'!E31)","v":""}]
[{"$nulls":4},{"$f":"SUM(E127)","v":{"v":1,"d":"1.0"}},null,{"$f":"SUM(G127)","v":{"v":0,"d":"0.0"}},null,null,{"$f":"SUM((J127+M127+P127)/3)","v":{"v":0,"d":"0.0"}},{"$nulls":8},{"$f":"SUM(((S127*3)+V127+Y127)/5)","v":{"v":0,"d":"0.0"}}]
[]
[{"$f":"T(A125)","v":"Armed Assault/Active Shooter"},{"$nulls":3},"Threat",null,"Criticality",null,null,"Vulnerability",{"$nulls":8},"Consequence",{"$nulls":8},{"$f":"SUM(((((J135+S135)/2)*G135)*E135))","v":0}]
[{"$nulls":9},"Exposure",null,null,"Protective Measures",null,null,"Robustness/Resilience",null,null,"Human",null,null,"Economic",null,null,"Psychological"]
[{"$f":"T('Critical-Representative Assets'!B32)","v":"Maintenance Barns/Facilities"},null,{"$f":"T('Critical-Representative Assets'!C32)","v":"CR"},{"$f":"SUM('Critical-Representative Assets'!D32)","v":21},{"v":1,"d":"1.0"},null,{"$f":"SUM('Critical-Representative Assets'!F32)","v":{"v":0,"d":"0.0"}},null,null,{"v":0,"d":"0.0"},null,null,{"v":0,"d":"0.0"},null,null,{"v":0,"d":"0.0"},null,null,{"v":0,"d":"0.0"},null,null,{"v":0,"d":"0.0"},null,null,{"v":0,"d":"0.0"}]
[{"$f":"T('Critical-Representative Assets'!E32)","v":""}]
[{"$nulls":4},{"$f":"SUM(E133)","v":{"v":1,"d":"1.0"}},null,{"$f":"SUM(G133)","v":{"v":0,"d":"0.0"}},null,null,{"$f":"SUM((J133+M133+P133)/3)","v":{"v":0,"d":"0.0"}},{"$nulls":8},{"$f":"SUM(((S133*3)+V133+Y133)/5)","v":{"v":0,"d":"0.0"}}]
[]
[{"$f":"T(Definitions!D20)","v":" VBIED or IED"}]
[{"$f":"T(A137)","v":" VBIED or IED"},{"$nulls":3},"Threat",null,"Criticality",null,null,"Vulnerability",{"$nulls":8},"Consequence",{"$nulls":8},{"$f":"SUM(((((J142+S142)/2)*G142)*E142))","v":0}]
[{"$nulls":9},"Exposure",null,null,"Protective Measures",null,null,"Robustness/Resilience",null,null,"Human",null,null,"Economic",null,null,"Psychological"]
[{"$f":"T(A13)","v":"Headquarters Building"},null,{"$f":"T(C13)","v":"CR"},{"$f":"SUM(D13)","v":1},{"v":1,"d":"1.0"},null,{"$f":"SUM(G13)","v":{"v":0,"d":"0.0"}},null,null,{"v":0,"d":"0.0"},null,null,{"v":0,"d":"0.0"},null,null,{"v":0,"d":"0.0"},null,null,{"v":0,"d":"0.0"},null,null,{"v":0,"d":"0.0"},null,null,{"v":0,"d":"0.0"}]
[{"$f":"T(A14)","v":""}]
[{"$nulls":4},{"$f":"SUM(E140)","v":{"v":1,"d":"1.0"}},null,{"$f":"SUM(G140)","v":{"v":0,"d":"0.0"}},null,null,{"$f":"SUM((J140+M140+P140)/3)","v":{"v":0,"d":"0.0"}},{"$nulls":8},{"$f":"SUM(((S140*3)+V140+Y140)/5)","v":{"v":0,"d":"0.0"}}]
[]
[{"$f":"T(A137)","v":" VBIED or IED"},{"$nulls":3},"Threat",null,"Criticality",null,null,"Vulnerability",{"$nulls":8},"Consequence",{"$nulls":8},{"$f":"SUM(((((J148+S148)/2)*G148)*E148))","v":0}]
[{"$nulls":9},"Exposure",null,null,"Protective Measures",null,null,"Robustness/Resilience",null,null,"Human",null,null,"Economic",null,null,"Psychological"]
[{"$f":"T(A19)","v":"Major Passenger Terminals"},null,{"$f":"T(C19)","v":"CR"},{"$f":"SUM(D19)","v":2},{"v":1,"d":"1.0"},null,{"$f":"SUM(G19)","v":{"v":0,"d":"0.0"}},null,null,{"v":0,"d":"0.0"},null,null,{"v":0,"d":"0.0"},null,null,{"v":0,"d":"0.0"},null,null,{"v":0,"d":"0.0"},null,null,{"v":0,"d":"0.0"},null,null,{"v":0,"d":"0.0"}]
[{"$f":"T(A20)","v":""}]
[{"$nulls":4},{"$f":"SUM(E146)","v":{"v":1,"d":"1.0"}},null,{"$f":"SUM(G146)","v":{"v":0,"d":"0.0"}},null,null,{"$f":"SUM((J146+M146+P146)/3)","v":{"v":0,"d":"0.0"}},{"$nulls":8},{"$f":"SUM(((S146*3)+V146+Y146)/5)","v":{"v":0,"d":"0.0"}}]
[]
[{"$f":"T(A144)","v":" VBIED or IED"},{"$nulls":3},"Threat",null,"Criticality",null,null,"Vulnerability",{"$nulls":8},"Consequence",{"$nulls":8},{"$f":"SUM(((((J154+S154)/2)*G154)*E154))","v":0}]
[{"$nulls":9},"Exposure",null,null,"Protective Measures",null,null,"Robustness/Resilience",null,null,"Human",null,null,"Economic",null,null,"Psychological"]
[{"$f":"T(A25)","v":"Major Line Stations"},null,{"$f":"T(C25)","v":"CR"},{"$f":"SUM(D25)","v":3},{"v":1,"d":"1.0"},null,{"$f":"SUM(G25)","v":{"v":0,"d":"0.0"}},null,null,{"v":0,"d":"0.0"},null,null,{"v":0,"d":"0.0"},null,null,{"v":0,"d":"0.0"},null,null,{"v":0,"d":"0.0"},null,null,{"v":0,"d":"0.0"},null,null,{"v":0,"d":"0.0"}]
[{"$f":"T(A26)","v":""}]
[{"$nulls":4},{"$f":"SUM(E152)","v":{"v":1,"d":"1.0"}},null,{"$f":"SUM(G152)","v":{"v":0,"d":"0.0"}},null,null,{"$f":"SUM((J152+M152+P152)/3)","v":{"v":0,"d":"0.0"}},{"$nulls":8},{"$f":"SUM(((S152*3)+V152+Y152)/5)","v":{"v":0,"d":"0.0"}}]
[]
[{"$f":"T(A150)","v":" VBIED or IED"},{"$nulls":3},"Threat",null,"Criticality",null,null,"Vulnerability",{"$nulls":8},"Consequence",{"$nulls":8},{"$f":"SUM(((((J160+S160)/2)*G160)*E160))","v":0}]
[{"$nulls":9},"Exposure",null,null,"Protective Measures",null,null,"Robustness/Resilience",null,null,"Human",null,null,"Economic",null,null,"Psychological"]
[{"$f":"T(A31)","v":"Parking Structures"},null,{"$f":"T(C31)","v":"CR"},{"$f":"SUM(D31)","v":4},{"v":1,"d":"1.0"},null,{"$f":"SUM(G31)","v":{"v":0,"d":"0.0"}},null,null,{"v":0,"d":"0.0"},null,null,{"v":0,"d":"0.0"},null,null,{"v":0,"d":"0.0"},null,null,{"v":0,"d":"0.0"},null,null,{"v":0,"d":"0.0"},null,null,{"v":0,"d":"0.0"}]
[{"$f":"T(A32)","v":""}]
[{"$nulls":4},{"$f":"SUM(E158)","v":{"v":1,"d":"1.0"}},null,{"$f":"SUM(G158)","v":{"v":0,"d":"0.0"}},null,null,{"$f":"SUM((J158+M158+P158)/3)","v":{"v":0,"d":"0.0"}},{"$nulls":8},{"$f":"SUM(((S158*3)+V158+Y158)/5)","v":{"v":0,"d":"0.0"}}]
[]
[{"$f":"T(A156)","v":" VBIED or IED"},{"$nulls":3},"Threat",null,"Criticality",null,null,"Vulnerability",{"$nulls":8},"Consequence",{"$nulls":8},{"$f":"SUM(((((J166+S166)/2)*G166)*E166))","v":0}]
[{"$nulls":9},"Exposure",null,null,"Protective Measures",null,null,"Robustness/Resilience",null,null,"Human",null,null,"Economic",null,null,"Psychological"]
[{"$f":"T(A37)","v":"Consist - Type 1"},null,{"$f":"T(C37)","v":"CR"},{"$f":"SUM(D37)","v":5},{"v":1,"d":"1.0"},null,{"$f":"SUM(G37)","v":{"v":0,"d":"0.0"}},null,null,{"v":0,"d":"0.0"},null,null,{"v":0,"d":"0.0"},null,null,{"v":0,"d":"0.0"},null,null,{"v":0,"d":"0.0"},null,null,{"v":0,"d":"0.0"},null,null,{"v":0,"d":"0.0"}]
[{"$f":"T(A38)","v":""}]
[{"$nulls":4},{"$f":"SUM(E164)","v":{"v":1,"d":"1.0"}},null,{"$f":"SUM(G164)","v":{"v":0,"d":"0.0"}},null,null,{"$f":"SUM((J164+M164+P164)/3)","v":{"v":0,"d":"0.0"}},{"$nulls":8},{"$f":"SUM(((S164*3)+V164+Y164)/5)","v":{"v":0,"d":"0.0"}}]
[]
[{"$f":"T(A162)","v":" VBIED or IED"},{"$nulls":3},"Threat",null,"Criticality",null,null,"Vulnerability",{"$nulls":8},"Consequence",{"$nulls":8},{"$f":"SUM(((((J172+S172)/2)*G172)*E172))","v":0}]
[{"$nulls":9},"Exposure",null,null,"Protective Measures",null,null,"Robustness/Resilience",null,null,"Human",null,null,"Economic",null,null,"Psychological"]
[{"$f":"T(A43)","v":"Consist - Type 2"},null,{"$f":"T(C43)","v":"CR"},{"$f":"SUM(D43)","v":6},{"v":1,"d":"1.0"},null,{"$f":"SUM(G43)","v":{"v":0,"d":"0.0"}},null,null,{"v":0,"d":"0.0"},null,null,{"v":0,"d":"0.0"},null,null,{"v":0,"d":"0.0"},null,null,{"v":0,"d":"0.0"},null,null,{"v":0,"d":"0.0"},null,null,{"v":0,"d":"0.0"}]
[{"$f":"T(A44)","v":""}]
[{"$nulls":4},{"$f":"SUM(E170)","v":{"v":1,"d":"1.0"}},null,{"$f":"SUM(G170)","v":{"v":0,"d":"0.0"}},null,null,{"$f":"SUM((J170+M170+P170)/3)","v":{"v":0,"d":"0.0"}},{"$nulls":8},{"$f":"SUM(((S170*3)+V170+Y170)/5)","v":{"v":0,"d":"0.0"}}]
[]
[{"$f":"T(A168)","v":" VBIED or IED"},{"$nulls":3},"Threat",null,"Criticality",null,null,"Vulnerability",{"$nulls":8},"Consequence",{"$nulls":8},{"$f":"SUM(((((J178+S178)/2)*G178)*E178))","v":0}]
[{"$nulls":9},"Exposure",null,null,"Protective Measures",null,null,"Robustness/Resilience",null,null,"Human",null,null,"Economic",null,null,"Psychological"]
[{"$f":"T(A49)","v":"Primary Control Center"},null,{"$f":"T(C49)","v":"CR"},{"$f":"SUM(D49)","v":7},{"v":1,"d":"1.0"},null,{"$f":"SUM(G49)","v":{"v":0,"d":"0.0"}},null,null,{"v":0,"d":"0.0"},null,null,{"v":0,"d":"0.0"},null,null,{"v":0,"d":"0.0"},null,null,{"v":0,"d":"0.0"},null,null,{"v":0,"d":"0.0"},null,null,{"v":0,"d":"0.0"}]
[{"$f":"T(A50)","v":""}]
[{"$nulls":4},{"$f":"SUM(E176)","v":{"v":1,"d":"1.0"}},null,{"$f":"SUM(G176)","v":{"v":0,"d":"0.0"}},null,null,{"$f":"SUM((J176+M176+P176)/3)","v":{"v":0,"d":"0.0"}},{"$nulls":8},{"$f":"SUM(((S176*3)+V176+Y176)/5)","v":{"v":0,"d":"0.0"}}]
[]
[{"$f":"T(A174)","v":" VBIED or IED"},{"$nulls":3},"Threat",null,"Criticality",null,null,"Vulnerability",{"$nulls":8},"Consequence",{"$nulls":8},{"$f":"SUM(((((J184+S184)/2)*G184)*E184))","v":0}]
[{"$nulls":9},"Exposure",null,null,"Protective Measures",null,null,"Robustness/Resilience",null,null,"Human",null,null,"Economic",null,null,"Psychological"]
[{"$f":"T(A55)","v":"Control Towers"},null,{"$f":"T(C55)","v":"CR"},{"$f":"SUM(D55)","v":8},{"v":1,"d":"1.0"},null,{"$f":"SUM(G55)","v":{"v":0,"d":"0.0"}},null,null,{"v":0,"d":"0.0"},null,null,{"v":0,"d":"0.0"},null,null,{"v":0,"d":"0.0"},null,null,{"v":0,"d":"0.0"},null,null,{"v":0,"d":"0.0"},null,null,{"v":0,"d":"0.0"}]
[{"$f":"T(A56)","v":""}]
[{"$nulls":4},{"$f":"SUM(E182)","v":{"v":1,"d":"1.0"}},null,{"$f":"SUM(G182)","v":{"v":0,"d":"0.0"}},null,null,{"$f":"SUM((J182+M182+P182)/3)","v":{"v":0,"d":"0.0"}},{"$nulls":8},{"$f":"SUM(((S182*3)+V182+Y182)/5)","v":{"v":0,"d":"0.0"}}]
[]
[{"$f":"T(A180)","v":" VBIED or IED"},{"$nulls":3},"Threat",null,"Criticality",null,null,"Vulnerability",{"$nulls":8},"Consequence",{"$nulls":8},{"$f":"SUM(((((J190+S190)/2)*G190)*E190))","v":0}]
[{"$nulls":9},"Exposure",null,null,"Protective Measures",null,null,"Robustness/Resilience",null,null,"Human",null,null,"Economic",null,null,"Psychological"]
[{"$f":"T(A61)","v":"Cyber Systems"},null,{"$f":"T(C61)","v":"CR"},{"$f":"SUM(D61)","v":9},{"v":1,"d":"1.0"},null,{"$f":"SUM(G61)","v":{"v":0,"d":"0.0"}},null,null,{"v":0,"d":"0.0"},null,null,{"v":0,"d":"0.0"},null,null,{"v":0,"d":"0.0"},null,null,{"v":0,"d":"0.0"},null,null,{"v":0,"d":"0.0"},null,null,{"v":0,"d":"0.0"}]
[{"$f":"T(A62)","v":""}]
[{"$nulls":4},{"$f":"SUM(E188)","v":{"v":1,"d":"1.0"}},null,{"$f":"SUM(G188)","v":{"v":0,"d":"0.0"}},null,null,{"$f":"SUM((J188+M188+P188)/3)","v":{"v":0,"d":"0.0"}},{"$nulls":8},{"$f":"SUM(((S188*3)+V188+Y188)/5)","v":{"v":0,"d":"0.0"}}]
[]
[{"$f":"T(A186)","v":" VBIED or IED"},{"$nulls":3},"Threat",null,"Criticality",null,null,"Vulnerability",{"$nulls":8},"Consequence",{"$nulls":8},{"$f":"SUM(((((J196+S196)/2)*G196)*E196))","v":0}]
[{"$nulls":9},"Exposure",null,null,"Protective Measures",null,null,"Robustness/Resilience",null,null,"Human",null,null,"Economic",null,null,"Psychological"]
[{"$f":"T(A67)","v":"Right of Way (ROW)"},null,{"$f":"T(C67)","v":"CR"},{"$f":"SUM(D67)","v":10},{"v":1,"d":"1.0"},null,{"$f":"SUM(G67)","v":{"v":0,"d":"0.0"}},null,null,{"v":0,"d":"0.0"},null,null,{"v":0,"d":"0.0"},null,null,{"v":0,"d":"0.0"},null,null,{"v":0,"d":"0.0"},null,null,{"v":0,"d":"0.0"},null,null,{"v":0,"d":"0.0"}]
[{"$f":"T(A68)","v":""}]
[{"$nulls":4},{"$f":"SUM(E194)","v":{"v":1,"d":"1.0"}},null,{"$f":"SUM(G194)","v":{"v":0,"d":"0.0"}},null,null,{"$f":"SUM((J194+M194+P194)/3)","v":{"v":0,"d":"0.0"}},{"$nulls":8},{"$f":"SUM(((S194*3)+V194+Y194)/5)","v":{"v":0,"d":"0.0"}}]
[]
[{"$f":"T(A192)","v":" VBIED or IED"},{"$nulls":3},"Threat",null,"Criticality",null,null,"Vulnerability",{"$nulls":8},"Consequence",{"$nulls":8},{"$f":"SUM(((((J202+S202)/2)*G202)*E202))","v":0}]
[{"$nulls":9},"Exposure",null,null,"Protective Measures",null,null,"Robustness/Resilience",null,null,"Human",null,null,"Economic",null,null,"Psychological"]
[{"$f":"T(A73)","v":"Signals & PTC"},null,{"$f":"T(C73)","v":"CR"},{"$f":"SUM(D73)","v":11},{"v":1,"d":"1.0"},null,{"$f":"SUM(G73)","v":{"v":0,"d":"0.0"}},null,null,{"v":0,"d":"0.0"},null,null,{"v":0,"d":"0.0"},null,null,{"v":0,"d":"0.0"},null,null,{"v":0,"d":"0.0"},null,null,{"v":0,"d":"0.0"},null,null,{"v":0,"d":"0.0"}]
[{"$f":"T(A74)","v":""}]
[{"$nulls":4},{"$f":"SUM(E200)","v":{"v":1,"d":"1.0"}},null,{"$f":"SUM(G200)","v":{"v":0,"d":"0.0"}},null,null,{"$f":"SUM((J200+M200+P200)/3)","v":{"v":0,"d":"0.0"}},{"$nulls":8},{"$f":"SUM(((S200*3)+V200+Y200)/5)","v":{"v":0,"d":"0.0"}}]
[]
[{"$f":"T(A198)","v":" VBIED or IED"},{"$nulls":3},"Threat",null,"Criticality",null,null,"Vulnerability",{"$nulls":8},"Consequence",{"$nulls":8},{"$f":"SUM(((((J208+S208)/2)*G208)*E208))","v":0}]
[{"$nulls":9},"Exposure",null,null,"Protective Measures",null,null,"Robustness/Resilience",null,null,"Human",null,null,"Economic",null,null,"Psychological"]
[{"$f":"T(A79)","v":"Switches "},null,{"$f":"T(C79)","v":"CR"},{"$f":"SUM(D79)","v":12},{"v":1,"d":"1.0"},null,{"$f":"SUM(G79)","v":{"v":0,"d":"0.0"}},null,null,{"v":0,"d":"0.0"},null,null,{"v":0,"d":"0.0"},null,null,{"v":0,"d":"0.0"},null,null,{"v":0,"d":"0.0"},null,null,{"v":0,"d":"0.0"},null,null,{"v":0,"d":"0.0"}]
[{"$f":"T(A80)","v":""}]
[{"$nulls":4},{"$f":"SUM(E206)","v":{"v":1,"d":"1.0"}},null,{"$f":"SUM(G206)","v":{"v":0,"d":"0.0"}},null,null,{"$f":"SUM((J206+M206+P206)/3)","v":{"v":0,"d":"0.0"}},{"$nulls":8},{"$f":"SUM(((S206*3)+V206+Y206)/5)","v":{"v":0,"d":"0.0"}}]
[]
[{"$f":"T(A204)","v":" VBIED or IED"},{"$nulls":3},"Threat",null,"Criticality",null,null,"Vulnerability",{"$nulls":8},"Consequence",{"$nulls":8},{"$f":"SUM(((((J214+S214)/2)*G214)*E214))","v":0}]
[{"$nulls":9},"Exposure",null,null,"Protective Measures",null,null,"Robustness/Resilience",null,null,"Human",null,null,"Economic",null,null,"Psychological"]
[{"$f":"T(A85)","v":"Bridges"},null,{"$f":"T(C85)","v":"CR"},{"$f":"SUM(D85)","v":13},{"v":1,"d":"1.0"},null,{"$f":"SUM(G85)","v":{"v":0,"d":"0.0"}},null,null,{"v":0,"d":"0.0"},null,null,{"v":0,"d":"0.0"},null,null,{"v":0,"d":"0.0"},null,null,{"v":0,"d":"0.0"},null,null,{"v":0,"d":"0.0"},null,null,{"v":0,"d":"0.0"}]
[{"$f":"T(A86)","v":""}]
[{"$nulls":4},{"$f":"SUM(E212)","v":{"v":1,"d":"1.0"}},null,{"$f":"SUM(G212)","v":{"v":0,"d":"0.0"}},null,null,{"$f":"SUM((J212+M212+P212)/3)","v":{"v":0,"d":"0.0"}},{"$nulls":8},{"$f":"SUM(((S212*3)+V212+Y212)/5)","v":{"v":0,"d":"0.0"}}]
[]
[{"$f":"T(A210)","v":" VBIED or IED"},{"$nulls":3},"Threat",null,"Criticality",null,null,"Vulnerability",{"$nulls":8},"Consequence",{"$nulls":8},{"$f":"SUM(((((J220+S220)/2)*G220)*E220))","v":0}]
[{"$nulls":9},"Exposure",null,null,"Protective Measures",null,null,"Robustness/Resilience",null,null,"Human",null,null,"Economic",null,null,"Psychological"]
[{"$f":"T(A91)","v":"Elevated Track"},null,{"$f":"T(C91)","v":"CR"},{"$f":"SUM(D91)","v":14},{"v":1,"d":"1.0"},null,{"$f":"SUM(G91)","v":{"v":0,"d":"0.0"}},null,null,{"v":0,"d":"0.0"},null,null,{"v":0,"d":"0.0"},null,null,{"v":0,"d":"0.0"},null,null,{"v":0,"d":"0.0"},null,null,{"v":0,"d":"0.0"},null,null,{"v":0,"d":"0.0"}]
[{"$f":"T(A92)","v":""}]
[{"$nulls":4},{"$f":"SUM(E218)","v":{"v":1,"d":"1.0"}},null,{"$f":"SUM(G218)","v":{"v":0,"d":"0.0"}},null,null,{"$f":"SUM((J218+M218+P218)/3)","v":{"v":0,"d":"0.0"}},{"$nulls":8},{"$f":"SUM(((S218*3)+V218+Y218)/5)","v":{"v":0,"d":"0.0"}}]
[]
[{"$f":"T(A216)","v":" VBIED or IED"},{"$nulls":3},"Threat",null,"Criticality",null,null,"Vulnerability",{"$nulls":8},"Consequence",{"$nulls":8},{"$f":"SUM(((((J226+S226)/2)*G226)*E226))","v":0}]
[{"$nulls":9},"Exposure",null,null,"Protective Measures",null,null,"Robustness/Resilience",null,null,"Human",null,null,"Economic",null,null,"Psychological"]
[{"$f":"T(A97)","v":"Tunnels "},null,{"$f":"T(C97)","v":"CR"},{"$f":"SUM(D97)","v":15},{"v":1,"d":"1.0"},null,{"$f":"SUM(G97)","v":{"v":0,"d":"0.0"}},null,null,{"v":0,"d":"0.0"},null,null,{"v":0,"d":"0.0"},null,null,{"v":0,"d":"0.0"},null,null,{"v":0,"d":"0.0"},null,null,{"v":0,"d":"0.0"},null,null,{"v":0,"d":"0.0"}]
[{"$f":"T(A98)","v":""}]
[{"$nulls":4},{"$f":"SUM(E224)","v":{"v":1,"d":"1.0"}},null,{"$f":"SUM(G224)","v":{"v":0,"d":"0.0"}},null,null,{"$f":"SUM((J224+M224+P224)/3)","v":{"v":0,"d":"0.0"}},{"$nulls":8},{"$f":"SUM(((S224*3)+V224+Y224)/5)","v":{"v":0,"d":"0.0"}}]
[]
[{"$f":"T(A222)","v":" VBIED or IED"},{"$nulls":3},"Threat",null,"Criticality",null,null,"Vulnerability",{"$nulls":8},"Consequence",{"$nulls":8},{"$f":"SUM(((((J232+S232)/2)*G232)*E232))","v":0}]
[{"$nulls":9},"Exposure",null,null,"Protective Measures",null,null,"Robustness/Resilience",null,null,"Human",null,null,"Economic",null,null,"Psychological"]
[{"$f":"T(A103)","v":"Choke Points on ROW"},null,{"$f":"T(C103)","v":"CR"},{"$f":"SUM(D103)","v":16},{"v":1,"d":"1.0"},null,{"$f":"SUM(G103)","v":{"v":0,"d":"0.0"}},null,null,{"v":0,"d":"0.0"},null,null,{"v":0,"d":"0.0"},null,null,{"v":0,"d":"0.0"},null,null,{"v":0,"d":"0.0"},null,null,{"v":0,"d":"0.0"},null,null,{"v":0,"d":"0.0"}]
[{"$f":"T(A104)","v":""}]
[{"$nulls":4},{"$f":"SUM(E230)","v":{"v":1,"d":"1.0"}},null,{"$f":"SUM(G230)","v":{"v":0,"d":"0.0"}},null,null,{"$f":"SUM((J230+M230+P230)/3)","v":{"v":0,"d":"0.0"}},{"$nulls":8},{"$f":"SUM(((S230*3)+V230+Y230)/5)","v":{"v":0,"d":"0.0"}}]
[]
[{"$f":"T(A228)","v":" VBIED or IED"},{"$nulls":3},"Threat",null,"Criticality",null,null,"Vulnerability",{"$nulls":8},"Consequence",{"$nulls":8},{"$f":"SUM(((((J238+S238)/2)*G238)*E238))","v":0}]
[{"$nulls":9},"Exposure",null,null,"Protective Measures",null,null,"Robustness/Resilience",null,null,"Human",null,null,"Economic",null,null,"Psychological"]
[{"$f":"T(A109)","v":"Fire Suppression"},null,{"$f":"T(C109)","v":"CR"},{"$f":"SUM(D109)","v":17},{"v":1,"d":"1.0"},null,{"$f":"SUM(G109)","v":{"v":0,"d":"0.0"}},null,null,{"v":0,"d":"0.0"},null,null,{"v":0,"d":"0.0"},null,null,{"v":0,"d":"0.0"},null,null,{"v":0,"d":"0.0"},null,null,{"v":0,"d":"0.0"},null,null,{"v":0,"d":"0.0"}]
[{"$f":"T(A110)","v":""}]
[{"$nulls":4},{"$f":"SUM(E236)","v":{"v":1,"d":"1.0"}},null,{"$f":"SUM(G236)","v":{"v":0,"d":"0.0"}},null,null,{"$f":"SUM((J236+M236+P236)/3)","v":{"v":0,"d":"0.0"}},{"$nulls":8},{"$f":"SUM(((S236*3)+V236+Y236)/5)","v":{"v":0,"d":"0.0"}}]
[]
[{"$f":"T(A234)","v":" VBIED or IED"},{"$nulls":3},"Threat",null,"Criticality",null,null,"Vulnerability",{"$nulls":8},"Consequence",{"$nulls":8},{"$f":"SUM(((((J244+S244)/2)*G244)*E244))","v":0}]
[{"$nulls":9},"Exposure",null,null,"Protective Measures",null,null,"Robustness/Resilience",null,null,"Human",null,null,"Economic",null,null,"Psychological"]
[{"$f":"T(A115)","v":"Air Handling"},null,{"$f":"T(C115)","v":"CR"},{"$f":"SUM(D115)","v":18},{"v":1,"d":"1.0"},null,{"$f":"SUM(G115)","v":{"v":0,"d":"0.0"}},null,null,{"v":0,"d":"0.0"},null,null,{"v":0,"d":"0.0"},null,null,{"v":0,"d":"0.0"},null,null,{"v":0,"d":"0.0"},null,null,{"v":0,"d":"0.0"},null,null,{"v":0,"d":"0.0"}]
[{"$f":"T(A116)","v":""}]
[{"$nulls":4},{"$f":"SUM(E242)","v":{"v":1,"d":"1.0"}},null,{"$f":"SUM(G242)","v":{"v":0,"d":"0.0"}},null,null,{"$f":"SUM((J242+M242+P242)/3)","v":{"v":0,"d":"0.0"}},{"$nulls":8},{"$f":"SUM(((S242*3)+V242+Y242)/5)","v":{"v":0,"d":"0.0"}}]
[]
[{"$f":"T(A240)","v":" VBIED or IED"},{"$nulls":3},"Threat",null,"Criticality",null,null,"Vulnerability",{"$nulls":8},"Consequence",{"$nulls":8},{"$f":"SUM(((((J250+S250)/2)*G250)*E250))","v":0}]
[{"$nulls":9},"Exposure",null,null,"Protective Measures",null,null,"Robustness/Resilience",null,null,"Human",null,null,"Economic",null,null,"Psychological"]
[{"$f":"T(A121)","v":"Power Generation/Distribution"},null,{"$f":"T(C121)","v":"CR"},{"$f":"SUM(D121)","v":19},{"v":1,"d":"1.0"},null,{"$f":"SUM(G121)","v":{"v":0,"d":"0.0"}},null,null,{"v":0,"d":"0.0"},null,null,{"v":0,"d":"0.0"},null,null,{"v":0,"d":"0.0"},null,null,{"v":0,"d":"0.0"},null,null,{"v":0,"d":"0.0"},null,null,{"v":0,"d":"0.0"}]
[{"$f":"T(A122)","v":""}]
[{"$nulls":4},{"$f":"SUM(E248)","v":{"v":1,"d":"1.0"}},null,{"$f":"SUM(G248)","v":{"v":0,"d":"0.0"}},null,null,{"$f":"SUM((J248+M248+P248)/3)","v":{"v":0,"d":"0.0"}},{"$nulls":8},{"$f":"SUM(((S248*3)+V248+Y248)/5)","v":{"v":0,"d":"0.0"}}]
[]
[{"$f":"T(A246)","v":" VBIED or IED"},{"$nulls":3},"Threat",null,"Criticality",null,null,"Vulnerability",{"$nulls":8},"Consequence",{"$nulls":8},{"$f":"SUM(((((J256+S256)/2)*G256)*E256))","v":0}]
[{"$nulls":9},"Exposure",null,null,"Protective Measures",null,null,"Robustness/Resilience",null,null,"Human",null,null,"Economic",null,null,"Psychological"]
[{"$f":"T(A127)","v":"Yards"},null,{"$f":"T(C127)","v":"CR"},{"$f":"SUM(D127)","v":20},{"v":1,"d":"1.0"},null,{"$f":"SUM(G127)","v":{"v":0,"d":"0.0"}},null,null,{"v":0,"d":"0.0"},null,null,{"v":0,"d":"0.0"},null,null,{"v":0,"d":"0.0"},null,null,{"v":0,"d":"0.0"},null,null,{"v":0,"d":"0.0"},null,null,{"v":0,"d":"0.0"}]
[{"$f":"T(A128)","v":""}]
[{"$nulls":4},{"$f":"SUM(E254)","v":{"v":1,"d":"1.0"}},null,{"$f":"SUM(G254)","v":{"v":0,"d":"0.0"}},null,null,{"$f":"SUM((J254+M254+P254)/3)","v":{"v":0,"d":"0.0"}},{"$nulls":8},{"$f":"SUM(((S254*3)+V254+Y254)/5)","v":{"v":0,"d":"0.0"}}]
[]
[{"$f":"T(A252)","v":" VBIED or IED"},{"$nulls":3},"Threat",null,"Criticality",null,null,"Vulnerability",{"$nulls":8},"Consequence",{"$nulls":8},{"$f":"SUM(((((J262+S262)/2)*G262)*E262))","v":0}]
[{"$nulls":9},"Exposure",null,null,"Protective Measures",null,null,"Robustness/Resilience",null,null,"Human",null,null,"Economic",null,null,"Psychological"]
[{"$f":"T(A133)","v":"Maintenance Barns/Facilities"},null,{"$f":"T(C133)","v":"CR"},{"$f":"SUM(D133)","v":21},{"v":1,"d":"1.0"},null,{"$f":"SUM(G133)","v":{"v":0,"d":"0.0"}},null,null,{"v":0,"d":"0.0"},null,null,{"v":0,"d":"0.0"},null,null,{"v":0,"d":"0.0"},null,null,{"v":0,"d":"0.0"},null,null,{"v":0,"d":"0.0"},null,null,{"v":0,"d":"0.0"}]
[{"$f":"T(A134)","v":""}]
[{"$nulls":4},{"$f":"SUM(E260)","v":{"v":1,"d":"1.0"}},null,{"$f":"SUM(G260)","v":{"v":0,"d":"0.0"}},null,null,{"$f":"SUM((J260+M260+P260)/3)","v":{"v":0,"d":"0.0"}},{"$nulls":8},{"$f":"SUM(((S260*3)+V260+Y260)/5)","v":{"v":0,"d":"0.0"}}]
[]
[{"$f":"T(Definitions!D21)","v":"Hijack"}]
[{"$f":"T(A264)","v":"Hijack"},{"$nulls":3},"Threat",null,"Criticality",null,null,"Vulnerability",{"$nulls":8},"Consequence",{"$nulls":8},{"$f":"SUM(((((J269+S269)/2)*G269)*E269))","v":0}]
[{"$nulls":9},"Exposure",null,null,"Protective Measures",null,null,"Robustness/Resilience",null,null,"Human",null,null,"Economic",null,null,"Psychological"]
[{"$f":"T(A140)","v":"Headquarters Building"},null,{"$f":"T(C140)","v":"CR"},{"$f":"SUM(D140)","v":1},{"v":1,"d":"1.0"},null,{"$f":"SUM(G140)","v":{"v":0,"d":"0.0"}},null,null,{"v":0,"d":"0.0"},null,null,{"v":0,"d":"0.0"},null,null,{"v":0,"d":"0.0"},null,null,{"v":0,"d":"0.0"},null,null,{"v":0,"d":"0.0"},null,null,{"v":0,"d":"0.0"}]
[{"$f":"T(A141)","v":""}]
[{"$nulls":4},{"$f":"SUM(E267)","v":{"v":1,"d":"1.0"}},null,{"$f":"SUM(G267)","v":{"v":0,"d":"0.0"}},null,null,{"$f":"SUM((J267+M267+P267)/3)","v":{"v":0,"d":"0.0"}},{"$nulls":8},{"$f":"SUM(((S267*3)+V267+Y267)/5)","v":{"v":0,"d":"0.0"}}]
[]
[{"$f":"T(A264)","v":"Hijack"},{"$nulls":3},"Threat",null,"Criticality",null,null,"Vulnerability",{"$nulls":8},"Consequence",{"$nulls":8},{"$f":"SUM(((((J275+S275)/2)*G275)*E275))","v":0}]
[{"$nulls":9},"Exposure",null,null,"Protective Measures",null,null,"Robustness/Resilience",null,null,"Human",null,null,"Economic",null,null,"Psychological"]
[{"$f":"T(A146)","v":"Major Passenger Terminals"},null,{"$f":"T(C146)","v":"CR"},{"$f":"SUM(D146)","v":2},{"v":1,"d":"1.0"},null,{"$f":"SUM(G146)","v":{"v":0,"d":"0.0"}},null,null,{"v":0,"d":"0.0"},null,null,{"v":0,"d":"0.0"},null,null,{"v":0,"d":"0.0"},null,null,{"v":0,"d":"0.0"},null,null,{"v":0,"d":"0.0"},null,null,{"v":0,"d":"0.0"}]
[{"$f":"T(A147)","v":""}]
[{"$nulls":4},{"$f":"SUM(E273)","v":{"v":1,"d":"1.0"}},null,{"$f":"SUM(G273)","v":{"v":0,"d":"0.0"}},null,null,{"$f":"SUM((J273+M273+P273)/3)","v":{"v":0,"d":"0.0"}},{"$nulls":8},{"$f":"SUM(((S273*3)+V273+Y273)/5)","v":{"v":0,"d":"0.0"}}]
[]
[{"$f":"T(A271)","v":"Hijack"},{"$nulls":3},"Threat",null,"Criticality",null,null,"Vulnerability",{"$nulls":8},"Consequence",{"$nulls":8},{"$f":"SUM(((((J281+S281)/2)*G281)*E281))","v":0}]
[{"$nulls":9},"Exposure",null,null,"Protective Measures",null,null,"Robustness/Resilience",null,null,"Human",null,null,"Economic",null,null,"Psychological"]
[{"$f":"T(A152)","v":"Major Line Stations"},null,{"$f":"T(C152)","v":"CR"},{"$f":"SUM(D152)","v":3},{"v":1,"d":"1.0"},null,{"$f":"SUM(G152)","v":{"v":0,"d":"0.0"}},null,null,{"v":0,"d":"0.0"},null,null,{"v":0,"d":"0.0"},null,null,{"v":0,"d":"0.0"},null,null,{"v":0,"d":"0.0"},null,null,{"v":0,"d":"0.0"},null,null,{"v":0,"d":"0.0"}]
[{"$f":"T(A153)","v":""}]
[{"$nulls":4},{"$f":"SUM(E279)","v":{"v":1,"d":"1.0"}},null,{"$f":"SUM(G279)","v":{"v":0,"d":"0.0"}},null,null,{"$f":"SUM((J279+M279+P279)/3)","v":{"v":0,"d":"0.0"}},{"$nulls":8},{"$f":"SUM(((S279*3)+V279+Y279)/5)","v":{"v":0,"d":"0.0"}}]
[]
[{"$f":"T(A277)","v":"Hijack"},{"$nulls":3},"Threat",null,"Criticality",null,null,"Vulnerability",{"$nulls":8},"Consequence",{"$nulls":8},{"$f":"SUM(((((J287+S287)/2)*G287)*E287))","v":0}]
[{"$nulls":9},"Exposure",null,null,"Protective Measures",null,null,"Robustness/Resilience",null,null,"Human",null,null,"Economic",null,null,"Psychological"]
[{"$f":"T(A158)","v":"Parking Structures"},null,{"$f":"T(C158)","v":"CR"},{"$f":"SUM(D158)","v":4},{"v":1,"d":"1.0"},null,{"$f":"SUM(G158)","v":{"v":0,"d":"0.0"}},null,null,{"v":0,"d":"0.0"},null,null,{"v":0,"d":"0.0"},null,null,{"v":0,"d":"0.0"},null,null,{"v":0,"d":"0.0"},null,null,{"v":0,"d":"0.0"},null,null,{"v":0,"d":"0.0"}]
[{"$f":"T(A159)","v":""}]
[{"$nulls":4},{"$f":"SUM(E285)","v":{"v":1,"d":"1.0"}},null,{"$f":"SUM(G285)","v":{"v":0,"d":"0.0"}},null,null,{"$f":"SUM((J285+M285+P285)/3)","v":{"v":0,"d":"0.0"}},{"$nulls":8},{"$f":"SUM(((S285*3)+V285+Y285)/5)","v":{"v":0,"d":"0.0"}}]
[]
[{"$f":"T(A283)","v":"Hijack"},{"$nulls":3},"Threat",null,"Criticality",null,null,"Vulnerability",{"$nulls":8},"Consequence",{"$nulls":8},{"$f":"SUM(((((J293+S293)/2)*G293)*E293))","v":0}]
[{"$nulls":9},"Exposure",null,null,"Protective Measures",null,null,"Robustness/Resilience",null,null,"Human",null,null,"Economic",null,null,"Psychological"]
[{"$f":"T(A164)","v":"Consist - Type 1"},null,{"$f":"T(C164)","v":"CR"},{"$f":"SUM(D164)","v":5},{"v":1,"d":"1.0"},null,{"$f":"SUM(G164)","v":{"v":0,"d":"0.0"}},null,null,{"v":0,"d":"0.0"},null,null,{"v":0,"d":"0.0"},null,null,{"v":0,"d":"0.0"},null,null,{"v":0,"d":"0.0"},null,null,{"v":0,"d":"0.0"},null,null,{"v":0,"d":"0.0"}]
[{"$f":"T(A165)","v":""}]
[{"$nulls":4},{"$f":"SUM(E291)","v":{"v":1,"d":"1.0"}},null,{"$f":"SUM(G291)","v":{"v":0,"d":"0.0"}},null,null,{"$f":"SUM((J291+M291+P291)/3)","v":{"v":0,"d":"0.0"}},{"$nulls":8},{"$f":"SUM(((S291*3)+V291+Y291)/5)","v":{"v":0,"d":"0.0"}}]
[]
[{"$f":"T(A289)","v":"Hijack"},{"$nulls":3},"Threat",null,"Criticality",null,null,"Vulnerability",{"$nulls":8},"Consequence",{"$nulls":8},{"$f":"SUM(((((J299+S299)/2)*G299)*E299))","v":0}]
[{"$nulls":9},"Exposure",null,null,"Protective Measures",null,null,"Robustness/Resilience",null,null,"Human",null,null,"Economic",null,null,"Psychological"]
[{"$f":"T(A170)","v":"Consist - Type 2"},null,{"$f":"T(C170)","v":"CR"},{"$f":"SUM(D170)","v":6},{"v":1,"d":"1.0"},null,{"$f":"SUM(G170)","v":{"v":0,"d":"0.0"}},null,null,{"v":0,"d":"0.0"},null,null,{"v":0,"d":"0.0"},null,null,{"v":0,"d":"0.0"},null,null,{"v":0,"d":"0.0"},null,null,{"v":0,"d":"0.0"},null,null,{"v":0,"d":"0.0"}]
[{"$f":"T(A171)","v":""}]
[{"$nulls":4},{"$f":"SUM(E297)","v":{"v":1,"d":"1.0"}},null,{"$f":"SUM(G297)","v":{"v":0,"d":"0.0"}},null,null,{"$f":"SUM((J297+M297+P297)/3)","v":{"v":0,"d":"0.0"}},{"$nulls":8},{"$f":"SUM(((S297*3)+V297+Y297)/5)","v":{"v":0,"d":"0.0"}}]
[]
[{"$f":"T(A295)","v":"Hijack"},{"$nulls":3},"Threat",null,"Criticality",null,null,"Vulnerability",{"$nulls":8},"Consequence",{"$nulls":8},{"$f":"SUM(((((J305+S305)/2)*G305)*E305))","v":0}]
[{"$nulls":9},"Exposure",null,null,"Protective Measures",null,null,"Robustness/Resilience",null,null,"Human",null,null,"Economic",null,null,"Psychological"]
[{"$f":"T(A176)","v":"Primary Control Center"},null,{"$f":"T(C176)","v":"CR"},{"$f":"SUM(D176)","v":7},{"v":1,"d":"1.0"},null,{"$f":"SUM(G176)","v":{"v":0,"d":"0.0"}},null,null,{"v":0,"d":"0.0"},null,null,{"v":0,"d":"0.0"},null,null,{"v":0,"d":"0.0"},null,null,{"v":0,"d":"0.0"},null,null,{"v":0,"d":"0.0"},null,null,{"v":0,"d":"0.0"}]
[{"$f":"T(A177)","v":""}]
[{"$nulls":4},{"$f":"SUM(E303)","v":{"v":1,"d":"1.0"}},null,{"$f":"SUM(G303)","v":{"v":0,"d":"0.0"}},null,null,{"$f":"SUM((J303+M303+P303)/3)","v":{"v":0,"d":"0.0"}},{"$nulls":8},{"$f":"SUM(((S303*3)+V303+Y303)/5)","v":{"v":0,"d":"0.0"}}]
[]
[{"$f":"T(A301)","v":"Hijack"},{"$nulls":3},"Threat",null,"Criticality",null,null,"Vulnerability",{"$nulls":8},"Consequence",{"$nulls":8},{"$f":"SUM(((((J311+S311)/2)*G311)*E311))","v":0}]
[{"$nulls":9},"Exposure",null,null,"Protective Measures",null,null,"Robustness/Resilience",null,null,"Human",null,null,"Economic",null,null,"Psychological"]
[{"$f":"T(A182)","v":"Control Towers"},null,{"$f":"T(C182)","v":"CR"},{"$f":"SUM(D182)","v":8},{"v":1,"d":"1.0"},null,{"$f":"SUM(G182)","v":{"v":0,"d":"0.0"}},null,null,{"v":0,"d":"0.0"},null,null,{"v":0,"d":"0.0"},null,null,{"v":0,"d":"0.0"},null,null,{"v":0,"d":"0.0"},null,null,{"v":0,"d":"0.0"},null,null,{"v":0,"d":"0.0"}]
[{"$f":"T(A183)","v":""}]
[{"$nulls":4},{"$f":"SUM(E309)","v":{"v":1,"d":"1.0"}},null,{"$f":"SUM(G309)","v":{"v":0,"d":"0.0"}},null,null,{"$f":"SUM((J309+M309+P309)/3)","v":{"v":0,"d":"0.0"}},{"$nulls":8},{"$f":"SUM(((S309*3)+V309+Y309)/5)","v":{"v":0,"d":"0.0"}}]
[]
[{"$f":"T(A307)","v":"Hijack"},{"$nulls":3},"Threat",null,"Criticality",null,null,"Vulnerability",{"$nulls":8},"Consequence",{"$nulls":8},{"$f":"SUM(((((J317+S317)/2)*G317)*E317))","v":0}]
[{"$nulls":9},"Exposure",null,null,"Protective Measures",null,null,"Robustness/Resilience",null,null,"Human",null,null,"Economic",null,null,"Psychological"]
[{"$f":"T(A188)","v":"Cyber Systems"},null,{"$f":"T(C188)","v":"CR"},{"$f":"SUM(D188)","v":9},{"v":1,"d":"1.0"},null,{"$f":"SUM(G188)","v":{"v":0,"d":"0.0"}},null,null,{"v":0,"d":"0.0"},null,null,{"v":0,"d":"0.0"},null,null,{"v":0,"d":"0.0"},null,null,{"v":0,"d":"0.0"},null,null,{"v":0,"d":"0.0"},null,null,{"v":0,"d":"0.0"}]
[{"$f":"T(A189)","v":""}]
[{"$nulls":4},{"$f":"SUM(E315)","v":{"v":1,"d":"1.0"}},null,{"$f":"SUM(G315)","v":{"v":0,"d":"0.0"}},null,null,{"$f":"SUM((J315+M315+P315)/3)","v":{"v":0,"d":"0.0"}},{"$nulls":8},{"$f":"SUM(((S315*3)+V315+Y315)/5)","v":{"v":0,"d":"0.0"}}]
[]
[{"$f":"T(A313)","v":"Hijack"},{"$nulls":3},"Threat",null,"Criticality",null,null,"Vulnerability",{"$nulls":8},"Consequence",{"$nulls":8},{"$f":"SUM(((((J323+S323)/2)*G323)*E323))","v":0}]
[{"$nulls":9},"Exposure",null,null,"Protective Measures",null,null,"Robustness/Resilience",null,null,"Human",null,null,"Economic",null,null,"Psychological"]
[{"$f":"T(A194)","v":"Right of Way (ROW)"},null,{"$f":"T(C194)","v":"CR"},{"$f":"SUM(D194)","v":10},{"v":1,"d":"1.0"},null,{"$f":"SUM(G194)","v":{"v":0,"d":"0.0"}},null,null,{"v":0,"d":"0.0"},null,null,{"v":0,"d":"0.0"},null,null,{"v":0,"d":"0.0"},null,null,{"v":0,"d":"0.0"},null,null,{"v":0,"d":"0.0"},null,null,{"v":0,"d":"0.0"}]
[{"$f":"T(A195)","v":""}]
[{"$nulls":4},{"$f":"SUM(E321)","v":{"v":1,"d":"1.0"}},null,{"$f":"SUM(G321)","v":{"v":0,"d":"0.0"}},null,null,{"$f":"SUM((J321+M321+P321)/3)","v":{"v":0,"d":"0.0"}},{"$nulls":8},{"$f":"SUM(((S321*3)+V321+Y321)/5)","v":{"v":0,"d":"0.0"}}]
[]
[{"$f":"T(A319)","v":"Hijack"},{"$nulls":3},"Threat",null,"Criticality",null,null,"Vulnerability",{"$nulls":8},"Consequence",{"$nulls":8},{"$f":"SUM(((((J329+S329)/2)*G329)*E329))","v":0}]
[{"$nulls":9},"Exposure",null,null,"Protective Measures",null,null,"Robustness/Resilience",null,null,"Human",null,null,"Economic",null,null,"Psychological"]
[{"$f":"T(A200)","v":"Signals & PTC"},null,{"$f":"T(C200)","v":"CR"},{"$f":"SUM(D200)","v":11},{"v":1,"d":"1.0"},null,{"$f":"SUM(G200)","v":{"v":0,"d":"0.0"}},null,null,{"v":0,"d":"0.0"},null,null,{"v":0,"d":"0.0"},null,null,{"v":0,"d":"0.0"},null,null,{"v":0,"d":"0.0"},null,null,{"v":0,"d":"0.0"},null,null,{"v":0,"d":"0.0"}]
[{"$f":"T(A201)","v":""}]
[{"$nulls":4},{"$f":"SUM(E327)","v":{"v":1,"d":"1.0"}},null,{"$f":"SUM(G327)","v":{"v":0,"d":"0.0"}},null,null,{"$f":"SUM((J327+M327+P327)/3)","v":{"v":0,"d":"0.0"}},{"$nulls":8},{"$f":"SUM(((S327*3)+V327+Y327)/5)","v":{"v":0,"d":"0.0"}}]
[]
[{"$f":"T(A325)","v":"Hijack"},{"$nulls":3},"Threat",null,"Criticality",null,null,"Vulnerability",{"$nulls":8},"Consequence",{"$nulls":8},{"$f":"SUM(((((J335+S335)/2)*G335)*E335))","v":0}]
[{"$nulls":9},"Exposure",null,null,"Protective Measures",null,null,"Robustness/Resilience",null,null,"Human",null,null,"Economic",null,null,"Psychological"]
[{"$f":"T(A206)","v":"Switches "},null,{"$f":"T(C206)","v":"CR"},{"$f":"SUM(D206)","v":12},{"v":1,"d":"1.0"},null,{"$f":"SUM(G206)","v":{"v":0,"d":"0.0"}},null,null,{"v":0,"d":"0.0"},null,null,{"v":0,"d":"0.0"},null,null,{"v":0,"d":"0.0"},null,null,{"v":0,"d":"0.0"},null,null,{"v":0,"d":"0.0"},null,null,{"v":0,"d":"0.0"}]
[{"$f":"T(A207)","v":""}]
[{"$nulls":4},{"$f":"SUM(E333)","v":{"v":1,"d":"1.0"}},null,{"$f":"SUM(G333)","v":{"v":0,"d":"0.0"}},null,null,{"$f":"SUM((J333+M333+P333)/3)","v":{"v":0,"d":"0.0"}},{"$nulls":8},{"$f":"SUM(((S333*3)+V333+Y333)/5)","v":{"v":0,"d":"0.0"}}]
[]
[{"$f":"T(A331)","v":"Hijack"},{"$nulls":3},"Threat",null,"Criticality",null,null,"Vulnerability",{"$nulls":8},"Consequence",{"$nulls":8},{"$f":"SUM(((((J341+S341)/2)*G341)*E341))","v":0}]
[{"$nulls":9},"Exposure",null,null,"Protective Measures",null,null,"Robustness/Resilience",null,null,"Human",null,null,"Economic",null,null,"Psychological"]
[{"$f":"T(A212)","v":"Bridges"},null,{"$f":"T(C212)","v":"CR"},{"$f":"SUM(D212)","v":13},{"v":1,"d":"1.0"},null,{"$f":"SUM(G212)","v":{"v":0,"d":"0.0"}},null,null,{"v":0,"d":"0.0"},null,null,{"v":0,"d":"0.0"},null,null,{"v":0,"d":"0.0"},null,null,{"v":0,"d":"0.0"},null,null,{"v":0,"d":"0.0"},null,null,{"v":0,"d":"0.0"}]
[{"$f":"T(A213)","v":""}]
[{"$nulls":4},{"$f":"SUM(E339)","v":{"v":1,"d":"1.0"}},null,{"$f":"SUM(G339)","v":{"v":0,"d":"0.0"}},null,null,{"$f":"SUM((J339+M339+P339)/3)","v":{"v":0,"d":"0.0"}},{"$nulls":8},{"$f":"SUM(((S339*3)+V339+Y339)/5)","v":{"v":0,"d":"0.0"}}]
[]
[{"$f":"T(A337)","v":"Hijack"},{"$nulls":3},"Threat",null,"Criticality",null,null,"Vulnerability",{"$nulls":8},"Consequence",{"$nulls":8},{"$f":"SUM(((((J347+S347)/2)*G347)*E347))","v":0}]
[{"$nulls":9},"Exposure",null,null,"Protective Measures",null,null,"Robustness/Resilience",null,null,"Human",null,null,"Economic",null,null,"Psychological"]
[{"$f":"T(A218)","v":"Elevated Track"},null,{"$f":"T(C218)","v":"CR"},{"$f":"SUM(D218)","v":14},{"v":1,"d":"1.0"},null,{"$f":"SUM(G218)","v":{"v":0,"d":"0.0"}},null,null,{"v":0,"d":"0.0"},null,null,{"v":0,"d":"0.0"},null,null,{"v":0,"d":"0.0"},null,null,{"v":0,"d":"0.0"},null,null,{"v":0,"d":"0.0"},null,null,{"v":0,"d":"0.0"}]
[{"$f":"T(A219)","v":""}]
[{"$nulls":4},{"$f":"SUM(E345)","v":{"v":1,"d":"1.0"}},null,{"$f":"SUM(G345)","v":{"v":0,"d":"0.0"}},null,null,{"$f":"SUM((J345+M345+P345)/3)","v":{"v":0,"d":"0.0"}},{"$nulls":8},{"$f":"SUM(((S345*3)+V345+Y345)/5)","v":{"v":0,"d":"0.0"}}]
[]
[{"$f":"T(A343)","v":"Hijack"},{"$nulls":3},"Threat",null,"Criticality",null,null,"Vulnerability",{"$nulls":8},"Consequence",{"$nulls":8},{"$f":"SUM(((((J353+S353)/2)*G353)*E353))","v":0}]
[{"$nulls":9},"Exposure",null,null,"Protective Measures",null,null,"Robustness/Resilience",null,null,"Human",null,null,"Economic",null,null,"Psychological"]
[{"$f":"T(A224)","v":"Tunnels "},null,{"$f":"T(C224)","v":"CR"},{"$f":"SUM(D224)","v":15},{"v":1,"d":"1.0"},null,{"$f":"SUM(G224)","v":{"v":0,"d":"0.0"}},null,null,{"v":0,"d":"0.0"},null,null,{"v":0,"d":"0.0"},null,null,{"v":0,"d":"0.0"},null,null,{"v":0,"d":"0.0"},null,null,{"v":0,"d":"0.0"},null,null,{"v":0,"d":"0.0"}]
[{"$f":"T(A225)","v":""}]
[{"$nulls":4},{"$f":"SUM(E351)","v":{"v":1,"d":"1.0"}},null,{"$f":"SUM(G351)","v":{"v":0,"d":"0.0"}},null,null,{"$f":"SUM((J351+M351+P351)/3)","v":{"v":0,"d":"0.0"}},{"$nulls":8},{"$f":"SUM(((S351*3)+V351+Y351)/5)","v":{"v":0,"d":"0.0"}}]
[]
[{"$f":"T(A349)","v":"Hijack"},{"$nulls":3},"Threat",null,"Criticality",null,null,"Vulnerability",{"$nulls":8},"Consequence",{"$nulls":8},{"$f":"SUM(((((J359+S359)/2)*G359)*E359))","v":0}]
[{"$nulls":9},"Exposure",null,null,"Protective Measures",null,null,"Robustness/Resilience",null,null,"Human",null,null,"Economic",null,null,"Psychological"]
[{"$f":"T(A230)","v":"Choke Points on ROW"},null,{"$f":"T(C230)","v":"CR"},{"$f":"SUM(D230)","v":16},{"v":1,"d":"1.0"},null,{"$f":"SUM(G230)","v":{"v":0,"d":"0.0"}},null,null,{"v":0,"d":"0.0"},null,null,{"v":0,"d":"0.0"},null,null,{"v":0,"d":"0.0"},null,null,{"v":0,"d":"0.0"},null,null,{"v":0,"d":"0.0"},null,null,{"v":0,"d":"0.0"}]
[{"$f":"T(A231)","v":""}]
[{"$nulls":4},{"$f":"SUM(E357)","v":{"v":1,"d":"1.0"}},null,{"$f":"SUM(G357)","v":{"v":0,"d":"0.0"}},null,null,{"$f":"SUM((J357+M357+P357)/3)","v":{"v":0,"d":"0.0"}},{"$nulls":8},{"$f":"SUM(((S357*3)+V357+Y357)/5)","v":{"v":0,"d":"0.0"}}]
[]
[{"$f":"T(A355)","v":"Hijack"},{"$nulls":3},"Threat",null,"Criticality",null,null,"Vulnerability",{"$nulls":8},"Consequence",{"$nulls":8},{"$f":"SUM(((((J365+S365)/2)*G365)*E365))","v":0}]
[{"$nulls":9},"Exposure",null,null,"Protective Measures",null,null,"Robustness/Resilience",null,null,"Human",null,null,"Economic",null,null,"Psychological"]
[{"$f":"T(A236)","v":"Fire Suppression"},null,{"$f":"T(C236)","v":"CR"},{"$f":"SUM(D236)","v":17},{"v":1,"d":"1.0"},null,{"$f":"SUM(G236)","v":{"v":0,"d":"0.0"}},null,null,{"v":0,"d":"0.0"},null,null,{"v":0,"d":"0.0"},null,null,{"v":0,"d":"0.0"},null,null,{"v":0,"d":"0.0"},null,null,{"v":0,"d":"0.0"},null,null,{"v":0,"d":"0.0"}]
[{"$f":"T(A237)","v":""}]
[{"$nulls":4},{"$f":"SUM(E363)","v":{"v":1,"d":"1.0"}},null,{"$f":"SUM(G363)","v":{"v":0,"d":"0.0"}},null,null,{"$f":"SUM((J363+M363+P363)/3)","v":{"v":0,"d":"0.0"}},{"$nulls":8},{"$f":"SUM(((S363*3)+V363+Y363)/5)","v":{"v":0,"d":"0.0"}}]
[]
[{"$f":"T(A361)","v":"Hijack"},{"$nulls":3},"Threat",null,"Criticality",null,null,"Vulnerability",{"$nulls":8},"Consequence",{"$nulls":8},{"$f":"SUM(((((J371+S371)/2)*G371)*E371))","v":0}]
[{"$nulls":9},"Exposure",null,null,"Protective Measures",null,null,"Robustness/Resilience",null,null,"Human",null,null,"Economic",null,null,"Psychological"]
[{"$f":"T(A242)","v":"Air Handling"},null,{"$f":"T(C242)","v":"CR"},{"$f":"SUM(D242)","v":18},{"v":1,"d":"1.0"},null,{"$f":"SUM(G242)","v":{"v":0,"d":"0.0"}},null,null,{"v":0,"d":"0.0"},null,null,{"v":0,"d":"0.0"},null,null,{"v":0,"d":"0.0"},null,null,{"v":0,"d":"0.0"},null,null,{"v":0,"d":"0.0"},null,null,{"v":0,"d":"0.0"}]
[{"$f":"T(A243)","v":""}]
[{"$nulls":4},{"$f":"SUM(E369)","v":{"v":1,"d":"1.0"}},null,{"$f":"SUM(G369)","v":{"v":0,"d":"0.0"}},null,null,{"$f":"SUM((J369+M369+P369)/3)","v":{"v":0,"d":"0.0"}},{"$nulls":8},{"$f":"SUM(((S369*3)+V369+Y369)/5)","v":{"v":0,"d":"0.0"}}]
[]
[{"$f":"T(A367)","v":"Hijack"},{"$nulls":3},"Threat",null,"Criticality",null,null,"Vulnerability",{"$nulls":8},"Consequence",{"$nulls":8},{"$f":"SUM(((((J377+S377)/2)*G377)*E377))","v":0}]
[{"$nulls":9},"Exposure",null,null,"Protective Measures",null,null,"Robustness/Resilience",null,null,"Human",null,null,"Economic",null,null,"Psychological"]
[{"$f":"T(A248)","v":"Power Generation/Distribution"},null,{"$f":"T(C248)","v":"CR"},{"$f":"SUM(D248)","v":19},{"v":1,"d":"1.0"},null,{"$f":"SUM(G248)","v":{"v":0,"d":"0.0"}},null,null,{"v":0,"d":"0.0"},null,null,{"v":0,"d":"0.0"},null,null,{"v":0,"d":"0.0"},null,null,{"v":0,"d":"0.0"},null,null,{"v":0,"d":"0.0"},null,null,{"v":0,"d":"0.0"}]
[{"$f":"T(A249)","v":""}]
[{"$nulls":4},{"$f":"SUM(E375)","v":{"v":1,"d":"1.0"}},null,{"$f":"SUM(G375)","v":{"v":0,"d":"0.0"}},null,null,{"$f":"SUM((J375+M375+P375)/3)","v":{"v":0,"d":"0.0"}},{"$nulls":8},{"$f":"SUM(((S375*3)+V375+Y375)/5)","v":{"v":0,"d":"0.0"}}]
[]
[{"$f":"T(A373)","v":"Hijack"},{"$nulls":3},"Threat",null,"Criticality",null,null,"Vulnerability",{"$nulls":8},"Consequence",{"$nulls":8},{"$f":"SUM(((((J383+S383)/2)*G383)*E383))","v":0}]
[{"$nulls":9},"Exposure",null,null,"Protective Measures",null,null,"Robustness/Resilience",null,null,"Human",null,null,"Economic",null,null,"Psychological"]
[{"$f":"T(A254)","v":"Yards"},null,{"$f":"T(C254)","v":"CR"},{"$f":"SUM(D254)","v":20},{"v":1,"d":"1.0"},null,{"$f":"SUM(G254)","v":{"v":0,"d":"0.0"}},null,null,{"v":0,"d":"0.0"},null,null,{"v":0,"d":"0.0"},null,null,{"v":0,"d":"0.0"},null,null,{"v":0,"d":"0.0"},null,null,{"v":0,"d":"0.0"},null,null,{"v":0,"d":"0.0"}]
[{"$f":"T(A255)","v":""}]
[{"$nulls":4},{"$f":"SUM(E381)","v":{"v":1,"d":"1.0"}},null,{"$f":"SUM(G381)","v":{"v":0,"d":"0.0"}},null,null,{"$f":"SUM((J381+M381+P381)/3)","v":{"v":0,"d":"0.0"}},{"$nulls":8},{"$f":"SUM(((S381*3)+V381+Y381)/5)","v":{"v":0,"d":"0.0"}}]
[]
[{"$f":"T(A379)","v":"Hijack"},{"$nulls":3},"Threat",null,"Criticality",null,null,"Vulnerability",{"$nulls":8},"Consequence",{"$nulls":8},{"$f":"SUM(((((J389+S389)/2)*G389)*E389))","v":0}]
[{"$nulls":9},"Exposure",null,null,"Protective Measures",null,null,"Robustness/Resilience",null,null,"Human",null,null,"Economic",null,null,"Psychological"]
[{"$f":"T(A260)","v":"Maintenance Barns/Facilities"},null,{"$f":"T(C260)","v":"CR"},{"$f":"SUM(D260)","v":21},{"v":1,"d":"1.0"},null,{"$f":"SUM(G260)","v":{"v":0,"d":"0.0"}},null,null,{"v":0,"d":"0.0"},null,null,{"v":0,"d":"0.0"},null,null,{"v":0,"d":"0.0"},null,null,{"v":0,"d":"0.0"},null,null,{"v":0,"d":"0.0"},null,null,{"v":0,"d":"0.0"}]
[{"$f":"T(A261)","v":""}]
[{"$nulls":4},{"$f":"SUM(E387)","v":{"v":1,"d":"1.0"}},null,{"$f":"SUM(G387)","v":{"v":0,"d":"0.0"}},null,null,{"$f":"SUM((J387+M387+P387)/3)","v":{"v":0,"d":"0.0"}},{"$nulls":8},{"$f":"SUM(((S387*3)+V387+Y387)/5)","v":{"v":0,"d":"0.0"}}]
[]
[{"$f":"T(Definitions!D22)","v":"Coordinated Complex Attack"}]
[{"$f":"T(A391)","v":"Coordinated Complex Attack"},{"$nulls":3},"Threat",null,"Criticality",null,null,"Vulnerability",{"$nulls":8},"Consequence",{"$nulls":8},{"$f":"SUM(((((J396+S396)/2)*G396)*E396))","v":0}]
[{"$nulls":9},"Exposure",null,null,"Protective Measures",null,null,"Robustness/Resilience",null,null,"Human",null,null,"Economic",null,null,"Psychological"]
[{"$f":"T(A267)","v":"Headquarters Building"},null,{"$f":"T(C267)","v":"CR"},{"$f":"SUM(D267)","v":1},{"v":1,"d":"1.0"},null,{"$f":"SUM(G267)","v":{"v":0,"d":"0.0"}},null,null,{"v":0,"d":"0.0"},null,null,{"v":0,"d":"0.0"},null,null,{"v":0,"d":"0.0"},null,null,{"v":0,"d":"0.0"},null,null,{"v":0,"d":"0.0"},null,null,{"v":0,"d":"0.0"}]
[{"$f":"T(A268)","v":""}]
[{"$nulls":4},{"$f":"SUM(E394)","v":{"v":1,"d":"1.0"}},null,{"$f":"SUM(G394)","v":{"v":0,"d":"0.0"}},null,null,{"$f":"SUM((J394+M394+P394)/3)","v":{"v":0,"d":"0.0"}},{"$nulls":8},{"$f":"SUM(((S394*3)+V394+Y394)/5)","v":{"v":0,"d":"0.0"}}]
[]
[{"$f":"T(A391)","v":"Coordinated Complex Attack"},{"$nulls":3},"Threat",null,"Criticality",null,null,"Vulnerability",{"$nulls":8},"Consequence",{"$nulls":8},{"$f":"SUM(((((J402+S402)/2)*G402)*E402))","v":0}]
[{"$nulls":9},"Exposure",null,null,"Protective Measures",null,null,"Robustness/Resilience",null,null,"Human",null,null,"Economic",null,null,"Psychological"]
[{"$f":"T(A273)","v":"Major Passenger Terminals"},null,{"$f":"T(C273)","v":"CR"},{"$f":"SUM(D273)","v":2},{"v":1,"d":"1.0"},null,{"$f":"SUM(G273)","v":{"v":0,"d":"0.0"}},null,null,{"v":0,"d":"0.0"},null,null,{"v":0,"d":"0.0"},null,null,{"v":0,"d":"0.0"},null,null,{"v":0,"d":"0.0"},null,null,{"v":0,"d":"0.0"},null,null,{"v":0,"d":"0.0"}]
[{"$f":"T(A274)","v":""}]
[{"$nulls":4},{"$f":"SUM(E400)","v":{"v":1,"d":"1.0"}},null,{"$f":"SUM(G400)","v":{"v":0,"d":"0.0"}},null,null,{"$f":"SUM((J400+M400+P400)/3)","v":{"v":0,"d":"0.0"}},{"$nulls":8},{"$f":"SUM(((S400*3)+V400+Y400)/5)","v":{"v":0,"d":"0.0"}}]
[]
[{"$f":"T(A398)","v":"Coordinated Complex Attack"},{"$nulls":3},"Threat",null,"Criticality",null,null,"Vulnerability",{"$nulls":8},"Consequence",{"$nulls":8},{"$f":"SUM(((((J408+S408)/2)*G408)*E408))","v":0}]
[{"$nulls":9},"Exposure",null,null,"Protective Measures",null,null,"Robustness/Resilience",null,null,"Human",null,null,"Economic",null,null,"Psychological"]
[{"$f":"T(A279)","v":"Major Line Stations"},null,{"$f":"T(C279)","v":"CR"},{"$f":"SUM(D279)","v":3},{"v":1,"d":"1.0"},null,{"$f":"SUM(G279)","v":{"v":0,"d":"0.0"}},null,null,{"v":0,"d":"0.0"},null,null,{"v":0,"d":"0.0"},null,null,{"v":0,"d":"0.0"},null,null,{"v":0,"d":"0.0"},null,null,{"v":0,"d":"0.0"},null,null,{"v":0,"d":"0.0"}]
[{"$f":"T(A280)","v":""}]
[{"$nulls":4},{"$f":"SUM(E406)","v":{"v":1,"d":"1.0"}},null,{"$f":"SUM(G406)","v":{"v":0,"d":"0.0"}},null,null,{"$f":"SUM((J406+M406+P406)/3)","v":{"v":0,"d":"0.0"}},{"$nulls":8},{"$f":"SUM(((S406*3)+V406+Y406)/5)","v":{"v":0,"d":"0.0"}}]
[]
[{"$f":"T(A404)","v":"Coordinated Complex Attack"},{"$nulls":3},"Threat",null,"Criticality",null,null,"Vulnerability",{"$nulls":8},"Consequence",{"$nulls":8},{"$f":"SUM(((((J414+S414)/2)*G414)*E414))","v":0}]
[{"$nulls":9},"Exposure",null,null,"Protective Measures",null,null,"Robustness/Resilience",null,null,"Human",null,null,"Economic",null,null,"Psychological"]
[{"$f":"T(A285)","v":"Parking Structures"},null,{"$f":"T(C285)","v":"CR"},{"$f":"SUM(D285)","v":4},{"v":1,"d":"1.0"},null,{"$f":"SUM(G285)","v":{"v":0,"d":"0.0"}},null,null,{"v":0,"d":"0.0"},null,null,{"v":0,"d":"0.0"},null,null,{"v":0,"d":"0.0"},null,null,{"v":0,"d":"0.0"},null,null,{"v":0,"d":"0.0"},null,null,{"v":0,"d":"0.0"}]
[{"$f":"T(A286)","v":""}]
[{"$nulls":4},{"$f":"SUM(E412)","v":{"v":1,"d":"1.0"}},null,{"$f":"SUM(G412)","v":{"v":0,"d":"0.0"}},null,null,{"$f":"SUM((J412+M412+P412)/3)","v":{"v":0,"d":"0.0"}},{"$nulls":8},{"$f":"SUM(((S412*3)+V412+Y412)/5)","v":{"v":0,"d":"0.0"}}]
[]
[{"$f":"T(A410)","v":"Coordinated Complex Attack"},{"$nulls":3},"Threat",null,"Criticality",null,null,"Vulnerability",{"$nulls":8},"Consequence",{"$nulls":8},{"$f":"SUM(((((J420+S420)/2)*G420)*E420))","v":0}]
[{"$nulls":9},"Exposure",null,null,"Protective Measures",null,null,"Robustness/Resilience",null,null,"Human",null,null,"Economic",null,null,"Psychological"]
[{"$f":"T(A291)","v":"Consist - Type 1"},null,{"$f":"T(C291)","v":"CR"},{"$f":"SUM(D291)","v":5},{"v":1,"d":"1.0"},null,{"$f":"SUM(G291)","v":{"v":0,"d":"0.0"}},null,null,{"v":0,"d":"0.0"},null,null,{"v":0,"d":"0.0"},null,null,{"v":0,"d":"0.0"},null,null,{"v":0,"d":"0.0"},null,null,{"v":0,"d":"0.0"},null,null,{"v":0,"d":"0.0"}]
[{"$f":"T(A292)","v":""}]
[{"$nulls":4},{"$f":"SUM(E418)","v":{"v":1,"d":"1.0"}},null,{"$f":"SUM(G418)","v":{"v":0,"d":"0.0"}},null,null,{"$f":"SUM((J418+M418+P418)/3)","v":{"v":0,"d":"0.0"}},{"$nulls":8},{"$f":"SUM(((S418*3)+V418+Y418)/5)","v":{"v":0,"d":"0.0"}}]
[]
[{"$f":"T(A416)","v":"Coordinated Complex Attack"},{"$nulls":3},"Threat",null,"Criticality",null,null,"Vulnerability",{"$nulls":8},"Consequence",{"$nulls":8},{"$f":"SUM(((((J426+S426)/2)*G426)*E426))","v":0}]
[{"$nulls":9},"Exposure",null,null,"Protective Measures",null,null,"Robustness/Resilience",null,null,"Human",null,null,"Economic",null,null,"Psychological"]
[{"$f":"T(A297)","v":"Consist - Type 2"},null,{"$f":"T(C297)","v":"CR"},{"$f":"SUM(D297)","v":6},{"v":1,"d":"1.0"},null,{"$f":"SUM(G297)","v":{"v":0,"d":"0.0"}},null,null,{"v":0,"d":"0.0"},null,null,{"v":0,"d":"0.0"},null,null,{"v":0,"d":"0.0"},null,null,{"v":0,"d":"0.0"},null,null,{"v":0,"d":"0.0"},null,null,{"v":0,"d":"0.0"}]
[{"$f":"T(A298)","v":""}]
[{"$nulls":4},{"$f":"SUM(E424)","v":{"v":1,"d":"1.0"}},null,{"$f":"SUM(G424)","v":{"v":0,"d":"0.0"}},null,null,{"$f":"SUM((J424+M424+P424)/3)","v":{"v":0,"d":"0.0"}},{"$nulls":8},{"$f":"SUM(((S424*3)+V424+Y424)/5)","v":{"v":0,"d":"0.0"}}]
[]
[{"$f":"T(A422)","v":"Coordinated Complex Attack"},{"$nulls":3},"Threat",null,"Criticality",null,null,"Vulnerability",{"$nulls":8},"Consequence",{"$nulls":8},{"$f":"SUM(((((J432+S432)/2)*G432)*E432))","v":0}]
[{"$nulls":9},"Exposure",null,null,"Protective Measures",null,null,"Robustness/Resilience",null,null,"Human",null,null,"Economic",null,null,"Psychological"]
[{"$f":"T(A303)","v":"Primary Control Center"},null,{"$f":"T(C303)","v":"CR"},{"$f":"SUM(D303)","v":7},{"v":1,"d":"1.0"},null,{"$f":"SUM(G303)","v":{"v":0,"d":"0.0"}},null,null,{"v":0,"d":"0.0"},null,null,{"v":0,"d":"0.0"},null,null,{"v":0,"d":"0.0"},null,null,{"v":0,"d":"0.0"},null,null,{"v":0,"d":"0.0"},null,null,{"v":0,"d":"0.0"}]
[{"$f":"T(A304)","v":""}]
[{"$nulls":4},{"$f":"SUM(E430)","v":{"v":1,"d":"1.0"}},null,{"$f":"SUM(G430)","v":{"v":0,"d":"0.0"}},null,null,{"$f":"SUM((J430+M430+P430)/3)","v":{"v":0,"d":"0.0"}},{"$nulls":8},{"$f":"SUM(((S430*3)+V430+Y430)/5)","v":{"v":0,"d":"0.0"}}]
[]
[{"$f":"T(A428)","v":"Coordinated Complex Attack"},{"$nulls":3},"Threat",null,"Criticality",null,null,"Vulnerability",{"$nulls":8},"Consequence",{"$nulls":8},{"$f":"SUM(((((J438+S438)/2)*G438)*E438))","v":0}]
[{"$nulls":9},"Exposure",null,null,"Protective Measures",null,null,"Robustness/Resilience",null,null,"Human",null,null,"Economic",null,null,"Psychological"]
[{"$f":"T(A309)","v":"Control Towers"},null,{"$f":"T(C309)","v":"CR"},{"$f":"SUM(D309)","v":8},{"v":1,"d":"1.0"},null,{"$f":"SUM(G309)","v":{"v":0,"d":"0.0"}},null,null,{"v":0,"d":"0.0"},null,null,{"v":0,"d":"0.0"},null,null,{"v":0,"d":"0.0"},null,null,{"v":0,"d":"0.0"},null,null,{"v":0,"d":"0.0"},null,null,{"v":0,"d":"0.0"}]
[{"$f":"T(A310)","v":""}]
[{"$nulls":4},{"$f":"SUM(E436)","v":{"v":1,"d":"1.0"}},null,{"$f":"SUM(G436)","v":{"v":0,"d":"0.0"}},null,null,{"$f":"SUM((J436+M436+P436)/3)","v":{"v":0,"d":"0.0"}},{"$nulls":8},{"$f":"SUM(((S436*3)+V436+Y436)/5)","v":{"v":0,"d":"0.0"}}]
[]
[{"$f":"T(A434)","v":"Coordinated Complex Attack"},{"$nulls":3},"Threat",null,"Criticality",null,null,"Vulnerability",{"$nulls":8},"Consequence",{"$nulls":8},{"$f":"SUM(((((J444+S444)/2)*G444)*E444))","v":0}]
[{"$nulls":9},"Exposure",null,null,"Protective Measures",null,null,"Robustness/Resilience",null,null,"Human",null,null,"Economic",null,null,"Psychological"]
[{"$f":"T(A315)","v":"Cyber Systems"},null,{"$f":"T(C315)","v":"CR"},{"$f":"SUM(D315)","v":9},{"v":1,"d":"1.0"},null,{"$f":"SUM(G315)","v":{"v":0,"d":"0.0"}},null,null,{"v":0,"d":"0.0"},null,null,{"v":0,"d":"0.0"},null,null,{"v":0,"d":"0.0"},null,null,{"v":0,"d":"0.0"},null,null,{"v":0,"d":"0.0"},null,null,{"v":0,"d":"0.0"}]
[{"$f":"T(A316)","v":""}]
[{"$nulls":4},{"$f":"SUM(E442)","v":{"v":1,"d":"1.0"}},null,{"$f":"SUM(G442)","v":{"v":0,"d":"0.0"}},null,null,{"$f":"SUM((J442+M442+P442)/3)","v":{"v":0,"d":"0.0"}},{"$nulls":8},{"$f":"SUM(((S442*3)+V442+Y442)/5)","v":{"v":0,"d":"0.0"}}]
[]
[{"$f":"T(A440)","v":"Coordinated Complex Attack"},{"$nulls":3},"Threat",null,"Criticality",null,null,"Vulnerability",{"$nulls":8},"Consequence",{"$nulls":8},{"$f":"SUM(((((J450+S450)/2)*G450)*E450))","v":0}]
[{"$nulls":9},"Exposure",null,null,"Protective Measures",null,null,"Robustness/Resilience",null,null,"Human",null,null,"Economic",null,null,"Psychological"]
[{"$f":"T(A321)","v":"Right of Way (ROW)"},null,{"$f":"T(C321)","v":"CR"},{"$f":"SUM(D321)","v":10},{"v":1,"d":"1.0"},null,{"$f":"SUM(G321)","v":{"v":0,"d":"0.0"}},null,null,{"v":0,"d":"0.0"},null,null,{"v":0,"d":"0.0"},null,null,{"v":0,"d":"0.0"},null,null,{"v":0,"d":"0.0"},null,null,{"v":0,"d":"0.0"},null,null,{"v":0,"d":"0.0"}]
[{"$f":"T(A322)","v":""}]
[{"$nulls":4},{"$f":"SUM(E448)","v":{"v":1,"d":"1.0"}},null,{"$f":"SUM(G448)","v":{"v":0,"d":"0.0"}},null,null,{"$f":"SUM((J448+M448+P448)/3)","v":{"v":0,"d":"0.0"}},{"$nulls":8},{"$f":"SUM(((S448*3)+V448+Y448)/5)","v":{"v":0,"d":"0.0"}}]
[]
[{"$f":"T(A446)","v":"Coordinated Complex Attack"},{"$nulls":3},"Threat",null,"Criticality",null,null,"Vulnerability",{"$nulls":8},"Consequence",{"$nulls":8},{"$f":"SUM(((((J456+S456)/2)*G456)*E456))","v":0}]
[{"$nulls":9},"Exposure",null,null,"Protective Measures",null,null,"Robustness/Resilience",null,null,"Human",null,null,"Economic",null,null,"Psychological"]
[{"$f":"T(A327)","v":"Signals & PTC"},null,{"$f":"T(C327)","v":"CR"},{"$f":"SUM(D327)","v":11},{"v":1,"d":"1.0"},null,{"$f":"SUM(G327)","v":{"v":0,"d":"0.0"}},null,null,{"v":0,"d":"0.0"},null,null,{"v":0,"d":"0.0"},null,null,{"v":0,"d":"0.0"},null,null,{"v":0,"d":"0.0"},null,null,{"v":0,"d":"0.0"},null,null,{"v":0,"d":"0.0"}]
[{"$f":"T(A328)","v":""}]
[{"$nulls":4},{"$f":"SUM(E454)","v":{"v":1,"d":"1.0"}},null,{"$f":"SUM(G454)","v":{"v":0,"d":"0.0"}},null,null,{"$f":"SUM((J454+M454+P454)/3)","v":{"v":0,"d":"0.0"}},{"$nulls":8},{"$f":"SUM(((S454*3)+V454+Y454)/5)","v":{"v":0,"d":"0.0"}}]
[]
[{"$f":"T(A452)","v":"Coordinated Complex Attack"},{"$nulls":3},"Threat",null,"Criticality",null,null,"Vulnerability",{"$nulls":8},"Consequence",{"$nulls":8},{"$f":"SUM(((((J462+S462)/2)*G462)*E462))","v":0}]
[{"$nulls":9},"Exposure",null,null,"Protective Measures",null,null,"Robustness/Resilience",null,null,"Human",null,null,"Economic",null,null,"Psychological"]
[{"$f":"T(A333)","v":"Switches "},null,{"$f":"T(C333)","v":"CR"},{"$f":"SUM(D333)","v":12},{"v":1,"d":"1.0"},null,{"$f":"SUM(G333)","v":{"v":0,"d":"0.0"}},null,null,{"v":0,"d":"0.0"},null,null,{"v":0,"d":"0.0"},null,null,{"v":0,"d":"0.0"},null,null,{"v":0,"d":"0.0"},null,null,{"v":0,"d":"0.0"},null,null,{"v":0,"d":"0.0"}]
[{"$f":"T(A334)","v":""}]
[{"$nulls":4},{"$f":"SUM(E460)","v":{"v":1,"d":"1.0"}},null,{"$f":"SUM(G460)","v":{"v":0,"d":"0.0"}},null,null,{"$f":"SUM((J460+M460+P460)/3)","v":{"v":0,"d":"0.0"}},{"$nulls":8},{"$f":"SUM(((S460*3)+V460+Y460)/5)","v":{"v":0,"d":"0.0"}}]
[]
[{"$f":"T(A458)","v":"Coordinated Complex Attack"},{"$nulls":3},"Threat",null,"Criticality",null,null,"Vulnerability",{"$nulls":8},"Consequence",{"$nulls":8},{"$f":"SUM(((((J468+S468)/2)*G468)*E468))","v":0}]
[{"$nulls":9},"Exposure",null,null,"Protective Measures",null,null,"Robustness/Resilience",null,null,"Human",null,null,"Economic",null,null,"Psychological"]
[{"$f":"T(A339)","v":"Bridges"},null,{"$f":"T(C339)","v":"CR"},{"$f":"SUM(D339)","v":13},{"v":1,"d":"1.0"},null,{"$f":"SUM(G339)","v":{"v":0,"d":"0.0"}},null,null,{"v":0,"d":"0.0"},null,null,{"v":0,"d":"0.0"},null,null,{"v":0,"d":"0.0"},null,null,{"v":0,"d":"0.0"},null,null,{"v":0,"d":"0.0"},null,null,{"v":0,"d":"0.0"}]
[{"$f":"T(A340)","v":""}]
[{"$nulls":4},{"$f":"SUM(E466)","v":{"v":1,"d":"1.0"}},null,{"$f":"SUM(G466)","v":{"v":0,"d":"0.0"}},null,null,{"$f":"SUM((J466+M466+P466)/3)","v":{"v":0,"d":"0.0"}},{"$nulls":8},{"$f":"SUM(((S466*3)+V466+Y466)/5)","v":{"v":0,"d":"0.0"}}]
[]
[{"$f":"T(A464)","v":"Coordinated Complex Attack"},{"$nulls":3},"Threat",null,"Criticality",null,null,"Vulnerability",{"$nulls":8},"Consequence",{"$nulls":8},{"$f":"SUM(((((J474+S474)/2)*G474)*E474))","v":0}]
[{"$nulls":9},"Exposure",null,null,"Protective Measures",null,null,"Robustness/Resilience",null,null,"Human",null,null,"Economic",null,null,"Psychological"]
[{"$f":"T(A345)","v":"Elevated Track"},null,{"$f":"T(C345)","v":"CR"},{"$f":"SUM(D345)","v":14},{"v":1,"d":"1.0"},null,{"$f":"SUM(G345)","v":{"v":0,"d":"0.0"}},null,null,{"v":0,"d":"0.0"},null,null,{"v":0,"d":"0.0"},null,null,{"v":0,"d":"0.0"},null,null,{"v":0,"d":"0.0"},null,null,{"v":0,"d":"0.0"},null,null,{"v":0,"d":"0.0"}]
[{"$f":"T(A346)","v":""}]
[{"$nulls":4},{"$f":"SUM(E472)","v":{"v":1,"d":"1.0"}},null,{"$f":"SUM(G472)","v":{"v":0,"d":"0.0"}},null,null,{"$f":"SUM((J472+M472+P472)/3)","v":{"v":0,"d":"0.0"}},{"$nulls":8},{"$f":"SUM(((S472*3)+V472+Y472)/5)","v":{"v":0,"d":"0.0"}}]
[]
[{"$f":"T(A470)","v":"Coordinated Complex Attack"},{"$nulls":3},"Threat",null,"Criticality",null,null,"Vulnerability",{"$nulls":8},"Consequence",{"$nulls":8},{"$f":"SUM(((((J480+S480)/2)*G480)*E480))","v":0}]
[{"$nulls":9},"Exposure",null,null,"Protective Measures",null,null,"Robustness/Resilience",null,null,"Human",null,null,"Economic",null,null,"Psychological"]
[{"$f":"T(A351)","v":"Tunnels "},null,{"$f":"T(C351)","v":"CR"},{"$f":"SUM(D351)","v":15},{"v":1,"d":"1.0"},null,{"$f":"SUM(G351)","v":{"v":0,"d":"0.0"}},null,null,{"v":0,"d":"0.0"},null,null,{"v":0,"d":"0.0"},null,null,{"v":0,"d":"0.0"},null,null,{"v":0,"d":"0.0"},null,null,{"v":0,"d":"0.0"},null,null,{"v":0,"d":"0.0"}]
[{"$f":"T(A352)","v":""}]
[{"$nulls":4},{"$f":"SUM(E478)","v":{"v":1,"d":"1.0"}},null,{"$f":"SUM(G478)","v":{"v":0,"d":"0.0"}},null,null,{"$f":"SUM((J478+M478+P478)/3)","v":{"v":0,"d":"0.0"}},{"$nulls":8},{"$f":"SUM(((S478*3)+V478+Y478)/5)","v":{"v":0,"d":"0.0"}}]
[]
[{"$f":"T(A476)","v":"Coordinated Complex Attack"},{"$nulls":3},"Threat",null,"Criticality",null,null,"Vulnerability",{"$nulls":8},"Consequence",{"$nulls":8},{"$f":"SUM(((((J486+S486)/2)*G486)*E486))","v":0}]
[{"$nulls":9},"Exposure",null,null,"Protective Measures",null,null,"Robustness/Resilience",null,null,"Human",null,null,"Economic",null,null,"Psychological"]
[{"$f":"T(A357)","v":"Choke Points on ROW"},null,{"$f":"T(C357)","v":"CR"},{"$f":"SUM(D357)","v":16},{"v":1,"d":"1.0"},null,{"$f":"SUM(G357)","v":{"v":0,"d":"0.0"}},null,null,{"v":0,"d":"0.0"},null,null,{"v":0,"d":"0.0"},null,null,{"v":0,"d":"0.0"},null,null,{"v":0,"d":"0.0"},null,null,{"v":0,"d":"0.0"},null,null,{"v":0,"d":"0.0"}]
[{"$f":"T(A358)","v":""}]
[{"$nulls":4},{"$f":"SUM(E484)","v":{"v":1,"d":"1.0"}},null,{"$f":"SUM(G484)","v":{"v":0,"d":"0.0"}},null,null,{"$f":"SUM((J484+M484+P484)/3)","v":{"v":0,"d":"0.0"}},{"$nulls":8},{"$f":"SUM(((S484*3)+V484+Y484)/5)","v":{"v":0,"d":"0.0"}}]
[]
[{"$f":"T(A482)","v":"Coordinated Complex Attack"},{"$nulls":3},"Threat",null,"Criticality",null,null,"Vulnerability",{"$nulls":8},"Consequence",{"$nulls":8},{"$f":"SUM(((((J492+S492)/2)*G492)*E492))","v":0}]
[{"$nulls":9},"Exposure",null,null,"Protective Measures",null,null,"Robustness/Resilience",null,null,"Human",null,null,"Economic",null,null,"Psychological"]
[{"$f":"T(A363)","v":"Fire Suppression"},null,{"$f":"T(C363)","v":"CR"},{"$f":"SUM(D363)","v":17},{"v":1,"d":"1.0"},null,{"$f":"SUM(G363)","v":{"v":0,"d":"0.0"}},null,null,{"v":0,"d":"0.0"},null,null,{"v":0,"d":"0.0"},null,null,{"v":0,"d":"0.0"},null,null,{"v":0,"d":"0.0"},null,null,{"v":0,"d":"0.0"},null,null,{"v":0,"d":"0.0"}]
[{"$f":"T(A364)","v":""}]
[{"$nulls":4},{"$f":"SUM(E490)","v":{"v":1,"d":"1.0"}},null,{"$f":"SUM(G490)","v":{"v":0,"d":"0.0"}},null,null,{"$f":"SUM((J490+M490+P490)/3)","v":{"v":0,"d":"0.0"}},{"$nulls":8},{"$f":"SUM(((S490*3)+V490+Y490)/5)","v":{"v":0,"d":"0.0"}}]
[]
[{"$f":"T(A488)","v":"Coordinated Complex Attack"},{"$nulls":3},"Threat",null,"Criticality",null,null,"Vulnerability",{"$nulls":8},"Consequence",{"$nulls":8},{"$f":"SUM(((((J498+S498)/2)*G498)*E498))","v":0}]
[{"$nulls":9},"Exposure",null,null,"Protective Measures",null,null,"Robustness/Resilience",null,null,"Human",null,null,"Economic",null,null,"Psychological"]
[{"$f":"T(A369)","v":"Air Handling"},null,{"$f":"T(C369)","v":"CR"},{"$f":"SUM(D369)","v":18},{"v":1,"d":"1.0"},null,{"$f":"SUM(G369)","v":{"v":0,"d":"0.0"}},null,null,{"v":0,"d":"0.0"},null,null,{"v":0,"d":"0.0"},null,null,{"v":0,"d":"0.0"},null,null,{"v":0,"d":"0.0"},null,null,{"v":0,"d":"0.0"},null,null,{"v":0,"d":"0.0"}]
[{"$f":"T(A370)","v":""}]
[{"$nulls":4},{"$f":"SUM(E496)","v":{"v":1,"d":"1.0"}},null,{"$f":"SUM(G496)","v":{"v":0,"d":"0.0"}},null,null,{"$f":"SUM((J496+M496+P496)/3)","v":{"v":0,"d":"0.0"}},{"$nulls":8},{"$f":"SUM(((S496*3)+V496+Y496)/5)","v":{"v":0,"d":"0.0"}}]
[]
[{"$f":"T(A494)","v":"Coordinated Complex Attack"},{"$nulls":3},"Threat",null,"Criticality",null,null,"Vulnerability",{"$nulls":8},"Consequence",{"$nulls":8},{"$f":"SUM(((((J504+S504)/2)*G504)*E504))","v":0}]
[{"$nulls":9},"Exposure",null,null,"Protective Measures",null,null,"Robustness/Resilience",null,null,"Human",null,null,"Economic",null,null,"Psychological"]
[{"$f":"T(A375)","v":"Power Generation/Distribution"},null,{"$f":"T(C375)","v":"CR"},{"$f":"SUM(D375)","v":19},{"v":1,"d":"1.0"},null,{"$f":"SUM(G375)","v":{"v":0,"d":"0.0"}},null,null,{"v":0,"d":"0.0"},null,null,{"v":0,"d":"0.0"},null,null,{"v":0,"d":"0.0"},null,null,{"v":0,"d":"0.0"},null,null,{"v":0,"d":"0.0"},null,null,{"v":0,"d":"0.0"}]
[{"$f":"T(A376)","v":""}]
[{"$nulls":4},{"$f":"SUM(E502)","v":{"v":1,"d":"1.0"}},null,{"$f":"SUM(G502)","v":{"v":0,"d":"0.0"}},null,null,{"$f":"SUM((J502+M502+P502)/3)","v":{"v":0,"d":"0.0"}},{"$nulls":8},{"$f":"SUM(((S502*3)+V502+Y502)/5)","v":{"v":0,"d":"0.0"}}]
[]
[{"$f":"T(A500)","v":"Coordinated Complex Attack"},{"$nulls":3},"Threat",null,"Criticality",null,null,"Vulnerability",{"$nulls":8},"Consequence",{"$nulls":8},{"$f":"SUM(((((J510+S510)/2)*G510)*E510))","v":0}]
[{"$nulls":9},"Exposure",null,null,"Protective Measures",null,null,"Robustness/Resilience",null,null,"Human",null,null,"Economic",null,null,"Psychological"]
[{"$f":"T(A381)","v":"Yards"},null,{"$f":"T(C381)","v":"CR"},{"$f":"SUM(D381)","v":20},{"v":1,"d":"1.0"},null,{"$f":"SUM(G381)","v":{"v":0,"d":"0.0"}},null,null,{"v":0,"d":"0.0"},null,null,{"v":0,"d":"0.0"},null,null,{"v":0,"d":"0.0"},null,null,{"v":0,"d":"0.0"},null,null,{"v":0,"d":"0.0"},null,null,{"v":0,"d":"0.0"}]
[{"$f":"T(A382)","v":""}]
[{"$nulls":4},{"$f":"SUM(E508)","v":{"v":1,"d":"1.0"}},null,{"$f":"SUM(G508)","v":{"v":0,"d":"0.0"}},null,null,{"$f":"SUM((J508+M508+P508)/3)","v":{"v":0,"d":"0.0"}},{"$nulls":8},{"$f":"SUM(((S508*3)+V508+Y508)/5)","v":{"v":0,"d":"0.0"}}]
[]
[{"$f":"T(A506)","v":"Coordinated Complex Attack"},{"$nulls":3},"Threat",null,"Criticality",null,null,"Vulnerability",{"$nulls":8},"Consequence",{"$nulls":8},{"$f":"SUM(((((J516+S516)/2)*G516)*E516))","v":0}]
[{"$nulls":9},"Exposure",null,null,"Protective Measures",null,null,"Robustness/Resilience",null,null,"Human",null,null,"Economic",null,null,"Psychological"]
[{"$f":"T(A387)","v":"Maintenance Barns/Facilities"},null,{"$f":"T(C387)","v":"CR"},{"$f":"SUM(D387)","v":21},{"v":1,"d":"1.0"},null,{"$f":"SUM(G387)","v":{"v":0,"d":"0.0"}},null,null,{"v":0,"d":"0.0"},null,null,{"v":0,"d":"0.0"},null,null,{"v":0,"d":"0.0"},null,null,{"v":0,"d":"0.0"},null,null,{"v":0,"d":"0.0"},null,null,{"v":0,"d":"0.0"}]
[{"$f":"T(A388)","v":""}]
[{"$nulls":4},{"$f":"SUM(E514)","v":{"v":1,"d":"1.0"}},null,{"$f":"SUM(G514)","v":{"v":0,"d":"0.0"}},null,null,{"$f":"SUM((J514+M514+P514)/3)","v":{"v":0,"d":"0.0"}},{"$nulls":8},{"$f":"SUM(((S514*3)+V514+Y514)/5)","v":{"v":0,"d":"0.0"}}]
[]
[{"$f":"T(Definitions!D23)","v":"Cyber Attack"}]
[{"$f":"T(A518)","v":"Cyber Attack"},{"$nulls":3},"Threat",null,"Criticality",null,null,"Vulnerability",{"$nulls":8},"Consequence",{"$nulls":8},{"$f":"SUM(((((J523+S523)/2)*G523)*E523))","v":0}]
[{"$nulls":9},"Exposure",null,null,"Protective Measures",null,null,"Robustness/Resilience",null,null,"Human",null,null,"Economic",null,null,"Psychological"]
[{"$f":"T(A394)","v":"Headquarters Building"},null,{"$f":"T(C394)","v":"CR"},{"$f":"SUM(D394)","v":1},{"v":1,"d":"1.0"},null,{"$f":"SUM(G394)","v":{"v":0,"d":"0.0"}},null,null,{"v":0,"d":"0.0"},null,null,{"v":0,"d":"0.0"},null,null,{"v":0,"d":"0.0"},null,null,{"v":0,"d":"0.0"},null,null,{"v":0,"d":"0.0"},null,null,{"v":0,"d":"0.0"}]
[{"$f":"T(A395)","v":""}]
[{"$nulls":4},{"$f":"SUM(E521)","v":{"v":1,"d":"1.0"}},null,{"$f":"SUM(G521)","v":{"v":0,"d":"0.0"}},null,null,{"$f":"SUM((J521+M521+P521)/3)","v":{"v":0,"d":"0.0"}},{"$nulls":8},{"$f":"SUM(((S521*3)+V521+Y521)/5)","v":{"v":0,"d":"0.0"}}]
[]
[{"$f":"T(A518)","v":"Cyber Attack"},{"$nulls":3},"Threat",null,"Criticality",null,null,"Vulnerability",{"$nulls":8},"Consequence",{"$nulls":8},{"$f":"SUM(((((J529+S529)/2)*G529)*E529))","v":0}]
[{"$nulls":9},"Exposure",null,null,"Protective Measures",null,null,"Robustness/Resilience",null,null,"Human",null,null,"Economic",null,null,"Psychological"]
[{"$f":"T(A400)","v":"Major Passenger Terminals"},null,{"$f":"T(C400)","v":"CR"},{"$f":"SUM(D400)","v":2},{"v":1,"d":"1.0"},null,{"$f":"SUM(G400)","v":{"v":0,"d":"0.0"}},null,null,{"v":0,"d":"0.0"},null,null,{"v":0,"d":"0.0"},null,null,{"v":0,"d":"0.0"},null,null,{"v":0,"d":"0.0"},null,null,{"v":0,"d":"0.0"},null,null,{"v":0,"d":"0.0"}]
[{"$f":"T(A401)","v":""}]
[{"$nulls":4},{"$f":"SUM(E527)","v":{"v":1,"d":"1.0"}},null,{"$f":"SUM(G527)","v":{"v":0,"d":"0.0"}},null,null,{"$f":"SUM((J527+M527+P527)/3)","v":{"v":0,"d":"0.0"}},{"$nulls":8},{"$f":"SUM(((S527*3)+V527+Y527)/5)","v":{"v":0,"d":"0.0"}}]
[]
[{"$f":"T(A525)","v":"Cyber Attack"},{"$nulls":3},"Threat",null,"Criticality",null,null,"Vulnerability",{"$nulls":8},"Consequence",{"$nulls":8},{"$f":"SUM(((((J535+S535)/2)*G535)*E535))","v":0}]
[{"$nulls":9},"Exposure",null,null,"Protective Measures",null,null,"Robustness/Resilience",null,null,"Human",null,null,"Economic",null,null,"Psychological"]
[{"$f":"T(A406)","v":"Major Line Stations"},null,{"$f":"T(C406)","v":"CR"},{"$f":"SUM(D406)","v":3},{"v":1,"d":"1.0"},null,{"$f":"SUM(G406)","v":{"v":0,"d":"0.0"}},null,null,{"v":0,"d":"0.0"},null,null,{"v":0,"d":"0.0"},null,null,{"v":0,"d":"0.0"},null,null,{"v":0,"d":"0.0"},null,null,{"v":0,"d":"0.0"},null,null,{"v":0,"d":"0.0"}]
[{"$f":"T(A407)","v":""}]
[{"$nulls":4},{"$f":"SUM(E533)","v":{"v":1,"d":"1.0"}},null,{"$f":"SUM(G533)","v":{"v":0,"d":"0.0"}},null,null,{"$f":"SUM((J533+M533+P533)/3)","v":{"v":0,"d":"0.0"}},{"$nulls":8},{"$f":"SUM(((S533*3)+V533+Y533)/5)","v":{"v":0,"d":"0.0"}}]
[]
[{"$f":"T(A531)","v":"Cyber Attack"},{"$nulls":3},"Threat",null,"Criticality",null,null,"Vulnerability",{"$nulls":8},"Consequence",{"$nulls":8},{"$f":"SUM(((((J541+S541)/2)*G541)*E541))","v":0}]
[{"$nulls":9},"Exposure",null,null,"Protective Measures",null,null,"Robustness/Resilience",null,null,"Human",null,null,"Economic",null,null,"Psychological"]
[{"$f":"T(A412)","v":"Parking Structures"},null,{"$f":"T(C412)","v":"CR"},{"$f":"SUM(D412)","v":4},{"v":1,"d":"1.0"},null,{"$f":"SUM(G412)","v":{"v":0,"d":"0.0"}},null,null,{"v":0,"d":"0.0"},null,null,{"v":0,"d":"0.0"},null,null,{"v":0,"d":"0.0"},null,null,{"v":0,"d":"0.0"},null,null,{"v":0,"d":"0.0"},null,null,{"v":0,"d":"0.0"}]
[{"$f":"T(A413)","v":""}]
[{"$nulls":4},{"$f":"SUM(E539)","v":{"v":1,"d":"1.0"}},null,{"$f":"SUM(G539)","v":{"v":0,"d":"0.0"}},null,null,{"$f":"SUM((J539+M539+P539)/3)","v":{"v":0,"d":"0.0"}},{"$nulls":8},{"$f":"SUM(((S539*3)+V539+Y539)/5)","v":{"v":0,"d":"0.0"}}]
[]
[{"$f":"T(A537)","v":"Cyber Attack"},{"$nulls":3},"Threat",null,"Criticality",null,null,"Vulnerability",{"$nulls":8},"Consequence",{"$nulls":8},{"$f":"SUM(((((J547+S547)/2)*G547)*E547))","v":0}]
[{"$nulls":9},"Exposure",null,null,"Protective Measures",null,null,"Robustness/Resilience",null,null,"Human",null,null,"Economic",null,null,"Psychological"]
[{"$f":"T(A418)","v":"Consist - Type 1"},null,{"$f":"T(C418)","v":"CR"},{"$f":"SUM(D418)","v":5},{"v":1,"d":"1.0"},null,{"$f":"SUM(G418)","v":{"v":0,"d":"0.0"}},null,null,{"v":0,"d":"0.0"},null,null,{"v":0,"d":"0.0"},null,null,{"v":0,"d":"0.0"},null,null,{"v":0,"d":"0.0"},null,null,{"v":0,"d":"0.0"},null,null,{"v":0,"d":"0.0"}]
[{"$f":"T(A419)","v":""}]
[{"$nulls":4},{"$f":"SUM(E545)","v":{"v":1,"d":"1.0"}},null,{"$f":"SUM(G545)","v":{"v":0,"d":"0.0"}},null,null,{"$f":"SUM((J545+M545+P545)/3)","v":{"v":0,"d":"0.0"}},{"$nulls":8},{"$f":"SUM(((S545*3)+V545+Y545)/5)","v":{"v":0,"d":"0.0"}}]
[]
[{"$f":"T(A543)","v":"Cyber Attack"},{"$nulls":3},"Threat",null,"Criticality",null,null,"Vulnerability",{"$nulls":8},"Consequence",{"$nulls":8},{"$f":"SUM(((((J553+S553)/2)*G553)*E553))","v":0}]
[{"$nulls":9},"Exposure",null,null,"Protective Measures",null,null,"Robustness/Resilience",null,null,"Human",null,null,"Economic",null,null,"Psychological"]
[{"$f":"T(A424)","v":"Consist - Type 2"},null,{"$f":"T(C424)","v":"CR"},{"$f":"SUM(D424)","v":6},{"v":1,"d":"1.0"},null,{"$f":"SUM(G424)","v":{"v":0,"d":"0.0"}},null,null,{"v":0,"d":"0.0"},null,null,{"v":0,"d":"0.0"},null,null,{"v":0,"d":"0.0"},null,null,{"v":0,"d":"0.0"},null,null,{"v":0,"d":"0.0"},null,null,{"v":0,"d":"0.0"}]
[{"$f":"T(A425)","v":""}]
[{"$nulls":4},{"$f":"SUM(E551)","v":{"v":1,"d":"1.0"}},null,{"$f":"SUM(G551)","v":{"v":0,"d":"0.0"}},null,null,{"$f":"SUM((J551+M551+P551)/3)","v":{"v":0,"d":"0.0"}},{"$nulls":8},{"$f":"SUM(((S551*3)+V551+Y551)/5)","v":{"v":0,"d":"0.0"}}]
[]
[{"$f":"T(A549)","v":"Cyber Attack"},{"$nulls":3},"Threat",null,"Criticality",null,null,"Vulnerability",{"$nulls":8},"Consequence",{"$nulls":8},{"$f":"SUM(((((J559+S559)/2)*G559)*E559))","v":0}]
[{"$nulls":9},"Exposure",null,null,"Protective Measures",null,null,"Robustness/Resilience",null,null,"Human",null,null,"Economic",null,null,"Psychological"]
[{"$f":"T(A430)","v":"Primary Control Center"},null,{"$f":"T(C430)","v":"CR"},{"$f":"SUM(D430)","v":7},{"v":1,"d":"1.0"},null,{"$f":"SUM(G430)","v":{"v":0,"d":"0.0"}},null,null,{"v":0,"d":"0.0"},null,null,{"v":0,"d":"0.0"},null,null,{"v":0,"d":"0.0"},null,null,{"v":0,"d":"0.0"},null,null,{"v":0,"d":"0.0"},null,null,{"v":0,"d":"0.0"}]
[{"$f":"T(A431)","v":""}]
[{"$nulls":4},{"$f":"SUM(E557)","v":{"v":1,"d":"1.0"}},null,{"$f":"SUM(G557)","v":{"v":0,"d":"0.0"}},null,null,{"$f":"SUM((J557+M557+P557)/3)","v":{"v":0,"d":"0.0"}},{"$nulls":8},{"$f":"SUM(((S557*3)+V557+Y557)/5)","v":{"v":0,"d":"0.0"}}]
[]
[{"$f":"T(A555)","v":"Cyber Attack"},{"$nulls":3},"Threat",null,"Criticality",null,null,"Vulnerability",{"$nulls":8},"Consequence",{"$nulls":8},{"$f":"SUM(((((J565+S565)/2)*G565)*E565))","v":0}]
[{"$nulls":9},"Exposure",null,null,"Protective Measures",null,null,"Robustness/Resilience",null,null,"Human",null,null,"Economic",null,null,"Psychological"]
[{"$f":"T(A436)","v":"Control Towers"},null,{"$f":"T(C436)","v":"CR"},{"$f":"SUM(D436)","v":8},{"v":1,"d":"1.0"},null,{"$f":"SUM(G436)","v":{"v":0,"d":"0.0"}},null,null,{"v":0,"d":"0.0"},null,null,{"v":0,"d":"0.0"},null,null,{"v":0,"d":"0.0"},null,null,{"v":0,"d":"0.0"},null,null,{"v":0,"d":"0.0"},null,null,{"v":0,"d":"0.0"}]
[{"$f":"T(A437)","v":""}]
[{"$nulls":4},{"$f":"SUM(E563)","v":{"v":1,"d":"1.0"}},null,{"$f":"SUM(G563)","v":{"v":0,"d":"0.0"}},null,null,{"$f":"SUM((J563+M563+P563)/3)","v":{"v":0,"d":"0.0"}},{"$nulls":8},{"$f":"SUM(((S563*3)+V563+Y563)/5)","v":{"v":0,"d":"0.0"}}]
[]
[{"$f":"T(A561)","v":"Cyber Attack"},{"$nulls":3},"Threat",null,"Criticality",null,null,"Vulnerability",{"$nulls":8},"Consequence",{"$nulls":8},{"$f":"SUM(((((J571+S571)/2)*G571)*E571))","v":0}]
[{"$nulls":9},"Exposure",null,null,"Protective Measures",null,null,"Robustness/Resilience",null,null,"Human",null,null,"Economic",null,null,"Psychological"]
[{"$f":"T(A442)","v":"Cyber Systems"},null,{"$f":"T(C442)","v":"CR"},{"$f":"SUM(D442)","v":9},{"v":1,"d":"1.0"},null,{"$f":"SUM(G442)","v":{"v":0,"d":"0.0"}},null,null,{"v":0,"d":"0.0"},null,null,{"v":0,"d":"0.0"},null,null,{"v":0,"d":"0.0"},null,null,{"v":0,"d":"0.0"},null,null,{"v":0,"d":"0.0"},null,null,{"v":0,"d":"0.0"}]
[{"$f":"T(A443)","v":""}]
[{"$nulls":4},{"$f":"SUM(E569)","v":{"v":1,"d":"1.0"}},null,{"$f":"SUM(G569)","v":{"v":0,"d":"0.0"}},null,null,{"$f":"SUM((J569+M569+P569)/3)","v":{"v":0,"d":"0.0"}},{"$nulls":8},{"$f":"SUM(((S569*3)+V569+Y569)/5)","v":{"v":0,"d":"0.0"}}]
[]
[{"$f":"T(A567)","v":"Cyber Attack"},{"$nulls":3},"Threat",null,"Criticality",null,null,"Vulnerability",{"$nulls":8},"Consequence",{"$nulls":8},{"$f":"SUM(((((J577+S577)/2)*G577)*E577))","v":0}]
[{"$nulls":9},"Exposure",null,null,"Protective Measures",null,null,"Robustness/Resilience",null,null,"Human",null,null,"Economic",null,null,"Psychological"]
[{"$f":"T(A448)","v":"Right of Way (ROW)"},null,{"$f":"T(C448)","v":"CR"},{"$f":"SUM(D448)","v":10},{"v":1,"d":"1.0"},null,{"$f":"SUM(G448)","v":{"v":0,"d":"0.0"}},null,null,{"v":0,"d":"0.0"},null,null,{"v":0,"d":"0.0"},null,null,{"v":0,"d":"0.0"},null,null,{"v":0,"d":"0.0"},null,null,{"v":0,"d":"0.0"},null,null,{"v":0,"d":"0.0"}]
[{"$f":"T(A449)","v":""}]
[{"$nulls":4},{"$f":"SUM(E575)","v":{"v":1,"d":"1.0"}},null,{"$f":"SUM(G575)","v":{"v":0,"d":"0.0"}},null,null,{"$f":"SUM((J575+M575+P575)/3)","v":{"v":0,"d":"0.0"}},{"$nulls":8},{"$f":"SUM(((S575*3)+V575+Y575)/5)","v":{"v":0,"d":"0.0"}}]
[]
[{"$f":"T(A573)","v":"Cyber Attack"},{"$nulls":3},"Threat",null,"Criticality",null,null,"Vulnerability",{"$nulls":8},"Consequence",{"$nulls":8},{"$f":"SUM(((((J583+S583)/2)*G583)*E583))","v":0}]
[{"$nulls":9},"Exposure",null,null,"Protective Measures",null,null,"Robustness/Resilience",null,null,"Human",null,null,"Economic",null,null,"Psychological"]
[{"$f":"T(A454)","v":"Signals & PTC"},null,{"$f":"T(C454)","v":"CR"},{"$f":"SUM(D454)","v":11},{"v":1,"d":"1.0"},null,{"$f":"SUM(G454)","v":{"v":0,"d":"0.0"}},null,null,{"v":0,"d":"0.0"},null,null,{"v":0,"d":"0.0"},null,null,{"v":0,"d":"0.0"},null,null,{"v":0,"d":"0.0"},null,null,{"v":0,"d":"0.0"},null,null,{"v":0,"d":"0.0"}]
[{"$f":"T(A455)","v":""}]
[{"$nulls":4},{"$f":"SUM(E581)","v":{"v":1,"d":"1.0"}},null,{"$f":"SUM(G581)","v":{"v":0,"d":"0.0"}},null,null,{"$f":"SUM((J581+M581+P581)/3)","v":{"v":0,"d":"0.0"}},{"$nulls":8},{"$f":"SUM(((S581*3)+V581+Y581)/5)","v":{"v":0,"d":"0.0"}}]
[]
[{"$f":"T(A579)","v":"Cyber Attack"},{"$nulls":3},"Threat",null,"Criticality",null,null,"Vulnerability",{"$nulls":8},"Consequence",{"$nulls":8},{"$f":"SUM(((((J589+S589)/2)*G589)*E589))","v":0}]
[{"$nulls":9},"Exposure",null,null,"Protective Measures",null,null,"Robustness/Resilience",null,null,"Human",null,null,"Economic",null,null,"Psychological"]
[{"$f":"T(A460)","v":"Switches "},null,{"$f":"T(C460)","v":"CR"},{"$f":"SUM(D460)","v":12},{"v":1,"d":"1.0"},null,{"$f":"SUM(G460)","v":{"v":0,"d":"0.0"}},null,null,{"v":0,"d":"0.0"},null,null,{"v":0,"d":"0.0"},null,null,{"v":0,"d":"0.0"},null,null,{"v":0,"d":"0.0"},null,null,{"v":0,"d":"0.0"},null,null,{"v":0,"d":"0.0"}]
[{"$f":"T(A461)","v":""}]
[{"$nulls":4},{"$f":"SUM(E587)","v":{"v":1,"d":"1.0"}},null,{"$f":"SUM(G587)","v":{"v":0,"d":"0.0"}},null,null,{"$f":"SUM((J587+M587+P587)/3)","v":{"v":0,"d":"0.0"}},{"$nulls":8},{"$f":"SUM(((S587*3)+V587+Y587)/5)","v":{"v":0,"d":"0.0"}}]
[]
[{"$f":"T(A585)","v":"Cyber Attack"},{"$nulls":3},"Threat",null,"Criticality",null,null,"Vulnerability",{"$nulls":8},"Consequence",{"$nulls":8},{"$f":"SUM(((((J595+S595)/2)*G595)*E595))","v":0}]
[{"$nulls":9},"Exposure",null,null,"Protective Measures",null,null,"Robustness/Resilience",null,null,"Human",null,null,"Economic",null,null,"Psychological"]
[{"$f":"T(A466)","v":"Bridges"},null,{"$f":"T(C466)","v":"CR"},{"$f":"SUM(D466)","v":13},{"v":1,"d":"1.0"},null,{"$f":"SUM(G466)","v":{"v":0,"d":"0.0"}},null,null,{"v":0,"d":"0.0"},null,null,{"v":0,"d":"0.0"},null,null,{"v":0,"d":"0.0"},null,null,{"v":0,"d":"0.0"},null,null,{"v":0,"d":"0.0"},null,null,{"v":0,"d":"0.0"}]
[{"$f":"T(A467)","v":""}]
[{"$nulls":4},{"$f":"SUM(E593)","v":{"v":1,"d":"1.0"}},null,{"$f":"SUM(G593)","v":{"v":0,"d":"0.0"}},null,null,{"$f":"SUM((J593+M593+P593)/3)","v":{"v":0,"d":"0.0"}},{"$nulls":8},{"$f":"SUM(((S593*3)+V593+Y593)/5)","v":{"v":0,"d":"0.0"}}]
[]
[{"$f":"T(A591)","v":"Cyber Attack"},{"$nulls":3},"Threat",null,"Criticality",null,null,"Vulnerability",{"$nulls":8},"Consequence",{"$nulls":8},{"$f":"SUM(((((J601+S601)/2)*G601)*E601))","v":0}]
[{"$nulls":9},"Exposure",null,null,"Protective Measures",null,null,"Robustness/Resilience",null,null,"Human",null,null,"Economic",null,null,"Psychological"]
[{"$f":"T(A472)","v":"Elevated Track"},null,{"$f":"T(C472)","v":"CR"},{"$f":"SUM(D472)","v":14},{"v":1,"d":"1.0"},null,{"$f":"SUM(G472)","v":{"v":0,"d":"0.0"}},null,null,{"v":0,"d":"0.0"},null,null,{"v":0,"d":"0.0"},null,null,{"v":0,"d":"0.0"},null,null,{"v":0,"d":"0.0"},null,null,{"v":0,"d":"0.0"},null,null,{"v":0,"d":"0.0"}]
[{"$f":"T(A473)","v":""}]
[{"$nulls":4},{"$f":"SUM(E599)","v":{"v":1,"d":"1.0"}},null,{"$f":"SUM(G599)","v":{"v":0,"d":"0.0"}},null,null,{"$f":"SUM((J599+M599+P599)/3)","v":{"v":0,"d":"0.0"}},{"$nulls":8},{"$f":"SUM(((S599*3)+V599+Y599)/5)","v":{"v":0,"d":"0.0"}}]
[]
[{"$f":"T(A597)","v":"Cyber Attack"},{"$nulls":3},"Threat",null,"Criticality",null,null,"Vulnerability",{"$nulls":8},"Consequence",{"$nulls":8},{"$f":"SUM(((((J607+S607)/2)*G607)*E607))","v":0}]
[{"$nulls":9},"Exposure",null,null,"Protective Measures",null,null,"Robustness/Resilience",null,null,"Human",null,null,"Economic",null,null,"Psychological"]
[{"$f":"T(A478)","v":"Tunnels "},null,{"$f":"T(C478)","v":"CR"},{"$f":"SUM(D478)","v":15},{"v":1,"d":"1.0"},null,{"$f":"SUM(G478)","v":{"v":0,"d":"0.0"}},null,null,{"v":0,"d":"0.0"},null,null,{"v":0,"d":"0.0"},null,null,{"v":0,"d":"0.0"},null,null,{"v":0,"d":"0.0"},null,null,{"v":0,"d":"0.0"},null,null,{"v":0,"d":"0.0"}]
[{"$f":"T(A479)","v":""}]
[{"$nulls":4},{"$f":"SUM(E605)","v":{"v":1,"d":"1.0"}},null,{"$f":"SUM(G605)","v":{"v":0,"d":"0.0"}},null,null,{"$f":"SUM((J605+M605+P605)/3)","v":{"v":0,"d":"0.0"}},{"$nulls":8},{"$f":"SUM(((S605*3)+V605+Y605)/5)","v":{"v":0,"d":"0.0"}}]
[]
[{"$f":"T(A603)","v":"Cyber Attack"},{"$nulls":3},"Threat",null,"Criticality",null,null,"Vulnerability",{"$nulls":8},"Consequence",{"$nulls":8},{"$f":"SUM(((((J613+S613)/2)*G613)*E613))","v":0}]
[{"$nulls":9},"Exposure",null,null,"Protective Measures",null,null,"Robustness/Resilience",null,null,"Human",null,null,"Economic",null,null,"Psychological"]
[{"$f":"T(A484)","v":"Choke Points on ROW"},null,{"$f":"T(C484)","v":"CR"},{"$f":"SUM(D484)","v":16},{"v":1,"d":"1.0"},null,{"$f":"SUM(G484)","v":{"v":0,"d":"0.0"}},null,null,{"v":0,"d":"0.0"},null,null,{"v":0,"d":"0.0"},null,null,{"v":0,"d":"0.0"},null,null,{"v":0,"d":"0.0"},null,null,{"v":0,"d":"0.0"},null,null,{"v":0,"d":"0.0"}]
[{"$f":"T(A485)","v":""}]
[{"$nulls":4},{"$f":"SUM(E611)","v":{"v":1,"d":"1.0"}},null,{"$f":"SUM(G611)","v":{"v":0,"d":"0.0"}},null,null,{"$f":"SUM((J611+M611+P611)/3)","v":{"v":0,"d":"0.0"}},{"$nulls":8},{"$f":"SUM(((S611*3)+V611+Y611)/5)","v":{"v":0,"d":"0.0"}}]
[]
[{"$f":"T(A609)","v":"Cyber Attack"},{"$nulls":3},"Threat",null,"Criticality",null,null,"Vulnerability",{"$nulls":8},"Consequence",{"$nulls":8},{"$f":"SUM(((((J619+S619)/2)*G619)*E619))","v":0}]
[{"$nulls":9},"Exposure",null,null,"Protective Measures",null,null,"Robustness/Resilience",null,null,"Human",null,null,"Economic",null,null,"Psychological"]
[{"$f":"T(A490)","v":"Fire Suppression"},null,{"$f":"T(C490)","v":"CR"},{"$f":"SUM(D490)","v":17},{"v":1,"d":"1.0"},null,{"$f":"SUM(G490)","v":{"v":0,"d":"0.0"}},null,null,{"v":0,"d":"0.0"},null,null,{"v":0,"d":"0.0"},null,null,{"v":0,"d":"0.0"},null,null,{"v":0,"d":"0.0"},null,null,{"v":0,"d":"0.0"},null,null,{"v":0,"d":"0.0"}]
[{"$f":"T(A491)","v":""}]
[{"$nulls":4},{"$f":"SUM(E617)","v":{"v":1,"d":"1.0"}},null,{"$f":"SUM(G617)","v":{"v":0,"d":"0.0"}},null,null,{"$f":"SUM((J617+M617+P617)/3)","v":{"v":0,"d":"0.0"}},{"$nulls":8},{"$f":"SUM(((S617*3)+V617+Y617)/5)","v":{"v":0,"d":"0.0"}}]
[]
[{"$f":"T(A615)","v":"Cyber Attack"},{"$nulls":3},"Threat",null,"Criticality",null,null,"Vulnerability",{"$nulls":8},"Consequence",{"$nulls":8},{"$f":"SUM(((((J625+S625)/2)*G625)*E625))","v":0}]
[{"$nulls":9},"Exposure",null,null,"Protective Measures",null,null,"Robustness/Resilience",null,null,"Human",null,null,"Economic",null,null,"Psychological"]
[{"$f":"T(A496)","v":"Air Handling"},null,{"$f":"T(C496)","v":"CR"},{"$f":"SUM(D496)","v":18},{"v":1,"d":"1.0"},null,{"$f":"SUM(G496)","v":{"v":0,"d":"0.0"}},null,null,{"v":0,"d":"0.0"},null,null,{"v":0,"d":"0.0"},null,null,{"v":0,"d":"0.0"},null,null,{"v":0,"d":"0.0"},null,null,{"v":0,"d":"0.0"},null,null,{"v":0,"d":"0.0"}]
[{"$f":"T(A497)","v":""}]
[{"$nulls":4},{"$f":"SUM(E623)","v":{"v":1,"d":"1.0"}},null,{"$f":"SUM(G623)","v":{"v":0,"d":"0.0"}},null,null,{"$f":"SUM((J623+M623+P623)/3)","v":{"v":0,"d":"0.0"}},{"$nulls":8},{"$f":"SUM(((S623*3)+V623+Y623)/5)","v":{"v":0,"d":"0.0"}}]
[]
[{"$f":"T(A621)","v":"Cyber Attack"},{"$nulls":3},"Threat",null,"Criticality",null,null,"Vulnerability",{"$nulls":8},"Consequence",{"$nulls":8},{"$f":"SUM(((((J631+S631)/2)*G631)*E631))","v":0}]
[{"$nulls":9},"Exposure",null,null,"Protective Measures",null,null,"Robustness/Resilience",null,null,"Human",null,null,"Economic",null,null,"Psychological"]
[{"$f":"T(A502)","v":"Power Generation/Distribution"},null,{"$f":"T(C502)","v":"CR"},{"$f":"SUM(D502)","v":19},{"v":1,"d":"1.0"},null,{"$f":"SUM(G502)","v":{"v":0,"d":"0.0"}},null,null,{"v":0,"d":"0.0"},null,null,{"v":0,"d":"0.0"},null,null,{"v":0,"d":"0.0"},null,null,{"v":0,"d":"0.0"},null,null,{"v":0,"d":"0.0"},null,null,{"v":0,"d":"0.0"}]
[{"$f":"T(A503)","v":""}]
[{"$nulls":4},{"$f":"SUM(E629)","v":{"v":1,"d":"1.0"}},null,{"$f":"SUM(G629)","v":{"v":0,"d":"0.0"}},null,null,{"$f":"SUM((J629+M629+P629)/3)","v":{"v":0,"d":"0.0"}},{"$nulls":8},{"$f":"SUM(((S629*3)+V629+Y629)/5)","v":{"v":0,"d":"0.0"}}]
[]
[{"$f":"T(A627)","v":"Cyber Attack"},{"$nulls":3},"Threat",null,"Criticality",null,null,"Vulnerability",{"$nulls":8},"Consequence",{"$nulls":8},{"$f":"SUM(((((J637+S637)/2)*G637)*E637))","v":0}]
[{"$nulls":9},"Exposure",null,null,"Protective Measures",null,null,"Robustness/Resilience",null,null,"Human",null,null,"Economic",null,null,"Psychological"]
[{"$f":"T(A508)","v":"Yards"},null,{"$f":"T(C508)","v":"CR"},{"$f":"SUM(D508)","v":20},{"v":1,"d":"1.0"},null,{"$f":"SUM(G508)","v":{"v":0,"d":"0.0"}},null,null,{"v":0,"d":"0.0"},null,null,{"v":0,"d":"0.0"},null,null,{"v":0,"d":"0.0"},null,null,{"v":0,"d":"0.0"},null,null,{"v":0,"d":"0.0"},null,null,{"v":0,"d":"0.0"}]
[{"$f":"T(A509)","v":""}]
[{"$nulls":4},{"$f":"SUM(E635)","v":{"v":1,"d":"1.0"}},null,{"$f":"SUM(G635)","v":{"v":0,"d":"0.0"}},null,null,{"$f":"SUM((J635+M635+P635)/3)","v":{"v":0,"d":"0.0"}},{"$nulls":8},{"$f":"SUM(((S635*3)+V635+Y635)/5)","v":{"v":0,"d":"0.0"}}]
[]
[{"$f":"T(A633)","v":"Cyber Attack"},{"$nulls":3},"Threat",null,"Criticality",null,null,"Vulnerability",{"$nulls":8},"Consequence",{"$nulls":8},{"$f":"SUM(((((J643+S643)/2)*G643)*E643))","v":0}]
[{"$nulls":9},"Exposure",null,null,"Protective Measures",null,null,"Robustness/Resilience",null,null,"Human",null,null,"Economic",null,null,"Psychological"]
[{"$f":"T(A514)","v":"Maintenance Barns/Facilities"},null,{"$f":"T(C514)","v":"CR"},{"$f":"SUM(D514)","v":21},{"v":1,"d":"1.0"},null,{"$f":"SUM(G514)","v":{"v":0,"d":"0.0"}},null,null,{"v":0,"d":"0.0"},null,null,{"v":0,"d":"0.0"},null,null,{"v":0,"d":"0.0"},null,null,{"v":0,"d":"0.0"},null,null,{"v":0,"d":"0.0"},null,null,{"v":0,"d":"0.0"}]
[{"$f":"T(A515)","v":""}]
[{"$nulls":4},{"$f":"SUM(E641)","v":{"v":1,"d":"1.0"}},null,{"$f":"SUM(G641)","v":{"v":0,"d":"0.0"}},null,null,{"$f":"SUM((J641+M641+P641)/3)","v":{"v":0,"d":"0.0"}},{"$nulls":8},{"$f":"SUM(((S641*3)+V641+Y641)/5)","v":{"v":0,"d":"0.0"}}]
[]
[{"$f":"T(Definitions!D24)","v":"Natural Disaster"}]
[{"$f":"T(A645)","v":"Natural Disaster"},{"$nulls":3},"Threat",null,"Criticality",null,null,"Vulnerability",{"$nulls":8},"Consequence",{"$nulls":8},{"$f":"SUM(((((J650+S650)/2)*G650)*E650))","v":0}]
[{"$nulls":9},"Exposure",null,null,"Protective Measures",null,null,"Robustness/Resilience",null,null,"Human",null,null,"Economic",null,null,"Psychological"]
[{"$f":"T(A521)","v":"Headquarters Building"},null,{"$f":"T(C521)","v":"CR"},{"$f":"SUM(D521)","v":1},{"v":1,"d":"1.0"},null,{"$f":"SUM(G521)","v":{"v":0,"d":"0.0"}},null,null,{"v":0,"d":"0.0"},null,null,{"v":0,"d":"0.0"},null,null,{"v":0,"d":"0.0"},null,null,{"v":0,"d":"0.0"},null,null,{"v":0,"d":"0.0"},null,null,{"v":0,"d":"0.0"}]
[{"$f":"T(A522)","v":""}]
[{"$nulls":4},{"$f":"SUM(E648)","v":{"v":1,"d":"1.0"}},null,{"$f":"SUM(G648)","v":{"v":0,"d":"0.0"}},null,null,{"$f":"SUM((J648+M648+P648)/3)","v":{"v":0,"d":"0.0"}},{"$nulls":8},{"$f":"SUM(((S648*3)+V648+Y648)/5)","v":{"v":0,"d":"0.0"}}]
[]
[{"$f":"T(A645)","v":"Natural Disaster"},{"$nulls":3},"Threat",null,"Criticality",null,null,"Vulnerability",{"$nulls":8},"Consequence",{"$nulls":8},{"$f":"SUM(((((J656+S656)/2)*G656)*E656))","v":0}]
[{"$nulls":9},"Exposure",null,null,"Protective Measures",null,null,"Robustness/Resilience",null,null,"Human",null,null,"Economic",null,null,"Psychological"]
[{"$f":"T(A527)","v":"Major Passenger Terminals"},null,{"$f":"T(C527)","v":"CR"},{"$f":"SUM(D527)","v":2},{"v":1,"d":"1.0"},null,{"$f":"SUM(G527)","v":{"v":0,"d":"0.0"}},null,null,{"v":0,"d":"0.0"},null,null,{"v":0,"d":"0.0"},null,null,{"v":0,"d":"0.0"},null,null,{"v":0,"d":"0.0"},null,null,{"v":0,"d":"0.0"},null,null,{"v":0,"d":"0.0"}]
[{"$f":"T(A528)","v":""}]
[{"$nulls":4},{"$f":"SUM(E654)","v":{"v":1,"d":"1.0"}},null,{"$f":"SUM(G654)","v":{"v":0,"d":"0.0"}},null,null,{"$f":"SUM((J654+M654+P654)/3)","v":{"v":0,"d":"0.0"}},{"$nulls":8},{"$f":"SUM(((S654*3)+V654+Y654)/5)","v":{"v":0,"d":"0.0"}}]
[]
[{"$f":"T(A652)","v":"Natural Disaster"},{"$nulls":3},"Threat",null,"Criticality",null,null,"Vulnerability",{"$nulls":8},"Consequence",{"$nulls":8},{"$f":"SUM(((((J662+S662)/2)*G662)*E662))","v":0}]
[{"$nulls":9},"Exposure",null,null,"Protective Measures",null,null,"Robustness/Resilience",null,null,"Human",null,null,"Economic",null,null,"Psychological"]
[{"$f":"T(A533)","v":"Major Line Stations"},null,{"$f":"T(C533)","v":"CR"},{"$f":"SUM(D533)","v":3},{"v":1,"d":"1.0"},null,{"$f":"SUM(G533)","v":{"v":0,"d":"0.0"}},null,null,{"v":0,"d":"0.0"},null,null,{"v":0,"d":"0.0"},null,null,{"v":0,"d":"0.0"},null,null,{"v":0,"d":"0.0"},null,null,{"v":0,"d":"0.0"},null,null,{"v":0,"d":"0.0"}]
[{"$f":"T(A534)","v":""}]
[{"$nulls":4},{"$f":"SUM(E660)","v":{"v":1,"d":"1.0"}},null,{"$f":"SUM(G660)","v":{"v":0,"d":"0.0"}},null,null,{"$f":"SUM((J660+M660+P660)/3)","v":{"v":0,"d":"0.0"}},{"$nulls":8},{"$f":"SUM(((S660*3)+V660+Y660)/5)","v":{"v":0,"d":"0.0"}}]
[]
[{"$f":"T(A658)","v":"Natural Disaster"},{"$nulls":3},"Threat",null,"Criticality",null,null,"Vulnerability",{"$nulls":8},"Consequence",{"$nulls":8},{"$f":"SUM(((((J668+S668)/2)*G668)*E668))","v":0}]
[{"$nulls":9},"Exposure",null,null,"Protective Measures",null,null,"Robustness/Resilience",null,null,"Human",null,null,"Economic",null,null,"Psychological"]
[{"$f":"T(A539)","v":"Parking Structures"},null,{"$f":"T(C539)","v":"CR"},{"$f":"SUM(D539)","v":4},{"v":1,"d":"1.0"},null,{"$f":"SUM(G539)","v":{"v":0,"d":"0.0"}},null,null,{"v":0,"d":"0.0"},null,null,{"v":0,"d":"0.0"},null,null,{"v":0,"d":"0.0"},null,null,{"v":0,"d":"0.0"},null,null,{"v":0,"d":"0.0"},null,null,{"v":0,"d":"0.0"}]
[{"$f":"T(A540)","v":""}]
[{"$nulls":4},{"$f":"SUM(E666)","v":{"v":1,"d":"1.0"}},null,{"$f":"SUM(G666)","v":{"v":0,"d":"0.0"}},null,null,{"$f":"SUM((J666+M666+P666)/3)","v":{"v":0,"d":"0.0"}},{"$nulls":8},{"$f":"SUM(((S666*3)+V666+Y666)/5)","v":{"v":0,"d":"0.0"}}]
[]
[{"$f":"T(A664)","v":"Natural Disaster"},{"$nulls":3},"Threat",null,"Criticality",null,null,"Vulnerability",{"$nulls":8},"Consequence",{"$nulls":8},{"$f":"SUM(((((J674+S674)/2)*G674)*E674))","v":0}]
[{"$nulls":9},"Exposure",null,null,"Protective Measures",null,null,"Robustness/Resilience",null,null,"Human",null,null,"Economic",null,null,"Psychological"]
[{"$f":"T(A545)","v":"Consist - Type 1"},null,{"$f":"T(C545)","v":"CR"},{"$f":"SUM(D545)","v":5},{"v":1,"d":"1.0"},null,{"$f":"SUM(G545)","v":{"v":0,"d":"0.0"}},null,null,{"v":0,"d":"0.0"},null,null,{"v":0,"d":"0.0"},null,null,{"v":0,"d":"0.0"},null,null,{"v":0,"d":"0.0"},null,null,{"v":0,"d":"0.0"},null,null,{"v":0,"d":"0.0"}]
[{"$f":"T(A546)","v":""}]
[{"$nulls":4},{"$f":"SUM(E672)","v":{"v":1,"d":"1.0"}},null,{"$f":"SUM(G672)","v":{"v":0,"d":"0.0"}},null,null,{"$f":"SUM((J672+M672+P672)/3)","v":{"v":0,"d":"0.0"}},{"$nulls":8},{"$f":"SUM(((S672*3)+V672+Y672)/5)","v":{"v":0,"d":"0.0"}}]
[]
[{"$f":"T(A670)","v":"Natural Disaster"},{"$nulls":3},"Threat",null,"Criticality",null,null,"Vulnerability",{"$nulls":8},"Consequence",{"$nulls":8},{"$f":"SUM(((((J680+S680)/2)*G680)*E680))","v":0}]
[{"$nulls":9},"Exposure",null,null,"Protective Measures",null,null,"Robustness/Resilience",null,null,"Human",null,null,"Economic",null,null,"Psychological"]
[{"$f":"T(A551)","v":"Consist - Type 2"},null,{"$f":"T(C551)","v":"CR"},{"$f":"SUM(D551)","v":6},{"v":1,"d":"1.0"},null,{"$f":"SUM(G551)","v":{"v":0,"d":"0.0"}},null,null,{"v":0,"d":"0.0"},null,null,{"v":0,"d":"0.0"},null,null,{"v":0,"d":"0.0"},null,null,{"v":0,"d":"0.0"},null,null,{"v":0,"d":"0.0"},null,null,{"v":0,"d":"0.0"}]
[{"$f":"T(A552)","v":""}]
[{"$nulls":4},{"$f":"SUM(E678)","v":{"v":1,"d":"1.0"}},null,{"$f":"SUM(G678)","v":{"v":0,"d":"0.0"}},null,null,{"$f":"SUM((J678+M678+P678)/3)","v":{"v":0,"d":"0.0"}},{"$nulls":8},{"$f":"SUM(((S678*3)+V678+Y678)/5)","v":{"v":0,"d":"0.0"}}]
[]
[{"$f":"T(A676)","v":"Natural Disaster"},{"$nulls":3},"Threat",null,"Criticality",null,null,"Vulnerability",{"$nulls":8},"Consequence",{"$nulls":8},{"$f":"SUM(((((J686+S686)/2)*G686)*E686))","v":0}]
[{"$nulls":9},"Exposure",null,null,"Protective Measures",null,null,"Robustness/Resilience",null,null,"Human",null,null,"Economic",null,null,"Psychological"]
[{"$f":"T(A557)","v":"Primary Control Center"},null,{"$f":"T(C557)","v":"CR"},{"$f":"SUM(D557)","v":7},{"v":1,"d":"1.0"},null,{"$f":"SUM(G557)","v":{"v":0,"d":"0.0"}},null,null,{"v":0,"d":"0.0"},null,null,{"v":0,"d":"0.0"},null,null,{"v":0,"d":"0.0"},null,null,{"v":0,"d":"0.0"},null,null,{"v":0,"d":"0.0"},null,null,{"v":0,"d":"0.0"}]
[{"$f":"T(A558)","v":""}]
[{"$nulls":4},{"$f":"SUM(E684)","v":{"v":1,"d":"1.0"}},null,{"$f":"SUM(G684)","v":{"v":0,"d":"0.0"}},null,null,{"$f":"SUM((J684+M684+P684)/3)","v":{"v":0,"d":"0.0"}},{"$nulls":8},{"$f":"SUM(((S684*3)+V684+Y684)/5)","v":{"v":0,"d":"0.0"}}]
[]
[{"$f":"T(A682)","v":"Natural Disaster"},{"$nulls":3},"Threat",null,"Criticality",null,null,"Vulnerability",{"$nulls":8},"Consequence",{"$nulls":8},{"$f":"SUM(((((J692+S692)/2)*G692)*E692))","v":0}]
[{"$nulls":9},"Exposure",null,null,"Protective Measures",null,null,"Robustness/Resilience",null,null,"Human",null,null,"Economic",null,null,"Psychological"]
[{"$f":"T(A563)","v":"Control Towers"},null,{"$f":"T(C563)","v":"CR"},{"$f":"SUM(D563)","v":8},{"v":1,"d":"1.0"},null,{"$f":"SUM(G563)","v":{"v":0,"d":"0.0"}},null,null,{"v":0,"d":"0.0"},null,null,{"v":0,"d":"0.0"},null,null,{"v":0,"d":"0.0"},null,null,{"v":0,"d":"0.0"},null,null,{"v":0,"d":"0.0"},null,null,{"v":0,"d":"0.0"}]
[{"$f":"T(A564)","v":""}]
[{"$nulls":4},{"$f":"SUM(E690)","v":{"v":1,"d":"1.0"}},null,{"$f":"SUM(G690)","v":{"v":0,"d":"0.0"}},null,null,{"$f":"SUM((J690+M690+P690)/3)","v":{"v":0,"d":"0.0"}},{"$nulls":8},{"$f":"SUM(((S690*3)+V690+Y690)/5)","v":{"v":0,"d":"0.0"}}]
[]
[{"$f":"T(A688)","v":"Natural Disaster"},{"$nulls":3},"Threat",null,"Criticality",null,null,"Vulnerability",{"$nulls":8},"Consequence",{"$nulls":8},{"$f":"SUM(((((J698+S698)/2)*G698)*E698))","v":0}]
[{"$nulls":9},"Exposure",null,null,"Protective Measures",null,null,"Robustness/Resilience",null,null,"Human",null,null,"Economic",null,null,"Psychological"]
[{"$f":"T(A569)","v":"Cyber Systems"},null,{"$f":"T(C569)","v":"CR"},{"$f":"SUM(D569)","v":9},{"v":1,"d":"1.0"},null,{"$f":"SUM(G569)","v":{"v":0,"d":"0.0"}},null,null,{"v":0,"d":"0.0"},null,null,{"v":0,"d":"0.0"},null,null,{"v":0,"d":"0.0"},null,null,{"v":0,"d":"0.0"},null,null,{"v":0,"d":"0.0"},null,null,{"v":0,"d":"0.0"}]
[{"$f":"T(A570)","v":""}]
[{"$nulls":4},{"$f":"SUM(E696)","v":{"v":1,"d":"1.0"}},null,{"$f":"SUM(G696)","v":{"v":0,"d":"0.0"}},null,null,{"$f":"SUM((J696+M696+P696)/3)","v":{"v":0,"d":"0.0"}},{"$nulls":8},{"$f":"SUM(((S696*3)+V696+Y696)/5)","v":{"v":0,"d":"0.0"}}]
[]
[{"$f":"T(A694)","v":"Natural Disaster"},{"$nulls":3},"Threat",null,"Criticality",null,null,"Vulnerability",{"$nulls":8},"Consequence",{"$nulls":8},{"$f":"SUM(((((J704+S704)/2)*G704)*E704))","v":0}]
[{"$nulls":9},"Exposure",null,null,"Protective Measures",null,null,"Robustness/Resilience",null,null,"Human",null,null,"Economic",null,null,"Psychological"]
[{"$f":"T(A575)","v":"Right of Way (ROW)"},null,{"$f":"T(C575)","v":"CR"},{"$f":"SUM(D575)","v":10},{"v":1,"d":"1.0"},null,{"$f":"SUM(G575)","v":{"v":0,"d":"0.0"}},null,null,{"v":0,"d":"0.0"},null,null,{"v":0,"d":"0.0"},null,null,{"v":0,"d":"0.0"},null,null,{"v":0,"d":"0.0"},null,null,{"v":0,"d":"0.0"},null,null,{"v":0,"d":"0.0"}]
[{"$f":"T(A576)","v":""}]
[{"$nulls":4},{"$f":"SUM(E702)","v":{"v":1,"d":"1.0"}},null,{"$f":"SUM(G702)","v":{"v":0,"d":"0.0"}},null,null,{"$f":"SUM((J702+M702+P702)/3)","v":{"v":0,"d":"0.0"}},{"$nulls":8},{"$f":"SUM(((S702*3)+V702+Y702)/5)","v":{"v":0,"d":"0.0"}}]
[]
[{"$f":"T(A700)","v":"Natural Disaster"},{"$nulls":3},"Threat",null,"Criticality",null,null,"Vulnerability",{"$nulls":8},"Consequence",{"$nulls":8},{"$f":"SUM(((((J710+S710)/2)*G710)*E710))","v":0}]
[{"$nulls":9},"Exposure",null,null,"Protective Measures",null,null,"Robustness/Resilience",null,null,"Human",null,null,"Economic",null,null,"Psychological"]
[{"$f":"T(A581)","v":"Signals & PTC"},null,{"$f":"T(C581)","v":"CR"},{"$f":"SUM(D581)","v":11},{"v":1,"d":"1.0"},null,{"$f":"SUM(G581)","v":{"v":0,"d":"0.0"}},null,null,{"v":0,"d":"0.0"},null,null,{"v":0,"d":"0.0"},null,null,{"v":0,"d":"0.0"},null,null,{"v":0,"d":"0.0"},null,null,{"v":0,"d":"0.0"},null,null,{"v":0,"d":"0.0"}]
[{"$f":"T(A582)","v":""}]
[{"$nulls":4},{"$f":"SUM(E708)","v":{"v":1,"d":"1.0"}},null,{"$f":"SUM(G708)","v":{"v":0,"d":"0.0"}},null,null,{"$f":"SUM((J708+M708+P708)/3)","v":{"v":0,"d":"0.0"}},{"$nulls":8},{"$f":"SUM(((S708*3)+V708+Y708)/5)","v":{"v":0,"d":"0.0"}}]
[]
[{"$f":"T(A706)","v":"Natural Disaster"},{"$nulls":3},"Threat",null,"Criticality",null,null,"Vulnerability",{"$nulls":8},"Consequence",{"$nulls":8},{"$f":"SUM(((((J716+S716)/2)*G716)*E716))","v":0}]
[{"$nulls":9},"Exposure",null,null,"Protective Measures",null,null,"Robustness/Resilience",null,null,"Human",null,null,"Economic",null,null,"Psychological"]
[{"$f":"T(A587)","v":"Switches "},null,{"$f":"T(C587)","v":"CR"},{"$f":"SUM(D587)","v":12},{"v":1,"d":"1.0"},null,{"$f":"SUM(G587)","v":{"v":0,"d":"0.0"}},null,null,{"v":0,"d":"0.0"},null,null,{"v":0,"d":"0.0"},null,null,{"v":0,"d":"0.0"},null,null,{"v":0,"d":"0.0"},null,null,{"v":0,"d":"0.0"},null,null,{"v":0,"d":"0.0"}]
[{"$f":"T(A588)","v":""}]
[{"$nulls":4},{"$f":"SUM(E714)","v":{"v":1,"d":"1.0"}},null,{"$f":"SUM(G714)","v":{"v":0,"d":"0.0"}},null,null,{"$f":"SUM((J714+M714+P714)/3)","v":{"v":0,"d":"0.0"}},{"$nulls":8},{"$f":"SUM(((S714*3)+V714+Y714)/5)","v":{"v":0,"d":"0.0"}}]
[]
[{"$f":"T(A712)","v":"Natural Disaster"},{"$nulls":3},"Threat",null,"Criticality",null,null,"Vulnerability",{"$nulls":8},"Consequence",{"$nulls":8},{"$f":"SUM(((((J722+S722)/2)*G722)*E722))","v":0}]
[{"$nulls":9},"Exposure",null,null,"Protective Measures",null,null,"Robustness/Resilience",null,null,"Human",null,null,"Economic",null,null,"Psychological"]
[{"$f":"T(A593)","v":"Bridges"},null,{"$f":"T(C593)","v":"CR"},{"$f":"SUM(D593)","v":13},{"v":1,"d":"1.0"},null,{"$f":"SUM(G593)","v":{"v":0,"d":"0.0"}},null,null,{"v":0,"d":"0.0"},null,null,{"v":0,"d":"0.0"},null,null,{"v":0,"d":"0.0"},null,null,{"v":0,"d":"0.0"},null,null,{"v":0,"d":"0.0"},null,null,{"v":0,"d":"0.0"}]
[{"$f":"T(A594)","v":""}]
[{"$nulls":4},{"$f":"SUM(E720)","v":{"v":1,"d":"1.0"}},null,{"$f":"SUM(G720)","v":{"v":0,"d":"0.0"}},null,null,{"$f":"SUM((J720+M720+P720)/3)","v":{"v":0,"d":"0.0"}},{"$nulls":8},{"$f":"SUM(((S720*3)+V720+Y720)/5)","v":{"v":0,"d":"0.0"}}]
[]
[{"$f":"T(A718)","v":"Natural Disaster"},{"$nulls":3},"Threat",null,"Criticality",null,null,"Vulnerability",{"$nulls":8},"Consequence",{"$nulls":8},{"$f":"SUM(((((J728+S728)/2)*G728)*E728))","v":0}]
[{"$nulls":9},"Exposure",null,null,"Protective Measures",null,null,"Robustness/Resilience",null,null,"Human",null,null,"Economic",null,null,"Psychological"]
[{"$f":"T(A599)","v":"Elevated Track"},null,{"$f":"T(C599)","v":"CR"},{"$f":"SUM(D599)","v":14},{"v":1,"d":"1.0"},null,{"$f":"SUM(G599)","v":{"v":0,"d":"0.0"}},null,null,{"v":0,"d":"0.0"},null,null,{"v":0,"d":"0.0"},null,null,{"v":0,"d":"0.0"},null,null,{"v":0,"d":"0.0"},null,null,{"v":0,"d":"0.0"},null,null,{"v":0,"d":"0.0"}]
[{"$f":"T(A600)","v":""}]
[{"$nulls":4},{"$f":"SUM(E726)","v":{"v":1,"d":"1.0"}},null,{"$f":"SUM(G726)","v":{"v":0,"d":"0.0"}},null,null,{"$f":"SUM((J726+M726+P726)/3)","v":{"v":0,"d":"0.0"}},{"$nulls":8},{"$f":"SUM(((S726*3)+V726+Y726)/5)","v":{"v":0,"d":"0.0"}}]
[]
[{"$f":"T(A724)","v":"Natural Disaster"},{"$nulls":3},"Threat",null,"Criticality",null,null,"Vulnerability",{"$nulls":8},"Consequence",{"$nulls":8},{"$f":"SUM(((((J734+S734)/2)*G734)*E734))","v":0}]
[{"$nulls":9},"Exposure",null,null,"Protective Measures",null,null,"Robustness/Resilience",null,null,"Human",null,null,"Economic",null,null,"Psychological"]
[{"$f":"T(A605)","v":"Tunnels "},null,{"$f":"T(C605)","v":"CR"},{"$f":"SUM(D605)","v":15},{"v":1,"d":"1.0"},null,{"$f":"SUM(G605)","v":{"v":0,"d":"0.0"}},null,null,{"v":0,"d":"0.0"},null,null,{"v":0,"d":"0.0"},null,null,{"v":0,"d":"0.0"},null,null,{"v":0,"d":"0.0"},null,null,{"v":0,"d":"0.0"},null,null,{"v":0,"d":"0.0"}]
[{"$f":"T(A606)","v":""}]
[{"$nulls":4},{"$f":"SUM(E732)","v":{"v":1,"d":"1.0"}},null,{"$f":"SUM(G732)","v":{"v":0,"d":"0.0"}},null,null,{"$f":"SUM((J732+M732+P732)/3)","v":{"v":0,"d":"0.0"}},{"$nulls":8},{"$f":"SUM(((S732*3)+V732+Y732)/5)","v":{"v":0,"d":"0.0"}}]
[]
[{"$f":"T(A730)","v":"Natural Disaster"},{"$nulls":3},"Threat",null,"Criticality",null,null,"Vulnerability",{"$nulls":8},"Consequence",{"$nulls":8},{"$f":"SUM(((((J740+S740)/2)*G740)*E740))","v":0}]
[{"$nulls":9},"Exposure",null,null,"Protective Measures",null,null,"Robustness/Resilience",null,null,"Human",null,null,"Economic",null,null,"Psychological"]
[{"$f":"T(A611)","v":"Choke Points on ROW"},null,{"$f":"T(C611)","v":"CR"},{"$f":"SUM(D611)","v":16},{"v":1,"d":"1.0"},null,{"$f":"SUM(G611)","v":{"v":0,"d":"0.0"}},null,null,{"v":0,"d":"0.0"},null,null,{"v":0,"d":"0.0"},null,null,{"v":0,"d":"0.0"},null,null,{"v":0,"d":"0.0"},null,null,{"v":0,"d":"0.0"},null,null,{"v":0,"d":"0.0"}]
[{"$f":"T(A612)","v":""}]
[{"$nulls":4},{"$f":"SUM(E738)","v":{"v":1,"d":"1.0"}},null,{"$f":"SUM(G738)","v":{"v":0,"d":"0.0"}},null,null,{"$f":"SUM((J738+M738+P738)/3)","v":{"v":0,"d":"0.0"}},{"$nulls":8},{"$f":"SUM(((S738*3)+V738+Y738)/5)","v":{"v":0,"d":"0.0"}}]
[]
[{"$f":"T(A736)","v":"Natural Disaster"},{"$nulls":3},"Threat",null,"Criticality",null,null,"Vulnerability",{"$nulls":8},"Consequence",{"$nulls":8},{"$f":"SUM(((((J746+S746)/2)*G746)*E746))","v":0}]
[{"$nulls":9},"Exposure",null,null,"Protective Measures",null,null,"Robustness/Resilience",null,null,"Human",null,null,"Economic",null,null,"Psychological"]
[{"$f":"T(A617)","v":"Fire Suppression"},null,{"$f":"T(C617)","v":"CR"},{"$f":"SUM(D617)","v":17},{"v":1,"d":"1.0"},null,{"$f":"SUM(G617)","v":{"v":0,"d":"0.0"}},null,null,{"v":0,"d":"0.0"},null,null,{"v":0,"d":"0.0"},null,null,{"v":0,"d":"0.0"},null,null,{"v":0,"d":"0.0"},null,null,{"v":0,"d":"0.0"},null,null,{"v":0,"d":"0.0"}]
[{"$f":"T(A618)","v":""}]
[{"$nulls":4},{"$f":"SUM(E744)","v":{"v":1,"d":"1.0"}},null,{"$f":"SUM(G744)","v":{"v":0,"d":"0.0"}},null,null,{"$f":"SUM((J744+M744+P744)/3)","v":{"v":0,"d":"0.0"}},{"$nulls":8},{"$f":"SUM(((S744*3)+V744+Y744)/5)","v":{"v":0,"d":"0.0"}}]
[]
[{"$f":"T(A742)","v":"Natural Disaster"},{"$nulls":3},"Threat",null,"Criticality",null,null,"Vulnerability",{"$nulls":8},"Consequence",{"$nulls":8},{"$f":"SUM(((((J752+S752)/2)*G752)*E752))","v":0}]
[{"$nulls":9},"Exposure",null,null,"Protective Measures",null,null,"Robustness/Resilience",null,null,"Human",null,null,"Economic",null,null,"Psychological"]
[{"$f":"T(A623)","v":"Air Handling"},null,{"$f":"T(C623)","v":"CR"},{"$f":"SUM(D623)","v":18},{"v":1,"d":"1.0"},null,{"$f":"SUM(G623)","v":{"v":0,"d":"0.0"}},null,null,{"v":0,"d":"0.0"},null,null,{"v":0,"d":"0.0"},null,null,{"v":0,"d":"0.0"},null,null,{"v":0,"d":"0.0"},null,null,{"v":0,"d":"0.0"},null,null,{"v":0,"d":"0.0"}]
[{"$f":"T(A624)","v":""}]
[{"$nulls":4},{"$f":"SUM(E750)","v":{"v":1,"d":"1.0"}},null,{"$f":"SUM(G750)","v":{"v":0,"d":"0.0"}},null,null,{"$f":"SUM((J750+M750+P750)/3)","v":{"v":0,"d":"0.0"}},{"$nulls":8},{"$f":"SUM(((S750*3)+V750+Y750)/5)","v":{"v":0,"d":"0.0"}}]
[]
[{"$f":"T(A748)","v":"Natural Disaster"},{"$nulls":3},"Threat",null,"Criticality",null,null,"Vulnerability",{"$nulls":8},"Consequence",{"$nulls":8},{"$f":"SUM(((((J758+S758)/2)*G758)*E758))","v":0}]
[{"$nulls":9},"Exposure",null,null,"Protective Measures",null,null,"Robustness/Resilience",null,null,"Human",null,null,"Economic",null,null,"Psychological"]
[{"$f":"T(A629)","v":"Power Generation/Distribution"},null,{"$f":"T(C629)","v":"CR"},{"$f":"SUM(D629)","v":19},{"v":1,"d":"1.0"},null,{"$f":"SUM(G629)","v":{"v":0,"d":"0.0"}},null,null,{"v":0,"d":"0.0"},null,null,{"v":0,"d":"0.0"},null,null,{"v":0,"d":"0.0"},null,null,{"v":0,"d":"0.0"},null,null,{"v":0,"d":"0.0"},null,null,{"v":0,"d":"0.0"}]
[{"$f":"T(A630)","v":""}]
[{"$nulls":4},{"$f":"SUM(E756)","v":{"v":1,"d":"1.0"}},null,{"$f":"SUM(G756)","v":{"v":0,"d":"0.0"}},null,null,{"$f":"SUM((J756+M756+P756)/3)","v":{"v":0,"d":"0.0"}},{"$nulls":8},{"$f":"SUM(((S756*3)+V756+Y756)/5)","v":{"v":0,"d":"0.0"}}]
[]
[{"$f":"T(A754)","v":"Natural Disaster"},{"$nulls":3},"Threat",null,"Criticality",null,null,"Vulnerability",{"$nulls":8},"Consequence",{"$nulls":8},{"$f":"SUM(((((J764+S764)/2)*G764)*E764))","v":0}]
[{"$nulls":9},"Exposure",null,null,"Protective Measures",null,null,"Robustness/Resilience",null,null,"Human",null,null,"Economic",null,null,"Psychological"]
[{"$f":"T(A635)","v":"Yards"},null,{"$f":"T(C635)","v":"CR"},{"$f":"SUM(D635)","v":20},{"v":1,"d":"1.0"},null,{"$f":"SUM(G635)","v":{"v":0,"d":"0.0"}},null,null,{"v":0,"d":"0.0"},null,null,{"v":0,"d":"0.0"},null,null,{"v":0,"d":"0.0"},null,null,{"v":0,"d":"0.0"},null,null,{"v":0,"d":"0.0"},null,null,{"v":0,"d":"0.0"}]
[{"$f":"T(A636)","v":""}]
[{"$nulls":4},{"$f":"SUM(E762)","v":{"v":1,"d":"1.0"}},null,{"$f":"SUM(G762)","v":{"v":0,"d":"0.0"}},null,null,{"$f":"SUM((J762+M762+P762)/3)","v":{"v":0,"d":"0.0"}},{"$nulls":8},{"$f":"SUM(((S762*3)+V762+Y762)/5)","v":{"v":0,"d":"0.0"}}]
[]
[{"$f":"T(A760)","v":"Natural Disaster"},{"$nulls":3},"Threat",null,"Criticality",null,null,"Vulnerability",{"$nulls":8},"Consequence",{"$nulls":8},{"$f":"SUM(((((J770+S770)/2)*G770)*E770))","v":0}]
[{"$nulls":9},"Exposure",null,null,"Protective Measures",null,null,"Robustness/Resilience",null,null,"Human",null,null,"Economic",null,null,"Psychological"]
[{"$f":"T(A641)","v":"Maintenance Barns/Facilities"},null,{"$f":"T(C641)","v":"CR"},{"$f":"SUM(D641)","v":21},{"v":1,"d":"1.0"},null,{"$f":"SUM(G641)","v":{"v":0,"d":"0.0"}},null,null,{"v":0,"d":"0.0"},null,null,{"v":0,"d":"0.0"},null,null,{"v":0,"d":"0.0"},null,null,{"v":0,"d":"0.0"},null,null,{"v":0,"d":"0.0"},null,null,{"v":0,"d":"0.0"}]
[{"$f":"T(A642)","v":""}]
[{"$nulls":4},{"$f":"SUM(E768)","v":{"v":1,"d":"1.0"}},null,{"$f":"SUM(G768)","v":{"v":0,"d":"0.0"}},null,null,{"$f":"SUM((J768+M768+P768)/3)","v":{"v":0,"d":"0.0"}},{"$nulls":8},{"$f":"SUM(((S768*3)+V768+Y768)/5)","v":{"v":0,"d":"0.0"}}]
[]
[{"$f":"T(Definitions!D25)","v":"Industrial Disaster "}]
[{"$f":"T(A772)","v":"Industrial Disaster "},{"$nulls":3},"Threat",null,"Criticality",null,null,"Vulnerability",{"$nulls":8},"Consequence",{"$nulls":8},{"$f":"SUM(((((J777+S777)/2)*G777)*E777))","v":0}]
[{"$nulls":9},"Exposure",null,null,"Protective Measures",null,null,"Robustness/Resilience",null,null,"Human",null,null,"Economic",null,null,"Psychological"]
[{"$f":"T(A648)","v":"Headquarters Building"},null,{"$f":"T(C648)","v":"CR"},{"$f":"SUM(D648)","v":1},{"v":1,"d":"1.0"},null,{"$f":"SUM(G648)","v":{"v":0,"d":"0.0"}},null,null,{"v":0,"d":"0.0"},null,null,{"v":0,"d":"0.0"},null,null,{"v":0,"d":"0.0"},null,null,{"v":0,"d":"0.0"},null,null,{"v":0,"d":"0.0"},null,null,{"v":0,"d":"0.0"}]
[{"$f":"T(A649)","v":""}]
[{"$nulls":4},{"$f":"SUM(E775)","v":{"v":1,"d":"1.0"}},null,{"$f":"SUM(G775)","v":{"v":0,"d":"0.0"}},null,null,{"$f":"SUM((J775+M775+P775)/3)","v":{"v":0,"d":"0.0"}},{"$nulls":8},{"$f":"SUM(((S775*3)+V775+Y775)/5)","v":{"v":0,"d":"0.0"}}]
[]
[{"$f":"T(A772)","v":"Industrial Disaster "},{"$nulls":3},"Threat",null,"Criticality",null,null,"Vulnerability",{"$nulls":8},"Consequence",{"$nulls":8},{"$f":"SUM(((((J783+S783)/2)*G783)*E783))","v":0}]
[{"$nulls":9},"Exposure",null,null,"Protective Measures",null,null,"Robustness/Resilience",null,null,"Human",null,null,"Economic",null,null,"Psychological"]
[{"$f":"T(A654)","v":"Major Passenger Terminals"},null,{"$f":"T(C654)","v":"CR"},{"$f":"SUM(D654)","v":2},{"v":1,"d":"1.0"},null,{"$f":"SUM(G654)","v":{"v":0,"d":"0.0"}},null,null,{"v":0,"d":"0.0"},null,null,{"v":0,"d":"0.0"},null,null,{"v":0,"d":"0.0"},null,null,{"v":0,"d":"0.0"},null,null,{"v":0,"d":"0.0"},null,null,{"v":0,"d":"0.0"}]
[{"$f":"T(A655)","v":""}]
[{"$nulls":4},{"$f":"SUM(E781)","v":{"v":1,"d":"1.0"}},null,{"$f":"SUM(G781)","v":{"v":0,"d":"0.0"}},null,null,{"$f":"SUM((J781+M781+P781)/3)","v":{"v":0,"d":"0.0"}},{"$nulls":8},{"$f":"SUM(((S781*3)+V781+Y781)/5)","v":{"v":0,"d":"0.0"}}]
[]
[{"$f":"T(A779)","v":"Industrial Disaster "},{"$nulls":3},"Threat",null,"Criticality",null,null,"Vulnerability",{"$nulls":8},"Consequence",{"$nulls":8},{"$f":"SUM(((((J789+S789)/2)*G789)*E789))","v":0}]
[{"$nulls":9},"Exposure",null,null,"Protective Measures",null,null,"Robustness/Resilience",null,null,"Human",null,null,"Economic",null,null,"Psychological"]
[{"$f":"T(A660)","v":"Major Line Stations"},null,{"$f":"T(C660)","v":"CR"},{"$f":"SUM(D660)","v":3},{"v":1,"d":"1.0"},null,{"$f":"SUM(G660)","v":{"v":0,"d":"0.0"}},null,null,{"v":0,"d":"0.0"},null,null,{"v":0,"d":"0.0"},null,null,{"v":0,"d":"0.0"},null,null,{"v":0,"d":"0.0"},null,null,{"v":0,"d":"0.0"},null,null,{"v":0,"d":"0.0"}]
[{"$f":"T(A661)","v":""}]
[{"$nulls":4},{"$f":"SUM(E787)","v":{"v":1,"d":"1.0"}},null,{"$f":"SUM(G787)","v":{"v":0,"d":"0.0"}},null,null,{"$f":"SUM((J787+M787+P787)/3)","v":{"v":0,"d":"0.0"}},{"$nulls":8},{"$f":"SUM(((S787*3)+V787+Y787)/5)","v":{"v":0,"d":"0.0"}}]
[]
[{"$f":"T(A785)","v":"Industrial Disaster "},{"$nulls":3},"Threat",null,"Criticality",null,null,"Vulnerability",{"$nulls":8},"Consequence",{"$nulls":8},{"$f":"SUM(((((J795+S795)/2)*G795)*E795))","v":0}]
[{"$nulls":9},"Exposure",null,null,"Protective Measures",null,null,"Robustness/Resilience",null,null,"Human",null,null,"Economic",null,null,"Psychological"]
[{"$f":"T(A666)","v":"Parking Structures"},null,{"$f":"T(C666)","v":"CR"},{"$f":"SUM(D666)","v":4},{"v":1,"d":"1.0"},null,{"$f":"SUM(G666)","v":{"v":0,"d":"0.0"}},null,null,{"v":0,"d":"0.0"},null,null,{"v":0,"d":"0.0"},null,null,{"v":0,"d":"0.0"},null,null,{"v":0,"d":"0.0"},null,null,{"v":0,"d":"0.0"},null,null,{"v":0,"d":"0.0"}]
[{"$f":"T(A667)","v":""}]
[{"$nulls":4},{"$f":"SUM(E793)","v":{"v":1,"d":"1.0"}},null,{"$f":"SUM(G793)","v":{"v":0,"d":"0.0"}},null,null,{"$f":"SUM((J793+M793+P793)/3)","v":{"v":0,"d":"0.0"}},{"$nulls":8},{"$f":"SUM(((S793*3)+V793+Y793)/5)","v":{"v":0,"d":"0.0"}}]
[]
[{"$f":"T(A791)","v":"Industrial Disaster "},{"$nulls":3},"Threat",null,"Criticality",null,null,"Vulnerability",{"$nulls":8},"Consequence",{"$nulls":8},{"$f":"SUM(((((J801+S801)/2)*G801)*E801))","v":0}]
[{"$nulls":9},"Exposure",null,null,"Protective Measures",null,null,"Robustness/Resilience",null,null,"Human",null,null,"Economic",null,null,"Psychological"]
[{"$f":"T(A672)","v":"Consist - Type 1"},null,{"$f":"T(C672)","v":"CR"},{"$f":"SUM(D672)","v":5},{"v":1,"d":"1.0"},null,{"$f":"SUM(G672)","v":{"v":0,"d":"0.0"}},null,null,{"v":0,"d":"0.0"},null,null,{"v":0,"d":"0.0"},null,null,{"v":0,"d":"0.0"},null,null,{"v":0,"d":"0.0"},null,null,{"v":0,"d":"0.0"},null,null,{"v":0,"d":"0.0"}]
[{"$f":"T(A673)","v":""}]
[{"$nulls":4},{"$f":"SUM(E799)","v":{"v":1,"d":"1.0"}},null,{"$f":"SUM(G799)","v":{"v":0,"d":"0.0"}},null,null,{"$f":"SUM((J799+M799+P799)/3)","v":{"v":0,"d":"0.0"}},{"$nulls":8},{"$f":"SUM(((S799*3)+V799+Y799)/5)","v":{"v":0,"d":"0.0"}}]
[]
[{"$f":"T(A797)","v":"Industrial Disaster "},{"$nulls":3},"Threat",null,"Criticality",null,null,"Vulnerability",{"$nulls":8},"Consequence",{"$nulls":8},{"$f":"SUM(((((J807+S807)/2)*G807)*E807))","v":0}]
[{"$nulls":9},"Exposure",null,null,"Protective Measures",null,null,"Robustness/Resilience",null,null,"Human",null,null,"Economic",null,null,"Psychological"]
[{"$f":"T(A678)","v":"Consist - Type 2"},null,{"$f":"T(C678)","v":"CR"},{"$f":"SUM(D678)","v":6},{"v":1,"d":"1.0"},null,{"$f":"SUM(G678)","v":{"v":0,"d":"0.0"}},null,null,{"v":0,"d":"0.0"},null,null,{"v":0,"d":"0.0"},null,null,{"v":0,"d":"0.0"},null,null,{"v":0,"d":"0.0"},null,null,{"v":0,"d":"0.0"},null,null,{"v":0,"d":"0.0"}]
[{"$f":"T(A679)","v":""}]
[{"$nulls":4},{"$f":"SUM(E805)","v":{"v":1,"d":"1.0"}},null,{"$f":"SUM(G805)","v":{"v":0,"d":"0.0"}},null,null,{"$f":"SUM((J805+M805+P805)/3)","v":{"v":0,"d":"0.0"}},{"$nulls":8},{"$f":"SUM(((S805*3)+V805+Y805)/5)","v":{"v":0,"d":"0.0"}}]
[]
[{"$f":"T(A803)","v":"Industrial Disaster "},{"$nulls":3},"Threat",null,"Criticality",null,null,"Vulnerability",{"$nulls":8},"Consequence",{"$nulls":8},{"$f":"SUM(((((J813+S813)/2)*G813)*E813))","v":0}]
[{"$nulls":9},"Exposure",null,null,"Protective Measures",null,null,"Robustness/Resilience",null,null,"Human",null,null,"Economic",null,null,"Psychological"]
[{"$f":"T(A684)","v":"Primary Control Center"},null,{"$f":"T(C684)","v":"CR"},{"$f":"SUM(D684)","v":7},{"v":1,"d":"1.0"},null,{"$f":"SUM(G684)","v":{"v":0,"d":"0.0"}},null,null,{"v":0,"d":"0.0"},null,null,{"v":0,"d":"0.0"},null,null,{"v":0,"d":"0.0"},null,null,{"v":0,"d":"0.0"},null,null,{"v":0,"d":"0.0"},null,null,{"v":0,"d":"0.0"}]
[{"$f":"T(A685)","v":""}]
[{"$nulls":4},{"$f":"SUM(E811)","v":{"v":1,"d":"1.0"}},null,{"$f":"SUM(G811)","v":{"v":0,"d":"0.0"}},null,null,{"$f":"SUM((J811+M811+P811)/3)","v":{"v":0,"d":"0.0"}},{"$nulls":8},{"$f":"SUM(((S811*3)+V811+Y811)/5)","v":{"v":0,"d":"0.0"}}]
[]
[{"$f":"T(A809)","v":"Industrial Disaster "},{"$nulls":3},"Threat",null,"Criticality",null,null,"Vulnerability",{"$nulls":8},"Consequence",{"$nulls":8},{"$f":"SUM(((((J819+S819)/2)*G819)*E819))","v":0}]
[{"$nulls":9},"Exposure",null,null,"Protective Measures",null,null,"Robustness/Resilience",null,null,"Human",null,null,"Economic",null,null,"Psychological"]
[{"$f":"T(A690)","v":"Control Towers"},null,{"$f":"T(C690)","v":"CR"},{"$f":"SUM(D690)","v":8},{"v":1,"d":"1.0"},null,{"$f":"SUM(G690)","v":{"v":0,"d":"0.0"}},null,null,{"v":0,"d":"0.0"},null,null,{"v":0,"d":"0.0"},null,null,{"v":0,"d":"0.0"},null,null,{"v":0,"d":"0.0"},null,null,{"v":0,"d":"0.0"},null,null,{"v":0,"d":"0.0"}]
[{"$f":"T(A691)","v":""}]
[{"$nulls":4},{"$f":"SUM(E817)","v":{"v":1,"d":"1.0"}},null,{"$f":"SUM(G817)","v":{"v":0,"d":"0.0"}},null,null,{"$f":"SUM((J817+M817+P817)/3)","v":{"v":0,"d":"0.0"}},{"$nulls":8},{"$f":"SUM(((S817*3)+V817+Y817)/5)","v":{"v":0,"d":"0.0"}}]
[]
[{"$f":"T(A815)","v":"Industrial Disaster "},{"$nulls":3},"Threat",null,"Criticality",null,null,"Vulnerability",{"$nulls":8},"Consequence",{"$nulls":8},{"$f":"SUM(((((J825+S825)/2)*G825)*E825))","v":0}]
[{"$nulls":9},"Exposure",null,null,"Protective Measures",null,null,"Robustness/Resilience",null,null,"Human",null,null,"Economic",null,null,"Psychological"]
[{"$f":"T(A696)","v":"Cyber Systems"},null,{"$f":"T(C696)","v":"CR"},{"$f":"SUM(D696)","v":9},{"v":1,"d":"1.0"},null,{"$f":"SUM(G696)","v":{"v":0,"d":"0.0"}},null,null,{"v":0,"d":"0.0"},null,null,{"v":0,"d":"0.0"},null,null,{"v":0,"d":"0.0"},null,null,{"v":0,"d":"0.0"},null,null,{"v":0,"d":"0.0"},null,null,{"v":0,"d":"0.0"}]
[{"$f":"T(A697)","v":""}]
[{"$nulls":4},{"$f":"SUM(E823)","v":{"v":1,"d":"1.0"}},null,{"$f":"SUM(G823)","v":{"v":0,"d":"0.0"}},null,null,{"$f":"SUM((J823+M823+P823)/3)","v":{"v":0,"d":"0.0"}},{"$nulls":8},{"$f":"SUM(((S823*3)+V823+Y823)/5)","v":{"v":0,"d":"0.0"}}]
[]
[{"$f":"T(A821)","v":"Industrial Disaster "},{"$nulls":3},"Threat",null,"Criticality",null,null,"Vulnerability",{"$nulls":8},"Consequence",{"$nulls":8},{"$f":"SUM(((((J831+S831)/2)*G831)*E831))","v":0}]
[{"$nulls":9},"Exposure",null,null,"Protective Measures",null,null,"Robustness/Resilience",null,null,"Human",null,null,"Economic",null,null,"Psychological"]
[{"$f":"T(A702)","v":"Right of Way (ROW)"},null,{"$f":"T(C702)","v":"CR"},{"$f":"SUM(D702)","v":10},{"v":1,"d":"1.0"},null,{"$f":"SUM(G702)","v":{"v":0,"d":"0.0"}},null,null,{"v":0,"d":"0.0"},null,null,{"v":0,"d":"0.0"},null,null,{"v":0,"d":"0.0"},null,null,{"v":0,"d":"0.0"},null,null,{"v":0,"d":"0.0"},null,null,{"v":0,"d":"0.0"}]
[{"$f":"T(A703)","v":""}]
[{"$nulls":4},{"$f":"SUM(E829)","v":{"v":1,"d":"1.0"}},null,{"$f":"SUM(G829)","v":{"v":0,"d":"0.0"}},null,null,{"$f":"SUM((J829+M829+P829)/3)","v":{"v":0,"d":"0.0"}},{"$nulls":8},{"$f":"SUM(((S829*3)+V829+Y829)/5)","v":{"v":0,"d":"0.0"}}]
[]
[{"$f":"T(A827)","v":"Industrial Disaster "},{"$nulls":3},"Threat",null,"Criticality",null,null,"Vulnerability",{"$nulls":8},"Consequence",{"$nulls":8},{"$f":"SUM(((((J837+S837)/2)*G837)*E837))","v":0}]
[{"$nulls":9},"Exposure",null,null,"Protective Measures",null,null,"Robustness/Resilience",null,null,"Human",null,null,"Economic",null,null,"Psychological"]
[{"$f":"T(A708)","v":"Signals & PTC"},null,{"$f":"T(C708)","v":"CR"},{"$f":"SUM(D708)","v":11},{"v":1,"d":"1.0"},null,{"$f":"SUM(G708)","v":{"v":0,"d":"0.0"}},null,null,{"v":0,"d":"0.0"},null,null,{"v":0,"d":"0.0"},null,null,{"v":0,"d":"0.0"},null,null,{"v":0,"d":"0.0"},null,null,{"v":0,"d":"0.0"},null,null,{"v":0,"d":"0.0"}]
[{"$f":"T(A709)","v":""}]
[{"$nulls":4},{"$f":"SUM(E835)","v":{"v":1,"d":"1.0"}},null,{"$f":"SUM(G835)","v":{"v":0,"d":"0.0"}},null,null,{"$f":"SUM((J835+M835+P835)/3)","v":{"v":0,"d":"0.0"}},{"$nulls":8},{"$f":"SUM(((S835*3)+V835+Y835)/5)","v":{"v":0,"d":"0.0"}}]
[]
[{"$f":"T(A833)","v":"Industrial Disaster "},{"$nulls":3},"Threat",null,"Criticality",null,null,"Vulnerability",{"$nulls":8},"Consequence",{"$nulls":8},{"$f":"SUM(((((J843+S843)/2)*G843)*E843))","v":0}]
[{"$nulls":9},"Exposure",null,null,"Protective Measures",null,null,"Robustness/Resilience",null,null,"Human",null,null,"Economic",null,null,"Psychological"]
[{"$f":"T(A714)","v":"Switches "},null,{"$f":"T(C714)","v":"CR"},{"$f":"SUM(D714)","v":12},{"v":1,"d":"1.0"},null,{"$f":"SUM(G714)","v":{"v":0,"d":"0.0"}},null,null,{"v":0,"d":"0.0"},null,null,{"v":0,"d":"0.0"},null,null,{"v":0,"d":"0.0"},null,null,{"v":0,"d":"0.0"},null,null,{"v":0,"d":"0.0"},null,null,{"v":0,"d":"0.0"}]
[{"$f":"T(A715)","v":""}]
[{"$nulls":4},{"$f":"SUM(E841)","v":{"v":1,"d":"1.0"}},null,{"$f":"SUM(G841)","v":{"v":0,"d":"0.0"}},null,null,{"$f":"SUM((J841+M841+P841)/3)","v":{"v":0,"d":"0.0"}},{"$nulls":8},{"$f":"SUM(((S841*3)+V841+Y841)/5)","v":{"v":0,"d":"0.0"}}]
[]
[{"$f":"T(A839)","v":"Industrial Disaster "},{"$nulls":3},"Threat",null,"Criticality",null,null,"Vulnerability",{"$nulls":8},"Consequence",{"$nulls":8},{"$f":"SUM(((((J849+S849)/2)*G849)*E849))","v":0}]
[{"$nulls":9},"Exposure",null,null,"Protective Measures",null,null,"Robustness/Resilience",null,null,"Human",null,null,"Economic",null,null,"Psychological"]
[{"$f":"T(A720)","v":"Bridges"},null,{"$f":"T(C720)","v":"CR"},{"$f":"SUM(D720)","v":13},{"v":1,"d":"1.0"},null,{"$f":"SUM(G720)","v":{"v":0,"d":"0.0"}},null,null,{"v":0,"d":"0.0"},null,null,{"v":0,"d":"0.0"},null,null,{"v":0,"d":"0.0"},null,null,{"v":0,"d":"0.0"},null,null,{"v":0,"d":"0.0"},null,null,{"v":0,"d":"0.0"}]
[{"$f":"T(A721)","v":""}]
[{"$nulls":4},{"$f":"SUM(E847)","v":{"v":1,"d":"1.0"}},null,{"$f":"SUM(G847)","v":{"v":0,"d":"0.0"}},null,null,{"$f":"SUM((J847+M847+P847)/3)","v":{"v":0,"d":"0.0"}},{"$nulls":8},{"$f":"SUM(((S847*3)+V847+Y847)/5)","v":{"v":0,"d":"0.0"}}]
[]
[{"$f":"T(A845)","v":"Industrial Disaster "},{"$nulls":3},"Threat",null,"Criticality",null,null,"Vulnerability",{"$nulls":8},"Consequence",{"$nulls":8},{"$f":"SUM(((((J855+S855)/2)*G855)*E855))","v":0}]
[{"$nulls":9},"Exposure",null,null,"Protective Measures",null,null,"Robustness/Resilience",null,null,"Human",null,null,"Economic",null,null,"Psychological"]
[{"$f":"T(A726)","v":"Elevated Track"},null,{"$f":"T(C726)","v":"CR"},{"$f":"SUM(D726)","v":14},{"v":1,"d":"1.0"},null,{"$f":"SUM(G726)","v":{"v":0,"d":"0.0"}},null,null,{"v":0,"d":"0.0"},null,null,{"v":0,"d":"0.0"},null,null,{"v":0,"d":"0.0"},null,null,{"v":0,"d":"0.0"},null,null,{"v":0,"d":"0.0"},null,null,{"v":0,"d":"0.0"}]
[{"$f":"T(A727)","v":""}]
[{"$nulls":4},{"$f":"SUM(E853)","v":{"v":1,"d":"1.0"}},null,{"$f":"SUM(G853)","v":{"v":0,"d":"0.0"}},null,null,{"$f":"SUM((J853+M853+P853)/3)","v":{"v":0,"d":"0.0"}},{"$nulls":8},{"$f":"SUM(((S853*3)+V853+Y853)/5)","v":{"v":0,"d":"0.0"}}]
[]
[{"$f":"T(A851)","v":"Industrial Disaster "},{"$nulls":3},"Threat",null,"Criticality",null,null,"Vulnerability",{"$nulls":8},"Consequence",{"$nulls":8},{"$f":"SUM(((((J861+S861)/2)*G861)*E861))","v":0}]
[{"$nulls":9},"Exposure",null,null,"Protective Measures",null,null,"Robustness/Resilience",null,null,"Human",null,null,"Economic",null,null,"Psychological"]
[{"$f":"T(A732)","v":"Tunnels "},null,{"$f":"T(C732)","v":"CR"},{"$f":"SUM(D732)","v":15},{"v":1,"d":"1.0"},null,{"$f":"SUM(G732)","v":{"v":0,"d":"0.0"}},null,null,{"v":0,"d":"0.0"},null,null,{"v":0,"d":"0.0"},null,null,{"v":0,"d":"0.0"},null,null,{"v":0,"d":"0.0"},null,null,{"v":0,"d":"0.0"},null,null,{"v":0,"d":"0.0"}]
[{"$f":"T(A733)","v":""}]
[{"$nulls":4},{"$f":"SUM(E859)","v":{"v":1,"d":"1.0"}},null,{"$f":"SUM(G859)","v":{"v":0,"d":"0.0"}},null,null,{"$f":"SUM((J859+M859+P859)/3)","v":{"v":0,"d":"0.0"}},{"$nulls":8},{"$f":"SUM(((S859*3)+V859+Y859)/5)","v":{"v":0,"d":"0.0"}}]
[]
[{"$f":"T(A857)","v":"Industrial Disaster "},{"$nulls":3},"Threat",null,"Criticality",null,null,"Vulnerability",{"$nulls":8},"Consequence",{"$nulls":8},{"$f":"SUM(((((J867+S867)/2)*G867)*E867))","v":0}]
[{"$nulls":9},"Exposure",null,null,"Protective Measures",null,null,"Robustness/Resilience",null,null,"Human",null,null,"Economic",null,null,"Psychological"]
[{"$f":"T(A738)","v":"Choke Points on ROW"},null,{"$f":"T(C738)","v":"CR"},{"$f":"SUM(D738)","v":16},{"v":1,"d":"1.0"},null,{"$f":"SUM(G738)","v":{"v":0,"d":"0.0"}},null,null,{"v":0,"d":"0.0"},null,null,{"v":0,"d":"0.0"},null,null,{"v":0,"d":"0.0"},null,null,{"v":0,"d":"0.0"},null,null,{"v":0,"d":"0.0"},null,null,{"v":0,"d":"0.0"}]
[{"$f":"T(A739)","v":""}]
[{"$nulls":4},{"$f":"SUM(E865)","v":{"v":1,"d":"1.0"}},null,{"$f":"SUM(G865)","v":{"v":0,"d":"0.0"}},null,null,{"$f":"SUM((J865+M865+P865)/3)","v":{"v":0,"d":"0.0"}},{"$nulls":8},{"$f":"SUM(((S865*3)+V865+Y865)/5)","v":{"v":0,"d":"0.0"}}]
[]
[{"$f":"T(A863)","v":"Industrial Disaster "},{"$nulls":3},"Threat",null,"Criticality",null,null,"Vulnerability",{"$nulls":8},"Consequence",{"$nulls":8},{"$f":"SUM(((((J873+S873)/2)*G873)*E873))","v":0}]
[{"$nulls":9},"Exposure",null,null,"Protective Measures",null,null,"Robustness/Resilience",null,null,"Human",null,null,"Economic",null,null,"Psychological"]
[{"$f":"T(A744)","v":"Fire Suppression"},null,{"$f":"T(C744)","v":"CR"},{"$f":"SUM(D744)","v":17},{"v":1,"d":"1.0"},null,{"$f":"SUM(G744)","v":{"v":0,"d":"0.0"}},null,null,{"v":0,"d":"0.0"},null,null,{"v":0,"d":"0.0"},null,null,{"v":0,"d":"0.0"},null,null,{"v":0,"d":"0.0"},null,null,{"v":0,"d":"0.0"},null,null,{"v":0,"d":"0.0"}]
[{"$f":"T(A745)","v":""}]
[{"$nulls":4},{"$f":"SUM(E871)","v":{"v":1,"d":"1.0"}},null,{"$f":"SUM(G871)","v":{"v":0,"d":"0.0"}},null,null,{"$f":"SUM((J871+M871+P871)/3)","v":{"v":0,"d":"0.0"}},{"$nulls":8},{"$f":"SUM(((S871*3)+V871+Y871)/5)","v":{"v":0,"d":"0.0"}}]
[]
[{"$f":"T(A869)","v":"Industrial Disaster "},{"$nulls":3},"Threat",null,"Criticality",null,null,"Vulnerability",{"$nulls":8},"Consequence",{"$nulls":8},{"$f":"SUM(((((J879+S879)/2)*G879)*E879))","v":0}]
[{"$nulls":9},"Exposure",null,null,"Protective Measures",null,null,"Robustness/Resilience",null,null,"Human",null,null,"Economic",null,null,"Psychological"]
[{"$f":"T(A750)","v":"Air Handling"},null,{"$f":"T(C750)","v":"CR"},{"$f":"SUM(D750)","v":18},{"v":1,"d":"1.0"},null,{"$f":"SUM(G750)","v":{"v":0,"d":"0.0"}},null,null,{"v":0,"d":"0.0"},null,null,{"v":0,"d":"0.0"},null,null,{"v":0,"d":"0.0"},null,null,{"v":0,"d":"0.0"},null,null,{"v":0,"d":"0.0"},null,null,{"v":0,"d":"0.0"}]
[{"$f":"T(A751)","v":""}]
[{"$nulls":4},{"$f":"SUM(E877)","v":{"v":1,"d":"1.0"}},null,{"$f":"SUM(G877)","v":{"v":0,"d":"0.0"}},null,null,{"$f":"SUM((J877+M877+P877)/3)","v":{"v":0,"d":"0.0"}},{"$nulls":8},{"$f":"SUM(((S877*3)+V877+Y877)/5)","v":{"v":0,"d":"0.0"}}]
[]
[{"$f":"T(A875)","v":"Industrial Disaster "},{"$nulls":3},"Threat",null,"Criticality",null,null,"Vulnerability",{"$nulls":8},"Consequence",{"$nulls":8},{"$f":"SUM(((((J885+S885)/2)*G885)*E885))","v":0}]
[{"$nulls":9},"Exposure",null,null,"Protective Measures",null,null,"Robustness/Resilience",null,null,"Human",null,null,"Economic",null,null,"Psychological"]
[{"$f":"T(A756)","v":"Power Generation/Distribution"},null,{"$f":"T(C756)","v":"CR"},{"$f":"SUM(D756)","v":19},{"v":1,"d":"1.0"},null,{"$f":"SUM(G756)","v":{"v":0,"d":"0.0"}},null,null,{"v":0,"d":"0.0"},null,null,{"v":0,"d":"0.0"},null,null,{"v":0,"d":"0.0"},null,null,{"v":0,"d":"0.0"},null,null,{"v":0,"d":"0.0"},null,null,{"v":0,"d":"0.0"}]
[{"$f":"T(A757)","v":""}]
[{"$nulls":4},{"$f":"SUM(E883)","v":{"v":1,"d":"1.0"}},null,{"$f":"SUM(G883)","v":{"v":0,"d":"0.0"}},null,null,{"$f":"SUM((J883+M883+P883)/3)","v":{"v":0,"d":"0.0"}},{"$nulls":8},{"$f":"SUM(((S883*3)+V883+Y883)/5)","v":{"v":0,"d":"0.0"}}]
[]
[{"$f":"T(A881)","v":"Industrial Disaster "},{"$nulls":3},"Threat",null,"Criticality",null,null,"Vulnerability",{"$nulls":8},"Consequence",{"$nulls":8},{"$f":"SUM(((((J891+S891)/2)*G891)*E891))","v":0}]
[{"$nulls":9},"Exposure",null,null,"Protective Measures",null,null,"Robustness/Resilience",null,null,"Human",null,null,"Economic",null,null,"Psychological"]
[{"$f":"T(A762)","v":"Yards"},null,{"$f":"T(C762)","v":"CR"},{"$f":"SUM(D762)","v":20},{"v":1,"d":"1.0"},null,{"$f":"SUM(G762)","v":{"v":0,"d":"0.0"}},null,null,{"v":0,"d":"0.0"},null,null,{"v":0,"d":"0.0"},null,null,{"v":0,"d":"0.0"},null,null,{"v":0,"d":"0.0"},null,null,{"v":0,"d":"0.0"},null,null,{"v":0,"d":"0.0"}]
[{"$f":"T(A763)","v":""}]
[{"$nulls":4},{"$f":"SUM(E889)","v":{"v":1,"d":"1.0"}},null,{"$f":"SUM(G889)","v":{"v":0,"d":"0.0"}},null,null,{"$f":"SUM((J889+M889+P889)/3)","v":{"v":0,"d":"0.0"}},{"$nulls":8},{"$f":"SUM(((S889*3)+V889+Y889)/5)","v":{"v":0,"d":"0.0"}}]
[]
[{"$f":"T(A887)","v":"Industrial Disaster "},{"$nulls":3},"Threat",null,"Criticality",null,null,"Vulnerability",{"$nulls":8},"Consequence",{"$nulls":8},{"$f":"SUM(((((J897+S897)/2)*G897)*E897))","v":0}]
[{"$nulls":9},"Exposure",null,null,"Protective Measures",null,null,"Robustness/Resilience",null,null,"Human",null,null,"Economic",null,null,"Psychological"]
[{"$f":"T(A768)","v":"Maintenance Barns/Facilities"},null,{"$f":"T(C768)","v":"CR"},{"$f":"SUM(D768)","v":21},{"v":1,"d":"1.0"},null,{"$f":"SUM(G768)","v":{"v":0,"d":"0.0"}},null,null,{"v":0,"d":"0.0"},null,null,{"v":0,"d":"0.0"},null,null,{"v":0,"d":"0.0"},null,null,{"v":0,"d":"0.0"},null,null,{"v":0,"d":"0.0"},null,null,{"v":0,"d":"0.0"}]
[{"$f":"T(A769)","v":""}]
[{"$nulls":4},{"$f":"SUM(E895)","v":{"v":1,"d":"1.0"}},null,{"$f":"SUM(G895)","v":{"v":0,"d":"0.0"}},null,null,{"$f":"SUM((J895+M895+P895)/3)","v":{"v":0,"d":"0.0"}},{"$nulls":8},{"$f":"SUM(((S895*3)+V895+Y895)/5)","v":{"v":0,"d":"0.0"}}]
[]
[{"$f":"T(Definitions!D26)","v":"Derailment/Collision"}]
[{"$f":"T(A899)","v":"Derailment/Collision"},{"$nulls":3},"Threat",null,"Criticality",null,null,"Vulnerability",{"$nulls":8},"Consequence",{"$nulls":8},{"$f":"SUM(((((J904+S904)/2)*G904)*E904))","v":0}]
[{"$nulls":9},"Exposure",null,null,"Protective Measures",null,null,"Robustness/Resilience",null,null,"Human",null,null,"Economic",null,null,"Psychological"]
[{"$f":"T(A775)","v":"Headquarters Building"},null,{"$f":"T(C775)","v":"CR"},{"$f":"SUM(D775)","v":1},{"v":1,"d":"1.0"},null,{"$f":"SUM(G775)","v":{"v":0,"d":"0.0"}},null,null,{"v":0,"d":"0.0"},null,null,{"v":0,"d":"0.0"},null,null,{"v":0,"d":"0.0"},null,null,{"v":0,"d":"0.0"},null,null,{"v":0,"d":"0.0"},null,null,{"v":0,"d":"0.0"}]
[{"$f":"T(A776)","v":""}]
[{"$nulls":4},{"$f":"SUM(E902)","v":{"v":1,"d":"1.0"}},null,{"$f":"SUM(G902)","v":{"v":0,"d":"0.0"}},null,null,{"$f":"SUM((J902+M902+P902)/3)","v":{"v":0,"d":"0.0"}},{"$nulls":8},{"$f":"SUM(((S902*3)+V902+Y902)/5)","v":{"v":0,"d":"0.0"}}]
[]
[{"$f":"T(A899)","v":"Derailment/Collision"},{"$nulls":3},"Threat",null,"Criticality",null,null,"Vulnerability",{"$nulls":8},"Consequence",{"$nulls":8},{"$f":"SUM(((((J910+S910)/2)*G910)*E910))","v":0}]
[{"$nulls":9},"Exposure",null,null,"Protective Measures",null,null,"Robustness/Resilience",null,null,"Human",null,null,"Economic",null,null,"Psychological"]
[{"$f":"T(A781)","v":"Major Passenger Terminals"},null,{"$f":"T(C781)","v":"CR"},{"$f":"SUM(D781)","v":2},{"v":1,"d":"1.0"},null,{"$f":"SUM(G781)","v":{"v":0,"d":"0.0"}},null,null,{"v":0,"d":"0.0"},null,null,{"v":0,"d":"0.0"},null,null,{"v":0,"d":"0.0"},null,null,{"v":0,"d":"0.0"},null,null,{"v":0,"d":"0.0"},null,null,{"v":0,"d":"0.0"}]
[{"$f":"T(A782)","v":""}]
[{"$nulls":4},{"$f":"SUM(E908)","v":{"v":1,"d":"1.0"}},null,{"$f":"SUM(G908)","v":{"v":0,"d":"0.0"}},null,null,{"$f":"SUM((J908+M908+P908)/3)","v":{"v":0,"d":"0.0"}},{"$nulls":8},{"$f":"SUM(((S908*3)+V908+Y908)/5)","v":{"v":0,"d":"0.0"}}]
[]
[{"$f":"T(A906)","v":"Derailment/Collision"},{"$nulls":3},"Threat",null,"Criticality",null,null,"Vulnerability",{"$nulls":8},"Consequence",{"$nulls":8},{"$f":"SUM(((((J916+S916)/2)*G916)*E916))","v":0}]
[{"$nulls":9},"Exposure",null,null,"Protective Measures",null,null,"Robustness/Resilience",null,null,"Human",null,null,"Economic",null,null,"Psychological"]
[{"$f":"T(A787)","v":"Major Line Stations"},null,{"$f":"T(C787)","v":"CR"},{"$f":"SUM(D787)","v":3},{"v":1,"d":"1.0"},null,{"$f":"SUM(G787)","v":{"v":0,"d":"0.0"}},null,null,{"v":0,"d":"0.0"},null,null,{"v":0,"d":"0.0"},null,null,{"v":0,"d":"0.0"},null,null,{"v":0,"d":"0.0"},null,null,{"v":0,"d":"0.0"},null,null,{"v":0,"d":"0.0"}]
[{"$f":"T(A788)","v":""}]
[{"$nulls":4},{"$f":"SUM(E914)","v":{"v":1,"d":"1.0"}},null,{"$f":"SUM(G914)","v":{"v":0,"d":"0.0"}},null,null,{"$f":"SUM((J914+M914+P914)/3)","v":{"v":0,"d":"0.0"}},{"$nulls":8},{"$f":"SUM(((S914*3)+V914+Y914)/5)","v":{"v":0,"d":"0.0"}}]
[]
[{"$f":"T(A912)","v":"Derailment/Collision"},{"$nulls":3},"Threat",null,"Criticality",null,null,"Vulnerability",{"$nulls":8},"Consequence",{"$nulls":8},{"$f":"SUM(((((J922+S922)/2)*G922)*E922))","v":0}]
[{"$nulls":9},"Exposure",null,null,"Protective Measures",null,null,"Robustness/Resilience",null,null,"Human",null,null,"Economic",null,null,"Psychological"]
[{"$f":"T(A793)","v":"Parking Structures"},null,{"$f":"T(C793)","v":"CR"},{"$f":"SUM(D793)","v":4},{"v":1,"d":"1.0"},null,{"$f":"SUM(G793)","v":{"v":0,"d":"0.0"}},null,null,{"v":0,"d":"0.0"},null,null,{"v":0,"d":"0.0"},null,null,{"v":0,"d":"0.0"},null,null,{"v":0,"d":"0.0"},null,null,{"v":0,"d":"0.0"},null,null,{"v":0,"d":"0.0"}]
[{"$f":"T(A794)","v":""}]
[{"$nulls":4},{"$f":"SUM(E920)","v":{"v":1,"d":"1.0"}},null,{"$f":"SUM(G920)","v":{"v":0,"d":"0.0"}},null,null,{"$f":"SUM((J920+M920+P920)/3)","v":{"v":0,"d":"0.0"}},{"$nulls":8},{"$f":"SUM(((S920*3)+V920+Y920)/5)","v":{"v":0,"d":"0.0"}}]
[]
[{"$f":"T(A918)","v":"Derailment/Collision"},{"$nulls":3},"Threat",null,"Criticality",null,null,"Vulnerability",{"$nulls":8},"Consequence",{"$nulls":8},{"$f":"SUM(((((J928+S928)/2)*G928)*E928))","v":0}]
[{"$nulls":9},"Exposure",null,null,"Protective Measures",null,null,"Robustness/Resilience",null,null,"Human",null,null,"Economic",null,null,"Psychological"]
[{"$f":"T(A799)","v":"Consist - Type 1"},null,{"$f":"T(C799)","v":"CR"},{"$f":"SUM(D799)","v":5},{"v":1,"d":"1.0"},null,{"$f":"SUM(G799)","v":{"v":0,"d":"0.0"}},null,null,{"v":0,"d":"0.0"},null,null,{"v":0,"d":"0.0"},null,null,{"v":0,"d":"0.0"},null,null,{"v":0,"d":"0.0"},null,null,{"v":0,"d":"0.0"},null,null,{"v":0,"d":"0.0"}]
[{"$f":"T(A800)","v":""}]
[{"$nulls":4},{"$f":"SUM(E926)","v":{"v":1,"d":"1.0"}},null,{"$f":"SUM(G926)","v":{"v":0,"d":"0.0"}},null,null,{"$f":"SUM((J926+M926+P926)/3)","v":{"v":0,"d":"0.0"}},{"$nulls":8},{"$f":"SUM(((S926*3)+V926+Y926)/5)","v":{"v":0,"d":"0.0"}}]
[]
[{"$f":"T(A924)","v":"Derailment/Collision"},{"$nulls":3},"Threat",null,"Criticality",null,null,"Vulnerability",{"$nulls":8},"Consequence",{"$nulls":8},{"$f":"SUM(((((J934+S934)/2)*G934)*E934))","v":0}]
[{"$nulls":9},"Exposure",null,null,"Protective Measures",null,null,"Robustness/Resilience",null,null,"Human",null,null,"Economic",null,null,"Psychological"]
[{"$f":"T(A805)","v":"Consist - Type 2"},null,{"$f":"T(C805)","v":"CR"},{"$f":"SUM(D805)","v":6},{"v":1,"d":"1.0"},null,{"$f":"SUM(G805)","v":{"v":0,"d":"0.0"}},null,null,{"v":0,"d":"0.0"},null,null,{"v":0,"d":"0.0"},null,null,{"v":0,"d":"0.0"},null,null,{"v":0,"d":"0.0"},null,null,{"v":0,"d":"0.0"},null,null,{"v":0,"d":"0.0"}]
[{"$f":"T(A806)","v":""}]
[{"$nulls":4},{"$f":"SUM(E932)","v":{"v":1,"d":"1.0"}},null,{"$f":"SUM(G932)","v":{"v":0,"d":"0.0"}},null,null,{"$f":"SUM((J932+M932+P932)/3)","v":{"v":0,"d":"0.0"}},{"$nulls":8},{"$f":"SUM(((S932*3)+V932+Y932)/5)","v":{"v":0,"d":"0.0"}}]
[]
[{"$f":"T(A930)","v":"Derailment/Collision"},{"$nulls":3},"Threat",null,"Criticality",null,null,"Vulnerability",{"$nulls":8},"Consequence",{"$nulls":8},{"$f":"SUM(((((J940+S940)/2)*G940)*E940))","v":0}]
[{"$nulls":9},"Exposure",null,null,"Protective Measures",null,null,"Robustness/Resilience",null,null,"Human",null,null,"Economic",null,null,"Psychological"]
[{"$f":"T(A811)","v":"Primary Control Center"},null,{"$f":"T(C811)","v":"CR"},{"$f":"SUM(D811)","v":7},{"v":1,"d":"1.0"},null,{"$f":"SUM(G811)","v":{"v":0,"d":"0.0"}},null,null,{"v":0,"d":"0.0"},null,null,{"v":0,"d":"0.0"},null,null,{"v":0,"d":"0.0"},null,null,{"v":0,"d":"0.0"},null,null,{"v":0,"d":"0.0"},null,null,{"v":0,"d":"0.0"}]
[{"$f":"T(A812)","v":""}]
[{"$nulls":4},{"$f":"SUM(E938)","v":{"v":1,"d":"1.0"}},null,{"$f":"SUM(G938)","v":{"v":0,"d":"0.0"}},null,null,{"$f":"SUM((J938+M938+P938)/3)","v":{"v":0,"d":"0.0"}},{"$nulls":8},{"$f":"SUM(((S938*3)+V938+Y938)/5)","v":{"v":0,"d":"0.0"}}]
[]
[{"$f":"T(A936)","v":"Derailment/Collision"},{"$nulls":3},"Threat",null,"Criticality",null,null,"Vulnerability",{"$nulls":8},"Consequence",{"$nulls":8},{"$f":"SUM(((((J946+S946)/2)*G946)*E946))","v":0}]
[{"$nulls":9},"Exposure",null,null,"Protective Measures",null,null,"Robustness/Resilience",null,null,"Human",null,null,"Economic",null,null,"Psychological"]
[{"$f":"T(A817)","v":"Control Towers"},null,{"$f":"T(C817)","v":"CR"},{"$f":"SUM(D817)","v":8},{"v":1,"d":"1.0"},null,{"$f":"SUM(G817)","v":{"v":0,"d":"0.0"}},null,null,{"v":0,"d":"0.0"},null,null,{"v":0,"d":"0.0"},null,null,{"v":0,"d":"0.0"},null,null,{"v":0,"d":"0.0"},null,null,{"v":0,"d":"0.0"},null,null,{"v":0,"d":"0.0"}]
[{"$f":"T(A818)","v":""}]
[{"$nulls":4},{"$f":"SUM(E944)","v":{"v":1,"d":"1.0"}},null,{"$f":"SUM(G944)","v":{"v":0,"d":"0.0"}},null,null,{"$f":"SUM((J944+M944+P944)/3)","v":{"v":0,"d":"0.0"}},{"$nulls":8},{"$f":"SUM(((S944*3)+V944+Y944)/5)","v":{"v":0,"d":"0.0"}}]
[]
[{"$f":"T(A942)","v":"Derailment/Collision"},{"$nulls":3},"Threat",null,"Criticality",null,null,"Vulnerability",{"$nulls":8},"Consequence",{"$nulls":8},{"$f":"SUM(((((J952+S952)/2)*G952)*E952))","v":0}]
[{"$nulls":9},"Exposure",null,null,"Protective Measures",null,null,"Robustness/Resilience",null,null,"Human",null,null,"Economic",null,null,"Psychological"]
[{"$f":"T(A823)","v":"Cyber Systems"},null,{"$f":"T(C823)","v":"CR"},{"$f":"SUM(D823)","v":9},{"v":1,"d":"1.0"},null,{"$f":"SUM(G823)","v":{"v":0,"d":"0.0"}},null,null,{"v":0,"d":"0.0"},null,null,{"v":0,"d":"0.0"},null,null,{"v":0,"d":"0.0"},null,null,{"v":0,"d":"0.0"},null,null,{"v":0,"d":"0.0"},null,null,{"v":0,"d":"0.0"}]
[{"$f":"T(A824)","v":""}]
[{"$nulls":4},{"$f":"SUM(E950)","v":{"v":1,"d":"1.0"}},null,{"$f":"SUM(G950)","v":{"v":0,"d":"0.0"}},null,null,{"$f":"SUM((J950+M950+P950)/3)","v":{"v":0,"d":"0.0"}},{"$nulls":8},{"$f":"SUM(((S950*3)+V950+Y950)/5)","v":{"v":0,"d":"0.0"}}]
[]
[{"$f":"T(A948)","v":"Derailment/Collision"},{"$nulls":3},"Threat",null,"Criticality",null,null,"Vulnerability",{"$nulls":8},"Consequence",{"$nulls":8},{"$f":"SUM(((((J958+S958)/2)*G958)*E958))","v":0}]
[{"$nulls":9},"Exposure",null,null,"Protective Measures",null,null,"Robustness/Resilience",null,null,"Human",null,null,"Economic",null,null,"Psychological"]
[{"$f":"T(A829)","v":"Right of Way (ROW)"},null,{"$f":"T(C829)","v":"CR"},{"$f":"SUM(D829)","v":10},{"v":1,"d":"1.0"},null,{"$f":"SUM(G829)","v":{"v":0,"d":"0.0"}},null,null,{"v":0,"d":"0.0"},null,null,{"v":0,"d":"0.0"},null,null,{"v":0,"d":"0.0"},null,null,{"v":0,"d":"0.0"},null,null,{"v":0,"d":"0.0"},null,null,{"v":0,"d":"0.0"}]
[{"$f":"T(A830)","v":""}]
[{"$nulls":4},{"$f":"SUM(E956)","v":{"v":1,"d":"1.0"}},null,{"$f":"SUM(G956)","v":{"v":0,"d":"0.0"}},null,null,{"$f":"SUM((J956+M956+P956)/3)","v":{"v":0,"d":"0.0"}},{"$nulls":8},{"$f":"SUM(((S956*3)+V956+Y956)/5)","v":{"v":0,"d":"0.0"}}]
[]
[{"$f":"T(A954)","v":"Derailment/Collision"},{"$nulls":3},"Threat",null,"Criticality",null,null,"Vulnerability",{"$nulls":8},"Consequence",{"$nulls":8},{"$f":"SUM(((((J964+S964)/2)*G964)*E964))","v":0}]
[{"$nulls":9},"Exposure",null,null,"Protective Measures",null,null,"Robustness/Resilience",null,null,"Human",null,null,"Economic",null,null,"Psychological"]
[{"$f":"T(A835)","v":"Signals & PTC"},null,{"$f":"T(C835)","v":"CR"},{"$f":"SUM(D835)","v":11},{"v":1,"d":"1.0"},null,{"$f":"SUM(G835)","v":{"v":0,"d":"0.0"}},null,null,{"v":0,"d":"0.0"},null,null,{"v":0,"d":"0.0"},null,null,{"v":0,"d":"0.0"},null,null,{"v":0,"d":"0.0"},null,null,{"v":0,"d":"0.0"},null,null,{"v":0,"d":"0.0"}]
[{"$f":"T(A836)","v":""}]
[{"$nulls":4},{"$f":"SUM(E962)","v":{"v":1,"d":"1.0"}},null,{"$f":"SUM(G962)","v":{"v":0,"d":"0.0"}},null,null,{"$f":"SUM((J962+M962+P962)/3)","v":{"v":0,"d":"0.0"}},{"$nulls":8},{"$f":"SUM(((S962*3)+V962+Y962)/5)","v":{"v":0,"d":"0.0"}}]
[]
[{"$f":"T(A960)","v":"Derailment/Collision"},{"$nulls":3},"Threat",null,"Criticality",null,null,"Vulnerability",{"$nulls":8},"Consequence",{"$nulls":8},{"$f":"SUM(((((J970+S970)/2)*G970)*E970))","v":0}]
[{"$nulls":9},"Exposure",null,null,"Protective Measures",null,null,"Robustness/Resilience",null,null,"Human",null,null,"Economic",null,null,"Psychological"]
[{"$f":"T(A841)","v":"Switches "},null,{"$f":"T(C841)","v":"CR"},{"$f":"SUM(D841)","v":12},{"v":1,"d":"1.0"},null,{"$f":"SUM(G841)","v":{"v":0,"d":"0.0"}},null,null,{"v":0,"d":"0.0"},null,null,{"v":0,"d":"0.0"},null,null,{"v":0,"d":"0.0"},null,null,{"v":0,"d":"0.0"},null,null,{"v":0,"d":"0.0"},null,null,{"v":0,"d":"0.0"}]
[{"$f":"T(A842)","v":""}]
[{"$nulls":4},{"$f":"SUM(E968)","v":{"v":1,"d":"1.0"}},null,{"$f":"SUM(G968)","v":{"v":0,"d":"0.0"}},null,null,{"$f":"SUM((J968+M968+P968)/3)","v":{"v":0,"d":"0.0"}},{"$nulls":8},{"$f":"SUM(((S968*3)+V968+Y968)/5)","v":{"v":0,"d":"0.0"}}]
[]
[{"$f":"T(A966)","v":"Derailment/Collision"},{"$nulls":3},"Threat",null,"Criticality",null,null,"Vulnerability",{"$nulls":8},"Consequence",{"$nulls":8},{"$f":"SUM(((((J976+S976)/2)*G976)*E976))","v":0}]
[{"$nulls":9},"Exposure",null,null,"Protective Measures",null,null,"Robustness/Resilience",null,null,"Human",null,null,"Economic",null,null,"Psychological"]
[{"$f":"T(A847)","v":"Bridges"},null,{"$f":"T(C847)","v":"CR"},{"$f":"SUM(D847)","v":13},{"v":1,"d":"1.0"},null,{"$f":"SUM(G847)","v":{"v":0,"d":"0.0"}},null,null,{"v":0,"d":"0.0"},null,null,{"v":0,"d":"0.0"},null,null,{"v":0,"d":"0.0"},null,null,{"v":0,"d":"0.0"},null,null,{"v":0,"d":"0.0"},null,null,{"v":0,"d":"0.0"}]
[{"$f":"T(A848)","v":""}]
[{"$nulls":4},{"$f":"SUM(E974)","v":{"v":1,"d":"1.0"}},null,{"$f":"SUM(G974)","v":{"v":0,"d":"0.0"}},null,null,{"$f":"SUM((J974+M974+P974)/3)","v":{"v":0,"d":"0.0"}},{"$nulls":8},{"$f":"SUM(((S974*3)+V974+Y974)/5)","v":{"v":0,"d":"0.0"}}]
[]
[{"$f":"T(A972)","v":"Derailment/Collision"},{"$nulls":3},"Threat",null,"Criticality",null,null,"Vulnerability",{"$nulls":8},"Consequence",{"$nulls":8},{"$f":"SUM(((((J982+S982)/2)*G982)*E982))","v":0}]
[{"$nulls":9},"Exposure",null,null,"Protective Measures",null,null,"Robustness/Resilience",null,null,"Human",null,null,"Economic",null,null,"Psychological"]
[{"$f":"T(A853)","v":"Elevated Track"},null,{"$f":"T(C853)","v":"CR"},{"$f":"SUM(D853)","v":14},{"v":1,"d":"1.0"},null,{"$f":"SUM(G853)","v":{"v":0,"d":"0.0"}},null,null,{"v":0,"d":"0.0"},null,null,{"v":0,"d":"0.0"},null,null,{"v":0,"d":"0.0"},null,null,{"v":0,"d":"0.0"},null,null,{"v":0,"d":"0.0"},null,null,{"v":0,"d":"0.0"}]
[{"$f":"T(A854)","v":""}]
[{"$nulls":4},{"$f":"SUM(E980)","v":{"v":1,"d":"1.0"}},null,{"$f":"SUM(G980)","v":{"v":0,"d":"0.0"}},null,null,{"$f":"SUM((J980+M980+P980)/3)","v":{"v":0,"d":"0.0"}},{"$nulls":8},{"$f":"SUM(((S980*3)+V980+Y980)/5)","v":{"v":0,"d":"0.0"}}]
[]
[{"$f":"T(A978)","v":"Derailment/Collision"},{"$nulls":3},"Threat",null,"Criticality",null,null,"Vulnerability",{"$nulls":8},"Consequence",{"$nulls":8},{"$f":"SUM(((((J988+S988)/2)*G988)*E988))","v":0}]
[{"$nulls":9},"Exposure",null,null,"Protective Measures",null,null,"Robustness/Resilience",null,null,"Human",null,null,"Economic",null,null,"Psychological"]
[{"$f":"T(A859)","v":"Tunnels "},null,{"$f":"T(C859)","v":"CR"},{"$f":"SUM(D859)","v":15},{"v":1,"d":"1.0"},null,{"$f":"SUM(G859)","v":{"v":0,"d":"0.0"}},null,null,{"v":0,"d":"0.0"},null,null,{"v":0,"d":"0.0"},null,null,{"v":0,"d":"0.0"},null,null,{"v":0,"d":"0.0"},null,null,{"v":0,"d":"0.0"},null,null,{"v":0,"d":"0.0"}]
[{"$f":"T(A860)","v":""}]
[{"$nulls":4},{"$f":"SUM(E986)","v":{"v":1,"d":"1.0"}},null,{"$f":"SUM(G986)","v":{"v":0,"d":"0.0"}},null,null,{"$f":"SUM((J986+M986+P986)/3)","v":{"v":0,"d":"0.0"}},{"$nulls":8},{"$f":"SUM(((S986*3)+V986+Y986)/5)","v":{"v":0,"d":"0.0"}}]
[]
[{"$f":"T(A984)","v":"Derailment/Collision"},{"$nulls":3},"Threat",null,"Criticality",null,null,"Vulnerability",{"$nulls":8},"Consequence",{"$nulls":8},{"$f":"SUM(((((J994+S994)/2)*G994)*E994))","v":0}]
[{"$nulls":9},"Exposure",null,null,"Protective Measures",null,null,"Robustness/Resilience",null,null,"Human",null,null,"Economic",null,null,"Psychological"]
[{"$f":"T(A865)","v":"Choke Points on ROW"},null,{"$f":"T(C865)","v":"CR"},{"$f":"SUM(D865)","v":16},{"v":1,"d":"1.0"},null,{"$f":"SUM(G865)","v":{"v":0,"d":"0.0"}},null,null,{"v":0,"d":"0.0"},null,null,{"v":0,"d":"0.0"},null,null,{"v":0,"d":"0.0"},null,null,{"v":0,"d":"0.0"},null,null,{"v":0,"d":"0.0"},null,null,{"v":0,"d":"0.0"}]
[{"$f":"T(A866)","v":""}]
[{"$nulls":4},{"$f":"SUM(E992)","v":{"v":1,"d":"1.0"}},null,{"$f":"SUM(G992)","v":{"v":0,"d":"0.0"}},null,null,{"$f":"SUM((J992+M992+P992)/3)","v":{"v":0,"d":"0.0"}},{"$nulls":8},{"$f":"SUM(((S992*3)+V992+Y992)/5)","v":{"v":0,"d":"0.0"}}]
[]
[{"$f":"T(A990)","v":"Derailment/Collision"},{"$nulls":3},"Threat",null,"Criticality",null,null,"Vulnerability",{"$nulls":8},"Consequence",{"$nulls":8},{"$f":"SUM(((((J1000+S1000)/2)*G1000)*E1000))","v":0}]
[{"$nulls":9},"Exposure",null,null,"Protective Measures",null,null,"Robustness/Resilience",null,null,"Human",null,null,"Economic",null,null,"Psychological"]
[{"$f":"T(A871)","v":"Fire Suppression"},null,{"$f":"T(C871)","v":"CR"},{"$f":"SUM(D871)","v":17},{"v":1,"d":"1.0"},null,{"$f":"SUM(G871)","v":{"v":0,"d":"0.0"}},null,null,{"v":0,"d":"0.0"},null,null,{"v":0,"d":"0.0"},null,null,{"v":0,"d":"0.0"},null,null,{"v":0,"d":"0.0"},null,null,{"v":0,"d":"0.0"},null,null,{"v":0,"d":"0.0"}]
[{"$f":"T(A872)","v":""}]
[{"$nulls":4},{"$f":"SUM(E998)","v":{"v":1,"d":"1.0"}},null,{"$f":"SUM(G998)","v":{"v":0,"d":"0.0"}},null,null,{"$f":"SUM((J998+M998+P998)/3)","v":{"v":0,"d":"0.0"}},{"$nulls":8},{"$f":"SUM(((S998*3)+V998+Y998)/5)","v":{"v":0,"d":"0.0"}}]
[]
[{"$f":"T(A996)","v":"Derailment/Collision"},{"$nulls":3},"Threat",null,"Criticality",null,null,"Vulnerability",{"$nulls":8},"Consequence",{"$nulls":8},{"$f":"SUM(((((J1006+S1006)/2)*G1006)*E1006))","v":0}]
[{"$nulls":9},"Exposure",null,null,"Protective Measures",null,null,"Robustness/Resilience",null,null,"Human",null,null,"Economic",null,null,"Psychological"]
[{"$f":"T(A877)","v":"Air Handling"},null,{"$f":"T(C877)","v":"CR"},{"$f":"SUM(D877)","v":18},{"v":1,"d":"1.0"},null,{"$f":"SUM(G877)","v":{"v":0,"d":"0.0"}},null,null,{"v":0,"d":"0.0"},null,null,{"v":0,"d":"0.0"},null,null,{"v":0,"d":"0.0"},null,null,{"v":0,"d":"0.0"},null,null,{"v":0,"d":"0.0"},null,null,{"v":0,"d":"0.0"}]
[{"$f":"T(A878)","v":""}]
[{"$nulls":4},{"$f":"SUM(E1004)","v":{"v":1,"d":"1.0"}},null,{"$f":"SUM(G1004)","v":{"v":0,"d":"0.0"}},null,null,{"$f":"SUM((J1004+M1004+P1004)/3)","v":{"v":0,"d":"0.0"}},{"$nulls":8},{"$f":"SUM(((S1004*3)+V1004+Y1004)/5)","v":{"v":0,"d":"0.0"}}]
[]
[{"$f":"T(A1002)","v":"Derailment/Collision"},{"$nulls":3},"Threat",null,"Criticality",null,null,"Vulnerability",{"$nulls":8},"Consequence",{"$nulls":8},{"$f":"SUM(((((J1012+S1012)/2)*G1012)*E1012))","v":0}]
[{"$nulls":9},"Exposure",null,null,"Protective Measures",null,null,"Robustness/Resilience",null,null,"Human",null,null,"Economic",null,null,"Psychological"]
[{"$f":"T(A883)","v":"Power Generation/Distribution"},null,{"$f":"T(C883)","v":"CR"},{"$f":"SUM(D883)","v":19},{"v":1,"d":"1.0"},null,{"$f":"SUM(G883)","v":{"v":0,"d":"0.0"}},null,null,{"v":0,"d":"0.0"},null,null,{"v":0,"d":"0.0"},null,null,{"v":0,"d":"0.0"},null,null,{"v":0,"d":"0.0"},null,null,{"v":0,"d":"0.0"},null,null,{"v":0,"d":"0.0"}]
[{"$f":"T(A884)","v":""}]
[{"$nulls":4},{"$f":"SUM(E1010)","v":{"v":1,"d":"1.0"}},null,{"$f":"SUM(G1010)","v":{"v":0,"d":"0.0"}},null,null,{"$f":"SUM((J1010+M1010+P1010)/3)","v":{"v":0,"d":"0.0"}},{"$nulls":8},{"$f":"SUM(((S1010*3)+V1010+Y1010)/5)","v":{"v":0,"d":"0.0"}}]
[]
[{"$f":"T(A1008)","v":"Derailment/Collision"},{"$nulls":3},"Threat",null,"Criticality",null,null,"Vulnerability",{"$nulls":8},"Consequence",{"$nulls":8},{"$f":"SUM(((((J1018+S1018)/2)*G1018)*E1018))","v":0}]
[{"$nulls":9},"Exposure",null,null,"Protective Measures",null,null,"Robustness/Resilience",null,null,"Human",null,null,"Economic",null,null,"Psychological"]
[{"$f":"T(A889)","v":"Yards"},null,{"$f":"T(C889)","v":"CR"},{"$f":"SUM(D889)","v":20},{"v":1,"d":"1.0"},null,{"$f":"SUM(G889)","v":{"v":0,"d":"0.0"}},null,null,{"v":0,"d":"0.0"},null,null,{"v":0,"d":"0.0"},null,null,{"v":0,"d":"0.0"},null,null,{"v":0,"d":"0.0"},null,null,{"v":0,"d":"0.0"},null,null,{"v":0,"d":"0.0"}]
[{"$f":"T(A890)","v":""}]
[{"$nulls":4},{"$f":"SUM(E1016)","v":{"v":1,"d":"1.0"}},null,{"$f":"SUM(G1016)","v":{"v":0,"d":"0.0"}},null,null,{"$f":"SUM((J1016+M1016+P1016)/3)","v":{"v":0,"d":"0.0"}},{"$nulls":8},{"$f":"SUM(((S1016*3)+V1016+Y1016)/5)","v":{"v":0,"d":"0.0"}}]
[]
[{"$f":"T(A1014)","v":"Derailment/Collision"},{"$nulls":3},"Threat",null,"Criticality",null,null,"Vulnerability",{"$nulls":8},"Consequence",{"$nulls":8},{"$f":"SUM(((((J1024+S1024)/2)*G1024)*E1024))","v":0}]
[{"$nulls":9},"Exposure",null,null,"Protective Measures",null,null,"Robustness/Resilience",null,null,"Human",null,null,"Economic",null,null,"Psychological"]
[{"$f":"T(A895)","v":"Maintenance Barns/Facilities"},null,{"$f":"T(C895)","v":"CR"},{"$f":"SUM(D895)","v":21},{"v":1,"d":"1.0"},null,{"$f":"SUM(G895)","v":{"v":0,"d":"0.0"}},null,null,{"v":0,"d":"0.0"},null,null,{"v":0,"d":"0.0"},null,null,{"v":0,"d":"0.0"},null,null,{"v":0,"d":"0.0"},null,null,{"v":0,"d":"0.0"},null,null,{"v":0,"d":"0.0"}]
[{"$f":"T(A896)","v":""}]
[{"$nulls":4},{"$f":"SUM(E1022)","v":{"v":1,"d":"1.0"}},null,{"$f":"SUM(G1022)","v":{"v":0,"d":"0.0"}},null,null,{"$f":"SUM((J1022+M1022+P1022)/3)","v":{"v":0,"d":"0.0"}},{"$nulls":8},{"$f":"SUM(((S1022*3)+V1022+Y1022)/5)","v":{"v":0,"d":"0.0"}}]
[]
[{"$f":"T(Definitions!D27)","v":"Widespread Power Outage"}]
[{"$f":"T(A1026)","v":"Widespread Power Outage"},{"$nulls":3},"Threat",null,"Criticality",null,null,"Vulnerability",{"$nulls":8},"Consequence",{"$nulls":8},{"$f":"SUM(((((J1031+S1031)/2)*G1031)*E1031))","v":0}]
[{"$nulls":9},"Exposure",null,null,"Protective Measures",null,null,"Robustness/Resilience",null,null,"Human",null,null,"Economic",null,null,"Psychological"]
[{"$f":"T(A902)","v":"Headquarters Building"},null,{"$f":"T(C902)","v":"CR"},{"$f":"SUM(D902)","v":1},{"v":1,"d":"1.0"},null,{"$f":"SUM(G902)","v":{"v":0,"d":"0.0"}},null,null,{"v":0,"d":"0.0"},null,null,{"v":0,"d":"0.0"},null,null,{"v":0,"d":"0.0"},null,null,{"v":0,"d":"0.0"},null,null,{"v":0,"d":"0.0"},null,null,{"v":0,"d":"0.0"}]
[{"$f":"T(A903)","v":""}]
[{"$nulls":4},{"$f":"SUM(E1029)","v":{"v":1,"d":"1.0"}},null,{"$f":"SUM(G1029)","v":{"v":0,"d":"0.0"}},null,null,{"$f":"SUM((J1029+M1029+P1029)/3)","v":{"v":0,"d":"0.0"}},{"$nulls":8},{"$f":"SUM(((S1029*3)+V1029+Y1029)/5)","v":{"v":0,"d":"0.0"}}]
[]
[{"$f":"T(A1026)","v":"Widespread Power Outage"},{"$nulls":3},"Threat",null,"Criticality",null,null,"Vulnerability",{"$nulls":8},"Consequence",{"$nulls":8},{"$f":"SUM(((((J1037+S1037)/2)*G1037)*E1037))","v":0}]
[{"$nulls":9},"Exposure",null,null,"Protective Measures",null,null,"Robustness/Resilience",null,null,"Human",null,null,"Economic",null,null,"Psychological"]
[{"$f":"T(A908)","v":"Major Passenger Terminals"},null,{"$f":"T(C908)","v":"CR"},{"$f":"SUM(D908)","v":2},{"v":1,"d":"1.0"},null,{"$f":"SUM(G908)","v":{"v":0,"d":"0.0"}},null,null,{"v":0,"d":"0.0"},null,null,{"v":0,"d":"0.0"},null,null,{"v":0,"d":"0.0"},null,null,{"v":0,"d":"0.0"},null,null,{"v":0,"d":"0.0"},null,null,{"v":0,"d":"0.0"}]
[{"$f":"T(A909)","v":""}]
[{"$nulls":4},{"$f":"SUM(E1035)","v":{"v":1,"d":"1.0"}},null,{"$f":"SUM(G1035)","v":{"v":0,"d":"0.0"}},null,null,{"$f":"SUM((J1035+M1035+P1035)/3)","v":{"v":0,"d":"0.0"}},{"$nulls":8},{"$f":"SUM(((S1035*3)+V1035+Y1035)/5)","v":{"v":0,"d":"0.0"}}]
[]
[{"$f":"T(A1033)","v":"Widespread Power Outage"},{"$nulls":3},"Threat",null,"Criticality",null,null,"Vulnerability",{"$nulls":8},"Consequence",{"$nulls":8},{"$f":"SUM(((((J1043+S1043)/2)*G1043)*E1043))","v":0}]
[{"$nulls":9},"Exposure",null,null,"Protective Measures",null,null,"Robustness/Resilience",null,null,"Human",null,null,"Economic",null,null,"Psychological"]
[{"$f":"T(A914)","v":"Major Line Stations"},null,{"$f":"T(C914)","v":"CR"},{"$f":"SUM(D914)","v":3},{"v":1,"d":"1.0"},null,{"$f":"SUM(G914)","v":{"v":0,"d":"0.0"}},null,null,{"v":0,"d":"0.0"},null,null,{"v":0,"d":"0.0"},null,null,{"v":0,"d":"0.0"},null,null,{"v":0,"d":"0.0"},null,null,{"v":0,"d":"0.0"},null,null,{"v":0,"d":"0.0"}]
[{"$f":"T(A915)","v":""}]
[{"$nulls":4},{"$f":"SUM(E1041)","v":{"v":1,"d":"1.0"}},null,{"$f":"SUM(G1041)","v":{"v":0,"d":"0.0"}},null,null,{"$f":"SUM((J1041+M1041+P1041)/3)","v":{"v":0,"d":"0.0"}},{"$nulls":8},{"$f":"SUM(((S1041*3)+V1041+Y1041)/5)","v":{"v":0,"d":"0.0"}}]
[]
[{"$f":"T(A1039)","v":"Widespread Power Outage"},{"$nulls":3},"Threat",null,"Criticality",null,null,"Vulnerability",{"$nulls":8},"Consequence",{"$nulls":8},{"$f":"SUM(((((J1049+S1049)/2)*G1049)*E1049))","v":0}]
[{"$nulls":9},"Exposure",null,null,"Protective Measures",null,null,"Robustness/Resilience",null,null,"Human",null,null,"Economic",null,null,"Psychological"]
[{"$f":"T(A920)","v":"Parking Structures"},null,{"$f":"T(C920)","v":"CR"},{"$f":"SUM(D920)","v":4},{"v":1,"d":"1.0"},null,{"$f":"SUM(G920)","v":{"v":0,"d":"0.0"}},null,null,{"v":0,"d":"0.0"},null,null,{"v":0,"d":"0.0"},null,null,{"v":0,"d":"0.0"},null,null,{"v":0,"d":"0.0"},null,null,{"v":0,"d":"0.0"},null,null,{"v":0,"d":"0.0"}]
[{"$f":"T(A921)","v":""}]
[{"$nulls":4},{"$f":"SUM(E1047)","v":{"v":1,"d":"1.0"}},null,{"$f":"SUM(G1047)","v":{"v":0,"d":"0.0"}},null,null,{"$f":"SUM((J1047+M1047+P1047)/3)","v":{"v":0,"d":"0.0"}},{"$nulls":8},{"$f":"SUM(((S1047*3)+V1047+Y1047)/5)","v":{"v":0,"d":"0.0"}}]
[]
[{"$f":"T(A1045)","v":"Widespread Power Outage"},{"$nulls":3},"Threat",null,"Criticality",null,null,"Vulnerability",{"$nulls":8},"Consequence",{"$nulls":8},{"$f":"SUM(((((J1055+S1055)/2)*G1055)*E1055))","v":0}]
[{"$nulls":9},"Exposure",null,null,"Protective Measures",null,null,"Robustness/Resilience",null,null,"Human",null,null,"Economic",null,null,"Psychological"]
[{"$f":"T(A926)","v":"Consist - Type 1"},null,{"$f":"T(C926)","v":"CR"},{"$f":"SUM(D926)","v":5},{"v":1,"d":"1.0"},null,{"$f":"SUM(G926)","v":{"v":0,"d":"0.0"}},null,null,{"v":0,"d":"0.0"},null,null,{"v":0,"d":"0.0"},null,null,{"v":0,"d":"0.0"},null,null,{"v":0,"d":"0.0"},null,null,{"v":0,"d":"0.0"},null,null,{"v":0,"d":"0.0"}]
[{"$f":"T(A927)","v":""}]
[{"$nulls":4},{"$f":"SUM(E1053)","v":{"v":1,"d":"1.0"}},null,{"$f":"SUM(G1053)","v":{"v":0,"d":"0.0"}},null,null,{"$f":"SUM((J1053+M1053+P1053)/3)","v":{"v":0,"d":"0.0"}},{"$nulls":8},{"$f":"SUM(((S1053*3)+V1053+Y1053)/5)","v":{"v":0,"d":"0.0"}}]
[]
[{"$f":"T(A1051)","v":"Widespread Power Outage"},{"$nulls":3},"Threat",null,"Criticality",null,null,"Vulnerability",{"$nulls":8},"Consequence",{"$nulls":8},{"$f":"SUM(((((J1061+S1061)/2)*G1061)*E1061))","v":0}]
[{"$nulls":9},"Exposure",null,null,"Protective Measures",null,null,"Robustness/Resilience",null,null,"Human",null,null,"Economic",null,null,"Psychological"]
[{"$f":"T(A932)","v":"Consist - Type 2"},null,{"$f":"T(C932)","v":"CR"},{"$f":"SUM(D932)","v":6},{"v":1,"d":"1.0"},null,{"$f":"SUM(G932)","v":{"v":0,"d":"0.0"}},null,null,{"v":0,"d":"0.0"},null,null,{"v":0,"d":"0.0"},null,null,{"v":0,"d":"0.0"},null,null,{"v":0,"d":"0.0"},null,null,{"v":0,"d":"0.0"},null,null,{"v":0,"d":"0.0"}]
[{"$f":"T(A933)","v":""}]
[{"$nulls":4},{"$f":"SUM(E1059)","v":{"v":1,"d":"1.0"}},null,{"$f":"SUM(G1059)","v":{"v":0,"d":"0.0"}},null,null,{"$f":"SUM((J1059+M1059+P1059)/3)","v":{"v":0,"d":"0.0"}},{"$nulls":8},{"$f":"SUM(((S1059*3)+V1059+Y1059)/5)","v":{"v":0,"d":"0.0"}}]
[]
[{"$f":"T(A1057)","v":"Widespread Power Outage"},{"$nulls":3},"Threat",null,"Criticality",null,null,"Vulnerability",{"$nulls":8},"Consequence",{"$nulls":8},{"$f":"SUM(((((J1067+S1067)/2)*G1067)*E1067))","v":0}]
[{"$nulls":9},"Exposure",null,null,"Protective Measures",null,null,"Robustness/Resilience",null,null,"Human",null,null,"Economic",null,null,"Psychological"]
[{"$f":"T(A938)","v":"Primary Control Center"},null,{"$f":"T(C938)","v":"CR"},{"$f":"SUM(D938)","v":7},{"v":1,"d":"1.0"},null,{"$f":"SUM(G938)","v":{"v":0,"d":"0.0"}},null,null,{"v":0,"d":"0.0"},null,null,{"v":0,"d":"0.0"},null,null,{"v":0,"d":"0.0"},null,null,{"v":0,"d":"0.0"},null,null,{"v":0,"d":"0.0"},null,null,{"v":0,"d":"0.0"}]
[{"$f":"T(A939)","v":""}]
[{"$nulls":4},{"$f":"SUM(E1065)","v":{"v":1,"d":"1.0"}},null,{"$f":"SUM(G1065)","v":{"v":0,"d":"0.0"}},null,null,{"$f":"SUM((J1065+M1065+P1065)/3)","v":{"v":0,"d":"0.0"}},{"$nulls":8},{"$f":"SUM(((S1065*3)+V1065+Y1065)/5)","v":{"v":0,"d":"0.0"}}]
[]
[{"$f":"T(A1063)","v":"Widespread Power Outage"},{"$nulls":3},"Threat",null,"Criticality",null,null,"Vulnerability",{"$nulls":8},"Consequence",{"$nulls":8},{"$f":"SUM(((((J1073+S1073)/2)*G1073)*E1073))","v":0}]
[{"$nulls":9},"Exposure",null,null,"Protective Measures",null,null,"Robustness/Resilience",null,null,"Human",null,null,"Economic",null,null,"Psychological"]
[{"$f":"T(A944)","v":"Control Towers"},null,{"$f":"T(C944)","v":"CR"},{"$f":"SUM(D944)","v":8},{"v":1,"d":"1.0"},null,{"$f":"SUM(G944)","v":{"v":0,"d":"0.0"}},null,null,{"v":0,"d":"0.0"},null,null,{"v":0,"d":"0.0"},null,null,{"v":0,"d":"0.0"},null,null,{"v":0,"d":"0.0"},null,null,{"v":0,"d":"0.0"},null,null,{"v":0,"d":"0.0"}]
[{"$f":"T(A945)","v":""}]
[{"$nulls":4},{"$f":"SUM(E1071)","v":{"v":1,"d":"1.0"}},null,{"$f":"SUM(G1071)","v":{"v":0,"d":"0.0"}},null,null,{"$f":"SUM((J1071+M1071+P1071)/3)","v":{"v":0,"d":"0.0"}},{"$nulls":8},{"$f":"SUM(((S1071*3)+V1071+Y1071)/5)","v":{"v":0,"d":"0.0"}}]
[]
[{"$f":"T(A1069)","v":"Widespread Power Outage"},{"$nulls":3},"Threat",null,"Criticality",null,null,"Vulnerability",{"$nulls":8},"Consequence",{"$nulls":8},{"$f":"SUM(((((J1079+S1079)/2)*G1079)*E1079))","v":0}]
[{"$nulls":9},"Exposure",null,null,"Protective Measures",null,null,"Robustness/Resilience",null,null,"Human",null,null,"Economic",null,null,"Psychological"]
[{"$f":"T(A950)","v":"Cyber Systems"},null,{"$f":"T(C950)","v":"CR"},{"$f":"SUM(D950)","v":9},{"v":1,"d":"1.0"},null,{"$f":"SUM(G950)","v":{"v":0,"d":"0.0"}},null,null,{"v":0,"d":"0.0"},null,null,{"v":0,"d":"0.0"},null,null,{"v":0,"d":"0.0"},null,null,{"v":0,"d":"0.0"},null,null,{"v":0,"d":"0.0"},null,null,{"v":0,"d":"0.0"}]
[{"$f":"T(A951)","v":""}]
[{"$nulls":4},{"$f":"SUM(E1077)","v":{"v":1,"d":"1.0"}},null,{"$f":"SUM(G1077)","v":{"v":0,"d":"0.0"}},null,null,{"$f":"SUM((J1077+M1077+P1077)/3)","v":{"v":0,"d":"0.0"}},{"$nulls":8},{"$f":"SUM(((S1077*3)+V1077+Y1077)/5)","v":{"v":0,"d":"0.0"}}]
[]
[{"$f":"T(A1075)","v":"Widespread Power Outage"},{"$nulls":3},"Threat",null,"Criticality",null,null,"Vulnerability",{"$nulls":8},"Consequence",{"$nulls":8},{"$f":"SUM(((((J1085+S1085)/2)*G1085)*E1085))","v":0}]
[{"$nulls":9},"Exposure",null,null,"Protective Measures",null,null,"Robustness/Resilience",null,null,"Human",null,null,"Economic",null,null,"Psychological"]
[{"$f":"T(A956)","v":"Right of Way (ROW)"},null,{"$f":"T(C956)","v":"CR"},{"$f":"SUM(D956)","v":10},{"v":1,"d":"1.0"},null,{"$f":"SUM(G956)","v":{"v":0,"d":"0.0"}},null,null,{"v":0,"d":"0.0"},null,null,{"v":0,"d":"0.0"},null,null,{"v":0,"d":"0.0"},null,null,{"v":0,"d":"0.0"},null,null,{"v":0,"d":"0.0"},null,null,{"v":0,"d":"0.0"}]
[{"$f":"T(A957)","v":""}]
[{"$nulls":4},{"$f":"SUM(E1083)","v":{"v":1,"d":"1.0"}},null,{"$f":"SUM(G1083)","v":{"v":0,"d":"0.0"}},null,null,{"$f":"SUM((J1083+M1083+P1083)/3)","v":{"v":0,"d":"0.0"}},{"$nulls":8},{"$f":"SUM(((S1083*3)+V1083+Y1083)/5)","v":{"v":0,"d":"0.0"}}]
[]
[{"$f":"T(A1081)","v":"Widespread Power Outage"},{"$nulls":3},"Threat",null,"Criticality",null,null,"Vulnerability",{"$nulls":8},"Consequence",{"$nulls":8},{"$f":"SUM(((((J1091+S1091)/2)*G1091)*E1091))","v":0}]
[{"$nulls":9},"Exposure",null,null,"Protective Measures",null,null,"Robustness/Resilience",null,null,"Human",null,null,"Economic",null,null,"Psychological"]
[{"$f":"T(A962)","v":"Signals & PTC"},null,{"$f":"T(C962)","v":"CR"},{"$f":"SUM(D962)","v":11},{"v":1,"d":"1.0"},null,{"$f":"SUM(G962)","v":{"v":0,"d":"0.0"}},null,null,{"v":0,"d":"0.0"},null,null,{"v":0,"d":"0.0"},null,null,{"v":0,"d":"0.0"},null,null,{"v":0,"d":"0.0"},null,null,{"v":0,"d":"0.0"},null,null,{"v":0,"d":"0.0"}]
[{"$f":"T(A963)","v":""}]
[{"$nulls":4},{"$f":"SUM(E1089)","v":{"v":1,"d":"1.0"}},null,{"$f":"SUM(G1089)","v":{"v":0,"d":"0.0"}},null,null,{"$f":"SUM((J1089+M1089+P1089)/3)","v":{"v":0,"d":"0.0"}},{"$nulls":8},{"$f":"SUM(((S1089*3)+V1089+Y1089)/5)","v":{"v":0,"d":"0.0"}}]
[]
[{"$f":"T(A1087)","v":"Widespread Power Outage"},{"$nulls":3},"Threat",null,"Criticality",null,null,"Vulnerability",{"$nulls":8},"Consequence",{"$nulls":8},{"$f":"SUM(((((J1097+S1097)/2)*G1097)*E1097))","v":0}]
[{"$nulls":9},"Exposure",null,null,"Protective Measures",null,null,"Robustness/Resilience",null,null,"Human",null,null,"Economic",null,null,"Psychological"]
[{"$f":"T(A968)","v":"Switches "},null,{"$f":"T(C968)","v":"CR"},{"$f":"SUM(D968)","v":12},{"v":1,"d":"1.0"},null,{"$f":"SUM(G968)","v":{"v":0,"d":"0.0"}},null,null,{"v":0,"d":"0.0"},null,null,{"v":0,"d":"0.0"},null,null,{"v":0,"d":"0.0"},null,null,{"v":0,"d":"0.0"},null,null,{"v":0,"d":"0.0"},null,null,{"v":0,"d":"0.0"}]
[{"$f":"T(A969)","v":""}]
[{"$nulls":4},{"$f":"SUM(E1095)","v":{"v":1,"d":"1.0"}},null,{"$f":"SUM(G1095)","v":{"v":0,"d":"0.0"}},null,null,{"$f":"SUM((J1095+M1095+P1095)/3)","v":{"v":0,"d":"0.0"}},{"$nulls":8},{"$f":"SUM(((S1095*3)+V1095+Y1095)/5)","v":{"v":0,"d":"0.0"}}]
[]
[{"$f":"T(A1093)","v":"Widespread Power Outage"},{"$nulls":3},"Threat",null,"Criticality",null,null,"Vulnerability",{"$nulls":8},"Consequence",{"$nulls":8},{"$f":"SUM(((((J1103+S1103)/2)*G1103)*E1103))","v":0}]
[{"$nulls":9},"Exposure",null,null,"Protective Measures",null,null,"Robustness/Resilience",null,null,"Human",null,null,"Economic",null,null,"Psychological"]
[{"$f":"T(A974)","v":"Bridges"},null,{"$f":"T(C974)","v":"CR"},{"$f":"SUM(D974)","v":13},{"v":1,"d":"1.0"},null,{"$f":"SUM(G974)","v":{"v":0,"d":"0.0"}},null,null,{"v":0,"d":"0.0"},null,null,{"v":0,"d":"0.0"},null,null,{"v":0,"d":"0.0"},null,null,{"v":0,"d":"0.0"},null,null,{"v":0,"d":"0.0"},null,null,{"v":0,"d":"0.0"}]
[{"$f":"T(A975)","v":""}]
[{"$nulls":4},{"$f":"SUM(E1101)","v":{"v":1,"d":"1.0"}},null,{"$f":"SUM(G1101)","v":{"v":0,"d":"0.0"}},null,null,{"$f":"SUM((J1101+M1101+P1101)/3)","v":{"v":0,"d":"0.0"}},{"$nulls":8},{"$f":"SUM(((S1101*3)+V1101+Y1101)/5)","v":{"v":0,"d":"0.0"}}]
[]
[{"$f":"T(A1099)","v":"Widespread Power Outage"},{"$nulls":3},"Threat",null,"Criticality",null,null,"Vulnerability",{"$nulls":8},"Consequence",{"$nulls":8},{"$f":"SUM(((((J1109+S1109)/2)*G1109)*E1109))","v":0}]
[{"$nulls":9},"Exposure",null,null,"Protective Measures",null,null,"Robustness/Resilience",null,null,"Human",null,null,"Economic",null,null,"Psychological"]
[{"$f":"T(A980)","v":"Elevated Track"},null,{"$f":"T(C980)","v":"CR"},{"$f":"SUM(D980)","v":14},{"v":1,"d":"1.0"},null,{"$f":"SUM(G980)","v":{"v":0,"d":"0.0"}},null,null,{"v":0,"d":"0.0"},null,null,{"v":0,"d":"0.0"},null,null,{"v":0,"d":"0.0"},null,null,{"v":0,"d":"0.0"},null,null,{"v":0,"d":"0.0"},null,null,{"v":0,"d":"0.0"}]
[{"$f":"T(A981)","v":""}]
[{"$nulls":4},{"$f":"SUM(E1107)","v":{"v":1,"d":"1.0"}},null,{"$f":"SUM(G1107)","v":{"v":0,"d":"0.0"}},null,null,{"$f":"SUM((J1107+M1107+P1107)/3)","v":{"v":0,"d":"0.0"}},{"$nulls":8},{"$f":"SUM(((S1107*3)+V1107+Y1107)/5)","v":{"v":0,"d":"0.0"}}]
[]
[{"$f":"T(A1105)","v":"Widespread Power Outage"},{"$nulls":3},"Threat",null,"Criticality",null,null,"Vulnerability",{"$nulls":8},"Consequence",{"$nulls":8},{"$f":"SUM(((((J1115+S1115)/2)*G1115)*E1115))","v":0}]
[{"$nulls":9},"Exposure",null,null,"Protective Measures",null,null,"Robustness/Resilience",null,null,"Human",null,null,"Economic",null,null,"Psychological"]
[{"$f":"T(A986)","v":"Tunnels "},null,{"$f":"T(C986)","v":"CR"},{"$f":"SUM(D986)","v":15},{"v":1,"d":"1.0"},null,{"$f":"SUM(G986)","v":{"v":0,"d":"0.0"}},null,null,{"v":0,"d":"0.0"},null,null,{"v":0,"d":"0.0"},null,null,{"v":0,"d":"0.0"},null,null,{"v":0,"d":"0.0"},null,null,{"v":0,"d":"0.0"},null,null,{"v":0,"d":"0.0"}]
[{"$f":"T(A987)","v":""}]
[{"$nulls":4},{"$f":"SUM(E1113)","v":{"v":1,"d":"1.0"}},null,{"$f":"SUM(G1113)","v":{"v":0,"d":"0.0"}},null,null,{"$f":"SUM((J1113+M1113+P1113)/3)","v":{"v":0,"d":"0.0"}},{"$nulls":8},{"$f":"SUM(((S1113*3)+V1113+Y1113)/5)","v":{"v":0,"d":"0.0"}}]
[]
[{"$f":"T(A1111)","v":"Widespread Power Outage"},{"$nulls":3},"Threat",null,"Criticality",null,null,"Vulnerability",{"$nulls":8},"Consequence",{"$nulls":8},{"$f":"SUM(((((J1121+S1121)/2)*G1121)*E1121))","v":0}]
[{"$nulls":9},"Exposure",null,null,"Protective Measures",null,null,"Robustness/Resilience",null,null,"Human",null,null,"Economic",null,null,"Psychological"]
[{"$f":"T(A992)","v":"Choke Points on ROW"},null,{"$f":"T(C992)","v":"CR"},{"$f":"SUM(D992)","v":16},{"v":1,"d":"1.0"},null,{"$f":"SUM(G992)","v":{"v":0,"d":"0.0"}},null,null,{"v":0,"d":"0.0"},null,null,{"v":0,"d":"0.0"},null,null,{"v":0,"d":"0.0"},null,null,{"v":0,"d":"0.0"},null,null,{"v":0,"d":"0.0"},null,null,{"v":0,"d":"0.0"}]
[{"$f":"T(A993)","v":""}]
[{"$nulls":4},{"$f":"SUM(E1119)","v":{"v":1,"d":"1.0"}},null,{"$f":"SUM(G1119)","v":{"v":0,"d":"0.0"}},null,null,{"$f":"SUM((J1119+M1119+P1119)/3)","v":{"v":0,"d":"0.0"}},{"$nulls":8},{"$f":"SUM(((S1119*3)+V1119+Y1119)/5)","v":{"v":0,"d":"0.0"}}]
[]
[{"$f":"T(A1117)","v":"Widespread Power Outage"},{"$nulls":3},"Threat",null,"Criticality",null,null,"Vulnerability",{"$nulls":8},"Consequence",{"$nulls":8},{"$f":"SUM(((((J1127+S1127)/2)*G1127)*E1127))","v":0}]
[{"$nulls":9},"Exposure",null,null,"Protective Measures",null,null,"Robustness/Resilience",null,null,"Human",null,null,"Economic",null,null,"Psychological"]
[{"$f":"T(A998)","v":"Fire Suppression"},null,{"$f":"T(C998)","v":"CR"},{"$f":"SUM(D998)","v":17},{"v":1,"d":"1.0"},null,{"$f":"SUM(G998)","v":{"v":0,"d":"0.0"}},null,null,{"v":0,"d":"0.0"},null,null,{"v":0,"d":"0.0"},null,null,{"v":0,"d":"0.0"},null,null,{"v":0,"d":"0.0"},null,null,{"v":0,"d":"0.0"},null,null,{"v":0,"d":"0.0"}]
[{"$f":"T(A999)","v":""}]
[{"$nulls":4},{"$f":"SUM(E1125)","v":{"v":1,"d":"1.0"}},null,{"$f":"SUM(G1125)","v":{"v":0,"d":"0.0"}},null,null,{"$f":"SUM((J1125+M1125+P1125)/3)","v":{"v":0,"d":"0.0"}},{"$nulls":8},{"$f":"SUM(((S1125*3)+V1125+Y1125)/5)","v":{"v":0,"d":"0.0"}}]
[]
[{"$f":"T(A1123)","v":"Widespread Power Outage"},{"$nulls":3},"Threat",null,"Criticality",null,null,"Vulnerability",{"$nulls":8},"Consequence",{"$nulls":8},{"$f":"SUM(((((J1133+S1133)/2)*G1133)*E1133))","v":0}]
[{"$nulls":9},"Exposure",null,null,"Protective Measures",null,null,"Robustness/Resilience",null,null,"Human",null,null,"Economic",null,null,"Psychological"]
[{"$f":"T(A1004)","v":"Air Handling"},null,{"$f":"T(C1004)","v":"CR"},{"$f":"SUM(D1004)","v":18},{"v":1,"d":"1.0"},null,{"$f":"SUM(G1004)","v":{"v":0,"d":"0.0"}},null,null,{"v":0,"d":"0.0"},null,null,{"v":0,"d":"0.0"},null,null,{"v":0,"d":"0.0"},null,null,{"v":0,"d":"0.0"},null,null,{"v":0,"d":"0.0"},null,null,{"v":0,"d":"0.0"}]
[{"$f":"T(A1005)","v":""}]
[{"$nulls":4},{"$f":"SUM(E1131)","v":{"v":1,"d":"1.0"}},null,{"$f":"SUM(G1131)","v":{"v":0,"d":"0.0"}},null,null,{"$f":"SUM((J1131+M1131+P1131)/3)","v":{"v":0,"d":"0.0"}},{"$nulls":8},{"$f":"SUM(((S1131*3)+V1131+Y1131)/5)","v":{"v":0,"d":"0.0"}}]
[]
[{"$f":"T(A1129)","v":"Widespread Power Outage"},{"$nulls":3},"Threat",null,"Criticality",null,null,"Vulnerability",{"$nulls":8},"Consequence",{"$nulls":8},{"$f":"SUM(((((J1139+S1139)/2)*G1139)*E1139))","v":0}]
[{"$nulls":9},"Exposure",null,null,"Protective Measures",null,null,"Robustness/Resilience",null,null,"Human",null,null,"Economic",null,null,"Psychological"]
[{"$f":"T(A1010)","v":"Power Generation/Distribution"},null,{"$f":"T(C1010)","v":"CR"},{"$f":"SUM(D1010)","v":19},{"v":1,"d":"1.0"},null,{"$f":"SUM(G1010)","v":{"v":0,"d":"0.0"}},null,null,{"v":0,"d":"0.0"},null,null,{"v":0,"d":"0.0"},null,null,{"v":0,"d":"0.0"},null,null,{"v":0,"d":"0.0"},null,null,{"v":0,"d":"0.0"},null,null,{"v":0,"d":"0.0"}]
[{"$f":"T(A1011)","v":""}]
[{"$nulls":4},{"$f":"SUM(E1137)","v":{"v":1,"d":"1.0"}},null,{"$f":"SUM(G1137)","v":{"v":0,"d":"0.0"}},null,null,{"$f":"SUM((J1137+M1137+P1137)/3)","v":{"v":0,"d":"0.0"}},{"$nulls":8},{"$f":"SUM(((S1137*3)+V1137+Y1137)/5)","v":{"v":0,"d":"0.0"}}]
[]
[{"$f":"T(A1135)","v":"Widespread Power Outage"},{"$nulls":3},"Threat",null,"Criticality",null,null,"Vulnerability",{"$nulls":8},"Consequence",{"$nulls":8},{"$f":"SUM(((((J1145+S1145)/2)*G1145)*E1145))","v":0}]
[{"$nulls":9},"Exposure",null,null,"Protective Measures",null,null,"Robustness/Resilience",null,null,"Human",null,null,"Economic",null,null,"Psychological"]
[{"$f":"T(A1016)","v":"Yards"},null,{"$f":"T(C1016)","v":"CR"},{"$f":"SUM(D1016)","v":20},{"v":1,"d":"1.0"},null,{"$f":"SUM(G1016)","v":{"v":0,"d":"0.0"}},null,null,{"v":0,"d":"0.0"},null,null,{"v":0,"d":"0.0"},null,null,{"v":0,"d":"0.0"},null,null,{"v":0,"d":"0.0"},null,null,{"v":0,"d":"0.0"},null,null,{"v":0,"d":"0.0"}]
[{"$f":"T(A1017)","v":""}]
[{"$nulls":4},{"$f":"SUM(E1143)","v":{"v":1,"d":"1.0"}},null,{"$f":"SUM(G1143)","v":{"v":0,"d":"0.0"}},null,null,{"$f":"SUM((J1143+M1143+P1143)/3)","v":{"v":0,"d":"0.0"}},{"$nulls":8},{"$f":"SUM(((S1143*3)+V1143+Y1143)/5)","v":{"v":0,"d":"0.0"}}]
[]
[{"$f":"T(A1141)","v":"Widespread Power Outage"},{"$nulls":3},"Threat",null,"Criticality",null,null,"Vulnerability",{"$nulls":8},"Consequence",{"$nulls":8},{"$f":"SUM(((((J1151+S1151)/2)*G1151)*E1151))","v":0}]
[{"$nulls":9},"Exposure",null,null,"Protective Measures",null,null,"Robustness/Resilience",null,null,"Human",null,null,"Economic",null,null,"Psychological"]
[{"$f":"T(A1022)","v":"Maintenance Barns/Facilities"},null,{"$f":"T(C1022)","v":"CR"},{"$f":"SUM(D1022)","v":21},{"v":1,"d":"1.0"},null,{"$f":"SUM(G1022)","v":{"v":0,"d":"0.0"}},null,null,{"v":0,"d":"0.0"},null,null,{"v":0,"d":"0.0"},null,null,{"v":0,"d":"0.0"},null,null,{"v":0,"d":"0.0"},null,null,{"v":0,"d":"0.0"},null,null,{"v":0,"d":"0.0"}]
[{"$f":"T(A1023)","v":""}]
[{"$nulls":4},{"$f":"SUM(E1149)","v":{"v":1,"d":"1.0"}},null,{"$f":"SUM(G1149)","v":{"v":0,"d":"0.0"}},null,null,{"$f":"SUM((J1149+M1149+P1149)/3)","v":{"v":0,"d":"0.0"}},{"$nulls":8},{"$f":"SUM(((S1149*3)+V1149+Y1149)/5)","v":{"v":0,"d":"0.0"}}]
[]
[{"$f":"T(Definitions!D28)","v":"Weapon of Mass Destruction "}]
[{"$f":"T(A1153)","v":"Weapon of Mass Destruction "},{"$nulls":3},"Threat",null,"Criticality",null,null,"Vulnerability",{"$nulls":8},"Consequence",{"$nulls":8},{"$f":"SUM(((((J1158+S1158)/2)*G1158)*E1158))","v":0}]
[{"$nulls":9},"Exposure",null,null,"Protective Measures",null,null,"Robustness/Resilience",null,null,"Human",null,null,"Economic",null,null,"Psychological"]
[{"$f":"T(A1029)","v":"Headquarters Building"},null,{"$f":"T(C1029)","v":"CR"},{"$f":"SUM(D1029)","v":1},{"v":1,"d":"1.0"},null,{"$f":"SUM(G1029)","v":{"v":0,"d":"0.0"}},null,null,{"v":0,"d":"0.0"},null,null,{"v":0,"d":"0.0"},null,null,{"v":0,"d":"0.0"},null,null,{"v":0,"d":"0.0"},null,null,{"v":0,"d":"0.0"},null,null,{"v":0,"d":"0.0"}]
[{"$f":"T(A1030)","v":""}]
[{"$nulls":4},{"$f":"SUM(E1156)","v":{"v":1,"d":"1.0"}},null,{"$f":"SUM(G1156)","v":{"v":0,"d":"0.0"}},null,null,{"$f":"SUM((J1156+M1156+P1156)/3)","v":{"v":0,"d":"0.0"}},{"$nulls":8},{"$f":"SUM(((S1156*3)+V1156+Y1156)/5)","v":{"v":0,"d":"0.0"}}]
[]
[{"$f":"T(A1153)","v":"Weapon of Mass Destruction "},{"$nulls":3},"Threat",null,"Criticality",null,null,"Vulnerability",{"$nulls":8},"Consequence",{"$nulls":8},{"$f":"SUM(((((J1164+S1164)/2)*G1164)*E1164))","v":0}]
[{"$nulls":9},"Exposure",null,null,"Protective Measures",null,null,"Robustness/Resilience",null,null,"Human",null,null,"Economic",null,null,"Psychological"]
[{"$f":"T(A1035)","v":"Major Passenger Terminals"},null,{"$f":"T(C1035)","v":"CR"},{"$f":"SUM(D1035)","v":2},{"v":1,"d":"1.0"},null,{"$f":"SUM(G1035)","v":{"v":0,"d":"0.0"}},null,null,{"v":0,"d":"0.0"},null,null,{"v":0,"d":"0.0"},null,null,{"v":0,"d":"0.0"},null,null,{"v":0,"d":"0.0"},null,null,{"v":0,"d":"0.0"},null,null,{"v":0,"d":"0.0"}]
[{"$f":"T(A1036)","v":""}]
[{"$nulls":4},{"$f":"SUM(E1162)","v":{"v":1,"d":"1.0"}},null,{"$f":"SUM(G1162)","v":{"v":0,"d":"0.0"}},null,null,{"$f":"SUM((J1162+M1162+P1162)/3)","v":{"v":0,"d":"0.0"}},{"$nulls":8},{"$f":"SUM(((S1162*3)+V1162+Y1162)/5)","v":{"v":0,"d":"0.0"}}]
[]
[{"$f":"T(A1160)","v":"Weapon of Mass Destruction "},{"$nulls":3},"Threat",null,"Criticality",null,null,"Vulnerability",{"$nulls":8},"Consequence",{"$nulls":8},{"$f":"SUM(((((J1170+S1170)/2)*G1170)*E1170))","v":0}]
[{"$nulls":9},"Exposure",null,null,"Protective Measures",null,null,"Robustness/Resilience",null,null,"Human",null,null,"Economic",null,null,"Psychological"]
[{"$f":"T(A1041)","v":"Major Line Stations"},null,{"$f":"T(C1041)","v":"CR"},{"$f":"SUM(D1041)","v":3},{"v":1,"d":"1.0"},null,{"$f":"SUM(G1041)","v":{"v":0,"d":"0.0"}},null,null,{"v":0,"d":"0.0"},null,null,{"v":0,"d":"0.0"},null,null,{"v":0,"d":"0.0"},null,null,{"v":0,"d":"0.0"},null,null,{"v":0,"d":"0.0"},null,null,{"v":0,"d":"0.0"}]
[{"$f":"T(A1042)","v":""}]
[{"$nulls":4},{"$f":"SUM(E1168)","v":{"v":1,"d":"1.0"}},null,{"$f":"SUM(G1168)","v":{"v":0,"d":"0.0"}},null,null,{"$f":"SUM((J1168+M1168+P1168)/3)","v":{"v":0,"d":"0.0"}},{"$nulls":8},{"$f":"SUM(((S1168*3)+V1168+Y1168)/5)","v":{"v":0,"d":"0.0"}}]
[]
[{"$f":"T(A1166)","v":"Weapon of Mass Destruction "},{"$nulls":3},"Threat",null,"Criticality",null,null,"Vulnerability",{"$nulls":8},"Consequence",{"$nulls":8},{"$f":"SUM(((((J1176+S1176)/2)*G1176)*E1176))","v":0}]
[{"$nulls":9},"Exposure",null,null,"Protective Measures",null,null,"Robustness/Resilience",null,null,"Human",null,null,"Economic",null,null,"Psychological"]
[{"$f":"T(A1047)","v":"Parking Structures"},null,{"$f":"T(C1047)","v":"CR"},{"$f":"SUM(D1047)","v":4},{"v":1,"d":"1.0"},null,{"$f":"SUM(G1047)","v":{"v":0,"d":"0.0"}},null,null,{"v":0,"d":"0.0"},null,null,{"v":0,"d":"0.0"},null,null,{"v":0,"d":"0.0"},null,null,{"v":0,"d":"0.0"},null,null,{"v":0,"d":"0.0"},null,null,{"v":0,"d":"0.0"}]
[{"$f":"T(A1048)","v":""}]
[{"$nulls":4},{"$f":"SUM(E1174)","v":{"v":1,"d":"1.0"}},null,{"$f":"SUM(G1174)","v":{"v":0,"d":"0.0"}},null,null,{"$f":"SUM((J1174+M1174+P1174)/3)","v":{"v":0,"d":"0.0"}},{"$nulls":8},{"$f":"SUM(((S1174*3)+V1174+Y1174)/5)","v":{"v":0,"d":"0.0"}}]
[]
[{"$f":"T(A1172)","v":"Weapon of Mass Destruction "},{"$nulls":3},"Threat",null,"Criticality",null,null,"Vulnerability",{"$nulls":8},"Consequence",{"$nulls":8},{"$f":"SUM(((((J1182+S1182)/2)*G1182)*E1182))","v":0}]
[{"$nulls":9},"Exposure",null,null,"Protective Measures",null,null,"Robustness/Resilience",null,null,"Human",null,null,"Economic",null,null,"Psychological"]
[{"$f":"T(A1053)","v":"Consist - Type 1"},null,{"$f":"T(C1053)","v":"CR"},{"$f":"SUM(D1053)","v":5},{"v":1,"d":"1.0"},null,{"$f":"SUM(G1053)","v":{"v":0,"d":"0.0"}},null,null,{"v":0,"d":"0.0"},null,null,{"v":0,"d":"0.0"},null,null,{"v":0,"d":"0.0"},null,null,{"v":0,"d":"0.0"},null,null,{"v":0,"d":"0.0"},null,null,{"v":0,"d":"0.0"}]
[{"$f":"T(A1054)","v":""}]
[{"$nulls":4},{"$f":"SUM(E1180)","v":{"v":1,"d":"1.0"}},null,{"$f":"SUM(G1180)","v":{"v":0,"d":"0.0"}},null,null,{"$f":"SUM((J1180+M1180+P1180)/3)","v":{"v":0,"d":"0.0"}},{"$nulls":8},{"$f":"SUM(((S1180*3)+V1180+Y1180)/5)","v":{"v":0,"d":"0.0"}}]
[]
[{"$f":"T(A1178)","v":"Weapon of Mass Destruction "},{"$nulls":3},"Threat",null,"Criticality",null,null,"Vulnerability",{"$nulls":8},"Consequence",{"$nulls":8},{"$f":"SUM(((((J1188+S1188)/2)*G1188)*E1188))","v":0}]
[{"$nulls":9},"Exposure",null,null,"Protective Measures",null,null,"Robustness/Resilience",null,null,"Human",null,null,"Economic",null,null,"Psychological"]
[{"$f":"T(A1059)","v":"Consist - Type 2"},null,{"$f":"T(C1059)","v":"CR"},{"$f":"SUM(D1059)","v":6},{"v":1,"d":"1.0"},null,{"$f":"SUM(G1059)","v":{"v":0,"d":"0.0"}},null,null,{"v":0,"d":"0.0"},null,null,{"v":0,"d":"0.0"},null,null,{"v":0,"d":"0.0"},null,null,{"v":0,"d":"0.0"},null,null,{"v":0,"d":"0.0"},null,null,{"v":0,"d":"0.0"}]
[{"$f":"T(A1060)","v":""}]
[{"$nulls":4},{"$f":"SUM(E1186)","v":{"v":1,"d":"1.0"}},null,{"$f":"SUM(G1186)","v":{"v":0,"d":"0.0"}},null,null,{"$f":"SUM((J1186+M1186+P1186)/3)","v":{"v":0,"d":"0.0"}},{"$nulls":8},{"$f":"SUM(((S1186*3)+V1186+Y1186)/5)","v":{"v":0,"d":"0.0"}}]
[]
[{"$f":"T(A1184)","v":"Weapon of Mass Destruction "},{"$nulls":3},"Threat",null,"Criticality",null,null,"Vulnerability",{"$nulls":8},"Consequence",{"$nulls":8},{"$f":"SUM(((((J1194+S1194)/2)*G1194)*E1194))","v":0}]
[{"$nulls":9},"Exposure",null,null,"Protective Measures",null,null,"Robustness/Resilience",null,null,"Human",null,null,"Economic",null,null,"Psychological"]
[{"$f":"T(A1065)","v":"Primary Control Center"},null,{"$f":"T(C1065)","v":"CR"},{"$f":"SUM(D1065)","v":7},{"v":1,"d":"1.0"},null,{"$f":"SUM(G1065)","v":{"v":0,"d":"0.0"}},null,null,{"v":0,"d":"0.0"},null,null,{"v":0,"d":"0.0"},null,null,{"v":0,"d":"0.0"},null,null,{"v":0,"d":"0.0"},null,null,{"v":0,"d":"0.0"},null,null,{"v":0,"d":"0.0"}]
[{"$f":"T(A1066)","v":""}]
[{"$nulls":4},{"$f":"SUM(E1192)","v":{"v":1,"d":"1.0"}},null,{"$f":"SUM(G1192)","v":{"v":0,"d":"0.0"}},null,null,{"$f":"SUM((J1192+M1192+P1192)/3)","v":{"v":0,"d":"0.0"}},{"$nulls":8},{"$f":"SUM(((S1192*3)+V1192+Y1192)/5)","v":{"v":0,"d":"0.0"}}]
[]
[{"$f":"T(A1190)","v":"Weapon of Mass Destruction "},{"$nulls":3},"Threat",null,"Criticality",null,null,"Vulnerability",{"$nulls":8},"Consequence",{"$nulls":8},{"$f":"SUM(((((J1200+S1200)/2)*G1200)*E1200))","v":0}]
[{"$nulls":9},"Exposure",null,null,"Protective Measures",null,null,"Robustness/Resilience",null,null,"Human",null,null,"Economic",null,null,"Psychological"]
[{"$f":"T(A1071)","v":"Control Towers"},null,{"$f":"T(C1071)","v":"CR"},{"$f":"SUM(D1071)","v":8},{"v":1,"d":"1.0"},null,{"$f":"SUM(G1071)","v":{"v":0,"d":"0.0"}},null,null,{"v":0,"d":"0.0"},null,null,{"v":0,"d":"0.0"},null,null,{"v":0,"d":"0.0"},null,null,{"v":0,"d":"0.0"},null,null,{"v":0,"d":"0.0"},null,null,{"v":0,"d":"0.0"}]
[{"$f":"T(A1072)","v":""}]
[{"$nulls":4},{"$f":"SUM(E1198)","v":{"v":1,"d":"1.0"}},null,{"$f":"SUM(G1198)","v":{"v":0,"d":"0.0"}},null,null,{"$f":"SUM((J1198+M1198+P1198)/3)","v":{"v":0,"d":"0.0"}},{"$nulls":8},{"$f":"SUM(((S1198*3)+V1198+Y1198)/5)","v":{"v":0,"d":"0.0"}}]
[]
[{"$f":"T(A1196)","v":"Weapon of Mass Destruction "},{"$nulls":3},"Threat",null,"Criticality",null,null,"Vulnerability",{"$nulls":8},"Consequence",{"$nulls":8},{"$f":"SUM(((((J1206+S1206)/2)*G1206)*E1206))","v":0}]
[{"$nulls":9},"Exposure",null,null,"Protective Measures",null,null,"Robustness/Resilience",null,null,"Human",null,null,"Economic",null,null,"Psychological"]
[{"$f":"T(A1077)","v":"Cyber Systems"},null,{"$f":"T(C1077)","v":"CR"},{"$f":"SUM(D1077)","v":9},{"v":1,"d":"1.0"},null,{"$f":"SUM(G1077)","v":{"v":0,"d":"0.0"}},null,null,{"v":0,"d":"0.0"},null,null,{"v":0,"d":"0.0"},null,null,{"v":0,"d":"0.0"},null,null,{"v":0,"d":"0.0"},null,null,{"v":0,"d":"0.0"},null,null,{"v":0,"d":"0.0"}]
[{"$f":"T(A1078)","v":""}]
[{"$nulls":4},{"$f":"SUM(E1204)","v":{"v":1,"d":"1.0"}},null,{"$f":"SUM(G1204)","v":{"v":0,"d":"0.0"}},null,null,{"$f":"SUM((J1204+M1204+P1204)/3)","v":{"v":0,"d":"0.0"}},{"$nulls":8},{"$f":"SUM(((S1204*3)+V1204+Y1204)/5)","v":{"v":0,"d":"0.0"}}]
[]
[{"$f":"T(A1202)","v":"Weapon of Mass Destruction "},{"$nulls":3},"Threat",null,"Criticality",null,null,"Vulnerability",{"$nulls":8},"Consequence",{"$nulls":8},{"$f":"SUM(((((J1212+S1212)/2)*G1212)*E1212))","v":0}]
[{"$nulls":9},"Exposure",null,null,"Protective Measures",null,null,"Robustness/Resilience",null,null,"Human",null,null,"Economic",null,null,"Psychological"]
[{"$f":"T(A1083)","v":"Right of Way (ROW)"},null,{"$f":"T(C1083)","v":"CR"},{"$f":"SUM(D1083)","v":10},{"v":1,"d":"1.0"},null,{"$f":"SUM(G1083)","v":{"v":0,"d":"0.0"}},null,null,{"v":0,"d":"0.0"},null,null,{"v":0,"d":"0.0"},null,null,{"v":0,"d":"0.0"},null,null,{"v":0,"d":"0.0"},null,null,{"v":0,"d":"0.0"},null,null,{"v":0,"d":"0.0"}]
[{"$f":"T(A1084)","v":""}]
[{"$nulls":4},{"$f":"SUM(E1210)","v":{"v":1,"d":"1.0"}},null,{"$f":"SUM(G1210)","v":{"v":0,"d":"0.0"}},null,null,{"$f":"SUM((J1210+M1210+P1210)/3)","v":{"v":0,"d":"0.0"}},{"$nulls":8},{"$f":"SUM(((S1210*3)+V1210+Y1210)/5)","v":{"v":0,"d":"0.0"}}]
[]
[{"$f":"T(A1208)","v":"Weapon of Mass Destruction "},{"$nulls":3},"Threat",null,"Criticality",null,null,"Vulnerability",{"$nulls":8},"Consequence",{"$nulls":8},{"$f":"SUM(((((J1218+S1218)/2)*G1218)*E1218))","v":0}]
[{"$nulls":9},"Exposure",null,null,"Protective Measures",null,null,"Robustness/Resilience",null,null,"Human",null,null,"Economic",null,null,"Psychological"]
[{"$f":"T(A1089)","v":"Signals & PTC"},null,{"$f":"T(C1089)","v":"CR"},{"$f":"SUM(D1089)","v":11},{"v":1,"d":"1.0"},null,{"$f":"SUM(G1089)","v":{"v":0,"d":"0.0"}},null,null,{"v":0,"d":"0.0"},null,null,{"v":0,"d":"0.0"},null,null,{"v":0,"d":"0.0"},null,null,{"v":0,"d":"0.0"},null,null,{"v":0,"d":"0.0"},null,null,{"v":0,"d":"0.0"}]
[{"$f":"T(A1090)","v":""}]
[{"$nulls":4},{"$f":"SUM(E1216)","v":{"v":1,"d":"1.0"}},null,{"$f":"SUM(G1216)","v":{"v":0,"d":"0.0"}},null,null,{"$f":"SUM((J1216+M1216+P1216)/3)","v":{"v":0,"d":"0.0"}},{"$nulls":8},{"$f":"SUM(((S1216*3)+V1216+Y1216)/5)","v":{"v":0,"d":"0.0"}}]
[]
[{"$f":"T(A1214)","v":"Weapon of Mass Destruction "},{"$nulls":3},"Threat",null,"Criticality",null,null,"Vulnerability",{"$nulls":8},"Consequence",{"$nulls":8},{"$f":"SUM(((((J1224+S1224)/2)*G1224)*E1224))","v":0}]
[{"$nulls":9},"Exposure",null,null,"Protective Measures",null,null,"Robustness/Resilience",null,null,"Human",null,null,"Economic",null,null,"Psychological"]
[{"$f":"T(A1095)","v":"Switches "},null,{"$f":"T(C1095)","v":"CR"},{"$f":"SUM(D1095)","v":12},{"v":1,"d":"1.0"},null,{"$f":"SUM(G1095)","v":{"v":0,"d":"0.0"}},null,null,{"v":0,"d":"0.0"},null,null,{"v":0,"d":"0.0"},null,null,{"v":0,"d":"0.0"},null,null,{"v":0,"d":"0.0"},null,null,{"v":0,"d":"0.0"},null,null,{"v":0,"d":"0.0"}]
[{"$f":"T(A1096)","v":""}]
[{"$nulls":4},{"$f":"SUM(E1222)","v":{"v":1,"d":"1.0"}},null,{"$f":"SUM(G1222)","v":{"v":0,"d":"0.0"}},null,null,{"$f":"SUM((J1222+M1222+P1222)/3)","v":{"v":0,"d":"0.0"}},{"$nulls":8},{"$f":"SUM(((S1222*3)+V1222+Y1222)/5)","v":{"v":0,"d":"0.0"}}]
[]
[{"$f":"T(A1220)","v":"Weapon of Mass Destruction "},{"$nulls":3},"Threat",null,"Criticality",null,null,"Vulnerability",{"$nulls":8},"Consequence",{"$nulls":8},{"$f":"SUM(((((J1230+S1230)/2)*G1230)*E1230))","v":0}]
[{"$nulls":9},"Exposure",null,null,"Protective Measures",null,null,"Robustness/Resilience",null,null,"Human",null,null,"Economic",null,null,"Psychological"]
[{"$f":"T(A1101)","v":"Bridges"},null,{"$f":"T(C1101)","v":"CR"},{"$f":"SUM(D1101)","v":13},{"v":1,"d":"1.0"},null,{"$f":"SUM(G1101)","v":{"v":0,"d":"0.0"}},null,null,{"v":0,"d":"0.0"},null,null,{"v":0,"d":"0.0"},null,null,{"v":0,"d":"0.0"},null,null,{"v":0,"d":"0.0"},null,null,{"v":0,"d":"0.0"},null,null,{"v":0,"d":"0.0"}]
[{"$f":"T(A1102)","v":""}]
[{"$nulls":4},{"$f":"SUM(E1228)","v":{"v":1,"d":"1.0"}},null,{"$f":"SUM(G1228)","v":{"v":0,"d":"0.0"}},null,null,{"$f":"SUM((J1228+M1228+P1228)/3)","v":{"v":0,"d":"0.0"}},{"$nulls":8},{"$f":"SUM(((S1228*3)+V1228+Y1228)/5)","v":{"v":0,"d":"0.0"}}]
[]
[{"$f":"T(A1226)","v":"Weapon of Mass Destruction "},{"$nulls":3},"Threat",null,"Criticality",null,null,"Vulnerability",{"$nulls":8},"Consequence",{"$nulls":8},{"$f":"SUM(((((J1236+S1236)/2)*G1236)*E1236))","v":0}]
[{"$nulls":9},"Exposure",null,null,"Protective Measures",null,null,"Robustness/Resilience",null,null,"Human",null,null,"Economic",null,null,"Psychological"]
[{"$f":"T(A1107)","v":"Elevated Track"},null,{"$f":"T(C1107)","v":"CR"},{"$f":"SUM(D1107)","v":14},{"v":1,"d":"1.0"},null,{"$f":"SUM(G1107)","v":{"v":0,"d":"0.0"}},null,null,{"v":0,"d":"0.0"},null,null,{"v":0,"d":"0.0"},null,null,{"v":0,"d":"0.0"},null,null,{"v":0,"d":"0.0"},null,null,{"v":0,"d":"0.0"},null,null,{"v":0,"d":"0.0"}]
[{"$f":"T(A1108)","v":""}]
[{"$nulls":4},{"$f":"SUM(E1234)","v":{"v":1,"d":"1.0"}},null,{"$f":"SUM(G1234)","v":{"v":0,"d":"0.0"}},null,null,{"$f":"SUM((J1234+M1234+P1234)/3)","v":{"v":0,"d":"0.0"}},{"$nulls":8},{"$f":"SUM(((S1234*3)+V1234+Y1234)/5)","v":{"v":0,"d":"0.0"}}]
[]
[{"$f":"T(A1232)","v":"Weapon of Mass Destruction "},{"$nulls":3},"Threat",null,"Criticality",null,null,"Vulnerability",{"$nulls":8},"Consequence",{"$nulls":8},{"$f":"SUM(((((J1242+S1242)/2)*G1242)*E1242))","v":0}]
[{"$nulls":9},"Exposure",null,null,"Protective Measures",null,null,"Robustness/Resilience",null,null,"Human",null,null,"Economic",null,null,"Psychological"]
[{"$f":"T(A1113)","v":"Tunnels "},null,{"$f":"T(C1113)","v":"CR"},{"$f":"SUM(D1113)","v":15},{"v":1,"d":"1.0"},null,{"$f":"SUM(G1113)","v":{"v":0,"d":"0.0"}},null,null,{"v":0,"d":"0.0"},null,null,{"v":0,"d":"0.0"},null,null,{"v":0,"d":"0.0"},null,null,{"v":0,"d":"0.0"},null,null,{"v":0,"d":"0.0"},null,null,{"v":0,"d":"0.0"}]
[{"$f":"T(A1114)","v":""}]
[{"$nulls":4},{"$f":"SUM(E1240)","v":{"v":1,"d":"1.0"}},null,{"$f":"SUM(G1240)","v":{"v":0,"d":"0.0"}},null,null,{"$f":"SUM((J1240+M1240+P1240)/3)","v":{"v":0,"d":"0.0"}},{"$nulls":8},{"$f":"SUM(((S1240*3)+V1240+Y1240)/5)","v":{"v":0,"d":"0.0"}}]
[]
[{"$f":"T(A1238)","v":"Weapon of Mass Destruction "},{"$nulls":3},"Threat",null,"Criticality",null,null,"Vulnerability",{"$nulls":8},"Consequence",{"$nulls":8},{"$f":"SUM(((((J1248+S1248)/2)*G1248)*E1248))","v":0}]
[{"$nulls":9},"Exposure",null,null,"Protective Measures",null,null,"Robustness/Resilience",null,null,"Human",null,null,"Economic",null,null,"Psychological"]
[{"$f":"T(A1119)","v":"Choke Points on ROW"},null,{"$f":"T(C1119)","v":"CR"},{"$f":"SUM(D1119)","v":16},{"v":1,"d":"1.0"},null,{"$f":"SUM(G1119)","v":{"v":0,"d":"0.0"}},null,null,{"v":0,"d":"0.0"},null,null,{"v":0,"d":"0.0"},null,null,{"v":0,"d":"0.0"},null,null,{"v":0,"d":"0.0"},null,null,{"v":0,"d":"0.0"},null,null,{"v":0,"d":"0.0"}]
[{"$f":"T(A1120)","v":""}]
[{"$nulls":4},{"$f":"SUM(E1246)","v":{"v":1,"d":"1.0"}},null,{"$f":"SUM(G1246)","v":{"v":0,"d":"0.0"}},null,null,{"$f":"SUM((J1246+M1246+P1246)/3)","v":{"v":0,"d":"0.0"}},{"$nulls":8},{"$f":"SUM(((S1246*3)+V1246+Y1246)/5)","v":{"v":0,"d":"0.0"}}]
[]
[{"$f":"T(A1244)","v":"Weapon of Mass Destruction "},{"$nulls":3},"Threat",null,"Criticality",null,null,"Vulnerability",{"$nulls":8},"Consequence",{"$nulls":8},{"$f":"SUM(((((J1254+S1254)/2)*G1254)*E1254))","v":0}]
[{"$nulls":9},"Exposure",null,null,"Protective Measures",null,null,"Robustness/Resilience",null,null,"Human",null,null,"Economic",null,null,"Psychological"]
[{"$f":"T(A1125)","v":"Fire Suppression"},null,{"$f":"T(C1125)","v":"CR"},{"$f":"SUM(D1125)","v":17},{"v":1,"d":"1.0"},null,{"$f":"SUM(G1125)","v":{"v":0,"d":"0.0"}},null,null,{"v":0,"d":"0.0"},null,null,{"v":0,"d":"0.0"},null,null,{"v":0,"d":"0.0"},null,null,{"v":0,"d":"0.0"},null,null,{"v":0,"d":"0.0"},null,null,{"v":0,"d":"0.0"}]
[{"$f":"T(A1126)","v":""}]
[{"$nulls":4},{"$f":"SUM(E1252)","v":{"v":1,"d":"1.0"}},null,{"$f":"SUM(G1252)","v":{"v":0,"d":"0.0"}},null,null,{"$f":"SUM((J1252+M1252+P1252)/3)","v":{"v":0,"d":"0.0"}},{"$nulls":8},{"$f":"SUM(((S1252*3)+V1252+Y1252)/5)","v":{"v":0,"d":"0.0"}}]
[]
[{"$f":"T(A1250)","v":"Weapon of Mass Destruction "},{"$nulls":3},"Threat",null,"Criticality",null,null,"Vulnerability",{"$nulls":8},"Consequence",{"$nulls":8},{"$f":"SUM(((((J1260+S1260)/2)*G1260)*E1260))","v":0}]
[{"$nulls":9},"Exposure",null,null,"Protective Measures",null,null,"Robustness/Resilience",null,null,"Human",null,null,"Economic",null,null,"Psychological"]
[{"$f":"T(A1131)","v":"Air Handling"},null,{"$f":"T(C1131)","v":"CR"},{"$f":"SUM(D1131)","v":18},{"v":1,"d":"1.0"},null,{"$f":"SUM(G1131)","v":{"v":0,"d":"0.0"}},null,null,{"v":0,"d":"0.0"},null,null,{"v":0,"d":"0.0"},null,null,{"v":0,"d":"0.0"},null,null,{"v":0,"d":"0.0"},null,null,{"v":0,"d":"0.0"},null,null,{"v":0,"d":"0.0"}]
[{"$f":"T(A1132)","v":""}]
[{"$nulls":4},{"$f":"SUM(E1258)","v":{"v":1,"d":"1.0"}},null,{"$f":"SUM(G1258)","v":{"v":0,"d":"0.0"}},null,null,{"$f":"SUM((J1258+M1258+P1258)/3)","v":{"v":0,"d":"0.0"}},{"$nulls":8},{"$f":"SUM(((S1258*3)+V1258+Y1258)/5)","v":{"v":0,"d":"0.0"}}]
[]
[{"$f":"T(A1256)","v":"Weapon of Mass Destruction "},{"$nulls":3},"Threat",null,"Criticality",null,null,"Vulnerability",{"$nulls":8},"Consequence",{"$nulls":8},{"$f":"SUM(((((J1266+S1266)/2)*G1266)*E1266))","v":0}]
[{"$nulls":9},"Exposure",null,null,"Protective Measures",null,null,"Robustness/Resilience",null,null,"Human",null,null,"Economic",null,null,"Psychological"]
[{"$f":"T(A1137)","v":"Power Generation/Distribution"},null,{"$f":"T(C1137)","v":"CR"},{"$f":"SUM(D1137)","v":19},{"v":1,"d":"1.0"},null,{"$f":"SUM(G1137)","v":{"v":0,"d":"0.0"}},null,null,{"v":0,"d":"0.0"},null,null,{"v":0,"d":"0.0"},null,null,{"v":0,"d":"0.0"},null,null,{"v":0,"d":"0.0"},null,null,{"v":0,"d":"0.0"},null,null,{"v":0,"d":"0.0"}]
[{"$f":"T(A1138)","v":""}]
[{"$nulls":4},{"$f":"SUM(E1264)","v":{"v":1,"d":"1.0"}},null,{"$f":"SUM(G1264)","v":{"v":0,"d":"0.0"}},null,null,{"$f":"SUM((J1264+M1264+P1264)/3)","v":{"v":0,"d":"0.0"}},{"$nulls":8},{"$f":"SUM(((S1264*3)+V1264+Y1264)/5)","v":{"v":0,"d":"0.0"}}]
[]
[{"$f":"T(A1262)","v":"Weapon of Mass Destruction "},{"$nulls":3},"Threat",null,"Criticality",null,null,"Vulnerability",{"$nulls":8},"Consequence",{"$nulls":8},{"$f":"SUM(((((J1272+S1272)/2)*G1272)*E1272))","v":0}]
[{"$nulls":9},"Exposure",null,null,"Protective Measures",null,null,"Robustness/Resilience",null,null,"Human",null,null,"Economic",null,null,"Psychological"]
[{"$f":"T(A1143)","v":"Yards"},null,{"$f":"T(C1143)","v":"CR"},{"$f":"SUM(D1143)","v":20},{"v":1,"d":"1.0"},null,{"$f":"SUM(G1143)","v":{"v":0,"d":"0.0"}},null,null,{"v":0,"d":"0.0"},null,null,{"v":0,"d":"0.0"},null,null,{"v":0,"d":"0.0"},null,null,{"v":0,"d":"0.0"},null,null,{"v":0,"d":"0.0"},null,null,{"v":0,"d":"0.0"}]
[{"$f":"T(A1144)","v":""}]
[{"$nulls":4},{"$f":"SUM(E1270)","v":{"v":1,"d":"1.0"}},null,{"$f":"SUM(G1270)","v":{"v":0,"d":"0.0"}},null,null,{"$f":"SUM((J1270+M1270+P1270)/3)","v":{"v":0,"d":"0.0"}},{"$nulls":8},{"$f":"SUM(((S1270*3)+V1270+Y1270)/5)","v":{"v":0,"d":"0.0"}}]
[]
[{"$f":"T(A1268)","v":"Weapon of Mass Destruction "},{"$nulls":3},"Threat",null,"Criticality",null,null,"Vulnerability",{"$nulls":8},"Consequence",{"$nulls":8},{"$f":"SUM(((((J1278+S1278)/2)*G1278)*E1278))","v":0}]
[{"$nulls":9},"Exposure",null,null,"Protective Measures",null,null,"Robustness/Resilience",null,null,"Human",null,null,"Economic",null,null,"Psychological"]
[{"$f":"T(A1149)","v":"Maintenance Barns/Facilities"},null,{"$f":"T(C1149)","v":"CR"},{"$f":"SUM(D1149)","v":21},{"v":1,"d":"1.0"},null,{"$f":"SUM(G1149)","v":{"v":0,"d":"0.0"}},null,null,{"v":0,"d":"0.0"},null,null,{"v":0,"d":"0.0"},null,null,{"v":0,"d":"0.0"},null,null,{"v":0,"d":"0.0"},null,null,{"v":0,"d":"0.0"},null,null,{"v":0,"d":"0.0"}]
[{"$f":"T(A1150)","v":""}]
[{"$nulls":4},{"$f":"SUM(E1276)","v":{"v":1,"d":"1.0"}},null,{"$f":"SUM(G1276)","v":{"v":0,"d":"0.0"}},null,null,{"$f":"SUM((J1276+M1276+P1276)/3)","v":{"v":0,"d":"0.0"}},{"$nulls":8},{"$f":"SUM(((S1276*3)+V1276+Y1276)/5)","v":{"v":0,"d":"0.0"}}]
[]
["SENSITIVE SECURITY INFORMATION"]
["WARNING: This document contains Sensitive Security Information that is controlled under 49 CFR 1520. No part of this document may be released to persons without a need to know, as defined in 49 CFR 1520, except with the written permission of the FEMA Administrator, Washington, DC. Unauthorized release may result in civil penalty or other action. For U.S. Government agencies, public release is governed by 5 U.S.C. 522."]

{"sheet":"Light Rail Assets","index":5,"n_rows":1161,"n_cols":28,"rows_kept":1161,"merged":[[681,27,685,27],[682,9,682,11],[682,12,682,14],[682,15,682,17],[682,18,682,20],[682,21,682,23],[682,24,682,26],[683,0,683,1],[683,4,684,5],[687,0,688,3],[687,4,688,5],[687,6,688,8],[687,9,687,17],[687,18,687,26],[687,27,691,27],[688,9,688,11],[688,12,688,14],[688,15,688,17],[688,18,688,20],[688,21,688,23],[688,24,688,26],[689,0,689,1],[689,4,690,5],[689,6,690,8],[689,9,690,11],[689,12,690,14],[689,15,690,17],[689,18,690,20],[689,21,690,23],[689,24,690,26],[690,0,691,3],[691,4,691,5],[691,6,691,8],[691,9,691,17],[691,18,691,26],[693,27,697,27],[694,9,694,11],[694,12,694,14],[694,15,694,17],[694,18,694,20],[694,21,694,23],[694,24,694,26],[695,0,695,1],[695,4,696,5],[695,6,696,8],[695,9,696,11],[695,12,696,14],[695,15,696,17],[695,18,696,20],[695,21,696,23],[695,24,696,26],[696,0,697,3],[697,4,697,5],[697,6,697,8],[697,9,697,17],[697,18,697,26],[814,0,814,27],[815,0,816,3],[815,4,816,5],[815,6,816,8],[815,9,815,17],[815,18,815,26],[815,27,819,27],[816,9,816,11],[893,0,894,3],[893,4,894,5],[893,6,894,8],[893,9,893,17],[893,18,893,26],[893,27,897,27],[894,9,894,11],[894,12,894,14],[894,15,894,17],[894,18,894,20],[894,21,894,23],[894,24,894,26],[895,0,895,1],[895,4,896,5],[895,6,896,8],[895,9,896,11],[895,12,896,14],[895,15,896,17],[895,18,896,20],[895,21,896,23],[895,24,896,26],[896,0,897,3],[897,4,897,5],[897,6,897,8],[899,27,903,27],[900,9,900,11],[900,12,900,14],[900,15,900,17],[900,18,900,20],[900,21,900,23],[900,24,900,26],[901,0,901,1],[901,4,902,5],[901,6,902,8],[901,9,902,11],[901,12,902,14],[901,15,902,17],[901,18,902,20],[901,21,902,23],[901,24,902,26],[902,0,903,3],[903,4,903,5],[903,6,903,8],[905,0,906,3],[905,9,905,17],[905,18,905,26],[905,27,909,27],[906,9,906,11],[906,12,906,14],[906,15,906,17],[906,18,906,20],[906,21,906,23],[906,24,906,26],[907,0,907,1],[907,4,908,5],[907,6,908,8],[907,9,908,11],[907,12,908,14],[907,15,908,17],[907,18,908,20],[907,21,908,23],[907,24,908,26],[908,0,909,3],[909,4,909,5],[909,6,909,8],[911,27,915,27],[912,9,912,11],[912,12,912,14],[912,15,912,17],[912,18,912,20],[912,21,912,23],[912,24,912,26],[913,0,913,1],[913,4,914,5],[913,6,914,8],[913,9,914,11],[913,12,914,14],[913,15,914,17],[913,18,914,20],[913,21,914,23],[913,24,914,26],[914,0,915,3],[915,4,915,5],[915,6,915,8],[915,9,915,17],[915,18,915,26],[917,0,918,3],[917,4,918,5],[917,6,918,8],[917,9,917,17],[917,18,917,26],[917,27,921,27],[918,9,918,11],[918,12,918,14],[918,15,918,17],[918,18,918,20],[918,21,918,23],[918,24,918,26],[919,0,919,1],[919,4,920,5],[919,6,920,8],[919,9,920,11],[919,12,920,14],[919,15,920,17],[919,18,920,20],[919,21,920,23],[919,24,920,26],[920,0,921,3],[921,4,921,5],[921,6,921,8],[921,9,921,17],[921,18,921,26],[923,0,924,3],[923,4,924,5],[923,6,924,8],[923,9,923,17],[923,18,923,26],[923,27,927,27],[924,9,924,11],[924,12,924,14],[924,15,924,17],[924,18,924,20],[924,21,924,23],[924,24,924,26],[925,0,925,1],[925,4,926,5],[925,6,926,8],[925,9,926,11],[925,12,926,14],[925,15,926,17],[925,18,926,20],[925,21,926,23],[925,24,926,26],[926,0,927,3],[927,4,927,5],[927,6,927,8],[927,9,927,17],[927,18,927,26],[929,0,929,27],[930,0,931,3],[930,4,931,5],[930,6,931,8],[930,9,930,17],[930,18,930,26],[930,27,934,27],[931,9,931,11],[931,12,931,14],[931,15,931,17],[931,18,931,20],[931,21,931,23],[931,24,931,26],[932,0,932,1],[932,4,933,5],[932,6,933,8],[932,9,933,11],[932,12,933,14],[932,15,933,17],[932,18,933,20],[932,21,933,23],[932,24,933,26],[933,0,934,3],[934,4,934,5],[934,6,934,8],[934,9,934,17],[934,18,934,26],[936,0,937,3],[936,4,937,5],[936,6,937,8],[936,9,936,17],[936,18,936,26],[936,27,940,27],[937,9,937,11],[937,12,937,14],[937,15,937,17],[937,18,937,20],[937,21,937,23],[937,24,937,26],[938,0,938,1],[938,4,939,5],[938,6,939,8],[938,9,939,11],[938,12,939,14],[938,15,939,17],[938,18,939,20],[938,21,939,23],[938,24,939,26],[939,0,940,3],[940,4,940,5],[940,6,940,8],[940,9,940,17],[940,18,940,26],[942,0,943,3],[942,4,943,5],[942,6,943,8],[942,9,942,17],[942,18,942,26],[942,27,946,27],[943,9,943,11],[943,12,943,14],[943,15,943,17],[943,18,943,20],[943,21,943,23],[943,24,943,26],[944,0,944,1],[944,4,945,5],[944,6,945,8],[944,9,945,11],[944,12,945,14],[944,15,945,17],[944,18,945,20],[944,21,945,23],[944,24,945,26],[945,0,946,3],[946,4,946,5],[946,6,946,8],[946,9,946,17],[946,18,946,26],[948,0,949,3],[948,4,949,5],[948,6,949,8],[948,9,948,17],[948,18,948,26],[948,27,952,27],[949,9,949,11],[949,12,949,14],[949,15,949,17],[949,18,949,20],[949,21,949,23],[949,24,949,26],[950,0,950,1],[950,4,951,5],[950,6,951,8],[950,9,951,11],[950,12,951,14],[950,15,951,17],[950,18,951,20],[950,21,951,23],[950,24,951,26],[951,0,952,3],[952,4,952,5],[952,6,952,8],[952,9,952,17],[952,18,952,26],[954,0,955,3],[954,4,955,5],[954,6,955,8],[954,9,954,17],[954,18,954,26],[954,27,958,27],[955,9,955,11],[955,12,955,14],[955,15,955,17],[955,18,955,20],[955,21,955,23],[955,24,955,26],[956,0,956,1],[956,4,957,5],[956,6,957,8],[956,9,957,11],[956,12,957,14],[956,15,957,17],[956,18,957,20],[956,21,957,23],[956,24,957,26],[957,0,958,3],[958,4,958,5],[958,6,958,8],[958,9,958,17],[958,18,958,26],[960,0,961,3],[960,4,961,5],[960,6,961,8],[960,9,960,17],[960,18,960,26],[960,27,964,27],[961,9,961,11],[961,12,961,14],[961,15,961,17],[961,18,961,20],[961,21,961,23],[961,24,961,26],[962,0,962,1],[962,4,963,5],[962,6,963,8],[962,9,963,11],[962,12,963,14],[962,15,963,17],[962,18,963,20],[962,21,963,23],[962,24,963,26],[963,0,964,3],[964,4,964,5],[964,6,964,8],[964,9,964,17],[964,18,964,26],[966,0,967,3],[966,4,967,5],[966,6,967,8],[966,9,966,17],[966,18,966,26],[966,27,970,27],[967,9,967,11],[967,12,967,14],[967,15,967,17],[967,18,967,20],[967,21,967,23],[967,24,967,26],[968,0,968,1],[968,4,969,5],[968,6,969,8],[968,9,969,11],[968,12,969,14],[968,15,969,17],[968,18,969,20],[968,21,969,23],[968,24,969,26],[970,4,970,5],[970,6,970,8],[970,9,970,17],[970,18,970,26],[988,9,988,17],[988,18,988,26],[990,4,991,5],[990,6,991,8],[990,9,990,17],[990,18,990,26],[990,27,994,27],[991,9,991,11],[991,12,991,14],[991,15,991,17],[991,18,991,20],[991,21,991,23],[991,24,991,26],[992,0,992,1],[992,4,993,5],[992,6,993,8],[992,9,993,11],[992,12,993,14],[992,15,993,17],[992,18,993,20],[992,21,993,23],[992,24,993,26],[994,4,994,5],[994,6,994,8],[994,9,994,17],[994,18,994,26],[996,27,1000,27],[997,9,997,11],[997,12,997,14],[997,15,997,17],[997,18,997,20],[997,21,997,23],[997,24,997,26],[998,0,998,1],[998,4,999,5],[998,6,999,8],[998,9,999,11],[998,12,999,14],[998,15,999,17],[998,18,999,20],[998,21,999,23],[998,24,999,26],[999,0,1000,3],[1000,4,1000,5],[1000,6,1000,8],[1000,9,1000,17],[1000,18,1000,26],[1002,0,1003,3],[1002,4,1003,5],[1002,6,1003,8],[1002,9,1002,17],[1002,18,1002,26],[1002,27,1006,27],[1003,9,1003,11],[1003,12,1003,14],[1003,15,1003,17],[1003,18,1003,20],[1003,21,1003,23],[1003,24,1003,26],[1004,0,1004,1],[1004,4,1005,5],[1004,6,1005,8],[1004,9,1005,11],[1004,12,1005,14],[1004,15,1005,17],[1004,18,1005,20],[1004,21,1005,23],[1004,24,1005,26],[1005,0,1006,3],[1006,4,1006,5],[1006,6,1006,8],[1006,9,1006,17],[1006,18,1006,26],[1008,0,1009,3],[1008,4,1009,5],[1008,6,1009,8],[1008,9,1008,17],[1008,18,1008,26],[1008,27,1012,27],[1009,9,1009,11],[1009,12,1009,14],[1009,15,1009,17],[1009,18,1009,20],[1009,21,1009,23],[1009,24,1009,26],[1010,0,1010,1],[1010,4,1011,5],[1010,6,1011,8],[1010,9,1011,11],[1010,12,1011,14],[1010,15,1011,17],[1010,18,1011,20],[1010,21,1011,23],[1010,24,1011,26],[1011,0,1012,3],[1012,4,1012,5],[1012,6,1012,8],[1012,9,1012,17],[1012,18,1012,26],[1014,0,1015,3],[1014,4,1015,5],[1014,6,1015,8],[1014,9,1014,17],[1014,18,1014,26],[1014,27,1018,27],[1015,9,1015,11],[1015,12,1015,14],[1015,15,1015,17],[1015,18,1015,20],[1015,21,1015,23],[1015,24,1015,26],[1016,0,1016,1],[1016,4,1017,5],[1016,6,1017,8],[1016,9,1017,11],[1016,12,1017,14],[1016,15,1017,17],[1016,18,1017,20],[1016,21,1017,23],[1016,24,1017,26],[1017,0,1018,3],[1018,4,1018,5],[1018,6,1018,8],[1018,9,1018,17],[1018,18,1018,26],[1020,0,1021,3],[1020,4,1021,5],[1020,6,1021,8],[1020,9,1020,17],[1020,18,1020,26],[1020,27,1024,27],[1021,9,1021,11],[1021,12,1021,14],[1021,15,1021,17],[1021,18,1021,20],[1021,21,1021,23],[1021,24,1021,26],[1022,0,1022,1],[1022,4,1023,5],[1022,6,1023,8],[1022,9,1023,11],[1022,12,1023,14],[1022,15,1023,17],[1022,18,1023,20],[1022,21,1023,23],[1022,24,1023,26],[1023,0,1024,3],[1024,4,1024,5],[1024,6,1024,8],[1024,9,1024,17],[1024,18,1024,26],[1026,0,1027,3],[1026,4,1027,5],[1026,6,1027,8],[1026,9,1026,17],[1026,18,1026,26],[1026,27,1030,27],[1027,9,1027,11],[1027,12,1027,14],[1027,15,1027,17],[1027,18,1027,20],[1027,21,1027,23],[1027,24,1027,26],[1028,0,1028,1],[1028,4,1029,5],[1028,6,1029,8],[1028,9,1029,11],[1028,12,1029,14],[1028,15,1029,17],[1028,18,1029,20],[1028,21,1029,23],[1028,24,1029,26],[1029,0,1030,3],[1030,4,1030,5],[1030,6,1030,8],[1030,9,1030,17],[1030,18,1030,26],[1032,0,1033,3],[1032,4,1033,5],[1032,6,1033,8],[1032,9,1032,17],[1032,18,1032,26],[1032,27,1036,27],[1033,9,1033,11],[1033,12,1033,14],[1033,15,1033,17],[1033,18,1033,20],[1033,21,1033,23],[1033,24,1033,26],[1034,0,1034,1],[1034,4,1035,5],[1034,6,1035,8],[1034,9,1035,11],[1034,12,1035,14],[1034,15,1035,17],[1034,18,1035,20],[1034,21,1035,23],[1034,24,1035,26],[1035,0,1036,3],[1036,4,1036,5],[1036,6,1036,8],[1036,9,1036,17],[1036,18,1036,26],[1038,0,1039,3],[1038,4,1039,5],[1038,6,1039,8],[1038,9,1038,17],[1038,18,1038,26],[1038,27,1042,27],[1039,9,1039,11],[1039,12,1039,14],[1039,15,1039,17],[1039,18,1039,20],[1039,21,1039,23],[1039,24,1039,26],[1040,0,1040,1],[1040,4,1041,5],[1040,6,1041,8],[1040,9,1041,11],[1040,12,1041,14],[1040,15,1041,17],[1040,18,1041,20],[1040,21,1041,23],[1040,24,1041,26],[1041,0,1042,3],[1042,4,1042,5],[1042,6,1042,8],[1051,9,1051,17],[1051,18,1051,26],[1051,27,1055,27],[1052,9,1052,11],[1052,12,1052,14],[1052,15,1052,17],[1052,18,1052,20],[1052,21,1052,23],[1052,24,1052,26],[1053,0,1053,1],[1053,4,1054,5],[1053,6,1054,8],[1053,9,1054,11],[1053,12,1054,14],[1053,15,1054,17],[1053,18,1054,20],[1053,21,1054,23],[1053,24,1054,26],[1054,0,1055,3],[1055,4,1055,5],[1055,6,1055,8],[1055,9,1055,17],[1055,18,1055,26],[1057,0,1058,3],[1057,4,1058,5],[1057,6,1058,8],[1057,9,1057,17],[1057,18,1057,26],[1057,27,1061,27],[1058,9,1058,11],[1058,12,1058,14],[1058,15,1058,17],[1058,18,1058,20],[1058,21,1058,23],[1058,24,1058,26],[1059,0,1059,1],[1059,4,1060,5],[1059,6,1060,8],[1059,9,1060,11],[1059,12,1060,14],[1059,15,1060,17],[1059,18,1060,20],[1059,21,1060,23],[1059,24,1060,26],[1060,0,1061,3],[1061,4,1061,5],[1061,6,1061,8],[1061,9,1061,17],[1061,18,1061,26],[1063,0,1064,3],[1063,4,1064,5],[1063,6,1064,8],[1063,9,1063,17],[1063,18,1063,26],[1063,27,1067,27],[1064,9,1064,11],[1064,12,1064,14],[1064,15,1064,17],[1064,18,1064,20],[1064,21,1064,23],[1064,24,1064,26],[1065,0,1065,1],[1065,4,1066,5],[1065,6,1066,8],[1065,9,1066,11],[1065,12,1066,14],[1065,15,1066,17],[1065,18,1066,20],[1065,21,1066,23],[1065,24,1066,26],[1066,0,1067,3],[1067,4,1067,5],[1067,6,1067,8],[1067,9,1067,17],[1067,18,1067,26],[1069,0,1070,3],[1069,4,1070,5],[1069,6,1070,8],[1069,9,1069,17],[1069,18,1069,26],[1069,27,1073,27],[1070,9,1070,11],[1070,12,1070,14],[1070,15,1070,17],[1070,18,1070,20],[1070,21,1070,23],[1070,24,1070,26],[1071,0,1071,1],[1071,4,1072,5],[1071,6,1072,8],[1071,9,1072,11],[1071,12,1072,14],[1071,15,1072,17],[1071,18,1072,20],[1071,21,1072,23],[1071,24,1072,26],[1072,0,1073,3],[1073,4,1073,5],[1073,6,1073,8],[1073,9,1073,17],[1073,18,1073,26],[1075,0,1076,3],[1075,4,1076,5],[1075,6,1076,8],[1075,9,1075,17],[1075,18,1075,26],[1075,27,1079,27],[1076,9,1076,11],[1076,12,1076,14],[1076,15,1076,17],[1076,18,1076,20],[1076,21,1076,23],[1076,24,1076,26],[1077,0,1077,1],[1077,4,1078,5],[1077,6,1078,8],[1077,9,1078,11],[1077,12,1078,14],[1077,15,1078,17],[1077,18,1078,20],[1077,21,1078,23],[1077,24,1078,26],[1079,4,1079,5],[1079,6,1079,8],[1079,9,1079,17],[1079,18,1079,26],[1085,9,1085,17],[1085,18,1085,26],[1093,0,1094,3],[1093,4,1094,5],[1093,6,1094,8],[1093,9,1093,17],[1093,18,1093,26],[1093,27,1097,27],[1099,4,1100,5],[1099,6,1100,8],[1099,9,1099,17],[1099,18,1099,26],[1099,27,1103,27],[1100,9,1100,11],[1100,12,1100,14],[1100,15,1100,17],[1100,18,1100,20],[1100,21,1100,23],[1100,24,1100,26],[1101,0,1101,1],[1101,4,1102,5],[1101,6,1102,8],[1101,9,1102,11],[1101,12,1102,14],[1101,15,1102,17],[1101,18,1102,20],[1101,21,1102,23],[1101,24,1102,26],[1103,4,1103,5],[1103,6,1103,8],[1103,9,1103,17],[1103,18,1103,26],[1105,27,1109,27],[1106,9,1106,11],[1106,12,1106,14],[1106,15,1106,17],[1106,18,1106,20],[1106,21,1106,23],[1106,24,1106,26],[1107,0,1107,1],[1107,4,1108,5],[1107,6,1108,8],[1107,9,1108,11],[1107,12,1108,14],[1107,15,1108,17],[1107,18,1108,20],[1107,21,1108,23],[1107,24,1108,26],[1108,0,1109,3],[1109,4,1109,5],[1109,6,1109,8],[1109,9,1109,17],[1109,18,1109,26],[1111,0,1112,3],[1111,4,1112,5],[1111,6,1112,8],[1111,9,1111,17],[1111,18,1111,26],[1111,27,1115,27],[1112,9,1112,11],[1112,12,1112,14],[1112,15,1112,17],[1112,18,1112,20],[1112,21,1112,23],[1112,24,1112,26],[1113,0,1113,1],[1113,4,1114,5],[1113,6,1114,8],[1113,9,1114,11],[1113,12,1114,14],[1113,15,1114,17],[1113,18,1114,20],[1113,21,1114,23],[1113,24,1114,26],[1114,0,1115,3],[1115,4,1115,5],[1115,6,1115,8],[1115,9,1115,17],[1115,18,1115,26],[1117,0,1118,3],[1117,4,1118,5],[1117,6,1118,8],[1117,9,1117,17],[1117,18,1117,26],[1117,27,1121,27],[1118,9,1118,11],[1118,12,1118,14],[1118,15,1118,17],[1118,18,1118,20],[1118,21,1118,23],[1118,24,1118,26],[1119,0,1119,1],[1119,4,1120,5],[1119,6,1120,8],[1119,9,1120,11],[1119,12,1120,14],[1119,15,1120,17],[1119,18,1120,20],[1119,21,1120,23],[1119,24,1120,26],[1120,0,1121,3],[1121,4,1121,5],[1121,6,1121,8],[1121,9,1121,17],[1121,18,1121,26],[1123,0,1124,3],[1123,4,1124,5],[1123,6,1124,8],[1123,9,1123,17],[1123,18,1123,26],[1123,27,1127,27],[1124,9,1124,11],[1124,12,1124,14],[1124,15,1124,17],[1124,18,1124,20],[1124,21,1124,23],[1124,24,1124,26],[1125,0,1125,1],[1125,4,1126,5],[1125,6,1126,8],[1125,9,1126,11],[1125,12,1126,14],[1125,15,1126,17],[1125,18,1126,20],[1125,21,1126,23],[1125,24,1126,26],[1126,0,1127,3],[1127,4,1127,5],[1127,6,1127,8],[1127,9,1127,17],[1127,18,1127,26],[1129,0,1130,3],[1129,4,1130,5],[1129,6,1130,8],[1129,9,1129,17],[1129,18,1129,26],[1129,27,1133,27],[1130,9,1130,11],[1130,12,1130,14],[1130,15,1130,17],[1130,18,1130,20],[1130,21,1130,23],[1130,24,1130,26],[1131,0,1131,1],[1131,4,1132,5],[1131,6,1132,8],[1131,9,1132,11],[1131,12,1132,14],[1131,15,1132,17],[1131,18,1132,20],[1131,21,1132,23],[1131,24,1132,26],[1132,0,1133,3],[1133,4,1133,5],[1133,6,1133,8],[1133,9,1133,17],[1133,18,1133,26],[1135,0,1136,3],[1135,4,1136,5],[1135,6,1136,8],[1135,9,1135,17],[1135,18,1135,26],[1135,27,1139,27],[1136,9,1136,11],[1136,12,1136,14],[1136,15,1136,17],[1136,18,1136,20],[1136,21,1136,23],[1136,24,1136,26],[1137,0,1137,1],[1137,4,1138,5],[1137,6,1138,8],[1137,9,1138,11],[1137,12,1138,14],[1137,15,1138,17],[1137,18,1138,20],[1137,21,1138,23],[1137,24,1138,26],[1138,0,1139,3],[1139,4,1139,5],[1139,6,1139,8],[1139,9,1139,17],[1139,18,1139,26],[1141,0,1142,3],[1141,4,1142,5],[1141,6,1142,8],[1141,9,1141,17],[1141,18,1141,26],[1141,27,1145,27],[1142,9,1142,11],[1142,12,1142,14],[1142,15,1142,17],[1142,18,1142,20],[1142,21,1142,23],[1142,24,1142,26],[1143,0,1143,1],[1143,4,1144,5],[1143,6,1144,8],[1143,9,1144,11],[1143,12,1144,14],[1143,15,1144,17],[1143,18,1144,20],[1143,21,1144,23],[1143,24,1144,26],[1144,0,1145,3],[1145,4,1145,5],[1145,6,1145,8],[1145,9,1145,17],[1145,18,1145,26],[1147,0,1148,3],[1147,4,1148,5],[1147,6,1148,8],[1147,9,1147,17],[1147,18,1147,26],[1147,27,1151,27],[1148,9,1148,11],[1148,12,1148,14],[1148,15,1148,17],[1148,18,1148,20],[1148,21,1148,23],[1148,24,1148,26],[1149,0,1149,1],[1149,4,1150,5],[1149,6,1150,8],[1149,9,1150,11],[1149,12,1150,14],[1149,15,1150,17],[1149,18,1150,20],[1149,21,1150,23],[1149,24,1150,26],[1150,0,1151,3],[1151,4,1151,5],[1151,6,1151,8],[1151,9,1151,17],[1151,18,1151,26],[1153,0,1154,3],[1153,4,1154,5],[1153,6,1154,8],[1153,9,1153,17],[1153,18,1153,26],[1153,27,1157,27],[1154,9,1154,11],[1154,12,1154,14],[1154,15,1154,17],[1154,18,1154,20],[1154,21,1154,23],[1154,24,1154,26],[1155,0,1155,1],[1155,4,1156,5],[1155,6,1156,8],[1155,9,1156,11],[1155,12,1156,14],[1155,15,1156,17],[1155,18,1156,20],[1155,21,1156,23],[1155,24,1156,26],[1156,0,1157,3],[1157,4,1157,5],[1157,6,1157,8],[1157,9,1157,17],[1157,18,1157,26],[1159,0,1159,27],[1160,0,1162,27]],"merged_total":4955,"flags":["merged_cut"]}
[]
["WARNING: This document contains Sensitive Security Information that is controlled under 49 CFR 1520. No part of this document may be released to persons without a need to know, as defined in 49 CFR 1520, except with the written permission of the FEMA Administrator, Washington, DC. Unauthorized release may result in civil penalty or other action. For U.S. Government agencies, public release is governed by 5 U.S.C. 522."]
[]
[]
["SENSITIVE SECURITY INFORMATION"]
["Incident types are defined in notes on the far right side of the table by holding the cursor over the incident word. "]
["Light Rail Assets     "]
[]
[]
[{"$f":"T(Definitions!D19)","v":"Armed Assault/Active Shooter"}]
[{"$f":"T(A10)","v":"Armed Assault/Active Shooter"},{"$nulls":3},"Threat",null,"Criticality",null,null,"Vulnerability",{"$nulls":8},"Consequence",{"$nulls":8},{"$f":"SUM(((((J15+S15)/2)*G15)*E15))","v":0}]
[{"$nulls":9},"Exposure",null,null,"Protective Measures",null,null,"Robustness/Resilience",null,null,"Human",null,null,"Economic",null,null,"Psychological"]
[{"$f":"T('Critical-Representative Assets'!B59)","v":"Headquarters Building"},null,{"$f":"T('Critical-Representative Assets'!C59)","v":"LR"},{"$f":"SUM('Critical-Representative Assets'!D59)","v":1},{"v":1,"d":"1.0"},null,{"$f":"SUM('Critical-Representative Assets'!F59)","v":{"v":0,"d":"0.0"}},null,null,{"v":0,"d":"0.0"},null,null,{"v":0,"d":"0.0"},null,null,{"v":0,"d":"0.0"},null,null,{"v":0,"d":"0.0"},null,null,{"v":0,"d":"0.0"},null,null,{"v":0,"d":"0.0"}]
[{"$f":"T('Critical-Representative Assets'!E59)","v":""}]
[{"$nulls":4},{"$f":"SUM(E13)","v":{"v":1,"d":"1.0"}},null,{"$f":"SUM(G13)","v":{"v":0,"d":"0.0"}},null,null,{"$f":"SUM((J13+M13+P13)/3)","v":{"v":0,"d":"0.0"}},{"$nulls":8},{"$f":"SUM(((S13*3)+V13+Y13)/5)","v":{"v":0,"d":"0.0"}}]
[]
[{"$f":"T(A11)","v":"Armed Assault/Active Shooter"},{"$nulls":3},"Threat",null,"Criticality",null,null,"Vulnerability",{"$nulls":8},"Consequence",{"$nulls":8},{"$f":"SUM(((((J21+S21)/2)*G21)*E21))","v":0}]
[{"$nulls":9},"Exposure",null,null,"Protective Measures",null,null,"Robustness/Resilience",null,null,"Human",null,null,"Economic",null,null,"Psychological"]
[{"$f":"T('Critical-Representative Assets'!B60)","v":"Major Passenger Terminals"},null,{"$f":"T('Critical-Representative Assets'!C60)","v":"LR"},{"$f":"SUM('Critical-Representative Assets'!D60)","v":2},{"v":1,"d":"1.0"},null,{"$f":"SUM('Critical-Representative Assets'!F60)","v":{"v":0,"d":"0.0"}},null,null,{"v":0,"d":"0.0"},null,null,{"v":0,"d":"0.0"},null,null,{"v":0,"d":"0.0"},null,null,{"v":0,"d":"0.0"},null,null,{"v":0,"d":"0.0"},null,null,{"v":0,"d":"0.0"}]
[{"$f":"T('Critical-Representative Assets'!E60)","v":""}]
[{"$nulls":4},{"$f":"SUM(E19)","v":{"v":1,"d":"1.0"}},null,{"$f":"SUM(G19)","v":{"v":0,"d":"0.0"}},null,null,{"$f":"SUM((J19+M19+P19)/3)","v":{"v":0,"d":"0.0"}},{"$nulls":8},{"$f":"SUM(((S19*3)+V19+Y19)/5)","v":{"v":0,"d":"0.0"}}]
[]
[{"$f":"T(A17)","v":"Armed Assault/Active Shooter"},{"$nulls":3},"Threat",null,"Criticality",null,null,"Vulnerability",{"$nulls":8},"Consequence",{"$nulls":8},{"$f":"SUM(((((J27+S27)/2)*G27)*E27))","v":0}]
[{"$nulls":9},"Exposure",null,null,"Protective Measures",null,null,"Robustness/Resilience",null,null,"Human",null,null,"Economic",null,null,"Psychological"]
[{"$f":"T('Critical-Representative Assets'!B61)","v":"Major Line Stations"},null,{"$f":"T('Critical-Representative Assets'!C61)","v":"LR"},{"$f":"SUM('Critical-Representative Assets'!D61)","v":3},{"v":1,"d":"1.0"},null,{"$f":"SUM('Critical-Representative Assets'!F61)","v":{"v":0,"d":"0.0"}},null,null,{"v":0,"d":"0.0"},null,null,{"v":0,"d":"0.0"},null,null,{"v":0,"d":"0.0"},null,null,{"v":0,"d":"0.0"},null,null,{"v":0,"d":"0.0"},null,null,{"v":0,"d":"0.0"}]
[{"$f":"T('Critical-Representative Assets'!E61)","v":""}]
[{"$nulls":4},{"$f":"SUM(E25)","v":{"v":1,"d":"1.0"}},null,{"$f":"SUM(G25)","v":{"v":0,"d":"0.0"}},null,null,{"$f":"SUM((J25+M25+P25)/3)","v":{"v":0,"d":"0.0"}},{"$nulls":8},{"$f":"SUM(((S25*3)+V25+Y25)/5)","v":{"v":0,"d":"0.0"}}]
[]
[{"$f":"T(A23)","v":"Armed Assault/Active Shooter"},{"$nulls":3},"Threat",null,"Criticality",null,null,"Vulnerability",{"$nulls":8},"Consequence",{"$nulls":8},{"$f":"SUM(((((J33+S33)/2)*G33)*E33))","v":0}]
[{"$nulls":9},"Exposure",null,null,"Protective Measures",null,null,"Robustness/Resilience",null,null,"Human",null,null,"Economic",null,null,"Psychological"]
[{"$f":"T('Critical-Representative Assets'!B62)","v":"Parking Structures"},null,{"$f":"T('Critical-Representative Assets'!C62)","v":"LR"},{"$f":"SUM('Critical-Representative Assets'!D62)","v":4},{"v":1,"d":"1.0"},null,{"$f":"SUM('Critical-Representative Assets'!F62)","v":{"v":0,"d":"0.0"}},null,null,{"v":0,"d":"0.0"},null,null,{"v":0,"d":"0.0"},null,null,{"v":0,"d":"0.0"},null,null,{"v":0,"d":"0.0"},null,null,{"v":0,"d":"0.0"},null,null,{"v":0,"d":"0.0"}]
[{"$f":"T('Critical-Representative Assets'!E62)","v":""}]
[{"$nulls":4},{"$f":"SUM(E31)","v":{"v":1,"d":"1.0"}},null,{"$f":"SUM(G31)","v":{"v":0,"d":"0.0"}},null,null,{"$f":"SUM((J31+M31+P31)/3)","v":{"v":0,"d":"0.0"}},{"$nulls":8},{"$f":"SUM(((S31*3)+V31+Y31)/5)","v":{"v":0,"d":"0.0"}}]
[]
[{"$f":"T(A29)","v":"Armed Assault/Active Shooter"},{"$nulls":3},"Threat",null,"Criticality",null,null,"Vulnerability",{"$nulls":8},"Consequence",{"$nulls":8},{"$f":"SUM(((((J39+S39)/2)*G39)*E39))","v":0}]
[{"$nulls":9},"Exposure",null,null,"Protective Measures",null,null,"Robustness/Resilience",null,null,"Human",null,null,"Economic",null,null,"Psychological"]
[{"$f":"T('Critical-Representative Assets'!B63)","v":"Consist - Type 1"},null,{"$f":"T('Critical-Representative Assets'!C63)","v":"LR"},{"$f":"SUM('Critical-Representative Assets'!D63)","v":5},{"v":1,"d":"1.0"},null,{"$f":"SUM('Critical-Representative Assets'!F63)","v":{"v":0,"d":"0.0"}},null,null,{"v":0,"d":"0.0"},null,null,{"v":0,"d":"0.0"},null,null,{"v":0,"d":"0.0"},null,null,{"v":0,"d":"0.0"},null,null,{"v":0,"d":"0.0"},null,null,{"v":0,"d":"0.0"}]
[{"$f":"T('Critical-Representative Assets'!E63)","v":""}]
[{"$nulls":4},{"$f":"SUM(E37)","v":{"v":1,"d":"1.0"}},null,{"$f":"SUM(G37)","v":{"v":0,"d":"0.0"}},null,null,{"$f":"SUM((J37+M37+P37)/3)","v":{"v":0,"d":"0.0"}},{"$nulls":8},{"$f":"SUM(((S37*3)+V37+Y37)/5)","v":{"v":0,"d":"0.0"}}]
[]
[{"$f":"T(A35)","v":"Armed Assault/Active Shooter"},{"$nulls":3},"Threat",null,"Criticality",null,null,"Vulnerability",{"$nulls":8},"Consequence",{"$nulls":8},{"$f":"SUM(((((J45+S45)/2)*G45)*E45))","v":0}]
[{"$nulls":9},"Exposure",null,null,"Protective Measures",null,null,"Robustness/Resilience",null,null,"Human",null,null,"Economic",null,null,"Psychological"]
[{"$f":"T('Critical-Representative Assets'!B64)","v":"Consist - Type 2"},null,{"$f":"T('Critical-Representative Assets'!C64)","v":"LR"},{"$f":"SUM('Critical-Representative Assets'!D64)","v":6},{"v":1,"d":"1.0"},null,{"$f":"SUM('Critical-Representative Assets'!F64)","v":{"v":0,"d":"0.0"}},null,null,{"v":0,"d":"0.0"},null,null,{"v":0,"d":"0.0"},null,null,{"v":0,"d":"0.0"},null,null,{"v":0,"d":"0.0"},null,null,{"v":0,"d":"0.0"},null,null,{"v":0,"d":"0.0"}]
[{"$f":"T('Critical-Representative Assets'!E64)","v":""}]
[{"$nulls":4},{"$f":"SUM(E43)","v":{"v":1,"d":"1.0"}},null,{"$f":"SUM(G43)","v":{"v":0,"d":"0.0"}},null,null,{"$f":"SUM((J43+M43+P43)/3)","v":{"v":0,"d":"0.0"}},{"$nulls":8},{"$f":"SUM(((S43*3)+V43+Y43)/5)","v":{"v":0,"d":"0.0"}}]
[]
[{"$f":"T(A41)","v":"Armed Assault/Active Shooter"},{"$nulls":3},"Threat",null,"Criticality",null,null,"Vulnerability",{"$nulls":8},"Consequence",{"$nulls":8},{"$f":"SUM(((((J51+S51)/2)*G51)*E51))","v":0}]
[{"$nulls":9},"Exposure",null,null,"Protective Measures",null,null,"Robustness/Resilience",null,null,"Human",null,null,"Economic",null,null,"Psychological"]
[{"$f":"T('Critical-Representative Assets'!B65)","v":"Primary Control Center"},null,{"$f":"T('Critical-Representative Assets'!C65)","v":"LR"},{"$f":"SUM('Critical-Representative Assets'!D65)","v":7},{"v":1,"d":"1.0"},null,{"$f":"SUM('Critical-Representative Assets'!F65)","v":{"v":0,"d":"0.0"}},null,null,{"v":0,"d":"0.0"},null,null,{"v":0,"d":"0.0"},null,null,{"v":0,"d":"0.0"},null,null,{"v":0,"d":"0.0"},null,null,{"v":0,"d":"0.0"},null,null,{"v":0,"d":"0.0"}]
[{"$f":"T('Critical-Representative Assets'!E65)","v":""}]
[{"$nulls":4},{"$f":"SUM(E49)","v":{"v":1,"d":"1.0"}},null,{"$f":"SUM(G49)","v":{"v":0,"d":"0.0"}},null,null,{"$f":"SUM((J49+M49+P49)/3)","v":{"v":0,"d":"0.0"}},{"$nulls":8},{"$f":"SUM(((S49*3)+V49+Y49)/5)","v":{"v":0,"d":"0.0"}}]
[]
[{"$f":"T(A47)","v":"Armed Assault/Active Shooter"},{"$nulls":3},"Threat",null,"Criticality",null,null,"Vulnerability",{"$nulls":8},"Consequence",{"$nulls":8},{"$f":"SUM(((((J57+S57)/2)*G57)*E57))","v":0}]
[{"$nulls":9},"Exposure",null,null,"Protective Measures",null,null,"Robustness/Resilience",null,null,"Human",null,null,"Economic",null,null,"Psychological"]
[{"$f":"T('Critical-Representative Assets'!B66)","v":"Cyber Systems"},null,{"$f":"T('Critical-Representative Assets'!C66)","v":"LR"},{"$f":"SUM('Critical-Representative Assets'!D66)","v":8},{"v":1,"d":"1.0"},null,{"$f":"SUM('Critical-Representative Assets'!F66)","v":{"v":0,"d":"0.0"}},null,null,{"v":0,"d":"0.0"},null,null,{"v":0,"d":"0.0"},null,null,{"v":0,"d":"0.0"},null,null,{"v":0,"d":"0.0"},null,null,{"v":0,"d":"0.0"},null,null,{"v":0,"d":"0.0"}]
[{"$f":"T('Critical-Representative Assets'!E66)","v":""}]
[{"$nulls":4},{"$f":"SUM(E55)","v":{"v":1,"d":"1.0"}},null,{"$f":"SUM(G55)","v":{"v":0,"d":"0.0"}},null,null,{"$f":"SUM((J55+M55+P55)/3)","v":{"v":0,"d":"0.0"}},{"$nulls":8},{"$f":"SUM(((S55*3)+V55+Y55)/5)","v":{"v":0,"d":"0.0"}}]
[]
[{"$f":"T(A47)","v":"Armed Assault/Active Shooter"},{"$nulls":3},"Threat",null,"Criticality",null,null,"Vulnerability",{"$nulls":8},"Consequence",{"$nulls":8},{"$f":"SUM(((((J63+S63)/2)*G63)*E63))","v":0}]
[{"$nulls":9},"Exposure",null,null,"Protective Measures",null,null,"Robustness/Resilience",null,null,"Human",null,null,"Economic",null,null,"Psychological"]
[{"$f":"T('Critical-Representative Assets'!B67)","v":"Right of Way (ROW)"},null,{"$f":"T('Critical-Representative Assets'!C72)","v":"LR"},{"$f":"SUM('Critical-Representative Assets'!D67)","v":9},{"v":1,"d":"1.0"},null,{"$f":"SUM('Critical-Representative Assets'!F67)","v":{"v":0,"d":"0.0"}},null,null,{"v":0,"d":"0.0"},null,null,{"v":0,"d":"0.0"},null,null,{"v":0,"d":"0.0"},null,null,{"v":0,"d":"0.0"},null,null,{"v":0,"d":"0.0"},null,null,{"v":0,"d":"0.0"}]
[{"$f":"T('Critical-Representative Assets'!E67)","v":""}]
[{"$nulls":4},{"$f":"SUM(E61)","v":{"v":1,"d":"1.0"}},null,{"$f":"SUM(G61)","v":{"v":0,"d":"0.0"}},null,null,{"$f":"SUM((J61+M61+P61)/3)","v":{"v":0,"d":"0.0"}},{"$nulls":8},{"$f":"SUM(((S61*3)+V61+Y61)/5)","v":{"v":0,"d":"0.0"}}]
[]
[{"$f":"T(A47)","v":"Armed Assault/Active Shooter"},{"$nulls":3},"Threat",null,"Criticality",null,null,"Vulnerability",{"$nulls":8},"Consequence",{"$nulls":8},{"$f":"SUM(((((J69+S69)/2)*G69)*E69))","v":0}]
[{"$nulls":9},"Exposure",null,null,"Protective Measures",null,null,"Robustness/Resilience",null,null,"Human",null,null,"Economic",null,null,"Psychological"]
[{"$f":"T('Critical-Representative Assets'!B68)","v":"Signals & PTC"},null,{"$f":"T('Critical-Representative Assets'!C68)","v":"LR"},{"$f":"SUM('Critical-Representative Assets'!D68)","v":10},{"v":1,"d":"1.0"},null,{"$f":"SUM('Critical-Representative Assets'!F68)","v":{"v":0,"d":"0.0"}},null,null,{"v":0,"d":"0.0"},null,null,{"v":0,"d":"0.0"},null,null,{"v":0,"d":"0.0"},null,null,{"v":0,"d":"0.0"},null,null,{"v":0,"d":"0.0"},null,null,{"v":0,"d":"0.0"}]
[{"$f":"T('Critical-Representative Assets'!E68)","v":""}]
[{"$nulls":4},{"$f":"SUM(E67)","v":{"v":1,"d":"1.0"}},null,{"$f":"SUM(G67)","v":{"v":0,"d":"0.0"}},null,null,{"$f":"SUM((J67+M67+P67)/3)","v":{"v":0,"d":"0.0"}},{"$nulls":8},{"$f":"SUM(((S67*3)+V67+Y67)/5)","v":{"v":0,"d":"0.0"}}]
[]
[{"$f":"T(A65)","v":"Armed Assault/Active Shooter"},{"$nulls":3},"Threat",null,"Criticality",null,null,"Vulnerability",{"$nulls":8},"Consequence",{"$nulls":8},{"$f":"SUM(((((J75+S75)/2)*G75)*E75))","v":0}]
[{"$nulls":9},"Exposure",null,null,"Protective Measures",null,null,"Robustness/Resilience",null,null,"Human",null,null,"Economic",null,null,"Psychological"]
[{"$f":"T('Critical-Representative Assets'!B69)","v":"Switches "},null,{"$f":"T('Critical-Representative Assets'!C69)","v":"LR"},{"$f":"SUM('Critical-Representative Assets'!D69)","v":11},{"v":1,"d":"1.0"},null,{"$f":"SUM('Critical-Representative Assets'!F69)","v":{"v":0,"d":"0.0"}},null,null,{"v":0,"d":"0.0"},null,null,{"v":0,"d":"0.0"},null,null,{"v":0,"d":"0.0"},null,null,{"v":0,"d":"0.0"},null,null,{"v":0,"d":"0.0"},null,null,{"v":0,"d":"0.0"}]
[{"$f":"T('Critical-Representative Assets'!E69)","v":""}]
[{"$nulls":4},{"$f":"SUM(E73)","v":{"v":1,"d":"1.0"}},null,{"$f":"SUM(G73)","v":{"v":0,"d":"0.0"}},null,null,{"$f":"SUM((J73+M73+P73)/3)","v":{"v":0,"d":"0.0"}},{"$nulls":8},{"$f":"SUM(((S73*3)+V73+Y73)/5)","v":{"v":0,"d":"0.0"}}]
[]
[{"$f":"T(A71)","v":"Armed Assault/Active Shooter"},{"$nulls":3},"Threat",null,"Criticality",null,null,"Vulnerability",{"$nulls":8},"Consequence",{"$nulls":8},{"$f":"SUM(((((J81+S81)/2)*G81)*E81))","v":0}]
[{"$nulls":9},"Exposure",null,null,"Protective Measures",null,null,"Robustness/Resilience",null,null,"Human",null,null,"Economic",null,null,"Psychological"]
[{"$f":"T('Critical-Representative Assets'!B70)","v":"Bridges"},null,{"$f":"T('Critical-Representative Assets'!C70)","v":"LR"},{"$f":"SUM('Critical-Representative Assets'!D70)","v":12},{"v":1,"d":"1.0"},null,{"$f":"SUM('Critical-Representative Assets'!F70)","v":{"v":0,"d":"0.0"}},null,null,{"v":0,"d":"0.0"},null,null,{"v":0,"d":"0.0"},null,null,{"v":0,"d":"0.0"},null,null,{"v":0,"d":"0.0"},null,null,{"v":0,"d":"0.0"},null,null,{"v":0,"d":"0.0"}]
[{"$f":"T('Critical-Representative Assets'!E70)","v":""}]
[{"$nulls":4},{"$f":"SUM(E79)","v":{"v":1,"d":"1.0"}},null,{"$f":"SUM(G79)","v":{"v":0,"d":"0.0"}},null,null,{"$f":"SUM((J79+M79+P79)/3)","v":{"v":0,"d":"0.0"}},{"$nulls":8},{"$f":"SUM(((S79*3)+V79+Y79)/5)","v":{"v":0,"d":"0.0"}}]
[]
[{"$f":"T(A77)","v":"Armed Assault/Active Shooter"},{"$nulls":3},"Threat",null,"Criticality",null,null,"Vulnerability",{"$nulls":8},"Consequence",{"$nulls":8},{"$f":"SUM(((((J87+S87)/2)*G87)*E87))","v":0}]
[{"$nulls":9},"Exposure",null,null,"Protective Measures",null,null,"Robustness/Resilience",null,null,"Human",null,null,"Economic",null,null,"Psychological"]
[{"$f":"T('Critical-Representative Assets'!B71)","v":"Elevated Track"},null,{"$f":"T('Critical-Representative Assets'!C71)","v":"LR"},{"$f":"SUM('Critical-Representative Assets'!D71)","v":13},{"v":1,"d":"1.0"},null,{"$f":"SUM('Critical-Representative Assets'!F71)","v":{"v":0,"d":"0.0"}},null,null,{"v":0,"d":"0.0"},null,null,{"v":0,"d":"0.0"},null,null,{"v":0,"d":"0.0"},null,null,{"v":0,"d":"0.0"},null,null,{"v":0,"d":"0.0"},null,null,{"v":0,"d":"0.0"}]
[{"$f":"T('Critical-Representative Assets'!E71)","v":""}]
[{"$nulls":4},{"$f":"SUM(E85)","v":{"v":1,"d":"1.0"}},null,{"$f":"SUM(G85)","v":{"v":0,"d":"0.0"}},null,null,{"$f":"SUM((J85+M85+P85)/3)","v":{"v":0,"d":"0.0"}},{"$nulls":8},{"$f":"SUM(((S85*3)+V85+Y85)/5)","v":{"v":0,"d":"0.0"}}]
[]
[{"$f":"T(A83)","v":"Armed Assault/Active Shooter"},{"$nulls":3},"Threat",null,"Criticality",null,null,"Vulnerability",{"$nulls":8},"Consequence",{"$nulls":8},{"$f":"SUM(((((J93+S93)/2)*G93)*E93))","v":0}]
[{"$nulls":9},"Exposure",null,null,"Protective Measures",null,null,"Robustness/Resilience",null,null,"Human",null,null,"Economic",null,null,"Psychological"]
[{"$f":"T('Critical-Representative Assets'!B72)","v":"Tunnels "},null,{"$f":"T('Critical-Representative Assets'!C72)","v":"LR"},{"$f":"SUM('Critical-Representative Assets'!D72)","v":14},{"v":1,"d":"1.0"},null,{"$f":"SUM('Critical-Representative Assets'!F72)","v":{"v":0,"d":"0.0"}},null,null,{"v":0,"d":"0.0"},null,null,{"v":0,"d":"0.0"},null,null,{"v":0,"d":"0.0"},null,null,{"v":0,"d":"0.0"},null,null,{"v":0,"d":"0.0"},null,null,{"v":0,"d":"0.0"}]
[{"$f":"T('Critical-Representative Assets'!E72)","v":""}]
[{"$nulls":4},{"$f":"SUM(E91)","v":{"v":1,"d":"1.0"}},null,{"$f":"SUM(G91)","v":{"v":0,"d":"0.0"}},null,null,{"$f":"SUM((J91+M91+P91)/3)","v":{"v":0,"d":"0.0"}},{"$nulls":8},{"$f":"SUM(((S91*3)+V91+Y91)/5)","v":{"v":0,"d":"0.0"}}]
[]
[{"$f":"T(A89)","v":"Armed Assault/Active Shooter"},{"$nulls":3},"Threat",null,"Criticality",null,null,"Vulnerability",{"$nulls":8},"Consequence",{"$nulls":8},{"$f":"SUM(((((J99+S99)/2)*G99)*E99))","v":0}]
[{"$nulls":9},"Exposure",null,null,"Protective Measures",null,null,"Robustness/Resilience",null,null,"Human",null,null,"Economic",null,null,"Psychological"]
[{"$f":"T('Critical-Representative Assets'!B73)","v":"Choke Points on ROW"},null,{"$f":"T('Critical-Representative Assets'!C73)","v":"LR"},{"$f":"SUM('Critical-Representative Assets'!D73)","v":15},{"v":1,"d":"1.0"},null,{"$f":"SUM('Critical-Representative Assets'!F73)","v":{"v":0,"d":"0.0"}},null,null,{"v":0,"d":"0.0"},null,null,{"v":0,"d":"0.0"},null,null,{"v":0,"d":"0.0"},null,null,{"v":0,"d":"0.0"},null,null,{"v":0,"d":"0.0"},null,null,{"v":0,"d":"0.0"}]
[{"$f":"T('Critical-Representative Assets'!E73)","v":""}]
[{"$nulls":4},{"$f":"SUM(E97)","v":{"v":1,"d":"1.0"}},null,{"$f":"SUM(G97)","v":{"v":0,"d":"0.0"}},null,null,{"$f":"SUM((J97+M97+P97)/3)","v":{"v":0,"d":"0.0"}},{"$nulls":8},{"$f":"SUM(((S97*3)+V97+Y97)/5)","v":{"v":0,"d":"0.0"}}]
[]
[{"$f":"T(A95)","v":"Armed Assault/Active Shooter"},{"$nulls":3},"Threat",null,"Criticality",null,null,"Vulnerability",{"$nulls":8},"Consequence",{"$nulls":8},{"$f":"SUM(((((J105+S105)/2)*G105)*E105))","v":0}]
[{"$nulls":9},"Exposure",null,null,"Protective Measures",null,null,"Robustness/Resilience",null,null,"Human",null,null,"Economic",null,null,"Psychological"]
[{"$f":"T('Critical-Representative Assets'!B74)","v":"Fire Suppression"},null,{"$f":"T('Critical-Representative Assets'!C74)","v":"LR"},{"$f":"SUM('Critical-Representative Assets'!D74)","v":16},{"v":1,"d":"1.0"},null,{"$f":"SUM('Critical-Representative Assets'!F74)","v":{"v":0,"d":"0.0"}},null,null,{"v":0,"d":"0.0"},null,null,{"v":0,"d":"0.0"},null,null,{"v":0,"d":"0.0"},null,null,{"v":0,"d":"0.0"},null,null,{"v":0,"d":"0.0"},null,null,{"v":0,"d":"0.0"}]
[{"$f":"T('Critical-Representative Assets'!E74)","v":""}]
[{"$nulls":4},{"$f":"SUM(E103)","v":{"v":1,"d":"1.0"}},null,{"$f":"SUM(G103)","v":{"v":0,"d":"0.0"}},null,null,{"$f":"SUM((J103+M103+P103)/3)","v":{"v":0,"d":"0.0"}},{"$nulls":8},{"$f":"SUM(((S103*3)+V103+Y103)/5)","v":{"v":0,"d":"0.0"}}]
[]
[{"$f":"T(A101)","v":"Armed Assault/Active Shooter"},{"$nulls":3},"Threat",null,"Criticality",null,null,"Vulnerability",{"$nulls":8},"Consequence",{"$nulls":8},{"$f":"SUM(((((J111+S111)/2)*G111)*E111))","v":0}]
[{"$nulls":9},"Exposure",null,null,"Protective Measures",null,null,"Robustness/Resilience",null,null,"Human",null,null,"Economic",null,null,"Psychological"]
[{"$f":"T('Critical-Representative Assets'!B75)","v":"Power Generation/Distribution"},null,{"$f":"T('Critical-Representative Assets'!C75)","v":"LR"},{"$f":"SUM('Critical-Representative Assets'!D75)","v":17},{"v":1,"d":"1.0"},null,{"$f":"SUM('Critical-Representative Assets'!F75)","v":{"v":0,"d":"0.0"}},null,null,{"v":0,"d":"0.0"},null,null,{"v":0,"d":"0.0"},null,null,{"v":0,"d":"0.0"},null,null,{"v":0,"d":"0.0"},null,null,{"v":0,"d":"0.0"},null,null,{"v":0,"d":"0.0"}]
[{"$f":"T('Critical-Representative Assets'!E75)","v":""}]
[{"$nulls":4},{"$f":"SUM(E109)","v":{"v":1,"d":"1.0"}},null,{"$f":"SUM(G109)","v":{"v":0,"d":"0.0"}},null,null,{"$f":"SUM((J109+M109+P109)/3)","v":{"v":0,"d":"0.0"}},{"$nulls":8},{"$f":"SUM(((S109*3)+V109+Y109)/5)","v":{"v":0,"d":"0.0"}}]
[]
[{"$f":"T(A107)","v":"Armed Assault/Active Shooter"},{"$nulls":3},"Threat",null,"Criticality",null,null,"Vulnerability",{"$nulls":8},"Consequence",{"$nulls":8},{"$f":"SUM(((((J117+S117)/2)*G117)*E117))","v":0}]
[{"$nulls":9},"Exposure",null,null,"Protective Measures",null,null,"Robustness/Resilience",null,null,"Human",null,null,"Economic",null,null,"Psychological"]
[{"$f":"T('Critical-Representative Assets'!B76)","v":"Yards"},null,{"$f":"T('Critical-Representative Assets'!C76)","v":"LR"},{"$f":"SUM('Critical-Representative Assets'!D76)","v":18},{"v":1,"d":"1.0"},null,{"$f":"SUM('Critical-Representative Assets'!F76)","v":{"v":0,"d":"0.0"}},null,null,{"v":0,"d":"0.0"},null,null,{"v":0,"d":"0.0"},null,null,{"v":0,"d":"0.0"},null,null,{"v":0,"d":"0.0"},null,null,{"v":0,"d":"0.0"},null,null,{"v":0,"d":"0.0"}]
[{"$f":"T('Critical-Representative Assets'!E76)","v":""}]
[{"$nulls":4},{"$f":"SUM(E115)","v":{"v":1,"d":"1.0"}},null,{"$f":"SUM(G115)","v":{"v":0,"d":"0.0"}},null,null,{"$f":"SUM((J115+M115+P115)/3)","v":{"v":0,"d":"0.0"}},{"$nulls":8},{"$f":"SUM(((S115*3)+V115+Y115)/5)","v":{"v":0,"d":"0.0"}}]
[]
[{"$f":"T(A113)","v":"Armed Assault/Active Shooter"},{"$nulls":3},"Threat",null,"Criticality",null,null,"Vulnerability",{"$nulls":8},"Consequence",{"$nulls":8},{"$f":"SUM(((((J123+S123)/2)*G123)*E123))","v":0}]
[{"$nulls":9},"Exposure",null,null,"Protective Measures",null,null,"Robustness/Resilience",null,null,"Human",null,null,"Economic",null,null,"Psychological"]
[{"$f":"T('Critical-Representative Assets'!B77)","v":"Maintenance Barns/Facilities"},null,{"$f":"T('Critical-Representative Assets'!C77)","v":"LR"},{"$f":"SUM('Critical-Representative Assets'!D77)","v":19},{"v":1,"d":"1.0"},null,{"$f":"SUM('Critical-Representative Assets'!F77)","v":{"v":0,"d":"0.0"}},null,null,{"v":0,"d":"0.0"},null,null,{"v":0,"d":"0.0"},null,null,{"v":0,"d":"0.0"},null,null,{"v":0,"d":"0.0"},null,null,{"v":0,"d":"0.0"},null,null,{"v":0,"d":"0.0"}]
[{"$f":"T('Critical-Representative Assets'!E77)","v":""}]
[{"$nulls":4},{"$f":"SUM(E121)","v":{"v":1,"d":"1.0"}},null,{"$f":"SUM(G121)","v":{"v":0,"d":"0.0"}},null,null,{"$f":"SUM((J121+M121+P121)/3)","v":{"v":0,"d":"0.0"}},{"$nulls":8},{"$f":"SUM(((S121*3)+V121+Y121)/5)","v":{"v":0,"d":"0.0"}}]
[]
[{"$f":"T(Definitions!D20)","v":" VBIED or IED"}]
[{"$f":"T(A125)","v":" VBIED or IED"},{"$nulls":3},"Threat",null,"Criticality",null,null,"Vulnerability",{"$nulls":8},"Consequence",{"$nulls":8},{"$f":"SUM(((((J130+S130)/2)*G130)*E130))","v":0}]
[{"$nulls":9},"Exposure",null,null,"Protective Measures",null,null,"Robustness/Resilience",null,null,"Human",null,null,"Economic",null,null,"Psychological"]
[{"$f":"T(A703)","v":"Headquarters Building"},null,{"$f":"T(C703)","v":"LR"},{"$f":"SUM(D703)","v":1},{"v":1,"d":"1.0"},null,{"$f":"SUM(G703)","v":{"v":0,"d":"0.0"}},null,null,{"v":0,"d":"0.0"},null,null,{"v":0,"d":"0.0"},null,null,{"v":0,"d":"0.0"},null,null,{"v":0,"d":"0.0"},null,null,{"v":0,"d":"0.0"},null,null,{"v":0,"d":"0.0"}]
[{"$f":"T(A704)","v":""}]
[{"$nulls":4},{"$f":"SUM(E128)","v":{"v":1,"d":"1.0"}},null,{"$f":"SUM(G128)","v":{"v":0,"d":"0.0"}},null,null,{"$f":"SUM((J128+M128+P128)/3)","v":{"v":0,"d":"0.0"}},{"$nulls":8},{"$f":"SUM(((S128*3)+V128+Y128)/5)","v":{"v":0,"d":"0.0"}}]
[]
[{"$f":"T(A125)","v":" VBIED or IED"},{"$nulls":3},"Threat",null,"Criticality",null,null,"Vulnerability",{"$nulls":8},"Consequence",{"$nulls":8},{"$f":"SUM(((((J136+S136)/2)*G136)*E136))","v":0}]
[{"$nulls":9},"Exposure",null,null,"Protective Measures",null,null,"Robustness/Resilience",null,null,"Human",null,null,"Economic",null,null,"Psychological"]
[{"$f":"T(A709)","v":"Major Passenger Terminals"},null,{"$f":"T(C709)","v":"LR"},{"$f":"SUM(D709)","v":2},{"v":1,"d":"1.0"},null,{"$f":"SUM(G709)","v":{"v":0,"d":"0.0"}},null,null,{"v":0,"d":"0.0"},null,null,{"v":0,"d":"0.0"},null,null,{"v":0,"d":"0.0"},null,null,{"v":0,"d":"0.0"},null,null,{"v":0,"d":"0.0"},null,null,{"v":0,"d":"0.0"}]
[{"$f":"T(A710)","v":""}]
[{"$nulls":4},{"$f":"SUM(E134)","v":{"v":1,"d":"1.0"}},null,{"$f":"SUM(G134)","v":{"v":0,"d":"0.0"}},null,null,{"$f":"SUM((J134+M134+P134)/3)","v":{"v":0,"d":"0.0"}},{"$nulls":8},{"$f":"SUM(((S134*3)+V134+Y134)/5)","v":{"v":0,"d":"0.0"}}]
[]
[{"$f":"T(A132)","v":" VBIED or IED"},{"$nulls":3},"Threat",null,"Criticality",null,null,"Vulnerability",{"$nulls":8},"Consequence",{"$nulls":8},{"$f":"SUM(((((J142+S142)/2)*G142)*E142))","v":0}]
[{"$nulls":9},"Exposure",null,null,"Protective Measures",null,null,"Robustness/Resilience",null,null,"Human",null,null,"Economic",null,null,"Psychological"]
[{"$f":"T(A715)","v":"Major Line Stations"},null,{"$f":"T(C715)","v":"LR"},{"$f":"SUM(D715)","v":3},{"v":1,"d":"1.0"},null,{"$f":"SUM(G715)","v":{"v":0,"d":"0.0"}},null,null,{"v":0,"d":"0.0"},null,null,{"v":0,"d":"0.0"},null,null,{"v":0,"d":"0.0"},null,null,{"v":0,"d":"0.0"},null,null,{"v":0,"d":"0.0"},null,null,{"v":0,"d":"0.0"}]
[{"$f":"T(A716)","v":""}]
[{"$nulls":4},{"$f":"SUM(E140)","v":{"v":1,"d":"1.0"}},null,{"$f":"SUM(G140)","v":{"v":0,"d":"0.0"}},null,null,{"$f":"SUM((J140+M140+P140)/3)","v":{"v":0,"d":"0.0"}},{"$nulls":8},{"$f":"SUM(((S140*3)+V140+Y140)/5)","v":{"v":0,"d":"0.0"}}]
[]
[{"$f":"T(A138)","v":" VBIED or IED"},{"$nulls":3},"Threat",null,"Criticality",null,null,"Vulnerability",{"$nulls":8},"Consequence",{"$nulls":8},{"$f":"SUM(((((J148+S148)/2)*G148)*E148))","v":0}]
[{"$nulls":9},"Exposure",null,null,"Protective Measures",null,null,"Robustness/Resilience",null,null,"Human",null,null,"Economic",null,null,"Psychological"]
[{"$f":"T(A721)","v":"Parking Structures"},null,{"$f":"T(C721)","v":"LR"},{"$f":"SUM(D721)","v":4},{"v":1,"d":"1.0"},null,{"$f":"SUM(G721)","v":{"v":0,"d":"0.0"}},null,null,{"v":0,"d":"0.0"},null,null,{"v":0,"d":"0.0"},null,null,{"v":0,"d":"0.0"},null,null,{"v":0,"d":"0.0"},null,null,{"v":0,"d":"0.0"},null,null,{"v":0,"d":"0.0"}]
[{"$f":"T(A722)","v":""}]
[{"$nulls":4},{"$f":"SUM(E146)","v":{"v":1,"d":"1.0"}},null,{"$f":"SUM(G146)","v":{"v":0,"d":"0.0"}},null,null,{"$f":"SUM((J146+M146+P146)/3)","v":{"v":0,"d":"0.0"}},{"$nulls":8},{"$f":"SUM(((S146*3)+V146+Y146)/5)","v":{"v":0,"d":"0.0"}}]
[]
[{"$f":"T(A144)","v":" VBIED or IED"},{"$nulls":3},"Threat",null,"Criticality",null,null,"Vulnerability",{"$nulls":8},"Consequence",{"$nulls":8},{"$f":"SUM(((((J154+S154)/2)*G154)*E154))","v":0}]
[{"$nulls":9},"Exposure",null,null,"Protective Measures",null,null,"Robustness/Resilience",null,null,"Human",null,null,"Economic",null,null,"Psychological"]
[{"$f":"T(A727)","v":"Consist - Type 1"},null,{"$f":"T(C727)","v":"LR"},{"$f":"SUM(D727)","v":5},{"v":1,"d":"1.0"},null,{"$f":"SUM(G727)","v":{"v":0,"d":"0.0"}},null,null,{"v":0,"d":"0.0"},null,null,{"v":0,"d":"0.0"},null,null,{"v":0,"d":"0.0"},null,null,{"v":0,"d":"0.0"},null,null,{"v":0,"d":"0.0"},null,null,{"v":0,"d":"0.0"}]
[{"$f":"T(A728)","v":""}]
[{"$nulls":4},{"$f":"SUM(E152)","v":{"v":1,"d":"1.0"}},null,{"$f":"SUM(G152)","v":{"v":0,"d":"0.0"}},null,null,{"$f":"SUM((J152+M152+P152)/3)","v":{"v":0,"d":"0.0"}},{"$nulls":8},{"$f":"SUM(((S152*3)+V152+Y152)/5)","v":{"v":0,"d":"0.0"}}]
[]
[{"$f":"T(A150)","v":" VBIED or IED"},{"$nulls":3},"Threat",null,"Criticality",null,null,"Vulnerability",{"$nulls":8},"Consequence",{"$nulls":8},{"$f":"SUM(((((J160+S160)/2)*G160)*E160))","v":0}]
[{"$nulls":9},"Exposure",null,null,"Protective Measures",null,null,"Robustness/Resilience",null,null,"Human",null,null,"Economic",null,null,"Psychological"]
[{"$f":"T(A733)","v":"Consist - Type 2"},null,{"$f":"T(C733)","v":"LR"},{"$f":"SUM(D733)","v":6},{"v":1,"d":"1.0"},null,{"$f":"SUM(G733)","v":{"v":0,"d":"0.0"}},null,null,{"v":0,"d":"0.0"},null,null,{"v":0,"d":"0.0"},null,null,{"v":0,"d":"0.0"},null,null,{"v":0,"d":"0.0"},null,null,{"v":0,"d":"0.0"},null,null,{"v":0,"d":"0.0"}]
[{"$f":"T(A734)","v":""}]
[{"$nulls":4},{"$f":"SUM(E158)","v":{"v":1,"d":"1.0"}},null,{"$f":"SUM(G158)","v":{"v":0,"d":"0.0"}},null,null,{"$f":"SUM((J158+M158+P158)/3)","v":{"v":0,"d":"0.0"}},{"$nulls":8},{"$f":"SUM(((S158*3)+V158+Y158)/5)","v":{"v":0,"d":"0.0"}}]
[]
[{"$f":"T(A156)","v":" VBIED or IED"},{"$nulls":3},"Threat",null,"Criticality",null,null,"Vulnerability",{"$nulls":8},"Consequence",{"$nulls":8},{"$f":"SUM(((((J166+S166)/2)*G166)*E166))","v":0}]
[{"$nulls":9},"Exposure",null,null,"Protective Measures",null,null,"Robustness/Resilience",null,null,"Human",null,null,"Economic",null,null,"Psychological"]
[{"$f":"T(A739)","v":"Primary Control Center"},null,{"$f":"T(C739)","v":"LR"},{"$f":"SUM(D739)","v":7},{"v":1,"d":"1.0"},null,{"$f":"SUM(G739)","v":{"v":0,"d":"0.0"}},null,null,{"v":0,"d":"0.0"},null,null,{"v":0,"d":"0.0"},null,null,{"v":0,"d":"0.0"},null,null,{"v":0,"d":"0.0"},null,null,{"v":0,"d":"0.0"},null,null,{"v":0,"d":"0.0"}]
[{"$f":"T(A740)","v":""}]
[{"$nulls":4},{"$f":"SUM(E164)","v":{"v":1,"d":"1.0"}},null,{"$f":"SUM(G164)","v":{"v":0,"d":"0.0"}},null,null,{"$f":"SUM((J164+M164+P164)/3)","v":{"v":0,"d":"0.0"}},{"$nulls":8},{"$f":"SUM(((S164*3)+V164+Y164)/5)","v":{"v":0,"d":"0.0"}}]
[]
[{"$f":"T(A162)","v":" VBIED or IED"},{"$nulls":3},"Threat",null,"Criticality",null,null,"Vulnerability",{"$nulls":8},"Consequence",{"$nulls":8},{"$f":"SUM(((((J172+S172)/2)*G172)*E172))","v":0}]
[{"$nulls":9},"Exposure",null,null,"Protective Measures",null,null,"Robustness/Resilience",null,null,"Human",null,null,"Economic",null,null,"Psychological"]
[{"$f":"T(A745)","v":"Cyber Systems"},null,{"$f":"T(C745)","v":"LR"},{"$f":"SUM(D745)","v":8},{"v":1,"d":"1.0"},null,{"$f":"SUM(G745)","v":{"v":0,"d":"0.0"}},null,null,{"v":0,"d":"0.0"},null,null,{"v":0,"d":"0.0"},null,null,{"v":0,"d":"0.0"},null,null,{"v":0,"d":"0.0"},null,null,{"v":0,"d":"0.0"},null,null,{"v":0,"d":"0.0"}]
[{"$f":"T(A746)","v":""}]
[{"$nulls":4},{"$f":"SUM(E170)","v":{"v":1,"d":"1.0"}},null,{"$f":"SUM(G170)","v":{"v":0,"d":"0.0"}},null,null,{"$f":"SUM((J170+M170+P170)/3)","v":{"v":0,"d":"0.0"}},{"$nulls":8},{"$f":"SUM(((S170*3)+V170+Y170)/5)","v":{"v":0,"d":"0.0"}}]
[]
[{"$f":"T(A162)","v":" VBIED or IED"},{"$nulls":3},"Threat",null,"Criticality",null,null,"Vulnerability",{"$nulls":8},"Consequence",{"$nulls":8},{"$f":"SUM(((((J178+S178)/2)*G178)*E178))","v":0}]
[{"$nulls":9},"Exposure",null,null,"Protective Measures",null,null,"Robustness/Resilience",null,null,"Human",null,null,"Economic",null,null,"Psychological"]
[{"$f":"T(A751)","v":"Right of Way (ROW)"},null,{"$f":"T(C751)","v":"LR"},{"$f":"SUM(D751)","v":9},{"v":1,"d":"1.0"},null,{"$f":"SUM(G751)","v":{"v":0,"d":"0.0"}},null,null,{"v":0,"d":"0.0"},null,null,{"v":0,"d":"0.0"},null,null,{"v":0,"d":"0.0"},null,null,{"v":0,"d":"0.0"},null,null,{"v":0,"d":"0.0"},null,null,{"v":0,"d":"0.0"}]
[{"$f":"T(A752)","v":""}]
[{"$nulls":4},{"$f":"SUM(E176)","v":{"v":1,"d":"1.0"}},null,{"$f":"SUM(G176)","v":{"v":0,"d":"0.0"}},null,null,{"$f":"SUM((J176+M176+P176)/3)","v":{"v":0,"d":"0.0"}},{"$nulls":8},{"$f":"SUM(((S176*3)+V176+Y176)/5)","v":{"v":0,"d":"0.0"}}]
[]
[{"$f":"T(A162)","v":" VBIED or IED"},{"$nulls":3},"Threat",null,"Criticality",null,null,"Vulnerability",{"$nulls":8},"Consequence",{"$nulls":8},{"$f":"SUM(((((J184+S184)/2)*G184)*E184))","v":0}]
[{"$nulls":9},"Exposure",null,null,"Protective Measures",null,null,"Robustness/Resilience",null,null,"Human",null,null,"Economic",null,null,"Psychological"]
[{"$f":"T(A757)","v":"Signals & PTC"},null,{"$f":"T(C757)","v":"LR"},{"$f":"SUM(D757)","v":10},{"v":1,"d":"1.0"},null,{"$f":"SUM(G757)","v":{"v":0,"d":"0.0"}},null,null,{"v":0,"d":"0.0"},null,null,{"v":0,"d":"0.0"},null,null,{"v":0,"d":"0.0"},null,null,{"v":0,"d":"0.0"},null,null,{"v":0,"d":"0.0"},null,null,{"v":0,"d":"0.0"}]
[{"$f":"T(A758)","v":""}]
[{"$nulls":4},{"$f":"SUM(E182)","v":{"v":1,"d":"1.0"}},null,{"$f":"SUM(G182)","v":{"v":0,"d":"0.0"}},null,null,{"$f":"SUM((J182+M182+P182)/3)","v":{"v":0,"d":"0.0"}},{"$nulls":8},{"$f":"SUM(((S182*3)+V182+Y182)/5)","v":{"v":0,"d":"0.0"}}]
[]
[{"$f":"T(A180)","v":" VBIED or IED"},{"$nulls":3},"Threat",null,"Criticality",null,null,"Vulnerability",{"$nulls":8},"Consequence",{"$nulls":8},{"$f":"SUM(((((J190+S190)/2)*G190)*E190))","v":0}]
[{"$nulls":9},"Exposure",null,null,"Protective Measures",null,null,"Robustness/Resilience",null,null,"Human",null,null,"Economic",null,null,"Psychological"]
[{"$f":"T(A763)","v":"Switches "},null,{"$f":"T(C763)","v":"LR"},{"$f":"SUM(D763)","v":11},{"v":1,"d":"1.0"},null,{"$f":"SUM(G763)","v":{"v":0,"d":"0.0"}},null,null,{"v":0,"d":"0.0"},null,null,{"v":0,"d":"0.0"},null,null,{"v":0,"d":"0.0"},null,null,{"v":0,"d":"0.0"},null,null,{"v":0,"d":"0.0"},null,null,{"v":0,"d":"0.0"}]
[{"$f":"T(A764)","v":""}]
[{"$nulls":4},{"$f":"SUM(E188)","v":{"v":1,"d":"1.0"}},null,{"$f":"SUM(G188)","v":{"v":0,"d":"0.0"}},null,null,{"$f":"SUM((J188+M188+P188)/3)","v":{"v":0,"d":"0.0"}},{"$nulls":8},{"$f":"SUM(((S188*3)+V188+Y188)/5)","v":{"v":0,"d":"0.0"}}]
[]
[{"$f":"T(A186)","v":" VBIED or IED"},{"$nulls":3},"Threat",null,"Criticality",null,null,"Vulnerability",{"$nulls":8},"Consequence",{"$nulls":8},{"$f":"SUM(((((J196+S196)/2)*G196)*E196))","v":0}]
[{"$nulls":9},"Exposure",null,null,"Protective Measures",null,null,"Robustness/Resilience",null,null,"Human",null,null,"Economic",null,null,"Psychological"]
[{"$f":"T(A769)","v":"Bridges"},null,{"$f":"T(C769)","v":"LR"},{"$f":"SUM(D769)","v":12},{"v":1,"d":"1.0"},null,{"$f":"SUM(G769)","v":{"v":0,"d":"0.0"}},null,null,{"v":0,"d":"0.0"},null,null,{"v":0,"d":"0.0"},null,null,{"v":0,"d":"0.0"},null,null,{"v":0,"d":"0.0"},null,null,{"v":0,"d":"0.0"},null,null,{"v":0,"d":"0.0"}]
[{"$f":"T(A770)","v":""}]
[{"$nulls":4},{"$f":"SUM(E194)","v":{"v":1,"d":"1.0"}},null,{"$f":"SUM(G194)","v":{"v":0,"d":"0.0"}},null,null,{"$f":"SUM((J194+M194+P194)/3)","v":{"v":0,"d":"0.0"}},{"$nulls":8},{"$f":"SUM(((S194*3)+V194+Y194)/5)","v":{"v":0,"d":"0.0"}}]
[]
[{"$f":"T(A192)","v":" VBIED or IED"},{"$nulls":3},"Threat",null,"Criticality",null,null,"Vulnerability",{"$nulls":8},"Consequence",{"$nulls":8},{"$f":"SUM(((((J202+S202)/2)*G202)*E202))","v":0}]
[{"$nulls":9},"Exposure",null,null,"Protective Measures",null,null,"Robustness/Resilience",null,null,"Human",null,null,"Economic",null,null,"Psychological"]
[{"$f":"T(A775)","v":"Elevated Track"},null,{"$f":"T(C775)","v":"LR"},{"$f":"SUM(D775)","v":13},{"v":1,"d":"1.0"},null,{"$f":"SUM(G775)","v":{"v":0,"d":"0.0"}},null,null,{"v":0,"d":"0.0"},null,null,{"v":0,"d":"0.0"},null,null,{"v":0,"d":"0.0"},null,null,{"v":0,"d":"0.0"},null,null,{"v":0,"d":"0.0"},null,null,{"v":0,"d":"0.0"}]
[{"$f":"T(A776)","v":""}]
[{"$nulls":4},{"$f":"SUM(E200)","v":{"v":1,"d":"1.0"}},null,{"$f":"SUM(G200)","v":{"v":0,"d":"0.0"}},null,null,{"$f":"SUM((J200+M200+P200)/3)","v":{"v":0,"d":"0.0"}},{"$nulls":8},{"$f":"SUM(((S200*3)+V200+Y200)/5)","v":{"v":0,"d":"0.0"}}]
[]
[{"$f":"T(A198)","v":" VBIED or IED"},{"$nulls":3},"Threat",null,"Criticality",null,null,"Vulnerability",{"$nulls":8},"Consequence",{"$nulls":8},{"$f":"SUM(((((J208+S208)/2)*G208)*E208))","v":0}]
[{"$nulls":9},"Exposure",null,null,"Protective Measures",null,null,"Robustness/Resilience",null,null,"Human",null,null,"Economic",null,null,"Psychological"]
[{"$f":"T(A781)","v":"Tunnels "},null,{"$f":"T(C781)","v":"LR"},{"$f":"SUM(D781)","v":14},{"v":1,"d":"1.0"},null,{"$f":"SUM(G781)","v":{"v":0,"d":"0.0"}},null,null,{"v":0,"d":"0.0"},null,null,{"v":0,"d":"0.0"},null,null,{"v":0,"d":"0.0"},null,null,{"v":0,"d":"0.0"},null,null,{"v":0,"d":"0.0"},null,null,{"v":0,"d":"0.0"}]
[{"$f":"T(A782)","v":""}]
[{"$nulls":4},{"$f":"SUM(E206)","v":{"v":1,"d":"1.0"}},null,{"$f":"SUM(G206)","v":{"v":0,"d":"0.0"}},null,null,{"$f":"SUM((J206+M206+P206)/3)","v":{"v":0,"d":"0.0"}},{"$nulls":8},{"$f":"SUM(((S206*3)+V206+Y206)/5)","v":{"v":0,"d":"0.0"}}]
[]
[{"$f":"T(A204)","v":" VBIED or IED"},{"$nulls":3},"Threat",null,"Criticality",null,null,"Vulnerability",{"$nulls":8},"Consequence",{"$nulls":8},{"$f":"SUM(((((J214+S214)/2)*G214)*E214))","v":0}]
[{"$nulls":9},"Exposure",null,null,"Protective Measures",null,null,"Robustness/Resilience",null,null,"Human",null,null,"Economic",null,null,"Psychological"]
[{"$f":"T(A787)","v":"Choke Points on ROW"},null,{"$f":"T(C787)","v":"LR"},{"$f":"SUM(D787)","v":15},{"v":1,"d":"1.0"},null,{"$f":"SUM(G787)","v":{"v":0,"d":"0.0"}},null,null,{"v":0,"d":"0.0"},null,null,{"v":0,"d":"0.0"},null,null,{"v":0,"d":"0.0"},null,null,{"v":0,"d":"0.0"},null,null,{"v":0,"d":"0.0"},null,null,{"v":0,"d":"0.0"}]
[{"$f":"T(A788)","v":""}]
[{"$nulls":4},{"$f":"SUM(E212)","v":{"v":1,"d":"1.0"}},null,{"$f":"SUM(G212)","v":{"v":0,"d":"0.0"}},null,null,{"$f":"SUM((J212+M212+P212)/3)","v":{"v":0,"d":"0.0"}},{"$nulls":8},{"$f":"SUM(((S212*3)+V212+Y212)/5)","v":{"v":0,"d":"0.0"}}]
[]
[{"$f":"T(A210)","v":" VBIED or IED"},{"$nulls":3},"Threat",null,"Criticality",null,null,"Vulnerability",{"$nulls":8},"Consequence",{"$nulls":8},{"$f":"SUM(((((J220+S220)/2)*G220)*E220))","v":0}]
[{"$nulls":9},"Exposure",null,null,"Protective Measures",null,null,"Robustness/Resilience",null,null,"Human",null,null,"Economic",null,null,"Psychological"]
[{"$f":"T(A793)","v":"Fire Suppression"},null,{"$f":"T(C793)","v":"LR"},{"$f":"SUM(D793)","v":16},{"v":1,"d":"1.0"},null,{"$f":"SUM(G793)","v":{"v":0,"d":"0.0"}},null,null,{"v":0,"d":"0.0"},null,null,{"v":0,"d":"0.0"},null,null,{"v":0,"d":"0.0"},null,null,{"v":0,"d":"0.0"},null,null,{"v":0,"d":"0.0"},null,null,{"v":0,"d":"0.0"}]
[{"$f":"T(A794)","v":""}]
[{"$nulls":4},{"$f":"SUM(E218)","v":{"v":1,"d":"1.0"}},null,{"$f":"SUM(G218)","v":{"v":0,"d":"0.0"}},null,null,{"$f":"SUM((J218+M218+P218)/3)","v":{"v":0,"d":"0.0"}},{"$nulls":8},{"$f":"SUM(((S218*3)+V218+Y218)/5)","v":{"v":0,"d":"0.0"}}]
[]
[{"$f":"T(A216)","v":" VBIED or IED"},{"$nulls":3},"Threat",null,"Criticality",null,null,"Vulnerability",{"$nulls":8},"Consequence",{"$nulls":8},{"$f":"SUM(((((J226+S226)/2)*G226)*E226))","v":0}]
[{"$nulls":9},"Exposure",null,null,"Protective Measures",null,null,"Robustness/Resilience",null,null,"Human",null,null,"Economic",null,null,"Psychological"]
[{"$f":"T(A799)","v":"Power Generation/Distribution"},null,{"$f":"T(C799)","v":"LR"},{"$f":"SUM(D799)","v":17},{"v":1,"d":"1.0"},null,{"$f":"SUM(G799)","v":{"v":0,"d":"0.0"}},null,null,{"v":0,"d":"0.0"},null,null,{"v":0,"d":"0.0"},null,null,{"v":0,"d":"0.0"},null,null,{"v":0,"d":"0.0"},null,null,{"v":0,"d":"0.0"},null,null,{"v":0,"d":"0.0"}]
[{"$f":"T(A800)","v":""}]
[{"$nulls":4},{"$f":"SUM(E224)","v":{"v":1,"d":"1.0"}},null,{"$f":"SUM(G224)","v":{"v":0,"d":"0.0"}},null,null,{"$f":"SUM((J224+M224+P224)/3)","v":{"v":0,"d":"0.0"}},{"$nulls":8},{"$f":"SUM(((S224*3)+V224+Y224)/5)","v":{"v":0,"d":"0.0"}}]
[]
[{"$f":"T(A222)","v":" VBIED or IED"},{"$nulls":3},"Threat",null,"Criticality",null,null,"Vulnerability",{"$nulls":8},"Consequence",{"$nulls":8},{"$f":"SUM(((((J232+S232)/2)*G232)*E232))","v":0}]
[{"$nulls":9},"Exposure",null,null,"Protective Measures",null,null,"Robustness/Resilience",null,null,"Human",null,null,"Economic",null,null,"Psychological"]
[{"$f":"T(A805)","v":"Yards"},null,{"$f":"T(C805)","v":"LR"},{"$f":"SUM(D805)","v":18},{"v":1,"d":"1.0"},null,{"$f":"SUM(G805)","v":{"v":0,"d":"0.0"}},null,null,{"v":0,"d":"0.0"},null,null,{"v":0,"d":"0.0"},null,null,{"v":0,"d":"0.0"},null,null,{"v":0,"d":"0.0"},null,null,{"v":0,"d":"0.0"},null,null,{"v":0,"d":"0.0"}]
[{"$f":"T(A806)","v":""}]
[{"$nulls":4},{"$f":"SUM(E230)","v":{"v":1,"d":"1.0"}},null,{"$f":"SUM(G230)","v":{"v":0,"d":"0.0"}},null,null,{"$f":"SUM((J230+M230+P230)/3)","v":{"v":0,"d":"0.0"}},{"$nulls":8},{"$f":"SUM(((S230*3)+V230+Y230)/5)","v":{"v":0,"d":"0.0"}}]
[]
[{"$f":"T(A228)","v":" VBIED or IED"},{"$nulls":3},"Threat",null,"Criticality",null,null,"Vulnerability",{"$nulls":8},"Consequence",{"$nulls":8},{"$f":"SUM(((((J238+S238)/2)*G238)*E238))","v":0}]
[{"$nulls":9},"Exposure",null,null,"Protective Measures",null,null,"Robustness/Resilience",null,null,"Human",null,null,"Economic",null,null,"Psychological"]
[{"$f":"T(A811)","v":"Maintenance Barns/Facilities"},null,{"$f":"T(C811)","v":"LR"},{"$f":"SUM(D811)","v":19},{"v":1,"d":"1.0"},null,{"$f":"SUM(G811)","v":{"v":0,"d":"0.0"}},null,null,{"v":0,"d":"0.0"},null,null,{"v":0,"d":"0.0"},null,null,{"v":0,"d":"0.0"},null,null,{"v":0,"d":"0.0"},null,null,{"v":0,"d":"0.0"},null,null,{"v":0,"d":"0.0"}]
[{"$f":"T(A812)","v":""}]
[{"$nulls":4},{"$f":"SUM(E236)","v":{"v":1,"d":"1.0"}},null,{"$f":"SUM(G236)","v":{"v":0,"d":"0.0"}},null,null,{"$f":"SUM((J236+M236+P236)/3)","v":{"v":0,"d":"0.0"}},{"$nulls":8},{"$f":"SUM(((S236*3)+V236+Y236)/5)","v":{"v":0,"d":"0.0"}}]
[]
[{"$f":"T(Definitions!D21)","v":"Hijack"}]
[{"$f":"T(A240)","v":"Hijack"},{"$nulls":3},"Threat",null,"Criticality",null,null,"Vulnerability",{"$nulls":8},"Consequence",{"$nulls":8},{"$f":"SUM(((((J245+S245)/2)*G245)*E245))","v":0}]
[{"$nulls":9},"Exposure",null,null,"Protective Measures",null,null,"Robustness/Resilience",null,null,"Human",null,null,"Economic",null,null,"Psychological"]
[{"$f":"T(A128)","v":"Headquarters Building"},null,{"$f":"T(C128)","v":"LR"},{"$f":"SUM(D128)","v":1},{"v":1,"d":"1.0"},null,{"$f":"SUM(G128)","v":{"v":0,"d":"0.0"}},null,null,{"v":0,"d":"0.0"},null,null,{"v":0,"d":"0.0"},null,null,{"v":0,"d":"0.0"},null,null,{"v":0,"d":"0.0"},null,null,{"v":0,"d":"0.0"},null,null,{"v":0,"d":"0.0"}]
[{"$f":"T(A129)","v":""}]
[{"$nulls":4},{"$f":"SUM(E243)","v":{"v":1,"d":"1.0"}},null,{"$f":"SUM(G243)","v":{"v":0,"d":"0.0"}},null,null,{"$f":"SUM((J243+M243+P243)/3)","v":{"v":0,"d":"0.0"}},{"$nulls":8},{"$f":"SUM(((S243*3)+V243+Y243)/5)","v":{"v":0,"d":"0.0"}}]
[]
[{"$f":"T(A240)","v":"Hijack"},{"$nulls":3},"Threat",null,"Criticality",null,null,"Vulnerability",{"$nulls":8},"Consequence",{"$nulls":8},{"$f":"SUM(((((J251+S251)/2)*G251)*E251))","v":0}]
[{"$nulls":9},"Exposure",null,null,"Protective Measures",null,null,"Robustness/Resilience",null,null,"Human",null,null,"Economic",null,null,"Psychological"]
[{"$f":"T(A134)","v":"Major Passenger Terminals"},null,{"$f":"T(C134)","v":"LR"},{"$f":"SUM(D134)","v":2},{"v":1,"d":"1.0"},null,{"$f":"SUM(G134)","v":{"v":0,"d":"0.0"}},null,null,{"v":0,"d":"0.0"},null,null,{"v":0,"d":"0.0"},null,null,{"v":0,"d":"0.0"},null,null,{"v":0,"d":"0.0"},null,null,{"v":0,"d":"0.0"},null,null,{"v":0,"d":"0.0"}]
[{"$f":"T(A135)","v":""}]
[{"$nulls":4},{"$f":"SUM(E249)","v":{"v":1,"d":"1.0"}},null,{"$f":"SUM(G249)","v":{"v":0,"d":"0.0"}},null,null,{"$f":"SUM((J249+M249+P249)/3)","v":{"v":0,"d":"0.0"}},{"$nulls":8},{"$f":"SUM(((S249*3)+V249+Y249)/5)","v":{"v":0,"d":"0.0"}}]
[]
[{"$f":"T(A247)","v":"Hijack"},{"$nulls":3},"Threat",null,"Criticality",null,null,"Vulnerability",{"$nulls":8},"Consequence",{"$nulls":8},{"$f":"SUM(((((J257+S257)/2)*G257)*E257))","v":0}]
[{"$nulls":9},"Exposure",null,null,"Protective Measures",null,null,"Robustness/Resilience",null,null,"Human",null,null,"Economic",null,null,"Psychological"]
[{"$f":"T(A140)","v":"Major Line Stations"},null,{"$f":"T(C140)","v":"LR"},{"$f":"SUM(D140)","v":3},{"v":1,"d":"1.0"},null,{"$f":"SUM(G140)","v":{"v":0,"d":"0.0"}},null,null,{"v":0,"d":"0.0"},null,null,{"v":0,"d":"0.0"},null,null,{"v":0,"d":"0.0"},null,null,{"v":0,"d":"0.0"},null,null,{"v":0,"d":"0.0"},null,null,{"v":0,"d":"0.0"}]
[{"$f":"T(A141)","v":""}]
[{"$nulls":4},{"$f":"SUM(E255)","v":{"v":1,"d":"1.0"}},null,{"$f":"SUM(G255)","v":{"v":0,"d":"0.0"}},null,null,{"$f":"SUM((J255+M255+P255)/3)","v":{"v":0,"d":"0.0"}},{"$nulls":8},{"$f":"SUM(((S255*3)+V255+Y255)/5)","v":{"v":0,"d":"0.0"}}]
[]
[{"$f":"T(A253)","v":"Hijack"},{"$nulls":3},"Threat",null,"Criticality",null,null,"Vulnerability",{"$nulls":8},"Consequence",{"$nulls":8},{"$f":"SUM(((((J263+S263)/2)*G263)*E263))","v":0}]
[{"$nulls":9},"Exposure",null,null,"Protective Measures",null,null,"Robustness/Resilience",null,null,"Human",null,null,"Economic",null,null,"Psychological"]
[{"$f":"T(A146)","v":"Parking Structures"},null,{"$f":"T(C146)","v":"LR"},{"$f":"SUM(D146)","v":4},{"v":1,"d":"1.0"},null,{"$f":"SUM(G146)","v":{"v":0,"d":"0.0"}},null,null,{"v":0,"d":"0.0"},null,null,{"v":0,"d":"0.0"},null,null,{"v":0,"d":"0.0"},null,null,{"v":0,"d":"0.0"},null,null,{"v":0,"d":"0.0"},null,null,{"v":0,"d":"0.0"}]
[{"$f":"T(A147)","v":""}]
[{"$nulls":4},{"$f":"SUM(E261)","v":{"v":1,"d":"1.0"}},null,{"$f":"SUM(G261)","v":{"v":0,"d":"0.0"}},null,null,{"$f":"SUM((J261+M261+P261)/3)","v":{"v":0,"d":"0.0"}},{"$nulls":8},{"$f":"SUM(((S261*3)+V261+Y261)/5)","v":{"v":0,"d":"0.0"}}]
[]
[{"$f":"T(A259)","v":"Hijack"},{"$nulls":3},"Threat",null,"Criticality",null,null,"Vulnerability",{"$nulls":8},"Consequence",{"$nulls":8},{"$f":"SUM(((((J269+S269)/2)*G269)*E269))","v":0}]
[{"$nulls":9},"Exposure",null,null,"Protective Measures",null,null,"Robustness/Resilience",null,null,"Human",null,null,"Economic",null,null,"Psychological"]
[{"$f":"T(A152)","v":"Consist - Type 1"},null,{"$f":"T(C152)","v":"LR"},{"$f":"SUM(D152)","v":5},{"v":1,"d":"1.0"},null,{"$f":"SUM(G152)","v":{"v":0,"d":"0.0"}},null,null,{"v":0,"d":"0.0"},null,null,{"v":0,"d":"0.0"},null,null,{"v":0,"d":"0.0"},null,null,{"v":0,"d":"0.0"},null,null,{"v":0,"d":"0.0"},null,null,{"v":0,"d":"0.0"}]
[{"$f":"T(A153)","v":""}]
[{"$nulls":4},{"$f":"SUM(E267)","v":{"v":1,"d":"1.0"}},null,{"$f":"SUM(G267)","v":{"v":0,"d":"0.0"}},null,null,{"$f":"SUM((J267+M267+P267)/3)","v":{"v":0,"d":"0.0"}},{"$nulls":8},{"$f":"SUM(((S267*3)+V267+Y267)/5)","v":{"v":0,"d":"0.0"}}]
[]
[{"$f":"T(A265)","v":"Hijack"},{"$nulls":3},"Threat",null,"Criticality",null,null,"Vulnerability",{"$nulls":8},"Consequence",{"$nulls":8},{"$f":"SUM(((((J275+S275)/2)*G275)*E275))","v":0}]
[{"$nulls":9},"Exposure",null,null,"Protective Measures",null,null,"Robustness/Resilience",null,null,"Human",null,null,"Economic",null,null,"Psychological"]
[{"$f":"T(A158)","v":"Consist - Type 2"},null,{"$f":"T(C158)","v":"LR"},{"$f":"SUM(D158)","v":6},{"v":1,"d":"1.0"},null,{"$f":"SUM(G158)","v":{"v":0,"d":"0.0"}},null,null,{"v":0,"d":"0.0"},null,null,{"v":0,"d":"0.0"},null,null,{"v":0,"d":"0.0"},null,null,{"v":0,"d":"0.0"},null,null,{"v":0,"d":"0.0"},null,null,{"v":0,"d":"0.0"}]
[{"$f":"T(A159)","v":""}]
[{"$nulls":4},{"$f":"SUM(E273)","v":{"v":1,"d":"1.0"}},null,{"$f":"SUM(G273)","v":{"v":0,"d":"0.0"}},null,null,{"$f":"SUM((J273+M273+P273)/3)","v":{"v":0,"d":"0.0"}},{"$nulls":8},{"$f":"SUM(((S273*3)+V273+Y273)/5)","v":{"v":0,"d":"0.0"}}]
[]
[{"$f":"T(A271)","v":"Hijack"},{"$nulls":3},"Threat",null,"Criticality",null,null,"Vulnerability",{"$nulls":8},"Consequence",{"$nulls":8},{"$f":"SUM(((((J281+S281)/2)*G281)*E281))","v":0}]
[{"$nulls":9},"Exposure",null,null,"Protective Measures",null,null,"Robustness/Resilience",null,null,"Human",null,null,"Economic",null,null,"Psychological"]
[{"$f":"T(A164)","v":"Primary Control Center"},null,{"$f":"T(C164)","v":"LR"},{"$f":"SUM(D164)","v":7},{"v":1,"d":"1.0"},null,{"$f":"SUM(G164)","v":{"v":0,"d":"0.0"}},null,null,{"v":0,"d":"0.0"},null,null,{"v":0,"d":"0.0"},null,null,{"v":0,"d":"0.0"},null,null,{"v":0,"d":"0.0"},null,null,{"v":0,"d":"0.0"},null,null,{"v":0,"d":"0.0"}]
[{"$f":"T(A165)","v":""}]
[{"$nulls":4},{"$f":"SUM(E279)","v":{"v":1,"d":"1.0"}},null,{"$f":"SUM(G279)","v":{"v":0,"d":"0.0"}},null,null,{"$f":"SUM((J279+M279+P279)/3)","v":{"v":0,"d":"0.0"}},{"$nulls":8},{"$f":"SUM(((S279*3)+V279+Y279)/5)","v":{"v":0,"d":"0.0"}}]
[]
[{"$f":"T(A277)","v":"Hijack"},{"$nulls":3},"Threat",null,"Criticality",null,null,"Vulnerability",{"$nulls":8},"Consequence",{"$nulls":8},{"$f":"SUM(((((J287+S287)/2)*G287)*E287))","v":0}]
[{"$nulls":9},"Exposure",null,null,"Protective Measures",null,null,"Robustness/Resilience",null,null,"Human",null,null,"Economic",null,null,"Psychological"]
[{"$f":"T(A170)","v":"Cyber Systems"},null,{"$f":"T(C170)","v":"LR"},{"$f":"SUM(D170)","v":8},{"v":1,"d":"1.0"},null,{"$f":"SUM(G170)","v":{"v":0,"d":"0.0"}},null,null,{"v":0,"d":"0.0"},null,null,{"v":0,"d":"0.0"},null,null,{"v":0,"d":"0.0"},null,null,{"v":0,"d":"0.0"},null,null,{"v":0,"d":"0.0"},null,null,{"v":0,"d":"0.0"}]
[{"$f":"T(A171)","v":""}]
[{"$nulls":4},{"$f":"SUM(E285)","v":{"v":1,"d":"1.0"}},null,{"$f":"SUM(G285)","v":{"v":0,"d":"0.0"}},null,null,{"$f":"SUM((J285+M285+P285)/3)","v":{"v":0,"d":"0.0"}},{"$nulls":8},{"$f":"SUM(((S285*3)+V285+Y285)/5)","v":{"v":0,"d":"0.0"}}]
[]
[{"$f":"T(A277)","v":"Hijack"},{"$nulls":3},"Threat",null,"Criticality",null,null,"Vulnerability",{"$nulls":8},"Consequence",{"$nulls":8},{"$f":"SUM(((((J293+S293)/2)*G293)*E293))","v":0}]
[{"$nulls":9},"Exposure",null,null,"Protective Measures",null,null,"Robustness/Resilience",null,null,"Human",null,null,"Economic",null,null,"Psychological"]
[{"$f":"T(A176)","v":"Right of Way (ROW)"},null,{"$f":"T(C176)","v":"LR"},{"$f":"SUM(D176)","v":9},{"v":1,"d":"1.0"},null,{"$f":"SUM(G176)","v":{"v":0,"d":"0.0"}},null,null,{"v":0,"d":"0.0"},null,null,{"v":0,"d":"0.0"},null,null,{"v":0,"d":"0.0"},null,null,{"v":0,"d":"0.0"},null,null,{"v":0,"d":"0.0"},null,null,{"v":0,"d":"0.0"}]
[{"$f":"T(A177)","v":""}]
[{"$nulls":4},{"$f":"SUM(E291)","v":{"v":1,"d":"1.0"}},null,{"$f":"SUM(G291)","v":{"v":0,"d":"0.0"}},null,null,{"$f":"SUM((J291+M291+P291)/3)","v":{"v":0,"d":"0.0"}},{"$nulls":8},{"$f":"SUM(((S291*3)+V291+Y291)/5)","v":{"v":0,"d":"0.0"}}]
[]
[{"$f":"T(A277)","v":"Hijack"},{"$nulls":3},"Threat",null,"Criticality",null,null,"Vulnerability",{"$nulls":8},"Consequence",{"$nulls":8},{"$f":"SUM(((((J299+S299)/2)*G299)*E299))","v":0}]
[{"$nulls":9},"Exposure",null,null,"Protective Measures",null,null,"Robustness/Resilience",null,null,"Human",null,null,"Economic",null,null,"Psychological"]
[{"$f":"T(A182)","v":"Signals & PTC"},null,{"$f":"T(C182)","v":"LR"},{"$f":"SUM(D182)","v":10},{"v":1,"d":"1.0"},null,{"$f":"SUM(G182)","v":{"v":0,"d":"0.0"}},null,null,{"v":0,"d":"0.0"},null,null,{"v":0,"d":"0.0"},null,null,{"v":0,"d":"0.0"},null,null,{"v":0,"d":"0.0"},null,null,{"v":0,"d":"0.0"},null,null,{"v":0,"d":"0.0"}]
[{"$f":"T(A183)","v":""}]
[{"$nulls":4},{"$f":"SUM(E297)","v":{"v":1,"d":"1.0"}},null,{"$f":"SUM(G297)","v":{"v":0,"d":"0.0"}},null,null,{"$f":"SUM((J297+M297+P297)/3)","v":{"v":0,"d":"0.0"}},{"$nulls":8},{"$f":"SUM(((S297*3)+V297+Y297)/5)","v":{"v":0,"d":"0.0"}}]
[]
[{"$f":"T(A295)","v":"Hijack"},{"$nulls":3},"Threat",null,"Criticality",null,null,"Vulnerability",{"$nulls":8},"Consequence",{"$nulls":8},{"$f":"SUM(((((J305+S305)/2)*G305)*E305))","v":0}]
[{"$nulls":9},"Exposure",null,null,"Protective Measures",null,null,"Robustness/Resilience",null,null,"Human",null,null,"Economic",null,null,"Psychological"]
[{"$f":"T(A188)","v":"Switches "},null,{"$f":"T(C188)","v":"LR"},{"$f":"SUM(D188)","v":11},{"v":1,"d":"1.0"},null,{"$f":"SUM(G188)","v":{"v":0,"d":"0.0"}},null,null,{"v":0,"d":"0.0"},null,null,{"v":0,"d":"0.0"},null,null,{"v":0,"d":"0.0"},null,null,{"v":0,"d":"0.0"},null,null,{"v":0,"d":"0.0"},null,null,{"v":0,"d":"0.0"}]
[{"$f":"T(A189)","v":""}]
[{"$nulls":4},{"$f":"SUM(E303)","v":{"v":1,"d":"1.0"}},null,{"$f":"SUM(G303)","v":{"v":0,"d":"0.0"}},null,null,{"$f":"SUM((J303+M303+P303)/3)","v":{"v":0,"d":"0.0"}},{"$nulls":8},{"$f":"SUM(((S303*3)+V303+Y303)/5)","v":{"v":0,"d":"0.0"}}]
[]
[{"$f":"T(A301)","v":"Hijack"},{"$nulls":3},"Threat",null,"Criticality",null,null,"Vulnerability",{"$nulls":8},"Consequence",{"$nulls":8},{"$f":"SUM(((((J311+S311)/2)*G311)*E311))","v":0}]
[{"$nulls":9},"Exposure",null,null,"Protective Measures",null,null,"Robustness/Resilience",null,null,"Human",null,null,"Economic",null,null,"Psychological"]
[{"$f":"T(A194)","v":"Bridges"},null,{"$f":"T(C194)","v":"LR"},{"$f":"SUM(D194)","v":12},{"v":1,"d":"1.0"},null,{"$f":"SUM(G194)","v":{"v":0,"d":"0.0"}},null,null,{"v":0,"d":"0.0"},null,null,{"v":0,"d":"0.0"},null,null,{"v":0,"d":"0.0"},null,null,{"v":0,"d":"0.0"},null,null,{"v":0,"d":"0.0"},null,null,{"v":0,"d":"0.0"}]
[{"$f":"T(A195)","v":""}]
[{"$nulls":4},{"$f":"SUM(E309)","v":{"v":1,"d":"1.0"}},null,{"$f":"SUM(G309)","v":{"v":0,"d":"0.0"}},null,null,{"$f":"SUM((J309+M309+P309)/3)","v":{"v":0,"d":"0.0"}},{"$nulls":8},{"$f":"SUM(((S309*3)+V309+Y309)/5)","v":{"v":0,"d":"0.0"}}]
[]
[{"$f":"T(A307)","v":"Hijack"},{"$nulls":3},"Threat",null,"Criticality",null,null,"Vulnerability",{"$nulls":8},"Consequence",{"$nulls":8},{"$f":"SUM(((((J317+S317)/2)*G317)*E317))","v":0}]
[{"$nulls":9},"Exposure",null,null,"Protective Measures",null,null,"Robustness/Resilience",null,null,"Human",null,null,"Economic",null,null,"Psychological"]
[{"$f":"T(A200)","v":"Elevated Track"},null,{"$f":"T(C200)","v":"LR"},{"$f":"SUM(D200)","v":13},{"v":1,"d":"1.0"},null,{"$f":"SUM(G200)","v":{"v":0,"d":"0.0"}},null,null,{"v":0,"d":"0.0"},null,null,{"v":0,"d":"0.0"},null,null,{"v":0,"d":"0.0"},null,null,{"v":0,"d":"0.0"},null,null,{"v":0,"d":"0.0"},null,null,{"v":0,"d":"0.0"}]
[{"$f":"T(A201)","v":""}]
[{"$nulls":4},{"$f":"SUM(E315)","v":{"v":1,"d":"1.0"}},null,{"$f":"SUM(G315)","v":{"v":0,"d":"0.0"}},null,null,{"$f":"SUM((J315+M315+P315)/3)","v":{"v":0,"d":"0.0"}},{"$nulls":8},{"$f":"SUM(((S315*3)+V315+Y315)/5)","v":{"v":0,"d":"0.0"}}]
[]
[{"$f":"T(A313)","v":"Hijack"},{"$nulls":3},"Threat",null,"Criticality",null,null,"Vulnerability",{"$nulls":8},"Consequence",{"$nulls":8},{"$f":"SUM(((((J323+S323)/2)*G323)*E323))","v":0}]
[{"$nulls":9},"Exposure",null,null,"Protective Measures",null,null,"Robustness/Resilience",null,null,"Human",null,null,"Economic",null,null,"Psychological"]
[{"$f":"T(A206)","v":"Tunnels "},null,{"$f":"T(C206)","v":"LR"},{"$f":"SUM(D206)","v":14},{"v":1,"d":"1.0"},null,{"$f":"SUM(G206)","v":{"v":0,"d":"0.0"}},null,null,{"v":0,"d":"0.0"},null,null,{"v":0,"d":"0.0"},null,null,{"v":0,"d":"0.0"},null,null,{"v":0,"d":"0.0"},null,null,{"v":0,"d":"0.0"},null,null,{"v":0,"d":"0.0"}]
[{"$f":"T(A207)","v":""}]
[{"$nulls":4},{"$f":"SUM(E321)","v":{"v":1,"d":"1.0"}},null,{"$f":"SUM(G321)","v":{"v":0,"d":"0.0"}},null,null,{"$f":"SUM((J321+M321+P321)/3)","v":{"v":0,"d":"0.0"}},{"$nulls":8},{"$f":"SUM(((S321*3)+V321+Y321)/5)","v":{"v":0,"d":"0.0"}}]
[]
[{"$f":"T(A319)","v":"Hijack"},{"$nulls":3},"Threat",null,"Criticality",null,null,"Vulnerability",{"$nulls":8},"Consequence",{"$nulls":8},{"$f":"SUM(((((J329+S329)/2)*G329)*E329))","v":0}]
[{"$nulls":9},"Exposure",null,null,"Protective Measures",null,null,"Robustness/Resilience",null,null,"Human",null,null,"Economic",null,null,"Psychological"]
[{"$f":"T(A212)","v":"Choke Points on ROW"},null,{"$f":"T(C212)","v":"LR"},{"$f":"SUM(D212)","v":15},{"v":1,"d":"1.0"},null,{"$f":"SUM(G212)","v":{"v":0,"d":"0.0"}},null,null,{"v":0,"d":"0.0"},null,null,{"v":0,"d":"0.0"},null,null,{"v":0,"d":"0.0"},null,null,{"v":0,"d":"0.0"},null,null,{"v":0,"d":"0.0"},null,null,{"v":0,"d":"0.0"}]
[{"$f":"T(A213)","v":""}]
[{"$nulls":4},{"$f":"SUM(E327)","v":{"v":1,"d":"1.0"}},null,{"$f":"SUM(G327)","v":{"v":0,"d":"0.0"}},null,null,{"$f":"SUM((J327+M327+P327)/3)","v":{"v":0,"d":"0.0"}},{"$nulls":8},{"$f":"SUM(((S327*3)+V327+Y327)/5)","v":{"v":0,"d":"0.0"}}]
[]
[{"$f":"T(A325)","v":"Hijack"},{"$nulls":3},"Threat",null,"Criticality",null,null,"Vulnerability",{"$nulls":8},"Consequence",{"$nulls":8},{"$f":"SUM(((((J335+S335)/2)*G335)*E335))","v":0}]
[{"$nulls":9},"Exposure",null,null,"Protective Measures",null,null,"Robustness/Resilience",null,null,"Human",null,null,"Economic",null,null,"Psychological"]
[{"$f":"T(A218)","v":"Fire Suppression"},null,{"$f":"T(C218)","v":"LR"},{"$f":"SUM(D218)","v":16},{"v":1,"d":"1.0"},null,{"$f":"SUM(G218)","v":{"v":0,"d":"0.0"}},null,null,{"v":0,"d":"0.0"},null,null,{"v":0,"d":"0.0"},null,null,{"v":0,"d":"0.0"},null,null,{"v":0,"d":"0.0"},null,null,{"v":0,"d":"0.0"},null,null,{"v":0,"d":"0.0"}]
[{"$f":"T(A219)","v":""}]
[{"$nulls":4},{"$f":"SUM(E333)","v":{"v":1,"d":"1.0"}},null,{"$f":"SUM(G333)","v":{"v":0,"d":"0.0"}},null,null,{"$f":"SUM((J333+M333+P333)/3)","v":{"v":0,"d":"0.0"}},{"$nulls":8},{"$f":"SUM(((S333*3)+V333+Y333)/5)","v":{"v":0,"d":"0.0"}}]
[]
[{"$f":"T(A331)","v":"Hijack"},{"$nulls":3},"Threat",null,"Criticality",null,null,"Vulnerability",{"$nulls":8},"Consequence",{"$nulls":8},{"$f":"SUM(((((J341+S341)/2)*G341)*E341))","v":0}]
[{"$nulls":9},"Exposure",null,null,"Protective Measures",null,null,"Robustness/Resilience",null,null,"Human",null,null,"Economic",null,null,"Psychological"]
[{"$f":"T(A224)","v":"Power Generation/Distribution"},null,{"$f":"T(C224)","v":"LR"},{"$f":"SUM(D224)","v":17},{"v":1,"d":"1.0"},null,{"$f":"SUM(G224)","v":{"v":0,"d":"0.0"}},null,null,{"v":0,"d":"0.0"},null,null,{"v":0,"d":"0.0"},null,null,{"v":0,"d":"0.0"},null,null,{"v":0,"d":"0.0"},null,null,{"v":0,"d":"0.0"},null,null,{"v":0,"d":"0.0"}]
[{"$f":"T(A225)","v":""}]
[{"$nulls":4},{"$f":"SUM(E339)","v":{"v":1,"d":"1.0"}},null,{"$f":"SUM(G339)","v":{"v":0,"d":"0.0"}},null,null,{"$f":"SUM((J339+M339+P339)/3)","v":{"v":0,"d":"0.0"}},{"$nulls":8},{"$f":"SUM(((S339*3)+V339+Y339)/5)","v":{"v":0,"d":"0.0"}}]
[]
[{"$f":"T(A337)","v":"Hijack"},{"$nulls":3},"Threat",null,"Criticality",null,null,"Vulnerability",{"$nulls":8},"Consequence",{"$nulls":8},{"$f":"SUM(((((J347+S347)/2)*G347)*E347))","v":0}]
[{"$nulls":9},"Exposure",null,null,"Protective Measures",null,null,"Robustness/Resilience",null,null,"Human",null,null,"Economic",null,null,"Psychological"]
[{"$f":"T(A230)","v":"Yards"},null,{"$f":"T(C230)","v":"LR"},{"$f":"SUM(D230)","v":18},{"v":1,"d":"1.0"},null,{"$f":"SUM(G230)","v":{"v":0,"d":"0.0"}},null,null,{"v":0,"d":"0.0"},null,null,{"v":0,"d":"0.0"},null,null,{"v":0,"d":"0.0"},null,null,{"v":0,"d":"0.0"},null,null,{"v":0,"d":"0.0"},null,null,{"v":0,"d":"0.0"}]
[{"$f":"T(A231)","v":""}]
[{"$nulls":4},{"$f":"SUM(E345)","v":{"v":1,"d":"1.0"}},null,{"$f":"SUM(G345)","v":{"v":0,"d":"0.0"}},null,null,{"$f":"SUM((J345+M345+P345)/3)","v":{"v":0,"d":"0.0"}},{"$nulls":8},{"$f":"SUM(((S345*3)+V345+Y345)/5)","v":{"v":0,"d":"0.0"}}]
[]
[{"$f":"T(A343)","v":"Hijack"},{"$nulls":3},"Threat",null,"Criticality",null,null,"Vulnerability",{"$nulls":8},"Consequence",{"$nulls":8},{"$f":"SUM(((((J353+S353)/2)*G353)*E353))","v":0}]
[{"$nulls":9},"Exposure",null,null,"Protective Measures",null,null,"Robustness/Resilience",null,null,"Human",null,null,"Economic",null,null,"Psychological"]
[{"$f":"T(A236)","v":"Maintenance Barns/Facilities"},null,{"$f":"T(C236)","v":"LR"},{"$f":"SUM(D236)","v":19},{"v":1,"d":"1.0"},null,{"$f":"SUM(G236)","v":{"v":0,"d":"0.0"}},null,null,{"v":0,"d":"0.0"},null,null,{"v":0,"d":"0.0"},null,null,{"v":0,"d":"0.0"},null,null,{"v":0,"d":"0.0"},null,null,{"v":0,"d":"0.0"},null,null,{"v":0,"d":"0.0"}]
[{"$f":"T(A237)","v":""}]
[{"$nulls":4},{"$f":"SUM(E351)","v":{"v":1,"d":"1.0"}},null,{"$f":"SUM(G351)","v":{"v":0,"d":"0.0"}},null,null,{"$f":"SUM((J351+M351+P351)/3)","v":{"v":0,"d":"0.0"}},{"$nulls":8},{"$f":"SUM(((S351*3)+V351+Y351)/5)","v":{"v":0,"d":"0.0"}}]
[]
[{"$f":"T(Definitions!D22)","v":"Coordinated Complex Attack"}]
[{"$f":"T(A355)","v":"Coordinated Complex Attack"},{"$nulls":3},"Threat",null,"Criticality",null,null,"Vulnerability",{"$nulls":8},"Consequence",{"$nulls":8},{"$f":"SUM(((((J360+S360)/2)*G360)*E360))","v":0}]
[{"$nulls":9},"Exposure",null,null,"Protective Measures",null,null,"Robustness/Resilience",null,null,"Human",null,null,"Economic",null,null,"Psychological"]
[{"$f":"T(A243)","v":"Headquarters Building"},null,{"$f":"T(C243)","v":"LR"},{"$f":"SUM(D243)","v":1},{"v":1,"d":"1.0"},null,{"$f":"SUM(G243)","v":{"v":0,"d":"0.0"}},null,null,{"v":0,"d":"0.0"},null,null,{"v":0,"d":"0.0"},null,null,{"v":0,"d":"0.0"},null,null,{"v":0,"d":"0.0"},null,null,{"v":0,"d":"0.0"},null,null,{"v":0,"d":"0.0"}]
[{"$f":"T(A244)","v":""}]
[{"$nulls":4},{"$f":"SUM(E358)","v":{"v":1,"d":"1.0"}},null,{"$f":"SUM(G358)","v":{"v":0,"d":"0.0"}},null,null,{"$f":"SUM((J358+M358+P358)/3)","v":{"v":0,"d":"0.0"}},{"$nulls":8},{"$f":"SUM(((S358*3)+V358+Y358)/5)","v":{"v":0,"d":"0.0"}}]
[]
[{"$f":"T(A355)","v":"Coordinated Complex Attack"},{"$nulls":3},"Threat",null,"Criticality",null,null,"Vulnerability",{"$nulls":8},"Consequence",{"$nulls":8},{"$f":"SUM(((((J366+S366)/2)*G366)*E366))","v":0}]
[{"$nulls":9},"Exposure",null,null,"Protective Measures",null,null,"Robustness/Resilience",null,null,"Human",null,null,"Economic",null,null,"Psychological"]
[{"$f":"T(A249)","v":"Major Passenger Terminals"},null,{"$f":"T(C249)","v":"LR"},{"$f":"SUM(D249)","v":2},{"v":1,"d":"1.0"},null,{"$f":"SUM(G249)","v":{"v":0,"d":"0.0"}},null,null,{"v":0,"d":"0.0"},null,null,{"v":0,"d":"0.0"},null,null,{"v":0,"d":"0.0"},null,null,{"v":0,"d":"0.0"},null,null,{"v":0,"d":"0.0"},null,null,{"v":0,"d":"0.0"}]
[{"$f":"T(A250)","v":""}]
[{"$nulls":4},{"$f":"SUM(E364)","v":{"v":1,"d":"1.0"}},null,{"$f":"SUM(G364)","v":{"v":0,"d":"0.0"}},null,null,{"$f":"SUM((J364+M364+P364)/3)","v":{"v":0,"d":"0.0"}},{"$nulls":8},{"$f":"SUM(((S364*3)+V364+Y364)/5)","v":{"v":0,"d":"0.0"}}]
[]
[{"$f":"T(A362)","v":"Coordinated Complex Attack"},{"$nulls":3},"Threat",null,"Criticality",null,null,"Vulnerability",{"$nulls":8},"Consequence",{"$nulls":8},{"$f":"SUM(((((J372+S372)/2)*G372)*E372))","v":0}]
[{"$nulls":9},"Exposure",null,null,"Protective Measures",null,null,"Robustness/Resilience",null,null,"Human",null,null,"Economic",null,null,"Psychological"]
[{"$f":"T(A255)","v":"Major Line Stations"},null,{"$f":"T(C255)","v":"LR"},{"$f":"SUM(D255)","v":3},{"v":1,"d":"1.0"},null,{"$f":"SUM(G255)","v":{"v":0,"d":"0.0"}},null,null,{"v":0,"d":"0.0"},null,null,{"v":0,"d":"0.0"},null,null,{"v":0,"d":"0.0"},null,null,{"v":0,"d":"0.0"},null,null,{"v":0,"d":"0.0"},null,null,{"v":0,"d":"0.0"}]
[{"$f":"T(A256)","v":""}]
[{"$nulls":4},{"$f":"SUM(E370)","v":{"v":1,"d":"1.0"}},null,{"$f":"SUM(G370)","v":{"v":0,"d":"0.0"}},null,null,{"$f":"SUM((J370+M370+P370)/3)","v":{"v":0,"d":"0.0"}},{"$nulls":8},{"$f":"SUM(((S370*3)+V370+Y370)/5)","v":{"v":0,"d":"0.0"}}]
[]
[{"$f":"T(A368)","v":"Coordinated Complex Attack"},{"$nulls":3},"Threat",null,"Criticality",null,null,"Vulnerability",{"$nulls":8},"Consequence",{"$nulls":8},{"$f":"SUM(((((J378+S378)/2)*G378)*E378))","v":0}]
[{"$nulls":9},"Exposure",null,null,"Protective Measures",null,null,"Robustness/Resilience",null,null,"Human",null,null,"Economic",null,null,"Psychological"]
[{"$f":"T(A261)","v":"Parking Structures"},null,{"$f":"T(C261)","v":"LR"},{"$f":"SUM(D261)","v":4},{"v":1,"d":"1.0"},null,{"$f":"SUM(G261)","v":{"v":0,"d":"0.0"}},null,null,{"v":0,"d":"0.0"},null,null,{"v":0,"d":"0.0"},null,null,{"v":0,"d":"0.0"},null,null,{"v":0,"d":"0.0"},null,null,{"v":0,"d":"0.0"},null,null,{"v":0,"d":"0.0"}]
[{"$f":"T(A262)","v":""}]
[{"$nulls":4},{"$f":"SUM(E376)","v":{"v":1,"d":"1.0"}},null,{"$f":"SUM(G376)","v":{"v":0,"d":"0.0"}},null,null,{"$f":"SUM((J376+M376+P376)/3)","v":{"v":0,"d":"0.0"}},{"$nulls":8},{"$f":"SUM(((S376*3)+V376+Y376)/5)","v":{"v":0,"d":"0.0"}}]
[]
[{"$f":"T(A374)","v":"Coordinated Complex Attack"},{"$nulls":3},"Threat",null,"Criticality",null,null,"Vulnerability",{"$nulls":8},"Consequence",{"$nulls":8},{"$f":"SUM(((((J384+S384)/2)*G384)*E384))","v":0}]
[{"$nulls":9},"Exposure",null,null,"Protective Measures",null,null,"Robustness/Resilience",null,null,"Human",null,null,"Economic",null,null,"Psychological"]
[{"$f":"T(A267)","v":"Consist - Type 1"},null,{"$f":"T(C267)","v":"LR"},{"$f":"SUM(D267)","v":5},{"v":1,"d":"1.0"},null,{"$f":"SUM(G267)","v":{"v":0,"d":"0.0"}},null,null,{"v":0,"d":"0.0"},null,null,{"v":0,"d":"0.0"},null,null,{"v":0,"d":"0.0"},null,null,{"v":0,"d":"0.0"},null,null,{"v":0,"d":"0.0"},null,null,{"v":0,"d":"0.0"}]
[{"$f":"T(A268)","v":""}]
[{"$nulls":4},{"$f":"SUM(E382)","v":{"v":1,"d":"1.0"}},null,{"$f":"SUM(G382)","v":{"v":0,"d":"0.0"}},null,null,{"$f":"SUM((J382+M382+P382)/3)","v":{"v":0,"d":"0.0"}},{"$nulls":8},{"$f":"SUM(((S382*3)+V382+Y382)/5)","v":{"v":0,"d":"0.0"}}]
[]
[{"$f":"T(A380)","v":"Coordinated Complex Attack"},{"$nulls":3},"Threat",null,"Criticality",null,null,"Vulnerability",{"$nulls":8},"Consequence",{"$nulls":8},{"$f":"SUM(((((J390+S390)/2)*G390)*E390))","v":0}]
[{"$nulls":9},"Exposure",null,null,"Protective Measures",null,null,"Robustness/Resilience",null,null,"Human",null,null,"Economic",null,null,"Psychological"]
[{"$f":"T(A273)","v":"Consist - Type 2"},null,{"$f":"T(C273)","v":"LR"},{"$f":"SUM(D273)","v":6},{"v":1,"d":"1.0"},null,{"$f":"SUM(G273)","v":{"v":0,"d":"0.0"}},null,null,{"v":0,"d":"0.0"},null,null,{"v":0,"d":"0.0"},null,null,{"v":0,"d":"0.0"},null,null,{"v":0,"d":"0.0"},null,null,{"v":0,"d":"0.0"},null,null,{"v":0,"d":"0.0"}]
[{"$f":"T(A274)","v":""}]
[{"$nulls":4},{"$f":"SUM(E388)","v":{"v":1,"d":"1.0"}},null,{"$f":"SUM(G388)","v":{"v":0,"d":"0.0"}},null,null,{"$f":"SUM((J388+M388+P388)/3)","v":{"v":0,"d":"0.0"}},{"$nulls":8},{"$f":"SUM(((S388*3)+V388+Y388)/5)","v":{"v":0,"d":"0.0"}}]
[]
[{"$f":"T(A386)","v":"Coordinated Complex Attack"},{"$nulls":3},"Threat",null,"Criticality",null,null,"Vulnerability",{"$nulls":8},"Consequence",{"$nulls":8},{"$f":"SUM(((((J396+S396)/2)*G396)*E396))","v":0}]
[{"$nulls":9},"Exposure",null,null,"Protective Measures",null,null,"Robustness/Resilience",null,null,"Human",null,null,"Economic",null,null,"Psychological"]
[{"$f":"T(A279)","v":"Primary Control Center"},null,{"$f":"T(C279)","v":"LR"},{"$f":"SUM(D279)","v":7},{"v":1,"d":"1.0"},null,{"$f":"SUM(G279)","v":{"v":0,"d":"0.0"}},null,null,{"v":0,"d":"0.0"},null,null,{"v":0,"d":"0.0"},null,null,{"v":0,"d":"0.0"},null,null,{"v":0,"d":"0.0"},null,null,{"v":0,"d":"0.0"},null,null,{"v":0,"d":"0.0"}]
[{"$f":"T(A280)","v":""}]
[{"$nulls":4},{"$f":"SUM(E394)","v":{"v":1,"d":"1.0"}},null,{"$f":"SUM(G394)","v":{"v":0,"d":"0.0"}},null,null,{"$f":"SUM((J394+M394+P394)/3)","v":{"v":0,"d":"0.0"}},{"$nulls":8},{"$f":"SUM(((S394*3)+V394+Y394)/5)","v":{"v":0,"d":"0.0"}}]
[]
[{"$f":"T(A392)","v":"Coordinated Complex Attack"},{"$nulls":3},"Threat",null,"Criticality",null,null,"Vulnerability",{"$nulls":8},"Consequence",{"$nulls":8},{"$f":"SUM(((((J402+S402)/2)*G402)*E402))","v":0}]
[{"$nulls":9},"Exposure",null,null,"Protective Measures",null,null,"Robustness/Resilience",null,null,"Human",null,null,"Economic",null,null,"Psychological"]
[{"$f":"T(A285)","v":"Cyber Systems"},null,{"$f":"T(C285)","v":"LR"},{"$f":"SUM(D285)","v":8},{"v":1,"d":"1.0"},null,{"$f":"SUM(G285)","v":{"v":0,"d":"0.0"}},null,null,{"v":0,"d":"0.0"},null,null,{"v":0,"d":"0.0"},null,null,{"v":0,"d":"0.0"},null,null,{"v":0,"d":"0.0"},null,null,{"v":0,"d":"0.0"},null,null,{"v":0,"d":"0.0"}]
[{"$f":"T(A286)","v":""}]
[{"$nulls":4},{"$f":"SUM(E400)","v":{"v":1,"d":"1.0"}},null,{"$f":"SUM(G400)","v":{"v":0,"d":"0.0"}},null,null,{"$f":"SUM((J400+M400+P400)/3)","v":{"v":0,"d":"0.0"}},{"$nulls":8},{"$f":"SUM(((S400*3)+V400+Y400)/5)","v":{"v":0,"d":"0.0"}}]
[]
[{"$f":"T(A392)","v":"Coordinated Complex Attack"},{"$nulls":3},"Threat",null,"Criticality",null,null,"Vulnerability",{"$nulls":8},"Consequence",{"$nulls":8},{"$f":"SUM(((((J408+S408)/2)*G408)*E408))","v":0}]
[{"$nulls":9},"Exposure",null,null,"Protective Measures",null,null,"Robustness/Resilience",null,null,"Human",null,null,"Economic",null,null,"Psychological"]
[{"$f":"T(A291)","v":"Right of Way (ROW)"},null,{"$f":"T(C291)","v":"LR"},{"$f":"SUM(D291)","v":9},{"v":1,"d":"1.0"},null,{"$f":"SUM(G291)","v":{"v":0,"d":"0.0"}},null,null,{"v":0,"d":"0.0"},null,null,{"v":0,"d":"0.0"},null,null,{"v":0,"d":"0.0"},null,null,{"v":0,"d":"0.0"},null,null,{"v":0,"d":"0.0"},null,null,{"v":0,"d":"0.0"}]
[{"$f":"T(A292)","v":""}]
[{"$nulls":4},{"$f":"SUM(E406)","v":{"v":1,"d":"1.0"}},null,{"$f":"SUM(G406)","v":{"v":0,"d":"0.0"}},null,null,{"$f":"SUM((J406+M406+P406)/3)","v":{"v":0,"d":"0.0"}},{"$nulls":8},{"$f":"SUM(((S406*3)+V406+Y406)/5)","v":{"v":0,"d":"0.0"}}]
[]
[{"$f":"T(A392)","v":"Coordinated Complex Attack"},{"$nulls":3},"Threat",null,"Criticality",null,null,"Vulnerability",{"$nulls":8},"Consequence",{"$nulls":8},{"$f":"SUM(((((J414+S414)/2)*G414)*E414))","v":0}]
[{"$nulls":9},"Exposure",null,null,"Protective Measures",null,null,"Robustness/Resilience",null,null,"Human",null,null,"Economic",null,null,"Psychological"]
[{"$f":"T(A297)","v":"Signals & PTC"},null,{"$f":"T(C297)","v":"LR"},{"$f":"SUM(D297)","v":10},{"v":1,"d":"1.0"},null,{"$f":"SUM(G297)","v":{"v":0,"d":"0.0"}},null,null,{"v":0,"d":"0.0"},null,null,{"v":0,"d":"0.0"},null,null,{"v":0,"d":"0.0"},null,null,{"v":0,"d":"0.0"},null,null,{"v":0,"d":"0.0"},null,null,{"v":0,"d":"0.0"}]
[{"$f":"T(A298)","v":""}]
[{"$nulls":4},{"$f":"SUM(E412)","v":{"v":1,"d":"1.0"}},null,{"$f":"SUM(G412)","v":{"v":0,"d":"0.0"}},null,null,{"$f":"SUM((J412+M412+P412)/3)","v":{"v":0,"d":"0.0"}},{"$nulls":8},{"$f":"SUM(((S412*3)+V412+Y412)/5)","v":{"v":0,"d":"0.0"}}]
[]
[{"$f":"T(A410)","v":"Coordinated Complex Attack"},{"$nulls":3},"Threat",null,"Criticality",null,null,"Vulnerability",{"$nulls":8},"Consequence",{"$nulls":8},{"$f":"SUM(((((J420+S420)/2)*G420)*E420))","v":0}]
[{"$nulls":9},"Exposure",null,null,"Protective Measures",null,null,"Robustness/Resilience",null,null,"Human",null,null,"Economic",null,null,"Psychological"]
[{"$f":"T(A303)","v":"Switches "},null,{"$f":"T(C303)","v":"LR"},{"$f":"SUM(D303)","v":11},{"v":1,"d":"1.0"},null,{"$f":"SUM(G303)","v":{"v":0,"d":"0.0"}},null,null,{"v":0,"d":"0.0"},null,null,{"v":0,"d":"0.0"},null,null,{"v":0,"d":"0.0"},null,null,{"v":0,"d":"0.0"},null,null,{"v":0,"d":"0.0"},null,null,{"v":0,"d":"0.0"}]
[{"$f":"T(A304)","v":""}]
[{"$nulls":4},{"$f":"SUM(E418)","v":{"v":1,"d":"1.0"}},null,{"$f":"SUM(G418)","v":{"v":0,"d":"0.0"}},null,null,{"$f":"SUM((J418+M418+P418)/3)","v":{"v":0,"d":"0.0"}},{"$nulls":8},{"$f":"SUM(((S418*3)+V418+Y418)/5)","v":{"v":0,"d":"0.0"}}]
[]
[{"$f":"T(A416)","v":"Coordinated Complex Attack"},{"$nulls":3},"Threat",null,"Criticality",null,null,"Vulnerability",{"$nulls":8},"Consequence",{"$nulls":8},{"$f":"SUM(((((J426+S426)/2)*G426)*E426))","v":0}]
[{"$nulls":9},"Exposure",null,null,"Protective Measures",null,null,"Robustness/Resilience",null,null,"Human",null,null,"Economic",null,null,"Psychological"]
[{"$f":"T(A309)","v":"Bridges"},null,{"$f":"T(C309)","v":"LR"},{"$f":"SUM(D309)","v":12},{"v":1,"d":"1.0"},null,{"$f":"SUM(G309)","v":{"v":0,"d":"0.0"}},null,null,{"v":0,"d":"0.0"},null,null,{"v":0,"d":"0.0"},null,null,{"v":0,"d":"0.0"},null,null,{"v":0,"d":"0.0"},null,null,{"v":0,"d":"0.0"},null,null,{"v":0,"d":"0.0"}]
[{"$f":"T(A310)","v":""}]
[{"$nulls":4},{"$f":"SUM(E424)","v":{"v":1,"d":"1.0"}},null,{"$f":"SUM(G424)","v":{"v":0,"d":"0.0"}},null,null,{"$f":"SUM((J424+M424+P424)/3)","v":{"v":0,"d":"0.0"}},{"$nulls":8},{"$f":"SUM(((S424*3)+V424+Y424)/5)","v":{"v":0,"d":"0.0"}}]
[]
[{"$f":"T(A422)","v":"Coordinated Complex Attack"},{"$nulls":3},"Threat",null,"Criticality",null,null,"Vulnerability",{"$nulls":8},"Consequence",{"$nulls":8},{"$f":"SUM(((((J432+S432)/2)*G432)*E432))","v":0}]
[{"$nulls":9},"Exposure",null,null,"Protective Measures",null,null,"Robustness/Resilience",null,null,"Human",null,null,"Economic",null,null,"Psychological"]
[{"$f":"T(A315)","v":"Elevated Track"},null,{"$f":"T(C315)","v":"LR"},{"$f":"SUM(D315)","v":13},{"v":1,"d":"1.0"},null,{"$f":"SUM(G315)","v":{"v":0,"d":"0.0"}},null,null,{"v":0,"d":"0.0"},null,null,{"v":0,"d":"0.0"},null,null,{"v":0,"d":"0.0"},null,null,{"v":0,"d":"0.0"},null,null,{"v":0,"d":"0.0"},null,null,{"v":0,"d":"0.0"}]
[{"$f":"T(A316)","v":""}]
[{"$nulls":4},{"$f":"SUM(E430)","v":{"v":1,"d":"1.0"}},null,{"$f":"SUM(G430)","v":{"v":0,"d":"0.0"}},null,null,{"$f":"SUM((J430+M430+P430)/3)","v":{"v":0,"d":"0.0"}},{"$nulls":8},{"$f":"SUM(((S430*3)+V430+Y430)/5)","v":{"v":0,"d":"0.0"}}]
[]
[{"$f":"T(A428)","v":"Coordinated Complex Attack"},{"$nulls":3},"Threat",null,"Criticality",null,null,"Vulnerability",{"$nulls":8},"Consequence",{"$nulls":8},{"$f":"SUM(((((J438+S438)/2)*G438)*E438))","v":0}]
[{"$nulls":9},"Exposure",null,null,"Protective Measures",null,null,"Robustness/Resilience",null,null,"Human",null,null,"Economic",null,null,"Psychological"]
[{"$f":"T(A321)","v":"Tunnels "},null,{"$f":"T(C321)","v":"LR"},{"$f":"SUM(D321)","v":14},{"v":1,"d":"1.0"},null,{"$f":"SUM(G321)","v":{"v":0,"d":"0.0"}},null,null,{"v":0,"d":"0.0"},null,null,{"v":0,"d":"0.0"},null,null,{"v":0,"d":"0.0"},null,null,{"v":0,"d":"0.0"},null,null,{"v":0,"d":"0.0"},null,null,{"v":0,"d":"0.0"}]
[{"$f":"T(A322)","v":""}]
[{"$nulls":4},{"$f":"SUM(E436)","v":{"v":1,"d":"1.0"}},null,{"$f":"SUM(G436)","v":{"v":0,"d":"0.0"}},null,null,{"$f":"SUM((J436+M436+P436)/3)","v":{"v":0,"d":"0.0"}},{"$nulls":8},{"$f":"SUM(((S436*3)+V436+Y436)/5)","v":{"v":0,"d":"0.0"}}]
[]
[{"$f":"T(A434)","v":"Coordinated Complex Attack"},{"$nulls":3},"Threat",null,"Criticality",null,null,"Vulnerability",{"$nulls":8},"Consequence",{"$nulls":8},{"$f":"SUM(((((J444+S444)/2)*G444)*E444))","v":0}]
[{"$nulls":9},"Exposure",null,null,"Protective Measures",null,null,"Robustness/Resilience",null,null,"Human",null,null,"Economic",null,null,"Psychological"]
[{"$f":"T(A327)","v":"Choke Points on ROW"},null,{"$f":"T(C327)","v":"LR"},{"$f":"SUM(D327)","v":15},{"v":1,"d":"1.0"},null,{"$f":"SUM(G327)","v":{"v":0,"d":"0.0"}},null,null,{"v":0,"d":"0.0"},null,null,{"v":0,"d":"0.0"},null,null,{"v":0,"d":"0.0"},null,null,{"v":0,"d":"0.0"},null,null,{"v":0,"d":"0.0"},null,null,{"v":0,"d":"0.0"}]
[{"$f":"T(A328)","v":""}]
[{"$nulls":4},{"$f":"SUM(E442)","v":{"v":1,"d":"1.0"}},null,{"$f":"SUM(G442)","v":{"v":0,"d":"0.0"}},null,null,{"$f":"SUM((J442+M442+P442)/3)","v":{"v":0,"d":"0.0"}},{"$nulls":8},{"$f":"SUM(((S442*3)+V442+Y442)/5)","v":{"v":0,"d":"0.0"}}]
[]
[{"$f":"T(A440)","v":"Coordinated Complex Attack"},{"$nulls":3},"Threat",null,"Criticality",null,null,"Vulnerability",{"$nulls":8},"Consequence",{"$nulls":8},{"$f":"SUM(((((J450+S450)/2)*G450)*E450))","v":0}]
[{"$nulls":9},"Exposure",null,null,"Protective Measures",null,null,"Robustness/Resilience",null,null,"Human",null,null,"Economic",null,null,"Psychological"]
[{"$f":"T(A333)","v":"Fire Suppression"},null,{"$f":"T(C333)","v":"LR"},{"$f":"SUM(D333)","v":16},{"v":1,"d":"1.0"},null,{"$f":"SUM(G333)","v":{"v":0,"d":"0.0"}},null,null,{"v":0,"d":"0.0"},null,null,{"v":0,"d":"0.0"},null,null,{"v":0,"d":"0.0"},null,null,{"v":0,"d":"0.0"},null,null,{"v":0,"d":"0.0"},null,null,{"v":0,"d":"0.0"}]
[{"$f":"T(A334)","v":""}]
[{"$nulls":4},{"$f":"SUM(E448)","v":{"v":1,"d":"1.0"}},null,{"$f":"SUM(G448)","v":{"v":0,"d":"0.0"}},null,null,{"$f":"SUM((J448+M448+P448)/3)","v":{"v":0,"d":"0.0"}},{"$nulls":8},{"$f":"SUM(((S448*3)+V448+Y448)/5)","v":{"v":0,"d":"0.0"}}]
[]
[{"$f":"T(A446)","v":"Coordinated Complex Attack"},{"$nulls":3},"Threat",null,"Criticality",null,null,"Vulnerability",{"$nulls":8},"Consequence",{"$nulls":8},{"$f":"SUM(((((J456+S456)/2)*G456)*E456))","v":0}]
[{"$nulls":9},"Exposure",null,null,"Protective Measures",null,null,"Robustness/Resilience",null,null,"Human",null,null,"Economic",null,null,"Psychological"]
[{"$f":"T(A339)","v":"Power Generation/Distribution"},null,{"$f":"T(C339)","v":"LR"},{"$f":"SUM(D339)","v":17},{"v":1,"d":"1.0"},null,{"$f":"SUM(G339)","v":{"v":0,"d":"0.0"}},null,null,{"v":0,"d":"0.0"},null,null,{"v":0,"d":"0.0"},null,null,{"v":0,"d":"0.0"},null,null,{"v":0,"d":"0.0"},null,null,{"v":0,"d":"0.0"},null,null,{"v":0,"d":"0.0"}]
[{"$f":"T(A340)","v":""}]
[{"$nulls":4},{"$f":"SUM(E454)","v":{"v":1,"d":"1.0"}},null,{"$f":"SUM(G454)","v":{"v":0,"d":"0.0"}},null,null,{"$f":"SUM((J454+M454+P454)/3)","v":{"v":0,"d":"0.0"}},{"$nulls":8},{"$f":"SUM(((S454*3)+V454+Y454)/5)","v":{"v":0,"d":"0.0"}}]
[]
[{"$f":"T(A452)","v":"Coordinated Complex Attack"},{"$nulls":3},"Threat",null,"Criticality",null,null,"Vulnerability",{"$nulls":8},"Consequence",{"$nulls":8},{"$f":"SUM(((((J462+S462)/2)*G462)*E462))","v":0}]
[{"$nulls":9},"Exposure",null,null,"Protective Measures",null,null,"Robustness/Resilience",null,null,"Human",null,null,"Economic",null,null,"Psychological"]
[{"$f":"T(A345)","v":"Yards"},null,{"$f":"T(C345)","v":"LR"},{"$f":"SUM(D345)","v":18},{"v":1,"d":"1.0"},null,{"$f":"SUM(G345)","v":{"v":0,"d":"0.0"}},null,null,{"v":0,"d":"0.0"},null,null,{"v":0,"d":"0.0"},null,null,{"v":0,"d":"0.0"},null,null,{"v":0,"d":"0.0"},null,null,{"v":0,"d":"0.0"},null,null,{"v":0,"d":"0.0"}]
[{"$f":"T(A346)","v":""}]
[{"$nulls":4},{"$f":"SUM(E460)","v":{"v":1,"d":"1.0"}},null,{"$f":"SUM(G460)","v":{"v":0,"d":"0.0"}},null,null,{"$f":"SUM((J460+M460+P460)/3)","v":{"v":0,"d":"0.0"}},{"$nulls":8},{"$f":"SUM(((S460*3)+V460+Y460)/5)","v":{"v":0,"d":"0.0"}}]
[]
[{"$f":"T(A458)","v":"Coordinated Complex Attack"},{"$nulls":3},"Threat",null,"Criticality",null,null,"Vulnerability",{"$nulls":8},"Consequence",{"$nulls":8},{"$f":"SUM(((((J468+S468)/2)*G468)*E468))","v":0}]
[{"$nulls":9},"Exposure",null,null,"Protective Measures",null,null,"Robustness/Resilience",null,null,"Human",null,null,"Economic",null,null,"Psychological"]
[{"$f":"T(A351)","v":"Maintenance Barns/Facilities"},null,{"$f":"T(C351)","v":"LR"},{"$f":"SUM(D351)","v":19},{"v":1,"d":"1.0"},null,{"$f":"SUM(G351)","v":{"v":0,"d":"0.0"}},null,null,{"v":0,"d":"0.0"},null,null,{"v":0,"d":"0.0"},null,null,{"v":0,"d":"0.0"},null,null,{"v":0,"d":"0.0"},null,null,{"v":0,"d":"0.0"},null,null,{"v":0,"d":"0.0"}]
[{"$f":"T(A352)","v":""}]
[{"$nulls":4},{"$f":"SUM(E466)","v":{"v":1,"d":"1.0"}},null,{"$f":"SUM(G466)","v":{"v":0,"d":"0.0"}},null,null,{"$f":"SUM((J466+M466+P466)/3)","v":{"v":0,"d":"0.0"}},{"$nulls":8},{"$f":"SUM(((S466*3)+V466+Y466)/5)","v":{"v":0,"d":"0.0"}}]
[]
[{"$f":"T(Definitions!D23)","v":"Cyber Attack"}]
[{"$f":"T(A470)","v":"Cyber Attack"},{"$nulls":3},"Threat",null,"Criticality",null,null,"Vulnerability",{"$nulls":8},"Consequence",{"$nulls":8},{"$f":"SUM(((((J475+S475)/2)*G475)*E475))","v":0}]
[{"$nulls":9},"Exposure",null,null,"Protective Measures",null,null,"Robustness/Resilience",null,null,"Human",null,null,"Economic",null,null,"Psychological"]
[{"$f":"T(A358)","v":"Headquarters Building"},null,{"$f":"T(C358)","v":"LR"},{"$f":"SUM(D358)","v":1},{"v":1,"d":"1.0"},null,{"$f":"SUM(G358)","v":{"v":0,"d":"0.0"}},null,null,{"v":0,"d":"0.0"},null,null,{"v":0,"d":"0.0"},null,null,{"v":0,"d":"0.0"},null,null,{"v":0,"d":"0.0"},null,null,{"v":0,"d":"0.0"},null,null,{"v":0,"d":"0.0"}]
[{"$f":"T(A359)","v":""}]
[{"$nulls":4},{"$f":"SUM(E473)","v":{"v":1,"d":"1.0"}},null,{"$f":"SUM(G473)","v":{"v":0,"d":"0.0"}},null,null,{"$f":"SUM((J473+M473+P473)/3)","v":{"v":0,"d":"0.0"}},{"$nulls":8},{"$f":"SUM(((S473*3)+V473+Y473)/5)","v":{"v":0,"d":"0.0"}}]
[]
[{"$f":"T(A470)","v":"Cyber Attack"},{"$nulls":3},"Threat",null,"Criticality",null,null,"Vulnerability",{"$nulls":8},"Consequence",{"$nulls":8},{"$f":"SUM(((((J481+S481)/2)*G481)*E481))","v":0}]
[{"$nulls":9},"Exposure",null,null,"Protective Measures",null,null,"Robustness/Resilience",null,null,"Human",null,null,"Economic",null,null,"Psychological"]
[{"$f":"T(A364)","v":"Major Passenger Terminals"},null,{"$f":"T(C364)","v":"LR"},{"$f":"SUM(D364)","v":2},{"v":1,"d":"1.0"},null,{"$f":"SUM(G364)","v":{"v":0,"d":"0.0"}},null,null,{"v":0,"d":"0.0"},null,null,{"v":0,"d":"0.0"},null,null,{"v":0,"d":"0.0"},null,null,{"v":0,"d":"0.0"},null,null,{"v":0,"d":"0.0"},null,null,{"v":0,"d":"0.0"}]
[{"$f":"T(A365)","v":""}]
[{"$nulls":4},{"$f":"SUM(E479)","v":{"v":1,"d":"1.0"}},null,{"$f":"SUM(G479)","v":{"v":0,"d":"0.0"}},null,null,{"$f":"SUM((J479+M479+P479)/3)","v":{"v":0,"d":"0.0"}},{"$nulls":8},{"$f":"SUM(((S479*3)+V479+Y479)/5)","v":{"v":0,"d":"0.0"}}]
[]
[{"$f":"T(A477)","v":"Cyber Attack"},{"$nulls":3},"Threat",null,"Criticality",null,null,"Vulnerability",{"$nulls":8},"Consequence",{"$nulls":8},{"$f":"SUM(((((J487+S487)/2)*G487)*E487))","v":0}]
[{"$nulls":9},"Exposure",null,null,"Protective Measures",null,null,"Robustness/Resilience",null,null,"Human",null,null,"Economic",null,null,"Psychological"]
[{"$f":"T(A370)","v":"Major Line Stations"},null,{"$f":"T(C370)","v":"LR"},{"$f":"SUM(D370)","v":3},{"v":1,"d":"1.0"},null,{"$f":"SUM(G370)","v":{"v":0,"d":"0.0"}},null,null,{"v":0,"d":"0.0"},null,null,{"v":0,"d":"0.0"},null,null,{"v":0,"d":"0.0"},null,null,{"v":0,"d":"0.0"},null,null,{"v":0,"d":"0.0"},null,null,{"v":0,"d":"0.0"}]
[{"$f":"T(A371)","v":""}]
[{"$nulls":4},{"$f":"SUM(E485)","v":{"v":1,"d":"1.0"}},null,{"$f":"SUM(G485)","v":{"v":0,"d":"0.0"}},null,null,{"$f":"SUM((J485+M485+P485)/3)","v":{"v":0,"d":"0.0"}},{"$nulls":8},{"$f":"SUM(((S485*3)+V485+Y485)/5)","v":{"v":0,"d":"0.0"}}]
[]
[{"$f":"T(A483)","v":"Cyber Attack"},{"$nulls":3},"Threat",null,"Criticality",null,null,"Vulnerability",{"$nulls":8},"Consequence",{"$nulls":8},{"$f":"SUM(((((J493+S493)/2)*G493)*E493))","v":0}]
[{"$nulls":9},"Exposure",null,null,"Protective Measures",null,null,"Robustness/Resilience",null,null,"Human",null,null,"Economic",null,null,"Psychological"]
[{"$f":"T(A376)","v":"Parking Structures"},null,{"$f":"T(C376)","v":"LR"},{"$f":"SUM(D376)","v":4},{"v":1,"d":"1.0"},null,{"$f":"SUM(G376)","v":{"v":0,"d":"0.0"}},null,null,{"v":0,"d":"0.0"},null,null,{"v":0,"d":"0.0"},null,null,{"v":0,"d":"0.0"},null,null,{"v":0,"d":"0.0"},null,null,{"v":0,"d":"0.0"},null,null,{"v":0,"d":"0.0"}]
[{"$f":"T(A377)","v":""}]
[{"$nulls":4},{"$f":"SUM(E491)","v":{"v":1,"d":"1.0"}},null,{"$f":"SUM(G491)","v":{"v":0,"d":"0.0"}},null,null,{"$f":"SUM((J491+M491+P491)/3)","v":{"v":0,"d":"0.0"}},{"$nulls":8},{"$f":"SUM(((S491*3)+V491+Y491)/5)","v":{"v":0,"d":"0.0"}}]
[]
[{"$f":"T(A489)","v":"Cyber Attack"},{"$nulls":3},"Threat",null,"Criticality",null,null,"Vulnerability",{"$nulls":8},"Consequence",{"$nulls":8},{"$f":"SUM(((((J499+S499)/2)*G499)*E499))","v":0}]
[{"$nulls":9},"Exposure",null,null,"Protective Measures",null,null,"Robustness/Resilience",null,null,"Human",null,null,"Economic",null,null,"Psychological"]
[{"$f":"T(A382)","v":"Consist - Type 1"},null,{"$f":"T(C382)","v":"LR"},{"$f":"SUM(D382)","v":5},{"v":1,"d":"1.0"},null,{"$f":"SUM(G382)","v":{"v":0,"d":"0.0"}},null,null,{"v":0,"d":"0.0"},null,null,{"v":0,"d":"0.0"},null,null,{"v":0,"d":"0.0"},null,null,{"v":0,"d":"0.0"},null,null,{"v":0,"d":"0.0"},null,null,{"v":0,"d":"0.0"}]
[{"$f":"T(A383)","v":""}]
[{"$nulls":4},{"$f":"SUM(E497)","v":{"v":1,"d":"1.0"}},null,{"$f":"SUM(G497)","v":{"v":0,"d":"0.0"}},null,null,{"$f":"SUM((J497+M497+P497)/3)","v":{"v":0,"d":"0.0"}},{"$nulls":8},{"$f":"SUM(((S497*3)+V497+Y497)/5)","v":{"v":0,"d":"0.0"}}]
[]
[{"$f":"T(A495)","v":"Cyber Attack"},{"$nulls":3},"Threat",null,"Criticality",null,null,"Vulnerability",{"$nulls":8},"Consequence",{"$nulls":8},{"$f":"SUM(((((J505+S505)/2)*G505)*E505))","v":0}]
[{"$nulls":9},"Exposure",null,null,"Protective Measures",null,null,"Robustness/Resilience",null,null,"Human",null,null,"Economic",null,null,"Psychological"]
[{"$f":"T(A388)","v":"Consist - Type 2"},null,{"$f":"T(C388)","v":"LR"},{"$f":"SUM(D388)","v":6},{"v":1,"d":"1.0"},null,{"$f":"SUM(G388)","v":{"v":0,"d":"0.0"}},null,null,{"v":0,"d":"0.0"},null,null,{"v":0,"d":"0.0"},null,null,{"v":0,"d":"0.0"},null,null,{"v":0,"d":"0.0"},null,null,{"v":0,"d":"0.0"},null,null,{"v":0,"d":"0.0"}]
[{"$f":"T(A389)","v":""}]
[{"$nulls":4},{"$f":"SUM(E503)","v":{"v":1,"d":"1.0"}},null,{"$f":"SUM(G503)","v":{"v":0,"d":"0.0"}},null,null,{"$f":"SUM((J503+M503+P503)/3)","v":{"v":0,"d":"0.0"}},{"$nulls":8},{"$f":"SUM(((S503*3)+V503+Y503)/5)","v":{"v":0,"d":"0.0"}}]
[]
[{"$f":"T(A501)","v":"Cyber Attack"},{"$nulls":3},"Threat",null,"Criticality",null,null,"Vulnerability",{"$nulls":8},"Consequence",{"$nulls":8},{"$f":"SUM(((((J511+S511)/2)*G511)*E511))","v":0}]
[{"$nulls":9},"Exposure",null,null,"Protective Measures",null,null,"Robustness/Resilience",null,null,"Human",null,null,"Economic",null,null,"Psychological"]
[{"$f":"T(A394)","v":"Primary Control Center"},null,{"$f":"T(C394)","v":"LR"},{"$f":"SUM(D394)","v":7},{"v":1,"d":"1.0"},null,{"$f":"SUM(G394)","v":{"v":0,"d":"0.0"}},null,null,{"v":0,"d":"0.0"},null,null,{"v":0,"d":"0.0"},null,null,{"v":0,"d":"0.0"},null,null,{"v":0,"d":"0.0"},null,null,{"v":0,"d":"0.0"},null,null,{"v":0,"d":"0.0"}]
[{"$f":"T(A395)","v":""}]
[{"$nulls":4},{"$f":"SUM(E509)","v":{"v":1,"d":"1.0"}},null,{"$f":"SUM(G509)","v":{"v":0,"d":"0.0"}},null,null,{"$f":"SUM((J509+M509+P509)/3)","v":{"v":0,"d":"0.0"}},{"$nulls":8},{"$f":"SUM(((S509*3)+V509+Y509)/5)","v":{"v":0,"d":"0.0"}}]
[]
[{"$f":"T(A507)","v":"Cyber Attack"},{"$nulls":3},"Threat",null,"Criticality",null,null,"Vulnerability",{"$nulls":8},"Consequence",{"$nulls":8},{"$f":"SUM(((((J517+S517)/2)*G517)*E517))","v":0}]
[{"$nulls":9},"Exposure",null,null,"Protective Measures",null,null,"Robustness/Resilience",null,null,"Human",null,null,"Economic",null,null,"Psychological"]
[{"$f":"T(A400)","v":"Cyber Systems"},null,{"$f":"T(C400)","v":"LR"},{"$f":"SUM(D400)","v":8},{"v":1,"d":"1.0"},null,{"$f":"SUM(G400)","v":{"v":0,"d":"0.0"}},null,null,{"v":0,"d":"0.0"},null,null,{"v":0,"d":"0.0"},null,null,{"v":0,"d":"0.0"},null,null,{"v":0,"d":"0.0"},null,null,{"v":0,"d":"0.0"},null,null,{"v":0,"d":"0.0"}]
[{"$f":"T(A401)","v":""}]
[{"$nulls":4},{"$f":"SUM(E515)","v":{"v":1,"d":"1.0"}},null,{"$f":"SUM(G515)","v":{"v":0,"d":"0.0"}},null,null,{"$f":"SUM((J515+M515+P515)/3)","v":{"v":0,"d":"0.0"}},{"$nulls":8},{"$f":"SUM(((S515*3)+V515+Y515)/5)","v":{"v":0,"d":"0.0"}}]
[]
[{"$f":"T(A507)","v":"Cyber Attack"},{"$nulls":3},"Threat",null,"Criticality",null,null,"Vulnerability",{"$nulls":8},"Consequence",{"$nulls":8},{"$f":"SUM(((((J523+S523)/2)*G523)*E523))","v":0}]
[{"$nulls":9},"Exposure",null,null,"Protective Measures",null,null,"Robustness/Resilience",null,null,"Human",null,null,"Economic",null,null,"Psychological"]
[{"$f":"T(A406)","v":"Right of Way (ROW)"},null,{"$f":"T(C406)","v":"LR"},{"$f":"SUM(D406)","v":9},{"v":1,"d":"1.0"},null,{"$f":"SUM(G406)","v":{"v":0,"d":"0.0"}},null,null,{"v":0,"d":"0.0"},null,null,{"v":0,"d":"0.0"},null,null,{"v":0,"d":"0.0"},null,null,{"v":0,"d":"0.0"},null,null,{"v":0,"d":"0.0"},null,null,{"v":0,"d":"0.0"}]
[{"$f":"T(A407)","v":""}]
[{"$nulls":4},{"$f":"SUM(E521)","v":{"v":1,"d":"1.0"}},null,{"$f":"SUM(G521)","v":{"v":0,"d":"0.0"}},null,null,{"$f":"SUM((J521+M521+P521)/3)","v":{"v":0,"d":"0.0"}},{"$nulls":8},{"$f":"SUM(((S521*3)+V521+Y521)/5)","v":{"v":0,"d":"0.0"}}]
[]
[{"$f":"T(A507)","v":"Cyber Attack"},{"$nulls":3},"Threat",null,"Criticality",null,null,"Vulnerability",{"$nulls":8},"Consequence",{"$nulls":8},{"$f":"SUM(((((J529+S529)/2)*G529)*E529))","v":0}]
[{"$nulls":9},"Exposure",null,null,"Protective Measures",null,null,"Robustness/Resilience",null,null,"Human",null,null,"Economic",null,null,"Psychological"]
[{"$f":"T(A412)","v":"Signals & PTC"},null,{"$f":"T(C412)","v":"LR"},{"$f":"SUM(D412)","v":10},{"v":1,"d":"1.0"},null,{"$f":"SUM(G412)","v":{"v":0,"d":"0.0"}},null,null,{"v":0,"d":"0.0"},null,null,{"v":0,"d":"0.0"},null,null,{"v":0,"d":"0.0"},null,null,{"v":0,"d":"0.0"},null,null,{"v":0,"d":"0.0"},null,null,{"v":0,"d":"0.0"}]
[{"$f":"T(A413)","v":""}]
[{"$nulls":4},{"$f":"SUM(E527)","v":{"v":1,"d":"1.0"}},null,{"$f":"SUM(G527)","v":{"v":0,"d":"0.0"}},null,null,{"$f":"SUM((J527+M527+P527)/3)","v":{"v":0,"d":"0.0"}},{"$nulls":8},{"$f":"SUM(((S527*3)+V527+Y527)/5)","v":{"v":0,"d":"0.0"}}]
[]
[{"$f":"T(A525)","v":"Cyber Attack"},{"$nulls":3},"Threat",null,"Criticality",null,null,"Vulnerability",{"$nulls":8},"Consequence",{"$nulls":8},{"$f":"SUM(((((J535+S535)/2)*G535)*E535))","v":0}]
[{"$nulls":9},"Exposure",null,null,"Protective Measures",null,null,"Robustness/Resilience",null,null,"Human",null,null,"Economic",null,null,"Psychological"]
[{"$f":"T(A418)","v":"Switches "},null,{"$f":"T(C418)","v":"LR"},{"$f":"SUM(D418)","v":11},{"v":1,"d":"1.0"},null,{"$f":"SUM(G418)","v":{"v":0,"d":"0.0"}},null,null,{"v":0,"d":"0.0"},null,null,{"v":0,"d":"0.0"},null,null,{"v":0,"d":"0.0"},null,null,{"v":0,"d":"0.0"},null,null,{"v":0,"d":"0.0"},null,null,{"v":0,"d":"0.0"}]
[{"$f":"T(A419)","v":""}]
[{"$nulls":4},{"$f":"SUM(E533)","v":{"v":1,"d":"1.0"}},null,{"$f":"SUM(G533)","v":{"v":0,"d":"0.0"}},null,null,{"$f":"SUM((J533+M533+P533)/3)","v":{"v":0,"d":"0.0"}},{"$nulls":8},{"$f":"SUM(((S533*3)+V533+Y533)/5)","v":{"v":0,"d":"0.0"}}]
[]
[{"$f":"T(A531)","v":"Cyber Attack"},{"$nulls":3},"Threat",null,"Criticality",null,null,"Vulnerability",{"$nulls":8},"Consequence",{"$nulls":8},{"$f":"SUM(((((J541+S541)/2)*G541)*E541))","v":0}]
[{"$nulls":9},"Exposure",null,null,"Protective Measures",null,null,"Robustness/Resilience",null,null,"Human",null,null,"Economic",null,null,"Psychological"]
[{"$f":"T(A424)","v":"Bridges"},null,{"$f":"T(C424)","v":"LR"},{"$f":"SUM(D424)","v":12},{"v":1,"d":"1.0"},null,{"$f":"SUM(G424)","v":{"v":0,"d":"0.0"}},null,null,{"v":0,"d":"0.0"},null,null,{"v":0,"d":"0.0"},null,null,{"v":0,"d":"0.0"},null,null,{"v":0,"d":"0.0"},null,null,{"v":0,"d":"0.0"},null,null,{"v":0,"d":"0.0"}]
[{"$f":"T(A425)","v":""}]
[{"$nulls":4},{"$f":"SUM(E539)","v":{"v":1,"d":"1.0"}},null,{"$f":"SUM(G539)","v":{"v":0,"d":"0.0"}},null,null,{"$f":"SUM((J539+M539+P539)/3)","v":{"v":0,"d":"0.0"}},{"$nulls":8},{"$f":"SUM(((S539*3)+V539+Y539)/5)","v":{"v":0,"d":"0.0"}}]
[]
[{"$f":"T(A537)","v":"Cyber Attack"},{"$nulls":3},"Threat",null,"Criticality",null,null,"Vulnerability",{"$nulls":8},"Consequence",{"$nulls":8},{"$f":"SUM(((((J547+S547)/2)*G547)*E547))","v":0}]
[{"$nulls":9},"Exposure",null,null,"Protective Measures",null,null,"Robustness/Resilience",null,null,"Human",null,null,"Economic",null,null,"Psychological"]
[{"$f":"T(A430)","v":"Elevated Track"},null,{"$f":"T(C430)","v":"LR"},{"$f":"SUM(D430)","v":13},{"v":1,"d":"1.0"},null,{"$f":"SUM(G430)","v":{"v":0,"d":"0.0"}},null,null,{"v":0,"d":"0.0"},null,null,{"v":0,"d":"0.0"},null,null,{"v":0,"d":"0.0"},null,null,{"v":0,"d":"0.0"},null,null,{"v":0,"d":"0.0"},null,null,{"v":0,"d":"0.0"}]
[{"$f":"T(A431)","v":""}]
[{"$nulls":4},{"$f":"SUM(E545)","v":{"v":1,"d":"1.0"}},null,{"$f":"SUM(G545)","v":{"v":0,"d":"0.0"}},null,null,{"$f":"SUM((J545+M545+P545)/3)","v":{"v":0,"d":"0.0"}},{"$nulls":8},{"$f":"SUM(((S545*3)+V545+Y545)/5)","v":{"v":0,"d":"0.0"}}]
[]
[{"$f":"T(A543)","v":"Cyber Attack"},{"$nulls":3},"Threat",null,"Criticality",null,null,"Vulnerability",{"$nulls":8},"Consequence",{"$nulls":8},{"$f":"SUM(((((J553+S553)/2)*G553)*E553))","v":0}]
[{"$nulls":9},"Exposure",null,null,"Protective Measures",null,null,"Robustness/Resilience",null,null,"Human",null,null,"Economic",null,null,"Psychological"]
[{"$f":"T(A436)","v":"Tunnels "},null,{"$f":"T(C436)","v":"LR"},{"$f":"SUM(D436)","v":14},{"v":1,"d":"1.0"},null,{"$f":"SUM(G436)","v":{"v":0,"d":"0.0"}},null,null,{"v":0,"d":"0.0"},null,null,{"v":0,"d":"0.0"},null,null,{"v":0,"d":"0.0"},null,null,{"v":0,"d":"0.0"},null,null,{"v":0,"d":"0.0"},null,null,{"v":0,"d":"0.0"}]
[{"$f":"T(A437)","v":""}]
[{"$nulls":4},{"$f":"SUM(E551)","v":{"v":1,"d":"1.0"}},null,{"$f":"SUM(G551)","v":{"v":0,"d":"0.0"}},null,null,{"$f":"SUM((J551+M551+P551)/3)","v":{"v":0,"d":"0.0"}},{"$nulls":8},{"$f":"SUM(((S551*3)+V551+Y551)/5)","v":{"v":0,"d":"0.0"}}]
[]
[{"$f":"T(A549)","v":"Cyber Attack"},{"$nulls":3},"Threat",null,"Criticality",null,null,"Vulnerability",{"$nulls":8},"Consequence",{"$nulls":8},{"$f":"SUM(((((J559+S559)/2)*G559)*E559))","v":0}]
[{"$nulls":9},"Exposure",null,null,"Protective Measures",null,null,"Robustness/Resilience",null,null,"Human",null,null,"Economic",null,null,"Psychological"]
[{"$f":"T(A442)","v":"Choke Points on ROW"},null,{"$f":"T(C442)","v":"LR"},{"$f":"SUM(D442)","v":15},{"v":1,"d":"1.0"},null,{"$f":"SUM(G442)","v":{"v":0,"d":"0.0"}},null,null,{"v":0,"d":"0.0"},null,null,{"v":0,"d":"0.0"},null,null,{"v":0,"d":"0.0"},null,null,{"v":0,"d":"0.0"},null,null,{"v":0,"d":"0.0"},null,null,{"v":0,"d":"0.0"}]
[{"$f":"T(A443)","v":""}]
[{"$nulls":4},{"$f":"SUM(E557)","v":{"v":1,"d":"1.0"}},null,{"$f":"SUM(G557)","v":{"v":0,"d":"0.0"}},null,null,{"$f":"SUM((J557+M557+P557)/3)","v":{"v":0,"d":"0.0"}},{"$nulls":8},{"$f":"SUM(((S557*3)+V557+Y557)/5)","v":{"v":0,"d":"0.0"}}]
[]
[{"$f":"T(A555)","v":"Cyber Attack"},{"$nulls":3},"Threat",null,"Criticality",null,null,"Vulnerability",{"$nulls":8},"Consequence",{"$nulls":8},{"$f":"SUM(((((J565+S565)/2)*G565)*E565))","v":0}]
[{"$nulls":9},"Exposure",null,null,"Protective Measures",null,null,"Robustness/Resilience",null,null,"Human",null,null,"Economic",null,null,"Psychological"]
[{"$f":"T(A448)","v":"Fire Suppression"},null,{"$f":"T(C448)","v":"LR"},{"$f":"SUM(D448)","v":16},{"v":1,"d":"1.0"},null,{"$f":"SUM(G448)","v":{"v":0,"d":"0.0"}},null,null,{"v":0,"d":"0.0"},null,null,{"v":0,"d":"0.0"},null,null,{"v":0,"d":"0.0"},null,null,{"v":0,"d":"0.0"},null,null,{"v":0,"d":"0.0"},null,null,{"v":0,"d":"0.0"}]
[{"$f":"T(A449)","v":""}]
[{"$nulls":4},{"$f":"SUM(E563)","v":{"v":1,"d":"1.0"}},null,{"$f":"SUM(G563)","v":{"v":0,"d":"0.0"}},null,null,{"$f":"SUM((J563+M563+P563)/3)","v":{"v":0,"d":"0.0"}},{"$nulls":8},{"$f":"SUM(((S563*3)+V563+Y563)/5)","v":{"v":0,"d":"0.0"}}]
[]
[{"$f":"T(A561)","v":"Cyber Attack"},{"$nulls":3},"Threat",null,"Criticality",null,null,"Vulnerability",{"$nulls":8},"Consequence",{"$nulls":8},{"$f":"SUM(((((J571+S571)/2)*G571)*E571))","v":0}]
[{"$nulls":9},"Exposure",null,null,"Protective Measures",null,null,"Robustness/Resilience",null,null,"Human",null,null,"Economic",null,null,"Psychological"]
[{"$f":"T(A454)","v":"Power Generation/Distribution"},null,{"$f":"T(C454)","v":"LR"},{"$f":"SUM(D454)","v":17},{"v":1,"d":"1.0"},null,{"$f":"SUM(G454)","v":{"v":0,"d":"0.0"}},null,null,{"v":0,"d":"0.0"},null,null,{"v":0,"d":"0.0"},null,null,{"v":0,"d":"0.0"},null,null,{"v":0,"d":"0.0"},null,null,{"v":0,"d":"0.0"},null,null,{"v":0,"d":"0.0"}]
[{"$f":"T(A455)","v":""}]
[{"$nulls":4},{"$f":"SUM(E569)","v":{"v":1,"d":"1.0"}},null,{"$f":"SUM(G569)","v":{"v":0,"d":"0.0"}},null,null,{"$f":"SUM((J569+M569+P569)/3)","v":{"v":0,"d":"0.0"}},{"$nulls":8},{"$f":"SUM(((S569*3)+V569+Y569)/5)","v":{"v":0,"d":"0.0"}}]
[]
[{"$f":"T(A567)","v":"Cyber Attack"},{"$nulls":3},"Threat",null,"Criticality",null,null,"Vulnerability",{"$nulls":8},"Consequence",{"$nulls":8},{"$f":"SUM(((((J577+S577)/2)*G577)*E577))","v":0}]
[{"$nulls":9},"Exposure",null,null,"Protective Measures",null,null,"Robustness/Resilience",null,null,"Human",null,null,"Economic",null,null,"Psychological"]
[{"$f":"T(A460)","v":"Yards"},null,{"$f":"T(C460)","v":"LR"},{"$f":"SUM(D460)","v":18},{"v":1,"d":"1.0"},null,{"$f":"SUM(G460)","v":{"v":0,"d":"0.0"}},null,null,{"v":0,"d":"0.0"},null,null,{"v":0,"d":"0.0"},null,null,{"v":0,"d":"0.0"},null,null,{"v":0,"d":"0.0"},null,null,{"v":0,"d":"0.0"},null,null,{"v":0,"d":"0.0"}]
[{"$f":"T(A461)","v":""}]
[{"$nulls":4},{"$f":"SUM(E575)","v":{"v":1,"d":"1.0"}},null,{"$f":"SUM(G575)","v":{"v":0,"d":"0.0"}},null,null,{"$f":"SUM((J575+M575+P575)/3)","v":{"v":0,"d":"0.0"}},{"$nulls":8},{"$f":"SUM(((S575*3)+V575+Y575)/5)","v":{"v":0,"d":"0.0"}}]
[]
[{"$f":"T(A573)","v":"Cyber Attack"},{"$nulls":3},"Threat",null,"Criticality",null,null,"Vulnerability",{"$nulls":8},"Consequence",{"$nulls":8},{"$f":"SUM(((((J583+S583)/2)*G583)*E583))","v":0}]
[{"$nulls":9},"Exposure",null,null,"Protective Measures",null,null,"Robustness/Resilience",null,null,"Human",null,null,"Economic",null,null,"Psychological"]
[{"$f":"T(A466)","v":"Maintenance Barns/Facilities"},null,{"$f":"T(C466)","v":"LR"},{"$f":"SUM(D466)","v":19},{"v":1,"d":"1.0"},null,{"$f":"SUM(G466)","v":{"v":0,"d":"0.0"}},null,null,{"v":0,"d":"0.0"},null,null,{"v":0,"d":"0.0"},null,null,{"v":0,"d":"0.0"},null,null,{"v":0,"d":"0.0"},null,null,{"v":0,"d":"0.0"},null,null,{"v":0,"d":"0.0"}]
[{"$f":"T(A467)","v":""}]
[{"$nulls":4},{"$f":"SUM(E581)","v":{"v":1,"d":"1.0"}},null,{"$f":"SUM(G581)","v":{"v":0,"d":"0.0"}},null,null,{"$f":"SUM((J581+M581+P581)/3)","v":{"v":0,"d":"0.0"}},{"$nulls":8},{"$f":"SUM(((S581*3)+V581+Y581)/5)","v":{"v":0,"d":"0.0"}}]
[]
[{"$f":"T(Definitions!D24)","v":"Natural Disaster"}]
[{"$f":"T(A585)","v":"Natural Disaster"},{"$nulls":3},"Threat",null,"Criticality",null,null,"Vulnerability",{"$nulls":8},"Consequence",{"$nulls":8},{"$f":"SUM(((((J590+S590)/2)*G590)*E590))","v":0}]
[{"$nulls":9},"Exposure",null,null,"Protective Measures",null,null,"Robustness/Resilience",null,null,"Human",null,null,"Economic",null,null,"Psychological"]
[{"$f":"T(A473)","v":"Headquarters Building"},null,{"$f":"T(C473)","v":"LR"},{"$f":"SUM(D473)","v":1},{"v":1,"d":"1.0"},null,{"$f":"SUM(G473)","v":{"v":0,"d":"0.0"}},null,null,{"v":0,"d":"0.0"},null,null,{"v":0,"d":"0.0"},null,null,{"v":0,"d":"0.0"},null,null,{"v":0,"d":"0.0"},null,null,{"v":0,"d":"0.0"},null,null,{"v":0,"d":"0.0"}]
[{"$f":"T(A474)","v":""}]
[{"$nulls":4},{"$f":"SUM(E588)","v":{"v":1,"d":"1.0"}},null,{"$f":"SUM(G588)","v":{"v":0,"d":"0.0"}},null,null,{"$f":"SUM((J588+M588+P588)/3)","v":{"v":0,"d":"0.0"}},{"$nulls":8},{"$f":"SUM(((S588*3)+V588+Y588)/5)","v":{"v":0,"d":"0.0"}}]
[]
[{"$f":"T(A585)","v":"Natural Disaster"},{"$nulls":3},"Threat",null,"Criticality",null,null,"Vulnerability",{"$nulls":8},"Consequence",{"$nulls":8},{"$f":"SUM(((((J596+S596)/2)*G596)*E596))","v":0}]
[{"$nulls":9},"Exposure",null,null,"Protective Measures",null,null,"Robustness/Resilience",null,null,"Human",null,null,"Economic",null,null,"Psychological"]
[{"$f":"T(A479)","v":"Major Passenger Terminals"},null,{"$f":"T(C479)","v":"LR"},{"$f":"SUM(D479)","v":2},{"v":1,"d":"1.0"},null,{"$f":"SUM(G479)","v":{"v":0,"d":"0.0"}},null,null,{"v":0,"d":"0.0"},null,null,{"v":0,"d":"0.0"},null,null,{"v":0,"d":"0.0"},null,null,{"v":0,"d":"0.0"},null,null,{"v":0,"d":"0.0"},null,null,{"v":0,"d":"0.0"}]
[{"$f":"T(A480)","v":""}]
[{"$nulls":4},{"$f":"SUM(E594)","v":{"v":1,"d":"1.0"}},null,{"$f":"SUM(G594)","v":{"v":0,"d":"0.0"}},null,null,{"$f":"SUM((J594+M594+P594)/3)","v":{"v":0,"d":"0.0"}},{"$nulls":8},{"$f":"SUM(((S594*3)+V594+Y594)/5)","v":{"v":0,"d":"0.0"}}]
[]
[{"$f":"T(A592)","v":"Natural Disaster"},{"$nulls":3},"Threat",null,"Criticality",null,null,"Vulnerability",{"$nulls":8},"Consequence",{"$nulls":8},{"$f":"SUM(((((J602+S602)/2)*G602)*E602))","v":0}]
[{"$nulls":9},"Exposure",null,null,"Protective Measures",null,null,"Robustness/Resilience",null,null,"Human",null,null,"Economic",null,null,"Psychological"]
[{"$f":"T(A485)","v":"Major Line Stations"},null,{"$f":"T(C485)","v":"LR"},{"$f":"SUM(D485)","v":3},{"v":1,"d":"1.0"},null,{"$f":"SUM(G485)","v":{"v":0,"d":"0.0"}},null,null,{"v":0,"d":"0.0"},null,null,{"v":0,"d":"0.0"},null,null,{"v":0,"d":"0.0"},null,null,{"v":0,"d":"0.0"},null,null,{"v":0,"d":"0.0"},null,null,{"v":0,"d":"0.0"}]
[{"$f":"T(A486)","v":""}]
[{"$nulls":4},{"$f":"SUM(E600)","v":{"v":1,"d":"1.0"}},null,{"$f":"SUM(G600)","v":{"v":0,"d":"0.0"}},null,null,{"$f":"SUM((J600+M600+P600)/3)","v":{"v":0,"d":"0.0"}},{"$nulls":8},{"$f":"SUM(((S600*3)+V600+Y600)/5)","v":{"v":0,"d":"0.0"}}]
[]
[{"$f":"T(A598)","v":"Natural Disaster"},{"$nulls":3},"Threat",null,"Criticality",null,null,"Vulnerability",{"$nulls":8},"Consequence",{"$nulls":8},{"$f":"SUM(((((J608+S608)/2)*G608)*E608))","v":0}]
[{"$nulls":9},"Exposure",null,null,"Protective Measures",null,null,"Robustness/Resilience",null,null,"Human",null,null,"Economic",null,null,"Psychological"]
[{"$f":"T(A491)","v":"Parking Structures"},null,{"$f":"T(C491)","v":"LR"},{"$f":"SUM(D491)","v":4},{"v":1,"d":"1.0"},null,{"$f":"SUM(G491)","v":{"v":0,"d":"0.0"}},null,null,{"v":0,"d":"0.0"},null,null,{"v":0,"d":"0.0"},null,null,{"v":0,"d":"0.0"},null,null,{"v":0,"d":"0.0"},null,null,{"v":0,"d":"0.0"},null,null,{"v":0,"d":"0.0"}]
[{"$f":"T(A492)","v":""}]
[{"$nulls":4},{"$f":"SUM(E606)","v":{"v":1,"d":"1.0"}},null,{"$f":"SUM(G606)","v":{"v":0,"d":"0.0"}},null,null,{"$f":"SUM((J606+M606+P606)/3)","v":{"v":0,"d":"0.0"}},{"$nulls":8},{"$f":"SUM(((S606*3)+V606+Y606)/5)","v":{"v":0,"d":"0.0"}}]
[]
[{"$f":"T(A604)","v":"Natural Disaster"},{"$nulls":3},"Threat",null,"Criticality",null,null,"Vulnerability",{"$nulls":8},"Consequence",{"$nulls":8},{"$f":"SUM(((((J614+S614)/2)*G614)*E614))","v":0}]
[{"$nulls":9},"Exposure",null,null,"Protective Measures",null,null,"Robustness/Resilience",null,null,"Human",null,null,"Economic",null,null,"Psychological"]
[{"$f":"T(A497)","v":"Consist - Type 1"},null,{"$f":"T(C497)","v":"LR"},{"$f":"SUM(D497)","v":5},{"v":1,"d":"1.0"},null,{"$f":"SUM(G497)","v":{"v":0,"d":"0.0"}},null,null,{"v":0,"d":"0.0"},null,null,{"v":0,"d":"0.0"},null,null,{"v":0,"d":"0.0"},null,null,{"v":0,"d":"0.0"},null,null,{"v":0,"d":"0.0"},null,null,{"v":0,"d":"0.0"}]
[{"$f":"T(A498)","v":""}]
[{"$nulls":4},{"$f":"SUM(E612)","v":{"v":1,"d":"1.0"}},null,{"$f":"SUM(G612)","v":{"v":0,"d":"0.0"}},null,null,{"$f":"SUM((J612+M612+P612)/3)","v":{"v":0,"d":"0.0"}},{"$nulls":8},{"$f":"SUM(((S612*3)+V612+Y612)/5)","v":{"v":0,"d":"0.0"}}]
[]
[{"$f":"T(A610)","v":"Natural Disaster"},{"$nulls":3},"Threat",null,"Criticality",null,null,"Vulnerability",{"$nulls":8},"Consequence",{"$nulls":8},{"$f":"SUM(((((J620+S620)/2)*G620)*E620))","v":0}]
[{"$nulls":9},"Exposure",null,null,"Protective Measures",null,null,"Robustness/Resilience",null,null,"Human",null,null,"Economic",null,null,"Psychological"]
[{"$f":"T(A503)","v":"Consist - Type 2"},null,{"$f":"T(C503)","v":"LR"},{"$f":"SUM(D503)","v":6},{"v":1,"d":"1.0"},null,{"$f":"SUM(G503)","v":{"v":0,"d":"0.0"}},null,null,{"v":0,"d":"0.0"},null,null,{"v":0,"d":"0.0"},null,null,{"v":0,"d":"0.0"},null,null,{"v":0,"d":"0.0"},null,null,{"v":0,"d":"0.0"},null,null,{"v":0,"d":"0.0"}]
[{"$f":"T(A504)","v":""}]
[{"$nulls":4},{"$f":"SUM(E618)","v":{"v":1,"d":"1.0"}},null,{"$f":"SUM(G618)","v":{"v":0,"d":"0.0"}},null,null,{"$f":"SUM((J618+M618+P618)/3)","v":{"v":0,"d":"0.0"}},{"$nulls":8},{"$f":"SUM(((S618*3)+V618+Y618)/5)","v":{"v":0,"d":"0.0"}}]
[]
[{"$f":"T(A616)","v":"Natural Disaster"},{"$nulls":3},"Threat",null,"Criticality",null,null,"Vulnerability",{"$nulls":8},"Consequence",{"$nulls":8},{"$f":"SUM(((((J626+S626)/2)*G626)*E626))","v":0}]
[{"$nulls":9},"Exposure",null,null,"Protective Measures",null,null,"Robustness/Resilience",null,null,"Human",null,null,"Economic",null,null,"Psychological"]
[{"$f":"T(A509)","v":"Primary Control Center"},null,{"$f":"T(C509)","v":"LR"},{"$f":"SUM(D509)","v":7},{"v":1,"d":"1.0"},null,{"$f":"SUM(G509)","v":{"v":0,"d":"0.0"}},null,null,{"v":0,"d":"0.0"},null,null,{"v":0,"d":"0.0"},null,null,{"v":0,"d":"0.0"},null,null,{"v":0,"d":"0.0"},null,null,{"v":0,"d":"0.0"},null,null,{"v":0,"d":"0.0"}]
[{"$f":"T(A510)","v":""}]
[{"$nulls":4},{"$f":"SUM(E624)","v":{"v":1,"d":"1.0"}},null,{"$f":"SUM(G624)","v":{"v":0,"d":"0.0"}},null,null,{"$f":"SUM((J624+M624+P624)/3)","v":{"v":0,"d":"0.0"}},{"$nulls":8},{"$f":"SUM(((S624*3)+V624+Y624)/5)","v":{"v":0,"d":"0.0"}}]
[]
[{"$f":"T(A622)","v":"Natural Disaster"},{"$nulls":3},"Threat",null,"Criticality",null,null,"Vulnerability",{"$nulls":8},"Consequence",{"$nulls":8},{"$f":"SUM(((((J632+S632)/2)*G632)*E632))","v":0}]
[{"$nulls":9},"Exposure",null,null,"Protective Measures",null,null,"Robustness/Resilience",null,null,"Human",null,null,"Economic",null,null,"Psychological"]
[{"$f":"T(A515)","v":"Cyber Systems"},null,{"$f":"T(C515)","v":"LR"},{"$f":"SUM(D515)","v":8},{"v":1,"d":"1.0"},null,{"$f":"SUM(G515)","v":{"v":0,"d":"0.0"}},null,null,{"v":0,"d":"0.0"},null,null,{"v":0,"d":"0.0"},null,null,{"v":0,"d":"0.0"},null,null,{"v":0,"d":"0.0"},null,null,{"v":0,"d":"0.0"},null,null,{"v":0,"d":"0.0"}]
[{"$f":"T(A516)","v":""}]
[{"$nulls":4},{"$f":"SUM(E630)","v":{"v":1,"d":"1.0"}},null,{"$f":"SUM(G630)","v":{"v":0,"d":"0.0"}},null,null,{"$f":"SUM((J630+M630+P630)/3)","v":{"v":0,"d":"0.0"}},{"$nulls":8},{"$f":"SUM(((S630*3)+V630+Y630)/5)","v":{"v":0,"d":"0.0"}}]
[]
[{"$f":"T(A622)","v":"Natural Disaster"},{"$nulls":3},"Threat",null,"Criticality",null,null,"Vulnerability",{"$nulls":8},"Consequence",{"$nulls":8},{"$f":"SUM(((((J638+S638)/2)*G638)*E638))","v":0}]
[{"$nulls":9},"Exposure",null,null,"Protective Measures",null,null,"Robustness/Resilience",null,null,"Human",null,null,"Economic",null,null,"Psychological"]
[{"$f":"T(A521)","v":"Right of Way (ROW)"},null,{"$f":"T(C521)","v":"LR"},{"$f":"SUM(D521)","v":9},{"v":1,"d":"1.0"},null,{"$f":"SUM(G521)","v":{"v":0,"d":"0.0"}},null,null,{"v":0,"d":"0.0"},null,null,{"v":0,"d":"0.0"},null,null,{"v":0,"d":"0.0"},null,null,{"v":0,"d":"0.0"},null,null,{"v":0,"d":"0.0"},null,null,{"v":0,"d":"0.0"}]
[{"$f":"T(A522)","v":""}]
[{"$nulls":4},{"$f":"SUM(E636)","v":{"v":1,"d":"1.0"}},null,{"$f":"SUM(G636)","v":{"v":0,"d":"0.0"}},null,null,{"$f":"SUM((J636+M636+P636)/3)","v":{"v":0,"d":"0.0"}},{"$nulls":8},{"$f":"SUM(((S636*3)+V636+Y636)/5)","v":{"v":0,"d":"0.0"}}]
[]
[{"$f":"T(A622)","v":"Natural Disaster"},{"$nulls":3},"Threat",null,"Criticality",null,null,"Vulnerability",{"$nulls":8},"Consequence",{"$nulls":8},{"$f":"SUM(((((J644+S644)/2)*G644)*E644))","v":0}]
[{"$nulls":9},"Exposure",null,null,"Protective Measures",null,null,"Robustness/Resilience",null,null,"Human",null,null,"Economic",null,null,"Psychological"]
[{"$f":"T(A527)","v":"Signals & PTC"},null,{"$f":"T(C527)","v":"LR"},{"$f":"SUM(D527)","v":10},{"v":1,"d":"1.0"},null,{"$f":"SUM(G527)","v":{"v":0,"d":"0.0"}},null,null,{"v":0,"d":"0.0"},null,null,{"v":0,"d":"0.0"},null,null,{"v":0,"d":"0.0"},null,null,{"v":0,"d":"0.0"},null,null,{"v":0,"d":"0.0"},null,null,{"v":0,"d":"0.0"}]
[{"$f":"T(A528)","v":""}]
[{"$nulls":4},{"$f":"SUM(E642)","v":{"v":1,"d":"1.0"}},null,{"$f":"SUM(G642)","v":{"v":0,"d":"0.0"}},null,null,{"$f":"SUM((J642+M642+P642)/3)","v":{"v":0,"d":"0.0"}},{"$nulls":8},{"$f":"SUM(((S642*3)+V642+Y642)/5)","v":{"v":0,"d":"0.0"}}]
[]
[{"$f":"T(A640)","v":"Natural Disaster"},{"$nulls":3},"Threat",null,"Criticality",null,null,"Vulnerability",{"$nulls":8},"Consequence",{"$nulls":8},{"$f":"SUM(((((J650+S650)/2)*G650)*E650))","v":0}]
[{"$nulls":9},"Exposure",null,null,"Protective Measures",null,null,"Robustness/Resilience",null,null,"Human",null,null,"Economic",null,null,"Psychological"]
[{"$f":"T(A533)","v":"Switches "},null,{"$f":"T(C533)","v":"LR"},{"$f":"SUM(D533)","v":11},{"v":1,"d":"1.0"},null,{"$f":"SUM(G533)","v":{"v":0,"d":"0.0"}},null,null,{"v":0,"d":"0.0"},null,null,{"v":0,"d":"0.0"},null,null,{"v":0,"d":"0.0"},null,null,{"v":0,"d":"0.0"},null,null,{"v":0,"d":"0.0"},null,null,{"v":0,"d":"0.0"}]
[{"$f":"T(A534)","v":""}]
[{"$nulls":4},{"$f":"SUM(E648)","v":{"v":1,"d":"1.0"}},null,{"$f":"SUM(G648)","v":{"v":0,"d":"0.0"}},null,null,{"$f":"SUM((J648+M648+P648)/3)","v":{"v":0,"d":"0.0"}},{"$nulls":8},{"$f":"SUM(((S648*3)+V648+Y648)/5)","v":{"v":0,"d":"0.0"}}]
[]
[{"$f":"T(A646)","v":"Natural Disaster"},{"$nulls":3},"Threat",null,"Criticality",null,null,"Vulnerability",{"$nulls":8},"Consequence",{"$nulls":8},{"$f":"SUM(((((J656+S656)/2)*G656)*E656))","v":0}]
[{"$nulls":9},"Exposure",null,null,"Protective Measures",null,null,"Robustness/Resilience",null,null,"Human",null,null,"Economic",null,null,"Psychological"]
[{"$f":"T(A539)","v":"Bridges"},null,{"$f":"T(C539)","v":"LR"},{"$f":"SUM(D539)","v":12},{"v":1,"d":"1.0"},null,{"$f":"SUM(G539)","v":{"v":0,"d":"0.0"}},null,null,{"v":0,"d":"0.0"},null,null,{"v":0,"d":"0.0"},null,null,{"v":0,"d":"0.0"},null,null,{"v":0,"d":"0.0"},null,null,{"v":0,"d":"0.0"},null,null,{"v":0,"d":"0.0"}]
[{"$f":"T(A540)","v":""}]
[{"$nulls":4},{"$f":"SUM(E654)","v":{"v":1,"d":"1.0"}},null,{"$f":"SUM(G654)","v":{"v":0,"d":"0.0"}},null,null,{"$f":"SUM((J654+M654+P654)/3)","v":{"v":0,"d":"0.0"}},{"$nulls":8},{"$f":"SUM(((S654*3)+V654+Y654)/5)","v":{"v":0,"d":"0.0"}}]
[]
[{"$f":"T(A652)","v":"Natural Disaster"},{"$nulls":3},"Threat",null,"Criticality",null,null,"Vulnerability",{"$nulls":8},"Consequence",{"$nulls":8},{"$f":"SUM(((((J662+S662)/2)*G662)*E662))","v":0}]
[{"$nulls":9},"Exposure",null,null,"Protective Measures",null,null,"Robustness/Resilience",null,null,"Human",null,null,"Economic",null,null,"Psychological"]
[{"$f":"T(A545)","v":"Elevated Track"},null,{"$f":"T(C545)","v":"LR"},{"$f":"SUM(D545)","v":13},{"v":1,"d":"1.0"},null,{"$f":"SUM(G545)","v":{"v":0,"d":"0.0"}},null,null,{"v":0,"d":"0.0"},null,null,{"v":0,"d":"0.0"},null,null,{"v":0,"d":"0.0"},null,null,{"v":0,"d":"0.0"},null,null,{"v":0,"d":"0.0"},null,null,{"v":0,"d":"0.0"}]
[{"$f":"T(A546)","v":""}]
[{"$nulls":4},{"$f":"SUM(E660)","v":{"v":1,"d":"1.0"}},null,{"$f":"SUM(G660)","v":{"v":0,"d":"0.0"}},null,null,{"$f":"SUM((J660+M660+P660)/3)","v":{"v":0,"d":"0.0"}},{"$nulls":8},{"$f":"SUM(((S660*3)+V660+Y660)/5)","v":{"v":0,"d":"0.0"}}]
[]
[{"$f":"T(A658)","v":"Natural Disaster"},{"$nulls":3},"Threat",null,"Criticality",null,null,"Vulnerability",{"$nulls":8},"Consequence",{"$nulls":8},{"$f":"SUM(((((J668+S668)/2)*G668)*E668))","v":0}]
[{"$nulls":9},"Exposure",null,null,"Protective Measures",null,null,"Robustness/Resilience",null,null,"Human",null,null,"Economic",null,null,"Psychological"]
[{"$f":"T(A551)","v":"Tunnels "},null,{"$f":"T(C551)","v":"LR"},{"$f":"SUM(D551)","v":14},{"v":1,"d":"1.0"},null,{"$f":"SUM(G551)","v":{"v":0,"d":"0.0"}},null,null,{"v":0,"d":"0.0"},null,null,{"v":0,"d":"0.0"},null,null,{"v":0,"d":"0.0"},null,null,{"v":0,"d":"0.0"},null,null,{"v":0,"d":"0.0"},null,null,{"v":0,"d":"0.0"}]
[{"$f":"T(A552)","v":""}]
[{"$nulls":4},{"$f":"SUM(E666)","v":{"v":1,"d":"1.0"}},null,{"$f":"SUM(G666)","v":{"v":0,"d":"0.0"}},null,null,{"$f":"SUM((J666+M666+P666)/3)","v":{"v":0,"d":"0.0"}},{"$nulls":8},{"$f":"SUM(((S666*3)+V666+Y666)/5)","v":{"v":0,"d":"0.0"}}]
[]
[{"$f":"T(A664)","v":"Natural Disaster"},{"$nulls":3},"Threat",null,"Criticality",null,null,"Vulnerability",{"$nulls":8},"Consequence",{"$nulls":8},{"$f":"SUM(((((J674+S674)/2)*G674)*E674))","v":0}]
[{"$nulls":9},"Exposure",null,null,"Protective Measures",null,null,"Robustness/Resilience",null,null,"Human",null,null,"Economic",null,null,"Psychological"]
[{"$f":"T(A557)","v":"Choke Points on ROW"},null,{"$f":"T(C557)","v":"LR"},{"$f":"SUM(D557)","v":15},{"v":1,"d":"1.0"},null,{"$f":"SUM(G557)","v":{"v":0,"d":"0.0"}},null,null,{"v":0,"d":"0.0"},null,null,{"v":0,"d":"0.0"},null,null,{"v":0,"d":"0.0"},null,null,{"v":0,"d":"0.0"},null,null,{"v":0,"d":"0.0"},null,null,{"v":0,"d":"0.0"}]
[{"$f":"T(A558)","v":""}]
[{"$nulls":4},{"$f":"SUM(E672)","v":{"v":1,"d":"1.0"}},null,{"$f":"SUM(G672)","v":{"v":0,"d":"0.0"}},null,null,{"$f":"SUM((J672+M672+P672)/3)","v":{"v":0,"d":"0.0"}},{"$nulls":8},{"$f":"SUM(((S672*3)+V672+Y672)/5)","v":{"v":0,"d":"0.0"}}]
[]
[{"$f":"T(A670)","v":"Natural Disaster"},{"$nulls":3},"Threat",null,"Criticality",null,null,"Vulnerability",{"$nulls":8},"Consequence",{"$nulls":8},{"$f":"SUM(((((J680+S680)/2)*G680)*E680))","v":0}]
[{"$nulls":9},"Exposure",null,null,"Protective Measures",null,null,"Robustness/Resilience",null,null,"Human",null,null,"Economic",null,null,"Psychological"]
[{"$f":"T(A563)","v":"Fire Suppression"},null,{"$f":"T(C563)","v":"LR"},{"$f":"SUM(D563)","v":16},{"v":1,"d":"1.0"},null,{"$f":"SUM(G563)","v":{"v":0,"d":"0.0"}},null,null,{"v":0,"d":"0.0"},null,null,{"v":0,"d":"0.0"},null,null,{"v":0,"d":"0.0"},null,null,{"v":0,"d":"0.0"},null,null,{"v":0,"d":"0.0"},null,null,{"v":0,"d":"0.0"}]
[{"$f":"T(A564)","v":""}]
[{"$nulls":4},{"$f":"SUM(E678)","v":{"v":1,"d":"1.0"}},null,{"$f":"SUM(G678)","v":{"v":0,"d":"0.0"}},null,null,{"$f":"SUM((J678+M678+P678)/3)","v":{"v":0,"d":"0.0"}},{"$nulls":8},{"$f":"SUM(((S678*3)+V678+Y678)/5)","v":{"v":0,"d":"0.0"}}]
[]
[{"$f":"T(A676)","v":"Natural Disaster"},{"$nulls":3},"Threat",null,"Criticality",null,null,"Vulnerability",{"$nulls":8},"Consequence",{"$nulls":8},{"$f":"SUM(((((J686+S686)/2)*G686)*E686))","v":0}]
[{"$nulls":9},"Exposure",null,null,"Protective Measures",null,null,"Robustness/Resilience",null,null,"Human",null,null,"Economic",null,null,"Psychological"]
[{"$f":"T(A569)","v":"Power Generation/Distribution"},null,{"$f":"T(C569)","v":"LR"},{"$f":"SUM(D569)","v":17},{"v":1,"d":"1.0"},null,{"$f":"SUM(G569)","v":{"v":0,"d":"0.0"}},null,null,{"v":0,"d":"0.0"},null,null,{"v":0,"d":"0.0"},null,null,{"v":0,"d":"0.0"},null,null,{"v":0,"d":"0.0"},null,null,{"v":0,"d":"0.0"},null,null,{"v":0,"d":"0.0"}]
[{"$f":"T(A570)","v":""}]
[{"$nulls":4},{"$f":"SUM(E684)","v":{"v":1,"d":"1.0"}},null,{"$f":"SUM(G684)","v":{"v":0,"d":"0.0"}},null,null,{"$f":"SUM((J684+M684+P684)/3)","v":{"v":0,"d":"0.0"}},{"$nulls":8},{"$f":"SUM(((S684*3)+V684+Y684)/5)","v":{"v":0,"d":"0.0"}}]
[]
[{"$f":"T(A682)","v":"Natural Disaster"},{"$nulls":3},"Threat",null,"Criticality",null,null,"Vulnerability",{"$nulls":8},"Consequence",{"$nulls":8},{"$f":"SUM(((((J692+S692)/2)*G692)*E692))","v":0}]
[{"$nulls":9},"Exposure",null,null,"Protective Measures",null,null,"Robustness/Resilience",null,null,"Human",null,null,"Economic",null,null,"Psychological"]
[{"$f":"T(A575)","v":"Yards"},null,{"$f":"T(C575)","v":"LR"},{"$f":"SUM(D575)","v":18},{"v":1,"d":"1.0"},null,{"$f":"SUM(G575)","v":{"v":0,"d":"0.0"}},null,null,{"v":0,"d":"0.0"},null,null,{"v":0,"d":"0.0"},null,null,{"v":0,"d":"0.0"},null,null,{"v":0,"d":"0.0"},null,null,{"v":0,"d":"0.0"},null,null,{"v":0,"d":"0.0"}]
[{"$f":"T(A576)","v":""}]
[{"$nulls":4},{"$f":"SUM(E690)","v":{"v":1,"d":"1.0"}},null,{"$f":"SUM(G690)","v":{"v":0,"d":"0.0"}},null,null,{"$f":"SUM((J690+M690+P690)/3)","v":{"v":0,"d":"0.0"}},{"$nulls":8},{"$f":"SUM(((S690*3)+V690+Y690)/5)","v":{"v":0,"d":"0.0"}}]
[]
[{"$f":"T(A688)","v":"Natural Disaster"},{"$nulls":3},"Threat",null,"Criticality",null,null,"Vulnerability",{"$nulls":8},"Consequence",{"$nulls":8},{"$f":"SUM(((((J698+S698)/2)*G698)*E698))","v":0}]
[{"$nulls":9},"Exposure",null,null,"Protective Measures",null,null,"Robustness/Resilience",null,null,"Human",null,null,"Economic",null,null,"Psychological"]
[{"$f":"T(A581)","v":"Maintenance Barns/Facilities"},null,{"$f":"T(C581)","v":"LR"},{"$f":"SUM(D581)","v":19},{"v":1,"d":"1.0"},null,{"$f":"SUM(G581)","v":{"v":0,"d":"0.0"}},null,null,{"v":0,"d":"0.0"},null,null,{"v":0,"d":"0.0"},null,null,{"v":0,"d":"0.0"},null,null,{"v":0,"d":"0.0"},null,null,{"v":0,"d":"0.0"},null,null,{"v":0,"d":"0.0"}]
[{"$f":"T(A582)","v":""}]
[{"$nulls":4},{"$f":"SUM(E696)","v":{"v":1,"d":"1.0"}},null,{"$f":"SUM(G696)","v":{"v":0,"d":"0.0"}},null,null,{"$f":"SUM((J696+M696+P696)/3)","v":{"v":0,"d":"0.0"}},{"$nulls":8},{"$f":"SUM(((S696*3)+V696+Y696)/5)","v":{"v":0,"d":"0.0"}}]
[]
[{"$f":"T(Definitions!D25)","v":"Industrial Disaster "}]
[{"$f":"T(A700)","v":"Industrial Disaster "},{"$nulls":3},"Threat",null,"Criticality",null,null,"Vulnerability",{"$nulls":8},"Consequence",{"$nulls":8},{"$f":"SUM(((((J705+S705)/2)*G705)*E705))","v":0}]
[{"$nulls":9},"Exposure",null,null,"Protective Measures",null,null,"Robustness/Resilience",null,null,"Human",null,null,"Economic",null,null,"Psychological"]
[{"$f":"T(A13)","v":"Headquarters Building"},null,{"$f":"T(C13)","v":"LR"},{"$f":"SUM(D13)","v":1},{"v":1,"d":"1.0"},null,{"$f":"SUM(G13)","v":{"v":0,"d":"0.0"}},null,null,{"v":0,"d":"0.0"},null,null,{"v":0,"d":"0.0"},null,null,{"v":0,"d":"0.0"},null,null,{"v":0,"d":"0.0"},null,null,{"v":0,"d":"0.0"},null,null,{"v":0,"d":"0.0"}]
[{"$f":"T(A14)","v":""}]
[{"$nulls":4},{"$f":"SUM(E703)","v":{"v":1,"d":"1.0"}},null,{"$f":"SUM(G703)","v":{"v":0,"d":"0.0"}},null,null,{"$f":"SUM((J703+M703+P703)/3)","v":{"v":0,"d":"0.0"}},{"$nulls":8},{"$f":"SUM(((S703*3)+V703+Y703)/5)","v":{"v":0,"d":"0.0"}}]
[]
[{"$f":"T(A700)","v":"Industrial Disaster "},{"$nulls":3},"Threat",null,"Criticality",null,null,"Vulnerability",{"$nulls":8},"Consequence",{"$nulls":8},{"$f":"SUM(((((J711+S711)/2)*G711)*E711))","v":0}]
[{"$nulls":9},"Exposure",null,null,"Protective Measures",null,null,"Robustness/Resilience",null,null,"Human",null,null,"Economic",null,null,"Psychological"]
[{"$f":"T(A19)","v":"Major Passenger Terminals"},null,{"$f":"T(C19)","v":"LR"},{"$f":"SUM(D19)","v":2},{"v":1,"d":"1.0"},null,{"$f":"SUM(G19)","v":{"v":0,"d":"0.0"}},null,null,{"v":0,"d":"0.0"},null,null,{"v":0,"d":"0.0"},null,null,{"v":0,"d":"0.0"},null,null,{"v":0,"d":"0.0"},null,null,{"v":0,"d":"0.0"},null,null,{"v":0,"d":"0.0"}]
[{"$f":"T(A20)","v":""}]
[{"$nulls":4},{"$f":"SUM(E709)","v":{"v":1,"d":"1.0"}},null,{"$f":"SUM(G709)","v":{"v":0,"d":"0.0"}},null,null,{"$f":"SUM((J709+M709+P709)/3)","v":{"v":0,"d":"0.0"}},{"$nulls":8},{"$f":"SUM(((S709*3)+V709+Y709)/5)","v":{"v":0,"d":"0.0"}}]
[]
[{"$f":"T(A707)","v":"Industrial Disaster "},{"$nulls":3},"Threat",null,"Criticality",null,null,"Vulnerability",{"$nulls":8},"Consequence",{"$nulls":8},{"$f":"SUM(((((J717+S717)/2)*G717)*E717))","v":0}]
[{"$nulls":9},"Exposure",null,null,"Protective Measures",null,null,"Robustness/Resilience",null,null,"Human",null,null,"Economic",null,null,"Psychological"]
[{"$f":"T(A25)","v":"Major Line Stations"},null,{"$f":"T(C25)","v":"LR"},{"$f":"SUM(D25)","v":3},{"v":1,"d":"1.0"},null,{"$f":"SUM(G25)","v":{"v":0,"d":"0.0"}},null,null,{"v":0,"d":"0.0"},null,null,{"v":0,"d":"0.0"},null,null,{"v":0,"d":"0.0"},null,null,{"v":0,"d":"0.0"},null,null,{"v":0,"d":"0.0"},null,null,{"v":0,"d":"0.0"}]
[{"$f":"T(A26)","v":""}]
[{"$nulls":4},{"$f":"SUM(E715)","v":{"v":1,"d":"1.0"}},null,{"$f":"SUM(G715)","v":{"v":0,"d":"0.0"}},null,null,{"$f":"SUM((J715+M715+P715)/3)","v":{"v":0,"d":"0.0"}},{"$nulls":8},{"$f":"SUM(((S715*3)+V715+Y715)/5)","v":{"v":0,"d":"0.0"}}]
[]
[{"$f":"T(A713)","v":"Industrial Disaster "},{"$nulls":3},"Threat",null,"Criticality",null,null,"Vulnerability",{"$nulls":8},"Consequence",{"$nulls":8},{"$f":"SUM(((((J723+S723)/2)*G723)*E723))","v":0}]
[{"$nulls":9},"Exposure",null,null,"Protective Measures",null,null,"Robustness/Resilience",null,null,"Human",null,null,"Economic",null,null,"Psychological"]
[{"$f":"T(A31)","v":"Parking Structures"},null,{"$f":"T(C31)","v":"LR"},{"$f":"SUM(D31)","v":4},{"v":1,"d":"1.0"},null,{"$f":"SUM(G31)","v":{"v":0,"d":"0.0"}},null,null,{"v":0,"d":"0.0"},null,null,{"v":0,"d":"0.0"},null,null,{"v":0,"d":"0.0"},null,null,{"v":0,"d":"0.0"},null,null,{"v":0,"d":"0.0"},null,null,{"v":0,"d":"0.0"}]
[{"$f":"T(A32)","v":""}]
[{"$nulls":4},{"$f":"SUM(E721)","v":{"v":1,"d":"1.0"}},null,{"$f":"SUM(G721)","v":{"v":0,"d":"0.0"}},null,null,{"$f":"SUM((J721+M721+P721)/3)","v":{"v":0,"d":"0.0"}},{"$nulls":8},{"$f":"SUM(((S721*3)+V721+Y721)/5)","v":{"v":0,"d":"0.0"}}]
[]
[{"$f":"T(A719)","v":"Industrial Disaster "},{"$nulls":3},"Threat",null,"Criticality",null,null,"Vulnerability",{"$nulls":8},"Consequence",{"$nulls":8},{"$f":"SUM(((((J729+S729)/2)*G729)*E729))","v":0}]
[{"$nulls":9},"Exposure",null,null,"Protective Measures",null,null,"Robustness/Resilience",null,null,"Human",null,null,"Economic",null,null,"Psychological"]
[{"$f":"T(A37)","v":"Consist - Type 1"},null,{"$f":"T(C37)","v":"LR"},{"$f":"SUM(D37)","v":5},{"v":1,"d":"1.0"},null,{"$f":"SUM(G37)","v":{"v":0,"d":"0.0"}},null,null,{"v":0,"d":"0.0"},null,null,{"v":0,"d":"0.0"},null,null,{"v":0,"d":"0.0"},null,null,{"v":0,"d":"0.0"},null,null,{"v":0,"d":"0.0"},null,null,{"v":0,"d":"0.0"}]
[{"$f":"T(A38)","v":""}]
[{"$nulls":4},{"$f":"SUM(E727)","v":{"v":1,"d":"1.0"}},null,{"$f":"SUM(G727)","v":{"v":0,"d":"0.0"}},null,null,{"$f":"SUM((J727+M727+P727)/3)","v":{"v":0,"d":"0.0"}},{"$nulls":8},{"$f":"SUM(((S727*3)+V727+Y727)/5)","v":{"v":0,"d":"0.0"}}]
[]
[{"$f":"T(A725)","v":"Industrial Disaster "},{"$nulls":3},"Threat",null,"Criticality",null,null,"Vulnerability",{"$nulls":8},"Consequence",{"$nulls":8},{"$f":"SUM(((((J735+S735)/2)*G735)*E735))","v":0}]
[{"$nulls":9},"Exposure",null,null,"Protective Measures",null,null,"Robustness/Resilience",null,null,"Human",null,null,"Economic",null,null,"Psychological"]
[{"$f":"T(A43)","v":"Consist - Type 2"},null,{"$f":"T(C43)","v":"LR"},{"$f":"SUM(D43)","v":6},{"v":1,"d":"1.0"},null,{"$f":"SUM(G43)","v":{"v":0,"d":"0.0"}},null,null,{"v":0,"d":"0.0"},null,null,{"v":0,"d":"0.0"},null,null,{"v":0,"d":"0.0"},null,null,{"v":0,"d":"0.0"},null,null,{"v":0,"d":"0.0"},null,null,{"v":0,"d":"0.0"}]
[{"$f":"T(A44)","v":""}]
[{"$nulls":4},{"$f":"SUM(E733)","v":{"v":1,"d":"1.0"}},null,{"$f":"SUM(G733)","v":{"v":0,"d":"0.0"}},null,null,{"$f":"SUM((J733+M733+P733)/3)","v":{"v":0,"d":"0.0"}},{"$nulls":8},{"$f":"SUM(((S733*3)+V733+Y733)/5)","v":{"v":0,"d":"0.0"}}]
[]
[{"$f":"T(A731)","v":"Industrial Disaster "},{"$nulls":3},"Threat",null,"Criticality",null,null,"Vulnerability",{"$nulls":8},"Consequence",{"$nulls":8},{"$f":"SUM(((((J741+S741)/2)*G741)*E741))","v":0}]
[{"$nulls":9},"Exposure",null,null,"Protective Measures",null,null,"Robustness/Resilience",null,null,"Human",null,null,"Economic",null,null,"Psychological"]
[{"$f":"T(A49)","v":"Primary Control Center"},null,{"$f":"T(C49)","v":"LR"},{"$f":"SUM(D49)","v":7},{"v":1,"d":"1.0"},null,{"$f":"SUM(G49)","v":{"v":0,"d":"0.0"}},null,null,{"v":0,"d":"0.0"},null,null,{"v":0,"d":"0.0"},null,null,{"v":0,"d":"0.0"},null,null,{"v":0,"d":"0.0"},null,null,{"v":0,"d":"0.0"},null,null,{"v":0,"d":"0.0"}]
[{"$f":"T(A50)","v":""}]
[{"$nulls":4},{"$f":"SUM(E739)","v":{"v":1,"d":"1.0"}},null,{"$f":"SUM(G739)","v":{"v":0,"d":"0.0"}},null,null,{"$f":"SUM((J739+M739+P739)/3)","v":{"v":0,"d":"0.0"}},{"$nulls":8},{"$f":"SUM(((S739*3)+V739+Y739)/5)","v":{"v":0,"d":"0.0"}}]
[]
[{"$f":"T(A737)","v":"Industrial Disaster "},{"$nulls":3},"Threat",null,"Criticality",null,null,"Vulnerability",{"$nulls":8},"Consequence",{"$nulls":8},{"$f":"SUM(((((J747+S747)/2)*G747)*E747))","v":0}]
[{"$nulls":9},"Exposure",null,null,"Protective Measures",null,null,"Robustness/Resilience",null,null,"Human",null,null,"Economic",null,null,"Psychological"]
[{"$f":"T(A55)","v":"Cyber Systems"},null,{"$f":"T(C55)","v":"LR"},{"$f":"SUM(D55)","v":8},{"v":1,"d":"1.0"},null,{"$f":"SUM(G55)","v":{"v":0,"d":"0.0"}},null,null,{"v":0,"d":"0.0"},null,null,{"v":0,"d":"0.0"},null,null,{"v":0,"d":"0.0"},null,null,{"v":0,"d":"0.0"},null,null,{"v":0,"d":"0.0"},null,null,{"v":0,"d":"0.0"}]
[{"$f":"T(A56)","v":""}]
[{"$nulls":4},{"$f":"SUM(E745)","v":{"v":1,"d":"1.0"}},null,{"$f":"SUM(G745)","v":{"v":0,"d":"0.0"}},null,null,{"$f":"SUM((J745+M745+P745)/3)","v":{"v":0,"d":"0.0"}},{"$nulls":8},{"$f":"SUM(((S745*3)+V745+Y745)/5)","v":{"v":0,"d":"0.0"}}]
[]
[{"$f":"T(A737)","v":"Industrial Disaster "},{"$nulls":3},"Threat",null,"Criticality",null,null,"Vulnerability",{"$nulls":8},"Consequence",{"$nulls":8},{"$f":"SUM(((((J753+S753)/2)*G753)*E753))","v":0}]
[{"$nulls":9},"Exposure",null,null,"Protective Measures",null,null,"Robustness/Resilience",null,null,"Human",null,null,"Economic",null,null,"Psychological"]
[{"$f":"T(A61)","v":"Right of Way (ROW)"},null,{"$f":"T(C61)","v":"LR"},{"$f":"SUM(D61)","v":9},{"v":1,"d":"1.0"},null,{"$f":"SUM(G61)","v":{"v":0,"d":"0.0"}},null,null,{"v":0,"d":"0.0"},null,null,{"v":0,"d":"0.0"},null,null,{"v":0,"d":"0.0"},null,null,{"v":0,"d":"0.0"},null,null,{"v":0,"d":"0.0"},null,null,{"v":0,"d":"0.0"}]
[{"$f":"T(A62)","v":""}]
[{"$nulls":4},{"$f":"SUM(E751)","v":{"v":1,"d":"1.0"}},null,{"$f":"SUM(G751)","v":{"v":0,"d":"0.0"}},null,null,{"$f":"SUM((J751+M751+P751)/3)","v":{"v":0,"d":"0.0"}},{"$nulls":8},{"$f":"SUM(((S751*3)+V751+Y751)/5)","v":{"v":0,"d":"0.0"}}]
[]
[{"$f":"T(A737)","v":"Industrial Disaster "},{"$nulls":3},"Threat",null,"Criticality",null,null,"Vulnerability",{"$nulls":8},"Consequence",{"$nulls":8},{"$f":"SUM(((((J759+S759)/2)*G759)*E759))","v":0}]
[{"$nulls":9},"Exposure",null,null,"Protective Measures",null,null,"Robustness/Resilience",null,null,"Human",null,null,"Economic",null,null,"Psychological"]
[{"$f":"T(A67)","v":"Signals & PTC"},null,{"$f":"T(C67)","v":"LR"},{"$f":"SUM(D67)","v":10},{"v":1,"d":"1.0"},null,{"$f":"SUM(G67)","v":{"v":0,"d":"0.0"}},null,null,{"v":0,"d":"0.0"},null,null,{"v":0,"d":"0.0"},null,null,{"v":0,"d":"0.0"},null,null,{"v":0,"d":"0.0"},null,null,{"v":0,"d":"0.0"},null,null,{"v":0,"d":"0.0"}]
[{"$f":"T(A68)","v":""}]
[{"$nulls":4},{"$f":"SUM(E757)","v":{"v":1,"d":"1.0"}},null,{"$f":"SUM(G757)","v":{"v":0,"d":"0.0"}},null,null,{"$f":"SUM((J757+M757+P757)/3)","v":{"v":0,"d":"0.0"}},{"$nulls":8},{"$f":"SUM(((S757*3)+V757+Y757)/5)","v":{"v":0,"d":"0.0"}}]
[]
[{"$f":"T(A755)","v":"Industrial Disaster "},{"$nulls":3},"Threat",null,"Criticality",null,null,"Vulnerability",{"$nulls":8},"Consequence",{"$nulls":8},{"$f":"SUM(((((J765+S765)/2)*G765)*E765))","v":0}]
[{"$nulls":9},"Exposure",null,null,"Protective Measures",null,null,"Robustness/Resilience",null,null,"Human",null,null,"Economic",null,null,"Psychological"]
[{"$f":"T(A73)","v":"Switches "},null,{"$f":"T(C73)","v":"LR"},{"$f":"SUM(D73)","v":11},{"v":1,"d":"1.0"},null,{"$f":"SUM(G73)","v":{"v":0,"d":"0.0"}},null,null,{"v":0,"d":"0.0"},null,null,{"v":0,"d":"0.0"},null,null,{"v":0,"d":"0.0"},null,null,{"v":0,"d":"0.0"},null,null,{"v":0,"d":"0.0"},null,null,{"v":0,"d":"0.0"}]
[{"$f":"T(A74)","v":""}]
[{"$nulls":4},{"$f":"SUM(E763)","v":{"v":1,"d":"1.0"}},null,{"$f":"SUM(G763)","v":{"v":0,"d":"0.0"}},null,null,{"$f":"SUM((J763+M763+P763)/3)","v":{"v":0,"d":"0.0"}},{"$nulls":8},{"$f":"SUM(((S763*3)+V763+Y763)/5)","v":{"v":0,"d":"0.0"}}]
[]
[{"$f":"T(A761)","v":"Industrial Disaster "},{"$nulls":3},"Threat",null,"Criticality",null,null,"Vulnerability",{"$nulls":8},"Consequence",{"$nulls":8},{"$f":"SUM(((((J771+S771)/2)*G771)*E771))","v":0}]
[{"$nulls":9},"Exposure",null,null,"Protective Measures",null,null,"Robustness/Resilience",null,null,"Human",null,null,"Economic",null,null,"Psychological"]
[{"$f":"T(A79)","v":"Bridges"},null,{"$f":"T(C79)","v":"LR"},{"$f":"SUM(D79)","v":12},{"v":1,"d":"1.0"},null,{"$f":"SUM(G79)","v":{"v":0,"d":"0.0"}},null,null,{"v":0,"d":"0.0"},null,null,{"v":0,"d":"0.0"},null,null,{"v":0,"d":"0.0"},null,null,{"v":0,"d":"0.0"},null,null,{"v":0,"d":"0.0"},null,null,{"v":0,"d":"0.0"}]
[{"$f":"T(A80)","v":""}]
[{"$nulls":4},{"$f":"SUM(E769)","v":{"v":1,"d":"1.0"}},null,{"$f":"SUM(G769)","v":{"v":0,"d":"0.0"}},null,null,{"$f":"SUM((J769+M769+P769)/3)","v":{"v":0,"d":"0.0"}},{"$nulls":8},{"$f":"SUM(((S769*3)+V769+Y769)/5)","v":{"v":0,"d":"0.0"}}]
[]
[{"$f":"T(A767)","v":"Industrial Disaster "},{"$nulls":3},"Threat",null,"Criticality",null,null,"Vulnerability",{"$nulls":8},"Consequence",{"$nulls":8},{"$f":"SUM(((((J777+S777)/2)*G777)*E777))","v":0}]
[{"$nulls":9},"Exposure",null,null,"Protective Measures",null,null,"Robustness/Resilience",null,null,"Human",null,null,"Economic",null,null,"Psychological"]
[{"$f":"T(A85)","v":"Elevated Track"},null,{"$f":"T(C85)","v":"LR"},{"$f":"SUM(D85)","v":13},{"v":1,"d":"1.0"},null,{"$f":"SUM(G85)","v":{"v":0,"d":"0.0"}},null,null,{"v":0,"d":"0.0"},null,null,{"v":0,"d":"0.0"},null,null,{"v":0,"d":"0.0"},null,null,{"v":0,"d":"0.0"},null,null,{"v":0,"d":"0.0"},null,null,{"v":0,"d":"0.0"}]
[{"$f":"T(A86)","v":""}]
[{"$nulls":4},{"$f":"SUM(E775)","v":{"v":1,"d":"1.0"}},null,{"$f":"SUM(G775)","v":{"v":0,"d":"0.0"}},null,null,{"$f":"SUM((J775+M775+P775)/3)","v":{"v":0,"d":"0.0"}},{"$nulls":8},{"$f":"SUM(((S775*3)+V775+Y775)/5)","v":{"v":0,"d":"0.0"}}]
[]
[{"$f":"T(A773)","v":"Industrial Disaster "},{"$nulls":3},"Threat",null,"Criticality",null,null,"Vulnerability",{"$nulls":8},"Consequence",{"$nulls":8},{"$f":"SUM(((((J783+S783)/2)*G783)*E783))","v":0}]
[{"$nulls":9},"Exposure",null,null,"Protective Measures",null,null,"Robustness/Resilience",null,null,"Human",null,null,"Economic",null,null,"Psychological"]
[{"$f":"T(A91)","v":"Tunnels "},null,{"$f":"T(C91)","v":"LR"},{"$f":"SUM(D91)","v":14},{"v":1,"d":"1.0"},null,{"$f":"SUM(G91)","v":{"v":0,"d":"0.0"}},null,null,{"v":0,"d":"0.0"},null,null,{"v":0,"d":"0.0"},null,null,{"v":0,"d":"0.0"},null,null,{"v":0,"d":"0.0"},null,null,{"v":0,"d":"0.0"},null,null,{"v":0,"d":"0.0"}]
[{"$f":"T(A92)","v":""}]
[{"$nulls":4},{"$f":"SUM(E781)","v":{"v":1,"d":"1.0"}},null,{"$f":"SUM(G781)","v":{"v":0,"d":"0.0"}},null,null,{"$f":"SUM((J781+M781+P781)/3)","v":{"v":0,"d":"0.0"}},{"$nulls":8},{"$f":"SUM(((S781*3)+V781+Y781)/5)","v":{"v":0,"d":"0.0"}}]
[]
[{"$f":"T(A779)","v":"Industrial Disaster "},{"$nulls":3},"Threat",null,"Criticality",null,null,"Vulnerability",{"$nulls":8},"Consequence",{"$nulls":8},{"$f":"SUM(((((J789+S789)/2)*G789)*E789))","v":0}]
[{"$nulls":9},"Exposure",null,null,"Protective Measures",null,null,"Robustness/Resilience",null,null,"Human",null,null,"Economic",null,null,"Psychological"]
[{"$f":"T(A97)","v":"Choke Points on ROW"},null,{"$f":"T(C97)","v":"LR"},{"$f":"SUM(D97)","v":15},{"v":1,"d":"1.0"},null,{"$f":"SUM(G97)","v":{"v":0,"d":"0.0"}},null,null,{"v":0,"d":"0.0"},null,null,{"v":0,"d":"0.0"},null,null,{"v":0,"d":"0.0"},null,null,{"v":0,"d":"0.0"},null,null,{"v":0,"d":"0.0"},null,null,{"v":0,"d":"0.0"}]
[{"$f":"T(A98)","v":""}]
[{"$nulls":4},{"$f":"SUM(E787)","v":{"v":1,"d":"1.0"}},null,{"$f":"SUM(G787)","v":{"v":0,"d":"0.0"}},null,null,{"$f":"SUM((J787+M787+P787)/3)","v":{"v":0,"d":"0.0"}},{"$nulls":8},{"$f":"SUM(((S787*3)+V787+Y787)/5)","v":{"v":0,"d":"0.0"}}]
[]
[{"$f":"T(A785)","v":"Industrial Disaster "},{"$nulls":3},"Threat",null,"Criticality",null,null,"Vulnerability",{"$nulls":8},"Consequence",{"$nulls":8},{"$f":"SUM(((((J795+S795)/2)*G795)*E795))","v":0}]
[{"$nulls":9},"Exposure",null,null,"Protective Measures",null,null,"Robustness/Resilience",null,null,"Human",null,null,"Economic",null,null,"Psychological"]
[{"$f":"T(A103)","v":"Fire Suppression"},null,{"$f":"T(C103)","v":"LR"},{"$f":"SUM(D103)","v":16},{"v":1,"d":"1.0"},null,{"$f":"SUM(G103)","v":{"v":0,"d":"0.0"}},null,null,{"v":0,"d":"0.0"},null,null,{"v":0,"d":"0.0"},null,null,{"v":0,"d":"0.0"},null,null,{"v":0,"d":"0.0"},null,null,{"v":0,"d":"0.0"},null,null,{"v":0,"d":"0.0"}]
[{"$f":"T(A104)","v":""}]
[{"$nulls":4},{"$f":"SUM(E793)","v":{"v":1,"d":"1.0"}},null,{"$f":"SUM(G793)","v":{"v":0,"d":"0.0"}},null,null,{"$f":"SUM((J793+M793+P793)/3)","v":{"v":0,"d":"0.0"}},{"$nulls":8},{"$f":"SUM(((S793*3)+V793+Y793)/5)","v":{"v":0,"d":"0.0"}}]
[]
[{"$f":"T(A791)","v":"Industrial Disaster "},{"$nulls":3},"Threat",null,"Criticality",null,null,"Vulnerability",{"$nulls":8},"Consequence",{"$nulls":8},{"$f":"SUM(((((J801+S801)/2)*G801)*E801))","v":0}]
[{"$nulls":9},"Exposure",null,null,"Protective Measures",null,null,"Robustness/Resilience",null,null,"Human",null,null,"Economic",null,null,"Psychological"]
[{"$f":"T(A109)","v":"Power Generation/Distribution"},null,{"$f":"T(C109)","v":"LR"},{"$f":"SUM(D109)","v":17},{"v":1,"d":"1.0"},null,{"$f":"SUM(G109)","v":{"v":0,"d":"0.0"}},null,null,{"v":0,"d":"0.0"},null,null,{"v":0,"d":"0.0"},null,null,{"v":0,"d":"0.0"},null,null,{"v":0,"d":"0.0"},null,null,{"v":0,"d":"0.0"},null,null,{"v":0,"d":"0.0"}]
[{"$f":"T(A110)","v":""}]
[{"$nulls":4},{"$f":"SUM(E799)","v":{"v":1,"d":"1.0"}},null,{"$f":"SUM(G799)","v":{"v":0,"d":"0.0"}},null,null,{"$f":"SUM((J799+M799+P799)/3)","v":{"v":0,"d":"0.0"}},{"$nulls":8},{"$f":"SUM(((S799*3)+V799+Y799)/5)","v":{"v":0,"d":"0.0"}}]
[]
[{"$f":"T(A797)","v":"Industrial Disaster "},{"$nulls":3},"Threat",null,"Criticality",null,null,"Vulnerability",{"$nulls":8},"Consequence",{"$nulls":8},{"$f":"SUM(((((J807+S807)/2)*G807)*E807))","v":0}]
[{"$nulls":9},"Exposure",null,null,"Protective Measures",null,null,"Robustness/Resilience",null,null,"Human",null,null,"Economic",null,null,"Psychological"]
[{"$f":"T(A115)","v":"Yards"},null,{"$f":"T(C115)","v":"LR"},{"$f":"SUM(D115)","v":18},{"v":1,"d":"1.0"},null,{"$f":"SUM(G115)","v":{"v":0,"d":"0.0"}},null,null,{"v":0,"d":"0.0"},null,null,{"v":0,"d":"0.0"},null,null,{"v":0,"d":"0.0"},null,null,{"v":0,"d":"0.0"},null,null,{"v":0,"d":"0.0"},null,null,{"v":0,"d":"0.0"}]
[{"$f":"T(A116)","v":""}]
[{"$nulls":4},{"$f":"SUM(E805)","v":{"v":1,"d":"1.0"}},null,{"$f":"SUM(G805)","v":{"v":0,"d":"0.0"}},null,null,{"$f":"SUM((J805+M805+P805)/3)","v":{"v":0,"d":"0.0"}},{"$nulls":8},{"$f":"SUM(((S805*3)+V805+Y805)/5)","v":{"v":0,"d":"0.0"}}]
[]
[{"$f":"T(A803)","v":"Industrial Disaster "},{"$nulls":3},"Threat",null,"Criticality",null,null,"Vulnerability",{"$nulls":8},"Consequence",{"$nulls":8},{"$f":"SUM(((((J813+S813)/2)*G813)*E813))","v":0}]
[{"$nulls":9},"Exposure",null,null,"Protective Measures",null,null,"Robustness/Resilience",null,null,"Human",null,null,"Economic",null,null,"Psychological"]
[{"$f":"T(A121)","v":"Maintenance Barns/Facilities"},null,{"$f":"T(C121)","v":"LR"},{"$f":"SUM(D121)","v":19},{"v":1,"d":"1.0"},null,{"$f":"SUM(G121)","v":{"v":0,"d":"0.0"}},null,null,{"v":0,"d":"0.0"},null,null,{"v":0,"d":"0.0"},null,null,{"v":0,"d":"0.0"},null,null,{"v":0,"d":"0.0"},null,null,{"v":0,"d":"0.0"},null,null,{"v":0,"d":"0.0"}]
[{"$f":"T(A122)","v":""}]
[{"$nulls":4},{"$f":"SUM(E811)","v":{"v":1,"d":"1.0"}},null,{"$f":"SUM(G811)","v":{"v":0,"d":"0.0"}},null,null,{"$f":"SUM((J811+M811+P811)/3)","v":{"v":0,"d":"0.0"}},{"$nulls":8},{"$f":"SUM(((S811*3)+V811+Y811)/5)","v":{"v":0,"d":"0.0"}}]
[]
[{"$f":"T(Definitions!D26)","v":"Derailment/Collision"}]
[{"$f":"T(A815)","v":"Derailment/Collision"},{"$nulls":3},"Threat",null,"Criticality",null,null,"Vulnerability",{"$nulls":8},"Consequence",{"$nulls":8},{"$f":"SUM(((((J820+S820)/2)*G820)*E820))","v":0}]
[{"$nulls":9},"Exposure",null,null,"Protective Measures",null,null,"Robustness/Resilience",null,null,"Human",null,null,"Economic",null,null,"Psychological"]
[{"$f":"T(A588)","v":"Headquarters Building"},null,{"$f":"T(C588)","v":"LR"},{"$f":"SUM(D588)","v":1},{"v":1,"d":"1.0"},null,{"$f":"SUM(G588)","v":{"v":0,"d":"0.0"}},null,null,{"v":0,"d":"0.0"},null,null,{"v":0,"d":"0.0"},null,null,{"v":0,"d":"0.0"},null,null,{"v":0,"d":"0.0"},null,null,{"v":0,"d":"0.0"},null,null,{"v":0,"d":"0.0"}]
[{"$f":"T(A589)","v":""}]
[{"$nulls":4},{"$f":"SUM(E818)","v":{"v":1,"d":"1.0"}},null,{"$f":"SUM(G818)","v":{"v":0,"d":"0.0"}},null,null,{"$f":"SUM((J818+M818+P818)/3)","v":{"v":0,"d":"0.0"}},{"$nulls":8},{"$f":"SUM(((S818*3)+V818+Y818)/5)","v":{"v":0,"d":"0.0"}}]
[]
[{"$f":"T(A815)","v":"Derailment/Collision"},{"$nulls":3},"Threat",null,"Criticality",null,null,"Vulnerability",{"$nulls":8},"Consequence",{"$nulls":8},{"$f":"SUM(((((J826+S826)/2)*G826)*E826))","v":0}]
[{"$nulls":9},"Exposure",null,null,"Protective Measures",null,null,"Robustness/Resilience",null,null,"Human",null,null,"Economic",null,null,"Psychological"]
[{"$f":"T(A594)","v":"Major Passenger Terminals"},null,{"$f":"T(C594)","v":"LR"},{"$f":"SUM(D594)","v":2},{"v":1,"d":"1.0"},null,{"$f":"SUM(G594)","v":{"v":0,"d":"0.0"}},null,null,{"v":0,"d":"0.0"},null,null,{"v":0,"d":"0.0"},null,null,{"v":0,"d":"0.0"},null,null,{"v":0,"d":"0.0"},null,null,{"v":0,"d":"0.0"},null,null,{"v":0,"d":"0.0"}]
[{"$f":"T(A595)","v":""}]
[{"$nulls":4},{"$f":"SUM(E824)","v":{"v":1,"d":"1.0"}},null,{"$f":"SUM(G824)","v":{"v":0,"d":"0.0"}},null,null,{"$f":"SUM((J824+M824+P824)/3)","v":{"v":0,"d":"0.0"}},{"$nulls":8},{"$f":"SUM(((S824*3)+V824+Y824)/5)","v":{"v":0,"d":"0.0"}}]
[]
[{"$f":"T(A822)","v":"Derailment/Collision"},{"$nulls":3},"Threat",null,"Criticality",null,null,"Vulnerability",{"$nulls":8},"Consequence",{"$nulls":8},{"$f":"SUM(((((J832+S832)/2)*G832)*E832))","v":0}]
[{"$nulls":9},"Exposure",null,null,"Protective Measures",null,null,"Robustness/Resilience",null,null,"Human",null,null,"Economic",null,null,"Psychological"]
[{"$f":"T(A600)","v":"Major Line Stations"},null,{"$f":"T(C600)","v":"LR"},{"$f":"SUM(D600)","v":3},{"v":1,"d":"1.0"},null,{"$f":"SUM(G600)","v":{"v":0,"d":"0.0"}},null,null,{"v":0,"d":"0.0"},null,null,{"v":0,"d":"0.0"},null,null,{"v":0,"d":"0.0"},null,null,{"v":0,"d":"0.0"},null,null,{"v":0,"d":"0.0"},null,null,{"v":0,"d":"0.0"}]
[{"$f":"T(A601)","v":""}]
[{"$nulls":4},{"$f":"SUM(E830)","v":{"v":1,"d":"1.0"}},null,{"$f":"SUM(G830)","v":{"v":0,"d":"0.0"}},null,null,{"$f":"SUM((J830+M830+P830)/3)","v":{"v":0,"d":"0.0"}},{"$nulls":8},{"$f":"SUM(((S830*3)+V830+Y830)/5)","v":{"v":0,"d":"0.0"}}]
[]
[{"$f":"T(A828)","v":"Derailment/Collision"},{"$nulls":3},"Threat",null,"Criticality",null,null,"Vulnerability",{"$nulls":8},"Consequence",{"$nulls":8},{"$f":"SUM(((((J838+S838)/2)*G838)*E838))","v":0}]
[{"$nulls":9},"Exposure",null,null,"Protective Measures",null,null,"Robustness/Resilience",null,null,"Human",null,null,"Economic",null,null,"Psychological"]
[{"$f":"T(A606)","v":"Parking Structures"},null,{"$f":"T(C606)","v":"LR"},{"$f":"SUM(D606)","v":4},{"v":1,"d":"1.0"},null,{"$f":"SUM(G606)","v":{"v":0,"d":"0.0"}},null,null,{"v":0,"d":"0.0"},null,null,{"v":0,"d":"0.0"},null,null,{"v":0,"d":"0.0"},null,null,{"v":0,"d":"0.0"},null,null,{"v":0,"d":"0.0"},null,null,{"v":0,"d":"0.0"}]
[{"$f":"T(A607)","v":""}]
[{"$nulls":4},{"$f":"SUM(E836)","v":{"v":1,"d":"1.0"}},null,{"$f":"SUM(G836)","v":{"v":0,"d":"0.0"}},null,null,{"$f":"SUM((J836+M836+P836)/3)","v":{"v":0,"d":"0.0"}},{"$nulls":8},{"$f":"SUM(((S836*3)+V836+Y836)/5)","v":{"v":0,"d":"0.0"}}]
[]
[{"$f":"T(A834)","v":"Derailment/Collision"},{"$nulls":3},"Threat",null,"Criticality",null,null,"Vulnerability",{"$nulls":8},"Consequence",{"$nulls":8},{"$f":"SUM(((((J844+S844)/2)*G844)*E844))","v":0}]
[{"$nulls":9},"Exposure",null,null,"Protective Measures",null,null,"Robustness/Resilience",null,null,"Human",null,null,"Economic",null,null,"Psychological"]
[{"$f":"T(A612)","v":"Consist - Type 1"},null,{"$f":"T(C612)","v":"LR"},{"$f":"SUM(D612)","v":5},{"v":1,"d":"1.0"},null,{"$f":"SUM(G612)","v":{"v":0,"d":"0.0"}},null,null,{"v":0,"d":"0.0"},null,null,{"v":0,"d":"0.0"},null,null,{"v":0,"d":"0.0"},null,null,{"v":0,"d":"0.0"},null,null,{"v":0,"d":"0.0"},null,null,{"v":0,"d":"0.0"}]
[{"$f":"T(A613)","v":""}]
[{"$nulls":4},{"$f":"SUM(E842)","v":{"v":1,"d":"1.0"}},null,{"$f":"SUM(G842)","v":{"v":0,"d":"0.0"}},null,null,{"$f":"SUM((J842+M842+P842)/3)","v":{"v":0,"d":"0.0"}},{"$nulls":8},{"$f":"SUM(((S842*3)+V842+Y842)/5)","v":{"v":0,"d":"0.0"}}]
[]
[{"$f":"T(A840)","v":"Derailment/Collision"},{"$nulls":3},"Threat",null,"Criticality",null,null,"Vulnerability",{"$nulls":8},"Consequence",{"$nulls":8},{"$f":"SUM(((((J850+S850)/2)*G850)*E850))","v":0}]
[{"$nulls":9},"Exposure",null,null,"Protective Measures",null,null,"Robustness/Resilience",null,null,"Human",null,null,"Economic",null,null,"Psychological"]
[{"$f":"T(A618)","v":"Consist - Type 2"},null,{"$f":"T(C618)","v":"LR"},{"$f":"SUM(D618)","v":6},{"v":1,"d":"1.0"},null,{"$f":"SUM(G618)","v":{"v":0,"d":"0.0"}},null,null,{"v":0,"d":"0.0"},null,null,{"v":0,"d":"0.0"},null,null,{"v":0,"d":"0.0"},null,null,{"v":0,"d":"0.0"},null,null,{"v":0,"d":"0.0"},null,null,{"v":0,"d":"0.0"}]
[{"$f":"T(A619)","v":""}]
[{"$nulls":4},{"$f":"SUM(E848)","v":{"v":1,"d":"1.0"}},null,{"$f":"SUM(G848)","v":{"v":0,"d":"0.0"}},null,null,{"$f":"SUM((J848+M848+P848)/3)","v":{"v":0,"d":"0.0"}},{"$nulls":8},{"$f":"SUM(((S848*3)+V848+Y848)/5)","v":{"v":0,"d":"0.0"}}]
[]
[{"$f":"T(A846)","v":"Derailment/Collision"},{"$nulls":3},"Threat",null,"Criticality",null,null,"Vulnerability",{"$nulls":8},"Consequence",{"$nulls":8},{"$f":"SUM(((((J856+S856)/2)*G856)*E856))","v":0}]
[{"$nulls":9},"Exposure",null,null,"Protective Measures",null,null,"Robustness/Resilience",null,null,"Human",null,null,"Economic",null,null,"Psychological"]
[{"$f":"T(A624)","v":"Primary Control Center"},null,{"$f":"T(C624)","v":"LR"},{"$f":"SUM(D624)","v":7},{"v":1,"d":"1.0"},null,{"$f":"SUM(G624)","v":{"v":0,"d":"0.0"}},null,null,{"v":0,"d":"0.0"},null,null,{"v":0,"d":"0.0"},null,null,{"v":0,"d":"0.0"},null,null,{"v":0,"d":"0.0"},null,null,{"v":0,"d":"0.0"},null,null,{"v":0,"d":"0.0"}]
[{"$f":"T(A625)","v":""}]
[{"$nulls":4},{"$f":"SUM(E854)","v":{"v":1,"d":"1.0"}},null,{"$f":"SUM(G854)","v":{"v":0,"d":"0.0"}},null,null,{"$f":"SUM((J854+M854+P854)/3)","v":{"v":0,"d":"0.0"}},{"$nulls":8},{"$f":"SUM(((S854*3)+V854+Y854)/5)","v":{"v":0,"d":"0.0"}}]
[]
[{"$f":"T(A852)","v":"Derailment/Collision"},{"$nulls":3},"Threat",null,"Criticality",null,null,"Vulnerability",{"$nulls":8},"Consequence",{"$nulls":8},{"$f":"SUM(((((J862+S862)/2)*G862)*E862))","v":0}]
[{"$nulls":9},"Exposure",null,null,"Protective Measures",null,null,"Robustness/Resilience",null,null,"Human",null,null,"Economic",null,null,"Psychological"]
[{"$f":"T(A630)","v":"Cyber Systems"},null,{"$f":"T(C630)","v":"LR"},{"$f":"SUM(D630)","v":8},{"v":1,"d":"1.0"},null,{"$f":"SUM(G630)","v":{"v":0,"d":"0.0"}},null,null,{"v":0,"d":"0.0"},null,null,{"v":0,"d":"0.0"},null,null,{"v":0,"d":"0.0"},null,null,{"v":0,"d":"0.0"},null,null,{"v":0,"d":"0.0"},null,null,{"v":0,"d":"0.0"}]
[{"$f":"T(A631)","v":""}]
[{"$nulls":4},{"$f":"SUM(E860)","v":{"v":1,"d":"1.0"}},null,{"$f":"SUM(G860)","v":{"v":0,"d":"0.0"}},null,null,{"$f":"SUM((J860+M860+P860)/3)","v":{"v":0,"d":"0.0"}},{"$nulls":8},{"$f":"SUM(((S860*3)+V860+Y860)/5)","v":{"v":0,"d":"0.0"}}]
[]
[{"$f":"T(A852)","v":"Derailment/Collision"},{"$nulls":3},"Threat",null,"Criticality",null,null,"Vulnerability",{"$nulls":8},"Consequence",{"$nulls":8},{"$f":"SUM(((((J868+S868)/2)*G868)*E868))","v":0}]
[{"$nulls":9},"Exposure",null,null,"Protective Measures",null,null,"Robustness/Resilience",null,null,"Human",null,null,"Economic",null,null,"Psychological"]
[{"$f":"T(A636)","v":"Right of Way (ROW)"},null,{"$f":"T(C636)","v":"LR"},{"$f":"SUM(D636)","v":9},{"v":1,"d":"1.0"},null,{"$f":"SUM(G636)","v":{"v":0,"d":"0.0"}},null,null,{"v":0,"d":"0.0"},null,null,{"v":0,"d":"0.0"},null,null,{"v":0,"d":"0.0"},null,null,{"v":0,"d":"0.0"},null,null,{"v":0,"d":"0.0"},null,null,{"v":0,"d":"0.0"}]
[{"$f":"T(A637)","v":""}]
[{"$nulls":4},{"$f":"SUM(E866)","v":{"v":1,"d":"1.0"}},null,{"$f":"SUM(G866)","v":{"v":0,"d":"0.0"}},null,null,{"$f":"SUM((J866+M866+P866)/3)","v":{"v":0,"d":"0.0"}},{"$nulls":8},{"$f":"SUM(((S866*3)+V866+Y866)/5)","v":{"v":0,"d":"0.0"}}]
[]
[{"$f":"T(A852)","v":"Derailment/Collision"},{"$nulls":3},"Threat",null,"Criticality",null,null,"Vulnerability",{"$nulls":8},"Consequence",{"$nulls":8},{"$f":"SUM(((((J874+S874)/2)*G874)*E874))","v":0}]
[{"$nulls":9},"Exposure",null,null,"Protective Measures",null,null,"Robustness/Resilience",null,null,"Human",null,null,"Economic",null,null,"Psychological"]
[{"$f":"T(A642)","v":"Signals & PTC"},null,{"$f":"T(C642)","v":"LR"},{"$f":"SUM(D642)","v":10},{"v":1,"d":"1.0"},null,{"$f":"SUM(G642)","v":{"v":0,"d":"0.0"}},null,null,{"v":0,"d":"0.0"},null,null,{"v":0,"d":"0.0"},null,null,{"v":0,"d":"0.0"},null,null,{"v":0,"d":"0.0"},null,null,{"v":0,"d":"0.0"},null,null,{"v":0,"d":"0.0"}]
[{"$f":"T(A643)","v":""}]
[{"$nulls":4},{"$f":"SUM(E872)","v":{"v":1,"d":"1.0"}},null,{"$f":"SUM(G872)","v":{"v":0,"d":"0.0"}},null,null,{"$f":"SUM((J872+M872+P872)/3)","v":{"v":0,"d":"0.0"}},{"$nulls":8},{"$f":"SUM(((S872*3)+V872+Y872)/5)","v":{"v":0,"d":"0.0"}}]
[]
[{"$f":"T(A870)","v":"Derailment/Collision"},{"$nulls":3},"Threat",null,"Criticality",null,null,"Vulnerability",{"$nulls":8},"Consequence",{"$nulls":8},{"$f":"SUM(((((J880+S880)/2)*G880)*E880))","v":0}]
[{"$nulls":9},"Exposure",null,null,"Protective Measures",null,null,"Robustness/Resilience",null,null,"Human",null,null,"Economic",null,null,"Psychological"]
[{"$f":"T(A648)","v":"Switches "},null,{"$f":"T(C648)","v":"LR"},{"$f":"SUM(D648)","v":11},{"v":1,"d":"1.0"},null,{"$f":"SUM(G648)","v":{"v":0,"d":"0.0"}},null,null,{"v":0,"d":"0.0"},null,null,{"v":0,"d":"0.0"},null,null,{"v":0,"d":"0.0"},null,null,{"v":0,"d":"0.0"},null,null,{"v":0,"d":"0.0"},null,null,{"v":0,"d":"0.0"}]
[{"$f":"T(A649)","v":""}]
[{"$nulls":4},{"$f":"SUM(E878)","v":{"v":1,"d":"1.0"}},null,{"$f":"SUM(G878)","v":{"v":0,"d":"0.0"}},null,null,{"$f":"SUM((J878+M878+P878)/3)","v":{"v":0,"d":"0.0"}},{"$nulls":8},{"$f":"SUM(((S878*3)+V878+Y878)/5)","v":{"v":0,"d":"0.0"}}]
[]
[{"$f":"T(A876)","v":"Derailment/Collision"},{"$nulls":3},"Threat",null,"Criticality",null,null,"Vulnerability",{"$nulls":8},"Consequence",{"$nulls":8},{"$f":"SUM(((((J886+S886)/2)*G886)*E886))","v":0}]
[{"$nulls":9},"Exposure",null,null,"Protective Measures",null,null,"Robustness/Resilience",null,null,"Human",null,null,"Economic",null,null,"Psychological"]
[{"$f":"T(A654)","v":"Bridges"},null,{"$f":"T(C654)","v":"LR"},{"$f":"SUM(D654)","v":12},{"v":1,"d":"1.0"},null,{"$f":"SUM(G654)","v":{"v":0,"d":"0.0"}},null,null,{"v":0,"d":"0.0"},null,null,{"v":0,"d":"0.0"},null,null,{"v":0,"d":"0.0"},null,null,{"v":0,"d":"0.0"},null,null,{"v":0,"d":"0.0"},null,null,{"v":0,"d":"0.0"}]
[{"$f":"T(A655)","v":""}]
[{"$nulls":4},{"$f":"SUM(E884)","v":{"v":1,"d":"1.0"}},null,{"$f":"SUM(G884)","v":{"v":0,"d":"0.0"}},null,null,{"$f":"SUM((J884+M884+P884)/3)","v":{"v":0,"d":"0.0"}},{"$nulls":8},{"$f":"SUM(((S884*3)+V884+Y884)/5)","v":{"v":0,"d":"0.0"}}]
[]
[{"$f":"T(A882)","v":"Derailment/Collision"},{"$nulls":3},"Threat",null,"Criticality",null,null,"Vulnerability",{"$nulls":8},"Consequence",{"$nulls":8},{"$f":"SUM(((((J892+S892)/2)*G892)*E892))","v":0}]
[{"$nulls":9},"Exposure",null,null,"Protective Measures",null,null,"Robustness/Resilience",null,null,"Human",null,null,"Economic",null,null,"Psychological"]
[{"$f":"T(A660)","v":"Elevated Track"},null,{"$f":"T(C660)","v":"LR"},{"$f":"SUM(D660)","v":13},{"v":1,"d":"1.0"},null,{"$f":"SUM(G660)","v":{"v":0,"d":"0.0"}},null,null,{"v":0,"d":"0.0"},null,null,{"v":0,"d":"0.0"},null,null,{"v":0,"d":"0.0"},null,null,{"v":0,"d":"0.0"},null,null,{"v":0,"d":"0.0"},null,null,{"v":0,"d":"0.0"}]
[{"$f":"T(A661)","v":""}]
[{"$nulls":4},{"$f":"SUM(E890)","v":{"v":1,"d":"1.0"}},null,{"$f":"SUM(G890)","v":{"v":0,"d":"0.0"}},null,null,{"$f":"SUM((J890+M890+P890)/3)","v":{"v":0,"d":"0.0"}},{"$nulls":8},{"$f":"SUM(((S890*3)+V890+Y890)/5)","v":{"v":0,"d":"0.0"}}]
[]
[{"$f":"T(A888)","v":"Derailment/Collision"},{"$nulls":3},"Threat",null,"Criticality",null,null,"Vulnerability",{"$nulls":8},"Consequence",{"$nulls":8},{"$f":"SUM(((((J898+S898)/2)*G898)*E898))","v":0}]
[{"$nulls":9},"Exposure",null,null,"Protective Measures",null,null,"Robustness/Resilience",null,null,"Human",null,null,"Economic",null,null,"Psychological"]
[{"$f":"T(A666)","v":"Tunnels "},null,{"$f":"T(C666)","v":"LR"},{"$f":"SUM(D666)","v":14},{"v":1,"d":"1.0"},null,{"$f":"SUM(G666)","v":{"v":0,"d":"0.0"}},null,null,{"v":0,"d":"0.0"},null,null,{"v":0,"d":"0.0"},null,null,{"v":0,"d":"0.0"},null,null,{"v":0,"d":"0.0"},null,null,{"v":0,"d":"0.0"},null,null,{"v":0,"d":"0.0"}]
[{"$f":"T(A667)","v":""}]
[{"$nulls":4},{"$f":"SUM(E896)","v":{"v":1,"d":"1.0"}},null,{"$f":"SUM(G896)","v":{"v":0,"d":"0.0"}},null,null,{"$f":"SUM((J896+M896+P896)/3)","v":{"v":0,"d":"0.0"}},{"$nulls":8},{"$f":"SUM(((S896*3)+V896+Y896)/5)","v":{"v":0,"d":"0.0"}}]
[]
[{"$f":"T(A894)","v":"Derailment/Collision"},{"$nulls":3},"Threat",null,"Criticality",null,null,"Vulnerability",{"$nulls":8},"Consequence",{"$nulls":8},{"$f":"SUM(((((J904+S904)/2)*G904)*E904))","v":0}]
[{"$nulls":9},"Exposure",null,null,"Protective Measures",null,null,"Robustness/Resilience",null,null,"Human",null,null,"Economic",null,null,"Psychological"]
[{"$f":"T(A672)","v":"Choke Points on ROW"},null,{"$f":"T(C672)","v":"LR"},{"$f":"SUM(D672)","v":15},{"v":1,"d":"1.0"},null,{"$f":"SUM(G672)","v":{"v":0,"d":"0.0"}},null,null,{"v":0,"d":"0.0"},null,null,{"v":0,"d":"0.0"},null,null,{"v":0,"d":"0.0"},null,null,{"v":0,"d":"0.0"},null,null,{"v":0,"d":"0.0"},null,null,{"v":0,"d":"0.0"}]
[{"$f":"T(A673)","v":""}]
[{"$nulls":4},{"$f":"SUM(E902)","v":{"v":1,"d":"1.0"}},null,{"$f":"SUM(G902)","v":{"v":0,"d":"0.0"}},null,null,{"$f":"SUM((J902+M902+P902)/3)","v":{"v":0,"d":"0.0"}},{"$nulls":8},{"$f":"SUM(((S902*3)+V902+Y902)/5)","v":{"v":0,"d":"0.0"}}]
[]
[{"$f":"T(A900)","v":"Derailment/Collision"},{"$nulls":3},"Threat",null,"Criticality",null,null,"Vulnerability",{"$nulls":8},"Consequence",{"$nulls":8},{"$f":"SUM(((((J910+S910)/2)*G910)*E910))","v":0}]
[{"$nulls":9},"Exposure",null,null,"Protective Measures",null,null,"Robustness/Resilience",null,null,"Human",null,null,"Economic",null,null,"Psychological"]
[{"$f":"T(A678)","v":"Fire Suppression"},null,{"$f":"T(C678)","v":"LR"},{"$f":"SUM(D678)","v":16},{"v":1,"d":"1.0"},null,{"$f":"SUM(G678)","v":{"v":0,"d":"0.0"}},null,null,{"v":0,"d":"0.0"},null,null,{"v":0,"d":"0.0"},null,null,{"v":0,"d":"0.0"},null,null,{"v":0,"d":"0.0"},null,null,{"v":0,"d":"0.0"},null,null,{"v":0,"d":"0.0"}]
[{"$f":"T(A679)","v":""}]
[{"$nulls":4},{"$f":"SUM(E908)","v":{"v":1,"d":"1.0"}},null,{"$f":"SUM(G908)","v":{"v":0,"d":"0.0"}},null,null,{"$f":"SUM((J908+M908+P908)/3)","v":{"v":0,"d":"0.0"}},{"$nulls":8},{"$f":"SUM(((S908*3)+V908+Y908)/5)","v":{"v":0,"d":"0.0"}}]
[]
[{"$f":"T(A906)","v":"Derailment/Collision"},{"$nulls":3},"Threat",null,"Criticality",null,null,"Vulnerability",{"$nulls":8},"Consequence",{"$nulls":8},{"$f":"SUM(((((J916+S916)/2)*G916)*E916))","v":0}]
[{"$nulls":9},"Exposure",null,null,"Protective Measures",null,null,"Robustness/Resilience",null,null,"Human",null,null,"Economic",null,null,"Psychological"]
[{"$f":"T(A684)","v":"Power Generation/Distribution"},null,{"$f":"T(C684)","v":"LR"},{"$f":"SUM(D684)","v":17},{"v":1,"d":"1.0"},null,{"$f":"SUM(G684)","v":{"v":0,"d":"0.0"}},null,null,{"v":0,"d":"0.0"},null,null,{"v":0,"d":"0.0"},null,null,{"v":0,"d":"0.0"},null,null,{"v":0,"d":"0.0"},null,null,{"v":0,"d":"0.0"},null,null,{"v":0,"d":"0.0"}]
[{"$f":"T(A685)","v":""}]
[{"$nulls":4},{"$f":"SUM(E914)","v":{"v":1,"d":"1.0"}},null,{"$f":"SUM(G914)","v":{"v":0,"d":"0.0"}},null,null,{"$f":"SUM((J914+M914+P914)/3)","v":{"v":0,"d":"0.0"}},{"$nulls":8},{"$f":"SUM(((S914*3)+V914+Y914)/5)","v":{"v":0,"d":"0.0"}}]
[]
[{"$f":"T(A912)","v":"Derailment/Collision"},{"$nulls":3},"Threat",null,"Criticality",null,null,"Vulnerability",{"$nulls":8},"Consequence",{"$nulls":8},{"$f":"SUM(((((J922+S922)/2)*G922)*E922))","v":0}]
[{"$nulls":9},"Exposure",null,null,"Protective Measures",null,null,"Robustness/Resilience",null,null,"Human",null,null,"Economic",null,null,"Psychological"]
[{"$f":"T(A690)","v":"Yards"},null,{"$f":"T(C690)","v":"LR"},{"$f":"SUM(D690)","v":18},{"v":1,"d":"1.0"},null,{"$f":"SUM(G690)","v":{"v":0,"d":"0.0"}},null,null,{"v":0,"d":"0.0"},null,null,{"v":0,"d":"0.0"},null,null,{"v":0,"d":"0.0"},null,null,{"v":0,"d":"0.0"},null,null,{"v":0,"d":"0.0"},null,null,{"v":0,"d":"0.0"}]
[{"$f":"T(A691)","v":""}]
[{"$nulls":4},{"$f":"SUM(E920)","v":{"v":1,"d":"1.0"}},null,{"$f":"SUM(G920)","v":{"v":0,"d":"0.0"}},null,null,{"$f":"SUM((J920+M920+P920)/3)","v":{"v":0,"d":"0.0"}},{"$nulls":8},{"$f":"SUM(((S920*3)+V920+Y920)/5)","v":{"v":0,"d":"0.0"}}]
[]
[{"$f":"T(A918)","v":"Derailment/Collision"},{"$nulls":3},"Threat",null,"Criticality",null,null,"Vulnerability",{"$nulls":8},"Consequence",{"$nulls":8},{"$f":"SUM(((((J928+S928)/2)*G928)*E928))","v":0}]
[{"$nulls":9},"Exposure",null,null,"Protective Measures",null,null,"Robustness/Resilience",null,null,"Human",null,null,"Economic",null,null,"Psychological"]
[{"$f":"T(A696)","v":"Maintenance Barns/Facilities"},null,{"$f":"T(C696)","v":"LR"},{"$f":"SUM(D696)","v":19},{"v":1,"d":"1.0"},null,{"$f":"SUM(G696)","v":{"v":0,"d":"0.0"}},null,null,{"v":0,"d":"0.0"},null,null,{"v":0,"d":"0.0"},null,null,{"v":0,"d":"0.0"},null,null,{"v":0,"d":"0.0"},null,null,{"v":0,"d":"0.0"},null,null,{"v":0,"d":"0.0"}]
[{"$f":"T(A697)","v":""}]
[{"$nulls":4},{"$f":"SUM(E926)","v":{"v":1,"d":"1.0"}},null,{"$f":"SUM(G926)","v":{"v":0,"d":"0.0"}},null,null,{"$f":"SUM((J926+M926+P926)/3)","v":{"v":0,"d":"0.0"}},{"$nulls":8},{"$f":"SUM(((S926*3)+V926+Y926)/5)","v":{"v":0,"d":"0.0"}}]
[]
[{"$f":"T(Definitions!D27)","v":"Widespread Power Outage"}]
[{"$f":"T(A930)","v":"Widespread Power Outage"},{"$nulls":3},"Threat",null,"Criticality",null,null,"Vulnerability",{"$nulls":8},"Consequence",{"$nulls":8},{"$f":"SUM(((((J935+S935)/2)*G935)*E935))","v":0}]
[{"$nulls":9},"Exposure",null,null,"Protective Measures",null,null,"Robustness/Resilience",null,null,"Human",null,null,"Economic",null,null,"Psychological"]
[{"$f":"T(A818)","v":"Headquarters Building"},null,{"$f":"T(C818)","v":"LR"},{"$f":"SUM(D818)","v":1},{"v":1,"d":"1.0"},null,{"$f":"SUM(G818)","v":{"v":0,"d":"0.0"}},null,null,{"v":0,"d":"0.0"},null,null,{"v":0,"d":"0.0"},null,null,{"v":0,"d":"0.0"},null,null,{"v":0,"d":"0.0"},null,null,{"v":0,"d":"0.0"},null,null,{"v":0,"d":"0.0"}]
[{"$f":"T(A819)","v":""}]
[{"$nulls":4},{"$f":"SUM(E933)","v":{"v":1,"d":"1.0"}},null,{"$f":"SUM(G933)","v":{"v":0,"d":"0.0"}},null,null,{"$f":"SUM((J933+M933+P933)/3)","v":{"v":0,"d":"0.0"}},{"$nulls":8},{"$f":"SUM(((S933*3)+V933+Y933)/5)","v":{"v":0,"d":"0.0"}}]
[]
[{"$f":"T(A930)","v":"Widespread Power Outage"},{"$nulls":3},"Threat",null,"Criticality",null,null,"Vulnerability",{"$nulls":8},"Consequence",{"$nulls":8},{"$f":"SUM(((((J941+S941)/2)*G941)*E941))","v":0}]
[{"$nulls":9},"Exposure",null,null,"Protective Measures",null,null,"Robustness/Resilience",null,null,"Human",null,null,"Economic",null,null,"Psychological"]
[{"$f":"T(A824)","v":"Major Passenger Terminals"},null,{"$f":"T(C824)","v":"LR"},{"$f":"SUM(D824)","v":2},{"v":1,"d":"1.0"},null,{"$f":"SUM(G824)","v":{"v":0,"d":"0.0"}},null,null,{"v":0,"d":"0.0"},null,null,{"v":0,"d":"0.0"},null,null,{"v":0,"d":"0.0"},null,null,{"v":0,"d":"0.0"},null,null,{"v":0,"d":"0.0"},null,null,{"v":0,"d":"0.0"}]
[{"$f":"T(A825)","v":""}]
[{"$nulls":4},{"$f":"SUM(E939)","v":{"v":1,"d":"1.0"}},null,{"$f":"SUM(G939)","v":{"v":0,"d":"0.0"}},null,null,{"$f":"SUM((J939+M939+P939)/3)","v":{"v":0,"d":"0.0"}},{"$nulls":8},{"$f":"SUM(((S939*3)+V939+Y939)/5)","v":{"v":0,"d":"0.0"}}]
[]
[{"$f":"T(A937)","v":"Widespread Power Outage"},{"$nulls":3},"Threat",null,"Criticality",null,null,"Vulnerability",{"$nulls":8},"Consequence",{"$nulls":8},{"$f":"SUM(((((J947+S947)/2)*G947)*E947))","v":0}]
[{"$nulls":9},"Exposure",null,null,"Protective Measures",null,null,"Robustness/Resilience",null,null,"Human",null,null,"Economic",null,null,"Psychological"]
[{"$f":"T(A830)","v":"Major Line Stations"},null,{"$f":"T(C830)","v":"LR"},{"$f":"SUM(D830)","v":3},{"v":1,"d":"1.0"},null,{"$f":"SUM(G830)","v":{"v":0,"d":"0.0"}},null,null,{"v":0,"d":"0.0"},null,null,{"v":0,"d":"0.0"},null,null,{"v":0,"d":"0.0"},null,null,{"v":0,"d":"0.0"},null,null,{"v":0,"d":"0.0"},null,null,{"v":0,"d":"0.0"}]
[{"$f":"T(A831)","v":""}]
[{"$nulls":4},{"$f":"SUM(E945)","v":{"v":1,"d":"1.0"}},null,{"$f":"SUM(G945)","v":{"v":0,"d":"0.0"}},null,null,{"$f":"SUM((J945+M945+P945)/3)","v":{"v":0,"d":"0.0"}},{"$nulls":8},{"$f":"SUM(((S945*3)+V945+Y945)/5)","v":{"v":0,"d":"0.0"}}]
[]
[{"$f":"T(A943)","v":"Widespread Power Outage"},{"$nulls":3},"Threat",null,"Criticality",null,null,"Vulnerability",{"$nulls":8},"Consequence",{"$nulls":8},{"$f":"SUM(((((J953+S953)/2)*G953)*E953))","v":0}]
[{"$nulls":9},"Exposure",null,null,"Protective Measures",null,null,"Robustness/Resilience",null,null,"Human",null,null,"Economic",null,null,"Psychological"]
[{"$f":"T(A836)","v":"Parking Structures"},null,{"$f":"T(C836)","v":"LR"},{"$f":"SUM(D836)","v":4},{"v":1,"d":"1.0"},null,{"$f":"SUM(G836)","v":{"v":0,"d":"0.0"}},null,null,{"v":0,"d":"0.0"},null,null,{"v":0,"d":"0.0"},null,null,{"v":0,"d":"0.0"},null,null,{"v":0,"d":"0.0"},null,null,{"v":0,"d":"0.0"},null,null,{"v":0,"d":"0.0"}]
[{"$f":"T(A837)","v":""}]
[{"$nulls":4},{"$f":"SUM(E951)","v":{"v":1,"d":"1.0"}},null,{"$f":"SUM(G951)","v":{"v":0,"d":"0.0"}},null,null,{"$f":"SUM((J951+M951+P951)/3)","v":{"v":0,"d":"0.0"}},{"$nulls":8},{"$f":"SUM(((S951*3)+V951+Y951)/5)","v":{"v":0,"d":"0.0"}}]
[]
[{"$f":"T(A949)","v":"Widespread Power Outage"},{"$nulls":3},"Threat",null,"Criticality",null,null,"Vulnerability",{"$nulls":8},"Consequence",{"$nulls":8},{"$f":"SUM(((((J959+S959)/2)*G959)*E959))","v":0}]
[{"$nulls":9},"Exposure",null,null,"Protective Measures",null,null,"Robustness/Resilience",null,null,"Human",null,null,"Economic",null,null,"Psychological"]
[{"$f":"T(A842)","v":"Consist - Type 1"},null,{"$f":"T(C842)","v":"LR"},{"$f":"SUM(D842)","v":5},{"v":1,"d":"1.0"},null,{"$f":"SUM(G842)","v":{"v":0,"d":"0.0"}},null,null,{"v":0,"d":"0.0"},null,null,{"v":0,"d":"0.0"},null,null,{"v":0,"d":"0.0"},null,null,{"v":0,"d":"0.0"},null,null,{"v":0,"d":"0.0"},null,null,{"v":0,"d":"0.0"}]
[{"$f":"T(A843)","v":""}]
[{"$nulls":4},{"$f":"SUM(E957)","v":{"v":1,"d":"1.0"}},null,{"$f":"SUM(G957)","v":{"v":0,"d":"0.0"}},null,null,{"$f":"SUM((J957+M957+P957)/3)","v":{"v":0,"d":"0.0"}},{"$nulls":8},{"$f":"SUM(((S957*3)+V957+Y957)/5)","v":{"v":0,"d":"0.0"}}]
[]
[{"$f":"T(A955)","v":"Widespread Power Outage"},{"$nulls":3},"Threat",null,"Criticality",null,null,"Vulnerability",{"$nulls":8},"Consequence",{"$nulls":8},{"$f":"SUM(((((J965+S965)/2)*G965)*E965))","v":0}]
[{"$nulls":9},"Exposure",null,null,"Protective Measures",null,null,"Robustness/Resilience",null,null,"Human",null,null,"Economic",null,null,"Psychological"]
[{"$f":"T(A848)","v":"Consist - Type 2"},null,{"$f":"T(C848)","v":"LR"},{"$f":"SUM(D848)","v":6},{"v":1,"d":"1.0"},null,{"$f":"SUM(G848)","v":{"v":0,"d":"0.0"}},null,null,{"v":0,"d":"0.0"},null,null,{"v":0,"d":"0.0"},null,null,{"v":0,"d":"0.0"},null,null,{"v":0,"d":"0.0"},null,null,{"v":0,"d":"0.0"},null,null,{"v":0,"d":"0.0"}]
[{"$f":"T(A849)","v":""}]
[{"$nulls":4},{"$f":"SUM(E963)","v":{"v":1,"d":"1.0"}},null,{"$f":"SUM(G963)","v":{"v":0,"d":"0.0"}},null,null,{"$f":"SUM((J963+M963+P963)/3)","v":{"v":0,"d":"0.0"}},{"$nulls":8},{"$f":"SUM(((S963*3)+V963+Y963)/5)","v":{"v":0,"d":"0.0"}}]
[]
[{"$f":"T(A961)","v":"Widespread Power Outage"},{"$nulls":3},"Threat",null,"Criticality",null,null,"Vulnerability",{"$nulls":8},"Consequence",{"$nulls":8},{"$f":"SUM(((((J971+S971)/2)*G971)*E971))","v":0}]
[{"$nulls":9},"Exposure",null,null,"Protective Measures",null,null,"Robustness/Resilience",null,null,"Human",null,null,"Economic",null,null,"Psychological"]
[{"$f":"T(A854)","v":"Primary Control Center"},null,{"$f":"T(C854)","v":"LR"},{"$f":"SUM(D854)","v":7},{"v":1,"d":"1.0"},null,{"$f":"SUM(G854)","v":{"v":0,"d":"0.0"}},null,null,{"v":0,"d":"0.0"},null,null,{"v":0,"d":"0.0"},null,null,{"v":0,"d":"0.0"},null,null,{"v":0,"d":"0.0"},null,null,{"v":0,"d":"0.0"},null,null,{"v":0,"d":"0.0"}]
[{"$f":"T(A855)","v":""}]
[{"$nulls":4},{"$f":"SUM(E969)","v":{"v":1,"d":"1.0"}},null,{"$f":"SUM(G969)","v":{"v":0,"d":"0.0"}},null,null,{"$f":"SUM((J969+M969+P969)/3)","v":{"v":0,"d":"0.0"}},{"$nulls":8},{"$f":"SUM(((S969*3)+V969+Y969)/5)","v":{"v":0,"d":"0.0"}}]
[]
[{"$f":"T(A967)","v":"Widespread Power Outage"},{"$nulls":3},"Threat",null,"Criticality",null,null,"Vulnerability",{"$nulls":8},"Consequence",{"$nulls":8},{"$f":"SUM(((((J977+S977)/2)*G977)*E977))","v":0}]
[{"$nulls":9},"Exposure",null,null,"Protective Measures",null,null,"Robustness/Resilience",null,null,"Human",null,null,"Economic",null,null,"Psychological"]
[{"$f":"T(A860)","v":"Cyber Systems"},null,{"$f":"T(C860)","v":"LR"},{"$f":"SUM(D860)","v":8},{"v":1,"d":"1.0"},null,{"$f":"SUM(G860)","v":{"v":0,"d":"0.0"}},null,null,{"v":0,"d":"0.0"},null,null,{"v":0,"d":"0.0"},null,null,{"v":0,"d":"0.0"},null,null,{"v":0,"d":"0.0"},null,null,{"v":0,"d":"0.0"},null,null,{"v":0,"d":"0.0"}]
[{"$f":"T(A861)","v":""}]
[{"$nulls":4},{"$f":"SUM(E975)","v":{"v":1,"d":"1.0"}},null,{"$f":"SUM(G975)","v":{"v":0,"d":"0.0"}},null,null,{"$f":"SUM((J975+M975+P975)/3)","v":{"v":0,"d":"0.0"}},{"$nulls":8},{"$f":"SUM(((S975*3)+V975+Y975)/5)","v":{"v":0,"d":"0.0"}}]
[]
[{"$f":"T(A967)","v":"Widespread Power Outage"},{"$nulls":3},"Threat",null,"Criticality",null,null,"Vulnerability",{"$nulls":8},"Consequence",{"$nulls":8},{"$f":"SUM(((((J983+S983)/2)*G983)*E983))","v":0}]
[{"$nulls":9},"Exposure",null,null,"Protective Measures",null,null,"Robustness/Resilience",null,null,"Human",null,null,"Economic",null,null,"Psychological"]
[{"$f":"T(A866)","v":"Right of Way (ROW)"},null,{"$f":"T(C866)","v":"LR"},{"$f":"SUM(D866)","v":9},{"v":1,"d":"1.0"},null,{"$f":"SUM(G866)","v":{"v":0,"d":"0.0"}},null,null,{"v":0,"d":"0.0"},null,null,{"v":0,"d":"0.0"},null,null,{"v":0,"d":"0.0"},null,null,{"v":0,"d":"0.0"},null,null,{"v":0,"d":"0.0"},null,null,{"v":0,"d":"0.0"}]
[{"$f":"T(A867)","v":""}]
[{"$nulls":4},{"$f":"SUM(E981)","v":{"v":1,"d":"1.0"}},null,{"$f":"SUM(G981)","v":{"v":0,"d":"0.0"}},null,null,{"$f":"SUM((J981+M981+P981)/3)","v":{"v":0,"d":"0.0"}},{"$nulls":8},{"$f":"SUM(((S981*3)+V981+Y981)/5)","v":{"v":0,"d":"0.0"}}]
[]
[{"$f":"T(A967)","v":"Widespread Power Outage"},{"$nulls":3},"Threat",null,"Criticality",null,null,"Vulnerability",{"$nulls":8},"Consequence",{"$nulls":8},{"$f":"SUM(((((J989+S989)/2)*G989)*E989))","v":0}]
[{"$nulls":9},"Exposure",null,null,"Protective Measures",null,null,"Robustness/Resilience",null,null,"Human",null,null,"Economic",null,null,"Psychological"]
[{"$f":"T(A872)","v":"Signals & PTC"},null,{"$f":"T(C872)","v":"LR"},{"$f":"SUM(D872)","v":10},{"v":1,"d":"1.0"},null,{"$f":"SUM(G872)","v":{"v":0,"d":"0.0"}},null,null,{"v":0,"d":"0.0"},null,null,{"v":0,"d":"0.0"},null,null,{"v":0,"d":"0.0"},null,null,{"v":0,"d":"0.0"},null,null,{"v":0,"d":"0.0"},null,null,{"v":0,"d":"0.0"}]
[{"$f":"T(A873)","v":""}]
[{"$nulls":4},{"$f":"SUM(E987)","v":{"v":1,"d":"1.0"}},null,{"$f":"SUM(G987)","v":{"v":0,"d":"0.0"}},null,null,{"$f":"SUM((J987+M987+P987)/3)","v":{"v":0,"d":"0.0"}},{"$nulls":8},{"$f":"SUM(((S987*3)+V987+Y987)/5)","v":{"v":0,"d":"0.0"}}]
[]
[{"$f":"T(A985)","v":"Widespread Power Outage"},{"$nulls":3},"Threat",null,"Criticality",null,null,"Vulnerability",{"$nulls":8},"Consequence",{"$nulls":8},{"$f":"SUM(((((J995+S995)/2)*G995)*E995))","v":0}]
[{"$nulls":9},"Exposure",null,null,"Protective Measures",null,null,"Robustness/Resilience",null,null,"Human",null,null,"Economic",null,null,"Psychological"]
[{"$f":"T(A878)","v":"Switches "},null,{"$f":"T(C878)","v":"LR"},{"$f":"SUM(D878)","v":11},{"v":1,"d":"1.0"},null,{"$f":"SUM(G878)","v":{"v":0,"d":"0.0"}},null,null,{"v":0,"d":"0.0"},null,null,{"v":0,"d":"0.0"},null,null,{"v":0,"d":"0.0"},null,null,{"v":0,"d":"0.0"},null,null,{"v":0,"d":"0.0"},null,null,{"v":0,"d":"0.0"}]
[{"$f":"T(A879)","v":""}]
[{"$nulls":4},{"$f":"SUM(E993)","v":{"v":1,"d":"1.0"}},null,{"$f":"SUM(G993)","v":{"v":0,"d":"0.0"}},null,null,{"$f":"SUM((J993+M993+P993)/3)","v":{"v":0,"d":"0.0"}},{"$nulls":8},{"$f":"SUM(((S993*3)+V993+Y993)/5)","v":{"v":0,"d":"0.0"}}]
[]
[{"$f":"T(A991)","v":"Widespread Power Outage"},{"$nulls":3},"Threat",null,"Criticality",null,null,"Vulnerability",{"$nulls":8},"Consequence",{"$nulls":8},{"$f":"SUM(((((J1001+S1001)/2)*G1001)*E1001))","v":0}]
[{"$nulls":9},"Exposure",null,null,"Protective Measures",null,null,"Robustness/Resilience",null,null,"Human",null,null,"Economic",null,null,"Psychological"]
[{"$f":"T(A884)","v":"Bridges"},null,{"$f":"T(C884)","v":"LR"},{"$f":"SUM(D884)","v":12},{"v":1,"d":"1.0"},null,{"$f":"SUM(G884)","v":{"v":0,"d":"0.0"}},null,null,{"v":0,"d":"0.0"},null,null,{"v":0,"d":"0.0"},null,null,{"v":0,"d":"0.0"},null,null,{"v":0,"d":"0.0"},null,null,{"v":0,"d":"0.0"},null,null,{"v":0,"d":"0.0"}]
[{"$f":"T(A885)","v":""}]
[{"$nulls":4},{"$f":"SUM(E999)","v":{"v":1,"d":"1.0"}},null,{"$f":"SUM(G999)","v":{"v":0,"d":"0.0"}},null,null,{"$f":"SUM((J999+M999+P999)/3)","v":{"v":0,"d":"0.0"}},{"$nulls":8},{"$f":"SUM(((S999*3)+V999+Y999)/5)","v":{"v":0,"d":"0.0"}}]
[]
[{"$f":"T(A997)","v":"Widespread Power Outage"},{"$nulls":3},"Threat",null,"Criticality",null,null,"Vulnerability",{"$nulls":8},"Consequence",{"$nulls":8},{"$f":"SUM(((((J1007+S1007)/2)*G1007)*E1007))","v":0}]
[{"$nulls":9},"Exposure",null,null,"Protective Measures",null,null,"Robustness/Resilience",null,null,"Human",null,null,"Economic",null,null,"Psychological"]
[{"$f":"T(A890)","v":"Elevated Track"},null,{"$f":"T(C890)","v":"LR"},{"$f":"SUM(D890)","v":13},{"v":1,"d":"1.0"},null,{"$f":"SUM(G890)","v":{"v":0,"d":"0.0"}},null,null,{"v":0,"d":"0.0"},null,null,{"v":0,"d":"0.0"},null,null,{"v":0,"d":"0.0"},null,null,{"v":0,"d":"0.0"},null,null,{"v":0,"d":"0.0"},null,null,{"v":0,"d":"0.0"}]
[{"$f":"T(A891)","v":""}]
[{"$nulls":4},{"$f":"SUM(E1005)","v":{"v":1,"d":"1.0"}},null,{"$f":"SUM(G1005)","v":{"v":0,"d":"0.0"}},null,null,{"$f":"SUM((J1005+M1005+P1005)/3)","v":{"v":0,"d":"0.0"}},{"$nulls":8},{"$f":"SUM(((S1005*3)+V1005+Y1005)/5)","v":{"v":0,"d":"0.0"}}]
[]
[{"$f":"T(A1003)","v":"Widespread Power Outage"},{"$nulls":3},"Threat",null,"Criticality",null,null,"Vulnerability",{"$nulls":8},"Consequence",{"$nulls":8},{"$f":"SUM(((((J1013+S1013)/2)*G1013)*E1013))","v":0}]
[{"$nulls":9},"Exposure",null,null,"Protective Measures",null,null,"Robustness/Resilience",null,null,"Human",null,null,"Economic",null,null,"Psychological"]
[{"$f":"T(A896)","v":"Tunnels "},null,{"$f":"T(C896)","v":"LR"},{"$f":"SUM(D896)","v":14},{"v":1,"d":"1.0"},null,{"$f":"SUM(G896)","v":{"v":0,"d":"0.0"}},null,null,{"v":0,"d":"0.0"},null,null,{"v":0,"d":"0.0"},null,null,{"v":0,"d":"0.0"},null,null,{"v":0,"d":"0.0"},null,null,{"v":0,"d":"0.0"},null,null,{"v":0,"d":"0.0"}]
[{"$f":"T(A897)","v":""}]
[{"$nulls":4},{"$f":"SUM(E1011)","v":{"v":1,"d":"1.0"}},null,{"$f":"SUM(G1011)","v":{"v":0,"d":"0.0"}},null,null,{"$f":"SUM((J1011+M1011+P1011)/3)","v":{"v":0,"d":"0.0"}},{"$nulls":8},{"$f":"SUM(((S1011*3)+V1011+Y1011)/5)","v":{"v":0,"d":"0.0"}}]
[]
[{"$f":"T(A1009)","v":"Widespread Power Outage"},{"$nulls":3},"Threat",null,"Criticality",null,null,"Vulnerability",{"$nulls":8},"Consequence",{"$nulls":8},{"$f":"SUM(((((J1019+S1019)/2)*G1019)*E1019))","v":0}]
[{"$nulls":9},"Exposure",null,null,"Protective Measures",null,null,"Robustness/Resilience",null,null,"Human",null,null,"Economic",null,null,"Psychological"]
[{"$f":"T(A902)","v":"Choke Points on ROW"},null,{"$f":"T(C902)","v":"LR"},{"$f":"SUM(D902)","v":15},{"v":1,"d":"1.0"},null,{"$f":"SUM(G902)","v":{"v":0,"d":"0.0"}},null,null,{"v":0,"d":"0.0"},null,null,{"v":0,"d":"0.0"},null,null,{"v":0,"d":"0.0"},null,null,{"v":0,"d":"0.0"},null,null,{"v":0,"d":"0.0"},null,null,{"v":0,"d":"0.0"}]
[{"$f":"T(A903)","v":""}]
[{"$nulls":4},{"$f":"SUM(E1017)","v":{"v":1,"d":"1.0"}},null,{"$f":"SUM(G1017)","v":{"v":0,"d":"0.0"}},null,null,{"$f":"SUM((J1017+M1017+P1017)/3)","v":{"v":0,"d":"0.0"}},{"$nulls":8},{"$f":"SUM(((S1017*3)+V1017+Y1017)/5)","v":{"v":0,"d":"0.0"}}]
[]
[{"$f":"T(A1015)","v":"Widespread Power Outage"},{"$nulls":3},"Threat",null,"Criticality",null,null,"Vulnerability",{"$nulls":8},"Consequence",{"$nulls":8},{"$f":"SUM(((((J1025+S1025)/2)*G1025)*E1025))","v":0}]
[{"$nulls":9},"Exposure",null,null,"Protective Measures",null,null,"Robustness/Resilience",null,null,"Human",null,null,"Economic",null,null,"Psychological"]
[{"$f":"T(A908)","v":"Fire Suppression"},null,{"$f":"T(C908)","v":"LR"},{"$f":"SUM(D908)","v":16},{"v":1,"d":"1.0"},null,{"$f":"SUM(G908)","v":{"v":0,"d":"0.0"}},null,null,{"v":0,"d":"0.0"},null,null,{"v":0,"d":"0.0"},null,null,{"v":0,"d":"0.0"},null,null,{"v":0,"d":"0.0"},null,null,{"v":0,"d":"0.0"},null,null,{"v":0,"d":"0.0"}]
[{"$f":"T(A909)","v":""}]
[{"$nulls":4},{"$f":"SUM(E1023)","v":{"v":1,"d":"1.0"}},null,{"$f":"SUM(G1023)","v":{"v":0,"d":"0.0"}},null,null,{"$f":"SUM((J1023+M1023+P1023)/3)","v":{"v":0,"d":"0.0"}},{"$nulls":8},{"$f":"SUM(((S1023*3)+V1023+Y1023)/5)","v":{"v":0,"d":"0.0"}}]
[]
[{"$f":"T(A1021)","v":"Widespread Power Outage"},{"$nulls":3},"Threat",null,"Criticality",null,null,"Vulnerability",{"$nulls":8},"Consequence",{"$nulls":8},{"$f":"SUM(((((J1031+S1031)/2)*G1031)*E1031))","v":0}]
[{"$nulls":9},"Exposure",null,null,"Protective Measures",null,null,"Robustness/Resilience",null,null,"Human",null,null,"Economic",null,null,"Psychological"]
[{"$f":"T(A914)","v":"Power Generation/Distribution"},null,{"$f":"T(C914)","v":"LR"},{"$f":"SUM(D914)","v":17},{"v":1,"d":"1.0"},null,{"$f":"SUM(G914)","v":{"v":0,"d":"0.0"}},null,null,{"v":0,"d":"0.0"},null,null,{"v":0,"d":"0.0"},null,null,{"v":0,"d":"0.0"},null,null,{"v":0,"d":"0.0"},null,null,{"v":0,"d":"0.0"},null,null,{"v":0,"d":"0.0"}]
[{"$f":"T(A915)","v":""}]
[{"$nulls":4},{"$f":"SUM(E1029)","v":{"v":1,"d":"1.0"}},null,{"$f":"SUM(G1029)","v":{"v":0,"d":"0.0"}},null,null,{"$f":"SUM((J1029+M1029+P1029)/3)","v":{"v":0,"d":"0.0"}},{"$nulls":8},{"$f":"SUM(((S1029*3)+V1029+Y1029)/5)","v":{"v":0,"d":"0.0"}}]
[]
[{"$f":"T(A1027)","v":"Widespread Power Outage"},{"$nulls":3},"Threat",null,"Criticality",null,null,"Vulnerability",{"$nulls":8},"Consequence",{"$nulls":8},{"$f":"SUM(((((J1037+S1037)/2)*G1037)*E1037))","v":0}]
[{"$nulls":9},"Exposure",null,null,"Protective Measures",null,null,"Robustness/Resilience",null,null,"Human",null,null,"Economic",null,null,"Psychological"]
[{"$f":"T(A920)","v":"Yards"},null,{"$f":"T(C920)","v":"LR"},{"$f":"SUM(D920)","v":18},{"v":1,"d":"1.0"},null,{"$f":"SUM(G920)","v":{"v":0,"d":"0.0"}},null,null,{"v":0,"d":"0.0"},null,null,{"v":0,"d":"0.0"},null,null,{"v":0,"d":"0.0"},null,null,{"v":0,"d":"0.0"},null,null,{"v":0,"d":"0.0"},null,null,{"v":0,"d":"0.0"}]
[{"$f":"T(A921)","v":""}]
[{"$nulls":4},{"$f":"SUM(E1035)","v":{"v":1,"d":"1.0"}},null,{"$f":"SUM(G1035)","v":{"v":0,"d":"0.0"}},null,null,{"$f":"SUM((J1035+M1035+P1035)/3)","v":{"v":0,"d":"0.0"}},{"$nulls":8},{"$f":"SUM(((S1035*3)+V1035+Y1035)/5)","v":{"v":0,"d":"0.0"}}]
[]
[{"$f":"T(A1033)","v":"Widespread Power Outage"},{"$nulls":3},"Threat",null,"Criticality",null,null,"Vulnerability",{"$nulls":8},"Consequence",{"$nulls":8},{"$f":"SUM(((((J1043+S1043)/2)*G1043)*E1043))","v":0}]
[{"$nulls":9},"Exposure",null,null,"Protective Measures",null,null,"Robustness/Resilience",null,null,"Human",null,null,"Economic",null,null,"Psychological"]
[{"$f":"T(A926)","v":"Maintenance Barns/Facilities"},null,{"$f":"T(C926)","v":"LR"},{"$f":"SUM(D926)","v":19},{"v":1,"d":"1.0"},null,{"$f":"SUM(G926)","v":{"v":0,"d":"0.0"}},null,null,{"v":0,"d":"0.0"},null,null,{"v":0,"d":"0.0"},null,null,{"v":0,"d":"0.0"},null,null,{"v":0,"d":"0.0"},null,null,{"v":0,"d":"0.0"},null,null,{"v":0,"d":"0.0"}]
[{"$f":"T(A927)","v":""}]
[{"$nulls":4},{"$f":"SUM(E1041)","v":{"v":1,"d":"1.0"}},null,{"$f":"SUM(G1041)","v":{"v":0,"d":"0.0"}},null,null,{"$f":"SUM((J1041+M1041+P1041)/3)","v":{"v":0,"d":"0.0"}},{"$nulls":8},{"$f":"SUM(((S1041*3)+V1041+Y1041)/5)","v":{"v":0,"d":"0.0"}}]
[]
[{"$f":"T(Definitions!D28)","v":"Weapon of Mass Destruction "}]
[{"$f":"T(A1045)","v":"Weapon of Mass Destruction "},{"$nulls":3},"Threat",null,"Criticality",null,null,"Vulnerability",{"$nulls":8},"Consequence",{"$nulls":8},{"$f":"SUM(((((J1050+S1050)/2)*G1050)*E1050))","v":0}]
[{"$nulls":9},"Exposure",null,null,"Protective Measures",null,null,"Robustness/Resilience",null,null,"Human",null,null,"Economic",null,null,"Psychological"]
[{"$f":"T(A933)","v":"Headquarters Building"},null,{"$f":"T(C933)","v":"LR"},{"$f":"SUM(D933)","v":1},{"v":1,"d":"1.0"},null,{"$f":"SUM(G933)","v":{"v":0,"d":"0.0"}},null,null,{"v":0,"d":"0.0"},null,null,{"v":0,"d":"0.0"},null,null,{"v":0,"d":"0.0"},null,null,{"v":0,"d":"0.0"},null,null,{"v":0,"d":"0.0"},null,null,{"v":0,"d":"0.0"}]
[{"$f":"T(A934)","v":""}]
[{"$nulls":4},{"$f":"SUM(E1048)","v":{"v":1,"d":"1.0"}},null,{"$f":"SUM(G1048)","v":{"v":0,"d":"0.0"}},null,null,{"$f":"SUM((J1048+M1048+P1048)/3)","v":{"v":0,"d":"0.0"}},{"$nulls":8},{"$f":"SUM(((S1048*3)+V1048+Y1048)/5)","v":{"v":0,"d":"0.0"}}]
[]
[{"$f":"T(A1045)","v":"Weapon of Mass Destruction "},{"$nulls":3},"Threat",null,"Criticality",null,null,"Vulnerability",{"$nulls":8},"Consequence",{"$nulls":8},{"$f":"SUM(((((J1056+S1056)/2)*G1056)*E1056))","v":0}]
[{"$nulls":9},"Exposure",null,null,"Protective Measures",null,null,"Robustness/Resilience",null,null,"Human",null,null,"Economic",null,null,"Psychological"]
[{"$f":"T(A939)","v":"Major Passenger Terminals"},null,{"$f":"T(C939)","v":"LR"},{"$f":"SUM(D939)","v":2},{"v":1,"d":"1.0"},null,{"$f":"SUM(G939)","v":{"v":0,"d":"0.0"}},null,null,{"v":0,"d":"0.0"},null,null,{"v":0,"d":"0.0"},null,null,{"v":0,"d":"0.0"},null,null,{"v":0,"d":"0.0"},null,null,{"v":0,"d":"0.0"},null,null,{"v":0,"d":"0.0"}]
[{"$f":"T(A940)","v":""}]
[{"$nulls":4},{"$f":"SUM(E1054)","v":{"v":1,"d":"1.0"}},null,{"$f":"SUM(G1054)","v":{"v":0,"d":"0.0"}},null,null,{"$f":"SUM((J1054+M1054+P1054)/3)","v":{"v":0,"d":"0.0"}},{"$nulls":8},{"$f":"SUM(((S1054*3)+V1054+Y1054)/5)","v":{"v":0,"d":"0.0"}}]
[]
[{"$f":"T(A1052)","v":"Weapon of Mass Destruction "},{"$nulls":3},"Threat",null,"Criticality",null,null,"Vulnerability",{"$nulls":8},"Consequence",{"$nulls":8},{"$f":"SUM(((((J1062+S1062)/2)*G1062)*E1062))","v":0}]
[{"$nulls":9},"Exposure",null,null,"Protective Measures",null,null,"Robustness/Resilience",null,null,"Human",null,null,"Economic",null,null,"Psychological"]
[{"$f":"T(A945)","v":"Major Line Stations"},null,{"$f":"T(C945)","v":"LR"},{"$f":"SUM(D945)","v":3},{"v":1,"d":"1.0"},null,{"$f":"SUM(G945)","v":{"v":0,"d":"0.0"}},null,null,{"v":0,"d":"0.0"},null,null,{"v":0,"d":"0.0"},null,null,{"v":0,"d":"0.0"},null,null,{"v":0,"d":"0.0"},null,null,{"v":0,"d":"0.0"},null,null,{"v":0,"d":"0.0"}]
[{"$f":"T(A946)","v":""}]
[{"$nulls":4},{"$f":"SUM(E1060)","v":{"v":1,"d":"1.0"}},null,{"$f":"SUM(G1060)","v":{"v":0,"d":"0.0"}},null,null,{"$f":"SUM((J1060+M1060+P1060)/3)","v":{"v":0,"d":"0.0"}},{"$nulls":8},{"$f":"SUM(((S1060*3)+V1060+Y1060)/5)","v":{"v":0,"d":"0.0"}}]
[]
[{"$f":"T(A1058)","v":"Weapon of Mass Destruction "},{"$nulls":3},"Threat",null,"Criticality",null,null,"Vulnerability",{"$nulls":8},"Consequence",{"$nulls":8},{"$f":"SUM(((((J1068+S1068)/2)*G1068)*E1068))","v":0}]
[{"$nulls":9},"Exposure",null,null,"Protective Measures",null,null,"Robustness/Resilience",null,null,"Human",null,null,"Economic",null,null,"Psychological"]
[{"$f":"T(A951)","v":"Parking Structures"},null,{"$f":"T(C951)","v":"LR"},{"$f":"SUM(D951)","v":4},{"v":1,"d":"1.0"},null,{"$f":"SUM(G951)","v":{"v":0,"d":"0.0"}},null,null,{"v":0,"d":"0.0"},null,null,{"v":0,"d":"0.0"},null,null,{"v":0,"d":"0.0"},null,null,{"v":0,"d":"0.0"},null,null,{"v":0,"d":"0.0"},null,null,{"v":0,"d":"0.0"}]
[{"$f":"T(A952)","v":""}]
[{"$nulls":4},{"$f":"SUM(E1066)","v":{"v":1,"d":"1.0"}},null,{"$f":"SUM(G1066)","v":{"v":0,"d":"0.0"}},null,null,{"$f":"SUM((J1066+M1066+P1066)/3)","v":{"v":0,"d":"0.0"}},{"$nulls":8},{"$f":"SUM(((S1066*3)+V1066+Y1066)/5)","v":{"v":0,"d":"0.0"}}]
[]
[{"$f":"T(A1064)","v":"Weapon of Mass Destruction "},{"$nulls":3},"Threat",null,"Criticality",null,null,"Vulnerability",{"$nulls":8},"Consequence",{"$nulls":8},{"$f":"SUM(((((J1074+S1074)/2)*G1074)*E1074))","v":0}]
[{"$nulls":9},"Exposure",null,null,"Protective Measures",null,null,"Robustness/Resilience",null,null,"Human",null,null,"Economic",null,null,"Psychological"]
[{"$f":"T(A957)","v":"Consist - Type 1"},null,{"$f":"T(C957)","v":"LR"},{"$f":"SUM(D957)","v":5},{"v":1,"d":"1.0"},null,{"$f":"SUM(G957)","v":{"v":0,"d":"0.0"}},null,null,{"v":0,"d":"0.0"},null,null,{"v":0,"d":"0.0"},null,null,{"v":0,"d":"0.0"},null,null,{"v":0,"d":"0.0"},null,null,{"v":0,"d":"0.0"},null,null,{"v":0,"d":"0.0"}]
[{"$f":"T(A958)","v":""}]
[{"$nulls":4},{"$f":"SUM(E1072)","v":{"v":1,"d":"1.0"}},null,{"$f":"SUM(G1072)","v":{"v":0,"d":"0.0"}},null,null,{"$f":"SUM((J1072+M1072+P1072)/3)","v":{"v":0,"d":"0.0"}},{"$nulls":8},{"$f":"SUM(((S1072*3)+V1072+Y1072)/5)","v":{"v":0,"d":"0.0"}}]
[]
[{"$f":"T(A1070)","v":"Weapon of Mass Destruction "},{"$nulls":3},"Threat",null,"Criticality",null,null,"Vulnerability",{"$nulls":8},"Consequence",{"$nulls":8},{"$f":"SUM(((((J1080+S1080)/2)*G1080)*E1080))","v":0}]
[{"$nulls":9},"Exposure",null,null,"Protective Measures",null,null,"Robustness/Resilience",null,null,"Human",null,null,"Economic",null,null,"Psychological"]
[{"$f":"T(A963)","v":"Consist - Type 2"},null,{"$f":"T(C963)","v":"LR"},{"$f":"SUM(D963)","v":6},{"v":1,"d":"1.0"},null,{"$f":"SUM(G963)","v":{"v":0,"d":"0.0"}},null,null,{"v":0,"d":"0.0"},null,null,{"v":0,"d":"0.0"},null,null,{"v":0,"d":"0.0"},null,null,{"v":0,"d":"0.0"},null,null,{"v":0,"d":"0.0"},null,null,{"v":0,"d":"0.0"}]
[{"$f":"T(A964)","v":""}]
[{"$nulls":4},{"$f":"SUM(E1078)","v":{"v":1,"d":"1.0"}},null,{"$f":"SUM(G1078)","v":{"v":0,"d":"0.0"}},null,null,{"$f":"SUM((J1078+M1078+P1078)/3)","v":{"v":0,"d":"0.0"}},{"$nulls":8},{"$f":"SUM(((S1078*3)+V1078+Y1078)/5)","v":{"v":0,"d":"0.0"}}]
[]
[{"$f":"T(A1076)","v":"Weapon of Mass Destruction "},{"$nulls":3},"Threat",null,"Criticality",null,null,"Vulnerability",{"$nulls":8},"Consequence",{"$nulls":8},{"$f":"SUM(((((J1086+S1086)/2)*G1086)*E1086))","v":0}]
[{"$nulls":9},"Exposure",null,null,"Protective Measures",null,null,"Robustness/Resilience",null,null,"Human",null,null,"Economic",null,null,"Psychological"]
[{"$f":"T(A969)","v":"Primary Control Center"},null,{"$f":"T(C969)","v":"LR"},{"$f":"SUM(D969)","v":7},{"v":1,"d":"1.0"},null,{"$f":"SUM(G969)","v":{"v":0,"d":"0.0"}},null,null,{"v":0,"d":"0.0"},null,null,{"v":0,"d":"0.0"},null,null,{"v":0,"d":"0.0"},null,null,{"v":0,"d":"0.0"},null,null,{"v":0,"d":"0.0"},null,null,{"v":0,"d":"0.0"}]
[{"$f":"T(A970)","v":""}]
[{"$nulls":4},{"$f":"SUM(E1084)","v":{"v":1,"d":"1.0"}},null,{"$f":"SUM(G1084)","v":{"v":0,"d":"0.0"}},null,null,{"$f":"SUM((J1084+M1084+P1084)/3)","v":{"v":0,"d":"0.0"}},{"$nulls":8},{"$f":"SUM(((S1084*3)+V1084+Y1084)/5)","v":{"v":0,"d":"0.0"}}]
[]
[{"$f":"T(A1082)","v":"Weapon of Mass Destruction "},{"$nulls":3},"Threat",null,"Criticality",null,null,"Vulnerability",{"$nulls":8},"Consequence",{"$nulls":8},{"$f":"SUM(((((J1092+S1092)/2)*G1092)*E1092))","v":0}]
[{"$nulls":9},"Exposure",null,null,"Protective Measures",null,null,"Robustness/Resilience",null,null,"Human",null,null,"Economic",null,null,"Psychological"]
[{"$f":"T(A975)","v":"Cyber Systems"},null,{"$f":"T(C975)","v":"LR"},{"$f":"SUM(D975)","v":8},{"v":1,"d":"1.0"},null,{"$f":"SUM(G975)","v":{"v":0,"d":"0.0"}},null,null,{"v":0,"d":"0.0"},null,null,{"v":0,"d":"0.0"},null,null,{"v":0,"d":"0.0"},null,null,{"v":0,"d":"0.0"},null,null,{"v":0,"d":"0.0"},null,null,{"v":0,"d":"0.0"}]
[{"$f":"T(A976)","v":""}]
[{"$nulls":4},{"$f":"SUM(E1090)","v":{"v":1,"d":"1.0"}},null,{"$f":"SUM(G1090)","v":{"v":0,"d":"0.0"}},null,null,{"$f":"SUM((J1090+M1090+P1090)/3)","v":{"v":0,"d":"0.0"}},{"$nulls":8},{"$f":"SUM(((S1090*3)+V1090+Y1090)/5)","v":{"v":0,"d":"0.0"}}]
[]
[{"$f":"T(A1082)","v":"Weapon of Mass Destruction "},{"$nulls":3},"Threat",null,"Criticality",null,null,"Vulnerability",{"$nulls":8},"Consequence",{"$nulls":8},{"$f":"SUM(((((J1098+S1098)/2)*G1098)*E1098))","v":0}]
[{"$nulls":9},"Exposure",null,null,"Protective Measures",null,null,"Robustness/Resilience",null,null,"Human",null,null,"Economic",null,null,"Psychological"]
[{"$f":"T(A981)","v":"Right of Way (ROW)"},null,{"$f":"T(C981)","v":"LR"},{"$f":"SUM(D981)","v":9},{"v":1,"d":"1.0"},null,{"$f":"SUM(G981)","v":{"v":0,"d":"0.0"}},null,null,{"v":0,"d":"0.0"},null,null,{"v":0,"d":"0.0"},null,null,{"v":0,"d":"0.0"},null,null,{"v":0,"d":"0.0"},null,null,{"v":0,"d":"0.0"},null,null,{"v":0,"d":"0.0"}]
[{"$f":"T(A982)","v":""}]
[{"$nulls":4},{"$f":"SUM(E1096)","v":{"v":1,"d":"1.0"}},null,{"$f":"SUM(G1096)","v":{"v":0,"d":"0.0"}},null,null,{"$f":"SUM((J1096+M1096+P1096)/3)","v":{"v":0,"d":"0.0"}},{"$nulls":8},{"$f":"SUM(((S1096*3)+V1096+Y1096)/5)","v":{"v":0,"d":"0.0"}}]
[]
[{"$f":"T(A1082)","v":"Weapon of Mass Destruction "},{"$nulls":3},"Threat",null,"Criticality",null,null,"Vulnerability",{"$nulls":8},"Consequence",{"$nulls":8},{"$f":"SUM(((((J1104+S1104)/2)*G1104)*E1104))","v":0}]
[{"$nulls":9},"Exposure",null,null,"Protective Measures",null,null,"Robustness/Resilience",null,null,"Human",null,null,"Economic",null,null,"Psychological"]
[{"$f":"T(A987)","v":"Signals & PTC"},null,{"$f":"T(C987)","v":"LR"},{"$f":"SUM(D987)","v":10},{"v":1,"d":"1.0"},null,{"$f":"SUM(G987)","v":{"v":0,"d":"0.0"}},null,null,{"v":0,"d":"0.0"},null,null,{"v":0,"d":"0.0"},null,null,{"v":0,"d":"0.0"},null,null,{"v":0,"d":"0.0"},null,null,{"v":0,"d":"0.0"},null,null,{"v":0,"d":"0.0"}]
[{"$f":"T(A988)","v":""}]
[{"$nulls":4},{"$f":"SUM(E1102)","v":{"v":1,"d":"1.0"}},null,{"$f":"SUM(G1102)","v":{"v":0,"d":"0.0"}},null,null,{"$f":"SUM((J1102+M1102+P1102)/3)","v":{"v":0,"d":"0.0"}},{"$nulls":8},{"$f":"SUM(((S1102*3)+V1102+Y1102)/5)","v":{"v":0,"d":"0.0"}}]
[]
[{"$f":"T(A1100)","v":"Weapon of Mass Destruction "},{"$nulls":3},"Threat",null,"Criticality",null,null,"Vulnerability",{"$nulls":8},"Consequence",{"$nulls":8},{"$f":"SUM(((((J1110+S1110)/2)*G1110)*E1110))","v":0}]
[{"$nulls":9},"Exposure",null,null,"Protective Measures",null,null,"Robustness/Resilience",null,null,"Human",null,null,"Economic",null,null,"Psychological"]
[{"$f":"T(A993)","v":"Switches "},null,{"$f":"T(C993)","v":"LR"},{"$f":"SUM(D993)","v":11},{"v":1,"d":"1.0"},null,{"$f":"SUM(G993)","v":{"v":0,"d":"0.0"}},null,null,{"v":0,"d":"0.0"},null,null,{"v":0,"d":"0.0"},null,null,{"v":0,"d":"0.0"},null,null,{"v":0,"d":"0.0"},null,null,{"v":0,"d":"0.0"},null,null,{"v":0,"d":"0.0"}]
[{"$f":"T(A994)","v":""}]
[{"$nulls":4},{"$f":"SUM(E1108)","v":{"v":1,"d":"1.0"}},null,{"$f":"SUM(G1108)","v":{"v":0,"d":"0.0"}},null,null,{"$f":"SUM((J1108+M1108+P1108)/3)","v":{"v":0,"d":"0.0"}},{"$nulls":8},{"$f":"SUM(((S1108*3)+V1108+Y1108)/5)","v":{"v":0,"d":"0.0"}}]
[]
[{"$f":"T(A1106)","v":"Weapon of Mass Destruction "},{"$nulls":3},"Threat",null,"Criticality",null,null,"Vulnerability",{"$nulls":8},"Consequence",{"$nulls":8},{"$f":"SUM(((((J1116+S1116)/2)*G1116)*E1116))","v":0}]
[{"$nulls":9},"Exposure",null,null,"Protective Measures",null,null,"Robustness/Resilience",null,null,"Human",null,null,"Economic",null,null,"Psychological"]
[{"$f":"T(A999)","v":"Bridges"},null,{"$f":"T(C999)","v":"LR"},{"$f":"SUM(D999)","v":12},{"v":1,"d":"1.0"},null,{"$f":"SUM(G999)","v":{"v":0,"d":"0.0"}},null,null,{"v":0,"d":"0.0"},null,null,{"v":0,"d":"0.0"},null,null,{"v":0,"d":"0.0"},null,null,{"v":0,"d":"0.0"},null,null,{"v":0,"d":"0.0"},null,null,{"v":0,"d":"0.0"}]
[{"$f":"T(A1000)","v":""}]
[{"$nulls":4},{"$f":"SUM(E1114)","v":{"v":1,"d":"1.0"}},null,{"$f":"SUM(G1114)","v":{"v":0,"d":"0.0"}},null,null,{"$f":"SUM((J1114+M1114+P1114)/3)","v":{"v":0,"d":"0.0"}},{"$nulls":8},{"$f":"SUM(((S1114*3)+V1114+Y1114)/5)","v":{"v":0,"d":"0.0"}}]
[]
[{"$f":"T(A1112)","v":"Weapon of Mass Destruction "},{"$nulls":3},"Threat",null,"Criticality",null,null,"Vulnerability",{"$nulls":8},"Consequence",{"$nulls":8},{"$f":"SUM(((((J1122+S1122)/2)*G1122)*E1122))","v":0}]
[{"$nulls":9},"Exposure",null,null,"Protective Measures",null,null,"Robustness/Resilience",null,null,"Human",null,null,"Economic",null,null,"Psychological"]
[{"$f":"T(A1005)","v":"Elevated Track"},null,{"$f":"T(C1005)","v":"LR"},{"$f":"SUM(D1005)","v":13},{"v":1,"d":"1.0"},null,{"$f":"SUM(G1005)","v":{"v":0,"d":"0.0"}},null,null,{"v":0,"d":"0.0"},null,null,{"v":0,"d":"0.0"},null,null,{"v":0,"d":"0.0"},null,null,{"v":0,"d":"0.0"},null,null,{"v":0,"d":"0.0"},null,null,{"v":0,"d":"0.0"}]
[{"$f":"T(A1006)","v":""}]
[{"$nulls":4},{"$f":"SUM(E1120)","v":{"v":1,"d":"1.0"}},null,{"$f":"SUM(G1120)","v":{"v":0,"d":"0.0"}},null,null,{"$f":"SUM((J1120+M1120+P1120)/3)","v":{"v":0,"d":"0.0"}},{"$nulls":8},{"$f":"SUM(((S1120*3)+V1120+Y1120)/5)","v":{"v":0,"d":"0.0"}}]
[]
[{"$f":"T(A1118)","v":"Weapon of Mass Destruction "},{"$nulls":3},"Threat",null,"Criticality",null,null,"Vulnerability",{"$nulls":8},"Consequence",{"$nulls":8},{"$f":"SUM(((((J1128+S1128)/2)*G1128)*E1128))","v":0}]
[{"$nulls":9},"Exposure",null,null,"Protective Measures",null,null,"Robustness/Resilience",null,null,"Human",null,null,"Economic",null,null,"Psychological"]
[{"$f":"T(A1011)","v":"Tunnels "},null,{"$f":"T(C1011)","v":"LR"},{"$f":"SUM(D1011)","v":14},{"v":1,"d":"1.0"},null,{"$f":"SUM(G1011)","v":{"v":0,"d":"0.0"}},null,null,{"v":0,"d":"0.0"},null,null,{"v":0,"d":"0.0"},null,null,{"v":0,"d":"0.0"},null,null,{"v":0,"d":"0.0"},null,null,{"v":0,"d":"0.0"},null,null,{"v":0,"d":"0.0"}]
[{"$f":"T(A1012)","v":""}]
[{"$nulls":4},{"$f":"SUM(E1126)","v":{"v":1,"d":"1.0"}},null,{"$f":"SUM(G1126)","v":{"v":0,"d":"0.0"}},null,null,{"$f":"SUM((J1126+M1126+P1126)/3)","v":{"v":0,"d":"0.0"}},{"$nulls":8},{"$f":"SUM(((S1126*3)+V1126+Y1126)/5)","v":{"v":0,"d":"0.0"}}]
[]
[{"$f":"T(A1124)","v":"Weapon of Mass Destruction "},{"$nulls":3},"Threat",null,"Criticality",null,null,"Vulnerability",{"$nulls":8},"Consequence",{"$nulls":8},{"$f":"SUM(((((J1134+S1134)/2)*G1134)*E1134))","v":0}]
[{"$nulls":9},"Exposure",null,null,"Protective Measures",null,null,"Robustness/Resilience",null,null,"Human",null,null,"Economic",null,null,"Psychological"]
[{"$f":"T(A1017)","v":"Choke Points on ROW"},null,{"$f":"T(C1017)","v":"LR"},{"$f":"SUM(D1017)","v":15},{"v":1,"d":"1.0"},null,{"$f":"SUM(G1017)","v":{"v":0,"d":"0.0"}},null,null,{"v":0,"d":"0.0"},null,null,{"v":0,"d":"0.0"},null,null,{"v":0,"d":"0.0"},null,null,{"v":0,"d":"0.0"},null,null,{"v":0,"d":"0.0"},null,null,{"v":0,"d":"0.0"}]
[{"$f":"T(A1018)","v":""}]
[{"$nulls":4},{"$f":"SUM(E1132)","v":{"v":1,"d":"1.0"}},null,{"$f":"SUM(G1132)","v":{"v":0,"d":"0.0"}},null,null,{"$f":"SUM((J1132+M1132+P1132)/3)","v":{"v":0,"d":"0.0"}},{"$nulls":8},{"$f":"SUM(((S1132*3)+V1132+Y1132)/5)","v":{"v":0,"d":"0.0"}}]
[]
[{"$f":"T(A1130)","v":"Weapon of Mass Destruction "},{"$nulls":3},"Threat",null,"Criticality",null,null,"Vulnerability",{"$nulls":8},"Consequence",{"$nulls":8},{"$f":"SUM(((((J1140+S1140)/2)*G1140)*E1140))","v":0}]
[{"$nulls":9},"Exposure",null,null,"Protective Measures",null,null,"Robustness/Resilience",null,null,"Human",null,null,"Economic",null,null,"Psychological"]
[{"$f":"T(A1023)","v":"Fire Suppression"},null,{"$f":"T(C1023)","v":"LR"},{"$f":"SUM(D1023)","v":16},{"v":1,"d":"1.0"},null,{"$f":"SUM(G1023)","v":{"v":0,"d":"0.0"}},null,null,{"v":0,"d":"0.0"},null,null,{"v":0,"d":"0.0"},null,null,{"v":0,"d":"0.0"},null,null,{"v":0,"d":"0.0"},null,null,{"v":0,"d":"0.0"},null,null,{"v":0,"d":"0.0"}]
[{"$f":"T(A1024)","v":""}]
[{"$nulls":4},{"$f":"SUM(E1138)","v":{"v":1,"d":"1.0"}},null,{"$f":"SUM(G1138)","v":{"v":0,"d":"0.0"}},null,null,{"$f":"SUM((J1138+M1138+P1138)/3)","v":{"v":0,"d":"0.0"}},{"$nulls":8},{"$f":"SUM(((S1138*3)+V1138+Y1138)/5)","v":{"v":0,"d":"0.0"}}]
[]
[{"$f":"T(A1136)","v":"Weapon of Mass Destruction "},{"$nulls":3},"Threat",null,"Criticality",null,null,"Vulnerability",{"$nulls":8},"Consequence",{"$nulls":8},{"$f":"SUM(((((J1146+S1146)/2)*G1146)*E1146))","v":0}]
[{"$nulls":9},"Exposure",null,null,"Protective Measures",null,null,"Robustness/Resilience",null,null,"Human",null,null,"Economic",null,null,"Psychological"]
[{"$f":"T(A1029)","v":"Power Generation/Distribution"},null,{"$f":"T(C1029)","v":"LR"},{"$f":"SUM(D1029)","v":17},{"v":1,"d":"1.0"},null,{"$f":"SUM(G1029)","v":{"v":0,"d":"0.0"}},null,null,{"v":0,"d":"0.0"},null,null,{"v":0,"d":"0.0"},null,null,{"v":0,"d":"0.0"},null,null,{"v":0,"d":"0.0"},null,null,{"v":0,"d":"0.0"},null,null,{"v":0,"d":"0.0"}]
[{"$f":"T(A1030)","v":""}]
[{"$nulls":4},{"$f":"SUM(E1144)","v":{"v":1,"d":"1.0"}},null,{"$f":"SUM(G1144)","v":{"v":0,"d":"0.0"}},null,null,{"$f":"SUM((J1144+M1144+P1144)/3)","v":{"v":0,"d":"0.0"}},{"$nulls":8},{"$f":"SUM(((S1144*3)+V1144+Y1144)/5)","v":{"v":0,"d":"0.0"}}]
[]
[{"$f":"T(A1142)","v":"Weapon of Mass Destruction "},{"$nulls":3},"Threat",null,"Criticality",null,null,"Vulnerability",{"$nulls":8},"Consequence",{"$nulls":8},{"$f":"SUM(((((J1152+S1152)/2)*G1152)*E1152))","v":0}]
[{"$nulls":9},"Exposure",null,null,"Protective Measures",null,null,"Robustness/Resilience",null,null,"Human",null,null,"Economic",null,null,"Psychological"]
[{"$f":"T(A1035)","v":"Yards"},null,{"$f":"T(C1035)","v":"LR"},{"$f":"SUM(D1035)","v":18},{"v":1,"d":"1.0"},null,{"$f":"SUM(G1035)","v":{"v":0,"d":"0.0"}},null,null,{"v":0,"d":"0.0"},null,null,{"v":0,"d":"0.0"},null,null,{"v":0,"d":"0.0"},null,null,{"v":0,"d":"0.0"},null,null,{"v":0,"d":"0.0"},null,null,{"v":0,"d":"0.0"}]
[{"$f":"T(A1036)","v":""}]
[{"$nulls":4},{"$f":"SUM(E1150)","v":{"v":1,"d":"1.0"}},null,{"$f":"SUM(G1150)","v":{"v":0,"d":"0.0"}},null,null,{"$f":"SUM((J1150+M1150+P1150)/3)","v":{"v":0,"d":"0.0"}},{"$nulls":8},{"$f":"SUM(((S1150*3)+V1150+Y1150)/5)","v":{"v":0,"d":"0.0"}}]
[]
[{"$f":"T(A1148)","v":"Weapon of Mass Destruction "},{"$nulls":3},"Threat",null,"Criticality",null,null,"Vulnerability",{"$nulls":8},"Consequence",{"$nulls":8},{"$f":"SUM(((((J1158+S1158)/2)*G1158)*E1158))","v":0}]
[{"$nulls":9},"Exposure",null,null,"Protective Measures",null,null,"Robustness/Resilience",null,null,"Human",null,null,"Economic",null,null,"Psychological"]
[{"$f":"T(A1041)","v":"Maintenance Barns/Facilities"},null,{"$f":"T(C1041)","v":"LR"},{"$f":"SUM(D1041)","v":19},{"v":1,"d":"1.0"},null,{"$f":"SUM(G1041)","v":{"v":0,"d":"0.0"}},null,null,{"v":0,"d":"0.0"},null,null,{"v":0,"d":"0.0"},null,null,{"v":0,"d":"0.0"},null,null,{"v":0,"d":"0.0"},null,null,{"v":0,"d":"0.0"},null,null,{"v":0,"d":"0.0"}]
[{"$f":"T(A1042)","v":""}]
[{"$nulls":4},{"$f":"SUM(E1156)","v":{"v":1,"d":"1.0"}},null,{"$f":"SUM(G1156)","v":{"v":0,"d":"0.0"}},null,null,{"$f":"SUM((J1156+M1156+P1156)/3)","v":{"v":0,"d":"0.0"}},{"$nulls":8},{"$f":"SUM(((S1156*3)+V1156+Y1156)/5)","v":{"v":0,"d":"0.0"}}]
[]
["SENSITIVE SECURITY INFORMATION"]
["WARNING: This document contains Sensitive Security Information that is controlled under 49 CFR 1520. No part of this document may be released to persons without a need to know, as defined in 49 CFR 1520, except with the written permission of the FEMA Administrator, Washington, DC. Unauthorized release may result in civil penalty or other action. For U.S. Government agencies, public release is governed by 5 U.S.C. 522."]

{"sheet":"Bus Assets","index":6,"n_rows":501,"n_cols":28,"rows_kept":501,"merged":[[1,0,3,27],[4,0,4,27],[6,0,7,27],[9,0,9,27],[10,0,11,3],[10,4,11,5],[10,6,11,8],[10,9,10,17],[10,18,10,26],[10,27,14,27],[11,9,11,11],[11,12,11,14],[11,15,11,17],[11,18,11,20],[11,21,11,23],[11,24,11,26],[12,0,12,1],[12,4,13,5],[12,6,13,8],[12,9,13,11],[12,12,13,14],[12,15,13,17],[12,18,13,20],[12,21,13,23],[12,24,13,26],[13,0,14,3],[14,4,14,5],[14,6,14,8],[14,9,14,17],[14,18,14,26],[16,0,17,3],[16,4,17,5],[16,6,17,8],[16,9,16,17],[16,18,16,26],[16,27,20,27],[17,9,17,11],[17,12,17,14],[17,15,17,17],[17,18,17,20],[17,21,17,23],[17,24,17,26],[18,18,19,20],[18,21,19,23],[18,24,19,26],[19,0,20,3],[20,4,20,5],[20,6,20,8],[20,9,20,17],[22,27,26,27],[23,9,23,11],[23,12,23,14],[23,15,23,17],[23,18,23,20],[101,0,102,3],[101,4,102,5],[101,6,102,8],[101,9,101,17],[101,18,101,26],[101,27,105,27],[102,9,102,11],[102,12,102,14],[102,15,102,17],[102,18,102,20],[102,21,102,23],[102,24,102,26],[103,0,103,1],[103,4,104,5],[103,6,104,8],[103,9,104,11],[103,12,104,14],[103,15,104,17],[103,18,104,20],[103,21,104,23],[103,24,104,26],[104,0,105,3],[105,4,105,5],[105,6,105,8],[105,9,105,17],[105,18,105,26],[107,0,107,27],[120,27,124,27],[121,9,121,11],[121,12,121,14],[121,15,121,17],[121,18,121,20],[144,0,145,3],[144,4,145,5],[144,6,145,8],[144,9,144,17],[144,18,144,26],[144,27,148,27],[145,9,145,11],[145,12,145,14],[145,15,145,17],[145,18,145,20],[145,21,145,23],[145,24,145,26],[146,0,146,1],[146,4,147,5],[146,6,147,8],[146,9,147,11],[146,12,147,14],[146,15,147,17],[146,18,147,20],[146,21,147,23],[146,24,147,26],[147,0,148,3],[148,4,148,5],[148,6,148,8],[148,9,148,17],[148,18,148,26],[150,0,151,3],[150,4,151,5],[150,6,151,8],[150,9,150,17],[150,18,150,26],[150,27,154,27],[151,9,151,11],[151,12,151,14],[151,15,151,17],[151,18,151,20],[151,21,151,23],[151,24,151,26],[152,0,152,1],[152,4,153,5],[152,6,153,8],[152,9,153,11],[152,12,153,14],[152,15,153,17],[152,18,153,20],[152,21,153,23],[152,24,153,26],[153,0,154,3],[154,4,154,5],[154,6,154,8],[154,9,154,17],[154,18,154,26],[156,0,156,27],[165,24,166,26],[166,0,167,3],[167,4,167,5],[167,6,167,8],[167,9,167,17],[187,0,188,3],[187,4,188,5],[187,6,188,8],[187,9,187,17],[187,18,187,26],[187,27,191,27],[188,9,188,11],[188,12,188,14],[188,15,188,17],[188,18,188,20],[188,21,188,23],[188,24,188,26],[189,0,189,1],[189,4,190,5],[189,6,190,8],[189,9,190,11],[189,12,190,14],[189,15,190,17],[189,18,190,20],[189,21,190,23],[189,24,190,26],[190,0,191,3],[191,4,191,5],[191,6,191,8],[191,9,191,17],[191,18,191,26],[193,0,194,3],[193,4,194,5],[193,6,194,8],[193,9,193,17],[193,18,193,26],[193,27,197,27],[194,9,194,11],[194,12,194,14],[194,15,194,17],[194,18,194,20],[194,21,194,23],[194,24,194,26],[195,0,195,1],[195,4,196,5],[195,6,196,8],[195,9,196,11],[195,12,196,14],[195,15,196,17],[195,18,196,20],[195,21,196,23],[195,24,196,26],[196,0,197,3],[197,4,197,5],[197,6,197,8],[197,9,197,17],[197,18,197,26],[199,4,200,5],[199,6,200,8],[199,9,199,17],[199,18,199,26],[199,27,203,27],[200,9,200,11],[200,12,200,14],[200,15,200,17],[200,18,200,20],[200,21,200,23],[200,24,200,26],[201,0,201,1],[201,4,202,5],[201,6,202,8],[201,9,202,11],[201,12,202,14],[201,15,202,17],[201,18,202,20],[201,21,202,23],[201,24,202,26],[202,0,203,3],[203,4,203,5],[203,6,203,8],[203,9,203,17],[203,18,203,26],[205,0,205,27],[218,27,222,27],[219,9,219,11],[219,12,219,14],[219,15,219,17],[219,18,219,20],[230,0,231,3],[230,4,231,5],[230,6,231,8],[230,9,230,17],[230,18,230,26],[230,27,234,27],[231,9,231,11],[231,12,231,14],[231,15,231,17],[231,18,231,20],[231,21,231,23],[231,24,231,26],[232,0,232,1],[232,4,233,5],[232,6,233,8],[232,9,233,11],[232,12,233,14],[232,15,233,17],[232,18,233,20],[232,21,233,23],[232,24,233,26],[233,0,234,3],[234,4,234,5],[234,6,234,8],[234,9,234,17],[234,18,234,26],[236,27,240,27],[237,9,237,11],[237,12,237,14],[237,15,237,17],[237,18,237,20],[237,21,237,23],[237,24,237,26],[238,0,238,1],[238,4,239,5],[238,6,239,8],[238,9,239,11],[238,12,239,14],[238,15,239,17],[238,18,239,20],[238,21,239,23],[238,24,239,26],[239,0,240,3],[240,4,240,5],[240,6,240,8],[240,9,240,17],[240,18,240,26],[242,0,243,3],[242,27,246,27],[243,9,243,11],[243,12,243,14],[243,15,243,17],[243,18,243,20],[243,21,243,23],[243,24,243,26],[244,0,244,1],[244,4,245,5],[244,6,245,8],[244,9,245,11],[244,12,245,14],[244,15,245,17],[244,18,245,20],[244,21,245,23],[244,24,245,26],[245,0,246,3],[246,4,246,5],[246,6,246,8],[246,9,246,17],[246,18,246,26],[248,9,248,17],[248,18,248,26],[248,27,252,27],[249,9,249,11],[249,12,249,14],[249,15,249,17],[249,18,249,20],[249,21,249,23],[249,24,249,26],[250,0,250,1],[250,4,251,5],[250,6,251,8],[250,9,251,11],[250,12,251,14],[250,15,251,17],[250,18,251,20],[250,21,251,23],[250,24,251,26],[251,0,252,3],[252,4,252,5],[252,6,252,8],[252,9,252,17],[252,18,252,26],[254,0,254,27],[261,27,265,27],[262,9,262,11],[262,12,262,14],[262,15,262,17],[262,18,262,20],[273,0,274,3],[273,4,274,5],[273,6,274,8],[273,9,273,17],[273,18,273,26],[273,27,277,27],[274,9,274,11],[274,12,274,14],[274,15,274,17],[274,18,274,20],[274,21,274,23],[274,24,274,26],[275,0,275,1],[275,4,276,5],[275,6,276,8],[275,9,276,11],[275,12,276,14],[275,15,276,17],[275,18,276,20],[275,21,276,23],[275,24,276,26],[276,0,277,3],[277,4,277,5],[277,6,277,8],[277,9,277,17],[277,18,277,26],[279,27,283,27],[280,9,280,11],[280,12,280,14],[280,15,280,17],[280,18,280,20],[280,21,280,23],[280,24,280,26],[281,0,281,1],[281,4,282,5],[281,6,282,8],[281,9,282,11],[281,12,282,14],[281,15,282,17],[281,18,282,20],[281,21,282,23],[281,24,282,26],[282,0,283,3],[283,4,283,5],[283,6,283,8],[283,9,283,17],[283,18,283,26],[285,0,286,3],[285,27,289,27],[286,9,286,11],[286,12,286,14],[286,15,286,17],[286,18,286,20],[286,21,286,23],[286,24,286,26],[287,0,287,1],[287,4,288,5],[287,6,288,8],[287,9,288,11],[287,12,288,14],[287,15,288,17],[287,18,288,20],[287,21,288,23],[287,24,288,26],[288,0,289,3],[289,4,289,5],[289,6,289,8],[289,9,289,17],[289,18,289,26],[291,6,292,8],[291,9,291,17],[291,18,291,26],[291,27,295,27],[292,9,292,11],[292,12,292,14],[292,15,292,17],[292,18,292,20],[292,21,292,23],[292,24,292,26],[293,0,293,1],[293,4,294,5],[293,6,294,8],[293,9,294,11],[293,12,294,14],[293,15,294,17],[293,18,294,20],[293,21,294,23],[293,24,294,26],[294,0,295,3],[295,4,295,5],[295,6,295,8],[295,9,295,17],[295,18,295,26],[297,0,298,3],[297,4,298,5],[297,6,298,8],[297,9,297,17],[297,18,297,26],[297,27,301,27],[298,9,298,11],[298,12,298,14],[298,15,298,17],[298,18,298,20],[298,21,298,23],[298,24,298,26],[299,0,299,1],[299,4,300,5],[299,6,300,8],[299,9,300,11],[299,12,300,14],[299,15,300,17],[299,18,300,20],[299,21,300,23],[299,24,300,26],[300,0,301,3],[301,4,301,5],[301,6,301,8],[301,9,301,17],[301,18,301,26],[304,0,305,3],[304,4,305,5],[304,6,305,8],[304,9,304,17],[304,18,304,26],[304,27,308,27],[305,9,305,11],[305,12,305,14],[305,15,305,17],[305,18,305,20],[305,21,305,23],[305,24,305,26],[306,0,306,1],[306,4,307,5],[306,6,307,8],[306,9,307,11],[306,12,307,14],[306,15,307,17],[306,18,307,20],[306,21,307,23],[306,24,307,26],[307,0,308,3],[308,4,308,5],[308,6,308,8],[308,9,308,17],[308,18,308,26],[352,0,352,27],[353,27,357,27],[354,9,354,11],[354,12,354,14],[354,15,354,17],[354,18,354,20],[360,9,360,11],[360,12,360,14],[365,0,366,3],[365,4,366,5],[365,6,366,8],[365,9,365,17],[365,18,365,26],[365,27,369,27],[366,9,366,11],[366,12,366,14],[366,15,366,17],[366,18,366,20],[366,21,366,23],[366,24,366,26],[367,0,367,1],[367,4,368,5],[367,6,368,8],[367,9,368,11],[367,12,368,14],[367,15,368,17],[367,18,368,20],[367,21,368,23],[367,24,368,26],[368,0,369,3],[369,4,369,5],[369,6,369,8],[371,0,372,3],[371,9,371,17],[371,18,371,26],[371,27,375,27],[372,9,372,11],[372,12,372,14],[372,15,372,17],[372,18,372,20],[372,21,372,23],[372,24,372,26],[373,0,373,1],[373,4,374,5],[373,6,374,8],[373,9,374,11],[373,12,374,14],[373,15,374,17],[373,18,374,20],[373,21,374,23],[373,24,374,26],[374,0,375,3],[375,4,375,5],[375,6,375,8],[377,0,378,3],[377,9,377,17],[377,18,377,26],[377,27,381,27],[378,9,378,11],[378,12,378,14],[378,15,378,17],[378,18,378,20],[378,21,378,23],[378,24,378,26],[379,0,379,1],[379,4,380,5],[379,6,380,8],[379,9,380,11],[379,12,380,14],[379,15,380,17],[379,18,380,20],[379,21,380,23],[379,24,380,26],[380,0,381,3],[381,4,381,5],[381,6,381,8],[383,9,383,17],[383,18,383,26],[383,27,387,27],[384,9,384,11],[384,12,384,14],[384,15,384,17],[384,18,384,20],[384,21,384,23],[384,24,384,26],[385,0,385,1],[385,4,386,5],[385,6,386,8],[385,9,386,11],[385,12,386,14],[385,15,386,17],[385,18,386,20],[385,21,386,23],[385,24,386,26],[386,0,387,3],[387,4,387,5],[387,6,387,8],[389,0,390,3],[389,9,389,17],[389,18,389,26],[389,27,393,27],[390,9,390,11],[390,12,390,14],[390,15,390,17],[390,18,390,20],[390,21,390,23],[390,24,390,26],[391,0,391,1],[391,4,392,5],[391,6,392,8],[391,9,392,11],[391,12,392,14],[391,15,392,17],[391,18,392,20],[391,21,392,23],[391,24,392,26],[392,0,393,3],[393,4,393,5],[393,6,393,8],[395,9,395,17],[395,18,395,26],[395,27,399,27],[396,9,396,11],[396,12,396,14],[396,15,396,17],[396,18,396,20],[396,21,396,23],[396,24,396,26],[397,0,397,1],[397,4,398,5],[397,6,398,8],[397,9,398,11],[397,12,398,14],[397,15,398,17],[397,18,398,20],[397,21,398,23],[397,24,398,26],[398,0,399,3],[399,4,399,5],[399,6,399,8],[399,9,399,17],[399,18,399,26],[402,0,403,3],[404,24,405,26],[406,4,406,5],[406,6,406,8],[406,9,406,17],[406,18,406,26],[408,4,409,5],[408,6,409,8],[408,9,408,17],[408,18,408,26],[408,27,412,27],[409,9,409,11],[409,12,409,14],[409,15,409,17],[409,18,409,20],[409,21,409,23],[409,24,409,26],[410,0,410,1],[410,4,411,5],[410,6,411,8],[410,9,411,11],[410,12,411,14],[410,15,411,17],[410,18,411,20],[410,21,411,23],[410,24,411,26],[411,0,412,3],[412,4,412,5],[412,6,412,8],[414,0,415,3],[414,9,414,17],[414,18,414,26],[414,27,418,27],[415,9,415,11],[415,12,415,14],[415,15,415,17],[415,18,415,20],[415,21,415,23],[415,24,415,26],[416,0,416,1],[416,4,417,5],[416,6,417,8],[416,9,417,11],[416,12,417,14],[416,15,417,17],[416,18,417,20],[416,21,417,23],[416,24,417,26],[417,0,418,3],[418,4,418,5],[418,6,418,8],[420,0,421,3],[420,9,420,17],[420,18,420,26],[420,27,424,27],[421,9,421,11],[421,12,421,14],[421,15,421,17],[421,18,421,20],[421,21,421,23],[421,24,421,26],[422,0,422,1],[422,4,423,5],[422,6,423,8],[422,9,423,11],[422,12,423,14],[422,15,423,17],[422,18,423,20],[422,21,423,23],[422,24,423,26],[423,0,424,3],[424,4,424,5],[424,6,424,8],[424,9,424,17],[424,18,424,26],[426,0,427,3],[426,4,427,5],[426,6,427,8],[426,9,426,17],[426,18,426,26],[426,27,430,27],[427,9,427,11],[427,12,427,14],[427,15,427,17],[427,18,427,20],[427,21,427,23],[427,24,427,26],[428,0,428,1],[428,4,429,5],[428,6,429,8],[428,9,429,11],[428,12,429,14],[428,15,429,17],[428,18,429,20],[428,21,429,23],[428,24,429,26],[429,0,430,3],[430,4,430,5],[430,6,430,8],[430,9,430,17],[430,18,430,26],[432,0,433,3],[432,4,433,5],[432,6,433,8],[432,9,432,17],[432,18,432,26],[432,27,436,27],[433,9,433,11],[433,12,433,14],[433,15,433,17],[433,18,433,20],[433,21,433,23],[433,24,433,26],[434,0,434,1],[434,4,435,5],[434,6,435,8],[434,9,435,11],[434,12,435,14],[434,15,435,17],[434,18,435,20],[434,21,435,23],[434,24,435,26],[435,0,436,3],[436,4,436,5],[436,6,436,8],[436,9,436,17],[436,18,436,26],[438,0,439,3],[438,4,439,5],[438,6,439,8],[438,9,438,17],[438,18,438,26],[438,27,442,27],[439,9,439,11],[439,12,439,14],[439,15,439,17],[439,18,439,20],[439,21,439,23],[439,24,439,26],[440,0,440,1],[440,4,441,5],[440,6,441,8],[440,9,441,11],[440,12,441,14],[440,15,441,17],[440,18,441,20],[440,21,441,23],[440,24,441,26],[441,0,442,3],[442,4,442,5],[442,6,442,8],[442,9,442,17],[442,18,442,26],[444,0,445,3],[444,4,445,5],[444,6,445,8],[444,9,444,17],[444,18,444,26],[444,27,448,27],[445,9,445,11],[445,12,445,14],[445,15,445,17],[445,18,445,20],[445,21,445,23],[445,24,445,26],[446,0,446,1],[446,4,447,5],[446,6,447,8],[446,9,447,11],[446,12,447,14],[446,15,447,17],[446,18,447,20],[446,21,447,23],[446,24,447,26],[447,0,448,3],[448,4,448,5],[448,6,448,8],[448,9,448,17],[448,18,448,26],[450,0,450,27],[451,0,452,3],[451,4,452,5],[451,6,452,8],[451,9,451,17],[451,18,451,26],[451,27,455,27],[452,9,452,11],[452,12,452,14],[452,15,452,17],[452,18,452,20],[452,21,452,23],[452,24,452,26],[453,0,453,1],[453,4,454,5],[453,6,454,8],[453,9,454,11],[453,12,454,14],[453,15,454,17],[453,18,454,20],[453,21,454,23],[453,24,454,26],[454,0,455,3],[455,4,455,5],[455,6,455,8],[455,9,455,17],[455,18,455,26],[457,0,458,3],[457,4,458,5],[457,6,458,8],[457,9,457,17],[457,18,457,26],[457,27,461,27],[458,9,458,11],[458,12,458,14],[458,15,458,17],[458,18,458,20],[458,21,458,23],[458,24,458,26],[459,0,459,1],[459,4,460,5],[459,6,460,8],[459,9,460,11],[459,12,460,14],[459,15,460,17],[459,18,460,20],[459,21,460,23],[459,24,460,26],[460,0,461,3],[461,4,461,5],[461,6,461,8],[461,9,461,17],[461,18,461,26],[463,0,464,3],[463,4,464,5],[463,6,464,8],[463,9,463,17],[463,18,463,26],[463,27,467,27],[464,9,464,11],[464,12,464,14],[464,15,464,17],[464,18,464,20],[464,21,464,23],[464,24,464,26],[465,0,465,1],[465,4,466,5],[465,6,466,8],[465,9,466,11],[465,12,466,14],[465,15,466,17],[465,18,466,20],[465,21,466,23],[465,24,466,26],[466,0,467,3],[467,4,467,5],[467,6,467,8],[467,9,467,17],[467,18,467,26],[469,0,470,3],[469,4,470,5],[469,6,470,8],[469,9,469,17],[469,18,469,26],[469,27,473,27],[470,9,470,11],[470,12,470,14],[470,15,470,17],[470,18,470,20],[470,21,470,23],[470,24,470,26],[471,0,471,1],[471,4,472,5],[471,6,472,8],[471,9,472,11],[471,12,472,14],[471,15,472,17],[471,18,472,20],[471,21,472,23],[471,24,472,26],[472,0,473,3],[473,4,473,5],[473,6,473,8],[473,9,473,17],[473,18,473,26],[475,0,476,3],[475,4,476,5],[475,6,476,8],[475,9,475,17],[475,18,475,26],[475,27,479,27],[476,9,476,11],[476,12,476,14],[476,15,476,17],[476,18,476,20],[476,21,476,23],[476,24,476,26],[477,0,477,1],[477,4,478,5],[477,6,478,8],[477,9,478,11],[477,12,478,14],[477,15,478,17],[477,18,478,20],[477,21,478,23],[477,24,478,26],[478,0,479,3],[479,4,479,5],[479,6,479,8],[479,9,479,17],[479,18,479,26],[481,0,482,3],[481,4,482,5],[481,6,482,8],[481,9,481,17],[481,18,481,26],[481,27,485,27],[482,9,482,11],[482,12,482,14],[482,15,482,17],[482,18,482,20],[482,21,482,23],[482,24,482,26],[483,0,483,1],[483,4,484,5],[483,6,484,8],[483,9,484,11],[483,12,484,14],[483,15,484,17],[483,18,484,20],[483,21,484,23],[483,24,484,26],[484,0,485,3],[485,4,485,5],[485,6,485,8],[485,9,485,17],[485,18,485,26],[487,0,488,3],[487,4,488,5],[487,6,488,8],[487,9,487,17],[487,18,487,26],[487,27,491,27],[488,9,488,11],[488,12,488,14],[488,15,488,17],[488,18,488,20],[488,21,488,23],[488,24,488,26],[489,0,489,1],[489,4,490,5],[489,6,490,8],[489,9,490,11],[489,12,490,14],[489,15,490,17],[489,18,490,20],[489,21,490,23],[489,24,490,26],[490,0,491,3],[491,4,491,5],[491,6,491,8],[491,9,491,17],[491,18,491,26],[493,0,494,3],[493,4,494,5],[493,6,494,8],[493,9,493,17],[493,18,493,26],[493,27,497,27],[494,9,494,11],[494,12,494,14],[494,15,494,17],[494,18,494,20],[494,21,494,23],[494,24,494,26],[495,0,495,1],[495,4,496,5],[495,6,496,8],[495,9,496,11],[495,12,496,14],[495,15,496,17],[495,18,496,20],[495,21,496,23],[495,24,496,26],[496,0,497,3],[497,4,497,5],[497,6,497,8],[497,9,497,17],[497,18,497,26]],"merged_total":2095,"flags":["merged_cut"]}
[]
["WARNING: This document contains Sensitive Security Information that is controlled under 49 CFR 1520. No part of this document may be released to persons without a need to know, as defined in 49 CFR 1520, except with the written permission of the FEMA Administrator, Washington, DC. Unauthorized release may result in civil penalty or other action. For U.S. Government agencies, public release is governed by 5 U.S.C. 522."]
[]
[]
["SENSITIVE SECURITY INFORMATION"]
["Incident types are defined in notes on the far right side of the table by holding the cursor over the incident word. "]
["Bus System Assets     "]
[]
[]
[{"$f":"T(Definitions!D19)","v":"Armed Assault/Active Shooter"}]
[{"$f":"T(A10)","v":"Armed Assault/Active Shooter"},{"$nulls":3},"Threat",null,"Criticality",null,null,"Vulnerability",{"$nulls":8},"Consequence",{"$nulls":8},{"$f":"SUM(((((J15+S15)/2)*G15)*E15))","v":0}]
[{"$nulls":9},"Exposure",null,null,"Protective Measures",null,null,"Robustness/Resilience",null,null,"Human",null,null,"Economic",null,null,"Psychological"]
[{"$f":"T('Critical-Representative Assets'!B81)","v":"Headquarters Building"},null,{"$f":"T('Critical-Representative Assets'!C81)","v":"BUS"},{"$f":"SUM('Critical-Representative Assets'!D81)","v":1},{"v":1,"d":"1.0"},null,{"$f":"SUM('Critical-Representative Assets'!F81)","v":{"v":0,"d":"0.0"}},null,null,{"v":0,"d":"0.0"},null,null,{"v":0,"d":"0.0"},null,null,{"v":0,"d":"0.0"},null,null,{"v":0,"d":"0.0"},null,null,{"v":0,"d":"0.0"},null,null,{"v":0,"d":"0.0"}]
[{"$f":"T('Critical-Representative Assets'!E81)","v":""}]
[{"$nulls":4},{"$f":"SUM(E13)","v":{"v":1,"d":"1.0"}},null,{"$f":"SUM(G13)","v":{"v":0,"d":"0.0"}},null,null,{"$f":"SUM((J13+M13+P13)/3)","v":{"v":0,"d":"0.0"}},{"$nulls":8},{"$f":"SUM(((S13*3)+V13+Y13)/5)","v":{"v":0,"d":"0.0"}}]
[]
[{"$f":"T(A11)","v":"Armed Assault/Active Shooter"},{"$nulls":3},"Threat",null,"Criticality",null,null,"Vulnerability",{"$nulls":8},"Consequence",{"$nulls":8},{"$f":"SUM(((((J21+S21)/2)*G21)*E21))","v":0}]
[{"$nulls":9},"Exposure",null,null,"Protective Measures",null,null,"Robustness/Resilience",null,null,"Human",null,null,"Economic",null,null,"Psychological"]
[{"$f":"T('Critical-Representative Assets'!B82)","v":"System Owned Bus Station"},null,{"$f":"T('Critical-Representative Assets'!C82)","v":"BUS"},{"$f":"SUM('Critical-Representative Assets'!D82)","v":2},{"v":1,"d":"1.0"},null,{"$f":"SUM('Critical-Representative Assets'!F82)","v":{"v":0,"d":"0.0"}},null,null,{"v":0,"d":"0.0"},null,null,{"v":0,"d":"0.0"},null,null,{"v":0,"d":"0.0"},null,null,{"v":0,"d":"0.0"},null,null,{"v":0,"d":"0.0"},null,null,{"v":0,"d":"0.0"}]
[{"$f":"T('Critical-Representative Assets'!E82)","v":""}]
[{"$nulls":4},{"$f":"SUM(E19)","v":{"v":1,"d":"1.0"}},null,{"$f":"SUM(G19)","v":{"v":0,"d":"0.0"}},null,null,{"$f":"SUM((J19+M19+P19)/3)","v":{"v":0,"d":"0.0"}},{"$nulls":8},{"$f":"SUM(((S19*3)+V19+Y19)/5)","v":{"v":0,"d":"0.0"}}]
[]
[{"$f":"T(A17)","v":"Armed Assault/Active Shooter"},{"$nulls":3},"Threat",null,"Criticality",null,null,"Vulnerability",{"$nulls":8},"Consequence",{"$nulls":8},{"$f":"SUM(((((J27+S27)/2)*G27)*E27))","v":0}]
[{"$nulls":9},"Exposure",null,null,"Protective Measures",null,null,"Robustness/Resilience",null,null,"Human",null,null,"Economic",null,null,"Psychological"]
[{"$f":"T('Critical-Representative Assets'!B83)","v":"Bus - Type 1"},null,{"$f":"T('Critical-Representative Assets'!C83)","v":"BUS"},{"$f":"SUM('Critical-Representative Assets'!D83)","v":3},{"v":1,"d":"1.0"},null,{"$f":"SUM('Critical-Representative Assets'!F83)","v":{"v":0,"d":"0.0"}},null,null,{"v":0,"d":"0.0"},null,null,{"v":0,"d":"0.0"},null,null,{"v":0,"d":"0.0"},null,null,{"v":0,"d":"0.0"},null,null,{"v":0,"d":"0.0"},null,null,{"v":0,"d":"0.0"}]
[{"$f":"T('Critical-Representative Assets'!E83)","v":""}]
[{"$nulls":4},{"$f":"SUM(E25)","v":{"v":1,"d":"1.0"}},null,{"$f":"SUM(G25)","v":{"v":0,"d":"0.0"}},null,null,{"$f":"SUM((J25+M25+P25)/3)","v":{"v":0,"d":"0.0"}},{"$nulls":8},{"$f":"SUM(((S25*3)+V25+Y25)/5)","v":{"v":0,"d":"0.0"}}]
[]
[{"$f":"T(A23)","v":"Armed Assault/Active Shooter"},{"$nulls":3},"Threat",null,"Criticality",null,null,"Vulnerability",{"$nulls":8},"Consequence",{"$nulls":8},{"$f":"SUM(((((J33+S33)/2)*G33)*E33))","v":0}]
[{"$nulls":9},"Exposure",null,null,"Protective Measures",null,null,"Robustness/Resilience",null,null,"Human",null,null,"Economic",null,null,"Psychological"]
[{"$f":"T('Critical-Representative Assets'!B84)","v":"Bus - Type 2"},null,{"$f":"T('Critical-Representative Assets'!C84)","v":"BUS"},{"$f":"SUM('Critical-Representative Assets'!D84)","v":4},{"v":1,"d":"1.0"},null,{"$f":"SUM('Critical-Representative Assets'!F84)","v":{"v":0,"d":"0.0"}},null,null,{"v":0,"d":"0.0"},null,null,{"v":0,"d":"0.0"},null,null,{"v":0,"d":"0.0"},null,null,{"v":0,"d":"0.0"},null,null,{"v":0,"d":"0.0"},null,null,{"v":0,"d":"0.0"}]
[{"$f":"T('Critical-Representative Assets'!E84)","v":""}]
[{"$nulls":4},{"$f":"SUM(E31)","v":{"v":1,"d":"1.0"}},null,{"$f":"SUM(G31)","v":{"v":0,"d":"0.0"}},null,null,{"$f":"SUM((J31+M31+P31)/3)","v":{"v":0,"d":"0.0"}},{"$nulls":8},{"$f":"SUM(((S31*3)+V31+Y31)/5)","v":{"v":0,"d":"0.0"}}]
[]
[{"$f":"T(A29)","v":"Armed Assault/Active Shooter"},{"$nulls":3},"Threat",null,"Criticality",null,null,"Vulnerability",{"$nulls":8},"Consequence",{"$nulls":8},{"$f":"SUM(((((J39+S39)/2)*G39)*E39))","v":0}]
[{"$nulls":9},"Exposure",null,null,"Protective Measures",null,null,"Robustness/Resilience",null,null,"Human",null,null,"Economic",null,null,"Psychological"]
[{"$f":"T('Critical-Representative Assets'!B85)","v":"Dispatch/Control Center"},null,{"$f":"T('Critical-Representative Assets'!C85)","v":"BUS"},{"$f":"SUM('Critical-Representative Assets'!D85)","v":5},{"v":1,"d":"1.0"},null,{"$f":"SUM('Critical-Representative Assets'!F85)","v":{"v":0,"d":"0.0"}},null,null,{"v":0,"d":"0.0"},null,null,{"v":0,"d":"0.0"},null,null,{"v":0,"d":"0.0"},null,null,{"v":0,"d":"0.0"},null,null,{"v":0,"d":"0.0"},null,null,{"v":0,"d":"0.0"}]
[{"$f":"T('Critical-Representative Assets'!E85)","v":""}]
[{"$nulls":4},{"$f":"SUM(E37)","v":{"v":1,"d":"1.0"}},null,{"$f":"SUM(G37)","v":{"v":0,"d":"0.0"}},null,null,{"$f":"SUM((J37+M37+P37)/3)","v":{"v":0,"d":"0.0"}},{"$nulls":8},{"$f":"SUM(((S37*3)+V37+Y37)/5)","v":{"v":0,"d":"0.0"}}]
[]
[{"$f":"T(A35)","v":"Armed Assault/Active Shooter"},{"$nulls":3},"Threat",null,"Criticality",null,null,"Vulnerability",{"$nulls":8},"Consequence",{"$nulls":8},{"$f":"SUM(((((J45+S45)/2)*G45)*E45))","v":0}]
[{"$nulls":9},"Exposure",null,null,"Protective Measures",null,null,"Robustness/Resilience",null,null,"Human",null,null,"Economic",null,null,"Psychological"]
[{"$f":"T('Critical-Representative Assets'!B86)","v":"Cyber Systems"},null,{"$f":"T('Critical-Representative Assets'!C86)","v":"BUS"},{"$f":"SUM('Critical-Representative Assets'!D86)","v":6},{"v":1,"d":"1.0"},null,{"$f":"SUM('Critical-Representative Assets'!F86)","v":{"v":0,"d":"0.0"}},null,null,{"v":0,"d":"0.0"},null,null,{"v":0,"d":"0.0"},null,null,{"v":0,"d":"0.0"},null,null,{"v":0,"d":"0.0"},null,null,{"v":0,"d":"0.0"},null,null,{"v":0,"d":"0.0"}]
[{"$f":"T('Critical-Representative Assets'!E86)","v":""}]
[{"$nulls":4},{"$f":"SUM(E43)","v":{"v":1,"d":"1.0"}},null,{"$f":"SUM(G43)","v":{"v":0,"d":"0.0"}},null,null,{"$f":"SUM((J43+M43+P43)/3)","v":{"v":0,"d":"0.0"}},{"$nulls":8},{"$f":"SUM(((S43*3)+V43+Y43)/5)","v":{"v":0,"d":"0.0"}}]
[]
[{"$f":"T(A41)","v":"Armed Assault/Active Shooter"},{"$nulls":3},"Threat",null,"Criticality",null,null,"Vulnerability",{"$nulls":8},"Consequence",{"$nulls":8},{"$f":"SUM(((((J51+S51)/2)*G51)*E51))","v":0}]
[{"$nulls":9},"Exposure",null,null,"Protective Measures",null,null,"Robustness/Resilience",null,null,"Human",null,null,"Economic",null,null,"Psychological"]
[{"$f":"T('Critical-Representative Assets'!B87)","v":"Fueling Facilities/Depots"},null,{"$f":"T('Critical-Representative Assets'!C87)","v":"BUS"},{"$f":"SUM('Critical-Representative Assets'!D87)","v":7},{"v":1,"d":"1.0"},null,{"$f":"SUM('Critical-Representative Assets'!F87)","v":{"v":0,"d":"0.0"}},null,null,{"v":0,"d":"0.0"},null,null,{"v":0,"d":"0.0"},null,null,{"v":0,"d":"0.0"},null,null,{"v":0,"d":"0.0"},null,null,{"v":0,"d":"0.0"},null,null,{"v":0,"d":"0.0"}]
[{"$f":"T('Critical-Representative Assets'!E87)","v":""}]
[{"$nulls":4},{"$f":"SUM(E49)","v":{"v":1,"d":"1.0"}},null,{"$f":"SUM(G49)","v":{"v":0,"d":"0.0"}},null,null,{"$f":"SUM((J49+M49+P49)/3)","v":{"v":0,"d":"0.0"}},{"$nulls":8},{"$f":"SUM(((S49*3)+V49+Y49)/5)","v":{"v":0,"d":"0.0"}}]
[]
[{"$f":"T(A47)","v":"Armed Assault/Active Shooter"},{"$nulls":3},"Threat",null,"Criticality",null,null,"Vulnerability",{"$nulls":8},"Consequence",{"$nulls":8},{"$f":"SUM(((((J57+S57)/2)*G57)*E57))","v":0}]
[{"$nulls":9},"Exposure",null,null,"Protective Measures",null,null,"Robustness/Resilience",null,null,"Human",null,null,"Economic",null,null,"Psychological"]
[{"$f":"T('Critical-Representative Assets'!B88)","v":"Maintenance Barns/Facilities"},null,{"$f":"T('Critical-Representative Assets'!C88)","v":"BUS"},{"$f":"SUM('Critical-Representative Assets'!D88)","v":8},{"v":1,"d":"1.0"},null,{"$f":"SUM('Critical-Representative Assets'!F88)","v":{"v":0,"d":"0.0"}},null,null,{"v":0,"d":"0.0"},null,null,{"v":0,"d":"0.0"},null,null,{"v":0,"d":"0.0"},null,null,{"v":0,"d":"0.0"},null,null,{"v":0,"d":"0.0"},null,null,{"v":0,"d":"0.0"}]
[{"$f":"T('Critical-Representative Assets'!E88)","v":""}]
[{"$nulls":4},{"$f":"SUM(E55)","v":{"v":1,"d":"1.0"}},null,{"$f":"SUM(G55)","v":{"v":0,"d":"0.0"}},null,null,{"$f":"SUM((J55+M55+P55)/3)","v":{"v":0,"d":"0.0"}},{"$nulls":8},{"$f":"SUM(((S55*3)+V55+Y55)/5)","v":{"v":0,"d":"0.0"}}]
[]
[{"$f":"T(Definitions!D20)","v":" VBIED or IED"}]
[{"$f":"T(A59)","v":" VBIED or IED"},{"$nulls":3},"Threat",null,"Criticality",null,null,"Vulnerability",{"$nulls":8},"Consequence",{"$nulls":8},{"$f":"SUM(((((J64+S64)/2)*G64)*E64))","v":0}]
[{"$nulls":9},"Exposure",null,null,"Protective Measures",null,null,"Robustness/Resilience",null,null,"Human",null,null,"Economic",null,null,"Psychological"]
[{"$f":"T(A307)","v":"Headquarters Building"},null,{"$f":"T(C307)","v":"BUS"},{"$f":"SUM(D307)","v":1},{"v":1,"d":"1.0"},null,{"$f":"SUM(G307)","v":{"v":0,"d":"0.0"}},null,null,{"v":0,"d":"0.0"},null,null,{"v":0,"d":"0.0"},null,null,{"v":0,"d":"0.0"},null,null,{"v":0,"d":"0.0"},null,null,{"v":0,"d":"0.0"},null,null,{"v":0,"d":"0.0"}]
[{"$f":"T(A308)","v":""}]
[{"$nulls":4},{"$f":"SUM(E62)","v":{"v":1,"d":"1.0"}},null,{"$f":"SUM(G62)","v":{"v":0,"d":"0.0"}},null,null,{"$f":"SUM((J62+M62+P62)/3)","v":{"v":0,"d":"0.0"}},{"$nulls":8},{"$f":"SUM(((S62*3)+V62+Y62)/5)","v":{"v":0,"d":"0.0"}}]
[]
[{"$f":"T(A59)","v":" VBIED or IED"},{"$nulls":3},"Threat",null,"Criticality",null,null,"Vulnerability",{"$nulls":8},"Consequence",{"$nulls":8},{"$f":"SUM(((((J70+S70)/2)*G70)*E70))","v":0}]
[{"$nulls":9},"Exposure",null,null,"Protective Measures",null,null,"Robustness/Resilience",null,null,"Human",null,null,"Economic",null,null,"Psychological"]
[{"$f":"T(A313)","v":"System Owned Bus Station"},null,{"$f":"T(C313)","v":"BUS"},{"$f":"SUM(D313)","v":2},{"v":1,"d":"1.0"},null,{"$f":"SUM(G313)","v":{"v":0,"d":"0.0"}},null,null,{"v":0,"d":"0.0"},null,null,{"v":0,"d":"0.0"},null,null,{"v":0,"d":"0.0"},null,null,{"v":0,"d":"0.0"},null,null,{"v":0,"d":"0.0"},null,null,{"v":0,"d":"0.0"}]
[{"$f":"T(A314)","v":""}]
[{"$nulls":4},{"$f":"SUM(E68)","v":{"v":1,"d":"1.0"}},null,{"$f":"SUM(G68)","v":{"v":0,"d":"0.0"}},null,null,{"$f":"SUM((J68+M68+P68)/3)","v":{"v":0,"d":"0.0"}},{"$nulls":8},{"$f":"SUM(((S68*3)+V68+Y68)/5)","v":{"v":0,"d":"0.0"}}]
[]
[{"$f":"T(A66)","v":" VBIED or IED"},{"$nulls":3},"Threat",null,"Criticality",null,null,"Vulnerability",{"$nulls":8},"Consequence",{"$nulls":8},{"$f":"SUM(((((J76+S76)/2)*G76)*E76))","v":0}]
[{"$nulls":9},"Exposure",null,null,"Protective Measures",null,null,"Robustness/Resilience",null,null,"Human",null,null,"Economic",null,null,"Psychological"]
[{"$f":"T(A319)","v":"Bus - Type 1"},null,{"$f":"T(C319)","v":"BUS"},{"$f":"SUM(D319)","v":3},{"v":1,"d":"1.0"},null,{"$f":"SUM(G319)","v":{"v":0,"d":"0.0"}},null,null,{"v":0,"d":"0.0"},null,null,{"v":0,"d":"0.0"},null,null,{"v":0,"d":"0.0"},null,null,{"v":0,"d":"0.0"},null,null,{"v":0,"d":"0.0"},null,null,{"v":0,"d":"0.0"}]
[{"$f":"T(A320)","v":""}]
[{"$nulls":4},{"$f":"SUM(E74)","v":{"v":1,"d":"1.0"}},null,{"$f":"SUM(G74)","v":{"v":0,"d":"0.0"}},null,null,{"$f":"SUM((J74+M74+P74)/3)","v":{"v":0,"d":"0.0"}},{"$nulls":8},{"$f":"SUM(((S74*3)+V74+Y74)/5)","v":{"v":0,"d":"0.0"}}]
[]
[{"$f":"T(A72)","v":" VBIED or IED"},{"$nulls":3},"Threat",null,"Criticality",null,null,"Vulnerability",{"$nulls":8},"Consequence",{"$nulls":8},{"$f":"SUM(((((J82+S82)/2)*G82)*E82))","v":0}]
[{"$nulls":9},"Exposure",null,null,"Protective Measures",null,null,"Robustness/Resilience",null,null,"Human",null,null,"Economic",null,null,"Psychological"]
[{"$f":"T(A325)","v":"Bus - Type 2"},null,{"$f":"T(C325)","v":"BUS"},{"$f":"SUM(D325)","v":4},{"v":1,"d":"1.0"},null,{"$f":"SUM(G325)","v":{"v":0,"d":"0.0"}},null,null,{"v":0,"d":"0.0"},null,null,{"v":0,"d":"0.0"},null,null,{"v":0,"d":"0.0"},null,null,{"v":0,"d":"0.0"},null,null,{"v":0,"d":"0.0"},null,null,{"v":0,"d":"0.0"}]
[{"$f":"T(A326)","v":""}]
[{"$nulls":4},{"$f":"SUM(E80)","v":{"v":1,"d":"1.0"}},null,{"$f":"SUM(G80)","v":{"v":0,"d":"0.0"}},null,null,{"$f":"SUM((J80+M80+P80)/3)","v":{"v":0,"d":"0.0"}},{"$nulls":8},{"$f":"SUM(((S80*3)+V80+Y80)/5)","v":{"v":0,"d":"0.0"}}]
[]
[{"$f":"T(A78)","v":" VBIED or IED"},{"$nulls":3},"Threat",null,"Criticality",null,null,"Vulnerability",{"$nulls":8},"Consequence",{"$nulls":8},{"$f":"SUM(((((J88+S88)/2)*G88)*E88))","v":0}]
[{"$nulls":9},"Exposure",null,null,"Protective Measures",null,null,"Robustness/Resilience",null,null,"Human",null,null,"Economic",null,null,"Psychological"]
[{"$f":"T(A331)","v":"Dispatch/Control Center"},null,{"$f":"T(C331)","v":"BUS"},{"$f":"SUM(D331)","v":5},{"v":1,"d":"1.0"},null,{"$f":"SUM(G331)","v":{"v":0,"d":"0.0"}},null,null,{"v":0,"d":"0.0"},null,null,{"v":0,"d":"0.0"},null,null,{"v":0,"d":"0.0"},null,null,{"v":0,"d":"0.0"},null,null,{"v":0,"d":"0.0"},null,null,{"v":0,"d":"0.0"}]
[{"$f":"T(A332)","v":""}]
[{"$nulls":4},{"$f":"SUM(E86)","v":{"v":1,"d":"1.0"}},null,{"$f":"SUM(G86)","v":{"v":0,"d":"0.0"}},null,null,{"$f":"SUM((J86+M86+P86)/3)","v":{"v":0,"d":"0.0"}},{"$nulls":8},{"$f":"SUM(((S86*3)+V86+Y86)/5)","v":{"v":0,"d":"0.0"}}]
[]
[{"$f":"T(A84)","v":" VBIED or IED"},{"$nulls":3},"Threat",null,"Criticality",null,null,"Vulnerability",{"$nulls":8},"Consequence",{"$nulls":8},{"$f":"SUM(((((J94+S94)/2)*G94)*E94))","v":0}]
[{"$nulls":9},"Exposure",null,null,"Protective Measures",null,null,"Robustness/Resilience",null,null,"Human",null,null,"Economic",null,null,"Psychological"]
[{"$f":"T(A337)","v":"Cyber Systems"},null,{"$f":"T(C337)","v":"BUS"},{"$f":"SUM(D337)","v":6},{"v":1,"d":"1.0"},null,{"$f":"SUM(G337)","v":{"v":0,"d":"0.0"}},null,null,{"v":0,"d":"0.0"},null,null,{"v":0,"d":"0.0"},null,null,{"v":0,"d":"0.0"},null,null,{"v":0,"d":"0.0"},null,null,{"v":0,"d":"0.0"},null,null,{"v":0,"d":"0.0"}]
[{"$f":"T(A338)","v":""}]
[{"$nulls":4},{"$f":"SUM(E92)","v":{"v":1,"d":"1.0"}},null,{"$f":"SUM(G92)","v":{"v":0,"d":"0.0"}},null,null,{"$f":"SUM((J92+M92+P92)/3)","v":{"v":0,"d":"0.0"}},{"$nulls":8},{"$f":"SUM(((S92*3)+V92+Y92)/5)","v":{"v":0,"d":"0.0"}}]
[]
[{"$f":"T(A90)","v":" VBIED or IED"},{"$nulls":3},"Threat",null,"Criticality",null,null,"Vulnerability",{"$nulls":8},"Consequence",{"$nulls":8},{"$f":"SUM(((((J100+S100)/2)*G100)*E100))","v":0}]
[{"$nulls":9},"Exposure",null,null,"Protective Measures",null,null,"Robustness/Resilience",null,null,"Human",null,null,"Economic",null,null,"Psychological"]
[{"$f":"T(A343)","v":"Fueling Facilities/Depots"},null,{"$f":"T(C343)","v":"BUS"},{"$f":"SUM(D343)","v":7},{"v":1,"d":"1.0"},null,{"$f":"SUM(G343)","v":{"v":0,"d":"0.0"}},null,null,{"v":0,"d":"0.0"},null,null,{"v":0,"d":"0.0"},null,null,{"v":0,"d":"0.0"},null,null,{"v":0,"d":"0.0"},null,null,{"v":0,"d":"0.0"},null,null,{"v":0,"d":"0.0"}]
[{"$f":"T(A344)","v":""}]
[{"$nulls":4},{"$f":"SUM(E98)","v":{"v":1,"d":"1.0"}},null,{"$f":"SUM(G98)","v":{"v":0,"d":"0.0"}},null,null,{"$f":"SUM((J98+M98+P98)/3)","v":{"v":0,"d":"0.0"}},{"$nulls":8},{"$f":"SUM(((S98*3)+V98+Y98)/5)","v":{"v":0,"d":"0.0"}}]
[]
[{"$f":"T(A96)","v":" VBIED or IED"},{"$nulls":3},"Threat",null,"Criticality",null,null,"Vulnerability",{"$nulls":8},"Consequence",{"$nulls":8},{"$f":"SUM(((((J106+S106)/2)*G106)*E106))","v":0}]
[{"$nulls":9},"Exposure",null,null,"Protective Measures",null,null,"Robustness/Resilience",null,null,"Human",null,null,"Economic",null,null,"Psychological"]
[{"$f":"T(A349)","v":"Maintenance Barns/Facilities"},null,{"$f":"T(C349)","v":"BUS"},{"$f":"SUM(D349)","v":8},{"v":1,"d":"1.0"},null,{"$f":"SUM(G349)","v":{"v":0,"d":"0.0"}},null,null,{"v":0,"d":"0.0"},null,null,{"v":0,"d":"0.0"},null,null,{"v":0,"d":"0.0"},null,null,{"v":0,"d":"0.0"},null,null,{"v":0,"d":"0.0"},null,null,{"v":0,"d":"0.0"}]
[{"$f":"T(A350)","v":""}]
[{"$nulls":4},{"$f":"SUM(E104)","v":{"v":1,"d":"1.0"}},null,{"$f":"SUM(G104)","v":{"v":0,"d":"0.0"}},null,null,{"$f":"SUM((J104+M104+P104)/3)","v":{"v":0,"d":"0.0"}},{"$nulls":8},{"$f":"SUM(((S104*3)+V104+Y104)/5)","v":{"v":0,"d":"0.0"}}]
[]
[{"$f":"T(Definitions!D21)","v":"Hijack"}]
[{"$f":"T(A108)","v":"Hijack"},{"$nulls":3},"Threat",null,"Criticality",null,null,"Vulnerability",{"$nulls":8},"Consequence",{"$nulls":8},{"$f":"SUM(((((J113+S113)/2)*G113)*E113))","v":0}]
[{"$nulls":9},"Exposure",null,null,"Protective Measures",null,null,"Robustness/Resilience",null,null,"Human",null,null,"Economic",null,null,"Psychological"]
[{"$f":"T(A62)","v":"Headquarters Building"},null,{"$f":"T(C62)","v":"BUS"},{"$f":"SUM(D62)","v":1},{"v":1,"d":"1.0"},null,{"$f":"SUM(G62)","v":{"v":0,"d":"0.0"}},null,null,{"v":0,"d":"0.0"},null,null,{"v":0,"d":"0.0"},null,null,{"v":0,"d":"0.0"},null,null,{"v":0,"d":"0.0"},null,null,{"v":0,"d":"0.0"},null,null,{"v":0,"d":"0.0"}]
[{"$f":"T(A63)","v":""}]
[{"$nulls":4},{"$f":"SUM(E111)","v":{"v":1,"d":"1.0"}},null,{"$f":"SUM(G111)","v":{"v":0,"d":"0.0"}},null,null,{"$f":"SUM((J111+M111+P111)/3)","v":{"v":0,"d":"0.0"}},{"$nulls":8},{"$f":"SUM(((S111*3)+V111+Y111)/5)","v":{"v":0,"d":"0.0"}}]
[]
[{"$f":"T(A108)","v":"Hijack"},{"$nulls":3},"Threat",null,"Criticality",null,null,"Vulnerability",{"$nulls":8},"Consequence",{"$nulls":8},{"$f":"SUM(((((J119+S119)/2)*G119)*E119))","v":0}]
[{"$nulls":9},"Exposure",null,null,"Protective Measures",null,null,"Robustness/Resilience",null,null,"Human",null,null,"Economic",null,null,"Psychological"]
[{"$f":"T(A68)","v":"System Owned Bus Station"},null,{"$f":"T(C68)","v":"BUS"},{"$f":"SUM(D68)","v":2},{"v":1,"d":"1.0"},null,{"$f":"SUM(G68)","v":{"v":0,"d":"0.0"}},null,null,{"v":0,"d":"0.0"},null,null,{"v":0,"d":"0.0"},null,null,{"v":0,"d":"0.0"},null,null,{"v":0,"d":"0.0"},null,null,{"v":0,"d":"0.0"},null,null,{"v":0,"d":"0.0"}]
[{"$f":"T(A69)","v":""}]
[{"$nulls":4},{"$f":"SUM(E117)","v":{"v":1,"d":"1.0"}},null,{"$f":"SUM(G117)","v":{"v":0,"d":"0.0"}},null,null,{"$f":"SUM((J117+M117+P117)/3)","v":{"v":0,"d":"0.0"}},{"$nulls":8},{"$f":"SUM(((S117*3)+V117+Y117)/5)","v":{"v":0,"d":"0.0"}}]
[]
[{"$f":"T(A115)","v":"Hijack"},{"$nulls":3},"Threat",null,"Criticality",null,null,"Vulnerability",{"$nulls":8},"Consequence",{"$nulls":8},{"$f":"SUM(((((J125+S125)/2)*G125)*E125))","v":0}]
[{"$nulls":9},"Exposure",null,null,"Protective Measures",null,null,"Robustness/Resilience",null,null,"Human",null,null,"Economic",null,null,"Psychological"]
[{"$f":"T(A74)","v":"Bus - Type 1"},null,{"$f":"T(C74)","v":"BUS"},{"$f":"SUM(D74)","v":3},{"v":1,"d":"1.0"},null,{"$f":"SUM(G74)","v":{"v":0,"d":"0.0"}},null,null,{"v":0,"d":"0.0"},null,null,{"v":0,"d":"0.0"},null,null,{"v":0,"d":"0.0"},null,null,{"v":0,"d":"0.0"},null,null,{"v":0,"d":"0.0"},null,null,{"v":0,"d":"0.0"}]
[{"$f":"T(A75)","v":""}]
[{"$nulls":4},{"$f":"SUM(E123)","v":{"v":1,"d":"1.0"}},null,{"$f":"SUM(G123)","v":{"v":0,"d":"0.0"}},null,null,{"$f":"SUM((J123+M123+P123)/3)","v":{"v":0,"d":"0.0"}},{"$nulls":8},{"$f":"SUM(((S123*3)+V123+Y123)/5)","v":{"v":0,"d":"0.0"}}]
[]
[{"$f":"T(A121)","v":"Hijack"},{"$nulls":3},"Threat",null,"Criticality",null,null,"Vulnerability",{"$nulls":8},"Consequence",{"$nulls":8},{"$f":"SUM(((((J131+S131)/2)*G131)*E131))","v":0}]
[{"$nulls":9},"Exposure",null,null,"Protective Measures",null,null,"Robustness/Resilience",null,null,"Human",null,null,"Economic",null,null,"Psychological"]
[{"$f":"T(A80)","v":"Bus - Type 2"},null,{"$f":"T(C80)","v":"BUS"},{"$f":"SUM(D80)","v":4},{"v":1,"d":"1.0"},null,{"$f":"SUM(G80)","v":{"v":0,"d":"0.0"}},null,null,{"v":0,"d":"0.0"},null,null,{"v":0,"d":"0.0"},null,null,{"v":0,"d":"0.0"},null,null,{"v":0,"d":"0.0"},null,null,{"v":0,"d":"0.0"},null,null,{"v":0,"d":"0.0"}]
[{"$f":"T(A81)","v":""}]
[{"$nulls":4},{"$f":"SUM(E129)","v":{"v":1,"d":"1.0"}},null,{"$f":"SUM(G129)","v":{"v":0,"d":"0.0"}},null,null,{"$f":"SUM((J129+M129+P129)/3)","v":{"v":0,"d":"0.0"}},{"$nulls":8},{"$f":"SUM(((S129*3)+V129+Y129)/5)","v":{"v":0,"d":"0.0"}}]
[]
[{"$f":"T(A127)","v":"Hijack"},{"$nulls":3},"Threat",null,"Criticality",null,null,"Vulnerability",{"$nulls":8},"Consequence",{"$nulls":8},{"$f":"SUM(((((J137+S137)/2)*G137)*E137))","v":0}]
[{"$nulls":9},"Exposure",null,null,"Protective Measures",null,null,"Robustness/Resilience",null,null,"Human",null,null,"Economic",null,null,"Psychological"]
[{"$f":"T(A86)","v":"Dispatch/Control Center"},null,{"$f":"T(C86)","v":"BUS"},{"$f":"SUM(D86)","v":5},{"v":1,"d":"1.0"},null,{"$f":"SUM(G86)","v":{"v":0,"d":"0.0"}},null,null,{"v":0,"d":"0.0"},null,null,{"v":0,"d":"0.0"},null,null,{"v":0,"d":"0.0"},null,null,{"v":0,"d":"0.0"},null,null,{"v":0,"d":"0.0"},null,null,{"v":0,"d":"0.0"}]
[{"$f":"T(A87)","v":""}]
[{"$nulls":4},{"$f":"SUM(E135)","v":{"v":1,"d":"1.0"}},null,{"$f":"SUM(G135)","v":{"v":0,"d":"0.0"}},null,null,{"$f":"SUM((J135+M135+P135)/3)","v":{"v":0,"d":"0.0"}},{"$nulls":8},{"$f":"SUM(((S135*3)+V135+Y135)/5)","v":{"v":0,"d":"0.0"}}]
[]
[{"$f":"T(A133)","v":"Hijack"},{"$nulls":3},"Threat",null,"Criticality",null,null,"Vulnerability",{"$nulls":8},"Consequence",{"$nulls":8},{"$f":"SUM(((((J143+S143)/2)*G143)*E143))","v":0}]
[{"$nulls":9},"Exposure",null,null,"Protective Measures",null,null,"Robustness/Resilience",null,null,"Human",null,null,"Economic",null,null,"Psychological"]
[{"$f":"T(A92)","v":"Cyber Systems"},null,{"$f":"T(C92)","v":"BUS"},{"$f":"SUM(D92)","v":6},{"v":1,"d":"1.0"},null,{"$f":"SUM(G92)","v":{"v":0,"d":"0.0"}},null,null,{"v":0,"d":"0.0"},null,null,{"v":0,"d":"0.0"},null,null,{"v":0,"d":"0.0"},null,null,{"v":0,"d":"0.0"},null,null,{"v":0,"d":"0.0"},null,null,{"v":0,"d":"0.0"}]
[{"$f":"T(A93)","v":""}]
[{"$nulls":4},{"$f":"SUM(E141)","v":{"v":1,"d":"1.0"}},null,{"$f":"SUM(G141)","v":{"v":0,"d":"0.0"}},null,null,{"$f":"SUM((J141+M141+P141)/3)","v":{"v":0,"d":"0.0"}},{"$nulls":8},{"$f":"SUM(((S141*3)+V141+Y141)/5)","v":{"v":0,"d":"0.0"}}]
[]
[{"$f":"T(A139)","v":"Hijack"},{"$nulls":3},"Threat",null,"Criticality",null,null,"Vulnerability",{"$nulls":8},"Consequence",{"$nulls":8},{"$f":"SUM(((((J149+S149)/2)*G149)*E149))","v":0}]
[{"$nulls":9},"Exposure",null,null,"Protective Measures",null,null,"Robustness/Resilience",null,null,"Human",null,null,"Economic",null,null,"Psychological"]
[{"$f":"T(A98)","v":"Fueling Facilities/Depots"},null,{"$f":"T(C98)","v":"BUS"},{"$f":"SUM(D98)","v":7},{"v":1,"d":"1.0"},null,{"$f":"SUM(G98)","v":{"v":0,"d":"0.0"}},null,null,{"v":0,"d":"0.0"},null,null,{"v":0,"d":"0.0"},null,null,{"v":0,"d":"0.0"},null,null,{"v":0,"d":"0.0"},null,null,{"v":0,"d":"0.0"},null,null,{"v":0,"d":"0.0"}]
[{"$f":"T(A99)","v":""}]
[{"$nulls":4},{"$f":"SUM(E147)","v":{"v":1,"d":"1.0"}},null,{"$f":"SUM(G147)","v":{"v":0,"d":"0.0"}},null,null,{"$f":"SUM((J147+M147+P147)/3)","v":{"v":0,"d":"0.0"}},{"$nulls":8},{"$f":"SUM(((S147*3)+V147+Y147)/5)","v":{"v":0,"d":"0.0"}}]
[]
[{"$f":"T(A145)","v":"Hijack"},{"$nulls":3},"Threat",null,"Criticality",null,null,"Vulnerability",{"$nulls":8},"Consequence",{"$nulls":8},{"$f":"SUM(((((J155+S155)/2)*G155)*E155))","v":0}]
[{"$nulls":9},"Exposure",null,null,"Protective Measures",null,null,"Robustness/Resilience",null,null,"Human",null,null,"Economic",null,null,"Psychological"]
[{"$f":"T(A104)","v":"Maintenance Barns/Facilities"},null,{"$f":"T(C104)","v":"BUS"},{"$f":"SUM(D104)","v":8},{"v":1,"d":"1.0"},null,{"$f":"SUM(G104)","v":{"v":0,"d":"0.0"}},null,null,{"v":0,"d":"0.0"},null,null,{"v":0,"d":"0.0"},null,null,{"v":0,"d":"0.0"},null,null,{"v":0,"d":"0.0"},null,null,{"v":0,"d":"0.0"},null,null,{"v":0,"d":"0.0"}]
[{"$f":"T(A105)","v":""}]
[{"$nulls":4},{"$f":"SUM(E153)","v":{"v":1,"d":"1.0"}},null,{"$f":"SUM(G153)","v":{"v":0,"d":"0.0"}},null,null,{"$f":"SUM((J153+M153+P153)/3)","v":{"v":0,"d":"0.0"}},{"$nulls":8},{"$f":"SUM(((S153*3)+V153+Y153)/5)","v":{"v":0,"d":"0.0"}}]
[]
[{"$f":"T(Definitions!D22)","v":"Coordinated Complex Attack"}]
[{"$f":"T(A157)","v":"Coordinated Complex Attack"},{"$nulls":3},"Threat",null,"Criticality",null,null,"Vulnerability",{"$nulls":8},"Consequence",{"$nulls":8},{"$f":"SUM(((((J162+S162)/2)*G162)*E162))","v":0}]
[{"$nulls":9},"Exposure",null,null,"Protective Measures",null,null,"Robustness/Resilience",null,null,"Human",null,null,"Economic",null,null,"Psychological"]
[{"$f":"T(A111)","v":"Headquarters Building"},null,{"$f":"T(C111)","v":"BUS"},{"$f":"SUM(D111)","v":1},{"v":1,"d":"1.0"},null,{"$f":"SUM(G111)","v":{"v":0,"d":"0.0"}},null,null,{"v":0,"d":"0.0"},null,null,{"v":0,"d":"0.0"},null,null,{"v":0,"d":"0.0"},null,null,{"v":0,"d":"0.0"},null,null,{"v":0,"d":"0.0"},null,null,{"v":0,"d":"0.0"}]
[{"$f":"T(A112)","v":""}]
[{"$nulls":4},{"$f":"SUM(E160)","v":{"v":1,"d":"1.0"}},null,{"$f":"SUM(G160)","v":{"v":0,"d":"0.0"}},null,null,{"$f":"SUM((J160+M160+P160)/3)","v":{"v":0,"d":"0.0"}},{"$nulls":8},{"$f":"SUM(((S160*3)+V160+Y160)/5)","v":{"v":0,"d":"0.0"}}]
[]
[{"$f":"T(A157)","v":"Coordinated Complex Attack"},{"$nulls":3},"Threat",null,"Criticality",null,null,"Vulnerability",{"$nulls":8},"Consequence",{"$nulls":8},{"$f":"SUM(((((J168+S168)/2)*G168)*E168))","v":0}]
[{"$nulls":9},"Exposure",null,null,"Protective Measures",null,null,"Robustness/Resilience",null,null,"Human",null,null,"Economic",null,null,"Psychological"]
[{"$f":"T(A117)","v":"System Owned Bus Station"},null,{"$f":"T(C117)","v":"BUS"},{"$f":"SUM(D117)","v":2},{"v":1,"d":"1.0"},null,{"$f":"SUM(G117)","v":{"v":0,"d":"0.0"}},null,null,{"v":0,"d":"0.0"},null,null,{"v":0,"d":"0.0"},null,null,{"v":0,"d":"0.0"},null,null,{"v":0,"d":"0.0"},null,null,{"v":0,"d":"0.0"},null,null,{"v":0,"d":"0.0"}]
[{"$f":"T(A118)","v":""}]
[{"$nulls":4},{"$f":"SUM(E166)","v":{"v":1,"d":"1.0"}},null,{"$f":"SUM(G166)","v":{"v":0,"d":"0.0"}},null,null,{"$f":"SUM((J166+M166+P166)/3)","v":{"v":0,"d":"0.0"}},{"$nulls":8},{"$f":"SUM(((S166*3)+V166+Y166)/5)","v":{"v":0,"d":"0.0"}}]
[]
[{"$f":"T(A164)","v":"Coordinated Complex Attack"},{"$nulls":3},"Threat",null,"Criticality",null,null,"Vulnerability",{"$nulls":8},"Consequence",{"$nulls":8},{"$f":"SUM(((((J174+S174)/2)*G174)*E174))","v":0}]
[{"$nulls":9},"Exposure",null,null,"Protective Measures",null,null,"Robustness/Resilience",null,null,"Human",null,null,"Economic",null,null,"Psychological"]
[{"$f":"T(A123)","v":"Bus - Type 1"},null,{"$f":"T(C123)","v":"BUS"},{"$f":"SUM(D123)","v":3},{"v":1,"d":"1.0"},null,{"$f":"SUM(G123)","v":{"v":0,"d":"0.0"}},null,null,{"v":0,"d":"0.0"},null,null,{"v":0,"d":"0.0"},null,null,{"v":0,"d":"0.0"},null,null,{"v":0,"d":"0.0"},null,null,{"v":0,"d":"0.0"},null,null,{"v":0,"d":"0.0"}]
[{"$f":"T(A124)","v":""}]
[{"$nulls":4},{"$f":"SUM(E172)","v":{"v":1,"d":"1.0"}},null,{"$f":"SUM(G172)","v":{"v":0,"d":"0.0"}},null,null,{"$f":"SUM((J172+M172+P172)/3)","v":{"v":0,"d":"0.0"}},{"$nulls":8},{"$f":"SUM(((S172*3)+V172+Y172)/5)","v":{"v":0,"d":"0.0"}}]
[]
[{"$f":"T(A170)","v":"Coordinated Complex Attack"},{"$nulls":3},"Threat",null,"Criticality",null,null,"Vulnerability",{"$nulls":8},"Consequence",{"$nulls":8},{"$f":"SUM(((((J180+S180)/2)*G180)*E180))","v":0}]
[{"$nulls":9},"Exposure",null,null,"Protective Measures",null,null,"Robustness/Resilience",null,null,"Human",null,null,"Economic",null,null,"Psychological"]
[{"$f":"T(A129)","v":"Bus - Type 2"},null,{"$f":"T(C129)","v":"BUS"},{"$f":"SUM(D129)","v":4},{"v":1,"d":"1.0"},null,{"$f":"SUM(G129)","v":{"v":0,"d":"0.0"}},null,null,{"v":0,"d":"0.0"},null,null,{"v":0,"d":"0.0"},null,null,{"v":0,"d":"0.0"},null,null,{"v":0,"d":"0.0"},null,null,{"v":0,"d":"0.0"},null,null,{"v":0,"d":"0.0"}]
[{"$f":"T(A130)","v":""}]
[{"$nulls":4},{"$f":"SUM(E178)","v":{"v":1,"d":"1.0"}},null,{"$f":"SUM(G178)","v":{"v":0,"d":"0.0"}},null,null,{"$f":"SUM((J178+M178+P178)/3)","v":{"v":0,"d":"0.0"}},{"$nulls":8},{"$f":"SUM(((S178*3)+V178+Y178)/5)","v":{"v":0,"d":"0.0"}}]
[]
[{"$f":"T(A176)","v":"Coordinated Complex Attack"},{"$nulls":3},"Threat",null,"Criticality",null,null,"Vulnerability",{"$nulls":8},"Consequence",{"$nulls":8},{"$f":"SUM(((((J186+S186)/2)*G186)*E186))","v":0}]
[{"$nulls":9},"Exposure",null,null,"Protective Measures",null,null,"Robustness/Resilience",null,null,"Human",null,null,"Economic",null,null,"Psychological"]
[{"$f":"T(A135)","v":"Dispatch/Control Center"},null,{"$f":"T(C135)","v":"BUS"},{"$f":"SUM(D135)","v":5},{"v":1,"d":"1.0"},null,{"$f":"SUM(G135)","v":{"v":0,"d":"0.0"}},null,null,{"v":0,"d":"0.0"},null,null,{"v":0,"d":"0.0"},null,null,{"v":0,"d":"0.0"},null,null,{"v":0,"d":"0.0"},null,null,{"v":0,"d":"0.0"},null,null,{"v":0,"d":"0.0"}]
[{"$f":"T(A136)","v":""}]
[{"$nulls":4},{"$f":"SUM(E184)","v":{"v":1,"d":"1.0"}},null,{"$f":"SUM(G184)","v":{"v":0,"d":"0.0"}},null,null,{"$f":"SUM((J184+M184+P184)/3)","v":{"v":0,"d":"0.0"}},{"$nulls":8},{"$f":"SUM(((S184*3)+V184+Y184)/5)","v":{"v":0,"d":"0.0"}}]
[]
[{"$f":"T(A182)","v":"Coordinated Complex Attack"},{"$nulls":3},"Threat",null,"Criticality",null,null,"Vulnerability",{"$nulls":8},"Consequence",{"$nulls":8},{"$f":"SUM(((((J192+S192)/2)*G192)*E192))","v":0}]
[{"$nulls":9},"Exposure",null,null,"Protective Measures",null,null,"Robustness/Resilience",null,null,"Human",null,null,"Economic",null,null,"Psychological"]
[{"$f":"T(A141)","v":"Cyber Systems"},null,{"$f":"T(C141)","v":"BUS"},{"$f":"SUM(D141)","v":6},{"v":1,"d":"1.0"},null,{"$f":"SUM(G141)","v":{"v":0,"d":"0.0"}},null,null,{"v":0,"d":"0.0"},null,null,{"v":0,"d":"0.0"},null,null,{"v":0,"d":"0.0"},null,null,{"v":0,"d":"0.0"},null,null,{"v":0,"d":"0.0"},null,null,{"v":0,"d":"0.0"}]
[{"$f":"T(A142)","v":""}]
[{"$nulls":4},{"$f":"SUM(E190)","v":{"v":1,"d":"1.0"}},null,{"$f":"SUM(G190)","v":{"v":0,"d":"0.0"}},null,null,{"$f":"SUM((J190+M190+P190)/3)","v":{"v":0,"d":"0.0"}},{"$nulls":8},{"$f":"SUM(((S190*3)+V190+Y190)/5)","v":{"v":0,"d":"0.0"}}]
[]
[{"$f":"T(A188)","v":"Coordinated Complex Attack"},{"$nulls":3},"Threat",null,"Criticality",null,null,"Vulnerability",{"$nulls":8},"Consequence",{"$nulls":8},{"$f":"SUM(((((J198+S198)/2)*G198)*E198))","v":0}]
[{"$nulls":9},"Exposure",null,null,"Protective Measures",null,null,"Robustness/Resilience",null,null,"Human",null,null,"Economic",null,null,"Psychological"]
[{"$f":"T(A147)","v":"Fueling Facilities/Depots"},null,{"$f":"T(C147)","v":"BUS"},{"$f":"SUM(D147)","v":7},{"v":1,"d":"1.0"},null,{"$f":"SUM(G147)","v":{"v":0,"d":"0.0"}},null,null,{"v":0,"d":"0.0"},null,null,{"v":0,"d":"0.0"},null,null,{"v":0,"d":"0.0"},null,null,{"v":0,"d":"0.0"},null,null,{"v":0,"d":"0.0"},null,null,{"v":0,"d":"0.0"}]
[{"$f":"T(A148)","v":""}]
[{"$nulls":4},{"$f":"SUM(E196)","v":{"v":1,"d":"1.0"}},null,{"$f":"SUM(G196)","v":{"v":0,"d":"0.0"}},null,null,{"$f":"SUM((J196+M196+P196)/3)","v":{"v":0,"d":"0.0"}},{"$nulls":8},{"$f":"SUM(((S196*3)+V196+Y196)/5)","v":{"v":0,"d":"0.0"}}]
[]
[{"$f":"T(A194)","v":"Coordinated Complex Attack"},{"$nulls":3},"Threat",null,"Criticality",null,null,"Vulnerability",{"$nulls":8},"Consequence",{"$nulls":8},{"$f":"SUM(((((J204+S204)/2)*G204)*E204))","v":0}]
[{"$nulls":9},"Exposure",null,null,"Protective Measures",null,null,"Robustness/Resilience",null,null,"Human",null,null,"Economic",null,null,"Psychological"]
[{"$f":"T(A153)","v":"Maintenance Barns/Facilities"},null,{"$f":"T(C153)","v":"BUS"},{"$f":"SUM(D153)","v":8},{"v":1,"d":"1.0"},null,{"$f":"SUM(G153)","v":{"v":0,"d":"0.0"}},null,null,{"v":0,"d":"0.0"},null,null,{"v":0,"d":"0.0"},null,null,{"v":0,"d":"0.0"},null,null,{"v":0,"d":"0.0"},null,null,{"v":0,"d":"0.0"},null,null,{"v":0,"d":"0.0"}]
[{"$f":"T(A154)","v":""}]
[{"$nulls":4},{"$f":"SUM(E202)","v":{"v":1,"d":"1.0"}},null,{"$f":"SUM(G202)","v":{"v":0,"d":"0.0"}},null,null,{"$f":"SUM((J202+M202+P202)/3)","v":{"v":0,"d":"0.0"}},{"$nulls":8},{"$f":"SUM(((S202*3)+V202+Y202)/5)","v":{"v":0,"d":"0.0"}}]
[]
[{"$f":"T(Definitions!D23)","v":"Cyber Attack"}]
[{"$f":"T(A206)","v":"Cyber Attack"},{"$nulls":3},"Threat",null,"Criticality",null,null,"Vulnerability",{"$nulls":8},"Consequence",{"$nulls":8},{"$f":"SUM(((((J211+S211)/2)*G211)*E211))","v":0}]
[{"$nulls":9},"Exposure",null,null,"Protective Measures",null,null,"Robustness/Resilience",null,null,"Human",null,null,"Economic",null,null,"Psychological"]
[{"$f":"T(A160)","v":"Headquarters Building"},null,{"$f":"T(C160)","v":"BUS"},{"$f":"SUM(D160)","v":1},{"v":1,"d":"1.0"},null,{"$f":"SUM(G160)","v":{"v":0,"d":"0.0"}},null,null,{"v":0,"d":"0.0"},null,null,{"v":0,"d":"0.0"},null,null,{"v":0,"d":"0.0"},null,null,{"v":0,"d":"0.0"},null,null,{"v":0,"d":"0.0"},null,null,{"v":0,"d":"0.0"}]
[{"$f":"T(A161)","v":""}]
[{"$nulls":4},{"$f":"SUM(E209)","v":{"v":1,"d":"1.0"}},null,{"$f":"SUM(G209)","v":{"v":0,"d":"0.0"}},null,null,{"$f":"SUM((J209+M209+P209)/3)","v":{"v":0,"d":"0.0"}},{"$nulls":8},{"$f":"SUM(((S209*3)+V209+Y209)/5)","v":{"v":0,"d":"0.0"}}]
[]
[{"$f":"T(A206)","v":"Cyber Attack"},{"$nulls":3},"Threat",null,"Criticality",null,null,"Vulnerability",{"$nulls":8},"Consequence",{"$nulls":8},{"$f":"SUM(((((J217+S217)/2)*G217)*E217))","v":0}]
[{"$nulls":9},"Exposure",null,null,"Protective Measures",null,null,"Robustness/Resilience",null,null,"Human",null,null,"Economic",null,null,"Psychological"]
[{"$f":"T(A166)","v":"System Owned Bus Station"},null,{"$f":"T(C166)","v":"BUS"},{"$f":"SUM(D166)","v":2},{"v":1,"d":"1.0"},null,{"$f":"SUM(G166)","v":{"v":0,"d":"0.0"}},null,null,{"v":0,"d":"0.0"},null,null,{"v":0,"d":"0.0"},null,null,{"v":0,"d":"0.0"},null,null,{"v":0,"d":"0.0"},null,null,{"v":0,"d":"0.0"},null,null,{"v":0,"d":"0.0"}]
[{"$f":"T(A167)","v":""}]
[{"$nulls":4},{"$f":"SUM(E215)","v":{"v":1,"d":"1.0"}},null,{"$f":"SUM(G215)","v":{"v":0,"d":"0.0"}},null,null,{"$f":"SUM((J215+M215+P215)/3)","v":{"v":0,"d":"0.0"}},{"$nulls":8},{"$f":"SUM(((S215*3)+V215+Y215)/5)","v":{"v":0,"d":"0.0"}}]
[]
[{"$f":"T(A213)","v":"Cyber Attack"},{"$nulls":3},"Threat",null,"Criticality",null,null,"Vulnerability",{"$nulls":8},"Consequence",{"$nulls":8},{"$f":"SUM(((((J223+S223)/2)*G223)*E223))","v":0}]
[{"$nulls":9},"Exposure",null,null,"Protective Measures",null,null,"Robustness/Resilience",null,null,"Human",null,null,"Economic",null,null,"Psychological"]
[{"$f":"T(A172)","v":"Bus - Type 1"},null,{"$f":"T(C172)","v":"BUS"},{"$f":"SUM(D172)","v":3},{"v":1,"d":"1.0"},null,{"$f":"SUM(G172)","v":{"v":0,"d":"0.0"}},null,null,{"v":0,"d":"0.0"},null,null,{"v":0,"d":"0.0"},null,null,{"v":0,"d":"0.0"},null,null,{"v":0,"d":"0.0"},null,null,{"v":0,"d":"0.0"},null,null,{"v":0,"d":"0.0"}]
[{"$f":"T(A173)","v":""}]
[{"$nulls":4},{"$f":"SUM(E221)","v":{"v":1,"d":"1.0"}},null,{"$f":"SUM(G221)","v":{"v":0,"d":"0.0"}},null,null,{"$f":"SUM((J221+M221+P221)/3)","v":{"v":0,"d":"0.0"}},{"$nulls":8},{"$f":"SUM(((S221*3)+V221+Y221)/5)","v":{"v":0,"d":"0.0"}}]
[]
[{"$f":"T(A219)","v":"Cyber Attack"},{"$nulls":3},"Threat",null,"Criticality",null,null,"Vulnerability",{"$nulls":8},"Consequence",{"$nulls":8},{"$f":"SUM(((((J229+S229)/2)*G229)*E229))","v":0}]
[{"$nulls":9},"Exposure",null,null,"Protective Measures",null,null,"Robustness/Resilience",null,null,"Human",null,null,"Economic",null,null,"Psychological"]
[{"$f":"T(A178)","v":"Bus - Type 2"},null,{"$f":"T(C178)","v":"BUS"},{"$f":"SUM(D178)","v":4},{"v":1,"d":"1.0"},null,{"$f":"SUM(G178)","v":{"v":0,"d":"0.0"}},null,null,{"v":0,"d":"0.0"},null,null,{"v":0,"d":"0.0"},null,null,{"v":0,"d":"0.0"},null,null,{"v":0,"d":"0.0"},null,null,{"v":0,"d":"0.0"},null,null,{"v":0,"d":"0.0"}]
[{"$f":"T(A179)","v":""}]
[{"$nulls":4},{"$f":"SUM(E227)","v":{"v":1,"d":"1.0"}},null,{"$f":"SUM(G227)","v":{"v":0,"d":"0.0"}},null,null,{"$f":"SUM((J227+M227+P227)/3)","v":{"v":0,"d":"0.0"}},{"$nulls":8},{"$f":"SUM(((S227*3)+V227+Y227)/5)","v":{"v":0,"d":"0.0"}}]
[]
[{"$f":"T(A225)","v":"Cyber Attack"},{"$nulls":3},"Threat",null,"Criticality",null,null,"Vulnerability",{"$nulls":8},"Consequence",{"$nulls":8},{"$f":"SUM(((((J235+S235)/2)*G235)*E235))","v":0}]
[{"$nulls":9},"Exposure",null,null,"Protective Measures",null,null,"Robustness/Resilience",null,null,"Human",null,null,"Economic",null,null,"Psychological"]
[{"$f":"T(A184)","v":"Dispatch/Control Center"},null,{"$f":"T(C184)","v":"BUS"},{"$f":"SUM(D184)","v":5},{"v":1,"d":"1.0"},null,{"$f":"SUM(G184)","v":{"v":0,"d":"0.0"}},null,null,{"v":0,"d":"0.0"},null,null,{"v":0,"d":"0.0"},null,null,{"v":0,"d":"0.0"},null,null,{"v":0,"d":"0.0"},null,null,{"v":0,"d":"0.0"},null,null,{"v":0,"d":"0.0"}]
[{"$f":"T(A185)","v":""}]
[{"$nulls":4},{"$f":"SUM(E233)","v":{"v":1,"d":"1.0"}},null,{"$f":"SUM(G233)","v":{"v":0,"d":"0.0"}},null,null,{"$f":"SUM((J233+M233+P233)/3)","v":{"v":0,"d":"0.0"}},{"$nulls":8},{"$f":"SUM(((S233*3)+V233+Y233)/5)","v":{"v":0,"d":"0.0"}}]
[]
[{"$f":"T(A231)","v":"Cyber Attack"},{"$nulls":3},"Threat",null,"Criticality",null,null,"Vulnerability",{"$nulls":8},"Consequence",{"$nulls":8},{"$f":"SUM(((((J241+S241)/2)*G241)*E241))","v":0}]
[{"$nulls":9},"Exposure",null,null,"Protective Measures",null,null,"Robustness/Resilience",null,null,"Human",null,null,"Economic",null,null,"Psychological"]
[{"$f":"T(A190)","v":"Cyber Systems"},null,{"$f":"T(C190)","v":"BUS"},{"$f":"SUM(D190)","v":6},{"v":1,"d":"1.0"},null,{"$f":"SUM(G190)","v":{"v":0,"d":"0.0"}},null,null,{"v":0,"d":"0.0"},null,null,{"v":0,"d":"0.0"},null,null,{"v":0,"d":"0.0"},null,null,{"v":0,"d":"0.0"},null,null,{"v":0,"d":"0.0"},null,null,{"v":0,"d":"0.0"}]
[{"$f":"T(A191)","v":""}]
[{"$nulls":4},{"$f":"SUM(E239)","v":{"v":1,"d":"1.0"}},null,{"$f":"SUM(G239)","v":{"v":0,"d":"0.0"}},null,null,{"$f":"SUM((J239+M239+P239)/3)","v":{"v":0,"d":"0.0"}},{"$nulls":8},{"$f":"SUM(((S239*3)+V239+Y239)/5)","v":{"v":0,"d":"0.0"}}]
[]
[{"$f":"T(A237)","v":"Cyber Attack"},{"$nulls":3},"Threat",null,"Criticality",null,null,"Vulnerability",{"$nulls":8},"Consequence",{"$nulls":8},{"$f":"SUM(((((J247+S247)/2)*G247)*E247))","v":0}]
[{"$nulls":9},"Exposure",null,null,"Protective Measures",null,null,"Robustness/Resilience",null,null,"Human",null,null,"Economic",null,null,"Psychological"]
[{"$f":"T(A196)","v":"Fueling Facilities/Depots"},null,{"$f":"T(C196)","v":"BUS"},{"$f":"SUM(D196)","v":7},{"v":1,"d":"1.0"},null,{"$f":"SUM(G196)","v":{"v":0,"d":"0.0"}},null,null,{"v":0,"d":"0.0"},null,null,{"v":0,"d":"0.0"},null,null,{"v":0,"d":"0.0"},null,null,{"v":0,"d":"0.0"},null,null,{"v":0,"d":"0.0"},null,null,{"v":0,"d":"0.0"}]
[{"$f":"T(A197)","v":""}]
[{"$nulls":4},{"$f":"SUM(E245)","v":{"v":1,"d":"1.0"}},null,{"$f":"SUM(G245)","v":{"v":0,"d":"0.0"}},null,null,{"$f":"SUM((J245+M245+P245)/3)","v":{"v":0,"d":"0.0"}},{"$nulls":8},{"$f":"SUM(((S245*3)+V245+Y245)/5)","v":{"v":0,"d":"0.0"}}]
[]
[{"$f":"T(A243)","v":"Cyber Attack"},{"$nulls":3},"Threat",null,"Criticality",null,null,"Vulnerability",{"$nulls":8},"Consequence",{"$nulls":8},{"$f":"SUM(((((J253+S253)/2)*G253)*E253))","v":0}]
[{"$nulls":9},"Exposure",null,null,"Protective Measures",null,null,"Robustness/Resilience",null,null,"Human",null,null,"Economic",null,null,"Psychological"]
[{"$f":"T(A202)","v":"Maintenance Barns/Facilities"},null,{"$f":"T(C202)","v":"BUS"},{"$f":"SUM(D202)","v":8},{"v":1,"d":"1.0"},null,{"$f":"SUM(G202)","v":{"v":0,"d":"0.0"}},null,null,{"v":0,"d":"0.0"},null,null,{"v":0,"d":"0.0"},null,null,{"v":0,"d":"0.0"},null,null,{"v":0,"d":"0.0"},null,null,{"v":0,"d":"0.0"},null,null,{"v":0,"d":"0.0"}]
[{"$f":"T(A203)","v":""}]
[{"$nulls":4},{"$f":"SUM(E251)","v":{"v":1,"d":"1.0"}},null,{"$f":"SUM(G251)","v":{"v":0,"d":"0.0"}},null,null,{"$f":"SUM((J251+M251+P251)/3)","v":{"v":0,"d":"0.0"}},{"$nulls":8},{"$f":"SUM(((S251*3)+V251+Y251)/5)","v":{"v":0,"d":"0.0"}}]
[]
[{"$f":"T(Definitions!D24)","v":"Natural Disaster"}]
[{"$f":"T(A255)","v":"Natural Disaster"},{"$nulls":3},"Threat",null,"Criticality",null,null,"Vulnerability",{"$nulls":8},"Consequence",{"$nulls":8},{"$f":"SUM(((((J260+S260)/2)*G260)*E260))","v":0}]
[{"$nulls":9},"Exposure",null,null,"Protective Measures",null,null,"Robustness/Resilience",null,null,"Human",null,null,"Economic",null,null,"Psychological"]
[{"$f":"T(A209)","v":"Headquarters Building"},null,{"$f":"T(C209)","v":"BUS"},{"$f":"SUM(D209)","v":1},{"v":1,"d":"1.0"},null,{"$f":"SUM(G209)","v":{"v":0,"d":"0.0"}},null,null,{"v":0,"d":"0.0"},null,null,{"v":0,"d":"0.0"},null,null,{"v":0,"d":"0.0"},null,null,{"v":0,"d":"0.0"},null,null,{"v":0,"d":"0.0"},null,null,{"v":0,"d":"0.0"}]
[{"$f":"T(A210)","v":""}]
[{"$nulls":4},{"$f":"SUM(E258)","v":{"v":1,"d":"1.0"}},null,{"$f":"SUM(G258)","v":{"v":0,"d":"0.0"}},null,null,{"$f":"SUM((J258+M258+P258)/3)","v":{"v":0,"d":"0.0"}},{"$nulls":8},{"$f":"SUM(((S258*3)+V258+Y258)/5)","v":{"v":0,"d":"0.0"}}]
[]
[{"$f":"T(A255)","v":"Natural Disaster"},{"$nulls":3},"Threat",null,"Criticality",null,null,"Vulnerability",{"$nulls":8},"Consequence",{"$nulls":8},{"$f":"SUM(((((J266+S266)/2)*G266)*E266))","v":0}]
[{"$nulls":9},"Exposure",null,null,"Protective Measures",null,null,"Robustness/Resilience",null,null,"Human",null,null,"Economic",null,null,"Psychological"]
[{"$f":"T(A215)","v":"System Owned Bus Station"},null,{"$f":"T(C215)","v":"BUS"},{"$f":"SUM(D215)","v":2},{"v":1,"d":"1.0"},null,{"$f":"SUM(G215)","v":{"v":0,"d":"0.0"}},null,null,{"v":0,"d":"0.0"},null,null,{"v":0,"d":"0.0"},null,null,{"v":0,"d":"0.0"},null,null,{"v":0,"d":"0.0"},null,null,{"v":0,"d":"0.0"},null,null,{"v":0,"d":"0.0"}]
[{"$f":"T(A216)","v":""}]
[{"$nulls":4},{"$f":"SUM(E264)","v":{"v":1,"d":"1.0"}},null,{"$f":"SUM(G264)","v":{"v":0,"d":"0.0"}},null,null,{"$f":"SUM((J264+M264+P264)/3)","v":{"v":0,"d":"0.0"}},{"$nulls":8},{"$f":"SUM(((S264*3)+V264+Y264)/5)","v":{"v":0,"d":"0.0"}}]
[]
[{"$f":"T(A262)","v":"Natural Disaster"},{"$nulls":3},"Threat",null,"Criticality",null,null,"Vulnerability",{"$nulls":8},"Consequence",{"$nulls":8},{"$f":"SUM(((((J272+S272)/2)*G272)*E272))","v":0}]
[{"$nulls":9},"Exposure",null,null,"Protective Measures",null,null,"Robustness/Resilience",null,null,"Human",null,null,"Economic",null,null,"Psychological"]
[{"$f":"T(A221)","v":"Bus - Type 1"},null,{"$f":"T(C221)","v":"BUS"},{"$f":"SUM(D221)","v":3},{"v":1,"d":"1.0"},null,{"$f":"SUM(G221)","v":{"v":0,"d":"0.0"}},null,null,{"v":0,"d":"0.0"},null,null,{"v":0,"d":"0.0"},null,null,{"v":0,"d":"0.0"},null,null,{"v":0,"d":"0.0"},null,null,{"v":0,"d":"0.0"},null,null,{"v":0,"d":"0.0"}]
[{"$f":"T(A222)","v":""}]
[{"$nulls":4},{"$f":"SUM(E270)","v":{"v":1,"d":"1.0"}},null,{"$f":"SUM(G270)","v":{"v":0,"d":"0.0"}},null,null,{"$f":"SUM((J270+M270+P270)/3)","v":{"v":0,"d":"0.0"}},{"$nulls":8},{"$f":"SUM(((S270*3)+V270+Y270)/5)","v":{"v":0,"d":"0.0"}}]
[]
[{"$f":"T(A268)","v":"Natural Disaster"},{"$nulls":3},"Threat",null,"Criticality",null,null,"Vulnerability",{"$nulls":8},"Consequence",{"$nulls":8},{"$f":"SUM(((((J278+S278)/2)*G278)*E278))","v":0}]
[{"$nulls":9},"Exposure",null,null,"Protective Measures",null,null,"Robustness/Resilience",null,null,"Human",null,null,"Economic",null,null,"Psychological"]
[{"$f":"T(A227)","v":"Bus - Type 2"},null,{"$f":"T(C227)","v":"BUS"},{"$f":"SUM(D227)","v":4},{"v":1,"d":"1.0"},null,{"$f":"SUM(G227)","v":{"v":0,"d":"0.0"}},null,null,{"v":0,"d":"0.0"},null,null,{"v":0,"d":"0.0"},null,null,{"v":0,"d":"0.0"},null,null,{"v":0,"d":"0.0"},null,null,{"v":0,"d":"0.0"},null,null,{"v":0,"d":"0.0"}]
[{"$f":"T(A228)","v":""}]
[{"$nulls":4},{"$f":"SUM(E276)","v":{"v":1,"d":"1.0"}},null,{"$f":"SUM(G276)","v":{"v":0,"d":"0.0"}},null,null,{"$f":"SUM((J276+M276+P276)/3)","v":{"v":0,"d":"0.0"}},{"$nulls":8},{"$f":"SUM(((S276*3)+V276+Y276)/5)","v":{"v":0,"d":"0.0"}}]
[]
[{"$f":"T(A274)","v":"Natural Disaster"},{"$nulls":3},"Threat",null,"Criticality",null,null,"Vulnerability",{"$nulls":8},"Consequence",{"$nulls":8},{"$f":"SUM(((((J284+S284)/2)*G284)*E284))","v":0}]
[{"$nulls":9},"Exposure",null,null,"Protective Measures",null,null,"Robustness/Resilience",null,null,"Human",null,null,"Economic",null,null,"Psychological"]
[{"$f":"T(A233)","v":"Dispatch/Control Center"},null,{"$f":"T(C233)","v":"BUS"},{"$f":"SUM(D233)","v":5},{"v":1,"d":"1.0"},null,{"$f":"SUM(G233)","v":{"v":0,"d":"0.0"}},null,null,{"v":0,"d":"0.0"},null,null,{"v":0,"d":"0.0"},null,null,{"v":0,"d":"0.0"},null,null,{"v":0,"d":"0.0"},null,null,{"v":0,"d":"0.0"},null,null,{"v":0,"d":"0.0"}]
[{"$f":"T(A234)","v":""}]
[{"$nulls":4},{"$f":"SUM(E282)","v":{"v":1,"d":"1.0"}},null,{"$f":"SUM(G282)","v":{"v":0,"d":"0.0"}},null,null,{"$f":"SUM((J282+M282+P282)/3)","v":{"v":0,"d":"0.0"}},{"$nulls":8},{"$f":"SUM(((S282*3)+V282+Y282)/5)","v":{"v":0,"d":"0.0"}}]
[]
[{"$f":"T(A280)","v":"Natural Disaster"},{"$nulls":3},"Threat",null,"Criticality",null,null,"Vulnerability",{"$nulls":8},"Consequence",{"$nulls":8},{"$f":"SUM(((((J290+S290)/2)*G290)*E290))","v":0}]
[{"$nulls":9},"Exposure",null,null,"Protective Measures",null,null,"Robustness/Resilience",null,null,"Human",null,null,"Economic",null,null,"Psychological"]
[{"$f":"T(A239)","v":"Cyber Systems"},null,{"$f":"T(C239)","v":"BUS"},{"$f":"SUM(D239)","v":6},{"v":1,"d":"1.0"},null,{"$f":"SUM(G239)","v":{"v":0,"d":"0.0"}},null,null,{"v":0,"d":"0.0"},null,null,{"v":0,"d":"0.0"},null,null,{"v":0,"d":"0.0"},null,null,{"v":0,"d":"0.0"},null,null,{"v":0,"d":"0.0"},null,null,{"v":0,"d":"0.0"}]
[{"$f":"T(A240)","v":""}]
[{"$nulls":4},{"$f":"SUM(E288)","v":{"v":1,"d":"1.0"}},null,{"$f":"SUM(G288)","v":{"v":0,"d":"0.0"}},null,null,{"$f":"SUM((J288+M288+P288)/3)","v":{"v":0,"d":"0.0"}},{"$nulls":8},{"$f":"SUM(((S288*3)+V288+Y288)/5)","v":{"v":0,"d":"0.0"}}]
[]
[{"$f":"T(A286)","v":"Natural Disaster"},{"$nulls":3},"Threat",null,"Criticality",null,null,"Vulnerability",{"$nulls":8},"Consequence",{"$nulls":8},{"$f":"SUM(((((J296+S296)/2)*G296)*E296))","v":0}]
[{"$nulls":9},"Exposure",null,null,"Protective Measures",null,null,"Robustness/Resilience",null,null,"Human",null,null,"Economic",null,null,"Psychological"]
[{"$f":"T(A245)","v":"Fueling Facilities/Depots"},null,{"$f":"T(C245)","v":"BUS"},{"$f":"SUM(D245)","v":7},{"v":1,"d":"1.0"},null,{"$f":"SUM(G245)","v":{"v":0,"d":"0.0"}},null,null,{"v":0,"d":"0.0"},null,null,{"v":0,"d":"0.0"},null,null,{"v":0,"d":"0.0"},null,null,{"v":0,"d":"0.0"},null,null,{"v":0,"d":"0.0"},null,null,{"v":0,"d":"0.0"}]
[{"$f":"T(A246)","v":""}]
[{"$nulls":4},{"$f":"SUM(E294)","v":{"v":1,"d":"1.0"}},null,{"$f":"SUM(G294)","v":{"v":0,"d":"0.0"}},null,null,{"$f":"SUM((J294+M294+P294)/3)","v":{"v":0,"d":"0.0"}},{"$nulls":8},{"$f":"SUM(((S294*3)+V294+Y294)/5)","v":{"v":0,"d":"0.0"}}]
[]
[{"$f":"T(A292)","v":"Natural Disaster"},{"$nulls":3},"Threat",null,"Criticality",null,null,"Vulnerability",{"$nulls":8},"Consequence",{"$nulls":8},{"$f":"SUM(((((J302+S302)/2)*G302)*E302))","v":0}]
[{"$nulls":9},"Exposure",null,null,"Protective Measures",null,null,"Robustness/Resilience",null,null,"Human",null,null,"Economic",null,null,"Psychological"]
[{"$f":"T(A251)","v":"Maintenance Barns/Facilities"},null,{"$f":"T(C251)","v":"BUS"},{"$f":"SUM(D251)","v":8},{"v":1,"d":"1.0"},null,{"$f":"SUM(G251)","v":{"v":0,"d":"0.0"}},null,null,{"v":0,"d":"0.0"},null,null,{"v":0,"d":"0.0"},null,null,{"v":0,"d":"0.0"},null,null,{"v":0,"d":"0.0"},null,null,{"v":0,"d":"0.0"},null,null,{"v":0,"d":"0.0"}]
[{"$f":"T(A252)","v":""}]
[{"$nulls":4},{"$f":"SUM(E300)","v":{"v":1,"d":"1.0"}},null,{"$f":"SUM(G300)","v":{"v":0,"d":"0.0"}},null,null,{"$f":"SUM((J300+M300+P300)/3)","v":{"v":0,"d":"0.0"}},{"$nulls":8},{"$f":"SUM(((S300*3)+V300+Y300)/5)","v":{"v":0,"d":"0.0"}}]
[]
[{"$f":"T(Definitions!D25)","v":"Industrial Disaster "}]
[{"$f":"T(A304)","v":"Industrial Disaster "},{"$nulls":3},"Threat",null,"Criticality",null,null,"Vulnerability",{"$nulls":8},"Consequence",{"$nulls":8},{"$f":"SUM(((((J309+S309)/2)*G309)*E309))","v":0}]
[{"$nulls":9},"Exposure",null,null,"Protective Measures",null,null,"Robustness/Resilience",null,null,"Human",null,null,"Economic",null,null,"Psychological"]
[{"$f":"T(A13)","v":"Headquarters Building"},null,{"$f":"T(C13)","v":"BUS"},{"$f":"SUM(D13)","v":1},{"v":1,"d":"1.0"},null,{"$f":"SUM(G13)","v":{"v":0,"d":"0.0"}},null,null,{"v":0,"d":"0.0"},null,null,{"v":0,"d":"0.0"},null,null,{"v":0,"d":"0.0"},null,null,{"v":0,"d":"0.0"},null,null,{"v":0,"d":"0.0"},null,null,{"v":0,"d":"0.0"}]
[{"$f":"T(A14)","v":""}]
[{"$nulls":4},{"$f":"SUM(E307)","v":{"v":1,"d":"1.0"}},null,{"$f":"SUM(G307)","v":{"v":0,"d":"0.0"}},null,null,{"$f":"SUM((J307+M307+P307)/3)","v":{"v":0,"d":"0.0"}},{"$nulls":8},{"$f":"SUM(((S307*3)+V307+Y307)/5)","v":{"v":0,"d":"0.0"}}]
[]
[{"$f":"T(A304)","v":"Industrial Disaster "},{"$nulls":3},"Threat",null,"Criticality",null,null,"Vulnerability",{"$nulls":8},"Consequence",{"$nulls":8},{"$f":"SUM(((((J315+S315)/2)*G315)*E315))","v":0}]
[{"$nulls":9},"Exposure",null,null,"Protective Measures",null,null,"Robustness/Resilience",null,null,"Human",null,null,"Economic",null,null,"Psychological"]
[{"$f":"T(A19)","v":"System Owned Bus Station"},null,{"$f":"T(C19)","v":"BUS"},{"$f":"SUM(D19)","v":2},{"v":1,"d":"1.0"},null,{"$f":"SUM(G19)","v":{"v":0,"d":"0.0"}},null,null,{"v":0,"d":"0.0"},null,null,{"v":0,"d":"0.0"},null,null,{"v":0,"d":"0.0"},null,null,{"v":0,"d":"0.0"},null,null,{"v":0,"d":"0.0"},null,null,{"v":0,"d":"0.0"}]
[{"$f":"T(A20)","v":""}]
[{"$nulls":4},{"$f":"SUM(E313)","v":{"v":1,"d":"1.0"}},null,{"$f":"SUM(G313)","v":{"v":0,"d":"0.0"}},null,null,{"$f":"SUM((J313+M313+P313)/3)","v":{"v":0,"d":"0.0"}},{"$nulls":8},{"$f":"SUM(((S313*3)+V313+Y313)/5)","v":{"v":0,"d":"0.0"}}]
[]
[{"$f":"T(A311)","v":"Industrial Disaster "},{"$nulls":3},"Threat",null,"Criticality",null,null,"Vulnerability",{"$nulls":8},"Consequence",{"$nulls":8},{"$f":"SUM(((((J321+S321)/2)*G321)*E321))","v":0}]
[{"$nulls":9},"Exposure",null,null,"Protective Measures",null,null,"Robustness/Resilience",null,null,"Human",null,null,"Economic",null,null,"Psychological"]
[{"$f":"T(A25)","v":"Bus - Type 1"},null,{"$f":"T(C25)","v":"BUS"},{"$f":"SUM(D25)","v":3},{"v":1,"d":"1.0"},null,{"$f":"SUM(G25)","v":{"v":0,"d":"0.0"}},null,null,{"v":0,"d":"0.0"},null,null,{"v":0,"d":"0.0"},null,null,{"v":0,"d":"0.0"},null,null,{"v":0,"d":"0.0"},null,null,{"v":0,"d":"0.0"},null,null,{"v":0,"d":"0.0"}]
[{"$f":"T(A26)","v":""}]
[{"$nulls":4},{"$f":"SUM(E319)","v":{"v":1,"d":"1.0"}},null,{"$f":"SUM(G319)","v":{"v":0,"d":"0.0"}},null,null,{"$f":"SUM((J319+M319+P319)/3)","v":{"v":0,"d":"0.0"}},{"$nulls":8},{"$f":"SUM(((S319*3)+V319+Y319)/5)","v":{"v":0,"d":"0.0"}}]
[]
[{"$f":"T(A317)","v":"Industrial Disaster "},{"$nulls":3},"Threat",null,"Criticality",null,null,"Vulnerability",{"$nulls":8},"Consequence",{"$nulls":8},{"$f":"SUM(((((J327+S327)/2)*G327)*E327))","v":0}]
[{"$nulls":9},"Exposure",null,null,"Protective Measures",null,null,"Robustness/Resilience",null,null,"Human",null,null,"Economic",null,null,"Psychological"]
[{"$f":"T(A31)","v":"Bus - Type 2"},null,{"$f":"T(C31)","v":"BUS"},{"$f":"SUM(D31)","v":4},{"v":1,"d":"1.0"},null,{"$f":"SUM(G31)","v":{"v":0,"d":"0.0"}},null,null,{"v":0,"d":"0.0"},null,null,{"v":0,"d":"0.0"},null,null,{"v":0,"d":"0.0"},null,null,{"v":0,"d":"0.0"},null,null,{"v":0,"d":"0.0"},null,null,{"v":0,"d":"0.0"}]
[{"$f":"T(A32)","v":""}]
[{"$nulls":4},{"$f":"SUM(E325)","v":{"v":1,"d":"1.0"}},null,{"$f":"SUM(G325)","v":{"v":0,"d":"0.0"}},null,null,{"$f":"SUM((J325+M325+P325)/3)","v":{"v":0,"d":"0.0"}},{"$nulls":8},{"$f":"SUM(((S325*3)+V325+Y325)/5)","v":{"v":0,"d":"0.0"}}]
[]
[{"$f":"T(A323)","v":"Industrial Disaster "},{"$nulls":3},"Threat",null,"Criticality",null,null,"Vulnerability",{"$nulls":8},"Consequence",{"$nulls":8},{"$f":"SUM(((((J333+S333)/2)*G333)*E333))","v":0}]
[{"$nulls":9},"Exposure",null,null,"Protective Measures",null,null,"Robustness/Resilience",null,null,"Human",null,null,"Economic",null,null,"Psychological"]
[{"$f":"T(A37)","v":"Dispatch/Control Center"},null,{"$f":"T(C37)","v":"BUS"},{"$f":"SUM(D37)","v":5},{"v":1,"d":"1.0"},null,{"$f":"SUM(G37)","v":{"v":0,"d":"0.0"}},null,null,{"v":0,"d":"0.0"},null,null,{"v":0,"d":"0.0"},null,null,{"v":0,"d":"0.0"},null,null,{"v":0,"d":"0.0"},null,null,{"v":0,"d":"0.0"},null,null,{"v":0,"d":"0.0"}]
[{"$f":"T(A38)","v":""}]
[{"$nulls":4},{"$f":"SUM(E331)","v":{"v":1,"d":"1.0"}},null,{"$f":"SUM(G331)","v":{"v":0,"d":"0.0"}},null,null,{"$f":"SUM((J331+M331+P331)/3)","v":{"v":0,"d":"0.0"}},{"$nulls":8},{"$f":"SUM(((S331*3)+V331+Y331)/5)","v":{"v":0,"d":"0.0"}}]
[]
[{"$f":"T(A329)","v":"Industrial Disaster "},{"$nulls":3},"Threat",null,"Criticality",null,null,"Vulnerability",{"$nulls":8},"Consequence",{"$nulls":8},{"$f":"SUM(((((J339+S339)/2)*G339)*E339))","v":0}]
[{"$nulls":9},"Exposure",null,null,"Protective Measures",null,null,"Robustness/Resilience",null,null,"Human",null,null,"Economic",null,null,"Psychological"]
[{"$f":"T(A43)","v":"Cyber Systems"},null,{"$f":"T(C43)","v":"BUS"},{"$f":"SUM(D43)","v":6},{"v":1,"d":"1.0"},null,{"$f":"SUM(G43)","v":{"v":0,"d":"0.0"}},null,null,{"v":0,"d":"0.0"},null,null,{"v":0,"d":"0.0"},null,null,{"v":0,"d":"0.0"},null,null,{"v":0,"d":"0.0"},null,null,{"v":0,"d":"0.0"},null,null,{"v":0,"d":"0.0"}]
[{"$f":"T(A44)","v":""}]
[{"$nulls":4},{"$f":"SUM(E337)","v":{"v":1,"d":"1.0"}},null,{"$f":"SUM(G337)","v":{"v":0,"d":"0.0"}},null,null,{"$f":"SUM((J337+M337+P337)/3)","v":{"v":0,"d":"0.0"}},{"$nulls":8},{"$f":"SUM(((S337*3)+V337+Y337)/5)","v":{"v":0,"d":"0.0"}}]
[]
[{"$f":"T(A335)","v":"Industrial Disaster "},{"$nulls":3},"Threat",null,"Criticality",null,null,"Vulnerability",{"$nulls":8},"Consequence",{"$nulls":8},{"$f":"SUM(((((J345+S345)/2)*G345)*E345))","v":0}]
[{"$nulls":9},"Exposure",null,null,"Protective Measures",null,null,"Robustness/Resilience",null,null,"Human",null,null,"Economic",null,null,"Psychological"]
[{"$f":"T(A49)","v":"Fueling Facilities/Depots"},null,{"$f":"T(C49)","v":"BUS"},{"$f":"SUM(D49)","v":7},{"v":1,"d":"1.0"},null,{"$f":"SUM(G49)","v":{"v":0,"d":"0.0"}},null,null,{"v":0,"d":"0.0"},null,null,{"v":0,"d":"0.0"},null,null,{"v":0,"d":"0.0"},null,null,{"v":0,"d":"0.0"},null,null,{"v":0,"d":"0.0"},null,null,{"v":0,"d":"0.0"}]
[{"$f":"T(A50)","v":""}]
[{"$nulls":4},{"$f":"SUM(E343)","v":{"v":1,"d":"1.0"}},null,{"$f":"SUM(G343)","v":{"v":0,"d":"0.0"}},null,null,{"$f":"SUM((J343+M343+P343)/3)","v":{"v":0,"d":"0.0"}},{"$nulls":8},{"$f":"SUM(((S343*3)+V343+Y343)/5)","v":{"v":0,"d":"0.0"}}]
[]
[{"$f":"T(A341)","v":"Industrial Disaster "},{"$nulls":3},"Threat",null,"Criticality",null,null,"Vulnerability",{"$nulls":8},"Consequence",{"$nulls":8},{"$f":"SUM(((((J351+S351)/2)*G351)*E351))","v":0}]
[{"$nulls":9},"Exposure",null,null,"Protective Measures",null,null,"Robustness/Resilience",null,null,"Human",null,null,"Economic",null,null,"Psychological"]
[{"$f":"T(A55)","v":"Maintenance Barns/Facilities"},null,{"$f":"T(C55)","v":"BUS"},{"$f":"SUM(D55)","v":8},{"v":1,"d":"1.0"},null,{"$f":"SUM(G55)","v":{"v":0,"d":"0.0"}},null,null,{"v":0,"d":"0.0"},null,null,{"v":0,"d":"0.0"},null,null,{"v":0,"d":"0.0"},null,null,{"v":0,"d":"0.0"},null,null,{"v":0,"d":"0.0"},null,null,{"v":0,"d":"0.0"}]
[{"$f":"T(A56)","v":""}]
[{"$nulls":4},{"$f":"SUM(E349)","v":{"v":1,"d":"1.0"}},null,{"$f":"SUM(G349)","v":{"v":0,"d":"0.0"}},null,null,{"$f":"SUM((J349+M349+P349)/3)","v":{"v":0,"d":"0.0"}},{"$nulls":8},{"$f":"SUM(((S349*3)+V349+Y349)/5)","v":{"v":0,"d":"0.0"}}]
[]
[{"$f":"T(Definitions!D26)","v":"Derailment/Collision"}]
[{"$f":"T(A353)","v":"Derailment/Collision"},{"$nulls":3},"Threat",null,"Criticality",null,null,"Vulnerability",{"$nulls":8},"Consequence",{"$nulls":8},{"$f":"SUM(((((J358+S358)/2)*G358)*E358))","v":0}]
[{"$nulls":9},"Exposure",null,null,"Protective Measures",null,null,"Robustness/Resilience",null,null,"Human",null,null,"Economic",null,null,"Psychological"]
[{"$f":"T(A258)","v":"Headquarters Building"},null,{"$f":"T(C258)","v":"BUS"},{"$f":"SUM(D258)","v":1},{"v":1,"d":"1.0"},null,{"$f":"SUM(G258)","v":{"v":0,"d":"0.0"}},null,null,{"v":0,"d":"0.0"},null,null,{"v":0,"d":"0.0"},null,null,{"v":0,"d":"0.0"},null,null,{"v":0,"d":"0.0"},null,null,{"v":0,"d":"0.0"},null,null,{"v":0,"d":"0.0"}]
[{"$f":"T(A259)","v":""}]
[{"$nulls":4},{"$f":"SUM(E356)","v":{"v":1,"d":"1.0"}},null,{"$f":"SUM(G356)","v":{"v":0,"d":"0.0"}},null,null,{"$f":"SUM((J356+M356+P356)/3)","v":{"v":0,"d":"0.0"}},{"$nulls":8},{"$f":"SUM(((S356*3)+V356+Y356)/5)","v":{"v":0,"d":"0.0"}}]
[]
[{"$f":"T(A353)","v":"Derailment/Collision"},{"$nulls":3},"Threat",null,"Criticality",null,null,"Vulnerability",{"$nulls":8},"Consequence",{"$nulls":8},{"$f":"SUM(((((J364+S364)/2)*G364)*E364))","v":0}]
[{"$nulls":9},"Exposure",null,null,"Protective Measures",null,null,"Robustness/Resilience",null,null,"Human",null,null,"Economic",null,null,"Psychological"]
[{"$f":"T(A264)","v":"System Owned Bus Station"},null,{"$f":"T(C264)","v":"BUS"},{"$f":"SUM(D264)","v":2},{"v":1,"d":"1.0"},null,{"$f":"SUM(G264)","v":{"v":0,"d":"0.0"}},null,null,{"v":0,"d":"0.0"},null,null,{"v":0,"d":"0.0"},null,null,{"v":0,"d":"0.0"},null,null,{"v":0,"d":"0.0"},null,null,{"v":0,"d":"0.0"},null,null,{"v":0,"d":"0.0"}]
[{"$f":"T(A265)","v":""}]
[{"$nulls":4},{"$f":"SUM(E362)","v":{"v":1,"d":"1.0"}},null,{"$f":"SUM(G362)","v":{"v":0,"d":"0.0"}},null,null,{"$f":"SUM((J362+M362+P362)/3)","v":{"v":0,"d":"0.0"}},{"$nulls":8},{"$f":"SUM(((S362*3)+V362+Y362)/5)","v":{"v":0,"d":"0.0"}}]
[]
[{"$f":"T(A360)","v":"Derailment/Collision"},{"$nulls":3},"Threat",null,"Criticality",null,null,"Vulnerability",{"$nulls":8},"Consequence",{"$nulls":8},{"$f":"SUM(((((J370+S370)/2)*G370)*E370))","v":0}]
[{"$nulls":9},"Exposure",null,null,"Protective Measures",null,null,"Robustness/Resilience",null,null,"Human",null,null,"Economic",null,null,"Psychological"]
[{"$f":"T(A270)","v":"Bus - Type 1"},null,{"$f":"T(C270)","v":"BUS"},{"$f":"SUM(D270)","v":3},{"v":1,"d":"1.0"},null,{"$f":"SUM(G270)","v":{"v":0,"d":"0.0"}},null,null,{"v":0,"d":"0.0"},null,null,{"v":0,"d":"0.0"},null,null,{"v":0,"d":"0.0"},null,null,{"v":0,"d":"0.0"},null,null,{"v":0,"d":"0.0"},null,null,{"v":0,"d":"0.0"}]
[{"$f":"T(A271)","v":""}]
[{"$nulls":4},{"$f":"SUM(E368)","v":{"v":1,"d":"1.0"}},null,{"$f":"SUM(G368)","v":{"v":0,"d":"0.0"}},null,null,{"$f":"SUM((J368+M368+P368)/3)","v":{"v":0,"d":"0.0"}},{"$nulls":8},{"$f":"SUM(((S368*3)+V368+Y368)/5)","v":{"v":0,"d":"0.0"}}]
[]
[{"$f":"T(A366)","v":"Derailment/Collision"},{"$nulls":3},"Threat",null,"Criticality",null,null,"Vulnerability",{"$nulls":8},"Consequence",{"$nulls":8},{"$f":"SUM(((((J376+S376)/2)*G376)*E376))","v":0}]
[{"$nulls":9},"Exposure",null,null,"Protective Measures",null,null,"Robustness/Resilience",null,null,"Human",null,null,"Economic",null,null,"Psychological"]
[{"$f":"T(A276)","v":"Bus - Type 2"},null,{"$f":"T(C276)","v":"BUS"},{"$f":"SUM(D276)","v":4},{"v":1,"d":"1.0"},null,{"$f":"SUM(G276)","v":{"v":0,"d":"0.0"}},null,null,{"v":0,"d":"0.0"},null,null,{"v":0,"d":"0.0"},null,null,{"v":0,"d":"0.0"},null,null,{"v":0,"d":"0.0"},null,null,{"v":0,"d":"0.0"},null,null,{"v":0,"d":"0.0"}]
[{"$f":"T(A277)","v":""}]
[{"$nulls":4},{"$f":"SUM(E374)","v":{"v":1,"d":"1.0"}},null,{"$f":"SUM(G374)","v":{"v":0,"d":"0.0"}},null,null,{"$f":"SUM((J374+M374+P374)/3)","v":{"v":0,"d":"0.0"}},{"$nulls":8},{"$f":"SUM(((S374*3)+V374+Y374)/5)","v":{"v":0,"d":"0.0"}}]
[]
[{"$f":"T(A372)","v":"Derailment/Collision"},{"$nulls":3},"Threat",null,"Criticality",null,null,"Vulnerability",{"$nulls":8},"Consequence",{"$nulls":8},{"$f":"SUM(((((J382+S382)/2)*G382)*E382))","v":0}]
[{"$nulls":9},"Exposure",null,null,"Protective Measures",null,null,"Robustness/Resilience",null,null,"Human",null,null,"Economic",null,null,"Psychological"]
[{"$f":"T(A282)","v":"Dispatch/Control Center"},null,{"$f":"T(C282)","v":"BUS"},{"$f":"SUM(D282)","v":5},{"v":1,"d":"1.0"},null,{"$f":"SUM(G282)","v":{"v":0,"d":"0.0"}},null,null,{"v":0,"d":"0.0"},null,null,{"v":0,"d":"0.0"},null,null,{"v":0,"d":"0.0"},null,null,{"v":0,"d":"0.0"},null,null,{"v":0,"d":"0.0"},null,null,{"v":0,"d":"0.0"}]
[{"$f":"T(A283)","v":""}]
[{"$nulls":4},{"$f":"SUM(E380)","v":{"v":1,"d":"1.0"}},null,{"$f":"SUM(G380)","v":{"v":0,"d":"0.0"}},null,null,{"$f":"SUM((J380+M380+P380)/3)","v":{"v":0,"d":"0.0"}},{"$nulls":8},{"$f":"SUM(((S380*3)+V380+Y380)/5)","v":{"v":0,"d":"0.0"}}]
[]
[{"$f":"T(A378)","v":"Derailment/Collision"},{"$nulls":3},"Threat",null,"Criticality",null,null,"Vulnerability",{"$nulls":8},"Consequence",{"$nulls":8},{"$f":"SUM(((((J388+S388)/2)*G388)*E388))","v":0}]
[{"$nulls":9},"Exposure",null,null,"Protective Measures",null,null,"Robustness/Resilience",null,null,"Human",null,null,"Economic",null,null,"Psychological"]
[{"$f":"T(A288)","v":"Cyber Systems"},null,{"$f":"T(C288)","v":"BUS"},{"$f":"SUM(D288)","v":6},{"v":1,"d":"1.0"},null,{"$f":"SUM(G288)","v":{"v":0,"d":"0.0"}},null,null,{"v":0,"d":"0.0"},null,null,{"v":0,"d":"0.0"},null,null,{"v":0,"d":"0.0"},null,null,{"v":0,"d":"0.0"},null,null,{"v":0,"d":"0.0"},null,null,{"v":0,"d":"0.0"}]
[{"$f":"T(A289)","v":""}]
[{"$nulls":4},{"$f":"SUM(E386)","v":{"v":1,"d":"1.0"}},null,{"$f":"SUM(G386)","v":{"v":0,"d":"0.0"}},null,null,{"$f":"SUM((J386+M386+P386)/3)","v":{"v":0,"d":"0.0"}},{"$nulls":8},{"$f":"SUM(((S386*3)+V386+Y386)/5)","v":{"v":0,"d":"0.0"}}]
[]
[{"$f":"T(A384)","v":"Derailment/Collision"},{"$nulls":3},"Threat",null,"Criticality",null,null,"Vulnerability",{"$nulls":8},"Consequence",{"$nulls":8},{"$f":"SUM(((((J394+S394)/2)*G394)*E394))","v":0}]
[{"$nulls":9},"Exposure",null,null,"Protective Measures",null,null,"Robustness/Resilience",null,null,"Human",null,null,"Economic",null,null,"Psychological"]
[{"$f":"T(A294)","v":"Fueling Facilities/Depots"},null,{"$f":"T(C294)","v":"BUS"},{"$f":"SUM(D294)","v":7},{"v":1,"d":"1.0"},null,{"$f":"SUM(G294)","v":{"v":0,"d":"0.0"}},null,null,{"v":0,"d":"0.0"},null,null,{"v":0,"d":"0.0"},null,null,{"v":0,"d":"0.0"},null,null,{"v":0,"d":"0.0"},null,null,{"v":0,"d":"0.0"},null,null,{"v":0,"d":"0.0"}]
[{"$f":"T(A295)","v":""}]
[{"$nulls":4},{"$f":"SUM(E392)","v":{"v":1,"d":"1.0"}},null,{"$f":"SUM(G392)","v":{"v":0,"d":"0.0"}},null,null,{"$f":"SUM((J392+M392+P392)/3)","v":{"v":0,"d":"0.0"}},{"$nulls":8},{"$f":"SUM(((S392*3)+V392+Y392)/5)","v":{"v":0,"d":"0.0"}}]
[]
[{"$f":"T(A390)","v":"Derailment/Collision"},{"$nulls":3},"Threat",null,"Criticality",null,null,"Vulnerability",{"$nulls":8},"Consequence",{"$nulls":8},{"$f":"SUM(((((J400+S400)/2)*G400)*E400))","v":0}]
[{"$nulls":9},"Exposure",null,null,"Protective Measures",null,null,"Robustness/Resilience",null,null,"Human",null,null,"Economic",null,null,"Psychological"]
[{"$f":"T(A300)","v":"Maintenance Barns/Facilities"},null,{"$f":"T(C300)","v":"BUS"},{"$f":"SUM(D300)","v":8},{"v":1,"d":"1.0"},null,{"$f":"SUM(G300)","v":{"v":0,"d":"0.0"}},null,null,{"v":0,"d":"0.0"},null,null,{"v":0,"d":"0.0"},null,null,{"v":0,"d":"0.0"},null,null,{"v":0,"d":"0.0"},null,null,{"v":0,"d":"0.0"},null,null,{"v":0,"d":"0.0"}]
[{"$f":"T(A301)","v":""}]
[{"$nulls":4},{"$f":"SUM(E398)","v":{"v":1,"d":"1.0"}},null,{"$f":"SUM(G398)","v":{"v":0,"d":"0.0"}},null,null,{"$f":"SUM((J398+M398+P398)/3)","v":{"v":0,"d":"0.0"}},{"$nulls":8},{"$f":"SUM(((S398*3)+V398+Y398)/5)","v":{"v":0,"d":"0.0"}}]
[]
[{"$f":"T(Definitions!D27)","v":"Widespread Power Outage"}]
[{"$f":"T(A402)","v":"Widespread Power Outage"},{"$nulls":3},"Threat",null,"Criticality",null,null,"Vulnerability",{"$nulls":8},"Consequence",{"$nulls":8},{"$f":"SUM(((((J407+S407)/2)*G407)*E407))","v":0}]
[{"$nulls":9},"Exposure",null,null,"Protective Measures",null,null,"Robustness/Resilience",null,null,"Human",null,null,"Economic",null,null,"Psychological"]
[{"$f":"T(A356)","v":"Headquarters Building"},null,{"$f":"T(C356)","v":"BUS"},{"$f":"SUM(D356)","v":1},{"v":1,"d":"1.0"},null,{"$f":"SUM(G356)","v":{"v":0,"d":"0.0"}},null,null,{"v":0,"d":"0.0"},null,null,{"v":0,"d":"0.0"},null,null,{"v":0,"d":"0.0"},null,null,{"v":0,"d":"0.0"},null,null,{"v":0,"d":"0.0"},null,null,{"v":0,"d":"0.0"}]
[{"$f":"T(A357)","v":""}]
[{"$nulls":4},{"$f":"SUM(E405)","v":{"v":1,"d":"1.0"}},null,{"$f":"SUM(G405)","v":{"v":0,"d":"0.0"}},null,null,{"$f":"SUM((J405+M405+P405)/3)","v":{"v":0,"d":"0.0"}},{"$nulls":8},{"$f":"SUM(((S405*3)+V405+Y405)/5)","v":{"v":0,"d":"0.0"}}]
[]
[{"$f":"T(A402)","v":"Widespread Power Outage"},{"$nulls":3},"Threat",null,"Criticality",null,null,"Vulnerability",{"$nulls":8},"Consequence",{"$nulls":8},{"$f":"SUM(((((J413+S413)/2)*G413)*E413))","v":0}]
[{"$nulls":9},"Exposure",null,null,"Protective Measures",null,null,"Robustness/Resilience",null,null,"Human",null,null,"Economic",null,null,"Psychological"]
[{"$f":"T(A362)","v":"System Owned Bus Station"},null,{"$f":"T(C362)","v":"BUS"},{"$f":"SUM(D362)","v":2},{"v":1,"d":"1.0"},null,{"$f":"SUM(G362)","v":{"v":0,"d":"0.0"}},null,null,{"v":0,"d":"0.0"},null,null,{"v":0,"d":"0.0"},null,null,{"v":0,"d":"0.0"},null,null,{"v":0,"d":"0.0"},null,null,{"v":0,"d":"0.0"},null,null,{"v":0,"d":"0.0"}]
[{"$f":"T(A363)","v":""}]
[{"$nulls":4},{"$f":"SUM(E411)","v":{"v":1,"d":"1.0"}},null,{"$f":"SUM(G411)","v":{"v":0,"d":"0.0"}},null,null,{"$f":"SUM((J411+M411+P411)/3)","v":{"v":0,"d":"0.0"}},{"$nulls":8},{"$f":"SUM(((S411*3)+V411+Y411)/5)","v":{"v":0,"d":"0.0"}}]
[]
[{"$f":"T(A409)","v":"Widespread Power Outage"},{"$nulls":3},"Threat",null,"Criticality",null,null,"Vulnerability",{"$nulls":8},"Consequence",{"$nulls":8},{"$f":"SUM(((((J419+S419)/2)*G419)*E419))","v":0}]
[{"$nulls":9},"Exposure",null,null,"Protective Measures",null,null,"Robustness/Resilience",null,null,"Human",null,null,"Economic",null,null,"Psychological"]
[{"$f":"T(A368)","v":"Bus - Type 1"},null,{"$f":"T(C368)","v":"BUS"},{"$f":"SUM(D368)","v":3},{"v":1,"d":"1.0"},null,{"$f":"SUM(G368)","v":{"v":0,"d":"0.0"}},null,null,{"v":0,"d":"0.0"},null,null,{"v":0,"d":"0.0"},null,null,{"v":0,"d":"0.0"},null,null,{"v":0,"d":"0.0"},null,null,{"v":0,"d":"0.0"},null,null,{"v":0,"d":"0.0"}]
[{"$f":"T(A369)","v":""}]
[{"$nulls":4},{"$f":"SUM(E417)","v":{"v":1,"d":"1.0"}},null,{"$f":"SUM(G417)","v":{"v":0,"d":"0.0"}},null,null,{"$f":"SUM((J417+M417+P417)/3)","v":{"v":0,"d":"0.0"}},{"$nulls":8},{"$f":"SUM(((S417*3)+V417+Y417)/5)","v":{"v":0,"d":"0.0"}}]
[]
[{"$f":"T(A415)","v":"Widespread Power Outage"},{"$nulls":3},"Threat",null,"Criticality",null,null,"Vulnerability",{"$nulls":8},"Consequence",{"$nulls":8},{"$f":"SUM(((((J425+S425)/2)*G425)*E425))","v":0}]
[{"$nulls":9},"Exposure",null,null,"Protective Measures",null,null,"Robustness/Resilience",null,null,"Human",null,null,"Economic",null,null,"Psychological"]
[{"$f":"T(A374)","v":"Bus - Type 2"},null,{"$f":"T(C374)","v":"BUS"},{"$f":"SUM(D374)","v":4},{"v":1,"d":"1.0"},null,{"$f":"SUM(G374)","v":{"v":0,"d":"0.0"}},null,null,{"v":0,"d":"0.0"},null,null,{"v":0,"d":"0.0"},null,null,{"v":0,"d":"0.0"},null,null,{"v":0,"d":"0.0"},null,null,{"v":0,"d":"0.0"},null,null,{"v":0,"d":"0.0"}]
[{"$f":"T(A375)","v":""}]
[{"$nulls":4},{"$f":"SUM(E423)","v":{"v":1,"d":"1.0"}},null,{"$f":"SUM(G423)","v":{"v":0,"d":"0.0"}},null,null,{"$f":"SUM((J423+M423+P423)/3)","v":{"v":0,"d":"0.0"}},{"$nulls":8},{"$f":"SUM(((S423*3)+V423+Y423)/5)","v":{"v":0,"d":"0.0"}}]
[]
[{"$f":"T(A421)","v":"Widespread Power Outage"},{"$nulls":3},"Threat",null,"Criticality",null,null,"Vulnerability",{"$nulls":8},"Consequence",{"$nulls":8},{"$f":"SUM(((((J431+S431)/2)*G431)*E431))","v":0}]
[{"$nulls":9},"Exposure",null,null,"Protective Measures",null,null,"Robustness/Resilience",null,null,"Human",null,null,"Economic",null,null,"Psychological"]
[{"$f":"T(A380)","v":"Dispatch/Control Center"},null,{"$f":"T(C380)","v":"BUS"},{"$f":"SUM(D380)","v":5},{"v":1,"d":"1.0"},null,{"$f":"SUM(G380)","v":{"v":0,"d":"0.0"}},null,null,{"v":0,"d":"0.0"},null,null,{"v":0,"d":"0.0"},null,null,{"v":0,"d":"0.0"},null,null,{"v":0,"d":"0.0"},null,null,{"v":0,"d":"0.0"},null,null,{"v":0,"d":"0.0"}]
[{"$f":"T(A381)","v":""}]
[{"$nulls":4},{"$f":"SUM(E429)","v":{"v":1,"d":"1.0"}},null,{"$f":"SUM(G429)","v":{"v":0,"d":"0.0"}},null,null,{"$f":"SUM((J429+M429+P429)/3)","v":{"v":0,"d":"0.0"}},{"$nulls":8},{"$f":"SUM(((S429*3)+V429+Y429)/5)","v":{"v":0,"d":"0.0"}}]
[]
[{"$f":"T(A427)","v":"Widespread Power Outage"},{"$nulls":3},"Threat",null,"Criticality",null,null,"Vulnerability",{"$nulls":8},"Consequence",{"$nulls":8},{"$f":"SUM(((((J437+S437)/2)*G437)*E437))","v":0}]
[{"$nulls":9},"Exposure",null,null,"Protective Measures",null,null,"Robustness/Resilience",null,null,"Human",null,null,"Economic",null,null,"Psychological"]
[{"$f":"T(A386)","v":"Cyber Systems"},null,{"$f":"T(C386)","v":"BUS"},{"$f":"SUM(D386)","v":6},{"v":1,"d":"1.0"},null,{"$f":"SUM(G386)","v":{"v":0,"d":"0.0"}},null,null,{"v":0,"d":"0.0"},null,null,{"v":0,"d":"0.0"},null,null,{"v":0,"d":"0.0"},null,null,{"v":0,"d":"0.0"},null,null,{"v":0,"d":"0.0"},null,null,{"v":0,"d":"0.0"}]
[{"$f":"T(A387)","v":""}]
[{"$nulls":4},{"$f":"SUM(E435)","v":{"v":1,"d":"1.0"}},null,{"$f":"SUM(G435)","v":{"v":0,"d":"0.0"}},null,null,{"$f":"SUM((J435+M435+P435)/3)","v":{"v":0,"d":"0.0"}},{"$nulls":8},{"$f":"SUM(((S435*3)+V435+Y435)/5)","v":{"v":0,"d":"0.0"}}]
[]
[{"$f":"T(A433)","v":"Widespread Power Outage"},{"$nulls":3},"Threat",null,"Criticality",null,null,"Vulnerability",{"$nulls":8},"Consequence",{"$nulls":8},{"$f":"SUM(((((J443+S443)/2)*G443)*E443))","v":0}]
[{"$nulls":9},"Exposure",null,null,"Protective Measures",null,null,"Robustness/Resilience",null,null,"Human",null,null,"Economic",null,null,"Psychological"]
[{"$f":"T(A392)","v":"Fueling Facilities/Depots"},null,{"$f":"T(C392)","v":"BUS"},{"$f":"SUM(D392)","v":7},{"v":1,"d":"1.0"},null,{"$f":"SUM(G392)","v":{"v":0,"d":"0.0"}},null,null,{"v":0,"d":"0.0"},null,null,{"v":0,"d":"0.0"},null,null,{"v":0,"d":"0.0"},null,null,{"v":0,"d":"0.0"},null,null,{"v":0,"d":"0.0"},null,null,{"v":0,"d":"0.0"}]
[{"$f":"T(A393)","v":""}]
[{"$nulls":4},{"$f":"SUM(E441)","v":{"v":1,"d":"1.0"}},null,{"$f":"SUM(G441)","v":{"v":0,"d":"0.0"}},null,null,{"$f":"SUM((J441+M441+P441)/3)","v":{"v":0,"d":"0.0"}},{"$nulls":8},{"$f":"SUM(((S441*3)+V441+Y441)/5)","v":{"v":0,"d":"0.0"}}]
[]
[{"$f":"T(A439)","v":"Widespread Power Outage"},{"$nulls":3},"Threat",null,"Criticality",null,null,"Vulnerability",{"$nulls":8},"Consequence",{"$nulls":8},{"$f":"SUM(((((J449+S449)/2)*G449)*E449))","v":0}]
[{"$nulls":9},"Exposure",null,null,"Protective Measures",null,null,"Robustness/Resilience",null,null,"Human",null,null,"Economic",null,null,"Psychological"]
[{"$f":"T(A398)","v":"Maintenance Barns/Facilities"},null,{"$f":"T(C398)","v":"BUS"},{"$f":"SUM(D398)","v":8},{"v":1,"d":"1.0"},null,{"$f":"SUM(G398)","v":{"v":0,"d":"0.0"}},null,null,{"v":0,"d":"0.0"},null,null,{"v":0,"d":"0.0"},null,null,{"v":0,"d":"0.0"},null,null,{"v":0,"d":"0.0"},null,null,{"v":0,"d":"0.0"},null,null,{"v":0,"d":"0.0"}]
[{"$f":"T(A399)","v":""}]
[{"$nulls":4},{"$f":"SUM(E447)","v":{"v":1,"d":"1.0"}},null,{"$f":"SUM(G447)","v":{"v":0,"d":"0.0"}},null,null,{"$f":"SUM((J447+M447+P447)/3)","v":{"v":0,"d":"0.0"}},{"$nulls":8},{"$f":"SUM(((S447*3)+V447+Y447)/5)","v":{"v":0,"d":"0.0"}}]
[]
["Weapon of Mass Destruction"]
[{"$f":"T(A451)","v":"Weapon of Mass Destruction"},{"$nulls":3},"Threat",null,"Criticality",null,null,"Vulnerability",{"$nulls":8},"Consequence",{"$nulls":8},{"$f":"SUM(((((J456+S456)/2)*G456)*E456))","v":0}]
[{"$nulls":9},"Exposure",null,null,"Protective Measures",null,null,"Robustness/Resilience",null,null,"Human",null,null,"Economic",null,null,"Psychological"]
[{"$f":"T(A405)","v":"Headquarters Building"},null,{"$f":"T(C405)","v":"BUS"},{"$f":"SUM(D405)","v":1},{"v":1,"d":"1.0"},null,{"$f":"SUM(G405)","v":{"v":0,"d":"0.0"}},null,null,{"v":0,"d":"0.0"},null,null,{"v":0,"d":"0.0"},null,null,{"v":0,"d":"0.0"},null,null,{"v":0,"d":"0.0"},null,null,{"v":0,"d":"0.0"},null,null,{"v":0,"d":"0.0"}]
[{"$f":"T(A406)","v":""}]
[{"$nulls":4},{"$f":"SUM(E454)","v":{"v":1,"d":"1.0"}},null,{"$f":"SUM(G454)","v":{"v":0,"d":"0.0"}},null,null,{"$f":"SUM((J454+M454+P454)/3)","v":{"v":0,"d":"0.0"}},{"$nulls":8},{"$f":"SUM(((S454*3)+V454+Y454)/5)","v":{"v":0,"d":"0.0"}}]
[]
[{"$f":"T(A451)","v":"Weapon of Mass Destruction"},{"$nulls":3},"Threat",null,"Criticality",null,null,"Vulnerability",{"$nulls":8},"Consequence",{"$nulls":8},{"$f":"SUM(((((J462+S462)/2)*G462)*E462))","v":0}]
[{"$nulls":9},"Exposure",null,null,"Protective Measures",null,null,"Robustness/Resilience",null,null,"Human",null,null,"Economic",null,null,"Psychological"]
[{"$f":"T(A411)","v":"System Owned Bus Station"},null,{"$f":"T(C411)","v":"BUS"},{"$f":"SUM(D411)","v":2},{"v":1,"d":"1.0"},null,{"$f":"SUM(G411)","v":{"v":0,"d":"0.0"}},null,null,{"v":0,"d":"0.0"},null,null,{"v":0,"d":"0.0"},null,null,{"v":0,"d":"0.0"},null,null,{"v":0,"d":"0.0"},null,null,{"v":0,"d":"0.0"},null,null,{"v":0,"d":"0.0"}]
[{"$f":"T(A412)","v":""}]
[{"$nulls":4},{"$f":"SUM(E460)","v":{"v":1,"d":"1.0"}},null,{"$f":"SUM(G460)","v":{"v":0,"d":"0.0"}},null,null,{"$f":"SUM((J460+M460+P460)/3)","v":{"v":0,"d":"0.0"}},{"$nulls":8},{"$f":"SUM(((S460*3)+V460+Y460)/5)","v":{"v":0,"d":"0.0"}}]
[]
[{"$f":"T(A458)","v":"Weapon of Mass Destruction"},{"$nulls":3},"Threat",null,"Criticality",null,null,"Vulnerability",{"$nulls":8},"Consequence",{"$nulls":8},{"$f":"SUM(((((J468+S468)/2)*G468)*E468))","v":0}]
[{"$nulls":9},"Exposure",null,null,"Protective Measures",null,null,"Robustness/Resilience",null,null,"Human",null,null,"Economic",null,null,"Psychological"]
[{"$f":"T(A417)","v":"Bus - Type 1"},null,{"$f":"T(C417)","v":"BUS"},{"$f":"SUM(D417)","v":3},{"v":1,"d":"1.0"},null,{"$f":"SUM(G417)","v":{"v":0,"d":"0.0"}},null,null,{"v":0,"d":"0.0"},null,null,{"v":0,"d":"0.0"},null,null,{"v":0,"d":"0.0"},null,null,{"v":0,"d":"0.0"},null,null,{"v":0,"d":"0.0"},null,null,{"v":0,"d":"0.0"}]
[{"$f":"T(A418)","v":""}]
[{"$nulls":4},{"$f":"SUM(E466)","v":{"v":1,"d":"1.0"}},null,{"$f":"SUM(G466)","v":{"v":0,"d":"0.0"}},null,null,{"$f":"SUM((J466+M466+P466)/3)","v":{"v":0,"d":"0.0"}},{"$nulls":8},{"$f":"SUM(((S466*3)+V466+Y466)/5)","v":{"v":0,"d":"0.0"}}]
[]
[{"$f":"T(A464)","v":"Weapon of Mass Destruction"},{"$nulls":3},"Threat",null,"Criticality",null,null,"Vulnerability",{"$nulls":8},"Consequence",{"$nulls":8},{"$f":"SUM(((((J474+S474)/2)*G474)*E474))","v":0}]
[{"$nulls":9},"Exposure",null,null,"Protective Measures",null,null,"Robustness/Resilience",null,null,"Human",null,null,"Economic",null,null,"Psychological"]
[{"$f":"T(A423)","v":"Bus - Type 2"},null,{"$f":"T(C423)","v":"BUS"},{"$f":"SUM(D423)","v":4},{"v":1,"d":"1.0"},null,{"$f":"SUM(G423)","v":{"v":0,"d":"0.0"}},null,null,{"v":0,"d":"0.0"},null,null,{"v":0,"d":"0.0"},null,null,{"v":0,"d":"0.0"},null,null,{"v":0,"d":"0.0"},null,null,{"v":0,"d":"0.0"},null,null,{"v":0,"d":"0.0"}]
[{"$f":"T(A424)","v":""}]
[{"$nulls":4},{"$f":"SUM(E472)","v":{"v":1,"d":"1.0"}},null,{"$f":"SUM(G472)","v":{"v":0,"d":"0.0"}},null,null,{"$f":"SUM((J472+M472+P472)/3)","v":{"v":0,"d":"0.0"}},{"$nulls":8},{"$f":"SUM(((S472*3)+V472+Y472)/5)","v":{"v":0,"d":"0.0"}}]
[]
[{"$f":"T(A470)","v":"Weapon of Mass Destruction"},{"$nulls":3},"Threat",null,"Criticality",null,null,"Vulnerability",{"$nulls":8},"Consequence",{"$nulls":8},{"$f":"SUM(((((J480+S480)/2)*G480)*E480))","v":0}]
[{"$nulls":9},"Exposure",null,null,"Protective Measures",null,null,"Robustness/Resilience",null,null,"Human",null,null,"Economic",null,null,"Psychological"]
[{"$f":"T(A429)","v":"Dispatch/Control Center"},null,{"$f":"T(C429)","v":"BUS"},{"$f":"SUM(D429)","v":5},{"v":1,"d":"1.0"},null,{"$f":"SUM(G429)","v":{"v":0,"d":"0.0"}},null,null,{"v":0,"d":"0.0"},null,null,{"v":0,"d":"0.0"},null,null,{"v":0,"d":"0.0"},null,null,{"v":0,"d":"0.0"},null,null,{"v":0,"d":"0.0"},null,null,{"v":0,"d":"0.0"}]
[{"$f":"T(A430)","v":""}]
[{"$nulls":4},{"$f":"SUM(E478)","v":{"v":1,"d":"1.0"}},null,{"$f":"SUM(G478)","v":{"v":0,"d":"0.0"}},null,null,{"$f":"SUM((J478+M478+P478)/3)","v":{"v":0,"d":"0.0"}},{"$nulls":8},{"$f":"SUM(((S478*3)+V478+Y478)/5)","v":{"v":0,"d":"0.0"}}]
[]
[{"$f":"T(A476)","v":"Weapon of Mass Destruction"},{"$nulls":3},"Threat",null,"Criticality",null,null,"Vulnerability",{"$nulls":8},"Consequence",{"$nulls":8},{"$f":"SUM(((((J486+S486)/2)*G486)*E486))","v":0}]
[{"$nulls":9},"Exposure",null,null,"Protective Measures",null,null,"Robustness/Resilience",null,null,"Human",null,null,"Economic",null,null,"Psychological"]
[{"$f":"T(A435)","v":"Cyber Systems"},null,{"$f":"T(C435)","v":"BUS"},{"$f":"SUM(D435)","v":6},{"v":1,"d":"1.0"},null,{"$f":"SUM(G435)","v":{"v":0,"d":"0.0"}},null,null,{"v":0,"d":"0.0"},null,null,{"v":0,"d":"0.0"},null,null,{"v":0,"d":"0.0"},null,null,{"v":0,"d":"0.0"},null,null,{"v":0,"d":"0.0"},null,null,{"v":0,"d":"0.0"}]
[{"$f":"T(A436)","v":""}]
[{"$nulls":4},{"$f":"SUM(E484)","v":{"v":1,"d":"1.0"}},null,{"$f":"SUM(G484)","v":{"v":0,"d":"0.0"}},null,null,{"$f":"SUM((J484+M484+P484)/3)","v":{"v":0,"d":"0.0"}},{"$nulls":8},{"$f":"SUM(((S484*3)+V484+Y484)/5)","v":{"v":0,"d":"0.0"}}]
[]
[{"$f":"T(A482)","v":"Weapon of Mass Destruction"},{"$nulls":3},"Threat",null,"Criticality",null,null,"Vulnerability",{"$nulls":8},"Consequence",{"$nulls":8},{"$f":"SUM(((((J492+S492)/2)*G492)*E492))","v":0}]
[{"$nulls":9},"Exposure",null,null,"Protective Measures",null,null,"Robustness/Resilience",null,null,"Human",null,null,"Economic",null,null,"Psychological"]
[{"$f":"T(A441)","v":"Fueling Facilities/Depots"},null,{"$f":"T(C441)","v":"BUS"},{"$f":"SUM(D441)","v":7},{"v":1,"d":"1.0"},null,{"$f":"SUM(G441)","v":{"v":0,"d":"0.0"}},null,null,{"v":0,"d":"0.0"},null,null,{"v":0,"d":"0.0"},null,null,{"v":0,"d":"0.0"},null,null,{"v":0,"d":"0.0"},null,null,{"v":0,"d":"0.0"},null,null,{"v":0,"d":"0.0"}]
[{"$f":"T(A442)","v":""}]
[{"$nulls":4},{"$f":"SUM(E490)","v":{"v":1,"d":"1.0"}},null,{"$f":"SUM(G490)","v":{"v":0,"d":"0.0"}},null,null,{"$f":"SUM((J490+M490+P490)/3)","v":{"v":0,"d":"0.0"}},{"$nulls":8},{"$f":"SUM(((S490*3)+V490+Y490)/5)","v":{"v":0,"d":"0.0"}}]
[]
[{"$f":"T(A488)","v":"Weapon of Mass Destruction"},{"$nulls":3},"Threat",null,"Criticality",null,null,"Vulnerability",{"$nulls":8},"Consequence",{"$nulls":8},{"$f":"SUM(((((J498+S498)/2)*G498)*E498))","v":0}]
[{"$nulls":9},"Exposure",null,null,"Protective Measures",null,null,"Robustness/Resilience",null,null,"Human",null,null,"Economic",null,null,"Psychological"]
[{"$f":"T(A447)","v":"Maintenance Barns/Facilities"},null,{"$f":"T(C447)","v":"BUS"},{"$f":"SUM(D447)","v":8},{"v":1,"d":"1.0"},null,{"$f":"SUM(G447)","v":{"v":0,"d":"0.0"}},null,null,{"v":0,"d":"0.0"},null,null,{"v":0,"d":"0.0"},null,null,{"v":0,"d":"0.0"},null,null,{"v":0,"d":"0.0"},null,null,{"v":0,"d":"0.0"},null,null,{"v":0,"d":"0.0"}]
[{"$f":"T(A448)","v":""}]
[{"$nulls":4},{"$f":"SUM(E496)","v":{"v":1,"d":"1.0"}},null,{"$f":"SUM(G496)","v":{"v":0,"d":"0.0"}},null,null,{"$f":"SUM((J496+M496+P496)/3)","v":{"v":0,"d":"0.0"}},{"$nulls":8},{"$f":"SUM(((S496*3)+V496+Y496)/5)","v":{"v":0,"d":"0.0"}}]
[]
["SENSITIVE SECURITY INFORMATION"]
["WARNING: This document contains Sensitive Security Information that is controlled under 49 CFR 1520. No part of this document may be released to persons without a need to know, as defined in 49 CFR 1520, except with the written permission of the FEMA Administrator, Washington, DC. Unauthorized release may result in civil penalty or other action. For U.S. Government agencies, public release is governed by 5 U.S.C. 522."]

{"sheet":"Ferry Service Assets","index":7,"n_rows":621,"n_cols":28,"rows_kept":621,"merged":[[1,0,3,27],[4,0,4,27],[6,0,7,27],[9,0,9,27],[10,0,11,3],[10,4,11,5],[10,6,11,8],[10,9,10,17],[10,18,10,26],[10,27,14,27],[11,9,11,11],[11,12,11,14],[11,15,11,17],[11,18,11,20],[11,21,11,23],[11,24,11,26],[12,0,12,1],[12,4,13,5],[12,6,13,8],[12,9,13,11],[12,12,13,14],[12,15,13,17],[12,18,13,20],[12,21,13,23],[12,24,13,26],[13,0,14,3],[14,4,14,5],[14,6,14,8],[14,9,14,17],[14,18,14,26],[16,0,17,3],[16,4,17,5],[16,6,17,8],[16,9,16,17],[16,18,16,26],[16,27,20,27],[17,9,17,11],[17,12,17,14],[17,15,17,17],[17,18,17,20],[17,21,17,23],[17,24,17,26],[18,0,18,1],[18,4,19,5],[18,6,19,8],[18,9,19,11],[18,12,19,14],[18,15,19,17],[18,18,19,20],[18,21,19,23],[18,24,19,26],[19,0,20,3],[20,4,20,5],[20,6,20,8],[20,9,20,17],[20,18,20,26],[22,0,23,3],[22,4,23,5],[22,6,23,8],[22,9,22,17],[22,18,22,26],[22,27,26,27],[23,9,23,11],[23,12,23,14],[23,15,23,17],[23,18,23,20],[23,21,23,23],[23,24,23,26],[24,0,24,1],[24,4,25,5],[24,6,25,8],[24,9,25,11],[24,12,25,14],[24,15,25,17],[24,18,25,20],[24,21,25,23],[24,24,25,26],[25,0,26,3],[26,4,26,5],[26,6,26,8],[26,9,26,17],[26,18,26,26],[28,0,29,3],[28,4,29,5],[28,6,29,8],[28,9,28,17],[28,18,28,26],[28,27,32,27],[29,9,29,11],[29,12,29,14],[29,15,29,17],[29,18,29,20],[29,21,29,23],[29,24,29,26],[30,0,30,1],[30,4,31,5],[30,6,31,8],[30,9,31,11],[30,12,31,14],[30,15,31,17],[30,18,31,20],[30,21,31,23],[30,24,31,26],[31,0,32,3],[32,4,32,5],[32,6,32,8],[32,9,32,17],[32,18,32,26],[34,0,35,3],[34,4,35,5],[34,6,35,8],[34,9,34,17],[34,18,34,26],[34,27,38,27],[35,9,35,11],[35,12,35,14],[35,15,35,17],[35,18,35,20],[35,21,35,23],[35,24,35,26],[36,0,36,1],[36,4,37,5],[36,6,37,8],[36,9,37,11],[36,12,37,14],[36,15,37,17],[36,18,37,20],[36,21,37,23],[36,24,37,26],[37,0,38,3],[38,4,38,5],[38,6,38,8],[38,9,38,17],[38,18,38,26],[40,0,41,3],[40,4,41,5],[40,6,41,8],[40,9,40,17],[40,18,40,26],[40,27,44,27],[41,9,41,11],[41,12,41,14],[41,15,41,17],[41,18,41,20],[41,21,41,23],[41,24,41,26],[42,0,42,1],[42,4,43,5],[42,6,43,8],[42,9,43,11],[42,12,43,14],[42,15,43,17],[42,18,43,20],[42,21,43,23],[42,24,43,26],[43,0,44,3],[44,4,44,5],[44,6,44,8],[44,9,44,17],[44,18,44,26],[46,0,47,3],[46,4,47,5],[46,6,47,8],[46,9,46,17],[46,18,46,26],[46,27,50,27],[47,9,47,11],[47,12,47,14],[47,15,47,17],[47,18,47,20],[47,21,47,23],[47,24,47,26],[48,0,48,1],[48,4,49,5],[48,6,49,8],[48,9,49,11],[48,12,49,14],[48,15,49,17],[48,18,49,20],[48,21,49,23],[48,24,49,26],[49,0,50,3],[50,4,50,5],[50,6,50,8],[50,9,50,17],[50,18,50,26],[64,0,65,3],[64,4,65,5],[64,6,65,8],[64,9,64,17],[64,18,64,26],[64,27,68,27],[65,9,65,11],[65,12,65,14],[65,15,65,17],[65,18,65,20],[65,21,65,23],[65,24,65,26],[66,0,66,1],[66,4,67,5],[66,6,67,8],[66,9,67,11],[66,12,67,14],[66,15,67,17],[66,18,67,20],[66,21,67,23],[66,24,67,26],[67,0,68,3],[68,4,68,5],[68,6,68,8],[68,9,68,17],[68,18,68,26],[125,0,126,3],[125,4,126,5],[125,6,126,8],[125,9,125,17],[125,18,125,26],[125,27,129,27],[126,9,126,11],[126,12,126,14],[126,15,126,17],[126,18,126,20],[126,21,126,23],[126,24,126,26],[127,0,127,1],[127,4,128,5],[127,6,128,8],[127,9,128,11],[127,12,128,14],[127,15,128,17],[127,18,128,20],[127,21,128,23],[127,24,128,26],[128,0,129,3],[129,4,129,5],[129,6,129,8],[129,9,129,17],[129,18,129,26],[131,0,131,27],[144,27,148,27],[145,9,145,11],[145,12,145,14],[145,15,145,17],[145,18,145,20],[187,21,187,23],[187,24,187,26],[188,0,188,1],[188,4,189,5],[188,6,189,8],[188,9,189,11],[188,12,189,14],[188,15,189,17],[188,18,189,20],[188,21,189,23],[188,24,189,26],[189,0,190,3],[190,4,190,5],[190,6,190,8],[190,9,190,17],[190,18,190,26],[192,0,192,27],[249,9,250,11],[249,12,250,14],[249,15,250,17],[249,18,250,20],[249,21,250,23],[249,24,250,26],[250,0,251,3],[251,4,251,5],[251,6,251,8],[251,9,251,17],[251,18,251,26],[266,27,270,27],[267,9,267,11],[267,12,267,14],[267,15,267,17],[267,18,267,20],[278,27,282,27],[302,0,303,3],[302,4,303,5],[302,6,303,8],[302,9,302,17],[302,18,302,26],[302,27,306,27],[303,9,303,11],[303,12,303,14],[303,15,303,17],[303,18,303,20],[303,21,303,23],[303,24,303,26],[304,0,304,1],[304,4,305,5],[304,6,305,8],[304,9,305,11],[304,12,305,14],[304,15,305,17],[304,18,305,20],[304,21,305,23],[304,24,305,26],[305,0,306,3],[306,4,306,5],[306,6,306,8],[306,9,306,17],[306,18,306,26],[308,0,309,3],[308,4,309,5],[308,6,309,8],[308,9,308,17],[308,18,308,26],[308,27,312,27],[309,9,309,11],[309,12,309,14],[309,15,309,17],[309,18,309,20],[309,21,309,23],[309,24,309,26],[310,0,310,1],[310,4,311,5],[310,6,311,8],[310,9,311,11],[310,12,311,14],[310,15,311,17],[310,18,311,20],[310,21,311,23],[310,24,311,26],[311,0,312,3],[312,4,312,5],[312,6,312,8],[312,9,312,17],[312,18,312,26],[314,0,314,27],[316,18,316,20],[323,24,324,26],[324,0,325,3],[325,4,325,5],[325,6,325,8],[325,18,325,26],[345,0,346,3],[345,4,346,5],[345,6,346,8],[345,9,345,17],[345,18,345,26],[345,27,349,27],[346,9,346,11],[346,12,346,14],[346,15,346,17],[346,18,346,20],[346,21,346,23],[346,24,346,26],[347,0,347,1],[347,4,348,5],[347,6,348,8],[347,9,348,11],[347,12,348,14],[347,15,348,17],[347,18,348,20],[347,21,348,23],[347,24,348,26],[348,0,349,3],[349,4,349,5],[349,6,349,8],[349,9,349,17],[349,18,349,26],[363,0,364,3],[363,4,364,5],[363,6,364,8],[363,9,363,17],[363,18,363,26],[363,27,367,27],[364,9,364,11],[364,12,364,14],[364,15,364,17],[364,18,364,20],[364,21,364,23],[364,24,364,26],[365,0,365,1],[365,4,366,5],[365,6,366,8],[365,9,366,11],[365,12,366,14],[365,15,366,17],[365,18,366,20],[365,21,366,23],[365,24,366,26],[366,0,367,3],[367,4,367,5],[367,6,367,8],[367,9,367,17],[367,18,367,26],[369,0,370,3],[369,4,370,5],[369,6,370,8],[369,9,369,17],[369,18,369,26],[369,27,373,27],[370,9,370,11],[370,12,370,14],[370,15,370,17],[370,18,370,20],[370,21,370,23],[370,24,370,26],[371,0,371,1],[371,4,372,5],[371,6,372,8],[371,9,372,11],[371,12,372,14],[371,15,372,17],[371,18,372,20],[371,21,372,23],[371,24,372,26],[372,0,373,3],[373,4,373,5],[373,6,373,8],[373,9,373,17],[373,18,373,26],[375,0,375,27],[376,0,377,3],[376,4,377,5],[376,6,377,8],[376,9,376,17],[376,18,376,26],[376,27,380,27],[377,9,377,11],[377,12,377,14],[377,15,377,17],[377,18,377,20],[377,21,377,23],[377,24,377,26],[378,0,378,1],[378,4,379,5],[378,6,379,8],[378,9,379,11],[378,12,379,14],[378,15,379,17],[378,18,379,20],[378,21,379,23],[378,24,379,26],[379,0,380,3],[380,4,380,5],[380,6,380,8],[380,9,380,17],[380,18,380,26],[382,0,383,3],[382,4,383,5],[382,6,383,8],[382,9,382,17],[382,18,382,26],[382,27,386,27],[383,9,383,11],[383,12,383,14],[383,15,383,17],[383,18,383,20],[383,21,383,23],[383,24,383,26],[384,0,384,1],[384,4,385,5],[384,6,385,8],[384,9,385,11],[384,12,385,14],[384,15,385,17],[384,18,385,20],[384,21,385,23],[384,24,385,26],[385,0,386,3],[386,4,386,5],[386,6,386,8],[386,9,386,17],[386,18,386,26],[388,0,389,3],[388,4,389,5],[388,6,389,8],[388,9,388,17],[388,18,388,26],[388,27,392,27],[389,9,389,11],[389,12,389,14],[389,15,389,17],[389,18,389,20],[389,21,389,23],[389,24,389,26],[390,0,390,1],[390,4,391,5],[390,6,391,8],[390,9,391,11],[390,12,391,14],[390,15,391,17],[390,18,391,20],[390,21,391,23],[390,24,391,26],[391,0,392,3],[392,4,392,5],[392,6,392,8],[392,9,392,17],[392,18,392,26],[394,0,395,3],[394,4,395,5],[394,6,395,8],[394,9,394,17],[394,18,394,26],[394,27,398,27],[395,9,395,11],[395,12,395,14],[395,15,395,17],[395,18,395,20],[395,21,395,23],[395,24,395,26],[396,0,396,1],[396,4,397,5],[396,6,397,8],[396,9,397,11],[396,12,397,14],[396,15,397,17],[396,18,397,20],[396,21,397,23],[396,24,397,26],[397,0,398,3],[398,4,398,5],[398,6,398,8],[398,9,398,17],[398,18,398,26],[400,0,401,3],[400,4,401,5],[400,6,401,8],[400,9,400,17],[400,18,400,26],[400,27,404,27],[401,9,401,11],[401,12,401,14],[401,15,401,17],[401,18,401,20],[401,21,401,23],[401,24,401,26],[402,0,402,1],[402,4,403,5],[402,6,403,8],[402,9,403,11],[402,12,403,14],[402,15,403,17],[402,18,403,20],[402,21,403,23],[402,24,403,26],[403,0,404,3],[404,4,404,5],[404,6,404,8],[404,9,404,17],[404,18,404,26],[407,21,407,23],[407,24,407,26],[408,0,408,1],[408,24,409,26],[409,0,410,3],[410,4,410,5],[410,6,410,8],[410,9,410,17],[410,18,410,26],[418,27,422,27],[419,9,419,11],[419,12,419,14],[419,15,419,17],[419,18,419,20],[436,0,436,27],[445,24,446,26],[446,0,447,3],[449,27,453,27],[450,9,450,11],[450,12,450,14],[450,15,450,17],[450,18,450,20],[461,0,462,3],[461,4,462,5],[461,6,462,8],[461,9,461,17],[461,18,461,26],[461,27,465,27],[462,9,462,11],[462,12,462,14],[462,15,462,17],[462,18,462,20],[462,21,462,23],[462,24,462,26],[463,0,463,1],[463,4,464,5],[463,6,464,8],[463,9,464,11],[463,12,464,14],[463,15,464,17],[463,18,464,20],[463,21,464,23],[463,24,464,26],[464,0,465,3],[465,4,465,5],[465,6,465,8],[467,0,468,3],[467,4,468,5],[467,6,468,8],[467,9,467,17],[467,18,467,26],[467,27,471,27],[468,9,468,11],[468,12,468,14],[468,15,468,17],[468,18,468,20],[468,21,468,23],[468,24,468,26],[469,0,469,1],[469,4,470,5],[469,6,470,8],[469,9,470,11],[469,12,470,14],[469,15,470,17],[469,18,470,20],[469,21,470,23],[469,24,470,26],[470,0,471,3],[471,4,471,5],[471,6,471,8],[471,9,471,17],[471,18,471,26],[485,0,486,3],[485,4,486,5],[485,6,486,8],[485,9,485,17],[485,18,485,26],[485,27,489,27],[486,9,486,11],[486,12,486,14],[486,15,486,17],[486,18,486,20],[486,21,486,23],[486,24,486,26],[487,0,487,1],[487,4,488,5],[487,6,488,8],[487,9,488,11],[487,12,488,14],[487,15,488,17],[487,18,488,20],[487,21,488,23],[487,24,488,26],[488,0,489,3],[489,4,489,5],[489,6,489,8],[489,9,489,17],[489,18,489,26],[491,0,492,3],[491,4,492,5],[491,6,492,8],[491,9,491,17],[491,18,491,26],[491,27,495,27],[492,9,492,11],[492,12,492,14],[492,15,492,17],[492,18,492,20],[492,21,492,23],[492,24,492,26],[493,0,493,1],[493,4,494,5],[493,6,494,8],[493,9,494,11],[493,12,494,14],[493,15,494,17],[493,18,494,20],[493,21,494,23],[493,24,494,26],[494,0,495,3],[495,4,495,5],[495,6,495,8],[504,4,505,5],[504,6,505,8],[504,9,504,17],[504,18,504,26],[505,9,505,11],[505,12,505,14],[505,15,505,17],[505,18,505,20],[505,21,505,23],[505,24,505,26],[506,0,506,1],[506,4,507,5],[506,6,507,8],[506,9,507,11],[506,12,507,14],[506,15,507,17],[506,18,507,20],[506,21,507,23],[506,24,507,26],[508,4,508,5],[508,6,508,8],[508,9,508,17],[508,18,508,26],[510,0,511,3],[510,4,511,5],[510,6,511,8],[510,9,510,17],[510,18,510,26],[510,27,514,27],[511,9,511,11],[511,12,511,14],[511,15,511,17],[511,18,511,20],[511,21,511,23],[511,24,511,26],[512,0,512,1],[512,4,513,5],[512,6,513,8],[512,9,513,11],[512,12,513,14],[512,15,513,17],[512,18,513,20],[512,21,513,23],[512,24,513,26],[513,0,514,3],[514,4,514,5],[514,6,514,8],[514,9,514,17],[514,18,514,26],[516,0,517,3],[516,4,517,5],[516,6,517,8],[516,9,516,17],[516,18,516,26],[516,27,520,27],[517,9,517,11],[517,12,517,14],[517,15,517,17],[517,18,517,20],[517,21,517,23],[517,24,517,26],[518,0,518,1],[518,4,519,5],[518,6,519,8],[518,9,519,11],[518,12,519,14],[518,15,519,17],[518,18,519,20],[518,21,519,23],[518,24,519,26],[519,0,520,3],[520,4,520,5],[520,6,520,8],[520,9,520,17],[520,18,520,26],[522,0,523,3],[522,4,523,5],[522,6,523,8],[522,9,522,17],[522,18,522,26],[522,27,526,27],[523,9,523,11],[523,12,523,14],[523,15,523,17],[523,18,523,20],[523,21,523,23],[523,24,523,26],[524,0,524,1],[524,4,525,5],[524,6,525,8],[524,9,525,11],[524,12,525,14],[524,15,525,17],[524,18,525,20],[524,21,525,23],[524,24,525,26],[525,0,526,3],[526,4,526,5],[526,6,526,8],[526,9,526,17],[526,18,526,26],[528,0,529,3],[528,4,529,5],[528,6,529,8],[528,9,528,17],[528,18,528,26],[528,27,532,27],[529,9,529,11],[529,12,529,14],[529,15,529,17],[529,18,529,20],[529,21,529,23],[529,24,529,26],[530,0,530,1],[530,4,531,5],[530,6,531,8],[530,9,531,11],[530,12,531,14],[530,15,531,17],[530,18,531,20],[530,21,531,23],[530,24,531,26],[531,0,532,3],[532,4,532,5],[532,6,532,8],[532,9,532,17],[532,18,532,26],[546,0,547,3],[546,4,547,5],[546,6,547,8],[546,9,546,17],[546,18,546,26],[546,27,550,27],[547,9,547,11],[547,12,547,14],[547,15,547,17],[547,18,547,20],[547,21,547,23],[547,24,547,26],[548,0,548,1],[548,4,549,5],[548,6,549,8],[548,9,549,11],[548,12,549,14],[548,15,549,17],[548,18,549,20],[548,21,549,23],[548,24,549,26],[549,0,550,3],[550,4,550,5],[550,6,550,8],[550,9,550,17],[550,18,550,26],[565,0,566,3],[565,4,566,5],[565,6,566,8],[565,9,565,17],[565,18,565,26],[565,27,569,27],[566,9,566,11],[566,12,566,14],[566,15,566,17],[566,18,566,20],[566,21,566,23],[566,24,566,26],[567,0,567,1],[567,4,568,5],[567,6,568,8],[567,9,568,11],[567,12,568,14],[567,15,568,17],[567,18,568,20],[567,21,568,23],[567,24,568,26],[568,0,569,3],[569,4,569,5],[569,6,569,8],[569,9,569,17],[569,18,569,26],[571,0,572,3],[571,4,572,5],[571,6,572,8],[571,9,571,17],[571,18,571,26],[571,27,575,27],[572,9,572,11],[572,12,572,14],[572,15,572,17],[572,18,572,20],[572,21,572,23],[572,24,572,26],[573,0,573,1],[573,4,574,5],[573,6,574,8],[573,9,574,11],[573,12,574,14],[573,15,574,17],[573,18,574,20],[573,21,574,23],[573,24,574,26],[574,0,575,3],[575,4,575,5],[575,6,575,8],[575,9,575,17],[575,18,575,26],[577,0,578,3],[577,4,578,5],[577,6,578,8],[577,9,577,17],[577,18,577,26],[577,27,581,27],[578,9,578,11],[578,12,578,14],[578,15,578,17],[578,18,578,20],[578,21,578,23],[578,24,578,26],[579,0,579,1],[579,4,580,5],[579,6,580,8],[579,9,580,11],[579,12,580,14],[579,15,580,17],[579,18,580,20],[579,21,580,23],[579,24,580,26],[580,0,581,3],[581,4,581,5],[581,6,581,8],[581,9,581,17],[581,18,581,26],[583,0,584,3],[583,4,584,5],[583,6,584,8],[583,9,583,17],[583,18,583,26],[583,27,587,27],[584,9,584,11],[584,12,584,14],[584,15,584,17],[584,18,584,20],[584,21,584,23],[584,24,584,26],[585,0,585,1],[585,4,586,5],[585,6,586,8],[585,9,586,11],[585,12,586,14],[585,15,586,17],[585,18,586,20],[585,21,586,23],[585,24,586,26],[586,0,587,3],[587,4,587,5],[587,6,587,8],[587,9,587,17],[587,18,587,26],[589,0,590,3],[589,4,590,5],[589,6,590,8],[589,9,589,17],[589,18,589,26],[589,27,593,27],[590,9,590,11],[590,12,590,14],[590,15,590,17],[590,18,590,20],[590,21,590,23],[590,24,590,26],[591,0,591,1],[591,4,592,5],[591,6,592,8],[591,9,592,11],[591,12,592,14],[591,15,592,17],[591,18,592,20],[591,21,592,23],[591,24,592,26],[592,0,593,3],[593,4,593,5],[593,6,593,8],[593,9,593,17],[593,18,593,26],[607,0,608,3],[607,4,608,5],[607,6,608,8],[607,9,607,17],[607,18,607,26],[607,27,611,27],[608,9,608,11],[608,12,608,14],[608,15,608,17],[608,18,608,20],[608,21,608,23],[608,24,608,26],[609,0,609,1],[609,4,610,5],[609,6,610,8],[609,9,610,11],[609,12,610,14],[609,15,610,17],[609,18,610,20],[609,21,610,23],[609,24,610,26],[610,0,611,3],[611,4,611,5],[611,6,611,8],[611,9,611,17],[611,18,611,26],[613,9,613,17],[613,18,613,26],[613,27,617,27],[614,9,614,11],[614,12,614,14],[614,15,614,17],[614,18,614,20],[614,21,614,23],[614,24,614,26],[615,0,615,1],[615,4,616,5],[615,6,616,8],[615,9,616,11],[615,12,616,14],[615,15,616,17],[615,18,616,20],[615,21,616,23],[615,24,616,26],[616,0,617,3],[617,4,617,5],[617,6,617,8],[617,9,617,17],[617,18,617,26]],"merged_total":2615,"flags":["merged_cut"]}
[]
["WARNING: This document contains Sensitive Security Information that is controlled under 49 CFR 1520. No part of this document may be released to persons without a need to know, as defined in 49 CFR 1520, except with the written permission of the FEMA Administrator, Washington, DC. Unauthorized release may result in civil penalty or other action. For U.S. Government agencies, public release is governed by 5 U.S.C. 522."]
[]
[]
["SENSITIVE SECURITY INFORMATION"]
["Incident types are defined in notes on the far right side of the table by holding the cursor over the incident word. "]
["Primary Effect Attacks on Ferry Service Assets     "]
[]
[]
[{"$f":"T(Definitions!D19)","v":"Armed Assault/Active Shooter"}]
[{"$f":"T(A10)","v":"Armed Assault/Active Shooter"},{"$nulls":3},"Threat",null,"Criticality",null,null,"Vulnerability",{"$nulls":8},"Consequence",{"$nulls":8},{"$f":"SUM(((((J15+S15)/2)*G15)*E15))","v":0}]
[{"$nulls":9},"Exposure",null,null,"Protective Measures",null,null,"Robustness/Resilience",null,null,"Human",null,null,"Economic",null,null,"Psychological"]
[{"$f":"T('Critical-Representative Assets'!B92)","v":"Headquarters Building"},null,{"$f":"T('Critical-Representative Assets'!C92)","v":"FS"},{"$f":"SUM('Critical-Representative Assets'!D92)","v":1},{"v":1,"d":"1.0"},null,{"$f":"SUM('Critical-Representative Assets'!F92)","v":{"v":0,"d":"0.0"}},null,null,{"v":0,"d":"0.0"},null,null,{"v":0,"d":"0.0"},null,null,{"v":0,"d":"0.0"},null,null,{"v":0,"d":"0.0"},null,null,{"v":0,"d":"0.0"},null,null,{"v":0,"d":"0.0"}]
[{"$f":"T('Critical-Representative Assets'!E92)","v":""}]
[{"$nulls":4},{"$f":"SUM(E13)","v":{"v":1,"d":"1.0"}},null,{"$f":"SUM(G13)","v":{"v":0,"d":"0.0"}},null,null,{"$f":"SUM((J13+M13+P13)/3)","v":{"v":0,"d":"0.0"}},{"$nulls":8},{"$f":"SUM(((S13*3)+V13+Y13)/5)","v":{"v":0,"d":"0.0"}}]
[]
[{"$f":"T(A11)","v":"Armed Assault/Active Shooter"},{"$nulls":3},"Threat",null,"Criticality",null,null,"Vulnerability",{"$nulls":8},"Consequence",{"$nulls":8},{"$f":"SUM(((((J21+S21)/2)*G21)*E21))","v":0}]
[{"$nulls":9},"Exposure",null,null,"Protective Measures",null,null,"Robustness/Resilience",null,null,"Human",null,null,"Economic",null,null,"Psychological"]
[{"$f":"T('Critical-Representative Assets'!B93)","v":"System Owned Ferry Terminals"},null,{"$f":"T('Critical-Representative Assets'!C93)","v":"FS"},{"$f":"SUM('Critical-Representative Assets'!D93)","v":2},{"v":1,"d":"1.0"},null,{"$f":"SUM('Critical-Representative Assets'!F93)","v":{"v":0,"d":"0.0"}},null,null,{"v":0,"d":"0.0"},null,null,{"v":0,"d":"0.0"},null,null,{"v":0,"d":"0.0"},null,null,{"v":0,"d":"0.0"},null,null,{"v":0,"d":"0.0"},null,null,{"v":0,"d":"0.0"}]
[{"$f":"T('Critical-Representative Assets'!E93)","v":""}]
[{"$nulls":4},{"$f":"SUM(E19)","v":{"v":1,"d":"1.0"}},null,{"$f":"SUM(G19)","v":{"v":0,"d":"0.0"}},null,null,{"$f":"SUM((J19+M19+P19)/3)","v":{"v":0,"d":"0.0"}},{"$nulls":8},{"$f":"SUM(((S19*3)+V19+Y19)/5)","v":{"v":0,"d":"0.0"}}]
[]
[{"$f":"T(A17)","v":"Armed Assault/Active Shooter"},{"$nulls":3},"Threat",null,"Criticality",null,null,"Vulnerability",{"$nulls":8},"Consequence",{"$nulls":8},{"$f":"SUM(((((J27+S27)/2)*G27)*E27))","v":0}]
[{"$nulls":9},"Exposure",null,null,"Protective Measures",null,null,"Robustness/Resilience",null,null,"Human",null,null,"Economic",null,null,"Psychological"]
[{"$f":"T('Critical-Representative Assets'!B94)","v":"Parking Structures"},null,{"$f":"T('Critical-Representative Assets'!C94)","v":"FS"},{"$f":"SUM('Critical-Representative Assets'!D94)","v":3},{"v":1,"d":"1.0"},null,{"$f":"SUM('Critical-Representative Assets'!F94)","v":{"v":0,"d":"0.0"}},null,null,{"v":0,"d":"0.0"},null,null,{"v":0,"d":"0.0"},null,null,{"v":0,"d":"0.0"},null,null,{"v":0,"d":"0.0"},null,null,{"v":0,"d":"0.0"},null,null,{"v":0,"d":"0.0"}]
[{"$f":"T('Critical-Representative Assets'!E94)","v":""}]
[{"$nulls":4},{"$f":"SUM(E25)","v":{"v":1,"d":"1.0"}},null,{"$f":"SUM(G25)","v":{"v":0,"d":"0.0"}},null,null,{"$f":"SUM((J25+M25+P25)/3)","v":{"v":0,"d":"0.0"}},{"$nulls":8},{"$f":"SUM(((S25*3)+V25+Y25)/5)","v":{"v":0,"d":"0.0"}}]
[]
[{"$f":"T(A23)","v":"Armed Assault/Active Shooter"},{"$nulls":3},"Threat",null,"Criticality",null,null,"Vulnerability",{"$nulls":8},"Consequence",{"$nulls":8},{"$f":"SUM(((((J33+S33)/2)*G33)*E33))","v":0}]
[{"$nulls":9},"Exposure",null,null,"Protective Measures",null,null,"Robustness/Resilience",null,null,"Human",null,null,"Economic",null,null,"Psychological"]
[{"$f":"T('Critical-Representative Assets'!B95)","v":"Ferry Vessel - Type 1"},null,{"$f":"T('Critical-Representative Assets'!C95)","v":"FS"},{"$f":"SUM('Critical-Representative Assets'!D95)","v":4},{"v":1,"d":"1.0"},null,{"$f":"SUM('Critical-Representative Assets'!F95)","v":{"v":0,"d":"0.0"}},null,null,{"v":0,"d":"0.0"},null,null,{"v":0,"d":"0.0"},null,null,{"v":0,"d":"0.0"},null,null,{"v":0,"d":"0.0"},null,null,{"v":0,"d":"0.0"},null,null,{"v":0,"d":"0.0"}]
[{"$f":"T('Critical-Representative Assets'!E95)","v":""}]
[{"$nulls":4},{"$f":"SUM(E31)","v":{"v":1,"d":"1.0"}},null,{"$f":"SUM(G31)","v":{"v":0,"d":"0.0"}},null,null,{"$f":"SUM((J31+M31+P31)/3)","v":{"v":0,"d":"0.0"}},{"$nulls":8},{"$f":"SUM(((S31*3)+V31+Y31)/5)","v":{"v":0,"d":"0.0"}}]
[]
[{"$f":"T(A29)","v":"Armed Assault/Active Shooter"},{"$nulls":3},"Threat",null,"Criticality",null,null,"Vulnerability",{"$nulls":8},"Consequence",{"$nulls":8},{"$f":"SUM(((((J39+S39)/2)*G39)*E39))","v":0}]
[{"$nulls":9},"Exposure",null,null,"Protective Measures",null,null,"Robustness/Resilience",null,null,"Human",null,null,"Economic",null,null,"Psychological"]
[{"$f":"T('Critical-Representative Assets'!B96)","v":"Ferry Vessel - Type 2"},null,{"$f":"T('Critical-Representative Assets'!C96)","v":"FS"},{"$f":"SUM('Critical-Representative Assets'!D96)","v":5},{"v":1,"d":"1.0"},null,{"$f":"SUM('Critical-Representative Assets'!F96)","v":{"v":0,"d":"0.0"}},null,null,{"v":0,"d":"0.0"},null,null,{"v":0,"d":"0.0"},null,null,{"v":0,"d":"0.0"},null,null,{"v":0,"d":"0.0"},null,null,{"v":0,"d":"0.0"},null,null,{"v":0,"d":"0.0"}]
[{"$f":"T('Critical-Representative Assets'!E96)","v":""}]
[{"$nulls":4},{"$f":"SUM(E37)","v":{"v":1,"d":"1.0"}},null,{"$f":"SUM(G37)","v":{"v":0,"d":"0.0"}},null,null,{"$f":"SUM((J37+M37+P37)/3)","v":{"v":0,"d":"0.0"}},{"$nulls":8},{"$f":"SUM(((S37*3)+V37+Y37)/5)","v":{"v":0,"d":"0.0"}}]
[]
[{"$f":"T(A35)","v":"Armed Assault/Active Shooter"},{"$nulls":3},"Threat",null,"Criticality",null,null,"Vulnerability",{"$nulls":8},"Consequence",{"$nulls":8},{"$f":"SUM(((((J45+S45)/2)*G45)*E45))","v":0}]
[{"$nulls":9},"Exposure",null,null,"Protective Measures",null,null,"Robustness/Resilience",null,null,"Human",null,null,"Economic",null,null,"Psychological"]
[{"$f":"T('Critical-Representative Assets'!B97)","v":"Primary Control Center"},null,{"$f":"T('Critical-Representative Assets'!C97)","v":"FS"},{"$f":"SUM('Critical-Representative Assets'!D97)","v":6},{"v":1,"d":"1.0"},null,{"$f":"SUM('Critical-Representative Assets'!F97)","v":{"v":0,"d":"0.0"}},null,null,{"v":0,"d":"0.0"},null,null,{"v":0,"d":"0.0"},null,null,{"v":0,"d":"0.0"},null,null,{"v":0,"d":"0.0"},null,null,{"v":0,"d":"0.0"},null,null,{"v":0,"d":"0.0"}]
[{"$f":"T('Critical-Representative Assets'!E97)","v":""}]
[{"$nulls":4},{"$f":"SUM(E43)","v":{"v":1,"d":"1.0"}},null,{"$f":"SUM(G43)","v":{"v":0,"d":"0.0"}},null,null,{"$f":"SUM((J43+M43+P43)/3)","v":{"v":0,"d":"0.0"}},{"$nulls":8},{"$f":"SUM(((S43*3)+V43+Y43)/5)","v":{"v":0,"d":"0.0"}}]
[]
[{"$f":"T(A41)","v":"Armed Assault/Active Shooter"},{"$nulls":3},"Threat",null,"Criticality",null,null,"Vulnerability",{"$nulls":8},"Consequence",{"$nulls":8},{"$f":"SUM(((((J51+S51)/2)*G51)*E51))","v":0}]
[{"$nulls":9},"Exposure",null,null,"Protective Measures",null,null,"Robustness/Resilience",null,null,"Human",null,null,"Economic",null,null,"Psychological"]
[{"$f":"T('Critical-Representative Assets'!B98)","v":"Cyber Systems"},null,{"$f":"T('Critical-Representative Assets'!C98)","v":"FS"},{"$f":"SUM('Critical-Representative Assets'!D98)","v":7},{"v":1,"d":"1.0"},null,{"$f":"SUM('Critical-Representative Assets'!F98)","v":{"v":0,"d":"0.0"}},null,null,{"v":0,"d":"0.0"},null,null,{"v":0,"d":"0.0"},null,null,{"v":0,"d":"0.0"},null,null,{"v":0,"d":"0.0"},null,null,{"v":0,"d":"0.0"},null,null,{"v":0,"d":"0.0"}]
[{"$f":"T('Critical-Representative Assets'!E98)","v":""}]
[{"$nulls":4},{"$f":"SUM(E49)","v":{"v":1,"d":"1.0"}},null,{"$f":"SUM(G49)","v":{"v":0,"d":"0.0"}},null,null,{"$f":"SUM((J49+M49+P49)/3)","v":{"v":0,"d":"0.0"}},{"$nulls":8},{"$f":"SUM(((S49*3)+V49+Y49)/5)","v":{"v":0,"d":"0.0"}}]
[]
[{"$f":"T(A47)","v":"Armed Assault/Active Shooter"},{"$nulls":3},"Threat",null,"Criticality",null,null,"Vulnerability",{"$nulls":8},"Consequence",{"$nulls":8},{"$f":"SUM(((((J57+S57)/2)*G57)*E57))","v":0}]
[{"$nulls":9},"Exposure",null,null,"Protective Measures",null,null,"Robustness/Resilience",null,null,"Human",null,null,"Economic",null,null,"Psychological"]
[{"$f":"T('Critical-Representative Assets'!B99)","v":"Aids to Navigation"},null,{"$f":"T('Critical-Representative Assets'!C99)","v":"FS"},{"$f":"SUM('Critical-Representative Assets'!D99)","v":8},{"v":1,"d":"1.0"},null,{"$f":"SUM('Critical-Representative Assets'!F99)","v":{"v":0,"d":"0.0"}},null,null,{"v":0,"d":"0.0"},null,null,{"v":0,"d":"0.0"},null,null,{"v":0,"d":"0.0"},null,null,{"v":0,"d":"0.0"},null,null,{"v":0,"d":"0.0"},null,null,{"v":0,"d":"0.0"}]
[{"$f":"T('Critical-Representative Assets'!E99)","v":""}]
[{"$nulls":4},{"$f":"SUM(E55)","v":{"v":1,"d":"1.0"}},null,{"$f":"SUM(G55)","v":{"v":0,"d":"0.0"}},null,null,{"$f":"SUM((J55+M55+P55)/3)","v":{"v":0,"d":"0.0"}},{"$nulls":8},{"$f":"SUM(((S55*3)+V55+Y55)/5)","v":{"v":0,"d":"0.0"}}]
[]
[{"$f":"T(A53)","v":"Armed Assault/Active Shooter"},{"$nulls":3},"Threat",null,"Criticality",null,null,"Vulnerability",{"$nulls":8},"Consequence",{"$nulls":8},{"$f":"SUM(((((J63+S63)/2)*G63)*E63))","v":0}]
[{"$nulls":9},"Exposure",null,null,"Protective Measures",null,null,"Robustness/Resilience",null,null,"Human",null,null,"Economic",null,null,"Psychological"]
[{"$f":"T('Critical-Representative Assets'!B100)","v":"Support Craft"},null,{"$f":"T('Critical-Representative Assets'!C100)","v":"FS"},{"$f":"SUM('Critical-Representative Assets'!D100)","v":9},{"v":1,"d":"1.0"},null,{"$f":"SUM('Critical-Representative Assets'!F100)","v":{"v":0,"d":"0.0"}},null,null,{"v":0,"d":"0.0"},null,null,{"v":0,"d":"0.0"},null,null,{"v":0,"d":"0.0"},null,null,{"v":0,"d":"0.0"},null,null,{"v":0,"d":"0.0"},null,null,{"v":0,"d":"0.0"}]
[{"$f":"T('Critical-Representative Assets'!E100)","v":""}]
[{"$nulls":4},{"$f":"SUM(E61)","v":{"v":1,"d":"1.0"}},null,{"$f":"SUM(G61)","v":{"v":0,"d":"0.0"}},null,null,{"$f":"SUM((J61+M61+P61)/3)","v":{"v":0,"d":"0.0"}},{"$nulls":8},{"$f":"SUM(((S61*3)+V61+Y61)/5)","v":{"v":0,"d":"0.0"}}]
[]
[{"$f":"T(A59)","v":"Armed Assault/Active Shooter"},{"$nulls":3},"Threat",null,"Criticality",null,null,"Vulnerability",{"$nulls":8},"Consequence",{"$nulls":8},{"$f":"SUM(((((J69+S69)/2)*G69)*E69))","v":0}]
[{"$nulls":9},"Exposure",null,null,"Protective Measures",null,null,"Robustness/Resilience",null,null,"Human",null,null,"Economic",null,null,"Psychological"]
[{"$f":"T('Critical-Representative Assets'!B101)","v":"Maintenance Facilities"},null,{"$f":"T('Critical-Representative Assets'!C101)","v":"FS"},{"$f":"SUM('Critical-Representative Assets'!D101)","v":10},{"v":1,"d":"1.0"},null,{"$f":"SUM('Critical-Representative Assets'!F101)","v":{"v":0,"d":"0.0"}},null,null,{"v":0,"d":"0.0"},null,null,{"v":0,"d":"0.0"},null,null,{"v":0,"d":"0.0"},null,null,{"v":0,"d":"0.0"},null,null,{"v":0,"d":"0.0"},null,null,{"v":0,"d":"0.0"}]
[{"$f":"T('Critical-Representative Assets'!E101)","v":""}]
[{"$nulls":4},{"$f":"SUM(E67)","v":{"v":1,"d":"1.0"}},null,{"$f":"SUM(G67)","v":{"v":0,"d":"0.0"}},null,null,{"$f":"SUM((J67+M67+P67)/3)","v":{"v":0,"d":"0.0"}},{"$nulls":8},{"$f":"SUM(((S67*3)+V67+Y67)/5)","v":{"v":0,"d":"0.0"}}]
[]
[{"$f":"T(Definitions!D20)","v":" VBIED or IED"}]
[{"$f":"T(A71)","v":" VBIED or IED"},{"$nulls":3},"Threat",null,"Criticality",null,null,"Vulnerability",{"$nulls":8},"Consequence",{"$nulls":8},{"$f":"SUM(((((J76+S76)/2)*G76)*E76))","v":0}]
[{"$nulls":9},"Exposure",null,null,"Protective Measures",null,null,"Robustness/Resilience",null,null,"Human",null,null,"Economic",null,null,"Psychological"]
[{"$f":"T(A379)","v":"Headquarters Building"},null,{"$f":"T(C379)","v":"FS"},{"$f":"SUM(D379)","v":1},{"v":1,"d":"1.0"},null,{"$f":"SUM(G379)","v":{"v":0,"d":"0.0"}},null,null,{"v":0,"d":"0.0"},null,null,{"v":0,"d":"0.0"},null,null,{"v":0,"d":"0.0"},null,null,{"v":0,"d":"0.0"},null,null,{"v":0,"d":"0.0"},null,null,{"v":0,"d":"0.0"}]
[{"$f":"T(A380)","v":""}]
[{"$nulls":4},{"$f":"SUM(E74)","v":{"v":1,"d":"1.0"}},null,{"$f":"SUM(G74)","v":{"v":0,"d":"0.0"}},null,null,{"$f":"SUM((J74+M74+P74)/3)","v":{"v":0,"d":"0.0"}},{"$nulls":8},{"$f":"SUM(((S74*3)+V74+Y74)/5)","v":{"v":0,"d":"0.0"}}]
[]
[{"$f":"T(A71)","v":" VBIED or IED"},{"$nulls":3},"Threat",null,"Criticality",null,null,"Vulnerability",{"$nulls":8},"Consequence",{"$nulls":8},{"$f":"SUM(((((J82+S82)/2)*G82)*E82))","v":0}]
[{"$nulls":9},"Exposure",null,null,"Protective Measures",null,null,"Robustness/Resilience",null,null,"Human",null,null,"Economic",null,null,"Psychological"]
[{"$f":"T(A385)","v":"System Owned Ferry Terminals"},null,{"$f":"T(C385)","v":"FS"},{"$f":"SUM(D385)","v":2},{"v":1,"d":"1.0"},null,{"$f":"SUM(G385)","v":{"v":0,"d":"0.0"}},null,null,{"v":0,"d":"0.0"},null,null,{"v":0,"d":"0.0"},null,null,{"v":0,"d":"0.0"},null,null,{"v":0,"d":"0.0"},null,null,{"v":0,"d":"0.0"},null,null,{"v":0,"d":"0.0"}]
[{"$f":"T(A386)","v":""}]
[{"$nulls":4},{"$f":"SUM(E80)","v":{"v":1,"d":"1.0"}},null,{"$f":"SUM(G80)","v":{"v":0,"d":"0.0"}},null,null,{"$f":"SUM((J80+M80+P80)/3)","v":{"v":0,"d":"0.0"}},{"$nulls":8},{"$f":"SUM(((S80*3)+V80+Y80)/5)","v":{"v":0,"d":"0.0"}}]
[]
[{"$f":"T(A78)","v":" VBIED or IED"},{"$nulls":3},"Threat",null,"Criticality",null,null,"Vulnerability",{"$nulls":8},"Consequence",{"$nulls":8},{"$f":"SUM(((((J88+S88)/2)*G88)*E88))","v":0}]
[{"$nulls":9},"Exposure",null,null,"Protective Measures",null,null,"Robustness/Resilience",null,null,"Human",null,null,"Economic",null,null,"Psychological"]
[{"$f":"T(A391)","v":"Parking Structures"},null,{"$f":"T(C391)","v":"FS"},{"$f":"SUM(D391)","v":3},{"v":1,"d":"1.0"},null,{"$f":"SUM(G391)","v":{"v":0,"d":"0.0"}},null,null,{"v":0,"d":"0.0"},null,null,{"v":0,"d":"0.0"},null,null,{"v":0,"d":"0.0"},null,null,{"v":0,"d":"0.0"},null,null,{"v":0,"d":"0.0"},null,null,{"v":0,"d":"0.0"}]
[{"$f":"T(A392)","v":""}]
[{"$nulls":4},{"$f":"SUM(E86)","v":{"v":1,"d":"1.0"}},null,{"$f":"SUM(G86)","v":{"v":0,"d":"0.0"}},null,null,{"$f":"SUM((J86+M86+P86)/3)","v":{"v":0,"d":"0.0"}},{"$nulls":8},{"$f":"SUM(((S86*3)+V86+Y86)/5)","v":{"v":0,"d":"0.0"}}]
[]
[{"$f":"T(A84)","v":" VBIED or IED"},{"$nulls":3},"Threat",null,"Criticality",null,null,"Vulnerability",{"$nulls":8},"Consequence",{"$nulls":8},{"$f":"SUM(((((J94+S94)/2)*G94)*E94))","v":0}]
[{"$nulls":9},"Exposure",null,null,"Protective Measures",null,null,"Robustness/Resilience",null,null,"Human",null,null,"Economic",null,null,"Psychological"]
[{"$f":"T(A397)","v":"Ferry Vessel - Type 1"},null,{"$f":"T(C397)","v":"FS"},{"$f":"SUM(D397)","v":4},{"v":1,"d":"1.0"},null,{"$f":"SUM(G397)","v":{"v":0,"d":"0.0"}},null,null,{"v":0,"d":"0.0"},null,null,{"v":0,"d":"0.0"},null,null,{"v":0,"d":"0.0"},null,null,{"v":0,"d":"0.0"},null,null,{"v":0,"d":"0.0"},null,null,{"v":0,"d":"0.0"}]
[{"$f":"T(A398)","v":""}]
[{"$nulls":4},{"$f":"SUM(E92)","v":{"v":1,"d":"1.0"}},null,{"$f":"SUM(G92)","v":{"v":0,"d":"0.0"}},null,null,{"$f":"SUM((J92+M92+P92)/3)","v":{"v":0,"d":"0.0"}},{"$nulls":8},{"$f":"SUM(((S92*3)+V92+Y92)/5)","v":{"v":0,"d":"0.0"}}]
[]
[{"$f":"T(A90)","v":" VBIED or IED"},{"$nulls":3},"Threat",null,"Criticality",null,null,"Vulnerability",{"$nulls":8},"Consequence",{"$nulls":8},{"$f":"SUM(((((J100+S100)/2)*G100)*E100))","v":0}]
[{"$nulls":9},"Exposure",null,null,"Protective Measures",null,null,"Robustness/Resilience",null,null,"Human",null,null,"Economic",null,null,"Psychological"]
[{"$f":"T(A403)","v":"Ferry Vessel - Type 2"},null,{"$f":"T(C403)","v":"FS"},{"$f":"SUM(D403)","v":5},{"v":1,"d":"1.0"},null,{"$f":"SUM(G403)","v":{"v":0,"d":"0.0"}},null,null,{"v":0,"d":"0.0"},null,null,{"v":0,"d":"0.0"},null,null,{"v":0,"d":"0.0"},null,null,{"v":0,"d":"0.0"},null,null,{"v":0,"d":"0.0"},null,null,{"v":0,"d":"0.0"}]
[{"$f":"T(A404)","v":""}]
[{"$nulls":4},{"$f":"SUM(E98)","v":{"v":1,"d":"1.0"}},null,{"$f":"SUM(G98)","v":{"v":0,"d":"0.0"}},null,null,{"$f":"SUM((J98+M98+P98)/3)","v":{"v":0,"d":"0.0"}},{"$nulls":8},{"$f":"SUM(((S98*3)+V98+Y98)/5)","v":{"v":0,"d":"0.0"}}]
[]
[{"$f":"T(A96)","v":" VBIED or IED"},{"$nulls":3},"Threat",null,"Criticality",null,null,"Vulnerability",{"$nulls":8},"Consequence",{"$nulls":8},{"$f":"SUM(((((J106+S106)/2)*G106)*E106))","v":0}]
[{"$nulls":9},"Exposure",null,null,"Protective Measures",null,null,"Robustness/Resilience",null,null,"Human",null,null,"Economic",null,null,"Psychological"]
[{"$f":"T(A409)","v":"Primary Control Center"},null,{"$f":"T(C409)","v":"FS"},{"$f":"SUM(D409)","v":6},{"v":1,"d":"1.0"},null,{"$f":"SUM(G409)","v":{"v":0,"d":"0.0"}},null,null,{"v":0,"d":"0.0"},null,null,{"v":0,"d":"0.0"},null,null,{"v":0,"d":"0.0"},null,null,{"v":0,"d":"0.0"},null,null,{"v":0,"d":"0.0"},null,null,{"v":0,"d":"0.0"}]
[{"$f":"T(A410)","v":""}]
[{"$nulls":4},{"$f":"SUM(E104)","v":{"v":1,"d":"1.0"}},null,{"$f":"SUM(G104)","v":{"v":0,"d":"0.0"}},null,null,{"$f":"SUM((J104+M104+P104)/3)","v":{"v":0,"d":"0.0"}},{"$nulls":8},{"$f":"SUM(((S104*3)+V104+Y104)/5)","v":{"v":0,"d":"0.0"}}]
[]
[{"$f":"T(A102)","v":" VBIED or IED"},{"$nulls":3},"Threat",null,"Criticality",null,null,"Vulnerability",{"$nulls":8},"Consequence",{"$nulls":8},{"$f":"SUM(((((J112+S112)/2)*G112)*E112))","v":0}]
[{"$nulls":9},"Exposure",null,null,"Protective Measures",null,null,"Robustness/Resilience",null,null,"Human",null,null,"Economic",null,null,"Psychological"]
[{"$f":"T(A415)","v":"Cyber Systems"},null,{"$f":"T(C415)","v":"FS"},{"$f":"SUM(D415)","v":7},{"v":1,"d":"1.0"},null,{"$f":"SUM(G415)","v":{"v":0,"d":"0.0"}},null,null,{"v":0,"d":"0.0"},null,null,{"v":0,"d":"0.0"},null,null,{"v":0,"d":"0.0"},null,null,{"v":0,"d":"0.0"},null,null,{"v":0,"d":"0.0"},null,null,{"v":0,"d":"0.0"}]
[{"$f":"T(A416)","v":""}]
[{"$nulls":4},{"$f":"SUM(E110)","v":{"v":1,"d":"1.0"}},null,{"$f":"SUM(G110)","v":{"v":0,"d":"0.0"}},null,null,{"$f":"SUM((J110+M110+P110)/3)","v":{"v":0,"d":"0.0"}},{"$nulls":8},{"$f":"SUM(((S110*3)+V110+Y110)/5)","v":{"v":0,"d":"0.0"}}]
[]
[{"$f":"T(A108)","v":" VBIED or IED"},{"$nulls":3},"Threat",null,"Criticality",null,null,"Vulnerability",{"$nulls":8},"Consequence",{"$nulls":8},{"$f":"SUM(((((J118+S118)/2)*G118)*E118))","v":0}]
[{"$nulls":9},"Exposure",null,null,"Protective Measures",null,null,"Robustness/Resilience",null,null,"Human",null,null,"Economic",null,null,"Psychological"]
[{"$f":"T(A421)","v":"Aids to Navigation"},null,{"$f":"T(C421)","v":"FS"},{"$f":"SUM(D421)","v":8},{"v":1,"d":"1.0"},null,{"$f":"SUM(G421)","v":{"v":0,"d":"0.0"}},null,null,{"v":0,"d":"0.0"},null,null,{"v":0,"d":"0.0"},null,null,{"v":0,"d":"0.0"},null,null,{"v":0,"d":"0.0"},null,null,{"v":0,"d":"0.0"},null,null,{"v":0,"d":"0.0"}]
[{"$f":"T(A422)","v":""}]
[{"$nulls":4},{"$f":"SUM(E116)","v":{"v":1,"d":"1.0"}},null,{"$f":"SUM(G116)","v":{"v":0,"d":"0.0"}},null,null,{"$f":"SUM((J116+M116+P116)/3)","v":{"v":0,"d":"0.0"}},{"$nulls":8},{"$f":"SUM(((S116*3)+V116+Y116)/5)","v":{"v":0,"d":"0.0"}}]
[]
[{"$f":"T(A114)","v":" VBIED or IED"},{"$nulls":3},"Threat",null,"Criticality",null,null,"Vulnerability",{"$nulls":8},"Consequence",{"$nulls":8},{"$f":"SUM(((((J124+S124)/2)*G124)*E124))","v":0}]
[{"$nulls":9},"Exposure",null,null,"Protective Measures",null,null,"Robustness/Resilience",null,null,"Human",null,null,"Economic",null,null,"Psychological"]
[{"$f":"T(A427)","v":"Support Craft"},null,{"$f":"T(C427)","v":"FS"},{"$f":"SUM(D427)","v":9},{"v":1,"d":"1.0"},null,{"$f":"SUM(G427)","v":{"v":0,"d":"0.0"}},null,null,{"v":0,"d":"0.0"},null,null,{"v":0,"d":"0.0"},null,null,{"v":0,"d":"0.0"},null,null,{"v":0,"d":"0.0"},null,null,{"v":0,"d":"0.0"},null,null,{"v":0,"d":"0.0"}]
[{"$f":"T(A428)","v":""}]
[{"$nulls":4},{"$f":"SUM(E122)","v":{"v":1,"d":"1.0"}},null,{"$f":"SUM(G122)","v":{"v":0,"d":"0.0"}},null,null,{"$f":"SUM((J122+M122+P122)/3)","v":{"v":0,"d":"0.0"}},{"$nulls":8},{"$f":"SUM(((S122*3)+V122+Y122)/5)","v":{"v":0,"d":"0.0"}}]
[]
[{"$f":"T(A120)","v":" VBIED or IED"},{"$nulls":3},"Threat",null,"Criticality",null,null,"Vulnerability",{"$nulls":8},"Consequence",{"$nulls":8},{"$f":"SUM(((((J130+S130)/2)*G130)*E130))","v":0}]
[{"$nulls":9},"Exposure",null,null,"Protective Measures",null,null,"Robustness/Resilience",null,null,"Human",null,null,"Economic",null,null,"Psychological"]
[{"$f":"T(A433)","v":"Maintenance Facilities"},null,{"$f":"T(C433)","v":"FS"},{"$f":"SUM(D433)","v":10},{"v":1,"d":"1.0"},null,{"$f":"SUM(G433)","v":{"v":0,"d":"0.0"}},null,null,{"v":0,"d":"0.0"},null,null,{"v":0,"d":"0.0"},null,null,{"v":0,"d":"0.0"},null,null,{"v":0,"d":"0.0"},null,null,{"v":0,"d":"0.0"},null,null,{"v":0,"d":"0.0"}]
[{"$f":"T(A434)","v":""}]
[{"$nulls":4},{"$f":"SUM(E128)","v":{"v":1,"d":"1.0"}},null,{"$f":"SUM(G128)","v":{"v":0,"d":"0.0"}},null,null,{"$f":"SUM((J128+M128+P128)/3)","v":{"v":0,"d":"0.0"}},{"$nulls":8},{"$f":"SUM(((S128*3)+V128+Y128)/5)","v":{"v":0,"d":"0.0"}}]
[]
[{"$f":"T(Definitions!D21)","v":"Hijack"}]
[{"$f":"T(A132)","v":"Hijack"},{"$nulls":3},"Threat",null,"Criticality",null,null,"Vulnerability",{"$nulls":8},"Consequence",{"$nulls":8},{"$f":"SUM(((((J137+S137)/2)*G137)*E137))","v":0}]
[{"$nulls":9},"Exposure",null,null,"Protective Measures",null,null,"Robustness/Resilience",null,null,"Human",null,null,"Economic",null,null,"Psychological"]
[{"$f":"T(A74)","v":"Headquarters Building"},null,{"$f":"T(C74)","v":"FS"},{"$f":"SUM(D74)","v":1},{"v":1,"d":"1.0"},null,{"$f":"SUM(G74)","v":{"v":0,"d":"0.0"}},null,null,{"v":0,"d":"0.0"},null,null,{"v":0,"d":"0.0"},null,null,{"v":0,"d":"0.0"},null,null,{"v":0,"d":"0.0"},null,null,{"v":0,"d":"0.0"},null,null,{"v":0,"d":"0.0"}]
[{"$f":"T(A75)","v":""}]
[{"$nulls":4},{"$f":"SUM(E135)","v":{"v":1,"d":"1.0"}},null,{"$f":"SUM(G135)","v":{"v":0,"d":"0.0"}},null,null,{"$f":"SUM((J135+M135+P135)/3)","v":{"v":0,"d":"0.0"}},{"$nulls":8},{"$f":"SUM(((S135*3)+V135+Y135)/5)","v":{"v":0,"d":"0.0"}}]
[]
[{"$f":"T(A132)","v":"Hijack"},{"$nulls":3},"Threat",null,"Criticality",null,null,"Vulnerability",{"$nulls":8},"Consequence",{"$nulls":8},{"$f":"SUM(((((J143+S143)/2)*G143)*E143))","v":0}]
[{"$nulls":9},"Exposure",null,null,"Protective Measures",null,null,"Robustness/Resilience",null,null,"Human",null,null,"Economic",null,null,"Psychological"]
[{"$f":"T(A80)","v":"System Owned Ferry Terminals"},null,{"$f":"T(C80)","v":"FS"},{"$f":"SUM(D80)","v":2},{"v":1,"d":"1.0"},null,{"$f":"SUM(G80)","v":{"v":0,"d":"0.0"}},null,null,{"v":0,"d":"0.0"},null,null,{"v":0,"d":"0.0"},null,null,{"v":0,"d":"0.0"},null,null,{"v":0,"d":"0.0"},null,null,{"v":0,"d":"0.0"},null,null,{"v":0,"d":"0.0"}]
[{"$f":"T(A81)","v":""}]
[{"$nulls":4},{"$f":"SUM(E141)","v":{"v":1,"d":"1.0"}},null,{"$f":"SUM(G141)","v":{"v":0,"d":"0.0"}},null,null,{"$f":"SUM((J141+M141+P141)/3)","v":{"v":0,"d":"0.0"}},{"$nulls":8},{"$f":"SUM(((S141*3)+V141+Y141)/5)","v":{"v":0,"d":"0.0"}}]
[]
[{"$f":"T(A139)","v":"Hijack"},{"$nulls":3},"Threat",null,"Criticality",null,null,"Vulnerability",{"$nulls":8},"Consequence",{"$nulls":8},{"$f":"SUM(((((J149+S149)/2)*G149)*E149))","v":0}]
[{"$nulls":9},"Exposure",null,null,"Protective Measures",null,null,"Robustness/Resilience",null,null,"Human",null,null,"Economic",null,null,"Psychological"]
[{"$f":"T(A86)","v":"Parking Structures"},null,{"$f":"T(C86)","v":"FS"},{"$f":"SUM(D86)","v":3},{"v":1,"d":"1.0"},null,{"$f":"SUM(G86)","v":{"v":0,"d":"0.0"}},null,null,{"v":0,"d":"0.0"},null,null,{"v":0,"d":"0.0"},null,null,{"v":0,"d":"0.0"},null,null,{"v":0,"d":"0.0"},null,null,{"v":0,"d":"0.0"},null,null,{"v":0,"d":"0.0"}]
[{"$f":"T(A87)","v":""}]
[{"$nulls":4},{"$f":"SUM(E147)","v":{"v":1,"d":"1.0"}},null,{"$f":"SUM(G147)","v":{"v":0,"d":"0.0"}},null,null,{"$f":"SUM((J147+M147+P147)/3)","v":{"v":0,"d":"0.0"}},{"$nulls":8},{"$f":"SUM(((S147*3)+V147+Y147)/5)","v":{"v":0,"d":"0.0"}}]
[]
[{"$f":"T(A145)","v":"Hijack"},{"$nulls":3},"Threat",null,"Criticality",null,null,"Vulnerability",{"$nulls":8},"Consequence",{"$nulls":8},{"$f":"SUM(((((J155+S155)/2)*G155)*E155))","v":0}]
[{"$nulls":9},"Exposure",null,null,"Protective Measures",null,null,"Robustness/Resilience",null,null,"Human",null,null,"Economic",null,null,"Psychological"]
[{"$f":"T(A92)","v":"Ferry Vessel - Type 1"},null,{"$f":"T(C92)","v":"FS"},{"$f":"SUM(D92)","v":4},{"v":1,"d":"1.0"},null,{"$f":"SUM(G92)","v":{"v":0,"d":"0.0"}},null,null,{"v":0,"d":"0.0"},null,null,{"v":0,"d":"0.0"},null,null,{"v":0,"d":"0.0"},null,null,{"v":0,"d":"0.0"},null,null,{"v":0,"d":"0.0"},null,null,{"v":0,"d":"0.0"}]
[{"$f":"T(A93)","v":""}]
[{"$nulls":4},{"$f":"SUM(E153)","v":{"v":1,"d":"1.0"}},null,{"$f":"SUM(G153)","v":{"v":0,"d":"0.0"}},null,null,{"$f":"SUM((J153+M153+P153)/3)","v":{"v":0,"d":"0.0"}},{"$nulls":8},{"$f":"SUM(((S153*3)+V153+Y153)/5)","v":{"v":0,"d":"0.0"}}]
[]
[{"$f":"T(A151)","v":"Hijack"},{"$nulls":3},"Threat",null,"Criticality",null,null,"Vulnerability",{"$nulls":8},"Consequence",{"$nulls":8},{"$f":"SUM(((((J161+S161)/2)*G161)*E161))","v":0}]
[{"$nulls":9},"Exposure",null,null,"Protective Measures",null,null,"Robustness/Resilience",null,null,"Human",null,null,"Economic",null,null,"Psychological"]
[{"$f":"T(A98)","v":"Ferry Vessel - Type 2"},null,{"$f":"T(C98)","v":"FS"},{"$f":"SUM(D98)","v":5},{"v":1,"d":"1.0"},null,{"$f":"SUM(G98)","v":{"v":0,"d":"0.0"}},null,null,{"v":0,"d":"0.0"},null,null,{"v":0,"d":"0.0"},null,null,{"v":0,"d":"0.0"},null,null,{"v":0,"d":"0.0"},null,null,{"v":0,"d":"0.0"},null,null,{"v":0,"d":"0.0"}]
[{"$f":"T(A99)","v":""}]
[{"$nulls":4},{"$f":"SUM(E159)","v":{"v":1,"d":"1.0"}},null,{"$f":"SUM(G159)","v":{"v":0,"d":"0.0"}},null,null,{"$f":"SUM((J159+M159+P159)/3)","v":{"v":0,"d":"0.0"}},{"$nulls":8},{"$f":"SUM(((S159*3)+V159+Y159)/5)","v":{"v":0,"d":"0.0"}}]
[]
[{"$f":"T(A157)","v":"Hijack"},{"$nulls":3},"Threat",null,"Criticality",null,null,"Vulnerability",{"$nulls":8},"Consequence",{"$nulls":8},{"$f":"SUM(((((J167+S167)/2)*G167)*E167))","v":0}]
[{"$nulls":9},"Exposure",null,null,"Protective Measures",null,null,"Robustness/Resilience",null,null,"Human",null,null,"Economic",null,null,"Psychological"]
[{"$f":"T(A104)","v":"Primary Control Center"},null,{"$f":"T(C104)","v":"FS"},{"$f":"SUM(D104)","v":6},{"v":1,"d":"1.0"},null,{"$f":"SUM(G104)","v":{"v":0,"d":"0.0"}},null,null,{"v":0,"d":"0.0"},null,null,{"v":0,"d":"0.0"},null,null,{"v":0,"d":"0.0"},null,null,{"v":0,"d":"0.0"},null,null,{"v":0,"d":"0.0"},null,null,{"v":0,"d":"0.0"}]
[{"$f":"T(A105)","v":""}]
[{"$nulls":4},{"$f":"SUM(E165)","v":{"v":1,"d":"1.0"}},null,{"$f":"SUM(G165)","v":{"v":0,"d":"0.0"}},null,null,{"$f":"SUM((J165+M165+P165)/3)","v":{"v":0,"d":"0.0"}},{"$nulls":8},{"$f":"SUM(((S165*3)+V165+Y165)/5)","v":{"v":0,"d":"0.0"}}]
[]
[{"$f":"T(A163)","v":"Hijack"},{"$nulls":3},"Threat",null,"Criticality",null,null,"Vulnerability",{"$nulls":8},"Consequence",{"$nulls":8},{"$f":"SUM(((((J173+S173)/2)*G173)*E173))","v":0}]
[{"$nulls":9},"Exposure",null,null,"Protective Measures",null,null,"Robustness/Resilience",null,null,"Human",null,null,"Economic",null,null,"Psychological"]
[{"$f":"T(A110)","v":"Cyber Systems"},null,{"$f":"T(C110)","v":"FS"},{"$f":"SUM(D110)","v":7},{"v":1,"d":"1.0"},null,{"$f":"SUM(G110)","v":{"v":0,"d":"0.0"}},null,null,{"v":0,"d":"0.0"},null,null,{"v":0,"d":"0.0"},null,null,{"v":0,"d":"0.0"},null,null,{"v":0,"d":"0.0"},null,null,{"v":0,"d":"0.0"},null,null,{"v":0,"d":"0.0"}]
[{"$f":"T(A111)","v":""}]
[{"$nulls":4},{"$f":"SUM(E171)","v":{"v":1,"d":"1.0"}},null,{"$f":"SUM(G171)","v":{"v":0,"d":"0.0"}},null,null,{"$f":"SUM((J171+M171+P171)/3)","v":{"v":0,"d":"0.0"}},{"$nulls":8},{"$f":"SUM(((S171*3)+V171+Y171)/5)","v":{"v":0,"d":"0.0"}}]
[]
[{"$f":"T(A163)","v":"Hijack"},{"$nulls":3},"Threat",null,"Criticality",null,null,"Vulnerability",{"$nulls":8},"Consequence",{"$nulls":8},{"$f":"SUM(((((J179+S179)/2)*G179)*E179))","v":0}]
[{"$nulls":9},"Exposure",null,null,"Protective Measures",null,null,"Robustness/Resilience",null,null,"Human",null,null,"Economic",null,null,"Psychological"]
[{"$f":"T(A116)","v":"Aids to Navigation"},null,{"$f":"T(C116)","v":"FS"},{"$f":"SUM(D116)","v":8},{"v":1,"d":"1.0"},null,{"$f":"SUM(G116)","v":{"v":0,"d":"0.0"}},null,null,{"v":0,"d":"0.0"},null,null,{"v":0,"d":"0.0"},null,null,{"v":0,"d":"0.0"},null,null,{"v":0,"d":"0.0"},null,null,{"v":0,"d":"0.0"},null,null,{"v":0,"d":"0.0"}]
[{"$f":"T(A117)","v":""}]
[{"$nulls":4},{"$f":"SUM(E177)","v":{"v":1,"d":"1.0"}},null,{"$f":"SUM(G177)","v":{"v":0,"d":"0.0"}},null,null,{"$f":"SUM((J177+M177+P177)/3)","v":{"v":0,"d":"0.0"}},{"$nulls":8},{"$f":"SUM(((S177*3)+V177+Y177)/5)","v":{"v":0,"d":"0.0"}}]
[]
[{"$f":"T(A163)","v":"Hijack"},{"$nulls":3},"Threat",null,"Criticality",null,null,"Vulnerability",{"$nulls":8},"Consequence",{"$nulls":8},{"$f":"SUM(((((J185+S185)/2)*G185)*E185))","v":0}]
[{"$nulls":9},"Exposure",null,null,"Protective Measures",null,null,"Robustness/Resilience",null,null,"Human",null,null,"Economic",null,null,"Psychological"]
[{"$f":"T(A122)","v":"Support Craft"},null,{"$f":"T(C122)","v":"FS"},{"$f":"SUM(D122)","v":9},{"v":1,"d":"1.0"},null,{"$f":"SUM(G122)","v":{"v":0,"d":"0.0"}},null,null,{"v":0,"d":"0.0"},null,null,{"v":0,"d":"0.0"},null,null,{"v":0,"d":"0.0"},null,null,{"v":0,"d":"0.0"},null,null,{"v":0,"d":"0.0"},null,null,{"v":0,"d":"0.0"}]
[{"$f":"T(A123)","v":""}]
[{"$nulls":4},{"$f":"SUM(E183)","v":{"v":1,"d":"1.0"}},null,{"$f":"SUM(G183)","v":{"v":0,"d":"0.0"}},null,null,{"$f":"SUM((J183+M183+P183)/3)","v":{"v":0,"d":"0.0"}},{"$nulls":8},{"$f":"SUM(((S183*3)+V183+Y183)/5)","v":{"v":0,"d":"0.0"}}]
[]
[{"$f":"T(A181)","v":"Hijack"},{"$nulls":3},"Threat",null,"Criticality",null,null,"Vulnerability",{"$nulls":8},"Consequence",{"$nulls":8},{"$f":"SUM(((((J191+S191)/2)*G191)*E191))","v":0}]
[{"$nulls":9},"Exposure",null,null,"Protective Measures",null,null,"Robustness/Resilience",null,null,"Human",null,null,"Economic",null,null,"Psychological"]
[{"$f":"T(A128)","v":"Maintenance Facilities"},null,{"$f":"T(C128)","v":"FS"},{"$f":"SUM(D128)","v":10},{"v":1,"d":"1.0"},null,{"$f":"SUM(G128)","v":{"v":0,"d":"0.0"}},null,null,{"v":0,"d":"0.0"},null,null,{"v":0,"d":"0.0"},null,null,{"v":0,"d":"0.0"},null,null,{"v":0,"d":"0.0"},null,null,{"v":0,"d":"0.0"},null,null,{"v":0,"d":"0.0"}]
[{"$f":"T(A129)","v":""}]
[{"$nulls":4},{"$f":"SUM(E189)","v":{"v":1,"d":"1.0"}},null,{"$f":"SUM(G189)","v":{"v":0,"d":"0.0"}},null,null,{"$f":"SUM((J189+M189+P189)/3)","v":{"v":0,"d":"0.0"}},{"$nulls":8},{"$f":"SUM(((S189*3)+V189+Y189)/5)","v":{"v":0,"d":"0.0"}}]
[]
[{"$f":"T(Definitions!D22)","v":"Coordinated Complex Attack"}]
[{"$f":"T(A193)","v":"Coordinated Complex Attack"},{"$nulls":3},"Threat",null,"Criticality",null,null,"Vulnerability",{"$nulls":8},"Consequence",{"$nulls":8},{"$f":"SUM(((((J198+S198)/2)*G198)*E198))","v":0}]
[{"$nulls":9},"Exposure",null,null,"Protective Measures",null,null,"Robustness/Resilience",null,null,"Human",null,null,"Economic",null,null,"Psychological"]
[{"$f":"T(A135)","v":"Headquarters Building"},null,{"$f":"T(C135)","v":"FS"},{"$f":"SUM(D135)","v":1},{"v":1,"d":"1.0"},null,{"$f":"SUM(G135)","v":{"v":0,"d":"0.0"}},null,null,{"v":0,"d":"0.0"},null,null,{"v":0,"d":"0.0"},null,null,{"v":0,"d":"0.0"},null,null,{"v":0,"d":"0.0"},null,null,{"v":0,"d":"0.0"},null,null,{"v":0,"d":"0.0"}]
[{"$f":"T(A136)","v":""}]
[{"$nulls":4},{"$f":"SUM(E196)","v":{"v":1,"d":"1.0"}},null,{"$f":"SUM(G196)","v":{"v":0,"d":"0.0"}},null,null,{"$f":"SUM((J196+M196+P196)/3)","v":{"v":0,"d":"0.0"}},{"$nulls":8},{"$f":"SUM(((S196*3)+V196+Y196)/5)","v":{"v":0,"d":"0.0"}}]
[]
[{"$f":"T(A193)","v":"Coordinated Complex Attack"},{"$nulls":3},"Threat",null,"Criticality",null,null,"Vulnerability",{"$nulls":8},"Consequence",{"$nulls":8},{"$f":"SUM(((((J204+S204)/2)*G204)*E204))","v":0}]
[{"$nulls":9},"Exposure",null,null,"Protective Measures",null,null,"Robustness/Resilience",null,null,"Human",null,null,"Economic",null,null,"Psychological"]
[{"$f":"T(A141)","v":"System Owned Ferry Terminals"},null,{"$f":"T(C141)","v":"FS"},{"$f":"SUM(D141)","v":2},{"v":1,"d":"1.0"},null,{"$f":"SUM(G141)","v":{"v":0,"d":"0.0"}},null,null,{"v":0,"d":"0.0"},null,null,{"v":0,"d":"0.0"},null,null,{"v":0,"d":"0.0"},null,null,{"v":0,"d":"0.0"},null,null,{"v":0,"d":"0.0"},null,null,{"v":0,"d":"0.0"}]
[{"$f":"T(A142)","v":""}]
[{"$nulls":4},{"$f":"SUM(E202)","v":{"v":1,"d":"1.0"}},null,{"$f":"SUM(G202)","v":{"v":0,"d":"0.0"}},null,null,{"$f":"SUM((J202+M202+P202)/3)","v":{"v":0,"d":"0.0"}},{"$nulls":8},{"$f":"SUM(((S202*3)+V202+Y202)/5)","v":{"v":0,"d":"0.0"}}]
[]
[{"$f":"T(A200)","v":"Coordinated Complex Attack"},{"$nulls":3},"Threat",null,"Criticality",null,null,"Vulnerability",{"$nulls":8},"Consequence",{"$nulls":8},{"$f":"SUM(((((J210+S210)/2)*G210)*E210))","v":0}]
[{"$nulls":9},"Exposure",null,null,"Protective Measures",null,null,"Robustness/Resilience",null,null,"Human",null,null,"Economic",null,null,"Psychological"]
[{"$f":"T(A147)","v":"Parking Structures"},null,{"$f":"T(C147)","v":"FS"},{"$f":"SUM(D147)","v":3},{"v":1,"d":"1.0"},null,{"$f":"SUM(G147)","v":{"v":0,"d":"0.0"}},null,null,{"v":0,"d":"0.0"},null,null,{"v":0,"d":"0.0"},null,null,{"v":0,"d":"0.0"},null,null,{"v":0,"d":"0.0"},null,null,{"v":0,"d":"0.0"},null,null,{"v":0,"d":"0.0"}]
[{"$f":"T(A148)","v":""}]
[{"$nulls":4},{"$f":"SUM(E208)","v":{"v":1,"d":"1.0"}},null,{"$f":"SUM(G208)","v":{"v":0,"d":"0.0"}},null,null,{"$f":"SUM((J208+M208+P208)/3)","v":{"v":0,"d":"0.0"}},{"$nulls":8},{"$f":"SUM(((S208*3)+V208+Y208)/5)","v":{"v":0,"d":"0.0"}}]
[]
[{"$f":"T(A206)","v":"Coordinated Complex Attack"},{"$nulls":3},"Threat",null,"Criticality",null,null,"Vulnerability",{"$nulls":8},"Consequence",{"$nulls":8},{"$f":"SUM(((((J216+S216)/2)*G216)*E216))","v":0}]
[{"$nulls":9},"Exposure",null,null,"Protective Measures",null,null,"Robustness/Resilience",null,null,"Human",null,null,"Economic",null,null,"Psychological"]
[{"$f":"T(A153)","v":"Ferry Vessel - Type 1"},null,{"$f":"T(C153)","v":"FS"},{"$f":"SUM(D153)","v":4},{"v":1,"d":"1.0"},null,{"$f":"SUM(G153)","v":{"v":0,"d":"0.0"}},null,null,{"v":0,"d":"0.0"},null,null,{"v":0,"d":"0.0"},null,null,{"v":0,"d":"0.0"},null,null,{"v":0,"d":"0.0"},null,null,{"v":0,"d":"0.0"},null,null,{"v":0,"d":"0.0"}]
[{"$f":"T(A154)","v":""}]
[{"$nulls":4},{"$f":"SUM(E214)","v":{"v":1,"d":"1.0"}},null,{"$f":"SUM(G214)","v":{"v":0,"d":"0.0"}},null,null,{"$f":"SUM((J214+M214+P214)/3)","v":{"v":0,"d":"0.0"}},{"$nulls":8},{"$f":"SUM(((S214*3)+V214+Y214)/5)","v":{"v":0,"d":"0.0"}}]
[]
[{"$f":"T(A212)","v":"Coordinated Complex Attack"},{"$nulls":3},"Threat",null,"Criticality",null,null,"Vulnerability",{"$nulls":8},"Consequence",{"$nulls":8},{"$f":"SUM(((((J222+S222)/2)*G222)*E222))","v":0}]
[{"$nulls":9},"Exposure",null,null,"Protective Measures",null,null,"Robustness/Resilience",null,null,"Human",null,null,"Economic",null,null,"Psychological"]
[{"$f":"T(A159)","v":"Ferry Vessel - Type 2"},null,{"$f":"T(C159)","v":"FS"},{"$f":"SUM(D159)","v":5},{"v":1,"d":"1.0"},null,{"$f":"SUM(G159)","v":{"v":0,"d":"0.0"}},null,null,{"v":0,"d":"0.0"},null,null,{"v":0,"d":"0.0"},null,null,{"v":0,"d":"0.0"},null,null,{"v":0,"d":"0.0"},null,null,{"v":0,"d":"0.0"},null,null,{"v":0,"d":"0.0"}]
[{"$f":"T(A160)","v":""}]
[{"$nulls":4},{"$f":"SUM(E220)","v":{"v":1,"d":"1.0"}},null,{"$f":"SUM(G220)","v":{"v":0,"d":"0.0"}},null,null,{"$f":"SUM((J220+M220+P220)/3)","v":{"v":0,"d":"0.0"}},{"$nulls":8},{"$f":"SUM(((S220*3)+V220+Y220)/5)","v":{"v":0,"d":"0.0"}}]
[]
[{"$f":"T(A218)","v":"Coordinated Complex Attack"},{"$nulls":3},"Threat",null,"Criticality",null,null,"Vulnerability",{"$nulls":8},"Consequence",{"$nulls":8},{"$f":"SUM(((((J228+S228)/2)*G228)*E228))","v":0}]
[{"$nulls":9},"Exposure",null,null,"Protective Measures",null,null,"Robustness/Resilience",null,null,"Human",null,null,"Economic",null,null,"Psychological"]
[{"$f":"T(A165)","v":"Primary Control Center"},null,{"$f":"T(C165)","v":"FS"},{"$f":"SUM(D165)","v":6},{"v":1,"d":"1.0"},null,{"$f":"SUM(G165)","v":{"v":0,"d":"0.0"}},null,null,{"v":0,"d":"0.0"},null,null,{"v":0,"d":"0.0"},null,null,{"v":0,"d":"0.0"},null,null,{"v":0,"d":"0.0"},null,null,{"v":0,"d":"0.0"},null,null,{"v":0,"d":"0.0"}]
[{"$f":"T(A166)","v":""}]
[{"$nulls":4},{"$f":"SUM(E226)","v":{"v":1,"d":"1.0"}},null,{"$f":"SUM(G226)","v":{"v":0,"d":"0.0"}},null,null,{"$f":"SUM((J226+M226+P226)/3)","v":{"v":0,"d":"0.0"}},{"$nulls":8},{"$f":"SUM(((S226*3)+V226+Y226)/5)","v":{"v":0,"d":"0.0"}}]
[]
[{"$f":"T(A224)","v":"Coordinated Complex Attack"},{"$nulls":3},"Threat",null,"Criticality",null,null,"Vulnerability",{"$nulls":8},"Consequence",{"$nulls":8},{"$f":"SUM(((((J234+S234)/2)*G234)*E234))","v":0}]
[{"$nulls":9},"Exposure",null,null,"Protective Measures",null,null,"Robustness/Resilience",null,null,"Human",null,null,"Economic",null,null,"Psychological"]
[{"$f":"T(A171)","v":"Cyber Systems"},null,{"$f":"T(C171)","v":"FS"},{"$f":"SUM(D171)","v":7},{"v":1,"d":"1.0"},null,{"$f":"SUM(G171)","v":{"v":0,"d":"0.0"}},null,null,{"v":0,"d":"0.0"},null,null,{"v":0,"d":"0.0"},null,null,{"v":0,"d":"0.0"},null,null,{"v":0,"d":"0.0"},null,null,{"v":0,"d":"0.0"},null,null,{"v":0,"d":"0.0"}]
[{"$f":"T(A172)","v":""}]
[{"$nulls":4},{"$f":"SUM(E232)","v":{"v":1,"d":"1.0"}},null,{"$f":"SUM(G232)","v":{"v":0,"d":"0.0"}},null,null,{"$f":"SUM((J232+M232+P232)/3)","v":{"v":0,"d":"0.0"}},{"$nulls":8},{"$f":"SUM(((S232*3)+V232+Y232)/5)","v":{"v":0,"d":"0.0"}}]
[]
[{"$f":"T(A224)","v":"Coordinated Complex Attack"},{"$nulls":3},"Threat",null,"Criticality",null,null,"Vulnerability",{"$nulls":8},"Consequence",{"$nulls":8},{"$f":"SUM(((((J240+S240)/2)*G240)*E240))","v":0}]
[{"$nulls":9},"Exposure",null,null,"Protective Measures",null,null,"Robustness/Resilience",null,null,"Human",null,null,"Economic",null,null,"Psychological"]
[{"$f":"T(A177)","v":"Aids to Navigation"},null,{"$f":"T(C177)","v":"FS"},{"$f":"SUM(D177)","v":8},{"v":1,"d":"1.0"},null,{"$f":"SUM(G177)","v":{"v":0,"d":"0.0"}},null,null,{"v":0,"d":"0.0"},null,null,{"v":0,"d":"0.0"},null,null,{"v":0,"d":"0.0"},null,null,{"v":0,"d":"0.0"},null,null,{"v":0,"d":"0.0"},null,null,{"v":0,"d":"0.0"}]
[{"$f":"T(A178)","v":""}]
[{"$nulls":4},{"$f":"SUM(E238)","v":{"v":1,"d":"1.0"}},null,{"$f":"SUM(G238)","v":{"v":0,"d":"0.0"}},null,null,{"$f":"SUM((J238+M238+P238)/3)","v":{"v":0,"d":"0.0"}},{"$nulls":8},{"$f":"SUM(((S238*3)+V238+Y238)/5)","v":{"v":0,"d":"0.0"}}]
[]
[{"$f":"T(A224)","v":"Coordinated Complex Attack"},{"$nulls":3},"Threat",null,"Criticality",null,null,"Vulnerability",{"$nulls":8},"Consequence",{"$nulls":8},{"$f":"SUM(((((J246+S246)/2)*G246)*E246))","v":0}]
[{"$nulls":9},"Exposure",null,null,"Protective Measures",null,null,"Robustness/Resilience",null,null,"Human",null,null,"Economic",null,null,"Psychological"]
[{"$f":"T(A183)","v":"Support Craft"},null,{"$f":"T(C183)","v":"FS"},{"$f":"SUM(D183)","v":9},{"v":1,"d":"1.0"},null,{"$f":"SUM(G183)","v":{"v":0,"d":"0.0"}},null,null,{"v":0,"d":"0.0"},null,null,{"v":0,"d":"0.0"},null,null,{"v":0,"d":"0.0"},null,null,{"v":0,"d":"0.0"},null,null,{"v":0,"d":"0.0"},null,null,{"v":0,"d":"0.0"}]
[{"$f":"T(A184)","v":""}]
[{"$nulls":4},{"$f":"SUM(E244)","v":{"v":1,"d":"1.0"}},null,{"$f":"SUM(G244)","v":{"v":0,"d":"0.0"}},null,null,{"$f":"SUM((J244+M244+P244)/3)","v":{"v":0,"d":"0.0"}},{"$nulls":8},{"$f":"SUM(((S244*3)+V244+Y244)/5)","v":{"v":0,"d":"0.0"}}]
[]
[{"$f":"T(A230)","v":"Coordinated Complex Attack"},{"$nulls":3},"Threat",null,"Criticality",null,null,"Vulnerability",{"$nulls":8},"Consequence",{"$nulls":8},{"$f":"SUM(((((J252+S252)/2)*G252)*E252))","v":0}]
[{"$nulls":9},"Exposure",null,null,"Protective Measures",null,null,"Robustness/Resilience",null,null,"Human",null,null,"Economic",null,null,"Psychological"]
[{"$f":"T(A189)","v":"Maintenance Facilities"},null,{"$f":"T(C189)","v":"FS"},{"$f":"SUM(D189)","v":10},{"v":1,"d":"1.0"},null,{"$f":"SUM(G189)","v":{"v":0,"d":"0.0"}},null,null,{"v":0,"d":"0.0"},null,null,{"v":0,"d":"0.0"},null,null,{"v":0,"d":"0.0"},null,null,{"v":0,"d":"0.0"},null,null,{"v":0,"d":"0.0"},null,null,{"v":0,"d":"0.0"}]
[{"$f":"T(A190)","v":""}]
[{"$nulls":4},{"$f":"SUM(E250)","v":{"v":1,"d":"1.0"}},null,{"$f":"SUM(G250)","v":{"v":0,"d":"0.0"}},null,null,{"$f":"SUM((J250+M250+P250)/3)","v":{"v":0,"d":"0.0"}},{"$nulls":8},{"$f":"SUM(((S250*3)+V250+Y250)/5)","v":{"v":0,"d":"0.0"}}]
[]
[{"$f":"T(Definitions!D23)","v":"Cyber Attack"}]
[{"$f":"T(A254)","v":"Cyber Attack"},{"$nulls":3},"Threat",null,"Criticality",null,null,"Vulnerability",{"$nulls":8},"Consequence",{"$nulls":8},{"$f":"SUM(((((J259+S259)/2)*G259)*E259))","v":0}]
[{"$nulls":9},"Exposure",null,null,"Protective Measures",null,null,"Robustness/Resilience",null,null,"Human",null,null,"Economic",null,null,"Psychological"]
[{"$f":"T(A196)","v":"Headquarters Building"},null,{"$f":"T(C196)","v":"FS"},{"$f":"SUM(D196)","v":1},{"v":1,"d":"1.0"},null,{"$f":"SUM(G196)","v":{"v":0,"d":"0.0"}},null,null,{"v":0,"d":"0.0"},null,null,{"v":0,"d":"0.0"},null,null,{"v":0,"d":"0.0"},null,null,{"v":0,"d":"0.0"},null,null,{"v":0,"d":"0.0"},null,null,{"v":0,"d":"0.0"}]
[{"$f":"T(A197)","v":""}]
[{"$nulls":4},{"$f":"SUM(E257)","v":{"v":1,"d":"1.0"}},null,{"$f":"SUM(G257)","v":{"v":0,"d":"0.0"}},null,null,{"$f":"SUM((J257+M257+P257)/3)","v":{"v":0,"d":"0.0"}},{"$nulls":8},{"$f":"SUM(((S257*3)+V257+Y257)/5)","v":{"v":0,"d":"0.0"}}]
[]
[{"$f":"T(A254)","v":"Cyber Attack"},{"$nulls":3},"Threat",null,"Criticality",null,null,"Vulnerability",{"$nulls":8},"Consequence",{"$nulls":8},{"$f":"SUM(((((J265+S265)/2)*G265)*E265))","v":0}]
[{"$nulls":9},"Exposure",null,null,"Protective Measures",null,null,"Robustness/Resilience",null,null,"Human",null,null,"Economic",null,null,"Psychological"]
[{"$f":"T(A202)","v":"System Owned Ferry Terminals"},null,{"$f":"T(C202)","v":"FS"},{"$f":"SUM(D202)","v":2},{"v":1,"d":"1.0"},null,{"$f":"SUM(G202)","v":{"v":0,"d":"0.0"}},null,null,{"v":0,"d":"0.0"},null,null,{"v":0,"d":"0.0"},null,null,{"v":0,"d":"0.0"},null,null,{"v":0,"d":"0.0"},null,null,{"v":0,"d":"0.0"},null,null,{"v":0,"d":"0.0"}]
[{"$f":"T(A203)","v":""}]
[{"$nulls":4},{"$f":"SUM(E263)","v":{"v":1,"d":"1.0"}},null,{"$f":"SUM(G263)","v":{"v":0,"d":"0.0"}},null,null,{"$f":"SUM((J263+M263+P263)/3)","v":{"v":0,"d":"0.0"}},{"$nulls":8},{"$f":"SUM(((S263*3)+V263+Y263)/5)","v":{"v":0,"d":"0.0"}}]
[]
[{"$f":"T(A261)","v":"Cyber Attack"},{"$nulls":3},"Threat",null,"Criticality",null,null,"Vulnerability",{"$nulls":8},"Consequence",{"$nulls":8},{"$f":"SUM(((((J271+S271)/2)*G271)*E271))","v":0}]
[{"$nulls":9},"Exposure",null,null,"Protective Measures",null,null,"Robustness/Resilience",null,null,"Human",null,null,"Economic",null,null,"Psychological"]
[{"$f":"T(A208)","v":"Parking Structures"},null,{"$f":"T(C208)","v":"FS"},{"$f":"SUM(D208)","v":3},{"v":1,"d":"1.0"},null,{"$f":"SUM(G208)","v":{"v":0,"d":"0.0"}},null,null,{"v":0,"d":"0.0"},null,null,{"v":0,"d":"0.0"},null,null,{"v":0,"d":"0.0"},null,null,{"v":0,"d":"0.0"},null,null,{"v":0,"d":"0.0"},null,null,{"v":0,"d":"0.0"}]
[{"$f":"T(A209)","v":""}]
[{"$nulls":4},{"$f":"SUM(E269)","v":{"v":1,"d":"1.0"}},null,{"$f":"SUM(G269)","v":{"v":0,"d":"0.0"}},null,null,{"$f":"SUM((J269+M269+P269)/3)","v":{"v":0,"d":"0.0"}},{"$nulls":8},{"$f":"SUM(((S269*3)+V269+Y269)/5)","v":{"v":0,"d":"0.0"}}]
[]
[{"$f":"T(A267)","v":"Cyber Attack"},{"$nulls":3},"Threat",null,"Criticality",null,null,"Vulnerability",{"$nulls":8},"Consequence",{"$nulls":8},{"$f":"SUM(((((J277+S277)/2)*G277)*E277))","v":0}]
[{"$nulls":9},"Exposure",null,null,"Protective Measures",null,null,"Robustness/Resilience",null,null,"Human",null,null,"Economic",null,null,"Psychological"]
[{"$f":"T(A214)","v":"Ferry Vessel - Type 1"},null,{"$f":"T(C214)","v":"FS"},{"$f":"SUM(D214)","v":4},{"v":1,"d":"1.0"},null,{"$f":"SUM(G214)","v":{"v":0,"d":"0.0"}},null,null,{"v":0,"d":"0.0"},null,null,{"v":0,"d":"0.0"},null,null,{"v":0,"d":"0.0"},null,null,{"v":0,"d":"0.0"},null,null,{"v":0,"d":"0.0"},null,null,{"v":0,"d":"0.0"}]
[{"$f":"T(A215)","v":""}]
[{"$nulls":4},{"$f":"SUM(E275)","v":{"v":1,"d":"1.0"}},null,{"$f":"SUM(G275)","v":{"v":0,"d":"0.0"}},null,null,{"$f":"SUM((J275+M275+P275)/3)","v":{"v":0,"d":"0.0"}},{"$nulls":8},{"$f":"SUM(((S275*3)+V275+Y275)/5)","v":{"v":0,"d":"0.0"}}]
[]
[{"$f":"T(A273)","v":"Cyber Attack"},{"$nulls":3},"Threat",null,"Criticality",null,null,"Vulnerability",{"$nulls":8},"Consequence",{"$nulls":8},{"$f":"SUM(((((J283+S283)/2)*G283)*E283))","v":0}]
[{"$nulls":9},"Exposure",null,null,"Protective Measures",null,null,"Robustness/Resilience",null,null,"Human",null,null,"Economic",null,null,"Psychological"]
[{"$f":"T(A220)","v":"Ferry Vessel - Type 2"},null,{"$f":"T(C220)","v":"FS"},{"$f":"SUM(D220)","v":5},{"v":1,"d":"1.0"},null,{"$f":"SUM(G220)","v":{"v":0,"d":"0.0"}},null,null,{"v":0,"d":"0.0"},null,null,{"v":0,"d":"0.0"},null,null,{"v":0,"d":"0.0"},null,null,{"v":0,"d":"0.0"},null,null,{"v":0,"d":"0.0"},null,null,{"v":0,"d":"0.0"}]
[{"$f":"T(A221)","v":""}]
[{"$nulls":4},{"$f":"SUM(E281)","v":{"v":1,"d":"1.0"}},null,{"$f":"SUM(G281)","v":{"v":0,"d":"0.0"}},null,null,{"$f":"SUM((J281+M281+P281)/3)","v":{"v":0,"d":"0.0"}},{"$nulls":8},{"$f":"SUM(((S281*3)+V281+Y281)/5)","v":{"v":0,"d":"0.0"}}]
[]
[{"$f":"T(A279)","v":"Cyber Attack"},{"$nulls":3},"Threat",null,"Criticality",null,null,"Vulnerability",{"$nulls":8},"Consequence",{"$nulls":8},{"$f":"SUM(((((J289+S289)/2)*G289)*E289))","v":0}]
[{"$nulls":9},"Exposure",null,null,"Protective Measures",null,null,"Robustness/Resilience",null,null,"Human",null,null,"Economic",null,null,"Psychological"]
[{"$f":"T(A226)","v":"Primary Control Center"},null,{"$f":"T(C226)","v":"FS"},{"$f":"SUM(D226)","v":6},{"v":1,"d":"1.0"},null,{"$f":"SUM(G226)","v":{"v":0,"d":"0.0"}},null,null,{"v":0,"d":"0.0"},null,null,{"v":0,"d":"0.0"},null,null,{"v":0,"d":"0.0"},null,null,{"v":0,"d":"0.0"},null,null,{"v":0,"d":"0.0"},null,null,{"v":0,"d":"0.0"}]
[{"$f":"T(A227)","v":""}]
[{"$nulls":4},{"$f":"SUM(E287)","v":{"v":1,"d":"1.0"}},null,{"$f":"SUM(G287)","v":{"v":0,"d":"0.0"}},null,null,{"$f":"SUM((J287+M287+P287)/3)","v":{"v":0,"d":"0.0"}},{"$nulls":8},{"$f":"SUM(((S287*3)+V287+Y287)/5)","v":{"v":0,"d":"0.0"}}]
[]
[{"$f":"T(A285)","v":"Cyber Attack"},{"$nulls":3},"Threat",null,"Criticality",null,null,"Vulnerability",{"$nulls":8},"Consequence",{"$nulls":8},{"$f":"SUM(((((J295+S295)/2)*G295)*E295))","v":0}]
[{"$nulls":9},"Exposure",null,null,"Protective Measures",null,null,"Robustness/Resilience",null,null,"Human",null,null,"Economic",null,null,"Psychological"]
[{"$f":"T(A232)","v":"Cyber Systems"},null,{"$f":"T(C232)","v":"FS"},{"$f":"SUM(D232)","v":7},{"v":1,"d":"1.0"},null,{"$f":"SUM(G232)","v":{"v":0,"d":"0.0"}},null,null,{"v":0,"d":"0.0"},null,null,{"v":0,"d":"0.0"},null,null,{"v":0,"d":"0.0"},null,null,{"v":0,"d":"0.0"},null,null,{"v":0,"d":"0.0"},null,null,{"v":0,"d":"0.0"}]
[{"$f":"T(A233)","v":""}]
[{"$nulls":4},{"$f":"SUM(E293)","v":{"v":1,"d":"1.0"}},null,{"$f":"SUM(G293)","v":{"v":0,"d":"0.0"}},null,null,{"$f":"SUM((J293+M293+P293)/3)","v":{"v":0,"d":"0.0"}},{"$nulls":8},{"$f":"SUM(((S293*3)+V293+Y293)/5)","v":{"v":0,"d":"0.0"}}]
[]
[{"$f":"T(A285)","v":"Cyber Attack"},{"$nulls":3},"Threat",null,"Criticality",null,null,"Vulnerability",{"$nulls":8},"Consequence",{"$nulls":8},{"$f":"SUM(((((J301+S301)/2)*G301)*E301))","v":0}]
[{"$nulls":9},"Exposure",null,null,"Protective Measures",null,null,"Robustness/Resilience",null,null,"Human",null,null,"Economic",null,null,"Psychological"]
[{"$f":"T(A238)","v":"Aids to Navigation"},null,{"$f":"T(C238)","v":"FS"},{"$f":"SUM(D238)","v":8},{"v":1,"d":"1.0"},null,{"$f":"SUM(G238)","v":{"v":0,"d":"0.0"}},null,null,{"v":0,"d":"0.0"},null,null,{"v":0,"d":"0.0"},null,null,{"v":0,"d":"0.0"},null,null,{"v":0,"d":"0.0"},null,null,{"v":0,"d":"0.0"},null,null,{"v":0,"d":"0.0"}]
[{"$f":"T(A239)","v":""}]
[{"$nulls":4},{"$f":"SUM(E299)","v":{"v":1,"d":"1.0"}},null,{"$f":"SUM(G299)","v":{"v":0,"d":"0.0"}},null,null,{"$f":"SUM((J299+M299+P299)/3)","v":{"v":0,"d":"0.0"}},{"$nulls":8},{"$f":"SUM(((S299*3)+V299+Y299)/5)","v":{"v":0,"d":"0.0"}}]
[]
[{"$f":"T(A285)","v":"Cyber Attack"},{"$nulls":3},"Threat",null,"Criticality",null,null,"Vulnerability",{"$nulls":8},"Consequence",{"$nulls":8},{"$f":"SUM(((((J307+S307)/2)*G307)*E307))","v":0}]
[{"$nulls":9},"Exposure",null,null,"Protective Measures",null,null,"Robustness/Resilience",null,null,"Human",null,null,"Economic",null,null,"Psychological"]
[{"$f":"T(A244)","v":"Support Craft"},null,{"$f":"T(C244)","v":"FS"},{"$f":"SUM(D244)","v":9},{"v":1,"d":"1.0"},null,{"$f":"SUM(G244)","v":{"v":0,"d":"0.0"}},null,null,{"v":0,"d":"0.0"},null,null,{"v":0,"d":"0.0"},null,null,{"v":0,"d":"0.0"},null,null,{"v":0,"d":"0.0"},null,null,{"v":0,"d":"0.0"},null,null,{"v":0,"d":"0.0"}]
[{"$f":"T(A245)","v":""}]
[{"$nulls":4},{"$f":"SUM(E305)","v":{"v":1,"d":"1.0"}},null,{"$f":"SUM(G305)","v":{"v":0,"d":"0.0"}},null,null,{"$f":"SUM((J305+M305+P305)/3)","v":{"v":0,"d":"0.0"}},{"$nulls":8},{"$f":"SUM(((S305*3)+V305+Y305)/5)","v":{"v":0,"d":"0.0"}}]
[]
[{"$f":"T(A291)","v":"Cyber Attack"},{"$nulls":3},"Threat",null,"Criticality",null,null,"Vulnerability",{"$nulls":8},"Consequence",{"$nulls":8},{"$f":"SUM(((((J313+S313)/2)*G313)*E313))","v":0}]
[{"$nulls":9},"Exposure",null,null,"Protective Measures",null,null,"Robustness/Resilience",null,null,"Human",null,null,"Economic",null,null,"Psychological"]
[{"$f":"T(A250)","v":"Maintenance Facilities"},null,{"$f":"T(C250)","v":"FS"},{"$f":"SUM(D250)","v":10},{"v":1,"d":"1.0"},null,{"$f":"SUM(G250)","v":{"v":0,"d":"0.0"}},null,null,{"v":0,"d":"0.0"},null,null,{"v":0,"d":"0.0"},null,null,{"v":0,"d":"0.0"},null,null,{"v":0,"d":"0.0"},null,null,{"v":0,"d":"0.0"},null,null,{"v":0,"d":"0.0"}]
[{"$f":"T(A251)","v":""}]
[{"$nulls":4},{"$f":"SUM(E311)","v":{"v":1,"d":"1.0"}},null,{"$f":"SUM(G311)","v":{"v":0,"d":"0.0"}},null,null,{"$f":"SUM((J311+M311+P311)/3)","v":{"v":0,"d":"0.0"}},{"$nulls":8},{"$f":"SUM(((S311*3)+V311+Y311)/5)","v":{"v":0,"d":"0.0"}}]
[]
[{"$f":"T(Definitions!D24)","v":"Natural Disaster"}]
[{"$f":"T(A315)","v":"Natural Disaster"},{"$nulls":3},"Threat",null,"Criticality",null,null,"Vulnerability",{"$nulls":8},"Consequence",{"$nulls":8},{"$f":"SUM(((((J320+S320)/2)*G320)*E320))","v":0}]
[{"$nulls":9},"Exposure",null,null,"Protective Measures",null,null,"Robustness/Resilience",null,null,"Human",null,null,"Economic",null,null,"Psychological"]
[{"$f":"T(A257)","v":"Headquarters Building"},null,{"$f":"T(C257)","v":"FS"},{"$f":"SUM(D257)","v":1},{"v":1,"d":"1.0"},null,{"$f":"SUM(G257)","v":{"v":0,"d":"0.0"}},null,null,{"v":0,"d":"0.0"},null,null,{"v":0,"d":"0.0"},null,null,{"v":0,"d":"0.0"},null,null,{"v":0,"d":"0.0"},null,null,{"v":0,"d":"0.0"},null,null,{"v":0,"d":"0.0"}]
[{"$f":"T(A258)","v":""}]
[{"$nulls":4},{"$f":"SUM(E318)","v":{"v":1,"d":"1.0"}},null,{"$f":"SUM(G318)","v":{"v":0,"d":"0.0"}},null,null,{"$f":"SUM((J318+M318+P318)/3)","v":{"v":0,"d":"0.0"}},{"$nulls":8},{"$f":"SUM(((S318*3)+V318+Y318)/5)","v":{"v":0,"d":"0.0"}}]
[]
[{"$f":"T(A315)","v":"Natural Disaster"},{"$nulls":3},"Threat",null,"Criticality",null,null,"Vulnerability",{"$nulls":8},"Consequence",{"$nulls":8},{"$f":"SUM(((((J326+S326)/2)*G326)*E326))","v":0}]
[{"$nulls":9},"Exposure",null,null,"Protective Measures",null,null,"Robustness/Resilience",null,null,"Human",null,null,"Economic",null,null,"Psychological"]
[{"$f":"T(A263)","v":"System Owned Ferry Terminals"},null,{"$f":"T(C263)","v":"FS"},{"$f":"SUM(D263)","v":2},{"v":1,"d":"1.0"},null,{"$f":"SUM(G263)","v":{"v":0,"d":"0.0"}},null,null,{"v":0,"d":"0.0"},null,null,{"v":0,"d":"0.0"},null,null,{"v":0,"d":"0.0"},null,null,{"v":0,"d":"0.0"},null,null,{"v":0,"d":"0.0"},null,null,{"v":0,"d":"0.0"}]
[{"$f":"T(A264)","v":""}]
[{"$nulls":4},{"$f":"SUM(E324)","v":{"v":1,"d":"1.0"}},null,{"$f":"SUM(G324)","v":{"v":0,"d":"0.0"}},null,null,{"$f":"SUM((J324+M324+P324)/3)","v":{"v":0,"d":"0.0"}},{"$nulls":8},{"$f":"SUM(((S324*3)+V324+Y324)/5)","v":{"v":0,"d":"0.0"}}]
[]
[{"$f":"T(A322)","v":"Natural Disaster"},{"$nulls":3},"Threat",null,"Criticality",null,null,"Vulnerability",{"$nulls":8},"Consequence",{"$nulls":8},{"$f":"SUM(((((J332+S332)/2)*G332)*E332))","v":0}]
[{"$nulls":9},"Exposure",null,null,"Protective Measures",null,null,"Robustness/Resilience",null,null,"Human",null,null,"Economic",null,null,"Psychological"]
[{"$f":"T(A269)","v":"Parking Structures"},null,{"$f":"T(C269)","v":"FS"},{"$f":"SUM(D269)","v":3},{"v":1,"d":"1.0"},null,{"$f":"SUM(G269)","v":{"v":0,"d":"0.0"}},null,null,{"v":0,"d":"0.0"},null,null,{"v":0,"d":"0.0"},null,null,{"v":0,"d":"0.0"},null,null,{"v":0,"d":"0.0"},null,null,{"v":0,"d":"0.0"},null,null,{"v":0,"d":"0.0"}]
[{"$f":"T(A270)","v":""}]
[{"$nulls":4},{"$f":"SUM(E330)","v":{"v":1,"d":"1.0"}},null,{"$f":"SUM(G330)","v":{"v":0,"d":"0.0"}},null,null,{"$f":"SUM((J330+M330+P330)/3)","v":{"v":0,"d":"0.0"}},{"$nulls":8},{"$f":"SUM(((S330*3)+V330+Y330)/5)","v":{"v":0,"d":"0.0"}}]
[]
[{"$f":"T(A328)","v":"Natural Disaster"},{"$nulls":3},"Threat",null,"Criticality",null,null,"Vulnerability",{"$nulls":8},"Consequence",{"$nulls":8},{"$f":"SUM(((((J338+S338)/2)*G338)*E338))","v":0}]
[{"$nulls":9},"Exposure",null,null,"Protective Measures",null,null,"Robustness/Resilience",null,null,"Human",null,null,"Economic",null,null,"Psychological"]
[{"$f":"T(A275)","v":"Ferry Vessel - Type 1"},null,{"$f":"T(C275)","v":"FS"},{"$f":"SUM(D275)","v":4},{"v":1,"d":"1.0"},null,{"$f":"SUM(G275)","v":{"v":0,"d":"0.0"}},null,null,{"v":0,"d":"0.0"},null,null,{"v":0,"d":"0.0"},null,null,{"v":0,"d":"0.0"},null,null,{"v":0,"d":"0.0"},null,null,{"v":0,"d":"0.0"},null,null,{"v":0,"d":"0.0"}]
[{"$f":"T(A276)","v":""}]
[{"$nulls":4},{"$f":"SUM(E336)","v":{"v":1,"d":"1.0"}},null,{"$f":"SUM(G336)","v":{"v":0,"d":"0.0"}},null,null,{"$f":"SUM((J336+M336+P336)/3)","v":{"v":0,"d":"0.0"}},{"$nulls":8},{"$f":"SUM(((S336*3)+V336+Y336)/5)","v":{"v":0,"d":"0.0"}}]
[]
[{"$f":"T(A334)","v":"Natural Disaster"},{"$nulls":3},"Threat",null,"Criticality",null,null,"Vulnerability",{"$nulls":8},"Consequence",{"$nulls":8},{"$f":"SUM(((((J344+S344)/2)*G344)*E344))","v":0}]
[{"$nulls":9},"Exposure",null,null,"Protective Measures",null,null,"Robustness/Resilience",null,null,"Human",null,null,"Economic",null,null,"Psychological"]
[{"$f":"T(A281)","v":"Ferry Vessel - Type 2"},null,{"$f":"T(C281)","v":"FS"},{"$f":"SUM(D281)","v":5},{"v":1,"d":"1.0"},null,{"$f":"SUM(G281)","v":{"v":0,"d":"0.0"}},null,null,{"v":0,"d":"0.0"},null,null,{"v":0,"d":"0.0"},null,null,{"v":0,"d":"0.0"},null,null,{"v":0,"d":"0.0"},null,null,{"v":0,"d":"0.0"},null,null,{"v":0,"d":"0.0"}]
[{"$f":"T(A282)","v":""}]
[{"$nulls":4},{"$f":"SUM(E342)","v":{"v":1,"d":"1.0"}},null,{"$f":"SUM(G342)","v":{"v":0,"d":"0.0"}},null,null,{"$f":"SUM((J342+M342+P342)/3)","v":{"v":0,"d":"0.0"}},{"$nulls":8},{"$f":"SUM(((S342*3)+V342+Y342)/5)","v":{"v":0,"d":"0.0"}}]
[]
[{"$f":"T(A340)","v":"Natural Disaster"},{"$nulls":3},"Threat",null,"Criticality",null,null,"Vulnerability",{"$nulls":8},"Consequence",{"$nulls":8},{"$f":"SUM(((((J350+S350)/2)*G350)*E350))","v":0}]
[{"$nulls":9},"Exposure",null,null,"Protective Measures",null,null,"Robustness/Resilience",null,null,"Human",null,null,"Economic",null,null,"Psychological"]
[{"$f":"T(A287)","v":"Primary Control Center"},null,{"$f":"T(C287)","v":"FS"},{"$f":"SUM(D287)","v":6},{"v":1,"d":"1.0"},null,{"$f":"SUM(G287)","v":{"v":0,"d":"0.0"}},null,null,{"v":0,"d":"0.0"},null,null,{"v":0,"d":"0.0"},null,null,{"v":0,"d":"0.0"},null,null,{"v":0,"d":"0.0"},null,null,{"v":0,"d":"0.0"},null,null,{"v":0,"d":"0.0"}]
[{"$f":"T(A288)","v":""}]
[{"$nulls":4},{"$f":"SUM(E348)","v":{"v":1,"d":"1.0"}},null,{"$f":"SUM(G348)","v":{"v":0,"d":"0.0"}},null,null,{"$f":"SUM((J348+M348+P348)/3)","v":{"v":0,"d":"0.0"}},{"$nulls":8},{"$f":"SUM(((S348*3)+V348+Y348)/5)","v":{"v":0,"d":"0.0"}}]
[]
[{"$f":"T(A346)","v":"Natural Disaster"},{"$nulls":3},"Threat",null,"Criticality",null,null,"Vulnerability",{"$nulls":8},"Consequence",{"$nulls":8},{"$f":"SUM(((((J356+S356)/2)*G356)*E356))","v":0}]
[{"$nulls":9},"Exposure",null,null,"Protective Measures",null,null,"Robustness/Resilience",null,null,"Human",null,null,"Economic",null,null,"Psychological"]
[{"$f":"T(A293)","v":"Cyber Systems"},null,{"$f":"T(C293)","v":"FS"},{"$f":"SUM(D293)","v":7},{"v":1,"d":"1.0"},null,{"$f":"SUM(G293)","v":{"v":0,"d":"0.0"}},null,null,{"v":0,"d":"0.0"},null,null,{"v":0,"d":"0.0"},null,null,{"v":0,"d":"0.0"},null,null,{"v":0,"d":"0.0"},null,null,{"v":0,"d":"0.0"},null,null,{"v":0,"d":"0.0"}]
[{"$f":"T(A294)","v":""}]
[{"$nulls":4},{"$f":"SUM(E354)","v":{"v":1,"d":"1.0"}},null,{"$f":"SUM(G354)","v":{"v":0,"d":"0.0"}},null,null,{"$f":"SUM((J354+M354+P354)/3)","v":{"v":0,"d":"0.0"}},{"$nulls":8},{"$f":"SUM(((S354*3)+V354+Y354)/5)","v":{"v":0,"d":"0.0"}}]
[]
[{"$f":"T(A346)","v":"Natural Disaster"},{"$nulls":3},"Threat",null,"Criticality",null,null,"Vulnerability",{"$nulls":8},"Consequence",{"$nulls":8},{"$f":"SUM(((((J362+S362)/2)*G362)*E362))","v":0}]
[{"$nulls":9},"Exposure",null,null,"Protective Measures",null,null,"Robustness/Resilience",null,null,"Human",null,null,"Economic",null,null,"Psychological"]
[{"$f":"T(A299)","v":"Aids to Navigation"},null,{"$f":"T(C299)","v":"FS"},{"$f":"SUM(D299)","v":8},{"v":1,"d":"1.0"},null,{"$f":"SUM(G299)","v":{"v":0,"d":"0.0"}},null,null,{"v":0,"d":"0.0"},null,null,{"v":0,"d":"0.0"},null,null,{"v":0,"d":"0.0"},null,null,{"v":0,"d":"0.0"},null,null,{"v":0,"d":"0.0"},null,null,{"v":0,"d":"0.0"}]
[{"$f":"T(A300)","v":""}]
[{"$nulls":4},{"$f":"SUM(E360)","v":{"v":1,"d":"1.0"}},null,{"$f":"SUM(G360)","v":{"v":0,"d":"0.0"}},null,null,{"$f":"SUM((J360+M360+P360)/3)","v":{"v":0,"d":"0.0"}},{"$nulls":8},{"$f":"SUM(((S360*3)+V360+Y360)/5)","v":{"v":0,"d":"0.0"}}]
[]
[{"$f":"T(A346)","v":"Natural Disaster"},{"$nulls":3},"Threat",null,"Criticality",null,null,"Vulnerability",{"$nulls":8},"Consequence",{"$nulls":8},{"$f":"SUM(((((J368+S368)/2)*G368)*E368))","v":0}]
[{"$nulls":9},"Exposure",null,null,"Protective Measures",null,null,"Robustness/Resilience",null,null,"Human",null,null,"Economic",null,null,"Psychological"]
[{"$f":"T(A305)","v":"Support Craft"},null,{"$f":"T(C305)","v":"FS"},{"$f":"SUM(D305)","v":9},{"v":1,"d":"1.0"},null,{"$f":"SUM(G305)","v":{"v":0,"d":"0.0"}},null,null,{"v":0,"d":"0.0"},null,null,{"v":0,"d":"0.0"},null,null,{"v":0,"d":"0.0"},null,null,{"v":0,"d":"0.0"},null,null,{"v":0,"d":"0.0"},null,null,{"v":0,"d":"0.0"}]
[{"$f":"T(A306)","v":""}]
[{"$nulls":4},{"$f":"SUM(E366)","v":{"v":1,"d":"1.0"}},null,{"$f":"SUM(G366)","v":{"v":0,"d":"0.0"}},null,null,{"$f":"SUM((J366+M366+P366)/3)","v":{"v":0,"d":"0.0"}},{"$nulls":8},{"$f":"SUM(((S366*3)+V366+Y366)/5)","v":{"v":0,"d":"0.0"}}]
[]
[{"$f":"T(A352)","v":"Natural Disaster"},{"$nulls":3},"Threat",null,"Criticality",null,null,"Vulnerability",{"$nulls":8},"Consequence",{"$nulls":8},{"$f":"SUM(((((J374+S374)/2)*G374)*E374))","v":0}]
[{"$nulls":9},"Exposure",null,null,"Protective Measures",null,null,"Robustness/Resilience",null,null,"Human",null,null,"Economic",null,null,"Psychological"]
[{"$f":"T(A311)","v":"Maintenance Facilities"},null,{"$f":"T(C311)","v":"FS"},{"$f":"SUM(D311)","v":10},{"v":1,"d":"1.0"},null,{"$f":"SUM(G311)","v":{"v":0,"d":"0.0"}},null,null,{"v":0,"d":"0.0"},null,null,{"v":0,"d":"0.0"},null,null,{"v":0,"d":"0.0"},null,null,{"v":0,"d":"0.0"},null,null,{"v":0,"d":"0.0"},null,null,{"v":0,"d":"0.0"}]
[{"$f":"T(A312)","v":""}]
[{"$nulls":4},{"$f":"SUM(E372)","v":{"v":1,"d":"1.0"}},null,{"$f":"SUM(G372)","v":{"v":0,"d":"0.0"}},null,null,{"$f":"SUM((J372+M372+P372)/3)","v":{"v":0,"d":"0.0"}},{"$nulls":8},{"$f":"SUM(((S372*3)+V372+Y372)/5)","v":{"v":0,"d":"0.0"}}]
[]
[{"$f":"T(Definitions!D25)","v":"Industrial Disaster "}]
[{"$f":"T(A376)","v":"Industrial Disaster "},{"$nulls":3},"Threat",null,"Criticality",null,null,"Vulnerability",{"$nulls":8},"Consequence",{"$nulls":8},{"$f":"SUM(((((J381+S381)/2)*G381)*E381))","v":0}]
[{"$nulls":9},"Exposure",null,null,"Protective Measures",null,null,"Robustness/Resilience",null,null,"Human",null,null,"Economic",null,null,"Psychological"]
[{"$f":"T(A13)","v":"Headquarters Building"},null,{"$f":"T(C13)","v":"FS"},{"$f":"SUM(D13)","v":1},{"v":1,"d":"1.0"},null,{"$f":"SUM(G13)","v":{"v":0,"d":"0.0"}},null,null,{"v":0,"d":"0.0"},null,null,{"v":0,"d":"0.0"},null,null,{"v":0,"d":"0.0"},null,null,{"v":0,"d":"0.0"},null,null,{"v":0,"d":"0.0"},null,null,{"v":0,"d":"0.0"}]
[{"$f":"T(A14)","v":""}]
[{"$nulls":4},{"$f":"SUM(E379)","v":{"v":1,"d":"1.0"}},null,{"$f":"SUM(G379)","v":{"v":0,"d":"0.0"}},null,null,{"$f":"SUM((J379+M379+P379)/3)","v":{"v":0,"d":"0.0"}},{"$nulls":8},{"$f":"SUM(((S379*3)+V379+Y379)/5)","v":{"v":0,"d":"0.0"}}]
[]
[{"$f":"T(A376)","v":"Industrial Disaster "},{"$nulls":3},"Threat",null,"Criticality",null,null,"Vulnerability",{"$nulls":8},"Consequence",{"$nulls":8},{"$f":"SUM(((((J387+S387)/2)*G387)*E387))","v":0}]
[{"$nulls":9},"Exposure",null,null,"Protective Measures",null,null,"Robustness/Resilience",null,null,"Human",null,null,"Economic",null,null,"Psychological"]
[{"$f":"T(A19)","v":"System Owned Ferry Terminals"},null,{"$f":"T(C19)","v":"FS"},{"$f":"SUM(D19)","v":2},{"v":1,"d":"1.0"},null,{"$f":"SUM(G19)","v":{"v":0,"d":"0.0"}},null,null,{"v":0,"d":"0.0"},null,null,{"v":0,"d":"0.0"},null,null,{"v":0,"d":"0.0"},null,null,{"v":0,"d":"0.0"},null,null,{"v":0,"d":"0.0"},null,null,{"v":0,"d":"0.0"}]
[{"$f":"T(A20)","v":""}]
[{"$nulls":4},{"$f":"SUM(E385)","v":{"v":1,"d":"1.0"}},null,{"$f":"SUM(G385)","v":{"v":0,"d":"0.0"}},null,null,{"$f":"SUM((J385+M385+P385)/3)","v":{"v":0,"d":"0.0"}},{"$nulls":8},{"$f":"SUM(((S385*3)+V385+Y385)/5)","v":{"v":0,"d":"0.0"}}]
[]
[{"$f":"T(A383)","v":"Industrial Disaster "},{"$nulls":3},"Threat",null,"Criticality",null,null,"Vulnerability",{"$nulls":8},"Consequence",{"$nulls":8},{"$f":"SUM(((((J393+S393)/2)*G393)*E393))","v":0}]
[{"$nulls":9},"Exposure",null,null,"Protective Measures",null,null,"Robustness/Resilience",null,null,"Human",null,null,"Economic",null,null,"Psychological"]
[{"$f":"T(A25)","v":"Parking Structures"},null,{"$f":"T(C25)","v":"FS"},{"$f":"SUM(D25)","v":3},{"v":1,"d":"1.0"},null,{"$f":"SUM(G25)","v":{"v":0,"d":"0.0"}},null,null,{"v":0,"d":"0.0"},null,null,{"v":0,"d":"0.0"},null,null,{"v":0,"d":"0.0"},null,null,{"v":0,"d":"0.0"},null,null,{"v":0,"d":"0.0"},null,null,{"v":0,"d":"0.0"}]
[{"$f":"T(A26)","v":""}]
[{"$nulls":4},{"$f":"SUM(E391)","v":{"v":1,"d":"1.0"}},null,{"$f":"SUM(G391)","v":{"v":0,"d":"0.0"}},null,null,{"$f":"SUM((J391+M391+P391)/3)","v":{"v":0,"d":"0.0"}},{"$nulls":8},{"$f":"SUM(((S391*3)+V391+Y391)/5)","v":{"v":0,"d":"0.0"}}]
[]
[{"$f":"T(A389)","v":"Industrial Disaster "},{"$nulls":3},"Threat",null,"Criticality",null,null,"Vulnerability",{"$nulls":8},"Consequence",{"$nulls":8},{"$f":"SUM(((((J399+S399)/2)*G399)*E399))","v":0}]
[{"$nulls":9},"Exposure",null,null,"Protective Measures",null,null,"Robustness/Resilience",null,null,"Human",null,null,"Economic",null,null,"Psychological"]
[{"$f":"T(A31)","v":"Ferry Vessel - Type 1"},null,{"$f":"T(C31)","v":"FS"},{"$f":"SUM(D31)","v":4},{"v":1,"d":"1.0"},null,{"$f":"SUM(G31)","v":{"v":0,"d":"0.0"}},null,null,{"v":0,"d":"0.0"},null,null,{"v":0,"d":"0.0"},null,null,{"v":0,"d":"0.0"},null,null,{"v":0,"d":"0.0"},null,null,{"v":0,"d":"0.0"},null,null,{"v":0,"d":"0.0"}]
[{"$f":"T(A32)","v":""}]
[{"$nulls":4},{"$f":"SUM(E397)","v":{"v":1,"d":"1.0"}},null,{"$f":"SUM(G397)","v":{"v":0,"d":"0.0"}},null,null,{"$f":"SUM((J397+M397+P397)/3)","v":{"v":0,"d":"0.0"}},{"$nulls":8},{"$f":"SUM(((S397*3)+V397+Y397)/5)","v":{"v":0,"d":"0.0"}}]
[]
[{"$f":"T(A395)","v":"Industrial Disaster "},{"$nulls":3},"Threat",null,"Criticality",null,null,"Vulnerability",{"$nulls":8},"Consequence",{"$nulls":8},{"$f":"SUM(((((J405+S405)/2)*G405)*E405))","v":0}]
[{"$nulls":9},"Exposure",null,null,"Protective Measures",null,null,"Robustness/Resilience",null,null,"Human",null,null,"Economic",null,null,"Psychological"]
[{"$f":"T(A37)","v":"Ferry Vessel - Type 2"},null,{"$f":"T(C37)","v":"FS"},{"$f":"SUM(D37)","v":5},{"v":1,"d":"1.0"},null,{"$f":"SUM(G37)","v":{"v":0,"d":"0.0"}},null,null,{"v":0,"d":"0.0"},null,null,{"v":0,"d":"0.0"},null,null,{"v":0,"d":"0.0"},null,null,{"v":0,"d":"0.0"},null,null,{"v":0,"d":"0.0"},null,null,{"v":0,"d":"0.0"}]
[{"$f":"T(A38)","v":""}]
[{"$nulls":4},{"$f":"SUM(E403)","v":{"v":1,"d":"1.0"}},null,{"$f":"SUM(G403)","v":{"v":0,"d":"0.0"}},null,null,{"$f":"SUM((J403+M403+P403)/3)","v":{"v":0,"d":"0.0"}},{"$nulls":8},{"$f":"SUM(((S403*3)+V403+Y403)/5)","v":{"v":0,"d":"0.0"}}]
[]
[{"$f":"T(A401)","v":"Industrial Disaster "},{"$nulls":3},"Threat",null,"Criticality",null,null,"Vulnerability",{"$nulls":8},"Consequence",{"$nulls":8},{"$f":"SUM(((((J411+S411)/2)*G411)*E411))","v":0}]
[{"$nulls":9},"Exposure",null,null,"Protective Measures",null,null,"Robustness/Resilience",null,null,"Human",null,null,"Economic",null,null,"Psychological"]
[{"$f":"T(A43)","v":"Primary Control Center"},null,{"$f":"T(C43)","v":"FS"},{"$f":"SUM(D43)","v":6},{"v":1,"d":"1.0"},null,{"$f":"SUM(G43)","v":{"v":0,"d":"0.0"}},null,null,{"v":0,"d":"0.0"},null,null,{"v":0,"d":"0.0"},null,null,{"v":0,"d":"0.0"},null,null,{"v":0,"d":"0.0"},null,null,{"v":0,"d":"0.0"},null,null,{"v":0,"d":"0.0"}]
[{"$f":"T(A44)","v":""}]
[{"$nulls":4},{"$f":"SUM(E409)","v":{"v":1,"d":"1.0"}},null,{"$f":"SUM(G409)","v":{"v":0,"d":"0.0"}},null,null,{"$f":"SUM((J409+M409+P409)/3)","v":{"v":0,"d":"0.0"}},{"$nulls":8},{"$f":"SUM(((S409*3)+V409+Y409)/5)","v":{"v":0,"d":"0.0"}}]
[]
[{"$f":"T(A407)","v":"Industrial Disaster "},{"$nulls":3},"Threat",null,"Criticality",null,null,"Vulnerability",{"$nulls":8},"Consequence",{"$nulls":8},{"$f":"SUM(((((J417+S417)/2)*G417)*E417))","v":0}]
[{"$nulls":9},"Exposure",null,null,"Protective Measures",null,null,"Robustness/Resilience",null,null,"Human",null,null,"Economic",null,null,"Psychological"]
[{"$f":"T(A49)","v":"Cyber Systems"},null,{"$f":"T(C49)","v":"FS"},{"$f":"SUM(D49)","v":7},{"v":1,"d":"1.0"},null,{"$f":"SUM(G49)","v":{"v":0,"d":"0.0"}},null,null,{"v":0,"d":"0.0"},null,null,{"v":0,"d":"0.0"},null,null,{"v":0,"d":"0.0"},null,null,{"v":0,"d":"0.0"},null,null,{"v":0,"d":"0.0"},null,null,{"v":0,"d":"0.0"}]
[{"$f":"T(A50)","v":""}]
[{"$nulls":4},{"$f":"SUM(E415)","v":{"v":1,"d":"1.0"}},null,{"$f":"SUM(G415)","v":{"v":0,"d":"0.0"}},null,null,{"$f":"SUM((J415+M415+P415)/3)","v":{"v":0,"d":"0.0"}},{"$nulls":8},{"$f":"SUM(((S415*3)+V415+Y415)/5)","v":{"v":0,"d":"0.0"}}]
[]
[{"$f":"T(A413)","v":"Industrial Disaster "},{"$nulls":3},"Threat",null,"Criticality",null,null,"Vulnerability",{"$nulls":8},"Consequence",{"$nulls":8},{"$f":"SUM(((((J423+S423)/2)*G423)*E423))","v":0}]
[{"$nulls":9},"Exposure",null,null,"Protective Measures",null,null,"Robustness/Resilience",null,null,"Human",null,null,"Economic",null,null,"Psychological"]
[{"$f":"T(A55)","v":"Aids to Navigation"},null,{"$f":"T(C55)","v":"FS"},{"$f":"SUM(D55)","v":8},{"v":1,"d":"1.0"},null,{"$f":"SUM(G55)","v":{"v":0,"d":"0.0"}},null,null,{"v":0,"d":"0.0"},null,null,{"v":0,"d":"0.0"},null,null,{"v":0,"d":"0.0"},null,null,{"v":0,"d":"0.0"},null,null,{"v":0,"d":"0.0"},null,null,{"v":0,"d":"0.0"}]
[{"$f":"T(A56)","v":""}]
[{"$nulls":4},{"$f":"SUM(E421)","v":{"v":1,"d":"1.0"}},null,{"$f":"SUM(G421)","v":{"v":0,"d":"0.0"}},null,null,{"$f":"SUM((J421+M421+P421)/3)","v":{"v":0,"d":"0.0"}},{"$nulls":8},{"$f":"SUM(((S421*3)+V421+Y421)/5)","v":{"v":0,"d":"0.0"}}]
[]
[{"$f":"T(A419)","v":"Industrial Disaster "},{"$nulls":3},"Threat",null,"Criticality",null,null,"Vulnerability",{"$nulls":8},"Consequence",{"$nulls":8},{"$f":"SUM(((((J429+S429)/2)*G429)*E429))","v":0}]
[{"$nulls":9},"Exposure",null,null,"Protective Measures",null,null,"Robustness/Resilience",null,null,"Human",null,null,"Economic",null,null,"Psychological"]
[{"$f":"T(A61)","v":"Support Craft"},null,{"$f":"T(C61)","v":"FS"},{"$f":"SUM(D61)","v":9},{"v":1,"d":"1.0"},null,{"$f":"SUM(G61)","v":{"v":0,"d":"0.0"}},null,null,{"v":0,"d":"0.0"},null,null,{"v":0,"d":"0.0"},null,null,{"v":0,"d":"0.0"},null,null,{"v":0,"d":"0.0"},null,null,{"v":0,"d":"0.0"},null,null,{"v":0,"d":"0.0"}]
[{"$f":"T(A62)","v":""}]
[{"$nulls":4},{"$f":"SUM(E427)","v":{"v":1,"d":"1.0"}},null,{"$f":"SUM(G427)","v":{"v":0,"d":"0.0"}},null,null,{"$f":"SUM((J427+M427+P427)/3)","v":{"v":0,"d":"0.0"}},{"$nulls":8},{"$f":"SUM(((S427*3)+V427+Y427)/5)","v":{"v":0,"d":"0.0"}}]
[]
[{"$f":"T(A425)","v":"Industrial Disaster "},{"$nulls":3},"Threat",null,"Criticality",null,null,"Vulnerability",{"$nulls":8},"Consequence",{"$nulls":8},{"$f":"SUM(((((J435+S435)/2)*G435)*E435))","v":0}]
[{"$nulls":9},"Exposure",null,null,"Protective Measures",null,null,"Robustness/Resilience",null,null,"Human",null,null,"Economic",null,null,"Psychological"]
[{"$f":"T(A67)","v":"Maintenance Facilities"},null,{"$f":"T(C67)","v":"FS"},{"$f":"SUM(D67)","v":10},{"v":1,"d":"1.0"},null,{"$f":"SUM(G67)","v":{"v":0,"d":"0.0"}},null,null,{"v":0,"d":"0.0"},null,null,{"v":0,"d":"0.0"},null,null,{"v":0,"d":"0.0"},null,null,{"v":0,"d":"0.0"},null,null,{"v":0,"d":"0.0"},null,null,{"v":0,"d":"0.0"}]
[{"$f":"T(A68)","v":""}]
[{"$nulls":4},{"$f":"SUM(E433)","v":{"v":1,"d":"1.0"}},null,{"$f":"SUM(G433)","v":{"v":0,"d":"0.0"}},null,null,{"$f":"SUM((J433+M433+P433)/3)","v":{"v":0,"d":"0.0"}},{"$nulls":8},{"$f":"SUM(((S433*3)+V433+Y433)/5)","v":{"v":0,"d":"0.0"}}]
[]
[{"$f":"T(Definitions!D26)","v":"Derailment/Collision"}]
[{"$f":"T(A437)","v":"Derailment/Collision"},{"$nulls":3},"Threat",null,"Criticality",null,null,"Vulnerability",{"$nulls":8},"Consequence",{"$nulls":8},{"$f":"SUM(((((J442+S442)/2)*G442)*E442))","v":0}]
[{"$nulls":9},"Exposure",null,null,"Protective Measures",null,null,"Robustness/Resilience",null,null,"Human",null,null,"Economic",null,null,"Psychological"]
[{"$f":"T(A318)","v":"Headquarters Building"},null,{"$f":"T(C318)","v":"FS"},{"$f":"SUM(D318)","v":1},{"v":1,"d":"1.0"},null,{"$f":"SUM(G318)","v":{"v":0,"d":"0.0"}},null,null,{"v":0,"d":"0.0"},null,null,{"v":0,"d":"0.0"},null,null,{"v":0,"d":"0.0"},null,null,{"v":0,"d":"0.0"},null,null,{"v":0,"d":"0.0"},null,null,{"v":0,"d":"0.0"}]
[{"$f":"T(A319)","v":""}]
[{"$nulls":4},{"$f":"SUM(E440)","v":{"v":1,"d":"1.0"}},null,{"$f":"SUM(G440)","v":{"v":0,"d":"0.0"}},null,null,{"$f":"SUM((J440+M440+P440)/3)","v":{"v":0,"d":"0.0"}},{"$nulls":8},{"$f":"SUM(((S440*3)+V440+Y440)/5)","v":{"v":0,"d":"0.0"}}]
[]
[{"$f":"T(A437)","v":"Derailment/Collision"},{"$nulls":3},"Threat",null,"Criticality",null,null,"Vulnerability",{"$nulls":8},"Consequence",{"$nulls":8},{"$f":"SUM(((((J448+S448)/2)*G448)*E448))","v":0}]
[{"$nulls":9},"Exposure",null,null,"Protective Measures",null,null,"Robustness/Resilience",null,null,"Human",null,null,"Economic",null,null,"Psychological"]
[{"$f":"T(A324)","v":"System Owned Ferry Terminals"},null,{"$f":"T(C324)","v":"FS"},{"$f":"SUM(D324)","v":2},{"v":1,"d":"1.0"},null,{"$f":"SUM(G324)","v":{"v":0,"d":"0.0"}},null,null,{"v":0,"d":"0.0"},null,null,{"v":0,"d":"0.0"},null,null,{"v":0,"d":"0.0"},null,null,{"v":0,"d":"0.0"},null,null,{"v":0,"d":"0.0"},null,null,{"v":0,"d":"0.0"}]
[{"$f":"T(A325)","v":""}]
[{"$nulls":4},{"$f":"SUM(E446)","v":{"v":1,"d":"1.0"}},null,{"$f":"SUM(G446)","v":{"v":0,"d":"0.0"}},null,null,{"$f":"SUM((J446+M446+P446)/3)","v":{"v":0,"d":"0.0"}},{"$nulls":8},{"$f":"SUM(((S446*3)+V446+Y446)/5)","v":{"v":0,"d":"0.0"}}]
[]
[{"$f":"T(A444)","v":"Derailment/Collision"},{"$nulls":3},"Threat",null,"Criticality",null,null,"Vulnerability",{"$nulls":8},"Consequence",{"$nulls":8},{"$f":"SUM(((((J454+S454)/2)*G454)*E454))","v":0}]
[{"$nulls":9},"Exposure",null,null,"Protective Measures",null,null,"Robustness/Resilience",null,null,"Human",null,null,"Economic",null,null,"Psychological"]
[{"$f":"T(A330)","v":"Parking Structures"},null,{"$f":"T(C330)","v":"FS"},{"$f":"SUM(D330)","v":3},{"v":1,"d":"1.0"},null,{"$f":"SUM(G330)","v":{"v":0,"d":"0.0"}},null,null,{"v":0,"d":"0.0"},null,null,{"v":0,"d":"0.0"},null,null,{"v":0,"d":"0.0"},null,null,{"v":0,"d":"0.0"},null,null,{"v":0,"d":"0.0"},null,null,{"v":0,"d":"0.0"}]
[{"$f":"T(A331)","v":""}]
[{"$nulls":4},{"$f":"SUM(E452)","v":{"v":1,"d":"1.0"}},null,{"$f":"SUM(G452)","v":{"v":0,"d":"0.0"}},null,null,{"$f":"SUM((J452+M452+P452)/3)","v":{"v":0,"d":"0.0"}},{"$nulls":8},{"$f":"SUM(((S452*3)+V452+Y452)/5)","v":{"v":0,"d":"0.0"}}]
[]
[{"$f":"T(A450)","v":"Derailment/Collision"},{"$nulls":3},"Threat",null,"Criticality",null,null,"Vulnerability",{"$nulls":8},"Consequence",{"$nulls":8},{"$f":"SUM(((((J460+S460)/2)*G460)*E460))","v":0}]
[{"$nulls":9},"Exposure",null,null,"Protective Measures",null,null,"Robustness/Resilience",null,null,"Human",null,null,"Economic",null,null,"Psychological"]
[{"$f":"T(A336)","v":"Ferry Vessel - Type 1"},null,{"$f":"T(C336)","v":"FS"},{"$f":"SUM(D336)","v":4},{"v":1,"d":"1.0"},null,{"$f":"SUM(G336)","v":{"v":0,"d":"0.0"}},null,null,{"v":0,"d":"0.0"},null,null,{"v":0,"d":"0.0"},null,null,{"v":0,"d":"0.0"},null,null,{"v":0,"d":"0.0"},null,null,{"v":0,"d":"0.0"},null,null,{"v":0,"d":"0.0"}]
[{"$f":"T(A337)","v":""}]
[{"$nulls":4},{"$f":"SUM(E458)","v":{"v":1,"d":"1.0"}},null,{"$f":"SUM(G458)","v":{"v":0,"d":"0.0"}},null,null,{"$f":"SUM((J458+M458+P458)/3)","v":{"v":0,"d":"0.0"}},{"$nulls":8},{"$f":"SUM(((S458*3)+V458+Y458)/5)","v":{"v":0,"d":"0.0"}}]
[]
[{"$f":"T(A456)","v":"Derailment/Collision"},{"$nulls":3},"Threat",null,"Criticality",null,null,"Vulnerability",{"$nulls":8},"Consequence",{"$nulls":8},{"$f":"SUM(((((J466+S466)/2)*G466)*E466))","v":0}]
[{"$nulls":9},"Exposure",null,null,"Protective Measures",null,null,"Robustness/Resilience",null,null,"Human",null,null,"Economic",null,null,"Psychological"]
[{"$f":"T(A342)","v":"Ferry Vessel - Type 2"},null,{"$f":"T(C342)","v":"FS"},{"$f":"SUM(D342)","v":5},{"v":1,"d":"1.0"},null,{"$f":"SUM(G342)","v":{"v":0,"d":"0.0"}},null,null,{"v":0,"d":"0.0"},null,null,{"v":0,"d":"0.0"},null,null,{"v":0,"d":"0.0"},null,null,{"v":0,"d":"0.0"},null,null,{"v":0,"d":"0.0"},null,null,{"v":0,"d":"0.0"}]
[{"$f":"T(A343)","v":""}]
[{"$nulls":4},{"$f":"SUM(E464)","v":{"v":1,"d":"1.0"}},null,{"$f":"SUM(G464)","v":{"v":0,"d":"0.0"}},null,null,{"$f":"SUM((J464+M464+P464)/3)","v":{"v":0,"d":"0.0"}},{"$nulls":8},{"$f":"SUM(((S464*3)+V464+Y464)/5)","v":{"v":0,"d":"0.0"}}]
[]
[{"$f":"T(A462)","v":"Derailment/Collision"},{"$nulls":3},"Threat",null,"Criticality",null,null,"Vulnerability",{"$nulls":8},"Consequence",{"$nulls":8},{"$f":"SUM(((((J472+S472)/2)*G472)*E472))","v":0}]
[{"$nulls":9},"Exposure",null,null,"Protective Measures",null,null,"Robustness/Resilience",null,null,"Human",null,null,"Economic",null,null,"Psychological"]
[{"$f":"T(A348)","v":"Primary Control Center"},null,{"$f":"T(C348)","v":"FS"},{"$f":"SUM(D348)","v":6},{"v":1,"d":"1.0"},null,{"$f":"SUM(G348)","v":{"v":0,"d":"0.0"}},null,null,{"v":0,"d":"0.0"},null,null,{"v":0,"d":"0.0"},null,null,{"v":0,"d":"0.0"},null,null,{"v":0,"d":"0.0"},null,null,{"v":0,"d":"0.0"},null,null,{"v":0,"d":"0.0"}]
[{"$f":"T(A349)","v":""}]
[{"$nulls":4},{"$f":"SUM(E470)","v":{"v":1,"d":"1.0"}},null,{"$f":"SUM(G470)","v":{"v":0,"d":"0.0"}},null,null,{"$f":"SUM((J470+M470+P470)/3)","v":{"v":0,"d":"0.0"}},{"$nulls":8},{"$f":"SUM(((S470*3)+V470+Y470)/5)","v":{"v":0,"d":"0.0"}}]
[]
[{"$f":"T(A468)","v":"Derailment/Collision"},{"$nulls":3},"Threat",null,"Criticality",null,null,"Vulnerability",{"$nulls":8},"Consequence",{"$nulls":8},{"$f":"SUM(((((J478+S478)/2)*G478)*E478))","v":0}]
[{"$nulls":9},"Exposure",null,null,"Protective Measures",null,null,"Robustness/Resilience",null,null,"Human",null,null,"Economic",null,null,"Psychological"]
[{"$f":"T(A354)","v":"Cyber Systems"},null,{"$f":"T(C354)","v":"FS"},{"$f":"SUM(D354)","v":7},{"v":1,"d":"1.0"},null,{"$f":"SUM(G354)","v":{"v":0,"d":"0.0"}},null,null,{"v":0,"d":"0.0"},null,null,{"v":0,"d":"0.0"},null,null,{"v":0,"d":"0.0"},null,null,{"v":0,"d":"0.0"},null,null,{"v":0,"d":"0.0"},null,null,{"v":0,"d":"0.0"}]
[{"$f":"T(A355)","v":""}]
[{"$nulls":4},{"$f":"SUM(E476)","v":{"v":1,"d":"1.0"}},null,{"$f":"SUM(G476)","v":{"v":0,"d":"0.0"}},null,null,{"$f":"SUM((J476+M476+P476)/3)","v":{"v":0,"d":"0.0"}},{"$nulls":8},{"$f":"SUM(((S476*3)+V476+Y476)/5)","v":{"v":0,"d":"0.0"}}]
[]
[{"$f":"T(A468)","v":"Derailment/Collision"},{"$nulls":3},"Threat",null,"Criticality",null,null,"Vulnerability",{"$nulls":8},"Consequence",{"$nulls":8},{"$f":"SUM(((((J484+S484)/2)*G484)*E484))","v":0}]
[{"$nulls":9},"Exposure",null,null,"Protective Measures",null,null,"Robustness/Resilience",null,null,"Human",null,null,"Economic",null,null,"Psychological"]
[{"$f":"T(A360)","v":"Aids to Navigation"},null,{"$f":"T(C360)","v":"FS"},{"$f":"SUM(D360)","v":8},{"v":1,"d":"1.0"},null,{"$f":"SUM(G360)","v":{"v":0,"d":"0.0"}},null,null,{"v":0,"d":"0.0"},null,null,{"v":0,"d":"0.0"},null,null,{"v":0,"d":"0.0"},null,null,{"v":0,"d":"0.0"},null,null,{"v":0,"d":"0.0"},null,null,{"v":0,"d":"0.0"}]
[{"$f":"T(A361)","v":""}]
[{"$nulls":4},{"$f":"SUM(E482)","v":{"v":1,"d":"1.0"}},null,{"$f":"SUM(G482)","v":{"v":0,"d":"0.0"}},null,null,{"$f":"SUM((J482+M482+P482)/3)","v":{"v":0,"d":"0.0"}},{"$nulls":8},{"$f":"SUM(((S482*3)+V482+Y482)/5)","v":{"v":0,"d":"0.0"}}]
[]
[{"$f":"T(A468)","v":"Derailment/Collision"},{"$nulls":3},"Threat",null,"Criticality",null,null,"Vulnerability",{"$nulls":8},"Consequence",{"$nulls":8},{"$f":"SUM(((((J490+S490)/2)*G490)*E490))","v":0}]
[{"$nulls":9},"Exposure",null,null,"Protective Measures",null,null,"Robustness/Resilience",null,null,"Human",null,null,"Economic",null,null,"Psychological"]
[{"$f":"T(A366)","v":"Support Craft"},null,{"$f":"T(C366)","v":"FS"},{"$f":"SUM(D366)","v":9},{"v":1,"d":"1.0"},null,{"$f":"SUM(G366)","v":{"v":0,"d":"0.0"}},null,null,{"v":0,"d":"0.0"},null,null,{"v":0,"d":"0.0"},null,null,{"v":0,"d":"0.0"},null,null,{"v":0,"d":"0.0"},null,null,{"v":0,"d":"0.0"},null,null,{"v":0,"d":"0.0"}]
[{"$f":"T(A367)","v":""}]
[{"$nulls":4},{"$f":"SUM(E488)","v":{"v":1,"d":"1.0"}},null,{"$f":"SUM(G488)","v":{"v":0,"d":"0.0"}},null,null,{"$f":"SUM((J488+M488+P488)/3)","v":{"v":0,"d":"0.0"}},{"$nulls":8},{"$f":"SUM(((S488*3)+V488+Y488)/5)","v":{"v":0,"d":"0.0"}}]
[]
[{"$f":"T(A474)","v":"Derailment/Collision"},{"$nulls":3},"Threat",null,"Criticality",null,null,"Vulnerability",{"$nulls":8},"Consequence",{"$nulls":8},{"$f":"SUM(((((J496+S496)/2)*G496)*E496))","v":0}]
[{"$nulls":9},"Exposure",null,null,"Protective Measures",null,null,"Robustness/Resilience",null,null,"Human",null,null,"Economic",null,null,"Psychological"]
[{"$f":"T(A372)","v":"Maintenance Facilities"},null,{"$f":"T(C372)","v":"FS"},{"$f":"SUM(D372)","v":10},{"v":1,"d":"1.0"},null,{"$f":"SUM(G372)","v":{"v":0,"d":"0.0"}},null,null,{"v":0,"d":"0.0"},null,null,{"v":0,"d":"0.0"},null,null,{"v":0,"d":"0.0"},null,null,{"v":0,"d":"0.0"},null,null,{"v":0,"d":"0.0"},null,null,{"v":0,"d":"0.0"}]
[{"$f":"T(A373)","v":""}]
[{"$nulls":4},{"$f":"SUM(E494)","v":{"v":1,"d":"1.0"}},null,{"$f":"SUM(G494)","v":{"v":0,"d":"0.0"}},null,null,{"$f":"SUM((J494+M494+P494)/3)","v":{"v":0,"d":"0.0"}},{"$nulls":8},{"$f":"SUM(((S494*3)+V494+Y494)/5)","v":{"v":0,"d":"0.0"}}]
[]
[{"$f":"T(Definitions!D27)","v":"Widespread Power Outage"}]
[{"$f":"T(A498)","v":"Widespread Power Outage"},{"$nulls":3},"Threat",null,"Criticality",null,null,"Vulnerability",{"$nulls":8},"Consequence",{"$nulls":8},{"$f":"SUM(((((J503+S503)/2)*G503)*E503))","v":0}]
[{"$nulls":9},"Exposure",null,null,"Protective Measures",null,null,"Robustness/Resilience",null,null,"Human",null,null,"Economic",null,null,"Psychological"]
[{"$f":"T(A440)","v":"Headquarters Building"},null,{"$f":"T(C440)","v":"FS"},{"$f":"SUM(D440)","v":1},{"v":1,"d":"1.0"},null,{"$f":"SUM(G440)","v":{"v":0,"d":"0.0"}},null,null,{"v":0,"d":"0.0"},null,null,{"v":0,"d":"0.0"},null,null,{"v":0,"d":"0.0"},null,null,{"v":0,"d":"0.0"},null,null,{"v":0,"d":"0.0"},null,null,{"v":0,"d":"0.0"}]
[{"$f":"T(A441)","v":""}]
[{"$nulls":4},{"$f":"SUM(E501)","v":{"v":1,"d":"1.0"}},null,{"$f":"SUM(G501)","v":{"v":0,"d":"0.0"}},null,null,{"$f":"SUM((J501+M501+P501)/3)","v":{"v":0,"d":"0.0"}},{"$nulls":8},{"$f":"SUM(((S501*3)+V501+Y501)/5)","v":{"v":0,"d":"0.0"}}]
[]
[{"$f":"T(A498)","v":"Widespread Power Outage"},{"$nulls":3},"Threat",null,"Criticality",null,null,"Vulnerability",{"$nulls":8},"Consequence",{"$nulls":8},{"$f":"SUM(((((J509+S509)/2)*G509)*E509))","v":0}]
[{"$nulls":9},"Exposure",null,null,"Protective Measures",null,null,"Robustness/Resilience",null,null,"Human",null,null,"Economic",null,null,"Psychological"]
[{"$f":"T(A446)","v":"System Owned Ferry Terminals"},null,{"$f":"T(C446)","v":"FS"},{"$f":"SUM(D446)","v":2},{"v":1,"d":"1.0"},null,{"$f":"SUM(G446)","v":{"v":0,"d":"0.0"}},null,null,{"v":0,"d":"0.0"},null,null,{"v":0,"d":"0.0"},null,null,{"v":0,"d":"0.0"},null,null,{"v":0,"d":"0.0"},null,null,{"v":0,"d":"0.0"},null,null,{"v":0,"d":"0.0"}]
[{"$f":"T(A447)","v":""}]
[{"$nulls":4},{"$f":"SUM(E507)","v":{"v":1,"d":"1.0"}},null,{"$f":"SUM(G507)","v":{"v":0,"d":"0.0"}},null,null,{"$f":"SUM((J507+M507+P507)/3)","v":{"v":0,"d":"0.0"}},{"$nulls":8},{"$f":"SUM(((S507*3)+V507+Y507)/5)","v":{"v":0,"d":"0.0"}}]
[]
[{"$f":"T(A505)","v":"Widespread Power Outage"},{"$nulls":3},"Threat",null,"Criticality",null,null,"Vulnerability",{"$nulls":8},"Consequence",{"$nulls":8},{"$f":"SUM(((((J515+S515)/2)*G515)*E515))","v":0}]
[{"$nulls":9},"Exposure",null,null,"Protective Measures",null,null,"Robustness/Resilience",null,null,"Human",null,null,"Economic",null,null,"Psychological"]
[{"$f":"T(A452)","v":"Parking Structures"},null,{"$f":"T(C452)","v":"FS"},{"$f":"SUM(D452)","v":3},{"v":1,"d":"1.0"},null,{"$f":"SUM(G452)","v":{"v":0,"d":"0.0"}},null,null,{"v":0,"d":"0.0"},null,null,{"v":0,"d":"0.0"},null,null,{"v":0,"d":"0.0"},null,null,{"v":0,"d":"0.0"},null,null,{"v":0,"d":"0.0"},null,null,{"v":0,"d":"0.0"}]
[{"$f":"T(A453)","v":""}]
[{"$nulls":4},{"$f":"SUM(E513)","v":{"v":1,"d":"1.0"}},null,{"$f":"SUM(G513)","v":{"v":0,"d":"0.0"}},null,null,{"$f":"SUM((J513+M513+P513)/3)","v":{"v":0,"d":"0.0"}},{"$nulls":8},{"$f":"SUM(((S513*3)+V513+Y513)/5)","v":{"v":0,"d":"0.0"}}]
[]
[{"$f":"T(A511)","v":"Widespread Power Outage"},{"$nulls":3},"Threat",null,"Criticality",null,null,"Vulnerability",{"$nulls":8},"Consequence",{"$nulls":8},{"$f":"SUM(((((J521+S521)/2)*G521)*E521))","v":0}]
[{"$nulls":9},"Exposure",null,null,"Protective Measures",null,null,"Robustness/Resilience",null,null,"Human",null,null,"Economic",null,null,"Psychological"]
[{"$f":"T(A458)","v":"Ferry Vessel - Type 1"},null,{"$f":"T(C458)","v":"FS"},{"$f":"SUM(D458)","v":4},{"v":1,"d":"1.0"},null,{"$f":"SUM(G458)","v":{"v":0,"d":"0.0"}},null,null,{"v":0,"d":"0.0"},null,null,{"v":0,"d":"0.0"},null,null,{"v":0,"d":"0.0"},null,null,{"v":0,"d":"0.0"},null,null,{"v":0,"d":"0.0"},null,null,{"v":0,"d":"0.0"}]
[{"$f":"T(A459)","v":""}]
[{"$nulls":4},{"$f":"SUM(E519)","v":{"v":1,"d":"1.0"}},null,{"$f":"SUM(G519)","v":{"v":0,"d":"0.0"}},null,null,{"$f":"SUM((J519+M519+P519)/3)","v":{"v":0,"d":"0.0"}},{"$nulls":8},{"$f":"SUM(((S519*3)+V519+Y519)/5)","v":{"v":0,"d":"0.0"}}]
[]
[{"$f":"T(A517)","v":"Widespread Power Outage"},{"$nulls":3},"Threat",null,"Criticality",null,null,"Vulnerability",{"$nulls":8},"Consequence",{"$nulls":8},{"$f":"SUM(((((J527+S527)/2)*G527)*E527))","v":0}]
[{"$nulls":9},"Exposure",null,null,"Protective Measures",null,null,"Robustness/Resilience",null,null,"Human",null,null,"Economic",null,null,"Psychological"]
[{"$f":"T(A464)","v":"Ferry Vessel - Type 2"},null,{"$f":"T(C464)","v":"FS"},{"$f":"SUM(D464)","v":5},{"v":1,"d":"1.0"},null,{"$f":"SUM(G464)","v":{"v":0,"d":"0.0"}},null,null,{"v":0,"d":"0.0"},null,null,{"v":0,"d":"0.0"},null,null,{"v":0,"d":"0.0"},null,null,{"v":0,"d":"0.0"},null,null,{"v":0,"d":"0.0"},null,null,{"v":0,"d":"0.0"}]
[{"$f":"T(A465)","v":""}]
[{"$nulls":4},{"$f":"SUM(E525)","v":{"v":1,"d":"1.0"}},null,{"$f":"SUM(G525)","v":{"v":0,"d":"0.0"}},null,null,{"$f":"SUM((J525+M525+P525)/3)","v":{"v":0,"d":"0.0"}},{"$nulls":8},{"$f":"SUM(((S525*3)+V525+Y525)/5)","v":{"v":0,"d":"0.0"}}]
[]
[{"$f":"T(A523)","v":"Widespread Power Outage"},{"$nulls":3},"Threat",null,"Criticality",null,null,"Vulnerability",{"$nulls":8},"Consequence",{"$nulls":8},{"$f":"SUM(((((J533+S533)/2)*G533)*E533))","v":0}]
[{"$nulls":9},"Exposure",null,null,"Protective Measures",null,null,"Robustness/Resilience",null,null,"Human",null,null,"Economic",null,null,"Psychological"]
[{"$f":"T(A470)","v":"Primary Control Center"},null,{"$f":"T(C470)","v":"FS"},{"$f":"SUM(D470)","v":6},{"v":1,"d":"1.0"},null,{"$f":"SUM(G470)","v":{"v":0,"d":"0.0"}},null,null,{"v":0,"d":"0.0"},null,null,{"v":0,"d":"0.0"},null,null,{"v":0,"d":"0.0"},null,null,{"v":0,"d":"0.0"},null,null,{"v":0,"d":"0.0"},null,null,{"v":0,"d":"0.0"}]
[{"$f":"T(A471)","v":""}]
[{"$nulls":4},{"$f":"SUM(E531)","v":{"v":1,"d":"1.0"}},null,{"$f":"SUM(G531)","v":{"v":0,"d":"0.0"}},null,null,{"$f":"SUM((J531+M531+P531)/3)","v":{"v":0,"d":"0.0"}},{"$nulls":8},{"$f":"SUM(((S531*3)+V531+Y531)/5)","v":{"v":0,"d":"0.0"}}]
[]
[{"$f":"T(A529)","v":"Widespread Power Outage"},{"$nulls":3},"Threat",null,"Criticality",null,null,"Vulnerability",{"$nulls":8},"Consequence",{"$nulls":8},{"$f":"SUM(((((J539+S539)/2)*G539)*E539))","v":0}]
[{"$nulls":9},"Exposure",null,null,"Protective Measures",null,null,"Robustness/Resilience",null,null,"Human",null,null,"Economic",null,null,"Psychological"]
[{"$f":"T(A476)","v":"Cyber Systems"},null,{"$f":"T(C476)","v":"FS"},{"$f":"SUM(D476)","v":7},{"v":1,"d":"1.0"},null,{"$f":"SUM(G476)","v":{"v":0,"d":"0.0"}},null,null,{"v":0,"d":"0.0"},null,null,{"v":0,"d":"0.0"},null,null,{"v":0,"d":"0.0"},null,null,{"v":0,"d":"0.0"},null,null,{"v":0,"d":"0.0"},null,null,{"v":0,"d":"0.0"}]
[{"$f":"T(A477)","v":""}]
[{"$nulls":4},{"$f":"SUM(E537)","v":{"v":1,"d":"1.0"}},null,{"$f":"SUM(G537)","v":{"v":0,"d":"0.0"}},null,null,{"$f":"SUM((J537+M537+P537)/3)","v":{"v":0,"d":"0.0"}},{"$nulls":8},{"$f":"SUM(((S537*3)+V537+Y537)/5)","v":{"v":0,"d":"0.0"}}]
[]
[{"$f":"T(A529)","v":"Widespread Power Outage"},{"$nulls":3},"Threat",null,"Criticality",null,null,"Vulnerability",{"$nulls":8},"Consequence",{"$nulls":8},{"$f":"SUM(((((J545+S545)/2)*G545)*E545))","v":0}]
[{"$nulls":9},"Exposure",null,null,"Protective Measures",null,null,"Robustness/Resilience",null,null,"Human",null,null,"Economic",null,null,"Psychological"]
[{"$f":"T(A482)","v":"Aids to Navigation"},null,{"$f":"T(C482)","v":"FS"},{"$f":"SUM(D482)","v":8},{"v":1,"d":"1.0"},null,{"$f":"SUM(G482)","v":{"v":0,"d":"0.0"}},null,null,{"v":0,"d":"0.0"},null,null,{"v":0,"d":"0.0"},null,null,{"v":0,"d":"0.0"},null,null,{"v":0,"d":"0.0"},null,null,{"v":0,"d":"0.0"},null,null,{"v":0,"d":"0.0"}]
[{"$f":"T(A483)","v":""}]
[{"$nulls":4},{"$f":"SUM(E543)","v":{"v":1,"d":"1.0"}},null,{"$f":"SUM(G543)","v":{"v":0,"d":"0.0"}},null,null,{"$f":"SUM((J543+M543+P543)/3)","v":{"v":0,"d":"0.0"}},{"$nulls":8},{"$f":"SUM(((S543*3)+V543+Y543)/5)","v":{"v":0,"d":"0.0"}}]
[]
[{"$f":"T(A529)","v":"Widespread Power Outage"},{"$nulls":3},"Threat",null,"Criticality",null,null,"Vulnerability",{"$nulls":8},"Consequence",{"$nulls":8},{"$f":"SUM(((((J551+S551)/2)*G551)*E551))","v":0}]
[{"$nulls":9},"Exposure",null,null,"Protective Measures",null,null,"Robustness/Resilience",null,null,"Human",null,null,"Economic",null,null,"Psychological"]
[{"$f":"T(A488)","v":"Support Craft"},null,{"$f":"T(C488)","v":"FS"},{"$f":"SUM(D488)","v":9},{"v":1,"d":"1.0"},null,{"$f":"SUM(G488)","v":{"v":0,"d":"0.0"}},null,null,{"v":0,"d":"0.0"},null,null,{"v":0,"d":"0.0"},null,null,{"v":0,"d":"0.0"},null,null,{"v":0,"d":"0.0"},null,null,{"v":0,"d":"0.0"},null,null,{"v":0,"d":"0.0"}]
[{"$f":"T(A489)","v":""}]
[{"$nulls":4},{"$f":"SUM(E549)","v":{"v":1,"d":"1.0"}},null,{"$f":"SUM(G549)","v":{"v":0,"d":"0.0"}},null,null,{"$f":"SUM((J549+M549+P549)/3)","v":{"v":0,"d":"0.0"}},{"$nulls":8},{"$f":"SUM(((S549*3)+V549+Y549)/5)","v":{"v":0,"d":"0.0"}}]
[]
[{"$f":"T(A535)","v":"Widespread Power Outage"},{"$nulls":3},"Threat",null,"Criticality",null,null,"Vulnerability",{"$nulls":8},"Consequence",{"$nulls":8},{"$f":"SUM(((((J557+S557)/2)*G557)*E557))","v":0}]
[{"$nulls":9},"Exposure",null,null,"Protective Measures",null,null,"Robustness/Resilience",null,null,"Human",null,null,"Economic",null,null,"Psychological"]
[{"$f":"T(A494)","v":"Maintenance Facilities"},null,{"$f":"T(C494)","v":"FS"},{"$f":"SUM(D494)","v":10},{"v":1,"d":"1.0"},null,{"$f":"SUM(G494)","v":{"v":0,"d":"0.0"}},null,null,{"v":0,"d":"0.0"},null,null,{"v":0,"d":"0.0"},null,null,{"v":0,"d":"0.0"},null,null,{"v":0,"d":"0.0"},null,null,{"v":0,"d":"0.0"},null,null,{"v":0,"d":"0.0"}]
[{"$f":"T(A495)","v":""}]
[{"$nulls":4},{"$f":"SUM(E555)","v":{"v":1,"d":"1.0"}},null,{"$f":"SUM(G555)","v":{"v":0,"d":"0.0"}},null,null,{"$f":"SUM((J555+M555+P555)/3)","v":{"v":0,"d":"0.0"}},{"$nulls":8},{"$f":"SUM(((S555*3)+V555+Y555)/5)","v":{"v":0,"d":"0.0"}}]
[]
[{"$f":"T(Definitions!D28)","v":"Weapon of Mass Destruction "}]
[{"$f":"T(A559)","v":"Weapon of Mass Destruction "},{"$nulls":3},"Threat",null,"Criticality",null,null,"Vulnerability",{"$nulls":8},"Consequence",{"$nulls":8},{"$f":"SUM(((((J564+S564)/2)*G564)*E564))","v":0}]
[{"$nulls":9},"Exposure",null,null,"Protective Measures",null,null,"Robustness/Resilience",null,null,"Human",null,null,"Economic",null,null,"Psychological"]
[{"$f":"T(A501)","v":"Headquarters Building"},null,{"$f":"T(C501)","v":"FS"},{"$f":"SUM(D501)","v":1},{"v":1,"d":"1.0"},null,{"$f":"SUM(G501)","v":{"v":0,"d":"0.0"}},null,null,{"v":0,"d":"0.0"},null,null,{"v":0,"d":"0.0"},null,null,{"v":0,"d":"0.0"},null,null,{"v":0,"d":"0.0"},null,null,{"v":0,"d":"0.0"},null,null,{"v":0,"d":"0.0"}]
[{"$f":"T(A502)","v":""}]
[{"$nulls":4},{"$f":"SUM(E562)","v":{"v":1,"d":"1.0"}},null,{"$f":"SUM(G562)","v":{"v":0,"d":"0.0"}},null,null,{"$f":"SUM((J562+M562+P562)/3)","v":{"v":0,"d":"0.0"}},{"$nulls":8},{"$f":"SUM(((S562*3)+V562+Y562)/5)","v":{"v":0,"d":"0.0"}}]
[]
[{"$f":"T(A559)","v":"Weapon of Mass Destruction "},{"$nulls":3},"Threat",null,"Criticality",null,null,"Vulnerability",{"$nulls":8},"Consequence",{"$nulls":8},{"$f":"SUM(((((J570+S570)/2)*G570)*E570))","v":0}]
[{"$nulls":9},"Exposure",null,null,"Protective Measures",null,null,"Robustness/Resilience",null,null,"Human",null,null,"Economic",null,null,"Psychological"]
[{"$f":"T(A507)","v":"System Owned Ferry Terminals"},null,{"$f":"T(C507)","v":"FS"},{"$f":"SUM(D507)","v":2},{"v":1,"d":"1.0"},null,{"$f":"SUM(G507)","v":{"v":0,"d":"0.0"}},null,null,{"v":0,"d":"0.0"},null,null,{"v":0,"d":"0.0"},null,null,{"v":0,"d":"0.0"},null,null,{"v":0,"d":"0.0"},null,null,{"v":0,"d":"0.0"},null,null,{"v":0,"d":"0.0"}]
[{"$f":"T(A508)","v":""}]
[{"$nulls":4},{"$f":"SUM(E568)","v":{"v":1,"d":"1.0"}},null,{"$f":"SUM(G568)","v":{"v":0,"d":"0.0"}},null,null,{"$f":"SUM((J568+M568+P568)/3)","v":{"v":0,"d":"0.0"}},{"$nulls":8},{"$f":"SUM(((S568*3)+V568+Y568)/5)","v":{"v":0,"d":"0.0"}}]
[]
[{"$f":"T(A566)","v":"Weapon of Mass Destruction "},{"$nulls":3},"Threat",null,"Criticality",null,null,"Vulnerability",{"$nulls":8},"Consequence",{"$nulls":8},{"$f":"SUM(((((J576+S576)/2)*G576)*E576))","v":0}]
[{"$nulls":9},"Exposure",null,null,"Protective Measures",null,null,"Robustness/Resilience",null,null,"Human",null,null,"Economic",null,null,"Psychological"]
[{"$f":"T(A513)","v":"Parking Structures"},null,{"$f":"T(C513)","v":"FS"},{"$f":"SUM(D513)","v":3},{"v":1,"d":"1.0"},null,{"$f":"SUM(G513)","v":{"v":0,"d":"0.0"}},null,null,{"v":0,"d":"0.0"},null,null,{"v":0,"d":"0.0"},null,null,{"v":0,"d":"0.0"},null,null,{"v":0,"d":"0.0"},null,null,{"v":0,"d":"0.0"},null,null,{"v":0,"d":"0.0"}]
[{"$f":"T(A514)","v":""}]
[{"$nulls":4},{"$f":"SUM(E574)","v":{"v":1,"d":"1.0"}},null,{"$f":"SUM(G574)","v":{"v":0,"d":"0.0"}},null,null,{"$f":"SUM((J574+M574+P574)/3)","v":{"v":0,"d":"0.0"}},{"$nulls":8},{"$f":"SUM(((S574*3)+V574+Y574)/5)","v":{"v":0,"d":"0.0"}}]
[]
[{"$f":"T(A572)","v":"Weapon of Mass Destruction "},{"$nulls":3},"Threat",null,"Criticality",null,null,"Vulnerability",{"$nulls":8},"Consequence",{"$nulls":8},{"$f":"SUM(((((J582+S582)/2)*G582)*E582))","v":0}]
[{"$nulls":9},"Exposure",null,null,"Protective Measures",null,null,"Robustness/Resilience",null,null,"Human",null,null,"Economic",null,null,"Psychological"]
[{"$f":"T(A519)","v":"Ferry Vessel - Type 1"},null,{"$f":"T(C519)","v":"FS"},{"$f":"SUM(D519)","v":4},{"v":1,"d":"1.0"},null,{"$f":"SUM(G519)","v":{"v":0,"d":"0.0"}},null,null,{"v":0,"d":"0.0"},null,null,{"v":0,"d":"0.0"},null,null,{"v":0,"d":"0.0"},null,null,{"v":0,"d":"0.0"},null,null,{"v":0,"d":"0.0"},null,null,{"v":0,"d":"0.0"}]
[{"$f":"T(A520)","v":""}]
[{"$nulls":4},{"$f":"SUM(E580)","v":{"v":1,"d":"1.0"}},null,{"$f":"SUM(G580)","v":{"v":0,"d":"0.0"}},null,null,{"$f":"SUM((J580+M580+P580)/3)","v":{"v":0,"d":"0.0"}},{"$nulls":8},{"$f":"SUM(((S580*3)+V580+Y580)/5)","v":{"v":0,"d":"0.0"}}]
[]
[{"$f":"T(A578)","v":"Weapon of Mass Destruction "},{"$nulls":3},"Threat",null,"Criticality",null,null,"Vulnerability",{"$nulls":8},"Consequence",{"$nulls":8},{"$f":"SUM(((((J588+S588)/2)*G588)*E588))","v":0}]
[{"$nulls":9},"Exposure",null,null,"Protective Measures",null,null,"Robustness/Resilience",null,null,"Human",null,null,"Economic",null,null,"Psychological"]
[{"$f":"T(A525)","v":"Ferry Vessel - Type 2"},null,{"$f":"T(C525)","v":"FS"},{"$f":"SUM(D525)","v":5},{"v":1,"d":"1.0"},null,{"$f":"SUM(G525)","v":{"v":0,"d":"0.0"}},null,null,{"v":0,"d":"0.0"},null,null,{"v":0,"d":"0.0"},null,null,{"v":0,"d":"0.0"},null,null,{"v":0,"d":"0.0"},null,null,{"v":0,"d":"0.0"},null,null,{"v":0,"d":"0.0"}]
[{"$f":"T(A526)","v":""}]
[{"$nulls":4},{"$f":"SUM(E586)","v":{"v":1,"d":"1.0"}},null,{"$f":"SUM(G586)","v":{"v":0,"d":"0.0"}},null,null,{"$f":"SUM((J586+M586+P586)/3)","v":{"v":0,"d":"0.0"}},{"$nulls":8},{"$f":"SUM(((S586*3)+V586+Y586)/5)","v":{"v":0,"d":"0.0"}}]
[]
[{"$f":"T(A584)","v":"Weapon of Mass Destruction "},{"$nulls":3},"Threat",null,"Criticality",null,null,"Vulnerability",{"$nulls":8},"Consequence",{"$nulls":8},{"$f":"SUM(((((J594+S594)/2)*G594)*E594))","v":0}]
[{"$nulls":9},"Exposure",null,null,"Protective Measures",null,null,"Robustness/Resilience",null,null,"Human",null,null,"Economic",null,null,"Psychological"]
[{"$f":"T(A531)","v":"Primary Control Center"},null,{"$f":"T(C531)","v":"FS"},{"$f":"SUM(D531)","v":6},{"v":1,"d":"1.0"},null,{"$f":"SUM(G531)","v":{"v":0,"d":"0.0"}},null,null,{"v":0,"d":"0.0"},null,null,{"v":0,"d":"0.0"},null,null,{"v":0,"d":"0.0"},null,null,{"v":0,"d":"0.0"},null,null,{"v":0,"d":"0.0"},null,null,{"v":0,"d":"0.0"}]
[{"$f":"T(A532)","v":""}]
[{"$nulls":4},{"$f":"SUM(E592)","v":{"v":1,"d":"1.0"}},null,{"$f":"SUM(G592)","v":{"v":0,"d":"0.0"}},null,null,{"$f":"SUM((J592+M592+P592)/3)","v":{"v":0,"d":"0.0"}},{"$nulls":8},{"$f":"SUM(((S592*3)+V592+Y592)/5)","v":{"v":0,"d":"0.0"}}]
[]
[{"$f":"T(A590)","v":"Weapon of Mass Destruction "},{"$nulls":3},"Threat",null,"Criticality",null,null,"Vulnerability",{"$nulls":8},"Consequence",{"$nulls":8},{"$f":"SUM(((((J600+S600)/2)*G600)*E600))","v":0}]
[{"$nulls":9},"Exposure",null,null,"Protective Measures",null,null,"Robustness/Resilience",null,null,"Human",null,null,"Economic",null,null,"Psychological"]
[{"$f":"T(A537)","v":"Cyber Systems"},null,{"$f":"T(C537)","v":"FS"},{"$f":"SUM(D537)","v":7},{"v":1,"d":"1.0"},null,{"$f":"SUM(G537)","v":{"v":0,"d":"0.0"}},null,null,{"v":0,"d":"0.0"},null,null,{"v":0,"d":"0.0"},null,null,{"v":0,"d":"0.0"},null,null,{"v":0,"d":"0.0"},null,null,{"v":0,"d":"0.0"},null,null,{"v":0,"d":"0.0"}]
[{"$f":"T(A538)","v":""}]
[{"$nulls":4},{"$f":"SUM(E598)","v":{"v":1,"d":"1.0"}},null,{"$f":"SUM(G598)","v":{"v":0,"d":"0.0"}},null,null,{"$f":"SUM((J598+M598+P598)/3)","v":{"v":0,"d":"0.0"}},{"$nulls":8},{"$f":"SUM(((S598*3)+V598+Y598)/5)","v":{"v":0,"d":"0.0"}}]
[]
[{"$f":"T(A590)","v":"Weapon of Mass Destruction "},{"$nulls":3},"Threat",null,"Criticality",null,null,"Vulnerability",{"$nulls":8},"Consequence",{"$nulls":8},{"$f":"SUM(((((J606+S606)/2)*G606)*E606))","v":0}]
[{"$nulls":9},"Exposure",null,null,"Protective Measures",null,null,"Robustness/Resilience",null,null,"Human",null,null,"Economic",null,null,"Psychological"]
[{"$f":"T(A543)","v":"Aids to Navigation"},null,{"$f":"T(C543)","v":"FS"},{"$f":"SUM(D543)","v":8},{"v":1,"d":"1.0"},null,{"$f":"SUM(G543)","v":{"v":0,"d":"0.0"}},null,null,{"v":0,"d":"0.0"},null,null,{"v":0,"d":"0.0"},null,null,{"v":0,"d":"0.0"},null,null,{"v":0,"d":"0.0"},null,null,{"v":0,"d":"0.0"},null,null,{"v":0,"d":"0.0"}]
[{"$f":"T(A544)","v":""}]
[{"$nulls":4},{"$f":"SUM(E604)","v":{"v":1,"d":"1.0"}},null,{"$f":"SUM(G604)","v":{"v":0,"d":"0.0"}},null,null,{"$f":"SUM((J604+M604+P604)/3)","v":{"v":0,"d":"0.0"}},{"$nulls":8},{"$f":"SUM(((S604*3)+V604+Y604)/5)","v":{"v":0,"d":"0.0"}}]
[]
[{"$f":"T(A590)","v":"Weapon of Mass Destruction "},{"$nulls":3},"Threat",null,"Criticality",null,null,"Vulnerability",{"$nulls":8},"Consequence",{"$nulls":8},{"$f":"SUM(((((J612+S612)/2)*G612)*E612))","v":0}]
[{"$nulls":9},"Exposure",null,null,"Protective Measures",null,null,"Robustness/Resilience",null,null,"Human",null,null,"Economic",null,null,"Psychological"]
[{"$f":"T(A549)","v":"Support Craft"},null,{"$f":"T(C549)","v":"FS"},{"$f":"SUM(D549)","v":9},{"v":1,"d":"1.0"},null,{"$f":"SUM(G549)","v":{"v":0,"d":"0.0"}},null,null,{"v":0,"d":"0.0"},null,null,{"v":0,"d":"0.0"},null,null,{"v":0,"d":"0.0"},null,null,{"v":0,"d":"0.0"},null,null,{"v":0,"d":"0.0"},null,null,{"v":0,"d":"0.0"}]
[{"$f":"T(A550)","v":""}]
[{"$nulls":4},{"$f":"SUM(E610)","v":{"v":1,"d":"1.0"}},null,{"$f":"SUM(G610)","v":{"v":0,"d":"0.0"}},null,null,{"$f":"SUM((J610+M610+P610)/3)","v":{"v":0,"d":"0.0"}},{"$nulls":8},{"$f":"SUM(((S610*3)+V610+Y610)/5)","v":{"v":0,"d":"0.0"}}]
[]
[{"$f":"T(A596)","v":"Weapon of Mass Destruction "},{"$nulls":3},"Threat",null,"Criticality",null,null,"Vulnerability",{"$nulls":8},"Consequence",{"$nulls":8},{"$f":"SUM(((((J618+S618)/2)*G618)*E618))","v":0}]
[{"$nulls":9},"Exposure",null,null,"Protective Measures",null,null,"Robustness/Resilience",null,null,"Human",null,null,"Economic",null,null,"Psychological"]
[{"$f":"T(A555)","v":"Maintenance Facilities"},null,{"$f":"T(C555)","v":"FS"},{"$f":"SUM(D555)","v":10},{"v":1,"d":"1.0"},null,{"$f":"SUM(G555)","v":{"v":0,"d":"0.0"}},null,null,{"v":0,"d":"0.0"},null,null,{"v":0,"d":"0.0"},null,null,{"v":0,"d":"0.0"},null,null,{"v":0,"d":"0.0"},null,null,{"v":0,"d":"0.0"},null,null,{"v":0,"d":"0.0"}]
[{"$f":"T(A556)","v":""}]
[{"$nulls":4},{"$f":"SUM(E616)","v":{"v":1,"d":"1.0"}},null,{"$f":"SUM(G616)","v":{"v":0,"d":"0.0"}},null,null,{"$f":"SUM((J616+M616+P616)/3)","v":{"v":0,"d":"0.0"}},{"$nulls":8},{"$f":"SUM(((S616*3)+V616+Y616)/5)","v":{"v":0,"d":"0.0"}}]
[]
["SENSITIVE SECURITY INFORMATION"]
["WARNING: This document contains Sensitive Security Information that is controlled under 49 CFR 1520. No part of this document may be released to persons without a need to know, as defined in 49 CFR 1520, except with the written permission of the FEMA Administrator, Washington, DC. Unauthorized release may result in civil penalty or other action. For U.S. Government agencies, public release is governed by 5 U.S.C. 522."]

{"sheet":"Additional Assets","index":8,"n_rows":628,"n_cols":28,"rows_kept":628,"merged":[[1,0,3,27],[4,0,4,27],[6,0,7,27],[9,0,9,27],[10,0,10,3],[10,4,11,5],[10,6,11,8],[10,9,10,17],[10,18,10,26],[10,27,14,27],[11,0,11,3],[11,9,11,11],[11,12,11,14],[11,15,11,17],[11,18,11,20],[11,21,11,23],[11,24,11,26],[12,0,12,1],[12,4,13,5],[12,6,13,8],[12,9,13,11],[12,12,13,14],[12,15,13,17],[12,18,13,20],[12,21,13,23],[12,24,13,26],[13,0,14,3],[14,4,14,5],[14,6,14,8],[14,9,14,17],[14,18,14,26],[16,0,16,3],[16,4,17,5],[16,6,17,8],[16,9,16,17],[16,18,16,26],[16,27,20,27],[17,0,17,3],[17,9,17,11],[17,12,17,14],[17,15,17,17],[17,18,17,20],[17,21,17,23],[17,24,17,26],[18,0,18,1],[18,4,19,5],[18,6,19,8],[18,9,19,11],[18,12,19,14],[18,15,19,17],[18,18,19,20],[18,21,19,23],[18,24,19,26],[19,0,20,3],[20,4,20,5],[20,6,20,8],[20,9,20,17],[20,18,20,26],[22,0,22,3],[22,4,23,5],[22,6,23,8],[22,9,22,17],[22,18,22,26],[22,27,26,27],[23,0,23,3],[23,9,23,11],[23,12,23,14],[23,15,23,17],[23,18,23,20],[23,21,23,23],[23,24,23,26],[24,0,24,1],[24,4,25,5],[24,6,25,8],[24,9,25,11],[24,12,25,14],[24,15,25,17],[24,18,25,20],[24,21,25,23],[24,24,25,26],[25,0,26,3],[26,4,26,5],[26,6,26,8],[26,9,26,17],[26,18,26,26],[28,0,28,3],[28,4,29,5],[28,6,29,8],[28,9,28,17],[28,18,28,26],[28,27,32,27],[29,0,29,3],[29,9,29,11],[29,12,29,14],[29,15,29,17],[29,18,29,20],[29,21,29,23],[29,24,29,26],[30,0,30,1],[30,4,31,5],[30,6,31,8],[30,9,31,11],[30,12,31,14],[30,15,31,17],[30,18,31,20],[30,21,31,23],[30,24,31,26],[31,0,32,3],[32,4,32,5],[32,6,32,8],[32,9,32,17],[32,18,32,26],[34,0,34,3],[34,4,35,5],[34,6,35,8],[34,9,34,17],[34,18,34,26],[34,27,38,27],[35,0,35,3],[35,9,35,11],[35,12,35,14],[35,15,35,17],[35,18,35,20],[35,21,35,23],[35,24,35,26],[36,0,36,1],[36,4,37,5],[36,6,37,8],[36,9,37,11],[36,12,37,14],[36,15,37,17],[36,18,37,20],[36,21,37,23],[36,24,37,26],[37,0,38,3],[38,4,38,5],[38,6,38,8],[38,9,38,17],[38,18,38,26],[40,0,40,3],[40,4,41,5],[40,6,41,8],[40,9,40,17],[40,18,40,26],[40,27,44,27],[41,0,41,3],[41,9,41,11],[41,12,41,14],[41,15,41,17],[41,18,41,20],[41,21,41,23],[41,24,41,26],[42,0,42,1],[42,4,43,5],[42,6,43,8],[42,9,43,11],[42,12,43,14],[42,15,43,17],[42,18,43,20],[42,21,43,23],[42,24,43,26],[43,0,44,3],[44,4,44,5],[44,6,44,8],[44,9,44,17],[44,18,44,26],[46,0,46,3],[46,4,47,5],[46,6,47,8],[46,9,46,17],[46,18,46,26],[46,27,50,27],[47,0,47,3],[47,9,47,11],[47,12,47,14],[47,15,47,17],[47,18,47,20],[47,21,47,23],[47,24,47,26],[48,0,48,1],[48,4,49,5],[48,6,49,8],[48,9,49,11],[48,12,49,14],[48,15,49,17],[48,18,49,20],[48,21,49,23],[48,24,49,26],[49,0,50,3],[50,4,50,5],[50,6,50,8],[50,9,50,17],[50,18,50,26],[52,0,52,3],[52,4,53,5],[52,6,53,8],[52,9,52,17],[52,18,52,26],[52,27,56,27],[53,0,53,3],[53,9,53,11],[53,12,53,14],[53,15,53,17],[53,18,53,20],[53,21,53,23],[53,24,53,26],[54,0,54,1],[54,4,55,5],[54,6,55,8],[54,9,55,11],[54,12,55,14],[54,15,55,17],[54,18,55,20],[54,21,55,23],[54,24,55,26],[55,0,56,3],[56,4,56,5],[56,6,56,8],[56,9,56,17],[56,18,56,26],[58,0,58,3],[58,4,59,5],[58,6,59,8],[58,9,58,17],[58,18,58,26],[58,27,62,27],[59,0,59,3],[59,9,59,11],[59,12,59,14],[59,15,59,17],[59,18,59,20],[59,21,59,23],[59,24,59,26],[60,0,60,1],[60,4,61,5],[60,6,61,8],[60,9,61,11],[60,12,61,14],[60,15,61,17],[60,18,61,20],[60,21,61,23],[60,24,61,26],[61,0,62,3],[62,4,62,5],[62,6,62,8],[62,9,62,17],[62,18,62,26],[64,0,64,3],[64,4,65,5],[64,6,65,8],[64,9,64,17],[64,18,64,26],[64,27,68,27],[65,0,65,3],[65,9,65,11],[65,12,65,14],[65,15,65,17],[65,18,65,20],[65,21,65,23],[65,24,65,26],[66,0,66,1],[66,4,67,5],[66,6,67,8],[66,9,67,11],[66,12,67,14],[66,15,67,17],[66,18,67,20],[66,21,67,23],[66,24,67,26],[67,0,68,3],[68,4,68,5],[68,6,68,8],[68,9,68,17],[68,18,68,26],[70,0,70,27],[71,0,71,3],[71,4,72,5],[71,6,72,8],[71,9,71,17],[71,18,71,26],[71,27,75,27],[72,0,72,3],[72,9,72,11],[72,12,72,14],[72,15,72,17],[72,18,72,20],[72,21,72,23],[72,24,72,26],[73,0,73,1],[73,4,74,5],[73,6,74,8],[73,9,74,11],[73,12,74,14],[73,15,74,17],[73,18,74,20],[73,21,74,23],[73,24,74,26],[74,0,75,3],[75,4,75,5],[75,6,75,8],[75,9,75,17],[75,18,75,26],[77,0,77,3],[77,4,78,5],[77,6,78,8],[77,9,77,17],[77,18,77,26],[77,27,81,27],[78,0,78,3],[78,9,78,11],[78,12,78,14],[78,15,78,17],[78,18,78,20],[78,21,78,23],[78,24,78,26],[79,0,79,1],[79,4,80,5],[79,6,80,8],[79,9,80,11],[79,12,80,14],[79,15,80,17],[79,18,80,20],[79,21,80,23],[79,24,80,26],[80,0,81,3],[81,4,81,5],[81,6,81,8],[81,9,81,17],[81,18,81,26],[83,0,83,3],[83,4,84,5],[83,6,84,8],[83,9,83,17],[83,18,83,26],[83,27,87,27],[84,0,84,3],[84,9,84,11],[84,12,84,14],[84,15,84,17],[84,18,84,20],[84,21,84,23],[84,24,84,26],[85,0,85,1],[85,4,86,5],[85,6,86,8],[85,9,86,11],[85,12,86,14],[85,15,86,17],[85,18,86,20],[85,21,86,23],[85,24,86,26],[86,0,87,3],[87,4,87,5],[87,6,87,8],[87,9,87,17],[87,18,87,26],[89,0,89,3],[89,4,90,5],[89,6,90,8],[89,9,89,17],[89,18,89,26],[89,27,93,27],[90,0,90,3],[90,9,90,11],[90,12,90,14],[90,15,90,17],[90,18,90,20],[90,21,90,23],[90,24,90,26],[91,0,91,1],[91,4,92,5],[91,6,92,8],[91,9,92,11],[91,12,92,14],[91,15,92,17],[91,18,92,20],[91,21,92,23],[91,24,92,26],[92,0,93,3],[93,4,93,5],[93,6,93,8],[93,9,93,17],[93,18,93,26],[95,0,95,3],[95,4,96,5],[95,6,96,8],[95,9,95,17],[95,18,95,26],[95,27,99,27],[96,0,96,3],[96,9,96,11],[96,12,96,14],[96,15,96,17],[96,18,96,20],[96,21,96,23],[96,24,96,26],[97,0,97,1],[97,4,98,5],[97,6,98,8],[97,9,98,11],[97,12,98,14],[97,15,98,17],[97,18,98,20],[97,21,98,23],[97,24,98,26],[98,0,99,3],[99,4,99,5],[99,6,99,8],[99,9,99,17],[99,18,99,26],[101,0,101,3],[101,4,102,5],[101,6,102,8],[101,9,101,17],[101,18,101,26],[101,27,105,27],[102,0,102,3],[102,9,102,11],[102,12,102,14],[102,15,102,17],[102,18,102,20],[102,21,102,23],[102,24,102,26],[103,0,103,1],[103,4,104,5],[103,6,104,8],[103,9,104,11],[103,12,104,14],[103,15,104,17],[103,18,104,20],[103,21,104,23],[103,24,104,26],[104,0,105,3],[105,4,105,5],[105,6,105,8],[105,9,105,17],[105,18,105,26],[107,0,107,3],[107,4,108,5],[107,6,108,8],[107,9,107,17],[107,18,107,26],[107,27,111,27],[108,0,108,3],[108,9,108,11],[108,12,108,14],[108,15,108,17],[108,18,108,20],[108,21,108,23],[108,24,108,26],[109,0,109,1],[109,4,110,5],[109,6,110,8],[109,9,110,11],[109,12,110,14],[109,15,110,17],[109,18,110,20],[109,21,110,23],[109,24,110,26],[110,0,111,3],[111,4,111,5],[111,6,111,8],[111,9,111,17],[111,18,111,26],[113,0,113,3],[113,4,114,5],[113,6,114,8],[113,9,113,17],[113,18,113,26],[113,27,117,27],[114,0,114,3],[114,9,114,11],[114,12,114,14],[114,15,114,17],[114,18,114,20],[114,21,114,23],[114,24,114,26],[115,0,115,1],[115,4,116,5],[115,6,116,8],[115,9,116,11],[115,12,116,14],[115,15,116,17],[115,18,116,20],[115,21,116,23],[115,24,116,26],[116,0,117,3],[117,4,117,5],[117,6,117,8],[117,9,117,17],[117,18,117,26],[119,0,119,3],[119,4,120,5],[119,6,120,8],[119,9,119,17],[119,18,119,26],[119,27,123,27],[120,0,120,3],[120,9,120,11],[120,12,120,14],[120,15,120,17],[120,18,120,20],[120,21,120,23],[120,24,120,26],[121,0,121,1],[121,4,122,5],[121,6,122,8],[121,9,122,11],[121,12,122,14],[121,15,122,17],[121,18,122,20],[121,21,122,23],[121,24,122,26],[122,0,123,3],[123,4,123,5],[123,6,123,8],[123,9,123,17],[123,18,123,26],[125,0,125,3],[125,4,126,5],[125,6,126,8],[125,9,125,17],[125,18,125,26],[125,27,129,27],[126,0,126,3],[126,9,126,11],[126,12,126,14],[126,15,126,17],[126,18,126,20],[126,21,126,23],[126,24,126,26],[127,0,127,1],[127,4,128,5],[127,6,128,8],[127,9,128,11],[127,12,128,14],[127,15,128,17],[127,18,128,20],[127,21,128,23],[127,24,128,26],[128,0,129,3],[129,4,129,5],[129,6,129,8],[129,9,129,17],[129,18,129,26],[131,0,131,27],[132,0,132,3],[132,4,133,5],[132,6,133,8],[132,9,132,17],[132,18,132,26],[132,27,136,27],[133,0,133,3],[133,9,133,11],[133,12,133,14],[133,15,133,17],[133,18,133,20],[133,21,133,23],[133,24,133,26],[134,0,134,1],[134,4,135,5],[134,6,135,8],[134,9,135,11],[134,12,135,14],[134,15,135,17],[134,18,135,20],[134,21,135,23],[134,24,135,26],[135,0,136,3],[136,4,136,5],[136,6,136,8],[136,9,136,17],[136,18,136,26],[138,0,138,3],[138,4,139,5],[138,6,139,8],[138,9,138,17],[138,18,138,26],[138,27,142,27],[139,0,139,3],[139,9,139,11],[139,12,139,14],[139,15,139,17],[139,18,139,20],[139,21,139,23],[139,24,139,26],[140,0,140,1],[140,4,141,5],[140,6,141,8],[140,9,141,11],[140,12,141,14],[140,15,141,17],[140,18,141,20],[140,21,141,23],[140,24,141,26],[141,0,142,3],[142,4,142,5],[142,6,142,8],[142,9,142,17],[142,18,142,26],[144,0,144,3],[144,4,145,5],[144,6,145,8],[144,9,144,17],[144,18,144,26],[144,27,148,27],[145,0,145,3],[145,9,145,11],[145,12,145,14],[145,15,145,17],[145,18,145,20],[145,21,145,23],[145,24,145,26],[146,0,146,1],[146,4,147,5],[146,6,147,8],[146,9,147,11],[146,12,147,14],[146,15,147,17],[146,18,147,20],[146,21,147,23],[146,24,147,26],[147,0,148,3],[148,4,148,5],[148,6,148,8],[148,9,148,17],[148,18,148,26],[150,0,150,3],[150,4,151,5],[150,6,151,8],[150,9,150,17],[150,18,150,26],[150,27,154,27],[151,0,151,3],[151,9,151,11],[151,12,151,14],[151,15,151,17],[151,18,151,20],[151,21,151,23],[151,24,151,26],[152,0,152,1],[152,4,153,5],[152,6,153,8],[152,9,153,11],[152,12,153,14],[152,15,153,17],[152,18,153,20],[152,21,153,23],[152,24,153,26],[153,0,154,3],[154,4,154,5],[154,6,154,8],[154,9,154,17],[154,18,154,26],[156,0,156,3],[156,4,157,5],[156,6,157,8],[156,9,156,17],[156,18,156,26],[156,27,160,27],[157,0,157,3],[157,9,157,11],[157,12,157,14],[157,15,157,17],[157,18,157,20],[157,21,157,23],[157,24,157,26],[158,0,158,1],[158,4,159,5],[158,6,159,8],[158,9,159,11],[158,12,159,14],[158,15,159,17],[158,18,159,20],[158,21,159,23],[158,24,159,26],[159,0,160,3],[160,4,160,5],[160,6,160,8],[160,9,160,17],[160,18,160,26],[162,0,162,3],[162,4,163,5],[162,6,163,8],[162,9,162,17],[162,18,162,26],[162,27,166,27],[163,0,163,3],[163,9,163,11],[163,12,163,14],[163,15,163,17],[163,18,163,20],[163,21,163,23],[163,24,163,26],[164,0,164,1],[164,4,165,5],[164,6,165,8],[164,9,165,11],[164,12,165,14],[164,15,165,17],[164,18,165,20],[164,21,165,23],[164,24,165,26],[165,0,166,3],[166,4,166,5],[166,6,166,8],[166,9,166,17],[166,18,166,26],[168,0,168,3],[168,4,169,5],[168,6,169,8],[168,9,168,17],[168,18,168,26],[168,27,172,27],[169,0,169,3],[169,9,169,11],[169,12,169,14],[169,15,169,17],[169,18,169,20],[169,21,169,23],[169,24,169,26],[170,0,170,1],[170,21,171,23],[170,24,171,26],[171,0,172,3],[172,4,172,5],[172,6,172,8],[172,9,172,17],[172,18,172,26],[378,0,378,27],[379,0,379,3],[379,4,380,5],[379,6,380,8],[379,9,379,17],[379,18,379,26],[379,27,383,27],[380,0,380,3],[380,9,380,11],[380,12,380,14],[380,15,380,17],[380,18,380,20],[380,21,380,23],[380,24,380,26],[381,0,381,1],[381,4,382,5],[381,6,382,8],[381,9,382,11],[381,12,382,14],[381,15,382,17],[381,18,382,20],[381,21,382,23],[381,24,382,26],[382,0,383,3],[383,4,383,5],[383,6,383,8],[383,9,383,17],[383,18,383,26],[385,0,385,3],[385,4,386,5],[385,6,386,8],[385,9,385,17],[385,18,385,26],[385,27,389,27],[386,0,386,3],[386,9,386,11],[386,12,386,14],[386,15,386,17],[386,18,386,20],[386,21,386,23],[386,24,386,26],[387,0,387,1],[387,4,388,5],[387,6,388,8],[387,9,388,11],[387,12,388,14],[387,15,388,17],[387,18,388,20],[387,21,388,23],[387,24,388,26],[388,0,389,3],[389,4,389,5],[389,6,389,8],[389,9,389,17],[389,18,389,26],[391,0,391,3],[391,4,392,5],[391,6,392,8],[391,9,391,17],[391,18,391,26],[391,27,395,27],[392,0,392,3],[392,9,392,11],[392,12,392,14],[392,15,392,17],[392,18,392,20],[392,21,392,23],[392,24,392,26],[393,0,393,1],[393,4,394,5],[393,6,394,8],[393,9,394,11],[393,12,394,14],[393,15,394,17],[393,18,394,20],[393,21,394,23],[393,24,394,26],[394,0,395,3],[395,4,395,5],[395,6,395,8],[395,9,395,17],[395,18,395,26],[397,0,397,3],[397,4,398,5],[397,6,398,8],[397,9,397,17],[397,18,397,26],[397,27,401,27],[398,0,398,3],[398,9,398,11],[398,12,398,14],[398,15,398,17],[398,18,398,20],[398,21,398,23],[398,24,398,26],[399,0,399,1],[399,4,400,5],[399,6,400,8],[399,9,400,11],[399,12,400,14],[399,15,400,17],[399,18,400,20],[399,21,400,23],[399,24,400,26],[400,0,401,3],[401,4,401,5],[401,6,401,8],[401,9,401,17],[401,18,401,26],[403,0,403,3],[403,4,404,5],[403,6,404,8],[403,9,403,17],[403,18,403,26],[403,27,407,27],[404,0,404,3],[404,9,404,11],[404,12,404,14],[404,15,404,17],[404,18,404,20],[404,21,404,23],[404,24,404,26],[405,0,405,1],[405,4,406,5],[405,6,406,8],[405,9,406,11],[405,12,406,14],[405,15,406,17],[405,18,406,20],[405,21,406,23],[405,24,406,26],[406,0,407,3],[407,4,407,5],[407,6,407,8],[407,9,407,17],[407,18,407,26],[409,0,409,3],[409,4,410,5],[409,6,410,8],[409,9,409,17],[409,18,409,26],[409,27,413,27],[410,0,410,3],[410,9,410,11],[410,12,410,14],[410,15,410,17],[410,18,410,20],[410,21,410,23],[410,24,410,26],[411,0,411,1],[411,4,412,5],[411,6,412,8],[411,9,412,11],[411,12,412,14],[411,15,412,17],[411,18,412,20],[411,21,412,23],[411,24,412,26],[412,0,413,3],[413,4,413,5],[413,6,413,8],[413,9,413,17],[413,18,413,26],[415,0,415,3],[415,4,416,5],[415,6,416,8],[415,9,415,17],[415,18,415,26],[415,27,419,27],[416,0,416,3],[416,9,416,11],[416,12,416,14],[416,15,416,17],[416,18,416,20],[416,21,416,23],[416,24,416,26],[417,0,417,1],[417,4,418,5],[417,6,418,8],[417,9,418,11],[417,12,418,14],[417,15,418,17],[417,18,418,20],[417,21,418,23],[417,24,418,26],[418,0,419,3],[419,4,419,5],[419,6,419,8],[419,9,419,17],[419,18,419,26],[421,0,421,3],[421,4,422,5],[421,6,422,8],[421,9,421,17],[421,18,421,26],[421,27,425,27],[422,0,422,3],[422,9,422,11],[422,12,422,14],[422,15,422,17],[422,18,422,20],[422,21,422,23],[422,24,422,26],[423,0,423,1],[423,4,424,5],[423,6,424,8],[423,9,424,11],[423,12,424,14],[423,15,424,17],[423,18,424,20],[423,21,424,23],[423,24,424,26],[424,0,425,3],[425,4,425,5],[425,6,425,8],[425,9,425,17],[425,18,425,26],[427,0,427,3],[427,4,428,5],[427,6,428,8],[427,9,427,17],[427,18,427,26],[427,27,431,27],[428,0,428,3],[428,9,428,11],[428,12,428,14],[428,15,428,17],[428,18,428,20],[428,21,428,23],[428,24,428,26],[429,0,429,1],[429,4,430,5],[429,6,430,8],[429,9,430,11],[429,12,430,14],[429,15,430,17],[429,18,430,20],[429,21,430,23],[429,24,430,26],[430,0,431,3],[431,4,431,5],[431,6,431,8],[431,9,431,17],[431,18,431,26],[433,0,433,3],[433,4,434,5],[433,6,434,8],[433,9,433,17],[433,18,433,26],[433,27,437,27],[434,0,434,3],[434,9,434,11],[434,12,434,14],[434,15,434,17],[434,18,434,20],[434,21,434,23],[434,24,434,26],[435,0,435,1],[435,4,436,5],[435,6,436,8],[435,9,436,11],[435,12,436,14],[435,15,436,17],[435,18,436,20],[435,21,436,23],[435,24,436,26],[436,0,437,3],[437,4,437,5],[437,6,437,8],[437,9,437,17],[437,18,437,26]],"merged_total":2717,"flags":["merged_cut"]}
[]
["WARNING: This document contains Sensitive Security Information that is controlled under 49 CFR 1520. No part of this document may be released to persons without a need to know, as defined in 49 CFR 1520, except with the written permission of the FEMA Administrator, Washington, DC. Unauthorized release may result in civil penalty or other action. For U.S. Government agencies, public release is governed by 5 U.S.C. 522."]
[]
[]
["SENSITIVE SECURITY INFORMATION"]
["Incident types are defined in notes on the far right side of the table by holding the cursor over the incident word. "]
[{"$f":"T(Definitions!A19)","v":"Type 1 Incidents:  Primary Effect Incidents"}]
[]
[]
[{"$f":"T(Definitions!D19)","v":"Armed Assault/Active Shooter"}]
[{"$f":"T('Critical-Representative Assets'!A105)","v":""},{"$nulls":3},"Threat",null,"Criticality",null,null,"Vulnerability",{"$nulls":8},"Consequence",{"$nulls":8},{"$f":"SUM(((((J15+S15)/2)*G15)*E15))","v":0}]
[{"$f":"T(A10)","v":"Armed Assault/Active Shooter"},{"$nulls":8},"Exposure",null,null,"Protective Measures",null,null,"Robustness/Resilience",null,null,"Human",null,null,"Economic",null,null,"Psychological"]
[{"$f":"T('Critical-Representative Assets'!B105)","v":""},null,{"$f":"T('Critical-Representative Assets'!C105)","v":"AA"},{"$f":"SUM('Critical-Representative Assets'!D105)","v":1},{"v":1,"d":"1.0"},null,{"$f":"SUM('Critical-Representative Assets'!F105)","v":{"v":0,"d":"0.0"}},null,null,{"v":0,"d":"0.0"},null,null,{"v":0,"d":"0.0"},null,null,{"v":0,"d":"0.0"},null,null,{"v":0,"d":"0.0"},null,null,{"v":0,"d":"0.0"},null,null,{"v":0,"d":"0.0"}]
[{"$f":"T('Critical-Representative Assets'!E105)","v":""}]
[{"$nulls":4},{"$f":"SUM(E13)","v":{"v":1,"d":"1.0"}},null,{"$f":"SUM(G13)","v":{"v":0,"d":"0.0"}},null,null,{"$f":"SUM((J13+M13+P13)/3)","v":{"v":0,"d":"0.0"}},{"$nulls":8},{"$f":"SUM(((S13*3)+V13+Y13)/5)","v":{"v":0,"d":"0.0"}}]
[]
[{"$f":"T('Critical-Representative Assets'!A106)","v":""},{"$nulls":3},"Threat",null,"Criticality",null,null,"Vulnerability",{"$nulls":8},"Consequence",{"$nulls":8},{"$f":"SUM(((((J21+S21)/2)*G21)*E21))","v":0}]
[{"$f":"T(A10)","v":"Armed Assault/Active Shooter"},{"$nulls":8},"Exposure",null,null,"Protective Measures",null,null,"Robustness/Resilience",null,null,"Human",null,null,"Economic",null,null,"Psychological"]
[{"$f":"T('Critical-Representative Assets'!B106)","v":""},null,{"$f":"T('Critical-Representative Assets'!C106)","v":"AA"},{"$f":"SUM('Critical-Representative Assets'!D106)","v":2},{"v":1,"d":"1.0"},null,{"$f":"SUM('Critical-Representative Assets'!F106)","v":{"v":0,"d":"0.0"}},null,null,{"v":0,"d":"0.0"},null,null,{"v":0,"d":"0.0"},null,null,{"v":0,"d":"0.0"},null,null,{"v":0,"d":"0.0"},null,null,{"v":0,"d":"0.0"},null,null,{"v":0,"d":"0.0"}]
[{"$f":"T('Critical-Representative Assets'!E106)","v":""}]
[{"$nulls":4},{"$f":"SUM(E19)","v":{"v":1,"d":"1.0"}},null,{"$f":"SUM(G19)","v":{"v":0,"d":"0.0"}},null,null,{"$f":"SUM((J19+M19+P19)/3)","v":{"v":0,"d":"0.0"}},{"$nulls":8},{"$f":"SUM(((S19*3)+V19+Y19)/5)","v":{"v":0,"d":"0.0"}}]
[]
[{"$f":"T('Critical-Representative Assets'!A107)","v":""},{"$nulls":3},"Threat",null,"Criticality",null,null,"Vulnerability",{"$nulls":8},"Consequence",{"$nulls":8},{"$f":"SUM(((((J27+S27)/2)*G27)*E27))","v":0}]
[{"$f":"T(A10)","v":"Armed Assault/Active Shooter"},{"$nulls":8},"Exposure",null,null,"Protective Measures",null,null,"Robustness/Resilience",null,null,"Human",null,null,"Economic",null,null,"Psychological"]
[{"$f":"T('Critical-Representative Assets'!B107)","v":""},null,{"$f":"T('Critical-Representative Assets'!C107)","v":"AA"},{"$f":"SUM('Critical-Representative Assets'!D107)","v":3},{"v":1,"d":"1.0"},null,{"$f":"SUM('Critical-Representative Assets'!F107)","v":{"v":0,"d":"0.0"}},null,null,{"v":0,"d":"0.0"},null,null,{"v":0,"d":"0.0"},null,null,{"v":0,"d":"0.0"},null,null,{"v":0,"d":"0.0"},null,null,{"v":0,"d":"0.0"},null,null,{"v":0,"d":"0.0"}]
[{"$f":"T('Critical-Representative Assets'!E107)","v":""}]
[{"$nulls":4},{"$f":"SUM(E25)","v":{"v":1,"d":"1.0"}},null,{"$f":"SUM(G25)","v":{"v":0,"d":"0.0"}},null,null,{"$f":"SUM((J25+M25+P25)/3)","v":{"v":0,"d":"0.0"}},{"$nulls":8},{"$f":"SUM(((S25*3)+V25+Y25)/5)","v":{"v":0,"d":"0.0"}}]
[]
[{"$f":"T('Critical-Representative Assets'!A108)","v":""},{"$nulls":3},"Threat",null,"Criticality",null,null,"Vulnerability",{"$nulls":8},"Consequence",{"$nulls":8},{"$f":"SUM(((((J33+S33)/2)*G33)*E33))","v":0}]
[{"$f":"T(A10)","v":"Armed Assault/Active Shooter"},{"$nulls":8},"Exposure",null,null,"Protective Measures",null,null,"Robustness/Resilience",null,null,"Human",null,null,"Economic",null,null,"Psychological"]
[{"$f":"T('Critical-Representative Assets'!B108)","v":""},null,{"$f":"T('Critical-Representative Assets'!C108)","v":"AA"},{"$f":"SUM('Critical-Representative Assets'!D108)","v":4},{"v":1,"d":"1.0"},null,{"$f":"SUM('Critical-Representative Assets'!F108)","v":{"v":0,"d":"0.0"}},null,null,{"v":0,"d":"0.0"},null,null,{"v":0,"d":"0.0"},null,null,{"v":0,"d":"0.0"},null,null,{"v":0,"d":"0.0"},null,null,{"v":0,"d":"0.0"},null,null,{"v":0,"d":"0.0"}]
[{"$f":"T('Critical-Representative Assets'!E108)","v":""}]
[{"$nulls":4},{"$f":"SUM(E31)","v":{"v":1,"d":"1.0"}},null,{"$f":"SUM(G31)","v":{"v":0,"d":"0.0"}},null,null,{"$f":"SUM((J31+M31+P31)/3)","v":{"v":0,"d":"0.0"}},{"$nulls":8},{"$f":"SUM(((S31*3)+V31+Y31)/5)","v":{"v":0,"d":"0.0"}}]
[]
[{"$f":"T('Critical-Representative Assets'!A109)","v":""},{"$nulls":3},"Threat",null,"Criticality",null,null,"Vulnerability",{"$nulls":8},"Consequence",{"$nulls":8},{"$f":"SUM(((((J39+S39)/2)*G39)*E39))","v":0}]
[{"$f":"T(A10)","v":"Armed Assault/Active Shooter"},{"$nulls":8},"Exposure",null,null,"Protective Measures",null,null,"Robustness/Resilience",null,null,"Human",null,null,"Economic",null,null,"Psychological"]
[{"$f":"T('Critical-Representative Assets'!B109)","v":""},null,{"$f":"T('Critical-Representative Assets'!C109)","v":"AA"},{"$f":"SUM('Critical-Representative Assets'!D109)","v":5},{"v":1,"d":"1.0"},null,{"$f":"SUM('Critical-Representative Assets'!F109)","v":{"v":0,"d":"0.0"}},null,null,{"v":0,"d":"0.0"},null,null,{"v":0,"d":"0.0"},null,null,{"v":0,"d":"0.0"},null,null,{"v":0,"d":"0.0"},null,null,{"v":0,"d":"0.0"},null,null,{"v":0,"d":"0.0"}]
[{"$f":"T('Critical-Representative Assets'!E109)","v":""}]
[{"$nulls":4},{"$f":"SUM(E37)","v":{"v":1,"d":"1.0"}},null,{"$f":"SUM(G37)","v":{"v":0,"d":"0.0"}},null,null,{"$f":"SUM((J37+M37+P37)/3)","v":{"v":0,"d":"0.0"}},{"$nulls":8},{"$f":"SUM(((S37*3)+V37+Y37)/5)","v":{"v":0,"d":"0.0"}}]
[]
[{"$f":"T('Critical-Representative Assets'!A110)","v":""},{"$nulls":3},"Threat",null,"Criticality",null,null,"Vulnerability",{"$nulls":8},"Consequence",{"$nulls":8},{"$f":"SUM(((((J45+S45)/2)*G45)*E45))","v":0}]
[{"$f":"T(A10)","v":"Armed Assault/Active Shooter"},{"$nulls":8},"Exposure",null,null,"Protective Measures",null,null,"Robustness/Resilience",null,null,"Human",null,null,"Economic",null,null,"Psychological"]
[{"$f":"T('Critical-Representative Assets'!B110)","v":""},null,{"$f":"T('Critical-Representative Assets'!C110)","v":"AA"},{"$f":"SUM('Critical-Representative Assets'!D110)","v":6},{"v":1,"d":"1.0"},null,{"$f":"SUM('Critical-Representative Assets'!F110)","v":{"v":0,"d":"0.0"}},null,null,{"v":0,"d":"0.0"},null,null,{"v":0,"d":"0.0"},null,null,{"v":0,"d":"0.0"},null,null,{"v":0,"d":"0.0"},null,null,{"v":0,"d":"0.0"},null,null,{"v":0,"d":"0.0"}]
[{"$f":"T('Critical-Representative Assets'!E110)","v":""}]
[{"$nulls":4},{"$f":"SUM(E43)","v":{"v":1,"d":"1.0"}},null,{"$f":"SUM(G43)","v":{"v":0,"d":"0.0"}},null,null,{"$f":"SUM((J43+M43+P43)/3)","v":{"v":0,"d":"0.0"}},{"$nulls":8},{"$f":"SUM(((S43*3)+V43+Y43)/5)","v":{"v":0,"d":"0.0"}}]
[]
[{"$f":"T('Critical-Representative Assets'!A111)","v":""},{"$nulls":3},"Threat",null,"Criticality",null,null,"Vulnerability",{"$nulls":8},"Consequence",{"$nulls":8},{"$f":"SUM(((((J51+S51)/2)*G51)*E51))","v":0}]
[{"$f":"T(A10)","v":"Armed Assault/Active Shooter"},{"$nulls":8},"Exposure",null,null,"Protective Measures",null,null,"Robustness/Resilience",null,null,"Human",null,null,"Economic",null,null,"Psychological"]
[{"$f":"T('Critical-Representative Assets'!B111)","v":""},null,{"$f":"T('Critical-Representative Assets'!C111)","v":"AA"},{"$f":"SUM('Critical-Representative Assets'!D111)","v":7},{"v":1,"d":"1.0"},null,{"$f":"SUM('Critical-Representative Assets'!F111)","v":{"v":0,"d":"0.0"}},null,null,{"v":0,"d":"0.0"},null,null,{"v":0,"d":"0.0"},null,null,{"v":0,"d":"0.0"},null,null,{"v":0,"d":"0.0"},null,null,{"v":0,"d":"0.0"},null,null,{"v":0,"d":"0.0"}]
[{"$f":"T('Critical-Representative Assets'!E111)","v":""}]
[{"$nulls":4},{"$f":"SUM(E49)","v":{"v":1,"d":"1.0"}},null,{"$f":"SUM(G49)","v":{"v":0,"d":"0.0"}},null,null,{"$f":"SUM((J49+M49+P49)/3)","v":{"v":0,"d":"0.0"}},{"$nulls":8},{"$f":"SUM(((S49*3)+V49+Y49)/5)","v":{"v":0,"d":"0.0"}}]
[]
[{"$f":"T('Critical-Representative Assets'!A112)","v":""},{"$nulls":3},"Threat",null,"Criticality",null,null,"Vulnerability",{"$nulls":8},"Consequence",{"$nulls":8},{"$f":"SUM(((((J57+S57)/2)*G57)*E57))","v":0}]
[{"$f":"T(A10)","v":"Armed Assault/Active Shooter"},{"$nulls":8},"Exposure",null,null,"Protective Measures",null,null,"Robustness/Resilience",null,null,"Human",null,null,"Economic",null,null,"Psychological"]
[{"$f":"T('Critical-Representative Assets'!B112)","v":""},null,{"$f":"T('Critical-Representative Assets'!C112)","v":"AA"},{"$f":"SUM('Critical-Representative Assets'!D112)","v":8},{"v":1,"d":"1.0"},null,{"$f":"SUM('Critical-Representative Assets'!F112)","v":{"v":0,"d":"0.0"}},null,null,{"v":0,"d":"0.0"},null,null,{"v":0,"d":"0.0"},null,null,{"v":0,"d":"0.0"},null,null,{"v":0,"d":"0.0"},null,null,{"v":0,"d":"0.0"},null,null,{"v":0,"d":"0.0"}]
[{"$f":"T('Critical-Representative Assets'!E112)","v":""}]
[{"$nulls":4},{"$f":"SUM(E55)","v":{"v":1,"d":"1.0"}},null,{"$f":"SUM(G55)","v":{"v":0,"d":"0.0"}},null,null,{"$f":"SUM((J55+M55+P55)/3)","v":{"v":0,"d":"0.0"}},{"$nulls":8},{"$f":"SUM(((S55*3)+V55+Y55)/5)","v":{"v":0,"d":"0.0"}}]
[]
[{"$f":"T('Critical-Representative Assets'!A113)","v":""},{"$nulls":3},"Threat",null,"Criticality",null,null,"Vulnerability",{"$nulls":8},"Consequence",{"$nulls":8},{"$f":"SUM(((((J63+S63)/2)*G63)*E63))","v":0}]
[{"$f":"T(A10)","v":"Armed Assault/Active Shooter"},{"$nulls":8},"Exposure",null,null,"Protective Measures",null,null,"Robustness/Resilience",null,null,"Human",null,null,"Economic",null,null,"Psychological"]
[{"$f":"T('Critical-Representative Assets'!B113)","v":""},null,{"$f":"T('Critical-Representative Assets'!C113)","v":"AA"},{"$f":"SUM('Critical-Representative Assets'!D113)","v":9},{"v":1,"d":"1.0"},null,{"$f":"SUM('Critical-Representative Assets'!F113)","v":{"v":0,"d":"0.0"}},null,null,{"v":0,"d":"0.0"},null,null,{"v":0,"d":"0.0"},null,null,{"v":0,"d":"0.0"},null,null,{"v":0,"d":"0.0"},null,null,{"v":0,"d":"0.0"},null,null,{"v":0,"d":"0.0"}]
[{"$f":"T('Critical-Representative Assets'!E113)","v":""}]
[{"$nulls":4},{"$f":"SUM(E61)","v":{"v":1,"d":"1.0"}},null,{"$f":"SUM(G61)","v":{"v":0,"d":"0.0"}},null,null,{"$f":"SUM((J61+M61+P61)/3)","v":{"v":0,"d":"0.0"}},{"$nulls":8},{"$f":"SUM(((S61*3)+V61+Y61)/5)","v":{"v":0,"d":"0.0"}}]
[]
[{"$f":"T('Critical-Representative Assets'!A114)","v":""},{"$nulls":3},"Threat",null,"Criticality",null,null,"Vulnerability",{"$nulls":8},"Consequence",{"$nulls":8},{"$f":"SUM(((((J69+S69)/2)*G69)*E69))","v":0}]
[{"$f":"T(A10)","v":"Armed Assault/Active Shooter"},{"$nulls":8},"Exposure",null,null,"Protective Measures",null,null,"Robustness/Resilience",null,null,"Human",null,null,"Economic",null,null,"Psychological"]
[{"$f":"T('Critical-Representative Assets'!B114)","v":""},null,{"$f":"T('Critical-Representative Assets'!C114)","v":"AA"},{"$f":"SUM('Critical-Representative Assets'!D114)","v":10},{"v":1,"d":"1.0"},null,{"$f":"SUM('Critical-Representative Assets'!F114)","v":{"v":0,"d":"0.0"}},null,null,{"v":0,"d":"0.0"},null,null,{"v":0,"d":"0.0"},null,null,{"v":0,"d":"0.0"},null,null,{"v":0,"d":"0.0"},null,null,{"v":0,"d":"0.0"},null,null,{"v":0,"d":"0.0"}]
[{"$f":"T('Critical-Representative Assets'!E114)","v":""}]
[{"$nulls":4},{"$f":"SUM(E67)","v":{"v":1,"d":"1.0"}},null,{"$f":"SUM(G67)","v":{"v":0,"d":"0.0"}},null,null,{"$f":"SUM((J67+M67+P67)/3)","v":{"v":0,"d":"0.0"}},{"$nulls":8},{"$f":"SUM(((S67*3)+V67+Y67)/5)","v":{"v":0,"d":"0.0"}}]
[]
[{"$f":"T(Definitions!D20)","v":" VBIED or IED"}]
[{"$f":"T(A380)","v":""},{"$nulls":3},"Threat",null,"Criticality",null,null,"Vulnerability",{"$nulls":8},"Consequence",{"$nulls":8},{"$f":"SUM(((((J76+S76)/2)*G76)*E76))","v":0}]
[{"$f":"T(A71)","v":" VBIED or IED"},{"$nulls":8},"Exposure",null,null,"Protective Measures",null,null,"Robustness/Resilience",null,null,"Human",null,null,"Economic",null,null,"Psychological"]
[{"$f":"T(A382)","v":""},null,{"$f":"T(C382)","v":"AA"},{"$f":"SUM(D382)","v":1},{"v":1,"d":"1.0"},null,{"$f":"SUM(G382)","v":{"v":0,"d":"0.0"}},null,null,{"v":0,"d":"0.0"},null,null,{"v":0,"d":"0.0"},null,null,{"v":0,"d":"0.0"},null,null,{"v":0,"d":"0.0"},null,null,{"v":0,"d":"0.0"},null,null,{"v":0,"d":"0.0"}]
[{"$f":"T(A383)","v":""}]
[{"$nulls":4},{"$f":"SUM(E74)","v":{"v":1,"d":"1.0"}},null,{"$f":"SUM(G74)","v":{"v":0,"d":"0.0"}},null,null,{"$f":"SUM((J74+M74+P74)/3)","v":{"v":0,"d":"0.0"}},{"$nulls":8},{"$f":"SUM(((S74*3)+V74+Y74)/5)","v":{"v":0,"d":"0.0"}}]
[]
[{"$f":"T(A386)","v":""},{"$nulls":3},"Threat",null,"Criticality",null,null,"Vulnerability",{"$nulls":8},"Consequence",{"$nulls":8},{"$f":"SUM(((((J82+S82)/2)*G82)*E82))","v":0}]
[{"$f":"T(A71)","v":" VBIED or IED"},{"$nulls":8},"Exposure",null,null,"Protective Measures",null,null,"Robustness/Resilience",null,null,"Human",null,null,"Economic",null,null,"Psychological"]
[{"$f":"T(A388)","v":""},null,{"$f":"T(C388)","v":"AA"},{"$f":"SUM(D388)","v":2},{"v":1,"d":"1.0"},null,{"$f":"SUM(G388)","v":{"v":0,"d":"0.0"}},null,null,{"v":0,"d":"0.0"},null,null,{"v":0,"d":"0.0"},null,null,{"v":0,"d":"0.0"},null,null,{"v":0,"d":"0.0"},null,null,{"v":0,"d":"0.0"},null,null,{"v":0,"d":"0.0"}]
[{"$f":"T(A389)","v":""}]
[{"$nulls":4},{"$f":"SUM(E80)","v":{"v":1,"d":"1.0"}},null,{"$f":"SUM(G80)","v":{"v":0,"d":"0.0"}},null,null,{"$f":"SUM((J80+M80+P80)/3)","v":{"v":0,"d":"0.0"}},{"$nulls":8},{"$f":"SUM(((S80*3)+V80+Y80)/5)","v":{"v":0,"d":"0.0"}}]
[]
[{"$f":"T(A392)","v":""},{"$nulls":3},"Threat",null,"Criticality",null,null,"Vulnerability",{"$nulls":8},"Consequence",{"$nulls":8},{"$f":"SUM(((((J88+S88)/2)*G88)*E88))","v":0}]
[{"$f":"T(A71)","v":" VBIED or IED"},{"$nulls":8},"Exposure",null,null,"Protective Measures",null,null,"Robustness/Resilience",null,null,"Human",null,null,"Economic",null,null,"Psychological"]
[{"$f":"T(A394)","v":""},null,{"$f":"T(C394)","v":"AA"},{"$f":"SUM(D394)","v":3},{"v":1,"d":"1.0"},null,{"$f":"SUM(G394)","v":{"v":0,"d":"0.0"}},null,null,{"v":0,"d":"0.0"},null,null,{"v":0,"d":"0.0"},null,null,{"v":0,"d":"0.0"},null,null,{"v":0,"d":"0.0"},null,null,{"v":0,"d":"0.0"},null,null,{"v":0,"d":"0.0"}]
[{"$f":"T(A395)","v":""}]
[{"$nulls":4},{"$f":"SUM(E86)","v":{"v":1,"d":"1.0"}},null,{"$f":"SUM(G86)","v":{"v":0,"d":"0.0"}},null,null,{"$f":"SUM((J86+M86+P86)/3)","v":{"v":0,"d":"0.0"}},{"$nulls":8},{"$f":"SUM(((S86*3)+V86+Y86)/5)","v":{"v":0,"d":"0.0"}}]
[]
[{"$f":"T(A398)","v":""},{"$nulls":3},"Threat",null,"Criticality",null,null,"Vulnerability",{"$nulls":8},"Consequence",{"$nulls":8},{"$f":"SUM(((((J94+S94)/2)*G94)*E94))","v":0}]
[{"$f":"T(A71)","v":" VBIED or IED"},{"$nulls":8},"Exposure",null,null,"Protective Measures",null,null,"Robustness/Resilience",null,null,"Human",null,null,"Economic",null,null,"Psychological"]
[{"$f":"T(A400)","v":""},null,{"$f":"T(C400)","v":"AA"},{"$f":"SUM(D400)","v":4},{"v":1,"d":"1.0"},null,{"$f":"SUM(G400)","v":{"v":0,"d":"0.0"}},null,null,{"v":0,"d":"0.0"},null,null,{"v":0,"d":"0.0"},null,null,{"v":0,"d":"0.0"},null,null,{"v":0,"d":"0.0"},null,null,{"v":0,"d":"0.0"},null,null,{"v":0,"d":"0.0"}]
[{"$f":"T(A401)","v":""}]
[{"$nulls":4},{"$f":"SUM(E92)","v":{"v":1,"d":"1.0"}},null,{"$f":"SUM(G92)","v":{"v":0,"d":"0.0"}},null,null,{"$f":"SUM((J92+M92+P92)/3)","v":{"v":0,"d":"0.0"}},{"$nulls":8},{"$f":"SUM(((S92*3)+V92+Y92)/5)","v":{"v":0,"d":"0.0"}}]
[]
[{"$f":"T(A404)","v":""},{"$nulls":3},"Threat",null,"Criticality",null,null,"Vulnerability",{"$nulls":8},"Consequence",{"$nulls":8},{"$f":"SUM(((((J100+S100)/2)*G100)*E100))","v":0}]
[{"$f":"T(A71)","v":" VBIED or IED"},{"$nulls":8},"Exposure",null,null,"Protective Measures",null,null,"Robustness/Resilience",null,null,"Human",null,null,"Economic",null,null,"Psychological"]
[{"$f":"T(A406)","v":""},null,{"$f":"T(C406)","v":"AA"},{"$f":"SUM(D406)","v":5},{"v":1,"d":"1.0"},null,{"$f":"SUM(G406)","v":{"v":0,"d":"0.0"}},null,null,{"v":0,"d":"0.0"},null,null,{"v":0,"d":"0.0"},null,null,{"v":0,"d":"0.0"},null,null,{"v":0,"d":"0.0"},null,null,{"v":0,"d":"0.0"},null,null,{"v":0,"d":"0.0"}]
[{"$f":"T(A407)","v":""}]
[{"$nulls":4},{"$f":"SUM(E98)","v":{"v":1,"d":"1.0"}},null,{"$f":"SUM(G98)","v":{"v":0,"d":"0.0"}},null,null,{"$f":"SUM((J98+M98+P98)/3)","v":{"v":0,"d":"0.0"}},{"$nulls":8},{"$f":"SUM(((S98*3)+V98+Y98)/5)","v":{"v":0,"d":"0.0"}}]
[]
[{"$f":"T(A410)","v":""},{"$nulls":3},"Threat",null,"Criticality",null,null,"Vulnerability",{"$nulls":8},"Consequence",{"$nulls":8},{"$f":"SUM(((((J106+S106)/2)*G106)*E106))","v":0}]
[{"$f":"T(A71)","v":" VBIED or IED"},{"$nulls":8},"Exposure",null,null,"Protective Measures",null,null,"Robustness/Resilience",null,null,"Human",null,null,"Economic",null,null,"Psychological"]
[{"$f":"T(A412)","v":""},null,{"$f":"T(C412)","v":"AA"},{"$f":"SUM(D412)","v":6},{"v":1,"d":"1.0"},null,{"$f":"SUM(G412)","v":{"v":0,"d":"0.0"}},null,null,{"v":0,"d":"0.0"},null,null,{"v":0,"d":"0.0"},null,null,{"v":0,"d":"0.0"},null,null,{"v":0,"d":"0.0"},null,null,{"v":0,"d":"0.0"},null,null,{"v":0,"d":"0.0"}]
[{"$f":"T(A413)","v":""}]
[{"$nulls":4},{"$f":"SUM(E104)","v":{"v":1,"d":"1.0"}},null,{"$f":"SUM(G104)","v":{"v":0,"d":"0.0"}},null,null,{"$f":"SUM((J104+M104+P104)/3)","v":{"v":0,"d":"0.0"}},{"$nulls":8},{"$f":"SUM(((S104*3)+V104+Y104)/5)","v":{"v":0,"d":"0.0"}}]
[]
[{"$f":"T(A416)","v":""},{"$nulls":3},"Threat",null,"Criticality",null,null,"Vulnerability",{"$nulls":8},"Consequence",{"$nulls":8},{"$f":"SUM(((((J112+S112)/2)*G112)*E112))","v":0}]
[{"$f":"T(A71)","v":" VBIED or IED"},{"$nulls":8},"Exposure",null,null,"Protective Measures",null,null,"Robustness/Resilience",null,null,"Human",null,null,"Economic",null,null,"Psychological"]
[{"$f":"T(A418)","v":""},null,{"$f":"T(C418)","v":"AA"},{"$f":"SUM(D418)","v":7},{"v":1,"d":"1.0"},null,{"$f":"SUM(G418)","v":{"v":0,"d":"0.0"}},null,null,{"v":0,"d":"0.0"},null,null,{"v":0,"d":"0.0"},null,null,{"v":0,"d":"0.0"},null,null,{"v":0,"d":"0.0"},null,null,{"v":0,"d":"0.0"},null,null,{"v":0,"d":"0.0"}]
[{"$f":"T(A419)","v":""}]
[{"$nulls":4},{"$f":"SUM(E110)","v":{"v":1,"d":"1.0"}},null,{"$f":"SUM(G110)","v":{"v":0,"d":"0.0"}},null,null,{"$f":"SUM((J110+M110+P110)/3)","v":{"v":0,"d":"0.0"}},{"$nulls":8},{"$f":"SUM(((S110*3)+V110+Y110)/5)","v":{"v":0,"d":"0.0"}}]
[]
[{"$f":"T(A422)","v":""},{"$nulls":3},"Threat",null,"Criticality",null,null,"Vulnerability",{"$nulls":8},"Consequence",{"$nulls":8},{"$f":"SUM(((((J118+S118)/2)*G118)*E118))","v":0}]
[{"$f":"T(A71)","v":" VBIED or IED"},{"$nulls":8},"Exposure",null,null,"Protective Measures",null,null,"Robustness/Resilience",null,null,"Human",null,null,"Economic",null,null,"Psychological"]
[{"$f":"T(A424)","v":""},null,{"$f":"T(C424)","v":"AA"},{"$f":"SUM(D424)","v":8},{"v":1,"d":"1.0"},null,{"$f":"SUM(G424)","v":{"v":0,"d":"0.0"}},null,null,{"v":0,"d":"0.0"},null,null,{"v":0,"d":"0.0"},null,null,{"v":0,"d":"0.0"},null,null,{"v":0,"d":"0.0"},null,null,{"v":0,"d":"0.0"},null,null,{"v":0,"d":"0.0"}]
[{"$f":"T(A425)","v":""}]
[{"$nulls":4},{"$f":"SUM(E116)","v":{"v":1,"d":"1.0"}},null,{"$f":"SUM(G116)","v":{"v":0,"d":"0.0"}},null,null,{"$f":"SUM((J116+M116+P116)/3)","v":{"v":0,"d":"0.0"}},{"$nulls":8},{"$f":"SUM(((S116*3)+V116+Y116)/5)","v":{"v":0,"d":"0.0"}}]
[]
[{"$f":"T(A428)","v":""},{"$nulls":3},"Threat",null,"Criticality",null,null,"Vulnerability",{"$nulls":8},"Consequence",{"$nulls":8},{"$f":"SUM(((((J124+S124)/2)*G124)*E124))","v":0}]
[{"$f":"T(A71)","v":" VBIED or IED"},{"$nulls":8},"Exposure",null,null,"Protective Measures",null,null,"Robustness/Resilience",null,null,"Human",null,null,"Economic",null,null,"Psychological"]
[{"$f":"T(A430)","v":""},null,{"$f":"T(C430)","v":"AA"},{"$f":"SUM(D430)","v":9},{"v":1,"d":"1.0"},null,{"$f":"SUM(G430)","v":{"v":0,"d":"0.0"}},null,null,{"v":0,"d":"0.0"},null,null,{"v":0,"d":"0.0"},null,null,{"v":0,"d":"0.0"},null,null,{"v":0,"d":"0.0"},null,null,{"v":0,"d":"0.0"},null,null,{"v":0,"d":"0.0"}]
[{"$f":"T(A431)","v":""}]
[{"$nulls":4},{"$f":"SUM(E122)","v":{"v":1,"d":"1.0"}},null,{"$f":"SUM(G122)","v":{"v":0,"d":"0.0"}},null,null,{"$f":"SUM((J122+M122+P122)/3)","v":{"v":0,"d":"0.0"}},{"$nulls":8},{"$f":"SUM(((S122*3)+V122+Y122)/5)","v":{"v":0,"d":"0.0"}}]
[]
[{"$f":"T(A434)","v":""},{"$nulls":3},"Threat",null,"Criticality",null,null,"Vulnerability",{"$nulls":8},"Consequence",{"$nulls":8},{"$f":"SUM(((((J130+S130)/2)*G130)*E130))","v":0}]
[{"$f":"T(A71)","v":" VBIED or IED"},{"$nulls":8},"Exposure",null,null,"Protective Measures",null,null,"Robustness/Resilience",null,null,"Human",null,null,"Economic",null,null,"Psychological"]
[{"$f":"T(A436)","v":""},null,{"$f":"T(C436)","v":"AA"},{"$f":"SUM(D436)","v":10},{"v":1,"d":"1.0"},null,{"$f":"SUM(G436)","v":{"v":0,"d":"0.0"}},null,null,{"v":0,"d":"0.0"},null,null,{"v":0,"d":"0.0"},null,null,{"v":0,"d":"0.0"},null,null,{"v":0,"d":"0.0"},null,null,{"v":0,"d":"0.0"},null,null,{"v":0,"d":"0.0"}]
[{"$f":"T(A437)","v":""}]
[{"$nulls":4},{"$f":"SUM(E128)","v":{"v":1,"d":"1.0"}},null,{"$f":"SUM(G128)","v":{"v":0,"d":"0.0"}},null,null,{"$f":"SUM((J128+M128+P128)/3)","v":{"v":0,"d":"0.0"}},{"$nulls":8},{"$f":"SUM(((S128*3)+V128+Y128)/5)","v":{"v":0,"d":"0.0"}}]
[]
[{"$f":"T(Definitions!D21)","v":"Hijack"}]
[{"$f":"T(A72)","v":""},{"$nulls":3},"Threat",null,"Criticality",null,null,"Vulnerability",{"$nulls":8},"Consequence",{"$nulls":8},{"$f":"SUM(((((J137+S137)/2)*G137)*E137))","v":0}]
[{"$f":"T(A132)","v":"Hijack"},{"$nulls":8},"Exposure",null,null,"Protective Measures",null,null,"Robustness/Resilience",null,null,"Human",null,null,"Economic",null,null,"Psychological"]
[{"$f":"T(A74)","v":""},null,{"$f":"T(C74)","v":"AA"},{"$f":"SUM(D74)","v":1},{"v":1,"d":"1.0"},null,{"$f":"SUM(G74)","v":{"v":0,"d":"0.0"}},null,null,{"v":0,"d":"0.0"},null,null,{"v":0,"d":"0.0"},null,null,{"v":0,"d":"0.0"},null,null,{"v":0,"d":"0.0"},null,null,{"v":0,"d":"0.0"},null,null,{"v":0,"d":"0.0"}]
[{"$f":"T(A75)","v":""}]
[{"$nulls":4},{"$f":"SUM(E135)","v":{"v":1,"d":"1.0"}},null,{"$f":"SUM(G135)","v":{"v":0,"d":"0.0"}},null,null,{"$f":"SUM((J135+M135+P135)/3)","v":{"v":0,"d":"0.0"}},{"$nulls":8},{"$f":"SUM(((S135*3)+V135+Y135)/5)","v":{"v":0,"d":"0.0"}}]
[]
[{"$f":"T(A78)","v":""},{"$nulls":3},"Threat",null,"Criticality",null,null,"Vulnerability",{"$nulls":8},"Consequence",{"$nulls":8},{"$f":"SUM(((((J143+S143)/2)*G143)*E143))","v":0}]
[{"$f":"T(A132)","v":"Hijack"},{"$nulls":8},"Exposure",null,null,"Protective Measures",null,null,"Robustness/Resilience",null,null,"Human",null,null,"Economic",null,null,"Psychological"]
[{"$f":"T(A80)","v":""},null,{"$f":"T(C80)","v":"AA"},{"$f":"SUM(D80)","v":2},{"v":1,"d":"1.0"},null,{"$f":"SUM(G80)","v":{"v":0,"d":"0.0"}},null,null,{"v":0,"d":"0.0"},null,null,{"v":0,"d":"0.0"},null,null,{"v":0,"d":"0.0"},null,null,{"v":0,"d":"0.0"},null,null,{"v":0,"d":"0.0"},null,null,{"v":0,"d":"0.0"}]
[{"$f":"T(A81)","v":""}]
[{"$nulls":4},{"$f":"SUM(E141)","v":{"v":1,"d":"1.0"}},null,{"$f":"SUM(G141)","v":{"v":0,"d":"0.0"}},null,null,{"$f":"SUM((J141+M141+P141)/3)","v":{"v":0,"d":"0.0"}},{"$nulls":8},{"$f":"SUM(((S141*3)+V141+Y141)/5)","v":{"v":0,"d":"0.0"}}]
[]
[{"$f":"T(A84)","v":""},{"$nulls":3},"Threat",null,"Criticality",null,null,"Vulnerability",{"$nulls":8},"Consequence",{"$nulls":8},{"$f":"SUM(((((J149+S149)/2)*G149)*E149))","v":0}]
[{"$f":"T(A132)","v":"Hijack"},{"$nulls":8},"Exposure",null,null,"Protective Measures",null,null,"Robustness/Resilience",null,null,"Human",null,null,"Economic",null,null,"Psychological"]
[{"$f":"T(A86)","v":""},null,{"$f":"T(C86)","v":"AA"},{"$f":"SUM(D86)","v":3},{"v":1,"d":"1.0"},null,{"$f":"SUM(G86)","v":{"v":0,"d":"0.0"}},null,null,{"v":0,"d":"0.0"},null,null,{"v":0,"d":"0.0"},null,null,{"v":0,"d":"0.0"},null,null,{"v":0,"d":"0.0"},null,null,{"v":0,"d":"0.0"},null,null,{"v":0,"d":"0.0"}]
[{"$f":"T(A87)","v":""}]
[{"$nulls":4},{"$f":"SUM(E147)","v":{"v":1,"d":"1.0"}},null,{"$f":"SUM(G147)","v":{"v":0,"d":"0.0"}},null,null,{"$f":"SUM((J147+M147+P147)/3)","v":{"v":0,"d":"0.0"}},{"$nulls":8},{"$f":"SUM(((S147*3)+V147+Y147)/5)","v":{"v":0,"d":"0.0"}}]
[]
[{"$f":"T(A90)","v":""},{"$nulls":3},"Threat",null,"Criticality",null,null,"Vulnerability",{"$nulls":8},"Consequence",{"$nulls":8},{"$f":"SUM(((((J155+S155)/2)*G155)*E155))","v":0}]
[{"$f":"T(A132)","v":"Hijack"},{"$nulls":8},"Exposure",null,null,"Protective Measures",null,null,"Robustness/Resilience",null,null,"Human",null,null,"Economic",null,null,"Psychological"]
[{"$f":"T(A92)","v":""},null,{"$f":"T(C92)","v":"AA"},{"$f":"SUM(D92)","v":4},{"v":1,"d":"1.0"},null,{"$f":"SUM(G92)","v":{"v":0,"d":"0.0"}},null,null,{"v":0,"d":"0.0"},null,null,{"v":0,"d":"0.0"},null,null,{"v":0,"d":"0.0"},null,null,{"v":0,"d":"0.0"},null,null,{"v":0,"d":"0.0"},null,null,{"v":0,"d":"0.0"}]
[{"$f":"T(A93)","v":""}]
[{"$nulls":4},{"$f":"SUM(E153)","v":{"v":1,"d":"1.0"}},null,{"$f":"SUM(G153)","v":{"v":0,"d":"0.0"}},null,null,{"$f":"SUM((J153+M153+P153)/3)","v":{"v":0,"d":"0.0"}},{"$nulls":8},{"$f":"SUM(((S153*3)+V153+Y153)/5)","v":{"v":0,"d":"0.0"}}]
[]
[{"$f":"T(A96)","v":""},{"$nulls":3},"Threat",null,"Criticality",null,null,"Vulnerability",{"$nulls":8},"Consequence",{"$nulls":8},{"$f":"SUM(((((J161+S161)/2)*G161)*E161))","v":0}]
[{"$f":"T(A132)","v":"Hijack"},{"$nulls":8},"Exposure",null,null,"Protective Measures",null,null,"Robustness/Resilience",null,null,"Human",null,null,"Economic",null,null,"Psychological"]
[{"$f":"T(A98)","v":""},null,{"$f":"T(C98)","v":"AA"},{"$f":"SUM(D98)","v":5},{"v":1,"d":"1.0"},null,{"$f":"SUM(G98)","v":{"v":0,"d":"0.0"}},null,null,{"v":0,"d":"0.0"},null,null,{"v":0,"d":"0.0"},null,null,{"v":0,"d":"0.0"},null,null,{"v":0,"d":"0.0"},null,null,{"v":0,"d":"0.0"},null,null,{"v":0,"d":"0.0"}]
[{"$f":"T(A99)","v":""}]
[{"$nulls":4},{"$f":"SUM(E159)","v":{"v":1,"d":"1.0"}},null,{"$f":"SUM(G159)","v":{"v":0,"d":"0.0"}},null,null,{"$f":"SUM((J159+M159+P159)/3)","v":{"v":0,"d":"0.0"}},{"$nulls":8},{"$f":"SUM(((S159*3)+V159+Y159)/5)","v":{"v":0,"d":"0.0"}}]
[]
[{"$f":"T(A102)","v":""},{"$nulls":3},"Threat",null,"Criticality",null,null,"Vulnerability",{"$nulls":8},"Consequence",{"$nulls":8},{"$f":"SUM(((((J167+S167)/2)*G167)*E167))","v":0}]
[{"$f":"T(A132)","v":"Hijack"},{"$nulls":8},"Exposure",null,null,"Protective Measures",null,null,"Robustness/Resilience",null,null,"Human",null,null,"Economic",null,null,"Psychological"]
[{"$f":"T(A104)","v":""},null,{"$f":"T(C104)","v":"AA"},{"$f":"SUM(D104)","v":6},{"v":1,"d":"1.0"},null,{"$f":"SUM(G104)","v":{"v":0,"d":"0.0"}},null,null,{"v":0,"d":"0.0"},null,null,{"v":0,"d":"0.0"},null,null,{"v":0,"d":"0.0"},null,null,{"v":0,"d":"0.0"},null,null,{"v":0,"d":"0.0"},null,null,{"v":0,"d":"0.0"}]
[{"$f":"T(A105)","v":""}]
[{"$nulls":4},{"$f":"SUM(E165)","v":{"v":1,"d":"1.0"}},null,{"$f":"SUM(G165)","v":{"v":0,"d":"0.0"}},null,null,{"$f":"SUM((J165+M165+P165)/3)","v":{"v":0,"d":"0.0"}},{"$nulls":8},{"$f":"SUM(((S165*3)+V165+Y165)/5)","v":{"v":0,"d":"0.0"}}]
[]
[{"$f":"T(A108)","v":""},{"$nulls":3},"Threat",null,"Criticality",null,null,"Vulnerability",{"$nulls":8},"Consequence",{"$nulls":8},{"$f":"SUM(((((J173+S173)/2)*G173)*E173))","v":0}]
[{"$f":"T(A132)","v":"Hijack"},{"$nulls":8},"Exposure",null,null,"Protective Measures",null,null,"Robustness/Resilience",null,null,"Human",null,null,"Economic",null,null,"Psychological"]
[{"$f":"T(A110)","v":""},null,{"$f":"T(C110)","v":"AA"},{"$f":"SUM(D110)","v":7},{"v":1,"d":"1.0"},null,{"$f":"SUM(G110)","v":{"v":0,"d":"0.0"}},null,null,{"v":0,"d":"0.0"},null,null,{"v":0,"d":"0.0"},null,null,{"v":0,"d":"0.0"},null,null,{"v":0,"d":"0.0"},null,null,{"v":0,"d":"0.0"},null,null,{"v":0,"d":"0.0"}]
[{"$f":"T(A111)","v":""}]
[{"$nulls":4},{"$f":"SUM(E171)","v":{"v":1,"d":"1.0"}},null,{"$f":"SUM(G171)","v":{"v":0,"d":"0.0"}},null,null,{"$f":"SUM((J171+M171+P171)/3)","v":{"v":0,"d":"0.0"}},{"$nulls":8},{"$f":"SUM(((S171*3)+V171+Y171)/5)","v":{"v":0,"d":"0.0"}}]
[]
[{"$f":"T(A114)","v":""},{"$nulls":3},"Threat",null,"Criticality",null,null,"Vulnerability",{"$nulls":8},"Consequence",{"$nulls":8},{"$f":"SUM(((((J179+S179)/2)*G179)*E179))","v":0}]
[{"$f":"T(A132)","v":"Hijack"},{"$nulls":8},"Exposure",null,null,"Protective Measures",null,null,"Robustness/Resilience",null,null,"Human",null,null,"Economic",null,null,"Psychological"]
[{"$f":"T(A116)","v":""},null,{"$f":"T(C116)","v":"AA"},{"$f":"SUM(D116)","v":8},{"v":1,"d":"1.0"},null,{"$f":"SUM(G116)","v":{"v":0,"d":"0.0"}},null,null,{"v":0,"d":"0.0"},null,null,{"v":0,"d":"0.0"},null,null,{"v":0,"d":"0.0"},null,null,{"v":0,"d":"0.0"},null,null,{"v":0,"d":"0.0"},null,null,{"v":0,"d":"0.0"}]
[{"$f":"T(A117)","v":""}]
[{"$nulls":4},{"$f":"SUM(E177)","v":{"v":1,"d":"1.0"}},null,{"$f":"SUM(G177)","v":{"v":0,"d":"0.0"}},null,null,{"$f":"SUM((J177+M177+P177)/3)","v":{"v":0,"d":"0.0"}},{"$nulls":8},{"$f":"SUM(((S177*3)+V177+Y177)/5)","v":{"v":0,"d":"0.0"}}]
[]
[{"$f":"T(A120)","v":""},{"$nulls":3},"Threat",null,"Criticality",null,null,"Vulnerability",{"$nulls":8},"Consequence",{"$nulls":8},{"$f":"SUM(((((J185+S185)/2)*G185)*E185))","v":0}]
[{"$f":"T(A132)","v":"Hijack"},{"$nulls":8},"Exposure",null,null,"Protective Measures",null,null,"Robustness/Resilience",null,null,"Human",null,null,"Economic",null,null,"Psychological"]
[{"$f":"T(A122)","v":""},null,{"$f":"T(C122)","v":"AA"},{"$f":"SUM(D122)","v":9},{"v":1,"d":"1.0"},null,{"$f":"SUM(G122)","v":{"v":0,"d":"0.0"}},null,null,{"v":0,"d":"0.0"},null,null,{"v":0,"d":"0.0"},null,null,{"v":0,"d":"0.0"},null,null,{"v":0,"d":"0.0"},null,null,{"v":0,"d":"0.0"},null,null,{"v":0,"d":"0.0"}]
[{"$f":"T(A123)","v":""}]
[{"$nulls":4},{"$f":"SUM(E183)","v":{"v":1,"d":"1.0"}},null,{"$f":"SUM(G183)","v":{"v":0,"d":"0.0"}},null,null,{"$f":"SUM((J183+M183+P183)/3)","v":{"v":0,"d":"0.0"}},{"$nulls":8},{"$f":"SUM(((S183*3)+V183+Y183)/5)","v":{"v":0,"d":"0.0"}}]
[]
[{"$f":"T(A126)","v":""},{"$nulls":3},"Threat",null,"Criticality",null,null,"Vulnerability",{"$nulls":8},"Consequence",{"$nulls":8},{"$f":"SUM(((((J191+S191)/2)*G191)*E191))","v":0}]
[{"$f":"T(A132)","v":"Hijack"},{"$nulls":8},"Exposure",null,null,"Protective Measures",null,null,"Robustness/Resilience",null,null,"Human",null,null,"Economic",null,null,"Psychological"]
[{"$f":"T(A128)","v":""},null,{"$f":"T(C128)","v":"AA"},{"$f":"SUM(D128)","v":10},{"v":1,"d":"1.0"},null,{"$f":"SUM(G128)","v":{"v":0,"d":"0.0"}},null,null,{"v":0,"d":"0.0"},null,null,{"v":0,"d":"0.0"},null,null,{"v":0,"d":"0.0"},null,null,{"v":0,"d":"0.0"},null,null,{"v":0,"d":"0.0"},null,null,{"v":0,"d":"0.0"}]
[{"$f":"T(A129)","v":""}]
[{"$nulls":4},{"$f":"SUM(E189)","v":{"v":1,"d":"1.0"}},null,{"$f":"SUM(G189)","v":{"v":0,"d":"0.0"}},null,null,{"$f":"SUM((J189+M189+P189)/3)","v":{"v":0,"d":"0.0"}},{"$nulls":8},{"$f":"SUM(((S189*3)+V189+Y189)/5)","v":{"v":0,"d":"0.0"}}]
[]
[{"$f":"T(Definitions!D22)","v":"Coordinated Complex Attack"}]
[{"$f":"T(A133)","v":""},{"$nulls":3},"Threat",null,"Criticality",null,null,"Vulnerability",{"$nulls":8},"Consequence",{"$nulls":8},{"$f":"SUM(((((J198+S198)/2)*G198)*E198))","v":0}]
[{"$f":"T(A193)","v":"Coordinated Complex Attack"},{"$nulls":8},"Exposure",null,null,"Protective Measures",null,null,"Robustness/Resilience",null,null,"Human",null,null,"Economic",null,null,"Psychological"]
[{"$f":"T(A135)","v":""},null,{"$f":"T(C135)","v":"AA"},{"$f":"SUM(D135)","v":1},{"v":1,"d":"1.0"},null,{"$f":"SUM(G135)","v":{"v":0,"d":"0.0"}},null,null,{"v":0,"d":"0.0"},null,null,{"v":0,"d":"0.0"},null,null,{"v":0,"d":"0.0"},null,null,{"v":0,"d":"0.0"},null,null,{"v":0,"d":"0.0"},null,null,{"v":0,"d":"0.0"}]
[{"$f":"T(A136)","v":""}]
[{"$nulls":4},{"$f":"SUM(E196)","v":{"v":1,"d":"1.0"}},null,{"$f":"SUM(G196)","v":{"v":0,"d":"0.0"}},null,null,{"$f":"SUM((J196+M196+P196)/3)","v":{"v":0,"d":"0.0"}},{"$nulls":8},{"$f":"SUM(((S196*3)+V196+Y196)/5)","v":{"v":0,"d":"0.0"}}]
[]
[{"$f":"T(A139)","v":""},{"$nulls":3},"Threat",null,"Criticality",null,null,"Vulnerability",{"$nulls":8},"Consequence",{"$nulls":8},{"$f":"SUM(((((J204+S204)/2)*G204)*E204))","v":0}]
[{"$f":"T(A193)","v":"Coordinated Complex Attack"},{"$nulls":8},"Exposure",null,null,"Protective Measures",null,null,"Robustness/Resilience",null,null,"Human",null,null,"Economic",null,null,"Psychological"]
[{"$f":"T(A141)","v":""},null,{"$f":"T(C141)","v":"AA"},{"$f":"SUM(D141)","v":2},{"v":1,"d":"1.0"},null,{"$f":"SUM(G141)","v":{"v":0,"d":"0.0"}},null,null,{"v":0,"d":"0.0"},null,null,{"v":0,"d":"0.0"},null,null,{"v":0,"d":"0.0"},null,null,{"v":0,"d":"0.0"},null,null,{"v":0,"d":"0.0"},null,null,{"v":0,"d":"0.0"}]
[{"$f":"T(A142)","v":""}]
[{"$nulls":4},{"$f":"SUM(E202)","v":{"v":1,"d":"1.0"}},null,{"$f":"SUM(G202)","v":{"v":0,"d":"0.0"}},null,null,{"$f":"SUM((J202+M202+P202)/3)","v":{"v":0,"d":"0.0"}},{"$nulls":8},{"$f":"SUM(((S202*3)+V202+Y202)/5)","v":{"v":0,"d":"0.0"}}]
[]
[{"$f":"T(A145)","v":""},{"$nulls":3},"Threat",null,"Criticality",null,null,"Vulnerability",{"$nulls":8},"Consequence",{"$nulls":8},{"$f":"SUM(((((J210+S210)/2)*G210)*E210))","v":0}]
[{"$f":"T(A193)","v":"Coordinated Complex Attack"},{"$nulls":8},"Exposure",null,null,"Protective Measures",null,null,"Robustness/Resilience",null,null,"Human",null,null,"Economic",null,null,"Psychological"]
[{"$f":"T(A147)","v":""},null,{"$f":"T(C147)","v":"AA"},{"$f":"SUM(D147)","v":3},{"v":1,"d":"1.0"},null,{"$f":"SUM(G147)","v":{"v":0,"d":"0.0"}},null,null,{"v":0,"d":"0.0"},null,null,{"v":0,"d":"0.0"},null,null,{"v":0,"d":"0.0"},null,null,{"v":0,"d":"0.0"},null,null,{"v":0,"d":"0.0"},null,null,{"v":0,"d":"0.0"}]
[{"$f":"T(A148)","v":""}]
[{"$nulls":4},{"$f":"SUM(E208)","v":{"v":1,"d":"1.0"}},null,{"$f":"SUM(G208)","v":{"v":0,"d":"0.0"}},null,null,{"$f":"SUM((J208+M208+P208)/3)","v":{"v":0,"d":"0.0"}},{"$nulls":8},{"$f":"SUM(((S208*3)+V208+Y208)/5)","v":{"v":0,"d":"0.0"}}]
[]
[{"$f":"T(A151)","v":""},{"$nulls":3},"Threat",null,"Criticality",null,null,"Vulnerability",{"$nulls":8},"Consequence",{"$nulls":8},{"$f":"SUM(((((J216+S216)/2)*G216)*E216))","v":0}]
[{"$f":"T(A193)","v":"Coordinated Complex Attack"},{"$nulls":8},"Exposure",null,null,"Protective Measures",null,null,"Robustness/Resilience",null,null,"Human",null,null,"Economic",null,null,"Psychological"]
[{"$f":"T(A153)","v":""},null,{"$f":"T(C153)","v":"AA"},{"$f":"SUM(D153)","v":4},{"v":1,"d":"1.0"},null,{"$f":"SUM(G153)","v":{"v":0,"d":"0.0"}},null,null,{"v":0,"d":"0.0"},null,null,{"v":0,"d":"0.0"},null,null,{"v":0,"d":"0.0"},null,null,{"v":0,"d":"0.0"},null,null,{"v":0,"d":"0.0"},null,null,{"v":0,"d":"0.0"}]
[{"$f":"T(A154)","v":""}]
[{"$nulls":4},{"$f":"SUM(E214)","v":{"v":1,"d":"1.0"}},null,{"$f":"SUM(G214)","v":{"v":0,"d":"0.0"}},null,null,{"$f":"SUM((J214+M214+P214)/3)","v":{"v":0,"d":"0.0"}},{"$nulls":8},{"$f":"SUM(((S214*3)+V214+Y214)/5)","v":{"v":0,"d":"0.0"}}]
[]
[{"$f":"T(A157)","v":""},{"$nulls":3},"Threat",null,"Criticality",null,null,"Vulnerability",{"$nulls":8},"Consequence",{"$nulls":8},{"$f":"SUM(((((J222+S222)/2)*G222)*E222))","v":0}]
[{"$f":"T(A193)","v":"Coordinated Complex Attack"},{"$nulls":8},"Exposure",null,null,"Protective Measures",null,null,"Robustness/Resilience",null,null,"Human",null,null,"Economic",null,null,"Psychological"]
[{"$f":"T(A159)","v":""},null,{"$f":"T(C159)","v":"AA"},{"$f":"SUM(D159)","v":5},{"v":1,"d":"1.0"},null,{"$f":"SUM(G159)","v":{"v":0,"d":"0.0"}},null,null,{"v":0,"d":"0.0"},null,null,{"v":0,"d":"0.0"},null,null,{"v":0,"d":"0.0"},null,null,{"v":0,"d":"0.0"},null,null,{"v":0,"d":"0.0"},null,null,{"v":0,"d":"0.0"}]
[{"$f":"T(A160)","v":""}]
[{"$nulls":4},{"$f":"SUM(E220)","v":{"v":1,"d":"1.0"}},null,{"$f":"SUM(G220)","v":{"v":0,"d":"0.0"}},null,null,{"$f":"SUM((J220+M220+P220)/3)","v":{"v":0,"d":"0.0"}},{"$nulls":8},{"$f":"SUM(((S220*3)+V220+Y220)/5)","v":{"v":0,"d":"0.0"}}]
[]
[{"$f":"T(A163)","v":""},{"$nulls":3},"Threat",null,"Criticality",null,null,"Vulnerability",{"$nulls":8},"Consequence",{"$nulls":8},{"$f":"SUM(((((J228+S228)/2)*G228)*E228))","v":0}]
[{"$f":"T(A193)","v":"Coordinated Complex Attack"},{"$nulls":8},"Exposure",null,null,"Protective Measures",null,null,"Robustness/Resilience",null,null,"Human",null,null,"Economic",null,null,"Psychological"]
[{"$f":"T(A165)","v":""},null,{"$f":"T(C165)","v":"AA"},{"$f":"SUM(D165)","v":6},{"v":1,"d":"1.0"},null,{"$f":"SUM(G165)","v":{"v":0,"d":"0.0"}},null,null,{"v":0,"d":"0.0"},null,null,{"v":0,"d":"0.0"},null,null,{"v":0,"d":"0.0"},null,null,{"v":0,"d":"0.0"},null,null,{"v":0,"d":"0.0"},null,null,{"v":0,"d":"0.0"}]
[{"$f":"T(A166)","v":""}]
[{"$nulls":4},{"$f":"SUM(E226)","v":{"v":1,"d":"1.0"}},null,{"$f":"SUM(G226)","v":{"v":0,"d":"0.0"}},null,null,{"$f":"SUM((J226+M226+P226)/3)","v":{"v":0,"d":"0.0"}},{"$nulls":8},{"$f":"SUM(((S226*3)+V226+Y226)/5)","v":{"v":0,"d":"0.0"}}]
[]
[{"$f":"T(A169)","v":""},{"$nulls":3},"Threat",null,"Criticality",null,null,"Vulnerability",{"$nulls":8},"Consequence",{"$nulls":8},{"$f":"SUM(((((J234+S234)/2)*G234)*E234))","v":0}]
[{"$f":"T(A193)","v":"Coordinated Complex Attack"},{"$nulls":8},"Exposure",null,null,"Protective Measures",null,null,"Robustness/Resilience",null,null,"Human",null,null,"Economic",null,null,"Psychological"]
[{"$f":"T(A171)","v":""},null,{"$f":"T(C171)","v":"AA"},{"$f":"SUM(D171)","v":7},{"v":1,"d":"1.0"},null,{"$f":"SUM(G171)","v":{"v":0,"d":"0.0"}},null,null,{"v":0,"d":"0.0"},null,null,{"v":0,"d":"0.0"},null,null,{"v":0,"d":"0.0"},null,null,{"v":0,"d":"0.0"},null,null,{"v":0,"d":"0.0"},null,null,{"v":0,"d":"0.0"}]
[{"$f":"T(A172)","v":""}]
[{"$nulls":4},{"$f":"SUM(E232)","v":{"v":1,"d":"1.0"}},null,{"$f":"SUM(G232)","v":{"v":0,"d":"0.0"}},null,null,{"$f":"SUM((J232+M232+P232)/3)","v":{"v":0,"d":"0.0"}},{"$nulls":8},{"$f":"SUM(((S232*3)+V232+Y232)/5)","v":{"v":0,"d":"0.0"}}]
[]
[{"$f":"T(A175)","v":""},{"$nulls":3},"Threat",null,"Criticality",null,null,"Vulnerability",{"$nulls":8},"Consequence",{"$nulls":8},{"$f":"SUM(((((J240+S240)/2)*G240)*E240))","v":0}]
[{"$f":"T(A193)","v":"Coordinated Complex Attack"},{"$nulls":8},"Exposure",null,null,"Protective Measures",null,null,"Robustness/Resilience",null,null,"Human",null,null,"Economic",null,null,"Psychological"]
[{"$f":"T(A177)","v":""},null,{"$f":"T(C177)","v":"AA"},{"$f":"SUM(D177)","v":8},{"v":1,"d":"1.0"},null,{"$f":"SUM(G177)","v":{"v":0,"d":"0.0"}},null,null,{"v":0,"d":"0.0"},null,null,{"v":0,"d":"0.0"},null,null,{"v":0,"d":"0.0"},null,null,{"v":0,"d":"0.0"},null,null,{"v":0,"d":"0.0"},null,null,{"v":0,"d":"0.0"}]
[{"$f":"T(A178)","v":""}]
[{"$nulls":4},{"$f":"SUM(E238)","v":{"v":1,"d":"1.0"}},null,{"$f":"SUM(G238)","v":{"v":0,"d":"0.0"}},null,null,{"$f":"SUM((J238+M238+P238)/3)","v":{"v":0,"d":"0.0"}},{"$nulls":8},{"$f":"SUM(((S238*3)+V238+Y238)/5)","v":{"v":0,"d":"0.0"}}]
[]
[{"$f":"T(A181)","v":""},{"$nulls":3},"Threat",null,"Criticality",null,null,"Vulnerability",{"$nulls":8},"Consequence",{"$nulls":8},{"$f":"SUM(((((J246+S246)/2)*G246)*E246))","v":0}]
[{"$f":"T(A193)","v":"Coordinated Complex Attack"},{"$nulls":8},"Exposure",null,null,"Protective Measures",null,null,"Robustness/Resilience",null,null,"Human",null,null,"Economic",null,null,"Psychological"]
[{"$f":"T(A183)","v":""},null,{"$f":"T(C183)","v":"AA"},{"$f":"SUM(D183)","v":9},{"v":1,"d":"1.0"},null,{"$f":"SUM(G183)","v":{"v":0,"d":"0.0"}},null,null,{"v":0,"d":"0.0"},null,null,{"v":0,"d":"0.0"},null,null,{"v":0,"d":"0.0"},null,null,{"v":0,"d":"0.0"},null,null,{"v":0,"d":"0.0"},null,null,{"v":0,"d":"0.0"}]
[{"$f":"T(A184)","v":""}]
[{"$nulls":4},{"$f":"SUM(E244)","v":{"v":1,"d":"1.0"}},null,{"$f":"SUM(G244)","v":{"v":0,"d":"0.0"}},null,null,{"$f":"SUM((J244+M244+P244)/3)","v":{"v":0,"d":"0.0"}},{"$nulls":8},{"$f":"SUM(((S244*3)+V244+Y244)/5)","v":{"v":0,"d":"0.0"}}]
[]
[{"$f":"T(A187)","v":""},{"$nulls":3},"Threat",null,"Criticality",null,null,"Vulnerability",{"$nulls":8},"Consequence",{"$nulls":8},{"$f":"SUM(((((J252+S252)/2)*G252)*E252))","v":0}]
[{"$f":"T(A193)","v":"Coordinated Complex Attack"},{"$nulls":8},"Exposure",null,null,"Protective Measures",null,null,"Robustness/Resilience",null,null,"Human",null,null,"Economic",null,null,"Psychological"]
[{"$f":"T(A189)","v":""},null,{"$f":"T(C189)","v":"AA"},{"$f":"SUM(D189)","v":10},{"v":1,"d":"1.0"},null,{"$f":"SUM(G189)","v":{"v":0,"d":"0.0"}},null,null,{"v":0,"d":"0.0"},null,null,{"v":0,"d":"0.0"},null,null,{"v":0,"d":"0.0"},null,null,{"v":0,"d":"0.0"},null,null,{"v":0,"d":"0.0"},null,null,{"v":0,"d":"0.0"}]
[{"$f":"T(A190)","v":""}]
[{"$nulls":4},{"$f":"SUM(E250)","v":{"v":1,"d":"1.0"}},null,{"$f":"SUM(G250)","v":{"v":0,"d":"0.0"}},null,null,{"$f":"SUM((J250+M250+P250)/3)","v":{"v":0,"d":"0.0"}},{"$nulls":8},{"$f":"SUM(((S250*3)+V250+Y250)/5)","v":{"v":0,"d":"0.0"}}]
[]
[{"$f":"T(Definitions!D23)","v":"Cyber Attack"}]
[{"$f":"T(A194)","v":""},{"$nulls":3},"Threat",null,"Criticality",null,null,"Vulnerability",{"$nulls":8},"Consequence",{"$nulls":8},{"$f":"SUM(((((J259+S259)/2)*G259)*E259))","v":0}]
[{"$f":"T(A254)","v":"Cyber Attack"},{"$nulls":8},"Exposure",null,null,"Protective Measures",null,null,"Robustness/Resilience",null,null,"Human",null,null,"Economic",null,null,"Psychological"]
[{"$f":"T(A196)","v":""},null,{"$f":"T(C196)","v":"AA"},{"$f":"SUM(D196)","v":1},{"v":1,"d":"1.0"},null,{"$f":"SUM(G196)","v":{"v":0,"d":"0.0"}},null,null,{"v":0,"d":"0.0"},null,null,{"v":0,"d":"0.0"},null,null,{"v":0,"d":"0.0"},null,null,{"v":0,"d":"0.0"},null,null,{"v":0,"d":"0.0"},null,null,{"v":0,"d":"0.0"}]
[{"$f":"T(A197)","v":""}]
[{"$nulls":4},{"$f":"SUM(E257)","v":{"v":1,"d":"1.0"}},null,{"$f":"SUM(G257)","v":{"v":0,"d":"0.0"}},null,null,{"$f":"SUM((J257+M257+P257)/3)","v":{"v":0,"d":"0.0"}},{"$nulls":8},{"$f":"SUM(((S257*3)+V257+Y257)/5)","v":{"v":0,"d":"0.0"}}]
[]
[{"$f":"T(A200)","v":""},{"$nulls":3},"Threat",null,"Criticality",null,null,"Vulnerability",{"$nulls":8},"Consequence",{"$nulls":8},{"$f":"SUM(((((J265+S265)/2)*G265)*E265))","v":0}]
[{"$f":"T(A254)","v":"Cyber Attack"},{"$nulls":8},"Exposure",null,null,"Protective Measures",null,null,"Robustness/Resilience",null,null,"Human",null,null,"Economic",null,null,"Psychological"]
[{"$f":"T(A202)","v":""},null,{"$f":"T(C202)","v":"AA"},{"$f":"SUM(D202)","v":2},{"v":1,"d":"1.0"},null,{"$f":"SUM(G202)","v":{"v":0,"d":"0.0"}},null,null,{"v":0,"d":"0.0"},null,null,{"v":0,"d":"0.0"},null,null,{"v":0,"d":"0.0"},null,null,{"v":0,"d":"0.0"},null,null,{"v":0,"d":"0.0"},null,null,{"v":0,"d":"0.0"}]
[{"$f":"T(A203)","v":""}]
[{"$nulls":4},{"$f":"SUM(E263)","v":{"v":1,"d":"1.0"}},null,{"$f":"SUM(G263)","v":{"v":0,"d":"0.0"}},null,null,{"$f":"SUM((J263+M263+P263)/3)","v":{"v":0,"d":"0.0"}},{"$nulls":8},{"$f":"SUM(((S263*3)+V263+Y263)/5)","v":{"v":0,"d":"0.0"}}]
[]
[{"$f":"T(A206)","v":""},{"$nulls":3},"Threat",null,"Criticality",null,null,"Vulnerability",{"$nulls":8},"Consequence",{"$nulls":8},{"$f":"SUM(((((J271+S271)/2)*G271)*E271))","v":0}]
[{"$f":"T(A254)","v":"Cyber Attack"},{"$nulls":8},"Exposure",null,null,"Protective Measures",null,null,"Robustness/Resilience",null,null,"Human",null,null,"Economic",null,null,"Psychological"]
[{"$f":"T(A208)","v":""},null,{"$f":"T(C208)","v":"AA"},{"$f":"SUM(D208)","v":3},{"v":1,"d":"1.0"},null,{"$f":"SUM(G208)","v":{"v":0,"d":"0.0"}},null,null,{"v":0,"d":"0.0"},null,null,{"v":0,"d":"0.0"},null,null,{"v":0,"d":"0.0"},null,null,{"v":0,"d":"0.0"},null,null,{"v":0,"d":"0.0"},null,null,{"v":0,"d":"0.0"}]
[{"$f":"T(A209)","v":""}]
[{"$nulls":4},{"$f":"SUM(E269)","v":{"v":1,"d":"1.0"}},null,{"$f":"SUM(G269)","v":{"v":0,"d":"0.0"}},null,null,{"$f":"SUM((J269+M269+P269)/3)","v":{"v":0,"d":"0.0"}},{"$nulls":8},{"$f":"SUM(((S269*3)+V269+Y269)/5)","v":{"v":0,"d":"0.0"}}]
[]
[{"$f":"T(A212)","v":""},{"$nulls":3},"Threat",null,"Criticality",null,null,"Vulnerability",{"$nulls":8},"Consequence",{"$nulls":8},{"$f":"SUM(((((J277+S277)/2)*G277)*E277))","v":0}]
[{"$f":"T(A254)","v":"Cyber Attack"},{"$nulls":8},"Exposure",null,null,"Protective Measures",null,null,"Robustness/Resilience",null,null,"Human",null,null,"Economic",null,null,"Psychological"]
[{"$f":"T(A214)","v":""},null,{"$f":"T(C214)","v":"AA"},{"$f":"SUM(D214)","v":4},{"v":1,"d":"1.0"},null,{"$f":"SUM(G214)","v":{"v":0,"d":"0.0"}},null,null,{"v":0,"d":"0.0"},null,null,{"v":0,"d":"0.0"},null,null,{"v":0,"d":"0.0"},null,null,{"v":0,"d":"0.0"},null,null,{"v":0,"d":"0.0"},null,null,{"v":0,"d":"0.0"}]
[{"$f":"T(A215)","v":""}]
[{"$nulls":4},{"$f":"SUM(E275)","v":{"v":1,"d":"1.0"}},null,{"$f":"SUM(G275)","v":{"v":0,"d":"0.0"}},null,null,{"$f":"SUM((J275+M275+P275)/3)","v":{"v":0,"d":"0.0"}},{"$nulls":8},{"$f":"SUM(((S275*3)+V275+Y275)/5)","v":{"v":0,"d":"0.0"}}]
[]
[{"$f":"T(A218)","v":""},{"$nulls":3},"Threat",null,"Criticality",null,null,"Vulnerability",{"$nulls":8},"Consequence",{"$nulls":8},{"$f":"SUM(((((J283+S283)/2)*G283)*E283))","v":0}]
[{"$f":"T(A254)","v":"Cyber Attack"},{"$nulls":8},"Exposure",null,null,"Protective Measures",null,null,"Robustness/Resilience",null,null,"Human",null,null,"Economic",null,null,"Psychological"]
[{"$f":"T(A220)","v":""},null,{"$f":"T(C220)","v":"AA"},{"$f":"SUM(D220)","v":5},{"v":1,"d":"1.0"},null,{"$f":"SUM(G220)","v":{"v":0,"d":"0.0"}},null,null,{"v":0,"d":"0.0"},null,null,{"v":0,"d":"0.0"},null,null,{"v":0,"d":"0.0"},null,null,{"v":0,"d":"0.0"},null,null,{"v":0,"d":"0.0"},null,null,{"v":0,"d":"0.0"}]
[{"$f":"T(A221)","v":""}]
[{"$nulls":4},{"$f":"SUM(E281)","v":{"v":1,"d":"1.0"}},null,{"$f":"SUM(G281)","v":{"v":0,"d":"0.0"}},null,null,{"$f":"SUM((J281+M281+P281)/3)","v":{"v":0,"d":"0.0"}},{"$nulls":8},{"$f":"SUM(((S281*3)+V281+Y281)/5)","v":{"v":0,"d":"0.0"}}]
[]
[{"$f":"T(A224)","v":""},{"$nulls":3},"Threat",null,"Criticality",null,null,"Vulnerability",{"$nulls":8},"Consequence",{"$nulls":8},{"$f":"SUM(((((J289+S289)/2)*G289)*E289))","v":0}]
[{"$f":"T(A254)","v":"Cyber Attack"},{"$nulls":8},"Exposure",null,null,"Protective Measures",null,null,"Robustness/Resilience",null,null,"Human",null,null,"Economic",null,null,"Psychological"]
[{"$f":"T(A226)","v":""},null,{"$f":"T(C226)","v":"AA"},{"$f":"SUM(D226)","v":6},{"v":1,"d":"1.0"},null,{"$f":"SUM(G226)","v":{"v":0,"d":"0.0"}},null,null,{"v":0,"d":"0.0"},null,null,{"v":0,"d":"0.0"},null,null,{"v":0,"d":"0.0"},null,null,{"v":0,"d":"0.0"},null,null,{"v":0,"d":"0.0"},null,null,{"v":0,"d":"0.0"}]
[{"$f":"T(A227)","v":""}]
[{"$nulls":4},{"$f":"SUM(E287)","v":{"v":1,"d":"1.0"}},null,{"$f":"SUM(G287)","v":{"v":0,"d":"0.0"}},null,null,{"$f":"SUM((J287+M287+P287)/3)","v":{"v":0,"d":"0.0"}},{"$nulls":8},{"$f":"SUM(((S287*3)+V287+Y287)/5)","v":{"v":0,"d":"0.0"}}]
[]
[{"$f":"T(A230)","v":""},{"$nulls":3},"Threat",null,"Criticality",null,null,"Vulnerability",{"$nulls":8},"Consequence",{"$nulls":8},{"$f":"SUM(((((J295+S295)/2)*G295)*E295))","v":0}]
[{"$f":"T(A254)","v":"Cyber Attack"},{"$nulls":8},"Exposure",null,null,"Protective Measures",null,null,"Robustness/Resilience",null,null,"Human",null,null,"Economic",null,null,"Psychological"]
[{"$f":"T(A232)","v":""},null,{"$f":"T(C232)","v":"AA"},{"$f":"SUM(D232)","v":7},{"v":1,"d":"1.0"},null,{"$f":"SUM(G232)","v":{"v":0,"d":"0.0"}},null,null,{"v":0,"d":"0.0"},null,null,{"v":0,"d":"0.0"},null,null,{"v":0,"d":"0.0"},null,null,{"v":0,"d":"0.0"},null,null,{"v":0,"d":"0.0"},null,null,{"v":0,"d":"0.0"}]
[{"$f":"T(A233)","v":""}]
[{"$nulls":4},{"$f":"SUM(E293)","v":{"v":1,"d":"1.0"}},null,{"$f":"SUM(G293)","v":{"v":0,"d":"0.0"}},null,null,{"$f":"SUM((J293+M293+P293)/3)","v":{"v":0,"d":"0.0"}},{"$nulls":8},{"$f":"SUM(((S293*3)+V293+Y293)/5)","v":{"v":0,"d":"0.0"}}]
[]
[{"$f":"T(A236)","v":""},{"$nulls":3},"Threat",null,"Criticality",null,null,"Vulnerability",{"$nulls":8},"Consequence",{"$nulls":8},{"$f":"SUM(((((J301+S301)/2)*G301)*E301))","v":0}]
[{"$f":"T(A254)","v":"Cyber Attack"},{"$nulls":8},"Exposure",null,null,"Protective Measures",null,null,"Robustness/Resilience",null,null,"Human",null,null,"Economic",null,null,"Psychological"]
[{"$f":"T(A238)","v":""},null,{"$f":"T(C238)","v":"AA"},{"$f":"SUM(D238)","v":8},{"v":1,"d":"1.0"},null,{"$f":"SUM(G238)","v":{"v":0,"d":"0.0"}},null,null,{"v":0,"d":"0.0"},null,null,{"v":0,"d":"0.0"},null,null,{"v":0,"d":"0.0"},null,null,{"v":0,"d":"0.0"},null,null,{"v":0,"d":"0.0"},null,null,{"v":0,"d":"0.0"}]
[{"$f":"T(A239)","v":""}]
[{"$nulls":4},{"$f":"SUM(E299)","v":{"v":1,"d":"1.0"}},null,{"$f":"SUM(G299)","v":{"v":0,"d":"0.0"}},null,null,{"$f":"SUM((J299+M299+P299)/3)","v":{"v":0,"d":"0.0"}},{"$nulls":8},{"$f":"SUM(((S299*3)+V299+Y299)/5)","v":{"v":0,"d":"0.0"}}]
[]
[{"$f":"T(A242)","v":""},{"$nulls":3},"Threat",null,"Criticality",null,null,"Vulnerability",{"$nulls":8},"Consequence",{"$nulls":8},{"$f":"SUM(((((J307+S307)/2)*G307)*E307))","v":0}]
[{"$f":"T(A254)","v":"Cyber Attack"},{"$nulls":8},"Exposure",null,null,"Protective Measures",null,null,"Robustness/Resilience",null,null,"Human",null,null,"Economic",null,null,"Psychological"]
[{"$f":"T(A244)","v":""},null,{"$f":"T(C244)","v":"AA"},{"$f":"SUM(D244)","v":9},{"v":1,"d":"1.0"},null,{"$f":"SUM(G244)","v":{"v":0,"d":"0.0"}},null,null,{"v":0,"d":"0.0"},null,null,{"v":0,"d":"0.0"},null,null,{"v":0,"d":"0.0"},null,null,{"v":0,"d":"0.0"},null,null,{"v":0,"d":"0.0"},null,null,{"v":0,"d":"0.0"}]
[{"$f":"T(A245)","v":""}]
[{"$nulls":4},{"$f":"SUM(E305)","v":{"v":1,"d":"1.0"}},null,{"$f":"SUM(G305)","v":{"v":0,"d":"0.0"}},null,null,{"$f":"SUM((J305+M305+P305)/3)","v":{"v":0,"d":"0.0"}},{"$nulls":8},{"$f":"SUM(((S305*3)+V305+Y305)/5)","v":{"v":0,"d":"0.0"}}]
[]
[{"$f":"T(A248)","v":""},{"$nulls":3},"Threat",null,"Criticality",null,null,"Vulnerability",{"$nulls":8},"Consequence",{"$nulls":8},{"$f":"SUM(((((J313+S313)/2)*G313)*E313))","v":0}]
[{"$f":"T(A254)","v":"Cyber Attack"},{"$nulls":8},"Exposure",null,null,"Protective Measures",null,null,"Robustness/Resilience",null,null,"Human",null,null,"Economic",null,null,"Psychological"]
[{"$f":"T(A250)","v":""},null,{"$f":"T(C250)","v":"AA"},{"$f":"SUM(D250)","v":10},{"v":1,"d":"1.0"},null,{"$f":"SUM(G250)","v":{"v":0,"d":"0.0"}},null,null,{"v":0,"d":"0.0"},null,null,{"v":0,"d":"0.0"},null,null,{"v":0,"d":"0.0"},null,null,{"v":0,"d":"0.0"},null,null,{"v":0,"d":"0.0"},null,null,{"v":0,"d":"0.0"}]
[{"$f":"T(A251)","v":""}]
[{"$nulls":4},{"$f":"SUM(E311)","v":{"v":1,"d":"1.0"}},null,{"$f":"SUM(G311)","v":{"v":0,"d":"0.0"}},null,null,{"$f":"SUM((J311+M311+P311)/3)","v":{"v":0,"d":"0.0"}},{"$nulls":8},{"$f":"SUM(((S311*3)+V311+Y311)/5)","v":{"v":0,"d":"0.0"}}]
[]
[{"$f":"T(Definitions!A24)","v":"Type 2 Incidents:  Secondary Effect Incidents"}]
[]
[]
[{"$f":"T(Definitions!D24)","v":"Natural Disaster"}]
[{"$f":"T(A255)","v":""},{"$nulls":3},"Threat",null,"Criticality",null,null,"Vulnerability",{"$nulls":8},"Consequence",{"$nulls":8},{"$f":"SUM(((((J323+S323)/2)*G323)*E323))","v":0}]
[{"$f":"T(A318)","v":"Natural Disaster"},{"$nulls":8},"Exposure",null,null,"Protective Measures",null,null,"Robustness/Resilience",null,null,"Human",null,null,"Economic",null,null,"Psychological"]
[{"$f":"T(A257)","v":""},null,{"$f":"T(C257)","v":"AA"},{"$f":"SUM(D257)","v":1},{"v":1,"d":"1.0"},null,{"$f":"SUM(G257)","v":{"v":0,"d":"0.0"}},null,null,{"v":0,"d":"0.0"},null,null,{"v":0,"d":"0.0"},null,null,{"v":0,"d":"0.0"},null,null,{"v":0,"d":"0.0"},null,null,{"v":0,"d":"0.0"},null,null,{"v":0,"d":"0.0"}]
[{"$f":"T(A258)","v":""}]
[{"$nulls":4},{"$f":"SUM(E321)","v":{"v":1,"d":"1.0"}},null,{"$f":"SUM(G321)","v":{"v":0,"d":"0.0"}},null,null,{"$f":"SUM((J321+M321+P321)/3)","v":{"v":0,"d":"0.0"}},{"$nulls":8},{"$f":"SUM(((S321*3)+V321+Y321)/5)","v":{"v":0,"d":"0.0"}}]
[]
[{"$f":"T(A261)","v":""},{"$nulls":3},"Threat",null,"Criticality",null,null,"Vulnerability",{"$nulls":8},"Consequence",{"$nulls":8},{"$f":"SUM(((((J329+S329)/2)*G329)*E329))","v":0}]
[{"$f":"T(A318)","v":"Natural Disaster"},{"$nulls":8},"Exposure",null,null,"Protective Measures",null,null,"Robustness/Resilience",null,null,"Human",null,null,"Economic",null,null,"Psychological"]
[{"$f":"T(A263)","v":""},null,{"$f":"T(C263)","v":"AA"},{"$f":"SUM(D263)","v":2},{"v":1,"d":"1.0"},null,{"$f":"SUM(G263)","v":{"v":0,"d":"0.0"}},null,null,{"v":0,"d":"0.0"},null,null,{"v":0,"d":"0.0"},null,null,{"v":0,"d":"0.0"},null,null,{"v":0,"d":"0.0"},null,null,{"v":0,"d":"0.0"},null,null,{"v":0,"d":"0.0"}]
[{"$f":"T(A264)","v":""}]
[{"$nulls":4},{"$f":"SUM(E327)","v":{"v":1,"d":"1.0"}},null,{"$f":"SUM(G327)","v":{"v":0,"d":"0.0"}},null,null,{"$f":"SUM((J327+M327+P327)/3)","v":{"v":0,"d":"0.0"}},{"$nulls":8},{"$f":"SUM(((S327*3)+V327+Y327)/5)","v":{"v":0,"d":"0.0"}}]
[]
[{"$f":"T(A267)","v":""},{"$nulls":3},"Threat",null,"Criticality",null,null,"Vulnerability",{"$nulls":8},"Consequence",{"$nulls":8},{"$f":"SUM(((((J335+S335)/2)*G335)*E335))","v":0}]
[{"$f":"T(A318)","v":"Natural Disaster"},{"$nulls":8},"Exposure",null,null,"Protective Measures",null,null,"Robustness/Resilience",null,null,"Human",null,null,"Economic",null,null,"Psychological"]
[{"$f":"T(A269)","v":""},null,{"$f":"T(C269)","v":"AA"},{"$f":"SUM(D269)","v":3},{"v":1,"d":"1.0"},null,{"$f":"SUM(G269)","v":{"v":0,"d":"0.0"}},null,null,{"v":0,"d":"0.0"},null,null,{"v":0,"d":"0.0"},null,null,{"v":0,"d":"0.0"},null,null,{"v":0,"d":"0.0"},null,null,{"v":0,"d":"0.0"},null,null,{"v":0,"d":"0.0"}]
[{"$f":"T(A270)","v":""}]
[{"$nulls":4},{"$f":"SUM(E333)","v":{"v":1,"d":"1.0"}},null,{"$f":"SUM(G333)","v":{"v":0,"d":"0.0"}},null,null,{"$f":"SUM((J333+M333+P333)/3)","v":{"v":0,"d":"0.0"}},{"$nulls":8},{"$f":"SUM(((S333*3)+V333+Y333)/5)","v":{"v":0,"d":"0.0"}}]
[]
[{"$f":"T(A273)","v":""},{"$nulls":3},"Threat",null,"Criticality",null,null,"Vulnerability",{"$nulls":8},"Consequence",{"$nulls":8},{"$f":"SUM(((((J341+S341)/2)*G341)*E341))","v":0}]
[{"$f":"T(A318)","v":"Natural Disaster"},{"$nulls":8},"Exposure",null,null,"Protective Measures",null,null,"Robustness/Resilience",null,null,"Human",null,null,"Economic",null,null,"Psychological"]
[{"$f":"T(A275)","v":""},null,{"$f":"T(C275)","v":"AA"},{"$f":"SUM(D275)","v":4},{"v":1,"d":"1.0"},null,{"$f":"SUM(G275)","v":{"v":0,"d":"0.0"}},null,null,{"v":0,"d":"0.0"},null,null,{"v":0,"d":"0.0"},null,null,{"v":0,"d":"0.0"},null,null,{"v":0,"d":"0.0"},null,null,{"v":0,"d":"0.0"},null,null,{"v":0,"d":"0.0"}]
[{"$f":"T(A276)","v":""}]
[{"$nulls":4},{"$f":"SUM(E339)","v":{"v":1,"d":"1.0"}},null,{"$f":"SUM(G339)","v":{"v":0,"d":"0.0"}},null,null,{"$f":"SUM((J339+M339+P339)/3)","v":{"v":0,"d":"0.0"}},{"$nulls":8},{"$f":"SUM(((S339*3)+V339+Y339)/5)","v":{"v":0,"d":"0.0"}}]
[]
[{"$f":"T(A279)","v":""},{"$nulls":3},"Threat",null,"Criticality",null,null,"Vulnerability",{"$nulls":8},"Consequence",{"$nulls":8},{"$f":"SUM(((((J347+S347)/2)*G347)*E347))","v":0}]
[{"$f":"T(A318)","v":"Natural Disaster"},{"$nulls":8},"Exposure",null,null,"Protective Measures",null,null,"Robustness/Resilience",null,null,"Human",null,null,"Economic",null,null,"Psychological"]
[{"$f":"T(A281)","v":""},null,{"$f":"T(C281)","v":"AA"},{"$f":"SUM(D281)","v":5},{"v":1,"d":"1.0"},null,{"$f":"SUM(G281)","v":{"v":0,"d":"0.0"}},null,null,{"v":0,"d":"0.0"},null,null,{"v":0,"d":"0.0"},null,null,{"v":0,"d":"0.0"},null,null,{"v":0,"d":"0.0"},null,null,{"v":0,"d":"0.0"},null,null,{"v":0,"d":"0.0"}]
[{"$f":"T(A282)","v":""}]
[{"$nulls":4},{"$f":"SUM(E345)","v":{"v":1,"d":"1.0"}},null,{"$f":"SUM(G345)","v":{"v":0,"d":"0.0"}},null,null,{"$f":"SUM((J345+M345+P345)/3)","v":{"v":0,"d":"0.0"}},{"$nulls":8},{"$f":"SUM(((S345*3)+V345+Y345)/5)","v":{"v":0,"d":"0.0"}}]
[]
[{"$f":"T(A285)","v":""},{"$nulls":3},"Threat",null,"Criticality",null,null,"Vulnerability",{"$nulls":8},"Consequence",{"$nulls":8},{"$f":"SUM(((((J353+S353)/2)*G353)*E353))","v":0}]
[{"$f":"T(A318)","v":"Natural Disaster"},{"$nulls":8},"Exposure",null,null,"Protective Measures",null,null,"Robustness/Resilience",null,null,"Human",null,null,"Economic",null,null,"Psychological"]
[{"$f":"T(A287)","v":""},null,{"$f":"T(C287)","v":"AA"},{"$f":"SUM(D287)","v":6},{"v":1,"d":"1.0"},null,{"$f":"SUM(G287)","v":{"v":0,"d":"0.0"}},null,null,{"v":0,"d":"0.0"},null,null,{"v":0,"d":"0.0"},null,null,{"v":0,"d":"0.0"},null,null,{"v":0,"d":"0.0"},null,null,{"v":0,"d":"0.0"},null,null,{"v":0,"d":"0.0"}]
[{"$f":"T(A288)","v":""}]
[{"$nulls":4},{"$f":"SUM(E351)","v":{"v":1,"d":"1.0"}},null,{"$f":"SUM(G351)","v":{"v":0,"d":"0.0"}},null,null,{"$f":"SUM((J351+M351+P351)/3)","v":{"v":0,"d":"0.0"}},{"$nulls":8},{"$f":"SUM(((S351*3)+V351+Y351)/5)","v":{"v":0,"d":"0.0"}}]
[]
[{"$f":"T(A291)","v":""},{"$nulls":3},"Threat",null,"Criticality",null,null,"Vulnerability",{"$nulls":8},"Consequence",{"$nulls":8},{"$f":"SUM(((((J359+S359)/2)*G359)*E359))","v":0}]
[{"$f":"T(A318)","v":"Natural Disaster"},{"$nulls":8},"Exposure",null,null,"Protective Measures",null,null,"Robustness/Resilience",null,null,"Human",null,null,"Economic",null,null,"Psychological"]
[{"$f":"T(A293)","v":""},null,{"$f":"T(C293)","v":"AA"},{"$f":"SUM(D293)","v":7},{"v":1,"d":"1.0"},null,{"$f":"SUM(G293)","v":{"v":0,"d":"0.0"}},null,null,{"v":0,"d":"0.0"},null,null,{"v":0,"d":"0.0"},null,null,{"v":0,"d":"0.0"},null,null,{"v":0,"d":"0.0"},null,null,{"v":0,"d":"0.0"},null,null,{"v":0,"d":"0.0"}]
[{"$f":"T(A294)","v":""}]
[{"$nulls":4},{"$f":"SUM(E357)","v":{"v":1,"d":"1.0"}},null,{"$f":"SUM(G357)","v":{"v":0,"d":"0.0"}},null,null,{"$f":"SUM((J357+M357+P357)/3)","v":{"v":0,"d":"0.0"}},{"$nulls":8},{"$f":"SUM(((S357*3)+V357+Y357)/5)","v":{"v":0,"d":"0.0"}}]
[]
[{"$f":"T(A297)","v":""},{"$nulls":3},"Threat",null,"Criticality",null,null,"Vulnerability",{"$nulls":8},"Consequence",{"$nulls":8},{"$f":"SUM(((((J365+S365)/2)*G365)*E365))","v":0}]
[{"$f":"T(A318)","v":"Natural Disaster"},{"$nulls":8},"Exposure",null,null,"Protective Measures",null,null,"Robustness/Resilience",null,null,"Human",null,null,"Economic",null,null,"Psychological"]
[{"$f":"T(A299)","v":""},null,{"$f":"T(C299)","v":"AA"},{"$f":"SUM(D299)","v":8},{"v":1,"d":"1.0"},null,{"$f":"SUM(G299)","v":{"v":0,"d":"0.0"}},null,null,{"v":0,"d":"0.0"},null,null,{"v":0,"d":"0.0"},null,null,{"v":0,"d":"0.0"},null,null,{"v":0,"d":"0.0"},null,null,{"v":0,"d":"0.0"},null,null,{"v":0,"d":"0.0"}]
[{"$f":"T(A300)","v":""}]
[{"$nulls":4},{"$f":"SUM(E363)","v":{"v":1,"d":"1.0"}},null,{"$f":"SUM(G363)","v":{"v":0,"d":"0.0"}},null,null,{"$f":"SUM((J363+M363+P363)/3)","v":{"v":0,"d":"0.0"}},{"$nulls":8},{"$f":"SUM(((S363*3)+V363+Y363)/5)","v":{"v":0,"d":"0.0"}}]
[]
[{"$f":"T(A303)","v":""},{"$nulls":3},"Threat",null,"Criticality",null,null,"Vulnerability",{"$nulls":8},"Consequence",{"$nulls":8},{"$f":"SUM(((((J371+S371)/2)*G371)*E371))","v":0}]
[{"$f":"T(A318)","v":"Natural Disaster"},{"$nulls":8},"Exposure",null,null,"Protective Measures",null,null,"Robustness/Resilience",null,null,"Human",null,null,"Economic",null,null,"Psychological"]
[{"$f":"T(A305)","v":""},null,{"$f":"T(C305)","v":"AA"},{"$f":"SUM(D305)","v":9},{"v":1,"d":"1.0"},null,{"$f":"SUM(G305)","v":{"v":0,"d":"0.0"}},null,null,{"v":0,"d":"0.0"},null,null,{"v":0,"d":"0.0"},null,null,{"v":0,"d":"0.0"},null,null,{"v":0,"d":"0.0"},null,null,{"v":0,"d":"0.0"},null,null,{"v":0,"d":"0.0"}]
[{"$f":"T(A306)","v":""}]
[{"$nulls":4},{"$f":"SUM(E369)","v":{"v":1,"d":"1.0"}},null,{"$f":"SUM(G369)","v":{"v":0,"d":"0.0"}},null,null,{"$f":"SUM((J369+M369+P369)/3)","v":{"v":0,"d":"0.0"}},{"$nulls":8},{"$f":"SUM(((S369*3)+V369+Y369)/5)","v":{"v":0,"d":"0.0"}}]
[]
[{"$f":"T(A309)","v":""},{"$nulls":3},"Threat",null,"Criticality",null,null,"Vulnerability",{"$nulls":8},"Consequence",{"$nulls":8},{"$f":"SUM(((((J377+S377)/2)*G377)*E377))","v":0}]
[{"$f":"T(A318)","v":"Natural Disaster"},{"$nulls":8},"Exposure",null,null,"Protective Measures",null,null,"Robustness/Resilience",null,null,"Human",null,null,"Economic",null,null,"Psychological"]
[{"$f":"T(A311)","v":""},null,{"$f":"T(C311)","v":"AA"},{"$f":"SUM(D311)","v":10},{"v":1,"d":"1.0"},null,{"$f":"SUM(G311)","v":{"v":0,"d":"0.0"}},null,null,{"v":0,"d":"0.0"},null,null,{"v":0,"d":"0.0"},null,null,{"v":0,"d":"0.0"},null,null,{"v":0,"d":"0.0"},null,null,{"v":0,"d":"0.0"},null,null,{"v":0,"d":"0.0"}]
[{"$f":"T(A312)","v":""}]
[{"$nulls":4},{"$f":"SUM(E375)","v":{"v":1,"d":"1.0"}},null,{"$f":"SUM(G375)","v":{"v":0,"d":"0.0"}},null,null,{"$f":"SUM((J375+M375+P375)/3)","v":{"v":0,"d":"0.0"}},{"$nulls":8},{"$f":"SUM(((S375*3)+V375+Y375)/5)","v":{"v":0,"d":"0.0"}}]
[]
[{"$f":"T(Definitions!D25)","v":"Industrial Disaster "}]
[{"$f":"T(A11)","v":""},{"$nulls":3},"Threat",null,"Criticality",null,null,"Vulnerability",{"$nulls":8},"Consequence",{"$nulls":8},{"$f":"SUM(((((J384+S384)/2)*G384)*E384))","v":0}]
[{"$f":"T(A379)","v":"Industrial Disaster "},{"$nulls":8},"Exposure",null,null,"Protective Measures",null,null,"Robustness/Resilience",null,null,"Human",null,null,"Economic",null,null,"Psychological"]
[{"$f":"T(A13)","v":""},null,{"$f":"T(C13)","v":"AA"},{"$f":"SUM(D13)","v":1},{"v":1,"d":"1.0"},null,{"$f":"SUM(G13)","v":{"v":0,"d":"0.0"}},null,null,{"v":0,"d":"0.0"},null,null,{"v":0,"d":"0.0"},null,null,{"v":0,"d":"0.0"},null,null,{"v":0,"d":"0.0"},null,null,{"v":0,"d":"0.0"},null,null,{"v":0,"d":"0.0"}]
[{"$f":"T(A14)","v":""}]
[{"$nulls":4},{"$f":"SUM(E382)","v":{"v":1,"d":"1.0"}},null,{"$f":"SUM(G382)","v":{"v":0,"d":"0.0"}},null,null,{"$f":"SUM((J382+M382+P382)/3)","v":{"v":0,"d":"0.0"}},{"$nulls":8},{"$f":"SUM(((S382*3)+V382+Y382)/5)","v":{"v":0,"d":"0.0"}}]
[]
[{"$f":"T(A17)","v":""},{"$nulls":3},"Threat",null,"Criticality",null,null,"Vulnerability",{"$nulls":8},"Consequence",{"$nulls":8},{"$f":"SUM(((((J390+S390)/2)*G390)*E390))","v":0}]
[{"$f":"T(A379)","v":"Industrial Disaster "},{"$nulls":8},"Exposure",null,null,"Protective Measures",null,null,"Robustness/Resilience",null,null,"Human",null,null,"Economic",null,null,"Psychological"]
[{"$f":"T(A19)","v":""},null,{"$f":"T(C19)","v":"AA"},{"$f":"SUM(D19)","v":2},{"v":1,"d":"1.0"},null,{"$f":"SUM(G19)","v":{"v":0,"d":"0.0"}},null,null,{"v":0,"d":"0.0"},null,null,{"v":0,"d":"0.0"},null,null,{"v":0,"d":"0.0"},null,null,{"v":0,"d":"0.0"},null,null,{"v":0,"d":"0.0"},null,null,{"v":0,"d":"0.0"}]
[{"$f":"T(A20)","v":""}]
[{"$nulls":4},{"$f":"SUM(E388)","v":{"v":1,"d":"1.0"}},null,{"$f":"SUM(G388)","v":{"v":0,"d":"0.0"}},null,null,{"$f":"SUM((J388+M388+P388)/3)","v":{"v":0,"d":"0.0"}},{"$nulls":8},{"$f":"SUM(((S388*3)+V388+Y388)/5)","v":{"v":0,"d":"0.0"}}]
[]
[{"$f":"T(A23)","v":""},{"$nulls":3},"Threat",null,"Criticality",null,null,"Vulnerability",{"$nulls":8},"Consequence",{"$nulls":8},{"$f":"SUM(((((J396+S396)/2)*G396)*E396))","v":0}]
[{"$f":"T(A379)","v":"Industrial Disaster "},{"$nulls":8},"Exposure",null,null,"Protective Measures",null,null,"Robustness/Resilience",null,null,"Human",null,null,"Economic",null,null,"Psychological"]
[{"$f":"T(A25)","v":""},null,{"$f":"T(C25)","v":"AA"},{"$f":"SUM(D25)","v":3},{"v":1,"d":"1.0"},null,{"$f":"SUM(G25)","v":{"v":0,"d":"0.0"}},null,null,{"v":0,"d":"0.0"},null,null,{"v":0,"d":"0.0"},null,null,{"v":0,"d":"0.0"},null,null,{"v":0,"d":"0.0"},null,null,{"v":0,"d":"0.0"},null,null,{"v":0,"d":"0.0"}]
[{"$f":"T(A26)","v":""}]
[{"$nulls":4},{"$f":"SUM(E394)","v":{"v":1,"d":"1.0"}},null,{"$f":"SUM(G394)","v":{"v":0,"d":"0.0"}},null,null,{"$f":"SUM((J394+M394+P394)/3)","v":{"v":0,"d":"0.0"}},{"$nulls":8},{"$f":"SUM(((S394*3)+V394+Y394)/5)","v":{"v":0,"d":"0.0"}}]
[]
[{"$f":"T(A29)","v":""},{"$nulls":3},"Threat",null,"Criticality",null,null,"Vulnerability",{"$nulls":8},"Consequence",{"$nulls":8},{"$f":"SUM(((((J402+S402)/2)*G402)*E402))","v":0}]
[{"$f":"T(A379)","v":"Industrial Disaster "},{"$nulls":8},"Exposure",null,null,"Protective Measures",null,null,"Robustness/Resilience",null,null,"Human",null,null,"Economic",null,null,"Psychological"]
[{"$f":"T(A31)","v":""},null,{"$f":"T(C31)","v":"AA"},{"$f":"SUM(D31)","v":4},{"v":1,"d":"1.0"},null,{"$f":"SUM(G31)","v":{"v":0,"d":"0.0"}},null,null,{"v":0,"d":"0.0"},null,null,{"v":0,"d":"0.0"},null,null,{"v":0,"d":"0.0"},null,null,{"v":0,"d":"0.0"},null,null,{"v":0,"d":"0.0"},null,null,{"v":0,"d":"0.0"}]
[{"$f":"T(A32)","v":""}]
[{"$nulls":4},{"$f":"SUM(E400)","v":{"v":1,"d":"1.0"}},null,{"$f":"SUM(G400)","v":{"v":0,"d":"0.0"}},null,null,{"$f":"SUM((J400+M400+P400)/3)","v":{"v":0,"d":"0.0"}},{"$nulls":8},{"$f":"SUM(((S400*3)+V400+Y400)/5)","v":{"v":0,"d":"0.0"}}]
[]
[{"$f":"T(A35)","v":""},{"$nulls":3},"Threat",null,"Criticality",null,null,"Vulnerability",{"$nulls":8},"Consequence",{"$nulls":8},{"$f":"SUM(((((J408+S408)/2)*G408)*E408))","v":0}]
[{"$f":"T(A379)","v":"Industrial Disaster "},{"$nulls":8},"Exposure",null,null,"Protective Measures",null,null,"Robustness/Resilience",null,null,"Human",null,null,"Economic",null,null,"Psychological"]
[{"$f":"T(A37)","v":""},null,{"$f":"T(C37)","v":"AA"},{"$f":"SUM(D37)","v":5},{"v":1,"d":"1.0"},null,{"$f":"SUM(G37)","v":{"v":0,"d":"0.0"}},null,null,{"v":0,"d":"0.0"},null,null,{"v":0,"d":"0.0"},null,null,{"v":0,"d":"0.0"},null,null,{"v":0,"d":"0.0"},null,null,{"v":0,"d":"0.0"},null,null,{"v":0,"d":"0.0"}]
[{"$f":"T(A38)","v":""}]
[{"$nulls":4},{"$f":"SUM(E406)","v":{"v":1,"d":"1.0"}},null,{"$f":"SUM(G406)","v":{"v":0,"d":"0.0"}},null,null,{"$f":"SUM((J406+M406+P406)/3)","v":{"v":0,"d":"0.0"}},{"$nulls":8},{"$f":"SUM(((S406*3)+V406+Y406)/5)","v":{"v":0,"d":"0.0"}}]
[]
[{"$f":"T(A41)","v":""},{"$nulls":3},"Threat",null,"Criticality",null,null,"Vulnerability",{"$nulls":8},"Consequence",{"$nulls":8},{"$f":"SUM(((((J414+S414)/2)*G414)*E414))","v":0}]
[{"$f":"T(A379)","v":"Industrial Disaster "},{"$nulls":8},"Exposure",null,null,"Protective Measures",null,null,"Robustness/Resilience",null,null,"Human",null,null,"Economic",null,null,"Psychological"]
[{"$f":"T(A43)","v":""},null,{"$f":"T(C43)","v":"AA"},{"$f":"SUM(D43)","v":6},{"v":1,"d":"1.0"},null,{"$f":"SUM(G43)","v":{"v":0,"d":"0.0"}},null,null,{"v":0,"d":"0.0"},null,null,{"v":0,"d":"0.0"},null,null,{"v":0,"d":"0.0"},null,null,{"v":0,"d":"0.0"},null,null,{"v":0,"d":"0.0"},null,null,{"v":0,"d":"0.0"}]
[{"$f":"T(A44)","v":""}]
[{"$nulls":4},{"$f":"SUM(E412)","v":{"v":1,"d":"1.0"}},null,{"$f":"SUM(G412)","v":{"v":0,"d":"0.0"}},null,null,{"$f":"SUM((J412+M412+P412)/3)","v":{"v":0,"d":"0.0"}},{"$nulls":8},{"$f":"SUM(((S412*3)+V412+Y412)/5)","v":{"v":0,"d":"0.0"}}]
[]
[{"$f":"T(A47)","v":""},{"$nulls":3},"Threat",null,"Criticality",null,null,"Vulnerability",{"$nulls":8},"Consequence",{"$nulls":8},{"$f":"SUM(((((J420+S420)/2)*G420)*E420))","v":0}]
[{"$f":"T(A379)","v":"Industrial Disaster "},{"$nulls":8},"Exposure",null,null,"Protective Measures",null,null,"Robustness/Resilience",null,null,"Human",null,null,"Economic",null,null,"Psychological"]
[{"$f":"T(A49)","v":""},null,{"$f":"T(C49)","v":"AA"},{"$f":"SUM(D49)","v":7},{"v":1,"d":"1.0"},null,{"$f":"SUM(G49)","v":{"v":0,"d":"0.0"}},null,null,{"v":0,"d":"0.0"},null,null,{"v":0,"d":"0.0"},null,null,{"v":0,"d":"0.0"},null,null,{"v":0,"d":"0.0"},null,null,{"v":0,"d":"0.0"},null,null,{"v":0,"d":"0.0"}]
[{"$f":"T(A50)","v":""}]
[{"$nulls":4},{"$f":"SUM(E418)","v":{"v":1,"d":"1.0"}},null,{"$f":"SUM(G418)","v":{"v":0,"d":"0.0"}},null,null,{"$f":"SUM((J418+M418+P418)/3)","v":{"v":0,"d":"0.0"}},{"$nulls":8},{"$f":"SUM(((S418*3)+V418+Y418)/5)","v":{"v":0,"d":"0.0"}}]
[]
[{"$f":"T(A53)","v":""},{"$nulls":3},"Threat",null,"Criticality",null,null,"Vulnerability",{"$nulls":8},"Consequence",{"$nulls":8},{"$f":"SUM(((((J426+S426)/2)*G426)*E426))","v":0}]
[{"$f":"T(A379)","v":"Industrial Disaster "},{"$nulls":8},"Exposure",null,null,"Protective Measures",null,null,"Robustness/Resilience",null,null,"Human",null,null,"Economic",null,null,"Psychological"]
[{"$f":"T(A55)","v":""},null,{"$f":"T(C55)","v":"AA"},{"$f":"SUM(D55)","v":8},{"v":1,"d":"1.0"},null,{"$f":"SUM(G55)","v":{"v":0,"d":"0.0"}},null,null,{"v":0,"d":"0.0"},null,null,{"v":0,"d":"0.0"},null,null,{"v":0,"d":"0.0"},null,null,{"v":0,"d":"0.0"},null,null,{"v":0,"d":"0.0"},null,null,{"v":0,"d":"0.0"}]
[{"$f":"T(A56)","v":""}]
[{"$nulls":4},{"$f":"SUM(E424)","v":{"v":1,"d":"1.0"}},null,{"$f":"SUM(G424)","v":{"v":0,"d":"0.0"}},null,null,{"$f":"SUM((J424+M424+P424)/3)","v":{"v":0,"d":"0.0"}},{"$nulls":8},{"$f":"SUM(((S424*3)+V424+Y424)/5)","v":{"v":0,"d":"0.0"}}]
[]
[{"$f":"T(A59)","v":""},{"$nulls":3},"Threat",null,"Criticality",null,null,"Vulnerability",{"$nulls":8},"Consequence",{"$nulls":8},{"$f":"SUM(((((J432+S432)/2)*G432)*E432))","v":0}]
[{"$f":"T(A379)","v":"Industrial Disaster "},{"$nulls":8},"Exposure",null,null,"Protective Measures",null,null,"Robustness/Resilience",null,null,"Human",null,null,"Economic",null,null,"Psychological"]
[{"$f":"T(A61)","v":""},null,{"$f":"T(C61)","v":"AA"},{"$f":"SUM(D61)","v":9},{"v":1,"d":"1.0"},null,{"$f":"SUM(G61)","v":{"v":0,"d":"0.0"}},null,null,{"v":0,"d":"0.0"},null,null,{"v":0,"d":"0.0"},null,null,{"v":0,"d":"0.0"},null,null,{"v":0,"d":"0.0"},null,null,{"v":0,"d":"0.0"},null,null,{"v":0,"d":"0.0"}]
[{"$f":"T(A62)","v":""}]
[{"$nulls":4},{"$f":"SUM(E430)","v":{"v":1,"d":"1.0"}},null,{"$f":"SUM(G430)","v":{"v":0,"d":"0.0"}},null,null,{"$f":"SUM((J430+M430+P430)/3)","v":{"v":0,"d":"0.0"}},{"$nulls":8},{"$f":"SUM(((S430*3)+V430+Y430)/5)","v":{"v":0,"d":"0.0"}}]
[]
[{"$f":"T(A65)","v":""},{"$nulls":3},"Threat",null,"Criticality",null,null,"Vulnerability",{"$nulls":8},"Consequence",{"$nulls":8},{"$f":"SUM(((((J438+S438)/2)*G438)*E438))","v":0}]
[{"$f":"T(A379)","v":"Industrial Disaster "},{"$nulls":8},"Exposure",null,null,"Protective Measures",null,null,"Robustness/Resilience",null,null,"Human",null,null,"Economic",null,null,"Psychological"]
[{"$f":"T(A67)","v":""},null,{"$f":"T(C67)","v":"AA"},{"$f":"SUM(D67)","v":10},{"v":1,"d":"1.0"},null,{"$f":"SUM(G67)","v":{"v":0,"d":"0.0"}},null,null,{"v":0,"d":"0.0"},null,null,{"v":0,"d":"0.0"},null,null,{"v":0,"d":"0.0"},null,null,{"v":0,"d":"0.0"},null,null,{"v":0,"d":"0.0"},null,null,{"v":0,"d":"0.0"}]
[{"$f":"T(A68)","v":""}]
[{"$nulls":4},{"$f":"SUM(E436)","v":{"v":1,"d":"1.0"}},null,{"$f":"SUM(G436)","v":{"v":0,"d":"0.0"}},null,null,{"$f":"SUM((J436+M436+P436)/3)","v":{"v":0,"d":"0.0"}},{"$nulls":8},{"$f":"SUM(((S436*3)+V436+Y436)/5)","v":{"v":0,"d":"0.0"}}]
[]
[]
[{"$f":"T(Definitions!D26)","v":"Derailment/Collision"}]
[{"$f":"T(A319)","v":""},{"$nulls":3},"Threat",null,"Criticality",null,null,"Vulnerability",{"$nulls":8},"Consequence",{"$nulls":8},{"$f":"SUM(((((J446+S446)/2)*G446)*E446))","v":0}]
[{"$f":"T(A441)","v":"Derailment/Collision"},{"$nulls":8},"Exposure",null,null,"Protective Measures",null,null,"Robustness/Resilience",null,null,"Human",null,null,"Economic",null,null,"Psychological"]
[{"$f":"T(A321)","v":""},null,{"$f":"T(C321)","v":"AA"},{"$f":"SUM(D321)","v":1},{"v":1,"d":"1.0"},null,{"$f":"SUM(G321)","v":{"v":0,"d":"0.0"}},null,null,{"v":0,"d":"0.0"},null,null,{"v":0,"d":"0.0"},null,null,{"v":0,"d":"0.0"},null,null,{"v":0,"d":"0.0"},null,null,{"v":0,"d":"0.0"},null,null,{"v":0,"d":"0.0"}]
[{"$f":"T(A322)","v":""}]
[{"$nulls":4},{"$f":"SUM(E444)","v":{"v":1,"d":"1.0"}},null,{"$f":"SUM(G444)","v":{"v":0,"d":"0.0"}},null,null,{"$f":"SUM((J444+M444+P444)/3)","v":{"v":0,"d":"0.0"}},{"$nulls":8},{"$f":"SUM(((S444*3)+V444+Y444)/5)","v":{"v":0,"d":"0.0"}}]
[]
[{"$f":"T(A325)","v":""},{"$nulls":3},"Threat",null,"Criticality",null,null,"Vulnerability",{"$nulls":8},"Consequence",{"$nulls":8},{"$f":"SUM(((((J452+S452)/2)*G452)*E452))","v":0}]
[{"$f":"T(A441)","v":"Derailment/Collision"},{"$nulls":8},"Exposure",null,null,"Protective Measures",null,null,"Robustness/Resilience",null,null,"Human",null,null,"Economic",null,null,"Psychological"]
[{"$f":"T(A327)","v":""},null,{"$f":"T(C327)","v":"AA"},{"$f":"SUM(D327)","v":2},{"v":1,"d":"1.0"},null,{"$f":"SUM(G327)","v":{"v":0,"d":"0.0"}},null,null,{"v":0,"d":"0.0"},null,null,{"v":0,"d":"0.0"},null,null,{"v":0,"d":"0.0"},null,null,{"v":0,"d":"0.0"},null,null,{"v":0,"d":"0.0"},null,null,{"v":0,"d":"0.0"}]
[{"$f":"T(A328)","v":""}]
[{"$nulls":4},{"$f":"SUM(E450)","v":{"v":1,"d":"1.0"}},null,{"$f":"SUM(G450)","v":{"v":0,"d":"0.0"}},null,null,{"$f":"SUM((J450+M450+P450)/3)","v":{"v":0,"d":"0.0"}},{"$nulls":8},{"$f":"SUM(((S450*3)+V450+Y450)/5)","v":{"v":0,"d":"0.0"}}]
[]
[{"$f":"T(A331)","v":""},{"$nulls":3},"Threat",null,"Criticality",null,null,"Vulnerability",{"$nulls":8},"Consequence",{"$nulls":8},{"$f":"SUM(((((J458+S458)/2)*G458)*E458))","v":0}]
[{"$f":"T(A441)","v":"Derailment/Collision"},{"$nulls":8},"Exposure",null,null,"Protective Measures",null,null,"Robustness/Resilience",null,null,"Human",null,null,"Economic",null,null,"Psychological"]
[{"$f":"T(A333)","v":""},null,{"$f":"T(C333)","v":"AA"},{"$f":"SUM(D333)","v":3},{"v":1,"d":"1.0"},null,{"$f":"SUM(G333)","v":{"v":0,"d":"0.0"}},null,null,{"v":0,"d":"0.0"},null,null,{"v":0,"d":"0.0"},null,null,{"v":0,"d":"0.0"},null,null,{"v":0,"d":"0.0"},null,null,{"v":0,"d":"0.0"},null,null,{"v":0,"d":"0.0"}]
[{"$f":"T(A334)","v":""}]
[{"$nulls":4},{"$f":"SUM(E456)","v":{"v":1,"d":"1.0"}},null,{"$f":"SUM(G456)","v":{"v":0,"d":"0.0"}},null,null,{"$f":"SUM((J456+M456+P456)/3)","v":{"v":0,"d":"0.0"}},{"$nulls":8},{"$f":"SUM(((S456*3)+V456+Y456)/5)","v":{"v":0,"d":"0.0"}}]
[]
[{"$f":"T(A337)","v":""},{"$nulls":3},"Threat",null,"Criticality",null,null,"Vulnerability",{"$nulls":8},"Consequence",{"$nulls":8},{"$f":"SUM(((((J464+S464)/2)*G464)*E464))","v":0}]
[{"$f":"T(A441)","v":"Derailment/Collision"},{"$nulls":8},"Exposure",null,null,"Protective Measures",null,null,"Robustness/Resilience",null,null,"Human",null,null,"Economic",null,null,"Psychological"]
[{"$f":"T(A339)","v":""},null,{"$f":"T(C339)","v":"AA"},{"$f":"SUM(D339)","v":4},{"v":1,"d":"1.0"},null,{"$f":"SUM(G339)","v":{"v":0,"d":"0.0"}},null,null,{"v":0,"d":"0.0"},null,null,{"v":0,"d":"0.0"},null,null,{"v":0,"d":"0.0"},null,null,{"v":0,"d":"0.0"},null,null,{"v":0,"d":"0.0"},null,null,{"v":0,"d":"0.0"}]
[{"$f":"T(A340)","v":""}]
[{"$nulls":4},{"$f":"SUM(E462)","v":{"v":1,"d":"1.0"}},null,{"$f":"SUM(G462)","v":{"v":0,"d":"0.0"}},null,null,{"$f":"SUM((J462+M462+P462)/3)","v":{"v":0,"d":"0.0"}},{"$nulls":8},{"$f":"SUM(((S462*3)+V462+Y462)/5)","v":{"v":0,"d":"0.0"}}]
[]
[{"$f":"T(A343)","v":""},{"$nulls":3},"Threat",null,"Criticality",null,null,"Vulnerability",{"$nulls":8},"Consequence",{"$nulls":8},{"$f":"SUM(((((J470+S470)/2)*G470)*E470))","v":0}]
[{"$f":"T(A441)","v":"Derailment/Collision"},{"$nulls":8},"Exposure",null,null,"Protective Measures",null,null,"Robustness/Resilience",null,null,"Human",null,null,"Economic",null,null,"Psychological"]
[{"$f":"T(A345)","v":""},null,{"$f":"T(C345)","v":"AA"},{"$f":"SUM(D345)","v":5},{"v":1,"d":"1.0"},null,{"$f":"SUM(G345)","v":{"v":0,"d":"0.0"}},null,null,{"v":0,"d":"0.0"},null,null,{"v":0,"d":"0.0"},null,null,{"v":0,"d":"0.0"},null,null,{"v":0,"d":"0.0"},null,null,{"v":0,"d":"0.0"},null,null,{"v":0,"d":"0.0"}]
[{"$f":"T(A346)","v":""}]
[{"$nulls":4},{"$f":"SUM(E468)","v":{"v":1,"d":"1.0"}},null,{"$f":"SUM(G468)","v":{"v":0,"d":"0.0"}},null,null,{"$f":"SUM((J468+M468+P468)/3)","v":{"v":0,"d":"0.0"}},{"$nulls":8},{"$f":"SUM(((S468*3)+V468+Y468)/5)","v":{"v":0,"d":"0.0"}}]
[]
[{"$f":"T(A349)","v":""},{"$nulls":3},"Threat",null,"Criticality",null,null,"Vulnerability",{"$nulls":8},"Consequence",{"$nulls":8},{"$f":"SUM(((((J476+S476)/2)*G476)*E476))","v":0}]
[{"$f":"T(A441)","v":"Derailment/Collision"},{"$nulls":8},"Exposure",null,null,"Protective Measures",null,null,"Robustness/Resilience",null,null,"Human",null,null,"Economic",null,null,"Psychological"]
[{"$f":"T(A351)","v":""},null,{"$f":"T(C351)","v":"AA"},{"$f":"SUM(D351)","v":6},{"v":1,"d":"1.0"},null,{"$f":"SUM(G351)","v":{"v":0,"d":"0.0"}},null,null,{"v":0,"d":"0.0"},null,null,{"v":0,"d":"0.0"},null,null,{"v":0,"d":"0.0"},null,null,{"v":0,"d":"0.0"},null,null,{"v":0,"d":"0.0"},null,null,{"v":0,"d":"0.0"}]
[{"$f":"T(A352)","v":""}]
[{"$nulls":4},{"$f":"SUM(E474)","v":{"v":1,"d":"1.0"}},null,{"$f":"SUM(G474)","v":{"v":0,"d":"0.0"}},null,null,{"$f":"SUM((J474+M474+P474)/3)","v":{"v":0,"d":"0.0"}},{"$nulls":8},{"$f":"SUM(((S474*3)+V474+Y474)/5)","v":{"v":0,"d":"0.0"}}]
[]
[{"$f":"T(A355)","v":""},{"$nulls":3},"Threat",null,"Criticality",null,null,"Vulnerability",{"$nulls":8},"Consequence",{"$nulls":8},{"$f":"SUM(((((J482+S482)/2)*G482)*E482))","v":0}]
[{"$f":"T(A441)","v":"Derailment/Collision"},{"$nulls":8},"Exposure",null,null,"Protective Measures",null,null,"Robustness/Resilience",null,null,"Human",null,null,"Economic",null,null,"Psychological"]
[{"$f":"T(A357)","v":""},null,{"$f":"T(C357)","v":"AA"},{"$f":"SUM(D357)","v":7},{"v":1,"d":"1.0"},null,{"$f":"SUM(G357)","v":{"v":0,"d":"0.0"}},null,null,{"v":0,"d":"0.0"},null,null,{"v":0,"d":"0.0"},null,null,{"v":0,"d":"0.0"},null,null,{"v":0,"d":"0.0"},null,null,{"v":0,"d":"0.0"},null,null,{"v":0,"d":"0.0"}]
[{"$f":"T(A358)","v":""}]
[{"$nulls":4},{"$f":"SUM(E480)","v":{"v":1,"d":"1.0"}},null,{"$f":"SUM(G480)","v":{"v":0,"d":"0.0"}},null,null,{"$f":"SUM((J480+M480+P480)/3)","v":{"v":0,"d":"0.0"}},{"$nulls":8},{"$f":"SUM(((S480*3)+V480+Y480)/5)","v":{"v":0,"d":"0.0"}}]
[]
[{"$f":"T(A361)","v":""},{"$nulls":3},"Threat",null,"Criticality",null,null,"Vulnerability",{"$nulls":8},"Consequence",{"$nulls":8},{"$f":"SUM(((((J488+S488)/2)*G488)*E488))","v":0}]
[{"$f":"T(A441)","v":"Derailment/Collision"},{"$nulls":8},"Exposure",null,null,"Protective Measures",null,null,"Robustness/Resilience",null,null,"Human",null,null,"Economic",null,null,"Psychological"]
[{"$f":"T(A363)","v":""},null,{"$f":"T(C363)","v":"AA"},{"$f":"SUM(D363)","v":8},{"v":1,"d":"1.0"},null,{"$f":"SUM(G363)","v":{"v":0,"d":"0.0"}},null,null,{"v":0,"d":"0.0"},null,null,{"v":0,"d":"0.0"},null,null,{"v":0,"d":"0.0"},null,null,{"v":0,"d":"0.0"},null,null,{"v":0,"d":"0.0"},null,null,{"v":0,"d":"0.0"}]
[{"$f":"T(A364)","v":""}]
[{"$nulls":4},{"$f":"SUM(E486)","v":{"v":1,"d":"1.0"}},null,{"$f":"SUM(G486)","v":{"v":0,"d":"0.0"}},null,null,{"$f":"SUM((J486+M486+P486)/3)","v":{"v":0,"d":"0.0"}},{"$nulls":8},{"$f":"SUM(((S486*3)+V486+Y486)/5)","v":{"v":0,"d":"0.0"}}]
[]
[{"$f":"T(A367)","v":""},{"$nulls":3},"Threat",null,"Criticality",null,null,"Vulnerability",{"$nulls":8},"Consequence",{"$nulls":8},{"$f":"SUM(((((J494+S494)/2)*G494)*E494))","v":0}]
[{"$f":"T(A441)","v":"Derailment/Collision"},{"$nulls":8},"Exposure",null,null,"Protective Measures",null,null,"Robustness/Resilience",null,null,"Human",null,null,"Economic",null,null,"Psychological"]
[{"$f":"T(A369)","v":""},null,{"$f":"T(C369)","v":"AA"},{"$f":"SUM(D369)","v":9},{"v":1,"d":"1.0"},null,{"$f":"SUM(G369)","v":{"v":0,"d":"0.0"}},null,null,{"v":0,"d":"0.0"},null,null,{"v":0,"d":"0.0"},null,null,{"v":0,"d":"0.0"},null,null,{"v":0,"d":"0.0"},null,null,{"v":0,"d":"0.0"},null,null,{"v":0,"d":"0.0"}]
[{"$f":"T(A370)","v":""}]
[{"$nulls":4},{"$f":"SUM(E492)","v":{"v":1,"d":"1.0"}},null,{"$f":"SUM(G492)","v":{"v":0,"d":"0.0"}},null,null,{"$f":"SUM((J492+M492+P492)/3)","v":{"v":0,"d":"0.0"}},{"$nulls":8},{"$f":"SUM(((S492*3)+V492+Y492)/5)","v":{"v":0,"d":"0.0"}}]
[]
[{"$f":"T(A373)","v":""},{"$nulls":3},"Threat",null,"Criticality",null,null,"Vulnerability",{"$nulls":8},"Consequence",{"$nulls":8},{"$f":"SUM(((((J500+S500)/2)*G500)*E500))","v":0}]
[{"$f":"T(A441)","v":"Derailment/Collision"},{"$nulls":8},"Exposure",null,null,"Protective Measures",null,null,"Robustness/Resilience",null,null,"Human",null,null,"Economic",null,null,"Psychological"]
[{"$f":"T(A375)","v":""},null,{"$f":"T(C375)","v":"AA"},{"$f":"SUM(D375)","v":10},{"v":1,"d":"1.0"},null,{"$f":"SUM(G375)","v":{"v":0,"d":"0.0"}},null,null,{"v":0,"d":"0.0"},null,null,{"v":0,"d":"0.0"},null,null,{"v":0,"d":"0.0"},null,null,{"v":0,"d":"0.0"},null,null,{"v":0,"d":"0.0"},null,null,{"v":0,"d":"0.0"}]
[{"$f":"T(A376)","v":""}]
[{"$nulls":4},{"$f":"SUM(E498)","v":{"v":1,"d":"1.0"}},null,{"$f":"SUM(G498)","v":{"v":0,"d":"0.0"}},null,null,{"$f":"SUM((J498+M498+P498)/3)","v":{"v":0,"d":"0.0"}},{"$nulls":8},{"$f":"SUM(((S498*3)+V498+Y498)/5)","v":{"v":0,"d":"0.0"}}]
[]
[{"$f":"T(Definitions!D27)","v":"Widespread Power Outage"}]
[{"$f":"T(A442)","v":""},{"$nulls":3},"Threat",null,"Criticality",null,null,"Vulnerability",{"$nulls":8},"Consequence",{"$nulls":8},{"$f":"SUM(((((J507+S507)/2)*G507)*E507))","v":0}]
[{"$f":"T(A502)","v":"Widespread Power Outage"},{"$nulls":8},"Exposure",null,null,"Protective Measures",null,null,"Robustness/Resilience",null,null,"Human",null,null,"Economic",null,null,"Psychological"]
[{"$f":"T(A444)","v":""},null,{"$f":"T(C444)","v":"AA"},{"$f":"SUM(D444)","v":1},{"v":1,"d":"1.0"},null,{"$f":"SUM(G444)","v":{"v":0,"d":"0.0"}},null,null,{"v":0,"d":"0.0"},null,null,{"v":0,"d":"0.0"},null,null,{"v":0,"d":"0.0"},null,null,{"v":0,"d":"0.0"},null,null,{"v":0,"d":"0.0"},null,null,{"v":0,"d":"0.0"}]
[{"$f":"T(A445)","v":""}]
[{"$nulls":4},{"$f":"SUM(E505)","v":{"v":1,"d":"1.0"}},null,{"$f":"SUM(G505)","v":{"v":0,"d":"0.0"}},null,null,{"$f":"SUM((J505+M505+P505)/3)","v":{"v":0,"d":"0.0"}},{"$nulls":8},{"$f":"SUM(((S505*3)+V505+Y505)/5)","v":{"v":0,"d":"0.0"}}]
[]
[{"$f":"T(A448)","v":""},{"$nulls":3},"Threat",null,"Criticality",null,null,"Vulnerability",{"$nulls":8},"Consequence",{"$nulls":8},{"$f":"SUM(((((J513+S513)/2)*G513)*E513))","v":0}]
[{"$f":"T(A502)","v":"Widespread Power Outage"},{"$nulls":8},"Exposure",null,null,"Protective Measures",null,null,"Robustness/Resilience",null,null,"Human",null,null,"Economic",null,null,"Psychological"]
[{"$f":"T(A450)","v":""},null,{"$f":"T(C450)","v":"AA"},{"$f":"SUM(D450)","v":2},{"v":1,"d":"1.0"},null,{"$f":"SUM(G450)","v":{"v":0,"d":"0.0"}},null,null,{"v":0,"d":"0.0"},null,null,{"v":0,"d":"0.0"},null,null,{"v":0,"d":"0.0"},null,null,{"v":0,"d":"0.0"},null,null,{"v":0,"d":"0.0"},null,null,{"v":0,"d":"0.0"}]
[{"$f":"T(A451)","v":""}]
[{"$nulls":4},{"$f":"SUM(E511)","v":{"v":1,"d":"1.0"}},null,{"$f":"SUM(G511)","v":{"v":0,"d":"0.0"}},null,null,{"$f":"SUM((J511+M511+P511)/3)","v":{"v":0,"d":"0.0"}},{"$nulls":8},{"$f":"SUM(((S511*3)+V511+Y511)/5)","v":{"v":0,"d":"0.0"}}]
[]
[{"$f":"T(A454)","v":""},{"$nulls":3},"Threat",null,"Criticality",null,null,"Vulnerability",{"$nulls":8},"Consequence",{"$nulls":8},{"$f":"SUM(((((J519+S519)/2)*G519)*E519))","v":0}]
[{"$f":"T(A502)","v":"Widespread Power Outage"},{"$nulls":8},"Exposure",null,null,"Protective Measures",null,null,"Robustness/Resilience",null,null,"Human",null,null,"Economic",null,null,"Psychological"]
[{"$f":"T(A456)","v":""},null,{"$f":"T(C456)","v":"AA"},{"$f":"SUM(D456)","v":3},{"v":1,"d":"1.0"},null,{"$f":"SUM(G456)","v":{"v":0,"d":"0.0"}},null,null,{"v":0,"d":"0.0"},null,null,{"v":0,"d":"0.0"},null,null,{"v":0,"d":"0.0"},null,null,{"v":0,"d":"0.0"},null,null,{"v":0,"d":"0.0"},null,null,{"v":0,"d":"0.0"}]
[{"$f":"T(A457)","v":""}]
[{"$nulls":4},{"$f":"SUM(E517)","v":{"v":1,"d":"1.0"}},null,{"$f":"SUM(G517)","v":{"v":0,"d":"0.0"}},null,null,{"$f":"SUM((J517+M517+P517)/3)","v":{"v":0,"d":"0.0"}},{"$nulls":8},{"$f":"SUM(((S517*3)+V517+Y517)/5)","v":{"v":0,"d":"0.0"}}]
[]
[{"$f":"T(A460)","v":""},{"$nulls":3},"Threat",null,"Criticality",null,null,"Vulnerability",{"$nulls":8},"Consequence",{"$nulls":8},{"$f":"SUM(((((J525+S525)/2)*G525)*E525))","v":0}]
[{"$f":"T(A502)","v":"Widespread Power Outage"},{"$nulls":8},"Exposure",null,null,"Protective Measures",null,null,"Robustness/Resilience",null,null,"Human",null,null,"Economic",null,null,"Psychological"]
[{"$f":"T(A462)","v":""},null,{"$f":"T(C462)","v":"AA"},{"$f":"SUM(D462)","v":4},{"v":1,"d":"1.0"},null,{"$f":"SUM(G462)","v":{"v":0,"d":"0.0"}},null,null,{"v":0,"d":"0.0"},null,null,{"v":0,"d":"0.0"},null,null,{"v":0,"d":"0.0"},null,null,{"v":0,"d":"0.0"},null,null,{"v":0,"d":"0.0"},null,null,{"v":0,"d":"0.0"}]
[{"$f":"T(A463)","v":""}]
[{"$nulls":4},{"$f":"SUM(E523)","v":{"v":1,"d":"1.0"}},null,{"$f":"SUM(G523)","v":{"v":0,"d":"0.0"}},null,null,{"$f":"SUM((J523+M523+P523)/3)","v":{"v":0,"d":"0.0"}},{"$nulls":8},{"$f":"SUM(((S523*3)+V523+Y523)/5)","v":{"v":0,"d":"0.0"}}]
[]
[{"$f":"T(A466)","v":""},{"$nulls":3},"Threat",null,"Criticality",null,null,"Vulnerability",{"$nulls":8},"Consequence",{"$nulls":8},{"$f":"SUM(((((J531+S531)/2)*G531)*E531))","v":0}]
[{"$f":"T(A502)","v":"Widespread Power Outage"},{"$nulls":8},"Exposure",null,null,"Protective Measures",null,null,"Robustness/Resilience",null,null,"Human",null,null,"Economic",null,null,"Psychological"]
[{"$f":"T(A468)","v":""},null,{"$f":"T(C468)","v":"AA"},{"$f":"SUM(D468)","v":5},{"v":1,"d":"1.0"},null,{"$f":"SUM(G468)","v":{"v":0,"d":"0.0"}},null,null,{"v":0,"d":"0.0"},null,null,{"v":0,"d":"0.0"},null,null,{"v":0,"d":"0.0"},null,null,{"v":0,"d":"0.0"},null,null,{"v":0,"d":"0.0"},null,null,{"v":0,"d":"0.0"}]
[{"$f":"T(A469)","v":""}]
[{"$nulls":4},{"$f":"SUM(E529)","v":{"v":1,"d":"1.0"}},null,{"$f":"SUM(G529)","v":{"v":0,"d":"0.0"}},null,null,{"$f":"SUM((J529+M529+P529)/3)","v":{"v":0,"d":"0.0"}},{"$nulls":8},{"$f":"SUM(((S529*3)+V529+Y529)/5)","v":{"v":0,"d":"0.0"}}]
[]
[{"$f":"T(A472)","v":""},{"$nulls":3},"Threat",null,"Criticality",null,null,"Vulnerability",{"$nulls":8},"Consequence",{"$nulls":8},{"$f":"SUM(((((J537+S537)/2)*G537)*E537))","v":0}]
[{"$f":"T(A502)","v":"Widespread Power Outage"},{"$nulls":8},"Exposure",null,null,"Protective Measures",null,null,"Robustness/Resilience",null,null,"Human",null,null,"Economic",null,null,"Psychological"]
[{"$f":"T(A474)","v":""},null,{"$f":"T(C474)","v":"AA"},{"$f":"SUM(D474)","v":6},{"v":1,"d":"1.0"},null,{"$f":"SUM(G474)","v":{"v":0,"d":"0.0"}},null,null,{"v":0,"d":"0.0"},null,null,{"v":0,"d":"0.0"},null,null,{"v":0,"d":"0.0"},null,null,{"v":0,"d":"0.0"},null,null,{"v":0,"d":"0.0"},null,null,{"v":0,"d":"0.0"}]
[{"$f":"T(A475)","v":""}]
[{"$nulls":4},{"$f":"SUM(E535)","v":{"v":1,"d":"1.0"}},null,{"$f":"SUM(G535)","v":{"v":0,"d":"0.0"}},null,null,{"$f":"SUM((J535+M535+P535)/3)","v":{"v":0,"d":"0.0"}},{"$nulls":8},{"$f":"SUM(((S535*3)+V535+Y535)/5)","v":{"v":0,"d":"0.0"}}]
[]
[{"$f":"T(A478)","v":""},{"$nulls":3},"Threat",null,"Criticality",null,null,"Vulnerability",{"$nulls":8},"Consequence",{"$nulls":8},{"$f":"SUM(((((J543+S543)/2)*G543)*E543))","v":0}]
[{"$f":"T(A502)","v":"Widespread Power Outage"},{"$nulls":8},"Exposure",null,null,"Protective Measures",null,null,"Robustness/Resilience",null,null,"Human",null,null,"Economic",null,null,"Psychological"]
[{"$f":"T(A480)","v":""},null,{"$f":"T(C480)","v":"AA"},{"$f":"SUM(D480)","v":7},{"v":1,"d":"1.0"},null,{"$f":"SUM(G480)","v":{"v":0,"d":"0.0"}},null,null,{"v":0,"d":"0.0"},null,null,{"v":0,"d":"0.0"},null,null,{"v":0,"d":"0.0"},null,null,{"v":0,"d":"0.0"},null,null,{"v":0,"d":"0.0"},null,null,{"v":0,"d":"0.0"}]
[{"$f":"T(A481)","v":""}]
[{"$nulls":4},{"$f":"SUM(E541)","v":{"v":1,"d":"1.0"}},null,{"$f":"SUM(G541)","v":{"v":0,"d":"0.0"}},null,null,{"$f":"SUM((J541+M541+P541)/3)","v":{"v":0,"d":"0.0"}},{"$nulls":8},{"$f":"SUM(((S541*3)+V541+Y541)/5)","v":{"v":0,"d":"0.0"}}]
[]
[{"$f":"T(A484)","v":""},{"$nulls":3},"Threat",null,"Criticality",null,null,"Vulnerability",{"$nulls":8},"Consequence",{"$nulls":8},{"$f":"SUM(((((J549+S549)/2)*G549)*E549))","v":0}]
[{"$f":"T(A502)","v":"Widespread Power Outage"},{"$nulls":8},"Exposure",null,null,"Protective Measures",null,null,"Robustness/Resilience",null,null,"Human",null,null,"Economic",null,null,"Psychological"]
[{"$f":"T(A486)","v":""},null,{"$f":"T(C486)","v":"AA"},{"$f":"SUM(D486)","v":8},{"v":1,"d":"1.0"},null,{"$f":"SUM(G486)","v":{"v":0,"d":"0.0"}},null,null,{"v":0,"d":"0.0"},null,null,{"v":0,"d":"0.0"},null,null,{"v":0,"d":"0.0"},null,null,{"v":0,"d":"0.0"},null,null,{"v":0,"d":"0.0"},null,null,{"v":0,"d":"0.0"}]
[{"$f":"T(A487)","v":""}]
[{"$nulls":4},{"$f":"SUM(E547)","v":{"v":1,"d":"1.0"}},null,{"$f":"SUM(G547)","v":{"v":0,"d":"0.0"}},null,null,{"$f":"SUM((J547+M547+P547)/3)","v":{"v":0,"d":"0.0"}},{"$nulls":8},{"$f":"SUM(((S547*3)+V547+Y547)/5)","v":{"v":0,"d":"0.0"}}]
[]
[{"$f":"T(A490)","v":""},{"$nulls":3},"Threat",null,"Criticality",null,null,"Vulnerability",{"$nulls":8},"Consequence",{"$nulls":8},{"$f":"SUM(((((J555+S555)/2)*G555)*E555))","v":0}]
[{"$f":"T(A502)","v":"Widespread Power Outage"},{"$nulls":8},"Exposure",null,null,"Protective Measures",null,null,"Robustness/Resilience",null,null,"Human",null,null,"Economic",null,null,"Psychological"]
[{"$f":"T(A492)","v":""},null,{"$f":"T(C492)","v":"AA"},{"$f":"SUM(D492)","v":9},{"v":1,"d":"1.0"},null,{"$f":"SUM(G492)","v":{"v":0,"d":"0.0"}},null,null,{"v":0,"d":"0.0"},null,null,{"v":0,"d":"0.0"},null,null,{"v":0,"d":"0.0"},null,null,{"v":0,"d":"0.0"},null,null,{"v":0,"d":"0.0"},null,null,{"v":0,"d":"0.0"}]
[{"$f":"T(A493)","v":""}]
[{"$nulls":4},{"$f":"SUM(E553)","v":{"v":1,"d":"1.0"}},null,{"$f":"SUM(G553)","v":{"v":0,"d":"0.0"}},null,null,{"$f":"SUM((J553+M553+P553)/3)","v":{"v":0,"d":"0.0"}},{"$nulls":8},{"$f":"SUM(((S553*3)+V553+Y553)/5)","v":{"v":0,"d":"0.0"}}]
[]
[{"$f":"T(A496)","v":""},{"$nulls":3},"Threat",null,"Criticality",null,null,"Vulnerability",{"$nulls":8},"Consequence",{"$nulls":8},{"$f":"SUM(((((J561+S561)/2)*G561)*E561))","v":0}]
[{"$f":"T(A502)","v":"Widespread Power Outage"},{"$nulls":8},"Exposure",null,null,"Protective Measures",null,null,"Robustness/Resilience",null,null,"Human",null,null,"Economic",null,null,"Psychological"]
[{"$f":"T(A498)","v":""},null,{"$f":"T(C498)","v":"AA"},{"$f":"SUM(D498)","v":10},{"v":1,"d":"1.0"},null,{"$f":"SUM(G498)","v":{"v":0,"d":"0.0"}},null,null,{"v":0,"d":"0.0"},null,null,{"v":0,"d":"0.0"},null,null,{"v":0,"d":"0.0"},null,null,{"v":0,"d":"0.0"},null,null,{"v":0,"d":"0.0"},null,null,{"v":0,"d":"0.0"}]
[{"$f":"T(A499)","v":""}]
[{"$nulls":4},{"$f":"SUM(E559)","v":{"v":1,"d":"1.0"}},null,{"$f":"SUM(G559)","v":{"v":0,"d":"0.0"}},null,null,{"$f":"SUM((J559+M559+P559)/3)","v":{"v":0,"d":"0.0"}},{"$nulls":8},{"$f":"SUM(((S559*3)+V559+Y559)/5)","v":{"v":0,"d":"0.0"}}]
[]
[{"$f":"T(Definitions!A28)","v":"Type 3 Incidents:  Low Probability - Extreme Consequences Attack"}]
[]
[]
[{"$f":"T(Definitions!D28)","v":"Weapon of Mass Destruction "}]
[{"$f":"T(A503)","v":""},{"$nulls":3},"Threat",null,"Criticality",null,null,"Vulnerability",{"$nulls":8},"Consequence",{"$nulls":8},{"$f":"SUM(((((J571+S571)/2)*G571)*E571))","v":0}]
[{"$f":"T(A566)","v":"Weapon of Mass Destruction "},{"$nulls":8},"Exposure",null,null,"Protective Measures",null,null,"Robustness/Resilience",null,null,"Human",null,null,"Economic",null,null,"Psychological"]
[{"$f":"T(A505)","v":""},null,{"$f":"T(C505)","v":"AA"},{"$f":"SUM(D505)","v":1},{"v":1,"d":"1.0"},null,{"$f":"SUM(G505)","v":{"v":0,"d":"0.0"}},null,null,{"v":0,"d":"0.0"},null,null,{"v":0,"d":"0.0"},null,null,{"v":0,"d":"0.0"},null,null,{"v":0,"d":"0.0"},null,null,{"v":0,"d":"0.0"},null,null,{"v":0,"d":"0.0"}]
[{"$f":"T(A506)","v":""}]
[{"$nulls":4},{"$f":"SUM(E569)","v":{"v":1,"d":"1.0"}},null,{"$f":"SUM(G569)","v":{"v":0,"d":"0.0"}},null,null,{"$f":"SUM((J569+M569+P569)/3)","v":{"v":0,"d":"0.0"}},{"$nulls":8},{"$f":"SUM(((S569*3)+V569+Y569)/5)","v":{"v":0,"d":"0.0"}}]
[]
[{"$f":"T(A509)","v":""},{"$nulls":3},"Threat",null,"Criticality",null,null,"Vulnerability",{"$nulls":8},"Consequence",{"$nulls":8},{"$f":"SUM(((((J577+S577)/2)*G577)*E577))","v":0}]
[{"$f":"T(A566)","v":"Weapon of Mass Destruction "},{"$nulls":8},"Exposure",null,null,"Protective Measures",null,null,"Robustness/Resilience",null,null,"Human",null,null,"Economic",null,null,"Psychological"]
[{"$f":"T(A511)","v":""},null,{"$f":"T(C511)","v":"AA"},{"$f":"SUM(D511)","v":2},{"v":1,"d":"1.0"},null,{"$f":"SUM(G511)","v":{"v":0,"d":"0.0"}},null,null,{"v":0,"d":"0.0"},null,null,{"v":0,"d":"0.0"},null,null,{"v":0,"d":"0.0"},null,null,{"v":0,"d":"0.0"},null,null,{"v":0,"d":"0.0"},null,null,{"v":0,"d":"0.0"}]
[{"$f":"T(A512)","v":""}]
[{"$nulls":4},{"$f":"SUM(E575)","v":{"v":1,"d":"1.0"}},null,{"$f":"SUM(G575)","v":{"v":0,"d":"0.0"}},null,null,{"$f":"SUM((J575+M575+P575)/3)","v":{"v":0,"d":"0.0"}},{"$nulls":8},{"$f":"SUM(((S575*3)+V575+Y575)/5)","v":{"v":0,"d":"0.0"}}]
[]
[{"$f":"T(A515)","v":""},{"$nulls":3},"Threat",null,"Criticality",null,null,"Vulnerability",{"$nulls":8},"Consequence",{"$nulls":8},{"$f":"SUM(((((J583+S583)/2)*G583)*E583))","v":0}]
[{"$f":"T(A566)","v":"Weapon of Mass Destruction "},{"$nulls":8},"Exposure",null,null,"Protective Measures",null,null,"Robustness/Resilience",null,null,"Human",null,null,"Economic",null,null,"Psychological"]
[{"$f":"T(A517)","v":""},null,{"$f":"T(C517)","v":"AA"},{"$f":"SUM(D517)","v":3},{"v":1,"d":"1.0"},null,{"$f":"SUM(G517)","v":{"v":0,"d":"0.0"}},null,null,{"v":0,"d":"0.0"},null,null,{"v":0,"d":"0.0"},null,null,{"v":0,"d":"0.0"},null,null,{"v":0,"d":"0.0"},null,null,{"v":0,"d":"0.0"},null,null,{"v":0,"d":"0.0"}]
[{"$f":"T(A518)","v":""}]
[{"$nulls":4},{"$f":"SUM(E581)","v":{"v":1,"d":"1.0"}},null,{"$f":"SUM(G581)","v":{"v":0,"d":"0.0"}},null,null,{"$f":"SUM((J581+M581+P581)/3)","v":{"v":0,"d":"0.0"}},{"$nulls":8},{"$f":"SUM(((S581*3)+V581+Y581)/5)","v":{"v":0,"d":"0.0"}}]
[]
[{"$f":"T(A521)","v":""},{"$nulls":3},"Threat",null,"Criticality",null,null,"Vulnerability",{"$nulls":8},"Consequence",{"$nulls":8},{"$f":"SUM(((((J589+S589)/2)*G589)*E589))","v":0}]
[{"$f":"T(A566)","v":"Weapon of Mass Destruction "},{"$nulls":8},"Exposure",null,null,"Protective Measures",null,null,"Robustness/Resilience",null,null,"Human",null,null,"Economic",null,null,"Psychological"]
[{"$f":"T(A523)","v":""},null,{"$f":"T(C523)","v":"AA"},{"$f":"SUM(D523)","v":4},{"v":1,"d":"1.0"},null,{"$f":"SUM(G523)","v":{"v":0,"d":"0.0"}},null,null,{"v":0,"d":"0.0"},null,null,{"v":0,"d":"0.0"},null,null,{"v":0,"d":"0.0"},null,null,{"v":0,"d":"0.0"},null,null,{"v":0,"d":"0.0"},null,null,{"v":0,"d":"0.0"}]
[{"$f":"T(A524)","v":""}]
[{"$nulls":4},{"$f":"SUM(E587)","v":{"v":1,"d":"1.0"}},null,{"$f":"SUM(G587)","v":{"v":0,"d":"0.0"}},null,null,{"$f":"SUM((J587+M587+P587)/3)","v":{"v":0,"d":"0.0"}},{"$nulls":8},{"$f":"SUM(((S587*3)+V587+Y587)/5)","v":{"v":0,"d":"0.0"}}]
[]
[{"$f":"T(A527)","v":""},{"$nulls":3},"Threat",null,"Criticality",null,null,"Vulnerability",{"$nulls":8},"Consequence",{"$nulls":8},{"$f":"SUM(((((J595+S595)/2)*G595)*E595))","v":0}]
[{"$f":"T(A566)","v":"Weapon of Mass Destruction "},{"$nulls":8},"Exposure",null,null,"Protective Measures",null,null,"Robustness/Resilience",null,null,"Human",null,null,"Economic",null,null,"Psychological"]
[{"$f":"T(A529)","v":""},null,{"$f":"T(C529)","v":"AA"},{"$f":"SUM(D529)","v":5},{"v":1,"d":"1.0"},null,{"$f":"SUM(G529)","v":{"v":0,"d":"0.0"}},null,null,{"v":0,"d":"0.0"},null,null,{"v":0,"d":"0.0"},null,null,{"v":0,"d":"0.0"},null,null,{"v":0,"d":"0.0"},null,null,{"v":0,"d":"0.0"},null,null,{"v":0,"d":"0.0"}]
[{"$f":"T(A530)","v":""}]
[{"$nulls":4},{"$f":"SUM(E593)","v":{"v":1,"d":"1.0"}},null,{"$f":"SUM(G593)","v":{"v":0,"d":"0.0"}},null,null,{"$f":"SUM((J593+M593+P593)/3)","v":{"v":0,"d":"0.0"}},{"$nulls":8},{"$f":"SUM(((S593*3)+V593+Y593)/5)","v":{"v":0,"d":"0.0"}}]
[]
[{"$f":"T(A533)","v":""},{"$nulls":3},"Threat",null,"Criticality",null,null,"Vulnerability",{"$nulls":8},"Consequence",{"$nulls":8},{"$f":"SUM(((((J601+S601)/2)*G601)*E601))","v":0}]
[{"$f":"T(A566)","v":"Weapon of Mass Destruction "},{"$nulls":8},"Exposure",null,null,"Protective Measures",null,null,"Robustness/Resilience",null,null,"Human",null,null,"Economic",null,null,"Psychological"]
[{"$f":"T(A535)","v":""},null,{"$f":"T(C535)","v":"AA"},{"$f":"SUM(D535)","v":6},{"v":1,"d":"1.0"},null,{"$f":"SUM(G535)","v":{"v":0,"d":"0.0"}},null,null,{"v":0,"d":"0.0"},null,null,{"v":0,"d":"0.0"},null,null,{"v":0,"d":"0.0"},null,null,{"v":0,"d":"0.0"},null,null,{"v":0,"d":"0.0"},null,null,{"v":0,"d":"0.0"}]
[{"$f":"T(A536)","v":""}]
[{"$nulls":4},{"$f":"SUM(E599)","v":{"v":1,"d":"1.0"}},null,{"$f":"SUM(G599)","v":{"v":0,"d":"0.0"}},null,null,{"$f":"SUM((J599+M599+P599)/3)","v":{"v":0,"d":"0.0"}},{"$nulls":8},{"$f":"SUM(((S599*3)+V599+Y599)/5)","v":{"v":0,"d":"0.0"}}]
[]
[{"$f":"T(A539)","v":""},{"$nulls":3},"Threat",null,"Criticality",null,null,"Vulnerability",{"$nulls":8},"Consequence",{"$nulls":8},{"$f":"SUM(((((J607+S607)/2)*G607)*E607))","v":0}]
[{"$f":"T(A566)","v":"Weapon of Mass Destruction "},{"$nulls":8},"Exposure",null,null,"Protective Measures",null,null,"Robustness/Resilience",null,null,"Human",null,null,"Economic",null,null,"Psychological"]
[{"$f":"T(A541)","v":""},null,{"$f":"T(C541)","v":"AA"},{"$f":"SUM(D541)","v":7},{"v":1,"d":"1.0"},null,{"$f":"SUM(G541)","v":{"v":0,"d":"0.0"}},null,null,{"v":0,"d":"0.0"},null,null,{"v":0,"d":"0.0"},null,null,{"v":0,"d":"0.0"},null,null,{"v":0,"d":"0.0"},null,null,{"v":0,"d":"0.0"},null,null,{"v":0,"d":"0.0"}]
[{"$f":"T(A542)","v":""}]
[{"$nulls":4},{"$f":"SUM(E605)","v":{"v":1,"d":"1.0"}},null,{"$f":"SUM(G605)","v":{"v":0,"d":"0.0"}},null,null,{"$f":"SUM((J605+M605+P605)/3)","v":{"v":0,"d":"0.0"}},{"$nulls":8},{"$f":"SUM(((S605*3)+V605+Y605)/5)","v":{"v":0,"d":"0.0"}}]
[]
[{"$f":"T(A545)","v":""},{"$nulls":3},"Threat",null,"Criticality",null,null,"Vulnerability",{"$nulls":8},"Consequence",{"$nulls":8},{"$f":"SUM(((((J613+S613)/2)*G613)*E613))","v":0}]
[{"$f":"T(A566)","v":"Weapon of Mass Destruction "},{"$nulls":8},"Exposure",null,null,"Protective Measures",null,null,"Robustness/Resilience",null,null,"Human",null,null,"Economic",null,null,"Psychological"]
[{"$f":"T(A547)","v":""},null,{"$f":"T(C547)","v":"AA"},{"$f":"SUM(D547)","v":8},{"v":1,"d":"1.0"},null,{"$f":"SUM(G547)","v":{"v":0,"d":"0.0"}},null,null,{"v":0,"d":"0.0"},null,null,{"v":0,"d":"0.0"},null,null,{"v":0,"d":"0.0"},null,null,{"v":0,"d":"0.0"},null,null,{"v":0,"d":"0.0"},null,null,{"v":0,"d":"0.0"}]
[{"$f":"T(A548)","v":""}]
[{"$nulls":4},{"$f":"SUM(E611)","v":{"v":1,"d":"1.0"}},null,{"$f":"SUM(G611)","v":{"v":0,"d":"0.0"}},null,null,{"$f":"SUM((J611+M611+P611)/3)","v":{"v":0,"d":"0.0"}},{"$nulls":8},{"$f":"SUM(((S611*3)+V611+Y611)/5)","v":{"v":0,"d":"0.0"}}]
[]
[{"$f":"T(A551)","v":""},{"$nulls":3},"Threat",null,"Criticality",null,null,"Vulnerability",{"$nulls":8},"Consequence",{"$nulls":8},{"$f":"SUM(((((J619+S619)/2)*G619)*E619))","v":0}]
[{"$f":"T(A566)","v":"Weapon of Mass Destruction "},{"$nulls":8},"Exposure",null,null,"Protective Measures",null,null,"Robustness/Resilience",null,null,"Human",null,null,"Economic",null,null,"Psychological"]
[{"$f":"T(A553)","v":""},null,{"$f":"T(C553)","v":"AA"},{"$f":"SUM(D553)","v":9},{"v":1,"d":"1.0"},null,{"$f":"SUM(G553)","v":{"v":0,"d":"0.0"}},null,null,{"v":0,"d":"0.0"},null,null,{"v":0,"d":"0.0"},null,null,{"v":0,"d":"0.0"},null,null,{"v":0,"d":"0.0"},null,null,{"v":0,"d":"0.0"},null,null,{"v":0,"d":"0.0"}]
[{"$f":"T(A554)","v":""}]
[{"$nulls":4},{"$f":"SUM(E617)","v":{"v":1,"d":"1.0"}},null,{"$f":"SUM(G617)","v":{"v":0,"d":"0.0"}},null,null,{"$f":"SUM((J617+M617+P617)/3)","v":{"v":0,"d":"0.0"}},{"$nulls":8},{"$f":"SUM(((S617*3)+V617+Y617)/5)","v":{"v":0,"d":"0.0"}}]
[]
[{"$f":"T(A557)","v":""},{"$nulls":3},"Threat",null,"Criticality",null,null,"Vulnerability",{"$nulls":8},"Consequence",{"$nulls":8},{"$f":"SUM(((((J625+S625)/2)*G625)*E625))","v":0}]
[{"$f":"T(A566)","v":"Weapon of Mass Destruction "},{"$nulls":8},"Exposure",null,null,"Protective Measures",null,null,"Robustness/Resilience",null,null,"Human",null,null,"Economic",null,null,"Psychological"]
[{"$f":"T(A559)","v":""},null,{"$f":"T(C559)","v":"AA"},{"$f":"SUM(D559)","v":10},{"v":1,"d":"1.0"},null,{"$f":"SUM(G559)","v":{"v":0,"d":"0.0"}},null,null,{"v":0,"d":"0.0"},null,null,{"v":0,"d":"0.0"},null,null,{"v":0,"d":"0.0"},null,null,{"v":0,"d":"0.0"},null,null,{"v":0,"d":"0.0"},null,null,{"v":0,"d":"0.0"}]
[{"$f":"T(A560)","v":""}]
[{"$nulls":4},{"$f":"SUM(E623)","v":{"v":1,"d":"1.0"}},null,{"$f":"SUM(G623)","v":{"v":0,"d":"0.0"}},null,null,{"$f":"SUM((J623+M623+P623)/3)","v":{"v":0,"d":"0.0"}},{"$nulls":8},{"$f":"SUM(((S623*3)+V623+Y623)/5)","v":{"v":0,"d":"0.0"}}]
[]
["SENSITIVE SECURITY INFORMATION"]
["WARNING: This document contains Sensitive Security Information that is controlled under 49 CFR 1520. No part of this document may be released to persons without a need to know, as defined in 49 CFR 1520, except with the written permission of the FEMA Administrator, Washington, DC. Unauthorized release may result in civil penalty or other action. For U.S. Government agencies, public release is governed by 5 U.S.C. 522."]

{"sheet":"Risk Summary","index":9,"n_rows":113,"n_cols":19,"rows_kept":113,"merged":[[0,0,1,15],[2,0,2,15],[4,1,4,2],[4,3,4,4],[4,5,4,14],[5,1,5,2],[5,3,5,4],[5,5,5,9],[5,10,5,11],[5,12,5,14],[6,0,6,4],[6,5,6,14],[7,0,14,4],[7,5,15,5],[7,6,15,6],[7,7,15,7],[7,8,15,8],[7,9,15,9],[7,10,15,10],[7,11,15,11],[7,12,15,12],[7,13,15,13],[7,14,15,14],[15,2,15,3],[16,0,16,14],[17,0,20,0],[21,0,23,0],[24,0,26,0],[27,0,28,0],[29,0,32,0],[33,0,34,0],[35,0,37,0],[38,0,38,14],[39,0,42,0],[43,0,44,0],[45,0,47,0],[48,0,49,0],[50,0,53,0],[54,0,55,0],[56,0,58,0],[59,0,59,14],[60,0,63,0],[64,0,65,0],[66,0,68,0],[69,0,70,0],[71,0,74,0],[76,0,78,0],[79,0,79,14],[80,0,81,0],[82,0,83,0],[84,0,85,0],[86,0,87,0],[88,0,88,14],[89,0,91,0],[92,0,93,0],[94,0,95,0],[96,0,97,0],[99,0,99,14],[111,0,111,15],[112,0,113,15]]}
["WARNING: This document contains Sensitive Security Information that is controlled under 49 CFR 1520. No part of this document may be released to persons without a need to know, as defined in 49 CFR 1520, except with the written permission of the FEMA Administrator, Washington, DC. Unauthorized release may result in civil penalty or other action. For U.S. Government agencies, public release is governed by 5 U.S.C. 522."]
[]
["SENSITIVE SECURITY INFORMATION"]
[]
["Date:",null,null,"Risk Analysis of: ",{"$nulls":11},"Participants (Title)"]
["Facilitator:",null,null,"Recorder:",null,{"$f":"T('Critical-Representative Assets'!E5)","v":""},{"$nulls":4},"For Year:"]
[{"$nulls":5},"Incidents",{"$nulls":12},"To unlock this sheet to edit the contents the password is: 1"]
["NOTES:",{"$nulls":4},{"$f":"T(Definitions!D19)","v":"Armed Assault/Active Shooter"},{"$f":"T(Definitions!D20)","v":" VBIED or IED"},{"$f":"T(Definitions!D21)","v":"Hijack"},{"$f":"T(Definitions!D22)","v":"Coordinated Complex Attack"},{"$f":"T(Definitions!D23)","v":"Cyber Attack"},{"$f":"T(Definitions!D24)","v":"Natural Disaster"},{"$f":"T(Definitions!D25)","v":"Industrial Disaster "},{"$f":"T(Definitions!D26)","v":"Derailment/Collision"},{"$f":"T(Definitions!D27)","v":"Widespread Power Outage"},{"$f":"T(Definitions!D28)","v":"Weapon of Mass Destruction "}]
{"$rows_empty":7}
["Asset Category","Asset Type","#",null,"Selected Asset "]
["Commuter Rail",{"$nulls":14},"Notes","Investment Justifications (see comment)"]
[{"$f":"T(Definitions!A31)","v":"Commuter Rail System Public Area"},{"$f":"T('Critical-Representative Assets'!B12)","v":"Headquarters Building"},{"$f":"T('Critical-Representative Assets'!C12)","v":"CR"},{"$f":"SUM('Critical-Representative Assets'!D12)","v":1},{"$f":"T('Critical-Representative Assets'!E12)","v":""},{"$f":"HYPERLINK(\"#'Commuter Rail Assets'!AB10\", SUM('Commuter Rail Assets'!AB11))","v":0},{"$f":"HYPERLINK(\"#'Commuter Rail Assets'!AB137\", SUM('Commuter Rail Assets'!AB138))","v":0},{"$f":"HYPERLINK(\"#'Commuter Rail Assets'!AB264\", SUM('Commuter Rail Assets'!AB265))","v":0},{"$f":"HYPERLINK(\"#'Commuter Rail Assets'!AB391\", SUM('Commuter Rail Assets'!AB392))","v":0},{"$f":"HYPERLINK(\"#'Commuter Rail Assets'!AB518\", SUM('Commuter Rail Assets'!AB519))","v":0},{"$f":"HYPERLINK(\"#'Commuter Rail Assets'!AB645\", SUM('Commuter Rail Assets'!AB646))","v":0},{"$f":"HYPERLINK(\"#'Commuter Rail Assets'!AB772\", SUM('Commuter Rail Assets'!AB773))","v":0},{"$f":"HYPERLINK(\"#'Commuter Rail Assets'!AB899\", SUM('Commuter Rail Assets'!AB900))","v":0},{"$f":"HYPERLINK(\"#'Commuter Rail Assets'!AB1026\", SUM('Commuter Rail Assets'!AB1027))","v":0},{"$f":"HYPERLINK(\"#'Commuter Rail Assets'!AB1153\", SUM('Commuter Rail Assets'!AB1154))","v":0}]
[null,{"$f":"T('Critical-Representative Assets'!B13)","v":"Major Passenger Terminals"},{"$f":"T('Critical-Representative Assets'!C13)","v":"CR"},{"$f":"SUM('Critical-Representative Assets'!D13)","v":2},{"$f":"T('Critical-Representative Assets'!E13)","v":""},{"$f":"HYPERLINK(\"#'Commuter Rail Assets'!AB16\", SUM('Commuter Rail Assets'!AB17))","v":0},{"$f":"HYPERLINK(\"#'Commuter Rail Assets'!AB143\", SUM('Commuter Rail Assets'!AB144))","v":0},{"$f":"HYPERLINK(\"#'Commuter Rail Assets'!AB270\", SUM('Commuter Rail Assets'!AB271))","v":0},{"$f":"HYPERLINK(\"#'Commuter Rail Assets'!AB397\", SUM('Commuter Rail Assets'!AB398))","v":0},{"$f":"HYPERLINK(\"#'Commuter Rail Assets'!AB524\", SUM('Commuter Rail Assets'!AB525))","v":0},{"$f":"HYPERLINK(\"#'Commuter Rail Assets'!AB651\", SUM('Commuter Rail Assets'!AB652))","v":0},{"$f":"HYPERLINK(\"#'Commuter Rail Assets'!AB778\", SUM('Commuter Rail Assets'!AB779))","v":0},{"$f":"HYPERLINK(\"#'Commuter Rail Assets'!AB905\", SUM('Commuter Rail Assets'!AB906))","v":0},{"$f":"HYPERLINK(\"#'Commuter Rail Assets'!AB1032\", SUM('Commuter Rail Assets'!AB1033))","v":0},{"$f":"HYPERLINK(\"#'Commuter Rail Assets'!AB1159\", SUM('Commuter Rail Assets'!AB1160))","v":0}]
[null,{"$f":"T('Critical-Representative Assets'!B14)","v":"Major Line Stations"},{"$f":"T('Critical-Representative Assets'!C14)","v":"CR"},{"$f":"SUM('Critical-Representative Assets'!D14)","v":3},{"$f":"T('Critical-Representative Assets'!E14)","v":""},{"$f":"HYPERLINK(\"#'Commuter Rail Assets'!AB22\", SUM('Commuter Rail Assets'!AB23))","v":0},{"$f":"HYPERLINK(\"#'Commuter Rail Assets'!AB149\", SUM('Commuter Rail Assets'!AB150))","v":0},{"$f":"HYPERLINK(\"#'Commuter Rail Assets'!AB276\", SUM('Commuter Rail Assets'!AB277))","v":0},{"$f":"HYPERLINK(\"#'Commuter Rail Assets'!AB403\", SUM('Commuter Rail Assets'!AB404))","v":0},{"$f":"HYPERLINK(\"#'Commuter Rail Assets'!AB530\", SUM('Commuter Rail Assets'!AB531))","v":0},{"$f":"HYPERLINK(\"#'Commuter Rail Assets'!AB657\", SUM('Commuter Rail Assets'!AB658))","v":0},{"$f":"HYPERLINK(\"#'Commuter Rail Assets'!AB784\", SUM('Commuter Rail Assets'!AB785))","v":0},{"$f":"HYPERLINK(\"#'Commuter Rail Assets'!AB911\", SUM('Commuter Rail Assets'!AB912))","v":0},{"$f":"HYPERLINK(\"#'Commuter Rail Assets'!AB1038\", SUM('Commuter Rail Assets'!AB1039))","v":0},{"$f":"HYPERLINK(\"#'Commuter Rail Assets'!AB1165\", SUM('Commuter Rail Assets'!AB1166))","v":0}]
[null,{"$f":"T('Critical-Representative Assets'!B15)","v":"Parking Structures"},{"$f":"T('Critical-Representative Assets'!C15)","v":"CR"},{"$f":"SUM('Critical-Representative Assets'!D15)","v":4},{"$f":"T('Critical-Representative Assets'!E15)","v":""},{"$f":"HYPERLINK(\"#'Commuter Rail Assets'!AB28\", SUM('Commuter Rail Assets'!AB29))","v":0},{"$f":"HYPERLINK(\"#'Commuter Rail Assets'!AB155\", SUM('Commuter Rail Assets'!AB156))","v":0},{"$f":"HYPERLINK(\"#'Commuter Rail Assets'!AB282\", SUM('Commuter Rail Assets'!AB283))","v":0},{"$f":"HYPERLINK(\"#'Commuter Rail Assets'!AB409\", SUM('Commuter Rail Assets'!AB410))","v":0},{"$f":"HYPERLINK(\"#'Commuter Rail Assets'!AB536\", SUM('Commuter Rail Assets'!AB537))","v":0},{"$f":"HYPERLINK(\"#'Commuter Rail Assets'!AB663\", SUM('Commuter Rail Assets'!AB664))","v":0},{"$f":"HYPERLINK(\"#'Commuter Rail Assets'!AB790\", SUM('Commuter Rail Assets'!AB791))","v":0},{"$f":"HYPERLINK(\"#'Commuter Rail Assets'!AB917\", SUM('Commuter Rail Assets'!AB918))","v":0},{"$f":"HYPERLINK(\"#'Commuter Rail Assets'!AB1044\", SUM('Commuter Rail Assets'!AB1045))","v":0},{"$f":"HYPERLINK(\"#'Commuter Rail Assets'!AB1171\", SUM('Commuter Rail Assets'!AB1172))","v":0}]
[{"$f":"T(Definitions!A35)","v":"Commuter Rail System Rolling Stock"},{"$f":"T('Critical-Representative Assets'!B16)","v":"Consist - Type 1"},{"$f":"T('Critical-Representative Assets'!C16)","v":"CR"},{"$f":"SUM('Critical-Representative Assets'!D16)","v":5},{"$f":"T('Critical-Representative Assets'!E16)","v":""},{"$f":"HYPERLINK(\"#'Commuter Rail Assets'!AB34\", SUM('Commuter Rail Assets'!AB35))","v":0},{"$f":"HYPERLINK(\"#'Commuter Rail Assets'!AB161\", SUM('Commuter Rail Assets'!AB162))","v":0},{"$f":"HYPERLINK(\"#'Commuter Rail Assets'!AB288\", SUM('Commuter Rail Assets'!AB289))","v":0},{"$f":"HYPERLINK(\"#'Commuter Rail Assets'!AB415\", SUM('Commuter Rail Assets'!AB416))","v":0},{"$f":"HYPERLINK(\"#'Commuter Rail Assets'!AB542\", SUM('Commuter Rail Assets'!AB543))","v":0},{"$f":"HYPERLINK(\"#'Commuter Rail Assets'!AB669\", SUM('Commuter Rail Assets'!AB670))","v":0},{"$f":"HYPERLINK(\"#'Commuter Rail Assets'!AB796\", SUM('Commuter Rail Assets'!AB797))","v":0},{"$f":"HYPERLINK(\"#'Commuter Rail Assets'!AB923\", SUM('Commuter Rail Assets'!AB924))","v":0},{"$f":"HYPERLINK(\"#'Commuter Rail Assets'!AB1050\", SUM('Commuter Rail Assets'!AB1051))","v":0},{"$f":"HYPERLINK(\"#'Commuter Rail Assets'!AB1177\", SUM('Commuter Rail Assets'!AB1178))","v":0}]
[null,{"$f":"T('Critical-Representative Assets'!B17)","v":"Consist - Type 2"},{"$f":"T('Critical-Representative Assets'!C17)","v":"CR"},{"$f":"SUM('Critical-Representative Assets'!D17)","v":6},{"$f":"T('Critical-Representative Assets'!E17)","v":""},{"$f":"HYPERLINK(\"#'Commuter Rail Assets'!AB40\", SUM('Commuter Rail Assets'!AB41))","v":0},{"$f":"HYPERLINK(\"#'Commuter Rail Assets'!AB167\", SUM('Commuter Rail Assets'!AB168))","v":0},{"$f":"HYPERLINK(\"#'Commuter Rail Assets'!AB294\", SUM('Commuter Rail Assets'!AB295))","v":0},{"$f":"HYPERLINK(\"#'Commuter Rail Assets'!AB421\", SUM('Commuter Rail Assets'!AB422))","v":0},{"$f":"HYPERLINK(\"#'Commuter Rail Assets'!AB548\", SUM('Commuter Rail Assets'!AB549))","v":0},{"$f":"HYPERLINK(\"#'Commuter Rail Assets'!AB675\", SUM('Commuter Rail Assets'!AB676))","v":0},{"$f":"HYPERLINK(\"#'Commuter Rail Assets'!AB802\", SUM('Commuter Rail Assets'!AB803))","v":0},{"$f":"HYPERLINK(\"#'Commuter Rail Assets'!AB929\", SUM('Commuter Rail Assets'!AB930))","v":0},{"$f":"HYPERLINK(\"#'Commuter Rail Assets'!AB1056\", SUM('Commuter Rail Assets'!AB1057))","v":0},{"$f":"HYPERLINK(\"#'Commuter Rail Assets'!AB1183\", SUM('Commuter Rail Assets'!AB1184))","v":0}]
[null,{"$f":"T('Critical-Representative Assets'!B18)","v":"Primary Control Center"},{"$f":"T('Critical-Representative Assets'!C18)","v":"CR"},{"$f":"SUM('Critical-Representative Assets'!D18)","v":7},{"$f":"T('Critical-Representative Assets'!E18)","v":""},{"$f":"HYPERLINK(\"#'Commuter Rail Assets'!AB46\", SUM('Commuter Rail Assets'!AB47))","v":0},{"$f":"HYPERLINK(\"#'Commuter Rail Assets'!AB173\", SUM('Commuter Rail Assets'!AB174))","v":0},{"$f":"HYPERLINK(\"#'Commuter Rail Assets'!AB300\", SUM('Commuter Rail Assets'!AB301))","v":0},{"$f":"HYPERLINK(\"#'Commuter Rail Assets'!AB427\", SUM('Commuter Rail Assets'!AB428))","v":0},{"$f":"HYPERLINK(\"#'Commuter Rail Assets'!AB554\", SUM('Commuter Rail Assets'!AB555))","v":0},{"$f":"HYPERLINK(\"#'Commuter Rail Assets'!AB681\", SUM('Commuter Rail Assets'!AB682))","v":0},{"$f":"HYPERLINK(\"#'Commuter Rail Assets'!AB808\", SUM('Commuter Rail Assets'!AB809))","v":0},{"$f":"HYPERLINK(\"#'Commuter Rail Assets'!AB935\", SUM('Commuter Rail Assets'!AB936))","v":0},{"$f":"HYPERLINK(\"#'Commuter Rail Assets'!AB1062\", SUM('Commuter Rail Assets'!AB1063))","v":0},{"$f":"HYPERLINK(\"#'Commuter Rail Assets'!AB1189\", SUM('Commuter Rail Assets'!AB1190))","v":0}]
[{"$f":"T(Definitions!A37)","v":"Commuter Rail System Control"},{"$f":"T('Critical-Representative Assets'!B19)","v":"Control Towers"},{"$f":"T('Critical-Representative Assets'!C19)","v":"CR"},{"$f":"SUM('Critical-Representative Assets'!D19)","v":8},{"$f":"T('Critical-Representative Assets'!E19)","v":""},{"$f":"HYPERLINK(\"#'Commuter Rail Assets'!AB52\", SUM('Commuter Rail Assets'!AB53))","v":0},{"$f":"HYPERLINK(\"#'Commuter Rail Assets'!AB179\", SUM('Commuter Rail Assets'!AB180))","v":0},{"$f":"HYPERLINK(\"#'Commuter Rail Assets'!AB306\", SUM('Commuter Rail Assets'!AB307))","v":0},{"$f":"HYPERLINK(\"#'Commuter Rail Assets'!AB433\", SUM('Commuter Rail Assets'!AB434))","v":0},{"$f":"HYPERLINK(\"#'Commuter Rail Assets'!AB560\", SUM('Commuter Rail Assets'!AB561))","v":0},{"$f":"HYPERLINK(\"#'Commuter Rail Assets'!AB687\", SUM('Commuter Rail Assets'!AB688))","v":0},{"$f":"HYPERLINK(\"#'Commuter Rail Assets'!AB814\", SUM('Commuter Rail Assets'!AB815))","v":0},{"$f":"HYPERLINK(\"#'Commuter Rail Assets'!AB941\", SUM('Commuter Rail Assets'!AB942))","v":0},{"$f":"HYPERLINK(\"#'Commuter Rail Assets'!AB1068\", SUM('Commuter Rail Assets'!AB1069))","v":0},{"$f":"HYPERLINK(\"#'Commuter Rail Assets'!AB1195\", SUM('Commuter Rail Assets'!AB1196))","v":0}]
[null,{"$f":"T('Critical-Representative Assets'!B20)","v":"Cyber Systems"},{"$f":"T('Critical-Representative Assets'!C20)","v":"CR"},{"$f":"SUM('Critical-Representative Assets'!D20)","v":9},{"$f":"T('Critical-Representative Assets'!E20)","v":""},{"$f":"HYPERLINK(\"#'Commuter Rail Assets'!AB58\", SUM('Commuter Rail Assets'!AB59))","v":0},{"$f":"HYPERLINK(\"#'Commuter Rail Assets'!AB185\", SUM('Commuter Rail Assets'!AB186))","v":0},{"$f":"HYPERLINK(\"#'Commuter Rail Assets'!AB312\", SUM('Commuter Rail Assets'!AB313))","v":0},{"$f":"HYPERLINK(\"#'Commuter Rail Assets'!AB439\", SUM('Commuter Rail Assets'!AB440))","v":0},{"$f":"HYPERLINK(\"#'Commuter Rail Assets'!AB566\", SUM('Commuter Rail Assets'!AB567))","v":0},{"$f":"HYPERLINK(\"#'Commuter Rail Assets'!AB693\", SUM('Commuter Rail Assets'!AB694))","v":0},{"$f":"HYPERLINK(\"#'Commuter Rail Assets'!AB820\", SUM('Commuter Rail Assets'!AB821))","v":0},{"$f":"HYPERLINK(\"#'Commuter Rail Assets'!AB947\", SUM('Commuter Rail Assets'!AB948))","v":0},{"$f":"HYPERLINK(\"#'Commuter Rail Assets'!AB1074\", SUM('Commuter Rail Assets'!AB1075))","v":0},{"$f":"HYPERLINK(\"#'Commuter Rail Assets'!AB1201\", SUM('Commuter Rail Assets'!AB1202))","v":0}]
[null,{"$f":"T('Critical-Representative Assets'!B21)","v":"Right of Way (ROW)"},{"$f":"T('Critical-Representative Assets'!C21)","v":"CR"},{"$f":"SUM('Critical-Representative Assets'!D21)","v":10},{"$f":"T('Critical-Representative Assets'!E21)","v":""},{"$f":"HYPERLINK(\"#'Commuter Rail Assets'!AB64\", SUM('Commuter Rail Assets'!AB65))","v":0},{"$f":"HYPERLINK(\"#'Commuter Rail Assets'!AB191\", SUM('Commuter Rail Assets'!AB192))","v":0},{"$f":"HYPERLINK(\"#'Commuter Rail Assets'!AB318\", SUM('Commuter Rail Assets'!AB319))","v":0},{"$f":"HYPERLINK(\"#'Commuter Rail Assets'!AB445\", SUM('Commuter Rail Assets'!AB446))","v":0},{"$f":"HYPERLINK(\"#'Commuter Rail Assets'!AB572\", SUM('Commuter Rail Assets'!AB573))","v":0},{"$f":"HYPERLINK(\"#'Commuter Rail Assets'!AB699\", SUM('Commuter Rail Assets'!AB700))","v":0},{"$f":"HYPERLINK(\"#'Commuter Rail Assets'!AB826\", SUM('Commuter Rail Assets'!AB827))","v":0},{"$f":"HYPERLINK(\"#'Commuter Rail Assets'!AB953\", SUM('Commuter Rail Assets'!AB954))","v":0},{"$f":"HYPERLINK(\"#'Commuter Rail Assets'!AB1080\", SUM('Commuter Rail Assets'!AB1081))","v":0},{"$f":"HYPERLINK(\"#'Commuter Rail Assets'!AB1207\", SUM('Commuter Rail Assets'!AB1208))","v":0}]
[{"$f":"T(Definitions!A40)","v":"Commuter Rail System Operations"},{"$f":"T('Critical-Representative Assets'!B22)","v":"Signals & PTC"},{"$f":"T('Critical-Representative Assets'!C22)","v":"CR"},{"$f":"SUM('Critical-Representative Assets'!D22)","v":11},{"$f":"T('Critical-Representative Assets'!E22)","v":""},{"$f":"HYPERLINK(\"#'Commuter Rail Assets'!AB70\", SUM('Commuter Rail Assets'!AB71))","v":0},{"$f":"HYPERLINK(\"#'Commuter Rail Assets'!AB197\", SUM('Commuter Rail Assets'!AB198))","v":0},{"$f":"HYPERLINK(\"#'Commuter Rail Assets'!AB324\", SUM('Commuter Rail Assets'!AB325))","v":0},{"$f":"HYPERLINK(\"#'Commuter Rail Assets'!AB451\", SUM('Commuter Rail Assets'!AB452))","v":0},{"$f":"HYPERLINK(\"#'Commuter Rail Assets'!AB578\", SUM('Commuter Rail Assets'!AB579))","v":0},{"$f":"HYPERLINK(\"#'Commuter Rail Assets'!AB705\", SUM('Commuter Rail Assets'!AB706))","v":0},{"$f":"HYPERLINK(\"#'Commuter Rail Assets'!AB832\", SUM('Commuter Rail Assets'!AB833))","v":0},{"$f":"HYPERLINK(\"#'Commuter Rail Assets'!AB959\", SUM('Commuter Rail Assets'!AB960))","v":0},{"$f":"HYPERLINK(\"#'Commuter Rail Assets'!AB1086\", SUM('Commuter Rail Assets'!AB1087))","v":0},{"$f":"HYPERLINK(\"#'Commuter Rail Assets'!AB1213\", SUM('Commuter Rail Assets'!AB1214))","v":0}]
[null,{"$f":"T('Critical-Representative Assets'!B23)","v":"Switches "},{"$f":"T('Critical-Representative Assets'!C23)","v":"CR"},{"$f":"SUM('Critical-Representative Assets'!D23)","v":12},{"$f":"T('Critical-Representative Assets'!E23)","v":""},{"$f":"HYPERLINK(\"#'Commuter Rail Assets'!AB76\", SUM('Commuter Rail Assets'!AB77))","v":0},{"$f":"HYPERLINK(\"#'Commuter Rail Assets'!AB203\", SUM('Commuter Rail Assets'!AB204))","v":0},{"$f":"HYPERLINK(\"#'Commuter Rail Assets'!AB330\", SUM('Commuter Rail Assets'!AB331))","v":0},{"$f":"HYPERLINK(\"#'Commuter Rail Assets'!AB457\", SUM('Commuter Rail Assets'!AB458))","v":0},{"$f":"HYPERLINK(\"#'Commuter Rail Assets'!AB584\", SUM('Commuter Rail Assets'!AB585))","v":0},{"$f":"HYPERLINK(\"#'Commuter Rail Assets'!AB711\", SUM('Commuter Rail Assets'!AB712))","v":0},{"$f":"HYPERLINK(\"#'Commuter Rail Assets'!AB838\", SUM('Commuter Rail Assets'!AB839))","v":0},{"$f":"HYPERLINK(\"#'Commuter Rail Assets'!AB965\", SUM('Commuter Rail Assets'!AB966))","v":0},{"$f":"HYPERLINK(\"#'Commuter Rail Assets'!AB1092\", SUM('Commuter Rail Assets'!AB1093))","v":0},{"$f":"HYPERLINK(\"#'Commuter Rail Assets'!AB1219\", SUM('Commuter Rail Assets'!AB1220))","v":0}]
[{"$f":"T(Definitions!A43)","v":"Commuter Rail System ROW Infrastructure"},{"$f":"T('Critical-Representative Assets'!B24)","v":"Bridges"},{"$f":"T('Critical-Representative Assets'!C24)","v":"CR"},{"$f":"SUM('Critical-Representative Assets'!D24)","v":13},{"$f":"T('Critical-Representative Assets'!E24)","v":""},{"$f":"HYPERLINK(\"#'Commuter Rail Assets'!AB82\", SUM('Commuter Rail Assets'!AB83))","v":0},{"$f":"HYPERLINK(\"#'Commuter Rail Assets'!AB209\", SUM('Commuter Rail Assets'!AB210))","v":0},{"$f":"HYPERLINK(\"#'Commuter Rail Assets'!AB336\", SUM('Commuter Rail Assets'!AB337))","v":0},{"$f":"HYPERLINK(\"#'Commuter Rail Assets'!AB463\", SUM('Commuter Rail Assets'!AB464))","v":0},{"$f":"HYPERLINK(\"#'Commuter Rail Assets'!AB590\", SUM('Commuter Rail Assets'!AB591))","v":0},{"$f":"HYPERLINK(\"#'Commuter Rail Assets'!AB717\", SUM('Commuter Rail Assets'!AB718))","v":0},{"$f":"HYPERLINK(\"#'Commuter Rail Assets'!AB844\", SUM('Commuter Rail Assets'!AB845))","v":0},{"$f":"HYPERLINK(\"#'Commuter Rail Assets'!AB971\", SUM('Commuter Rail Assets'!AB972))","v":0},{"$f":"HYPERLINK(\"#'Commuter Rail Assets'!AB1098\", SUM('Commuter Rail Assets'!AB1099))","v":0},{"$f":"HYPERLINK(\"#'Commuter Rail Assets'!AB1225\", SUM('Commuter Rail Assets'!AB1226))","v":0}]
[null,{"$f":"T('Critical-Representative Assets'!B25)","v":"Elevated Track"},{"$f":"T('Critical-Representative Assets'!C25)","v":"CR"},{"$f":"SUM('Critical-Representative Assets'!D25)","v":14},{"$f":"T('Critical-Representative Assets'!E25)","v":""},{"$f":"HYPERLINK(\"#'Commuter Rail Assets'!AB88\", SUM('Commuter Rail Assets'!AB89))","v":0},{"$f":"HYPERLINK(\"#'Commuter Rail Assets'!AB215\", SUM('Commuter Rail Assets'!AB216))","v":0},{"$f":"HYPERLINK(\"#'Commuter Rail Assets'!AB342\", SUM('Commuter Rail Assets'!AB343))","v":0},{"$f":"HYPERLINK(\"#'Commuter Rail Assets'!AB469\", SUM('Commuter Rail Assets'!AB470))","v":0},{"$f":"HYPERLINK(\"#'Commuter Rail Assets'!AB596\", SUM('Commuter Rail Assets'!AB597))","v":0},{"$f":"HYPERLINK(\"#'Commuter Rail Assets'!AB723\", SUM('Commuter Rail Assets'!AB724))","v":0},{"$f":"HYPERLINK(\"#'Commuter Rail Assets'!AB850\", SUM('Commuter Rail Assets'!AB851))","v":0},{"$f":"HYPERLINK(\"#'Commuter Rail Assets'!AB977\", SUM('Commuter Rail Assets'!AB978))","v":0},{"$f":"HYPERLINK(\"#'Commuter Rail Assets'!AB1104\", SUM('Commuter Rail Assets'!AB1105))","v":0},{"$f":"HYPERLINK(\"#'Commuter Rail Assets'!AB1231\", SUM('Commuter Rail Assets'!AB1232))","v":0}]
[null,{"$f":"T('Critical-Representative Assets'!B26)","v":"Tunnels "},{"$f":"T('Critical-Representative Assets'!C26)","v":"CR"},{"$f":"SUM('Critical-Representative Assets'!D26)","v":15},{"$f":"T('Critical-Representative Assets'!E26)","v":""},{"$f":"HYPERLINK(\"#'Commuter Rail Assets'!AB94\", SUM('Commuter Rail Assets'!AB95))","v":0},{"$f":"HYPERLINK(\"#'Commuter Rail Assets'!AB221\", SUM('Commuter Rail Assets'!AB222))","v":0},{"$f":"HYPERLINK(\"#'Commuter Rail Assets'!AB348\", SUM('Commuter Rail Assets'!AB349))","v":0},{"$f":"HYPERLINK(\"#'Commuter Rail Assets'!AB475\", SUM('Commuter Rail Assets'!AB476))","v":0},{"$f":"HYPERLINK(\"#'Commuter Rail Assets'!AB602\", SUM('Commuter Rail Assets'!AB603))","v":0},{"$f":"HYPERLINK(\"#'Commuter Rail Assets'!AB729\", SUM('Commuter Rail Assets'!AB730))","v":0},{"$f":"HYPERLINK(\"#'Commuter Rail Assets'!AB856\", SUM('Commuter Rail Assets'!AB857))","v":0},{"$f":"HYPERLINK(\"#'Commuter Rail Assets'!AB983\", SUM('Commuter Rail Assets'!AB984))","v":0},{"$f":"HYPERLINK(\"#'Commuter Rail Assets'!AB1110\", SUM('Commuter Rail Assets'!AB1111))","v":0},{"$f":"HYPERLINK(\"#'Commuter Rail Assets'!AB1237\", SUM('Commuter Rail Assets'!AB1238))","v":0}]
[null,{"$f":"T('Critical-Representative Assets'!B27)","v":"Choke Points on ROW"},{"$f":"T('Critical-Representative Assets'!C27)","v":"CR"},{"$f":"SUM('Critical-Representative Assets'!D27)","v":16},{"$f":"T('Critical-Representative Assets'!E27)","v":""},{"$f":"HYPERLINK(\"#'Commuter Rail Assets'!AB100\", SUM('Commuter Rail Assets'!AB101))","v":0},{"$f":"HYPERLINK(\"#'Commuter Rail Assets'!AB227\", SUM('Commuter Rail Assets'!AB228))","v":0},{"$f":"HYPERLINK(\"#'Commuter Rail Assets'!AB354\", SUM('Commuter Rail Assets'!AB355))","v":0},{"$f":"HYPERLINK(\"#'Commuter Rail Assets'!AB481\", SUM('Commuter Rail Assets'!AB482))","v":0},{"$f":"HYPERLINK(\"#'Commuter Rail Assets'!AB608\", SUM('Commuter Rail Assets'!AB609))","v":0},{"$f":"HYPERLINK(\"#'Commuter Rail Assets'!AB735\", SUM('Commuter Rail Assets'!AB736))","v":0},{"$f":"HYPERLINK(\"#'Commuter Rail Assets'!AB862\", SUM('Commuter Rail Assets'!AB863))","v":0},{"$f":"HYPERLINK(\"#'Commuter Rail Assets'!AB989\", SUM('Commuter Rail Assets'!AB990))","v":0},{"$f":"HYPERLINK(\"#'Commuter Rail Assets'!AB1116\", SUM('Commuter Rail Assets'!AB1117))","v":0},{"$f":"HYPERLINK(\"#'Commuter Rail Assets'!AB1243\", SUM('Commuter Rail Assets'!AB1244))","v":0}]
[{"$f":"T(Definitions!A47)","v":"Commuter Rail System Safety"},{"$f":"T('Critical-Representative Assets'!B28)","v":"Fire Suppression"},{"$f":"T('Critical-Representative Assets'!C28)","v":"CR"},{"$f":"SUM('Critical-Representative Assets'!D28)","v":17},{"$f":"T('Critical-Representative Assets'!E28)","v":""},{"$f":"HYPERLINK(\"#'Commuter Rail Assets'!AB106\", SUM('Commuter Rail Assets'!AB107))","v":0},{"$f":"HYPERLINK(\"#'Commuter Rail Assets'!AB233\", SUM('Commuter Rail Assets'!AB234))","v":0},{"$f":"HYPERLINK(\"#'Commuter Rail Assets'!AB360\", SUM('Commuter Rail Assets'!AB361))","v":0},{"$f":"HYPERLINK(\"#'Commuter Rail Assets'!AB487\", SUM('Commuter Rail Assets'!AB488))","v":0},{"$f":"HYPERLINK(\"#'Commuter Rail Assets'!AB614\", SUM('Commuter Rail Assets'!AB615))","v":0},{"$f":"HYPERLINK(\"#'Commuter Rail Assets'!AB741\", SUM('Commuter Rail Assets'!AB742))","v":0},{"$f":"HYPERLINK(\"#'Commuter Rail Assets'!AB868\", SUM('Commuter Rail Assets'!AB869))","v":0},{"$f":"HYPERLINK(\"#'Commuter Rail Assets'!AB995\", SUM('Commuter Rail Assets'!AB996))","v":0},{"$f":"HYPERLINK(\"#'Commuter Rail Assets'!AB1122\", SUM('Commuter Rail Assets'!AB1123))","v":0},{"$f":"HYPERLINK(\"#'Commuter Rail Assets'!AB1249\", SUM('Commuter Rail Assets'!AB1250))","v":0}]
[null,{"$f":"T('Critical-Representative Assets'!B29)","v":"Air Handling"},{"$f":"T('Critical-Representative Assets'!C29)","v":"CR"},{"$f":"SUM('Critical-Representative Assets'!D29)","v":18},{"$f":"T('Critical-Representative Assets'!E29)","v":""},{"$f":"HYPERLINK(\"#'Commuter Rail Assets'!AB112\", SUM('Commuter Rail Assets'!AB113))","v":0},{"$f":"HYPERLINK(\"#'Commuter Rail Assets'!AB239\", SUM('Commuter Rail Assets'!AB240))","v":0},{"$f":"HYPERLINK(\"#'Commuter Rail Assets'!AB366\", SUM('Commuter Rail Assets'!AB367))","v":0},{"$f":"HYPERLINK(\"#'Commuter Rail Assets'!AB493\", SUM('Commuter Rail Assets'!AB494))","v":0},{"$f":"HYPERLINK(\"#'Commuter Rail Assets'!AB620\", SUM('Commuter Rail Assets'!AB621))","v":0},{"$f":"HYPERLINK(\"#'Commuter Rail Assets'!AB747\", SUM('Commuter Rail Assets'!AB748))","v":0},{"$f":"HYPERLINK(\"#'Commuter Rail Assets'!AB874\", SUM('Commuter Rail Assets'!AB875))","v":0},{"$f":"HYPERLINK(\"#'Commuter Rail Assets'!AB1001\", SUM('Commuter Rail Assets'!AB1002))","v":0},{"$f":"HYPERLINK(\"#'Commuter Rail Assets'!AB1128\", SUM('Commuter Rail Assets'!AB1129))","v":0},{"$f":"HYPERLINK(\"#'Commuter Rail Assets'!AB1255\", SUM('Commuter Rail Assets'!AB1256))","v":0}]
[{"$f":"T(Definitions!A49)","v":"Commuter Rail System Support"},{"$f":"T('Critical-Representative Assets'!B30)","v":"Power Generation/Distribution"},{"$f":"T('Critical-Representative Assets'!C30)","v":"CR"},{"$f":"SUM('Critical-Representative Assets'!D30)","v":19},{"$f":"T('Critical-Representative Assets'!E30)","v":""},{"$f":"HYPERLINK(\"#'Commuter Rail Assets'!AB118\", SUM('Commuter Rail Assets'!AB119))","v":0},{"$f":"HYPERLINK(\"#'Commuter Rail Assets'!AB245\", SUM('Commuter Rail Assets'!AB246))","v":0},{"$f":"HYPERLINK(\"#'Commuter Rail Assets'!AB372\", SUM('Commuter Rail Assets'!AB373))","v":0},{"$f":"HYPERLINK(\"#'Commuter Rail Assets'!AB499\", SUM('Commuter Rail Assets'!AB500))","v":0},{"$f":"HYPERLINK(\"#'Commuter Rail Assets'!AB626\", SUM('Commuter Rail Assets'!AB627))","v":0},{"$f":"HYPERLINK(\"#'Commuter Rail Assets'!AB753\", SUM('Commuter Rail Assets'!AB754))","v":0},{"$f":"HYPERLINK(\"#'Commuter Rail Assets'!AB880\", SUM('Commuter Rail Assets'!AB881))","v":0},{"$f":"HYPERLINK(\"#'Commuter Rail Assets'!AB1007\", SUM('Commuter Rail Assets'!AB1008))","v":0},{"$f":"HYPERLINK(\"#'Commuter Rail Assets'!AB1134\", SUM('Commuter Rail Assets'!AB1135))","v":0},{"$f":"HYPERLINK(\"#'Commuter Rail Assets'!AB1261\", SUM('Commuter Rail Assets'!AB1262))","v":0}]
[null,{"$f":"T('Critical-Representative Assets'!B31)","v":"Yards"},{"$f":"T('Critical-Representative Assets'!C31)","v":"CR"},{"$f":"SUM('Critical-Representative Assets'!D31)","v":20},{"$f":"T('Critical-Representative Assets'!E31)","v":""},{"$f":"HYPERLINK(\"#'Commuter Rail Assets'!AB124\", SUM('Commuter Rail Assets'!AB125))","v":0},{"$f":"HYPERLINK(\"#'Commuter Rail Assets'!AB251\", SUM('Commuter Rail Assets'!AB252))","v":0},{"$f":"HYPERLINK(\"#'Commuter Rail Assets'!AB378\", SUM('Commuter Rail Assets'!AB379))","v":0},{"$f":"HYPERLINK(\"#'Commuter Rail Assets'!AB505\", SUM('Commuter Rail Assets'!AB506))","v":0},{"$f":"HYPERLINK(\"#'Commuter Rail Assets'!AB632\", SUM('Commuter Rail Assets'!AB633))","v":0},{"$f":"HYPERLINK(\"#'Commuter Rail Assets'!AB759\", SUM('Commuter Rail Assets'!AB760))","v":0},{"$f":"HYPERLINK(\"#'Commuter Rail Assets'!AB886\", SUM('Commuter Rail Assets'!AB887))","v":0},{"$f":"HYPERLINK(\"#'Commuter Rail Assets'!AB1013\", SUM('Commuter Rail Assets'!AB1014))","v":0},{"$f":"HYPERLINK(\"#'Commuter Rail Assets'!AB1140\", SUM('Commuter Rail Assets'!AB1141))","v":0},{"$f":"HYPERLINK(\"#'Commuter Rail Assets'!AB1267\", SUM('Commuter Rail Assets'!AB1268))","v":0}]
[null,{"$f":"T('Critical-Representative Assets'!B32)","v":"Maintenance Barns/Facilities"},{"$f":"T('Critical-Representative Assets'!C32)","v":"CR"},{"$f":"SUM('Critical-Representative Assets'!D32)","v":21},{"$f":"T('Critical-Representative Assets'!E32)","v":""},{"$f":"HYPERLINK(\"#'Commuter Rail Assets'!AB130\", SUM('Commuter Rail Assets'!AB131))","v":0},{"$f":"HYPERLINK(\"#'Commuter Rail Assets'!AB257\", SUM('Commuter Rail Assets'!AB258))","v":0},{"$f":"HYPERLINK(\"#'Commuter Rail Assets'!AB384\", SUM('Commuter Rail Assets'!AB385))","v":0},{"$f":"HYPERLINK(\"#'Commuter Rail Assets'!AB511\", SUM('Commuter Rail Assets'!AB512))","v":0},{"$f":"HYPERLINK(\"#'Commuter Rail Assets'!AB638\", SUM('Commuter Rail Assets'!AB639))","v":0},{"$f":"HYPERLINK(\"#'Commuter Rail Assets'!AB765\", SUM('Commuter Rail Assets'!AB766))","v":0},{"$f":"HYPERLINK(\"#'Commuter Rail Assets'!AB892\", SUM('Commuter Rail Assets'!AB893))","v":0},{"$f":"HYPERLINK(\"#'Commuter Rail Assets'!AB1019\", SUM('Commuter Rail Assets'!AB1020))","v":0},{"$f":"HYPERLINK(\"#'Commuter Rail Assets'!AB1146\", SUM('Commuter Rail Assets'!AB1147))","v":0},{"$f":"HYPERLINK(\"#'Commuter Rail Assets'!AB1273\", SUM('Commuter Rail Assets'!AB1274))","v":0}]
["Heavy Rail (Subway)",{"$nulls":14},"Notes","Investment Justifications"]
[{"$f":"T(Definitions!A53)","v":"Heavy Rail System Public Area"},{"$f":"T('Critical-Representative Assets'!B36)","v":"Headquarters Building"},{"$f":"T('Critical-Representative Assets'!C36)","v":"HR"},{"$f":"SUM('Critical-Representative Assets'!D36)","v":1},{"$f":"T('Critical-Representative Assets'!E36)","v":""},{"$f":"HYPERLINK(\"#'Heavy Rail Assets'!AB10\", SUM('Heavy Rail Assets'!AB11))","v":0},{"$f":"HYPERLINK(\"#'Heavy Rail Assets'!AB131\", SUM('Heavy Rail Assets'!AB132))","v":0},{"$f":"HYPERLINK(\"#'Heavy Rail Assets'!AB252\", SUM('Heavy Rail Assets'!AB253))","v":0},{"$f":"HYPERLINK(\"#'Heavy Rail Assets'!AB373\", SUM('Heavy Rail Assets'!AB374))","v":0},{"$f":"HYPERLINK(\"#'Heavy Rail Assets'!AB494\", SUM('Heavy Rail Assets'!AB495))","v":0},{"$f":"HYPERLINK(\"#'Heavy Rail Assets'!AB615\", SUM('Heavy Rail Assets'!AB616))","v":0},{"$f":"HYPERLINK(\"#'Heavy Rail Assets'!AB736\", SUM('Heavy Rail Assets'!AB737))","v":0},{"$f":"HYPERLINK(\"#'Heavy Rail Assets'!AB857\", SUM('Heavy Rail Assets'!AB858))","v":0},{"$f":"HYPERLINK(\"#'Heavy Rail Assets'!AB978\", SUM('Heavy Rail Assets'!AB979))","v":0},{"$f":"HYPERLINK(\"#'Heavy Rail Assets'!AB1099\", SUM('Heavy Rail Assets'!AB1100))","v":0}]
[null,{"$f":"T('Critical-Representative Assets'!B37)","v":"Major Passenger Terminals"},{"$f":"T('Critical-Representative Assets'!C37)","v":"HR"},{"$f":"SUM('Critical-Representative Assets'!D37)","v":2},{"$f":"T('Critical-Representative Assets'!E37)","v":""},{"$f":"HYPERLINK(\"#'Heavy Rail Assets'!AB16\", SUM('Heavy Rail Assets'!AB17))","v":0},{"$f":"HYPERLINK(\"#'Heavy Rail Assets'!AB137\", SUM('Heavy Rail Assets'!AB138))","v":0},{"$f":"HYPERLINK(\"#'Heavy Rail Assets'!AB258\", SUM('Heavy Rail Assets'!AB259))","v":0},{"$f":"HYPERLINK(\"#'Heavy Rail Assets'!AB379\", SUM('Heavy Rail Assets'!AB380))","v":0},{"$f":"HYPERLINK(\"#'Heavy Rail Assets'!AB500\", SUM('Heavy Rail Assets'!AB501))","v":0},{"$f":"HYPERLINK(\"#'Heavy Rail Assets'!AB621\", SUM('Heavy Rail Assets'!AB622))","v":0},{"$f":"HYPERLINK(\"#'Heavy Rail Assets'!AB742\", SUM('Heavy Rail Assets'!AB743))","v":0},{"$f":"HYPERLINK(\"#'Heavy Rail Assets'!AB863\", SUM('Heavy Rail Assets'!AB864))","v":0},{"$f":"HYPERLINK(\"#'Heavy Rail Assets'!AB984\", SUM('Heavy Rail Assets'!AB985))","v":0},{"$f":"HYPERLINK(\"#'Heavy Rail Assets'!AB1105\", SUM('Heavy Rail Assets'!AB1106))","v":0}]
[null,{"$f":"T('Critical-Representative Assets'!B38)","v":"Major Line Stations"},{"$f":"T('Critical-Representative Assets'!C38)","v":"HR"},{"$f":"SUM('Critical-Representative Assets'!D38)","v":3},{"$f":"T('Critical-Representative Assets'!E38)","v":""},{"$f":"HYPERLINK(\"#'Heavy Rail Assets'!AB22\", SUM('Heavy Rail Assets'!AB23))","v":0},{"$f":"HYPERLINK(\"#'Heavy Rail Assets'!AB143\", SUM('Heavy Rail Assets'!AB144))","v":0},{"$f":"HYPERLINK(\"#'Heavy Rail Assets'!AB264\", SUM('Heavy Rail Assets'!AB265))","v":0},{"$f":"HYPERLINK(\"#'Heavy Rail Assets'!AB385\", SUM('Heavy Rail Assets'!AB386))","v":0},{"$f":"HYPERLINK(\"#'Heavy Rail Assets'!AB506\", SUM('Heavy Rail Assets'!AB507))","v":0},{"$f":"HYPERLINK(\"#'Heavy Rail Assets'!AB627\", SUM('Heavy Rail Assets'!AB628))","v":0},{"$f":"HYPERLINK(\"#'Heavy Rail Assets'!AB748\", SUM('Heavy Rail Assets'!AB749))","v":0},{"$f":"HYPERLINK(\"#'Heavy Rail Assets'!AB869\", SUM('Heavy Rail Assets'!AB870))","v":0},{"$f":"HYPERLINK(\"#'Heavy Rail Assets'!AB990\", SUM('Heavy Rail Assets'!AB991))","v":0},{"$f":"HYPERLINK(\"#'Heavy Rail Assets'!AB1111\", SUM('Heavy Rail Assets'!AB1112))","v":0}]
[null,{"$f":"T('Critical-Representative Assets'!B39)","v":"Parking Structures"},{"$f":"T('Critical-Representative Assets'!C39)","v":"HR"},{"$f":"SUM('Critical-Representative Assets'!D39)","v":4},{"$f":"T('Critical-Representative Assets'!E39)","v":""},{"$f":"HYPERLINK(\"#'Heavy Rail Assets'!AB28\", SUM('Heavy Rail Assets'!AB29))","v":0},{"$f":"HYPERLINK(\"#'Heavy Rail Assets'!AB149\", SUM('Heavy Rail Assets'!AB150))","v":0},{"$f":"HYPERLINK(\"#'Heavy Rail Assets'!AB270\", SUM('Heavy Rail Assets'!AB271))","v":0},{"$f":"HYPERLINK(\"#'Heavy Rail Assets'!AB391\", SUM('Heavy Rail Assets'!AB392))","v":0},{"$f":"HYPERLINK(\"#'Heavy Rail Assets'!AB512\", SUM('Heavy Rail Assets'!AB513))","v":0},{"$f":"HYPERLINK(\"#'Heavy Rail Assets'!AB633\", SUM('Heavy Rail Assets'!AB634))","v":0},{"$f":"HYPERLINK(\"#'Heavy Rail Assets'!AB754\", SUM('Heavy Rail Assets'!AB755))","v":0},{"$f":"HYPERLINK(\"#'Heavy Rail Assets'!AB875\", SUM('Heavy Rail Assets'!AB876))","v":0},{"$f":"HYPERLINK(\"#'Heavy Rail Assets'!AB996\", SUM('Heavy Rail Assets'!AB997))","v":0},{"$f":"HYPERLINK(\"#'Heavy Rail Assets'!AB1117\", SUM('Heavy Rail Assets'!AB1118))","v":0}]
[{"$f":"T(Definitions!A57)","v":"Heavy Rail System Rolling Stock"},{"$f":"T('Critical-Representative Assets'!B40)","v":"Consist - Type 1"},{"$f":"T('Critical-Representative Assets'!C40)","v":"HR"},{"$f":"SUM('Critical-Representative Assets'!D40)","v":5},{"$f":"T('Critical-Representative Assets'!E40)","v":""},{"$f":"HYPERLINK(\"#'Heavy Rail Assets'!AB34\", SUM('Heavy Rail Assets'!AB35))","v":0},{"$f":"HYPERLINK(\"#'Heavy Rail Assets'!AB155\", SUM('Heavy Rail Assets'!AB156))","v":0},{"$f":"HYPERLINK(\"#'Heavy Rail Assets'!AB276\", SUM('Heavy Rail Assets'!AB277))","v":0},{"$f":"HYPERLINK(\"#'Heavy Rail Assets'!AB397\", SUM('Heavy Rail Assets'!AB398))","v":0},{"$f":"HYPERLINK(\"#'Heavy Rail Assets'!AB518\", SUM('Heavy Rail Assets'!AB519))","v":0},{"$f":"HYPERLINK(\"#'Heavy Rail Assets'!AB639\", SUM('Heavy Rail Assets'!AB640))","v":0},{"$f":"HYPERLINK(\"#'Heavy Rail Assets'!AB760\", SUM('Heavy Rail Assets'!AB761))","v":0},{"$f":"HYPERLINK(\"#'Heavy Rail Assets'!AB881\", SUM('Heavy Rail Assets'!AB882))","v":0},{"$f":"HYPERLINK(\"#'Heavy Rail Assets'!AB1002\", SUM('Heavy Rail Assets'!AB1003))","v":0},{"$f":"HYPERLINK(\"#'Heavy Rail Assets'!AB1123\", SUM('Heavy Rail Assets'!AB1124))","v":0}]
[null,{"$f":"T('Critical-Representative Assets'!B41)","v":"Consist - Type 2"},{"$f":"T('Critical-Representative Assets'!C41)","v":"HR"},{"$f":"SUM('Critical-Representative Assets'!D41)","v":6},{"$f":"T('Critical-Representative Assets'!E41)","v":""},{"$f":"HYPERLINK(\"#'Heavy Rail Assets'!AB40\", SUM('Heavy Rail Assets'!AB41))","v":0},{"$f":"HYPERLINK(\"#'Heavy Rail Assets'!AB161\", SUM('Heavy Rail Assets'!AB162))","v":0},{"$f":"HYPERLINK(\"#'Heavy Rail Assets'!AB282\", SUM('Heavy Rail Assets'!AB283))","v":0},{"$f":"HYPERLINK(\"#'Heavy Rail Assets'!AB403\", SUM('Heavy Rail Assets'!AB404))","v":0},{"$f":"HYPERLINK(\"#'Heavy Rail Assets'!AB524\", SUM('Heavy Rail Assets'!AB525))","v":0},{"$f":"HYPERLINK(\"#'Heavy Rail Assets'!AB645\", SUM('Heavy Rail Assets'!AB646))","v":0},{"$f":"HYPERLINK(\"#'Heavy Rail Assets'!AB766\", SUM('Heavy Rail Assets'!AB767))","v":0},{"$f":"HYPERLINK(\"#'Heavy Rail Assets'!AB887\", SUM('Heavy Rail Assets'!AB888))","v":0},{"$f":"HYPERLINK(\"#'Heavy Rail Assets'!AB1008\", SUM('Heavy Rail Assets'!AB1009))","v":0},{"$f":"HYPERLINK(\"#'Heavy Rail Assets'!AB1129\", SUM('Heavy Rail Assets'!AB1130))","v":0}]
[{"$f":"T(Definitions!A59)","v":"Heavy Rail System Control"},{"$f":"T('Critical-Representative Assets'!B42)","v":"Primary Control Center"},{"$f":"T('Critical-Representative Assets'!C42)","v":"HR"},{"$f":"SUM('Critical-Representative Assets'!D42)","v":7},{"$f":"T('Critical-Representative Assets'!E42)","v":""},{"$f":"HYPERLINK(\"#'Heavy Rail Assets'!AB46\", SUM('Heavy Rail Assets'!AB47))","v":0},{"$f":"HYPERLINK(\"#'Heavy Rail Assets'!AB167\", SUM('Heavy Rail Assets'!AB168))","v":0},{"$f":"HYPERLINK(\"#'Heavy Rail Assets'!AB288\", SUM('Heavy Rail Assets'!AB289))","v":0},{"$f":"HYPERLINK(\"#'Heavy Rail Assets'!AB409\", SUM('Heavy Rail Assets'!AB410))","v":0},{"$f":"HYPERLINK(\"#'Heavy Rail Assets'!AB530\", SUM('Heavy Rail Assets'!AB531))","v":0},{"$f":"HYPERLINK(\"#'Heavy Rail Assets'!AB651\", SUM('Heavy Rail Assets'!AB652))","v":0},{"$f":"HYPERLINK(\"#'Heavy Rail Assets'!AB772\", SUM('Heavy Rail Assets'!AB773))","v":0},{"$f":"HYPERLINK(\"#'Heavy Rail Assets'!AB893\", SUM('Heavy Rail Assets'!AB894))","v":0},{"$f":"HYPERLINK(\"#'Heavy Rail Assets'!AB1014\", SUM('Heavy Rail Assets'!AB1015))","v":0},{"$f":"HYPERLINK(\"#'Heavy Rail Assets'!AB1135\", SUM('Heavy Rail Assets'!AB1136))","v":0}]
[null,{"$f":"T('Critical-Representative Assets'!B43)","v":"Cyber Systems"},{"$f":"T('Critical-Representative Assets'!C43)","v":"HR"},{"$f":"SUM('Critical-Representative Assets'!D43)","v":8},{"$f":"T('Critical-Representative Assets'!E43)","v":""},{"$f":"HYPERLINK(\"#'Heavy Rail Assets'!AB52\", SUM('Heavy Rail Assets'!AB53))","v":0},{"$f":"HYPERLINK(\"#'Heavy Rail Assets'!AB173\", SUM('Heavy Rail Assets'!AB174))","v":0},{"$f":"HYPERLINK(\"#'Heavy Rail Assets'!AB294\", SUM('Heavy Rail Assets'!AB295))","v":0},{"$f":"HYPERLINK(\"#'Heavy Rail Assets'!AB415\", SUM('Heavy Rail Assets'!AB416))","v":0},{"$f":"HYPERLINK(\"#'Heavy Rail Assets'!AB536\", SUM('Heavy Rail Assets'!AB537))","v":0},{"$f":"HYPERLINK(\"#'Heavy Rail Assets'!AB657\", SUM('Heavy Rail Assets'!AB658))","v":0},{"$f":"HYPERLINK(\"#'Heavy Rail Assets'!AB778\", SUM('Heavy Rail Assets'!AB779))","v":0},{"$f":"HYPERLINK(\"#'Heavy Rail Assets'!AB899\", SUM('Heavy Rail Assets'!AB900))","v":0},{"$f":"HYPERLINK(\"#'Heavy Rail Assets'!AB1020\", SUM('Heavy Rail Assets'!AB1021))","v":0},{"$f":"HYPERLINK(\"#'Heavy Rail Assets'!AB1141\", SUM('Heavy Rail Assets'!AB1142))","v":0}]
[null,{"$f":"T('Critical-Representative Assets'!B44)","v":"Right of Way (ROW)"},{"$f":"T('Critical-Representative Assets'!C44)","v":"HR"},{"$f":"SUM('Critical-Representative Assets'!D44)","v":9},{"$f":"T('Critical-Representative Assets'!E44)","v":""},{"$f":"HYPERLINK(\"#'Heavy Rail Assets'!AB58\", SUM('Heavy Rail Assets'!AB59))","v":0},{"$f":"HYPERLINK(\"#'Heavy Rail Assets'!AB179\", SUM('Heavy Rail Assets'!AB180))","v":0},{"$f":"HYPERLINK(\"#'Heavy Rail Assets'!AB300\", SUM('Heavy Rail Assets'!AB301))","v":0},{"$f":"HYPERLINK(\"#'Heavy Rail Assets'!AB421\", SUM('Heavy Rail Assets'!AB422))","v":0},{"$f":"HYPERLINK(\"#'Heavy Rail Assets'!AB542\", SUM('Heavy Rail Assets'!AB543))","v":0},{"$f":"HYPERLINK(\"#'Heavy Rail Assets'!AB663\", SUM('Heavy Rail Assets'!AB664))","v":0},{"$f":"HYPERLINK(\"#'Heavy Rail Assets'!AB784\", SUM('Heavy Rail Assets'!AB785))","v":0},{"$f":"HYPERLINK(\"#'Heavy Rail Assets'!AB905\", SUM('Heavy Rail Assets'!AB906))","v":0},{"$f":"HYPERLINK(\"#'Heavy Rail Assets'!AB1026\", SUM('Heavy Rail Assets'!AB1027))","v":0},{"$f":"HYPERLINK(\"#'Heavy Rail Assets'!AB1147\", SUM('Heavy Rail Assets'!AB1148))","v":0}]
[{"$f":"T(Definitions!A61)","v":"Heavy Rail System Operations"},{"$f":"T('Critical-Representative Assets'!B45)","v":"Signals & PTC"},{"$f":"T('Critical-Representative Assets'!C45)","v":"HR"},{"$f":"SUM('Critical-Representative Assets'!D45)","v":10},{"$f":"T('Critical-Representative Assets'!E45)","v":""},{"$f":"HYPERLINK(\"#'Heavy Rail Assets'!AB64\", SUM('Heavy Rail Assets'!AB65))","v":0},{"$f":"HYPERLINK(\"#'Heavy Rail Assets'!AB185\", SUM('Heavy Rail Assets'!AB186))","v":0},{"$f":"HYPERLINK(\"#'Heavy Rail Assets'!AB306\", SUM('Heavy Rail Assets'!AB307))","v":0},{"$f":"HYPERLINK(\"#'Heavy Rail Assets'!AB427\", SUM('Heavy Rail Assets'!AB428))","v":0},{"$f":"HYPERLINK(\"#'Heavy Rail Assets'!AB548\", SUM('Heavy Rail Assets'!AB549))","v":0},{"$f":"HYPERLINK(\"#'Heavy Rail Assets'!AB669\", SUM('Heavy Rail Assets'!AB670))","v":0},{"$f":"HYPERLINK(\"#'Heavy Rail Assets'!AB790\", SUM('Heavy Rail Assets'!AB791))","v":0},{"$f":"HYPERLINK(\"#'Heavy Rail Assets'!AB911\", SUM('Heavy Rail Assets'!AB912))","v":0},{"$f":"HYPERLINK(\"#'Heavy Rail Assets'!AB1032\", SUM('Heavy Rail Assets'!AB1033))","v":0},{"$f":"HYPERLINK(\"#'Heavy Rail Assets'!AB1153\", SUM('Heavy Rail Assets'!AB1154))","v":0}]
[null,{"$f":"T('Critical-Representative Assets'!B46)","v":"Switches "},{"$f":"T('Critical-Representative Assets'!C46)","v":"HR"},{"$f":"SUM('Critical-Representative Assets'!D46)","v":11},{"$f":"T('Critical-Representative Assets'!E46)","v":""},{"$f":"HYPERLINK(\"#'Heavy Rail Assets'!AB70\", SUM('Heavy Rail Assets'!AB71))","v":0},{"$f":"HYPERLINK(\"#'Heavy Rail Assets'!AB191\", SUM('Heavy Rail Assets'!AB192))","v":0},{"$f":"HYPERLINK(\"#'Heavy Rail Assets'!AB312\", SUM('Heavy Rail Assets'!AB313))","v":0},{"$f":"HYPERLINK(\"#'Heavy Rail Assets'!AB433\", SUM('Heavy Rail Assets'!AB434))","v":0},{"$f":"HYPERLINK(\"#'Heavy Rail Assets'!AB554\", SUM('Heavy Rail Assets'!AB555))","v":0},{"$f":"HYPERLINK(\"#'Heavy Rail Assets'!AB675\", SUM('Heavy Rail Assets'!AB676))","v":0},{"$f":"HYPERLINK(\"#'Heavy Rail Assets'!AB796\", SUM('Heavy Rail Assets'!AB797))","v":0},{"$f":"HYPERLINK(\"#'Heavy Rail Assets'!AB917\", SUM('Heavy Rail Assets'!AB918))","v":0},{"$f":"HYPERLINK(\"#'Heavy Rail Assets'!AB1038\", SUM('Heavy Rail Assets'!AB1039))","v":0},{"$f":"HYPERLINK(\"#'Heavy Rail Assets'!AB1159\", SUM('Heavy Rail Assets'!AB1160))","v":0}]
[{"$f":"T(Definitions!A64)","v":"Heavy Rail System ROW Infrastructure"},{"$f":"T('Critical-Representative Assets'!B47)","v":"Bridges"},{"$f":"T('Critical-Representative Assets'!C47)","v":"HR"},{"$f":"SUM('Critical-Representative Assets'!D47)","v":12},{"$f":"T('Critical-Representative Assets'!E47)","v":""},{"$f":"HYPERLINK(\"#'Heavy Rail Assets'!AB76\", SUM('Heavy Rail Assets'!AB77))","v":0},{"$f":"HYPERLINK(\"#'Heavy Rail Assets'!AB197\", SUM('Heavy Rail Assets'!AB198))","v":0},{"$f":"HYPERLINK(\"#'Heavy Rail Assets'!AB318\", SUM('Heavy Rail Assets'!AB319))","v":0},{"$f":"HYPERLINK(\"#'Heavy Rail Assets'!AB439\", SUM('Heavy Rail Assets'!AB440))","v":0},{"$f":"HYPERLINK(\"#'Heavy Rail Assets'!AB560\", SUM('Heavy Rail Assets'!AB561))","v":0},{"$f":"HYPERLINK(\"#'Heavy Rail Assets'!AB681\", SUM('Heavy Rail Assets'!AB682))","v":0},{"$f":"HYPERLINK(\"#'Heavy Rail Assets'!AB802\", SUM('Heavy Rail Assets'!AB803))","v":0},{"$f":"HYPERLINK(\"#'Heavy Rail Assets'!AB923\", SUM('Heavy Rail Assets'!AB924))","v":0},{"$f":"HYPERLINK(\"#'Heavy Rail Assets'!AB1044\", SUM('Heavy Rail Assets'!AB1045))","v":0},{"$f":"HYPERLINK(\"#'Heavy Rail Assets'!AB1165\", SUM('Heavy Rail Assets'!AB1166))","v":0}]
[null,{"$f":"T('Critical-Representative Assets'!B48)","v":"Elevated Track"},{"$f":"T('Critical-Representative Assets'!C48)","v":"HR"},{"$f":"SUM('Critical-Representative Assets'!D48)","v":13},{"$f":"T('Critical-Representative Assets'!E48)","v":""},{"$f":"HYPERLINK(\"#'Heavy Rail Assets'!AB82\", SUM('Heavy Rail Assets'!AB83))","v":0},{"$f":"HYPERLINK(\"#'Heavy Rail Assets'!AB203\", SUM('Heavy Rail Assets'!AB204))","v":0},{"$f":"HYPERLINK(\"#'Heavy Rail Assets'!AB324\", SUM('Heavy Rail Assets'!AB325))","v":0},{"$f":"HYPERLINK(\"#'Heavy Rail Assets'!AB445\", SUM('Heavy Rail Assets'!AB446))","v":0},{"$f":"HYPERLINK(\"#'Heavy Rail Assets'!AB566\", SUM('Heavy Rail Assets'!AB567))","v":0},{"$f":"HYPERLINK(\"#'Heavy Rail Assets'!AB687\", SUM('Heavy Rail Assets'!AB688))","v":0},{"$f":"HYPERLINK(\"#'Heavy Rail Assets'!AB808\", SUM('Heavy Rail Assets'!AB809))","v":0},{"$f":"HYPERLINK(\"#'Heavy Rail Assets'!AB929\", SUM('Heavy Rail Assets'!AB930))","v":0},{"$f":"HYPERLINK(\"#'Heavy Rail Assets'!AB1050\", SUM('Heavy Rail Assets'!AB1051))","v":0},{"$f":"HYPERLINK(\"#'Heavy Rail Assets'!AB1171\", SUM('Heavy Rail Assets'!AB1172))","v":0}]
[null,{"$f":"T('Critical-Representative Assets'!B49)","v":"Tunnels "},{"$f":"T('Critical-Representative Assets'!C49)","v":"HR"},{"$f":"SUM('Critical-Representative Assets'!D49)","v":14},{"$f":"T('Critical-Representative Assets'!E49)","v":""},{"$f":"HYPERLINK(\"#'Heavy Rail Assets'!AB88\", SUM('Heavy Rail Assets'!AB89))","v":0},{"$f":"HYPERLINK(\"#'Heavy Rail Assets'!AB209\", SUM('Heavy Rail Assets'!AB210))","v":0},{"$f":"HYPERLINK(\"#'Heavy Rail Assets'!AB330\", SUM('Heavy Rail Assets'!AB331))","v":0},{"$f":"HYPERLINK(\"#'Heavy Rail Assets'!AB451\", SUM('Heavy Rail Assets'!AB452))","v":0},{"$f":"HYPERLINK(\"#'Heavy Rail Assets'!AB572\", SUM('Heavy Rail Assets'!AB573))","v":0},{"$f":"HYPERLINK(\"#'Heavy Rail Assets'!AB693\", SUM('Heavy Rail Assets'!AB694))","v":0},{"$f":"HYPERLINK(\"#'Heavy Rail Assets'!AB814\", SUM('Heavy Rail Assets'!AB815))","v":0},{"$f":"HYPERLINK(\"#'Heavy Rail Assets'!AB935\", SUM('Heavy Rail Assets'!AB936))","v":0},{"$f":"HYPERLINK(\"#'Heavy Rail Assets'!AB1056\", SUM('Heavy Rail Assets'!AB1057))","v":0},{"$f":"HYPERLINK(\"#'Heavy Rail Assets'!AB1177\", SUM('Heavy Rail Assets'!AB1178))","v":0}]
[null,{"$f":"T('Critical-Representative Assets'!B50)","v":"Choke Points on ROW"},{"$f":"T('Critical-Representative Assets'!C50)","v":"HR"},{"$f":"SUM('Critical-Representative Assets'!D50)","v":15},{"$f":"T('Critical-Representative Assets'!E50)","v":""},{"$f":"HYPERLINK(\"#'Heavy Rail Assets'!AB94\", SUM('Heavy Rail Assets'!AB95))","v":0},{"$f":"HYPERLINK(\"#'Heavy Rail Assets'!AB215\", SUM('Heavy Rail Assets'!AB216))","v":0},{"$f":"HYPERLINK(\"#'Heavy Rail Assets'!AB336\", SUM('Heavy Rail Assets'!AB337))","v":0},{"$f":"HYPERLINK(\"#'Heavy Rail Assets'!AB457\", SUM('Heavy Rail Assets'!AB458))","v":0},{"$f":"HYPERLINK(\"#'Heavy Rail Assets'!AB578\", SUM('Heavy Rail Assets'!AB579))","v":0},{"$f":"HYPERLINK(\"#'Heavy Rail Assets'!AB699\", SUM('Heavy Rail Assets'!AB700))","v":0},{"$f":"HYPERLINK(\"#'Heavy Rail Assets'!AB820\", SUM('Heavy Rail Assets'!AB821))","v":0},{"$f":"HYPERLINK(\"#'Heavy Rail Assets'!AB941\", SUM('Heavy Rail Assets'!AB942))","v":0},{"$f":"HYPERLINK(\"#'Heavy Rail Assets'!AB1062\", SUM('Heavy Rail Assets'!AB1063))","v":0},{"$f":"HYPERLINK(\"#'Heavy Rail Assets'!AB1183\", SUM('Heavy Rail Assets'!AB1184))","v":0}]
[{"$f":"T(Definitions!A68)","v":"Heavy Rail System Safety"},{"$f":"T('Critical-Representative Assets'!B51)","v":"Fire Suppression"},{"$f":"T('Critical-Representative Assets'!C51)","v":"HR"},{"$f":"SUM('Critical-Representative Assets'!D51)","v":16},{"$f":"T('Critical-Representative Assets'!E51)","v":""},{"$f":"HYPERLINK(\"#'Heavy Rail Assets'!AB100\", SUM('Heavy Rail Assets'!AB101))","v":0},{"$f":"HYPERLINK(\"#'Heavy Rail Assets'!AB221\", SUM('Heavy Rail Assets'!AB222))","v":0},{"$f":"HYPERLINK(\"#'Heavy Rail Assets'!AB342\", SUM('Heavy Rail Assets'!AB343))","v":0},{"$f":"HYPERLINK(\"#'Heavy Rail Assets'!AB463\", SUM('Heavy Rail Assets'!AB464))","v":0},{"$f":"HYPERLINK(\"#'Heavy Rail Assets'!AB584\", SUM('Heavy Rail Assets'!AB585))","v":0},{"$f":"HYPERLINK(\"#'Heavy Rail Assets'!AB705\", SUM('Heavy Rail Assets'!AB706))","v":0},{"$f":"HYPERLINK(\"#'Heavy Rail Assets'!AB826\", SUM('Heavy Rail Assets'!AB827))","v":0},{"$f":"HYPERLINK(\"#'Heavy Rail Assets'!AB947\", SUM('Heavy Rail Assets'!AB948))","v":0},{"$f":"HYPERLINK(\"#'Heavy Rail Assets'!AB1068\", SUM('Heavy Rail Assets'!AB1069))","v":0},{"$f":"HYPERLINK(\"#'Heavy Rail Assets'!AB1189\", SUM('Heavy Rail Assets'!AB1190))","v":0}]
[null,{"$f":"T('Critical-Representative Assets'!B52)","v":"Air Handling"},{"$f":"T('Critical-Representative Assets'!C52)","v":"HR"},{"$f":"SUM('Critical-Representative Assets'!D52)","v":17},{"$f":"T('Critical-Representative Assets'!E52)","v":""},{"$f":"HYPERLINK(\"#'Heavy Rail Assets'!AB106\", SUM('Heavy Rail Assets'!AB107))","v":0},{"$f":"HYPERLINK(\"#'Heavy Rail Assets'!AB227\", SUM('Heavy Rail Assets'!AB228))","v":0},{"$f":"HYPERLINK(\"#'Heavy Rail Assets'!AB348\", SUM('Heavy Rail Assets'!AB349))","v":0},{"$f":"HYPERLINK(\"#'Heavy Rail Assets'!AB469\", SUM('Heavy Rail Assets'!AB470))","v":0},{"$f":"HYPERLINK(\"#'Heavy Rail Assets'!AB590\", SUM('Heavy Rail Assets'!AB591))","v":0},{"$f":"HYPERLINK(\"#'Heavy Rail Assets'!AB711\", SUM('Heavy Rail Assets'!AB712))","v":0},{"$f":"HYPERLINK(\"#'Heavy Rail Assets'!AB832\", SUM('Heavy Rail Assets'!AB833))","v":0},{"$f":"HYPERLINK(\"#'Heavy Rail Assets'!AB953\", SUM('Heavy Rail Assets'!AB954))","v":0},{"$f":"HYPERLINK(\"#'Heavy Rail Assets'!AB1074\", SUM('Heavy Rail Assets'!AB1075))","v":0},{"$f":"HYPERLINK(\"#'Heavy Rail Assets'!AB1195\", SUM('Heavy Rail Assets'!AB1196))","v":0}]
[{"$f":"T(Definitions!A70)","v":"Heavy Rail System Support"},{"$f":"T('Critical-Representative Assets'!B53)","v":"Power Generation/Distribution"},{"$f":"T('Critical-Representative Assets'!C53)","v":"HR"},{"$f":"SUM('Critical-Representative Assets'!D53)","v":18},{"$f":"T('Critical-Representative Assets'!E53)","v":""},{"$f":"HYPERLINK(\"#'Heavy Rail Assets'!AB112\", SUM('Heavy Rail Assets'!AB113))","v":0},{"$f":"HYPERLINK(\"#'Heavy Rail Assets'!AB233\", SUM('Heavy Rail Assets'!AB234))","v":0},{"$f":"HYPERLINK(\"#'Heavy Rail Assets'!AB354\", SUM('Heavy Rail Assets'!AB355))","v":0},{"$f":"HYPERLINK(\"#'Heavy Rail Assets'!AB475\", SUM('Heavy Rail Assets'!AB476))","v":0},{"$f":"HYPERLINK(\"#'Heavy Rail Assets'!AB596\", SUM('Heavy Rail Assets'!AB597))","v":0},{"$f":"HYPERLINK(\"#'Heavy Rail Assets'!AB717\", SUM('Heavy Rail Assets'!AB718))","v":0},{"$f":"HYPERLINK(\"#'Heavy Rail Assets'!AB838\", SUM('Heavy Rail Assets'!AB839))","v":0},{"$f":"HYPERLINK(\"#'Heavy Rail Assets'!AB959\", SUM('Heavy Rail Assets'!AB960))","v":0},{"$f":"HYPERLINK(\"#'Heavy Rail Assets'!AB1080\", SUM('Heavy Rail Assets'!AB1081))","v":0},{"$f":"HYPERLINK(\"#'Heavy Rail Assets'!AB1201\", SUM('Heavy Rail Assets'!AB1202))","v":0}]
[null,{"$f":"T('Critical-Representative Assets'!B54)","v":"Yards"},{"$f":"T('Critical-Representative Assets'!C54)","v":"HR"},{"$f":"SUM('Critical-Representative Assets'!D54)","v":19},{"$f":"T('Critical-Representative Assets'!E54)","v":""},{"$f":"HYPERLINK(\"#'Heavy Rail Assets'!AB118\", SUM('Heavy Rail Assets'!AB119))","v":0},{"$f":"HYPERLINK(\"#'Heavy Rail Assets'!AB239\", SUM('Heavy Rail Assets'!AB240))","v":0},{"$f":"HYPERLINK(\"#'Heavy Rail Assets'!AB360\", SUM('Heavy Rail Assets'!AB361))","v":0},{"$f":"HYPERLINK(\"#'Heavy Rail Assets'!AB481\", SUM('Heavy Rail Assets'!AB482))","v":0},{"$f":"HYPERLINK(\"#'Heavy Rail Assets'!AB602\", SUM('Heavy Rail Assets'!AB603))","v":0},{"$f":"HYPERLINK(\"#'Heavy Rail Assets'!AB723\", SUM('Heavy Rail Assets'!AB724))","v":0},{"$f":"HYPERLINK(\"#'Heavy Rail Assets'!AB844\", SUM('Heavy Rail Assets'!AB845))","v":0},{"$f":"HYPERLINK(\"#'Heavy Rail Assets'!AB965\", SUM('Heavy Rail Assets'!AB966))","v":0},{"$f":"HYPERLINK(\"#'Heavy Rail Assets'!AB1086\", SUM('Heavy Rail Assets'!AB1087))","v":0},{"$f":"HYPERLINK(\"#'Heavy Rail Assets'!AB1207\", SUM('Heavy Rail Assets'!AB1208))","v":0}]
[null,{"$f":"T('Critical-Representative Assets'!B55)","v":"Maintenance Barns/Facilities"},{"$f":"T('Critical-Representative Assets'!C55)","v":"HR"},{"$f":"SUM('Critical-Representative Assets'!D55)","v":20},{"$f":"T('Critical-Representative Assets'!E55)","v":""},{"$f":"HYPERLINK(\"#'Heavy Rail Assets'!AB124\", SUM('Heavy Rail Assets'!AB125))","v":0},{"$f":"HYPERLINK(\"#'Heavy Rail Assets'!AB245\", SUM('Heavy Rail Assets'!AB246))","v":0},{"$f":"HYPERLINK(\"#'Heavy Rail Assets'!AB366\", SUM('Heavy Rail Assets'!AB367))","v":0},{"$f":"HYPERLINK(\"#'Heavy Rail Assets'!AB487\", SUM('Heavy Rail Assets'!AB488))","v":0},{"$f":"HYPERLINK(\"#'Heavy Rail Assets'!AB608\", SUM('Heavy Rail Assets'!AB609))","v":0},{"$f":"HYPERLINK(\"#'Heavy Rail Assets'!AB729\", SUM('Heavy Rail Assets'!AB730))","v":0},{"$f":"HYPERLINK(\"#'Heavy Rail Assets'!AB850\", SUM('Heavy Rail Assets'!AB851))","v":0},{"$f":"HYPERLINK(\"#'Heavy Rail Assets'!AB971\", SUM('Heavy Rail Assets'!AB972))","v":0},{"$f":"HYPERLINK(\"#'Heavy Rail Assets'!AB1092\", SUM('Heavy Rail Assets'!AB1093))","v":0},{"$f":"HYPERLINK(\"#'Heavy Rail Assets'!AB1213\", SUM('Heavy Rail Assets'!AB1214))","v":0}]
["Light Rail",{"$nulls":14},"Notes","Investment Justifications"]
[{"$f":"T(Definitions!A74)","v":"Light Rail System Public Area"},{"$f":"T('Critical-Representative Assets'!B59)","v":"Headquarters Building"},{"$f":"T('Critical-Representative Assets'!C59)","v":"LR"},{"$f":"SUM('Critical-Representative Assets'!D59)","v":1},{"$f":"T('Critical-Representative Assets'!E59)","v":""},{"$f":"HYPERLINK(\"#'Light Rail Assets'!AB10\", SUM('Light Rail Assets'!AB11))","v":0},{"$f":"HYPERLINK(\"#'Light Rail Assets'!AB125\", SUM('Light Rail Assets'!AB126))","v":0},{"$f":"HYPERLINK(\"#'Light Rail Assets'!AB240\", SUM('Light Rail Assets'!AB241))","v":0},{"$f":"HYPERLINK(\"#'Light Rail Assets'!AB355\", SUM('Light Rail Assets'!AB356))","v":0},{"$f":"HYPERLINK(\"#'Light Rail Assets'!AB470\", SUM('Light Rail Assets'!AB471))","v":0},{"$f":"HYPERLINK(\"#'Light Rail Assets'!AB585\", SUM('Light Rail Assets'!AB586))","v":0},{"$f":"HYPERLINK(\"#'Light Rail Assets'!AB700\", SUM('Light Rail Assets'!AB701))","v":0},{"$f":"HYPERLINK(\"#'Light Rail Assets'!AB815\", SUM('Light Rail Assets'!AB816))","v":0},{"$f":"HYPERLINK(\"#'Light Rail Assets'!AB930\", SUM('Light Rail Assets'!AB931))","v":0},{"$f":"HYPERLINK(\"#'Light Rail Assets'!AB1045\", SUM('Light Rail Assets'!AB1046))","v":0}]
[null,{"$f":"T('Critical-Representative Assets'!B60)","v":"Major Passenger Terminals"},{"$f":"T('Critical-Representative Assets'!C60)","v":"LR"},{"$f":"SUM('Critical-Representative Assets'!D60)","v":2},{"$f":"T('Critical-Representative Assets'!E60)","v":""},{"$f":"HYPERLINK(\"#'Light Rail Assets'!AB16\", SUM('Light Rail Assets'!AB17))","v":0},{"$f":"HYPERLINK(\"#'Light Rail Assets'!AB131\", SUM('Light Rail Assets'!AB132))","v":0},{"$f":"HYPERLINK(\"#'Light Rail Assets'!AB246\", SUM('Light Rail Assets'!AB247))","v":0},{"$f":"HYPERLINK(\"#'Light Rail Assets'!AB361\", SUM('Light Rail Assets'!AB362))","v":0},{"$f":"HYPERLINK(\"#'Light Rail Assets'!AB476\", SUM('Light Rail Assets'!AB477))","v":0},{"$f":"HYPERLINK(\"#'Light Rail Assets'!AB591\", SUM('Light Rail Assets'!AB592))","v":0},{"$f":"HYPERLINK(\"#'Light Rail Assets'!AB706\", SUM('Light Rail Assets'!AB707))","v":0},{"$f":"HYPERLINK(\"#'Light Rail Assets'!AB821\", SUM('Light Rail Assets'!AB822))","v":0},{"$f":"HYPERLINK(\"#'Light Rail Assets'!AB936\", SUM('Light Rail Assets'!AB937))","v":0},{"$f":"HYPERLINK(\"#'Light Rail Assets'!AB1051\", SUM('Light Rail Assets'!AB1052))","v":0}]
[null,{"$f":"T('Critical-Representative Assets'!B61)","v":"Major Line Stations"},{"$f":"T('Critical-Representative Assets'!C61)","v":"LR"},{"$f":"SUM('Critical-Representative Assets'!D61)","v":3},{"$f":"T('Critical-Representative Assets'!E61)","v":""},{"$f":"HYPERLINK(\"#'Light Rail Assets'!AB22\", SUM('Light Rail Assets'!AB23))","v":0},{"$f":"HYPERLINK(\"#'Light Rail Assets'!AB137\", SUM('Light Rail Assets'!AB138))","v":0},{"$f":"HYPERLINK(\"#'Light Rail Assets'!AB252\", SUM('Light Rail Assets'!AB253))","v":0},{"$f":"HYPERLINK(\"#'Light Rail Assets'!AB367\", SUM('Light Rail Assets'!AB368))","v":0},{"$f":"HYPERLINK(\"#'Light Rail Assets'!AB482\", SUM('Light Rail Assets'!AB483))","v":0},{"$f":"HYPERLINK(\"#'Light Rail Assets'!AB597\", SUM('Light Rail Assets'!AB598))","v":0},{"$f":"HYPERLINK(\"#'Light Rail Assets'!AB712\", SUM('Light Rail Assets'!AB713))","v":0},{"$f":"HYPERLINK(\"#'Light Rail Assets'!AB827\", SUM('Light Rail Assets'!AB828))","v":0},{"$f":"HYPERLINK(\"#'Light Rail Assets'!AB942\", SUM('Light Rail Assets'!AB943))","v":0},{"$f":"HYPERLINK(\"#'Light Rail Assets'!AB1057\", SUM('Light Rail Assets'!AB1058))","v":0}]
[null,{"$f":"T('Critical-Representative Assets'!B62)","v":"Parking Structures"},{"$f":"T('Critical-Representative Assets'!C62)","v":"LR"},{"$f":"SUM('Critical-Representative Assets'!D62)","v":4},{"$f":"T('Critical-Representative Assets'!E62)","v":""},{"$f":"HYPERLINK(\"#'Light Rail Assets'!AB28\", SUM('Light Rail Assets'!AB29))","v":0},{"$f":"HYPERLINK(\"#'Light Rail Assets'!AB143\", SUM('Light Rail Assets'!AB144))","v":0},{"$f":"HYPERLINK(\"#'Light Rail Assets'!AB258\", SUM('Light Rail Assets'!AB259))","v":0},{"$f":"HYPERLINK(\"#'Light Rail Assets'!AB373\", SUM('Light Rail Assets'!AB374))","v":0},{"$f":"HYPERLINK(\"#'Light Rail Assets'!AB488\", SUM('Light Rail Assets'!AB489))","v":0},{"$f":"HYPERLINK(\"#'Light Rail Assets'!AB603\", SUM('Light Rail Assets'!AB604))","v":0},{"$f":"HYPERLINK(\"#'Light Rail Assets'!AB718\", SUM('Light Rail Assets'!AB719))","v":0},{"$f":"HYPERLINK(\"#'Light Rail Assets'!AB833\", SUM('Light Rail Assets'!AB834))","v":0},{"$f":"HYPERLINK(\"#'Light Rail Assets'!AB948\", SUM('Light Rail Assets'!AB949))","v":0},{"$f":"HYPERLINK(\"#'Light Rail Assets'!AB1063\", SUM('Light Rail Assets'!AB1064))","v":0}]
[{"$f":"T(Definitions!A78)","v":"Light Rail System Rolling Stock"},{"$f":"T('Critical-Representative Assets'!B63)","v":"Consist - Type 1"},{"$f":"T('Critical-Representative Assets'!C63)","v":"LR"},{"$f":"SUM('Critical-Representative Assets'!D63)","v":5},{"$f":"T('Critical-Representative Assets'!E63)","v":""},{"$f":"HYPERLINK(\"#'Light Rail Assets'!AB34\", SUM('Light Rail Assets'!AB35))","v":0},{"$f":"HYPERLINK(\"#'Light Rail Assets'!AB149\", SUM('Light Rail Assets'!AB150))","v":0},{"$f":"HYPERLINK(\"#'Light Rail Assets'!AB264\", SUM('Light Rail Assets'!AB265))","v":0},{"$f":"HYPERLINK(\"#'Light Rail Assets'!AB379\", SUM('Light Rail Assets'!AB380))","v":0},{"$f":"HYPERLINK(\"#'Light Rail Assets'!AB494\", SUM('Light Rail Assets'!AB495))","v":0},{"$f":"HYPERLINK(\"#'Light Rail Assets'!AB609\", SUM('Light Rail Assets'!AB610))","v":0},{"$f":"HYPERLINK(\"#'Light Rail Assets'!AB724\", SUM('Light Rail Assets'!AB725))","v":0},{"$f":"HYPERLINK(\"#'Light Rail Assets'!AB839\", SUM('Light Rail Assets'!AB840))","v":0},{"$f":"HYPERLINK(\"#'Light Rail Assets'!AB954\", SUM('Light Rail Assets'!AB955))","v":0},{"$f":"HYPERLINK(\"#'Light Rail Assets'!AB1069\", SUM('Light Rail Assets'!AB1070))","v":0}]
[null,{"$f":"T('Critical-Representative Assets'!B64)","v":"Consist - Type 2"},{"$f":"T('Critical-Representative Assets'!C64)","v":"LR"},{"$f":"SUM('Critical-Representative Assets'!D64)","v":6},{"$f":"T('Critical-Representative Assets'!E64)","v":""},{"$f":"HYPERLINK(\"#'Light Rail Assets'!AB40\", SUM('Light Rail Assets'!AB41))","v":0},{"$f":"HYPERLINK(\"#'Light Rail Assets'!AB155\", SUM('Light Rail Assets'!AB156))","v":0},{"$f":"HYPERLINK(\"#'Light Rail Assets'!AB270\", SUM('Light Rail Assets'!AB271))","v":0},{"$f":"HYPERLINK(\"#'Light Rail Assets'!AB385\", SUM('Light Rail Assets'!AB386))","v":0},{"$f":"HYPERLINK(\"#'Light Rail Assets'!AB500\", SUM('Light Rail Assets'!AB501))","v":0},{"$f":"HYPERLINK(\"#'Light Rail Assets'!AB615\", SUM('Light Rail Assets'!AB616))","v":0},{"$f":"HYPERLINK(\"#'Light Rail Assets'!AB730\", SUM('Light Rail Assets'!AB731))","v":0},{"$f":"HYPERLINK(\"#'Light Rail Assets'!AB845\", SUM('Light Rail Assets'!AB846))","v":0},{"$f":"HYPERLINK(\"#'Light Rail Assets'!AB960\", SUM('Light Rail Assets'!AB961))","v":0},{"$f":"HYPERLINK(\"#'Light Rail Assets'!AB1075\", SUM('Light Rail Assets'!AB1076))","v":0}]
[{"$f":"T(Definitions!A80)","v":"Light Rail System Control"},{"$f":"T('Critical-Representative Assets'!B65)","v":"Primary Control Center"},{"$f":"T('Critical-Representative Assets'!C65)","v":"LR"},{"$f":"SUM('Critical-Representative Assets'!D65)","v":7},{"$f":"T('Critical-Representative Assets'!E65)","v":""},{"$f":"HYPERLINK(\"#'Light Rail Assets'!AB46\", SUM('Light Rail Assets'!AB47))","v":0},{"$f":"HYPERLINK(\"#'Light Rail Assets'!AB161\", SUM('Light Rail Assets'!AB162))","v":0},{"$f":"HYPERLINK(\"#'Light Rail Assets'!AB276\", SUM('Light Rail Assets'!AB277))","v":0},{"$f":"HYPERLINK(\"#'Light Rail Assets'!AB391\", SUM('Light Rail Assets'!AB392))","v":0},{"$f":"HYPERLINK(\"#'Light Rail Assets'!AB506\", SUM('Light Rail Assets'!AB507))","v":0},{"$f":"HYPERLINK(\"#'Light Rail Assets'!AB621\", SUM('Light Rail Assets'!AB622))","v":0},{"$f":"HYPERLINK(\"#'Light Rail Assets'!AB736\", SUM('Light Rail Assets'!AB737))","v":0},{"$f":"HYPERLINK(\"#'Light Rail Assets'!AB851\", SUM('Light Rail Assets'!AB852))","v":0},{"$f":"HYPERLINK(\"#'Light Rail Assets'!AB966\", SUM('Light Rail Assets'!AB967))","v":0},{"$f":"HYPERLINK(\"#'Light Rail Assets'!AB1081\", SUM('Light Rail Assets'!AB1082))","v":0}]
[null,{"$f":"T('Critical-Representative Assets'!B66)","v":"Cyber Systems"},{"$f":"T('Critical-Representative Assets'!C67)","v":"LR"},{"$f":"SUM('Critical-Representative Assets'!D67)","v":9},{"$f":"T('Critical-Representative Assets'!E66)","v":""},{"$f":"HYPERLINK(\"#'Light Rail Assets'!AB52\", SUM('Light Rail Assets'!AB53))","v":0},{"$f":"HYPERLINK(\"#'Light Rail Assets'!AB167\", SUM('Light Rail Assets'!AB168))","v":0},{"$f":"HYPERLINK(\"#'Light Rail Assets'!AB282\", SUM('Light Rail Assets'!AB283))","v":0},{"$f":"HYPERLINK(\"#'Light Rail Assets'!AB397\", SUM('Light Rail Assets'!AB398))","v":0},{"$f":"HYPERLINK(\"#'Light Rail Assets'!AB512\", SUM('Light Rail Assets'!AB513))","v":0},{"$f":"HYPERLINK(\"#'Light Rail Assets'!AB627\", SUM('Light Rail Assets'!AB628))","v":0},{"$f":"HYPERLINK(\"#'Light Rail Assets'!AB742\", SUM('Light Rail Assets'!AB743))","v":0},{"$f":"HYPERLINK(\"#'Light Rail Assets'!AB857\", SUM('Light Rail Assets'!AB858))","v":0},{"$f":"HYPERLINK(\"#'Light Rail Assets'!AB972\", SUM('Light Rail Assets'!AB973))","v":0},{"$f":"HYPERLINK(\"#'Light Rail Assets'!AB1087\", SUM('Light Rail Assets'!AB1088))","v":0}]
[null,{"$f":"T('Critical-Representative Assets'!B67)","v":"Right of Way (ROW)"},{"$f":"T('Critical-Representative Assets'!C66)","v":"LR"},{"$f":"SUM('Critical-Representative Assets'!D66)","v":8},{"$f":"T('Critical-Representative Assets'!E67)","v":""},{"$f":"HYPERLINK(\"#'Light Rail Assets'!AB58\", SUM('Light Rail Assets'!AB59))","v":0},{"$f":"HYPERLINK(\"#'Light Rail Assets'!AB173\", SUM('Light Rail Assets'!AB174))","v":0},{"$f":"HYPERLINK(\"#'Light Rail Assets'!AB288\", SUM('Light Rail Assets'!AB289))","v":0},{"$f":"HYPERLINK(\"#'Light Rail Assets'!AB403\", SUM('Light Rail Assets'!AB404))","v":0},{"$f":"HYPERLINK(\"#'Light Rail Assets'!AB518\", SUM('Light Rail Assets'!AB519))","v":0},{"$f":"HYPERLINK(\"#'Light Rail Assets'!AB633\", SUM('Light Rail Assets'!AB634))","v":0},{"$f":"HYPERLINK(\"#'Light Rail Assets'!AB748\", SUM('Light Rail Assets'!AB749))","v":0},{"$f":"HYPERLINK(\"#'Light Rail Assets'!AB863\", SUM('Light Rail Assets'!AB864))","v":0},{"$f":"HYPERLINK(\"#'Light Rail Assets'!AB978\", SUM('Light Rail Assets'!AB979))","v":0},{"$f":"HYPERLINK(\"#'Light Rail Assets'!AB1093\", SUM('Light Rail Assets'!AB1094))","v":0}]
[{"$f":"T(Definitions!A82)","v":"Light Rail System Operations"},{"$f":"T('Critical-Representative Assets'!B68)","v":"Signals & PTC"},{"$f":"T('Critical-Representative Assets'!C68)","v":"LR"},{"$f":"SUM('Critical-Representative Assets'!D68)","v":10},{"$f":"T('Critical-Representative Assets'!E68)","v":""},{"$f":"HYPERLINK(\"#'Light Rail Assets'!AB64\", SUM('Light Rail Assets'!AB65))","v":0},{"$f":"HYPERLINK(\"#'Light Rail Assets'!AB179\", SUM('Light Rail Assets'!AB180))","v":0},{"$f":"HYPERLINK(\"#'Light Rail Assets'!AB294\", SUM('Light Rail Assets'!AB295))","v":0},{"$f":"HYPERLINK(\"#'Light Rail Assets'!AB409\", SUM('Light Rail Assets'!AB410))","v":0},{"$f":"HYPERLINK(\"#'Light Rail Assets'!AB524\", SUM('Light Rail Assets'!AB525))","v":0},{"$f":"HYPERLINK(\"#'Light Rail Assets'!AB639\", SUM('Light Rail Assets'!AB640))","v":0},{"$f":"HYPERLINK(\"#'Light Rail Assets'!AB754\", SUM('Light Rail Assets'!AB755))","v":0},{"$f":"HYPERLINK(\"#'Light Rail Assets'!AB869\", SUM('Light Rail Assets'!AB870))","v":0},{"$f":"HYPERLINK(\"#'Light Rail Assets'!AB984\", SUM('Light Rail Assets'!AB985))","v":0},{"$f":"HYPERLINK(\"#'Light Rail Assets'!AB1099\", SUM('Light Rail Assets'!AB1100))","v":0}]
[null,{"$f":"T('Critical-Representative Assets'!B69)","v":"Switches "},{"$f":"T('Critical-Representative Assets'!C69)","v":"LR"},{"$f":"SUM('Critical-Representative Assets'!D69)","v":11},{"$f":"T('Critical-Representative Assets'!E69)","v":""},{"$f":"HYPERLINK(\"#'Light Rail Assets'!AB70\", SUM('Light Rail Assets'!AB71))","v":0},{"$f":"HYPERLINK(\"#'Light Rail Assets'!AB185\", SUM('Light Rail Assets'!AB186))","v":0},{"$f":"HYPERLINK(\"#'Light Rail Assets'!AB300\", SUM('Light Rail Assets'!AB301))","v":0},{"$f":"HYPERLINK(\"#'Light Rail Assets'!AB415\", SUM('Light Rail Assets'!AB416))","v":0},{"$f":"HYPERLINK(\"#'Light Rail Assets'!AB530\", SUM('Light Rail Assets'!AB531))","v":0},{"$f":"HYPERLINK(\"#'Light Rail Assets'!AB645\", SUM('Light Rail Assets'!AB646))","v":0},{"$f":"HYPERLINK(\"#'Light Rail Assets'!AB760\", SUM('Light Rail Assets'!AB761))","v":0},{"$f":"HYPERLINK(\"#'Light Rail Assets'!AB875\", SUM('Light Rail Assets'!AB876))","v":0},{"$f":"HYPERLINK(\"#'Light Rail Assets'!AB990\", SUM('Light Rail Assets'!AB991))","v":0},{"$f":"HYPERLINK(\"#'Light Rail Assets'!AB1105\", SUM('Light Rail Assets'!AB1106))","v":0}]
[{"$f":"T(Definitions!A85)","v":"Light Rail System ROW Infrastructure"},{"$f":"T('Critical-Representative Assets'!B70)","v":"Bridges"},{"$f":"T('Critical-Representative Assets'!C70)","v":"LR"},{"$f":"SUM('Critical-Representative Assets'!D70)","v":12},{"$f":"T('Critical-Representative Assets'!E70)","v":""},{"$f":"HYPERLINK(\"#'Light Rail Assets'!AB76\", SUM('Light Rail Assets'!AB77))","v":0},{"$f":"HYPERLINK(\"#'Light Rail Assets'!AB191\", SUM('Light Rail Assets'!AB192))","v":0},{"$f":"HYPERLINK(\"#'Light Rail Assets'!AB306\", SUM('Light Rail Assets'!AB307))","v":0},{"$f":"HYPERLINK(\"#'Light Rail Assets'!AB421\", SUM('Light Rail Assets'!AB422))","v":0},{"$f":"HYPERLINK(\"#'Light Rail Assets'!AB536\", SUM('Light Rail Assets'!AB537))","v":0},{"$f":"HYPERLINK(\"#'Light Rail Assets'!AB651\", SUM('Light Rail Assets'!AB652))","v":0},{"$f":"HYPERLINK(\"#'Light Rail Assets'!AB766\", SUM('Light Rail Assets'!AB767))","v":0},{"$f":"HYPERLINK(\"#'Light Rail Assets'!AB881\", SUM('Light Rail Assets'!AB882))","v":0},{"$f":"HYPERLINK(\"#'Light Rail Assets'!AB996\", SUM('Light Rail Assets'!AB997))","v":0},{"$f":"HYPERLINK(\"#'Light Rail Assets'!AB1111\", SUM('Light Rail Assets'!AB1112))","v":0}]
[null,{"$f":"T('Critical-Representative Assets'!B71)","v":"Elevated Track"},{"$f":"T('Critical-Representative Assets'!C71)","v":"LR"},{"$f":"SUM('Critical-Representative Assets'!D71)","v":13},{"$f":"T('Critical-Representative Assets'!E71)","v":""},{"$f":"HYPERLINK(\"#'Light Rail Assets'!AB82\", SUM('Light Rail Assets'!AB83))","v":0},{"$f":"HYPERLINK(\"#'Light Rail Assets'!AB197\", SUM('Light Rail Assets'!AB198))","v":0},{"$f":"HYPERLINK(\"#'Light Rail Assets'!AB312\", SUM('Light Rail Assets'!AB313))","v":0},{"$f":"HYPERLINK(\"#'Light Rail Assets'!AB427\", SUM('Light Rail Assets'!AB428))","v":0},{"$f":"HYPERLINK(\"#'Light Rail Assets'!AB542\", SUM('Light Rail Assets'!AB543))","v":0},{"$f":"HYPERLINK(\"#'Light Rail Assets'!AB657\", SUM('Light Rail Assets'!AB658))","v":0},{"$f":"HYPERLINK(\"#'Light Rail Assets'!AB772\", SUM('Light Rail Assets'!AB773))","v":0},{"$f":"HYPERLINK(\"#'Light Rail Assets'!AB887\", SUM('Light Rail Assets'!AB888))","v":0},{"$f":"HYPERLINK(\"#'Light Rail Assets'!AB1002\", SUM('Light Rail Assets'!AB1003))","v":0},{"$f":"HYPERLINK(\"#'Light Rail Assets'!AB1117\", SUM('Light Rail Assets'!AB1118))","v":0}]
[null,{"$f":"T('Critical-Representative Assets'!B72)","v":"Tunnels "},{"$f":"T('Critical-Representative Assets'!C72)","v":"LR"},{"$f":"SUM('Critical-Representative Assets'!D72)","v":14},{"$f":"T('Critical-Representative Assets'!E72)","v":""},{"$f":"HYPERLINK(\"#'Light Rail Assets'!AB88\", SUM('Light Rail Assets'!AB89))","v":0},{"$f":"HYPERLINK(\"#'Light Rail Assets'!AB203\", SUM('Light Rail Assets'!AB204))","v":0},{"$f":"HYPERLINK(\"#'Light Rail Assets'!AB318\", SUM('Light Rail Assets'!AB319))","v":0},{"$f":"HYPERLINK(\"#'Light Rail Assets'!AB433\", SUM('Light Rail Assets'!AB434))","v":0},{"$f":"HYPERLINK(\"#'Light Rail Assets'!AB548\", SUM('Light Rail Assets'!AB549))","v":0},{"$f":"HYPERLINK(\"#'Light Rail Assets'!AB663\", SUM('Light Rail Assets'!AB664))","v":0},{"$f":"HYPERLINK(\"#'Light Rail Assets'!AB778\", SUM('Light Rail Assets'!AB779))","v":0},{"$f":"HYPERLINK(\"#'Light Rail Assets'!AB893\", SUM('Light Rail Assets'!AB894))","v":0},{"$f":"HYPERLINK(\"#'Light Rail Assets'!AB1008\", SUM('Light Rail Assets'!AB1009))","v":0},{"$f":"HYPERLINK(\"#'Light Rail Assets'!AB1123\", SUM('Light Rail Assets'!AB1124))","v":0}]
[null,{"$f":"T('Critical-Representative Assets'!B73)","v":"Choke Points on ROW"},{"$f":"T('Critical-Representative Assets'!C73)","v":"LR"},{"$f":"SUM('Critical-Representative Assets'!D73)","v":15},{"$f":"T('Critical-Representative Assets'!E73)","v":""},{"$f":"HYPERLINK(\"#'Light Rail Assets'!AB94\", SUM('Light Rail Assets'!AB95))","v":0},{"$f":"HYPERLINK(\"#'Light Rail Assets'!AB209\", SUM('Light Rail Assets'!AB210))","v":0},{"$f":"HYPERLINK(\"#'Light Rail Assets'!AB324\", SUM('Light Rail Assets'!AB325))","v":0},{"$f":"HYPERLINK(\"#'Light Rail Assets'!AB439\", SUM('Light Rail Assets'!AB440))","v":0},{"$f":"HYPERLINK(\"#'Light Rail Assets'!AB554\", SUM('Light Rail Assets'!AB555))","v":0},{"$f":"HYPERLINK(\"#'Light Rail Assets'!AB669\", SUM('Light Rail Assets'!AB670))","v":0},{"$f":"HYPERLINK(\"#'Light Rail Assets'!AB784\", SUM('Light Rail Assets'!AB785))","v":0},{"$f":"HYPERLINK(\"#'Light Rail Assets'!AB899\", SUM('Light Rail Assets'!AB900))","v":0},{"$f":"HYPERLINK(\"#'Light Rail Assets'!AB1014\", SUM('Light Rail Assets'!AB1015))","v":0},{"$f":"HYPERLINK(\"#'Light Rail Assets'!AB1129\", SUM('Light Rail Assets'!AB1130))","v":0}]
[{"$f":"T(Definitions!A89)","v":"Light Rail System Safety"},{"$f":"T('Critical-Representative Assets'!B74)","v":"Fire Suppression"},{"$f":"T('Critical-Representative Assets'!C74)","v":"LR"},{"$f":"SUM('Critical-Representative Assets'!D74)","v":16},{"$f":"T('Critical-Representative Assets'!E74)","v":""},{"$f":"HYPERLINK(\"#'Light Rail Assets'!AB100\", SUM('Light Rail Assets'!AB101))","v":0},{"$f":"HYPERLINK(\"#'Light Rail Assets'!AB215\", SUM('Light Rail Assets'!AB216))","v":0},{"$f":"HYPERLINK(\"#'Light Rail Assets'!AB330\", SUM('Light Rail Assets'!AB331))","v":0},{"$f":"HYPERLINK(\"#'Light Rail Assets'!AB445\", SUM('Light Rail Assets'!AB446))","v":0},{"$f":"HYPERLINK(\"#'Light Rail Assets'!AB560\", SUM('Light Rail Assets'!AB561))","v":0},{"$f":"HYPERLINK(\"#'Light Rail Assets'!AB675\", SUM('Light Rail Assets'!AB676))","v":0},{"$f":"HYPERLINK(\"#'Light Rail Assets'!AB790\", SUM('Light Rail Assets'!AB791))","v":0},{"$f":"HYPERLINK(\"#'Light Rail Assets'!AB905\", SUM('Light Rail Assets'!AB906))","v":0},{"$f":"HYPERLINK(\"#'Light Rail Assets'!AB1020\", SUM('Light Rail Assets'!AB1021))","v":0},{"$f":"HYPERLINK(\"#'Light Rail Assets'!AB1135\", SUM('Light Rail Assets'!AB1136))","v":0}]
[{"$f":"T(Definitions!A90)","v":"Light Rail System Support"},{"$f":"T('Critical-Representative Assets'!B75)","v":"Power Generation/Distribution"},{"$f":"T('Critical-Representative Assets'!C75)","v":"LR"},{"$f":"SUM('Critical-Representative Assets'!D75)","v":17},{"$f":"T('Critical-Representative Assets'!E75)","v":""},{"$f":"HYPERLINK(\"#'Light Rail Assets'!AB106\", SUM('Light Rail Assets'!AB107))","v":0},{"$f":"HYPERLINK(\"#'Light Rail Assets'!AB221\", SUM('Light Rail Assets'!AB222))","v":0},{"$f":"HYPERLINK(\"#'Light Rail Assets'!AB336\", SUM('Light Rail Assets'!AB337))","v":0},{"$f":"HYPERLINK(\"#'Light Rail Assets'!AB451\", SUM('Light Rail Assets'!AB452))","v":0},{"$f":"HYPERLINK(\"#'Light Rail Assets'!AB566\", SUM('Light Rail Assets'!AB567))","v":0},{"$f":"HYPERLINK(\"#'Light Rail Assets'!AB681\", SUM('Light Rail Assets'!AB682))","v":0},{"$f":"HYPERLINK(\"#'Light Rail Assets'!AB796\", SUM('Light Rail Assets'!AB797))","v":0},{"$f":"HYPERLINK(\"#'Light Rail Assets'!AB911\", SUM('Light Rail Assets'!AB912))","v":0},{"$f":"HYPERLINK(\"#'Light Rail Assets'!AB1026\", SUM('Light Rail Assets'!AB1027))","v":0},{"$f":"HYPERLINK(\"#'Light Rail Assets'!AB1141\", SUM('Light Rail Assets'!AB1142))","v":0}]
[null,{"$f":"T('Critical-Representative Assets'!B76)","v":"Yards"},{"$f":"T('Critical-Representative Assets'!C76)","v":"LR"},{"$f":"SUM('Critical-Representative Assets'!D76)","v":18},{"$f":"T('Critical-Representative Assets'!E76)","v":""},{"$f":"HYPERLINK(\"#'Light Rail Assets'!AB112\", SUM('Light Rail Assets'!AB113))","v":0},{"$f":"HYPERLINK(\"#'Light Rail Assets'!AB227\", SUM('Light Rail Assets'!AB228))","v":0},{"$f":"HYPERLINK(\"#'Light Rail Assets'!AB342\", SUM('Light Rail Assets'!AB343))","v":0},{"$f":"HYPERLINK(\"#'Light Rail Assets'!AB457\", SUM('Light Rail Assets'!AB458))","v":0},{"$f":"HYPERLINK(\"#'Light Rail Assets'!AB572\", SUM('Light Rail Assets'!AB573))","v":0},{"$f":"HYPERLINK(\"#'Light Rail Assets'!AB687\", SUM('Light Rail Assets'!AB688))","v":0},{"$f":"HYPERLINK(\"#'Light Rail Assets'!AB802\", SUM('Light Rail Assets'!AB803))","v":0},{"$f":"HYPERLINK(\"#'Light Rail Assets'!AB917\", SUM('Light Rail Assets'!AB918))","v":0},{"$f":"HYPERLINK(\"#'Light Rail Assets'!AB1032\", SUM('Light Rail Assets'!AB1033))","v":0},{"$f":"HYPERLINK(\"#'Light Rail Assets'!AB1147\", SUM('Light Rail Assets'!AB1148))","v":0}]
[null,{"$f":"T('Critical-Representative Assets'!B77)","v":"Maintenance Barns/Facilities"},{"$f":"T('Critical-Representative Assets'!C77)","v":"LR"},{"$f":"SUM('Critical-Representative Assets'!D77)","v":19},{"$f":"T('Critical-Representative Assets'!E77)","v":""},{"$f":"HYPERLINK(\"#'Light Rail Assets'!AB118\", SUM('Light Rail Assets'!AB119))","v":0},{"$f":"HYPERLINK(\"#'Light Rail Assets'!AB233\", SUM('Light Rail Assets'!AB234))","v":0},{"$f":"HYPERLINK(\"#'Light Rail Assets'!AB348\", SUM('Light Rail Assets'!AB349))","v":0},{"$f":"HYPERLINK(\"#'Light Rail Assets'!AB463\", SUM('Light Rail Assets'!AB464))","v":0},{"$f":"HYPERLINK(\"#'Light Rail Assets'!AB578\", SUM('Light Rail Assets'!AB579))","v":0},{"$f":"HYPERLINK(\"#'Light Rail Assets'!AB693\", SUM('Light Rail Assets'!AB694))","v":0},{"$f":"HYPERLINK(\"#'Light Rail Assets'!AB808\", SUM('Light Rail Assets'!AB809))","v":0},{"$f":"HYPERLINK(\"#'Light Rail Assets'!AB923\", SUM('Light Rail Assets'!AB924))","v":0},{"$f":"HYPERLINK(\"#'Light Rail Assets'!AB1038\", SUM('Light Rail Assets'!AB1039))","v":0},{"$f":"HYPERLINK(\"#'Light Rail Assets'!AB1153\", SUM('Light Rail Assets'!AB1154))","v":0}]
["Bus (Intracity Bus, Commuter Bus)",{"$nulls":14},"Notes","Investment Justifications"]
[{"$f":"T(Definitions!A94)","v":"Bus System Public Area"},{"$f":"T('Critical-Representative Assets'!B81)","v":"Headquarters Building"},{"$f":"T('Critical-Representative Assets'!C81)","v":"BUS"},{"$f":"SUM('Critical-Representative Assets'!D81)","v":1},{"$f":"T('Critical-Representative Assets'!E81)","v":""},{"$f":"HYPERLINK(\"#'Bus Assets'!AB10\", SUM('Bus Assets'!AB11))","v":0},{"$f":"HYPERLINK(\"#'Bus Assets'!AB59\", SUM('Bus Assets'!AB60))","v":0},{"$f":"HYPERLINK(\"#'Bus Assets'!AB108\", SUM('Bus Assets'!AB109))","v":0},{"$f":"HYPERLINK(\"#'Bus Assets'!AB157\", SUM('Bus Assets'!AB158))","v":0},{"$f":"HYPERLINK(\"#'Bus Assets'!AB206\", SUM('Bus Assets'!AB207))","v":0},{"$f":"HYPERLINK(\"#'Bus Assets'!AB255\", SUM('Bus Assets'!AB256))","v":0},{"$f":"HYPERLINK(\"#'Bus Assets'!AB304\", SUM('Bus Assets'!AB305))","v":0},{"$f":"HYPERLINK(\"#'Bus Assets'!AB353\", SUM('Bus Assets'!AB354))","v":0},{"$f":"HYPERLINK(\"#'Bus Assets'!AB402\", SUM('Bus Assets'!AB403))","v":0},{"$f":"HYPERLINK(\"#'Bus Assets'!AB451\", SUM('Bus Assets'!AB452))","v":0}]
[null,{"$f":"T('Critical-Representative Assets'!B82)","v":"System Owned Bus Station"},{"$f":"T('Critical-Representative Assets'!C82)","v":"BUS"},{"$f":"SUM('Critical-Representative Assets'!D82)","v":2},{"$f":"T('Critical-Representative Assets'!E82)","v":""},{"$f":"HYPERLINK(\"#'Bus Assets'!AB16\", SUM('Bus Assets'!AB17))","v":0},{"$f":"HYPERLINK(\"#'Bus Assets'!AB65\", SUM('Bus Assets'!AB66))","v":0},{"$f":"HYPERLINK(\"#'Bus Assets'!AB114\", SUM('Bus Assets'!AB115))","v":0},{"$f":"HYPERLINK(\"#'Bus Assets'!AB163\", SUM('Bus Assets'!AB164))","v":0},{"$f":"HYPERLINK(\"#'Bus Assets'!AB212\", SUM('Bus Assets'!AB213))","v":0},{"$f":"HYPERLINK(\"#'Bus Assets'!AB261\", SUM('Bus Assets'!AB262))","v":0},{"$f":"HYPERLINK(\"#'Bus Assets'!AB310\", SUM('Bus Assets'!AB311))","v":0},{"$f":"HYPERLINK(\"#'Bus Assets'!AB359\", SUM('Bus Assets'!AB360))","v":0},{"$f":"HYPERLINK(\"#'Bus Assets'!AB408\", SUM('Bus Assets'!AB409))","v":0},{"$f":"HYPERLINK(\"#'Bus Assets'!AB457\", SUM('Bus Assets'!AB458))","v":0}]
[{"$f":"T(Definitions!A96)","v":"Bus System Rolling Stock"},{"$f":"T('Critical-Representative Assets'!B83)","v":"Bus - Type 1"},{"$f":"T('Critical-Representative Assets'!C83)","v":"BUS"},{"$f":"SUM('Critical-Representative Assets'!D83)","v":3},{"$f":"T('Critical-Representative Assets'!E83)","v":""},{"$f":"HYPERLINK(\"#'Bus Assets'!AB22\", SUM('Bus Assets'!AB23))","v":0},{"$f":"HYPERLINK(\"#'Bus Assets'!AB71\", SUM('Bus Assets'!AB72))","v":0},{"$f":"HYPERLINK(\"#'Bus Assets'!AB120\", SUM('Bus Assets'!AB121))","v":0},{"$f":"HYPERLINK(\"#'Bus Assets'!AB169\", SUM('Bus Assets'!AB170))","v":0},{"$f":"HYPERLINK(\"#'Bus Assets'!AB218\", SUM('Bus Assets'!AB219))","v":0},{"$f":"HYPERLINK(\"#'Bus Assets'!AB267\", SUM('Bus Assets'!AB268))","v":0},{"$f":"HYPERLINK(\"#'Bus Assets'!AB316\", SUM('Bus Assets'!AB317))","v":0},{"$f":"HYPERLINK(\"#'Bus Assets'!AB365\", SUM('Bus Assets'!AB366))","v":0},{"$f":"HYPERLINK(\"#'Bus Assets'!AB414\", SUM('Bus Assets'!AB415))","v":0},{"$f":"HYPERLINK(\"#'Bus Assets'!AB463\", SUM('Bus Assets'!AB464))","v":0}]
[null,{"$f":"T('Critical-Representative Assets'!B84)","v":"Bus - Type 2"},{"$f":"T('Critical-Representative Assets'!C84)","v":"BUS"},{"$f":"SUM('Critical-Representative Assets'!D84)","v":4},{"$f":"T('Critical-Representative Assets'!E84)","v":""},{"$f":"HYPERLINK(\"#'Bus Assets'!AB28\", SUM('Bus Assets'!AB29))","v":0},{"$f":"HYPERLINK(\"#'Bus Assets'!AB77\", SUM('Bus Assets'!AB78))","v":0},{"$f":"HYPERLINK(\"#'Bus Assets'!AB126\", SUM('Bus Assets'!AB127))","v":0},{"$f":"HYPERLINK(\"#'Bus Assets'!AB175\", SUM('Bus Assets'!AB176))","v":0},{"$f":"HYPERLINK(\"#'Bus Assets'!AB224\", SUM('Bus Assets'!AB225))","v":0},{"$f":"HYPERLINK(\"#'Bus Assets'!AB273\", SUM('Bus Assets'!AB274))","v":0},{"$f":"HYPERLINK(\"#'Bus Assets'!AB322\", SUM('Bus Assets'!AB323))","v":0},{"$f":"HYPERLINK(\"#'Bus Assets'!AB371\", SUM('Bus Assets'!AB372))","v":0},{"$f":"HYPERLINK(\"#'Bus Assets'!AB420\", SUM('Bus Assets'!AB421))","v":0},{"$f":"HYPERLINK(\"#'Bus Assets'!AB469\", SUM('Bus Assets'!AB470))","v":0}]
[{"$f":"T(Definitions!A98)","v":"Bus System Control"},{"$f":"T('Critical-Representative Assets'!B85)","v":"Dispatch/Control Center"},{"$f":"T('Critical-Representative Assets'!C85)","v":"BUS"},{"$f":"SUM('Critical-Representative Assets'!D85)","v":5},{"$f":"T('Critical-Representative Assets'!E85)","v":""},{"$f":"HYPERLINK(\"#'Bus Assets'!AB34\", SUM('Bus Assets'!AB35))","v":0},{"$f":"HYPERLINK(\"#'Bus Assets'!AB83\", SUM('Bus Assets'!AB84))","v":0},{"$f":"HYPERLINK(\"#'Bus Assets'!AB132\", SUM('Bus Assets'!AB133))","v":0},{"$f":"HYPERLINK(\"#'Bus Assets'!AB181\", SUM('Bus Assets'!AB182))","v":0},{"$f":"HYPERLINK(\"#'Bus Assets'!AB230\", SUM('Bus Assets'!AB231))","v":0},{"$f":"HYPERLINK(\"#'Bus Assets'!AB279\", SUM('Bus Assets'!AB280))","v":0},{"$f":"HYPERLINK(\"#'Bus Assets'!AB328\", SUM('Bus Assets'!AB329))","v":0},{"$f":"HYPERLINK(\"#'Bus Assets'!AB377\", SUM('Bus Assets'!AB378))","v":0},{"$f":"HYPERLINK(\"#'Bus Assets'!AB426\", SUM('Bus Assets'!AB427))","v":0},{"$f":"HYPERLINK(\"#'Bus Assets'!AB475\", SUM('Bus Assets'!AB476))","v":0}]
[null,{"$f":"T('Critical-Representative Assets'!B86)","v":"Cyber Systems"},{"$f":"T('Critical-Representative Assets'!C86)","v":"BUS"},{"$f":"SUM('Critical-Representative Assets'!D86)","v":6},{"$f":"T('Critical-Representative Assets'!E86)","v":""},{"$f":"HYPERLINK(\"#'Bus Assets'!AB40\", SUM('Bus Assets'!AB41))","v":0},{"$f":"HYPERLINK(\"#'Bus Assets'!AB89\", SUM('Bus Assets'!AB90))","v":0},{"$f":"HYPERLINK(\"#'Bus Assets'!AB138\", SUM('Bus Assets'!AB139))","v":0},{"$f":"HYPERLINK(\"#'Bus Assets'!AB187\", SUM('Bus Assets'!AB188))","v":0},{"$f":"HYPERLINK(\"#'Bus Assets'!AB236\", SUM('Bus Assets'!AB237))","v":0},{"$f":"HYPERLINK(\"#'Bus Assets'!AB285\", SUM('Bus Assets'!AB286))","v":0},{"$f":"HYPERLINK(\"#'Bus Assets'!AB334\", SUM('Bus Assets'!AB335))","v":0},{"$f":"HYPERLINK(\"#'Bus Assets'!AB383\", SUM('Bus Assets'!AB384))","v":0},{"$f":"HYPERLINK(\"#'Bus Assets'!AB432\", SUM('Bus Assets'!AB433))","v":0},{"$f":"HYPERLINK(\"#'Bus Assets'!AB481\", SUM('Bus Assets'!AB482))","v":0}]
[{"$f":"T(Definitions!A100)","v":"Bus System Support"},{"$f":"T('Critical-Representative Assets'!B87)","v":"Fueling Facilities/Depots"},{"$f":"T('Critical-Representative Assets'!C87)","v":"BUS"},{"$f":"SUM('Critical-Representative Assets'!D87)","v":7},{"$f":"T('Critical-Representative Assets'!E87)","v":""},{"$f":"HYPERLINK(\"#'Bus Assets'!AB46\", SUM('Bus Assets'!AB47))","v":0},{"$f":"HYPERLINK(\"#'Bus Assets'!AB95\", SUM('Bus Assets'!AB96))","v":0},{"$f":"HYPERLINK(\"#'Bus Assets'!AB144\", SUM('Bus Assets'!AB145))","v":0},{"$f":"HYPERLINK(\"#'Bus Assets'!AB193\", SUM('Bus Assets'!AB194))","v":0},{"$f":"HYPERLINK(\"#'Bus Assets'!AB242\", SUM('Bus Assets'!AB243))","v":0},{"$f":"HYPERLINK(\"#'Bus Assets'!AB291\", SUM('Bus Assets'!AB292))","v":0},{"$f":"HYPERLINK(\"#'Bus Assets'!AB340\", SUM('Bus Assets'!AB341))","v":0},{"$f":"HYPERLINK(\"#'Bus Assets'!AB389\", SUM('Bus Assets'!AB390))","v":0},{"$f":"HYPERLINK(\"#'Bus Assets'!AB438\", SUM('Bus Assets'!AB439))","v":0},{"$f":"HYPERLINK(\"#'Bus Assets'!AB487\", SUM('Bus Assets'!AB488))","v":0}]
[null,{"$f":"T('Critical-Representative Assets'!B88)","v":"Maintenance Barns/Facilities"},{"$f":"T('Critical-Representative Assets'!C88)","v":"BUS"},{"$f":"SUM('Critical-Representative Assets'!D88)","v":8},{"$f":"T('Critical-Representative Assets'!E88)","v":""},{"$f":"HYPERLINK(\"#'Bus Assets'!AB52\", SUM('Bus Assets'!AB53))","v":0},{"$f":"HYPERLINK(\"#'Bus Assets'!AB101\", SUM('Bus Assets'!AB102))","v":0},{"$f":"HYPERLINK(\"#'Bus Assets'!AB150\", SUM('Bus Assets'!AB151))","v":0},{"$f":"HYPERLINK(\"#'Bus Assets'!AB199\", SUM('Bus Assets'!AB200))","v":0},{"$f":"HYPERLINK(\"#'Bus Assets'!AB248\", SUM('Bus Assets'!AB249))","v":0},{"$f":"HYPERLINK(\"#'Bus Assets'!AB297\", SUM('Bus Assets'!AB298))","v":0},{"$f":"HYPERLINK(\"#'Bus Assets'!AB346\", SUM('Bus Assets'!AB347))","v":0},{"$f":"HYPERLINK(\"#'Bus Assets'!AB395\", SUM('Bus Assets'!AB396))","v":0},{"$f":"HYPERLINK(\"#'Bus Assets'!AB444\", SUM('Bus Assets'!AB445))","v":0},{"$f":"HYPERLINK(\"#'Bus Assets'!AB493\", SUM('Bus Assets'!AB494))","v":0}]
["Ferry Service",{"$nulls":14},"Notes","Investment Justifications"]
[{"$f":"T(Definitions!A103)","v":"Ferry System Public Area"},{"$f":"T('Critical-Representative Assets'!B92)","v":"Headquarters Building"},{"$f":"T('Critical-Representative Assets'!C92)","v":"FS"},{"$f":"SUM('Critical-Representative Assets'!D92)","v":1},{"$f":"T('Critical-Representative Assets'!E92)","v":""},{"$f":"HYPERLINK(\"#'Ferry Service Assets'!AB10\", SUM('Ferry Service Assets'!AB11))","v":0},{"$f":"HYPERLINK(\"#'Ferry Service Assets'!AB71\", SUM('Ferry Service Assets'!AB72))","v":0},{"$f":"HYPERLINK(\"#'Ferry Service Assets'!AB132\", SUM('Ferry Service Assets'!AB133))","v":0},{"$f":"HYPERLINK(\"#'Ferry Service Assets'!AB193\", SUM('Ferry Service Assets'!AB194))","v":0},{"$f":"HYPERLINK(\"#'Ferry Service Assets'!AB254\", SUM('Ferry Service Assets'!AB255))","v":0},{"$f":"HYPERLINK(\"#'Ferry Service Assets'!AB315\", SUM('Ferry Service Assets'!AB316))","v":0},{"$f":"HYPERLINK(\"#'Ferry Service Assets'!AB376\", SUM('Ferry Service Assets'!AB377))","v":0},{"$f":"HYPERLINK(\"#'Ferry Service Assets'!AB437\", SUM('Ferry Service Assets'!AB438))","v":0},{"$f":"HYPERLINK(\"#'Ferry Service Assets'!AB498\", SUM('Ferry Service Assets'!AB499))","v":0},{"$f":"HYPERLINK(\"#'Ferry Service Assets'!AB559\", SUM('Ferry Service Assets'!AB560))","v":0}]
[null,{"$f":"T('Critical-Representative Assets'!B93)","v":"System Owned Ferry Terminals"},{"$f":"T('Critical-Representative Assets'!C93)","v":"FS"},{"$f":"SUM('Critical-Representative Assets'!D93)","v":2},{"$f":"T('Critical-Representative Assets'!E93)","v":""},{"$f":"HYPERLINK(\"#'Ferry Service Assets'!AB16\", SUM('Ferry Service Assets'!AB17))","v":0},{"$f":"HYPERLINK(\"#'Ferry Service Assets'!AB77\", SUM('Ferry Service Assets'!AB78))","v":0},{"$f":"HYPERLINK(\"#'Ferry Service Assets'!AB138\", SUM('Ferry Service Assets'!AB139))","v":0},{"$f":"HYPERLINK(\"#'Ferry Service Assets'!AB199\", SUM('Ferry Service Assets'!AB200))","v":0},{"$f":"HYPERLINK(\"#'Ferry Service Assets'!AB260\", SUM('Ferry Service Assets'!AB261))","v":0},{"$f":"HYPERLINK(\"#'Ferry Service Assets'!AB321\", SUM('Ferry Service Assets'!AB322))","v":0},{"$f":"HYPERLINK(\"#'Ferry Service Assets'!AB382\", SUM('Ferry Service Assets'!AB383))","v":0},{"$f":"HYPERLINK(\"#'Ferry Service Assets'!AB443\", SUM('Ferry Service Assets'!AB444))","v":0},{"$f":"HYPERLINK(\"#'Ferry Service Assets'!AB504\", SUM('Ferry Service Assets'!AB505))","v":0},{"$f":"HYPERLINK(\"#'Ferry Service Assets'!AB565\", SUM('Ferry Service Assets'!AB566))","v":0}]
[null,{"$f":"T('Critical-Representative Assets'!B94)","v":"Parking Structures"},{"$f":"T('Critical-Representative Assets'!C94)","v":"FS"},{"$f":"SUM('Critical-Representative Assets'!D94)","v":3},{"$f":"T('Critical-Representative Assets'!E94)","v":""},{"$f":"HYPERLINK(\"#'Ferry Service Assets'!AB22\", SUM('Ferry Service Assets'!AB23))","v":0},{"$f":"HYPERLINK(\"#'Ferry Service Assets'!AB83\", SUM('Ferry Service Assets'!AB84))","v":0},{"$f":"HYPERLINK(\"#'Ferry Service Assets'!AB144\", SUM('Ferry Service Assets'!AB145))","v":0},{"$f":"HYPERLINK(\"#'Ferry Service Assets'!AB205\", SUM('Ferry Service Assets'!AB206))","v":0},{"$f":"HYPERLINK(\"#'Ferry Service Assets'!AB266\", SUM('Ferry Service Assets'!AB267))","v":0},{"$f":"HYPERLINK(\"#'Ferry Service Assets'!AB327\", SUM('Ferry Service Assets'!AB328))","v":0},{"$f":"HYPERLINK(\"#'Ferry Service Assets'!AB388\", SUM('Ferry Service Assets'!AB389))","v":0},{"$f":"HYPERLINK(\"#'Ferry Service Assets'!AB449\", SUM('Ferry Service Assets'!AB450))","v":0},{"$f":"HYPERLINK(\"#'Ferry Service Assets'!AB510\", SUM('Ferry Service Assets'!AB511))","v":0},{"$f":"HYPERLINK(\"#'Ferry Service Assets'!AB571\", SUM('Ferry Service Assets'!AB572))","v":0}]
[{"$f":"T(Definitions!A106)","v":"Ferry System Vessels"},{"$f":"T('Critical-Representative Assets'!B95)","v":"Ferry Vessel - Type 1"},{"$f":"T('Critical-Representative Assets'!C95)","v":"FS"},{"$f":"SUM('Critical-Representative Assets'!D95)","v":4},{"$f":"T('Critical-Representative Assets'!E95)","v":""},{"$f":"HYPERLINK(\"#'Ferry Service Assets'!AB28\", SUM('Ferry Service Assets'!AB29))","v":0},{"$f":"HYPERLINK(\"#'Ferry Service Assets'!AB89\", SUM('Ferry Service Assets'!AB90))","v":0},{"$f":"HYPERLINK(\"#'Ferry Service Assets'!AB150\", SUM('Ferry Service Assets'!AB151))","v":0},{"$f":"HYPERLINK(\"#'Ferry Service Assets'!AB211\", SUM('Ferry Service Assets'!AB212))","v":0},{"$f":"HYPERLINK(\"#'Ferry Service Assets'!AB272\", SUM('Ferry Service Assets'!AB273))","v":0},{"$f":"HYPERLINK(\"#'Ferry Service Assets'!AB333\", SUM('Ferry Service Assets'!AB334))","v":0},{"$f":"HYPERLINK(\"#'Ferry Service Assets'!AB394\", SUM('Ferry Service Assets'!AB395))","v":0},{"$f":"HYPERLINK(\"#'Ferry Service Assets'!AB455\", SUM('Ferry Service Assets'!AB456))","v":0},{"$f":"HYPERLINK(\"#'Ferry Service Assets'!AB516\", SUM('Ferry Service Assets'!AB517))","v":0},{"$f":"HYPERLINK(\"#'Ferry Service Assets'!AB577\", SUM('Ferry Service Assets'!AB578))","v":0}]
[null,{"$f":"T('Critical-Representative Assets'!B96)","v":"Ferry Vessel - Type 2"},{"$f":"T('Critical-Representative Assets'!C96)","v":"FS"},{"$f":"SUM('Critical-Representative Assets'!D96)","v":5},{"$f":"T('Critical-Representative Assets'!E96)","v":""},{"$f":"HYPERLINK(\"#'Ferry Service Assets'!AB34\", SUM('Ferry Service Assets'!AB35))","v":0},{"$f":"HYPERLINK(\"#'Ferry Service Assets'!AB95\", SUM('Ferry Service Assets'!AB96))","v":0},{"$f":"HYPERLINK(\"#'Ferry Service Assets'!AB156\", SUM('Ferry Service Assets'!AB157))","v":0},{"$f":"HYPERLINK(\"#'Ferry Service Assets'!AB217\", SUM('Ferry Service Assets'!AB218))","v":0},{"$f":"HYPERLINK(\"#'Ferry Service Assets'!AB278\", SUM('Ferry Service Assets'!AB279))","v":0},{"$f":"HYPERLINK(\"#'Ferry Service Assets'!AB339\", SUM('Ferry Service Assets'!AB340))","v":0},{"$f":"HYPERLINK(\"#'Ferry Service Assets'!AB400\", SUM('Ferry Service Assets'!AB401))","v":0},{"$f":"HYPERLINK(\"#'Ferry Service Assets'!AB461\", SUM('Ferry Service Assets'!AB462))","v":0},{"$f":"HYPERLINK(\"#'Ferry Service Assets'!AB522\", SUM('Ferry Service Assets'!AB523))","v":0},{"$f":"HYPERLINK(\"#'Ferry Service Assets'!AB583\", SUM('Ferry Service Assets'!AB584))","v":0}]
[{"$f":"T(Definitions!A108)","v":"Ferry System Control"},{"$f":"T('Critical-Representative Assets'!B97)","v":"Primary Control Center"},{"$f":"T('Critical-Representative Assets'!C97)","v":"FS"},{"$f":"SUM('Critical-Representative Assets'!D97)","v":6},{"$f":"T('Critical-Representative Assets'!E97)","v":""},{"$f":"HYPERLINK(\"#'Ferry Service Assets'!AB40\", SUM('Ferry Service Assets'!AB41))","v":0},{"$f":"HYPERLINK(\"#'Ferry Service Assets'!AB101\", SUM('Ferry Service Assets'!AB102))","v":0},{"$f":"HYPERLINK(\"#'Ferry Service Assets'!AB162\", SUM('Ferry Service Assets'!AB163))","v":0},{"$f":"HYPERLINK(\"#'Ferry Service Assets'!AB223\", SUM('Ferry Service Assets'!AB224))","v":0},{"$f":"HYPERLINK(\"#'Ferry Service Assets'!AB284\", SUM('Ferry Service Assets'!AB285))","v":0},{"$f":"HYPERLINK(\"#'Ferry Service Assets'!AB345\", SUM('Ferry Service Assets'!AB346))","v":0},{"$f":"HYPERLINK(\"#'Ferry Service Assets'!AB406\", SUM('Ferry Service Assets'!AB407))","v":0},{"$f":"HYPERLINK(\"#'Ferry Service Assets'!AB467\", SUM('Ferry Service Assets'!AB468))","v":0},{"$f":"HYPERLINK(\"#'Ferry Service Assets'!AB528\", SUM('Ferry Service Assets'!AB529))","v":0},{"$f":"HYPERLINK(\"#'Ferry Service Assets'!AB589\", SUM('Ferry Service Assets'!AB590))","v":0}]
[null,{"$f":"T('Critical-Representative Assets'!B98)","v":"Cyber Systems"},{"$f":"T('Critical-Representative Assets'!C98)","v":"FS"},{"$f":"SUM('Critical-Representative Assets'!D98)","v":7},{"$f":"T('Critical-Representative Assets'!E98)","v":""},{"$f":"HYPERLINK(\"#'Ferry Service Assets'!AB46\", SUM('Ferry Service Assets'!AB47))","v":0},{"$f":"HYPERLINK(\"#'Ferry Service Assets'!AB107\", SUM('Ferry Service Assets'!AB108))","v":0},{"$f":"HYPERLINK(\"#'Ferry Service Assets'!AB168\", SUM('Ferry Service Assets'!AB169))","v":0},{"$f":"HYPERLINK(\"#'Ferry Service Assets'!AB229\", SUM('Ferry Service Assets'!AB230))","v":0},{"$f":"HYPERLINK(\"#'Ferry Service Assets'!AB290\", SUM('Ferry Service Assets'!AB291))","v":0},{"$f":"HYPERLINK(\"#'Ferry Service Assets'!AB351\", SUM('Ferry Service Assets'!AB352))","v":0},{"$f":"HYPERLINK(\"#'Ferry Service Assets'!AB412\", SUM('Ferry Service Assets'!AB413))","v":0},{"$f":"HYPERLINK(\"#'Ferry Service Assets'!AB473\", SUM('Ferry Service Assets'!AB474))","v":0},{"$f":"HYPERLINK(\"#'Ferry Service Assets'!AB534\", SUM('Ferry Service Assets'!AB535))","v":0},{"$f":"HYPERLINK(\"#'Ferry Service Assets'!AB595\", SUM('Ferry Service Assets'!AB596))","v":0}]
[{"$f":"T(Definitions!A110)","v":"Ferry System Operations"},{"$f":"T('Critical-Representative Assets'!B99)","v":"Aids to Navigation"},{"$f":"T('Critical-Representative Assets'!C99)","v":"FS"},{"$f":"SUM('Critical-Representative Assets'!D99)","v":8},{"$f":"T('Critical-Representative Assets'!E99)","v":""},{"$f":"HYPERLINK(\"#'Ferry Service Assets'!AB52\", SUM('Ferry Service Assets'!AB53))","v":0},{"$f":"HYPERLINK(\"#'Ferry Service Assets'!AB113\", SUM('Ferry Service Assets'!AB114))","v":0},{"$f":"HYPERLINK(\"#'Ferry Service Assets'!AB174\", SUM('Ferry Service Assets'!AB175))","v":0},{"$f":"HYPERLINK(\"#'Ferry Service Assets'!AB235\", SUM('Ferry Service Assets'!AB236))","v":0},{"$f":"HYPERLINK(\"#'Ferry Service Assets'!AB296\", SUM('Ferry Service Assets'!AB297))","v":0},{"$f":"HYPERLINK(\"#'Ferry Service Assets'!AB357\", SUM('Ferry Service Assets'!AB358))","v":0},{"$f":"HYPERLINK(\"#'Ferry Service Assets'!AB418\", SUM('Ferry Service Assets'!AB419))","v":0},{"$f":"HYPERLINK(\"#'Ferry Service Assets'!AB479\", SUM('Ferry Service Assets'!AB480))","v":0},{"$f":"HYPERLINK(\"#'Ferry Service Assets'!AB540\", SUM('Ferry Service Assets'!AB541))","v":0},{"$f":"HYPERLINK(\"#'Ferry Service Assets'!AB601\", SUM('Ferry Service Assets'!AB602))","v":0}]
[null,{"$f":"T('Critical-Representative Assets'!B100)","v":"Support Craft"},{"$f":"T('Critical-Representative Assets'!C100)","v":"FS"},{"$f":"SUM('Critical-Representative Assets'!D100)","v":9},{"$f":"T('Critical-Representative Assets'!E100)","v":""},{"$f":"HYPERLINK(\"#'Ferry Service Assets'!AB58\", SUM('Ferry Service Assets'!AB59))","v":0},{"$f":"HYPERLINK(\"#'Ferry Service Assets'!AB119\", SUM('Ferry Service Assets'!AB120))","v":0},{"$f":"HYPERLINK(\"#'Ferry Service Assets'!AB180\", SUM('Ferry Service Assets'!AB181))","v":0},{"$f":"HYPERLINK(\"#'Ferry Service Assets'!AB241\", SUM('Ferry Service Assets'!AB242))","v":0},{"$f":"HYPERLINK(\"#'Ferry Service Assets'!AB302\", SUM('Ferry Service Assets'!AB303))","v":0},{"$f":"HYPERLINK(\"#'Ferry Service Assets'!AB363\", SUM('Ferry Service Assets'!AB364))","v":0},{"$f":"HYPERLINK(\"#'Ferry Service Assets'!AB424\", SUM('Ferry Service Assets'!AB425))","v":0},{"$f":"HYPERLINK(\"#'Ferry Service Assets'!AB485\", SUM('Ferry Service Assets'!AB486))","v":0},{"$f":"HYPERLINK(\"#'Ferry Service Assets'!AB546\", SUM('Ferry Service Assets'!AB547))","v":0},{"$f":"HYPERLINK(\"#'Ferry Service Assets'!AB607\", SUM('Ferry Service Assets'!AB608))","v":0}]
[{"$f":"T(Definitions!A112)","v":"Ferry System Support"},{"$f":"T('Critical-Representative Assets'!B101)","v":"Maintenance Facilities"},{"$f":"T('Critical-Representative Assets'!C101)","v":"FS"},{"$f":"SUM('Critical-Representative Assets'!D101)","v":10},{"$f":"T('Critical-Representative Assets'!E101)","v":""},{"$f":"HYPERLINK(\"#'Ferry Service Assets'!AB64\", SUM('Ferry Service Assets'!AB65))","v":0},{"$f":"HYPERLINK(\"#'Ferry Service Assets'!AB125\", SUM('Ferry Service Assets'!AB126))","v":0},{"$f":"HYPERLINK(\"#'Ferry Service Assets'!AB186\", SUM('Ferry Service Assets'!AB187))","v":0},{"$f":"HYPERLINK(\"#'Ferry Service Assets'!AB247\", SUM('Ferry Service Assets'!AB248))","v":0},{"$f":"HYPERLINK(\"#'Ferry Service Assets'!AB308\", SUM('Ferry Service Assets'!AB309))","v":0},{"$f":"HYPERLINK(\"#'Ferry Service Assets'!AB369\", SUM('Ferry Service Assets'!AB370))","v":0},{"$f":"HYPERLINK(\"#'Ferry Service Assets'!AB430\", SUM('Ferry Service Assets'!AB431))","v":0},{"$f":"HYPERLINK(\"#'Ferry Service Assets'!AB491\", SUM('Ferry Service Assets'!AB492))","v":0},{"$f":"HYPERLINK(\"#'Ferry Service Assets'!AB552\", SUM('Ferry Service Assets'!AB553))","v":0},{"$f":"HYPERLINK(\"#'Ferry Service Assets'!AB613\", SUM('Ferry Service Assets'!AB614))","v":0}]
["Additional Assets Considered",{"$nulls":14},"Notes","Investment Justifications"]
[{"$f":"T('Critical-Representative Assets'!A105)","v":""},{"$f":"T('Critical-Representative Assets'!B105)","v":""},{"$f":"T('Critical-Representative Assets'!C105)","v":"AA"},{"$f":"SUM('Critical-Representative Assets'!D105)","v":1},{"$f":"T('Critical-Representative Assets'!E105)","v":""},{"$f":"HYPERLINK(\"#'Additional Assets'!AB10\", SUM('Additional Assets'!AB11))","v":0},{"$f":"HYPERLINK(\"#'Additional Assets'!AB71\", SUM('Additional Assets'!AB72))","v":0},{"$f":"HYPERLINK(\"#'Additional Assets'!AB132\", SUM('Additional Assets'!AB133))","v":0},{"$f":"HYPERLINK(\"#'Additional Assets'!AB193\", SUM('Additional Assets'!AB194))","v":0},{"$f":"HYPERLINK(\"#'Additional Assets'!AB254\", SUM('Additional Assets'!AB255))","v":0},{"$f":"HYPERLINK(\"#'Additional Assets'!AB318\", SUM('Additional Assets'!AB319))","v":0},{"$f":"HYPERLINK(\"#'Additional Assets'!AB379\", SUM('Additional Assets'!AB380))","v":0},{"$f":"HYPERLINK(\"#'Additional Assets'!AB441\", SUM('Additional Assets'!AB442))","v":0},{"$f":"HYPERLINK(\"#'Additional Assets'!AB502\", SUM('Additional Assets'!AB503))","v":0},{"$f":"HYPERLINK(\"#'Additional Assets'!AB566\", SUM('Additional Assets'!AB567))","v":0}]
[{"$f":"T('Critical-Representative Assets'!A106)","v":""},{"$f":"T('Critical-Representative Assets'!B106)","v":""},{"$f":"T('Critical-Representative Assets'!C106)","v":"AA"},{"$f":"SUM('Critical-Representative Assets'!D106)","v":2},{"$f":"T('Critical-Representative Assets'!E106)","v":""},{"$f":"HYPERLINK(\"#'Additional Assets'!AB16\", SUM('Additional Assets'!AB17))","v":0},{"$f":"HYPERLINK(\"#'Additional Assets'!AB77\", SUM('Additional Assets'!AB78))","v":0},{"$f":"HYPERLINK(\"#'Additional Assets'!AB138\", SUM('Additional Assets'!AB139))","v":0},{"$f":"HYPERLINK(\"#'Additional Assets'!AB199\", SUM('Additional Assets'!AB200))","v":0},{"$f":"HYPERLINK(\"#'Additional Assets'!AB260\", SUM('Additional Assets'!AB261))","v":0},{"$f":"HYPERLINK(\"#'Additional Assets'!AB324\", SUM('Additional Assets'!AB325))","v":0},{"$f":"HYPERLINK(\"#'Additional Assets'!AB385\", SUM('Additional Assets'!AB386))","v":0},{"$f":"HYPERLINK(\"#'Additional Assets'!AB447\", SUM('Additional Assets'!AB448))","v":0},{"$f":"HYPERLINK(\"#'Additional Assets'!AB508\", SUM('Additional Assets'!AB509))","v":0},{"$f":"HYPERLINK(\"#'Additional Assets'!AB572\", SUM('Additional Assets'!AB573))","v":0}]
[{"$f":"T('Critical-Representative Assets'!A107)","v":""},{"$f":"T('Critical-Representative Assets'!B107)","v":""},{"$f":"T('Critical-Representative Assets'!C107)","v":"AA"},{"$f":"SUM('Critical-Representative Assets'!D107)","v":3},{"$f":"T('Critical-Representative Assets'!E107)","v":""},{"$f":"HYPERLINK(\"#'Additional Assets'!AB22\", SUM('Additional Assets'!AB23))","v":0},{"$f":"HYPERLINK(\"#'Additional Assets'!AB83\", SUM('Additional Assets'!AB84))","v":0},{"$f":"HYPERLINK(\"#'Additional Assets'!AB144\", SUM('Additional Assets'!AB145))","v":0},{"$f":"HYPERLINK(\"#'Additional Assets'!AB205\", SUM('Additional Assets'!AB206))","v":0},{"$f":"HYPERLINK(\"#'Additional Assets'!AB266\", SUM('Additional Assets'!AB267))","v":0},{"$f":"HYPERLINK(\"#'Additional Assets'!AB330\", SUM('Additional Assets'!AB331))","v":0},{"$f":"HYPERLINK(\"#'Additional Assets'!AB391\", SUM('Additional Assets'!AB392))","v":0},{"$f":"HYPERLINK(\"#'Additional Assets'!AB453\", SUM('Additional Assets'!AB454))","v":0},{"$f":"HYPERLINK(\"#'Additional Assets'!AB514\", SUM('Additional Assets'!AB515))","v":0},{"$f":"HYPERLINK(\"#'Additional Assets'!AB578\", SUM('Additional Assets'!AB579))","v":0}]
[{"$f":"T('Critical-Representative Assets'!A108)","v":""},{"$f":"T('Critical-Representative Assets'!B108)","v":""},{"$f":"T('Critical-Representative Assets'!C108)","v":"AA"},{"$f":"SUM('Critical-Representative Assets'!D108)","v":4},{"$f":"T('Critical-Representative Assets'!E108)","v":""},{"$f":"HYPERLINK(\"#'Additional Assets'!AB28\", SUM('Additional Assets'!AB29))","v":0},{"$f":"HYPERLINK(\"#'Additional Assets'!AB89\", SUM('Additional Assets'!AB90))","v":0},{"$f":"HYPERLINK(\"#'Additional Assets'!AB150\", SUM('Additional Assets'!AB151))","v":0},{"$f":"HYPERLINK(\"#'Additional Assets'!AB211\", SUM('Additional Assets'!AB212))","v":0},{"$f":"HYPERLINK(\"#'Additional Assets'!AB272\", SUM('Additional Assets'!AB273))","v":0},{"$f":"HYPERLINK(\"#'Additional Assets'!AB336\", SUM('Additional Assets'!AB337))","v":0},{"$f":"HYPERLINK(\"#'Additional Assets'!AB397\", SUM('Additional Assets'!AB398))","v":0},{"$f":"HYPERLINK(\"#'Additional Assets'!AB459\", SUM('Additional Assets'!AB460))","v":0},{"$f":"HYPERLINK(\"#'Additional Assets'!AB520\", SUM('Additional Assets'!AB521))","v":0},{"$f":"HYPERLINK(\"#'Additional Assets'!AB584\", SUM('Additional Assets'!AB585))","v":0}]
[{"$f":"T('Critical-Representative Assets'!A109)","v":""},{"$f":"T('Critical-Representative Assets'!B109)","v":""},{"$f":"T('Critical-Representative Assets'!C109)","v":"AA"},{"$f":"SUM('Critical-Representative Assets'!D109)","v":5},{"$f":"T('Critical-Representative Assets'!E109)","v":""},{"$f":"HYPERLINK(\"#'Additional Assets'!AB34\", SUM('Additional Assets'!AB35))","v":0},{"$f":"HYPERLINK(\"#'Additional Assets'!AB95\", SUM('Additional Assets'!AB96))","v":0},{"$f":"HYPERLINK(\"#'Additional Assets'!AB156\", SUM('Additional Assets'!AB157))","v":0},{"$f":"HYPERLINK(\"#'Additional Assets'!AB217\", SUM('Additional Assets'!AB218))","v":0},{"$f":"HYPERLINK(\"#'Additional Assets'!AB278\", SUM('Additional Assets'!AB279))","v":0},{"$f":"HYPERLINK(\"#'Additional Assets'!AB342\", SUM('Additional Assets'!AB343))","v":0},{"$f":"HYPERLINK(\"#'Additional Assets'!AB403\", SUM('Additional Assets'!AB404))","v":0},{"$f":"HYPERLINK(\"#'Additional Assets'!AB465\", SUM('Additional Assets'!AB466))","v":0},{"$f":"HYPERLINK(\"#'Additional Assets'!AB526\", SUM('Additional Assets'!AB527))","v":0},{"$f":"HYPERLINK(\"#'Additional Assets'!AB590\", SUM('Additional Assets'!AB591))","v":0}]
[{"$f":"T('Critical-Representative Assets'!A110)","v":""},{"$f":"T('Critical-Representative Assets'!B110)","v":""},{"$f":"T('Critical-Representative Assets'!C110)","v":"AA"},{"$f":"SUM('Critical-Representative Assets'!D110)","v":6},{"$f":"T('Critical-Representative Assets'!E110)","v":""},{"$f":"HYPERLINK(\"#'Additional Assets'!AB40\", SUM('Additional Assets'!AB41))","v":0},{"$f":"HYPERLINK(\"#'Additional Assets'!AB101\", SUM('Additional Assets'!AB102))","v":0},{"$f":"HYPERLINK(\"#'Additional Assets'!AB162\", SUM('Additional Assets'!AB163))","v":0},{"$f":"HYPERLINK(\"#'Additional Assets'!AB223\", SUM('Additional Assets'!AB224))","v":0},{"$f":"HYPERLINK(\"#'Additional Assets'!AB284\", SUM('Additional Assets'!AB285))","v":0},{"$f":"HYPERLINK(\"#'Additional Assets'!AB348\", SUM('Additional Assets'!AB349))","v":0},{"$f":"HYPERLINK(\"#'Additional Assets'!AB409\", SUM('Additional Assets'!AB410))","v":0},{"$f":"HYPERLINK(\"#'Additional Assets'!AB471\", SUM('Additional Assets'!AB472))","v":0},{"$f":"HYPERLINK(\"#'Additional Assets'!AB532\", SUM('Additional Assets'!AB533))","v":0},{"$f":"HYPERLINK(\"#'Additional Assets'!AB596\", SUM('Additional Assets'!AB597))","v":0}]
[{"$f":"T('Critical-Representative Assets'!A111)","v":""},{"$f":"T('Critical-Representative Assets'!B111)","v":""},{"$f":"T('Critical-Representative Assets'!C111)","v":"AA"},{"$f":"SUM('Critical-Representative Assets'!D111)","v":7},{"$f":"T('Critical-Representative Assets'!E111)","v":""},{"$f":"HYPERLINK(\"#'Additional Assets'!AB46\", SUM('Additional Assets'!AB47))","v":0},{"$f":"HYPERLINK(\"#'Additional Assets'!AB107\", SUM('Additional Assets'!AB108))","v":0},{"$f":"HYPERLINK(\"#'Additional Assets'!AB168\", SUM('Additional Assets'!AB169))","v":0},{"$f":"HYPERLINK(\"#'Additional Assets'!AB229\", SUM('Additional Assets'!AB230))","v":0},{"$f":"HYPERLINK(\"#'Additional Assets'!AB290\", SUM('Additional Assets'!AB291))","v":0},{"$f":"HYPERLINK(\"#'Additional Assets'!AB354\", SUM('Additional Assets'!AB355))","v":0},{"$f":"HYPERLINK(\"#'Additional Assets'!AB415\", SUM('Additional Assets'!AB416))","v":0},{"$f":"HYPERLINK(\"#'Additional Assets'!AB477\", SUM('Additional Assets'!AB478))","v":0},{"$f":"HYPERLINK(\"#'Additional Assets'!AB538\", SUM('Additional Assets'!AB539))","v":0},{"$f":"HYPERLINK(\"#'Additional Assets'!AB602\", SUM('Additional Assets'!AB603))","v":0}]
[{"$f":"T('Critical-Representative Assets'!A112)","v":""},{"$f":"T('Critical-Representative Assets'!B112)","v":""},{"$f":"T('Critical-Representative Assets'!C112)","v":"AA"},{"$f":"SUM('Critical-Representative Assets'!D112)","v":8},{"$f":"T('Critical-Representative Assets'!E112)","v":""},{"$f":"HYPERLINK(\"#'Additional Assets'!AB52\", SUM('Additional Assets'!AB53))","v":0},{"$f":"HYPERLINK(\"#'Additional Assets'!AB113\", SUM('Additional Assets'!AB114))","v":0},{"$f":"HYPERLINK(\"#'Additional Assets'!AB174\", SUM('Additional Assets'!AB175))","v":0},{"$f":"HYPERLINK(\"#'Additional Assets'!AB235\", SUM('Additional Assets'!AB236))","v":0},{"$f":"HYPERLINK(\"#'Additional Assets'!AB296\", SUM('Additional Assets'!AB297))","v":0},{"$f":"HYPERLINK(\"#'Additional Assets'!AB360\", SUM('Additional Assets'!AB361))","v":0},{"$f":"HYPERLINK(\"#'Additional Assets'!AB421\", SUM('Additional Assets'!AB422))","v":0},{"$f":"HYPERLINK(\"#'Additional Assets'!AB483\", SUM('Additional Assets'!AB484))","v":0},{"$f":"HYPERLINK(\"#'Additional Assets'!AB544\", SUM('Additional Assets'!AB545))","v":0},{"$f":"HYPERLINK(\"#'Additional Assets'!AB608\", SUM('Additional Assets'!AB609))","v":0}]
[{"$f":"T('Critical-Representative Assets'!A113)","v":""},{"$f":"T('Critical-Representative Assets'!B113)","v":""},{"$f":"T('Critical-Representative Assets'!C113)","v":"AA"},{"$f":"SUM('Critical-Representative Assets'!D113)","v":9},{"$f":"T('Critical-Representative Assets'!E113)","v":""},{"$f":"HYPERLINK(\"#'Additional Assets'!AB58\", SUM('Additional Assets'!AB59))","v":0},{"$f":"HYPERLINK(\"#'Additional Assets'!AB119\", SUM('Additional Assets'!AB120))","v":0},{"$f":"HYPERLINK(\"#'Additional Assets'!AB180\", SUM('Additional Assets'!AB181))","v":0},{"$f":"HYPERLINK(\"#'Additional Assets'!AB241\", SUM('Additional Assets'!AB242))","v":0},{"$f":"HYPERLINK(\"#'Additional Assets'!AB302\", SUM('Additional Assets'!AB303))","v":0},{"$f":"HYPERLINK(\"#'Additional Assets'!AB366\", SUM('Additional Assets'!AB367))","v":0},{"$f":"HYPERLINK(\"#'Additional Assets'!AB427\", SUM('Additional Assets'!AB428))","v":0},{"$f":"HYPERLINK(\"#'Additional Assets'!AB489\", SUM('Additional Assets'!AB490))","v":0},{"$f":"HYPERLINK(\"#'Additional Assets'!AB550\", SUM('Additional Assets'!AB551))","v":0},{"$f":"HYPERLINK(\"#'Additional Assets'!AB614\", SUM('Additional Assets'!AB615))","v":0}]
[{"$f":"T('Critical-Representative Assets'!A114)","v":""},{"$f":"T('Critical-Representative Assets'!B114)","v":""},{"$f":"T('Critical-Representative Assets'!C114)","v":"AA"},{"$f":"SUM('Critical-Representative Assets'!D114)","v":10},{"$f":"T('Critical-Representative Assets'!E114)","v":""},{"$f":"HYPERLINK(\"#'Additional Assets'!AB64\", SUM('Additional Assets'!AB65))","v":0},{"$f":"HYPERLINK(\"#'Additional Assets'!AB125\", SUM('Additional Assets'!AB126))","v":0},{"$f":"HYPERLINK(\"#'Additional Assets'!AB186\", SUM('Additional Assets'!AB187))","v":0},{"$f":"HYPERLINK(\"#'Additional Assets'!AB247\", SUM('Additional Assets'!AB248))","v":0},{"$f":"HYPERLINK(\"#'Additional Assets'!AB308\", SUM('Additional Assets'!AB309))","v":0},{"$f":"HYPERLINK(\"#'Additional Assets'!AB372\", SUM('Additional Assets'!AB373))","v":0},{"$f":"HYPERLINK(\"#'Additional Assets'!AB433\", SUM('Additional Assets'!AB434))","v":0},{"$f":"HYPERLINK(\"#'Additional Assets'!AB495\", SUM('Additional Assets'!AB496))","v":0},{"$f":"HYPERLINK(\"#'Additional Assets'!AB556\", SUM('Additional Assets'!AB557))","v":0},{"$f":"HYPERLINK(\"#'Additional Assets'!AB620\", SUM('Additional Assets'!AB621))","v":0}]
[]
["SENSITIVE SECURITY INFORMATION"]
["WARNING: This document contains Sensitive Security Information that is controlled under 49 CFR 1520. No part of this document may be released to persons without a need to know, as defined in 49 CFR 1520, except with the written permission of the FEMA Administrator, Washington, DC. Unauthorized release may result in civil penalty or other action. For U.S. Government agencies, public release is governed by 5 U.S.C. 522."]