{"text_format":"3","workbook":"xlsx","n_sheets":21,"sheets":["1. Program Details","2.Total Allocated Program Funds","3A. In-Kind Labor ","3B. In-Kind Non-Labor","4. Personnel ","5. Personnel Strategies","6. Personnel Topics","7. Consultant Costs","8. Contracts","9. Supplies","10a. Travel (Local)","10b. Travel (Non-Local)","11. Administrative","12.Partner Involvement","Check","Inputs","Validation Rules","Master","Personnel Master","Strategy & Topic Master","BLS Wage Rates"],"not_rendered":{"macros":1,"defined_names":7,"comments":2},"read":"whole","date_system":"1900"}

{"sheet":"1. Program Details","index":0,"n_rows":13,"n_cols":5,"rows_kept":13,"merged":[[0,0,0,1],[1,0,1,2],[3,0,3,1],[8,0,8,1],[13,0,13,1]]}
["Program Details",null,"Comments","Highlighting Key"]
["                                                                                                                          Form Approved\n\t\t\t\t\t\t\t\t\t\t\t\t\t\t\t\t\t\t\t                                                                                                                      OMB NO:  0920-1365\n\t \t\t\t\t\t\t\t\t\t\t\t\t\t\t\t\t\t\t                                                                                                                      Exp. Date: 7/31/2025\n\nPublic reporting burden of this collection of information is estimated at 1 hour per response, including the time for reviewing instructions, searching existing data sources, gathering, and maintaining the data needed, and completing and reviewing the collection of information.  An agency may not conduct or sponsor, and a person is not required to respond to a collection of information unless it displays a currently valid OMB control number.  Send comments regarding this burden estimate or any other aspect of this collection of information, including suggestions for reducing this burden to CDC/Information Collection Review Office, 1600 Clifton Road, NE, MS H21-8, Atlanta, GA 30333; Attn: PRA (0920-1365)."]
["1A. Program Name","Rhode Island",null,null,"Orange = Enter program information"]
[{"$nulls":4},"Yellow = Automatically populated and/or to be entered by CDC"]
["1B. Program Director",{"$nulls":3},"Blue - Enter any comments, feedback, or questions"]
["Name",{"$nulls":3},"Light Gray = Examples for reference or N/A"]
["Telephone"]
["Email"]
[]
["1C. Primary financial/administrative contact person"]
["Name"]
["Telephone"]
["Email"]

{"sheet":"2.Total Allocated Program Funds","index":1,"n_rows":38,"n_cols":9,"rows_kept":38,"merged":[[0,0,0,5],[1,2,1,5],[2,2,2,5],[3,2,3,5],[4,2,4,5],[5,2,5,5],[6,2,6,5],[7,0,7,5],[9,1,9,5],[10,5,11,5],[12,0,12,5]]}
["Worksheet for Recording the Total Funds Allocated to Your Program Per Award Year (All Funds Including CDC Core SIPP Award and Other Federal or Non-Federal Funds Allocated to Core SIPP Strategies and Topics) (reference user guide - pg. 6)",{"$nulls":6},"Highlighting Key"]
[null,"Year 3 (08/01/2023 - 07/31/2024)",{"$nulls":6},"Orange = Enter program information"]
["2A. CDC Core SIPP Funding ","$ Amount","Comments",{"$nulls":5},"Yellow = Automatically populated and/or to be entered by CDC"]
["Total CDC Core SIPP funding for current year*",{"v":250000,"d":"$250,000.00"},{"$nulls":6},"Blue - Enter any comments, feedback, or questions"]
["Unobligated funds carried forward from previous year",{"$nulls":7},"Light Gray = Examples for reference or N/A"]
["Amount of  funds unobligated for the current year"]
["Total CDC Core SIPP funding allocated:",{"$f":"SUM(B4:B5)-(B6)","v":{"v":250000,"d":"$250,000.00"}}]
["* Core SIPP funds are defined as those funds that were awarded directly by CDC through CDC-RFA-CE21-2101. "]
[]
[null,"Year 2 (08/01/2022 - 07/31/2023)"]
[{"$nulls":5},"Comments"]
["2B. Source of other funding (other federal or non-federal) allocated to Core SIPP Strategies and Topics","$ Amount","Strategy (select all that apply)","Topic (select all that apply)","Rationale for Procuring Other Funds (select all that apply) "]
["* While cost sharing or matching funds were not required for this program, leveraging other resources and related ongoing efforts to promote sustainability was strongly encouraged in the NOFO."]
["(e.g.) Non-CDC Federal Funds",{"v":100000,"d":"$100,000.00"},"Data and Surveillance; Collaborations and Partnerships","Transportation Safety","These funds enabled expansion of the scope of implementation and were newly available following receipt of the CDC grant award."]
["(e.g.) Private Grants",{"v":5000,"d":"$5,000.00"},"Collaborations and Partnerships","Adverse Childhood Experiences (ACEs); Transportation Safety; Traumatic Brain Injury","These funds enabled expansion of the scope of implementation and were already available prior to receipt of the CDC grant award."]
[null,null,"Collaborations and Partnerships; Assessment and Evaluation",{"$nulls":5},{"$f":"COUNTA(_xlfn.TEXTSPLIT(D16,\";\"))","v":1}]
{"$rows_empty":19}
["Total other funding: ",{"$f":"SUM(B16:B35)","v":{"v":0,"d":"$0.00"}}]
[]
["Total funding allocated (2a + 2b): ",{"$f":"SUM(B7+B36)","v":{"v":250000,"d":"$250,000.00"}}]

{"sheet":"3A. In-Kind Labor ","index":2,"n_rows":36,"n_cols":11,"rows_kept":36,"merged":[[0,1,0,7],[1,1,1,7],[35,5,35,6]]}
[null,"Worksheet for Estimating the Value of In-Kind (Non-paid) Labor Contributions Per Award Year (reference user guide - pg. 7)",{"$nulls":7},"Highlighting Key"]
[null,"Year 3 (08/01/2023 - 07/31/2024)",{"$nulls":8},"Orange = Enter program information"]
[null,"3A. Labor (Non-paid) In-Kind Contributions","Hours Contributed","$ Value","Total ","Strategy (select all that apply)","Topic (select all that apply)","Comments",null,null,"Yellow = Automatically populated and/or to be entered by CDC"]
[null,"(e.g.) Student intern",240,{"v":10,"d":"$10.00"},{"$f":"C4*D4","v":{"v":2400,"d":"$2,400.00"}},"Data and Surveillance","Transportation Safety; Traumatic Brain Injury",{"$nulls":3},"Blue - Enter any comments, feedback, or questions"]
[{"$nulls":3},{"$f":"IFERROR(INDEX('BLS Wage Rates'!$A$3:$Z$65,MATCH('3A. In-Kind Labor '!$B5,'BLS Wage Rates'!$A$3:$A$65,0),MATCH('1. Program Details'!$B$3,'BLS Wage Rates'!$A$3:$Z$3,0)),0)","v":{"v":0,"d":"$0.00"}},{"$f":"C5*D5","v":{"v":0,"d":"$0.00"}},{"$nulls":5},"Light Gray = Examples for reference or N/A"]
[{"$nulls":3},{"$f":"IFERROR(INDEX('BLS Wage Rates'!$A$3:$Z$65,MATCH('3A. In-Kind Labor '!$B6,'BLS Wage Rates'!$A$3:$A$65,0),MATCH('1. Program Details'!$B$3,'BLS Wage Rates'!$A$3:$Z$3,0)),0)","v":{"v":0,"d":"$0.00"}},{"$f":"C6*D6","v":{"v":0,"d":"$0.00"}}]
[{"$nulls":3},{"$f":"IFERROR(INDEX('BLS Wage Rates'!$A$3:$Z$65,MATCH('3A. In-Kind Labor '!$B7,'BLS Wage Rates'!$A$3:$A$65,0),MATCH('1. Program Details'!$B$3,'BLS Wage Rates'!$A$3:$Z$3,0)),0)","v":{"v":0,"d":"$0.00"}},{"v":0,"d":"$0.00"}]
[{"$nulls":3},{"$f":"IFERROR(INDEX('BLS Wage Rates'!$A$3:$Z$65,MATCH('3A. In-Kind Labor '!$B8,'BLS Wage Rates'!$A$3:$A$65,0),MATCH('1. Program Details'!$B$3,'BLS Wage Rates'!$A$3:$Z$3,0)),0)","v":{"v":0,"d":"$0.00"}},{"v":0,"d":"$0.00"}]
[{"$nulls":3},{"$f":"IFERROR(INDEX('BLS Wage Rates'!$A$3:$Z$65,MATCH('3A. In-Kind Labor '!$B9,'BLS Wage Rates'!$A$3:$A$65,0),MATCH('1. Program Details'!$B$3,'BLS Wage Rates'!$A$3:$Z$3,0)),0)","v":{"v":0,"d":"$0.00"}},{"v":0,"d":"$0.00"}]
[{"$nulls":3},{"$f":"IFERROR(INDEX('BLS Wage Rates'!$A$3:$Z$65,MATCH('3A. In-Kind Labor '!$B10,'BLS Wage Rates'!$A$3:$A$65,0),MATCH('1. Program Details'!$B$3,'BLS Wage Rates'!$A$3:$Z$3,0)),0)","v":{"v":0,"d":"$0.00"}},{"v":0,"d":"$0.00"}]
[{"$nulls":3},{"$f":"IFERROR(INDEX('BLS Wage Rates'!$A$3:$Z$65,MATCH('3A. In-Kind Labor '!$B11,'BLS Wage Rates'!$A$3:$A$65,0),MATCH('1. Program Details'!$B$3,'BLS Wage Rates'!$A$3:$Z$3,0)),0)","v":{"v":0,"d":"$0.00"}},{"v":0,"d":"$0.00"}]
[{"$nulls":3},{"$f":"IFERROR(INDEX('BLS Wage Rates'!$A$3:$Z$65,MATCH('3A. In-Kind Labor '!$B12,'BLS Wage Rates'!$A$3:$A$65,0),MATCH('1. Program Details'!$B$3,'BLS Wage Rates'!$A$3:$Z$3,0)),0)","v":{"v":0,"d":"$0.00"}},{"v":0,"d":"$0.00"}]
[{"$nulls":3},{"$f":"IFERROR(INDEX('BLS Wage Rates'!$A$3:$Z$65,MATCH('3A. In-Kind Labor '!$B13,'BLS Wage Rates'!$A$3:$A$65,0),MATCH('1. Program Details'!$B$3,'BLS Wage Rates'!$A$3:$Z$3,0)),0)","v":{"v":0,"d":"$0.00"}},{"v":0,"d":"$0.00"}]
[{"$nulls":3},{"$f":"IFERROR(INDEX('BLS Wage Rates'!$A$3:$Z$65,MATCH('3A. In-Kind Labor '!$B14,'BLS Wage Rates'!$A$3:$A$65,0),MATCH('1. Program Details'!$B$3,'BLS Wage Rates'!$A$3:$Z$3,0)),0)","v":{"v":0,"d":"$0.00"}},{"v":0,"d":"$0.00"}]
[{"$nulls":3},{"$f":"IFERROR(INDEX('BLS Wage Rates'!$A$3:$Z$65,MATCH('3A. In-Kind Labor '!$B15,'BLS Wage Rates'!$A$3:$A$65,0),MATCH('1. Program Details'!$B$3,'BLS Wage Rates'!$A$3:$Z$3,0)),0)","v":{"v":0,"d":"$0.00"}},{"v":0,"d":"$0.00"}]
[{"$nulls":3},{"$f":"IFERROR(INDEX('BLS Wage Rates'!$A$3:$Z$65,MATCH('3A. In-Kind Labor '!$B16,'BLS Wage Rates'!$A$3:$A$65,0),MATCH('1. Program Details'!$B$3,'BLS Wage Rates'!$A$3:$Z$3,0)),0)","v":{"v":0,"d":"$0.00"}},{"v":0,"d":"$0.00"}]
[{"$nulls":3},{"$f":"IFERROR(INDEX('BLS Wage Rates'!$A$3:$Z$65,MATCH('3A. In-Kind Labor '!$B17,'BLS Wage Rates'!$A$3:$A$65,0),MATCH('1. Program Details'!$B$3,'BLS Wage Rates'!$A$3:$Z$3,0)),0)","v":{"v":0,"d":"$0.00"}},{"v":0,"d":"$0.00"}]
[{"$nulls":3},{"$f":"IFERROR(INDEX('BLS Wage Rates'!$A$3:$Z$65,MATCH('3A. In-Kind Labor '!$B18,'BLS Wage Rates'!$A$3:$A$65,0),MATCH('1. Program Details'!$B$3,'BLS Wage Rates'!$A$3:$Z$3,0)),0)","v":{"v":0,"d":"$0.00"}},{"v":0,"d":"$0.00"}]
[{"$nulls":3},{"$f":"IFERROR(INDEX('BLS Wage Rates'!$A$3:$Z$65,MATCH('3A. In-Kind Labor '!$B19,'BLS Wage Rates'!$A$3:$A$65,0),MATCH('1. Program Details'!$B$3,'BLS Wage Rates'!$A$3:$Z$3,0)),0)","v":{"v":0,"d":"$0.00"}},{"v":0,"d":"$0.00"}]
[{"$nulls":3},{"$f":"IFERROR(INDEX('BLS Wage Rates'!$A$3:$Z$65,MATCH('3A. In-Kind Labor '!$B20,'BLS Wage Rates'!$A$3:$A$65,0),MATCH('1. Program Details'!$B$3,'BLS Wage Rates'!$A$3:$Z$3,0)),0)","v":{"v":0,"d":"$0.00"}},{"v":0,"d":"$0.00"}]
[{"$nulls":3},{"$f":"IFERROR(INDEX('BLS Wage Rates'!$A$3:$Z$65,MATCH('3A. In-Kind Labor '!$B21,'BLS Wage Rates'!$A$3:$A$65,0),MATCH('1. Program Details'!$B$3,'BLS Wage Rates'!$A$3:$Z$3,0)),0)","v":{"v":0,"d":"$0.00"}},{"v":0,"d":"$0.00"}]
[{"$nulls":3},{"$f":"IFERROR(INDEX('BLS Wage Rates'!$A$3:$Z$65,MATCH('3A. In-Kind Labor '!$B22,'BLS Wage Rates'!$A$3:$A$65,0),MATCH('1. Program Details'!$B$3,'BLS Wage Rates'!$A$3:$Z$3,0)),0)","v":{"v":0,"d":"$0.00"}},{"v":0,"d":"$0.00"}]
[{"$nulls":3},{"$f":"IFERROR(INDEX('BLS Wage Rates'!$A$3:$Z$65,MATCH('3A. In-Kind Labor '!$B23,'BLS Wage Rates'!$A$3:$A$65,0),MATCH('1. Program Details'!$B$3,'BLS Wage Rates'!$A$3:$Z$3,0)),0)","v":{"v":0,"d":"$0.00"}},{"v":0,"d":"$0.00"}]
[{"$nulls":3},{"$f":"IFERROR(INDEX('BLS Wage Rates'!$A$3:$Z$65,MATCH('3A. In-Kind Labor '!$B24,'BLS Wage Rates'!$A$3:$A$65,0),MATCH('1. Program Details'!$B$3,'BLS Wage Rates'!$A$3:$Z$3,0)),0)","v":{"v":0,"d":"$0.00"}},{"v":0,"d":"$0.00"}]
[{"$nulls":3},{"$f":"IFERROR(INDEX('BLS Wage Rates'!$A$3:$Z$65,MATCH('3A. In-Kind Labor '!$B25,'BLS Wage Rates'!$A$3:$A$65,0),MATCH('1. Program Details'!$B$3,'BLS Wage Rates'!$A$3:$Z$3,0)),0)","v":{"v":0,"d":"$0.00"}},{"v":0,"d":"$0.00"}]
[{"$nulls":3},{"$f":"IFERROR(INDEX('BLS Wage Rates'!$A$3:$Z$65,MATCH('3A. In-Kind Labor '!$B26,'BLS Wage Rates'!$A$3:$A$65,0),MATCH('1. Program Details'!$B$3,'BLS Wage Rates'!$A$3:$Z$3,0)),0)","v":{"v":0,"d":"$0.00"}},{"v":0,"d":"$0.00"}]
[{"$nulls":3},{"$f":"IFERROR(INDEX('BLS Wage Rates'!$A$3:$Z$65,MATCH('3A. In-Kind Labor '!$B27,'BLS Wage Rates'!$A$3:$A$65,0),MATCH('1. Program Details'!$B$3,'BLS Wage Rates'!$A$3:$Z$3,0)),0)","v":{"v":0,"d":"$0.00"}},{"v":0,"d":"$0.00"}]
[{"$nulls":3},{"$f":"IFERROR(INDEX('BLS Wage Rates'!$A$3:$Z$65,MATCH('3A. In-Kind Labor '!$B28,'BLS Wage Rates'!$A$3:$A$65,0),MATCH('1. Program Details'!$B$3,'BLS Wage Rates'!$A$3:$Z$3,0)),0)","v":{"v":0,"d":"$0.00"}},{"v":0,"d":"$0.00"}]
[{"$nulls":3},{"$f":"IFERROR(INDEX('BLS Wage Rates'!$A$3:$Z$65,MATCH('3A. In-Kind Labor '!$B29,'BLS Wage Rates'!$A$3:$A$65,0),MATCH('1. Program Details'!$B$3,'BLS Wage Rates'!$A$3:$Z$3,0)),0)","v":{"v":0,"d":"$0.00"}},{"v":0,"d":"$0.00"}]
[{"$nulls":3},{"$f":"IFERROR(INDEX('BLS Wage Rates'!$A$3:$Z$65,MATCH('3A. In-Kind Labor '!$B30,'BLS Wage Rates'!$A$3:$A$65,0),MATCH('1. Program Details'!$B$3,'BLS Wage Rates'!$A$3:$Z$3,0)),0)","v":{"v":0,"d":"$0.00"}},{"v":0,"d":"$0.00"}]
[{"$nulls":3},{"$f":"IFERROR(INDEX('BLS Wage Rates'!$A$3:$Z$65,MATCH('3A. In-Kind Labor '!$B31,'BLS Wage Rates'!$A$3:$A$65,0),MATCH('1. Program Details'!$B$3,'BLS Wage Rates'!$A$3:$Z$3,0)),0)","v":{"v":0,"d":"$0.00"}},{"v":0,"d":"$0.00"}]
[{"$nulls":3},{"$f":"IFERROR(INDEX('BLS Wage Rates'!$A$3:$Z$65,MATCH('3A. In-Kind Labor '!$B32,'BLS Wage Rates'!$A$3:$A$65,0),MATCH('1. Program Details'!$B$3,'BLS Wage Rates'!$A$3:$Z$3,0)),0)","v":{"v":0,"d":"$0.00"}},{"v":0,"d":"$0.00"}]
[{"$nulls":3},{"$f":"IFERROR(INDEX('BLS Wage Rates'!$A$3:$Z$65,MATCH('3A. In-Kind Labor '!$B33,'BLS Wage Rates'!$A$3:$A$65,0),MATCH('1. Program Details'!$B$3,'BLS Wage Rates'!$A$3:$Z$3,0)),0)","v":{"v":0,"d":"$0.00"}},{"v":0,"d":"$0.00"}]
[{"$nulls":3},{"$f":"IFERROR(INDEX('BLS Wage Rates'!$A$3:$Z$65,MATCH('3A. In-Kind Labor '!$B34,'BLS Wage Rates'!$A$3:$A$65,0),MATCH('1. Program Details'!$B$3,'BLS Wage Rates'!$A$3:$Z$3,0)),0)","v":{"v":0,"d":"$0.00"}},{"v":0,"d":"$0.00"}]
[{"$nulls":3},{"$f":"IFERROR(INDEX('BLS Wage Rates'!$A$3:$Z$65,MATCH('3A. In-Kind Labor '!$B35,'BLS Wage Rates'!$A$3:$A$65,0),MATCH('1. Program Details'!$B$3,'BLS Wage Rates'!$A$3:$Z$3,0)),0)","v":{"v":0,"d":"$0.00"}},{"v":0,"d":"$0.00"}]
[null,null,"Total:",null,{"$f":"SUM(E5:E35)","v":{"v":0,"d":"$0.00"}}]

{"sheet":"3B. In-Kind Non-Labor","index":3,"n_rows":37,"n_cols":11,"rows_kept":37,"merged":[[0,1,0,7],[1,1,1,7]]}
[null,"Worksheet for Estimating the Value of In-Kind Non-(Non-paid) Labor Contributions Per Award Year  (reference user guide - pg. 7)",{"$nulls":7},"Highlighting Key"]
[null,"Year 3 (08/01/2023 - 07/31/2024)",{"$nulls":8},"Orange = Enter program information"]
[null,"3B. Non-Labor (Non-paid) In-Kind Contributions","# of Units","$ Value per unit","Total Cost","Strategy (select all that apply)","Topic (select all that apply)","Comments",null,null,"Yellow = Automatically populated and/or to be entered by CDC"]
[null,"(e.g.) Donated rental facility for campaign kick-off event ",1,{"v":300,"d":"$300.00"},{"$f":"C4*D4","v":{"v":300,"d":"$300.00"}},"Data and Surveillance; Collaborations and Partnerships","Other Topic (please specify in comments)",{"$nulls":3},"Blue - Enter any comments, feedback, or questions"]
[null,"(e.g.) Dell Laptops",5,{"v":500,"d":"$500.00"},{"$f":"C5*D5","v":{"v":2500,"d":"$2,500.00"}},"Assessment and Evaluation","Adverse Childhood Experiences (ACEs); Transportation Safety",{"$nulls":3},"Light Gray = Examples for reference or N/A"]
[{"$nulls":4},{"$f":"C6*D6","v":{"v":0,"d":"$0.00"}}]
[{"$nulls":4},{"$f":"C7*D7","v":{"v":0,"d":"$0.00"}}]
[{"$nulls":4},{"v":0,"d":"$0.00"}]
[{"$nulls":4},{"v":0,"d":"$0.00"}]
[{"$nulls":4},{"v":0,"d":"$0.00"}]
[{"$nulls":4},{"v":0,"d":"$0.00"}]
[{"$nulls":4},{"v":0,"d":"$0.00"}]
[{"$nulls":4},{"v":0,"d":"$0.00"}]
[{"$nulls":4},{"v":0,"d":"$0.00"}]
[{"$nulls":4},{"v":0,"d":"$0.00"}]
[{"$nulls":4},{"v":0,"d":"$0.00"}]
[{"$nulls":4},{"v":0,"d":"$0.00"}]
[{"$nulls":4},{"v":0,"d":"$0.00"}]
[{"$nulls":4},{"v":0,"d":"$0.00"}]
[{"$nulls":4},{"v":0,"d":"$0.00"}]
[{"$nulls":4},{"v":0,"d":"$0.00"}]
[{"$nulls":4},{"v":0,"d":"$0.00"}]
[{"$nulls":4},{"v":0,"d":"$0.00"}]
[{"$nulls":4},{"v":0,"d":"$0.00"}]
[{"$nulls":4},{"v":0,"d":"$0.00"}]
[{"$nulls":4},{"v":0,"d":"$0.00"}]
[{"$nulls":4},{"v":0,"d":"$0.00"}]
[{"$nulls":4},{"v":0,"d":"$0.00"}]
[{"$nulls":4},{"v":0,"d":"$0.00"}]
[{"$nulls":4},{"v":0,"d":"$0.00"}]
[{"$nulls":4},{"v":0,"d":"$0.00"}]
[{"$nulls":4},{"v":0,"d":"$0.00"}]
[{"$nulls":4},{"v":0,"d":"$0.00"}]
[{"$nulls":4},{"v":0,"d":"$0.00"}]
[{"$nulls":4},{"v":0,"d":"$0.00"}]
[{"$nulls":4},{"v":0,"d":"$0.00"}]
[null,"Total:",null,null,{"$f":"SUM(E6:E36)","v":{"v":0,"d":"$0.00"}}]

{"sheet":"4. Personnel ","index":4,"n_rows":41,"n_cols":15,"rows_kept":41,"merged":[[0,0,0,10],[1,0,1,1],[1,5,1,7],[1,8,2,8],[1,9,2,9]]}
["Worksheet for Estimating Personnel Costs Per Award Year (reference user guide - pg. 8)",{"$nulls":12},"Highlighting Key"]
["Year 3 (08/01/2023 - 07/31/2024)",null,"FTE % (a full- time employee is  100%)","% Time Spent on Core SIPP  ","Months employed in program year","Salary (salaries are the total annual salaries paid to staff - not just the amounts related to Core SIPP activities)",null,null,"Total Salary Allocated to Core SIPP (Column C x Column D x Column H)","% of Total Core SIPP Cost (Column I) covered by non-Core SIPP Funding (i.e. was paid by one of your reported \"other sources of funding\")","Comments",{"$nulls":3},"Orange = Enter program information"]
[null,"Personnel",{"$nulls":3},"Annual FTE Base Salary","Annual FTE Fringe","Total Annual FTE Salary",{"$nulls":6},"Yellow = Automatically populated and/or to be entered by CDC"]
["(e.g)","Project Director",{"v":1,"d":"100.00%"},{"v":0.75,"d":"75.00%"},12,{"v":50000,"d":"$50,000.00"},{"v":15000,"d":"$15,000.00"},{"$f":"SUM(F4:G4)*E4/12","v":{"v":65000,"d":"$65,000.00"}},{"$f":"H4*C4*D4","v":{"v":48750,"d":"$48,750.00"}},{"v":0.5,"d":"50%"},{"$nulls":4},"Blue - Enter any comments, feedback, or questions"]
["(e.g)","Epidemiologist",{"v":1,"d":"100.00%"},{"v":0.5,"d":"50.00%"},9,{"v":30000,"d":"$30,000.00"},{"v":15000,"d":"$15,000.00"},{"$f":"SUM(F5:G5)*E5/12","v":{"v":33750,"d":"$33,750.00"}},{"$f":"H5*C5*D5","v":{"v":16875,"d":"$16,875.00"}},{"v":0,"d":"0%"},{"$nulls":4},"Light Gray = Examples for reference or N/A"]
[1,{"$nulls":6},{"$f":"SUM(F6:G6)*E6/12","v":{"v":0,"d":"$0.00"}},{"$f":"H6*C6*D6","v":{"v":0,"d":"$0.00"}}]
[{"$f":"A6+1","v":2},{"$nulls":6},{"$f":"SUM(F7:G7)*E7/12","v":{"v":0,"d":"$0.00"}},{"$f":"H7*C7*D7","v":{"v":0,"d":"$0.00"}}]
[{"$f":"A7+1","v":3},{"$nulls":6},{"$f":"SUM(F8:G8)*(E8/12)","v":{"v":0,"d":"$0.00"}},{"v":0,"d":"$0.00"}]
[4,{"$nulls":6},{"$f":"SUM(F9:G9)*(E9/12)","v":{"v":0,"d":"$0.00"}},{"v":0,"d":"$0.00"}]
[5,{"$nulls":6},{"v":0,"d":"$0.00"},{"v":0,"d":"$0.00"}]
[6,{"$nulls":6},{"v":0,"d":"$0.00"},{"v":0,"d":"$0.00"}]
[7,{"$nulls":6},{"v":0,"d":"$0.00"},{"v":0,"d":"$0.00"}]
[8,{"$nulls":6},{"v":0,"d":"$0.00"},{"v":0,"d":"$0.00"}]
[9,{"$nulls":6},{"v":0,"d":"$0.00"},{"v":0,"d":"$0.00"}]
[10,{"$nulls":6},{"v":0,"d":"$0.00"},{"v":0,"d":"$0.00"}]
[11,{"$nulls":6},{"v":0,"d":"$0.00"},{"v":0,"d":"$0.00"}]
[12,{"$nulls":6},{"v":0,"d":"$0.00"},{"v":0,"d":"$0.00"}]
[13,{"$nulls":6},{"v":0,"d":"$0.00"},{"v":0,"d":"$0.00"}]
[14,{"$nulls":6},{"v":0,"d":"$0.00"},{"v":0,"d":"$0.00"}]
[15,{"$nulls":6},{"v":0,"d":"$0.00"},{"v":0,"d":"$0.00"}]
[16,{"$nulls":6},{"$f":"SUM(F21:G21)*(E21/12)","v":{"v":0,"d":"$0.00"}},{"$f":"H21*C21*D21","v":{"v":0,"d":"$0.00"}}]
[17,{"$nulls":6},{"v":0,"d":"$0.00"},{"v":0,"d":"$0.00"}]
[18,{"$nulls":6},{"v":0,"d":"$0.00"},{"v":0,"d":"$0.00"}]
[19,{"$nulls":6},{"v":0,"d":"$0.00"},{"v":0,"d":"$0.00"}]
[20,{"$nulls":6},{"v":0,"d":"$0.00"},{"v":0,"d":"$0.00"}]
[21,{"$nulls":6},{"v":0,"d":"$0.00"},{"v":0,"d":"$0.00"}]
[22,{"$nulls":6},{"v":0,"d":"$0.00"},{"v":0,"d":"$0.00"}]
[23,{"$nulls":6},{"$f":"SUM(F28:G28)*(E28/12)","v":{"v":0,"d":"$0.00"}},{"$f":"H28*C28*D28","v":{"v":0,"d":"$0.00"}}]
[24,{"$nulls":6},{"v":0,"d":"$0.00"},{"v":0,"d":"$0.00"}]
[25,{"$nulls":6},{"v":0,"d":"$0.00"},{"v":0,"d":"$0.00"}]
[26,{"$nulls":6},{"v":0,"d":"$0.00"},{"v":0,"d":"$0.00"}]
[27,{"$nulls":6},{"v":0,"d":"$0.00"},{"v":0,"d":"$0.00"}]
[28,{"$nulls":6},{"v":0,"d":"$0.00"},{"v":0,"d":"$0.00"}]
[29,{"$nulls":6},{"v":0,"d":"$0.00"},{"v":0,"d":"$0.00"}]
[30,{"$nulls":6},{"v":0,"d":"$0.00"},{"v":0,"d":"$0.00"}]
[31,{"$nulls":6},{"v":0,"d":"$0.00"},{"v":0,"d":"$0.00"}]
[32,{"$nulls":6},{"v":0,"d":"$0.00"},{"v":0,"d":"$0.00"}]
[33,{"$nulls":6},{"v":0,"d":"$0.00"},{"v":0,"d":"$0.00"}]
[34,{"$nulls":6},{"v":0,"d":"$0.00"},{"v":0,"d":"$0.00"}]
[35,{"$nulls":6},{"v":0,"d":"$0.00"},{"v":0,"d":"$0.00"}]
[{"$nulls":4},"Total: ",{"$f":"SUM(F6:F40)","v":{"v":0,"d":"$0"}},{"$f":"SUM(G6:G40)","v":{"v":0,"d":"$0"}},{"$f":"SUM(H6:H40)","v":{"v":0,"d":"$0"}},{"$f":"SUM(I6:I40)","v":{"v":0,"d":"$0"}}]

{"sheet":"5. Personnel Strategies","index":5,"n_rows":9,"n_cols":39,"rows_kept":9,"merged":[[0,0,1,2],[0,3,1,37],[0,38,1,38]]}
["Worksheet for recording percentage of time spent on each specific strategy, by each staff member, per award year (reference user guide - pg. 9)",null,null,"Year 3 (08/01/2023 - 07/31/2024)",{"$nulls":34},"Comments"]
[]
[null,{"$f":"'4. Personnel '!B4","v":"Project Director"},{"$f":"'4. Personnel '!B5","v":"Epidemiologist"},{"$f":"TRANSPOSE('4. Personnel '!B6:B40)","v":0},0,0,0,0,0,0,0,0,0,0,0,0,0,0,0,0,0,0,0,0,0,0,0,0,0,0,0,0,0,0,0,0,0,0]
["Data and Surveillance",{"v":0.25,"d":"25.00%"},{"v":0.5,"d":"50.00%"}]
["Collaborations and Partnerships",{"v":0.25,"d":"25.00%"}]
["Assessment and Evaluation ",{"v":0.5,"d":"50.00%"},{"v":0.5,"d":"50.00%"}]
["Total (Column total must sum to 100%)",{"$f":"SUM(B4:B6)","v":{"v":1,"d":"100%"}},{"v":1,"d":"100%"},{"v":0,"d":"0%"},{"v":0,"d":"0%"},{"v":0,"d":"0%"},{"v":0,"d":"0%"},{"v":0,"d":"0%"},{"v":0,"d":"0%"},{"v":0,"d":"0%"},{"v":0,"d":"0%"},{"v":0,"d":"0%"},{"v":0,"d":"0%"},{"v":0,"d":"0%"},{"v":0,"d":"0%"},{"v":0,"d":"0%"},{"v":0,"d":"0%"},{"v":0,"d":"0%"},{"v":0,"d":"0%"},{"v":0,"d":"0%"},{"v":0,"d":"0%"},{"v":0,"d":"0%"},{"v":0,"d":"0%"},{"v":0,"d":"0%"},{"v":0,"d":"0%"},{"v":0,"d":"0%"},{"v":0,"d":"0%"},{"v":0,"d":"0%"},{"v":0,"d":"0%"},{"v":0,"d":"0%"},{"v":0,"d":"0%"},{"v":0,"d":"0%"},{"v":0,"d":"0%"},{"v":0,"d":"0%"},{"v":0,"d":"0%"},{"v":0,"d":"0%"},{"v":0,"d":"0%"},{"v":0,"d":"0%"}]
["Comments"]
["Check: Total= 100% for each staff member (otherwise 0%)",null,null,{"$f":"IF(D3=0,IF(D7=0%,\"ok\",\"ERROR\"),IF(D7=100%,\"ok\",\"ERROR\"))","v":"ok"},"ok","ok","ok","ok","ok","ok","ok","ok","ok","ok","ok","ok","ok","ok","ok","ok","ok","ok","ok","ok","ok","ok","ok","ok","ok","ok","ok","ok","ok","ok","ok","ok","ok","ok"]

{"sheet":"6. Personnel Topics","index":6,"n_rows":12,"n_cols":39,"rows_kept":12,"merged":[[0,0,1,2],[0,3,1,37],[0,38,1,38]]}
["Worksheet for recording percentage of time spent on each specific topic, by each staff member, per award year (reference user guide - pg. 10)",null,null,"Year 3 (08/01/2023 - 07/31/2024)",{"$nulls":34},"Comments"]
[]
[null,{"$f":"'4. Personnel '!B4","v":"Project Director"},{"$f":"'4. Personnel '!B5","v":"Epidemiologist"},{"$f":"TRANSPOSE('4. Personnel '!B6:B40)","v":0},0,0,0,0,0,0,0,0,0,0,0,0,0,0,0,0,0,0,0,0,0,0,0,0,0,0,0,0,0,0,0,0,0,0]
["Adverse Childhood Experiences (ACEs)",{"v":0.25,"d":"25.00%"},{"v":0.3333,"d":"33.33%"}]
["Transportation Safety",{"v":0.25,"d":"25.00%"},{"v":0.3333,"d":"33.33%"}]
["Traumatic Brain Injury",{"v":0.25,"d":"25.00%"},{"v":0.3334,"d":"33.34%"}]
["Other Topic (please specify in comments)",{"v":0.25,"d":"25.00%"},{"$nulls":36},"Suicide Prevention"]
["Other Topic (please specify in comments)"]
["Other Topic (please specify in comments)"]
["Total (Column total must sum to 100%)",{"$f":"SUM(B4:B9)","v":{"v":1,"d":"100%"}},{"v":1,"d":"100%"},{"v":0,"d":"0%"},{"$f":"SUM(E4:E9)","v":{"v":0,"d":"0%"}},{"v":0,"d":"0%"},{"v":0,"d":"0%"},{"v":0,"d":"0%"},{"v":0,"d":"0%"},{"v":0,"d":"0%"},{"v":0,"d":"0%"},{"v":0,"d":"0%"},{"v":0,"d":"0%"},{"v":0,"d":"0%"},{"v":0,"d":"0%"},{"v":0,"d":"0%"},{"v":0,"d":"0%"},{"v":0,"d":"0%"},{"v":0,"d":"0%"},{"v":0,"d":"0%"},{"v":0,"d":"0%"},{"v":0,"d":"0%"},{"v":0,"d":"0%"},{"v":0,"d":"0%"},{"v":0,"d":"0%"},{"v":0,"d":"0%"},{"v":0,"d":"0%"},{"v":0,"d":"0%"},{"v":0,"d":"0%"},{"v":0,"d":"0%"},{"v":0,"d":"0%"},{"v":0,"d":"0%"},{"v":0,"d":"0%"},{"v":0,"d":"0%"},{"v":0,"d":"0%"},{"v":0,"d":"0%"},{"v":0,"d":"0%"},{"v":0,"d":"0%"}]
["Comments"]
["Check: Total= 100% for each staff member (otherwise 0%)",null,null,{"$f":"IF(D3=0,IF(D10=0%,\"ok\",\"ERROR\"),IF(D10=100%,\"ok\",\"ERROR\"))","v":"ok"},{"$f":"IF(E3=0,IF(E10=0%,\"ok\",\"ERROR\"),IF(E10=100%,\"ok\",\"ERROR\"))","v":"ok"},"ok","ok","ok","ok","ok","ok","ok","ok","ok","ok","ok","ok","ok","ok","ok","ok","ok","ok","ok","ok","ok","ok","ok","ok","ok","ok","ok","ok","ok","ok","ok","ok","ok"]

{"sheet":"7. Consultant Costs","index":7,"n_rows":31,"n_cols":10,"rows_kept":31,"merged":[[0,0,0,6],[1,0,1,4]]}
["Worksheet for Estimating Consultant Costs Per Award Year (reference user guide - pg. 11)",{"$nulls":7},"Highlighting Key"]
["Year 3 (08/01/2023 - 07/31/2024)",{"$nulls":8},"Orange = Enter program information"]
[null,"Type of Good/Service Purchased","Annual Payment","Strategy (select all that apply)","Topic (select all that apply)","% of Payment covered by non-Core SIPP Funding (i.e. was paid by one of your reported \"other sources of funding\"","Comments",null,null,"Yellow = Automatically populated and/or to be entered by CDC"]
["(e.g.)","Software Developer",{"v":10000,"d":"$10,000.00"},"Data and Surveillance; Collaborations and Partnerships","Adverse Childhood Experiences (ACEs)",{"v":0.5,"d":"50.0%"},{"$nulls":3},"Blue - Enter any comments, feedback, or questions"]
["(e.g.)","Communications Advisor",{"v":25000,"d":"$25,000.00"},"Assessment and Evaluation ","Transportation Safety; Other Topic (please specify in comments)",{"v":0.75,"d":"75.0%"},{"$nulls":3},"Light Gray = Examples for reference or N/A"]
[1]
[{"$f":"A6+1","v":2}]
[{"$f":"A7+1","v":3}]
[4]
[5]
[6]
[7]
[8]
[9]
[10]
[11]
[12]
[13]
[14]
[15]
[16]
[17]
[18]
[19]
[20]
[21]
[22]
[23]
[24]
[25]
[null,"Total ",{"$f":"SUM(C6:C30)","v":{"v":0,"d":"$0.00"}}]

{"sheet":"8. Contracts","index":8,"n_rows":31,"n_cols":10,"rows_kept":31,"merged":[[0,0,0,6],[1,0,1,5]]}
["Worksheet for Estimating Contracts Per Award Year (reference user guide - pg. 12)"]
["Year 3 (08/01/2023 - 07/31/2024)",{"$nulls":7},"Highlighting Key"]
[null,"Type of Good/Service Purchased","Contract Amount","Strategy (select all that apply)","Topic (select all that apply)","% of Payment covered by non-Core SIPP Funding (i.e. was paid by one of your reported \"other sources of funding\"","Comments",null,null,"Orange = Enter program information"]
["(e.g.)","Sub-award to University for evaluation",{"v":50000,"d":"$50,000.00"},"Assessment and Evaluation; Data and Surveillance","Adverse Childhood Experiences (ACEs)",{"v":0.5,"d":"50.00%"},{"$nulls":3},"Yellow = Automatically populated and/or to be entered by CDC"]
["(e.g.)","Marketing Vendor",{"v":25000,"d":"$25,000.00"},"Collaborations and Partnerships","Transportation Safety; Traumatic Brain Injury",{"v":0.6,"d":"60.00%"},{"$nulls":3},"Blue - Enter any comments, feedback, or questions"]
[1,{"$nulls":8},"Light Gray = Examples for reference or N/A"]
[{"$f":"A6+1","v":2}]
[{"$f":"A7+1","v":3}]
[4]
[5]
[6]
[7]
[8]
[9]
[10]
[11]
[12]
[13]
[14]
[15]
[16]
[17]
[18]
[19]
[20]
[21]
[22]
[23]
[24]
[25]
[null,"Total :",{"$f":"SUM(C6:C30)","v":{"v":0,"d":"$0.00"}}]

{"sheet":"9. Supplies","index":9,"n_rows":59,"n_cols":14,"rows_kept":59,"merged":[[0,1,0,10],[1,1,1,10]]}
[null,"Worksheet for Estimating Training and Material Costs Per Award Year (reference user guide - pg. 13)",{"$nulls":10},"Highlighting Key"]
[null,"Year 3 (08/01/2023 - 07/31/2024)",{"$nulls":11},"Orange = Enter program information"]
[null,"Category ","Type of Good/Service Purchased","# Units"," Cost per Unit ($)"," Total Cost","Total Cost (Enter total here only if # units and cost per unit are unknown)","Strategy (select all that apply)","Topic (select all that apply)","% of Payment covered by non-Core SIPP Funding (i.e. was paid by one of your reported \"other sources of funding\"","Comments ",null,null,"Yellow = Automatically populated and/or to be entered by CDC"]
[null,"Office Equipment","(e.g.) Dell Computers",5,{"v":1200,"d":"$1,200.00"},{"$f":"D4*E4","v":{"v":6000,"d":"$6,000.00"}},null,"Data and Surveillance","Traumatic Brain Injury",{"v":0.2,"d":"20%"},{"$nulls":3},"Blue - Enter any comments, feedback, or questions"]
[null,"Postage/Mailing","(e.g.) Stamps",500,{"v":0.45,"d":"$0.45"},{"v":225,"d":"$225.00"},null,"Assessment and Evaluation","Adverse Childhood Experiences (ACEs); Other Topic (please specify in comments)",{"v":0.3,"d":"30%"},{"$nulls":3},"Light Gray = Examples for reference or N/A"]
[null,"Software","(e.g) NVivo",2,{"v":400,"d":"$400.00"},{"v":800,"d":"$800.00"},null,"Collaborations and Partnerships; Data and Surveillance","Transportation Safety",{"v":0.75,"d":"75%"}]
[null,"Incentives/Stipends","(e.g) Gift Cards",50,{"v":20,"d":"$20.00"},{"v":1000,"d":"$1,000.00"},null,"Assessment and Evaluation","Other Topic (please specify in comments)",{"v":1,"d":"100%"}]
[null,"Training Fees ","(e.g.) ACEs Training",1,{"v":300,"d":"$300.00"},{"v":300,"d":"$300.00"},null,"Data and Surveillance; Assessment and Evaluation; Collaborations and Partnerships","Adverse Childhood Experiences (ACEs); Transportation Safety; Traumatic Brain Injury",{"v":1,"d":"100%"}]
[1,{"$nulls":4},{"$f":"D9*E9","v":{"v":0,"d":"$0.00"}}]
[{"$f":"A9+1","v":2},{"$nulls":4},{"v":0,"d":"$0.00"}]
[{"$f":"A10+1","v":3},{"$nulls":4},{"v":0,"d":"$0.00"}]
[4,{"$nulls":4},{"v":0,"d":"$0.00"}]
[5,{"$nulls":4},{"v":0,"d":"$0.00"}]
[6,{"$nulls":4},{"v":0,"d":"$0.00"}]
[7,{"$nulls":4},{"v":0,"d":"$0.00"}]
[8,{"$nulls":4},{"v":0,"d":"$0.00"}]
[9,{"$nulls":4},{"v":0,"d":"$0.00"}]
[10,{"$nulls":4},{"v":0,"d":"$0.00"}]
[11,{"$nulls":4},{"v":0,"d":"$0.00"}]
[12,{"$nulls":4},{"v":0,"d":"$0.00"}]
[13,{"$nulls":4},{"v":0,"d":"$0.00"}]
[14,{"$nulls":4},{"v":0,"d":"$0.00"}]
[15,{"$nulls":4},{"v":0,"d":"$0.00"}]
[16,{"$nulls":4},{"v":0,"d":"$0.00"}]
[17,{"$nulls":4},{"v":0,"d":"$0.00"}]
[18,{"$nulls":4},{"v":0,"d":"$0.00"}]
[19,{"$nulls":4},{"v":0,"d":"$0.00"}]
[20,{"$nulls":4},{"v":0,"d":"$0.00"}]
[21,{"$nulls":4},{"v":0,"d":"$0.00"}]
[22,{"$nulls":4},{"v":0,"d":"$0.00"}]
[23,{"$nulls":4},{"v":0,"d":"$0.00"}]
[24,{"$nulls":4},{"v":0,"d":"$0.00"}]
[25,{"$nulls":4},{"v":0,"d":"$0.00"}]
[26,{"$nulls":4},{"v":0,"d":"$0.00"}]
[27,{"$nulls":4},{"v":0,"d":"$0.00"}]
[28,{"$nulls":4},{"v":0,"d":"$0.00"}]
[29,{"$nulls":4},{"v":0,"d":"$0.00"}]
[30,{"$nulls":4},{"v":0,"d":"$0.00"}]
[31,{"$nulls":4},{"v":0,"d":"$0.00"}]
[32,{"$nulls":4},{"v":0,"d":"$0.00"}]
[33,{"$nulls":4},{"v":0,"d":"$0.00"}]
[34,{"$nulls":4},{"v":0,"d":"$0.00"}]
[35,{"$nulls":4},{"v":0,"d":"$0.00"}]
[36,{"$nulls":4},{"v":0,"d":"$0.00"}]
[37,{"$nulls":4},{"v":0,"d":"$0.00"}]
[38,{"$nulls":4},{"v":0,"d":"$0.00"}]
[39,{"$nulls":4},{"v":0,"d":"$0.00"}]
[40,{"$nulls":4},{"v":0,"d":"$0.00"}]
[41,{"$nulls":4},{"v":0,"d":"$0.00"}]
[42,{"$nulls":4},{"v":0,"d":"$0.00"}]
[43,{"$nulls":4},{"v":0,"d":"$0.00"}]
[44,{"$nulls":4},{"v":0,"d":"$0.00"}]
[45,{"$nulls":4},{"v":0,"d":"$0.00"}]
[46,{"$nulls":4},{"v":0,"d":"$0.00"}]
[47,{"$nulls":4},{"v":0,"d":"$0.00"}]
[48,{"$nulls":4},{"v":0,"d":"$0.00"}]
[49,{"$nulls":4},{"v":0,"d":"$0.00"}]
[50,{"$nulls":4},{"v":0,"d":"$0.00"}]
[null," ",null,"Total :",null,{"$f":"SUM(F9:F58)","v":{"v":0,"d":"$0.00"}},{"$f":"SUM(G9:G58)","v":{"v":0,"d":"$0.00"}}]

{"sheet":"10a. Travel (Local)","index":10,"n_rows":41,"n_cols":17,"rows_kept":41,"merged":[[0,0,0,13],[1,0,1,13],[40,1,40,10]]}
["Worksheet for Estimating Local Transportation Costs Per Award Year (reference user guide - pg. 14)",{"$nulls":14},"Highlighting Key"]
["Year 3 (08/01/2023 - 07/31/2024)",{"$nulls":15},"Orange = Enter program information"]
[null," Local Transportation","Event Description","Mileage (POV only)","POV Mileage Rate ","Rental Car Fee","Bus/Train Transit Fare","Taxi/Lyft/Uber Fare","Parking Fees","Strategy (select all that apply)","Topic (select all that apply)","Total Cost ","% of Payment covered by non-Core SIPP Funding (i.e. was paid by one of your reported \"other sources of funding\"","Comments ",null,null,"Yellow = Automatically populated and/or to be entered by CDC"]
[null,"(e.g) Personally Owned Vehicle (POV)","Training  ",26.2,{"v":0.545,"d":"0.55"},{"$nulls":3},{"v":10,"d":"$10.00"},"Data and Surveillance","Other Topic (please specify in comments)",{"$f":"(D4*E4)+SUM(F4:I4)","v":{"v":24.279,"d":"$24.28"}},{"v":0.25,"d":"25%"},{"$nulls":3},"Blue - Enter any comments, feedback, or questions"]
[null,"(e.g.) Train",{"$nulls":4},{"v":35,"d":"$35.00"},null,null,"Collaborations and Partnerships; Assessment and Evaluation","Traumatic Brain Injury",{"$f":"(D5*E5)+SUM(F5:I5)","v":{"v":35,"d":"$35.00"}},{"v":1,"d":"100%"},{"$nulls":3},"Light Gray = Examples for reference or N/A"]
[1,{"$nulls":10},{"v":0,"d":"$0.00"}]
[{"$f":"A6+1","v":2},{"$nulls":10},{"v":0,"d":"$0.00"}]
[{"$f":"A7+1","v":3},{"$nulls":10},{"v":0,"d":"$0.00"}]
[4,{"$nulls":10},{"v":0,"d":"$0.00"}]
[5,{"$nulls":10},{"v":0,"d":"$0.00"}]
[6,{"$nulls":10},{"v":0,"d":"$0.00"}]
[7,{"$nulls":10},{"v":0,"d":"$0.00"}]
[8,{"$nulls":10},{"v":0,"d":"$0.00"}]
[9,{"$nulls":10},{"v":0,"d":"$0.00"}]
[10,{"$nulls":10},{"v":0,"d":"$0.00"}]
[11,{"$nulls":10},{"v":0,"d":"$0.00"}]
[12,{"$nulls":10},{"v":0,"d":"$0.00"}]
[13,{"$nulls":10},{"v":0,"d":"$0.00"}]
[14,{"$nulls":10},{"v":0,"d":"$0.00"}]
[15,{"$nulls":10},{"v":0,"d":"$0.00"}]
[16,{"$nulls":10},{"v":0,"d":"$0.00"}]
[17,{"$nulls":10},{"v":0,"d":"$0.00"}]
[18,{"$nulls":10},{"v":0,"d":"$0.00"}]
[19,{"$nulls":10},{"v":0,"d":"$0.00"}]
[20,{"$nulls":10},{"v":0,"d":"$0.00"}]
[21,{"$nulls":10},{"v":0,"d":"$0.00"}]
[22,{"$nulls":10},{"v":0,"d":"$0.00"}]
[23,{"$nulls":10},{"v":0,"d":"$0.00"}]
[24,{"$nulls":10},{"v":0,"d":"$0.00"}]
[25,{"$nulls":10},{"v":0,"d":"$0.00"}]
[26,{"$nulls":10},{"v":0,"d":"$0.00"}]
[27,{"$nulls":10},{"v":0,"d":"$0.00"}]
[28,{"$nulls":10},{"v":0,"d":"$0.00"}]
[29,{"$nulls":10},{"v":0,"d":"$0.00"}]
[30,{"$nulls":10},{"v":0,"d":"$0.00"}]
[31,{"$nulls":10},{"v":0,"d":"$0.00"}]
[32,{"$nulls":10},{"v":0,"d":"$0.00"}]
[33,{"$nulls":10},{"v":0,"d":"$0.00"}]
[34,{"$nulls":10},{"v":0,"d":"$0.00"}]
[35,{"$nulls":10},{"$f":"(D40*E40)+(F40+G40)","v":{"v":0,"d":"$0.00"}}]
[null,"Total: ",{"$nulls":9},{"$f":"SUM(L6:L40)","v":{"v":0,"d":"$0.00"}}]

{"sheet":"10b. Travel (Non-Local)","index":11,"n_rows":41,"n_cols":13,"rows_kept":41,"merged":[[0,1,0,9],[1,1,1,9]]}
[null,"Worksheet for Estimating Non-Local Travel and Transportation Costs Per Award Year (reference user guide - pg. 14)",{"$nulls":9},"Highlighting Key"]
[null,"Year 3 (08/01/2023 - 07/31/2024)",{"$nulls":10},"Orange = Enter program information"]
[null,"Travel","# People/Units"," Cost per Person/Unit ($)"," Total Cost","Total Cost (Enter total here only if # units and cost per unit are unknown)","Strategy (select all that apply)","Topic (select all that apply)","% of Payment covered by non-Core SIPP Funding (i.e. was paid by one of your reported \"other sources of funding\"","Comments ",null,null,"Yellow = Automatically populated and/or to be entered by CDC"]
[null,"APHA Conference ",4,{"v":1200,"d":"$1,200.00"},{"$f":"C4*D4","v":{"v":4800,"d":"$4,800.00"}},null,"Data and Surveillance; Collaborations and Partnerships","Adverse Childhood Experiences (ACEs)",{"v":0.6,"d":"60%"},{"$nulls":3},"Blue - Enter any comments, feedback, or questions"]
[null,"Safe States Meeting",3,{"v":550,"d":"$550.00"},{"v":1650,"d":"$1,650.00"},null,"Assessment and Evaluation","Transportation Safety; Other Topic (please specify in comments)",{"v":0,"d":"0%"},{"$nulls":3},"Light Gray = Examples for reference or N/A"]
[1,{"$nulls":3},{"v":0,"d":"$0.00"}]
[{"$f":"A6+1","v":2},{"$nulls":3},{"v":0,"d":"$0.00"}]
[{"$f":"A7+1","v":3},{"$nulls":3},{"v":0,"d":"$0.00"}]
[4,{"$nulls":3},{"v":0,"d":"$0.00"}]
[5,{"$nulls":3},{"v":0,"d":"$0.00"}]
[6,{"$nulls":3},{"v":0,"d":"$0.00"}]
[7,{"$nulls":3},{"v":0,"d":"$0.00"}]
[8,{"$nulls":3},{"v":0,"d":"$0.00"}]
[9,{"$nulls":3},{"v":0,"d":"$0.00"}]
[10,{"$nulls":3},{"v":0,"d":"$0.00"}]
[11,{"$nulls":3},{"v":0,"d":"$0.00"}]
[12,{"$nulls":3},{"v":0,"d":"$0.00"}]
[13,{"$nulls":3},{"v":0,"d":"$0.00"}]
[14,{"$nulls":3},{"v":0,"d":"$0.00"}]
[15,{"$nulls":3},{"v":0,"d":"$0.00"}]
[16,{"$nulls":3},{"v":0,"d":"$0.00"}]
[17,{"$nulls":3},{"v":0,"d":"$0.00"}]
[18,{"$nulls":3},{"v":0,"d":"$0.00"}]
[19,{"$nulls":3},{"v":0,"d":"$0.00"}]
[20,{"$nulls":3},{"v":0,"d":"$0.00"}]
[21,{"$nulls":3},{"v":0,"d":"$0.00"}]
[22,{"$nulls":3},{"v":0,"d":"$0.00"}]
[23,{"$nulls":3},{"v":0,"d":"$0.00"}]
[24,{"$nulls":3},{"v":0,"d":"$0.00"}]
[25,{"$nulls":3},{"v":0,"d":"$0.00"}]
[26,{"$nulls":3},{"v":0,"d":"$0.00"}]
[27,{"$nulls":3},{"v":0,"d":"$0.00"}]
[28,{"$nulls":3},{"v":0,"d":"$0.00"}]
[29,{"$nulls":3},{"v":0,"d":"$0.00"}]
[30,{"$nulls":3},{"v":0,"d":"$0.00"}]
[31,{"$nulls":3},{"v":0,"d":"$0.00"}]
[32,{"$nulls":3},{"v":0,"d":"$0.00"}]
[33,{"$nulls":3},{"v":0,"d":"$0.00"}]
[34,{"$nulls":3},{"v":0,"d":"$0.00"}]
[35,{"$nulls":3},{"v":0,"d":"$0.00"}]
[null," ","Total :",null,{"$f":"SUM(E6:E40)","v":{"v":0,"d":"$0.00"}},{"$f":"SUM(F6:F40)","v":{"v":0,"d":"$0.00"}}]

{"sheet":"11. Administrative","index":12,"n_rows":18,"n_cols":9,"rows_kept":18,"merged":[[0,0,0,5],[1,0,1,3],[1,5,2,5],[4,0,4,1],[5,0,5,1],[8,1,8,2],[9,1,9,2],[10,1,10,2],[11,1,11,2],[12,1,12,2],[13,1,13,2],[14,1,14,2],[15,1,15,2],[17,1,17,2]]}
["Worksheet for Estimating Administrative (Overhead) Costs Per Award Year (reference user guide - pg. 15)",{"$nulls":6},"Highlighting Key"]
["Year 3 (08/01/2023 - 07/31/2024)",{"$nulls":4},"Comments ",null,null,"Orange = Enter program information"]
["11A. Allocation Methodology","Yes/No","%","$ Amount","% of Payment covered by non-Core SIPP Funding (i.e. was paid by one of your reported \"other sources of funding\"",{"$nulls":3},"Yellow = Automatically populated and/or to be entered by CDC"]
["Is administrative overhead charged as a proportion of direct cost? (Yes/No)→","No",{"$nulls":6},"Blue - Enter any comments, feedback, or questions"]
["—  If yes, please indicate indirect cost rate (%) in percent column and dollar amount in amount column →",{"$nulls":7},"Light Gray = Examples for reference or N/A"]
["— If no, please provide lump-sum payment amount in amount column and proceed to Section 11B.  →"]
["Other: please specify in comments "]
[null,null,"Total 11A :",{"$f":"SUM(D5:D7)","v":{"v":0,"d":"$0.00"}}]
["11B. If lump sum payment, indicate by Yes/No if the following costs are included in the administrative or overhead costs reported above. If these are paid for as specific line item charges in addition to the administrative costs, please provide the dollar amount in the amount column.","Yes/No \n(If no, please provide amount in amount column) ",null,"$ Amount","% of Payment covered by non-Core SIPP Funding (i.e. was paid by one of your reported \"other sources of funding\""]
["Rent for office space "]
["Utilities (Water, Gas, Electric)"]
["Repairs/maintenance"]
["Network connection/maintenance (i.e. internet connection charge)"]
["Phone Service (i.e. local phone service, long distance or cell phone charges)"]
["Shared office equipment"]
["Other costs: Please specify in comments"]
[null,null,"Total  11B :",{"$f":"SUM(D10:D16)","v":{"v":0,"d":"$0.00"}}]
[null,"Total Administrative Overhead ",null,{"$f":"SUM(D8+D17)","v":{"v":0,"d":"$0.00"}}]

{"sheet":"12.Partner Involvement","index":13,"n_rows":1000,"n_cols":11,"rows_kept":1000,"merged":[[0,1,0,8],[1,1,1,8]]}
[null,"Worksheet for Estimating the Value of Partner Involvement Per Award Year (reference user guide - pg. 16)",{"$nulls":7},"Highlighting Key"]
[null,"Year 3 (08/01/2023 - 07/31/2024)",{"$nulls":8},"Orange = Enter program information"]
[null,"Meeting Date ","Please provide a brief description of the meeting:","How many partners attended the meeting (Do not include Core SIPP personnel/staff of the health department)","Meeting duration (How many hours (on average) is each meeting?)","Please select the roles that best describe the meeting attendees:","Strategy (select all that apply)","Topic (select all that apply)","Comments ",null,"Yellow = Automatically populated and/or to be entered by CDC"]
["(e.g.)","2021-01-31","Meeting A was a meeting with the physician board of Hospital X to discuss rates and prevention strategis of motor vehicle deaths.",25,1,"Medical Director","Data and Surveillance; Collaborations and Partnerships","Transportation Safety",null,null,"Blue - Enter any comments, feedback, or questions"]
["(e.g.)","2021-01-31","Meeting B was a tabling event where students from high schools across the county were provided pamphlets on suicide prevention.",10,1,"Health Program Coordinator","Data and Surveillance","Other Topic (please specify in comments); Adverse Childhood Experiences (ACEs)","Other Strategy: Outreach\nOther Topic: Suicide prevention",null,"Light Gray = Examples for reference or N/A"]
[1]
[2]
[3]
[4]
[5]
[6]
[7]
[8]
[9]
[10]
[11]
[12]
[13]
[14]
[15]
[16]
[17]
[18]
[19]
[20]
[21]
[22]
[23]
[24]
[25]
[26]
[27]
[28]
[29]
[30]
[31]
[32]
[33]
[34]
[35]
[36]
[37]
[38]
[39]
[40]
[41]
[42]
[43]
[44]
[45]
[46]
[47]
[48]
[49]
[50]
[51]
[52]
[53]
[54]
[55]
[56]
[57]
[58]
[59]
[60]
[61]
[62]
[63]
[64]
[65]
[66]
[67]
[68]
[69]
[70]
[71]
[72]
[73]
[74]
[75]
[76]
[77]
[78]
[79]
[80]
[81]
[82]
[83]
[84]
[85]
[86]
[87]
[88]
[89]
[90]
[91]
[92]
[93]
[94]
[95]
[96]
[97]
[98]
[99]
[100]
[101]
[102]
[103]
[104]
[105]
[106]
[107]
[108]
[109]
[110]
[111]
[112]
[113]
[114]
[115]
[116]
[117]
[118]
[119]
[120]
[121]
[122]
[123]
[124]
[125]
[126]
[127]
[128]
[129]
[130]
[131]
[132]
[133]
[134]
[135]
[136]
[137]
[138]
[139]
[140]
[141]
[142]
[143]
[144]
[145]
[146]
[147]
[148]
[149]
[150]
[151]
[152]
[153]
[154]
[155]
[156]
[157]
[158]
[159]
[160]
[161]
[162]
[163]
[164]
[165]
[166]
[167]
[168]
[169]
[170]
[171]
[172]
[173]
[174]
[175]
[176]
[177]
[178]
[179]
[180]
[181]
[182]
[183]
[184]
[185]
[186]
[187]
[188]
[189]
[190]
[191]
[192]
[193]
[194]
[195]
[196]
[197]
[198]
[199]
[200]
[201]
[202]
[203]
[204]
[205]
[206]
[207]
[208]
[209]
[210]
[211]
[212]
[213]
[214]
[215]
[216]
[217]
[218]
[219]
[220]
[221]
[222]
[223]
[224]
[225]
[226]
[227]
[228]
[229]
[230]
[231]
[232]
[233]
[234]
[235]
[236]
[237]
[238]
[239]
[240]
[241]
[242]
[243]
[244]
[245]
[246]
[247]
[248]
[249]
[250]
[251]
[252]
[253]
[254]
[255]
[256]
[257]
[258]
[259]
[260]
[261]
[262]
[263]
[264]
[265]
[266]
[267]
[268]
[269]
[270]
[271]
[272]
[273]
[274]
[275]
[276]
[277]
[278]
[279]
[280]
[281]
[282]
[283]
[284]
[285]
[286]
[287]
[288]
[289]
[290]
[291]
[292]
[293]
[294]
[295]
[296]
[297]
[298]
[299]
[300]
[301]
[302]
[303]
[304]
[305]
[306]
[307]
[308]
[309]
[310]
[311]
[312]
[313]
[314]
[315]
[316]
[317]
[318]
[319]
[320]
[321]
[322]
[323]
[324]
[325]
[326]
[327]
[328]
[329]
[330]
[331]
[332]
[333]
[334]
[335]
[336]
[337]
[338]
[339]
[340]
[341]
[342]
[343]
[344]
[345]
[346]
[347]
[348]
[349]
[350]
[351]
[352]
[353]
[354]
[355]
[356]
[357]
[358]
[359]
[360]
[361]
[362]
[363]
[364]
[365]
[366]
[367]
[368]
[369]
[370]
[371]
[372]
[373]
[374]
[375]
[376]
[377]
[378]
[379]
[380]
[381]
[382]
[383]
[384]
[385]
[386]
[387]
[388]
[389]
[390]
[391]
[392]
[393]
[394]
[395]
[396]
[397]
[398]
[399]
[400]
[401]
[402]
[403]
[404]
[405]
[406]
[407]
[408]
[409]
[410]
[411]
[412]
[413]
[414]
[415]
[416]
[417]
[418]
[419]
[420]
[421]
[422]
[423]
[424]
[425]
[426]
[427]
[428]
[429]
[430]
[431]
[432]
[433]
[434]
[435]
[436]
[437]
[438]
[439]
[440]
[441]
[442]
[443]
[444]
[445]
[446]
[447]
[448]
[449]
[450]
[451]
[452]
[453]
[454]
[455]
[456]
[457]
[458]
[459]
[460]
[461]
[462]
[463]
[464]
[465]
[466]
[467]
[468]
[469]
[470]
[471]
[472]
[473]
[474]
[475]
[476]
[477]
[478]
[479]
[480]
[481]
[482]
[483]
[484]
[485]
[486]
[487]
[488]
[489]
[490]
[491]
[492]
[493]
[494]
[495]
[496]
[497]
[498]
[499]
[500]
[501]
[502]
[503]
[504]
[505]
[506]
[507]
[508]
[509]
[510]
[511]
[512]
[513]
[514]
[515]
[516]
[517]
[518]
[519]
[520]
[521]
[522]
[523]
[524]
[525]
[526]
[527]
[528]
[529]
[530]
[531]
[532]
[533]
[534]
[535]
[536]
[537]
[538]
[539]
[540]
[541]
[542]
[543]
[544]
[545]
[546]
[547]
[548]
[549]
[550]
[551]
[552]
[553]
[554]
[555]
[556]
[557]
[558]
[559]
[560]
[561]
[562]
[563]
[564]
[565]
[566]
[567]
[568]
[569]
[570]
[571]
[572]
[573]
[574]
[575]
[576]
[577]
[578]
[579]
[580]
[581]
[582]
[583]
[584]
[585]
[586]
[587]
[588]
[589]
[590]
[591]
[592]
[593]
[594]
[595]
[596]
[597]
[598]
[599]
[600]
[601]
[602]
[603]
[604]
[605]
[606]
[607]
[608]
[609]
[610]
[611]
[612]
[613]
[614]
[615]
[616]
[617]
[618]
[619]
[620]
[621]
[622]
[623]
[624]
[625]
[626]
[627]
[628]
[629]
[630]
[631]
[632]
[633]
[634]
[635]
[636]
[637]
[638]
[639]
[640]
[641]
[642]
[643]
[644]
[645]
[646]
[647]
[648]
[649]
[650]
[651]
[652]
[653]
[654]
[655]
[656]
[657]
[658]
[659]
[660]
[661]
[662]
[663]
[664]
[665]
[666]
[667]
[668]
[669]
[670]
[671]
[672]
[673]
[674]
[675]
[676]
[677]
[678]
[679]
[680]
[681]
[682]
[683]
[684]
[685]
[686]
[687]
[688]
[689]
[690]
[691]
[692]
[693]
[694]
[695]
[696]
[697]
[698]
[699]
[700]
[701]
[702]
[703]
[704]
[705]
[706]
[707]
[708]
[709]
[710]
[711]
[712]
[713]
[714]
[715]
[716]
[717]
[718]
[719]
[720]
[721]
[722]
[723]
[724]
[725]
[726]
[727]
[728]
[729]
[730]
[731]
[732]
[733]
[734]
[735]
[736]
[737]
[738]
[739]
[740]
[741]
[742]
[743]
[744]
[745]
[746]
[747]
[748]
[749]
[750]
[751]
[752]
[753]
[754]
[755]
[756]
[757]
[758]
[759]
[760]
[761]
[762]
[763]
[764]
[765]
[766]
[767]
[768]
[769]
[770]
[771]
[772]
[773]
[774]
[775]
[776]
[777]
[778]
[779]
[780]
[781]
[782]
[783]
[784]
[785]
[786]
[787]
[788]
[789]
[790]
[791]
[792]
[793]
[794]
[795]
[796]
[797]
[798]
[799]
[800]
[801]
[802]
[803]
[804]
[805]
[806]
[807]
[808]
[809]
[810]
[811]
[812]
[813]
[814]
[815]
[816]
[817]
[818]
[819]
[820]
[821]
[822]
[823]
[824]
[825]
[826]
[827]
[828]
[829]
[830]
[831]
[832]
[833]
[834]
[835]
[836]
[837]
[838]
[839]
[840]
[841]
[842]
[843]
[844]
[845]
[846]
[847]
[848]
[849]
[850]
[851]
[852]
[853]
[854]
[855]
[856]
[857]
[858]
[859]
[860]
[861]
[862]
[863]
[864]
[865]
[866]
[867]
[868]
[869]
[870]
[871]
[872]
[873]
[874]
[875]
[876]
[877]
[878]
[879]
[880]
[881]
[882]
[883]
[884]
[885]
[886]
[887]
[888]
[889]
[890]
[891]
[892]
[893]
[894]
[895]
[896]
[897]
[898]
[899]
[900]
[901]
[902]
[903]
[904]
[905]
[906]
[907]
[908]
[909]
[910]
[911]
[912]
[913]
[914]
[915]
[916]
[917]
[918]
[919]
[920]
[921]
[922]
[923]
[924]
[925]
[926]
[927]
[928]
[929]
[930]
[931]
[932]
[933]
[934]
[935]
[936]
[937]
[938]
[939]
[940]
[941]
[942]
[943]
[944]
[945]
[946]
[947]
[948]
[949]
[950]
[951]
[952]
[953]
[954]
[955]
[956]
[957]
[958]
[959]
[960]
[961]
[962]
[963]
[964]
[965]
[966]
[967]
[968]
[969]
[970]
[971]
[972]
[973]
[974]
[975]
[976]
[977]
[978]
[979]
[980]
[981]
[982]
[983]
[984]
[985]
[986]
[987]
[988]
[989]
[990]
[991]
[992]
[993]
[994]
[995]

{"sheet":"Check","index":14,"n_rows":13,"n_cols":4,"rows_kept":13}
["Expenditures by Category","Core SIPP Funded","Leverage Funded","Total"]
["Personnel",{"$f":"'4. Personnel '!I41-Check!C2","v":0},{"$f":"SUMPRODUCT('4. Personnel '!$I$6:$I$40,'4. Personnel '!$J$6:$J$40)","v":0},{"$f":"SUM(B2:C2)","v":0}]
["Consultants",{"$f":"'7. Consultant Costs'!C31-Check!C3","v":0},{"$f":"SUMPRODUCT('7. Consultant Costs'!$C$6:$C$30,'7. Consultant Costs'!$F$6:$F$30)","v":0},{"$f":"SUM(B3:C3)","v":0}]
["Contracts",{"$f":"'8. Contracts'!C31-Check!C4","v":0},{"$f":"SUMPRODUCT('8. Contracts'!$C$6:$C$30,'8. Contracts'!$F$6:$F$30)","v":0},0]
["Supplies",{"$f":"SUM('9. Supplies'!F59:G59)-Check!C5","v":0},{"$f":"SUMPRODUCT('9. Supplies'!$F$9:$F$58,'9. Supplies'!$J$9:$J$58)+SUMPRODUCT('9. Supplies'!$G$9:$G$58,'9. Supplies'!$J$9:$J$58)","v":0},0]
["Travel",{"$f":"SUM('10a. Travel (Local)'!L41,'10b. Travel (Non-Local)'!E41:F41)-Check!C6","v":0},{"$f":"SUMPRODUCT('10a. Travel (Local)'!$L$6:$L$40,'10a. Travel (Local)'!$M$6:$M$40)+SUMPRODUCT('10b. Travel (Non-Local)'!$E$6:$E$40,'10b. Travel (Non-Local)'!$I$6:$I$40)+SUMPRODUCT('10b. Travel (Non-Local)'!$F$6:$F$40,'10b. Travel (Non-Local)'!$I$6:$I$40)","v":0},0]
["Administrative",{"$f":"'11. Administrative'!D18-Check!C7","v":0},{"$f":"SUMPRODUCT('11. Administrative'!$D$10:$D$16,'11. Administrative'!$E$10:$E$16)+('11. Administrative'!D8*'11. Administrative'!E8)","v":0},0]
["Total Expenditures (excludes in-kind)",{"$f":"SUM(B2:B7)","v":0},{"$f":"SUM(C2:C7)","v":0},0]
[]
["Total Reported Funding",{"$f":"'2.Total Allocated Program Funds'!B7","v":{"v":250000,"d":"$250,000.00"}},{"$f":"'2.Total Allocated Program Funds'!B36","v":0},{"$f":"SUM(B10:C10)","v":{"v":250000,"d":"$250,000.00"}}]
[]
["Do Expenditures match Reported Funding?",{"$f":"IF(AND(B13<5%,B13>-5%),\"ok\",\"ERROR\")","v":"ok"},{"$f":"IF(AND(C13<5%,C13>-5%),\"ok\",\"ERROR\")","v":"ok"},{"$f":"IF(AND(D13<5%,D13>-5%),\"ok\",\"ERROR\")","v":"ok"}]
["% Difference",{"$f":"IF(B8>0,(B10-B8)/B10,0)","v":{"v":0,"d":"0%"}},{"$f":"IF(C8>0,(C10-C8)/C10,0)","v":{"v":0,"d":"0%"}},{"v":0,"d":"0%"}]

{"sheet":"Inputs","index":15,"n_rows":65,"n_cols":9,"rows_kept":65}
["Source:"]
["Program Name:","Other Funding Sources:","Strategies: ","Topics: ","Rationale for Procuring Leveraged Funds:","Personnel: ","Supply Cost Categories:","Transportation Categories:","Other values:"]
["Alaska","Non-Core SIPP CDC Funds","Data and Surveillance","Adverse Childhood Experiences (ACEs)","The required scope of implementation could not have been achieved without these funds, which were newly acquired for this program following receipt of the CDC award.","Administrative Assistant","Capital materials (1-time expense or major purchase)","Bicycle/Scooter","Yes"]
["California","Non-CDC Federal Funds","Collaborations and Partnerships","Transportation Safety","The required scope of implementation could not have been achieved without these funds, which were were already available prior to receipt of the CDC award.","AmeriCorps Volunteer","Continuing Education/Professional Development","Bus","No"]
["Colorado","State Government Funds","Assessment and Evaluation","Traumatic Brain Injury","These funds enabled expansion of the scope of implementation or exceeding proposal expectations, and were newly acquired for this program following receipt of the CDC award.","Assistant Director","Curriculum/Educational Materials","Personally Owned Vehicle (POV)"]
["Georgia","City or County Funds",null,"Other Topic (please specify in comments)","These funds enabled expansion of the scope of implementation or exceeding proposal expectations, and were already available prior to receipt of the CDC award.","Clerk","Food and Drinks","Rental Car"]
["Illinois","Private Grants",{"$nulls":3},"Communications Specialist","Incentives/Stipends","Taxi/Uber/Lyft"]
["Kansas","Corporate Sponsors/Donors",{"$nulls":3},"Community Health Educator","Marketing/Promotional Materials","Train"]
["Kentucky","Other (please specify in comments)",{"$nulls":3},"Community Health Liaison","Meeting Space","Other (please specify in comments)"]
["Maryland",{"$nulls":4},"Community Health Worker","Membership Fees"]
["Massachusetts",{"$nulls":4},"Community Outreach Coordinator","Office Equipment"]
["Minnesota",{"$nulls":4},"Community Outreach Worker","Postage/Mailing"]
["Mississippi",{"$nulls":4},"County Attorney","Small Office Supplies  "]
["Montana",{"$nulls":4},"Data Analyst","Software/Data"]
["Nebraska",{"$nulls":4},"Data Manager","Training Fees "]
["New Mexico",{"$nulls":4},"Data Specialist","Translation Services"]
["New York",{"$nulls":4},"Director/Deputy Director","Other Supplies (please specify in comments)"]
["North Carolina",{"$nulls":4},"Economist"]
["Ohio",{"$nulls":4},"Epidemiologist"]
["Oregon",{"$nulls":4},"Evaluation Coordinator"]
["Rhode Island",{"$nulls":4},"Evaluator"]
["South Carolina",{"$nulls":4},"Executive Director, CEO"]
["Tennessee",{"$nulls":4},"Fellow"]
["Virginia",{"$nulls":4},"Finance Supervisor/Manager"]
["Washington",{"$nulls":4},"Financial Services Consultant"]
["Test Program",{"$nulls":4},"Fiscal/Financial Analyst"]
[{"$nulls":5},"Fiscal/Financial Specialist"]
[{"$nulls":5},"Grants Manager"]
[{"$nulls":5},"Health Educator"]
[{"$nulls":5},"Health Policy Analyst"]
[{"$nulls":5},"Health Program Administrator"]
[{"$nulls":5},"Health Program Coordinator"]
[{"$nulls":5},"Implementation Specialist"]
[{"$nulls":5},"Injury Prevention Specialist"]
[{"$nulls":5},"Management Analyst"]
[{"$nulls":5},"Medical Doctor"]
[{"$nulls":5},"Office Manager"]
[{"$nulls":5},"Operations & Policy Analyst"]
[{"$nulls":5},"Other (please specify in comments)"]
[{"$nulls":5},"Police Assistant Chief"]
[{"$nulls":5},"Police Commander"]
[{"$nulls":5},"Police Officer"]
[{"$nulls":5},"Prevention Manager"]
[{"$nulls":5},"Principal Investigator"]
[{"$nulls":5},"Program Administrator"]
[{"$nulls":5},"Program Aide"]
[{"$nulls":5},"Program Analyst"]
[{"$nulls":5},"Program Assistant"]
[{"$nulls":5},"Program Director"]
[{"$nulls":5},"Program Manager"]
[{"$nulls":5},"Program Site Liaison"]
[{"$nulls":5},"Program Specialist"]
[{"$nulls":5},"Project Coordinator"]
[{"$nulls":5},"Project Director"]
[{"$nulls":5},"Project Manager"]
[{"$nulls":5},"Public Health Specialist"]
[{"$nulls":5},"School Resource Officer"]
[{"$nulls":5},"Scientist"]
[{"$nulls":5},"Student Intern"]
[{"$nulls":5},"Teacher"]
[{"$nulls":5},"Trainer"]
[{"$nulls":5},"Safety Trainer"]
[{"$nulls":5},"Violence Prevention Advocate"]
[{"$nulls":5},"Violence Prevention Specialist"]
[{"$nulls":5},"Youth Coordinator"]

{"sheet":"Validation Rules","index":16,"n_rows":75,"n_cols":5,"rows_kept":75,"merged":[[4,0,4,1],[7,0,7,1],[12,0,12,1],[18,0,18,1],[23,0,23,1],[30,0,30,1],[34,0,34,1],[38,0,38,1],[43,0,43,1],[48,0,48,1],[54,0,54,1],[58,0,58,1],[63,0,63,1],[71,0,71,1]]}
["Error Condition","Error Message"]
["Worksheet Name"]
[" Error Condition referencing columns","Message displayed when an error occurs"]
[]
["Program Details (1)"]
["Cells B2, B5-B7, and B10-B12 must have data entered","Required cells are missing values"]
[]
["Total Program Funds (2B)"]
["Under 2B, if data is entered in column A - rows 16 - 35, values must be entered in corresponding rows in columns B, C, D, and E","Required cells are missing values",null,null,"  "]
["Total other funding value must be >=0","$ Value must be positive"]
["Total funding allocated (2A +2B) value must be >=0","$ Value must be positive"]
[]
["In-kind Labor (3A)"]
["Hours Contributed must be <= 2080","Hours Contributed cannot be more than 2080"]
["If data is entered in column B - rows 5 - 35, values must be entered in corresponding rows in columns C, F, and G ","Required cells are missing values"]
["Column C cannot have negative values","$ Value must be positive"]
["Total (cell E36) value must be >=0","$ Value must >=0"]
[]
["In-kind Non-Labor (3B)"]
["If data is entered in column B - rows 6 - 36, values must be entered in corresponding rows in columns C, D, F, and G ","Required cells are missing values"]
["Columns C and D cannot have negative values","$ Value must be positive"]
["Total (cell E37) value must be >=0","$ Value must be >=0"]
[]
["Personnel (4)"]
["FTE % must be <= 100%","FTE % must not to exceed 100%"]
["% Time Spent on Core SIPP  must be <= 100%","% Time Spent on Core SIPP  Strategies and/or Topics must not exceed 100%"]
["Months employed in program year must be <=12","Months employed in program year must not exceed 12 months"]
["% of Total Core SIPP Cost (Column I) covered by non-Core SIPP Funding must be <= 100%","% Salary paid by other source must not to exceed 100%"]
["Total (cells H41 and I41) values must be >=0","$ Value must be >=0"]
[]
["Personnel Strategies (5)"]
["% Time Spent on each specific strategy per personnel selected must sum to 100%","% Time Spent on each selected Core SIPP Strategy must sum to and not exceed 100%"]
["Total Row must be <=100%","Total % must not exceed 100%"]
[]
["Personnel Topics (6)"]
["% Time Spent on each specific topic per personnel selected must sum to 100%","% Time Spent on each selected Core SIPP Topic must sum to and not exceed 100%"]
["Total Row must be <=100%","Total % must not exceed 100%"]
[]
["Consultant Costs (7)"]
["% of Payment covered by non-Core SIPP funding must be <=100%","% must not exceed 100%"]
["If data is entered in column B - rows 6 - 30, values must be entered in corresponding rows in columns C, D, E, and F","Required cells are missing values"]
["Total (cell C31) value must be >=0","$ Value must be >=0"]
[]
["Contracts (8)"]
["% of Payment covered by non-Core SIPP funding must be <=100%"," % must not exceed 100%"]
["If data is entered in column B - rows 6 - 30, values must be entered in corresponding rows in columns C, D, E, and F","Required cells are missing values"]
["Total (cell C31) value must be >=0","$ Value must be >=0"]
[]
["Supplies (9)"]
["If data is entered in column B - rows 9-58, values must be entered in corresponding rows in columns C, H, and I; values must also be entered in corresponding rows in columns D and E or in column G. ","Required cells are missing values"]
["Total (cell F59) value must be >=0","$ Value must be >=0"]
["Total (cell G59) value must be >=0","$ Value must be >=0"]
["% of Payment covered by non-Core SIPP funding must be <=100%"," % must not exceed 100%"]
[]
["Travel Local (10A)"]
["Total (cell L41) value must be >=0","$ Value must be >=0"]
["% of Payment covered by non-Core SIPP funding must be <=100%"," % must not exceed 100%"]
[]
["Travel Non-Local (10B)"]
["Total (cell E41) value must be >=0","$ Value must be >=0"]
["Total (cell F41) value must be >=0","$ Value must be >=0"]
["% of Payment covered by non-Core SIPP funding must be <=100%"," % must not exceed 100%"]
[]
["Administrative (11)"]
["If yes in section 11A - cell B4, then data must be entered in cells C5 and D5","Required cells are missing values"]
["Cell C5 must be <100%","Total % must not exceed 100%"]
["If no in section 11A - cell B4, then data must be entered in cell D6 and section 11B - cells B10 - B16 must be selected. ","Required cells are missing values"]
["If no in section 11B - cells B10-B16, then data in corresponding cells C10-C16 must be entered","Required cells are missing values"]
["Total (cell D18) value must be >=0","$ Value must be >=0"]
["% of Payment covered by non-Core SIPP funding must be <=100%"," % must not exceed 100%"]
[]
["Partner Involvement (12)"]
["If data is entered in column B or C - rows 6-1000, values must be entered in corresponding rows in columns D, E, F, G, H; values must also be entered in corresponding rows in columns B or C","Required cells are missing values"]
["Values in column D must be numeric","Required cells contain non-numeric data"]
["Values in column E must be numeric","Required cells contain non-numeric data"]

{"sheet":"Master","index":17,"n_rows":132,"n_cols":2,"rows_kept":132}
[{"$f":"'1. Program Details'!B3","v":"Rhode Island"},"Program Year 3 (08/01/2023 - 07/31/2024)"]
[]
["Total Allocated Program Funding",{"$f":"'2.Total Allocated Program Funds'!B38","v":{"v":250000,"d":"$250,000"}}]
[]
["% Total Funding From Other Sources",{"$f":"'2.Total Allocated Program Funds'!B36/'2.Total Allocated Program Funds'!B38","v":{"v":0,"d":"0.0%"}}]
[]
["Distribution of Funding From Other Sources"]
[{"$f":"Inputs!B3","v":"Non-Core SIPP CDC Funds"},{"$f":"SUMIF('2.Total Allocated Program Funds'!A16:A35, \"Non-Core SIPP CDC Funds\", '2.Total Allocated Program Funds'!B16:B35)/B3","v":{"v":0,"d":"0.0%"}}]
[{"$f":"Inputs!B4","v":"Non-CDC Federal Funds"},{"$f":"SUMIF('2.Total Allocated Program Funds'!A16:A35, \"Non-CDC Federal Funds\", '2.Total Allocated Program Funds'!B16:B35)/B3","v":{"v":0,"d":"0.0%"}}]
[{"$f":"Inputs!B5","v":"State Government Funds"},{"$f":"SUMIF('2.Total Allocated Program Funds'!A16:A35, \"State Government Funds\", '2.Total Allocated Program Funds'!B16:B35)/B3","v":{"v":0,"d":"0.0%"}}]
[{"$f":"Inputs!B6","v":"City or County Funds"},{"$f":"SUMIF('2.Total Allocated Program Funds'!A16:A35, \"City or County Funds\", '2.Total Allocated Program Funds'!B16:B35)/B3","v":{"v":0,"d":"0.0%"}}]
[{"$f":"Inputs!B7","v":"Private Grants"},{"$f":"SUMIF('2.Total Allocated Program Funds'!A16:A35, \"Private Grants\", '2.Total Allocated Program Funds'!B16:B35)/B3","v":{"v":0,"d":"0.0%"}}]
[{"$f":"Inputs!B8","v":"Corporate Sponsors/Donors"},{"$f":"SUMIF('2.Total Allocated Program Funds'!A16:A35, \"Corporate Sponsors/Donors\", '2.Total Allocated Program Funds'!B16:B35)/B3","v":{"v":0,"d":"0.0%"}}]
[{"$f":"Inputs!B9","v":"Other (please specify in comments)"},{"$f":"SUMIF('2.Total Allocated Program Funds'!A16:A35, \"Forfeiture Funds\", '2.Total Allocated Program Funds'!B16:B35)/B3","v":{"v":0,"d":"0.0%"}}]
["Other",{"$f":"SUMIF('2.Total Allocated Program Funds'!A16:A35, \"Other (please specify in comments)\", '2.Total Allocated Program Funds'!B16:B35)/B3","v":{"v":0,"d":"0.0%"}}]
[]
["Allocation of Funding From Other Sources"]
["$ Allocated for Data and Surveillance",{"$f":"SUM('Strategy & Topic Master'!$A$3:$A$22)","v":{"v":0,"d":"$0"}}]
["$ Allocated for Collaboration and Partnerships",{"$f":"SUM('Strategy & Topic Master'!$B$3:$B$22)","v":{"v":0,"d":"$0"}}]
["$ Allocated for Assessment and Evaluation",{"$f":"SUM('Strategy & Topic Master'!$C$3:$C$22)","v":{"v":0,"d":"$0"}}]
[]
["$ Allocated for Adverse Childhood Experiences (ACEs)",{"$f":"SUM('Strategy & Topic Master'!$E$3:$E$22)","v":{"v":0,"d":"$0"}}]
["$ Allocated for Transportation Safety",{"$f":"SUM('Strategy & Topic Master'!$F$3:$F$22)","v":{"v":0,"d":"$0"}}]
["$ Allocated for Traumatic Brain Injury",{"$f":"SUM('Strategy & Topic Master'!$G$3:$G$22)","v":{"v":0,"d":"$0"}}]
["$ Allocated for Other Topics",{"$f":"SUM('Strategy & Topic Master'!$H$3:$H$22)","v":{"v":0,"d":"$0"}}]
[]
[]
["Total Costs"]
[]
["In-Kind Contributions"]
["Labor In-Kind",{"$f":"'3A. In-Kind Labor '!E36","v":{"v":0,"d":"$0"}}]
["Non-Labor In-Kind",{"$f":"'3B. In-Kind Non-Labor'!E37","v":{"v":0,"d":"$0"}}]
["Total In-Kind Contributions ",{"$f":"SUM(B31:B32)","v":{"v":0,"d":"$0"}}]
[]
["In-kind Contributions by Strategy"]
["In-Kind Data and Surveillance",{"$f":"SUM('Strategy & Topic Master'!$A$26:$A$56)","v":{"v":0,"d":"$0"}}]
["In-Kind Collaborations and Partnerships",{"$f":"SUM('Strategy & Topic Master'!$B$26:$B$56)","v":{"v":0,"d":"$0"}}]
["In-Kind Assessment and Evaluation ",{"$f":"SUM('Strategy & Topic Master'!$C$26:$C$56)","v":{"v":0,"d":"$0"}}]
[]
["In-Kind Contributions by Topic"]
["In-Kind Adverse Childhood Experiences (ACEs)",{"$f":"SUM('Strategy & Topic Master'!$E$26:$E$56)","v":{"v":0,"d":"$0"}}]
["In-Kind Transportation Safety",{"$f":"SUM('Strategy & Topic Master'!$F$26:$F$56)","v":{"v":0,"d":"$0"}}]
["In-Kind Traumatic Brain Injury",{"$f":"SUM('Strategy & Topic Master'!$G$26:$G$56)","v":{"v":0,"d":"$0"}}]
["In-Kind Other Topics",{"$f":"SUM('Strategy & Topic Master'!$H$26:$H$56)","v":{"v":0,"d":"$0"}}]
[]
["Personnel Costs ",{"$f":"'4. Personnel '!I41","v":{"v":0,"d":"$0"}}]
[]
["Personnel Costs by Strategy"]
["Data and Surveillance",{"$f":"SUM('Personnel Master'!D2:D36)","v":{"v":0,"d":"$0"}}]
["Collaborations and Partnerships",{"$f":"SUM('Personnel Master'!E2:E36)","v":{"v":0,"d":"$0"}}]
["Assessment and Evaluation",{"$f":"SUM('Personnel Master'!F2:F36)","v":{"v":0,"d":"$0"}}]
[]
["Personnel Costs by Topic"]
["Adverse Childhood Experiences (ACEs)",{"$f":"SUM('Personnel Master'!H2:H36)","v":{"v":0,"d":"$0"}}]
["Transportation Safety",{"$f":"SUM('Personnel Master'!I2:I36)","v":{"v":0,"d":"$0"}}]
["Traumatic Brain Injury",{"$f":"SUM('Personnel Master'!J2:J36)","v":{"v":0,"d":"$0"}}]
["Other Topics",{"$f":"SUM('Personnel Master'!K2:M36)","v":{"v":0,"d":"$0"}}]
[]
["Consultant Costs",{"$f":"'7. Consultant Costs'!C31","v":{"v":0,"d":"$0"}}]
[]
["Consultant Costs by Strategy"]
["Data and Surveillance",{"$f":"SUM('Strategy & Topic Master'!$A$60:$A$84)","v":{"v":0,"d":"$0"}}]
["Collaborations and Partnerships",{"$f":"SUM('Strategy & Topic Master'!$B$60:$B$84)","v":{"v":0,"d":"$0"}}]
["Assessment and Evaluation ",{"$f":"SUM('Strategy & Topic Master'!$C$60:$C$84)","v":{"v":0,"d":"$0"}}]
[]
["Consultant Costs by Topic"]
["Adverse Childhood Experiences (ACEs)",{"$f":"SUM('Strategy & Topic Master'!$E$60:$E$84)","v":{"v":0,"d":"$0"}}]
["Transportation Safety",{"$f":"SUM('Strategy & Topic Master'!$F$60:$F$84)","v":{"v":0,"d":"$0"}}]
["Traumatic Brain Injury",{"$f":"SUM('Strategy & Topic Master'!$G$60:$G$84)","v":{"v":0,"d":"$0"}}]
["Other Topics",{"$f":"SUM('Strategy & Topic Master'!$H$60:$H$84)","v":{"v":0,"d":"$0"}}]
[]
["Contract Costs",{"$f":"'8. Contracts'!C31","v":{"v":0,"d":"$0"}}]
[]
["Contract Costs by Strategy"]
["Data and Surveillance",{"$f":"SUM('Strategy & Topic Master'!$A$88:$A$112)","v":{"v":0,"d":"$0"}}]
["Collaborations and Partnerships",{"$f":"SUM('Strategy & Topic Master'!$B$88:$B$112)","v":{"v":0,"d":"$0"}}]
["Assessment and Evaluation ",{"$f":"SUM('Strategy & Topic Master'!$C$88:$C$112)","v":{"v":0,"d":"$0"}}]
[]
["Contract Costs by Topic"]
["Adverse Childhood Experiences (ACEs)",{"$f":"SUM('Strategy & Topic Master'!$E$88:$E$112)","v":{"v":0,"d":"$0"}}]
["Transportation Safety",{"$f":"SUM('Strategy & Topic Master'!$F$88:$F$112)","v":{"v":0,"d":"$0"}}]
["Traumatic Brain Injury",{"$f":"SUM('Strategy & Topic Master'!$G$88:$G$112)","v":{"v":0,"d":"$0"}}]
["Other Topics",{"$f":"SUM('Strategy & Topic Master'!$H$88:$H$112)","v":{"v":0,"d":"$0"}}]
[]
["Supply Costs",{"$f":"'9. Supplies'!F59 +'9. Supplies'!G59","v":{"v":0,"d":"$0"}}]
[]
["Supply Costs by Strategy"]
["Data and Surveillance",{"$f":"SUM('Strategy & Topic Master'!$A$116:$A$165)","v":{"v":0,"d":"$0"}}]
["Collaborations and Partnerships",{"$f":"SUM('Strategy & Topic Master'!$B$116:$B$165)","v":{"v":0,"d":"$0"}}]
["Assessment and Evaluation ",{"$f":"SUM('Strategy & Topic Master'!$C$116:$C$165)","v":{"v":0,"d":"$0"}}]
[]
["Supply Costs by Topic"]
["Adverse Childhood Experiences (ACEs)",{"$f":"SUM('Strategy & Topic Master'!$E$116:$E$165)","v":{"v":0,"d":"$0"}}]
["Transportation Safety",{"$f":"SUM('Strategy & Topic Master'!$F$116:$F$165)","v":{"v":0,"d":"$0"}}]
["Traumatic Brain Injury",{"$f":"SUM('Strategy & Topic Master'!$G$116:$G$165)","v":{"v":0,"d":"$0"}}]
["Other Topics",{"$f":"SUM('Strategy & Topic Master'!$H$116:$H$165)","v":{"v":0,"d":"$0"}}]
[]
["Transportation Costs",{"$f":"'10a. Travel (Local)'!L41+SUM('10b. Travel (Non-Local)'!E41:F41)","v":{"v":0,"d":"$0"}}]
[]
["Transportation Costs by Strategy"]
["Data and Surveillance",{"$f":"SUM('Strategy & Topic Master'!$A$169:$A$203)","v":{"v":0,"d":"$0"}}]
["Collaborations and Partnerships",{"$f":"SUM('Strategy & Topic Master'!$B$169:$B$203)","v":{"v":0,"d":"$0"}}]
["Assessment and Evaluation ",{"$f":"SUM('Strategy & Topic Master'!$C$169:$C$203)","v":{"v":0,"d":"$0"}}]
[]
["Transportation Costs by Topic"]
["Adverse Childhood Experiences (ACEs)",{"$f":"SUM('Strategy & Topic Master'!$E$169:$E$203)","v":{"v":0,"d":"$0"}}]
["Transportation Safety",{"$f":"SUM('Strategy & Topic Master'!$F$169:$F$203)","v":{"v":0,"d":"$0"}}]
["Traumatic Brain Injury",{"$f":"SUM('Strategy & Topic Master'!$G$169:$G$203)","v":{"v":0,"d":"$0"}}]
["Other Topics",{"$f":"SUM('Strategy & Topic Master'!$H$169:$H$203)","v":{"v":0,"d":"$0"}}]
[]
["Administrative Costs",{"$f":"'11. Administrative'!D18","v":{"v":0,"d":"$0"}}]
[]
["TOTAL COSTS",{"$f":"SUM(B33+B46+B59+B72+B85+B98+B111)","v":{"v":0,"d":"$0"}}]
["% of Total Costs as In-kind Contributions",{"$f":"IFERROR(B33/B113,\"\")","v":""}]
["Total Explicit Costs (excludes in-kind contributions)",{"$f":"B113-B33","v":{"v":0,"d":"$0"}}]
[]
["Check: Do Total Explicit Costs= Total Allocated Program Funding?",{"$f":"IF(B115=B3,\"ok\",B3-B115)","v":{"v":250000,"d":"$250,000.00"}}]
[]
[]
[]
["Calculated Partnership Hours",{"$f":"SUMPRODUCT('12.Partner Involvement'!$D$6:$D$1000,'12.Partner Involvement'!$E$6:$E$1000)","v":0}]
[]
["Calculated Partnership Hours by Strategy"]
["Data and Surveillance",{"$f":"SUM('Strategy & Topic Master'!$A$207:$A$1201)","v":0}]
["Collaborations and Partnerships",{"$f":"SUM('Strategy & Topic Master'!$B$207:$B$1201)","v":0}]
["Assessment and Evaluation ",{"$f":"SUM('Strategy & Topic Master'!$C$207:$C$1201)","v":0}]
[]
["Calculated Partnership Hours by Topic"]
["Adverse Childhood Experiences (ACEs)",{"$f":"SUM('Strategy & Topic Master'!$E$207:$E$1201)","v":0}]
["Transportation Safety",{"$f":"SUM('Strategy & Topic Master'!$F$207:$F$1201)","v":0}]
["Traumatic Brain Injury",{"$f":"SUM('Strategy & Topic Master'!$G$207:$G$1201)","v":0}]
["Other Topics",{"$f":"SUM('Strategy & Topic Master'!$H$207:$H$1201)","v":0}]

{"sheet":"Personnel Master","index":18,"n_rows":36,"n_cols":13,"rows_kept":36}
[null,"Labor","Core SIPP Amount","Data and Surveillance ","Collaborations and Partnerships","Assessment and Evaluation",null,"Adverse Childhood Experiences (ACEs)","Transportation Safety","Traumatic Brain Injury","Other Topic ","Other Topic ","Other Topic "]
[1,"='4. Personnel '!B6",{"$f":"'4. Personnel '!I6","v":{"v":0,"d":"$0.00"}},{"$f":"C2*'5. Personnel Strategies'!D4","v":{"v":0,"d":"$0.00"}},{"$f":"C2*'5. Personnel Strategies'!D5","v":{"v":0,"d":"$0.00"}},{"$f":"C2*'5. Personnel Strategies'!D6","v":{"v":0,"d":"$0.00"}},null,{"$f":"$C$2*'6. Personnel Topics'!D4","v":{"v":0,"d":"$0.00"}},{"$f":"$C$2*'6. Personnel Topics'!D5","v":{"v":0,"d":"$0.00"}},{"$f":"$C$2*'6. Personnel Topics'!D6","v":{"v":0,"d":"$0.00"}},{"$f":"$C$2*'6. Personnel Topics'!D7","v":{"v":0,"d":"$0.00"}},{"$f":"$C$2*'6. Personnel Topics'!D8","v":{"v":0,"d":"$0.00"}},{"$f":"$C$2*'6. Personnel Topics'!D9","v":{"v":0,"d":"$0.00"}}]
[{"$f":"A2+1","v":2},"='4. Personnel '!B7",{"$f":"'4. Personnel '!I7","v":{"v":0,"d":"$0.00"}},{"$f":"C3*'5. Personnel Strategies'!E4","v":{"v":0,"d":"$0.00"}},{"$f":"C3*'5. Personnel Strategies'!E5","v":{"v":0,"d":"$0.00"}},{"$f":"C3*'5. Personnel Strategies'!E6","v":{"v":0,"d":"$0.00"}},null,{"$f":"$C$3*'6. Personnel Topics'!E4","v":{"v":0,"d":"$0.00"}},{"$f":"$C$3*'6. Personnel Topics'!E5","v":{"v":0,"d":"$0.00"}},{"$f":"$C$3*'6. Personnel Topics'!E6","v":{"v":0,"d":"$0.00"}},{"$f":"$C$3*'6. Personnel Topics'!E7","v":{"v":0,"d":"$0.00"}},{"$f":"$C$3*'6. Personnel Topics'!E8","v":{"v":0,"d":"$0.00"}},{"$f":"$C$3*'6. Personnel Topics'!E9","v":{"v":0,"d":"$0.00"}}]
[{"$f":"A3+1","v":3},"='4. Personnel '!B8",{"$f":"'4. Personnel '!I8","v":{"v":0,"d":"$0.00"}},{"$f":"C4*'5. Personnel Strategies'!F4","v":{"v":0,"d":"$0.00"}},{"$f":"C4*'5. Personnel Strategies'!F5","v":{"v":0,"d":"$0.00"}},{"$f":"C4*'5. Personnel Strategies'!F6","v":{"v":0,"d":"$0.00"}},null,{"$f":"$C$4*'6. Personnel Topics'!F4","v":{"v":0,"d":"$0.00"}},{"$f":"$C$4*'6. Personnel Topics'!F5","v":{"v":0,"d":"$0.00"}},{"$f":"$C$4*'6. Personnel Topics'!F6","v":{"v":0,"d":"$0.00"}},{"$f":"$C$4*'6. Personnel Topics'!F7","v":{"v":0,"d":"$0.00"}},{"$f":"$C$4*'6. Personnel Topics'!F8","v":{"v":0,"d":"$0.00"}},{"$f":"$C$4*'6. Personnel Topics'!F9","v":{"v":0,"d":"$0.00"}}]
[4,"='4. Personnel '!B9",{"$f":"'4. Personnel '!I9","v":{"v":0,"d":"$0.00"}},{"$f":"C5*'5. Personnel Strategies'!G4","v":{"v":0,"d":"$0.00"}},{"$f":"C5*'5. Personnel Strategies'!G5","v":{"v":0,"d":"$0.00"}},{"$f":"C5*'5. Personnel Strategies'!G6","v":{"v":0,"d":"$0.00"}},null,{"$f":"$C$5*'6. Personnel Topics'!G4","v":{"v":0,"d":"$0.00"}},{"$f":"$C$5*'6. Personnel Topics'!G5","v":{"v":0,"d":"$0.00"}},{"$f":"$C$5*'6. Personnel Topics'!G6","v":{"v":0,"d":"$0.00"}},{"$f":"$C$5*'6. Personnel Topics'!G7","v":{"v":0,"d":"$0.00"}},{"$f":"$C$5*'6. Personnel Topics'!G8","v":{"v":0,"d":"$0.00"}},{"$f":"$C$5*'6. Personnel Topics'!G9","v":{"v":0,"d":"$0.00"}}]
[5,"='4. Personnel '!B10",{"$f":"'4. Personnel '!I10","v":{"v":0,"d":"$0.00"}},{"$f":"C6*'5. Personnel Strategies'!H4","v":{"v":0,"d":"$0.00"}},{"$f":"C6*'5. Personnel Strategies'!H5","v":{"v":0,"d":"$0.00"}},{"$f":"C6*'5. Personnel Strategies'!H6","v":{"v":0,"d":"$0.00"}},null,{"$f":"$C$6*'6. Personnel Topics'!H4","v":{"v":0,"d":"$0.00"}},{"$f":"$C$6*'6. Personnel Topics'!H5","v":{"v":0,"d":"$0.00"}},{"$f":"$C$6*'6. Personnel Topics'!H6","v":{"v":0,"d":"$0.00"}},{"$f":"$C$6*'6. Personnel Topics'!H7","v":{"v":0,"d":"$0.00"}},{"$f":"$C$6*'6. Personnel Topics'!H8","v":{"v":0,"d":"$0.00"}},{"$f":"$C$6*'6. Personnel Topics'!H9","v":{"v":0,"d":"$0.00"}}]
[6,"='4. Personnel '!B11",{"$f":"'4. Personnel '!I11","v":{"v":0,"d":"$0.00"}},{"$f":"C7*'5. Personnel Strategies'!I4","v":{"v":0,"d":"$0.00"}},{"$f":"C7*'5. Personnel Strategies'!I5","v":{"v":0,"d":"$0.00"}},{"$f":"C7*'5. Personnel Strategies'!I6","v":{"v":0,"d":"$0.00"}},null,{"$f":"$C$7*'6. Personnel Topics'!I4","v":{"v":0,"d":"$0.00"}},{"$f":"$C$7*'6. Personnel Topics'!I5","v":{"v":0,"d":"$0.00"}},{"$f":"$C$7*'6. Personnel Topics'!I6","v":{"v":0,"d":"$0.00"}},{"$f":"$C$7*'6. Personnel Topics'!I7","v":{"v":0,"d":"$0.00"}},{"$f":"$C$7*'6. Personnel Topics'!I8","v":{"v":0,"d":"$0.00"}},{"$f":"$C$7*'6. Personnel Topics'!I9","v":{"v":0,"d":"$0.00"}}]
[7,"='4. Personnel '!B12",{"$f":"'4. Personnel '!I12","v":{"v":0,"d":"$0.00"}},{"$f":"C8*'5. Personnel Strategies'!J4","v":{"v":0,"d":"$0.00"}},{"$f":"C8*'5. Personnel Strategies'!J5","v":{"v":0,"d":"$0.00"}},{"$f":"C8*'5. Personnel Strategies'!J6","v":{"v":0,"d":"$0.00"}},null,{"$f":"$C$8*'6. Personnel Topics'!J4","v":{"v":0,"d":"$0.00"}},{"$f":"$C$8*'6. Personnel Topics'!J5","v":{"v":0,"d":"$0.00"}},{"$f":"$C$8*'6. Personnel Topics'!J6","v":{"v":0,"d":"$0.00"}},{"$f":"$C$8*'6. Personnel Topics'!J7","v":{"v":0,"d":"$0.00"}},{"$f":"$C$8*'6. Personnel Topics'!J8","v":{"v":0,"d":"$0.00"}},{"$f":"$C$8*'6. Personnel Topics'!J9","v":{"v":0,"d":"$0.00"}}]
[8,"='4. Personnel '!B13",{"$f":"'4. Personnel '!I13","v":{"v":0,"d":"$0.00"}},{"$f":"C9*'5. Personnel Strategies'!K4","v":{"v":0,"d":"$0.00"}},{"$f":"C9*'5. Personnel Strategies'!K5","v":{"v":0,"d":"$0.00"}},{"$f":"C9*'5. Personnel Strategies'!K6","v":{"v":0,"d":"$0.00"}},null,{"$f":"$C$9*'6. Personnel Topics'!K4","v":{"v":0,"d":"$0.00"}},{"$f":"$C$9*'6. Personnel Topics'!K5","v":{"v":0,"d":"$0.00"}},{"$f":"$C$9*'6. Personnel Topics'!K6","v":{"v":0,"d":"$0.00"}},{"$f":"$C$9*'6. Personnel Topics'!K7","v":{"v":0,"d":"$0.00"}},{"$f":"$C$9*'6. Personnel Topics'!K8","v":{"v":0,"d":"$0.00"}},{"$f":"$C$9*'6. Personnel Topics'!K9","v":{"v":0,"d":"$0.00"}}]
[9,"='4. Personnel '!B14",{"$f":"'4. Personnel '!I14","v":{"v":0,"d":"$0.00"}},{"$f":"C10*'5. Personnel Strategies'!L4","v":{"v":0,"d":"$0.00"}},{"$f":"C10*'5. Personnel Strategies'!L5","v":{"v":0,"d":"$0.00"}},{"$f":"C10*'5. Personnel Strategies'!L6","v":{"v":0,"d":"$0.00"}},null,{"$f":"$C$10*'6. Personnel Topics'!L4","v":{"v":0,"d":"$0.00"}},{"$f":"$C$10*'6. Personnel Topics'!L5","v":{"v":0,"d":"$0.00"}},{"$f":"$C$10*'6. Personnel Topics'!L6","v":{"v":0,"d":"$0.00"}},{"$f":"$C$10*'6. Personnel Topics'!L7","v":{"v":0,"d":"$0.00"}},{"$f":"$C$10*'6. Personnel Topics'!L8","v":{"v":0,"d":"$0.00"}},{"$f":"$C$10*'6. Personnel Topics'!L9","v":{"v":0,"d":"$0.00"}}]
[10,"='4. Personnel '!B15",{"$f":"'4. Personnel '!I15","v":{"v":0,"d":"$0.00"}},{"$f":"C11*'5. Personnel Strategies'!M4","v":{"v":0,"d":"$0.00"}},{"$f":"C11*'5. Personnel Strategies'!M5","v":{"v":0,"d":"$0.00"}},{"$f":"C11*'5. Personnel Strategies'!M6","v":{"v":0,"d":"$0.00"}},null,{"$f":"$C$11*'6. Personnel Topics'!M4","v":{"v":0,"d":"$0.00"}},{"$f":"$C$11*'6. Personnel Topics'!M5","v":{"v":0,"d":"$0.00"}},{"$f":"$C$11*'6. Personnel Topics'!M6","v":{"v":0,"d":"$0.00"}},{"$f":"$C$11*'6. Personnel Topics'!M7","v":{"v":0,"d":"$0.00"}},{"$f":"$C$11*'6. Personnel Topics'!M8","v":{"v":0,"d":"$0.00"}},{"$f":"$C$11*'6. Personnel Topics'!M9","v":{"v":0,"d":"$0.00"}}]
[11,"='4. Personnel '!B16",{"$f":"'4. Personnel '!I16","v":{"v":0,"d":"$0.00"}},{"$f":"C12*'5. Personnel Strategies'!N4","v":{"v":0,"d":"$0.00"}},{"$f":"C12*'5. Personnel Strategies'!N5","v":{"v":0,"d":"$0.00"}},{"$f":"C12*'5. Personnel Strategies'!N6","v":{"v":0,"d":"$0.00"}},null,{"$f":"$C$12*'6. Personnel Topics'!N4","v":{"v":0,"d":"$0.00"}},{"$f":"$C$12*'6. Personnel Topics'!N5","v":{"v":0,"d":"$0.00"}},{"$f":"$C$12*'6. Personnel Topics'!N6","v":{"v":0,"d":"$0.00"}},{"$f":"$C$12*'6. Personnel Topics'!N7","v":{"v":0,"d":"$0.00"}},{"$f":"$C$12*'6. Personnel Topics'!N8","v":{"v":0,"d":"$0.00"}},{"$f":"$C$12*'6. Personnel Topics'!N9","v":{"v":0,"d":"$0.00"}}]
[12,"='4. Personnel '!B17",{"$f":"'4. Personnel '!I17","v":{"v":0,"d":"$0.00"}},{"$f":"C13*'5. Personnel Strategies'!O4","v":{"v":0,"d":"$0.00"}},{"$f":"C13*'5. Personnel Strategies'!O5","v":{"v":0,"d":"$0.00"}},{"$f":"C13*'5. Personnel Strategies'!O6","v":{"v":0,"d":"$0.00"}},null,{"$f":"$C$13*'6. Personnel Topics'!O4","v":{"v":0,"d":"$0.00"}},{"$f":"$C$13*'6. Personnel Topics'!O5","v":{"v":0,"d":"$0.00"}},{"$f":"$C$13*'6. Personnel Topics'!O6","v":{"v":0,"d":"$0.00"}},{"$f":"$C$13*'6. Personnel Topics'!O7","v":{"v":0,"d":"$0.00"}},{"$f":"$C$13*'6. Personnel Topics'!O8","v":{"v":0,"d":"$0.00"}},{"$f":"$C$13*'6. Personnel Topics'!O9","v":{"v":0,"d":"$0.00"}}]
[13,"='4. Personnel '!B18",{"$f":"'4. Personnel '!I18","v":{"v":0,"d":"$0.00"}},{"$f":"C14*'5. Personnel Strategies'!P4","v":{"v":0,"d":"$0.00"}},{"$f":"C14*'5. Personnel Strategies'!P5","v":{"v":0,"d":"$0.00"}},{"$f":"C14*'5. Personnel Strategies'!P6","v":{"v":0,"d":"$0.00"}},null,{"$f":"$C$14*'6. Personnel Topics'!P4","v":{"v":0,"d":"$0.00"}},{"$f":"$C$14*'6. Personnel Topics'!P5","v":{"v":0,"d":"$0.00"}},{"$f":"$C$14*'6. Personnel Topics'!P6","v":{"v":0,"d":"$0.00"}},{"$f":"$C$14*'6. Personnel Topics'!P7","v":{"v":0,"d":"$0.00"}},{"$f":"$C$14*'6. Personnel Topics'!P8","v":{"v":0,"d":"$0.00"}},{"$f":"$C$14*'6. Personnel Topics'!P9","v":{"v":0,"d":"$0.00"}}]
[14,"='4. Personnel '!B19",{"$f":"'4. Personnel '!I19","v":{"v":0,"d":"$0.00"}},{"$f":"C15*'5. Personnel Strategies'!Q4","v":{"v":0,"d":"$0.00"}},{"$f":"C15*'5. Personnel Strategies'!Q5","v":{"v":0,"d":"$0.00"}},{"$f":"C15*'5. Personnel Strategies'!Q6","v":{"v":0,"d":"$0.00"}},null,{"$f":"$C$15*'6. Personnel Topics'!Q4","v":{"v":0,"d":"$0.00"}},{"$f":"$C$15*'6. Personnel Topics'!Q5","v":{"v":0,"d":"$0.00"}},{"$f":"$C$15*'6. Personnel Topics'!Q6","v":{"v":0,"d":"$0.00"}},{"$f":"$C$15*'6. Personnel Topics'!Q7","v":{"v":0,"d":"$0.00"}},{"$f":"$C$15*'6. Personnel Topics'!Q8","v":{"v":0,"d":"$0.00"}},{"$f":"$C$15*'6. Personnel Topics'!Q9","v":{"v":0,"d":"$0.00"}}]
[15,"='4. Personnel '!B20",{"$f":"'4. Personnel '!I20","v":{"v":0,"d":"$0.00"}},{"$f":"C16*'5. Personnel Strategies'!R4","v":{"v":0,"d":"$0.00"}},{"$f":"C16*'5. Personnel Strategies'!R5","v":{"v":0,"d":"$0.00"}},{"$f":"C16*'5. Personnel Strategies'!R6","v":{"v":0,"d":"$0.00"}},null,{"$f":"$C$16*'6. Personnel Topics'!R4","v":{"v":0,"d":"$0.00"}},{"$f":"$C$16*'6. Personnel Topics'!R5","v":{"v":0,"d":"$0.00"}},{"$f":"$C$16*'6. Personnel Topics'!R6","v":{"v":0,"d":"$0.00"}},{"$f":"$C$16*'6. Personnel Topics'!R7","v":{"v":0,"d":"$0.00"}},{"$f":"$C$16*'6. Personnel Topics'!R8","v":{"v":0,"d":"$0.00"}},{"$f":"$C$16*'6. Personnel Topics'!R9","v":{"v":0,"d":"$0.00"}}]
[16,"='4. Personnel '!B21",{"$f":"'4. Personnel '!I21","v":{"v":0,"d":"$0.00"}},{"$f":"$C$17*'5. Personnel Strategies'!S4","v":{"v":0,"d":"$0.00"}},{"$f":"$C$17*'5. Personnel Strategies'!S5","v":{"v":0,"d":"$0.00"}},{"$f":"$C$17*'5. Personnel Strategies'!S6","v":{"v":0,"d":"$0.00"}},null,{"$f":"$C$17*'6. Personnel Topics'!S4","v":{"v":0,"d":"$0.00"}},{"$f":"$C$17*'6. Personnel Topics'!S5","v":{"v":0,"d":"$0.00"}},{"$f":"$C$17*'6. Personnel Topics'!S6","v":{"v":0,"d":"$0.00"}},{"$f":"$C$17*'6. Personnel Topics'!S7","v":{"v":0,"d":"$0.00"}},{"$f":"$C$17*'6. Personnel Topics'!S8","v":{"v":0,"d":"$0.00"}},{"$f":"$C$17*'6. Personnel Topics'!S9","v":{"v":0,"d":"$0.00"}}]
[17,"='4. Personnel '!B22",{"$f":"'4. Personnel '!I22","v":{"v":0,"d":"$0.00"}},{"$f":"$C$18*'5. Personnel Strategies'!T4","v":{"v":0,"d":"$0.00"}},{"$f":"$C$18*'5. Personnel Strategies'!T5","v":{"v":0,"d":"$0.00"}},{"$f":"$C$18*'5. Personnel Strategies'!T6","v":{"v":0,"d":"$0.00"}},null,{"$f":"$C$18*'6. Personnel Topics'!T4","v":{"v":0,"d":"$0.00"}},{"$f":"$C$18*'6. Personnel Topics'!T5","v":{"v":0,"d":"$0.00"}},{"$f":"$C$18*'6. Personnel Topics'!T6","v":{"v":0,"d":"$0.00"}},{"$f":"$C$18*'6. Personnel Topics'!T7","v":{"v":0,"d":"$0.00"}},{"$f":"$C$18*'6. Personnel Topics'!T8","v":{"v":0,"d":"$0.00"}},{"$f":"$C$18*'6. Personnel Topics'!T9","v":{"v":0,"d":"$0.00"}}]
[18,"='4. Personnel '!B23",{"$f":"'4. Personnel '!I23","v":{"v":0,"d":"$0.00"}},{"$f":"$C$19*'5. Personnel Strategies'!U4","v":{"v":0,"d":"$0.00"}},{"$f":"$C$19*'5. Personnel Strategies'!U5","v":{"v":0,"d":"$0.00"}},{"$f":"$C$19*'5. Personnel Strategies'!U6","v":{"v":0,"d":"$0.00"}},null,{"$f":"$C$19*'6. Personnel Topics'!U4","v":{"v":0,"d":"$0.00"}},{"$f":"$C$19*'6. Personnel Topics'!U5","v":{"v":0,"d":"$0.00"}},{"$f":"$C$19*'6. Personnel Topics'!U6","v":{"v":0,"d":"$0.00"}},{"$f":"$C$19*'6. Personnel Topics'!U7","v":{"v":0,"d":"$0.00"}},{"$f":"$C$19*'6. Personnel Topics'!U8","v":{"v":0,"d":"$0.00"}},{"$f":"$C$19*'6. Personnel Topics'!U9","v":{"v":0,"d":"$0.00"}}]
[19,"='4. Personnel '!B24",{"$f":"'4. Personnel '!I24","v":{"v":0,"d":"$0.00"}},{"$f":"$C$20*'5. Personnel Strategies'!V4","v":{"v":0,"d":"$0.00"}},{"$f":"$C$20*'5. Personnel Strategies'!V5","v":{"v":0,"d":"$0.00"}},{"$f":"$C$20*'5. Personnel Strategies'!V6","v":{"v":0,"d":"$0.00"}},null,{"$f":"$C$20*'6. Personnel Topics'!V4","v":{"v":0,"d":"$0.00"}},{"$f":"$C$20*'6. Personnel Topics'!V5","v":{"v":0,"d":"$0.00"}},{"$f":"$C$20*'6. Personnel Topics'!V6","v":{"v":0,"d":"$0.00"}},{"$f":"$C$20*'6. Personnel Topics'!V7","v":{"v":0,"d":"$0.00"}},{"$f":"$C$20*'6. Personnel Topics'!V8","v":{"v":0,"d":"$0.00"}},{"$f":"$C$20*'6. Personnel Topics'!V9","v":{"v":0,"d":"$0.00"}}]
[20,"='4. Personnel '!B25",{"$f":"'4. Personnel '!I25","v":{"v":0,"d":"$0.00"}},{"$f":"$C21*'5. Personnel Strategies'!W4","v":{"v":0,"d":"$0.00"}},{"$f":"$C21*'5. Personnel Strategies'!W$5","v":{"v":0,"d":"$0.00"}},{"$f":"$C21*'5. Personnel Strategies'!W$6","v":{"v":0,"d":"$0.00"}},null,{"$f":"$C21*'6. Personnel Topics'!W$4","v":{"v":0,"d":"$0.00"}},{"$f":"$C21*'6. Personnel Topics'!W$5","v":{"v":0,"d":"$0.00"}},{"$f":"$C21*'6. Personnel Topics'!W$6","v":{"v":0,"d":"$0.00"}},{"$f":"$C21*'6. Personnel Topics'!W$7","v":{"v":0,"d":"$0.00"}},{"$f":"$C21*'6. Personnel Topics'!W$8","v":{"v":0,"d":"$0.00"}},{"$f":"$C21*'6. Personnel Topics'!W$9","v":{"v":0,"d":"$0.00"}}]
[21,"='4. Personnel '!B26",{"$f":"'4. Personnel '!I26","v":{"v":0,"d":"$0.00"}},{"$f":"$C22*'5. Personnel Strategies'!X$4","v":{"v":0,"d":"$0.00"}},{"$f":"$C22*'5. Personnel Strategies'!X$5","v":{"v":0,"d":"$0.00"}},{"$f":"$C22*'5. Personnel Strategies'!X$6","v":{"v":0,"d":"$0.00"}},null,{"$f":"$C22*'6. Personnel Topics'!X$4","v":{"v":0,"d":"$0.00"}},{"$f":"$C22*'6. Personnel Topics'!X$5","v":{"v":0,"d":"$0.00"}},{"$f":"$C22*'6. Personnel Topics'!X$6","v":{"v":0,"d":"$0.00"}},{"$f":"$C22*'6. Personnel Topics'!X$7","v":{"v":0,"d":"$0.00"}},{"$f":"$C22*'6. Personnel Topics'!X$8","v":{"v":0,"d":"$0.00"}},{"$f":"$C22*'6. Personnel Topics'!X$9","v":{"v":0,"d":"$0.00"}}]
[22,"='4. Personnel '!B27",{"$f":"'4. Personnel '!I27","v":{"v":0,"d":"$0.00"}},{"$f":"$C23*'5. Personnel Strategies'!Y$4","v":{"v":0,"d":"$0.00"}},{"$f":"$C23*'5. Personnel Strategies'!Y$5","v":{"v":0,"d":"$0.00"}},{"$f":"$C23*'5. Personnel Strategies'!Y$6","v":{"v":0,"d":"$0.00"}},null,{"$f":"$C23*'6. Personnel Topics'!Y$4","v":{"v":0,"d":"$0.00"}},{"$f":"$C23*'6. Personnel Topics'!Y$5","v":{"v":0,"d":"$0.00"}},{"$f":"$C23*'6. Personnel Topics'!Y$6","v":{"v":0,"d":"$0.00"}},{"$f":"$C23*'6. Personnel Topics'!Y$7","v":{"v":0,"d":"$0.00"}},{"$f":"$C23*'6. Personnel Topics'!Y$8","v":{"v":0,"d":"$0.00"}},{"$f":"$C23*'6. Personnel Topics'!Y$9","v":{"v":0,"d":"$0.00"}}]
[23,"='4. Personnel '!B28",{"$f":"'4. Personnel '!I28","v":{"v":0,"d":"$0.00"}},{"$f":"$C24*'5. Personnel Strategies'!Z$4","v":{"v":0,"d":"$0.00"}},{"$f":"$C24*'5. Personnel Strategies'!Z$5","v":{"v":0,"d":"$0.00"}},{"$f":"$C24*'5. Personnel Strategies'!Z$6","v":{"v":0,"d":"$0.00"}},null,{"$f":"$C24*'6. Personnel Topics'!Z$4","v":{"v":0,"d":"$0.00"}},{"$f":"$C24*'6. Personnel Topics'!Z$5","v":{"v":0,"d":"$0.00"}},{"$f":"$C24*'6. Personnel Topics'!Z$6","v":{"v":0,"d":"$0.00"}},{"$f":"$C24*'6. Personnel Topics'!Z$7","v":{"v":0,"d":"$0.00"}},{"$f":"$C24*'6. Personnel Topics'!Z$8","v":{"v":0,"d":"$0.00"}},{"$f":"$C24*'6. Personnel Topics'!Z$9","v":{"v":0,"d":"$0.00"}}]
[24,"='4. Personnel '!B29",{"$f":"'4. Personnel '!I29","v":{"v":0,"d":"$0.00"}},{"$f":"$C25*'5. Personnel Strategies'!AA$4","v":{"v":0,"d":"$0.00"}},{"$f":"$C25*'5. Personnel Strategies'!AA$5","v":{"v":0,"d":"$0.00"}},{"$f":"$C25*'5. Personnel Strategies'!AA$6","v":{"v":0,"d":"$0.00"}},null,{"$f":"$C25*'6. Personnel Topics'!AA$4","v":{"v":0,"d":"$0.00"}},{"$f":"$C25*'6. Personnel Topics'!AA$5","v":{"v":0,"d":"$0.00"}},{"$f":"$C25*'6. Personnel Topics'!AA$6","v":{"v":0,"d":"$0.00"}},{"$f":"$C25*'6. Personnel Topics'!AA$7","v":{"v":0,"d":"$0.00"}},{"$f":"$C25*'6. Personnel Topics'!AA$8","v":{"v":0,"d":"$0.00"}},{"$f":"$C25*'6. Personnel Topics'!AA$9","v":{"v":0,"d":"$0.00"}}]
[25,"='4. Personnel '!B30",{"$f":"'4. Personnel '!I30","v":{"v":0,"d":"$0.00"}},{"$f":"$C26*'5. Personnel Strategies'!AB$4","v":{"v":0,"d":"$0.00"}},{"$f":"$C26*'5. Personnel Strategies'!AB$5","v":{"v":0,"d":"$0.00"}},{"$f":"$C26*'5. Personnel Strategies'!AB$6","v":{"v":0,"d":"$0.00"}},null,{"$f":"$C26*'6. Personnel Topics'!AB$4","v":{"v":0,"d":"$0.00"}},{"$f":"$C26*'6. Personnel Topics'!AB$5","v":{"v":0,"d":"$0.00"}},{"$f":"$C26*'6. Personnel Topics'!AB$6","v":{"v":0,"d":"$0.00"}},{"$f":"$C26*'6. Personnel Topics'!AB$7","v":{"v":0,"d":"$0.00"}},{"$f":"$C26*'6. Personnel Topics'!AB$8","v":{"v":0,"d":"$0.00"}},{"$f":"$C26*'6. Personnel Topics'!AB$9","v":{"v":0,"d":"$0.00"}}]
[26,"='4. Personnel '!B31",{"$f":"'4. Personnel '!I31","v":{"v":0,"d":"$0.00"}},{"$f":"$C27*'5. Personnel Strategies'!AC$4","v":{"v":0,"d":"$0.00"}},{"$f":"$C27*'5. Personnel Strategies'!AC$5","v":{"v":0,"d":"$0.00"}},{"$f":"$C27*'5. Personnel Strategies'!AC$6","v":{"v":0,"d":"$0.00"}},null,{"$f":"$C27*'6. Personnel Topics'!AC$4","v":{"v":0,"d":"$0.00"}},{"$f":"$C27*'6. Personnel Topics'!AC$5","v":{"v":0,"d":"$0.00"}},{"$f":"$C27*'6. Personnel Topics'!AC$6","v":{"v":0,"d":"$0.00"}},{"$f":"$C27*'6. Personnel Topics'!AC$7","v":{"v":0,"d":"$0.00"}},{"$f":"$C27*'6. Personnel Topics'!AC$8","v":{"v":0,"d":"$0.00"}},{"$f":"$C27*'6. Personnel Topics'!AC$9","v":{"v":0,"d":"$0.00"}}]
[27,"='4. Personnel '!B32",{"$f":"'4. Personnel '!I32","v":{"v":0,"d":"$0.00"}},{"$f":"$C28*'5. Personnel Strategies'!AD$4","v":{"v":0,"d":"$0.00"}},{"$f":"$C28*'5. Personnel Strategies'!AD$5","v":{"v":0,"d":"$0.00"}},{"$f":"$C28*'5. Personnel Strategies'!AD$6","v":{"v":0,"d":"$0.00"}},null,{"$f":"$C28*'6. Personnel Topics'!AD$4","v":{"v":0,"d":"$0.00"}},{"$f":"$C28*'6. Personnel Topics'!AD$5","v":{"v":0,"d":"$0.00"}},{"$f":"$C28*'6. Personnel Topics'!AD$6","v":{"v":0,"d":"$0.00"}},{"$f":"$C28*'6. Personnel Topics'!AD$7","v":{"v":0,"d":"$0.00"}},{"$f":"$C28*'6. Personnel Topics'!AD$8","v":{"v":0,"d":"$0.00"}},{"$f":"$C28*'6. Personnel Topics'!AD$9","v":{"v":0,"d":"$0.00"}}]
[28,"='4. Personnel '!B33",{"$f":"'4. Personnel '!I33","v":{"v":0,"d":"$0.00"}},{"$f":"$C29*'5. Personnel Strategies'!AE$4","v":{"v":0,"d":"$0.00"}},{"$f":"$C29*'5. Personnel Strategies'!AE$5","v":{"v":0,"d":"$0.00"}},{"$f":"$C29*'5. Personnel Strategies'!AE$6","v":{"v":0,"d":"$0.00"}},null,{"$f":"$C29*'6. Personnel Topics'!AE$4","v":{"v":0,"d":"$0.00"}},{"$f":"$C29*'6. Personnel Topics'!AE$5","v":{"v":0,"d":"$0.00"}},{"$f":"$C29*'6. Personnel Topics'!AE$6","v":{"v":0,"d":"$0.00"}},{"$f":"$C29*'6. Personnel Topics'!AE$7","v":{"v":0,"d":"$0.00"}},{"$f":"$C29*'6. Personnel Topics'!AE$8","v":{"v":0,"d":"$0.00"}},{"$f":"$C29*'6. Personnel Topics'!AE$9","v":{"v":0,"d":"$0.00"}}]
[29,"='4. Personnel '!B34",{"$f":"'4. Personnel '!I34","v":{"v":0,"d":"$0.00"}},{"$f":"$C30*'5. Personnel Strategies'!AF$4","v":{"v":0,"d":"$0.00"}},{"$f":"$C30*'5. Personnel Strategies'!AF$5","v":{"v":0,"d":"$0.00"}},{"$f":"$C30*'5. Personnel Strategies'!AF$6","v":{"v":0,"d":"$0.00"}},null,{"$f":"$C30*'6. Personnel Topics'!AF$4","v":{"v":0,"d":"$0.00"}},{"$f":"$C30*'6. Personnel Topics'!AF$5","v":{"v":0,"d":"$0.00"}},{"$f":"$C30*'6. Personnel Topics'!AF$6","v":{"v":0,"d":"$0.00"}},{"$f":"$C30*'6. Personnel Topics'!AF$7","v":{"v":0,"d":"$0.00"}},{"$f":"$C30*'6. Personnel Topics'!AF$8","v":{"v":0,"d":"$0.00"}},{"$f":"$C30*'6. Personnel Topics'!AF$9","v":{"v":0,"d":"$0.00"}}]
[30,"='4. Personnel '!B35",{"$f":"'4. Personnel '!I35","v":{"v":0,"d":"$0.00"}},{"$f":"$C31*'5. Personnel Strategies'!AG$4","v":{"v":0,"d":"$0.00"}},{"$f":"$C31*'5. Personnel Strategies'!AG$5","v":{"v":0,"d":"$0.00"}},{"$f":"$C31*'5. Personnel Strategies'!AG$6","v":{"v":0,"d":"$0.00"}},null,{"$f":"$C31*'6. Personnel Topics'!AG$4","v":{"v":0,"d":"$0.00"}},{"$f":"$C31*'6. Personnel Topics'!AG$5","v":{"v":0,"d":"$0.00"}},{"$f":"$C31*'6. Personnel Topics'!AG$6","v":{"v":0,"d":"$0.00"}},{"$f":"$C31*'6. Personnel Topics'!AG$7","v":{"v":0,"d":"$0.00"}},{"$f":"$C31*'6. Personnel Topics'!AG$8","v":{"v":0,"d":"$0.00"}},{"$f":"$C31*'6. Personnel Topics'!AG$9","v":{"v":0,"d":"$0.00"}}]
[31,"='4. Personnel '!B36",{"$f":"'4. Personnel '!I36","v":{"v":0,"d":"$0.00"}},{"$f":"$C32*'5. Personnel Strategies'!AH$4","v":{"v":0,"d":"$0.00"}},{"$f":"$C32*'5. Personnel Strategies'!AH$5","v":{"v":0,"d":"$0.00"}},{"$f":"$C32*'5. Personnel Strategies'!AH$6","v":{"v":0,"d":"$0.00"}},null,{"$f":"$C32*'6. Personnel Topics'!AH$4","v":{"v":0,"d":"$0.00"}},{"$f":"$C32*'6. Personnel Topics'!AH$5","v":{"v":0,"d":"$0.00"}},{"$f":"$C32*'6. Personnel Topics'!AH$6","v":{"v":0,"d":"$0.00"}},{"$f":"$C32*'6. Personnel Topics'!AH$7","v":{"v":0,"d":"$0.00"}},{"$f":"$C32*'6. Personnel Topics'!AH$8","v":{"v":0,"d":"$0.00"}},{"$f":"$C32*'6. Personnel Topics'!AH$9","v":{"v":0,"d":"$0.00"}}]
[32,"='4. Personnel '!B37",{"$f":"'4. Personnel '!I37","v":{"v":0,"d":"$0.00"}},{"$f":"$C33*'5. Personnel Strategies'!AI$4","v":{"v":0,"d":"$0.00"}},{"$f":"$C33*'5. Personnel Strategies'!AI$5","v":{"v":0,"d":"$0.00"}},{"$f":"$C33*'5. Personnel Strategies'!AI$6","v":{"v":0,"d":"$0.00"}},null,{"$f":"$C33*'6. Personnel Topics'!AI$4","v":{"v":0,"d":"$0.00"}},{"$f":"$C33*'6. Personnel Topics'!AI$5","v":{"v":0,"d":"$0.00"}},{"$f":"$C33*'6. Personnel Topics'!AI$6","v":{"v":0,"d":"$0.00"}},{"$f":"$C33*'6. Personnel Topics'!AI$7","v":{"v":0,"d":"$0.00"}},{"$f":"$C33*'6. Personnel Topics'!AI$8","v":{"v":0,"d":"$0.00"}},{"$f":"$C33*'6. Personnel Topics'!AI$9","v":{"v":0,"d":"$0.00"}}]
[33,"='4. Personnel '!B38",{"$f":"'4. Personnel '!I38","v":{"v":0,"d":"$0.00"}},{"$f":"$C34*'5. Personnel Strategies'!AJ$4","v":{"v":0,"d":"$0.00"}},{"$f":"$C34*'5. Personnel Strategies'!AJ$5","v":{"v":0,"d":"$0.00"}},{"$f":"$C34*'5. Personnel Strategies'!AJ$6","v":{"v":0,"d":"$0.00"}},null,{"$f":"$C34*'6. Personnel Topics'!AJ$4","v":{"v":0,"d":"$0.00"}},{"$f":"$C34*'6. Personnel Topics'!AJ$5","v":{"v":0,"d":"$0.00"}},{"$f":"$C34*'6. Personnel Topics'!AJ$6","v":{"v":0,"d":"$0.00"}},{"$f":"$C34*'6. Personnel Topics'!AJ$7","v":{"v":0,"d":"$0.00"}},{"$f":"$C34*'6. Personnel Topics'!AJ$8","v":{"v":0,"d":"$0.00"}},{"$f":"$C34*'6. Personnel Topics'!AJ$9","v":{"v":0,"d":"$0.00"}}]
[34,"='4. Personnel '!B39",{"$f":"'4. Personnel '!I39","v":{"v":0,"d":"$0.00"}},{"$f":"$C35*'5. Personnel Strategies'!AK$4","v":{"v":0,"d":"$0.00"}},{"$f":"$C35*'5. Personnel Strategies'!AK$5","v":{"v":0,"d":"$0.00"}},{"$f":"$C35*'5. Personnel Strategies'!AK$6","v":{"v":0,"d":"$0.00"}},null,{"$f":"$C35*'6. Personnel Topics'!AK$4","v":{"v":0,"d":"$0.00"}},{"$f":"$C35*'6. Personnel Topics'!AK$5","v":{"v":0,"d":"$0.00"}},{"$f":"$C35*'6. Personnel Topics'!AK$6","v":{"v":0,"d":"$0.00"}},{"$f":"$C35*'6. Personnel Topics'!AK$7","v":{"v":0,"d":"$0.00"}},{"$f":"$C35*'6. Personnel Topics'!AK$8","v":{"v":0,"d":"$0.00"}},{"$f":"$C35*'6. Personnel Topics'!AK$9","v":{"v":0,"d":"$0.00"}}]
[35,"='4. Personnel '!B40",{"$f":"'4. Personnel '!I40","v":{"v":0,"d":"$0.00"}},{"$f":"$C36*'5. Personnel Strategies'!AL$4","v":{"v":0,"d":"$0.00"}},{"$f":"$C36*'5. Personnel Strategies'!AL$5","v":{"v":0,"d":"$0.00"}},{"$f":"$C36*'5. Personnel Strategies'!AL$6","v":{"v":0,"d":"$0.00"}},null,{"$f":"$C36*'6. Personnel Topics'!AL$4","v":{"v":0,"d":"$0.00"}},{"$f":"$C36*'6. Personnel Topics'!AL$5","v":{"v":0,"d":"$0.00"}},{"$f":"$C36*'6. Personnel Topics'!AL$6","v":{"v":0,"d":"$0.00"}},{"$f":"$C36*'6. Personnel Topics'!AL$7","v":{"v":0,"d":"$0.00"}},{"$f":"$C36*'6. Personnel Topics'!AL$8","v":{"v":0,"d":"$0.00"}},{"$f":"$C36*'6. Personnel Topics'!AL$9","v":{"v":0,"d":"$0.00"}}]

{"sheet":"Strategy & Topic Master","index":19,"n_rows":1201,"n_cols":8,"rows_kept":1201,"merged":[[0,0,0,2],[0,4,0,7],[23,0,23,2],[23,4,23,7],[57,0,57,2],[57,4,57,7],[85,0,85,2],[85,4,85,7],[113,0,113,2],[113,4,113,7],[166,0,166,2],[166,4,166,7],[204,0,204,2],[204,4,204,7]]}
["Sources of Funding (Tab 2)- Allocation by Strategy",{"$nulls":3},"Sources of Funding (Tab 2)- Allocation by Topic"]
["Data and Surveillance","Collaborations and Partnerships","Assessment and Evaluation",null,"Adverse Childhood Experiences (ACEs)","Transportation Safety","Traumatic Brain Injury","Other Topic (please specify in comments)"]
[{"$f":"IF(ISNUMBER(SEARCH(A$2,'2.Total Allocated Program Funds'!$C16))=TRUE,('2.Total Allocated Program Funds'!$B16/COUNTA(_xlfn.TEXTSPLIT('2.Total Allocated Program Funds'!$C16,\";\"))),\"\")","v":""},{"$f":"IF(ISNUMBER(SEARCH(B$2,'2.Total Allocated Program Funds'!$C16))=TRUE,('2.Total Allocated Program Funds'!$B16/COUNTA(_xlfn.TEXTSPLIT('2.Total Allocated Program Funds'!$C16,\";\"))),\"\")","v":0},{"$f":"IF(ISNUMBER(SEARCH(C$2,'2.Total Allocated Program Funds'!$C16))=TRUE,('2.Total Allocated Program Funds'!$B16/COUNTA(_xlfn.TEXTSPLIT('2.Total Allocated Program Funds'!$C16,\";\"))),\"\")","v":0},null,{"$f":"IF(ISNUMBER(SEARCH(E$2,'2.Total Allocated Program Funds'!$D16))=TRUE,('2.Total Allocated Program Funds'!$B16/COUNTA(_xlfn.TEXTSPLIT('2.Total Allocated Program Funds'!$D16,\";\"))),\"\")","v":""},{"$f":"IF(ISNUMBER(SEARCH(F$2,'2.Total Allocated Program Funds'!$D16))=TRUE,('2.Total Allocated Program Funds'!$B16/COUNTA(_xlfn.TEXTSPLIT('2.Total Allocated Program Funds'!$D16,\";\"))),\"\")","v":""},{"$f":"IF(ISNUMBER(SEARCH(G$2,'2.Total Allocated Program Funds'!$D16))=TRUE,('2.Total Allocated Program Funds'!$B16/COUNTA(_xlfn.TEXTSPLIT('2.Total Allocated Program Funds'!$D16,\";\"))),\"\")","v":""},{"$f":"IF(ISNUMBER(SEARCH(H$2,'2.Total Allocated Program Funds'!$D16))=TRUE,('2.Total Allocated Program Funds'!$B16/COUNTA(_xlfn.TEXTSPLIT('2.Total Allocated Program Funds'!$D16,\";\"))),\"\")","v":""}]
[{"$f":"IF(ISNUMBER(SEARCH(A$2,'2.Total Allocated Program Funds'!$C17))=TRUE,('2.Total Allocated Program Funds'!$B17/COUNTA(_xlfn.TEXTSPLIT('2.Total Allocated Program Funds'!$C17,\";\"))),\"\")","v":""},{"$f":"IF(ISNUMBER(SEARCH(B$2,'2.Total Allocated Program Funds'!$C17))=TRUE,('2.Total Allocated Program Funds'!$B17/COUNTA(_xlfn.TEXTSPLIT('2.Total Allocated Program Funds'!$C17,\";\"))),\"\")","v":""},{"$f":"IF(ISNUMBER(SEARCH(C$2,'2.Total Allocated Program Funds'!$C17))=TRUE,('2.Total Allocated Program Funds'!$B17/COUNTA(_xlfn.TEXTSPLIT('2.Total Allocated Program Funds'!$C17,\";\"))),\"\")","v":""},null,{"$f":"IF(ISNUMBER(SEARCH(E$2,'2.Total Allocated Program Funds'!$D17))=TRUE,('2.Total Allocated Program Funds'!$B17/COUNTA(_xlfn.TEXTSPLIT('2.Total Allocated Program Funds'!$D17,\";\"))),\"\")","v":""},{"$f":"IF(ISNUMBER(SEARCH(F$2,'2.Total Allocated Program Funds'!$D17))=TRUE,('2.Total Allocated Program Funds'!$B17/COUNTA(_xlfn.TEXTSPLIT('2.Total Allocated Program Funds'!$D17,\";\"))),\"\")","v":""},{"$f":"IF(ISNUMBER(SEARCH(G$2,'2.Total Allocated Program Funds'!$D17))=TRUE,('2.Total Allocated Program Funds'!$B17/COUNTA(_xlfn.TEXTSPLIT('2.Total Allocated Program Funds'!$D17,\";\"))),\"\")","v":""},{"$f":"IF(ISNUMBER(SEARCH(H$2,'2.Total Allocated Program Funds'!$D17))=TRUE,('2.Total Allocated Program Funds'!$B17/COUNTA(_xlfn.TEXTSPLIT('2.Total Allocated Program Funds'!$D17,\";\"))),\"\")","v":""}]
[{"$f":"IF(ISNUMBER(SEARCH(A$2,'2.Total Allocated Program Funds'!$C18))=TRUE,('2.Total Allocated Program Funds'!$B18/COUNTA(_xlfn.TEXTSPLIT('2.Total Allocated Program Funds'!$C18,\";\"))),\"\")","v":""},{"$f":"IF(ISNUMBER(SEARCH(B$2,'2.Total Allocated Program Funds'!$C18))=TRUE,('2.Total Allocated Program Funds'!$B18/COUNTA(_xlfn.TEXTSPLIT('2.Total Allocated Program Funds'!$C18,\";\"))),\"\")","v":""},{"$f":"IF(ISNUMBER(SEARCH(C$2,'2.Total Allocated Program Funds'!$C18))=TRUE,('2.Total Allocated Program Funds'!$B18/COUNTA(_xlfn.TEXTSPLIT('2.Total Allocated Program Funds'!$C18,\";\"))),\"\")","v":""},null,{"$f":"IF(ISNUMBER(SEARCH(E$2,'2.Total Allocated Program Funds'!$D18))=TRUE,('2.Total Allocated Program Funds'!$B18/COUNTA(_xlfn.TEXTSPLIT('2.Total Allocated Program Funds'!$D18,\";\"))),\"\")","v":""},{"$f":"IF(ISNUMBER(SEARCH(F$2,'2.Total Allocated Program Funds'!$D18))=TRUE,('2.Total Allocated Program Funds'!$B18/COUNTA(_xlfn.TEXTSPLIT('2.Total Allocated Program Funds'!$D18,\";\"))),\"\")","v":""},{"$f":"IF(ISNUMBER(SEARCH(G$2,'2.Total Allocated Program Funds'!$D18))=TRUE,('2.Total Allocated Program Funds'!$B18/COUNTA(_xlfn.TEXTSPLIT('2.Total Allocated Program Funds'!$D18,\";\"))),\"\")","v":""},{"$f":"IF(ISNUMBER(SEARCH(H$2,'2.Total Allocated Program Funds'!$D18))=TRUE,('2.Total Allocated Program Funds'!$B18/COUNTA(_xlfn.TEXTSPLIT('2.Total Allocated Program Funds'!$D18,\";\"))),\"\")","v":""}]
[{"$f":"IF(ISNUMBER(SEARCH(A$2,'2.Total Allocated Program Funds'!$C19))=TRUE,('2.Total Allocated Program Funds'!$B19/COUNTA(_xlfn.TEXTSPLIT('2.Total Allocated Program Funds'!$C19,\";\"))),\"\")","v":""},{"$f":"IF(ISNUMBER(SEARCH(B$2,'2.Total Allocated Program Funds'!$C19))=TRUE,('2.Total Allocated Program Funds'!$B19/COUNTA(_xlfn.TEXTSPLIT('2.Total Allocated Program Funds'!$C19,\";\"))),\"\")","v":""},{"$f":"IF(ISNUMBER(SEARCH(C$2,'2.Total Allocated Program Funds'!$C19))=TRUE,('2.Total Allocated Program Funds'!$B19/COUNTA(_xlfn.TEXTSPLIT('2.Total Allocated Program Funds'!$C19,\";\"))),\"\")","v":""},null,{"$f":"IF(ISNUMBER(SEARCH(E$2,'2.Total Allocated Program Funds'!$D19))=TRUE,('2.Total Allocated Program Funds'!$B19/COUNTA(_xlfn.TEXTSPLIT('2.Total Allocated Program Funds'!$D19,\";\"))),\"\")","v":""},{"$f":"IF(ISNUMBER(SEARCH(F$2,'2.Total Allocated Program Funds'!$D19))=TRUE,('2.Total Allocated Program Funds'!$B19/COUNTA(_xlfn.TEXTSPLIT('2.Total Allocated Program Funds'!$D19,\";\"))),\"\")","v":""},{"$f":"IF(ISNUMBER(SEARCH(G$2,'2.Total Allocated Program Funds'!$D19))=TRUE,('2.Total Allocated Program Funds'!$B19/COUNTA(_xlfn.TEXTSPLIT('2.Total Allocated Program Funds'!$D19,\";\"))),\"\")","v":""},{"$f":"IF(ISNUMBER(SEARCH(H$2,'2.Total Allocated Program Funds'!$D19))=TRUE,('2.Total Allocated Program Funds'!$B19/COUNTA(_xlfn.TEXTSPLIT('2.Total Allocated Program Funds'!$D19,\";\"))),\"\")","v":""}]
[{"$f":"IF(ISNUMBER(SEARCH(A$2,'2.Total Allocated Program Funds'!$C20))=TRUE,('2.Total Allocated Program Funds'!$B20/COUNTA(_xlfn.TEXTSPLIT('2.Total Allocated Program Funds'!$C20,\";\"))),\"\")","v":""},{"$f":"IF(ISNUMBER(SEARCH(B$2,'2.Total Allocated Program Funds'!$C20))=TRUE,('2.Total Allocated Program Funds'!$B20/COUNTA(_xlfn.TEXTSPLIT('2.Total Allocated Program Funds'!$C20,\";\"))),\"\")","v":""},{"$f":"IF(ISNUMBER(SEARCH(C$2,'2.Total Allocated Program Funds'!$C20))=TRUE,('2.Total Allocated Program Funds'!$B20/COUNTA(_xlfn.TEXTSPLIT('2.Total Allocated Program Funds'!$C20,\";\"))),\"\")","v":""},null,{"$f":"IF(ISNUMBER(SEARCH(E$2,'2.Total Allocated Program Funds'!$D20))=TRUE,('2.Total Allocated Program Funds'!$B20/COUNTA(_xlfn.TEXTSPLIT('2.Total Allocated Program Funds'!$D20,\";\"))),\"\")","v":""},{"$f":"IF(ISNUMBER(SEARCH(F$2,'2.Total Allocated Program Funds'!$D20))=TRUE,('2.Total Allocated Program Funds'!$B20/COUNTA(_xlfn.TEXTSPLIT('2.Total Allocated Program Funds'!$D20,\";\"))),\"\")","v":""},{"$f":"IF(ISNUMBER(SEARCH(G$2,'2.Total Allocated Program Funds'!$D20))=TRUE,('2.Total Allocated Program Funds'!$B20/COUNTA(_xlfn.TEXTSPLIT('2.Total Allocated Program Funds'!$D20,\";\"))),\"\")","v":""},{"$f":"IF(ISNUMBER(SEARCH(H$2,'2.Total Allocated Program Funds'!$D20))=TRUE,('2.Total Allocated Program Funds'!$B20/COUNTA(_xlfn.TEXTSPLIT('2.Total Allocated Program Funds'!$D20,\";\"))),\"\")","v":""}]
[{"$f":"IF(ISNUMBER(SEARCH(A$2,'2.Total Allocated Program Funds'!$C21))=TRUE,('2.Total Allocated Program Funds'!$B21/COUNTA(_xlfn.TEXTSPLIT('2.Total Allocated Program Funds'!$C21,\";\"))),\"\")","v":""},{"$f":"IF(ISNUMBER(SEARCH(B$2,'2.Total Allocated Program Funds'!$C21))=TRUE,('2.Total Allocated Program Funds'!$B21/COUNTA(_xlfn.TEXTSPLIT('2.Total Allocated Program Funds'!$C21,\";\"))),\"\")","v":""},{"$f":"IF(ISNUMBER(SEARCH(C$2,'2.Total Allocated Program Funds'!$C21))=TRUE,('2.Total Allocated Program Funds'!$B21/COUNTA(_xlfn.TEXTSPLIT('2.Total Allocated Program Funds'!$C21,\";\"))),\"\")","v":""},null,{"$f":"IF(ISNUMBER(SEARCH(E$2,'2.Total Allocated Program Funds'!$D21))=TRUE,('2.Total Allocated Program Funds'!$B21/COUNTA(_xlfn.TEXTSPLIT('2.Total Allocated Program Funds'!$D21,\";\"))),\"\")","v":""},{"$f":"IF(ISNUMBER(SEARCH(F$2,'2.Total Allocated Program Funds'!$D21))=TRUE,('2.Total Allocated Program Funds'!$B21/COUNTA(_xlfn.TEXTSPLIT('2.Total Allocated Program Funds'!$D21,\";\"))),\"\")","v":""},{"$f":"IF(ISNUMBER(SEARCH(G$2,'2.Total Allocated Program Funds'!$D21))=TRUE,('2.Total Allocated Program Funds'!$B21/COUNTA(_xlfn.TEXTSPLIT('2.Total Allocated Program Funds'!$D21,\";\"))),\"\")","v":""},{"$f":"IF(ISNUMBER(SEARCH(H$2,'2.Total Allocated Program Funds'!$D21))=TRUE,('2.Total Allocated Program Funds'!$B21/COUNTA(_xlfn.TEXTSPLIT('2.Total Allocated Program Funds'!$D21,\";\"))),\"\")","v":""}]
[{"$f":"IF(ISNUMBER(SEARCH(A$2,'2.Total Allocated Program Funds'!$C22))=TRUE,('2.Total Allocated Program Funds'!$B22/COUNTA(_xlfn.TEXTSPLIT('2.Total Allocated Program Funds'!$C22,\";\"))),\"\")","v":""},{"$f":"IF(ISNUMBER(SEARCH(B$2,'2.Total Allocated Program Funds'!$C22))=TRUE,('2.Total Allocated Program Funds'!$B22/COUNTA(_xlfn.TEXTSPLIT('2.Total Allocated Program Funds'!$C22,\";\"))),\"\")","v":""},{"$f":"IF(ISNUMBER(SEARCH(C$2,'2.Total Allocated Program Funds'!$C22))=TRUE,('2.Total Allocated Program Funds'!$B22/COUNTA(_xlfn.TEXTSPLIT('2.Total Allocated Program Funds'!$C22,\";\"))),\"\")","v":""},null,{"$f":"IF(ISNUMBER(SEARCH(E$2,'2.Total Allocated Program Funds'!$D22))=TRUE,('2.Total Allocated Program Funds'!$B22/COUNTA(_xlfn.TEXTSPLIT('2.Total Allocated Program Funds'!$D22,\";\"))),\"\")","v":""},{"$f":"IF(ISNUMBER(SEARCH(F$2,'2.Total Allocated Program Funds'!$D22))=TRUE,('2.Total Allocated Program Funds'!$B22/COUNTA(_xlfn.TEXTSPLIT('2.Total Allocated Program Funds'!$D22,\";\"))),\"\")","v":""},{"$f":"IF(ISNUMBER(SEARCH(G$2,'2.Total Allocated Program Funds'!$D22))=TRUE,('2.Total Allocated Program Funds'!$B22/COUNTA(_xlfn.TEXTSPLIT('2.Total Allocated Program Funds'!$D22,\";\"))),\"\")","v":""},{"$f":"IF(ISNUMBER(SEARCH(H$2,'2.Total Allocated Program Funds'!$D22))=TRUE,('2.Total Allocated Program Funds'!$B22/COUNTA(_xlfn.TEXTSPLIT('2.Total Allocated Program Funds'!$D22,\";\"))),\"\")","v":""}]
[{"$f":"IF(ISNUMBER(SEARCH(A$2,'2.Total Allocated Program Funds'!$C23))=TRUE,('2.Total Allocated Program Funds'!$B23/COUNTA(_xlfn.TEXTSPLIT('2.Total Allocated Program Funds'!$C23,\";\"))),\"\")","v":""},{"$f":"IF(ISNUMBER(SEARCH(B$2,'2.Total Allocated Program Funds'!$C23))=TRUE,('2.Total Allocated Program Funds'!$B23/COUNTA(_xlfn.TEXTSPLIT('2.Total Allocated Program Funds'!$C23,\";\"))),\"\")","v":""},{"$f":"IF(ISNUMBER(SEARCH(C$2,'2.Total Allocated Program Funds'!$C23))=TRUE,('2.Total Allocated Program Funds'!$B23/COUNTA(_xlfn.TEXTSPLIT('2.Total Allocated Program Funds'!$C23,\";\"))),\"\")","v":""},null,{"$f":"IF(ISNUMBER(SEARCH(E$2,'2.Total Allocated Program Funds'!$D23))=TRUE,('2.Total Allocated Program Funds'!$B23/COUNTA(_xlfn.TEXTSPLIT('2.Total Allocated Program Funds'!$D23,\";\"))),\"\")","v":""},{"$f":"IF(ISNUMBER(SEARCH(F$2,'2.Total Allocated Program Funds'!$D23))=TRUE,('2.Total Allocated Program Funds'!$B23/COUNTA(_xlfn.TEXTSPLIT('2.Total Allocated Program Funds'!$D23,\";\"))),\"\")","v":""},{"$f":"IF(ISNUMBER(SEARCH(G$2,'2.Total Allocated Program Funds'!$D23))=TRUE,('2.Total Allocated Program Funds'!$B23/COUNTA(_xlfn.TEXTSPLIT('2.Total Allocated Program Funds'!$D23,\";\"))),\"\")","v":""},{"$f":"IF(ISNUMBER(SEARCH(H$2,'2.Total Allocated Program Funds'!$D23))=TRUE,('2.Total Allocated Program Funds'!$B23/COUNTA(_xlfn.TEXTSPLIT('2.Total Allocated Program Funds'!$D23,\";\"))),\"\")","v":""}]
[{"$f":"IF(ISNUMBER(SEARCH(A$2,'2.Total Allocated Program Funds'!$C24))=TRUE,('2.Total Allocated Program Funds'!$B24/COUNTA(_xlfn.TEXTSPLIT('2.Total Allocated Program Funds'!$C24,\";\"))),\"\")","v":""},{"$f":"IF(ISNUMBER(SEARCH(B$2,'2.Total Allocated Program Funds'!$C24))=TRUE,('2.Total Allocated Program Funds'!$B24/COUNTA(_xlfn.TEXTSPLIT('2.Total Allocated Program Funds'!$C24,\";\"))),\"\")","v":""},{"$f":"IF(ISNUMBER(SEARCH(C$2,'2.Total Allocated Program Funds'!$C24))=TRUE,('2.Total Allocated Program Funds'!$B24/COUNTA(_xlfn.TEXTSPLIT('2.Total Allocated Program Funds'!$C24,\";\"))),\"\")","v":""},null,{"$f":"IF(ISNUMBER(SEARCH(E$2,'2.Total Allocated Program Funds'!$D24))=TRUE,('2.Total Allocated Program Funds'!$B24/COUNTA(_xlfn.TEXTSPLIT('2.Total Allocated Program Funds'!$D24,\";\"))),\"\")","v":""},{"$f":"IF(ISNUMBER(SEARCH(F$2,'2.Total Allocated Program Funds'!$D24))=TRUE,('2.Total Allocated Program Funds'!$B24/COUNTA(_xlfn.TEXTSPLIT('2.Total Allocated Program Funds'!$D24,\";\"))),\"\")","v":""},{"$f":"IF(ISNUMBER(SEARCH(G$2,'2.Total Allocated Program Funds'!$D24))=TRUE,('2.Total Allocated Program Funds'!$B24/COUNTA(_xlfn.TEXTSPLIT('2.Total Allocated Program Funds'!$D24,\";\"))),\"\")","v":""},{"$f":"IF(ISNUMBER(SEARCH(H$2,'2.Total Allocated Program Funds'!$D24))=TRUE,('2.Total Allocated Program Funds'!$B24/COUNTA(_xlfn.TEXTSPLIT('2.Total Allocated Program Funds'!$D24,\";\"))),\"\")","v":""}]
[{"$f":"IF(ISNUMBER(SEARCH(A$2,'2.Total Allocated Program Funds'!$C25))=TRUE,('2.Total Allocated Program Funds'!$B25/COUNTA(_xlfn.TEXTSPLIT('2.Total Allocated Program Funds'!$C25,\";\"))),\"\")","v":""},{"$f":"IF(ISNUMBER(SEARCH(B$2,'2.Total Allocated Program Funds'!$C25))=TRUE,('2.Total Allocated Program Funds'!$B25/COUNTA(_xlfn.TEXTSPLIT('2.Total Allocated Program Funds'!$C25,\";\"))),\"\")","v":""},{"$f":"IF(ISNUMBER(SEARCH(C$2,'2.Total Allocated Program Funds'!$C25))=TRUE,('2.Total Allocated Program Funds'!$B25/COUNTA(_xlfn.TEXTSPLIT('2.Total Allocated Program Funds'!$C25,\";\"))),\"\")","v":""},null,{"$f":"IF(ISNUMBER(SEARCH(E$2,'2.Total Allocated Program Funds'!$D25))=TRUE,('2.Total Allocated Program Funds'!$B25/COUNTA(_xlfn.TEXTSPLIT('2.Total Allocated Program Funds'!$D25,\";\"))),\"\")","v":""},{"$f":"IF(ISNUMBER(SEARCH(F$2,'2.Total Allocated Program Funds'!$D25))=TRUE,('2.Total Allocated Program Funds'!$B25/COUNTA(_xlfn.TEXTSPLIT('2.Total Allocated Program Funds'!$D25,\";\"))),\"\")","v":""},{"$f":"IF(ISNUMBER(SEARCH(G$2,'2.Total Allocated Program Funds'!$D25))=TRUE,('2.Total Allocated Program Funds'!$B25/COUNTA(_xlfn.TEXTSPLIT('2.Total Allocated Program Funds'!$D25,\";\"))),\"\")","v":""},{"$f":"IF(ISNUMBER(SEARCH(H$2,'2.Total Allocated Program Funds'!$D25))=TRUE,('2.Total Allocated Program Funds'!$B25/COUNTA(_xlfn.TEXTSPLIT('2.Total Allocated Program Funds'!$D25,\";\"))),\"\")","v":""}]
[{"$f":"IF(ISNUMBER(SEARCH(A$2,'2.Total Allocated Program Funds'!$C26))=TRUE,('2.Total Allocated Program Funds'!$B26/COUNTA(_xlfn.TEXTSPLIT('2.Total Allocated Program Funds'!$C26,\";\"))),\"\")","v":""},{"$f":"IF(ISNUMBER(SEARCH(B$2,'2.Total Allocated Program Funds'!$C26))=TRUE,('2.Total Allocated Program Funds'!$B26/COUNTA(_xlfn.TEXTSPLIT('2.Total Allocated Program Funds'!$C26,\";\"))),\"\")","v":""},{"$f":"IF(ISNUMBER(SEARCH(C$2,'2.Total Allocated Program Funds'!$C26))=TRUE,('2.Total Allocated Program Funds'!$B26/COUNTA(_xlfn.TEXTSPLIT('2.Total Allocated Program Funds'!$C26,\";\"))),\"\")","v":""},null,{"$f":"IF(ISNUMBER(SEARCH(E$2,'2.Total Allocated Program Funds'!$D26))=TRUE,('2.Total Allocated Program Funds'!$B26/COUNTA(_xlfn.TEXTSPLIT('2.Total Allocated Program Funds'!$D26,\";\"))),\"\")","v":""},{"$f":"IF(ISNUMBER(SEARCH(F$2,'2.Total Allocated Program Funds'!$D26))=TRUE,('2.Total Allocated Program Funds'!$B26/COUNTA(_xlfn.TEXTSPLIT('2.Total Allocated Program Funds'!$D26,\";\"))),\"\")","v":""},{"$f":"IF(ISNUMBER(SEARCH(G$2,'2.Total Allocated Program Funds'!$D26))=TRUE,('2.Total Allocated Program Funds'!$B26/COUNTA(_xlfn.TEXTSPLIT('2.Total Allocated Program Funds'!$D26,\";\"))),\"\")","v":""},{"$f":"IF(ISNUMBER(SEARCH(H$2,'2.Total Allocated Program Funds'!$D26))=TRUE,('2.Total Allocated Program Funds'!$B26/COUNTA(_xlfn.TEXTSPLIT('2.Total Allocated Program Funds'!$D26,\";\"))),\"\")","v":""}]
[{"$f":"IF(ISNUMBER(SEARCH(A$2,'2.Total Allocated Program Funds'!$C27))=TRUE,('2.Total Allocated Program Funds'!$B27/COUNTA(_xlfn.TEXTSPLIT('2.Total Allocated Program Funds'!$C27,\";\"))),\"\")","v":""},{"$f":"IF(ISNUMBER(SEARCH(B$2,'2.Total Allocated Program Funds'!$C27))=TRUE,('2.Total Allocated Program Funds'!$B27/COUNTA(_xlfn.TEXTSPLIT('2.Total Allocated Program Funds'!$C27,\";\"))),\"\")","v":""},{"$f":"IF(ISNUMBER(SEARCH(C$2,'2.Total Allocated Program Funds'!$C27))=TRUE,('2.Total Allocated Program Funds'!$B27/COUNTA(_xlfn.TEXTSPLIT('2.Total Allocated Program Funds'!$C27,\";\"))),\"\")","v":""},null,{"$f":"IF(ISNUMBER(SEARCH(E$2,'2.Total Allocated Program Funds'!$D27))=TRUE,('2.Total Allocated Program Funds'!$B27/COUNTA(_xlfn.TEXTSPLIT('2.Total Allocated Program Funds'!$D27,\";\"))),\"\")","v":""},{"$f":"IF(ISNUMBER(SEARCH(F$2,'2.Total Allocated Program Funds'!$D27))=TRUE,('2.Total Allocated Program Funds'!$B27/COUNTA(_xlfn.TEXTSPLIT('2.Total Allocated Program Funds'!$D27,\";\"))),\"\")","v":""},{"$f":"IF(ISNUMBER(SEARCH(G$2,'2.Total Allocated Program Funds'!$D27))=TRUE,('2.Total Allocated Program Funds'!$B27/COUNTA(_xlfn.TEXTSPLIT('2.Total Allocated Program Funds'!$D27,\";\"))),\"\")","v":""},{"$f":"IF(ISNUMBER(SEARCH(H$2,'2.Total Allocated Program Funds'!$D27))=TRUE,('2.Total Allocated Program Funds'!$B27/COUNTA(_xlfn.TEXTSPLIT('2.Total Allocated Program Funds'!$D27,\";\"))),\"\")","v":""}]
[{"$f":"IF(ISNUMBER(SEARCH(A$2,'2.Total Allocated Program Funds'!$C28))=TRUE,('2.Total Allocated Program Funds'!$B28/COUNTA(_xlfn.TEXTSPLIT('2.Total Allocated Program Funds'!$C28,\";\"))),\"\")","v":""},{"$f":"IF(ISNUMBER(SEARCH(B$2,'2.Total Allocated Program Funds'!$C28))=TRUE,('2.Total Allocated Program Funds'!$B28/COUNTA(_xlfn.TEXTSPLIT('2.Total Allocated Program Funds'!$C28,\";\"))),\"\")","v":""},{"$f":"IF(ISNUMBER(SEARCH(C$2,'2.Total Allocated Program Funds'!$C28))=TRUE,('2.Total Allocated Program Funds'!$B28/COUNTA(_xlfn.TEXTSPLIT('2.Total Allocated Program Funds'!$C28,\";\"))),\"\")","v":""},null,{"$f":"IF(ISNUMBER(SEARCH(E$2,'2.Total Allocated Program Funds'!$D28))=TRUE,('2.Total Allocated Program Funds'!$B28/COUNTA(_xlfn.TEXTSPLIT('2.Total Allocated Program Funds'!$D28,\";\"))),\"\")","v":""},{"$f":"IF(ISNUMBER(SEARCH(F$2,'2.Total Allocated Program Funds'!$D28))=TRUE,('2.Total Allocated Program Funds'!$B28/COUNTA(_xlfn.TEXTSPLIT('2.Total Allocated Program Funds'!$D28,\";\"))),\"\")","v":""},{"$f":"IF(ISNUMBER(SEARCH(G$2,'2.Total Allocated Program Funds'!$D28))=TRUE,('2.Total Allocated Program Funds'!$B28/COUNTA(_xlfn.TEXTSPLIT('2.Total Allocated Program Funds'!$D28,\";\"))),\"\")","v":""},{"$f":"IF(ISNUMBER(SEARCH(H$2,'2.Total Allocated Program Funds'!$D28))=TRUE,('2.Total Allocated Program Funds'!$B28/COUNTA(_xlfn.TEXTSPLIT('2.Total Allocated Program Funds'!$D28,\";\"))),\"\")","v":""}]
[{"$f":"IF(ISNUMBER(SEARCH(A$2,'2.Total Allocated Program Funds'!$C29))=TRUE,('2.Total Allocated Program Funds'!$B29/COUNTA(_xlfn.TEXTSPLIT('2.Total Allocated Program Funds'!$C29,\";\"))),\"\")","v":""},{"$f":"IF(ISNUMBER(SEARCH(B$2,'2.Total Allocated Program Funds'!$C29))=TRUE,('2.Total Allocated Program Funds'!$B29/COUNTA(_xlfn.TEXTSPLIT('2.Total Allocated Program Funds'!$C29,\";\"))),\"\")","v":""},{"$f":"IF(ISNUMBER(SEARCH(C$2,'2.Total Allocated Program Funds'!$C29))=TRUE,('2.Total Allocated Program Funds'!$B29/COUNTA(_xlfn.TEXTSPLIT('2.Total Allocated Program Funds'!$C29,\";\"))),\"\")","v":""},null,{"$f":"IF(ISNUMBER(SEARCH(E$2,'2.Total Allocated Program Funds'!$D29))=TRUE,('2.Total Allocated Program Funds'!$B29/COUNTA(_xlfn.TEXTSPLIT('2.Total Allocated Program Funds'!$D29,\";\"))),\"\")","v":""},{"$f":"IF(ISNUMBER(SEARCH(F$2,'2.Total Allocated Program Funds'!$D29))=TRUE,('2.Total Allocated Program Funds'!$B29/COUNTA(_xlfn.TEXTSPLIT('2.Total Allocated Program Funds'!$D29,\";\"))),\"\")","v":""},{"$f":"IF(ISNUMBER(SEARCH(G$2,'2.Total Allocated Program Funds'!$D29))=TRUE,('2.Total Allocated Program Funds'!$B29/COUNTA(_xlfn.TEXTSPLIT('2.Total Allocated Program Funds'!$D29,\";\"))),\"\")","v":""},{"$f":"IF(ISNUMBER(SEARCH(H$2,'2.Total Allocated Program Funds'!$D29))=TRUE,('2.Total Allocated Program Funds'!$B29/COUNTA(_xlfn.TEXTSPLIT('2.Total Allocated Program Funds'!$D29,\";\"))),\"\")","v":""}]
[{"$f":"IF(ISNUMBER(SEARCH(A$2,'2.Total Allocated Program Funds'!$C30))=TRUE,('2.Total Allocated Program Funds'!$B30/COUNTA(_xlfn.TEXTSPLIT('2.Total Allocated Program Funds'!$C30,\";\"))),\"\")","v":""},{"$f":"IF(ISNUMBER(SEARCH(B$2,'2.Total Allocated Program Funds'!$C30))=TRUE,('2.Total Allocated Program Funds'!$B30/COUNTA(_xlfn.TEXTSPLIT('2.Total Allocated Program Funds'!$C30,\";\"))),\"\")","v":""},{"$f":"IF(ISNUMBER(SEARCH(C$2,'2.Total Allocated Program Funds'!$C30))=TRUE,('2.Total Allocated Program Funds'!$B30/COUNTA(_xlfn.TEXTSPLIT('2.Total Allocated Program Funds'!$C30,\";\"))),\"\")","v":""},null,{"$f":"IF(ISNUMBER(SEARCH(E$2,'2.Total Allocated Program Funds'!$D30))=TRUE,('2.Total Allocated Program Funds'!$B30/COUNTA(_xlfn.TEXTSPLIT('2.Total Allocated Program Funds'!$D30,\";\"))),\"\")","v":""},{"$f":"IF(ISNUMBER(SEARCH(F$2,'2.Total Allocated Program Funds'!$D30))=TRUE,('2.Total Allocated Program Funds'!$B30/COUNTA(_xlfn.TEXTSPLIT('2.Total Allocated Program Funds'!$D30,\";\"))),\"\")","v":""},{"$f":"IF(ISNUMBER(SEARCH(G$2,'2.Total Allocated Program Funds'!$D30))=TRUE,('2.Total Allocated Program Funds'!$B30/COUNTA(_xlfn.TEXTSPLIT('2.Total Allocated Program Funds'!$D30,\";\"))),\"\")","v":""},{"$f":"IF(ISNUMBER(SEARCH(H$2,'2.Total Allocated Program Funds'!$D30))=TRUE,('2.Total Allocated Program Funds'!$B30/COUNTA(_xlfn.TEXTSPLIT('2.Total Allocated Program Funds'!$D30,\";\"))),\"\")","v":""}]
[{"$f":"IF(ISNUMBER(SEARCH(A$2,'2.Total Allocated Program Funds'!$C31))=TRUE,('2.Total Allocated Program Funds'!$B31/COUNTA(_xlfn.TEXTSPLIT('2.Total Allocated Program Funds'!$C31,\";\"))),\"\")","v":""},{"$f":"IF(ISNUMBER(SEARCH(B$2,'2.Total Allocated Program Funds'!$C31))=TRUE,('2.Total Allocated Program Funds'!$B31/COUNTA(_xlfn.TEXTSPLIT('2.Total Allocated Program Funds'!$C31,\";\"))),\"\")","v":""},{"$f":"IF(ISNUMBER(SEARCH(C$2,'2.Total Allocated Program Funds'!$C31))=TRUE,('2.Total Allocated Program Funds'!$B31/COUNTA(_xlfn.TEXTSPLIT('2.Total Allocated Program Funds'!$C31,\";\"))),\"\")","v":""},null,{"$f":"IF(ISNUMBER(SEARCH(E$2,'2.Total Allocated Program Funds'!$D31))=TRUE,('2.Total Allocated Program Funds'!$B31/COUNTA(_xlfn.TEXTSPLIT('2.Total Allocated Program Funds'!$D31,\";\"))),\"\")","v":""},{"$f":"IF(ISNUMBER(SEARCH(F$2,'2.Total Allocated Program Funds'!$D31))=TRUE,('2.Total Allocated Program Funds'!$B31/COUNTA(_xlfn.TEXTSPLIT('2.Total Allocated Program Funds'!$D31,\";\"))),\"\")","v":""},{"$f":"IF(ISNUMBER(SEARCH(G$2,'2.Total Allocated Program Funds'!$D31))=TRUE,('2.Total Allocated Program Funds'!$B31/COUNTA(_xlfn.TEXTSPLIT('2.Total Allocated Program Funds'!$D31,\";\"))),\"\")","v":""},{"$f":"IF(ISNUMBER(SEARCH(H$2,'2.Total Allocated Program Funds'!$D31))=TRUE,('2.Total Allocated Program Funds'!$B31/COUNTA(_xlfn.TEXTSPLIT('2.Total Allocated Program Funds'!$D31,\";\"))),\"\")","v":""}]
[{"$f":"IF(ISNUMBER(SEARCH(A$2,'2.Total Allocated Program Funds'!$C32))=TRUE,('2.Total Allocated Program Funds'!$B32/COUNTA(_xlfn.TEXTSPLIT('2.Total Allocated Program Funds'!$C32,\";\"))),\"\")","v":""},{"$f":"IF(ISNUMBER(SEARCH(B$2,'2.Total Allocated Program Funds'!$C32))=TRUE,('2.Total Allocated Program Funds'!$B32/COUNTA(_xlfn.TEXTSPLIT('2.Total Allocated Program Funds'!$C32,\";\"))),\"\")","v":""},{"$f":"IF(ISNUMBER(SEARCH(C$2,'2.Total Allocated Program Funds'!$C32))=TRUE,('2.Total Allocated Program Funds'!$B32/COUNTA(_xlfn.TEXTSPLIT('2.Total Allocated Program Funds'!$C32,\";\"))),\"\")","v":""},null,{"$f":"IF(ISNUMBER(SEARCH(E$2,'2.Total Allocated Program Funds'!$D32))=TRUE,('2.Total Allocated Program Funds'!$B32/COUNTA(_xlfn.TEXTSPLIT('2.Total Allocated Program Funds'!$D32,\";\"))),\"\")","v":""},{"$f":"IF(ISNUMBER(SEARCH(F$2,'2.Total Allocated Program Funds'!$D32))=TRUE,('2.Total Allocated Program Funds'!$B32/COUNTA(_xlfn.TEXTSPLIT('2.Total Allocated Program Funds'!$D32,\";\"))),\"\")","v":""},{"$f":"IF(ISNUMBER(SEARCH(G$2,'2.Total Allocated Program Funds'!$D32))=TRUE,('2.Total Allocated Program Funds'!$B32/COUNTA(_xlfn.TEXTSPLIT('2.Total Allocated Program Funds'!$D32,\";\"))),\"\")","v":""},{"$f":"IF(ISNUMBER(SEARCH(H$2,'2.Total Allocated Program Funds'!$D32))=TRUE,('2.Total Allocated Program Funds'!$B32/COUNTA(_xlfn.TEXTSPLIT('2.Total Allocated Program Funds'!$D32,\";\"))),\"\")","v":""}]
[{"$f":"IF(ISNUMBER(SEARCH(A$2,'2.Total Allocated Program Funds'!$C33))=TRUE,('2.Total Allocated Program Funds'!$B33/COUNTA(_xlfn.TEXTSPLIT('2.Total Allocated Program Funds'!$C33,\";\"))),\"\")","v":""},{"$f":"IF(ISNUMBER(SEARCH(B$2,'2.Total Allocated Program Funds'!$C33))=TRUE,('2.Total Allocated Program Funds'!$B33/COUNTA(_xlfn.TEXTSPLIT('2.Total Allocated Program Funds'!$C33,\";\"))),\"\")","v":""},{"$f":"IF(ISNUMBER(SEARCH(C$2,'2.Total Allocated Program Funds'!$C33))=TRUE,('2.Total Allocated Program Funds'!$B33/COUNTA(_xlfn.TEXTSPLIT('2.Total Allocated Program Funds'!$C33,\";\"))),\"\")","v":""},null,{"$f":"IF(ISNUMBER(SEARCH(E$2,'2.Total Allocated Program Funds'!$D33))=TRUE,('2.Total Allocated Program Funds'!$B33/COUNTA(_xlfn.TEXTSPLIT('2.Total Allocated Program Funds'!$D33,\";\"))),\"\")","v":""},{"$f":"IF(ISNUMBER(SEARCH(F$2,'2.Total Allocated Program Funds'!$D33))=TRUE,('2.Total Allocated Program Funds'!$B33/COUNTA(_xlfn.TEXTSPLIT('2.Total Allocated Program Funds'!$D33,\";\"))),\"\")","v":""},{"$f":"IF(ISNUMBER(SEARCH(G$2,'2.Total Allocated Program Funds'!$D33))=TRUE,('2.Total Allocated Program Funds'!$B33/COUNTA(_xlfn.TEXTSPLIT('2.Total Allocated Program Funds'!$D33,\";\"))),\"\")","v":""},{"$f":"IF(ISNUMBER(SEARCH(H$2,'2.Total Allocated Program Funds'!$D33))=TRUE,('2.Total Allocated Program Funds'!$B33/COUNTA(_xlfn.TEXTSPLIT('2.Total Allocated Program Funds'!$D33,\";\"))),\"\")","v":""}]
[{"$f":"IF(ISNUMBER(SEARCH(A$2,'2.Total Allocated Program Funds'!$C34))=TRUE,('2.Total Allocated Program Funds'!$B34/COUNTA(_xlfn.TEXTSPLIT('2.Total Allocated Program Funds'!$C34,\";\"))),\"\")","v":""},{"$f":"IF(ISNUMBER(SEARCH(B$2,'2.Total Allocated Program Funds'!$C34))=TRUE,('2.Total Allocated Program Funds'!$B34/COUNTA(_xlfn.TEXTSPLIT('2.Total Allocated Program Funds'!$C34,\";\"))),\"\")","v":""},{"$f":"IF(ISNUMBER(SEARCH(C$2,'2.Total Allocated Program Funds'!$C34))=TRUE,('2.Total Allocated Program Funds'!$B34/COUNTA(_xlfn.TEXTSPLIT('2.Total Allocated Program Funds'!$C34,\";\"))),\"\")","v":""},null,{"$f":"IF(ISNUMBER(SEARCH(E$2,'2.Total Allocated Program Funds'!$D34))=TRUE,('2.Total Allocated Program Funds'!$B34/COUNTA(_xlfn.TEXTSPLIT('2.Total Allocated Program Funds'!$D34,\";\"))),\"\")","v":""},{"$f":"IF(ISNUMBER(SEARCH(F$2,'2.Total Allocated Program Funds'!$D34))=TRUE,('2.Total Allocated Program Funds'!$B34/COUNTA(_xlfn.TEXTSPLIT('2.Total Allocated Program Funds'!$D34,\";\"))),\"\")","v":""},{"$f":"IF(ISNUMBER(SEARCH(G$2,'2.Total Allocated Program Funds'!$D34))=TRUE,('2.Total Allocated Program Funds'!$B34/COUNTA(_xlfn.TEXTSPLIT('2.Total Allocated Program Funds'!$D34,\";\"))),\"\")","v":""},{"$f":"IF(ISNUMBER(SEARCH(H$2,'2.Total Allocated Program Funds'!$D34))=TRUE,('2.Total Allocated Program Funds'!$B34/COUNTA(_xlfn.TEXTSPLIT('2.Total Allocated Program Funds'!$D34,\";\"))),\"\")","v":""}]
[{"$f":"IF(ISNUMBER(SEARCH(A$2,'2.Total Allocated Program Funds'!$C35))=TRUE,('2.Total Allocated Program Funds'!$B35/COUNTA(_xlfn.TEXTSPLIT('2.Total Allocated Program Funds'!$C35,\";\"))),\"\")","v":""},{"$f":"IF(ISNUMBER(SEARCH(B$2,'2.Total Allocated Program Funds'!$C35))=TRUE,('2.Total Allocated Program Funds'!$B35/COUNTA(_xlfn.TEXTSPLIT('2.Total Allocated Program Funds'!$C35,\";\"))),\"\")","v":""},{"$f":"IF(ISNUMBER(SEARCH(C$2,'2.Total Allocated Program Funds'!$C35))=TRUE,('2.Total Allocated Program Funds'!$B35/COUNTA(_xlfn.TEXTSPLIT('2.Total Allocated Program Funds'!$C35,\";\"))),\"\")","v":""},null,{"$f":"IF(ISNUMBER(SEARCH(E$2,'2.Total Allocated Program Funds'!$D35))=TRUE,('2.Total Allocated Program Funds'!$B35/COUNTA(_xlfn.TEXTSPLIT('2.Total Allocated Program Funds'!$D35,\";\"))),\"\")","v":""},{"$f":"IF(ISNUMBER(SEARCH(F$2,'2.Total Allocated Program Funds'!$D35))=TRUE,('2.Total Allocated Program Funds'!$B35/COUNTA(_xlfn.TEXTSPLIT('2.Total Allocated Program Funds'!$D35,\";\"))),\"\")","v":""},{"$f":"IF(ISNUMBER(SEARCH(G$2,'2.Total Allocated Program Funds'!$D35))=TRUE,('2.Total Allocated Program Funds'!$B35/COUNTA(_xlfn.TEXTSPLIT('2.Total Allocated Program Funds'!$D35,\";\"))),\"\")","v":""},{"$f":"IF(ISNUMBER(SEARCH(H$2,'2.Total Allocated Program Funds'!$D35))=TRUE,('2.Total Allocated Program Funds'!$B35/COUNTA(_xlfn.TEXTSPLIT('2.Total Allocated Program Funds'!$D35,\";\"))),\"\")","v":""}]
[]
["In-Kind Resources (Tabs 3A + 3B)- Allocation by Strategy",{"$nulls":3},"In-Kind Resources (Tabs 3A + 3B)- Allocation by Topic"]
["Data and Surveillance","Collaborations and Partnerships","Assessment and Evaluation",null,"Adverse Childhood Experiences (ACEs)","Transportation Safety","Traumatic Brain Injury","Other Topic (please specify in comments)"]
[{"$f":"IF(ISNUMBER(SEARCH(A$2,'3A. In-Kind Labor '!$F5))=TRUE,('3A. In-Kind Labor '!$E5/COUNTA(_xlfn.TEXTSPLIT('3A. In-Kind Labor '!$F5,\";\"))),0)+IF(ISNUMBER(SEARCH(A$2,'3B. In-Kind Non-Labor'!$F6))=TRUE,('3B. In-Kind Non-Labor'!$E6/COUNTA(_xlfn.TEXTSPLIT('3B. In-Kind Non-Labor'!$F6,\";\"))),0)","v":0},{"$f":"IF(ISNUMBER(SEARCH(B$2,'3A. In-Kind Labor '!$F5))=TRUE,('3A. In-Kind Labor '!$E5/COUNTA(_xlfn.TEXTSPLIT('3A. In-Kind Labor '!$F5,\";\"))),0)+IF(ISNUMBER(SEARCH(B$2,'3B. In-Kind Non-Labor'!$F6))=TRUE,('3B. In-Kind Non-Labor'!$E6/COUNTA(_xlfn.TEXTSPLIT('3B. In-Kind Non-Labor'!$F6,\";\"))),0)","v":0},{"$f":"IF(ISNUMBER(SEARCH(C$2,'3A. In-Kind Labor '!$F5))=TRUE,('3A. In-Kind Labor '!$E5/COUNTA(_xlfn.TEXTSPLIT('3A. In-Kind Labor '!$F5,\";\"))),0)+IF(ISNUMBER(SEARCH(C$2,'3B. In-Kind Non-Labor'!$F6))=TRUE,('3B. In-Kind Non-Labor'!$E6/COUNTA(_xlfn.TEXTSPLIT('3B. In-Kind Non-Labor'!$F6,\";\"))),0)","v":0},null,{"$f":"IF(ISNUMBER(SEARCH(E$2,'3A. In-Kind Labor '!$G5))=TRUE,('3A. In-Kind Labor '!$E5/COUNTA(_xlfn.TEXTSPLIT('3A. In-Kind Labor '!$G5,\";\"))),0)+IF(ISNUMBER(SEARCH(E$2,'3B. In-Kind Non-Labor'!$G6))=TRUE,('3B. In-Kind Non-Labor'!$E6/COUNTA(_xlfn.TEXTSPLIT('3B. In-Kind Non-Labor'!$G6,\";\"))),0)","v":0},{"$f":"IF(ISNUMBER(SEARCH(F$2,'3A. In-Kind Labor '!$G5))=TRUE,('3A. In-Kind Labor '!$E5/COUNTA(_xlfn.TEXTSPLIT('3A. In-Kind Labor '!$G5,\";\"))),0)+IF(ISNUMBER(SEARCH(F$2,'3B. In-Kind Non-Labor'!$G6))=TRUE,('3B. In-Kind Non-Labor'!$E6/COUNTA(_xlfn.TEXTSPLIT('3B. In-Kind Non-Labor'!$G6,\";\"))),0)","v":0},{"$f":"IF(ISNUMBER(SEARCH(G$2,'3A. In-Kind Labor '!$G5))=TRUE,('3A. In-Kind Labor '!$E5/COUNTA(_xlfn.TEXTSPLIT('3A. In-Kind Labor '!$G5,\";\"))),0)+IF(ISNUMBER(SEARCH(G$2,'3B. In-Kind Non-Labor'!$G6))=TRUE,('3B. In-Kind Non-Labor'!$E6/COUNTA(_xlfn.TEXTSPLIT('3B. In-Kind Non-Labor'!$G6,\";\"))),0)","v":0},{"$f":"IF(ISNUMBER(SEARCH(H$2,'3A. In-Kind Labor '!$G5))=TRUE,('3A. In-Kind Labor '!$E5/COUNTA(_xlfn.TEXTSPLIT('3A. In-Kind Labor '!$G5,\";\"))),0)+IF(ISNUMBER(SEARCH(H$2,'3B. In-Kind Non-Labor'!$G6))=TRUE,('3B. In-Kind Non-Labor'!$E6/COUNTA(_xlfn.TEXTSPLIT('3B. In-Kind Non-Labor'!$G6,\";\"))),0)","v":0}]
[{"$f":"IF(ISNUMBER(SEARCH(A$2,'3A. In-Kind Labor '!$F6))=TRUE,('3A. In-Kind Labor '!$E6/COUNTA(_xlfn.TEXTSPLIT('3A. In-Kind Labor '!$F6,\";\"))),0)+IF(ISNUMBER(SEARCH(A$2,'3B. In-Kind Non-Labor'!$F7))=TRUE,('3B. In-Kind Non-Labor'!$E7/COUNTA(_xlfn.TEXTSPLIT('3B. In-Kind Non-Labor'!$F7,\";\"))),0)","v":0},{"$f":"IF(ISNUMBER(SEARCH(B$2,'3A. In-Kind Labor '!$F6))=TRUE,('3A. In-Kind Labor '!$E6/COUNTA(_xlfn.TEXTSPLIT('3A. In-Kind Labor '!$F6,\";\"))),0)+IF(ISNUMBER(SEARCH(B$2,'3B. In-Kind Non-Labor'!$F7))=TRUE,('3B. In-Kind Non-Labor'!$E7/COUNTA(_xlfn.TEXTSPLIT('3B. In-Kind Non-Labor'!$F7,\";\"))),0)","v":0},{"$f":"IF(ISNUMBER(SEARCH(C$2,'3A. In-Kind Labor '!$F6))=TRUE,('3A. In-Kind Labor '!$E6/COUNTA(_xlfn.TEXTSPLIT('3A. In-Kind Labor '!$F6,\";\"))),0)+IF(ISNUMBER(SEARCH(C$2,'3B. In-Kind Non-Labor'!$F7))=TRUE,('3B. In-Kind Non-Labor'!$E7/COUNTA(_xlfn.TEXTSPLIT('3B. In-Kind Non-Labor'!$F7,\";\"))),0)","v":0},null,{"$f":"IF(ISNUMBER(SEARCH(E$2,'3A. In-Kind Labor '!$G6))=TRUE,('3A. In-Kind Labor '!$E6/COUNTA(_xlfn.TEXTSPLIT('3A. In-Kind Labor '!$G6,\";\"))),0)+IF(ISNUMBER(SEARCH(E$2,'3B. In-Kind Non-Labor'!$G7))=TRUE,('3B. In-Kind Non-Labor'!$E7/COUNTA(_xlfn.TEXTSPLIT('3B. In-Kind Non-Labor'!$G7,\";\"))),0)","v":0},{"$f":"IF(ISNUMBER(SEARCH(F$2,'3A. In-Kind Labor '!$G6))=TRUE,('3A. In-Kind Labor '!$E6/COUNTA(_xlfn.TEXTSPLIT('3A. In-Kind Labor '!$G6,\";\"))),0)+IF(ISNUMBER(SEARCH(F$2,'3B. In-Kind Non-Labor'!$G7))=TRUE,('3B. In-Kind Non-Labor'!$E7/COUNTA(_xlfn.TEXTSPLIT('3B. In-Kind Non-Labor'!$G7,\";\"))),0)","v":0},{"$f":"IF(ISNUMBER(SEARCH(G$2,'3A. In-Kind Labor '!$G6))=TRUE,('3A. In-Kind Labor '!$E6/COUNTA(_xlfn.TEXTSPLIT('3A. In-Kind Labor '!$G6,\";\"))),0)+IF(ISNUMBER(SEARCH(G$2,'3B. In-Kind Non-Labor'!$G7))=TRUE,('3B. In-Kind Non-Labor'!$E7/COUNTA(_xlfn.TEXTSPLIT('3B. In-Kind Non-Labor'!$G7,\";\"))),0)","v":0},{"$f":"IF(ISNUMBER(SEARCH(H$2,'3A. In-Kind Labor '!$G6))=TRUE,('3A. In-Kind Labor '!$E6/COUNTA(_xlfn.TEXTSPLIT('3A. In-Kind Labor '!$G6,\";\"))),0)+IF(ISNUMBER(SEARCH(H$2,'3B. In-Kind Non-Labor'!$G7))=TRUE,('3B. In-Kind Non-Labor'!$E7/COUNTA(_xlfn.TEXTSPLIT('3B. In-Kind Non-Labor'!$G7,\";\"))),0)","v":0}]
[{"$f":"IF(ISNUMBER(SEARCH(A$2,'3A. In-Kind Labor '!$F7))=TRUE,('3A. In-Kind Labor '!$E7/COUNTA(_xlfn.TEXTSPLIT('3A. In-Kind Labor '!$F7,\";\"))),0)+IF(ISNUMBER(SEARCH(A$2,'3B. In-Kind Non-Labor'!$F8))=TRUE,('3B. In-Kind Non-Labor'!$E8/COUNTA(_xlfn.TEXTSPLIT('3B. In-Kind Non-Labor'!$F8,\";\"))),0)","v":0},{"$f":"IF(ISNUMBER(SEARCH(B$2,'3A. In-Kind Labor '!$F7))=TRUE,('3A. In-Kind Labor '!$E7/COUNTA(_xlfn.TEXTSPLIT('3A. In-Kind Labor '!$F7,\";\"))),0)+IF(ISNUMBER(SEARCH(B$2,'3B. In-Kind Non-Labor'!$F8))=TRUE,('3B. In-Kind Non-Labor'!$E8/COUNTA(_xlfn.TEXTSPLIT('3B. In-Kind Non-Labor'!$F8,\";\"))),0)","v":0},{"$f":"IF(ISNUMBER(SEARCH(C$2,'3A. In-Kind Labor '!$F7))=TRUE,('3A. In-Kind Labor '!$E7/COUNTA(_xlfn.TEXTSPLIT('3A. In-Kind Labor '!$F7,\";\"))),0)+IF(ISNUMBER(SEARCH(C$2,'3B. In-Kind Non-Labor'!$F8))=TRUE,('3B. In-Kind Non-Labor'!$E8/COUNTA(_xlfn.TEXTSPLIT('3B. In-Kind Non-Labor'!$F8,\";\"))),0)","v":0},null,{"$f":"IF(ISNUMBER(SEARCH(E$2,'3A. In-Kind Labor '!$G7))=TRUE,('3A. In-Kind Labor '!$E7/COUNTA(_xlfn.TEXTSPLIT('3A. In-Kind Labor '!$G7,\";\"))),0)+IF(ISNUMBER(SEARCH(E$2,'3B. In-Kind Non-Labor'!$G8))=TRUE,('3B. In-Kind Non-Labor'!$E8/COUNTA(_xlfn.TEXTSPLIT('3B. In-Kind Non-Labor'!$G8,\";\"))),0)","v":0},{"$f":"IF(ISNUMBER(SEARCH(F$2,'3A. In-Kind Labor '!$G7))=TRUE,('3A. In-Kind Labor '!$E7/COUNTA(_xlfn.TEXTSPLIT('3A. In-Kind Labor '!$G7,\";\"))),0)+IF(ISNUMBER(SEARCH(F$2,'3B. In-Kind Non-Labor'!$G8))=TRUE,('3B. In-Kind Non-Labor'!$E8/COUNTA(_xlfn.TEXTSPLIT('3B. In-Kind Non-Labor'!$G8,\";\"))),0)","v":0},{"$f":"IF(ISNUMBER(SEARCH(G$2,'3A. In-Kind Labor '!$G7))=TRUE,('3A. In-Kind Labor '!$E7/COUNTA(_xlfn.TEXTSPLIT('3A. In-Kind Labor '!$G7,\";\"))),0)+IF(ISNUMBER(SEARCH(G$2,'3B. In-Kind Non-Labor'!$G8))=TRUE,('3B. In-Kind Non-Labor'!$E8/COUNTA(_xlfn.TEXTSPLIT('3B. In-Kind Non-Labor'!$G8,\";\"))),0)","v":0},{"$f":"IF(ISNUMBER(SEARCH(H$2,'3A. In-Kind Labor '!$G7))=TRUE,('3A. In-Kind Labor '!$E7/COUNTA(_xlfn.TEXTSPLIT('3A. In-Kind Labor '!$G7,\";\"))),0)+IF(ISNUMBER(SEARCH(H$2,'3B. In-Kind Non-Labor'!$G8))=TRUE,('3B. In-Kind Non-Labor'!$E8/COUNTA(_xlfn.TEXTSPLIT('3B. In-Kind Non-Labor'!$G8,\";\"))),0)","v":0}]
[{"$f":"IF(ISNUMBER(SEARCH(A$2,'3A. In-Kind Labor '!$F8))=TRUE,('3A. In-Kind Labor '!$E8/COUNTA(_xlfn.TEXTSPLIT('3A. In-Kind Labor '!$F8,\";\"))),0)+IF(ISNUMBER(SEARCH(A$2,'3B. In-Kind Non-Labor'!$F9))=TRUE,('3B. In-Kind Non-Labor'!$E9/COUNTA(_xlfn.TEXTSPLIT('3B. In-Kind Non-Labor'!$F9,\";\"))),0)","v":0},{"$f":"IF(ISNUMBER(SEARCH(B$2,'3A. In-Kind Labor '!$F8))=TRUE,('3A. In-Kind Labor '!$E8/COUNTA(_xlfn.TEXTSPLIT('3A. In-Kind Labor '!$F8,\";\"))),0)+IF(ISNUMBER(SEARCH(B$2,'3B. In-Kind Non-Labor'!$F9))=TRUE,('3B. In-Kind Non-Labor'!$E9/COUNTA(_xlfn.TEXTSPLIT('3B. In-Kind Non-Labor'!$F9,\";\"))),0)","v":0},{"$f":"IF(ISNUMBER(SEARCH(C$2,'3A. In-Kind Labor '!$F8))=TRUE,('3A. In-Kind Labor '!$E8/COUNTA(_xlfn.TEXTSPLIT('3A. In-Kind Labor '!$F8,\";\"))),0)+IF(ISNUMBER(SEARCH(C$2,'3B. In-Kind Non-Labor'!$F9))=TRUE,('3B. In-Kind Non-Labor'!$E9/COUNTA(_xlfn.TEXTSPLIT('3B. In-Kind Non-Labor'!$F9,\";\"))),0)","v":0},null,{"$f":"IF(ISNUMBER(SEARCH(E$2,'3A. In-Kind Labor '!$G8))=TRUE,('3A. In-Kind Labor '!$E8/COUNTA(_xlfn.TEXTSPLIT('3A. In-Kind Labor '!$G8,\";\"))),0)+IF(ISNUMBER(SEARCH(E$2,'3B. In-Kind Non-Labor'!$G9))=TRUE,('3B. In-Kind Non-Labor'!$E9/COUNTA(_xlfn.TEXTSPLIT('3B. In-Kind Non-Labor'!$G9,\";\"))),0)","v":0},{"$f":"IF(ISNUMBER(SEARCH(F$2,'3A. In-Kind Labor '!$G8))=TRUE,('3A. In-Kind Labor '!$E8/COUNTA(_xlfn.TEXTSPLIT('3A. In-Kind Labor '!$G8,\";\"))),0)+IF(ISNUMBER(SEARCH(F$2,'3B. In-Kind Non-Labor'!$G9))=TRUE,('3B. In-Kind Non-Labor'!$E9/COUNTA(_xlfn.TEXTSPLIT('3B. In-Kind Non-Labor'!$G9,\";\"))),0)","v":0},{"$f":"IF(ISNUMBER(SEARCH(G$2,'3A. In-Kind Labor '!$G8))=TRUE,('3A. In-Kind Labor '!$E8/COUNTA(_xlfn.TEXTSPLIT('3A. In-Kind Labor '!$G8,\";\"))),0)+IF(ISNUMBER(SEARCH(G$2,'3B. In-Kind Non-Labor'!$G9))=TRUE,('3B. In-Kind Non-Labor'!$E9/COUNTA(_xlfn.TEXTSPLIT('3B. In-Kind Non-Labor'!$G9,\";\"))),0)","v":0},{"$f":"IF(ISNUMBER(SEARCH(H$2,'3A. In-Kind Labor '!$G8))=TRUE,('3A. In-Kind Labor '!$E8/COUNTA(_xlfn.TEXTSPLIT('3A. In-Kind Labor '!$G8,\";\"))),0)+IF(ISNUMBER(SEARCH(H$2,'3B. In-Kind Non-Labor'!$G9))=TRUE,('3B. In-Kind Non-Labor'!$E9/COUNTA(_xlfn.TEXTSPLIT('3B. In-Kind Non-Labor'!$G9,\";\"))),0)","v":0}]
[{"$f":"IF(ISNUMBER(SEARCH(A$2,'3A. In-Kind Labor '!$F9))=TRUE,('3A. In-Kind Labor '!$E9/COUNTA(_xlfn.TEXTSPLIT('3A. In-Kind Labor '!$F9,\";\"))),0)+IF(ISNUMBER(SEARCH(A$2,'3B. In-Kind Non-Labor'!$F10))=TRUE,('3B. In-Kind Non-Labor'!$E10/COUNTA(_xlfn.TEXTSPLIT('3B. In-Kind Non-Labor'!$F10,\";\"))),0)","v":0},{"$f":"IF(ISNUMBER(SEARCH(B$2,'3A. In-Kind Labor '!$F9))=TRUE,('3A. In-Kind Labor '!$E9/COUNTA(_xlfn.TEXTSPLIT('3A. In-Kind Labor '!$F9,\";\"))),0)+IF(ISNUMBER(SEARCH(B$2,'3B. In-Kind Non-Labor'!$F10))=TRUE,('3B. In-Kind Non-Labor'!$E10/COUNTA(_xlfn.TEXTSPLIT('3B. In-Kind Non-Labor'!$F10,\";\"))),0)","v":0},{"$f":"IF(ISNUMBER(SEARCH(C$2,'3A. In-Kind Labor '!$F9))=TRUE,('3A. In-Kind Labor '!$E9/COUNTA(_xlfn.TEXTSPLIT('3A. In-Kind Labor '!$F9,\";\"))),0)+IF(ISNUMBER(SEARCH(C$2,'3B. In-Kind Non-Labor'!$F10))=TRUE,('3B. In-Kind Non-Labor'!$E10/COUNTA(_xlfn.TEXTSPLIT('3B. In-Kind Non-Labor'!$F10,\";\"))),0)","v":0},null,{"$f":"IF(ISNUMBER(SEARCH(E$2,'3A. In-Kind Labor '!$G9))=TRUE,('3A. In-Kind Labor '!$E9/COUNTA(_xlfn.TEXTSPLIT('3A. In-Kind Labor '!$G9,\";\"))),0)+IF(ISNUMBER(SEARCH(E$2,'3B. In-Kind Non-Labor'!$G10))=TRUE,('3B. In-Kind Non-Labor'!$E10/COUNTA(_xlfn.TEXTSPLIT('3B. In-Kind Non-Labor'!$G10,\";\"))),0)","v":0},{"$f":"IF(ISNUMBER(SEARCH(F$2,'3A. In-Kind Labor '!$G9))=TRUE,('3A. In-Kind Labor '!$E9/COUNTA(_xlfn.TEXTSPLIT('3A. In-Kind Labor '!$G9,\";\"))),0)+IF(ISNUMBER(SEARCH(F$2,'3B. In-Kind Non-Labor'!$G10))=TRUE,('3B. In-Kind Non-Labor'!$E10/COUNTA(_xlfn.TEXTSPLIT('3B. In-Kind Non-Labor'!$G10,\";\"))),0)","v":0},{"$f":"IF(ISNUMBER(SEARCH(G$2,'3A. In-Kind Labor '!$G9))=TRUE,('3A. In-Kind Labor '!$E9/COUNTA(_xlfn.TEXTSPLIT('3A. In-Kind Labor '!$G9,\";\"))),0)+IF(ISNUMBER(SEARCH(G$2,'3B. In-Kind Non-Labor'!$G10))=TRUE,('3B. In-Kind Non-Labor'!$E10/COUNTA(_xlfn.TEXTSPLIT('3B. In-Kind Non-Labor'!$G10,\";\"))),0)","v":0},{"$f":"IF(ISNUMBER(SEARCH(H$2,'3A. In-Kind Labor '!$G9))=TRUE,('3A. In-Kind Labor '!$E9/COUNTA(_xlfn.TEXTSPLIT('3A. In-Kind Labor '!$G9,\";\"))),0)+IF(ISNUMBER(SEARCH(H$2,'3B. In-Kind Non-Labor'!$G10))=TRUE,('3B. In-Kind Non-Labor'!$E10/COUNTA(_xlfn.TEXTSPLIT('3B. In-Kind Non-Labor'!$G10,\";\"))),0)","v":0}]
[{"$f":"IF(ISNUMBER(SEARCH(A$2,'3A. In-Kind Labor '!$F10))=TRUE,('3A. In-Kind Labor '!$E10/COUNTA(_xlfn.TEXTSPLIT('3A. In-Kind Labor '!$F10,\";\"))),0)+IF(ISNUMBER(SEARCH(A$2,'3B. In-Kind Non-Labor'!$F11))=TRUE,('3B. In-Kind Non-Labor'!$E11/COUNTA(_xlfn.TEXTSPLIT('3B. In-Kind Non-Labor'!$F11,\";\"))),0)","v":0},{"$f":"IF(ISNUMBER(SEARCH(B$2,'3A. In-Kind Labor '!$F10))=TRUE,('3A. In-Kind Labor '!$E10/COUNTA(_xlfn.TEXTSPLIT('3A. In-Kind Labor '!$F10,\";\"))),0)+IF(ISNUMBER(SEARCH(B$2,'3B. In-Kind Non-Labor'!$F11))=TRUE,('3B. In-Kind Non-Labor'!$E11/COUNTA(_xlfn.TEXTSPLIT('3B. In-Kind Non-Labor'!$F11,\";\"))),0)","v":0},{"$f":"IF(ISNUMBER(SEARCH(C$2,'3A. In-Kind Labor '!$F10))=TRUE,('3A. In-Kind Labor '!$E10/COUNTA(_xlfn.TEXTSPLIT('3A. In-Kind Labor '!$F10,\";\"))),0)+IF(ISNUMBER(SEARCH(C$2,'3B. In-Kind Non-Labor'!$F11))=TRUE,('3B. In-Kind Non-Labor'!$E11/COUNTA(_xlfn.TEXTSPLIT('3B. In-Kind Non-Labor'!$F11,\";\"))),0)","v":0},null,{"$f":"IF(ISNUMBER(SEARCH(E$2,'3A. In-Kind Labor '!$G10))=TRUE,('3A. In-Kind Labor '!$E10/COUNTA(_xlfn.TEXTSPLIT('3A. In-Kind Labor '!$G10,\";\"))),0)+IF(ISNUMBER(SEARCH(E$2,'3B. In-Kind Non-Labor'!$G11))=TRUE,('3B. In-Kind Non-Labor'!$E11/COUNTA(_xlfn.TEXTSPLIT('3B. In-Kind Non-Labor'!$G11,\";\"))),0)","v":0},{"$f":"IF(ISNUMBER(SEARCH(F$2,'3A. In-Kind Labor '!$G10))=TRUE,('3A. In-Kind Labor '!$E10/COUNTA(_xlfn.TEXTSPLIT('3A. In-Kind Labor '!$G10,\";\"))),0)+IF(ISNUMBER(SEARCH(F$2,'3B. In-Kind Non-Labor'!$G11))=TRUE,('3B. In-Kind Non-Labor'!$E11/COUNTA(_xlfn.TEXTSPLIT('3B. In-Kind Non-Labor'!$G11,\";\"))),0)","v":0},{"$f":"IF(ISNUMBER(SEARCH(G$2,'3A. In-Kind Labor '!$G10))=TRUE,('3A. In-Kind Labor '!$E10/COUNTA(_xlfn.TEXTSPLIT('3A. In-Kind Labor '!$G10,\";\"))),0)+IF(ISNUMBER(SEARCH(G$2,'3B. In-Kind Non-Labor'!$G11))=TRUE,('3B. In-Kind Non-Labor'!$E11/COUNTA(_xlfn.TEXTSPLIT('3B. In-Kind Non-Labor'!$G11,\";\"))),0)","v":0},{"$f":"IF(ISNUMBER(SEARCH(H$2,'3A. In-Kind Labor '!$G10))=TRUE,('3A. In-Kind Labor '!$E10/COUNTA(_xlfn.TEXTSPLIT('3A. In-Kind Labor '!$G10,\";\"))),0)+IF(ISNUMBER(SEARCH(H$2,'3B. In-Kind Non-Labor'!$G11))=TRUE,('3B. In-Kind Non-Labor'!$E11/COUNTA(_xlfn.TEXTSPLIT('3B. In-Kind Non-Labor'!$G11,\";\"))),0)","v":0}]
[{"$f":"IF(ISNUMBER(SEARCH(A$2,'3A. In-Kind Labor '!$F11))=TRUE,('3A. In-Kind Labor '!$E11/COUNTA(_xlfn.TEXTSPLIT('3A. In-Kind Labor '!$F11,\";\"))),0)+IF(ISNUMBER(SEARCH(A$2,'3B. In-Kind Non-Labor'!$F12))=TRUE,('3B. In-Kind Non-Labor'!$E12/COUNTA(_xlfn.TEXTSPLIT('3B. In-Kind Non-Labor'!$F12,\";\"))),0)","v":0},{"$f":"IF(ISNUMBER(SEARCH(B$2,'3A. In-Kind Labor '!$F11))=TRUE,('3A. In-Kind Labor '!$E11/COUNTA(_xlfn.TEXTSPLIT('3A. In-Kind Labor '!$F11,\";\"))),0)+IF(ISNUMBER(SEARCH(B$2,'3B. In-Kind Non-Labor'!$F12))=TRUE,('3B. In-Kind Non-Labor'!$E12/COUNTA(_xlfn.TEXTSPLIT('3B. In-Kind Non-Labor'!$F12,\";\"))),0)","v":0},{"$f":"IF(ISNUMBER(SEARCH(C$2,'3A. In-Kind Labor '!$F11))=TRUE,('3A. In-Kind Labor '!$E11/COUNTA(_xlfn.TEXTSPLIT('3A. In-Kind Labor '!$F11,\";\"))),0)+IF(ISNUMBER(SEARCH(C$2,'3B. In-Kind Non-Labor'!$F12))=TRUE,('3B. In-Kind Non-Labor'!$E12/COUNTA(_xlfn.TEXTSPLIT('3B. In-Kind Non-Labor'!$F12,\";\"))),0)","v":0},null,{"$f":"IF(ISNUMBER(SEARCH(E$2,'3A. In-Kind Labor '!$G11))=TRUE,('3A. In-Kind Labor '!$E11/COUNTA(_xlfn.TEXTSPLIT('3A. In-Kind Labor '!$G11,\";\"))),0)+IF(ISNUMBER(SEARCH(E$2,'3B. In-Kind Non-Labor'!$G12))=TRUE,('3B. In-Kind Non-Labor'!$E12/COUNTA(_xlfn.TEXTSPLIT('3B. In-Kind Non-Labor'!$G12,\";\"))),0)","v":0},{"$f":"IF(ISNUMBER(SEARCH(F$2,'3A. In-Kind Labor '!$G11))=TRUE,('3A. In-Kind Labor '!$E11/COUNTA(_xlfn.TEXTSPLIT('3A. In-Kind Labor '!$G11,\";\"))),0)+IF(ISNUMBER(SEARCH(F$2,'3B. In-Kind Non-Labor'!$G12))=TRUE,('3B. In-Kind Non-Labor'!$E12/COUNTA(_xlfn.TEXTSPLIT('3B. In-Kind Non-Labor'!$G12,\";\"))),0)","v":0},{"$f":"IF(ISNUMBER(SEARCH(G$2,'3A. In-Kind Labor '!$G11))=TRUE,('3A. In-Kind Labor '!$E11/COUNTA(_xlfn.TEXTSPLIT('3A. In-Kind Labor '!$G11,\";\"))),0)+IF(ISNUMBER(SEARCH(G$2,'3B. In-Kind Non-Labor'!$G12))=TRUE,('3B. In-Kind Non-Labor'!$E12/COUNTA(_xlfn.TEXTSPLIT('3B. In-Kind Non-Labor'!$G12,\";\"))),0)","v":0},{"$f":"IF(ISNUMBER(SEARCH(H$2,'3A. In-Kind Labor '!$G11))=TRUE,('3A. In-Kind Labor '!$E11/COUNTA(_xlfn.TEXTSPLIT('3A. In-Kind Labor '!$G11,\";\"))),0)+IF(ISNUMBER(SEARCH(H$2,'3B. In-Kind Non-Labor'!$G12))=TRUE,('3B. In-Kind Non-Labor'!$E12/COUNTA(_xlfn.TEXTSPLIT('3B. In-Kind Non-Labor'!$G12,\";\"))),0)","v":0}]
[{"$f":"IF(ISNUMBER(SEARCH(A$2,'3A. In-Kind Labor '!$F12))=TRUE,('3A. In-Kind Labor '!$E12/COUNTA(_xlfn.TEXTSPLIT('3A. In-Kind Labor '!$F12,\";\"))),0)+IF(ISNUMBER(SEARCH(A$2,'3B. In-Kind Non-Labor'!$F13))=TRUE,('3B. In-Kind Non-Labor'!$E13/COUNTA(_xlfn.TEXTSPLIT('3B. In-Kind Non-Labor'!$F13,\";\"))),0)","v":0},{"$f":"IF(ISNUMBER(SEARCH(B$2,'3A. In-Kind Labor '!$F12))=TRUE,('3A. In-Kind Labor '!$E12/COUNTA(_xlfn.TEXTSPLIT('3A. In-Kind Labor '!$F12,\";\"))),0)+IF(ISNUMBER(SEARCH(B$2,'3B. In-Kind Non-Labor'!$F13))=TRUE,('3B. In-Kind Non-Labor'!$E13/COUNTA(_xlfn.TEXTSPLIT('3B. In-Kind Non-Labor'!$F13,\";\"))),0)","v":0},{"$f":"IF(ISNUMBER(SEARCH(C$2,'3A. In-Kind Labor '!$F12))=TRUE,('3A. In-Kind Labor '!$E12/COUNTA(_xlfn.TEXTSPLIT('3A. In-Kind Labor '!$F12,\";\"))),0)+IF(ISNUMBER(SEARCH(C$2,'3B. In-Kind Non-Labor'!$F13))=TRUE,('3B. In-Kind Non-Labor'!$E13/COUNTA(_xlfn.TEXTSPLIT('3B. In-Kind Non-Labor'!$F13,\";\"))),0)","v":0},null,{"$f":"IF(ISNUMBER(SEARCH(E$2,'3A. In-Kind Labor '!$G12))=TRUE,('3A. In-Kind Labor '!$E12/COUNTA(_xlfn.TEXTSPLIT('3A. In-Kind Labor '!$G12,\";\"))),0)+IF(ISNUMBER(SEARCH(E$2,'3B. In-Kind Non-Labor'!$G13))=TRUE,('3B. In-Kind Non-Labor'!$E13/COUNTA(_xlfn.TEXTSPLIT('3B. In-Kind Non-Labor'!$G13,\";\"))),0)","v":0},{"$f":"IF(ISNUMBER(SEARCH(F$2,'3A. In-Kind Labor '!$G12))=TRUE,('3A. In-Kind Labor '!$E12/COUNTA(_xlfn.TEXTSPLIT('3A. In-Kind Labor '!$G12,\";\"))),0)+IF(ISNUMBER(SEARCH(F$2,'3B. In-Kind Non-Labor'!$G13))=TRUE,('3B. In-Kind Non-Labor'!$E13/COUNTA(_xlfn.TEXTSPLIT('3B. In-Kind Non-Labor'!$G13,\";\"))),0)","v":0},{"$f":"IF(ISNUMBER(SEARCH(G$2,'3A. In-Kind Labor '!$G12))=TRUE,('3A. In-Kind Labor '!$E12/COUNTA(_xlfn.TEXTSPLIT('3A. In-Kind Labor '!$G12,\";\"))),0)+IF(ISNUMBER(SEARCH(G$2,'3B. In-Kind Non-Labor'!$G13))=TRUE,('3B. In-Kind Non-Labor'!$E13/COUNTA(_xlfn.TEXTSPLIT('3B. In-Kind Non-Labor'!$G13,\";\"))),0)","v":0},{"$f":"IF(ISNUMBER(SEARCH(H$2,'3A. In-Kind Labor '!$G12))=TRUE,('3A. In-Kind Labor '!$E12/COUNTA(_xlfn.TEXTSPLIT('3A. In-Kind Labor '!$G12,\";\"))),0)+IF(ISNUMBER(SEARCH(H$2,'3B. In-Kind Non-Labor'!$G13))=TRUE,('3B. In-Kind Non-Labor'!$E13/COUNTA(_xlfn.TEXTSPLIT('3B. In-Kind Non-Labor'!$G13,\";\"))),0)","v":0}]
[{"$f":"IF(ISNUMBER(SEARCH(A$2,'3A. In-Kind Labor '!$F13))=TRUE,('3A. In-Kind Labor '!$E13/COUNTA(_xlfn.TEXTSPLIT('3A. In-Kind Labor '!$F13,\";\"))),0)+IF(ISNUMBER(SEARCH(A$2,'3B. In-Kind Non-Labor'!$F14))=TRUE,('3B. In-Kind Non-Labor'!$E14/COUNTA(_xlfn.TEXTSPLIT('3B. In-Kind Non-Labor'!$F14,\";\"))),0)","v":0},{"$f":"IF(ISNUMBER(SEARCH(B$2,'3A. In-Kind Labor '!$F13))=TRUE,('3A. In-Kind Labor '!$E13/COUNTA(_xlfn.TEXTSPLIT('3A. In-Kind Labor '!$F13,\";\"))),0)+IF(ISNUMBER(SEARCH(B$2,'3B. In-Kind Non-Labor'!$F14))=TRUE,('3B. In-Kind Non-Labor'!$E14/COUNTA(_xlfn.TEXTSPLIT('3B. In-Kind Non-Labor'!$F14,\";\"))),0)","v":0},{"$f":"IF(ISNUMBER(SEARCH(C$2,'3A. In-Kind Labor '!$F13))=TRUE,('3A. In-Kind Labor '!$E13/COUNTA(_xlfn.TEXTSPLIT('3A. In-Kind Labor '!$F13,\";\"))),0)+IF(ISNUMBER(SEARCH(C$2,'3B. In-Kind Non-Labor'!$F14))=TRUE,('3B. In-Kind Non-Labor'!$E14/COUNTA(_xlfn.TEXTSPLIT('3B. In-Kind Non-Labor'!$F14,\";\"))),0)","v":0},null,{"$f":"IF(ISNUMBER(SEARCH(E$2,'3A. In-Kind Labor '!$G13))=TRUE,('3A. In-Kind Labor '!$E13/COUNTA(_xlfn.TEXTSPLIT('3A. In-Kind Labor '!$G13,\";\"))),0)+IF(ISNUMBER(SEARCH(E$2,'3B. In-Kind Non-Labor'!$G14))=TRUE,('3B. In-Kind Non-Labor'!$E14/COUNTA(_xlfn.TEXTSPLIT('3B. In-Kind Non-Labor'!$G14,\";\"))),0)","v":0},{"$f":"IF(ISNUMBER(SEARCH(F$2,'3A. In-Kind Labor '!$G13))=TRUE,('3A. In-Kind Labor '!$E13/COUNTA(_xlfn.TEXTSPLIT('3A. In-Kind Labor '!$G13,\";\"))),0)+IF(ISNUMBER(SEARCH(F$2,'3B. In-Kind Non-Labor'!$G14))=TRUE,('3B. In-Kind Non-Labor'!$E14/COUNTA(_xlfn.TEXTSPLIT('3B. In-Kind Non-Labor'!$G14,\";\"))),0)","v":0},{"$f":"IF(ISNUMBER(SEARCH(G$2,'3A. In-Kind Labor '!$G13))=TRUE,('3A. In-Kind Labor '!$E13/COUNTA(_xlfn.TEXTSPLIT('3A. In-Kind Labor '!$G13,\";\"))),0)+IF(ISNUMBER(SEARCH(G$2,'3B. In-Kind Non-Labor'!$G14))=TRUE,('3B. In-Kind Non-Labor'!$E14/COUNTA(_xlfn.TEXTSPLIT('3B. In-Kind Non-Labor'!$G14,\";\"))),0)","v":0},{"$f":"IF(ISNUMBER(SEARCH(H$2,'3A. In-Kind Labor '!$G13))=TRUE,('3A. In-Kind Labor '!$E13/COUNTA(_xlfn.TEXTSPLIT('3A. In-Kind Labor '!$G13,\";\"))),0)+IF(ISNUMBER(SEARCH(H$2,'3B. In-Kind Non-Labor'!$G14))=TRUE,('3B. In-Kind Non-Labor'!$E14/COUNTA(_xlfn.TEXTSPLIT('3B. In-Kind Non-Labor'!$G14,\";\"))),0)","v":0}]
[{"$f":"IF(ISNUMBER(SEARCH(A$2,'3A. In-Kind Labor '!$F14))=TRUE,('3A. In-Kind Labor '!$E14/COUNTA(_xlfn.TEXTSPLIT('3A. In-Kind Labor '!$F14,\";\"))),0)+IF(ISNUMBER(SEARCH(A$2,'3B. In-Kind Non-Labor'!$F15))=TRUE,('3B. In-Kind Non-Labor'!$E15/COUNTA(_xlfn.TEXTSPLIT('3B. In-Kind Non-Labor'!$F15,\";\"))),0)","v":0},{"$f":"IF(ISNUMBER(SEARCH(B$2,'3A. In-Kind Labor '!$F14))=TRUE,('3A. In-Kind Labor '!$E14/COUNTA(_xlfn.TEXTSPLIT('3A. In-Kind Labor '!$F14,\";\"))),0)+IF(ISNUMBER(SEARCH(B$2,'3B. In-Kind Non-Labor'!$F15))=TRUE,('3B. In-Kind Non-Labor'!$E15/COUNTA(_xlfn.TEXTSPLIT('3B. In-Kind Non-Labor'!$F15,\";\"))),0)","v":0},{"$f":"IF(ISNUMBER(SEARCH(C$2,'3A. In-Kind Labor '!$F14))=TRUE,('3A. In-Kind Labor '!$E14/COUNTA(_xlfn.TEXTSPLIT('3A. In-Kind Labor '!$F14,\";\"))),0)+IF(ISNUMBER(SEARCH(C$2,'3B. In-Kind Non-Labor'!$F15))=TRUE,('3B. In-Kind Non-Labor'!$E15/COUNTA(_xlfn.TEXTSPLIT('3B. In-Kind Non-Labor'!$F15,\";\"))),0)","v":0},null,{"$f":"IF(ISNUMBER(SEARCH(E$2,'3A. In-Kind Labor '!$G14))=TRUE,('3A. In-Kind Labor '!$E14/COUNTA(_xlfn.TEXTSPLIT('3A. In-Kind Labor '!$G14,\";\"))),0)+IF(ISNUMBER(SEARCH(E$2,'3B. In-Kind Non-Labor'!$G15))=TRUE,('3B. In-Kind Non-Labor'!$E15/COUNTA(_xlfn.TEXTSPLIT('3B. In-Kind Non-Labor'!$G15,\";\"))),0)","v":0},{"$f":"IF(ISNUMBER(SEARCH(F$2,'3A. In-Kind Labor '!$G14))=TRUE,('3A. In-Kind Labor '!$E14/COUNTA(_xlfn.TEXTSPLIT('3A. In-Kind Labor '!$G14,\";\"))),0)+IF(ISNUMBER(SEARCH(F$2,'3B. In-Kind Non-Labor'!$G15))=TRUE,('3B. In-Kind Non-Labor'!$E15/COUNTA(_xlfn.TEXTSPLIT('3B. In-Kind Non-Labor'!$G15,\";\"))),0)","v":0},{"$f":"IF(ISNUMBER(SEARCH(G$2,'3A. In-Kind Labor '!$G14))=TRUE,('3A. In-Kind Labor '!$E14/COUNTA(_xlfn.TEXTSPLIT('3A. In-Kind Labor '!$G14,\";\"))),0)+IF(ISNUMBER(SEARCH(G$2,'3B. In-Kind Non-Labor'!$G15))=TRUE,('3B. In-Kind Non-Labor'!$E15/COUNTA(_xlfn.TEXTSPLIT('3B. In-Kind Non-Labor'!$G15,\";\"))),0)","v":0},{"$f":"IF(ISNUMBER(SEARCH(H$2,'3A. In-Kind Labor '!$G14))=TRUE,('3A. In-Kind Labor '!$E14/COUNTA(_xlfn.TEXTSPLIT('3A. In-Kind Labor '!$G14,\";\"))),0)+IF(ISNUMBER(SEARCH(H$2,'3B. In-Kind Non-Labor'!$G15))=TRUE,('3B. In-Kind Non-Labor'!$E15/COUNTA(_xlfn.TEXTSPLIT('3B. In-Kind Non-Labor'!$G15,\";\"))),0)","v":0}]
[{"$f":"IF(ISNUMBER(SEARCH(A$2,'3A. In-Kind Labor '!$F15))=TRUE,('3A. In-Kind Labor '!$E15/COUNTA(_xlfn.TEXTSPLIT('3A. In-Kind Labor '!$F15,\";\"))),0)+IF(ISNUMBER(SEARCH(A$2,'3B. In-Kind Non-Labor'!$F16))=TRUE,('3B. In-Kind Non-Labor'!$E16/COUNTA(_xlfn.TEXTSPLIT('3B. In-Kind Non-Labor'!$F16,\";\"))),0)","v":0},{"$f":"IF(ISNUMBER(SEARCH(B$2,'3A. In-Kind Labor '!$F15))=TRUE,('3A. In-Kind Labor '!$E15/COUNTA(_xlfn.TEXTSPLIT('3A. In-Kind Labor '!$F15,\";\"))),0)+IF(ISNUMBER(SEARCH(B$2,'3B. In-Kind Non-Labor'!$F16))=TRUE,('3B. In-Kind Non-Labor'!$E16/COUNTA(_xlfn.TEXTSPLIT('3B. In-Kind Non-Labor'!$F16,\";\"))),0)","v":0},{"$f":"IF(ISNUMBER(SEARCH(C$2,'3A. In-Kind Labor '!$F15))=TRUE,('3A. In-Kind Labor '!$E15/COUNTA(_xlfn.TEXTSPLIT('3A. In-Kind Labor '!$F15,\";\"))),0)+IF(ISNUMBER(SEARCH(C$2,'3B. In-Kind Non-Labor'!$F16))=TRUE,('3B. In-Kind Non-Labor'!$E16/COUNTA(_xlfn.TEXTSPLIT('3B. In-Kind Non-Labor'!$F16,\";\"))),0)","v":0},null,{"$f":"IF(ISNUMBER(SEARCH(E$2,'3A. In-Kind Labor '!$G15))=TRUE,('3A. In-Kind Labor '!$E15/COUNTA(_xlfn.TEXTSPLIT('3A. In-Kind Labor '!$G15,\";\"))),0)+IF(ISNUMBER(SEARCH(E$2,'3B. In-Kind Non-Labor'!$G16))=TRUE,('3B. In-Kind Non-Labor'!$E16/COUNTA(_xlfn.TEXTSPLIT('3B. In-Kind Non-Labor'!$G16,\";\"))),0)","v":0},{"$f":"IF(ISNUMBER(SEARCH(F$2,'3A. In-Kind Labor '!$G15))=TRUE,('3A. In-Kind Labor '!$E15/COUNTA(_xlfn.TEXTSPLIT('3A. In-Kind Labor '!$G15,\";\"))),0)+IF(ISNUMBER(SEARCH(F$2,'3B. In-Kind Non-Labor'!$G16))=TRUE,('3B. In-Kind Non-Labor'!$E16/COUNTA(_xlfn.TEXTSPLIT('3B. In-Kind Non-Labor'!$G16,\";\"))),0)","v":0},{"$f":"IF(ISNUMBER(SEARCH(G$2,'3A. In-Kind Labor '!$G15))=TRUE,('3A. In-Kind Labor '!$E15/COUNTA(_xlfn.TEXTSPLIT('3A. In-Kind Labor '!$G15,\";\"))),0)+IF(ISNUMBER(SEARCH(G$2,'3B. In-Kind Non-Labor'!$G16))=TRUE,('3B. In-Kind Non-Labor'!$E16/COUNTA(_xlfn.TEXTSPLIT('3B. In-Kind Non-Labor'!$G16,\";\"))),0)","v":0},{"$f":"IF(ISNUMBER(SEARCH(H$2,'3A. In-Kind Labor '!$G15))=TRUE,('3A. In-Kind Labor '!$E15/COUNTA(_xlfn.TEXTSPLIT('3A. In-Kind Labor '!$G15,\";\"))),0)+IF(ISNUMBER(SEARCH(H$2,'3B. In-Kind Non-Labor'!$G16))=TRUE,('3B. In-Kind Non-Labor'!$E16/COUNTA(_xlfn.TEXTSPLIT('3B. In-Kind Non-Labor'!$G16,\";\"))),0)","v":0}]
[{"$f":"IF(ISNUMBER(SEARCH(A$2,'3A. In-Kind Labor '!$F16))=TRUE,('3A. In-Kind Labor '!$E16/COUNTA(_xlfn.TEXTSPLIT('3A. In-Kind Labor '!$F16,\";\"))),0)+IF(ISNUMBER(SEARCH(A$2,'3B. In-Kind Non-Labor'!$F17))=TRUE,('3B. In-Kind Non-Labor'!$E17/COUNTA(_xlfn.TEXTSPLIT('3B. In-Kind Non-Labor'!$F17,\";\"))),0)","v":0},{"$f":"IF(ISNUMBER(SEARCH(B$2,'3A. In-Kind Labor '!$F16))=TRUE,('3A. In-Kind Labor '!$E16/COUNTA(_xlfn.TEXTSPLIT('3A. In-Kind Labor '!$F16,\";\"))),0)+IF(ISNUMBER(SEARCH(B$2,'3B. In-Kind Non-Labor'!$F17))=TRUE,('3B. In-Kind Non-Labor'!$E17/COUNTA(_xlfn.TEXTSPLIT('3B. In-Kind Non-Labor'!$F17,\";\"))),0)","v":0},{"$f":"IF(ISNUMBER(SEARCH(C$2,'3A. In-Kind Labor '!$F16))=TRUE,('3A. In-Kind Labor '!$E16/COUNTA(_xlfn.TEXTSPLIT('3A. In-Kind Labor '!$F16,\";\"))),0)+IF(ISNUMBER(SEARCH(C$2,'3B. In-Kind Non-Labor'!$F17))=TRUE,('3B. In-Kind Non-Labor'!$E17/COUNTA(_xlfn.TEXTSPLIT('3B. In-Kind Non-Labor'!$F17,\";\"))),0)","v":0},null,{"$f":"IF(ISNUMBER(SEARCH(E$2,'3A. In-Kind Labor '!$G16))=TRUE,('3A. In-Kind Labor '!$E16/COUNTA(_xlfn.TEXTSPLIT('3A. In-Kind Labor '!$G16,\";\"))),0)+IF(ISNUMBER(SEARCH(E$2,'3B. In-Kind Non-Labor'!$G17))=TRUE,('3B. In-Kind Non-Labor'!$E17/COUNTA(_xlfn.TEXTSPLIT('3B. In-Kind Non-Labor'!$G17,\";\"))),0)","v":0},{"$f":"IF(ISNUMBER(SEARCH(F$2,'3A. In-Kind Labor '!$G16))=TRUE,('3A. In-Kind Labor '!$E16/COUNTA(_xlfn.TEXTSPLIT('3A. In-Kind Labor '!$G16,\";\"))),0)+IF(ISNUMBER(SEARCH(F$2,'3B. In-Kind Non-Labor'!$G17))=TRUE,('3B. In-Kind Non-Labor'!$E17/COUNTA(_xlfn.TEXTSPLIT('3B. In-Kind Non-Labor'!$G17,\";\"))),0)","v":0},{"$f":"IF(ISNUMBER(SEARCH(G$2,'3A. In-Kind Labor '!$G16))=TRUE,('3A. In-Kind Labor '!$E16/COUNTA(_xlfn.TEXTSPLIT('3A. In-Kind Labor '!$G16,\";\"))),0)+IF(ISNUMBER(SEARCH(G$2,'3B. In-Kind Non-Labor'!$G17))=TRUE,('3B. In-Kind Non-Labor'!$E17/COUNTA(_xlfn.TEXTSPLIT('3B. In-Kind Non-Labor'!$G17,\";\"))),0)","v":0},{"$f":"IF(ISNUMBER(SEARCH(H$2,'3A. In-Kind Labor '!$G16))=TRUE,('3A. In-Kind Labor '!$E16/COUNTA(_xlfn.TEXTSPLIT('3A. In-Kind Labor '!$G16,\";\"))),0)+IF(ISNUMBER(SEARCH(H$2,'3B. In-Kind Non-Labor'!$G17))=TRUE,('3B. In-Kind Non-Labor'!$E17/COUNTA(_xlfn.TEXTSPLIT('3B. In-Kind Non-Labor'!$G17,\";\"))),0)","v":0}]
[{"$f":"IF(ISNUMBER(SEARCH(A$2,'3A. In-Kind Labor '!$F17))=TRUE,('3A. In-Kind Labor '!$E17/COUNTA(_xlfn.TEXTSPLIT('3A. In-Kind Labor '!$F17,\";\"))),0)+IF(ISNUMBER(SEARCH(A$2,'3B. In-Kind Non-Labor'!$F18))=TRUE,('3B. In-Kind Non-Labor'!$E18/COUNTA(_xlfn.TEXTSPLIT('3B. In-Kind Non-Labor'!$F18,\";\"))),0)","v":0},{"$f":"IF(ISNUMBER(SEARCH(B$2,'3A. In-Kind Labor '!$F17))=TRUE,('3A. In-Kind Labor '!$E17/COUNTA(_xlfn.TEXTSPLIT('3A. In-Kind Labor '!$F17,\";\"))),0)+IF(ISNUMBER(SEARCH(B$2,'3B. In-Kind Non-Labor'!$F18))=TRUE,('3B. In-Kind Non-Labor'!$E18/COUNTA(_xlfn.TEXTSPLIT('3B. In-Kind Non-Labor'!$F18,\";\"))),0)","v":0},{"$f":"IF(ISNUMBER(SEARCH(C$2,'3A. In-Kind Labor '!$F17))=TRUE,('3A. In-Kind Labor '!$E17/COUNTA(_xlfn.TEXTSPLIT('3A. In-Kind Labor '!$F17,\";\"))),0)+IF(ISNUMBER(SEARCH(C$2,'3B. In-Kind Non-Labor'!$F18))=TRUE,('3B. In-Kind Non-Labor'!$E18/COUNTA(_xlfn.TEXTSPLIT('3B. In-Kind Non-Labor'!$F18,\";\"))),0)","v":0},null,{"$f":"IF(ISNUMBER(SEARCH(E$2,'3A. In-Kind Labor '!$G17))=TRUE,('3A. In-Kind Labor '!$E17/COUNTA(_xlfn.TEXTSPLIT('3A. In-Kind Labor '!$G17,\";\"))),0)+IF(ISNUMBER(SEARCH(E$2,'3B. In-Kind Non-Labor'!$G18))=TRUE,('3B. In-Kind Non-Labor'!$E18/COUNTA(_xlfn.TEXTSPLIT('3B. In-Kind Non-Labor'!$G18,\";\"))),0)","v":0},{"$f":"IF(ISNUMBER(SEARCH(F$2,'3A. In-Kind Labor '!$G17))=TRUE,('3A. In-Kind Labor '!$E17/COUNTA(_xlfn.TEXTSPLIT('3A. In-Kind Labor '!$G17,\";\"))),0)+IF(ISNUMBER(SEARCH(F$2,'3B. In-Kind Non-Labor'!$G18))=TRUE,('3B. In-Kind Non-Labor'!$E18/COUNTA(_xlfn.TEXTSPLIT('3B. In-Kind Non-Labor'!$G18,\";\"))),0)","v":0},{"$f":"IF(ISNUMBER(SEARCH(G$2,'3A. In-Kind Labor '!$G17))=TRUE,('3A. In-Kind Labor '!$E17/COUNTA(_xlfn.TEXTSPLIT('3A. In-Kind Labor '!$G17,\";\"))),0)+IF(ISNUMBER(SEARCH(G$2,'3B. In-Kind Non-Labor'!$G18))=TRUE,('3B. In-Kind Non-Labor'!$E18/COUNTA(_xlfn.TEXTSPLIT('3B. In-Kind Non-Labor'!$G18,\";\"))),0)","v":0},{"$f":"IF(ISNUMBER(SEARCH(H$2,'3A. In-Kind Labor '!$G17))=TRUE,('3A. In-Kind Labor '!$E17/COUNTA(_xlfn.TEXTSPLIT('3A. In-Kind Labor '!$G17,\";\"))),0)+IF(ISNUMBER(SEARCH(H$2,'3B. In-Kind Non-Labor'!$G18))=TRUE,('3B. In-Kind Non-Labor'!$E18/COUNTA(_xlfn.TEXTSPLIT('3B. In-Kind Non-Labor'!$G18,\";\"))),0)","v":0}]
[{"$f":"IF(ISNUMBER(SEARCH(A$2,'3A. In-Kind Labor '!$F18))=TRUE,('3A. In-Kind Labor '!$E18/COUNTA(_xlfn.TEXTSPLIT('3A. In-Kind Labor '!$F18,\";\"))),0)+IF(ISNUMBER(SEARCH(A$2,'3B. In-Kind Non-Labor'!$F19))=TRUE,('3B. In-Kind Non-Labor'!$E19/COUNTA(_xlfn.TEXTSPLIT('3B. In-Kind Non-Labor'!$F19,\";\"))),0)","v":0},{"$f":"IF(ISNUMBER(SEARCH(B$2,'3A. In-Kind Labor '!$F18))=TRUE,('3A. In-Kind Labor '!$E18/COUNTA(_xlfn.TEXTSPLIT('3A. In-Kind Labor '!$F18,\";\"))),0)+IF(ISNUMBER(SEARCH(B$2,'3B. In-Kind Non-Labor'!$F19))=TRUE,('3B. In-Kind Non-Labor'!$E19/COUNTA(_xlfn.TEXTSPLIT('3B. In-Kind Non-Labor'!$F19,\";\"))),0)","v":0},{"$f":"IF(ISNUMBER(SEARCH(C$2,'3A. In-Kind Labor '!$F18))=TRUE,('3A. In-Kind Labor '!$E18/COUNTA(_xlfn.TEXTSPLIT('3A. In-Kind Labor '!$F18,\";\"))),0)+IF(ISNUMBER(SEARCH(C$2,'3B. In-Kind Non-Labor'!$F19))=TRUE,('3B. In-Kind Non-Labor'!$E19/COUNTA(_xlfn.TEXTSPLIT('3B. In-Kind Non-Labor'!$F19,\";\"))),0)","v":0},null,{"$f":"IF(ISNUMBER(SEARCH(E$2,'3A. In-Kind Labor '!$G18))=TRUE,('3A. In-Kind Labor '!$E18/COUNTA(_xlfn.TEXTSPLIT('3A. In-Kind Labor '!$G18,\";\"))),0)+IF(ISNUMBER(SEARCH(E$2,'3B. In-Kind Non-Labor'!$G19))=TRUE,('3B. In-Kind Non-Labor'!$E19/COUNTA(_xlfn.TEXTSPLIT('3B. In-Kind Non-Labor'!$G19,\";\"))),0)","v":0},{"$f":"IF(ISNUMBER(SEARCH(F$2,'3A. In-Kind Labor '!$G18))=TRUE,('3A. In-Kind Labor '!$E18/COUNTA(_xlfn.TEXTSPLIT('3A. In-Kind Labor '!$G18,\";\"))),0)+IF(ISNUMBER(SEARCH(F$2,'3B. In-Kind Non-Labor'!$G19))=TRUE,('3B. In-Kind Non-Labor'!$E19/COUNTA(_xlfn.TEXTSPLIT('3B. In-Kind Non-Labor'!$G19,\";\"))),0)","v":0},{"$f":"IF(ISNUMBER(SEARCH(G$2,'3A. In-Kind Labor '!$G18))=TRUE,('3A. In-Kind Labor '!$E18/COUNTA(_xlfn.TEXTSPLIT('3A. In-Kind Labor '!$G18,\";\"))),0)+IF(ISNUMBER(SEARCH(G$2,'3B. In-Kind Non-Labor'!$G19))=TRUE,('3B. In-Kind Non-Labor'!$E19/COUNTA(_xlfn.TEXTSPLIT('3B. In-Kind Non-Labor'!$G19,\";\"))),0)","v":0},{"$f":"IF(ISNUMBER(SEARCH(H$2,'3A. In-Kind Labor '!$G18))=TRUE,('3A. In-Kind Labor '!$E18/COUNTA(_xlfn.TEXTSPLIT('3A. In-Kind Labor '!$G18,\";\"))),0)+IF(ISNUMBER(SEARCH(H$2,'3B. In-Kind Non-Labor'!$G19))=TRUE,('3B. In-Kind Non-Labor'!$E19/COUNTA(_xlfn.TEXTSPLIT('3B. In-Kind Non-Labor'!$G19,\";\"))),0)","v":0}]
[{"$f":"IF(ISNUMBER(SEARCH(A$2,'3A. In-Kind Labor '!$F19))=TRUE,('3A. In-Kind Labor '!$E19/COUNTA(_xlfn.TEXTSPLIT('3A. In-Kind Labor '!$F19,\";\"))),0)+IF(ISNUMBER(SEARCH(A$2,'3B. In-Kind Non-Labor'!$F20))=TRUE,('3B. In-Kind Non-Labor'!$E20/COUNTA(_xlfn.TEXTSPLIT('3B. In-Kind Non-Labor'!$F20,\";\"))),0)","v":0},{"$f":"IF(ISNUMBER(SEARCH(B$2,'3A. In-Kind Labor '!$F19))=TRUE,('3A. In-Kind Labor '!$E19/COUNTA(_xlfn.TEXTSPLIT('3A. In-Kind Labor '!$F19,\";\"))),0)+IF(ISNUMBER(SEARCH(B$2,'3B. In-Kind Non-Labor'!$F20))=TRUE,('3B. In-Kind Non-Labor'!$E20/COUNTA(_xlfn.TEXTSPLIT('3B. In-Kind Non-Labor'!$F20,\";\"))),0)","v":0},{"$f":"IF(ISNUMBER(SEARCH(C$2,'3A. In-Kind Labor '!$F19))=TRUE,('3A. In-Kind Labor '!$E19/COUNTA(_xlfn.TEXTSPLIT('3A. In-Kind Labor '!$F19,\";\"))),0)+IF(ISNUMBER(SEARCH(C$2,'3B. In-Kind Non-Labor'!$F20))=TRUE,('3B. In-Kind Non-Labor'!$E20/COUNTA(_xlfn.TEXTSPLIT('3B. In-Kind Non-Labor'!$F20,\";\"))),0)","v":0},null,{"$f":"IF(ISNUMBER(SEARCH(E$2,'3A. In-Kind Labor '!$G19))=TRUE,('3A. In-Kind Labor '!$E19/COUNTA(_xlfn.TEXTSPLIT('3A. In-Kind Labor '!$G19,\";\"))),0)+IF(ISNUMBER(SEARCH(E$2,'3B. In-Kind Non-Labor'!$G20))=TRUE,('3B. In-Kind Non-Labor'!$E20/COUNTA(_xlfn.TEXTSPLIT('3B. In-Kind Non-Labor'!$G20,\";\"))),0)","v":0},{"$f":"IF(ISNUMBER(SEARCH(F$2,'3A. In-Kind Labor '!$G19))=TRUE,('3A. In-Kind Labor '!$E19/COUNTA(_xlfn.TEXTSPLIT('3A. In-Kind Labor '!$G19,\";\"))),0)+IF(ISNUMBER(SEARCH(F$2,'3B. In-Kind Non-Labor'!$G20))=TRUE,('3B. In-Kind Non-Labor'!$E20/COUNTA(_xlfn.TEXTSPLIT('3B. In-Kind Non-Labor'!$G20,\";\"))),0)","v":0},{"$f":"IF(ISNUMBER(SEARCH(G$2,'3A. In-Kind Labor '!$G19))=TRUE,('3A. In-Kind Labor '!$E19/COUNTA(_xlfn.TEXTSPLIT('3A. In-Kind Labor '!$G19,\";\"))),0)+IF(ISNUMBER(SEARCH(G$2,'3B. In-Kind Non-Labor'!$G20))=TRUE,('3B. In-Kind Non-Labor'!$E20/COUNTA(_xlfn.TEXTSPLIT('3B. In-Kind Non-Labor'!$G20,\";\"))),0)","v":0},{"$f":"IF(ISNUMBER(SEARCH(H$2,'3A. In-Kind Labor '!$G19))=TRUE,('3A. In-Kind Labor '!$E19/COUNTA(_xlfn.TEXTSPLIT('3A. In-Kind Labor '!$G19,\";\"))),0)+IF(ISNUMBER(SEARCH(H$2,'3B. In-Kind Non-Labor'!$G20))=TRUE,('3B. In-Kind Non-Labor'!$E20/COUNTA(_xlfn.TEXTSPLIT('3B. In-Kind Non-Labor'!$G20,\";\"))),0)","v":0}]
[{"$f":"IF(ISNUMBER(SEARCH(A$2,'3A. In-Kind Labor '!$F20))=TRUE,('3A. In-Kind Labor '!$E20/COUNTA(_xlfn.TEXTSPLIT('3A. In-Kind Labor '!$F20,\";\"))),0)+IF(ISNUMBER(SEARCH(A$2,'3B. In-Kind Non-Labor'!$F21))=TRUE,('3B. In-Kind Non-Labor'!$E21/COUNTA(_xlfn.TEXTSPLIT('3B. In-Kind Non-Labor'!$F21,\";\"))),0)","v":0},{"$f":"IF(ISNUMBER(SEARCH(B$2,'3A. In-Kind Labor '!$F20))=TRUE,('3A. In-Kind Labor '!$E20/COUNTA(_xlfn.TEXTSPLIT('3A. In-Kind Labor '!$F20,\";\"))),0)+IF(ISNUMBER(SEARCH(B$2,'3B. In-Kind Non-Labor'!$F21))=TRUE,('3B. In-Kind Non-Labor'!$E21/COUNTA(_xlfn.TEXTSPLIT('3B. In-Kind Non-Labor'!$F21,\";\"))),0)","v":0},{"$f":"IF(ISNUMBER(SEARCH(C$2,'3A. In-Kind Labor '!$F20))=TRUE,('3A. In-Kind Labor '!$E20/COUNTA(_xlfn.TEXTSPLIT('3A. In-Kind Labor '!$F20,\";\"))),0)+IF(ISNUMBER(SEARCH(C$2,'3B. In-Kind Non-Labor'!$F21))=TRUE,('3B. In-Kind Non-Labor'!$E21/COUNTA(_xlfn.TEXTSPLIT('3B. In-Kind Non-Labor'!$F21,\";\"))),0)","v":0},null,{"$f":"IF(ISNUMBER(SEARCH(E$2,'3A. In-Kind Labor '!$G20))=TRUE,('3A. In-Kind Labor '!$E20/COUNTA(_xlfn.TEXTSPLIT('3A. In-Kind Labor '!$G20,\";\"))),0)+IF(ISNUMBER(SEARCH(E$2,'3B. In-Kind Non-Labor'!$G21))=TRUE,('3B. In-Kind Non-Labor'!$E21/COUNTA(_xlfn.TEXTSPLIT('3B. In-Kind Non-Labor'!$G21,\";\"))),0)","v":0},{"$f":"IF(ISNUMBER(SEARCH(F$2,'3A. In-Kind Labor '!$G20))=TRUE,('3A. In-Kind Labor '!$E20/COUNTA(_xlfn.TEXTSPLIT('3A. In-Kind Labor '!$G20,\";\"))),0)+IF(ISNUMBER(SEARCH(F$2,'3B. In-Kind Non-Labor'!$G21))=TRUE,('3B. In-Kind Non-Labor'!$E21/COUNTA(_xlfn.TEXTSPLIT('3B. In-Kind Non-Labor'!$G21,\";\"))),0)","v":0},{"$f":"IF(ISNUMBER(SEARCH(G$2,'3A. In-Kind Labor '!$G20))=TRUE,('3A. In-Kind Labor '!$E20/COUNTA(_xlfn.TEXTSPLIT('3A. In-Kind Labor '!$G20,\";\"))),0)+IF(ISNUMBER(SEARCH(G$2,'3B. In-Kind Non-Labor'!$G21))=TRUE,('3B. In-Kind Non-Labor'!$E21/COUNTA(_xlfn.TEXTSPLIT('3B. In-Kind Non-Labor'!$G21,\";\"))),0)","v":0},{"$f":"IF(ISNUMBER(SEARCH(H$2,'3A. In-Kind Labor '!$G20))=TRUE,('3A. In-Kind Labor '!$E20/COUNTA(_xlfn.TEXTSPLIT('3A. In-Kind Labor '!$G20,\";\"))),0)+IF(ISNUMBER(SEARCH(H$2,'3B. In-Kind Non-Labor'!$G21))=TRUE,('3B. In-Kind Non-Labor'!$E21/COUNTA(_xlfn.TEXTSPLIT('3B. In-Kind Non-Labor'!$G21,\";\"))),0)","v":0}]
[{"$f":"IF(ISNUMBER(SEARCH(A$2,'3A. In-Kind Labor '!$F21))=TRUE,('3A. In-Kind Labor '!$E21/COUNTA(_xlfn.TEXTSPLIT('3A. In-Kind Labor '!$F21,\";\"))),0)+IF(ISNUMBER(SEARCH(A$2,'3B. In-Kind Non-Labor'!$F22))=TRUE,('3B. In-Kind Non-Labor'!$E22/COUNTA(_xlfn.TEXTSPLIT('3B. In-Kind Non-Labor'!$F22,\";\"))),0)","v":0},{"$f":"IF(ISNUMBER(SEARCH(B$2,'3A. In-Kind Labor '!$F21))=TRUE,('3A. In-Kind Labor '!$E21/COUNTA(_xlfn.TEXTSPLIT('3A. In-Kind Labor '!$F21,\";\"))),0)+IF(ISNUMBER(SEARCH(B$2,'3B. In-Kind Non-Labor'!$F22))=TRUE,('3B. In-Kind Non-Labor'!$E22/COUNTA(_xlfn.TEXTSPLIT('3B. In-Kind Non-Labor'!$F22,\";\"))),0)","v":0},{"$f":"IF(ISNUMBER(SEARCH(C$2,'3A. In-Kind Labor '!$F21))=TRUE,('3A. In-Kind Labor '!$E21/COUNTA(_xlfn.TEXTSPLIT('3A. In-Kind Labor '!$F21,\";\"))),0)+IF(ISNUMBER(SEARCH(C$2,'3B. In-Kind Non-Labor'!$F22))=TRUE,('3B. In-Kind Non-Labor'!$E22/COUNTA(_xlfn.TEXTSPLIT('3B. In-Kind Non-Labor'!$F22,\";\"))),0)","v":0},null,{"$f":"IF(ISNUMBER(SEARCH(E$2,'3A. In-Kind Labor '!$G21))=TRUE,('3A. In-Kind Labor '!$E21/COUNTA(_xlfn.TEXTSPLIT('3A. In-Kind Labor '!$G21,\";\"))),0)+IF(ISNUMBER(SEARCH(E$2,'3B. In-Kind Non-Labor'!$G22))=TRUE,('3B. In-Kind Non-Labor'!$E22/COUNTA(_xlfn.TEXTSPLIT('3B. In-Kind Non-Labor'!$G22,\";\"))),0)","v":0},{"$f":"IF(ISNUMBER(SEARCH(F$2,'3A. In-Kind Labor '!$G21))=TRUE,('3A. In-Kind Labor '!$E21/COUNTA(_xlfn.TEXTSPLIT('3A. In-Kind Labor '!$G21,\";\"))),0)+IF(ISNUMBER(SEARCH(F$2,'3B. In-Kind Non-Labor'!$G22))=TRUE,('3B. In-Kind Non-Labor'!$E22/COUNTA(_xlfn.TEXTSPLIT('3B. In-Kind Non-Labor'!$G22,\";\"))),0)","v":0},{"$f":"IF(ISNUMBER(SEARCH(G$2,'3A. In-Kind Labor '!$G21))=TRUE,('3A. In-Kind Labor '!$E21/COUNTA(_xlfn.TEXTSPLIT('3A. In-Kind Labor '!$G21,\";\"))),0)+IF(ISNUMBER(SEARCH(G$2,'3B. In-Kind Non-Labor'!$G22))=TRUE,('3B. In-Kind Non-Labor'!$E22/COUNTA(_xlfn.TEXTSPLIT('3B. In-Kind Non-Labor'!$G22,\";\"))),0)","v":0},{"$f":"IF(ISNUMBER(SEARCH(H$2,'3A. In-Kind Labor '!$G21))=TRUE,('3A. In-Kind Labor '!$E21/COUNTA(_xlfn.TEXTSPLIT('3A. In-Kind Labor '!$G21,\";\"))),0)+IF(ISNUMBER(SEARCH(H$2,'3B. In-Kind Non-Labor'!$G22))=TRUE,('3B. In-Kind Non-Labor'!$E22/COUNTA(_xlfn.TEXTSPLIT('3B. In-Kind Non-Labor'!$G22,\";\"))),0)","v":0}]
[{"$f":"IF(ISNUMBER(SEARCH(A$2,'3A. In-Kind Labor '!$F22))=TRUE,('3A. In-Kind Labor '!$E22/COUNTA(_xlfn.TEXTSPLIT('3A. In-Kind Labor '!$F22,\";\"))),0)+IF(ISNUMBER(SEARCH(A$2,'3B. In-Kind Non-Labor'!$F23))=TRUE,('3B. In-Kind Non-Labor'!$E23/COUNTA(_xlfn.TEXTSPLIT('3B. In-Kind Non-Labor'!$F23,\";\"))),0)","v":0},{"$f":"IF(ISNUMBER(SEARCH(B$2,'3A. In-Kind Labor '!$F22))=TRUE,('3A. In-Kind Labor '!$E22/COUNTA(_xlfn.TEXTSPLIT('3A. In-Kind Labor '!$F22,\";\"))),0)+IF(ISNUMBER(SEARCH(B$2,'3B. In-Kind Non-Labor'!$F23))=TRUE,('3B. In-Kind Non-Labor'!$E23/COUNTA(_xlfn.TEXTSPLIT('3B. In-Kind Non-Labor'!$F23,\";\"))),0)","v":0},{"$f":"IF(ISNUMBER(SEARCH(C$2,'3A. In-Kind Labor '!$F22))=TRUE,('3A. In-Kind Labor '!$E22/COUNTA(_xlfn.TEXTSPLIT('3A. In-Kind Labor '!$F22,\";\"))),0)+IF(ISNUMBER(SEARCH(C$2,'3B. In-Kind Non-Labor'!$F23))=TRUE,('3B. In-Kind Non-Labor'!$E23/COUNTA(_xlfn.TEXTSPLIT('3B. In-Kind Non-Labor'!$F23,\";\"))),0)","v":0},null,{"$f":"IF(ISNUMBER(SEARCH(E$2,'3A. In-Kind Labor '!$G22))=TRUE,('3A. In-Kind Labor '!$E22/COUNTA(_xlfn.TEXTSPLIT('3A. In-Kind Labor '!$G22,\";\"))),0)+IF(ISNUMBER(SEARCH(E$2,'3B. In-Kind Non-Labor'!$G23))=TRUE,('3B. In-Kind Non-Labor'!$E23/COUNTA(_xlfn.TEXTSPLIT('3B. In-Kind Non-Labor'!$G23,\";\"))),0)","v":0},{"$f":"IF(ISNUMBER(SEARCH(F$2,'3A. In-Kind Labor '!$G22))=TRUE,('3A. In-Kind Labor '!$E22/COUNTA(_xlfn.TEXTSPLIT('3A. In-Kind Labor '!$G22,\";\"))),0)+IF(ISNUMBER(SEARCH(F$2,'3B. In-Kind Non-Labor'!$G23))=TRUE,('3B. In-Kind Non-Labor'!$E23/COUNTA(_xlfn.TEXTSPLIT('3B. In-Kind Non-Labor'!$G23,\";\"))),0)","v":0},{"$f":"IF(ISNUMBER(SEARCH(G$2,'3A. In-Kind Labor '!$G22))=TRUE,('3A. In-Kind Labor '!$E22/COUNTA(_xlfn.TEXTSPLIT('3A. In-Kind Labor '!$G22,\";\"))),0)+IF(ISNUMBER(SEARCH(G$2,'3B. In-Kind Non-Labor'!$G23))=TRUE,('3B. In-Kind Non-Labor'!$E23/COUNTA(_xlfn.TEXTSPLIT('3B. In-Kind Non-Labor'!$G23,\";\"))),0)","v":0},{"$f":"IF(ISNUMBER(SEARCH(H$2,'3A. In-Kind Labor '!$G22))=TRUE,('3A. In-Kind Labor '!$E22/COUNTA(_xlfn.TEXTSPLIT('3A. In-Kind Labor '!$G22,\";\"))),0)+IF(ISNUMBER(SEARCH(H$2,'3B. In-Kind Non-Labor'!$G23))=TRUE,('3B. In-Kind Non-Labor'!$E23/COUNTA(_xlfn.TEXTSPLIT('3B. In-Kind Non-Labor'!$G23,\";\"))),0)","v":0}]
[{"$f":"IF(ISNUMBER(SEARCH(A$2,'3A. In-Kind Labor '!$F23))=TRUE,('3A. In-Kind Labor '!$E23/COUNTA(_xlfn.TEXTSPLIT('3A. In-Kind Labor '!$F23,\";\"))),0)+IF(ISNUMBER(SEARCH(A$2,'3B. In-Kind Non-Labor'!$F24))=TRUE,('3B. In-Kind Non-Labor'!$E24/COUNTA(_xlfn.TEXTSPLIT('3B. In-Kind Non-Labor'!$F24,\";\"))),0)","v":0},{"$f":"IF(ISNUMBER(SEARCH(B$2,'3A. In-Kind Labor '!$F23))=TRUE,('3A. In-Kind Labor '!$E23/COUNTA(_xlfn.TEXTSPLIT('3A. In-Kind Labor '!$F23,\";\"))),0)+IF(ISNUMBER(SEARCH(B$2,'3B. In-Kind Non-Labor'!$F24))=TRUE,('3B. In-Kind Non-Labor'!$E24/COUNTA(_xlfn.TEXTSPLIT('3B. In-Kind Non-Labor'!$F24,\";\"))),0)","v":0},{"$f":"IF(ISNUMBER(SEARCH(C$2,'3A. In-Kind Labor '!$F23))=TRUE,('3A. In-Kind Labor '!$E23/COUNTA(_xlfn.TEXTSPLIT('3A. In-Kind Labor '!$F23,\";\"))),0)+IF(ISNUMBER(SEARCH(C$2,'3B. In-Kind Non-Labor'!$F24))=TRUE,('3B. In-Kind Non-Labor'!$E24/COUNTA(_xlfn.TEXTSPLIT('3B. In-Kind Non-Labor'!$F24,\";\"))),0)","v":0},null,{"$f":"IF(ISNUMBER(SEARCH(E$2,'3A. In-Kind Labor '!$G23))=TRUE,('3A. In-Kind Labor '!$E23/COUNTA(_xlfn.TEXTSPLIT('3A. In-Kind Labor '!$G23,\";\"))),0)+IF(ISNUMBER(SEARCH(E$2,'3B. In-Kind Non-Labor'!$G24))=TRUE,('3B. In-Kind Non-Labor'!$E24/COUNTA(_xlfn.TEXTSPLIT('3B. In-Kind Non-Labor'!$G24,\";\"))),0)","v":0},{"$f":"IF(ISNUMBER(SEARCH(F$2,'3A. In-Kind Labor '!$G23))=TRUE,('3A. In-Kind Labor '!$E23/COUNTA(_xlfn.TEXTSPLIT('3A. In-Kind Labor '!$G23,\";\"))),0)+IF(ISNUMBER(SEARCH(F$2,'3B. In-Kind Non-Labor'!$G24))=TRUE,('3B. In-Kind Non-Labor'!$E24/COUNTA(_xlfn.TEXTSPLIT('3B. In-Kind Non-Labor'!$G24,\";\"))),0)","v":0},{"$f":"IF(ISNUMBER(SEARCH(G$2,'3A. In-Kind Labor '!$G23))=TRUE,('3A. In-Kind Labor '!$E23/COUNTA(_xlfn.TEXTSPLIT('3A. In-Kind Labor '!$G23,\";\"))),0)+IF(ISNUMBER(SEARCH(G$2,'3B. In-Kind Non-Labor'!$G24))=TRUE,('3B. In-Kind Non-Labor'!$E24/COUNTA(_xlfn.TEXTSPLIT('3B. In-Kind Non-Labor'!$G24,\";\"))),0)","v":0},{"$f":"IF(ISNUMBER(SEARCH(H$2,'3A. In-Kind Labor '!$G23))=TRUE,('3A. In-Kind Labor '!$E23/COUNTA(_xlfn.TEXTSPLIT('3A. In-Kind Labor '!$G23,\";\"))),0)+IF(ISNUMBER(SEARCH(H$2,'3B. In-Kind Non-Labor'!$G24))=TRUE,('3B. In-Kind Non-Labor'!$E24/COUNTA(_xlfn.TEXTSPLIT('3B. In-Kind Non-Labor'!$G24,\";\"))),0)","v":0}]
[{"$f":"IF(ISNUMBER(SEARCH(A$2,'3A. In-Kind Labor '!$F24))=TRUE,('3A. In-Kind Labor '!$E24/COUNTA(_xlfn.TEXTSPLIT('3A. In-Kind Labor '!$F24,\";\"))),0)+IF(ISNUMBER(SEARCH(A$2,'3B. In-Kind Non-Labor'!$F25))=TRUE,('3B. In-Kind Non-Labor'!$E25/COUNTA(_xlfn.TEXTSPLIT('3B. In-Kind Non-Labor'!$F25,\";\"))),0)","v":0},{"$f":"IF(ISNUMBER(SEARCH(B$2,'3A. In-Kind Labor '!$F24))=TRUE,('3A. In-Kind Labor '!$E24/COUNTA(_xlfn.TEXTSPLIT('3A. In-Kind Labor '!$F24,\";\"))),0)+IF(ISNUMBER(SEARCH(B$2,'3B. In-Kind Non-Labor'!$F25))=TRUE,('3B. In-Kind Non-Labor'!$E25/COUNTA(_xlfn.TEXTSPLIT('3B. In-Kind Non-Labor'!$F25,\";\"))),0)","v":0},{"$f":"IF(ISNUMBER(SEARCH(C$2,'3A. In-Kind Labor '!$F24))=TRUE,('3A. In-Kind Labor '!$E24/COUNTA(_xlfn.TEXTSPLIT('3A. In-Kind Labor '!$F24,\";\"))),0)+IF(ISNUMBER(SEARCH(C$2,'3B. In-Kind Non-Labor'!$F25))=TRUE,('3B. In-Kind Non-Labor'!$E25/COUNTA(_xlfn.TEXTSPLIT('3B. In-Kind Non-Labor'!$F25,\";\"))),0)","v":0},null,{"$f":"IF(ISNUMBER(SEARCH(E$2,'3A. In-Kind Labor '!$G24))=TRUE,('3A. In-Kind Labor '!$E24/COUNTA(_xlfn.TEXTSPLIT('3A. In-Kind Labor '!$G24,\";\"))),0)+IF(ISNUMBER(SEARCH(E$2,'3B. In-Kind Non-Labor'!$G25))=TRUE,('3B. In-Kind Non-Labor'!$E25/COUNTA(_xlfn.TEXTSPLIT('3B. In-Kind Non-Labor'!$G25,\";\"))),0)","v":0},{"$f":"IF(ISNUMBER(SEARCH(F$2,'3A. In-Kind Labor '!$G24))=TRUE,('3A. In-Kind Labor '!$E24/COUNTA(_xlfn.TEXTSPLIT('3A. In-Kind Labor '!$G24,\";\"))),0)+IF(ISNUMBER(SEARCH(F$2,'3B. In-Kind Non-Labor'!$G25))=TRUE,('3B. In-Kind Non-Labor'!$E25/COUNTA(_xlfn.TEXTSPLIT('3B. In-Kind Non-Labor'!$G25,\";\"))),0)","v":0},{"$f":"IF(ISNUMBER(SEARCH(G$2,'3A. In-Kind Labor '!$G24))=TRUE,('3A. In-Kind Labor '!$E24/COUNTA(_xlfn.TEXTSPLIT('3A. In-Kind Labor '!$G24,\";\"))),0)+IF(ISNUMBER(SEARCH(G$2,'3B. In-Kind Non-Labor'!$G25))=TRUE,('3B. In-Kind Non-Labor'!$E25/COUNTA(_xlfn.TEXTSPLIT('3B. In-Kind Non-Labor'!$G25,\";\"))),0)","v":0},{"$f":"IF(ISNUMBER(SEARCH(H$2,'3A. In-Kind Labor '!$G24))=TRUE,('3A. In-Kind Labor '!$E24/COUNTA(_xlfn.TEXTSPLIT('3A. In-Kind Labor '!$G24,\";\"))),0)+IF(ISNUMBER(SEARCH(H$2,'3B. In-Kind Non-Labor'!$G25))=TRUE,('3B. In-Kind Non-Labor'!$E25/COUNTA(_xlfn.TEXTSPLIT('3B. In-Kind Non-Labor'!$G25,\";\"))),0)","v":0}]
[{"$f":"IF(ISNUMBER(SEARCH(A$2,'3A. In-Kind Labor '!$F25))=TRUE,('3A. In-Kind Labor '!$E25/COUNTA(_xlfn.TEXTSPLIT('3A. In-Kind Labor '!$F25,\";\"))),0)+IF(ISNUMBER(SEARCH(A$2,'3B. In-Kind Non-Labor'!$F26))=TRUE,('3B. In-Kind Non-Labor'!$E26/COUNTA(_xlfn.TEXTSPLIT('3B. In-Kind Non-Labor'!$F26,\";\"))),0)","v":0},{"$f":"IF(ISNUMBER(SEARCH(B$2,'3A. In-Kind Labor '!$F25))=TRUE,('3A. In-Kind Labor '!$E25/COUNTA(_xlfn.TEXTSPLIT('3A. In-Kind Labor '!$F25,\";\"))),0)+IF(ISNUMBER(SEARCH(B$2,'3B. In-Kind Non-Labor'!$F26))=TRUE,('3B. In-Kind Non-Labor'!$E26/COUNTA(_xlfn.TEXTSPLIT('3B. In-Kind Non-Labor'!$F26,\";\"))),0)","v":0},{"$f":"IF(ISNUMBER(SEARCH(C$2,'3A. In-Kind Labor '!$F25))=TRUE,('3A. In-Kind Labor '!$E25/COUNTA(_xlfn.TEXTSPLIT('3A. In-Kind Labor '!$F25,\";\"))),0)+IF(ISNUMBER(SEARCH(C$2,'3B. In-Kind Non-Labor'!$F26))=TRUE,('3B. In-Kind Non-Labor'!$E26/COUNTA(_xlfn.TEXTSPLIT('3B. In-Kind Non-Labor'!$F26,\";\"))),0)","v":0},null,{"$f":"IF(ISNUMBER(SEARCH(E$2,'3A. In-Kind Labor '!$G25))=TRUE,('3A. In-Kind Labor '!$E25/COUNTA(_xlfn.TEXTSPLIT('3A. In-Kind Labor '!$G25,\";\"))),0)+IF(ISNUMBER(SEARCH(E$2,'3B. In-Kind Non-Labor'!$G26))=TRUE,('3B. In-Kind Non-Labor'!$E26/COUNTA(_xlfn.TEXTSPLIT('3B. In-Kind Non-Labor'!$G26,\";\"))),0)","v":0},{"$f":"IF(ISNUMBER(SEARCH(F$2,'3A. In-Kind Labor '!$G25))=TRUE,('3A. In-Kind Labor '!$E25/COUNTA(_xlfn.TEXTSPLIT('3A. In-Kind Labor '!$G25,\";\"))),0)+IF(ISNUMBER(SEARCH(F$2,'3B. In-Kind Non-Labor'!$G26))=TRUE,('3B. In-Kind Non-Labor'!$E26/COUNTA(_xlfn.TEXTSPLIT('3B. In-Kind Non-Labor'!$G26,\";\"))),0)","v":0},{"$f":"IF(ISNUMBER(SEARCH(G$2,'3A. In-Kind Labor '!$G25))=TRUE,('3A. In-Kind Labor '!$E25/COUNTA(_xlfn.TEXTSPLIT('3A. In-Kind Labor '!$G25,\";\"))),0)+IF(ISNUMBER(SEARCH(G$2,'3B. In-Kind Non-Labor'!$G26))=TRUE,('3B. In-Kind Non-Labor'!$E26/COUNTA(_xlfn.TEXTSPLIT('3B. In-Kind Non-Labor'!$G26,\";\"))),0)","v":0},{"$f":"IF(ISNUMBER(SEARCH(H$2,'3A. In-Kind Labor '!$G25))=TRUE,('3A. In-Kind Labor '!$E25/COUNTA(_xlfn.TEXTSPLIT('3A. In-Kind Labor '!$G25,\";\"))),0)+IF(ISNUMBER(SEARCH(H$2,'3B. In-Kind Non-Labor'!$G26))=TRUE,('3B. In-Kind Non-Labor'!$E26/COUNTA(_xlfn.TEXTSPLIT('3B. In-Kind Non-Labor'!$G26,\";\"))),0)","v":0}]
[{"$f":"IF(ISNUMBER(SEARCH(A$2,'3A. In-Kind Labor '!$F26))=TRUE,('3A. In-Kind Labor '!$E26/COUNTA(_xlfn.TEXTSPLIT('3A. In-Kind Labor '!$F26,\";\"))),0)+IF(ISNUMBER(SEARCH(A$2,'3B. In-Kind Non-Labor'!$F27))=TRUE,('3B. In-Kind Non-Labor'!$E27/COUNTA(_xlfn.TEXTSPLIT('3B. In-Kind Non-Labor'!$F27,\";\"))),0)","v":0},{"$f":"IF(ISNUMBER(SEARCH(B$2,'3A. In-Kind Labor '!$F26))=TRUE,('3A. In-Kind Labor '!$E26/COUNTA(_xlfn.TEXTSPLIT('3A. In-Kind Labor '!$F26,\";\"))),0)+IF(ISNUMBER(SEARCH(B$2,'3B. In-Kind Non-Labor'!$F27))=TRUE,('3B. In-Kind Non-Labor'!$E27/COUNTA(_xlfn.TEXTSPLIT('3B. In-Kind Non-Labor'!$F27,\";\"))),0)","v":0},{"$f":"IF(ISNUMBER(SEARCH(C$2,'3A. In-Kind Labor '!$F26))=TRUE,('3A. In-Kind Labor '!$E26/COUNTA(_xlfn.TEXTSPLIT('3A. In-Kind Labor '!$F26,\";\"))),0)+IF(ISNUMBER(SEARCH(C$2,'3B. In-Kind Non-Labor'!$F27))=TRUE,('3B. In-Kind Non-Labor'!$E27/COUNTA(_xlfn.TEXTSPLIT('3B. In-Kind Non-Labor'!$F27,\";\"))),0)","v":0},null,{"$f":"IF(ISNUMBER(SEARCH(E$2,'3A. In-Kind Labor '!$G26))=TRUE,('3A. In-Kind Labor '!$E26/COUNTA(_xlfn.TEXTSPLIT('3A. In-Kind Labor '!$G26,\";\"))),0)+IF(ISNUMBER(SEARCH(E$2,'3B. In-Kind Non-Labor'!$G27))=TRUE,('3B. In-Kind Non-Labor'!$E27/COUNTA(_xlfn.TEXTSPLIT('3B. In-Kind Non-Labor'!$G27,\";\"))),0)","v":0},{"$f":"IF(ISNUMBER(SEARCH(F$2,'3A. In-Kind Labor '!$G26))=TRUE,('3A. In-Kind Labor '!$E26/COUNTA(_xlfn.TEXTSPLIT('3A. In-Kind Labor '!$G26,\";\"))),0)+IF(ISNUMBER(SEARCH(F$2,'3B. In-Kind Non-Labor'!$G27))=TRUE,('3B. In-Kind Non-Labor'!$E27/COUNTA(_xlfn.TEXTSPLIT('3B. In-Kind Non-Labor'!$G27,\";\"))),0)","v":0},{"$f":"IF(ISNUMBER(SEARCH(G$2,'3A. In-Kind Labor '!$G26))=TRUE,('3A. In-Kind Labor '!$E26/COUNTA(_xlfn.TEXTSPLIT('3A. In-Kind Labor '!$G26,\";\"))),0)+IF(ISNUMBER(SEARCH(G$2,'3B. In-Kind Non-Labor'!$G27))=TRUE,('3B. In-Kind Non-Labor'!$E27/COUNTA(_xlfn.TEXTSPLIT('3B. In-Kind Non-Labor'!$G27,\";\"))),0)","v":0},{"$f":"IF(ISNUMBER(SEARCH(H$2,'3A. In-Kind Labor '!$G26))=TRUE,('3A. In-Kind Labor '!$E26/COUNTA(_xlfn.TEXTSPLIT('3A. In-Kind Labor '!$G26,\";\"))),0)+IF(ISNUMBER(SEARCH(H$2,'3B. In-Kind Non-Labor'!$G27))=TRUE,('3B. In-Kind Non-Labor'!$E27/COUNTA(_xlfn.TEXTSPLIT('3B. In-Kind Non-Labor'!$G27,\";\"))),0)","v":0}]
[{"$f":"IF(ISNUMBER(SEARCH(A$2,'3A. In-Kind Labor '!$F27))=TRUE,('3A. In-Kind Labor '!$E27/COUNTA(_xlfn.TEXTSPLIT('3A. In-Kind Labor '!$F27,\";\"))),0)+IF(ISNUMBER(SEARCH(A$2,'3B. In-Kind Non-Labor'!$F28))=TRUE,('3B. In-Kind Non-Labor'!$E28/COUNTA(_xlfn.TEXTSPLIT('3B. In-Kind Non-Labor'!$F28,\";\"))),0)","v":0},{"$f":"IF(ISNUMBER(SEARCH(B$2,'3A. In-Kind Labor '!$F27))=TRUE,('3A. In-Kind Labor '!$E27/COUNTA(_xlfn.TEXTSPLIT('3A. In-Kind Labor '!$F27,\";\"))),0)+IF(ISNUMBER(SEARCH(B$2,'3B. In-Kind Non-Labor'!$F28))=TRUE,('3B. In-Kind Non-Labor'!$E28/COUNTA(_xlfn.TEXTSPLIT('3B. In-Kind Non-Labor'!$F28,\";\"))),0)","v":0},{"$f":"IF(ISNUMBER(SEARCH(C$2,'3A. In-Kind Labor '!$F27))=TRUE,('3A. In-Kind Labor '!$E27/COUNTA(_xlfn.TEXTSPLIT('3A. In-Kind Labor '!$F27,\";\"))),0)+IF(ISNUMBER(SEARCH(C$2,'3B. In-Kind Non-Labor'!$F28))=TRUE,('3B. In-Kind Non-Labor'!$E28/COUNTA(_xlfn.TEXTSPLIT('3B. In-Kind Non-Labor'!$F28,\";\"))),0)","v":0},null,{"$f":"IF(ISNUMBER(SEARCH(E$2,'3A. In-Kind Labor '!$G27))=TRUE,('3A. In-Kind Labor '!$E27/COUNTA(_xlfn.TEXTSPLIT('3A. In-Kind Labor '!$G27,\";\"))),0)+IF(ISNUMBER(SEARCH(E$2,'3B. In-Kind Non-Labor'!$G28))=TRUE,('3B. In-Kind Non-Labor'!$E28/COUNTA(_xlfn.TEXTSPLIT('3B. In-Kind Non-Labor'!$G28,\";\"))),0)","v":0},{"$f":"IF(ISNUMBER(SEARCH(F$2,'3A. In-Kind Labor '!$G27))=TRUE,('3A. In-Kind Labor '!$E27/COUNTA(_xlfn.TEXTSPLIT('3A. In-Kind Labor '!$G27,\";\"))),0)+IF(ISNUMBER(SEARCH(F$2,'3B. In-Kind Non-Labor'!$G28))=TRUE,('3B. In-Kind Non-Labor'!$E28/COUNTA(_xlfn.TEXTSPLIT('3B. In-Kind Non-Labor'!$G28,\";\"))),0)","v":0},{"$f":"IF(ISNUMBER(SEARCH(G$2,'3A. In-Kind Labor '!$G27))=TRUE,('3A. In-Kind Labor '!$E27/COUNTA(_xlfn.TEXTSPLIT('3A. In-Kind Labor '!$G27,\";\"))),0)+IF(ISNUMBER(SEARCH(G$2,'3B. In-Kind Non-Labor'!$G28))=TRUE,('3B. In-Kind Non-Labor'!$E28/COUNTA(_xlfn.TEXTSPLIT('3B. In-Kind Non-Labor'!$G28,\";\"))),0)","v":0},{"$f":"IF(ISNUMBER(SEARCH(H$2,'3A. In-Kind Labor '!$G27))=TRUE,('3A. In-Kind Labor '!$E27/COUNTA(_xlfn.TEXTSPLIT('3A. In-Kind Labor '!$G27,\";\"))),0)+IF(ISNUMBER(SEARCH(H$2,'3B. In-Kind Non-Labor'!$G28))=TRUE,('3B. In-Kind Non-Labor'!$E28/COUNTA(_xlfn.TEXTSPLIT('3B. In-Kind Non-Labor'!$G28,\";\"))),0)","v":0}]
[{"$f":"IF(ISNUMBER(SEARCH(A$2,'3A. In-Kind Labor '!$F28))=TRUE,('3A. In-Kind Labor '!$E28/COUNTA(_xlfn.TEXTSPLIT('3A. In-Kind Labor '!$F28,\";\"))),0)+IF(ISNUMBER(SEARCH(A$2,'3B. In-Kind Non-Labor'!$F29))=TRUE,('3B. In-Kind Non-Labor'!$E29/COUNTA(_xlfn.TEXTSPLIT('3B. In-Kind Non-Labor'!$F29,\";\"))),0)","v":0},{"$f":"IF(ISNUMBER(SEARCH(B$2,'3A. In-Kind Labor '!$F28))=TRUE,('3A. In-Kind Labor '!$E28/COUNTA(_xlfn.TEXTSPLIT('3A. In-Kind Labor '!$F28,\";\"))),0)+IF(ISNUMBER(SEARCH(B$2,'3B. In-Kind Non-Labor'!$F29))=TRUE,('3B. In-Kind Non-Labor'!$E29/COUNTA(_xlfn.TEXTSPLIT('3B. In-Kind Non-Labor'!$F29,\";\"))),0)","v":0},{"$f":"IF(ISNUMBER(SEARCH(C$2,'3A. In-Kind Labor '!$F28))=TRUE,('3A. In-Kind Labor '!$E28/COUNTA(_xlfn.TEXTSPLIT('3A. In-Kind Labor '!$F28,\";\"))),0)+IF(ISNUMBER(SEARCH(C$2,'3B. In-Kind Non-Labor'!$F29))=TRUE,('3B. In-Kind Non-Labor'!$E29/COUNTA(_xlfn.TEXTSPLIT('3B. In-Kind Non-Labor'!$F29,\";\"))),0)","v":0},null,{"$f":"IF(ISNUMBER(SEARCH(E$2,'3A. In-Kind Labor '!$G28))=TRUE,('3A. In-Kind Labor '!$E28/COUNTA(_xlfn.TEXTSPLIT('3A. In-Kind Labor '!$G28,\";\"))),0)+IF(ISNUMBER(SEARCH(E$2,'3B. In-Kind Non-Labor'!$G29))=TRUE,('3B. In-Kind Non-Labor'!$E29/COUNTA(_xlfn.TEXTSPLIT('3B. In-Kind Non-Labor'!$G29,\";\"))),0)","v":0},{"$f":"IF(ISNUMBER(SEARCH(F$2,'3A. In-Kind Labor '!$G28))=TRUE,('3A. In-Kind Labor '!$E28/COUNTA(_xlfn.TEXTSPLIT('3A. In-Kind Labor '!$G28,\";\"))),0)+IF(ISNUMBER(SEARCH(F$2,'3B. In-Kind Non-Labor'!$G29))=TRUE,('3B. In-Kind Non-Labor'!$E29/COUNTA(_xlfn.TEXTSPLIT('3B. In-Kind Non-Labor'!$G29,\";\"))),0)","v":0},{"$f":"IF(ISNUMBER(SEARCH(G$2,'3A. In-Kind Labor '!$G28))=TRUE,('3A. In-Kind Labor '!$E28/COUNTA(_xlfn.TEXTSPLIT('3A. In-Kind Labor '!$G28,\";\"))),0)+IF(ISNUMBER(SEARCH(G$2,'3B. In-Kind Non-Labor'!$G29))=TRUE,('3B. In-Kind Non-Labor'!$E29/COUNTA(_xlfn.TEXTSPLIT('3B. In-Kind Non-Labor'!$G29,\";\"))),0)","v":0},{"$f":"IF(ISNUMBER(SEARCH(H$2,'3A. In-Kind Labor '!$G28))=TRUE,('3A. In-Kind Labor '!$E28/COUNTA(_xlfn.TEXTSPLIT('3A. In-Kind Labor '!$G28,\";\"))),0)+IF(ISNUMBER(SEARCH(H$2,'3B. In-Kind Non-Labor'!$G29))=TRUE,('3B. In-Kind Non-Labor'!$E29/COUNTA(_xlfn.TEXTSPLIT('3B. In-Kind Non-Labor'!$G29,\";\"))),0)","v":0}]
[{"$f":"IF(ISNUMBER(SEARCH(A$2,'3A. In-Kind Labor '!$F29))=TRUE,('3A. In-Kind Labor '!$E29/COUNTA(_xlfn.TEXTSPLIT('3A. In-Kind Labor '!$F29,\";\"))),0)+IF(ISNUMBER(SEARCH(A$2,'3B. In-Kind Non-Labor'!$F30))=TRUE,('3B. In-Kind Non-Labor'!$E30/COUNTA(_xlfn.TEXTSPLIT('3B. In-Kind Non-Labor'!$F30,\";\"))),0)","v":0},{"$f":"IF(ISNUMBER(SEARCH(B$2,'3A. In-Kind Labor '!$F29))=TRUE,('3A. In-Kind Labor '!$E29/COUNTA(_xlfn.TEXTSPLIT('3A. In-Kind Labor '!$F29,\";\"))),0)+IF(ISNUMBER(SEARCH(B$2,'3B. In-Kind Non-Labor'!$F30))=TRUE,('3B. In-Kind Non-Labor'!$E30/COUNTA(_xlfn.TEXTSPLIT('3B. In-Kind Non-Labor'!$F30,\";\"))),0)","v":0},{"$f":"IF(ISNUMBER(SEARCH(C$2,'3A. In-Kind Labor '!$F29))=TRUE,('3A. In-Kind Labor '!$E29/COUNTA(_xlfn.TEXTSPLIT('3A. In-Kind Labor '!$F29,\";\"))),0)+IF(ISNUMBER(SEARCH(C$2,'3B. In-Kind Non-Labor'!$F30))=TRUE,('3B. In-Kind Non-Labor'!$E30/COUNTA(_xlfn.TEXTSPLIT('3B. In-Kind Non-Labor'!$F30,\";\"))),0)","v":0},null,{"$f":"IF(ISNUMBER(SEARCH(E$2,'3A. In-Kind Labor '!$G29))=TRUE,('3A. In-Kind Labor '!$E29/COUNTA(_xlfn.TEXTSPLIT('3A. In-Kind Labor '!$G29,\";\"))),0)+IF(ISNUMBER(SEARCH(E$2,'3B. In-Kind Non-Labor'!$G30))=TRUE,('3B. In-Kind Non-Labor'!$E30/COUNTA(_xlfn.TEXTSPLIT('3B. In-Kind Non-Labor'!$G30,\";\"))),0)","v":0},{"$f":"IF(ISNUMBER(SEARCH(F$2,'3A. In-Kind Labor '!$G29))=TRUE,('3A. In-Kind Labor '!$E29/COUNTA(_xlfn.TEXTSPLIT('3A. In-Kind Labor '!$G29,\";\"))),0)+IF(ISNUMBER(SEARCH(F$2,'3B. In-Kind Non-Labor'!$G30))=TRUE,('3B. In-Kind Non-Labor'!$E30/COUNTA(_xlfn.TEXTSPLIT('3B. In-Kind Non-Labor'!$G30,\";\"))),0)","v":0},{"$f":"IF(ISNUMBER(SEARCH(G$2,'3A. In-Kind Labor '!$G29))=TRUE,('3A. In-Kind Labor '!$E29/COUNTA(_xlfn.TEXTSPLIT('3A. In-Kind Labor '!$G29,\";\"))),0)+IF(ISNUMBER(SEARCH(G$2,'3B. In-Kind Non-Labor'!$G30))=TRUE,('3B. In-Kind Non-Labor'!$E30/COUNTA(_xlfn.TEXTSPLIT('3B. In-Kind Non-Labor'!$G30,\";\"))),0)","v":0},{"$f":"IF(ISNUMBER(SEARCH(H$2,'3A. In-Kind Labor '!$G29))=TRUE,('3A. In-Kind Labor '!$E29/COUNTA(_xlfn.TEXTSPLIT('3A. In-Kind Labor '!$G29,\";\"))),0)+IF(ISNUMBER(SEARCH(H$2,'3B. In-Kind Non-Labor'!$G30))=TRUE,('3B. In-Kind Non-Labor'!$E30/COUNTA(_xlfn.TEXTSPLIT('3B. In-Kind Non-Labor'!$G30,\";\"))),0)","v":0}]
[{"$f":"IF(ISNUMBER(SEARCH(A$2,'3A. In-Kind Labor '!$F30))=TRUE,('3A. In-Kind Labor '!$E30/COUNTA(_xlfn.TEXTSPLIT('3A. In-Kind Labor '!$F30,\";\"))),0)+IF(ISNUMBER(SEARCH(A$2,'3B. In-Kind Non-Labor'!$F31))=TRUE,('3B. In-Kind Non-Labor'!$E31/COUNTA(_xlfn.TEXTSPLIT('3B. In-Kind Non-Labor'!$F31,\";\"))),0)","v":0},{"$f":"IF(ISNUMBER(SEARCH(B$2,'3A. In-Kind Labor '!$F30))=TRUE,('3A. In-Kind Labor '!$E30/COUNTA(_xlfn.TEXTSPLIT('3A. In-Kind Labor '!$F30,\";\"))),0)+IF(ISNUMBER(SEARCH(B$2,'3B. In-Kind Non-Labor'!$F31))=TRUE,('3B. In-Kind Non-Labor'!$E31/COUNTA(_xlfn.TEXTSPLIT('3B. In-Kind Non-Labor'!$F31,\";\"))),0)","v":0},{"$f":"IF(ISNUMBER(SEARCH(C$2,'3A. In-Kind Labor '!$F30))=TRUE,('3A. In-Kind Labor '!$E30/COUNTA(_xlfn.TEXTSPLIT('3A. In-Kind Labor '!$F30,\";\"))),0)+IF(ISNUMBER(SEARCH(C$2,'3B. In-Kind Non-Labor'!$F31))=TRUE,('3B. In-Kind Non-Labor'!$E31/COUNTA(_xlfn.TEXTSPLIT('3B. In-Kind Non-Labor'!$F31,\";\"))),0)","v":0},null,{"$f":"IF(ISNUMBER(SEARCH(E$2,'3A. In-Kind Labor '!$G30))=TRUE,('3A. In-Kind Labor '!$E30/COUNTA(_xlfn.TEXTSPLIT('3A. In-Kind Labor '!$G30,\";\"))),0)+IF(ISNUMBER(SEARCH(E$2,'3B. In-Kind Non-Labor'!$G31))=TRUE,('3B. In-Kind Non-Labor'!$E31/COUNTA(_xlfn.TEXTSPLIT('3B. In-Kind Non-Labor'!$G31,\";\"))),0)","v":0},{"$f":"IF(ISNUMBER(SEARCH(F$2,'3A. In-Kind Labor '!$G30))=TRUE,('3A. In-Kind Labor '!$E30/COUNTA(_xlfn.TEXTSPLIT('3A. In-Kind Labor '!$G30,\";\"))),0)+IF(ISNUMBER(SEARCH(F$2,'3B. In-Kind Non-Labor'!$G31))=TRUE,('3B. In-Kind Non-Labor'!$E31/COUNTA(_xlfn.TEXTSPLIT('3B. In-Kind Non-Labor'!$G31,\";\"))),0)","v":0},{"$f":"IF(ISNUMBER(SEARCH(G$2,'3A. In-Kind Labor '!$G30))=TRUE,('3A. In-Kind Labor '!$E30/COUNTA(_xlfn.TEXTSPLIT('3A. In-Kind Labor '!$G30,\";\"))),0)+IF(ISNUMBER(SEARCH(G$2,'3B. In-Kind Non-Labor'!$G31))=TRUE,('3B. In-Kind Non-Labor'!$E31/COUNTA(_xlfn.TEXTSPLIT('3B. In-Kind Non-Labor'!$G31,\";\"))),0)","v":0},{"$f":"IF(ISNUMBER(SEARCH(H$2,'3A. In-Kind Labor '!$G30))=TRUE,('3A. In-Kind Labor '!$E30/COUNTA(_xlfn.TEXTSPLIT('3A. In-Kind Labor '!$G30,\";\"))),0)+IF(ISNUMBER(SEARCH(H$2,'3B. In-Kind Non-Labor'!$G31))=TRUE,('3B. In-Kind Non-Labor'!$E31/COUNTA(_xlfn.TEXTSPLIT('3B. In-Kind Non-Labor'!$G31,\";\"))),0)","v":0}]
[{"$f":"IF(ISNUMBER(SEARCH(A$2,'3A. In-Kind Labor '!$F31))=TRUE,('3A. In-Kind Labor '!$E31/COUNTA(_xlfn.TEXTSPLIT('3A. In-Kind Labor '!$F31,\";\"))),0)+IF(ISNUMBER(SEARCH(A$2,'3B. In-Kind Non-Labor'!$F32))=TRUE,('3B. In-Kind Non-Labor'!$E32/COUNTA(_xlfn.TEXTSPLIT('3B. In-Kind Non-Labor'!$F32,\";\"))),0)","v":0},{"$f":"IF(ISNUMBER(SEARCH(B$2,'3A. In-Kind Labor '!$F31))=TRUE,('3A. In-Kind Labor '!$E31/COUNTA(_xlfn.TEXTSPLIT('3A. In-Kind Labor '!$F31,\";\"))),0)+IF(ISNUMBER(SEARCH(B$2,'3B. In-Kind Non-Labor'!$F32))=TRUE,('3B. In-Kind Non-Labor'!$E32/COUNTA(_xlfn.TEXTSPLIT('3B. In-Kind Non-Labor'!$F32,\";\"))),0)","v":0},{"$f":"IF(ISNUMBER(SEARCH(C$2,'3A. In-Kind Labor '!$F31))=TRUE,('3A. In-Kind Labor '!$E31/COUNTA(_xlfn.TEXTSPLIT('3A. In-Kind Labor '!$F31,\";\"))),0)+IF(ISNUMBER(SEARCH(C$2,'3B. In-Kind Non-Labor'!$F32))=TRUE,('3B. In-Kind Non-Labor'!$E32/COUNTA(_xlfn.TEXTSPLIT('3B. In-Kind Non-Labor'!$F32,\";\"))),0)","v":0},null,{"$f":"IF(ISNUMBER(SEARCH(E$2,'3A. In-Kind Labor '!$G31))=TRUE,('3A. In-Kind Labor '!$E31/COUNTA(_xlfn.TEXTSPLIT('3A. In-Kind Labor '!$G31,\";\"))),0)+IF(ISNUMBER(SEARCH(E$2,'3B. In-Kind Non-Labor'!$G32))=TRUE,('3B. In-Kind Non-Labor'!$E32/COUNTA(_xlfn.TEXTSPLIT('3B. In-Kind Non-Labor'!$G32,\";\"))),0)","v":0},{"$f":"IF(ISNUMBER(SEARCH(F$2,'3A. In-Kind Labor '!$G31))=TRUE,('3A. In-Kind Labor '!$E31/COUNTA(_xlfn.TEXTSPLIT('3A. In-Kind Labor '!$G31,\";\"))),0)+IF(ISNUMBER(SEARCH(F$2,'3B. In-Kind Non-Labor'!$G32))=TRUE,('3B. In-Kind Non-Labor'!$E32/COUNTA(_xlfn.TEXTSPLIT('3B. In-Kind Non-Labor'!$G32,\";\"))),0)","v":0},{"$f":"IF(ISNUMBER(SEARCH(G$2,'3A. In-Kind Labor '!$G31))=TRUE,('3A. In-Kind Labor '!$E31/COUNTA(_xlfn.TEXTSPLIT('3A. In-Kind Labor '!$G31,\";\"))),0)+IF(ISNUMBER(SEARCH(G$2,'3B. In-Kind Non-Labor'!$G32))=TRUE,('3B. In-Kind Non-Labor'!$E32/COUNTA(_xlfn.TEXTSPLIT('3B. In-Kind Non-Labor'!$G32,\";\"))),0)","v":0},{"$f":"IF(ISNUMBER(SEARCH(H$2,'3A. In-Kind Labor '!$G31))=TRUE,('3A. In-Kind Labor '!$E31/COUNTA(_xlfn.TEXTSPLIT('3A. In-Kind Labor '!$G31,\";\"))),0)+IF(ISNUMBER(SEARCH(H$2,'3B. In-Kind Non-Labor'!$G32))=TRUE,('3B. In-Kind Non-Labor'!$E32/COUNTA(_xlfn.TEXTSPLIT('3B. In-Kind Non-Labor'!$G32,\";\"))),0)","v":0}]
[{"$f":"IF(ISNUMBER(SEARCH(A$2,'3A. In-Kind Labor '!$F32))=TRUE,('3A. In-Kind Labor '!$E32/COUNTA(_xlfn.TEXTSPLIT('3A. In-Kind Labor '!$F32,\";\"))),0)+IF(ISNUMBER(SEARCH(A$2,'3B. In-Kind Non-Labor'!$F33))=TRUE,('3B. In-Kind Non-Labor'!$E33/COUNTA(_xlfn.TEXTSPLIT('3B. In-Kind Non-Labor'!$F33,\";\"))),0)","v":0},{"$f":"IF(ISNUMBER(SEARCH(B$2,'3A. In-Kind Labor '!$F32))=TRUE,('3A. In-Kind Labor '!$E32/COUNTA(_xlfn.TEXTSPLIT('3A. In-Kind Labor '!$F32,\";\"))),0)+IF(ISNUMBER(SEARCH(B$2,'3B. In-Kind Non-Labor'!$F33))=TRUE,('3B. In-Kind Non-Labor'!$E33/COUNTA(_xlfn.TEXTSPLIT('3B. In-Kind Non-Labor'!$F33,\";\"))),0)","v":0},{"$f":"IF(ISNUMBER(SEARCH(C$2,'3A. In-Kind Labor '!$F32))=TRUE,('3A. In-Kind Labor '!$E32/COUNTA(_xlfn.TEXTSPLIT('3A. In-Kind Labor '!$F32,\";\"))),0)+IF(ISNUMBER(SEARCH(C$2,'3B. In-Kind Non-Labor'!$F33))=TRUE,('3B. In-Kind Non-Labor'!$E33/COUNTA(_xlfn.TEXTSPLIT('3B. In-Kind Non-Labor'!$F33,\";\"))),0)","v":0},null,{"$f":"IF(ISNUMBER(SEARCH(E$2,'3A. In-Kind Labor '!$G32))=TRUE,('3A. In-Kind Labor '!$E32/COUNTA(_xlfn.TEXTSPLIT('3A. In-Kind Labor '!$G32,\";\"))),0)+IF(ISNUMBER(SEARCH(E$2,'3B. In-Kind Non-Labor'!$G33))=TRUE,('3B. In-Kind Non-Labor'!$E33/COUNTA(_xlfn.TEXTSPLIT('3B. In-Kind Non-Labor'!$G33,\";\"))),0)","v":0},{"$f":"IF(ISNUMBER(SEARCH(F$2,'3A. In-Kind Labor '!$G32))=TRUE,('3A. In-Kind Labor '!$E32/COUNTA(_xlfn.TEXTSPLIT('3A. In-Kind Labor '!$G32,\";\"))),0)+IF(ISNUMBER(SEARCH(F$2,'3B. In-Kind Non-Labor'!$G33))=TRUE,('3B. In-Kind Non-Labor'!$E33/COUNTA(_xlfn.TEXTSPLIT('3B. In-Kind Non-Labor'!$G33,\";\"))),0)","v":0},{"$f":"IF(ISNUMBER(SEARCH(G$2,'3A. In-Kind Labor '!$G32))=TRUE,('3A. In-Kind Labor '!$E32/COUNTA(_xlfn.TEXTSPLIT('3A. In-Kind Labor '!$G32,\";\"))),0)+IF(ISNUMBER(SEARCH(G$2,'3B. In-Kind Non-Labor'!$G33))=TRUE,('3B. In-Kind Non-Labor'!$E33/COUNTA(_xlfn.TEXTSPLIT('3B. In-Kind Non-Labor'!$G33,\";\"))),0)","v":0},{"$f":"IF(ISNUMBER(SEARCH(H$2,'3A. In-Kind Labor '!$G32))=TRUE,('3A. In-Kind Labor '!$E32/COUNTA(_xlfn.TEXTSPLIT('3A. In-Kind Labor '!$G32,\";\"))),0)+IF(ISNUMBER(SEARCH(H$2,'3B. In-Kind Non-Labor'!$G33))=TRUE,('3B. In-Kind Non-Labor'!$E33/COUNTA(_xlfn.TEXTSPLIT('3B. In-Kind Non-Labor'!$G33,\";\"))),0)","v":0}]
[{"$f":"IF(ISNUMBER(SEARCH(A$2,'3A. In-Kind Labor '!$F33))=TRUE,('3A. In-Kind Labor '!$E33/COUNTA(_xlfn.TEXTSPLIT('3A. In-Kind Labor '!$F33,\";\"))),0)+IF(ISNUMBER(SEARCH(A$2,'3B. In-Kind Non-Labor'!$F34))=TRUE,('3B. In-Kind Non-Labor'!$E34/COUNTA(_xlfn.TEXTSPLIT('3B. In-Kind Non-Labor'!$F34,\";\"))),0)","v":0},{"$f":"IF(ISNUMBER(SEARCH(B$2,'3A. In-Kind Labor '!$F33))=TRUE,('3A. In-Kind Labor '!$E33/COUNTA(_xlfn.TEXTSPLIT('3A. In-Kind Labor '!$F33,\";\"))),0)+IF(ISNUMBER(SEARCH(B$2,'3B. In-Kind Non-Labor'!$F34))=TRUE,('3B. In-Kind Non-Labor'!$E34/COUNTA(_xlfn.TEXTSPLIT('3B. In-Kind Non-Labor'!$F34,\";\"))),0)","v":0},{"$f":"IF(ISNUMBER(SEARCH(C$2,'3A. In-Kind Labor '!$F33))=TRUE,('3A. In-Kind Labor '!$E33/COUNTA(_xlfn.TEXTSPLIT('3A. In-Kind Labor '!$F33,\";\"))),0)+IF(ISNUMBER(SEARCH(C$2,'3B. In-Kind Non-Labor'!$F34))=TRUE,('3B. In-Kind Non-Labor'!$E34/COUNTA(_xlfn.TEXTSPLIT('3B. In-Kind Non-Labor'!$F34,\";\"))),0)","v":0},null,{"$f":"IF(ISNUMBER(SEARCH(E$2,'3A. In-Kind Labor '!$G33))=TRUE,('3A. In-Kind Labor '!$E33/COUNTA(_xlfn.TEXTSPLIT('3A. In-Kind Labor '!$G33,\";\"))),0)+IF(ISNUMBER(SEARCH(E$2,'3B. In-Kind Non-Labor'!$G34))=TRUE,('3B. In-Kind Non-Labor'!$E34/COUNTA(_xlfn.TEXTSPLIT('3B. In-Kind Non-Labor'!$G34,\";\"))),0)","v":0},{"$f":"IF(ISNUMBER(SEARCH(F$2,'3A. In-Kind Labor '!$G33))=TRUE,('3A. In-Kind Labor '!$E33/COUNTA(_xlfn.TEXTSPLIT('3A. In-Kind Labor '!$G33,\";\"))),0)+IF(ISNUMBER(SEARCH(F$2,'3B. In-Kind Non-Labor'!$G34))=TRUE,('3B. In-Kind Non-Labor'!$E34/COUNTA(_xlfn.TEXTSPLIT('3B. In-Kind Non-Labor'!$G34,\";\"))),0)","v":0},{"$f":"IF(ISNUMBER(SEARCH(G$2,'3A. In-Kind Labor '!$G33))=TRUE,('3A. In-Kind Labor '!$E33/COUNTA(_xlfn.TEXTSPLIT('3A. In-Kind Labor '!$G33,\";\"))),0)+IF(ISNUMBER(SEARCH(G$2,'3B. In-Kind Non-Labor'!$G34))=TRUE,('3B. In-Kind Non-Labor'!$E34/COUNTA(_xlfn.TEXTSPLIT('3B. In-Kind Non-Labor'!$G34,\";\"))),0)","v":0},{"$f":"IF(ISNUMBER(SEARCH(H$2,'3A. In-Kind Labor '!$G33))=TRUE,('3A. In-Kind Labor '!$E33/COUNTA(_xlfn.TEXTSPLIT('3A. In-Kind Labor '!$G33,\";\"))),0)+IF(ISNUMBER(SEARCH(H$2,'3B. In-Kind Non-Labor'!$G34))=TRUE,('3B. In-Kind Non-Labor'!$E34/COUNTA(_xlfn.TEXTSPLIT('3B. In-Kind Non-Labor'!$G34,\";\"))),0)","v":0}]
[{"$f":"IF(ISNUMBER(SEARCH(A$2,'3A. In-Kind Labor '!$F34))=TRUE,('3A. In-Kind Labor '!$E34/COUNTA(_xlfn.TEXTSPLIT('3A. In-Kind Labor '!$F34,\";\"))),0)+IF(ISNUMBER(SEARCH(A$2,'3B. In-Kind Non-Labor'!$F35))=TRUE,('3B. In-Kind Non-Labor'!$E35/COUNTA(_xlfn.TEXTSPLIT('3B. In-Kind Non-Labor'!$F35,\";\"))),0)","v":0},{"$f":"IF(ISNUMBER(SEARCH(B$2,'3A. In-Kind Labor '!$F34))=TRUE,('3A. In-Kind Labor '!$E34/COUNTA(_xlfn.TEXTSPLIT('3A. In-Kind Labor '!$F34,\";\"))),0)+IF(ISNUMBER(SEARCH(B$2,'3B. In-Kind Non-Labor'!$F35))=TRUE,('3B. In-Kind Non-Labor'!$E35/COUNTA(_xlfn.TEXTSPLIT('3B. In-Kind Non-Labor'!$F35,\";\"))),0)","v":0},{"$f":"IF(ISNUMBER(SEARCH(C$2,'3A. In-Kind Labor '!$F34))=TRUE,('3A. In-Kind Labor '!$E34/COUNTA(_xlfn.TEXTSPLIT('3A. In-Kind Labor '!$F34,\";\"))),0)+IF(ISNUMBER(SEARCH(C$2,'3B. In-Kind Non-Labor'!$F35))=TRUE,('3B. In-Kind Non-Labor'!$E35/COUNTA(_xlfn.TEXTSPLIT('3B. In-Kind Non-Labor'!$F35,\";\"))),0)","v":0},null,{"$f":"IF(ISNUMBER(SEARCH(E$2,'3A. In-Kind Labor '!$G34))=TRUE,('3A. In-Kind Labor '!$E34/COUNTA(_xlfn.TEXTSPLIT('3A. In-Kind Labor '!$G34,\";\"))),0)+IF(ISNUMBER(SEARCH(E$2,'3B. In-Kind Non-Labor'!$G35))=TRUE,('3B. In-Kind Non-Labor'!$E35/COUNTA(_xlfn.TEXTSPLIT('3B. In-Kind Non-Labor'!$G35,\";\"))),0)","v":0},{"$f":"IF(ISNUMBER(SEARCH(F$2,'3A. In-Kind Labor '!$G34))=TRUE,('3A. In-Kind Labor '!$E34/COUNTA(_xlfn.TEXTSPLIT('3A. In-Kind Labor '!$G34,\";\"))),0)+IF(ISNUMBER(SEARCH(F$2,'3B. In-Kind Non-Labor'!$G35))=TRUE,('3B. In-Kind Non-Labor'!$E35/COUNTA(_xlfn.TEXTSPLIT('3B. In-Kind Non-Labor'!$G35,\";\"))),0)","v":0},{"$f":"IF(ISNUMBER(SEARCH(G$2,'3A. In-Kind Labor '!$G34))=TRUE,('3A. In-Kind Labor '!$E34/COUNTA(_xlfn.TEXTSPLIT('3A. In-Kind Labor '!$G34,\";\"))),0)+IF(ISNUMBER(SEARCH(G$2,'3B. In-Kind Non-Labor'!$G35))=TRUE,('3B. In-Kind Non-Labor'!$E35/COUNTA(_xlfn.TEXTSPLIT('3B. In-Kind Non-Labor'!$G35,\";\"))),0)","v":0},{"$f":"IF(ISNUMBER(SEARCH(H$2,'3A. In-Kind Labor '!$G34))=TRUE,('3A. In-Kind Labor '!$E34/COUNTA(_xlfn.TEXTSPLIT('3A. In-Kind Labor '!$G34,\";\"))),0)+IF(ISNUMBER(SEARCH(H$2,'3B. In-Kind Non-Labor'!$G35))=TRUE,('3B. In-Kind Non-Labor'!$E35/COUNTA(_xlfn.TEXTSPLIT('3B. In-Kind Non-Labor'!$G35,\";\"))),0)","v":0}]
[{"$f":"IF(ISNUMBER(SEARCH(A$2,'3A. In-Kind Labor '!$F35))=TRUE,('3A. In-Kind Labor '!$E35/COUNTA(_xlfn.TEXTSPLIT('3A. In-Kind Labor '!$F35,\";\"))),0)+IF(ISNUMBER(SEARCH(A$2,'3B. In-Kind Non-Labor'!$F36))=TRUE,('3B. In-Kind Non-Labor'!$E36/COUNTA(_xlfn.TEXTSPLIT('3B. In-Kind Non-Labor'!$F36,\";\"))),0)","v":0},{"$f":"IF(ISNUMBER(SEARCH(B$2,'3A. In-Kind Labor '!$F35))=TRUE,('3A. In-Kind Labor '!$E35/COUNTA(_xlfn.TEXTSPLIT('3A. In-Kind Labor '!$F35,\";\"))),0)+IF(ISNUMBER(SEARCH(B$2,'3B. In-Kind Non-Labor'!$F36))=TRUE,('3B. In-Kind Non-Labor'!$E36/COUNTA(_xlfn.TEXTSPLIT('3B. In-Kind Non-Labor'!$F36,\";\"))),0)","v":0},{"$f":"IF(ISNUMBER(SEARCH(C$2,'3A. In-Kind Labor '!$F35))=TRUE,('3A. In-Kind Labor '!$E35/COUNTA(_xlfn.TEXTSPLIT('3A. In-Kind Labor '!$F35,\";\"))),0)+IF(ISNUMBER(SEARCH(C$2,'3B. In-Kind Non-Labor'!$F36))=TRUE,('3B. In-Kind Non-Labor'!$E36/COUNTA(_xlfn.TEXTSPLIT('3B. In-Kind Non-Labor'!$F36,\";\"))),0)","v":0},null,{"$f":"IF(ISNUMBER(SEARCH(E$2,'3A. In-Kind Labor '!$G35))=TRUE,('3A. In-Kind Labor '!$E35/COUNTA(_xlfn.TEXTSPLIT('3A. In-Kind Labor '!$G35,\";\"))),0)+IF(ISNUMBER(SEARCH(E$2,'3B. In-Kind Non-Labor'!$G36))=TRUE,('3B. In-Kind Non-Labor'!$E36/COUNTA(_xlfn.TEXTSPLIT('3B. In-Kind Non-Labor'!$G36,\";\"))),0)","v":0},{"$f":"IF(ISNUMBER(SEARCH(F$2,'3A. In-Kind Labor '!$G35))=TRUE,('3A. In-Kind Labor '!$E35/COUNTA(_xlfn.TEXTSPLIT('3A. In-Kind Labor '!$G35,\";\"))),0)+IF(ISNUMBER(SEARCH(F$2,'3B. In-Kind Non-Labor'!$G36))=TRUE,('3B. In-Kind Non-Labor'!$E36/COUNTA(_xlfn.TEXTSPLIT('3B. In-Kind Non-Labor'!$G36,\";\"))),0)","v":0},{"$f":"IF(ISNUMBER(SEARCH(G$2,'3A. In-Kind Labor '!$G35))=TRUE,('3A. In-Kind Labor '!$E35/COUNTA(_xlfn.TEXTSPLIT('3A. In-Kind Labor '!$G35,\";\"))),0)+IF(ISNUMBER(SEARCH(G$2,'3B. In-Kind Non-Labor'!$G36))=TRUE,('3B. In-Kind Non-Labor'!$E36/COUNTA(_xlfn.TEXTSPLIT('3B. In-Kind Non-Labor'!$G36,\";\"))),0)","v":0},{"$f":"IF(ISNUMBER(SEARCH(H$2,'3A. In-Kind Labor '!$G35))=TRUE,('3A. In-Kind Labor '!$E35/COUNTA(_xlfn.TEXTSPLIT('3A. In-Kind Labor '!$G35,\";\"))),0)+IF(ISNUMBER(SEARCH(H$2,'3B. In-Kind Non-Labor'!$G36))=TRUE,('3B. In-Kind Non-Labor'!$E36/COUNTA(_xlfn.TEXTSPLIT('3B. In-Kind Non-Labor'!$G36,\";\"))),0)","v":0}]
[]
["Consultants (Tab 7)- Allocation by Strategy",{"$nulls":3},"Consultants (Tab 7)- Allocation by Topic"]
["Data and Surveillance","Collaborations and Partnerships","Assessment and Evaluation",null,"Adverse Childhood Experiences (ACEs)","Transportation Safety","Traumatic Brain Injury","Other Topic (please specify in comments)"]
[{"$f":"IF(ISNUMBER(SEARCH(A$2,'7. Consultant Costs'!$D6))=TRUE,('7. Consultant Costs'!$C6/COUNTA(_xlfn.TEXTSPLIT('7. Consultant Costs'!$D6,\";\"))),\"\")","v":""},{"$f":"IF(ISNUMBER(SEARCH(B$2,'7. Consultant Costs'!$D6))=TRUE,('7. Consultant Costs'!$C6/COUNTA(_xlfn.TEXTSPLIT('7. Consultant Costs'!$D6,\";\"))),\"\")","v":""},{"$f":"IF(ISNUMBER(SEARCH(C$2,'7. Consultant Costs'!$D6))=TRUE,('7. Consultant Costs'!$C6/COUNTA(_xlfn.TEXTSPLIT('7. Consultant Costs'!$D6,\";\"))),\"\")","v":""},null,{"$f":"IF(ISNUMBER(SEARCH(E$2,'7. Consultant Costs'!$E6))=TRUE,('7. Consultant Costs'!$C6/COUNTA(_xlfn.TEXTSPLIT('7. Consultant Costs'!$E6,\";\"))),\"\")","v":""},{"$f":"IF(ISNUMBER(SEARCH(F$2,'7. Consultant Costs'!$E6))=TRUE,('7. Consultant Costs'!$C6/COUNTA(_xlfn.TEXTSPLIT('7. Consultant Costs'!$E6,\";\"))),\"\")","v":""},{"$f":"IF(ISNUMBER(SEARCH(G$2,'7. Consultant Costs'!$E6))=TRUE,('7. Consultant Costs'!$C6/COUNTA(_xlfn.TEXTSPLIT('7. Consultant Costs'!$E6,\";\"))),\"\")","v":""},{"$f":"IF(ISNUMBER(SEARCH(H$2,'7. Consultant Costs'!$E6))=TRUE,('7. Consultant Costs'!$C6/COUNTA(_xlfn.TEXTSPLIT('7. Consultant Costs'!$E6,\";\"))),\"\")","v":""}]
[{"$f":"IF(ISNUMBER(SEARCH(A$2,'7. Consultant Costs'!$D7))=TRUE,('7. Consultant Costs'!$C7/COUNTA(_xlfn.TEXTSPLIT('7. Consultant Costs'!$D7,\";\"))),\"\")","v":""},{"$f":"IF(ISNUMBER(SEARCH(B$2,'7. Consultant Costs'!$D7))=TRUE,('7. Consultant Costs'!$C7/COUNTA(_xlfn.TEXTSPLIT('7. Consultant Costs'!$D7,\";\"))),\"\")","v":""},{"$f":"IF(ISNUMBER(SEARCH(C$2,'7. Consultant Costs'!$D7))=TRUE,('7. Consultant Costs'!$C7/COUNTA(_xlfn.TEXTSPLIT('7. Consultant Costs'!$D7,\";\"))),\"\")","v":""},null,{"$f":"IF(ISNUMBER(SEARCH(E$2,'7. Consultant Costs'!$E7))=TRUE,('7. Consultant Costs'!$C7/COUNTA(_xlfn.TEXTSPLIT('7. Consultant Costs'!$E7,\";\"))),\"\")","v":""},{"$f":"IF(ISNUMBER(SEARCH(F$2,'7. Consultant Costs'!$E7))=TRUE,('7. Consultant Costs'!$C7/COUNTA(_xlfn.TEXTSPLIT('7. Consultant Costs'!$E7,\";\"))),\"\")","v":""},{"$f":"IF(ISNUMBER(SEARCH(G$2,'7. Consultant Costs'!$E7))=TRUE,('7. Consultant Costs'!$C7/COUNTA(_xlfn.TEXTSPLIT('7. Consultant Costs'!$E7,\";\"))),\"\")","v":""},{"$f":"IF(ISNUMBER(SEARCH(H$2,'7. Consultant Costs'!$E7))=TRUE,('7. Consultant Costs'!$C7/COUNTA(_xlfn.TEXTSPLIT('7. Consultant Costs'!$E7,\";\"))),\"\")","v":""}]
[{"$f":"IF(ISNUMBER(SEARCH(A$2,'7. Consultant Costs'!$D8))=TRUE,('7. Consultant Costs'!$C8/COUNTA(_xlfn.TEXTSPLIT('7. Consultant Costs'!$D8,\";\"))),\"\")","v":""},{"$f":"IF(ISNUMBER(SEARCH(B$2,'7. Consultant Costs'!$D8))=TRUE,('7. Consultant Costs'!$C8/COUNTA(_xlfn.TEXTSPLIT('7. Consultant Costs'!$D8,\";\"))),\"\")","v":""},{"$f":"IF(ISNUMBER(SEARCH(C$2,'7. Consultant Costs'!$D8))=TRUE,('7. Consultant Costs'!$C8/COUNTA(_xlfn.TEXTSPLIT('7. Consultant Costs'!$D8,\";\"))),\"\")","v":""},null,{"$f":"IF(ISNUMBER(SEARCH(E$2,'7. Consultant Costs'!$E8))=TRUE,('7. Consultant Costs'!$C8/COUNTA(_xlfn.TEXTSPLIT('7. Consultant Costs'!$E8,\";\"))),\"\")","v":""},{"$f":"IF(ISNUMBER(SEARCH(F$2,'7. Consultant Costs'!$E8))=TRUE,('7. Consultant Costs'!$C8/COUNTA(_xlfn.TEXTSPLIT('7. Consultant Costs'!$E8,\";\"))),\"\")","v":""},{"$f":"IF(ISNUMBER(SEARCH(G$2,'7. Consultant Costs'!$E8))=TRUE,('7. Consultant Costs'!$C8/COUNTA(_xlfn.TEXTSPLIT('7. Consultant Costs'!$E8,\";\"))),\"\")","v":""},{"$f":"IF(ISNUMBER(SEARCH(H$2,'7. Consultant Costs'!$E8))=TRUE,('7. Consultant Costs'!$C8/COUNTA(_xlfn.TEXTSPLIT('7. Consultant Costs'!$E8,\";\"))),\"\")","v":""}]
[{"$f":"IF(ISNUMBER(SEARCH(A$2,'7. Consultant Costs'!$D9))=TRUE,('7. Consultant Costs'!$C9/COUNTA(_xlfn.TEXTSPLIT('7. Consultant Costs'!$D9,\";\"))),\"\")","v":""},{"$f":"IF(ISNUMBER(SEARCH(B$2,'7. Consultant Costs'!$D9))=TRUE,('7. Consultant Costs'!$C9/COUNTA(_xlfn.TEXTSPLIT('7. Consultant Costs'!$D9,\";\"))),\"\")","v":""},{"$f":"IF(ISNUMBER(SEARCH(C$2,'7. Consultant Costs'!$D9))=TRUE,('7. Consultant Costs'!$C9/COUNTA(_xlfn.TEXTSPLIT('7. Consultant Costs'!$D9,\";\"))),\"\")","v":""},null,{"$f":"IF(ISNUMBER(SEARCH(E$2,'7. Consultant Costs'!$E9))=TRUE,('7. Consultant Costs'!$C9/COUNTA(_xlfn.TEXTSPLIT('7. Consultant Costs'!$E9,\";\"))),\"\")","v":""},{"$f":"IF(ISNUMBER(SEARCH(F$2,'7. Consultant Costs'!$E9))=TRUE,('7. Consultant Costs'!$C9/COUNTA(_xlfn.TEXTSPLIT('7. Consultant Costs'!$E9,\";\"))),\"\")","v":""},{"$f":"IF(ISNUMBER(SEARCH(G$2,'7. Consultant Costs'!$E9))=TRUE,('7. Consultant Costs'!$C9/COUNTA(_xlfn.TEXTSPLIT('7. Consultant Costs'!$E9,\";\"))),\"\")","v":""},{"$f":"IF(ISNUMBER(SEARCH(H$2,'7. Consultant Costs'!$E9))=TRUE,('7. Consultant Costs'!$C9/COUNTA(_xlfn.TEXTSPLIT('7. Consultant Costs'!$E9,\";\"))),\"\")","v":""}]
[{"$f":"IF(ISNUMBER(SEARCH(A$2,'7. Consultant Costs'!$D10))=TRUE,('7. Consultant Costs'!$C10/COUNTA(_xlfn.TEXTSPLIT('7. Consultant Costs'!$D10,\";\"))),\"\")","v":""},{"$f":"IF(ISNUMBER(SEARCH(B$2,'7. Consultant Costs'!$D10))=TRUE,('7. Consultant Costs'!$C10/COUNTA(_xlfn.TEXTSPLIT('7. Consultant Costs'!$D10,\";\"))),\"\")","v":""},{"$f":"IF(ISNUMBER(SEARCH(C$2,'7. Consultant Costs'!$D10))=TRUE,('7. Consultant Costs'!$C10/COUNTA(_xlfn.TEXTSPLIT('7. Consultant Costs'!$D10,\";\"))),\"\")","v":""},null,{"$f":"IF(ISNUMBER(SEARCH(E$2,'7. Consultant Costs'!$E10))=TRUE,('7. Consultant Costs'!$C10/COUNTA(_xlfn.TEXTSPLIT('7. Consultant Costs'!$E10,\";\"))),\"\")","v":""},{"$f":"IF(ISNUMBER(SEARCH(F$2,'7. Consultant Costs'!$E10))=TRUE,('7. Consultant Costs'!$C10/COUNTA(_xlfn.TEXTSPLIT('7. Consultant Costs'!$E10,\";\"))),\"\")","v":""},{"$f":"IF(ISNUMBER(SEARCH(G$2,'7. Consultant Costs'!$E10))=TRUE,('7. Consultant Costs'!$C10/COUNTA(_xlfn.TEXTSPLIT('7. Consultant Costs'!$E10,\";\"))),\"\")","v":""},{"$f":"IF(ISNUMBER(SEARCH(H$2,'7. Consultant Costs'!$E10))=TRUE,('7. Consultant Costs'!$C10/COUNTA(_xlfn.TEXTSPLIT('7. Consultant Costs'!$E10,\";\"))),\"\")","v":""}]
[{"$f":"IF(ISNUMBER(SEARCH(A$2,'7. Consultant Costs'!$D11))=TRUE,('7. Consultant Costs'!$C11/COUNTA(_xlfn.TEXTSPLIT('7. Consultant Costs'!$D11,\";\"))),\"\")","v":""},{"$f":"IF(ISNUMBER(SEARCH(B$2,'7. Consultant Costs'!$D11))=TRUE,('7. Consultant Costs'!$C11/COUNTA(_xlfn.TEXTSPLIT('7. Consultant Costs'!$D11,\";\"))),\"\")","v":""},{"$f":"IF(ISNUMBER(SEARCH(C$2,'7. Consultant Costs'!$D11))=TRUE,('7. Consultant Costs'!$C11/COUNTA(_xlfn.TEXTSPLIT('7. Consultant Costs'!$D11,\";\"))),\"\")","v":""},null,{"$f":"IF(ISNUMBER(SEARCH(E$2,'7. Consultant Costs'!$E11))=TRUE,('7. Consultant Costs'!$C11/COUNTA(_xlfn.TEXTSPLIT('7. Consultant Costs'!$E11,\";\"))),\"\")","v":""},{"$f":"IF(ISNUMBER(SEARCH(F$2,'7. Consultant Costs'!$E11))=TRUE,('7. Consultant Costs'!$C11/COUNTA(_xlfn.TEXTSPLIT('7. Consultant Costs'!$E11,\";\"))),\"\")","v":""},{"$f":"IF(ISNUMBER(SEARCH(G$2,'7. Consultant Costs'!$E11))=TRUE,('7. Consultant Costs'!$C11/COUNTA(_xlfn.TEXTSPLIT('7. Consultant Costs'!$E11,\";\"))),\"\")","v":""},{"$f":"IF(ISNUMBER(SEARCH(H$2,'7. Consultant Costs'!$E11))=TRUE,('7. Consultant Costs'!$C11/COUNTA(_xlfn.TEXTSPLIT('7. Consultant Costs'!$E11,\";\"))),\"\")","v":""}]
[{"$f":"IF(ISNUMBER(SEARCH(A$2,'7. Consultant Costs'!$D12))=TRUE,('7. Consultant Costs'!$C12/COUNTA(_xlfn.TEXTSPLIT('7. Consultant Costs'!$D12,\";\"))),\"\")","v":""},{"$f":"IF(ISNUMBER(SEARCH(B$2,'7. Consultant Costs'!$D12))=TRUE,('7. Consultant Costs'!$C12/COUNTA(_xlfn.TEXTSPLIT('7. Consultant Costs'!$D12,\";\"))),\"\")","v":""},{"$f":"IF(ISNUMBER(SEARCH(C$2,'7. Consultant Costs'!$D12))=TRUE,('7. Consultant Costs'!$C12/COUNTA(_xlfn.TEXTSPLIT('7. Consultant Costs'!$D12,\";\"))),\"\")","v":""},null,{"$f":"IF(ISNUMBER(SEARCH(E$2,'7. Consultant Costs'!$E12))=TRUE,('7. Consultant Costs'!$C12/COUNTA(_xlfn.TEXTSPLIT('7. Consultant Costs'!$E12,\";\"))),\"\")","v":""},{"$f":"IF(ISNUMBER(SEARCH(F$2,'7. Consultant Costs'!$E12))=TRUE,('7. Consultant Costs'!$C12/COUNTA(_xlfn.TEXTSPLIT('7. Consultant Costs'!$E12,\";\"))),\"\")","v":""},{"$f":"IF(ISNUMBER(SEARCH(G$2,'7. Consultant Costs'!$E12))=TRUE,('7. Consultant Costs'!$C12/COUNTA(_xlfn.TEXTSPLIT('7. Consultant Costs'!$E12,\";\"))),\"\")","v":""},{"$f":"IF(ISNUMBER(SEARCH(H$2,'7. Consultant Costs'!$E12))=TRUE,('7. Consultant Costs'!$C12/COUNTA(_xlfn.TEXTSPLIT('7. Consultant Costs'!$E12,\";\"))),\"\")","v":""}]
[{"$f":"IF(ISNUMBER(SEARCH(A$2,'7. Consultant Costs'!$D13))=TRUE,('7. Consultant Costs'!$C13/COUNTA(_xlfn.TEXTSPLIT('7. Consultant Costs'!$D13,\";\"))),\"\")","v":""},{"$f":"IF(ISNUMBER(SEARCH(B$2,'7. Consultant Costs'!$D13))=TRUE,('7. Consultant Costs'!$C13/COUNTA(_xlfn.TEXTSPLIT('7. Consultant Costs'!$D13,\";\"))),\"\")","v":""},{"$f":"IF(ISNUMBER(SEARCH(C$2,'7. Consultant Costs'!$D13))=TRUE,('7. Consultant Costs'!$C13/COUNTA(_xlfn.TEXTSPLIT('7. Consultant Costs'!$D13,\";\"))),\"\")","v":""},null,{"$f":"IF(ISNUMBER(SEARCH(E$2,'7. Consultant Costs'!$E13))=TRUE,('7. Consultant Costs'!$C13/COUNTA(_xlfn.TEXTSPLIT('7. Consultant Costs'!$E13,\";\"))),\"\")","v":""},{"$f":"IF(ISNUMBER(SEARCH(F$2,'7. Consultant Costs'!$E13))=TRUE,('7. Consultant Costs'!$C13/COUNTA(_xlfn.TEXTSPLIT('7. Consultant Costs'!$E13,\";\"))),\"\")","v":""},{"$f":"IF(ISNUMBER(SEARCH(G$2,'7. Consultant Costs'!$E13))=TRUE,('7. Consultant Costs'!$C13/COUNTA(_xlfn.TEXTSPLIT('7. Consultant Costs'!$E13,\";\"))),\"\")","v":""},{"$f":"IF(ISNUMBER(SEARCH(H$2,'7. Consultant Costs'!$E13))=TRUE,('7. Consultant Costs'!$C13/COUNTA(_xlfn.TEXTSPLIT('7. Consultant Costs'!$E13,\";\"))),\"\")","v":""}]
[{"$f":"IF(ISNUMBER(SEARCH(A$2,'7. Consultant Costs'!$D14))=TRUE,('7. Consultant Costs'!$C14/COUNTA(_xlfn.TEXTSPLIT('7. Consultant Costs'!$D14,\";\"))),\"\")","v":""},{"$f":"IF(ISNUMBER(SEARCH(B$2,'7. Consultant Costs'!$D14))=TRUE,('7. Consultant Costs'!$C14/COUNTA(_xlfn.TEXTSPLIT('7. Consultant Costs'!$D14,\";\"))),\"\")","v":""},{"$f":"IF(ISNUMBER(SEARCH(C$2,'7. Consultant Costs'!$D14))=TRUE,('7. Consultant Costs'!$C14/COUNTA(_xlfn.TEXTSPLIT('7. Consultant Costs'!$D14,\";\"))),\"\")","v":""},null,{"$f":"IF(ISNUMBER(SEARCH(E$2,'7. Consultant Costs'!$E14))=TRUE,('7. Consultant Costs'!$C14/COUNTA(_xlfn.TEXTSPLIT('7. Consultant Costs'!$E14,\";\"))),\"\")","v":""},{"$f":"IF(ISNUMBER(SEARCH(F$2,'7. Consultant Costs'!$E14))=TRUE,('7. Consultant Costs'!$C14/COUNTA(_xlfn.TEXTSPLIT('7. Consultant Costs'!$E14,\";\"))),\"\")","v":""},{"$f":"IF(ISNUMBER(SEARCH(G$2,'7. Consultant Costs'!$E14))=TRUE,('7. Consultant Costs'!$C14/COUNTA(_xlfn.TEXTSPLIT('7. Consultant Costs'!$E14,\";\"))),\"\")","v":""},{"$f":"IF(ISNUMBER(SEARCH(H$2,'7. Consultant Costs'!$E14))=TRUE,('7. Consultant Costs'!$C14/COUNTA(_xlfn.TEXTSPLIT('7. Consultant Costs'!$E14,\";\"))),\"\")","v":""}]
[{"$f":"IF(ISNUMBER(SEARCH(A$2,'7. Consultant Costs'!$D15))=TRUE,('7. Consultant Costs'!$C15/COUNTA(_xlfn.TEXTSPLIT('7. Consultant Costs'!$D15,\";\"))),\"\")","v":""},{"$f":"IF(ISNUMBER(SEARCH(B$2,'7. Consultant Costs'!$D15))=TRUE,('7. Consultant Costs'!$C15/COUNTA(_xlfn.TEXTSPLIT('7. Consultant Costs'!$D15,\";\"))),\"\")","v":""},{"$f":"IF(ISNUMBER(SEARCH(C$2,'7. Consultant Costs'!$D15))=TRUE,('7. Consultant Costs'!$C15/COUNTA(_xlfn.TEXTSPLIT('7. Consultant Costs'!$D15,\";\"))),\"\")","v":""},null,{"$f":"IF(ISNUMBER(SEARCH(E$2,'7. Consultant Costs'!$E15))=TRUE,('7. Consultant Costs'!$C15/COUNTA(_xlfn.TEXTSPLIT('7. Consultant Costs'!$E15,\";\"))),\"\")","v":""},{"$f":"IF(ISNUMBER(SEARCH(F$2,'7. Consultant Costs'!$E15))=TRUE,('7. Consultant Costs'!$C15/COUNTA(_xlfn.TEXTSPLIT('7. Consultant Costs'!$E15,\";\"))),\"\")","v":""},{"$f":"IF(ISNUMBER(SEARCH(G$2,'7. Consultant Costs'!$E15))=TRUE,('7. Consultant Costs'!$C15/COUNTA(_xlfn.TEXTSPLIT('7. Consultant Costs'!$E15,\";\"))),\"\")","v":""},{"$f":"IF(ISNUMBER(SEARCH(H$2,'7. Consultant Costs'!$E15))=TRUE,('7. Consultant Costs'!$C15/COUNTA(_xlfn.TEXTSPLIT('7. Consultant Costs'!$E15,\";\"))),\"\")","v":""}]
[{"$f":"IF(ISNUMBER(SEARCH(A$2,'7. Consultant Costs'!$D16))=TRUE,('7. Consultant Costs'!$C16/COUNTA(_xlfn.TEXTSPLIT('7. Consultant Costs'!$D16,\";\"))),\"\")","v":""},{"$f":"IF(ISNUMBER(SEARCH(B$2,'7. Consultant Costs'!$D16))=TRUE,('7. Consultant Costs'!$C16/COUNTA(_xlfn.TEXTSPLIT('7. Consultant Costs'!$D16,\";\"))),\"\")","v":""},{"$f":"IF(ISNUMBER(SEARCH(C$2,'7. Consultant Costs'!$D16))=TRUE,('7. Consultant Costs'!$C16/COUNTA(_xlfn.TEXTSPLIT('7. Consultant Costs'!$D16,\";\"))),\"\")","v":""},null,{"$f":"IF(ISNUMBER(SEARCH(E$2,'7. Consultant Costs'!$E16))=TRUE,('7. Consultant Costs'!$C16/COUNTA(_xlfn.TEXTSPLIT('7. Consultant Costs'!$E16,\";\"))),\"\")","v":""},{"$f":"IF(ISNUMBER(SEARCH(F$2,'7. Consultant Costs'!$E16))=TRUE,('7. Consultant Costs'!$C16/COUNTA(_xlfn.TEXTSPLIT('7. Consultant Costs'!$E16,\";\"))),\"\")","v":""},{"$f":"IF(ISNUMBER(SEARCH(G$2,'7. Consultant Costs'!$E16))=TRUE,('7. Consultant Costs'!$C16/COUNTA(_xlfn.TEXTSPLIT('7. Consultant Costs'!$E16,\";\"))),\"\")","v":""},{"$f":"IF(ISNUMBER(SEARCH(H$2,'7. Consultant Costs'!$E16))=TRUE,('7. Consultant Costs'!$C16/COUNTA(_xlfn.TEXTSPLIT('7. Consultant Costs'!$E16,\";\"))),\"\")","v":""}]
[{"$f":"IF(ISNUMBER(SEARCH(A$2,'7. Consultant Costs'!$D17))=TRUE,('7. Consultant Costs'!$C17/COUNTA(_xlfn.TEXTSPLIT('7. Consultant Costs'!$D17,\";\"))),\"\")","v":""},{"$f":"IF(ISNUMBER(SEARCH(B$2,'7. Consultant Costs'!$D17))=TRUE,('7. Consultant Costs'!$C17/COUNTA(_xlfn.TEXTSPLIT('7. Consultant Costs'!$D17,\";\"))),\"\")","v":""},{"$f":"IF(ISNUMBER(SEARCH(C$2,'7. Consultant Costs'!$D17))=TRUE,('7. Consultant Costs'!$C17/COUNTA(_xlfn.TEXTSPLIT('7. Consultant Costs'!$D17,\";\"))),\"\")","v":""},null,{"$f":"IF(ISNUMBER(SEARCH(E$2,'7. Consultant Costs'!$E17))=TRUE,('7. Consultant Costs'!$C17/COUNTA(_xlfn.TEXTSPLIT('7. Consultant Costs'!$E17,\";\"))),\"\")","v":""},{"$f":"IF(ISNUMBER(SEARCH(F$2,'7. Consultant Costs'!$E17))=TRUE,('7. Consultant Costs'!$C17/COUNTA(_xlfn.TEXTSPLIT('7. Consultant Costs'!$E17,\";\"))),\"\")","v":""},{"$f":"IF(ISNUMBER(SEARCH(G$2,'7. Consultant Costs'!$E17))=TRUE,('7. Consultant Costs'!$C17/COUNTA(_xlfn.TEXTSPLIT('7. Consultant Costs'!$E17,\";\"))),\"\")","v":""},{"$f":"IF(ISNUMBER(SEARCH(H$2,'7. Consultant Costs'!$E17))=TRUE,('7. Consultant Costs'!$C17/COUNTA(_xlfn.TEXTSPLIT('7. Consultant Costs'!$E17,\";\"))),\"\")","v":""}]
[{"$f":"IF(ISNUMBER(SEARCH(A$2,'7. Consultant Costs'!$D18))=TRUE,('7. Consultant Costs'!$C18/COUNTA(_xlfn.TEXTSPLIT('7. Consultant Costs'!$D18,\";\"))),\"\")","v":""},{"$f":"IF(ISNUMBER(SEARCH(B$2,'7. Consultant Costs'!$D18))=TRUE,('7. Consultant Costs'!$C18/COUNTA(_xlfn.TEXTSPLIT('7. Consultant Costs'!$D18,\";\"))),\"\")","v":""},{"$f":"IF(ISNUMBER(SEARCH(C$2,'7. Consultant Costs'!$D18))=TRUE,('7. Consultant Costs'!$C18/COUNTA(_xlfn.TEXTSPLIT('7. Consultant Costs'!$D18,\";\"))),\"\")","v":""},null,{"$f":"IF(ISNUMBER(SEARCH(E$2,'7. Consultant Costs'!$E18))=TRUE,('7. Consultant Costs'!$C18/COUNTA(_xlfn.TEXTSPLIT('7. Consultant Costs'!$E18,\";\"))),\"\")","v":""},{"$f":"IF(ISNUMBER(SEARCH(F$2,'7. Consultant Costs'!$E18))=TRUE,('7. Consultant Costs'!$C18/COUNTA(_xlfn.TEXTSPLIT('7. Consultant Costs'!$E18,\";\"))),\"\")","v":""},{"$f":"IF(ISNUMBER(SEARCH(G$2,'7. Consultant Costs'!$E18))=TRUE,('7. Consultant Costs'!$C18/COUNTA(_xlfn.TEXTSPLIT('7. Consultant Costs'!$E18,\";\"))),\"\")","v":""},{"$f":"IF(ISNUMBER(SEARCH(H$2,'7. Consultant Costs'!$E18))=TRUE,('7. Consultant Costs'!$C18/COUNTA(_xlfn.TEXTSPLIT('7. Consultant Costs'!$E18,\";\"))),\"\")","v":""}]
[{"$f":"IF(ISNUMBER(SEARCH(A$2,'7. Consultant Costs'!$D19))=TRUE,('7. Consultant Costs'!$C19/COUNTA(_xlfn.TEXTSPLIT('7. Consultant Costs'!$D19,\";\"))),\"\")","v":""},{"$f":"IF(ISNUMBER(SEARCH(B$2,'7. Consultant Costs'!$D19))=TRUE,('7. Consultant Costs'!$C19/COUNTA(_xlfn.TEXTSPLIT('7. Consultant Costs'!$D19,\";\"))),\"\")","v":""},{"$f":"IF(ISNUMBER(SEARCH(C$2,'7. Consultant Costs'!$D19))=TRUE,('7. Consultant Costs'!$C19/COUNTA(_xlfn.TEXTSPLIT('7. Consultant Costs'!$D19,\";\"))),\"\")","v":""},null,{"$f":"IF(ISNUMBER(SEARCH(E$2,'7. Consultant Costs'!$E19))=TRUE,('7. Consultant Costs'!$C19/COUNTA(_xlfn.TEXTSPLIT('7. Consultant Costs'!$E19,\";\"))),\"\")","v":""},{"$f":"IF(ISNUMBER(SEARCH(F$2,'7. Consultant Costs'!$E19))=TRUE,('7. Consultant Costs'!$C19/COUNTA(_xlfn.TEXTSPLIT('7. Consultant Costs'!$E19,\";\"))),\"\")","v":""},{"$f":"IF(ISNUMBER(SEARCH(G$2,'7. Consultant Costs'!$E19))=TRUE,('7. Consultant Costs'!$C19/COUNTA(_xlfn.TEXTSPLIT('7. Consultant Costs'!$E19,\";\"))),\"\")","v":""},{"$f":"IF(ISNUMBER(SEARCH(H$2,'7. Consultant Costs'!$E19))=TRUE,('7. Consultant Costs'!$C19/COUNTA(_xlfn.TEXTSPLIT('7. Consultant Costs'!$E19,\";\"))),\"\")","v":""}]
[{"$f":"IF(ISNUMBER(SEARCH(A$2,'7. Consultant Costs'!$D20))=TRUE,('7. Consultant Costs'!$C20/COUNTA(_xlfn.TEXTSPLIT('7. Consultant Costs'!$D20,\";\"))),\"\")","v":""},{"$f":"IF(ISNUMBER(SEARCH(B$2,'7. Consultant Costs'!$D20))=TRUE,('7. Consultant Costs'!$C20/COUNTA(_xlfn.TEXTSPLIT('7. Consultant Costs'!$D20,\";\"))),\"\")","v":""},{"$f":"IF(ISNUMBER(SEARCH(C$2,'7. Consultant Costs'!$D20))=TRUE,('7. Consultant Costs'!$C20/COUNTA(_xlfn.TEXTSPLIT('7. Consultant Costs'!$D20,\";\"))),\"\")","v":""},null,{"$f":"IF(ISNUMBER(SEARCH(E$2,'7. Consultant Costs'!$E20))=TRUE,('7. Consultant Costs'!$C20/COUNTA(_xlfn.TEXTSPLIT('7. Consultant Costs'!$E20,\";\"))),\"\")","v":""},{"$f":"IF(ISNUMBER(SEARCH(F$2,'7. Consultant Costs'!$E20))=TRUE,('7. Consultant Costs'!$C20/COUNTA(_xlfn.TEXTSPLIT('7. Consultant Costs'!$E20,\";\"))),\"\")","v":""},{"$f":"IF(ISNUMBER(SEARCH(G$2,'7. Consultant Costs'!$E20))=TRUE,('7. Consultant Costs'!$C20/COUNTA(_xlfn.TEXTSPLIT('7. Consultant Costs'!$E20,\";\"))),\"\")","v":""},{"$f":"IF(ISNUMBER(SEARCH(H$2,'7. Consultant Costs'!$E20))=TRUE,('7. Consultant Costs'!$C20/COUNTA(_xlfn.TEXTSPLIT('7. Consultant Costs'!$E20,\";\"))),\"\")","v":""}]
[{"$f":"IF(ISNUMBER(SEARCH(A$2,'7. Consultant Costs'!$D21))=TRUE,('7. Consultant Costs'!$C21/COUNTA(_xlfn.TEXTSPLIT('7. Consultant Costs'!$D21,\";\"))),\"\")","v":""},{"$f":"IF(ISNUMBER(SEARCH(B$2,'7. Consultant Costs'!$D21))=TRUE,('7. Consultant Costs'!$C21/COUNTA(_xlfn.TEXTSPLIT('7. Consultant Costs'!$D21,\";\"))),\"\")","v":""},{"$f":"IF(ISNUMBER(SEARCH(C$2,'7. Consultant Costs'!$D21))=TRUE,('7. Consultant Costs'!$C21/COUNTA(_xlfn.TEXTSPLIT('7. Consultant Costs'!$D21,\";\"))),\"\")","v":""},null,{"$f":"IF(ISNUMBER(SEARCH(E$2,'7. Consultant Costs'!$E21))=TRUE,('7. Consultant Costs'!$C21/COUNTA(_xlfn.TEXTSPLIT('7. Consultant Costs'!$E21,\";\"))),\"\")","v":""},{"$f":"IF(ISNUMBER(SEARCH(F$2,'7. Consultant Costs'!$E21))=TRUE,('7. Consultant Costs'!$C21/COUNTA(_xlfn.TEXTSPLIT('7. Consultant Costs'!$E21,\";\"))),\"\")","v":""},{"$f":"IF(ISNUMBER(SEARCH(G$2,'7. Consultant Costs'!$E21))=TRUE,('7. Consultant Costs'!$C21/COUNTA(_xlfn.TEXTSPLIT('7. Consultant Costs'!$E21,\";\"))),\"\")","v":""},{"$f":"IF(ISNUMBER(SEARCH(H$2,'7. Consultant Costs'!$E21))=TRUE,('7. Consultant Costs'!$C21/COUNTA(_xlfn.TEXTSPLIT('7. Consultant Costs'!$E21,\";\"))),\"\")","v":""}]
[{"$f":"IF(ISNUMBER(SEARCH(A$2,'7. Consultant Costs'!$D22))=TRUE,('7. Consultant Costs'!$C22/COUNTA(_xlfn.TEXTSPLIT('7. Consultant Costs'!$D22,\";\"))),\"\")","v":""},{"$f":"IF(ISNUMBER(SEARCH(B$2,'7. Consultant Costs'!$D22))=TRUE,('7. Consultant Costs'!$C22/COUNTA(_xlfn.TEXTSPLIT('7. Consultant Costs'!$D22,\";\"))),\"\")","v":""},{"$f":"IF(ISNUMBER(SEARCH(C$2,'7. Consultant Costs'!$D22))=TRUE,('7. Consultant Costs'!$C22/COUNTA(_xlfn.TEXTSPLIT('7. Consultant Costs'!$D22,\";\"))),\"\")","v":""},null,{"$f":"IF(ISNUMBER(SEARCH(E$2,'7. Consultant Costs'!$E22))=TRUE,('7. Consultant Costs'!$C22/COUNTA(_xlfn.TEXTSPLIT('7. Consultant Costs'!$E22,\";\"))),\"\")","v":""},{"$f":"IF(ISNUMBER(SEARCH(F$2,'7. Consultant Costs'!$E22))=TRUE,('7. Consultant Costs'!$C22/COUNTA(_xlfn.TEXTSPLIT('7. Consultant Costs'!$E22,\";\"))),\"\")","v":""},{"$f":"IF(ISNUMBER(SEARCH(G$2,'7. Consultant Costs'!$E22))=TRUE,('7. Consultant Costs'!$C22/COUNTA(_xlfn.TEXTSPLIT('7. Consultant Costs'!$E22,\";\"))),\"\")","v":""},{"$f":"IF(ISNUMBER(SEARCH(H$2,'7. Consultant Costs'!$E22))=TRUE,('7. Consultant Costs'!$C22/COUNTA(_xlfn.TEXTSPLIT('7. Consultant Costs'!$E22,\";\"))),\"\")","v":""}]
[{"$f":"IF(ISNUMBER(SEARCH(A$2,'7. Consultant Costs'!$D23))=TRUE,('7. Consultant Costs'!$C23/COUNTA(_xlfn.TEXTSPLIT('7. Consultant Costs'!$D23,\";\"))),\"\")","v":""},{"$f":"IF(ISNUMBER(SEARCH(B$2,'7. Consultant Costs'!$D23))=TRUE,('7. Consultant Costs'!$C23/COUNTA(_xlfn.TEXTSPLIT('7. Consultant Costs'!$D23,\";\"))),\"\")","v":""},{"$f":"IF(ISNUMBER(SEARCH(C$2,'7. Consultant Costs'!$D23))=TRUE,('7. Consultant Costs'!$C23/COUNTA(_xlfn.TEXTSPLIT('7. Consultant Costs'!$D23,\";\"))),\"\")","v":""},null,{"$f":"IF(ISNUMBER(SEARCH(E$2,'7. Consultant Costs'!$E23))=TRUE,('7. Consultant Costs'!$C23/COUNTA(_xlfn.TEXTSPLIT('7. Consultant Costs'!$E23,\";\"))),\"\")","v":""},{"$f":"IF(ISNUMBER(SEARCH(F$2,'7. Consultant Costs'!$E23))=TRUE,('7. Consultant Costs'!$C23/COUNTA(_xlfn.TEXTSPLIT('7. Consultant Costs'!$E23,\";\"))),\"\")","v":""},{"$f":"IF(ISNUMBER(SEARCH(G$2,'7. Consultant Costs'!$E23))=TRUE,('7. Consultant Costs'!$C23/COUNTA(_xlfn.TEXTSPLIT('7. Consultant Costs'!$E23,\";\"))),\"\")","v":""},{"$f":"IF(ISNUMBER(SEARCH(H$2,'7. Consultant Costs'!$E23))=TRUE,('7. Consultant Costs'!$C23/COUNTA(_xlfn.TEXTSPLIT('7. Consultant Costs'!$E23,\";\"))),\"\")","v":""}]
[{"$f":"IF(ISNUMBER(SEARCH(A$2,'7. Consultant Costs'!$D24))=TRUE,('7. Consultant Costs'!$C24/COUNTA(_xlfn.TEXTSPLIT('7. Consultant Costs'!$D24,\";\"))),\"\")","v":""},{"$f":"IF(ISNUMBER(SEARCH(B$2,'7. Consultant Costs'!$D24))=TRUE,('7. Consultant Costs'!$C24/COUNTA(_xlfn.TEXTSPLIT('7. Consultant Costs'!$D24,\";\"))),\"\")","v":""},{"$f":"IF(ISNUMBER(SEARCH(C$2,'7. Consultant Costs'!$D24))=TRUE,('7. Consultant Costs'!$C24/COUNTA(_xlfn.TEXTSPLIT('7. Consultant Costs'!$D24,\";\"))),\"\")","v":""},null,{"$f":"IF(ISNUMBER(SEARCH(E$2,'7. Consultant Costs'!$E24))=TRUE,('7. Consultant Costs'!$C24/COUNTA(_xlfn.TEXTSPLIT('7. Consultant Costs'!$E24,\";\"))),\"\")","v":""},{"$f":"IF(ISNUMBER(SEARCH(F$2,'7. Consultant Costs'!$E24))=TRUE,('7. Consultant Costs'!$C24/COUNTA(_xlfn.TEXTSPLIT('7. Consultant Costs'!$E24,\";\"))),\"\")","v":""},{"$f":"IF(ISNUMBER(SEARCH(G$2,'7. Consultant Costs'!$E24))=TRUE,('7. Consultant Costs'!$C24/COUNTA(_xlfn.TEXTSPLIT('7. Consultant Costs'!$E24,\";\"))),\"\")","v":""},{"$f":"IF(ISNUMBER(SEARCH(H$2,'7. Consultant Costs'!$E24))=TRUE,('7. Consultant Costs'!$C24/COUNTA(_xlfn.TEXTSPLIT('7. Consultant Costs'!$E24,\";\"))),\"\")","v":""}]
[{"$f":"IF(ISNUMBER(SEARCH(A$2,'7. Consultant Costs'!$D25))=TRUE,('7. Consultant Costs'!$C25/COUNTA(_xlfn.TEXTSPLIT('7. Consultant Costs'!$D25,\";\"))),\"\")","v":""},{"$f":"IF(ISNUMBER(SEARCH(B$2,'7. Consultant Costs'!$D25))=TRUE,('7. Consultant Costs'!$C25/COUNTA(_xlfn.TEXTSPLIT('7. Consultant Costs'!$D25,\";\"))),\"\")","v":""},{"$f":"IF(ISNUMBER(SEARCH(C$2,'7. Consultant Costs'!$D25))=TRUE,('7. Consultant Costs'!$C25/COUNTA(_xlfn.TEXTSPLIT('7. Consultant Costs'!$D25,\";\"))),\"\")","v":""},null,{"$f":"IF(ISNUMBER(SEARCH(E$2,'7. Consultant Costs'!$E25))=TRUE,('7. Consultant Costs'!$C25/COUNTA(_xlfn.TEXTSPLIT('7. Consultant Costs'!$E25,\";\"))),\"\")","v":""},{"$f":"IF(ISNUMBER(SEARCH(F$2,'7. Consultant Costs'!$E25))=TRUE,('7. Consultant Costs'!$C25/COUNTA(_xlfn.TEXTSPLIT('7. Consultant Costs'!$E25,\";\"))),\"\")","v":""},{"$f":"IF(ISNUMBER(SEARCH(G$2,'7. Consultant Costs'!$E25))=TRUE,('7. Consultant Costs'!$C25/COUNTA(_xlfn.TEXTSPLIT('7. Consultant Costs'!$E25,\";\"))),\"\")","v":""},{"$f":"IF(ISNUMBER(SEARCH(H$2,'7. Consultant Costs'!$E25))=TRUE,('7. Consultant Costs'!$C25/COUNTA(_xlfn.TEXTSPLIT('7. Consultant Costs'!$E25,\";\"))),\"\")","v":""}]
[{"$f":"IF(ISNUMBER(SEARCH(A$2,'7. Consultant Costs'!$D26))=TRUE,('7. Consultant Costs'!$C26/COUNTA(_xlfn.TEXTSPLIT('7. Consultant Costs'!$D26,\";\"))),\"\")","v":""},{"$f":"IF(ISNUMBER(SEARCH(B$2,'7. Consultant Costs'!$D26))=TRUE,('7. Consultant Costs'!$C26/COUNTA(_xlfn.TEXTSPLIT('7. Consultant Costs'!$D26,\";\"))),\"\")","v":""},{"$f":"IF(ISNUMBER(SEARCH(C$2,'7. Consultant Costs'!$D26))=TRUE,('7. Consultant Costs'!$C26/COUNTA(_xlfn.TEXTSPLIT('7. Consultant Costs'!$D26,\";\"))),\"\")","v":""},null,{"$f":"IF(ISNUMBER(SEARCH(E$2,'7. Consultant Costs'!$E26))=TRUE,('7. Consultant Costs'!$C26/COUNTA(_xlfn.TEXTSPLIT('7. Consultant Costs'!$E26,\";\"))),\"\")","v":""},{"$f":"IF(ISNUMBER(SEARCH(F$2,'7. Consultant Costs'!$E26))=TRUE,('7. Consultant Costs'!$C26/COUNTA(_xlfn.TEXTSPLIT('7. Consultant Costs'!$E26,\";\"))),\"\")","v":""},{"$f":"IF(ISNUMBER(SEARCH(G$2,'7. Consultant Costs'!$E26))=TRUE,('7. Consultant Costs'!$C26/COUNTA(_xlfn.TEXTSPLIT('7. Consultant Costs'!$E26,\";\"))),\"\")","v":""},{"$f":"IF(ISNUMBER(SEARCH(H$2,'7. Consultant Costs'!$E26))=TRUE,('7. Consultant Costs'!$C26/COUNTA(_xlfn.TEXTSPLIT('7. Consultant Costs'!$E26,\";\"))),\"\")","v":""}]
[{"$f":"IF(ISNUMBER(SEARCH(A$2,'7. Consultant Costs'!$D27))=TRUE,('7. Consultant Costs'!$C27/COUNTA(_xlfn.TEXTSPLIT('7. Consultant Costs'!$D27,\";\"))),\"\")","v":""},{"$f":"IF(ISNUMBER(SEARCH(B$2,'7. Consultant Costs'!$D27))=TRUE,('7. Consultant Costs'!$C27/COUNTA(_xlfn.TEXTSPLIT('7. Consultant Costs'!$D27,\";\"))),\"\")","v":""},{"$f":"IF(ISNUMBER(SEARCH(C$2,'7. Consultant Costs'!$D27))=TRUE,('7. Consultant Costs'!$C27/COUNTA(_xlfn.TEXTSPLIT('7. Consultant Costs'!$D27,\";\"))),\"\")","v":""},null,{"$f":"IF(ISNUMBER(SEARCH(E$2,'7. Consultant Costs'!$E27))=TRUE,('7. Consultant Costs'!$C27/COUNTA(_xlfn.TEXTSPLIT('7. Consultant Costs'!$E27,\";\"))),\"\")","v":""},{"$f":"IF(ISNUMBER(SEARCH(F$2,'7. Consultant Costs'!$E27))=TRUE,('7. Consultant Costs'!$C27/COUNTA(_xlfn.TEXTSPLIT('7. Consultant Costs'!$E27,\";\"))),\"\")","v":""},{"$f":"IF(ISNUMBER(SEARCH(G$2,'7. Consultant Costs'!$E27))=TRUE,('7. Consultant Costs'!$C27/COUNTA(_xlfn.TEXTSPLIT('7. Consultant Costs'!$E27,\";\"))),\"\")","v":""},{"$f":"IF(ISNUMBER(SEARCH(H$2,'7. Consultant Costs'!$E27))=TRUE,('7. Consultant Costs'!$C27/COUNTA(_xlfn.TEXTSPLIT('7. Consultant Costs'!$E27,\";\"))),\"\")","v":""}]
[{"$f":"IF(ISNUMBER(SEARCH(A$2,'7. Consultant Costs'!$D28))=TRUE,('7. Consultant Costs'!$C28/COUNTA(_xlfn.TEXTSPLIT('7. Consultant Costs'!$D28,\";\"))),\"\")","v":""},{"$f":"IF(ISNUMBER(SEARCH(B$2,'7. Consultant Costs'!$D28))=TRUE,('7. Consultant Costs'!$C28/COUNTA(_xlfn.TEXTSPLIT('7. Consultant Costs'!$D28,\";\"))),\"\")","v":""},{"$f":"IF(ISNUMBER(SEARCH(C$2,'7. Consultant Costs'!$D28))=TRUE,('7. Consultant Costs'!$C28/COUNTA(_xlfn.TEXTSPLIT('7. Consultant Costs'!$D28,\";\"))),\"\")","v":""},null,{"$f":"IF(ISNUMBER(SEARCH(E$2,'7. Consultant Costs'!$E28))=TRUE,('7. Consultant Costs'!$C28/COUNTA(_xlfn.TEXTSPLIT('7. Consultant Costs'!$E28,\";\"))),\"\")","v":""},{"$f":"IF(ISNUMBER(SEARCH(F$2,'7. Consultant Costs'!$E28))=TRUE,('7. Consultant Costs'!$C28/COUNTA(_xlfn.TEXTSPLIT('7. Consultant Costs'!$E28,\";\"))),\"\")","v":""},{"$f":"IF(ISNUMBER(SEARCH(G$2,'7. Consultant Costs'!$E28))=TRUE,('7. Consultant Costs'!$C28/COUNTA(_xlfn.TEXTSPLIT('7. Consultant Costs'!$E28,\";\"))),\"\")","v":""},{"$f":"IF(ISNUMBER(SEARCH(H$2,'7. Consultant Costs'!$E28))=TRUE,('7. Consultant Costs'!$C28/COUNTA(_xlfn.TEXTSPLIT('7. Consultant Costs'!$E28,\";\"))),\"\")","v":""}]
[{"$f":"IF(ISNUMBER(SEARCH(A$2,'7. Consultant Costs'!$D29))=TRUE,('7. Consultant Costs'!$C29/COUNTA(_xlfn.TEXTSPLIT('7. Consultant Costs'!$D29,\";\"))),\"\")","v":""},{"$f":"IF(ISNUMBER(SEARCH(B$2,'7. Consultant Costs'!$D29))=TRUE,('7. Consultant Costs'!$C29/COUNTA(_xlfn.TEXTSPLIT('7. Consultant Costs'!$D29,\";\"))),\"\")","v":""},{"$f":"IF(ISNUMBER(SEARCH(C$2,'7. Consultant Costs'!$D29))=TRUE,('7. Consultant Costs'!$C29/COUNTA(_xlfn.TEXTSPLIT('7. Consultant Costs'!$D29,\";\"))),\"\")","v":""},null,{"$f":"IF(ISNUMBER(SEARCH(E$2,'7. Consultant Costs'!$E29))=TRUE,('7. Consultant Costs'!$C29/COUNTA(_xlfn.TEXTSPLIT('7. Consultant Costs'!$E29,\";\"))),\"\")","v":""},{"$f":"IF(ISNUMBER(SEARCH(F$2,'7. Consultant Costs'!$E29))=TRUE,('7. Consultant Costs'!$C29/COUNTA(_xlfn.TEXTSPLIT('7. Consultant Costs'!$E29,\";\"))),\"\")","v":""},{"$f":"IF(ISNUMBER(SEARCH(G$2,'7. Consultant Costs'!$E29))=TRUE,('7. Consultant Costs'!$C29/COUNTA(_xlfn.TEXTSPLIT('7. Consultant Costs'!$E29,\";\"))),\"\")","v":""},{"$f":"IF(ISNUMBER(SEARCH(H$2,'7. Consultant Costs'!$E29))=TRUE,('7. Consultant Costs'!$C29/COUNTA(_xlfn.TEXTSPLIT('7. Consultant Costs'!$E29,\";\"))),\"\")","v":""}]
[{"$f":"IF(ISNUMBER(SEARCH(A$2,'7. Consultant Costs'!$D30))=TRUE,('7. Consultant Costs'!$C30/COUNTA(_xlfn.TEXTSPLIT('7. Consultant Costs'!$D30,\";\"))),\"\")","v":""},{"$f":"IF(ISNUMBER(SEARCH(B$2,'7. Consultant Costs'!$D30))=TRUE,('7. Consultant Costs'!$C30/COUNTA(_xlfn.TEXTSPLIT('7. Consultant Costs'!$D30,\";\"))),\"\")","v":""},{"$f":"IF(ISNUMBER(SEARCH(C$2,'7. Consultant Costs'!$D30))=TRUE,('7. Consultant Costs'!$C30/COUNTA(_xlfn.TEXTSPLIT('7. Consultant Costs'!$D30,\";\"))),\"\")","v":""},null,{"$f":"IF(ISNUMBER(SEARCH(E$2,'7. Consultant Costs'!$E30))=TRUE,('7. Consultant Costs'!$C30/COUNTA(_xlfn.TEXTSPLIT('7. Consultant Costs'!$E30,\";\"))),\"\")","v":""},{"$f":"IF(ISNUMBER(SEARCH(F$2,'7. Consultant Costs'!$E30))=TRUE,('7. Consultant Costs'!$C30/COUNTA(_xlfn.TEXTSPLIT('7. Consultant Costs'!$E30,\";\"))),\"\")","v":""},{"$f":"IF(ISNUMBER(SEARCH(G$2,'7. Consultant Costs'!$E30))=TRUE,('7. Consultant Costs'!$C30/COUNTA(_xlfn.TEXTSPLIT('7. Consultant Costs'!$E30,\";\"))),\"\")","v":""},{"$f":"IF(ISNUMBER(SEARCH(H$2,'7. Consultant Costs'!$E30))=TRUE,('7. Consultant Costs'!$C30/COUNTA(_xlfn.TEXTSPLIT('7. Consultant Costs'!$E30,\";\"))),\"\")","v":""}]
[]
["Contracts (Tab 8)- Allocation by Strategy",{"$nulls":3},"Contracts (Tab 8)- Allocation by Topic"]
["Data and Surveillance","Collaborations and Partnerships","Assessment and Evaluation",null,"Adverse Childhood Experiences (ACEs)","Transportation Safety","Traumatic Brain Injury","Other Topic (please specify in comments)"]
[{"$f":"IF(ISNUMBER(SEARCH(A$2,'8. Contracts'!$D6))=TRUE,('8. Contracts'!$C6/COUNTA(_xlfn.TEXTSPLIT('8. Contracts'!$D6,\";\"))),\"\")","v":""},{"$f":"IF(ISNUMBER(SEARCH(B$2,'8. Contracts'!$D6))=TRUE,('8. Contracts'!$C6/COUNTA(_xlfn.TEXTSPLIT('8. Contracts'!$D6,\";\"))),\"\")","v":""},{"$f":"IF(ISNUMBER(SEARCH(C$2,'8. Contracts'!$D6))=TRUE,('8. Contracts'!$C6/COUNTA(_xlfn.TEXTSPLIT('8. Contracts'!$D6,\";\"))),\"\")","v":""},null,{"$f":"IF(ISNUMBER(SEARCH(E$2,'8. Contracts'!$E6))=TRUE,('8. Contracts'!$C6/COUNTA(_xlfn.TEXTSPLIT('8. Contracts'!$E6,\";\"))),\"\")","v":""},{"$f":"IF(ISNUMBER(SEARCH(F$2,'8. Contracts'!$E6))=TRUE,('8. Contracts'!$C6/COUNTA(_xlfn.TEXTSPLIT('8. Contracts'!$E6,\";\"))),\"\")","v":""},{"$f":"IF(ISNUMBER(SEARCH(G$2,'8. Contracts'!$E6))=TRUE,('8. Contracts'!$C6/COUNTA(_xlfn.TEXTSPLIT('8. Contracts'!$E6,\";\"))),\"\")","v":""},{"$f":"IF(ISNUMBER(SEARCH(H$2,'8. Contracts'!$E6))=TRUE,('8. Contracts'!$C6/COUNTA(_xlfn.TEXTSPLIT('8. Contracts'!$E6,\";\"))),\"\")","v":""}]
[{"$f":"IF(ISNUMBER(SEARCH(A$2,'8. Contracts'!$D7))=TRUE,('8. Contracts'!$C7/COUNTA(_xlfn.TEXTSPLIT('8. Contracts'!$D7,\";\"))),\"\")","v":""},{"$f":"IF(ISNUMBER(SEARCH(B$2,'8. Contracts'!$D7))=TRUE,('8. Contracts'!$C7/COUNTA(_xlfn.TEXTSPLIT('8. Contracts'!$D7,\";\"))),\"\")","v":""},{"$f":"IF(ISNUMBER(SEARCH(C$2,'8. Contracts'!$D7))=TRUE,('8. Contracts'!$C7/COUNTA(_xlfn.TEXTSPLIT('8. Contracts'!$D7,\";\"))),\"\")","v":""},null,{"$f":"IF(ISNUMBER(SEARCH(E$2,'8. Contracts'!$E7))=TRUE,('8. Contracts'!$C7/COUNTA(_xlfn.TEXTSPLIT('8. Contracts'!$E7,\";\"))),\"\")","v":""},{"$f":"IF(ISNUMBER(SEARCH(F$2,'8. Contracts'!$E7))=TRUE,('8. Contracts'!$C7/COUNTA(_xlfn.TEXTSPLIT('8. Contracts'!$E7,\";\"))),\"\")","v":""},{"$f":"IF(ISNUMBER(SEARCH(G$2,'8. Contracts'!$E7))=TRUE,('8. Contracts'!$C7/COUNTA(_xlfn.TEXTSPLIT('8. Contracts'!$E7,\";\"))),\"\")","v":""},{"$f":"IF(ISNUMBER(SEARCH(H$2,'8. Contracts'!$E7))=TRUE,('8. Contracts'!$C7/COUNTA(_xlfn.TEXTSPLIT('8. Contracts'!$E7,\";\"))),\"\")","v":""}]
[{"$f":"IF(ISNUMBER(SEARCH(A$2,'8. Contracts'!$D8))=TRUE,('8. Contracts'!$C8/COUNTA(_xlfn.TEXTSPLIT('8. Contracts'!$D8,\";\"))),\"\")","v":""},{"$f":"IF(ISNUMBER(SEARCH(B$2,'8. Contracts'!$D8))=TRUE,('8. Contracts'!$C8/COUNTA(_xlfn.TEXTSPLIT('8. Contracts'!$D8,\";\"))),\"\")","v":""},{"$f":"IF(ISNUMBER(SEARCH(C$2,'8. Contracts'!$D8))=TRUE,('8. Contracts'!$C8/COUNTA(_xlfn.TEXTSPLIT('8. Contracts'!$D8,\";\"))),\"\")","v":""},null,{"$f":"IF(ISNUMBER(SEARCH(E$2,'8. Contracts'!$E8))=TRUE,('8. Contracts'!$C8/COUNTA(_xlfn.TEXTSPLIT('8. Contracts'!$E8,\";\"))),\"\")","v":""},{"$f":"IF(ISNUMBER(SEARCH(F$2,'8. Contracts'!$E8))=TRUE,('8. Contracts'!$C8/COUNTA(_xlfn.TEXTSPLIT('8. Contracts'!$E8,\";\"))),\"\")","v":""},{"$f":"IF(ISNUMBER(SEARCH(G$2,'8. Contracts'!$E8))=TRUE,('8. Contracts'!$C8/COUNTA(_xlfn.TEXTSPLIT('8. Contracts'!$E8,\";\"))),\"\")","v":""},{"$f":"IF(ISNUMBER(SEARCH(H$2,'8. Contracts'!$E8))=TRUE,('8. Contracts'!$C8/COUNTA(_xlfn.TEXTSPLIT('8. Contracts'!$E8,\";\"))),\"\")","v":""}]
[{"$f":"IF(ISNUMBER(SEARCH(A$2,'8. Contracts'!$D9))=TRUE,('8. Contracts'!$C9/COUNTA(_xlfn.TEXTSPLIT('8. Contracts'!$D9,\";\"))),\"\")","v":""},{"$f":"IF(ISNUMBER(SEARCH(B$2,'8. Contracts'!$D9))=TRUE,('8. Contracts'!$C9/COUNTA(_xlfn.TEXTSPLIT('8. Contracts'!$D9,\";\"))),\"\")","v":""},{"$f":"IF(ISNUMBER(SEARCH(C$2,'8. Contracts'!$D9))=TRUE,('8. Contracts'!$C9/COUNTA(_xlfn.TEXTSPLIT('8. Contracts'!$D9,\";\"))),\"\")","v":""},null,{"$f":"IF(ISNUMBER(SEARCH(E$2,'8. Contracts'!$E9))=TRUE,('8. Contracts'!$C9/COUNTA(_xlfn.TEXTSPLIT('8. Contracts'!$E9,\";\"))),\"\")","v":""},{"$f":"IF(ISNUMBER(SEARCH(F$2,'8. Contracts'!$E9))=TRUE,('8. Contracts'!$C9/COUNTA(_xlfn.TEXTSPLIT('8. Contracts'!$E9,\";\"))),\"\")","v":""},{"$f":"IF(ISNUMBER(SEARCH(G$2,'8. Contracts'!$E9))=TRUE,('8. Contracts'!$C9/COUNTA(_xlfn.TEXTSPLIT('8. Contracts'!$E9,\";\"))),\"\")","v":""},{"$f":"IF(ISNUMBER(SEARCH(H$2,'8. Contracts'!$E9))=TRUE,('8. Contracts'!$C9/COUNTA(_xlfn.TEXTSPLIT('8. Contracts'!$E9,\";\"))),\"\")","v":""}]
[{"$f":"IF(ISNUMBER(SEARCH(A$2,'8. Contracts'!$D10))=TRUE,('8. Contracts'!$C10/COUNTA(_xlfn.TEXTSPLIT('8. Contracts'!$D10,\";\"))),\"\")","v":""},{"$f":"IF(ISNUMBER(SEARCH(B$2,'8. Contracts'!$D10))=TRUE,('8. Contracts'!$C10/COUNTA(_xlfn.TEXTSPLIT('8. Contracts'!$D10,\";\"))),\"\")","v":""},{"$f":"IF(ISNUMBER(SEARCH(C$2,'8. Contracts'!$D10))=TRUE,('8. Contracts'!$C10/COUNTA(_xlfn.TEXTSPLIT('8. Contracts'!$D10,\";\"))),\"\")","v":""},null,{"$f":"IF(ISNUMBER(SEARCH(E$2,'8. Contracts'!$E10))=TRUE,('8. Contracts'!$C10/COUNTA(_xlfn.TEXTSPLIT('8. Contracts'!$E10,\";\"))),\"\")","v":""},{"$f":"IF(ISNUMBER(SEARCH(F$2,'8. Contracts'!$E10))=TRUE,('8. Contracts'!$C10/COUNTA(_xlfn.TEXTSPLIT('8. Contracts'!$E10,\";\"))),\"\")","v":""},{"$f":"IF(ISNUMBER(SEARCH(G$2,'8. Contracts'!$E10))=TRUE,('8. Contracts'!$C10/COUNTA(_xlfn.TEXTSPLIT('8. Contracts'!$E10,\";\"))),\"\")","v":""},{"$f":"IF(ISNUMBER(SEARCH(H$2,'8. Contracts'!$E10))=TRUE,('8. Contracts'!$C10/COUNTA(_xlfn.TEXTSPLIT('8. Contracts'!$E10,\";\"))),\"\")","v":""}]
[{"$f":"IF(ISNUMBER(SEARCH(A$2,'8. Contracts'!$D11))=TRUE,('8. Contracts'!$C11/COUNTA(_xlfn.TEXTSPLIT('8. Contracts'!$D11,\";\"))),\"\")","v":""},{"$f":"IF(ISNUMBER(SEARCH(B$2,'8. Contracts'!$D11))=TRUE,('8. Contracts'!$C11/COUNTA(_xlfn.TEXTSPLIT('8. Contracts'!$D11,\";\"))),\"\")","v":""},{"$f":"IF(ISNUMBER(SEARCH(C$2,'8. Contracts'!$D11))=TRUE,('8. Contracts'!$C11/COUNTA(_xlfn.TEXTSPLIT('8. Contracts'!$D11,\";\"))),\"\")","v":""},null,{"$f":"IF(ISNUMBER(SEARCH(E$2,'8. Contracts'!$E11))=TRUE,('8. Contracts'!$C11/COUNTA(_xlfn.TEXTSPLIT('8. Contracts'!$E11,\";\"))),\"\")","v":""},{"$f":"IF(ISNUMBER(SEARCH(F$2,'8. Contracts'!$E11))=TRUE,('8. Contracts'!$C11/COUNTA(_xlfn.TEXTSPLIT('8. Contracts'!$E11,\";\"))),\"\")","v":""},{"$f":"IF(ISNUMBER(SEARCH(G$2,'8. Contracts'!$E11))=TRUE,('8. Contracts'!$C11/COUNTA(_xlfn.TEXTSPLIT('8. Contracts'!$E11,\";\"))),\"\")","v":""},{"$f":"IF(ISNUMBER(SEARCH(H$2,'8. Contracts'!$E11))=TRUE,('8. Contracts'!$C11/COUNTA(_xlfn.TEXTSPLIT('8. Contracts'!$E11,\";\"))),\"\")","v":""}]
[{"$f":"IF(ISNUMBER(SEARCH(A$2,'8. Contracts'!$D12))=TRUE,('8. Contracts'!$C12/COUNTA(_xlfn.TEXTSPLIT('8. Contracts'!$D12,\";\"))),\"\")","v":""},{"$f":"IF(ISNUMBER(SEARCH(B$2,'8. Contracts'!$D12))=TRUE,('8. Contracts'!$C12/COUNTA(_xlfn.TEXTSPLIT('8. Contracts'!$D12,\";\"))),\"\")","v":""},{"$f":"IF(ISNUMBER(SEARCH(C$2,'8. Contracts'!$D12))=TRUE,('8. Contracts'!$C12/COUNTA(_xlfn.TEXTSPLIT('8. Contracts'!$D12,\";\"))),\"\")","v":""},null,{"$f":"IF(ISNUMBER(SEARCH(E$2,'8. Contracts'!$E12))=TRUE,('8. Contracts'!$C12/COUNTA(_xlfn.TEXTSPLIT('8. Contracts'!$E12,\";\"))),\"\")","v":""},{"$f":"IF(ISNUMBER(SEARCH(F$2,'8. Contracts'!$E12))=TRUE,('8. Contracts'!$C12/COUNTA(_xlfn.TEXTSPLIT('8. Contracts'!$E12,\";\"))),\"\")","v":""},{"$f":"IF(ISNUMBER(SEARCH(G$2,'8. Contracts'!$E12))=TRUE,('8. Contracts'!$C12/COUNTA(_xlfn.TEXTSPLIT('8. Contracts'!$E12,\";\"))),\"\")","v":""},{"$f":"IF(ISNUMBER(SEARCH(H$2,'8. Contracts'!$E12))=TRUE,('8. Contracts'!$C12/COUNTA(_xlfn.TEXTSPLIT('8. Contracts'!$E12,\";\"))),\"\")","v":""}]
[{"$f":"IF(ISNUMBER(SEARCH(A$2,'8. Contracts'!$D13))=TRUE,('8. Contracts'!$C13/COUNTA(_xlfn.TEXTSPLIT('8. Contracts'!$D13,\";\"))),\"\")","v":""},{"$f":"IF(ISNUMBER(SEARCH(B$2,'8. Contracts'!$D13))=TRUE,('8. Contracts'!$C13/COUNTA(_xlfn.TEXTSPLIT('8. Contracts'!$D13,\";\"))),\"\")","v":""},{"$f":"IF(ISNUMBER(SEARCH(C$2,'8. Contracts'!$D13))=TRUE,('8. Contracts'!$C13/COUNTA(_xlfn.TEXTSPLIT('8. Contracts'!$D13,\";\"))),\"\")","v":""},null,{"$f":"IF(ISNUMBER(SEARCH(E$2,'8. Contracts'!$E13))=TRUE,('8. Contracts'!$C13/COUNTA(_xlfn.TEXTSPLIT('8. Contracts'!$E13,\";\"))),\"\")","v":""},{"$f":"IF(ISNUMBER(SEARCH(F$2,'8. Contracts'!$E13))=TRUE,('8. Contracts'!$C13/COUNTA(_xlfn.TEXTSPLIT('8. Contracts'!$E13,\";\"))),\"\")","v":""},{"$f":"IF(ISNUMBER(SEARCH(G$2,'8. Contracts'!$E13))=TRUE,('8. Contracts'!$C13/COUNTA(_xlfn.TEXTSPLIT('8. Contracts'!$E13,\";\"))),\"\")","v":""},{"$f":"IF(ISNUMBER(SEARCH(H$2,'8. Contracts'!$E13))=TRUE,('8. Contracts'!$C13/COUNTA(_xlfn.TEXTSPLIT('8. Contracts'!$E13,\";\"))),\"\")","v":""}]
[{"$f":"IF(ISNUMBER(SEARCH(A$2,'8. Contracts'!$D14))=TRUE,('8. Contracts'!$C14/COUNTA(_xlfn.TEXTSPLIT('8. Contracts'!$D14,\";\"))),\"\")","v":""},{"$f":"IF(ISNUMBER(SEARCH(B$2,'8. Contracts'!$D14))=TRUE,('8. Contracts'!$C14/COUNTA(_xlfn.TEXTSPLIT('8. Contracts'!$D14,\";\"))),\"\")","v":""},{"$f":"IF(ISNUMBER(SEARCH(C$2,'8. Contracts'!$D14))=TRUE,('8. Contracts'!$C14/COUNTA(_xlfn.TEXTSPLIT('8. Contracts'!$D14,\";\"))),\"\")","v":""},null,{"$f":"IF(ISNUMBER(SEARCH(E$2,'8. Contracts'!$E14))=TRUE,('8. Contracts'!$C14/COUNTA(_xlfn.TEXTSPLIT('8. Contracts'!$E14,\";\"))),\"\")","v":""},{"$f":"IF(ISNUMBER(SEARCH(F$2,'8. Contracts'!$E14))=TRUE,('8. Contracts'!$C14/COUNTA(_xlfn.TEXTSPLIT('8. Contracts'!$E14,\";\"))),\"\")","v":""},{"$f":"IF(ISNUMBER(SEARCH(G$2,'8. Contracts'!$E14))=TRUE,('8. Contracts'!$C14/COUNTA(_xlfn.TEXTSPLIT('8. Contracts'!$E14,\";\"))),\"\")","v":""},{"$f":"IF(ISNUMBER(SEARCH(H$2,'8. Contracts'!$E14))=TRUE,('8. Contracts'!$C14/COUNTA(_xlfn.TEXTSPLIT('8. Contracts'!$E14,\";\"))),\"\")","v":""}]
[{"$f":"IF(ISNUMBER(SEARCH(A$2,'8. Contracts'!$D15))=TRUE,('8. Contracts'!$C15/COUNTA(_xlfn.TEXTSPLIT('8. Contracts'!$D15,\";\"))),\"\")","v":""},{"$f":"IF(ISNUMBER(SEARCH(B$2,'8. Contracts'!$D15))=TRUE,('8. Contracts'!$C15/COUNTA(_xlfn.TEXTSPLIT('8. Contracts'!$D15,\";\"))),\"\")","v":""},{"$f":"IF(ISNUMBER(SEARCH(C$2,'8. Contracts'!$D15))=TRUE,('8. Contracts'!$C15/COUNTA(_xlfn.TEXTSPLIT('8. Contracts'!$D15,\";\"))),\"\")","v":""},null,{"$f":"IF(ISNUMBER(SEARCH(E$2,'8. Contracts'!$E15))=TRUE,('8. Contracts'!$C15/COUNTA(_xlfn.TEXTSPLIT('8. Contracts'!$E15,\";\"))),\"\")","v":""},{"$f":"IF(ISNUMBER(SEARCH(F$2,'8. Contracts'!$E15))=TRUE,('8. Contracts'!$C15/COUNTA(_xlfn.TEXTSPLIT('8. Contracts'!$E15,\";\"))),\"\")","v":""},{"$f":"IF(ISNUMBER(SEARCH(G$2,'8. Contracts'!$E15))=TRUE,('8. Contracts'!$C15/COUNTA(_xlfn.TEXTSPLIT('8. Contracts'!$E15,\";\"))),\"\")","v":""},{"$f":"IF(ISNUMBER(SEARCH(H$2,'8. Contracts'!$E15))=TRUE,('8. Contracts'!$C15/COUNTA(_xlfn.TEXTSPLIT('8. Contracts'!$E15,\";\"))),\"\")","v":""}]
[{"$f":"IF(ISNUMBER(SEARCH(A$2,'8. Contracts'!$D16))=TRUE,('8. Contracts'!$C16/COUNTA(_xlfn.TEXTSPLIT('8. Contracts'!$D16,\";\"))),\"\")","v":""},{"$f":"IF(ISNUMBER(SEARCH(B$2,'8. Contracts'!$D16))=TRUE,('8. Contracts'!$C16/COUNTA(_xlfn.TEXTSPLIT('8. Contracts'!$D16,\";\"))),\"\")","v":""},{"$f":"IF(ISNUMBER(SEARCH(C$2,'8. Contracts'!$D16))=TRUE,('8. Contracts'!$C16/COUNTA(_xlfn.TEXTSPLIT('8. Contracts'!$D16,\";\"))),\"\")","v":""},null,{"$f":"IF(ISNUMBER(SEARCH(E$2,'8. Contracts'!$E16))=TRUE,('8. Contracts'!$C16/COUNTA(_xlfn.TEXTSPLIT('8. Contracts'!$E16,\";\"))),\"\")","v":""},{"$f":"IF(ISNUMBER(SEARCH(F$2,'8. Contracts'!$E16))=TRUE,('8. Contracts'!$C16/COUNTA(_xlfn.TEXTSPLIT('8. Contracts'!$E16,\";\"))),\"\")","v":""},{"$f":"IF(ISNUMBER(SEARCH(G$2,'8. Contracts'!$E16))=TRUE,('8. Contracts'!$C16/COUNTA(_xlfn.TEXTSPLIT('8. Contracts'!$E16,\";\"))),\"\")","v":""},{"$f":"IF(ISNUMBER(SEARCH(H$2,'8. Contracts'!$E16))=TRUE,('8. Contracts'!$C16/COUNTA(_xlfn.TEXTSPLIT('8. Contracts'!$E16,\";\"))),\"\")","v":""}]
[{"$f":"IF(ISNUMBER(SEARCH(A$2,'8. Contracts'!$D17))=TRUE,('8. Contracts'!$C17/COUNTA(_xlfn.TEXTSPLIT('8. Contracts'!$D17,\";\"))),\"\")","v":""},{"$f":"IF(ISNUMBER(SEARCH(B$2,'8. Contracts'!$D17))=TRUE,('8. Contracts'!$C17/COUNTA(_xlfn.TEXTSPLIT('8. Contracts'!$D17,\";\"))),\"\")","v":""},{"$f":"IF(ISNUMBER(SEARCH(C$2,'8. Contracts'!$D17))=TRUE,('8. Contracts'!$C17/COUNTA(_xlfn.TEXTSPLIT('8. Contracts'!$D17,\";\"))),\"\")","v":""},null,{"$f":"IF(ISNUMBER(SEARCH(E$2,'8. Contracts'!$E17))=TRUE,('8. Contracts'!$C17/COUNTA(_xlfn.TEXTSPLIT('8. Contracts'!$E17,\";\"))),\"\")","v":""},{"$f":"IF(ISNUMBER(SEARCH(F$2,'8. Contracts'!$E17))=TRUE,('8. Contracts'!$C17/COUNTA(_xlfn.TEXTSPLIT('8. Contracts'!$E17,\";\"))),\"\")","v":""},{"$f":"IF(ISNUMBER(SEARCH(G$2,'8. Contracts'!$E17))=TRUE,('8. Contracts'!$C17/COUNTA(_xlfn.TEXTSPLIT('8. Contracts'!$E17,\";\"))),\"\")","v":""},{"$f":"IF(ISNUMBER(SEARCH(H$2,'8. Contracts'!$E17))=TRUE,('8. Contracts'!$C17/COUNTA(_xlfn.TEXTSPLIT('8. Contracts'!$E17,\";\"))),\"\")","v":""}]
[{"$f":"IF(ISNUMBER(SEARCH(A$2,'8. Contracts'!$D18))=TRUE,('8. Contracts'!$C18/COUNTA(_xlfn.TEXTSPLIT('8. Contracts'!$D18,\";\"))),\"\")","v":""},{"$f":"IF(ISNUMBER(SEARCH(B$2,'8. Contracts'!$D18))=TRUE,('8. Contracts'!$C18/COUNTA(_xlfn.TEXTSPLIT('8. Contracts'!$D18,\";\"))),\"\")","v":""},{"$f":"IF(ISNUMBER(SEARCH(C$2,'8. Contracts'!$D18))=TRUE,('8. Contracts'!$C18/COUNTA(_xlfn.TEXTSPLIT('8. Contracts'!$D18,\";\"))),\"\")","v":""},null,{"$f":"IF(ISNUMBER(SEARCH(E$2,'8. Contracts'!$E18))=TRUE,('8. Contracts'!$C18/COUNTA(_xlfn.TEXTSPLIT('8. Contracts'!$E18,\";\"))),\"\")","v":""},{"$f":"IF(ISNUMBER(SEARCH(F$2,'8. Contracts'!$E18))=TRUE,('8. Contracts'!$C18/COUNTA(_xlfn.TEXTSPLIT('8. Contracts'!$E18,\";\"))),\"\")","v":""},{"$f":"IF(ISNUMBER(SEARCH(G$2,'8. Contracts'!$E18))=TRUE,('8. Contracts'!$C18/COUNTA(_xlfn.TEXTSPLIT('8. Contracts'!$E18,\";\"))),\"\")","v":""},{"$f":"IF(ISNUMBER(SEARCH(H$2,'8. Contracts'!$E18))=TRUE,('8. Contracts'!$C18/COUNTA(_xlfn.TEXTSPLIT('8. Contracts'!$E18,\";\"))),\"\")","v":""}]
[{"$f":"IF(ISNUMBER(SEARCH(A$2,'8. Contracts'!$D19))=TRUE,('8. Contracts'!$C19/COUNTA(_xlfn.TEXTSPLIT('8. Contracts'!$D19,\";\"))),\"\")","v":""},{"$f":"IF(ISNUMBER(SEARCH(B$2,'8. Contracts'!$D19))=TRUE,('8. Contracts'!$C19/COUNTA(_xlfn.TEXTSPLIT('8. Contracts'!$D19,\";\"))),\"\")","v":""},{"$f":"IF(ISNUMBER(SEARCH(C$2,'8. Contracts'!$D19))=TRUE,('8. Contracts'!$C19/COUNTA(_xlfn.TEXTSPLIT('8. Contracts'!$D19,\";\"))),\"\")","v":""},null,{"$f":"IF(ISNUMBER(SEARCH(E$2,'8. Contracts'!$E19))=TRUE,('8. Contracts'!$C19/COUNTA(_xlfn.TEXTSPLIT('8. Contracts'!$E19,\";\"))),\"\")","v":""},{"$f":"IF(ISNUMBER(SEARCH(F$2,'8. Contracts'!$E19))=TRUE,('8. Contracts'!$C19/COUNTA(_xlfn.TEXTSPLIT('8. Contracts'!$E19,\";\"))),\"\")","v":""},{"$f":"IF(ISNUMBER(SEARCH(G$2,'8. Contracts'!$E19))=TRUE,('8. Contracts'!$C19/COUNTA(_xlfn.TEXTSPLIT('8. Contracts'!$E19,\";\"))),\"\")","v":""},{"$f":"IF(ISNUMBER(SEARCH(H$2,'8. Contracts'!$E19))=TRUE,('8. Contracts'!$C19/COUNTA(_xlfn.TEXTSPLIT('8. Contracts'!$E19,\";\"))),\"\")","v":""}]
[{"$f":"IF(ISNUMBER(SEARCH(A$2,'8. Contracts'!$D20))=TRUE,('8. Contracts'!$C20/COUNTA(_xlfn.TEXTSPLIT('8. Contracts'!$D20,\";\"))),\"\")","v":""},{"$f":"IF(ISNUMBER(SEARCH(B$2,'8. Contracts'!$D20))=TRUE,('8. Contracts'!$C20/COUNTA(_xlfn.TEXTSPLIT('8. Contracts'!$D20,\";\"))),\"\")","v":""},{"$f":"IF(ISNUMBER(SEARCH(C$2,'8. Contracts'!$D20))=TRUE,('8. Contracts'!$C20/COUNTA(_xlfn.TEXTSPLIT('8. Contracts'!$D20,\";\"))),\"\")","v":""},null,{"$f":"IF(ISNUMBER(SEARCH(E$2,'8. Contracts'!$E20))=TRUE,('8. Contracts'!$C20/COUNTA(_xlfn.TEXTSPLIT('8. Contracts'!$E20,\";\"))),\"\")","v":""},{"$f":"IF(ISNUMBER(SEARCH(F$2,'8. Contracts'!$E20))=TRUE,('8. Contracts'!$C20/COUNTA(_xlfn.TEXTSPLIT('8. Contracts'!$E20,\";\"))),\"\")","v":""},{"$f":"IF(ISNUMBER(SEARCH(G$2,'8. Contracts'!$E20))=TRUE,('8. Contracts'!$C20/COUNTA(_xlfn.TEXTSPLIT('8. Contracts'!$E20,\";\"))),\"\")","v":""},{"$f":"IF(ISNUMBER(SEARCH(H$2,'8. Contracts'!$E20))=TRUE,('8. Contracts'!$C20/COUNTA(_xlfn.TEXTSPLIT('8. Contracts'!$E20,\";\"))),\"\")","v":""}]
[{"$f":"IF(ISNUMBER(SEARCH(A$2,'8. Contracts'!$D21))=TRUE,('8. Contracts'!$C21/COUNTA(_xlfn.TEXTSPLIT('8. Contracts'!$D21,\";\"))),\"\")","v":""},{"$f":"IF(ISNUMBER(SEARCH(B$2,'8. Contracts'!$D21))=TRUE,('8. Contracts'!$C21/COUNTA(_xlfn.TEXTSPLIT('8. Contracts'!$D21,\";\"))),\"\")","v":""},{"$f":"IF(ISNUMBER(SEARCH(C$2,'8. Contracts'!$D21))=TRUE,('8. Contracts'!$C21/COUNTA(_xlfn.TEXTSPLIT('8. Contracts'!$D21,\";\"))),\"\")","v":""},null,{"$f":"IF(ISNUMBER(SEARCH(E$2,'8. Contracts'!$E21))=TRUE,('8. Contracts'!$C21/COUNTA(_xlfn.TEXTSPLIT('8. Contracts'!$E21,\";\"))),\"\")","v":""},{"$f":"IF(ISNUMBER(SEARCH(F$2,'8. Contracts'!$E21))=TRUE,('8. Contracts'!$C21/COUNTA(_xlfn.TEXTSPLIT('8. Contracts'!$E21,\";\"))),\"\")","v":""},{"$f":"IF(ISNUMBER(SEARCH(G$2,'8. Contracts'!$E21))=TRUE,('8. Contracts'!$C21/COUNTA(_xlfn.TEXTSPLIT('8. Contracts'!$E21,\";\"))),\"\")","v":""},{"$f":"IF(ISNUMBER(SEARCH(H$2,'8. Contracts'!$E21))=TRUE,('8. Contracts'!$C21/COUNTA(_xlfn.TEXTSPLIT('8. Contracts'!$E21,\";\"))),\"\")","v":""}]
[{"$f":"IF(ISNUMBER(SEARCH(A$2,'8. Contracts'!$D22))=TRUE,('8. Contracts'!$C22/COUNTA(_xlfn.TEXTSPLIT('8. Contracts'!$D22,\";\"))),\"\")","v":""},{"$f":"IF(ISNUMBER(SEARCH(B$2,'8. Contracts'!$D22))=TRUE,('8. Contracts'!$C22/COUNTA(_xlfn.TEXTSPLIT('8. Contracts'!$D22,\";\"))),\"\")","v":""},{"$f":"IF(ISNUMBER(SEARCH(C$2,'8. Contracts'!$D22))=TRUE,('8. Contracts'!$C22/COUNTA(_xlfn.TEXTSPLIT('8. Contracts'!$D22,\";\"))),\"\")","v":""},null,{"$f":"IF(ISNUMBER(SEARCH(E$2,'8. Contracts'!$E22))=TRUE,('8. Contracts'!$C22/COUNTA(_xlfn.TEXTSPLIT('8. Contracts'!$E22,\";\"))),\"\")","v":""},{"$f":"IF(ISNUMBER(SEARCH(F$2,'8. Contracts'!$E22))=TRUE,('8. Contracts'!$C22/COUNTA(_xlfn.TEXTSPLIT('8. Contracts'!$E22,\";\"))),\"\")","v":""},{"$f":"IF(ISNUMBER(SEARCH(G$2,'8. Contracts'!$E22))=TRUE,('8. Contracts'!$C22/COUNTA(_xlfn.TEXTSPLIT('8. Contracts'!$E22,\";\"))),\"\")","v":""},{"$f":"IF(ISNUMBER(SEARCH(H$2,'8. Contracts'!$E22))=TRUE,('8. Contracts'!$C22/COUNTA(_xlfn.TEXTSPLIT('8. Contracts'!$E22,\";\"))),\"\")","v":""}]
[{"$f":"IF(ISNUMBER(SEARCH(A$2,'8. Contracts'!$D23))=TRUE,('8. Contracts'!$C23/COUNTA(_xlfn.TEXTSPLIT('8. Contracts'!$D23,\";\"))),\"\")","v":""},{"$f":"IF(ISNUMBER(SEARCH(B$2,'8. Contracts'!$D23))=TRUE,('8. Contracts'!$C23/COUNTA(_xlfn.TEXTSPLIT('8. Contracts'!$D23,\";\"))),\"\")","v":""},{"$f":"IF(ISNUMBER(SEARCH(C$2,'8. Contracts'!$D23))=TRUE,('8. Contracts'!$C23/COUNTA(_xlfn.TEXTSPLIT('8. Contracts'!$D23,\";\"))),\"\")","v":""},null,{"$f":"IF(ISNUMBER(SEARCH(E$2,'8. Contracts'!$E23))=TRUE,('8. Contracts'!$C23/COUNTA(_xlfn.TEXTSPLIT('8. Contracts'!$E23,\";\"))),\"\")","v":""},{"$f":"IF(ISNUMBER(SEARCH(F$2,'8. Contracts'!$E23))=TRUE,('8. Contracts'!$C23/COUNTA(_xlfn.TEXTSPLIT('8. Contracts'!$E23,\";\"))),\"\")","v":""},{"$f":"IF(ISNUMBER(SEARCH(G$2,'8. Contracts'!$E23))=TRUE,('8. Contracts'!$C23/COUNTA(_xlfn.TEXTSPLIT('8. Contracts'!$E23,\";\"))),\"\")","v":""},{"$f":"IF(ISNUMBER(SEARCH(H$2,'8. Contracts'!$E23))=TRUE,('8. Contracts'!$C23/COUNTA(_xlfn.TEXTSPLIT('8. Contracts'!$E23,\";\"))),\"\")","v":""}]
[{"$f":"IF(ISNUMBER(SEARCH(A$2,'8. Contracts'!$D24))=TRUE,('8. Contracts'!$C24/COUNTA(_xlfn.TEXTSPLIT('8. Contracts'!$D24,\";\"))),\"\")","v":""},{"$f":"IF(ISNUMBER(SEARCH(B$2,'8. Contracts'!$D24))=TRUE,('8. Contracts'!$C24/COUNTA(_xlfn.TEXTSPLIT('8. Contracts'!$D24,\";\"))),\"\")","v":""},{"$f":"IF(ISNUMBER(SEARCH(C$2,'8. Contracts'!$D24))=TRUE,('8. Contracts'!$C24/COUNTA(_xlfn.TEXTSPLIT('8. Contracts'!$D24,\";\"))),\"\")","v":""},null,{"$f":"IF(ISNUMBER(SEARCH(E$2,'8. Contracts'!$E24))=TRUE,('8. Contracts'!$C24/COUNTA(_xlfn.TEXTSPLIT('8. Contracts'!$E24,\";\"))),\"\")","v":""},{"$f":"IF(ISNUMBER(SEARCH(F$2,'8. Contracts'!$E24))=TRUE,('8. Contracts'!$C24/COUNTA(_xlfn.TEXTSPLIT('8. Contracts'!$E24,\";\"))),\"\")","v":""},{"$f":"IF(ISNUMBER(SEARCH(G$2,'8. Contracts'!$E24))=TRUE,('8. Contracts'!$C24/COUNTA(_xlfn.TEXTSPLIT('8. Contracts'!$E24,\";\"))),\"\")","v":""},{"$f":"IF(ISNUMBER(SEARCH(H$2,'8. Contracts'!$E24))=TRUE,('8. Contracts'!$C24/COUNTA(_xlfn.TEXTSPLIT('8. Contracts'!$E24,\";\"))),\"\")","v":""}]
[{"$f":"IF(ISNUMBER(SEARCH(A$2,'8. Contracts'!$D25))=TRUE,('8. Contracts'!$C25/COUNTA(_xlfn.TEXTSPLIT('8. Contracts'!$D25,\";\"))),\"\")","v":""},{"$f":"IF(ISNUMBER(SEARCH(B$2,'8. Contracts'!$D25))=TRUE,('8. Contracts'!$C25/COUNTA(_xlfn.TEXTSPLIT('8. Contracts'!$D25,\";\"))),\"\")","v":""},{"$f":"IF(ISNUMBER(SEARCH(C$2,'8. Contracts'!$D25))=TRUE,('8. Contracts'!$C25/COUNTA(_xlfn.TEXTSPLIT('8. Contracts'!$D25,\";\"))),\"\")","v":""},null,{"$f":"IF(ISNUMBER(SEARCH(E$2,'8. Contracts'!$E25))=TRUE,('8. Contracts'!$C25/COUNTA(_xlfn.TEXTSPLIT('8. Contracts'!$E25,\";\"))),\"\")","v":""},{"$f":"IF(ISNUMBER(SEARCH(F$2,'8. Contracts'!$E25))=TRUE,('8. Contracts'!$C25/COUNTA(_xlfn.TEXTSPLIT('8. Contracts'!$E25,\";\"))),\"\")","v":""},{"$f":"IF(ISNUMBER(SEARCH(G$2,'8. Contracts'!$E25))=TRUE,('8. Contracts'!$C25/COUNTA(_xlfn.TEXTSPLIT('8. Contracts'!$E25,\";\"))),\"\")","v":""},{"$f":"IF(ISNUMBER(SEARCH(H$2,'8. Contracts'!$E25))=TRUE,('8. Contracts'!$C25/COUNTA(_xlfn.TEXTSPLIT('8. Contracts'!$E25,\";\"))),\"\")","v":""}]
[{"$f":"IF(ISNUMBER(SEARCH(A$2,'8. Contracts'!$D26))=TRUE,('8. Contracts'!$C26/COUNTA(_xlfn.TEXTSPLIT('8. Contracts'!$D26,\";\"))),\"\")","v":""},{"$f":"IF(ISNUMBER(SEARCH(B$2,'8. Contracts'!$D26))=TRUE,('8. Contracts'!$C26/COUNTA(_xlfn.TEXTSPLIT('8. Contracts'!$D26,\";\"))),\"\")","v":""},{"$f":"IF(ISNUMBER(SEARCH(C$2,'8. Contracts'!$D26))=TRUE,('8. Contracts'!$C26/COUNTA(_xlfn.TEXTSPLIT('8. Contracts'!$D26,\";\"))),\"\")","v":""},null,{"$f":"IF(ISNUMBER(SEARCH(E$2,'8. Contracts'!$E26))=TRUE,('8. Contracts'!$C26/COUNTA(_xlfn.TEXTSPLIT('8. Contracts'!$E26,\";\"))),\"\")","v":""},{"$f":"IF(ISNUMBER(SEARCH(F$2,'8. Contracts'!$E26))=TRUE,('8. Contracts'!$C26/COUNTA(_xlfn.TEXTSPLIT('8. Contracts'!$E26,\";\"))),\"\")","v":""},{"$f":"IF(ISNUMBER(SEARCH(G$2,'8. Contracts'!$E26))=TRUE,('8. Contracts'!$C26/COUNTA(_xlfn.TEXTSPLIT('8. Contracts'!$E26,\";\"))),\"\")","v":""},{"$f":"IF(ISNUMBER(SEARCH(H$2,'8. Contracts'!$E26))=TRUE,('8. Contracts'!$C26/COUNTA(_xlfn.TEXTSPLIT('8. Contracts'!$E26,\";\"))),\"\")","v":""}]
[{"$f":"IF(ISNUMBER(SEARCH(A$2,'8. Contracts'!$D27))=TRUE,('8. Contracts'!$C27/COUNTA(_xlfn.TEXTSPLIT('8. Contracts'!$D27,\";\"))),\"\")","v":""},{"$f":"IF(ISNUMBER(SEARCH(B$2,'8. Contracts'!$D27))=TRUE,('8. Contracts'!$C27/COUNTA(_xlfn.TEXTSPLIT('8. Contracts'!$D27,\";\"))),\"\")","v":""},{"$f":"IF(ISNUMBER(SEARCH(C$2,'8. Contracts'!$D27))=TRUE,('8. Contracts'!$C27/COUNTA(_xlfn.TEXTSPLIT('8. Contracts'!$D27,\";\"))),\"\")","v":""},null,{"$f":"IF(ISNUMBER(SEARCH(E$2,'8. Contracts'!$E27))=TRUE,('8. Contracts'!$C27/COUNTA(_xlfn.TEXTSPLIT('8. Contracts'!$E27,\";\"))),\"\")","v":""},{"$f":"IF(ISNUMBER(SEARCH(F$2,'8. Contracts'!$E27))=TRUE,('8. Contracts'!$C27/COUNTA(_xlfn.TEXTSPLIT('8. Contracts'!$E27,\";\"))),\"\")","v":""},{"$f":"IF(ISNUMBER(SEARCH(G$2,'8. Contracts'!$E27))=TRUE,('8. Contracts'!$C27/COUNTA(_xlfn.TEXTSPLIT('8. Contracts'!$E27,\";\"))),\"\")","v":""},{"$f":"IF(ISNUMBER(SEARCH(H$2,'8. Contracts'!$E27))=TRUE,('8. Contracts'!$C27/COUNTA(_xlfn.TEXTSPLIT('8. Contracts'!$E27,\";\"))),\"\")","v":""}]
[{"$f":"IF(ISNUMBER(SEARCH(A$2,'8. Contracts'!$D28))=TRUE,('8. Contracts'!$C28/COUNTA(_xlfn.TEXTSPLIT('8. Contracts'!$D28,\";\"))),\"\")","v":""},{"$f":"IF(ISNUMBER(SEARCH(B$2,'8. Contracts'!$D28))=TRUE,('8. Contracts'!$C28/COUNTA(_xlfn.TEXTSPLIT('8. Contracts'!$D28,\";\"))),\"\")","v":""},{"$f":"IF(ISNUMBER(SEARCH(C$2,'8. Contracts'!$D28))=TRUE,('8. Contracts'!$C28/COUNTA(_xlfn.TEXTSPLIT('8. Contracts'!$D28,\";\"))),\"\")","v":""},null,{"$f":"IF(ISNUMBER(SEARCH(E$2,'8. Contracts'!$E28))=TRUE,('8. Contracts'!$C28/COUNTA(_xlfn.TEXTSPLIT('8. Contracts'!$E28,\";\"))),\"\")","v":""},{"$f":"IF(ISNUMBER(SEARCH(F$2,'8. Contracts'!$E28))=TRUE,('8. Contracts'!$C28/COUNTA(_xlfn.TEXTSPLIT('8. Contracts'!$E28,\";\"))),\"\")","v":""},{"$f":"IF(ISNUMBER(SEARCH(G$2,'8. Contracts'!$E28))=TRUE,('8. Contracts'!$C28/COUNTA(_xlfn.TEXTSPLIT('8. Contracts'!$E28,\";\"))),\"\")","v":""},{"$f":"IF(ISNUMBER(SEARCH(H$2,'8. Contracts'!$E28))=TRUE,('8. Contracts'!$C28/COUNTA(_xlfn.TEXTSPLIT('8. Contracts'!$E28,\";\"))),\"\")","v":""}]
[{"$f":"IF(ISNUMBER(SEARCH(A$2,'8. Contracts'!$D29))=TRUE,('8. Contracts'!$C29/COUNTA(_xlfn.TEXTSPLIT('8. Contracts'!$D29,\";\"))),\"\")","v":""},{"$f":"IF(ISNUMBER(SEARCH(B$2,'8. Contracts'!$D29))=TRUE,('8. Contracts'!$C29/COUNTA(_xlfn.TEXTSPLIT('8. Contracts'!$D29,\";\"))),\"\")","v":""},{"$f":"IF(ISNUMBER(SEARCH(C$2,'8. Contracts'!$D29))=TRUE,('8. Contracts'!$C29/COUNTA(_xlfn.TEXTSPLIT('8. Contracts'!$D29,\";\"))),\"\")","v":""},null,{"$f":"IF(ISNUMBER(SEARCH(E$2,'8. Contracts'!$E29))=TRUE,('8. Contracts'!$C29/COUNTA(_xlfn.TEXTSPLIT('8. Contracts'!$E29,\";\"))),\"\")","v":""},{"$f":"IF(ISNUMBER(SEARCH(F$2,'8. Contracts'!$E29))=TRUE,('8. Contracts'!$C29/COUNTA(_xlfn.TEXTSPLIT('8. Contracts'!$E29,\";\"))),\"\")","v":""},{"$f":"IF(ISNUMBER(SEARCH(G$2,'8. Contracts'!$E29))=TRUE,('8. Contracts'!$C29/COUNTA(_xlfn.TEXTSPLIT('8. Contracts'!$E29,\";\"))),\"\")","v":""},{"$f":"IF(ISNUMBER(SEARCH(H$2,'8. Contracts'!$E29))=TRUE,('8. Contracts'!$C29/COUNTA(_xlfn.TEXTSPLIT('8. Contracts'!$E29,\";\"))),\"\")","v":""}]
[{"$f":"IF(ISNUMBER(SEARCH(A$2,'8. Contracts'!$D30))=TRUE,('8. Contracts'!$C30/COUNTA(_xlfn.TEXTSPLIT('8. Contracts'!$D30,\";\"))),\"\")","v":""},{"$f":"IF(ISNUMBER(SEARCH(B$2,'8. Contracts'!$D30))=TRUE,('8. Contracts'!$C30/COUNTA(_xlfn.TEXTSPLIT('8. Contracts'!$D30,\";\"))),\"\")","v":""},{"$f":"IF(ISNUMBER(SEARCH(C$2,'8. Contracts'!$D30))=TRUE,('8. Contracts'!$C30/COUNTA(_xlfn.TEXTSPLIT('8. Contracts'!$D30,\";\"))),\"\")","v":""},null,{"$f":"IF(ISNUMBER(SEARCH(E$2,'8. Contracts'!$E30))=TRUE,('8. Contracts'!$C30/COUNTA(_xlfn.TEXTSPLIT('8. Contracts'!$E30,\";\"))),\"\")","v":""},{"$f":"IF(ISNUMBER(SEARCH(F$2,'8. Contracts'!$E30))=TRUE,('8. Contracts'!$C30/COUNTA(_xlfn.TEXTSPLIT('8. Contracts'!$E30,\";\"))),\"\")","v":""},{"$f":"IF(ISNUMBER(SEARCH(G$2,'8. Contracts'!$E30))=TRUE,('8. Contracts'!$C30/COUNTA(_xlfn.TEXTSPLIT('8. Contracts'!$E30,\";\"))),\"\")","v":""},{"$f":"IF(ISNUMBER(SEARCH(H$2,'8. Contracts'!$E30))=TRUE,('8. Contracts'!$C30/COUNTA(_xlfn.TEXTSPLIT('8. Contracts'!$E30,\";\"))),\"\")","v":""}]
[]
["Supplies (Tab 9)- Allocation by Strategy",{"$nulls":3},"Supplies (Tab 9)- Allocation by Topic"]
["Data and Surveillance","Collaborations and Partnerships","Assessment and Evaluation",null,"Adverse Childhood Experiences (ACEs)","Transportation Safety","Traumatic Brain Injury","Other Topic (please specify in comments)"]
[{"$f":"IF(ISNUMBER(SEARCH(A$2,'9. Supplies'!$H9))=TRUE,((SUM('9. Supplies'!$F9:$G9))/COUNTA(_xlfn.TEXTSPLIT('9. Supplies'!$H9,\";\"))),\"\")","v":""},{"$f":"IF(ISNUMBER(SEARCH(B$2,'9. Supplies'!$H9))=TRUE,((SUM('9. Supplies'!$F9:$G9))/COUNTA(_xlfn.TEXTSPLIT('9. Supplies'!$H9,\";\"))),\"\")","v":""},{"$f":"IF(ISNUMBER(SEARCH(C$2,'9. Supplies'!$H9))=TRUE,((SUM('9. Supplies'!$F9:$G9))/COUNTA(_xlfn.TEXTSPLIT('9. Supplies'!$H9,\";\"))),\"\")","v":""},null,{"$f":"IF(ISNUMBER(SEARCH(E$2,'9. Supplies'!$I9))=TRUE,((SUM('9. Supplies'!$F9:$G9))/COUNTA(_xlfn.TEXTSPLIT('9. Supplies'!$I9,\";\"))),\"\")","v":""},{"$f":"IF(ISNUMBER(SEARCH(F$2,'9. Supplies'!$I9))=TRUE,((SUM('9. Supplies'!$F9:$G9))/COUNTA(_xlfn.TEXTSPLIT('9. Supplies'!$I9,\";\"))),\"\")","v":""},{"$f":"IF(ISNUMBER(SEARCH(G$2,'9. Supplies'!$I9))=TRUE,((SUM('9. Supplies'!$F9:$G9))/COUNTA(_xlfn.TEXTSPLIT('9. Supplies'!$I9,\";\"))),\"\")","v":""},{"$f":"IF(ISNUMBER(SEARCH(H$2,'9. Supplies'!$I9))=TRUE,((SUM('9. Supplies'!$F9:$G9))/COUNTA(_xlfn.TEXTSPLIT('9. Supplies'!$I9,\";\"))),\"\")","v":""}]
[{"$f":"IF(ISNUMBER(SEARCH(A$2,'9. Supplies'!$H10))=TRUE,((SUM('9. Supplies'!$F10:$G10))/COUNTA(_xlfn.TEXTSPLIT('9. Supplies'!$H10,\";\"))),\"\")","v":""},{"$f":"IF(ISNUMBER(SEARCH(B$2,'9. Supplies'!$H10))=TRUE,((SUM('9. Supplies'!$F10:$G10))/COUNTA(_xlfn.TEXTSPLIT('9. Supplies'!$H10,\";\"))),\"\")","v":""},{"$f":"IF(ISNUMBER(SEARCH(C$2,'9. Supplies'!$H10))=TRUE,((SUM('9. Supplies'!$F10:$G10))/COUNTA(_xlfn.TEXTSPLIT('9. Supplies'!$H10,\";\"))),\"\")","v":""},null,{"$f":"IF(ISNUMBER(SEARCH(E$2,'9. Supplies'!$I10))=TRUE,((SUM('9. Supplies'!$F10:$G10))/COUNTA(_xlfn.TEXTSPLIT('9. Supplies'!$I10,\";\"))),\"\")","v":""},{"$f":"IF(ISNUMBER(SEARCH(F$2,'9. Supplies'!$I10))=TRUE,((SUM('9. Supplies'!$F10:$G10))/COUNTA(_xlfn.TEXTSPLIT('9. Supplies'!$I10,\";\"))),\"\")","v":""},{"$f":"IF(ISNUMBER(SEARCH(G$2,'9. Supplies'!$I10))=TRUE,((SUM('9. Supplies'!$F10:$G10))/COUNTA(_xlfn.TEXTSPLIT('9. Supplies'!$I10,\";\"))),\"\")","v":""},{"$f":"IF(ISNUMBER(SEARCH(H$2,'9. Supplies'!$I10))=TRUE,((SUM('9. Supplies'!$F10:$G10))/COUNTA(_xlfn.TEXTSPLIT('9. Supplies'!$I10,\";\"))),\"\")","v":""}]
[{"$f":"IF(ISNUMBER(SEARCH(A$2,'9. Supplies'!$H11))=TRUE,((SUM('9. Supplies'!$F11:$G11))/COUNTA(_xlfn.TEXTSPLIT('9. Supplies'!$H11,\";\"))),\"\")","v":""},{"$f":"IF(ISNUMBER(SEARCH(B$2,'9. Supplies'!$H11))=TRUE,((SUM('9. Supplies'!$F11:$G11))/COUNTA(_xlfn.TEXTSPLIT('9. Supplies'!$H11,\";\"))),\"\")","v":""},{"$f":"IF(ISNUMBER(SEARCH(C$2,'9. Supplies'!$H11))=TRUE,((SUM('9. Supplies'!$F11:$G11))/COUNTA(_xlfn.TEXTSPLIT('9. Supplies'!$H11,\";\"))),\"\")","v":""},null,{"$f":"IF(ISNUMBER(SEARCH(E$2,'9. Supplies'!$I11))=TRUE,((SUM('9. Supplies'!$F11:$G11))/COUNTA(_xlfn.TEXTSPLIT('9. Supplies'!$I11,\";\"))),\"\")","v":""},{"$f":"IF(ISNUMBER(SEARCH(F$2,'9. Supplies'!$I11))=TRUE,((SUM('9. Supplies'!$F11:$G11))/COUNTA(_xlfn.TEXTSPLIT('9. Supplies'!$I11,\";\"))),\"\")","v":""},{"$f":"IF(ISNUMBER(SEARCH(G$2,'9. Supplies'!$I11))=TRUE,((SUM('9. Supplies'!$F11:$G11))/COUNTA(_xlfn.TEXTSPLIT('9. Supplies'!$I11,\";\"))),\"\")","v":""},{"$f":"IF(ISNUMBER(SEARCH(H$2,'9. Supplies'!$I11))=TRUE,((SUM('9. Supplies'!$F11:$G11))/COUNTA(_xlfn.TEXTSPLIT('9. Supplies'!$I11,\";\"))),\"\")","v":""}]
[{"$f":"IF(ISNUMBER(SEARCH(A$2,'9. Supplies'!$H12))=TRUE,((SUM('9. Supplies'!$F12:$G12))/COUNTA(_xlfn.TEXTSPLIT('9. Supplies'!$H12,\";\"))),\"\")","v":""},{"$f":"IF(ISNUMBER(SEARCH(B$2,'9. Supplies'!$H12))=TRUE,((SUM('9. Supplies'!$F12:$G12))/COUNTA(_xlfn.TEXTSPLIT('9. Supplies'!$H12,\";\"))),\"\")","v":""},{"$f":"IF(ISNUMBER(SEARCH(C$2,'9. Supplies'!$H12))=TRUE,((SUM('9. Supplies'!$F12:$G12))/COUNTA(_xlfn.TEXTSPLIT('9. Supplies'!$H12,\";\"))),\"\")","v":""},null,{"$f":"IF(ISNUMBER(SEARCH(E$2,'9. Supplies'!$I12))=TRUE,((SUM('9. Supplies'!$F12:$G12))/COUNTA(_xlfn.TEXTSPLIT('9. Supplies'!$I12,\";\"))),\"\")","v":""},{"$f":"IF(ISNUMBER(SEARCH(F$2,'9. Supplies'!$I12))=TRUE,((SUM('9. Supplies'!$F12:$G12))/COUNTA(_xlfn.TEXTSPLIT('9. Supplies'!$I12,\";\"))),\"\")","v":""},{"$f":"IF(ISNUMBER(SEARCH(G$2,'9. Supplies'!$I12))=TRUE,((SUM('9. Supplies'!$F12:$G12))/COUNTA(_xlfn.TEXTSPLIT('9. Supplies'!$I12,\";\"))),\"\")","v":""},{"$f":"IF(ISNUMBER(SEARCH(H$2,'9. Supplies'!$I12))=TRUE,((SUM('9. Supplies'!$F12:$G12))/COUNTA(_xlfn.TEXTSPLIT('9. Supplies'!$I12,\";\"))),\"\")","v":""}]
[{"$f":"IF(ISNUMBER(SEARCH(A$2,'9. Supplies'!$H13))=TRUE,((SUM('9. Supplies'!$F13:$G13))/COUNTA(_xlfn.TEXTSPLIT('9. Supplies'!$H13,\";\"))),\"\")","v":""},{"$f":"IF(ISNUMBER(SEARCH(B$2,'9. Supplies'!$H13))=TRUE,((SUM('9. Supplies'!$F13:$G13))/COUNTA(_xlfn.TEXTSPLIT('9. Supplies'!$H13,\";\"))),\"\")","v":""},{"$f":"IF(ISNUMBER(SEARCH(C$2,'9. Supplies'!$H13))=TRUE,((SUM('9. Supplies'!$F13:$G13))/COUNTA(_xlfn.TEXTSPLIT('9. Supplies'!$H13,\";\"))),\"\")","v":""},null,{"$f":"IF(ISNUMBER(SEARCH(E$2,'9. Supplies'!$I13))=TRUE,((SUM('9. Supplies'!$F13:$G13))/COUNTA(_xlfn.TEXTSPLIT('9. Supplies'!$I13,\";\"))),\"\")","v":""},{"$f":"IF(ISNUMBER(SEARCH(F$2,'9. Supplies'!$I13))=TRUE,((SUM('9. Supplies'!$F13:$G13))/COUNTA(_xlfn.TEXTSPLIT('9. Supplies'!$I13,\";\"))),\"\")","v":""},{"$f":"IF(ISNUMBER(SEARCH(G$2,'9. Supplies'!$I13))=TRUE,((SUM('9. Supplies'!$F13:$G13))/COUNTA(_xlfn.TEXTSPLIT('9. Supplies'!$I13,\";\"))),\"\")","v":""},{"$f":"IF(ISNUMBER(SEARCH(H$2,'9. Supplies'!$I13))=TRUE,((SUM('9. Supplies'!$F13:$G13))/COUNTA(_xlfn.TEXTSPLIT('9. Supplies'!$I13,\";\"))),\"\")","v":""}]
[{"$f":"IF(ISNUMBER(SEARCH(A$2,'9. Supplies'!$H14))=TRUE,((SUM('9. Supplies'!$F14:$G14))/COUNTA(_xlfn.TEXTSPLIT('9. Supplies'!$H14,\";\"))),\"\")","v":""},{"$f":"IF(ISNUMBER(SEARCH(B$2,'9. Supplies'!$H14))=TRUE,((SUM('9. Supplies'!$F14:$G14))/COUNTA(_xlfn.TEXTSPLIT('9. Supplies'!$H14,\";\"))),\"\")","v":""},{"$f":"IF(ISNUMBER(SEARCH(C$2,'9. Supplies'!$H14))=TRUE,((SUM('9. Supplies'!$F14:$G14))/COUNTA(_xlfn.TEXTSPLIT('9. Supplies'!$H14,\";\"))),\"\")","v":""},null,{"$f":"IF(ISNUMBER(SEARCH(E$2,'9. Supplies'!$I14))=TRUE,((SUM('9. Supplies'!$F14:$G14))/COUNTA(_xlfn.TEXTSPLIT('9. Supplies'!$I14,\";\"))),\"\")","v":""},{"$f":"IF(ISNUMBER(SEARCH(F$2,'9. Supplies'!$I14))=TRUE,((SUM('9. Supplies'!$F14:$G14))/COUNTA(_xlfn.TEXTSPLIT('9. Supplies'!$I14,\";\"))),\"\")","v":""},{"$f":"IF(ISNUMBER(SEARCH(G$2,'9. Supplies'!$I14))=TRUE,((SUM('9. Supplies'!$F14:$G14))/COUNTA(_xlfn.TEXTSPLIT('9. Supplies'!$I14,\";\"))),\"\")","v":""},{"$f":"IF(ISNUMBER(SEARCH(H$2,'9. Supplies'!$I14))=TRUE,((SUM('9. Supplies'!$F14:$G14))/COUNTA(_xlfn.TEXTSPLIT('9. Supplies'!$I14,\";\"))),\"\")","v":""}]
[{"$f":"IF(ISNUMBER(SEARCH(A$2,'9. Supplies'!$H15))=TRUE,((SUM('9. Supplies'!$F15:$G15))/COUNTA(_xlfn.TEXTSPLIT('9. Supplies'!$H15,\";\"))),\"\")","v":""},{"$f":"IF(ISNUMBER(SEARCH(B$2,'9. Supplies'!$H15))=TRUE,((SUM('9. Supplies'!$F15:$G15))/COUNTA(_xlfn.TEXTSPLIT('9. Supplies'!$H15,\";\"))),\"\")","v":""},{"$f":"IF(ISNUMBER(SEARCH(C$2,'9. Supplies'!$H15))=TRUE,((SUM('9. Supplies'!$F15:$G15))/COUNTA(_xlfn.TEXTSPLIT('9. Supplies'!$H15,\";\"))),\"\")","v":""},null,{"$f":"IF(ISNUMBER(SEARCH(E$2,'9. Supplies'!$I15))=TRUE,((SUM('9. Supplies'!$F15:$G15))/COUNTA(_xlfn.TEXTSPLIT('9. Supplies'!$I15,\";\"))),\"\")","v":""},{"$f":"IF(ISNUMBER(SEARCH(F$2,'9. Supplies'!$I15))=TRUE,((SUM('9. Supplies'!$F15:$G15))/COUNTA(_xlfn.TEXTSPLIT('9. Supplies'!$I15,\";\"))),\"\")","v":""},{"$f":"IF(ISNUMBER(SEARCH(G$2,'9. Supplies'!$I15))=TRUE,((SUM('9. Supplies'!$F15:$G15))/COUNTA(_xlfn.TEXTSPLIT('9. Supplies'!$I15,\";\"))),\"\")","v":""},{"$f":"IF(ISNUMBER(SEARCH(H$2,'9. Supplies'!$I15))=TRUE,((SUM('9. Supplies'!$F15:$G15))/COUNTA(_xlfn.TEXTSPLIT('9. Supplies'!$I15,\";\"))),\"\")","v":""}]
[{"$f":"IF(ISNUMBER(SEARCH(A$2,'9. Supplies'!$H16))=TRUE,((SUM('9. Supplies'!$F16:$G16))/COUNTA(_xlfn.TEXTSPLIT('9. Supplies'!$H16,\";\"))),\"\")","v":""},{"$f":"IF(ISNUMBER(SEARCH(B$2,'9. Supplies'!$H16))=TRUE,((SUM('9. Supplies'!$F16:$G16))/COUNTA(_xlfn.TEXTSPLIT('9. Supplies'!$H16,\";\"))),\"\")","v":""},{"$f":"IF(ISNUMBER(SEARCH(C$2,'9. Supplies'!$H16))=TRUE,((SUM('9. Supplies'!$F16:$G16))/COUNTA(_xlfn.TEXTSPLIT('9. Supplies'!$H16,\";\"))),\"\")","v":""},null,{"$f":"IF(ISNUMBER(SEARCH(E$2,'9. Supplies'!$I16))=TRUE,((SUM('9. Supplies'!$F16:$G16))/COUNTA(_xlfn.TEXTSPLIT('9. Supplies'!$I16,\";\"))),\"\")","v":""},{"$f":"IF(ISNUMBER(SEARCH(F$2,'9. Supplies'!$I16))=TRUE,((SUM('9. Supplies'!$F16:$G16))/COUNTA(_xlfn.TEXTSPLIT('9. Supplies'!$I16,\";\"))),\"\")","v":""},{"$f":"IF(ISNUMBER(SEARCH(G$2,'9. Supplies'!$I16))=TRUE,((SUM('9. Supplies'!$F16:$G16))/COUNTA(_xlfn.TEXTSPLIT('9. Supplies'!$I16,\";\"))),\"\")","v":""},{"$f":"IF(ISNUMBER(SEARCH(H$2,'9. Supplies'!$I16))=TRUE,((SUM('9. Supplies'!$F16:$G16))/COUNTA(_xlfn.TEXTSPLIT('9. Supplies'!$I16,\";\"))),\"\")","v":""}]
[{"$f":"IF(ISNUMBER(SEARCH(A$2,'9. Supplies'!$H17))=TRUE,((SUM('9. Supplies'!$F17:$G17))/COUNTA(_xlfn.TEXTSPLIT('9. Supplies'!$H17,\";\"))),\"\")","v":""},{"$f":"IF(ISNUMBER(SEARCH(B$2,'9. Supplies'!$H17))=TRUE,((SUM('9. Supplies'!$F17:$G17))/COUNTA(_xlfn.TEXTSPLIT('9. Supplies'!$H17,\";\"))),\"\")","v":""},{"$f":"IF(ISNUMBER(SEARCH(C$2,'9. Supplies'!$H17))=TRUE,((SUM('9. Supplies'!$F17:$G17))/COUNTA(_xlfn.TEXTSPLIT('9. Supplies'!$H17,\";\"))),\"\")","v":""},null,{"$f":"IF(ISNUMBER(SEARCH(E$2,'9. Supplies'!$I17))=TRUE,((SUM('9. Supplies'!$F17:$G17))/COUNTA(_xlfn.TEXTSPLIT('9. Supplies'!$I17,\";\"))),\"\")","v":""},{"$f":"IF(ISNUMBER(SEARCH(F$2,'9. Supplies'!$I17))=TRUE,((SUM('9. Supplies'!$F17:$G17))/COUNTA(_xlfn.TEXTSPLIT('9. Supplies'!$I17,\";\"))),\"\")","v":""},{"$f":"IF(ISNUMBER(SEARCH(G$2,'9. Supplies'!$I17))=TRUE,((SUM('9. Supplies'!$F17:$G17))/COUNTA(_xlfn.TEXTSPLIT('9. Supplies'!$I17,\";\"))),\"\")","v":""},{"$f":"IF(ISNUMBER(SEARCH(H$2,'9. Supplies'!$I17))=TRUE,((SUM('9. Supplies'!$F17:$G17))/COUNTA(_xlfn.TEXTSPLIT('9. Supplies'!$I17,\";\"))),\"\")","v":""}]
[{"$f":"IF(ISNUMBER(SEARCH(A$2,'9. Supplies'!$H18))=TRUE,((SUM('9. Supplies'!$F18:$G18))/COUNTA(_xlfn.TEXTSPLIT('9. Supplies'!$H18,\";\"))),\"\")","v":""},{"$f":"IF(ISNUMBER(SEARCH(B$2,'9. Supplies'!$H18))=TRUE,((SUM('9. Supplies'!$F18:$G18))/COUNTA(_xlfn.TEXTSPLIT('9. Supplies'!$H18,\";\"))),\"\")","v":""},{"$f":"IF(ISNUMBER(SEARCH(C$2,'9. Supplies'!$H18))=TRUE,((SUM('9. Supplies'!$F18:$G18))/COUNTA(_xlfn.TEXTSPLIT('9. Supplies'!$H18,\";\"))),\"\")","v":""},null,{"$f":"IF(ISNUMBER(SEARCH(E$2,'9. Supplies'!$I18))=TRUE,((SUM('9. Supplies'!$F18:$G18))/COUNTA(_xlfn.TEXTSPLIT('9. Supplies'!$I18,\";\"))),\"\")","v":""},{"$f":"IF(ISNUMBER(SEARCH(F$2,'9. Supplies'!$I18))=TRUE,((SUM('9. Supplies'!$F18:$G18))/COUNTA(_xlfn.TEXTSPLIT('9. Supplies'!$I18,\";\"))),\"\")","v":""},{"$f":"IF(ISNUMBER(SEARCH(G$2,'9. Supplies'!$I18))=TRUE,((SUM('9. Supplies'!$F18:$G18))/COUNTA(_xlfn.TEXTSPLIT('9. Supplies'!$I18,\";\"))),\"\")","v":""},{"$f":"IF(ISNUMBER(SEARCH(H$2,'9. Supplies'!$I18))=TRUE,((SUM('9. Supplies'!$F18:$G18))/COUNTA(_xlfn.TEXTSPLIT('9. Supplies'!$I18,\";\"))),\"\")","v":""}]
[{"$f":"IF(ISNUMBER(SEARCH(A$2,'9. Supplies'!$H19))=TRUE,((SUM('9. Supplies'!$F19:$G19))/COUNTA(_xlfn.TEXTSPLIT('9. Supplies'!$H19,\";\"))),\"\")","v":""},{"$f":"IF(ISNUMBER(SEARCH(B$2,'9. Supplies'!$H19))=TRUE,((SUM('9. Supplies'!$F19:$G19))/COUNTA(_xlfn.TEXTSPLIT('9. Supplies'!$H19,\";\"))),\"\")","v":""},{"$f":"IF(ISNUMBER(SEARCH(C$2,'9. Supplies'!$H19))=TRUE,((SUM('9. Supplies'!$F19:$G19))/COUNTA(_xlfn.TEXTSPLIT('9. Supplies'!$H19,\";\"))),\"\")","v":""},null,{"$f":"IF(ISNUMBER(SEARCH(E$2,'9. Supplies'!$I19))=TRUE,((SUM('9. Supplies'!$F19:$G19))/COUNTA(_xlfn.TEXTSPLIT('9. Supplies'!$I19,\";\"))),\"\")","v":""},{"$f":"IF(ISNUMBER(SEARCH(F$2,'9. Supplies'!$I19))=TRUE,((SUM('9. Supplies'!$F19:$G19))/COUNTA(_xlfn.TEXTSPLIT('9. Supplies'!$I19,\";\"))),\"\")","v":""},{"$f":"IF(ISNUMBER(SEARCH(G$2,'9. Supplies'!$I19))=TRUE,((SUM('9. Supplies'!$F19:$G19))/COUNTA(_xlfn.TEXTSPLIT('9. Supplies'!$I19,\";\"))),\"\")","v":""},{"$f":"IF(ISNUMBER(SEARCH(H$2,'9. Supplies'!$I19))=TRUE,((SUM('9. Supplies'!$F19:$G19))/COUNTA(_xlfn.TEXTSPLIT('9. Supplies'!$I19,\";\"))),\"\")","v":""}]
[{"$f":"IF(ISNUMBER(SEARCH(A$2,'9. Supplies'!$H20))=TRUE,((SUM('9. Supplies'!$F20:$G20))/COUNTA(_xlfn.TEXTSPLIT('9. Supplies'!$H20,\";\"))),\"\")","v":""},{"$f":"IF(ISNUMBER(SEARCH(B$2,'9. Supplies'!$H20))=TRUE,((SUM('9. Supplies'!$F20:$G20))/COUNTA(_xlfn.TEXTSPLIT('9. Supplies'!$H20,\";\"))),\"\")","v":""},{"$f":"IF(ISNUMBER(SEARCH(C$2,'9. Supplies'!$H20))=TRUE,((SUM('9. Supplies'!$F20:$G20))/COUNTA(_xlfn.TEXTSPLIT('9. Supplies'!$H20,\";\"))),\"\")","v":""},null,{"$f":"IF(ISNUMBER(SEARCH(E$2,'9. Supplies'!$I20))=TRUE,((SUM('9. Supplies'!$F20:$G20))/COUNTA(_xlfn.TEXTSPLIT('9. Supplies'!$I20,\";\"))),\"\")","v":""},{"$f":"IF(ISNUMBER(SEARCH(F$2,'9. Supplies'!$I20))=TRUE,((SUM('9. Supplies'!$F20:$G20))/COUNTA(_xlfn.TEXTSPLIT('9. Supplies'!$I20,\";\"))),\"\")","v":""},{"$f":"IF(ISNUMBER(SEARCH(G$2,'9. Supplies'!$I20))=TRUE,((SUM('9. Supplies'!$F20:$G20))/COUNTA(_xlfn.TEXTSPLIT('9. Supplies'!$I20,\";\"))),\"\")","v":""},{"$f":"IF(ISNUMBER(SEARCH(H$2,'9. Supplies'!$I20))=TRUE,((SUM('9. Supplies'!$F20:$G20))/COUNTA(_xlfn.TEXTSPLIT('9. Supplies'!$I20,\";\"))),\"\")","v":""}]
[{"$f":"IF(ISNUMBER(SEARCH(A$2,'9. Supplies'!$H21))=TRUE,((SUM('9. Supplies'!$F21:$G21))/COUNTA(_xlfn.TEXTSPLIT('9. Supplies'!$H21,\";\"))),\"\")","v":""},{"$f":"IF(ISNUMBER(SEARCH(B$2,'9. Supplies'!$H21))=TRUE,((SUM('9. Supplies'!$F21:$G21))/COUNTA(_xlfn.TEXTSPLIT('9. Supplies'!$H21,\";\"))),\"\")","v":""},{"$f":"IF(ISNUMBER(SEARCH(C$2,'9. Supplies'!$H21))=TRUE,((SUM('9. Supplies'!$F21:$G21))/COUNTA(_xlfn.TEXTSPLIT('9. Supplies'!$H21,\";\"))),\"\")","v":""},null,{"$f":"IF(ISNUMBER(SEARCH(E$2,'9. Supplies'!$I21))=TRUE,((SUM('9. Supplies'!$F21:$G21))/COUNTA(_xlfn.TEXTSPLIT('9. Supplies'!$I21,\";\"))),\"\")","v":""},{"$f":"IF(ISNUMBER(SEARCH(F$2,'9. Supplies'!$I21))=TRUE,((SUM('9. Supplies'!$F21:$G21))/COUNTA(_xlfn.TEXTSPLIT('9. Supplies'!$I21,\";\"))),\"\")","v":""},{"$f":"IF(ISNUMBER(SEARCH(G$2,'9. Supplies'!$I21))=TRUE,((SUM('9. Supplies'!$F21:$G21))/COUNTA(_xlfn.TEXTSPLIT('9. Supplies'!$I21,\";\"))),\"\")","v":""},{"$f":"IF(ISNUMBER(SEARCH(H$2,'9. Supplies'!$I21))=TRUE,((SUM('9. Supplies'!$F21:$G21))/COUNTA(_xlfn.TEXTSPLIT('9. Supplies'!$I21,\";\"))),\"\")","v":""}]
[{"$f":"IF(ISNUMBER(SEARCH(A$2,'9. Supplies'!$H22))=TRUE,((SUM('9. Supplies'!$F22:$G22))/COUNTA(_xlfn.TEXTSPLIT('9. Supplies'!$H22,\";\"))),\"\")","v":""},{"$f":"IF(ISNUMBER(SEARCH(B$2,'9. Supplies'!$H22))=TRUE,((SUM('9. Supplies'!$F22:$G22))/COUNTA(_xlfn.TEXTSPLIT('9. Supplies'!$H22,\";\"))),\"\")","v":""},{"$f":"IF(ISNUMBER(SEARCH(C$2,'9. Supplies'!$H22))=TRUE,((SUM('9. Supplies'!$F22:$G22))/COUNTA(_xlfn.TEXTSPLIT('9. Supplies'!$H22,\";\"))),\"\")","v":""},null,{"$f":"IF(ISNUMBER(SEARCH(E$2,'9. Supplies'!$I22))=TRUE,((SUM('9. Supplies'!$F22:$G22))/COUNTA(_xlfn.TEXTSPLIT('9. Supplies'!$I22,\";\"))),\"\")","v":""},{"$f":"IF(ISNUMBER(SEARCH(F$2,'9. Supplies'!$I22))=TRUE,((SUM('9. Supplies'!$F22:$G22))/COUNTA(_xlfn.TEXTSPLIT('9. Supplies'!$I22,\";\"))),\"\")","v":""},{"$f":"IF(ISNUMBER(SEARCH(G$2,'9. Supplies'!$I22))=TRUE,((SUM('9. Supplies'!$F22:$G22))/COUNTA(_xlfn.TEXTSPLIT('9. Supplies'!$I22,\";\"))),\"\")","v":""},{"$f":"IF(ISNUMBER(SEARCH(H$2,'9. Supplies'!$I22))=TRUE,((SUM('9. Supplies'!$F22:$G22))/COUNTA(_xlfn.TEXTSPLIT('9. Supplies'!$I22,\";\"))),\"\")","v":""}]
[{"$f":"IF(ISNUMBER(SEARCH(A$2,'9. Supplies'!$H23))=TRUE,((SUM('9. Supplies'!$F23:$G23))/COUNTA(_xlfn.TEXTSPLIT('9. Supplies'!$H23,\";\"))),\"\")","v":""},{"$f":"IF(ISNUMBER(SEARCH(B$2,'9. Supplies'!$H23))=TRUE,((SUM('9. Supplies'!$F23:$G23))/COUNTA(_xlfn.TEXTSPLIT('9. Supplies'!$H23,\";\"))),\"\")","v":""},{"$f":"IF(ISNUMBER(SEARCH(C$2,'9. Supplies'!$H23))=TRUE,((SUM('9. Supplies'!$F23:$G23))/COUNTA(_xlfn.TEXTSPLIT('9. Supplies'!$H23,\";\"))),\"\")","v":""},null,{"$f":"IF(ISNUMBER(SEARCH(E$2,'9. Supplies'!$I23))=TRUE,((SUM('9. Supplies'!$F23:$G23))/COUNTA(_xlfn.TEXTSPLIT('9. Supplies'!$I23,\";\"))),\"\")","v":""},{"$f":"IF(ISNUMBER(SEARCH(F$2,'9. Supplies'!$I23))=TRUE,((SUM('9. Supplies'!$F23:$G23))/COUNTA(_xlfn.TEXTSPLIT('9. Supplies'!$I23,\";\"))),\"\")","v":""},{"$f":"IF(ISNUMBER(SEARCH(G$2,'9. Supplies'!$I23))=TRUE,((SUM('9. Supplies'!$F23:$G23))/COUNTA(_xlfn.TEXTSPLIT('9. Supplies'!$I23,\";\"))),\"\")","v":""},{"$f":"IF(ISNUMBER(SEARCH(H$2,'9. Supplies'!$I23))=TRUE,((SUM('9. Supplies'!$F23:$G23))/COUNTA(_xlfn.TEXTSPLIT('9. Supplies'!$I23,\";\"))),\"\")","v":""}]
[{"$f":"IF(ISNUMBER(SEARCH(A$2,'9. Supplies'!$H24))=TRUE,((SUM('9. Supplies'!$F24:$G24))/COUNTA(_xlfn.TEXTSPLIT('9. Supplies'!$H24,\";\"))),\"\")","v":""},{"$f":"IF(ISNUMBER(SEARCH(B$2,'9. Supplies'!$H24))=TRUE,((SUM('9. Supplies'!$F24:$G24))/COUNTA(_xlfn.TEXTSPLIT('9. Supplies'!$H24,\";\"))),\"\")","v":""},{"$f":"IF(ISNUMBER(SEARCH(C$2,'9. Supplies'!$H24))=TRUE,((SUM('9. Supplies'!$F24:$G24))/COUNTA(_xlfn.TEXTSPLIT('9. Supplies'!$H24,\";\"))),\"\")","v":""},null,{"$f":"IF(ISNUMBER(SEARCH(E$2,'9. Supplies'!$I24))=TRUE,((SUM('9. Supplies'!$F24:$G24))/COUNTA(_xlfn.TEXTSPLIT('9. Supplies'!$I24,\";\"))),\"\")","v":""},{"$f":"IF(ISNUMBER(SEARCH(F$2,'9. Supplies'!$I24))=TRUE,((SUM('9. Supplies'!$F24:$G24))/COUNTA(_xlfn.TEXTSPLIT('9. Supplies'!$I24,\";\"))),\"\")","v":""},{"$f":"IF(ISNUMBER(SEARCH(G$2,'9. Supplies'!$I24))=TRUE,((SUM('9. Supplies'!$F24:$G24))/COUNTA(_xlfn.TEXTSPLIT('9. Supplies'!$I24,\";\"))),\"\")","v":""},{"$f":"IF(ISNUMBER(SEARCH(H$2,'9. Supplies'!$I24))=TRUE,((SUM('9. Supplies'!$F24:$G24))/COUNTA(_xlfn.TEXTSPLIT('9. Supplies'!$I24,\";\"))),\"\")","v":""}]
[{"$f":"IF(ISNUMBER(SEARCH(A$2,'9. Supplies'!$H25))=TRUE,((SUM('9. Supplies'!$F25:$G25))/COUNTA(_xlfn.TEXTSPLIT('9. Supplies'!$H25,\";\"))),\"\")","v":""},{"$f":"IF(ISNUMBER(SEARCH(B$2,'9. Supplies'!$H25))=TRUE,((SUM('9. Supplies'!$F25:$G25))/COUNTA(_xlfn.TEXTSPLIT('9. Supplies'!$H25,\";\"))),\"\")","v":""},{"$f":"IF(ISNUMBER(SEARCH(C$2,'9. Supplies'!$H25))=TRUE,((SUM('9. Supplies'!$F25:$G25))/COUNTA(_xlfn.TEXTSPLIT('9. Supplies'!$H25,\";\"))),\"\")","v":""},null,{"$f":"IF(ISNUMBER(SEARCH(E$2,'9. Supplies'!$I25))=TRUE,((SUM('9. Supplies'!$F25:$G25))/COUNTA(_xlfn.TEXTSPLIT('9. Supplies'!$I25,\";\"))),\"\")","v":""},{"$f":"IF(ISNUMBER(SEARCH(F$2,'9. Supplies'!$I25))=TRUE,((SUM('9. Supplies'!$F25:$G25))/COUNTA(_xlfn.TEXTSPLIT('9. Supplies'!$I25,\";\"))),\"\")","v":""},{"$f":"IF(ISNUMBER(SEARCH(G$2,'9. Supplies'!$I25))=TRUE,((SUM('9. Supplies'!$F25:$G25))/COUNTA(_xlfn.TEXTSPLIT('9. Supplies'!$I25,\";\"))),\"\")","v":""},{"$f":"IF(ISNUMBER(SEARCH(H$2,'9. Supplies'!$I25))=TRUE,((SUM('9. Supplies'!$F25:$G25))/COUNTA(_xlfn.TEXTSPLIT('9. Supplies'!$I25,\";\"))),\"\")","v":""}]
[{"$f":"IF(ISNUMBER(SEARCH(A$2,'9. Supplies'!$H26))=TRUE,((SUM('9. Supplies'!$F26:$G26))/COUNTA(_xlfn.TEXTSPLIT('9. Supplies'!$H26,\";\"))),\"\")","v":""},{"$f":"IF(ISNUMBER(SEARCH(B$2,'9. Supplies'!$H26))=TRUE,((SUM('9. Supplies'!$F26:$G26))/COUNTA(_xlfn.TEXTSPLIT('9. Supplies'!$H26,\";\"))),\"\")","v":""},{"$f":"IF(ISNUMBER(SEARCH(C$2,'9. Supplies'!$H26))=TRUE,((SUM('9. Supplies'!$F26:$G26))/COUNTA(_xlfn.TEXTSPLIT('9. Supplies'!$H26,\";\"))),\"\")","v":""},null,{"$f":"IF(ISNUMBER(SEARCH(E$2,'9. Supplies'!$I26))=TRUE,((SUM('9. Supplies'!$F26:$G26))/COUNTA(_xlfn.TEXTSPLIT('9. Supplies'!$I26,\";\"))),\"\")","v":""},{"$f":"IF(ISNUMBER(SEARCH(F$2,'9. Supplies'!$I26))=TRUE,((SUM('9. Supplies'!$F26:$G26))/COUNTA(_xlfn.TEXTSPLIT('9. Supplies'!$I26,\";\"))),\"\")","v":""},{"$f":"IF(ISNUMBER(SEARCH(G$2,'9. Supplies'!$I26))=TRUE,((SUM('9. Supplies'!$F26:$G26))/COUNTA(_xlfn.TEXTSPLIT('9. Supplies'!$I26,\";\"))),\"\")","v":""},{"$f":"IF(ISNUMBER(SEARCH(H$2,'9. Supplies'!$I26))=TRUE,((SUM('9. Supplies'!$F26:$G26))/COUNTA(_xlfn.TEXTSPLIT('9. Supplies'!$I26,\";\"))),\"\")","v":""}]
[{"$f":"IF(ISNUMBER(SEARCH(A$2,'9. Supplies'!$H27))=TRUE,((SUM('9. Supplies'!$F27:$G27))/COUNTA(_xlfn.TEXTSPLIT('9. Supplies'!$H27,\";\"))),\"\")","v":""},{"$f":"IF(ISNUMBER(SEARCH(B$2,'9. Supplies'!$H27))=TRUE,((SUM('9. Supplies'!$F27:$G27))/COUNTA(_xlfn.TEXTSPLIT('9. Supplies'!$H27,\";\"))),\"\")","v":""},{"$f":"IF(ISNUMBER(SEARCH(C$2,'9. Supplies'!$H27))=TRUE,((SUM('9. Supplies'!$F27:$G27))/COUNTA(_xlfn.TEXTSPLIT('9. Supplies'!$H27,\";\"))),\"\")","v":""},null,{"$f":"IF(ISNUMBER(SEARCH(E$2,'9. Supplies'!$I27))=TRUE,((SUM('9. Supplies'!$F27:$G27))/COUNTA(_xlfn.TEXTSPLIT('9. Supplies'!$I27,\";\"))),\"\")","v":""},{"$f":"IF(ISNUMBER(SEARCH(F$2,'9. Supplies'!$I27))=TRUE,((SUM('9. Supplies'!$F27:$G27))/COUNTA(_xlfn.TEXTSPLIT('9. Supplies'!$I27,\";\"))),\"\")","v":""},{"$f":"IF(ISNUMBER(SEARCH(G$2,'9. Supplies'!$I27))=TRUE,((SUM('9. Supplies'!$F27:$G27))/COUNTA(_xlfn.TEXTSPLIT('9. Supplies'!$I27,\";\"))),\"\")","v":""},{"$f":"IF(ISNUMBER(SEARCH(H$2,'9. Supplies'!$I27))=TRUE,((SUM('9. Supplies'!$F27:$G27))/COUNTA(_xlfn.TEXTSPLIT('9. Supplies'!$I27,\";\"))),\"\")","v":""}]
[{"$f":"IF(ISNUMBER(SEARCH(A$2,'9. Supplies'!$H28))=TRUE,((SUM('9. Supplies'!$F28:$G28))/COUNTA(_xlfn.TEXTSPLIT('9. Supplies'!$H28,\";\"))),\"\")","v":""},{"$f":"IF(ISNUMBER(SEARCH(B$2,'9. Supplies'!$H28))=TRUE,((SUM('9. Supplies'!$F28:$G28))/COUNTA(_xlfn.TEXTSPLIT('9. Supplies'!$H28,\";\"))),\"\")","v":""},{"$f":"IF(ISNUMBER(SEARCH(C$2,'9. Supplies'!$H28))=TRUE,((SUM('9. Supplies'!$F28:$G28))/COUNTA(_xlfn.TEXTSPLIT('9. Supplies'!$H28,\";\"))),\"\")","v":""},null,{"$f":"IF(ISNUMBER(SEARCH(E$2,'9. Supplies'!$I28))=TRUE,((SUM('9. Supplies'!$F28:$G28))/COUNTA(_xlfn.TEXTSPLIT('9. Supplies'!$I28,\";\"))),\"\")","v":""},{"$f":"IF(ISNUMBER(SEARCH(F$2,'9. Supplies'!$I28))=TRUE,((SUM('9. Supplies'!$F28:$G28))/COUNTA(_xlfn.TEXTSPLIT('9. Supplies'!$I28,\";\"))),\"\")","v":""},{"$f":"IF(ISNUMBER(SEARCH(G$2,'9. Supplies'!$I28))=TRUE,((SUM('9. Supplies'!$F28:$G28))/COUNTA(_xlfn.TEXTSPLIT('9. Supplies'!$I28,\";\"))),\"\")","v":""},{"$f":"IF(ISNUMBER(SEARCH(H$2,'9. Supplies'!$I28))=TRUE,((SUM('9. Supplies'!$F28:$G28))/COUNTA(_xlfn.TEXTSPLIT('9. Supplies'!$I28,\";\"))),\"\")","v":""}]
[{"$f":"IF(ISNUMBER(SEARCH(A$2,'9. Supplies'!$H29))=TRUE,((SUM('9. Supplies'!$F29:$G29))/COUNTA(_xlfn.TEXTSPLIT('9. Supplies'!$H29,\";\"))),\"\")","v":""},{"$f":"IF(ISNUMBER(SEARCH(B$2,'9. Supplies'!$H29))=TRUE,((SUM('9. Supplies'!$F29:$G29))/COUNTA(_xlfn.TEXTSPLIT('9. Supplies'!$H29,\";\"))),\"\")","v":""},{"$f":"IF(ISNUMBER(SEARCH(C$2,'9. Supplies'!$H29))=TRUE,((SUM('9. Supplies'!$F29:$G29))/COUNTA(_xlfn.TEXTSPLIT('9. Supplies'!$H29,\";\"))),\"\")","v":""},null,{"$f":"IF(ISNUMBER(SEARCH(E$2,'9. Supplies'!$I29))=TRUE,((SUM('9. Supplies'!$F29:$G29))/COUNTA(_xlfn.TEXTSPLIT('9. Supplies'!$I29,\";\"))),\"\")","v":""},{"$f":"IF(ISNUMBER(SEARCH(F$2,'9. Supplies'!$I29))=TRUE,((SUM('9. Supplies'!$F29:$G29))/COUNTA(_xlfn.TEXTSPLIT('9. Supplies'!$I29,\";\"))),\"\")","v":""},{"$f":"IF(ISNUMBER(SEARCH(G$2,'9. Supplies'!$I29))=TRUE,((SUM('9. Supplies'!$F29:$G29))/COUNTA(_xlfn.TEXTSPLIT('9. Supplies'!$I29,\";\"))),\"\")","v":""},{"$f":"IF(ISNUMBER(SEARCH(H$2,'9. Supplies'!$I29))=TRUE,((SUM('9. Supplies'!$F29:$G29))/COUNTA(_xlfn.TEXTSPLIT('9. Supplies'!$I29,\";\"))),\"\")","v":""}]
[{"$f":"IF(ISNUMBER(SEARCH(A$2,'9. Supplies'!$H30))=TRUE,((SUM('9. Supplies'!$F30:$G30))/COUNTA(_xlfn.TEXTSPLIT('9. Supplies'!$H30,\";\"))),\"\")","v":""},{"$f":"IF(ISNUMBER(SEARCH(B$2,'9. Supplies'!$H30))=TRUE,((SUM('9. Supplies'!$F30:$G30))/COUNTA(_xlfn.TEXTSPLIT('9. Supplies'!$H30,\";\"))),\"\")","v":""},{"$f":"IF(ISNUMBER(SEARCH(C$2,'9. Supplies'!$H30))=TRUE,((SUM('9. Supplies'!$F30:$G30))/COUNTA(_xlfn.TEXTSPLIT('9. Supplies'!$H30,\";\"))),\"\")","v":""},null,{"$f":"IF(ISNUMBER(SEARCH(E$2,'9. Supplies'!$I30))=TRUE,((SUM('9. Supplies'!$F30:$G30))/COUNTA(_xlfn.TEXTSPLIT('9. Supplies'!$I30,\";\"))),\"\")","v":""},{"$f":"IF(ISNUMBER(SEARCH(F$2,'9. Supplies'!$I30))=TRUE,((SUM('9. Supplies'!$F30:$G30))/COUNTA(_xlfn.TEXTSPLIT('9. Supplies'!$I30,\";\"))),\"\")","v":""},{"$f":"IF(ISNUMBER(SEARCH(G$2,'9. Supplies'!$I30))=TRUE,((SUM('9. Supplies'!$F30:$G30))/COUNTA(_xlfn.TEXTSPLIT('9. Supplies'!$I30,\";\"))),\"\")","v":""},{"$f":"IF(ISNUMBER(SEARCH(H$2,'9. Supplies'!$I30))=TRUE,((SUM('9. Supplies'!$F30:$G30))/COUNTA(_xlfn.TEXTSPLIT('9. Supplies'!$I30,\";\"))),\"\")","v":""}]
[{"$f":"IF(ISNUMBER(SEARCH(A$2,'9. Supplies'!$H31))=TRUE,((SUM('9. Supplies'!$F31:$G31))/COUNTA(_xlfn.TEXTSPLIT('9. Supplies'!$H31,\";\"))),\"\")","v":""},{"$f":"IF(ISNUMBER(SEARCH(B$2,'9. Supplies'!$H31))=TRUE,((SUM('9. Supplies'!$F31:$G31))/COUNTA(_xlfn.TEXTSPLIT('9. Supplies'!$H31,\";\"))),\"\")","v":""},{"$f":"IF(ISNUMBER(SEARCH(C$2,'9. Supplies'!$H31))=TRUE,((SUM('9. Supplies'!$F31:$G31))/COUNTA(_xlfn.TEXTSPLIT('9. Supplies'!$H31,\";\"))),\"\")","v":""},null,{"$f":"IF(ISNUMBER(SEARCH(E$2,'9. Supplies'!$I31))=TRUE,((SUM('9. Supplies'!$F31:$G31))/COUNTA(_xlfn.TEXTSPLIT('9. Supplies'!$I31,\";\"))),\"\")","v":""},{"$f":"IF(ISNUMBER(SEARCH(F$2,'9. Supplies'!$I31))=TRUE,((SUM('9. Supplies'!$F31:$G31))/COUNTA(_xlfn.TEXTSPLIT('9. Supplies'!$I31,\";\"))),\"\")","v":""},{"$f":"IF(ISNUMBER(SEARCH(G$2,'9. Supplies'!$I31))=TRUE,((SUM('9. Supplies'!$F31:$G31))/COUNTA(_xlfn.TEXTSPLIT('9. Supplies'!$I31,\";\"))),\"\")","v":""},{"$f":"IF(ISNUMBER(SEARCH(H$2,'9. Supplies'!$I31))=TRUE,((SUM('9. Supplies'!$F31:$G31))/COUNTA(_xlfn.TEXTSPLIT('9. Supplies'!$I31,\";\"))),\"\")","v":""}]
[{"$f":"IF(ISNUMBER(SEARCH(A$2,'9. Supplies'!$H32))=TRUE,((SUM('9. Supplies'!$F32:$G32))/COUNTA(_xlfn.TEXTSPLIT('9. Supplies'!$H32,\";\"))),\"\")","v":""},{"$f":"IF(ISNUMBER(SEARCH(B$2,'9. Supplies'!$H32))=TRUE,((SUM('9. Supplies'!$F32:$G32))/COUNTA(_xlfn.TEXTSPLIT('9. Supplies'!$H32,\";\"))),\"\")","v":""},{"$f":"IF(ISNUMBER(SEARCH(C$2,'9. Supplies'!$H32))=TRUE,((SUM('9. Supplies'!$F32:$G32))/COUNTA(_xlfn.TEXTSPLIT('9. Supplies'!$H32,\";\"))),\"\")","v":""},null,{"$f":"IF(ISNUMBER(SEARCH(E$2,'9. Supplies'!$I32))=TRUE,((SUM('9. Supplies'!$F32:$G32))/COUNTA(_xlfn.TEXTSPLIT('9. Supplies'!$I32,\";\"))),\"\")","v":""},{"$f":"IF(ISNUMBER(SEARCH(F$2,'9. Supplies'!$I32))=TRUE,((SUM('9. Supplies'!$F32:$G32))/COUNTA(_xlfn.TEXTSPLIT('9. Supplies'!$I32,\";\"))),\"\")","v":""},{"$f":"IF(ISNUMBER(SEARCH(G$2,'9. Supplies'!$I32))=TRUE,((SUM('9. Supplies'!$F32:$G32))/COUNTA(_xlfn.TEXTSPLIT('9. Supplies'!$I32,\";\"))),\"\")","v":""},{"$f":"IF(ISNUMBER(SEARCH(H$2,'9. Supplies'!$I32))=TRUE,((SUM('9. Supplies'!$F32:$G32))/COUNTA(_xlfn.TEXTSPLIT('9. Supplies'!$I32,\";\"))),\"\")","v":""}]
[{"$f":"IF(ISNUMBER(SEARCH(A$2,'9. Supplies'!$H33))=TRUE,((SUM('9. Supplies'!$F33:$G33))/COUNTA(_xlfn.TEXTSPLIT('9. Supplies'!$H33,\";\"))),\"\")","v":""},{"$f":"IF(ISNUMBER(SEARCH(B$2,'9. Supplies'!$H33))=TRUE,((SUM('9. Supplies'!$F33:$G33))/COUNTA(_xlfn.TEXTSPLIT('9. Supplies'!$H33,\";\"))),\"\")","v":""},{"$f":"IF(ISNUMBER(SEARCH(C$2,'9. Supplies'!$H33))=TRUE,((SUM('9. Supplies'!$F33:$G33))/COUNTA(_xlfn.TEXTSPLIT('9. Supplies'!$H33,\";\"))),\"\")","v":""},null,{"$f":"IF(ISNUMBER(SEARCH(E$2,'9. Supplies'!$I33))=TRUE,((SUM('9. Supplies'!$F33:$G33))/COUNTA(_xlfn.TEXTSPLIT('9. Supplies'!$I33,\";\"))),\"\")","v":""},{"$f":"IF(ISNUMBER(SEARCH(F$2,'9. Supplies'!$I33))=TRUE,((SUM('9. Supplies'!$F33:$G33))/COUNTA(_xlfn.TEXTSPLIT('9. Supplies'!$I33,\";\"))),\"\")","v":""},{"$f":"IF(ISNUMBER(SEARCH(G$2,'9. Supplies'!$I33))=TRUE,((SUM('9. Supplies'!$F33:$G33))/COUNTA(_xlfn.TEXTSPLIT('9. Supplies'!$I33,\";\"))),\"\")","v":""},{"$f":"IF(ISNUMBER(SEARCH(H$2,'9. Supplies'!$I33))=TRUE,((SUM('9. Supplies'!$F33:$G33))/COUNTA(_xlfn.TEXTSPLIT('9. Supplies'!$I33,\";\"))),\"\")","v":""}]
[{"$f":"IF(ISNUMBER(SEARCH(A$2,'9. Supplies'!$H34))=TRUE,((SUM('9. Supplies'!$F34:$G34))/COUNTA(_xlfn.TEXTSPLIT('9. Supplies'!$H34,\";\"))),\"\")","v":""},{"$f":"IF(ISNUMBER(SEARCH(B$2,'9. Supplies'!$H34))=TRUE,((SUM('9. Supplies'!$F34:$G34))/COUNTA(_xlfn.TEXTSPLIT('9. Supplies'!$H34,\";\"))),\"\")","v":""},{"$f":"IF(ISNUMBER(SEARCH(C$2,'9. Supplies'!$H34))=TRUE,((SUM('9. Supplies'!$F34:$G34))/COUNTA(_xlfn.TEXTSPLIT('9. Supplies'!$H34,\";\"))),\"\")","v":""},null,{"$f":"IF(ISNUMBER(SEARCH(E$2,'9. Supplies'!$I34))=TRUE,((SUM('9. Supplies'!$F34:$G34))/COUNTA(_xlfn.TEXTSPLIT('9. Supplies'!$I34,\";\"))),\"\")","v":""},{"$f":"IF(ISNUMBER(SEARCH(F$2,'9. Supplies'!$I34))=TRUE,((SUM('9. Supplies'!$F34:$G34))/COUNTA(_xlfn.TEXTSPLIT('9. Supplies'!$I34,\";\"))),\"\")","v":""},{"$f":"IF(ISNUMBER(SEARCH(G$2,'9. Supplies'!$I34))=TRUE,((SUM('9. Supplies'!$F34:$G34))/COUNTA(_xlfn.TEXTSPLIT('9. Supplies'!$I34,\";\"))),\"\")","v":""},{"$f":"IF(ISNUMBER(SEARCH(H$2,'9. Supplies'!$I34))=TRUE,((SUM('9. Supplies'!$F34:$G34))/COUNTA(_xlfn.TEXTSPLIT('9. Supplies'!$I34,\";\"))),\"\")","v":""}]
[{"$f":"IF(ISNUMBER(SEARCH(A$2,'9. Supplies'!$H35))=TRUE,((SUM('9. Supplies'!$F35:$G35))/COUNTA(_xlfn.TEXTSPLIT('9. Supplies'!$H35,\";\"))),\"\")","v":""},{"$f":"IF(ISNUMBER(SEARCH(B$2,'9. Supplies'!$H35))=TRUE,((SUM('9. Supplies'!$F35:$G35))/COUNTA(_xlfn.TEXTSPLIT('9. Supplies'!$H35,\";\"))),\"\")","v":""},{"$f":"IF(ISNUMBER(SEARCH(C$2,'9. Supplies'!$H35))=TRUE,((SUM('9. Supplies'!$F35:$G35))/COUNTA(_xlfn.TEXTSPLIT('9. Supplies'!$H35,\";\"))),\"\")","v":""},null,{"$f":"IF(ISNUMBER(SEARCH(E$2,'9. Supplies'!$I35))=TRUE,((SUM('9. Supplies'!$F35:$G35))/COUNTA(_xlfn.TEXTSPLIT('9. Supplies'!$I35,\";\"))),\"\")","v":""},{"$f":"IF(ISNUMBER(SEARCH(F$2,'9. Supplies'!$I35))=TRUE,((SUM('9. Supplies'!$F35:$G35))/COUNTA(_xlfn.TEXTSPLIT('9. Supplies'!$I35,\";\"))),\"\")","v":""},{"$f":"IF(ISNUMBER(SEARCH(G$2,'9. Supplies'!$I35))=TRUE,((SUM('9. Supplies'!$F35:$G35))/COUNTA(_xlfn.TEXTSPLIT('9. Supplies'!$I35,\";\"))),\"\")","v":""},{"$f":"IF(ISNUMBER(SEARCH(H$2,'9. Supplies'!$I35))=TRUE,((SUM('9. Supplies'!$F35:$G35))/COUNTA(_xlfn.TEXTSPLIT('9. Supplies'!$I35,\";\"))),\"\")","v":""}]
[{"$f":"IF(ISNUMBER(SEARCH(A$2,'9. Supplies'!$H36))=TRUE,((SUM('9. Supplies'!$F36:$G36))/COUNTA(_xlfn.TEXTSPLIT('9. Supplies'!$H36,\";\"))),\"\")","v":""},{"$f":"IF(ISNUMBER(SEARCH(B$2,'9. Supplies'!$H36))=TRUE,((SUM('9. Supplies'!$F36:$G36))/COUNTA(_xlfn.TEXTSPLIT('9. Supplies'!$H36,\";\"))),\"\")","v":""},{"$f":"IF(ISNUMBER(SEARCH(C$2,'9. Supplies'!$H36))=TRUE,((SUM('9. Supplies'!$F36:$G36))/COUNTA(_xlfn.TEXTSPLIT('9. Supplies'!$H36,\";\"))),\"\")","v":""},null,{"$f":"IF(ISNUMBER(SEARCH(E$2,'9. Supplies'!$I36))=TRUE,((SUM('9. Supplies'!$F36:$G36))/COUNTA(_xlfn.TEXTSPLIT('9. Supplies'!$I36,\";\"))),\"\")","v":""},{"$f":"IF(ISNUMBER(SEARCH(F$2,'9. Supplies'!$I36))=TRUE,((SUM('9. Supplies'!$F36:$G36))/COUNTA(_xlfn.TEXTSPLIT('9. Supplies'!$I36,\";\"))),\"\")","v":""},{"$f":"IF(ISNUMBER(SEARCH(G$2,'9. Supplies'!$I36))=TRUE,((SUM('9. Supplies'!$F36:$G36))/COUNTA(_xlfn.TEXTSPLIT('9. Supplies'!$I36,\";\"))),\"\")","v":""},{"$f":"IF(ISNUMBER(SEARCH(H$2,'9. Supplies'!$I36))=TRUE,((SUM('9. Supplies'!$F36:$G36))/COUNTA(_xlfn.TEXTSPLIT('9. Supplies'!$I36,\";\"))),\"\")","v":""}]
[{"$f":"IF(ISNUMBER(SEARCH(A$2,'9. Supplies'!$H37))=TRUE,((SUM('9. Supplies'!$F37:$G37))/COUNTA(_xlfn.TEXTSPLIT('9. Supplies'!$H37,\";\"))),\"\")","v":""},{"$f":"IF(ISNUMBER(SEARCH(B$2,'9. Supplies'!$H37))=TRUE,((SUM('9. Supplies'!$F37:$G37))/COUNTA(_xlfn.TEXTSPLIT('9. Supplies'!$H37,\";\"))),\"\")","v":""},{"$f":"IF(ISNUMBER(SEARCH(C$2,'9. Supplies'!$H37))=TRUE,((SUM('9. Supplies'!$F37:$G37))/COUNTA(_xlfn.TEXTSPLIT('9. Supplies'!$H37,\";\"))),\"\")","v":""},null,{"$f":"IF(ISNUMBER(SEARCH(E$2,'9. Supplies'!$I37))=TRUE,((SUM('9. Supplies'!$F37:$G37))/COUNTA(_xlfn.TEXTSPLIT('9. Supplies'!$I37,\";\"))),\"\")","v":""},{"$f":"IF(ISNUMBER(SEARCH(F$2,'9. Supplies'!$I37))=TRUE,((SUM('9. Supplies'!$F37:$G37))/COUNTA(_xlfn.TEXTSPLIT('9. Supplies'!$I37,\";\"))),\"\")","v":""},{"$f":"IF(ISNUMBER(SEARCH(G$2,'9. Supplies'!$I37))=TRUE,((SUM('9. Supplies'!$F37:$G37))/COUNTA(_xlfn.TEXTSPLIT('9. Supplies'!$I37,\";\"))),\"\")","v":""},{"$f":"IF(ISNUMBER(SEARCH(H$2,'9. Supplies'!$I37))=TRUE,((SUM('9. Supplies'!$F37:$G37))/COUNTA(_xlfn.TEXTSPLIT('9. Supplies'!$I37,\";\"))),\"\")","v":""}]
[{"$f":"IF(ISNUMBER(SEARCH(A$2,'9. Supplies'!$H38))=TRUE,((SUM('9. Supplies'!$F38:$G38))/COUNTA(_xlfn.TEXTSPLIT('9. Supplies'!$H38,\";\"))),\"\")","v":""},{"$f":"IF(ISNUMBER(SEARCH(B$2,'9. Supplies'!$H38))=TRUE,((SUM('9. Supplies'!$F38:$G38))/COUNTA(_xlfn.TEXTSPLIT('9. Supplies'!$H38,\";\"))),\"\")","v":""},{"$f":"IF(ISNUMBER(SEARCH(C$2,'9. Supplies'!$H38))=TRUE,((SUM('9. Supplies'!$F38:$G38))/COUNTA(_xlfn.TEXTSPLIT('9. Supplies'!$H38,\";\"))),\"\")","v":""},null,{"$f":"IF(ISNUMBER(SEARCH(E$2,'9. Supplies'!$I38))=TRUE,((SUM('9. Supplies'!$F38:$G38))/COUNTA(_xlfn.TEXTSPLIT('9. Supplies'!$I38,\";\"))),\"\")","v":""},{"$f":"IF(ISNUMBER(SEARCH(F$2,'9. Supplies'!$I38))=TRUE,((SUM('9. Supplies'!$F38:$G38))/COUNTA(_xlfn.TEXTSPLIT('9. Supplies'!$I38,\";\"))),\"\")","v":""},{"$f":"IF(ISNUMBER(SEARCH(G$2,'9. Supplies'!$I38))=TRUE,((SUM('9. Supplies'!$F38:$G38))/COUNTA(_xlfn.TEXTSPLIT('9. Supplies'!$I38,\";\"))),\"\")","v":""},{"$f":"IF(ISNUMBER(SEARCH(H$2,'9. Supplies'!$I38))=TRUE,((SUM('9. Supplies'!$F38:$G38))/COUNTA(_xlfn.TEXTSPLIT('9. Supplies'!$I38,\";\"))),\"\")","v":""}]
[{"$f":"IF(ISNUMBER(SEARCH(A$2,'9. Supplies'!$H39))=TRUE,((SUM('9. Supplies'!$F39:$G39))/COUNTA(_xlfn.TEXTSPLIT('9. Supplies'!$H39,\";\"))),\"\")","v":""},{"$f":"IF(ISNUMBER(SEARCH(B$2,'9. Supplies'!$H39))=TRUE,((SUM('9. Supplies'!$F39:$G39))/COUNTA(_xlfn.TEXTSPLIT('9. Supplies'!$H39,\";\"))),\"\")","v":""},{"$f":"IF(ISNUMBER(SEARCH(C$2,'9. Supplies'!$H39))=TRUE,((SUM('9. Supplies'!$F39:$G39))/COUNTA(_xlfn.TEXTSPLIT('9. Supplies'!$H39,\";\"))),\"\")","v":""},null,{"$f":"IF(ISNUMBER(SEARCH(E$2,'9. Supplies'!$I39))=TRUE,((SUM('9. Supplies'!$F39:$G39))/COUNTA(_xlfn.TEXTSPLIT('9. Supplies'!$I39,\";\"))),\"\")","v":""},{"$f":"IF(ISNUMBER(SEARCH(F$2,'9. Supplies'!$I39))=TRUE,((SUM('9. Supplies'!$F39:$G39))/COUNTA(_xlfn.TEXTSPLIT('9. Supplies'!$I39,\";\"))),\"\")","v":""},{"$f":"IF(ISNUMBER(SEARCH(G$2,'9. Supplies'!$I39))=TRUE,((SUM('9. Supplies'!$F39:$G39))/COUNTA(_xlfn.TEXTSPLIT('9. Supplies'!$I39,\";\"))),\"\")","v":""},{"$f":"IF(ISNUMBER(SEARCH(H$2,'9. Supplies'!$I39))=TRUE,((SUM('9. Supplies'!$F39:$G39))/COUNTA(_xlfn.TEXTSPLIT('9. Supplies'!$I39,\";\"))),\"\")","v":""}]
[{"$f":"IF(ISNUMBER(SEARCH(A$2,'9. Supplies'!$H40))=TRUE,((SUM('9. Supplies'!$F40:$G40))/COUNTA(_xlfn.TEXTSPLIT('9. Supplies'!$H40,\";\"))),\"\")","v":""},{"$f":"IF(ISNUMBER(SEARCH(B$2,'9. Supplies'!$H40))=TRUE,((SUM('9. Supplies'!$F40:$G40))/COUNTA(_xlfn.TEXTSPLIT('9. Supplies'!$H40,\";\"))),\"\")","v":""},{"$f":"IF(ISNUMBER(SEARCH(C$2,'9. Supplies'!$H40))=TRUE,((SUM('9. Supplies'!$F40:$G40))/COUNTA(_xlfn.TEXTSPLIT('9. Supplies'!$H40,\";\"))),\"\")","v":""},null,{"$f":"IF(ISNUMBER(SEARCH(E$2,'9. Supplies'!$I40))=TRUE,((SUM('9. Supplies'!$F40:$G40))/COUNTA(_xlfn.TEXTSPLIT('9. Supplies'!$I40,\";\"))),\"\")","v":""},{"$f":"IF(ISNUMBER(SEARCH(F$2,'9. Supplies'!$I40))=TRUE,((SUM('9. Supplies'!$F40:$G40))/COUNTA(_xlfn.TEXTSPLIT('9. Supplies'!$I40,\";\"))),\"\")","v":""},{"$f":"IF(ISNUMBER(SEARCH(G$2,'9. Supplies'!$I40))=TRUE,((SUM('9. Supplies'!$F40:$G40))/COUNTA(_xlfn.TEXTSPLIT('9. Supplies'!$I40,\";\"))),\"\")","v":""},{"$f":"IF(ISNUMBER(SEARCH(H$2,'9. Supplies'!$I40))=TRUE,((SUM('9. Supplies'!$F40:$G40))/COUNTA(_xlfn.TEXTSPLIT('9. Supplies'!$I40,\";\"))),\"\")","v":""}]
[{"$f":"IF(ISNUMBER(SEARCH(A$2,'9. Supplies'!$H41))=TRUE,((SUM('9. Supplies'!$F41:$G41))/COUNTA(_xlfn.TEXTSPLIT('9. Supplies'!$H41,\";\"))),\"\")","v":""},{"$f":"IF(ISNUMBER(SEARCH(B$2,'9. Supplies'!$H41))=TRUE,((SUM('9. Supplies'!$F41:$G41))/COUNTA(_xlfn.TEXTSPLIT('9. Supplies'!$H41,\";\"))),\"\")","v":""},{"$f":"IF(ISNUMBER(SEARCH(C$2,'9. Supplies'!$H41))=TRUE,((SUM('9. Supplies'!$F41:$G41))/COUNTA(_xlfn.TEXTSPLIT('9. Supplies'!$H41,\";\"))),\"\")","v":""},null,{"$f":"IF(ISNUMBER(SEARCH(E$2,'9. Supplies'!$I41))=TRUE,((SUM('9. Supplies'!$F41:$G41))/COUNTA(_xlfn.TEXTSPLIT('9. Supplies'!$I41,\";\"))),\"\")","v":""},{"$f":"IF(ISNUMBER(SEARCH(F$2,'9. Supplies'!$I41))=TRUE,((SUM('9. Supplies'!$F41:$G41))/COUNTA(_xlfn.TEXTSPLIT('9. Supplies'!$I41,\";\"))),\"\")","v":""},{"$f":"IF(ISNUMBER(SEARCH(G$2,'9. Supplies'!$I41))=TRUE,((SUM('9. Supplies'!$F41:$G41))/COUNTA(_xlfn.TEXTSPLIT('9. Supplies'!$I41,\";\"))),\"\")","v":""},{"$f":"IF(ISNUMBER(SEARCH(H$2,'9. Supplies'!$I41))=TRUE,((SUM('9. Supplies'!$F41:$G41))/COUNTA(_xlfn.TEXTSPLIT('9. Supplies'!$I41,\";\"))),\"\")","v":""}]
[{"$f":"IF(ISNUMBER(SEARCH(A$2,'9. Supplies'!$H42))=TRUE,((SUM('9. Supplies'!$F42:$G42))/COUNTA(_xlfn.TEXTSPLIT('9. Supplies'!$H42,\";\"))),\"\")","v":""},{"$f":"IF(ISNUMBER(SEARCH(B$2,'9. Supplies'!$H42))=TRUE,((SUM('9. Supplies'!$F42:$G42))/COUNTA(_xlfn.TEXTSPLIT('9. Supplies'!$H42,\";\"))),\"\")","v":""},{"$f":"IF(ISNUMBER(SEARCH(C$2,'9. Supplies'!$H42))=TRUE,((SUM('9. Supplies'!$F42:$G42))/COUNTA(_xlfn.TEXTSPLIT('9. Supplies'!$H42,\";\"))),\"\")","v":""},null,{"$f":"IF(ISNUMBER(SEARCH(E$2,'9. Supplies'!$I42))=TRUE,((SUM('9. Supplies'!$F42:$G42))/COUNTA(_xlfn.TEXTSPLIT('9. Supplies'!$I42,\";\"))),\"\")","v":""},{"$f":"IF(ISNUMBER(SEARCH(F$2,'9. Supplies'!$I42))=TRUE,((SUM('9. Supplies'!$F42:$G42))/COUNTA(_xlfn.TEXTSPLIT('9. Supplies'!$I42,\";\"))),\"\")","v":""},{"$f":"IF(ISNUMBER(SEARCH(G$2,'9. Supplies'!$I42))=TRUE,((SUM('9. Supplies'!$F42:$G42))/COUNTA(_xlfn.TEXTSPLIT('9. Supplies'!$I42,\";\"))),\"\")","v":""},{"$f":"IF(ISNUMBER(SEARCH(H$2,'9. Supplies'!$I42))=TRUE,((SUM('9. Supplies'!$F42:$G42))/COUNTA(_xlfn.TEXTSPLIT('9. Supplies'!$I42,\";\"))),\"\")","v":""}]
[{"$f":"IF(ISNUMBER(SEARCH(A$2,'9. Supplies'!$H43))=TRUE,((SUM('9. Supplies'!$F43:$G43))/COUNTA(_xlfn.TEXTSPLIT('9. Supplies'!$H43,\";\"))),\"\")","v":""},{"$f":"IF(ISNUMBER(SEARCH(B$2,'9. Supplies'!$H43))=TRUE,((SUM('9. Supplies'!$F43:$G43))/COUNTA(_xlfn.TEXTSPLIT('9. Supplies'!$H43,\";\"))),\"\")","v":""},{"$f":"IF(ISNUMBER(SEARCH(C$2,'9. Supplies'!$H43))=TRUE,((SUM('9. Supplies'!$F43:$G43))/COUNTA(_xlfn.TEXTSPLIT('9. Supplies'!$H43,\";\"))),\"\")","v":""},null,{"$f":"IF(ISNUMBER(SEARCH(E$2,'9. Supplies'!$I43))=TRUE,((SUM('9. Supplies'!$F43:$G43))/COUNTA(_xlfn.TEXTSPLIT('9. Supplies'!$I43,\";\"))),\"\")","v":""},{"$f":"IF(ISNUMBER(SEARCH(F$2,'9. Supplies'!$I43))=TRUE,((SUM('9. Supplies'!$F43:$G43))/COUNTA(_xlfn.TEXTSPLIT('9. Supplies'!$I43,\";\"))),\"\")","v":""},{"$f":"IF(ISNUMBER(SEARCH(G$2,'9. Supplies'!$I43))=TRUE,((SUM('9. Supplies'!$F43:$G43))/COUNTA(_xlfn.TEXTSPLIT('9. Supplies'!$I43,\";\"))),\"\")","v":""},{"$f":"IF(ISNUMBER(SEARCH(H$2,'9. Supplies'!$I43))=TRUE,((SUM('9. Supplies'!$F43:$G43))/COUNTA(_xlfn.TEXTSPLIT('9. Supplies'!$I43,\";\"))),\"\")","v":""}]
[{"$f":"IF(ISNUMBER(SEARCH(A$2,'9. Supplies'!$H44))=TRUE,((SUM('9. Supplies'!$F44:$G44))/COUNTA(_xlfn.TEXTSPLIT('9. Supplies'!$H44,\";\"))),\"\")","v":""},{"$f":"IF(ISNUMBER(SEARCH(B$2,'9. Supplies'!$H44))=TRUE,((SUM('9. Supplies'!$F44:$G44))/COUNTA(_xlfn.TEXTSPLIT('9. Supplies'!$H44,\";\"))),\"\")","v":""},{"$f":"IF(ISNUMBER(SEARCH(C$2,'9. Supplies'!$H44))=TRUE,((SUM('9. Supplies'!$F44:$G44))/COUNTA(_xlfn.TEXTSPLIT('9. Supplies'!$H44,\";\"))),\"\")","v":""},null,{"$f":"IF(ISNUMBER(SEARCH(E$2,'9. Supplies'!$I44))=TRUE,((SUM('9. Supplies'!$F44:$G44))/COUNTA(_xlfn.TEXTSPLIT('9. Supplies'!$I44,\";\"))),\"\")","v":""},{"$f":"IF(ISNUMBER(SEARCH(F$2,'9. Supplies'!$I44))=TRUE,((SUM('9. Supplies'!$F44:$G44))/COUNTA(_xlfn.TEXTSPLIT('9. Supplies'!$I44,\";\"))),\"\")","v":""},{"$f":"IF(ISNUMBER(SEARCH(G$2,'9. Supplies'!$I44))=TRUE,((SUM('9. Supplies'!$F44:$G44))/COUNTA(_xlfn.TEXTSPLIT('9. Supplies'!$I44,\";\"))),\"\")","v":""},{"$f":"IF(ISNUMBER(SEARCH(H$2,'9. Supplies'!$I44))=TRUE,((SUM('9. Supplies'!$F44:$G44))/COUNTA(_xlfn.TEXTSPLIT('9. Supplies'!$I44,\";\"))),\"\")","v":""}]
[{"$f":"IF(ISNUMBER(SEARCH(A$2,'9. Supplies'!$H45))=TRUE,((SUM('9. Supplies'!$F45:$G45))/COUNTA(_xlfn.TEXTSPLIT('9. Supplies'!$H45,\";\"))),\"\")","v":""},{"$f":"IF(ISNUMBER(SEARCH(B$2,'9. Supplies'!$H45))=TRUE,((SUM('9. Supplies'!$F45:$G45))/COUNTA(_xlfn.TEXTSPLIT('9. Supplies'!$H45,\";\"))),\"\")","v":""},{"$f":"IF(ISNUMBER(SEARCH(C$2,'9. Supplies'!$H45))=TRUE,((SUM('9. Supplies'!$F45:$G45))/COUNTA(_xlfn.TEXTSPLIT('9. Supplies'!$H45,\";\"))),\"\")","v":""},null,{"$f":"IF(ISNUMBER(SEARCH(E$2,'9. Supplies'!$I45))=TRUE,((SUM('9. Supplies'!$F45:$G45))/COUNTA(_xlfn.TEXTSPLIT('9. Supplies'!$I45,\";\"))),\"\")","v":""},{"$f":"IF(ISNUMBER(SEARCH(F$2,'9. Supplies'!$I45))=TRUE,((SUM('9. Supplies'!$F45:$G45))/COUNTA(_xlfn.TEXTSPLIT('9. Supplies'!$I45,\";\"))),\"\")","v":""},{"$f":"IF(ISNUMBER(SEARCH(G$2,'9. Supplies'!$I45))=TRUE,((SUM('9. Supplies'!$F45:$G45))/COUNTA(_xlfn.TEXTSPLIT('9. Supplies'!$I45,\";\"))),\"\")","v":""},{"$f":"IF(ISNUMBER(SEARCH(H$2,'9. Supplies'!$I45))=TRUE,((SUM('9. Supplies'!$F45:$G45))/COUNTA(_xlfn.TEXTSPLIT('9. Supplies'!$I45,\";\"))),\"\")","v":""}]
[{"$f":"IF(ISNUMBER(SEARCH(A$2,'9. Supplies'!$H46))=TRUE,((SUM('9. Supplies'!$F46:$G46))/COUNTA(_xlfn.TEXTSPLIT('9. Supplies'!$H46,\";\"))),\"\")","v":""},{"$f":"IF(ISNUMBER(SEARCH(B$2,'9. Supplies'!$H46))=TRUE,((SUM('9. Supplies'!$F46:$G46))/COUNTA(_xlfn.TEXTSPLIT('9. Supplies'!$H46,\";\"))),\"\")","v":""},{"$f":"IF(ISNUMBER(SEARCH(C$2,'9. Supplies'!$H46))=TRUE,((SUM('9. Supplies'!$F46:$G46))/COUNTA(_xlfn.TEXTSPLIT('9. Supplies'!$H46,\";\"))),\"\")","v":""},null,{"$f":"IF(ISNUMBER(SEARCH(E$2,'9. Supplies'!$I46))=TRUE,((SUM('9. Supplies'!$F46:$G46))/COUNTA(_xlfn.TEXTSPLIT('9. Supplies'!$I46,\";\"))),\"\")","v":""},{"$f":"IF(ISNUMBER(SEARCH(F$2,'9. Supplies'!$I46))=TRUE,((SUM('9. Supplies'!$F46:$G46))/COUNTA(_xlfn.TEXTSPLIT('9. Supplies'!$I46,\";\"))),\"\")","v":""},{"$f":"IF(ISNUMBER(SEARCH(G$2,'9. Supplies'!$I46))=TRUE,((SUM('9. Supplies'!$F46:$G46))/COUNTA(_xlfn.TEXTSPLIT('9. Supplies'!$I46,\";\"))),\"\")","v":""},{"$f":"IF(ISNUMBER(SEARCH(H$2,'9. Supplies'!$I46))=TRUE,((SUM('9. Supplies'!$F46:$G46))/COUNTA(_xlfn.TEXTSPLIT('9. Supplies'!$I46,\";\"))),\"\")","v":""}]
[{"$f":"IF(ISNUMBER(SEARCH(A$2,'9. Supplies'!$H47))=TRUE,((SUM('9. Supplies'!$F47:$G47))/COUNTA(_xlfn.TEXTSPLIT('9. Supplies'!$H47,\";\"))),\"\")","v":""},{"$f":"IF(ISNUMBER(SEARCH(B$2,'9. Supplies'!$H47))=TRUE,((SUM('9. Supplies'!$F47:$G47))/COUNTA(_xlfn.TEXTSPLIT('9. Supplies'!$H47,\";\"))),\"\")","v":""},{"$f":"IF(ISNUMBER(SEARCH(C$2,'9. Supplies'!$H47))=TRUE,((SUM('9. Supplies'!$F47:$G47))/COUNTA(_xlfn.TEXTSPLIT('9. Supplies'!$H47,\";\"))),\"\")","v":""},null,{"$f":"IF(ISNUMBER(SEARCH(E$2,'9. Supplies'!$I47))=TRUE,((SUM('9. Supplies'!$F47:$G47))/COUNTA(_xlfn.TEXTSPLIT('9. Supplies'!$I47,\";\"))),\"\")","v":""},{"$f":"IF(ISNUMBER(SEARCH(F$2,'9. Supplies'!$I47))=TRUE,((SUM('9. Supplies'!$F47:$G47))/COUNTA(_xlfn.TEXTSPLIT('9. Supplies'!$I47,\";\"))),\"\")","v":""},{"$f":"IF(ISNUMBER(SEARCH(G$2,'9. Supplies'!$I47))=TRUE,((SUM('9. Supplies'!$F47:$G47))/COUNTA(_xlfn.TEXTSPLIT('9. Supplies'!$I47,\";\"))),\"\")","v":""},{"$f":"IF(ISNUMBER(SEARCH(H$2,'9. Supplies'!$I47))=TRUE,((SUM('9. Supplies'!$F47:$G47))/COUNTA(_xlfn.TEXTSPLIT('9. Supplies'!$I47,\";\"))),\"\")","v":""}]
[{"$f":"IF(ISNUMBER(SEARCH(A$2,'9. Supplies'!$H48))=TRUE,((SUM('9. Supplies'!$F48:$G48))/COUNTA(_xlfn.TEXTSPLIT('9. Supplies'!$H48,\";\"))),\"\")","v":""},{"$f":"IF(ISNUMBER(SEARCH(B$2,'9. Supplies'!$H48))=TRUE,((SUM('9. Supplies'!$F48:$G48))/COUNTA(_xlfn.TEXTSPLIT('9. Supplies'!$H48,\";\"))),\"\")","v":""},{"$f":"IF(ISNUMBER(SEARCH(C$2,'9. Supplies'!$H48))=TRUE,((SUM('9. Supplies'!$F48:$G48))/COUNTA(_xlfn.TEXTSPLIT('9. Supplies'!$H48,\";\"))),\"\")","v":""},null,{"$f":"IF(ISNUMBER(SEARCH(E$2,'9. Supplies'!$I48))=TRUE,((SUM('9. Supplies'!$F48:$G48))/COUNTA(_xlfn.TEXTSPLIT('9. Supplies'!$I48,\";\"))),\"\")","v":""},{"$f":"IF(ISNUMBER(SEARCH(F$2,'9. Supplies'!$I48))=TRUE,((SUM('9. Supplies'!$F48:$G48))/COUNTA(_xlfn.TEXTSPLIT('9. Supplies'!$I48,\";\"))),\"\")","v":""},{"$f":"IF(ISNUMBER(SEARCH(G$2,'9. Supplies'!$I48))=TRUE,((SUM('9. Supplies'!$F48:$G48))/COUNTA(_xlfn.TEXTSPLIT('9. Supplies'!$I48,\";\"))),\"\")","v":""},{"$f":"IF(ISNUMBER(SEARCH(H$2,'9. Supplies'!$I48))=TRUE,((SUM('9. Supplies'!$F48:$G48))/COUNTA(_xlfn.TEXTSPLIT('9. Supplies'!$I48,\";\"))),\"\")","v":""}]
[{"$f":"IF(ISNUMBER(SEARCH(A$2,'9. Supplies'!$H49))=TRUE,((SUM('9. Supplies'!$F49:$G49))/COUNTA(_xlfn.TEXTSPLIT('9. Supplies'!$H49,\";\"))),\"\")","v":""},{"$f":"IF(ISNUMBER(SEARCH(B$2,'9. Supplies'!$H49))=TRUE,((SUM('9. Supplies'!$F49:$G49))/COUNTA(_xlfn.TEXTSPLIT('9. Supplies'!$H49,\";\"))),\"\")","v":""},{"$f":"IF(ISNUMBER(SEARCH(C$2,'9. Supplies'!$H49))=TRUE,((SUM('9. Supplies'!$F49:$G49))/COUNTA(_xlfn.TEXTSPLIT('9. Supplies'!$H49,\";\"))),\"\")","v":""},null,{"$f":"IF(ISNUMBER(SEARCH(E$2,'9. Supplies'!$I49))=TRUE,((SUM('9. Supplies'!$F49:$G49))/COUNTA(_xlfn.TEXTSPLIT('9. Supplies'!$I49,\";\"))),\"\")","v":""},{"$f":"IF(ISNUMBER(SEARCH(F$2,'9. Supplies'!$I49))=TRUE,((SUM('9. Supplies'!$F49:$G49))/COUNTA(_xlfn.TEXTSPLIT('9. Supplies'!$I49,\";\"))),\"\")","v":""},{"$f":"IF(ISNUMBER(SEARCH(G$2,'9. Supplies'!$I49))=TRUE,((SUM('9. Supplies'!$F49:$G49))/COUNTA(_xlfn.TEXTSPLIT('9. Supplies'!$I49,\";\"))),\"\")","v":""},{"$f":"IF(ISNUMBER(SEARCH(H$2,'9. Supplies'!$I49))=TRUE,((SUM('9. Supplies'!$F49:$G49))/COUNTA(_xlfn.TEXTSPLIT('9. Supplies'!$I49,\";\"))),\"\")","v":""}]
[{"$f":"IF(ISNUMBER(SEARCH(A$2,'9. Supplies'!$H50))=TRUE,((SUM('9. Supplies'!$F50:$G50))/COUNTA(_xlfn.TEXTSPLIT('9. Supplies'!$H50,\";\"))),\"\")","v":""},{"$f":"IF(ISNUMBER(SEARCH(B$2,'9. Supplies'!$H50))=TRUE,((SUM('9. Supplies'!$F50:$G50))/COUNTA(_xlfn.TEXTSPLIT('9. Supplies'!$H50,\";\"))),\"\")","v":""},{"$f":"IF(ISNUMBER(SEARCH(C$2,'9. Supplies'!$H50))=TRUE,((SUM('9. Supplies'!$F50:$G50))/COUNTA(_xlfn.TEXTSPLIT('9. Supplies'!$H50,\";\"))),\"\")","v":""},null,{"$f":"IF(ISNUMBER(SEARCH(E$2,'9. Supplies'!$I50))=TRUE,((SUM('9. Supplies'!$F50:$G50))/COUNTA(_xlfn.TEXTSPLIT('9. Supplies'!$I50,\";\"))),\"\")","v":""},{"$f":"IF(ISNUMBER(SEARCH(F$2,'9. Supplies'!$I50))=TRUE,((SUM('9. Supplies'!$F50:$G50))/COUNTA(_xlfn.TEXTSPLIT('9. Supplies'!$I50,\";\"))),\"\")","v":""},{"$f":"IF(ISNUMBER(SEARCH(G$2,'9. Supplies'!$I50))=TRUE,((SUM('9. Supplies'!$F50:$G50))/COUNTA(_xlfn.TEXTSPLIT('9. Supplies'!$I50,\";\"))),\"\")","v":""},{"$f":"IF(ISNUMBER(SEARCH(H$2,'9. Supplies'!$I50))=TRUE,((SUM('9. Supplies'!$F50:$G50))/COUNTA(_xlfn.TEXTSPLIT('9. Supplies'!$I50,\";\"))),\"\")","v":""}]
[{"$f":"IF(ISNUMBER(SEARCH(A$2,'9. Supplies'!$H51))=TRUE,((SUM('9. Supplies'!$F51:$G51))/COUNTA(_xlfn.TEXTSPLIT('9. Supplies'!$H51,\";\"))),\"\")","v":""},{"$f":"IF(ISNUMBER(SEARCH(B$2,'9. Supplies'!$H51))=TRUE,((SUM('9. Supplies'!$F51:$G51))/COUNTA(_xlfn.TEXTSPLIT('9. Supplies'!$H51,\";\"))),\"\")","v":""},{"$f":"IF(ISNUMBER(SEARCH(C$2,'9. Supplies'!$H51))=TRUE,((SUM('9. Supplies'!$F51:$G51))/COUNTA(_xlfn.TEXTSPLIT('9. Supplies'!$H51,\";\"))),\"\")","v":""},null,{"$f":"IF(ISNUMBER(SEARCH(E$2,'9. Supplies'!$I51))=TRUE,((SUM('9. Supplies'!$F51:$G51))/COUNTA(_xlfn.TEXTSPLIT('9. Supplies'!$I51,\";\"))),\"\")","v":""},{"$f":"IF(ISNUMBER(SEARCH(F$2,'9. Supplies'!$I51))=TRUE,((SUM('9. Supplies'!$F51:$G51))/COUNTA(_xlfn.TEXTSPLIT('9. Supplies'!$I51,\";\"))),\"\")","v":""},{"$f":"IF(ISNUMBER(SEARCH(G$2,'9. Supplies'!$I51))=TRUE,((SUM('9. Supplies'!$F51:$G51))/COUNTA(_xlfn.TEXTSPLIT('9. Supplies'!$I51,\";\"))),\"\")","v":""},{"$f":"IF(ISNUMBER(SEARCH(H$2,'9. Supplies'!$I51))=TRUE,((SUM('9. Supplies'!$F51:$G51))/COUNTA(_xlfn.TEXTSPLIT('9. Supplies'!$I51,\";\"))),\"\")","v":""}]
[{"$f":"IF(ISNUMBER(SEARCH(A$2,'9. Supplies'!$H52))=TRUE,((SUM('9. Supplies'!$F52:$G52))/COUNTA(_xlfn.TEXTSPLIT('9. Supplies'!$H52,\";\"))),\"\")","v":""},{"$f":"IF(ISNUMBER(SEARCH(B$2,'9. Supplies'!$H52))=TRUE,((SUM('9. Supplies'!$F52:$G52))/COUNTA(_xlfn.TEXTSPLIT('9. Supplies'!$H52,\";\"))),\"\")","v":""},{"$f":"IF(ISNUMBER(SEARCH(C$2,'9. Supplies'!$H52))=TRUE,((SUM('9. Supplies'!$F52:$G52))/COUNTA(_xlfn.TEXTSPLIT('9. Supplies'!$H52,\";\"))),\"\")","v":""},null,{"$f":"IF(ISNUMBER(SEARCH(E$2,'9. Supplies'!$I52))=TRUE,((SUM('9. Supplies'!$F52:$G52))/COUNTA(_xlfn.TEXTSPLIT('9. Supplies'!$I52,\";\"))),\"\")","v":""},{"$f":"IF(ISNUMBER(SEARCH(F$2,'9. Supplies'!$I52))=TRUE,((SUM('9. Supplies'!$F52:$G52))/COUNTA(_xlfn.TEXTSPLIT('9. Supplies'!$I52,\";\"))),\"\")","v":""},{"$f":"IF(ISNUMBER(SEARCH(G$2,'9. Supplies'!$I52))=TRUE,((SUM('9. Supplies'!$F52:$G52))/COUNTA(_xlfn.TEXTSPLIT('9. Supplies'!$I52,\";\"))),\"\")","v":""},{"$f":"IF(ISNUMBER(SEARCH(H$2,'9. Supplies'!$I52))=TRUE,((SUM('9. Supplies'!$F52:$G52))/COUNTA(_xlfn.TEXTSPLIT('9. Supplies'!$I52,\";\"))),\"\")","v":""}]
[{"$f":"IF(ISNUMBER(SEARCH(A$2,'9. Supplies'!$H53))=TRUE,((SUM('9. Supplies'!$F53:$G53))/COUNTA(_xlfn.TEXTSPLIT('9. Supplies'!$H53,\";\"))),\"\")","v":""},{"$f":"IF(ISNUMBER(SEARCH(B$2,'9. Supplies'!$H53))=TRUE,((SUM('9. Supplies'!$F53:$G53))/COUNTA(_xlfn.TEXTSPLIT('9. Supplies'!$H53,\";\"))),\"\")","v":""},{"$f":"IF(ISNUMBER(SEARCH(C$2,'9. Supplies'!$H53))=TRUE,((SUM('9. Supplies'!$F53:$G53))/COUNTA(_xlfn.TEXTSPLIT('9. Supplies'!$H53,\";\"))),\"\")","v":""},null,{"$f":"IF(ISNUMBER(SEARCH(E$2,'9. Supplies'!$I53))=TRUE,((SUM('9. Supplies'!$F53:$G53))/COUNTA(_xlfn.TEXTSPLIT('9. Supplies'!$I53,\";\"))),\"\")","v":""},{"$f":"IF(ISNUMBER(SEARCH(F$2,'9. Supplies'!$I53))=TRUE,((SUM('9. Supplies'!$F53:$G53))/COUNTA(_xlfn.TEXTSPLIT('9. Supplies'!$I53,\";\"))),\"\")","v":""},{"$f":"IF(ISNUMBER(SEARCH(G$2,'9. Supplies'!$I53))=TRUE,((SUM('9. Supplies'!$F53:$G53))/COUNTA(_xlfn.TEXTSPLIT('9. Supplies'!$I53,\";\"))),\"\")","v":""},{"$f":"IF(ISNUMBER(SEARCH(H$2,'9. Supplies'!$I53))=TRUE,((SUM('9. Supplies'!$F53:$G53))/COUNTA(_xlfn.TEXTSPLIT('9. Supplies'!$I53,\";\"))),\"\")","v":""}]
[{"$f":"IF(ISNUMBER(SEARCH(A$2,'9. Supplies'!$H54))=TRUE,((SUM('9. Supplies'!$F54:$G54))/COUNTA(_xlfn.TEXTSPLIT('9. Supplies'!$H54,\";\"))),\"\")","v":""},{"$f":"IF(ISNUMBER(SEARCH(B$2,'9. Supplies'!$H54))=TRUE,((SUM('9. Supplies'!$F54:$G54))/COUNTA(_xlfn.TEXTSPLIT('9. Supplies'!$H54,\";\"))),\"\")","v":""},{"$f":"IF(ISNUMBER(SEARCH(C$2,'9. Supplies'!$H54))=TRUE,((SUM('9. Supplies'!$F54:$G54))/COUNTA(_xlfn.TEXTSPLIT('9. Supplies'!$H54,\";\"))),\"\")","v":""},null,{"$f":"IF(ISNUMBER(SEARCH(E$2,'9. Supplies'!$I54))=TRUE,((SUM('9. Supplies'!$F54:$G54))/COUNTA(_xlfn.TEXTSPLIT('9. Supplies'!$I54,\";\"))),\"\")","v":""},{"$f":"IF(ISNUMBER(SEARCH(F$2,'9. Supplies'!$I54))=TRUE,((SUM('9. Supplies'!$F54:$G54))/COUNTA(_xlfn.TEXTSPLIT('9. Supplies'!$I54,\";\"))),\"\")","v":""},{"$f":"IF(ISNUMBER(SEARCH(G$2,'9. Supplies'!$I54))=TRUE,((SUM('9. Supplies'!$F54:$G54))/COUNTA(_xlfn.TEXTSPLIT('9. Supplies'!$I54,\";\"))),\"\")","v":""},{"$f":"IF(ISNUMBER(SEARCH(H$2,'9. Supplies'!$I54))=TRUE,((SUM('9. Supplies'!$F54:$G54))/COUNTA(_xlfn.TEXTSPLIT('9. Supplies'!$I54,\";\"))),\"\")","v":""}]
[{"$f":"IF(ISNUMBER(SEARCH(A$2,'9. Supplies'!$H55))=TRUE,((SUM('9. Supplies'!$F55:$G55))/COUNTA(_xlfn.TEXTSPLIT('9. Supplies'!$H55,\";\"))),\"\")","v":""},{"$f":"IF(ISNUMBER(SEARCH(B$2,'9. Supplies'!$H55))=TRUE,((SUM('9. Supplies'!$F55:$G55))/COUNTA(_xlfn.TEXTSPLIT('9. Supplies'!$H55,\";\"))),\"\")","v":""},{"$f":"IF(ISNUMBER(SEARCH(C$2,'9. Supplies'!$H55))=TRUE,((SUM('9. Supplies'!$F55:$G55))/COUNTA(_xlfn.TEXTSPLIT('9. Supplies'!$H55,\";\"))),\"\")","v":""},null,{"$f":"IF(ISNUMBER(SEARCH(E$2,'9. Supplies'!$I55))=TRUE,((SUM('9. Supplies'!$F55:$G55))/COUNTA(_xlfn.TEXTSPLIT('9. Supplies'!$I55,\";\"))),\"\")","v":""},{"$f":"IF(ISNUMBER(SEARCH(F$2,'9. Supplies'!$I55))=TRUE,((SUM('9. Supplies'!$F55:$G55))/COUNTA(_xlfn.TEXTSPLIT('9. Supplies'!$I55,\";\"))),\"\")","v":""},{"$f":"IF(ISNUMBER(SEARCH(G$2,'9. Supplies'!$I55))=TRUE,((SUM('9. Supplies'!$F55:$G55))/COUNTA(_xlfn.TEXTSPLIT('9. Supplies'!$I55,\";\"))),\"\")","v":""},{"$f":"IF(ISNUMBER(SEARCH(H$2,'9. Supplies'!$I55))=TRUE,((SUM('9. Supplies'!$F55:$G55))/COUNTA(_xlfn.TEXTSPLIT('9. Supplies'!$I55,\";\"))),\"\")","v":""}]
[{"$f":"IF(ISNUMBER(SEARCH(A$2,'9. Supplies'!$H56))=TRUE,((SUM('9. Supplies'!$F56:$G56))/COUNTA(_xlfn.TEXTSPLIT('9. Supplies'!$H56,\";\"))),\"\")","v":""},{"$f":"IF(ISNUMBER(SEARCH(B$2,'9. Supplies'!$H56))=TRUE,((SUM('9. Supplies'!$F56:$G56))/COUNTA(_xlfn.TEXTSPLIT('9. Supplies'!$H56,\";\"))),\"\")","v":""},{"$f":"IF(ISNUMBER(SEARCH(C$2,'9. Supplies'!$H56))=TRUE,((SUM('9. Supplies'!$F56:$G56))/COUNTA(_xlfn.TEXTSPLIT('9. Supplies'!$H56,\";\"))),\"\")","v":""},null,{"$f":"IF(ISNUMBER(SEARCH(E$2,'9. Supplies'!$I56))=TRUE,((SUM('9. Supplies'!$F56:$G56))/COUNTA(_xlfn.TEXTSPLIT('9. Supplies'!$I56,\";\"))),\"\")","v":""},{"$f":"IF(ISNUMBER(SEARCH(F$2,'9. Supplies'!$I56))=TRUE,((SUM('9. Supplies'!$F56:$G56))/COUNTA(_xlfn.TEXTSPLIT('9. Supplies'!$I56,\";\"))),\"\")","v":""},{"$f":"IF(ISNUMBER(SEARCH(G$2,'9. Supplies'!$I56))=TRUE,((SUM('9. Supplies'!$F56:$G56))/COUNTA(_xlfn.TEXTSPLIT('9. Supplies'!$I56,\";\"))),\"\")","v":""},{"$f":"IF(ISNUMBER(SEARCH(H$2,'9. Supplies'!$I56))=TRUE,((SUM('9. Supplies'!$F56:$G56))/COUNTA(_xlfn.TEXTSPLIT('9. Supplies'!$I56,\";\"))),\"\")","v":""}]
[{"$f":"IF(ISNUMBER(SEARCH(A$2,'9. Supplies'!$H57))=TRUE,((SUM('9. Supplies'!$F57:$G57))/COUNTA(_xlfn.TEXTSPLIT('9. Supplies'!$H57,\";\"))),\"\")","v":""},{"$f":"IF(ISNUMBER(SEARCH(B$2,'9. Supplies'!$H57))=TRUE,((SUM('9. Supplies'!$F57:$G57))/COUNTA(_xlfn.TEXTSPLIT('9. Supplies'!$H57,\";\"))),\"\")","v":""},{"$f":"IF(ISNUMBER(SEARCH(C$2,'9. Supplies'!$H57))=TRUE,((SUM('9. Supplies'!$F57:$G57))/COUNTA(_xlfn.TEXTSPLIT('9. Supplies'!$H57,\";\"))),\"\")","v":""},null,{"$f":"IF(ISNUMBER(SEARCH(E$2,'9. Supplies'!$I57))=TRUE,((SUM('9. Supplies'!$F57:$G57))/COUNTA(_xlfn.TEXTSPLIT('9. Supplies'!$I57,\";\"))),\"\")","v":""},{"$f":"IF(ISNUMBER(SEARCH(F$2,'9. Supplies'!$I57))=TRUE,((SUM('9. Supplies'!$F57:$G57))/COUNTA(_xlfn.TEXTSPLIT('9. Supplies'!$I57,\";\"))),\"\")","v":""},{"$f":"IF(ISNUMBER(SEARCH(G$2,'9. Supplies'!$I57))=TRUE,((SUM('9. Supplies'!$F57:$G57))/COUNTA(_xlfn.TEXTSPLIT('9. Supplies'!$I57,\";\"))),\"\")","v":""},{"$f":"IF(ISNUMBER(SEARCH(H$2,'9. Supplies'!$I57))=TRUE,((SUM('9. Supplies'!$F57:$G57))/COUNTA(_xlfn.TEXTSPLIT('9. Supplies'!$I57,\";\"))),\"\")","v":""}]
[{"$f":"IF(ISNUMBER(SEARCH(A$2,'9. Supplies'!$H58))=TRUE,((SUM('9. Supplies'!$F58:$G58))/COUNTA(_xlfn.TEXTSPLIT('9. Supplies'!$H58,\";\"))),\"\")","v":""},{"$f":"IF(ISNUMBER(SEARCH(B$2,'9. Supplies'!$H58))=TRUE,((SUM('9. Supplies'!$F58:$G58))/COUNTA(_xlfn.TEXTSPLIT('9. Supplies'!$H58,\";\"))),\"\")","v":""},{"$f":"IF(ISNUMBER(SEARCH(C$2,'9. Supplies'!$H58))=TRUE,((SUM('9. Supplies'!$F58:$G58))/COUNTA(_xlfn.TEXTSPLIT('9. Supplies'!$H58,\";\"))),\"\")","v":""},null,{"$f":"IF(ISNUMBER(SEARCH(E$2,'9. Supplies'!$I58))=TRUE,((SUM('9. Supplies'!$F58:$G58))/COUNTA(_xlfn.TEXTSPLIT('9. Supplies'!$I58,\";\"))),\"\")","v":""},{"$f":"IF(ISNUMBER(SEARCH(F$2,'9. Supplies'!$I58))=TRUE,((SUM('9. Supplies'!$F58:$G58))/COUNTA(_xlfn.TEXTSPLIT('9. Supplies'!$I58,\";\"))),\"\")","v":""},{"$f":"IF(ISNUMBER(SEARCH(G$2,'9. Supplies'!$I58))=TRUE,((SUM('9. Supplies'!$F58:$G58))/COUNTA(_xlfn.TEXTSPLIT('9. Supplies'!$I58,\";\"))),\"\")","v":""},{"$f":"IF(ISNUMBER(SEARCH(H$2,'9. Supplies'!$I58))=TRUE,((SUM('9. Supplies'!$F58:$G58))/COUNTA(_xlfn.TEXTSPLIT('9. Supplies'!$I58,\";\"))),\"\")","v":""}]
[]
["Travel (Tab 10A + 10B)- Allocation by Strategy",{"$nulls":3},"Travel (Tab 10A + 10B)- Allocation by Topic"]
["Data and Surveillance","Collaborations and Partnerships","Assessment and Evaluation",null,"Adverse Childhood Experiences (ACEs)","Transportation Safety","Traumatic Brain Injury","Other Topic (please specify in comments)"]
[{"$f":"IF(ISNUMBER(SEARCH(A$2,'10a. Travel (Local)'!$J6))=TRUE,('10a. Travel (Local)'!$L6/COUNTA(_xlfn.TEXTSPLIT('10a. Travel (Local)'!$J6,\";\"))),0)+IF(ISNUMBER(SEARCH(A$2,'10b. Travel (Non-Local)'!$G6))=TRUE,(SUM('10b. Travel (Non-Local)'!$E6:$F6)/COUNTA(_xlfn.TEXTSPLIT('10b. Travel (Non-Local)'!$G6,\";\"))),0)","v":0},{"$f":"IF(ISNUMBER(SEARCH(B$2,'10a. Travel (Local)'!$J6))=TRUE,('10a. Travel (Local)'!$L6/COUNTA(_xlfn.TEXTSPLIT('10a. Travel (Local)'!$J6,\";\"))),0)+IF(ISNUMBER(SEARCH(B$2,'10b. Travel (Non-Local)'!$G6))=TRUE,(SUM('10b. Travel (Non-Local)'!$E6:$F6)/COUNTA(_xlfn.TEXTSPLIT('10b. Travel (Non-Local)'!$G6,\";\"))),0)","v":0},{"$f":"IF(ISNUMBER(SEARCH(C$2,'10a. Travel (Local)'!$J6))=TRUE,('10a. Travel (Local)'!$L6/COUNTA(_xlfn.TEXTSPLIT('10a. Travel (Local)'!$J6,\";\"))),0)+IF(ISNUMBER(SEARCH(C$2,'10b. Travel (Non-Local)'!$G6))=TRUE,(SUM('10b. Travel (Non-Local)'!$E6:$F6)/COUNTA(_xlfn.TEXTSPLIT('10b. Travel (Non-Local)'!$G6,\";\"))),0)","v":0},null,{"$f":"IF(ISNUMBER(SEARCH(E$2,'10a. Travel (Local)'!$K6))=TRUE,('10a. Travel (Local)'!$L6/COUNTA(_xlfn.TEXTSPLIT('10a. Travel (Local)'!$K6,\";\"))),0)+IF(ISNUMBER(SEARCH(E$2,'10b. Travel (Non-Local)'!$H6))=TRUE,(SUM('10b. Travel (Non-Local)'!$E6:$F6)/COUNTA(_xlfn.TEXTSPLIT('10b. Travel (Non-Local)'!$H6,\";\"))),0)","v":0},{"$f":"IF(ISNUMBER(SEARCH(F$2,'10a. Travel (Local)'!$K6))=TRUE,('10a. Travel (Local)'!$L6/COUNTA(_xlfn.TEXTSPLIT('10a. Travel (Local)'!$K6,\";\"))),0)+IF(ISNUMBER(SEARCH(F$2,'10b. Travel (Non-Local)'!$H6))=TRUE,(SUM('10b. Travel (Non-Local)'!$E6:$F6)/COUNTA(_xlfn.TEXTSPLIT('10b. Travel (Non-Local)'!$H6,\";\"))),0)","v":0},{"$f":"IF(ISNUMBER(SEARCH(G$2,'10a. Travel (Local)'!$K6))=TRUE,('10a. Travel (Local)'!$L6/COUNTA(_xlfn.TEXTSPLIT('10a. Travel (Local)'!$K6,\";\"))),0)+IF(ISNUMBER(SEARCH(G$2,'10b. Travel (Non-Local)'!$H6))=TRUE,(SUM('10b. Travel (Non-Local)'!$E6:$F6)/COUNTA(_xlfn.TEXTSPLIT('10b. Travel (Non-Local)'!$H6,\";\"))),0)","v":0},{"$f":"IF(ISNUMBER(SEARCH(H$2,'10a. Travel (Local)'!$K6))=TRUE,('10a. Travel (Local)'!$L6/COUNTA(_xlfn.TEXTSPLIT('10a. Travel (Local)'!$K6,\";\"))),0)+IF(ISNUMBER(SEARCH(H$2,'10b. Travel (Non-Local)'!$H6))=TRUE,(SUM('10b. Travel (Non-Local)'!$E6:$F6)/COUNTA(_xlfn.TEXTSPLIT('10b. Travel (Non-Local)'!$H6,\";\"))),0)","v":0}]
[{"$f":"IF(ISNUMBER(SEARCH(A$2,'10a. Travel (Local)'!$J7))=TRUE,('10a. Travel (Local)'!$L7/COUNTA(_xlfn.TEXTSPLIT('10a. Travel (Local)'!$J7,\";\"))),0)+IF(ISNUMBER(SEARCH(A$2,'10b. Travel (Non-Local)'!$G7))=TRUE,(SUM('10b. Travel (Non-Local)'!$E7:$F7)/COUNTA(_xlfn.TEXTSPLIT('10b. Travel (Non-Local)'!$G7,\";\"))),0)","v":0},{"$f":"IF(ISNUMBER(SEARCH(B$2,'10a. Travel (Local)'!$J7))=TRUE,('10a. Travel (Local)'!$L7/COUNTA(_xlfn.TEXTSPLIT('10a. Travel (Local)'!$J7,\";\"))),0)+IF(ISNUMBER(SEARCH(B$2,'10b. Travel (Non-Local)'!$G7))=TRUE,(SUM('10b. Travel (Non-Local)'!$E7:$F7)/COUNTA(_xlfn.TEXTSPLIT('10b. Travel (Non-Local)'!$G7,\";\"))),0)","v":0},{"$f":"IF(ISNUMBER(SEARCH(C$2,'10a. Travel (Local)'!$J7))=TRUE,('10a. Travel (Local)'!$L7/COUNTA(_xlfn.TEXTSPLIT('10a. Travel (Local)'!$J7,\";\"))),0)+IF(ISNUMBER(SEARCH(C$2,'10b. Travel (Non-Local)'!$G7))=TRUE,(SUM('10b. Travel (Non-Local)'!$E7:$F7)/COUNTA(_xlfn.TEXTSPLIT('10b. Travel (Non-Local)'!$G7,\";\"))),0)","v":0},null,{"$f":"IF(ISNUMBER(SEARCH(E$2,'10a. Travel (Local)'!$K7))=TRUE,('10a. Travel (Local)'!$L7/COUNTA(_xlfn.TEXTSPLIT('10a. Travel (Local)'!$K7,\";\"))),0)+IF(ISNUMBER(SEARCH(E$2,'10b. Travel (Non-Local)'!$H7))=TRUE,(SUM('10b. Travel (Non-Local)'!$E7:$F7)/COUNTA(_xlfn.TEXTSPLIT('10b. Travel (Non-Local)'!$H7,\";\"))),0)","v":0},{"$f":"IF(ISNUMBER(SEARCH(F$2,'10a. Travel (Local)'!$K7))=TRUE,('10a. Travel (Local)'!$L7/COUNTA(_xlfn.TEXTSPLIT('10a. Travel (Local)'!$K7,\";\"))),0)+IF(ISNUMBER(SEARCH(F$2,'10b. Travel (Non-Local)'!$H7))=TRUE,(SUM('10b. Travel (Non-Local)'!$E7:$F7)/COUNTA(_xlfn.TEXTSPLIT('10b. Travel (Non-Local)'!$H7,\";\"))),0)","v":0},{"$f":"IF(ISNUMBER(SEARCH(G$2,'10a. Travel (Local)'!$K7))=TRUE,('10a. Travel (Local)'!$L7/COUNTA(_xlfn.TEXTSPLIT('10a. Travel (Local)'!$K7,\";\"))),0)+IF(ISNUMBER(SEARCH(G$2,'10b. Travel (Non-Local)'!$H7))=TRUE,(SUM('10b. Travel (Non-Local)'!$E7:$F7)/COUNTA(_xlfn.TEXTSPLIT('10b. Travel (Non-Local)'!$H7,\";\"))),0)","v":0},{"$f":"IF(ISNUMBER(SEARCH(H$2,'10a. Travel (Local)'!$K7))=TRUE,('10a. Travel (Local)'!$L7/COUNTA(_xlfn.TEXTSPLIT('10a. Travel (Local)'!$K7,\";\"))),0)+IF(ISNUMBER(SEARCH(H$2,'10b. Travel (Non-Local)'!$H7))=TRUE,(SUM('10b. Travel (Non-Local)'!$E7:$F7)/COUNTA(_xlfn.TEXTSPLIT('10b. Travel (Non-Local)'!$H7,\";\"))),0)","v":0}]
[{"$f":"IF(ISNUMBER(SEARCH(A$2,'10a. Travel (Local)'!$J8))=TRUE,('10a. Travel (Local)'!$L8/COUNTA(_xlfn.TEXTSPLIT('10a. Travel (Local)'!$J8,\";\"))),0)+IF(ISNUMBER(SEARCH(A$2,'10b. Travel (Non-Local)'!$G8))=TRUE,(SUM('10b. Travel (Non-Local)'!$E8:$F8)/COUNTA(_xlfn.TEXTSPLIT('10b. Travel (Non-Local)'!$G8,\";\"))),0)","v":0},{"$f":"IF(ISNUMBER(SEARCH(B$2,'10a. Travel (Local)'!$J8))=TRUE,('10a. Travel (Local)'!$L8/COUNTA(_xlfn.TEXTSPLIT('10a. Travel (Local)'!$J8,\";\"))),0)+IF(ISNUMBER(SEARCH(B$2,'10b. Travel (Non-Local)'!$G8))=TRUE,(SUM('10b. Travel (Non-Local)'!$E8:$F8)/COUNTA(_xlfn.TEXTSPLIT('10b. Travel (Non-Local)'!$G8,\";\"))),0)","v":0},{"$f":"IF(ISNUMBER(SEARCH(C$2,'10a. Travel (Local)'!$J8))=TRUE,('10a. Travel (Local)'!$L8/COUNTA(_xlfn.TEXTSPLIT('10a. Travel (Local)'!$J8,\";\"))),0)+IF(ISNUMBER(SEARCH(C$2,'10b. Travel (Non-Local)'!$G8))=TRUE,(SUM('10b. Travel (Non-Local)'!$E8:$F8)/COUNTA(_xlfn.TEXTSPLIT('10b. Travel (Non-Local)'!$G8,\";\"))),0)","v":0},null,{"$f":"IF(ISNUMBER(SEARCH(E$2,'10a. Travel (Local)'!$K8))=TRUE,('10a. Travel (Local)'!$L8/COUNTA(_xlfn.TEXTSPLIT('10a. Travel (Local)'!$K8,\";\"))),0)+IF(ISNUMBER(SEARCH(E$2,'10b. Travel (Non-Local)'!$H8))=TRUE,(SUM('10b. Travel (Non-Local)'!$E8:$F8)/COUNTA(_xlfn.TEXTSPLIT('10b. Travel (Non-Local)'!$H8,\";\"))),0)","v":0},{"$f":"IF(ISNUMBER(SEARCH(F$2,'10a. Travel (Local)'!$K8))=TRUE,('10a. Travel (Local)'!$L8/COUNTA(_xlfn.TEXTSPLIT('10a. Travel (Local)'!$K8,\";\"))),0)+IF(ISNUMBER(SEARCH(F$2,'10b. Travel (Non-Local)'!$H8))=TRUE,(SUM('10b. Travel (Non-Local)'!$E8:$F8)/COUNTA(_xlfn.TEXTSPLIT('10b. Travel (Non-Local)'!$H8,\";\"))),0)","v":0},{"$f":"IF(ISNUMBER(SEARCH(G$2,'10a. Travel (Local)'!$K8))=TRUE,('10a. Travel (Local)'!$L8/COUNTA(_xlfn.TEXTSPLIT('10a. Travel (Local)'!$K8,\";\"))),0)+IF(ISNUMBER(SEARCH(G$2,'10b. Travel (Non-Local)'!$H8))=TRUE,(SUM('10b. Travel (Non-Local)'!$E8:$F8)/COUNTA(_xlfn.TEXTSPLIT('10b. Travel (Non-Local)'!$H8,\";\"))),0)","v":0},{"$f":"IF(ISNUMBER(SEARCH(H$2,'10a. Travel (Local)'!$K8))=TRUE,('10a. Travel (Local)'!$L8/COUNTA(_xlfn.TEXTSPLIT('10a. Travel (Local)'!$K8,\";\"))),0)+IF(ISNUMBER(SEARCH(H$2,'10b. Travel (Non-Local)'!$H8))=TRUE,(SUM('10b. Travel (Non-Local)'!$E8:$F8)/COUNTA(_xlfn.TEXTSPLIT('10b. Travel (Non-Local)'!$H8,\";\"))),0)","v":0}]
[{"$f":"IF(ISNUMBER(SEARCH(A$2,'10a. Travel (Local)'!$J9))=TRUE,('10a. Travel (Local)'!$L9/COUNTA(_xlfn.TEXTSPLIT('10a. Travel (Local)'!$J9,\";\"))),0)+IF(ISNUMBER(SEARCH(A$2,'10b. Travel (Non-Local)'!$G9))=TRUE,(SUM('10b. Travel (Non-Local)'!$E9:$F9)/COUNTA(_xlfn.TEXTSPLIT('10b. Travel (Non-Local)'!$G9,\";\"))),0)","v":0},{"$f":"IF(ISNUMBER(SEARCH(B$2,'10a. Travel (Local)'!$J9))=TRUE,('10a. Travel (Local)'!$L9/COUNTA(_xlfn.TEXTSPLIT('10a. Travel (Local)'!$J9,\";\"))),0)+IF(ISNUMBER(SEARCH(B$2,'10b. Travel (Non-Local)'!$G9))=TRUE,(SUM('10b. Travel (Non-Local)'!$E9:$F9)/COUNTA(_xlfn.TEXTSPLIT('10b. Travel (Non-Local)'!$G9,\";\"))),0)","v":0},{"$f":"IF(ISNUMBER(SEARCH(C$2,'10a. Travel (Local)'!$J9))=TRUE,('10a. Travel (Local)'!$L9/COUNTA(_xlfn.TEXTSPLIT('10a. Travel (Local)'!$J9,\";\"))),0)+IF(ISNUMBER(SEARCH(C$2,'10b. Travel (Non-Local)'!$G9))=TRUE,(SUM('10b. Travel (Non-Local)'!$E9:$F9)/COUNTA(_xlfn.TEXTSPLIT('10b. Travel (Non-Local)'!$G9,\";\"))),0)","v":0},null,{"$f":"IF(ISNUMBER(SEARCH(E$2,'10a. Travel (Local)'!$K9))=TRUE,('10a. Travel (Local)'!$L9/COUNTA(_xlfn.TEXTSPLIT('10a. Travel (Local)'!$K9,\";\"))),0)+IF(ISNUMBER(SEARCH(E$2,'10b. Travel (Non-Local)'!$H9))=TRUE,(SUM('10b. Travel (Non-Local)'!$E9:$F9)/COUNTA(_xlfn.TEXTSPLIT('10b. Travel (Non-Local)'!$H9,\";\"))),0)","v":0},{"$f":"IF(ISNUMBER(SEARCH(F$2,'10a. Travel (Local)'!$K9))=TRUE,('10a. Travel (Local)'!$L9/COUNTA(_xlfn.TEXTSPLIT('10a. Travel (Local)'!$K9,\";\"))),0)+IF(ISNUMBER(SEARCH(F$2,'10b. Travel (Non-Local)'!$H9))=TRUE,(SUM('10b. Travel (Non-Local)'!$E9:$F9)/COUNTA(_xlfn.TEXTSPLIT('10b. Travel (Non-Local)'!$H9,\";\"))),0)","v":0},{"$f":"IF(ISNUMBER(SEARCH(G$2,'10a. Travel (Local)'!$K9))=TRUE,('10a. Travel (Local)'!$L9/COUNTA(_xlfn.TEXTSPLIT('10a. Travel (Local)'!$K9,\";\"))),0)+IF(ISNUMBER(SEARCH(G$2,'10b. Travel (Non-Local)'!$H9))=TRUE,(SUM('10b. Travel (Non-Local)'!$E9:$F9)/COUNTA(_xlfn.TEXTSPLIT('10b. Travel (Non-Local)'!$H9,\";\"))),0)","v":0},{"$f":"IF(ISNUMBER(SEARCH(H$2,'10a. Travel (Local)'!$K9))=TRUE,('10a. Travel (Local)'!$L9/COUNTA(_xlfn.TEXTSPLIT('10a. Travel (Local)'!$K9,\";\"))),0)+IF(ISNUMBER(SEARCH(H$2,'10b. Travel (Non-Local)'!$H9))=TRUE,(SUM('10b. Travel (Non-Local)'!$E9:$F9)/COUNTA(_xlfn.TEXTSPLIT('10b. Travel (Non-Local)'!$H9,\";\"))),0)","v":0}]
[{"$f":"IF(ISNUMBER(SEARCH(A$2,'10a. Travel (Local)'!$J10))=TRUE,('10a. Travel (Local)'!$L10/COUNTA(_xlfn.TEXTSPLIT('10a. Travel (Local)'!$J10,\";\"))),0)+IF(ISNUMBER(SEARCH(A$2,'10b. Travel (Non-Local)'!$G10))=TRUE,(SUM('10b. Travel (Non-Local)'!$E10:$F10)/COUNTA(_xlfn.TEXTSPLIT('10b. Travel (Non-Local)'!$G10,\";\"))),0)","v":0},{"$f":"IF(ISNUMBER(SEARCH(B$2,'10a. Travel (Local)'!$J10))=TRUE,('10a. Travel (Local)'!$L10/COUNTA(_xlfn.TEXTSPLIT('10a. Travel (Local)'!$J10,\";\"))),0)+IF(ISNUMBER(SEARCH(B$2,'10b. Travel (Non-Local)'!$G10))=TRUE,(SUM('10b. Travel (Non-Local)'!$E10:$F10)/COUNTA(_xlfn.TEXTSPLIT('10b. Travel (Non-Local)'!$G10,\";\"))),0)","v":0},{"$f":"IF(ISNUMBER(SEARCH(C$2,'10a. Travel (Local)'!$J10))=TRUE,('10a. Travel (Local)'!$L10/COUNTA(_xlfn.TEXTSPLIT('10a. Travel (Local)'!$J10,\";\"))),0)+IF(ISNUMBER(SEARCH(C$2,'10b. Travel (Non-Local)'!$G10))=TRUE,(SUM('10b. Travel (Non-Local)'!$E10:$F10)/COUNTA(_xlfn.TEXTSPLIT('10b. Travel (Non-Local)'!$G10,\";\"))),0)","v":0},null,{"$f":"IF(ISNUMBER(SEARCH(E$2,'10a. Travel (Local)'!$K10))=TRUE,('10a. Travel (Local)'!$L10/COUNTA(_xlfn.TEXTSPLIT('10a. Travel (Local)'!$K10,\";\"))),0)+IF(ISNUMBER(SEARCH(E$2,'10b. Travel (Non-Local)'!$H10))=TRUE,(SUM('10b. Travel (Non-Local)'!$E10:$F10)/COUNTA(_xlfn.TEXTSPLIT('10b. Travel (Non-Local)'!$H10,\";\"))),0)","v":0},{"$f":"IF(ISNUMBER(SEARCH(F$2,'10a. Travel (Local)'!$K10))=TRUE,('10a. Travel (Local)'!$L10/COUNTA(_xlfn.TEXTSPLIT('10a. Travel (Local)'!$K10,\";\"))),0)+IF(ISNUMBER(SEARCH(F$2,'10b. Travel (Non-Local)'!$H10))=TRUE,(SUM('10b. Travel (Non-Local)'!$E10:$F10)/COUNTA(_xlfn.TEXTSPLIT('10b. Travel (Non-Local)'!$H10,\";\"))),0)","v":0},{"$f":"IF(ISNUMBER(SEARCH(G$2,'10a. Travel (Local)'!$K10))=TRUE,('10a. Travel (Local)'!$L10/COUNTA(_xlfn.TEXTSPLIT('10a. Travel (Local)'!$K10,\";\"))),0)+IF(ISNUMBER(SEARCH(G$2,'10b. Travel (Non-Local)'!$H10))=TRUE,(SUM('10b. Travel (Non-Local)'!$E10:$F10)/COUNTA(_xlfn.TEXTSPLIT('10b. Travel (Non-Local)'!$H10,\";\"))),0)","v":0},{"$f":"IF(ISNUMBER(SEARCH(H$2,'10a. Travel (Local)'!$K10))=TRUE,('10a. Travel (Local)'!$L10/COUNTA(_xlfn.TEXTSPLIT('10a. Travel (Local)'!$K10,\";\"))),0)+IF(ISNUMBER(SEARCH(H$2,'10b. Travel (Non-Local)'!$H10))=TRUE,(SUM('10b. Travel (Non-Local)'!$E10:$F10)/COUNTA(_xlfn.TEXTSPLIT('10b. Travel (Non-Local)'!$H10,\";\"))),0)","v":0}]
[{"$f":"IF(ISNUMBER(SEARCH(A$2,'10a. Travel (Local)'!$J11))=TRUE,('10a. Travel (Local)'!$L11/COUNTA(_xlfn.TEXTSPLIT('10a. Travel (Local)'!$J11,\";\"))),0)+IF(ISNUMBER(SEARCH(A$2,'10b. Travel (Non-Local)'!$G11))=TRUE,(SUM('10b. Travel (Non-Local)'!$E11:$F11)/COUNTA(_xlfn.TEXTSPLIT('10b. Travel (Non-Local)'!$G11,\";\"))),0)","v":0},{"$f":"IF(ISNUMBER(SEARCH(B$2,'10a. Travel (Local)'!$J11))=TRUE,('10a. Travel (Local)'!$L11/COUNTA(_xlfn.TEXTSPLIT('10a. Travel (Local)'!$J11,\";\"))),0)+IF(ISNUMBER(SEARCH(B$2,'10b. Travel (Non-Local)'!$G11))=TRUE,(SUM('10b. Travel (Non-Local)'!$E11:$F11)/COUNTA(_xlfn.TEXTSPLIT('10b. Travel (Non-Local)'!$G11,\";\"))),0)","v":0},{"$f":"IF(ISNUMBER(SEARCH(C$2,'10a. Travel (Local)'!$J11))=TRUE,('10a. Travel (Local)'!$L11/COUNTA(_xlfn.TEXTSPLIT('10a. Travel (Local)'!$J11,\";\"))),0)+IF(ISNUMBER(SEARCH(C$2,'10b. Travel (Non-Local)'!$G11))=TRUE,(SUM('10b. Travel (Non-Local)'!$E11:$F11)/COUNTA(_xlfn.TEXTSPLIT('10b. Travel (Non-Local)'!$G11,\";\"))),0)","v":0},null,{"$f":"IF(ISNUMBER(SEARCH(E$2,'10a. Travel (Local)'!$K11))=TRUE,('10a. Travel (Local)'!$L11/COUNTA(_xlfn.TEXTSPLIT('10a. Travel (Local)'!$K11,\";\"))),0)+IF(ISNUMBER(SEARCH(E$2,'10b. Travel (Non-Local)'!$H11))=TRUE,(SUM('10b. Travel (Non-Local)'!$E11:$F11)/COUNTA(_xlfn.TEXTSPLIT('10b. Travel (Non-Local)'!$H11,\";\"))),0)","v":0},{"$f":"IF(ISNUMBER(SEARCH(F$2,'10a. Travel (Local)'!$K11))=TRUE,('10a. Travel (Local)'!$L11/COUNTA(_xlfn.TEXTSPLIT('10a. Travel (Local)'!$K11,\";\"))),0)+IF(ISNUMBER(SEARCH(F$2,'10b. Travel (Non-Local)'!$H11))=TRUE,(SUM('10b. Travel (Non-Local)'!$E11:$F11)/COUNTA(_xlfn.TEXTSPLIT('10b. Travel (Non-Local)'!$H11,\";\"))),0)","v":0},{"$f":"IF(ISNUMBER(SEARCH(G$2,'10a. Travel (Local)'!$K11))=TRUE,('10a. Travel (Local)'!$L11/COUNTA(_xlfn.TEXTSPLIT('10a. Travel (Local)'!$K11,\";\"))),0)+IF(ISNUMBER(SEARCH(G$2,'10b. Travel (Non-Local)'!$H11))=TRUE,(SUM('10b. Travel (Non-Local)'!$E11:$F11)/COUNTA(_xlfn.TEXTSPLIT('10b. Travel (Non-Local)'!$H11,\";\"))),0)","v":0},{"$f":"IF(ISNUMBER(SEARCH(H$2,'10a. Travel (Local)'!$K11))=TRUE,('10a. Travel (Local)'!$L11/COUNTA(_xlfn.TEXTSPLIT('10a. Travel (Local)'!$K11,\";\"))),0)+IF(ISNUMBER(SEARCH(H$2,'10b. Travel (Non-Local)'!$H11))=TRUE,(SUM('10b. Travel (Non-Local)'!$E11:$F11)/COUNTA(_xlfn.TEXTSPLIT('10b. Travel (Non-Local)'!$H11,\";\"))),0)","v":0}]
[{"$f":"IF(ISNUMBER(SEARCH(A$2,'10a. Travel (Local)'!$J12))=TRUE,('10a. Travel (Local)'!$L12/COUNTA(_xlfn.TEXTSPLIT('10a. Travel (Local)'!$J12,\";\"))),0)+IF(ISNUMBER(SEARCH(A$2,'10b. Travel (Non-Local)'!$G12))=TRUE,(SUM('10b. Travel (Non-Local)'!$E12:$F12)/COUNTA(_xlfn.TEXTSPLIT('10b. Travel (Non-Local)'!$G12,\";\"))),0)","v":0},{"$f":"IF(ISNUMBER(SEARCH(B$2,'10a. Travel (Local)'!$J12))=TRUE,('10a. Travel (Local)'!$L12/COUNTA(_xlfn.TEXTSPLIT('10a. Travel (Local)'!$J12,\";\"))),0)+IF(ISNUMBER(SEARCH(B$2,'10b. Travel (Non-Local)'!$G12))=TRUE,(SUM('10b. Travel (Non-Local)'!$E12:$F12)/COUNTA(_xlfn.TEXTSPLIT('10b. Travel (Non-Local)'!$G12,\";\"))),0)","v":0},{"$f":"IF(ISNUMBER(SEARCH(C$2,'10a. Travel (Local)'!$J12))=TRUE,('10a. Travel (Local)'!$L12/COUNTA(_xlfn.TEXTSPLIT('10a. Travel (Local)'!$J12,\";\"))),0)+IF(ISNUMBER(SEARCH(C$2,'10b. Travel (Non-Local)'!$G12))=TRUE,(SUM('10b. Travel (Non-Local)'!$E12:$F12)/COUNTA(_xlfn.TEXTSPLIT('10b. Travel (Non-Local)'!$G12,\";\"))),0)","v":0},null,{"$f":"IF(ISNUMBER(SEARCH(E$2,'10a. Travel (Local)'!$K12))=TRUE,('10a. Travel (Local)'!$L12/COUNTA(_xlfn.TEXTSPLIT('10a. Travel (Local)'!$K12,\";\"))),0)+IF(ISNUMBER(SEARCH(E$2,'10b. Travel (Non-Local)'!$H12))=TRUE,(SUM('10b. Travel (Non-Local)'!$E12:$F12)/COUNTA(_xlfn.TEXTSPLIT('10b. Travel (Non-Local)'!$H12,\";\"))),0)","v":0},{"$f":"IF(ISNUMBER(SEARCH(F$2,'10a. Travel (Local)'!$K12))=TRUE,('10a. Travel (Local)'!$L12/COUNTA(_xlfn.TEXTSPLIT('10a. Travel (Local)'!$K12,\";\"))),0)+IF(ISNUMBER(SEARCH(F$2,'10b. Travel (Non-Local)'!$H12))=TRUE,(SUM('10b. Travel (Non-Local)'!$E12:$F12)/COUNTA(_xlfn.TEXTSPLIT('10b. Travel (Non-Local)'!$H12,\";\"))),0)","v":0},{"$f":"IF(ISNUMBER(SEARCH(G$2,'10a. Travel (Local)'!$K12))=TRUE,('10a. Travel (Local)'!$L12/COUNTA(_xlfn.TEXTSPLIT('10a. Travel (Local)'!$K12,\";\"))),0)+IF(ISNUMBER(SEARCH(G$2,'10b. Travel (Non-Local)'!$H12))=TRUE,(SUM('10b. Travel (Non-Local)'!$E12:$F12)/COUNTA(_xlfn.TEXTSPLIT('10b. Travel (Non-Local)'!$H12,\";\"))),0)","v":0},{"$f":"IF(ISNUMBER(SEARCH(H$2,'10a. Travel (Local)'!$K12))=TRUE,('10a. Travel (Local)'!$L12/COUNTA(_xlfn.TEXTSPLIT('10a. Travel (Local)'!$K12,\";\"))),0)+IF(ISNUMBER(SEARCH(H$2,'10b. Travel (Non-Local)'!$H12))=TRUE,(SUM('10b. Travel (Non-Local)'!$E12:$F12)/COUNTA(_xlfn.TEXTSPLIT('10b. Travel (Non-Local)'!$H12,\";\"))),0)","v":0}]
[{"$f":"IF(ISNUMBER(SEARCH(A$2,'10a. Travel (Local)'!$J13))=TRUE,('10a. Travel (Local)'!$L13/COUNTA(_xlfn.TEXTSPLIT('10a. Travel (Local)'!$J13,\";\"))),0)+IF(ISNUMBER(SEARCH(A$2,'10b. Travel (Non-Local)'!$G13))=TRUE,(SUM('10b. Travel (Non-Local)'!$E13:$F13)/COUNTA(_xlfn.TEXTSPLIT('10b. Travel (Non-Local)'!$G13,\";\"))),0)","v":0},{"$f":"IF(ISNUMBER(SEARCH(B$2,'10a. Travel (Local)'!$J13))=TRUE,('10a. Travel (Local)'!$L13/COUNTA(_xlfn.TEXTSPLIT('10a. Travel (Local)'!$J13,\";\"))),0)+IF(ISNUMBER(SEARCH(B$2,'10b. Travel (Non-Local)'!$G13))=TRUE,(SUM('10b. Travel (Non-Local)'!$E13:$F13)/COUNTA(_xlfn.TEXTSPLIT('10b. Travel (Non-Local)'!$G13,\";\"))),0)","v":0},{"$f":"IF(ISNUMBER(SEARCH(C$2,'10a. Travel (Local)'!$J13))=TRUE,('10a. Travel (Local)'!$L13/COUNTA(_xlfn.TEXTSPLIT('10a. Travel (Local)'!$J13,\";\"))),0)+IF(ISNUMBER(SEARCH(C$2,'10b. Travel (Non-Local)'!$G13))=TRUE,(SUM('10b. Travel (Non-Local)'!$E13:$F13)/COUNTA(_xlfn.TEXTSPLIT('10b. Travel (Non-Local)'!$G13,\";\"))),0)","v":0},null,{"$f":"IF(ISNUMBER(SEARCH(E$2,'10a. Travel (Local)'!$K13))=TRUE,('10a. Travel (Local)'!$L13/COUNTA(_xlfn.TEXTSPLIT('10a. Travel (Local)'!$K13,\";\"))),0)+IF(ISNUMBER(SEARCH(E$2,'10b. Travel (Non-Local)'!$H13))=TRUE,(SUM('10b. Travel (Non-Local)'!$E13:$F13)/COUNTA(_xlfn.TEXTSPLIT('10b. Travel (Non-Local)'!$H13,\";\"))),0)","v":0},{"$f":"IF(ISNUMBER(SEARCH(F$2,'10a. Travel (Local)'!$K13))=TRUE,('10a. Travel (Local)'!$L13/COUNTA(_xlfn.TEXTSPLIT('10a. Travel (Local)'!$K13,\";\"))),0)+IF(ISNUMBER(SEARCH(F$2,'10b. Travel (Non-Local)'!$H13))=TRUE,(SUM('10b. Travel (Non-Local)'!$E13:$F13)/COUNTA(_xlfn.TEXTSPLIT('10b. Travel (Non-Local)'!$H13,\";\"))),0)","v":0},{"$f":"IF(ISNUMBER(SEARCH(G$2,'10a. Travel (Local)'!$K13))=TRUE,('10a. Travel (Local)'!$L13/COUNTA(_xlfn.TEXTSPLIT('10a. Travel (Local)'!$K13,\";\"))),0)+IF(ISNUMBER(SEARCH(G$2,'10b. Travel (Non-Local)'!$H13))=TRUE,(SUM('10b. Travel (Non-Local)'!$E13:$F13)/COUNTA(_xlfn.TEXTSPLIT('10b. Travel (Non-Local)'!$H13,\";\"))),0)","v":0},{"$f":"IF(ISNUMBER(SEARCH(H$2,'10a. Travel (Local)'!$K13))=TRUE,('10a. Travel (Local)'!$L13/COUNTA(_xlfn.TEXTSPLIT('10a. Travel (Local)'!$K13,\";\"))),0)+IF(ISNUMBER(SEARCH(H$2,'10b. Travel (Non-Local)'!$H13))=TRUE,(SUM('10b. Travel (Non-Local)'!$E13:$F13)/COUNTA(_xlfn.TEXTSPLIT('10b. Travel (Non-Local)'!$H13,\";\"))),0)","v":0}]
[{"$f":"IF(ISNUMBER(SEARCH(A$2,'10a. Travel (Local)'!$J14))=TRUE,('10a. Travel (Local)'!$L14/COUNTA(_xlfn.TEXTSPLIT('10a. Travel (Local)'!$J14,\";\"))),0)+IF(ISNUMBER(SEARCH(A$2,'10b. Travel (Non-Local)'!$G14))=TRUE,(SUM('10b. Travel (Non-Local)'!$E14:$F14)/COUNTA(_xlfn.TEXTSPLIT('10b. Travel (Non-Local)'!$G14,\";\"))),0)","v":0},{"$f":"IF(ISNUMBER(SEARCH(B$2,'10a. Travel (Local)'!$J14))=TRUE,('10a. Travel (Local)'!$L14/COUNTA(_xlfn.TEXTSPLIT('10a. Travel (Local)'!$J14,\";\"))),0)+IF(ISNUMBER(SEARCH(B$2,'10b. Travel (Non-Local)'!$G14))=TRUE,(SUM('10b. Travel (Non-Local)'!$E14:$F14)/COUNTA(_xlfn.TEXTSPLIT('10b. Travel (Non-Local)'!$G14,\";\"))),0)","v":0},{"$f":"IF(ISNUMBER(SEARCH(C$2,'10a. Travel (Local)'!$J14))=TRUE,('10a. Travel (Local)'!$L14/COUNTA(_xlfn.TEXTSPLIT('10a. Travel (Local)'!$J14,\";\"))),0)+IF(ISNUMBER(SEARCH(C$2,'10b. Travel (Non-Local)'!$G14))=TRUE,(SUM('10b. Travel (Non-Local)'!$E14:$F14)/COUNTA(_xlfn.TEXTSPLIT('10b. Travel (Non-Local)'!$G14,\";\"))),0)","v":0},null,{"$f":"IF(ISNUMBER(SEARCH(E$2,'10a. Travel (Local)'!$K14))=TRUE,('10a. Travel (Local)'!$L14/COUNTA(_xlfn.TEXTSPLIT('10a. Travel (Local)'!$K14,\";\"))),0)+IF(ISNUMBER(SEARCH(E$2,'10b. Travel (Non-Local)'!$H14))=TRUE,(SUM('10b. Travel (Non-Local)'!$E14:$F14)/COUNTA(_xlfn.TEXTSPLIT('10b. Travel (Non-Local)'!$H14,\";\"))),0)","v":0},{"$f":"IF(ISNUMBER(SEARCH(F$2,'10a. Travel (Local)'!$K14))=TRUE,('10a. Travel (Local)'!$L14/COUNTA(_xlfn.TEXTSPLIT('10a. Travel (Local)'!$K14,\";\"))),0)+IF(ISNUMBER(SEARCH(F$2,'10b. Travel (Non-Local)'!$H14))=TRUE,(SUM('10b. Travel (Non-Local)'!$E14:$F14)/COUNTA(_xlfn.TEXTSPLIT('10b. Travel (Non-Local)'!$H14,\";\"))),0)","v":0},{"$f":"IF(ISNUMBER(SEARCH(G$2,'10a. Travel (Local)'!$K14))=TRUE,('10a. Travel (Local)'!$L14/COUNTA(_xlfn.TEXTSPLIT('10a. Travel (Local)'!$K14,\";\"))),0)+IF(ISNUMBER(SEARCH(G$2,'10b. Travel (Non-Local)'!$H14))=TRUE,(SUM('10b. Travel (Non-Local)'!$E14:$F14)/COUNTA(_xlfn.TEXTSPLIT('10b. Travel (Non-Local)'!$H14,\";\"))),0)","v":0},{"$f":"IF(ISNUMBER(SEARCH(H$2,'10a. Travel (Local)'!$K14))=TRUE,('10a. Travel (Local)'!$L14/COUNTA(_xlfn.TEXTSPLIT('10a. Travel (Local)'!$K14,\";\"))),0)+IF(ISNUMBER(SEARCH(H$2,'10b. Travel (Non-Local)'!$H14))=TRUE,(SUM('10b. Travel (Non-Local)'!$E14:$F14)/COUNTA(_xlfn.TEXTSPLIT('10b. Travel (Non-Local)'!$H14,\";\"))),0)","v":0}]
[{"$f":"IF(ISNUMBER(SEARCH(A$2,'10a. Travel (Local)'!$J15))=TRUE,('10a. Travel (Local)'!$L15/COUNTA(_xlfn.TEXTSPLIT('10a. Travel (Local)'!$J15,\";\"))),0)+IF(ISNUMBER(SEARCH(A$2,'10b. Travel (Non-Local)'!$G15))=TRUE,(SUM('10b. Travel (Non-Local)'!$E15:$F15)/COUNTA(_xlfn.TEXTSPLIT('10b. Travel (Non-Local)'!$G15,\";\"))),0)","v":0},{"$f":"IF(ISNUMBER(SEARCH(B$2,'10a. Travel (Local)'!$J15))=TRUE,('10a. Travel (Local)'!$L15/COUNTA(_xlfn.TEXTSPLIT('10a. Travel (Local)'!$J15,\";\"))),0)+IF(ISNUMBER(SEARCH(B$2,'10b. Travel (Non-Local)'!$G15))=TRUE,(SUM('10b. Travel (Non-Local)'!$E15:$F15)/COUNTA(_xlfn.TEXTSPLIT('10b. Travel (Non-Local)'!$G15,\";\"))),0)","v":0},{"$f":"IF(ISNUMBER(SEARCH(C$2,'10a. Travel (Local)'!$J15))=TRUE,('10a. Travel (Local)'!$L15/COUNTA(_xlfn.TEXTSPLIT('10a. Travel (Local)'!$J15,\";\"))),0)+IF(ISNUMBER(SEARCH(C$2,'10b. Travel (Non-Local)'!$G15))=TRUE,(SUM('10b. Travel (Non-Local)'!$E15:$F15)/COUNTA(_xlfn.TEXTSPLIT('10b. Travel (Non-Local)'!$G15,\";\"))),0)","v":0},null,{"$f":"IF(ISNUMBER(SEARCH(E$2,'10a. Travel (Local)'!$K15))=TRUE,('10a. Travel (Local)'!$L15/COUNTA(_xlfn.TEXTSPLIT('10a. Travel (Local)'!$K15,\";\"))),0)+IF(ISNUMBER(SEARCH(E$2,'10b. Travel (Non-Local)'!$H15))=TRUE,(SUM('10b. Travel (Non-Local)'!$E15:$F15)/COUNTA(_xlfn.TEXTSPLIT('10b. Travel (Non-Local)'!$H15,\";\"))),0)","v":0},{"$f":"IF(ISNUMBER(SEARCH(F$2,'10a. Travel (Local)'!$K15))=TRUE,('10a. Travel (Local)'!$L15/COUNTA(_xlfn.TEXTSPLIT('10a. Travel (Local)'!$K15,\";\"))),0)+IF(ISNUMBER(SEARCH(F$2,'10b. Travel (Non-Local)'!$H15))=TRUE,(SUM('10b. Travel (Non-Local)'!$E15:$F15)/COUNTA(_xlfn.TEXTSPLIT('10b. Travel (Non-Local)'!$H15,\";\"))),0)","v":0},{"$f":"IF(ISNUMBER(SEARCH(G$2,'10a. Travel (Local)'!$K15))=TRUE,('10a. Travel (Local)'!$L15/COUNTA(_xlfn.TEXTSPLIT('10a. Travel (Local)'!$K15,\";\"))),0)+IF(ISNUMBER(SEARCH(G$2,'10b. Travel (Non-Local)'!$H15))=TRUE,(SUM('10b. Travel (Non-Local)'!$E15:$F15)/COUNTA(_xlfn.TEXTSPLIT('10b. Travel (Non-Local)'!$H15,\";\"))),0)","v":0},{"$f":"IF(ISNUMBER(SEARCH(H$2,'10a. Travel (Local)'!$K15))=TRUE,('10a. Travel (Local)'!$L15/COUNTA(_xlfn.TEXTSPLIT('10a. Travel (Local)'!$K15,\";\"))),0)+IF(ISNUMBER(SEARCH(H$2,'10b. Travel (Non-Local)'!$H15))=TRUE,(SUM('10b. Travel (Non-Local)'!$E15:$F15)/COUNTA(_xlfn.TEXTSPLIT('10b. Travel (Non-Local)'!$H15,\";\"))),0)","v":0}]
[{"$f":"IF(ISNUMBER(SEARCH(A$2,'10a. Travel (Local)'!$J16))=TRUE,('10a. Travel (Local)'!$L16/COUNTA(_xlfn.TEXTSPLIT('10a. Travel (Local)'!$J16,\";\"))),0)+IF(ISNUMBER(SEARCH(A$2,'10b. Travel (Non-Local)'!$G16))=TRUE,(SUM('10b. Travel (Non-Local)'!$E16:$F16)/COUNTA(_xlfn.TEXTSPLIT('10b. Travel (Non-Local)'!$G16,\";\"))),0)","v":0},{"$f":"IF(ISNUMBER(SEARCH(B$2,'10a. Travel (Local)'!$J16))=TRUE,('10a. Travel (Local)'!$L16/COUNTA(_xlfn.TEXTSPLIT('10a. Travel (Local)'!$J16,\";\"))),0)+IF(ISNUMBER(SEARCH(B$2,'10b. Travel (Non-Local)'!$G16))=TRUE,(SUM('10b. Travel (Non-Local)'!$E16:$F16)/COUNTA(_xlfn.TEXTSPLIT('10b. Travel (Non-Local)'!$G16,\";\"))),0)","v":0},{"$f":"IF(ISNUMBER(SEARCH(C$2,'10a. Travel (Local)'!$J16))=TRUE,('10a. Travel (Local)'!$L16/COUNTA(_xlfn.TEXTSPLIT('10a. Travel (Local)'!$J16,\";\"))),0)+IF(ISNUMBER(SEARCH(C$2,'10b. Travel (Non-Local)'!$G16))=TRUE,(SUM('10b. Travel (Non-Local)'!$E16:$F16)/COUNTA(_xlfn.TEXTSPLIT('10b. Travel (Non-Local)'!$G16,\";\"))),0)","v":0},null,{"$f":"IF(ISNUMBER(SEARCH(E$2,'10a. Travel (Local)'!$K16))=TRUE,('10a. Travel (Local)'!$L16/COUNTA(_xlfn.TEXTSPLIT('10a. Travel (Local)'!$K16,\";\"))),0)+IF(ISNUMBER(SEARCH(E$2,'10b. Travel (Non-Local)'!$H16))=TRUE,(SUM('10b. Travel (Non-Local)'!$E16:$F16)/COUNTA(_xlfn.TEXTSPLIT('10b. Travel (Non-Local)'!$H16,\";\"))),0)","v":0},{"$f":"IF(ISNUMBER(SEARCH(F$2,'10a. Travel (Local)'!$K16))=TRUE,('10a. Travel (Local)'!$L16/COUNTA(_xlfn.TEXTSPLIT('10a. Travel (Local)'!$K16,\";\"))),0)+IF(ISNUMBER(SEARCH(F$2,'10b. Travel (Non-Local)'!$H16))=TRUE,(SUM('10b. Travel (Non-Local)'!$E16:$F16)/COUNTA(_xlfn.TEXTSPLIT('10b. Travel (Non-Local)'!$H16,\";\"))),0)","v":0},{"$f":"IF(ISNUMBER(SEARCH(G$2,'10a. Travel (Local)'!$K16))=TRUE,('10a. Travel (Local)'!$L16/COUNTA(_xlfn.TEXTSPLIT('10a. Travel (Local)'!$K16,\";\"))),0)+IF(ISNUMBER(SEARCH(G$2,'10b. Travel (Non-Local)'!$H16))=TRUE,(SUM('10b. Travel (Non-Local)'!$E16:$F16)/COUNTA(_xlfn.TEXTSPLIT('10b. Travel (Non-Local)'!$H16,\";\"))),0)","v":0},{"$f":"IF(ISNUMBER(SEARCH(H$2,'10a. Travel (Local)'!$K16))=TRUE,('10a. Travel (Local)'!$L16/COUNTA(_xlfn.TEXTSPLIT('10a. Travel (Local)'!$K16,\";\"))),0)+IF(ISNUMBER(SEARCH(H$2,'10b. Travel (Non-Local)'!$H16))=TRUE,(SUM('10b. Travel (Non-Local)'!$E16:$F16)/COUNTA(_xlfn.TEXTSPLIT('10b. Travel (Non-Local)'!$H16,\";\"))),0)","v":0}]
[{"$f":"IF(ISNUMBER(SEARCH(A$2,'10a. Travel (Local)'!$J17))=TRUE,('10a. Travel (Local)'!$L17/COUNTA(_xlfn.TEXTSPLIT('10a. Travel (Local)'!$J17,\";\"))),0)+IF(ISNUMBER(SEARCH(A$2,'10b. Travel (Non-Local)'!$G17))=TRUE,(SUM('10b. Travel (Non-Local)'!$E17:$F17)/COUNTA(_xlfn.TEXTSPLIT('10b. Travel (Non-Local)'!$G17,\";\"))),0)","v":0},{"$f":"IF(ISNUMBER(SEARCH(B$2,'10a. Travel (Local)'!$J17))=TRUE,('10a. Travel (Local)'!$L17/COUNTA(_xlfn.TEXTSPLIT('10a. Travel (Local)'!$J17,\";\"))),0)+IF(ISNUMBER(SEARCH(B$2,'10b. Travel (Non-Local)'!$G17))=TRUE,(SUM('10b. Travel (Non-Local)'!$E17:$F17)/COUNTA(_xlfn.TEXTSPLIT('10b. Travel (Non-Local)'!$G17,\";\"))),0)","v":0},{"$f":"IF(ISNUMBER(SEARCH(C$2,'10a. Travel (Local)'!$J17))=TRUE,('10a. Travel (Local)'!$L17/COUNTA(_xlfn.TEXTSPLIT('10a. Travel (Local)'!$J17,\";\"))),0)+IF(ISNUMBER(SEARCH(C$2,'10b. Travel (Non-Local)'!$G17))=TRUE,(SUM('10b. Travel (Non-Local)'!$E17:$F17)/COUNTA(_xlfn.TEXTSPLIT('10b. Travel (Non-Local)'!$G17,\";\"))),0)","v":0},null,{"$f":"IF(ISNUMBER(SEARCH(E$2,'10a. Travel (Local)'!$K17))=TRUE,('10a. Travel (Local)'!$L17/COUNTA(_xlfn.TEXTSPLIT('10a. Travel (Local)'!$K17,\";\"))),0)+IF(ISNUMBER(SEARCH(E$2,'10b. Travel (Non-Local)'!$H17))=TRUE,(SUM('10b. Travel (Non-Local)'!$E17:$F17)/COUNTA(_xlfn.TEXTSPLIT('10b. Travel (Non-Local)'!$H17,\";\"))),0)","v":0},{"$f":"IF(ISNUMBER(SEARCH(F$2,'10a. Travel (Local)'!$K17))=TRUE,('10a. Travel (Local)'!$L17/COUNTA(_xlfn.TEXTSPLIT('10a. Travel (Local)'!$K17,\";\"))),0)+IF(ISNUMBER(SEARCH(F$2,'10b. Travel (Non-Local)'!$H17))=TRUE,(SUM('10b. Travel (Non-Local)'!$E17:$F17)/COUNTA(_xlfn.TEXTSPLIT('10b. Travel (Non-Local)'!$H17,\";\"))),0)","v":0},{"$f":"IF(ISNUMBER(SEARCH(G$2,'10a. Travel (Local)'!$K17))=TRUE,('10a. Travel (Local)'!$L17/COUNTA(_xlfn.TEXTSPLIT('10a. Travel (Local)'!$K17,\";\"))),0)+IF(ISNUMBER(SEARCH(G$2,'10b. Travel (Non-Local)'!$H17))=TRUE,(SUM('10b. Travel (Non-Local)'!$E17:$F17)/COUNTA(_xlfn.TEXTSPLIT('10b. Travel (Non-Local)'!$H17,\";\"))),0)","v":0},{"$f":"IF(ISNUMBER(SEARCH(H$2,'10a. Travel (Local)'!$K17))=TRUE,('10a. Travel (Local)'!$L17/COUNTA(_xlfn.TEXTSPLIT('10a. Travel (Local)'!$K17,\";\"))),0)+IF(ISNUMBER(SEARCH(H$2,'10b. Travel (Non-Local)'!$H17))=TRUE,(SUM('10b. Travel (Non-Local)'!$E17:$F17)/COUNTA(_xlfn.TEXTSPLIT('10b. Travel (Non-Local)'!$H17,\";\"))),0)","v":0}]
[{"$f":"IF(ISNUMBER(SEARCH(A$2,'10a. Travel (Local)'!$J18))=TRUE,('10a. Travel (Local)'!$L18/COUNTA(_xlfn.TEXTSPLIT('10a. Travel (Local)'!$J18,\";\"))),0)+IF(ISNUMBER(SEARCH(A$2,'10b. Travel (Non-Local)'!$G18))=TRUE,(SUM('10b. Travel (Non-Local)'!$E18:$F18)/COUNTA(_xlfn.TEXTSPLIT('10b. Travel (Non-Local)'!$G18,\";\"))),0)","v":0},{"$f":"IF(ISNUMBER(SEARCH(B$2,'10a. Travel (Local)'!$J18))=TRUE,('10a. Travel (Local)'!$L18/COUNTA(_xlfn.TEXTSPLIT('10a. Travel (Local)'!$J18,\";\"))),0)+IF(ISNUMBER(SEARCH(B$2,'10b. Travel (Non-Local)'!$G18))=TRUE,(SUM('10b. Travel (Non-Local)'!$E18:$F18)/COUNTA(_xlfn.TEXTSPLIT('10b. Travel (Non-Local)'!$G18,\";\"))),0)","v":0},{"$f":"IF(ISNUMBER(SEARCH(C$2,'10a. Travel (Local)'!$J18))=TRUE,('10a. Travel (Local)'!$L18/COUNTA(_xlfn.TEXTSPLIT('10a. Travel (Local)'!$J18,\";\"))),0)+IF(ISNUMBER(SEARCH(C$2,'10b. Travel (Non-Local)'!$G18))=TRUE,(SUM('10b. Travel (Non-Local)'!$E18:$F18)/COUNTA(_xlfn.TEXTSPLIT('10b. Travel (Non-Local)'!$G18,\";\"))),0)","v":0},null,{"$f":"IF(ISNUMBER(SEARCH(E$2,'10a. Travel (Local)'!$K18))=TRUE,('10a. Travel (Local)'!$L18/COUNTA(_xlfn.TEXTSPLIT('10a. Travel (Local)'!$K18,\";\"))),0)+IF(ISNUMBER(SEARCH(E$2,'10b. Travel (Non-Local)'!$H18))=TRUE,(SUM('10b. Travel (Non-Local)'!$E18:$F18)/COUNTA(_xlfn.TEXTSPLIT('10b. Travel (Non-Local)'!$H18,\";\"))),0)","v":0},{"$f":"IF(ISNUMBER(SEARCH(F$2,'10a. Travel (Local)'!$K18))=TRUE,('10a. Travel (Local)'!$L18/COUNTA(_xlfn.TEXTSPLIT('10a. Travel (Local)'!$K18,\";\"))),0)+IF(ISNUMBER(SEARCH(F$2,'10b. Travel (Non-Local)'!$H18))=TRUE,(SUM('10b. Travel (Non-Local)'!$E18:$F18)/COUNTA(_xlfn.TEXTSPLIT('10b. Travel (Non-Local)'!$H18,\";\"))),0)","v":0},{"$f":"IF(ISNUMBER(SEARCH(G$2,'10a. Travel (Local)'!$K18))=TRUE,('10a. Travel (Local)'!$L18/COUNTA(_xlfn.TEXTSPLIT('10a. Travel (Local)'!$K18,\";\"))),0)+IF(ISNUMBER(SEARCH(G$2,'10b. Travel (Non-Local)'!$H18))=TRUE,(SUM('10b. Travel (Non-Local)'!$E18:$F18)/COUNTA(_xlfn.TEXTSPLIT('10b. Travel (Non-Local)'!$H18,\";\"))),0)","v":0},{"$f":"IF(ISNUMBER(SEARCH(H$2,'10a. Travel (Local)'!$K18))=TRUE,('10a. Travel (Local)'!$L18/COUNTA(_xlfn.TEXTSPLIT('10a. Travel (Local)'!$K18,\";\"))),0)+IF(ISNUMBER(SEARCH(H$2,'10b. Travel (Non-Local)'!$H18))=TRUE,(SUM('10b. Travel (Non-Local)'!$E18:$F18)/COUNTA(_xlfn.TEXTSPLIT('10b. Travel (Non-Local)'!$H18,\";\"))),0)","v":0}]
[{"$f":"IF(ISNUMBER(SEARCH(A$2,'10a. Travel (Local)'!$J19))=TRUE,('10a. Travel (Local)'!$L19/COUNTA(_xlfn.TEXTSPLIT('10a. Travel (Local)'!$J19,\";\"))),0)+IF(ISNUMBER(SEARCH(A$2,'10b. Travel (Non-Local)'!$G19))=TRUE,(SUM('10b. Travel (Non-Local)'!$E19:$F19)/COUNTA(_xlfn.TEXTSPLIT('10b. Travel (Non-Local)'!$G19,\";\"))),0)","v":0},{"$f":"IF(ISNUMBER(SEARCH(B$2,'10a. Travel (Local)'!$J19))=TRUE,('10a. Travel (Local)'!$L19/COUNTA(_xlfn.TEXTSPLIT('10a. Travel (Local)'!$J19,\";\"))),0)+IF(ISNUMBER(SEARCH(B$2,'10b. Travel (Non-Local)'!$G19))=TRUE,(SUM('10b. Travel (Non-Local)'!$E19:$F19)/COUNTA(_xlfn.TEXTSPLIT('10b. Travel (Non-Local)'!$G19,\";\"))),0)","v":0},{"$f":"IF(ISNUMBER(SEARCH(C$2,'10a. Travel (Local)'!$J19))=TRUE,('10a. Travel (Local)'!$L19/COUNTA(_xlfn.TEXTSPLIT('10a. Travel (Local)'!$J19,\";\"))),0)+IF(ISNUMBER(SEARCH(C$2,'10b. Travel (Non-Local)'!$G19))=TRUE,(SUM('10b. Travel (Non-Local)'!$E19:$F19)/COUNTA(_xlfn.TEXTSPLIT('10b. Travel (Non-Local)'!$G19,\";\"))),0)","v":0},null,{"$f":"IF(ISNUMBER(SEARCH(E$2,'10a. Travel (Local)'!$K19))=TRUE,('10a. Travel (Local)'!$L19/COUNTA(_xlfn.TEXTSPLIT('10a. Travel (Local)'!$K19,\";\"))),0)+IF(ISNUMBER(SEARCH(E$2,'10b. Travel (Non-Local)'!$H19))=TRUE,(SUM('10b. Travel (Non-Local)'!$E19:$F19)/COUNTA(_xlfn.TEXTSPLIT('10b. Travel (Non-Local)'!$H19,\";\"))),0)","v":0},{"$f":"IF(ISNUMBER(SEARCH(F$2,'10a. Travel (Local)'!$K19))=TRUE,('10a. Travel (Local)'!$L19/COUNTA(_xlfn.TEXTSPLIT('10a. Travel (Local)'!$K19,\";\"))),0)+IF(ISNUMBER(SEARCH(F$2,'10b. Travel (Non-Local)'!$H19))=TRUE,(SUM('10b. Travel (Non-Local)'!$E19:$F19)/COUNTA(_xlfn.TEXTSPLIT('10b. Travel (Non-Local)'!$H19,\";\"))),0)","v":0},{"$f":"IF(ISNUMBER(SEARCH(G$2,'10a. Travel (Local)'!$K19))=TRUE,('10a. Travel (Local)'!$L19/COUNTA(_xlfn.TEXTSPLIT('10a. Travel (Local)'!$K19,\";\"))),0)+IF(ISNUMBER(SEARCH(G$2,'10b. Travel (Non-Local)'!$H19))=TRUE,(SUM('10b. Travel (Non-Local)'!$E19:$F19)/COUNTA(_xlfn.TEXTSPLIT('10b. Travel (Non-Local)'!$H19,\";\"))),0)","v":0},{"$f":"IF(ISNUMBER(SEARCH(H$2,'10a. Travel (Local)'!$K19))=TRUE,('10a. Travel (Local)'!$L19/COUNTA(_xlfn.TEXTSPLIT('10a. Travel (Local)'!$K19,\";\"))),0)+IF(ISNUMBER(SEARCH(H$2,'10b. Travel (Non-Local)'!$H19))=TRUE,(SUM('10b. Travel (Non-Local)'!$E19:$F19)/COUNTA(_xlfn.TEXTSPLIT('10b. Travel (Non-Local)'!$H19,\";\"))),0)","v":0}]
[{"$f":"IF(ISNUMBER(SEARCH(A$2,'10a. Travel (Local)'!$J20))=TRUE,('10a. Travel (Local)'!$L20/COUNTA(_xlfn.TEXTSPLIT('10a. Travel (Local)'!$J20,\";\"))),0)+IF(ISNUMBER(SEARCH(A$2,'10b. Travel (Non-Local)'!$G20))=TRUE,(SUM('10b. Travel (Non-Local)'!$E20:$F20)/COUNTA(_xlfn.TEXTSPLIT('10b. Travel (Non-Local)'!$G20,\";\"))),0)","v":0},{"$f":"IF(ISNUMBER(SEARCH(B$2,'10a. Travel (Local)'!$J20))=TRUE,('10a. Travel (Local)'!$L20/COUNTA(_xlfn.TEXTSPLIT('10a. Travel (Local)'!$J20,\";\"))),0)+IF(ISNUMBER(SEARCH(B$2,'10b. Travel (Non-Local)'!$G20))=TRUE,(SUM('10b. Travel (Non-Local)'!$E20:$F20)/COUNTA(_xlfn.TEXTSPLIT('10b. Travel (Non-Local)'!$G20,\";\"))),0)","v":0},{"$f":"IF(ISNUMBER(SEARCH(C$2,'10a. Travel (Local)'!$J20))=TRUE,('10a. Travel (Local)'!$L20/COUNTA(_xlfn.TEXTSPLIT('10a. Travel (Local)'!$J20,\";\"))),0)+IF(ISNUMBER(SEARCH(C$2,'10b. Travel (Non-Local)'!$G20))=TRUE,(SUM('10b. Travel (Non-Local)'!$E20:$F20)/COUNTA(_xlfn.TEXTSPLIT('10b. Travel (Non-Local)'!$G20,\";\"))),0)","v":0},null,{"$f":"IF(ISNUMBER(SEARCH(E$2,'10a. Travel (Local)'!$K20))=TRUE,('10a. Travel (Local)'!$L20/COUNTA(_xlfn.TEXTSPLIT('10a. Travel (Local)'!$K20,\";\"))),0)+IF(ISNUMBER(SEARCH(E$2,'10b. Travel (Non-Local)'!$H20))=TRUE,(SUM('10b. Travel (Non-Local)'!$E20:$F20)/COUNTA(_xlfn.TEXTSPLIT('10b. Travel (Non-Local)'!$H20,\";\"))),0)","v":0},{"$f":"IF(ISNUMBER(SEARCH(F$2,'10a. Travel (Local)'!$K20))=TRUE,('10a. Travel (Local)'!$L20/COUNTA(_xlfn.TEXTSPLIT('10a. Travel (Local)'!$K20,\";\"))),0)+IF(ISNUMBER(SEARCH(F$2,'10b. Travel (Non-Local)'!$H20))=TRUE,(SUM('10b. Travel (Non-Local)'!$E20:$F20)/COUNTA(_xlfn.TEXTSPLIT('10b. Travel (Non-Local)'!$H20,\";\"))),0)","v":0},{"$f":"IF(ISNUMBER(SEARCH(G$2,'10a. Travel (Local)'!$K20))=TRUE,('10a. Travel (Local)'!$L20/COUNTA(_xlfn.TEXTSPLIT('10a. Travel (Local)'!$K20,\";\"))),0)+IF(ISNUMBER(SEARCH(G$2,'10b. Travel (Non-Local)'!$H20))=TRUE,(SUM('10b. Travel (Non-Local)'!$E20:$F20)/COUNTA(_xlfn.TEXTSPLIT('10b. Travel (Non-Local)'!$H20,\";\"))),0)","v":0},{"$f":"IF(ISNUMBER(SEARCH(H$2,'10a. Travel (Local)'!$K20))=TRUE,('10a. Travel (Local)'!$L20/COUNTA(_xlfn.TEXTSPLIT('10a. Travel (Local)'!$K20,\";\"))),0)+IF(ISNUMBER(SEARCH(H$2,'10b. Travel (Non-Local)'!$H20))=TRUE,(SUM('10b. Travel (Non-Local)'!$E20:$F20)/COUNTA(_xlfn.TEXTSPLIT('10b. Travel (Non-Local)'!$H20,\";\"))),0)","v":0}]
[{"$f":"IF(ISNUMBER(SEARCH(A$2,'10a. Travel (Local)'!$J21))=TRUE,('10a. Travel (Local)'!$L21/COUNTA(_xlfn.TEXTSPLIT('10a. Travel (Local)'!$J21,\";\"))),0)+IF(ISNUMBER(SEARCH(A$2,'10b. Travel (Non-Local)'!$G21))=TRUE,(SUM('10b. Travel (Non-Local)'!$E21:$F21)/COUNTA(_xlfn.TEXTSPLIT('10b. Travel (Non-Local)'!$G21,\";\"))),0)","v":0},{"$f":"IF(ISNUMBER(SEARCH(B$2,'10a. Travel (Local)'!$J21))=TRUE,('10a. Travel (Local)'!$L21/COUNTA(_xlfn.TEXTSPLIT('10a. Travel (Local)'!$J21,\";\"))),0)+IF(ISNUMBER(SEARCH(B$2,'10b. Travel (Non-Local)'!$G21))=TRUE,(SUM('10b. Travel (Non-Local)'!$E21:$F21)/COUNTA(_xlfn.TEXTSPLIT('10b. Travel (Non-Local)'!$G21,\";\"))),0)","v":0},{"$f":"IF(ISNUMBER(SEARCH(C$2,'10a. Travel (Local)'!$J21))=TRUE,('10a. Travel (Local)'!$L21/COUNTA(_xlfn.TEXTSPLIT('10a. Travel (Local)'!$J21,\";\"))),0)+IF(ISNUMBER(SEARCH(C$2,'10b. Travel (Non-Local)'!$G21))=TRUE,(SUM('10b. Travel (Non-Local)'!$E21:$F21)/COUNTA(_xlfn.TEXTSPLIT('10b. Travel (Non-Local)'!$G21,\";\"))),0)","v":0},null,{"$f":"IF(ISNUMBER(SEARCH(E$2,'10a. Travel (Local)'!$K21))=TRUE,('10a. Travel (Local)'!$L21/COUNTA(_xlfn.TEXTSPLIT('10a. Travel (Local)'!$K21,\";\"))),0)+IF(ISNUMBER(SEARCH(E$2,'10b. Travel (Non-Local)'!$H21))=TRUE,(SUM('10b. Travel (Non-Local)'!$E21:$F21)/COUNTA(_xlfn.TEXTSPLIT('10b. Travel (Non-Local)'!$H21,\";\"))),0)","v":0},{"$f":"IF(ISNUMBER(SEARCH(F$2,'10a. Travel (Local)'!$K21))=TRUE,('10a. Travel (Local)'!$L21/COUNTA(_xlfn.TEXTSPLIT('10a. Travel (Local)'!$K21,\";\"))),0)+IF(ISNUMBER(SEARCH(F$2,'10b. Travel (Non-Local)'!$H21))=TRUE,(SUM('10b. Travel (Non-Local)'!$E21:$F21)/COUNTA(_xlfn.TEXTSPLIT('10b. Travel (Non-Local)'!$H21,\";\"))),0)","v":0},{"$f":"IF(ISNUMBER(SEARCH(G$2,'10a. Travel (Local)'!$K21))=TRUE,('10a. Travel (Local)'!$L21/COUNTA(_xlfn.TEXTSPLIT('10a. Travel (Local)'!$K21,\";\"))),0)+IF(ISNUMBER(SEARCH(G$2,'10b. Travel (Non-Local)'!$H21))=TRUE,(SUM('10b. Travel (Non-Local)'!$E21:$F21)/COUNTA(_xlfn.TEXTSPLIT('10b. Travel (Non-Local)'!$H21,\";\"))),0)","v":0},{"$f":"IF(ISNUMBER(SEARCH(H$2,'10a. Travel (Local)'!$K21))=TRUE,('10a. Travel (Local)'!$L21/COUNTA(_xlfn.TEXTSPLIT('10a. Travel (Local)'!$K21,\";\"))),0)+IF(ISNUMBER(SEARCH(H$2,'10b. Travel (Non-Local)'!$H21))=TRUE,(SUM('10b. Travel (Non-Local)'!$E21:$F21)/COUNTA(_xlfn.TEXTSPLIT('10b. Travel (Non-Local)'!$H21,\";\"))),0)","v":0}]
[{"$f":"IF(ISNUMBER(SEARCH(A$2,'10a. Travel (Local)'!$J22))=TRUE,('10a. Travel (Local)'!$L22/COUNTA(_xlfn.TEXTSPLIT('10a. Travel (Local)'!$J22,\";\"))),0)+IF(ISNUMBER(SEARCH(A$2,'10b. Travel (Non-Local)'!$G22))=TRUE,(SUM('10b. Travel (Non-Local)'!$E22:$F22)/COUNTA(_xlfn.TEXTSPLIT('10b. Travel (Non-Local)'!$G22,\";\"))),0)","v":0},{"$f":"IF(ISNUMBER(SEARCH(B$2,'10a. Travel (Local)'!$J22))=TRUE,('10a. Travel (Local)'!$L22/COUNTA(_xlfn.TEXTSPLIT('10a. Travel (Local)'!$J22,\";\"))),0)+IF(ISNUMBER(SEARCH(B$2,'10b. Travel (Non-Local)'!$G22))=TRUE,(SUM('10b. Travel (Non-Local)'!$E22:$F22)/COUNTA(_xlfn.TEXTSPLIT('10b. Travel (Non-Local)'!$G22,\";\"))),0)","v":0},{"$f":"IF(ISNUMBER(SEARCH(C$2,'10a. Travel (Local)'!$J22))=TRUE,('10a. Travel (Local)'!$L22/COUNTA(_xlfn.TEXTSPLIT('10a. Travel (Local)'!$J22,\";\"))),0)+IF(ISNUMBER(SEARCH(C$2,'10b. Travel (Non-Local)'!$G22))=TRUE,(SUM('10b. Travel (Non-Local)'!$E22:$F22)/COUNTA(_xlfn.TEXTSPLIT('10b. Travel (Non-Local)'!$G22,\";\"))),0)","v":0},null,{"$f":"IF(ISNUMBER(SEARCH(E$2,'10a. Travel (Local)'!$K22))=TRUE,('10a. Travel (Local)'!$L22/COUNTA(_xlfn.TEXTSPLIT('10a. Travel (Local)'!$K22,\";\"))),0)+IF(ISNUMBER(SEARCH(E$2,'10b. Travel (Non-Local)'!$H22))=TRUE,(SUM('10b. Travel (Non-Local)'!$E22:$F22)/COUNTA(_xlfn.TEXTSPLIT('10b. Travel (Non-Local)'!$H22,\";\"))),0)","v":0},{"$f":"IF(ISNUMBER(SEARCH(F$2,'10a. Travel (Local)'!$K22))=TRUE,('10a. Travel (Local)'!$L22/COUNTA(_xlfn.TEXTSPLIT('10a. Travel (Local)'!$K22,\";\"))),0)+IF(ISNUMBER(SEARCH(F$2,'10b. Travel (Non-Local)'!$H22))=TRUE,(SUM('10b. Travel (Non-Local)'!$E22:$F22)/COUNTA(_xlfn.TEXTSPLIT('10b. Travel (Non-Local)'!$H22,\";\"))),0)","v":0},{"$f":"IF(ISNUMBER(SEARCH(G$2,'10a. Travel (Local)'!$K22))=TRUE,('10a. Travel (Local)'!$L22/COUNTA(_xlfn.TEXTSPLIT('10a. Travel (Local)'!$K22,\";\"))),0)+IF(ISNUMBER(SEARCH(G$2,'10b. Travel (Non-Local)'!$H22))=TRUE,(SUM('10b. Travel (Non-Local)'!$E22:$F22)/COUNTA(_xlfn.TEXTSPLIT('10b. Travel (Non-Local)'!$H22,\";\"))),0)","v":0},{"$f":"IF(ISNUMBER(SEARCH(H$2,'10a. Travel (Local)'!$K22))=TRUE,('10a. Travel (Local)'!$L22/COUNTA(_xlfn.TEXTSPLIT('10a. Travel (Local)'!$K22,\";\"))),0)+IF(ISNUMBER(SEARCH(H$2,'10b. Travel (Non-Local)'!$H22))=TRUE,(SUM('10b. Travel (Non-Local)'!$E22:$F22)/COUNTA(_xlfn.TEXTSPLIT('10b. Travel (Non-Local)'!$H22,\";\"))),0)","v":0}]
[{"$f":"IF(ISNUMBER(SEARCH(A$2,'10a. Travel (Local)'!$J23))=TRUE,('10a. Travel (Local)'!$L23/COUNTA(_xlfn.TEXTSPLIT('10a. Travel (Local)'!$J23,\";\"))),0)+IF(ISNUMBER(SEARCH(A$2,'10b. Travel (Non-Local)'!$G23))=TRUE,(SUM('10b. Travel (Non-Local)'!$E23:$F23)/COUNTA(_xlfn.TEXTSPLIT('10b. Travel (Non-Local)'!$G23,\";\"))),0)","v":0},{"$f":"IF(ISNUMBER(SEARCH(B$2,'10a. Travel (Local)'!$J23))=TRUE,('10a. Travel (Local)'!$L23/COUNTA(_xlfn.TEXTSPLIT('10a. Travel (Local)'!$J23,\";\"))),0)+IF(ISNUMBER(SEARCH(B$2,'10b. Travel (Non-Local)'!$G23))=TRUE,(SUM('10b. Travel (Non-Local)'!$E23:$F23)/COUNTA(_xlfn.TEXTSPLIT('10b. Travel (Non-Local)'!$G23,\";\"))),0)","v":0},{"$f":"IF(ISNUMBER(SEARCH(C$2,'10a. Travel (Local)'!$J23))=TRUE,('10a. Travel (Local)'!$L23/COUNTA(_xlfn.TEXTSPLIT('10a. Travel (Local)'!$J23,\";\"))),0)+IF(ISNUMBER(SEARCH(C$2,'10b. Travel (Non-Local)'!$G23))=TRUE,(SUM('10b. Travel (Non-Local)'!$E23:$F23)/COUNTA(_xlfn.TEXTSPLIT('10b. Travel (Non-Local)'!$G23,\";\"))),0)","v":0},null,{"$f":"IF(ISNUMBER(SEARCH(E$2,'10a. Travel (Local)'!$K23))=TRUE,('10a. Travel (Local)'!$L23/COUNTA(_xlfn.TEXTSPLIT('10a. Travel (Local)'!$K23,\";\"))),0)+IF(ISNUMBER(SEARCH(E$2,'10b. Travel (Non-Local)'!$H23))=TRUE,(SUM('10b. Travel (Non-Local)'!$E23:$F23)/COUNTA(_xlfn.TEXTSPLIT('10b. Travel (Non-Local)'!$H23,\";\"))),0)","v":0},{"$f":"IF(ISNUMBER(SEARCH(F$2,'10a. Travel (Local)'!$K23))=TRUE,('10a. Travel (Local)'!$L23/COUNTA(_xlfn.TEXTSPLIT('10a. Travel (Local)'!$K23,\";\"))),0)+IF(ISNUMBER(SEARCH(F$2,'10b. Travel (Non-Local)'!$H23))=TRUE,(SUM('10b. Travel (Non-Local)'!$E23:$F23)/COUNTA(_xlfn.TEXTSPLIT('10b. Travel (Non-Local)'!$H23,\";\"))),0)","v":0},{"$f":"IF(ISNUMBER(SEARCH(G$2,'10a. Travel (Local)'!$K23))=TRUE,('10a. Travel (Local)'!$L23/COUNTA(_xlfn.TEXTSPLIT('10a. Travel (Local)'!$K23,\";\"))),0)+IF(ISNUMBER(SEARCH(G$2,'10b. Travel (Non-Local)'!$H23))=TRUE,(SUM('10b. Travel (Non-Local)'!$E23:$F23)/COUNTA(_xlfn.TEXTSPLIT('10b. Travel (Non-Local)'!$H23,\";\"))),0)","v":0},{"$f":"IF(ISNUMBER(SEARCH(H$2,'10a. Travel (Local)'!$K23))=TRUE,('10a. Travel (Local)'!$L23/COUNTA(_xlfn.TEXTSPLIT('10a. Travel (Local)'!$K23,\";\"))),0)+IF(ISNUMBER(SEARCH(H$2,'10b. Travel (Non-Local)'!$H23))=TRUE,(SUM('10b. Travel (Non-Local)'!$E23:$F23)/COUNTA(_xlfn.TEXTSPLIT('10b. Travel (Non-Local)'!$H23,\";\"))),0)","v":0}]
[{"$f":"IF(ISNUMBER(SEARCH(A$2,'10a. Travel (Local)'!$J24))=TRUE,('10a. Travel (Local)'!$L24/COUNTA(_xlfn.TEXTSPLIT('10a. Travel (Local)'!$J24,\";\"))),0)+IF(ISNUMBER(SEARCH(A$2,'10b. Travel (Non-Local)'!$G24))=TRUE,(SUM('10b. Travel (Non-Local)'!$E24:$F24)/COUNTA(_xlfn.TEXTSPLIT('10b. Travel (Non-Local)'!$G24,\";\"))),0)","v":0},{"$f":"IF(ISNUMBER(SEARCH(B$2,'10a. Travel (Local)'!$J24))=TRUE,('10a. Travel (Local)'!$L24/COUNTA(_xlfn.TEXTSPLIT('10a. Travel (Local)'!$J24,\";\"))),0)+IF(ISNUMBER(SEARCH(B$2,'10b. Travel (Non-Local)'!$G24))=TRUE,(SUM('10b. Travel (Non-Local)'!$E24:$F24)/COUNTA(_xlfn.TEXTSPLIT('10b. Travel (Non-Local)'!$G24,\";\"))),0)","v":0},{"$f":"IF(ISNUMBER(SEARCH(C$2,'10a. Travel (Local)'!$J24))=TRUE,('10a. Travel (Local)'!$L24/COUNTA(_xlfn.TEXTSPLIT('10a. Travel (Local)'!$J24,\";\"))),0)+IF(ISNUMBER(SEARCH(C$2,'10b. Travel (Non-Local)'!$G24))=TRUE,(SUM('10b. Travel (Non-Local)'!$E24:$F24)/COUNTA(_xlfn.TEXTSPLIT('10b. Travel (Non-Local)'!$G24,\";\"))),0)","v":0},null,{"$f":"IF(ISNUMBER(SEARCH(E$2,'10a. Travel (Local)'!$K24))=TRUE,('10a. Travel (Local)'!$L24/COUNTA(_xlfn.TEXTSPLIT('10a. Travel (Local)'!$K24,\";\"))),0)+IF(ISNUMBER(SEARCH(E$2,'10b. Travel (Non-Local)'!$H24))=TRUE,(SUM('10b. Travel (Non-Local)'!$E24:$F24)/COUNTA(_xlfn.TEXTSPLIT('10b. Travel (Non-Local)'!$H24,\";\"))),0)","v":0},{"$f":"IF(ISNUMBER(SEARCH(F$2,'10a. Travel (Local)'!$K24))=TRUE,('10a. Travel (Local)'!$L24/COUNTA(_xlfn.TEXTSPLIT('10a. Travel (Local)'!$K24,\";\"))),0)+IF(ISNUMBER(SEARCH(F$2,'10b. Travel (Non-Local)'!$H24))=TRUE,(SUM('10b. Travel (Non-Local)'!$E24:$F24)/COUNTA(_xlfn.TEXTSPLIT('10b. Travel (Non-Local)'!$H24,\";\"))),0)","v":0},{"$f":"IF(ISNUMBER(SEARCH(G$2,'10a. Travel (Local)'!$K24))=TRUE,('10a. Travel (Local)'!$L24/COUNTA(_xlfn.TEXTSPLIT('10a. Travel (Local)'!$K24,\";\"))),0)+IF(ISNUMBER(SEARCH(G$2,'10b. Travel (Non-Local)'!$H24))=TRUE,(SUM('10b. Travel (Non-Local)'!$E24:$F24)/COUNTA(_xlfn.TEXTSPLIT('10b. Travel (Non-Local)'!$H24,\";\"))),0)","v":0},{"$f":"IF(ISNUMBER(SEARCH(H$2,'10a. Travel (Local)'!$K24))=TRUE,('10a. Travel (Local)'!$L24/COUNTA(_xlfn.TEXTSPLIT('10a. Travel (Local)'!$K24,\";\"))),0)+IF(ISNUMBER(SEARCH(H$2,'10b. Travel (Non-Local)'!$H24))=TRUE,(SUM('10b. Travel (Non-Local)'!$E24:$F24)/COUNTA(_xlfn.TEXTSPLIT('10b. Travel (Non-Local)'!$H24,\";\"))),0)","v":0}]
[{"$f":"IF(ISNUMBER(SEARCH(A$2,'10a. Travel (Local)'!$J25))=TRUE,('10a. Travel (Local)'!$L25/COUNTA(_xlfn.TEXTSPLIT('10a. Travel (Local)'!$J25,\";\"))),0)+IF(ISNUMBER(SEARCH(A$2,'10b. Travel (Non-Local)'!$G25))=TRUE,(SUM('10b. Travel (Non-Local)'!$E25:$F25)/COUNTA(_xlfn.TEXTSPLIT('10b. Travel (Non-Local)'!$G25,\";\"))),0)","v":0},{"$f":"IF(ISNUMBER(SEARCH(B$2,'10a. Travel (Local)'!$J25))=TRUE,('10a. Travel (Local)'!$L25/COUNTA(_xlfn.TEXTSPLIT('10a. Travel (Local)'!$J25,\";\"))),0)+IF(ISNUMBER(SEARCH(B$2,'10b. Travel (Non-Local)'!$G25))=TRUE,(SUM('10b. Travel (Non-Local)'!$E25:$F25)/COUNTA(_xlfn.TEXTSPLIT('10b. Travel (Non-Local)'!$G25,\";\"))),0)","v":0},{"$f":"IF(ISNUMBER(SEARCH(C$2,'10a. Travel (Local)'!$J25))=TRUE,('10a. Travel (Local)'!$L25/COUNTA(_xlfn.TEXTSPLIT('10a. Travel (Local)'!$J25,\";\"))),0)+IF(ISNUMBER(SEARCH(C$2,'10b. Travel (Non-Local)'!$G25))=TRUE,(SUM('10b. Travel (Non-Local)'!$E25:$F25)/COUNTA(_xlfn.TEXTSPLIT('10b. Travel (Non-Local)'!$G25,\";\"))),0)","v":0},null,{"$f":"IF(ISNUMBER(SEARCH(E$2,'10a. Travel (Local)'!$K25))=TRUE,('10a. Travel (Local)'!$L25/COUNTA(_xlfn.TEXTSPLIT('10a. Travel (Local)'!$K25,\";\"))),0)+IF(ISNUMBER(SEARCH(E$2,'10b. Travel (Non-Local)'!$H25))=TRUE,(SUM('10b. Travel (Non-Local)'!$E25:$F25)/COUNTA(_xlfn.TEXTSPLIT('10b. Travel (Non-Local)'!$H25,\";\"))),0)","v":0},{"$f":"IF(ISNUMBER(SEARCH(F$2,'10a. Travel (Local)'!$K25))=TRUE,('10a. Travel (Local)'!$L25/COUNTA(_xlfn.TEXTSPLIT('10a. Travel (Local)'!$K25,\";\"))),0)+IF(ISNUMBER(SEARCH(F$2,'10b. Travel (Non-Local)'!$H25))=TRUE,(SUM('10b. Travel (Non-Local)'!$E25:$F25)/COUNTA(_xlfn.TEXTSPLIT('10b. Travel (Non-Local)'!$H25,\";\"))),0)","v":0},{"$f":"IF(ISNUMBER(SEARCH(G$2,'10a. Travel (Local)'!$K25))=TRUE,('10a. Travel (Local)'!$L25/COUNTA(_xlfn.TEXTSPLIT('10a. Travel (Local)'!$K25,\";\"))),0)+IF(ISNUMBER(SEARCH(G$2,'10b. Travel (Non-Local)'!$H25))=TRUE,(SUM('10b. Travel (Non-Local)'!$E25:$F25)/COUNTA(_xlfn.TEXTSPLIT('10b. Travel (Non-Local)'!$H25,\";\"))),0)","v":0},{"$f":"IF(ISNUMBER(SEARCH(H$2,'10a. Travel (Local)'!$K25))=TRUE,('10a. Travel (Local)'!$L25/COUNTA(_xlfn.TEXTSPLIT('10a. Travel (Local)'!$K25,\";\"))),0)+IF(ISNUMBER(SEARCH(H$2,'10b. Travel (Non-Local)'!$H25))=TRUE,(SUM('10b. Travel (Non-Local)'!$E25:$F25)/COUNTA(_xlfn.TEXTSPLIT('10b. Travel (Non-Local)'!$H25,\";\"))),0)","v":0}]
[{"$f":"IF(ISNUMBER(SEARCH(A$2,'10a. Travel (Local)'!$J26))=TRUE,('10a. Travel (Local)'!$L26/COUNTA(_xlfn.TEXTSPLIT('10a. Travel (Local)'!$J26,\";\"))),0)+IF(ISNUMBER(SEARCH(A$2,'10b. Travel (Non-Local)'!$G26))=TRUE,(SUM('10b. Travel (Non-Local)'!$E26:$F26)/COUNTA(_xlfn.TEXTSPLIT('10b. Travel (Non-Local)'!$G26,\";\"))),0)","v":0},{"$f":"IF(ISNUMBER(SEARCH(B$2,'10a. Travel (Local)'!$J26))=TRUE,('10a. Travel (Local)'!$L26/COUNTA(_xlfn.TEXTSPLIT('10a. Travel (Local)'!$J26,\";\"))),0)+IF(ISNUMBER(SEARCH(B$2,'10b. Travel (Non-Local)'!$G26))=TRUE,(SUM('10b. Travel (Non-Local)'!$E26:$F26)/COUNTA(_xlfn.TEXTSPLIT('10b. Travel (Non-Local)'!$G26,\";\"))),0)","v":0},{"$f":"IF(ISNUMBER(SEARCH(C$2,'10a. Travel (Local)'!$J26))=TRUE,('10a. Travel (Local)'!$L26/COUNTA(_xlfn.TEXTSPLIT('10a. Travel (Local)'!$J26,\";\"))),0)+IF(ISNUMBER(SEARCH(C$2,'10b. Travel (Non-Local)'!$G26))=TRUE,(SUM('10b. Travel (Non-Local)'!$E26:$F26)/COUNTA(_xlfn.TEXTSPLIT('10b. Travel (Non-Local)'!$G26,\";\"))),0)","v":0},null,{"$f":"IF(ISNUMBER(SEARCH(E$2,'10a. Travel (Local)'!$K26))=TRUE,('10a. Travel (Local)'!$L26/COUNTA(_xlfn.TEXTSPLIT('10a. Travel (Local)'!$K26,\";\"))),0)+IF(ISNUMBER(SEARCH(E$2,'10b. Travel (Non-Local)'!$H26))=TRUE,(SUM('10b. Travel (Non-Local)'!$E26:$F26)/COUNTA(_xlfn.TEXTSPLIT('10b. Travel (Non-Local)'!$H26,\";\"))),0)","v":0},{"$f":"IF(ISNUMBER(SEARCH(F$2,'10a. Travel (Local)'!$K26))=TRUE,('10a. Travel (Local)'!$L26/COUNTA(_xlfn.TEXTSPLIT('10a. Travel (Local)'!$K26,\";\"))),0)+IF(ISNUMBER(SEARCH(F$2,'10b. Travel (Non-Local)'!$H26))=TRUE,(SUM('10b. Travel (Non-Local)'!$E26:$F26)/COUNTA(_xlfn.TEXTSPLIT('10b. Travel (Non-Local)'!$H26,\";\"))),0)","v":0},{"$f":"IF(ISNUMBER(SEARCH(G$2,'10a. Travel (Local)'!$K26))=TRUE,('10a. Travel (Local)'!$L26/COUNTA(_xlfn.TEXTSPLIT('10a. Travel (Local)'!$K26,\";\"))),0)+IF(ISNUMBER(SEARCH(G$2,'10b. Travel (Non-Local)'!$H26))=TRUE,(SUM('10b. Travel (Non-Local)'!$E26:$F26)/COUNTA(_xlfn.TEXTSPLIT('10b. Travel (Non-Local)'!$H26,\";\"))),0)","v":0},{"$f":"IF(ISNUMBER(SEARCH(H$2,'10a. Travel (Local)'!$K26))=TRUE,('10a. Travel (Local)'!$L26/COUNTA(_xlfn.TEXTSPLIT('10a. Travel (Local)'!$K26,\";\"))),0)+IF(ISNUMBER(SEARCH(H$2,'10b. Travel (Non-Local)'!$H26))=TRUE,(SUM('10b. Travel (Non-Local)'!$E26:$F26)/COUNTA(_xlfn.TEXTSPLIT('10b. Travel (Non-Local)'!$H26,\";\"))),0)","v":0}]
[{"$f":"IF(ISNUMBER(SEARCH(A$2,'10a. Travel (Local)'!$J27))=TRUE,('10a. Travel (Local)'!$L27/COUNTA(_xlfn.TEXTSPLIT('10a. Travel (Local)'!$J27,\";\"))),0)+IF(ISNUMBER(SEARCH(A$2,'10b. Travel (Non-Local)'!$G27))=TRUE,(SUM('10b. Travel (Non-Local)'!$E27:$F27)/COUNTA(_xlfn.TEXTSPLIT('10b. Travel (Non-Local)'!$G27,\";\"))),0)","v":0},{"$f":"IF(ISNUMBER(SEARCH(B$2,'10a. Travel (Local)'!$J27))=TRUE,('10a. Travel (Local)'!$L27/COUNTA(_xlfn.TEXTSPLIT('10a. Travel (Local)'!$J27,\";\"))),0)+IF(ISNUMBER(SEARCH(B$2,'10b. Travel (Non-Local)'!$G27))=TRUE,(SUM('10b. Travel (Non-Local)'!$E27:$F27)/COUNTA(_xlfn.TEXTSPLIT('10b. Travel (Non-Local)'!$G27,\";\"))),0)","v":0},{"$f":"IF(ISNUMBER(SEARCH(C$2,'10a. Travel (Local)'!$J27))=TRUE,('10a. Travel (Local)'!$L27/COUNTA(_xlfn.TEXTSPLIT('10a. Travel (Local)'!$J27,\";\"))),0)+IF(ISNUMBER(SEARCH(C$2,'10b. Travel (Non-Local)'!$G27))=TRUE,(SUM('10b. Travel (Non-Local)'!$E27:$F27)/COUNTA(_xlfn.TEXTSPLIT('10b. Travel (Non-Local)'!$G27,\";\"))),0)","v":0},null,{"$f":"IF(ISNUMBER(SEARCH(E$2,'10a. Travel (Local)'!$K27))=TRUE,('10a. Travel (Local)'!$L27/COUNTA(_xlfn.TEXTSPLIT('10a. Travel (Local)'!$K27,\";\"))),0)+IF(ISNUMBER(SEARCH(E$2,'10b. Travel (Non-Local)'!$H27))=TRUE,(SUM('10b. Travel (Non-Local)'!$E27:$F27)/COUNTA(_xlfn.TEXTSPLIT('10b. Travel (Non-Local)'!$H27,\";\"))),0)","v":0},{"$f":"IF(ISNUMBER(SEARCH(F$2,'10a. Travel (Local)'!$K27))=TRUE,('10a. Travel (Local)'!$L27/COUNTA(_xlfn.TEXTSPLIT('10a. Travel (Local)'!$K27,\";\"))),0)+IF(ISNUMBER(SEARCH(F$2,'10b. Travel (Non-Local)'!$H27))=TRUE,(SUM('10b. Travel (Non-Local)'!$E27:$F27)/COUNTA(_xlfn.TEXTSPLIT('10b. Travel (Non-Local)'!$H27,\";\"))),0)","v":0},{"$f":"IF(ISNUMBER(SEARCH(G$2,'10a. Travel (Local)'!$K27))=TRUE,('10a. Travel (Local)'!$L27/COUNTA(_xlfn.TEXTSPLIT('10a. Travel (Local)'!$K27,\";\"))),0)+IF(ISNUMBER(SEARCH(G$2,'10b. Travel (Non-Local)'!$H27))=TRUE,(SUM('10b. Travel (Non-Local)'!$E27:$F27)/COUNTA(_xlfn.TEXTSPLIT('10b. Travel (Non-Local)'!$H27,\";\"))),0)","v":0},{"$f":"IF(ISNUMBER(SEARCH(H$2,'10a. Travel (Local)'!$K27))=TRUE,('10a. Travel (Local)'!$L27/COUNTA(_xlfn.TEXTSPLIT('10a. Travel (Local)'!$K27,\";\"))),0)+IF(ISNUMBER(SEARCH(H$2,'10b. Travel (Non-Local)'!$H27))=TRUE,(SUM('10b. Travel (Non-Local)'!$E27:$F27)/COUNTA(_xlfn.TEXTSPLIT('10b. Travel (Non-Local)'!$H27,\";\"))),0)","v":0}]
[{"$f":"IF(ISNUMBER(SEARCH(A$2,'10a. Travel (Local)'!$J28))=TRUE,('10a. Travel (Local)'!$L28/COUNTA(_xlfn.TEXTSPLIT('10a. Travel (Local)'!$J28,\";\"))),0)+IF(ISNUMBER(SEARCH(A$2,'10b. Travel (Non-Local)'!$G28))=TRUE,(SUM('10b. Travel (Non-Local)'!$E28:$F28)/COUNTA(_xlfn.TEXTSPLIT('10b. Travel (Non-Local)'!$G28,\";\"))),0)","v":0},{"$f":"IF(ISNUMBER(SEARCH(B$2,'10a. Travel (Local)'!$J28))=TRUE,('10a. Travel (Local)'!$L28/COUNTA(_xlfn.TEXTSPLIT('10a. Travel (Local)'!$J28,\";\"))),0)+IF(ISNUMBER(SEARCH(B$2,'10b. Travel (Non-Local)'!$G28))=TRUE,(SUM('10b. Travel (Non-Local)'!$E28:$F28)/COUNTA(_xlfn.TEXTSPLIT('10b. Travel (Non-Local)'!$G28,\";\"))),0)","v":0},{"$f":"IF(ISNUMBER(SEARCH(C$2,'10a. Travel (Local)'!$J28))=TRUE,('10a. Travel (Local)'!$L28/COUNTA(_xlfn.TEXTSPLIT('10a. Travel (Local)'!$J28,\";\"))),0)+IF(ISNUMBER(SEARCH(C$2,'10b. Travel (Non-Local)'!$G28))=TRUE,(SUM('10b. Travel (Non-Local)'!$E28:$F28)/COUNTA(_xlfn.TEXTSPLIT('10b. Travel (Non-Local)'!$G28,\";\"))),0)","v":0},null,{"$f":"IF(ISNUMBER(SEARCH(E$2,'10a. Travel (Local)'!$K28))=TRUE,('10a. Travel (Local)'!$L28/COUNTA(_xlfn.TEXTSPLIT('10a. Travel (Local)'!$K28,\";\"))),0)+IF(ISNUMBER(SEARCH(E$2,'10b. Travel (Non-Local)'!$H28))=TRUE,(SUM('10b. Travel (Non-Local)'!$E28:$F28)/COUNTA(_xlfn.TEXTSPLIT('10b. Travel (Non-Local)'!$H28,\";\"))),0)","v":0},{"$f":"IF(ISNUMBER(SEARCH(F$2,'10a. Travel (Local)'!$K28))=TRUE,('10a. Travel (Local)'!$L28/COUNTA(_xlfn.TEXTSPLIT('10a. Travel (Local)'!$K28,\";\"))),0)+IF(ISNUMBER(SEARCH(F$2,'10b. Travel (Non-Local)'!$H28))=TRUE,(SUM('10b. Travel (Non-Local)'!$E28:$F28)/COUNTA(_xlfn.TEXTSPLIT('10b. Travel (Non-Local)'!$H28,\";\"))),0)","v":0},{"$f":"IF(ISNUMBER(SEARCH(G$2,'10a. Travel (Local)'!$K28))=TRUE,('10a. Travel (Local)'!$L28/COUNTA(_xlfn.TEXTSPLIT('10a. Travel (Local)'!$K28,\";\"))),0)+IF(ISNUMBER(SEARCH(G$2,'10b. Travel (Non-Local)'!$H28))=TRUE,(SUM('10b. Travel (Non-Local)'!$E28:$F28)/COUNTA(_xlfn.TEXTSPLIT('10b. Travel (Non-Local)'!$H28,\";\"))),0)","v":0},{"$f":"IF(ISNUMBER(SEARCH(H$2,'10a. Travel (Local)'!$K28))=TRUE,('10a. Travel (Local)'!$L28/COUNTA(_xlfn.TEXTSPLIT('10a. Travel (Local)'!$K28,\";\"))),0)+IF(ISNUMBER(SEARCH(H$2,'10b. Travel (Non-Local)'!$H28))=TRUE,(SUM('10b. Travel (Non-Local)'!$E28:$F28)/COUNTA(_xlfn.TEXTSPLIT('10b. Travel (Non-Local)'!$H28,\";\"))),0)","v":0}]
[{"$f":"IF(ISNUMBER(SEARCH(A$2,'10a. Travel (Local)'!$J29))=TRUE,('10a. Travel (Local)'!$L29/COUNTA(_xlfn.TEXTSPLIT('10a. Travel (Local)'!$J29,\";\"))),0)+IF(ISNUMBER(SEARCH(A$2,'10b. Travel (Non-Local)'!$G29))=TRUE,(SUM('10b. Travel (Non-Local)'!$E29:$F29)/COUNTA(_xlfn.TEXTSPLIT('10b. Travel (Non-Local)'!$G29,\";\"))),0)","v":0},{"$f":"IF(ISNUMBER(SEARCH(B$2,'10a. Travel (Local)'!$J29))=TRUE,('10a. Travel (Local)'!$L29/COUNTA(_xlfn.TEXTSPLIT('10a. Travel (Local)'!$J29,\";\"))),0)+IF(ISNUMBER(SEARCH(B$2,'10b. Travel (Non-Local)'!$G29))=TRUE,(SUM('10b. Travel (Non-Local)'!$E29:$F29)/COUNTA(_xlfn.TEXTSPLIT('10b. Travel (Non-Local)'!$G29,\";\"))),0)","v":0},{"$f":"IF(ISNUMBER(SEARCH(C$2,'10a. Travel (Local)'!$J29))=TRUE,('10a. Travel (Local)'!$L29/COUNTA(_xlfn.TEXTSPLIT('10a. Travel (Local)'!$J29,\";\"))),0)+IF(ISNUMBER(SEARCH(C$2,'10b. Travel (Non-Local)'!$G29))=TRUE,(SUM('10b. Travel (Non-Local)'!$E29:$F29)/COUNTA(_xlfn.TEXTSPLIT('10b. Travel (Non-Local)'!$G29,\";\"))),0)","v":0},null,{"$f":"IF(ISNUMBER(SEARCH(E$2,'10a. Travel (Local)'!$K29))=TRUE,('10a. Travel (Local)'!$L29/COUNTA(_xlfn.TEXTSPLIT('10a. Travel (Local)'!$K29,\";\"))),0)+IF(ISNUMBER(SEARCH(E$2,'10b. Travel (Non-Local)'!$H29))=TRUE,(SUM('10b. Travel (Non-Local)'!$E29:$F29)/COUNTA(_xlfn.TEXTSPLIT('10b. Travel (Non-Local)'!$H29,\";\"))),0)","v":0},{"$f":"IF(ISNUMBER(SEARCH(F$2,'10a. Travel (Local)'!$K29))=TRUE,('10a. Travel (Local)'!$L29/COUNTA(_xlfn.TEXTSPLIT('10a. Travel (Local)'!$K29,\";\"))),0)+IF(ISNUMBER(SEARCH(F$2,'10b. Travel (Non-Local)'!$H29))=TRUE,(SUM('10b. Travel (Non-Local)'!$E29:$F29)/COUNTA(_xlfn.TEXTSPLIT('10b. Travel (Non-Local)'!$H29,\";\"))),0)","v":0},{"$f":"IF(ISNUMBER(SEARCH(G$2,'10a. Travel (Local)'!$K29))=TRUE,('10a. Travel (Local)'!$L29/COUNTA(_xlfn.TEXTSPLIT('10a. Travel (Local)'!$K29,\";\"))),0)+IF(ISNUMBER(SEARCH(G$2,'10b. Travel (Non-Local)'!$H29))=TRUE,(SUM('10b. Travel (Non-Local)'!$E29:$F29)/COUNTA(_xlfn.TEXTSPLIT('10b. Travel (Non-Local)'!$H29,\";\"))),0)","v":0},{"$f":"IF(ISNUMBER(SEARCH(H$2,'10a. Travel (Local)'!$K29))=TRUE,('10a. Travel (Local)'!$L29/COUNTA(_xlfn.TEXTSPLIT('10a. Travel (Local)'!$K29,\";\"))),0)+IF(ISNUMBER(SEARCH(H$2,'10b. Travel (Non-Local)'!$H29))=TRUE,(SUM('10b. Travel (Non-Local)'!$E29:$F29)/COUNTA(_xlfn.TEXTSPLIT('10b. Travel (Non-Local)'!$H29,\";\"))),0)","v":0}]
[{"$f":"IF(ISNUMBER(SEARCH(A$2,'10a. Travel (Local)'!$J30))=TRUE,('10a. Travel (Local)'!$L30/COUNTA(_xlfn.TEXTSPLIT('10a. Travel (Local)'!$J30,\";\"))),0)+IF(ISNUMBER(SEARCH(A$2,'10b. Travel (Non-Local)'!$G30))=TRUE,(SUM('10b. Travel (Non-Local)'!$E30:$F30)/COUNTA(_xlfn.TEXTSPLIT('10b. Travel (Non-Local)'!$G30,\";\"))),0)","v":0},{"$f":"IF(ISNUMBER(SEARCH(B$2,'10a. Travel (Local)'!$J30))=TRUE,('10a. Travel (Local)'!$L30/COUNTA(_xlfn.TEXTSPLIT('10a. Travel (Local)'!$J30,\";\"))),0)+IF(ISNUMBER(SEARCH(B$2,'10b. Travel (Non-Local)'!$G30))=TRUE,(SUM('10b. Travel (Non-Local)'!$E30:$F30)/COUNTA(_xlfn.TEXTSPLIT('10b. Travel (Non-Local)'!$G30,\";\"))),0)","v":0},{"$f":"IF(ISNUMBER(SEARCH(C$2,'10a. Travel (Local)'!$J30))=TRUE,('10a. Travel (Local)'!$L30/COUNTA(_xlfn.TEXTSPLIT('10a. Travel (Local)'!$J30,\";\"))),0)+IF(ISNUMBER(SEARCH(C$2,'10b. Travel (Non-Local)'!$G30))=TRUE,(SUM('10b. Travel (Non-Local)'!$E30:$F30)/COUNTA(_xlfn.TEXTSPLIT('10b. Travel (Non-Local)'!$G30,\";\"))),0)","v":0},null,{"$f":"IF(ISNUMBER(SEARCH(E$2,'10a. Travel (Local)'!$K30))=TRUE,('10a. Travel (Local)'!$L30/COUNTA(_xlfn.TEXTSPLIT('10a. Travel (Local)'!$K30,\";\"))),0)+IF(ISNUMBER(SEARCH(E$2,'10b. Travel (Non-Local)'!$H30))=TRUE,(SUM('10b. Travel (Non-Local)'!$E30:$F30)/COUNTA(_xlfn.TEXTSPLIT('10b. Travel (Non-Local)'!$H30,\";\"))),0)","v":0},{"$f":"IF(ISNUMBER(SEARCH(F$2,'10a. Travel (Local)'!$K30))=TRUE,('10a. Travel (Local)'!$L30/COUNTA(_xlfn.TEXTSPLIT('10a. Travel (Local)'!$K30,\";\"))),0)+IF(ISNUMBER(SEARCH(F$2,'10b. Travel (Non-Local)'!$H30))=TRUE,(SUM('10b. Travel (Non-Local)'!$E30:$F30)/COUNTA(_xlfn.TEXTSPLIT('10b. Travel (Non-Local)'!$H30,\";\"))),0)","v":0},{"$f":"IF(ISNUMBER(SEARCH(G$2,'10a. Travel (Local)'!$K30))=TRUE,('10a. Travel (Local)'!$L30/COUNTA(_xlfn.TEXTSPLIT('10a. Travel (Local)'!$K30,\";\"))),0)+IF(ISNUMBER(SEARCH(G$2,'10b. Travel (Non-Local)'!$H30))=TRUE,(SUM('10b. Travel (Non-Local)'!$E30:$F30)/COUNTA(_xlfn.TEXTSPLIT('10b. Travel (Non-Local)'!$H30,\";\"))),0)","v":0},{"$f":"IF(ISNUMBER(SEARCH(H$2,'10a. Travel (Local)'!$K30))=TRUE,('10a. Travel (Local)'!$L30/COUNTA(_xlfn.TEXTSPLIT('10a. Travel (Local)'!$K30,\";\"))),0)+IF(ISNUMBER(SEARCH(H$2,'10b. Travel (Non-Local)'!$H30))=TRUE,(SUM('10b. Travel (Non-Local)'!$E30:$F30)/COUNTA(_xlfn.TEXTSPLIT('10b. Travel (Non-Local)'!$H30,\";\"))),0)","v":0}]
[{"$f":"IF(ISNUMBER(SEARCH(A$2,'10a. Travel (Local)'!$J31))=TRUE,('10a. Travel (Local)'!$L31/COUNTA(_xlfn.TEXTSPLIT('10a. Travel (Local)'!$J31,\";\"))),0)+IF(ISNUMBER(SEARCH(A$2,'10b. Travel (Non-Local)'!$G31))=TRUE,(SUM('10b. Travel (Non-Local)'!$E31:$F31)/COUNTA(_xlfn.TEXTSPLIT('10b. Travel (Non-Local)'!$G31,\";\"))),0)","v":0},{"$f":"IF(ISNUMBER(SEARCH(B$2,'10a. Travel (Local)'!$J31))=TRUE,('10a. Travel (Local)'!$L31/COUNTA(_xlfn.TEXTSPLIT('10a. Travel (Local)'!$J31,\";\"))),0)+IF(ISNUMBER(SEARCH(B$2,'10b. Travel (Non-Local)'!$G31))=TRUE,(SUM('10b. Travel (Non-Local)'!$E31:$F31)/COUNTA(_xlfn.TEXTSPLIT('10b. Travel (Non-Local)'!$G31,\";\"))),0)","v":0},{"$f":"IF(ISNUMBER(SEARCH(C$2,'10a. Travel (Local)'!$J31))=TRUE,('10a. Travel (Local)'!$L31/COUNTA(_xlfn.TEXTSPLIT('10a. Travel (Local)'!$J31,\";\"))),0)+IF(ISNUMBER(SEARCH(C$2,'10b. Travel (Non-Local)'!$G31))=TRUE,(SUM('10b. Travel (Non-Local)'!$E31:$F31)/COUNTA(_xlfn.TEXTSPLIT('10b. Travel (Non-Local)'!$G31,\";\"))),0)","v":0},null,{"$f":"IF(ISNUMBER(SEARCH(E$2,'10a. Travel (Local)'!$K31))=TRUE,('10a. Travel (Local)'!$L31/COUNTA(_xlfn.TEXTSPLIT('10a. Travel (Local)'!$K31,\";\"))),0)+IF(ISNUMBER(SEARCH(E$2,'10b. Travel (Non-Local)'!$H31))=TRUE,(SUM('10b. Travel (Non-Local)'!$E31:$F31)/COUNTA(_xlfn.TEXTSPLIT('10b. Travel (Non-Local)'!$H31,\";\"))),0)","v":0},{"$f":"IF(ISNUMBER(SEARCH(F$2,'10a. Travel (Local)'!$K31))=TRUE,('10a. Travel (Local)'!$L31/COUNTA(_xlfn.TEXTSPLIT('10a. Travel (Local)'!$K31,\";\"))),0)+IF(ISNUMBER(SEARCH(F$2,'10b. Travel (Non-Local)'!$H31))=TRUE,(SUM('10b. Travel (Non-Local)'!$E31:$F31)/COUNTA(_xlfn.TEXTSPLIT('10b. Travel (Non-Local)'!$H31,\";\"))),0)","v":0},{"$f":"IF(ISNUMBER(SEARCH(G$2,'10a. Travel (Local)'!$K31))=TRUE,('10a. Travel (Local)'!$L31/COUNTA(_xlfn.TEXTSPLIT('10a. Travel (Local)'!$K31,\";\"))),0)+IF(ISNUMBER(SEARCH(G$2,'10b. Travel (Non-Local)'!$H31))=TRUE,(SUM('10b. Travel (Non-Local)'!$E31:$F31)/COUNTA(_xlfn.TEXTSPLIT('10b. Travel (Non-Local)'!$H31,\";\"))),0)","v":0},{"$f":"IF(ISNUMBER(SEARCH(H$2,'10a. Travel (Local)'!$K31))=TRUE,('10a. Travel (Local)'!$L31/COUNTA(_xlfn.TEXTSPLIT('10a. Travel (Local)'!$K31,\";\"))),0)+IF(ISNUMBER(SEARCH(H$2,'10b. Travel (Non-Local)'!$H31))=TRUE,(SUM('10b. Travel (Non-Local)'!$E31:$F31)/COUNTA(_xlfn.TEXTSPLIT('10b. Travel (Non-Local)'!$H31,\";\"))),0)","v":0}]
[{"$f":"IF(ISNUMBER(SEARCH(A$2,'10a. Travel (Local)'!$J32))=TRUE,('10a. Travel (Local)'!$L32/COUNTA(_xlfn.TEXTSPLIT('10a. Travel (Local)'!$J32,\";\"))),0)+IF(ISNUMBER(SEARCH(A$2,'10b. Travel (Non-Local)'!$G32))=TRUE,(SUM('10b. Travel (Non-Local)'!$E32:$F32)/COUNTA(_xlfn.TEXTSPLIT('10b. Travel (Non-Local)'!$G32,\";\"))),0)","v":0},{"$f":"IF(ISNUMBER(SEARCH(B$2,'10a. Travel (Local)'!$J32))=TRUE,('10a. Travel (Local)'!$L32/COUNTA(_xlfn.TEXTSPLIT('10a. Travel (Local)'!$J32,\";\"))),0)+IF(ISNUMBER(SEARCH(B$2,'10b. Travel (Non-Local)'!$G32))=TRUE,(SUM('10b. Travel (Non-Local)'!$E32:$F32)/COUNTA(_xlfn.TEXTSPLIT('10b. Travel (Non-Local)'!$G32,\";\"))),0)","v":0},{"$f":"IF(ISNUMBER(SEARCH(C$2,'10a. Travel (Local)'!$J32))=TRUE,('10a. Travel (Local)'!$L32/COUNTA(_xlfn.TEXTSPLIT('10a. Travel (Local)'!$J32,\";\"))),0)+IF(ISNUMBER(SEARCH(C$2,'10b. Travel (Non-Local)'!$G32))=TRUE,(SUM('10b. Travel (Non-Local)'!$E32:$F32)/COUNTA(_xlfn.TEXTSPLIT('10b. Travel (Non-Local)'!$G32,\";\"))),0)","v":0},null,{"$f":"IF(ISNUMBER(SEARCH(E$2,'10a. Travel (Local)'!$K32))=TRUE,('10a. Travel (Local)'!$L32/COUNTA(_xlfn.TEXTSPLIT('10a. Travel (Local)'!$K32,\";\"))),0)+IF(ISNUMBER(SEARCH(E$2,'10b. Travel (Non-Local)'!$H32))=TRUE,(SUM('10b. Travel (Non-Local)'!$E32:$F32)/COUNTA(_xlfn.TEXTSPLIT('10b. Travel (Non-Local)'!$H32,\";\"))),0)","v":0},{"$f":"IF(ISNUMBER(SEARCH(F$2,'10a. Travel (Local)'!$K32))=TRUE,('10a. Travel (Local)'!$L32/COUNTA(_xlfn.TEXTSPLIT('10a. Travel (Local)'!$K32,\";\"))),0)+IF(ISNUMBER(SEARCH(F$2,'10b. Travel (Non-Local)'!$H32))=TRUE,(SUM('10b. Travel (Non-Local)'!$E32:$F32)/COUNTA(_xlfn.TEXTSPLIT('10b. Travel (Non-Local)'!$H32,\";\"))),0)","v":0},{"$f":"IF(ISNUMBER(SEARCH(G$2,'10a. Travel (Local)'!$K32))=TRUE,('10a. Travel (Local)'!$L32/COUNTA(_xlfn.TEXTSPLIT('10a. Travel (Local)'!$K32,\";\"))),0)+IF(ISNUMBER(SEARCH(G$2,'10b. Travel (Non-Local)'!$H32))=TRUE,(SUM('10b. Travel (Non-Local)'!$E32:$F32)/COUNTA(_xlfn.TEXTSPLIT('10b. Travel (Non-Local)'!$H32,\";\"))),0)","v":0},{"$f":"IF(ISNUMBER(SEARCH(H$2,'10a. Travel (Local)'!$K32))=TRUE,('10a. Travel (Local)'!$L32/COUNTA(_xlfn.TEXTSPLIT('10a. Travel (Local)'!$K32,\";\"))),0)+IF(ISNUMBER(SEARCH(H$2,'10b. Travel (Non-Local)'!$H32))=TRUE,(SUM('10b. Travel (Non-Local)'!$E32:$F32)/COUNTA(_xlfn.TEXTSPLIT('10b. Travel (Non-Local)'!$H32,\";\"))),0)","v":0}]
[{"$f":"IF(ISNUMBER(SEARCH(A$2,'10a. Travel (Local)'!$J33))=TRUE,('10a. Travel (Local)'!$L33/COUNTA(_xlfn.TEXTSPLIT('10a. Travel (Local)'!$J33,\";\"))),0)+IF(ISNUMBER(SEARCH(A$2,'10b. Travel (Non-Local)'!$G33))=TRUE,(SUM('10b. Travel (Non-Local)'!$E33:$F33)/COUNTA(_xlfn.TEXTSPLIT('10b. Travel (Non-Local)'!$G33,\";\"))),0)","v":0},{"$f":"IF(ISNUMBER(SEARCH(B$2,'10a. Travel (Local)'!$J33))=TRUE,('10a. Travel (Local)'!$L33/COUNTA(_xlfn.TEXTSPLIT('10a. Travel (Local)'!$J33,\";\"))),0)+IF(ISNUMBER(SEARCH(B$2,'10b. Travel (Non-Local)'!$G33))=TRUE,(SUM('10b. Travel (Non-Local)'!$E33:$F33)/COUNTA(_xlfn.TEXTSPLIT('10b. Travel (Non-Local)'!$G33,\";\"))),0)","v":0},{"$f":"IF(ISNUMBER(SEARCH(C$2,'10a. Travel (Local)'!$J33))=TRUE,('10a. Travel (Local)'!$L33/COUNTA(_xlfn.TEXTSPLIT('10a. Travel (Local)'!$J33,\";\"))),0)+IF(ISNUMBER(SEARCH(C$2,'10b. Travel (Non-Local)'!$G33))=TRUE,(SUM('10b. Travel (Non-Local)'!$E33:$F33)/COUNTA(_xlfn.TEXTSPLIT('10b. Travel (Non-Local)'!$G33,\";\"))),0)","v":0},null,{"$f":"IF(ISNUMBER(SEARCH(E$2,'10a. Travel (Local)'!$K33))=TRUE,('10a. Travel (Local)'!$L33/COUNTA(_xlfn.TEXTSPLIT('10a. Travel (Local)'!$K33,\";\"))),0)+IF(ISNUMBER(SEARCH(E$2,'10b. Travel (Non-Local)'!$H33))=TRUE,(SUM('10b. Travel (Non-Local)'!$E33:$F33)/COUNTA(_xlfn.TEXTSPLIT('10b. Travel (Non-Local)'!$H33,\";\"))),0)","v":0},{"$f":"IF(ISNUMBER(SEARCH(F$2,'10a. Travel (Local)'!$K33))=TRUE,('10a. Travel (Local)'!$L33/COUNTA(_xlfn.TEXTSPLIT('10a. Travel (Local)'!$K33,\";\"))),0)+IF(ISNUMBER(SEARCH(F$2,'10b. Travel (Non-Local)'!$H33))=TRUE,(SUM('10b. Travel (Non-Local)'!$E33:$F33)/COUNTA(_xlfn.TEXTSPLIT('10b. Travel (Non-Local)'!$H33,\";\"))),0)","v":0},{"$f":"IF(ISNUMBER(SEARCH(G$2,'10a. Travel (Local)'!$K33))=TRUE,('10a. Travel (Local)'!$L33/COUNTA(_xlfn.TEXTSPLIT('10a. Travel (Local)'!$K33,\";\"))),0)+IF(ISNUMBER(SEARCH(G$2,'10b. Travel (Non-Local)'!$H33))=TRUE,(SUM('10b. Travel (Non-Local)'!$E33:$F33)/COUNTA(_xlfn.TEXTSPLIT('10b. Travel (Non-Local)'!$H33,\";\"))),0)","v":0},{"$f":"IF(ISNUMBER(SEARCH(H$2,'10a. Travel (Local)'!$K33))=TRUE,('10a. Travel (Local)'!$L33/COUNTA(_xlfn.TEXTSPLIT('10a. Travel (Local)'!$K33,\";\"))),0)+IF(ISNUMBER(SEARCH(H$2,'10b. Travel (Non-Local)'!$H33))=TRUE,(SUM('10b. Travel (Non-Local)'!$E33:$F33)/COUNTA(_xlfn.TEXTSPLIT('10b. Travel (Non-Local)'!$H33,\";\"))),0)","v":0}]
[{"$f":"IF(ISNUMBER(SEARCH(A$2,'10a. Travel (Local)'!$J34))=TRUE,('10a. Travel (Local)'!$L34/COUNTA(_xlfn.TEXTSPLIT('10a. Travel (Local)'!$J34,\";\"))),0)+IF(ISNUMBER(SEARCH(A$2,'10b. Travel (Non-Local)'!$G34))=TRUE,(SUM('10b. Travel (Non-Local)'!$E34:$F34)/COUNTA(_xlfn.TEXTSPLIT('10b. Travel (Non-Local)'!$G34,\";\"))),0)","v":0},{"$f":"IF(ISNUMBER(SEARCH(B$2,'10a. Travel (Local)'!$J34))=TRUE,('10a. Travel (Local)'!$L34/COUNTA(_xlfn.TEXTSPLIT('10a. Travel (Local)'!$J34,\";\"))),0)+IF(ISNUMBER(SEARCH(B$2,'10b. Travel (Non-Local)'!$G34))=TRUE,(SUM('10b. Travel (Non-Local)'!$E34:$F34)/COUNTA(_xlfn.TEXTSPLIT('10b. Travel (Non-Local)'!$G34,\";\"))),0)","v":0},{"$f":"IF(ISNUMBER(SEARCH(C$2,'10a. Travel (Local)'!$J34))=TRUE,('10a. Travel (Local)'!$L34/COUNTA(_xlfn.TEXTSPLIT('10a. Travel (Local)'!$J34,\";\"))),0)+IF(ISNUMBER(SEARCH(C$2,'10b. Travel (Non-Local)'!$G34))=TRUE,(SUM('10b. Travel (Non-Local)'!$E34:$F34)/COUNTA(_xlfn.TEXTSPLIT('10b. Travel (Non-Local)'!$G34,\";\"))),0)","v":0},null,{"$f":"IF(ISNUMBER(SEARCH(E$2,'10a. Travel (Local)'!$K34))=TRUE,('10a. Travel (Local)'!$L34/COUNTA(_xlfn.TEXTSPLIT('10a. Travel (Local)'!$K34,\";\"))),0)+IF(ISNUMBER(SEARCH(E$2,'10b. Travel (Non-Local)'!$H34))=TRUE,(SUM('10b. Travel (Non-Local)'!$E34:$F34)/COUNTA(_xlfn.TEXTSPLIT('10b. Travel (Non-Local)'!$H34,\";\"))),0)","v":0},{"$f":"IF(ISNUMBER(SEARCH(F$2,'10a. Travel (Local)'!$K34))=TRUE,('10a. Travel (Local)'!$L34/COUNTA(_xlfn.TEXTSPLIT('10a. Travel (Local)'!$K34,\";\"))),0)+IF(ISNUMBER(SEARCH(F$2,'10b. Travel (Non-Local)'!$H34))=TRUE,(SUM('10b. Travel (Non-Local)'!$E34:$F34)/COUNTA(_xlfn.TEXTSPLIT('10b. Travel (Non-Local)'!$H34,\";\"))),0)","v":0},{"$f":"IF(ISNUMBER(SEARCH(G$2,'10a. Travel (Local)'!$K34))=TRUE,('10a. Travel (Local)'!$L34/COUNTA(_xlfn.TEXTSPLIT('10a. Travel (Local)'!$K34,\";\"))),0)+IF(ISNUMBER(SEARCH(G$2,'10b. Travel (Non-Local)'!$H34))=TRUE,(SUM('10b. Travel (Non-Local)'!$E34:$F34)/COUNTA(_xlfn.TEXTSPLIT('10b. Travel (Non-Local)'!$H34,\";\"))),0)","v":0},{"$f":"IF(ISNUMBER(SEARCH(H$2,'10a. Travel (Local)'!$K34))=TRUE,('10a. Travel (Local)'!$L34/COUNTA(_xlfn.TEXTSPLIT('10a. Travel (Local)'!$K34,\";\"))),0)+IF(ISNUMBER(SEARCH(H$2,'10b. Travel (Non-Local)'!$H34))=TRUE,(SUM('10b. Travel (Non-Local)'!$E34:$F34)/COUNTA(_xlfn.TEXTSPLIT('10b. Travel (Non-Local)'!$H34,\";\"))),0)","v":0}]
[{"$f":"IF(ISNUMBER(SEARCH(A$2,'10a. Travel (Local)'!$J40))=TRUE,('10a. Travel (Local)'!$L40/COUNTA(_xlfn.TEXTSPLIT('10a. Travel (Local)'!$J40,\";\"))),0)+IF(ISNUMBER(SEARCH(A$2,'10b. Travel (Non-Local)'!$G35))=TRUE,(SUM('10b. Travel (Non-Local)'!$E35:$F35)/COUNTA(_xlfn.TEXTSPLIT('10b. Travel (Non-Local)'!$G35,\";\"))),0)","v":0},{"$f":"IF(ISNUMBER(SEARCH(B$2,'10a. Travel (Local)'!$J40))=TRUE,('10a. Travel (Local)'!$L40/COUNTA(_xlfn.TEXTSPLIT('10a. Travel (Local)'!$J40,\";\"))),0)+IF(ISNUMBER(SEARCH(B$2,'10b. Travel (Non-Local)'!$G35))=TRUE,(SUM('10b. Travel (Non-Local)'!$E35:$F35)/COUNTA(_xlfn.TEXTSPLIT('10b. Travel (Non-Local)'!$G35,\";\"))),0)","v":0},{"$f":"IF(ISNUMBER(SEARCH(C$2,'10a. Travel (Local)'!$J40))=TRUE,('10a. Travel (Local)'!$L40/COUNTA(_xlfn.TEXTSPLIT('10a. Travel (Local)'!$J40,\";\"))),0)+IF(ISNUMBER(SEARCH(C$2,'10b. Travel (Non-Local)'!$G35))=TRUE,(SUM('10b. Travel (Non-Local)'!$E35:$F35)/COUNTA(_xlfn.TEXTSPLIT('10b. Travel (Non-Local)'!$G35,\";\"))),0)","v":0},null,{"$f":"IF(ISNUMBER(SEARCH(E$2,'10a. Travel (Local)'!$K40))=TRUE,('10a. Travel (Local)'!$L40/COUNTA(_xlfn.TEXTSPLIT('10a. Travel (Local)'!$K40,\";\"))),0)+IF(ISNUMBER(SEARCH(E$2,'10b. Travel (Non-Local)'!$H35))=TRUE,(SUM('10b. Travel (Non-Local)'!$E35:$F35)/COUNTA(_xlfn.TEXTSPLIT('10b. Travel (Non-Local)'!$H35,\";\"))),0)","v":0},{"$f":"IF(ISNUMBER(SEARCH(F$2,'10a. Travel (Local)'!$K40))=TRUE,('10a. Travel (Local)'!$L40/COUNTA(_xlfn.TEXTSPLIT('10a. Travel (Local)'!$K40,\";\"))),0)+IF(ISNUMBER(SEARCH(F$2,'10b. Travel (Non-Local)'!$H35))=TRUE,(SUM('10b. Travel (Non-Local)'!$E35:$F35)/COUNTA(_xlfn.TEXTSPLIT('10b. Travel (Non-Local)'!$H35,\";\"))),0)","v":0},{"$f":"IF(ISNUMBER(SEARCH(G$2,'10a. Travel (Local)'!$K40))=TRUE,('10a. Travel (Local)'!$L40/COUNTA(_xlfn.TEXTSPLIT('10a. Travel (Local)'!$K40,\";\"))),0)+IF(ISNUMBER(SEARCH(G$2,'10b. Travel (Non-Local)'!$H35))=TRUE,(SUM('10b. Travel (Non-Local)'!$E35:$F35)/COUNTA(_xlfn.TEXTSPLIT('10b. Travel (Non-Local)'!$H35,\";\"))),0)","v":0},{"$f":"IF(ISNUMBER(SEARCH(H$2,'10a. Travel (Local)'!$K40))=TRUE,('10a. Travel (Local)'!$L40/COUNTA(_xlfn.TEXTSPLIT('10a. Travel (Local)'!$K40,\";\"))),0)+IF(ISNUMBER(SEARCH(H$2,'10b. Travel (Non-Local)'!$H35))=TRUE,(SUM('10b. Travel (Non-Local)'!$E35:$F35)/COUNTA(_xlfn.TEXTSPLIT('10b. Travel (Non-Local)'!$H35,\";\"))),0)","v":0}]
[{"$f":"IF(ISNUMBER(SEARCH(A$2,'10a. Travel (Local)'!$J41))=TRUE,('10a. Travel (Local)'!$L41/COUNTA(_xlfn.TEXTSPLIT('10a. Travel (Local)'!$J41,\";\"))),0)+IF(ISNUMBER(SEARCH(A$2,'10b. Travel (Non-Local)'!$G36))=TRUE,(SUM('10b. Travel (Non-Local)'!$E36:$F36)/COUNTA(_xlfn.TEXTSPLIT('10b. Travel (Non-Local)'!$G36,\";\"))),0)","v":0},{"$f":"IF(ISNUMBER(SEARCH(B$2,'10a. Travel (Local)'!$J41))=TRUE,('10a. Travel (Local)'!$L41/COUNTA(_xlfn.TEXTSPLIT('10a. Travel (Local)'!$J41,\";\"))),0)+IF(ISNUMBER(SEARCH(B$2,'10b. Travel (Non-Local)'!$G36))=TRUE,(SUM('10b. Travel (Non-Local)'!$E36:$F36)/COUNTA(_xlfn.TEXTSPLIT('10b. Travel (Non-Local)'!$G36,\";\"))),0)","v":0},{"$f":"IF(ISNUMBER(SEARCH(C$2,'10a. Travel (Local)'!$J41))=TRUE,('10a. Travel (Local)'!$L41/COUNTA(_xlfn.TEXTSPLIT('10a. Travel (Local)'!$J41,\";\"))),0)+IF(ISNUMBER(SEARCH(C$2,'10b. Travel (Non-Local)'!$G36))=TRUE,(SUM('10b. Travel (Non-Local)'!$E36:$F36)/COUNTA(_xlfn.TEXTSPLIT('10b. Travel (Non-Local)'!$G36,\";\"))),0)","v":0},null,{"$f":"IF(ISNUMBER(SEARCH(E$2,'10a. Travel (Local)'!$K41))=TRUE,('10a. Travel (Local)'!$L41/COUNTA(_xlfn.TEXTSPLIT('10a. Travel (Local)'!$K41,\";\"))),0)+IF(ISNUMBER(SEARCH(E$2,'10b. Travel (Non-Local)'!$H36))=TRUE,(SUM('10b. Travel (Non-Local)'!$E36:$F36)/COUNTA(_xlfn.TEXTSPLIT('10b. Travel (Non-Local)'!$H36,\";\"))),0)","v":0},{"$f":"IF(ISNUMBER(SEARCH(F$2,'10a. Travel (Local)'!$K41))=TRUE,('10a. Travel (Local)'!$L41/COUNTA(_xlfn.TEXTSPLIT('10a. Travel (Local)'!$K41,\";\"))),0)+IF(ISNUMBER(SEARCH(F$2,'10b. Travel (Non-Local)'!$H36))=TRUE,(SUM('10b. Travel (Non-Local)'!$E36:$F36)/COUNTA(_xlfn.TEXTSPLIT('10b. Travel (Non-Local)'!$H36,\";\"))),0)","v":0},{"$f":"IF(ISNUMBER(SEARCH(G$2,'10a. Travel (Local)'!$K41))=TRUE,('10a. Travel (Local)'!$L41/COUNTA(_xlfn.TEXTSPLIT('10a. Travel (Local)'!$K41,\";\"))),0)+IF(ISNUMBER(SEARCH(G$2,'10b. Travel (Non-Local)'!$H36))=TRUE,(SUM('10b. Travel (Non-Local)'!$E36:$F36)/COUNTA(_xlfn.TEXTSPLIT('10b. Travel (Non-Local)'!$H36,\";\"))),0)","v":0},{"$f":"IF(ISNUMBER(SEARCH(H$2,'10a. Travel (Local)'!$K41))=TRUE,('10a. Travel (Local)'!$L41/COUNTA(_xlfn.TEXTSPLIT('10a. Travel (Local)'!$K41,\";\"))),0)+IF(ISNUMBER(SEARCH(H$2,'10b. Travel (Non-Local)'!$H36))=TRUE,(SUM('10b. Travel (Non-Local)'!$E36:$F36)/COUNTA(_xlfn.TEXTSPLIT('10b. Travel (Non-Local)'!$H36,\";\"))),0)","v":0}]
[{"$f":"IF(ISNUMBER(SEARCH(A$2,'10a. Travel (Local)'!$J42))=TRUE,('10a. Travel (Local)'!$L42/COUNTA(_xlfn.TEXTSPLIT('10a. Travel (Local)'!$J42,\";\"))),0)+IF(ISNUMBER(SEARCH(A$2,'10b. Travel (Non-Local)'!$G37))=TRUE,(SUM('10b. Travel (Non-Local)'!$E37:$F37)/COUNTA(_xlfn.TEXTSPLIT('10b. Travel (Non-Local)'!$G37,\";\"))),0)","v":0},{"$f":"IF(ISNUMBER(SEARCH(B$2,'10a. Travel (Local)'!$J42))=TRUE,('10a. Travel (Local)'!$L42/COUNTA(_xlfn.TEXTSPLIT('10a. Travel (Local)'!$J42,\";\"))),0)+IF(ISNUMBER(SEARCH(B$2,'10b. Travel (Non-Local)'!$G37))=TRUE,(SUM('10b. Travel (Non-Local)'!$E37:$F37)/COUNTA(_xlfn.TEXTSPLIT('10b. Travel (Non-Local)'!$G37,\";\"))),0)","v":0},{"$f":"IF(ISNUMBER(SEARCH(C$2,'10a. Travel (Local)'!$J42))=TRUE,('10a. Travel (Local)'!$L42/COUNTA(_xlfn.TEXTSPLIT('10a. Travel (Local)'!$J42,\";\"))),0)+IF(ISNUMBER(SEARCH(C$2,'10b. Travel (Non-Local)'!$G37))=TRUE,(SUM('10b. Travel (Non-Local)'!$E37:$F37)/COUNTA(_xlfn.TEXTSPLIT('10b. Travel (Non-Local)'!$G37,\";\"))),0)","v":0},null,{"$f":"IF(ISNUMBER(SEARCH(E$2,'10a. Travel (Local)'!$K42))=TRUE,('10a. Travel (Local)'!$L42/COUNTA(_xlfn.TEXTSPLIT('10a. Travel (Local)'!$K42,\";\"))),0)+IF(ISNUMBER(SEARCH(E$2,'10b. Travel (Non-Local)'!$H37))=TRUE,(SUM('10b. Travel (Non-Local)'!$E37:$F37)/COUNTA(_xlfn.TEXTSPLIT('10b. Travel (Non-Local)'!$H37,\";\"))),0)","v":0},{"$f":"IF(ISNUMBER(SEARCH(F$2,'10a. Travel (Local)'!$K42))=TRUE,('10a. Travel (Local)'!$L42/COUNTA(_xlfn.TEXTSPLIT('10a. Travel (Local)'!$K42,\";\"))),0)+IF(ISNUMBER(SEARCH(F$2,'10b. Travel (Non-Local)'!$H37))=TRUE,(SUM('10b. Travel (Non-Local)'!$E37:$F37)/COUNTA(_xlfn.TEXTSPLIT('10b. Travel (Non-Local)'!$H37,\";\"))),0)","v":0},{"$f":"IF(ISNUMBER(SEARCH(G$2,'10a. Travel (Local)'!$K42))=TRUE,('10a. Travel (Local)'!$L42/COUNTA(_xlfn.TEXTSPLIT('10a. Travel (Local)'!$K42,\";\"))),0)+IF(ISNUMBER(SEARCH(G$2,'10b. Travel (Non-Local)'!$H37))=TRUE,(SUM('10b. Travel (Non-Local)'!$E37:$F37)/COUNTA(_xlfn.TEXTSPLIT('10b. Travel (Non-Local)'!$H37,\";\"))),0)","v":0},{"$f":"IF(ISNUMBER(SEARCH(H$2,'10a. Travel (Local)'!$K42))=TRUE,('10a. Travel (Local)'!$L42/COUNTA(_xlfn.TEXTSPLIT('10a. Travel (Local)'!$K42,\";\"))),0)+IF(ISNUMBER(SEARCH(H$2,'10b. Travel (Non-Local)'!$H37))=TRUE,(SUM('10b. Travel (Non-Local)'!$E37:$F37)/COUNTA(_xlfn.TEXTSPLIT('10b. Travel (Non-Local)'!$H37,\";\"))),0)","v":0}]
[{"$f":"IF(ISNUMBER(SEARCH(A$2,'10a. Travel (Local)'!$J43))=TRUE,('10a. Travel (Local)'!$L43/COUNTA(_xlfn.TEXTSPLIT('10a. Travel (Local)'!$J43,\";\"))),0)+IF(ISNUMBER(SEARCH(A$2,'10b. Travel (Non-Local)'!$G38))=TRUE,(SUM('10b. Travel (Non-Local)'!$E38:$F38)/COUNTA(_xlfn.TEXTSPLIT('10b. Travel (Non-Local)'!$G38,\";\"))),0)","v":0},{"$f":"IF(ISNUMBER(SEARCH(B$2,'10a. Travel (Local)'!$J43))=TRUE,('10a. Travel (Local)'!$L43/COUNTA(_xlfn.TEXTSPLIT('10a. Travel (Local)'!$J43,\";\"))),0)+IF(ISNUMBER(SEARCH(B$2,'10b. Travel (Non-Local)'!$G38))=TRUE,(SUM('10b. Travel (Non-Local)'!$E38:$F38)/COUNTA(_xlfn.TEXTSPLIT('10b. Travel (Non-Local)'!$G38,\";\"))),0)","v":0},{"$f":"IF(ISNUMBER(SEARCH(C$2,'10a. Travel (Local)'!$J43))=TRUE,('10a. Travel (Local)'!$L43/COUNTA(_xlfn.TEXTSPLIT('10a. Travel (Local)'!$J43,\";\"))),0)+IF(ISNUMBER(SEARCH(C$2,'10b. Travel (Non-Local)'!$G38))=TRUE,(SUM('10b. Travel (Non-Local)'!$E38:$F38)/COUNTA(_xlfn.TEXTSPLIT('10b. Travel (Non-Local)'!$G38,\";\"))),0)","v":0},null,{"$f":"IF(ISNUMBER(SEARCH(E$2,'10a. Travel (Local)'!$K43))=TRUE,('10a. Travel (Local)'!$L43/COUNTA(_xlfn.TEXTSPLIT('10a. Travel (Local)'!$K43,\";\"))),0)+IF(ISNUMBER(SEARCH(E$2,'10b. Travel (Non-Local)'!$H38))=TRUE,(SUM('10b. Travel (Non-Local)'!$E38:$F38)/COUNTA(_xlfn.TEXTSPLIT('10b. Travel (Non-Local)'!$H38,\";\"))),0)","v":0},{"$f":"IF(ISNUMBER(SEARCH(F$2,'10a. Travel (Local)'!$K43))=TRUE,('10a. Travel (Local)'!$L43/COUNTA(_xlfn.TEXTSPLIT('10a. Travel (Local)'!$K43,\";\"))),0)+IF(ISNUMBER(SEARCH(F$2,'10b. Travel (Non-Local)'!$H38))=TRUE,(SUM('10b. Travel (Non-Local)'!$E38:$F38)/COUNTA(_xlfn.TEXTSPLIT('10b. Travel (Non-Local)'!$H38,\";\"))),0)","v":0},{"$f":"IF(ISNUMBER(SEARCH(G$2,'10a. Travel (Local)'!$K43))=TRUE,('10a. Travel (Local)'!$L43/COUNTA(_xlfn.TEXTSPLIT('10a. Travel (Local)'!$K43,\";\"))),0)+IF(ISNUMBER(SEARCH(G$2,'10b. Travel (Non-Local)'!$H38))=TRUE,(SUM('10b. Travel (Non-Local)'!$E38:$F38)/COUNTA(_xlfn.TEXTSPLIT('10b. Travel (Non-Local)'!$H38,\";\"))),0)","v":0},{"$f":"IF(ISNUMBER(SEARCH(H$2,'10a. Travel (Local)'!$K43))=TRUE,('10a. Travel (Local)'!$L43/COUNTA(_xlfn.TEXTSPLIT('10a. Travel (Local)'!$K43,\";\"))),0)+IF(ISNUMBER(SEARCH(H$2,'10b. Travel (Non-Local)'!$H38))=TRUE,(SUM('10b. Travel (Non-Local)'!$E38:$F38)/COUNTA(_xlfn.TEXTSPLIT('10b. Travel (Non-Local)'!$H38,\";\"))),0)","v":0}]
[{"$f":"IF(ISNUMBER(SEARCH(A$2,'10a. Travel (Local)'!$J44))=TRUE,('10a. Travel (Local)'!$L44/COUNTA(_xlfn.TEXTSPLIT('10a. Travel (Local)'!$J44,\";\"))),0)+IF(ISNUMBER(SEARCH(A$2,'10b. Travel (Non-Local)'!$G39))=TRUE,(SUM('10b. Travel (Non-Local)'!$E39:$F39)/COUNTA(_xlfn.TEXTSPLIT('10b. Travel (Non-Local)'!$G39,\";\"))),0)","v":0},{"$f":"IF(ISNUMBER(SEARCH(B$2,'10a. Travel (Local)'!$J44))=TRUE,('10a. Travel (Local)'!$L44/COUNTA(_xlfn.TEXTSPLIT('10a. Travel (Local)'!$J44,\";\"))),0)+IF(ISNUMBER(SEARCH(B$2,'10b. Travel (Non-Local)'!$G39))=TRUE,(SUM('10b. Travel (Non-Local)'!$E39:$F39)/COUNTA(_xlfn.TEXTSPLIT('10b. Travel (Non-Local)'!$G39,\";\"))),0)","v":0},{"$f":"IF(ISNUMBER(SEARCH(C$2,'10a. Travel (Local)'!$J44))=TRUE,('10a. Travel (Local)'!$L44/COUNTA(_xlfn.TEXTSPLIT('10a. Travel (Local)'!$J44,\";\"))),0)+IF(ISNUMBER(SEARCH(C$2,'10b. Travel (Non-Local)'!$G39))=TRUE,(SUM('10b. Travel (Non-Local)'!$E39:$F39)/COUNTA(_xlfn.TEXTSPLIT('10b. Travel (Non-Local)'!$G39,\";\"))),0)","v":0},null,{"$f":"IF(ISNUMBER(SEARCH(E$2,'10a. Travel (Local)'!$K44))=TRUE,('10a. Travel (Local)'!$L44/COUNTA(_xlfn.TEXTSPLIT('10a. Travel (Local)'!$K44,\";\"))),0)+IF(ISNUMBER(SEARCH(E$2,'10b. Travel (Non-Local)'!$H39))=TRUE,(SUM('10b. Travel (Non-Local)'!$E39:$F39)/COUNTA(_xlfn.TEXTSPLIT('10b. Travel (Non-Local)'!$H39,\";\"))),0)","v":0},{"$f":"IF(ISNUMBER(SEARCH(F$2,'10a. Travel (Local)'!$K44))=TRUE,('10a. Travel (Local)'!$L44/COUNTA(_xlfn.TEXTSPLIT('10a. Travel (Local)'!$K44,\";\"))),0)+IF(ISNUMBER(SEARCH(F$2,'10b. Travel (Non-Local)'!$H39))=TRUE,(SUM('10b. Travel (Non-Local)'!$E39:$F39)/COUNTA(_xlfn.TEXTSPLIT('10b. Travel (Non-Local)'!$H39,\";\"))),0)","v":0},{"$f":"IF(ISNUMBER(SEARCH(G$2,'10a. Travel (Local)'!$K44))=TRUE,('10a. Travel (Local)'!$L44/COUNTA(_xlfn.TEXTSPLIT('10a. Travel (Local)'!$K44,\";\"))),0)+IF(ISNUMBER(SEARCH(G$2,'10b. Travel (Non-Local)'!$H39))=TRUE,(SUM('10b. Travel (Non-Local)'!$E39:$F39)/COUNTA(_xlfn.TEXTSPLIT('10b. Travel (Non-Local)'!$H39,\";\"))),0)","v":0},{"$f":"IF(ISNUMBER(SEARCH(H$2,'10a. Travel (Local)'!$K44))=TRUE,('10a. Travel (Local)'!$L44/COUNTA(_xlfn.TEXTSPLIT('10a. Travel (Local)'!$K44,\";\"))),0)+IF(ISNUMBER(SEARCH(H$2,'10b. Travel (Non-Local)'!$H39))=TRUE,(SUM('10b. Travel (Non-Local)'!$E39:$F39)/COUNTA(_xlfn.TEXTSPLIT('10b. Travel (Non-Local)'!$H39,\";\"))),0)","v":0}]
[{"$f":"IF(ISNUMBER(SEARCH(A$2,'10a. Travel (Local)'!$J45))=TRUE,('10a. Travel (Local)'!$L45/COUNTA(_xlfn.TEXTSPLIT('10a. Travel (Local)'!$J45,\";\"))),0)+IF(ISNUMBER(SEARCH(A$2,'10b. Travel (Non-Local)'!$G40))=TRUE,(SUM('10b. Travel (Non-Local)'!$E40:$F40)/COUNTA(_xlfn.TEXTSPLIT('10b. Travel (Non-Local)'!$G40,\";\"))),0)","v":0},{"$f":"IF(ISNUMBER(SEARCH(B$2,'10a. Travel (Local)'!$J45))=TRUE,('10a. Travel (Local)'!$L45/COUNTA(_xlfn.TEXTSPLIT('10a. Travel (Local)'!$J45,\";\"))),0)+IF(ISNUMBER(SEARCH(B$2,'10b. Travel (Non-Local)'!$G40))=TRUE,(SUM('10b. Travel (Non-Local)'!$E40:$F40)/COUNTA(_xlfn.TEXTSPLIT('10b. Travel (Non-Local)'!$G40,\";\"))),0)","v":0},{"$f":"IF(ISNUMBER(SEARCH(C$2,'10a. Travel (Local)'!$J45))=TRUE,('10a. Travel (Local)'!$L45/COUNTA(_xlfn.TEXTSPLIT('10a. Travel (Local)'!$J45,\";\"))),0)+IF(ISNUMBER(SEARCH(C$2,'10b. Travel (Non-Local)'!$G40))=TRUE,(SUM('10b. Travel (Non-Local)'!$E40:$F40)/COUNTA(_xlfn.TEXTSPLIT('10b. Travel (Non-Local)'!$G40,\";\"))),0)","v":0},null,{"$f":"IF(ISNUMBER(SEARCH(E$2,'10a. Travel (Local)'!$K45))=TRUE,('10a. Travel (Local)'!$L45/COUNTA(_xlfn.TEXTSPLIT('10a. Travel (Local)'!$K45,\";\"))),0)+IF(ISNUMBER(SEARCH(E$2,'10b. Travel (Non-Local)'!$H40))=TRUE,(SUM('10b. Travel (Non-Local)'!$E40:$F40)/COUNTA(_xlfn.TEXTSPLIT('10b. Travel (Non-Local)'!$H40,\";\"))),0)","v":0},{"$f":"IF(ISNUMBER(SEARCH(F$2,'10a. Travel (Local)'!$K45))=TRUE,('10a. Travel (Local)'!$L45/COUNTA(_xlfn.TEXTSPLIT('10a. Travel (Local)'!$K45,\";\"))),0)+IF(ISNUMBER(SEARCH(F$2,'10b. Travel (Non-Local)'!$H40))=TRUE,(SUM('10b. Travel (Non-Local)'!$E40:$F40)/COUNTA(_xlfn.TEXTSPLIT('10b. Travel (Non-Local)'!$H40,\";\"))),0)","v":0},{"$f":"IF(ISNUMBER(SEARCH(G$2,'10a. Travel (Local)'!$K45))=TRUE,('10a. Travel (Local)'!$L45/COUNTA(_xlfn.TEXTSPLIT('10a. Travel (Local)'!$K45,\";\"))),0)+IF(ISNUMBER(SEARCH(G$2,'10b. Travel (Non-Local)'!$H40))=TRUE,(SUM('10b. Travel (Non-Local)'!$E40:$F40)/COUNTA(_xlfn.TEXTSPLIT('10b. Travel (Non-Local)'!$H40,\";\"))),0)","v":0},{"$f":"IF(ISNUMBER(SEARCH(H$2,'10a. Travel (Local)'!$K45))=TRUE,('10a. Travel (Local)'!$L45/COUNTA(_xlfn.TEXTSPLIT('10a. Travel (Local)'!$K45,\";\"))),0)+IF(ISNUMBER(SEARCH(H$2,'10b. Travel (Non-Local)'!$H40))=TRUE,(SUM('10b. Travel (Non-Local)'!$E40:$F40)/COUNTA(_xlfn.TEXTSPLIT('10b. Travel (Non-Local)'!$H40,\";\"))),0)","v":0}]
[]
["Partner Involvement- Allocation by Strategy",{"$nulls":3},"Partner Involvement- Allocation by Topic"]
["Data and Surveillance","Collaborations and Partnerships","Assessment and Evaluation",null,"Adverse Childhood Experiences (ACEs)","Transportation Safety","Traumatic Brain Injury","Other Topic (please specify in comments)"]
[{"$f":"IF(ISNUMBER(SEARCH(A$206,'12.Partner Involvement'!$G6))=TRUE,(('12.Partner Involvement'!$D6*'12.Partner Involvement'!$E6)/COUNTA(_xlfn.TEXTSPLIT('12.Partner Involvement'!$G6,\";\"))),\"\")","v":""},{"$f":"IF(ISNUMBER(SEARCH(B$206,'12.Partner Involvement'!$G6))=TRUE,(('12.Partner Involvement'!$D6*'12.Partner Involvement'!$E6)/COUNTA(_xlfn.TEXTSPLIT('12.Partner Involvement'!$G6,\";\"))),\"\")","v":""},{"$f":"IF(ISNUMBER(SEARCH(C$206,'12.Partner Involvement'!$G6))=TRUE,(('12.Partner Involvement'!$D6*'12.Partner Involvement'!$E6)/COUNTA(_xlfn.TEXTSPLIT('12.Partner Involvement'!$G6,\";\"))),\"\")","v":""},null,{"$f":"IF(ISNUMBER(SEARCH(E$206,'12.Partner Involvement'!$H6))=TRUE,(('12.Partner Involvement'!$D6*'12.Partner Involvement'!$E6)/COUNTA(_xlfn.TEXTSPLIT('12.Partner Involvement'!$H6,\";\"))),\"\")","v":""},{"$f":"IF(ISNUMBER(SEARCH(F$206,'12.Partner Involvement'!$H6))=TRUE,(('12.Partner Involvement'!$D6*'12.Partner Involvement'!$E6)/COUNTA(_xlfn.TEXTSPLIT('12.Partner Involvement'!$H6,\";\"))),\"\")","v":""},{"$f":"IF(ISNUMBER(SEARCH(G$206,'12.Partner Involvement'!$H6))=TRUE,(('12.Partner Involvement'!$D6*'12.Partner Involvement'!$E6)/COUNTA(_xlfn.TEXTSPLIT('12.Partner Involvement'!$H6,\";\"))),\"\")","v":""},{"$f":"IF(ISNUMBER(SEARCH(H$206,'12.Partner Involvement'!$H6))=TRUE,(('12.Partner Involvement'!$D6*'12.Partner Involvement'!$E6)/COUNTA(_xlfn.TEXTSPLIT('12.Partner Involvement'!$H6,\";\"))),\"\")","v":""}]
[{"$f":"IF(ISNUMBER(SEARCH(A$206,'12.Partner Involvement'!$G7))=TRUE,(('12.Partner Involvement'!$D7*'12.Partner Involvement'!$E7)/COUNTA(_xlfn.TEXTSPLIT('12.Partner Involvement'!$G7,\";\"))),\"\")","v":""},{"$f":"IF(ISNUMBER(SEARCH(B$206,'12.Partner Involvement'!$G7))=TRUE,(('12.Partner Involvement'!$D7*'12.Partner Involvement'!$E7)/COUNTA(_xlfn.TEXTSPLIT('12.Partner Involvement'!$G7,\";\"))),\"\")","v":""},{"$f":"IF(ISNUMBER(SEARCH(C$206,'12.Partner Involvement'!$G7))=TRUE,(('12.Partner Involvement'!$D7*'12.Partner Involvement'!$E7)/COUNTA(_xlfn.TEXTSPLIT('12.Partner Involvement'!$G7,\";\"))),\"\")","v":""},null,{"$f":"IF(ISNUMBER(SEARCH(E$206,'12.Partner Involvement'!$H7))=TRUE,(('12.Partner Involvement'!$D7*'12.Partner Involvement'!$E7)/COUNTA(_xlfn.TEXTSPLIT('12.Partner Involvement'!$H7,\";\"))),\"\")","v":""},{"$f":"IF(ISNUMBER(SEARCH(F$206,'12.Partner Involvement'!$H7))=TRUE,(('12.Partner Involvement'!$D7*'12.Partner Involvement'!$E7)/COUNTA(_xlfn.TEXTSPLIT('12.Partner Involvement'!$H7,\";\"))),\"\")","v":""},{"$f":"IF(ISNUMBER(SEARCH(G$206,'12.Partner Involvement'!$H7))=TRUE,(('12.Partner Involvement'!$D7*'12.Partner Involvement'!$E7)/COUNTA(_xlfn.TEXTSPLIT('12.Partner Involvement'!$H7,\";\"))),\"\")","v":""},{"$f":"IF(ISNUMBER(SEARCH(H$206,'12.Partner Involvement'!$H7))=TRUE,(('12.Partner Involvement'!$D7*'12.Partner Involvement'!$E7)/COUNTA(_xlfn.TEXTSPLIT('12.Partner Involvement'!$H7,\";\"))),\"\")","v":""}]
[{"$f":"IF(ISNUMBER(SEARCH(A$206,'12.Partner Involvement'!$G8))=TRUE,(('12.Partner Involvement'!$D8*'12.Partner Involvement'!$E8)/COUNTA(_xlfn.TEXTSPLIT('12.Partner Involvement'!$G8,\";\"))),\"\")","v":""},{"$f":"IF(ISNUMBER(SEARCH(B$206,'12.Partner Involvement'!$G8))=TRUE,(('12.Partner Involvement'!$D8*'12.Partner Involvement'!$E8)/COUNTA(_xlfn.TEXTSPLIT('12.Partner Involvement'!$G8,\";\"))),\"\")","v":""},{"$f":"IF(ISNUMBER(SEARCH(C$206,'12.Partner Involvement'!$G8))=TRUE,(('12.Partner Involvement'!$D8*'12.Partner Involvement'!$E8)/COUNTA(_xlfn.TEXTSPLIT('12.Partner Involvement'!$G8,\";\"))),\"\")","v":""},null,{"$f":"IF(ISNUMBER(SEARCH(E$206,'12.Partner Involvement'!$H8))=TRUE,(('12.Partner Involvement'!$D8*'12.Partner Involvement'!$E8)/COUNTA(_xlfn.TEXTSPLIT('12.Partner Involvement'!$H8,\";\"))),\"\")","v":""},{"$f":"IF(ISNUMBER(SEARCH(F$206,'12.Partner Involvement'!$H8))=TRUE,(('12.Partner Involvement'!$D8*'12.Partner Involvement'!$E8)/COUNTA(_xlfn.TEXTSPLIT('12.Partner Involvement'!$H8,\";\"))),\"\")","v":""},{"$f":"IF(ISNUMBER(SEARCH(G$206,'12.Partner Involvement'!$H8))=TRUE,(('12.Partner Involvement'!$D8*'12.Partner Involvement'!$E8)/COUNTA(_xlfn.TEXTSPLIT('12.Partner Involvement'!$H8,\";\"))),\"\")","v":""},{"$f":"IF(ISNUMBER(SEARCH(H$206,'12.Partner Involvement'!$H8))=TRUE,(('12.Partner Involvement'!$D8*'12.Partner Involvement'!$E8)/COUNTA(_xlfn.TEXTSPLIT('12.Partner Involvement'!$H8,\";\"))),\"\")","v":""}]
[{"$f":"IF(ISNUMBER(SEARCH(A$206,'12.Partner Involvement'!$G9))=TRUE,(('12.Partner Involvement'!$D9*'12.Partner Involvement'!$E9)/COUNTA(_xlfn.TEXTSPLIT('12.Partner Involvement'!$G9,\";\"))),\"\")","v":""},{"$f":"IF(ISNUMBER(SEARCH(B$206,'12.Partner Involvement'!$G9))=TRUE,(('12.Partner Involvement'!$D9*'12.Partner Involvement'!$E9)/COUNTA(_xlfn.TEXTSPLIT('12.Partner Involvement'!$G9,\";\"))),\"\")","v":""},{"$f":"IF(ISNUMBER(SEARCH(C$206,'12.Partner Involvement'!$G9))=TRUE,(('12.Partner Involvement'!$D9*'12.Partner Involvement'!$E9)/COUNTA(_xlfn.TEXTSPLIT('12.Partner Involvement'!$G9,\";\"))),\"\")","v":""},null,{"$f":"IF(ISNUMBER(SEARCH(E$206,'12.Partner Involvement'!$H9))=TRUE,(('12.Partner Involvement'!$D9*'12.Partner Involvement'!$E9)/COUNTA(_xlfn.TEXTSPLIT('12.Partner Involvement'!$H9,\";\"))),\"\")","v":""},{"$f":"IF(ISNUMBER(SEARCH(F$206,'12.Partner Involvement'!$H9))=TRUE,(('12.Partner Involvement'!$D9*'12.Partner Involvement'!$E9)/COUNTA(_xlfn.TEXTSPLIT('12.Partner Involvement'!$H9,\";\"))),\"\")","v":""},{"$f":"IF(ISNUMBER(SEARCH(G$206,'12.Partner Involvement'!$H9))=TRUE,(('12.Partner Involvement'!$D9*'12.Partner Involvement'!$E9)/COUNTA(_xlfn.TEXTSPLIT('12.Partner Involvement'!$H9,\";\"))),\"\")","v":""},{"$f":"IF(ISNUMBER(SEARCH(H$206,'12.Partner Involvement'!$H9))=TRUE,(('12.Partner Involvement'!$D9*'12.Partner Involvement'!$E9)/COUNTA(_xlfn.TEXTSPLIT('12.Partner Involvement'!$H9,\";\"))),\"\")","v":""}]
[{"$f":"IF(ISNUMBER(SEARCH(A$206,'12.Partner Involvement'!$G10))=TRUE,(('12.Partner Involvement'!$D10*'12.Partner Involvement'!$E10)/COUNTA(_xlfn.TEXTSPLIT('12.Partner Involvement'!$G10,\";\"))),\"\")","v":""},{"$f":"IF(ISNUMBER(SEARCH(B$206,'12.Partner Involvement'!$G10))=TRUE,(('12.Partner Involvement'!$D10*'12.Partner Involvement'!$E10)/COUNTA(_xlfn.TEXTSPLIT('12.Partner Involvement'!$G10,\";\"))),\"\")","v":""},{"$f":"IF(ISNUMBER(SEARCH(C$206,'12.Partner Involvement'!$G10))=TRUE,(('12.Partner Involvement'!$D10*'12.Partner Involvement'!$E10)/COUNTA(_xlfn.TEXTSPLIT('12.Partner Involvement'!$G10,\";\"))),\"\")","v":""},null,{"$f":"IF(ISNUMBER(SEARCH(E$206,'12.Partner Involvement'!$H10))=TRUE,(('12.Partner Involvement'!$D10*'12.Partner Involvement'!$E10)/COUNTA(_xlfn.TEXTSPLIT('12.Partner Involvement'!$H10,\";\"))),\"\")","v":""},{"$f":"IF(ISNUMBER(SEARCH(F$206,'12.Partner Involvement'!$H10))=TRUE,(('12.Partner Involvement'!$D10*'12.Partner Involvement'!$E10)/COUNTA(_xlfn.TEXTSPLIT('12.Partner Involvement'!$H10,\";\"))),\"\")","v":""},{"$f":"IF(ISNUMBER(SEARCH(G$206,'12.Partner Involvement'!$H10))=TRUE,(('12.Partner Involvement'!$D10*'12.Partner Involvement'!$E10)/COUNTA(_xlfn.TEXTSPLIT('12.Partner Involvement'!$H10,\";\"))),\"\")","v":""},{"$f":"IF(ISNUMBER(SEARCH(H$206,'12.Partner Involvement'!$H10))=TRUE,(('12.Partner Involvement'!$D10*'12.Partner Involvement'!$E10)/COUNTA(_xlfn.TEXTSPLIT('12.Partner Involvement'!$H10,\";\"))),\"\")","v":""}]
[{"$f":"IF(ISNUMBER(SEARCH(A$206,'12.Partner Involvement'!$G11))=TRUE,(('12.Partner Involvement'!$D11*'12.Partner Involvement'!$E11)/COUNTA(_xlfn.TEXTSPLIT('12.Partner Involvement'!$G11,\";\"))),\"\")","v":""},{"$f":"IF(ISNUMBER(SEARCH(B$206,'12.Partner Involvement'!$G11))=TRUE,(('12.Partner Involvement'!$D11*'12.Partner Involvement'!$E11)/COUNTA(_xlfn.TEXTSPLIT('12.Partner Involvement'!$G11,\";\"))),\"\")","v":""},{"$f":"IF(ISNUMBER(SEARCH(C$206,'12.Partner Involvement'!$G11))=TRUE,(('12.Partner Involvement'!$D11*'12.Partner Involvement'!$E11)/COUNTA(_xlfn.TEXTSPLIT('12.Partner Involvement'!$G11,\";\"))),\"\")","v":""},null,{"$f":"IF(ISNUMBER(SEARCH(E$206,'12.Partner Involvement'!$H11))=TRUE,(('12.Partner Involvement'!$D11*'12.Partner Involvement'!$E11)/COUNTA(_xlfn.TEXTSPLIT('12.Partner Involvement'!$H11,\";\"))),\"\")","v":""},{"$f":"IF(ISNUMBER(SEARCH(F$206,'12.Partner Involvement'!$H11))=TRUE,(('12.Partner Involvement'!$D11*'12.Partner Involvement'!$E11)/COUNTA(_xlfn.TEXTSPLIT('12.Partner Involvement'!$H11,\";\"))),\"\")","v":""},{"$f":"IF(ISNUMBER(SEARCH(G$206,'12.Partner Involvement'!$H11))=TRUE,(('12.Partner Involvement'!$D11*'12.Partner Involvement'!$E11)/COUNTA(_xlfn.TEXTSPLIT('12.Partner Involvement'!$H11,\";\"))),\"\")","v":""},{"$f":"IF(ISNUMBER(SEARCH(H$206,'12.Partner Involvement'!$H11))=TRUE,(('12.Partner Involvement'!$D11*'12.Partner Involvement'!$E11)/COUNTA(_xlfn.TEXTSPLIT('12.Partner Involvement'!$H11,\";\"))),\"\")","v":""}]
[{"$f":"IF(ISNUMBER(SEARCH(A$206,'12.Partner Involvement'!$G12))=TRUE,(('12.Partner Involvement'!$D12*'12.Partner Involvement'!$E12)/COUNTA(_xlfn.TEXTSPLIT('12.Partner Involvement'!$G12,\";\"))),\"\")","v":""},{"$f":"IF(ISNUMBER(SEARCH(B$206,'12.Partner Involvement'!$G12))=TRUE,(('12.Partner Involvement'!$D12*'12.Partner Involvement'!$E12)/COUNTA(_xlfn.TEXTSPLIT('12.Partner Involvement'!$G12,\";\"))),\"\")","v":""},{"$f":"IF(ISNUMBER(SEARCH(C$206,'12.Partner Involvement'!$G12))=TRUE,(('12.Partner Involvement'!$D12*'12.Partner Involvement'!$E12)/COUNTA(_xlfn.TEXTSPLIT('12.Partner Involvement'!$G12,\";\"))),\"\")","v":""},null,{"$f":"IF(ISNUMBER(SEARCH(E$206,'12.Partner Involvement'!$H12))=TRUE,(('12.Partner Involvement'!$D12*'12.Partner Involvement'!$E12)/COUNTA(_xlfn.TEXTSPLIT('12.Partner Involvement'!$H12,\";\"))),\"\")","v":""},{"$f":"IF(ISNUMBER(SEARCH(F$206,'12.Partner Involvement'!$H12))=TRUE,(('12.Partner Involvement'!$D12*'12.Partner Involvement'!$E12)/COUNTA(_xlfn.TEXTSPLIT('12.Partner Involvement'!$H12,\";\"))),\"\")","v":""},{"$f":"IF(ISNUMBER(SEARCH(G$206,'12.Partner Involvement'!$H12))=TRUE,(('12.Partner Involvement'!$D12*'12.Partner Involvement'!$E12)/COUNTA(_xlfn.TEXTSPLIT('12.Partner Involvement'!$H12,\";\"))),\"\")","v":""},{"$f":"IF(ISNUMBER(SEARCH(H$206,'12.Partner Involvement'!$H12))=TRUE,(('12.Partner Involvement'!$D12*'12.Partner Involvement'!$E12)/COUNTA(_xlfn.TEXTSPLIT('12.Partner Involvement'!$H12,\";\"))),\"\")","v":""}]
[{"$f":"IF(ISNUMBER(SEARCH(A$206,'12.Partner Involvement'!$G13))=TRUE,(('12.Partner Involvement'!$D13*'12.Partner Involvement'!$E13)/COUNTA(_xlfn.TEXTSPLIT('12.Partner Involvement'!$G13,\";\"))),\"\")","v":""},{"$f":"IF(ISNUMBER(SEARCH(B$206,'12.Partner Involvement'!$G13))=TRUE,(('12.Partner Involvement'!$D13*'12.Partner Involvement'!$E13)/COUNTA(_xlfn.TEXTSPLIT('12.Partner Involvement'!$G13,\";\"))),\"\")","v":""},{"$f":"IF(ISNUMBER(SEARCH(C$206,'12.Partner Involvement'!$G13))=TRUE,(('12.Partner Involvement'!$D13*'12.Partner Involvement'!$E13)/COUNTA(_xlfn.TEXTSPLIT('12.Partner Involvement'!$G13,\";\"))),\"\")","v":""},null,{"$f":"IF(ISNUMBER(SEARCH(E$206,'12.Partner Involvement'!$H13))=TRUE,(('12.Partner Involvement'!$D13*'12.Partner Involvement'!$E13)/COUNTA(_xlfn.TEXTSPLIT('12.Partner Involvement'!$H13,\";\"))),\"\")","v":""},{"$f":"IF(ISNUMBER(SEARCH(F$206,'12.Partner Involvement'!$H13))=TRUE,(('12.Partner Involvement'!$D13*'12.Partner Involvement'!$E13)/COUNTA(_xlfn.TEXTSPLIT('12.Partner Involvement'!$H13,\";\"))),\"\")","v":""},{"$f":"IF(ISNUMBER(SEARCH(G$206,'12.Partner Involvement'!$H13))=TRUE,(('12.Partner Involvement'!$D13*'12.Partner Involvement'!$E13)/COUNTA(_xlfn.TEXTSPLIT('12.Partner Involvement'!$H13,\";\"))),\"\")","v":""},{"$f":"IF(ISNUMBER(SEARCH(H$206,'12.Partner Involvement'!$H13))=TRUE,(('12.Partner Involvement'!$D13*'12.Partner Involvement'!$E13)/COUNTA(_xlfn.TEXTSPLIT('12.Partner Involvement'!$H13,\";\"))),\"\")","v":""}]
[{"$f":"IF(ISNUMBER(SEARCH(A$206,'12.Partner Involvement'!$G14))=TRUE,(('12.Partner Involvement'!$D14*'12.Partner Involvement'!$E14)/COUNTA(_xlfn.TEXTSPLIT('12.Partner Involvement'!$G14,\";\"))),\"\")","v":""},{"$f":"IF(ISNUMBER(SEARCH(B$206,'12.Partner Involvement'!$G14))=TRUE,(('12.Partner Involvement'!$D14*'12.Partner Involvement'!$E14)/COUNTA(_xlfn.TEXTSPLIT('12.Partner Involvement'!$G14,\";\"))),\"\")","v":""},{"$f":"IF(ISNUMBER(SEARCH(C$206,'12.Partner Involvement'!$G14))=TRUE,(('12.Partner Involvement'!$D14*'12.Partner Involvement'!$E14)/COUNTA(_xlfn.TEXTSPLIT('12.Partner Involvement'!$G14,\";\"))),\"\")","v":""},null,{"$f":"IF(ISNUMBER(SEARCH(E$206,'12.Partner Involvement'!$H14))=TRUE,(('12.Partner Involvement'!$D14*'12.Partner Involvement'!$E14)/COUNTA(_xlfn.TEXTSPLIT('12.Partner Involvement'!$H14,\";\"))),\"\")","v":""},{"$f":"IF(ISNUMBER(SEARCH(F$206,'12.Partner Involvement'!$H14))=TRUE,(('12.Partner Involvement'!$D14*'12.Partner Involvement'!$E14)/COUNTA(_xlfn.TEXTSPLIT('12.Partner Involvement'!$H14,\";\"))),\"\")","v":""},{"$f":"IF(ISNUMBER(SEARCH(G$206,'12.Partner Involvement'!$H14))=TRUE,(('12.Partner Involvement'!$D14*'12.Partner Involvement'!$E14)/COUNTA(_xlfn.TEXTSPLIT('12.Partner Involvement'!$H14,\";\"))),\"\")","v":""},{"$f":"IF(ISNUMBER(SEARCH(H$206,'12.Partner Involvement'!$H14))=TRUE,(('12.Partner Involvement'!$D14*'12.Partner Involvement'!$E14)/COUNTA(_xlfn.TEXTSPLIT('12.Partner Involvement'!$H14,\";\"))),\"\")","v":""}]
[{"$f":"IF(ISNUMBER(SEARCH(A$206,'12.Partner Involvement'!$G15))=TRUE,(('12.Partner Involvement'!$D15*'12.Partner Involvement'!$E15)/COUNTA(_xlfn.TEXTSPLIT('12.Partner Involvement'!$G15,\";\"))),\"\")","v":""},{"$f":"IF(ISNUMBER(SEARCH(B$206,'12.Partner Involvement'!$G15))=TRUE,(('12.Partner Involvement'!$D15*'12.Partner Involvement'!$E15)/COUNTA(_xlfn.TEXTSPLIT('12.Partner Involvement'!$G15,\";\"))),\"\")","v":""},{"$f":"IF(ISNUMBER(SEARCH(C$206,'12.Partner Involvement'!$G15))=TRUE,(('12.Partner Involvement'!$D15*'12.Partner Involvement'!$E15)/COUNTA(_xlfn.TEXTSPLIT('12.Partner Involvement'!$G15,\";\"))),\"\")","v":""},null,{"$f":"IF(ISNUMBER(SEARCH(E$206,'12.Partner Involvement'!$H15))=TRUE,(('12.Partner Involvement'!$D15*'12.Partner Involvement'!$E15)/COUNTA(_xlfn.TEXTSPLIT('12.Partner Involvement'!$H15,\";\"))),\"\")","v":""},{"$f":"IF(ISNUMBER(SEARCH(F$206,'12.Partner Involvement'!$H15))=TRUE,(('12.Partner Involvement'!$D15*'12.Partner Involvement'!$E15)/COUNTA(_xlfn.TEXTSPLIT('12.Partner Involvement'!$H15,\";\"))),\"\")","v":""},{"$f":"IF(ISNUMBER(SEARCH(G$206,'12.Partner Involvement'!$H15))=TRUE,(('12.Partner Involvement'!$D15*'12.Partner Involvement'!$E15)/COUNTA(_xlfn.TEXTSPLIT('12.Partner Involvement'!$H15,\";\"))),\"\")","v":""},{"$f":"IF(ISNUMBER(SEARCH(H$206,'12.Partner Involvement'!$H15))=TRUE,(('12.Partner Involvement'!$D15*'12.Partner Involvement'!$E15)/COUNTA(_xlfn.TEXTSPLIT('12.Partner Involvement'!$H15,\";\"))),\"\")","v":""}]
[{"$f":"IF(ISNUMBER(SEARCH(A$206,'12.Partner Involvement'!$G16))=TRUE,(('12.Partner Involvement'!$D16*'12.Partner Involvement'!$E16)/COUNTA(_xlfn.TEXTSPLIT('12.Partner Involvement'!$G16,\";\"))),\"\")","v":""},{"$f":"IF(ISNUMBER(SEARCH(B$206,'12.Partner Involvement'!$G16))=TRUE,(('12.Partner Involvement'!$D16*'12.Partner Involvement'!$E16)/COUNTA(_xlfn.TEXTSPLIT('12.Partner Involvement'!$G16,\";\"))),\"\")","v":""},{"$f":"IF(ISNUMBER(SEARCH(C$206,'12.Partner Involvement'!$G16))=TRUE,(('12.Partner Involvement'!$D16*'12.Partner Involvement'!$E16)/COUNTA(_xlfn.TEXTSPLIT('12.Partner Involvement'!$G16,\";\"))),\"\")","v":""},null,{"$f":"IF(ISNUMBER(SEARCH(E$206,'12.Partner Involvement'!$H16))=TRUE,(('12.Partner Involvement'!$D16*'12.Partner Involvement'!$E16)/COUNTA(_xlfn.TEXTSPLIT('12.Partner Involvement'!$H16,\";\"))),\"\")","v":""},{"$f":"IF(ISNUMBER(SEARCH(F$206,'12.Partner Involvement'!$H16))=TRUE,(('12.Partner Involvement'!$D16*'12.Partner Involvement'!$E16)/COUNTA(_xlfn.TEXTSPLIT('12.Partner Involvement'!$H16,\";\"))),\"\")","v":""},{"$f":"IF(ISNUMBER(SEARCH(G$206,'12.Partner Involvement'!$H16))=TRUE,(('12.Partner Involvement'!$D16*'12.Partner Involvement'!$E16)/COUNTA(_xlfn.TEXTSPLIT('12.Partner Involvement'!$H16,\";\"))),\"\")","v":""},{"$f":"IF(ISNUMBER(SEARCH(H$206,'12.Partner Involvement'!$H16))=TRUE,(('12.Partner Involvement'!$D16*'12.Partner Involvement'!$E16)/COUNTA(_xlfn.TEXTSPLIT('12.Partner Involvement'!$H16,\";\"))),\"\")","v":""}]
[{"$f":"IF(ISNUMBER(SEARCH(A$206,'12.Partner Involvement'!$G17))=TRUE,(('12.Partner Involvement'!$D17*'12.Partner Involvement'!$E17)/COUNTA(_xlfn.TEXTSPLIT('12.Partner Involvement'!$G17,\";\"))),\"\")","v":""},{"$f":"IF(ISNUMBER(SEARCH(B$206,'12.Partner Involvement'!$G17))=TRUE,(('12.Partner Involvement'!$D17*'12.Partner Involvement'!$E17)/COUNTA(_xlfn.TEXTSPLIT('12.Partner Involvement'!$G17,\";\"))),\"\")","v":""},{"$f":"IF(ISNUMBER(SEARCH(C$206,'12.Partner Involvement'!$G17))=TRUE,(('12.Partner Involvement'!$D17*'12.Partner Involvement'!$E17)/COUNTA(_xlfn.TEXTSPLIT('12.Partner Involvement'!$G17,\";\"))),\"\")","v":""},null,{"$f":"IF(ISNUMBER(SEARCH(E$206,'12.Partner Involvement'!$H17))=TRUE,(('12.Partner Involvement'!$D17*'12.Partner Involvement'!$E17)/COUNTA(_xlfn.TEXTSPLIT('12.Partner Involvement'!$H17,\";\"))),\"\")","v":""},{"$f":"IF(ISNUMBER(SEARCH(F$206,'12.Partner Involvement'!$H17))=TRUE,(('12.Partner Involvement'!$D17*'12.Partner Involvement'!$E17)/COUNTA(_xlfn.TEXTSPLIT('12.Partner Involvement'!$H17,\";\"))),\"\")","v":""},{"$f":"IF(ISNUMBER(SEARCH(G$206,'12.Partner Involvement'!$H17))=TRUE,(('12.Partner Involvement'!$D17*'12.Partner Involvement'!$E17)/COUNTA(_xlfn.TEXTSPLIT('12.Partner Involvement'!$H17,\";\"))),\"\")","v":""},{"$f":"IF(ISNUMBER(SEARCH(H$206,'12.Partner Involvement'!$H17))=TRUE,(('12.Partner Involvement'!$D17*'12.Partner Involvement'!$E17)/COUNTA(_xlfn.TEXTSPLIT('12.Partner Involvement'!$H17,\";\"))),\"\")","v":""}]
[{"$f":"IF(ISNUMBER(SEARCH(A$206,'12.Partner Involvement'!$G18))=TRUE,(('12.Partner Involvement'!$D18*'12.Partner Involvement'!$E18)/COUNTA(_xlfn.TEXTSPLIT('12.Partner Involvement'!$G18,\";\"))),\"\")","v":""},{"$f":"IF(ISNUMBER(SEARCH(B$206,'12.Partner Involvement'!$G18))=TRUE,(('12.Partner Involvement'!$D18*'12.Partner Involvement'!$E18)/COUNTA(_xlfn.TEXTSPLIT('12.Partner Involvement'!$G18,\";\"))),\"\")","v":""},{"$f":"IF(ISNUMBER(SEARCH(C$206,'12.Partner Involvement'!$G18))=TRUE,(('12.Partner Involvement'!$D18*'12.Partner Involvement'!$E18)/COUNTA(_xlfn.TEXTSPLIT('12.Partner Involvement'!$G18,\";\"))),\"\")","v":""},null,{"$f":"IF(ISNUMBER(SEARCH(E$206,'12.Partner Involvement'!$H18))=TRUE,(('12.Partner Involvement'!$D18*'12.Partner Involvement'!$E18)/COUNTA(_xlfn.TEXTSPLIT('12.Partner Involvement'!$H18,\";\"))),\"\")","v":""},{"$f":"IF(ISNUMBER(SEARCH(F$206,'12.Partner Involvement'!$H18))=TRUE,(('12.Partner Involvement'!$D18*'12.Partner Involvement'!$E18)/COUNTA(_xlfn.TEXTSPLIT('12.Partner Involvement'!$H18,\";\"))),\"\")","v":""},{"$f":"IF(ISNUMBER(SEARCH(G$206,'12.Partner Involvement'!$H18))=TRUE,(('12.Partner Involvement'!$D18*'12.Partner Involvement'!$E18)/COUNTA(_xlfn.TEXTSPLIT('12.Partner Involvement'!$H18,\";\"))),\"\")","v":""},{"$f":"IF(ISNUMBER(SEARCH(H$206,'12.Partner Involvement'!$H18))=TRUE,(('12.Partner Involvement'!$D18*'12.Partner Involvement'!$E18)/COUNTA(_xlfn.TEXTSPLIT('12.Partner Involvement'!$H18,\";\"))),\"\")","v":""}]
[{"$f":"IF(ISNUMBER(SEARCH(A$206,'12.Partner Involvement'!$G19))=TRUE,(('12.Partner Involvement'!$D19*'12.Partner Involvement'!$E19)/COUNTA(_xlfn.TEXTSPLIT('12.Partner Involvement'!$G19,\";\"))),\"\")","v":""},{"$f":"IF(ISNUMBER(SEARCH(B$206,'12.Partner Involvement'!$G19))=TRUE,(('12.Partner Involvement'!$D19*'12.Partner Involvement'!$E19)/COUNTA(_xlfn.TEXTSPLIT('12.Partner Involvement'!$G19,\";\"))),\"\")","v":""},{"$f":"IF(ISNUMBER(SEARCH(C$206,'12.Partner Involvement'!$G19))=TRUE,(('12.Partner Involvement'!$D19*'12.Partner Involvement'!$E19)/COUNTA(_xlfn.TEXTSPLIT('12.Partner Involvement'!$G19,\";\"))),\"\")","v":""},null,{"$f":"IF(ISNUMBER(SEARCH(E$206,'12.Partner Involvement'!$H19))=TRUE,(('12.Partner Involvement'!$D19*'12.Partner Involvement'!$E19)/COUNTA(_xlfn.TEXTSPLIT('12.Partner Involvement'!$H19,\";\"))),\"\")","v":""},{"$f":"IF(ISNUMBER(SEARCH(F$206,'12.Partner Involvement'!$H19))=TRUE,(('12.Partner Involvement'!$D19*'12.Partner Involvement'!$E19)/COUNTA(_xlfn.TEXTSPLIT('12.Partner Involvement'!$H19,\";\"))),\"\")","v":""},{"$f":"IF(ISNUMBER(SEARCH(G$206,'12.Partner Involvement'!$H19))=TRUE,(('12.Partner Involvement'!$D19*'12.Partner Involvement'!$E19)/COUNTA(_xlfn.TEXTSPLIT('12.Partner Involvement'!$H19,\";\"))),\"\")","v":""},{"$f":"IF(ISNUMBER(SEARCH(H$206,'12.Partner Involvement'!$H19))=TRUE,(('12.Partner Involvement'!$D19*'12.Partner Involvement'!$E19)/COUNTA(_xlfn.TEXTSPLIT('12.Partner Involvement'!$H19,\";\"))),\"\")","v":""}]
[{"$f":"IF(ISNUMBER(SEARCH(A$206,'12.Partner Involvement'!$G20))=TRUE,(('12.Partner Involvement'!$D20*'12.Partner Involvement'!$E20)/COUNTA(_xlfn.TEXTSPLIT('12.Partner Involvement'!$G20,\";\"))),\"\")","v":""},{"$f":"IF(ISNUMBER(SEARCH(B$206,'12.Partner Involvement'!$G20))=TRUE,(('12.Partner Involvement'!$D20*'12.Partner Involvement'!$E20)/COUNTA(_xlfn.TEXTSPLIT('12.Partner Involvement'!$G20,\";\"))),\"\")","v":""},{"$f":"IF(ISNUMBER(SEARCH(C$206,'12.Partner Involvement'!$G20))=TRUE,(('12.Partner Involvement'!$D20*'12.Partner Involvement'!$E20)/COUNTA(_xlfn.TEXTSPLIT('12.Partner Involvement'!$G20,\";\"))),\"\")","v":""},null,{"$f":"IF(ISNUMBER(SEARCH(E$206,'12.Partner Involvement'!$H20))=TRUE,(('12.Partner Involvement'!$D20*'12.Partner Involvement'!$E20)/COUNTA(_xlfn.TEXTSPLIT('12.Partner Involvement'!$H20,\";\"))),\"\")","v":""},{"$f":"IF(ISNUMBER(SEARCH(F$206,'12.Partner Involvement'!$H20))=TRUE,(('12.Partner Involvement'!$D20*'12.Partner Involvement'!$E20)/COUNTA(_xlfn.TEXTSPLIT('12.Partner Involvement'!$H20,\";\"))),\"\")","v":""},{"$f":"IF(ISNUMBER(SEARCH(G$206,'12.Partner Involvement'!$H20))=TRUE,(('12.Partner Involvement'!$D20*'12.Partner Involvement'!$E20)/COUNTA(_xlfn.TEXTSPLIT('12.Partner Involvement'!$H20,\";\"))),\"\")","v":""},{"$f":"IF(ISNUMBER(SEARCH(H$206,'12.Partner Involvement'!$H20))=TRUE,(('12.Partner Involvement'!$D20*'12.Partner Involvement'!$E20)/COUNTA(_xlfn.TEXTSPLIT('12.Partner Involvement'!$H20,\";\"))),\"\")","v":""}]
[{"$f":"IF(ISNUMBER(SEARCH(A$206,'12.Partner Involvement'!$G21))=TRUE,(('12.Partner Involvement'!$D21*'12.Partner Involvement'!$E21)/COUNTA(_xlfn.TEXTSPLIT('12.Partner Involvement'!$G21,\";\"))),\"\")","v":""},{"$f":"IF(ISNUMBER(SEARCH(B$206,'12.Partner Involvement'!$G21))=TRUE,(('12.Partner Involvement'!$D21*'12.Partner Involvement'!$E21)/COUNTA(_xlfn.TEXTSPLIT('12.Partner Involvement'!$G21,\";\"))),\"\")","v":""},{"$f":"IF(ISNUMBER(SEARCH(C$206,'12.Partner Involvement'!$G21))=TRUE,(('12.Partner Involvement'!$D21*'12.Partner Involvement'!$E21)/COUNTA(_xlfn.TEXTSPLIT('12.Partner Involvement'!$G21,\";\"))),\"\")","v":""},null,{"$f":"IF(ISNUMBER(SEARCH(E$206,'12.Partner Involvement'!$H21))=TRUE,(('12.Partner Involvement'!$D21*'12.Partner Involvement'!$E21)/COUNTA(_xlfn.TEXTSPLIT('12.Partner Involvement'!$H21,\";\"))),\"\")","v":""},{"$f":"IF(ISNUMBER(SEARCH(F$206,'12.Partner Involvement'!$H21))=TRUE,(('12.Partner Involvement'!$D21*'12.Partner Involvement'!$E21)/COUNTA(_xlfn.TEXTSPLIT('12.Partner Involvement'!$H21,\";\"))),\"\")","v":""},{"$f":"IF(ISNUMBER(SEARCH(G$206,'12.Partner Involvement'!$H21))=TRUE,(('12.Partner Involvement'!$D21*'12.Partner Involvement'!$E21)/COUNTA(_xlfn.TEXTSPLIT('12.Partner Involvement'!$H21,\";\"))),\"\")","v":""},{"$f":"IF(ISNUMBER(SEARCH(H$206,'12.Partner Involvement'!$H21))=TRUE,(('12.Partner Involvement'!$D21*'12.Partner Involvement'!$E21)/COUNTA(_xlfn.TEXTSPLIT('12.Partner Involvement'!$H21,\";\"))),\"\")","v":""}]
[{"$f":"IF(ISNUMBER(SEARCH(A$206,'12.Partner Involvement'!$G22))=TRUE,(('12.Partner Involvement'!$D22*'12.Partner Involvement'!$E22)/COUNTA(_xlfn.TEXTSPLIT('12.Partner Involvement'!$G22,\";\"))),\"\")","v":""},{"$f":"IF(ISNUMBER(SEARCH(B$206,'12.Partner Involvement'!$G22))=TRUE,(('12.Partner Involvement'!$D22*'12.Partner Involvement'!$E22)/COUNTA(_xlfn.TEXTSPLIT('12.Partner Involvement'!$G22,\";\"))),\"\")","v":""},{"$f":"IF(ISNUMBER(SEARCH(C$206,'12.Partner Involvement'!$G22))=TRUE,(('12.Partner Involvement'!$D22*'12.Partner Involvement'!$E22)/COUNTA(_xlfn.TEXTSPLIT('12.Partner Involvement'!$G22,\";\"))),\"\")","v":""},null,{"$f":"IF(ISNUMBER(SEARCH(E$206,'12.Partner Involvement'!$H22))=TRUE,(('12.Partner Involvement'!$D22*'12.Partner Involvement'!$E22)/COUNTA(_xlfn.TEXTSPLIT('12.Partner Involvement'!$H22,\";\"))),\"\")","v":""},{"$f":"IF(ISNUMBER(SEARCH(F$206,'12.Partner Involvement'!$H22))=TRUE,(('12.Partner Involvement'!$D22*'12.Partner Involvement'!$E22)/COUNTA(_xlfn.TEXTSPLIT('12.Partner Involvement'!$H22,\";\"))),\"\")","v":""},{"$f":"IF(ISNUMBER(SEARCH(G$206,'12.Partner Involvement'!$H22))=TRUE,(('12.Partner Involvement'!$D22*'12.Partner Involvement'!$E22)/COUNTA(_xlfn.TEXTSPLIT('12.Partner Involvement'!$H22,\";\"))),\"\")","v":""},{"$f":"IF(ISNUMBER(SEARCH(H$206,'12.Partner Involvement'!$H22))=TRUE,(('12.Partner Involvement'!$D22*'12.Partner Involvement'!$E22)/COUNTA(_xlfn.TEXTSPLIT('12.Partner Involvement'!$H22,\";\"))),\"\")","v":""}]
[{"$f":"IF(ISNUMBER(SEARCH(A$206,'12.Partner Involvement'!$G23))=TRUE,(('12.Partner Involvement'!$D23*'12.Partner Involvement'!$E23)/COUNTA(_xlfn.TEXTSPLIT('12.Partner Involvement'!$G23,\";\"))),\"\")","v":""},{"$f":"IF(ISNUMBER(SEARCH(B$206,'12.Partner Involvement'!$G23))=TRUE,(('12.Partner Involvement'!$D23*'12.Partner Involvement'!$E23)/COUNTA(_xlfn.TEXTSPLIT('12.Partner Involvement'!$G23,\";\"))),\"\")","v":""},{"$f":"IF(ISNUMBER(SEARCH(C$206,'12.Partner Involvement'!$G23))=TRUE,(('12.Partner Involvement'!$D23*'12.Partner Involvement'!$E23)/COUNTA(_xlfn.TEXTSPLIT('12.Partner Involvement'!$G23,\";\"))),\"\")","v":""},null,{"$f":"IF(ISNUMBER(SEARCH(E$206,'12.Partner Involvement'!$H23))=TRUE,(('12.Partner Involvement'!$D23*'12.Partner Involvement'!$E23)/COUNTA(_xlfn.TEXTSPLIT('12.Partner Involvement'!$H23,\";\"))),\"\")","v":""},{"$f":"IF(ISNUMBER(SEARCH(F$206,'12.Partner Involvement'!$H23))=TRUE,(('12.Partner Involvement'!$D23*'12.Partner Involvement'!$E23)/COUNTA(_xlfn.TEXTSPLIT('12.Partner Involvement'!$H23,\";\"))),\"\")","v":""},{"$f":"IF(ISNUMBER(SEARCH(G$206,'12.Partner Involvement'!$H23))=TRUE,(('12.Partner Involvement'!$D23*'12.Partner Involvement'!$E23)/COUNTA(_xlfn.TEXTSPLIT('12.Partner Involvement'!$H23,\";\"))),\"\")","v":""},{"$f":"IF(ISNUMBER(SEARCH(H$206,'12.Partner Involvement'!$H23))=TRUE,(('12.Partner Involvement'!$D23*'12.Partner Involvement'!$E23)/COUNTA(_xlfn.TEXTSPLIT('12.Partner Involvement'!$H23,\";\"))),\"\")","v":""}]
[{"$f":"IF(ISNUMBER(SEARCH(A$206,'12.Partner Involvement'!$G24))=TRUE,(('12.Partner Involvement'!$D24*'12.Partner Involvement'!$E24)/COUNTA(_xlfn.TEXTSPLIT('12.Partner Involvement'!$G24,\";\"))),\"\")","v":""},{"$f":"IF(ISNUMBER(SEARCH(B$206,'12.Partner Involvement'!$G24))=TRUE,(('12.Partner Involvement'!$D24*'12.Partner Involvement'!$E24)/COUNTA(_xlfn.TEXTSPLIT('12.Partner Involvement'!$G24,\";\"))),\"\")","v":""},{"$f":"IF(ISNUMBER(SEARCH(C$206,'12.Partner Involvement'!$G24))=TRUE,(('12.Partner Involvement'!$D24*'12.Partner Involvement'!$E24)/COUNTA(_xlfn.TEXTSPLIT('12.Partner Involvement'!$G24,\";\"))),\"\")","v":""},null,{"$f":"IF(ISNUMBER(SEARCH(E$206,'12.Partner Involvement'!$H24))=TRUE,(('12.Partner Involvement'!$D24*'12.Partner Involvement'!$E24)/COUNTA(_xlfn.TEXTSPLIT('12.Partner Involvement'!$H24,\";\"))),\"\")","v":""},{"$f":"IF(ISNUMBER(SEARCH(F$206,'12.Partner Involvement'!$H24))=TRUE,(('12.Partner Involvement'!$D24*'12.Partner Involvement'!$E24)/COUNTA(_xlfn.TEXTSPLIT('12.Partner Involvement'!$H24,\";\"))),\"\")","v":""},{"$f":"IF(ISNUMBER(SEARCH(G$206,'12.Partner Involvement'!$H24))=TRUE,(('12.Partner Involvement'!$D24*'12.Partner Involvement'!$E24)/COUNTA(_xlfn.TEXTSPLIT('12.Partner Involvement'!$H24,\";\"))),\"\")","v":""},{"$f":"IF(ISNUMBER(SEARCH(H$206,'12.Partner Involvement'!$H24))=TRUE,(('12.Partner Involvement'!$D24*'12.Partner Involvement'!$E24)/COUNTA(_xlfn.TEXTSPLIT('12.Partner Involvement'!$H24,\";\"))),\"\")","v":""}]
[{"$f":"IF(ISNUMBER(SEARCH(A$206,'12.Partner Involvement'!$G25))=TRUE,(('12.Partner Involvement'!$D25*'12.Partner Involvement'!$E25)/COUNTA(_xlfn.TEXTSPLIT('12.Partner Involvement'!$G25,\";\"))),\"\")","v":""},{"$f":"IF(ISNUMBER(SEARCH(B$206,'12.Partner Involvement'!$G25))=TRUE,(('12.Partner Involvement'!$D25*'12.Partner Involvement'!$E25)/COUNTA(_xlfn.TEXTSPLIT('12.Partner Involvement'!$G25,\";\"))),\"\")","v":""},{"$f":"IF(ISNUMBER(SEARCH(C$206,'12.Partner Involvement'!$G25))=TRUE,(('12.Partner Involvement'!$D25*'12.Partner Involvement'!$E25)/COUNTA(_xlfn.TEXTSPLIT('12.Partner Involvement'!$G25,\";\"))),\"\")","v":""},null,{"$f":"IF(ISNUMBER(SEARCH(E$206,'12.Partner Involvement'!$H25))=TRUE,(('12.Partner Involvement'!$D25*'12.Partner Involvement'!$E25)/COUNTA(_xlfn.TEXTSPLIT('12.Partner Involvement'!$H25,\";\"))),\"\")","v":""},{"$f":"IF(ISNUMBER(SEARCH(F$206,'12.Partner Involvement'!$H25))=TRUE,(('12.Partner Involvement'!$D25*'12.Partner Involvement'!$E25)/COUNTA(_xlfn.TEXTSPLIT('12.Partner Involvement'!$H25,\";\"))),\"\")","v":""},{"$f":"IF(ISNUMBER(SEARCH(G$206,'12.Partner Involvement'!$H25))=TRUE,(('12.Partner Involvement'!$D25*'12.Partner Involvement'!$E25)/COUNTA(_xlfn.TEXTSPLIT('12.Partner Involvement'!$H25,\";\"))),\"\")","v":""},{"$f":"IF(ISNUMBER(SEARCH(H$206,'12.Partner Involvement'!$H25))=TRUE,(('12.Partner Involvement'!$D25*'12.Partner Involvement'!$E25)/COUNTA(_xlfn.TEXTSPLIT('12.Partner Involvement'!$H25,\";\"))),\"\")","v":""}]
[{"$f":"IF(ISNUMBER(SEARCH(A$206,'12.Partner Involvement'!$G26))=TRUE,(('12.Partner Involvement'!$D26*'12.Partner Involvement'!$E26)/COUNTA(_xlfn.TEXTSPLIT('12.Partner Involvement'!$G26,\";\"))),\"\")","v":""},{"$f":"IF(ISNUMBER(SEARCH(B$206,'12.Partner Involvement'!$G26))=TRUE,(('12.Partner Involvement'!$D26*'12.Partner Involvement'!$E26)/COUNTA(_xlfn.TEXTSPLIT('12.Partner Involvement'!$G26,\";\"))),\"\")","v":""},{"$f":"IF(ISNUMBER(SEARCH(C$206,'12.Partner Involvement'!$G26))=TRUE,(('12.Partner Involvement'!$D26*'12.Partner Involvement'!$E26)/COUNTA(_xlfn.TEXTSPLIT('12.Partner Involvement'!$G26,\";\"))),\"\")","v":""},null,{"$f":"IF(ISNUMBER(SEARCH(E$206,'12.Partner Involvement'!$H26))=TRUE,(('12.Partner Involvement'!$D26*'12.Partner Involvement'!$E26)/COUNTA(_xlfn.TEXTSPLIT('12.Partner Involvement'!$H26,\";\"))),\"\")","v":""},{"$f":"IF(ISNUMBER(SEARCH(F$206,'12.Partner Involvement'!$H26))=TRUE,(('12.Partner Involvement'!$D26*'12.Partner Involvement'!$E26)/COUNTA(_xlfn.TEXTSPLIT('12.Partner Involvement'!$H26,\";\"))),\"\")","v":""},{"$f":"IF(ISNUMBER(SEARCH(G$206,'12.Partner Involvement'!$H26))=TRUE,(('12.Partner Involvement'!$D26*'12.Partner Involvement'!$E26)/COUNTA(_xlfn.TEXTSPLIT('12.Partner Involvement'!$H26,\";\"))),\"\")","v":""},{"$f":"IF(ISNUMBER(SEARCH(H$206,'12.Partner Involvement'!$H26))=TRUE,(('12.Partner Involvement'!$D26*'12.Partner Involvement'!$E26)/COUNTA(_xlfn.TEXTSPLIT('12.Partner Involvement'!$H26,\";\"))),\"\")","v":""}]
[{"$f":"IF(ISNUMBER(SEARCH(A$206,'12.Partner Involvement'!$G27))=TRUE,(('12.Partner Involvement'!$D27*'12.Partner Involvement'!$E27)/COUNTA(_xlfn.TEXTSPLIT('12.Partner Involvement'!$G27,\";\"))),\"\")","v":""},{"$f":"IF(ISNUMBER(SEARCH(B$206,'12.Partner Involvement'!$G27))=TRUE,(('12.Partner Involvement'!$D27*'12.Partner Involvement'!$E27)/COUNTA(_xlfn.TEXTSPLIT('12.Partner Involvement'!$G27,\";\"))),\"\")","v":""},{"$f":"IF(ISNUMBER(SEARCH(C$206,'12.Partner Involvement'!$G27))=TRUE,(('12.Partner Involvement'!$D27*'12.Partner Involvement'!$E27)/COUNTA(_xlfn.TEXTSPLIT('12.Partner Involvement'!$G27,\";\"))),\"\")","v":""},null,{"$f":"IF(ISNUMBER(SEARCH(E$206,'12.Partner Involvement'!$H27))=TRUE,(('12.Partner Involvement'!$D27*'12.Partner Involvement'!$E27)/COUNTA(_xlfn.TEXTSPLIT('12.Partner Involvement'!$H27,\";\"))),\"\")","v":""},{"$f":"IF(ISNUMBER(SEARCH(F$206,'12.Partner Involvement'!$H27))=TRUE,(('12.Partner Involvement'!$D27*'12.Partner Involvement'!$E27)/COUNTA(_xlfn.TEXTSPLIT('12.Partner Involvement'!$H27,\";\"))),\"\")","v":""},{"$f":"IF(ISNUMBER(SEARCH(G$206,'12.Partner Involvement'!$H27))=TRUE,(('12.Partner Involvement'!$D27*'12.Partner Involvement'!$E27)/COUNTA(_xlfn.TEXTSPLIT('12.Partner Involvement'!$H27,\";\"))),\"\")","v":""},{"$f":"IF(ISNUMBER(SEARCH(H$206,'12.Partner Involvement'!$H27))=TRUE,(('12.Partner Involvement'!$D27*'12.Partner Involvement'!$E27)/COUNTA(_xlfn.TEXTSPLIT('12.Partner Involvement'!$H27,\";\"))),\"\")","v":""}]
[{"$f":"IF(ISNUMBER(SEARCH(A$206,'12.Partner Involvement'!$G28))=TRUE,(('12.Partner Involvement'!$D28*'12.Partner Involvement'!$E28)/COUNTA(_xlfn.TEXTSPLIT('12.Partner Involvement'!$G28,\";\"))),\"\")","v":""},{"$f":"IF(ISNUMBER(SEARCH(B$206,'12.Partner Involvement'!$G28))=TRUE,(('12.Partner Involvement'!$D28*'12.Partner Involvement'!$E28)/COUNTA(_xlfn.TEXTSPLIT('12.Partner Involvement'!$G28,\";\"))),\"\")","v":""},{"$f":"IF(ISNUMBER(SEARCH(C$206,'12.Partner Involvement'!$G28))=TRUE,(('12.Partner Involvement'!$D28*'12.Partner Involvement'!$E28)/COUNTA(_xlfn.TEXTSPLIT('12.Partner Involvement'!$G28,\";\"))),\"\")","v":""},null,{"$f":"IF(ISNUMBER(SEARCH(E$206,'12.Partner Involvement'!$H28))=TRUE,(('12.Partner Involvement'!$D28*'12.Partner Involvement'!$E28)/COUNTA(_xlfn.TEXTSPLIT('12.Partner Involvement'!$H28,\";\"))),\"\")","v":""},{"$f":"IF(ISNUMBER(SEARCH(F$206,'12.Partner Involvement'!$H28))=TRUE,(('12.Partner Involvement'!$D28*'12.Partner Involvement'!$E28)/COUNTA(_xlfn.TEXTSPLIT('12.Partner Involvement'!$H28,\";\"))),\"\")","v":""},{"$f":"IF(ISNUMBER(SEARCH(G$206,'12.Partner Involvement'!$H28))=TRUE,(('12.Partner Involvement'!$D28*'12.Partner Involvement'!$E28)/COUNTA(_xlfn.TEXTSPLIT('12.Partner Involvement'!$H28,\";\"))),\"\")","v":""},{"$f":"IF(ISNUMBER(SEARCH(H$206,'12.Partner Involvement'!$H28))=TRUE,(('12.Partner Involvement'!$D28*'12.Partner Involvement'!$E28)/COUNTA(_xlfn.TEXTSPLIT('12.Partner Involvement'!$H28,\";\"))),\"\")","v":""}]
[{"$f":"IF(ISNUMBER(SEARCH(A$206,'12.Partner Involvement'!$G29))=TRUE,(('12.Partner Involvement'!$D29*'12.Partner Involvement'!$E29)/COUNTA(_xlfn.TEXTSPLIT('12.Partner Involvement'!$G29,\";\"))),\"\")","v":""},{"$f":"IF(ISNUMBER(SEARCH(B$206,'12.Partner Involvement'!$G29))=TRUE,(('12.Partner Involvement'!$D29*'12.Partner Involvement'!$E29)/COUNTA(_xlfn.TEXTSPLIT('12.Partner Involvement'!$G29,\";\"))),\"\")","v":""},{"$f":"IF(ISNUMBER(SEARCH(C$206,'12.Partner Involvement'!$G29))=TRUE,(('12.Partner Involvement'!$D29*'12.Partner Involvement'!$E29)/COUNTA(_xlfn.TEXTSPLIT('12.Partner Involvement'!$G29,\";\"))),\"\")","v":""},null,{"$f":"IF(ISNUMBER(SEARCH(E$206,'12.Partner Involvement'!$H29))=TRUE,(('12.Partner Involvement'!$D29*'12.Partner Involvement'!$E29)/COUNTA(_xlfn.TEXTSPLIT('12.Partner Involvement'!$H29,\";\"))),\"\")","v":""},{"$f":"IF(ISNUMBER(SEARCH(F$206,'12.Partner Involvement'!$H29))=TRUE,(('12.Partner Involvement'!$D29*'12.Partner Involvement'!$E29)/COUNTA(_xlfn.TEXTSPLIT('12.Partner Involvement'!$H29,\";\"))),\"\")","v":""},{"$f":"IF(ISNUMBER(SEARCH(G$206,'12.Partner Involvement'!$H29))=TRUE,(('12.Partner Involvement'!$D29*'12.Partner Involvement'!$E29)/COUNTA(_xlfn.TEXTSPLIT('12.Partner Involvement'!$H29,\";\"))),\"\")","v":""},{"$f":"IF(ISNUMBER(SEARCH(H$206,'12.Partner Involvement'!$H29))=TRUE,(('12.Partner Involvement'!$D29*'12.Partner Involvement'!$E29)/COUNTA(_xlfn.TEXTSPLIT('12.Partner Involvement'!$H29,\";\"))),\"\")","v":""}]
[{"$f":"IF(ISNUMBER(SEARCH(A$206,'12.Partner Involvement'!$G30))=TRUE,(('12.Partner Involvement'!$D30*'12.Partner Involvement'!$E30)/COUNTA(_xlfn.TEXTSPLIT('12.Partner Involvement'!$G30,\";\"))),\"\")","v":""},{"$f":"IF(ISNUMBER(SEARCH(B$206,'12.Partner Involvement'!$G30))=TRUE,(('12.Partner Involvement'!$D30*'12.Partner Involvement'!$E30)/COUNTA(_xlfn.TEXTSPLIT('12.Partner Involvement'!$G30,\";\"))),\"\")","v":""},{"$f":"IF(ISNUMBER(SEARCH(C$206,'12.Partner Involvement'!$G30))=TRUE,(('12.Partner Involvement'!$D30*'12.Partner Involvement'!$E30)/COUNTA(_xlfn.TEXTSPLIT('12.Partner Involvement'!$G30,\";\"))),\"\")","v":""},null,{"$f":"IF(ISNUMBER(SEARCH(E$206,'12.Partner Involvement'!$H30))=TRUE,(('12.Partner Involvement'!$D30*'12.Partner Involvement'!$E30)/COUNTA(_xlfn.TEXTSPLIT('12.Partner Involvement'!$H30,\";\"))),\"\")","v":""},{"$f":"IF(ISNUMBER(SEARCH(F$206,'12.Partner Involvement'!$H30))=TRUE,(('12.Partner Involvement'!$D30*'12.Partner Involvement'!$E30)/COUNTA(_xlfn.TEXTSPLIT('12.Partner Involvement'!$H30,\";\"))),\"\")","v":""},{"$f":"IF(ISNUMBER(SEARCH(G$206,'12.Partner Involvement'!$H30))=TRUE,(('12.Partner Involvement'!$D30*'12.Partner Involvement'!$E30)/COUNTA(_xlfn.TEXTSPLIT('12.Partner Involvement'!$H30,\";\"))),\"\")","v":""},{"$f":"IF(ISNUMBER(SEARCH(H$206,'12.Partner Involvement'!$H30))=TRUE,(('12.Partner Involvement'!$D30*'12.Partner Involvement'!$E30)/COUNTA(_xlfn.TEXTSPLIT('12.Partner Involvement'!$H30,\";\"))),\"\")","v":""}]
[{"$f":"IF(ISNUMBER(SEARCH(A$206,'12.Partner Involvement'!$G31))=TRUE,(('12.Partner Involvement'!$D31*'12.Partner Involvement'!$E31)/COUNTA(_xlfn.TEXTSPLIT('12.Partner Involvement'!$G31,\";\"))),\"\")","v":""},{"$f":"IF(ISNUMBER(SEARCH(B$206,'12.Partner Involvement'!$G31))=TRUE,(('12.Partner Involvement'!$D31*'12.Partner Involvement'!$E31)/COUNTA(_xlfn.TEXTSPLIT('12.Partner Involvement'!$G31,\";\"))),\"\")","v":""},{"$f":"IF(ISNUMBER(SEARCH(C$206,'12.Partner Involvement'!$G31))=TRUE,(('12.Partner Involvement'!$D31*'12.Partner Involvement'!$E31)/COUNTA(_xlfn.TEXTSPLIT('12.Partner Involvement'!$G31,\";\"))),\"\")","v":""},null,{"$f":"IF(ISNUMBER(SEARCH(E$206,'12.Partner Involvement'!$H31))=TRUE,(('12.Partner Involvement'!$D31*'12.Partner Involvement'!$E31)/COUNTA(_xlfn.TEXTSPLIT('12.Partner Involvement'!$H31,\";\"))),\"\")","v":""},{"$f":"IF(ISNUMBER(SEARCH(F$206,'12.Partner Involvement'!$H31))=TRUE,(('12.Partner Involvement'!$D31*'12.Partner Involvement'!$E31)/COUNTA(_xlfn.TEXTSPLIT('12.Partner Involvement'!$H31,\";\"))),\"\")","v":""},{"$f":"IF(ISNUMBER(SEARCH(G$206,'12.Partner Involvement'!$H31))=TRUE,(('12.Partner Involvement'!$D31*'12.Partner Involvement'!$E31)/COUNTA(_xlfn.TEXTSPLIT('12.Partner Involvement'!$H31,\";\"))),\"\")","v":""},{"$f":"IF(ISNUMBER(SEARCH(H$206,'12.Partner Involvement'!$H31))=TRUE,(('12.Partner Involvement'!$D31*'12.Partner Involvement'!$E31)/COUNTA(_xlfn.TEXTSPLIT('12.Partner Involvement'!$H31,\";\"))),\"\")","v":""}]
[{"$f":"IF(ISNUMBER(SEARCH(A$206,'12.Partner Involvement'!$G32))=TRUE,(('12.Partner Involvement'!$D32*'12.Partner Involvement'!$E32)/COUNTA(_xlfn.TEXTSPLIT('12.Partner Involvement'!$G32,\";\"))),\"\")","v":""},{"$f":"IF(ISNUMBER(SEARCH(B$206,'12.Partner Involvement'!$G32))=TRUE,(('12.Partner Involvement'!$D32*'12.Partner Involvement'!$E32)/COUNTA(_xlfn.TEXTSPLIT('12.Partner Involvement'!$G32,\";\"))),\"\")","v":""},{"$f":"IF(ISNUMBER(SEARCH(C$206,'12.Partner Involvement'!$G32))=TRUE,(('12.Partner Involvement'!$D32*'12.Partner Involvement'!$E32)/COUNTA(_xlfn.TEXTSPLIT('12.Partner Involvement'!$G32,\";\"))),\"\")","v":""},null,{"$f":"IF(ISNUMBER(SEARCH(E$206,'12.Partner Involvement'!$H32))=TRUE,(('12.Partner Involvement'!$D32*'12.Partner Involvement'!$E32)/COUNTA(_xlfn.TEXTSPLIT('12.Partner Involvement'!$H32,\";\"))),\"\")","v":""},{"$f":"IF(ISNUMBER(SEARCH(F$206,'12.Partner Involvement'!$H32))=TRUE,(('12.Partner Involvement'!$D32*'12.Partner Involvement'!$E32)/COUNTA(_xlfn.TEXTSPLIT('12.Partner Involvement'!$H32,\";\"))),\"\")","v":""},{"$f":"IF(ISNUMBER(SEARCH(G$206,'12.Partner Involvement'!$H32))=TRUE,(('12.Partner Involvement'!$D32*'12.Partner Involvement'!$E32)/COUNTA(_xlfn.TEXTSPLIT('12.Partner Involvement'!$H32,\";\"))),\"\")","v":""},{"$f":"IF(ISNUMBER(SEARCH(H$206,'12.Partner Involvement'!$H32))=TRUE,(('12.Partner Involvement'!$D32*'12.Partner Involvement'!$E32)/COUNTA(_xlfn.TEXTSPLIT('12.Partner Involvement'!$H32,\";\"))),\"\")","v":""}]
[{"$f":"IF(ISNUMBER(SEARCH(A$206,'12.Partner Involvement'!$G33))=TRUE,(('12.Partner Involvement'!$D33*'12.Partner Involvement'!$E33)/COUNTA(_xlfn.TEXTSPLIT('12.Partner Involvement'!$G33,\";\"))),\"\")","v":""},{"$f":"IF(ISNUMBER(SEARCH(B$206,'12.Partner Involvement'!$G33))=TRUE,(('12.Partner Involvement'!$D33*'12.Partner Involvement'!$E33)/COUNTA(_xlfn.TEXTSPLIT('12.Partner Involvement'!$G33,\";\"))),\"\")","v":""},{"$f":"IF(ISNUMBER(SEARCH(C$206,'12.Partner Involvement'!$G33))=TRUE,(('12.Partner Involvement'!$D33*'12.Partner Involvement'!$E33)/COUNTA(_xlfn.TEXTSPLIT('12.Partner Involvement'!$G33,\";\"))),\"\")","v":""},null,{"$f":"IF(ISNUMBER(SEARCH(E$206,'12.Partner Involvement'!$H33))=TRUE,(('12.Partner Involvement'!$D33*'12.Partner Involvement'!$E33)/COUNTA(_xlfn.TEXTSPLIT('12.Partner Involvement'!$H33,\";\"))),\"\")","v":""},{"$f":"IF(ISNUMBER(SEARCH(F$206,'12.Partner Involvement'!$H33))=TRUE,(('12.Partner Involvement'!$D33*'12.Partner Involvement'!$E33)/COUNTA(_xlfn.TEXTSPLIT('12.Partner Involvement'!$H33,\";\"))),\"\")","v":""},{"$f":"IF(ISNUMBER(SEARCH(G$206,'12.Partner Involvement'!$H33))=TRUE,(('12.Partner Involvement'!$D33*'12.Partner Involvement'!$E33)/COUNTA(_xlfn.TEXTSPLIT('12.Partner Involvement'!$H33,\";\"))),\"\")","v":""},{"$f":"IF(ISNUMBER(SEARCH(H$206,'12.Partner Involvement'!$H33))=TRUE,(('12.Partner Involvement'!$D33*'12.Partner Involvement'!$E33)/COUNTA(_xlfn.TEXTSPLIT('12.Partner Involvement'!$H33,\";\"))),\"\")","v":""}]
[{"$f":"IF(ISNUMBER(SEARCH(A$206,'12.Partner Involvement'!$G34))=TRUE,(('12.Partner Involvement'!$D34*'12.Partner Involvement'!$E34)/COUNTA(_xlfn.TEXTSPLIT('12.Partner Involvement'!$G34,\";\"))),\"\")","v":""},{"$f":"IF(ISNUMBER(SEARCH(B$206,'12.Partner Involvement'!$G34))=TRUE,(('12.Partner Involvement'!$D34*'12.Partner Involvement'!$E34)/COUNTA(_xlfn.TEXTSPLIT('12.Partner Involvement'!$G34,\";\"))),\"\")","v":""},{"$f":"IF(ISNUMBER(SEARCH(C$206,'12.Partner Involvement'!$G34))=TRUE,(('12.Partner Involvement'!$D34*'12.Partner Involvement'!$E34)/COUNTA(_xlfn.TEXTSPLIT('12.Partner Involvement'!$G34,\";\"))),\"\")","v":""},null,{"$f":"IF(ISNUMBER(SEARCH(E$206,'12.Partner Involvement'!$H34))=TRUE,(('12.Partner Involvement'!$D34*'12.Partner Involvement'!$E34)/COUNTA(_xlfn.TEXTSPLIT('12.Partner Involvement'!$H34,\";\"))),\"\")","v":""},{"$f":"IF(ISNUMBER(SEARCH(F$206,'12.Partner Involvement'!$H34))=TRUE,(('12.Partner Involvement'!$D34*'12.Partner Involvement'!$E34)/COUNTA(_xlfn.TEXTSPLIT('12.Partner Involvement'!$H34,\";\"))),\"\")","v":""},{"$f":"IF(ISNUMBER(SEARCH(G$206,'12.Partner Involvement'!$H34))=TRUE,(('12.Partner Involvement'!$D34*'12.Partner Involvement'!$E34)/COUNTA(_xlfn.TEXTSPLIT('12.Partner Involvement'!$H34,\";\"))),\"\")","v":""},{"$f":"IF(ISNUMBER(SEARCH(H$206,'12.Partner Involvement'!$H34))=TRUE,(('12.Partner Involvement'!$D34*'12.Partner Involvement'!$E34)/COUNTA(_xlfn.TEXTSPLIT('12.Partner Involvement'!$H34,\";\"))),\"\")","v":""}]
[{"$f":"IF(ISNUMBER(SEARCH(A$206,'12.Partner Involvement'!$G35))=TRUE,(('12.Partner Involvement'!$D35*'12.Partner Involvement'!$E35)/COUNTA(_xlfn.TEXTSPLIT('12.Partner Involvement'!$G35,\";\"))),\"\")","v":""},{"$f":"IF(ISNUMBER(SEARCH(B$206,'12.Partner Involvement'!$G35))=TRUE,(('12.Partner Involvement'!$D35*'12.Partner Involvement'!$E35)/COUNTA(_xlfn.TEXTSPLIT('12.Partner Involvement'!$G35,\";\"))),\"\")","v":""},{"$f":"IF(ISNUMBER(SEARCH(C$206,'12.Partner Involvement'!$G35))=TRUE,(('12.Partner Involvement'!$D35*'12.Partner Involvement'!$E35)/COUNTA(_xlfn.TEXTSPLIT('12.Partner Involvement'!$G35,\";\"))),\"\")","v":""},null,{"$f":"IF(ISNUMBER(SEARCH(E$206,'12.Partner Involvement'!$H35))=TRUE,(('12.Partner Involvement'!$D35*'12.Partner Involvement'!$E35)/COUNTA(_xlfn.TEXTSPLIT('12.Partner Involvement'!$H35,\";\"))),\"\")","v":""},{"$f":"IF(ISNUMBER(SEARCH(F$206,'12.Partner Involvement'!$H35))=TRUE,(('12.Partner Involvement'!$D35*'12.Partner Involvement'!$E35)/COUNTA(_xlfn.TEXTSPLIT('12.Partner Involvement'!$H35,\";\"))),\"\")","v":""},{"$f":"IF(ISNUMBER(SEARCH(G$206,'12.Partner Involvement'!$H35))=TRUE,(('12.Partner Involvement'!$D35*'12.Partner Involvement'!$E35)/COUNTA(_xlfn.TEXTSPLIT('12.Partner Involvement'!$H35,\";\"))),\"\")","v":""},{"$f":"IF(ISNUMBER(SEARCH(H$206,'12.Partner Involvement'!$H35))=TRUE,(('12.Partner Involvement'!$D35*'12.Partner Involvement'!$E35)/COUNTA(_xlfn.TEXTSPLIT('12.Partner Involvement'!$H35,\";\"))),\"\")","v":""}]
[{"$f":"IF(ISNUMBER(SEARCH(A$206,'12.Partner Involvement'!$G36))=TRUE,(('12.Partner Involvement'!$D36*'12.Partner Involvement'!$E36)/COUNTA(_xlfn.TEXTSPLIT('12.Partner Involvement'!$G36,\";\"))),\"\")","v":""},{"$f":"IF(ISNUMBER(SEARCH(B$206,'12.Partner Involvement'!$G36))=TRUE,(('12.Partner Involvement'!$D36*'12.Partner Involvement'!$E36)/COUNTA(_xlfn.TEXTSPLIT('12.Partner Involvement'!$G36,\";\"))),\"\")","v":""},{"$f":"IF(ISNUMBER(SEARCH(C$206,'12.Partner Involvement'!$G36))=TRUE,(('12.Partner Involvement'!$D36*'12.Partner Involvement'!$E36)/COUNTA(_xlfn.TEXTSPLIT('12.Partner Involvement'!$G36,\";\"))),\"\")","v":""},null,{"$f":"IF(ISNUMBER(SEARCH(E$206,'12.Partner Involvement'!$H36))=TRUE,(('12.Partner Involvement'!$D36*'12.Partner Involvement'!$E36)/COUNTA(_xlfn.TEXTSPLIT('12.Partner Involvement'!$H36,\";\"))),\"\")","v":""},{"$f":"IF(ISNUMBER(SEARCH(F$206,'12.Partner Involvement'!$H36))=TRUE,(('12.Partner Involvement'!$D36*'12.Partner Involvement'!$E36)/COUNTA(_xlfn.TEXTSPLIT('12.Partner Involvement'!$H36,\";\"))),\"\")","v":""},{"$f":"IF(ISNUMBER(SEARCH(G$206,'12.Partner Involvement'!$H36))=TRUE,(('12.Partner Involvement'!$D36*'12.Partner Involvement'!$E36)/COUNTA(_xlfn.TEXTSPLIT('12.Partner Involvement'!$H36,\";\"))),\"\")","v":""},{"$f":"IF(ISNUMBER(SEARCH(H$206,'12.Partner Involvement'!$H36))=TRUE,(('12.Partner Involvement'!$D36*'12.Partner Involvement'!$E36)/COUNTA(_xlfn.TEXTSPLIT('12.Partner Involvement'!$H36,\";\"))),\"\")","v":""}]
[{"$f":"IF(ISNUMBER(SEARCH(A$206,'12.Partner Involvement'!$G37))=TRUE,(('12.Partner Involvement'!$D37*'12.Partner Involvement'!$E37)/COUNTA(_xlfn.TEXTSPLIT('12.Partner Involvement'!$G37,\";\"))),\"\")","v":""},{"$f":"IF(ISNUMBER(SEARCH(B$206,'12.Partner Involvement'!$G37))=TRUE,(('12.Partner Involvement'!$D37*'12.Partner Involvement'!$E37)/COUNTA(_xlfn.TEXTSPLIT('12.Partner Involvement'!$G37,\";\"))),\"\")","v":""},{"$f":"IF(ISNUMBER(SEARCH(C$206,'12.Partner Involvement'!$G37))=TRUE,(('12.Partner Involvement'!$D37*'12.Partner Involvement'!$E37)/COUNTA(_xlfn.TEXTSPLIT('12.Partner Involvement'!$G37,\";\"))),\"\")","v":""},null,{"$f":"IF(ISNUMBER(SEARCH(E$206,'12.Partner Involvement'!$H37))=TRUE,(('12.Partner Involvement'!$D37*'12.Partner Involvement'!$E37)/COUNTA(_xlfn.TEXTSPLIT('12.Partner Involvement'!$H37,\";\"))),\"\")","v":""},{"$f":"IF(ISNUMBER(SEARCH(F$206,'12.Partner Involvement'!$H37))=TRUE,(('12.Partner Involvement'!$D37*'12.Partner Involvement'!$E37)/COUNTA(_xlfn.TEXTSPLIT('12.Partner Involvement'!$H37,\";\"))),\"\")","v":""},{"$f":"IF(ISNUMBER(SEARCH(G$206,'12.Partner Involvement'!$H37))=TRUE,(('12.Partner Involvement'!$D37*'12.Partner Involvement'!$E37)/COUNTA(_xlfn.TEXTSPLIT('12.Partner Involvement'!$H37,\";\"))),\"\")","v":""},{"$f":"IF(ISNUMBER(SEARCH(H$206,'12.Partner Involvement'!$H37))=TRUE,(('12.Partner Involvement'!$D37*'12.Partner Involvement'!$E37)/COUNTA(_xlfn.TEXTSPLIT('12.Partner Involvement'!$H37,\";\"))),\"\")","v":""}]
[{"$f":"IF(ISNUMBER(SEARCH(A$206,'12.Partner Involvement'!$G38))=TRUE,(('12.Partner Involvement'!$D38*'12.Partner Involvement'!$E38)/COUNTA(_xlfn.TEXTSPLIT('12.Partner Involvement'!$G38,\";\"))),\"\")","v":""},{"$f":"IF(ISNUMBER(SEARCH(B$206,'12.Partner Involvement'!$G38))=TRUE,(('12.Partner Involvement'!$D38*'12.Partner Involvement'!$E38)/COUNTA(_xlfn.TEXTSPLIT('12.Partner Involvement'!$G38,\";\"))),\"\")","v":""},{"$f":"IF(ISNUMBER(SEARCH(C$206,'12.Partner Involvement'!$G38))=TRUE,(('12.Partner Involvement'!$D38*'12.Partner Involvement'!$E38)/COUNTA(_xlfn.TEXTSPLIT('12.Partner Involvement'!$G38,\";\"))),\"\")","v":""},null,{"$f":"IF(ISNUMBER(SEARCH(E$206,'12.Partner Involvement'!$H38))=TRUE,(('12.Partner Involvement'!$D38*'12.Partner Involvement'!$E38)/COUNTA(_xlfn.TEXTSPLIT('12.Partner Involvement'!$H38,\";\"))),\"\")","v":""},{"$f":"IF(ISNUMBER(SEARCH(F$206,'12.Partner Involvement'!$H38))=TRUE,(('12.Partner Involvement'!$D38*'12.Partner Involvement'!$E38)/COUNTA(_xlfn.TEXTSPLIT('12.Partner Involvement'!$H38,\";\"))),\"\")","v":""},{"$f":"IF(ISNUMBER(SEARCH(G$206,'12.Partner Involvement'!$H38))=TRUE,(('12.Partner Involvement'!$D38*'12.Partner Involvement'!$E38)/COUNTA(_xlfn.TEXTSPLIT('12.Partner Involvement'!$H38,\";\"))),\"\")","v":""},{"$f":"IF(ISNUMBER(SEARCH(H$206,'12.Partner Involvement'!$H38))=TRUE,(('12.Partner Involvement'!$D38*'12.Partner Involvement'!$E38)/COUNTA(_xlfn.TEXTSPLIT('12.Partner Involvement'!$H38,\";\"))),\"\")","v":""}]
[{"$f":"IF(ISNUMBER(SEARCH(A$206,'12.Partner Involvement'!$G39))=TRUE,(('12.Partner Involvement'!$D39*'12.Partner Involvement'!$E39)/COUNTA(_xlfn.TEXTSPLIT('12.Partner Involvement'!$G39,\";\"))),\"\")","v":""},{"$f":"IF(ISNUMBER(SEARCH(B$206,'12.Partner Involvement'!$G39))=TRUE,(('12.Partner Involvement'!$D39*'12.Partner Involvement'!$E39)/COUNTA(_xlfn.TEXTSPLIT('12.Partner Involvement'!$G39,\";\"))),\"\")","v":""},{"$f":"IF(ISNUMBER(SEARCH(C$206,'12.Partner Involvement'!$G39))=TRUE,(('12.Partner Involvement'!$D39*'12.Partner Involvement'!$E39)/COUNTA(_xlfn.TEXTSPLIT('12.Partner Involvement'!$G39,\";\"))),\"\")","v":""},null,{"$f":"IF(ISNUMBER(SEARCH(E$206,'12.Partner Involvement'!$H39))=TRUE,(('12.Partner Involvement'!$D39*'12.Partner Involvement'!$E39)/COUNTA(_xlfn.TEXTSPLIT('12.Partner Involvement'!$H39,\";\"))),\"\")","v":""},{"$f":"IF(ISNUMBER(SEARCH(F$206,'12.Partner Involvement'!$H39))=TRUE,(('12.Partner Involvement'!$D39*'12.Partner Involvement'!$E39)/COUNTA(_xlfn.TEXTSPLIT('12.Partner Involvement'!$H39,\";\"))),\"\")","v":""},{"$f":"IF(ISNUMBER(SEARCH(G$206,'12.Partner Involvement'!$H39))=TRUE,(('12.Partner Involvement'!$D39*'12.Partner Involvement'!$E39)/COUNTA(_xlfn.TEXTSPLIT('12.Partner Involvement'!$H39,\";\"))),\"\")","v":""},{"$f":"IF(ISNUMBER(SEARCH(H$206,'12.Partner Involvement'!$H39))=TRUE,(('12.Partner Involvement'!$D39*'12.Partner Involvement'!$E39)/COUNTA(_xlfn.TEXTSPLIT('12.Partner Involvement'!$H39,\";\"))),\"\")","v":""}]
[{"$f":"IF(ISNUMBER(SEARCH(A$206,'12.Partner Involvement'!$G40))=TRUE,(('12.Partner Involvement'!$D40*'12.Partner Involvement'!$E40)/COUNTA(_xlfn.TEXTSPLIT('12.Partner Involvement'!$G40,\";\"))),\"\")","v":""},{"$f":"IF(ISNUMBER(SEARCH(B$206,'12.Partner Involvement'!$G40))=TRUE,(('12.Partner Involvement'!$D40*'12.Partner Involvement'!$E40)/COUNTA(_xlfn.TEXTSPLIT('12.Partner Involvement'!$G40,\";\"))),\"\")","v":""},{"$f":"IF(ISNUMBER(SEARCH(C$206,'12.Partner Involvement'!$G40))=TRUE,(('12.Partner Involvement'!$D40*'12.Partner Involvement'!$E40)/COUNTA(_xlfn.TEXTSPLIT('12.Partner Involvement'!$G40,\";\"))),\"\")","v":""},null,{"$f":"IF(ISNUMBER(SEARCH(E$206,'12.Partner Involvement'!$H40))=TRUE,(('12.Partner Involvement'!$D40*'12.Partner Involvement'!$E40)/COUNTA(_xlfn.TEXTSPLIT('12.Partner Involvement'!$H40,\";\"))),\"\")","v":""},{"$f":"IF(ISNUMBER(SEARCH(F$206,'12.Partner Involvement'!$H40))=TRUE,(('12.Partner Involvement'!$D40*'12.Partner Involvement'!$E40)/COUNTA(_xlfn.TEXTSPLIT('12.Partner Involvement'!$H40,\";\"))),\"\")","v":""},{"$f":"IF(ISNUMBER(SEARCH(G$206,'12.Partner Involvement'!$H40))=TRUE,(('12.Partner Involvement'!$D40*'12.Partner Involvement'!$E40)/COUNTA(_xlfn.TEXTSPLIT('12.Partner Involvement'!$H40,\";\"))),\"\")","v":""},{"$f":"IF(ISNUMBER(SEARCH(H$206,'12.Partner Involvement'!$H40))=TRUE,(('12.Partner Involvement'!$D40*'12.Partner Involvement'!$E40)/COUNTA(_xlfn.TEXTSPLIT('12.Partner Involvement'!$H40,\";\"))),\"\")","v":""}]
[{"$f":"IF(ISNUMBER(SEARCH(A$206,'12.Partner Involvement'!$G41))=TRUE,(('12.Partner Involvement'!$D41*'12.Partner Involvement'!$E41)/COUNTA(_xlfn.TEXTSPLIT('12.Partner Involvement'!$G41,\";\"))),\"\")","v":""},{"$f":"IF(ISNUMBER(SEARCH(B$206,'12.Partner Involvement'!$G41))=TRUE,(('12.Partner Involvement'!$D41*'12.Partner Involvement'!$E41)/COUNTA(_xlfn.TEXTSPLIT('12.Partner Involvement'!$G41,\";\"))),\"\")","v":""},{"$f":"IF(ISNUMBER(SEARCH(C$206,'12.Partner Involvement'!$G41))=TRUE,(('12.Partner Involvement'!$D41*'12.Partner Involvement'!$E41)/COUNTA(_xlfn.TEXTSPLIT('12.Partner Involvement'!$G41,\";\"))),\"\")","v":""},null,{"$f":"IF(ISNUMBER(SEARCH(E$206,'12.Partner Involvement'!$H41))=TRUE,(('12.Partner Involvement'!$D41*'12.Partner Involvement'!$E41)/COUNTA(_xlfn.TEXTSPLIT('12.Partner Involvement'!$H41,\";\"))),\"\")","v":""},{"$f":"IF(ISNUMBER(SEARCH(F$206,'12.Partner Involvement'!$H41))=TRUE,(('12.Partner Involvement'!$D41*'12.Partner Involvement'!$E41)/COUNTA(_xlfn.TEXTSPLIT('12.Partner Involvement'!$H41,\";\"))),\"\")","v":""},{"$f":"IF(ISNUMBER(SEARCH(G$206,'12.Partner Involvement'!$H41))=TRUE,(('12.Partner Involvement'!$D41*'12.Partner Involvement'!$E41)/COUNTA(_xlfn.TEXTSPLIT('12.Partner Involvement'!$H41,\";\"))),\"\")","v":""},{"$f":"IF(ISNUMBER(SEARCH(H$206,'12.Partner Involvement'!$H41))=TRUE,(('12.Partner Involvement'!$D41*'12.Partner Involvement'!$E41)/COUNTA(_xlfn.TEXTSPLIT('12.Partner Involvement'!$H41,\";\"))),\"\")","v":""}]
[{"$f":"IF(ISNUMBER(SEARCH(A$206,'12.Partner Involvement'!$G42))=TRUE,(('12.Partner Involvement'!$D42*'12.Partner Involvement'!$E42)/COUNTA(_xlfn.TEXTSPLIT('12.Partner Involvement'!$G42,\";\"))),\"\")","v":""},{"$f":"IF(ISNUMBER(SEARCH(B$206,'12.Partner Involvement'!$G42))=TRUE,(('12.Partner Involvement'!$D42*'12.Partner Involvement'!$E42)/COUNTA(_xlfn.TEXTSPLIT('12.Partner Involvement'!$G42,\";\"))),\"\")","v":""},{"$f":"IF(ISNUMBER(SEARCH(C$206,'12.Partner Involvement'!$G42))=TRUE,(('12.Partner Involvement'!$D42*'12.Partner Involvement'!$E42)/COUNTA(_xlfn.TEXTSPLIT('12.Partner Involvement'!$G42,\";\"))),\"\")","v":""},null,{"$f":"IF(ISNUMBER(SEARCH(E$206,'12.Partner Involvement'!$H42))=TRUE,(('12.Partner Involvement'!$D42*'12.Partner Involvement'!$E42)/COUNTA(_xlfn.TEXTSPLIT('12.Partner Involvement'!$H42,\";\"))),\"\")","v":""},{"$f":"IF(ISNUMBER(SEARCH(F$206,'12.Partner Involvement'!$H42))=TRUE,(('12.Partner Involvement'!$D42*'12.Partner Involvement'!$E42)/COUNTA(_xlfn.TEXTSPLIT('12.Partner Involvement'!$H42,\";\"))),\"\")","v":""},{"$f":"IF(ISNUMBER(SEARCH(G$206,'12.Partner Involvement'!$H42))=TRUE,(('12.Partner Involvement'!$D42*'12.Partner Involvement'!$E42)/COUNTA(_xlfn.TEXTSPLIT('12.Partner Involvement'!$H42,\";\"))),\"\")","v":""},{"$f":"IF(ISNUMBER(SEARCH(H$206,'12.Partner Involvement'!$H42))=TRUE,(('12.Partner Involvement'!$D42*'12.Partner Involvement'!$E42)/COUNTA(_xlfn.TEXTSPLIT('12.Partner Involvement'!$H42,\";\"))),\"\")","v":""}]
[{"$f":"IF(ISNUMBER(SEARCH(A$206,'12.Partner Involvement'!$G43))=TRUE,(('12.Partner Involvement'!$D43*'12.Partner Involvement'!$E43)/COUNTA(_xlfn.TEXTSPLIT('12.Partner Involvement'!$G43,\";\"))),\"\")","v":""},{"$f":"IF(ISNUMBER(SEARCH(B$206,'12.Partner Involvement'!$G43))=TRUE,(('12.Partner Involvement'!$D43*'12.Partner Involvement'!$E43)/COUNTA(_xlfn.TEXTSPLIT('12.Partner Involvement'!$G43,\";\"))),\"\")","v":""},{"$f":"IF(ISNUMBER(SEARCH(C$206,'12.Partner Involvement'!$G43))=TRUE,(('12.Partner Involvement'!$D43*'12.Partner Involvement'!$E43)/COUNTA(_xlfn.TEXTSPLIT('12.Partner Involvement'!$G43,\";\"))),\"\")","v":""},null,{"$f":"IF(ISNUMBER(SEARCH(E$206,'12.Partner Involvement'!$H43))=TRUE,(('12.Partner Involvement'!$D43*'12.Partner Involvement'!$E43)/COUNTA(_xlfn.TEXTSPLIT('12.Partner Involvement'!$H43,\";\"))),\"\")","v":""},{"$f":"IF(ISNUMBER(SEARCH(F$206,'12.Partner Involvement'!$H43))=TRUE,(('12.Partner Involvement'!$D43*'12.Partner Involvement'!$E43)/COUNTA(_xlfn.TEXTSPLIT('12.Partner Involvement'!$H43,\";\"))),\"\")","v":""},{"$f":"IF(ISNUMBER(SEARCH(G$206,'12.Partner Involvement'!$H43))=TRUE,(('12.Partner Involvement'!$D43*'12.Partner Involvement'!$E43)/COUNTA(_xlfn.TEXTSPLIT('12.Partner Involvement'!$H43,\";\"))),\"\")","v":""},{"$f":"IF(ISNUMBER(SEARCH(H$206,'12.Partner Involvement'!$H43))=TRUE,(('12.Partner Involvement'!$D43*'12.Partner Involvement'!$E43)/COUNTA(_xlfn.TEXTSPLIT('12.Partner Involvement'!$H43,\";\"))),\"\")","v":""}]
[{"$f":"IF(ISNUMBER(SEARCH(A$206,'12.Partner Involvement'!$G44))=TRUE,(('12.Partner Involvement'!$D44*'12.Partner Involvement'!$E44)/COUNTA(_xlfn.TEXTSPLIT('12.Partner Involvement'!$G44,\";\"))),\"\")","v":""},{"$f":"IF(ISNUMBER(SEARCH(B$206,'12.Partner Involvement'!$G44))=TRUE,(('12.Partner Involvement'!$D44*'12.Partner Involvement'!$E44)/COUNTA(_xlfn.TEXTSPLIT('12.Partner Involvement'!$G44,\";\"))),\"\")","v":""},{"$f":"IF(ISNUMBER(SEARCH(C$206,'12.Partner Involvement'!$G44))=TRUE,(('12.Partner Involvement'!$D44*'12.Partner Involvement'!$E44)/COUNTA(_xlfn.TEXTSPLIT('12.Partner Involvement'!$G44,\";\"))),\"\")","v":""},null,{"$f":"IF(ISNUMBER(SEARCH(E$206,'12.Partner Involvement'!$H44))=TRUE,(('12.Partner Involvement'!$D44*'12.Partner Involvement'!$E44)/COUNTA(_xlfn.TEXTSPLIT('12.Partner Involvement'!$H44,\";\"))),\"\")","v":""},{"$f":"IF(ISNUMBER(SEARCH(F$206,'12.Partner Involvement'!$H44))=TRUE,(('12.Partner Involvement'!$D44*'12.Partner Involvement'!$E44)/COUNTA(_xlfn.TEXTSPLIT('12.Partner Involvement'!$H44,\";\"))),\"\")","v":""},{"$f":"IF(ISNUMBER(SEARCH(G$206,'12.Partner Involvement'!$H44))=TRUE,(('12.Partner Involvement'!$D44*'12.Partner Involvement'!$E44)/COUNTA(_xlfn.TEXTSPLIT('12.Partner Involvement'!$H44,\";\"))),\"\")","v":""},{"$f":"IF(ISNUMBER(SEARCH(H$206,'12.Partner Involvement'!$H44))=TRUE,(('12.Partner Involvement'!$D44*'12.Partner Involvement'!$E44)/COUNTA(_xlfn.TEXTSPLIT('12.Partner Involvement'!$H44,\";\"))),\"\")","v":""}]
[{"$f":"IF(ISNUMBER(SEARCH(A$206,'12.Partner Involvement'!$G45))=TRUE,(('12.Partner Involvement'!$D45*'12.Partner Involvement'!$E45)/COUNTA(_xlfn.TEXTSPLIT('12.Partner Involvement'!$G45,\";\"))),\"\")","v":""},{"$f":"IF(ISNUMBER(SEARCH(B$206,'12.Partner Involvement'!$G45))=TRUE,(('12.Partner Involvement'!$D45*'12.Partner Involvement'!$E45)/COUNTA(_xlfn.TEXTSPLIT('12.Partner Involvement'!$G45,\";\"))),\"\")","v":""},{"$f":"IF(ISNUMBER(SEARCH(C$206,'12.Partner Involvement'!$G45))=TRUE,(('12.Partner Involvement'!$D45*'12.Partner Involvement'!$E45)/COUNTA(_xlfn.TEXTSPLIT('12.Partner Involvement'!$G45,\";\"))),\"\")","v":""},null,{"$f":"IF(ISNUMBER(SEARCH(E$206,'12.Partner Involvement'!$H45))=TRUE,(('12.Partner Involvement'!$D45*'12.Partner Involvement'!$E45)/COUNTA(_xlfn.TEXTSPLIT('12.Partner Involvement'!$H45,\";\"))),\"\")","v":""},{"$f":"IF(ISNUMBER(SEARCH(F$206,'12.Partner Involvement'!$H45))=TRUE,(('12.Partner Involvement'!$D45*'12.Partner Involvement'!$E45)/COUNTA(_xlfn.TEXTSPLIT('12.Partner Involvement'!$H45,\";\"))),\"\")","v":""},{"$f":"IF(ISNUMBER(SEARCH(G$206,'12.Partner Involvement'!$H45))=TRUE,(('12.Partner Involvement'!$D45*'12.Partner Involvement'!$E45)/COUNTA(_xlfn.TEXTSPLIT('12.Partner Involvement'!$H45,\";\"))),\"\")","v":""},{"$f":"IF(ISNUMBER(SEARCH(H$206,'12.Partner Involvement'!$H45))=TRUE,(('12.Partner Involvement'!$D45*'12.Partner Involvement'!$E45)/COUNTA(_xlfn.TEXTSPLIT('12.Partner Involvement'!$H45,\";\"))),\"\")","v":""}]
[{"$f":"IF(ISNUMBER(SEARCH(A$206,'12.Partner Involvement'!$G46))=TRUE,(('12.Partner Involvement'!$D46*'12.Partner Involvement'!$E46)/COUNTA(_xlfn.TEXTSPLIT('12.Partner Involvement'!$G46,\";\"))),\"\")","v":""},{"$f":"IF(ISNUMBER(SEARCH(B$206,'12.Partner Involvement'!$G46))=TRUE,(('12.Partner Involvement'!$D46*'12.Partner Involvement'!$E46)/COUNTA(_xlfn.TEXTSPLIT('12.Partner Involvement'!$G46,\";\"))),\"\")","v":""},{"$f":"IF(ISNUMBER(SEARCH(C$206,'12.Partner Involvement'!$G46))=TRUE,(('12.Partner Involvement'!$D46*'12.Partner Involvement'!$E46)/COUNTA(_xlfn.TEXTSPLIT('12.Partner Involvement'!$G46,\";\"))),\"\")","v":""},null,{"$f":"IF(ISNUMBER(SEARCH(E$206,'12.Partner Involvement'!$H46))=TRUE,(('12.Partner Involvement'!$D46*'12.Partner Involvement'!$E46)/COUNTA(_xlfn.TEXTSPLIT('12.Partner Involvement'!$H46,\";\"))),\"\")","v":""},{"$f":"IF(ISNUMBER(SEARCH(F$206,'12.Partner Involvement'!$H46))=TRUE,(('12.Partner Involvement'!$D46*'12.Partner Involvement'!$E46)/COUNTA(_xlfn.TEXTSPLIT('12.Partner Involvement'!$H46,\";\"))),\"\")","v":""},{"$f":"IF(ISNUMBER(SEARCH(G$206,'12.Partner Involvement'!$H46))=TRUE,(('12.Partner Involvement'!$D46*'12.Partner Involvement'!$E46)/COUNTA(_xlfn.TEXTSPLIT('12.Partner Involvement'!$H46,\";\"))),\"\")","v":""},{"$f":"IF(ISNUMBER(SEARCH(H$206,'12.Partner Involvement'!$H46))=TRUE,(('12.Partner Involvement'!$D46*'12.Partner Involvement'!$E46)/COUNTA(_xlfn.TEXTSPLIT('12.Partner Involvement'!$H46,\";\"))),\"\")","v":""}]
[{"$f":"IF(ISNUMBER(SEARCH(A$206,'12.Partner Involvement'!$G47))=TRUE,(('12.Partner Involvement'!$D47*'12.Partner Involvement'!$E47)/COUNTA(_xlfn.TEXTSPLIT('12.Partner Involvement'!$G47,\";\"))),\"\")","v":""},{"$f":"IF(ISNUMBER(SEARCH(B$206,'12.Partner Involvement'!$G47))=TRUE,(('12.Partner Involvement'!$D47*'12.Partner Involvement'!$E47)/COUNTA(_xlfn.TEXTSPLIT('12.Partner Involvement'!$G47,\";\"))),\"\")","v":""},{"$f":"IF(ISNUMBER(SEARCH(C$206,'12.Partner Involvement'!$G47))=TRUE,(('12.Partner Involvement'!$D47*'12.Partner Involvement'!$E47)/COUNTA(_xlfn.TEXTSPLIT('12.Partner Involvement'!$G47,\";\"))),\"\")","v":""},null,{"$f":"IF(ISNUMBER(SEARCH(E$206,'12.Partner Involvement'!$H47))=TRUE,(('12.Partner Involvement'!$D47*'12.Partner Involvement'!$E47)/COUNTA(_xlfn.TEXTSPLIT('12.Partner Involvement'!$H47,\";\"))),\"\")","v":""},{"$f":"IF(ISNUMBER(SEARCH(F$206,'12.Partner Involvement'!$H47))=TRUE,(('12.Partner Involvement'!$D47*'12.Partner Involvement'!$E47)/COUNTA(_xlfn.TEXTSPLIT('12.Partner Involvement'!$H47,\";\"))),\"\")","v":""},{"$f":"IF(ISNUMBER(SEARCH(G$206,'12.Partner Involvement'!$H47))=TRUE,(('12.Partner Involvement'!$D47*'12.Partner Involvement'!$E47)/COUNTA(_xlfn.TEXTSPLIT('12.Partner Involvement'!$H47,\";\"))),\"\")","v":""},{"$f":"IF(ISNUMBER(SEARCH(H$206,'12.Partner Involvement'!$H47))=TRUE,(('12.Partner Involvement'!$D47*'12.Partner Involvement'!$E47)/COUNTA(_xlfn.TEXTSPLIT('12.Partner Involvement'!$H47,\";\"))),\"\")","v":""}]
[{"$f":"IF(ISNUMBER(SEARCH(A$206,'12.Partner Involvement'!$G48))=TRUE,(('12.Partner Involvement'!$D48*'12.Partner Involvement'!$E48)/COUNTA(_xlfn.TEXTSPLIT('12.Partner Involvement'!$G48,\";\"))),\"\")","v":""},{"$f":"IF(ISNUMBER(SEARCH(B$206,'12.Partner Involvement'!$G48))=TRUE,(('12.Partner Involvement'!$D48*'12.Partner Involvement'!$E48)/COUNTA(_xlfn.TEXTSPLIT('12.Partner Involvement'!$G48,\";\"))),\"\")","v":""},{"$f":"IF(ISNUMBER(SEARCH(C$206,'12.Partner Involvement'!$G48))=TRUE,(('12.Partner Involvement'!$D48*'12.Partner Involvement'!$E48)/COUNTA(_xlfn.TEXTSPLIT('12.Partner Involvement'!$G48,\";\"))),\"\")","v":""},null,{"$f":"IF(ISNUMBER(SEARCH(E$206,'12.Partner Involvement'!$H48))=TRUE,(('12.Partner Involvement'!$D48*'12.Partner Involvement'!$E48)/COUNTA(_xlfn.TEXTSPLIT('12.Partner Involvement'!$H48,\";\"))),\"\")","v":""},{"$f":"IF(ISNUMBER(SEARCH(F$206,'12.Partner Involvement'!$H48))=TRUE,(('12.Partner Involvement'!$D48*'12.Partner Involvement'!$E48)/COUNTA(_xlfn.TEXTSPLIT('12.Partner Involvement'!$H48,\";\"))),\"\")","v":""},{"$f":"IF(ISNUMBER(SEARCH(G$206,'12.Partner Involvement'!$H48))=TRUE,(('12.Partner Involvement'!$D48*'12.Partner Involvement'!$E48)/COUNTA(_xlfn.TEXTSPLIT('12.Partner Involvement'!$H48,\";\"))),\"\")","v":""},{"$f":"IF(ISNUMBER(SEARCH(H$206,'12.Partner Involvement'!$H48))=TRUE,(('12.Partner Involvement'!$D48*'12.Partner Involvement'!$E48)/COUNTA(_xlfn.TEXTSPLIT('12.Partner Involvement'!$H48,\";\"))),\"\")","v":""}]
[{"$f":"IF(ISNUMBER(SEARCH(A$206,'12.Partner Involvement'!$G49))=TRUE,(('12.Partner Involvement'!$D49*'12.Partner Involvement'!$E49)/COUNTA(_xlfn.TEXTSPLIT('12.Partner Involvement'!$G49,\";\"))),\"\")","v":""},{"$f":"IF(ISNUMBER(SEARCH(B$206,'12.Partner Involvement'!$G49))=TRUE,(('12.Partner Involvement'!$D49*'12.Partner Involvement'!$E49)/COUNTA(_xlfn.TEXTSPLIT('12.Partner Involvement'!$G49,\";\"))),\"\")","v":""},{"$f":"IF(ISNUMBER(SEARCH(C$206,'12.Partner Involvement'!$G49))=TRUE,(('12.Partner Involvement'!$D49*'12.Partner Involvement'!$E49)/COUNTA(_xlfn.TEXTSPLIT('12.Partner Involvement'!$G49,\";\"))),\"\")","v":""},null,{"$f":"IF(ISNUMBER(SEARCH(E$206,'12.Partner Involvement'!$H49))=TRUE,(('12.Partner Involvement'!$D49*'12.Partner Involvement'!$E49)/COUNTA(_xlfn.TEXTSPLIT('12.Partner Involvement'!$H49,\";\"))),\"\")","v":""},{"$f":"IF(ISNUMBER(SEARCH(F$206,'12.Partner Involvement'!$H49))=TRUE,(('12.Partner Involvement'!$D49*'12.Partner Involvement'!$E49)/COUNTA(_xlfn.TEXTSPLIT('12.Partner Involvement'!$H49,\";\"))),\"\")","v":""},{"$f":"IF(ISNUMBER(SEARCH(G$206,'12.Partner Involvement'!$H49))=TRUE,(('12.Partner Involvement'!$D49*'12.Partner Involvement'!$E49)/COUNTA(_xlfn.TEXTSPLIT('12.Partner Involvement'!$H49,\";\"))),\"\")","v":""},{"$f":"IF(ISNUMBER(SEARCH(H$206,'12.Partner Involvement'!$H49))=TRUE,(('12.Partner Involvement'!$D49*'12.Partner Involvement'!$E49)/COUNTA(_xlfn.TEXTSPLIT('12.Partner Involvement'!$H49,\";\"))),\"\")","v":""}]
[{"$f":"IF(ISNUMBER(SEARCH(A$206,'12.Partner Involvement'!$G50))=TRUE,(('12.Partner Involvement'!$D50*'12.Partner Involvement'!$E50)/COUNTA(_xlfn.TEXTSPLIT('12.Partner Involvement'!$G50,\";\"))),\"\")","v":""},{"$f":"IF(ISNUMBER(SEARCH(B$206,'12.Partner Involvement'!$G50))=TRUE,(('12.Partner Involvement'!$D50*'12.Partner Involvement'!$E50)/COUNTA(_xlfn.TEXTSPLIT('12.Partner Involvement'!$G50,\";\"))),\"\")","v":""},{"$f":"IF(ISNUMBER(SEARCH(C$206,'12.Partner Involvement'!$G50))=TRUE,(('12.Partner Involvement'!$D50*'12.Partner Involvement'!$E50)/COUNTA(_xlfn.TEXTSPLIT('12.Partner Involvement'!$G50,\";\"))),\"\")","v":""},null,{"$f":"IF(ISNUMBER(SEARCH(E$206,'12.Partner Involvement'!$H50))=TRUE,(('12.Partner Involvement'!$D50*'12.Partner Involvement'!$E50)/COUNTA(_xlfn.TEXTSPLIT('12.Partner Involvement'!$H50,\";\"))),\"\")","v":""},{"$f":"IF(ISNUMBER(SEARCH(F$206,'12.Partner Involvement'!$H50))=TRUE,(('12.Partner Involvement'!$D50*'12.Partner Involvement'!$E50)/COUNTA(_xlfn.TEXTSPLIT('12.Partner Involvement'!$H50,\";\"))),\"\")","v":""},{"$f":"IF(ISNUMBER(SEARCH(G$206,'12.Partner Involvement'!$H50))=TRUE,(('12.Partner Involvement'!$D50*'12.Partner Involvement'!$E50)/COUNTA(_xlfn.TEXTSPLIT('12.Partner Involvement'!$H50,\";\"))),\"\")","v":""},{"$f":"IF(ISNUMBER(SEARCH(H$206,'12.Partner Involvement'!$H50))=TRUE,(('12.Partner Involvement'!$D50*'12.Partner Involvement'!$E50)/COUNTA(_xlfn.TEXTSPLIT('12.Partner Involvement'!$H50,\";\"))),\"\")","v":""}]
[{"$f":"IF(ISNUMBER(SEARCH(A$206,'12.Partner Involvement'!$G51))=TRUE,(('12.Partner Involvement'!$D51*'12.Partner Involvement'!$E51)/COUNTA(_xlfn.TEXTSPLIT('12.Partner Involvement'!$G51,\";\"))),\"\")","v":""},{"$f":"IF(ISNUMBER(SEARCH(B$206,'12.Partner Involvement'!$G51))=TRUE,(('12.Partner Involvement'!$D51*'12.Partner Involvement'!$E51)/COUNTA(_xlfn.TEXTSPLIT('12.Partner Involvement'!$G51,\";\"))),\"\")","v":""},{"$f":"IF(ISNUMBER(SEARCH(C$206,'12.Partner Involvement'!$G51))=TRUE,(('12.Partner Involvement'!$D51*'12.Partner Involvement'!$E51)/COUNTA(_xlfn.TEXTSPLIT('12.Partner Involvement'!$G51,\";\"))),\"\")","v":""},null,{"$f":"IF(ISNUMBER(SEARCH(E$206,'12.Partner Involvement'!$H51))=TRUE,(('12.Partner Involvement'!$D51*'12.Partner Involvement'!$E51)/COUNTA(_xlfn.TEXTSPLIT('12.Partner Involvement'!$H51,\";\"))),\"\")","v":""},{"$f":"IF(ISNUMBER(SEARCH(F$206,'12.Partner Involvement'!$H51))=TRUE,(('12.Partner Involvement'!$D51*'12.Partner Involvement'!$E51)/COUNTA(_xlfn.TEXTSPLIT('12.Partner Involvement'!$H51,\";\"))),\"\")","v":""},{"$f":"IF(ISNUMBER(SEARCH(G$206,'12.Partner Involvement'!$H51))=TRUE,(('12.Partner Involvement'!$D51*'12.Partner Involvement'!$E51)/COUNTA(_xlfn.TEXTSPLIT('12.Partner Involvement'!$H51,\";\"))),\"\")","v":""},{"$f":"IF(ISNUMBER(SEARCH(H$206,'12.Partner Involvement'!$H51))=TRUE,(('12.Partner Involvement'!$D51*'12.Partner Involvement'!$E51)/COUNTA(_xlfn.TEXTSPLIT('12.Partner Involvement'!$H51,\";\"))),\"\")","v":""}]
[{"$f":"IF(ISNUMBER(SEARCH(A$206,'12.Partner Involvement'!$G52))=TRUE,(('12.Partner Involvement'!$D52*'12.Partner Involvement'!$E52)/COUNTA(_xlfn.TEXTSPLIT('12.Partner Involvement'!$G52,\";\"))),\"\")","v":""},{"$f":"IF(ISNUMBER(SEARCH(B$206,'12.Partner Involvement'!$G52))=TRUE,(('12.Partner Involvement'!$D52*'12.Partner Involvement'!$E52)/COUNTA(_xlfn.TEXTSPLIT('12.Partner Involvement'!$G52,\";\"))),\"\")","v":""},{"$f":"IF(ISNUMBER(SEARCH(C$206,'12.Partner Involvement'!$G52))=TRUE,(('12.Partner Involvement'!$D52*'12.Partner Involvement'!$E52)/COUNTA(_xlfn.TEXTSPLIT('12.Partner Involvement'!$G52,\";\"))),\"\")","v":""},null,{"$f":"IF(ISNUMBER(SEARCH(E$206,'12.Partner Involvement'!$H52))=TRUE,(('12.Partner Involvement'!$D52*'12.Partner Involvement'!$E52)/COUNTA(_xlfn.TEXTSPLIT('12.Partner Involvement'!$H52,\";\"))),\"\")","v":""},{"$f":"IF(ISNUMBER(SEARCH(F$206,'12.Partner Involvement'!$H52))=TRUE,(('12.Partner Involvement'!$D52*'12.Partner Involvement'!$E52)/COUNTA(_xlfn.TEXTSPLIT('12.Partner Involvement'!$H52,\";\"))),\"\")","v":""},{"$f":"IF(ISNUMBER(SEARCH(G$206,'12.Partner Involvement'!$H52))=TRUE,(('12.Partner Involvement'!$D52*'12.Partner Involvement'!$E52)/COUNTA(_xlfn.TEXTSPLIT('12.Partner Involvement'!$H52,\";\"))),\"\")","v":""},{"$f":"IF(ISNUMBER(SEARCH(H$206,'12.Partner Involvement'!$H52))=TRUE,(('12.Partner Involvement'!$D52*'12.Partner Involvement'!$E52)/COUNTA(_xlfn.TEXTSPLIT('12.Partner Involvement'!$H52,\";\"))),\"\")","v":""}]
[{"$f":"IF(ISNUMBER(SEARCH(A$206,'12.Partner Involvement'!$G53))=TRUE,(('12.Partner Involvement'!$D53*'12.Partner Involvement'!$E53)/COUNTA(_xlfn.TEXTSPLIT('12.Partner Involvement'!$G53,\";\"))),\"\")","v":""},{"$f":"IF(ISNUMBER(SEARCH(B$206,'12.Partner Involvement'!$G53))=TRUE,(('12.Partner Involvement'!$D53*'12.Partner Involvement'!$E53)/COUNTA(_xlfn.TEXTSPLIT('12.Partner Involvement'!$G53,\";\"))),\"\")","v":""},{"$f":"IF(ISNUMBER(SEARCH(C$206,'12.Partner Involvement'!$G53))=TRUE,(('12.Partner Involvement'!$D53*'12.Partner Involvement'!$E53)/COUNTA(_xlfn.TEXTSPLIT('12.Partner Involvement'!$G53,\";\"))),\"\")","v":""},null,{"$f":"IF(ISNUMBER(SEARCH(E$206,'12.Partner Involvement'!$H53))=TRUE,(('12.Partner Involvement'!$D53*'12.Partner Involvement'!$E53)/COUNTA(_xlfn.TEXTSPLIT('12.Partner Involvement'!$H53,\";\"))),\"\")","v":""},{"$f":"IF(ISNUMBER(SEARCH(F$206,'12.Partner Involvement'!$H53))=TRUE,(('12.Partner Involvement'!$D53*'12.Partner Involvement'!$E53)/COUNTA(_xlfn.TEXTSPLIT('12.Partner Involvement'!$H53,\";\"))),\"\")","v":""},{"$f":"IF(ISNUMBER(SEARCH(G$206,'12.Partner Involvement'!$H53))=TRUE,(('12.Partner Involvement'!$D53*'12.Partner Involvement'!$E53)/COUNTA(_xlfn.TEXTSPLIT('12.Partner Involvement'!$H53,\";\"))),\"\")","v":""},{"$f":"IF(ISNUMBER(SEARCH(H$206,'12.Partner Involvement'!$H53))=TRUE,(('12.Partner Involvement'!$D53*'12.Partner Involvement'!$E53)/COUNTA(_xlfn.TEXTSPLIT('12.Partner Involvement'!$H53,\";\"))),\"\")","v":""}]
[{"$f":"IF(ISNUMBER(SEARCH(A$206,'12.Partner Involvement'!$G54))=TRUE,(('12.Partner Involvement'!$D54*'12.Partner Involvement'!$E54)/COUNTA(_xlfn.TEXTSPLIT('12.Partner Involvement'!$G54,\";\"))),\"\")","v":""},{"$f":"IF(ISNUMBER(SEARCH(B$206,'12.Partner Involvement'!$G54))=TRUE,(('12.Partner Involvement'!$D54*'12.Partner Involvement'!$E54)/COUNTA(_xlfn.TEXTSPLIT('12.Partner Involvement'!$G54,\";\"))),\"\")","v":""},{"$f":"IF(ISNUMBER(SEARCH(C$206,'12.Partner Involvement'!$G54))=TRUE,(('12.Partner Involvement'!$D54*'12.Partner Involvement'!$E54)/COUNTA(_xlfn.TEXTSPLIT('12.Partner Involvement'!$G54,\";\"))),\"\")","v":""},null,{"$f":"IF(ISNUMBER(SEARCH(E$206,'12.Partner Involvement'!$H54))=TRUE,(('12.Partner Involvement'!$D54*'12.Partner Involvement'!$E54)/COUNTA(_xlfn.TEXTSPLIT('12.Partner Involvement'!$H54,\";\"))),\"\")","v":""},{"$f":"IF(ISNUMBER(SEARCH(F$206,'12.Partner Involvement'!$H54))=TRUE,(('12.Partner Involvement'!$D54*'12.Partner Involvement'!$E54)/COUNTA(_xlfn.TEXTSPLIT('12.Partner Involvement'!$H54,\";\"))),\"\")","v":""},{"$f":"IF(ISNUMBER(SEARCH(G$206,'12.Partner Involvement'!$H54))=TRUE,(('12.Partner Involvement'!$D54*'12.Partner Involvement'!$E54)/COUNTA(_xlfn.TEXTSPLIT('12.Partner Involvement'!$H54,\";\"))),\"\")","v":""},{"$f":"IF(ISNUMBER(SEARCH(H$206,'12.Partner Involvement'!$H54))=TRUE,(('12.Partner Involvement'!$D54*'12.Partner Involvement'!$E54)/COUNTA(_xlfn.TEXTSPLIT('12.Partner Involvement'!$H54,\";\"))),\"\")","v":""}]
[{"$f":"IF(ISNUMBER(SEARCH(A$206,'12.Partner Involvement'!$G55))=TRUE,(('12.Partner Involvement'!$D55*'12.Partner Involvement'!$E55)/COUNTA(_xlfn.TEXTSPLIT('12.Partner Involvement'!$G55,\";\"))),\"\")","v":""},{"$f":"IF(ISNUMBER(SEARCH(B$206,'12.Partner Involvement'!$G55))=TRUE,(('12.Partner Involvement'!$D55*'12.Partner Involvement'!$E55)/COUNTA(_xlfn.TEXTSPLIT('12.Partner Involvement'!$G55,\";\"))),\"\")","v":""},{"$f":"IF(ISNUMBER(SEARCH(C$206,'12.Partner Involvement'!$G55))=TRUE,(('12.Partner Involvement'!$D55*'12.Partner Involvement'!$E55)/COUNTA(_xlfn.TEXTSPLIT('12.Partner Involvement'!$G55,\";\"))),\"\")","v":""},null,{"$f":"IF(ISNUMBER(SEARCH(E$206,'12.Partner Involvement'!$H55))=TRUE,(('12.Partner Involvement'!$D55*'12.Partner Involvement'!$E55)/COUNTA(_xlfn.TEXTSPLIT('12.Partner Involvement'!$H55,\";\"))),\"\")","v":""},{"$f":"IF(ISNUMBER(SEARCH(F$206,'12.Partner Involvement'!$H55))=TRUE,(('12.Partner Involvement'!$D55*'12.Partner Involvement'!$E55)/COUNTA(_xlfn.TEXTSPLIT('12.Partner Involvement'!$H55,\";\"))),\"\")","v":""},{"$f":"IF(ISNUMBER(SEARCH(G$206,'12.Partner Involvement'!$H55))=TRUE,(('12.Partner Involvement'!$D55*'12.Partner Involvement'!$E55)/COUNTA(_xlfn.TEXTSPLIT('12.Partner Involvement'!$H55,\";\"))),\"\")","v":""},{"$f":"IF(ISNUMBER(SEARCH(H$206,'12.Partner Involvement'!$H55))=TRUE,(('12.Partner Involvement'!$D55*'12.Partner Involvement'!$E55)/COUNTA(_xlfn.TEXTSPLIT('12.Partner Involvement'!$H55,\";\"))),\"\")","v":""}]
[{"$f":"IF(ISNUMBER(SEARCH(A$206,'12.Partner Involvement'!$G56))=TRUE,(('12.Partner Involvement'!$D56*'12.Partner Involvement'!$E56)/COUNTA(_xlfn.TEXTSPLIT('12.Partner Involvement'!$G56,\";\"))),\"\")","v":""},{"$f":"IF(ISNUMBER(SEARCH(B$206,'12.Partner Involvement'!$G56))=TRUE,(('12.Partner Involvement'!$D56*'12.Partner Involvement'!$E56)/COUNTA(_xlfn.TEXTSPLIT('12.Partner Involvement'!$G56,\";\"))),\"\")","v":""},{"$f":"IF(ISNUMBER(SEARCH(C$206,'12.Partner Involvement'!$G56))=TRUE,(('12.Partner Involvement'!$D56*'12.Partner Involvement'!$E56)/COUNTA(_xlfn.TEXTSPLIT('12.Partner Involvement'!$G56,\";\"))),\"\")","v":""},null,{"$f":"IF(ISNUMBER(SEARCH(E$206,'12.Partner Involvement'!$H56))=TRUE,(('12.Partner Involvement'!$D56*'12.Partner Involvement'!$E56)/COUNTA(_xlfn.TEXTSPLIT('12.Partner Involvement'!$H56,\";\"))),\"\")","v":""},{"$f":"IF(ISNUMBER(SEARCH(F$206,'12.Partner Involvement'!$H56))=TRUE,(('12.Partner Involvement'!$D56*'12.Partner Involvement'!$E56)/COUNTA(_xlfn.TEXTSPLIT('12.Partner Involvement'!$H56,\";\"))),\"\")","v":""},{"$f":"IF(ISNUMBER(SEARCH(G$206,'12.Partner Involvement'!$H56))=TRUE,(('12.Partner Involvement'!$D56*'12.Partner Involvement'!$E56)/COUNTA(_xlfn.TEXTSPLIT('12.Partner Involvement'!$H56,\";\"))),\"\")","v":""},{"$f":"IF(ISNUMBER(SEARCH(H$206,'12.Partner Involvement'!$H56))=TRUE,(('12.Partner Involvement'!$D56*'12.Partner Involvement'!$E56)/COUNTA(_xlfn.TEXTSPLIT('12.Partner Involvement'!$H56,\";\"))),\"\")","v":""}]
[{"$f":"IF(ISNUMBER(SEARCH(A$206,'12.Partner Involvement'!$G57))=TRUE,(('12.Partner Involvement'!$D57*'12.Partner Involvement'!$E57)/COUNTA(_xlfn.TEXTSPLIT('12.Partner Involvement'!$G57,\";\"))),\"\")","v":""},{"$f":"IF(ISNUMBER(SEARCH(B$206,'12.Partner Involvement'!$G57))=TRUE,(('12.Partner Involvement'!$D57*'12.Partner Involvement'!$E57)/COUNTA(_xlfn.TEXTSPLIT('12.Partner Involvement'!$G57,\";\"))),\"\")","v":""},{"$f":"IF(ISNUMBER(SEARCH(C$206,'12.Partner Involvement'!$G57))=TRUE,(('12.Partner Involvement'!$D57*'12.Partner Involvement'!$E57)/COUNTA(_xlfn.TEXTSPLIT('12.Partner Involvement'!$G57,\";\"))),\"\")","v":""},null,{"$f":"IF(ISNUMBER(SEARCH(E$206,'12.Partner Involvement'!$H57))=TRUE,(('12.Partner Involvement'!$D57*'12.Partner Involvement'!$E57)/COUNTA(_xlfn.TEXTSPLIT('12.Partner Involvement'!$H57,\";\"))),\"\")","v":""},{"$f":"IF(ISNUMBER(SEARCH(F$206,'12.Partner Involvement'!$H57))=TRUE,(('12.Partner Involvement'!$D57*'12.Partner Involvement'!$E57)/COUNTA(_xlfn.TEXTSPLIT('12.Partner Involvement'!$H57,\";\"))),\"\")","v":""},{"$f":"IF(ISNUMBER(SEARCH(G$206,'12.Partner Involvement'!$H57))=TRUE,(('12.Partner Involvement'!$D57*'12.Partner Involvement'!$E57)/COUNTA(_xlfn.TEXTSPLIT('12.Partner Involvement'!$H57,\";\"))),\"\")","v":""},{"$f":"IF(ISNUMBER(SEARCH(H$206,'12.Partner Involvement'!$H57))=TRUE,(('12.Partner Involvement'!$D57*'12.Partner Involvement'!$E57)/COUNTA(_xlfn.TEXTSPLIT('12.Partner Involvement'!$H57,\";\"))),\"\")","v":""}]
[{"$f":"IF(ISNUMBER(SEARCH(A$206,'12.Partner Involvement'!$G58))=TRUE,(('12.Partner Involvement'!$D58*'12.Partner Involvement'!$E58)/COUNTA(_xlfn.TEXTSPLIT('12.Partner Involvement'!$G58,\";\"))),\"\")","v":""},{"$f":"IF(ISNUMBER(SEARCH(B$206,'12.Partner Involvement'!$G58))=TRUE,(('12.Partner Involvement'!$D58*'12.Partner Involvement'!$E58)/COUNTA(_xlfn.TEXTSPLIT('12.Partner Involvement'!$G58,\";\"))),\"\")","v":""},{"$f":"IF(ISNUMBER(SEARCH(C$206,'12.Partner Involvement'!$G58))=TRUE,(('12.Partner Involvement'!$D58*'12.Partner Involvement'!$E58)/COUNTA(_xlfn.TEXTSPLIT('12.Partner Involvement'!$G58,\";\"))),\"\")","v":""},null,{"$f":"IF(ISNUMBER(SEARCH(E$206,'12.Partner Involvement'!$H58))=TRUE,(('12.Partner Involvement'!$D58*'12.Partner Involvement'!$E58)/COUNTA(_xlfn.TEXTSPLIT('12.Partner Involvement'!$H58,\";\"))),\"\")","v":""},{"$f":"IF(ISNUMBER(SEARCH(F$206,'12.Partner Involvement'!$H58))=TRUE,(('12.Partner Involvement'!$D58*'12.Partner Involvement'!$E58)/COUNTA(_xlfn.TEXTSPLIT('12.Partner Involvement'!$H58,\";\"))),\"\")","v":""},{"$f":"IF(ISNUMBER(SEARCH(G$206,'12.Partner Involvement'!$H58))=TRUE,(('12.Partner Involvement'!$D58*'12.Partner Involvement'!$E58)/COUNTA(_xlfn.TEXTSPLIT('12.Partner Involvement'!$H58,\";\"))),\"\")","v":""},{"$f":"IF(ISNUMBER(SEARCH(H$206,'12.Partner Involvement'!$H58))=TRUE,(('12.Partner Involvement'!$D58*'12.Partner Involvement'!$E58)/COUNTA(_xlfn.TEXTSPLIT('12.Partner Involvement'!$H58,\";\"))),\"\")","v":""}]
[{"$f":"IF(ISNUMBER(SEARCH(A$206,'12.Partner Involvement'!$G59))=TRUE,(('12.Partner Involvement'!$D59*'12.Partner Involvement'!$E59)/COUNTA(_xlfn.TEXTSPLIT('12.Partner Involvement'!$G59,\";\"))),\"\")","v":""},{"$f":"IF(ISNUMBER(SEARCH(B$206,'12.Partner Involvement'!$G59))=TRUE,(('12.Partner Involvement'!$D59*'12.Partner Involvement'!$E59)/COUNTA(_xlfn.TEXTSPLIT('12.Partner Involvement'!$G59,\";\"))),\"\")","v":""},{"$f":"IF(ISNUMBER(SEARCH(C$206,'12.Partner Involvement'!$G59))=TRUE,(('12.Partner Involvement'!$D59*'12.Partner Involvement'!$E59)/COUNTA(_xlfn.TEXTSPLIT('12.Partner Involvement'!$G59,\";\"))),\"\")","v":""},null,{"$f":"IF(ISNUMBER(SEARCH(E$206,'12.Partner Involvement'!$H59))=TRUE,(('12.Partner Involvement'!$D59*'12.Partner Involvement'!$E59)/COUNTA(_xlfn.TEXTSPLIT('12.Partner Involvement'!$H59,\";\"))),\"\")","v":""},{"$f":"IF(ISNUMBER(SEARCH(F$206,'12.Partner Involvement'!$H59))=TRUE,(('12.Partner Involvement'!$D59*'12.Partner Involvement'!$E59)/COUNTA(_xlfn.TEXTSPLIT('12.Partner Involvement'!$H59,\";\"))),\"\")","v":""},{"$f":"IF(ISNUMBER(SEARCH(G$206,'12.Partner Involvement'!$H59))=TRUE,(('12.Partner Involvement'!$D59*'12.Partner Involvement'!$E59)/COUNTA(_xlfn.TEXTSPLIT('12.Partner Involvement'!$H59,\";\"))),\"\")","v":""},{"$f":"IF(ISNUMBER(SEARCH(H$206,'12.Partner Involvement'!$H59))=TRUE,(('12.Partner Involvement'!$D59*'12.Partner Involvement'!$E59)/COUNTA(_xlfn.TEXTSPLIT('12.Partner Involvement'!$H59,\";\"))),\"\")","v":""}]
[{"$f":"IF(ISNUMBER(SEARCH(A$206,'12.Partner Involvement'!$G60))=TRUE,(('12.Partner Involvement'!$D60*'12.Partner Involvement'!$E60)/COUNTA(_xlfn.TEXTSPLIT('12.Partner Involvement'!$G60,\";\"))),\"\")","v":""},{"$f":"IF(ISNUMBER(SEARCH(B$206,'12.Partner Involvement'!$G60))=TRUE,(('12.Partner Involvement'!$D60*'12.Partner Involvement'!$E60)/COUNTA(_xlfn.TEXTSPLIT('12.Partner Involvement'!$G60,\";\"))),\"\")","v":""},{"$f":"IF(ISNUMBER(SEARCH(C$206,'12.Partner Involvement'!$G60))=TRUE,(('12.Partner Involvement'!$D60*'12.Partner Involvement'!$E60)/COUNTA(_xlfn.TEXTSPLIT('12.Partner Involvement'!$G60,\";\"))),\"\")","v":""},null,{"$f":"IF(ISNUMBER(SEARCH(E$206,'12.Partner Involvement'!$H60))=TRUE,(('12.Partner Involvement'!$D60*'12.Partner Involvement'!$E60)/COUNTA(_xlfn.TEXTSPLIT('12.Partner Involvement'!$H60,\";\"))),\"\")","v":""},{"$f":"IF(ISNUMBER(SEARCH(F$206,'12.Partner Involvement'!$H60))=TRUE,(('12.Partner Involvement'!$D60*'12.Partner Involvement'!$E60)/COUNTA(_xlfn.TEXTSPLIT('12.Partner Involvement'!$H60,\";\"))),\"\")","v":""},{"$f":"IF(ISNUMBER(SEARCH(G$206,'12.Partner Involvement'!$H60))=TRUE,(('12.Partner Involvement'!$D60*'12.Partner Involvement'!$E60)/COUNTA(_xlfn.TEXTSPLIT('12.Partner Involvement'!$H60,\";\"))),\"\")","v":""},{"$f":"IF(ISNUMBER(SEARCH(H$206,'12.Partner Involvement'!$H60))=TRUE,(('12.Partner Involvement'!$D60*'12.Partner Involvement'!$E60)/COUNTA(_xlfn.TEXTSPLIT('12.Partner Involvement'!$H60,\";\"))),\"\")","v":""}]
[{"$f":"IF(ISNUMBER(SEARCH(A$206,'12.Partner Involvement'!$G61))=TRUE,(('12.Partner Involvement'!$D61*'12.Partner Involvement'!$E61)/COUNTA(_xlfn.TEXTSPLIT('12.Partner Involvement'!$G61,\";\"))),\"\")","v":""},{"$f":"IF(ISNUMBER(SEARCH(B$206,'12.Partner Involvement'!$G61))=TRUE,(('12.Partner Involvement'!$D61*'12.Partner Involvement'!$E61)/COUNTA(_xlfn.TEXTSPLIT('12.Partner Involvement'!$G61,\";\"))),\"\")","v":""},{"$f":"IF(ISNUMBER(SEARCH(C$206,'12.Partner Involvement'!$G61))=TRUE,(('12.Partner Involvement'!$D61*'12.Partner Involvement'!$E61)/COUNTA(_xlfn.TEXTSPLIT('12.Partner Involvement'!$G61,\";\"))),\"\")","v":""},null,{"$f":"IF(ISNUMBER(SEARCH(E$206,'12.Partner Involvement'!$H61))=TRUE,(('12.Partner Involvement'!$D61*'12.Partner Involvement'!$E61)/COUNTA(_xlfn.TEXTSPLIT('12.Partner Involvement'!$H61,\";\"))),\"\")","v":""},{"$f":"IF(ISNUMBER(SEARCH(F$206,'12.Partner Involvement'!$H61))=TRUE,(('12.Partner Involvement'!$D61*'12.Partner Involvement'!$E61)/COUNTA(_xlfn.TEXTSPLIT('12.Partner Involvement'!$H61,\";\"))),\"\")","v":""},{"$f":"IF(ISNUMBER(SEARCH(G$206,'12.Partner Involvement'!$H61))=TRUE,(('12.Partner Involvement'!$D61*'12.Partner Involvement'!$E61)/COUNTA(_xlfn.TEXTSPLIT('12.Partner Involvement'!$H61,\";\"))),\"\")","v":""},{"$f":"IF(ISNUMBER(SEARCH(H$206,'12.Partner Involvement'!$H61))=TRUE,(('12.Partner Involvement'!$D61*'12.Partner Involvement'!$E61)/COUNTA(_xlfn.TEXTSPLIT('12.Partner Involvement'!$H61,\";\"))),\"\")","v":""}]
[{"$f":"IF(ISNUMBER(SEARCH(A$206,'12.Partner Involvement'!$G62))=TRUE,(('12.Partner Involvement'!$D62*'12.Partner Involvement'!$E62)/COUNTA(_xlfn.TEXTSPLIT('12.Partner Involvement'!$G62,\";\"))),\"\")","v":""},{"$f":"IF(ISNUMBER(SEARCH(B$206,'12.Partner Involvement'!$G62))=TRUE,(('12.Partner Involvement'!$D62*'12.Partner Involvement'!$E62)/COUNTA(_xlfn.TEXTSPLIT('12.Partner Involvement'!$G62,\";\"))),\"\")","v":""},{"$f":"IF(ISNUMBER(SEARCH(C$206,'12.Partner Involvement'!$G62))=TRUE,(('12.Partner Involvement'!$D62*'12.Partner Involvement'!$E62)/COUNTA(_xlfn.TEXTSPLIT('12.Partner Involvement'!$G62,\";\"))),\"\")","v":""},null,{"$f":"IF(ISNUMBER(SEARCH(E$206,'12.Partner Involvement'!$H62))=TRUE,(('12.Partner Involvement'!$D62*'12.Partner Involvement'!$E62)/COUNTA(_xlfn.TEXTSPLIT('12.Partner Involvement'!$H62,\";\"))),\"\")","v":""},{"$f":"IF(ISNUMBER(SEARCH(F$206,'12.Partner Involvement'!$H62))=TRUE,(('12.Partner Involvement'!$D62*'12.Partner Involvement'!$E62)/COUNTA(_xlfn.TEXTSPLIT('12.Partner Involvement'!$H62,\";\"))),\"\")","v":""},{"$f":"IF(ISNUMBER(SEARCH(G$206,'12.Partner Involvement'!$H62))=TRUE,(('12.Partner Involvement'!$D62*'12.Partner Involvement'!$E62)/COUNTA(_xlfn.TEXTSPLIT('12.Partner Involvement'!$H62,\";\"))),\"\")","v":""},{"$f":"IF(ISNUMBER(SEARCH(H$206,'12.Partner Involvement'!$H62))=TRUE,(('12.Partner Involvement'!$D62*'12.Partner Involvement'!$E62)/COUNTA(_xlfn.TEXTSPLIT('12.Partner Involvement'!$H62,\";\"))),\"\")","v":""}]
[{"$f":"IF(ISNUMBER(SEARCH(A$206,'12.Partner Involvement'!$G63))=TRUE,(('12.Partner Involvement'!$D63*'12.Partner Involvement'!$E63)/COUNTA(_xlfn.TEXTSPLIT('12.Partner Involvement'!$G63,\";\"))),\"\")","v":""},{"$f":"IF(ISNUMBER(SEARCH(B$206,'12.Partner Involvement'!$G63))=TRUE,(('12.Partner Involvement'!$D63*'12.Partner Involvement'!$E63)/COUNTA(_xlfn.TEXTSPLIT('12.Partner Involvement'!$G63,\";\"))),\"\")","v":""},{"$f":"IF(ISNUMBER(SEARCH(C$206,'12.Partner Involvement'!$G63))=TRUE,(('12.Partner Involvement'!$D63*'12.Partner Involvement'!$E63)/COUNTA(_xlfn.TEXTSPLIT('12.Partner Involvement'!$G63,\";\"))),\"\")","v":""},null,{"$f":"IF(ISNUMBER(SEARCH(E$206,'12.Partner Involvement'!$H63))=TRUE,(('12.Partner Involvement'!$D63*'12.Partner Involvement'!$E63)/COUNTA(_xlfn.TEXTSPLIT('12.Partner Involvement'!$H63,\";\"))),\"\")","v":""},{"$f":"IF(ISNUMBER(SEARCH(F$206,'12.Partner Involvement'!$H63))=TRUE,(('12.Partner Involvement'!$D63*'12.Partner Involvement'!$E63)/COUNTA(_xlfn.TEXTSPLIT('12.Partner Involvement'!$H63,\";\"))),\"\")","v":""},{"$f":"IF(ISNUMBER(SEARCH(G$206,'12.Partner Involvement'!$H63))=TRUE,(('12.Partner Involvement'!$D63*'12.Partner Involvement'!$E63)/COUNTA(_xlfn.TEXTSPLIT('12.Partner Involvement'!$H63,\";\"))),\"\")","v":""},{"$f":"IF(ISNUMBER(SEARCH(H$206,'12.Partner Involvement'!$H63))=TRUE,(('12.Partner Involvement'!$D63*'12.Partner Involvement'!$E63)/COUNTA(_xlfn.TEXTSPLIT('12.Partner Involvement'!$H63,\";\"))),\"\")","v":""}]
[{"$f":"IF(ISNUMBER(SEARCH(A$206,'12.Partner Involvement'!$G64))=TRUE,(('12.Partner Involvement'!$D64*'12.Partner Involvement'!$E64)/COUNTA(_xlfn.TEXTSPLIT('12.Partner Involvement'!$G64,\";\"))),\"\")","v":""},{"$f":"IF(ISNUMBER(SEARCH(B$206,'12.Partner Involvement'!$G64))=TRUE,(('12.Partner Involvement'!$D64*'12.Partner Involvement'!$E64)/COUNTA(_xlfn.TEXTSPLIT('12.Partner Involvement'!$G64,\";\"))),\"\")","v":""},{"$f":"IF(ISNUMBER(SEARCH(C$206,'12.Partner Involvement'!$G64))=TRUE,(('12.Partner Involvement'!$D64*'12.Partner Involvement'!$E64)/COUNTA(_xlfn.TEXTSPLIT('12.Partner Involvement'!$G64,\";\"))),\"\")","v":""},null,{"$f":"IF(ISNUMBER(SEARCH(E$206,'12.Partner Involvement'!$H64))=TRUE,(('12.Partner Involvement'!$D64*'12.Partner Involvement'!$E64)/COUNTA(_xlfn.TEXTSPLIT('12.Partner Involvement'!$H64,\";\"))),\"\")","v":""},{"$f":"IF(ISNUMBER(SEARCH(F$206,'12.Partner Involvement'!$H64))=TRUE,(('12.Partner Involvement'!$D64*'12.Partner Involvement'!$E64)/COUNTA(_xlfn.TEXTSPLIT('12.Partner Involvement'!$H64,\";\"))),\"\")","v":""},{"$f":"IF(ISNUMBER(SEARCH(G$206,'12.Partner Involvement'!$H64))=TRUE,(('12.Partner Involvement'!$D64*'12.Partner Involvement'!$E64)/COUNTA(_xlfn.TEXTSPLIT('12.Partner Involvement'!$H64,\";\"))),\"\")","v":""},{"$f":"IF(ISNUMBER(SEARCH(H$206,'12.Partner Involvement'!$H64))=TRUE,(('12.Partner Involvement'!$D64*'12.Partner Involvement'!$E64)/COUNTA(_xlfn.TEXTSPLIT('12.Partner Involvement'!$H64,\";\"))),\"\")","v":""}]
[{"$f":"IF(ISNUMBER(SEARCH(A$206,'12.Partner Involvement'!$G65))=TRUE,(('12.Partner Involvement'!$D65*'12.Partner Involvement'!$E65)/COUNTA(_xlfn.TEXTSPLIT('12.Partner Involvement'!$G65,\";\"))),\"\")","v":""},{"$f":"IF(ISNUMBER(SEARCH(B$206,'12.Partner Involvement'!$G65))=TRUE,(('12.Partner Involvement'!$D65*'12.Partner Involvement'!$E65)/COUNTA(_xlfn.TEXTSPLIT('12.Partner Involvement'!$G65,\";\"))),\"\")","v":""},{"$f":"IF(ISNUMBER(SEARCH(C$206,'12.Partner Involvement'!$G65))=TRUE,(('12.Partner Involvement'!$D65*'12.Partner Involvement'!$E65)/COUNTA(_xlfn.TEXTSPLIT('12.Partner Involvement'!$G65,\";\"))),\"\")","v":""},null,{"$f":"IF(ISNUMBER(SEARCH(E$206,'12.Partner Involvement'!$H65))=TRUE,(('12.Partner Involvement'!$D65*'12.Partner Involvement'!$E65)/COUNTA(_xlfn.TEXTSPLIT('12.Partner Involvement'!$H65,\";\"))),\"\")","v":""},{"$f":"IF(ISNUMBER(SEARCH(F$206,'12.Partner Involvement'!$H65))=TRUE,(('12.Partner Involvement'!$D65*'12.Partner Involvement'!$E65)/COUNTA(_xlfn.TEXTSPLIT('12.Partner Involvement'!$H65,\";\"))),\"\")","v":""},{"$f":"IF(ISNUMBER(SEARCH(G$206,'12.Partner Involvement'!$H65))=TRUE,(('12.Partner Involvement'!$D65*'12.Partner Involvement'!$E65)/COUNTA(_xlfn.TEXTSPLIT('12.Partner Involvement'!$H65,\";\"))),\"\")","v":""},{"$f":"IF(ISNUMBER(SEARCH(H$206,'12.Partner Involvement'!$H65))=TRUE,(('12.Partner Involvement'!$D65*'12.Partner Involvement'!$E65)/COUNTA(_xlfn.TEXTSPLIT('12.Partner Involvement'!$H65,\";\"))),\"\")","v":""}]
[{"$f":"IF(ISNUMBER(SEARCH(A$206,'12.Partner Involvement'!$G66))=TRUE,(('12.Partner Involvement'!$D66*'12.Partner Involvement'!$E66)/COUNTA(_xlfn.TEXTSPLIT('12.Partner Involvement'!$G66,\";\"))),\"\")","v":""},{"$f":"IF(ISNUMBER(SEARCH(B$206,'12.Partner Involvement'!$G66))=TRUE,(('12.Partner Involvement'!$D66*'12.Partner Involvement'!$E66)/COUNTA(_xlfn.TEXTSPLIT('12.Partner Involvement'!$G66,\";\"))),\"\")","v":""},{"$f":"IF(ISNUMBER(SEARCH(C$206,'12.Partner Involvement'!$G66))=TRUE,(('12.Partner Involvement'!$D66*'12.Partner Involvement'!$E66)/COUNTA(_xlfn.TEXTSPLIT('12.Partner Involvement'!$G66,\";\"))),\"\")","v":""},null,{"$f":"IF(ISNUMBER(SEARCH(E$206,'12.Partner Involvement'!$H66))=TRUE,(('12.Partner Involvement'!$D66*'12.Partner Involvement'!$E66)/COUNTA(_xlfn.TEXTSPLIT('12.Partner Involvement'!$H66,\";\"))),\"\")","v":""},{"$f":"IF(ISNUMBER(SEARCH(F$206,'12.Partner Involvement'!$H66))=TRUE,(('12.Partner Involvement'!$D66*'12.Partner Involvement'!$E66)/COUNTA(_xlfn.TEXTSPLIT('12.Partner Involvement'!$H66,\";\"))),\"\")","v":""},{"$f":"IF(ISNUMBER(SEARCH(G$206,'12.Partner Involvement'!$H66))=TRUE,(('12.Partner Involvement'!$D66*'12.Partner Involvement'!$E66)/COUNTA(_xlfn.TEXTSPLIT('12.Partner Involvement'!$H66,\";\"))),\"\")","v":""},{"$f":"IF(ISNUMBER(SEARCH(H$206,'12.Partner Involvement'!$H66))=TRUE,(('12.Partner Involvement'!$D66*'12.Partner Involvement'!$E66)/COUNTA(_xlfn.TEXTSPLIT('12.Partner Involvement'!$H66,\";\"))),\"\")","v":""}]
[{"$f":"IF(ISNUMBER(SEARCH(A$206,'12.Partner Involvement'!$G67))=TRUE,(('12.Partner Involvement'!$D67*'12.Partner Involvement'!$E67)/COUNTA(_xlfn.TEXTSPLIT('12.Partner Involvement'!$G67,\";\"))),\"\")","v":""},{"$f":"IF(ISNUMBER(SEARCH(B$206,'12.Partner Involvement'!$G67))=TRUE,(('12.Partner Involvement'!$D67*'12.Partner Involvement'!$E67)/COUNTA(_xlfn.TEXTSPLIT('12.Partner Involvement'!$G67,\";\"))),\"\")","v":""},{"$f":"IF(ISNUMBER(SEARCH(C$206,'12.Partner Involvement'!$G67))=TRUE,(('12.Partner Involvement'!$D67*'12.Partner Involvement'!$E67)/COUNTA(_xlfn.TEXTSPLIT('12.Partner Involvement'!$G67,\";\"))),\"\")","v":""},null,{"$f":"IF(ISNUMBER(SEARCH(E$206,'12.Partner Involvement'!$H67))=TRUE,(('12.Partner Involvement'!$D67*'12.Partner Involvement'!$E67)/COUNTA(_xlfn.TEXTSPLIT('12.Partner Involvement'!$H67,\";\"))),\"\")","v":""},{"$f":"IF(ISNUMBER(SEARCH(F$206,'12.Partner Involvement'!$H67))=TRUE,(('12.Partner Involvement'!$D67*'12.Partner Involvement'!$E67)/COUNTA(_xlfn.TEXTSPLIT('12.Partner Involvement'!$H67,\";\"))),\"\")","v":""},{"$f":"IF(ISNUMBER(SEARCH(G$206,'12.Partner Involvement'!$H67))=TRUE,(('12.Partner Involvement'!$D67*'12.Partner Involvement'!$E67)/COUNTA(_xlfn.TEXTSPLIT('12.Partner Involvement'!$H67,\";\"))),\"\")","v":""},{"$f":"IF(ISNUMBER(SEARCH(H$206,'12.Partner Involvement'!$H67))=TRUE,(('12.Partner Involvement'!$D67*'12.Partner Involvement'!$E67)/COUNTA(_xlfn.TEXTSPLIT('12.Partner Involvement'!$H67,\";\"))),\"\")","v":""}]
[{"$f":"IF(ISNUMBER(SEARCH(A$206,'12.Partner Involvement'!$G68))=TRUE,(('12.Partner Involvement'!$D68*'12.Partner Involvement'!$E68)/COUNTA(_xlfn.TEXTSPLIT('12.Partner Involvement'!$G68,\";\"))),\"\")","v":""},{"$f":"IF(ISNUMBER(SEARCH(B$206,'12.Partner Involvement'!$G68))=TRUE,(('12.Partner Involvement'!$D68*'12.Partner Involvement'!$E68)/COUNTA(_xlfn.TEXTSPLIT('12.Partner Involvement'!$G68,\";\"))),\"\")","v":""},{"$f":"IF(ISNUMBER(SEARCH(C$206,'12.Partner Involvement'!$G68))=TRUE,(('12.Partner Involvement'!$D68*'12.Partner Involvement'!$E68)/COUNTA(_xlfn.TEXTSPLIT('12.Partner Involvement'!$G68,\";\"))),\"\")","v":""},null,{"$f":"IF(ISNUMBER(SEARCH(E$206,'12.Partner Involvement'!$H68))=TRUE,(('12.Partner Involvement'!$D68*'12.Partner Involvement'!$E68)/COUNTA(_xlfn.TEXTSPLIT('12.Partner Involvement'!$H68,\";\"))),\"\")","v":""},{"$f":"IF(ISNUMBER(SEARCH(F$206,'12.Partner Involvement'!$H68))=TRUE,(('12.Partner Involvement'!$D68*'12.Partner Involvement'!$E68)/COUNTA(_xlfn.TEXTSPLIT('12.Partner Involvement'!$H68,\";\"))),\"\")","v":""},{"$f":"IF(ISNUMBER(SEARCH(G$206,'12.Partner Involvement'!$H68))=TRUE,(('12.Partner Involvement'!$D68*'12.Partner Involvement'!$E68)/COUNTA(_xlfn.TEXTSPLIT('12.Partner Involvement'!$H68,\";\"))),\"\")","v":""},{"$f":"IF(ISNUMBER(SEARCH(H$206,'12.Partner Involvement'!$H68))=TRUE,(('12.Partner Involvement'!$D68*'12.Partner Involvement'!$E68)/COUNTA(_xlfn.TEXTSPLIT('12.Partner Involvement'!$H68,\";\"))),\"\")","v":""}]
[{"$f":"IF(ISNUMBER(SEARCH(A$206,'12.Partner Involvement'!$G69))=TRUE,(('12.Partner Involvement'!$D69*'12.Partner Involvement'!$E69)/COUNTA(_xlfn.TEXTSPLIT('12.Partner Involvement'!$G69,\";\"))),\"\")","v":""},{"$f":"IF(ISNUMBER(SEARCH(B$206,'12.Partner Involvement'!$G69))=TRUE,(('12.Partner Involvement'!$D69*'12.Partner Involvement'!$E69)/COUNTA(_xlfn.TEXTSPLIT('12.Partner Involvement'!$G69,\";\"))),\"\")","v":""},{"$f":"IF(ISNUMBER(SEARCH(C$206,'12.Partner Involvement'!$G69))=TRUE,(('12.Partner Involvement'!$D69*'12.Partner Involvement'!$E69)/COUNTA(_xlfn.TEXTSPLIT('12.Partner Involvement'!$G69,\";\"))),\"\")","v":""},null,{"$f":"IF(ISNUMBER(SEARCH(E$206,'12.Partner Involvement'!$H69))=TRUE,(('12.Partner Involvement'!$D69*'12.Partner Involvement'!$E69)/COUNTA(_xlfn.TEXTSPLIT('12.Partner Involvement'!$H69,\";\"))),\"\")","v":""},{"$f":"IF(ISNUMBER(SEARCH(F$206,'12.Partner Involvement'!$H69))=TRUE,(('12.Partner Involvement'!$D69*'12.Partner Involvement'!$E69)/COUNTA(_xlfn.TEXTSPLIT('12.Partner Involvement'!$H69,\";\"))),\"\")","v":""},{"$f":"IF(ISNUMBER(SEARCH(G$206,'12.Partner Involvement'!$H69))=TRUE,(('12.Partner Involvement'!$D69*'12.Partner Involvement'!$E69)/COUNTA(_xlfn.TEXTSPLIT('12.Partner Involvement'!$H69,\";\"))),\"\")","v":""},{"$f":"IF(ISNUMBER(SEARCH(H$206,'12.Partner Involvement'!$H69))=TRUE,(('12.Partner Involvement'!$D69*'12.Partner Involvement'!$E69)/COUNTA(_xlfn.TEXTSPLIT('12.Partner Involvement'!$H69,\";\"))),\"\")","v":""}]
[{"$f":"IF(ISNUMBER(SEARCH(A$206,'12.Partner Involvement'!$G70))=TRUE,(('12.Partner Involvement'!$D70*'12.Partner Involvement'!$E70)/COUNTA(_xlfn.TEXTSPLIT('12.Partner Involvement'!$G70,\";\"))),\"\")","v":""},{"$f":"IF(ISNUMBER(SEARCH(B$206,'12.Partner Involvement'!$G70))=TRUE,(('12.Partner Involvement'!$D70*'12.Partner Involvement'!$E70)/COUNTA(_xlfn.TEXTSPLIT('12.Partner Involvement'!$G70,\";\"))),\"\")","v":""},{"$f":"IF(ISNUMBER(SEARCH(C$206,'12.Partner Involvement'!$G70))=TRUE,(('12.Partner Involvement'!$D70*'12.Partner Involvement'!$E70)/COUNTA(_xlfn.TEXTSPLIT('12.Partner Involvement'!$G70,\";\"))),\"\")","v":""},null,{"$f":"IF(ISNUMBER(SEARCH(E$206,'12.Partner Involvement'!$H70))=TRUE,(('12.Partner Involvement'!$D70*'12.Partner Involvement'!$E70)/COUNTA(_xlfn.TEXTSPLIT('12.Partner Involvement'!$H70,\";\"))),\"\")","v":""},{"$f":"IF(ISNUMBER(SEARCH(F$206,'12.Partner Involvement'!$H70))=TRUE,(('12.Partner Involvement'!$D70*'12.Partner Involvement'!$E70)/COUNTA(_xlfn.TEXTSPLIT('12.Partner Involvement'!$H70,\";\"))),\"\")","v":""},{"$f":"IF(ISNUMBER(SEARCH(G$206,'12.Partner Involvement'!$H70))=TRUE,(('12.Partner Involvement'!$D70*'12.Partner Involvement'!$E70)/COUNTA(_xlfn.TEXTSPLIT('12.Partner Involvement'!$H70,\";\"))),\"\")","v":""},{"$f":"IF(ISNUMBER(SEARCH(H$206,'12.Partner Involvement'!$H70))=TRUE,(('12.Partner Involvement'!$D70*'12.Partner Involvement'!$E70)/COUNTA(_xlfn.TEXTSPLIT('12.Partner Involvement'!$H70,\";\"))),\"\")","v":""}]
[{"$f":"IF(ISNUMBER(SEARCH(A$206,'12.Partner Involvement'!$G71))=TRUE,(('12.Partner Involvement'!$D71*'12.Partner Involvement'!$E71)/COUNTA(_xlfn.TEXTSPLIT('12.Partner Involvement'!$G71,\";\"))),\"\")","v":""},{"$f":"IF(ISNUMBER(SEARCH(B$206,'12.Partner Involvement'!$G71))=TRUE,(('12.Partner Involvement'!$D71*'12.Partner Involvement'!$E71)/COUNTA(_xlfn.TEXTSPLIT('12.Partner Involvement'!$G71,\";\"))),\"\")","v":""},{"$f":"IF(ISNUMBER(SEARCH(C$206,'12.Partner Involvement'!$G71))=TRUE,(('12.Partner Involvement'!$D71*'12.Partner Involvement'!$E71)/COUNTA(_xlfn.TEXTSPLIT('12.Partner Involvement'!$G71,\";\"))),\"\")","v":""},null,{"$f":"IF(ISNUMBER(SEARCH(E$206,'12.Partner Involvement'!$H71))=TRUE,(('12.Partner Involvement'!$D71*'12.Partner Involvement'!$E71)/COUNTA(_xlfn.TEXTSPLIT('12.Partner Involvement'!$H71,\";\"))),\"\")","v":""},{"$f":"IF(ISNUMBER(SEARCH(F$206,'12.Partner Involvement'!$H71))=TRUE,(('12.Partner Involvement'!$D71*'12.Partner Involvement'!$E71)/COUNTA(_xlfn.TEXTSPLIT('12.Partner Involvement'!$H71,\";\"))),\"\")","v":""},{"$f":"IF(ISNUMBER(SEARCH(G$206,'12.Partner Involvement'!$H71))=TRUE,(('12.Partner Involvement'!$D71*'12.Partner Involvement'!$E71)/COUNTA(_xlfn.TEXTSPLIT('12.Partner Involvement'!$H71,\";\"))),\"\")","v":""},{"$f":"IF(ISNUMBER(SEARCH(H$206,'12.Partner Involvement'!$H71))=TRUE,(('12.Partner Involvement'!$D71*'12.Partner Involvement'!$E71)/COUNTA(_xlfn.TEXTSPLIT('12.Partner Involvement'!$H71,\";\"))),\"\")","v":""}]
[{"$f":"IF(ISNUMBER(SEARCH(A$206,'12.Partner Involvement'!$G72))=TRUE,(('12.Partner Involvement'!$D72*'12.Partner Involvement'!$E72)/COUNTA(_xlfn.TEXTSPLIT('12.Partner Involvement'!$G72,\";\"))),\"\")","v":""},{"$f":"IF(ISNUMBER(SEARCH(B$206,'12.Partner Involvement'!$G72))=TRUE,(('12.Partner Involvement'!$D72*'12.Partner Involvement'!$E72)/COUNTA(_xlfn.TEXTSPLIT('12.Partner Involvement'!$G72,\";\"))),\"\")","v":""},{"$f":"IF(ISNUMBER(SEARCH(C$206,'12.Partner Involvement'!$G72))=TRUE,(('12.Partner Involvement'!$D72*'12.Partner Involvement'!$E72)/COUNTA(_xlfn.TEXTSPLIT('12.Partner Involvement'!$G72,\";\"))),\"\")","v":""},null,{"$f":"IF(ISNUMBER(SEARCH(E$206,'12.Partner Involvement'!$H72))=TRUE,(('12.Partner Involvement'!$D72*'12.Partner Involvement'!$E72)/COUNTA(_xlfn.TEXTSPLIT('12.Partner Involvement'!$H72,\";\"))),\"\")","v":""},{"$f":"IF(ISNUMBER(SEARCH(F$206,'12.Partner Involvement'!$H72))=TRUE,(('12.Partner Involvement'!$D72*'12.Partner Involvement'!$E72)/COUNTA(_xlfn.TEXTSPLIT('12.Partner Involvement'!$H72,\";\"))),\"\")","v":""},{"$f":"IF(ISNUMBER(SEARCH(G$206,'12.Partner Involvement'!$H72))=TRUE,(('12.Partner Involvement'!$D72*'12.Partner Involvement'!$E72)/COUNTA(_xlfn.TEXTSPLIT('12.Partner Involvement'!$H72,\";\"))),\"\")","v":""},{"$f":"IF(ISNUMBER(SEARCH(H$206,'12.Partner Involvement'!$H72))=TRUE,(('12.Partner Involvement'!$D72*'12.Partner Involvement'!$E72)/COUNTA(_xlfn.TEXTSPLIT('12.Partner Involvement'!$H72,\";\"))),\"\")","v":""}]
[{"$f":"IF(ISNUMBER(SEARCH(A$206,'12.Partner Involvement'!$G73))=TRUE,(('12.Partner Involvement'!$D73*'12.Partner Involvement'!$E73)/COUNTA(_xlfn.TEXTSPLIT('12.Partner Involvement'!$G73,\";\"))),\"\")","v":""},{"$f":"IF(ISNUMBER(SEARCH(B$206,'12.Partner Involvement'!$G73))=TRUE,(('12.Partner Involvement'!$D73*'12.Partner Involvement'!$E73)/COUNTA(_xlfn.TEXTSPLIT('12.Partner Involvement'!$G73,\";\"))),\"\")","v":""},{"$f":"IF(ISNUMBER(SEARCH(C$206,'12.Partner Involvement'!$G73))=TRUE,(('12.Partner Involvement'!$D73*'12.Partner Involvement'!$E73)/COUNTA(_xlfn.TEXTSPLIT('12.Partner Involvement'!$G73,\";\"))),\"\")","v":""},null,{"$f":"IF(ISNUMBER(SEARCH(E$206,'12.Partner Involvement'!$H73))=TRUE,(('12.Partner Involvement'!$D73*'12.Partner Involvement'!$E73)/COUNTA(_xlfn.TEXTSPLIT('12.Partner Involvement'!$H73,\";\"))),\"\")","v":""},{"$f":"IF(ISNUMBER(SEARCH(F$206,'12.Partner Involvement'!$H73))=TRUE,(('12.Partner Involvement'!$D73*'12.Partner Involvement'!$E73)/COUNTA(_xlfn.TEXTSPLIT('12.Partner Involvement'!$H73,\";\"))),\"\")","v":""},{"$f":"IF(ISNUMBER(SEARCH(G$206,'12.Partner Involvement'!$H73))=TRUE,(('12.Partner Involvement'!$D73*'12.Partner Involvement'!$E73)/COUNTA(_xlfn.TEXTSPLIT('12.Partner Involvement'!$H73,\";\"))),\"\")","v":""},{"$f":"IF(ISNUMBER(SEARCH(H$206,'12.Partner Involvement'!$H73))=TRUE,(('12.Partner Involvement'!$D73*'12.Partner Involvement'!$E73)/COUNTA(_xlfn.TEXTSPLIT('12.Partner Involvement'!$H73,\";\"))),\"\")","v":""}]
[{"$f":"IF(ISNUMBER(SEARCH(A$206,'12.Partner Involvement'!$G74))=TRUE,(('12.Partner Involvement'!$D74*'12.Partner Involvement'!$E74)/COUNTA(_xlfn.TEXTSPLIT('12.Partner Involvement'!$G74,\";\"))),\"\")","v":""},{"$f":"IF(ISNUMBER(SEARCH(B$206,'12.Partner Involvement'!$G74))=TRUE,(('12.Partner Involvement'!$D74*'12.Partner Involvement'!$E74)/COUNTA(_xlfn.TEXTSPLIT('12.Partner Involvement'!$G74,\";\"))),\"\")","v":""},{"$f":"IF(ISNUMBER(SEARCH(C$206,'12.Partner Involvement'!$G74))=TRUE,(('12.Partner Involvement'!$D74*'12.Partner Involvement'!$E74)/COUNTA(_xlfn.TEXTSPLIT('12.Partner Involvement'!$G74,\";\"))),\"\")","v":""},null,{"$f":"IF(ISNUMBER(SEARCH(E$206,'12.Partner Involvement'!$H74))=TRUE,(('12.Partner Involvement'!$D74*'12.Partner Involvement'!$E74)/COUNTA(_xlfn.TEXTSPLIT('12.Partner Involvement'!$H74,\";\"))),\"\")","v":""},{"$f":"IF(ISNUMBER(SEARCH(F$206,'12.Partner Involvement'!$H74))=TRUE,(('12.Partner Involvement'!$D74*'12.Partner Involvement'!$E74)/COUNTA(_xlfn.TEXTSPLIT('12.Partner Involvement'!$H74,\";\"))),\"\")","v":""},{"$f":"IF(ISNUMBER(SEARCH(G$206,'12.Partner Involvement'!$H74))=TRUE,(('12.Partner Involvement'!$D74*'12.Partner Involvement'!$E74)/COUNTA(_xlfn.TEXTSPLIT('12.Partner Involvement'!$H74,\";\"))),\"\")","v":""},{"$f":"IF(ISNUMBER(SEARCH(H$206,'12.Partner Involvement'!$H74))=TRUE,(('12.Partner Involvement'!$D74*'12.Partner Involvement'!$E74)/COUNTA(_xlfn.TEXTSPLIT('12.Partner Involvement'!$H74,\";\"))),\"\")","v":""}]
[{"$f":"IF(ISNUMBER(SEARCH(A$206,'12.Partner Involvement'!$G75))=TRUE,(('12.Partner Involvement'!$D75*'12.Partner Involvement'!$E75)/COUNTA(_xlfn.TEXTSPLIT('12.Partner Involvement'!$G75,\";\"))),\"\")","v":""},{"$f":"IF(ISNUMBER(SEARCH(B$206,'12.Partner Involvement'!$G75))=TRUE,(('12.Partner Involvement'!$D75*'12.Partner Involvement'!$E75)/COUNTA(_xlfn.TEXTSPLIT('12.Partner Involvement'!$G75,\";\"))),\"\")","v":""},{"$f":"IF(ISNUMBER(SEARCH(C$206,'12.Partner Involvement'!$G75))=TRUE,(('12.Partner Involvement'!$D75*'12.Partner Involvement'!$E75)/COUNTA(_xlfn.TEXTSPLIT('12.Partner Involvement'!$G75,\";\"))),\"\")","v":""},null,{"$f":"IF(ISNUMBER(SEARCH(E$206,'12.Partner Involvement'!$H75))=TRUE,(('12.Partner Involvement'!$D75*'12.Partner Involvement'!$E75)/COUNTA(_xlfn.TEXTSPLIT('12.Partner Involvement'!$H75,\";\"))),\"\")","v":""},{"$f":"IF(ISNUMBER(SEARCH(F$206,'12.Partner Involvement'!$H75))=TRUE,(('12.Partner Involvement'!$D75*'12.Partner Involvement'!$E75)/COUNTA(_xlfn.TEXTSPLIT('12.Partner Involvement'!$H75,\";\"))),\"\")","v":""},{"$f":"IF(ISNUMBER(SEARCH(G$206,'12.Partner Involvement'!$H75))=TRUE,(('12.Partner Involvement'!$D75*'12.Partner Involvement'!$E75)/COUNTA(_xlfn.TEXTSPLIT('12.Partner Involvement'!$H75,\";\"))),\"\")","v":""},{"$f":"IF(ISNUMBER(SEARCH(H$206,'12.Partner Involvement'!$H75))=TRUE,(('12.Partner Involvement'!$D75*'12.Partner Involvement'!$E75)/COUNTA(_xlfn.TEXTSPLIT('12.Partner Involvement'!$H75,\";\"))),\"\")","v":""}]
[{"$f":"IF(ISNUMBER(SEARCH(A$206,'12.Partner Involvement'!$G76))=TRUE,(('12.Partner Involvement'!$D76*'12.Partner Involvement'!$E76)/COUNTA(_xlfn.TEXTSPLIT('12.Partner Involvement'!$G76,\";\"))),\"\")","v":""},{"$f":"IF(ISNUMBER(SEARCH(B$206,'12.Partner Involvement'!$G76))=TRUE,(('12.Partner Involvement'!$D76*'12.Partner Involvement'!$E76)/COUNTA(_xlfn.TEXTSPLIT('12.Partner Involvement'!$G76,\";\"))),\"\")","v":""},{"$f":"IF(ISNUMBER(SEARCH(C$206,'12.Partner Involvement'!$G76))=TRUE,(('12.Partner Involvement'!$D76*'12.Partner Involvement'!$E76)/COUNTA(_xlfn.TEXTSPLIT('12.Partner Involvement'!$G76,\";\"))),\"\")","v":""},null,{"$f":"IF(ISNUMBER(SEARCH(E$206,'12.Partner Involvement'!$H76))=TRUE,(('12.Partner Involvement'!$D76*'12.Partner Involvement'!$E76)/COUNTA(_xlfn.TEXTSPLIT('12.Partner Involvement'!$H76,\";\"))),\"\")","v":""},{"$f":"IF(ISNUMBER(SEARCH(F$206,'12.Partner Involvement'!$H76))=TRUE,(('12.Partner Involvement'!$D76*'12.Partner Involvement'!$E76)/COUNTA(_xlfn.TEXTSPLIT('12.Partner Involvement'!$H76,\";\"))),\"\")","v":""},{"$f":"IF(ISNUMBER(SEARCH(G$206,'12.Partner Involvement'!$H76))=TRUE,(('12.Partner Involvement'!$D76*'12.Partner Involvement'!$E76)/COUNTA(_xlfn.TEXTSPLIT('12.Partner Involvement'!$H76,\";\"))),\"\")","v":""},{"$f":"IF(ISNUMBER(SEARCH(H$206,'12.Partner Involvement'!$H76))=TRUE,(('12.Partner Involvement'!$D76*'12.Partner Involvement'!$E76)/COUNTA(_xlfn.TEXTSPLIT('12.Partner Involvement'!$H76,\";\"))),\"\")","v":""}]
[{"$f":"IF(ISNUMBER(SEARCH(A$206,'12.Partner Involvement'!$G77))=TRUE,(('12.Partner Involvement'!$D77*'12.Partner Involvement'!$E77)/COUNTA(_xlfn.TEXTSPLIT('12.Partner Involvement'!$G77,\";\"))),\"\")","v":""},{"$f":"IF(ISNUMBER(SEARCH(B$206,'12.Partner Involvement'!$G77))=TRUE,(('12.Partner Involvement'!$D77*'12.Partner Involvement'!$E77)/COUNTA(_xlfn.TEXTSPLIT('12.Partner Involvement'!$G77,\";\"))),\"\")","v":""},{"$f":"IF(ISNUMBER(SEARCH(C$206,'12.Partner Involvement'!$G77))=TRUE,(('12.Partner Involvement'!$D77*'12.Partner Involvement'!$E77)/COUNTA(_xlfn.TEXTSPLIT('12.Partner Involvement'!$G77,\";\"))),\"\")","v":""},null,{"$f":"IF(ISNUMBER(SEARCH(E$206,'12.Partner Involvement'!$H77))=TRUE,(('12.Partner Involvement'!$D77*'12.Partner Involvement'!$E77)/COUNTA(_xlfn.TEXTSPLIT('12.Partner Involvement'!$H77,\";\"))),\"\")","v":""},{"$f":"IF(ISNUMBER(SEARCH(F$206,'12.Partner Involvement'!$H77))=TRUE,(('12.Partner Involvement'!$D77*'12.Partner Involvement'!$E77)/COUNTA(_xlfn.TEXTSPLIT('12.Partner Involvement'!$H77,\";\"))),\"\")","v":""},{"$f":"IF(ISNUMBER(SEARCH(G$206,'12.Partner Involvement'!$H77))=TRUE,(('12.Partner Involvement'!$D77*'12.Partner Involvement'!$E77)/COUNTA(_xlfn.TEXTSPLIT('12.Partner Involvement'!$H77,\";\"))),\"\")","v":""},{"$f":"IF(ISNUMBER(SEARCH(H$206,'12.Partner Involvement'!$H77))=TRUE,(('12.Partner Involvement'!$D77*'12.Partner Involvement'!$E77)/COUNTA(_xlfn.TEXTSPLIT('12.Partner Involvement'!$H77,\";\"))),\"\")","v":""}]
[{"$f":"IF(ISNUMBER(SEARCH(A$206,'12.Partner Involvement'!$G78))=TRUE,(('12.Partner Involvement'!$D78*'12.Partner Involvement'!$E78)/COUNTA(_xlfn.TEXTSPLIT('12.Partner Involvement'!$G78,\";\"))),\"\")","v":""},{"$f":"IF(ISNUMBER(SEARCH(B$206,'12.Partner Involvement'!$G78))=TRUE,(('12.Partner Involvement'!$D78*'12.Partner Involvement'!$E78)/COUNTA(_xlfn.TEXTSPLIT('12.Partner Involvement'!$G78,\";\"))),\"\")","v":""},{"$f":"IF(ISNUMBER(SEARCH(C$206,'12.Partner Involvement'!$G78))=TRUE,(('12.Partner Involvement'!$D78*'12.Partner Involvement'!$E78)/COUNTA(_xlfn.TEXTSPLIT('12.Partner Involvement'!$G78,\";\"))),\"\")","v":""},null,{"$f":"IF(ISNUMBER(SEARCH(E$206,'12.Partner Involvement'!$H78))=TRUE,(('12.Partner Involvement'!$D78*'12.Partner Involvement'!$E78)/COUNTA(_xlfn.TEXTSPLIT('12.Partner Involvement'!$H78,\";\"))),\"\")","v":""},{"$f":"IF(ISNUMBER(SEARCH(F$206,'12.Partner Involvement'!$H78))=TRUE,(('12.Partner Involvement'!$D78*'12.Partner Involvement'!$E78)/COUNTA(_xlfn.TEXTSPLIT('12.Partner Involvement'!$H78,\";\"))),\"\")","v":""},{"$f":"IF(ISNUMBER(SEARCH(G$206,'12.Partner Involvement'!$H78))=TRUE,(('12.Partner Involvement'!$D78*'12.Partner Involvement'!$E78)/COUNTA(_xlfn.TEXTSPLIT('12.Partner Involvement'!$H78,\";\"))),\"\")","v":""},{"$f":"IF(ISNUMBER(SEARCH(H$206,'12.Partner Involvement'!$H78))=TRUE,(('12.Partner Involvement'!$D78*'12.Partner Involvement'!$E78)/COUNTA(_xlfn.TEXTSPLIT('12.Partner Involvement'!$H78,\";\"))),\"\")","v":""}]
[{"$f":"IF(ISNUMBER(SEARCH(A$206,'12.Partner Involvement'!$G79))=TRUE,(('12.Partner Involvement'!$D79*'12.Partner Involvement'!$E79)/COUNTA(_xlfn.TEXTSPLIT('12.Partner Involvement'!$G79,\";\"))),\"\")","v":""},{"$f":"IF(ISNUMBER(SEARCH(B$206,'12.Partner Involvement'!$G79))=TRUE,(('12.Partner Involvement'!$D79*'12.Partner Involvement'!$E79)/COUNTA(_xlfn.TEXTSPLIT('12.Partner Involvement'!$G79,\";\"))),\"\")","v":""},{"$f":"IF(ISNUMBER(SEARCH(C$206,'12.Partner Involvement'!$G79))=TRUE,(('12.Partner Involvement'!$D79*'12.Partner Involvement'!$E79)/COUNTA(_xlfn.TEXTSPLIT('12.Partner Involvement'!$G79,\";\"))),\"\")","v":""},null,{"$f":"IF(ISNUMBER(SEARCH(E$206,'12.Partner Involvement'!$H79))=TRUE,(('12.Partner Involvement'!$D79*'12.Partner Involvement'!$E79)/COUNTA(_xlfn.TEXTSPLIT('12.Partner Involvement'!$H79,\";\"))),\"\")","v":""},{"$f":"IF(ISNUMBER(SEARCH(F$206,'12.Partner Involvement'!$H79))=TRUE,(('12.Partner Involvement'!$D79*'12.Partner Involvement'!$E79)/COUNTA(_xlfn.TEXTSPLIT('12.Partner Involvement'!$H79,\";\"))),\"\")","v":""},{"$f":"IF(ISNUMBER(SEARCH(G$206,'12.Partner Involvement'!$H79))=TRUE,(('12.Partner Involvement'!$D79*'12.Partner Involvement'!$E79)/COUNTA(_xlfn.TEXTSPLIT('12.Partner Involvement'!$H79,\";\"))),\"\")","v":""},{"$f":"IF(ISNUMBER(SEARCH(H$206,'12.Partner Involvement'!$H79))=TRUE,(('12.Partner Involvement'!$D79*'12.Partner Involvement'!$E79)/COUNTA(_xlfn.TEXTSPLIT('12.Partner Involvement'!$H79,\";\"))),\"\")","v":""}]
[{"$f":"IF(ISNUMBER(SEARCH(A$206,'12.Partner Involvement'!$G80))=TRUE,(('12.Partner Involvement'!$D80*'12.Partner Involvement'!$E80)/COUNTA(_xlfn.TEXTSPLIT('12.Partner Involvement'!$G80,\";\"))),\"\")","v":""},{"$f":"IF(ISNUMBER(SEARCH(B$206,'12.Partner Involvement'!$G80))=TRUE,(('12.Partner Involvement'!$D80*'12.Partner Involvement'!$E80)/COUNTA(_xlfn.TEXTSPLIT('12.Partner Involvement'!$G80,\";\"))),\"\")","v":""},{"$f":"IF(ISNUMBER(SEARCH(C$206,'12.Partner Involvement'!$G80))=TRUE,(('12.Partner Involvement'!$D80*'12.Partner Involvement'!$E80)/COUNTA(_xlfn.TEXTSPLIT('12.Partner Involvement'!$G80,\";\"))),\"\")","v":""},null,{"$f":"IF(ISNUMBER(SEARCH(E$206,'12.Partner Involvement'!$H80))=TRUE,(('12.Partner Involvement'!$D80*'12.Partner Involvement'!$E80)/COUNTA(_xlfn.TEXTSPLIT('12.Partner Involvement'!$H80,\";\"))),\"\")","v":""},{"$f":"IF(ISNUMBER(SEARCH(F$206,'12.Partner Involvement'!$H80))=TRUE,(('12.Partner Involvement'!$D80*'12.Partner Involvement'!$E80)/COUNTA(_xlfn.TEXTSPLIT('12.Partner Involvement'!$H80,\";\"))),\"\")","v":""},{"$f":"IF(ISNUMBER(SEARCH(G$206,'12.Partner Involvement'!$H80))=TRUE,(('12.Partner Involvement'!$D80*'12.Partner Involvement'!$E80)/COUNTA(_xlfn.TEXTSPLIT('12.Partner Involvement'!$H80,\";\"))),\"\")","v":""},{"$f":"IF(ISNUMBER(SEARCH(H$206,'12.Partner Involvement'!$H80))=TRUE,(('12.Partner Involvement'!$D80*'12.Partner Involvement'!$E80)/COUNTA(_xlfn.TEXTSPLIT('12.Partner Involvement'!$H80,\";\"))),\"\")","v":""}]
[{"$f":"IF(ISNUMBER(SEARCH(A$206,'12.Partner Involvement'!$G81))=TRUE,(('12.Partner Involvement'!$D81*'12.Partner Involvement'!$E81)/COUNTA(_xlfn.TEXTSPLIT('12.Partner Involvement'!$G81,\";\"))),\"\")","v":""},{"$f":"IF(ISNUMBER(SEARCH(B$206,'12.Partner Involvement'!$G81))=TRUE,(('12.Partner Involvement'!$D81*'12.Partner Involvement'!$E81)/COUNTA(_xlfn.TEXTSPLIT('12.Partner Involvement'!$G81,\";\"))),\"\")","v":""},{"$f":"IF(ISNUMBER(SEARCH(C$206,'12.Partner Involvement'!$G81))=TRUE,(('12.Partner Involvement'!$D81*'12.Partner Involvement'!$E81)/COUNTA(_xlfn.TEXTSPLIT('12.Partner Involvement'!$G81,\";\"))),\"\")","v":""},null,{"$f":"IF(ISNUMBER(SEARCH(E$206,'12.Partner Involvement'!$H81))=TRUE,(('12.Partner Involvement'!$D81*'12.Partner Involvement'!$E81)/COUNTA(_xlfn.TEXTSPLIT('12.Partner Involvement'!$H81,\";\"))),\"\")","v":""},{"$f":"IF(ISNUMBER(SEARCH(F$206,'12.Partner Involvement'!$H81))=TRUE,(('12.Partner Involvement'!$D81*'12.Partner Involvement'!$E81)/COUNTA(_xlfn.TEXTSPLIT('12.Partner Involvement'!$H81,\";\"))),\"\")","v":""},{"$f":"IF(ISNUMBER(SEARCH(G$206,'12.Partner Involvement'!$H81))=TRUE,(('12.Partner Involvement'!$D81*'12.Partner Involvement'!$E81)/COUNTA(_xlfn.TEXTSPLIT('12.Partner Involvement'!$H81,\";\"))),\"\")","v":""},{"$f":"IF(ISNUMBER(SEARCH(H$206,'12.Partner Involvement'!$H81))=TRUE,(('12.Partner Involvement'!$D81*'12.Partner Involvement'!$E81)/COUNTA(_xlfn.TEXTSPLIT('12.Partner Involvement'!$H81,\";\"))),\"\")","v":""}]
[{"$f":"IF(ISNUMBER(SEARCH(A$206,'12.Partner Involvement'!$G82))=TRUE,(('12.Partner Involvement'!$D82*'12.Partner Involvement'!$E82)/COUNTA(_xlfn.TEXTSPLIT('12.Partner Involvement'!$G82,\";\"))),\"\")","v":""},{"$f":"IF(ISNUMBER(SEARCH(B$206,'12.Partner Involvement'!$G82))=TRUE,(('12.Partner Involvement'!$D82*'12.Partner Involvement'!$E82)/COUNTA(_xlfn.TEXTSPLIT('12.Partner Involvement'!$G82,\";\"))),\"\")","v":""},{"$f":"IF(ISNUMBER(SEARCH(C$206,'12.Partner Involvement'!$G82))=TRUE,(('12.Partner Involvement'!$D82*'12.Partner Involvement'!$E82)/COUNTA(_xlfn.TEXTSPLIT('12.Partner Involvement'!$G82,\";\"))),\"\")","v":""},null,{"$f":"IF(ISNUMBER(SEARCH(E$206,'12.Partner Involvement'!$H82))=TRUE,(('12.Partner Involvement'!$D82*'12.Partner Involvement'!$E82)/COUNTA(_xlfn.TEXTSPLIT('12.Partner Involvement'!$H82,\";\"))),\"\")","v":""},{"$f":"IF(ISNUMBER(SEARCH(F$206,'12.Partner Involvement'!$H82))=TRUE,(('12.Partner Involvement'!$D82*'12.Partner Involvement'!$E82)/COUNTA(_xlfn.TEXTSPLIT('12.Partner Involvement'!$H82,\";\"))),\"\")","v":""},{"$f":"IF(ISNUMBER(SEARCH(G$206,'12.Partner Involvement'!$H82))=TRUE,(('12.Partner Involvement'!$D82*'12.Partner Involvement'!$E82)/COUNTA(_xlfn.TEXTSPLIT('12.Partner Involvement'!$H82,\";\"))),\"\")","v":""},{"$f":"IF(ISNUMBER(SEARCH(H$206,'12.Partner Involvement'!$H82))=TRUE,(('12.Partner Involvement'!$D82*'12.Partner Involvement'!$E82)/COUNTA(_xlfn.TEXTSPLIT('12.Partner Involvement'!$H82,\";\"))),\"\")","v":""}]
[{"$f":"IF(ISNUMBER(SEARCH(A$206,'12.Partner Involvement'!$G83))=TRUE,(('12.Partner Involvement'!$D83*'12.Partner Involvement'!$E83)/COUNTA(_xlfn.TEXTSPLIT('12.Partner Involvement'!$G83,\";\"))),\"\")","v":""},{"$f":"IF(ISNUMBER(SEARCH(B$206,'12.Partner Involvement'!$G83))=TRUE,(('12.Partner Involvement'!$D83*'12.Partner Involvement'!$E83)/COUNTA(_xlfn.TEXTSPLIT('12.Partner Involvement'!$G83,\";\"))),\"\")","v":""},{"$f":"IF(ISNUMBER(SEARCH(C$206,'12.Partner Involvement'!$G83))=TRUE,(('12.Partner Involvement'!$D83*'12.Partner Involvement'!$E83)/COUNTA(_xlfn.TEXTSPLIT('12.Partner Involvement'!$G83,\";\"))),\"\")","v":""},null,{"$f":"IF(ISNUMBER(SEARCH(E$206,'12.Partner Involvement'!$H83))=TRUE,(('12.Partner Involvement'!$D83*'12.Partner Involvement'!$E83)/COUNTA(_xlfn.TEXTSPLIT('12.Partner Involvement'!$H83,\";\"))),\"\")","v":""},{"$f":"IF(ISNUMBER(SEARCH(F$206,'12.Partner Involvement'!$H83))=TRUE,(('12.Partner Involvement'!$D83*'12.Partner Involvement'!$E83)/COUNTA(_xlfn.TEXTSPLIT('12.Partner Involvement'!$H83,\";\"))),\"\")","v":""},{"$f":"IF(ISNUMBER(SEARCH(G$206,'12.Partner Involvement'!$H83))=TRUE,(('12.Partner Involvement'!$D83*'12.Partner Involvement'!$E83)/COUNTA(_xlfn.TEXTSPLIT('12.Partner Involvement'!$H83,\";\"))),\"\")","v":""},{"$f":"IF(ISNUMBER(SEARCH(H$206,'12.Partner Involvement'!$H83))=TRUE,(('12.Partner Involvement'!$D83*'12.Partner Involvement'!$E83)/COUNTA(_xlfn.TEXTSPLIT('12.Partner Involvement'!$H83,\";\"))),\"\")","v":""}]
[{"$f":"IF(ISNUMBER(SEARCH(A$206,'12.Partner Involvement'!$G84))=TRUE,(('12.Partner Involvement'!$D84*'12.Partner Involvement'!$E84)/COUNTA(_xlfn.TEXTSPLIT('12.Partner Involvement'!$G84,\";\"))),\"\")","v":""},{"$f":"IF(ISNUMBER(SEARCH(B$206,'12.Partner Involvement'!$G84))=TRUE,(('12.Partner Involvement'!$D84*'12.Partner Involvement'!$E84)/COUNTA(_xlfn.TEXTSPLIT('12.Partner Involvement'!$G84,\";\"))),\"\")","v":""},{"$f":"IF(ISNUMBER(SEARCH(C$206,'12.Partner Involvement'!$G84))=TRUE,(('12.Partner Involvement'!$D84*'12.Partner Involvement'!$E84)/COUNTA(_xlfn.TEXTSPLIT('12.Partner Involvement'!$G84,\";\"))),\"\")","v":""},null,{"$f":"IF(ISNUMBER(SEARCH(E$206,'12.Partner Involvement'!$H84))=TRUE,(('12.Partner Involvement'!$D84*'12.Partner Involvement'!$E84)/COUNTA(_xlfn.TEXTSPLIT('12.Partner Involvement'!$H84,\";\"))),\"\")","v":""},{"$f":"IF(ISNUMBER(SEARCH(F$206,'12.Partner Involvement'!$H84))=TRUE,(('12.Partner Involvement'!$D84*'12.Partner Involvement'!$E84)/COUNTA(_xlfn.TEXTSPLIT('12.Partner Involvement'!$H84,\";\"))),\"\")","v":""},{"$f":"IF(ISNUMBER(SEARCH(G$206,'12.Partner Involvement'!$H84))=TRUE,(('12.Partner Involvement'!$D84*'12.Partner Involvement'!$E84)/COUNTA(_xlfn.TEXTSPLIT('12.Partner Involvement'!$H84,\";\"))),\"\")","v":""},{"$f":"IF(ISNUMBER(SEARCH(H$206,'12.Partner Involvement'!$H84))=TRUE,(('12.Partner Involvement'!$D84*'12.Partner Involvement'!$E84)/COUNTA(_xlfn.TEXTSPLIT('12.Partner Involvement'!$H84,\";\"))),\"\")","v":""}]
[{"$f":"IF(ISNUMBER(SEARCH(A$206,'12.Partner Involvement'!$G85))=TRUE,(('12.Partner Involvement'!$D85*'12.Partner Involvement'!$E85)/COUNTA(_xlfn.TEXTSPLIT('12.Partner Involvement'!$G85,\";\"))),\"\")","v":""},{"$f":"IF(ISNUMBER(SEARCH(B$206,'12.Partner Involvement'!$G85))=TRUE,(('12.Partner Involvement'!$D85*'12.Partner Involvement'!$E85)/COUNTA(_xlfn.TEXTSPLIT('12.Partner Involvement'!$G85,\";\"))),\"\")","v":""},{"$f":"IF(ISNUMBER(SEARCH(C$206,'12.Partner Involvement'!$G85))=TRUE,(('12.Partner Involvement'!$D85*'12.Partner Involvement'!$E85)/COUNTA(_xlfn.TEXTSPLIT('12.Partner Involvement'!$G85,\";\"))),\"\")","v":""},null,{"$f":"IF(ISNUMBER(SEARCH(E$206,'12.Partner Involvement'!$H85))=TRUE,(('12.Partner Involvement'!$D85*'12.Partner Involvement'!$E85)/COUNTA(_xlfn.TEXTSPLIT('12.Partner Involvement'!$H85,\";\"))),\"\")","v":""},{"$f":"IF(ISNUMBER(SEARCH(F$206,'12.Partner Involvement'!$H85))=TRUE,(('12.Partner Involvement'!$D85*'12.Partner Involvement'!$E85)/COUNTA(_xlfn.TEXTSPLIT('12.Partner Involvement'!$H85,\";\"))),\"\")","v":""},{"$f":"IF(ISNUMBER(SEARCH(G$206,'12.Partner Involvement'!$H85))=TRUE,(('12.Partner Involvement'!$D85*'12.Partner Involvement'!$E85)/COUNTA(_xlfn.TEXTSPLIT('12.Partner Involvement'!$H85,\";\"))),\"\")","v":""},{"$f":"IF(ISNUMBER(SEARCH(H$206,'12.Partner Involvement'!$H85))=TRUE,(('12.Partner Involvement'!$D85*'12.Partner Involvement'!$E85)/COUNTA(_xlfn.TEXTSPLIT('12.Partner Involvement'!$H85,\";\"))),\"\")","v":""}]
[{"$f":"IF(ISNUMBER(SEARCH(A$206,'12.Partner Involvement'!$G86))=TRUE,(('12.Partner Involvement'!$D86*'12.Partner Involvement'!$E86)/COUNTA(_xlfn.TEXTSPLIT('12.Partner Involvement'!$G86,\";\"))),\"\")","v":""},{"$f":"IF(ISNUMBER(SEARCH(B$206,'12.Partner Involvement'!$G86))=TRUE,(('12.Partner Involvement'!$D86*'12.Partner Involvement'!$E86)/COUNTA(_xlfn.TEXTSPLIT('12.Partner Involvement'!$G86,\";\"))),\"\")","v":""},{"$f":"IF(ISNUMBER(SEARCH(C$206,'12.Partner Involvement'!$G86))=TRUE,(('12.Partner Involvement'!$D86*'12.Partner Involvement'!$E86)/COUNTA(_xlfn.TEXTSPLIT('12.Partner Involvement'!$G86,\";\"))),\"\")","v":""},null,{"$f":"IF(ISNUMBER(SEARCH(E$206,'12.Partner Involvement'!$H86))=TRUE,(('12.Partner Involvement'!$D86*'12.Partner Involvement'!$E86)/COUNTA(_xlfn.TEXTSPLIT('12.Partner Involvement'!$H86,\";\"))),\"\")","v":""},{"$f":"IF(ISNUMBER(SEARCH(F$206,'12.Partner Involvement'!$H86))=TRUE,(('12.Partner Involvement'!$D86*'12.Partner Involvement'!$E86)/COUNTA(_xlfn.TEXTSPLIT('12.Partner Involvement'!$H86,\";\"))),\"\")","v":""},{"$f":"IF(ISNUMBER(SEARCH(G$206,'12.Partner Involvement'!$H86))=TRUE,(('12.Partner Involvement'!$D86*'12.Partner Involvement'!$E86)/COUNTA(_xlfn.TEXTSPLIT('12.Partner Involvement'!$H86,\";\"))),\"\")","v":""},{"$f":"IF(ISNUMBER(SEARCH(H$206,'12.Partner Involvement'!$H86))=TRUE,(('12.Partner Involvement'!$D86*'12.Partner Involvement'!$E86)/COUNTA(_xlfn.TEXTSPLIT('12.Partner Involvement'!$H86,\";\"))),\"\")","v":""}]
[{"$f":"IF(ISNUMBER(SEARCH(A$206,'12.Partner Involvement'!$G87))=TRUE,(('12.Partner Involvement'!$D87*'12.Partner Involvement'!$E87)/COUNTA(_xlfn.TEXTSPLIT('12.Partner Involvement'!$G87,\";\"))),\"\")","v":""},{"$f":"IF(ISNUMBER(SEARCH(B$206,'12.Partner Involvement'!$G87))=TRUE,(('12.Partner Involvement'!$D87*'12.Partner Involvement'!$E87)/COUNTA(_xlfn.TEXTSPLIT('12.Partner Involvement'!$G87,\";\"))),\"\")","v":""},{"$f":"IF(ISNUMBER(SEARCH(C$206,'12.Partner Involvement'!$G87))=TRUE,(('12.Partner Involvement'!$D87*'12.Partner Involvement'!$E87)/COUNTA(_xlfn.TEXTSPLIT('12.Partner Involvement'!$G87,\";\"))),\"\")","v":""},null,{"$f":"IF(ISNUMBER(SEARCH(E$206,'12.Partner Involvement'!$H87))=TRUE,(('12.Partner Involvement'!$D87*'12.Partner Involvement'!$E87)/COUNTA(_xlfn.TEXTSPLIT('12.Partner Involvement'!$H87,\";\"))),\"\")","v":""},{"$f":"IF(ISNUMBER(SEARCH(F$206,'12.Partner Involvement'!$H87))=TRUE,(('12.Partner Involvement'!$D87*'12.Partner Involvement'!$E87)/COUNTA(_xlfn.TEXTSPLIT('12.Partner Involvement'!$H87,\";\"))),\"\")","v":""},{"$f":"IF(ISNUMBER(SEARCH(G$206,'12.Partner Involvement'!$H87))=TRUE,(('12.Partner Involvement'!$D87*'12.Partner Involvement'!$E87)/COUNTA(_xlfn.TEXTSPLIT('12.Partner Involvement'!$H87,\";\"))),\"\")","v":""},{"$f":"IF(ISNUMBER(SEARCH(H$206,'12.Partner Involvement'!$H87))=TRUE,(('12.Partner Involvement'!$D87*'12.Partner Involvement'!$E87)/COUNTA(_xlfn.TEXTSPLIT('12.Partner Involvement'!$H87,\";\"))),\"\")","v":""}]
[{"$f":"IF(ISNUMBER(SEARCH(A$206,'12.Partner Involvement'!$G88))=TRUE,(('12.Partner Involvement'!$D88*'12.Partner Involvement'!$E88)/COUNTA(_xlfn.TEXTSPLIT('12.Partner Involvement'!$G88,\";\"))),\"\")","v":""},{"$f":"IF(ISNUMBER(SEARCH(B$206,'12.Partner Involvement'!$G88))=TRUE,(('12.Partner Involvement'!$D88*'12.Partner Involvement'!$E88)/COUNTA(_xlfn.TEXTSPLIT('12.Partner Involvement'!$G88,\";\"))),\"\")","v":""},{"$f":"IF(ISNUMBER(SEARCH(C$206,'12.Partner Involvement'!$G88))=TRUE,(('12.Partner Involvement'!$D88*'12.Partner Involvement'!$E88)/COUNTA(_xlfn.TEXTSPLIT('12.Partner Involvement'!$G88,\";\"))),\"\")","v":""},null,{"$f":"IF(ISNUMBER(SEARCH(E$206,'12.Partner Involvement'!$H88))=TRUE,(('12.Partner Involvement'!$D88*'12.Partner Involvement'!$E88)/COUNTA(_xlfn.TEXTSPLIT('12.Partner Involvement'!$H88,\";\"))),\"\")","v":""},{"$f":"IF(ISNUMBER(SEARCH(F$206,'12.Partner Involvement'!$H88))=TRUE,(('12.Partner Involvement'!$D88*'12.Partner Involvement'!$E88)/COUNTA(_xlfn.TEXTSPLIT('12.Partner Involvement'!$H88,\";\"))),\"\")","v":""},{"$f":"IF(ISNUMBER(SEARCH(G$206,'12.Partner Involvement'!$H88))=TRUE,(('12.Partner Involvement'!$D88*'12.Partner Involvement'!$E88)/COUNTA(_xlfn.TEXTSPLIT('12.Partner Involvement'!$H88,\";\"))),\"\")","v":""},{"$f":"IF(ISNUMBER(SEARCH(H$206,'12.Partner Involvement'!$H88))=TRUE,(('12.Partner Involvement'!$D88*'12.Partner Involvement'!$E88)/COUNTA(_xlfn.TEXTSPLIT('12.Partner Involvement'!$H88,\";\"))),\"\")","v":""}]
[{"$f":"IF(ISNUMBER(SEARCH(A$206,'12.Partner Involvement'!$G89))=TRUE,(('12.Partner Involvement'!$D89*'12.Partner Involvement'!$E89)/COUNTA(_xlfn.TEXTSPLIT('12.Partner Involvement'!$G89,\";\"))),\"\")","v":""},{"$f":"IF(ISNUMBER(SEARCH(B$206,'12.Partner Involvement'!$G89))=TRUE,(('12.Partner Involvement'!$D89*'12.Partner Involvement'!$E89)/COUNTA(_xlfn.TEXTSPLIT('12.Partner Involvement'!$G89,\";\"))),\"\")","v":""},{"$f":"IF(ISNUMBER(SEARCH(C$206,'12.Partner Involvement'!$G89))=TRUE,(('12.Partner Involvement'!$D89*'12.Partner Involvement'!$E89)/COUNTA(_xlfn.TEXTSPLIT('12.Partner Involvement'!$G89,\";\"))),\"\")","v":""},null,{"$f":"IF(ISNUMBER(SEARCH(E$206,'12.Partner Involvement'!$H89))=TRUE,(('12.Partner Involvement'!$D89*'12.Partner Involvement'!$E89)/COUNTA(_xlfn.TEXTSPLIT('12.Partner Involvement'!$H89,\";\"))),\"\")","v":""},{"$f":"IF(ISNUMBER(SEARCH(F$206,'12.Partner Involvement'!$H89))=TRUE,(('12.Partner Involvement'!$D89*'12.Partner Involvement'!$E89)/COUNTA(_xlfn.TEXTSPLIT('12.Partner Involvement'!$H89,\";\"))),\"\")","v":""},{"$f":"IF(ISNUMBER(SEARCH(G$206,'12.Partner Involvement'!$H89))=TRUE,(('12.Partner Involvement'!$D89*'12.Partner Involvement'!$E89)/COUNTA(_xlfn.TEXTSPLIT('12.Partner Involvement'!$H89,\";\"))),\"\")","v":""},{"$f":"IF(ISNUMBER(SEARCH(H$206,'12.Partner Involvement'!$H89))=TRUE,(('12.Partner Involvement'!$D89*'12.Partner Involvement'!$E89)/COUNTA(_xlfn.TEXTSPLIT('12.Partner Involvement'!$H89,\";\"))),\"\")","v":""}]
[{"$f":"IF(ISNUMBER(SEARCH(A$206,'12.Partner Involvement'!$G90))=TRUE,(('12.Partner Involvement'!$D90*'12.Partner Involvement'!$E90)/COUNTA(_xlfn.TEXTSPLIT('12.Partner Involvement'!$G90,\";\"))),\"\")","v":""},{"$f":"IF(ISNUMBER(SEARCH(B$206,'12.Partner Involvement'!$G90))=TRUE,(('12.Partner Involvement'!$D90*'12.Partner Involvement'!$E90)/COUNTA(_xlfn.TEXTSPLIT('12.Partner Involvement'!$G90,\";\"))),\"\")","v":""},{"$f":"IF(ISNUMBER(SEARCH(C$206,'12.Partner Involvement'!$G90))=TRUE,(('12.Partner Involvement'!$D90*'12.Partner Involvement'!$E90)/COUNTA(_xlfn.TEXTSPLIT('12.Partner Involvement'!$G90,\";\"))),\"\")","v":""},null,{"$f":"IF(ISNUMBER(SEARCH(E$206,'12.Partner Involvement'!$H90))=TRUE,(('12.Partner Involvement'!$D90*'12.Partner Involvement'!$E90)/COUNTA(_xlfn.TEXTSPLIT('12.Partner Involvement'!$H90,\";\"))),\"\")","v":""},{"$f":"IF(ISNUMBER(SEARCH(F$206,'12.Partner Involvement'!$H90))=TRUE,(('12.Partner Involvement'!$D90*'12.Partner Involvement'!$E90)/COUNTA(_xlfn.TEXTSPLIT('12.Partner Involvement'!$H90,\";\"))),\"\")","v":""},{"$f":"IF(ISNUMBER(SEARCH(G$206,'12.Partner Involvement'!$H90))=TRUE,(('12.Partner Involvement'!$D90*'12.Partner Involvement'!$E90)/COUNTA(_xlfn.TEXTSPLIT('12.Partner Involvement'!$H90,\";\"))),\"\")","v":""},{"$f":"IF(ISNUMBER(SEARCH(H$206,'12.Partner Involvement'!$H90))=TRUE,(('12.Partner Involvement'!$D90*'12.Partner Involvement'!$E90)/COUNTA(_xlfn.TEXTSPLIT('12.Partner Involvement'!$H90,\";\"))),\"\")","v":""}]
[{"$f":"IF(ISNUMBER(SEARCH(A$206,'12.Partner Involvement'!$G91))=TRUE,(('12.Partner Involvement'!$D91*'12.Partner Involvement'!$E91)/COUNTA(_xlfn.TEXTSPLIT('12.Partner Involvement'!$G91,\";\"))),\"\")","v":""},{"$f":"IF(ISNUMBER(SEARCH(B$206,'12.Partner Involvement'!$G91))=TRUE,(('12.Partner Involvement'!$D91*'12.Partner Involvement'!$E91)/COUNTA(_xlfn.TEXTSPLIT('12.Partner Involvement'!$G91,\";\"))),\"\")","v":""},{"$f":"IF(ISNUMBER(SEARCH(C$206,'12.Partner Involvement'!$G91))=TRUE,(('12.Partner Involvement'!$D91*'12.Partner Involvement'!$E91)/COUNTA(_xlfn.TEXTSPLIT('12.Partner Involvement'!$G91,\";\"))),\"\")","v":""},null,{"$f":"IF(ISNUMBER(SEARCH(E$206,'12.Partner Involvement'!$H91))=TRUE,(('12.Partner Involvement'!$D91*'12.Partner Involvement'!$E91)/COUNTA(_xlfn.TEXTSPLIT('12.Partner Involvement'!$H91,\";\"))),\"\")","v":""},{"$f":"IF(ISNUMBER(SEARCH(F$206,'12.Partner Involvement'!$H91))=TRUE,(('12.Partner Involvement'!$D91*'12.Partner Involvement'!$E91)/COUNTA(_xlfn.TEXTSPLIT('12.Partner Involvement'!$H91,\";\"))),\"\")","v":""},{"$f":"IF(ISNUMBER(SEARCH(G$206,'12.Partner Involvement'!$H91))=TRUE,(('12.Partner Involvement'!$D91*'12.Partner Involvement'!$E91)/COUNTA(_xlfn.TEXTSPLIT('12.Partner Involvement'!$H91,\";\"))),\"\")","v":""},{"$f":"IF(ISNUMBER(SEARCH(H$206,'12.Partner Involvement'!$H91))=TRUE,(('12.Partner Involvement'!$D91*'12.Partner Involvement'!$E91)/COUNTA(_xlfn.TEXTSPLIT('12.Partner Involvement'!$H91,\";\"))),\"\")","v":""}]
[{"$f":"IF(ISNUMBER(SEARCH(A$206,'12.Partner Involvement'!$G92))=TRUE,(('12.Partner Involvement'!$D92*'12.Partner Involvement'!$E92)/COUNTA(_xlfn.TEXTSPLIT('12.Partner Involvement'!$G92,\";\"))),\"\")","v":""},{"$f":"IF(ISNUMBER(SEARCH(B$206,'12.Partner Involvement'!$G92))=TRUE,(('12.Partner Involvement'!$D92*'12.Partner Involvement'!$E92)/COUNTA(_xlfn.TEXTSPLIT('12.Partner Involvement'!$G92,\";\"))),\"\")","v":""},{"$f":"IF(ISNUMBER(SEARCH(C$206,'12.Partner Involvement'!$G92))=TRUE,(('12.Partner Involvement'!$D92*'12.Partner Involvement'!$E92)/COUNTA(_xlfn.TEXTSPLIT('12.Partner Involvement'!$G92,\";\"))),\"\")","v":""},null,{"$f":"IF(ISNUMBER(SEARCH(E$206,'12.Partner Involvement'!$H92))=TRUE,(('12.Partner Involvement'!$D92*'12.Partner Involvement'!$E92)/COUNTA(_xlfn.TEXTSPLIT('12.Partner Involvement'!$H92,\";\"))),\"\")","v":""},{"$f":"IF(ISNUMBER(SEARCH(F$206,'12.Partner Involvement'!$H92))=TRUE,(('12.Partner Involvement'!$D92*'12.Partner Involvement'!$E92)/COUNTA(_xlfn.TEXTSPLIT('12.Partner Involvement'!$H92,\";\"))),\"\")","v":""},{"$f":"IF(ISNUMBER(SEARCH(G$206,'12.Partner Involvement'!$H92))=TRUE,(('12.Partner Involvement'!$D92*'12.Partner Involvement'!$E92)/COUNTA(_xlfn.TEXTSPLIT('12.Partner Involvement'!$H92,\";\"))),\"\")","v":""},{"$f":"IF(ISNUMBER(SEARCH(H$206,'12.Partner Involvement'!$H92))=TRUE,(('12.Partner Involvement'!$D92*'12.Partner Involvement'!$E92)/COUNTA(_xlfn.TEXTSPLIT('12.Partner Involvement'!$H92,\";\"))),\"\")","v":""}]
[{"$f":"IF(ISNUMBER(SEARCH(A$206,'12.Partner Involvement'!$G93))=TRUE,(('12.Partner Involvement'!$D93*'12.Partner Involvement'!$E93)/COUNTA(_xlfn.TEXTSPLIT('12.Partner Involvement'!$G93,\";\"))),\"\")","v":""},{"$f":"IF(ISNUMBER(SEARCH(B$206,'12.Partner Involvement'!$G93))=TRUE,(('12.Partner Involvement'!$D93*'12.Partner Involvement'!$E93)/COUNTA(_xlfn.TEXTSPLIT('12.Partner Involvement'!$G93,\";\"))),\"\")","v":""},{"$f":"IF(ISNUMBER(SEARCH(C$206,'12.Partner Involvement'!$G93))=TRUE,(('12.Partner Involvement'!$D93*'12.Partner Involvement'!$E93)/COUNTA(_xlfn.TEXTSPLIT('12.Partner Involvement'!$G93,\";\"))),\"\")","v":""},null,{"$f":"IF(ISNUMBER(SEARCH(E$206,'12.Partner Involvement'!$H93))=TRUE,(('12.Partner Involvement'!$D93*'12.Partner Involvement'!$E93)/COUNTA(_xlfn.TEXTSPLIT('12.Partner Involvement'!$H93,\";\"))),\"\")","v":""},{"$f":"IF(ISNUMBER(SEARCH(F$206,'12.Partner Involvement'!$H93))=TRUE,(('12.Partner Involvement'!$D93*'12.Partner Involvement'!$E93)/COUNTA(_xlfn.TEXTSPLIT('12.Partner Involvement'!$H93,\";\"))),\"\")","v":""},{"$f":"IF(ISNUMBER(SEARCH(G$206,'12.Partner Involvement'!$H93))=TRUE,(('12.Partner Involvement'!$D93*'12.Partner Involvement'!$E93)/COUNTA(_xlfn.TEXTSPLIT('12.Partner Involvement'!$H93,\";\"))),\"\")","v":""},{"$f":"IF(ISNUMBER(SEARCH(H$206,'12.Partner Involvement'!$H93))=TRUE,(('12.Partner Involvement'!$D93*'12.Partner Involvement'!$E93)/COUNTA(_xlfn.TEXTSPLIT('12.Partner Involvement'!$H93,\";\"))),\"\")","v":""}]
[{"$f":"IF(ISNUMBER(SEARCH(A$206,'12.Partner Involvement'!$G94))=TRUE,(('12.Partner Involvement'!$D94*'12.Partner Involvement'!$E94)/COUNTA(_xlfn.TEXTSPLIT('12.Partner Involvement'!$G94,\";\"))),\"\")","v":""},{"$f":"IF(ISNUMBER(SEARCH(B$206,'12.Partner Involvement'!$G94))=TRUE,(('12.Partner Involvement'!$D94*'12.Partner Involvement'!$E94)/COUNTA(_xlfn.TEXTSPLIT('12.Partner Involvement'!$G94,\";\"))),\"\")","v":""},{"$f":"IF(ISNUMBER(SEARCH(C$206,'12.Partner Involvement'!$G94))=TRUE,(('12.Partner Involvement'!$D94*'12.Partner Involvement'!$E94)/COUNTA(_xlfn.TEXTSPLIT('12.Partner Involvement'!$G94,\";\"))),\"\")","v":""},null,{"$f":"IF(ISNUMBER(SEARCH(E$206,'12.Partner Involvement'!$H94))=TRUE,(('12.Partner Involvement'!$D94*'12.Partner Involvement'!$E94)/COUNTA(_xlfn.TEXTSPLIT('12.Partner Involvement'!$H94,\";\"))),\"\")","v":""},{"$f":"IF(ISNUMBER(SEARCH(F$206,'12.Partner Involvement'!$H94))=TRUE,(('12.Partner Involvement'!$D94*'12.Partner Involvement'!$E94)/COUNTA(_xlfn.TEXTSPLIT('12.Partner Involvement'!$H94,\";\"))),\"\")","v":""},{"$f":"IF(ISNUMBER(SEARCH(G$206,'12.Partner Involvement'!$H94))=TRUE,(('12.Partner Involvement'!$D94*'12.Partner Involvement'!$E94)/COUNTA(_xlfn.TEXTSPLIT('12.Partner Involvement'!$H94,\";\"))),\"\")","v":""},{"$f":"IF(ISNUMBER(SEARCH(H$206,'12.Partner Involvement'!$H94))=TRUE,(('12.Partner Involvement'!$D94*'12.Partner Involvement'!$E94)/COUNTA(_xlfn.TEXTSPLIT('12.Partner Involvement'!$H94,\";\"))),\"\")","v":""}]
[{"$f":"IF(ISNUMBER(SEARCH(A$206,'12.Partner Involvement'!$G95))=TRUE,(('12.Partner Involvement'!$D95*'12.Partner Involvement'!$E95)/COUNTA(_xlfn.TEXTSPLIT('12.Partner Involvement'!$G95,\";\"))),\"\")","v":""},{"$f":"IF(ISNUMBER(SEARCH(B$206,'12.Partner Involvement'!$G95))=TRUE,(('12.Partner Involvement'!$D95*'12.Partner Involvement'!$E95)/COUNTA(_xlfn.TEXTSPLIT('12.Partner Involvement'!$G95,\";\"))),\"\")","v":""},{"$f":"IF(ISNUMBER(SEARCH(C$206,'12.Partner Involvement'!$G95))=TRUE,(('12.Partner Involvement'!$D95*'12.Partner Involvement'!$E95)/COUNTA(_xlfn.TEXTSPLIT('12.Partner Involvement'!$G95,\";\"))),\"\")","v":""},null,{"$f":"IF(ISNUMBER(SEARCH(E$206,'12.Partner Involvement'!$H95))=TRUE,(('12.Partner Involvement'!$D95*'12.Partner Involvement'!$E95)/COUNTA(_xlfn.TEXTSPLIT('12.Partner Involvement'!$H95,\";\"))),\"\")","v":""},{"$f":"IF(ISNUMBER(SEARCH(F$206,'12.Partner Involvement'!$H95))=TRUE,(('12.Partner Involvement'!$D95*'12.Partner Involvement'!$E95)/COUNTA(_xlfn.TEXTSPLIT('12.Partner Involvement'!$H95,\";\"))),\"\")","v":""},{"$f":"IF(ISNUMBER(SEARCH(G$206,'12.Partner Involvement'!$H95))=TRUE,(('12.Partner Involvement'!$D95*'12.Partner Involvement'!$E95)/COUNTA(_xlfn.TEXTSPLIT('12.Partner Involvement'!$H95,\";\"))),\"\")","v":""},{"$f":"IF(ISNUMBER(SEARCH(H$206,'12.Partner Involvement'!$H95))=TRUE,(('12.Partner Involvement'!$D95*'12.Partner Involvement'!$E95)/COUNTA(_xlfn.TEXTSPLIT('12.Partner Involvement'!$H95,\";\"))),\"\")","v":""}]
[{"$f":"IF(ISNUMBER(SEARCH(A$206,'12.Partner Involvement'!$G96))=TRUE,(('12.Partner Involvement'!$D96*'12.Partner Involvement'!$E96)/COUNTA(_xlfn.TEXTSPLIT('12.Partner Involvement'!$G96,\";\"))),\"\")","v":""},{"$f":"IF(ISNUMBER(SEARCH(B$206,'12.Partner Involvement'!$G96))=TRUE,(('12.Partner Involvement'!$D96*'12.Partner Involvement'!$E96)/COUNTA(_xlfn.TEXTSPLIT('12.Partner Involvement'!$G96,\";\"))),\"\")","v":""},{"$f":"IF(ISNUMBER(SEARCH(C$206,'12.Partner Involvement'!$G96))=TRUE,(('12.Partner Involvement'!$D96*'12.Partner Involvement'!$E96)/COUNTA(_xlfn.TEXTSPLIT('12.Partner Involvement'!$G96,\";\"))),\"\")","v":""},null,{"$f":"IF(ISNUMBER(SEARCH(E$206,'12.Partner Involvement'!$H96))=TRUE,(('12.Partner Involvement'!$D96*'12.Partner Involvement'!$E96)/COUNTA(_xlfn.TEXTSPLIT('12.Partner Involvement'!$H96,\";\"))),\"\")","v":""},{"$f":"IF(ISNUMBER(SEARCH(F$206,'12.Partner Involvement'!$H96))=TRUE,(('12.Partner Involvement'!$D96*'12.Partner Involvement'!$E96)/COUNTA(_xlfn.TEXTSPLIT('12.Partner Involvement'!$H96,\";\"))),\"\")","v":""},{"$f":"IF(ISNUMBER(SEARCH(G$206,'12.Partner Involvement'!$H96))=TRUE,(('12.Partner Involvement'!$D96*'12.Partner Involvement'!$E96)/COUNTA(_xlfn.TEXTSPLIT('12.Partner Involvement'!$H96,\";\"))),\"\")","v":""},{"$f":"IF(ISNUMBER(SEARCH(H$206,'12.Partner Involvement'!$H96))=TRUE,(('12.Partner Involvement'!$D96*'12.Partner Involvement'!$E96)/COUNTA(_xlfn.TEXTSPLIT('12.Partner Involvement'!$H96,\";\"))),\"\")","v":""}]
[{"$f":"IF(ISNUMBER(SEARCH(A$206,'12.Partner Involvement'!$G97))=TRUE,(('12.Partner Involvement'!$D97*'12.Partner Involvement'!$E97)/COUNTA(_xlfn.TEXTSPLIT('12.Partner Involvement'!$G97,\";\"))),\"\")","v":""},{"$f":"IF(ISNUMBER(SEARCH(B$206,'12.Partner Involvement'!$G97))=TRUE,(('12.Partner Involvement'!$D97*'12.Partner Involvement'!$E97)/COUNTA(_xlfn.TEXTSPLIT('12.Partner Involvement'!$G97,\";\"))),\"\")","v":""},{"$f":"IF(ISNUMBER(SEARCH(C$206,'12.Partner Involvement'!$G97))=TRUE,(('12.Partner Involvement'!$D97*'12.Partner Involvement'!$E97)/COUNTA(_xlfn.TEXTSPLIT('12.Partner Involvement'!$G97,\";\"))),\"\")","v":""},null,{"$f":"IF(ISNUMBER(SEARCH(E$206,'12.Partner Involvement'!$H97))=TRUE,(('12.Partner Involvement'!$D97*'12.Partner Involvement'!$E97)/COUNTA(_xlfn.TEXTSPLIT('12.Partner Involvement'!$H97,\";\"))),\"\")","v":""},{"$f":"IF(ISNUMBER(SEARCH(F$206,'12.Partner Involvement'!$H97))=TRUE,(('12.Partner Involvement'!$D97*'12.Partner Involvement'!$E97)/COUNTA(_xlfn.TEXTSPLIT('12.Partner Involvement'!$H97,\";\"))),\"\")","v":""},{"$f":"IF(ISNUMBER(SEARCH(G$206,'12.Partner Involvement'!$H97))=TRUE,(('12.Partner Involvement'!$D97*'12.Partner Involvement'!$E97)/COUNTA(_xlfn.TEXTSPLIT('12.Partner Involvement'!$H97,\";\"))),\"\")","v":""},{"$f":"IF(ISNUMBER(SEARCH(H$206,'12.Partner Involvement'!$H97))=TRUE,(('12.Partner Involvement'!$D97*'12.Partner Involvement'!$E97)/COUNTA(_xlfn.TEXTSPLIT('12.Partner Involvement'!$H97,\";\"))),\"\")","v":""}]
[{"$f":"IF(ISNUMBER(SEARCH(A$206,'12.Partner Involvement'!$G98))=TRUE,(('12.Partner Involvement'!$D98*'12.Partner Involvement'!$E98)/COUNTA(_xlfn.TEXTSPLIT('12.Partner Involvement'!$G98,\";\"))),\"\")","v":""},{"$f":"IF(ISNUMBER(SEARCH(B$206,'12.Partner Involvement'!$G98))=TRUE,(('12.Partner Involvement'!$D98*'12.Partner Involvement'!$E98)/COUNTA(_xlfn.TEXTSPLIT('12.Partner Involvement'!$G98,\";\"))),\"\")","v":""},{"$f":"IF(ISNUMBER(SEARCH(C$206,'12.Partner Involvement'!$G98))=TRUE,(('12.Partner Involvement'!$D98*'12.Partner Involvement'!$E98)/COUNTA(_xlfn.TEXTSPLIT('12.Partner Involvement'!$G98,\";\"))),\"\")","v":""},null,{"$f":"IF(ISNUMBER(SEARCH(E$206,'12.Partner Involvement'!$H98))=TRUE,(('12.Partner Involvement'!$D98*'12.Partner Involvement'!$E98)/COUNTA(_xlfn.TEXTSPLIT('12.Partner Involvement'!$H98,\";\"))),\"\")","v":""},{"$f":"IF(ISNUMBER(SEARCH(F$206,'12.Partner Involvement'!$H98))=TRUE,(('12.Partner Involvement'!$D98*'12.Partner Involvement'!$E98)/COUNTA(_xlfn.TEXTSPLIT('12.Partner Involvement'!$H98,\";\"))),\"\")","v":""},{"$f":"IF(ISNUMBER(SEARCH(G$206,'12.Partner Involvement'!$H98))=TRUE,(('12.Partner Involvement'!$D98*'12.Partner Involvement'!$E98)/COUNTA(_xlfn.TEXTSPLIT('12.Partner Involvement'!$H98,\";\"))),\"\")","v":""},{"$f":"IF(ISNUMBER(SEARCH(H$206,'12.Partner Involvement'!$H98))=TRUE,(('12.Partner Involvement'!$D98*'12.Partner Involvement'!$E98)/COUNTA(_xlfn.TEXTSPLIT('12.Partner Involvement'!$H98,\";\"))),\"\")","v":""}]
[{"$f":"IF(ISNUMBER(SEARCH(A$206,'12.Partner Involvement'!$G99))=TRUE,(('12.Partner Involvement'!$D99*'12.Partner Involvement'!$E99)/COUNTA(_xlfn.TEXTSPLIT('12.Partner Involvement'!$G99,\";\"))),\"\")","v":""},{"$f":"IF(ISNUMBER(SEARCH(B$206,'12.Partner Involvement'!$G99))=TRUE,(('12.Partner Involvement'!$D99*'12.Partner Involvement'!$E99)/COUNTA(_xlfn.TEXTSPLIT('12.Partner Involvement'!$G99,\";\"))),\"\")","v":""},{"$f":"IF(ISNUMBER(SEARCH(C$206,'12.Partner Involvement'!$G99))=TRUE,(('12.Partner Involvement'!$D99*'12.Partner Involvement'!$E99)/COUNTA(_xlfn.TEXTSPLIT('12.Partner Involvement'!$G99,\";\"))),\"\")","v":""},null,{"$f":"IF(ISNUMBER(SEARCH(E$206,'12.Partner Involvement'!$H99))=TRUE,(('12.Partner Involvement'!$D99*'12.Partner Involvement'!$E99)/COUNTA(_xlfn.TEXTSPLIT('12.Partner Involvement'!$H99,\";\"))),\"\")","v":""},{"$f":"IF(ISNUMBER(SEARCH(F$206,'12.Partner Involvement'!$H99))=TRUE,(('12.Partner Involvement'!$D99*'12.Partner Involvement'!$E99)/COUNTA(_xlfn.TEXTSPLIT('12.Partner Involvement'!$H99,\";\"))),\"\")","v":""},{"$f":"IF(ISNUMBER(SEARCH(G$206,'12.Partner Involvement'!$H99))=TRUE,(('12.Partner Involvement'!$D99*'12.Partner Involvement'!$E99)/COUNTA(_xlfn.TEXTSPLIT('12.Partner Involvement'!$H99,\";\"))),\"\")","v":""},{"$f":"IF(ISNUMBER(SEARCH(H$206,'12.Partner Involvement'!$H99))=TRUE,(('12.Partner Involvement'!$D99*'12.Partner Involvement'!$E99)/COUNTA(_xlfn.TEXTSPLIT('12.Partner Involvement'!$H99,\";\"))),\"\")","v":""}]
[{"$f":"IF(ISNUMBER(SEARCH(A$206,'12.Partner Involvement'!$G100))=TRUE,(('12.Partner Involvement'!$D100*'12.Partner Involvement'!$E100)/COUNTA(_xlfn.TEXTSPLIT('12.Partner Involvement'!$G100,\";\"))),\"\")","v":""},{"$f":"IF(ISNUMBER(SEARCH(B$206,'12.Partner Involvement'!$G100))=TRUE,(('12.Partner Involvement'!$D100*'12.Partner Involvement'!$E100)/COUNTA(_xlfn.TEXTSPLIT('12.Partner Involvement'!$G100,\";\"))),\"\")","v":""},{"$f":"IF(ISNUMBER(SEARCH(C$206,'12.Partner Involvement'!$G100))=TRUE,(('12.Partner Involvement'!$D100*'12.Partner Involvement'!$E100)/COUNTA(_xlfn.TEXTSPLIT('12.Partner Involvement'!$G100,\";\"))),\"\")","v":""},null,{"$f":"IF(ISNUMBER(SEARCH(E$206,'12.Partner Involvement'!$H100))=TRUE,(('12.Partner Involvement'!$D100*'12.Partner Involvement'!$E100)/COUNTA(_xlfn.TEXTSPLIT('12.Partner Involvement'!$H100,\";\"))),\"\")","v":""},{"$f":"IF(ISNUMBER(SEARCH(F$206,'12.Partner Involvement'!$H100))=TRUE,(('12.Partner Involvement'!$D100*'12.Partner Involvement'!$E100)/COUNTA(_xlfn.TEXTSPLIT('12.Partner Involvement'!$H100,\";\"))),\"\")","v":""},{"$f":"IF(ISNUMBER(SEARCH(G$206,'12.Partner Involvement'!$H100))=TRUE,(('12.Partner Involvement'!$D100*'12.Partner Involvement'!$E100)/COUNTA(_xlfn.TEXTSPLIT('12.Partner Involvement'!$H100,\";\"))),\"\")","v":""},{"$f":"IF(ISNUMBER(SEARCH(H$206,'12.Partner Involvement'!$H100))=TRUE,(('12.Partner Involvement'!$D100*'12.Partner Involvement'!$E100)/COUNTA(_xlfn.TEXTSPLIT('12.Partner Involvement'!$H100,\";\"))),\"\")","v":""}]
[{"$f":"IF(ISNUMBER(SEARCH(A$206,'12.Partner Involvement'!$G101))=TRUE,(('12.Partner Involvement'!$D101*'12.Partner Involvement'!$E101)/COUNTA(_xlfn.TEXTSPLIT('12.Partner Involvement'!$G101,\";\"))),\"\")","v":""},{"$f":"IF(ISNUMBER(SEARCH(B$206,'12.Partner Involvement'!$G101))=TRUE,(('12.Partner Involvement'!$D101*'12.Partner Involvement'!$E101)/COUNTA(_xlfn.TEXTSPLIT('12.Partner Involvement'!$G101,\";\"))),\"\")","v":""},{"$f":"IF(ISNUMBER(SEARCH(C$206,'12.Partner Involvement'!$G101))=TRUE,(('12.Partner Involvement'!$D101*'12.Partner Involvement'!$E101)/COUNTA(_xlfn.TEXTSPLIT('12.Partner Involvement'!$G101,\";\"))),\"\")","v":""},null,{"$f":"IF(ISNUMBER(SEARCH(E$206,'12.Partner Involvement'!$H101))=TRUE,(('12.Partner Involvement'!$D101*'12.Partner Involvement'!$E101)/COUNTA(_xlfn.TEXTSPLIT('12.Partner Involvement'!$H101,\";\"))),\"\")","v":""},{"$f":"IF(ISNUMBER(SEARCH(F$206,'12.Partner Involvement'!$H101))=TRUE,(('12.Partner Involvement'!$D101*'12.Partner Involvement'!$E101)/COUNTA(_xlfn.TEXTSPLIT('12.Partner Involvement'!$H101,\";\"))),\"\")","v":""},{"$f":"IF(ISNUMBER(SEARCH(G$206,'12.Partner Involvement'!$H101))=TRUE,(('12.Partner Involvement'!$D101*'12.Partner Involvement'!$E101)/COUNTA(_xlfn.TEXTSPLIT('12.Partner Involvement'!$H101,\";\"))),\"\")","v":""},{"$f":"IF(ISNUMBER(SEARCH(H$206,'12.Partner Involvement'!$H101))=TRUE,(('12.Partner Involvement'!$D101*'12.Partner Involvement'!$E101)/COUNTA(_xlfn.TEXTSPLIT('12.Partner Involvement'!$H101,\";\"))),\"\")","v":""}]
[{"$f":"IF(ISNUMBER(SEARCH(A$206,'12.Partner Involvement'!$G102))=TRUE,(('12.Partner Involvement'!$D102*'12.Partner Involvement'!$E102)/COUNTA(_xlfn.TEXTSPLIT('12.Partner Involvement'!$G102,\";\"))),\"\")","v":""},{"$f":"IF(ISNUMBER(SEARCH(B$206,'12.Partner Involvement'!$G102))=TRUE,(('12.Partner Involvement'!$D102*'12.Partner Involvement'!$E102)/COUNTA(_xlfn.TEXTSPLIT('12.Partner Involvement'!$G102,\";\"))),\"\")","v":""},{"$f":"IF(ISNUMBER(SEARCH(C$206,'12.Partner Involvement'!$G102))=TRUE,(('12.Partner Involvement'!$D102*'12.Partner Involvement'!$E102)/COUNTA(_xlfn.TEXTSPLIT('12.Partner Involvement'!$G102,\";\"))),\"\")","v":""},null,{"$f":"IF(ISNUMBER(SEARCH(E$206,'12.Partner Involvement'!$H102))=TRUE,(('12.Partner Involvement'!$D102*'12.Partner Involvement'!$E102)/COUNTA(_xlfn.TEXTSPLIT('12.Partner Involvement'!$H102,\";\"))),\"\")","v":""},{"$f":"IF(ISNUMBER(SEARCH(F$206,'12.Partner Involvement'!$H102))=TRUE,(('12.Partner Involvement'!$D102*'12.Partner Involvement'!$E102)/COUNTA(_xlfn.TEXTSPLIT('12.Partner Involvement'!$H102,\";\"))),\"\")","v":""},{"$f":"IF(ISNUMBER(SEARCH(G$206,'12.Partner Involvement'!$H102))=TRUE,(('12.Partner Involvement'!$D102*'12.Partner Involvement'!$E102)/COUNTA(_xlfn.TEXTSPLIT('12.Partner Involvement'!$H102,\";\"))),\"\")","v":""},{"$f":"IF(ISNUMBER(SEARCH(H$206,'12.Partner Involvement'!$H102))=TRUE,(('12.Partner Involvement'!$D102*'12.Partner Involvement'!$E102)/COUNTA(_xlfn.TEXTSPLIT('12.Partner Involvement'!$H102,\";\"))),\"\")","v":""}]
[{"$f":"IF(ISNUMBER(SEARCH(A$206,'12.Partner Involvement'!$G103))=TRUE,(('12.Partner Involvement'!$D103*'12.Partner Involvement'!$E103)/COUNTA(_xlfn.TEXTSPLIT('12.Partner Involvement'!$G103,\";\"))),\"\")","v":""},{"$f":"IF(ISNUMBER(SEARCH(B$206,'12.Partner Involvement'!$G103))=TRUE,(('12.Partner Involvement'!$D103*'12.Partner Involvement'!$E103)/COUNTA(_xlfn.TEXTSPLIT('12.Partner Involvement'!$G103,\";\"))),\"\")","v":""},{"$f":"IF(ISNUMBER(SEARCH(C$206,'12.Partner Involvement'!$G103))=TRUE,(('12.Partner Involvement'!$D103*'12.Partner Involvement'!$E103)/COUNTA(_xlfn.TEXTSPLIT('12.Partner Involvement'!$G103,\";\"))),\"\")","v":""},null,{"$f":"IF(ISNUMBER(SEARCH(E$206,'12.Partner Involvement'!$H103))=TRUE,(('12.Partner Involvement'!$D103*'12.Partner Involvement'!$E103)/COUNTA(_xlfn.TEXTSPLIT('12.Partner Involvement'!$H103,\";\"))),\"\")","v":""},{"$f":"IF(ISNUMBER(SEARCH(F$206,'12.Partner Involvement'!$H103))=TRUE,(('12.Partner Involvement'!$D103*'12.Partner Involvement'!$E103)/COUNTA(_xlfn.TEXTSPLIT('12.Partner Involvement'!$H103,\";\"))),\"\")","v":""},{"$f":"IF(ISNUMBER(SEARCH(G$206,'12.Partner Involvement'!$H103))=TRUE,(('12.Partner Involvement'!$D103*'12.Partner Involvement'!$E103)/COUNTA(_xlfn.TEXTSPLIT('12.Partner Involvement'!$H103,\";\"))),\"\")","v":""},{"$f":"IF(ISNUMBER(SEARCH(H$206,'12.Partner Involvement'!$H103))=TRUE,(('12.Partner Involvement'!$D103*'12.Partner Involvement'!$E103)/COUNTA(_xlfn.TEXTSPLIT('12.Partner Involvement'!$H103,\";\"))),\"\")","v":""}]
[{"$f":"IF(ISNUMBER(SEARCH(A$206,'12.Partner Involvement'!$G104))=TRUE,(('12.Partner Involvement'!$D104*'12.Partner Involvement'!$E104)/COUNTA(_xlfn.TEXTSPLIT('12.Partner Involvement'!$G104,\";\"))),\"\")","v":""},{"$f":"IF(ISNUMBER(SEARCH(B$206,'12.Partner Involvement'!$G104))=TRUE,(('12.Partner Involvement'!$D104*'12.Partner Involvement'!$E104)/COUNTA(_xlfn.TEXTSPLIT('12.Partner Involvement'!$G104,\";\"))),\"\")","v":""},{"$f":"IF(ISNUMBER(SEARCH(C$206,'12.Partner Involvement'!$G104))=TRUE,(('12.Partner Involvement'!$D104*'12.Partner Involvement'!$E104)/COUNTA(_xlfn.TEXTSPLIT('12.Partner Involvement'!$G104,\";\"))),\"\")","v":""},null,{"$f":"IF(ISNUMBER(SEARCH(E$206,'12.Partner Involvement'!$H104))=TRUE,(('12.Partner Involvement'!$D104*'12.Partner Involvement'!$E104)/COUNTA(_xlfn.TEXTSPLIT('12.Partner Involvement'!$H104,\";\"))),\"\")","v":""},{"$f":"IF(ISNUMBER(SEARCH(F$206,'12.Partner Involvement'!$H104))=TRUE,(('12.Partner Involvement'!$D104*'12.Partner Involvement'!$E104)/COUNTA(_xlfn.TEXTSPLIT('12.Partner Involvement'!$H104,\";\"))),\"\")","v":""},{"$f":"IF(ISNUMBER(SEARCH(G$206,'12.Partner Involvement'!$H104))=TRUE,(('12.Partner Involvement'!$D104*'12.Partner Involvement'!$E104)/COUNTA(_xlfn.TEXTSPLIT('12.Partner Involvement'!$H104,\";\"))),\"\")","v":""},{"$f":"IF(ISNUMBER(SEARCH(H$206,'12.Partner Involvement'!$H104))=TRUE,(('12.Partner Involvement'!$D104*'12.Partner Involvement'!$E104)/COUNTA(_xlfn.TEXTSPLIT('12.Partner Involvement'!$H104,\";\"))),\"\")","v":""}]
[{"$f":"IF(ISNUMBER(SEARCH(A$206,'12.Partner Involvement'!$G105))=TRUE,(('12.Partner Involvement'!$D105*'12.Partner Involvement'!$E105)/COUNTA(_xlfn.TEXTSPLIT('12.Partner Involvement'!$G105,\";\"))),\"\")","v":""},{"$f":"IF(ISNUMBER(SEARCH(B$206,'12.Partner Involvement'!$G105))=TRUE,(('12.Partner Involvement'!$D105*'12.Partner Involvement'!$E105)/COUNTA(_xlfn.TEXTSPLIT('12.Partner Involvement'!$G105,\";\"))),\"\")","v":""},{"$f":"IF(ISNUMBER(SEARCH(C$206,'12.Partner Involvement'!$G105))=TRUE,(('12.Partner Involvement'!$D105*'12.Partner Involvement'!$E105)/COUNTA(_xlfn.TEXTSPLIT('12.Partner Involvement'!$G105,\";\"))),\"\")","v":""},null,{"$f":"IF(ISNUMBER(SEARCH(E$206,'12.Partner Involvement'!$H105))=TRUE,(('12.Partner Involvement'!$D105*'12.Partner Involvement'!$E105)/COUNTA(_xlfn.TEXTSPLIT('12.Partner Involvement'!$H105,\";\"))),\"\")","v":""},{"$f":"IF(ISNUMBER(SEARCH(F$206,'12.Partner Involvement'!$H105))=TRUE,(('12.Partner Involvement'!$D105*'12.Partner Involvement'!$E105)/COUNTA(_xlfn.TEXTSPLIT('12.Partner Involvement'!$H105,\";\"))),\"\")","v":""},{"$f":"IF(ISNUMBER(SEARCH(G$206,'12.Partner Involvement'!$H105))=TRUE,(('12.Partner Involvement'!$D105*'12.Partner Involvement'!$E105)/COUNTA(_xlfn.TEXTSPLIT('12.Partner Involvement'!$H105,\";\"))),\"\")","v":""},{"$f":"IF(ISNUMBER(SEARCH(H$206,'12.Partner Involvement'!$H105))=TRUE,(('12.Partner Involvement'!$D105*'12.Partner Involvement'!$E105)/COUNTA(_xlfn.TEXTSPLIT('12.Partner Involvement'!$H105,\";\"))),\"\")","v":""}]
[{"$f":"IF(ISNUMBER(SEARCH(A$206,'12.Partner Involvement'!$G106))=TRUE,(('12.Partner Involvement'!$D106*'12.Partner Involvement'!$E106)/COUNTA(_xlfn.TEXTSPLIT('12.Partner Involvement'!$G106,\";\"))),\"\")","v":""},{"$f":"IF(ISNUMBER(SEARCH(B$206,'12.Partner Involvement'!$G106))=TRUE,(('12.Partner Involvement'!$D106*'12.Partner Involvement'!$E106)/COUNTA(_xlfn.TEXTSPLIT('12.Partner Involvement'!$G106,\";\"))),\"\")","v":""},{"$f":"IF(ISNUMBER(SEARCH(C$206,'12.Partner Involvement'!$G106))=TRUE,(('12.Partner Involvement'!$D106*'12.Partner Involvement'!$E106)/COUNTA(_xlfn.TEXTSPLIT('12.Partner Involvement'!$G106,\";\"))),\"\")","v":""},null,{"$f":"IF(ISNUMBER(SEARCH(E$206,'12.Partner Involvement'!$H106))=TRUE,(('12.Partner Involvement'!$D106*'12.Partner Involvement'!$E106)/COUNTA(_xlfn.TEXTSPLIT('12.Partner Involvement'!$H106,\";\"))),\"\")","v":""},{"$f":"IF(ISNUMBER(SEARCH(F$206,'12.Partner Involvement'!$H106))=TRUE,(('12.Partner Involvement'!$D106*'12.Partner Involvement'!$E106)/COUNTA(_xlfn.TEXTSPLIT('12.Partner Involvement'!$H106,\";\"))),\"\")","v":""},{"$f":"IF(ISNUMBER(SEARCH(G$206,'12.Partner Involvement'!$H106))=TRUE,(('12.Partner Involvement'!$D106*'12.Partner Involvement'!$E106)/COUNTA(_xlfn.TEXTSPLIT('12.Partner Involvement'!$H106,\";\"))),\"\")","v":""},{"$f":"IF(ISNUMBER(SEARCH(H$206,'12.Partner Involvement'!$H106))=TRUE,(('12.Partner Involvement'!$D106*'12.Partner Involvement'!$E106)/COUNTA(_xlfn.TEXTSPLIT('12.Partner Involvement'!$H106,\";\"))),\"\")","v":""}]
[{"$f":"IF(ISNUMBER(SEARCH(A$206,'12.Partner Involvement'!$G107))=TRUE,(('12.Partner Involvement'!$D107*'12.Partner Involvement'!$E107)/COUNTA(_xlfn.TEXTSPLIT('12.Partner Involvement'!$G107,\";\"))),\"\")","v":""},{"$f":"IF(ISNUMBER(SEARCH(B$206,'12.Partner Involvement'!$G107))=TRUE,(('12.Partner Involvement'!$D107*'12.Partner Involvement'!$E107)/COUNTA(_xlfn.TEXTSPLIT('12.Partner Involvement'!$G107,\";\"))),\"\")","v":""},{"$f":"IF(ISNUMBER(SEARCH(C$206,'12.Partner Involvement'!$G107))=TRUE,(('12.Partner Involvement'!$D107*'12.Partner Involvement'!$E107)/COUNTA(_xlfn.TEXTSPLIT('12.Partner Involvement'!$G107,\";\"))),\"\")","v":""},null,{"$f":"IF(ISNUMBER(SEARCH(E$206,'12.Partner Involvement'!$H107))=TRUE,(('12.Partner Involvement'!$D107*'12.Partner Involvement'!$E107)/COUNTA(_xlfn.TEXTSPLIT('12.Partner Involvement'!$H107,\";\"))),\"\")","v":""},{"$f":"IF(ISNUMBER(SEARCH(F$206,'12.Partner Involvement'!$H107))=TRUE,(('12.Partner Involvement'!$D107*'12.Partner Involvement'!$E107)/COUNTA(_xlfn.TEXTSPLIT('12.Partner Involvement'!$H107,\";\"))),\"\")","v":""},{"$f":"IF(ISNUMBER(SEARCH(G$206,'12.Partner Involvement'!$H107))=TRUE,(('12.Partner Involvement'!$D107*'12.Partner Involvement'!$E107)/COUNTA(_xlfn.TEXTSPLIT('12.Partner Involvement'!$H107,\";\"))),\"\")","v":""},{"$f":"IF(ISNUMBER(SEARCH(H$206,'12.Partner Involvement'!$H107))=TRUE,(('12.Partner Involvement'!$D107*'12.Partner Involvement'!$E107)/COUNTA(_xlfn.TEXTSPLIT('12.Partner Involvement'!$H107,\";\"))),\"\")","v":""}]
[{"$f":"IF(ISNUMBER(SEARCH(A$206,'12.Partner Involvement'!$G108))=TRUE,(('12.Partner Involvement'!$D108*'12.Partner Involvement'!$E108)/COUNTA(_xlfn.TEXTSPLIT('12.Partner Involvement'!$G108,\";\"))),\"\")","v":""},{"$f":"IF(ISNUMBER(SEARCH(B$206,'12.Partner Involvement'!$G108))=TRUE,(('12.Partner Involvement'!$D108*'12.Partner Involvement'!$E108)/COUNTA(_xlfn.TEXTSPLIT('12.Partner Involvement'!$G108,\";\"))),\"\")","v":""},{"$f":"IF(ISNUMBER(SEARCH(C$206,'12.Partner Involvement'!$G108))=TRUE,(('12.Partner Involvement'!$D108*'12.Partner Involvement'!$E108)/COUNTA(_xlfn.TEXTSPLIT('12.Partner Involvement'!$G108,\";\"))),\"\")","v":""},null,{"$f":"IF(ISNUMBER(SEARCH(E$206,'12.Partner Involvement'!$H108))=TRUE,(('12.Partner Involvement'!$D108*'12.Partner Involvement'!$E108)/COUNTA(_xlfn.TEXTSPLIT('12.Partner Involvement'!$H108,\";\"))),\"\")","v":""},{"$f":"IF(ISNUMBER(SEARCH(F$206,'12.Partner Involvement'!$H108))=TRUE,(('12.Partner Involvement'!$D108*'12.Partner Involvement'!$E108)/COUNTA(_xlfn.TEXTSPLIT('12.Partner Involvement'!$H108,\";\"))),\"\")","v":""},{"$f":"IF(ISNUMBER(SEARCH(G$206,'12.Partner Involvement'!$H108))=TRUE,(('12.Partner Involvement'!$D108*'12.Partner Involvement'!$E108)/COUNTA(_xlfn.TEXTSPLIT('12.Partner Involvement'!$H108,\";\"))),\"\")","v":""},{"$f":"IF(ISNUMBER(SEARCH(H$206,'12.Partner Involvement'!$H108))=TRUE,(('12.Partner Involvement'!$D108*'12.Partner Involvement'!$E108)/COUNTA(_xlfn.TEXTSPLIT('12.Partner Involvement'!$H108,\";\"))),\"\")","v":""}]
[{"$f":"IF(ISNUMBER(SEARCH(A$206,'12.Partner Involvement'!$G109))=TRUE,(('12.Partner Involvement'!$D109*'12.Partner Involvement'!$E109)/COUNTA(_xlfn.TEXTSPLIT('12.Partner Involvement'!$G109,\";\"))),\"\")","v":""},{"$f":"IF(ISNUMBER(SEARCH(B$206,'12.Partner Involvement'!$G109))=TRUE,(('12.Partner Involvement'!$D109*'12.Partner Involvement'!$E109)/COUNTA(_xlfn.TEXTSPLIT('12.Partner Involvement'!$G109,\";\"))),\"\")","v":""},{"$f":"IF(ISNUMBER(SEARCH(C$206,'12.Partner Involvement'!$G109))=TRUE,(('12.Partner Involvement'!$D109*'12.Partner Involvement'!$E109)/COUNTA(_xlfn.TEXTSPLIT('12.Partner Involvement'!$G109,\";\"))),\"\")","v":""},null,{"$f":"IF(ISNUMBER(SEARCH(E$206,'12.Partner Involvement'!$H109))=TRUE,(('12.Partner Involvement'!$D109*'12.Partner Involvement'!$E109)/COUNTA(_xlfn.TEXTSPLIT('12.Partner Involvement'!$H109,\";\"))),\"\")","v":""},{"$f":"IF(ISNUMBER(SEARCH(F$206,'12.Partner Involvement'!$H109))=TRUE,(('12.Partner Involvement'!$D109*'12.Partner Involvement'!$E109)/COUNTA(_xlfn.TEXTSPLIT('12.Partner Involvement'!$H109,\";\"))),\"\")","v":""},{"$f":"IF(ISNUMBER(SEARCH(G$206,'12.Partner Involvement'!$H109))=TRUE,(('12.Partner Involvement'!$D109*'12.Partner Involvement'!$E109)/COUNTA(_xlfn.TEXTSPLIT('12.Partner Involvement'!$H109,\";\"))),\"\")","v":""},{"$f":"IF(ISNUMBER(SEARCH(H$206,'12.Partner Involvement'!$H109))=TRUE,(('12.Partner Involvement'!$D109*'12.Partner Involvement'!$E109)/COUNTA(_xlfn.TEXTSPLIT('12.Partner Involvement'!$H109,\";\"))),\"\")","v":""}]
[{"$f":"IF(ISNUMBER(SEARCH(A$206,'12.Partner Involvement'!$G110))=TRUE,(('12.Partner Involvement'!$D110*'12.Partner Involvement'!$E110)/COUNTA(_xlfn.TEXTSPLIT('12.Partner Involvement'!$G110,\";\"))),\"\")","v":""},{"$f":"IF(ISNUMBER(SEARCH(B$206,'12.Partner Involvement'!$G110))=TRUE,(('12.Partner Involvement'!$D110*'12.Partner Involvement'!$E110)/COUNTA(_xlfn.TEXTSPLIT('12.Partner Involvement'!$G110,\";\"))),\"\")","v":""},{"$f":"IF(ISNUMBER(SEARCH(C$206,'12.Partner Involvement'!$G110))=TRUE,(('12.Partner Involvement'!$D110*'12.Partner Involvement'!$E110)/COUNTA(_xlfn.TEXTSPLIT('12.Partner Involvement'!$G110,\";\"))),\"\")","v":""},null,{"$f":"IF(ISNUMBER(SEARCH(E$206,'12.Partner Involvement'!$H110))=TRUE,(('12.Partner Involvement'!$D110*'12.Partner Involvement'!$E110)/COUNTA(_xlfn.TEXTSPLIT('12.Partner Involvement'!$H110,\";\"))),\"\")","v":""},{"$f":"IF(ISNUMBER(SEARCH(F$206,'12.Partner Involvement'!$H110))=TRUE,(('12.Partner Involvement'!$D110*'12.Partner Involvement'!$E110)/COUNTA(_xlfn.TEXTSPLIT('12.Partner Involvement'!$H110,\";\"))),\"\")","v":""},{"$f":"IF(ISNUMBER(SEARCH(G$206,'12.Partner Involvement'!$H110))=TRUE,(('12.Partner Involvement'!$D110*'12.Partner Involvement'!$E110)/COUNTA(_xlfn.TEXTSPLIT('12.Partner Involvement'!$H110,\";\"))),\"\")","v":""},{"$f":"IF(ISNUMBER(SEARCH(H$206,'12.Partner Involvement'!$H110))=TRUE,(('12.Partner Involvement'!$D110*'12.Partner Involvement'!$E110)/COUNTA(_xlfn.TEXTSPLIT('12.Partner Involvement'!$H110,\";\"))),\"\")","v":""}]
[{"$f":"IF(ISNUMBER(SEARCH(A$206,'12.Partner Involvement'!$G111))=TRUE,(('12.Partner Involvement'!$D111*'12.Partner Involvement'!$E111)/COUNTA(_xlfn.TEXTSPLIT('12.Partner Involvement'!$G111,\";\"))),\"\")","v":""},{"$f":"IF(ISNUMBER(SEARCH(B$206,'12.Partner Involvement'!$G111))=TRUE,(('12.Partner Involvement'!$D111*'12.Partner Involvement'!$E111)/COUNTA(_xlfn.TEXTSPLIT('12.Partner Involvement'!$G111,\";\"))),\"\")","v":""},{"$f":"IF(ISNUMBER(SEARCH(C$206,'12.Partner Involvement'!$G111))=TRUE,(('12.Partner Involvement'!$D111*'12.Partner Involvement'!$E111)/COUNTA(_xlfn.TEXTSPLIT('12.Partner Involvement'!$G111,\";\"))),\"\")","v":""},null,{"$f":"IF(ISNUMBER(SEARCH(E$206,'12.Partner Involvement'!$H111))=TRUE,(('12.Partner Involvement'!$D111*'12.Partner Involvement'!$E111)/COUNTA(_xlfn.TEXTSPLIT('12.Partner Involvement'!$H111,\";\"))),\"\")","v":""},{"$f":"IF(ISNUMBER(SEARCH(F$206,'12.Partner Involvement'!$H111))=TRUE,(('12.Partner Involvement'!$D111*'12.Partner Involvement'!$E111)/COUNTA(_xlfn.TEXTSPLIT('12.Partner Involvement'!$H111,\";\"))),\"\")","v":""},{"$f":"IF(ISNUMBER(SEARCH(G$206,'12.Partner Involvement'!$H111))=TRUE,(('12.Partner Involvement'!$D111*'12.Partner Involvement'!$E111)/COUNTA(_xlfn.TEXTSPLIT('12.Partner Involvement'!$H111,\";\"))),\"\")","v":""},{"$f":"IF(ISNUMBER(SEARCH(H$206,'12.Partner Involvement'!$H111))=TRUE,(('12.Partner Involvement'!$D111*'12.Partner Involvement'!$E111)/COUNTA(_xlfn.TEXTSPLIT('12.Partner Involvement'!$H111,\";\"))),\"\")","v":""}]
[{"$f":"IF(ISNUMBER(SEARCH(A$206,'12.Partner Involvement'!$G112))=TRUE,(('12.Partner Involvement'!$D112*'12.Partner Involvement'!$E112)/COUNTA(_xlfn.TEXTSPLIT('12.Partner Involvement'!$G112,\";\"))),\"\")","v":""},{"$f":"IF(ISNUMBER(SEARCH(B$206,'12.Partner Involvement'!$G112))=TRUE,(('12.Partner Involvement'!$D112*'12.Partner Involvement'!$E112)/COUNTA(_xlfn.TEXTSPLIT('12.Partner Involvement'!$G112,\";\"))),\"\")","v":""},{"$f":"IF(ISNUMBER(SEARCH(C$206,'12.Partner Involvement'!$G112))=TRUE,(('12.Partner Involvement'!$D112*'12.Partner Involvement'!$E112)/COUNTA(_xlfn.TEXTSPLIT('12.Partner Involvement'!$G112,\";\"))),\"\")","v":""},null,{"$f":"IF(ISNUMBER(SEARCH(E$206,'12.Partner Involvement'!$H112))=TRUE,(('12.Partner Involvement'!$D112*'12.Partner Involvement'!$E112)/COUNTA(_xlfn.TEXTSPLIT('12.Partner Involvement'!$H112,\";\"))),\"\")","v":""},{"$f":"IF(ISNUMBER(SEARCH(F$206,'12.Partner Involvement'!$H112))=TRUE,(('12.Partner Involvement'!$D112*'12.Partner Involvement'!$E112)/COUNTA(_xlfn.TEXTSPLIT('12.Partner Involvement'!$H112,\";\"))),\"\")","v":""},{"$f":"IF(ISNUMBER(SEARCH(G$206,'12.Partner Involvement'!$H112))=TRUE,(('12.Partner Involvement'!$D112*'12.Partner Involvement'!$E112)/COUNTA(_xlfn.TEXTSPLIT('12.Partner Involvement'!$H112,\";\"))),\"\")","v":""},{"$f":"IF(ISNUMBER(SEARCH(H$206,'12.Partner Involvement'!$H112))=TRUE,(('12.Partner Involvement'!$D112*'12.Partner Involvement'!$E112)/COUNTA(_xlfn.TEXTSPLIT('12.Partner Involvement'!$H112,\";\"))),\"\")","v":""}]
[{"$f":"IF(ISNUMBER(SEARCH(A$206,'12.Partner Involvement'!$G113))=TRUE,(('12.Partner Involvement'!$D113*'12.Partner Involvement'!$E113)/COUNTA(_xlfn.TEXTSPLIT('12.Partner Involvement'!$G113,\";\"))),\"\")","v":""},{"$f":"IF(ISNUMBER(SEARCH(B$206,'12.Partner Involvement'!$G113))=TRUE,(('12.Partner Involvement'!$D113*'12.Partner Involvement'!$E113)/COUNTA(_xlfn.TEXTSPLIT('12.Partner Involvement'!$G113,\";\"))),\"\")","v":""},{"$f":"IF(ISNUMBER(SEARCH(C$206,'12.Partner Involvement'!$G113))=TRUE,(('12.Partner Involvement'!$D113*'12.Partner Involvement'!$E113)/COUNTA(_xlfn.TEXTSPLIT('12.Partner Involvement'!$G113,\";\"))),\"\")","v":""},null,{"$f":"IF(ISNUMBER(SEARCH(E$206,'12.Partner Involvement'!$H113))=TRUE,(('12.Partner Involvement'!$D113*'12.Partner Involvement'!$E113)/COUNTA(_xlfn.TEXTSPLIT('12.Partner Involvement'!$H113,\";\"))),\"\")","v":""},{"$f":"IF(ISNUMBER(SEARCH(F$206,'12.Partner Involvement'!$H113))=TRUE,(('12.Partner Involvement'!$D113*'12.Partner Involvement'!$E113)/COUNTA(_xlfn.TEXTSPLIT('12.Partner Involvement'!$H113,\";\"))),\"\")","v":""},{"$f":"IF(ISNUMBER(SEARCH(G$206,'12.Partner Involvement'!$H113))=TRUE,(('12.Partner Involvement'!$D113*'12.Partner Involvement'!$E113)/COUNTA(_xlfn.TEXTSPLIT('12.Partner Involvement'!$H113,\";\"))),\"\")","v":""},{"$f":"IF(ISNUMBER(SEARCH(H$206,'12.Partner Involvement'!$H113))=TRUE,(('12.Partner Involvement'!$D113*'12.Partner Involvement'!$E113)/COUNTA(_xlfn.TEXTSPLIT('12.Partner Involvement'!$H113,\";\"))),\"\")","v":""}]
[{"$f":"IF(ISNUMBER(SEARCH(A$206,'12.Partner Involvement'!$G114))=TRUE,(('12.Partner Involvement'!$D114*'12.Partner Involvement'!$E114)/COUNTA(_xlfn.TEXTSPLIT('12.Partner Involvement'!$G114,\";\"))),\"\")","v":""},{"$f":"IF(ISNUMBER(SEARCH(B$206,'12.Partner Involvement'!$G114))=TRUE,(('12.Partner Involvement'!$D114*'12.Partner Involvement'!$E114)/COUNTA(_xlfn.TEXTSPLIT('12.Partner Involvement'!$G114,\";\"))),\"\")","v":""},{"$f":"IF(ISNUMBER(SEARCH(C$206,'12.Partner Involvement'!$G114))=TRUE,(('12.Partner Involvement'!$D114*'12.Partner Involvement'!$E114)/COUNTA(_xlfn.TEXTSPLIT('12.Partner Involvement'!$G114,\";\"))),\"\")","v":""},null,{"$f":"IF(ISNUMBER(SEARCH(E$206,'12.Partner Involvement'!$H114))=TRUE,(('12.Partner Involvement'!$D114*'12.Partner Involvement'!$E114)/COUNTA(_xlfn.TEXTSPLIT('12.Partner Involvement'!$H114,\";\"))),\"\")","v":""},{"$f":"IF(ISNUMBER(SEARCH(F$206,'12.Partner Involvement'!$H114))=TRUE,(('12.Partner Involvement'!$D114*'12.Partner Involvement'!$E114)/COUNTA(_xlfn.TEXTSPLIT('12.Partner Involvement'!$H114,\";\"))),\"\")","v":""},{"$f":"IF(ISNUMBER(SEARCH(G$206,'12.Partner Involvement'!$H114))=TRUE,(('12.Partner Involvement'!$D114*'12.Partner Involvement'!$E114)/COUNTA(_xlfn.TEXTSPLIT('12.Partner Involvement'!$H114,\";\"))),\"\")","v":""},{"$f":"IF(ISNUMBER(SEARCH(H$206,'12.Partner Involvement'!$H114))=TRUE,(('12.Partner Involvement'!$D114*'12.Partner Involvement'!$E114)/COUNTA(_xlfn.TEXTSPLIT('12.Partner Involvement'!$H114,\";\"))),\"\")","v":""}]
[{"$f":"IF(ISNUMBER(SEARCH(A$206,'12.Partner Involvement'!$G115))=TRUE,(('12.Partner Involvement'!$D115*'12.Partner Involvement'!$E115)/COUNTA(_xlfn.TEXTSPLIT('12.Partner Involvement'!$G115,\";\"))),\"\")","v":""},{"$f":"IF(ISNUMBER(SEARCH(B$206,'12.Partner Involvement'!$G115))=TRUE,(('12.Partner Involvement'!$D115*'12.Partner Involvement'!$E115)/COUNTA(_xlfn.TEXTSPLIT('12.Partner Involvement'!$G115,\";\"))),\"\")","v":""},{"$f":"IF(ISNUMBER(SEARCH(C$206,'12.Partner Involvement'!$G115))=TRUE,(('12.Partner Involvement'!$D115*'12.Partner Involvement'!$E115)/COUNTA(_xlfn.TEXTSPLIT('12.Partner Involvement'!$G115,\";\"))),\"\")","v":""},null,{"$f":"IF(ISNUMBER(SEARCH(E$206,'12.Partner Involvement'!$H115))=TRUE,(('12.Partner Involvement'!$D115*'12.Partner Involvement'!$E115)/COUNTA(_xlfn.TEXTSPLIT('12.Partner Involvement'!$H115,\";\"))),\"\")","v":""},{"$f":"IF(ISNUMBER(SEARCH(F$206,'12.Partner Involvement'!$H115))=TRUE,(('12.Partner Involvement'!$D115*'12.Partner Involvement'!$E115)/COUNTA(_xlfn.TEXTSPLIT('12.Partner Involvement'!$H115,\";\"))),\"\")","v":""},{"$f":"IF(ISNUMBER(SEARCH(G$206,'12.Partner Involvement'!$H115))=TRUE,(('12.Partner Involvement'!$D115*'12.Partner Involvement'!$E115)/COUNTA(_xlfn.TEXTSPLIT('12.Partner Involvement'!$H115,\";\"))),\"\")","v":""},{"$f":"IF(ISNUMBER(SEARCH(H$206,'12.Partner Involvement'!$H115))=TRUE,(('12.Partner Involvement'!$D115*'12.Partner Involvement'!$E115)/COUNTA(_xlfn.TEXTSPLIT('12.Partner Involvement'!$H115,\";\"))),\"\")","v":""}]
[{"$f":"IF(ISNUMBER(SEARCH(A$206,'12.Partner Involvement'!$G116))=TRUE,(('12.Partner Involvement'!$D116*'12.Partner Involvement'!$E116)/COUNTA(_xlfn.TEXTSPLIT('12.Partner Involvement'!$G116,\";\"))),\"\")","v":""},{"$f":"IF(ISNUMBER(SEARCH(B$206,'12.Partner Involvement'!$G116))=TRUE,(('12.Partner Involvement'!$D116*'12.Partner Involvement'!$E116)/COUNTA(_xlfn.TEXTSPLIT('12.Partner Involvement'!$G116,\";\"))),\"\")","v":""},{"$f":"IF(ISNUMBER(SEARCH(C$206,'12.Partner Involvement'!$G116))=TRUE,(('12.Partner Involvement'!$D116*'12.Partner Involvement'!$E116)/COUNTA(_xlfn.TEXTSPLIT('12.Partner Involvement'!$G116,\";\"))),\"\")","v":""},null,{"$f":"IF(ISNUMBER(SEARCH(E$206,'12.Partner Involvement'!$H116))=TRUE,(('12.Partner Involvement'!$D116*'12.Partner Involvement'!$E116)/COUNTA(_xlfn.TEXTSPLIT('12.Partner Involvement'!$H116,\";\"))),\"\")","v":""},{"$f":"IF(ISNUMBER(SEARCH(F$206,'12.Partner Involvement'!$H116))=TRUE,(('12.Partner Involvement'!$D116*'12.Partner Involvement'!$E116)/COUNTA(_xlfn.TEXTSPLIT('12.Partner Involvement'!$H116,\";\"))),\"\")","v":""},{"$f":"IF(ISNUMBER(SEARCH(G$206,'12.Partner Involvement'!$H116))=TRUE,(('12.Partner Involvement'!$D116*'12.Partner Involvement'!$E116)/COUNTA(_xlfn.TEXTSPLIT('12.Partner Involvement'!$H116,\";\"))),\"\")","v":""},{"$f":"IF(ISNUMBER(SEARCH(H$206,'12.Partner Involvement'!$H116))=TRUE,(('12.Partner Involvement'!$D116*'12.Partner Involvement'!$E116)/COUNTA(_xlfn.TEXTSPLIT('12.Partner Involvement'!$H116,\";\"))),\"\")","v":""}]
[{"$f":"IF(ISNUMBER(SEARCH(A$206,'12.Partner Involvement'!$G117))=TRUE,(('12.Partner Involvement'!$D117*'12.Partner Involvement'!$E117)/COUNTA(_xlfn.TEXTSPLIT('12.Partner Involvement'!$G117,\";\"))),\"\")","v":""},{"$f":"IF(ISNUMBER(SEARCH(B$206,'12.Partner Involvement'!$G117))=TRUE,(('12.Partner Involvement'!$D117*'12.Partner Involvement'!$E117)/COUNTA(_xlfn.TEXTSPLIT('12.Partner Involvement'!$G117,\";\"))),\"\")","v":""},{"$f":"IF(ISNUMBER(SEARCH(C$206,'12.Partner Involvement'!$G117))=TRUE,(('12.Partner Involvement'!$D117*'12.Partner Involvement'!$E117)/COUNTA(_xlfn.TEXTSPLIT('12.Partner Involvement'!$G117,\";\"))),\"\")","v":""},null,{"$f":"IF(ISNUMBER(SEARCH(E$206,'12.Partner Involvement'!$H117))=TRUE,(('12.Partner Involvement'!$D117*'12.Partner Involvement'!$E117)/COUNTA(_xlfn.TEXTSPLIT('12.Partner Involvement'!$H117,\";\"))),\"\")","v":""},{"$f":"IF(ISNUMBER(SEARCH(F$206,'12.Partner Involvement'!$H117))=TRUE,(('12.Partner Involvement'!$D117*'12.Partner Involvement'!$E117)/COUNTA(_xlfn.TEXTSPLIT('12.Partner Involvement'!$H117,\";\"))),\"\")","v":""},{"$f":"IF(ISNUMBER(SEARCH(G$206,'12.Partner Involvement'!$H117))=TRUE,(('12.Partner Involvement'!$D117*'12.Partner Involvement'!$E117)/COUNTA(_xlfn.TEXTSPLIT('12.Partner Involvement'!$H117,\";\"))),\"\")","v":""},{"$f":"IF(ISNUMBER(SEARCH(H$206,'12.Partner Involvement'!$H117))=TRUE,(('12.Partner Involvement'!$D117*'12.Partner Involvement'!$E117)/COUNTA(_xlfn.TEXTSPLIT('12.Partner Involvement'!$H117,\";\"))),\"\")","v":""}]
[{"$f":"IF(ISNUMBER(SEARCH(A$206,'12.Partner Involvement'!$G118))=TRUE,(('12.Partner Involvement'!$D118*'12.Partner Involvement'!$E118)/COUNTA(_xlfn.TEXTSPLIT('12.Partner Involvement'!$G118,\";\"))),\"\")","v":""},{"$f":"IF(ISNUMBER(SEARCH(B$206,'12.Partner Involvement'!$G118))=TRUE,(('12.Partner Involvement'!$D118*'12.Partner Involvement'!$E118)/COUNTA(_xlfn.TEXTSPLIT('12.Partner Involvement'!$G118,\";\"))),\"\")","v":""},{"$f":"IF(ISNUMBER(SEARCH(C$206,'12.Partner Involvement'!$G118))=TRUE,(('12.Partner Involvement'!$D118*'12.Partner Involvement'!$E118)/COUNTA(_xlfn.TEXTSPLIT('12.Partner Involvement'!$G118,\";\"))),\"\")","v":""},null,{"$f":"IF(ISNUMBER(SEARCH(E$206,'12.Partner Involvement'!$H118))=TRUE,(('12.Partner Involvement'!$D118*'12.Partner Involvement'!$E118)/COUNTA(_xlfn.TEXTSPLIT('12.Partner Involvement'!$H118,\";\"))),\"\")","v":""},{"$f":"IF(ISNUMBER(SEARCH(F$206,'12.Partner Involvement'!$H118))=TRUE,(('12.Partner Involvement'!$D118*'12.Partner Involvement'!$E118)/COUNTA(_xlfn.TEXTSPLIT('12.Partner Involvement'!$H118,\";\"))),\"\")","v":""},{"$f":"IF(ISNUMBER(SEARCH(G$206,'12.Partner Involvement'!$H118))=TRUE,(('12.Partner Involvement'!$D118*'12.Partner Involvement'!$E118)/COUNTA(_xlfn.TEXTSPLIT('12.Partner Involvement'!$H118,\";\"))),\"\")","v":""},{"$f":"IF(ISNUMBER(SEARCH(H$206,'12.Partner Involvement'!$H118))=TRUE,(('12.Partner Involvement'!$D118*'12.Partner Involvement'!$E118)/COUNTA(_xlfn.TEXTSPLIT('12.Partner Involvement'!$H118,\";\"))),\"\")","v":""}]
[{"$f":"IF(ISNUMBER(SEARCH(A$206,'12.Partner Involvement'!$G119))=TRUE,(('12.Partner Involvement'!$D119*'12.Partner Involvement'!$E119)/COUNTA(_xlfn.TEXTSPLIT('12.Partner Involvement'!$G119,\";\"))),\"\")","v":""},{"$f":"IF(ISNUMBER(SEARCH(B$206,'12.Partner Involvement'!$G119))=TRUE,(('12.Partner Involvement'!$D119*'12.Partner Involvement'!$E119)/COUNTA(_xlfn.TEXTSPLIT('12.Partner Involvement'!$G119,\";\"))),\"\")","v":""},{"$f":"IF(ISNUMBER(SEARCH(C$206,'12.Partner Involvement'!$G119))=TRUE,(('12.Partner Involvement'!$D119*'12.Partner Involvement'!$E119)/COUNTA(_xlfn.TEXTSPLIT('12.Partner Involvement'!$G119,\";\"))),\"\")","v":""},null,{"$f":"IF(ISNUMBER(SEARCH(E$206,'12.Partner Involvement'!$H119))=TRUE,(('12.Partner Involvement'!$D119*'12.Partner Involvement'!$E119)/COUNTA(_xlfn.TEXTSPLIT('12.Partner Involvement'!$H119,\";\"))),\"\")","v":""},{"$f":"IF(ISNUMBER(SEARCH(F$206,'12.Partner Involvement'!$H119))=TRUE,(('12.Partner Involvement'!$D119*'12.Partner Involvement'!$E119)/COUNTA(_xlfn.TEXTSPLIT('12.Partner Involvement'!$H119,\";\"))),\"\")","v":""},{"$f":"IF(ISNUMBER(SEARCH(G$206,'12.Partner Involvement'!$H119))=TRUE,(('12.Partner Involvement'!$D119*'12.Partner Involvement'!$E119)/COUNTA(_xlfn.TEXTSPLIT('12.Partner Involvement'!$H119,\";\"))),\"\")","v":""},{"$f":"IF(ISNUMBER(SEARCH(H$206,'12.Partner Involvement'!$H119))=TRUE,(('12.Partner Involvement'!$D119*'12.Partner Involvement'!$E119)/COUNTA(_xlfn.TEXTSPLIT('12.Partner Involvement'!$H119,\";\"))),\"\")","v":""}]
[{"$f":"IF(ISNUMBER(SEARCH(A$206,'12.Partner Involvement'!$G120))=TRUE,(('12.Partner Involvement'!$D120*'12.Partner Involvement'!$E120)/COUNTA(_xlfn.TEXTSPLIT('12.Partner Involvement'!$G120,\";\"))),\"\")","v":""},{"$f":"IF(ISNUMBER(SEARCH(B$206,'12.Partner Involvement'!$G120))=TRUE,(('12.Partner Involvement'!$D120*'12.Partner Involvement'!$E120)/COUNTA(_xlfn.TEXTSPLIT('12.Partner Involvement'!$G120,\";\"))),\"\")","v":""},{"$f":"IF(ISNUMBER(SEARCH(C$206,'12.Partner Involvement'!$G120))=TRUE,(('12.Partner Involvement'!$D120*'12.Partner Involvement'!$E120)/COUNTA(_xlfn.TEXTSPLIT('12.Partner Involvement'!$G120,\";\"))),\"\")","v":""},null,{"$f":"IF(ISNUMBER(SEARCH(E$206,'12.Partner Involvement'!$H120))=TRUE,(('12.Partner Involvement'!$D120*'12.Partner Involvement'!$E120)/COUNTA(_xlfn.TEXTSPLIT('12.Partner Involvement'!$H120,\";\"))),\"\")","v":""},{"$f":"IF(ISNUMBER(SEARCH(F$206,'12.Partner Involvement'!$H120))=TRUE,(('12.Partner Involvement'!$D120*'12.Partner Involvement'!$E120)/COUNTA(_xlfn.TEXTSPLIT('12.Partner Involvement'!$H120,\";\"))),\"\")","v":""},{"$f":"IF(ISNUMBER(SEARCH(G$206,'12.Partner Involvement'!$H120))=TRUE,(('12.Partner Involvement'!$D120*'12.Partner Involvement'!$E120)/COUNTA(_xlfn.TEXTSPLIT('12.Partner Involvement'!$H120,\";\"))),\"\")","v":""},{"$f":"IF(ISNUMBER(SEARCH(H$206,'12.Partner Involvement'!$H120))=TRUE,(('12.Partner Involvement'!$D120*'12.Partner Involvement'!$E120)/COUNTA(_xlfn.TEXTSPLIT('12.Partner Involvement'!$H120,\";\"))),\"\")","v":""}]
[{"$f":"IF(ISNUMBER(SEARCH(A$206,'12.Partner Involvement'!$G121))=TRUE,(('12.Partner Involvement'!$D121*'12.Partner Involvement'!$E121)/COUNTA(_xlfn.TEXTSPLIT('12.Partner Involvement'!$G121,\";\"))),\"\")","v":""},{"$f":"IF(ISNUMBER(SEARCH(B$206,'12.Partner Involvement'!$G121))=TRUE,(('12.Partner Involvement'!$D121*'12.Partner Involvement'!$E121)/COUNTA(_xlfn.TEXTSPLIT('12.Partner Involvement'!$G121,\";\"))),\"\")","v":""},{"$f":"IF(ISNUMBER(SEARCH(C$206,'12.Partner Involvement'!$G121))=TRUE,(('12.Partner Involvement'!$D121*'12.Partner Involvement'!$E121)/COUNTA(_xlfn.TEXTSPLIT('12.Partner Involvement'!$G121,\";\"))),\"\")","v":""},null,{"$f":"IF(ISNUMBER(SEARCH(E$206,'12.Partner Involvement'!$H121))=TRUE,(('12.Partner Involvement'!$D121*'12.Partner Involvement'!$E121)/COUNTA(_xlfn.TEXTSPLIT('12.Partner Involvement'!$H121,\";\"))),\"\")","v":""},{"$f":"IF(ISNUMBER(SEARCH(F$206,'12.Partner Involvement'!$H121))=TRUE,(('12.Partner Involvement'!$D121*'12.Partner Involvement'!$E121)/COUNTA(_xlfn.TEXTSPLIT('12.Partner Involvement'!$H121,\";\"))),\"\")","v":""},{"$f":"IF(ISNUMBER(SEARCH(G$206,'12.Partner Involvement'!$H121))=TRUE,(('12.Partner Involvement'!$D121*'12.Partner Involvement'!$E121)/COUNTA(_xlfn.TEXTSPLIT('12.Partner Involvement'!$H121,\";\"))),\"\")","v":""},{"$f":"IF(ISNUMBER(SEARCH(H$206,'12.Partner Involvement'!$H121))=TRUE,(('12.Partner Involvement'!$D121*'12.Partner Involvement'!$E121)/COUNTA(_xlfn.TEXTSPLIT('12.Partner Involvement'!$H121,\";\"))),\"\")","v":""}]
[{"$f":"IF(ISNUMBER(SEARCH(A$206,'12.Partner Involvement'!$G122))=TRUE,(('12.Partner Involvement'!$D122*'12.Partner Involvement'!$E122)/COUNTA(_xlfn.TEXTSPLIT('12.Partner Involvement'!$G122,\";\"))),\"\")","v":""},{"$f":"IF(ISNUMBER(SEARCH(B$206,'12.Partner Involvement'!$G122))=TRUE,(('12.Partner Involvement'!$D122*'12.Partner Involvement'!$E122)/COUNTA(_xlfn.TEXTSPLIT('12.Partner Involvement'!$G122,\";\"))),\"\")","v":""},{"$f":"IF(ISNUMBER(SEARCH(C$206,'12.Partner Involvement'!$G122))=TRUE,(('12.Partner Involvement'!$D122*'12.Partner Involvement'!$E122)/COUNTA(_xlfn.TEXTSPLIT('12.Partner Involvement'!$G122,\";\"))),\"\")","v":""},null,{"$f":"IF(ISNUMBER(SEARCH(E$206,'12.Partner Involvement'!$H122))=TRUE,(('12.Partner Involvement'!$D122*'12.Partner Involvement'!$E122)/COUNTA(_xlfn.TEXTSPLIT('12.Partner Involvement'!$H122,\";\"))),\"\")","v":""},{"$f":"IF(ISNUMBER(SEARCH(F$206,'12.Partner Involvement'!$H122))=TRUE,(('12.Partner Involvement'!$D122*'12.Partner Involvement'!$E122)/COUNTA(_xlfn.TEXTSPLIT('12.Partner Involvement'!$H122,\";\"))),\"\")","v":""},{"$f":"IF(ISNUMBER(SEARCH(G$206,'12.Partner Involvement'!$H122))=TRUE,(('12.Partner Involvement'!$D122*'12.Partner Involvement'!$E122)/COUNTA(_xlfn.TEXTSPLIT('12.Partner Involvement'!$H122,\";\"))),\"\")","v":""},{"$f":"IF(ISNUMBER(SEARCH(H$206,'12.Partner Involvement'!$H122))=TRUE,(('12.Partner Involvement'!$D122*'12.Partner Involvement'!$E122)/COUNTA(_xlfn.TEXTSPLIT('12.Partner Involvement'!$H122,\";\"))),\"\")","v":""}]
[{"$f":"IF(ISNUMBER(SEARCH(A$206,'12.Partner Involvement'!$G123))=TRUE,(('12.Partner Involvement'!$D123*'12.Partner Involvement'!$E123)/COUNTA(_xlfn.TEXTSPLIT('12.Partner Involvement'!$G123,\";\"))),\"\")","v":""},{"$f":"IF(ISNUMBER(SEARCH(B$206,'12.Partner Involvement'!$G123))=TRUE,(('12.Partner Involvement'!$D123*'12.Partner Involvement'!$E123)/COUNTA(_xlfn.TEXTSPLIT('12.Partner Involvement'!$G123,\";\"))),\"\")","v":""},{"$f":"IF(ISNUMBER(SEARCH(C$206,'12.Partner Involvement'!$G123))=TRUE,(('12.Partner Involvement'!$D123*'12.Partner Involvement'!$E123)/COUNTA(_xlfn.TEXTSPLIT('12.Partner Involvement'!$G123,\";\"))),\"\")","v":""},null,{"$f":"IF(ISNUMBER(SEARCH(E$206,'12.Partner Involvement'!$H123))=TRUE,(('12.Partner Involvement'!$D123*'12.Partner Involvement'!$E123)/COUNTA(_xlfn.TEXTSPLIT('12.Partner Involvement'!$H123,\";\"))),\"\")","v":""},{"$f":"IF(ISNUMBER(SEARCH(F$206,'12.Partner Involvement'!$H123))=TRUE,(('12.Partner Involvement'!$D123*'12.Partner Involvement'!$E123)/COUNTA(_xlfn.TEXTSPLIT('12.Partner Involvement'!$H123,\";\"))),\"\")","v":""},{"$f":"IF(ISNUMBER(SEARCH(G$206,'12.Partner Involvement'!$H123))=TRUE,(('12.Partner Involvement'!$D123*'12.Partner Involvement'!$E123)/COUNTA(_xlfn.TEXTSPLIT('12.Partner Involvement'!$H123,\";\"))),\"\")","v":""},{"$f":"IF(ISNUMBER(SEARCH(H$206,'12.Partner Involvement'!$H123))=TRUE,(('12.Partner Involvement'!$D123*'12.Partner Involvement'!$E123)/COUNTA(_xlfn.TEXTSPLIT('12.Partner Involvement'!$H123,\";\"))),\"\")","v":""}]
[{"$f":"IF(ISNUMBER(SEARCH(A$206,'12.Partner Involvement'!$G124))=TRUE,(('12.Partner Involvement'!$D124*'12.Partner Involvement'!$E124)/COUNTA(_xlfn.TEXTSPLIT('12.Partner Involvement'!$G124,\";\"))),\"\")","v":""},{"$f":"IF(ISNUMBER(SEARCH(B$206,'12.Partner Involvement'!$G124))=TRUE,(('12.Partner Involvement'!$D124*'12.Partner Involvement'!$E124)/COUNTA(_xlfn.TEXTSPLIT('12.Partner Involvement'!$G124,\";\"))),\"\")","v":""},{"$f":"IF(ISNUMBER(SEARCH(C$206,'12.Partner Involvement'!$G124))=TRUE,(('12.Partner Involvement'!$D124*'12.Partner Involvement'!$E124)/COUNTA(_xlfn.TEXTSPLIT('12.Partner Involvement'!$G124,\";\"))),\"\")","v":""},null,{"$f":"IF(ISNUMBER(SEARCH(E$206,'12.Partner Involvement'!$H124))=TRUE,(('12.Partner Involvement'!$D124*'12.Partner Involvement'!$E124)/COUNTA(_xlfn.TEXTSPLIT('12.Partner Involvement'!$H124,\";\"))),\"\")","v":""},{"$f":"IF(ISNUMBER(SEARCH(F$206,'12.Partner Involvement'!$H124))=TRUE,(('12.Partner Involvement'!$D124*'12.Partner Involvement'!$E124)/COUNTA(_xlfn.TEXTSPLIT('12.Partner Involvement'!$H124,\";\"))),\"\")","v":""},{"$f":"IF(ISNUMBER(SEARCH(G$206,'12.Partner Involvement'!$H124))=TRUE,(('12.Partner Involvement'!$D124*'12.Partner Involvement'!$E124)/COUNTA(_xlfn.TEXTSPLIT('12.Partner Involvement'!$H124,\";\"))),\"\")","v":""},{"$f":"IF(ISNUMBER(SEARCH(H$206,'12.Partner Involvement'!$H124))=TRUE,(('12.Partner Involvement'!$D124*'12.Partner Involvement'!$E124)/COUNTA(_xlfn.TEXTSPLIT('12.Partner Involvement'!$H124,\";\"))),\"\")","v":""}]
[{"$f":"IF(ISNUMBER(SEARCH(A$206,'12.Partner Involvement'!$G125))=TRUE,(('12.Partner Involvement'!$D125*'12.Partner Involvement'!$E125)/COUNTA(_xlfn.TEXTSPLIT('12.Partner Involvement'!$G125,\";\"))),\"\")","v":""},{"$f":"IF(ISNUMBER(SEARCH(B$206,'12.Partner Involvement'!$G125))=TRUE,(('12.Partner Involvement'!$D125*'12.Partner Involvement'!$E125)/COUNTA(_xlfn.TEXTSPLIT('12.Partner Involvement'!$G125,\";\"))),\"\")","v":""},{"$f":"IF(ISNUMBER(SEARCH(C$206,'12.Partner Involvement'!$G125))=TRUE,(('12.Partner Involvement'!$D125*'12.Partner Involvement'!$E125)/COUNTA(_xlfn.TEXTSPLIT('12.Partner Involvement'!$G125,\";\"))),\"\")","v":""},null,{"$f":"IF(ISNUMBER(SEARCH(E$206,'12.Partner Involvement'!$H125))=TRUE,(('12.Partner Involvement'!$D125*'12.Partner Involvement'!$E125)/COUNTA(_xlfn.TEXTSPLIT('12.Partner Involvement'!$H125,\";\"))),\"\")","v":""},{"$f":"IF(ISNUMBER(SEARCH(F$206,'12.Partner Involvement'!$H125))=TRUE,(('12.Partner Involvement'!$D125*'12.Partner Involvement'!$E125)/COUNTA(_xlfn.TEXTSPLIT('12.Partner Involvement'!$H125,\";\"))),\"\")","v":""},{"$f":"IF(ISNUMBER(SEARCH(G$206,'12.Partner Involvement'!$H125))=TRUE,(('12.Partner Involvement'!$D125*'12.Partner Involvement'!$E125)/COUNTA(_xlfn.TEXTSPLIT('12.Partner Involvement'!$H125,\";\"))),\"\")","v":""},{"$f":"IF(ISNUMBER(SEARCH(H$206,'12.Partner Involvement'!$H125))=TRUE,(('12.Partner Involvement'!$D125*'12.Partner Involvement'!$E125)/COUNTA(_xlfn.TEXTSPLIT('12.Partner Involvement'!$H125,\";\"))),\"\")","v":""}]
[{"$f":"IF(ISNUMBER(SEARCH(A$206,'12.Partner Involvement'!$G126))=TRUE,(('12.Partner Involvement'!$D126*'12.Partner Involvement'!$E126)/COUNTA(_xlfn.TEXTSPLIT('12.Partner Involvement'!$G126,\";\"))),\"\")","v":""},{"$f":"IF(ISNUMBER(SEARCH(B$206,'12.Partner Involvement'!$G126))=TRUE,(('12.Partner Involvement'!$D126*'12.Partner Involvement'!$E126)/COUNTA(_xlfn.TEXTSPLIT('12.Partner Involvement'!$G126,\";\"))),\"\")","v":""},{"$f":"IF(ISNUMBER(SEARCH(C$206,'12.Partner Involvement'!$G126))=TRUE,(('12.Partner Involvement'!$D126*'12.Partner Involvement'!$E126)/COUNTA(_xlfn.TEXTSPLIT('12.Partner Involvement'!$G126,\";\"))),\"\")","v":""},null,{"$f":"IF(ISNUMBER(SEARCH(E$206,'12.Partner Involvement'!$H126))=TRUE,(('12.Partner Involvement'!$D126*'12.Partner Involvement'!$E126)/COUNTA(_xlfn.TEXTSPLIT('12.Partner Involvement'!$H126,\";\"))),\"\")","v":""},{"$f":"IF(ISNUMBER(SEARCH(F$206,'12.Partner Involvement'!$H126))=TRUE,(('12.Partner Involvement'!$D126*'12.Partner Involvement'!$E126)/COUNTA(_xlfn.TEXTSPLIT('12.Partner Involvement'!$H126,\";\"))),\"\")","v":""},{"$f":"IF(ISNUMBER(SEARCH(G$206,'12.Partner Involvement'!$H126))=TRUE,(('12.Partner Involvement'!$D126*'12.Partner Involvement'!$E126)/COUNTA(_xlfn.TEXTSPLIT('12.Partner Involvement'!$H126,\";\"))),\"\")","v":""},{"$f":"IF(ISNUMBER(SEARCH(H$206,'12.Partner Involvement'!$H126))=TRUE,(('12.Partner Involvement'!$D126*'12.Partner Involvement'!$E126)/COUNTA(_xlfn.TEXTSPLIT('12.Partner Involvement'!$H126,\";\"))),\"\")","v":""}]
[{"$f":"IF(ISNUMBER(SEARCH(A$206,'12.Partner Involvement'!$G127))=TRUE,(('12.Partner Involvement'!$D127*'12.Partner Involvement'!$E127)/COUNTA(_xlfn.TEXTSPLIT('12.Partner Involvement'!$G127,\";\"))),\"\")","v":""},{"$f":"IF(ISNUMBER(SEARCH(B$206,'12.Partner Involvement'!$G127))=TRUE,(('12.Partner Involvement'!$D127*'12.Partner Involvement'!$E127)/COUNTA(_xlfn.TEXTSPLIT('12.Partner Involvement'!$G127,\";\"))),\"\")","v":""},{"$f":"IF(ISNUMBER(SEARCH(C$206,'12.Partner Involvement'!$G127))=TRUE,(('12.Partner Involvement'!$D127*'12.Partner Involvement'!$E127)/COUNTA(_xlfn.TEXTSPLIT('12.Partner Involvement'!$G127,\";\"))),\"\")","v":""},null,{"$f":"IF(ISNUMBER(SEARCH(E$206,'12.Partner Involvement'!$H127))=TRUE,(('12.Partner Involvement'!$D127*'12.Partner Involvement'!$E127)/COUNTA(_xlfn.TEXTSPLIT('12.Partner Involvement'!$H127,\";\"))),\"\")","v":""},{"$f":"IF(ISNUMBER(SEARCH(F$206,'12.Partner Involvement'!$H127))=TRUE,(('12.Partner Involvement'!$D127*'12.Partner Involvement'!$E127)/COUNTA(_xlfn.TEXTSPLIT('12.Partner Involvement'!$H127,\";\"))),\"\")","v":""},{"$f":"IF(ISNUMBER(SEARCH(G$206,'12.Partner Involvement'!$H127))=TRUE,(('12.Partner Involvement'!$D127*'12.Partner Involvement'!$E127)/COUNTA(_xlfn.TEXTSPLIT('12.Partner Involvement'!$H127,\";\"))),\"\")","v":""},{"$f":"IF(ISNUMBER(SEARCH(H$206,'12.Partner Involvement'!$H127))=TRUE,(('12.Partner Involvement'!$D127*'12.Partner Involvement'!$E127)/COUNTA(_xlfn.TEXTSPLIT('12.Partner Involvement'!$H127,\";\"))),\"\")","v":""}]
[{"$f":"IF(ISNUMBER(SEARCH(A$206,'12.Partner Involvement'!$G128))=TRUE,(('12.Partner Involvement'!$D128*'12.Partner Involvement'!$E128)/COUNTA(_xlfn.TEXTSPLIT('12.Partner Involvement'!$G128,\";\"))),\"\")","v":""},{"$f":"IF(ISNUMBER(SEARCH(B$206,'12.Partner Involvement'!$G128))=TRUE,(('12.Partner Involvement'!$D128*'12.Partner Involvement'!$E128)/COUNTA(_xlfn.TEXTSPLIT('12.Partner Involvement'!$G128,\";\"))),\"\")","v":""},{"$f":"IF(ISNUMBER(SEARCH(C$206,'12.Partner Involvement'!$G128))=TRUE,(('12.Partner Involvement'!$D128*'12.Partner Involvement'!$E128)/COUNTA(_xlfn.TEXTSPLIT('12.Partner Involvement'!$G128,\";\"))),\"\")","v":""},null,{"$f":"IF(ISNUMBER(SEARCH(E$206,'12.Partner Involvement'!$H128))=TRUE,(('12.Partner Involvement'!$D128*'12.Partner Involvement'!$E128)/COUNTA(_xlfn.TEXTSPLIT('12.Partner Involvement'!$H128,\";\"))),\"\")","v":""},{"$f":"IF(ISNUMBER(SEARCH(F$206,'12.Partner Involvement'!$H128))=TRUE,(('12.Partner Involvement'!$D128*'12.Partner Involvement'!$E128)/COUNTA(_xlfn.TEXTSPLIT('12.Partner Involvement'!$H128,\";\"))),\"\")","v":""},{"$f":"IF(ISNUMBER(SEARCH(G$206,'12.Partner Involvement'!$H128))=TRUE,(('12.Partner Involvement'!$D128*'12.Partner Involvement'!$E128)/COUNTA(_xlfn.TEXTSPLIT('12.Partner Involvement'!$H128,\";\"))),\"\")","v":""},{"$f":"IF(ISNUMBER(SEARCH(H$206,'12.Partner Involvement'!$H128))=TRUE,(('12.Partner Involvement'!$D128*'12.Partner Involvement'!$E128)/COUNTA(_xlfn.TEXTSPLIT('12.Partner Involvement'!$H128,\";\"))),\"\")","v":""}]
[{"$f":"IF(ISNUMBER(SEARCH(A$206,'12.Partner Involvement'!$G129))=TRUE,(('12.Partner Involvement'!$D129*'12.Partner Involvement'!$E129)/COUNTA(_xlfn.TEXTSPLIT('12.Partner Involvement'!$G129,\";\"))),\"\")","v":""},{"$f":"IF(ISNUMBER(SEARCH(B$206,'12.Partner Involvement'!$G129))=TRUE,(('12.Partner Involvement'!$D129*'12.Partner Involvement'!$E129)/COUNTA(_xlfn.TEXTSPLIT('12.Partner Involvement'!$G129,\";\"))),\"\")","v":""},{"$f":"IF(ISNUMBER(SEARCH(C$206,'12.Partner Involvement'!$G129))=TRUE,(('12.Partner Involvement'!$D129*'12.Partner Involvement'!$E129)/COUNTA(_xlfn.TEXTSPLIT('12.Partner Involvement'!$G129,\";\"))),\"\")","v":""},null,{"$f":"IF(ISNUMBER(SEARCH(E$206,'12.Partner Involvement'!$H129))=TRUE,(('12.Partner Involvement'!$D129*'12.Partner Involvement'!$E129)/COUNTA(_xlfn.TEXTSPLIT('12.Partner Involvement'!$H129,\";\"))),\"\")","v":""},{"$f":"IF(ISNUMBER(SEARCH(F$206,'12.Partner Involvement'!$H129))=TRUE,(('12.Partner Involvement'!$D129*'12.Partner Involvement'!$E129)/COUNTA(_xlfn.TEXTSPLIT('12.Partner Involvement'!$H129,\";\"))),\"\")","v":""},{"$f":"IF(ISNUMBER(SEARCH(G$206,'12.Partner Involvement'!$H129))=TRUE,(('12.Partner Involvement'!$D129*'12.Partner Involvement'!$E129)/COUNTA(_xlfn.TEXTSPLIT('12.Partner Involvement'!$H129,\";\"))),\"\")","v":""},{"$f":"IF(ISNUMBER(SEARCH(H$206,'12.Partner Involvement'!$H129))=TRUE,(('12.Partner Involvement'!$D129*'12.Partner Involvement'!$E129)/COUNTA(_xlfn.TEXTSPLIT('12.Partner Involvement'!$H129,\";\"))),\"\")","v":""}]
[{"$f":"IF(ISNUMBER(SEARCH(A$206,'12.Partner Involvement'!$G130))=TRUE,(('12.Partner Involvement'!$D130*'12.Partner Involvement'!$E130)/COUNTA(_xlfn.TEXTSPLIT('12.Partner Involvement'!$G130,\";\"))),\"\")","v":""},{"$f":"IF(ISNUMBER(SEARCH(B$206,'12.Partner Involvement'!$G130))=TRUE,(('12.Partner Involvement'!$D130*'12.Partner Involvement'!$E130)/COUNTA(_xlfn.TEXTSPLIT('12.Partner Involvement'!$G130,\";\"))),\"\")","v":""},{"$f":"IF(ISNUMBER(SEARCH(C$206,'12.Partner Involvement'!$G130))=TRUE,(('12.Partner Involvement'!$D130*'12.Partner Involvement'!$E130)/COUNTA(_xlfn.TEXTSPLIT('12.Partner Involvement'!$G130,\";\"))),\"\")","v":""},null,{"$f":"IF(ISNUMBER(SEARCH(E$206,'12.Partner Involvement'!$H130))=TRUE,(('12.Partner Involvement'!$D130*'12.Partner Involvement'!$E130)/COUNTA(_xlfn.TEXTSPLIT('12.Partner Involvement'!$H130,\";\"))),\"\")","v":""},{"$f":"IF(ISNUMBER(SEARCH(F$206,'12.Partner Involvement'!$H130))=TRUE,(('12.Partner Involvement'!$D130*'12.Partner Involvement'!$E130)/COUNTA(_xlfn.TEXTSPLIT('12.Partner Involvement'!$H130,\";\"))),\"\")","v":""},{"$f":"IF(ISNUMBER(SEARCH(G$206,'12.Partner Involvement'!$H130))=TRUE,(('12.Partner Involvement'!$D130*'12.Partner Involvement'!$E130)/COUNTA(_xlfn.TEXTSPLIT('12.Partner Involvement'!$H130,\";\"))),\"\")","v":""},{"$f":"IF(ISNUMBER(SEARCH(H$206,'12.Partner Involvement'!$H130))=TRUE,(('12.Partner Involvement'!$D130*'12.Partner Involvement'!$E130)/COUNTA(_xlfn.TEXTSPLIT('12.Partner Involvement'!$H130,\";\"))),\"\")","v":""}]
[{"$f":"IF(ISNUMBER(SEARCH(A$206,'12.Partner Involvement'!$G131))=TRUE,(('12.Partner Involvement'!$D131*'12.Partner Involvement'!$E131)/COUNTA(_xlfn.TEXTSPLIT('12.Partner Involvement'!$G131,\";\"))),\"\")","v":""},{"$f":"IF(ISNUMBER(SEARCH(B$206,'12.Partner Involvement'!$G131))=TRUE,(('12.Partner Involvement'!$D131*'12.Partner Involvement'!$E131)/COUNTA(_xlfn.TEXTSPLIT('12.Partner Involvement'!$G131,\";\"))),\"\")","v":""},{"$f":"IF(ISNUMBER(SEARCH(C$206,'12.Partner Involvement'!$G131))=TRUE,(('12.Partner Involvement'!$D131*'12.Partner Involvement'!$E131)/COUNTA(_xlfn.TEXTSPLIT('12.Partner Involvement'!$G131,\";\"))),\"\")","v":""},null,{"$f":"IF(ISNUMBER(SEARCH(E$206,'12.Partner Involvement'!$H131))=TRUE,(('12.Partner Involvement'!$D131*'12.Partner Involvement'!$E131)/COUNTA(_xlfn.TEXTSPLIT('12.Partner Involvement'!$H131,\";\"))),\"\")","v":""},{"$f":"IF(ISNUMBER(SEARCH(F$206,'12.Partner Involvement'!$H131))=TRUE,(('12.Partner Involvement'!$D131*'12.Partner Involvement'!$E131)/COUNTA(_xlfn.TEXTSPLIT('12.Partner Involvement'!$H131,\";\"))),\"\")","v":""},{"$f":"IF(ISNUMBER(SEARCH(G$206,'12.Partner Involvement'!$H131))=TRUE,(('12.Partner Involvement'!$D131*'12.Partner Involvement'!$E131)/COUNTA(_xlfn.TEXTSPLIT('12.Partner Involvement'!$H131,\";\"))),\"\")","v":""},{"$f":"IF(ISNUMBER(SEARCH(H$206,'12.Partner Involvement'!$H131))=TRUE,(('12.Partner Involvement'!$D131*'12.Partner Involvement'!$E131)/COUNTA(_xlfn.TEXTSPLIT('12.Partner Involvement'!$H131,\";\"))),\"\")","v":""}]
[{"$f":"IF(ISNUMBER(SEARCH(A$206,'12.Partner Involvement'!$G132))=TRUE,(('12.Partner Involvement'!$D132*'12.Partner Involvement'!$E132)/COUNTA(_xlfn.TEXTSPLIT('12.Partner Involvement'!$G132,\";\"))),\"\")","v":""},{"$f":"IF(ISNUMBER(SEARCH(B$206,'12.Partner Involvement'!$G132))=TRUE,(('12.Partner Involvement'!$D132*'12.Partner Involvement'!$E132)/COUNTA(_xlfn.TEXTSPLIT('12.Partner Involvement'!$G132,\";\"))),\"\")","v":""},{"$f":"IF(ISNUMBER(SEARCH(C$206,'12.Partner Involvement'!$G132))=TRUE,(('12.Partner Involvement'!$D132*'12.Partner Involvement'!$E132)/COUNTA(_xlfn.TEXTSPLIT('12.Partner Involvement'!$G132,\";\"))),\"\")","v":""},null,{"$f":"IF(ISNUMBER(SEARCH(E$206,'12.Partner Involvement'!$H132))=TRUE,(('12.Partner Involvement'!$D132*'12.Partner Involvement'!$E132)/COUNTA(_xlfn.TEXTSPLIT('12.Partner Involvement'!$H132,\";\"))),\"\")","v":""},{"$f":"IF(ISNUMBER(SEARCH(F$206,'12.Partner Involvement'!$H132))=TRUE,(('12.Partner Involvement'!$D132*'12.Partner Involvement'!$E132)/COUNTA(_xlfn.TEXTSPLIT('12.Partner Involvement'!$H132,\";\"))),\"\")","v":""},{"$f":"IF(ISNUMBER(SEARCH(G$206,'12.Partner Involvement'!$H132))=TRUE,(('12.Partner Involvement'!$D132*'12.Partner Involvement'!$E132)/COUNTA(_xlfn.TEXTSPLIT('12.Partner Involvement'!$H132,\";\"))),\"\")","v":""},{"$f":"IF(ISNUMBER(SEARCH(H$206,'12.Partner Involvement'!$H132))=TRUE,(('12.Partner Involvement'!$D132*'12.Partner Involvement'!$E132)/COUNTA(_xlfn.TEXTSPLIT('12.Partner Involvement'!$H132,\";\"))),\"\")","v":""}]
[{"$f":"IF(ISNUMBER(SEARCH(A$206,'12.Partner Involvement'!$G133))=TRUE,(('12.Partner Involvement'!$D133*'12.Partner Involvement'!$E133)/COUNTA(_xlfn.TEXTSPLIT('12.Partner Involvement'!$G133,\";\"))),\"\")","v":""},{"$f":"IF(ISNUMBER(SEARCH(B$206,'12.Partner Involvement'!$G133))=TRUE,(('12.Partner Involvement'!$D133*'12.Partner Involvement'!$E133)/COUNTA(_xlfn.TEXTSPLIT('12.Partner Involvement'!$G133,\";\"))),\"\")","v":""},{"$f":"IF(ISNUMBER(SEARCH(C$206,'12.Partner Involvement'!$G133))=TRUE,(('12.Partner Involvement'!$D133*'12.Partner Involvement'!$E133)/COUNTA(_xlfn.TEXTSPLIT('12.Partner Involvement'!$G133,\";\"))),\"\")","v":""},null,{"$f":"IF(ISNUMBER(SEARCH(E$206,'12.Partner Involvement'!$H133))=TRUE,(('12.Partner Involvement'!$D133*'12.Partner Involvement'!$E133)/COUNTA(_xlfn.TEXTSPLIT('12.Partner Involvement'!$H133,\";\"))),\"\")","v":""},{"$f":"IF(ISNUMBER(SEARCH(F$206,'12.Partner Involvement'!$H133))=TRUE,(('12.Partner Involvement'!$D133*'12.Partner Involvement'!$E133)/COUNTA(_xlfn.TEXTSPLIT('12.Partner Involvement'!$H133,\";\"))),\"\")","v":""},{"$f":"IF(ISNUMBER(SEARCH(G$206,'12.Partner Involvement'!$H133))=TRUE,(('12.Partner Involvement'!$D133*'12.Partner Involvement'!$E133)/COUNTA(_xlfn.TEXTSPLIT('12.Partner Involvement'!$H133,\";\"))),\"\")","v":""},{"$f":"IF(ISNUMBER(SEARCH(H$206,'12.Partner Involvement'!$H133))=TRUE,(('12.Partner Involvement'!$D133*'12.Partner Involvement'!$E133)/COUNTA(_xlfn.TEXTSPLIT('12.Partner Involvement'!$H133,\";\"))),\"\")","v":""}]
[{"$f":"IF(ISNUMBER(SEARCH(A$206,'12.Partner Involvement'!$G134))=TRUE,(('12.Partner Involvement'!$D134*'12.Partner Involvement'!$E134)/COUNTA(_xlfn.TEXTSPLIT('12.Partner Involvement'!$G134,\";\"))),\"\")","v":""},{"$f":"IF(ISNUMBER(SEARCH(B$206,'12.Partner Involvement'!$G134))=TRUE,(('12.Partner Involvement'!$D134*'12.Partner Involvement'!$E134)/COUNTA(_xlfn.TEXTSPLIT('12.Partner Involvement'!$G134,\";\"))),\"\")","v":""},{"$f":"IF(ISNUMBER(SEARCH(C$206,'12.Partner Involvement'!$G134))=TRUE,(('12.Partner Involvement'!$D134*'12.Partner Involvement'!$E134)/COUNTA(_xlfn.TEXTSPLIT('12.Partner Involvement'!$G134,\";\"))),\"\")","v":""},null,{"$f":"IF(ISNUMBER(SEARCH(E$206,'12.Partner Involvement'!$H134))=TRUE,(('12.Partner Involvement'!$D134*'12.Partner Involvement'!$E134)/COUNTA(_xlfn.TEXTSPLIT('12.Partner Involvement'!$H134,\";\"))),\"\")","v":""},{"$f":"IF(ISNUMBER(SEARCH(F$206,'12.Partner Involvement'!$H134))=TRUE,(('12.Partner Involvement'!$D134*'12.Partner Involvement'!$E134)/COUNTA(_xlfn.TEXTSPLIT('12.Partner Involvement'!$H134,\";\"))),\"\")","v":""},{"$f":"IF(ISNUMBER(SEARCH(G$206,'12.Partner Involvement'!$H134))=TRUE,(('12.Partner Involvement'!$D134*'12.Partner Involvement'!$E134)/COUNTA(_xlfn.TEXTSPLIT('12.Partner Involvement'!$H134,\";\"))),\"\")","v":""},{"$f":"IF(ISNUMBER(SEARCH(H$206,'12.Partner Involvement'!$H134))=TRUE,(('12.Partner Involvement'!$D134*'12.Partner Involvement'!$E134)/COUNTA(_xlfn.TEXTSPLIT('12.Partner Involvement'!$H134,\";\"))),\"\")","v":""}]
[{"$f":"IF(ISNUMBER(SEARCH(A$206,'12.Partner Involvement'!$G135))=TRUE,(('12.Partner Involvement'!$D135*'12.Partner Involvement'!$E135)/COUNTA(_xlfn.TEXTSPLIT('12.Partner Involvement'!$G135,\";\"))),\"\")","v":""},{"$f":"IF(ISNUMBER(SEARCH(B$206,'12.Partner Involvement'!$G135))=TRUE,(('12.Partner Involvement'!$D135*'12.Partner Involvement'!$E135)/COUNTA(_xlfn.TEXTSPLIT('12.Partner Involvement'!$G135,\";\"))),\"\")","v":""},{"$f":"IF(ISNUMBER(SEARCH(C$206,'12.Partner Involvement'!$G135))=TRUE,(('12.Partner Involvement'!$D135*'12.Partner Involvement'!$E135)/COUNTA(_xlfn.TEXTSPLIT('12.Partner Involvement'!$G135,\";\"))),\"\")","v":""},null,{"$f":"IF(ISNUMBER(SEARCH(E$206,'12.Partner Involvement'!$H135))=TRUE,(('12.Partner Involvement'!$D135*'12.Partner Involvement'!$E135)/COUNTA(_xlfn.TEXTSPLIT('12.Partner Involvement'!$H135,\";\"))),\"\")","v":""},{"$f":"IF(ISNUMBER(SEARCH(F$206,'12.Partner Involvement'!$H135))=TRUE,(('12.Partner Involvement'!$D135*'12.Partner Involvement'!$E135)/COUNTA(_xlfn.TEXTSPLIT('12.Partner Involvement'!$H135,\";\"))),\"\")","v":""},{"$f":"IF(ISNUMBER(SEARCH(G$206,'12.Partner Involvement'!$H135))=TRUE,(('12.Partner Involvement'!$D135*'12.Partner Involvement'!$E135)/COUNTA(_xlfn.TEXTSPLIT('12.Partner Involvement'!$H135,\";\"))),\"\")","v":""},{"$f":"IF(ISNUMBER(SEARCH(H$206,'12.Partner Involvement'!$H135))=TRUE,(('12.Partner Involvement'!$D135*'12.Partner Involvement'!$E135)/COUNTA(_xlfn.TEXTSPLIT('12.Partner Involvement'!$H135,\";\"))),\"\")","v":""}]
[{"$f":"IF(ISNUMBER(SEARCH(A$206,'12.Partner Involvement'!$G136))=TRUE,(('12.Partner Involvement'!$D136*'12.Partner Involvement'!$E136)/COUNTA(_xlfn.TEXTSPLIT('12.Partner Involvement'!$G136,\";\"))),\"\")","v":""},{"$f":"IF(ISNUMBER(SEARCH(B$206,'12.Partner Involvement'!$G136))=TRUE,(('12.Partner Involvement'!$D136*'12.Partner Involvement'!$E136)/COUNTA(_xlfn.TEXTSPLIT('12.Partner Involvement'!$G136,\";\"))),\"\")","v":""},{"$f":"IF(ISNUMBER(SEARCH(C$206,'12.Partner Involvement'!$G136))=TRUE,(('12.Partner Involvement'!$D136*'12.Partner Involvement'!$E136)/COUNTA(_xlfn.TEXTSPLIT('12.Partner Involvement'!$G136,\";\"))),\"\")","v":""},null,{"$f":"IF(ISNUMBER(SEARCH(E$206,'12.Partner Involvement'!$H136))=TRUE,(('12.Partner Involvement'!$D136*'12.Partner Involvement'!$E136)/COUNTA(_xlfn.TEXTSPLIT('12.Partner Involvement'!$H136,\";\"))),\"\")","v":""},{"$f":"IF(ISNUMBER(SEARCH(F$206,'12.Partner Involvement'!$H136))=TRUE,(('12.Partner Involvement'!$D136*'12.Partner Involvement'!$E136)/COUNTA(_xlfn.TEXTSPLIT('12.Partner Involvement'!$H136,\";\"))),\"\")","v":""},{"$f":"IF(ISNUMBER(SEARCH(G$206,'12.Partner Involvement'!$H136))=TRUE,(('12.Partner Involvement'!$D136*'12.Partner Involvement'!$E136)/COUNTA(_xlfn.TEXTSPLIT('12.Partner Involvement'!$H136,\";\"))),\"\")","v":""},{"$f":"IF(ISNUMBER(SEARCH(H$206,'12.Partner Involvement'!$H136))=TRUE,(('12.Partner Involvement'!$D136*'12.Partner Involvement'!$E136)/COUNTA(_xlfn.TEXTSPLIT('12.Partner Involvement'!$H136,\";\"))),\"\")","v":""}]
[{"$f":"IF(ISNUMBER(SEARCH(A$206,'12.Partner Involvement'!$G137))=TRUE,(('12.Partner Involvement'!$D137*'12.Partner Involvement'!$E137)/COUNTA(_xlfn.TEXTSPLIT('12.Partner Involvement'!$G137,\";\"))),\"\")","v":""},{"$f":"IF(ISNUMBER(SEARCH(B$206,'12.Partner Involvement'!$G137))=TRUE,(('12.Partner Involvement'!$D137*'12.Partner Involvement'!$E137)/COUNTA(_xlfn.TEXTSPLIT('12.Partner Involvement'!$G137,\";\"))),\"\")","v":""},{"$f":"IF(ISNUMBER(SEARCH(C$206,'12.Partner Involvement'!$G137))=TRUE,(('12.Partner Involvement'!$D137*'12.Partner Involvement'!$E137)/COUNTA(_xlfn.TEXTSPLIT('12.Partner Involvement'!$G137,\";\"))),\"\")","v":""},null,{"$f":"IF(ISNUMBER(SEARCH(E$206,'12.Partner Involvement'!$H137))=TRUE,(('12.Partner Involvement'!$D137*'12.Partner Involvement'!$E137)/COUNTA(_xlfn.TEXTSPLIT('12.Partner Involvement'!$H137,\";\"))),\"\")","v":""},{"$f":"IF(ISNUMBER(SEARCH(F$206,'12.Partner Involvement'!$H137))=TRUE,(('12.Partner Involvement'!$D137*'12.Partner Involvement'!$E137)/COUNTA(_xlfn.TEXTSPLIT('12.Partner Involvement'!$H137,\";\"))),\"\")","v":""},{"$f":"IF(ISNUMBER(SEARCH(G$206,'12.Partner Involvement'!$H137))=TRUE,(('12.Partner Involvement'!$D137*'12.Partner Involvement'!$E137)/COUNTA(_xlfn.TEXTSPLIT('12.Partner Involvement'!$H137,\";\"))),\"\")","v":""},{"$f":"IF(ISNUMBER(SEARCH(H$206,'12.Partner Involvement'!$H137))=TRUE,(('12.Partner Involvement'!$D137*'12.Partner Involvement'!$E137)/COUNTA(_xlfn.TEXTSPLIT('12.Partner Involvement'!$H137,\";\"))),\"\")","v":""}]
[{"$f":"IF(ISNUMBER(SEARCH(A$206,'12.Partner Involvement'!$G138))=TRUE,(('12.Partner Involvement'!$D138*'12.Partner Involvement'!$E138)/COUNTA(_xlfn.TEXTSPLIT('12.Partner Involvement'!$G138,\";\"))),\"\")","v":""},{"$f":"IF(ISNUMBER(SEARCH(B$206,'12.Partner Involvement'!$G138))=TRUE,(('12.Partner Involvement'!$D138*'12.Partner Involvement'!$E138)/COUNTA(_xlfn.TEXTSPLIT('12.Partner Involvement'!$G138,\";\"))),\"\")","v":""},{"$f":"IF(ISNUMBER(SEARCH(C$206,'12.Partner Involvement'!$G138))=TRUE,(('12.Partner Involvement'!$D138*'12.Partner Involvement'!$E138)/COUNTA(_xlfn.TEXTSPLIT('12.Partner Involvement'!$G138,\";\"))),\"\")","v":""},null,{"$f":"IF(ISNUMBER(SEARCH(E$206,'12.Partner Involvement'!$H138))=TRUE,(('12.Partner Involvement'!$D138*'12.Partner Involvement'!$E138)/COUNTA(_xlfn.TEXTSPLIT('12.Partner Involvement'!$H138,\";\"))),\"\")","v":""},{"$f":"IF(ISNUMBER(SEARCH(F$206,'12.Partner Involvement'!$H138))=TRUE,(('12.Partner Involvement'!$D138*'12.Partner Involvement'!$E138)/COUNTA(_xlfn.TEXTSPLIT('12.Partner Involvement'!$H138,\";\"))),\"\")","v":""},{"$f":"IF(ISNUMBER(SEARCH(G$206,'12.Partner Involvement'!$H138))=TRUE,(('12.Partner Involvement'!$D138*'12.Partner Involvement'!$E138)/COUNTA(_xlfn.TEXTSPLIT('12.Partner Involvement'!$H138,\";\"))),\"\")","v":""},{"$f":"IF(ISNUMBER(SEARCH(H$206,'12.Partner Involvement'!$H138))=TRUE,(('12.Partner Involvement'!$D138*'12.Partner Involvement'!$E138)/COUNTA(_xlfn.TEXTSPLIT('12.Partner Involvement'!$H138,\";\"))),\"\")","v":""}]
[{"$f":"IF(ISNUMBER(SEARCH(A$206,'12.Partner Involvement'!$G139))=TRUE,(('12.Partner Involvement'!$D139*'12.Partner Involvement'!$E139)/COUNTA(_xlfn.TEXTSPLIT('12.Partner Involvement'!$G139,\";\"))),\"\")","v":""},{"$f":"IF(ISNUMBER(SEARCH(B$206,'12.Partner Involvement'!$G139))=TRUE,(('12.Partner Involvement'!$D139*'12.Partner Involvement'!$E139)/COUNTA(_xlfn.TEXTSPLIT('12.Partner Involvement'!$G139,\";\"))),\"\")","v":""},{"$f":"IF(ISNUMBER(SEARCH(C$206,'12.Partner Involvement'!$G139))=TRUE,(('12.Partner Involvement'!$D139*'12.Partner Involvement'!$E139)/COUNTA(_xlfn.TEXTSPLIT('12.Partner Involvement'!$G139,\";\"))),\"\")","v":""},null,{"$f":"IF(ISNUMBER(SEARCH(E$206,'12.Partner Involvement'!$H139))=TRUE,(('12.Partner Involvement'!$D139*'12.Partner Involvement'!$E139)/COUNTA(_xlfn.TEXTSPLIT('12.Partner Involvement'!$H139,\";\"))),\"\")","v":""},{"$f":"IF(ISNUMBER(SEARCH(F$206,'12.Partner Involvement'!$H139))=TRUE,(('12.Partner Involvement'!$D139*'12.Partner Involvement'!$E139)/COUNTA(_xlfn.TEXTSPLIT('12.Partner Involvement'!$H139,\";\"))),\"\")","v":""},{"$f":"IF(ISNUMBER(SEARCH(G$206,'12.Partner Involvement'!$H139))=TRUE,(('12.Partner Involvement'!$D139*'12.Partner Involvement'!$E139)/COUNTA(_xlfn.TEXTSPLIT('12.Partner Involvement'!$H139,\";\"))),\"\")","v":""},{"$f":"IF(ISNUMBER(SEARCH(H$206,'12.Partner Involvement'!$H139))=TRUE,(('12.Partner Involvement'!$D139*'12.Partner Involvement'!$E139)/COUNTA(_xlfn.TEXTSPLIT('12.Partner Involvement'!$H139,\";\"))),\"\")","v":""}]
[{"$f":"IF(ISNUMBER(SEARCH(A$206,'12.Partner Involvement'!$G140))=TRUE,(('12.Partner Involvement'!$D140*'12.Partner Involvement'!$E140)/COUNTA(_xlfn.TEXTSPLIT('12.Partner Involvement'!$G140,\";\"))),\"\")","v":""},{"$f":"IF(ISNUMBER(SEARCH(B$206,'12.Partner Involvement'!$G140))=TRUE,(('12.Partner Involvement'!$D140*'12.Partner Involvement'!$E140)/COUNTA(_xlfn.TEXTSPLIT('12.Partner Involvement'!$G140,\";\"))),\"\")","v":""},{"$f":"IF(ISNUMBER(SEARCH(C$206,'12.Partner Involvement'!$G140))=TRUE,(('12.Partner Involvement'!$D140*'12.Partner Involvement'!$E140)/COUNTA(_xlfn.TEXTSPLIT('12.Partner Involvement'!$G140,\";\"))),\"\")","v":""},null,{"$f":"IF(ISNUMBER(SEARCH(E$206,'12.Partner Involvement'!$H140))=TRUE,(('12.Partner Involvement'!$D140*'12.Partner Involvement'!$E140)/COUNTA(_xlfn.TEXTSPLIT('12.Partner Involvement'!$H140,\";\"))),\"\")","v":""},{"$f":"IF(ISNUMBER(SEARCH(F$206,'12.Partner Involvement'!$H140))=TRUE,(('12.Partner Involvement'!$D140*'12.Partner Involvement'!$E140)/COUNTA(_xlfn.TEXTSPLIT('12.Partner Involvement'!$H140,\";\"))),\"\")","v":""},{"$f":"IF(ISNUMBER(SEARCH(G$206,'12.Partner Involvement'!$H140))=TRUE,(('12.Partner Involvement'!$D140*'12.Partner Involvement'!$E140)/COUNTA(_xlfn.TEXTSPLIT('12.Partner Involvement'!$H140,\";\"))),\"\")","v":""},{"$f":"IF(ISNUMBER(SEARCH(H$206,'12.Partner Involvement'!$H140))=TRUE,(('12.Partner Involvement'!$D140*'12.Partner Involvement'!$E140)/COUNTA(_xlfn.TEXTSPLIT('12.Partner Involvement'!$H140,\";\"))),\"\")","v":""}]
[{"$f":"IF(ISNUMBER(SEARCH(A$206,'12.Partner Involvement'!$G141))=TRUE,(('12.Partner Involvement'!$D141*'12.Partner Involvement'!$E141)/COUNTA(_xlfn.TEXTSPLIT('12.Partner Involvement'!$G141,\";\"))),\"\")","v":""},{"$f":"IF(ISNUMBER(SEARCH(B$206,'12.Partner Involvement'!$G141))=TRUE,(('12.Partner Involvement'!$D141*'12.Partner Involvement'!$E141)/COUNTA(_xlfn.TEXTSPLIT('12.Partner Involvement'!$G141,\";\"))),\"\")","v":""},{"$f":"IF(ISNUMBER(SEARCH(C$206,'12.Partner Involvement'!$G141))=TRUE,(('12.Partner Involvement'!$D141*'12.Partner Involvement'!$E141)/COUNTA(_xlfn.TEXTSPLIT('12.Partner Involvement'!$G141,\";\"))),\"\")","v":""},null,{"$f":"IF(ISNUMBER(SEARCH(E$206,'12.Partner Involvement'!$H141))=TRUE,(('12.Partner Involvement'!$D141*'12.Partner Involvement'!$E141)/COUNTA(_xlfn.TEXTSPLIT('12.Partner Involvement'!$H141,\";\"))),\"\")","v":""},{"$f":"IF(ISNUMBER(SEARCH(F$206,'12.Partner Involvement'!$H141))=TRUE,(('12.Partner Involvement'!$D141*'12.Partner Involvement'!$E141)/COUNTA(_xlfn.TEXTSPLIT('12.Partner Involvement'!$H141,\";\"))),\"\")","v":""},{"$f":"IF(ISNUMBER(SEARCH(G$206,'12.Partner Involvement'!$H141))=TRUE,(('12.Partner Involvement'!$D141*'12.Partner Involvement'!$E141)/COUNTA(_xlfn.TEXTSPLIT('12.Partner Involvement'!$H141,\";\"))),\"\")","v":""},{"$f":"IF(ISNUMBER(SEARCH(H$206,'12.Partner Involvement'!$H141))=TRUE,(('12.Partner Involvement'!$D141*'12.Partner Involvement'!$E141)/COUNTA(_xlfn.TEXTSPLIT('12.Partner Involvement'!$H141,\";\"))),\"\")","v":""}]
[{"$f":"IF(ISNUMBER(SEARCH(A$206,'12.Partner Involvement'!$G142))=TRUE,(('12.Partner Involvement'!$D142*'12.Partner Involvement'!$E142)/COUNTA(_xlfn.TEXTSPLIT('12.Partner Involvement'!$G142,\";\"))),\"\")","v":""},{"$f":"IF(ISNUMBER(SEARCH(B$206,'12.Partner Involvement'!$G142))=TRUE,(('12.Partner Involvement'!$D142*'12.Partner Involvement'!$E142)/COUNTA(_xlfn.TEXTSPLIT('12.Partner Involvement'!$G142,\";\"))),\"\")","v":""},{"$f":"IF(ISNUMBER(SEARCH(C$206,'12.Partner Involvement'!$G142))=TRUE,(('12.Partner Involvement'!$D142*'12.Partner Involvement'!$E142)/COUNTA(_xlfn.TEXTSPLIT('12.Partner Involvement'!$G142,\";\"))),\"\")","v":""},null,{"$f":"IF(ISNUMBER(SEARCH(E$206,'12.Partner Involvement'!$H142))=TRUE,(('12.Partner Involvement'!$D142*'12.Partner Involvement'!$E142)/COUNTA(_xlfn.TEXTSPLIT('12.Partner Involvement'!$H142,\";\"))),\"\")","v":""},{"$f":"IF(ISNUMBER(SEARCH(F$206,'12.Partner Involvement'!$H142))=TRUE,(('12.Partner Involvement'!$D142*'12.Partner Involvement'!$E142)/COUNTA(_xlfn.TEXTSPLIT('12.Partner Involvement'!$H142,\";\"))),\"\")","v":""},{"$f":"IF(ISNUMBER(SEARCH(G$206,'12.Partner Involvement'!$H142))=TRUE,(('12.Partner Involvement'!$D142*'12.Partner Involvement'!$E142)/COUNTA(_xlfn.TEXTSPLIT('12.Partner Involvement'!$H142,\";\"))),\"\")","v":""},{"$f":"IF(ISNUMBER(SEARCH(H$206,'12.Partner Involvement'!$H142))=TRUE,(('12.Partner Involvement'!$D142*'12.Partner Involvement'!$E142)/COUNTA(_xlfn.TEXTSPLIT('12.Partner Involvement'!$H142,\";\"))),\"\")","v":""}]
[{"$f":"IF(ISNUMBER(SEARCH(A$206,'12.Partner Involvement'!$G143))=TRUE,(('12.Partner Involvement'!$D143*'12.Partner Involvement'!$E143)/COUNTA(_xlfn.TEXTSPLIT('12.Partner Involvement'!$G143,\";\"))),\"\")","v":""},{"$f":"IF(ISNUMBER(SEARCH(B$206,'12.Partner Involvement'!$G143))=TRUE,(('12.Partner Involvement'!$D143*'12.Partner Involvement'!$E143)/COUNTA(_xlfn.TEXTSPLIT('12.Partner Involvement'!$G143,\";\"))),\"\")","v":""},{"$f":"IF(ISNUMBER(SEARCH(C$206,'12.Partner Involvement'!$G143))=TRUE,(('12.Partner Involvement'!$D143*'12.Partner Involvement'!$E143)/COUNTA(_xlfn.TEXTSPLIT('12.Partner Involvement'!$G143,\";\"))),\"\")","v":""},null,{"$f":"IF(ISNUMBER(SEARCH(E$206,'12.Partner Involvement'!$H143))=TRUE,(('12.Partner Involvement'!$D143*'12.Partner Involvement'!$E143)/COUNTA(_xlfn.TEXTSPLIT('12.Partner Involvement'!$H143,\";\"))),\"\")","v":""},{"$f":"IF(ISNUMBER(SEARCH(F$206,'12.Partner Involvement'!$H143))=TRUE,(('12.Partner Involvement'!$D143*'12.Partner Involvement'!$E143)/COUNTA(_xlfn.TEXTSPLIT('12.Partner Involvement'!$H143,\";\"))),\"\")","v":""},{"$f":"IF(ISNUMBER(SEARCH(G$206,'12.Partner Involvement'!$H143))=TRUE,(('12.Partner Involvement'!$D143*'12.Partner Involvement'!$E143)/COUNTA(_xlfn.TEXTSPLIT('12.Partner Involvement'!$H143,\";\"))),\"\")","v":""},{"$f":"IF(ISNUMBER(SEARCH(H$206,'12.Partner Involvement'!$H143))=TRUE,(('12.Partner Involvement'!$D143*'12.Partner Involvement'!$E143)/COUNTA(_xlfn.TEXTSPLIT('12.Partner Involvement'!$H143,\";\"))),\"\")","v":""}]
[{"$f":"IF(ISNUMBER(SEARCH(A$206,'12.Partner Involvement'!$G144))=TRUE,(('12.Partner Involvement'!$D144*'12.Partner Involvement'!$E144)/COUNTA(_xlfn.TEXTSPLIT('12.Partner Involvement'!$G144,\";\"))),\"\")","v":""},{"$f":"IF(ISNUMBER(SEARCH(B$206,'12.Partner Involvement'!$G144))=TRUE,(('12.Partner Involvement'!$D144*'12.Partner Involvement'!$E144)/COUNTA(_xlfn.TEXTSPLIT('12.Partner Involvement'!$G144,\";\"))),\"\")","v":""},{"$f":"IF(ISNUMBER(SEARCH(C$206,'12.Partner Involvement'!$G144))=TRUE,(('12.Partner Involvement'!$D144*'12.Partner Involvement'!$E144)/COUNTA(_xlfn.TEXTSPLIT('12.Partner Involvement'!$G144,\";\"))),\"\")","v":""},null,{"$f":"IF(ISNUMBER(SEARCH(E$206,'12.Partner Involvement'!$H144))=TRUE,(('12.Partner Involvement'!$D144*'12.Partner Involvement'!$E144)/COUNTA(_xlfn.TEXTSPLIT('12.Partner Involvement'!$H144,\";\"))),\"\")","v":""},{"$f":"IF(ISNUMBER(SEARCH(F$206,'12.Partner Involvement'!$H144))=TRUE,(('12.Partner Involvement'!$D144*'12.Partner Involvement'!$E144)/COUNTA(_xlfn.TEXTSPLIT('12.Partner Involvement'!$H144,\";\"))),\"\")","v":""},{"$f":"IF(ISNUMBER(SEARCH(G$206,'12.Partner Involvement'!$H144))=TRUE,(('12.Partner Involvement'!$D144*'12.Partner Involvement'!$E144)/COUNTA(_xlfn.TEXTSPLIT('12.Partner Involvement'!$H144,\";\"))),\"\")","v":""},{"$f":"IF(ISNUMBER(SEARCH(H$206,'12.Partner Involvement'!$H144))=TRUE,(('12.Partner Involvement'!$D144*'12.Partner Involvement'!$E144)/COUNTA(_xlfn.TEXTSPLIT('12.Partner Involvement'!$H144,\";\"))),\"\")","v":""}]
[{"$f":"IF(ISNUMBER(SEARCH(A$206,'12.Partner Involvement'!$G145))=TRUE,(('12.Partner Involvement'!$D145*'12.Partner Involvement'!$E145)/COUNTA(_xlfn.TEXTSPLIT('12.Partner Involvement'!$G145,\";\"))),\"\")","v":""},{"$f":"IF(ISNUMBER(SEARCH(B$206,'12.Partner Involvement'!$G145))=TRUE,(('12.Partner Involvement'!$D145*'12.Partner Involvement'!$E145)/COUNTA(_xlfn.TEXTSPLIT('12.Partner Involvement'!$G145,\";\"))),\"\")","v":""},{"$f":"IF(ISNUMBER(SEARCH(C$206,'12.Partner Involvement'!$G145))=TRUE,(('12.Partner Involvement'!$D145*'12.Partner Involvement'!$E145)/COUNTA(_xlfn.TEXTSPLIT('12.Partner Involvement'!$G145,\";\"))),\"\")","v":""},null,{"$f":"IF(ISNUMBER(SEARCH(E$206,'12.Partner Involvement'!$H145))=TRUE,(('12.Partner Involvement'!$D145*'12.Partner Involvement'!$E145)/COUNTA(_xlfn.TEXTSPLIT('12.Partner Involvement'!$H145,\";\"))),\"\")","v":""},{"$f":"IF(ISNUMBER(SEARCH(F$206,'12.Partner Involvement'!$H145))=TRUE,(('12.Partner Involvement'!$D145*'12.Partner Involvement'!$E145)/COUNTA(_xlfn.TEXTSPLIT('12.Partner Involvement'!$H145,\";\"))),\"\")","v":""},{"$f":"IF(ISNUMBER(SEARCH(G$206,'12.Partner Involvement'!$H145))=TRUE,(('12.Partner Involvement'!$D145*'12.Partner Involvement'!$E145)/COUNTA(_xlfn.TEXTSPLIT('12.Partner Involvement'!$H145,\";\"))),\"\")","v":""},{"$f":"IF(ISNUMBER(SEARCH(H$206,'12.Partner Involvement'!$H145))=TRUE,(('12.Partner Involvement'!$D145*'12.Partner Involvement'!$E145)/COUNTA(_xlfn.TEXTSPLIT('12.Partner Involvement'!$H145,\";\"))),\"\")","v":""}]
[{"$f":"IF(ISNUMBER(SEARCH(A$206,'12.Partner Involvement'!$G146))=TRUE,(('12.Partner Involvement'!$D146*'12.Partner Involvement'!$E146)/COUNTA(_xlfn.TEXTSPLIT('12.Partner Involvement'!$G146,\";\"))),\"\")","v":""},{"$f":"IF(ISNUMBER(SEARCH(B$206,'12.Partner Involvement'!$G146))=TRUE,(('12.Partner Involvement'!$D146*'12.Partner Involvement'!$E146)/COUNTA(_xlfn.TEXTSPLIT('12.Partner Involvement'!$G146,\";\"))),\"\")","v":""},{"$f":"IF(ISNUMBER(SEARCH(C$206,'12.Partner Involvement'!$G146))=TRUE,(('12.Partner Involvement'!$D146*'12.Partner Involvement'!$E146)/COUNTA(_xlfn.TEXTSPLIT('12.Partner Involvement'!$G146,\";\"))),\"\")","v":""},null,{"$f":"IF(ISNUMBER(SEARCH(E$206,'12.Partner Involvement'!$H146))=TRUE,(('12.Partner Involvement'!$D146*'12.Partner Involvement'!$E146)/COUNTA(_xlfn.TEXTSPLIT('12.Partner Involvement'!$H146,\";\"))),\"\")","v":""},{"$f":"IF(ISNUMBER(SEARCH(F$206,'12.Partner Involvement'!$H146))=TRUE,(('12.Partner Involvement'!$D146*'12.Partner Involvement'!$E146)/COUNTA(_xlfn.TEXTSPLIT('12.Partner Involvement'!$H146,\";\"))),\"\")","v":""},{"$f":"IF(ISNUMBER(SEARCH(G$206,'12.Partner Involvement'!$H146))=TRUE,(('12.Partner Involvement'!$D146*'12.Partner Involvement'!$E146)/COUNTA(_xlfn.TEXTSPLIT('12.Partner Involvement'!$H146,\";\"))),\"\")","v":""},{"$f":"IF(ISNUMBER(SEARCH(H$206,'12.Partner Involvement'!$H146))=TRUE,(('12.Partner Involvement'!$D146*'12.Partner Involvement'!$E146)/COUNTA(_xlfn.TEXTSPLIT('12.Partner Involvement'!$H146,\";\"))),\"\")","v":""}]
[{"$f":"IF(ISNUMBER(SEARCH(A$206,'12.Partner Involvement'!$G147))=TRUE,(('12.Partner Involvement'!$D147*'12.Partner Involvement'!$E147)/COUNTA(_xlfn.TEXTSPLIT('12.Partner Involvement'!$G147,\";\"))),\"\")","v":""},{"$f":"IF(ISNUMBER(SEARCH(B$206,'12.Partner Involvement'!$G147))=TRUE,(('12.Partner Involvement'!$D147*'12.Partner Involvement'!$E147)/COUNTA(_xlfn.TEXTSPLIT('12.Partner Involvement'!$G147,\";\"))),\"\")","v":""},{"$f":"IF(ISNUMBER(SEARCH(C$206,'12.Partner Involvement'!$G147))=TRUE,(('12.Partner Involvement'!$D147*'12.Partner Involvement'!$E147)/COUNTA(_xlfn.TEXTSPLIT('12.Partner Involvement'!$G147,\";\"))),\"\")","v":""},null,{"$f":"IF(ISNUMBER(SEARCH(E$206,'12.Partner Involvement'!$H147))=TRUE,(('12.Partner Involvement'!$D147*'12.Partner Involvement'!$E147)/COUNTA(_xlfn.TEXTSPLIT('12.Partner Involvement'!$H147,\";\"))),\"\")","v":""},{"$f":"IF(ISNUMBER(SEARCH(F$206,'12.Partner Involvement'!$H147))=TRUE,(('12.Partner Involvement'!$D147*'12.Partner Involvement'!$E147)/COUNTA(_xlfn.TEXTSPLIT('12.Partner Involvement'!$H147,\";\"))),\"\")","v":""},{"$f":"IF(ISNUMBER(SEARCH(G$206,'12.Partner Involvement'!$H147))=TRUE,(('12.Partner Involvement'!$D147*'12.Partner Involvement'!$E147)/COUNTA(_xlfn.TEXTSPLIT('12.Partner Involvement'!$H147,\";\"))),\"\")","v":""},{"$f":"IF(ISNUMBER(SEARCH(H$206,'12.Partner Involvement'!$H147))=TRUE,(('12.Partner Involvement'!$D147*'12.Partner Involvement'!$E147)/COUNTA(_xlfn.TEXTSPLIT('12.Partner Involvement'!$H147,\";\"))),\"\")","v":""}]
[{"$f":"IF(ISNUMBER(SEARCH(A$206,'12.Partner Involvement'!$G148))=TRUE,(('12.Partner Involvement'!$D148*'12.Partner Involvement'!$E148)/COUNTA(_xlfn.TEXTSPLIT('12.Partner Involvement'!$G148,\";\"))),\"\")","v":""},{"$f":"IF(ISNUMBER(SEARCH(B$206,'12.Partner Involvement'!$G148))=TRUE,(('12.Partner Involvement'!$D148*'12.Partner Involvement'!$E148)/COUNTA(_xlfn.TEXTSPLIT('12.Partner Involvement'!$G148,\";\"))),\"\")","v":""},{"$f":"IF(ISNUMBER(SEARCH(C$206,'12.Partner Involvement'!$G148))=TRUE,(('12.Partner Involvement'!$D148*'12.Partner Involvement'!$E148)/COUNTA(_xlfn.TEXTSPLIT('12.Partner Involvement'!$G148,\";\"))),\"\")","v":""},null,{"$f":"IF(ISNUMBER(SEARCH(E$206,'12.Partner Involvement'!$H148))=TRUE,(('12.Partner Involvement'!$D148*'12.Partner Involvement'!$E148)/COUNTA(_xlfn.TEXTSPLIT('12.Partner Involvement'!$H148,\";\"))),\"\")","v":""},{"$f":"IF(ISNUMBER(SEARCH(F$206,'12.Partner Involvement'!$H148))=TRUE,(('12.Partner Involvement'!$D148*'12.Partner Involvement'!$E148)/COUNTA(_xlfn.TEXTSPLIT('12.Partner Involvement'!$H148,\";\"))),\"\")","v":""},{"$f":"IF(ISNUMBER(SEARCH(G$206,'12.Partner Involvement'!$H148))=TRUE,(('12.Partner Involvement'!$D148*'12.Partner Involvement'!$E148)/COUNTA(_xlfn.TEXTSPLIT('12.Partner Involvement'!$H148,\";\"))),\"\")","v":""},{"$f":"IF(ISNUMBER(SEARCH(H$206,'12.Partner Involvement'!$H148))=TRUE,(('12.Partner Involvement'!$D148*'12.Partner Involvement'!$E148)/COUNTA(_xlfn.TEXTSPLIT('12.Partner Involvement'!$H148,\";\"))),\"\")","v":""}]
[{"$f":"IF(ISNUMBER(SEARCH(A$206,'12.Partner Involvement'!$G149))=TRUE,(('12.Partner Involvement'!$D149*'12.Partner Involvement'!$E149)/COUNTA(_xlfn.TEXTSPLIT('12.Partner Involvement'!$G149,\";\"))),\"\")","v":""},{"$f":"IF(ISNUMBER(SEARCH(B$206,'12.Partner Involvement'!$G149))=TRUE,(('12.Partner Involvement'!$D149*'12.Partner Involvement'!$E149)/COUNTA(_xlfn.TEXTSPLIT('12.Partner Involvement'!$G149,\";\"))),\"\")","v":""},{"$f":"IF(ISNUMBER(SEARCH(C$206,'12.Partner Involvement'!$G149))=TRUE,(('12.Partner Involvement'!$D149*'12.Partner Involvement'!$E149)/COUNTA(_xlfn.TEXTSPLIT('12.Partner Involvement'!$G149,\";\"))),\"\")","v":""},null,{"$f":"IF(ISNUMBER(SEARCH(E$206,'12.Partner Involvement'!$H149))=TRUE,(('12.Partner Involvement'!$D149*'12.Partner Involvement'!$E149)/COUNTA(_xlfn.TEXTSPLIT('12.Partner Involvement'!$H149,\";\"))),\"\")","v":""},{"$f":"IF(ISNUMBER(SEARCH(F$206,'12.Partner Involvement'!$H149))=TRUE,(('12.Partner Involvement'!$D149*'12.Partner Involvement'!$E149)/COUNTA(_xlfn.TEXTSPLIT('12.Partner Involvement'!$H149,\";\"))),\"\")","v":""},{"$f":"IF(ISNUMBER(SEARCH(G$206,'12.Partner Involvement'!$H149))=TRUE,(('12.Partner Involvement'!$D149*'12.Partner Involvement'!$E149)/COUNTA(_xlfn.TEXTSPLIT('12.Partner Involvement'!$H149,\";\"))),\"\")","v":""},{"$f":"IF(ISNUMBER(SEARCH(H$206,'12.Partner Involvement'!$H149))=TRUE,(('12.Partner Involvement'!$D149*'12.Partner Involvement'!$E149)/COUNTA(_xlfn.TEXTSPLIT('12.Partner Involvement'!$H149,\";\"))),\"\")","v":""}]
[{"$f":"IF(ISNUMBER(SEARCH(A$206,'12.Partner Involvement'!$G150))=TRUE,(('12.Partner Involvement'!$D150*'12.Partner Involvement'!$E150)/COUNTA(_xlfn.TEXTSPLIT('12.Partner Involvement'!$G150,\";\"))),\"\")","v":""},{"$f":"IF(ISNUMBER(SEARCH(B$206,'12.Partner Involvement'!$G150))=TRUE,(('12.Partner Involvement'!$D150*'12.Partner Involvement'!$E150)/COUNTA(_xlfn.TEXTSPLIT('12.Partner Involvement'!$G150,\";\"))),\"\")","v":""},{"$f":"IF(ISNUMBER(SEARCH(C$206,'12.Partner Involvement'!$G150))=TRUE,(('12.Partner Involvement'!$D150*'12.Partner Involvement'!$E150)/COUNTA(_xlfn.TEXTSPLIT('12.Partner Involvement'!$G150,\";\"))),\"\")","v":""},null,{"$f":"IF(ISNUMBER(SEARCH(E$206,'12.Partner Involvement'!$H150))=TRUE,(('12.Partner Involvement'!$D150*'12.Partner Involvement'!$E150)/COUNTA(_xlfn.TEXTSPLIT('12.Partner Involvement'!$H150,\";\"))),\"\")","v":""},{"$f":"IF(ISNUMBER(SEARCH(F$206,'12.Partner Involvement'!$H150))=TRUE,(('12.Partner Involvement'!$D150*'12.Partner Involvement'!$E150)/COUNTA(_xlfn.TEXTSPLIT('12.Partner Involvement'!$H150,\";\"))),\"\")","v":""},{"$f":"IF(ISNUMBER(SEARCH(G$206,'12.Partner Involvement'!$H150))=TRUE,(('12.Partner Involvement'!$D150*'12.Partner Involvement'!$E150)/COUNTA(_xlfn.TEXTSPLIT('12.Partner Involvement'!$H150,\";\"))),\"\")","v":""},{"$f":"IF(ISNUMBER(SEARCH(H$206,'12.Partner Involvement'!$H150))=TRUE,(('12.Partner Involvement'!$D150*'12.Partner Involvement'!$E150)/COUNTA(_xlfn.TEXTSPLIT('12.Partner Involvement'!$H150,\";\"))),\"\")","v":""}]
[{"$f":"IF(ISNUMBER(SEARCH(A$206,'12.Partner Involvement'!$G151))=TRUE,(('12.Partner Involvement'!$D151*'12.Partner Involvement'!$E151)/COUNTA(_xlfn.TEXTSPLIT('12.Partner Involvement'!$G151,\";\"))),\"\")","v":""},{"$f":"IF(ISNUMBER(SEARCH(B$206,'12.Partner Involvement'!$G151))=TRUE,(('12.Partner Involvement'!$D151*'12.Partner Involvement'!$E151)/COUNTA(_xlfn.TEXTSPLIT('12.Partner Involvement'!$G151,\";\"))),\"\")","v":""},{"$f":"IF(ISNUMBER(SEARCH(C$206,'12.Partner Involvement'!$G151))=TRUE,(('12.Partner Involvement'!$D151*'12.Partner Involvement'!$E151)/COUNTA(_xlfn.TEXTSPLIT('12.Partner Involvement'!$G151,\";\"))),\"\")","v":""},null,{"$f":"IF(ISNUMBER(SEARCH(E$206,'12.Partner Involvement'!$H151))=TRUE,(('12.Partner Involvement'!$D151*'12.Partner Involvement'!$E151)/COUNTA(_xlfn.TEXTSPLIT('12.Partner Involvement'!$H151,\";\"))),\"\")","v":""},{"$f":"IF(ISNUMBER(SEARCH(F$206,'12.Partner Involvement'!$H151))=TRUE,(('12.Partner Involvement'!$D151*'12.Partner Involvement'!$E151)/COUNTA(_xlfn.TEXTSPLIT('12.Partner Involvement'!$H151,\";\"))),\"\")","v":""},{"$f":"IF(ISNUMBER(SEARCH(G$206,'12.Partner Involvement'!$H151))=TRUE,(('12.Partner Involvement'!$D151*'12.Partner Involvement'!$E151)/COUNTA(_xlfn.TEXTSPLIT('12.Partner Involvement'!$H151,\";\"))),\"\")","v":""},{"$f":"IF(ISNUMBER(SEARCH(H$206,'12.Partner Involvement'!$H151))=TRUE,(('12.Partner Involvement'!$D151*'12.Partner Involvement'!$E151)/COUNTA(_xlfn.TEXTSPLIT('12.Partner Involvement'!$H151,\";\"))),\"\")","v":""}]
[{"$f":"IF(ISNUMBER(SEARCH(A$206,'12.Partner Involvement'!$G152))=TRUE,(('12.Partner Involvement'!$D152*'12.Partner Involvement'!$E152)/COUNTA(_xlfn.TEXTSPLIT('12.Partner Involvement'!$G152,\";\"))),\"\")","v":""},{"$f":"IF(ISNUMBER(SEARCH(B$206,'12.Partner Involvement'!$G152))=TRUE,(('12.Partner Involvement'!$D152*'12.Partner Involvement'!$E152)/COUNTA(_xlfn.TEXTSPLIT('12.Partner Involvement'!$G152,\";\"))),\"\")","v":""},{"$f":"IF(ISNUMBER(SEARCH(C$206,'12.Partner Involvement'!$G152))=TRUE,(('12.Partner Involvement'!$D152*'12.Partner Involvement'!$E152)/COUNTA(_xlfn.TEXTSPLIT('12.Partner Involvement'!$G152,\";\"))),\"\")","v":""},null,{"$f":"IF(ISNUMBER(SEARCH(E$206,'12.Partner Involvement'!$H152))=TRUE,(('12.Partner Involvement'!$D152*'12.Partner Involvement'!$E152)/COUNTA(_xlfn.TEXTSPLIT('12.Partner Involvement'!$H152,\";\"))),\"\")","v":""},{"$f":"IF(ISNUMBER(SEARCH(F$206,'12.Partner Involvement'!$H152))=TRUE,(('12.Partner Involvement'!$D152*'12.Partner Involvement'!$E152)/COUNTA(_xlfn.TEXTSPLIT('12.Partner Involvement'!$H152,\";\"))),\"\")","v":""},{"$f":"IF(ISNUMBER(SEARCH(G$206,'12.Partner Involvement'!$H152))=TRUE,(('12.Partner Involvement'!$D152*'12.Partner Involvement'!$E152)/COUNTA(_xlfn.TEXTSPLIT('12.Partner Involvement'!$H152,\";\"))),\"\")","v":""},{"$f":"IF(ISNUMBER(SEARCH(H$206,'12.Partner Involvement'!$H152))=TRUE,(('12.Partner Involvement'!$D152*'12.Partner Involvement'!$E152)/COUNTA(_xlfn.TEXTSPLIT('12.Partner Involvement'!$H152,\";\"))),\"\")","v":""}]
[{"$f":"IF(ISNUMBER(SEARCH(A$206,'12.Partner Involvement'!$G153))=TRUE,(('12.Partner Involvement'!$D153*'12.Partner Involvement'!$E153)/COUNTA(_xlfn.TEXTSPLIT('12.Partner Involvement'!$G153,\";\"))),\"\")","v":""},{"$f":"IF(ISNUMBER(SEARCH(B$206,'12.Partner Involvement'!$G153))=TRUE,(('12.Partner Involvement'!$D153*'12.Partner Involvement'!$E153)/COUNTA(_xlfn.TEXTSPLIT('12.Partner Involvement'!$G153,\";\"))),\"\")","v":""},{"$f":"IF(ISNUMBER(SEARCH(C$206,'12.Partner Involvement'!$G153))=TRUE,(('12.Partner Involvement'!$D153*'12.Partner Involvement'!$E153)/COUNTA(_xlfn.TEXTSPLIT('12.Partner Involvement'!$G153,\";\"))),\"\")","v":""},null,{"$f":"IF(ISNUMBER(SEARCH(E$206,'12.Partner Involvement'!$H153))=TRUE,(('12.Partner Involvement'!$D153*'12.Partner Involvement'!$E153)/COUNTA(_xlfn.TEXTSPLIT('12.Partner Involvement'!$H153,\";\"))),\"\")","v":""},{"$f":"IF(ISNUMBER(SEARCH(F$206,'12.Partner Involvement'!$H153))=TRUE,(('12.Partner Involvement'!$D153*'12.Partner Involvement'!$E153)/COUNTA(_xlfn.TEXTSPLIT('12.Partner Involvement'!$H153,\";\"))),\"\")","v":""},{"$f":"IF(ISNUMBER(SEARCH(G$206,'12.Partner Involvement'!$H153))=TRUE,(('12.Partner Involvement'!$D153*'12.Partner Involvement'!$E153)/COUNTA(_xlfn.TEXTSPLIT('12.Partner Involvement'!$H153,\";\"))),\"\")","v":""},{"$f":"IF(ISNUMBER(SEARCH(H$206,'12.Partner Involvement'!$H153))=TRUE,(('12.Partner Involvement'!$D153*'12.Partner Involvement'!$E153)/COUNTA(_xlfn.TEXTSPLIT('12.Partner Involvement'!$H153,\";\"))),\"\")","v":""}]
[{"$f":"IF(ISNUMBER(SEARCH(A$206,'12.Partner Involvement'!$G154))=TRUE,(('12.Partner Involvement'!$D154*'12.Partner Involvement'!$E154)/COUNTA(_xlfn.TEXTSPLIT('12.Partner Involvement'!$G154,\";\"))),\"\")","v":""},{"$f":"IF(ISNUMBER(SEARCH(B$206,'12.Partner Involvement'!$G154))=TRUE,(('12.Partner Involvement'!$D154*'12.Partner Involvement'!$E154)/COUNTA(_xlfn.TEXTSPLIT('12.Partner Involvement'!$G154,\";\"))),\"\")","v":""},{"$f":"IF(ISNUMBER(SEARCH(C$206,'12.Partner Involvement'!$G154))=TRUE,(('12.Partner Involvement'!$D154*'12.Partner Involvement'!$E154)/COUNTA(_xlfn.TEXTSPLIT('12.Partner Involvement'!$G154,\";\"))),\"\")","v":""},null,{"$f":"IF(ISNUMBER(SEARCH(E$206,'12.Partner Involvement'!$H154))=TRUE,(('12.Partner Involvement'!$D154*'12.Partner Involvement'!$E154)/COUNTA(_xlfn.TEXTSPLIT('12.Partner Involvement'!$H154,\";\"))),\"\")","v":""},{"$f":"IF(ISNUMBER(SEARCH(F$206,'12.Partner Involvement'!$H154))=TRUE,(('12.Partner Involvement'!$D154*'12.Partner Involvement'!$E154)/COUNTA(_xlfn.TEXTSPLIT('12.Partner Involvement'!$H154,\";\"))),\"\")","v":""},{"$f":"IF(ISNUMBER(SEARCH(G$206,'12.Partner Involvement'!$H154))=TRUE,(('12.Partner Involvement'!$D154*'12.Partner Involvement'!$E154)/COUNTA(_xlfn.TEXTSPLIT('12.Partner Involvement'!$H154,\";\"))),\"\")","v":""},{"$f":"IF(ISNUMBER(SEARCH(H$206,'12.Partner Involvement'!$H154))=TRUE,(('12.Partner Involvement'!$D154*'12.Partner Involvement'!$E154)/COUNTA(_xlfn.TEXTSPLIT('12.Partner Involvement'!$H154,\";\"))),\"\")","v":""}]
[{"$f":"IF(ISNUMBER(SEARCH(A$206,'12.Partner Involvement'!$G155))=TRUE,(('12.Partner Involvement'!$D155*'12.Partner Involvement'!$E155)/COUNTA(_xlfn.TEXTSPLIT('12.Partner Involvement'!$G155,\";\"))),\"\")","v":""},{"$f":"IF(ISNUMBER(SEARCH(B$206,'12.Partner Involvement'!$G155))=TRUE,(('12.Partner Involvement'!$D155*'12.Partner Involvement'!$E155)/COUNTA(_xlfn.TEXTSPLIT('12.Partner Involvement'!$G155,\";\"))),\"\")","v":""},{"$f":"IF(ISNUMBER(SEARCH(C$206,'12.Partner Involvement'!$G155))=TRUE,(('12.Partner Involvement'!$D155*'12.Partner Involvement'!$E155)/COUNTA(_xlfn.TEXTSPLIT('12.Partner Involvement'!$G155,\";\"))),\"\")","v":""},null,{"$f":"IF(ISNUMBER(SEARCH(E$206,'12.Partner Involvement'!$H155))=TRUE,(('12.Partner Involvement'!$D155*'12.Partner Involvement'!$E155)/COUNTA(_xlfn.TEXTSPLIT('12.Partner Involvement'!$H155,\";\"))),\"\")","v":""},{"$f":"IF(ISNUMBER(SEARCH(F$206,'12.Partner Involvement'!$H155))=TRUE,(('12.Partner Involvement'!$D155*'12.Partner Involvement'!$E155)/COUNTA(_xlfn.TEXTSPLIT('12.Partner Involvement'!$H155,\";\"))),\"\")","v":""},{"$f":"IF(ISNUMBER(SEARCH(G$206,'12.Partner Involvement'!$H155))=TRUE,(('12.Partner Involvement'!$D155*'12.Partner Involvement'!$E155)/COUNTA(_xlfn.TEXTSPLIT('12.Partner Involvement'!$H155,\";\"))),\"\")","v":""},{"$f":"IF(ISNUMBER(SEARCH(H$206,'12.Partner Involvement'!$H155))=TRUE,(('12.Partner Involvement'!$D155*'12.Partner Involvement'!$E155)/COUNTA(_xlfn.TEXTSPLIT('12.Partner Involvement'!$H155,\";\"))),\"\")","v":""}]
[{"$f":"IF(ISNUMBER(SEARCH(A$206,'12.Partner Involvement'!$G156))=TRUE,(('12.Partner Involvement'!$D156*'12.Partner Involvement'!$E156)/COUNTA(_xlfn.TEXTSPLIT('12.Partner Involvement'!$G156,\";\"))),\"\")","v":""},{"$f":"IF(ISNUMBER(SEARCH(B$206,'12.Partner Involvement'!$G156))=TRUE,(('12.Partner Involvement'!$D156*'12.Partner Involvement'!$E156)/COUNTA(_xlfn.TEXTSPLIT('12.Partner Involvement'!$G156,\";\"))),\"\")","v":""},{"$f":"IF(ISNUMBER(SEARCH(C$206,'12.Partner Involvement'!$G156))=TRUE,(('12.Partner Involvement'!$D156*'12.Partner Involvement'!$E156)/COUNTA(_xlfn.TEXTSPLIT('12.Partner Involvement'!$G156,\";\"))),\"\")","v":""},null,{"$f":"IF(ISNUMBER(SEARCH(E$206,'12.Partner Involvement'!$H156))=TRUE,(('12.Partner Involvement'!$D156*'12.Partner Involvement'!$E156)/COUNTA(_xlfn.TEXTSPLIT('12.Partner Involvement'!$H156,\";\"))),\"\")","v":""},{"$f":"IF(ISNUMBER(SEARCH(F$206,'12.Partner Involvement'!$H156))=TRUE,(('12.Partner Involvement'!$D156*'12.Partner Involvement'!$E156)/COUNTA(_xlfn.TEXTSPLIT('12.Partner Involvement'!$H156,\";\"))),\"\")","v":""},{"$f":"IF(ISNUMBER(SEARCH(G$206,'12.Partner Involvement'!$H156))=TRUE,(('12.Partner Involvement'!$D156*'12.Partner Involvement'!$E156)/COUNTA(_xlfn.TEXTSPLIT('12.Partner Involvement'!$H156,\";\"))),\"\")","v":""},{"$f":"IF(ISNUMBER(SEARCH(H$206,'12.Partner Involvement'!$H156))=TRUE,(('12.Partner Involvement'!$D156*'12.Partner Involvement'!$E156)/COUNTA(_xlfn.TEXTSPLIT('12.Partner Involvement'!$H156,\";\"))),\"\")","v":""}]
[{"$f":"IF(ISNUMBER(SEARCH(A$206,'12.Partner Involvement'!$G157))=TRUE,(('12.Partner Involvement'!$D157*'12.Partner Involvement'!$E157)/COUNTA(_xlfn.TEXTSPLIT('12.Partner Involvement'!$G157,\";\"))),\"\")","v":""},{"$f":"IF(ISNUMBER(SEARCH(B$206,'12.Partner Involvement'!$G157))=TRUE,(('12.Partner Involvement'!$D157*'12.Partner Involvement'!$E157)/COUNTA(_xlfn.TEXTSPLIT('12.Partner Involvement'!$G157,\";\"))),\"\")","v":""},{"$f":"IF(ISNUMBER(SEARCH(C$206,'12.Partner Involvement'!$G157))=TRUE,(('12.Partner Involvement'!$D157*'12.Partner Involvement'!$E157)/COUNTA(_xlfn.TEXTSPLIT('12.Partner Involvement'!$G157,\";\"))),\"\")","v":""},null,{"$f":"IF(ISNUMBER(SEARCH(E$206,'12.Partner Involvement'!$H157))=TRUE,(('12.Partner Involvement'!$D157*'12.Partner Involvement'!$E157)/COUNTA(_xlfn.TEXTSPLIT('12.Partner Involvement'!$H157,\";\"))),\"\")","v":""},{"$f":"IF(ISNUMBER(SEARCH(F$206,'12.Partner Involvement'!$H157))=TRUE,(('12.Partner Involvement'!$D157*'12.Partner Involvement'!$E157)/COUNTA(_xlfn.TEXTSPLIT('12.Partner Involvement'!$H157,\";\"))),\"\")","v":""},{"$f":"IF(ISNUMBER(SEARCH(G$206,'12.Partner Involvement'!$H157))=TRUE,(('12.Partner Involvement'!$D157*'12.Partner Involvement'!$E157)/COUNTA(_xlfn.TEXTSPLIT('12.Partner Involvement'!$H157,\";\"))),\"\")","v":""},{"$f":"IF(ISNUMBER(SEARCH(H$206,'12.Partner Involvement'!$H157))=TRUE,(('12.Partner Involvement'!$D157*'12.Partner Involvement'!$E157)/COUNTA(_xlfn.TEXTSPLIT('12.Partner Involvement'!$H157,\";\"))),\"\")","v":""}]
[{"$f":"IF(ISNUMBER(SEARCH(A$206,'12.Partner Involvement'!$G158))=TRUE,(('12.Partner Involvement'!$D158*'12.Partner Involvement'!$E158)/COUNTA(_xlfn.TEXTSPLIT('12.Partner Involvement'!$G158,\";\"))),\"\")","v":""},{"$f":"IF(ISNUMBER(SEARCH(B$206,'12.Partner Involvement'!$G158))=TRUE,(('12.Partner Involvement'!$D158*'12.Partner Involvement'!$E158)/COUNTA(_xlfn.TEXTSPLIT('12.Partner Involvement'!$G158,\";\"))),\"\")","v":""},{"$f":"IF(ISNUMBER(SEARCH(C$206,'12.Partner Involvement'!$G158))=TRUE,(('12.Partner Involvement'!$D158*'12.Partner Involvement'!$E158)/COUNTA(_xlfn.TEXTSPLIT('12.Partner Involvement'!$G158,\";\"))),\"\")","v":""},null,{"$f":"IF(ISNUMBER(SEARCH(E$206,'12.Partner Involvement'!$H158))=TRUE,(('12.Partner Involvement'!$D158*'12.Partner Involvement'!$E158)/COUNTA(_xlfn.TEXTSPLIT('12.Partner Involvement'!$H158,\";\"))),\"\")","v":""},{"$f":"IF(ISNUMBER(SEARCH(F$206,'12.Partner Involvement'!$H158))=TRUE,(('12.Partner Involvement'!$D158*'12.Partner Involvement'!$E158)/COUNTA(_xlfn.TEXTSPLIT('12.Partner Involvement'!$H158,\";\"))),\"\")","v":""},{"$f":"IF(ISNUMBER(SEARCH(G$206,'12.Partner Involvement'!$H158))=TRUE,(('12.Partner Involvement'!$D158*'12.Partner Involvement'!$E158)/COUNTA(_xlfn.TEXTSPLIT('12.Partner Involvement'!$H158,\";\"))),\"\")","v":""},{"$f":"IF(ISNUMBER(SEARCH(H$206,'12.Partner Involvement'!$H158))=TRUE,(('12.Partner Involvement'!$D158*'12.Partner Involvement'!$E158)/COUNTA(_xlfn.TEXTSPLIT('12.Partner Involvement'!$H158,\";\"))),\"\")","v":""}]
[{"$f":"IF(ISNUMBER(SEARCH(A$206,'12.Partner Involvement'!$G159))=TRUE,(('12.Partner Involvement'!$D159*'12.Partner Involvement'!$E159)/COUNTA(_xlfn.TEXTSPLIT('12.Partner Involvement'!$G159,\";\"))),\"\")","v":""},{"$f":"IF(ISNUMBER(SEARCH(B$206,'12.Partner Involvement'!$G159))=TRUE,(('12.Partner Involvement'!$D159*'12.Partner Involvement'!$E159)/COUNTA(_xlfn.TEXTSPLIT('12.Partner Involvement'!$G159,\";\"))),\"\")","v":""},{"$f":"IF(ISNUMBER(SEARCH(C$206,'12.Partner Involvement'!$G159))=TRUE,(('12.Partner Involvement'!$D159*'12.Partner Involvement'!$E159)/COUNTA(_xlfn.TEXTSPLIT('12.Partner Involvement'!$G159,\";\"))),\"\")","v":""},null,{"$f":"IF(ISNUMBER(SEARCH(E$206,'12.Partner Involvement'!$H159))=TRUE,(('12.Partner Involvement'!$D159*'12.Partner Involvement'!$E159)/COUNTA(_xlfn.TEXTSPLIT('12.Partner Involvement'!$H159,\";\"))),\"\")","v":""},{"$f":"IF(ISNUMBER(SEARCH(F$206,'12.Partner Involvement'!$H159))=TRUE,(('12.Partner Involvement'!$D159*'12.Partner Involvement'!$E159)/COUNTA(_xlfn.TEXTSPLIT('12.Partner Involvement'!$H159,\";\"))),\"\")","v":""},{"$f":"IF(ISNUMBER(SEARCH(G$206,'12.Partner Involvement'!$H159))=TRUE,(('12.Partner Involvement'!$D159*'12.Partner Involvement'!$E159)/COUNTA(_xlfn.TEXTSPLIT('12.Partner Involvement'!$H159,\";\"))),\"\")","v":""},{"$f":"IF(ISNUMBER(SEARCH(H$206,'12.Partner Involvement'!$H159))=TRUE,(('12.Partner Involvement'!$D159*'12.Partner Involvement'!$E159)/COUNTA(_xlfn.TEXTSPLIT('12.Partner Involvement'!$H159,\";\"))),\"\")","v":""}]
[{"$f":"IF(ISNUMBER(SEARCH(A$206,'12.Partner Involvement'!$G160))=TRUE,(('12.Partner Involvement'!$D160*'12.Partner Involvement'!$E160)/COUNTA(_xlfn.TEXTSPLIT('12.Partner Involvement'!$G160,\";\"))),\"\")","v":""},{"$f":"IF(ISNUMBER(SEARCH(B$206,'12.Partner Involvement'!$G160))=TRUE,(('12.Partner Involvement'!$D160*'12.Partner Involvement'!$E160)/COUNTA(_xlfn.TEXTSPLIT('12.Partner Involvement'!$G160,\";\"))),\"\")","v":""},{"$f":"IF(ISNUMBER(SEARCH(C$206,'12.Partner Involvement'!$G160))=TRUE,(('12.Partner Involvement'!$D160*'12.Partner Involvement'!$E160)/COUNTA(_xlfn.TEXTSPLIT('12.Partner Involvement'!$G160,\";\"))),\"\")","v":""},null,{"$f":"IF(ISNUMBER(SEARCH(E$206,'12.Partner Involvement'!$H160))=TRUE,(('12.Partner Involvement'!$D160*'12.Partner Involvement'!$E160)/COUNTA(_xlfn.TEXTSPLIT('12.Partner Involvement'!$H160,\";\"))),\"\")","v":""},{"$f":"IF(ISNUMBER(SEARCH(F$206,'12.Partner Involvement'!$H160))=TRUE,(('12.Partner Involvement'!$D160*'12.Partner Involvement'!$E160)/COUNTA(_xlfn.TEXTSPLIT('12.Partner Involvement'!$H160,\";\"))),\"\")","v":""},{"$f":"IF(ISNUMBER(SEARCH(G$206,'12.Partner Involvement'!$H160))=TRUE,(('12.Partner Involvement'!$D160*'12.Partner Involvement'!$E160)/COUNTA(_xlfn.TEXTSPLIT('12.Partner Involvement'!$H160,\";\"))),\"\")","v":""},{"$f":"IF(ISNUMBER(SEARCH(H$206,'12.Partner Involvement'!$H160))=TRUE,(('12.Partner Involvement'!$D160*'12.Partner Involvement'!$E160)/COUNTA(_xlfn.TEXTSPLIT('12.Partner Involvement'!$H160,\";\"))),\"\")","v":""}]
[{"$f":"IF(ISNUMBER(SEARCH(A$206,'12.Partner Involvement'!$G161))=TRUE,(('12.Partner Involvement'!$D161*'12.Partner Involvement'!$E161)/COUNTA(_xlfn.TEXTSPLIT('12.Partner Involvement'!$G161,\";\"))),\"\")","v":""},{"$f":"IF(ISNUMBER(SEARCH(B$206,'12.Partner Involvement'!$G161))=TRUE,(('12.Partner Involvement'!$D161*'12.Partner Involvement'!$E161)/COUNTA(_xlfn.TEXTSPLIT('12.Partner Involvement'!$G161,\";\"))),\"\")","v":""},{"$f":"IF(ISNUMBER(SEARCH(C$206,'12.Partner Involvement'!$G161))=TRUE,(('12.Partner Involvement'!$D161*'12.Partner Involvement'!$E161)/COUNTA(_xlfn.TEXTSPLIT('12.Partner Involvement'!$G161,\";\"))),\"\")","v":""},null,{"$f":"IF(ISNUMBER(SEARCH(E$206,'12.Partner Involvement'!$H161))=TRUE,(('12.Partner Involvement'!$D161*'12.Partner Involvement'!$E161)/COUNTA(_xlfn.TEXTSPLIT('12.Partner Involvement'!$H161,\";\"))),\"\")","v":""},{"$f":"IF(ISNUMBER(SEARCH(F$206,'12.Partner Involvement'!$H161))=TRUE,(('12.Partner Involvement'!$D161*'12.Partner Involvement'!$E161)/COUNTA(_xlfn.TEXTSPLIT('12.Partner Involvement'!$H161,\";\"))),\"\")","v":""},{"$f":"IF(ISNUMBER(SEARCH(G$206,'12.Partner Involvement'!$H161))=TRUE,(('12.Partner Involvement'!$D161*'12.Partner Involvement'!$E161)/COUNTA(_xlfn.TEXTSPLIT('12.Partner Involvement'!$H161,\";\"))),\"\")","v":""},{"$f":"IF(ISNUMBER(SEARCH(H$206,'12.Partner Involvement'!$H161))=TRUE,(('12.Partner Involvement'!$D161*'12.Partner Involvement'!$E161)/COUNTA(_xlfn.TEXTSPLIT('12.Partner Involvement'!$H161,\";\"))),\"\")","v":""}]
[{"$f":"IF(ISNUMBER(SEARCH(A$206,'12.Partner Involvement'!$G162))=TRUE,(('12.Partner Involvement'!$D162*'12.Partner Involvement'!$E162)/COUNTA(_xlfn.TEXTSPLIT('12.Partner Involvement'!$G162,\";\"))),\"\")","v":""},{"$f":"IF(ISNUMBER(SEARCH(B$206,'12.Partner Involvement'!$G162))=TRUE,(('12.Partner Involvement'!$D162*'12.Partner Involvement'!$E162)/COUNTA(_xlfn.TEXTSPLIT('12.Partner Involvement'!$G162,\";\"))),\"\")","v":""},{"$f":"IF(ISNUMBER(SEARCH(C$206,'12.Partner Involvement'!$G162))=TRUE,(('12.Partner Involvement'!$D162*'12.Partner Involvement'!$E162)/COUNTA(_xlfn.TEXTSPLIT('12.Partner Involvement'!$G162,\";\"))),\"\")","v":""},null,{"$f":"IF(ISNUMBER(SEARCH(E$206,'12.Partner Involvement'!$H162))=TRUE,(('12.Partner Involvement'!$D162*'12.Partner Involvement'!$E162)/COUNTA(_xlfn.TEXTSPLIT('12.Partner Involvement'!$H162,\";\"))),\"\")","v":""},{"$f":"IF(ISNUMBER(SEARCH(F$206,'12.Partner Involvement'!$H162))=TRUE,(('12.Partner Involvement'!$D162*'12.Partner Involvement'!$E162)/COUNTA(_xlfn.TEXTSPLIT('12.Partner Involvement'!$H162,\";\"))),\"\")","v":""},{"$f":"IF(ISNUMBER(SEARCH(G$206,'12.Partner Involvement'!$H162))=TRUE,(('12.Partner Involvement'!$D162*'12.Partner Involvement'!$E162)/COUNTA(_xlfn.TEXTSPLIT('12.Partner Involvement'!$H162,\";\"))),\"\")","v":""},{"$f":"IF(ISNUMBER(SEARCH(H$206,'12.Partner Involvement'!$H162))=TRUE,(('12.Partner Involvement'!$D162*'12.Partner Involvement'!$E162)/COUNTA(_xlfn.TEXTSPLIT('12.Partner Involvement'!$H162,\";\"))),\"\")","v":""}]
[{"$f":"IF(ISNUMBER(SEARCH(A$206,'12.Partner Involvement'!$G163))=TRUE,(('12.Partner Involvement'!$D163*'12.Partner Involvement'!$E163)/COUNTA(_xlfn.TEXTSPLIT('12.Partner Involvement'!$G163,\";\"))),\"\")","v":""},{"$f":"IF(ISNUMBER(SEARCH(B$206,'12.Partner Involvement'!$G163))=TRUE,(('12.Partner Involvement'!$D163*'12.Partner Involvement'!$E163)/COUNTA(_xlfn.TEXTSPLIT('12.Partner Involvement'!$G163,\";\"))),\"\")","v":""},{"$f":"IF(ISNUMBER(SEARCH(C$206,'12.Partner Involvement'!$G163))=TRUE,(('12.Partner Involvement'!$D163*'12.Partner Involvement'!$E163)/COUNTA(_xlfn.TEXTSPLIT('12.Partner Involvement'!$G163,\";\"))),\"\")","v":""},null,{"$f":"IF(ISNUMBER(SEARCH(E$206,'12.Partner Involvement'!$H163))=TRUE,(('12.Partner Involvement'!$D163*'12.Partner Involvement'!$E163)/COUNTA(_xlfn.TEXTSPLIT('12.Partner Involvement'!$H163,\";\"))),\"\")","v":""},{"$f":"IF(ISNUMBER(SEARCH(F$206,'12.Partner Involvement'!$H163))=TRUE,(('12.Partner Involvement'!$D163*'12.Partner Involvement'!$E163)/COUNTA(_xlfn.TEXTSPLIT('12.Partner Involvement'!$H163,\";\"))),\"\")","v":""},{"$f":"IF(ISNUMBER(SEARCH(G$206,'12.Partner Involvement'!$H163))=TRUE,(('12.Partner Involvement'!$D163*'12.Partner Involvement'!$E163)/COUNTA(_xlfn.TEXTSPLIT('12.Partner Involvement'!$H163,\";\"))),\"\")","v":""},{"$f":"IF(ISNUMBER(SEARCH(H$206,'12.Partner Involvement'!$H163))=TRUE,(('12.Partner Involvement'!$D163*'12.Partner Involvement'!$E163)/COUNTA(_xlfn.TEXTSPLIT('12.Partner Involvement'!$H163,\";\"))),\"\")","v":""}]
[{"$f":"IF(ISNUMBER(SEARCH(A$206,'12.Partner Involvement'!$G164))=TRUE,(('12.Partner Involvement'!$D164*'12.Partner Involvement'!$E164)/COUNTA(_xlfn.TEXTSPLIT('12.Partner Involvement'!$G164,\";\"))),\"\")","v":""},{"$f":"IF(ISNUMBER(SEARCH(B$206,'12.Partner Involvement'!$G164))=TRUE,(('12.Partner Involvement'!$D164*'12.Partner Involvement'!$E164)/COUNTA(_xlfn.TEXTSPLIT('12.Partner Involvement'!$G164,\";\"))),\"\")","v":""},{"$f":"IF(ISNUMBER(SEARCH(C$206,'12.Partner Involvement'!$G164))=TRUE,(('12.Partner Involvement'!$D164*'12.Partner Involvement'!$E164)/COUNTA(_xlfn.TEXTSPLIT('12.Partner Involvement'!$G164,\";\"))),\"\")","v":""},null,{"$f":"IF(ISNUMBER(SEARCH(E$206,'12.Partner Involvement'!$H164))=TRUE,(('12.Partner Involvement'!$D164*'12.Partner Involvement'!$E164)/COUNTA(_xlfn.TEXTSPLIT('12.Partner Involvement'!$H164,\";\"))),\"\")","v":""},{"$f":"IF(ISNUMBER(SEARCH(F$206,'12.Partner Involvement'!$H164))=TRUE,(('12.Partner Involvement'!$D164*'12.Partner Involvement'!$E164)/COUNTA(_xlfn.TEXTSPLIT('12.Partner Involvement'!$H164,\";\"))),\"\")","v":""},{"$f":"IF(ISNUMBER(SEARCH(G$206,'12.Partner Involvement'!$H164))=TRUE,(('12.Partner Involvement'!$D164*'12.Partner Involvement'!$E164)/COUNTA(_xlfn.TEXTSPLIT('12.Partner Involvement'!$H164,\";\"))),\"\")","v":""},{"$f":"IF(ISNUMBER(SEARCH(H$206,'12.Partner Involvement'!$H164))=TRUE,(('12.Partner Involvement'!$D164*'12.Partner Involvement'!$E164)/COUNTA(_xlfn.TEXTSPLIT('12.Partner Involvement'!$H164,\";\"))),\"\")","v":""}]
[{"$f":"IF(ISNUMBER(SEARCH(A$206,'12.Partner Involvement'!$G165))=TRUE,(('12.Partner Involvement'!$D165*'12.Partner Involvement'!$E165)/COUNTA(_xlfn.TEXTSPLIT('12.Partner Involvement'!$G165,\";\"))),\"\")","v":""},{"$f":"IF(ISNUMBER(SEARCH(B$206,'12.Partner Involvement'!$G165))=TRUE,(('12.Partner Involvement'!$D165*'12.Partner Involvement'!$E165)/COUNTA(_xlfn.TEXTSPLIT('12.Partner Involvement'!$G165,\";\"))),\"\")","v":""},{"$f":"IF(ISNUMBER(SEARCH(C$206,'12.Partner Involvement'!$G165))=TRUE,(('12.Partner Involvement'!$D165*'12.Partner Involvement'!$E165)/COUNTA(_xlfn.TEXTSPLIT('12.Partner Involvement'!$G165,\";\"))),\"\")","v":""},null,{"$f":"IF(ISNUMBER(SEARCH(E$206,'12.Partner Involvement'!$H165))=TRUE,(('12.Partner Involvement'!$D165*'12.Partner Involvement'!$E165)/COUNTA(_xlfn.TEXTSPLIT('12.Partner Involvement'!$H165,\";\"))),\"\")","v":""},{"$f":"IF(ISNUMBER(SEARCH(F$206,'12.Partner Involvement'!$H165))=TRUE,(('12.Partner Involvement'!$D165*'12.Partner Involvement'!$E165)/COUNTA(_xlfn.TEXTSPLIT('12.Partner Involvement'!$H165,\";\"))),\"\")","v":""},{"$f":"IF(ISNUMBER(SEARCH(G$206,'12.Partner Involvement'!$H165))=TRUE,(('12.Partner Involvement'!$D165*'12.Partner Involvement'!$E165)/COUNTA(_xlfn.TEXTSPLIT('12.Partner Involvement'!$H165,\";\"))),\"\")","v":""},{"$f":"IF(ISNUMBER(SEARCH(H$206,'12.Partner Involvement'!$H165))=TRUE,(('12.Partner Involvement'!$D165*'12.Partner Involvement'!$E165)/COUNTA(_xlfn.TEXTSPLIT('12.Partner Involvement'!$H165,\";\"))),\"\")","v":""}]
[{"$f":"IF(ISNUMBER(SEARCH(A$206,'12.Partner Involvement'!$G166))=TRUE,(('12.Partner Involvement'!$D166*'12.Partner Involvement'!$E166)/COUNTA(_xlfn.TEXTSPLIT('12.Partner Involvement'!$G166,\";\"))),\"\")","v":""},{"$f":"IF(ISNUMBER(SEARCH(B$206,'12.Partner Involvement'!$G166))=TRUE,(('12.Partner Involvement'!$D166*'12.Partner Involvement'!$E166)/COUNTA(_xlfn.TEXTSPLIT('12.Partner Involvement'!$G166,\";\"))),\"\")","v":""},{"$f":"IF(ISNUMBER(SEARCH(C$206,'12.Partner Involvement'!$G166))=TRUE,(('12.Partner Involvement'!$D166*'12.Partner Involvement'!$E166)/COUNTA(_xlfn.TEXTSPLIT('12.Partner Involvement'!$G166,\";\"))),\"\")","v":""},null,{"$f":"IF(ISNUMBER(SEARCH(E$206,'12.Partner Involvement'!$H166))=TRUE,(('12.Partner Involvement'!$D166*'12.Partner Involvement'!$E166)/COUNTA(_xlfn.TEXTSPLIT('12.Partner Involvement'!$H166,\";\"))),\"\")","v":""},{"$f":"IF(ISNUMBER(SEARCH(F$206,'12.Partner Involvement'!$H166))=TRUE,(('12.Partner Involvement'!$D166*'12.Partner Involvement'!$E166)/COUNTA(_xlfn.TEXTSPLIT('12.Partner Involvement'!$H166,\";\"))),\"\")","v":""},{"$f":"IF(ISNUMBER(SEARCH(G$206,'12.Partner Involvement'!$H166))=TRUE,(('12.Partner Involvement'!$D166*'12.Partner Involvement'!$E166)/COUNTA(_xlfn.TEXTSPLIT('12.Partner Involvement'!$H166,\";\"))),\"\")","v":""},{"$f":"IF(ISNUMBER(SEARCH(H$206,'12.Partner Involvement'!$H166))=TRUE,(('12.Partner Involvement'!$D166*'12.Partner Involvement'!$E166)/COUNTA(_xlfn.TEXTSPLIT('12.Partner Involvement'!$H166,\";\"))),\"\")","v":""}]
[{"$f":"IF(ISNUMBER(SEARCH(A$206,'12.Partner Involvement'!$G167))=TRUE,(('12.Partner Involvement'!$D167*'12.Partner Involvement'!$E167)/COUNTA(_xlfn.TEXTSPLIT('12.Partner Involvement'!$G167,\";\"))),\"\")","v":""},{"$f":"IF(ISNUMBER(SEARCH(B$206,'12.Partner Involvement'!$G167))=TRUE,(('12.Partner Involvement'!$D167*'12.Partner Involvement'!$E167)/COUNTA(_xlfn.TEXTSPLIT('12.Partner Involvement'!$G167,\";\"))),\"\")","v":""},{"$f":"IF(ISNUMBER(SEARCH(C$206,'12.Partner Involvement'!$G167))=TRUE,(('12.Partner Involvement'!$D167*'12.Partner Involvement'!$E167)/COUNTA(_xlfn.TEXTSPLIT('12.Partner Involvement'!$G167,\";\"))),\"\")","v":""},null,{"$f":"IF(ISNUMBER(SEARCH(E$206,'12.Partner Involvement'!$H167))=TRUE,(('12.Partner Involvement'!$D167*'12.Partner Involvement'!$E167)/COUNTA(_xlfn.TEXTSPLIT('12.Partner Involvement'!$H167,\";\"))),\"\")","v":""},{"$f":"IF(ISNUMBER(SEARCH(F$206,'12.Partner Involvement'!$H167))=TRUE,(('12.Partner Involvement'!$D167*'12.Partner Involvement'!$E167)/COUNTA(_xlfn.TEXTSPLIT('12.Partner Involvement'!$H167,\";\"))),\"\")","v":""},{"$f":"IF(ISNUMBER(SEARCH(G$206,'12.Partner Involvement'!$H167))=TRUE,(('12.Partner Involvement'!$D167*'12.Partner Involvement'!$E167)/COUNTA(_xlfn.TEXTSPLIT('12.Partner Involvement'!$H167,\";\"))),\"\")","v":""},{"$f":"IF(ISNUMBER(SEARCH(H$206,'12.Partner Involvement'!$H167))=TRUE,(('12.Partner Involvement'!$D167*'12.Partner Involvement'!$E167)/COUNTA(_xlfn.TEXTSPLIT('12.Partner Involvement'!$H167,\";\"))),\"\")","v":""}]
[{"$f":"IF(ISNUMBER(SEARCH(A$206,'12.Partner Involvement'!$G168))=TRUE,(('12.Partner Involvement'!$D168*'12.Partner Involvement'!$E168)/COUNTA(_xlfn.TEXTSPLIT('12.Partner Involvement'!$G168,\";\"))),\"\")","v":""},{"$f":"IF(ISNUMBER(SEARCH(B$206,'12.Partner Involvement'!$G168))=TRUE,(('12.Partner Involvement'!$D168*'12.Partner Involvement'!$E168)/COUNTA(_xlfn.TEXTSPLIT('12.Partner Involvement'!$G168,\";\"))),\"\")","v":""},{"$f":"IF(ISNUMBER(SEARCH(C$206,'12.Partner Involvement'!$G168))=TRUE,(('12.Partner Involvement'!$D168*'12.Partner Involvement'!$E168)/COUNTA(_xlfn.TEXTSPLIT('12.Partner Involvement'!$G168,\";\"))),\"\")","v":""},null,{"$f":"IF(ISNUMBER(SEARCH(E$206,'12.Partner Involvement'!$H168))=TRUE,(('12.Partner Involvement'!$D168*'12.Partner Involvement'!$E168)/COUNTA(_xlfn.TEXTSPLIT('12.Partner Involvement'!$H168,\";\"))),\"\")","v":""},{"$f":"IF(ISNUMBER(SEARCH(F$206,'12.Partner Involvement'!$H168))=TRUE,(('12.Partner Involvement'!$D168*'12.Partner Involvement'!$E168)/COUNTA(_xlfn.TEXTSPLIT('12.Partner Involvement'!$H168,\";\"))),\"\")","v":""},{"$f":"IF(ISNUMBER(SEARCH(G$206,'12.Partner Involvement'!$H168))=TRUE,(('12.Partner Involvement'!$D168*'12.Partner Involvement'!$E168)/COUNTA(_xlfn.TEXTSPLIT('12.Partner Involvement'!$H168,\";\"))),\"\")","v":""},{"$f":"IF(ISNUMBER(SEARCH(H$206,'12.Partner Involvement'!$H168))=TRUE,(('12.Partner Involvement'!$D168*'12.Partner Involvement'!$E168)/COUNTA(_xlfn.TEXTSPLIT('12.Partner Involvement'!$H168,\";\"))),\"\")","v":""}]
[{"$f":"IF(ISNUMBER(SEARCH(A$206,'12.Partner Involvement'!$G169))=TRUE,(('12.Partner Involvement'!$D169*'12.Partner Involvement'!$E169)/COUNTA(_xlfn.TEXTSPLIT('12.Partner Involvement'!$G169,\";\"))),\"\")","v":""},{"$f":"IF(ISNUMBER(SEARCH(B$206,'12.Partner Involvement'!$G169))=TRUE,(('12.Partner Involvement'!$D169*'12.Partner Involvement'!$E169)/COUNTA(_xlfn.TEXTSPLIT('12.Partner Involvement'!$G169,\";\"))),\"\")","v":""},{"$f":"IF(ISNUMBER(SEARCH(C$206,'12.Partner Involvement'!$G169))=TRUE,(('12.Partner Involvement'!$D169*'12.Partner Involvement'!$E169)/COUNTA(_xlfn.TEXTSPLIT('12.Partner Involvement'!$G169,\";\"))),\"\")","v":""},null,{"$f":"IF(ISNUMBER(SEARCH(E$206,'12.Partner Involvement'!$H169))=TRUE,(('12.Partner Involvement'!$D169*'12.Partner Involvement'!$E169)/COUNTA(_xlfn.TEXTSPLIT('12.Partner Involvement'!$H169,\";\"))),\"\")","v":""},{"$f":"IF(ISNUMBER(SEARCH(F$206,'12.Partner Involvement'!$H169))=TRUE,(('12.Partner Involvement'!$D169*'12.Partner Involvement'!$E169)/COUNTA(_xlfn.TEXTSPLIT('12.Partner Involvement'!$H169,\";\"))),\"\")","v":""},{"$f":"IF(ISNUMBER(SEARCH(G$206,'12.Partner Involvement'!$H169))=TRUE,(('12.Partner Involvement'!$D169*'12.Partner Involvement'!$E169)/COUNTA(_xlfn.TEXTSPLIT('12.Partner Involvement'!$H169,\";\"))),\"\")","v":""},{"$f":"IF(ISNUMBER(SEARCH(H$206,'12.Partner Involvement'!$H169))=TRUE,(('12.Partner Involvement'!$D169*'12.Partner Involvement'!$E169)/COUNTA(_xlfn.TEXTSPLIT('12.Partner Involvement'!$H169,\";\"))),\"\")","v":""}]
[{"$f":"IF(ISNUMBER(SEARCH(A$206,'12.Partner Involvement'!$G170))=TRUE,(('12.Partner Involvement'!$D170*'12.Partner Involvement'!$E170)/COUNTA(_xlfn.TEXTSPLIT('12.Partner Involvement'!$G170,\";\"))),\"\")","v":""},{"$f":"IF(ISNUMBER(SEARCH(B$206,'12.Partner Involvement'!$G170))=TRUE,(('12.Partner Involvement'!$D170*'12.Partner Involvement'!$E170)/COUNTA(_xlfn.TEXTSPLIT('12.Partner Involvement'!$G170,\";\"))),\"\")","v":""},{"$f":"IF(ISNUMBER(SEARCH(C$206,'12.Partner Involvement'!$G170))=TRUE,(('12.Partner Involvement'!$D170*'12.Partner Involvement'!$E170)/COUNTA(_xlfn.TEXTSPLIT('12.Partner Involvement'!$G170,\";\"))),\"\")","v":""},null,{"$f":"IF(ISNUMBER(SEARCH(E$206,'12.Partner Involvement'!$H170))=TRUE,(('12.Partner Involvement'!$D170*'12.Partner Involvement'!$E170)/COUNTA(_xlfn.TEXTSPLIT('12.Partner Involvement'!$H170,\";\"))),\"\")","v":""},{"$f":"IF(ISNUMBER(SEARCH(F$206,'12.Partner Involvement'!$H170))=TRUE,(('12.Partner Involvement'!$D170*'12.Partner Involvement'!$E170)/COUNTA(_xlfn.TEXTSPLIT('12.Partner Involvement'!$H170,\";\"))),\"\")","v":""},{"$f":"IF(ISNUMBER(SEARCH(G$206,'12.Partner Involvement'!$H170))=TRUE,(('12.Partner Involvement'!$D170*'12.Partner Involvement'!$E170)/COUNTA(_xlfn.TEXTSPLIT('12.Partner Involvement'!$H170,\";\"))),\"\")","v":""},{"$f":"IF(ISNUMBER(SEARCH(H$206,'12.Partner Involvement'!$H170))=TRUE,(('12.Partner Involvement'!$D170*'12.Partner Involvement'!$E170)/COUNTA(_xlfn.TEXTSPLIT('12.Partner Involvement'!$H170,\";\"))),\"\")","v":""}]
[{"$f":"IF(ISNUMBER(SEARCH(A$206,'12.Partner Involvement'!$G171))=TRUE,(('12.Partner Involvement'!$D171*'12.Partner Involvement'!$E171)/COUNTA(_xlfn.TEXTSPLIT('12.Partner Involvement'!$G171,\";\"))),\"\")","v":""},{"$f":"IF(ISNUMBER(SEARCH(B$206,'12.Partner Involvement'!$G171))=TRUE,(('12.Partner Involvement'!$D171*'12.Partner Involvement'!$E171)/COUNTA(_xlfn.TEXTSPLIT('12.Partner Involvement'!$G171,\";\"))),\"\")","v":""},{"$f":"IF(ISNUMBER(SEARCH(C$206,'12.Partner Involvement'!$G171))=TRUE,(('12.Partner Involvement'!$D171*'12.Partner Involvement'!$E171)/COUNTA(_xlfn.TEXTSPLIT('12.Partner Involvement'!$G171,\";\"))),\"\")","v":""},null,{"$f":"IF(ISNUMBER(SEARCH(E$206,'12.Partner Involvement'!$H171))=TRUE,(('12.Partner Involvement'!$D171*'12.Partner Involvement'!$E171)/COUNTA(_xlfn.TEXTSPLIT('12.Partner Involvement'!$H171,\";\"))),\"\")","v":""},{"$f":"IF(ISNUMBER(SEARCH(F$206,'12.Partner Involvement'!$H171))=TRUE,(('12.Partner Involvement'!$D171*'12.Partner Involvement'!$E171)/COUNTA(_xlfn.TEXTSPLIT('12.Partner Involvement'!$H171,\";\"))),\"\")","v":""},{"$f":"IF(ISNUMBER(SEARCH(G$206,'12.Partner Involvement'!$H171))=TRUE,(('12.Partner Involvement'!$D171*'12.Partner Involvement'!$E171)/COUNTA(_xlfn.TEXTSPLIT('12.Partner Involvement'!$H171,\";\"))),\"\")","v":""},{"$f":"IF(ISNUMBER(SEARCH(H$206,'12.Partner Involvement'!$H171))=TRUE,(('12.Partner Involvement'!$D171*'12.Partner Involvement'!$E171)/COUNTA(_xlfn.TEXTSPLIT('12.Partner Involvement'!$H171,\";\"))),\"\")","v":""}]
[{"$f":"IF(ISNUMBER(SEARCH(A$206,'12.Partner Involvement'!$G172))=TRUE,(('12.Partner Involvement'!$D172*'12.Partner Involvement'!$E172)/COUNTA(_xlfn.TEXTSPLIT('12.Partner Involvement'!$G172,\";\"))),\"\")","v":""},{"$f":"IF(ISNUMBER(SEARCH(B$206,'12.Partner Involvement'!$G172))=TRUE,(('12.Partner Involvement'!$D172*'12.Partner Involvement'!$E172)/COUNTA(_xlfn.TEXTSPLIT('12.Partner Involvement'!$G172,\";\"))),\"\")","v":""},{"$f":"IF(ISNUMBER(SEARCH(C$206,'12.Partner Involvement'!$G172))=TRUE,(('12.Partner Involvement'!$D172*'12.Partner Involvement'!$E172)/COUNTA(_xlfn.TEXTSPLIT('12.Partner Involvement'!$G172,\";\"))),\"\")","v":""},null,{"$f":"IF(ISNUMBER(SEARCH(E$206,'12.Partner Involvement'!$H172))=TRUE,(('12.Partner Involvement'!$D172*'12.Partner Involvement'!$E172)/COUNTA(_xlfn.TEXTSPLIT('12.Partner Involvement'!$H172,\";\"))),\"\")","v":""},{"$f":"IF(ISNUMBER(SEARCH(F$206,'12.Partner Involvement'!$H172))=TRUE,(('12.Partner Involvement'!$D172*'12.Partner Involvement'!$E172)/COUNTA(_xlfn.TEXTSPLIT('12.Partner Involvement'!$H172,\";\"))),\"\")","v":""},{"$f":"IF(ISNUMBER(SEARCH(G$206,'12.Partner Involvement'!$H172))=TRUE,(('12.Partner Involvement'!$D172*'12.Partner Involvement'!$E172)/COUNTA(_xlfn.TEXTSPLIT('12.Partner Involvement'!$H172,\";\"))),\"\")","v":""},{"$f":"IF(ISNUMBER(SEARCH(H$206,'12.Partner Involvement'!$H172))=TRUE,(('12.Partner Involvement'!$D172*'12.Partner Involvement'!$E172)/COUNTA(_xlfn.TEXTSPLIT('12.Partner Involvement'!$H172,\";\"))),\"\")","v":""}]
[{"$f":"IF(ISNUMBER(SEARCH(A$206,'12.Partner Involvement'!$G173))=TRUE,(('12.Partner Involvement'!$D173*'12.Partner Involvement'!$E173)/COUNTA(_xlfn.TEXTSPLIT('12.Partner Involvement'!$G173,\";\"))),\"\")","v":""},{"$f":"IF(ISNUMBER(SEARCH(B$206,'12.Partner Involvement'!$G173))=TRUE,(('12.Partner Involvement'!$D173*'12.Partner Involvement'!$E173)/COUNTA(_xlfn.TEXTSPLIT('12.Partner Involvement'!$G173,\";\"))),\"\")","v":""},{"$f":"IF(ISNUMBER(SEARCH(C$206,'12.Partner Involvement'!$G173))=TRUE,(('12.Partner Involvement'!$D173*'12.Partner Involvement'!$E173)/COUNTA(_xlfn.TEXTSPLIT('12.Partner Involvement'!$G173,\";\"))),\"\")","v":""},null,{"$f":"IF(ISNUMBER(SEARCH(E$206,'12.Partner Involvement'!$H173))=TRUE,(('12.Partner Involvement'!$D173*'12.Partner Involvement'!$E173)/COUNTA(_xlfn.TEXTSPLIT('12.Partner Involvement'!$H173,\";\"))),\"\")","v":""},{"$f":"IF(ISNUMBER(SEARCH(F$206,'12.Partner Involvement'!$H173))=TRUE,(('12.Partner Involvement'!$D173*'12.Partner Involvement'!$E173)/COUNTA(_xlfn.TEXTSPLIT('12.Partner Involvement'!$H173,\";\"))),\"\")","v":""},{"$f":"IF(ISNUMBER(SEARCH(G$206,'12.Partner Involvement'!$H173))=TRUE,(('12.Partner Involvement'!$D173*'12.Partner Involvement'!$E173)/COUNTA(_xlfn.TEXTSPLIT('12.Partner Involvement'!$H173,\";\"))),\"\")","v":""},{"$f":"IF(ISNUMBER(SEARCH(H$206,'12.Partner Involvement'!$H173))=TRUE,(('12.Partner Involvement'!$D173*'12.Partner Involvement'!$E173)/COUNTA(_xlfn.TEXTSPLIT('12.Partner Involvement'!$H173,\";\"))),\"\")","v":""}]
[{"$f":"IF(ISNUMBER(SEARCH(A$206,'12.Partner Involvement'!$G174))=TRUE,(('12.Partner Involvement'!$D174*'12.Partner Involvement'!$E174)/COUNTA(_xlfn.TEXTSPLIT('12.Partner Involvement'!$G174,\";\"))),\"\")","v":""},{"$f":"IF(ISNUMBER(SEARCH(B$206,'12.Partner Involvement'!$G174))=TRUE,(('12.Partner Involvement'!$D174*'12.Partner Involvement'!$E174)/COUNTA(_xlfn.TEXTSPLIT('12.Partner Involvement'!$G174,\";\"))),\"\")","v":""},{"$f":"IF(ISNUMBER(SEARCH(C$206,'12.Partner Involvement'!$G174))=TRUE,(('12.Partner Involvement'!$D174*'12.Partner Involvement'!$E174)/COUNTA(_xlfn.TEXTSPLIT('12.Partner Involvement'!$G174,\";\"))),\"\")","v":""},null,{"$f":"IF(ISNUMBER(SEARCH(E$206,'12.Partner Involvement'!$H174))=TRUE,(('12.Partner Involvement'!$D174*'12.Partner Involvement'!$E174)/COUNTA(_xlfn.TEXTSPLIT('12.Partner Involvement'!$H174,\";\"))),\"\")","v":""},{"$f":"IF(ISNUMBER(SEARCH(F$206,'12.Partner Involvement'!$H174))=TRUE,(('12.Partner Involvement'!$D174*'12.Partner Involvement'!$E174)/COUNTA(_xlfn.TEXTSPLIT('12.Partner Involvement'!$H174,\";\"))),\"\")","v":""},{"$f":"IF(ISNUMBER(SEARCH(G$206,'12.Partner Involvement'!$H174))=TRUE,(('12.Partner Involvement'!$D174*'12.Partner Involvement'!$E174)/COUNTA(_xlfn.TEXTSPLIT('12.Partner Involvement'!$H174,\";\"))),\"\")","v":""},{"$f":"IF(ISNUMBER(SEARCH(H$206,'12.Partner Involvement'!$H174))=TRUE,(('12.Partner Involvement'!$D174*'12.Partner Involvement'!$E174)/COUNTA(_xlfn.TEXTSPLIT('12.Partner Involvement'!$H174,\";\"))),\"\")","v":""}]
[{"$f":"IF(ISNUMBER(SEARCH(A$206,'12.Partner Involvement'!$G175))=TRUE,(('12.Partner Involvement'!$D175*'12.Partner Involvement'!$E175)/COUNTA(_xlfn.TEXTSPLIT('12.Partner Involvement'!$G175,\";\"))),\"\")","v":""},{"$f":"IF(ISNUMBER(SEARCH(B$206,'12.Partner Involvement'!$G175))=TRUE,(('12.Partner Involvement'!$D175*'12.Partner Involvement'!$E175)/COUNTA(_xlfn.TEXTSPLIT('12.Partner Involvement'!$G175,\";\"))),\"\")","v":""},{"$f":"IF(ISNUMBER(SEARCH(C$206,'12.Partner Involvement'!$G175))=TRUE,(('12.Partner Involvement'!$D175*'12.Partner Involvement'!$E175)/COUNTA(_xlfn.TEXTSPLIT('12.Partner Involvement'!$G175,\";\"))),\"\")","v":""},null,{"$f":"IF(ISNUMBER(SEARCH(E$206,'12.Partner Involvement'!$H175))=TRUE,(('12.Partner Involvement'!$D175*'12.Partner Involvement'!$E175)/COUNTA(_xlfn.TEXTSPLIT('12.Partner Involvement'!$H175,\";\"))),\"\")","v":""},{"$f":"IF(ISNUMBER(SEARCH(F$206,'12.Partner Involvement'!$H175))=TRUE,(('12.Partner Involvement'!$D175*'12.Partner Involvement'!$E175)/COUNTA(_xlfn.TEXTSPLIT('12.Partner Involvement'!$H175,\";\"))),\"\")","v":""},{"$f":"IF(ISNUMBER(SEARCH(G$206,'12.Partner Involvement'!$H175))=TRUE,(('12.Partner Involvement'!$D175*'12.Partner Involvement'!$E175)/COUNTA(_xlfn.TEXTSPLIT('12.Partner Involvement'!$H175,\";\"))),\"\")","v":""},{"$f":"IF(ISNUMBER(SEARCH(H$206,'12.Partner Involvement'!$H175))=TRUE,(('12.Partner Involvement'!$D175*'12.Partner Involvement'!$E175)/COUNTA(_xlfn.TEXTSPLIT('12.Partner Involvement'!$H175,\";\"))),\"\")","v":""}]
[{"$f":"IF(ISNUMBER(SEARCH(A$206,'12.Partner Involvement'!$G176))=TRUE,(('12.Partner Involvement'!$D176*'12.Partner Involvement'!$E176)/COUNTA(_xlfn.TEXTSPLIT('12.Partner Involvement'!$G176,\";\"))),\"\")","v":""},{"$f":"IF(ISNUMBER(SEARCH(B$206,'12.Partner Involvement'!$G176))=TRUE,(('12.Partner Involvement'!$D176*'12.Partner Involvement'!$E176)/COUNTA(_xlfn.TEXTSPLIT('12.Partner Involvement'!$G176,\";\"))),\"\")","v":""},{"$f":"IF(ISNUMBER(SEARCH(C$206,'12.Partner Involvement'!$G176))=TRUE,(('12.Partner Involvement'!$D176*'12.Partner Involvement'!$E176)/COUNTA(_xlfn.TEXTSPLIT('12.Partner Involvement'!$G176,\";\"))),\"\")","v":""},null,{"$f":"IF(ISNUMBER(SEARCH(E$206,'12.Partner Involvement'!$H176))=TRUE,(('12.Partner Involvement'!$D176*'12.Partner Involvement'!$E176)/COUNTA(_xlfn.TEXTSPLIT('12.Partner Involvement'!$H176,\";\"))),\"\")","v":""},{"$f":"IF(ISNUMBER(SEARCH(F$206,'12.Partner Involvement'!$H176))=TRUE,(('12.Partner Involvement'!$D176*'12.Partner Involvement'!$E176)/COUNTA(_xlfn.TEXTSPLIT('12.Partner Involvement'!$H176,\";\"))),\"\")","v":""},{"$f":"IF(ISNUMBER(SEARCH(G$206,'12.Partner Involvement'!$H176))=TRUE,(('12.Partner Involvement'!$D176*'12.Partner Involvement'!$E176)/COUNTA(_xlfn.TEXTSPLIT('12.Partner Involvement'!$H176,\";\"))),\"\")","v":""},{"$f":"IF(ISNUMBER(SEARCH(H$206,'12.Partner Involvement'!$H176))=TRUE,(('12.Partner Involvement'!$D176*'12.Partner Involvement'!$E176)/COUNTA(_xlfn.TEXTSPLIT('12.Partner Involvement'!$H176,\";\"))),\"\")","v":""}]
[{"$f":"IF(ISNUMBER(SEARCH(A$206,'12.Partner Involvement'!$G177))=TRUE,(('12.Partner Involvement'!$D177*'12.Partner Involvement'!$E177)/COUNTA(_xlfn.TEXTSPLIT('12.Partner Involvement'!$G177,\";\"))),\"\")","v":""},{"$f":"IF(ISNUMBER(SEARCH(B$206,'12.Partner Involvement'!$G177))=TRUE,(('12.Partner Involvement'!$D177*'12.Partner Involvement'!$E177)/COUNTA(_xlfn.TEXTSPLIT('12.Partner Involvement'!$G177,\";\"))),\"\")","v":""},{"$f":"IF(ISNUMBER(SEARCH(C$206,'12.Partner Involvement'!$G177))=TRUE,(('12.Partner Involvement'!$D177*'12.Partner Involvement'!$E177)/COUNTA(_xlfn.TEXTSPLIT('12.Partner Involvement'!$G177,\";\"))),\"\")","v":""},null,{"$f":"IF(ISNUMBER(SEARCH(E$206,'12.Partner Involvement'!$H177))=TRUE,(('12.Partner Involvement'!$D177*'12.Partner Involvement'!$E177)/COUNTA(_xlfn.TEXTSPLIT('12.Partner Involvement'!$H177,\";\"))),\"\")","v":""},{"$f":"IF(ISNUMBER(SEARCH(F$206,'12.Partner Involvement'!$H177))=TRUE,(('12.Partner Involvement'!$D177*'12.Partner Involvement'!$E177)/COUNTA(_xlfn.TEXTSPLIT('12.Partner Involvement'!$H177,\";\"))),\"\")","v":""},{"$f":"IF(ISNUMBER(SEARCH(G$206,'12.Partner Involvement'!$H177))=TRUE,(('12.Partner Involvement'!$D177*'12.Partner Involvement'!$E177)/COUNTA(_xlfn.TEXTSPLIT('12.Partner Involvement'!$H177,\";\"))),\"\")","v":""},{"$f":"IF(ISNUMBER(SEARCH(H$206,'12.Partner Involvement'!$H177))=TRUE,(('12.Partner Involvement'!$D177*'12.Partner Involvement'!$E177)/COUNTA(_xlfn.TEXTSPLIT('12.Partner Involvement'!$H177,\";\"))),\"\")","v":""}]
[{"$f":"IF(ISNUMBER(SEARCH(A$206,'12.Partner Involvement'!$G178))=TRUE,(('12.Partner Involvement'!$D178*'12.Partner Involvement'!$E178)/COUNTA(_xlfn.TEXTSPLIT('12.Partner Involvement'!$G178,\";\"))),\"\")","v":""},{"$f":"IF(ISNUMBER(SEARCH(B$206,'12.Partner Involvement'!$G178))=TRUE,(('12.Partner Involvement'!$D178*'12.Partner Involvement'!$E178)/COUNTA(_xlfn.TEXTSPLIT('12.Partner Involvement'!$G178,\";\"))),\"\")","v":""},{"$f":"IF(ISNUMBER(SEARCH(C$206,'12.Partner Involvement'!$G178))=TRUE,(('12.Partner Involvement'!$D178*'12.Partner Involvement'!$E178)/COUNTA(_xlfn.TEXTSPLIT('12.Partner Involvement'!$G178,\";\"))),\"\")","v":""},null,{"$f":"IF(ISNUMBER(SEARCH(E$206,'12.Partner Involvement'!$H178))=TRUE,(('12.Partner Involvement'!$D178*'12.Partner Involvement'!$E178)/COUNTA(_xlfn.TEXTSPLIT('12.Partner Involvement'!$H178,\";\"))),\"\")","v":""},{"$f":"IF(ISNUMBER(SEARCH(F$206,'12.Partner Involvement'!$H178))=TRUE,(('12.Partner Involvement'!$D178*'12.Partner Involvement'!$E178)/COUNTA(_xlfn.TEXTSPLIT('12.Partner Involvement'!$H178,\";\"))),\"\")","v":""},{"$f":"IF(ISNUMBER(SEARCH(G$206,'12.Partner Involvement'!$H178))=TRUE,(('12.Partner Involvement'!$D178*'12.Partner Involvement'!$E178)/COUNTA(_xlfn.TEXTSPLIT('12.Partner Involvement'!$H178,\";\"))),\"\")","v":""},{"$f":"IF(ISNUMBER(SEARCH(H$206,'12.Partner Involvement'!$H178))=TRUE,(('12.Partner Involvement'!$D178*'12.Partner Involvement'!$E178)/COUNTA(_xlfn.TEXTSPLIT('12.Partner Involvement'!$H178,\";\"))),\"\")","v":""}]
[{"$f":"IF(ISNUMBER(SEARCH(A$206,'12.Partner Involvement'!$G179))=TRUE,(('12.Partner Involvement'!$D179*'12.Partner Involvement'!$E179)/COUNTA(_xlfn.TEXTSPLIT('12.Partner Involvement'!$G179,\";\"))),\"\")","v":""},{"$f":"IF(ISNUMBER(SEARCH(B$206,'12.Partner Involvement'!$G179))=TRUE,(('12.Partner Involvement'!$D179*'12.Partner Involvement'!$E179)/COUNTA(_xlfn.TEXTSPLIT('12.Partner Involvement'!$G179,\";\"))),\"\")","v":""},{"$f":"IF(ISNUMBER(SEARCH(C$206,'12.Partner Involvement'!$G179))=TRUE,(('12.Partner Involvement'!$D179*'12.Partner Involvement'!$E179)/COUNTA(_xlfn.TEXTSPLIT('12.Partner Involvement'!$G179,\";\"))),\"\")","v":""},null,{"$f":"IF(ISNUMBER(SEARCH(E$206,'12.Partner Involvement'!$H179))=TRUE,(('12.Partner Involvement'!$D179*'12.Partner Involvement'!$E179)/COUNTA(_xlfn.TEXTSPLIT('12.Partner Involvement'!$H179,\";\"))),\"\")","v":""},{"$f":"IF(ISNUMBER(SEARCH(F$206,'12.Partner Involvement'!$H179))=TRUE,(('12.Partner Involvement'!$D179*'12.Partner Involvement'!$E179)/COUNTA(_xlfn.TEXTSPLIT('12.Partner Involvement'!$H179,\";\"))),\"\")","v":""},{"$f":"IF(ISNUMBER(SEARCH(G$206,'12.Partner Involvement'!$H179))=TRUE,(('12.Partner Involvement'!$D179*'12.Partner Involvement'!$E179)/COUNTA(_xlfn.TEXTSPLIT('12.Partner Involvement'!$H179,\";\"))),\"\")","v":""},{"$f":"IF(ISNUMBER(SEARCH(H$206,'12.Partner Involvement'!$H179))=TRUE,(('12.Partner Involvement'!$D179*'12.Partner Involvement'!$E179)/COUNTA(_xlfn.TEXTSPLIT('12.Partner Involvement'!$H179,\";\"))),\"\")","v":""}]
[{"$f":"IF(ISNUMBER(SEARCH(A$206,'12.Partner Involvement'!$G180))=TRUE,(('12.Partner Involvement'!$D180*'12.Partner Involvement'!$E180)/COUNTA(_xlfn.TEXTSPLIT('12.Partner Involvement'!$G180,\";\"))),\"\")","v":""},{"$f":"IF(ISNUMBER(SEARCH(B$206,'12.Partner Involvement'!$G180))=TRUE,(('12.Partner Involvement'!$D180*'12.Partner Involvement'!$E180)/COUNTA(_xlfn.TEXTSPLIT('12.Partner Involvement'!$G180,\";\"))),\"\")","v":""},{"$f":"IF(ISNUMBER(SEARCH(C$206,'12.Partner Involvement'!$G180))=TRUE,(('12.Partner Involvement'!$D180*'12.Partner Involvement'!$E180)/COUNTA(_xlfn.TEXTSPLIT('12.Partner Involvement'!$G180,\";\"))),\"\")","v":""},null,{"$f":"IF(ISNUMBER(SEARCH(E$206,'12.Partner Involvement'!$H180))=TRUE,(('12.Partner Involvement'!$D180*'12.Partner Involvement'!$E180)/COUNTA(_xlfn.TEXTSPLIT('12.Partner Involvement'!$H180,\";\"))),\"\")","v":""},{"$f":"IF(ISNUMBER(SEARCH(F$206,'12.Partner Involvement'!$H180))=TRUE,(('12.Partner Involvement'!$D180*'12.Partner Involvement'!$E180)/COUNTA(_xlfn.TEXTSPLIT('12.Partner Involvement'!$H180,\";\"))),\"\")","v":""},{"$f":"IF(ISNUMBER(SEARCH(G$206,'12.Partner Involvement'!$H180))=TRUE,(('12.Partner Involvement'!$D180*'12.Partner Involvement'!$E180)/COUNTA(_xlfn.TEXTSPLIT('12.Partner Involvement'!$H180,\";\"))),\"\")","v":""},{"$f":"IF(ISNUMBER(SEARCH(H$206,'12.Partner Involvement'!$H180))=TRUE,(('12.Partner Involvement'!$D180*'12.Partner Involvement'!$E180)/COUNTA(_xlfn.TEXTSPLIT('12.Partner Involvement'!$H180,\";\"))),\"\")","v":""}]
[{"$f":"IF(ISNUMBER(SEARCH(A$206,'12.Partner Involvement'!$G181))=TRUE,(('12.Partner Involvement'!$D181*'12.Partner Involvement'!$E181)/COUNTA(_xlfn.TEXTSPLIT('12.Partner Involvement'!$G181,\";\"))),\"\")","v":""},{"$f":"IF(ISNUMBER(SEARCH(B$206,'12.Partner Involvement'!$G181))=TRUE,(('12.Partner Involvement'!$D181*'12.Partner Involvement'!$E181)/COUNTA(_xlfn.TEXTSPLIT('12.Partner Involvement'!$G181,\";\"))),\"\")","v":""},{"$f":"IF(ISNUMBER(SEARCH(C$206,'12.Partner Involvement'!$G181))=TRUE,(('12.Partner Involvement'!$D181*'12.Partner Involvement'!$E181)/COUNTA(_xlfn.TEXTSPLIT('12.Partner Involvement'!$G181,\";\"))),\"\")","v":""},null,{"$f":"IF(ISNUMBER(SEARCH(E$206,'12.Partner Involvement'!$H181))=TRUE,(('12.Partner Involvement'!$D181*'12.Partner Involvement'!$E181)/COUNTA(_xlfn.TEXTSPLIT('12.Partner Involvement'!$H181,\";\"))),\"\")","v":""},{"$f":"IF(ISNUMBER(SEARCH(F$206,'12.Partner Involvement'!$H181))=TRUE,(('12.Partner Involvement'!$D181*'12.Partner Involvement'!$E181)/COUNTA(_xlfn.TEXTSPLIT('12.Partner Involvement'!$H181,\";\"))),\"\")","v":""},{"$f":"IF(ISNUMBER(SEARCH(G$206,'12.Partner Involvement'!$H181))=TRUE,(('12.Partner Involvement'!$D181*'12.Partner Involvement'!$E181)/COUNTA(_xlfn.TEXTSPLIT('12.Partner Involvement'!$H181,\";\"))),\"\")","v":""},{"$f":"IF(ISNUMBER(SEARCH(H$206,'12.Partner Involvement'!$H181))=TRUE,(('12.Partner Involvement'!$D181*'12.Partner Involvement'!$E181)/COUNTA(_xlfn.TEXTSPLIT('12.Partner Involvement'!$H181,\";\"))),\"\")","v":""}]
[{"$f":"IF(ISNUMBER(SEARCH(A$206,'12.Partner Involvement'!$G182))=TRUE,(('12.Partner Involvement'!$D182*'12.Partner Involvement'!$E182)/COUNTA(_xlfn.TEXTSPLIT('12.Partner Involvement'!$G182,\";\"))),\"\")","v":""},{"$f":"IF(ISNUMBER(SEARCH(B$206,'12.Partner Involvement'!$G182))=TRUE,(('12.Partner Involvement'!$D182*'12.Partner Involvement'!$E182)/COUNTA(_xlfn.TEXTSPLIT('12.Partner Involvement'!$G182,\";\"))),\"\")","v":""},{"$f":"IF(ISNUMBER(SEARCH(C$206,'12.Partner Involvement'!$G182))=TRUE,(('12.Partner Involvement'!$D182*'12.Partner Involvement'!$E182)/COUNTA(_xlfn.TEXTSPLIT('12.Partner Involvement'!$G182,\";\"))),\"\")","v":""},null,{"$f":"IF(ISNUMBER(SEARCH(E$206,'12.Partner Involvement'!$H182))=TRUE,(('12.Partner Involvement'!$D182*'12.Partner Involvement'!$E182)/COUNTA(_xlfn.TEXTSPLIT('12.Partner Involvement'!$H182,\";\"))),\"\")","v":""},{"$f":"IF(ISNUMBER(SEARCH(F$206,'12.Partner Involvement'!$H182))=TRUE,(('12.Partner Involvement'!$D182*'12.Partner Involvement'!$E182)/COUNTA(_xlfn.TEXTSPLIT('12.Partner Involvement'!$H182,\";\"))),\"\")","v":""},{"$f":"IF(ISNUMBER(SEARCH(G$206,'12.Partner Involvement'!$H182))=TRUE,(('12.Partner Involvement'!$D182*'12.Partner Involvement'!$E182)/COUNTA(_xlfn.TEXTSPLIT('12.Partner Involvement'!$H182,\";\"))),\"\")","v":""},{"$f":"IF(ISNUMBER(SEARCH(H$206,'12.Partner Involvement'!$H182))=TRUE,(('12.Partner Involvement'!$D182*'12.Partner Involvement'!$E182)/COUNTA(_xlfn.TEXTSPLIT('12.Partner Involvement'!$H182,\";\"))),\"\")","v":""}]
[{"$f":"IF(ISNUMBER(SEARCH(A$206,'12.Partner Involvement'!$G183))=TRUE,(('12.Partner Involvement'!$D183*'12.Partner Involvement'!$E183)/COUNTA(_xlfn.TEXTSPLIT('12.Partner Involvement'!$G183,\";\"))),\"\")","v":""},{"$f":"IF(ISNUMBER(SEARCH(B$206,'12.Partner Involvement'!$G183))=TRUE,(('12.Partner Involvement'!$D183*'12.Partner Involvement'!$E183)/COUNTA(_xlfn.TEXTSPLIT('12.Partner Involvement'!$G183,\";\"))),\"\")","v":""},{"$f":"IF(ISNUMBER(SEARCH(C$206,'12.Partner Involvement'!$G183))=TRUE,(('12.Partner Involvement'!$D183*'12.Partner Involvement'!$E183)/COUNTA(_xlfn.TEXTSPLIT('12.Partner Involvement'!$G183,\";\"))),\"\")","v":""},null,{"$f":"IF(ISNUMBER(SEARCH(E$206,'12.Partner Involvement'!$H183))=TRUE,(('12.Partner Involvement'!$D183*'12.Partner Involvement'!$E183)/COUNTA(_xlfn.TEXTSPLIT('12.Partner Involvement'!$H183,\";\"))),\"\")","v":""},{"$f":"IF(ISNUMBER(SEARCH(F$206,'12.Partner Involvement'!$H183))=TRUE,(('12.Partner Involvement'!$D183*'12.Partner Involvement'!$E183)/COUNTA(_xlfn.TEXTSPLIT('12.Partner Involvement'!$H183,\";\"))),\"\")","v":""},{"$f":"IF(ISNUMBER(SEARCH(G$206,'12.Partner Involvement'!$H183))=TRUE,(('12.Partner Involvement'!$D183*'12.Partner Involvement'!$E183)/COUNTA(_xlfn.TEXTSPLIT('12.Partner Involvement'!$H183,\";\"))),\"\")","v":""},{"$f":"IF(ISNUMBER(SEARCH(H$206,'12.Partner Involvement'!$H183))=TRUE,(('12.Partner Involvement'!$D183*'12.Partner Involvement'!$E183)/COUNTA(_xlfn.TEXTSPLIT('12.Partner Involvement'!$H183,\";\"))),\"\")","v":""}]
[{"$f":"IF(ISNUMBER(SEARCH(A$206,'12.Partner Involvement'!$G184))=TRUE,(('12.Partner Involvement'!$D184*'12.Partner Involvement'!$E184)/COUNTA(_xlfn.TEXTSPLIT('12.Partner Involvement'!$G184,\";\"))),\"\")","v":""},{"$f":"IF(ISNUMBER(SEARCH(B$206,'12.Partner Involvement'!$G184))=TRUE,(('12.Partner Involvement'!$D184*'12.Partner Involvement'!$E184)/COUNTA(_xlfn.TEXTSPLIT('12.Partner Involvement'!$G184,\";\"))),\"\")","v":""},{"$f":"IF(ISNUMBER(SEARCH(C$206,'12.Partner Involvement'!$G184))=TRUE,(('12.Partner Involvement'!$D184*'12.Partner Involvement'!$E184)/COUNTA(_xlfn.TEXTSPLIT('12.Partner Involvement'!$G184,\";\"))),\"\")","v":""},null,{"$f":"IF(ISNUMBER(SEARCH(E$206,'12.Partner Involvement'!$H184))=TRUE,(('12.Partner Involvement'!$D184*'12.Partner Involvement'!$E184)/COUNTA(_xlfn.TEXTSPLIT('12.Partner Involvement'!$H184,\";\"))),\"\")","v":""},{"$f":"IF(ISNUMBER(SEARCH(F$206,'12.Partner Involvement'!$H184))=TRUE,(('12.Partner Involvement'!$D184*'12.Partner Involvement'!$E184)/COUNTA(_xlfn.TEXTSPLIT('12.Partner Involvement'!$H184,\";\"))),\"\")","v":""},{"$f":"IF(ISNUMBER(SEARCH(G$206,'12.Partner Involvement'!$H184))=TRUE,(('12.Partner Involvement'!$D184*'12.Partner Involvement'!$E184)/COUNTA(_xlfn.TEXTSPLIT('12.Partner Involvement'!$H184,\";\"))),\"\")","v":""},{"$f":"IF(ISNUMBER(SEARCH(H$206,'12.Partner Involvement'!$H184))=TRUE,(('12.Partner Involvement'!$D184*'12.Partner Involvement'!$E184)/COUNTA(_xlfn.TEXTSPLIT('12.Partner Involvement'!$H184,\";\"))),\"\")","v":""}]
[{"$f":"IF(ISNUMBER(SEARCH(A$206,'12.Partner Involvement'!$G185))=TRUE,(('12.Partner Involvement'!$D185*'12.Partner Involvement'!$E185)/COUNTA(_xlfn.TEXTSPLIT('12.Partner Involvement'!$G185,\";\"))),\"\")","v":""},{"$f":"IF(ISNUMBER(SEARCH(B$206,'12.Partner Involvement'!$G185))=TRUE,(('12.Partner Involvement'!$D185*'12.Partner Involvement'!$E185)/COUNTA(_xlfn.TEXTSPLIT('12.Partner Involvement'!$G185,\";\"))),\"\")","v":""},{"$f":"IF(ISNUMBER(SEARCH(C$206,'12.Partner Involvement'!$G185))=TRUE,(('12.Partner Involvement'!$D185*'12.Partner Involvement'!$E185)/COUNTA(_xlfn.TEXTSPLIT('12.Partner Involvement'!$G185,\";\"))),\"\")","v":""},null,{"$f":"IF(ISNUMBER(SEARCH(E$206,'12.Partner Involvement'!$H185))=TRUE,(('12.Partner Involvement'!$D185*'12.Partner Involvement'!$E185)/COUNTA(_xlfn.TEXTSPLIT('12.Partner Involvement'!$H185,\";\"))),\"\")","v":""},{"$f":"IF(ISNUMBER(SEARCH(F$206,'12.Partner Involvement'!$H185))=TRUE,(('12.Partner Involvement'!$D185*'12.Partner Involvement'!$E185)/COUNTA(_xlfn.TEXTSPLIT('12.Partner Involvement'!$H185,\";\"))),\"\")","v":""},{"$f":"IF(ISNUMBER(SEARCH(G$206,'12.Partner Involvement'!$H185))=TRUE,(('12.Partner Involvement'!$D185*'12.Partner Involvement'!$E185)/COUNTA(_xlfn.TEXTSPLIT('12.Partner Involvement'!$H185,\";\"))),\"\")","v":""},{"$f":"IF(ISNUMBER(SEARCH(H$206,'12.Partner Involvement'!$H185))=TRUE,(('12.Partner Involvement'!$D185*'12.Partner Involvement'!$E185)/COUNTA(_xlfn.TEXTSPLIT('12.Partner Involvement'!$H185,\";\"))),\"\")","v":""}]
[{"$f":"IF(ISNUMBER(SEARCH(A$206,'12.Partner Involvement'!$G186))=TRUE,(('12.Partner Involvement'!$D186*'12.Partner Involvement'!$E186)/COUNTA(_xlfn.TEXTSPLIT('12.Partner Involvement'!$G186,\";\"))),\"\")","v":""},{"$f":"IF(ISNUMBER(SEARCH(B$206,'12.Partner Involvement'!$G186))=TRUE,(('12.Partner Involvement'!$D186*'12.Partner Involvement'!$E186)/COUNTA(_xlfn.TEXTSPLIT('12.Partner Involvement'!$G186,\";\"))),\"\")","v":""},{"$f":"IF(ISNUMBER(SEARCH(C$206,'12.Partner Involvement'!$G186))=TRUE,(('12.Partner Involvement'!$D186*'12.Partner Involvement'!$E186)/COUNTA(_xlfn.TEXTSPLIT('12.Partner Involvement'!$G186,\";\"))),\"\")","v":""},null,{"$f":"IF(ISNUMBER(SEARCH(E$206,'12.Partner Involvement'!$H186))=TRUE,(('12.Partner Involvement'!$D186*'12.Partner Involvement'!$E186)/COUNTA(_xlfn.TEXTSPLIT('12.Partner Involvement'!$H186,\";\"))),\"\")","v":""},{"$f":"IF(ISNUMBER(SEARCH(F$206,'12.Partner Involvement'!$H186))=TRUE,(('12.Partner Involvement'!$D186*'12.Partner Involvement'!$E186)/COUNTA(_xlfn.TEXTSPLIT('12.Partner Involvement'!$H186,\";\"))),\"\")","v":""},{"$f":"IF(ISNUMBER(SEARCH(G$206,'12.Partner Involvement'!$H186))=TRUE,(('12.Partner Involvement'!$D186*'12.Partner Involvement'!$E186)/COUNTA(_xlfn.TEXTSPLIT('12.Partner Involvement'!$H186,\";\"))),\"\")","v":""},{"$f":"IF(ISNUMBER(SEARCH(H$206,'12.Partner Involvement'!$H186))=TRUE,(('12.Partner Involvement'!$D186*'12.Partner Involvement'!$E186)/COUNTA(_xlfn.TEXTSPLIT('12.Partner Involvement'!$H186,\";\"))),\"\")","v":""}]
[{"$f":"IF(ISNUMBER(SEARCH(A$206,'12.Partner Involvement'!$G187))=TRUE,(('12.Partner Involvement'!$D187*'12.Partner Involvement'!$E187)/COUNTA(_xlfn.TEXTSPLIT('12.Partner Involvement'!$G187,\";\"))),\"\")","v":""},{"$f":"IF(ISNUMBER(SEARCH(B$206,'12.Partner Involvement'!$G187))=TRUE,(('12.Partner Involvement'!$D187*'12.Partner Involvement'!$E187)/COUNTA(_xlfn.TEXTSPLIT('12.Partner Involvement'!$G187,\";\"))),\"\")","v":""},{"$f":"IF(ISNUMBER(SEARCH(C$206,'12.Partner Involvement'!$G187))=TRUE,(('12.Partner Involvement'!$D187*'12.Partner Involvement'!$E187)/COUNTA(_xlfn.TEXTSPLIT('12.Partner Involvement'!$G187,\";\"))),\"\")","v":""},null,{"$f":"IF(ISNUMBER(SEARCH(E$206,'12.Partner Involvement'!$H187))=TRUE,(('12.Partner Involvement'!$D187*'12.Partner Involvement'!$E187)/COUNTA(_xlfn.TEXTSPLIT('12.Partner Involvement'!$H187,\";\"))),\"\")","v":""},{"$f":"IF(ISNUMBER(SEARCH(F$206,'12.Partner Involvement'!$H187))=TRUE,(('12.Partner Involvement'!$D187*'12.Partner Involvement'!$E187)/COUNTA(_xlfn.TEXTSPLIT('12.Partner Involvement'!$H187,\";\"))),\"\")","v":""},{"$f":"IF(ISNUMBER(SEARCH(G$206,'12.Partner Involvement'!$H187))=TRUE,(('12.Partner Involvement'!$D187*'12.Partner Involvement'!$E187)/COUNTA(_xlfn.TEXTSPLIT('12.Partner Involvement'!$H187,\";\"))),\"\")","v":""},{"$f":"IF(ISNUMBER(SEARCH(H$206,'12.Partner Involvement'!$H187))=TRUE,(('12.Partner Involvement'!$D187*'12.Partner Involvement'!$E187)/COUNTA(_xlfn.TEXTSPLIT('12.Partner Involvement'!$H187,\";\"))),\"\")","v":""}]
[{"$f":"IF(ISNUMBER(SEARCH(A$206,'12.Partner Involvement'!$G188))=TRUE,(('12.Partner Involvement'!$D188*'12.Partner Involvement'!$E188)/COUNTA(_xlfn.TEXTSPLIT('12.Partner Involvement'!$G188,\";\"))),\"\")","v":""},{"$f":"IF(ISNUMBER(SEARCH(B$206,'12.Partner Involvement'!$G188))=TRUE,(('12.Partner Involvement'!$D188*'12.Partner Involvement'!$E188)/COUNTA(_xlfn.TEXTSPLIT('12.Partner Involvement'!$G188,\";\"))),\"\")","v":""},{"$f":"IF(ISNUMBER(SEARCH(C$206,'12.Partner Involvement'!$G188))=TRUE,(('12.Partner Involvement'!$D188*'12.Partner Involvement'!$E188)/COUNTA(_xlfn.TEXTSPLIT('12.Partner Involvement'!$G188,\";\"))),\"\")","v":""},null,{"$f":"IF(ISNUMBER(SEARCH(E$206,'12.Partner Involvement'!$H188))=TRUE,(('12.Partner Involvement'!$D188*'12.Partner Involvement'!$E188)/COUNTA(_xlfn.TEXTSPLIT('12.Partner Involvement'!$H188,\";\"))),\"\")","v":""},{"$f":"IF(ISNUMBER(SEARCH(F$206,'12.Partner Involvement'!$H188))=TRUE,(('12.Partner Involvement'!$D188*'12.Partner Involvement'!$E188)/COUNTA(_xlfn.TEXTSPLIT('12.Partner Involvement'!$H188,\";\"))),\"\")","v":""},{"$f":"IF(ISNUMBER(SEARCH(G$206,'12.Partner Involvement'!$H188))=TRUE,(('12.Partner Involvement'!$D188*'12.Partner Involvement'!$E188)/COUNTA(_xlfn.TEXTSPLIT('12.Partner Involvement'!$H188,\";\"))),\"\")","v":""},{"$f":"IF(ISNUMBER(SEARCH(H$206,'12.Partner Involvement'!$H188))=TRUE,(('12.Partner Involvement'!$D188*'12.Partner Involvement'!$E188)/COUNTA(_xlfn.TEXTSPLIT('12.Partner Involvement'!$H188,\";\"))),\"\")","v":""}]
[{"$f":"IF(ISNUMBER(SEARCH(A$206,'12.Partner Involvement'!$G189))=TRUE,(('12.Partner Involvement'!$D189*'12.Partner Involvement'!$E189)/COUNTA(_xlfn.TEXTSPLIT('12.Partner Involvement'!$G189,\";\"))),\"\")","v":""},{"$f":"IF(ISNUMBER(SEARCH(B$206,'12.Partner Involvement'!$G189))=TRUE,(('12.Partner Involvement'!$D189*'12.Partner Involvement'!$E189)/COUNTA(_xlfn.TEXTSPLIT('12.Partner Involvement'!$G189,\";\"))),\"\")","v":""},{"$f":"IF(ISNUMBER(SEARCH(C$206,'12.Partner Involvement'!$G189))=TRUE,(('12.Partner Involvement'!$D189*'12.Partner Involvement'!$E189)/COUNTA(_xlfn.TEXTSPLIT('12.Partner Involvement'!$G189,\";\"))),\"\")","v":""},null,{"$f":"IF(ISNUMBER(SEARCH(E$206,'12.Partner Involvement'!$H189))=TRUE,(('12.Partner Involvement'!$D189*'12.Partner Involvement'!$E189)/COUNTA(_xlfn.TEXTSPLIT('12.Partner Involvement'!$H189,\";\"))),\"\")","v":""},{"$f":"IF(ISNUMBER(SEARCH(F$206,'12.Partner Involvement'!$H189))=TRUE,(('12.Partner Involvement'!$D189*'12.Partner Involvement'!$E189)/COUNTA(_xlfn.TEXTSPLIT('12.Partner Involvement'!$H189,\";\"))),\"\")","v":""},{"$f":"IF(ISNUMBER(SEARCH(G$206,'12.Partner Involvement'!$H189))=TRUE,(('12.Partner Involvement'!$D189*'12.Partner Involvement'!$E189)/COUNTA(_xlfn.TEXTSPLIT('12.Partner Involvement'!$H189,\";\"))),\"\")","v":""},{"$f":"IF(ISNUMBER(SEARCH(H$206,'12.Partner Involvement'!$H189))=TRUE,(('12.Partner Involvement'!$D189*'12.Partner Involvement'!$E189)/COUNTA(_xlfn.TEXTSPLIT('12.Partner Involvement'!$H189,\";\"))),\"\")","v":""}]
[{"$f":"IF(ISNUMBER(SEARCH(A$206,'12.Partner Involvement'!$G190))=TRUE,(('12.Partner Involvement'!$D190*'12.Partner Involvement'!$E190)/COUNTA(_xlfn.TEXTSPLIT('12.Partner Involvement'!$G190,\";\"))),\"\")","v":""},{"$f":"IF(ISNUMBER(SEARCH(B$206,'12.Partner Involvement'!$G190))=TRUE,(('12.Partner Involvement'!$D190*'12.Partner Involvement'!$E190)/COUNTA(_xlfn.TEXTSPLIT('12.Partner Involvement'!$G190,\";\"))),\"\")","v":""},{"$f":"IF(ISNUMBER(SEARCH(C$206,'12.Partner Involvement'!$G190))=TRUE,(('12.Partner Involvement'!$D190*'12.Partner Involvement'!$E190)/COUNTA(_xlfn.TEXTSPLIT('12.Partner Involvement'!$G190,\";\"))),\"\")","v":""},null,{"$f":"IF(ISNUMBER(SEARCH(E$206,'12.Partner Involvement'!$H190))=TRUE,(('12.Partner Involvement'!$D190*'12.Partner Involvement'!$E190)/COUNTA(_xlfn.TEXTSPLIT('12.Partner Involvement'!$H190,\";\"))),\"\")","v":""},{"$f":"IF(ISNUMBER(SEARCH(F$206,'12.Partner Involvement'!$H190))=TRUE,(('12.Partner Involvement'!$D190*'12.Partner Involvement'!$E190)/COUNTA(_xlfn.TEXTSPLIT('12.Partner Involvement'!$H190,\";\"))),\"\")","v":""},{"$f":"IF(ISNUMBER(SEARCH(G$206,'12.Partner Involvement'!$H190))=TRUE,(('12.Partner Involvement'!$D190*'12.Partner Involvement'!$E190)/COUNTA(_xlfn.TEXTSPLIT('12.Partner Involvement'!$H190,\";\"))),\"\")","v":""},{"$f":"IF(ISNUMBER(SEARCH(H$206,'12.Partner Involvement'!$H190))=TRUE,(('12.Partner Involvement'!$D190*'12.Partner Involvement'!$E190)/COUNTA(_xlfn.TEXTSPLIT('12.Partner Involvement'!$H190,\";\"))),\"\")","v":""}]
[{"$f":"IF(ISNUMBER(SEARCH(A$206,'12.Partner Involvement'!$G191))=TRUE,(('12.Partner Involvement'!$D191*'12.Partner Involvement'!$E191)/COUNTA(_xlfn.TEXTSPLIT('12.Partner Involvement'!$G191,\";\"))),\"\")","v":""},{"$f":"IF(ISNUMBER(SEARCH(B$206,'12.Partner Involvement'!$G191))=TRUE,(('12.Partner Involvement'!$D191*'12.Partner Involvement'!$E191)/COUNTA(_xlfn.TEXTSPLIT('12.Partner Involvement'!$G191,\";\"))),\"\")","v":""},{"$f":"IF(ISNUMBER(SEARCH(C$206,'12.Partner Involvement'!$G191))=TRUE,(('12.Partner Involvement'!$D191*'12.Partner Involvement'!$E191)/COUNTA(_xlfn.TEXTSPLIT('12.Partner Involvement'!$G191,\";\"))),\"\")","v":""},null,{"$f":"IF(ISNUMBER(SEARCH(E$206,'12.Partner Involvement'!$H191))=TRUE,(('12.Partner Involvement'!$D191*'12.Partner Involvement'!$E191)/COUNTA(_xlfn.TEXTSPLIT('12.Partner Involvement'!$H191,\";\"))),\"\")","v":""},{"$f":"IF(ISNUMBER(SEARCH(F$206,'12.Partner Involvement'!$H191))=TRUE,(('12.Partner Involvement'!$D191*'12.Partner Involvement'!$E191)/COUNTA(_xlfn.TEXTSPLIT('12.Partner Involvement'!$H191,\";\"))),\"\")","v":""},{"$f":"IF(ISNUMBER(SEARCH(G$206,'12.Partner Involvement'!$H191))=TRUE,(('12.Partner Involvement'!$D191*'12.Partner Involvement'!$E191)/COUNTA(_xlfn.TEXTSPLIT('12.Partner Involvement'!$H191,\";\"))),\"\")","v":""},{"$f":"IF(ISNUMBER(SEARCH(H$206,'12.Partner Involvement'!$H191))=TRUE,(('12.Partner Involvement'!$D191*'12.Partner Involvement'!$E191)/COUNTA(_xlfn.TEXTSPLIT('12.Partner Involvement'!$H191,\";\"))),\"\")","v":""}]
[{"$f":"IF(ISNUMBER(SEARCH(A$206,'12.Partner Involvement'!$G192))=TRUE,(('12.Partner Involvement'!$D192*'12.Partner Involvement'!$E192)/COUNTA(_xlfn.TEXTSPLIT('12.Partner Involvement'!$G192,\";\"))),\"\")","v":""},{"$f":"IF(ISNUMBER(SEARCH(B$206,'12.Partner Involvement'!$G192))=TRUE,(('12.Partner Involvement'!$D192*'12.Partner Involvement'!$E192)/COUNTA(_xlfn.TEXTSPLIT('12.Partner Involvement'!$G192,\";\"))),\"\")","v":""},{"$f":"IF(ISNUMBER(SEARCH(C$206,'12.Partner Involvement'!$G192))=TRUE,(('12.Partner Involvement'!$D192*'12.Partner Involvement'!$E192)/COUNTA(_xlfn.TEXTSPLIT('12.Partner Involvement'!$G192,\";\"))),\"\")","v":""},null,{"$f":"IF(ISNUMBER(SEARCH(E$206,'12.Partner Involvement'!$H192))=TRUE,(('12.Partner Involvement'!$D192*'12.Partner Involvement'!$E192)/COUNTA(_xlfn.TEXTSPLIT('12.Partner Involvement'!$H192,\";\"))),\"\")","v":""},{"$f":"IF(ISNUMBER(SEARCH(F$206,'12.Partner Involvement'!$H192))=TRUE,(('12.Partner Involvement'!$D192*'12.Partner Involvement'!$E192)/COUNTA(_xlfn.TEXTSPLIT('12.Partner Involvement'!$H192,\";\"))),\"\")","v":""},{"$f":"IF(ISNUMBER(SEARCH(G$206,'12.Partner Involvement'!$H192))=TRUE,(('12.Partner Involvement'!$D192*'12.Partner Involvement'!$E192)/COUNTA(_xlfn.TEXTSPLIT('12.Partner Involvement'!$H192,\";\"))),\"\")","v":""},{"$f":"IF(ISNUMBER(SEARCH(H$206,'12.Partner Involvement'!$H192))=TRUE,(('12.Partner Involvement'!$D192*'12.Partner Involvement'!$E192)/COUNTA(_xlfn.TEXTSPLIT('12.Partner Involvement'!$H192,\";\"))),\"\")","v":""}]
[{"$f":"IF(ISNUMBER(SEARCH(A$206,'12.Partner Involvement'!$G193))=TRUE,(('12.Partner Involvement'!$D193*'12.Partner Involvement'!$E193)/COUNTA(_xlfn.TEXTSPLIT('12.Partner Involvement'!$G193,\";\"))),\"\")","v":""},{"$f":"IF(ISNUMBER(SEARCH(B$206,'12.Partner Involvement'!$G193))=TRUE,(('12.Partner Involvement'!$D193*'12.Partner Involvement'!$E193)/COUNTA(_xlfn.TEXTSPLIT('12.Partner Involvement'!$G193,\";\"))),\"\")","v":""},{"$f":"IF(ISNUMBER(SEARCH(C$206,'12.Partner Involvement'!$G193))=TRUE,(('12.Partner Involvement'!$D193*'12.Partner Involvement'!$E193)/COUNTA(_xlfn.TEXTSPLIT('12.Partner Involvement'!$G193,\";\"))),\"\")","v":""},null,{"$f":"IF(ISNUMBER(SEARCH(E$206,'12.Partner Involvement'!$H193))=TRUE,(('12.Partner Involvement'!$D193*'12.Partner Involvement'!$E193)/COUNTA(_xlfn.TEXTSPLIT('12.Partner Involvement'!$H193,\";\"))),\"\")","v":""},{"$f":"IF(ISNUMBER(SEARCH(F$206,'12.Partner Involvement'!$H193))=TRUE,(('12.Partner Involvement'!$D193*'12.Partner Involvement'!$E193)/COUNTA(_xlfn.TEXTSPLIT('12.Partner Involvement'!$H193,\";\"))),\"\")","v":""},{"$f":"IF(ISNUMBER(SEARCH(G$206,'12.Partner Involvement'!$H193))=TRUE,(('12.Partner Involvement'!$D193*'12.Partner Involvement'!$E193)/COUNTA(_xlfn.TEXTSPLIT('12.Partner Involvement'!$H193,\";\"))),\"\")","v":""},{"$f":"IF(ISNUMBER(SEARCH(H$206,'12.Partner Involvement'!$H193))=TRUE,(('12.Partner Involvement'!$D193*'12.Partner Involvement'!$E193)/COUNTA(_xlfn.TEXTSPLIT('12.Partner Involvement'!$H193,\";\"))),\"\")","v":""}]
[{"$f":"IF(ISNUMBER(SEARCH(A$206,'12.Partner Involvement'!$G194))=TRUE,(('12.Partner Involvement'!$D194*'12.Partner Involvement'!$E194)/COUNTA(_xlfn.TEXTSPLIT('12.Partner Involvement'!$G194,\";\"))),\"\")","v":""},{"$f":"IF(ISNUMBER(SEARCH(B$206,'12.Partner Involvement'!$G194))=TRUE,(('12.Partner Involvement'!$D194*'12.Partner Involvement'!$E194)/COUNTA(_xlfn.TEXTSPLIT('12.Partner Involvement'!$G194,\";\"))),\"\")","v":""},{"$f":"IF(ISNUMBER(SEARCH(C$206,'12.Partner Involvement'!$G194))=TRUE,(('12.Partner Involvement'!$D194*'12.Partner Involvement'!$E194)/COUNTA(_xlfn.TEXTSPLIT('12.Partner Involvement'!$G194,\";\"))),\"\")","v":""},null,{"$f":"IF(ISNUMBER(SEARCH(E$206,'12.Partner Involvement'!$H194))=TRUE,(('12.Partner Involvement'!$D194*'12.Partner Involvement'!$E194)/COUNTA(_xlfn.TEXTSPLIT('12.Partner Involvement'!$H194,\";\"))),\"\")","v":""},{"$f":"IF(ISNUMBER(SEARCH(F$206,'12.Partner Involvement'!$H194))=TRUE,(('12.Partner Involvement'!$D194*'12.Partner Involvement'!$E194)/COUNTA(_xlfn.TEXTSPLIT('12.Partner Involvement'!$H194,\";\"))),\"\")","v":""},{"$f":"IF(ISNUMBER(SEARCH(G$206,'12.Partner Involvement'!$H194))=TRUE,(('12.Partner Involvement'!$D194*'12.Partner Involvement'!$E194)/COUNTA(_xlfn.TEXTSPLIT('12.Partner Involvement'!$H194,\";\"))),\"\")","v":""},{"$f":"IF(ISNUMBER(SEARCH(H$206,'12.Partner Involvement'!$H194))=TRUE,(('12.Partner Involvement'!$D194*'12.Partner Involvement'!$E194)/COUNTA(_xlfn.TEXTSPLIT('12.Partner Involvement'!$H194,\";\"))),\"\")","v":""}]
[{"$f":"IF(ISNUMBER(SEARCH(A$206,'12.Partner Involvement'!$G195))=TRUE,(('12.Partner Involvement'!$D195*'12.Partner Involvement'!$E195)/COUNTA(_xlfn.TEXTSPLIT('12.Partner Involvement'!$G195,\";\"))),\"\")","v":""},{"$f":"IF(ISNUMBER(SEARCH(B$206,'12.Partner Involvement'!$G195))=TRUE,(('12.Partner Involvement'!$D195*'12.Partner Involvement'!$E195)/COUNTA(_xlfn.TEXTSPLIT('12.Partner Involvement'!$G195,\";\"))),\"\")","v":""},{"$f":"IF(ISNUMBER(SEARCH(C$206,'12.Partner Involvement'!$G195))=TRUE,(('12.Partner Involvement'!$D195*'12.Partner Involvement'!$E195)/COUNTA(_xlfn.TEXTSPLIT('12.Partner Involvement'!$G195,\";\"))),\"\")","v":""},null,{"$f":"IF(ISNUMBER(SEARCH(E$206,'12.Partner Involvement'!$H195))=TRUE,(('12.Partner Involvement'!$D195*'12.Partner Involvement'!$E195)/COUNTA(_xlfn.TEXTSPLIT('12.Partner Involvement'!$H195,\";\"))),\"\")","v":""},{"$f":"IF(ISNUMBER(SEARCH(F$206,'12.Partner Involvement'!$H195))=TRUE,(('12.Partner Involvement'!$D195*'12.Partner Involvement'!$E195)/COUNTA(_xlfn.TEXTSPLIT('12.Partner Involvement'!$H195,\";\"))),\"\")","v":""},{"$f":"IF(ISNUMBER(SEARCH(G$206,'12.Partner Involvement'!$H195))=TRUE,(('12.Partner Involvement'!$D195*'12.Partner Involvement'!$E195)/COUNTA(_xlfn.TEXTSPLIT('12.Partner Involvement'!$H195,\";\"))),\"\")","v":""},{"$f":"IF(ISNUMBER(SEARCH(H$206,'12.Partner Involvement'!$H195))=TRUE,(('12.Partner Involvement'!$D195*'12.Partner Involvement'!$E195)/COUNTA(_xlfn.TEXTSPLIT('12.Partner Involvement'!$H195,\";\"))),\"\")","v":""}]
[{"$f":"IF(ISNUMBER(SEARCH(A$206,'12.Partner Involvement'!$G196))=TRUE,(('12.Partner Involvement'!$D196*'12.Partner Involvement'!$E196)/COUNTA(_xlfn.TEXTSPLIT('12.Partner Involvement'!$G196,\";\"))),\"\")","v":""},{"$f":"IF(ISNUMBER(SEARCH(B$206,'12.Partner Involvement'!$G196))=TRUE,(('12.Partner Involvement'!$D196*'12.Partner Involvement'!$E196)/COUNTA(_xlfn.TEXTSPLIT('12.Partner Involvement'!$G196,\";\"))),\"\")","v":""},{"$f":"IF(ISNUMBER(SEARCH(C$206,'12.Partner Involvement'!$G196))=TRUE,(('12.Partner Involvement'!$D196*'12.Partner Involvement'!$E196)/COUNTA(_xlfn.TEXTSPLIT('12.Partner Involvement'!$G196,\";\"))),\"\")","v":""},null,{"$f":"IF(ISNUMBER(SEARCH(E$206,'12.Partner Involvement'!$H196))=TRUE,(('12.Partner Involvement'!$D196*'12.Partner Involvement'!$E196)/COUNTA(_xlfn.TEXTSPLIT('12.Partner Involvement'!$H196,\";\"))),\"\")","v":""},{"$f":"IF(ISNUMBER(SEARCH(F$206,'12.Partner Involvement'!$H196))=TRUE,(('12.Partner Involvement'!$D196*'12.Partner Involvement'!$E196)/COUNTA(_xlfn.TEXTSPLIT('12.Partner Involvement'!$H196,\";\"))),\"\")","v":""},{"$f":"IF(ISNUMBER(SEARCH(G$206,'12.Partner Involvement'!$H196))=TRUE,(('12.Partner Involvement'!$D196*'12.Partner Involvement'!$E196)/COUNTA(_xlfn.TEXTSPLIT('12.Partner Involvement'!$H196,\";\"))),\"\")","v":""},{"$f":"IF(ISNUMBER(SEARCH(H$206,'12.Partner Involvement'!$H196))=TRUE,(('12.Partner Involvement'!$D196*'12.Partner Involvement'!$E196)/COUNTA(_xlfn.TEXTSPLIT('12.Partner Involvement'!$H196,\";\"))),\"\")","v":""}]
[{"$f":"IF(ISNUMBER(SEARCH(A$206,'12.Partner Involvement'!$G197))=TRUE,(('12.Partner Involvement'!$D197*'12.Partner Involvement'!$E197)/COUNTA(_xlfn.TEXTSPLIT('12.Partner Involvement'!$G197,\";\"))),\"\")","v":""},{"$f":"IF(ISNUMBER(SEARCH(B$206,'12.Partner Involvement'!$G197))=TRUE,(('12.Partner Involvement'!$D197*'12.Partner Involvement'!$E197)/COUNTA(_xlfn.TEXTSPLIT('12.Partner Involvement'!$G197,\";\"))),\"\")","v":""},{"$f":"IF(ISNUMBER(SEARCH(C$206,'12.Partner Involvement'!$G197))=TRUE,(('12.Partner Involvement'!$D197*'12.Partner Involvement'!$E197)/COUNTA(_xlfn.TEXTSPLIT('12.Partner Involvement'!$G197,\";\"))),\"\")","v":""},null,{"$f":"IF(ISNUMBER(SEARCH(E$206,'12.Partner Involvement'!$H197))=TRUE,(('12.Partner Involvement'!$D197*'12.Partner Involvement'!$E197)/COUNTA(_xlfn.TEXTSPLIT('12.Partner Involvement'!$H197,\";\"))),\"\")","v":""},{"$f":"IF(ISNUMBER(SEARCH(F$206,'12.Partner Involvement'!$H197))=TRUE,(('12.Partner Involvement'!$D197*'12.Partner Involvement'!$E197)/COUNTA(_xlfn.TEXTSPLIT('12.Partner Involvement'!$H197,\";\"))),\"\")","v":""},{"$f":"IF(ISNUMBER(SEARCH(G$206,'12.Partner Involvement'!$H197))=TRUE,(('12.Partner Involvement'!$D197*'12.Partner Involvement'!$E197)/COUNTA(_xlfn.TEXTSPLIT('12.Partner Involvement'!$H197,\";\"))),\"\")","v":""},{"$f":"IF(ISNUMBER(SEARCH(H$206,'12.Partner Involvement'!$H197))=TRUE,(('12.Partner Involvement'!$D197*'12.Partner Involvement'!$E197)/COUNTA(_xlfn.TEXTSPLIT('12.Partner Involvement'!$H197,\";\"))),\"\")","v":""}]
[{"$f":"IF(ISNUMBER(SEARCH(A$206,'12.Partner Involvement'!$G198))=TRUE,(('12.Partner Involvement'!$D198*'12.Partner Involvement'!$E198)/COUNTA(_xlfn.TEXTSPLIT('12.Partner Involvement'!$G198,\";\"))),\"\")","v":""},{"$f":"IF(ISNUMBER(SEARCH(B$206,'12.Partner Involvement'!$G198))=TRUE,(('12.Partner Involvement'!$D198*'12.Partner Involvement'!$E198)/COUNTA(_xlfn.TEXTSPLIT('12.Partner Involvement'!$G198,\";\"))),\"\")","v":""},{"$f":"IF(ISNUMBER(SEARCH(C$206,'12.Partner Involvement'!$G198))=TRUE,(('12.Partner Involvement'!$D198*'12.Partner Involvement'!$E198)/COUNTA(_xlfn.TEXTSPLIT('12.Partner Involvement'!$G198,\";\"))),\"\")","v":""},null,{"$f":"IF(ISNUMBER(SEARCH(E$206,'12.Partner Involvement'!$H198))=TRUE,(('12.Partner Involvement'!$D198*'12.Partner Involvement'!$E198)/COUNTA(_xlfn.TEXTSPLIT('12.Partner Involvement'!$H198,\";\"))),\"\")","v":""},{"$f":"IF(ISNUMBER(SEARCH(F$206,'12.Partner Involvement'!$H198))=TRUE,(('12.Partner Involvement'!$D198*'12.Partner Involvement'!$E198)/COUNTA(_xlfn.TEXTSPLIT('12.Partner Involvement'!$H198,\";\"))),\"\")","v":""},{"$f":"IF(ISNUMBER(SEARCH(G$206,'12.Partner Involvement'!$H198))=TRUE,(('12.Partner Involvement'!$D198*'12.Partner Involvement'!$E198)/COUNTA(_xlfn.TEXTSPLIT('12.Partner Involvement'!$H198,\";\"))),\"\")","v":""},{"$f":"IF(ISNUMBER(SEARCH(H$206,'12.Partner Involvement'!$H198))=TRUE,(('12.Partner Involvement'!$D198*'12.Partner Involvement'!$E198)/COUNTA(_xlfn.TEXTSPLIT('12.Partner Involvement'!$H198,\";\"))),\"\")","v":""}]
[{"$f":"IF(ISNUMBER(SEARCH(A$206,'12.Partner Involvement'!$G199))=TRUE,(('12.Partner Involvement'!$D199*'12.Partner Involvement'!$E199)/COUNTA(_xlfn.TEXTSPLIT('12.Partner Involvement'!$G199,\";\"))),\"\")","v":""},{"$f":"IF(ISNUMBER(SEARCH(B$206,'12.Partner Involvement'!$G199))=TRUE,(('12.Partner Involvement'!$D199*'12.Partner Involvement'!$E199)/COUNTA(_xlfn.TEXTSPLIT('12.Partner Involvement'!$G199,\";\"))),\"\")","v":""},{"$f":"IF(ISNUMBER(SEARCH(C$206,'12.Partner Involvement'!$G199))=TRUE,(('12.Partner Involvement'!$D199*'12.Partner Involvement'!$E199)/COUNTA(_xlfn.TEXTSPLIT('12.Partner Involvement'!$G199,\";\"))),\"\")","v":""},null,{"$f":"IF(ISNUMBER(SEARCH(E$206,'12.Partner Involvement'!$H199))=TRUE,(('12.Partner Involvement'!$D199*'12.Partner Involvement'!$E199)/COUNTA(_xlfn.TEXTSPLIT('12.Partner Involvement'!$H199,\";\"))),\"\")","v":""},{"$f":"IF(ISNUMBER(SEARCH(F$206,'12.Partner Involvement'!$H199))=TRUE,(('12.Partner Involvement'!$D199*'12.Partner Involvement'!$E199)/COUNTA(_xlfn.TEXTSPLIT('12.Partner Involvement'!$H199,\";\"))),\"\")","v":""},{"$f":"IF(ISNUMBER(SEARCH(G$206,'12.Partner Involvement'!$H199))=TRUE,(('12.Partner Involvement'!$D199*'12.Partner Involvement'!$E199)/COUNTA(_xlfn.TEXTSPLIT('12.Partner Involvement'!$H199,\";\"))),\"\")","v":""},{"$f":"IF(ISNUMBER(SEARCH(H$206,'12.Partner Involvement'!$H199))=TRUE,(('12.Partner Involvement'!$D199*'12.Partner Involvement'!$E199)/COUNTA(_xlfn.TEXTSPLIT('12.Partner Involvement'!$H199,\";\"))),\"\")","v":""}]
[{"$f":"IF(ISNUMBER(SEARCH(A$206,'12.Partner Involvement'!$G200))=TRUE,(('12.Partner Involvement'!$D200*'12.Partner Involvement'!$E200)/COUNTA(_xlfn.TEXTSPLIT('12.Partner Involvement'!$G200,\";\"))),\"\")","v":""},{"$f":"IF(ISNUMBER(SEARCH(B$206,'12.Partner Involvement'!$G200))=TRUE,(('12.Partner Involvement'!$D200*'12.Partner Involvement'!$E200)/COUNTA(_xlfn.TEXTSPLIT('12.Partner Involvement'!$G200,\";\"))),\"\")","v":""},{"$f":"IF(ISNUMBER(SEARCH(C$206,'12.Partner Involvement'!$G200))=TRUE,(('12.Partner Involvement'!$D200*'12.Partner Involvement'!$E200)/COUNTA(_xlfn.TEXTSPLIT('12.Partner Involvement'!$G200,\";\"))),\"\")","v":""},null,{"$f":"IF(ISNUMBER(SEARCH(E$206,'12.Partner Involvement'!$H200))=TRUE,(('12.Partner Involvement'!$D200*'12.Partner Involvement'!$E200)/COUNTA(_xlfn.TEXTSPLIT('12.Partner Involvement'!$H200,\";\"))),\"\")","v":""},{"$f":"IF(ISNUMBER(SEARCH(F$206,'12.Partner Involvement'!$H200))=TRUE,(('12.Partner Involvement'!$D200*'12.Partner Involvement'!$E200)/COUNTA(_xlfn.TEXTSPLIT('12.Partner Involvement'!$H200,\";\"))),\"\")","v":""},{"$f":"IF(ISNUMBER(SEARCH(G$206,'12.Partner Involvement'!$H200))=TRUE,(('12.Partner Involvement'!$D200*'12.Partner Involvement'!$E200)/COUNTA(_xlfn.TEXTSPLIT('12.Partner Involvement'!$H200,\";\"))),\"\")","v":""},{"$f":"IF(ISNUMBER(SEARCH(H$206,'12.Partner Involvement'!$H200))=TRUE,(('12.Partner Involvement'!$D200*'12.Partner Involvement'!$E200)/COUNTA(_xlfn.TEXTSPLIT('12.Partner Involvement'!$H200,\";\"))),\"\")","v":""}]
[{"$f":"IF(ISNUMBER(SEARCH(A$206,'12.Partner Involvement'!$G201))=TRUE,(('12.Partner Involvement'!$D201*'12.Partner Involvement'!$E201)/COUNTA(_xlfn.TEXTSPLIT('12.Partner Involvement'!$G201,\";\"))),\"\")","v":""},{"$f":"IF(ISNUMBER(SEARCH(B$206,'12.Partner Involvement'!$G201))=TRUE,(('12.Partner Involvement'!$D201*'12.Partner Involvement'!$E201)/COUNTA(_xlfn.TEXTSPLIT('12.Partner Involvement'!$G201,\";\"))),\"\")","v":""},{"$f":"IF(ISNUMBER(SEARCH(C$206,'12.Partner Involvement'!$G201))=TRUE,(('12.Partner Involvement'!$D201*'12.Partner Involvement'!$E201)/COUNTA(_xlfn.TEXTSPLIT('12.Partner Involvement'!$G201,\";\"))),\"\")","v":""},null,{"$f":"IF(ISNUMBER(SEARCH(E$206,'12.Partner Involvement'!$H201))=TRUE,(('12.Partner Involvement'!$D201*'12.Partner Involvement'!$E201)/COUNTA(_xlfn.TEXTSPLIT('12.Partner Involvement'!$H201,\";\"))),\"\")","v":""},{"$f":"IF(ISNUMBER(SEARCH(F$206,'12.Partner Involvement'!$H201))=TRUE,(('12.Partner Involvement'!$D201*'12.Partner Involvement'!$E201)/COUNTA(_xlfn.TEXTSPLIT('12.Partner Involvement'!$H201,\";\"))),\"\")","v":""},{"$f":"IF(ISNUMBER(SEARCH(G$206,'12.Partner Involvement'!$H201))=TRUE,(('12.Partner Involvement'!$D201*'12.Partner Involvement'!$E201)/COUNTA(_xlfn.TEXTSPLIT('12.Partner Involvement'!$H201,\";\"))),\"\")","v":""},{"$f":"IF(ISNUMBER(SEARCH(H$206,'12.Partner Involvement'!$H201))=TRUE,(('12.Partner Involvement'!$D201*'12.Partner Involvement'!$E201)/COUNTA(_xlfn.TEXTSPLIT('12.Partner Involvement'!$H201,\";\"))),\"\")","v":""}]
[{"$f":"IF(ISNUMBER(SEARCH(A$206,'12.Partner Involvement'!$G202))=TRUE,(('12.Partner Involvement'!$D202*'12.Partner Involvement'!$E202)/COUNTA(_xlfn.TEXTSPLIT('12.Partner Involvement'!$G202,\";\"))),\"\")","v":""},{"$f":"IF(ISNUMBER(SEARCH(B$206,'12.Partner Involvement'!$G202))=TRUE,(('12.Partner Involvement'!$D202*'12.Partner Involvement'!$E202)/COUNTA(_xlfn.TEXTSPLIT('12.Partner Involvement'!$G202,\";\"))),\"\")","v":""},{"$f":"IF(ISNUMBER(SEARCH(C$206,'12.Partner Involvement'!$G202))=TRUE,(('12.Partner Involvement'!$D202*'12.Partner Involvement'!$E202)/COUNTA(_xlfn.TEXTSPLIT('12.Partner Involvement'!$G202,\";\"))),\"\")","v":""},null,{"$f":"IF(ISNUMBER(SEARCH(E$206,'12.Partner Involvement'!$H202))=TRUE,(('12.Partner Involvement'!$D202*'12.Partner Involvement'!$E202)/COUNTA(_xlfn.TEXTSPLIT('12.Partner Involvement'!$H202,\";\"))),\"\")","v":""},{"$f":"IF(ISNUMBER(SEARCH(F$206,'12.Partner Involvement'!$H202))=TRUE,(('12.Partner Involvement'!$D202*'12.Partner Involvement'!$E202)/COUNTA(_xlfn.TEXTSPLIT('12.Partner Involvement'!$H202,\";\"))),\"\")","v":""},{"$f":"IF(ISNUMBER(SEARCH(G$206,'12.Partner Involvement'!$H202))=TRUE,(('12.Partner Involvement'!$D202*'12.Partner Involvement'!$E202)/COUNTA(_xlfn.TEXTSPLIT('12.Partner Involvement'!$H202,\";\"))),\"\")","v":""},{"$f":"IF(ISNUMBER(SEARCH(H$206,'12.Partner Involvement'!$H202))=TRUE,(('12.Partner Involvement'!$D202*'12.Partner Involvement'!$E202)/COUNTA(_xlfn.TEXTSPLIT('12.Partner Involvement'!$H202,\";\"))),\"\")","v":""}]
[{"$f":"IF(ISNUMBER(SEARCH(A$206,'12.Partner Involvement'!$G203))=TRUE,(('12.Partner Involvement'!$D203*'12.Partner Involvement'!$E203)/COUNTA(_xlfn.TEXTSPLIT('12.Partner Involvement'!$G203,\";\"))),\"\")","v":""},{"$f":"IF(ISNUMBER(SEARCH(B$206,'12.Partner Involvement'!$G203))=TRUE,(('12.Partner Involvement'!$D203*'12.Partner Involvement'!$E203)/COUNTA(_xlfn.TEXTSPLIT('12.Partner Involvement'!$G203,\";\"))),\"\")","v":""},{"$f":"IF(ISNUMBER(SEARCH(C$206,'12.Partner Involvement'!$G203))=TRUE,(('12.Partner Involvement'!$D203*'12.Partner Involvement'!$E203)/COUNTA(_xlfn.TEXTSPLIT('12.Partner Involvement'!$G203,\";\"))),\"\")","v":""},null,{"$f":"IF(ISNUMBER(SEARCH(E$206,'12.Partner Involvement'!$H203))=TRUE,(('12.Partner Involvement'!$D203*'12.Partner Involvement'!$E203)/COUNTA(_xlfn.TEXTSPLIT('12.Partner Involvement'!$H203,\";\"))),\"\")","v":""},{"$f":"IF(ISNUMBER(SEARCH(F$206,'12.Partner Involvement'!$H203))=TRUE,(('12.Partner Involvement'!$D203*'12.Partner Involvement'!$E203)/COUNTA(_xlfn.TEXTSPLIT('12.Partner Involvement'!$H203,\";\"))),\"\")","v":""},{"$f":"IF(ISNUMBER(SEARCH(G$206,'12.Partner Involvement'!$H203))=TRUE,(('12.Partner Involvement'!$D203*'12.Partner Involvement'!$E203)/COUNTA(_xlfn.TEXTSPLIT('12.Partner Involvement'!$H203,\";\"))),\"\")","v":""},{"$f":"IF(ISNUMBER(SEARCH(H$206,'12.Partner Involvement'!$H203))=TRUE,(('12.Partner Involvement'!$D203*'12.Partner Involvement'!$E203)/COUNTA(_xlfn.TEXTSPLIT('12.Partner Involvement'!$H203,\";\"))),\"\")","v":""}]
[{"$f":"IF(ISNUMBER(SEARCH(A$206,'12.Partner Involvement'!$G204))=TRUE,(('12.Partner Involvement'!$D204*'12.Partner Involvement'!$E204)/COUNTA(_xlfn.TEXTSPLIT('12.Partner Involvement'!$G204,\";\"))),\"\")","v":""},{"$f":"IF(ISNUMBER(SEARCH(B$206,'12.Partner Involvement'!$G204))=TRUE,(('12.Partner Involvement'!$D204*'12.Partner Involvement'!$E204)/COUNTA(_xlfn.TEXTSPLIT('12.Partner Involvement'!$G204,\";\"))),\"\")","v":""},{"$f":"IF(ISNUMBER(SEARCH(C$206,'12.Partner Involvement'!$G204))=TRUE,(('12.Partner Involvement'!$D204*'12.Partner Involvement'!$E204)/COUNTA(_xlfn.TEXTSPLIT('12.Partner Involvement'!$G204,\";\"))),\"\")","v":""},null,{"$f":"IF(ISNUMBER(SEARCH(E$206,'12.Partner Involvement'!$H204))=TRUE,(('12.Partner Involvement'!$D204*'12.Partner Involvement'!$E204)/COUNTA(_xlfn.TEXTSPLIT('12.Partner Involvement'!$H204,\";\"))),\"\")","v":""},{"$f":"IF(ISNUMBER(SEARCH(F$206,'12.Partner Involvement'!$H204))=TRUE,(('12.Partner Involvement'!$D204*'12.Partner Involvement'!$E204)/COUNTA(_xlfn.TEXTSPLIT('12.Partner Involvement'!$H204,\";\"))),\"\")","v":""},{"$f":"IF(ISNUMBER(SEARCH(G$206,'12.Partner Involvement'!$H204))=TRUE,(('12.Partner Involvement'!$D204*'12.Partner Involvement'!$E204)/COUNTA(_xlfn.TEXTSPLIT('12.Partner Involvement'!$H204,\";\"))),\"\")","v":""},{"$f":"IF(ISNUMBER(SEARCH(H$206,'12.Partner Involvement'!$H204))=TRUE,(('12.Partner Involvement'!$D204*'12.Partner Involvement'!$E204)/COUNTA(_xlfn.TEXTSPLIT('12.Partner Involvement'!$H204,\";\"))),\"\")","v":""}]
[{"$f":"IF(ISNUMBER(SEARCH(A$206,'12.Partner Involvement'!$G205))=TRUE,(('12.Partner Involvement'!$D205*'12.Partner Involvement'!$E205)/COUNTA(_xlfn.TEXTSPLIT('12.Partner Involvement'!$G205,\";\"))),\"\")","v":""},{"$f":"IF(ISNUMBER(SEARCH(B$206,'12.Partner Involvement'!$G205))=TRUE,(('12.Partner Involvement'!$D205*'12.Partner Involvement'!$E205)/COUNTA(_xlfn.TEXTSPLIT('12.Partner Involvement'!$G205,\";\"))),\"\")","v":""},{"$f":"IF(ISNUMBER(SEARCH(C$206,'12.Partner Involvement'!$G205))=TRUE,(('12.Partner Involvement'!$D205*'12.Partner Involvement'!$E205)/COUNTA(_xlfn.TEXTSPLIT('12.Partner Involvement'!$G205,\";\"))),\"\")","v":""},null,{"$f":"IF(ISNUMBER(SEARCH(E$206,'12.Partner Involvement'!$H205))=TRUE,(('12.Partner Involvement'!$D205*'12.Partner Involvement'!$E205)/COUNTA(_xlfn.TEXTSPLIT('12.Partner Involvement'!$H205,\";\"))),\"\")","v":""},{"$f":"IF(ISNUMBER(SEARCH(F$206,'12.Partner Involvement'!$H205))=TRUE,(('12.Partner Involvement'!$D205*'12.Partner Involvement'!$E205)/COUNTA(_xlfn.TEXTSPLIT('12.Partner Involvement'!$H205,\";\"))),\"\")","v":""},{"$f":"IF(ISNUMBER(SEARCH(G$206,'12.Partner Involvement'!$H205))=TRUE,(('12.Partner Involvement'!$D205*'12.Partner Involvement'!$E205)/COUNTA(_xlfn.TEXTSPLIT('12.Partner Involvement'!$H205,\";\"))),\"\")","v":""},{"$f":"IF(ISNUMBER(SEARCH(H$206,'12.Partner Involvement'!$H205))=TRUE,(('12.Partner Involvement'!$D205*'12.Partner Involvement'!$E205)/COUNTA(_xlfn.TEXTSPLIT('12.Partner Involvement'!$H205,\";\"))),\"\")","v":""}]
[{"$f":"IF(ISNUMBER(SEARCH(A$206,'12.Partner Involvement'!$G206))=TRUE,(('12.Partner Involvement'!$D206*'12.Partner Involvement'!$E206)/COUNTA(_xlfn.TEXTSPLIT('12.Partner Involvement'!$G206,\";\"))),\"\")","v":""},{"$f":"IF(ISNUMBER(SEARCH(B$206,'12.Partner Involvement'!$G206))=TRUE,(('12.Partner Involvement'!$D206*'12.Partner Involvement'!$E206)/COUNTA(_xlfn.TEXTSPLIT('12.Partner Involvement'!$G206,\";\"))),\"\")","v":""},{"$f":"IF(ISNUMBER(SEARCH(C$206,'12.Partner Involvement'!$G206))=TRUE,(('12.Partner Involvement'!$D206*'12.Partner Involvement'!$E206)/COUNTA(_xlfn.TEXTSPLIT('12.Partner Involvement'!$G206,\";\"))),\"\")","v":""},null,{"$f":"IF(ISNUMBER(SEARCH(E$206,'12.Partner Involvement'!$H206))=TRUE,(('12.Partner Involvement'!$D206*'12.Partner Involvement'!$E206)/COUNTA(_xlfn.TEXTSPLIT('12.Partner Involvement'!$H206,\";\"))),\"\")","v":""},{"$f":"IF(ISNUMBER(SEARCH(F$206,'12.Partner Involvement'!$H206))=TRUE,(('12.Partner Involvement'!$D206*'12.Partner Involvement'!$E206)/COUNTA(_xlfn.TEXTSPLIT('12.Partner Involvement'!$H206,\";\"))),\"\")","v":""},{"$f":"IF(ISNUMBER(SEARCH(G$206,'12.Partner Involvement'!$H206))=TRUE,(('12.Partner Involvement'!$D206*'12.Partner Involvement'!$E206)/COUNTA(_xlfn.TEXTSPLIT('12.Partner Involvement'!$H206,\";\"))),\"\")","v":""},{"$f":"IF(ISNUMBER(SEARCH(H$206,'12.Partner Involvement'!$H206))=TRUE,(('12.Partner Involvement'!$D206*'12.Partner Involvement'!$E206)/COUNTA(_xlfn.TEXTSPLIT('12.Partner Involvement'!$H206,\";\"))),\"\")","v":""}]
[{"$f":"IF(ISNUMBER(SEARCH(A$206,'12.Partner Involvement'!$G207))=TRUE,(('12.Partner Involvement'!$D207*'12.Partner Involvement'!$E207)/COUNTA(_xlfn.TEXTSPLIT('12.Partner Involvement'!$G207,\";\"))),\"\")","v":""},{"$f":"IF(ISNUMBER(SEARCH(B$206,'12.Partner Involvement'!$G207))=TRUE,(('12.Partner Involvement'!$D207*'12.Partner Involvement'!$E207)/COUNTA(_xlfn.TEXTSPLIT('12.Partner Involvement'!$G207,\";\"))),\"\")","v":""},{"$f":"IF(ISNUMBER(SEARCH(C$206,'12.Partner Involvement'!$G207))=TRUE,(('12.Partner Involvement'!$D207*'12.Partner Involvement'!$E207)/COUNTA(_xlfn.TEXTSPLIT('12.Partner Involvement'!$G207,\";\"))),\"\")","v":""},null,{"$f":"IF(ISNUMBER(SEARCH(E$206,'12.Partner Involvement'!$H207))=TRUE,(('12.Partner Involvement'!$D207*'12.Partner Involvement'!$E207)/COUNTA(_xlfn.TEXTSPLIT('12.Partner Involvement'!$H207,\";\"))),\"\")","v":""},{"$f":"IF(ISNUMBER(SEARCH(F$206,'12.Partner Involvement'!$H207))=TRUE,(('12.Partner Involvement'!$D207*'12.Partner Involvement'!$E207)/COUNTA(_xlfn.TEXTSPLIT('12.Partner Involvement'!$H207,\";\"))),\"\")","v":""},{"$f":"IF(ISNUMBER(SEARCH(G$206,'12.Partner Involvement'!$H207))=TRUE,(('12.Partner Involvement'!$D207*'12.Partner Involvement'!$E207)/COUNTA(_xlfn.TEXTSPLIT('12.Partner Involvement'!$H207,\";\"))),\"\")","v":""},{"$f":"IF(ISNUMBER(SEARCH(H$206,'12.Partner Involvement'!$H207))=TRUE,(('12.Partner Involvement'!$D207*'12.Partner Involvement'!$E207)/COUNTA(_xlfn.TEXTSPLIT('12.Partner Involvement'!$H207,\";\"))),\"\")","v":""}]
[{"$f":"IF(ISNUMBER(SEARCH(A$206,'12.Partner Involvement'!$G208))=TRUE,(('12.Partner Involvement'!$D208*'12.Partner Involvement'!$E208)/COUNTA(_xlfn.TEXTSPLIT('12.Partner Involvement'!$G208,\";\"))),\"\")","v":""},{"$f":"IF(ISNUMBER(SEARCH(B$206,'12.Partner Involvement'!$G208))=TRUE,(('12.Partner Involvement'!$D208*'12.Partner Involvement'!$E208)/COUNTA(_xlfn.TEXTSPLIT('12.Partner Involvement'!$G208,\";\"))),\"\")","v":""},{"$f":"IF(ISNUMBER(SEARCH(C$206,'12.Partner Involvement'!$G208))=TRUE,(('12.Partner Involvement'!$D208*'12.Partner Involvement'!$E208)/COUNTA(_xlfn.TEXTSPLIT('12.Partner Involvement'!$G208,\";\"))),\"\")","v":""},null,{"$f":"IF(ISNUMBER(SEARCH(E$206,'12.Partner Involvement'!$H208))=TRUE,(('12.Partner Involvement'!$D208*'12.Partner Involvement'!$E208)/COUNTA(_xlfn.TEXTSPLIT('12.Partner Involvement'!$H208,\";\"))),\"\")","v":""},{"$f":"IF(ISNUMBER(SEARCH(F$206,'12.Partner Involvement'!$H208))=TRUE,(('12.Partner Involvement'!$D208*'12.Partner Involvement'!$E208)/COUNTA(_xlfn.TEXTSPLIT('12.Partner Involvement'!$H208,\";\"))),\"\")","v":""},{"$f":"IF(ISNUMBER(SEARCH(G$206,'12.Partner Involvement'!$H208))=TRUE,(('12.Partner Involvement'!$D208*'12.Partner Involvement'!$E208)/COUNTA(_xlfn.TEXTSPLIT('12.Partner Involvement'!$H208,\";\"))),\"\")","v":""},{"$f":"IF(ISNUMBER(SEARCH(H$206,'12.Partner Involvement'!$H208))=TRUE,(('12.Partner Involvement'!$D208*'12.Partner Involvement'!$E208)/COUNTA(_xlfn.TEXTSPLIT('12.Partner Involvement'!$H208,\";\"))),\"\")","v":""}]
[{"$f":"IF(ISNUMBER(SEARCH(A$206,'12.Partner Involvement'!$G209))=TRUE,(('12.Partner Involvement'!$D209*'12.Partner Involvement'!$E209)/COUNTA(_xlfn.TEXTSPLIT('12.Partner Involvement'!$G209,\";\"))),\"\")","v":""},{"$f":"IF(ISNUMBER(SEARCH(B$206,'12.Partner Involvement'!$G209))=TRUE,(('12.Partner Involvement'!$D209*'12.Partner Involvement'!$E209)/COUNTA(_xlfn.TEXTSPLIT('12.Partner Involvement'!$G209,\";\"))),\"\")","v":""},{"$f":"IF(ISNUMBER(SEARCH(C$206,'12.Partner Involvement'!$G209))=TRUE,(('12.Partner Involvement'!$D209*'12.Partner Involvement'!$E209)/COUNTA(_xlfn.TEXTSPLIT('12.Partner Involvement'!$G209,\";\"))),\"\")","v":""},null,{"$f":"IF(ISNUMBER(SEARCH(E$206,'12.Partner Involvement'!$H209))=TRUE,(('12.Partner Involvement'!$D209*'12.Partner Involvement'!$E209)/COUNTA(_xlfn.TEXTSPLIT('12.Partner Involvement'!$H209,\";\"))),\"\")","v":""},{"$f":"IF(ISNUMBER(SEARCH(F$206,'12.Partner Involvement'!$H209))=TRUE,(('12.Partner Involvement'!$D209*'12.Partner Involvement'!$E209)/COUNTA(_xlfn.TEXTSPLIT('12.Partner Involvement'!$H209,\";\"))),\"\")","v":""},{"$f":"IF(ISNUMBER(SEARCH(G$206,'12.Partner Involvement'!$H209))=TRUE,(('12.Partner Involvement'!$D209*'12.Partner Involvement'!$E209)/COUNTA(_xlfn.TEXTSPLIT('12.Partner Involvement'!$H209,\";\"))),\"\")","v":""},{"$f":"IF(ISNUMBER(SEARCH(H$206,'12.Partner Involvement'!$H209))=TRUE,(('12.Partner Involvement'!$D209*'12.Partner Involvement'!$E209)/COUNTA(_xlfn.TEXTSPLIT('12.Partner Involvement'!$H209,\";\"))),\"\")","v":""}]
[{"$f":"IF(ISNUMBER(SEARCH(A$206,'12.Partner Involvement'!$G210))=TRUE,(('12.Partner Involvement'!$D210*'12.Partner Involvement'!$E210)/COUNTA(_xlfn.TEXTSPLIT('12.Partner Involvement'!$G210,\";\"))),\"\")","v":""},{"$f":"IF(ISNUMBER(SEARCH(B$206,'12.Partner Involvement'!$G210))=TRUE,(('12.Partner Involvement'!$D210*'12.Partner Involvement'!$E210)/COUNTA(_xlfn.TEXTSPLIT('12.Partner Involvement'!$G210,\";\"))),\"\")","v":""},{"$f":"IF(ISNUMBER(SEARCH(C$206,'12.Partner Involvement'!$G210))=TRUE,(('12.Partner Involvement'!$D210*'12.Partner Involvement'!$E210)/COUNTA(_xlfn.TEXTSPLIT('12.Partner Involvement'!$G210,\";\"))),\"\")","v":""},null,{"$f":"IF(ISNUMBER(SEARCH(E$206,'12.Partner Involvement'!$H210))=TRUE,(('12.Partner Involvement'!$D210*'12.Partner Involvement'!$E210)/COUNTA(_xlfn.TEXTSPLIT('12.Partner Involvement'!$H210,\";\"))),\"\")","v":""},{"$f":"IF(ISNUMBER(SEARCH(F$206,'12.Partner Involvement'!$H210))=TRUE,(('12.Partner Involvement'!$D210*'12.Partner Involvement'!$E210)/COUNTA(_xlfn.TEXTSPLIT('12.Partner Involvement'!$H210,\";\"))),\"\")","v":""},{"$f":"IF(ISNUMBER(SEARCH(G$206,'12.Partner Involvement'!$H210))=TRUE,(('12.Partner Involvement'!$D210*'12.Partner Involvement'!$E210)/COUNTA(_xlfn.TEXTSPLIT('12.Partner Involvement'!$H210,\";\"))),\"\")","v":""},{"$f":"IF(ISNUMBER(SEARCH(H$206,'12.Partner Involvement'!$H210))=TRUE,(('12.Partner Involvement'!$D210*'12.Partner Involvement'!$E210)/COUNTA(_xlfn.TEXTSPLIT('12.Partner Involvement'!$H210,\";\"))),\"\")","v":""}]
[{"$f":"IF(ISNUMBER(SEARCH(A$206,'12.Partner Involvement'!$G211))=TRUE,(('12.Partner Involvement'!$D211*'12.Partner Involvement'!$E211)/COUNTA(_xlfn.TEXTSPLIT('12.Partner Involvement'!$G211,\";\"))),\"\")","v":""},{"$f":"IF(ISNUMBER(SEARCH(B$206,'12.Partner Involvement'!$G211))=TRUE,(('12.Partner Involvement'!$D211*'12.Partner Involvement'!$E211)/COUNTA(_xlfn.TEXTSPLIT('12.Partner Involvement'!$G211,\";\"))),\"\")","v":""},{"$f":"IF(ISNUMBER(SEARCH(C$206,'12.Partner Involvement'!$G211))=TRUE,(('12.Partner Involvement'!$D211*'12.Partner Involvement'!$E211)/COUNTA(_xlfn.TEXTSPLIT('12.Partner Involvement'!$G211,\";\"))),\"\")","v":""},null,{"$f":"IF(ISNUMBER(SEARCH(E$206,'12.Partner Involvement'!$H211))=TRUE,(('12.Partner Involvement'!$D211*'12.Partner Involvement'!$E211)/COUNTA(_xlfn.TEXTSPLIT('12.Partner Involvement'!$H211,\";\"))),\"\")","v":""},{"$f":"IF(ISNUMBER(SEARCH(F$206,'12.Partner Involvement'!$H211))=TRUE,(('12.Partner Involvement'!$D211*'12.Partner Involvement'!$E211)/COUNTA(_xlfn.TEXTSPLIT('12.Partner Involvement'!$H211,\";\"))),\"\")","v":""},{"$f":"IF(ISNUMBER(SEARCH(G$206,'12.Partner Involvement'!$H211))=TRUE,(('12.Partner Involvement'!$D211*'12.Partner Involvement'!$E211)/COUNTA(_xlfn.TEXTSPLIT('12.Partner Involvement'!$H211,\";\"))),\"\")","v":""},{"$f":"IF(ISNUMBER(SEARCH(H$206,'12.Partner Involvement'!$H211))=TRUE,(('12.Partner Involvement'!$D211*'12.Partner Involvement'!$E211)/COUNTA(_xlfn.TEXTSPLIT('12.Partner Involvement'!$H211,\";\"))),\"\")","v":""}]
[{"$f":"IF(ISNUMBER(SEARCH(A$206,'12.Partner Involvement'!$G212))=TRUE,(('12.Partner Involvement'!$D212*'12.Partner Involvement'!$E212)/COUNTA(_xlfn.TEXTSPLIT('12.Partner Involvement'!$G212,\";\"))),\"\")","v":""},{"$f":"IF(ISNUMBER(SEARCH(B$206,'12.Partner Involvement'!$G212))=TRUE,(('12.Partner Involvement'!$D212*'12.Partner Involvement'!$E212)/COUNTA(_xlfn.TEXTSPLIT('12.Partner Involvement'!$G212,\";\"))),\"\")","v":""},{"$f":"IF(ISNUMBER(SEARCH(C$206,'12.Partner Involvement'!$G212))=TRUE,(('12.Partner Involvement'!$D212*'12.Partner Involvement'!$E212)/COUNTA(_xlfn.TEXTSPLIT('12.Partner Involvement'!$G212,\";\"))),\"\")","v":""},null,{"$f":"IF(ISNUMBER(SEARCH(E$206,'12.Partner Involvement'!$H212))=TRUE,(('12.Partner Involvement'!$D212*'12.Partner Involvement'!$E212)/COUNTA(_xlfn.TEXTSPLIT('12.Partner Involvement'!$H212,\";\"))),\"\")","v":""},{"$f":"IF(ISNUMBER(SEARCH(F$206,'12.Partner Involvement'!$H212))=TRUE,(('12.Partner Involvement'!$D212*'12.Partner Involvement'!$E212)/COUNTA(_xlfn.TEXTSPLIT('12.Partner Involvement'!$H212,\";\"))),\"\")","v":""},{"$f":"IF(ISNUMBER(SEARCH(G$206,'12.Partner Involvement'!$H212))=TRUE,(('12.Partner Involvement'!$D212*'12.Partner Involvement'!$E212)/COUNTA(_xlfn.TEXTSPLIT('12.Partner Involvement'!$H212,\";\"))),\"\")","v":""},{"$f":"IF(ISNUMBER(SEARCH(H$206,'12.Partner Involvement'!$H212))=TRUE,(('12.Partner Involvement'!$D212*'12.Partner Involvement'!$E212)/COUNTA(_xlfn.TEXTSPLIT('12.Partner Involvement'!$H212,\";\"))),\"\")","v":""}]
[{"$f":"IF(ISNUMBER(SEARCH(A$206,'12.Partner Involvement'!$G213))=TRUE,(('12.Partner Involvement'!$D213*'12.Partner Involvement'!$E213)/COUNTA(_xlfn.TEXTSPLIT('12.Partner Involvement'!$G213,\";\"))),\"\")","v":""},{"$f":"IF(ISNUMBER(SEARCH(B$206,'12.Partner Involvement'!$G213))=TRUE,(('12.Partner Involvement'!$D213*'12.Partner Involvement'!$E213)/COUNTA(_xlfn.TEXTSPLIT('12.Partner Involvement'!$G213,\";\"))),\"\")","v":""},{"$f":"IF(ISNUMBER(SEARCH(C$206,'12.Partner Involvement'!$G213))=TRUE,(('12.Partner Involvement'!$D213*'12.Partner Involvement'!$E213)/COUNTA(_xlfn.TEXTSPLIT('12.Partner Involvement'!$G213,\";\"))),\"\")","v":""},null,{"$f":"IF(ISNUMBER(SEARCH(E$206,'12.Partner Involvement'!$H213))=TRUE,(('12.Partner Involvement'!$D213*'12.Partner Involvement'!$E213)/COUNTA(_xlfn.TEXTSPLIT('12.Partner Involvement'!$H213,\";\"))),\"\")","v":""},{"$f":"IF(ISNUMBER(SEARCH(F$206,'12.Partner Involvement'!$H213))=TRUE,(('12.Partner Involvement'!$D213*'12.Partner Involvement'!$E213)/COUNTA(_xlfn.TEXTSPLIT('12.Partner Involvement'!$H213,\";\"))),\"\")","v":""},{"$f":"IF(ISNUMBER(SEARCH(G$206,'12.Partner Involvement'!$H213))=TRUE,(('12.Partner Involvement'!$D213*'12.Partner Involvement'!$E213)/COUNTA(_xlfn.TEXTSPLIT('12.Partner Involvement'!$H213,\";\"))),\"\")","v":""},{"$f":"IF(ISNUMBER(SEARCH(H$206,'12.Partner Involvement'!$H213))=TRUE,(('12.Partner Involvement'!$D213*'12.Partner Involvement'!$E213)/COUNTA(_xlfn.TEXTSPLIT('12.Partner Involvement'!$H213,\";\"))),\"\")","v":""}]
[{"$f":"IF(ISNUMBER(SEARCH(A$206,'12.Partner Involvement'!$G214))=TRUE,(('12.Partner Involvement'!$D214*'12.Partner Involvement'!$E214)/COUNTA(_xlfn.TEXTSPLIT('12.Partner Involvement'!$G214,\";\"))),\"\")","v":""},{"$f":"IF(ISNUMBER(SEARCH(B$206,'12.Partner Involvement'!$G214))=TRUE,(('12.Partner Involvement'!$D214*'12.Partner Involvement'!$E214)/COUNTA(_xlfn.TEXTSPLIT('12.Partner Involvement'!$G214,\";\"))),\"\")","v":""},{"$f":"IF(ISNUMBER(SEARCH(C$206,'12.Partner Involvement'!$G214))=TRUE,(('12.Partner Involvement'!$D214*'12.Partner Involvement'!$E214)/COUNTA(_xlfn.TEXTSPLIT('12.Partner Involvement'!$G214,\";\"))),\"\")","v":""},null,{"$f":"IF(ISNUMBER(SEARCH(E$206,'12.Partner Involvement'!$H214))=TRUE,(('12.Partner Involvement'!$D214*'12.Partner Involvement'!$E214)/COUNTA(_xlfn.TEXTSPLIT('12.Partner Involvement'!$H214,\";\"))),\"\")","v":""},{"$f":"IF(ISNUMBER(SEARCH(F$206,'12.Partner Involvement'!$H214))=TRUE,(('12.Partner Involvement'!$D214*'12.Partner Involvement'!$E214)/COUNTA(_xlfn.TEXTSPLIT('12.Partner Involvement'!$H214,\";\"))),\"\")","v":""},{"$f":"IF(ISNUMBER(SEARCH(G$206,'12.Partner Involvement'!$H214))=TRUE,(('12.Partner Involvement'!$D214*'12.Partner Involvement'!$E214)/COUNTA(_xlfn.TEXTSPLIT('12.Partner Involvement'!$H214,\";\"))),\"\")","v":""},{"$f":"IF(ISNUMBER(SEARCH(H$206,'12.Partner Involvement'!$H214))=TRUE,(('12.Partner Involvement'!$D214*'12.Partner Involvement'!$E214)/COUNTA(_xlfn.TEXTSPLIT('12.Partner Involvement'!$H214,\";\"))),\"\")","v":""}]
[{"$f":"IF(ISNUMBER(SEARCH(A$206,'12.Partner Involvement'!$G215))=TRUE,(('12.Partner Involvement'!$D215*'12.Partner Involvement'!$E215)/COUNTA(_xlfn.TEXTSPLIT('12.Partner Involvement'!$G215,\";\"))),\"\")","v":""},{"$f":"IF(ISNUMBER(SEARCH(B$206,'12.Partner Involvement'!$G215))=TRUE,(('12.Partner Involvement'!$D215*'12.Partner Involvement'!$E215)/COUNTA(_xlfn.TEXTSPLIT('12.Partner Involvement'!$G215,\";\"))),\"\")","v":""},{"$f":"IF(ISNUMBER(SEARCH(C$206,'12.Partner Involvement'!$G215))=TRUE,(('12.Partner Involvement'!$D215*'12.Partner Involvement'!$E215)/COUNTA(_xlfn.TEXTSPLIT('12.Partner Involvement'!$G215,\";\"))),\"\")","v":""},null,{"$f":"IF(ISNUMBER(SEARCH(E$206,'12.Partner Involvement'!$H215))=TRUE,(('12.Partner Involvement'!$D215*'12.Partner Involvement'!$E215)/COUNTA(_xlfn.TEXTSPLIT('12.Partner Involvement'!$H215,\";\"))),\"\")","v":""},{"$f":"IF(ISNUMBER(SEARCH(F$206,'12.Partner Involvement'!$H215))=TRUE,(('12.Partner Involvement'!$D215*'12.Partner Involvement'!$E215)/COUNTA(_xlfn.TEXTSPLIT('12.Partner Involvement'!$H215,\";\"))),\"\")","v":""},{"$f":"IF(ISNUMBER(SEARCH(G$206,'12.Partner Involvement'!$H215))=TRUE,(('12.Partner Involvement'!$D215*'12.Partner Involvement'!$E215)/COUNTA(_xlfn.TEXTSPLIT('12.Partner Involvement'!$H215,\";\"))),\"\")","v":""},{"$f":"IF(ISNUMBER(SEARCH(H$206,'12.Partner Involvement'!$H215))=TRUE,(('12.Partner Involvement'!$D215*'12.Partner Involvement'!$E215)/COUNTA(_xlfn.TEXTSPLIT('12.Partner Involvement'!$H215,\";\"))),\"\")","v":""}]
[{"$f":"IF(ISNUMBER(SEARCH(A$206,'12.Partner Involvement'!$G216))=TRUE,(('12.Partner Involvement'!$D216*'12.Partner Involvement'!$E216)/COUNTA(_xlfn.TEXTSPLIT('12.Partner Involvement'!$G216,\";\"))),\"\")","v":""},{"$f":"IF(ISNUMBER(SEARCH(B$206,'12.Partner Involvement'!$G216))=TRUE,(('12.Partner Involvement'!$D216*'12.Partner Involvement'!$E216)/COUNTA(_xlfn.TEXTSPLIT('12.Partner Involvement'!$G216,\";\"))),\"\")","v":""},{"$f":"IF(ISNUMBER(SEARCH(C$206,'12.Partner Involvement'!$G216))=TRUE,(('12.Partner Involvement'!$D216*'12.Partner Involvement'!$E216)/COUNTA(_xlfn.TEXTSPLIT('12.Partner Involvement'!$G216,\";\"))),\"\")","v":""},null,{"$f":"IF(ISNUMBER(SEARCH(E$206,'12.Partner Involvement'!$H216))=TRUE,(('12.Partner Involvement'!$D216*'12.Partner Involvement'!$E216)/COUNTA(_xlfn.TEXTSPLIT('12.Partner Involvement'!$H216,\";\"))),\"\")","v":""},{"$f":"IF(ISNUMBER(SEARCH(F$206,'12.Partner Involvement'!$H216))=TRUE,(('12.Partner Involvement'!$D216*'12.Partner Involvement'!$E216)/COUNTA(_xlfn.TEXTSPLIT('12.Partner Involvement'!$H216,\";\"))),\"\")","v":""},{"$f":"IF(ISNUMBER(SEARCH(G$206,'12.Partner Involvement'!$H216))=TRUE,(('12.Partner Involvement'!$D216*'12.Partner Involvement'!$E216)/COUNTA(_xlfn.TEXTSPLIT('12.Partner Involvement'!$H216,\";\"))),\"\")","v":""},{"$f":"IF(ISNUMBER(SEARCH(H$206,'12.Partner Involvement'!$H216))=TRUE,(('12.Partner Involvement'!$D216*'12.Partner Involvement'!$E216)/COUNTA(_xlfn.TEXTSPLIT('12.Partner Involvement'!$H216,\";\"))),\"\")","v":""}]
[{"$f":"IF(ISNUMBER(SEARCH(A$206,'12.Partner Involvement'!$G217))=TRUE,(('12.Partner Involvement'!$D217*'12.Partner Involvement'!$E217)/COUNTA(_xlfn.TEXTSPLIT('12.Partner Involvement'!$G217,\";\"))),\"\")","v":""},{"$f":"IF(ISNUMBER(SEARCH(B$206,'12.Partner Involvement'!$G217))=TRUE,(('12.Partner Involvement'!$D217*'12.Partner Involvement'!$E217)/COUNTA(_xlfn.TEXTSPLIT('12.Partner Involvement'!$G217,\";\"))),\"\")","v":""},{"$f":"IF(ISNUMBER(SEARCH(C$206,'12.Partner Involvement'!$G217))=TRUE,(('12.Partner Involvement'!$D217*'12.Partner Involvement'!$E217)/COUNTA(_xlfn.TEXTSPLIT('12.Partner Involvement'!$G217,\";\"))),\"\")","v":""},null,{"$f":"IF(ISNUMBER(SEARCH(E$206,'12.Partner Involvement'!$H217))=TRUE,(('12.Partner Involvement'!$D217*'12.Partner Involvement'!$E217)/COUNTA(_xlfn.TEXTSPLIT('12.Partner Involvement'!$H217,\";\"))),\"\")","v":""},{"$f":"IF(ISNUMBER(SEARCH(F$206,'12.Partner Involvement'!$H217))=TRUE,(('12.Partner Involvement'!$D217*'12.Partner Involvement'!$E217)/COUNTA(_xlfn.TEXTSPLIT('12.Partner Involvement'!$H217,\";\"))),\"\")","v":""},{"$f":"IF(ISNUMBER(SEARCH(G$206,'12.Partner Involvement'!$H217))=TRUE,(('12.Partner Involvement'!$D217*'12.Partner Involvement'!$E217)/COUNTA(_xlfn.TEXTSPLIT('12.Partner Involvement'!$H217,\";\"))),\"\")","v":""},{"$f":"IF(ISNUMBER(SEARCH(H$206,'12.Partner Involvement'!$H217))=TRUE,(('12.Partner Involvement'!$D217*'12.Partner Involvement'!$E217)/COUNTA(_xlfn.TEXTSPLIT('12.Partner Involvement'!$H217,\";\"))),\"\")","v":""}]
[{"$f":"IF(ISNUMBER(SEARCH(A$206,'12.Partner Involvement'!$G218))=TRUE,(('12.Partner Involvement'!$D218*'12.Partner Involvement'!$E218)/COUNTA(_xlfn.TEXTSPLIT('12.Partner Involvement'!$G218,\";\"))),\"\")","v":""},{"$f":"IF(ISNUMBER(SEARCH(B$206,'12.Partner Involvement'!$G218))=TRUE,(('12.Partner Involvement'!$D218*'12.Partner Involvement'!$E218)/COUNTA(_xlfn.TEXTSPLIT('12.Partner Involvement'!$G218,\";\"))),\"\")","v":""},{"$f":"IF(ISNUMBER(SEARCH(C$206,'12.Partner Involvement'!$G218))=TRUE,(('12.Partner Involvement'!$D218*'12.Partner Involvement'!$E218)/COUNTA(_xlfn.TEXTSPLIT('12.Partner Involvement'!$G218,\";\"))),\"\")","v":""},null,{"$f":"IF(ISNUMBER(SEARCH(E$206,'12.Partner Involvement'!$H218))=TRUE,(('12.Partner Involvement'!$D218*'12.Partner Involvement'!$E218)/COUNTA(_xlfn.TEXTSPLIT('12.Partner Involvement'!$H218,\";\"))),\"\")","v":""},{"$f":"IF(ISNUMBER(SEARCH(F$206,'12.Partner Involvement'!$H218))=TRUE,(('12.Partner Involvement'!$D218*'12.Partner Involvement'!$E218)/COUNTA(_xlfn.TEXTSPLIT('12.Partner Involvement'!$H218,\";\"))),\"\")","v":""},{"$f":"IF(ISNUMBER(SEARCH(G$206,'12.Partner Involvement'!$H218))=TRUE,(('12.Partner Involvement'!$D218*'12.Partner Involvement'!$E218)/COUNTA(_xlfn.TEXTSPLIT('12.Partner Involvement'!$H218,\";\"))),\"\")","v":""},{"$f":"IF(ISNUMBER(SEARCH(H$206,'12.Partner Involvement'!$H218))=TRUE,(('12.Partner Involvement'!$D218*'12.Partner Involvement'!$E218)/COUNTA(_xlfn.TEXTSPLIT('12.Partner Involvement'!$H218,\";\"))),\"\")","v":""}]
[{"$f":"IF(ISNUMBER(SEARCH(A$206,'12.Partner Involvement'!$G219))=TRUE,(('12.Partner Involvement'!$D219*'12.Partner Involvement'!$E219)/COUNTA(_xlfn.TEXTSPLIT('12.Partner Involvement'!$G219,\";\"))),\"\")","v":""},{"$f":"IF(ISNUMBER(SEARCH(B$206,'12.Partner Involvement'!$G219))=TRUE,(('12.Partner Involvement'!$D219*'12.Partner Involvement'!$E219)/COUNTA(_xlfn.TEXTSPLIT('12.Partner Involvement'!$G219,\";\"))),\"\")","v":""},{"$f":"IF(ISNUMBER(SEARCH(C$206,'12.Partner Involvement'!$G219))=TRUE,(('12.Partner Involvement'!$D219*'12.Partner Involvement'!$E219)/COUNTA(_xlfn.TEXTSPLIT('12.Partner Involvement'!$G219,\";\"))),\"\")","v":""},null,{"$f":"IF(ISNUMBER(SEARCH(E$206,'12.Partner Involvement'!$H219))=TRUE,(('12.Partner Involvement'!$D219*'12.Partner Involvement'!$E219)/COUNTA(_xlfn.TEXTSPLIT('12.Partner Involvement'!$H219,\";\"))),\"\")","v":""},{"$f":"IF(ISNUMBER(SEARCH(F$206,'12.Partner Involvement'!$H219))=TRUE,(('12.Partner Involvement'!$D219*'12.Partner Involvement'!$E219)/COUNTA(_xlfn.TEXTSPLIT('12.Partner Involvement'!$H219,\";\"))),\"\")","v":""},{"$f":"IF(ISNUMBER(SEARCH(G$206,'12.Partner Involvement'!$H219))=TRUE,(('12.Partner Involvement'!$D219*'12.Partner Involvement'!$E219)/COUNTA(_xlfn.TEXTSPLIT('12.Partner Involvement'!$H219,\";\"))),\"\")","v":""},{"$f":"IF(ISNUMBER(SEARCH(H$206,'12.Partner Involvement'!$H219))=TRUE,(('12.Partner Involvement'!$D219*'12.Partner Involvement'!$E219)/COUNTA(_xlfn.TEXTSPLIT('12.Partner Involvement'!$H219,\";\"))),\"\")","v":""}]
[{"$f":"IF(ISNUMBER(SEARCH(A$206,'12.Partner Involvement'!$G220))=TRUE,(('12.Partner Involvement'!$D220*'12.Partner Involvement'!$E220)/COUNTA(_xlfn.TEXTSPLIT('12.Partner Involvement'!$G220,\";\"))),\"\")","v":""},{"$f":"IF(ISNUMBER(SEARCH(B$206,'12.Partner Involvement'!$G220))=TRUE,(('12.Partner Involvement'!$D220*'12.Partner Involvement'!$E220)/COUNTA(_xlfn.TEXTSPLIT('12.Partner Involvement'!$G220,\";\"))),\"\")","v":""},{"$f":"IF(ISNUMBER(SEARCH(C$206,'12.Partner Involvement'!$G220))=TRUE,(('12.Partner Involvement'!$D220*'12.Partner Involvement'!$E220)/COUNTA(_xlfn.TEXTSPLIT('12.Partner Involvement'!$G220,\";\"))),\"\")","v":""},null,{"$f":"IF(ISNUMBER(SEARCH(E$206,'12.Partner Involvement'!$H220))=TRUE,(('12.Partner Involvement'!$D220*'12.Partner Involvement'!$E220)/COUNTA(_xlfn.TEXTSPLIT('12.Partner Involvement'!$H220,\";\"))),\"\")","v":""},{"$f":"IF(ISNUMBER(SEARCH(F$206,'12.Partner Involvement'!$H220))=TRUE,(('12.Partner Involvement'!$D220*'12.Partner Involvement'!$E220)/COUNTA(_xlfn.TEXTSPLIT('12.Partner Involvement'!$H220,\";\"))),\"\")","v":""},{"$f":"IF(ISNUMBER(SEARCH(G$206,'12.Partner Involvement'!$H220))=TRUE,(('12.Partner Involvement'!$D220*'12.Partner Involvement'!$E220)/COUNTA(_xlfn.TEXTSPLIT('12.Partner Involvement'!$H220,\";\"))),\"\")","v":""},{"$f":"IF(ISNUMBER(SEARCH(H$206,'12.Partner Involvement'!$H220))=TRUE,(('12.Partner Involvement'!$D220*'12.Partner Involvement'!$E220)/COUNTA(_xlfn.TEXTSPLIT('12.Partner Involvement'!$H220,\";\"))),\"\")","v":""}]
[{"$f":"IF(ISNUMBER(SEARCH(A$206,'12.Partner Involvement'!$G221))=TRUE,(('12.Partner Involvement'!$D221*'12.Partner Involvement'!$E221)/COUNTA(_xlfn.TEXTSPLIT('12.Partner Involvement'!$G221,\";\"))),\"\")","v":""},{"$f":"IF(ISNUMBER(SEARCH(B$206,'12.Partner Involvement'!$G221))=TRUE,(('12.Partner Involvement'!$D221*'12.Partner Involvement'!$E221)/COUNTA(_xlfn.TEXTSPLIT('12.Partner Involvement'!$G221,\";\"))),\"\")","v":""},{"$f":"IF(ISNUMBER(SEARCH(C$206,'12.Partner Involvement'!$G221))=TRUE,(('12.Partner Involvement'!$D221*'12.Partner Involvement'!$E221)/COUNTA(_xlfn.TEXTSPLIT('12.Partner Involvement'!$G221,\";\"))),\"\")","v":""},null,{"$f":"IF(ISNUMBER(SEARCH(E$206,'12.Partner Involvement'!$H221))=TRUE,(('12.Partner Involvement'!$D221*'12.Partner Involvement'!$E221)/COUNTA(_xlfn.TEXTSPLIT('12.Partner Involvement'!$H221,\";\"))),\"\")","v":""},{"$f":"IF(ISNUMBER(SEARCH(F$206,'12.Partner Involvement'!$H221))=TRUE,(('12.Partner Involvement'!$D221*'12.Partner Involvement'!$E221)/COUNTA(_xlfn.TEXTSPLIT('12.Partner Involvement'!$H221,\";\"))),\"\")","v":""},{"$f":"IF(ISNUMBER(SEARCH(G$206,'12.Partner Involvement'!$H221))=TRUE,(('12.Partner Involvement'!$D221*'12.Partner Involvement'!$E221)/COUNTA(_xlfn.TEXTSPLIT('12.Partner Involvement'!$H221,\";\"))),\"\")","v":""},{"$f":"IF(ISNUMBER(SEARCH(H$206,'12.Partner Involvement'!$H221))=TRUE,(('12.Partner Involvement'!$D221*'12.Partner Involvement'!$E221)/COUNTA(_xlfn.TEXTSPLIT('12.Partner Involvement'!$H221,\";\"))),\"\")","v":""}]
[{"$f":"IF(ISNUMBER(SEARCH(A$206,'12.Partner Involvement'!$G222))=TRUE,(('12.Partner Involvement'!$D222*'12.Partner Involvement'!$E222)/COUNTA(_xlfn.TEXTSPLIT('12.Partner Involvement'!$G222,\";\"))),\"\")","v":""},{"$f":"IF(ISNUMBER(SEARCH(B$206,'12.Partner Involvement'!$G222))=TRUE,(('12.Partner Involvement'!$D222*'12.Partner Involvement'!$E222)/COUNTA(_xlfn.TEXTSPLIT('12.Partner Involvement'!$G222,\";\"))),\"\")","v":""},{"$f":"IF(ISNUMBER(SEARCH(C$206,'12.Partner Involvement'!$G222))=TRUE,(('12.Partner Involvement'!$D222*'12.Partner Involvement'!$E222)/COUNTA(_xlfn.TEXTSPLIT('12.Partner Involvement'!$G222,\";\"))),\"\")","v":""},null,{"$f":"IF(ISNUMBER(SEARCH(E$206,'12.Partner Involvement'!$H222))=TRUE,(('12.Partner Involvement'!$D222*'12.Partner Involvement'!$E222)/COUNTA(_xlfn.TEXTSPLIT('12.Partner Involvement'!$H222,\";\"))),\"\")","v":""},{"$f":"IF(ISNUMBER(SEARCH(F$206,'12.Partner Involvement'!$H222))=TRUE,(('12.Partner Involvement'!$D222*'12.Partner Involvement'!$E222)/COUNTA(_xlfn.TEXTSPLIT('12.Partner Involvement'!$H222,\";\"))),\"\")","v":""},{"$f":"IF(ISNUMBER(SEARCH(G$206,'12.Partner Involvement'!$H222))=TRUE,(('12.Partner Involvement'!$D222*'12.Partner Involvement'!$E222)/COUNTA(_xlfn.TEXTSPLIT('12.Partner Involvement'!$H222,\";\"))),\"\")","v":""},{"$f":"IF(ISNUMBER(SEARCH(H$206,'12.Partner Involvement'!$H222))=TRUE,(('12.Partner Involvement'!$D222*'12.Partner Involvement'!$E222)/COUNTA(_xlfn.TEXTSPLIT('12.Partner Involvement'!$H222,\";\"))),\"\")","v":""}]
[{"$f":"IF(ISNUMBER(SEARCH(A$206,'12.Partner Involvement'!$G223))=TRUE,(('12.Partner Involvement'!$D223*'12.Partner Involvement'!$E223)/COUNTA(_xlfn.TEXTSPLIT('12.Partner Involvement'!$G223,\";\"))),\"\")","v":""},{"$f":"IF(ISNUMBER(SEARCH(B$206,'12.Partner Involvement'!$G223))=TRUE,(('12.Partner Involvement'!$D223*'12.Partner Involvement'!$E223)/COUNTA(_xlfn.TEXTSPLIT('12.Partner Involvement'!$G223,\";\"))),\"\")","v":""},{"$f":"IF(ISNUMBER(SEARCH(C$206,'12.Partner Involvement'!$G223))=TRUE,(('12.Partner Involvement'!$D223*'12.Partner Involvement'!$E223)/COUNTA(_xlfn.TEXTSPLIT('12.Partner Involvement'!$G223,\";\"))),\"\")","v":""},null,{"$f":"IF(ISNUMBER(SEARCH(E$206,'12.Partner Involvement'!$H223))=TRUE,(('12.Partner Involvement'!$D223*'12.Partner Involvement'!$E223)/COUNTA(_xlfn.TEXTSPLIT('12.Partner Involvement'!$H223,\";\"))),\"\")","v":""},{"$f":"IF(ISNUMBER(SEARCH(F$206,'12.Partner Involvement'!$H223))=TRUE,(('12.Partner Involvement'!$D223*'12.Partner Involvement'!$E223)/COUNTA(_xlfn.TEXTSPLIT('12.Partner Involvement'!$H223,\";\"))),\"\")","v":""},{"$f":"IF(ISNUMBER(SEARCH(G$206,'12.Partner Involvement'!$H223))=TRUE,(('12.Partner Involvement'!$D223*'12.Partner Involvement'!$E223)/COUNTA(_xlfn.TEXTSPLIT('12.Partner Involvement'!$H223,\";\"))),\"\")","v":""},{"$f":"IF(ISNUMBER(SEARCH(H$206,'12.Partner Involvement'!$H223))=TRUE,(('12.Partner Involvement'!$D223*'12.Partner Involvement'!$E223)/COUNTA(_xlfn.TEXTSPLIT('12.Partner Involvement'!$H223,\";\"))),\"\")","v":""}]
[{"$f":"IF(ISNUMBER(SEARCH(A$206,'12.Partner Involvement'!$G224))=TRUE,(('12.Partner Involvement'!$D224*'12.Partner Involvement'!$E224)/COUNTA(_xlfn.TEXTSPLIT('12.Partner Involvement'!$G224,\";\"))),\"\")","v":""},{"$f":"IF(ISNUMBER(SEARCH(B$206,'12.Partner Involvement'!$G224))=TRUE,(('12.Partner Involvement'!$D224*'12.Partner Involvement'!$E224)/COUNTA(_xlfn.TEXTSPLIT('12.Partner Involvement'!$G224,\";\"))),\"\")","v":""},{"$f":"IF(ISNUMBER(SEARCH(C$206,'12.Partner Involvement'!$G224))=TRUE,(('12.Partner Involvement'!$D224*'12.Partner Involvement'!$E224)/COUNTA(_xlfn.TEXTSPLIT('12.Partner Involvement'!$G224,\";\"))),\"\")","v":""},null,{"$f":"IF(ISNUMBER(SEARCH(E$206,'12.Partner Involvement'!$H224))=TRUE,(('12.Partner Involvement'!$D224*'12.Partner Involvement'!$E224)/COUNTA(_xlfn.TEXTSPLIT('12.Partner Involvement'!$H224,\";\"))),\"\")","v":""},{"$f":"IF(ISNUMBER(SEARCH(F$206,'12.Partner Involvement'!$H224))=TRUE,(('12.Partner Involvement'!$D224*'12.Partner Involvement'!$E224)/COUNTA(_xlfn.TEXTSPLIT('12.Partner Involvement'!$H224,\";\"))),\"\")","v":""},{"$f":"IF(ISNUMBER(SEARCH(G$206,'12.Partner Involvement'!$H224))=TRUE,(('12.Partner Involvement'!$D224*'12.Partner Involvement'!$E224)/COUNTA(_xlfn.TEXTSPLIT('12.Partner Involvement'!$H224,\";\"))),\"\")","v":""},{"$f":"IF(ISNUMBER(SEARCH(H$206,'12.Partner Involvement'!$H224))=TRUE,(('12.Partner Involvement'!$D224*'12.Partner Involvement'!$E224)/COUNTA(_xlfn.TEXTSPLIT('12.Partner Involvement'!$H224,\";\"))),\"\")","v":""}]
[{"$f":"IF(ISNUMBER(SEARCH(A$206,'12.Partner Involvement'!$G225))=TRUE,(('12.Partner Involvement'!$D225*'12.Partner Involvement'!$E225)/COUNTA(_xlfn.TEXTSPLIT('12.Partner Involvement'!$G225,\";\"))),\"\")","v":""},{"$f":"IF(ISNUMBER(SEARCH(B$206,'12.Partner Involvement'!$G225))=TRUE,(('12.Partner Involvement'!$D225*'12.Partner Involvement'!$E225)/COUNTA(_xlfn.TEXTSPLIT('12.Partner Involvement'!$G225,\";\"))),\"\")","v":""},{"$f":"IF(ISNUMBER(SEARCH(C$206,'12.Partner Involvement'!$G225))=TRUE,(('12.Partner Involvement'!$D225*'12.Partner Involvement'!$E225)/COUNTA(_xlfn.TEXTSPLIT('12.Partner Involvement'!$G225,\";\"))),\"\")","v":""},null,{"$f":"IF(ISNUMBER(SEARCH(E$206,'12.Partner Involvement'!$H225))=TRUE,(('12.Partner Involvement'!$D225*'12.Partner Involvement'!$E225)/COUNTA(_xlfn.TEXTSPLIT('12.Partner Involvement'!$H225,\";\"))),\"\")","v":""},{"$f":"IF(ISNUMBER(SEARCH(F$206,'12.Partner Involvement'!$H225))=TRUE,(('12.Partner Involvement'!$D225*'12.Partner Involvement'!$E225)/COUNTA(_xlfn.TEXTSPLIT('12.Partner Involvement'!$H225,\";\"))),\"\")","v":""},{"$f":"IF(ISNUMBER(SEARCH(G$206,'12.Partner Involvement'!$H225))=TRUE,(('12.Partner Involvement'!$D225*'12.Partner Involvement'!$E225)/COUNTA(_xlfn.TEXTSPLIT('12.Partner Involvement'!$H225,\";\"))),\"\")","v":""},{"$f":"IF(ISNUMBER(SEARCH(H$206,'12.Partner Involvement'!$H225))=TRUE,(('12.Partner Involvement'!$D225*'12.Partner Involvement'!$E225)/COUNTA(_xlfn.TEXTSPLIT('12.Partner Involvement'!$H225,\";\"))),\"\")","v":""}]
[{"$f":"IF(ISNUMBER(SEARCH(A$206,'12.Partner Involvement'!$G226))=TRUE,(('12.Partner Involvement'!$D226*'12.Partner Involvement'!$E226)/COUNTA(_xlfn.TEXTSPLIT('12.Partner Involvement'!$G226,\";\"))),\"\")","v":""},{"$f":"IF(ISNUMBER(SEARCH(B$206,'12.Partner Involvement'!$G226))=TRUE,(('12.Partner Involvement'!$D226*'12.Partner Involvement'!$E226)/COUNTA(_xlfn.TEXTSPLIT('12.Partner Involvement'!$G226,\";\"))),\"\")","v":""},{"$f":"IF(ISNUMBER(SEARCH(C$206,'12.Partner Involvement'!$G226))=TRUE,(('12.Partner Involvement'!$D226*'12.Partner Involvement'!$E226)/COUNTA(_xlfn.TEXTSPLIT('12.Partner Involvement'!$G226,\";\"))),\"\")","v":""},null,{"$f":"IF(ISNUMBER(SEARCH(E$206,'12.Partner Involvement'!$H226))=TRUE,(('12.Partner Involvement'!$D226*'12.Partner Involvement'!$E226)/COUNTA(_xlfn.TEXTSPLIT('12.Partner Involvement'!$H226,\";\"))),\"\")","v":""},{"$f":"IF(ISNUMBER(SEARCH(F$206,'12.Partner Involvement'!$H226))=TRUE,(('12.Partner Involvement'!$D226*'12.Partner Involvement'!$E226)/COUNTA(_xlfn.TEXTSPLIT('12.Partner Involvement'!$H226,\";\"))),\"\")","v":""},{"$f":"IF(ISNUMBER(SEARCH(G$206,'12.Partner Involvement'!$H226))=TRUE,(('12.Partner Involvement'!$D226*'12.Partner Involvement'!$E226)/COUNTA(_xlfn.TEXTSPLIT('12.Partner Involvement'!$H226,\";\"))),\"\")","v":""},{"$f":"IF(ISNUMBER(SEARCH(H$206,'12.Partner Involvement'!$H226))=TRUE,(('12.Partner Involvement'!$D226*'12.Partner Involvement'!$E226)/COUNTA(_xlfn.TEXTSPLIT('12.Partner Involvement'!$H226,\";\"))),\"\")","v":""}]
[{"$f":"IF(ISNUMBER(SEARCH(A$206,'12.Partner Involvement'!$G227))=TRUE,(('12.Partner Involvement'!$D227*'12.Partner Involvement'!$E227)/COUNTA(_xlfn.TEXTSPLIT('12.Partner Involvement'!$G227,\";\"))),\"\")","v":""},{"$f":"IF(ISNUMBER(SEARCH(B$206,'12.Partner Involvement'!$G227))=TRUE,(('12.Partner Involvement'!$D227*'12.Partner Involvement'!$E227)/COUNTA(_xlfn.TEXTSPLIT('12.Partner Involvement'!$G227,\";\"))),\"\")","v":""},{"$f":"IF(ISNUMBER(SEARCH(C$206,'12.Partner Involvement'!$G227))=TRUE,(('12.Partner Involvement'!$D227*'12.Partner Involvement'!$E227)/COUNTA(_xlfn.TEXTSPLIT('12.Partner Involvement'!$G227,\";\"))),\"\")","v":""},null,{"$f":"IF(ISNUMBER(SEARCH(E$206,'12.Partner Involvement'!$H227))=TRUE,(('12.Partner Involvement'!$D227*'12.Partner Involvement'!$E227)/COUNTA(_xlfn.TEXTSPLIT('12.Partner Involvement'!$H227,\";\"))),\"\")","v":""},{"$f":"IF(ISNUMBER(SEARCH(F$206,'12.Partner Involvement'!$H227))=TRUE,(('12.Partner Involvement'!$D227*'12.Partner Involvement'!$E227)/COUNTA(_xlfn.TEXTSPLIT('12.Partner Involvement'!$H227,\";\"))),\"\")","v":""},{"$f":"IF(ISNUMBER(SEARCH(G$206,'12.Partner Involvement'!$H227))=TRUE,(('12.Partner Involvement'!$D227*'12.Partner Involvement'!$E227)/COUNTA(_xlfn.TEXTSPLIT('12.Partner Involvement'!$H227,\";\"))),\"\")","v":""},{"$f":"IF(ISNUMBER(SEARCH(H$206,'12.Partner Involvement'!$H227))=TRUE,(('12.Partner Involvement'!$D227*'12.Partner Involvement'!$E227)/COUNTA(_xlfn.TEXTSPLIT('12.Partner Involvement'!$H227,\";\"))),\"\")","v":""}]
[{"$f":"IF(ISNUMBER(SEARCH(A$206,'12.Partner Involvement'!$G228))=TRUE,(('12.Partner Involvement'!$D228*'12.Partner Involvement'!$E228)/COUNTA(_xlfn.TEXTSPLIT('12.Partner Involvement'!$G228,\";\"))),\"\")","v":""},{"$f":"IF(ISNUMBER(SEARCH(B$206,'12.Partner Involvement'!$G228))=TRUE,(('12.Partner Involvement'!$D228*'12.Partner Involvement'!$E228)/COUNTA(_xlfn.TEXTSPLIT('12.Partner Involvement'!$G228,\";\"))),\"\")","v":""},{"$f":"IF(ISNUMBER(SEARCH(C$206,'12.Partner Involvement'!$G228))=TRUE,(('12.Partner Involvement'!$D228*'12.Partner Involvement'!$E228)/COUNTA(_xlfn.TEXTSPLIT('12.Partner Involvement'!$G228,\";\"))),\"\")","v":""},null,{"$f":"IF(ISNUMBER(SEARCH(E$206,'12.Partner Involvement'!$H228))=TRUE,(('12.Partner Involvement'!$D228*'12.Partner Involvement'!$E228)/COUNTA(_xlfn.TEXTSPLIT('12.Partner Involvement'!$H228,\";\"))),\"\")","v":""},{"$f":"IF(ISNUMBER(SEARCH(F$206,'12.Partner Involvement'!$H228))=TRUE,(('12.Partner Involvement'!$D228*'12.Partner Involvement'!$E228)/COUNTA(_xlfn.TEXTSPLIT('12.Partner Involvement'!$H228,\";\"))),\"\")","v":""},{"$f":"IF(ISNUMBER(SEARCH(G$206,'12.Partner Involvement'!$H228))=TRUE,(('12.Partner Involvement'!$D228*'12.Partner Involvement'!$E228)/COUNTA(_xlfn.TEXTSPLIT('12.Partner Involvement'!$H228,\";\"))),\"\")","v":""},{"$f":"IF(ISNUMBER(SEARCH(H$206,'12.Partner Involvement'!$H228))=TRUE,(('12.Partner Involvement'!$D228*'12.Partner Involvement'!$E228)/COUNTA(_xlfn.TEXTSPLIT('12.Partner Involvement'!$H228,\";\"))),\"\")","v":""}]
[{"$f":"IF(ISNUMBER(SEARCH(A$206,'12.Partner Involvement'!$G229))=TRUE,(('12.Partner Involvement'!$D229*'12.Partner Involvement'!$E229)/COUNTA(_xlfn.TEXTSPLIT('12.Partner Involvement'!$G229,\";\"))),\"\")","v":""},{"$f":"IF(ISNUMBER(SEARCH(B$206,'12.Partner Involvement'!$G229))=TRUE,(('12.Partner Involvement'!$D229*'12.Partner Involvement'!$E229)/COUNTA(_xlfn.TEXTSPLIT('12.Partner Involvement'!$G229,\";\"))),\"\")","v":""},{"$f":"IF(ISNUMBER(SEARCH(C$206,'12.Partner Involvement'!$G229))=TRUE,(('12.Partner Involvement'!$D229*'12.Partner Involvement'!$E229)/COUNTA(_xlfn.TEXTSPLIT('12.Partner Involvement'!$G229,\";\"))),\"\")","v":""},null,{"$f":"IF(ISNUMBER(SEARCH(E$206,'12.Partner Involvement'!$H229))=TRUE,(('12.Partner Involvement'!$D229*'12.Partner Involvement'!$E229)/COUNTA(_xlfn.TEXTSPLIT('12.Partner Involvement'!$H229,\";\"))),\"\")","v":""},{"$f":"IF(ISNUMBER(SEARCH(F$206,'12.Partner Involvement'!$H229))=TRUE,(('12.Partner Involvement'!$D229*'12.Partner Involvement'!$E229)/COUNTA(_xlfn.TEXTSPLIT('12.Partner Involvement'!$H229,\";\"))),\"\")","v":""},{"$f":"IF(ISNUMBER(SEARCH(G$206,'12.Partner Involvement'!$H229))=TRUE,(('12.Partner Involvement'!$D229*'12.Partner Involvement'!$E229)/COUNTA(_xlfn.TEXTSPLIT('12.Partner Involvement'!$H229,\";\"))),\"\")","v":""},{"$f":"IF(ISNUMBER(SEARCH(H$206,'12.Partner Involvement'!$H229))=TRUE,(('12.Partner Involvement'!$D229*'12.Partner Involvement'!$E229)/COUNTA(_xlfn.TEXTSPLIT('12.Partner Involvement'!$H229,\";\"))),\"\")","v":""}]
[{"$f":"IF(ISNUMBER(SEARCH(A$206,'12.Partner Involvement'!$G230))=TRUE,(('12.Partner Involvement'!$D230*'12.Partner Involvement'!$E230)/COUNTA(_xlfn.TEXTSPLIT('12.Partner Involvement'!$G230,\";\"))),\"\")","v":""},{"$f":"IF(ISNUMBER(SEARCH(B$206,'12.Partner Involvement'!$G230))=TRUE,(('12.Partner Involvement'!$D230*'12.Partner Involvement'!$E230)/COUNTA(_xlfn.TEXTSPLIT('12.Partner Involvement'!$G230,\";\"))),\"\")","v":""},{"$f":"IF(ISNUMBER(SEARCH(C$206,'12.Partner Involvement'!$G230))=TRUE,(('12.Partner Involvement'!$D230*'12.Partner Involvement'!$E230)/COUNTA(_xlfn.TEXTSPLIT('12.Partner Involvement'!$G230,\";\"))),\"\")","v":""},null,{"$f":"IF(ISNUMBER(SEARCH(E$206,'12.Partner Involvement'!$H230))=TRUE,(('12.Partner Involvement'!$D230*'12.Partner Involvement'!$E230)/COUNTA(_xlfn.TEXTSPLIT('12.Partner Involvement'!$H230,\";\"))),\"\")","v":""},{"$f":"IF(ISNUMBER(SEARCH(F$206,'12.Partner Involvement'!$H230))=TRUE,(('12.Partner Involvement'!$D230*'12.Partner Involvement'!$E230)/COUNTA(_xlfn.TEXTSPLIT('12.Partner Involvement'!$H230,\";\"))),\"\")","v":""},{"$f":"IF(ISNUMBER(SEARCH(G$206,'12.Partner Involvement'!$H230))=TRUE,(('12.Partner Involvement'!$D230*'12.Partner Involvement'!$E230)/COUNTA(_xlfn.TEXTSPLIT('12.Partner Involvement'!$H230,\";\"))),\"\")","v":""},{"$f":"IF(ISNUMBER(SEARCH(H$206,'12.Partner Involvement'!$H230))=TRUE,(('12.Partner Involvement'!$D230*'12.Partner Involvement'!$E230)/COUNTA(_xlfn.TEXTSPLIT('12.Partner Involvement'!$H230,\";\"))),\"\")","v":""}]
[{"$f":"IF(ISNUMBER(SEARCH(A$206,'12.Partner Involvement'!$G231))=TRUE,(('12.Partner Involvement'!$D231*'12.Partner Involvement'!$E231)/COUNTA(_xlfn.TEXTSPLIT('12.Partner Involvement'!$G231,\";\"))),\"\")","v":""},{"$f":"IF(ISNUMBER(SEARCH(B$206,'12.Partner Involvement'!$G231))=TRUE,(('12.Partner Involvement'!$D231*'12.Partner Involvement'!$E231)/COUNTA(_xlfn.TEXTSPLIT('12.Partner Involvement'!$G231,\";\"))),\"\")","v":""},{"$f":"IF(ISNUMBER(SEARCH(C$206,'12.Partner Involvement'!$G231))=TRUE,(('12.Partner Involvement'!$D231*'12.Partner Involvement'!$E231)/COUNTA(_xlfn.TEXTSPLIT('12.Partner Involvement'!$G231,\";\"))),\"\")","v":""},null,{"$f":"IF(ISNUMBER(SEARCH(E$206,'12.Partner Involvement'!$H231))=TRUE,(('12.Partner Involvement'!$D231*'12.Partner Involvement'!$E231)/COUNTA(_xlfn.TEXTSPLIT('12.Partner Involvement'!$H231,\";\"))),\"\")","v":""},{"$f":"IF(ISNUMBER(SEARCH(F$206,'12.Partner Involvement'!$H231))=TRUE,(('12.Partner Involvement'!$D231*'12.Partner Involvement'!$E231)/COUNTA(_xlfn.TEXTSPLIT('12.Partner Involvement'!$H231,\";\"))),\"\")","v":""},{"$f":"IF(ISNUMBER(SEARCH(G$206,'12.Partner Involvement'!$H231))=TRUE,(('12.Partner Involvement'!$D231*'12.Partner Involvement'!$E231)/COUNTA(_xlfn.TEXTSPLIT('12.Partner Involvement'!$H231,\";\"))),\"\")","v":""},{"$f":"IF(ISNUMBER(SEARCH(H$206,'12.Partner Involvement'!$H231))=TRUE,(('12.Partner Involvement'!$D231*'12.Partner Involvement'!$E231)/COUNTA(_xlfn.TEXTSPLIT('12.Partner Involvement'!$H231,\";\"))),\"\")","v":""}]
[{"$f":"IF(ISNUMBER(SEARCH(A$206,'12.Partner Involvement'!$G232))=TRUE,(('12.Partner Involvement'!$D232*'12.Partner Involvement'!$E232)/COUNTA(_xlfn.TEXTSPLIT('12.Partner Involvement'!$G232,\";\"))),\"\")","v":""},{"$f":"IF(ISNUMBER(SEARCH(B$206,'12.Partner Involvement'!$G232))=TRUE,(('12.Partner Involvement'!$D232*'12.Partner Involvement'!$E232)/COUNTA(_xlfn.TEXTSPLIT('12.Partner Involvement'!$G232,\";\"))),\"\")","v":""},{"$f":"IF(ISNUMBER(SEARCH(C$206,'12.Partner Involvement'!$G232))=TRUE,(('12.Partner Involvement'!$D232*'12.Partner Involvement'!$E232)/COUNTA(_xlfn.TEXTSPLIT('12.Partner Involvement'!$G232,\";\"))),\"\")","v":""},null,{"$f":"IF(ISNUMBER(SEARCH(E$206,'12.Partner Involvement'!$H232))=TRUE,(('12.Partner Involvement'!$D232*'12.Partner Involvement'!$E232)/COUNTA(_xlfn.TEXTSPLIT('12.Partner Involvement'!$H232,\";\"))),\"\")","v":""},{"$f":"IF(ISNUMBER(SEARCH(F$206,'12.Partner Involvement'!$H232))=TRUE,(('12.Partner Involvement'!$D232*'12.Partner Involvement'!$E232)/COUNTA(_xlfn.TEXTSPLIT('12.Partner Involvement'!$H232,\";\"))),\"\")","v":""},{"$f":"IF(ISNUMBER(SEARCH(G$206,'12.Partner Involvement'!$H232))=TRUE,(('12.Partner Involvement'!$D232*'12.Partner Involvement'!$E232)/COUNTA(_xlfn.TEXTSPLIT('12.Partner Involvement'!$H232,\";\"))),\"\")","v":""},{"$f":"IF(ISNUMBER(SEARCH(H$206,'12.Partner Involvement'!$H232))=TRUE,(('12.Partner Involvement'!$D232*'12.Partner Involvement'!$E232)/COUNTA(_xlfn.TEXTSPLIT('12.Partner Involvement'!$H232,\";\"))),\"\")","v":""}]
[{"$f":"IF(ISNUMBER(SEARCH(A$206,'12.Partner Involvement'!$G233))=TRUE,(('12.Partner Involvement'!$D233*'12.Partner Involvement'!$E233)/COUNTA(_xlfn.TEXTSPLIT('12.Partner Involvement'!$G233,\";\"))),\"\")","v":""},{"$f":"IF(ISNUMBER(SEARCH(B$206,'12.Partner Involvement'!$G233))=TRUE,(('12.Partner Involvement'!$D233*'12.Partner Involvement'!$E233)/COUNTA(_xlfn.TEXTSPLIT('12.Partner Involvement'!$G233,\";\"))),\"\")","v":""},{"$f":"IF(ISNUMBER(SEARCH(C$206,'12.Partner Involvement'!$G233))=TRUE,(('12.Partner Involvement'!$D233*'12.Partner Involvement'!$E233)/COUNTA(_xlfn.TEXTSPLIT('12.Partner Involvement'!$G233,\";\"))),\"\")","v":""},null,{"$f":"IF(ISNUMBER(SEARCH(E$206,'12.Partner Involvement'!$H233))=TRUE,(('12.Partner Involvement'!$D233*'12.Partner Involvement'!$E233)/COUNTA(_xlfn.TEXTSPLIT('12.Partner Involvement'!$H233,\";\"))),\"\")","v":""},{"$f":"IF(ISNUMBER(SEARCH(F$206,'12.Partner Involvement'!$H233))=TRUE,(('12.Partner Involvement'!$D233*'12.Partner Involvement'!$E233)/COUNTA(_xlfn.TEXTSPLIT('12.Partner Involvement'!$H233,\";\"))),\"\")","v":""},{"$f":"IF(ISNUMBER(SEARCH(G$206,'12.Partner Involvement'!$H233))=TRUE,(('12.Partner Involvement'!$D233*'12.Partner Involvement'!$E233)/COUNTA(_xlfn.TEXTSPLIT('12.Partner Involvement'!$H233,\";\"))),\"\")","v":""},{"$f":"IF(ISNUMBER(SEARCH(H$206,'12.Partner Involvement'!$H233))=TRUE,(('12.Partner Involvement'!$D233*'12.Partner Involvement'!$E233)/COUNTA(_xlfn.TEXTSPLIT('12.Partner Involvement'!$H233,\";\"))),\"\")","v":""}]
[{"$f":"IF(ISNUMBER(SEARCH(A$206,'12.Partner Involvement'!$G234))=TRUE,(('12.Partner Involvement'!$D234*'12.Partner Involvement'!$E234)/COUNTA(_xlfn.TEXTSPLIT('12.Partner Involvement'!$G234,\";\"))),\"\")","v":""},{"$f":"IF(ISNUMBER(SEARCH(B$206,'12.Partner Involvement'!$G234))=TRUE,(('12.Partner Involvement'!$D234*'12.Partner Involvement'!$E234)/COUNTA(_xlfn.TEXTSPLIT('12.Partner Involvement'!$G234,\";\"))),\"\")","v":""},{"$f":"IF(ISNUMBER(SEARCH(C$206,'12.Partner Involvement'!$G234))=TRUE,(('12.Partner Involvement'!$D234*'12.Partner Involvement'!$E234)/COUNTA(_xlfn.TEXTSPLIT('12.Partner Involvement'!$G234,\";\"))),\"\")","v":""},null,{"$f":"IF(ISNUMBER(SEARCH(E$206,'12.Partner Involvement'!$H234))=TRUE,(('12.Partner Involvement'!$D234*'12.Partner Involvement'!$E234)/COUNTA(_xlfn.TEXTSPLIT('12.Partner Involvement'!$H234,\";\"))),\"\")","v":""},{"$f":"IF(ISNUMBER(SEARCH(F$206,'12.Partner Involvement'!$H234))=TRUE,(('12.Partner Involvement'!$D234*'12.Partner Involvement'!$E234)/COUNTA(_xlfn.TEXTSPLIT('12.Partner Involvement'!$H234,\";\"))),\"\")","v":""},{"$f":"IF(ISNUMBER(SEARCH(G$206,'12.Partner Involvement'!$H234))=TRUE,(('12.Partner Involvement'!$D234*'12.Partner Involvement'!$E234)/COUNTA(_xlfn.TEXTSPLIT('12.Partner Involvement'!$H234,\";\"))),\"\")","v":""},{"$f":"IF(ISNUMBER(SEARCH(H$206,'12.Partner Involvement'!$H234))=TRUE,(('12.Partner Involvement'!$D234*'12.Partner Involvement'!$E234)/COUNTA(_xlfn.TEXTSPLIT('12.Partner Involvement'!$H234,\";\"))),\"\")","v":""}]
[{"$f":"IF(ISNUMBER(SEARCH(A$206,'12.Partner Involvement'!$G235))=TRUE,(('12.Partner Involvement'!$D235*'12.Partner Involvement'!$E235)/COUNTA(_xlfn.TEXTSPLIT('12.Partner Involvement'!$G235,\";\"))),\"\")","v":""},{"$f":"IF(ISNUMBER(SEARCH(B$206,'12.Partner Involvement'!$G235))=TRUE,(('12.Partner Involvement'!$D235*'12.Partner Involvement'!$E235)/COUNTA(_xlfn.TEXTSPLIT('12.Partner Involvement'!$G235,\";\"))),\"\")","v":""},{"$f":"IF(ISNUMBER(SEARCH(C$206,'12.Partner Involvement'!$G235))=TRUE,(('12.Partner Involvement'!$D235*'12.Partner Involvement'!$E235)/COUNTA(_xlfn.TEXTSPLIT('12.Partner Involvement'!$G235,\";\"))),\"\")","v":""},null,{"$f":"IF(ISNUMBER(SEARCH(E$206,'12.Partner Involvement'!$H235))=TRUE,(('12.Partner Involvement'!$D235*'12.Partner Involvement'!$E235)/COUNTA(_xlfn.TEXTSPLIT('12.Partner Involvement'!$H235,\";\"))),\"\")","v":""},{"$f":"IF(ISNUMBER(SEARCH(F$206,'12.Partner Involvement'!$H235))=TRUE,(('12.Partner Involvement'!$D235*'12.Partner Involvement'!$E235)/COUNTA(_xlfn.TEXTSPLIT('12.Partner Involvement'!$H235,\";\"))),\"\")","v":""},{"$f":"IF(ISNUMBER(SEARCH(G$206,'12.Partner Involvement'!$H235))=TRUE,(('12.Partner Involvement'!$D235*'12.Partner Involvement'!$E235)/COUNTA(_xlfn.TEXTSPLIT('12.Partner Involvement'!$H235,\";\"))),\"\")","v":""},{"$f":"IF(ISNUMBER(SEARCH(H$206,'12.Partner Involvement'!$H235))=TRUE,(('12.Partner Involvement'!$D235*'12.Partner Involvement'!$E235)/COUNTA(_xlfn.TEXTSPLIT('12.Partner Involvement'!$H235,\";\"))),\"\")","v":""}]
[{"$f":"IF(ISNUMBER(SEARCH(A$206,'12.Partner Involvement'!$G236))=TRUE,(('12.Partner Involvement'!$D236*'12.Partner Involvement'!$E236)/COUNTA(_xlfn.TEXTSPLIT('12.Partner Involvement'!$G236,\";\"))),\"\")","v":""},{"$f":"IF(ISNUMBER(SEARCH(B$206,'12.Partner Involvement'!$G236))=TRUE,(('12.Partner Involvement'!$D236*'12.Partner Involvement'!$E236)/COUNTA(_xlfn.TEXTSPLIT('12.Partner Involvement'!$G236,\";\"))),\"\")","v":""},{"$f":"IF(ISNUMBER(SEARCH(C$206,'12.Partner Involvement'!$G236))=TRUE,(('12.Partner Involvement'!$D236*'12.Partner Involvement'!$E236)/COUNTA(_xlfn.TEXTSPLIT('12.Partner Involvement'!$G236,\";\"))),\"\")","v":""},null,{"$f":"IF(ISNUMBER(SEARCH(E$206,'12.Partner Involvement'!$H236))=TRUE,(('12.Partner Involvement'!$D236*'12.Partner Involvement'!$E236)/COUNTA(_xlfn.TEXTSPLIT('12.Partner Involvement'!$H236,\";\"))),\"\")","v":""},{"$f":"IF(ISNUMBER(SEARCH(F$206,'12.Partner Involvement'!$H236))=TRUE,(('12.Partner Involvement'!$D236*'12.Partner Involvement'!$E236)/COUNTA(_xlfn.TEXTSPLIT('12.Partner Involvement'!$H236,\";\"))),\"\")","v":""},{"$f":"IF(ISNUMBER(SEARCH(G$206,'12.Partner Involvement'!$H236))=TRUE,(('12.Partner Involvement'!$D236*'12.Partner Involvement'!$E236)/COUNTA(_xlfn.TEXTSPLIT('12.Partner Involvement'!$H236,\";\"))),\"\")","v":""},{"$f":"IF(ISNUMBER(SEARCH(H$206,'12.Partner Involvement'!$H236))=TRUE,(('12.Partner Involvement'!$D236*'12.Partner Involvement'!$E236)/COUNTA(_xlfn.TEXTSPLIT('12.Partner Involvement'!$H236,\";\"))),\"\")","v":""}]
[{"$f":"IF(ISNUMBER(SEARCH(A$206,'12.Partner Involvement'!$G237))=TRUE,(('12.Partner Involvement'!$D237*'12.Partner Involvement'!$E237)/COUNTA(_xlfn.TEXTSPLIT('12.Partner Involvement'!$G237,\";\"))),\"\")","v":""},{"$f":"IF(ISNUMBER(SEARCH(B$206,'12.Partner Involvement'!$G237))=TRUE,(('12.Partner Involvement'!$D237*'12.Partner Involvement'!$E237)/COUNTA(_xlfn.TEXTSPLIT('12.Partner Involvement'!$G237,\";\"))),\"\")","v":""},{"$f":"IF(ISNUMBER(SEARCH(C$206,'12.Partner Involvement'!$G237))=TRUE,(('12.Partner Involvement'!$D237*'12.Partner Involvement'!$E237)/COUNTA(_xlfn.TEXTSPLIT('12.Partner Involvement'!$G237,\";\"))),\"\")","v":""},null,{"$f":"IF(ISNUMBER(SEARCH(E$206,'12.Partner Involvement'!$H237))=TRUE,(('12.Partner Involvement'!$D237*'12.Partner Involvement'!$E237)/COUNTA(_xlfn.TEXTSPLIT('12.Partner Involvement'!$H237,\";\"))),\"\")","v":""},{"$f":"IF(ISNUMBER(SEARCH(F$206,'12.Partner Involvement'!$H237))=TRUE,(('12.Partner Involvement'!$D237*'12.Partner Involvement'!$E237)/COUNTA(_xlfn.TEXTSPLIT('12.Partner Involvement'!$H237,\";\"))),\"\")","v":""},{"$f":"IF(ISNUMBER(SEARCH(G$206,'12.Partner Involvement'!$H237))=TRUE,(('12.Partner Involvement'!$D237*'12.Partner Involvement'!$E237)/COUNTA(_xlfn.TEXTSPLIT('12.Partner Involvement'!$H237,\";\"))),\"\")","v":""},{"$f":"IF(ISNUMBER(SEARCH(H$206,'12.Partner Involvement'!$H237))=TRUE,(('12.Partner Involvement'!$D237*'12.Partner Involvement'!$E237)/COUNTA(_xlfn.TEXTSPLIT('12.Partner Involvement'!$H237,\";\"))),\"\")","v":""}]
[{"$f":"IF(ISNUMBER(SEARCH(A$206,'12.Partner Involvement'!$G238))=TRUE,(('12.Partner Involvement'!$D238*'12.Partner Involvement'!$E238)/COUNTA(_xlfn.TEXTSPLIT('12.Partner Involvement'!$G238,\";\"))),\"\")","v":""},{"$f":"IF(ISNUMBER(SEARCH(B$206,'12.Partner Involvement'!$G238))=TRUE,(('12.Partner Involvement'!$D238*'12.Partner Involvement'!$E238)/COUNTA(_xlfn.TEXTSPLIT('12.Partner Involvement'!$G238,\";\"))),\"\")","v":""},{"$f":"IF(ISNUMBER(SEARCH(C$206,'12.Partner Involvement'!$G238))=TRUE,(('12.Partner Involvement'!$D238*'12.Partner Involvement'!$E238)/COUNTA(_xlfn.TEXTSPLIT('12.Partner Involvement'!$G238,\";\"))),\"\")","v":""},null,{"$f":"IF(ISNUMBER(SEARCH(E$206,'12.Partner Involvement'!$H238))=TRUE,(('12.Partner Involvement'!$D238*'12.Partner Involvement'!$E238)/COUNTA(_xlfn.TEXTSPLIT('12.Partner Involvement'!$H238,\";\"))),\"\")","v":""},{"$f":"IF(ISNUMBER(SEARCH(F$206,'12.Partner Involvement'!$H238))=TRUE,(('12.Partner Involvement'!$D238*'12.Partner Involvement'!$E238)/COUNTA(_xlfn.TEXTSPLIT('12.Partner Involvement'!$H238,\";\"))),\"\")","v":""},{"$f":"IF(ISNUMBER(SEARCH(G$206,'12.Partner Involvement'!$H238))=TRUE,(('12.Partner Involvement'!$D238*'12.Partner Involvement'!$E238)/COUNTA(_xlfn.TEXTSPLIT('12.Partner Involvement'!$H238,\";\"))),\"\")","v":""},{"$f":"IF(ISNUMBER(SEARCH(H$206,'12.Partner Involvement'!$H238))=TRUE,(('12.Partner Involvement'!$D238*'12.Partner Involvement'!$E238)/COUNTA(_xlfn.TEXTSPLIT('12.Partner Involvement'!$H238,\";\"))),\"\")","v":""}]
[{"$f":"IF(ISNUMBER(SEARCH(A$206,'12.Partner Involvement'!$G239))=TRUE,(('12.Partner Involvement'!$D239*'12.Partner Involvement'!$E239)/COUNTA(_xlfn.TEXTSPLIT('12.Partner Involvement'!$G239,\";\"))),\"\")","v":""},{"$f":"IF(ISNUMBER(SEARCH(B$206,'12.Partner Involvement'!$G239))=TRUE,(('12.Partner Involvement'!$D239*'12.Partner Involvement'!$E239)/COUNTA(_xlfn.TEXTSPLIT('12.Partner Involvement'!$G239,\";\"))),\"\")","v":""},{"$f":"IF(ISNUMBER(SEARCH(C$206,'12.Partner Involvement'!$G239))=TRUE,(('12.Partner Involvement'!$D239*'12.Partner Involvement'!$E239)/COUNTA(_xlfn.TEXTSPLIT('12.Partner Involvement'!$G239,\";\"))),\"\")","v":""},null,{"$f":"IF(ISNUMBER(SEARCH(E$206,'12.Partner Involvement'!$H239))=TRUE,(('12.Partner Involvement'!$D239*'12.Partner Involvement'!$E239)/COUNTA(_xlfn.TEXTSPLIT('12.Partner Involvement'!$H239,\";\"))),\"\")","v":""},{"$f":"IF(ISNUMBER(SEARCH(F$206,'12.Partner Involvement'!$H239))=TRUE,(('12.Partner Involvement'!$D239*'12.Partner Involvement'!$E239)/COUNTA(_xlfn.TEXTSPLIT('12.Partner Involvement'!$H239,\";\"))),\"\")","v":""},{"$f":"IF(ISNUMBER(SEARCH(G$206,'12.Partner Involvement'!$H239))=TRUE,(('12.Partner Involvement'!$D239*'12.Partner Involvement'!$E239)/COUNTA(_xlfn.TEXTSPLIT('12.Partner Involvement'!$H239,\";\"))),\"\")","v":""},{"$f":"IF(ISNUMBER(SEARCH(H$206,'12.Partner Involvement'!$H239))=TRUE,(('12.Partner Involvement'!$D239*'12.Partner Involvement'!$E239)/COUNTA(_xlfn.TEXTSPLIT('12.Partner Involvement'!$H239,\";\"))),\"\")","v":""}]
[{"$f":"IF(ISNUMBER(SEARCH(A$206,'12.Partner Involvement'!$G240))=TRUE,(('12.Partner Involvement'!$D240*'12.Partner Involvement'!$E240)/COUNTA(_xlfn.TEXTSPLIT('12.Partner Involvement'!$G240,\";\"))),\"\")","v":""},{"$f":"IF(ISNUMBER(SEARCH(B$206,'12.Partner Involvement'!$G240))=TRUE,(('12.Partner Involvement'!$D240*'12.Partner Involvement'!$E240)/COUNTA(_xlfn.TEXTSPLIT('12.Partner Involvement'!$G240,\";\"))),\"\")","v":""},{"$f":"IF(ISNUMBER(SEARCH(C$206,'12.Partner Involvement'!$G240))=TRUE,(('12.Partner Involvement'!$D240*'12.Partner Involvement'!$E240)/COUNTA(_xlfn.TEXTSPLIT('12.Partner Involvement'!$G240,\";\"))),\"\")","v":""},null,{"$f":"IF(ISNUMBER(SEARCH(E$206,'12.Partner Involvement'!$H240))=TRUE,(('12.Partner Involvement'!$D240*'12.Partner Involvement'!$E240)/COUNTA(_xlfn.TEXTSPLIT('12.Partner Involvement'!$H240,\";\"))),\"\")","v":""},{"$f":"IF(ISNUMBER(SEARCH(F$206,'12.Partner Involvement'!$H240))=TRUE,(('12.Partner Involvement'!$D240*'12.Partner Involvement'!$E240)/COUNTA(_xlfn.TEXTSPLIT('12.Partner Involvement'!$H240,\";\"))),\"\")","v":""},{"$f":"IF(ISNUMBER(SEARCH(G$206,'12.Partner Involvement'!$H240))=TRUE,(('12.Partner Involvement'!$D240*'12.Partner Involvement'!$E240)/COUNTA(_xlfn.TEXTSPLIT('12.Partner Involvement'!$H240,\";\"))),\"\")","v":""},{"$f":"IF(ISNUMBER(SEARCH(H$206,'12.Partner Involvement'!$H240))=TRUE,(('12.Partner Involvement'!$D240*'12.Partner Involvement'!$E240)/COUNTA(_xlfn.TEXTSPLIT('12.Partner Involvement'!$H240,\";\"))),\"\")","v":""}]
[{"$f":"IF(ISNUMBER(SEARCH(A$206,'12.Partner Involvement'!$G241))=TRUE,(('12.Partner Involvement'!$D241*'12.Partner Involvement'!$E241)/COUNTA(_xlfn.TEXTSPLIT('12.Partner Involvement'!$G241,\";\"))),\"\")","v":""},{"$f":"IF(ISNUMBER(SEARCH(B$206,'12.Partner Involvement'!$G241))=TRUE,(('12.Partner Involvement'!$D241*'12.Partner Involvement'!$E241)/COUNTA(_xlfn.TEXTSPLIT('12.Partner Involvement'!$G241,\";\"))),\"\")","v":""},{"$f":"IF(ISNUMBER(SEARCH(C$206,'12.Partner Involvement'!$G241))=TRUE,(('12.Partner Involvement'!$D241*'12.Partner Involvement'!$E241)/COUNTA(_xlfn.TEXTSPLIT('12.Partner Involvement'!$G241,\";\"))),\"\")","v":""},null,{"$f":"IF(ISNUMBER(SEARCH(E$206,'12.Partner Involvement'!$H241))=TRUE,(('12.Partner Involvement'!$D241*'12.Partner Involvement'!$E241)/COUNTA(_xlfn.TEXTSPLIT('12.Partner Involvement'!$H241,\";\"))),\"\")","v":""},{"$f":"IF(ISNUMBER(SEARCH(F$206,'12.Partner Involvement'!$H241))=TRUE,(('12.Partner Involvement'!$D241*'12.Partner Involvement'!$E241)/COUNTA(_xlfn.TEXTSPLIT('12.Partner Involvement'!$H241,\";\"))),\"\")","v":""},{"$f":"IF(ISNUMBER(SEARCH(G$206,'12.Partner Involvement'!$H241))=TRUE,(('12.Partner Involvement'!$D241*'12.Partner Involvement'!$E241)/COUNTA(_xlfn.TEXTSPLIT('12.Partner Involvement'!$H241,\";\"))),\"\")","v":""},{"$f":"IF(ISNUMBER(SEARCH(H$206,'12.Partner Involvement'!$H241))=TRUE,(('12.Partner Involvement'!$D241*'12.Partner Involvement'!$E241)/COUNTA(_xlfn.TEXTSPLIT('12.Partner Involvement'!$H241,\";\"))),\"\")","v":""}]
[{"$f":"IF(ISNUMBER(SEARCH(A$206,'12.Partner Involvement'!$G242))=TRUE,(('12.Partner Involvement'!$D242*'12.Partner Involvement'!$E242)/COUNTA(_xlfn.TEXTSPLIT('12.Partner Involvement'!$G242,\";\"))),\"\")","v":""},{"$f":"IF(ISNUMBER(SEARCH(B$206,'12.Partner Involvement'!$G242))=TRUE,(('12.Partner Involvement'!$D242*'12.Partner Involvement'!$E242)/COUNTA(_xlfn.TEXTSPLIT('12.Partner Involvement'!$G242,\";\"))),\"\")","v":""},{"$f":"IF(ISNUMBER(SEARCH(C$206,'12.Partner Involvement'!$G242))=TRUE,(('12.Partner Involvement'!$D242*'12.Partner Involvement'!$E242)/COUNTA(_xlfn.TEXTSPLIT('12.Partner Involvement'!$G242,\";\"))),\"\")","v":""},null,{"$f":"IF(ISNUMBER(SEARCH(E$206,'12.Partner Involvement'!$H242))=TRUE,(('12.Partner Involvement'!$D242*'12.Partner Involvement'!$E242)/COUNTA(_xlfn.TEXTSPLIT('12.Partner Involvement'!$H242,\";\"))),\"\")","v":""},{"$f":"IF(ISNUMBER(SEARCH(F$206,'12.Partner Involvement'!$H242))=TRUE,(('12.Partner Involvement'!$D242*'12.Partner Involvement'!$E242)/COUNTA(_xlfn.TEXTSPLIT('12.Partner Involvement'!$H242,\";\"))),\"\")","v":""},{"$f":"IF(ISNUMBER(SEARCH(G$206,'12.Partner Involvement'!$H242))=TRUE,(('12.Partner Involvement'!$D242*'12.Partner Involvement'!$E242)/COUNTA(_xlfn.TEXTSPLIT('12.Partner Involvement'!$H242,\";\"))),\"\")","v":""},{"$f":"IF(ISNUMBER(SEARCH(H$206,'12.Partner Involvement'!$H242))=TRUE,(('12.Partner Involvement'!$D242*'12.Partner Involvement'!$E242)/COUNTA(_xlfn.TEXTSPLIT('12.Partner Involvement'!$H242,\";\"))),\"\")","v":""}]
[{"$f":"IF(ISNUMBER(SEARCH(A$206,'12.Partner Involvement'!$G243))=TRUE,(('12.Partner Involvement'!$D243*'12.Partner Involvement'!$E243)/COUNTA(_xlfn.TEXTSPLIT('12.Partner Involvement'!$G243,\";\"))),\"\")","v":""},{"$f":"IF(ISNUMBER(SEARCH(B$206,'12.Partner Involvement'!$G243))=TRUE,(('12.Partner Involvement'!$D243*'12.Partner Involvement'!$E243)/COUNTA(_xlfn.TEXTSPLIT('12.Partner Involvement'!$G243,\";\"))),\"\")","v":""},{"$f":"IF(ISNUMBER(SEARCH(C$206,'12.Partner Involvement'!$G243))=TRUE,(('12.Partner Involvement'!$D243*'12.Partner Involvement'!$E243)/COUNTA(_xlfn.TEXTSPLIT('12.Partner Involvement'!$G243,\";\"))),\"\")","v":""},null,{"$f":"IF(ISNUMBER(SEARCH(E$206,'12.Partner Involvement'!$H243))=TRUE,(('12.Partner Involvement'!$D243*'12.Partner Involvement'!$E243)/COUNTA(_xlfn.TEXTSPLIT('12.Partner Involvement'!$H243,\";\"))),\"\")","v":""},{"$f":"IF(ISNUMBER(SEARCH(F$206,'12.Partner Involvement'!$H243))=TRUE,(('12.Partner Involvement'!$D243*'12.Partner Involvement'!$E243)/COUNTA(_xlfn.TEXTSPLIT('12.Partner Involvement'!$H243,\";\"))),\"\")","v":""},{"$f":"IF(ISNUMBER(SEARCH(G$206,'12.Partner Involvement'!$H243))=TRUE,(('12.Partner Involvement'!$D243*'12.Partner Involvement'!$E243)/COUNTA(_xlfn.TEXTSPLIT('12.Partner Involvement'!$H243,\";\"))),\"\")","v":""},{"$f":"IF(ISNUMBER(SEARCH(H$206,'12.Partner Involvement'!$H243))=TRUE,(('12.Partner Involvement'!$D243*'12.Partner Involvement'!$E243)/COUNTA(_xlfn.TEXTSPLIT('12.Partner Involvement'!$H243,\";\"))),\"\")","v":""}]
[{"$f":"IF(ISNUMBER(SEARCH(A$206,'12.Partner Involvement'!$G244))=TRUE,(('12.Partner Involvement'!$D244*'12.Partner Involvement'!$E244)/COUNTA(_xlfn.TEXTSPLIT('12.Partner Involvement'!$G244,\";\"))),\"\")","v":""},{"$f":"IF(ISNUMBER(SEARCH(B$206,'12.Partner Involvement'!$G244))=TRUE,(('12.Partner Involvement'!$D244*'12.Partner Involvement'!$E244)/COUNTA(_xlfn.TEXTSPLIT('12.Partner Involvement'!$G244,\";\"))),\"\")","v":""},{"$f":"IF(ISNUMBER(SEARCH(C$206,'12.Partner Involvement'!$G244))=TRUE,(('12.Partner Involvement'!$D244*'12.Partner Involvement'!$E244)/COUNTA(_xlfn.TEXTSPLIT('12.Partner Involvement'!$G244,\";\"))),\"\")","v":""},null,{"$f":"IF(ISNUMBER(SEARCH(E$206,'12.Partner Involvement'!$H244))=TRUE,(('12.Partner Involvement'!$D244*'12.Partner Involvement'!$E244)/COUNTA(_xlfn.TEXTSPLIT('12.Partner Involvement'!$H244,\";\"))),\"\")","v":""},{"$f":"IF(ISNUMBER(SEARCH(F$206,'12.Partner Involvement'!$H244))=TRUE,(('12.Partner Involvement'!$D244*'12.Partner Involvement'!$E244)/COUNTA(_xlfn.TEXTSPLIT('12.Partner Involvement'!$H244,\";\"))),\"\")","v":""},{"$f":"IF(ISNUMBER(SEARCH(G$206,'12.Partner Involvement'!$H244))=TRUE,(('12.Partner Involvement'!$D244*'12.Partner Involvement'!$E244)/COUNTA(_xlfn.TEXTSPLIT('12.Partner Involvement'!$H244,\";\"))),\"\")","v":""},{"$f":"IF(ISNUMBER(SEARCH(H$206,'12.Partner Involvement'!$H244))=TRUE,(('12.Partner Involvement'!$D244*'12.Partner Involvement'!$E244)/COUNTA(_xlfn.TEXTSPLIT('12.Partner Involvement'!$H244,\";\"))),\"\")","v":""}]
[{"$f":"IF(ISNUMBER(SEARCH(A$206,'12.Partner Involvement'!$G245))=TRUE,(('12.Partner Involvement'!$D245*'12.Partner Involvement'!$E245)/COUNTA(_xlfn.TEXTSPLIT('12.Partner Involvement'!$G245,\";\"))),\"\")","v":""},{"$f":"IF(ISNUMBER(SEARCH(B$206,'12.Partner Involvement'!$G245))=TRUE,(('12.Partner Involvement'!$D245*'12.Partner Involvement'!$E245)/COUNTA(_xlfn.TEXTSPLIT('12.Partner Involvement'!$G245,\";\"))),\"\")","v":""},{"$f":"IF(ISNUMBER(SEARCH(C$206,'12.Partner Involvement'!$G245))=TRUE,(('12.Partner Involvement'!$D245*'12.Partner Involvement'!$E245)/COUNTA(_xlfn.TEXTSPLIT('12.Partner Involvement'!$G245,\";\"))),\"\")","v":""},null,{"$f":"IF(ISNUMBER(SEARCH(E$206,'12.Partner Involvement'!$H245))=TRUE,(('12.Partner Involvement'!$D245*'12.Partner Involvement'!$E245)/COUNTA(_xlfn.TEXTSPLIT('12.Partner Involvement'!$H245,\";\"))),\"\")","v":""},{"$f":"IF(ISNUMBER(SEARCH(F$206,'12.Partner Involvement'!$H245))=TRUE,(('12.Partner Involvement'!$D245*'12.Partner Involvement'!$E245)/COUNTA(_xlfn.TEXTSPLIT('12.Partner Involvement'!$H245,\";\"))),\"\")","v":""},{"$f":"IF(ISNUMBER(SEARCH(G$206,'12.Partner Involvement'!$H245))=TRUE,(('12.Partner Involvement'!$D245*'12.Partner Involvement'!$E245)/COUNTA(_xlfn.TEXTSPLIT('12.Partner Involvement'!$H245,\";\"))),\"\")","v":""},{"$f":"IF(ISNUMBER(SEARCH(H$206,'12.Partner Involvement'!$H245))=TRUE,(('12.Partner Involvement'!$D245*'12.Partner Involvement'!$E245)/COUNTA(_xlfn.TEXTSPLIT('12.Partner Involvement'!$H245,\";\"))),\"\")","v":""}]
[{"$f":"IF(ISNUMBER(SEARCH(A$206,'12.Partner Involvement'!$G246))=TRUE,(('12.Partner Involvement'!$D246*'12.Partner Involvement'!$E246)/COUNTA(_xlfn.TEXTSPLIT('12.Partner Involvement'!$G246,\";\"))),\"\")","v":""},{"$f":"IF(ISNUMBER(SEARCH(B$206,'12.Partner Involvement'!$G246))=TRUE,(('12.Partner Involvement'!$D246*'12.Partner Involvement'!$E246)/COUNTA(_xlfn.TEXTSPLIT('12.Partner Involvement'!$G246,\";\"))),\"\")","v":""},{"$f":"IF(ISNUMBER(SEARCH(C$206,'12.Partner Involvement'!$G246))=TRUE,(('12.Partner Involvement'!$D246*'12.Partner Involvement'!$E246)/COUNTA(_xlfn.TEXTSPLIT('12.Partner Involvement'!$G246,\";\"))),\"\")","v":""},null,{"$f":"IF(ISNUMBER(SEARCH(E$206,'12.Partner Involvement'!$H246))=TRUE,(('12.Partner Involvement'!$D246*'12.Partner Involvement'!$E246)/COUNTA(_xlfn.TEXTSPLIT('12.Partner Involvement'!$H246,\";\"))),\"\")","v":""},{"$f":"IF(ISNUMBER(SEARCH(F$206,'12.Partner Involvement'!$H246))=TRUE,(('12.Partner Involvement'!$D246*'12.Partner Involvement'!$E246)/COUNTA(_xlfn.TEXTSPLIT('12.Partner Involvement'!$H246,\";\"))),\"\")","v":""},{"$f":"IF(ISNUMBER(SEARCH(G$206,'12.Partner Involvement'!$H246))=TRUE,(('12.Partner Involvement'!$D246*'12.Partner Involvement'!$E246)/COUNTA(_xlfn.TEXTSPLIT('12.Partner Involvement'!$H246,\";\"))),\"\")","v":""},{"$f":"IF(ISNUMBER(SEARCH(H$206,'12.Partner Involvement'!$H246))=TRUE,(('12.Partner Involvement'!$D246*'12.Partner Involvement'!$E246)/COUNTA(_xlfn.TEXTSPLIT('12.Partner Involvement'!$H246,\";\"))),\"\")","v":""}]
[{"$f":"IF(ISNUMBER(SEARCH(A$206,'12.Partner Involvement'!$G247))=TRUE,(('12.Partner Involvement'!$D247*'12.Partner Involvement'!$E247)/COUNTA(_xlfn.TEXTSPLIT('12.Partner Involvement'!$G247,\";\"))),\"\")","v":""},{"$f":"IF(ISNUMBER(SEARCH(B$206,'12.Partner Involvement'!$G247))=TRUE,(('12.Partner Involvement'!$D247*'12.Partner Involvement'!$E247)/COUNTA(_xlfn.TEXTSPLIT('12.Partner Involvement'!$G247,\";\"))),\"\")","v":""},{"$f":"IF(ISNUMBER(SEARCH(C$206,'12.Partner Involvement'!$G247))=TRUE,(('12.Partner Involvement'!$D247*'12.Partner Involvement'!$E247)/COUNTA(_xlfn.TEXTSPLIT('12.Partner Involvement'!$G247,\";\"))),\"\")","v":""},null,{"$f":"IF(ISNUMBER(SEARCH(E$206,'12.Partner Involvement'!$H247))=TRUE,(('12.Partner Involvement'!$D247*'12.Partner Involvement'!$E247)/COUNTA(_xlfn.TEXTSPLIT('12.Partner Involvement'!$H247,\";\"))),\"\")","v":""},{"$f":"IF(ISNUMBER(SEARCH(F$206,'12.Partner Involvement'!$H247))=TRUE,(('12.Partner Involvement'!$D247*'12.Partner Involvement'!$E247)/COUNTA(_xlfn.TEXTSPLIT('12.Partner Involvement'!$H247,\";\"))),\"\")","v":""},{"$f":"IF(ISNUMBER(SEARCH(G$206,'12.Partner Involvement'!$H247))=TRUE,(('12.Partner Involvement'!$D247*'12.Partner Involvement'!$E247)/COUNTA(_xlfn.TEXTSPLIT('12.Partner Involvement'!$H247,\";\"))),\"\")","v":""},{"$f":"IF(ISNUMBER(SEARCH(H$206,'12.Partner Involvement'!$H247))=TRUE,(('12.Partner Involvement'!$D247*'12.Partner Involvement'!$E247)/COUNTA(_xlfn.TEXTSPLIT('12.Partner Involvement'!$H247,\";\"))),\"\")","v":""}]
[{"$f":"IF(ISNUMBER(SEARCH(A$206,'12.Partner Involvement'!$G248))=TRUE,(('12.Partner Involvement'!$D248*'12.Partner Involvement'!$E248)/COUNTA(_xlfn.TEXTSPLIT('12.Partner Involvement'!$G248,\";\"))),\"\")","v":""},{"$f":"IF(ISNUMBER(SEARCH(B$206,'12.Partner Involvement'!$G248))=TRUE,(('12.Partner Involvement'!$D248*'12.Partner Involvement'!$E248)/COUNTA(_xlfn.TEXTSPLIT('12.Partner Involvement'!$G248,\";\"))),\"\")","v":""},{"$f":"IF(ISNUMBER(SEARCH(C$206,'12.Partner Involvement'!$G248))=TRUE,(('12.Partner Involvement'!$D248*'12.Partner Involvement'!$E248)/COUNTA(_xlfn.TEXTSPLIT('12.Partner Involvement'!$G248,\";\"))),\"\")","v":""},null,{"$f":"IF(ISNUMBER(SEARCH(E$206,'12.Partner Involvement'!$H248))=TRUE,(('12.Partner Involvement'!$D248*'12.Partner Involvement'!$E248)/COUNTA(_xlfn.TEXTSPLIT('12.Partner Involvement'!$H248,\";\"))),\"\")","v":""},{"$f":"IF(ISNUMBER(SEARCH(F$206,'12.Partner Involvement'!$H248))=TRUE,(('12.Partner Involvement'!$D248*'12.Partner Involvement'!$E248)/COUNTA(_xlfn.TEXTSPLIT('12.Partner Involvement'!$H248,\";\"))),\"\")","v":""},{"$f":"IF(ISNUMBER(SEARCH(G$206,'12.Partner Involvement'!$H248))=TRUE,(('12.Partner Involvement'!$D248*'12.Partner Involvement'!$E248)/COUNTA(_xlfn.TEXTSPLIT('12.Partner Involvement'!$H248,\";\"))),\"\")","v":""},{"$f":"IF(ISNUMBER(SEARCH(H$206,'12.Partner Involvement'!$H248))=TRUE,(('12.Partner Involvement'!$D248*'12.Partner Involvement'!$E248)/COUNTA(_xlfn.TEXTSPLIT('12.Partner Involvement'!$H248,\";\"))),\"\")","v":""}]
[{"$f":"IF(ISNUMBER(SEARCH(A$206,'12.Partner Involvement'!$G249))=TRUE,(('12.Partner Involvement'!$D249*'12.Partner Involvement'!$E249)/COUNTA(_xlfn.TEXTSPLIT('12.Partner Involvement'!$G249,\";\"))),\"\")","v":""},{"$f":"IF(ISNUMBER(SEARCH(B$206,'12.Partner Involvement'!$G249))=TRUE,(('12.Partner Involvement'!$D249*'12.Partner Involvement'!$E249)/COUNTA(_xlfn.TEXTSPLIT('12.Partner Involvement'!$G249,\";\"))),\"\")","v":""},{"$f":"IF(ISNUMBER(SEARCH(C$206,'12.Partner Involvement'!$G249))=TRUE,(('12.Partner Involvement'!$D249*'12.Partner Involvement'!$E249)/COUNTA(_xlfn.TEXTSPLIT('12.Partner Involvement'!$G249,\";\"))),\"\")","v":""},null,{"$f":"IF(ISNUMBER(SEARCH(E$206,'12.Partner Involvement'!$H249))=TRUE,(('12.Partner Involvement'!$D249*'12.Partner Involvement'!$E249)/COUNTA(_xlfn.TEXTSPLIT('12.Partner Involvement'!$H249,\";\"))),\"\")","v":""},{"$f":"IF(ISNUMBER(SEARCH(F$206,'12.Partner Involvement'!$H249))=TRUE,(('12.Partner Involvement'!$D249*'12.Partner Involvement'!$E249)/COUNTA(_xlfn.TEXTSPLIT('12.Partner Involvement'!$H249,\";\"))),\"\")","v":""},{"$f":"IF(ISNUMBER(SEARCH(G$206,'12.Partner Involvement'!$H249))=TRUE,(('12.Partner Involvement'!$D249*'12.Partner Involvement'!$E249)/COUNTA(_xlfn.TEXTSPLIT('12.Partner Involvement'!$H249,\";\"))),\"\")","v":""},{"$f":"IF(ISNUMBER(SEARCH(H$206,'12.Partner Involvement'!$H249))=TRUE,(('12.Partner Involvement'!$D249*'12.Partner Involvement'!$E249)/COUNTA(_xlfn.TEXTSPLIT('12.Partner Involvement'!$H249,\";\"))),\"\")","v":""}]
[{"$f":"IF(ISNUMBER(SEARCH(A$206,'12.Partner Involvement'!$G250))=TRUE,(('12.Partner Involvement'!$D250*'12.Partner Involvement'!$E250)/COUNTA(_xlfn.TEXTSPLIT('12.Partner Involvement'!$G250,\";\"))),\"\")","v":""},{"$f":"IF(ISNUMBER(SEARCH(B$206,'12.Partner Involvement'!$G250))=TRUE,(('12.Partner Involvement'!$D250*'12.Partner Involvement'!$E250)/COUNTA(_xlfn.TEXTSPLIT('12.Partner Involvement'!$G250,\";\"))),\"\")","v":""},{"$f":"IF(ISNUMBER(SEARCH(C$206,'12.Partner Involvement'!$G250))=TRUE,(('12.Partner Involvement'!$D250*'12.Partner Involvement'!$E250)/COUNTA(_xlfn.TEXTSPLIT('12.Partner Involvement'!$G250,\";\"))),\"\")","v":""},null,{"$f":"IF(ISNUMBER(SEARCH(E$206,'12.Partner Involvement'!$H250))=TRUE,(('12.Partner Involvement'!$D250*'12.Partner Involvement'!$E250)/COUNTA(_xlfn.TEXTSPLIT('12.Partner Involvement'!$H250,\";\"))),\"\")","v":""},{"$f":"IF(ISNUMBER(SEARCH(F$206,'12.Partner Involvement'!$H250))=TRUE,(('12.Partner Involvement'!$D250*'12.Partner Involvement'!$E250)/COUNTA(_xlfn.TEXTSPLIT('12.Partner Involvement'!$H250,\";\"))),\"\")","v":""},{"$f":"IF(ISNUMBER(SEARCH(G$206,'12.Partner Involvement'!$H250))=TRUE,(('12.Partner Involvement'!$D250*'12.Partner Involvement'!$E250)/COUNTA(_xlfn.TEXTSPLIT('12.Partner Involvement'!$H250,\";\"))),\"\")","v":""},{"$f":"IF(ISNUMBER(SEARCH(H$206,'12.Partner Involvement'!$H250))=TRUE,(('12.Partner Involvement'!$D250*'12.Partner Involvement'!$E250)/COUNTA(_xlfn.TEXTSPLIT('12.Partner Involvement'!$H250,\";\"))),\"\")","v":""}]
[{"$f":"IF(ISNUMBER(SEARCH(A$206,'12.Partner Involvement'!$G251))=TRUE,(('12.Partner Involvement'!$D251*'12.Partner Involvement'!$E251)/COUNTA(_xlfn.TEXTSPLIT('12.Partner Involvement'!$G251,\";\"))),\"\")","v":""},{"$f":"IF(ISNUMBER(SEARCH(B$206,'12.Partner Involvement'!$G251))=TRUE,(('12.Partner Involvement'!$D251*'12.Partner Involvement'!$E251)/COUNTA(_xlfn.TEXTSPLIT('12.Partner Involvement'!$G251,\";\"))),\"\")","v":""},{"$f":"IF(ISNUMBER(SEARCH(C$206,'12.Partner Involvement'!$G251))=TRUE,(('12.Partner Involvement'!$D251*'12.Partner Involvement'!$E251)/COUNTA(_xlfn.TEXTSPLIT('12.Partner Involvement'!$G251,\";\"))),\"\")","v":""},null,{"$f":"IF(ISNUMBER(SEARCH(E$206,'12.Partner Involvement'!$H251))=TRUE,(('12.Partner Involvement'!$D251*'12.Partner Involvement'!$E251)/COUNTA(_xlfn.TEXTSPLIT('12.Partner Involvement'!$H251,\";\"))),\"\")","v":""},{"$f":"IF(ISNUMBER(SEARCH(F$206,'12.Partner Involvement'!$H251))=TRUE,(('12.Partner Involvement'!$D251*'12.Partner Involvement'!$E251)/COUNTA(_xlfn.TEXTSPLIT('12.Partner Involvement'!$H251,\";\"))),\"\")","v":""},{"$f":"IF(ISNUMBER(SEARCH(G$206,'12.Partner Involvement'!$H251))=TRUE,(('12.Partner Involvement'!$D251*'12.Partner Involvement'!$E251)/COUNTA(_xlfn.TEXTSPLIT('12.Partner Involvement'!$H251,\";\"))),\"\")","v":""},{"$f":"IF(ISNUMBER(SEARCH(H$206,'12.Partner Involvement'!$H251))=TRUE,(('12.Partner Involvement'!$D251*'12.Partner Involvement'!$E251)/COUNTA(_xlfn.TEXTSPLIT('12.Partner Involvement'!$H251,\";\"))),\"\")","v":""}]
[{"$f":"IF(ISNUMBER(SEARCH(A$206,'12.Partner Involvement'!$G252))=TRUE,(('12.Partner Involvement'!$D252*'12.Partner Involvement'!$E252)/COUNTA(_xlfn.TEXTSPLIT('12.Partner Involvement'!$G252,\";\"))),\"\")","v":""},{"$f":"IF(ISNUMBER(SEARCH(B$206,'12.Partner Involvement'!$G252))=TRUE,(('12.Partner Involvement'!$D252*'12.Partner Involvement'!$E252)/COUNTA(_xlfn.TEXTSPLIT('12.Partner Involvement'!$G252,\";\"))),\"\")","v":""},{"$f":"IF(ISNUMBER(SEARCH(C$206,'12.Partner Involvement'!$G252))=TRUE,(('12.Partner Involvement'!$D252*'12.Partner Involvement'!$E252)/COUNTA(_xlfn.TEXTSPLIT('12.Partner Involvement'!$G252,\";\"))),\"\")","v":""},null,{"$f":"IF(ISNUMBER(SEARCH(E$206,'12.Partner Involvement'!$H252))=TRUE,(('12.Partner Involvement'!$D252*'12.Partner Involvement'!$E252)/COUNTA(_xlfn.TEXTSPLIT('12.Partner Involvement'!$H252,\";\"))),\"\")","v":""},{"$f":"IF(ISNUMBER(SEARCH(F$206,'12.Partner Involvement'!$H252))=TRUE,(('12.Partner Involvement'!$D252*'12.Partner Involvement'!$E252)/COUNTA(_xlfn.TEXTSPLIT('12.Partner Involvement'!$H252,\";\"))),\"\")","v":""},{"$f":"IF(ISNUMBER(SEARCH(G$206,'12.Partner Involvement'!$H252))=TRUE,(('12.Partner Involvement'!$D252*'12.Partner Involvement'!$E252)/COUNTA(_xlfn.TEXTSPLIT('12.Partner Involvement'!$H252,\";\"))),\"\")","v":""},{"$f":"IF(ISNUMBER(SEARCH(H$206,'12.Partner Involvement'!$H252))=TRUE,(('12.Partner Involvement'!$D252*'12.Partner Involvement'!$E252)/COUNTA(_xlfn.TEXTSPLIT('12.Partner Involvement'!$H252,\";\"))),\"\")","v":""}]
[{"$f":"IF(ISNUMBER(SEARCH(A$206,'12.Partner Involvement'!$G253))=TRUE,(('12.Partner Involvement'!$D253*'12.Partner Involvement'!$E253)/COUNTA(_xlfn.TEXTSPLIT('12.Partner Involvement'!$G253,\";\"))),\"\")","v":""},{"$f":"IF(ISNUMBER(SEARCH(B$206,'12.Partner Involvement'!$G253))=TRUE,(('12.Partner Involvement'!$D253*'12.Partner Involvement'!$E253)/COUNTA(_xlfn.TEXTSPLIT('12.Partner Involvement'!$G253,\";\"))),\"\")","v":""},{"$f":"IF(ISNUMBER(SEARCH(C$206,'12.Partner Involvement'!$G253))=TRUE,(('12.Partner Involvement'!$D253*'12.Partner Involvement'!$E253)/COUNTA(_xlfn.TEXTSPLIT('12.Partner Involvement'!$G253,\";\"))),\"\")","v":""},null,{"$f":"IF(ISNUMBER(SEARCH(E$206,'12.Partner Involvement'!$H253))=TRUE,(('12.Partner Involvement'!$D253*'12.Partner Involvement'!$E253)/COUNTA(_xlfn.TEXTSPLIT('12.Partner Involvement'!$H253,\";\"))),\"\")","v":""},{"$f":"IF(ISNUMBER(SEARCH(F$206,'12.Partner Involvement'!$H253))=TRUE,(('12.Partner Involvement'!$D253*'12.Partner Involvement'!$E253)/COUNTA(_xlfn.TEXTSPLIT('12.Partner Involvement'!$H253,\";\"))),\"\")","v":""},{"$f":"IF(ISNUMBER(SEARCH(G$206,'12.Partner Involvement'!$H253))=TRUE,(('12.Partner Involvement'!$D253*'12.Partner Involvement'!$E253)/COUNTA(_xlfn.TEXTSPLIT('12.Partner Involvement'!$H253,\";\"))),\"\")","v":""},{"$f":"IF(ISNUMBER(SEARCH(H$206,'12.Partner Involvement'!$H253))=TRUE,(('12.Partner Involvement'!$D253*'12.Partner Involvement'!$E253)/COUNTA(_xlfn.TEXTSPLIT('12.Partner Involvement'!$H253,\";\"))),\"\")","v":""}]
[{"$f":"IF(ISNUMBER(SEARCH(A$206,'12.Partner Involvement'!$G254))=TRUE,(('12.Partner Involvement'!$D254*'12.Partner Involvement'!$E254)/COUNTA(_xlfn.TEXTSPLIT('12.Partner Involvement'!$G254,\";\"))),\"\")","v":""},{"$f":"IF(ISNUMBER(SEARCH(B$206,'12.Partner Involvement'!$G254))=TRUE,(('12.Partner Involvement'!$D254*'12.Partner Involvement'!$E254)/COUNTA(_xlfn.TEXTSPLIT('12.Partner Involvement'!$G254,\";\"))),\"\")","v":""},{"$f":"IF(ISNUMBER(SEARCH(C$206,'12.Partner Involvement'!$G254))=TRUE,(('12.Partner Involvement'!$D254*'12.Partner Involvement'!$E254)/COUNTA(_xlfn.TEXTSPLIT('12.Partner Involvement'!$G254,\";\"))),\"\")","v":""},null,{"$f":"IF(ISNUMBER(SEARCH(E$206,'12.Partner Involvement'!$H254))=TRUE,(('12.Partner Involvement'!$D254*'12.Partner Involvement'!$E254)/COUNTA(_xlfn.TEXTSPLIT('12.Partner Involvement'!$H254,\";\"))),\"\")","v":""},{"$f":"IF(ISNUMBER(SEARCH(F$206,'12.Partner Involvement'!$H254))=TRUE,(('12.Partner Involvement'!$D254*'12.Partner Involvement'!$E254)/COUNTA(_xlfn.TEXTSPLIT('12.Partner Involvement'!$H254,\";\"))),\"\")","v":""},{"$f":"IF(ISNUMBER(SEARCH(G$206,'12.Partner Involvement'!$H254))=TRUE,(('12.Partner Involvement'!$D254*'12.Partner Involvement'!$E254)/COUNTA(_xlfn.TEXTSPLIT('12.Partner Involvement'!$H254,\";\"))),\"\")","v":""},{"$f":"IF(ISNUMBER(SEARCH(H$206,'12.Partner Involvement'!$H254))=TRUE,(('12.Partner Involvement'!$D254*'12.Partner Involvement'!$E254)/COUNTA(_xlfn.TEXTSPLIT('12.Partner Involvement'!$H254,\";\"))),\"\")","v":""}]
[{"$f":"IF(ISNUMBER(SEARCH(A$206,'12.Partner Involvement'!$G255))=TRUE,(('12.Partner Involvement'!$D255*'12.Partner Involvement'!$E255)/COUNTA(_xlfn.TEXTSPLIT('12.Partner Involvement'!$G255,\";\"))),\"\")","v":""},{"$f":"IF(ISNUMBER(SEARCH(B$206,'12.Partner Involvement'!$G255))=TRUE,(('12.Partner Involvement'!$D255*'12.Partner Involvement'!$E255)/COUNTA(_xlfn.TEXTSPLIT('12.Partner Involvement'!$G255,\";\"))),\"\")","v":""},{"$f":"IF(ISNUMBER(SEARCH(C$206,'12.Partner Involvement'!$G255))=TRUE,(('12.Partner Involvement'!$D255*'12.Partner Involvement'!$E255)/COUNTA(_xlfn.TEXTSPLIT('12.Partner Involvement'!$G255,\";\"))),\"\")","v":""},null,{"$f":"IF(ISNUMBER(SEARCH(E$206,'12.Partner Involvement'!$H255))=TRUE,(('12.Partner Involvement'!$D255*'12.Partner Involvement'!$E255)/COUNTA(_xlfn.TEXTSPLIT('12.Partner Involvement'!$H255,\";\"))),\"\")","v":""},{"$f":"IF(ISNUMBER(SEARCH(F$206,'12.Partner Involvement'!$H255))=TRUE,(('12.Partner Involvement'!$D255*'12.Partner Involvement'!$E255)/COUNTA(_xlfn.TEXTSPLIT('12.Partner Involvement'!$H255,\";\"))),\"\")","v":""},{"$f":"IF(ISNUMBER(SEARCH(G$206,'12.Partner Involvement'!$H255))=TRUE,(('12.Partner Involvement'!$D255*'12.Partner Involvement'!$E255)/COUNTA(_xlfn.TEXTSPLIT('12.Partner Involvement'!$H255,\";\"))),\"\")","v":""},{"$f":"IF(ISNUMBER(SEARCH(H$206,'12.Partner Involvement'!$H255))=TRUE,(('12.Partner Involvement'!$D255*'12.Partner Involvement'!$E255)/COUNTA(_xlfn.TEXTSPLIT('12.Partner Involvement'!$H255,\";\"))),\"\")","v":""}]
[{"$f":"IF(ISNUMBER(SEARCH(A$206,'12.Partner Involvement'!$G256))=TRUE,(('12.Partner Involvement'!$D256*'12.Partner Involvement'!$E256)/COUNTA(_xlfn.TEXTSPLIT('12.Partner Involvement'!$G256,\";\"))),\"\")","v":""},{"$f":"IF(ISNUMBER(SEARCH(B$206,'12.Partner Involvement'!$G256))=TRUE,(('12.Partner Involvement'!$D256*'12.Partner Involvement'!$E256)/COUNTA(_xlfn.TEXTSPLIT('12.Partner Involvement'!$G256,\";\"))),\"\")","v":""},{"$f":"IF(ISNUMBER(SEARCH(C$206,'12.Partner Involvement'!$G256))=TRUE,(('12.Partner Involvement'!$D256*'12.Partner Involvement'!$E256)/COUNTA(_xlfn.TEXTSPLIT('12.Partner Involvement'!$G256,\";\"))),\"\")","v":""},null,{"$f":"IF(ISNUMBER(SEARCH(E$206,'12.Partner Involvement'!$H256))=TRUE,(('12.Partner Involvement'!$D256*'12.Partner Involvement'!$E256)/COUNTA(_xlfn.TEXTSPLIT('12.Partner Involvement'!$H256,\";\"))),\"\")","v":""},{"$f":"IF(ISNUMBER(SEARCH(F$206,'12.Partner Involvement'!$H256))=TRUE,(('12.Partner Involvement'!$D256*'12.Partner Involvement'!$E256)/COUNTA(_xlfn.TEXTSPLIT('12.Partner Involvement'!$H256,\";\"))),\"\")","v":""},{"$f":"IF(ISNUMBER(SEARCH(G$206,'12.Partner Involvement'!$H256))=TRUE,(('12.Partner Involvement'!$D256*'12.Partner Involvement'!$E256)/COUNTA(_xlfn.TEXTSPLIT('12.Partner Involvement'!$H256,\";\"))),\"\")","v":""},{"$f":"IF(ISNUMBER(SEARCH(H$206,'12.Partner Involvement'!$H256))=TRUE,(('12.Partner Involvement'!$D256*'12.Partner Involvement'!$E256)/COUNTA(_xlfn.TEXTSPLIT('12.Partner Involvement'!$H256,\";\"))),\"\")","v":""}]
[{"$f":"IF(ISNUMBER(SEARCH(A$206,'12.Partner Involvement'!$G257))=TRUE,(('12.Partner Involvement'!$D257*'12.Partner Involvement'!$E257)/COUNTA(_xlfn.TEXTSPLIT('12.Partner Involvement'!$G257,\";\"))),\"\")","v":""},{"$f":"IF(ISNUMBER(SEARCH(B$206,'12.Partner Involvement'!$G257))=TRUE,(('12.Partner Involvement'!$D257*'12.Partner Involvement'!$E257)/COUNTA(_xlfn.TEXTSPLIT('12.Partner Involvement'!$G257,\";\"))),\"\")","v":""},{"$f":"IF(ISNUMBER(SEARCH(C$206,'12.Partner Involvement'!$G257))=TRUE,(('12.Partner Involvement'!$D257*'12.Partner Involvement'!$E257)/COUNTA(_xlfn.TEXTSPLIT('12.Partner Involvement'!$G257,\";\"))),\"\")","v":""},null,{"$f":"IF(ISNUMBER(SEARCH(E$206,'12.Partner Involvement'!$H257))=TRUE,(('12.Partner Involvement'!$D257*'12.Partner Involvement'!$E257)/COUNTA(_xlfn.TEXTSPLIT('12.Partner Involvement'!$H257,\";\"))),\"\")","v":""},{"$f":"IF(ISNUMBER(SEARCH(F$206,'12.Partner Involvement'!$H257))=TRUE,(('12.Partner Involvement'!$D257*'12.Partner Involvement'!$E257)/COUNTA(_xlfn.TEXTSPLIT('12.Partner Involvement'!$H257,\";\"))),\"\")","v":""},{"$f":"IF(ISNUMBER(SEARCH(G$206,'12.Partner Involvement'!$H257))=TRUE,(('12.Partner Involvement'!$D257*'12.Partner Involvement'!$E257)/COUNTA(_xlfn.TEXTSPLIT('12.Partner Involvement'!$H257,\";\"))),\"\")","v":""},{"$f":"IF(ISNUMBER(SEARCH(H$206,'12.Partner Involvement'!$H257))=TRUE,(('12.Partner Involvement'!$D257*'12.Partner Involvement'!$E257)/COUNTA(_xlfn.TEXTSPLIT('12.Partner Involvement'!$H257,\";\"))),\"\")","v":""}]
[{"$f":"IF(ISNUMBER(SEARCH(A$206,'12.Partner Involvement'!$G258))=TRUE,(('12.Partner Involvement'!$D258*'12.Partner Involvement'!$E258)/COUNTA(_xlfn.TEXTSPLIT('12.Partner Involvement'!$G258,\";\"))),\"\")","v":""},{"$f":"IF(ISNUMBER(SEARCH(B$206,'12.Partner Involvement'!$G258))=TRUE,(('12.Partner Involvement'!$D258*'12.Partner Involvement'!$E258)/COUNTA(_xlfn.TEXTSPLIT('12.Partner Involvement'!$G258,\";\"))),\"\")","v":""},{"$f":"IF(ISNUMBER(SEARCH(C$206,'12.Partner Involvement'!$G258))=TRUE,(('12.Partner Involvement'!$D258*'12.Partner Involvement'!$E258)/COUNTA(_xlfn.TEXTSPLIT('12.Partner Involvement'!$G258,\";\"))),\"\")","v":""},null,{"$f":"IF(ISNUMBER(SEARCH(E$206,'12.Partner Involvement'!$H258))=TRUE,(('12.Partner Involvement'!$D258*'12.Partner Involvement'!$E258)/COUNTA(_xlfn.TEXTSPLIT('12.Partner Involvement'!$H258,\";\"))),\"\")","v":""},{"$f":"IF(ISNUMBER(SEARCH(F$206,'12.Partner Involvement'!$H258))=TRUE,(('12.Partner Involvement'!$D258*'12.Partner Involvement'!$E258)/COUNTA(_xlfn.TEXTSPLIT('12.Partner Involvement'!$H258,\";\"))),\"\")","v":""},{"$f":"IF(ISNUMBER(SEARCH(G$206,'12.Partner Involvement'!$H258))=TRUE,(('12.Partner Involvement'!$D258*'12.Partner Involvement'!$E258)/COUNTA(_xlfn.TEXTSPLIT('12.Partner Involvement'!$H258,\";\"))),\"\")","v":""},{"$f":"IF(ISNUMBER(SEARCH(H$206,'12.Partner Involvement'!$H258))=TRUE,(('12.Partner Involvement'!$D258*'12.Partner Involvement'!$E258)/COUNTA(_xlfn.TEXTSPLIT('12.Partner Involvement'!$H258,\";\"))),\"\")","v":""}]
[{"$f":"IF(ISNUMBER(SEARCH(A$206,'12.Partner Involvement'!$G259))=TRUE,(('12.Partner Involvement'!$D259*'12.Partner Involvement'!$E259)/COUNTA(_xlfn.TEXTSPLIT('12.Partner Involvement'!$G259,\";\"))),\"\")","v":""},{"$f":"IF(ISNUMBER(SEARCH(B$206,'12.Partner Involvement'!$G259))=TRUE,(('12.Partner Involvement'!$D259*'12.Partner Involvement'!$E259)/COUNTA(_xlfn.TEXTSPLIT('12.Partner Involvement'!$G259,\";\"))),\"\")","v":""},{"$f":"IF(ISNUMBER(SEARCH(C$206,'12.Partner Involvement'!$G259))=TRUE,(('12.Partner Involvement'!$D259*'12.Partner Involvement'!$E259)/COUNTA(_xlfn.TEXTSPLIT('12.Partner Involvement'!$G259,\";\"))),\"\")","v":""},null,{"$f":"IF(ISNUMBER(SEARCH(E$206,'12.Partner Involvement'!$H259))=TRUE,(('12.Partner Involvement'!$D259*'12.Partner Involvement'!$E259)/COUNTA(_xlfn.TEXTSPLIT('12.Partner Involvement'!$H259,\";\"))),\"\")","v":""},{"$f":"IF(ISNUMBER(SEARCH(F$206,'12.Partner Involvement'!$H259))=TRUE,(('12.Partner Involvement'!$D259*'12.Partner Involvement'!$E259)/COUNTA(_xlfn.TEXTSPLIT('12.Partner Involvement'!$H259,\";\"))),\"\")","v":""},{"$f":"IF(ISNUMBER(SEARCH(G$206,'12.Partner Involvement'!$H259))=TRUE,(('12.Partner Involvement'!$D259*'12.Partner Involvement'!$E259)/COUNTA(_xlfn.TEXTSPLIT('12.Partner Involvement'!$H259,\";\"))),\"\")","v":""},{"$f":"IF(ISNUMBER(SEARCH(H$206,'12.Partner Involvement'!$H259))=TRUE,(('12.Partner Involvement'!$D259*'12.Partner Involvement'!$E259)/COUNTA(_xlfn.TEXTSPLIT('12.Partner Involvement'!$H259,\";\"))),\"\")","v":""}]
[{"$f":"IF(ISNUMBER(SEARCH(A$206,'12.Partner Involvement'!$G260))=TRUE,(('12.Partner Involvement'!$D260*'12.Partner Involvement'!$E260)/COUNTA(_xlfn.TEXTSPLIT('12.Partner Involvement'!$G260,\";\"))),\"\")","v":""},{"$f":"IF(ISNUMBER(SEARCH(B$206,'12.Partner Involvement'!$G260))=TRUE,(('12.Partner Involvement'!$D260*'12.Partner Involvement'!$E260)/COUNTA(_xlfn.TEXTSPLIT('12.Partner Involvement'!$G260,\";\"))),\"\")","v":""},{"$f":"IF(ISNUMBER(SEARCH(C$206,'12.Partner Involvement'!$G260))=TRUE,(('12.Partner Involvement'!$D260*'12.Partner Involvement'!$E260)/COUNTA(_xlfn.TEXTSPLIT('12.Partner Involvement'!$G260,\";\"))),\"\")","v":""},null,{"$f":"IF(ISNUMBER(SEARCH(E$206,'12.Partner Involvement'!$H260))=TRUE,(('12.Partner Involvement'!$D260*'12.Partner Involvement'!$E260)/COUNTA(_xlfn.TEXTSPLIT('12.Partner Involvement'!$H260,\";\"))),\"\")","v":""},{"$f":"IF(ISNUMBER(SEARCH(F$206,'12.Partner Involvement'!$H260))=TRUE,(('12.Partner Involvement'!$D260*'12.Partner Involvement'!$E260)/COUNTA(_xlfn.TEXTSPLIT('12.Partner Involvement'!$H260,\";\"))),\"\")","v":""},{"$f":"IF(ISNUMBER(SEARCH(G$206,'12.Partner Involvement'!$H260))=TRUE,(('12.Partner Involvement'!$D260*'12.Partner Involvement'!$E260)/COUNTA(_xlfn.TEXTSPLIT('12.Partner Involvement'!$H260,\";\"))),\"\")","v":""},{"$f":"IF(ISNUMBER(SEARCH(H$206,'12.Partner Involvement'!$H260))=TRUE,(('12.Partner Involvement'!$D260*'12.Partner Involvement'!$E260)/COUNTA(_xlfn.TEXTSPLIT('12.Partner Involvement'!$H260,\";\"))),\"\")","v":""}]
[{"$f":"IF(ISNUMBER(SEARCH(A$206,'12.Partner Involvement'!$G261))=TRUE,(('12.Partner Involvement'!$D261*'12.Partner Involvement'!$E261)/COUNTA(_xlfn.TEXTSPLIT('12.Partner Involvement'!$G261,\";\"))),\"\")","v":""},{"$f":"IF(ISNUMBER(SEARCH(B$206,'12.Partner Involvement'!$G261))=TRUE,(('12.Partner Involvement'!$D261*'12.Partner Involvement'!$E261)/COUNTA(_xlfn.TEXTSPLIT('12.Partner Involvement'!$G261,\";\"))),\"\")","v":""},{"$f":"IF(ISNUMBER(SEARCH(C$206,'12.Partner Involvement'!$G261))=TRUE,(('12.Partner Involvement'!$D261*'12.Partner Involvement'!$E261)/COUNTA(_xlfn.TEXTSPLIT('12.Partner Involvement'!$G261,\";\"))),\"\")","v":""},null,{"$f":"IF(ISNUMBER(SEARCH(E$206,'12.Partner Involvement'!$H261))=TRUE,(('12.Partner Involvement'!$D261*'12.Partner Involvement'!$E261)/COUNTA(_xlfn.TEXTSPLIT('12.Partner Involvement'!$H261,\";\"))),\"\")","v":""},{"$f":"IF(ISNUMBER(SEARCH(F$206,'12.Partner Involvement'!$H261))=TRUE,(('12.Partner Involvement'!$D261*'12.Partner Involvement'!$E261)/COUNTA(_xlfn.TEXTSPLIT('12.Partner Involvement'!$H261,\";\"))),\"\")","v":""},{"$f":"IF(ISNUMBER(SEARCH(G$206,'12.Partner Involvement'!$H261))=TRUE,(('12.Partner Involvement'!$D261*'12.Partner Involvement'!$E261)/COUNTA(_xlfn.TEXTSPLIT('12.Partner Involvement'!$H261,\";\"))),\"\")","v":""},{"$f":"IF(ISNUMBER(SEARCH(H$206,'12.Partner Involvement'!$H261))=TRUE,(('12.Partner Involvement'!$D261*'12.Partner Involvement'!$E261)/COUNTA(_xlfn.TEXTSPLIT('12.Partner Involvement'!$H261,\";\"))),\"\")","v":""}]
[{"$f":"IF(ISNUMBER(SEARCH(A$206,'12.Partner Involvement'!$G262))=TRUE,(('12.Partner Involvement'!$D262*'12.Partner Involvement'!$E262)/COUNTA(_xlfn.TEXTSPLIT('12.Partner Involvement'!$G262,\";\"))),\"\")","v":""},{"$f":"IF(ISNUMBER(SEARCH(B$206,'12.Partner Involvement'!$G262))=TRUE,(('12.Partner Involvement'!$D262*'12.Partner Involvement'!$E262)/COUNTA(_xlfn.TEXTSPLIT('12.Partner Involvement'!$G262,\";\"))),\"\")","v":""},{"$f":"IF(ISNUMBER(SEARCH(C$206,'12.Partner Involvement'!$G262))=TRUE,(('12.Partner Involvement'!$D262*'12.Partner Involvement'!$E262)/COUNTA(_xlfn.TEXTSPLIT('12.Partner Involvement'!$G262,\";\"))),\"\")","v":""},null,{"$f":"IF(ISNUMBER(SEARCH(E$206,'12.Partner Involvement'!$H262))=TRUE,(('12.Partner Involvement'!$D262*'12.Partner Involvement'!$E262)/COUNTA(_xlfn.TEXTSPLIT('12.Partner Involvement'!$H262,\";\"))),\"\")","v":""},{"$f":"IF(ISNUMBER(SEARCH(F$206,'12.Partner Involvement'!$H262))=TRUE,(('12.Partner Involvement'!$D262*'12.Partner Involvement'!$E262)/COUNTA(_xlfn.TEXTSPLIT('12.Partner Involvement'!$H262,\";\"))),\"\")","v":""},{"$f":"IF(ISNUMBER(SEARCH(G$206,'12.Partner Involvement'!$H262))=TRUE,(('12.Partner Involvement'!$D262*'12.Partner Involvement'!$E262)/COUNTA(_xlfn.TEXTSPLIT('12.Partner Involvement'!$H262,\";\"))),\"\")","v":""},{"$f":"IF(ISNUMBER(SEARCH(H$206,'12.Partner Involvement'!$H262))=TRUE,(('12.Partner Involvement'!$D262*'12.Partner Involvement'!$E262)/COUNTA(_xlfn.TEXTSPLIT('12.Partner Involvement'!$H262,\";\"))),\"\")","v":""}]
[{"$f":"IF(ISNUMBER(SEARCH(A$206,'12.Partner Involvement'!$G263))=TRUE,(('12.Partner Involvement'!$D263*'12.Partner Involvement'!$E263)/COUNTA(_xlfn.TEXTSPLIT('12.Partner Involvement'!$G263,\";\"))),\"\")","v":""},{"$f":"IF(ISNUMBER(SEARCH(B$206,'12.Partner Involvement'!$G263))=TRUE,(('12.Partner Involvement'!$D263*'12.Partner Involvement'!$E263)/COUNTA(_xlfn.TEXTSPLIT('12.Partner Involvement'!$G263,\";\"))),\"\")","v":""},{"$f":"IF(ISNUMBER(SEARCH(C$206,'12.Partner Involvement'!$G263))=TRUE,(('12.Partner Involvement'!$D263*'12.Partner Involvement'!$E263)/COUNTA(_xlfn.TEXTSPLIT('12.Partner Involvement'!$G263,\";\"))),\"\")","v":""},null,{"$f":"IF(ISNUMBER(SEARCH(E$206,'12.Partner Involvement'!$H263))=TRUE,(('12.Partner Involvement'!$D263*'12.Partner Involvement'!$E263)/COUNTA(_xlfn.TEXTSPLIT('12.Partner Involvement'!$H263,\";\"))),\"\")","v":""},{"$f":"IF(ISNUMBER(SEARCH(F$206,'12.Partner Involvement'!$H263))=TRUE,(('12.Partner Involvement'!$D263*'12.Partner Involvement'!$E263)/COUNTA(_xlfn.TEXTSPLIT('12.Partner Involvement'!$H263,\";\"))),\"\")","v":""},{"$f":"IF(ISNUMBER(SEARCH(G$206,'12.Partner Involvement'!$H263))=TRUE,(('12.Partner Involvement'!$D263*'12.Partner Involvement'!$E263)/COUNTA(_xlfn.TEXTSPLIT('12.Partner Involvement'!$H263,\";\"))),\"\")","v":""},{"$f":"IF(ISNUMBER(SEARCH(H$206,'12.Partner Involvement'!$H263))=TRUE,(('12.Partner Involvement'!$D263*'12.Partner Involvement'!$E263)/COUNTA(_xlfn.TEXTSPLIT('12.Partner Involvement'!$H263,\";\"))),\"\")","v":""}]
[{"$f":"IF(ISNUMBER(SEARCH(A$206,'12.Partner Involvement'!$G264))=TRUE,(('12.Partner Involvement'!$D264*'12.Partner Involvement'!$E264)/COUNTA(_xlfn.TEXTSPLIT('12.Partner Involvement'!$G264,\";\"))),\"\")","v":""},{"$f":"IF(ISNUMBER(SEARCH(B$206,'12.Partner Involvement'!$G264))=TRUE,(('12.Partner Involvement'!$D264*'12.Partner Involvement'!$E264)/COUNTA(_xlfn.TEXTSPLIT('12.Partner Involvement'!$G264,\";\"))),\"\")","v":""},{"$f":"IF(ISNUMBER(SEARCH(C$206,'12.Partner Involvement'!$G264))=TRUE,(('12.Partner Involvement'!$D264*'12.Partner Involvement'!$E264)/COUNTA(_xlfn.TEXTSPLIT('12.Partner Involvement'!$G264,\";\"))),\"\")","v":""},null,{"$f":"IF(ISNUMBER(SEARCH(E$206,'12.Partner Involvement'!$H264))=TRUE,(('12.Partner Involvement'!$D264*'12.Partner Involvement'!$E264)/COUNTA(_xlfn.TEXTSPLIT('12.Partner Involvement'!$H264,\";\"))),\"\")","v":""},{"$f":"IF(ISNUMBER(SEARCH(F$206,'12.Partner Involvement'!$H264))=TRUE,(('12.Partner Involvement'!$D264*'12.Partner Involvement'!$E264)/COUNTA(_xlfn.TEXTSPLIT('12.Partner Involvement'!$H264,\";\"))),\"\")","v":""},{"$f":"IF(ISNUMBER(SEARCH(G$206,'12.Partner Involvement'!$H264))=TRUE,(('12.Partner Involvement'!$D264*'12.Partner Involvement'!$E264)/COUNTA(_xlfn.TEXTSPLIT('12.Partner Involvement'!$H264,\";\"))),\"\")","v":""},{"$f":"IF(ISNUMBER(SEARCH(H$206,'12.Partner Involvement'!$H264))=TRUE,(('12.Partner Involvement'!$D264*'12.Partner Involvement'!$E264)/COUNTA(_xlfn.TEXTSPLIT('12.Partner Involvement'!$H264,\";\"))),\"\")","v":""}]
[{"$f":"IF(ISNUMBER(SEARCH(A$206,'12.Partner Involvement'!$G265))=TRUE,(('12.Partner Involvement'!$D265*'12.Partner Involvement'!$E265)/COUNTA(_xlfn.TEXTSPLIT('12.Partner Involvement'!$G265,\";\"))),\"\")","v":""},{"$f":"IF(ISNUMBER(SEARCH(B$206,'12.Partner Involvement'!$G265))=TRUE,(('12.Partner Involvement'!$D265*'12.Partner Involvement'!$E265)/COUNTA(_xlfn.TEXTSPLIT('12.Partner Involvement'!$G265,\";\"))),\"\")","v":""},{"$f":"IF(ISNUMBER(SEARCH(C$206,'12.Partner Involvement'!$G265))=TRUE,(('12.Partner Involvement'!$D265*'12.Partner Involvement'!$E265)/COUNTA(_xlfn.TEXTSPLIT('12.Partner Involvement'!$G265,\";\"))),\"\")","v":""},null,{"$f":"IF(ISNUMBER(SEARCH(E$206,'12.Partner Involvement'!$H265))=TRUE,(('12.Partner Involvement'!$D265*'12.Partner Involvement'!$E265)/COUNTA(_xlfn.TEXTSPLIT('12.Partner Involvement'!$H265,\";\"))),\"\")","v":""},{"$f":"IF(ISNUMBER(SEARCH(F$206,'12.Partner Involvement'!$H265))=TRUE,(('12.Partner Involvement'!$D265*'12.Partner Involvement'!$E265)/COUNTA(_xlfn.TEXTSPLIT('12.Partner Involvement'!$H265,\";\"))),\"\")","v":""},{"$f":"IF(ISNUMBER(SEARCH(G$206,'12.Partner Involvement'!$H265))=TRUE,(('12.Partner Involvement'!$D265*'12.Partner Involvement'!$E265)/COUNTA(_xlfn.TEXTSPLIT('12.Partner Involvement'!$H265,\";\"))),\"\")","v":""},{"$f":"IF(ISNUMBER(SEARCH(H$206,'12.Partner Involvement'!$H265))=TRUE,(('12.Partner Involvement'!$D265*'12.Partner Involvement'!$E265)/COUNTA(_xlfn.TEXTSPLIT('12.Partner Involvement'!$H265,\";\"))),\"\")","v":""}]
[{"$f":"IF(ISNUMBER(SEARCH(A$206,'12.Partner Involvement'!$G266))=TRUE,(('12.Partner Involvement'!$D266*'12.Partner Involvement'!$E266)/COUNTA(_xlfn.TEXTSPLIT('12.Partner Involvement'!$G266,\";\"))),\"\")","v":""},{"$f":"IF(ISNUMBER(SEARCH(B$206,'12.Partner Involvement'!$G266))=TRUE,(('12.Partner Involvement'!$D266*'12.Partner Involvement'!$E266)/COUNTA(_xlfn.TEXTSPLIT('12.Partner Involvement'!$G266,\";\"))),\"\")","v":""},{"$f":"IF(ISNUMBER(SEARCH(C$206,'12.Partner Involvement'!$G266))=TRUE,(('12.Partner Involvement'!$D266*'12.Partner Involvement'!$E266)/COUNTA(_xlfn.TEXTSPLIT('12.Partner Involvement'!$G266,\";\"))),\"\")","v":""},null,{"$f":"IF(ISNUMBER(SEARCH(E$206,'12.Partner Involvement'!$H266))=TRUE,(('12.Partner Involvement'!$D266*'12.Partner Involvement'!$E266)/COUNTA(_xlfn.TEXTSPLIT('12.Partner Involvement'!$H266,\";\"))),\"\")","v":""},{"$f":"IF(ISNUMBER(SEARCH(F$206,'12.Partner Involvement'!$H266))=TRUE,(('12.Partner Involvement'!$D266*'12.Partner Involvement'!$E266)/COUNTA(_xlfn.TEXTSPLIT('12.Partner Involvement'!$H266,\";\"))),\"\")","v":""},{"$f":"IF(ISNUMBER(SEARCH(G$206,'12.Partner Involvement'!$H266))=TRUE,(('12.Partner Involvement'!$D266*'12.Partner Involvement'!$E266)/COUNTA(_xlfn.TEXTSPLIT('12.Partner Involvement'!$H266,\";\"))),\"\")","v":""},{"$f":"IF(ISNUMBER(SEARCH(H$206,'12.Partner Involvement'!$H266))=TRUE,(('12.Partner Involvement'!$D266*'12.Partner Involvement'!$E266)/COUNTA(_xlfn.TEXTSPLIT('12.Partner Involvement'!$H266,\";\"))),\"\")","v":""}]
[{"$f":"IF(ISNUMBER(SEARCH(A$206,'12.Partner Involvement'!$G267))=TRUE,(('12.Partner Involvement'!$D267*'12.Partner Involvement'!$E267)/COUNTA(_xlfn.TEXTSPLIT('12.Partner Involvement'!$G267,\";\"))),\"\")","v":""},{"$f":"IF(ISNUMBER(SEARCH(B$206,'12.Partner Involvement'!$G267))=TRUE,(('12.Partner Involvement'!$D267*'12.Partner Involvement'!$E267)/COUNTA(_xlfn.TEXTSPLIT('12.Partner Involvement'!$G267,\";\"))),\"\")","v":""},{"$f":"IF(ISNUMBER(SEARCH(C$206,'12.Partner Involvement'!$G267))=TRUE,(('12.Partner Involvement'!$D267*'12.Partner Involvement'!$E267)/COUNTA(_xlfn.TEXTSPLIT('12.Partner Involvement'!$G267,\";\"))),\"\")","v":""},null,{"$f":"IF(ISNUMBER(SEARCH(E$206,'12.Partner Involvement'!$H267))=TRUE,(('12.Partner Involvement'!$D267*'12.Partner Involvement'!$E267)/COUNTA(_xlfn.TEXTSPLIT('12.Partner Involvement'!$H267,\";\"))),\"\")","v":""},{"$f":"IF(ISNUMBER(SEARCH(F$206,'12.Partner Involvement'!$H267))=TRUE,(('12.Partner Involvement'!$D267*'12.Partner Involvement'!$E267)/COUNTA(_xlfn.TEXTSPLIT('12.Partner Involvement'!$H267,\";\"))),\"\")","v":""},{"$f":"IF(ISNUMBER(SEARCH(G$206,'12.Partner Involvement'!$H267))=TRUE,(('12.Partner Involvement'!$D267*'12.Partner Involvement'!$E267)/COUNTA(_xlfn.TEXTSPLIT('12.Partner Involvement'!$H267,\";\"))),\"\")","v":""},{"$f":"IF(ISNUMBER(SEARCH(H$206,'12.Partner Involvement'!$H267))=TRUE,(('12.Partner Involvement'!$D267*'12.Partner Involvement'!$E267)/COUNTA(_xlfn.TEXTSPLIT('12.Partner Involvement'!$H267,\";\"))),\"\")","v":""}]
[{"$f":"IF(ISNUMBER(SEARCH(A$206,'12.Partner Involvement'!$G268))=TRUE,(('12.Partner Involvement'!$D268*'12.Partner Involvement'!$E268)/COUNTA(_xlfn.TEXTSPLIT('12.Partner Involvement'!$G268,\";\"))),\"\")","v":""},{"$f":"IF(ISNUMBER(SEARCH(B$206,'12.Partner Involvement'!$G268))=TRUE,(('12.Partner Involvement'!$D268*'12.Partner Involvement'!$E268)/COUNTA(_xlfn.TEXTSPLIT('12.Partner Involvement'!$G268,\";\"))),\"\")","v":""},{"$f":"IF(ISNUMBER(SEARCH(C$206,'12.Partner Involvement'!$G268))=TRUE,(('12.Partner Involvement'!$D268*'12.Partner Involvement'!$E268)/COUNTA(_xlfn.TEXTSPLIT('12.Partner Involvement'!$G268,\";\"))),\"\")","v":""},null,{"$f":"IF(ISNUMBER(SEARCH(E$206,'12.Partner Involvement'!$H268))=TRUE,(('12.Partner Involvement'!$D268*'12.Partner Involvement'!$E268)/COUNTA(_xlfn.TEXTSPLIT('12.Partner Involvement'!$H268,\";\"))),\"\")","v":""},{"$f":"IF(ISNUMBER(SEARCH(F$206,'12.Partner Involvement'!$H268))=TRUE,(('12.Partner Involvement'!$D268*'12.Partner Involvement'!$E268)/COUNTA(_xlfn.TEXTSPLIT('12.Partner Involvement'!$H268,\";\"))),\"\")","v":""},{"$f":"IF(ISNUMBER(SEARCH(G$206,'12.Partner Involvement'!$H268))=TRUE,(('12.Partner Involvement'!$D268*'12.Partner Involvement'!$E268)/COUNTA(_xlfn.TEXTSPLIT('12.Partner Involvement'!$H268,\";\"))),\"\")","v":""},{"$f":"IF(ISNUMBER(SEARCH(H$206,'12.Partner Involvement'!$H268))=TRUE,(('12.Partner Involvement'!$D268*'12.Partner Involvement'!$E268)/COUNTA(_xlfn.TEXTSPLIT('12.Partner Involvement'!$H268,\";\"))),\"\")","v":""}]
[{"$f":"IF(ISNUMBER(SEARCH(A$206,'12.Partner Involvement'!$G269))=TRUE,(('12.Partner Involvement'!$D269*'12.Partner Involvement'!$E269)/COUNTA(_xlfn.TEXTSPLIT('12.Partner Involvement'!$G269,\";\"))),\"\")","v":""},{"$f":"IF(ISNUMBER(SEARCH(B$206,'12.Partner Involvement'!$G269))=TRUE,(('12.Partner Involvement'!$D269*'12.Partner Involvement'!$E269)/COUNTA(_xlfn.TEXTSPLIT('12.Partner Involvement'!$G269,\";\"))),\"\")","v":""},{"$f":"IF(ISNUMBER(SEARCH(C$206,'12.Partner Involvement'!$G269))=TRUE,(('12.Partner Involvement'!$D269*'12.Partner Involvement'!$E269)/COUNTA(_xlfn.TEXTSPLIT('12.Partner Involvement'!$G269,\";\"))),\"\")","v":""},null,{"$f":"IF(ISNUMBER(SEARCH(E$206,'12.Partner Involvement'!$H269))=TRUE,(('12.Partner Involvement'!$D269*'12.Partner Involvement'!$E269)/COUNTA(_xlfn.TEXTSPLIT('12.Partner Involvement'!$H269,\";\"))),\"\")","v":""},{"$f":"IF(ISNUMBER(SEARCH(F$206,'12.Partner Involvement'!$H269))=TRUE,(('12.Partner Involvement'!$D269*'12.Partner Involvement'!$E269)/COUNTA(_xlfn.TEXTSPLIT('12.Partner Involvement'!$H269,\";\"))),\"\")","v":""},{"$f":"IF(ISNUMBER(SEARCH(G$206,'12.Partner Involvement'!$H269))=TRUE,(('12.Partner Involvement'!$D269*'12.Partner Involvement'!$E269)/COUNTA(_xlfn.TEXTSPLIT('12.Partner Involvement'!$H269,\";\"))),\"\")","v":""},{"$f":"IF(ISNUMBER(SEARCH(H$206,'12.Partner Involvement'!$H269))=TRUE,(('12.Partner Involvement'!$D269*'12.Partner Involvement'!$E269)/COUNTA(_xlfn.TEXTSPLIT('12.Partner Involvement'!$H269,\";\"))),\"\")","v":""}]
[{"$f":"IF(ISNUMBER(SEARCH(A$206,'12.Partner Involvement'!$G270))=TRUE,(('12.Partner Involvement'!$D270*'12.Partner Involvement'!$E270)/COUNTA(_xlfn.TEXTSPLIT('12.Partner Involvement'!$G270,\";\"))),\"\")","v":""},{"$f":"IF(ISNUMBER(SEARCH(B$206,'12.Partner Involvement'!$G270))=TRUE,(('12.Partner Involvement'!$D270*'12.Partner Involvement'!$E270)/COUNTA(_xlfn.TEXTSPLIT('12.Partner Involvement'!$G270,\";\"))),\"\")","v":""},{"$f":"IF(ISNUMBER(SEARCH(C$206,'12.Partner Involvement'!$G270))=TRUE,(('12.Partner Involvement'!$D270*'12.Partner Involvement'!$E270)/COUNTA(_xlfn.TEXTSPLIT('12.Partner Involvement'!$G270,\";\"))),\"\")","v":""},null,{"$f":"IF(ISNUMBER(SEARCH(E$206,'12.Partner Involvement'!$H270))=TRUE,(('12.Partner Involvement'!$D270*'12.Partner Involvement'!$E270)/COUNTA(_xlfn.TEXTSPLIT('12.Partner Involvement'!$H270,\";\"))),\"\")","v":""},{"$f":"IF(ISNUMBER(SEARCH(F$206,'12.Partner Involvement'!$H270))=TRUE,(('12.Partner Involvement'!$D270*'12.Partner Involvement'!$E270)/COUNTA(_xlfn.TEXTSPLIT('12.Partner Involvement'!$H270,\";\"))),\"\")","v":""},{"$f":"IF(ISNUMBER(SEARCH(G$206,'12.Partner Involvement'!$H270))=TRUE,(('12.Partner Involvement'!$D270*'12.Partner Involvement'!$E270)/COUNTA(_xlfn.TEXTSPLIT('12.Partner Involvement'!$H270,\";\"))),\"\")","v":""},{"$f":"IF(ISNUMBER(SEARCH(H$206,'12.Partner Involvement'!$H270))=TRUE,(('12.Partner Involvement'!$D270*'12.Partner Involvement'!$E270)/COUNTA(_xlfn.TEXTSPLIT('12.Partner Involvement'!$H270,\";\"))),\"\")","v":""}]
[{"$f":"IF(ISNUMBER(SEARCH(A$206,'12.Partner Involvement'!$G271))=TRUE,(('12.Partner Involvement'!$D271*'12.Partner Involvement'!$E271)/COUNTA(_xlfn.TEXTSPLIT('12.Partner Involvement'!$G271,\";\"))),\"\")","v":""},{"$f":"IF(ISNUMBER(SEARCH(B$206,'12.Partner Involvement'!$G271))=TRUE,(('12.Partner Involvement'!$D271*'12.Partner Involvement'!$E271)/COUNTA(_xlfn.TEXTSPLIT('12.Partner Involvement'!$G271,\";\"))),\"\")","v":""},{"$f":"IF(ISNUMBER(SEARCH(C$206,'12.Partner Involvement'!$G271))=TRUE,(('12.Partner Involvement'!$D271*'12.Partner Involvement'!$E271)/COUNTA(_xlfn.TEXTSPLIT('12.Partner Involvement'!$G271,\";\"))),\"\")","v":""},null,{"$f":"IF(ISNUMBER(SEARCH(E$206,'12.Partner Involvement'!$H271))=TRUE,(('12.Partner Involvement'!$D271*'12.Partner Involvement'!$E271)/COUNTA(_xlfn.TEXTSPLIT('12.Partner Involvement'!$H271,\";\"))),\"\")","v":""},{"$f":"IF(ISNUMBER(SEARCH(F$206,'12.Partner Involvement'!$H271))=TRUE,(('12.Partner Involvement'!$D271*'12.Partner Involvement'!$E271)/COUNTA(_xlfn.TEXTSPLIT('12.Partner Involvement'!$H271,\";\"))),\"\")","v":""},{"$f":"IF(ISNUMBER(SEARCH(G$206,'12.Partner Involvement'!$H271))=TRUE,(('12.Partner Involvement'!$D271*'12.Partner Involvement'!$E271)/COUNTA(_xlfn.TEXTSPLIT('12.Partner Involvement'!$H271,\";\"))),\"\")","v":""},{"$f":"IF(ISNUMBER(SEARCH(H$206,'12.Partner Involvement'!$H271))=TRUE,(('12.Partner Involvement'!$D271*'12.Partner Involvement'!$E271)/COUNTA(_xlfn.TEXTSPLIT('12.Partner Involvement'!$H271,\";\"))),\"\")","v":""}]
[{"$f":"IF(ISNUMBER(SEARCH(A$206,'12.Partner Involvement'!$G272))=TRUE,(('12.Partner Involvement'!$D272*'12.Partner Involvement'!$E272)/COUNTA(_xlfn.TEXTSPLIT('12.Partner Involvement'!$G272,\";\"))),\"\")","v":""},{"$f":"IF(ISNUMBER(SEARCH(B$206,'12.Partner Involvement'!$G272))=TRUE,(('12.Partner Involvement'!$D272*'12.Partner Involvement'!$E272)/COUNTA(_xlfn.TEXTSPLIT('12.Partner Involvement'!$G272,\";\"))),\"\")","v":""},{"$f":"IF(ISNUMBER(SEARCH(C$206,'12.Partner Involvement'!$G272))=TRUE,(('12.Partner Involvement'!$D272*'12.Partner Involvement'!$E272)/COUNTA(_xlfn.TEXTSPLIT('12.Partner Involvement'!$G272,\";\"))),\"\")","v":""},null,{"$f":"IF(ISNUMBER(SEARCH(E$206,'12.Partner Involvement'!$H272))=TRUE,(('12.Partner Involvement'!$D272*'12.Partner Involvement'!$E272)/COUNTA(_xlfn.TEXTSPLIT('12.Partner Involvement'!$H272,\";\"))),\"\")","v":""},{"$f":"IF(ISNUMBER(SEARCH(F$206,'12.Partner Involvement'!$H272))=TRUE,(('12.Partner Involvement'!$D272*'12.Partner Involvement'!$E272)/COUNTA(_xlfn.TEXTSPLIT('12.Partner Involvement'!$H272,\";\"))),\"\")","v":""},{"$f":"IF(ISNUMBER(SEARCH(G$206,'12.Partner Involvement'!$H272))=TRUE,(('12.Partner Involvement'!$D272*'12.Partner Involvement'!$E272)/COUNTA(_xlfn.TEXTSPLIT('12.Partner Involvement'!$H272,\";\"))),\"\")","v":""},{"$f":"IF(ISNUMBER(SEARCH(H$206,'12.Partner Involvement'!$H272))=TRUE,(('12.Partner Involvement'!$D272*'12.Partner Involvement'!$E272)/COUNTA(_xlfn.TEXTSPLIT('12.Partner Involvement'!$H272,\";\"))),\"\")","v":""}]
[{"$f":"IF(ISNUMBER(SEARCH(A$206,'12.Partner Involvement'!$G273))=TRUE,(('12.Partner Involvement'!$D273*'12.Partner Involvement'!$E273)/COUNTA(_xlfn.TEXTSPLIT('12.Partner Involvement'!$G273,\";\"))),\"\")","v":""},{"$f":"IF(ISNUMBER(SEARCH(B$206,'12.Partner Involvement'!$G273))=TRUE,(('12.Partner Involvement'!$D273*'12.Partner Involvement'!$E273)/COUNTA(_xlfn.TEXTSPLIT('12.Partner Involvement'!$G273,\";\"))),\"\")","v":""},{"$f":"IF(ISNUMBER(SEARCH(C$206,'12.Partner Involvement'!$G273))=TRUE,(('12.Partner Involvement'!$D273*'12.Partner Involvement'!$E273)/COUNTA(_xlfn.TEXTSPLIT('12.Partner Involvement'!$G273,\";\"))),\"\")","v":""},null,{"$f":"IF(ISNUMBER(SEARCH(E$206,'12.Partner Involvement'!$H273))=TRUE,(('12.Partner Involvement'!$D273*'12.Partner Involvement'!$E273)/COUNTA(_xlfn.TEXTSPLIT('12.Partner Involvement'!$H273,\";\"))),\"\")","v":""},{"$f":"IF(ISNUMBER(SEARCH(F$206,'12.Partner Involvement'!$H273))=TRUE,(('12.Partner Involvement'!$D273*'12.Partner Involvement'!$E273)/COUNTA(_xlfn.TEXTSPLIT('12.Partner Involvement'!$H273,\";\"))),\"\")","v":""},{"$f":"IF(ISNUMBER(SEARCH(G$206,'12.Partner Involvement'!$H273))=TRUE,(('12.Partner Involvement'!$D273*'12.Partner Involvement'!$E273)/COUNTA(_xlfn.TEXTSPLIT('12.Partner Involvement'!$H273,\";\"))),\"\")","v":""},{"$f":"IF(ISNUMBER(SEARCH(H$206,'12.Partner Involvement'!$H273))=TRUE,(('12.Partner Involvement'!$D273*'12.Partner Involvement'!$E273)/COUNTA(_xlfn.TEXTSPLIT('12.Partner Involvement'!$H273,\";\"))),\"\")","v":""}]
[{"$f":"IF(ISNUMBER(SEARCH(A$206,'12.Partner Involvement'!$G274))=TRUE,(('12.Partner Involvement'!$D274*'12.Partner Involvement'!$E274)/COUNTA(_xlfn.TEXTSPLIT('12.Partner Involvement'!$G274,\";\"))),\"\")","v":""},{"$f":"IF(ISNUMBER(SEARCH(B$206,'12.Partner Involvement'!$G274))=TRUE,(('12.Partner Involvement'!$D274*'12.Partner Involvement'!$E274)/COUNTA(_xlfn.TEXTSPLIT('12.Partner Involvement'!$G274,\";\"))),\"\")","v":""},{"$f":"IF(ISNUMBER(SEARCH(C$206,'12.Partner Involvement'!$G274))=TRUE,(('12.Partner Involvement'!$D274*'12.Partner Involvement'!$E274)/COUNTA(_xlfn.TEXTSPLIT('12.Partner Involvement'!$G274,\";\"))),\"\")","v":""},null,{"$f":"IF(ISNUMBER(SEARCH(E$206,'12.Partner Involvement'!$H274))=TRUE,(('12.Partner Involvement'!$D274*'12.Partner Involvement'!$E274)/COUNTA(_xlfn.TEXTSPLIT('12.Partner Involvement'!$H274,\";\"))),\"\")","v":""},{"$f":"IF(ISNUMBER(SEARCH(F$206,'12.Partner Involvement'!$H274))=TRUE,(('12.Partner Involvement'!$D274*'12.Partner Involvement'!$E274)/COUNTA(_xlfn.TEXTSPLIT('12.Partner Involvement'!$H274,\";\"))),\"\")","v":""},{"$f":"IF(ISNUMBER(SEARCH(G$206,'12.Partner Involvement'!$H274))=TRUE,(('12.Partner Involvement'!$D274*'12.Partner Involvement'!$E274)/COUNTA(_xlfn.TEXTSPLIT('12.Partner Involvement'!$H274,\";\"))),\"\")","v":""},{"$f":"IF(ISNUMBER(SEARCH(H$206,'12.Partner Involvement'!$H274))=TRUE,(('12.Partner Involvement'!$D274*'12.Partner Involvement'!$E274)/COUNTA(_xlfn.TEXTSPLIT('12.Partner Involvement'!$H274,\";\"))),\"\")","v":""}]
[{"$f":"IF(ISNUMBER(SEARCH(A$206,'12.Partner Involvement'!$G275))=TRUE,(('12.Partner Involvement'!$D275*'12.Partner Involvement'!$E275)/COUNTA(_xlfn.TEXTSPLIT('12.Partner Involvement'!$G275,\";\"))),\"\")","v":""},{"$f":"IF(ISNUMBER(SEARCH(B$206,'12.Partner Involvement'!$G275))=TRUE,(('12.Partner Involvement'!$D275*'12.Partner Involvement'!$E275)/COUNTA(_xlfn.TEXTSPLIT('12.Partner Involvement'!$G275,\";\"))),\"\")","v":""},{"$f":"IF(ISNUMBER(SEARCH(C$206,'12.Partner Involvement'!$G275))=TRUE,(('12.Partner Involvement'!$D275*'12.Partner Involvement'!$E275)/COUNTA(_xlfn.TEXTSPLIT('12.Partner Involvement'!$G275,\";\"))),\"\")","v":""},null,{"$f":"IF(ISNUMBER(SEARCH(E$206,'12.Partner Involvement'!$H275))=TRUE,(('12.Partner Involvement'!$D275*'12.Partner Involvement'!$E275)/COUNTA(_xlfn.TEXTSPLIT('12.Partner Involvement'!$H275,\";\"))),\"\")","v":""},{"$f":"IF(ISNUMBER(SEARCH(F$206,'12.Partner Involvement'!$H275))=TRUE,(('12.Partner Involvement'!$D275*'12.Partner Involvement'!$E275)/COUNTA(_xlfn.TEXTSPLIT('12.Partner Involvement'!$H275,\";\"))),\"\")","v":""},{"$f":"IF(ISNUMBER(SEARCH(G$206,'12.Partner Involvement'!$H275))=TRUE,(('12.Partner Involvement'!$D275*'12.Partner Involvement'!$E275)/COUNTA(_xlfn.TEXTSPLIT('12.Partner Involvement'!$H275,\";\"))),\"\")","v":""},{"$f":"IF(ISNUMBER(SEARCH(H$206,'12.Partner Involvement'!$H275))=TRUE,(('12.Partner Involvement'!$D275*'12.Partner Involvement'!$E275)/COUNTA(_xlfn.TEXTSPLIT('12.Partner Involvement'!$H275,\";\"))),\"\")","v":""}]
[{"$f":"IF(ISNUMBER(SEARCH(A$206,'12.Partner Involvement'!$G276))=TRUE,(('12.Partner Involvement'!$D276*'12.Partner Involvement'!$E276)/COUNTA(_xlfn.TEXTSPLIT('12.Partner Involvement'!$G276,\";\"))),\"\")","v":""},{"$f":"IF(ISNUMBER(SEARCH(B$206,'12.Partner Involvement'!$G276))=TRUE,(('12.Partner Involvement'!$D276*'12.Partner Involvement'!$E276)/COUNTA(_xlfn.TEXTSPLIT('12.Partner Involvement'!$G276,\";\"))),\"\")","v":""},{"$f":"IF(ISNUMBER(SEARCH(C$206,'12.Partner Involvement'!$G276))=TRUE,(('12.Partner Involvement'!$D276*'12.Partner Involvement'!$E276)/COUNTA(_xlfn.TEXTSPLIT('12.Partner Involvement'!$G276,\";\"))),\"\")","v":""},null,{"$f":"IF(ISNUMBER(SEARCH(E$206,'12.Partner Involvement'!$H276))=TRUE,(('12.Partner Involvement'!$D276*'12.Partner Involvement'!$E276)/COUNTA(_xlfn.TEXTSPLIT('12.Partner Involvement'!$H276,\";\"))),\"\")","v":""},{"$f":"IF(ISNUMBER(SEARCH(F$206,'12.Partner Involvement'!$H276))=TRUE,(('12.Partner Involvement'!$D276*'12.Partner Involvement'!$E276)/COUNTA(_xlfn.TEXTSPLIT('12.Partner Involvement'!$H276,\";\"))),\"\")","v":""},{"$f":"IF(ISNUMBER(SEARCH(G$206,'12.Partner Involvement'!$H276))=TRUE,(('12.Partner Involvement'!$D276*'12.Partner Involvement'!$E276)/COUNTA(_xlfn.TEXTSPLIT('12.Partner Involvement'!$H276,\";\"))),\"\")","v":""},{"$f":"IF(ISNUMBER(SEARCH(H$206,'12.Partner Involvement'!$H276))=TRUE,(('12.Partner Involvement'!$D276*'12.Partner Involvement'!$E276)/COUNTA(_xlfn.TEXTSPLIT('12.Partner Involvement'!$H276,\";\"))),\"\")","v":""}]
[{"$f":"IF(ISNUMBER(SEARCH(A$206,'12.Partner Involvement'!$G277))=TRUE,(('12.Partner Involvement'!$D277*'12.Partner Involvement'!$E277)/COUNTA(_xlfn.TEXTSPLIT('12.Partner Involvement'!$G277,\";\"))),\"\")","v":""},{"$f":"IF(ISNUMBER(SEARCH(B$206,'12.Partner Involvement'!$G277))=TRUE,(('12.Partner Involvement'!$D277*'12.Partner Involvement'!$E277)/COUNTA(_xlfn.TEXTSPLIT('12.Partner Involvement'!$G277,\";\"))),\"\")","v":""},{"$f":"IF(ISNUMBER(SEARCH(C$206,'12.Partner Involvement'!$G277))=TRUE,(('12.Partner Involvement'!$D277*'12.Partner Involvement'!$E277)/COUNTA(_xlfn.TEXTSPLIT('12.Partner Involvement'!$G277,\";\"))),\"\")","v":""},null,{"$f":"IF(ISNUMBER(SEARCH(E$206,'12.Partner Involvement'!$H277))=TRUE,(('12.Partner Involvement'!$D277*'12.Partner Involvement'!$E277)/COUNTA(_xlfn.TEXTSPLIT('12.Partner Involvement'!$H277,\";\"))),\"\")","v":""},{"$f":"IF(ISNUMBER(SEARCH(F$206,'12.Partner Involvement'!$H277))=TRUE,(('12.Partner Involvement'!$D277*'12.Partner Involvement'!$E277)/COUNTA(_xlfn.TEXTSPLIT('12.Partner Involvement'!$H277,\";\"))),\"\")","v":""},{"$f":"IF(ISNUMBER(SEARCH(G$206,'12.Partner Involvement'!$H277))=TRUE,(('12.Partner Involvement'!$D277*'12.Partner Involvement'!$E277)/COUNTA(_xlfn.TEXTSPLIT('12.Partner Involvement'!$H277,\";\"))),\"\")","v":""},{"$f":"IF(ISNUMBER(SEARCH(H$206,'12.Partner Involvement'!$H277))=TRUE,(('12.Partner Involvement'!$D277*'12.Partner Involvement'!$E277)/COUNTA(_xlfn.TEXTSPLIT('12.Partner Involvement'!$H277,\";\"))),\"\")","v":""}]
[{"$f":"IF(ISNUMBER(SEARCH(A$206,'12.Partner Involvement'!$G278))=TRUE,(('12.Partner Involvement'!$D278*'12.Partner Involvement'!$E278)/COUNTA(_xlfn.TEXTSPLIT('12.Partner Involvement'!$G278,\";\"))),\"\")","v":""},{"$f":"IF(ISNUMBER(SEARCH(B$206,'12.Partner Involvement'!$G278))=TRUE,(('12.Partner Involvement'!$D278*'12.Partner Involvement'!$E278)/COUNTA(_xlfn.TEXTSPLIT('12.Partner Involvement'!$G278,\";\"))),\"\")","v":""},{"$f":"IF(ISNUMBER(SEARCH(C$206,'12.Partner Involvement'!$G278))=TRUE,(('12.Partner Involvement'!$D278*'12.Partner Involvement'!$E278)/COUNTA(_xlfn.TEXTSPLIT('12.Partner Involvement'!$G278,\";\"))),\"\")","v":""},null,{"$f":"IF(ISNUMBER(SEARCH(E$206,'12.Partner Involvement'!$H278))=TRUE,(('12.Partner Involvement'!$D278*'12.Partner Involvement'!$E278)/COUNTA(_xlfn.TEXTSPLIT('12.Partner Involvement'!$H278,\";\"))),\"\")","v":""},{"$f":"IF(ISNUMBER(SEARCH(F$206,'12.Partner Involvement'!$H278))=TRUE,(('12.Partner Involvement'!$D278*'12.Partner Involvement'!$E278)/COUNTA(_xlfn.TEXTSPLIT('12.Partner Involvement'!$H278,\";\"))),\"\")","v":""},{"$f":"IF(ISNUMBER(SEARCH(G$206,'12.Partner Involvement'!$H278))=TRUE,(('12.Partner Involvement'!$D278*'12.Partner Involvement'!$E278)/COUNTA(_xlfn.TEXTSPLIT('12.Partner Involvement'!$H278,\";\"))),\"\")","v":""},{"$f":"IF(ISNUMBER(SEARCH(H$206,'12.Partner Involvement'!$H278))=TRUE,(('12.Partner Involvement'!$D278*'12.Partner Involvement'!$E278)/COUNTA(_xlfn.TEXTSPLIT('12.Partner Involvement'!$H278,\";\"))),\"\")","v":""}]
[{"$f":"IF(ISNUMBER(SEARCH(A$206,'12.Partner Involvement'!$G279))=TRUE,(('12.Partner Involvement'!$D279*'12.Partner Involvement'!$E279)/COUNTA(_xlfn.TEXTSPLIT('12.Partner Involvement'!$G279,\";\"))),\"\")","v":""},{"$f":"IF(ISNUMBER(SEARCH(B$206,'12.Partner Involvement'!$G279))=TRUE,(('12.Partner Involvement'!$D279*'12.Partner Involvement'!$E279)/COUNTA(_xlfn.TEXTSPLIT('12.Partner Involvement'!$G279,\";\"))),\"\")","v":""},{"$f":"IF(ISNUMBER(SEARCH(C$206,'12.Partner Involvement'!$G279))=TRUE,(('12.Partner Involvement'!$D279*'12.Partner Involvement'!$E279)/COUNTA(_xlfn.TEXTSPLIT('12.Partner Involvement'!$G279,\";\"))),\"\")","v":""},null,{"$f":"IF(ISNUMBER(SEARCH(E$206,'12.Partner Involvement'!$H279))=TRUE,(('12.Partner Involvement'!$D279*'12.Partner Involvement'!$E279)/COUNTA(_xlfn.TEXTSPLIT('12.Partner Involvement'!$H279,\";\"))),\"\")","v":""},{"$f":"IF(ISNUMBER(SEARCH(F$206,'12.Partner Involvement'!$H279))=TRUE,(('12.Partner Involvement'!$D279*'12.Partner Involvement'!$E279)/COUNTA(_xlfn.TEXTSPLIT('12.Partner Involvement'!$H279,\";\"))),\"\")","v":""},{"$f":"IF(ISNUMBER(SEARCH(G$206,'12.Partner Involvement'!$H279))=TRUE,(('12.Partner Involvement'!$D279*'12.Partner Involvement'!$E279)/COUNTA(_xlfn.TEXTSPLIT('12.Partner Involvement'!$H279,\";\"))),\"\")","v":""},{"$f":"IF(ISNUMBER(SEARCH(H$206,'12.Partner Involvement'!$H279))=TRUE,(('12.Partner Involvement'!$D279*'12.Partner Involvement'!$E279)/COUNTA(_xlfn.TEXTSPLIT('12.Partner Involvement'!$H279,\";\"))),\"\")","v":""}]
[{"$f":"IF(ISNUMBER(SEARCH(A$206,'12.Partner Involvement'!$G280))=TRUE,(('12.Partner Involvement'!$D280*'12.Partner Involvement'!$E280)/COUNTA(_xlfn.TEXTSPLIT('12.Partner Involvement'!$G280,\";\"))),\"\")","v":""},{"$f":"IF(ISNUMBER(SEARCH(B$206,'12.Partner Involvement'!$G280))=TRUE,(('12.Partner Involvement'!$D280*'12.Partner Involvement'!$E280)/COUNTA(_xlfn.TEXTSPLIT('12.Partner Involvement'!$G280,\";\"))),\"\")","v":""},{"$f":"IF(ISNUMBER(SEARCH(C$206,'12.Partner Involvement'!$G280))=TRUE,(('12.Partner Involvement'!$D280*'12.Partner Involvement'!$E280)/COUNTA(_xlfn.TEXTSPLIT('12.Partner Involvement'!$G280,\";\"))),\"\")","v":""},null,{"$f":"IF(ISNUMBER(SEARCH(E$206,'12.Partner Involvement'!$H280))=TRUE,(('12.Partner Involvement'!$D280*'12.Partner Involvement'!$E280)/COUNTA(_xlfn.TEXTSPLIT('12.Partner Involvement'!$H280,\";\"))),\"\")","v":""},{"$f":"IF(ISNUMBER(SEARCH(F$206,'12.Partner Involvement'!$H280))=TRUE,(('12.Partner Involvement'!$D280*'12.Partner Involvement'!$E280)/COUNTA(_xlfn.TEXTSPLIT('12.Partner Involvement'!$H280,\";\"))),\"\")","v":""},{"$f":"IF(ISNUMBER(SEARCH(G$206,'12.Partner Involvement'!$H280))=TRUE,(('12.Partner Involvement'!$D280*'12.Partner Involvement'!$E280)/COUNTA(_xlfn.TEXTSPLIT('12.Partner Involvement'!$H280,\";\"))),\"\")","v":""},{"$f":"IF(ISNUMBER(SEARCH(H$206,'12.Partner Involvement'!$H280))=TRUE,(('12.Partner Involvement'!$D280*'12.Partner Involvement'!$E280)/COUNTA(_xlfn.TEXTSPLIT('12.Partner Involvement'!$H280,\";\"))),\"\")","v":""}]
[{"$f":"IF(ISNUMBER(SEARCH(A$206,'12.Partner Involvement'!$G281))=TRUE,(('12.Partner Involvement'!$D281*'12.Partner Involvement'!$E281)/COUNTA(_xlfn.TEXTSPLIT('12.Partner Involvement'!$G281,\";\"))),\"\")","v":""},{"$f":"IF(ISNUMBER(SEARCH(B$206,'12.Partner Involvement'!$G281))=TRUE,(('12.Partner Involvement'!$D281*'12.Partner Involvement'!$E281)/COUNTA(_xlfn.TEXTSPLIT('12.Partner Involvement'!$G281,\";\"))),\"\")","v":""},{"$f":"IF(ISNUMBER(SEARCH(C$206,'12.Partner Involvement'!$G281))=TRUE,(('12.Partner Involvement'!$D281*'12.Partner Involvement'!$E281)/COUNTA(_xlfn.TEXTSPLIT('12.Partner Involvement'!$G281,\";\"))),\"\")","v":""},null,{"$f":"IF(ISNUMBER(SEARCH(E$206,'12.Partner Involvement'!$H281))=TRUE,(('12.Partner Involvement'!$D281*'12.Partner Involvement'!$E281)/COUNTA(_xlfn.TEXTSPLIT('12.Partner Involvement'!$H281,\";\"))),\"\")","v":""},{"$f":"IF(ISNUMBER(SEARCH(F$206,'12.Partner Involvement'!$H281))=TRUE,(('12.Partner Involvement'!$D281*'12.Partner Involvement'!$E281)/COUNTA(_xlfn.TEXTSPLIT('12.Partner Involvement'!$H281,\";\"))),\"\")","v":""},{"$f":"IF(ISNUMBER(SEARCH(G$206,'12.Partner Involvement'!$H281))=TRUE,(('12.Partner Involvement'!$D281*'12.Partner Involvement'!$E281)/COUNTA(_xlfn.TEXTSPLIT('12.Partner Involvement'!$H281,\";\"))),\"\")","v":""},{"$f":"IF(ISNUMBER(SEARCH(H$206,'12.Partner Involvement'!$H281))=TRUE,(('12.Partner Involvement'!$D281*'12.Partner Involvement'!$E281)/COUNTA(_xlfn.TEXTSPLIT('12.Partner Involvement'!$H281,\";\"))),\"\")","v":""}]
[{"$f":"IF(ISNUMBER(SEARCH(A$206,'12.Partner Involvement'!$G282))=TRUE,(('12.Partner Involvement'!$D282*'12.Partner Involvement'!$E282)/COUNTA(_xlfn.TEXTSPLIT('12.Partner Involvement'!$G282,\";\"))),\"\")","v":""},{"$f":"IF(ISNUMBER(SEARCH(B$206,'12.Partner Involvement'!$G282))=TRUE,(('12.Partner Involvement'!$D282*'12.Partner Involvement'!$E282)/COUNTA(_xlfn.TEXTSPLIT('12.Partner Involvement'!$G282,\";\"))),\"\")","v":""},{"$f":"IF(ISNUMBER(SEARCH(C$206,'12.Partner Involvement'!$G282))=TRUE,(('12.Partner Involvement'!$D282*'12.Partner Involvement'!$E282)/COUNTA(_xlfn.TEXTSPLIT('12.Partner Involvement'!$G282,\";\"))),\"\")","v":""},null,{"$f":"IF(ISNUMBER(SEARCH(E$206,'12.Partner Involvement'!$H282))=TRUE,(('12.Partner Involvement'!$D282*'12.Partner Involvement'!$E282)/COUNTA(_xlfn.TEXTSPLIT('12.Partner Involvement'!$H282,\";\"))),\"\")","v":""},{"$f":"IF(ISNUMBER(SEARCH(F$206,'12.Partner Involvement'!$H282))=TRUE,(('12.Partner Involvement'!$D282*'12.Partner Involvement'!$E282)/COUNTA(_xlfn.TEXTSPLIT('12.Partner Involvement'!$H282,\";\"))),\"\")","v":""},{"$f":"IF(ISNUMBER(SEARCH(G$206,'12.Partner Involvement'!$H282))=TRUE,(('12.Partner Involvement'!$D282*'12.Partner Involvement'!$E282)/COUNTA(_xlfn.TEXTSPLIT('12.Partner Involvement'!$H282,\";\"))),\"\")","v":""},{"$f":"IF(ISNUMBER(SEARCH(H$206,'12.Partner Involvement'!$H282))=TRUE,(('12.Partner Involvement'!$D282*'12.Partner Involvement'!$E282)/COUNTA(_xlfn.TEXTSPLIT('12.Partner Involvement'!$H282,\";\"))),\"\")","v":""}]
[{"$f":"IF(ISNUMBER(SEARCH(A$206,'12.Partner Involvement'!$G283))=TRUE,(('12.Partner Involvement'!$D283*'12.Partner Involvement'!$E283)/COUNTA(_xlfn.TEXTSPLIT('12.Partner Involvement'!$G283,\";\"))),\"\")","v":""},{"$f":"IF(ISNUMBER(SEARCH(B$206,'12.Partner Involvement'!$G283))=TRUE,(('12.Partner Involvement'!$D283*'12.Partner Involvement'!$E283)/COUNTA(_xlfn.TEXTSPLIT('12.Partner Involvement'!$G283,\";\"))),\"\")","v":""},{"$f":"IF(ISNUMBER(SEARCH(C$206,'12.Partner Involvement'!$G283))=TRUE,(('12.Partner Involvement'!$D283*'12.Partner Involvement'!$E283)/COUNTA(_xlfn.TEXTSPLIT('12.Partner Involvement'!$G283,\";\"))),\"\")","v":""},null,{"$f":"IF(ISNUMBER(SEARCH(E$206,'12.Partner Involvement'!$H283))=TRUE,(('12.Partner Involvement'!$D283*'12.Partner Involvement'!$E283)/COUNTA(_xlfn.TEXTSPLIT('12.Partner Involvement'!$H283,\";\"))),\"\")","v":""},{"$f":"IF(ISNUMBER(SEARCH(F$206,'12.Partner Involvement'!$H283))=TRUE,(('12.Partner Involvement'!$D283*'12.Partner Involvement'!$E283)/COUNTA(_xlfn.TEXTSPLIT('12.Partner Involvement'!$H283,\";\"))),\"\")","v":""},{"$f":"IF(ISNUMBER(SEARCH(G$206,'12.Partner Involvement'!$H283))=TRUE,(('12.Partner Involvement'!$D283*'12.Partner Involvement'!$E283)/COUNTA(_xlfn.TEXTSPLIT('12.Partner Involvement'!$H283,\";\"))),\"\")","v":""},{"$f":"IF(ISNUMBER(SEARCH(H$206,'12.Partner Involvement'!$H283))=TRUE,(('12.Partner Involvement'!$D283*'12.Partner Involvement'!$E283)/COUNTA(_xlfn.TEXTSPLIT('12.Partner Involvement'!$H283,\";\"))),\"\")","v":""}]
[{"$f":"IF(ISNUMBER(SEARCH(A$206,'12.Partner Involvement'!$G284))=TRUE,(('12.Partner Involvement'!$D284*'12.Partner Involvement'!$E284)/COUNTA(_xlfn.TEXTSPLIT('12.Partner Involvement'!$G284,\";\"))),\"\")","v":""},{"$f":"IF(ISNUMBER(SEARCH(B$206,'12.Partner Involvement'!$G284))=TRUE,(('12.Partner Involvement'!$D284*'12.Partner Involvement'!$E284)/COUNTA(_xlfn.TEXTSPLIT('12.Partner Involvement'!$G284,\";\"))),\"\")","v":""},{"$f":"IF(ISNUMBER(SEARCH(C$206,'12.Partner Involvement'!$G284))=TRUE,(('12.Partner Involvement'!$D284*'12.Partner Involvement'!$E284)/COUNTA(_xlfn.TEXTSPLIT('12.Partner Involvement'!$G284,\";\"))),\"\")","v":""},null,{"$f":"IF(ISNUMBER(SEARCH(E$206,'12.Partner Involvement'!$H284))=TRUE,(('12.Partner Involvement'!$D284*'12.Partner Involvement'!$E284)/COUNTA(_xlfn.TEXTSPLIT('12.Partner Involvement'!$H284,\";\"))),\"\")","v":""},{"$f":"IF(ISNUMBER(SEARCH(F$206,'12.Partner Involvement'!$H284))=TRUE,(('12.Partner Involvement'!$D284*'12.Partner Involvement'!$E284)/COUNTA(_xlfn.TEXTSPLIT('12.Partner Involvement'!$H284,\";\"))),\"\")","v":""},{"$f":"IF(ISNUMBER(SEARCH(G$206,'12.Partner Involvement'!$H284))=TRUE,(('12.Partner Involvement'!$D284*'12.Partner Involvement'!$E284)/COUNTA(_xlfn.TEXTSPLIT('12.Partner Involvement'!$H284,\";\"))),\"\")","v":""},{"$f":"IF(ISNUMBER(SEARCH(H$206,'12.Partner Involvement'!$H284))=TRUE,(('12.Partner Involvement'!$D284*'12.Partner Involvement'!$E284)/COUNTA(_xlfn.TEXTSPLIT('12.Partner Involvement'!$H284,\";\"))),\"\")","v":""}]
[{"$f":"IF(ISNUMBER(SEARCH(A$206,'12.Partner Involvement'!$G285))=TRUE,(('12.Partner Involvement'!$D285*'12.Partner Involvement'!$E285)/COUNTA(_xlfn.TEXTSPLIT('12.Partner Involvement'!$G285,\";\"))),\"\")","v":""},{"$f":"IF(ISNUMBER(SEARCH(B$206,'12.Partner Involvement'!$G285))=TRUE,(('12.Partner Involvement'!$D285*'12.Partner Involvement'!$E285)/COUNTA(_xlfn.TEXTSPLIT('12.Partner Involvement'!$G285,\";\"))),\"\")","v":""},{"$f":"IF(ISNUMBER(SEARCH(C$206,'12.Partner Involvement'!$G285))=TRUE,(('12.Partner Involvement'!$D285*'12.Partner Involvement'!$E285)/COUNTA(_xlfn.TEXTSPLIT('12.Partner Involvement'!$G285,\";\"))),\"\")","v":""},null,{"$f":"IF(ISNUMBER(SEARCH(E$206,'12.Partner Involvement'!$H285))=TRUE,(('12.Partner Involvement'!$D285*'12.Partner Involvement'!$E285)/COUNTA(_xlfn.TEXTSPLIT('12.Partner Involvement'!$H285,\";\"))),\"\")","v":""},{"$f":"IF(ISNUMBER(SEARCH(F$206,'12.Partner Involvement'!$H285))=TRUE,(('12.Partner Involvement'!$D285*'12.Partner Involvement'!$E285)/COUNTA(_xlfn.TEXTSPLIT('12.Partner Involvement'!$H285,\";\"))),\"\")","v":""},{"$f":"IF(ISNUMBER(SEARCH(G$206,'12.Partner Involvement'!$H285))=TRUE,(('12.Partner Involvement'!$D285*'12.Partner Involvement'!$E285)/COUNTA(_xlfn.TEXTSPLIT('12.Partner Involvement'!$H285,\";\"))),\"\")","v":""},{"$f":"IF(ISNUMBER(SEARCH(H$206,'12.Partner Involvement'!$H285))=TRUE,(('12.Partner Involvement'!$D285*'12.Partner Involvement'!$E285)/COUNTA(_xlfn.TEXTSPLIT('12.Partner Involvement'!$H285,\";\"))),\"\")","v":""}]
[{"$f":"IF(ISNUMBER(SEARCH(A$206,'12.Partner Involvement'!$G286))=TRUE,(('12.Partner Involvement'!$D286*'12.Partner Involvement'!$E286)/COUNTA(_xlfn.TEXTSPLIT('12.Partner Involvement'!$G286,\";\"))),\"\")","v":""},{"$f":"IF(ISNUMBER(SEARCH(B$206,'12.Partner Involvement'!$G286))=TRUE,(('12.Partner Involvement'!$D286*'12.Partner Involvement'!$E286)/COUNTA(_xlfn.TEXTSPLIT('12.Partner Involvement'!$G286,\";\"))),\"\")","v":""},{"$f":"IF(ISNUMBER(SEARCH(C$206,'12.Partner Involvement'!$G286))=TRUE,(('12.Partner Involvement'!$D286*'12.Partner Involvement'!$E286)/COUNTA(_xlfn.TEXTSPLIT('12.Partner Involvement'!$G286,\";\"))),\"\")","v":""},null,{"$f":"IF(ISNUMBER(SEARCH(E$206,'12.Partner Involvement'!$H286))=TRUE,(('12.Partner Involvement'!$D286*'12.Partner Involvement'!$E286)/COUNTA(_xlfn.TEXTSPLIT('12.Partner Involvement'!$H286,\";\"))),\"\")","v":""},{"$f":"IF(ISNUMBER(SEARCH(F$206,'12.Partner Involvement'!$H286))=TRUE,(('12.Partner Involvement'!$D286*'12.Partner Involvement'!$E286)/COUNTA(_xlfn.TEXTSPLIT('12.Partner Involvement'!$H286,\";\"))),\"\")","v":""},{"$f":"IF(ISNUMBER(SEARCH(G$206,'12.Partner Involvement'!$H286))=TRUE,(('12.Partner Involvement'!$D286*'12.Partner Involvement'!$E286)/COUNTA(_xlfn.TEXTSPLIT('12.Partner Involvement'!$H286,\";\"))),\"\")","v":""},{"$f":"IF(ISNUMBER(SEARCH(H$206,'12.Partner Involvement'!$H286))=TRUE,(('12.Partner Involvement'!$D286*'12.Partner Involvement'!$E286)/COUNTA(_xlfn.TEXTSPLIT('12.Partner Involvement'!$H286,\";\"))),\"\")","v":""}]
[{"$f":"IF(ISNUMBER(SEARCH(A$206,'12.Partner Involvement'!$G287))=TRUE,(('12.Partner Involvement'!$D287*'12.Partner Involvement'!$E287)/COUNTA(_xlfn.TEXTSPLIT('12.Partner Involvement'!$G287,\";\"))),\"\")","v":""},{"$f":"IF(ISNUMBER(SEARCH(B$206,'12.Partner Involvement'!$G287))=TRUE,(('12.Partner Involvement'!$D287*'12.Partner Involvement'!$E287)/COUNTA(_xlfn.TEXTSPLIT('12.Partner Involvement'!$G287,\";\"))),\"\")","v":""},{"$f":"IF(ISNUMBER(SEARCH(C$206,'12.Partner Involvement'!$G287))=TRUE,(('12.Partner Involvement'!$D287*'12.Partner Involvement'!$E287)/COUNTA(_xlfn.TEXTSPLIT('12.Partner Involvement'!$G287,\";\"))),\"\")","v":""},null,{"$f":"IF(ISNUMBER(SEARCH(E$206,'12.Partner Involvement'!$H287))=TRUE,(('12.Partner Involvement'!$D287*'12.Partner Involvement'!$E287)/COUNTA(_xlfn.TEXTSPLIT('12.Partner Involvement'!$H287,\";\"))),\"\")","v":""},{"$f":"IF(ISNUMBER(SEARCH(F$206,'12.Partner Involvement'!$H287))=TRUE,(('12.Partner Involvement'!$D287*'12.Partner Involvement'!$E287)/COUNTA(_xlfn.TEXTSPLIT('12.Partner Involvement'!$H287,\";\"))),\"\")","v":""},{"$f":"IF(ISNUMBER(SEARCH(G$206,'12.Partner Involvement'!$H287))=TRUE,(('12.Partner Involvement'!$D287*'12.Partner Involvement'!$E287)/COUNTA(_xlfn.TEXTSPLIT('12.Partner Involvement'!$H287,\";\"))),\"\")","v":""},{"$f":"IF(ISNUMBER(SEARCH(H$206,'12.Partner Involvement'!$H287))=TRUE,(('12.Partner Involvement'!$D287*'12.Partner Involvement'!$E287)/COUNTA(_xlfn.TEXTSPLIT('12.Partner Involvement'!$H287,\";\"))),\"\")","v":""}]
[{"$f":"IF(ISNUMBER(SEARCH(A$206,'12.Partner Involvement'!$G288))=TRUE,(('12.Partner Involvement'!$D288*'12.Partner Involvement'!$E288)/COUNTA(_xlfn.TEXTSPLIT('12.Partner Involvement'!$G288,\";\"))),\"\")","v":""},{"$f":"IF(ISNUMBER(SEARCH(B$206,'12.Partner Involvement'!$G288))=TRUE,(('12.Partner Involvement'!$D288*'12.Partner Involvement'!$E288)/COUNTA(_xlfn.TEXTSPLIT('12.Partner Involvement'!$G288,\";\"))),\"\")","v":""},{"$f":"IF(ISNUMBER(SEARCH(C$206,'12.Partner Involvement'!$G288))=TRUE,(('12.Partner Involvement'!$D288*'12.Partner Involvement'!$E288)/COUNTA(_xlfn.TEXTSPLIT('12.Partner Involvement'!$G288,\";\"))),\"\")","v":""},null,{"$f":"IF(ISNUMBER(SEARCH(E$206,'12.Partner Involvement'!$H288))=TRUE,(('12.Partner Involvement'!$D288*'12.Partner Involvement'!$E288)/COUNTA(_xlfn.TEXTSPLIT('12.Partner Involvement'!$H288,\";\"))),\"\")","v":""},{"$f":"IF(ISNUMBER(SEARCH(F$206,'12.Partner Involvement'!$H288))=TRUE,(('12.Partner Involvement'!$D288*'12.Partner Involvement'!$E288)/COUNTA(_xlfn.TEXTSPLIT('12.Partner Involvement'!$H288,\";\"))),\"\")","v":""},{"$f":"IF(ISNUMBER(SEARCH(G$206,'12.Partner Involvement'!$H288))=TRUE,(('12.Partner Involvement'!$D288*'12.Partner Involvement'!$E288)/COUNTA(_xlfn.TEXTSPLIT('12.Partner Involvement'!$H288,\";\"))),\"\")","v":""},{"$f":"IF(ISNUMBER(SEARCH(H$206,'12.Partner Involvement'!$H288))=TRUE,(('12.Partner Involvement'!$D288*'12.Partner Involvement'!$E288)/COUNTA(_xlfn.TEXTSPLIT('12.Partner Involvement'!$H288,\";\"))),\"\")","v":""}]
[{"$f":"IF(ISNUMBER(SEARCH(A$206,'12.Partner Involvement'!$G289))=TRUE,(('12.Partner Involvement'!$D289*'12.Partner Involvement'!$E289)/COUNTA(_xlfn.TEXTSPLIT('12.Partner Involvement'!$G289,\";\"))),\"\")","v":""},{"$f":"IF(ISNUMBER(SEARCH(B$206,'12.Partner Involvement'!$G289))=TRUE,(('12.Partner Involvement'!$D289*'12.Partner Involvement'!$E289)/COUNTA(_xlfn.TEXTSPLIT('12.Partner Involvement'!$G289,\";\"))),\"\")","v":""},{"$f":"IF(ISNUMBER(SEARCH(C$206,'12.Partner Involvement'!$G289))=TRUE,(('12.Partner Involvement'!$D289*'12.Partner Involvement'!$E289)/COUNTA(_xlfn.TEXTSPLIT('12.Partner Involvement'!$G289,\";\"))),\"\")","v":""},null,{"$f":"IF(ISNUMBER(SEARCH(E$206,'12.Partner Involvement'!$H289))=TRUE,(('12.Partner Involvement'!$D289*'12.Partner Involvement'!$E289)/COUNTA(_xlfn.TEXTSPLIT('12.Partner Involvement'!$H289,\";\"))),\"\")","v":""},{"$f":"IF(ISNUMBER(SEARCH(F$206,'12.Partner Involvement'!$H289))=TRUE,(('12.Partner Involvement'!$D289*'12.Partner Involvement'!$E289)/COUNTA(_xlfn.TEXTSPLIT('12.Partner Involvement'!$H289,\";\"))),\"\")","v":""},{"$f":"IF(ISNUMBER(SEARCH(G$206,'12.Partner Involvement'!$H289))=TRUE,(('12.Partner Involvement'!$D289*'12.Partner Involvement'!$E289)/COUNTA(_xlfn.TEXTSPLIT('12.Partner Involvement'!$H289,\";\"))),\"\")","v":""},{"$f":"IF(ISNUMBER(SEARCH(H$206,'12.Partner Involvement'!$H289))=TRUE,(('12.Partner Involvement'!$D289*'12.Partner Involvement'!$E289)/COUNTA(_xlfn.TEXTSPLIT('12.Partner Involvement'!$H289,\";\"))),\"\")","v":""}]
[{"$f":"IF(ISNUMBER(SEARCH(A$206,'12.Partner Involvement'!$G290))=TRUE,(('12.Partner Involvement'!$D290*'12.Partner Involvement'!$E290)/COUNTA(_xlfn.TEXTSPLIT('12.Partner Involvement'!$G290,\";\"))),\"\")","v":""},{"$f":"IF(ISNUMBER(SEARCH(B$206,'12.Partner Involvement'!$G290))=TRUE,(('12.Partner Involvement'!$D290*'12.Partner Involvement'!$E290)/COUNTA(_xlfn.TEXTSPLIT('12.Partner Involvement'!$G290,\";\"))),\"\")","v":""},{"$f":"IF(ISNUMBER(SEARCH(C$206,'12.Partner Involvement'!$G290))=TRUE,(('12.Partner Involvement'!$D290*'12.Partner Involvement'!$E290)/COUNTA(_xlfn.TEXTSPLIT('12.Partner Involvement'!$G290,\";\"))),\"\")","v":""},null,{"$f":"IF(ISNUMBER(SEARCH(E$206,'12.Partner Involvement'!$H290))=TRUE,(('12.Partner Involvement'!$D290*'12.Partner Involvement'!$E290)/COUNTA(_xlfn.TEXTSPLIT('12.Partner Involvement'!$H290,\";\"))),\"\")","v":""},{"$f":"IF(ISNUMBER(SEARCH(F$206,'12.Partner Involvement'!$H290))=TRUE,(('12.Partner Involvement'!$D290*'12.Partner Involvement'!$E290)/COUNTA(_xlfn.TEXTSPLIT('12.Partner Involvement'!$H290,\";\"))),\"\")","v":""},{"$f":"IF(ISNUMBER(SEARCH(G$206,'12.Partner Involvement'!$H290))=TRUE,(('12.Partner Involvement'!$D290*'12.Partner Involvement'!$E290)/COUNTA(_xlfn.TEXTSPLIT('12.Partner Involvement'!$H290,\";\"))),\"\")","v":""},{"$f":"IF(ISNUMBER(SEARCH(H$206,'12.Partner Involvement'!$H290))=TRUE,(('12.Partner Involvement'!$D290*'12.Partner Involvement'!$E290)/COUNTA(_xlfn.TEXTSPLIT('12.Partner Involvement'!$H290,\";\"))),\"\")","v":""}]
[{"$f":"IF(ISNUMBER(SEARCH(A$206,'12.Partner Involvement'!$G291))=TRUE,(('12.Partner Involvement'!$D291*'12.Partner Involvement'!$E291)/COUNTA(_xlfn.TEXTSPLIT('12.Partner Involvement'!$G291,\";\"))),\"\")","v":""},{"$f":"IF(ISNUMBER(SEARCH(B$206,'12.Partner Involvement'!$G291))=TRUE,(('12.Partner Involvement'!$D291*'12.Partner Involvement'!$E291)/COUNTA(_xlfn.TEXTSPLIT('12.Partner Involvement'!$G291,\";\"))),\"\")","v":""},{"$f":"IF(ISNUMBER(SEARCH(C$206,'12.Partner Involvement'!$G291))=TRUE,(('12.Partner Involvement'!$D291*'12.Partner Involvement'!$E291)/COUNTA(_xlfn.TEXTSPLIT('12.Partner Involvement'!$G291,\";\"))),\"\")","v":""},null,{"$f":"IF(ISNUMBER(SEARCH(E$206,'12.Partner Involvement'!$H291))=TRUE,(('12.Partner Involvement'!$D291*'12.Partner Involvement'!$E291)/COUNTA(_xlfn.TEXTSPLIT('12.Partner Involvement'!$H291,\";\"))),\"\")","v":""},{"$f":"IF(ISNUMBER(SEARCH(F$206,'12.Partner Involvement'!$H291))=TRUE,(('12.Partner Involvement'!$D291*'12.Partner Involvement'!$E291)/COUNTA(_xlfn.TEXTSPLIT('12.Partner Involvement'!$H291,\";\"))),\"\")","v":""},{"$f":"IF(ISNUMBER(SEARCH(G$206,'12.Partner Involvement'!$H291))=TRUE,(('12.Partner Involvement'!$D291*'12.Partner Involvement'!$E291)/COUNTA(_xlfn.TEXTSPLIT('12.Partner Involvement'!$H291,\";\"))),\"\")","v":""},{"$f":"IF(ISNUMBER(SEARCH(H$206,'12.Partner Involvement'!$H291))=TRUE,(('12.Partner Involvement'!$D291*'12.Partner Involvement'!$E291)/COUNTA(_xlfn.TEXTSPLIT('12.Partner Involvement'!$H291,\";\"))),\"\")","v":""}]
[{"$f":"IF(ISNUMBER(SEARCH(A$206,'12.Partner Involvement'!$G292))=TRUE,(('12.Partner Involvement'!$D292*'12.Partner Involvement'!$E292)/COUNTA(_xlfn.TEXTSPLIT('12.Partner Involvement'!$G292,\";\"))),\"\")","v":""},{"$f":"IF(ISNUMBER(SEARCH(B$206,'12.Partner Involvement'!$G292))=TRUE,(('12.Partner Involvement'!$D292*'12.Partner Involvement'!$E292)/COUNTA(_xlfn.TEXTSPLIT('12.Partner Involvement'!$G292,\";\"))),\"\")","v":""},{"$f":"IF(ISNUMBER(SEARCH(C$206,'12.Partner Involvement'!$G292))=TRUE,(('12.Partner Involvement'!$D292*'12.Partner Involvement'!$E292)/COUNTA(_xlfn.TEXTSPLIT('12.Partner Involvement'!$G292,\";\"))),\"\")","v":""},null,{"$f":"IF(ISNUMBER(SEARCH(E$206,'12.Partner Involvement'!$H292))=TRUE,(('12.Partner Involvement'!$D292*'12.Partner Involvement'!$E292)/COUNTA(_xlfn.TEXTSPLIT('12.Partner Involvement'!$H292,\";\"))),\"\")","v":""},{"$f":"IF(ISNUMBER(SEARCH(F$206,'12.Partner Involvement'!$H292))=TRUE,(('12.Partner Involvement'!$D292*'12.Partner Involvement'!$E292)/COUNTA(_xlfn.TEXTSPLIT('12.Partner Involvement'!$H292,\";\"))),\"\")","v":""},{"$f":"IF(ISNUMBER(SEARCH(G$206,'12.Partner Involvement'!$H292))=TRUE,(('12.Partner Involvement'!$D292*'12.Partner Involvement'!$E292)/COUNTA(_xlfn.TEXTSPLIT('12.Partner Involvement'!$H292,\";\"))),\"\")","v":""},{"$f":"IF(ISNUMBER(SEARCH(H$206,'12.Partner Involvement'!$H292))=TRUE,(('12.Partner Involvement'!$D292*'12.Partner Involvement'!$E292)/COUNTA(_xlfn.TEXTSPLIT('12.Partner Involvement'!$H292,\";\"))),\"\")","v":""}]
[{"$f":"IF(ISNUMBER(SEARCH(A$206,'12.Partner Involvement'!$G293))=TRUE,(('12.Partner Involvement'!$D293*'12.Partner Involvement'!$E293)/COUNTA(_xlfn.TEXTSPLIT('12.Partner Involvement'!$G293,\";\"))),\"\")","v":""},{"$f":"IF(ISNUMBER(SEARCH(B$206,'12.Partner Involvement'!$G293))=TRUE,(('12.Partner Involvement'!$D293*'12.Partner Involvement'!$E293)/COUNTA(_xlfn.TEXTSPLIT('12.Partner Involvement'!$G293,\";\"))),\"\")","v":""},{"$f":"IF(ISNUMBER(SEARCH(C$206,'12.Partner Involvement'!$G293))=TRUE,(('12.Partner Involvement'!$D293*'12.Partner Involvement'!$E293)/COUNTA(_xlfn.TEXTSPLIT('12.Partner Involvement'!$G293,\";\"))),\"\")","v":""},null,{"$f":"IF(ISNUMBER(SEARCH(E$206,'12.Partner Involvement'!$H293))=TRUE,(('12.Partner Involvement'!$D293*'12.Partner Involvement'!$E293)/COUNTA(_xlfn.TEXTSPLIT('12.Partner Involvement'!$H293,\";\"))),\"\")","v":""},{"$f":"IF(ISNUMBER(SEARCH(F$206,'12.Partner Involvement'!$H293))=TRUE,(('12.Partner Involvement'!$D293*'12.Partner Involvement'!$E293)/COUNTA(_xlfn.TEXTSPLIT('12.Partner Involvement'!$H293,\";\"))),\"\")","v":""},{"$f":"IF(ISNUMBER(SEARCH(G$206,'12.Partner Involvement'!$H293))=TRUE,(('12.Partner Involvement'!$D293*'12.Partner Involvement'!$E293)/COUNTA(_xlfn.TEXTSPLIT('12.Partner Involvement'!$H293,\";\"))),\"\")","v":""},{"$f":"IF(ISNUMBER(SEARCH(H$206,'12.Partner Involvement'!$H293))=TRUE,(('12.Partner Involvement'!$D293*'12.Partner Involvement'!$E293)/COUNTA(_xlfn.TEXTSPLIT('12.Partner Involvement'!$H293,\";\"))),\"\")","v":""}]
[{"$f":"IF(ISNUMBER(SEARCH(A$206,'12.Partner Involvement'!$G294))=TRUE,(('12.Partner Involvement'!$D294*'12.Partner Involvement'!$E294)/COUNTA(_xlfn.TEXTSPLIT('12.Partner Involvement'!$G294,\";\"))),\"\")","v":""},{"$f":"IF(ISNUMBER(SEARCH(B$206,'12.Partner Involvement'!$G294))=TRUE,(('12.Partner Involvement'!$D294*'12.Partner Involvement'!$E294)/COUNTA(_xlfn.TEXTSPLIT('12.Partner Involvement'!$G294,\";\"))),\"\")","v":""},{"$f":"IF(ISNUMBER(SEARCH(C$206,'12.Partner Involvement'!$G294))=TRUE,(('12.Partner Involvement'!$D294*'12.Partner Involvement'!$E294)/COUNTA(_xlfn.TEXTSPLIT('12.Partner Involvement'!$G294,\";\"))),\"\")","v":""},null,{"$f":"IF(ISNUMBER(SEARCH(E$206,'12.Partner Involvement'!$H294))=TRUE,(('12.Partner Involvement'!$D294*'12.Partner Involvement'!$E294)/COUNTA(_xlfn.TEXTSPLIT('12.Partner Involvement'!$H294,\";\"))),\"\")","v":""},{"$f":"IF(ISNUMBER(SEARCH(F$206,'12.Partner Involvement'!$H294))=TRUE,(('12.Partner Involvement'!$D294*'12.Partner Involvement'!$E294)/COUNTA(_xlfn.TEXTSPLIT('12.Partner Involvement'!$H294,\";\"))),\"\")","v":""},{"$f":"IF(ISNUMBER(SEARCH(G$206,'12.Partner Involvement'!$H294))=TRUE,(('12.Partner Involvement'!$D294*'12.Partner Involvement'!$E294)/COUNTA(_xlfn.TEXTSPLIT('12.Partner Involvement'!$H294,\";\"))),\"\")","v":""},{"$f":"IF(ISNUMBER(SEARCH(H$206,'12.Partner Involvement'!$H294))=TRUE,(('12.Partner Involvement'!$D294*'12.Partner Involvement'!$E294)/COUNTA(_xlfn.TEXTSPLIT('12.Partner Involvement'!$H294,\";\"))),\"\")","v":""}]
[{"$f":"IF(ISNUMBER(SEARCH(A$206,'12.Partner Involvement'!$G295))=TRUE,(('12.Partner Involvement'!$D295*'12.Partner Involvement'!$E295)/COUNTA(_xlfn.TEXTSPLIT('12.Partner Involvement'!$G295,\";\"))),\"\")","v":""},{"$f":"IF(ISNUMBER(SEARCH(B$206,'12.Partner Involvement'!$G295))=TRUE,(('12.Partner Involvement'!$D295*'12.Partner Involvement'!$E295)/COUNTA(_xlfn.TEXTSPLIT('12.Partner Involvement'!$G295,\";\"))),\"\")","v":""},{"$f":"IF(ISNUMBER(SEARCH(C$206,'12.Partner Involvement'!$G295))=TRUE,(('12.Partner Involvement'!$D295*'12.Partner Involvement'!$E295)/COUNTA(_xlfn.TEXTSPLIT('12.Partner Involvement'!$G295,\";\"))),\"\")","v":""},null,{"$f":"IF(ISNUMBER(SEARCH(E$206,'12.Partner Involvement'!$H295))=TRUE,(('12.Partner Involvement'!$D295*'12.Partner Involvement'!$E295)/COUNTA(_xlfn.TEXTSPLIT('12.Partner Involvement'!$H295,\";\"))),\"\")","v":""},{"$f":"IF(ISNUMBER(SEARCH(F$206,'12.Partner Involvement'!$H295))=TRUE,(('12.Partner Involvement'!$D295*'12.Partner Involvement'!$E295)/COUNTA(_xlfn.TEXTSPLIT('12.Partner Involvement'!$H295,\";\"))),\"\")","v":""},{"$f":"IF(ISNUMBER(SEARCH(G$206,'12.Partner Involvement'!$H295))=TRUE,(('12.Partner Involvement'!$D295*'12.Partner Involvement'!$E295)/COUNTA(_xlfn.TEXTSPLIT('12.Partner Involvement'!$H295,\";\"))),\"\")","v":""},{"$f":"IF(ISNUMBER(SEARCH(H$206,'12.Partner Involvement'!$H295))=TRUE,(('12.Partner Involvement'!$D295*'12.Partner Involvement'!$E295)/COUNTA(_xlfn.TEXTSPLIT('12.Partner Involvement'!$H295,\";\"))),\"\")","v":""}]
[{"$f":"IF(ISNUMBER(SEARCH(A$206,'12.Partner Involvement'!$G296))=TRUE,(('12.Partner Involvement'!$D296*'12.Partner Involvement'!$E296)/COUNTA(_xlfn.TEXTSPLIT('12.Partner Involvement'!$G296,\";\"))),\"\")","v":""},{"$f":"IF(ISNUMBER(SEARCH(B$206,'12.Partner Involvement'!$G296))=TRUE,(('12.Partner Involvement'!$D296*'12.Partner Involvement'!$E296)/COUNTA(_xlfn.TEXTSPLIT('12.Partner Involvement'!$G296,\";\"))),\"\")","v":""},{"$f":"IF(ISNUMBER(SEARCH(C$206,'12.Partner Involvement'!$G296))=TRUE,(('12.Partner Involvement'!$D296*'12.Partner Involvement'!$E296)/COUNTA(_xlfn.TEXTSPLIT('12.Partner Involvement'!$G296,\";\"))),\"\")","v":""},null,{"$f":"IF(ISNUMBER(SEARCH(E$206,'12.Partner Involvement'!$H296))=TRUE,(('12.Partner Involvement'!$D296*'12.Partner Involvement'!$E296)/COUNTA(_xlfn.TEXTSPLIT('12.Partner Involvement'!$H296,\";\"))),\"\")","v":""},{"$f":"IF(ISNUMBER(SEARCH(F$206,'12.Partner Involvement'!$H296))=TRUE,(('12.Partner Involvement'!$D296*'12.Partner Involvement'!$E296)/COUNTA(_xlfn.TEXTSPLIT('12.Partner Involvement'!$H296,\";\"))),\"\")","v":""},{"$f":"IF(ISNUMBER(SEARCH(G$206,'12.Partner Involvement'!$H296))=TRUE,(('12.Partner Involvement'!$D296*'12.Partner Involvement'!$E296)/COUNTA(_xlfn.TEXTSPLIT('12.Partner Involvement'!$H296,\";\"))),\"\")","v":""},{"$f":"IF(ISNUMBER(SEARCH(H$206,'12.Partner Involvement'!$H296))=TRUE,(('12.Partner Involvement'!$D296*'12.Partner Involvement'!$E296)/COUNTA(_xlfn.TEXTSPLIT('12.Partner Involvement'!$H296,\";\"))),\"\")","v":""}]
[{"$f":"IF(ISNUMBER(SEARCH(A$206,'12.Partner Involvement'!$G297))=TRUE,(('12.Partner Involvement'!$D297*'12.Partner Involvement'!$E297)/COUNTA(_xlfn.TEXTSPLIT('12.Partner Involvement'!$G297,\";\"))),\"\")","v":""},{"$f":"IF(ISNUMBER(SEARCH(B$206,'12.Partner Involvement'!$G297))=TRUE,(('12.Partner Involvement'!$D297*'12.Partner Involvement'!$E297)/COUNTA(_xlfn.TEXTSPLIT('12.Partner Involvement'!$G297,\";\"))),\"\")","v":""},{"$f":"IF(ISNUMBER(SEARCH(C$206,'12.Partner Involvement'!$G297))=TRUE,(('12.Partner Involvement'!$D297*'12.Partner Involvement'!$E297)/COUNTA(_xlfn.TEXTSPLIT('12.Partner Involvement'!$G297,\";\"))),\"\")","v":""},null,{"$f":"IF(ISNUMBER(SEARCH(E$206,'12.Partner Involvement'!$H297))=TRUE,(('12.Partner Involvement'!$D297*'12.Partner Involvement'!$E297)/COUNTA(_xlfn.TEXTSPLIT('12.Partner Involvement'!$H297,\";\"))),\"\")","v":""},{"$f":"IF(ISNUMBER(SEARCH(F$206,'12.Partner Involvement'!$H297))=TRUE,(('12.Partner Involvement'!$D297*'12.Partner Involvement'!$E297)/COUNTA(_xlfn.TEXTSPLIT('12.Partner Involvement'!$H297,\";\"))),\"\")","v":""},{"$f":"IF(ISNUMBER(SEARCH(G$206,'12.Partner Involvement'!$H297))=TRUE,(('12.Partner Involvement'!$D297*'12.Partner Involvement'!$E297)/COUNTA(_xlfn.TEXTSPLIT('12.Partner Involvement'!$H297,\";\"))),\"\")","v":""},{"$f":"IF(ISNUMBER(SEARCH(H$206,'12.Partner Involvement'!$H297))=TRUE,(('12.Partner Involvement'!$D297*'12.Partner Involvement'!$E297)/COUNTA(_xlfn.TEXTSPLIT('12.Partner Involvement'!$H297,\";\"))),\"\")","v":""}]
[{"$f":"IF(ISNUMBER(SEARCH(A$206,'12.Partner Involvement'!$G298))=TRUE,(('12.Partner Involvement'!$D298*'12.Partner Involvement'!$E298)/COUNTA(_xlfn.TEXTSPLIT('12.Partner Involvement'!$G298,\";\"))),\"\")","v":""},{"$f":"IF(ISNUMBER(SEARCH(B$206,'12.Partner Involvement'!$G298))=TRUE,(('12.Partner Involvement'!$D298*'12.Partner Involvement'!$E298)/COUNTA(_xlfn.TEXTSPLIT('12.Partner Involvement'!$G298,\";\"))),\"\")","v":""},{"$f":"IF(ISNUMBER(SEARCH(C$206,'12.Partner Involvement'!$G298))=TRUE,(('12.Partner Involvement'!$D298*'12.Partner Involvement'!$E298)/COUNTA(_xlfn.TEXTSPLIT('12.Partner Involvement'!$G298,\";\"))),\"\")","v":""},null,{"$f":"IF(ISNUMBER(SEARCH(E$206,'12.Partner Involvement'!$H298))=TRUE,(('12.Partner Involvement'!$D298*'12.Partner Involvement'!$E298)/COUNTA(_xlfn.TEXTSPLIT('12.Partner Involvement'!$H298,\";\"))),\"\")","v":""},{"$f":"IF(ISNUMBER(SEARCH(F$206,'12.Partner Involvement'!$H298))=TRUE,(('12.Partner Involvement'!$D298*'12.Partner Involvement'!$E298)/COUNTA(_xlfn.TEXTSPLIT('12.Partner Involvement'!$H298,\";\"))),\"\")","v":""},{"$f":"IF(ISNUMBER(SEARCH(G$206,'12.Partner Involvement'!$H298))=TRUE,(('12.Partner Involvement'!$D298*'12.Partner Involvement'!$E298)/COUNTA(_xlfn.TEXTSPLIT('12.Partner Involvement'!$H298,\";\"))),\"\")","v":""},{"$f":"IF(ISNUMBER(SEARCH(H$206,'12.Partner Involvement'!$H298))=TRUE,(('12.Partner Involvement'!$D298*'12.Partner Involvement'!$E298)/COUNTA(_xlfn.TEXTSPLIT('12.Partner Involvement'!$H298,\";\"))),\"\")","v":""}]
[{"$f":"IF(ISNUMBER(SEARCH(A$206,'12.Partner Involvement'!$G299))=TRUE,(('12.Partner Involvement'!$D299*'12.Partner Involvement'!$E299)/COUNTA(_xlfn.TEXTSPLIT('12.Partner Involvement'!$G299,\";\"))),\"\")","v":""},{"$f":"IF(ISNUMBER(SEARCH(B$206,'12.Partner Involvement'!$G299))=TRUE,(('12.Partner Involvement'!$D299*'12.Partner Involvement'!$E299)/COUNTA(_xlfn.TEXTSPLIT('12.Partner Involvement'!$G299,\";\"))),\"\")","v":""},{"$f":"IF(ISNUMBER(SEARCH(C$206,'12.Partner Involvement'!$G299))=TRUE,(('12.Partner Involvement'!$D299*'12.Partner Involvement'!$E299)/COUNTA(_xlfn.TEXTSPLIT('12.Partner Involvement'!$G299,\";\"))),\"\")","v":""},null,{"$f":"IF(ISNUMBER(SEARCH(E$206,'12.Partner Involvement'!$H299))=TRUE,(('12.Partner Involvement'!$D299*'12.Partner Involvement'!$E299)/COUNTA(_xlfn.TEXTSPLIT('12.Partner Involvement'!$H299,\";\"))),\"\")","v":""},{"$f":"IF(ISNUMBER(SEARCH(F$206,'12.Partner Involvement'!$H299))=TRUE,(('12.Partner Involvement'!$D299*'12.Partner Involvement'!$E299)/COUNTA(_xlfn.TEXTSPLIT('12.Partner Involvement'!$H299,\";\"))),\"\")","v":""},{"$f":"IF(ISNUMBER(SEARCH(G$206,'12.Partner Involvement'!$H299))=TRUE,(('12.Partner Involvement'!$D299*'12.Partner Involvement'!$E299)/COUNTA(_xlfn.TEXTSPLIT('12.Partner Involvement'!$H299,\";\"))),\"\")","v":""},{"$f":"IF(ISNUMBER(SEARCH(H$206,'12.Partner Involvement'!$H299))=TRUE,(('12.Partner Involvement'!$D299*'12.Partner Involvement'!$E299)/COUNTA(_xlfn.TEXTSPLIT('12.Partner Involvement'!$H299,\";\"))),\"\")","v":""}]
[{"$f":"IF(ISNUMBER(SEARCH(A$206,'12.Partner Involvement'!$G300))=TRUE,(('12.Partner Involvement'!$D300*'12.Partner Involvement'!$E300)/COUNTA(_xlfn.TEXTSPLIT('12.Partner Involvement'!$G300,\";\"))),\"\")","v":""},{"$f":"IF(ISNUMBER(SEARCH(B$206,'12.Partner Involvement'!$G300))=TRUE,(('12.Partner Involvement'!$D300*'12.Partner Involvement'!$E300)/COUNTA(_xlfn.TEXTSPLIT('12.Partner Involvement'!$G300,\";\"))),\"\")","v":""},{"$f":"IF(ISNUMBER(SEARCH(C$206,'12.Partner Involvement'!$G300))=TRUE,(('12.Partner Involvement'!$D300*'12.Partner Involvement'!$E300)/COUNTA(_xlfn.TEXTSPLIT('12.Partner Involvement'!$G300,\";\"))),\"\")","v":""},null,{"$f":"IF(ISNUMBER(SEARCH(E$206,'12.Partner Involvement'!$H300))=TRUE,(('12.Partner Involvement'!$D300*'12.Partner Involvement'!$E300)/COUNTA(_xlfn.TEXTSPLIT('12.Partner Involvement'!$H300,\";\"))),\"\")","v":""},{"$f":"IF(ISNUMBER(SEARCH(F$206,'12.Partner Involvement'!$H300))=TRUE,(('12.Partner Involvement'!$D300*'12.Partner Involvement'!$E300)/COUNTA(_xlfn.TEXTSPLIT('12.Partner Involvement'!$H300,\";\"))),\"\")","v":""},{"$f":"IF(ISNUMBER(SEARCH(G$206,'12.Partner Involvement'!$H300))=TRUE,(('12.Partner Involvement'!$D300*'12.Partner Involvement'!$E300)/COUNTA(_xlfn.TEXTSPLIT('12.Partner Involvement'!$H300,\";\"))),\"\")","v":""},{"$f":"IF(ISNUMBER(SEARCH(H$206,'12.Partner Involvement'!$H300))=TRUE,(('12.Partner Involvement'!$D300*'12.Partner Involvement'!$E300)/COUNTA(_xlfn.TEXTSPLIT('12.Partner Involvement'!$H300,\";\"))),\"\")","v":""}]
[{"$f":"IF(ISNUMBER(SEARCH(A$206,'12.Partner Involvement'!$G301))=TRUE,(('12.Partner Involvement'!$D301*'12.Partner Involvement'!$E301)/COUNTA(_xlfn.TEXTSPLIT('12.Partner Involvement'!$G301,\";\"))),\"\")","v":""},{"$f":"IF(ISNUMBER(SEARCH(B$206,'12.Partner Involvement'!$G301))=TRUE,(('12.Partner Involvement'!$D301*'12.Partner Involvement'!$E301)/COUNTA(_xlfn.TEXTSPLIT('12.Partner Involvement'!$G301,\";\"))),\"\")","v":""},{"$f":"IF(ISNUMBER(SEARCH(C$206,'12.Partner Involvement'!$G301))=TRUE,(('12.Partner Involvement'!$D301*'12.Partner Involvement'!$E301)/COUNTA(_xlfn.TEXTSPLIT('12.Partner Involvement'!$G301,\";\"))),\"\")","v":""},null,{"$f":"IF(ISNUMBER(SEARCH(E$206,'12.Partner Involvement'!$H301))=TRUE,(('12.Partner Involvement'!$D301*'12.Partner Involvement'!$E301)/COUNTA(_xlfn.TEXTSPLIT('12.Partner Involvement'!$H301,\";\"))),\"\")","v":""},{"$f":"IF(ISNUMBER(SEARCH(F$206,'12.Partner Involvement'!$H301))=TRUE,(('12.Partner Involvement'!$D301*'12.Partner Involvement'!$E301)/COUNTA(_xlfn.TEXTSPLIT('12.Partner Involvement'!$H301,\";\"))),\"\")","v":""},{"$f":"IF(ISNUMBER(SEARCH(G$206,'12.Partner Involvement'!$H301))=TRUE,(('12.Partner Involvement'!$D301*'12.Partner Involvement'!$E301)/COUNTA(_xlfn.TEXTSPLIT('12.Partner Involvement'!$H301,\";\"))),\"\")","v":""},{"$f":"IF(ISNUMBER(SEARCH(H$206,'12.Partner Involvement'!$H301))=TRUE,(('12.Partner Involvement'!$D301*'12.Partner Involvement'!$E301)/COUNTA(_xlfn.TEXTSPLIT('12.Partner Involvement'!$H301,\";\"))),\"\")","v":""}]
[{"$f":"IF(ISNUMBER(SEARCH(A$206,'12.Partner Involvement'!$G302))=TRUE,(('12.Partner Involvement'!$D302*'12.Partner Involvement'!$E302)/COUNTA(_xlfn.TEXTSPLIT('12.Partner Involvement'!$G302,\";\"))),\"\")","v":""},{"$f":"IF(ISNUMBER(SEARCH(B$206,'12.Partner Involvement'!$G302))=TRUE,(('12.Partner Involvement'!$D302*'12.Partner Involvement'!$E302)/COUNTA(_xlfn.TEXTSPLIT('12.Partner Involvement'!$G302,\";\"))),\"\")","v":""},{"$f":"IF(ISNUMBER(SEARCH(C$206,'12.Partner Involvement'!$G302))=TRUE,(('12.Partner Involvement'!$D302*'12.Partner Involvement'!$E302)/COUNTA(_xlfn.TEXTSPLIT('12.Partner Involvement'!$G302,\";\"))),\"\")","v":""},null,{"$f":"IF(ISNUMBER(SEARCH(E$206,'12.Partner Involvement'!$H302))=TRUE,(('12.Partner Involvement'!$D302*'12.Partner Involvement'!$E302)/COUNTA(_xlfn.TEXTSPLIT('12.Partner Involvement'!$H302,\";\"))),\"\")","v":""},{"$f":"IF(ISNUMBER(SEARCH(F$206,'12.Partner Involvement'!$H302))=TRUE,(('12.Partner Involvement'!$D302*'12.Partner Involvement'!$E302)/COUNTA(_xlfn.TEXTSPLIT('12.Partner Involvement'!$H302,\";\"))),\"\")","v":""},{"$f":"IF(ISNUMBER(SEARCH(G$206,'12.Partner Involvement'!$H302))=TRUE,(('12.Partner Involvement'!$D302*'12.Partner Involvement'!$E302)/COUNTA(_xlfn.TEXTSPLIT('12.Partner Involvement'!$H302,\";\"))),\"\")","v":""},{"$f":"IF(ISNUMBER(SEARCH(H$206,'12.Partner Involvement'!$H302))=TRUE,(('12.Partner Involvement'!$D302*'12.Partner Involvement'!$E302)/COUNTA(_xlfn.TEXTSPLIT('12.Partner Involvement'!$H302,\";\"))),\"\")","v":""}]
[{"$f":"IF(ISNUMBER(SEARCH(A$206,'12.Partner Involvement'!$G303))=TRUE,(('12.Partner Involvement'!$D303*'12.Partner Involvement'!$E303)/COUNTA(_xlfn.TEXTSPLIT('12.Partner Involvement'!$G303,\";\"))),\"\")","v":""},{"$f":"IF(ISNUMBER(SEARCH(B$206,'12.Partner Involvement'!$G303))=TRUE,(('12.Partner Involvement'!$D303*'12.Partner Involvement'!$E303)/COUNTA(_xlfn.TEXTSPLIT('12.Partner Involvement'!$G303,\";\"))),\"\")","v":""},{"$f":"IF(ISNUMBER(SEARCH(C$206,'12.Partner Involvement'!$G303))=TRUE,(('12.Partner Involvement'!$D303*'12.Partner Involvement'!$E303)/COUNTA(_xlfn.TEXTSPLIT('12.Partner Involvement'!$G303,\";\"))),\"\")","v":""},null,{"$f":"IF(ISNUMBER(SEARCH(E$206,'12.Partner Involvement'!$H303))=TRUE,(('12.Partner Involvement'!$D303*'12.Partner Involvement'!$E303)/COUNTA(_xlfn.TEXTSPLIT('12.Partner Involvement'!$H303,\";\"))),\"\")","v":""},{"$f":"IF(ISNUMBER(SEARCH(F$206,'12.Partner Involvement'!$H303))=TRUE,(('12.Partner Involvement'!$D303*'12.Partner Involvement'!$E303)/COUNTA(_xlfn.TEXTSPLIT('12.Partner Involvement'!$H303,\";\"))),\"\")","v":""},{"$f":"IF(ISNUMBER(SEARCH(G$206,'12.Partner Involvement'!$H303))=TRUE,(('12.Partner Involvement'!$D303*'12.Partner Involvement'!$E303)/COUNTA(_xlfn.TEXTSPLIT('12.Partner Involvement'!$H303,\";\"))),\"\")","v":""},{"$f":"IF(ISNUMBER(SEARCH(H$206,'12.Partner Involvement'!$H303))=TRUE,(('12.Partner Involvement'!$D303*'12.Partner Involvement'!$E303)/COUNTA(_xlfn.TEXTSPLIT('12.Partner Involvement'!$H303,\";\"))),\"\")","v":""}]
[{"$f":"IF(ISNUMBER(SEARCH(A$206,'12.Partner Involvement'!$G304))=TRUE,(('12.Partner Involvement'!$D304*'12.Partner Involvement'!$E304)/COUNTA(_xlfn.TEXTSPLIT('12.Partner Involvement'!$G304,\";\"))),\"\")","v":""},{"$f":"IF(ISNUMBER(SEARCH(B$206,'12.Partner Involvement'!$G304))=TRUE,(('12.Partner Involvement'!$D304*'12.Partner Involvement'!$E304)/COUNTA(_xlfn.TEXTSPLIT('12.Partner Involvement'!$G304,\";\"))),\"\")","v":""},{"$f":"IF(ISNUMBER(SEARCH(C$206,'12.Partner Involvement'!$G304))=TRUE,(('12.Partner Involvement'!$D304*'12.Partner Involvement'!$E304)/COUNTA(_xlfn.TEXTSPLIT('12.Partner Involvement'!$G304,\";\"))),\"\")","v":""},null,{"$f":"IF(ISNUMBER(SEARCH(E$206,'12.Partner Involvement'!$H304))=TRUE,(('12.Partner Involvement'!$D304*'12.Partner Involvement'!$E304)/COUNTA(_xlfn.TEXTSPLIT('12.Partner Involvement'!$H304,\";\"))),\"\")","v":""},{"$f":"IF(ISNUMBER(SEARCH(F$206,'12.Partner Involvement'!$H304))=TRUE,(('12.Partner Involvement'!$D304*'12.Partner Involvement'!$E304)/COUNTA(_xlfn.TEXTSPLIT('12.Partner Involvement'!$H304,\";\"))),\"\")","v":""},{"$f":"IF(ISNUMBER(SEARCH(G$206,'12.Partner Involvement'!$H304))=TRUE,(('12.Partner Involvement'!$D304*'12.Partner Involvement'!$E304)/COUNTA(_xlfn.TEXTSPLIT('12.Partner Involvement'!$H304,\";\"))),\"\")","v":""},{"$f":"IF(ISNUMBER(SEARCH(H$206,'12.Partner Involvement'!$H304))=TRUE,(('12.Partner Involvement'!$D304*'12.Partner Involvement'!$E304)/COUNTA(_xlfn.TEXTSPLIT('12.Partner Involvement'!$H304,\";\"))),\"\")","v":""}]
[{"$f":"IF(ISNUMBER(SEARCH(A$206,'12.Partner Involvement'!$G305))=TRUE,(('12.Partner Involvement'!$D305*'12.Partner Involvement'!$E305)/COUNTA(_xlfn.TEXTSPLIT('12.Partner Involvement'!$G305,\";\"))),\"\")","v":""},{"$f":"IF(ISNUMBER(SEARCH(B$206,'12.Partner Involvement'!$G305))=TRUE,(('12.Partner Involvement'!$D305*'12.Partner Involvement'!$E305)/COUNTA(_xlfn.TEXTSPLIT('12.Partner Involvement'!$G305,\";\"))),\"\")","v":""},{"$f":"IF(ISNUMBER(SEARCH(C$206,'12.Partner Involvement'!$G305))=TRUE,(('12.Partner Involvement'!$D305*'12.Partner Involvement'!$E305)/COUNTA(_xlfn.TEXTSPLIT('12.Partner Involvement'!$G305,\";\"))),\"\")","v":""},null,{"$f":"IF(ISNUMBER(SEARCH(E$206,'12.Partner Involvement'!$H305))=TRUE,(('12.Partner Involvement'!$D305*'12.Partner Involvement'!$E305)/COUNTA(_xlfn.TEXTSPLIT('12.Partner Involvement'!$H305,\";\"))),\"\")","v":""},{"$f":"IF(ISNUMBER(SEARCH(F$206,'12.Partner Involvement'!$H305))=TRUE,(('12.Partner Involvement'!$D305*'12.Partner Involvement'!$E305)/COUNTA(_xlfn.TEXTSPLIT('12.Partner Involvement'!$H305,\";\"))),\"\")","v":""},{"$f":"IF(ISNUMBER(SEARCH(G$206,'12.Partner Involvement'!$H305))=TRUE,(('12.Partner Involvement'!$D305*'12.Partner Involvement'!$E305)/COUNTA(_xlfn.TEXTSPLIT('12.Partner Involvement'!$H305,\";\"))),\"\")","v":""},{"$f":"IF(ISNUMBER(SEARCH(H$206,'12.Partner Involvement'!$H305))=TRUE,(('12.Partner Involvement'!$D305*'12.Partner Involvement'!$E305)/COUNTA(_xlfn.TEXTSPLIT('12.Partner Involvement'!$H305,\";\"))),\"\")","v":""}]
[{"$f":"IF(ISNUMBER(SEARCH(A$206,'12.Partner Involvement'!$G306))=TRUE,(('12.Partner Involvement'!$D306*'12.Partner Involvement'!$E306)/COUNTA(_xlfn.TEXTSPLIT('12.Partner Involvement'!$G306,\";\"))),\"\")","v":""},{"$f":"IF(ISNUMBER(SEARCH(B$206,'12.Partner Involvement'!$G306))=TRUE,(('12.Partner Involvement'!$D306*'12.Partner Involvement'!$E306)/COUNTA(_xlfn.TEXTSPLIT('12.Partner Involvement'!$G306,\";\"))),\"\")","v":""},{"$f":"IF(ISNUMBER(SEARCH(C$206,'12.Partner Involvement'!$G306))=TRUE,(('12.Partner Involvement'!$D306*'12.Partner Involvement'!$E306)/COUNTA(_xlfn.TEXTSPLIT('12.Partner Involvement'!$G306,\";\"))),\"\")","v":""},null,{"$f":"IF(ISNUMBER(SEARCH(E$206,'12.Partner Involvement'!$H306))=TRUE,(('12.Partner Involvement'!$D306*'12.Partner Involvement'!$E306)/COUNTA(_xlfn.TEXTSPLIT('12.Partner Involvement'!$H306,\";\"))),\"\")","v":""},{"$f":"IF(ISNUMBER(SEARCH(F$206,'12.Partner Involvement'!$H306))=TRUE,(('12.Partner Involvement'!$D306*'12.Partner Involvement'!$E306)/COUNTA(_xlfn.TEXTSPLIT('12.Partner Involvement'!$H306,\";\"))),\"\")","v":""},{"$f":"IF(ISNUMBER(SEARCH(G$206,'12.Partner Involvement'!$H306))=TRUE,(('12.Partner Involvement'!$D306*'12.Partner Involvement'!$E306)/COUNTA(_xlfn.TEXTSPLIT('12.Partner Involvement'!$H306,\";\"))),\"\")","v":""},{"$f":"IF(ISNUMBER(SEARCH(H$206,'12.Partner Involvement'!$H306))=TRUE,(('12.Partner Involvement'!$D306*'12.Partner Involvement'!$E306)/COUNTA(_xlfn.TEXTSPLIT('12.Partner Involvement'!$H306,\";\"))),\"\")","v":""}]
[{"$f":"IF(ISNUMBER(SEARCH(A$206,'12.Partner Involvement'!$G307))=TRUE,(('12.Partner Involvement'!$D307*'12.Partner Involvement'!$E307)/COUNTA(_xlfn.TEXTSPLIT('12.Partner Involvement'!$G307,\";\"))),\"\")","v":""},{"$f":"IF(ISNUMBER(SEARCH(B$206,'12.Partner Involvement'!$G307))=TRUE,(('12.Partner Involvement'!$D307*'12.Partner Involvement'!$E307)/COUNTA(_xlfn.TEXTSPLIT('12.Partner Involvement'!$G307,\";\"))),\"\")","v":""},{"$f":"IF(ISNUMBER(SEARCH(C$206,'12.Partner Involvement'!$G307))=TRUE,(('12.Partner Involvement'!$D307*'12.Partner Involvement'!$E307)/COUNTA(_xlfn.TEXTSPLIT('12.Partner Involvement'!$G307,\";\"))),\"\")","v":""},null,{"$f":"IF(ISNUMBER(SEARCH(E$206,'12.Partner Involvement'!$H307))=TRUE,(('12.Partner Involvement'!$D307*'12.Partner Involvement'!$E307)/COUNTA(_xlfn.TEXTSPLIT('12.Partner Involvement'!$H307,\";\"))),\"\")","v":""},{"$f":"IF(ISNUMBER(SEARCH(F$206,'12.Partner Involvement'!$H307))=TRUE,(('12.Partner Involvement'!$D307*'12.Partner Involvement'!$E307)/COUNTA(_xlfn.TEXTSPLIT('12.Partner Involvement'!$H307,\";\"))),\"\")","v":""},{"$f":"IF(ISNUMBER(SEARCH(G$206,'12.Partner Involvement'!$H307))=TRUE,(('12.Partner Involvement'!$D307*'12.Partner Involvement'!$E307)/COUNTA(_xlfn.TEXTSPLIT('12.Partner Involvement'!$H307,\";\"))),\"\")","v":""},{"$f":"IF(ISNUMBER(SEARCH(H$206,'12.Partner Involvement'!$H307))=TRUE,(('12.Partner Involvement'!$D307*'12.Partner Involvement'!$E307)/COUNTA(_xlfn.TEXTSPLIT('12.Partner Involvement'!$H307,\";\"))),\"\")","v":""}]
[{"$f":"IF(ISNUMBER(SEARCH(A$206,'12.Partner Involvement'!$G308))=TRUE,(('12.Partner Involvement'!$D308*'12.Partner Involvement'!$E308)/COUNTA(_xlfn.TEXTSPLIT('12.Partner Involvement'!$G308,\";\"))),\"\")","v":""},{"$f":"IF(ISNUMBER(SEARCH(B$206,'12.Partner Involvement'!$G308))=TRUE,(('12.Partner Involvement'!$D308*'12.Partner Involvement'!$E308)/COUNTA(_xlfn.TEXTSPLIT('12.Partner Involvement'!$G308,\";\"))),\"\")","v":""},{"$f":"IF(ISNUMBER(SEARCH(C$206,'12.Partner Involvement'!$G308))=TRUE,(('12.Partner Involvement'!$D308*'12.Partner Involvement'!$E308)/COUNTA(_xlfn.TEXTSPLIT('12.Partner Involvement'!$G308,\";\"))),\"\")","v":""},null,{"$f":"IF(ISNUMBER(SEARCH(E$206,'12.Partner Involvement'!$H308))=TRUE,(('12.Partner Involvement'!$D308*'12.Partner Involvement'!$E308)/COUNTA(_xlfn.TEXTSPLIT('12.Partner Involvement'!$H308,\";\"))),\"\")","v":""},{"$f":"IF(ISNUMBER(SEARCH(F$206,'12.Partner Involvement'!$H308))=TRUE,(('12.Partner Involvement'!$D308*'12.Partner Involvement'!$E308)/COUNTA(_xlfn.TEXTSPLIT('12.Partner Involvement'!$H308,\";\"))),\"\")","v":""},{"$f":"IF(ISNUMBER(SEARCH(G$206,'12.Partner Involvement'!$H308))=TRUE,(('12.Partner Involvement'!$D308*'12.Partner Involvement'!$E308)/COUNTA(_xlfn.TEXTSPLIT('12.Partner Involvement'!$H308,\";\"))),\"\")","v":""},{"$f":"IF(ISNUMBER(SEARCH(H$206,'12.Partner Involvement'!$H308))=TRUE,(('12.Partner Involvement'!$D308*'12.Partner Involvement'!$E308)/COUNTA(_xlfn.TEXTSPLIT('12.Partner Involvement'!$H308,\";\"))),\"\")","v":""}]
[{"$f":"IF(ISNUMBER(SEARCH(A$206,'12.Partner Involvement'!$G309))=TRUE,(('12.Partner Involvement'!$D309*'12.Partner Involvement'!$E309)/COUNTA(_xlfn.TEXTSPLIT('12.Partner Involvement'!$G309,\";\"))),\"\")","v":""},{"$f":"IF(ISNUMBER(SEARCH(B$206,'12.Partner Involvement'!$G309))=TRUE,(('12.Partner Involvement'!$D309*'12.Partner Involvement'!$E309)/COUNTA(_xlfn.TEXTSPLIT('12.Partner Involvement'!$G309,\";\"))),\"\")","v":""},{"$f":"IF(ISNUMBER(SEARCH(C$206,'12.Partner Involvement'!$G309))=TRUE,(('12.Partner Involvement'!$D309*'12.Partner Involvement'!$E309)/COUNTA(_xlfn.TEXTSPLIT('12.Partner Involvement'!$G309,\";\"))),\"\")","v":""},null,{"$f":"IF(ISNUMBER(SEARCH(E$206,'12.Partner Involvement'!$H309))=TRUE,(('12.Partner Involvement'!$D309*'12.Partner Involvement'!$E309)/COUNTA(_xlfn.TEXTSPLIT('12.Partner Involvement'!$H309,\";\"))),\"\")","v":""},{"$f":"IF(ISNUMBER(SEARCH(F$206,'12.Partner Involvement'!$H309))=TRUE,(('12.Partner Involvement'!$D309*'12.Partner Involvement'!$E309)/COUNTA(_xlfn.TEXTSPLIT('12.Partner Involvement'!$H309,\";\"))),\"\")","v":""},{"$f":"IF(ISNUMBER(SEARCH(G$206,'12.Partner Involvement'!$H309))=TRUE,(('12.Partner Involvement'!$D309*'12.Partner Involvement'!$E309)/COUNTA(_xlfn.TEXTSPLIT('12.Partner Involvement'!$H309,\";\"))),\"\")","v":""},{"$f":"IF(ISNUMBER(SEARCH(H$206,'12.Partner Involvement'!$H309))=TRUE,(('12.Partner Involvement'!$D309*'12.Partner Involvement'!$E309)/COUNTA(_xlfn.TEXTSPLIT('12.Partner Involvement'!$H309,\";\"))),\"\")","v":""}]
[{"$f":"IF(ISNUMBER(SEARCH(A$206,'12.Partner Involvement'!$G310))=TRUE,(('12.Partner Involvement'!$D310*'12.Partner Involvement'!$E310)/COUNTA(_xlfn.TEXTSPLIT('12.Partner Involvement'!$G310,\";\"))),\"\")","v":""},{"$f":"IF(ISNUMBER(SEARCH(B$206,'12.Partner Involvement'!$G310))=TRUE,(('12.Partner Involvement'!$D310*'12.Partner Involvement'!$E310)/COUNTA(_xlfn.TEXTSPLIT('12.Partner Involvement'!$G310,\";\"))),\"\")","v":""},{"$f":"IF(ISNUMBER(SEARCH(C$206,'12.Partner Involvement'!$G310))=TRUE,(('12.Partner Involvement'!$D310*'12.Partner Involvement'!$E310)/COUNTA(_xlfn.TEXTSPLIT('12.Partner Involvement'!$G310,\";\"))),\"\")","v":""},null,{"$f":"IF(ISNUMBER(SEARCH(E$206,'12.Partner Involvement'!$H310))=TRUE,(('12.Partner Involvement'!$D310*'12.Partner Involvement'!$E310)/COUNTA(_xlfn.TEXTSPLIT('12.Partner Involvement'!$H310,\";\"))),\"\")","v":""},{"$f":"IF(ISNUMBER(SEARCH(F$206,'12.Partner Involvement'!$H310))=TRUE,(('12.Partner Involvement'!$D310*'12.Partner Involvement'!$E310)/COUNTA(_xlfn.TEXTSPLIT('12.Partner Involvement'!$H310,\";\"))),\"\")","v":""},{"$f":"IF(ISNUMBER(SEARCH(G$206,'12.Partner Involvement'!$H310))=TRUE,(('12.Partner Involvement'!$D310*'12.Partner Involvement'!$E310)/COUNTA(_xlfn.TEXTSPLIT('12.Partner Involvement'!$H310,\";\"))),\"\")","v":""},{"$f":"IF(ISNUMBER(SEARCH(H$206,'12.Partner Involvement'!$H310))=TRUE,(('12.Partner Involvement'!$D310*'12.Partner Involvement'!$E310)/COUNTA(_xlfn.TEXTSPLIT('12.Partner Involvement'!$H310,\";\"))),\"\")","v":""}]
[{"$f":"IF(ISNUMBER(SEARCH(A$206,'12.Partner Involvement'!$G311))=TRUE,(('12.Partner Involvement'!$D311*'12.Partner Involvement'!$E311)/COUNTA(_xlfn.TEXTSPLIT('12.Partner Involvement'!$G311,\";\"))),\"\")","v":""},{"$f":"IF(ISNUMBER(SEARCH(B$206,'12.Partner Involvement'!$G311))=TRUE,(('12.Partner Involvement'!$D311*'12.Partner Involvement'!$E311)/COUNTA(_xlfn.TEXTSPLIT('12.Partner Involvement'!$G311,\";\"))),\"\")","v":""},{"$f":"IF(ISNUMBER(SEARCH(C$206,'12.Partner Involvement'!$G311))=TRUE,(('12.Partner Involvement'!$D311*'12.Partner Involvement'!$E311)/COUNTA(_xlfn.TEXTSPLIT('12.Partner Involvement'!$G311,\";\"))),\"\")","v":""},null,{"$f":"IF(ISNUMBER(SEARCH(E$206,'12.Partner Involvement'!$H311))=TRUE,(('12.Partner Involvement'!$D311*'12.Partner Involvement'!$E311)/COUNTA(_xlfn.TEXTSPLIT('12.Partner Involvement'!$H311,\";\"))),\"\")","v":""},{"$f":"IF(ISNUMBER(SEARCH(F$206,'12.Partner Involvement'!$H311))=TRUE,(('12.Partner Involvement'!$D311*'12.Partner Involvement'!$E311)/COUNTA(_xlfn.TEXTSPLIT('12.Partner Involvement'!$H311,\";\"))),\"\")","v":""},{"$f":"IF(ISNUMBER(SEARCH(G$206,'12.Partner Involvement'!$H311))=TRUE,(('12.Partner Involvement'!$D311*'12.Partner Involvement'!$E311)/COUNTA(_xlfn.TEXTSPLIT('12.Partner Involvement'!$H311,\";\"))),\"\")","v":""},{"$f":"IF(ISNUMBER(SEARCH(H$206,'12.Partner Involvement'!$H311))=TRUE,(('12.Partner Involvement'!$D311*'12.Partner Involvement'!$E311)/COUNTA(_xlfn.TEXTSPLIT('12.Partner Involvement'!$H311,\";\"))),\"\")","v":""}]
[{"$f":"IF(ISNUMBER(SEARCH(A$206,'12.Partner Involvement'!$G312))=TRUE,(('12.Partner Involvement'!$D312*'12.Partner Involvement'!$E312)/COUNTA(_xlfn.TEXTSPLIT('12.Partner Involvement'!$G312,\";\"))),\"\")","v":""},{"$f":"IF(ISNUMBER(SEARCH(B$206,'12.Partner Involvement'!$G312))=TRUE,(('12.Partner Involvement'!$D312*'12.Partner Involvement'!$E312)/COUNTA(_xlfn.TEXTSPLIT('12.Partner Involvement'!$G312,\";\"))),\"\")","v":""},{"$f":"IF(ISNUMBER(SEARCH(C$206,'12.Partner Involvement'!$G312))=TRUE,(('12.Partner Involvement'!$D312*'12.Partner Involvement'!$E312)/COUNTA(_xlfn.TEXTSPLIT('12.Partner Involvement'!$G312,\";\"))),\"\")","v":""},null,{"$f":"IF(ISNUMBER(SEARCH(E$206,'12.Partner Involvement'!$H312))=TRUE,(('12.Partner Involvement'!$D312*'12.Partner Involvement'!$E312)/COUNTA(_xlfn.TEXTSPLIT('12.Partner Involvement'!$H312,\";\"))),\"\")","v":""},{"$f":"IF(ISNUMBER(SEARCH(F$206,'12.Partner Involvement'!$H312))=TRUE,(('12.Partner Involvement'!$D312*'12.Partner Involvement'!$E312)/COUNTA(_xlfn.TEXTSPLIT('12.Partner Involvement'!$H312,\";\"))),\"\")","v":""},{"$f":"IF(ISNUMBER(SEARCH(G$206,'12.Partner Involvement'!$H312))=TRUE,(('12.Partner Involvement'!$D312*'12.Partner Involvement'!$E312)/COUNTA(_xlfn.TEXTSPLIT('12.Partner Involvement'!$H312,\";\"))),\"\")","v":""},{"$f":"IF(ISNUMBER(SEARCH(H$206,'12.Partner Involvement'!$H312))=TRUE,(('12.Partner Involvement'!$D312*'12.Partner Involvement'!$E312)/COUNTA(_xlfn.TEXTSPLIT('12.Partner Involvement'!$H312,\";\"))),\"\")","v":""}]
[{"$f":"IF(ISNUMBER(SEARCH(A$206,'12.Partner Involvement'!$G313))=TRUE,(('12.Partner Involvement'!$D313*'12.Partner Involvement'!$E313)/COUNTA(_xlfn.TEXTSPLIT('12.Partner Involvement'!$G313,\";\"))),\"\")","v":""},{"$f":"IF(ISNUMBER(SEARCH(B$206,'12.Partner Involvement'!$G313))=TRUE,(('12.Partner Involvement'!$D313*'12.Partner Involvement'!$E313)/COUNTA(_xlfn.TEXTSPLIT('12.Partner Involvement'!$G313,\";\"))),\"\")","v":""},{"$f":"IF(ISNUMBER(SEARCH(C$206,'12.Partner Involvement'!$G313))=TRUE,(('12.Partner Involvement'!$D313*'12.Partner Involvement'!$E313)/COUNTA(_xlfn.TEXTSPLIT('12.Partner Involvement'!$G313,\";\"))),\"\")","v":""},null,{"$f":"IF(ISNUMBER(SEARCH(E$206,'12.Partner Involvement'!$H313))=TRUE,(('12.Partner Involvement'!$D313*'12.Partner Involvement'!$E313)/COUNTA(_xlfn.TEXTSPLIT('12.Partner Involvement'!$H313,\";\"))),\"\")","v":""},{"$f":"IF(ISNUMBER(SEARCH(F$206,'12.Partner Involvement'!$H313))=TRUE,(('12.Partner Involvement'!$D313*'12.Partner Involvement'!$E313)/COUNTA(_xlfn.TEXTSPLIT('12.Partner Involvement'!$H313,\";\"))),\"\")","v":""},{"$f":"IF(ISNUMBER(SEARCH(G$206,'12.Partner Involvement'!$H313))=TRUE,(('12.Partner Involvement'!$D313*'12.Partner Involvement'!$E313)/COUNTA(_xlfn.TEXTSPLIT('12.Partner Involvement'!$H313,\";\"))),\"\")","v":""},{"$f":"IF(ISNUMBER(SEARCH(H$206,'12.Partner Involvement'!$H313))=TRUE,(('12.Partner Involvement'!$D313*'12.Partner Involvement'!$E313)/COUNTA(_xlfn.TEXTSPLIT('12.Partner Involvement'!$H313,\";\"))),\"\")","v":""}]
[{"$f":"IF(ISNUMBER(SEARCH(A$206,'12.Partner Involvement'!$G314))=TRUE,(('12.Partner Involvement'!$D314*'12.Partner Involvement'!$E314)/COUNTA(_xlfn.TEXTSPLIT('12.Partner Involvement'!$G314,\";\"))),\"\")","v":""},{"$f":"IF(ISNUMBER(SEARCH(B$206,'12.Partner Involvement'!$G314))=TRUE,(('12.Partner Involvement'!$D314*'12.Partner Involvement'!$E314)/COUNTA(_xlfn.TEXTSPLIT('12.Partner Involvement'!$G314,\";\"))),\"\")","v":""},{"$f":"IF(ISNUMBER(SEARCH(C$206,'12.Partner Involvement'!$G314))=TRUE,(('12.Partner Involvement'!$D314*'12.Partner Involvement'!$E314)/COUNTA(_xlfn.TEXTSPLIT('12.Partner Involvement'!$G314,\";\"))),\"\")","v":""},null,{"$f":"IF(ISNUMBER(SEARCH(E$206,'12.Partner Involvement'!$H314))=TRUE,(('12.Partner Involvement'!$D314*'12.Partner Involvement'!$E314)/COUNTA(_xlfn.TEXTSPLIT('12.Partner Involvement'!$H314,\";\"))),\"\")","v":""},{"$f":"IF(ISNUMBER(SEARCH(F$206,'12.Partner Involvement'!$H314))=TRUE,(('12.Partner Involvement'!$D314*'12.Partner Involvement'!$E314)/COUNTA(_xlfn.TEXTSPLIT('12.Partner Involvement'!$H314,\";\"))),\"\")","v":""},{"$f":"IF(ISNUMBER(SEARCH(G$206,'12.Partner Involvement'!$H314))=TRUE,(('12.Partner Involvement'!$D314*'12.Partner Involvement'!$E314)/COUNTA(_xlfn.TEXTSPLIT('12.Partner Involvement'!$H314,\";\"))),\"\")","v":""},{"$f":"IF(ISNUMBER(SEARCH(H$206,'12.Partner Involvement'!$H314))=TRUE,(('12.Partner Involvement'!$D314*'12.Partner Involvement'!$E314)/COUNTA(_xlfn.TEXTSPLIT('12.Partner Involvement'!$H314,\";\"))),\"\")","v":""}]
[{"$f":"IF(ISNUMBER(SEARCH(A$206,'12.Partner Involvement'!$G315))=TRUE,(('12.Partner Involvement'!$D315*'12.Partner Involvement'!$E315)/COUNTA(_xlfn.TEXTSPLIT('12.Partner Involvement'!$G315,\";\"))),\"\")","v":""},{"$f":"IF(ISNUMBER(SEARCH(B$206,'12.Partner Involvement'!$G315))=TRUE,(('12.Partner Involvement'!$D315*'12.Partner Involvement'!$E315)/COUNTA(_xlfn.TEXTSPLIT('12.Partner Involvement'!$G315,\";\"))),\"\")","v":""},{"$f":"IF(ISNUMBER(SEARCH(C$206,'12.Partner Involvement'!$G315))=TRUE,(('12.Partner Involvement'!$D315*'12.Partner Involvement'!$E315)/COUNTA(_xlfn.TEXTSPLIT('12.Partner Involvement'!$G315,\";\"))),\"\")","v":""},null,{"$f":"IF(ISNUMBER(SEARCH(E$206,'12.Partner Involvement'!$H315))=TRUE,(('12.Partner Involvement'!$D315*'12.Partner Involvement'!$E315)/COUNTA(_xlfn.TEXTSPLIT('12.Partner Involvement'!$H315,\";\"))),\"\")","v":""},{"$f":"IF(ISNUMBER(SEARCH(F$206,'12.Partner Involvement'!$H315))=TRUE,(('12.Partner Involvement'!$D315*'12.Partner Involvement'!$E315)/COUNTA(_xlfn.TEXTSPLIT('12.Partner Involvement'!$H315,\";\"))),\"\")","v":""},{"$f":"IF(ISNUMBER(SEARCH(G$206,'12.Partner Involvement'!$H315))=TRUE,(('12.Partner Involvement'!$D315*'12.Partner Involvement'!$E315)/COUNTA(_xlfn.TEXTSPLIT('12.Partner Involvement'!$H315,\";\"))),\"\")","v":""},{"$f":"IF(ISNUMBER(SEARCH(H$206,'12.Partner Involvement'!$H315))=TRUE,(('12.Partner Involvement'!$D315*'12.Partner Involvement'!$E315)/COUNTA(_xlfn.TEXTSPLIT('12.Partner Involvement'!$H315,\";\"))),\"\")","v":""}]
[{"$f":"IF(ISNUMBER(SEARCH(A$206,'12.Partner Involvement'!$G316))=TRUE,(('12.Partner Involvement'!$D316*'12.Partner Involvement'!$E316)/COUNTA(_xlfn.TEXTSPLIT('12.Partner Involvement'!$G316,\";\"))),\"\")","v":""},{"$f":"IF(ISNUMBER(SEARCH(B$206,'12.Partner Involvement'!$G316))=TRUE,(('12.Partner Involvement'!$D316*'12.Partner Involvement'!$E316)/COUNTA(_xlfn.TEXTSPLIT('12.Partner Involvement'!$G316,\";\"))),\"\")","v":""},{"$f":"IF(ISNUMBER(SEARCH(C$206,'12.Partner Involvement'!$G316))=TRUE,(('12.Partner Involvement'!$D316*'12.Partner Involvement'!$E316)/COUNTA(_xlfn.TEXTSPLIT('12.Partner Involvement'!$G316,\";\"))),\"\")","v":""},null,{"$f":"IF(ISNUMBER(SEARCH(E$206,'12.Partner Involvement'!$H316))=TRUE,(('12.Partner Involvement'!$D316*'12.Partner Involvement'!$E316)/COUNTA(_xlfn.TEXTSPLIT('12.Partner Involvement'!$H316,\";\"))),\"\")","v":""},{"$f":"IF(ISNUMBER(SEARCH(F$206,'12.Partner Involvement'!$H316))=TRUE,(('12.Partner Involvement'!$D316*'12.Partner Involvement'!$E316)/COUNTA(_xlfn.TEXTSPLIT('12.Partner Involvement'!$H316,\";\"))),\"\")","v":""},{"$f":"IF(ISNUMBER(SEARCH(G$206,'12.Partner Involvement'!$H316))=TRUE,(('12.Partner Involvement'!$D316*'12.Partner Involvement'!$E316)/COUNTA(_xlfn.TEXTSPLIT('12.Partner Involvement'!$H316,\";\"))),\"\")","v":""},{"$f":"IF(ISNUMBER(SEARCH(H$206,'12.Partner Involvement'!$H316))=TRUE,(('12.Partner Involvement'!$D316*'12.Partner Involvement'!$E316)/COUNTA(_xlfn.TEXTSPLIT('12.Partner Involvement'!$H316,\";\"))),\"\")","v":""}]
[{"$f":"IF(ISNUMBER(SEARCH(A$206,'12.Partner Involvement'!$G317))=TRUE,(('12.Partner Involvement'!$D317*'12.Partner Involvement'!$E317)/COUNTA(_xlfn.TEXTSPLIT('12.Partner Involvement'!$G317,\";\"))),\"\")","v":""},{"$f":"IF(ISNUMBER(SEARCH(B$206,'12.Partner Involvement'!$G317))=TRUE,(('12.Partner Involvement'!$D317*'12.Partner Involvement'!$E317)/COUNTA(_xlfn.TEXTSPLIT('12.Partner Involvement'!$G317,\";\"))),\"\")","v":""},{"$f":"IF(ISNUMBER(SEARCH(C$206,'12.Partner Involvement'!$G317))=TRUE,(('12.Partner Involvement'!$D317*'12.Partner Involvement'!$E317)/COUNTA(_xlfn.TEXTSPLIT('12.Partner Involvement'!$G317,\";\"))),\"\")","v":""},null,{"$f":"IF(ISNUMBER(SEARCH(E$206,'12.Partner Involvement'!$H317))=TRUE,(('12.Partner Involvement'!$D317*'12.Partner Involvement'!$E317)/COUNTA(_xlfn.TEXTSPLIT('12.Partner Involvement'!$H317,\";\"))),\"\")","v":""},{"$f":"IF(ISNUMBER(SEARCH(F$206,'12.Partner Involvement'!$H317))=TRUE,(('12.Partner Involvement'!$D317*'12.Partner Involvement'!$E317)/COUNTA(_xlfn.TEXTSPLIT('12.Partner Involvement'!$H317,\";\"))),\"\")","v":""},{"$f":"IF(ISNUMBER(SEARCH(G$206,'12.Partner Involvement'!$H317))=TRUE,(('12.Partner Involvement'!$D317*'12.Partner Involvement'!$E317)/COUNTA(_xlfn.TEXTSPLIT('12.Partner Involvement'!$H317,\";\"))),\"\")","v":""},{"$f":"IF(ISNUMBER(SEARCH(H$206,'12.Partner Involvement'!$H317))=TRUE,(('12.Partner Involvement'!$D317*'12.Partner Involvement'!$E317)/COUNTA(_xlfn.TEXTSPLIT('12.Partner Involvement'!$H317,\";\"))),\"\")","v":""}]
[{"$f":"IF(ISNUMBER(SEARCH(A$206,'12.Partner Involvement'!$G318))=TRUE,(('12.Partner Involvement'!$D318*'12.Partner Involvement'!$E318)/COUNTA(_xlfn.TEXTSPLIT('12.Partner Involvement'!$G318,\";\"))),\"\")","v":""},{"$f":"IF(ISNUMBER(SEARCH(B$206,'12.Partner Involvement'!$G318))=TRUE,(('12.Partner Involvement'!$D318*'12.Partner Involvement'!$E318)/COUNTA(_xlfn.TEXTSPLIT('12.Partner Involvement'!$G318,\";\"))),\"\")","v":""},{"$f":"IF(ISNUMBER(SEARCH(C$206,'12.Partner Involvement'!$G318))=TRUE,(('12.Partner Involvement'!$D318*'12.Partner Involvement'!$E318)/COUNTA(_xlfn.TEXTSPLIT('12.Partner Involvement'!$G318,\";\"))),\"\")","v":""},null,{"$f":"IF(ISNUMBER(SEARCH(E$206,'12.Partner Involvement'!$H318))=TRUE,(('12.Partner Involvement'!$D318*'12.Partner Involvement'!$E318)/COUNTA(_xlfn.TEXTSPLIT('12.Partner Involvement'!$H318,\";\"))),\"\")","v":""},{"$f":"IF(ISNUMBER(SEARCH(F$206,'12.Partner Involvement'!$H318))=TRUE,(('12.Partner Involvement'!$D318*'12.Partner Involvement'!$E318)/COUNTA(_xlfn.TEXTSPLIT('12.Partner Involvement'!$H318,\";\"))),\"\")","v":""},{"$f":"IF(ISNUMBER(SEARCH(G$206,'12.Partner Involvement'!$H318))=TRUE,(('12.Partner Involvement'!$D318*'12.Partner Involvement'!$E318)/COUNTA(_xlfn.TEXTSPLIT('12.Partner Involvement'!$H318,\";\"))),\"\")","v":""},{"$f":"IF(ISNUMBER(SEARCH(H$206,'12.Partner Involvement'!$H318))=TRUE,(('12.Partner Involvement'!$D318*'12.Partner Involvement'!$E318)/COUNTA(_xlfn.TEXTSPLIT('12.Partner Involvement'!$H318,\";\"))),\"\")","v":""}]
[{"$f":"IF(ISNUMBER(SEARCH(A$206,'12.Partner Involvement'!$G319))=TRUE,(('12.Partner Involvement'!$D319*'12.Partner Involvement'!$E319)/COUNTA(_xlfn.TEXTSPLIT('12.Partner Involvement'!$G319,\";\"))),\"\")","v":""},{"$f":"IF(ISNUMBER(SEARCH(B$206,'12.Partner Involvement'!$G319))=TRUE,(('12.Partner Involvement'!$D319*'12.Partner Involvement'!$E319)/COUNTA(_xlfn.TEXTSPLIT('12.Partner Involvement'!$G319,\";\"))),\"\")","v":""},{"$f":"IF(ISNUMBER(SEARCH(C$206,'12.Partner Involvement'!$G319))=TRUE,(('12.Partner Involvement'!$D319*'12.Partner Involvement'!$E319)/COUNTA(_xlfn.TEXTSPLIT('12.Partner Involvement'!$G319,\";\"))),\"\")","v":""},null,{"$f":"IF(ISNUMBER(SEARCH(E$206,'12.Partner Involvement'!$H319))=TRUE,(('12.Partner Involvement'!$D319*'12.Partner Involvement'!$E319)/COUNTA(_xlfn.TEXTSPLIT('12.Partner Involvement'!$H319,\";\"))),\"\")","v":""},{"$f":"IF(ISNUMBER(SEARCH(F$206,'12.Partner Involvement'!$H319))=TRUE,(('12.Partner Involvement'!$D319*'12.Partner Involvement'!$E319)/COUNTA(_xlfn.TEXTSPLIT('12.Partner Involvement'!$H319,\";\"))),\"\")","v":""},{"$f":"IF(ISNUMBER(SEARCH(G$206,'12.Partner Involvement'!$H319))=TRUE,(('12.Partner Involvement'!$D319*'12.Partner Involvement'!$E319)/COUNTA(_xlfn.TEXTSPLIT('12.Partner Involvement'!$H319,\";\"))),\"\")","v":""},{"$f":"IF(ISNUMBER(SEARCH(H$206,'12.Partner Involvement'!$H319))=TRUE,(('12.Partner Involvement'!$D319*'12.Partner Involvement'!$E319)/COUNTA(_xlfn.TEXTSPLIT('12.Partner Involvement'!$H319,\";\"))),\"\")","v":""}]
[{"$f":"IF(ISNUMBER(SEARCH(A$206,'12.Partner Involvement'!$G320))=TRUE,(('12.Partner Involvement'!$D320*'12.Partner Involvement'!$E320)/COUNTA(_xlfn.TEXTSPLIT('12.Partner Involvement'!$G320,\";\"))),\"\")","v":""},{"$f":"IF(ISNUMBER(SEARCH(B$206,'12.Partner Involvement'!$G320))=TRUE,(('12.Partner Involvement'!$D320*'12.Partner Involvement'!$E320)/COUNTA(_xlfn.TEXTSPLIT('12.Partner Involvement'!$G320,\";\"))),\"\")","v":""},{"$f":"IF(ISNUMBER(SEARCH(C$206,'12.Partner Involvement'!$G320))=TRUE,(('12.Partner Involvement'!$D320*'12.Partner Involvement'!$E320)/COUNTA(_xlfn.TEXTSPLIT('12.Partner Involvement'!$G320,\";\"))),\"\")","v":""},null,{"$f":"IF(ISNUMBER(SEARCH(E$206,'12.Partner Involvement'!$H320))=TRUE,(('12.Partner Involvement'!$D320*'12.Partner Involvement'!$E320)/COUNTA(_xlfn.TEXTSPLIT('12.Partner Involvement'!$H320,\";\"))),\"\")","v":""},{"$f":"IF(ISNUMBER(SEARCH(F$206,'12.Partner Involvement'!$H320))=TRUE,(('12.Partner Involvement'!$D320*'12.Partner Involvement'!$E320)/COUNTA(_xlfn.TEXTSPLIT('12.Partner Involvement'!$H320,\";\"))),\"\")","v":""},{"$f":"IF(ISNUMBER(SEARCH(G$206,'12.Partner Involvement'!$H320))=TRUE,(('12.Partner Involvement'!$D320*'12.Partner Involvement'!$E320)/COUNTA(_xlfn.TEXTSPLIT('12.Partner Involvement'!$H320,\";\"))),\"\")","v":""},{"$f":"IF(ISNUMBER(SEARCH(H$206,'12.Partner Involvement'!$H320))=TRUE,(('12.Partner Involvement'!$D320*'12.Partner Involvement'!$E320)/COUNTA(_xlfn.TEXTSPLIT('12.Partner Involvement'!$H320,\";\"))),\"\")","v":""}]
[{"$f":"IF(ISNUMBER(SEARCH(A$206,'12.Partner Involvement'!$G321))=TRUE,(('12.Partner Involvement'!$D321*'12.Partner Involvement'!$E321)/COUNTA(_xlfn.TEXTSPLIT('12.Partner Involvement'!$G321,\";\"))),\"\")","v":""},{"$f":"IF(ISNUMBER(SEARCH(B$206,'12.Partner Involvement'!$G321))=TRUE,(('12.Partner Involvement'!$D321*'12.Partner Involvement'!$E321)/COUNTA(_xlfn.TEXTSPLIT('12.Partner Involvement'!$G321,\";\"))),\"\")","v":""},{"$f":"IF(ISNUMBER(SEARCH(C$206,'12.Partner Involvement'!$G321))=TRUE,(('12.Partner Involvement'!$D321*'12.Partner Involvement'!$E321)/COUNTA(_xlfn.TEXTSPLIT('12.Partner Involvement'!$G321,\";\"))),\"\")","v":""},null,{"$f":"IF(ISNUMBER(SEARCH(E$206,'12.Partner Involvement'!$H321))=TRUE,(('12.Partner Involvement'!$D321*'12.Partner Involvement'!$E321)/COUNTA(_xlfn.TEXTSPLIT('12.Partner Involvement'!$H321,\";\"))),\"\")","v":""},{"$f":"IF(ISNUMBER(SEARCH(F$206,'12.Partner Involvement'!$H321))=TRUE,(('12.Partner Involvement'!$D321*'12.Partner Involvement'!$E321)/COUNTA(_xlfn.TEXTSPLIT('12.Partner Involvement'!$H321,\";\"))),\"\")","v":""},{"$f":"IF(ISNUMBER(SEARCH(G$206,'12.Partner Involvement'!$H321))=TRUE,(('12.Partner Involvement'!$D321*'12.Partner Involvement'!$E321)/COUNTA(_xlfn.TEXTSPLIT('12.Partner Involvement'!$H321,\";\"))),\"\")","v":""},{"$f":"IF(ISNUMBER(SEARCH(H$206,'12.Partner Involvement'!$H321))=TRUE,(('12.Partner Involvement'!$D321*'12.Partner Involvement'!$E321)/COUNTA(_xlfn.TEXTSPLIT('12.Partner Involvement'!$H321,\";\"))),\"\")","v":""}]
[{"$f":"IF(ISNUMBER(SEARCH(A$206,'12.Partner Involvement'!$G322))=TRUE,(('12.Partner Involvement'!$D322*'12.Partner Involvement'!$E322)/COUNTA(_xlfn.TEXTSPLIT('12.Partner Involvement'!$G322,\";\"))),\"\")","v":""},{"$f":"IF(ISNUMBER(SEARCH(B$206,'12.Partner Involvement'!$G322))=TRUE,(('12.Partner Involvement'!$D322*'12.Partner Involvement'!$E322)/COUNTA(_xlfn.TEXTSPLIT('12.Partner Involvement'!$G322,\";\"))),\"\")","v":""},{"$f":"IF(ISNUMBER(SEARCH(C$206,'12.Partner Involvement'!$G322))=TRUE,(('12.Partner Involvement'!$D322*'12.Partner Involvement'!$E322)/COUNTA(_xlfn.TEXTSPLIT('12.Partner Involvement'!$G322,\";\"))),\"\")","v":""},null,{"$f":"IF(ISNUMBER(SEARCH(E$206,'12.Partner Involvement'!$H322))=TRUE,(('12.Partner Involvement'!$D322*'12.Partner Involvement'!$E322)/COUNTA(_xlfn.TEXTSPLIT('12.Partner Involvement'!$H322,\";\"))),\"\")","v":""},{"$f":"IF(ISNUMBER(SEARCH(F$206,'12.Partner Involvement'!$H322))=TRUE,(('12.Partner Involvement'!$D322*'12.Partner Involvement'!$E322)/COUNTA(_xlfn.TEXTSPLIT('12.Partner Involvement'!$H322,\";\"))),\"\")","v":""},{"$f":"IF(ISNUMBER(SEARCH(G$206,'12.Partner Involvement'!$H322))=TRUE,(('12.Partner Involvement'!$D322*'12.Partner Involvement'!$E322)/COUNTA(_xlfn.TEXTSPLIT('12.Partner Involvement'!$H322,\";\"))),\"\")","v":""},{"$f":"IF(ISNUMBER(SEARCH(H$206,'12.Partner Involvement'!$H322))=TRUE,(('12.Partner Involvement'!$D322*'12.Partner Involvement'!$E322)/COUNTA(_xlfn.TEXTSPLIT('12.Partner Involvement'!$H322,\";\"))),\"\")","v":""}]
[{"$f":"IF(ISNUMBER(SEARCH(A$206,'12.Partner Involvement'!$G323))=TRUE,(('12.Partner Involvement'!$D323*'12.Partner Involvement'!$E323)/COUNTA(_xlfn.TEXTSPLIT('12.Partner Involvement'!$G323,\";\"))),\"\")","v":""},{"$f":"IF(ISNUMBER(SEARCH(B$206,'12.Partner Involvement'!$G323))=TRUE,(('12.Partner Involvement'!$D323*'12.Partner Involvement'!$E323)/COUNTA(_xlfn.TEXTSPLIT('12.Partner Involvement'!$G323,\";\"))),\"\")","v":""},{"$f":"IF(ISNUMBER(SEARCH(C$206,'12.Partner Involvement'!$G323))=TRUE,(('12.Partner Involvement'!$D323*'12.Partner Involvement'!$E323)/COUNTA(_xlfn.TEXTSPLIT('12.Partner Involvement'!$G323,\";\"))),\"\")","v":""},null,{"$f":"IF(ISNUMBER(SEARCH(E$206,'12.Partner Involvement'!$H323))=TRUE,(('12.Partner Involvement'!$D323*'12.Partner Involvement'!$E323)/COUNTA(_xlfn.TEXTSPLIT('12.Partner Involvement'!$H323,\";\"))),\"\")","v":""},{"$f":"IF(ISNUMBER(SEARCH(F$206,'12.Partner Involvement'!$H323))=TRUE,(('12.Partner Involvement'!$D323*'12.Partner Involvement'!$E323)/COUNTA(_xlfn.TEXTSPLIT('12.Partner Involvement'!$H323,\";\"))),\"\")","v":""},{"$f":"IF(ISNUMBER(SEARCH(G$206,'12.Partner Involvement'!$H323))=TRUE,(('12.Partner Involvement'!$D323*'12.Partner Involvement'!$E323)/COUNTA(_xlfn.TEXTSPLIT('12.Partner Involvement'!$H323,\";\"))),\"\")","v":""},{"$f":"IF(ISNUMBER(SEARCH(H$206,'12.Partner Involvement'!$H323))=TRUE,(('12.Partner Involvement'!$D323*'12.Partner Involvement'!$E323)/COUNTA(_xlfn.TEXTSPLIT('12.Partner Involvement'!$H323,\";\"))),\"\")","v":""}]
[{"$f":"IF(ISNUMBER(SEARCH(A$206,'12.Partner Involvement'!$G324))=TRUE,(('12.Partner Involvement'!$D324*'12.Partner Involvement'!$E324)/COUNTA(_xlfn.TEXTSPLIT('12.Partner Involvement'!$G324,\";\"))),\"\")","v":""},{"$f":"IF(ISNUMBER(SEARCH(B$206,'12.Partner Involvement'!$G324))=TRUE,(('12.Partner Involvement'!$D324*'12.Partner Involvement'!$E324)/COUNTA(_xlfn.TEXTSPLIT('12.Partner Involvement'!$G324,\";\"))),\"\")","v":""},{"$f":"IF(ISNUMBER(SEARCH(C$206,'12.Partner Involvement'!$G324))=TRUE,(('12.Partner Involvement'!$D324*'12.Partner Involvement'!$E324)/COUNTA(_xlfn.TEXTSPLIT('12.Partner Involvement'!$G324,\";\"))),\"\")","v":""},null,{"$f":"IF(ISNUMBER(SEARCH(E$206,'12.Partner Involvement'!$H324))=TRUE,(('12.Partner Involvement'!$D324*'12.Partner Involvement'!$E324)/COUNTA(_xlfn.TEXTSPLIT('12.Partner Involvement'!$H324,\";\"))),\"\")","v":""},{"$f":"IF(ISNUMBER(SEARCH(F$206,'12.Partner Involvement'!$H324))=TRUE,(('12.Partner Involvement'!$D324*'12.Partner Involvement'!$E324)/COUNTA(_xlfn.TEXTSPLIT('12.Partner Involvement'!$H324,\";\"))),\"\")","v":""},{"$f":"IF(ISNUMBER(SEARCH(G$206,'12.Partner Involvement'!$H324))=TRUE,(('12.Partner Involvement'!$D324*'12.Partner Involvement'!$E324)/COUNTA(_xlfn.TEXTSPLIT('12.Partner Involvement'!$H324,\";\"))),\"\")","v":""},{"$f":"IF(ISNUMBER(SEARCH(H$206,'12.Partner Involvement'!$H324))=TRUE,(('12.Partner Involvement'!$D324*'12.Partner Involvement'!$E324)/COUNTA(_xlfn.TEXTSPLIT('12.Partner Involvement'!$H324,\";\"))),\"\")","v":""}]
[{"$f":"IF(ISNUMBER(SEARCH(A$206,'12.Partner Involvement'!$G325))=TRUE,(('12.Partner Involvement'!$D325*'12.Partner Involvement'!$E325)/COUNTA(_xlfn.TEXTSPLIT('12.Partner Involvement'!$G325,\";\"))),\"\")","v":""},{"$f":"IF(ISNUMBER(SEARCH(B$206,'12.Partner Involvement'!$G325))=TRUE,(('12.Partner Involvement'!$D325*'12.Partner Involvement'!$E325)/COUNTA(_xlfn.TEXTSPLIT('12.Partner Involvement'!$G325,\";\"))),\"\")","v":""},{"$f":"IF(ISNUMBER(SEARCH(C$206,'12.Partner Involvement'!$G325))=TRUE,(('12.Partner Involvement'!$D325*'12.Partner Involvement'!$E325)/COUNTA(_xlfn.TEXTSPLIT('12.Partner Involvement'!$G325,\";\"))),\"\")","v":""},null,{"$f":"IF(ISNUMBER(SEARCH(E$206,'12.Partner Involvement'!$H325))=TRUE,(('12.Partner Involvement'!$D325*'12.Partner Involvement'!$E325)/COUNTA(_xlfn.TEXTSPLIT('12.Partner Involvement'!$H325,\";\"))),\"\")","v":""},{"$f":"IF(ISNUMBER(SEARCH(F$206,'12.Partner Involvement'!$H325))=TRUE,(('12.Partner Involvement'!$D325*'12.Partner Involvement'!$E325)/COUNTA(_xlfn.TEXTSPLIT('12.Partner Involvement'!$H325,\";\"))),\"\")","v":""},{"$f":"IF(ISNUMBER(SEARCH(G$206,'12.Partner Involvement'!$H325))=TRUE,(('12.Partner Involvement'!$D325*'12.Partner Involvement'!$E325)/COUNTA(_xlfn.TEXTSPLIT('12.Partner Involvement'!$H325,\";\"))),\"\")","v":""},{"$f":"IF(ISNUMBER(SEARCH(H$206,'12.Partner Involvement'!$H325))=TRUE,(('12.Partner Involvement'!$D325*'12.Partner Involvement'!$E325)/COUNTA(_xlfn.TEXTSPLIT('12.Partner Involvement'!$H325,\";\"))),\"\")","v":""}]
[{"$f":"IF(ISNUMBER(SEARCH(A$206,'12.Partner Involvement'!$G326))=TRUE,(('12.Partner Involvement'!$D326*'12.Partner Involvement'!$E326)/COUNTA(_xlfn.TEXTSPLIT('12.Partner Involvement'!$G326,\";\"))),\"\")","v":""},{"$f":"IF(ISNUMBER(SEARCH(B$206,'12.Partner Involvement'!$G326))=TRUE,(('12.Partner Involvement'!$D326*'12.Partner Involvement'!$E326)/COUNTA(_xlfn.TEXTSPLIT('12.Partner Involvement'!$G326,\";\"))),\"\")","v":""},{"$f":"IF(ISNUMBER(SEARCH(C$206,'12.Partner Involvement'!$G326))=TRUE,(('12.Partner Involvement'!$D326*'12.Partner Involvement'!$E326)/COUNTA(_xlfn.TEXTSPLIT('12.Partner Involvement'!$G326,\";\"))),\"\")","v":""},null,{"$f":"IF(ISNUMBER(SEARCH(E$206,'12.Partner Involvement'!$H326))=TRUE,(('12.Partner Involvement'!$D326*'12.Partner Involvement'!$E326)/COUNTA(_xlfn.TEXTSPLIT('12.Partner Involvement'!$H326,\";\"))),\"\")","v":""},{"$f":"IF(ISNUMBER(SEARCH(F$206,'12.Partner Involvement'!$H326))=TRUE,(('12.Partner Involvement'!$D326*'12.Partner Involvement'!$E326)/COUNTA(_xlfn.TEXTSPLIT('12.Partner Involvement'!$H326,\";\"))),\"\")","v":""},{"$f":"IF(ISNUMBER(SEARCH(G$206,'12.Partner Involvement'!$H326))=TRUE,(('12.Partner Involvement'!$D326*'12.Partner Involvement'!$E326)/COUNTA(_xlfn.TEXTSPLIT('12.Partner Involvement'!$H326,\";\"))),\"\")","v":""},{"$f":"IF(ISNUMBER(SEARCH(H$206,'12.Partner Involvement'!$H326))=TRUE,(('12.Partner Involvement'!$D326*'12.Partner Involvement'!$E326)/COUNTA(_xlfn.TEXTSPLIT('12.Partner Involvement'!$H326,\";\"))),\"\")","v":""}]
[{"$f":"IF(ISNUMBER(SEARCH(A$206,'12.Partner Involvement'!$G327))=TRUE,(('12.Partner Involvement'!$D327*'12.Partner Involvement'!$E327)/COUNTA(_xlfn.TEXTSPLIT('12.Partner Involvement'!$G327,\";\"))),\"\")","v":""},{"$f":"IF(ISNUMBER(SEARCH(B$206,'12.Partner Involvement'!$G327))=TRUE,(('12.Partner Involvement'!$D327*'12.Partner Involvement'!$E327)/COUNTA(_xlfn.TEXTSPLIT('12.Partner Involvement'!$G327,\";\"))),\"\")","v":""},{"$f":"IF(ISNUMBER(SEARCH(C$206,'12.Partner Involvement'!$G327))=TRUE,(('12.Partner Involvement'!$D327*'12.Partner Involvement'!$E327)/COUNTA(_xlfn.TEXTSPLIT('12.Partner Involvement'!$G327,\";\"))),\"\")","v":""},null,{"$f":"IF(ISNUMBER(SEARCH(E$206,'12.Partner Involvement'!$H327))=TRUE,(('12.Partner Involvement'!$D327*'12.Partner Involvement'!$E327)/COUNTA(_xlfn.TEXTSPLIT('12.Partner Involvement'!$H327,\";\"))),\"\")","v":""},{"$f":"IF(ISNUMBER(SEARCH(F$206,'12.Partner Involvement'!$H327))=TRUE,(('12.Partner Involvement'!$D327*'12.Partner Involvement'!$E327)/COUNTA(_xlfn.TEXTSPLIT('12.Partner Involvement'!$H327,\";\"))),\"\")","v":""},{"$f":"IF(ISNUMBER(SEARCH(G$206,'12.Partner Involvement'!$H327))=TRUE,(('12.Partner Involvement'!$D327*'12.Partner Involvement'!$E327)/COUNTA(_xlfn.TEXTSPLIT('12.Partner Involvement'!$H327,\";\"))),\"\")","v":""},{"$f":"IF(ISNUMBER(SEARCH(H$206,'12.Partner Involvement'!$H327))=TRUE,(('12.Partner Involvement'!$D327*'12.Partner Involvement'!$E327)/COUNTA(_xlfn.TEXTSPLIT('12.Partner Involvement'!$H327,\";\"))),\"\")","v":""}]
[{"$f":"IF(ISNUMBER(SEARCH(A$206,'12.Partner Involvement'!$G328))=TRUE,(('12.Partner Involvement'!$D328*'12.Partner Involvement'!$E328)/COUNTA(_xlfn.TEXTSPLIT('12.Partner Involvement'!$G328,\";\"))),\"\")","v":""},{"$f":"IF(ISNUMBER(SEARCH(B$206,'12.Partner Involvement'!$G328))=TRUE,(('12.Partner Involvement'!$D328*'12.Partner Involvement'!$E328)/COUNTA(_xlfn.TEXTSPLIT('12.Partner Involvement'!$G328,\";\"))),\"\")","v":""},{"$f":"IF(ISNUMBER(SEARCH(C$206,'12.Partner Involvement'!$G328))=TRUE,(('12.Partner Involvement'!$D328*'12.Partner Involvement'!$E328)/COUNTA(_xlfn.TEXTSPLIT('12.Partner Involvement'!$G328,\";\"))),\"\")","v":""},null,{"$f":"IF(ISNUMBER(SEARCH(E$206,'12.Partner Involvement'!$H328))=TRUE,(('12.Partner Involvement'!$D328*'12.Partner Involvement'!$E328)/COUNTA(_xlfn.TEXTSPLIT('12.Partner Involvement'!$H328,\";\"))),\"\")","v":""},{"$f":"IF(ISNUMBER(SEARCH(F$206,'12.Partner Involvement'!$H328))=TRUE,(('12.Partner Involvement'!$D328*'12.Partner Involvement'!$E328)/COUNTA(_xlfn.TEXTSPLIT('12.Partner Involvement'!$H328,\";\"))),\"\")","v":""},{"$f":"IF(ISNUMBER(SEARCH(G$206,'12.Partner Involvement'!$H328))=TRUE,(('12.Partner Involvement'!$D328*'12.Partner Involvement'!$E328)/COUNTA(_xlfn.TEXTSPLIT('12.Partner Involvement'!$H328,\";\"))),\"\")","v":""},{"$f":"IF(ISNUMBER(SEARCH(H$206,'12.Partner Involvement'!$H328))=TRUE,(('12.Partner Involvement'!$D328*'12.Partner Involvement'!$E328)/COUNTA(_xlfn.TEXTSPLIT('12.Partner Involvement'!$H328,\";\"))),\"\")","v":""}]
[{"$f":"IF(ISNUMBER(SEARCH(A$206,'12.Partner Involvement'!$G329))=TRUE,(('12.Partner Involvement'!$D329*'12.Partner Involvement'!$E329)/COUNTA(_xlfn.TEXTSPLIT('12.Partner Involvement'!$G329,\";\"))),\"\")","v":""},{"$f":"IF(ISNUMBER(SEARCH(B$206,'12.Partner Involvement'!$G329))=TRUE,(('12.Partner Involvement'!$D329*'12.Partner Involvement'!$E329)/COUNTA(_xlfn.TEXTSPLIT('12.Partner Involvement'!$G329,\";\"))),\"\")","v":""},{"$f":"IF(ISNUMBER(SEARCH(C$206,'12.Partner Involvement'!$G329))=TRUE,(('12.Partner Involvement'!$D329*'12.Partner Involvement'!$E329)/COUNTA(_xlfn.TEXTSPLIT('12.Partner Involvement'!$G329,\";\"))),\"\")","v":""},null,{"$f":"IF(ISNUMBER(SEARCH(E$206,'12.Partner Involvement'!$H329))=TRUE,(('12.Partner Involvement'!$D329*'12.Partner Involvement'!$E329)/COUNTA(_xlfn.TEXTSPLIT('12.Partner Involvement'!$H329,\";\"))),\"\")","v":""},{"$f":"IF(ISNUMBER(SEARCH(F$206,'12.Partner Involvement'!$H329))=TRUE,(('12.Partner Involvement'!$D329*'12.Partner Involvement'!$E329)/COUNTA(_xlfn.TEXTSPLIT('12.Partner Involvement'!$H329,\";\"))),\"\")","v":""},{"$f":"IF(ISNUMBER(SEARCH(G$206,'12.Partner Involvement'!$H329))=TRUE,(('12.Partner Involvement'!$D329*'12.Partner Involvement'!$E329)/COUNTA(_xlfn.TEXTSPLIT('12.Partner Involvement'!$H329,\";\"))),\"\")","v":""},{"$f":"IF(ISNUMBER(SEARCH(H$206,'12.Partner Involvement'!$H329))=TRUE,(('12.Partner Involvement'!$D329*'12.Partner Involvement'!$E329)/COUNTA(_xlfn.TEXTSPLIT('12.Partner Involvement'!$H329,\";\"))),\"\")","v":""}]
[{"$f":"IF(ISNUMBER(SEARCH(A$206,'12.Partner Involvement'!$G330))=TRUE,(('12.Partner Involvement'!$D330*'12.Partner Involvement'!$E330)/COUNTA(_xlfn.TEXTSPLIT('12.Partner Involvement'!$G330,\";\"))),\"\")","v":""},{"$f":"IF(ISNUMBER(SEARCH(B$206,'12.Partner Involvement'!$G330))=TRUE,(('12.Partner Involvement'!$D330*'12.Partner Involvement'!$E330)/COUNTA(_xlfn.TEXTSPLIT('12.Partner Involvement'!$G330,\";\"))),\"\")","v":""},{"$f":"IF(ISNUMBER(SEARCH(C$206,'12.Partner Involvement'!$G330))=TRUE,(('12.Partner Involvement'!$D330*'12.Partner Involvement'!$E330)/COUNTA(_xlfn.TEXTSPLIT('12.Partner Involvement'!$G330,\";\"))),\"\")","v":""},null,{"$f":"IF(ISNUMBER(SEARCH(E$206,'12.Partner Involvement'!$H330))=TRUE,(('12.Partner Involvement'!$D330*'12.Partner Involvement'!$E330)/COUNTA(_xlfn.TEXTSPLIT('12.Partner Involvement'!$H330,\";\"))),\"\")","v":""},{"$f":"IF(ISNUMBER(SEARCH(F$206,'12.Partner Involvement'!$H330))=TRUE,(('12.Partner Involvement'!$D330*'12.Partner Involvement'!$E330)/COUNTA(_xlfn.TEXTSPLIT('12.Partner Involvement'!$H330,\";\"))),\"\")","v":""},{"$f":"IF(ISNUMBER(SEARCH(G$206,'12.Partner Involvement'!$H330))=TRUE,(('12.Partner Involvement'!$D330*'12.Partner Involvement'!$E330)/COUNTA(_xlfn.TEXTSPLIT('12.Partner Involvement'!$H330,\";\"))),\"\")","v":""},{"$f":"IF(ISNUMBER(SEARCH(H$206,'12.Partner Involvement'!$H330))=TRUE,(('12.Partner Involvement'!$D330*'12.Partner Involvement'!$E330)/COUNTA(_xlfn.TEXTSPLIT('12.Partner Involvement'!$H330,\";\"))),\"\")","v":""}]
[{"$f":"IF(ISNUMBER(SEARCH(A$206,'12.Partner Involvement'!$G331))=TRUE,(('12.Partner Involvement'!$D331*'12.Partner Involvement'!$E331)/COUNTA(_xlfn.TEXTSPLIT('12.Partner Involvement'!$G331,\";\"))),\"\")","v":""},{"$f":"IF(ISNUMBER(SEARCH(B$206,'12.Partner Involvement'!$G331))=TRUE,(('12.Partner Involvement'!$D331*'12.Partner Involvement'!$E331)/COUNTA(_xlfn.TEXTSPLIT('12.Partner Involvement'!$G331,\";\"))),\"\")","v":""},{"$f":"IF(ISNUMBER(SEARCH(C$206,'12.Partner Involvement'!$G331))=TRUE,(('12.Partner Involvement'!$D331*'12.Partner Involvement'!$E331)/COUNTA(_xlfn.TEXTSPLIT('12.Partner Involvement'!$G331,\";\"))),\"\")","v":""},null,{"$f":"IF(ISNUMBER(SEARCH(E$206,'12.Partner Involvement'!$H331))=TRUE,(('12.Partner Involvement'!$D331*'12.Partner Involvement'!$E331)/COUNTA(_xlfn.TEXTSPLIT('12.Partner Involvement'!$H331,\";\"))),\"\")","v":""},{"$f":"IF(ISNUMBER(SEARCH(F$206,'12.Partner Involvement'!$H331))=TRUE,(('12.Partner Involvement'!$D331*'12.Partner Involvement'!$E331)/COUNTA(_xlfn.TEXTSPLIT('12.Partner Involvement'!$H331,\";\"))),\"\")","v":""},{"$f":"IF(ISNUMBER(SEARCH(G$206,'12.Partner Involvement'!$H331))=TRUE,(('12.Partner Involvement'!$D331*'12.Partner Involvement'!$E331)/COUNTA(_xlfn.TEXTSPLIT('12.Partner Involvement'!$H331,\";\"))),\"\")","v":""},{"$f":"IF(ISNUMBER(SEARCH(H$206,'12.Partner Involvement'!$H331))=TRUE,(('12.Partner Involvement'!$D331*'12.Partner Involvement'!$E331)/COUNTA(_xlfn.TEXTSPLIT('12.Partner Involvement'!$H331,\";\"))),\"\")","v":""}]
[{"$f":"IF(ISNUMBER(SEARCH(A$206,'12.Partner Involvement'!$G332))=TRUE,(('12.Partner Involvement'!$D332*'12.Partner Involvement'!$E332)/COUNTA(_xlfn.TEXTSPLIT('12.Partner Involvement'!$G332,\";\"))),\"\")","v":""},{"$f":"IF(ISNUMBER(SEARCH(B$206,'12.Partner Involvement'!$G332))=TRUE,(('12.Partner Involvement'!$D332*'12.Partner Involvement'!$E332)/COUNTA(_xlfn.TEXTSPLIT('12.Partner Involvement'!$G332,\";\"))),\"\")","v":""},{"$f":"IF(ISNUMBER(SEARCH(C$206,'12.Partner Involvement'!$G332))=TRUE,(('12.Partner Involvement'!$D332*'12.Partner Involvement'!$E332)/COUNTA(_xlfn.TEXTSPLIT('12.Partner Involvement'!$G332,\";\"))),\"\")","v":""},null,{"$f":"IF(ISNUMBER(SEARCH(E$206,'12.Partner Involvement'!$H332))=TRUE,(('12.Partner Involvement'!$D332*'12.Partner Involvement'!$E332)/COUNTA(_xlfn.TEXTSPLIT('12.Partner Involvement'!$H332,\";\"))),\"\")","v":""},{"$f":"IF(ISNUMBER(SEARCH(F$206,'12.Partner Involvement'!$H332))=TRUE,(('12.Partner Involvement'!$D332*'12.Partner Involvement'!$E332)/COUNTA(_xlfn.TEXTSPLIT('12.Partner Involvement'!$H332,\";\"))),\"\")","v":""},{"$f":"IF(ISNUMBER(SEARCH(G$206,'12.Partner Involvement'!$H332))=TRUE,(('12.Partner Involvement'!$D332*'12.Partner Involvement'!$E332)/COUNTA(_xlfn.TEXTSPLIT('12.Partner Involvement'!$H332,\";\"))),\"\")","v":""},{"$f":"IF(ISNUMBER(SEARCH(H$206,'12.Partner Involvement'!$H332))=TRUE,(('12.Partner Involvement'!$D332*'12.Partner Involvement'!$E332)/COUNTA(_xlfn.TEXTSPLIT('12.Partner Involvement'!$H332,\";\"))),\"\")","v":""}]
[{"$f":"IF(ISNUMBER(SEARCH(A$206,'12.Partner Involvement'!$G333))=TRUE,(('12.Partner Involvement'!$D333*'12.Partner Involvement'!$E333)/COUNTA(_xlfn.TEXTSPLIT('12.Partner Involvement'!$G333,\";\"))),\"\")","v":""},{"$f":"IF(ISNUMBER(SEARCH(B$206,'12.Partner Involvement'!$G333))=TRUE,(('12.Partner Involvement'!$D333*'12.Partner Involvement'!$E333)/COUNTA(_xlfn.TEXTSPLIT('12.Partner Involvement'!$G333,\";\"))),\"\")","v":""},{"$f":"IF(ISNUMBER(SEARCH(C$206,'12.Partner Involvement'!$G333))=TRUE,(('12.Partner Involvement'!$D333*'12.Partner Involvement'!$E333)/COUNTA(_xlfn.TEXTSPLIT('12.Partner Involvement'!$G333,\";\"))),\"\")","v":""},null,{"$f":"IF(ISNUMBER(SEARCH(E$206,'12.Partner Involvement'!$H333))=TRUE,(('12.Partner Involvement'!$D333*'12.Partner Involvement'!$E333)/COUNTA(_xlfn.TEXTSPLIT('12.Partner Involvement'!$H333,\";\"))),\"\")","v":""},{"$f":"IF(ISNUMBER(SEARCH(F$206,'12.Partner Involvement'!$H333))=TRUE,(('12.Partner Involvement'!$D333*'12.Partner Involvement'!$E333)/COUNTA(_xlfn.TEXTSPLIT('12.Partner Involvement'!$H333,\";\"))),\"\")","v":""},{"$f":"IF(ISNUMBER(SEARCH(G$206,'12.Partner Involvement'!$H333))=TRUE,(('12.Partner Involvement'!$D333*'12.Partner Involvement'!$E333)/COUNTA(_xlfn.TEXTSPLIT('12.Partner Involvement'!$H333,\";\"))),\"\")","v":""},{"$f":"IF(ISNUMBER(SEARCH(H$206,'12.Partner Involvement'!$H333))=TRUE,(('12.Partner Involvement'!$D333*'12.Partner Involvement'!$E333)/COUNTA(_xlfn.TEXTSPLIT('12.Partner Involvement'!$H333,\";\"))),\"\")","v":""}]
[{"$f":"IF(ISNUMBER(SEARCH(A$206,'12.Partner Involvement'!$G334))=TRUE,(('12.Partner Involvement'!$D334*'12.Partner Involvement'!$E334)/COUNTA(_xlfn.TEXTSPLIT('12.Partner Involvement'!$G334,\";\"))),\"\")","v":""},{"$f":"IF(ISNUMBER(SEARCH(B$206,'12.Partner Involvement'!$G334))=TRUE,(('12.Partner Involvement'!$D334*'12.Partner Involvement'!$E334)/COUNTA(_xlfn.TEXTSPLIT('12.Partner Involvement'!$G334,\";\"))),\"\")","v":""},{"$f":"IF(ISNUMBER(SEARCH(C$206,'12.Partner Involvement'!$G334))=TRUE,(('12.Partner Involvement'!$D334*'12.Partner Involvement'!$E334)/COUNTA(_xlfn.TEXTSPLIT('12.Partner Involvement'!$G334,\";\"))),\"\")","v":""},null,{"$f":"IF(ISNUMBER(SEARCH(E$206,'12.Partner Involvement'!$H334))=TRUE,(('12.Partner Involvement'!$D334*'12.Partner Involvement'!$E334)/COUNTA(_xlfn.TEXTSPLIT('12.Partner Involvement'!$H334,\";\"))),\"\")","v":""},{"$f":"IF(ISNUMBER(SEARCH(F$206,'12.Partner Involvement'!$H334))=TRUE,(('12.Partner Involvement'!$D334*'12.Partner Involvement'!$E334)/COUNTA(_xlfn.TEXTSPLIT('12.Partner Involvement'!$H334,\";\"))),\"\")","v":""},{"$f":"IF(ISNUMBER(SEARCH(G$206,'12.Partner Involvement'!$H334))=TRUE,(('12.Partner Involvement'!$D334*'12.Partner Involvement'!$E334)/COUNTA(_xlfn.TEXTSPLIT('12.Partner Involvement'!$H334,\";\"))),\"\")","v":""},{"$f":"IF(ISNUMBER(SEARCH(H$206,'12.Partner Involvement'!$H334))=TRUE,(('12.Partner Involvement'!$D334*'12.Partner Involvement'!$E334)/COUNTA(_xlfn.TEXTSPLIT('12.Partner Involvement'!$H334,\";\"))),\"\")","v":""}]
[{"$f":"IF(ISNUMBER(SEARCH(A$206,'12.Partner Involvement'!$G335))=TRUE,(('12.Partner Involvement'!$D335*'12.Partner Involvement'!$E335)/COUNTA(_xlfn.TEXTSPLIT('12.Partner Involvement'!$G335,\";\"))),\"\")","v":""},{"$f":"IF(ISNUMBER(SEARCH(B$206,'12.Partner Involvement'!$G335))=TRUE,(('12.Partner Involvement'!$D335*'12.Partner Involvement'!$E335)/COUNTA(_xlfn.TEXTSPLIT('12.Partner Involvement'!$G335,\";\"))),\"\")","v":""},{"$f":"IF(ISNUMBER(SEARCH(C$206,'12.Partner Involvement'!$G335))=TRUE,(('12.Partner Involvement'!$D335*'12.Partner Involvement'!$E335)/COUNTA(_xlfn.TEXTSPLIT('12.Partner Involvement'!$G335,\";\"))),\"\")","v":""},null,{"$f":"IF(ISNUMBER(SEARCH(E$206,'12.Partner Involvement'!$H335))=TRUE,(('12.Partner Involvement'!$D335*'12.Partner Involvement'!$E335)/COUNTA(_xlfn.TEXTSPLIT('12.Partner Involvement'!$H335,\";\"))),\"\")","v":""},{"$f":"IF(ISNUMBER(SEARCH(F$206,'12.Partner Involvement'!$H335))=TRUE,(('12.Partner Involvement'!$D335*'12.Partner Involvement'!$E335)/COUNTA(_xlfn.TEXTSPLIT('12.Partner Involvement'!$H335,\";\"))),\"\")","v":""},{"$f":"IF(ISNUMBER(SEARCH(G$206,'12.Partner Involvement'!$H335))=TRUE,(('12.Partner Involvement'!$D335*'12.Partner Involvement'!$E335)/COUNTA(_xlfn.TEXTSPLIT('12.Partner Involvement'!$H335,\";\"))),\"\")","v":""},{"$f":"IF(ISNUMBER(SEARCH(H$206,'12.Partner Involvement'!$H335))=TRUE,(('12.Partner Involvement'!$D335*'12.Partner Involvement'!$E335)/COUNTA(_xlfn.TEXTSPLIT('12.Partner Involvement'!$H335,\";\"))),\"\")","v":""}]
[{"$f":"IF(ISNUMBER(SEARCH(A$206,'12.Partner Involvement'!$G336))=TRUE,(('12.Partner Involvement'!$D336*'12.Partner Involvement'!$E336)/COUNTA(_xlfn.TEXTSPLIT('12.Partner Involvement'!$G336,\";\"))),\"\")","v":""},{"$f":"IF(ISNUMBER(SEARCH(B$206,'12.Partner Involvement'!$G336))=TRUE,(('12.Partner Involvement'!$D336*'12.Partner Involvement'!$E336)/COUNTA(_xlfn.TEXTSPLIT('12.Partner Involvement'!$G336,\";\"))),\"\")","v":""},{"$f":"IF(ISNUMBER(SEARCH(C$206,'12.Partner Involvement'!$G336))=TRUE,(('12.Partner Involvement'!$D336*'12.Partner Involvement'!$E336)/COUNTA(_xlfn.TEXTSPLIT('12.Partner Involvement'!$G336,\";\"))),\"\")","v":""},null,{"$f":"IF(ISNUMBER(SEARCH(E$206,'12.Partner Involvement'!$H336))=TRUE,(('12.Partner Involvement'!$D336*'12.Partner Involvement'!$E336)/COUNTA(_xlfn.TEXTSPLIT('12.Partner Involvement'!$H336,\";\"))),\"\")","v":""},{"$f":"IF(ISNUMBER(SEARCH(F$206,'12.Partner Involvement'!$H336))=TRUE,(('12.Partner Involvement'!$D336*'12.Partner Involvement'!$E336)/COUNTA(_xlfn.TEXTSPLIT('12.Partner Involvement'!$H336,\";\"))),\"\")","v":""},{"$f":"IF(ISNUMBER(SEARCH(G$206,'12.Partner Involvement'!$H336))=TRUE,(('12.Partner Involvement'!$D336*'12.Partner Involvement'!$E336)/COUNTA(_xlfn.TEXTSPLIT('12.Partner Involvement'!$H336,\";\"))),\"\")","v":""},{"$f":"IF(ISNUMBER(SEARCH(H$206,'12.Partner Involvement'!$H336))=TRUE,(('12.Partner Involvement'!$D336*'12.Partner Involvement'!$E336)/COUNTA(_xlfn.TEXTSPLIT('12.Partner Involvement'!$H336,\";\"))),\"\")","v":""}]
[{"$f":"IF(ISNUMBER(SEARCH(A$206,'12.Partner Involvement'!$G337))=TRUE,(('12.Partner Involvement'!$D337*'12.Partner Involvement'!$E337)/COUNTA(_xlfn.TEXTSPLIT('12.Partner Involvement'!$G337,\";\"))),\"\")","v":""},{"$f":"IF(ISNUMBER(SEARCH(B$206,'12.Partner Involvement'!$G337))=TRUE,(('12.Partner Involvement'!$D337*'12.Partner Involvement'!$E337)/COUNTA(_xlfn.TEXTSPLIT('12.Partner Involvement'!$G337,\";\"))),\"\")","v":""},{"$f":"IF(ISNUMBER(SEARCH(C$206,'12.Partner Involvement'!$G337))=TRUE,(('12.Partner Involvement'!$D337*'12.Partner Involvement'!$E337)/COUNTA(_xlfn.TEXTSPLIT('12.Partner Involvement'!$G337,\";\"))),\"\")","v":""},null,{"$f":"IF(ISNUMBER(SEARCH(E$206,'12.Partner Involvement'!$H337))=TRUE,(('12.Partner Involvement'!$D337*'12.Partner Involvement'!$E337)/COUNTA(_xlfn.TEXTSPLIT('12.Partner Involvement'!$H337,\";\"))),\"\")","v":""},{"$f":"IF(ISNUMBER(SEARCH(F$206,'12.Partner Involvement'!$H337))=TRUE,(('12.Partner Involvement'!$D337*'12.Partner Involvement'!$E337)/COUNTA(_xlfn.TEXTSPLIT('12.Partner Involvement'!$H337,\";\"))),\"\")","v":""},{"$f":"IF(ISNUMBER(SEARCH(G$206,'12.Partner Involvement'!$H337))=TRUE,(('12.Partner Involvement'!$D337*'12.Partner Involvement'!$E337)/COUNTA(_xlfn.TEXTSPLIT('12.Partner Involvement'!$H337,\";\"))),\"\")","v":""},{"$f":"IF(ISNUMBER(SEARCH(H$206,'12.Partner Involvement'!$H337))=TRUE,(('12.Partner Involvement'!$D337*'12.Partner Involvement'!$E337)/COUNTA(_xlfn.TEXTSPLIT('12.Partner Involvement'!$H337,\";\"))),\"\")","v":""}]
[{"$f":"IF(ISNUMBER(SEARCH(A$206,'12.Partner Involvement'!$G338))=TRUE,(('12.Partner Involvement'!$D338*'12.Partner Involvement'!$E338)/COUNTA(_xlfn.TEXTSPLIT('12.Partner Involvement'!$G338,\";\"))),\"\")","v":""},{"$f":"IF(ISNUMBER(SEARCH(B$206,'12.Partner Involvement'!$G338))=TRUE,(('12.Partner Involvement'!$D338*'12.Partner Involvement'!$E338)/COUNTA(_xlfn.TEXTSPLIT('12.Partner Involvement'!$G338,\";\"))),\"\")","v":""},{"$f":"IF(ISNUMBER(SEARCH(C$206,'12.Partner Involvement'!$G338))=TRUE,(('12.Partner Involvement'!$D338*'12.Partner Involvement'!$E338)/COUNTA(_xlfn.TEXTSPLIT('12.Partner Involvement'!$G338,\";\"))),\"\")","v":""},null,{"$f":"IF(ISNUMBER(SEARCH(E$206,'12.Partner Involvement'!$H338))=TRUE,(('12.Partner Involvement'!$D338*'12.Partner Involvement'!$E338)/COUNTA(_xlfn.TEXTSPLIT('12.Partner Involvement'!$H338,\";\"))),\"\")","v":""},{"$f":"IF(ISNUMBER(SEARCH(F$206,'12.Partner Involvement'!$H338))=TRUE,(('12.Partner Involvement'!$D338*'12.Partner Involvement'!$E338)/COUNTA(_xlfn.TEXTSPLIT('12.Partner Involvement'!$H338,\";\"))),\"\")","v":""},{"$f":"IF(ISNUMBER(SEARCH(G$206,'12.Partner Involvement'!$H338))=TRUE,(('12.Partner Involvement'!$D338*'12.Partner Involvement'!$E338)/COUNTA(_xlfn.TEXTSPLIT('12.Partner Involvement'!$H338,\";\"))),\"\")","v":""},{"$f":"IF(ISNUMBER(SEARCH(H$206,'12.Partner Involvement'!$H338))=TRUE,(('12.Partner Involvement'!$D338*'12.Partner Involvement'!$E338)/COUNTA(_xlfn.TEXTSPLIT('12.Partner Involvement'!$H338,\";\"))),\"\")","v":""}]
[{"$f":"IF(ISNUMBER(SEARCH(A$206,'12.Partner Involvement'!$G339))=TRUE,(('12.Partner Involvement'!$D339*'12.Partner Involvement'!$E339)/COUNTA(_xlfn.TEXTSPLIT('12.Partner Involvement'!$G339,\";\"))),\"\")","v":""},{"$f":"IF(ISNUMBER(SEARCH(B$206,'12.Partner Involvement'!$G339))=TRUE,(('12.Partner Involvement'!$D339*'12.Partner Involvement'!$E339)/COUNTA(_xlfn.TEXTSPLIT('12.Partner Involvement'!$G339,\";\"))),\"\")","v":""},{"$f":"IF(ISNUMBER(SEARCH(C$206,'12.Partner Involvement'!$G339))=TRUE,(('12.Partner Involvement'!$D339*'12.Partner Involvement'!$E339)/COUNTA(_xlfn.TEXTSPLIT('12.Partner Involvement'!$G339,\";\"))),\"\")","v":""},null,{"$f":"IF(ISNUMBER(SEARCH(E$206,'12.Partner Involvement'!$H339))=TRUE,(('12.Partner Involvement'!$D339*'12.Partner Involvement'!$E339)/COUNTA(_xlfn.TEXTSPLIT('12.Partner Involvement'!$H339,\";\"))),\"\")","v":""},{"$f":"IF(ISNUMBER(SEARCH(F$206,'12.Partner Involvement'!$H339))=TRUE,(('12.Partner Involvement'!$D339*'12.Partner Involvement'!$E339)/COUNTA(_xlfn.TEXTSPLIT('12.Partner Involvement'!$H339,\";\"))),\"\")","v":""},{"$f":"IF(ISNUMBER(SEARCH(G$206,'12.Partner Involvement'!$H339))=TRUE,(('12.Partner Involvement'!$D339*'12.Partner Involvement'!$E339)/COUNTA(_xlfn.TEXTSPLIT('12.Partner Involvement'!$H339,\";\"))),\"\")","v":""},{"$f":"IF(ISNUMBER(SEARCH(H$206,'12.Partner Involvement'!$H339))=TRUE,(('12.Partner Involvement'!$D339*'12.Partner Involvement'!$E339)/COUNTA(_xlfn.TEXTSPLIT('12.Partner Involvement'!$H339,\";\"))),\"\")","v":""}]
[{"$f":"IF(ISNUMBER(SEARCH(A$206,'12.Partner Involvement'!$G340))=TRUE,(('12.Partner Involvement'!$D340*'12.Partner Involvement'!$E340)/COUNTA(_xlfn.TEXTSPLIT('12.Partner Involvement'!$G340,\";\"))),\"\")","v":""},{"$f":"IF(ISNUMBER(SEARCH(B$206,'12.Partner Involvement'!$G340))=TRUE,(('12.Partner Involvement'!$D340*'12.Partner Involvement'!$E340)/COUNTA(_xlfn.TEXTSPLIT('12.Partner Involvement'!$G340,\";\"))),\"\")","v":""},{"$f":"IF(ISNUMBER(SEARCH(C$206,'12.Partner Involvement'!$G340))=TRUE,(('12.Partner Involvement'!$D340*'12.Partner Involvement'!$E340)/COUNTA(_xlfn.TEXTSPLIT('12.Partner Involvement'!$G340,\";\"))),\"\")","v":""},null,{"$f":"IF(ISNUMBER(SEARCH(E$206,'12.Partner Involvement'!$H340))=TRUE,(('12.Partner Involvement'!$D340*'12.Partner Involvement'!$E340)/COUNTA(_xlfn.TEXTSPLIT('12.Partner Involvement'!$H340,\";\"))),\"\")","v":""},{"$f":"IF(ISNUMBER(SEARCH(F$206,'12.Partner Involvement'!$H340))=TRUE,(('12.Partner Involvement'!$D340*'12.Partner Involvement'!$E340)/COUNTA(_xlfn.TEXTSPLIT('12.Partner Involvement'!$H340,\";\"))),\"\")","v":""},{"$f":"IF(ISNUMBER(SEARCH(G$206,'12.Partner Involvement'!$H340))=TRUE,(('12.Partner Involvement'!$D340*'12.Partner Involvement'!$E340)/COUNTA(_xlfn.TEXTSPLIT('12.Partner Involvement'!$H340,\";\"))),\"\")","v":""},{"$f":"IF(ISNUMBER(SEARCH(H$206,'12.Partner Involvement'!$H340))=TRUE,(('12.Partner Involvement'!$D340*'12.Partner Involvement'!$E340)/COUNTA(_xlfn.TEXTSPLIT('12.Partner Involvement'!$H340,\";\"))),\"\")","v":""}]
[{"$f":"IF(ISNUMBER(SEARCH(A$206,'12.Partner Involvement'!$G341))=TRUE,(('12.Partner Involvement'!$D341*'12.Partner Involvement'!$E341)/COUNTA(_xlfn.TEXTSPLIT('12.Partner Involvement'!$G341,\";\"))),\"\")","v":""},{"$f":"IF(ISNUMBER(SEARCH(B$206,'12.Partner Involvement'!$G341))=TRUE,(('12.Partner Involvement'!$D341*'12.Partner Involvement'!$E341)/COUNTA(_xlfn.TEXTSPLIT('12.Partner Involvement'!$G341,\";\"))),\"\")","v":""},{"$f":"IF(ISNUMBER(SEARCH(C$206,'12.Partner Involvement'!$G341))=TRUE,(('12.Partner Involvement'!$D341*'12.Partner Involvement'!$E341)/COUNTA(_xlfn.TEXTSPLIT('12.Partner Involvement'!$G341,\";\"))),\"\")","v":""},null,{"$f":"IF(ISNUMBER(SEARCH(E$206,'12.Partner Involvement'!$H341))=TRUE,(('12.Partner Involvement'!$D341*'12.Partner Involvement'!$E341)/COUNTA(_xlfn.TEXTSPLIT('12.Partner Involvement'!$H341,\";\"))),\"\")","v":""},{"$f":"IF(ISNUMBER(SEARCH(F$206,'12.Partner Involvement'!$H341))=TRUE,(('12.Partner Involvement'!$D341*'12.Partner Involvement'!$E341)/COUNTA(_xlfn.TEXTSPLIT('12.Partner Involvement'!$H341,\";\"))),\"\")","v":""},{"$f":"IF(ISNUMBER(SEARCH(G$206,'12.Partner Involvement'!$H341))=TRUE,(('12.Partner Involvement'!$D341*'12.Partner Involvement'!$E341)/COUNTA(_xlfn.TEXTSPLIT('12.Partner Involvement'!$H341,\";\"))),\"\")","v":""},{"$f":"IF(ISNUMBER(SEARCH(H$206,'12.Partner Involvement'!$H341))=TRUE,(('12.Partner Involvement'!$D341*'12.Partner Involvement'!$E341)/COUNTA(_xlfn.TEXTSPLIT('12.Partner Involvement'!$H341,\";\"))),\"\")","v":""}]
[{"$f":"IF(ISNUMBER(SEARCH(A$206,'12.Partner Involvement'!$G342))=TRUE,(('12.Partner Involvement'!$D342*'12.Partner Involvement'!$E342)/COUNTA(_xlfn.TEXTSPLIT('12.Partner Involvement'!$G342,\";\"))),\"\")","v":""},{"$f":"IF(ISNUMBER(SEARCH(B$206,'12.Partner Involvement'!$G342))=TRUE,(('12.Partner Involvement'!$D342*'12.Partner Involvement'!$E342)/COUNTA(_xlfn.TEXTSPLIT('12.Partner Involvement'!$G342,\";\"))),\"\")","v":""},{"$f":"IF(ISNUMBER(SEARCH(C$206,'12.Partner Involvement'!$G342))=TRUE,(('12.Partner Involvement'!$D342*'12.Partner Involvement'!$E342)/COUNTA(_xlfn.TEXTSPLIT('12.Partner Involvement'!$G342,\";\"))),\"\")","v":""},null,{"$f":"IF(ISNUMBER(SEARCH(E$206,'12.Partner Involvement'!$H342))=TRUE,(('12.Partner Involvement'!$D342*'12.Partner Involvement'!$E342)/COUNTA(_xlfn.TEXTSPLIT('12.Partner Involvement'!$H342,\";\"))),\"\")","v":""},{"$f":"IF(ISNUMBER(SEARCH(F$206,'12.Partner Involvement'!$H342))=TRUE,(('12.Partner Involvement'!$D342*'12.Partner Involvement'!$E342)/COUNTA(_xlfn.TEXTSPLIT('12.Partner Involvement'!$H342,\";\"))),\"\")","v":""},{"$f":"IF(ISNUMBER(SEARCH(G$206,'12.Partner Involvement'!$H342))=TRUE,(('12.Partner Involvement'!$D342*'12.Partner Involvement'!$E342)/COUNTA(_xlfn.TEXTSPLIT('12.Partner Involvement'!$H342,\";\"))),\"\")","v":""},{"$f":"IF(ISNUMBER(SEARCH(H$206,'12.Partner Involvement'!$H342))=TRUE,(('12.Partner Involvement'!$D342*'12.Partner Involvement'!$E342)/COUNTA(_xlfn.TEXTSPLIT('12.Partner Involvement'!$H342,\";\"))),\"\")","v":""}]
[{"$f":"IF(ISNUMBER(SEARCH(A$206,'12.Partner Involvement'!$G343))=TRUE,(('12.Partner Involvement'!$D343*'12.Partner Involvement'!$E343)/COUNTA(_xlfn.TEXTSPLIT('12.Partner Involvement'!$G343,\";\"))),\"\")","v":""},{"$f":"IF(ISNUMBER(SEARCH(B$206,'12.Partner Involvement'!$G343))=TRUE,(('12.Partner Involvement'!$D343*'12.Partner Involvement'!$E343)/COUNTA(_xlfn.TEXTSPLIT('12.Partner Involvement'!$G343,\";\"))),\"\")","v":""},{"$f":"IF(ISNUMBER(SEARCH(C$206,'12.Partner Involvement'!$G343))=TRUE,(('12.Partner Involvement'!$D343*'12.Partner Involvement'!$E343)/COUNTA(_xlfn.TEXTSPLIT('12.Partner Involvement'!$G343,\";\"))),\"\")","v":""},null,{"$f":"IF(ISNUMBER(SEARCH(E$206,'12.Partner Involvement'!$H343))=TRUE,(('12.Partner Involvement'!$D343*'12.Partner Involvement'!$E343)/COUNTA(_xlfn.TEXTSPLIT('12.Partner Involvement'!$H343,\";\"))),\"\")","v":""},{"$f":"IF(ISNUMBER(SEARCH(F$206,'12.Partner Involvement'!$H343))=TRUE,(('12.Partner Involvement'!$D343*'12.Partner Involvement'!$E343)/COUNTA(_xlfn.TEXTSPLIT('12.Partner Involvement'!$H343,\";\"))),\"\")","v":""},{"$f":"IF(ISNUMBER(SEARCH(G$206,'12.Partner Involvement'!$H343))=TRUE,(('12.Partner Involvement'!$D343*'12.Partner Involvement'!$E343)/COUNTA(_xlfn.TEXTSPLIT('12.Partner Involvement'!$H343,\";\"))),\"\")","v":""},{"$f":"IF(ISNUMBER(SEARCH(H$206,'12.Partner Involvement'!$H343))=TRUE,(('12.Partner Involvement'!$D343*'12.Partner Involvement'!$E343)/COUNTA(_xlfn.TEXTSPLIT('12.Partner Involvement'!$H343,\";\"))),\"\")","v":""}]
[{"$f":"IF(ISNUMBER(SEARCH(A$206,'12.Partner Involvement'!$G344))=TRUE,(('12.Partner Involvement'!$D344*'12.Partner Involvement'!$E344)/COUNTA(_xlfn.TEXTSPLIT('12.Partner Involvement'!$G344,\";\"))),\"\")","v":""},{"$f":"IF(ISNUMBER(SEARCH(B$206,'12.Partner Involvement'!$G344))=TRUE,(('12.Partner Involvement'!$D344*'12.Partner Involvement'!$E344)/COUNTA(_xlfn.TEXTSPLIT('12.Partner Involvement'!$G344,\";\"))),\"\")","v":""},{"$f":"IF(ISNUMBER(SEARCH(C$206,'12.Partner Involvement'!$G344))=TRUE,(('12.Partner Involvement'!$D344*'12.Partner Involvement'!$E344)/COUNTA(_xlfn.TEXTSPLIT('12.Partner Involvement'!$G344,\";\"))),\"\")","v":""},null,{"$f":"IF(ISNUMBER(SEARCH(E$206,'12.Partner Involvement'!$H344))=TRUE,(('12.Partner Involvement'!$D344*'12.Partner Involvement'!$E344)/COUNTA(_xlfn.TEXTSPLIT('12.Partner Involvement'!$H344,\";\"))),\"\")","v":""},{"$f":"IF(ISNUMBER(SEARCH(F$206,'12.Partner Involvement'!$H344))=TRUE,(('12.Partner Involvement'!$D344*'12.Partner Involvement'!$E344)/COUNTA(_xlfn.TEXTSPLIT('12.Partner Involvement'!$H344,\";\"))),\"\")","v":""},{"$f":"IF(ISNUMBER(SEARCH(G$206,'12.Partner Involvement'!$H344))=TRUE,(('12.Partner Involvement'!$D344*'12.Partner Involvement'!$E344)/COUNTA(_xlfn.TEXTSPLIT('12.Partner Involvement'!$H344,\";\"))),\"\")","v":""},{"$f":"IF(ISNUMBER(SEARCH(H$206,'12.Partner Involvement'!$H344))=TRUE,(('12.Partner Involvement'!$D344*'12.Partner Involvement'!$E344)/COUNTA(_xlfn.TEXTSPLIT('12.Partner Involvement'!$H344,\";\"))),\"\")","v":""}]
[{"$f":"IF(ISNUMBER(SEARCH(A$206,'12.Partner Involvement'!$G345))=TRUE,(('12.Partner Involvement'!$D345*'12.Partner Involvement'!$E345)/COUNTA(_xlfn.TEXTSPLIT('12.Partner Involvement'!$G345,\";\"))),\"\")","v":""},{"$f":"IF(ISNUMBER(SEARCH(B$206,'12.Partner Involvement'!$G345))=TRUE,(('12.Partner Involvement'!$D345*'12.Partner Involvement'!$E345)/COUNTA(_xlfn.TEXTSPLIT('12.Partner Involvement'!$G345,\";\"))),\"\")","v":""},{"$f":"IF(ISNUMBER(SEARCH(C$206,'12.Partner Involvement'!$G345))=TRUE,(('12.Partner Involvement'!$D345*'12.Partner Involvement'!$E345)/COUNTA(_xlfn.TEXTSPLIT('12.Partner Involvement'!$G345,\";\"))),\"\")","v":""},null,{"$f":"IF(ISNUMBER(SEARCH(E$206,'12.Partner Involvement'!$H345))=TRUE,(('12.Partner Involvement'!$D345*'12.Partner Involvement'!$E345)/COUNTA(_xlfn.TEXTSPLIT('12.Partner Involvement'!$H345,\";\"))),\"\")","v":""},{"$f":"IF(ISNUMBER(SEARCH(F$206,'12.Partner Involvement'!$H345))=TRUE,(('12.Partner Involvement'!$D345*'12.Partner Involvement'!$E345)/COUNTA(_xlfn.TEXTSPLIT('12.Partner Involvement'!$H345,\";\"))),\"\")","v":""},{"$f":"IF(ISNUMBER(SEARCH(G$206,'12.Partner Involvement'!$H345))=TRUE,(('12.Partner Involvement'!$D345*'12.Partner Involvement'!$E345)/COUNTA(_xlfn.TEXTSPLIT('12.Partner Involvement'!$H345,\";\"))),\"\")","v":""},{"$f":"IF(ISNUMBER(SEARCH(H$206,'12.Partner Involvement'!$H345))=TRUE,(('12.Partner Involvement'!$D345*'12.Partner Involvement'!$E345)/COUNTA(_xlfn.TEXTSPLIT('12.Partner Involvement'!$H345,\";\"))),\"\")","v":""}]
[{"$f":"IF(ISNUMBER(SEARCH(A$206,'12.Partner Involvement'!$G346))=TRUE,(('12.Partner Involvement'!$D346*'12.Partner Involvement'!$E346)/COUNTA(_xlfn.TEXTSPLIT('12.Partner Involvement'!$G346,\";\"))),\"\")","v":""},{"$f":"IF(ISNUMBER(SEARCH(B$206,'12.Partner Involvement'!$G346))=TRUE,(('12.Partner Involvement'!$D346*'12.Partner Involvement'!$E346)/COUNTA(_xlfn.TEXTSPLIT('12.Partner Involvement'!$G346,\";\"))),\"\")","v":""},{"$f":"IF(ISNUMBER(SEARCH(C$206,'12.Partner Involvement'!$G346))=TRUE,(('12.Partner Involvement'!$D346*'12.Partner Involvement'!$E346)/COUNTA(_xlfn.TEXTSPLIT('12.Partner Involvement'!$G346,\";\"))),\"\")","v":""},null,{"$f":"IF(ISNUMBER(SEARCH(E$206,'12.Partner Involvement'!$H346))=TRUE,(('12.Partner Involvement'!$D346*'12.Partner Involvement'!$E346)/COUNTA(_xlfn.TEXTSPLIT('12.Partner Involvement'!$H346,\";\"))),\"\")","v":""},{"$f":"IF(ISNUMBER(SEARCH(F$206,'12.Partner Involvement'!$H346))=TRUE,(('12.Partner Involvement'!$D346*'12.Partner Involvement'!$E346)/COUNTA(_xlfn.TEXTSPLIT('12.Partner Involvement'!$H346,\";\"))),\"\")","v":""},{"$f":"IF(ISNUMBER(SEARCH(G$206,'12.Partner Involvement'!$H346))=TRUE,(('12.Partner Involvement'!$D346*'12.Partner Involvement'!$E346)/COUNTA(_xlfn.TEXTSPLIT('12.Partner Involvement'!$H346,\";\"))),\"\")","v":""},{"$f":"IF(ISNUMBER(SEARCH(H$206,'12.Partner Involvement'!$H346))=TRUE,(('12.Partner Involvement'!$D346*'12.Partner Involvement'!$E346)/COUNTA(_xlfn.TEXTSPLIT('12.Partner Involvement'!$H346,\";\"))),\"\")","v":""}]
[{"$f":"IF(ISNUMBER(SEARCH(A$206,'12.Partner Involvement'!$G347))=TRUE,(('12.Partner Involvement'!$D347*'12.Partner Involvement'!$E347)/COUNTA(_xlfn.TEXTSPLIT('12.Partner Involvement'!$G347,\";\"))),\"\")","v":""},{"$f":"IF(ISNUMBER(SEARCH(B$206,'12.Partner Involvement'!$G347))=TRUE,(('12.Partner Involvement'!$D347*'12.Partner Involvement'!$E347)/COUNTA(_xlfn.TEXTSPLIT('12.Partner Involvement'!$G347,\";\"))),\"\")","v":""},{"$f":"IF(ISNUMBER(SEARCH(C$206,'12.Partner Involvement'!$G347))=TRUE,(('12.Partner Involvement'!$D347*'12.Partner Involvement'!$E347)/COUNTA(_xlfn.TEXTSPLIT('12.Partner Involvement'!$G347,\";\"))),\"\")","v":""},null,{"$f":"IF(ISNUMBER(SEARCH(E$206,'12.Partner Involvement'!$H347))=TRUE,(('12.Partner Involvement'!$D347*'12.Partner Involvement'!$E347)/COUNTA(_xlfn.TEXTSPLIT('12.Partner Involvement'!$H347,\";\"))),\"\")","v":""},{"$f":"IF(ISNUMBER(SEARCH(F$206,'12.Partner Involvement'!$H347))=TRUE,(('12.Partner Involvement'!$D347*'12.Partner Involvement'!$E347)/COUNTA(_xlfn.TEXTSPLIT('12.Partner Involvement'!$H347,\";\"))),\"\")","v":""},{"$f":"IF(ISNUMBER(SEARCH(G$206,'12.Partner Involvement'!$H347))=TRUE,(('12.Partner Involvement'!$D347*'12.Partner Involvement'!$E347)/COUNTA(_xlfn.TEXTSPLIT('12.Partner Involvement'!$H347,\";\"))),\"\")","v":""},{"$f":"IF(ISNUMBER(SEARCH(H$206,'12.Partner Involvement'!$H347))=TRUE,(('12.Partner Involvement'!$D347*'12.Partner Involvement'!$E347)/COUNTA(_xlfn.TEXTSPLIT('12.Partner Involvement'!$H347,\";\"))),\"\")","v":""}]
[{"$f":"IF(ISNUMBER(SEARCH(A$206,'12.Partner Involvement'!$G348))=TRUE,(('12.Partner Involvement'!$D348*'12.Partner Involvement'!$E348)/COUNTA(_xlfn.TEXTSPLIT('12.Partner Involvement'!$G348,\";\"))),\"\")","v":""},{"$f":"IF(ISNUMBER(SEARCH(B$206,'12.Partner Involvement'!$G348))=TRUE,(('12.Partner Involvement'!$D348*'12.Partner Involvement'!$E348)/COUNTA(_xlfn.TEXTSPLIT('12.Partner Involvement'!$G348,\";\"))),\"\")","v":""},{"$f":"IF(ISNUMBER(SEARCH(C$206,'12.Partner Involvement'!$G348))=TRUE,(('12.Partner Involvement'!$D348*'12.Partner Involvement'!$E348)/COUNTA(_xlfn.TEXTSPLIT('12.Partner Involvement'!$G348,\";\"))),\"\")","v":""},null,{"$f":"IF(ISNUMBER(SEARCH(E$206,'12.Partner Involvement'!$H348))=TRUE,(('12.Partner Involvement'!$D348*'12.Partner Involvement'!$E348)/COUNTA(_xlfn.TEXTSPLIT('12.Partner Involvement'!$H348,\";\"))),\"\")","v":""},{"$f":"IF(ISNUMBER(SEARCH(F$206,'12.Partner Involvement'!$H348))=TRUE,(('12.Partner Involvement'!$D348*'12.Partner Involvement'!$E348)/COUNTA(_xlfn.TEXTSPLIT('12.Partner Involvement'!$H348,\";\"))),\"\")","v":""},{"$f":"IF(ISNUMBER(SEARCH(G$206,'12.Partner Involvement'!$H348))=TRUE,(('12.Partner Involvement'!$D348*'12.Partner Involvement'!$E348)/COUNTA(_xlfn.TEXTSPLIT('12.Partner Involvement'!$H348,\";\"))),\"\")","v":""},{"$f":"IF(ISNUMBER(SEARCH(H$206,'12.Partner Involvement'!$H348))=TRUE,(('12.Partner Involvement'!$D348*'12.Partner Involvement'!$E348)/COUNTA(_xlfn.TEXTSPLIT('12.Partner Involvement'!$H348,\";\"))),\"\")","v":""}]
[{"$f":"IF(ISNUMBER(SEARCH(A$206,'12.Partner Involvement'!$G349))=TRUE,(('12.Partner Involvement'!$D349*'12.Partner Involvement'!$E349)/COUNTA(_xlfn.TEXTSPLIT('12.Partner Involvement'!$G349,\";\"))),\"\")","v":""},{"$f":"IF(ISNUMBER(SEARCH(B$206,'12.Partner Involvement'!$G349))=TRUE,(('12.Partner Involvement'!$D349*'12.Partner Involvement'!$E349)/COUNTA(_xlfn.TEXTSPLIT('12.Partner Involvement'!$G349,\";\"))),\"\")","v":""},{"$f":"IF(ISNUMBER(SEARCH(C$206,'12.Partner Involvement'!$G349))=TRUE,(('12.Partner Involvement'!$D349*'12.Partner Involvement'!$E349)/COUNTA(_xlfn.TEXTSPLIT('12.Partner Involvement'!$G349,\";\"))),\"\")","v":""},null,{"$f":"IF(ISNUMBER(SEARCH(E$206,'12.Partner Involvement'!$H349))=TRUE,(('12.Partner Involvement'!$D349*'12.Partner Involvement'!$E349)/COUNTA(_xlfn.TEXTSPLIT('12.Partner Involvement'!$H349,\";\"))),\"\")","v":""},{"$f":"IF(ISNUMBER(SEARCH(F$206,'12.Partner Involvement'!$H349))=TRUE,(('12.Partner Involvement'!$D349*'12.Partner Involvement'!$E349)/COUNTA(_xlfn.TEXTSPLIT('12.Partner Involvement'!$H349,\";\"))),\"\")","v":""},{"$f":"IF(ISNUMBER(SEARCH(G$206,'12.Partner Involvement'!$H349))=TRUE,(('12.Partner Involvement'!$D349*'12.Partner Involvement'!$E349)/COUNTA(_xlfn.TEXTSPLIT('12.Partner Involvement'!$H349,\";\"))),\"\")","v":""},{"$f":"IF(ISNUMBER(SEARCH(H$206,'12.Partner Involvement'!$H349))=TRUE,(('12.Partner Involvement'!$D349*'12.Partner Involvement'!$E349)/COUNTA(_xlfn.TEXTSPLIT('12.Partner Involvement'!$H349,\";\"))),\"\")","v":""}]
[{"$f":"IF(ISNUMBER(SEARCH(A$206,'12.Partner Involvement'!$G350))=TRUE,(('12.Partner Involvement'!$D350*'12.Partner Involvement'!$E350)/COUNTA(_xlfn.TEXTSPLIT('12.Partner Involvement'!$G350,\";\"))),\"\")","v":""},{"$f":"IF(ISNUMBER(SEARCH(B$206,'12.Partner Involvement'!$G350))=TRUE,(('12.Partner Involvement'!$D350*'12.Partner Involvement'!$E350)/COUNTA(_xlfn.TEXTSPLIT('12.Partner Involvement'!$G350,\";\"))),\"\")","v":""},{"$f":"IF(ISNUMBER(SEARCH(C$206,'12.Partner Involvement'!$G350))=TRUE,(('12.Partner Involvement'!$D350*'12.Partner Involvement'!$E350)/COUNTA(_xlfn.TEXTSPLIT('12.Partner Involvement'!$G350,\";\"))),\"\")","v":""},null,{"$f":"IF(ISNUMBER(SEARCH(E$206,'12.Partner Involvement'!$H350))=TRUE,(('12.Partner Involvement'!$D350*'12.Partner Involvement'!$E350)/COUNTA(_xlfn.TEXTSPLIT('12.Partner Involvement'!$H350,\";\"))),\"\")","v":""},{"$f":"IF(ISNUMBER(SEARCH(F$206,'12.Partner Involvement'!$H350))=TRUE,(('12.Partner Involvement'!$D350*'12.Partner Involvement'!$E350)/COUNTA(_xlfn.TEXTSPLIT('12.Partner Involvement'!$H350,\";\"))),\"\")","v":""},{"$f":"IF(ISNUMBER(SEARCH(G$206,'12.Partner Involvement'!$H350))=TRUE,(('12.Partner Involvement'!$D350*'12.Partner Involvement'!$E350)/COUNTA(_xlfn.TEXTSPLIT('12.Partner Involvement'!$H350,\";\"))),\"\")","v":""},{"$f":"IF(ISNUMBER(SEARCH(H$206,'12.Partner Involvement'!$H350))=TRUE,(('12.Partner Involvement'!$D350*'12.Partner Involvement'!$E350)/COUNTA(_xlfn.TEXTSPLIT('12.Partner Involvement'!$H350,\";\"))),\"\")","v":""}]
[{"$f":"IF(ISNUMBER(SEARCH(A$206,'12.Partner Involvement'!$G351))=TRUE,(('12.Partner Involvement'!$D351*'12.Partner Involvement'!$E351)/COUNTA(_xlfn.TEXTSPLIT('12.Partner Involvement'!$G351,\";\"))),\"\")","v":""},{"$f":"IF(ISNUMBER(SEARCH(B$206,'12.Partner Involvement'!$G351))=TRUE,(('12.Partner Involvement'!$D351*'12.Partner Involvement'!$E351)/COUNTA(_xlfn.TEXTSPLIT('12.Partner Involvement'!$G351,\";\"))),\"\")","v":""},{"$f":"IF(ISNUMBER(SEARCH(C$206,'12.Partner Involvement'!$G351))=TRUE,(('12.Partner Involvement'!$D351*'12.Partner Involvement'!$E351)/COUNTA(_xlfn.TEXTSPLIT('12.Partner Involvement'!$G351,\";\"))),\"\")","v":""},null,{"$f":"IF(ISNUMBER(SEARCH(E$206,'12.Partner Involvement'!$H351))=TRUE,(('12.Partner Involvement'!$D351*'12.Partner Involvement'!$E351)/COUNTA(_xlfn.TEXTSPLIT('12.Partner Involvement'!$H351,\";\"))),\"\")","v":""},{"$f":"IF(ISNUMBER(SEARCH(F$206,'12.Partner Involvement'!$H351))=TRUE,(('12.Partner Involvement'!$D351*'12.Partner Involvement'!$E351)/COUNTA(_xlfn.TEXTSPLIT('12.Partner Involvement'!$H351,\";\"))),\"\")","v":""},{"$f":"IF(ISNUMBER(SEARCH(G$206,'12.Partner Involvement'!$H351))=TRUE,(('12.Partner Involvement'!$D351*'12.Partner Involvement'!$E351)/COUNTA(_xlfn.TEXTSPLIT('12.Partner Involvement'!$H351,\";\"))),\"\")","v":""},{"$f":"IF(ISNUMBER(SEARCH(H$206,'12.Partner Involvement'!$H351))=TRUE,(('12.Partner Involvement'!$D351*'12.Partner Involvement'!$E351)/COUNTA(_xlfn.TEXTSPLIT('12.Partner Involvement'!$H351,\";\"))),\"\")","v":""}]
[{"$f":"IF(ISNUMBER(SEARCH(A$206,'12.Partner Involvement'!$G352))=TRUE,(('12.Partner Involvement'!$D352*'12.Partner Involvement'!$E352)/COUNTA(_xlfn.TEXTSPLIT('12.Partner Involvement'!$G352,\";\"))),\"\")","v":""},{"$f":"IF(ISNUMBER(SEARCH(B$206,'12.Partner Involvement'!$G352))=TRUE,(('12.Partner Involvement'!$D352*'12.Partner Involvement'!$E352)/COUNTA(_xlfn.TEXTSPLIT('12.Partner Involvement'!$G352,\";\"))),\"\")","v":""},{"$f":"IF(ISNUMBER(SEARCH(C$206,'12.Partner Involvement'!$G352))=TRUE,(('12.Partner Involvement'!$D352*'12.Partner Involvement'!$E352)/COUNTA(_xlfn.TEXTSPLIT('12.Partner Involvement'!$G352,\";\"))),\"\")","v":""},null,{"$f":"IF(ISNUMBER(SEARCH(E$206,'12.Partner Involvement'!$H352))=TRUE,(('12.Partner Involvement'!$D352*'12.Partner Involvement'!$E352)/COUNTA(_xlfn.TEXTSPLIT('12.Partner Involvement'!$H352,\";\"))),\"\")","v":""},{"$f":"IF(ISNUMBER(SEARCH(F$206,'12.Partner Involvement'!$H352))=TRUE,(('12.Partner Involvement'!$D352*'12.Partner Involvement'!$E352)/COUNTA(_xlfn.TEXTSPLIT('12.Partner Involvement'!$H352,\";\"))),\"\")","v":""},{"$f":"IF(ISNUMBER(SEARCH(G$206,'12.Partner Involvement'!$H352))=TRUE,(('12.Partner Involvement'!$D352*'12.Partner Involvement'!$E352)/COUNTA(_xlfn.TEXTSPLIT('12.Partner Involvement'!$H352,\";\"))),\"\")","v":""},{"$f":"IF(ISNUMBER(SEARCH(H$206,'12.Partner Involvement'!$H352))=TRUE,(('12.Partner Involvement'!$D352*'12.Partner Involvement'!$E352)/COUNTA(_xlfn.TEXTSPLIT('12.Partner Involvement'!$H352,\";\"))),\"\")","v":""}]
[{"$f":"IF(ISNUMBER(SEARCH(A$206,'12.Partner Involvement'!$G353))=TRUE,(('12.Partner Involvement'!$D353*'12.Partner Involvement'!$E353)/COUNTA(_xlfn.TEXTSPLIT('12.Partner Involvement'!$G353,\";\"))),\"\")","v":""},{"$f":"IF(ISNUMBER(SEARCH(B$206,'12.Partner Involvement'!$G353))=TRUE,(('12.Partner Involvement'!$D353*'12.Partner Involvement'!$E353)/COUNTA(_xlfn.TEXTSPLIT('12.Partner Involvement'!$G353,\";\"))),\"\")","v":""},{"$f":"IF(ISNUMBER(SEARCH(C$206,'12.Partner Involvement'!$G353))=TRUE,(('12.Partner Involvement'!$D353*'12.Partner Involvement'!$E353)/COUNTA(_xlfn.TEXTSPLIT('12.Partner Involvement'!$G353,\";\"))),\"\")","v":""},null,{"$f":"IF(ISNUMBER(SEARCH(E$206,'12.Partner Involvement'!$H353))=TRUE,(('12.Partner Involvement'!$D353*'12.Partner Involvement'!$E353)/COUNTA(_xlfn.TEXTSPLIT('12.Partner Involvement'!$H353,\";\"))),\"\")","v":""},{"$f":"IF(ISNUMBER(SEARCH(F$206,'12.Partner Involvement'!$H353))=TRUE,(('12.Partner Involvement'!$D353*'12.Partner Involvement'!$E353)/COUNTA(_xlfn.TEXTSPLIT('12.Partner Involvement'!$H353,\";\"))),\"\")","v":""},{"$f":"IF(ISNUMBER(SEARCH(G$206,'12.Partner Involvement'!$H353))=TRUE,(('12.Partner Involvement'!$D353*'12.Partner Involvement'!$E353)/COUNTA(_xlfn.TEXTSPLIT('12.Partner Involvement'!$H353,\";\"))),\"\")","v":""},{"$f":"IF(ISNUMBER(SEARCH(H$206,'12.Partner Involvement'!$H353))=TRUE,(('12.Partner Involvement'!$D353*'12.Partner Involvement'!$E353)/COUNTA(_xlfn.TEXTSPLIT('12.Partner Involvement'!$H353,\";\"))),\"\")","v":""}]
[{"$f":"IF(ISNUMBER(SEARCH(A$206,'12.Partner Involvement'!$G354))=TRUE,(('12.Partner Involvement'!$D354*'12.Partner Involvement'!$E354)/COUNTA(_xlfn.TEXTSPLIT('12.Partner Involvement'!$G354,\";\"))),\"\")","v":""},{"$f":"IF(ISNUMBER(SEARCH(B$206,'12.Partner Involvement'!$G354))=TRUE,(('12.Partner Involvement'!$D354*'12.Partner Involvement'!$E354)/COUNTA(_xlfn.TEXTSPLIT('12.Partner Involvement'!$G354,\";\"))),\"\")","v":""},{"$f":"IF(ISNUMBER(SEARCH(C$206,'12.Partner Involvement'!$G354))=TRUE,(('12.Partner Involvement'!$D354*'12.Partner Involvement'!$E354)/COUNTA(_xlfn.TEXTSPLIT('12.Partner Involvement'!$G354,\";\"))),\"\")","v":""},null,{"$f":"IF(ISNUMBER(SEARCH(E$206,'12.Partner Involvement'!$H354))=TRUE,(('12.Partner Involvement'!$D354*'12.Partner Involvement'!$E354)/COUNTA(_xlfn.TEXTSPLIT('12.Partner Involvement'!$H354,\";\"))),\"\")","v":""},{"$f":"IF(ISNUMBER(SEARCH(F$206,'12.Partner Involvement'!$H354))=TRUE,(('12.Partner Involvement'!$D354*'12.Partner Involvement'!$E354)/COUNTA(_xlfn.TEXTSPLIT('12.Partner Involvement'!$H354,\";\"))),\"\")","v":""},{"$f":"IF(ISNUMBER(SEARCH(G$206,'12.Partner Involvement'!$H354))=TRUE,(('12.Partner Involvement'!$D354*'12.Partner Involvement'!$E354)/COUNTA(_xlfn.TEXTSPLIT('12.Partner Involvement'!$H354,\";\"))),\"\")","v":""},{"$f":"IF(ISNUMBER(SEARCH(H$206,'12.Partner Involvement'!$H354))=TRUE,(('12.Partner Involvement'!$D354*'12.Partner Involvement'!$E354)/COUNTA(_xlfn.TEXTSPLIT('12.Partner Involvement'!$H354,\";\"))),\"\")","v":""}]
[{"$f":"IF(ISNUMBER(SEARCH(A$206,'12.Partner Involvement'!$G355))=TRUE,(('12.Partner Involvement'!$D355*'12.Partner Involvement'!$E355)/COUNTA(_xlfn.TEXTSPLIT('12.Partner Involvement'!$G355,\";\"))),\"\")","v":""},{"$f":"IF(ISNUMBER(SEARCH(B$206,'12.Partner Involvement'!$G355))=TRUE,(('12.Partner Involvement'!$D355*'12.Partner Involvement'!$E355)/COUNTA(_xlfn.TEXTSPLIT('12.Partner Involvement'!$G355,\";\"))),\"\")","v":""},{"$f":"IF(ISNUMBER(SEARCH(C$206,'12.Partner Involvement'!$G355))=TRUE,(('12.Partner Involvement'!$D355*'12.Partner Involvement'!$E355)/COUNTA(_xlfn.TEXTSPLIT('12.Partner Involvement'!$G355,\";\"))),\"\")","v":""},null,{"$f":"IF(ISNUMBER(SEARCH(E$206,'12.Partner Involvement'!$H355))=TRUE,(('12.Partner Involvement'!$D355*'12.Partner Involvement'!$E355)/COUNTA(_xlfn.TEXTSPLIT('12.Partner Involvement'!$H355,\";\"))),\"\")","v":""},{"$f":"IF(ISNUMBER(SEARCH(F$206,'12.Partner Involvement'!$H355))=TRUE,(('12.Partner Involvement'!$D355*'12.Partner Involvement'!$E355)/COUNTA(_xlfn.TEXTSPLIT('12.Partner Involvement'!$H355,\";\"))),\"\")","v":""},{"$f":"IF(ISNUMBER(SEARCH(G$206,'12.Partner Involvement'!$H355))=TRUE,(('12.Partner Involvement'!$D355*'12.Partner Involvement'!$E355)/COUNTA(_xlfn.TEXTSPLIT('12.Partner Involvement'!$H355,\";\"))),\"\")","v":""},{"$f":"IF(ISNUMBER(SEARCH(H$206,'12.Partner Involvement'!$H355))=TRUE,(('12.Partner Involvement'!$D355*'12.Partner Involvement'!$E355)/COUNTA(_xlfn.TEXTSPLIT('12.Partner Involvement'!$H355,\";\"))),\"\")","v":""}]
[{"$f":"IF(ISNUMBER(SEARCH(A$206,'12.Partner Involvement'!$G356))=TRUE,(('12.Partner Involvement'!$D356*'12.Partner Involvement'!$E356)/COUNTA(_xlfn.TEXTSPLIT('12.Partner Involvement'!$G356,\";\"))),\"\")","v":""},{"$f":"IF(ISNUMBER(SEARCH(B$206,'12.Partner Involvement'!$G356))=TRUE,(('12.Partner Involvement'!$D356*'12.Partner Involvement'!$E356)/COUNTA(_xlfn.TEXTSPLIT('12.Partner Involvement'!$G356,\";\"))),\"\")","v":""},{"$f":"IF(ISNUMBER(SEARCH(C$206,'12.Partner Involvement'!$G356))=TRUE,(('12.Partner Involvement'!$D356*'12.Partner Involvement'!$E356)/COUNTA(_xlfn.TEXTSPLIT('12.Partner Involvement'!$G356,\";\"))),\"\")","v":""},null,{"$f":"IF(ISNUMBER(SEARCH(E$206,'12.Partner Involvement'!$H356))=TRUE,(('12.Partner Involvement'!$D356*'12.Partner Involvement'!$E356)/COUNTA(_xlfn.TEXTSPLIT('12.Partner Involvement'!$H356,\";\"))),\"\")","v":""},{"$f":"IF(ISNUMBER(SEARCH(F$206,'12.Partner Involvement'!$H356))=TRUE,(('12.Partner Involvement'!$D356*'12.Partner Involvement'!$E356)/COUNTA(_xlfn.TEXTSPLIT('12.Partner Involvement'!$H356,\";\"))),\"\")","v":""},{"$f":"IF(ISNUMBER(SEARCH(G$206,'12.Partner Involvement'!$H356))=TRUE,(('12.Partner Involvement'!$D356*'12.Partner Involvement'!$E356)/COUNTA(_xlfn.TEXTSPLIT('12.Partner Involvement'!$H356,\";\"))),\"\")","v":""},{"$f":"IF(ISNUMBER(SEARCH(H$206,'12.Partner Involvement'!$H356))=TRUE,(('12.Partner Involvement'!$D356*'12.Partner Involvement'!$E356)/COUNTA(_xlfn.TEXTSPLIT('12.Partner Involvement'!$H356,\";\"))),\"\")","v":""}]
[{"$f":"IF(ISNUMBER(SEARCH(A$206,'12.Partner Involvement'!$G357))=TRUE,(('12.Partner Involvement'!$D357*'12.Partner Involvement'!$E357)/COUNTA(_xlfn.TEXTSPLIT('12.Partner Involvement'!$G357,\";\"))),\"\")","v":""},{"$f":"IF(ISNUMBER(SEARCH(B$206,'12.Partner Involvement'!$G357))=TRUE,(('12.Partner Involvement'!$D357*'12.Partner Involvement'!$E357)/COUNTA(_xlfn.TEXTSPLIT('12.Partner Involvement'!$G357,\";\"))),\"\")","v":""},{"$f":"IF(ISNUMBER(SEARCH(C$206,'12.Partner Involvement'!$G357))=TRUE,(('12.Partner Involvement'!$D357*'12.Partner Involvement'!$E357)/COUNTA(_xlfn.TEXTSPLIT('12.Partner Involvement'!$G357,\";\"))),\"\")","v":""},null,{"$f":"IF(ISNUMBER(SEARCH(E$206,'12.Partner Involvement'!$H357))=TRUE,(('12.Partner Involvement'!$D357*'12.Partner Involvement'!$E357)/COUNTA(_xlfn.TEXTSPLIT('12.Partner Involvement'!$H357,\";\"))),\"\")","v":""},{"$f":"IF(ISNUMBER(SEARCH(F$206,'12.Partner Involvement'!$H357))=TRUE,(('12.Partner Involvement'!$D357*'12.Partner Involvement'!$E357)/COUNTA(_xlfn.TEXTSPLIT('12.Partner Involvement'!$H357,\";\"))),\"\")","v":""},{"$f":"IF(ISNUMBER(SEARCH(G$206,'12.Partner Involvement'!$H357))=TRUE,(('12.Partner Involvement'!$D357*'12.Partner Involvement'!$E357)/COUNTA(_xlfn.TEXTSPLIT('12.Partner Involvement'!$H357,\";\"))),\"\")","v":""},{"$f":"IF(ISNUMBER(SEARCH(H$206,'12.Partner Involvement'!$H357))=TRUE,(('12.Partner Involvement'!$D357*'12.Partner Involvement'!$E357)/COUNTA(_xlfn.TEXTSPLIT('12.Partner Involvement'!$H357,\";\"))),\"\")","v":""}]
[{"$f":"IF(ISNUMBER(SEARCH(A$206,'12.Partner Involvement'!$G358))=TRUE,(('12.Partner Involvement'!$D358*'12.Partner Involvement'!$E358)/COUNTA(_xlfn.TEXTSPLIT('12.Partner Involvement'!$G358,\";\"))),\"\")","v":""},{"$f":"IF(ISNUMBER(SEARCH(B$206,'12.Partner Involvement'!$G358))=TRUE,(('12.Partner Involvement'!$D358*'12.Partner Involvement'!$E358)/COUNTA(_xlfn.TEXTSPLIT('12.Partner Involvement'!$G358,\";\"))),\"\")","v":""},{"$f":"IF(ISNUMBER(SEARCH(C$206,'12.Partner Involvement'!$G358))=TRUE,(('12.Partner Involvement'!$D358*'12.Partner Involvement'!$E358)/COUNTA(_xlfn.TEXTSPLIT('12.Partner Involvement'!$G358,\";\"))),\"\")","v":""},null,{"$f":"IF(ISNUMBER(SEARCH(E$206,'12.Partner Involvement'!$H358))=TRUE,(('12.Partner Involvement'!$D358*'12.Partner Involvement'!$E358)/COUNTA(_xlfn.TEXTSPLIT('12.Partner Involvement'!$H358,\";\"))),\"\")","v":""},{"$f":"IF(ISNUMBER(SEARCH(F$206,'12.Partner Involvement'!$H358))=TRUE,(('12.Partner Involvement'!$D358*'12.Partner Involvement'!$E358)/COUNTA(_xlfn.TEXTSPLIT('12.Partner Involvement'!$H358,\";\"))),\"\")","v":""},{"$f":"IF(ISNUMBER(SEARCH(G$206,'12.Partner Involvement'!$H358))=TRUE,(('12.Partner Involvement'!$D358*'12.Partner Involvement'!$E358)/COUNTA(_xlfn.TEXTSPLIT('12.Partner Involvement'!$H358,\";\"))),\"\")","v":""},{"$f":"IF(ISNUMBER(SEARCH(H$206,'12.Partner Involvement'!$H358))=TRUE,(('12.Partner Involvement'!$D358*'12.Partner Involvement'!$E358)/COUNTA(_xlfn.TEXTSPLIT('12.Partner Involvement'!$H358,\";\"))),\"\")","v":""}]
[{"$f":"IF(ISNUMBER(SEARCH(A$206,'12.Partner Involvement'!$G359))=TRUE,(('12.Partner Involvement'!$D359*'12.Partner Involvement'!$E359)/COUNTA(_xlfn.TEXTSPLIT('12.Partner Involvement'!$G359,\";\"))),\"\")","v":""},{"$f":"IF(ISNUMBER(SEARCH(B$206,'12.Partner Involvement'!$G359))=TRUE,(('12.Partner Involvement'!$D359*'12.Partner Involvement'!$E359)/COUNTA(_xlfn.TEXTSPLIT('12.Partner Involvement'!$G359,\";\"))),\"\")","v":""},{"$f":"IF(ISNUMBER(SEARCH(C$206,'12.Partner Involvement'!$G359))=TRUE,(('12.Partner Involvement'!$D359*'12.Partner Involvement'!$E359)/COUNTA(_xlfn.TEXTSPLIT('12.Partner Involvement'!$G359,\";\"))),\"\")","v":""},null,{"$f":"IF(ISNUMBER(SEARCH(E$206,'12.Partner Involvement'!$H359))=TRUE,(('12.Partner Involvement'!$D359*'12.Partner Involvement'!$E359)/COUNTA(_xlfn.TEXTSPLIT('12.Partner Involvement'!$H359,\";\"))),\"\")","v":""},{"$f":"IF(ISNUMBER(SEARCH(F$206,'12.Partner Involvement'!$H359))=TRUE,(('12.Partner Involvement'!$D359*'12.Partner Involvement'!$E359)/COUNTA(_xlfn.TEXTSPLIT('12.Partner Involvement'!$H359,\";\"))),\"\")","v":""},{"$f":"IF(ISNUMBER(SEARCH(G$206,'12.Partner Involvement'!$H359))=TRUE,(('12.Partner Involvement'!$D359*'12.Partner Involvement'!$E359)/COUNTA(_xlfn.TEXTSPLIT('12.Partner Involvement'!$H359,\";\"))),\"\")","v":""},{"$f":"IF(ISNUMBER(SEARCH(H$206,'12.Partner Involvement'!$H359))=TRUE,(('12.Partner Involvement'!$D359*'12.Partner Involvement'!$E359)/COUNTA(_xlfn.TEXTSPLIT('12.Partner Involvement'!$H359,\";\"))),\"\")","v":""}]
[{"$f":"IF(ISNUMBER(SEARCH(A$206,'12.Partner Involvement'!$G360))=TRUE,(('12.Partner Involvement'!$D360*'12.Partner Involvement'!$E360)/COUNTA(_xlfn.TEXTSPLIT('12.Partner Involvement'!$G360,\";\"))),\"\")","v":""},{"$f":"IF(ISNUMBER(SEARCH(B$206,'12.Partner Involvement'!$G360))=TRUE,(('12.Partner Involvement'!$D360*'12.Partner Involvement'!$E360)/COUNTA(_xlfn.TEXTSPLIT('12.Partner Involvement'!$G360,\";\"))),\"\")","v":""},{"$f":"IF(ISNUMBER(SEARCH(C$206,'12.Partner Involvement'!$G360))=TRUE,(('12.Partner Involvement'!$D360*'12.Partner Involvement'!$E360)/COUNTA(_xlfn.TEXTSPLIT('12.Partner Involvement'!$G360,\";\"))),\"\")","v":""},null,{"$f":"IF(ISNUMBER(SEARCH(E$206,'12.Partner Involvement'!$H360))=TRUE,(('12.Partner Involvement'!$D360*'12.Partner Involvement'!$E360)/COUNTA(_xlfn.TEXTSPLIT('12.Partner Involvement'!$H360,\";\"))),\"\")","v":""},{"$f":"IF(ISNUMBER(SEARCH(F$206,'12.Partner Involvement'!$H360))=TRUE,(('12.Partner Involvement'!$D360*'12.Partner Involvement'!$E360)/COUNTA(_xlfn.TEXTSPLIT('12.Partner Involvement'!$H360,\";\"))),\"\")","v":""},{"$f":"IF(ISNUMBER(SEARCH(G$206,'12.Partner Involvement'!$H360))=TRUE,(('12.Partner Involvement'!$D360*'12.Partner Involvement'!$E360)/COUNTA(_xlfn.TEXTSPLIT('12.Partner Involvement'!$H360,\";\"))),\"\")","v":""},{"$f":"IF(ISNUMBER(SEARCH(H$206,'12.Partner Involvement'!$H360))=TRUE,(('12.Partner Involvement'!$D360*'12.Partner Involvement'!$E360)/COUNTA(_xlfn.TEXTSPLIT('12.Partner Involvement'!$H360,\";\"))),\"\")","v":""}]
[{"$f":"IF(ISNUMBER(SEARCH(A$206,'12.Partner Involvement'!$G361))=TRUE,(('12.Partner Involvement'!$D361*'12.Partner Involvement'!$E361)/COUNTA(_xlfn.TEXTSPLIT('12.Partner Involvement'!$G361,\";\"))),\"\")","v":""},{"$f":"IF(ISNUMBER(SEARCH(B$206,'12.Partner Involvement'!$G361))=TRUE,(('12.Partner Involvement'!$D361*'12.Partner Involvement'!$E361)/COUNTA(_xlfn.TEXTSPLIT('12.Partner Involvement'!$G361,\";\"))),\"\")","v":""},{"$f":"IF(ISNUMBER(SEARCH(C$206,'12.Partner Involvement'!$G361))=TRUE,(('12.Partner Involvement'!$D361*'12.Partner Involvement'!$E361)/COUNTA(_xlfn.TEXTSPLIT('12.Partner Involvement'!$G361,\";\"))),\"\")","v":""},null,{"$f":"IF(ISNUMBER(SEARCH(E$206,'12.Partner Involvement'!$H361))=TRUE,(('12.Partner Involvement'!$D361*'12.Partner Involvement'!$E361)/COUNTA(_xlfn.TEXTSPLIT('12.Partner Involvement'!$H361,\";\"))),\"\")","v":""},{"$f":"IF(ISNUMBER(SEARCH(F$206,'12.Partner Involvement'!$H361))=TRUE,(('12.Partner Involvement'!$D361*'12.Partner Involvement'!$E361)/COUNTA(_xlfn.TEXTSPLIT('12.Partner Involvement'!$H361,\";\"))),\"\")","v":""},{"$f":"IF(ISNUMBER(SEARCH(G$206,'12.Partner Involvement'!$H361))=TRUE,(('12.Partner Involvement'!$D361*'12.Partner Involvement'!$E361)/COUNTA(_xlfn.TEXTSPLIT('12.Partner Involvement'!$H361,\";\"))),\"\")","v":""},{"$f":"IF(ISNUMBER(SEARCH(H$206,'12.Partner Involvement'!$H361))=TRUE,(('12.Partner Involvement'!$D361*'12.Partner Involvement'!$E361)/COUNTA(_xlfn.TEXTSPLIT('12.Partner Involvement'!$H361,\";\"))),\"\")","v":""}]
[{"$f":"IF(ISNUMBER(SEARCH(A$206,'12.Partner Involvement'!$G362))=TRUE,(('12.Partner Involvement'!$D362*'12.Partner Involvement'!$E362)/COUNTA(_xlfn.TEXTSPLIT('12.Partner Involvement'!$G362,\";\"))),\"\")","v":""},{"$f":"IF(ISNUMBER(SEARCH(B$206,'12.Partner Involvement'!$G362))=TRUE,(('12.Partner Involvement'!$D362*'12.Partner Involvement'!$E362)/COUNTA(_xlfn.TEXTSPLIT('12.Partner Involvement'!$G362,\";\"))),\"\")","v":""},{"$f":"IF(ISNUMBER(SEARCH(C$206,'12.Partner Involvement'!$G362))=TRUE,(('12.Partner Involvement'!$D362*'12.Partner Involvement'!$E362)/COUNTA(_xlfn.TEXTSPLIT('12.Partner Involvement'!$G362,\";\"))),\"\")","v":""},null,{"$f":"IF(ISNUMBER(SEARCH(E$206,'12.Partner Involvement'!$H362))=TRUE,(('12.Partner Involvement'!$D362*'12.Partner Involvement'!$E362)/COUNTA(_xlfn.TEXTSPLIT('12.Partner Involvement'!$H362,\";\"))),\"\")","v":""},{"$f":"IF(ISNUMBER(SEARCH(F$206,'12.Partner Involvement'!$H362))=TRUE,(('12.Partner Involvement'!$D362*'12.Partner Involvement'!$E362)/COUNTA(_xlfn.TEXTSPLIT('12.Partner Involvement'!$H362,\";\"))),\"\")","v":""},{"$f":"IF(ISNUMBER(SEARCH(G$206,'12.Partner Involvement'!$H362))=TRUE,(('12.Partner Involvement'!$D362*'12.Partner Involvement'!$E362)/COUNTA(_xlfn.TEXTSPLIT('12.Partner Involvement'!$H362,\";\"))),\"\")","v":""},{"$f":"IF(ISNUMBER(SEARCH(H$206,'12.Partner Involvement'!$H362))=TRUE,(('12.Partner Involvement'!$D362*'12.Partner Involvement'!$E362)/COUNTA(_xlfn.TEXTSPLIT('12.Partner Involvement'!$H362,\";\"))),\"\")","v":""}]
[{"$f":"IF(ISNUMBER(SEARCH(A$206,'12.Partner Involvement'!$G363))=TRUE,(('12.Partner Involvement'!$D363*'12.Partner Involvement'!$E363)/COUNTA(_xlfn.TEXTSPLIT('12.Partner Involvement'!$G363,\";\"))),\"\")","v":""},{"$f":"IF(ISNUMBER(SEARCH(B$206,'12.Partner Involvement'!$G363))=TRUE,(('12.Partner Involvement'!$D363*'12.Partner Involvement'!$E363)/COUNTA(_xlfn.TEXTSPLIT('12.Partner Involvement'!$G363,\";\"))),\"\")","v":""},{"$f":"IF(ISNUMBER(SEARCH(C$206,'12.Partner Involvement'!$G363))=TRUE,(('12.Partner Involvement'!$D363*'12.Partner Involvement'!$E363)/COUNTA(_xlfn.TEXTSPLIT('12.Partner Involvement'!$G363,\";\"))),\"\")","v":""},null,{"$f":"IF(ISNUMBER(SEARCH(E$206,'12.Partner Involvement'!$H363))=TRUE,(('12.Partner Involvement'!$D363*'12.Partner Involvement'!$E363)/COUNTA(_xlfn.TEXTSPLIT('12.Partner Involvement'!$H363,\";\"))),\"\")","v":""},{"$f":"IF(ISNUMBER(SEARCH(F$206,'12.Partner Involvement'!$H363))=TRUE,(('12.Partner Involvement'!$D363*'12.Partner Involvement'!$E363)/COUNTA(_xlfn.TEXTSPLIT('12.Partner Involvement'!$H363,\";\"))),\"\")","v":""},{"$f":"IF(ISNUMBER(SEARCH(G$206,'12.Partner Involvement'!$H363))=TRUE,(('12.Partner Involvement'!$D363*'12.Partner Involvement'!$E363)/COUNTA(_xlfn.TEXTSPLIT('12.Partner Involvement'!$H363,\";\"))),\"\")","v":""},{"$f":"IF(ISNUMBER(SEARCH(H$206,'12.Partner Involvement'!$H363))=TRUE,(('12.Partner Involvement'!$D363*'12.Partner Involvement'!$E363)/COUNTA(_xlfn.TEXTSPLIT('12.Partner Involvement'!$H363,\";\"))),\"\")","v":""}]
[{"$f":"IF(ISNUMBER(SEARCH(A$206,'12.Partner Involvement'!$G364))=TRUE,(('12.Partner Involvement'!$D364*'12.Partner Involvement'!$E364)/COUNTA(_xlfn.TEXTSPLIT('12.Partner Involvement'!$G364,\";\"))),\"\")","v":""},{"$f":"IF(ISNUMBER(SEARCH(B$206,'12.Partner Involvement'!$G364))=TRUE,(('12.Partner Involvement'!$D364*'12.Partner Involvement'!$E364)/COUNTA(_xlfn.TEXTSPLIT('12.Partner Involvement'!$G364,\";\"))),\"\")","v":""},{"$f":"IF(ISNUMBER(SEARCH(C$206,'12.Partner Involvement'!$G364))=TRUE,(('12.Partner Involvement'!$D364*'12.Partner Involvement'!$E364)/COUNTA(_xlfn.TEXTSPLIT('12.Partner Involvement'!$G364,\";\"))),\"\")","v":""},null,{"$f":"IF(ISNUMBER(SEARCH(E$206,'12.Partner Involvement'!$H364))=TRUE,(('12.Partner Involvement'!$D364*'12.Partner Involvement'!$E364)/COUNTA(_xlfn.TEXTSPLIT('12.Partner Involvement'!$H364,\";\"))),\"\")","v":""},{"$f":"IF(ISNUMBER(SEARCH(F$206,'12.Partner Involvement'!$H364))=TRUE,(('12.Partner Involvement'!$D364*'12.Partner Involvement'!$E364)/COUNTA(_xlfn.TEXTSPLIT('12.Partner Involvement'!$H364,\";\"))),\"\")","v":""},{"$f":"IF(ISNUMBER(SEARCH(G$206,'12.Partner Involvement'!$H364))=TRUE,(('12.Partner Involvement'!$D364*'12.Partner Involvement'!$E364)/COUNTA(_xlfn.TEXTSPLIT('12.Partner Involvement'!$H364,\";\"))),\"\")","v":""},{"$f":"IF(ISNUMBER(SEARCH(H$206,'12.Partner Involvement'!$H364))=TRUE,(('12.Partner Involvement'!$D364*'12.Partner Involvement'!$E364)/COUNTA(_xlfn.TEXTSPLIT('12.Partner Involvement'!$H364,\";\"))),\"\")","v":""}]
[{"$f":"IF(ISNUMBER(SEARCH(A$206,'12.Partner Involvement'!$G365))=TRUE,(('12.Partner Involvement'!$D365*'12.Partner Involvement'!$E365)/COUNTA(_xlfn.TEXTSPLIT('12.Partner Involvement'!$G365,\";\"))),\"\")","v":""},{"$f":"IF(ISNUMBER(SEARCH(B$206,'12.Partner Involvement'!$G365))=TRUE,(('12.Partner Involvement'!$D365*'12.Partner Involvement'!$E365)/COUNTA(_xlfn.TEXTSPLIT('12.Partner Involvement'!$G365,\";\"))),\"\")","v":""},{"$f":"IF(ISNUMBER(SEARCH(C$206,'12.Partner Involvement'!$G365))=TRUE,(('12.Partner Involvement'!$D365*'12.Partner Involvement'!$E365)/COUNTA(_xlfn.TEXTSPLIT('12.Partner Involvement'!$G365,\";\"))),\"\")","v":""},null,{"$f":"IF(ISNUMBER(SEARCH(E$206,'12.Partner Involvement'!$H365))=TRUE,(('12.Partner Involvement'!$D365*'12.Partner Involvement'!$E365)/COUNTA(_xlfn.TEXTSPLIT('12.Partner Involvement'!$H365,\";\"))),\"\")","v":""},{"$f":"IF(ISNUMBER(SEARCH(F$206,'12.Partner Involvement'!$H365))=TRUE,(('12.Partner Involvement'!$D365*'12.Partner Involvement'!$E365)/COUNTA(_xlfn.TEXTSPLIT('12.Partner Involvement'!$H365,\";\"))),\"\")","v":""},{"$f":"IF(ISNUMBER(SEARCH(G$206,'12.Partner Involvement'!$H365))=TRUE,(('12.Partner Involvement'!$D365*'12.Partner Involvement'!$E365)/COUNTA(_xlfn.TEXTSPLIT('12.Partner Involvement'!$H365,\";\"))),\"\")","v":""},{"$f":"IF(ISNUMBER(SEARCH(H$206,'12.Partner Involvement'!$H365))=TRUE,(('12.Partner Involvement'!$D365*'12.Partner Involvement'!$E365)/COUNTA(_xlfn.TEXTSPLIT('12.Partner Involvement'!$H365,\";\"))),\"\")","v":""}]
[{"$f":"IF(ISNUMBER(SEARCH(A$206,'12.Partner Involvement'!$G366))=TRUE,(('12.Partner Involvement'!$D366*'12.Partner Involvement'!$E366)/COUNTA(_xlfn.TEXTSPLIT('12.Partner Involvement'!$G366,\";\"))),\"\")","v":""},{"$f":"IF(ISNUMBER(SEARCH(B$206,'12.Partner Involvement'!$G366))=TRUE,(('12.Partner Involvement'!$D366*'12.Partner Involvement'!$E366)/COUNTA(_xlfn.TEXTSPLIT('12.Partner Involvement'!$G366,\";\"))),\"\")","v":""},{"$f":"IF(ISNUMBER(SEARCH(C$206,'12.Partner Involvement'!$G366))=TRUE,(('12.Partner Involvement'!$D366*'12.Partner Involvement'!$E366)/COUNTA(_xlfn.TEXTSPLIT('12.Partner Involvement'!$G366,\";\"))),\"\")","v":""},null,{"$f":"IF(ISNUMBER(SEARCH(E$206,'12.Partner Involvement'!$H366))=TRUE,(('12.Partner Involvement'!$D366*'12.Partner Involvement'!$E366)/COUNTA(_xlfn.TEXTSPLIT('12.Partner Involvement'!$H366,\";\"))),\"\")","v":""},{"$f":"IF(ISNUMBER(SEARCH(F$206,'12.Partner Involvement'!$H366))=TRUE,(('12.Partner Involvement'!$D366*'12.Partner Involvement'!$E366)/COUNTA(_xlfn.TEXTSPLIT('12.Partner Involvement'!$H366,\";\"))),\"\")","v":""},{"$f":"IF(ISNUMBER(SEARCH(G$206,'12.Partner Involvement'!$H366))=TRUE,(('12.Partner Involvement'!$D366*'12.Partner Involvement'!$E366)/COUNTA(_xlfn.TEXTSPLIT('12.Partner Involvement'!$H366,\";\"))),\"\")","v":""},{"$f":"IF(ISNUMBER(SEARCH(H$206,'12.Partner Involvement'!$H366))=TRUE,(('12.Partner Involvement'!$D366*'12.Partner Involvement'!$E366)/COUNTA(_xlfn.TEXTSPLIT('12.Partner Involvement'!$H366,\";\"))),\"\")","v":""}]
[{"$f":"IF(ISNUMBER(SEARCH(A$206,'12.Partner Involvement'!$G367))=TRUE,(('12.Partner Involvement'!$D367*'12.Partner Involvement'!$E367)/COUNTA(_xlfn.TEXTSPLIT('12.Partner Involvement'!$G367,\";\"))),\"\")","v":""},{"$f":"IF(ISNUMBER(SEARCH(B$206,'12.Partner Involvement'!$G367))=TRUE,(('12.Partner Involvement'!$D367*'12.Partner Involvement'!$E367)/COUNTA(_xlfn.TEXTSPLIT('12.Partner Involvement'!$G367,\";\"))),\"\")","v":""},{"$f":"IF(ISNUMBER(SEARCH(C$206,'12.Partner Involvement'!$G367))=TRUE,(('12.Partner Involvement'!$D367*'12.Partner Involvement'!$E367)/COUNTA(_xlfn.TEXTSPLIT('12.Partner Involvement'!$G367,\";\"))),\"\")","v":""},null,{"$f":"IF(ISNUMBER(SEARCH(E$206,'12.Partner Involvement'!$H367))=TRUE,(('12.Partner Involvement'!$D367*'12.Partner Involvement'!$E367)/COUNTA(_xlfn.TEXTSPLIT('12.Partner Involvement'!$H367,\";\"))),\"\")","v":""},{"$f":"IF(ISNUMBER(SEARCH(F$206,'12.Partner Involvement'!$H367))=TRUE,(('12.Partner Involvement'!$D367*'12.Partner Involvement'!$E367)/COUNTA(_xlfn.TEXTSPLIT('12.Partner Involvement'!$H367,\";\"))),\"\")","v":""},{"$f":"IF(ISNUMBER(SEARCH(G$206,'12.Partner Involvement'!$H367))=TRUE,(('12.Partner Involvement'!$D367*'12.Partner Involvement'!$E367)/COUNTA(_xlfn.TEXTSPLIT('12.Partner Involvement'!$H367,\";\"))),\"\")","v":""},{"$f":"IF(ISNUMBER(SEARCH(H$206,'12.Partner Involvement'!$H367))=TRUE,(('12.Partner Involvement'!$D367*'12.Partner Involvement'!$E367)/COUNTA(_xlfn.TEXTSPLIT('12.Partner Involvement'!$H367,\";\"))),\"\")","v":""}]
[{"$f":"IF(ISNUMBER(SEARCH(A$206,'12.Partner Involvement'!$G368))=TRUE,(('12.Partner Involvement'!$D368*'12.Partner Involvement'!$E368)/COUNTA(_xlfn.TEXTSPLIT('12.Partner Involvement'!$G368,\";\"))),\"\")","v":""},{"$f":"IF(ISNUMBER(SEARCH(B$206,'12.Partner Involvement'!$G368))=TRUE,(('12.Partner Involvement'!$D368*'12.Partner Involvement'!$E368)/COUNTA(_xlfn.TEXTSPLIT('12.Partner Involvement'!$G368,\";\"))),\"\")","v":""},{"$f":"IF(ISNUMBER(SEARCH(C$206,'12.Partner Involvement'!$G368))=TRUE,(('12.Partner Involvement'!$D368*'12.Partner Involvement'!$E368)/COUNTA(_xlfn.TEXTSPLIT('12.Partner Involvement'!$G368,\";\"))),\"\")","v":""},null,{"$f":"IF(ISNUMBER(SEARCH(E$206,'12.Partner Involvement'!$H368))=TRUE,(('12.Partner Involvement'!$D368*'12.Partner Involvement'!$E368)/COUNTA(_xlfn.TEXTSPLIT('12.Partner Involvement'!$H368,\";\"))),\"\")","v":""},{"$f":"IF(ISNUMBER(SEARCH(F$206,'12.Partner Involvement'!$H368))=TRUE,(('12.Partner Involvement'!$D368*'12.Partner Involvement'!$E368)/COUNTA(_xlfn.TEXTSPLIT('12.Partner Involvement'!$H368,\";\"))),\"\")","v":""},{"$f":"IF(ISNUMBER(SEARCH(G$206,'12.Partner Involvement'!$H368))=TRUE,(('12.Partner Involvement'!$D368*'12.Partner Involvement'!$E368)/COUNTA(_xlfn.TEXTSPLIT('12.Partner Involvement'!$H368,\";\"))),\"\")","v":""},{"$f":"IF(ISNUMBER(SEARCH(H$206,'12.Partner Involvement'!$H368))=TRUE,(('12.Partner Involvement'!$D368*'12.Partner Involvement'!$E368)/COUNTA(_xlfn.TEXTSPLIT('12.Partner Involvement'!$H368,\";\"))),\"\")","v":""}]
[{"$f":"IF(ISNUMBER(SEARCH(A$206,'12.Partner Involvement'!$G369))=TRUE,(('12.Partner Involvement'!$D369*'12.Partner Involvement'!$E369)/COUNTA(_xlfn.TEXTSPLIT('12.Partner Involvement'!$G369,\";\"))),\"\")","v":""},{"$f":"IF(ISNUMBER(SEARCH(B$206,'12.Partner Involvement'!$G369))=TRUE,(('12.Partner Involvement'!$D369*'12.Partner Involvement'!$E369)/COUNTA(_xlfn.TEXTSPLIT('12.Partner Involvement'!$G369,\";\"))),\"\")","v":""},{"$f":"IF(ISNUMBER(SEARCH(C$206,'12.Partner Involvement'!$G369))=TRUE,(('12.Partner Involvement'!$D369*'12.Partner Involvement'!$E369)/COUNTA(_xlfn.TEXTSPLIT('12.Partner Involvement'!$G369,\";\"))),\"\")","v":""},null,{"$f":"IF(ISNUMBER(SEARCH(E$206,'12.Partner Involvement'!$H369))=TRUE,(('12.Partner Involvement'!$D369*'12.Partner Involvement'!$E369)/COUNTA(_xlfn.TEXTSPLIT('12.Partner Involvement'!$H369,\";\"))),\"\")","v":""},{"$f":"IF(ISNUMBER(SEARCH(F$206,'12.Partner Involvement'!$H369))=TRUE,(('12.Partner Involvement'!$D369*'12.Partner Involvement'!$E369)/COUNTA(_xlfn.TEXTSPLIT('12.Partner Involvement'!$H369,\";\"))),\"\")","v":""},{"$f":"IF(ISNUMBER(SEARCH(G$206,'12.Partner Involvement'!$H369))=TRUE,(('12.Partner Involvement'!$D369*'12.Partner Involvement'!$E369)/COUNTA(_xlfn.TEXTSPLIT('12.Partner Involvement'!$H369,\";\"))),\"\")","v":""},{"$f":"IF(ISNUMBER(SEARCH(H$206,'12.Partner Involvement'!$H369))=TRUE,(('12.Partner Involvement'!$D369*'12.Partner Involvement'!$E369)/COUNTA(_xlfn.TEXTSPLIT('12.Partner Involvement'!$H369,\";\"))),\"\")","v":""}]
[{"$f":"IF(ISNUMBER(SEARCH(A$206,'12.Partner Involvement'!$G370))=TRUE,(('12.Partner Involvement'!$D370*'12.Partner Involvement'!$E370)/COUNTA(_xlfn.TEXTSPLIT('12.Partner Involvement'!$G370,\";\"))),\"\")","v":""},{"$f":"IF(ISNUMBER(SEARCH(B$206,'12.Partner Involvement'!$G370))=TRUE,(('12.Partner Involvement'!$D370*'12.Partner Involvement'!$E370)/COUNTA(_xlfn.TEXTSPLIT('12.Partner Involvement'!$G370,\";\"))),\"\")","v":""},{"$f":"IF(ISNUMBER(SEARCH(C$206,'12.Partner Involvement'!$G370))=TRUE,(('12.Partner Involvement'!$D370*'12.Partner Involvement'!$E370)/COUNTA(_xlfn.TEXTSPLIT('12.Partner Involvement'!$G370,\";\"))),\"\")","v":""},null,{"$f":"IF(ISNUMBER(SEARCH(E$206,'12.Partner Involvement'!$H370))=TRUE,(('12.Partner Involvement'!$D370*'12.Partner Involvement'!$E370)/COUNTA(_xlfn.TEXTSPLIT('12.Partner Involvement'!$H370,\";\"))),\"\")","v":""},{"$f":"IF(ISNUMBER(SEARCH(F$206,'12.Partner Involvement'!$H370))=TRUE,(('12.Partner Involvement'!$D370*'12.Partner Involvement'!$E370)/COUNTA(_xlfn.TEXTSPLIT('12.Partner Involvement'!$H370,\";\"))),\"\")","v":""},{"$f":"IF(ISNUMBER(SEARCH(G$206,'12.Partner Involvement'!$H370))=TRUE,(('12.Partner Involvement'!$D370*'12.Partner Involvement'!$E370)/COUNTA(_xlfn.TEXTSPLIT('12.Partner Involvement'!$H370,\";\"))),\"\")","v":""},{"$f":"IF(ISNUMBER(SEARCH(H$206,'12.Partner Involvement'!$H370))=TRUE,(('12.Partner Involvement'!$D370*'12.Partner Involvement'!$E370)/COUNTA(_xlfn.TEXTSPLIT('12.Partner Involvement'!$H370,\";\"))),\"\")","v":""}]
[{"$f":"IF(ISNUMBER(SEARCH(A$206,'12.Partner Involvement'!$G371))=TRUE,(('12.Partner Involvement'!$D371*'12.Partner Involvement'!$E371)/COUNTA(_xlfn.TEXTSPLIT('12.Partner Involvement'!$G371,\";\"))),\"\")","v":""},{"$f":"IF(ISNUMBER(SEARCH(B$206,'12.Partner Involvement'!$G371))=TRUE,(('12.Partner Involvement'!$D371*'12.Partner Involvement'!$E371)/COUNTA(_xlfn.TEXTSPLIT('12.Partner Involvement'!$G371,\";\"))),\"\")","v":""},{"$f":"IF(ISNUMBER(SEARCH(C$206,'12.Partner Involvement'!$G371))=TRUE,(('12.Partner Involvement'!$D371*'12.Partner Involvement'!$E371)/COUNTA(_xlfn.TEXTSPLIT('12.Partner Involvement'!$G371,\";\"))),\"\")","v":""},null,{"$f":"IF(ISNUMBER(SEARCH(E$206,'12.Partner Involvement'!$H371))=TRUE,(('12.Partner Involvement'!$D371*'12.Partner Involvement'!$E371)/COUNTA(_xlfn.TEXTSPLIT('12.Partner Involvement'!$H371,\";\"))),\"\")","v":""},{"$f":"IF(ISNUMBER(SEARCH(F$206,'12.Partner Involvement'!$H371))=TRUE,(('12.Partner Involvement'!$D371*'12.Partner Involvement'!$E371)/COUNTA(_xlfn.TEXTSPLIT('12.Partner Involvement'!$H371,\";\"))),\"\")","v":""},{"$f":"IF(ISNUMBER(SEARCH(G$206,'12.Partner Involvement'!$H371))=TRUE,(('12.Partner Involvement'!$D371*'12.Partner Involvement'!$E371)/COUNTA(_xlfn.TEXTSPLIT('12.Partner Involvement'!$H371,\";\"))),\"\")","v":""},{"$f":"IF(ISNUMBER(SEARCH(H$206,'12.Partner Involvement'!$H371))=TRUE,(('12.Partner Involvement'!$D371*'12.Partner Involvement'!$E371)/COUNTA(_xlfn.TEXTSPLIT('12.Partner Involvement'!$H371,\";\"))),\"\")","v":""}]
[{"$f":"IF(ISNUMBER(SEARCH(A$206,'12.Partner Involvement'!$G372))=TRUE,(('12.Partner Involvement'!$D372*'12.Partner Involvement'!$E372)/COUNTA(_xlfn.TEXTSPLIT('12.Partner Involvement'!$G372,\";\"))),\"\")","v":""},{"$f":"IF(ISNUMBER(SEARCH(B$206,'12.Partner Involvement'!$G372))=TRUE,(('12.Partner Involvement'!$D372*'12.Partner Involvement'!$E372)/COUNTA(_xlfn.TEXTSPLIT('12.Partner Involvement'!$G372,\";\"))),\"\")","v":""},{"$f":"IF(ISNUMBER(SEARCH(C$206,'12.Partner Involvement'!$G372))=TRUE,(('12.Partner Involvement'!$D372*'12.Partner Involvement'!$E372)/COUNTA(_xlfn.TEXTSPLIT('12.Partner Involvement'!$G372,\";\"))),\"\")","v":""},null,{"$f":"IF(ISNUMBER(SEARCH(E$206,'12.Partner Involvement'!$H372))=TRUE,(('12.Partner Involvement'!$D372*'12.Partner Involvement'!$E372)/COUNTA(_xlfn.TEXTSPLIT('12.Partner Involvement'!$H372,\";\"))),\"\")","v":""},{"$f":"IF(ISNUMBER(SEARCH(F$206,'12.Partner Involvement'!$H372))=TRUE,(('12.Partner Involvement'!$D372*'12.Partner Involvement'!$E372)/COUNTA(_xlfn.TEXTSPLIT('12.Partner Involvement'!$H372,\";\"))),\"\")","v":""},{"$f":"IF(ISNUMBER(SEARCH(G$206,'12.Partner Involvement'!$H372))=TRUE,(('12.Partner Involvement'!$D372*'12.Partner Involvement'!$E372)/COUNTA(_xlfn.TEXTSPLIT('12.Partner Involvement'!$H372,\";\"))),\"\")","v":""},{"$f":"IF(ISNUMBER(SEARCH(H$206,'12.Partner Involvement'!$H372))=TRUE,(('12.Partner Involvement'!$D372*'12.Partner Involvement'!$E372)/COUNTA(_xlfn.TEXTSPLIT('12.Partner Involvement'!$H372,\";\"))),\"\")","v":""}]
[{"$f":"IF(ISNUMBER(SEARCH(A$206,'12.Partner Involvement'!$G373))=TRUE,(('12.Partner Involvement'!$D373*'12.Partner Involvement'!$E373)/COUNTA(_xlfn.TEXTSPLIT('12.Partner Involvement'!$G373,\";\"))),\"\")","v":""},{"$f":"IF(ISNUMBER(SEARCH(B$206,'12.Partner Involvement'!$G373))=TRUE,(('12.Partner Involvement'!$D373*'12.Partner Involvement'!$E373)/COUNTA(_xlfn.TEXTSPLIT('12.Partner Involvement'!$G373,\";\"))),\"\")","v":""},{"$f":"IF(ISNUMBER(SEARCH(C$206,'12.Partner Involvement'!$G373))=TRUE,(('12.Partner Involvement'!$D373*'12.Partner Involvement'!$E373)/COUNTA(_xlfn.TEXTSPLIT('12.Partner Involvement'!$G373,\";\"))),\"\")","v":""},null,{"$f":"IF(ISNUMBER(SEARCH(E$206,'12.Partner Involvement'!$H373))=TRUE,(('12.Partner Involvement'!$D373*'12.Partner Involvement'!$E373)/COUNTA(_xlfn.TEXTSPLIT('12.Partner Involvement'!$H373,\";\"))),\"\")","v":""},{"$f":"IF(ISNUMBER(SEARCH(F$206,'12.Partner Involvement'!$H373))=TRUE,(('12.Partner Involvement'!$D373*'12.Partner Involvement'!$E373)/COUNTA(_xlfn.TEXTSPLIT('12.Partner Involvement'!$H373,\";\"))),\"\")","v":""},{"$f":"IF(ISNUMBER(SEARCH(G$206,'12.Partner Involvement'!$H373))=TRUE,(('12.Partner Involvement'!$D373*'12.Partner Involvement'!$E373)/COUNTA(_xlfn.TEXTSPLIT('12.Partner Involvement'!$H373,\";\"))),\"\")","v":""},{"$f":"IF(ISNUMBER(SEARCH(H$206,'12.Partner Involvement'!$H373))=TRUE,(('12.Partner Involvement'!$D373*'12.Partner Involvement'!$E373)/COUNTA(_xlfn.TEXTSPLIT('12.Partner Involvement'!$H373,\";\"))),\"\")","v":""}]
[{"$f":"IF(ISNUMBER(SEARCH(A$206,'12.Partner Involvement'!$G374))=TRUE,(('12.Partner Involvement'!$D374*'12.Partner Involvement'!$E374)/COUNTA(_xlfn.TEXTSPLIT('12.Partner Involvement'!$G374,\";\"))),\"\")","v":""},{"$f":"IF(ISNUMBER(SEARCH(B$206,'12.Partner Involvement'!$G374))=TRUE,(('12.Partner Involvement'!$D374*'12.Partner Involvement'!$E374)/COUNTA(_xlfn.TEXTSPLIT('12.Partner Involvement'!$G374,\";\"))),\"\")","v":""},{"$f":"IF(ISNUMBER(SEARCH(C$206,'12.Partner Involvement'!$G374))=TRUE,(('12.Partner Involvement'!$D374*'12.Partner Involvement'!$E374)/COUNTA(_xlfn.TEXTSPLIT('12.Partner Involvement'!$G374,\";\"))),\"\")","v":""},null,{"$f":"IF(ISNUMBER(SEARCH(E$206,'12.Partner Involvement'!$H374))=TRUE,(('12.Partner Involvement'!$D374*'12.Partner Involvement'!$E374)/COUNTA(_xlfn.TEXTSPLIT('12.Partner Involvement'!$H374,\";\"))),\"\")","v":""},{"$f":"IF(ISNUMBER(SEARCH(F$206,'12.Partner Involvement'!$H374))=TRUE,(('12.Partner Involvement'!$D374*'12.Partner Involvement'!$E374)/COUNTA(_xlfn.TEXTSPLIT('12.Partner Involvement'!$H374,\";\"))),\"\")","v":""},{"$f":"IF(ISNUMBER(SEARCH(G$206,'12.Partner Involvement'!$H374))=TRUE,(('12.Partner Involvement'!$D374*'12.Partner Involvement'!$E374)/COUNTA(_xlfn.TEXTSPLIT('12.Partner Involvement'!$H374,\";\"))),\"\")","v":""},{"$f":"IF(ISNUMBER(SEARCH(H$206,'12.Partner Involvement'!$H374))=TRUE,(('12.Partner Involvement'!$D374*'12.Partner Involvement'!$E374)/COUNTA(_xlfn.TEXTSPLIT('12.Partner Involvement'!$H374,\";\"))),\"\")","v":""}]
[{"$f":"IF(ISNUMBER(SEARCH(A$206,'12.Partner Involvement'!$G375))=TRUE,(('12.Partner Involvement'!$D375*'12.Partner Involvement'!$E375)/COUNTA(_xlfn.TEXTSPLIT('12.Partner Involvement'!$G375,\";\"))),\"\")","v":""},{"$f":"IF(ISNUMBER(SEARCH(B$206,'12.Partner Involvement'!$G375))=TRUE,(('12.Partner Involvement'!$D375*'12.Partner Involvement'!$E375)/COUNTA(_xlfn.TEXTSPLIT('12.Partner Involvement'!$G375,\";\"))),\"\")","v":""},{"$f":"IF(ISNUMBER(SEARCH(C$206,'12.Partner Involvement'!$G375))=TRUE,(('12.Partner Involvement'!$D375*'12.Partner Involvement'!$E375)/COUNTA(_xlfn.TEXTSPLIT('12.Partner Involvement'!$G375,\";\"))),\"\")","v":""},null,{"$f":"IF(ISNUMBER(SEARCH(E$206,'12.Partner Involvement'!$H375))=TRUE,(('12.Partner Involvement'!$D375*'12.Partner Involvement'!$E375)/COUNTA(_xlfn.TEXTSPLIT('12.Partner Involvement'!$H375,\";\"))),\"\")","v":""},{"$f":"IF(ISNUMBER(SEARCH(F$206,'12.Partner Involvement'!$H375))=TRUE,(('12.Partner Involvement'!$D375*'12.Partner Involvement'!$E375)/COUNTA(_xlfn.TEXTSPLIT('12.Partner Involvement'!$H375,\";\"))),\"\")","v":""},{"$f":"IF(ISNUMBER(SEARCH(G$206,'12.Partner Involvement'!$H375))=TRUE,(('12.Partner Involvement'!$D375*'12.Partner Involvement'!$E375)/COUNTA(_xlfn.TEXTSPLIT('12.Partner Involvement'!$H375,\";\"))),\"\")","v":""},{"$f":"IF(ISNUMBER(SEARCH(H$206,'12.Partner Involvement'!$H375))=TRUE,(('12.Partner Involvement'!$D375*'12.Partner Involvement'!$E375)/COUNTA(_xlfn.TEXTSPLIT('12.Partner Involvement'!$H375,\";\"))),\"\")","v":""}]
[{"$f":"IF(ISNUMBER(SEARCH(A$206,'12.Partner Involvement'!$G376))=TRUE,(('12.Partner Involvement'!$D376*'12.Partner Involvement'!$E376)/COUNTA(_xlfn.TEXTSPLIT('12.Partner Involvement'!$G376,\";\"))),\"\")","v":""},{"$f":"IF(ISNUMBER(SEARCH(B$206,'12.Partner Involvement'!$G376))=TRUE,(('12.Partner Involvement'!$D376*'12.Partner Involvement'!$E376)/COUNTA(_xlfn.TEXTSPLIT('12.Partner Involvement'!$G376,\";\"))),\"\")","v":""},{"$f":"IF(ISNUMBER(SEARCH(C$206,'12.Partner Involvement'!$G376))=TRUE,(('12.Partner Involvement'!$D376*'12.Partner Involvement'!$E376)/COUNTA(_xlfn.TEXTSPLIT('12.Partner Involvement'!$G376,\";\"))),\"\")","v":""},null,{"$f":"IF(ISNUMBER(SEARCH(E$206,'12.Partner Involvement'!$H376))=TRUE,(('12.Partner Involvement'!$D376*'12.Partner Involvement'!$E376)/COUNTA(_xlfn.TEXTSPLIT('12.Partner Involvement'!$H376,\";\"))),\"\")","v":""},{"$f":"IF(ISNUMBER(SEARCH(F$206,'12.Partner Involvement'!$H376))=TRUE,(('12.Partner Involvement'!$D376*'12.Partner Involvement'!$E376)/COUNTA(_xlfn.TEXTSPLIT('12.Partner Involvement'!$H376,\";\"))),\"\")","v":""},{"$f":"IF(ISNUMBER(SEARCH(G$206,'12.Partner Involvement'!$H376))=TRUE,(('12.Partner Involvement'!$D376*'12.Partner Involvement'!$E376)/COUNTA(_xlfn.TEXTSPLIT('12.Partner Involvement'!$H376,\";\"))),\"\")","v":""},{"$f":"IF(ISNUMBER(SEARCH(H$206,'12.Partner Involvement'!$H376))=TRUE,(('12.Partner Involvement'!$D376*'12.Partner Involvement'!$E376)/COUNTA(_xlfn.TEXTSPLIT('12.Partner Involvement'!$H376,\";\"))),\"\")","v":""}]
[{"$f":"IF(ISNUMBER(SEARCH(A$206,'12.Partner Involvement'!$G377))=TRUE,(('12.Partner Involvement'!$D377*'12.Partner Involvement'!$E377)/COUNTA(_xlfn.TEXTSPLIT('12.Partner Involvement'!$G377,\";\"))),\"\")","v":""},{"$f":"IF(ISNUMBER(SEARCH(B$206,'12.Partner Involvement'!$G377))=TRUE,(('12.Partner Involvement'!$D377*'12.Partner Involvement'!$E377)/COUNTA(_xlfn.TEXTSPLIT('12.Partner Involvement'!$G377,\";\"))),\"\")","v":""},{"$f":"IF(ISNUMBER(SEARCH(C$206,'12.Partner Involvement'!$G377))=TRUE,(('12.Partner Involvement'!$D377*'12.Partner Involvement'!$E377)/COUNTA(_xlfn.TEXTSPLIT('12.Partner Involvement'!$G377,\";\"))),\"\")","v":""},null,{"$f":"IF(ISNUMBER(SEARCH(E$206,'12.Partner Involvement'!$H377))=TRUE,(('12.Partner Involvement'!$D377*'12.Partner Involvement'!$E377)/COUNTA(_xlfn.TEXTSPLIT('12.Partner Involvement'!$H377,\";\"))),\"\")","v":""},{"$f":"IF(ISNUMBER(SEARCH(F$206,'12.Partner Involvement'!$H377))=TRUE,(('12.Partner Involvement'!$D377*'12.Partner Involvement'!$E377)/COUNTA(_xlfn.TEXTSPLIT('12.Partner Involvement'!$H377,\";\"))),\"\")","v":""},{"$f":"IF(ISNUMBER(SEARCH(G$206,'12.Partner Involvement'!$H377))=TRUE,(('12.Partner Involvement'!$D377*'12.Partner Involvement'!$E377)/COUNTA(_xlfn.TEXTSPLIT('12.Partner Involvement'!$H377,\";\"))),\"\")","v":""},{"$f":"IF(ISNUMBER(SEARCH(H$206,'12.Partner Involvement'!$H377))=TRUE,(('12.Partner Involvement'!$D377*'12.Partner Involvement'!$E377)/COUNTA(_xlfn.TEXTSPLIT('12.Partner Involvement'!$H377,\";\"))),\"\")","v":""}]
[{"$f":"IF(ISNUMBER(SEARCH(A$206,'12.Partner Involvement'!$G378))=TRUE,(('12.Partner Involvement'!$D378*'12.Partner Involvement'!$E378)/COUNTA(_xlfn.TEXTSPLIT('12.Partner Involvement'!$G378,\";\"))),\"\")","v":""},{"$f":"IF(ISNUMBER(SEARCH(B$206,'12.Partner Involvement'!$G378))=TRUE,(('12.Partner Involvement'!$D378*'12.Partner Involvement'!$E378)/COUNTA(_xlfn.TEXTSPLIT('12.Partner Involvement'!$G378,\";\"))),\"\")","v":""},{"$f":"IF(ISNUMBER(SEARCH(C$206,'12.Partner Involvement'!$G378))=TRUE,(('12.Partner Involvement'!$D378*'12.Partner Involvement'!$E378)/COUNTA(_xlfn.TEXTSPLIT('12.Partner Involvement'!$G378,\";\"))),\"\")","v":""},null,{"$f":"IF(ISNUMBER(SEARCH(E$206,'12.Partner Involvement'!$H378))=TRUE,(('12.Partner Involvement'!$D378*'12.Partner Involvement'!$E378)/COUNTA(_xlfn.TEXTSPLIT('12.Partner Involvement'!$H378,\";\"))),\"\")","v":""},{"$f":"IF(ISNUMBER(SEARCH(F$206,'12.Partner Involvement'!$H378))=TRUE,(('12.Partner Involvement'!$D378*'12.Partner Involvement'!$E378)/COUNTA(_xlfn.TEXTSPLIT('12.Partner Involvement'!$H378,\";\"))),\"\")","v":""},{"$f":"IF(ISNUMBER(SEARCH(G$206,'12.Partner Involvement'!$H378))=TRUE,(('12.Partner Involvement'!$D378*'12.Partner Involvement'!$E378)/COUNTA(_xlfn.TEXTSPLIT('12.Partner Involvement'!$H378,\";\"))),\"\")","v":""},{"$f":"IF(ISNUMBER(SEARCH(H$206,'12.Partner Involvement'!$H378))=TRUE,(('12.Partner Involvement'!$D378*'12.Partner Involvement'!$E378)/COUNTA(_xlfn.TEXTSPLIT('12.Partner Involvement'!$H378,\";\"))),\"\")","v":""}]
[{"$f":"IF(ISNUMBER(SEARCH(A$206,'12.Partner Involvement'!$G379))=TRUE,(('12.Partner Involvement'!$D379*'12.Partner Involvement'!$E379)/COUNTA(_xlfn.TEXTSPLIT('12.Partner Involvement'!$G379,\";\"))),\"\")","v":""},{"$f":"IF(ISNUMBER(SEARCH(B$206,'12.Partner Involvement'!$G379))=TRUE,(('12.Partner Involvement'!$D379*'12.Partner Involvement'!$E379)/COUNTA(_xlfn.TEXTSPLIT('12.Partner Involvement'!$G379,\";\"))),\"\")","v":""},{"$f":"IF(ISNUMBER(SEARCH(C$206,'12.Partner Involvement'!$G379))=TRUE,(('12.Partner Involvement'!$D379*'12.Partner Involvement'!$E379)/COUNTA(_xlfn.TEXTSPLIT('12.Partner Involvement'!$G379,\";\"))),\"\")","v":""},null,{"$f":"IF(ISNUMBER(SEARCH(E$206,'12.Partner Involvement'!$H379))=TRUE,(('12.Partner Involvement'!$D379*'12.Partner Involvement'!$E379)/COUNTA(_xlfn.TEXTSPLIT('12.Partner Involvement'!$H379,\";\"))),\"\")","v":""},{"$f":"IF(ISNUMBER(SEARCH(F$206,'12.Partner Involvement'!$H379))=TRUE,(('12.Partner Involvement'!$D379*'12.Partner Involvement'!$E379)/COUNTA(_xlfn.TEXTSPLIT('12.Partner Involvement'!$H379,\";\"))),\"\")","v":""},{"$f":"IF(ISNUMBER(SEARCH(G$206,'12.Partner Involvement'!$H379))=TRUE,(('12.Partner Involvement'!$D379*'12.Partner Involvement'!$E379)/COUNTA(_xlfn.TEXTSPLIT('12.Partner Involvement'!$H379,\";\"))),\"\")","v":""},{"$f":"IF(ISNUMBER(SEARCH(H$206,'12.Partner Involvement'!$H379))=TRUE,(('12.Partner Involvement'!$D379*'12.Partner Involvement'!$E379)/COUNTA(_xlfn.TEXTSPLIT('12.Partner Involvement'!$H379,\";\"))),\"\")","v":""}]
[{"$f":"IF(ISNUMBER(SEARCH(A$206,'12.Partner Involvement'!$G380))=TRUE,(('12.Partner Involvement'!$D380*'12.Partner Involvement'!$E380)/COUNTA(_xlfn.TEXTSPLIT('12.Partner Involvement'!$G380,\";\"))),\"\")","v":""},{"$f":"IF(ISNUMBER(SEARCH(B$206,'12.Partner Involvement'!$G380))=TRUE,(('12.Partner Involvement'!$D380*'12.Partner Involvement'!$E380)/COUNTA(_xlfn.TEXTSPLIT('12.Partner Involvement'!$G380,\";\"))),\"\")","v":""},{"$f":"IF(ISNUMBER(SEARCH(C$206,'12.Partner Involvement'!$G380))=TRUE,(('12.Partner Involvement'!$D380*'12.Partner Involvement'!$E380)/COUNTA(_xlfn.TEXTSPLIT('12.Partner Involvement'!$G380,\";\"))),\"\")","v":""},null,{"$f":"IF(ISNUMBER(SEARCH(E$206,'12.Partner Involvement'!$H380))=TRUE,(('12.Partner Involvement'!$D380*'12.Partner Involvement'!$E380)/COUNTA(_xlfn.TEXTSPLIT('12.Partner Involvement'!$H380,\";\"))),\"\")","v":""},{"$f":"IF(ISNUMBER(SEARCH(F$206,'12.Partner Involvement'!$H380))=TRUE,(('12.Partner Involvement'!$D380*'12.Partner Involvement'!$E380)/COUNTA(_xlfn.TEXTSPLIT('12.Partner Involvement'!$H380,\";\"))),\"\")","v":""},{"$f":"IF(ISNUMBER(SEARCH(G$206,'12.Partner Involvement'!$H380))=TRUE,(('12.Partner Involvement'!$D380*'12.Partner Involvement'!$E380)/COUNTA(_xlfn.TEXTSPLIT('12.Partner Involvement'!$H380,\";\"))),\"\")","v":""},{"$f":"IF(ISNUMBER(SEARCH(H$206,'12.Partner Involvement'!$H380))=TRUE,(('12.Partner Involvement'!$D380*'12.Partner Involvement'!$E380)/COUNTA(_xlfn.TEXTSPLIT('12.Partner Involvement'!$H380,\";\"))),\"\")","v":""}]
[{"$f":"IF(ISNUMBER(SEARCH(A$206,'12.Partner Involvement'!$G381))=TRUE,(('12.Partner Involvement'!$D381*'12.Partner Involvement'!$E381)/COUNTA(_xlfn.TEXTSPLIT('12.Partner Involvement'!$G381,\";\"))),\"\")","v":""},{"$f":"IF(ISNUMBER(SEARCH(B$206,'12.Partner Involvement'!$G381))=TRUE,(('12.Partner Involvement'!$D381*'12.Partner Involvement'!$E381)/COUNTA(_xlfn.TEXTSPLIT('12.Partner Involvement'!$G381,\";\"))),\"\")","v":""},{"$f":"IF(ISNUMBER(SEARCH(C$206,'12.Partner Involvement'!$G381))=TRUE,(('12.Partner Involvement'!$D381*'12.Partner Involvement'!$E381)/COUNTA(_xlfn.TEXTSPLIT('12.Partner Involvement'!$G381,\";\"))),\"\")","v":""},null,{"$f":"IF(ISNUMBER(SEARCH(E$206,'12.Partner Involvement'!$H381))=TRUE,(('12.Partner Involvement'!$D381*'12.Partner Involvement'!$E381)/COUNTA(_xlfn.TEXTSPLIT('12.Partner Involvement'!$H381,\";\"))),\"\")","v":""},{"$f":"IF(ISNUMBER(SEARCH(F$206,'12.Partner Involvement'!$H381))=TRUE,(('12.Partner Involvement'!$D381*'12.Partner Involvement'!$E381)/COUNTA(_xlfn.TEXTSPLIT('12.Partner Involvement'!$H381,\";\"))),\"\")","v":""},{"$f":"IF(ISNUMBER(SEARCH(G$206,'12.Partner Involvement'!$H381))=TRUE,(('12.Partner Involvement'!$D381*'12.Partner Involvement'!$E381)/COUNTA(_xlfn.TEXTSPLIT('12.Partner Involvement'!$H381,\";\"))),\"\")","v":""},{"$f":"IF(ISNUMBER(SEARCH(H$206,'12.Partner Involvement'!$H381))=TRUE,(('12.Partner Involvement'!$D381*'12.Partner Involvement'!$E381)/COUNTA(_xlfn.TEXTSPLIT('12.Partner Involvement'!$H381,\";\"))),\"\")","v":""}]
[{"$f":"IF(ISNUMBER(SEARCH(A$206,'12.Partner Involvement'!$G382))=TRUE,(('12.Partner Involvement'!$D382*'12.Partner Involvement'!$E382)/COUNTA(_xlfn.TEXTSPLIT('12.Partner Involvement'!$G382,\";\"))),\"\")","v":""},{"$f":"IF(ISNUMBER(SEARCH(B$206,'12.Partner Involvement'!$G382))=TRUE,(('12.Partner Involvement'!$D382*'12.Partner Involvement'!$E382)/COUNTA(_xlfn.TEXTSPLIT('12.Partner Involvement'!$G382,\";\"))),\"\")","v":""},{"$f":"IF(ISNUMBER(SEARCH(C$206,'12.Partner Involvement'!$G382))=TRUE,(('12.Partner Involvement'!$D382*'12.Partner Involvement'!$E382)/COUNTA(_xlfn.TEXTSPLIT('12.Partner Involvement'!$G382,\";\"))),\"\")","v":""},null,{"$f":"IF(ISNUMBER(SEARCH(E$206,'12.Partner Involvement'!$H382))=TRUE,(('12.Partner Involvement'!$D382*'12.Partner Involvement'!$E382)/COUNTA(_xlfn.TEXTSPLIT('12.Partner Involvement'!$H382,\";\"))),\"\")","v":""},{"$f":"IF(ISNUMBER(SEARCH(F$206,'12.Partner Involvement'!$H382))=TRUE,(('12.Partner Involvement'!$D382*'12.Partner Involvement'!$E382)/COUNTA(_xlfn.TEXTSPLIT('12.Partner Involvement'!$H382,\";\"))),\"\")","v":""},{"$f":"IF(ISNUMBER(SEARCH(G$206,'12.Partner Involvement'!$H382))=TRUE,(('12.Partner Involvement'!$D382*'12.Partner Involvement'!$E382)/COUNTA(_xlfn.TEXTSPLIT('12.Partner Involvement'!$H382,\";\"))),\"\")","v":""},{"$f":"IF(ISNUMBER(SEARCH(H$206,'12.Partner Involvement'!$H382))=TRUE,(('12.Partner Involvement'!$D382*'12.Partner Involvement'!$E382)/COUNTA(_xlfn.TEXTSPLIT('12.Partner Involvement'!$H382,\";\"))),\"\")","v":""}]
[{"$f":"IF(ISNUMBER(SEARCH(A$206,'12.Partner Involvement'!$G383))=TRUE,(('12.Partner Involvement'!$D383*'12.Partner Involvement'!$E383)/COUNTA(_xlfn.TEXTSPLIT('12.Partner Involvement'!$G383,\";\"))),\"\")","v":""},{"$f":"IF(ISNUMBER(SEARCH(B$206,'12.Partner Involvement'!$G383))=TRUE,(('12.Partner Involvement'!$D383*'12.Partner Involvement'!$E383)/COUNTA(_xlfn.TEXTSPLIT('12.Partner Involvement'!$G383,\";\"))),\"\")","v":""},{"$f":"IF(ISNUMBER(SEARCH(C$206,'12.Partner Involvement'!$G383))=TRUE,(('12.Partner Involvement'!$D383*'12.Partner Involvement'!$E383)/COUNTA(_xlfn.TEXTSPLIT('12.Partner Involvement'!$G383,\";\"))),\"\")","v":""},null,{"$f":"IF(ISNUMBER(SEARCH(E$206,'12.Partner Involvement'!$H383))=TRUE,(('12.Partner Involvement'!$D383*'12.Partner Involvement'!$E383)/COUNTA(_xlfn.TEXTSPLIT('12.Partner Involvement'!$H383,\";\"))),\"\")","v":""},{"$f":"IF(ISNUMBER(SEARCH(F$206,'12.Partner Involvement'!$H383))=TRUE,(('12.Partner Involvement'!$D383*'12.Partner Involvement'!$E383)/COUNTA(_xlfn.TEXTSPLIT('12.Partner Involvement'!$H383,\";\"))),\"\")","v":""},{"$f":"IF(ISNUMBER(SEARCH(G$206,'12.Partner Involvement'!$H383))=TRUE,(('12.Partner Involvement'!$D383*'12.Partner Involvement'!$E383)/COUNTA(_xlfn.TEXTSPLIT('12.Partner Involvement'!$H383,\";\"))),\"\")","v":""},{"$f":"IF(ISNUMBER(SEARCH(H$206,'12.Partner Involvement'!$H383))=TRUE,(('12.Partner Involvement'!$D383*'12.Partner Involvement'!$E383)/COUNTA(_xlfn.TEXTSPLIT('12.Partner Involvement'!$H383,\";\"))),\"\")","v":""}]
[{"$f":"IF(ISNUMBER(SEARCH(A$206,'12.Partner Involvement'!$G384))=TRUE,(('12.Partner Involvement'!$D384*'12.Partner Involvement'!$E384)/COUNTA(_xlfn.TEXTSPLIT('12.Partner Involvement'!$G384,\";\"))),\"\")","v":""},{"$f":"IF(ISNUMBER(SEARCH(B$206,'12.Partner Involvement'!$G384))=TRUE,(('12.Partner Involvement'!$D384*'12.Partner Involvement'!$E384)/COUNTA(_xlfn.TEXTSPLIT('12.Partner Involvement'!$G384,\";\"))),\"\")","v":""},{"$f":"IF(ISNUMBER(SEARCH(C$206,'12.Partner Involvement'!$G384))=TRUE,(('12.Partner Involvement'!$D384*'12.Partner Involvement'!$E384)/COUNTA(_xlfn.TEXTSPLIT('12.Partner Involvement'!$G384,\";\"))),\"\")","v":""},null,{"$f":"IF(ISNUMBER(SEARCH(E$206,'12.Partner Involvement'!$H384))=TRUE,(('12.Partner Involvement'!$D384*'12.Partner Involvement'!$E384)/COUNTA(_xlfn.TEXTSPLIT('12.Partner Involvement'!$H384,\";\"))),\"\")","v":""},{"$f":"IF(ISNUMBER(SEARCH(F$206,'12.Partner Involvement'!$H384))=TRUE,(('12.Partner Involvement'!$D384*'12.Partner Involvement'!$E384)/COUNTA(_xlfn.TEXTSPLIT('12.Partner Involvement'!$H384,\";\"))),\"\")","v":""},{"$f":"IF(ISNUMBER(SEARCH(G$206,'12.Partner Involvement'!$H384))=TRUE,(('12.Partner Involvement'!$D384*'12.Partner Involvement'!$E384)/COUNTA(_xlfn.TEXTSPLIT('12.Partner Involvement'!$H384,\";\"))),\"\")","v":""},{"$f":"IF(ISNUMBER(SEARCH(H$206,'12.Partner Involvement'!$H384))=TRUE,(('12.Partner Involvement'!$D384*'12.Partner Involvement'!$E384)/COUNTA(_xlfn.TEXTSPLIT('12.Partner Involvement'!$H384,\";\"))),\"\")","v":""}]
[{"$f":"IF(ISNUMBER(SEARCH(A$206,'12.Partner Involvement'!$G385))=TRUE,(('12.Partner Involvement'!$D385*'12.Partner Involvement'!$E385)/COUNTA(_xlfn.TEXTSPLIT('12.Partner Involvement'!$G385,\";\"))),\"\")","v":""},{"$f":"IF(ISNUMBER(SEARCH(B$206,'12.Partner Involvement'!$G385))=TRUE,(('12.Partner Involvement'!$D385*'12.Partner Involvement'!$E385)/COUNTA(_xlfn.TEXTSPLIT('12.Partner Involvement'!$G385,\";\"))),\"\")","v":""},{"$f":"IF(ISNUMBER(SEARCH(C$206,'12.Partner Involvement'!$G385))=TRUE,(('12.Partner Involvement'!$D385*'12.Partner Involvement'!$E385)/COUNTA(_xlfn.TEXTSPLIT('12.Partner Involvement'!$G385,\";\"))),\"\")","v":""},null,{"$f":"IF(ISNUMBER(SEARCH(E$206,'12.Partner Involvement'!$H385))=TRUE,(('12.Partner Involvement'!$D385*'12.Partner Involvement'!$E385)/COUNTA(_xlfn.TEXTSPLIT('12.Partner Involvement'!$H385,\";\"))),\"\")","v":""},{"$f":"IF(ISNUMBER(SEARCH(F$206,'12.Partner Involvement'!$H385))=TRUE,(('12.Partner Involvement'!$D385*'12.Partner Involvement'!$E385)/COUNTA(_xlfn.TEXTSPLIT('12.Partner Involvement'!$H385,\";\"))),\"\")","v":""},{"$f":"IF(ISNUMBER(SEARCH(G$206,'12.Partner Involvement'!$H385))=TRUE,(('12.Partner Involvement'!$D385*'12.Partner Involvement'!$E385)/COUNTA(_xlfn.TEXTSPLIT('12.Partner Involvement'!$H385,\";\"))),\"\")","v":""},{"$f":"IF(ISNUMBER(SEARCH(H$206,'12.Partner Involvement'!$H385))=TRUE,(('12.Partner Involvement'!$D385*'12.Partner Involvement'!$E385)/COUNTA(_xlfn.TEXTSPLIT('12.Partner Involvement'!$H385,\";\"))),\"\")","v":""}]
[{"$f":"IF(ISNUMBER(SEARCH(A$206,'12.Partner Involvement'!$G386))=TRUE,(('12.Partner Involvement'!$D386*'12.Partner Involvement'!$E386)/COUNTA(_xlfn.TEXTSPLIT('12.Partner Involvement'!$G386,\";\"))),\"\")","v":""},{"$f":"IF(ISNUMBER(SEARCH(B$206,'12.Partner Involvement'!$G386))=TRUE,(('12.Partner Involvement'!$D386*'12.Partner Involvement'!$E386)/COUNTA(_xlfn.TEXTSPLIT('12.Partner Involvement'!$G386,\";\"))),\"\")","v":""},{"$f":"IF(ISNUMBER(SEARCH(C$206,'12.Partner Involvement'!$G386))=TRUE,(('12.Partner Involvement'!$D386*'12.Partner Involvement'!$E386)/COUNTA(_xlfn.TEXTSPLIT('12.Partner Involvement'!$G386,\";\"))),\"\")","v":""},null,{"$f":"IF(ISNUMBER(SEARCH(E$206,'12.Partner Involvement'!$H386))=TRUE,(('12.Partner Involvement'!$D386*'12.Partner Involvement'!$E386)/COUNTA(_xlfn.TEXTSPLIT('12.Partner Involvement'!$H386,\";\"))),\"\")","v":""},{"$f":"IF(ISNUMBER(SEARCH(F$206,'12.Partner Involvement'!$H386))=TRUE,(('12.Partner Involvement'!$D386*'12.Partner Involvement'!$E386)/COUNTA(_xlfn.TEXTSPLIT('12.Partner Involvement'!$H386,\";\"))),\"\")","v":""},{"$f":"IF(ISNUMBER(SEARCH(G$206,'12.Partner Involvement'!$H386))=TRUE,(('12.Partner Involvement'!$D386*'12.Partner Involvement'!$E386)/COUNTA(_xlfn.TEXTSPLIT('12.Partner Involvement'!$H386,\";\"))),\"\")","v":""},{"$f":"IF(ISNUMBER(SEARCH(H$206,'12.Partner Involvement'!$H386))=TRUE,(('12.Partner Involvement'!$D386*'12.Partner Involvement'!$E386)/COUNTA(_xlfn.TEXTSPLIT('12.Partner Involvement'!$H386,\";\"))),\"\")","v":""}]
[{"$f":"IF(ISNUMBER(SEARCH(A$206,'12.Partner Involvement'!$G387))=TRUE,(('12.Partner Involvement'!$D387*'12.Partner Involvement'!$E387)/COUNTA(_xlfn.TEXTSPLIT('12.Partner Involvement'!$G387,\";\"))),\"\")","v":""},{"$f":"IF(ISNUMBER(SEARCH(B$206,'12.Partner Involvement'!$G387))=TRUE,(('12.Partner Involvement'!$D387*'12.Partner Involvement'!$E387)/COUNTA(_xlfn.TEXTSPLIT('12.Partner Involvement'!$G387,\";\"))),\"\")","v":""},{"$f":"IF(ISNUMBER(SEARCH(C$206,'12.Partner Involvement'!$G387))=TRUE,(('12.Partner Involvement'!$D387*'12.Partner Involvement'!$E387)/COUNTA(_xlfn.TEXTSPLIT('12.Partner Involvement'!$G387,\";\"))),\"\")","v":""},null,{"$f":"IF(ISNUMBER(SEARCH(E$206,'12.Partner Involvement'!$H387))=TRUE,(('12.Partner Involvement'!$D387*'12.Partner Involvement'!$E387)/COUNTA(_xlfn.TEXTSPLIT('12.Partner Involvement'!$H387,\";\"))),\"\")","v":""},{"$f":"IF(ISNUMBER(SEARCH(F$206,'12.Partner Involvement'!$H387))=TRUE,(('12.Partner Involvement'!$D387*'12.Partner Involvement'!$E387)/COUNTA(_xlfn.TEXTSPLIT('12.Partner Involvement'!$H387,\";\"))),\"\")","v":""},{"$f":"IF(ISNUMBER(SEARCH(G$206,'12.Partner Involvement'!$H387))=TRUE,(('12.Partner Involvement'!$D387*'12.Partner Involvement'!$E387)/COUNTA(_xlfn.TEXTSPLIT('12.Partner Involvement'!$H387,\";\"))),\"\")","v":""},{"$f":"IF(ISNUMBER(SEARCH(H$206,'12.Partner Involvement'!$H387))=TRUE,(('12.Partner Involvement'!$D387*'12.Partner Involvement'!$E387)/COUNTA(_xlfn.TEXTSPLIT('12.Partner Involvement'!$H387,\";\"))),\"\")","v":""}]
[{"$f":"IF(ISNUMBER(SEARCH(A$206,'12.Partner Involvement'!$G388))=TRUE,(('12.Partner Involvement'!$D388*'12.Partner Involvement'!$E388)/COUNTA(_xlfn.TEXTSPLIT('12.Partner Involvement'!$G388,\";\"))),\"\")","v":""},{"$f":"IF(ISNUMBER(SEARCH(B$206,'12.Partner Involvement'!$G388))=TRUE,(('12.Partner Involvement'!$D388*'12.Partner Involvement'!$E388)/COUNTA(_xlfn.TEXTSPLIT('12.Partner Involvement'!$G388,\";\"))),\"\")","v":""},{"$f":"IF(ISNUMBER(SEARCH(C$206,'12.Partner Involvement'!$G388))=TRUE,(('12.Partner Involvement'!$D388*'12.Partner Involvement'!$E388)/COUNTA(_xlfn.TEXTSPLIT('12.Partner Involvement'!$G388,\";\"))),\"\")","v":""},null,{"$f":"IF(ISNUMBER(SEARCH(E$206,'12.Partner Involvement'!$H388))=TRUE,(('12.Partner Involvement'!$D388*'12.Partner Involvement'!$E388)/COUNTA(_xlfn.TEXTSPLIT('12.Partner Involvement'!$H388,\";\"))),\"\")","v":""},{"$f":"IF(ISNUMBER(SEARCH(F$206,'12.Partner Involvement'!$H388))=TRUE,(('12.Partner Involvement'!$D388*'12.Partner Involvement'!$E388)/COUNTA(_xlfn.TEXTSPLIT('12.Partner Involvement'!$H388,\";\"))),\"\")","v":""},{"$f":"IF(ISNUMBER(SEARCH(G$206,'12.Partner Involvement'!$H388))=TRUE,(('12.Partner Involvement'!$D388*'12.Partner Involvement'!$E388)/COUNTA(_xlfn.TEXTSPLIT('12.Partner Involvement'!$H388,\";\"))),\"\")","v":""},{"$f":"IF(ISNUMBER(SEARCH(H$206,'12.Partner Involvement'!$H388))=TRUE,(('12.Partner Involvement'!$D388*'12.Partner Involvement'!$E388)/COUNTA(_xlfn.TEXTSPLIT('12.Partner Involvement'!$H388,\";\"))),\"\")","v":""}]
[{"$f":"IF(ISNUMBER(SEARCH(A$206,'12.Partner Involvement'!$G389))=TRUE,(('12.Partner Involvement'!$D389*'12.Partner Involvement'!$E389)/COUNTA(_xlfn.TEXTSPLIT('12.Partner Involvement'!$G389,\";\"))),\"\")","v":""},{"$f":"IF(ISNUMBER(SEARCH(B$206,'12.Partner Involvement'!$G389))=TRUE,(('12.Partner Involvement'!$D389*'12.Partner Involvement'!$E389)/COUNTA(_xlfn.TEXTSPLIT('12.Partner Involvement'!$G389,\";\"))),\"\")","v":""},{"$f":"IF(ISNUMBER(SEARCH(C$206,'12.Partner Involvement'!$G389))=TRUE,(('12.Partner Involvement'!$D389*'12.Partner Involvement'!$E389)/COUNTA(_xlfn.TEXTSPLIT('12.Partner Involvement'!$G389,\";\"))),\"\")","v":""},null,{"$f":"IF(ISNUMBER(SEARCH(E$206,'12.Partner Involvement'!$H389))=TRUE,(('12.Partner Involvement'!$D389*'12.Partner Involvement'!$E389)/COUNTA(_xlfn.TEXTSPLIT('12.Partner Involvement'!$H389,\";\"))),\"\")","v":""},{"$f":"IF(ISNUMBER(SEARCH(F$206,'12.Partner Involvement'!$H389))=TRUE,(('12.Partner Involvement'!$D389*'12.Partner Involvement'!$E389)/COUNTA(_xlfn.TEXTSPLIT('12.Partner Involvement'!$H389,\";\"))),\"\")","v":""},{"$f":"IF(ISNUMBER(SEARCH(G$206,'12.Partner Involvement'!$H389))=TRUE,(('12.Partner Involvement'!$D389*'12.Partner Involvement'!$E389)/COUNTA(_xlfn.TEXTSPLIT('12.Partner Involvement'!$H389,\";\"))),\"\")","v":""},{"$f":"IF(ISNUMBER(SEARCH(H$206,'12.Partner Involvement'!$H389))=TRUE,(('12.Partner Involvement'!$D389*'12.Partner Involvement'!$E389)/COUNTA(_xlfn.TEXTSPLIT('12.Partner Involvement'!$H389,\";\"))),\"\")","v":""}]
[{"$f":"IF(ISNUMBER(SEARCH(A$206,'12.Partner Involvement'!$G390))=TRUE,(('12.Partner Involvement'!$D390*'12.Partner Involvement'!$E390)/COUNTA(_xlfn.TEXTSPLIT('12.Partner Involvement'!$G390,\";\"))),\"\")","v":""},{"$f":"IF(ISNUMBER(SEARCH(B$206,'12.Partner Involvement'!$G390))=TRUE,(('12.Partner Involvement'!$D390*'12.Partner Involvement'!$E390)/COUNTA(_xlfn.TEXTSPLIT('12.Partner Involvement'!$G390,\";\"))),\"\")","v":""},{"$f":"IF(ISNUMBER(SEARCH(C$206,'12.Partner Involvement'!$G390))=TRUE,(('12.Partner Involvement'!$D390*'12.Partner Involvement'!$E390)/COUNTA(_xlfn.TEXTSPLIT('12.Partner Involvement'!$G390,\";\"))),\"\")","v":""},null,{"$f":"IF(ISNUMBER(SEARCH(E$206,'12.Partner Involvement'!$H390))=TRUE,(('12.Partner Involvement'!$D390*'12.Partner Involvement'!$E390)/COUNTA(_xlfn.TEXTSPLIT('12.Partner Involvement'!$H390,\";\"))),\"\")","v":""},{"$f":"IF(ISNUMBER(SEARCH(F$206,'12.Partner Involvement'!$H390))=TRUE,(('12.Partner Involvement'!$D390*'12.Partner Involvement'!$E390)/COUNTA(_xlfn.TEXTSPLIT('12.Partner Involvement'!$H390,\";\"))),\"\")","v":""},{"$f":"IF(ISNUMBER(SEARCH(G$206,'12.Partner Involvement'!$H390))=TRUE,(('12.Partner Involvement'!$D390*'12.Partner Involvement'!$E390)/COUNTA(_xlfn.TEXTSPLIT('12.Partner Involvement'!$H390,\";\"))),\"\")","v":""},{"$f":"IF(ISNUMBER(SEARCH(H$206,'12.Partner Involvement'!$H390))=TRUE,(('12.Partner Involvement'!$D390*'12.Partner Involvement'!$E390)/COUNTA(_xlfn.TEXTSPLIT('12.Partner Involvement'!$H390,\";\"))),\"\")","v":""}]
[{"$f":"IF(ISNUMBER(SEARCH(A$206,'12.Partner Involvement'!$G391))=TRUE,(('12.Partner Involvement'!$D391*'12.Partner Involvement'!$E391)/COUNTA(_xlfn.TEXTSPLIT('12.Partner Involvement'!$G391,\";\"))),\"\")","v":""},{"$f":"IF(ISNUMBER(SEARCH(B$206,'12.Partner Involvement'!$G391))=TRUE,(('12.Partner Involvement'!$D391*'12.Partner Involvement'!$E391)/COUNTA(_xlfn.TEXTSPLIT('12.Partner Involvement'!$G391,\";\"))),\"\")","v":""},{"$f":"IF(ISNUMBER(SEARCH(C$206,'12.Partner Involvement'!$G391))=TRUE,(('12.Partner Involvement'!$D391*'12.Partner Involvement'!$E391)/COUNTA(_xlfn.TEXTSPLIT('12.Partner Involvement'!$G391,\";\"))),\"\")","v":""},null,{"$f":"IF(ISNUMBER(SEARCH(E$206,'12.Partner Involvement'!$H391))=TRUE,(('12.Partner Involvement'!$D391*'12.Partner Involvement'!$E391)/COUNTA(_xlfn.TEXTSPLIT('12.Partner Involvement'!$H391,\";\"))),\"\")","v":""},{"$f":"IF(ISNUMBER(SEARCH(F$206,'12.Partner Involvement'!$H391))=TRUE,(('12.Partner Involvement'!$D391*'12.Partner Involvement'!$E391)/COUNTA(_xlfn.TEXTSPLIT('12.Partner Involvement'!$H391,\";\"))),\"\")","v":""},{"$f":"IF(ISNUMBER(SEARCH(G$206,'12.Partner Involvement'!$H391))=TRUE,(('12.Partner Involvement'!$D391*'12.Partner Involvement'!$E391)/COUNTA(_xlfn.TEXTSPLIT('12.Partner Involvement'!$H391,\";\"))),\"\")","v":""},{"$f":"IF(ISNUMBER(SEARCH(H$206,'12.Partner Involvement'!$H391))=TRUE,(('12.Partner Involvement'!$D391*'12.Partner Involvement'!$E391)/COUNTA(_xlfn.TEXTSPLIT('12.Partner Involvement'!$H391,\";\"))),\"\")","v":""}]
[{"$f":"IF(ISNUMBER(SEARCH(A$206,'12.Partner Involvement'!$G392))=TRUE,(('12.Partner Involvement'!$D392*'12.Partner Involvement'!$E392)/COUNTA(_xlfn.TEXTSPLIT('12.Partner Involvement'!$G392,\";\"))),\"\")","v":""},{"$f":"IF(ISNUMBER(SEARCH(B$206,'12.Partner Involvement'!$G392))=TRUE,(('12.Partner Involvement'!$D392*'12.Partner Involvement'!$E392)/COUNTA(_xlfn.TEXTSPLIT('12.Partner Involvement'!$G392,\";\"))),\"\")","v":""},{"$f":"IF(ISNUMBER(SEARCH(C$206,'12.Partner Involvement'!$G392))=TRUE,(('12.Partner Involvement'!$D392*'12.Partner Involvement'!$E392)/COUNTA(_xlfn.TEXTSPLIT('12.Partner Involvement'!$G392,\";\"))),\"\")","v":""},null,{"$f":"IF(ISNUMBER(SEARCH(E$206,'12.Partner Involvement'!$H392))=TRUE,(('12.Partner Involvement'!$D392*'12.Partner Involvement'!$E392)/COUNTA(_xlfn.TEXTSPLIT('12.Partner Involvement'!$H392,\";\"))),\"\")","v":""},{"$f":"IF(ISNUMBER(SEARCH(F$206,'12.Partner Involvement'!$H392))=TRUE,(('12.Partner Involvement'!$D392*'12.Partner Involvement'!$E392)/COUNTA(_xlfn.TEXTSPLIT('12.Partner Involvement'!$H392,\";\"))),\"\")","v":""},{"$f":"IF(ISNUMBER(SEARCH(G$206,'12.Partner Involvement'!$H392))=TRUE,(('12.Partner Involvement'!$D392*'12.Partner Involvement'!$E392)/COUNTA(_xlfn.TEXTSPLIT('12.Partner Involvement'!$H392,\";\"))),\"\")","v":""},{"$f":"IF(ISNUMBER(SEARCH(H$206,'12.Partner Involvement'!$H392))=TRUE,(('12.Partner Involvement'!$D392*'12.Partner Involvement'!$E392)/COUNTA(_xlfn.TEXTSPLIT('12.Partner Involvement'!$H392,\";\"))),\"\")","v":""}]
[{"$f":"IF(ISNUMBER(SEARCH(A$206,'12.Partner Involvement'!$G393))=TRUE,(('12.Partner Involvement'!$D393*'12.Partner Involvement'!$E393)/COUNTA(_xlfn.TEXTSPLIT('12.Partner Involvement'!$G393,\";\"))),\"\")","v":""},{"$f":"IF(ISNUMBER(SEARCH(B$206,'12.Partner Involvement'!$G393))=TRUE,(('12.Partner Involvement'!$D393*'12.Partner Involvement'!$E393)/COUNTA(_xlfn.TEXTSPLIT('12.Partner Involvement'!$G393,\";\"))),\"\")","v":""},{"$f":"IF(ISNUMBER(SEARCH(C$206,'12.Partner Involvement'!$G393))=TRUE,(('12.Partner Involvement'!$D393*'12.Partner Involvement'!$E393)/COUNTA(_xlfn.TEXTSPLIT('12.Partner Involvement'!$G393,\";\"))),\"\")","v":""},null,{"$f":"IF(ISNUMBER(SEARCH(E$206,'12.Partner Involvement'!$H393))=TRUE,(('12.Partner Involvement'!$D393*'12.Partner Involvement'!$E393)/COUNTA(_xlfn.TEXTSPLIT('12.Partner Involvement'!$H393,\";\"))),\"\")","v":""},{"$f":"IF(ISNUMBER(SEARCH(F$206,'12.Partner Involvement'!$H393))=TRUE,(('12.Partner Involvement'!$D393*'12.Partner Involvement'!$E393)/COUNTA(_xlfn.TEXTSPLIT('12.Partner Involvement'!$H393,\";\"))),\"\")","v":""},{"$f":"IF(ISNUMBER(SEARCH(G$206,'12.Partner Involvement'!$H393))=TRUE,(('12.Partner Involvement'!$D393*'12.Partner Involvement'!$E393)/COUNTA(_xlfn.TEXTSPLIT('12.Partner Involvement'!$H393,\";\"))),\"\")","v":""},{"$f":"IF(ISNUMBER(SEARCH(H$206,'12.Partner Involvement'!$H393))=TRUE,(('12.Partner Involvement'!$D393*'12.Partner Involvement'!$E393)/COUNTA(_xlfn.TEXTSPLIT('12.Partner Involvement'!$H393,\";\"))),\"\")","v":""}]
[{"$f":"IF(ISNUMBER(SEARCH(A$206,'12.Partner Involvement'!$G394))=TRUE,(('12.Partner Involvement'!$D394*'12.Partner Involvement'!$E394)/COUNTA(_xlfn.TEXTSPLIT('12.Partner Involvement'!$G394,\";\"))),\"\")","v":""},{"$f":"IF(ISNUMBER(SEARCH(B$206,'12.Partner Involvement'!$G394))=TRUE,(('12.Partner Involvement'!$D394*'12.Partner Involvement'!$E394)/COUNTA(_xlfn.TEXTSPLIT('12.Partner Involvement'!$G394,\";\"))),\"\")","v":""},{"$f":"IF(ISNUMBER(SEARCH(C$206,'12.Partner Involvement'!$G394))=TRUE,(('12.Partner Involvement'!$D394*'12.Partner Involvement'!$E394)/COUNTA(_xlfn.TEXTSPLIT('12.Partner Involvement'!$G394,\";\"))),\"\")","v":""},null,{"$f":"IF(ISNUMBER(SEARCH(E$206,'12.Partner Involvement'!$H394))=TRUE,(('12.Partner Involvement'!$D394*'12.Partner Involvement'!$E394)/COUNTA(_xlfn.TEXTSPLIT('12.Partner Involvement'!$H394,\";\"))),\"\")","v":""},{"$f":"IF(ISNUMBER(SEARCH(F$206,'12.Partner Involvement'!$H394))=TRUE,(('12.Partner Involvement'!$D394*'12.Partner Involvement'!$E394)/COUNTA(_xlfn.TEXTSPLIT('12.Partner Involvement'!$H394,\";\"))),\"\")","v":""},{"$f":"IF(ISNUMBER(SEARCH(G$206,'12.Partner Involvement'!$H394))=TRUE,(('12.Partner Involvement'!$D394*'12.Partner Involvement'!$E394)/COUNTA(_xlfn.TEXTSPLIT('12.Partner Involvement'!$H394,\";\"))),\"\")","v":""},{"$f":"IF(ISNUMBER(SEARCH(H$206,'12.Partner Involvement'!$H394))=TRUE,(('12.Partner Involvement'!$D394*'12.Partner Involvement'!$E394)/COUNTA(_xlfn.TEXTSPLIT('12.Partner Involvement'!$H394,\";\"))),\"\")","v":""}]
[{"$f":"IF(ISNUMBER(SEARCH(A$206,'12.Partner Involvement'!$G395))=TRUE,(('12.Partner Involvement'!$D395*'12.Partner Involvement'!$E395)/COUNTA(_xlfn.TEXTSPLIT('12.Partner Involvement'!$G395,\";\"))),\"\")","v":""},{"$f":"IF(ISNUMBER(SEARCH(B$206,'12.Partner Involvement'!$G395))=TRUE,(('12.Partner Involvement'!$D395*'12.Partner Involvement'!$E395)/COUNTA(_xlfn.TEXTSPLIT('12.Partner Involvement'!$G395,\";\"))),\"\")","v":""},{"$f":"IF(ISNUMBER(SEARCH(C$206,'12.Partner Involvement'!$G395))=TRUE,(('12.Partner Involvement'!$D395*'12.Partner Involvement'!$E395)/COUNTA(_xlfn.TEXTSPLIT('12.Partner Involvement'!$G395,\";\"))),\"\")","v":""},null,{"$f":"IF(ISNUMBER(SEARCH(E$206,'12.Partner Involvement'!$H395))=TRUE,(('12.Partner Involvement'!$D395*'12.Partner Involvement'!$E395)/COUNTA(_xlfn.TEXTSPLIT('12.Partner Involvement'!$H395,\";\"))),\"\")","v":""},{"$f":"IF(ISNUMBER(SEARCH(F$206,'12.Partner Involvement'!$H395))=TRUE,(('12.Partner Involvement'!$D395*'12.Partner Involvement'!$E395)/COUNTA(_xlfn.TEXTSPLIT('12.Partner Involvement'!$H395,\";\"))),\"\")","v":""},{"$f":"IF(ISNUMBER(SEARCH(G$206,'12.Partner Involvement'!$H395))=TRUE,(('12.Partner Involvement'!$D395*'12.Partner Involvement'!$E395)/COUNTA(_xlfn.TEXTSPLIT('12.Partner Involvement'!$H395,\";\"))),\"\")","v":""},{"$f":"IF(ISNUMBER(SEARCH(H$206,'12.Partner Involvement'!$H395))=TRUE,(('12.Partner Involvement'!$D395*'12.Partner Involvement'!$E395)/COUNTA(_xlfn.TEXTSPLIT('12.Partner Involvement'!$H395,\";\"))),\"\")","v":""}]
[{"$f":"IF(ISNUMBER(SEARCH(A$206,'12.Partner Involvement'!$G396))=TRUE,(('12.Partner Involvement'!$D396*'12.Partner Involvement'!$E396)/COUNTA(_xlfn.TEXTSPLIT('12.Partner Involvement'!$G396,\";\"))),\"\")","v":""},{"$f":"IF(ISNUMBER(SEARCH(B$206,'12.Partner Involvement'!$G396))=TRUE,(('12.Partner Involvement'!$D396*'12.Partner Involvement'!$E396)/COUNTA(_xlfn.TEXTSPLIT('12.Partner Involvement'!$G396,\";\"))),\"\")","v":""},{"$f":"IF(ISNUMBER(SEARCH(C$206,'12.Partner Involvement'!$G396))=TRUE,(('12.Partner Involvement'!$D396*'12.Partner Involvement'!$E396)/COUNTA(_xlfn.TEXTSPLIT('12.Partner Involvement'!$G396,\";\"))),\"\")","v":""},null,{"$f":"IF(ISNUMBER(SEARCH(E$206,'12.Partner Involvement'!$H396))=TRUE,(('12.Partner Involvement'!$D396*'12.Partner Involvement'!$E396)/COUNTA(_xlfn.TEXTSPLIT('12.Partner Involvement'!$H396,\";\"))),\"\")","v":""},{"$f":"IF(ISNUMBER(SEARCH(F$206,'12.Partner Involvement'!$H396))=TRUE,(('12.Partner Involvement'!$D396*'12.Partner Involvement'!$E396)/COUNTA(_xlfn.TEXTSPLIT('12.Partner Involvement'!$H396,\";\"))),\"\")","v":""},{"$f":"IF(ISNUMBER(SEARCH(G$206,'12.Partner Involvement'!$H396))=TRUE,(('12.Partner Involvement'!$D396*'12.Partner Involvement'!$E396)/COUNTA(_xlfn.TEXTSPLIT('12.Partner Involvement'!$H396,\";\"))),\"\")","v":""},{"$f":"IF(ISNUMBER(SEARCH(H$206,'12.Partner Involvement'!$H396))=TRUE,(('12.Partner Involvement'!$D396*'12.Partner Involvement'!$E396)/COUNTA(_xlfn.TEXTSPLIT('12.Partner Involvement'!$H396,\";\"))),\"\")","v":""}]
[{"$f":"IF(ISNUMBER(SEARCH(A$206,'12.Partner Involvement'!$G397))=TRUE,(('12.Partner Involvement'!$D397*'12.Partner Involvement'!$E397)/COUNTA(_xlfn.TEXTSPLIT('12.Partner Involvement'!$G397,\";\"))),\"\")","v":""},{"$f":"IF(ISNUMBER(SEARCH(B$206,'12.Partner Involvement'!$G397))=TRUE,(('12.Partner Involvement'!$D397*'12.Partner Involvement'!$E397)/COUNTA(_xlfn.TEXTSPLIT('12.Partner Involvement'!$G397,\";\"))),\"\")","v":""},{"$f":"IF(ISNUMBER(SEARCH(C$206,'12.Partner Involvement'!$G397))=TRUE,(('12.Partner Involvement'!$D397*'12.Partner Involvement'!$E397)/COUNTA(_xlfn.TEXTSPLIT('12.Partner Involvement'!$G397,\";\"))),\"\")","v":""},null,{"$f":"IF(ISNUMBER(SEARCH(E$206,'12.Partner Involvement'!$H397))=TRUE,(('12.Partner Involvement'!$D397*'12.Partner Involvement'!$E397)/COUNTA(_xlfn.TEXTSPLIT('12.Partner Involvement'!$H397,\";\"))),\"\")","v":""},{"$f":"IF(ISNUMBER(SEARCH(F$206,'12.Partner Involvement'!$H397))=TRUE,(('12.Partner Involvement'!$D397*'12.Partner Involvement'!$E397)/COUNTA(_xlfn.TEXTSPLIT('12.Partner Involvement'!$H397,\";\"))),\"\")","v":""},{"$f":"IF(ISNUMBER(SEARCH(G$206,'12.Partner Involvement'!$H397))=TRUE,(('12.Partner Involvement'!$D397*'12.Partner Involvement'!$E397)/COUNTA(_xlfn.TEXTSPLIT('12.Partner Involvement'!$H397,\";\"))),\"\")","v":""},{"$f":"IF(ISNUMBER(SEARCH(H$206,'12.Partner Involvement'!$H397))=TRUE,(('12.Partner Involvement'!$D397*'12.Partner Involvement'!$E397)/COUNTA(_xlfn.TEXTSPLIT('12.Partner Involvement'!$H397,\";\"))),\"\")","v":""}]
[{"$f":"IF(ISNUMBER(SEARCH(A$206,'12.Partner Involvement'!$G398))=TRUE,(('12.Partner Involvement'!$D398*'12.Partner Involvement'!$E398)/COUNTA(_xlfn.TEXTSPLIT('12.Partner Involvement'!$G398,\";\"))),\"\")","v":""},{"$f":"IF(ISNUMBER(SEARCH(B$206,'12.Partner Involvement'!$G398))=TRUE,(('12.Partner Involvement'!$D398*'12.Partner Involvement'!$E398)/COUNTA(_xlfn.TEXTSPLIT('12.Partner Involvement'!$G398,\";\"))),\"\")","v":""},{"$f":"IF(ISNUMBER(SEARCH(C$206,'12.Partner Involvement'!$G398))=TRUE,(('12.Partner Involvement'!$D398*'12.Partner Involvement'!$E398)/COUNTA(_xlfn.TEXTSPLIT('12.Partner Involvement'!$G398,\";\"))),\"\")","v":""},null,{"$f":"IF(ISNUMBER(SEARCH(E$206,'12.Partner Involvement'!$H398))=TRUE,(('12.Partner Involvement'!$D398*'12.Partner Involvement'!$E398)/COUNTA(_xlfn.TEXTSPLIT('12.Partner Involvement'!$H398,\";\"))),\"\")","v":""},{"$f":"IF(ISNUMBER(SEARCH(F$206,'12.Partner Involvement'!$H398))=TRUE,(('12.Partner Involvement'!$D398*'12.Partner Involvement'!$E398)/COUNTA(_xlfn.TEXTSPLIT('12.Partner Involvement'!$H398,\";\"))),\"\")","v":""},{"$f":"IF(ISNUMBER(SEARCH(G$206,'12.Partner Involvement'!$H398))=TRUE,(('12.Partner Involvement'!$D398*'12.Partner Involvement'!$E398)/COUNTA(_xlfn.TEXTSPLIT('12.Partner Involvement'!$H398,\";\"))),\"\")","v":""},{"$f":"IF(ISNUMBER(SEARCH(H$206,'12.Partner Involvement'!$H398))=TRUE,(('12.Partner Involvement'!$D398*'12.Partner Involvement'!$E398)/COUNTA(_xlfn.TEXTSPLIT('12.Partner Involvement'!$H398,\";\"))),\"\")","v":""}]
[{"$f":"IF(ISNUMBER(SEARCH(A$206,'12.Partner Involvement'!$G399))=TRUE,(('12.Partner Involvement'!$D399*'12.Partner Involvement'!$E399)/COUNTA(_xlfn.TEXTSPLIT('12.Partner Involvement'!$G399,\";\"))),\"\")","v":""},{"$f":"IF(ISNUMBER(SEARCH(B$206,'12.Partner Involvement'!$G399))=TRUE,(('12.Partner Involvement'!$D399*'12.Partner Involvement'!$E399)/COUNTA(_xlfn.TEXTSPLIT('12.Partner Involvement'!$G399,\";\"))),\"\")","v":""},{"$f":"IF(ISNUMBER(SEARCH(C$206,'12.Partner Involvement'!$G399))=TRUE,(('12.Partner Involvement'!$D399*'12.Partner Involvement'!$E399)/COUNTA(_xlfn.TEXTSPLIT('12.Partner Involvement'!$G399,\";\"))),\"\")","v":""},null,{"$f":"IF(ISNUMBER(SEARCH(E$206,'12.Partner Involvement'!$H399))=TRUE,(('12.Partner Involvement'!$D399*'12.Partner Involvement'!$E399)/COUNTA(_xlfn.TEXTSPLIT('12.Partner Involvement'!$H399,\";\"))),\"\")","v":""},{"$f":"IF(ISNUMBER(SEARCH(F$206,'12.Partner Involvement'!$H399))=TRUE,(('12.Partner Involvement'!$D399*'12.Partner Involvement'!$E399)/COUNTA(_xlfn.TEXTSPLIT('12.Partner Involvement'!$H399,\";\"))),\"\")","v":""},{"$f":"IF(ISNUMBER(SEARCH(G$206,'12.Partner Involvement'!$H399))=TRUE,(('12.Partner Involvement'!$D399*'12.Partner Involvement'!$E399)/COUNTA(_xlfn.TEXTSPLIT('12.Partner Involvement'!$H399,\";\"))),\"\")","v":""},{"$f":"IF(ISNUMBER(SEARCH(H$206,'12.Partner Involvement'!$H399))=TRUE,(('12.Partner Involvement'!$D399*'12.Partner Involvement'!$E399)/COUNTA(_xlfn.TEXTSPLIT('12.Partner Involvement'!$H399,\";\"))),\"\")","v":""}]
[{"$f":"IF(ISNUMBER(SEARCH(A$206,'12.Partner Involvement'!$G400))=TRUE,(('12.Partner Involvement'!$D400*'12.Partner Involvement'!$E400)/COUNTA(_xlfn.TEXTSPLIT('12.Partner Involvement'!$G400,\";\"))),\"\")","v":""},{"$f":"IF(ISNUMBER(SEARCH(B$206,'12.Partner Involvement'!$G400))=TRUE,(('12.Partner Involvement'!$D400*'12.Partner Involvement'!$E400)/COUNTA(_xlfn.TEXTSPLIT('12.Partner Involvement'!$G400,\";\"))),\"\")","v":""},{"$f":"IF(ISNUMBER(SEARCH(C$206,'12.Partner Involvement'!$G400))=TRUE,(('12.Partner Involvement'!$D400*'12.Partner Involvement'!$E400)/COUNTA(_xlfn.TEXTSPLIT('12.Partner Involvement'!$G400,\";\"))),\"\")","v":""},null,{"$f":"IF(ISNUMBER(SEARCH(E$206,'12.Partner Involvement'!$H400))=TRUE,(('12.Partner Involvement'!$D400*'12.Partner Involvement'!$E400)/COUNTA(_xlfn.TEXTSPLIT('12.Partner Involvement'!$H400,\";\"))),\"\")","v":""},{"$f":"IF(ISNUMBER(SEARCH(F$206,'12.Partner Involvement'!$H400))=TRUE,(('12.Partner Involvement'!$D400*'12.Partner Involvement'!$E400)/COUNTA(_xlfn.TEXTSPLIT('12.Partner Involvement'!$H400,\";\"))),\"\")","v":""},{"$f":"IF(ISNUMBER(SEARCH(G$206,'12.Partner Involvement'!$H400))=TRUE,(('12.Partner Involvement'!$D400*'12.Partner Involvement'!$E400)/COUNTA(_xlfn.TEXTSPLIT('12.Partner Involvement'!$H400,\";\"))),\"\")","v":""},{"$f":"IF(ISNUMBER(SEARCH(H$206,'12.Partner Involvement'!$H400))=TRUE,(('12.Partner Involvement'!$D400*'12.Partner Involvement'!$E400)/COUNTA(_xlfn.TEXTSPLIT('12.Partner Involvement'!$H400,\";\"))),\"\")","v":""}]
[{"$f":"IF(ISNUMBER(SEARCH(A$206,'12.Partner Involvement'!$G401))=TRUE,(('12.Partner Involvement'!$D401*'12.Partner Involvement'!$E401)/COUNTA(_xlfn.TEXTSPLIT('12.Partner Involvement'!$G401,\";\"))),\"\")","v":""},{"$f":"IF(ISNUMBER(SEARCH(B$206,'12.Partner Involvement'!$G401))=TRUE,(('12.Partner Involvement'!$D401*'12.Partner Involvement'!$E401)/COUNTA(_xlfn.TEXTSPLIT('12.Partner Involvement'!$G401,\";\"))),\"\")","v":""},{"$f":"IF(ISNUMBER(SEARCH(C$206,'12.Partner Involvement'!$G401))=TRUE,(('12.Partner Involvement'!$D401*'12.Partner Involvement'!$E401)/COUNTA(_xlfn.TEXTSPLIT('12.Partner Involvement'!$G401,\";\"))),\"\")","v":""},null,{"$f":"IF(ISNUMBER(SEARCH(E$206,'12.Partner Involvement'!$H401))=TRUE,(('12.Partner Involvement'!$D401*'12.Partner Involvement'!$E401)/COUNTA(_xlfn.TEXTSPLIT('12.Partner Involvement'!$H401,\";\"))),\"\")","v":""},{"$f":"IF(ISNUMBER(SEARCH(F$206,'12.Partner Involvement'!$H401))=TRUE,(('12.Partner Involvement'!$D401*'12.Partner Involvement'!$E401)/COUNTA(_xlfn.TEXTSPLIT('12.Partner Involvement'!$H401,\";\"))),\"\")","v":""},{"$f":"IF(ISNUMBER(SEARCH(G$206,'12.Partner Involvement'!$H401))=TRUE,(('12.Partner Involvement'!$D401*'12.Partner Involvement'!$E401)/COUNTA(_xlfn.TEXTSPLIT('12.Partner Involvement'!$H401,\";\"))),\"\")","v":""},{"$f":"IF(ISNUMBER(SEARCH(H$206,'12.Partner Involvement'!$H401))=TRUE,(('12.Partner Involvement'!$D401*'12.Partner Involvement'!$E401)/COUNTA(_xlfn.TEXTSPLIT('12.Partner Involvement'!$H401,\";\"))),\"\")","v":""}]
[{"$f":"IF(ISNUMBER(SEARCH(A$206,'12.Partner Involvement'!$G402))=TRUE,(('12.Partner Involvement'!$D402*'12.Partner Involvement'!$E402)/COUNTA(_xlfn.TEXTSPLIT('12.Partner Involvement'!$G402,\";\"))),\"\")","v":""},{"$f":"IF(ISNUMBER(SEARCH(B$206,'12.Partner Involvement'!$G402))=TRUE,(('12.Partner Involvement'!$D402*'12.Partner Involvement'!$E402)/COUNTA(_xlfn.TEXTSPLIT('12.Partner Involvement'!$G402,\";\"))),\"\")","v":""},{"$f":"IF(ISNUMBER(SEARCH(C$206,'12.Partner Involvement'!$G402))=TRUE,(('12.Partner Involvement'!$D402*'12.Partner Involvement'!$E402)/COUNTA(_xlfn.TEXTSPLIT('12.Partner Involvement'!$G402,\";\"))),\"\")","v":""},null,{"$f":"IF(ISNUMBER(SEARCH(E$206,'12.Partner Involvement'!$H402))=TRUE,(('12.Partner Involvement'!$D402*'12.Partner Involvement'!$E402)/COUNTA(_xlfn.TEXTSPLIT('12.Partner Involvement'!$H402,\";\"))),\"\")","v":""},{"$f":"IF(ISNUMBER(SEARCH(F$206,'12.Partner Involvement'!$H402))=TRUE,(('12.Partner Involvement'!$D402*'12.Partner Involvement'!$E402)/COUNTA(_xlfn.TEXTSPLIT('12.Partner Involvement'!$H402,\";\"))),\"\")","v":""},{"$f":"IF(ISNUMBER(SEARCH(G$206,'12.Partner Involvement'!$H402))=TRUE,(('12.Partner Involvement'!$D402*'12.Partner Involvement'!$E402)/COUNTA(_xlfn.TEXTSPLIT('12.Partner Involvement'!$H402,\";\"))),\"\")","v":""},{"$f":"IF(ISNUMBER(SEARCH(H$206,'12.Partner Involvement'!$H402))=TRUE,(('12.Partner Involvement'!$D402*'12.Partner Involvement'!$E402)/COUNTA(_xlfn.TEXTSPLIT('12.Partner Involvement'!$H402,\";\"))),\"\")","v":""}]
[{"$f":"IF(ISNUMBER(SEARCH(A$206,'12.Partner Involvement'!$G403))=TRUE,(('12.Partner Involvement'!$D403*'12.Partner Involvement'!$E403)/COUNTA(_xlfn.TEXTSPLIT('12.Partner Involvement'!$G403,\";\"))),\"\")","v":""},{"$f":"IF(ISNUMBER(SEARCH(B$206,'12.Partner Involvement'!$G403))=TRUE,(('12.Partner Involvement'!$D403*'12.Partner Involvement'!$E403)/COUNTA(_xlfn.TEXTSPLIT('12.Partner Involvement'!$G403,\";\"))),\"\")","v":""},{"$f":"IF(ISNUMBER(SEARCH(C$206,'12.Partner Involvement'!$G403))=TRUE,(('12.Partner Involvement'!$D403*'12.Partner Involvement'!$E403)/COUNTA(_xlfn.TEXTSPLIT('12.Partner Involvement'!$G403,\";\"))),\"\")","v":""},null,{"$f":"IF(ISNUMBER(SEARCH(E$206,'12.Partner Involvement'!$H403))=TRUE,(('12.Partner Involvement'!$D403*'12.Partner Involvement'!$E403)/COUNTA(_xlfn.TEXTSPLIT('12.Partner Involvement'!$H403,\";\"))),\"\")","v":""},{"$f":"IF(ISNUMBER(SEARCH(F$206,'12.Partner Involvement'!$H403))=TRUE,(('12.Partner Involvement'!$D403*'12.Partner Involvement'!$E403)/COUNTA(_xlfn.TEXTSPLIT('12.Partner Involvement'!$H403,\";\"))),\"\")","v":""},{"$f":"IF(ISNUMBER(SEARCH(G$206,'12.Partner Involvement'!$H403))=TRUE,(('12.Partner Involvement'!$D403*'12.Partner Involvement'!$E403)/COUNTA(_xlfn.TEXTSPLIT('12.Partner Involvement'!$H403,\";\"))),\"\")","v":""},{"$f":"IF(ISNUMBER(SEARCH(H$206,'12.Partner Involvement'!$H403))=TRUE,(('12.Partner Involvement'!$D403*'12.Partner Involvement'!$E403)/COUNTA(_xlfn.TEXTSPLIT('12.Partner Involvement'!$H403,\";\"))),\"\")","v":""}]
[{"$f":"IF(ISNUMBER(SEARCH(A$206,'12.Partner Involvement'!$G404))=TRUE,(('12.Partner Involvement'!$D404*'12.Partner Involvement'!$E404)/COUNTA(_xlfn.TEXTSPLIT('12.Partner Involvement'!$G404,\";\"))),\"\")","v":""},{"$f":"IF(ISNUMBER(SEARCH(B$206,'12.Partner Involvement'!$G404))=TRUE,(('12.Partner Involvement'!$D404*'12.Partner Involvement'!$E404)/COUNTA(_xlfn.TEXTSPLIT('12.Partner Involvement'!$G404,\";\"))),\"\")","v":""},{"$f":"IF(ISNUMBER(SEARCH(C$206,'12.Partner Involvement'!$G404))=TRUE,(('12.Partner Involvement'!$D404*'12.Partner Involvement'!$E404)/COUNTA(_xlfn.TEXTSPLIT('12.Partner Involvement'!$G404,\";\"))),\"\")","v":""},null,{"$f":"IF(ISNUMBER(SEARCH(E$206,'12.Partner Involvement'!$H404))=TRUE,(('12.Partner Involvement'!$D404*'12.Partner Involvement'!$E404)/COUNTA(_xlfn.TEXTSPLIT('12.Partner Involvement'!$H404,\";\"))),\"\")","v":""},{"$f":"IF(ISNUMBER(SEARCH(F$206,'12.Partner Involvement'!$H404))=TRUE,(('12.Partner Involvement'!$D404*'12.Partner Involvement'!$E404)/COUNTA(_xlfn.TEXTSPLIT('12.Partner Involvement'!$H404,\";\"))),\"\")","v":""},{"$f":"IF(ISNUMBER(SEARCH(G$206,'12.Partner Involvement'!$H404))=TRUE,(('12.Partner Involvement'!$D404*'12.Partner Involvement'!$E404)/COUNTA(_xlfn.TEXTSPLIT('12.Partner Involvement'!$H404,\";\"))),\"\")","v":""},{"$f":"IF(ISNUMBER(SEARCH(H$206,'12.Partner Involvement'!$H404))=TRUE,(('12.Partner Involvement'!$D404*'12.Partner Involvement'!$E404)/COUNTA(_xlfn.TEXTSPLIT('12.Partner Involvement'!$H404,\";\"))),\"\")","v":""}]
[{"$f":"IF(ISNUMBER(SEARCH(A$206,'12.Partner Involvement'!$G405))=TRUE,(('12.Partner Involvement'!$D405*'12.Partner Involvement'!$E405)/COUNTA(_xlfn.TEXTSPLIT('12.Partner Involvement'!$G405,\";\"))),\"\")","v":""},{"$f":"IF(ISNUMBER(SEARCH(B$206,'12.Partner Involvement'!$G405))=TRUE,(('12.Partner Involvement'!$D405*'12.Partner Involvement'!$E405)/COUNTA(_xlfn.TEXTSPLIT('12.Partner Involvement'!$G405,\";\"))),\"\")","v":""},{"$f":"IF(ISNUMBER(SEARCH(C$206,'12.Partner Involvement'!$G405))=TRUE,(('12.Partner Involvement'!$D405*'12.Partner Involvement'!$E405)/COUNTA(_xlfn.TEXTSPLIT('12.Partner Involvement'!$G405,\";\"))),\"\")","v":""},null,{"$f":"IF(ISNUMBER(SEARCH(E$206,'12.Partner Involvement'!$H405))=TRUE,(('12.Partner Involvement'!$D405*'12.Partner Involvement'!$E405)/COUNTA(_xlfn.TEXTSPLIT('12.Partner Involvement'!$H405,\";\"))),\"\")","v":""},{"$f":"IF(ISNUMBER(SEARCH(F$206,'12.Partner Involvement'!$H405))=TRUE,(('12.Partner Involvement'!$D405*'12.Partner Involvement'!$E405)/COUNTA(_xlfn.TEXTSPLIT('12.Partner Involvement'!$H405,\";\"))),\"\")","v":""},{"$f":"IF(ISNUMBER(SEARCH(G$206,'12.Partner Involvement'!$H405))=TRUE,(('12.Partner Involvement'!$D405*'12.Partner Involvement'!$E405)/COUNTA(_xlfn.TEXTSPLIT('12.Partner Involvement'!$H405,\";\"))),\"\")","v":""},{"$f":"IF(ISNUMBER(SEARCH(H$206,'12.Partner Involvement'!$H405))=TRUE,(('12.Partner Involvement'!$D405*'12.Partner Involvement'!$E405)/COUNTA(_xlfn.TEXTSPLIT('12.Partner Involvement'!$H405,\";\"))),\"\")","v":""}]
[{"$f":"IF(ISNUMBER(SEARCH(A$206,'12.Partner Involvement'!$G406))=TRUE,(('12.Partner Involvement'!$D406*'12.Partner Involvement'!$E406)/COUNTA(_xlfn.TEXTSPLIT('12.Partner Involvement'!$G406,\";\"))),\"\")","v":""},{"$f":"IF(ISNUMBER(SEARCH(B$206,'12.Partner Involvement'!$G406))=TRUE,(('12.Partner Involvement'!$D406*'12.Partner Involvement'!$E406)/COUNTA(_xlfn.TEXTSPLIT('12.Partner Involvement'!$G406,\";\"))),\"\")","v":""},{"$f":"IF(ISNUMBER(SEARCH(C$206,'12.Partner Involvement'!$G406))=TRUE,(('12.Partner Involvement'!$D406*'12.Partner Involvement'!$E406)/COUNTA(_xlfn.TEXTSPLIT('12.Partner Involvement'!$G406,\";\"))),\"\")","v":""},null,{"$f":"IF(ISNUMBER(SEARCH(E$206,'12.Partner Involvement'!$H406))=TRUE,(('12.Partner Involvement'!$D406*'12.Partner Involvement'!$E406)/COUNTA(_xlfn.TEXTSPLIT('12.Partner Involvement'!$H406,\";\"))),\"\")","v":""},{"$f":"IF(ISNUMBER(SEARCH(F$206,'12.Partner Involvement'!$H406))=TRUE,(('12.Partner Involvement'!$D406*'12.Partner Involvement'!$E406)/COUNTA(_xlfn.TEXTSPLIT('12.Partner Involvement'!$H406,\";\"))),\"\")","v":""},{"$f":"IF(ISNUMBER(SEARCH(G$206,'12.Partner Involvement'!$H406))=TRUE,(('12.Partner Involvement'!$D406*'12.Partner Involvement'!$E406)/COUNTA(_xlfn.TEXTSPLIT('12.Partner Involvement'!$H406,\";\"))),\"\")","v":""},{"$f":"IF(ISNUMBER(SEARCH(H$206,'12.Partner Involvement'!$H406))=TRUE,(('12.Partner Involvement'!$D406*'12.Partner Involvement'!$E406)/COUNTA(_xlfn.TEXTSPLIT('12.Partner Involvement'!$H406,\";\"))),\"\")","v":""}]
[{"$f":"IF(ISNUMBER(SEARCH(A$206,'12.Partner Involvement'!$G407))=TRUE,(('12.Partner Involvement'!$D407*'12.Partner Involvement'!$E407)/COUNTA(_xlfn.TEXTSPLIT('12.Partner Involvement'!$G407,\";\"))),\"\")","v":""},{"$f":"IF(ISNUMBER(SEARCH(B$206,'12.Partner Involvement'!$G407))=TRUE,(('12.Partner Involvement'!$D407*'12.Partner Involvement'!$E407)/COUNTA(_xlfn.TEXTSPLIT('12.Partner Involvement'!$G407,\";\"))),\"\")","v":""},{"$f":"IF(ISNUMBER(SEARCH(C$206,'12.Partner Involvement'!$G407))=TRUE,(('12.Partner Involvement'!$D407*'12.Partner Involvement'!$E407)/COUNTA(_xlfn.TEXTSPLIT('12.Partner Involvement'!$G407,\";\"))),\"\")","v":""},null,{"$f":"IF(ISNUMBER(SEARCH(E$206,'12.Partner Involvement'!$H407))=TRUE,(('12.Partner Involvement'!$D407*'12.Partner Involvement'!$E407)/COUNTA(_xlfn.TEXTSPLIT('12.Partner Involvement'!$H407,\";\"))),\"\")","v":""},{"$f":"IF(ISNUMBER(SEARCH(F$206,'12.Partner Involvement'!$H407))=TRUE,(('12.Partner Involvement'!$D407*'12.Partner Involvement'!$E407)/COUNTA(_xlfn.TEXTSPLIT('12.Partner Involvement'!$H407,\";\"))),\"\")","v":""},{"$f":"IF(ISNUMBER(SEARCH(G$206,'12.Partner Involvement'!$H407))=TRUE,(('12.Partner Involvement'!$D407*'12.Partner Involvement'!$E407)/COUNTA(_xlfn.TEXTSPLIT('12.Partner Involvement'!$H407,\";\"))),\"\")","v":""},{"$f":"IF(ISNUMBER(SEARCH(H$206,'12.Partner Involvement'!$H407))=TRUE,(('12.Partner Involvement'!$D407*'12.Partner Involvement'!$E407)/COUNTA(_xlfn.TEXTSPLIT('12.Partner Involvement'!$H407,\";\"))),\"\")","v":""}]
[{"$f":"IF(ISNUMBER(SEARCH(A$206,'12.Partner Involvement'!$G408))=TRUE,(('12.Partner Involvement'!$D408*'12.Partner Involvement'!$E408)/COUNTA(_xlfn.TEXTSPLIT('12.Partner Involvement'!$G408,\";\"))),\"\")","v":""},{"$f":"IF(ISNUMBER(SEARCH(B$206,'12.Partner Involvement'!$G408))=TRUE,(('12.Partner Involvement'!$D408*'12.Partner Involvement'!$E408)/COUNTA(_xlfn.TEXTSPLIT('12.Partner Involvement'!$G408,\";\"))),\"\")","v":""},{"$f":"IF(ISNUMBER(SEARCH(C$206,'12.Partner Involvement'!$G408))=TRUE,(('12.Partner Involvement'!$D408*'12.Partner Involvement'!$E408)/COUNTA(_xlfn.TEXTSPLIT('12.Partner Involvement'!$G408,\";\"))),\"\")","v":""},null,{"$f":"IF(ISNUMBER(SEARCH(E$206,'12.Partner Involvement'!$H408))=TRUE,(('12.Partner Involvement'!$D408*'12.Partner Involvement'!$E408)/COUNTA(_xlfn.TEXTSPLIT('12.Partner Involvement'!$H408,\";\"))),\"\")","v":""},{"$f":"IF(ISNUMBER(SEARCH(F$206,'12.Partner Involvement'!$H408))=TRUE,(('12.Partner Involvement'!$D408*'12.Partner Involvement'!$E408)/COUNTA(_xlfn.TEXTSPLIT('12.Partner Involvement'!$H408,\";\"))),\"\")","v":""},{"$f":"IF(ISNUMBER(SEARCH(G$206,'12.Partner Involvement'!$H408))=TRUE,(('12.Partner Involvement'!$D408*'12.Partner Involvement'!$E408)/COUNTA(_xlfn.TEXTSPLIT('12.Partner Involvement'!$H408,\";\"))),\"\")","v":""},{"$f":"IF(ISNUMBER(SEARCH(H$206,'12.Partner Involvement'!$H408))=TRUE,(('12.Partner Involvement'!$D408*'12.Partner Involvement'!$E408)/COUNTA(_xlfn.TEXTSPLIT('12.Partner Involvement'!$H408,\";\"))),\"\")","v":""}]
[{"$f":"IF(ISNUMBER(SEARCH(A$206,'12.Partner Involvement'!$G409))=TRUE,(('12.Partner Involvement'!$D409*'12.Partner Involvement'!$E409)/COUNTA(_xlfn.TEXTSPLIT('12.Partner Involvement'!$G409,\";\"))),\"\")","v":""},{"$f":"IF(ISNUMBER(SEARCH(B$206,'12.Partner Involvement'!$G409))=TRUE,(('12.Partner Involvement'!$D409*'12.Partner Involvement'!$E409)/COUNTA(_xlfn.TEXTSPLIT('12.Partner Involvement'!$G409,\";\"))),\"\")","v":""},{"$f":"IF(ISNUMBER(SEARCH(C$206,'12.Partner Involvement'!$G409))=TRUE,(('12.Partner Involvement'!$D409*'12.Partner Involvement'!$E409)/COUNTA(_xlfn.TEXTSPLIT('12.Partner Involvement'!$G409,\";\"))),\"\")","v":""},null,{"$f":"IF(ISNUMBER(SEARCH(E$206,'12.Partner Involvement'!$H409))=TRUE,(('12.Partner Involvement'!$D409*'12.Partner Involvement'!$E409)/COUNTA(_xlfn.TEXTSPLIT('12.Partner Involvement'!$H409,\";\"))),\"\")","v":""},{"$f":"IF(ISNUMBER(SEARCH(F$206,'12.Partner Involvement'!$H409))=TRUE,(('12.Partner Involvement'!$D409*'12.Partner Involvement'!$E409)/COUNTA(_xlfn.TEXTSPLIT('12.Partner Involvement'!$H409,\";\"))),\"\")","v":""},{"$f":"IF(ISNUMBER(SEARCH(G$206,'12.Partner Involvement'!$H409))=TRUE,(('12.Partner Involvement'!$D409*'12.Partner Involvement'!$E409)/COUNTA(_xlfn.TEXTSPLIT('12.Partner Involvement'!$H409,\";\"))),\"\")","v":""},{"$f":"IF(ISNUMBER(SEARCH(H$206,'12.Partner Involvement'!$H409))=TRUE,(('12.Partner Involvement'!$D409*'12.Partner Involvement'!$E409)/COUNTA(_xlfn.TEXTSPLIT('12.Partner Involvement'!$H409,\";\"))),\"\")","v":""}]
[{"$f":"IF(ISNUMBER(SEARCH(A$206,'12.Partner Involvement'!$G410))=TRUE,(('12.Partner Involvement'!$D410*'12.Partner Involvement'!$E410)/COUNTA(_xlfn.TEXTSPLIT('12.Partner Involvement'!$G410,\";\"))),\"\")","v":""},{"$f":"IF(ISNUMBER(SEARCH(B$206,'12.Partner Involvement'!$G410))=TRUE,(('12.Partner Involvement'!$D410*'12.Partner Involvement'!$E410)/COUNTA(_xlfn.TEXTSPLIT('12.Partner Involvement'!$G410,\";\"))),\"\")","v":""},{"$f":"IF(ISNUMBER(SEARCH(C$206,'12.Partner Involvement'!$G410))=TRUE,(('12.Partner Involvement'!$D410*'12.Partner Involvement'!$E410)/COUNTA(_xlfn.TEXTSPLIT('12.Partner Involvement'!$G410,\";\"))),\"\")","v":""},null,{"$f":"IF(ISNUMBER(SEARCH(E$206,'12.Partner Involvement'!$H410))=TRUE,(('12.Partner Involvement'!$D410*'12.Partner Involvement'!$E410)/COUNTA(_xlfn.TEXTSPLIT('12.Partner Involvement'!$H410,\";\"))),\"\")","v":""},{"$f":"IF(ISNUMBER(SEARCH(F$206,'12.Partner Involvement'!$H410))=TRUE,(('12.Partner Involvement'!$D410*'12.Partner Involvement'!$E410)/COUNTA(_xlfn.TEXTSPLIT('12.Partner Involvement'!$H410,\";\"))),\"\")","v":""},{"$f":"IF(ISNUMBER(SEARCH(G$206,'12.Partner Involvement'!$H410))=TRUE,(('12.Partner Involvement'!$D410*'12.Partner Involvement'!$E410)/COUNTA(_xlfn.TEXTSPLIT('12.Partner Involvement'!$H410,\";\"))),\"\")","v":""},{"$f":"IF(ISNUMBER(SEARCH(H$206,'12.Partner Involvement'!$H410))=TRUE,(('12.Partner Involvement'!$D410*'12.Partner Involvement'!$E410)/COUNTA(_xlfn.TEXTSPLIT('12.Partner Involvement'!$H410,\";\"))),\"\")","v":""}]
[{"$f":"IF(ISNUMBER(SEARCH(A$206,'12.Partner Involvement'!$G411))=TRUE,(('12.Partner Involvement'!$D411*'12.Partner Involvement'!$E411)/COUNTA(_xlfn.TEXTSPLIT('12.Partner Involvement'!$G411,\";\"))),\"\")","v":""},{"$f":"IF(ISNUMBER(SEARCH(B$206,'12.Partner Involvement'!$G411))=TRUE,(('12.Partner Involvement'!$D411*'12.Partner Involvement'!$E411)/COUNTA(_xlfn.TEXTSPLIT('12.Partner Involvement'!$G411,\";\"))),\"\")","v":""},{"$f":"IF(ISNUMBER(SEARCH(C$206,'12.Partner Involvement'!$G411))=TRUE,(('12.Partner Involvement'!$D411*'12.Partner Involvement'!$E411)/COUNTA(_xlfn.TEXTSPLIT('12.Partner Involvement'!$G411,\";\"))),\"\")","v":""},null,{"$f":"IF(ISNUMBER(SEARCH(E$206,'12.Partner Involvement'!$H411))=TRUE,(('12.Partner Involvement'!$D411*'12.Partner Involvement'!$E411)/COUNTA(_xlfn.TEXTSPLIT('12.Partner Involvement'!$H411,\";\"))),\"\")","v":""},{"$f":"IF(ISNUMBER(SEARCH(F$206,'12.Partner Involvement'!$H411))=TRUE,(('12.Partner Involvement'!$D411*'12.Partner Involvement'!$E411)/COUNTA(_xlfn.TEXTSPLIT('12.Partner Involvement'!$H411,\";\"))),\"\")","v":""},{"$f":"IF(ISNUMBER(SEARCH(G$206,'12.Partner Involvement'!$H411))=TRUE,(('12.Partner Involvement'!$D411*'12.Partner Involvement'!$E411)/COUNTA(_xlfn.TEXTSPLIT('12.Partner Involvement'!$H411,\";\"))),\"\")","v":""},{"$f":"IF(ISNUMBER(SEARCH(H$206,'12.Partner Involvement'!$H411))=TRUE,(('12.Partner Involvement'!$D411*'12.Partner Involvement'!$E411)/COUNTA(_xlfn.TEXTSPLIT('12.Partner Involvement'!$H411,\";\"))),\"\")","v":""}]
[{"$f":"IF(ISNUMBER(SEARCH(A$206,'12.Partner Involvement'!$G412))=TRUE,(('12.Partner Involvement'!$D412*'12.Partner Involvement'!$E412)/COUNTA(_xlfn.TEXTSPLIT('12.Partner Involvement'!$G412,\";\"))),\"\")","v":""},{"$f":"IF(ISNUMBER(SEARCH(B$206,'12.Partner Involvement'!$G412))=TRUE,(('12.Partner Involvement'!$D412*'12.Partner Involvement'!$E412)/COUNTA(_xlfn.TEXTSPLIT('12.Partner Involvement'!$G412,\";\"))),\"\")","v":""},{"$f":"IF(ISNUMBER(SEARCH(C$206,'12.Partner Involvement'!$G412))=TRUE,(('12.Partner Involvement'!$D412*'12.Partner Involvement'!$E412)/COUNTA(_xlfn.TEXTSPLIT('12.Partner Involvement'!$G412,\";\"))),\"\")","v":""},null,{"$f":"IF(ISNUMBER(SEARCH(E$206,'12.Partner Involvement'!$H412))=TRUE,(('12.Partner Involvement'!$D412*'12.Partner Involvement'!$E412)/COUNTA(_xlfn.TEXTSPLIT('12.Partner Involvement'!$H412,\";\"))),\"\")","v":""},{"$f":"IF(ISNUMBER(SEARCH(F$206,'12.Partner Involvement'!$H412))=TRUE,(('12.Partner Involvement'!$D412*'12.Partner Involvement'!$E412)/COUNTA(_xlfn.TEXTSPLIT('12.Partner Involvement'!$H412,\";\"))),\"\")","v":""},{"$f":"IF(ISNUMBER(SEARCH(G$206,'12.Partner Involvement'!$H412))=TRUE,(('12.Partner Involvement'!$D412*'12.Partner Involvement'!$E412)/COUNTA(_xlfn.TEXTSPLIT('12.Partner Involvement'!$H412,\";\"))),\"\")","v":""},{"$f":"IF(ISNUMBER(SEARCH(H$206,'12.Partner Involvement'!$H412))=TRUE,(('12.Partner Involvement'!$D412*'12.Partner Involvement'!$E412)/COUNTA(_xlfn.TEXTSPLIT('12.Partner Involvement'!$H412,\";\"))),\"\")","v":""}]
[{"$f":"IF(ISNUMBER(SEARCH(A$206,'12.Partner Involvement'!$G413))=TRUE,(('12.Partner Involvement'!$D413*'12.Partner Involvement'!$E413)/COUNTA(_xlfn.TEXTSPLIT('12.Partner Involvement'!$G413,\";\"))),\"\")","v":""},{"$f":"IF(ISNUMBER(SEARCH(B$206,'12.Partner Involvement'!$G413))=TRUE,(('12.Partner Involvement'!$D413*'12.Partner Involvement'!$E413)/COUNTA(_xlfn.TEXTSPLIT('12.Partner Involvement'!$G413,\";\"))),\"\")","v":""},{"$f":"IF(ISNUMBER(SEARCH(C$206,'12.Partner Involvement'!$G413))=TRUE,(('12.Partner Involvement'!$D413*'12.Partner Involvement'!$E413)/COUNTA(_xlfn.TEXTSPLIT('12.Partner Involvement'!$G413,\";\"))),\"\")","v":""},null,{"$f":"IF(ISNUMBER(SEARCH(E$206,'12.Partner Involvement'!$H413))=TRUE,(('12.Partner Involvement'!$D413*'12.Partner Involvement'!$E413)/COUNTA(_xlfn.TEXTSPLIT('12.Partner Involvement'!$H413,\";\"))),\"\")","v":""},{"$f":"IF(ISNUMBER(SEARCH(F$206,'12.Partner Involvement'!$H413))=TRUE,(('12.Partner Involvement'!$D413*'12.Partner Involvement'!$E413)/COUNTA(_xlfn.TEXTSPLIT('12.Partner Involvement'!$H413,\";\"))),\"\")","v":""},{"$f":"IF(ISNUMBER(SEARCH(G$206,'12.Partner Involvement'!$H413))=TRUE,(('12.Partner Involvement'!$D413*'12.Partner Involvement'!$E413)/COUNTA(_xlfn.TEXTSPLIT('12.Partner Involvement'!$H413,\";\"))),\"\")","v":""},{"$f":"IF(ISNUMBER(SEARCH(H$206,'12.Partner Involvement'!$H413))=TRUE,(('12.Partner Involvement'!$D413*'12.Partner Involvement'!$E413)/COUNTA(_xlfn.TEXTSPLIT('12.Partner Involvement'!$H413,\";\"))),\"\")","v":""}]
[{"$f":"IF(ISNUMBER(SEARCH(A$206,'12.Partner Involvement'!$G414))=TRUE,(('12.Partner Involvement'!$D414*'12.Partner Involvement'!$E414)/COUNTA(_xlfn.TEXTSPLIT('12.Partner Involvement'!$G414,\";\"))),\"\")","v":""},{"$f":"IF(ISNUMBER(SEARCH(B$206,'12.Partner Involvement'!$G414))=TRUE,(('12.Partner Involvement'!$D414*'12.Partner Involvement'!$E414)/COUNTA(_xlfn.TEXTSPLIT('12.Partner Involvement'!$G414,\";\"))),\"\")","v":""},{"$f":"IF(ISNUMBER(SEARCH(C$206,'12.Partner Involvement'!$G414))=TRUE,(('12.Partner Involvement'!$D414*'12.Partner Involvement'!$E414)/COUNTA(_xlfn.TEXTSPLIT('12.Partner Involvement'!$G414,\";\"))),\"\")","v":""},null,{"$f":"IF(ISNUMBER(SEARCH(E$206,'12.Partner Involvement'!$H414))=TRUE,(('12.Partner Involvement'!$D414*'12.Partner Involvement'!$E414)/COUNTA(_xlfn.TEXTSPLIT('12.Partner Involvement'!$H414,\";\"))),\"\")","v":""},{"$f":"IF(ISNUMBER(SEARCH(F$206,'12.Partner Involvement'!$H414))=TRUE,(('12.Partner Involvement'!$D414*'12.Partner Involvement'!$E414)/COUNTA(_xlfn.TEXTSPLIT('12.Partner Involvement'!$H414,\";\"))),\"\")","v":""},{"$f":"IF(ISNUMBER(SEARCH(G$206,'12.Partner Involvement'!$H414))=TRUE,(('12.Partner Involvement'!$D414*'12.Partner Involvement'!$E414)/COUNTA(_xlfn.TEXTSPLIT('12.Partner Involvement'!$H414,\";\"))),\"\")","v":""},{"$f":"IF(ISNUMBER(SEARCH(H$206,'12.Partner Involvement'!$H414))=TRUE,(('12.Partner Involvement'!$D414*'12.Partner Involvement'!$E414)/COUNTA(_xlfn.TEXTSPLIT('12.Partner Involvement'!$H414,\";\"))),\"\")","v":""}]
[{"$f":"IF(ISNUMBER(SEARCH(A$206,'12.Partner Involvement'!$G415))=TRUE,(('12.Partner Involvement'!$D415*'12.Partner Involvement'!$E415)/COUNTA(_xlfn.TEXTSPLIT('12.Partner Involvement'!$G415,\";\"))),\"\")","v":""},{"$f":"IF(ISNUMBER(SEARCH(B$206,'12.Partner Involvement'!$G415))=TRUE,(('12.Partner Involvement'!$D415*'12.Partner Involvement'!$E415)/COUNTA(_xlfn.TEXTSPLIT('12.Partner Involvement'!$G415,\";\"))),\"\")","v":""},{"$f":"IF(ISNUMBER(SEARCH(C$206,'12.Partner Involvement'!$G415))=TRUE,(('12.Partner Involvement'!$D415*'12.Partner Involvement'!$E415)/COUNTA(_xlfn.TEXTSPLIT('12.Partner Involvement'!$G415,\";\"))),\"\")","v":""},null,{"$f":"IF(ISNUMBER(SEARCH(E$206,'12.Partner Involvement'!$H415))=TRUE,(('12.Partner Involvement'!$D415*'12.Partner Involvement'!$E415)/COUNTA(_xlfn.TEXTSPLIT('12.Partner Involvement'!$H415,\";\"))),\"\")","v":""},{"$f":"IF(ISNUMBER(SEARCH(F$206,'12.Partner Involvement'!$H415))=TRUE,(('12.Partner Involvement'!$D415*'12.Partner Involvement'!$E415)/COUNTA(_xlfn.TEXTSPLIT('12.Partner Involvement'!$H415,\";\"))),\"\")","v":""},{"$f":"IF(ISNUMBER(SEARCH(G$206,'12.Partner Involvement'!$H415))=TRUE,(('12.Partner Involvement'!$D415*'12.Partner Involvement'!$E415)/COUNTA(_xlfn.TEXTSPLIT('12.Partner Involvement'!$H415,\";\"))),\"\")","v":""},{"$f":"IF(ISNUMBER(SEARCH(H$206,'12.Partner Involvement'!$H415))=TRUE,(('12.Partner Involvement'!$D415*'12.Partner Involvement'!$E415)/COUNTA(_xlfn.TEXTSPLIT('12.Partner Involvement'!$H415,\";\"))),\"\")","v":""}]
[{"$f":"IF(ISNUMBER(SEARCH(A$206,'12.Partner Involvement'!$G416))=TRUE,(('12.Partner Involvement'!$D416*'12.Partner Involvement'!$E416)/COUNTA(_xlfn.TEXTSPLIT('12.Partner Involvement'!$G416,\";\"))),\"\")","v":""},{"$f":"IF(ISNUMBER(SEARCH(B$206,'12.Partner Involvement'!$G416))=TRUE,(('12.Partner Involvement'!$D416*'12.Partner Involvement'!$E416)/COUNTA(_xlfn.TEXTSPLIT('12.Partner Involvement'!$G416,\";\"))),\"\")","v":""},{"$f":"IF(ISNUMBER(SEARCH(C$206,'12.Partner Involvement'!$G416))=TRUE,(('12.Partner Involvement'!$D416*'12.Partner Involvement'!$E416)/COUNTA(_xlfn.TEXTSPLIT('12.Partner Involvement'!$G416,\";\"))),\"\")","v":""},null,{"$f":"IF(ISNUMBER(SEARCH(E$206,'12.Partner Involvement'!$H416))=TRUE,(('12.Partner Involvement'!$D416*'12.Partner Involvement'!$E416)/COUNTA(_xlfn.TEXTSPLIT('12.Partner Involvement'!$H416,\";\"))),\"\")","v":""},{"$f":"IF(ISNUMBER(SEARCH(F$206,'12.Partner Involvement'!$H416))=TRUE,(('12.Partner Involvement'!$D416*'12.Partner Involvement'!$E416)/COUNTA(_xlfn.TEXTSPLIT('12.Partner Involvement'!$H416,\";\"))),\"\")","v":""},{"$f":"IF(ISNUMBER(SEARCH(G$206,'12.Partner Involvement'!$H416))=TRUE,(('12.Partner Involvement'!$D416*'12.Partner Involvement'!$E416)/COUNTA(_xlfn.TEXTSPLIT('12.Partner Involvement'!$H416,\";\"))),\"\")","v":""},{"$f":"IF(ISNUMBER(SEARCH(H$206,'12.Partner Involvement'!$H416))=TRUE,(('12.Partner Involvement'!$D416*'12.Partner Involvement'!$E416)/COUNTA(_xlfn.TEXTSPLIT('12.Partner Involvement'!$H416,\";\"))),\"\")","v":""}]
[{"$f":"IF(ISNUMBER(SEARCH(A$206,'12.Partner Involvement'!$G417))=TRUE,(('12.Partner Involvement'!$D417*'12.Partner Involvement'!$E417)/COUNTA(_xlfn.TEXTSPLIT('12.Partner Involvement'!$G417,\";\"))),\"\")","v":""},{"$f":"IF(ISNUMBER(SEARCH(B$206,'12.Partner Involvement'!$G417))=TRUE,(('12.Partner Involvement'!$D417*'12.Partner Involvement'!$E417)/COUNTA(_xlfn.TEXTSPLIT('12.Partner Involvement'!$G417,\";\"))),\"\")","v":""},{"$f":"IF(ISNUMBER(SEARCH(C$206,'12.Partner Involvement'!$G417))=TRUE,(('12.Partner Involvement'!$D417*'12.Partner Involvement'!$E417)/COUNTA(_xlfn.TEXTSPLIT('12.Partner Involvement'!$G417,\";\"))),\"\")","v":""},null,{"$f":"IF(ISNUMBER(SEARCH(E$206,'12.Partner Involvement'!$H417))=TRUE,(('12.Partner Involvement'!$D417*'12.Partner Involvement'!$E417)/COUNTA(_xlfn.TEXTSPLIT('12.Partner Involvement'!$H417,\";\"))),\"\")","v":""},{"$f":"IF(ISNUMBER(SEARCH(F$206,'12.Partner Involvement'!$H417))=TRUE,(('12.Partner Involvement'!$D417*'12.Partner Involvement'!$E417)/COUNTA(_xlfn.TEXTSPLIT('12.Partner Involvement'!$H417,\";\"))),\"\")","v":""},{"$f":"IF(ISNUMBER(SEARCH(G$206,'12.Partner Involvement'!$H417))=TRUE,(('12.Partner Involvement'!$D417*'12.Partner Involvement'!$E417)/COUNTA(_xlfn.TEXTSPLIT('12.Partner Involvement'!$H417,\";\"))),\"\")","v":""},{"$f":"IF(ISNUMBER(SEARCH(H$206,'12.Partner Involvement'!$H417))=TRUE,(('12.Partner Involvement'!$D417*'12.Partner Involvement'!$E417)/COUNTA(_xlfn.TEXTSPLIT('12.Partner Involvement'!$H417,\";\"))),\"\")","v":""}]
[{"$f":"IF(ISNUMBER(SEARCH(A$206,'12.Partner Involvement'!$G418))=TRUE,(('12.Partner Involvement'!$D418*'12.Partner Involvement'!$E418)/COUNTA(_xlfn.TEXTSPLIT('12.Partner Involvement'!$G418,\";\"))),\"\")","v":""},{"$f":"IF(ISNUMBER(SEARCH(B$206,'12.Partner Involvement'!$G418))=TRUE,(('12.Partner Involvement'!$D418*'12.Partner Involvement'!$E418)/COUNTA(_xlfn.TEXTSPLIT('12.Partner Involvement'!$G418,\";\"))),\"\")","v":""},{"$f":"IF(ISNUMBER(SEARCH(C$206,'12.Partner Involvement'!$G418))=TRUE,(('12.Partner Involvement'!$D418*'12.Partner Involvement'!$E418)/COUNTA(_xlfn.TEXTSPLIT('12.Partner Involvement'!$G418,\";\"))),\"\")","v":""},null,{"$f":"IF(ISNUMBER(SEARCH(E$206,'12.Partner Involvement'!$H418))=TRUE,(('12.Partner Involvement'!$D418*'12.Partner Involvement'!$E418)/COUNTA(_xlfn.TEXTSPLIT('12.Partner Involvement'!$H418,\";\"))),\"\")","v":""},{"$f":"IF(ISNUMBER(SEARCH(F$206,'12.Partner Involvement'!$H418))=TRUE,(('12.Partner Involvement'!$D418*'12.Partner Involvement'!$E418)/COUNTA(_xlfn.TEXTSPLIT('12.Partner Involvement'!$H418,\";\"))),\"\")","v":""},{"$f":"IF(ISNUMBER(SEARCH(G$206,'12.Partner Involvement'!$H418))=TRUE,(('12.Partner Involvement'!$D418*'12.Partner Involvement'!$E418)/COUNTA(_xlfn.TEXTSPLIT('12.Partner Involvement'!$H418,\";\"))),\"\")","v":""},{"$f":"IF(ISNUMBER(SEARCH(H$206,'12.Partner Involvement'!$H418))=TRUE,(('12.Partner Involvement'!$D418*'12.Partner Involvement'!$E418)/COUNTA(_xlfn.TEXTSPLIT('12.Partner Involvement'!$H418,\";\"))),\"\")","v":""}]
[{"$f":"IF(ISNUMBER(SEARCH(A$206,'12.Partner Involvement'!$G419))=TRUE,(('12.Partner Involvement'!$D419*'12.Partner Involvement'!$E419)/COUNTA(_xlfn.TEXTSPLIT('12.Partner Involvement'!$G419,\";\"))),\"\")","v":""},{"$f":"IF(ISNUMBER(SEARCH(B$206,'12.Partner Involvement'!$G419))=TRUE,(('12.Partner Involvement'!$D419*'12.Partner Involvement'!$E419)/COUNTA(_xlfn.TEXTSPLIT('12.Partner Involvement'!$G419,\";\"))),\"\")","v":""},{"$f":"IF(ISNUMBER(SEARCH(C$206,'12.Partner Involvement'!$G419))=TRUE,(('12.Partner Involvement'!$D419*'12.Partner Involvement'!$E419)/COUNTA(_xlfn.TEXTSPLIT('12.Partner Involvement'!$G419,\";\"))),\"\")","v":""},null,{"$f":"IF(ISNUMBER(SEARCH(E$206,'12.Partner Involvement'!$H419))=TRUE,(('12.Partner Involvement'!$D419*'12.Partner Involvement'!$E419)/COUNTA(_xlfn.TEXTSPLIT('12.Partner Involvement'!$H419,\";\"))),\"\")","v":""},{"$f":"IF(ISNUMBER(SEARCH(F$206,'12.Partner Involvement'!$H419))=TRUE,(('12.Partner Involvement'!$D419*'12.Partner Involvement'!$E419)/COUNTA(_xlfn.TEXTSPLIT('12.Partner Involvement'!$H419,\";\"))),\"\")","v":""},{"$f":"IF(ISNUMBER(SEARCH(G$206,'12.Partner Involvement'!$H419))=TRUE,(('12.Partner Involvement'!$D419*'12.Partner Involvement'!$E419)/COUNTA(_xlfn.TEXTSPLIT('12.Partner Involvement'!$H419,\";\"))),\"\")","v":""},{"$f":"IF(ISNUMBER(SEARCH(H$206,'12.Partner Involvement'!$H419))=TRUE,(('12.Partner Involvement'!$D419*'12.Partner Involvement'!$E419)/COUNTA(_xlfn.TEXTSPLIT('12.Partner Involvement'!$H419,\";\"))),\"\")","v":""}]
[{"$f":"IF(ISNUMBER(SEARCH(A$206,'12.Partner Involvement'!$G420))=TRUE,(('12.Partner Involvement'!$D420*'12.Partner Involvement'!$E420)/COUNTA(_xlfn.TEXTSPLIT('12.Partner Involvement'!$G420,\";\"))),\"\")","v":""},{"$f":"IF(ISNUMBER(SEARCH(B$206,'12.Partner Involvement'!$G420))=TRUE,(('12.Partner Involvement'!$D420*'12.Partner Involvement'!$E420)/COUNTA(_xlfn.TEXTSPLIT('12.Partner Involvement'!$G420,\";\"))),\"\")","v":""},{"$f":"IF(ISNUMBER(SEARCH(C$206,'12.Partner Involvement'!$G420))=TRUE,(('12.Partner Involvement'!$D420*'12.Partner Involvement'!$E420)/COUNTA(_xlfn.TEXTSPLIT('12.Partner Involvement'!$G420,\";\"))),\"\")","v":""},null,{"$f":"IF(ISNUMBER(SEARCH(E$206,'12.Partner Involvement'!$H420))=TRUE,(('12.Partner Involvement'!$D420*'12.Partner Involvement'!$E420)/COUNTA(_xlfn.TEXTSPLIT('12.Partner Involvement'!$H420,\";\"))),\"\")","v":""},{"$f":"IF(ISNUMBER(SEARCH(F$206,'12.Partner Involvement'!$H420))=TRUE,(('12.Partner Involvement'!$D420*'12.Partner Involvement'!$E420)/COUNTA(_xlfn.TEXTSPLIT('12.Partner Involvement'!$H420,\";\"))),\"\")","v":""},{"$f":"IF(ISNUMBER(SEARCH(G$206,'12.Partner Involvement'!$H420))=TRUE,(('12.Partner Involvement'!$D420*'12.Partner Involvement'!$E420)/COUNTA(_xlfn.TEXTSPLIT('12.Partner Involvement'!$H420,\";\"))),\"\")","v":""},{"$f":"IF(ISNUMBER(SEARCH(H$206,'12.Partner Involvement'!$H420))=TRUE,(('12.Partner Involvement'!$D420*'12.Partner Involvement'!$E420)/COUNTA(_xlfn.TEXTSPLIT('12.Partner Involvement'!$H420,\";\"))),\"\")","v":""}]
[{"$f":"IF(ISNUMBER(SEARCH(A$206,'12.Partner Involvement'!$G421))=TRUE,(('12.Partner Involvement'!$D421*'12.Partner Involvement'!$E421)/COUNTA(_xlfn.TEXTSPLIT('12.Partner Involvement'!$G421,\";\"))),\"\")","v":""},{"$f":"IF(ISNUMBER(SEARCH(B$206,'12.Partner Involvement'!$G421))=TRUE,(('12.Partner Involvement'!$D421*'12.Partner Involvement'!$E421)/COUNTA(_xlfn.TEXTSPLIT('12.Partner Involvement'!$G421,\";\"))),\"\")","v":""},{"$f":"IF(ISNUMBER(SEARCH(C$206,'12.Partner Involvement'!$G421))=TRUE,(('12.Partner Involvement'!$D421*'12.Partner Involvement'!$E421)/COUNTA(_xlfn.TEXTSPLIT('12.Partner Involvement'!$G421,\";\"))),\"\")","v":""},null,{"$f":"IF(ISNUMBER(SEARCH(E$206,'12.Partner Involvement'!$H421))=TRUE,(('12.Partner Involvement'!$D421*'12.Partner Involvement'!$E421)/COUNTA(_xlfn.TEXTSPLIT('12.Partner Involvement'!$H421,\";\"))),\"\")","v":""},{"$f":"IF(ISNUMBER(SEARCH(F$206,'12.Partner Involvement'!$H421))=TRUE,(('12.Partner Involvement'!$D421*'12.Partner Involvement'!$E421)/COUNTA(_xlfn.TEXTSPLIT('12.Partner Involvement'!$H421,\";\"))),\"\")","v":""},{"$f":"IF(ISNUMBER(SEARCH(G$206,'12.Partner Involvement'!$H421))=TRUE,(('12.Partner Involvement'!$D421*'12.Partner Involvement'!$E421)/COUNTA(_xlfn.TEXTSPLIT('12.Partner Involvement'!$H421,\";\"))),\"\")","v":""},{"$f":"IF(ISNUMBER(SEARCH(H$206,'12.Partner Involvement'!$H421))=TRUE,(('12.Partner Involvement'!$D421*'12.Partner Involvement'!$E421)/COUNTA(_xlfn.TEXTSPLIT('12.Partner Involvement'!$H421,\";\"))),\"\")","v":""}]
[{"$f":"IF(ISNUMBER(SEARCH(A$206,'12.Partner Involvement'!$G422))=TRUE,(('12.Partner Involvement'!$D422*'12.Partner Involvement'!$E422)/COUNTA(_xlfn.TEXTSPLIT('12.Partner Involvement'!$G422,\";\"))),\"\")","v":""},{"$f":"IF(ISNUMBER(SEARCH(B$206,'12.Partner Involvement'!$G422))=TRUE,(('12.Partner Involvement'!$D422*'12.Partner Involvement'!$E422)/COUNTA(_xlfn.TEXTSPLIT('12.Partner Involvement'!$G422,\";\"))),\"\")","v":""},{"$f":"IF(ISNUMBER(SEARCH(C$206,'12.Partner Involvement'!$G422))=TRUE,(('12.Partner Involvement'!$D422*'12.Partner Involvement'!$E422)/COUNTA(_xlfn.TEXTSPLIT('12.Partner Involvement'!$G422,\";\"))),\"\")","v":""},null,{"$f":"IF(ISNUMBER(SEARCH(E$206,'12.Partner Involvement'!$H422))=TRUE,(('12.Partner Involvement'!$D422*'12.Partner Involvement'!$E422)/COUNTA(_xlfn.TEXTSPLIT('12.Partner Involvement'!$H422,\";\"))),\"\")","v":""},{"$f":"IF(ISNUMBER(SEARCH(F$206,'12.Partner Involvement'!$H422))=TRUE,(('12.Partner Involvement'!$D422*'12.Partner Involvement'!$E422)/COUNTA(_xlfn.TEXTSPLIT('12.Partner Involvement'!$H422,\";\"))),\"\")","v":""},{"$f":"IF(ISNUMBER(SEARCH(G$206,'12.Partner Involvement'!$H422))=TRUE,(('12.Partner Involvement'!$D422*'12.Partner Involvement'!$E422)/COUNTA(_xlfn.TEXTSPLIT('12.Partner Involvement'!$H422,\";\"))),\"\")","v":""},{"$f":"IF(ISNUMBER(SEARCH(H$206,'12.Partner Involvement'!$H422))=TRUE,(('12.Partner Involvement'!$D422*'12.Partner Involvement'!$E422)/COUNTA(_xlfn.TEXTSPLIT('12.Partner Involvement'!$H422,\";\"))),\"\")","v":""}]
[{"$f":"IF(ISNUMBER(SEARCH(A$206,'12.Partner Involvement'!$G423))=TRUE,(('12.Partner Involvement'!$D423*'12.Partner Involvement'!$E423)/COUNTA(_xlfn.TEXTSPLIT('12.Partner Involvement'!$G423,\";\"))),\"\")","v":""},{"$f":"IF(ISNUMBER(SEARCH(B$206,'12.Partner Involvement'!$G423))=TRUE,(('12.Partner Involvement'!$D423*'12.Partner Involvement'!$E423)/COUNTA(_xlfn.TEXTSPLIT('12.Partner Involvement'!$G423,\";\"))),\"\")","v":""},{"$f":"IF(ISNUMBER(SEARCH(C$206,'12.Partner Involvement'!$G423))=TRUE,(('12.Partner Involvement'!$D423*'12.Partner Involvement'!$E423)/COUNTA(_xlfn.TEXTSPLIT('12.Partner Involvement'!$G423,\";\"))),\"\")","v":""},null,{"$f":"IF(ISNUMBER(SEARCH(E$206,'12.Partner Involvement'!$H423))=TRUE,(('12.Partner Involvement'!$D423*'12.Partner Involvement'!$E423)/COUNTA(_xlfn.TEXTSPLIT('12.Partner Involvement'!$H423,\";\"))),\"\")","v":""},{"$f":"IF(ISNUMBER(SEARCH(F$206,'12.Partner Involvement'!$H423))=TRUE,(('12.Partner Involvement'!$D423*'12.Partner Involvement'!$E423)/COUNTA(_xlfn.TEXTSPLIT('12.Partner Involvement'!$H423,\";\"))),\"\")","v":""},{"$f":"IF(ISNUMBER(SEARCH(G$206,'12.Partner Involvement'!$H423))=TRUE,(('12.Partner Involvement'!$D423*'12.Partner Involvement'!$E423)/COUNTA(_xlfn.TEXTSPLIT('12.Partner Involvement'!$H423,\";\"))),\"\")","v":""},{"$f":"IF(ISNUMBER(SEARCH(H$206,'12.Partner Involvement'!$H423))=TRUE,(('12.Partner Involvement'!$D423*'12.Partner Involvement'!$E423)/COUNTA(_xlfn.TEXTSPLIT('12.Partner Involvement'!$H423,\";\"))),\"\")","v":""}]
[{"$f":"IF(ISNUMBER(SEARCH(A$206,'12.Partner Involvement'!$G424))=TRUE,(('12.Partner Involvement'!$D424*'12.Partner Involvement'!$E424)/COUNTA(_xlfn.TEXTSPLIT('12.Partner Involvement'!$G424,\";\"))),\"\")","v":""},{"$f":"IF(ISNUMBER(SEARCH(B$206,'12.Partner Involvement'!$G424))=TRUE,(('12.Partner Involvement'!$D424*'12.Partner Involvement'!$E424)/COUNTA(_xlfn.TEXTSPLIT('12.Partner Involvement'!$G424,\";\"))),\"\")","v":""},{"$f":"IF(ISNUMBER(SEARCH(C$206,'12.Partner Involvement'!$G424))=TRUE,(('12.Partner Involvement'!$D424*'12.Partner Involvement'!$E424)/COUNTA(_xlfn.TEXTSPLIT('12.Partner Involvement'!$G424,\";\"))),\"\")","v":""},null,{"$f":"IF(ISNUMBER(SEARCH(E$206,'12.Partner Involvement'!$H424))=TRUE,(('12.Partner Involvement'!$D424*'12.Partner Involvement'!$E424)/COUNTA(_xlfn.TEXTSPLIT('12.Partner Involvement'!$H424,\";\"))),\"\")","v":""},{"$f":"IF(ISNUMBER(SEARCH(F$206,'12.Partner Involvement'!$H424))=TRUE,(('12.Partner Involvement'!$D424*'12.Partner Involvement'!$E424)/COUNTA(_xlfn.TEXTSPLIT('12.Partner Involvement'!$H424,\";\"))),\"\")","v":""},{"$f":"IF(ISNUMBER(SEARCH(G$206,'12.Partner Involvement'!$H424))=TRUE,(('12.Partner Involvement'!$D424*'12.Partner Involvement'!$E424)/COUNTA(_xlfn.TEXTSPLIT('12.Partner Involvement'!$H424,\";\"))),\"\")","v":""},{"$f":"IF(ISNUMBER(SEARCH(H$206,'12.Partner Involvement'!$H424))=TRUE,(('12.Partner Involvement'!$D424*'12.Partner Involvement'!$E424)/COUNTA(_xlfn.TEXTSPLIT('12.Partner Involvement'!$H424,\";\"))),\"\")","v":""}]
[{"$f":"IF(ISNUMBER(SEARCH(A$206,'12.Partner Involvement'!$G425))=TRUE,(('12.Partner Involvement'!$D425*'12.Partner Involvement'!$E425)/COUNTA(_xlfn.TEXTSPLIT('12.Partner Involvement'!$G425,\";\"))),\"\")","v":""},{"$f":"IF(ISNUMBER(SEARCH(B$206,'12.Partner Involvement'!$G425))=TRUE,(('12.Partner Involvement'!$D425*'12.Partner Involvement'!$E425)/COUNTA(_xlfn.TEXTSPLIT('12.Partner Involvement'!$G425,\";\"))),\"\")","v":""},{"$f":"IF(ISNUMBER(SEARCH(C$206,'12.Partner Involvement'!$G425))=TRUE,(('12.Partner Involvement'!$D425*'12.Partner Involvement'!$E425)/COUNTA(_xlfn.TEXTSPLIT('12.Partner Involvement'!$G425,\";\"))),\"\")","v":""},null,{"$f":"IF(ISNUMBER(SEARCH(E$206,'12.Partner Involvement'!$H425))=TRUE,(('12.Partner Involvement'!$D425*'12.Partner Involvement'!$E425)/COUNTA(_xlfn.TEXTSPLIT('12.Partner Involvement'!$H425,\";\"))),\"\")","v":""},{"$f":"IF(ISNUMBER(SEARCH(F$206,'12.Partner Involvement'!$H425))=TRUE,(('12.Partner Involvement'!$D425*'12.Partner Involvement'!$E425)/COUNTA(_xlfn.TEXTSPLIT('12.Partner Involvement'!$H425,\";\"))),\"\")","v":""},{"$f":"IF(ISNUMBER(SEARCH(G$206,'12.Partner Involvement'!$H425))=TRUE,(('12.Partner Involvement'!$D425*'12.Partner Involvement'!$E425)/COUNTA(_xlfn.TEXTSPLIT('12.Partner Involvement'!$H425,\";\"))),\"\")","v":""},{"$f":"IF(ISNUMBER(SEARCH(H$206,'12.Partner Involvement'!$H425))=TRUE,(('12.Partner Involvement'!$D425*'12.Partner Involvement'!$E425)/COUNTA(_xlfn.TEXTSPLIT('12.Partner Involvement'!$H425,\";\"))),\"\")","v":""}]
[{"$f":"IF(ISNUMBER(SEARCH(A$206,'12.Partner Involvement'!$G426))=TRUE,(('12.Partner Involvement'!$D426*'12.Partner Involvement'!$E426)/COUNTA(_xlfn.TEXTSPLIT('12.Partner Involvement'!$G426,\";\"))),\"\")","v":""},{"$f":"IF(ISNUMBER(SEARCH(B$206,'12.Partner Involvement'!$G426))=TRUE,(('12.Partner Involvement'!$D426*'12.Partner Involvement'!$E426)/COUNTA(_xlfn.TEXTSPLIT('12.Partner Involvement'!$G426,\";\"))),\"\")","v":""},{"$f":"IF(ISNUMBER(SEARCH(C$206,'12.Partner Involvement'!$G426))=TRUE,(('12.Partner Involvement'!$D426*'12.Partner Involvement'!$E426)/COUNTA(_xlfn.TEXTSPLIT('12.Partner Involvement'!$G426,\";\"))),\"\")","v":""},null,{"$f":"IF(ISNUMBER(SEARCH(E$206,'12.Partner Involvement'!$H426))=TRUE,(('12.Partner Involvement'!$D426*'12.Partner Involvement'!$E426)/COUNTA(_xlfn.TEXTSPLIT('12.Partner Involvement'!$H426,\";\"))),\"\")","v":""},{"$f":"IF(ISNUMBER(SEARCH(F$206,'12.Partner Involvement'!$H426))=TRUE,(('12.Partner Involvement'!$D426*'12.Partner Involvement'!$E426)/COUNTA(_xlfn.TEXTSPLIT('12.Partner Involvement'!$H426,\";\"))),\"\")","v":""},{"$f":"IF(ISNUMBER(SEARCH(G$206,'12.Partner Involvement'!$H426))=TRUE,(('12.Partner Involvement'!$D426*'12.Partner Involvement'!$E426)/COUNTA(_xlfn.TEXTSPLIT('12.Partner Involvement'!$H426,\";\"))),\"\")","v":""},{"$f":"IF(ISNUMBER(SEARCH(H$206,'12.Partner Involvement'!$H426))=TRUE,(('12.Partner Involvement'!$D426*'12.Partner Involvement'!$E426)/COUNTA(_xlfn.TEXTSPLIT('12.Partner Involvement'!$H426,\";\"))),\"\")","v":""}]
[{"$f":"IF(ISNUMBER(SEARCH(A$206,'12.Partner Involvement'!$G427))=TRUE,(('12.Partner Involvement'!$D427*'12.Partner Involvement'!$E427)/COUNTA(_xlfn.TEXTSPLIT('12.Partner Involvement'!$G427,\";\"))),\"\")","v":""},{"$f":"IF(ISNUMBER(SEARCH(B$206,'12.Partner Involvement'!$G427))=TRUE,(('12.Partner Involvement'!$D427*'12.Partner Involvement'!$E427)/COUNTA(_xlfn.TEXTSPLIT('12.Partner Involvement'!$G427,\";\"))),\"\")","v":""},{"$f":"IF(ISNUMBER(SEARCH(C$206,'12.Partner Involvement'!$G427))=TRUE,(('12.Partner Involvement'!$D427*'12.Partner Involvement'!$E427)/COUNTA(_xlfn.TEXTSPLIT('12.Partner Involvement'!$G427,\";\"))),\"\")","v":""},null,{"$f":"IF(ISNUMBER(SEARCH(E$206,'12.Partner Involvement'!$H427))=TRUE,(('12.Partner Involvement'!$D427*'12.Partner Involvement'!$E427)/COUNTA(_xlfn.TEXTSPLIT('12.Partner Involvement'!$H427,\";\"))),\"\")","v":""},{"$f":"IF(ISNUMBER(SEARCH(F$206,'12.Partner Involvement'!$H427))=TRUE,(('12.Partner Involvement'!$D427*'12.Partner Involvement'!$E427)/COUNTA(_xlfn.TEXTSPLIT('12.Partner Involvement'!$H427,\";\"))),\"\")","v":""},{"$f":"IF(ISNUMBER(SEARCH(G$206,'12.Partner Involvement'!$H427))=TRUE,(('12.Partner Involvement'!$D427*'12.Partner Involvement'!$E427)/COUNTA(_xlfn.TEXTSPLIT('12.Partner Involvement'!$H427,\";\"))),\"\")","v":""},{"$f":"IF(ISNUMBER(SEARCH(H$206,'12.Partner Involvement'!$H427))=TRUE,(('12.Partner Involvement'!$D427*'12.Partner Involvement'!$E427)/COUNTA(_xlfn.TEXTSPLIT('12.Partner Involvement'!$H427,\";\"))),\"\")","v":""}]
[{"$f":"IF(ISNUMBER(SEARCH(A$206,'12.Partner Involvement'!$G428))=TRUE,(('12.Partner Involvement'!$D428*'12.Partner Involvement'!$E428)/COUNTA(_xlfn.TEXTSPLIT('12.Partner Involvement'!$G428,\";\"))),\"\")","v":""},{"$f":"IF(ISNUMBER(SEARCH(B$206,'12.Partner Involvement'!$G428))=TRUE,(('12.Partner Involvement'!$D428*'12.Partner Involvement'!$E428)/COUNTA(_xlfn.TEXTSPLIT('12.Partner Involvement'!$G428,\";\"))),\"\")","v":""},{"$f":"IF(ISNUMBER(SEARCH(C$206,'12.Partner Involvement'!$G428))=TRUE,(('12.Partner Involvement'!$D428*'12.Partner Involvement'!$E428)/COUNTA(_xlfn.TEXTSPLIT('12.Partner Involvement'!$G428,\";\"))),\"\")","v":""},null,{"$f":"IF(ISNUMBER(SEARCH(E$206,'12.Partner Involvement'!$H428))=TRUE,(('12.Partner Involvement'!$D428*'12.Partner Involvement'!$E428)/COUNTA(_xlfn.TEXTSPLIT('12.Partner Involvement'!$H428,\";\"))),\"\")","v":""},{"$f":"IF(ISNUMBER(SEARCH(F$206,'12.Partner Involvement'!$H428))=TRUE,(('12.Partner Involvement'!$D428*'12.Partner Involvement'!$E428)/COUNTA(_xlfn.TEXTSPLIT('12.Partner Involvement'!$H428,\";\"))),\"\")","v":""},{"$f":"IF(ISNUMBER(SEARCH(G$206,'12.Partner Involvement'!$H428))=TRUE,(('12.Partner Involvement'!$D428*'12.Partner Involvement'!$E428)/COUNTA(_xlfn.TEXTSPLIT('12.Partner Involvement'!$H428,\";\"))),\"\")","v":""},{"$f":"IF(ISNUMBER(SEARCH(H$206,'12.Partner Involvement'!$H428))=TRUE,(('12.Partner Involvement'!$D428*'12.Partner Involvement'!$E428)/COUNTA(_xlfn.TEXTSPLIT('12.Partner Involvement'!$H428,\";\"))),\"\")","v":""}]
[{"$f":"IF(ISNUMBER(SEARCH(A$206,'12.Partner Involvement'!$G429))=TRUE,(('12.Partner Involvement'!$D429*'12.Partner Involvement'!$E429)/COUNTA(_xlfn.TEXTSPLIT('12.Partner Involvement'!$G429,\";\"))),\"\")","v":""},{"$f":"IF(ISNUMBER(SEARCH(B$206,'12.Partner Involvement'!$G429))=TRUE,(('12.Partner Involvement'!$D429*'12.Partner Involvement'!$E429)/COUNTA(_xlfn.TEXTSPLIT('12.Partner Involvement'!$G429,\";\"))),\"\")","v":""},{"$f":"IF(ISNUMBER(SEARCH(C$206,'12.Partner Involvement'!$G429))=TRUE,(('12.Partner Involvement'!$D429*'12.Partner Involvement'!$E429)/COUNTA(_xlfn.TEXTSPLIT('12.Partner Involvement'!$G429,\";\"))),\"\")","v":""},null,{"$f":"IF(ISNUMBER(SEARCH(E$206,'12.Partner Involvement'!$H429))=TRUE,(('12.Partner Involvement'!$D429*'12.Partner Involvement'!$E429)/COUNTA(_xlfn.TEXTSPLIT('12.Partner Involvement'!$H429,\";\"))),\"\")","v":""},{"$f":"IF(ISNUMBER(SEARCH(F$206,'12.Partner Involvement'!$H429))=TRUE,(('12.Partner Involvement'!$D429*'12.Partner Involvement'!$E429)/COUNTA(_xlfn.TEXTSPLIT('12.Partner Involvement'!$H429,\";\"))),\"\")","v":""},{"$f":"IF(ISNUMBER(SEARCH(G$206,'12.Partner Involvement'!$H429))=TRUE,(('12.Partner Involvement'!$D429*'12.Partner Involvement'!$E429)/COUNTA(_xlfn.TEXTSPLIT('12.Partner Involvement'!$H429,\";\"))),\"\")","v":""},{"$f":"IF(ISNUMBER(SEARCH(H$206,'12.Partner Involvement'!$H429))=TRUE,(('12.Partner Involvement'!$D429*'12.Partner Involvement'!$E429)/COUNTA(_xlfn.TEXTSPLIT('12.Partner Involvement'!$H429,\";\"))),\"\")","v":""}]
[{"$f":"IF(ISNUMBER(SEARCH(A$206,'12.Partner Involvement'!$G430))=TRUE,(('12.Partner Involvement'!$D430*'12.Partner Involvement'!$E430)/COUNTA(_xlfn.TEXTSPLIT('12.Partner Involvement'!$G430,\";\"))),\"\")","v":""},{"$f":"IF(ISNUMBER(SEARCH(B$206,'12.Partner Involvement'!$G430))=TRUE,(('12.Partner Involvement'!$D430*'12.Partner Involvement'!$E430)/COUNTA(_xlfn.TEXTSPLIT('12.Partner Involvement'!$G430,\";\"))),\"\")","v":""},{"$f":"IF(ISNUMBER(SEARCH(C$206,'12.Partner Involvement'!$G430))=TRUE,(('12.Partner Involvement'!$D430*'12.Partner Involvement'!$E430)/COUNTA(_xlfn.TEXTSPLIT('12.Partner Involvement'!$G430,\";\"))),\"\")","v":""},null,{"$f":"IF(ISNUMBER(SEARCH(E$206,'12.Partner Involvement'!$H430))=TRUE,(('12.Partner Involvement'!$D430*'12.Partner Involvement'!$E430)/COUNTA(_xlfn.TEXTSPLIT('12.Partner Involvement'!$H430,\";\"))),\"\")","v":""},{"$f":"IF(ISNUMBER(SEARCH(F$206,'12.Partner Involvement'!$H430))=TRUE,(('12.Partner Involvement'!$D430*'12.Partner Involvement'!$E430)/COUNTA(_xlfn.TEXTSPLIT('12.Partner Involvement'!$H430,\";\"))),\"\")","v":""},{"$f":"IF(ISNUMBER(SEARCH(G$206,'12.Partner Involvement'!$H430))=TRUE,(('12.Partner Involvement'!$D430*'12.Partner Involvement'!$E430)/COUNTA(_xlfn.TEXTSPLIT('12.Partner Involvement'!$H430,\";\"))),\"\")","v":""},{"$f":"IF(ISNUMBER(SEARCH(H$206,'12.Partner Involvement'!$H430))=TRUE,(('12.Partner Involvement'!$D430*'12.Partner Involvement'!$E430)/COUNTA(_xlfn.TEXTSPLIT('12.Partner Involvement'!$H430,\";\"))),\"\")","v":""}]
[{"$f":"IF(ISNUMBER(SEARCH(A$206,'12.Partner Involvement'!$G431))=TRUE,(('12.Partner Involvement'!$D431*'12.Partner Involvement'!$E431)/COUNTA(_xlfn.TEXTSPLIT('12.Partner Involvement'!$G431,\";\"))),\"\")","v":""},{"$f":"IF(ISNUMBER(SEARCH(B$206,'12.Partner Involvement'!$G431))=TRUE,(('12.Partner Involvement'!$D431*'12.Partner Involvement'!$E431)/COUNTA(_xlfn.TEXTSPLIT('12.Partner Involvement'!$G431,\";\"))),\"\")","v":""},{"$f":"IF(ISNUMBER(SEARCH(C$206,'12.Partner Involvement'!$G431))=TRUE,(('12.Partner Involvement'!$D431*'12.Partner Involvement'!$E431)/COUNTA(_xlfn.TEXTSPLIT('12.Partner Involvement'!$G431,\";\"))),\"\")","v":""},null,{"$f":"IF(ISNUMBER(SEARCH(E$206,'12.Partner Involvement'!$H431))=TRUE,(('12.Partner Involvement'!$D431*'12.Partner Involvement'!$E431)/COUNTA(_xlfn.TEXTSPLIT('12.Partner Involvement'!$H431,\";\"))),\"\")","v":""},{"$f":"IF(ISNUMBER(SEARCH(F$206,'12.Partner Involvement'!$H431))=TRUE,(('12.Partner Involvement'!$D431*'12.Partner Involvement'!$E431)/COUNTA(_xlfn.TEXTSPLIT('12.Partner Involvement'!$H431,\";\"))),\"\")","v":""},{"$f":"IF(ISNUMBER(SEARCH(G$206,'12.Partner Involvement'!$H431))=TRUE,(('12.Partner Involvement'!$D431*'12.Partner Involvement'!$E431)/COUNTA(_xlfn.TEXTSPLIT('12.Partner Involvement'!$H431,\";\"))),\"\")","v":""},{"$f":"IF(ISNUMBER(SEARCH(H$206,'12.Partner Involvement'!$H431))=TRUE,(('12.Partner Involvement'!$D431*'12.Partner Involvement'!$E431)/COUNTA(_xlfn.TEXTSPLIT('12.Partner Involvement'!$H431,\";\"))),\"\")","v":""}]
[{"$f":"IF(ISNUMBER(SEARCH(A$206,'12.Partner Involvement'!$G432))=TRUE,(('12.Partner Involvement'!$D432*'12.Partner Involvement'!$E432)/COUNTA(_xlfn.TEXTSPLIT('12.Partner Involvement'!$G432,\";\"))),\"\")","v":""},{"$f":"IF(ISNUMBER(SEARCH(B$206,'12.Partner Involvement'!$G432))=TRUE,(('12.Partner Involvement'!$D432*'12.Partner Involvement'!$E432)/COUNTA(_xlfn.TEXTSPLIT('12.Partner Involvement'!$G432,\";\"))),\"\")","v":""},{"$f":"IF(ISNUMBER(SEARCH(C$206,'12.Partner Involvement'!$G432))=TRUE,(('12.Partner Involvement'!$D432*'12.Partner Involvement'!$E432)/COUNTA(_xlfn.TEXTSPLIT('12.Partner Involvement'!$G432,\";\"))),\"\")","v":""},null,{"$f":"IF(ISNUMBER(SEARCH(E$206,'12.Partner Involvement'!$H432))=TRUE,(('12.Partner Involvement'!$D432*'12.Partner Involvement'!$E432)/COUNTA(_xlfn.TEXTSPLIT('12.Partner Involvement'!$H432,\";\"))),\"\")","v":""},{"$f":"IF(ISNUMBER(SEARCH(F$206,'12.Partner Involvement'!$H432))=TRUE,(('12.Partner Involvement'!$D432*'12.Partner Involvement'!$E432)/COUNTA(_xlfn.TEXTSPLIT('12.Partner Involvement'!$H432,\";\"))),\"\")","v":""},{"$f":"IF(ISNUMBER(SEARCH(G$206,'12.Partner Involvement'!$H432))=TRUE,(('12.Partner Involvement'!$D432*'12.Partner Involvement'!$E432)/COUNTA(_xlfn.TEXTSPLIT('12.Partner Involvement'!$H432,\";\"))),\"\")","v":""},{"$f":"IF(ISNUMBER(SEARCH(H$206,'12.Partner Involvement'!$H432))=TRUE,(('12.Partner Involvement'!$D432*'12.Partner Involvement'!$E432)/COUNTA(_xlfn.TEXTSPLIT('12.Partner Involvement'!$H432,\";\"))),\"\")","v":""}]
[{"$f":"IF(ISNUMBER(SEARCH(A$206,'12.Partner Involvement'!$G433))=TRUE,(('12.Partner Involvement'!$D433*'12.Partner Involvement'!$E433)/COUNTA(_xlfn.TEXTSPLIT('12.Partner Involvement'!$G433,\";\"))),\"\")","v":""},{"$f":"IF(ISNUMBER(SEARCH(B$206,'12.Partner Involvement'!$G433))=TRUE,(('12.Partner Involvement'!$D433*'12.Partner Involvement'!$E433)/COUNTA(_xlfn.TEXTSPLIT('12.Partner Involvement'!$G433,\";\"))),\"\")","v":""},{"$f":"IF(ISNUMBER(SEARCH(C$206,'12.Partner Involvement'!$G433))=TRUE,(('12.Partner Involvement'!$D433*'12.Partner Involvement'!$E433)/COUNTA(_xlfn.TEXTSPLIT('12.Partner Involvement'!$G433,\";\"))),\"\")","v":""},null,{"$f":"IF(ISNUMBER(SEARCH(E$206,'12.Partner Involvement'!$H433))=TRUE,(('12.Partner Involvement'!$D433*'12.Partner Involvement'!$E433)/COUNTA(_xlfn.TEXTSPLIT('12.Partner Involvement'!$H433,\";\"))),\"\")","v":""},{"$f":"IF(ISNUMBER(SEARCH(F$206,'12.Partner Involvement'!$H433))=TRUE,(('12.Partner Involvement'!$D433*'12.Partner Involvement'!$E433)/COUNTA(_xlfn.TEXTSPLIT('12.Partner Involvement'!$H433,\";\"))),\"\")","v":""},{"$f":"IF(ISNUMBER(SEARCH(G$206,'12.Partner Involvement'!$H433))=TRUE,(('12.Partner Involvement'!$D433*'12.Partner Involvement'!$E433)/COUNTA(_xlfn.TEXTSPLIT('12.Partner Involvement'!$H433,\";\"))),\"\")","v":""},{"$f":"IF(ISNUMBER(SEARCH(H$206,'12.Partner Involvement'!$H433))=TRUE,(('12.Partner Involvement'!$D433*'12.Partner Involvement'!$E433)/COUNTA(_xlfn.TEXTSPLIT('12.Partner Involvement'!$H433,\";\"))),\"\")","v":""}]
[{"$f":"IF(ISNUMBER(SEARCH(A$206,'12.Partner Involvement'!$G434))=TRUE,(('12.Partner Involvement'!$D434*'12.Partner Involvement'!$E434)/COUNTA(_xlfn.TEXTSPLIT('12.Partner Involvement'!$G434,\";\"))),\"\")","v":""},{"$f":"IF(ISNUMBER(SEARCH(B$206,'12.Partner Involvement'!$G434))=TRUE,(('12.Partner Involvement'!$D434*'12.Partner Involvement'!$E434)/COUNTA(_xlfn.TEXTSPLIT('12.Partner Involvement'!$G434,\";\"))),\"\")","v":""},{"$f":"IF(ISNUMBER(SEARCH(C$206,'12.Partner Involvement'!$G434))=TRUE,(('12.Partner Involvement'!$D434*'12.Partner Involvement'!$E434)/COUNTA(_xlfn.TEXTSPLIT('12.Partner Involvement'!$G434,\";\"))),\"\")","v":""},null,{"$f":"IF(ISNUMBER(SEARCH(E$206,'12.Partner Involvement'!$H434))=TRUE,(('12.Partner Involvement'!$D434*'12.Partner Involvement'!$E434)/COUNTA(_xlfn.TEXTSPLIT('12.Partner Involvement'!$H434,\";\"))),\"\")","v":""},{"$f":"IF(ISNUMBER(SEARCH(F$206,'12.Partner Involvement'!$H434))=TRUE,(('12.Partner Involvement'!$D434*'12.Partner Involvement'!$E434)/COUNTA(_xlfn.TEXTSPLIT('12.Partner Involvement'!$H434,\";\"))),\"\")","v":""},{"$f":"IF(ISNUMBER(SEARCH(G$206,'12.Partner Involvement'!$H434))=TRUE,(('12.Partner Involvement'!$D434*'12.Partner Involvement'!$E434)/COUNTA(_xlfn.TEXTSPLIT('12.Partner Involvement'!$H434,\";\"))),\"\")","v":""},{"$f":"IF(ISNUMBER(SEARCH(H$206,'12.Partner Involvement'!$H434))=TRUE,(('12.Partner Involvement'!$D434*'12.Partner Involvement'!$E434)/COUNTA(_xlfn.TEXTSPLIT('12.Partner Involvement'!$H434,\";\"))),\"\")","v":""}]
[{"$f":"IF(ISNUMBER(SEARCH(A$206,'12.Partner Involvement'!$G435))=TRUE,(('12.Partner Involvement'!$D435*'12.Partner Involvement'!$E435)/COUNTA(_xlfn.TEXTSPLIT('12.Partner Involvement'!$G435,\";\"))),\"\")","v":""},{"$f":"IF(ISNUMBER(SEARCH(B$206,'12.Partner Involvement'!$G435))=TRUE,(('12.Partner Involvement'!$D435*'12.Partner Involvement'!$E435)/COUNTA(_xlfn.TEXTSPLIT('12.Partner Involvement'!$G435,\";\"))),\"\")","v":""},{"$f":"IF(ISNUMBER(SEARCH(C$206,'12.Partner Involvement'!$G435))=TRUE,(('12.Partner Involvement'!$D435*'12.Partner Involvement'!$E435)/COUNTA(_xlfn.TEXTSPLIT('12.Partner Involvement'!$G435,\";\"))),\"\")","v":""},null,{"$f":"IF(ISNUMBER(SEARCH(E$206,'12.Partner Involvement'!$H435))=TRUE,(('12.Partner Involvement'!$D435*'12.Partner Involvement'!$E435)/COUNTA(_xlfn.TEXTSPLIT('12.Partner Involvement'!$H435,\";\"))),\"\")","v":""},{"$f":"IF(ISNUMBER(SEARCH(F$206,'12.Partner Involvement'!$H435))=TRUE,(('12.Partner Involvement'!$D435*'12.Partner Involvement'!$E435)/COUNTA(_xlfn.TEXTSPLIT('12.Partner Involvement'!$H435,\";\"))),\"\")","v":""},{"$f":"IF(ISNUMBER(SEARCH(G$206,'12.Partner Involvement'!$H435))=TRUE,(('12.Partner Involvement'!$D435*'12.Partner Involvement'!$E435)/COUNTA(_xlfn.TEXTSPLIT('12.Partner Involvement'!$H435,\";\"))),\"\")","v":""},{"$f":"IF(ISNUMBER(SEARCH(H$206,'12.Partner Involvement'!$H435))=TRUE,(('12.Partner Involvement'!$D435*'12.Partner Involvement'!$E435)/COUNTA(_xlfn.TEXTSPLIT('12.Partner Involvement'!$H435,\";\"))),\"\")","v":""}]
[{"$f":"IF(ISNUMBER(SEARCH(A$206,'12.Partner Involvement'!$G436))=TRUE,(('12.Partner Involvement'!$D436*'12.Partner Involvement'!$E436)/COUNTA(_xlfn.TEXTSPLIT('12.Partner Involvement'!$G436,\";\"))),\"\")","v":""},{"$f":"IF(ISNUMBER(SEARCH(B$206,'12.Partner Involvement'!$G436))=TRUE,(('12.Partner Involvement'!$D436*'12.Partner Involvement'!$E436)/COUNTA(_xlfn.TEXTSPLIT('12.Partner Involvement'!$G436,\";\"))),\"\")","v":""},{"$f":"IF(ISNUMBER(SEARCH(C$206,'12.Partner Involvement'!$G436))=TRUE,(('12.Partner Involvement'!$D436*'12.Partner Involvement'!$E436)/COUNTA(_xlfn.TEXTSPLIT('12.Partner Involvement'!$G436,\";\"))),\"\")","v":""},null,{"$f":"IF(ISNUMBER(SEARCH(E$206,'12.Partner Involvement'!$H436))=TRUE,(('12.Partner Involvement'!$D436*'12.Partner Involvement'!$E436)/COUNTA(_xlfn.TEXTSPLIT('12.Partner Involvement'!$H436,\";\"))),\"\")","v":""},{"$f":"IF(ISNUMBER(SEARCH(F$206,'12.Partner Involvement'!$H436))=TRUE,(('12.Partner Involvement'!$D436*'12.Partner Involvement'!$E436)/COUNTA(_xlfn.TEXTSPLIT('12.Partner Involvement'!$H436,\";\"))),\"\")","v":""},{"$f":"IF(ISNUMBER(SEARCH(G$206,'12.Partner Involvement'!$H436))=TRUE,(('12.Partner Involvement'!$D436*'12.Partner Involvement'!$E436)/COUNTA(_xlfn.TEXTSPLIT('12.Partner Involvement'!$H436,\";\"))),\"\")","v":""},{"$f":"IF(ISNUMBER(SEARCH(H$206,'12.Partner Involvement'!$H436))=TRUE,(('12.Partner Involvement'!$D436*'12.Partner Involvement'!$E436)/COUNTA(_xlfn.TEXTSPLIT('12.Partner Involvement'!$H436,\";\"))),\"\")","v":""}]
[{"$f":"IF(ISNUMBER(SEARCH(A$206,'12.Partner Involvement'!$G437))=TRUE,(('12.Partner Involvement'!$D437*'12.Partner Involvement'!$E437)/COUNTA(_xlfn.TEXTSPLIT('12.Partner Involvement'!$G437,\";\"))),\"\")","v":""},{"$f":"IF(ISNUMBER(SEARCH(B$206,'12.Partner Involvement'!$G437))=TRUE,(('12.Partner Involvement'!$D437*'12.Partner Involvement'!$E437)/COUNTA(_xlfn.TEXTSPLIT('12.Partner Involvement'!$G437,\";\"))),\"\")","v":""},{"$f":"IF(ISNUMBER(SEARCH(C$206,'12.Partner Involvement'!$G437))=TRUE,(('12.Partner Involvement'!$D437*'12.Partner Involvement'!$E437)/COUNTA(_xlfn.TEXTSPLIT('12.Partner Involvement'!$G437,\";\"))),\"\")","v":""},null,{"$f":"IF(ISNUMBER(SEARCH(E$206,'12.Partner Involvement'!$H437))=TRUE,(('12.Partner Involvement'!$D437*'12.Partner Involvement'!$E437)/COUNTA(_xlfn.TEXTSPLIT('12.Partner Involvement'!$H437,\";\"))),\"\")","v":""},{"$f":"IF(ISNUMBER(SEARCH(F$206,'12.Partner Involvement'!$H437))=TRUE,(('12.Partner Involvement'!$D437*'12.Partner Involvement'!$E437)/COUNTA(_xlfn.TEXTSPLIT('12.Partner Involvement'!$H437,\";\"))),\"\")","v":""},{"$f":"IF(ISNUMBER(SEARCH(G$206,'12.Partner Involvement'!$H437))=TRUE,(('12.Partner Involvement'!$D437*'12.Partner Involvement'!$E437)/COUNTA(_xlfn.TEXTSPLIT('12.Partner Involvement'!$H437,\";\"))),\"\")","v":""},{"$f":"IF(ISNUMBER(SEARCH(H$206,'12.Partner Involvement'!$H437))=TRUE,(('12.Partner Involvement'!$D437*'12.Partner Involvement'!$E437)/COUNTA(_xlfn.TEXTSPLIT('12.Partner Involvement'!$H437,\";\"))),\"\")","v":""}]
[{"$f":"IF(ISNUMBER(SEARCH(A$206,'12.Partner Involvement'!$G438))=TRUE,(('12.Partner Involvement'!$D438*'12.Partner Involvement'!$E438)/COUNTA(_xlfn.TEXTSPLIT('12.Partner Involvement'!$G438,\";\"))),\"\")","v":""},{"$f":"IF(ISNUMBER(SEARCH(B$206,'12.Partner Involvement'!$G438))=TRUE,(('12.Partner Involvement'!$D438*'12.Partner Involvement'!$E438)/COUNTA(_xlfn.TEXTSPLIT('12.Partner Involvement'!$G438,\";\"))),\"\")","v":""},{"$f":"IF(ISNUMBER(SEARCH(C$206,'12.Partner Involvement'!$G438))=TRUE,(('12.Partner Involvement'!$D438*'12.Partner Involvement'!$E438)/COUNTA(_xlfn.TEXTSPLIT('12.Partner Involvement'!$G438,\";\"))),\"\")","v":""},null,{"$f":"IF(ISNUMBER(SEARCH(E$206,'12.Partner Involvement'!$H438))=TRUE,(('12.Partner Involvement'!$D438*'12.Partner Involvement'!$E438)/COUNTA(_xlfn.TEXTSPLIT('12.Partner Involvement'!$H438,\";\"))),\"\")","v":""},{"$f":"IF(ISNUMBER(SEARCH(F$206,'12.Partner Involvement'!$H438))=TRUE,(('12.Partner Involvement'!$D438*'12.Partner Involvement'!$E438)/COUNTA(_xlfn.TEXTSPLIT('12.Partner Involvement'!$H438,\";\"))),\"\")","v":""},{"$f":"IF(ISNUMBER(SEARCH(G$206,'12.Partner Involvement'!$H438))=TRUE,(('12.Partner Involvement'!$D438*'12.Partner Involvement'!$E438)/COUNTA(_xlfn.TEXTSPLIT('12.Partner Involvement'!$H438,\";\"))),\"\")","v":""},{"$f":"IF(ISNUMBER(SEARCH(H$206,'12.Partner Involvement'!$H438))=TRUE,(('12.Partner Involvement'!$D438*'12.Partner Involvement'!$E438)/COUNTA(_xlfn.TEXTSPLIT('12.Partner Involvement'!$H438,\";\"))),\"\")","v":""}]
[{"$f":"IF(ISNUMBER(SEARCH(A$206,'12.Partner Involvement'!$G439))=TRUE,(('12.Partner Involvement'!$D439*'12.Partner Involvement'!$E439)/COUNTA(_xlfn.TEXTSPLIT('12.Partner Involvement'!$G439,\";\"))),\"\")","v":""},{"$f":"IF(ISNUMBER(SEARCH(B$206,'12.Partner Involvement'!$G439))=TRUE,(('12.Partner Involvement'!$D439*'12.Partner Involvement'!$E439)/COUNTA(_xlfn.TEXTSPLIT('12.Partner Involvement'!$G439,\";\"))),\"\")","v":""},{"$f":"IF(ISNUMBER(SEARCH(C$206,'12.Partner Involvement'!$G439))=TRUE,(('12.Partner Involvement'!$D439*'12.Partner Involvement'!$E439)/COUNTA(_xlfn.TEXTSPLIT('12.Partner Involvement'!$G439,\";\"))),\"\")","v":""},null,{"$f":"IF(ISNUMBER(SEARCH(E$206,'12.Partner Involvement'!$H439))=TRUE,(('12.Partner Involvement'!$D439*'12.Partner Involvement'!$E439)/COUNTA(_xlfn.TEXTSPLIT('12.Partner Involvement'!$H439,\";\"))),\"\")","v":""},{"$f":"IF(ISNUMBER(SEARCH(F$206,'12.Partner Involvement'!$H439))=TRUE,(('12.Partner Involvement'!$D439*'12.Partner Involvement'!$E439)/COUNTA(_xlfn.TEXTSPLIT('12.Partner Involvement'!$H439,\";\"))),\"\")","v":""},{"$f":"IF(ISNUMBER(SEARCH(G$206,'12.Partner Involvement'!$H439))=TRUE,(('12.Partner Involvement'!$D439*'12.Partner Involvement'!$E439)/COUNTA(_xlfn.TEXTSPLIT('12.Partner Involvement'!$H439,\";\"))),\"\")","v":""},{"$f":"IF(ISNUMBER(SEARCH(H$206,'12.Partner Involvement'!$H439))=TRUE,(('12.Partner Involvement'!$D439*'12.Partner Involvement'!$E439)/COUNTA(_xlfn.TEXTSPLIT('12.Partner Involvement'!$H439,\";\"))),\"\")","v":""}]
[{"$f":"IF(ISNUMBER(SEARCH(A$206,'12.Partner Involvement'!$G440))=TRUE,(('12.Partner Involvement'!$D440*'12.Partner Involvement'!$E440)/COUNTA(_xlfn.TEXTSPLIT('12.Partner Involvement'!$G440,\";\"))),\"\")","v":""},{"$f":"IF(ISNUMBER(SEARCH(B$206,'12.Partner Involvement'!$G440))=TRUE,(('12.Partner Involvement'!$D440*'12.Partner Involvement'!$E440)/COUNTA(_xlfn.TEXTSPLIT('12.Partner Involvement'!$G440,\";\"))),\"\")","v":""},{"$f":"IF(ISNUMBER(SEARCH(C$206,'12.Partner Involvement'!$G440))=TRUE,(('12.Partner Involvement'!$D440*'12.Partner Involvement'!$E440)/COUNTA(_xlfn.TEXTSPLIT('12.Partner Involvement'!$G440,\";\"))),\"\")","v":""},null,{"$f":"IF(ISNUMBER(SEARCH(E$206,'12.Partner Involvement'!$H440))=TRUE,(('12.Partner Involvement'!$D440*'12.Partner Involvement'!$E440)/COUNTA(_xlfn.TEXTSPLIT('12.Partner Involvement'!$H440,\";\"))),\"\")","v":""},{"$f":"IF(ISNUMBER(SEARCH(F$206,'12.Partner Involvement'!$H440))=TRUE,(('12.Partner Involvement'!$D440*'12.Partner Involvement'!$E440)/COUNTA(_xlfn.TEXTSPLIT('12.Partner Involvement'!$H440,\";\"))),\"\")","v":""},{"$f":"IF(ISNUMBER(SEARCH(G$206,'12.Partner Involvement'!$H440))=TRUE,(('12.Partner Involvement'!$D440*'12.Partner Involvement'!$E440)/COUNTA(_xlfn.TEXTSPLIT('12.Partner Involvement'!$H440,\";\"))),\"\")","v":""},{"$f":"IF(ISNUMBER(SEARCH(H$206,'12.Partner Involvement'!$H440))=TRUE,(('12.Partner Involvement'!$D440*'12.Partner Involvement'!$E440)/COUNTA(_xlfn.TEXTSPLIT('12.Partner Involvement'!$H440,\";\"))),\"\")","v":""}]
[{"$f":"IF(ISNUMBER(SEARCH(A$206,'12.Partner Involvement'!$G441))=TRUE,(('12.Partner Involvement'!$D441*'12.Partner Involvement'!$E441)/COUNTA(_xlfn.TEXTSPLIT('12.Partner Involvement'!$G441,\";\"))),\"\")","v":""},{"$f":"IF(ISNUMBER(SEARCH(B$206,'12.Partner Involvement'!$G441))=TRUE,(('12.Partner Involvement'!$D441*'12.Partner Involvement'!$E441)/COUNTA(_xlfn.TEXTSPLIT('12.Partner Involvement'!$G441,\";\"))),\"\")","v":""},{"$f":"IF(ISNUMBER(SEARCH(C$206,'12.Partner Involvement'!$G441))=TRUE,(('12.Partner Involvement'!$D441*'12.Partner Involvement'!$E441)/COUNTA(_xlfn.TEXTSPLIT('12.Partner Involvement'!$G441,\";\"))),\"\")","v":""},null,{"$f":"IF(ISNUMBER(SEARCH(E$206,'12.Partner Involvement'!$H441))=TRUE,(('12.Partner Involvement'!$D441*'12.Partner Involvement'!$E441)/COUNTA(_xlfn.TEXTSPLIT('12.Partner Involvement'!$H441,\";\"))),\"\")","v":""},{"$f":"IF(ISNUMBER(SEARCH(F$206,'12.Partner Involvement'!$H441))=TRUE,(('12.Partner Involvement'!$D441*'12.Partner Involvement'!$E441)/COUNTA(_xlfn.TEXTSPLIT('12.Partner Involvement'!$H441,\";\"))),\"\")","v":""},{"$f":"IF(ISNUMBER(SEARCH(G$206,'12.Partner Involvement'!$H441))=TRUE,(('12.Partner Involvement'!$D441*'12.Partner Involvement'!$E441)/COUNTA(_xlfn.TEXTSPLIT('12.Partner Involvement'!$H441,\";\"))),\"\")","v":""},{"$f":"IF(ISNUMBER(SEARCH(H$206,'12.Partner Involvement'!$H441))=TRUE,(('12.Partner Involvement'!$D441*'12.Partner Involvement'!$E441)/COUNTA(_xlfn.TEXTSPLIT('12.Partner Involvement'!$H441,\";\"))),\"\")","v":""}]
[{"$f":"IF(ISNUMBER(SEARCH(A$206,'12.Partner Involvement'!$G442))=TRUE,(('12.Partner Involvement'!$D442*'12.Partner Involvement'!$E442)/COUNTA(_xlfn.TEXTSPLIT('12.Partner Involvement'!$G442,\";\"))),\"\")","v":""},{"$f":"IF(ISNUMBER(SEARCH(B$206,'12.Partner Involvement'!$G442))=TRUE,(('12.Partner Involvement'!$D442*'12.Partner Involvement'!$E442)/COUNTA(_xlfn.TEXTSPLIT('12.Partner Involvement'!$G442,\";\"))),\"\")","v":""},{"$f":"IF(ISNUMBER(SEARCH(C$206,'12.Partner Involvement'!$G442))=TRUE,(('12.Partner Involvement'!$D442*'12.Partner Involvement'!$E442)/COUNTA(_xlfn.TEXTSPLIT('12.Partner Involvement'!$G442,\";\"))),\"\")","v":""},null,{"$f":"IF(ISNUMBER(SEARCH(E$206,'12.Partner Involvement'!$H442))=TRUE,(('12.Partner Involvement'!$D442*'12.Partner Involvement'!$E442)/COUNTA(_xlfn.TEXTSPLIT('12.Partner Involvement'!$H442,\";\"))),\"\")","v":""},{"$f":"IF(ISNUMBER(SEARCH(F$206,'12.Partner Involvement'!$H442))=TRUE,(('12.Partner Involvement'!$D442*'12.Partner Involvement'!$E442)/COUNTA(_xlfn.TEXTSPLIT('12.Partner Involvement'!$H442,\";\"))),\"\")","v":""},{"$f":"IF(ISNUMBER(SEARCH(G$206,'12.Partner Involvement'!$H442))=TRUE,(('12.Partner Involvement'!$D442*'12.Partner Involvement'!$E442)/COUNTA(_xlfn.TEXTSPLIT('12.Partner Involvement'!$H442,\";\"))),\"\")","v":""},{"$f":"IF(ISNUMBER(SEARCH(H$206,'12.Partner Involvement'!$H442))=TRUE,(('12.Partner Involvement'!$D442*'12.Partner Involvement'!$E442)/COUNTA(_xlfn.TEXTSPLIT('12.Partner Involvement'!$H442,\";\"))),\"\")","v":""}]
[{"$f":"IF(ISNUMBER(SEARCH(A$206,'12.Partner Involvement'!$G443))=TRUE,(('12.Partner Involvement'!$D443*'12.Partner Involvement'!$E443)/COUNTA(_xlfn.TEXTSPLIT('12.Partner Involvement'!$G443,\";\"))),\"\")","v":""},{"$f":"IF(ISNUMBER(SEARCH(B$206,'12.Partner Involvement'!$G443))=TRUE,(('12.Partner Involvement'!$D443*'12.Partner Involvement'!$E443)/COUNTA(_xlfn.TEXTSPLIT('12.Partner Involvement'!$G443,\";\"))),\"\")","v":""},{"$f":"IF(ISNUMBER(SEARCH(C$206,'12.Partner Involvement'!$G443))=TRUE,(('12.Partner Involvement'!$D443*'12.Partner Involvement'!$E443)/COUNTA(_xlfn.TEXTSPLIT('12.Partner Involvement'!$G443,\";\"))),\"\")","v":""},null,{"$f":"IF(ISNUMBER(SEARCH(E$206,'12.Partner Involvement'!$H443))=TRUE,(('12.Partner Involvement'!$D443*'12.Partner Involvement'!$E443)/COUNTA(_xlfn.TEXTSPLIT('12.Partner Involvement'!$H443,\";\"))),\"\")","v":""},{"$f":"IF(ISNUMBER(SEARCH(F$206,'12.Partner Involvement'!$H443))=TRUE,(('12.Partner Involvement'!$D443*'12.Partner Involvement'!$E443)/COUNTA(_xlfn.TEXTSPLIT('12.Partner Involvement'!$H443,\";\"))),\"\")","v":""},{"$f":"IF(ISNUMBER(SEARCH(G$206,'12.Partner Involvement'!$H443))=TRUE,(('12.Partner Involvement'!$D443*'12.Partner Involvement'!$E443)/COUNTA(_xlfn.TEXTSPLIT('12.Partner Involvement'!$H443,\";\"))),\"\")","v":""},{"$f":"IF(ISNUMBER(SEARCH(H$206,'12.Partner Involvement'!$H443))=TRUE,(('12.Partner Involvement'!$D443*'12.Partner Involvement'!$E443)/COUNTA(_xlfn.TEXTSPLIT('12.Partner Involvement'!$H443,\";\"))),\"\")","v":""}]
[{"$f":"IF(ISNUMBER(SEARCH(A$206,'12.Partner Involvement'!$G444))=TRUE,(('12.Partner Involvement'!$D444*'12.Partner Involvement'!$E444)/COUNTA(_xlfn.TEXTSPLIT('12.Partner Involvement'!$G444,\";\"))),\"\")","v":""},{"$f":"IF(ISNUMBER(SEARCH(B$206,'12.Partner Involvement'!$G444))=TRUE,(('12.Partner Involvement'!$D444*'12.Partner Involvement'!$E444)/COUNTA(_xlfn.TEXTSPLIT('12.Partner Involvement'!$G444,\";\"))),\"\")","v":""},{"$f":"IF(ISNUMBER(SEARCH(C$206,'12.Partner Involvement'!$G444))=TRUE,(('12.Partner Involvement'!$D444*'12.Partner Involvement'!$E444)/COUNTA(_xlfn.TEXTSPLIT('12.Partner Involvement'!$G444,\";\"))),\"\")","v":""},null,{"$f":"IF(ISNUMBER(SEARCH(E$206,'12.Partner Involvement'!$H444))=TRUE,(('12.Partner Involvement'!$D444*'12.Partner Involvement'!$E444)/COUNTA(_xlfn.TEXTSPLIT('12.Partner Involvement'!$H444,\";\"))),\"\")","v":""},{"$f":"IF(ISNUMBER(SEARCH(F$206,'12.Partner Involvement'!$H444))=TRUE,(('12.Partner Involvement'!$D444*'12.Partner Involvement'!$E444)/COUNTA(_xlfn.TEXTSPLIT('12.Partner Involvement'!$H444,\";\"))),\"\")","v":""},{"$f":"IF(ISNUMBER(SEARCH(G$206,'12.Partner Involvement'!$H444))=TRUE,(('12.Partner Involvement'!$D444*'12.Partner Involvement'!$E444)/COUNTA(_xlfn.TEXTSPLIT('12.Partner Involvement'!$H444,\";\"))),\"\")","v":""},{"$f":"IF(ISNUMBER(SEARCH(H$206,'12.Partner Involvement'!$H444))=TRUE,(('12.Partner Involvement'!$D444*'12.Partner Involvement'!$E444)/COUNTA(_xlfn.TEXTSPLIT('12.Partner Involvement'!$H444,\";\"))),\"\")","v":""}]
[{"$f":"IF(ISNUMBER(SEARCH(A$206,'12.Partner Involvement'!$G445))=TRUE,(('12.Partner Involvement'!$D445*'12.Partner Involvement'!$E445)/COUNTA(_xlfn.TEXTSPLIT('12.Partner Involvement'!$G445,\";\"))),\"\")","v":""},{"$f":"IF(ISNUMBER(SEARCH(B$206,'12.Partner Involvement'!$G445))=TRUE,(('12.Partner Involvement'!$D445*'12.Partner Involvement'!$E445)/COUNTA(_xlfn.TEXTSPLIT('12.Partner Involvement'!$G445,\";\"))),\"\")","v":""},{"$f":"IF(ISNUMBER(SEARCH(C$206,'12.Partner Involvement'!$G445))=TRUE,(('12.Partner Involvement'!$D445*'12.Partner Involvement'!$E445)/COUNTA(_xlfn.TEXTSPLIT('12.Partner Involvement'!$G445,\";\"))),\"\")","v":""},null,{"$f":"IF(ISNUMBER(SEARCH(E$206,'12.Partner Involvement'!$H445))=TRUE,(('12.Partner Involvement'!$D445*'12.Partner Involvement'!$E445)/COUNTA(_xlfn.TEXTSPLIT('12.Partner Involvement'!$H445,\";\"))),\"\")","v":""},{"$f":"IF(ISNUMBER(SEARCH(F$206,'12.Partner Involvement'!$H445))=TRUE,(('12.Partner Involvement'!$D445*'12.Partner Involvement'!$E445)/COUNTA(_xlfn.TEXTSPLIT('12.Partner Involvement'!$H445,\";\"))),\"\")","v":""},{"$f":"IF(ISNUMBER(SEARCH(G$206,'12.Partner Involvement'!$H445))=TRUE,(('12.Partner Involvement'!$D445*'12.Partner Involvement'!$E445)/COUNTA(_xlfn.TEXTSPLIT('12.Partner Involvement'!$H445,\";\"))),\"\")","v":""},{"$f":"IF(ISNUMBER(SEARCH(H$206,'12.Partner Involvement'!$H445))=TRUE,(('12.Partner Involvement'!$D445*'12.Partner Involvement'!$E445)/COUNTA(_xlfn.TEXTSPLIT('12.Partner Involvement'!$H445,\";\"))),\"\")","v":""}]
[{"$f":"IF(ISNUMBER(SEARCH(A$206,'12.Partner Involvement'!$G446))=TRUE,(('12.Partner Involvement'!$D446*'12.Partner Involvement'!$E446)/COUNTA(_xlfn.TEXTSPLIT('12.Partner Involvement'!$G446,\";\"))),\"\")","v":""},{"$f":"IF(ISNUMBER(SEARCH(B$206,'12.Partner Involvement'!$G446))=TRUE,(('12.Partner Involvement'!$D446*'12.Partner Involvement'!$E446)/COUNTA(_xlfn.TEXTSPLIT('12.Partner Involvement'!$G446,\";\"))),\"\")","v":""},{"$f":"IF(ISNUMBER(SEARCH(C$206,'12.Partner Involvement'!$G446))=TRUE,(('12.Partner Involvement'!$D446*'12.Partner Involvement'!$E446)/COUNTA(_xlfn.TEXTSPLIT('12.Partner Involvement'!$G446,\";\"))),\"\")","v":""},null,{"$f":"IF(ISNUMBER(SEARCH(E$206,'12.Partner Involvement'!$H446))=TRUE,(('12.Partner Involvement'!$D446*'12.Partner Involvement'!$E446)/COUNTA(_xlfn.TEXTSPLIT('12.Partner Involvement'!$H446,\";\"))),\"\")","v":""},{"$f":"IF(ISNUMBER(SEARCH(F$206,'12.Partner Involvement'!$H446))=TRUE,(('12.Partner Involvement'!$D446*'12.Partner Involvement'!$E446)/COUNTA(_xlfn.TEXTSPLIT('12.Partner Involvement'!$H446,\";\"))),\"\")","v":""},{"$f":"IF(ISNUMBER(SEARCH(G$206,'12.Partner Involvement'!$H446))=TRUE,(('12.Partner Involvement'!$D446*'12.Partner Involvement'!$E446)/COUNTA(_xlfn.TEXTSPLIT('12.Partner Involvement'!$H446,\";\"))),\"\")","v":""},{"$f":"IF(ISNUMBER(SEARCH(H$206,'12.Partner Involvement'!$H446))=TRUE,(('12.Partner Involvement'!$D446*'12.Partner Involvement'!$E446)/COUNTA(_xlfn.TEXTSPLIT('12.Partner Involvement'!$H446,\";\"))),\"\")","v":""}]
[{"$f":"IF(ISNUMBER(SEARCH(A$206,'12.Partner Involvement'!$G447))=TRUE,(('12.Partner Involvement'!$D447*'12.Partner Involvement'!$E447)/COUNTA(_xlfn.TEXTSPLIT('12.Partner Involvement'!$G447,\";\"))),\"\")","v":""},{"$f":"IF(ISNUMBER(SEARCH(B$206,'12.Partner Involvement'!$G447))=TRUE,(('12.Partner Involvement'!$D447*'12.Partner Involvement'!$E447)/COUNTA(_xlfn.TEXTSPLIT('12.Partner Involvement'!$G447,\";\"))),\"\")","v":""},{"$f":"IF(ISNUMBER(SEARCH(C$206,'12.Partner Involvement'!$G447))=TRUE,(('12.Partner Involvement'!$D447*'12.Partner Involvement'!$E447)/COUNTA(_xlfn.TEXTSPLIT('12.Partner Involvement'!$G447,\";\"))),\"\")","v":""},null,{"$f":"IF(ISNUMBER(SEARCH(E$206,'12.Partner Involvement'!$H447))=TRUE,(('12.Partner Involvement'!$D447*'12.Partner Involvement'!$E447)/COUNTA(_xlfn.TEXTSPLIT('12.Partner Involvement'!$H447,\";\"))),\"\")","v":""},{"$f":"IF(ISNUMBER(SEARCH(F$206,'12.Partner Involvement'!$H447))=TRUE,(('12.Partner Involvement'!$D447*'12.Partner Involvement'!$E447)/COUNTA(_xlfn.TEXTSPLIT('12.Partner Involvement'!$H447,\";\"))),\"\")","v":""},{"$f":"IF(ISNUMBER(SEARCH(G$206,'12.Partner Involvement'!$H447))=TRUE,(('12.Partner Involvement'!$D447*'12.Partner Involvement'!$E447)/COUNTA(_xlfn.TEXTSPLIT('12.Partner Involvement'!$H447,\";\"))),\"\")","v":""},{"$f":"IF(ISNUMBER(SEARCH(H$206,'12.Partner Involvement'!$H447))=TRUE,(('12.Partner Involvement'!$D447*'12.Partner Involvement'!$E447)/COUNTA(_xlfn.TEXTSPLIT('12.Partner Involvement'!$H447,\";\"))),\"\")","v":""}]
[{"$f":"IF(ISNUMBER(SEARCH(A$206,'12.Partner Involvement'!$G448))=TRUE,(('12.Partner Involvement'!$D448*'12.Partner Involvement'!$E448)/COUNTA(_xlfn.TEXTSPLIT('12.Partner Involvement'!$G448,\";\"))),\"\")","v":""},{"$f":"IF(ISNUMBER(SEARCH(B$206,'12.Partner Involvement'!$G448))=TRUE,(('12.Partner Involvement'!$D448*'12.Partner Involvement'!$E448)/COUNTA(_xlfn.TEXTSPLIT('12.Partner Involvement'!$G448,\";\"))),\"\")","v":""},{"$f":"IF(ISNUMBER(SEARCH(C$206,'12.Partner Involvement'!$G448))=TRUE,(('12.Partner Involvement'!$D448*'12.Partner Involvement'!$E448)/COUNTA(_xlfn.TEXTSPLIT('12.Partner Involvement'!$G448,\";\"))),\"\")","v":""},null,{"$f":"IF(ISNUMBER(SEARCH(E$206,'12.Partner Involvement'!$H448))=TRUE,(('12.Partner Involvement'!$D448*'12.Partner Involvement'!$E448)/COUNTA(_xlfn.TEXTSPLIT('12.Partner Involvement'!$H448,\";\"))),\"\")","v":""},{"$f":"IF(ISNUMBER(SEARCH(F$206,'12.Partner Involvement'!$H448))=TRUE,(('12.Partner Involvement'!$D448*'12.Partner Involvement'!$E448)/COUNTA(_xlfn.TEXTSPLIT('12.Partner Involvement'!$H448,\";\"))),\"\")","v":""},{"$f":"IF(ISNUMBER(SEARCH(G$206,'12.Partner Involvement'!$H448))=TRUE,(('12.Partner Involvement'!$D448*'12.Partner Involvement'!$E448)/COUNTA(_xlfn.TEXTSPLIT('12.Partner Involvement'!$H448,\";\"))),\"\")","v":""},{"$f":"IF(ISNUMBER(SEARCH(H$206,'12.Partner Involvement'!$H448))=TRUE,(('12.Partner Involvement'!$D448*'12.Partner Involvement'!$E448)/COUNTA(_xlfn.TEXTSPLIT('12.Partner Involvement'!$H448,\";\"))),\"\")","v":""}]
[{"$f":"IF(ISNUMBER(SEARCH(A$206,'12.Partner Involvement'!$G449))=TRUE,(('12.Partner Involvement'!$D449*'12.Partner Involvement'!$E449)/COUNTA(_xlfn.TEXTSPLIT('12.Partner Involvement'!$G449,\";\"))),\"\")","v":""},{"$f":"IF(ISNUMBER(SEARCH(B$206,'12.Partner Involvement'!$G449))=TRUE,(('12.Partner Involvement'!$D449*'12.Partner Involvement'!$E449)/COUNTA(_xlfn.TEXTSPLIT('12.Partner Involvement'!$G449,\";\"))),\"\")","v":""},{"$f":"IF(ISNUMBER(SEARCH(C$206,'12.Partner Involvement'!$G449))=TRUE,(('12.Partner Involvement'!$D449*'12.Partner Involvement'!$E449)/COUNTA(_xlfn.TEXTSPLIT('12.Partner Involvement'!$G449,\";\"))),\"\")","v":""},null,{"$f":"IF(ISNUMBER(SEARCH(E$206,'12.Partner Involvement'!$H449))=TRUE,(('12.Partner Involvement'!$D449*'12.Partner Involvement'!$E449)/COUNTA(_xlfn.TEXTSPLIT('12.Partner Involvement'!$H449,\";\"))),\"\")","v":""},{"$f":"IF(ISNUMBER(SEARCH(F$206,'12.Partner Involvement'!$H449))=TRUE,(('12.Partner Involvement'!$D449*'12.Partner Involvement'!$E449)/COUNTA(_xlfn.TEXTSPLIT('12.Partner Involvement'!$H449,\";\"))),\"\")","v":""},{"$f":"IF(ISNUMBER(SEARCH(G$206,'12.Partner Involvement'!$H449))=TRUE,(('12.Partner Involvement'!$D449*'12.Partner Involvement'!$E449)/COUNTA(_xlfn.TEXTSPLIT('12.Partner Involvement'!$H449,\";\"))),\"\")","v":""},{"$f":"IF(ISNUMBER(SEARCH(H$206,'12.Partner Involvement'!$H449))=TRUE,(('12.Partner Involvement'!$D449*'12.Partner Involvement'!$E449)/COUNTA(_xlfn.TEXTSPLIT('12.Partner Involvement'!$H449,\";\"))),\"\")","v":""}]
[{"$f":"IF(ISNUMBER(SEARCH(A$206,'12.Partner Involvement'!$G450))=TRUE,(('12.Partner Involvement'!$D450*'12.Partner Involvement'!$E450)/COUNTA(_xlfn.TEXTSPLIT('12.Partner Involvement'!$G450,\";\"))),\"\")","v":""},{"$f":"IF(ISNUMBER(SEARCH(B$206,'12.Partner Involvement'!$G450))=TRUE,(('12.Partner Involvement'!$D450*'12.Partner Involvement'!$E450)/COUNTA(_xlfn.TEXTSPLIT('12.Partner Involvement'!$G450,\";\"))),\"\")","v":""},{"$f":"IF(ISNUMBER(SEARCH(C$206,'12.Partner Involvement'!$G450))=TRUE,(('12.Partner Involvement'!$D450*'12.Partner Involvement'!$E450)/COUNTA(_xlfn.TEXTSPLIT('12.Partner Involvement'!$G450,\";\"))),\"\")","v":""},null,{"$f":"IF(ISNUMBER(SEARCH(E$206,'12.Partner Involvement'!$H450))=TRUE,(('12.Partner Involvement'!$D450*'12.Partner Involvement'!$E450)/COUNTA(_xlfn.TEXTSPLIT('12.Partner Involvement'!$H450,\";\"))),\"\")","v":""},{"$f":"IF(ISNUMBER(SEARCH(F$206,'12.Partner Involvement'!$H450))=TRUE,(('12.Partner Involvement'!$D450*'12.Partner Involvement'!$E450)/COUNTA(_xlfn.TEXTSPLIT('12.Partner Involvement'!$H450,\";\"))),\"\")","v":""},{"$f":"IF(ISNUMBER(SEARCH(G$206,'12.Partner Involvement'!$H450))=TRUE,(('12.Partner Involvement'!$D450*'12.Partner Involvement'!$E450)/COUNTA(_xlfn.TEXTSPLIT('12.Partner Involvement'!$H450,\";\"))),\"\")","v":""},{"$f":"IF(ISNUMBER(SEARCH(H$206,'12.Partner Involvement'!$H450))=TRUE,(('12.Partner Involvement'!$D450*'12.Partner Involvement'!$E450)/COUNTA(_xlfn.TEXTSPLIT('12.Partner Involvement'!$H450,\";\"))),\"\")","v":""}]
[{"$f":"IF(ISNUMBER(SEARCH(A$206,'12.Partner Involvement'!$G451))=TRUE,(('12.Partner Involvement'!$D451*'12.Partner Involvement'!$E451)/COUNTA(_xlfn.TEXTSPLIT('12.Partner Involvement'!$G451,\";\"))),\"\")","v":""},{"$f":"IF(ISNUMBER(SEARCH(B$206,'12.Partner Involvement'!$G451))=TRUE,(('12.Partner Involvement'!$D451*'12.Partner Involvement'!$E451)/COUNTA(_xlfn.TEXTSPLIT('12.Partner Involvement'!$G451,\";\"))),\"\")","v":""},{"$f":"IF(ISNUMBER(SEARCH(C$206,'12.Partner Involvement'!$G451))=TRUE,(('12.Partner Involvement'!$D451*'12.Partner Involvement'!$E451)/COUNTA(_xlfn.TEXTSPLIT('12.Partner Involvement'!$G451,\";\"))),\"\")","v":""},null,{"$f":"IF(ISNUMBER(SEARCH(E$206,'12.Partner Involvement'!$H451))=TRUE,(('12.Partner Involvement'!$D451*'12.Partner Involvement'!$E451)/COUNTA(_xlfn.TEXTSPLIT('12.Partner Involvement'!$H451,\";\"))),\"\")","v":""},{"$f":"IF(ISNUMBER(SEARCH(F$206,'12.Partner Involvement'!$H451))=TRUE,(('12.Partner Involvement'!$D451*'12.Partner Involvement'!$E451)/COUNTA(_xlfn.TEXTSPLIT('12.Partner Involvement'!$H451,\";\"))),\"\")","v":""},{"$f":"IF(ISNUMBER(SEARCH(G$206,'12.Partner Involvement'!$H451))=TRUE,(('12.Partner Involvement'!$D451*'12.Partner Involvement'!$E451)/COUNTA(_xlfn.TEXTSPLIT('12.Partner Involvement'!$H451,\";\"))),\"\")","v":""},{"$f":"IF(ISNUMBER(SEARCH(H$206,'12.Partner Involvement'!$H451))=TRUE,(('12.Partner Involvement'!$D451*'12.Partner Involvement'!$E451)/COUNTA(_xlfn.TEXTSPLIT('12.Partner Involvement'!$H451,\";\"))),\"\")","v":""}]
[{"$f":"IF(ISNUMBER(SEARCH(A$206,'12.Partner Involvement'!$G452))=TRUE,(('12.Partner Involvement'!$D452*'12.Partner Involvement'!$E452)/COUNTA(_xlfn.TEXTSPLIT('12.Partner Involvement'!$G452,\";\"))),\"\")","v":""},{"$f":"IF(ISNUMBER(SEARCH(B$206,'12.Partner Involvement'!$G452))=TRUE,(('12.Partner Involvement'!$D452*'12.Partner Involvement'!$E452)/COUNTA(_xlfn.TEXTSPLIT('12.Partner Involvement'!$G452,\";\"))),\"\")","v":""},{"$f":"IF(ISNUMBER(SEARCH(C$206,'12.Partner Involvement'!$G452))=TRUE,(('12.Partner Involvement'!$D452*'12.Partner Involvement'!$E452)/COUNTA(_xlfn.TEXTSPLIT('12.Partner Involvement'!$G452,\";\"))),\"\")","v":""},null,{"$f":"IF(ISNUMBER(SEARCH(E$206,'12.Partner Involvement'!$H452))=TRUE,(('12.Partner Involvement'!$D452*'12.Partner Involvement'!$E452)/COUNTA(_xlfn.TEXTSPLIT('12.Partner Involvement'!$H452,\";\"))),\"\")","v":""},{"$f":"IF(ISNUMBER(SEARCH(F$206,'12.Partner Involvement'!$H452))=TRUE,(('12.Partner Involvement'!$D452*'12.Partner Involvement'!$E452)/COUNTA(_xlfn.TEXTSPLIT('12.Partner Involvement'!$H452,\";\"))),\"\")","v":""},{"$f":"IF(ISNUMBER(SEARCH(G$206,'12.Partner Involvement'!$H452))=TRUE,(('12.Partner Involvement'!$D452*'12.Partner Involvement'!$E452)/COUNTA(_xlfn.TEXTSPLIT('12.Partner Involvement'!$H452,\";\"))),\"\")","v":""},{"$f":"IF(ISNUMBER(SEARCH(H$206,'12.Partner Involvement'!$H452))=TRUE,(('12.Partner Involvement'!$D452*'12.Partner Involvement'!$E452)/COUNTA(_xlfn.TEXTSPLIT('12.Partner Involvement'!$H452,\";\"))),\"\")","v":""}]
[{"$f":"IF(ISNUMBER(SEARCH(A$206,'12.Partner Involvement'!$G453))=TRUE,(('12.Partner Involvement'!$D453*'12.Partner Involvement'!$E453)/COUNTA(_xlfn.TEXTSPLIT('12.Partner Involvement'!$G453,\";\"))),\"\")","v":""},{"$f":"IF(ISNUMBER(SEARCH(B$206,'12.Partner Involvement'!$G453))=TRUE,(('12.Partner Involvement'!$D453*'12.Partner Involvement'!$E453)/COUNTA(_xlfn.TEXTSPLIT('12.Partner Involvement'!$G453,\";\"))),\"\")","v":""},{"$f":"IF(ISNUMBER(SEARCH(C$206,'12.Partner Involvement'!$G453))=TRUE,(('12.Partner Involvement'!$D453*'12.Partner Involvement'!$E453)/COUNTA(_xlfn.TEXTSPLIT('12.Partner Involvement'!$G453,\";\"))),\"\")","v":""},null,{"$f":"IF(ISNUMBER(SEARCH(E$206,'12.Partner Involvement'!$H453))=TRUE,(('12.Partner Involvement'!$D453*'12.Partner Involvement'!$E453)/COUNTA(_xlfn.TEXTSPLIT('12.Partner Involvement'!$H453,\";\"))),\"\")","v":""},{"$f":"IF(ISNUMBER(SEARCH(F$206,'12.Partner Involvement'!$H453))=TRUE,(('12.Partner Involvement'!$D453*'12.Partner Involvement'!$E453)/COUNTA(_xlfn.TEXTSPLIT('12.Partner Involvement'!$H453,\";\"))),\"\")","v":""},{"$f":"IF(ISNUMBER(SEARCH(G$206,'12.Partner Involvement'!$H453))=TRUE,(('12.Partner Involvement'!$D453*'12.Partner Involvement'!$E453)/COUNTA(_xlfn.TEXTSPLIT('12.Partner Involvement'!$H453,\";\"))),\"\")","v":""},{"$f":"IF(ISNUMBER(SEARCH(H$206,'12.Partner Involvement'!$H453))=TRUE,(('12.Partner Involvement'!$D453*'12.Partner Involvement'!$E453)/COUNTA(_xlfn.TEXTSPLIT('12.Partner Involvement'!$H453,\";\"))),\"\")","v":""}]
[{"$f":"IF(ISNUMBER(SEARCH(A$206,'12.Partner Involvement'!$G454))=TRUE,(('12.Partner Involvement'!$D454*'12.Partner Involvement'!$E454)/COUNTA(_xlfn.TEXTSPLIT('12.Partner Involvement'!$G454,\";\"))),\"\")","v":""},{"$f":"IF(ISNUMBER(SEARCH(B$206,'12.Partner Involvement'!$G454))=TRUE,(('12.Partner Involvement'!$D454*'12.Partner Involvement'!$E454)/COUNTA(_xlfn.TEXTSPLIT('12.Partner Involvement'!$G454,\";\"))),\"\")","v":""},{"$f":"IF(ISNUMBER(SEARCH(C$206,'12.Partner Involvement'!$G454))=TRUE,(('12.Partner Involvement'!$D454*'12.Partner Involvement'!$E454)/COUNTA(_xlfn.TEXTSPLIT('12.Partner Involvement'!$G454,\";\"))),\"\")","v":""},null,{"$f":"IF(ISNUMBER(SEARCH(E$206,'12.Partner Involvement'!$H454))=TRUE,(('12.Partner Involvement'!$D454*'12.Partner Involvement'!$E454)/COUNTA(_xlfn.TEXTSPLIT('12.Partner Involvement'!$H454,\";\"))),\"\")","v":""},{"$f":"IF(ISNUMBER(SEARCH(F$206,'12.Partner Involvement'!$H454))=TRUE,(('12.Partner Involvement'!$D454*'12.Partner Involvement'!$E454)/COUNTA(_xlfn.TEXTSPLIT('12.Partner Involvement'!$H454,\";\"))),\"\")","v":""},{"$f":"IF(ISNUMBER(SEARCH(G$206,'12.Partner Involvement'!$H454))=TRUE,(('12.Partner Involvement'!$D454*'12.Partner Involvement'!$E454)/COUNTA(_xlfn.TEXTSPLIT('12.Partner Involvement'!$H454,\";\"))),\"\")","v":""},{"$f":"IF(ISNUMBER(SEARCH(H$206,'12.Partner Involvement'!$H454))=TRUE,(('12.Partner Involvement'!$D454*'12.Partner Involvement'!$E454)/COUNTA(_xlfn.TEXTSPLIT('12.Partner Involvement'!$H454,\";\"))),\"\")","v":""}]
[{"$f":"IF(ISNUMBER(SEARCH(A$206,'12.Partner Involvement'!$G455))=TRUE,(('12.Partner Involvement'!$D455*'12.Partner Involvement'!$E455)/COUNTA(_xlfn.TEXTSPLIT('12.Partner Involvement'!$G455,\";\"))),\"\")","v":""},{"$f":"IF(ISNUMBER(SEARCH(B$206,'12.Partner Involvement'!$G455))=TRUE,(('12.Partner Involvement'!$D455*'12.Partner Involvement'!$E455)/COUNTA(_xlfn.TEXTSPLIT('12.Partner Involvement'!$G455,\";\"))),\"\")","v":""},{"$f":"IF(ISNUMBER(SEARCH(C$206,'12.Partner Involvement'!$G455))=TRUE,(('12.Partner Involvement'!$D455*'12.Partner Involvement'!$E455)/COUNTA(_xlfn.TEXTSPLIT('12.Partner Involvement'!$G455,\";\"))),\"\")","v":""},null,{"$f":"IF(ISNUMBER(SEARCH(E$206,'12.Partner Involvement'!$H455))=TRUE,(('12.Partner Involvement'!$D455*'12.Partner Involvement'!$E455)/COUNTA(_xlfn.TEXTSPLIT('12.Partner Involvement'!$H455,\";\"))),\"\")","v":""},{"$f":"IF(ISNUMBER(SEARCH(F$206,'12.Partner Involvement'!$H455))=TRUE,(('12.Partner Involvement'!$D455*'12.Partner Involvement'!$E455)/COUNTA(_xlfn.TEXTSPLIT('12.Partner Involvement'!$H455,\";\"))),\"\")","v":""},{"$f":"IF(ISNUMBER(SEARCH(G$206,'12.Partner Involvement'!$H455))=TRUE,(('12.Partner Involvement'!$D455*'12.Partner Involvement'!$E455)/COUNTA(_xlfn.TEXTSPLIT('12.Partner Involvement'!$H455,\";\"))),\"\")","v":""},{"$f":"IF(ISNUMBER(SEARCH(H$206,'12.Partner Involvement'!$H455))=TRUE,(('12.Partner Involvement'!$D455*'12.Partner Involvement'!$E455)/COUNTA(_xlfn.TEXTSPLIT('12.Partner Involvement'!$H455,\";\"))),\"\")","v":""}]
[{"$f":"IF(ISNUMBER(SEARCH(A$206,'12.Partner Involvement'!$G456))=TRUE,(('12.Partner Involvement'!$D456*'12.Partner Involvement'!$E456)/COUNTA(_xlfn.TEXTSPLIT('12.Partner Involvement'!$G456,\";\"))),\"\")","v":""},{"$f":"IF(ISNUMBER(SEARCH(B$206,'12.Partner Involvement'!$G456))=TRUE,(('12.Partner Involvement'!$D456*'12.Partner Involvement'!$E456)/COUNTA(_xlfn.TEXTSPLIT('12.Partner Involvement'!$G456,\";\"))),\"\")","v":""},{"$f":"IF(ISNUMBER(SEARCH(C$206,'12.Partner Involvement'!$G456))=TRUE,(('12.Partner Involvement'!$D456*'12.Partner Involvement'!$E456)/COUNTA(_xlfn.TEXTSPLIT('12.Partner Involvement'!$G456,\";\"))),\"\")","v":""},null,{"$f":"IF(ISNUMBER(SEARCH(E$206,'12.Partner Involvement'!$H456))=TRUE,(('12.Partner Involvement'!$D456*'12.Partner Involvement'!$E456)/COUNTA(_xlfn.TEXTSPLIT('12.Partner Involvement'!$H456,\";\"))),\"\")","v":""},{"$f":"IF(ISNUMBER(SEARCH(F$206,'12.Partner Involvement'!$H456))=TRUE,(('12.Partner Involvement'!$D456*'12.Partner Involvement'!$E456)/COUNTA(_xlfn.TEXTSPLIT('12.Partner Involvement'!$H456,\";\"))),\"\")","v":""},{"$f":"IF(ISNUMBER(SEARCH(G$206,'12.Partner Involvement'!$H456))=TRUE,(('12.Partner Involvement'!$D456*'12.Partner Involvement'!$E456)/COUNTA(_xlfn.TEXTSPLIT('12.Partner Involvement'!$H456,\";\"))),\"\")","v":""},{"$f":"IF(ISNUMBER(SEARCH(H$206,'12.Partner Involvement'!$H456))=TRUE,(('12.Partner Involvement'!$D456*'12.Partner Involvement'!$E456)/COUNTA(_xlfn.TEXTSPLIT('12.Partner Involvement'!$H456,\";\"))),\"\")","v":""}]
[{"$f":"IF(ISNUMBER(SEARCH(A$206,'12.Partner Involvement'!$G457))=TRUE,(('12.Partner Involvement'!$D457*'12.Partner Involvement'!$E457)/COUNTA(_xlfn.TEXTSPLIT('12.Partner Involvement'!$G457,\";\"))),\"\")","v":""},{"$f":"IF(ISNUMBER(SEARCH(B$206,'12.Partner Involvement'!$G457))=TRUE,(('12.Partner Involvement'!$D457*'12.Partner Involvement'!$E457)/COUNTA(_xlfn.TEXTSPLIT('12.Partner Involvement'!$G457,\";\"))),\"\")","v":""},{"$f":"IF(ISNUMBER(SEARCH(C$206,'12.Partner Involvement'!$G457))=TRUE,(('12.Partner Involvement'!$D457*'12.Partner Involvement'!$E457)/COUNTA(_xlfn.TEXTSPLIT('12.Partner Involvement'!$G457,\";\"))),\"\")","v":""},null,{"$f":"IF(ISNUMBER(SEARCH(E$206,'12.Partner Involvement'!$H457))=TRUE,(('12.Partner Involvement'!$D457*'12.Partner Involvement'!$E457)/COUNTA(_xlfn.TEXTSPLIT('12.Partner Involvement'!$H457,\";\"))),\"\")","v":""},{"$f":"IF(ISNUMBER(SEARCH(F$206,'12.Partner Involvement'!$H457))=TRUE,(('12.Partner Involvement'!$D457*'12.Partner Involvement'!$E457)/COUNTA(_xlfn.TEXTSPLIT('12.Partner Involvement'!$H457,\";\"))),\"\")","v":""},{"$f":"IF(ISNUMBER(SEARCH(G$206,'12.Partner Involvement'!$H457))=TRUE,(('12.Partner Involvement'!$D457*'12.Partner Involvement'!$E457)/COUNTA(_xlfn.TEXTSPLIT('12.Partner Involvement'!$H457,\";\"))),\"\")","v":""},{"$f":"IF(ISNUMBER(SEARCH(H$206,'12.Partner Involvement'!$H457))=TRUE,(('12.Partner Involvement'!$D457*'12.Partner Involvement'!$E457)/COUNTA(_xlfn.TEXTSPLIT('12.Partner Involvement'!$H457,\";\"))),\"\")","v":""}]
[{"$f":"IF(ISNUMBER(SEARCH(A$206,'12.Partner Involvement'!$G458))=TRUE,(('12.Partner Involvement'!$D458*'12.Partner Involvement'!$E458)/COUNTA(_xlfn.TEXTSPLIT('12.Partner Involvement'!$G458,\";\"))),\"\")","v":""},{"$f":"IF(ISNUMBER(SEARCH(B$206,'12.Partner Involvement'!$G458))=TRUE,(('12.Partner Involvement'!$D458*'12.Partner Involvement'!$E458)/COUNTA(_xlfn.TEXTSPLIT('12.Partner Involvement'!$G458,\";\"))),\"\")","v":""},{"$f":"IF(ISNUMBER(SEARCH(C$206,'12.Partner Involvement'!$G458))=TRUE,(('12.Partner Involvement'!$D458*'12.Partner Involvement'!$E458)/COUNTA(_xlfn.TEXTSPLIT('12.Partner Involvement'!$G458,\";\"))),\"\")","v":""},null,{"$f":"IF(ISNUMBER(SEARCH(E$206,'12.Partner Involvement'!$H458))=TRUE,(('12.Partner Involvement'!$D458*'12.Partner Involvement'!$E458)/COUNTA(_xlfn.TEXTSPLIT('12.Partner Involvement'!$H458,\";\"))),\"\")","v":""},{"$f":"IF(ISNUMBER(SEARCH(F$206,'12.Partner Involvement'!$H458))=TRUE,(('12.Partner Involvement'!$D458*'12.Partner Involvement'!$E458)/COUNTA(_xlfn.TEXTSPLIT('12.Partner Involvement'!$H458,\";\"))),\"\")","v":""},{"$f":"IF(ISNUMBER(SEARCH(G$206,'12.Partner Involvement'!$H458))=TRUE,(('12.Partner Involvement'!$D458*'12.Partner Involvement'!$E458)/COUNTA(_xlfn.TEXTSPLIT('12.Partner Involvement'!$H458,\";\"))),\"\")","v":""},{"$f":"IF(ISNUMBER(SEARCH(H$206,'12.Partner Involvement'!$H458))=TRUE,(('12.Partner Involvement'!$D458*'12.Partner Involvement'!$E458)/COUNTA(_xlfn.TEXTSPLIT('12.Partner Involvement'!$H458,\";\"))),\"\")","v":""}]
[{"$f":"IF(ISNUMBER(SEARCH(A$206,'12.Partner Involvement'!$G459))=TRUE,(('12.Partner Involvement'!$D459*'12.Partner Involvement'!$E459)/COUNTA(_xlfn.TEXTSPLIT('12.Partner Involvement'!$G459,\";\"))),\"\")","v":""},{"$f":"IF(ISNUMBER(SEARCH(B$206,'12.Partner Involvement'!$G459))=TRUE,(('12.Partner Involvement'!$D459*'12.Partner Involvement'!$E459)/COUNTA(_xlfn.TEXTSPLIT('12.Partner Involvement'!$G459,\";\"))),\"\")","v":""},{"$f":"IF(ISNUMBER(SEARCH(C$206,'12.Partner Involvement'!$G459))=TRUE,(('12.Partner Involvement'!$D459*'12.Partner Involvement'!$E459)/COUNTA(_xlfn.TEXTSPLIT('12.Partner Involvement'!$G459,\";\"))),\"\")","v":""},null,{"$f":"IF(ISNUMBER(SEARCH(E$206,'12.Partner Involvement'!$H459))=TRUE,(('12.Partner Involvement'!$D459*'12.Partner Involvement'!$E459)/COUNTA(_xlfn.TEXTSPLIT('12.Partner Involvement'!$H459,\";\"))),\"\")","v":""},{"$f":"IF(ISNUMBER(SEARCH(F$206,'12.Partner Involvement'!$H459))=TRUE,(('12.Partner Involvement'!$D459*'12.Partner Involvement'!$E459)/COUNTA(_xlfn.TEXTSPLIT('12.Partner Involvement'!$H459,\";\"))),\"\")","v":""},{"$f":"IF(ISNUMBER(SEARCH(G$206,'12.Partner Involvement'!$H459))=TRUE,(('12.Partner Involvement'!$D459*'12.Partner Involvement'!$E459)/COUNTA(_xlfn.TEXTSPLIT('12.Partner Involvement'!$H459,\";\"))),\"\")","v":""},{"$f":"IF(ISNUMBER(SEARCH(H$206,'12.Partner Involvement'!$H459))=TRUE,(('12.Partner Involvement'!$D459*'12.Partner Involvement'!$E459)/COUNTA(_xlfn.TEXTSPLIT('12.Partner Involvement'!$H459,\";\"))),\"\")","v":""}]
[{"$f":"IF(ISNUMBER(SEARCH(A$206,'12.Partner Involvement'!$G460))=TRUE,(('12.Partner Involvement'!$D460*'12.Partner Involvement'!$E460)/COUNTA(_xlfn.TEXTSPLIT('12.Partner Involvement'!$G460,\";\"))),\"\")","v":""},{"$f":"IF(ISNUMBER(SEARCH(B$206,'12.Partner Involvement'!$G460))=TRUE,(('12.Partner Involvement'!$D460*'12.Partner Involvement'!$E460)/COUNTA(_xlfn.TEXTSPLIT('12.Partner Involvement'!$G460,\";\"))),\"\")","v":""},{"$f":"IF(ISNUMBER(SEARCH(C$206,'12.Partner Involvement'!$G460))=TRUE,(('12.Partner Involvement'!$D460*'12.Partner Involvement'!$E460)/COUNTA(_xlfn.TEXTSPLIT('12.Partner Involvement'!$G460,\";\"))),\"\")","v":""},null,{"$f":"IF(ISNUMBER(SEARCH(E$206,'12.Partner Involvement'!$H460))=TRUE,(('12.Partner Involvement'!$D460*'12.Partner Involvement'!$E460)/COUNTA(_xlfn.TEXTSPLIT('12.Partner Involvement'!$H460,\";\"))),\"\")","v":""},{"$f":"IF(ISNUMBER(SEARCH(F$206,'12.Partner Involvement'!$H460))=TRUE,(('12.Partner Involvement'!$D460*'12.Partner Involvement'!$E460)/COUNTA(_xlfn.TEXTSPLIT('12.Partner Involvement'!$H460,\";\"))),\"\")","v":""},{"$f":"IF(ISNUMBER(SEARCH(G$206,'12.Partner Involvement'!$H460))=TRUE,(('12.Partner Involvement'!$D460*'12.Partner Involvement'!$E460)/COUNTA(_xlfn.TEXTSPLIT('12.Partner Involvement'!$H460,\";\"))),\"\")","v":""},{"$f":"IF(ISNUMBER(SEARCH(H$206,'12.Partner Involvement'!$H460))=TRUE,(('12.Partner Involvement'!$D460*'12.Partner Involvement'!$E460)/COUNTA(_xlfn.TEXTSPLIT('12.Partner Involvement'!$H460,\";\"))),\"\")","v":""}]
[{"$f":"IF(ISNUMBER(SEARCH(A$206,'12.Partner Involvement'!$G461))=TRUE,(('12.Partner Involvement'!$D461*'12.Partner Involvement'!$E461)/COUNTA(_xlfn.TEXTSPLIT('12.Partner Involvement'!$G461,\";\"))),\"\")","v":""},{"$f":"IF(ISNUMBER(SEARCH(B$206,'12.Partner Involvement'!$G461))=TRUE,(('12.Partner Involvement'!$D461*'12.Partner Involvement'!$E461)/COUNTA(_xlfn.TEXTSPLIT('12.Partner Involvement'!$G461,\";\"))),\"\")","v":""},{"$f":"IF(ISNUMBER(SEARCH(C$206,'12.Partner Involvement'!$G461))=TRUE,(('12.Partner Involvement'!$D461*'12.Partner Involvement'!$E461)/COUNTA(_xlfn.TEXTSPLIT('12.Partner Involvement'!$G461,\";\"))),\"\")","v":""},null,{"$f":"IF(ISNUMBER(SEARCH(E$206,'12.Partner Involvement'!$H461))=TRUE,(('12.Partner Involvement'!$D461*'12.Partner Involvement'!$E461)/COUNTA(_xlfn.TEXTSPLIT('12.Partner Involvement'!$H461,\";\"))),\"\")","v":""},{"$f":"IF(ISNUMBER(SEARCH(F$206,'12.Partner Involvement'!$H461))=TRUE,(('12.Partner Involvement'!$D461*'12.Partner Involvement'!$E461)/COUNTA(_xlfn.TEXTSPLIT('12.Partner Involvement'!$H461,\";\"))),\"\")","v":""},{"$f":"IF(ISNUMBER(SEARCH(G$206,'12.Partner Involvement'!$H461))=TRUE,(('12.Partner Involvement'!$D461*'12.Partner Involvement'!$E461)/COUNTA(_xlfn.TEXTSPLIT('12.Partner Involvement'!$H461,\";\"))),\"\")","v":""},{"$f":"IF(ISNUMBER(SEARCH(H$206,'12.Partner Involvement'!$H461))=TRUE,(('12.Partner Involvement'!$D461*'12.Partner Involvement'!$E461)/COUNTA(_xlfn.TEXTSPLIT('12.Partner Involvement'!$H461,\";\"))),\"\")","v":""}]
[{"$f":"IF(ISNUMBER(SEARCH(A$206,'12.Partner Involvement'!$G462))=TRUE,(('12.Partner Involvement'!$D462*'12.Partner Involvement'!$E462)/COUNTA(_xlfn.TEXTSPLIT('12.Partner Involvement'!$G462,\";\"))),\"\")","v":""},{"$f":"IF(ISNUMBER(SEARCH(B$206,'12.Partner Involvement'!$G462))=TRUE,(('12.Partner Involvement'!$D462*'12.Partner Involvement'!$E462)/COUNTA(_xlfn.TEXTSPLIT('12.Partner Involvement'!$G462,\";\"))),\"\")","v":""},{"$f":"IF(ISNUMBER(SEARCH(C$206,'12.Partner Involvement'!$G462))=TRUE,(('12.Partner Involvement'!$D462*'12.Partner Involvement'!$E462)/COUNTA(_xlfn.TEXTSPLIT('12.Partner Involvement'!$G462,\";\"))),\"\")","v":""},null,{"$f":"IF(ISNUMBER(SEARCH(E$206,'12.Partner Involvement'!$H462))=TRUE,(('12.Partner Involvement'!$D462*'12.Partner Involvement'!$E462)/COUNTA(_xlfn.TEXTSPLIT('12.Partner Involvement'!$H462,\";\"))),\"\")","v":""},{"$f":"IF(ISNUMBER(SEARCH(F$206,'12.Partner Involvement'!$H462))=TRUE,(('12.Partner Involvement'!$D462*'12.Partner Involvement'!$E462)/COUNTA(_xlfn.TEXTSPLIT('12.Partner Involvement'!$H462,\";\"))),\"\")","v":""},{"$f":"IF(ISNUMBER(SEARCH(G$206,'12.Partner Involvement'!$H462))=TRUE,(('12.Partner Involvement'!$D462*'12.Partner Involvement'!$E462)/COUNTA(_xlfn.TEXTSPLIT('12.Partner Involvement'!$H462,\";\"))),\"\")","v":""},{"$f":"IF(ISNUMBER(SEARCH(H$206,'12.Partner Involvement'!$H462))=TRUE,(('12.Partner Involvement'!$D462*'12.Partner Involvement'!$E462)/COUNTA(_xlfn.TEXTSPLIT('12.Partner Involvement'!$H462,\";\"))),\"\")","v":""}]
[{"$f":"IF(ISNUMBER(SEARCH(A$206,'12.Partner Involvement'!$G463))=TRUE,(('12.Partner Involvement'!$D463*'12.Partner Involvement'!$E463)/COUNTA(_xlfn.TEXTSPLIT('12.Partner Involvement'!$G463,\";\"))),\"\")","v":""},{"$f":"IF(ISNUMBER(SEARCH(B$206,'12.Partner Involvement'!$G463))=TRUE,(('12.Partner Involvement'!$D463*'12.Partner Involvement'!$E463)/COUNTA(_xlfn.TEXTSPLIT('12.Partner Involvement'!$G463,\";\"))),\"\")","v":""},{"$f":"IF(ISNUMBER(SEARCH(C$206,'12.Partner Involvement'!$G463))=TRUE,(('12.Partner Involvement'!$D463*'12.Partner Involvement'!$E463)/COUNTA(_xlfn.TEXTSPLIT('12.Partner Involvement'!$G463,\";\"))),\"\")","v":""},null,{"$f":"IF(ISNUMBER(SEARCH(E$206,'12.Partner Involvement'!$H463))=TRUE,(('12.Partner Involvement'!$D463*'12.Partner Involvement'!$E463)/COUNTA(_xlfn.TEXTSPLIT('12.Partner Involvement'!$H463,\";\"))),\"\")","v":""},{"$f":"IF(ISNUMBER(SEARCH(F$206,'12.Partner Involvement'!$H463))=TRUE,(('12.Partner Involvement'!$D463*'12.Partner Involvement'!$E463)/COUNTA(_xlfn.TEXTSPLIT('12.Partner Involvement'!$H463,\";\"))),\"\")","v":""},{"$f":"IF(ISNUMBER(SEARCH(G$206,'12.Partner Involvement'!$H463))=TRUE,(('12.Partner Involvement'!$D463*'12.Partner Involvement'!$E463)/COUNTA(_xlfn.TEXTSPLIT('12.Partner Involvement'!$H463,\";\"))),\"\")","v":""},{"$f":"IF(ISNUMBER(SEARCH(H$206,'12.Partner Involvement'!$H463))=TRUE,(('12.Partner Involvement'!$D463*'12.Partner Involvement'!$E463)/COUNTA(_xlfn.TEXTSPLIT('12.Partner Involvement'!$H463,\";\"))),\"\")","v":""}]
[{"$f":"IF(ISNUMBER(SEARCH(A$206,'12.Partner Involvement'!$G464))=TRUE,(('12.Partner Involvement'!$D464*'12.Partner Involvement'!$E464)/COUNTA(_xlfn.TEXTSPLIT('12.Partner Involvement'!$G464,\";\"))),\"\")","v":""},{"$f":"IF(ISNUMBER(SEARCH(B$206,'12.Partner Involvement'!$G464))=TRUE,(('12.Partner Involvement'!$D464*'12.Partner Involvement'!$E464)/COUNTA(_xlfn.TEXTSPLIT('12.Partner Involvement'!$G464,\";\"))),\"\")","v":""},{"$f":"IF(ISNUMBER(SEARCH(C$206,'12.Partner Involvement'!$G464))=TRUE,(('12.Partner Involvement'!$D464*'12.Partner Involvement'!$E464)/COUNTA(_xlfn.TEXTSPLIT('12.Partner Involvement'!$G464,\";\"))),\"\")","v":""},null,{"$f":"IF(ISNUMBER(SEARCH(E$206,'12.Partner Involvement'!$H464))=TRUE,(('12.Partner Involvement'!$D464*'12.Partner Involvement'!$E464)/COUNTA(_xlfn.TEXTSPLIT('12.Partner Involvement'!$H464,\";\"))),\"\")","v":""},{"$f":"IF(ISNUMBER(SEARCH(F$206,'12.Partner Involvement'!$H464))=TRUE,(('12.Partner Involvement'!$D464*'12.Partner Involvement'!$E464)/COUNTA(_xlfn.TEXTSPLIT('12.Partner Involvement'!$H464,\";\"))),\"\")","v":""},{"$f":"IF(ISNUMBER(SEARCH(G$206,'12.Partner Involvement'!$H464))=TRUE,(('12.Partner Involvement'!$D464*'12.Partner Involvement'!$E464)/COUNTA(_xlfn.TEXTSPLIT('12.Partner Involvement'!$H464,\";\"))),\"\")","v":""},{"$f":"IF(ISNUMBER(SEARCH(H$206,'12.Partner Involvement'!$H464))=TRUE,(('12.Partner Involvement'!$D464*'12.Partner Involvement'!$E464)/COUNTA(_xlfn.TEXTSPLIT('12.Partner Involvement'!$H464,\";\"))),\"\")","v":""}]
[{"$f":"IF(ISNUMBER(SEARCH(A$206,'12.Partner Involvement'!$G465))=TRUE,(('12.Partner Involvement'!$D465*'12.Partner Involvement'!$E465)/COUNTA(_xlfn.TEXTSPLIT('12.Partner Involvement'!$G465,\";\"))),\"\")","v":""},{"$f":"IF(ISNUMBER(SEARCH(B$206,'12.Partner Involvement'!$G465))=TRUE,(('12.Partner Involvement'!$D465*'12.Partner Involvement'!$E465)/COUNTA(_xlfn.TEXTSPLIT('12.Partner Involvement'!$G465,\";\"))),\"\")","v":""},{"$f":"IF(ISNUMBER(SEARCH(C$206,'12.Partner Involvement'!$G465))=TRUE,(('12.Partner Involvement'!$D465*'12.Partner Involvement'!$E465)/COUNTA(_xlfn.TEXTSPLIT('12.Partner Involvement'!$G465,\";\"))),\"\")","v":""},null,{"$f":"IF(ISNUMBER(SEARCH(E$206,'12.Partner Involvement'!$H465))=TRUE,(('12.Partner Involvement'!$D465*'12.Partner Involvement'!$E465)/COUNTA(_xlfn.TEXTSPLIT('12.Partner Involvement'!$H465,\";\"))),\"\")","v":""},{"$f":"IF(ISNUMBER(SEARCH(F$206,'12.Partner Involvement'!$H465))=TRUE,(('12.Partner Involvement'!$D465*'12.Partner Involvement'!$E465)/COUNTA(_xlfn.TEXTSPLIT('12.Partner Involvement'!$H465,\";\"))),\"\")","v":""},{"$f":"IF(ISNUMBER(SEARCH(G$206,'12.Partner Involvement'!$H465))=TRUE,(('12.Partner Involvement'!$D465*'12.Partner Involvement'!$E465)/COUNTA(_xlfn.TEXTSPLIT('12.Partner Involvement'!$H465,\";\"))),\"\")","v":""},{"$f":"IF(ISNUMBER(SEARCH(H$206,'12.Partner Involvement'!$H465))=TRUE,(('12.Partner Involvement'!$D465*'12.Partner Involvement'!$E465)/COUNTA(_xlfn.TEXTSPLIT('12.Partner Involvement'!$H465,\";\"))),\"\")","v":""}]
[{"$f":"IF(ISNUMBER(SEARCH(A$206,'12.Partner Involvement'!$G466))=TRUE,(('12.Partner Involvement'!$D466*'12.Partner Involvement'!$E466)/COUNTA(_xlfn.TEXTSPLIT('12.Partner Involvement'!$G466,\";\"))),\"\")","v":""},{"$f":"IF(ISNUMBER(SEARCH(B$206,'12.Partner Involvement'!$G466))=TRUE,(('12.Partner Involvement'!$D466*'12.Partner Involvement'!$E466)/COUNTA(_xlfn.TEXTSPLIT('12.Partner Involvement'!$G466,\";\"))),\"\")","v":""},{"$f":"IF(ISNUMBER(SEARCH(C$206,'12.Partner Involvement'!$G466))=TRUE,(('12.Partner Involvement'!$D466*'12.Partner Involvement'!$E466)/COUNTA(_xlfn.TEXTSPLIT('12.Partner Involvement'!$G466,\";\"))),\"\")","v":""},null,{"$f":"IF(ISNUMBER(SEARCH(E$206,'12.Partner Involvement'!$H466))=TRUE,(('12.Partner Involvement'!$D466*'12.Partner Involvement'!$E466)/COUNTA(_xlfn.TEXTSPLIT('12.Partner Involvement'!$H466,\";\"))),\"\")","v":""},{"$f":"IF(ISNUMBER(SEARCH(F$206,'12.Partner Involvement'!$H466))=TRUE,(('12.Partner Involvement'!$D466*'12.Partner Involvement'!$E466)/COUNTA(_xlfn.TEXTSPLIT('12.Partner Involvement'!$H466,\";\"))),\"\")","v":""},{"$f":"IF(ISNUMBER(SEARCH(G$206,'12.Partner Involvement'!$H466))=TRUE,(('12.Partner Involvement'!$D466*'12.Partner Involvement'!$E466)/COUNTA(_xlfn.TEXTSPLIT('12.Partner Involvement'!$H466,\";\"))),\"\")","v":""},{"$f":"IF(ISNUMBER(SEARCH(H$206,'12.Partner Involvement'!$H466))=TRUE,(('12.Partner Involvement'!$D466*'12.Partner Involvement'!$E466)/COUNTA(_xlfn.TEXTSPLIT('12.Partner Involvement'!$H466,\";\"))),\"\")","v":""}]
[{"$f":"IF(ISNUMBER(SEARCH(A$206,'12.Partner Involvement'!$G467))=TRUE,(('12.Partner Involvement'!$D467*'12.Partner Involvement'!$E467)/COUNTA(_xlfn.TEXTSPLIT('12.Partner Involvement'!$G467,\";\"))),\"\")","v":""},{"$f":"IF(ISNUMBER(SEARCH(B$206,'12.Partner Involvement'!$G467))=TRUE,(('12.Partner Involvement'!$D467*'12.Partner Involvement'!$E467)/COUNTA(_xlfn.TEXTSPLIT('12.Partner Involvement'!$G467,\";\"))),\"\")","v":""},{"$f":"IF(ISNUMBER(SEARCH(C$206,'12.Partner Involvement'!$G467))=TRUE,(('12.Partner Involvement'!$D467*'12.Partner Involvement'!$E467)/COUNTA(_xlfn.TEXTSPLIT('12.Partner Involvement'!$G467,\";\"))),\"\")","v":""},null,{"$f":"IF(ISNUMBER(SEARCH(E$206,'12.Partner Involvement'!$H467))=TRUE,(('12.Partner Involvement'!$D467*'12.Partner Involvement'!$E467)/COUNTA(_xlfn.TEXTSPLIT('12.Partner Involvement'!$H467,\";\"))),\"\")","v":""},{"$f":"IF(ISNUMBER(SEARCH(F$206,'12.Partner Involvement'!$H467))=TRUE,(('12.Partner Involvement'!$D467*'12.Partner Involvement'!$E467)/COUNTA(_xlfn.TEXTSPLIT('12.Partner Involvement'!$H467,\";\"))),\"\")","v":""},{"$f":"IF(ISNUMBER(SEARCH(G$206,'12.Partner Involvement'!$H467))=TRUE,(('12.Partner Involvement'!$D467*'12.Partner Involvement'!$E467)/COUNTA(_xlfn.TEXTSPLIT('12.Partner Involvement'!$H467,\";\"))),\"\")","v":""},{"$f":"IF(ISNUMBER(SEARCH(H$206,'12.Partner Involvement'!$H467))=TRUE,(('12.Partner Involvement'!$D467*'12.Partner Involvement'!$E467)/COUNTA(_xlfn.TEXTSPLIT('12.Partner Involvement'!$H467,\";\"))),\"\")","v":""}]
[{"$f":"IF(ISNUMBER(SEARCH(A$206,'12.Partner Involvement'!$G468))=TRUE,(('12.Partner Involvement'!$D468*'12.Partner Involvement'!$E468)/COUNTA(_xlfn.TEXTSPLIT('12.Partner Involvement'!$G468,\";\"))),\"\")","v":""},{"$f":"IF(ISNUMBER(SEARCH(B$206,'12.Partner Involvement'!$G468))=TRUE,(('12.Partner Involvement'!$D468*'12.Partner Involvement'!$E468)/COUNTA(_xlfn.TEXTSPLIT('12.Partner Involvement'!$G468,\";\"))),\"\")","v":""},{"$f":"IF(ISNUMBER(SEARCH(C$206,'12.Partner Involvement'!$G468))=TRUE,(('12.Partner Involvement'!$D468*'12.Partner Involvement'!$E468)/COUNTA(_xlfn.TEXTSPLIT('12.Partner Involvement'!$G468,\";\"))),\"\")","v":""},null,{"$f":"IF(ISNUMBER(SEARCH(E$206,'12.Partner Involvement'!$H468))=TRUE,(('12.Partner Involvement'!$D468*'12.Partner Involvement'!$E468)/COUNTA(_xlfn.TEXTSPLIT('12.Partner Involvement'!$H468,\";\"))),\"\")","v":""},{"$f":"IF(ISNUMBER(SEARCH(F$206,'12.Partner Involvement'!$H468))=TRUE,(('12.Partner Involvement'!$D468*'12.Partner Involvement'!$E468)/COUNTA(_xlfn.TEXTSPLIT('12.Partner Involvement'!$H468,\";\"))),\"\")","v":""},{"$f":"IF(ISNUMBER(SEARCH(G$206,'12.Partner Involvement'!$H468))=TRUE,(('12.Partner Involvement'!$D468*'12.Partner Involvement'!$E468)/COUNTA(_xlfn.TEXTSPLIT('12.Partner Involvement'!$H468,\";\"))),\"\")","v":""},{"$f":"IF(ISNUMBER(SEARCH(H$206,'12.Partner Involvement'!$H468))=TRUE,(('12.Partner Involvement'!$D468*'12.Partner Involvement'!$E468)/COUNTA(_xlfn.TEXTSPLIT('12.Partner Involvement'!$H468,\";\"))),\"\")","v":""}]
[{"$f":"IF(ISNUMBER(SEARCH(A$206,'12.Partner Involvement'!$G469))=TRUE,(('12.Partner Involvement'!$D469*'12.Partner Involvement'!$E469)/COUNTA(_xlfn.TEXTSPLIT('12.Partner Involvement'!$G469,\";\"))),\"\")","v":""},{"$f":"IF(ISNUMBER(SEARCH(B$206,'12.Partner Involvement'!$G469))=TRUE,(('12.Partner Involvement'!$D469*'12.Partner Involvement'!$E469)/COUNTA(_xlfn.TEXTSPLIT('12.Partner Involvement'!$G469,\";\"))),\"\")","v":""},{"$f":"IF(ISNUMBER(SEARCH(C$206,'12.Partner Involvement'!$G469))=TRUE,(('12.Partner Involvement'!$D469*'12.Partner Involvement'!$E469)/COUNTA(_xlfn.TEXTSPLIT('12.Partner Involvement'!$G469,\";\"))),\"\")","v":""},null,{"$f":"IF(ISNUMBER(SEARCH(E$206,'12.Partner Involvement'!$H469))=TRUE,(('12.Partner Involvement'!$D469*'12.Partner Involvement'!$E469)/COUNTA(_xlfn.TEXTSPLIT('12.Partner Involvement'!$H469,\";\"))),\"\")","v":""},{"$f":"IF(ISNUMBER(SEARCH(F$206,'12.Partner Involvement'!$H469))=TRUE,(('12.Partner Involvement'!$D469*'12.Partner Involvement'!$E469)/COUNTA(_xlfn.TEXTSPLIT('12.Partner Involvement'!$H469,\";\"))),\"\")","v":""},{"$f":"IF(ISNUMBER(SEARCH(G$206,'12.Partner Involvement'!$H469))=TRUE,(('12.Partner Involvement'!$D469*'12.Partner Involvement'!$E469)/COUNTA(_xlfn.TEXTSPLIT('12.Partner Involvement'!$H469,\";\"))),\"\")","v":""},{"$f":"IF(ISNUMBER(SEARCH(H$206,'12.Partner Involvement'!$H469))=TRUE,(('12.Partner Involvement'!$D469*'12.Partner Involvement'!$E469)/COUNTA(_xlfn.TEXTSPLIT('12.Partner Involvement'!$H469,\";\"))),\"\")","v":""}]
[{"$f":"IF(ISNUMBER(SEARCH(A$206,'12.Partner Involvement'!$G470))=TRUE,(('12.Partner Involvement'!$D470*'12.Partner Involvement'!$E470)/COUNTA(_xlfn.TEXTSPLIT('12.Partner Involvement'!$G470,\";\"))),\"\")","v":""},{"$f":"IF(ISNUMBER(SEARCH(B$206,'12.Partner Involvement'!$G470))=TRUE,(('12.Partner Involvement'!$D470*'12.Partner Involvement'!$E470)/COUNTA(_xlfn.TEXTSPLIT('12.Partner Involvement'!$G470,\";\"))),\"\")","v":""},{"$f":"IF(ISNUMBER(SEARCH(C$206,'12.Partner Involvement'!$G470))=TRUE,(('12.Partner Involvement'!$D470*'12.Partner Involvement'!$E470)/COUNTA(_xlfn.TEXTSPLIT('12.Partner Involvement'!$G470,\";\"))),\"\")","v":""},null,{"$f":"IF(ISNUMBER(SEARCH(E$206,'12.Partner Involvement'!$H470))=TRUE,(('12.Partner Involvement'!$D470*'12.Partner Involvement'!$E470)/COUNTA(_xlfn.TEXTSPLIT('12.Partner Involvement'!$H470,\";\"))),\"\")","v":""},{"$f":"IF(ISNUMBER(SEARCH(F$206,'12.Partner Involvement'!$H470))=TRUE,(('12.Partner Involvement'!$D470*'12.Partner Involvement'!$E470)/COUNTA(_xlfn.TEXTSPLIT('12.Partner Involvement'!$H470,\";\"))),\"\")","v":""},{"$f":"IF(ISNUMBER(SEARCH(G$206,'12.Partner Involvement'!$H470))=TRUE,(('12.Partner Involvement'!$D470*'12.Partner Involvement'!$E470)/COUNTA(_xlfn.TEXTSPLIT('12.Partner Involvement'!$H470,\";\"))),\"\")","v":""},{"$f":"IF(ISNUMBER(SEARCH(H$206,'12.Partner Involvement'!$H470))=TRUE,(('12.Partner Involvement'!$D470*'12.Partner Involvement'!$E470)/COUNTA(_xlfn.TEXTSPLIT('12.Partner Involvement'!$H470,\";\"))),\"\")","v":""}]
[{"$f":"IF(ISNUMBER(SEARCH(A$206,'12.Partner Involvement'!$G471))=TRUE,(('12.Partner Involvement'!$D471*'12.Partner Involvement'!$E471)/COUNTA(_xlfn.TEXTSPLIT('12.Partner Involvement'!$G471,\";\"))),\"\")","v":""},{"$f":"IF(ISNUMBER(SEARCH(B$206,'12.Partner Involvement'!$G471))=TRUE,(('12.Partner Involvement'!$D471*'12.Partner Involvement'!$E471)/COUNTA(_xlfn.TEXTSPLIT('12.Partner Involvement'!$G471,\";\"))),\"\")","v":""},{"$f":"IF(ISNUMBER(SEARCH(C$206,'12.Partner Involvement'!$G471))=TRUE,(('12.Partner Involvement'!$D471*'12.Partner Involvement'!$E471)/COUNTA(_xlfn.TEXTSPLIT('12.Partner Involvement'!$G471,\";\"))),\"\")","v":""},null,{"$f":"IF(ISNUMBER(SEARCH(E$206,'12.Partner Involvement'!$H471))=TRUE,(('12.Partner Involvement'!$D471*'12.Partner Involvement'!$E471)/COUNTA(_xlfn.TEXTSPLIT('12.Partner Involvement'!$H471,\";\"))),\"\")","v":""},{"$f":"IF(ISNUMBER(SEARCH(F$206,'12.Partner Involvement'!$H471))=TRUE,(('12.Partner Involvement'!$D471*'12.Partner Involvement'!$E471)/COUNTA(_xlfn.TEXTSPLIT('12.Partner Involvement'!$H471,\";\"))),\"\")","v":""},{"$f":"IF(ISNUMBER(SEARCH(G$206,'12.Partner Involvement'!$H471))=TRUE,(('12.Partner Involvement'!$D471*'12.Partner Involvement'!$E471)/COUNTA(_xlfn.TEXTSPLIT('12.Partner Involvement'!$H471,\";\"))),\"\")","v":""},{"$f":"IF(ISNUMBER(SEARCH(H$206,'12.Partner Involvement'!$H471))=TRUE,(('12.Partner Involvement'!$D471*'12.Partner Involvement'!$E471)/COUNTA(_xlfn.TEXTSPLIT('12.Partner Involvement'!$H471,\";\"))),\"\")","v":""}]
[{"$f":"IF(ISNUMBER(SEARCH(A$206,'12.Partner Involvement'!$G472))=TRUE,(('12.Partner Involvement'!$D472*'12.Partner Involvement'!$E472)/COUNTA(_xlfn.TEXTSPLIT('12.Partner Involvement'!$G472,\";\"))),\"\")","v":""},{"$f":"IF(ISNUMBER(SEARCH(B$206,'12.Partner Involvement'!$G472))=TRUE,(('12.Partner Involvement'!$D472*'12.Partner Involvement'!$E472)/COUNTA(_xlfn.TEXTSPLIT('12.Partner Involvement'!$G472,\";\"))),\"\")","v":""},{"$f":"IF(ISNUMBER(SEARCH(C$206,'12.Partner Involvement'!$G472))=TRUE,(('12.Partner Involvement'!$D472*'12.Partner Involvement'!$E472)/COUNTA(_xlfn.TEXTSPLIT('12.Partner Involvement'!$G472,\";\"))),\"\")","v":""},null,{"$f":"IF(ISNUMBER(SEARCH(E$206,'12.Partner Involvement'!$H472))=TRUE,(('12.Partner Involvement'!$D472*'12.Partner Involvement'!$E472)/COUNTA(_xlfn.TEXTSPLIT('12.Partner Involvement'!$H472,\";\"))),\"\")","v":""},{"$f":"IF(ISNUMBER(SEARCH(F$206,'12.Partner Involvement'!$H472))=TRUE,(('12.Partner Involvement'!$D472*'12.Partner Involvement'!$E472)/COUNTA(_xlfn.TEXTSPLIT('12.Partner Involvement'!$H472,\";\"))),\"\")","v":""},{"$f":"IF(ISNUMBER(SEARCH(G$206,'12.Partner Involvement'!$H472))=TRUE,(('12.Partner Involvement'!$D472*'12.Partner Involvement'!$E472)/COUNTA(_xlfn.TEXTSPLIT('12.Partner Involvement'!$H472,\";\"))),\"\")","v":""},{"$f":"IF(ISNUMBER(SEARCH(H$206,'12.Partner Involvement'!$H472))=TRUE,(('12.Partner Involvement'!$D472*'12.Partner Involvement'!$E472)/COUNTA(_xlfn.TEXTSPLIT('12.Partner Involvement'!$H472,\";\"))),\"\")","v":""}]
[{"$f":"IF(ISNUMBER(SEARCH(A$206,'12.Partner Involvement'!$G473))=TRUE,(('12.Partner Involvement'!$D473*'12.Partner Involvement'!$E473)/COUNTA(_xlfn.TEXTSPLIT('12.Partner Involvement'!$G473,\";\"))),\"\")","v":""},{"$f":"IF(ISNUMBER(SEARCH(B$206,'12.Partner Involvement'!$G473))=TRUE,(('12.Partner Involvement'!$D473*'12.Partner Involvement'!$E473)/COUNTA(_xlfn.TEXTSPLIT('12.Partner Involvement'!$G473,\";\"))),\"\")","v":""},{"$f":"IF(ISNUMBER(SEARCH(C$206,'12.Partner Involvement'!$G473))=TRUE,(('12.Partner Involvement'!$D473*'12.Partner Involvement'!$E473)/COUNTA(_xlfn.TEXTSPLIT('12.Partner Involvement'!$G473,\";\"))),\"\")","v":""},null,{"$f":"IF(ISNUMBER(SEARCH(E$206,'12.Partner Involvement'!$H473))=TRUE,(('12.Partner Involvement'!$D473*'12.Partner Involvement'!$E473)/COUNTA(_xlfn.TEXTSPLIT('12.Partner Involvement'!$H473,\";\"))),\"\")","v":""},{"$f":"IF(ISNUMBER(SEARCH(F$206,'12.Partner Involvement'!$H473))=TRUE,(('12.Partner Involvement'!$D473*'12.Partner Involvement'!$E473)/COUNTA(_xlfn.TEXTSPLIT('12.Partner Involvement'!$H473,\";\"))),\"\")","v":""},{"$f":"IF(ISNUMBER(SEARCH(G$206,'12.Partner Involvement'!$H473))=TRUE,(('12.Partner Involvement'!$D473*'12.Partner Involvement'!$E473)/COUNTA(_xlfn.TEXTSPLIT('12.Partner Involvement'!$H473,\";\"))),\"\")","v":""},{"$f":"IF(ISNUMBER(SEARCH(H$206,'12.Partner Involvement'!$H473))=TRUE,(('12.Partner Involvement'!$D473*'12.Partner Involvement'!$E473)/COUNTA(_xlfn.TEXTSPLIT('12.Partner Involvement'!$H473,\";\"))),\"\")","v":""}]
[{"$f":"IF(ISNUMBER(SEARCH(A$206,'12.Partner Involvement'!$G474))=TRUE,(('12.Partner Involvement'!$D474*'12.Partner Involvement'!$E474)/COUNTA(_xlfn.TEXTSPLIT('12.Partner Involvement'!$G474,\";\"))),\"\")","v":""},{"$f":"IF(ISNUMBER(SEARCH(B$206,'12.Partner Involvement'!$G474))=TRUE,(('12.Partner Involvement'!$D474*'12.Partner Involvement'!$E474)/COUNTA(_xlfn.TEXTSPLIT('12.Partner Involvement'!$G474,\";\"))),\"\")","v":""},{"$f":"IF(ISNUMBER(SEARCH(C$206,'12.Partner Involvement'!$G474))=TRUE,(('12.Partner Involvement'!$D474*'12.Partner Involvement'!$E474)/COUNTA(_xlfn.TEXTSPLIT('12.Partner Involvement'!$G474,\";\"))),\"\")","v":""},null,{"$f":"IF(ISNUMBER(SEARCH(E$206,'12.Partner Involvement'!$H474))=TRUE,(('12.Partner Involvement'!$D474*'12.Partner Involvement'!$E474)/COUNTA(_xlfn.TEXTSPLIT('12.Partner Involvement'!$H474,\";\"))),\"\")","v":""},{"$f":"IF(ISNUMBER(SEARCH(F$206,'12.Partner Involvement'!$H474))=TRUE,(('12.Partner Involvement'!$D474*'12.Partner Involvement'!$E474)/COUNTA(_xlfn.TEXTSPLIT('12.Partner Involvement'!$H474,\";\"))),\"\")","v":""},{"$f":"IF(ISNUMBER(SEARCH(G$206,'12.Partner Involvement'!$H474))=TRUE,(('12.Partner Involvement'!$D474*'12.Partner Involvement'!$E474)/COUNTA(_xlfn.TEXTSPLIT('12.Partner Involvement'!$H474,\";\"))),\"\")","v":""},{"$f":"IF(ISNUMBER(SEARCH(H$206,'12.Partner Involvement'!$H474))=TRUE,(('12.Partner Involvement'!$D474*'12.Partner Involvement'!$E474)/COUNTA(_xlfn.TEXTSPLIT('12.Partner Involvement'!$H474,\";\"))),\"\")","v":""}]
[{"$f":"IF(ISNUMBER(SEARCH(A$206,'12.Partner Involvement'!$G475))=TRUE,(('12.Partner Involvement'!$D475*'12.Partner Involvement'!$E475)/COUNTA(_xlfn.TEXTSPLIT('12.Partner Involvement'!$G475,\";\"))),\"\")","v":""},{"$f":"IF(ISNUMBER(SEARCH(B$206,'12.Partner Involvement'!$G475))=TRUE,(('12.Partner Involvement'!$D475*'12.Partner Involvement'!$E475)/COUNTA(_xlfn.TEXTSPLIT('12.Partner Involvement'!$G475,\";\"))),\"\")","v":""},{"$f":"IF(ISNUMBER(SEARCH(C$206,'12.Partner Involvement'!$G475))=TRUE,(('12.Partner Involvement'!$D475*'12.Partner Involvement'!$E475)/COUNTA(_xlfn.TEXTSPLIT('12.Partner Involvement'!$G475,\";\"))),\"\")","v":""},null,{"$f":"IF(ISNUMBER(SEARCH(E$206,'12.Partner Involvement'!$H475))=TRUE,(('12.Partner Involvement'!$D475*'12.Partner Involvement'!$E475)/COUNTA(_xlfn.TEXTSPLIT('12.Partner Involvement'!$H475,\";\"))),\"\")","v":""},{"$f":"IF(ISNUMBER(SEARCH(F$206,'12.Partner Involvement'!$H475))=TRUE,(('12.Partner Involvement'!$D475*'12.Partner Involvement'!$E475)/COUNTA(_xlfn.TEXTSPLIT('12.Partner Involvement'!$H475,\";\"))),\"\")","v":""},{"$f":"IF(ISNUMBER(SEARCH(G$206,'12.Partner Involvement'!$H475))=TRUE,(('12.Partner Involvement'!$D475*'12.Partner Involvement'!$E475)/COUNTA(_xlfn.TEXTSPLIT('12.Partner Involvement'!$H475,\";\"))),\"\")","v":""},{"$f":"IF(ISNUMBER(SEARCH(H$206,'12.Partner Involvement'!$H475))=TRUE,(('12.Partner Involvement'!$D475*'12.Partner Involvement'!$E475)/COUNTA(_xlfn.TEXTSPLIT('12.Partner Involvement'!$H475,\";\"))),\"\")","v":""}]
[{"$f":"IF(ISNUMBER(SEARCH(A$206,'12.Partner Involvement'!$G476))=TRUE,(('12.Partner Involvement'!$D476*'12.Partner Involvement'!$E476)/COUNTA(_xlfn.TEXTSPLIT('12.Partner Involvement'!$G476,\";\"))),\"\")","v":""},{"$f":"IF(ISNUMBER(SEARCH(B$206,'12.Partner Involvement'!$G476))=TRUE,(('12.Partner Involvement'!$D476*'12.Partner Involvement'!$E476)/COUNTA(_xlfn.TEXTSPLIT('12.Partner Involvement'!$G476,\";\"))),\"\")","v":""},{"$f":"IF(ISNUMBER(SEARCH(C$206,'12.Partner Involvement'!$G476))=TRUE,(('12.Partner Involvement'!$D476*'12.Partner Involvement'!$E476)/COUNTA(_xlfn.TEXTSPLIT('12.Partner Involvement'!$G476,\";\"))),\"\")","v":""},null,{"$f":"IF(ISNUMBER(SEARCH(E$206,'12.Partner Involvement'!$H476))=TRUE,(('12.Partner Involvement'!$D476*'12.Partner Involvement'!$E476)/COUNTA(_xlfn.TEXTSPLIT('12.Partner Involvement'!$H476,\";\"))),\"\")","v":""},{"$f":"IF(ISNUMBER(SEARCH(F$206,'12.Partner Involvement'!$H476))=TRUE,(('12.Partner Involvement'!$D476*'12.Partner Involvement'!$E476)/COUNTA(_xlfn.TEXTSPLIT('12.Partner Involvement'!$H476,\";\"))),\"\")","v":""},{"$f":"IF(ISNUMBER(SEARCH(G$206,'12.Partner Involvement'!$H476))=TRUE,(('12.Partner Involvement'!$D476*'12.Partner Involvement'!$E476)/COUNTA(_xlfn.TEXTSPLIT('12.Partner Involvement'!$H476,\";\"))),\"\")","v":""},{"$f":"IF(ISNUMBER(SEARCH(H$206,'12.Partner Involvement'!$H476))=TRUE,(('12.Partner Involvement'!$D476*'12.Partner Involvement'!$E476)/COUNTA(_xlfn.TEXTSPLIT('12.Partner Involvement'!$H476,\";\"))),\"\")","v":""}]
[{"$f":"IF(ISNUMBER(SEARCH(A$206,'12.Partner Involvement'!$G477))=TRUE,(('12.Partner Involvement'!$D477*'12.Partner Involvement'!$E477)/COUNTA(_xlfn.TEXTSPLIT('12.Partner Involvement'!$G477,\";\"))),\"\")","v":""},{"$f":"IF(ISNUMBER(SEARCH(B$206,'12.Partner Involvement'!$G477))=TRUE,(('12.Partner Involvement'!$D477*'12.Partner Involvement'!$E477)/COUNTA(_xlfn.TEXTSPLIT('12.Partner Involvement'!$G477,\";\"))),\"\")","v":""},{"$f":"IF(ISNUMBER(SEARCH(C$206,'12.Partner Involvement'!$G477))=TRUE,(('12.Partner Involvement'!$D477*'12.Partner Involvement'!$E477)/COUNTA(_xlfn.TEXTSPLIT('12.Partner Involvement'!$G477,\";\"))),\"\")","v":""},null,{"$f":"IF(ISNUMBER(SEARCH(E$206,'12.Partner Involvement'!$H477))=TRUE,(('12.Partner Involvement'!$D477*'12.Partner Involvement'!$E477)/COUNTA(_xlfn.TEXTSPLIT('12.Partner Involvement'!$H477,\";\"))),\"\")","v":""},{"$f":"IF(ISNUMBER(SEARCH(F$206,'12.Partner Involvement'!$H477))=TRUE,(('12.Partner Involvement'!$D477*'12.Partner Involvement'!$E477)/COUNTA(_xlfn.TEXTSPLIT('12.Partner Involvement'!$H477,\";\"))),\"\")","v":""},{"$f":"IF(ISNUMBER(SEARCH(G$206,'12.Partner Involvement'!$H477))=TRUE,(('12.Partner Involvement'!$D477*'12.Partner Involvement'!$E477)/COUNTA(_xlfn.TEXTSPLIT('12.Partner Involvement'!$H477,\";\"))),\"\")","v":""},{"$f":"IF(ISNUMBER(SEARCH(H$206,'12.Partner Involvement'!$H477))=TRUE,(('12.Partner Involvement'!$D477*'12.Partner Involvement'!$E477)/COUNTA(_xlfn.TEXTSPLIT('12.Partner Involvement'!$H477,\";\"))),\"\")","v":""}]
[{"$f":"IF(ISNUMBER(SEARCH(A$206,'12.Partner Involvement'!$G478))=TRUE,(('12.Partner Involvement'!$D478*'12.Partner Involvement'!$E478)/COUNTA(_xlfn.TEXTSPLIT('12.Partner Involvement'!$G478,\";\"))),\"\")","v":""},{"$f":"IF(ISNUMBER(SEARCH(B$206,'12.Partner Involvement'!$G478))=TRUE,(('12.Partner Involvement'!$D478*'12.Partner Involvement'!$E478)/COUNTA(_xlfn.TEXTSPLIT('12.Partner Involvement'!$G478,\";\"))),\"\")","v":""},{"$f":"IF(ISNUMBER(SEARCH(C$206,'12.Partner Involvement'!$G478))=TRUE,(('12.Partner Involvement'!$D478*'12.Partner Involvement'!$E478)/COUNTA(_xlfn.TEXTSPLIT('12.Partner Involvement'!$G478,\";\"))),\"\")","v":""},null,{"$f":"IF(ISNUMBER(SEARCH(E$206,'12.Partner Involvement'!$H478))=TRUE,(('12.Partner Involvement'!$D478*'12.Partner Involvement'!$E478)/COUNTA(_xlfn.TEXTSPLIT('12.Partner Involvement'!$H478,\";\"))),\"\")","v":""},{"$f":"IF(ISNUMBER(SEARCH(F$206,'12.Partner Involvement'!$H478))=TRUE,(('12.Partner Involvement'!$D478*'12.Partner Involvement'!$E478)/COUNTA(_xlfn.TEXTSPLIT('12.Partner Involvement'!$H478,\";\"))),\"\")","v":""},{"$f":"IF(ISNUMBER(SEARCH(G$206,'12.Partner Involvement'!$H478))=TRUE,(('12.Partner Involvement'!$D478*'12.Partner Involvement'!$E478)/COUNTA(_xlfn.TEXTSPLIT('12.Partner Involvement'!$H478,\";\"))),\"\")","v":""},{"$f":"IF(ISNUMBER(SEARCH(H$206,'12.Partner Involvement'!$H478))=TRUE,(('12.Partner Involvement'!$D478*'12.Partner Involvement'!$E478)/COUNTA(_xlfn.TEXTSPLIT('12.Partner Involvement'!$H478,\";\"))),\"\")","v":""}]
[{"$f":"IF(ISNUMBER(SEARCH(A$206,'12.Partner Involvement'!$G479))=TRUE,(('12.Partner Involvement'!$D479*'12.Partner Involvement'!$E479)/COUNTA(_xlfn.TEXTSPLIT('12.Partner Involvement'!$G479,\";\"))),\"\")","v":""},{"$f":"IF(ISNUMBER(SEARCH(B$206,'12.Partner Involvement'!$G479))=TRUE,(('12.Partner Involvement'!$D479*'12.Partner Involvement'!$E479)/COUNTA(_xlfn.TEXTSPLIT('12.Partner Involvement'!$G479,\";\"))),\"\")","v":""},{"$f":"IF(ISNUMBER(SEARCH(C$206,'12.Partner Involvement'!$G479))=TRUE,(('12.Partner Involvement'!$D479*'12.Partner Involvement'!$E479)/COUNTA(_xlfn.TEXTSPLIT('12.Partner Involvement'!$G479,\";\"))),\"\")","v":""},null,{"$f":"IF(ISNUMBER(SEARCH(E$206,'12.Partner Involvement'!$H479))=TRUE,(('12.Partner Involvement'!$D479*'12.Partner Involvement'!$E479)/COUNTA(_xlfn.TEXTSPLIT('12.Partner Involvement'!$H479,\";\"))),\"\")","v":""},{"$f":"IF(ISNUMBER(SEARCH(F$206,'12.Partner Involvement'!$H479))=TRUE,(('12.Partner Involvement'!$D479*'12.Partner Involvement'!$E479)/COUNTA(_xlfn.TEXTSPLIT('12.Partner Involvement'!$H479,\";\"))),\"\")","v":""},{"$f":"IF(ISNUMBER(SEARCH(G$206,'12.Partner Involvement'!$H479))=TRUE,(('12.Partner Involvement'!$D479*'12.Partner Involvement'!$E479)/COUNTA(_xlfn.TEXTSPLIT('12.Partner Involvement'!$H479,\";\"))),\"\")","v":""},{"$f":"IF(ISNUMBER(SEARCH(H$206,'12.Partner Involvement'!$H479))=TRUE,(('12.Partner Involvement'!$D479*'12.Partner Involvement'!$E479)/COUNTA(_xlfn.TEXTSPLIT('12.Partner Involvement'!$H479,\";\"))),\"\")","v":""}]
[{"$f":"IF(ISNUMBER(SEARCH(A$206,'12.Partner Involvement'!$G480))=TRUE,(('12.Partner Involvement'!$D480*'12.Partner Involvement'!$E480)/COUNTA(_xlfn.TEXTSPLIT('12.Partner Involvement'!$G480,\";\"))),\"\")","v":""},{"$f":"IF(ISNUMBER(SEARCH(B$206,'12.Partner Involvement'!$G480))=TRUE,(('12.Partner Involvement'!$D480*'12.Partner Involvement'!$E480)/COUNTA(_xlfn.TEXTSPLIT('12.Partner Involvement'!$G480,\";\"))),\"\")","v":""},{"$f":"IF(ISNUMBER(SEARCH(C$206,'12.Partner Involvement'!$G480))=TRUE,(('12.Partner Involvement'!$D480*'12.Partner Involvement'!$E480)/COUNTA(_xlfn.TEXTSPLIT('12.Partner Involvement'!$G480,\";\"))),\"\")","v":""},null,{"$f":"IF(ISNUMBER(SEARCH(E$206,'12.Partner Involvement'!$H480))=TRUE,(('12.Partner Involvement'!$D480*'12.Partner Involvement'!$E480)/COUNTA(_xlfn.TEXTSPLIT('12.Partner Involvement'!$H480,\";\"))),\"\")","v":""},{"$f":"IF(ISNUMBER(SEARCH(F$206,'12.Partner Involvement'!$H480))=TRUE,(('12.Partner Involvement'!$D480*'12.Partner Involvement'!$E480)/COUNTA(_xlfn.TEXTSPLIT('12.Partner Involvement'!$H480,\";\"))),\"\")","v":""},{"$f":"IF(ISNUMBER(SEARCH(G$206,'12.Partner Involvement'!$H480))=TRUE,(('12.Partner Involvement'!$D480*'12.Partner Involvement'!$E480)/COUNTA(_xlfn.TEXTSPLIT('12.Partner Involvement'!$H480,\";\"))),\"\")","v":""},{"$f":"IF(ISNUMBER(SEARCH(H$206,'12.Partner Involvement'!$H480))=TRUE,(('12.Partner Involvement'!$D480*'12.Partner Involvement'!$E480)/COUNTA(_xlfn.TEXTSPLIT('12.Partner Involvement'!$H480,\";\"))),\"\")","v":""}]
[{"$f":"IF(ISNUMBER(SEARCH(A$206,'12.Partner Involvement'!$G481))=TRUE,(('12.Partner Involvement'!$D481*'12.Partner Involvement'!$E481)/COUNTA(_xlfn.TEXTSPLIT('12.Partner Involvement'!$G481,\";\"))),\"\")","v":""},{"$f":"IF(ISNUMBER(SEARCH(B$206,'12.Partner Involvement'!$G481))=TRUE,(('12.Partner Involvement'!$D481*'12.Partner Involvement'!$E481)/COUNTA(_xlfn.TEXTSPLIT('12.Partner Involvement'!$G481,\";\"))),\"\")","v":""},{"$f":"IF(ISNUMBER(SEARCH(C$206,'12.Partner Involvement'!$G481))=TRUE,(('12.Partner Involvement'!$D481*'12.Partner Involvement'!$E481)/COUNTA(_xlfn.TEXTSPLIT('12.Partner Involvement'!$G481,\";\"))),\"\")","v":""},null,{"$f":"IF(ISNUMBER(SEARCH(E$206,'12.Partner Involvement'!$H481))=TRUE,(('12.Partner Involvement'!$D481*'12.Partner Involvement'!$E481)/COUNTA(_xlfn.TEXTSPLIT('12.Partner Involvement'!$H481,\";\"))),\"\")","v":""},{"$f":"IF(ISNUMBER(SEARCH(F$206,'12.Partner Involvement'!$H481))=TRUE,(('12.Partner Involvement'!$D481*'12.Partner Involvement'!$E481)/COUNTA(_xlfn.TEXTSPLIT('12.Partner Involvement'!$H481,\";\"))),\"\")","v":""},{"$f":"IF(ISNUMBER(SEARCH(G$206,'12.Partner Involvement'!$H481))=TRUE,(('12.Partner Involvement'!$D481*'12.Partner Involvement'!$E481)/COUNTA(_xlfn.TEXTSPLIT('12.Partner Involvement'!$H481,\";\"))),\"\")","v":""},{"$f":"IF(ISNUMBER(SEARCH(H$206,'12.Partner Involvement'!$H481))=TRUE,(('12.Partner Involvement'!$D481*'12.Partner Involvement'!$E481)/COUNTA(_xlfn.TEXTSPLIT('12.Partner Involvement'!$H481,\";\"))),\"\")","v":""}]
[{"$f":"IF(ISNUMBER(SEARCH(A$206,'12.Partner Involvement'!$G482))=TRUE,(('12.Partner Involvement'!$D482*'12.Partner Involvement'!$E482)/COUNTA(_xlfn.TEXTSPLIT('12.Partner Involvement'!$G482,\";\"))),\"\")","v":""},{"$f":"IF(ISNUMBER(SEARCH(B$206,'12.Partner Involvement'!$G482))=TRUE,(('12.Partner Involvement'!$D482*'12.Partner Involvement'!$E482)/COUNTA(_xlfn.TEXTSPLIT('12.Partner Involvement'!$G482,\";\"))),\"\")","v":""},{"$f":"IF(ISNUMBER(SEARCH(C$206,'12.Partner Involvement'!$G482))=TRUE,(('12.Partner Involvement'!$D482*'12.Partner Involvement'!$E482)/COUNTA(_xlfn.TEXTSPLIT('12.Partner Involvement'!$G482,\";\"))),\"\")","v":""},null,{"$f":"IF(ISNUMBER(SEARCH(E$206,'12.Partner Involvement'!$H482))=TRUE,(('12.Partner Involvement'!$D482*'12.Partner Involvement'!$E482)/COUNTA(_xlfn.TEXTSPLIT('12.Partner Involvement'!$H482,\";\"))),\"\")","v":""},{"$f":"IF(ISNUMBER(SEARCH(F$206,'12.Partner Involvement'!$H482))=TRUE,(('12.Partner Involvement'!$D482*'12.Partner Involvement'!$E482)/COUNTA(_xlfn.TEXTSPLIT('12.Partner Involvement'!$H482,\";\"))),\"\")","v":""},{"$f":"IF(ISNUMBER(SEARCH(G$206,'12.Partner Involvement'!$H482))=TRUE,(('12.Partner Involvement'!$D482*'12.Partner Involvement'!$E482)/COUNTA(_xlfn.TEXTSPLIT('12.Partner Involvement'!$H482,\";\"))),\"\")","v":""},{"$f":"IF(ISNUMBER(SEARCH(H$206,'12.Partner Involvement'!$H482))=TRUE,(('12.Partner Involvement'!$D482*'12.Partner Involvement'!$E482)/COUNTA(_xlfn.TEXTSPLIT('12.Partner Involvement'!$H482,\";\"))),\"\")","v":""}]
[{"$f":"IF(ISNUMBER(SEARCH(A$206,'12.Partner Involvement'!$G483))=TRUE,(('12.Partner Involvement'!$D483*'12.Partner Involvement'!$E483)/COUNTA(_xlfn.TEXTSPLIT('12.Partner Involvement'!$G483,\";\"))),\"\")","v":""},{"$f":"IF(ISNUMBER(SEARCH(B$206,'12.Partner Involvement'!$G483))=TRUE,(('12.Partner Involvement'!$D483*'12.Partner Involvement'!$E483)/COUNTA(_xlfn.TEXTSPLIT('12.Partner Involvement'!$G483,\";\"))),\"\")","v":""},{"$f":"IF(ISNUMBER(SEARCH(C$206,'12.Partner Involvement'!$G483))=TRUE,(('12.Partner Involvement'!$D483*'12.Partner Involvement'!$E483)/COUNTA(_xlfn.TEXTSPLIT('12.Partner Involvement'!$G483,\";\"))),\"\")","v":""},null,{"$f":"IF(ISNUMBER(SEARCH(E$206,'12.Partner Involvement'!$H483))=TRUE,(('12.Partner Involvement'!$D483*'12.Partner Involvement'!$E483)/COUNTA(_xlfn.TEXTSPLIT('12.Partner Involvement'!$H483,\";\"))),\"\")","v":""},{"$f":"IF(ISNUMBER(SEARCH(F$206,'12.Partner Involvement'!$H483))=TRUE,(('12.Partner Involvement'!$D483*'12.Partner Involvement'!$E483)/COUNTA(_xlfn.TEXTSPLIT('12.Partner Involvement'!$H483,\";\"))),\"\")","v":""},{"$f":"IF(ISNUMBER(SEARCH(G$206,'12.Partner Involvement'!$H483))=TRUE,(('12.Partner Involvement'!$D483*'12.Partner Involvement'!$E483)/COUNTA(_xlfn.TEXTSPLIT('12.Partner Involvement'!$H483,\";\"))),\"\")","v":""},{"$f":"IF(ISNUMBER(SEARCH(H$206,'12.Partner Involvement'!$H483))=TRUE,(('12.Partner Involvement'!$D483*'12.Partner Involvement'!$E483)/COUNTA(_xlfn.TEXTSPLIT('12.Partner Involvement'!$H483,\";\"))),\"\")","v":""}]
[{"$f":"IF(ISNUMBER(SEARCH(A$206,'12.Partner Involvement'!$G484))=TRUE,(('12.Partner Involvement'!$D484*'12.Partner Involvement'!$E484)/COUNTA(_xlfn.TEXTSPLIT('12.Partner Involvement'!$G484,\";\"))),\"\")","v":""},{"$f":"IF(ISNUMBER(SEARCH(B$206,'12.Partner Involvement'!$G484))=TRUE,(('12.Partner Involvement'!$D484*'12.Partner Involvement'!$E484)/COUNTA(_xlfn.TEXTSPLIT('12.Partner Involvement'!$G484,\";\"))),\"\")","v":""},{"$f":"IF(ISNUMBER(SEARCH(C$206,'12.Partner Involvement'!$G484))=TRUE,(('12.Partner Involvement'!$D484*'12.Partner Involvement'!$E484)/COUNTA(_xlfn.TEXTSPLIT('12.Partner Involvement'!$G484,\";\"))),\"\")","v":""},null,{"$f":"IF(ISNUMBER(SEARCH(E$206,'12.Partner Involvement'!$H484))=TRUE,(('12.Partner Involvement'!$D484*'12.Partner Involvement'!$E484)/COUNTA(_xlfn.TEXTSPLIT('12.Partner Involvement'!$H484,\";\"))),\"\")","v":""},{"$f":"IF(ISNUMBER(SEARCH(F$206,'12.Partner Involvement'!$H484))=TRUE,(('12.Partner Involvement'!$D484*'12.Partner Involvement'!$E484)/COUNTA(_xlfn.TEXTSPLIT('12.Partner Involvement'!$H484,\";\"))),\"\")","v":""},{"$f":"IF(ISNUMBER(SEARCH(G$206,'12.Partner Involvement'!$H484))=TRUE,(('12.Partner Involvement'!$D484*'12.Partner Involvement'!$E484)/COUNTA(_xlfn.TEXTSPLIT('12.Partner Involvement'!$H484,\";\"))),\"\")","v":""},{"$f":"IF(ISNUMBER(SEARCH(H$206,'12.Partner Involvement'!$H484))=TRUE,(('12.Partner Involvement'!$D484*'12.Partner Involvement'!$E484)/COUNTA(_xlfn.TEXTSPLIT('12.Partner Involvement'!$H484,\";\"))),\"\")","v":""}]
[{"$f":"IF(ISNUMBER(SEARCH(A$206,'12.Partner Involvement'!$G485))=TRUE,(('12.Partner Involvement'!$D485*'12.Partner Involvement'!$E485)/COUNTA(_xlfn.TEXTSPLIT('12.Partner Involvement'!$G485,\";\"))),\"\")","v":""},{"$f":"IF(ISNUMBER(SEARCH(B$206,'12.Partner Involvement'!$G485))=TRUE,(('12.Partner Involvement'!$D485*'12.Partner Involvement'!$E485)/COUNTA(_xlfn.TEXTSPLIT('12.Partner Involvement'!$G485,\";\"))),\"\")","v":""},{"$f":"IF(ISNUMBER(SEARCH(C$206,'12.Partner Involvement'!$G485))=TRUE,(('12.Partner Involvement'!$D485*'12.Partner Involvement'!$E485)/COUNTA(_xlfn.TEXTSPLIT('12.Partner Involvement'!$G485,\";\"))),\"\")","v":""},null,{"$f":"IF(ISNUMBER(SEARCH(E$206,'12.Partner Involvement'!$H485))=TRUE,(('12.Partner Involvement'!$D485*'12.Partner Involvement'!$E485)/COUNTA(_xlfn.TEXTSPLIT('12.Partner Involvement'!$H485,\";\"))),\"\")","v":""},{"$f":"IF(ISNUMBER(SEARCH(F$206,'12.Partner Involvement'!$H485))=TRUE,(('12.Partner Involvement'!$D485*'12.Partner Involvement'!$E485)/COUNTA(_xlfn.TEXTSPLIT('12.Partner Involvement'!$H485,\";\"))),\"\")","v":""},{"$f":"IF(ISNUMBER(SEARCH(G$206,'12.Partner Involvement'!$H485))=TRUE,(('12.Partner Involvement'!$D485*'12.Partner Involvement'!$E485)/COUNTA(_xlfn.TEXTSPLIT('12.Partner Involvement'!$H485,\";\"))),\"\")","v":""},{"$f":"IF(ISNUMBER(SEARCH(H$206,'12.Partner Involvement'!$H485))=TRUE,(('12.Partner Involvement'!$D485*'12.Partner Involvement'!$E485)/COUNTA(_xlfn.TEXTSPLIT('12.Partner Involvement'!$H485,\";\"))),\"\")","v":""}]
[{"$f":"IF(ISNUMBER(SEARCH(A$206,'12.Partner Involvement'!$G486))=TRUE,(('12.Partner Involvement'!$D486*'12.Partner Involvement'!$E486)/COUNTA(_xlfn.TEXTSPLIT('12.Partner Involvement'!$G486,\";\"))),\"\")","v":""},{"$f":"IF(ISNUMBER(SEARCH(B$206,'12.Partner Involvement'!$G486))=TRUE,(('12.Partner Involvement'!$D486*'12.Partner Involvement'!$E486)/COUNTA(_xlfn.TEXTSPLIT('12.Partner Involvement'!$G486,\";\"))),\"\")","v":""},{"$f":"IF(ISNUMBER(SEARCH(C$206,'12.Partner Involvement'!$G486))=TRUE,(('12.Partner Involvement'!$D486*'12.Partner Involvement'!$E486)/COUNTA(_xlfn.TEXTSPLIT('12.Partner Involvement'!$G486,\";\"))),\"\")","v":""},null,{"$f":"IF(ISNUMBER(SEARCH(E$206,'12.Partner Involvement'!$H486))=TRUE,(('12.Partner Involvement'!$D486*'12.Partner Involvement'!$E486)/COUNTA(_xlfn.TEXTSPLIT('12.Partner Involvement'!$H486,\";\"))),\"\")","v":""},{"$f":"IF(ISNUMBER(SEARCH(F$206,'12.Partner Involvement'!$H486))=TRUE,(('12.Partner Involvement'!$D486*'12.Partner Involvement'!$E486)/COUNTA(_xlfn.TEXTSPLIT('12.Partner Involvement'!$H486,\";\"))),\"\")","v":""},{"$f":"IF(ISNUMBER(SEARCH(G$206,'12.Partner Involvement'!$H486))=TRUE,(('12.Partner Involvement'!$D486*'12.Partner Involvement'!$E486)/COUNTA(_xlfn.TEXTSPLIT('12.Partner Involvement'!$H486,\";\"))),\"\")","v":""},{"$f":"IF(ISNUMBER(SEARCH(H$206,'12.Partner Involvement'!$H486))=TRUE,(('12.Partner Involvement'!$D486*'12.Partner Involvement'!$E486)/COUNTA(_xlfn.TEXTSPLIT('12.Partner Involvement'!$H486,\";\"))),\"\")","v":""}]
[{"$f":"IF(ISNUMBER(SEARCH(A$206,'12.Partner Involvement'!$G487))=TRUE,(('12.Partner Involvement'!$D487*'12.Partner Involvement'!$E487)/COUNTA(_xlfn.TEXTSPLIT('12.Partner Involvement'!$G487,\";\"))),\"\")","v":""},{"$f":"IF(ISNUMBER(SEARCH(B$206,'12.Partner Involvement'!$G487))=TRUE,(('12.Partner Involvement'!$D487*'12.Partner Involvement'!$E487)/COUNTA(_xlfn.TEXTSPLIT('12.Partner Involvement'!$G487,\";\"))),\"\")","v":""},{"$f":"IF(ISNUMBER(SEARCH(C$206,'12.Partner Involvement'!$G487))=TRUE,(('12.Partner Involvement'!$D487*'12.Partner Involvement'!$E487)/COUNTA(_xlfn.TEXTSPLIT('12.Partner Involvement'!$G487,\";\"))),\"\")","v":""},null,{"$f":"IF(ISNUMBER(SEARCH(E$206,'12.Partner Involvement'!$H487))=TRUE,(('12.Partner Involvement'!$D487*'12.Partner Involvement'!$E487)/COUNTA(_xlfn.TEXTSPLIT('12.Partner Involvement'!$H487,\";\"))),\"\")","v":""},{"$f":"IF(ISNUMBER(SEARCH(F$206,'12.Partner Involvement'!$H487))=TRUE,(('12.Partner Involvement'!$D487*'12.Partner Involvement'!$E487)/COUNTA(_xlfn.TEXTSPLIT('12.Partner Involvement'!$H487,\";\"))),\"\")","v":""},{"$f":"IF(ISNUMBER(SEARCH(G$206,'12.Partner Involvement'!$H487))=TRUE,(('12.Partner Involvement'!$D487*'12.Partner Involvement'!$E487)/COUNTA(_xlfn.TEXTSPLIT('12.Partner Involvement'!$H487,\";\"))),\"\")","v":""},{"$f":"IF(ISNUMBER(SEARCH(H$206,'12.Partner Involvement'!$H487))=TRUE,(('12.Partner Involvement'!$D487*'12.Partner Involvement'!$E487)/COUNTA(_xlfn.TEXTSPLIT('12.Partner Involvement'!$H487,\";\"))),\"\")","v":""}]
[{"$f":"IF(ISNUMBER(SEARCH(A$206,'12.Partner Involvement'!$G488))=TRUE,(('12.Partner Involvement'!$D488*'12.Partner Involvement'!$E488)/COUNTA(_xlfn.TEXTSPLIT('12.Partner Involvement'!$G488,\";\"))),\"\")","v":""},{"$f":"IF(ISNUMBER(SEARCH(B$206,'12.Partner Involvement'!$G488))=TRUE,(('12.Partner Involvement'!$D488*'12.Partner Involvement'!$E488)/COUNTA(_xlfn.TEXTSPLIT('12.Partner Involvement'!$G488,\";\"))),\"\")","v":""},{"$f":"IF(ISNUMBER(SEARCH(C$206,'12.Partner Involvement'!$G488))=TRUE,(('12.Partner Involvement'!$D488*'12.Partner Involvement'!$E488)/COUNTA(_xlfn.TEXTSPLIT('12.Partner Involvement'!$G488,\";\"))),\"\")","v":""},null,{"$f":"IF(ISNUMBER(SEARCH(E$206,'12.Partner Involvement'!$H488))=TRUE,(('12.Partner Involvement'!$D488*'12.Partner Involvement'!$E488)/COUNTA(_xlfn.TEXTSPLIT('12.Partner Involvement'!$H488,\";\"))),\"\")","v":""},{"$f":"IF(ISNUMBER(SEARCH(F$206,'12.Partner Involvement'!$H488))=TRUE,(('12.Partner Involvement'!$D488*'12.Partner Involvement'!$E488)/COUNTA(_xlfn.TEXTSPLIT('12.Partner Involvement'!$H488,\";\"))),\"\")","v":""},{"$f":"IF(ISNUMBER(SEARCH(G$206,'12.Partner Involvement'!$H488))=TRUE,(('12.Partner Involvement'!$D488*'12.Partner Involvement'!$E488)/COUNTA(_xlfn.TEXTSPLIT('12.Partner Involvement'!$H488,\";\"))),\"\")","v":""},{"$f":"IF(ISNUMBER(SEARCH(H$206,'12.Partner Involvement'!$H488))=TRUE,(('12.Partner Involvement'!$D488*'12.Partner Involvement'!$E488)/COUNTA(_xlfn.TEXTSPLIT('12.Partner Involvement'!$H488,\";\"))),\"\")","v":""}]
[{"$f":"IF(ISNUMBER(SEARCH(A$206,'12.Partner Involvement'!$G489))=TRUE,(('12.Partner Involvement'!$D489*'12.Partner Involvement'!$E489)/COUNTA(_xlfn.TEXTSPLIT('12.Partner Involvement'!$G489,\";\"))),\"\")","v":""},{"$f":"IF(ISNUMBER(SEARCH(B$206,'12.Partner Involvement'!$G489))=TRUE,(('12.Partner Involvement'!$D489*'12.Partner Involvement'!$E489)/COUNTA(_xlfn.TEXTSPLIT('12.Partner Involvement'!$G489,\";\"))),\"\")","v":""},{"$f":"IF(ISNUMBER(SEARCH(C$206,'12.Partner Involvement'!$G489))=TRUE,(('12.Partner Involvement'!$D489*'12.Partner Involvement'!$E489)/COUNTA(_xlfn.TEXTSPLIT('12.Partner Involvement'!$G489,\";\"))),\"\")","v":""},null,{"$f":"IF(ISNUMBER(SEARCH(E$206,'12.Partner Involvement'!$H489))=TRUE,(('12.Partner Involvement'!$D489*'12.Partner Involvement'!$E489)/COUNTA(_xlfn.TEXTSPLIT('12.Partner Involvement'!$H489,\";\"))),\"\")","v":""},{"$f":"IF(ISNUMBER(SEARCH(F$206,'12.Partner Involvement'!$H489))=TRUE,(('12.Partner Involvement'!$D489*'12.Partner Involvement'!$E489)/COUNTA(_xlfn.TEXTSPLIT('12.Partner Involvement'!$H489,\";\"))),\"\")","v":""},{"$f":"IF(ISNUMBER(SEARCH(G$206,'12.Partner Involvement'!$H489))=TRUE,(('12.Partner Involvement'!$D489*'12.Partner Involvement'!$E489)/COUNTA(_xlfn.TEXTSPLIT('12.Partner Involvement'!$H489,\";\"))),\"\")","v":""},{"$f":"IF(ISNUMBER(SEARCH(H$206,'12.Partner Involvement'!$H489))=TRUE,(('12.Partner Involvement'!$D489*'12.Partner Involvement'!$E489)/COUNTA(_xlfn.TEXTSPLIT('12.Partner Involvement'!$H489,\";\"))),\"\")","v":""}]
[{"$f":"IF(ISNUMBER(SEARCH(A$206,'12.Partner Involvement'!$G490))=TRUE,(('12.Partner Involvement'!$D490*'12.Partner Involvement'!$E490)/COUNTA(_xlfn.TEXTSPLIT('12.Partner Involvement'!$G490,\";\"))),\"\")","v":""},{"$f":"IF(ISNUMBER(SEARCH(B$206,'12.Partner Involvement'!$G490))=TRUE,(('12.Partner Involvement'!$D490*'12.Partner Involvement'!$E490)/COUNTA(_xlfn.TEXTSPLIT('12.Partner Involvement'!$G490,\";\"))),\"\")","v":""},{"$f":"IF(ISNUMBER(SEARCH(C$206,'12.Partner Involvement'!$G490))=TRUE,(('12.Partner Involvement'!$D490*'12.Partner Involvement'!$E490)/COUNTA(_xlfn.TEXTSPLIT('12.Partner Involvement'!$G490,\";\"))),\"\")","v":""},null,{"$f":"IF(ISNUMBER(SEARCH(E$206,'12.Partner Involvement'!$H490))=TRUE,(('12.Partner Involvement'!$D490*'12.Partner Involvement'!$E490)/COUNTA(_xlfn.TEXTSPLIT('12.Partner Involvement'!$H490,\";\"))),\"\")","v":""},{"$f":"IF(ISNUMBER(SEARCH(F$206,'12.Partner Involvement'!$H490))=TRUE,(('12.Partner Involvement'!$D490*'12.Partner Involvement'!$E490)/COUNTA(_xlfn.TEXTSPLIT('12.Partner Involvement'!$H490,\";\"))),\"\")","v":""},{"$f":"IF(ISNUMBER(SEARCH(G$206,'12.Partner Involvement'!$H490))=TRUE,(('12.Partner Involvement'!$D490*'12.Partner Involvement'!$E490)/COUNTA(_xlfn.TEXTSPLIT('12.Partner Involvement'!$H490,\";\"))),\"\")","v":""},{"$f":"IF(ISNUMBER(SEARCH(H$206,'12.Partner Involvement'!$H490))=TRUE,(('12.Partner Involvement'!$D490*'12.Partner Involvement'!$E490)/COUNTA(_xlfn.TEXTSPLIT('12.Partner Involvement'!$H490,\";\"))),\"\")","v":""}]
[{"$f":"IF(ISNUMBER(SEARCH(A$206,'12.Partner Involvement'!$G491))=TRUE,(('12.Partner Involvement'!$D491*'12.Partner Involvement'!$E491)/COUNTA(_xlfn.TEXTSPLIT('12.Partner Involvement'!$G491,\";\"))),\"\")","v":""},{"$f":"IF(ISNUMBER(SEARCH(B$206,'12.Partner Involvement'!$G491))=TRUE,(('12.Partner Involvement'!$D491*'12.Partner Involvement'!$E491)/COUNTA(_xlfn.TEXTSPLIT('12.Partner Involvement'!$G491,\";\"))),\"\")","v":""},{"$f":"IF(ISNUMBER(SEARCH(C$206,'12.Partner Involvement'!$G491))=TRUE,(('12.Partner Involvement'!$D491*'12.Partner Involvement'!$E491)/COUNTA(_xlfn.TEXTSPLIT('12.Partner Involvement'!$G491,\";\"))),\"\")","v":""},null,{"$f":"IF(ISNUMBER(SEARCH(E$206,'12.Partner Involvement'!$H491))=TRUE,(('12.Partner Involvement'!$D491*'12.Partner Involvement'!$E491)/COUNTA(_xlfn.TEXTSPLIT('12.Partner Involvement'!$H491,\";\"))),\"\")","v":""},{"$f":"IF(ISNUMBER(SEARCH(F$206,'12.Partner Involvement'!$H491))=TRUE,(('12.Partner Involvement'!$D491*'12.Partner Involvement'!$E491)/COUNTA(_xlfn.TEXTSPLIT('12.Partner Involvement'!$H491,\";\"))),\"\")","v":""},{"$f":"IF(ISNUMBER(SEARCH(G$206,'12.Partner Involvement'!$H491))=TRUE,(('12.Partner Involvement'!$D491*'12.Partner Involvement'!$E491)/COUNTA(_xlfn.TEXTSPLIT('12.Partner Involvement'!$H491,\";\"))),\"\")","v":""},{"$f":"IF(ISNUMBER(SEARCH(H$206,'12.Partner Involvement'!$H491))=TRUE,(('12.Partner Involvement'!$D491*'12.Partner Involvement'!$E491)/COUNTA(_xlfn.TEXTSPLIT('12.Partner Involvement'!$H491,\";\"))),\"\")","v":""}]
[{"$f":"IF(ISNUMBER(SEARCH(A$206,'12.Partner Involvement'!$G492))=TRUE,(('12.Partner Involvement'!$D492*'12.Partner Involvement'!$E492)/COUNTA(_xlfn.TEXTSPLIT('12.Partner Involvement'!$G492,\";\"))),\"\")","v":""},{"$f":"IF(ISNUMBER(SEARCH(B$206,'12.Partner Involvement'!$G492))=TRUE,(('12.Partner Involvement'!$D492*'12.Partner Involvement'!$E492)/COUNTA(_xlfn.TEXTSPLIT('12.Partner Involvement'!$G492,\";\"))),\"\")","v":""},{"$f":"IF(ISNUMBER(SEARCH(C$206,'12.Partner Involvement'!$G492))=TRUE,(('12.Partner Involvement'!$D492*'12.Partner Involvement'!$E492)/COUNTA(_xlfn.TEXTSPLIT('12.Partner Involvement'!$G492,\";\"))),\"\")","v":""},null,{"$f":"IF(ISNUMBER(SEARCH(E$206,'12.Partner Involvement'!$H492))=TRUE,(('12.Partner Involvement'!$D492*'12.Partner Involvement'!$E492)/COUNTA(_xlfn.TEXTSPLIT('12.Partner Involvement'!$H492,\";\"))),\"\")","v":""},{"$f":"IF(ISNUMBER(SEARCH(F$206,'12.Partner Involvement'!$H492))=TRUE,(('12.Partner Involvement'!$D492*'12.Partner Involvement'!$E492)/COUNTA(_xlfn.TEXTSPLIT('12.Partner Involvement'!$H492,\";\"))),\"\")","v":""},{"$f":"IF(ISNUMBER(SEARCH(G$206,'12.Partner Involvement'!$H492))=TRUE,(('12.Partner Involvement'!$D492*'12.Partner Involvement'!$E492)/COUNTA(_xlfn.TEXTSPLIT('12.Partner Involvement'!$H492,\";\"))),\"\")","v":""},{"$f":"IF(ISNUMBER(SEARCH(H$206,'12.Partner Involvement'!$H492))=TRUE,(('12.Partner Involvement'!$D492*'12.Partner Involvement'!$E492)/COUNTA(_xlfn.TEXTSPLIT('12.Partner Involvement'!$H492,\";\"))),\"\")","v":""}]
[{"$f":"IF(ISNUMBER(SEARCH(A$206,'12.Partner Involvement'!$G493))=TRUE,(('12.Partner Involvement'!$D493*'12.Partner Involvement'!$E493)/COUNTA(_xlfn.TEXTSPLIT('12.Partner Involvement'!$G493,\";\"))),\"\")","v":""},{"$f":"IF(ISNUMBER(SEARCH(B$206,'12.Partner Involvement'!$G493))=TRUE,(('12.Partner Involvement'!$D493*'12.Partner Involvement'!$E493)/COUNTA(_xlfn.TEXTSPLIT('12.Partner Involvement'!$G493,\";\"))),\"\")","v":""},{"$f":"IF(ISNUMBER(SEARCH(C$206,'12.Partner Involvement'!$G493))=TRUE,(('12.Partner Involvement'!$D493*'12.Partner Involvement'!$E493)/COUNTA(_xlfn.TEXTSPLIT('12.Partner Involvement'!$G493,\";\"))),\"\")","v":""},null,{"$f":"IF(ISNUMBER(SEARCH(E$206,'12.Partner Involvement'!$H493))=TRUE,(('12.Partner Involvement'!$D493*'12.Partner Involvement'!$E493)/COUNTA(_xlfn.TEXTSPLIT('12.Partner Involvement'!$H493,\";\"))),\"\")","v":""},{"$f":"IF(ISNUMBER(SEARCH(F$206,'12.Partner Involvement'!$H493))=TRUE,(('12.Partner Involvement'!$D493*'12.Partner Involvement'!$E493)/COUNTA(_xlfn.TEXTSPLIT('12.Partner Involvement'!$H493,\";\"))),\"\")","v":""},{"$f":"IF(ISNUMBER(SEARCH(G$206,'12.Partner Involvement'!$H493))=TRUE,(('12.Partner Involvement'!$D493*'12.Partner Involvement'!$E493)/COUNTA(_xlfn.TEXTSPLIT('12.Partner Involvement'!$H493,\";\"))),\"\")","v":""},{"$f":"IF(ISNUMBER(SEARCH(H$206,'12.Partner Involvement'!$H493))=TRUE,(('12.Partner Involvement'!$D493*'12.Partner Involvement'!$E493)/COUNTA(_xlfn.TEXTSPLIT('12.Partner Involvement'!$H493,\";\"))),\"\")","v":""}]
[{"$f":"IF(ISNUMBER(SEARCH(A$206,'12.Partner Involvement'!$G494))=TRUE,(('12.Partner Involvement'!$D494*'12.Partner Involvement'!$E494)/COUNTA(_xlfn.TEXTSPLIT('12.Partner Involvement'!$G494,\";\"))),\"\")","v":""},{"$f":"IF(ISNUMBER(SEARCH(B$206,'12.Partner Involvement'!$G494))=TRUE,(('12.Partner Involvement'!$D494*'12.Partner Involvement'!$E494)/COUNTA(_xlfn.TEXTSPLIT('12.Partner Involvement'!$G494,\";\"))),\"\")","v":""},{"$f":"IF(ISNUMBER(SEARCH(C$206,'12.Partner Involvement'!$G494))=TRUE,(('12.Partner Involvement'!$D494*'12.Partner Involvement'!$E494)/COUNTA(_xlfn.TEXTSPLIT('12.Partner Involvement'!$G494,\";\"))),\"\")","v":""},null,{"$f":"IF(ISNUMBER(SEARCH(E$206,'12.Partner Involvement'!$H494))=TRUE,(('12.Partner Involvement'!$D494*'12.Partner Involvement'!$E494)/COUNTA(_xlfn.TEXTSPLIT('12.Partner Involvement'!$H494,\";\"))),\"\")","v":""},{"$f":"IF(ISNUMBER(SEARCH(F$206,'12.Partner Involvement'!$H494))=TRUE,(('12.Partner Involvement'!$D494*'12.Partner Involvement'!$E494)/COUNTA(_xlfn.TEXTSPLIT('12.Partner Involvement'!$H494,\";\"))),\"\")","v":""},{"$f":"IF(ISNUMBER(SEARCH(G$206,'12.Partner Involvement'!$H494))=TRUE,(('12.Partner Involvement'!$D494*'12.Partner Involvement'!$E494)/COUNTA(_xlfn.TEXTSPLIT('12.Partner Involvement'!$H494,\";\"))),\"\")","v":""},{"$f":"IF(ISNUMBER(SEARCH(H$206,'12.Partner Involvement'!$H494))=TRUE,(('12.Partner Involvement'!$D494*'12.Partner Involvement'!$E494)/COUNTA(_xlfn.TEXTSPLIT('12.Partner Involvement'!$H494,\";\"))),\"\")","v":""}]
[{"$f":"IF(ISNUMBER(SEARCH(A$206,'12.Partner Involvement'!$G495))=TRUE,(('12.Partner Involvement'!$D495*'12.Partner Involvement'!$E495)/COUNTA(_xlfn.TEXTSPLIT('12.Partner Involvement'!$G495,\";\"))),\"\")","v":""},{"$f":"IF(ISNUMBER(SEARCH(B$206,'12.Partner Involvement'!$G495))=TRUE,(('12.Partner Involvement'!$D495*'12.Partner Involvement'!$E495)/COUNTA(_xlfn.TEXTSPLIT('12.Partner Involvement'!$G495,\";\"))),\"\")","v":""},{"$f":"IF(ISNUMBER(SEARCH(C$206,'12.Partner Involvement'!$G495))=TRUE,(('12.Partner Involvement'!$D495*'12.Partner Involvement'!$E495)/COUNTA(_xlfn.TEXTSPLIT('12.Partner Involvement'!$G495,\";\"))),\"\")","v":""},null,{"$f":"IF(ISNUMBER(SEARCH(E$206,'12.Partner Involvement'!$H495))=TRUE,(('12.Partner Involvement'!$D495*'12.Partner Involvement'!$E495)/COUNTA(_xlfn.TEXTSPLIT('12.Partner Involvement'!$H495,\";\"))),\"\")","v":""},{"$f":"IF(ISNUMBER(SEARCH(F$206,'12.Partner Involvement'!$H495))=TRUE,(('12.Partner Involvement'!$D495*'12.Partner Involvement'!$E495)/COUNTA(_xlfn.TEXTSPLIT('12.Partner Involvement'!$H495,\";\"))),\"\")","v":""},{"$f":"IF(ISNUMBER(SEARCH(G$206,'12.Partner Involvement'!$H495))=TRUE,(('12.Partner Involvement'!$D495*'12.Partner Involvement'!$E495)/COUNTA(_xlfn.TEXTSPLIT('12.Partner Involvement'!$H495,\";\"))),\"\")","v":""},{"$f":"IF(ISNUMBER(SEARCH(H$206,'12.Partner Involvement'!$H495))=TRUE,(('12.Partner Involvement'!$D495*'12.Partner Involvement'!$E495)/COUNTA(_xlfn.TEXTSPLIT('12.Partner Involvement'!$H495,\";\"))),\"\")","v":""}]
[{"$f":"IF(ISNUMBER(SEARCH(A$206,'12.Partner Involvement'!$G496))=TRUE,(('12.Partner Involvement'!$D496*'12.Partner Involvement'!$E496)/COUNTA(_xlfn.TEXTSPLIT('12.Partner Involvement'!$G496,\";\"))),\"\")","v":""},{"$f":"IF(ISNUMBER(SEARCH(B$206,'12.Partner Involvement'!$G496))=TRUE,(('12.Partner Involvement'!$D496*'12.Partner Involvement'!$E496)/COUNTA(_xlfn.TEXTSPLIT('12.Partner Involvement'!$G496,\";\"))),\"\")","v":""},{"$f":"IF(ISNUMBER(SEARCH(C$206,'12.Partner Involvement'!$G496))=TRUE,(('12.Partner Involvement'!$D496*'12.Partner Involvement'!$E496)/COUNTA(_xlfn.TEXTSPLIT('12.Partner Involvement'!$G496,\";\"))),\"\")","v":""},null,{"$f":"IF(ISNUMBER(SEARCH(E$206,'12.Partner Involvement'!$H496))=TRUE,(('12.Partner Involvement'!$D496*'12.Partner Involvement'!$E496)/COUNTA(_xlfn.TEXTSPLIT('12.Partner Involvement'!$H496,\";\"))),\"\")","v":""},{"$f":"IF(ISNUMBER(SEARCH(F$206,'12.Partner Involvement'!$H496))=TRUE,(('12.Partner Involvement'!$D496*'12.Partner Involvement'!$E496)/COUNTA(_xlfn.TEXTSPLIT('12.Partner Involvement'!$H496,\";\"))),\"\")","v":""},{"$f":"IF(ISNUMBER(SEARCH(G$206,'12.Partner Involvement'!$H496))=TRUE,(('12.Partner Involvement'!$D496*'12.Partner Involvement'!$E496)/COUNTA(_xlfn.TEXTSPLIT('12.Partner Involvement'!$H496,\";\"))),\"\")","v":""},{"$f":"IF(ISNUMBER(SEARCH(H$206,'12.Partner Involvement'!$H496))=TRUE,(('12.Partner Involvement'!$D496*'12.Partner Involvement'!$E496)/COUNTA(_xlfn.TEXTSPLIT('12.Partner Involvement'!$H496,\";\"))),\"\")","v":""}]
[{"$f":"IF(ISNUMBER(SEARCH(A$206,'12.Partner Involvement'!$G497))=TRUE,(('12.Partner Involvement'!$D497*'12.Partner Involvement'!$E497)/COUNTA(_xlfn.TEXTSPLIT('12.Partner Involvement'!$G497,\";\"))),\"\")","v":""},{"$f":"IF(ISNUMBER(SEARCH(B$206,'12.Partner Involvement'!$G497))=TRUE,(('12.Partner Involvement'!$D497*'12.Partner Involvement'!$E497)/COUNTA(_xlfn.TEXTSPLIT('12.Partner Involvement'!$G497,\";\"))),\"\")","v":""},{"$f":"IF(ISNUMBER(SEARCH(C$206,'12.Partner Involvement'!$G497))=TRUE,(('12.Partner Involvement'!$D497*'12.Partner Involvement'!$E497)/COUNTA(_xlfn.TEXTSPLIT('12.Partner Involvement'!$G497,\";\"))),\"\")","v":""},null,{"$f":"IF(ISNUMBER(SEARCH(E$206,'12.Partner Involvement'!$H497))=TRUE,(('12.Partner Involvement'!$D497*'12.Partner Involvement'!$E497)/COUNTA(_xlfn.TEXTSPLIT('12.Partner Involvement'!$H497,\";\"))),\"\")","v":""},{"$f":"IF(ISNUMBER(SEARCH(F$206,'12.Partner Involvement'!$H497))=TRUE,(('12.Partner Involvement'!$D497*'12.Partner Involvement'!$E497)/COUNTA(_xlfn.TEXTSPLIT('12.Partner Involvement'!$H497,\";\"))),\"\")","v":""},{"$f":"IF(ISNUMBER(SEARCH(G$206,'12.Partner Involvement'!$H497))=TRUE,(('12.Partner Involvement'!$D497*'12.Partner Involvement'!$E497)/COUNTA(_xlfn.TEXTSPLIT('12.Partner Involvement'!$H497,\";\"))),\"\")","v":""},{"$f":"IF(ISNUMBER(SEARCH(H$206,'12.Partner Involvement'!$H497))=TRUE,(('12.Partner Involvement'!$D497*'12.Partner Involvement'!$E497)/COUNTA(_xlfn.TEXTSPLIT('12.Partner Involvement'!$H497,\";\"))),\"\")","v":""}]
[{"$f":"IF(ISNUMBER(SEARCH(A$206,'12.Partner Involvement'!$G498))=TRUE,(('12.Partner Involvement'!$D498*'12.Partner Involvement'!$E498)/COUNTA(_xlfn.TEXTSPLIT('12.Partner Involvement'!$G498,\";\"))),\"\")","v":""},{"$f":"IF(ISNUMBER(SEARCH(B$206,'12.Partner Involvement'!$G498))=TRUE,(('12.Partner Involvement'!$D498*'12.Partner Involvement'!$E498)/COUNTA(_xlfn.TEXTSPLIT('12.Partner Involvement'!$G498,\";\"))),\"\")","v":""},{"$f":"IF(ISNUMBER(SEARCH(C$206,'12.Partner Involvement'!$G498))=TRUE,(('12.Partner Involvement'!$D498*'12.Partner Involvement'!$E498)/COUNTA(_xlfn.TEXTSPLIT('12.Partner Involvement'!$G498,\";\"))),\"\")","v":""},null,{"$f":"IF(ISNUMBER(SEARCH(E$206,'12.Partner Involvement'!$H498))=TRUE,(('12.Partner Involvement'!$D498*'12.Partner Involvement'!$E498)/COUNTA(_xlfn.TEXTSPLIT('12.Partner Involvement'!$H498,\";\"))),\"\")","v":""},{"$f":"IF(ISNUMBER(SEARCH(F$206,'12.Partner Involvement'!$H498))=TRUE,(('12.Partner Involvement'!$D498*'12.Partner Involvement'!$E498)/COUNTA(_xlfn.TEXTSPLIT('12.Partner Involvement'!$H498,\";\"))),\"\")","v":""},{"$f":"IF(ISNUMBER(SEARCH(G$206,'12.Partner Involvement'!$H498))=TRUE,(('12.Partner Involvement'!$D498*'12.Partner Involvement'!$E498)/COUNTA(_xlfn.TEXTSPLIT('12.Partner Involvement'!$H498,\";\"))),\"\")","v":""},{"$f":"IF(ISNUMBER(SEARCH(H$206,'12.Partner Involvement'!$H498))=TRUE,(('12.Partner Involvement'!$D498*'12.Partner Involvement'!$E498)/COUNTA(_xlfn.TEXTSPLIT('12.Partner Involvement'!$H498,\";\"))),\"\")","v":""}]
[{"$f":"IF(ISNUMBER(SEARCH(A$206,'12.Partner Involvement'!$G499))=TRUE,(('12.Partner Involvement'!$D499*'12.Partner Involvement'!$E499)/COUNTA(_xlfn.TEXTSPLIT('12.Partner Involvement'!$G499,\";\"))),\"\")","v":""},{"$f":"IF(ISNUMBER(SEARCH(B$206,'12.Partner Involvement'!$G499))=TRUE,(('12.Partner Involvement'!$D499*'12.Partner Involvement'!$E499)/COUNTA(_xlfn.TEXTSPLIT('12.Partner Involvement'!$G499,\";\"))),\"\")","v":""},{"$f":"IF(ISNUMBER(SEARCH(C$206,'12.Partner Involvement'!$G499))=TRUE,(('12.Partner Involvement'!$D499*'12.Partner Involvement'!$E499)/COUNTA(_xlfn.TEXTSPLIT('12.Partner Involvement'!$G499,\";\"))),\"\")","v":""},null,{"$f":"IF(ISNUMBER(SEARCH(E$206,'12.Partner Involvement'!$H499))=TRUE,(('12.Partner Involvement'!$D499*'12.Partner Involvement'!$E499)/COUNTA(_xlfn.TEXTSPLIT('12.Partner Involvement'!$H499,\";\"))),\"\")","v":""},{"$f":"IF(ISNUMBER(SEARCH(F$206,'12.Partner Involvement'!$H499))=TRUE,(('12.Partner Involvement'!$D499*'12.Partner Involvement'!$E499)/COUNTA(_xlfn.TEXTSPLIT('12.Partner Involvement'!$H499,\";\"))),\"\")","v":""},{"$f":"IF(ISNUMBER(SEARCH(G$206,'12.Partner Involvement'!$H499))=TRUE,(('12.Partner Involvement'!$D499*'12.Partner Involvement'!$E499)/COUNTA(_xlfn.TEXTSPLIT('12.Partner Involvement'!$H499,\";\"))),\"\")","v":""},{"$f":"IF(ISNUMBER(SEARCH(H$206,'12.Partner Involvement'!$H499))=TRUE,(('12.Partner Involvement'!$D499*'12.Partner Involvement'!$E499)/COUNTA(_xlfn.TEXTSPLIT('12.Partner Involvement'!$H499,\";\"))),\"\")","v":""}]
[{"$f":"IF(ISNUMBER(SEARCH(A$206,'12.Partner Involvement'!$G500))=TRUE,(('12.Partner Involvement'!$D500*'12.Partner Involvement'!$E500)/COUNTA(_xlfn.TEXTSPLIT('12.Partner Involvement'!$G500,\";\"))),\"\")","v":""},{"$f":"IF(ISNUMBER(SEARCH(B$206,'12.Partner Involvement'!$G500))=TRUE,(('12.Partner Involvement'!$D500*'12.Partner Involvement'!$E500)/COUNTA(_xlfn.TEXTSPLIT('12.Partner Involvement'!$G500,\";\"))),\"\")","v":""},{"$f":"IF(ISNUMBER(SEARCH(C$206,'12.Partner Involvement'!$G500))=TRUE,(('12.Partner Involvement'!$D500*'12.Partner Involvement'!$E500)/COUNTA(_xlfn.TEXTSPLIT('12.Partner Involvement'!$G500,\";\"))),\"\")","v":""},null,{"$f":"IF(ISNUMBER(SEARCH(E$206,'12.Partner Involvement'!$H500))=TRUE,(('12.Partner Involvement'!$D500*'12.Partner Involvement'!$E500)/COUNTA(_xlfn.TEXTSPLIT('12.Partner Involvement'!$H500,\";\"))),\"\")","v":""},{"$f":"IF(ISNUMBER(SEARCH(F$206,'12.Partner Involvement'!$H500))=TRUE,(('12.Partner Involvement'!$D500*'12.Partner Involvement'!$E500)/COUNTA(_xlfn.TEXTSPLIT('12.Partner Involvement'!$H500,\";\"))),\"\")","v":""},{"$f":"IF(ISNUMBER(SEARCH(G$206,'12.Partner Involvement'!$H500))=TRUE,(('12.Partner Involvement'!$D500*'12.Partner Involvement'!$E500)/COUNTA(_xlfn.TEXTSPLIT('12.Partner Involvement'!$H500,\";\"))),\"\")","v":""},{"$f":"IF(ISNUMBER(SEARCH(H$206,'12.Partner Involvement'!$H500))=TRUE,(('12.Partner Involvement'!$D500*'12.Partner Involvement'!$E500)/COUNTA(_xlfn.TEXTSPLIT('12.Partner Involvement'!$H500,\";\"))),\"\")","v":""}]
[{"$f":"IF(ISNUMBER(SEARCH(A$206,'12.Partner Involvement'!$G501))=TRUE,(('12.Partner Involvement'!$D501*'12.Partner Involvement'!$E501)/COUNTA(_xlfn.TEXTSPLIT('12.Partner Involvement'!$G501,\";\"))),\"\")","v":""},{"$f":"IF(ISNUMBER(SEARCH(B$206,'12.Partner Involvement'!$G501))=TRUE,(('12.Partner Involvement'!$D501*'12.Partner Involvement'!$E501)/COUNTA(_xlfn.TEXTSPLIT('12.Partner Involvement'!$G501,\";\"))),\"\")","v":""},{"$f":"IF(ISNUMBER(SEARCH(C$206,'12.Partner Involvement'!$G501))=TRUE,(('12.Partner Involvement'!$D501*'12.Partner Involvement'!$E501)/COUNTA(_xlfn.TEXTSPLIT('12.Partner Involvement'!$G501,\";\"))),\"\")","v":""},null,{"$f":"IF(ISNUMBER(SEARCH(E$206,'12.Partner Involvement'!$H501))=TRUE,(('12.Partner Involvement'!$D501*'12.Partner Involvement'!$E501)/COUNTA(_xlfn.TEXTSPLIT('12.Partner Involvement'!$H501,\";\"))),\"\")","v":""},{"$f":"IF(ISNUMBER(SEARCH(F$206,'12.Partner Involvement'!$H501))=TRUE,(('12.Partner Involvement'!$D501*'12.Partner Involvement'!$E501)/COUNTA(_xlfn.TEXTSPLIT('12.Partner Involvement'!$H501,\";\"))),\"\")","v":""},{"$f":"IF(ISNUMBER(SEARCH(G$206,'12.Partner Involvement'!$H501))=TRUE,(('12.Partner Involvement'!$D501*'12.Partner Involvement'!$E501)/COUNTA(_xlfn.TEXTSPLIT('12.Partner Involvement'!$H501,\";\"))),\"\")","v":""},{"$f":"IF(ISNUMBER(SEARCH(H$206,'12.Partner Involvement'!$H501))=TRUE,(('12.Partner Involvement'!$D501*'12.Partner Involvement'!$E501)/COUNTA(_xlfn.TEXTSPLIT('12.Partner Involvement'!$H501,\";\"))),\"\")","v":""}]
[{"$f":"IF(ISNUMBER(SEARCH(A$206,'12.Partner Involvement'!$G502))=TRUE,(('12.Partner Involvement'!$D502*'12.Partner Involvement'!$E502)/COUNTA(_xlfn.TEXTSPLIT('12.Partner Involvement'!$G502,\";\"))),\"\")","v":""},{"$f":"IF(ISNUMBER(SEARCH(B$206,'12.Partner Involvement'!$G502))=TRUE,(('12.Partner Involvement'!$D502*'12.Partner Involvement'!$E502)/COUNTA(_xlfn.TEXTSPLIT('12.Partner Involvement'!$G502,\";\"))),\"\")","v":""},{"$f":"IF(ISNUMBER(SEARCH(C$206,'12.Partner Involvement'!$G502))=TRUE,(('12.Partner Involvement'!$D502*'12.Partner Involvement'!$E502)/COUNTA(_xlfn.TEXTSPLIT('12.Partner Involvement'!$G502,\";\"))),\"\")","v":""},null,{"$f":"IF(ISNUMBER(SEARCH(E$206,'12.Partner Involvement'!$H502))=TRUE,(('12.Partner Involvement'!$D502*'12.Partner Involvement'!$E502)/COUNTA(_xlfn.TEXTSPLIT('12.Partner Involvement'!$H502,\";\"))),\"\")","v":""},{"$f":"IF(ISNUMBER(SEARCH(F$206,'12.Partner Involvement'!$H502))=TRUE,(('12.Partner Involvement'!$D502*'12.Partner Involvement'!$E502)/COUNTA(_xlfn.TEXTSPLIT('12.Partner Involvement'!$H502,\";\"))),\"\")","v":""},{"$f":"IF(ISNUMBER(SEARCH(G$206,'12.Partner Involvement'!$H502))=TRUE,(('12.Partner Involvement'!$D502*'12.Partner Involvement'!$E502)/COUNTA(_xlfn.TEXTSPLIT('12.Partner Involvement'!$H502,\";\"))),\"\")","v":""},{"$f":"IF(ISNUMBER(SEARCH(H$206,'12.Partner Involvement'!$H502))=TRUE,(('12.Partner Involvement'!$D502*'12.Partner Involvement'!$E502)/COUNTA(_xlfn.TEXTSPLIT('12.Partner Involvement'!$H502,\";\"))),\"\")","v":""}]
[{"$f":"IF(ISNUMBER(SEARCH(A$206,'12.Partner Involvement'!$G503))=TRUE,(('12.Partner Involvement'!$D503*'12.Partner Involvement'!$E503)/COUNTA(_xlfn.TEXTSPLIT('12.Partner Involvement'!$G503,\";\"))),\"\")","v":""},{"$f":"IF(ISNUMBER(SEARCH(B$206,'12.Partner Involvement'!$G503))=TRUE,(('12.Partner Involvement'!$D503*'12.Partner Involvement'!$E503)/COUNTA(_xlfn.TEXTSPLIT('12.Partner Involvement'!$G503,\";\"))),\"\")","v":""},{"$f":"IF(ISNUMBER(SEARCH(C$206,'12.Partner Involvement'!$G503))=TRUE,(('12.Partner Involvement'!$D503*'12.Partner Involvement'!$E503)/COUNTA(_xlfn.TEXTSPLIT('12.Partner Involvement'!$G503,\";\"))),\"\")","v":""},null,{"$f":"IF(ISNUMBER(SEARCH(E$206,'12.Partner Involvement'!$H503))=TRUE,(('12.Partner Involvement'!$D503*'12.Partner Involvement'!$E503)/COUNTA(_xlfn.TEXTSPLIT('12.Partner Involvement'!$H503,\";\"))),\"\")","v":""},{"$f":"IF(ISNUMBER(SEARCH(F$206,'12.Partner Involvement'!$H503))=TRUE,(('12.Partner Involvement'!$D503*'12.Partner Involvement'!$E503)/COUNTA(_xlfn.TEXTSPLIT('12.Partner Involvement'!$H503,\";\"))),\"\")","v":""},{"$f":"IF(ISNUMBER(SEARCH(G$206,'12.Partner Involvement'!$H503))=TRUE,(('12.Partner Involvement'!$D503*'12.Partner Involvement'!$E503)/COUNTA(_xlfn.TEXTSPLIT('12.Partner Involvement'!$H503,\";\"))),\"\")","v":""},{"$f":"IF(ISNUMBER(SEARCH(H$206,'12.Partner Involvement'!$H503))=TRUE,(('12.Partner Involvement'!$D503*'12.Partner Involvement'!$E503)/COUNTA(_xlfn.TEXTSPLIT('12.Partner Involvement'!$H503,\";\"))),\"\")","v":""}]
[{"$f":"IF(ISNUMBER(SEARCH(A$206,'12.Partner Involvement'!$G504))=TRUE,(('12.Partner Involvement'!$D504*'12.Partner Involvement'!$E504)/COUNTA(_xlfn.TEXTSPLIT('12.Partner Involvement'!$G504,\";\"))),\"\")","v":""},{"$f":"IF(ISNUMBER(SEARCH(B$206,'12.Partner Involvement'!$G504))=TRUE,(('12.Partner Involvement'!$D504*'12.Partner Involvement'!$E504)/COUNTA(_xlfn.TEXTSPLIT('12.Partner Involvement'!$G504,\";\"))),\"\")","v":""},{"$f":"IF(ISNUMBER(SEARCH(C$206,'12.Partner Involvement'!$G504))=TRUE,(('12.Partner Involvement'!$D504*'12.Partner Involvement'!$E504)/COUNTA(_xlfn.TEXTSPLIT('12.Partner Involvement'!$G504,\";\"))),\"\")","v":""},null,{"$f":"IF(ISNUMBER(SEARCH(E$206,'12.Partner Involvement'!$H504))=TRUE,(('12.Partner Involvement'!$D504*'12.Partner Involvement'!$E504)/COUNTA(_xlfn.TEXTSPLIT('12.Partner Involvement'!$H504,\";\"))),\"\")","v":""},{"$f":"IF(ISNUMBER(SEARCH(F$206,'12.Partner Involvement'!$H504))=TRUE,(('12.Partner Involvement'!$D504*'12.Partner Involvement'!$E504)/COUNTA(_xlfn.TEXTSPLIT('12.Partner Involvement'!$H504,\";\"))),\"\")","v":""},{"$f":"IF(ISNUMBER(SEARCH(G$206,'12.Partner Involvement'!$H504))=TRUE,(('12.Partner Involvement'!$D504*'12.Partner Involvement'!$E504)/COUNTA(_xlfn.TEXTSPLIT('12.Partner Involvement'!$H504,\";\"))),\"\")","v":""},{"$f":"IF(ISNUMBER(SEARCH(H$206,'12.Partner Involvement'!$H504))=TRUE,(('12.Partner Involvement'!$D504*'12.Partner Involvement'!$E504)/COUNTA(_xlfn.TEXTSPLIT('12.Partner Involvement'!$H504,\";\"))),\"\")","v":""}]
[{"$f":"IF(ISNUMBER(SEARCH(A$206,'12.Partner Involvement'!$G505))=TRUE,(('12.Partner Involvement'!$D505*'12.Partner Involvement'!$E505)/COUNTA(_xlfn.TEXTSPLIT('12.Partner Involvement'!$G505,\";\"))),\"\")","v":""},{"$f":"IF(ISNUMBER(SEARCH(B$206,'12.Partner Involvement'!$G505))=TRUE,(('12.Partner Involvement'!$D505*'12.Partner Involvement'!$E505)/COUNTA(_xlfn.TEXTSPLIT('12.Partner Involvement'!$G505,\";\"))),\"\")","v":""},{"$f":"IF(ISNUMBER(SEARCH(C$206,'12.Partner Involvement'!$G505))=TRUE,(('12.Partner Involvement'!$D505*'12.Partner Involvement'!$E505)/COUNTA(_xlfn.TEXTSPLIT('12.Partner Involvement'!$G505,\";\"))),\"\")","v":""},null,{"$f":"IF(ISNUMBER(SEARCH(E$206,'12.Partner Involvement'!$H505))=TRUE,(('12.Partner Involvement'!$D505*'12.Partner Involvement'!$E505)/COUNTA(_xlfn.TEXTSPLIT('12.Partner Involvement'!$H505,\";\"))),\"\")","v":""},{"$f":"IF(ISNUMBER(SEARCH(F$206,'12.Partner Involvement'!$H505))=TRUE,(('12.Partner Involvement'!$D505*'12.Partner Involvement'!$E505)/COUNTA(_xlfn.TEXTSPLIT('12.Partner Involvement'!$H505,\";\"))),\"\")","v":""},{"$f":"IF(ISNUMBER(SEARCH(G$206,'12.Partner Involvement'!$H505))=TRUE,(('12.Partner Involvement'!$D505*'12.Partner Involvement'!$E505)/COUNTA(_xlfn.TEXTSPLIT('12.Partner Involvement'!$H505,\";\"))),\"\")","v":""},{"$f":"IF(ISNUMBER(SEARCH(H$206,'12.Partner Involvement'!$H505))=TRUE,(('12.Partner Involvement'!$D505*'12.Partner Involvement'!$E505)/COUNTA(_xlfn.TEXTSPLIT('12.Partner Involvement'!$H505,\";\"))),\"\")","v":""}]
[{"$f":"IF(ISNUMBER(SEARCH(A$206,'12.Partner Involvement'!$G506))=TRUE,(('12.Partner Involvement'!$D506*'12.Partner Involvement'!$E506)/COUNTA(_xlfn.TEXTSPLIT('12.Partner Involvement'!$G506,\";\"))),\"\")","v":""},{"$f":"IF(ISNUMBER(SEARCH(B$206,'12.Partner Involvement'!$G506))=TRUE,(('12.Partner Involvement'!$D506*'12.Partner Involvement'!$E506)/COUNTA(_xlfn.TEXTSPLIT('12.Partner Involvement'!$G506,\";\"))),\"\")","v":""},{"$f":"IF(ISNUMBER(SEARCH(C$206,'12.Partner Involvement'!$G506))=TRUE,(('12.Partner Involvement'!$D506*'12.Partner Involvement'!$E506)/COUNTA(_xlfn.TEXTSPLIT('12.Partner Involvement'!$G506,\";\"))),\"\")","v":""},null,{"$f":"IF(ISNUMBER(SEARCH(E$206,'12.Partner Involvement'!$H506))=TRUE,(('12.Partner Involvement'!$D506*'12.Partner Involvement'!$E506)/COUNTA(_xlfn.TEXTSPLIT('12.Partner Involvement'!$H506,\";\"))),\"\")","v":""},{"$f":"IF(ISNUMBER(SEARCH(F$206,'12.Partner Involvement'!$H506))=TRUE,(('12.Partner Involvement'!$D506*'12.Partner Involvement'!$E506)/COUNTA(_xlfn.TEXTSPLIT('12.Partner Involvement'!$H506,\";\"))),\"\")","v":""},{"$f":"IF(ISNUMBER(SEARCH(G$206,'12.Partner Involvement'!$H506))=TRUE,(('12.Partner Involvement'!$D506*'12.Partner Involvement'!$E506)/COUNTA(_xlfn.TEXTSPLIT('12.Partner Involvement'!$H506,\";\"))),\"\")","v":""},{"$f":"IF(ISNUMBER(SEARCH(H$206,'12.Partner Involvement'!$H506))=TRUE,(('12.Partner Involvement'!$D506*'12.Partner Involvement'!$E506)/COUNTA(_xlfn.TEXTSPLIT('12.Partner Involvement'!$H506,\";\"))),\"\")","v":""}]
[{"$f":"IF(ISNUMBER(SEARCH(A$206,'12.Partner Involvement'!$G507))=TRUE,(('12.Partner Involvement'!$D507*'12.Partner Involvement'!$E507)/COUNTA(_xlfn.TEXTSPLIT('12.Partner Involvement'!$G507,\";\"))),\"\")","v":""},{"$f":"IF(ISNUMBER(SEARCH(B$206,'12.Partner Involvement'!$G507))=TRUE,(('12.Partner Involvement'!$D507*'12.Partner Involvement'!$E507)/COUNTA(_xlfn.TEXTSPLIT('12.Partner Involvement'!$G507,\";\"))),\"\")","v":""},{"$f":"IF(ISNUMBER(SEARCH(C$206,'12.Partner Involvement'!$G507))=TRUE,(('12.Partner Involvement'!$D507*'12.Partner Involvement'!$E507)/COUNTA(_xlfn.TEXTSPLIT('12.Partner Involvement'!$G507,\";\"))),\"\")","v":""},null,{"$f":"IF(ISNUMBER(SEARCH(E$206,'12.Partner Involvement'!$H507))=TRUE,(('12.Partner Involvement'!$D507*'12.Partner Involvement'!$E507)/COUNTA(_xlfn.TEXTSPLIT('12.Partner Involvement'!$H507,\";\"))),\"\")","v":""},{"$f":"IF(ISNUMBER(SEARCH(F$206,'12.Partner Involvement'!$H507))=TRUE,(('12.Partner Involvement'!$D507*'12.Partner Involvement'!$E507)/COUNTA(_xlfn.TEXTSPLIT('12.Partner Involvement'!$H507,\";\"))),\"\")","v":""},{"$f":"IF(ISNUMBER(SEARCH(G$206,'12.Partner Involvement'!$H507))=TRUE,(('12.Partner Involvement'!$D507*'12.Partner Involvement'!$E507)/COUNTA(_xlfn.TEXTSPLIT('12.Partner Involvement'!$H507,\";\"))),\"\")","v":""},{"$f":"IF(ISNUMBER(SEARCH(H$206,'12.Partner Involvement'!$H507))=TRUE,(('12.Partner Involvement'!$D507*'12.Partner Involvement'!$E507)/COUNTA(_xlfn.TEXTSPLIT('12.Partner Involvement'!$H507,\";\"))),\"\")","v":""}]
[{"$f":"IF(ISNUMBER(SEARCH(A$206,'12.Partner Involvement'!$G508))=TRUE,(('12.Partner Involvement'!$D508*'12.Partner Involvement'!$E508)/COUNTA(_xlfn.TEXTSPLIT('12.Partner Involvement'!$G508,\";\"))),\"\")","v":""},{"$f":"IF(ISNUMBER(SEARCH(B$206,'12.Partner Involvement'!$G508))=TRUE,(('12.Partner Involvement'!$D508*'12.Partner Involvement'!$E508)/COUNTA(_xlfn.TEXTSPLIT('12.Partner Involvement'!$G508,\";\"))),\"\")","v":""},{"$f":"IF(ISNUMBER(SEARCH(C$206,'12.Partner Involvement'!$G508))=TRUE,(('12.Partner Involvement'!$D508*'12.Partner Involvement'!$E508)/COUNTA(_xlfn.TEXTSPLIT('12.Partner Involvement'!$G508,\";\"))),\"\")","v":""},null,{"$f":"IF(ISNUMBER(SEARCH(E$206,'12.Partner Involvement'!$H508))=TRUE,(('12.Partner Involvement'!$D508*'12.Partner Involvement'!$E508)/COUNTA(_xlfn.TEXTSPLIT('12.Partner Involvement'!$H508,\";\"))),\"\")","v":""},{"$f":"IF(ISNUMBER(SEARCH(F$206,'12.Partner Involvement'!$H508))=TRUE,(('12.Partner Involvement'!$D508*'12.Partner Involvement'!$E508)/COUNTA(_xlfn.TEXTSPLIT('12.Partner Involvement'!$H508,\";\"))),\"\")","v":""},{"$f":"IF(ISNUMBER(SEARCH(G$206,'12.Partner Involvement'!$H508))=TRUE,(('12.Partner Involvement'!$D508*'12.Partner Involvement'!$E508)/COUNTA(_xlfn.TEXTSPLIT('12.Partner Involvement'!$H508,\";\"))),\"\")","v":""},{"$f":"IF(ISNUMBER(SEARCH(H$206,'12.Partner Involvement'!$H508))=TRUE,(('12.Partner Involvement'!$D508*'12.Partner Involvement'!$E508)/COUNTA(_xlfn.TEXTSPLIT('12.Partner Involvement'!$H508,\";\"))),\"\")","v":""}]
[{"$f":"IF(ISNUMBER(SEARCH(A$206,'12.Partner Involvement'!$G509))=TRUE,(('12.Partner Involvement'!$D509*'12.Partner Involvement'!$E509)/COUNTA(_xlfn.TEXTSPLIT('12.Partner Involvement'!$G509,\";\"))),\"\")","v":""},{"$f":"IF(ISNUMBER(SEARCH(B$206,'12.Partner Involvement'!$G509))=TRUE,(('12.Partner Involvement'!$D509*'12.Partner Involvement'!$E509)/COUNTA(_xlfn.TEXTSPLIT('12.Partner Involvement'!$G509,\";\"))),\"\")","v":""},{"$f":"IF(ISNUMBER(SEARCH(C$206,'12.Partner Involvement'!$G509))=TRUE,(('12.Partner Involvement'!$D509*'12.Partner Involvement'!$E509)/COUNTA(_xlfn.TEXTSPLIT('12.Partner Involvement'!$G509,\";\"))),\"\")","v":""},null,{"$f":"IF(ISNUMBER(SEARCH(E$206,'12.Partner Involvement'!$H509))=TRUE,(('12.Partner Involvement'!$D509*'12.Partner Involvement'!$E509)/COUNTA(_xlfn.TEXTSPLIT('12.Partner Involvement'!$H509,\";\"))),\"\")","v":""},{"$f":"IF(ISNUMBER(SEARCH(F$206,'12.Partner Involvement'!$H509))=TRUE,(('12.Partner Involvement'!$D509*'12.Partner Involvement'!$E509)/COUNTA(_xlfn.TEXTSPLIT('12.Partner Involvement'!$H509,\";\"))),\"\")","v":""},{"$f":"IF(ISNUMBER(SEARCH(G$206,'12.Partner Involvement'!$H509))=TRUE,(('12.Partner Involvement'!$D509*'12.Partner Involvement'!$E509)/COUNTA(_xlfn.TEXTSPLIT('12.Partner Involvement'!$H509,\";\"))),\"\")","v":""},{"$f":"IF(ISNUMBER(SEARCH(H$206,'12.Partner Involvement'!$H509))=TRUE,(('12.Partner Involvement'!$D509*'12.Partner Involvement'!$E509)/COUNTA(_xlfn.TEXTSPLIT('12.Partner Involvement'!$H509,\";\"))),\"\")","v":""}]
[{"$f":"IF(ISNUMBER(SEARCH(A$206,'12.Partner Involvement'!$G510))=TRUE,(('12.Partner Involvement'!$D510*'12.Partner Involvement'!$E510)/COUNTA(_xlfn.TEXTSPLIT('12.Partner Involvement'!$G510,\";\"))),\"\")","v":""},{"$f":"IF(ISNUMBER(SEARCH(B$206,'12.Partner Involvement'!$G510))=TRUE,(('12.Partner Involvement'!$D510*'12.Partner Involvement'!$E510)/COUNTA(_xlfn.TEXTSPLIT('12.Partner Involvement'!$G510,\";\"))),\"\")","v":""},{"$f":"IF(ISNUMBER(SEARCH(C$206,'12.Partner Involvement'!$G510))=TRUE,(('12.Partner Involvement'!$D510*'12.Partner Involvement'!$E510)/COUNTA(_xlfn.TEXTSPLIT('12.Partner Involvement'!$G510,\";\"))),\"\")","v":""},null,{"$f":"IF(ISNUMBER(SEARCH(E$206,'12.Partner Involvement'!$H510))=TRUE,(('12.Partner Involvement'!$D510*'12.Partner Involvement'!$E510)/COUNTA(_xlfn.TEXTSPLIT('12.Partner Involvement'!$H510,\";\"))),\"\")","v":""},{"$f":"IF(ISNUMBER(SEARCH(F$206,'12.Partner Involvement'!$H510))=TRUE,(('12.Partner Involvement'!$D510*'12.Partner Involvement'!$E510)/COUNTA(_xlfn.TEXTSPLIT('12.Partner Involvement'!$H510,\";\"))),\"\")","v":""},{"$f":"IF(ISNUMBER(SEARCH(G$206,'12.Partner Involvement'!$H510))=TRUE,(('12.Partner Involvement'!$D510*'12.Partner Involvement'!$E510)/COUNTA(_xlfn.TEXTSPLIT('12.Partner Involvement'!$H510,\";\"))),\"\")","v":""},{"$f":"IF(ISNUMBER(SEARCH(H$206,'12.Partner Involvement'!$H510))=TRUE,(('12.Partner Involvement'!$D510*'12.Partner Involvement'!$E510)/COUNTA(_xlfn.TEXTSPLIT('12.Partner Involvement'!$H510,\";\"))),\"\")","v":""}]
[{"$f":"IF(ISNUMBER(SEARCH(A$206,'12.Partner Involvement'!$G511))=TRUE,(('12.Partner Involvement'!$D511*'12.Partner Involvement'!$E511)/COUNTA(_xlfn.TEXTSPLIT('12.Partner Involvement'!$G511,\";\"))),\"\")","v":""},{"$f":"IF(ISNUMBER(SEARCH(B$206,'12.Partner Involvement'!$G511))=TRUE,(('12.Partner Involvement'!$D511*'12.Partner Involvement'!$E511)/COUNTA(_xlfn.TEXTSPLIT('12.Partner Involvement'!$G511,\";\"))),\"\")","v":""},{"$f":"IF(ISNUMBER(SEARCH(C$206,'12.Partner Involvement'!$G511))=TRUE,(('12.Partner Involvement'!$D511*'12.Partner Involvement'!$E511)/COUNTA(_xlfn.TEXTSPLIT('12.Partner Involvement'!$G511,\";\"))),\"\")","v":""},null,{"$f":"IF(ISNUMBER(SEARCH(E$206,'12.Partner Involvement'!$H511))=TRUE,(('12.Partner Involvement'!$D511*'12.Partner Involvement'!$E511)/COUNTA(_xlfn.TEXTSPLIT('12.Partner Involvement'!$H511,\";\"))),\"\")","v":""},{"$f":"IF(ISNUMBER(SEARCH(F$206,'12.Partner Involvement'!$H511))=TRUE,(('12.Partner Involvement'!$D511*'12.Partner Involvement'!$E511)/COUNTA(_xlfn.TEXTSPLIT('12.Partner Involvement'!$H511,\";\"))),\"\")","v":""},{"$f":"IF(ISNUMBER(SEARCH(G$206,'12.Partner Involvement'!$H511))=TRUE,(('12.Partner Involvement'!$D511*'12.Partner Involvement'!$E511)/COUNTA(_xlfn.TEXTSPLIT('12.Partner Involvement'!$H511,\";\"))),\"\")","v":""},{"$f":"IF(ISNUMBER(SEARCH(H$206,'12.Partner Involvement'!$H511))=TRUE,(('12.Partner Involvement'!$D511*'12.Partner Involvement'!$E511)/COUNTA(_xlfn.TEXTSPLIT('12.Partner Involvement'!$H511,\";\"))),\"\")","v":""}]
[{"$f":"IF(ISNUMBER(SEARCH(A$206,'12.Partner Involvement'!$G512))=TRUE,(('12.Partner Involvement'!$D512*'12.Partner Involvement'!$E512)/COUNTA(_xlfn.TEXTSPLIT('12.Partner Involvement'!$G512,\";\"))),\"\")","v":""},{"$f":"IF(ISNUMBER(SEARCH(B$206,'12.Partner Involvement'!$G512))=TRUE,(('12.Partner Involvement'!$D512*'12.Partner Involvement'!$E512)/COUNTA(_xlfn.TEXTSPLIT('12.Partner Involvement'!$G512,\";\"))),\"\")","v":""},{"$f":"IF(ISNUMBER(SEARCH(C$206,'12.Partner Involvement'!$G512))=TRUE,(('12.Partner Involvement'!$D512*'12.Partner Involvement'!$E512)/COUNTA(_xlfn.TEXTSPLIT('12.Partner Involvement'!$G512,\";\"))),\"\")","v":""},null,{"$f":"IF(ISNUMBER(SEARCH(E$206,'12.Partner Involvement'!$H512))=TRUE,(('12.Partner Involvement'!$D512*'12.Partner Involvement'!$E512)/COUNTA(_xlfn.TEXTSPLIT('12.Partner Involvement'!$H512,\";\"))),\"\")","v":""},{"$f":"IF(ISNUMBER(SEARCH(F$206,'12.Partner Involvement'!$H512))=TRUE,(('12.Partner Involvement'!$D512*'12.Partner Involvement'!$E512)/COUNTA(_xlfn.TEXTSPLIT('12.Partner Involvement'!$H512,\";\"))),\"\")","v":""},{"$f":"IF(ISNUMBER(SEARCH(G$206,'12.Partner Involvement'!$H512))=TRUE,(('12.Partner Involvement'!$D512*'12.Partner Involvement'!$E512)/COUNTA(_xlfn.TEXTSPLIT('12.Partner Involvement'!$H512,\";\"))),\"\")","v":""},{"$f":"IF(ISNUMBER(SEARCH(H$206,'12.Partner Involvement'!$H512))=TRUE,(('12.Partner Involvement'!$D512*'12.Partner Involvement'!$E512)/COUNTA(_xlfn.TEXTSPLIT('12.Partner Involvement'!$H512,\";\"))),\"\")","v":""}]
[{"$f":"IF(ISNUMBER(SEARCH(A$206,'12.Partner Involvement'!$G513))=TRUE,(('12.Partner Involvement'!$D513*'12.Partner Involvement'!$E513)/COUNTA(_xlfn.TEXTSPLIT('12.Partner Involvement'!$G513,\";\"))),\"\")","v":""},{"$f":"IF(ISNUMBER(SEARCH(B$206,'12.Partner Involvement'!$G513))=TRUE,(('12.Partner Involvement'!$D513*'12.Partner Involvement'!$E513)/COUNTA(_xlfn.TEXTSPLIT('12.Partner Involvement'!$G513,\";\"))),\"\")","v":""},{"$f":"IF(ISNUMBER(SEARCH(C$206,'12.Partner Involvement'!$G513))=TRUE,(('12.Partner Involvement'!$D513*'12.Partner Involvement'!$E513)/COUNTA(_xlfn.TEXTSPLIT('12.Partner Involvement'!$G513,\";\"))),\"\")","v":""},null,{"$f":"IF(ISNUMBER(SEARCH(E$206,'12.Partner Involvement'!$H513))=TRUE,(('12.Partner Involvement'!$D513*'12.Partner Involvement'!$E513)/COUNTA(_xlfn.TEXTSPLIT('12.Partner Involvement'!$H513,\";\"))),\"\")","v":""},{"$f":"IF(ISNUMBER(SEARCH(F$206,'12.Partner Involvement'!$H513))=TRUE,(('12.Partner Involvement'!$D513*'12.Partner Involvement'!$E513)/COUNTA(_xlfn.TEXTSPLIT('12.Partner Involvement'!$H513,\";\"))),\"\")","v":""},{"$f":"IF(ISNUMBER(SEARCH(G$206,'12.Partner Involvement'!$H513))=TRUE,(('12.Partner Involvement'!$D513*'12.Partner Involvement'!$E513)/COUNTA(_xlfn.TEXTSPLIT('12.Partner Involvement'!$H513,\";\"))),\"\")","v":""},{"$f":"IF(ISNUMBER(SEARCH(H$206,'12.Partner Involvement'!$H513))=TRUE,(('12.Partner Involvement'!$D513*'12.Partner Involvement'!$E513)/COUNTA(_xlfn.TEXTSPLIT('12.Partner Involvement'!$H513,\";\"))),\"\")","v":""}]
[{"$f":"IF(ISNUMBER(SEARCH(A$206,'12.Partner Involvement'!$G514))=TRUE,(('12.Partner Involvement'!$D514*'12.Partner Involvement'!$E514)/COUNTA(_xlfn.TEXTSPLIT('12.Partner Involvement'!$G514,\";\"))),\"\")","v":""},{"$f":"IF(ISNUMBER(SEARCH(B$206,'12.Partner Involvement'!$G514))=TRUE,(('12.Partner Involvement'!$D514*'12.Partner Involvement'!$E514)/COUNTA(_xlfn.TEXTSPLIT('12.Partner Involvement'!$G514,\";\"))),\"\")","v":""},{"$f":"IF(ISNUMBER(SEARCH(C$206,'12.Partner Involvement'!$G514))=TRUE,(('12.Partner Involvement'!$D514*'12.Partner Involvement'!$E514)/COUNTA(_xlfn.TEXTSPLIT('12.Partner Involvement'!$G514,\";\"))),\"\")","v":""},null,{"$f":"IF(ISNUMBER(SEARCH(E$206,'12.Partner Involvement'!$H514))=TRUE,(('12.Partner Involvement'!$D514*'12.Partner Involvement'!$E514)/COUNTA(_xlfn.TEXTSPLIT('12.Partner Involvement'!$H514,\";\"))),\"\")","v":""},{"$f":"IF(ISNUMBER(SEARCH(F$206,'12.Partner Involvement'!$H514))=TRUE,(('12.Partner Involvement'!$D514*'12.Partner Involvement'!$E514)/COUNTA(_xlfn.TEXTSPLIT('12.Partner Involvement'!$H514,\";\"))),\"\")","v":""},{"$f":"IF(ISNUMBER(SEARCH(G$206,'12.Partner Involvement'!$H514))=TRUE,(('12.Partner Involvement'!$D514*'12.Partner Involvement'!$E514)/COUNTA(_xlfn.TEXTSPLIT('12.Partner Involvement'!$H514,\";\"))),\"\")","v":""},{"$f":"IF(ISNUMBER(SEARCH(H$206,'12.Partner Involvement'!$H514))=TRUE,(('12.Partner Involvement'!$D514*'12.Partner Involvement'!$E514)/COUNTA(_xlfn.TEXTSPLIT('12.Partner Involvement'!$H514,\";\"))),\"\")","v":""}]
[{"$f":"IF(ISNUMBER(SEARCH(A$206,'12.Partner Involvement'!$G515))=TRUE,(('12.Partner Involvement'!$D515*'12.Partner Involvement'!$E515)/COUNTA(_xlfn.TEXTSPLIT('12.Partner Involvement'!$G515,\";\"))),\"\")","v":""},{"$f":"IF(ISNUMBER(SEARCH(B$206,'12.Partner Involvement'!$G515))=TRUE,(('12.Partner Involvement'!$D515*'12.Partner Involvement'!$E515)/COUNTA(_xlfn.TEXTSPLIT('12.Partner Involvement'!$G515,\";\"))),\"\")","v":""},{"$f":"IF(ISNUMBER(SEARCH(C$206,'12.Partner Involvement'!$G515))=TRUE,(('12.Partner Involvement'!$D515*'12.Partner Involvement'!$E515)/COUNTA(_xlfn.TEXTSPLIT('12.Partner Involvement'!$G515,\";\"))),\"\")","v":""},null,{"$f":"IF(ISNUMBER(SEARCH(E$206,'12.Partner Involvement'!$H515))=TRUE,(('12.Partner Involvement'!$D515*'12.Partner Involvement'!$E515)/COUNTA(_xlfn.TEXTSPLIT('12.Partner Involvement'!$H515,\";\"))),\"\")","v":""},{"$f":"IF(ISNUMBER(SEARCH(F$206,'12.Partner Involvement'!$H515))=TRUE,(('12.Partner Involvement'!$D515*'12.Partner Involvement'!$E515)/COUNTA(_xlfn.TEXTSPLIT('12.Partner Involvement'!$H515,\";\"))),\"\")","v":""},{"$f":"IF(ISNUMBER(SEARCH(G$206,'12.Partner Involvement'!$H515))=TRUE,(('12.Partner Involvement'!$D515*'12.Partner Involvement'!$E515)/COUNTA(_xlfn.TEXTSPLIT('12.Partner Involvement'!$H515,\";\"))),\"\")","v":""},{"$f":"IF(ISNUMBER(SEARCH(H$206,'12.Partner Involvement'!$H515))=TRUE,(('12.Partner Involvement'!$D515*'12.Partner Involvement'!$E515)/COUNTA(_xlfn.TEXTSPLIT('12.Partner Involvement'!$H515,\";\"))),\"\")","v":""}]
[{"$f":"IF(ISNUMBER(SEARCH(A$206,'12.Partner Involvement'!$G516))=TRUE,(('12.Partner Involvement'!$D516*'12.Partner Involvement'!$E516)/COUNTA(_xlfn.TEXTSPLIT('12.Partner Involvement'!$G516,\";\"))),\"\")","v":""},{"$f":"IF(ISNUMBER(SEARCH(B$206,'12.Partner Involvement'!$G516))=TRUE,(('12.Partner Involvement'!$D516*'12.Partner Involvement'!$E516)/COUNTA(_xlfn.TEXTSPLIT('12.Partner Involvement'!$G516,\";\"))),\"\")","v":""},{"$f":"IF(ISNUMBER(SEARCH(C$206,'12.Partner Involvement'!$G516))=TRUE,(('12.Partner Involvement'!$D516*'12.Partner Involvement'!$E516)/COUNTA(_xlfn.TEXTSPLIT('12.Partner Involvement'!$G516,\";\"))),\"\")","v":""},null,{"$f":"IF(ISNUMBER(SEARCH(E$206,'12.Partner Involvement'!$H516))=TRUE,(('12.Partner Involvement'!$D516*'12.Partner Involvement'!$E516)/COUNTA(_xlfn.TEXTSPLIT('12.Partner Involvement'!$H516,\";\"))),\"\")","v":""},{"$f":"IF(ISNUMBER(SEARCH(F$206,'12.Partner Involvement'!$H516))=TRUE,(('12.Partner Involvement'!$D516*'12.Partner Involvement'!$E516)/COUNTA(_xlfn.TEXTSPLIT('12.Partner Involvement'!$H516,\";\"))),\"\")","v":""},{"$f":"IF(ISNUMBER(SEARCH(G$206,'12.Partner Involvement'!$H516))=TRUE,(('12.Partner Involvement'!$D516*'12.Partner Involvement'!$E516)/COUNTA(_xlfn.TEXTSPLIT('12.Partner Involvement'!$H516,\";\"))),\"\")","v":""},{"$f":"IF(ISNUMBER(SEARCH(H$206,'12.Partner Involvement'!$H516))=TRUE,(('12.Partner Involvement'!$D516*'12.Partner Involvement'!$E516)/COUNTA(_xlfn.TEXTSPLIT('12.Partner Involvement'!$H516,\";\"))),\"\")","v":""}]
[{"$f":"IF(ISNUMBER(SEARCH(A$206,'12.Partner Involvement'!$G517))=TRUE,(('12.Partner Involvement'!$D517*'12.Partner Involvement'!$E517)/COUNTA(_xlfn.TEXTSPLIT('12.Partner Involvement'!$G517,\";\"))),\"\")","v":""},{"$f":"IF(ISNUMBER(SEARCH(B$206,'12.Partner Involvement'!$G517))=TRUE,(('12.Partner Involvement'!$D517*'12.Partner Involvement'!$E517)/COUNTA(_xlfn.TEXTSPLIT('12.Partner Involvement'!$G517,\";\"))),\"\")","v":""},{"$f":"IF(ISNUMBER(SEARCH(C$206,'12.Partner Involvement'!$G517))=TRUE,(('12.Partner Involvement'!$D517*'12.Partner Involvement'!$E517)/COUNTA(_xlfn.TEXTSPLIT('12.Partner Involvement'!$G517,\";\"))),\"\")","v":""},null,{"$f":"IF(ISNUMBER(SEARCH(E$206,'12.Partner Involvement'!$H517))=TRUE,(('12.Partner Involvement'!$D517*'12.Partner Involvement'!$E517)/COUNTA(_xlfn.TEXTSPLIT('12.Partner Involvement'!$H517,\";\"))),\"\")","v":""},{"$f":"IF(ISNUMBER(SEARCH(F$206,'12.Partner Involvement'!$H517))=TRUE,(('12.Partner Involvement'!$D517*'12.Partner Involvement'!$E517)/COUNTA(_xlfn.TEXTSPLIT('12.Partner Involvement'!$H517,\";\"))),\"\")","v":""},{"$f":"IF(ISNUMBER(SEARCH(G$206,'12.Partner Involvement'!$H517))=TRUE,(('12.Partner Involvement'!$D517*'12.Partner Involvement'!$E517)/COUNTA(_xlfn.TEXTSPLIT('12.Partner Involvement'!$H517,\";\"))),\"\")","v":""},{"$f":"IF(ISNUMBER(SEARCH(H$206,'12.Partner Involvement'!$H517))=TRUE,(('12.Partner Involvement'!$D517*'12.Partner Involvement'!$E517)/COUNTA(_xlfn.TEXTSPLIT('12.Partner Involvement'!$H517,\";\"))),\"\")","v":""}]
[{"$f":"IF(ISNUMBER(SEARCH(A$206,'12.Partner Involvement'!$G518))=TRUE,(('12.Partner Involvement'!$D518*'12.Partner Involvement'!$E518)/COUNTA(_xlfn.TEXTSPLIT('12.Partner Involvement'!$G518,\";\"))),\"\")","v":""},{"$f":"IF(ISNUMBER(SEARCH(B$206,'12.Partner Involvement'!$G518))=TRUE,(('12.Partner Involvement'!$D518*'12.Partner Involvement'!$E518)/COUNTA(_xlfn.TEXTSPLIT('12.Partner Involvement'!$G518,\";\"))),\"\")","v":""},{"$f":"IF(ISNUMBER(SEARCH(C$206,'12.Partner Involvement'!$G518))=TRUE,(('12.Partner Involvement'!$D518*'12.Partner Involvement'!$E518)/COUNTA(_xlfn.TEXTSPLIT('12.Partner Involvement'!$G518,\";\"))),\"\")","v":""},null,{"$f":"IF(ISNUMBER(SEARCH(E$206,'12.Partner Involvement'!$H518))=TRUE,(('12.Partner Involvement'!$D518*'12.Partner Involvement'!$E518)/COUNTA(_xlfn.TEXTSPLIT('12.Partner Involvement'!$H518,\";\"))),\"\")","v":""},{"$f":"IF(ISNUMBER(SEARCH(F$206,'12.Partner Involvement'!$H518))=TRUE,(('12.Partner Involvement'!$D518*'12.Partner Involvement'!$E518)/COUNTA(_xlfn.TEXTSPLIT('12.Partner Involvement'!$H518,\";\"))),\"\")","v":""},{"$f":"IF(ISNUMBER(SEARCH(G$206,'12.Partner Involvement'!$H518))=TRUE,(('12.Partner Involvement'!$D518*'12.Partner Involvement'!$E518)/COUNTA(_xlfn.TEXTSPLIT('12.Partner Involvement'!$H518,\";\"))),\"\")","v":""},{"$f":"IF(ISNUMBER(SEARCH(H$206,'12.Partner Involvement'!$H518))=TRUE,(('12.Partner Involvement'!$D518*'12.Partner Involvement'!$E518)/COUNTA(_xlfn.TEXTSPLIT('12.Partner Involvement'!$H518,\";\"))),\"\")","v":""}]
[{"$f":"IF(ISNUMBER(SEARCH(A$206,'12.Partner Involvement'!$G519))=TRUE,(('12.Partner Involvement'!$D519*'12.Partner Involvement'!$E519)/COUNTA(_xlfn.TEXTSPLIT('12.Partner Involvement'!$G519,\";\"))),\"\")","v":""},{"$f":"IF(ISNUMBER(SEARCH(B$206,'12.Partner Involvement'!$G519))=TRUE,(('12.Partner Involvement'!$D519*'12.Partner Involvement'!$E519)/COUNTA(_xlfn.TEXTSPLIT('12.Partner Involvement'!$G519,\";\"))),\"\")","v":""},{"$f":"IF(ISNUMBER(SEARCH(C$206,'12.Partner Involvement'!$G519))=TRUE,(('12.Partner Involvement'!$D519*'12.Partner Involvement'!$E519)/COUNTA(_xlfn.TEXTSPLIT('12.Partner Involvement'!$G519,\";\"))),\"\")","v":""},null,{"$f":"IF(ISNUMBER(SEARCH(E$206,'12.Partner Involvement'!$H519))=TRUE,(('12.Partner Involvement'!$D519*'12.Partner Involvement'!$E519)/COUNTA(_xlfn.TEXTSPLIT('12.Partner Involvement'!$H519,\";\"))),\"\")","v":""},{"$f":"IF(ISNUMBER(SEARCH(F$206,'12.Partner Involvement'!$H519))=TRUE,(('12.Partner Involvement'!$D519*'12.Partner Involvement'!$E519)/COUNTA(_xlfn.TEXTSPLIT('12.Partner Involvement'!$H519,\";\"))),\"\")","v":""},{"$f":"IF(ISNUMBER(SEARCH(G$206,'12.Partner Involvement'!$H519))=TRUE,(('12.Partner Involvement'!$D519*'12.Partner Involvement'!$E519)/COUNTA(_xlfn.TEXTSPLIT('12.Partner Involvement'!$H519,\";\"))),\"\")","v":""},{"$f":"IF(ISNUMBER(SEARCH(H$206,'12.Partner Involvement'!$H519))=TRUE,(('12.Partner Involvement'!$D519*'12.Partner Involvement'!$E519)/COUNTA(_xlfn.TEXTSPLIT('12.Partner Involvement'!$H519,\";\"))),\"\")","v":""}]
[{"$f":"IF(ISNUMBER(SEARCH(A$206,'12.Partner Involvement'!$G520))=TRUE,(('12.Partner Involvement'!$D520*'12.Partner Involvement'!$E520)/COUNTA(_xlfn.TEXTSPLIT('12.Partner Involvement'!$G520,\";\"))),\"\")","v":""},{"$f":"IF(ISNUMBER(SEARCH(B$206,'12.Partner Involvement'!$G520))=TRUE,(('12.Partner Involvement'!$D520*'12.Partner Involvement'!$E520)/COUNTA(_xlfn.TEXTSPLIT('12.Partner Involvement'!$G520,\";\"))),\"\")","v":""},{"$f":"IF(ISNUMBER(SEARCH(C$206,'12.Partner Involvement'!$G520))=TRUE,(('12.Partner Involvement'!$D520*'12.Partner Involvement'!$E520)/COUNTA(_xlfn.TEXTSPLIT('12.Partner Involvement'!$G520,\";\"))),\"\")","v":""},null,{"$f":"IF(ISNUMBER(SEARCH(E$206,'12.Partner Involvement'!$H520))=TRUE,(('12.Partner Involvement'!$D520*'12.Partner Involvement'!$E520)/COUNTA(_xlfn.TEXTSPLIT('12.Partner Involvement'!$H520,\";\"))),\"\")","v":""},{"$f":"IF(ISNUMBER(SEARCH(F$206,'12.Partner Involvement'!$H520))=TRUE,(('12.Partner Involvement'!$D520*'12.Partner Involvement'!$E520)/COUNTA(_xlfn.TEXTSPLIT('12.Partner Involvement'!$H520,\";\"))),\"\")","v":""},{"$f":"IF(ISNUMBER(SEARCH(G$206,'12.Partner Involvement'!$H520))=TRUE,(('12.Partner Involvement'!$D520*'12.Partner Involvement'!$E520)/COUNTA(_xlfn.TEXTSPLIT('12.Partner Involvement'!$H520,\";\"))),\"\")","v":""},{"$f":"IF(ISNUMBER(SEARCH(H$206,'12.Partner Involvement'!$H520))=TRUE,(('12.Partner Involvement'!$D520*'12.Partner Involvement'!$E520)/COUNTA(_xlfn.TEXTSPLIT('12.Partner Involvement'!$H520,\";\"))),\"\")","v":""}]
[{"$f":"IF(ISNUMBER(SEARCH(A$206,'12.Partner Involvement'!$G521))=TRUE,(('12.Partner Involvement'!$D521*'12.Partner Involvement'!$E521)/COUNTA(_xlfn.TEXTSPLIT('12.Partner Involvement'!$G521,\";\"))),\"\")","v":""},{"$f":"IF(ISNUMBER(SEARCH(B$206,'12.Partner Involvement'!$G521))=TRUE,(('12.Partner Involvement'!$D521*'12.Partner Involvement'!$E521)/COUNTA(_xlfn.TEXTSPLIT('12.Partner Involvement'!$G521,\";\"))),\"\")","v":""},{"$f":"IF(ISNUMBER(SEARCH(C$206,'12.Partner Involvement'!$G521))=TRUE,(('12.Partner Involvement'!$D521*'12.Partner Involvement'!$E521)/COUNTA(_xlfn.TEXTSPLIT('12.Partner Involvement'!$G521,\";\"))),\"\")","v":""},null,{"$f":"IF(ISNUMBER(SEARCH(E$206,'12.Partner Involvement'!$H521))=TRUE,(('12.Partner Involvement'!$D521*'12.Partner Involvement'!$E521)/COUNTA(_xlfn.TEXTSPLIT('12.Partner Involvement'!$H521,\";\"))),\"\")","v":""},{"$f":"IF(ISNUMBER(SEARCH(F$206,'12.Partner Involvement'!$H521))=TRUE,(('12.Partner Involvement'!$D521*'12.Partner Involvement'!$E521)/COUNTA(_xlfn.TEXTSPLIT('12.Partner Involvement'!$H521,\";\"))),\"\")","v":""},{"$f":"IF(ISNUMBER(SEARCH(G$206,'12.Partner Involvement'!$H521))=TRUE,(('12.Partner Involvement'!$D521*'12.Partner Involvement'!$E521)/COUNTA(_xlfn.TEXTSPLIT('12.Partner Involvement'!$H521,\";\"))),\"\")","v":""},{"$f":"IF(ISNUMBER(SEARCH(H$206,'12.Partner Involvement'!$H521))=TRUE,(('12.Partner Involvement'!$D521*'12.Partner Involvement'!$E521)/COUNTA(_xlfn.TEXTSPLIT('12.Partner Involvement'!$H521,\";\"))),\"\")","v":""}]
[{"$f":"IF(ISNUMBER(SEARCH(A$206,'12.Partner Involvement'!$G522))=TRUE,(('12.Partner Involvement'!$D522*'12.Partner Involvement'!$E522)/COUNTA(_xlfn.TEXTSPLIT('12.Partner Involvement'!$G522,\";\"))),\"\")","v":""},{"$f":"IF(ISNUMBER(SEARCH(B$206,'12.Partner Involvement'!$G522))=TRUE,(('12.Partner Involvement'!$D522*'12.Partner Involvement'!$E522)/COUNTA(_xlfn.TEXTSPLIT('12.Partner Involvement'!$G522,\";\"))),\"\")","v":""},{"$f":"IF(ISNUMBER(SEARCH(C$206,'12.Partner Involvement'!$G522))=TRUE,(('12.Partner Involvement'!$D522*'12.Partner Involvement'!$E522)/COUNTA(_xlfn.TEXTSPLIT('12.Partner Involvement'!$G522,\";\"))),\"\")","v":""},null,{"$f":"IF(ISNUMBER(SEARCH(E$206,'12.Partner Involvement'!$H522))=TRUE,(('12.Partner Involvement'!$D522*'12.Partner Involvement'!$E522)/COUNTA(_xlfn.TEXTSPLIT('12.Partner Involvement'!$H522,\";\"))),\"\")","v":""},{"$f":"IF(ISNUMBER(SEARCH(F$206,'12.Partner Involvement'!$H522))=TRUE,(('12.Partner Involvement'!$D522*'12.Partner Involvement'!$E522)/COUNTA(_xlfn.TEXTSPLIT('12.Partner Involvement'!$H522,\";\"))),\"\")","v":""},{"$f":"IF(ISNUMBER(SEARCH(G$206,'12.Partner Involvement'!$H522))=TRUE,(('12.Partner Involvement'!$D522*'12.Partner Involvement'!$E522)/COUNTA(_xlfn.TEXTSPLIT('12.Partner Involvement'!$H522,\";\"))),\"\")","v":""},{"$f":"IF(ISNUMBER(SEARCH(H$206,'12.Partner Involvement'!$H522))=TRUE,(('12.Partner Involvement'!$D522*'12.Partner Involvement'!$E522)/COUNTA(_xlfn.TEXTSPLIT('12.Partner Involvement'!$H522,\";\"))),\"\")","v":""}]
[{"$f":"IF(ISNUMBER(SEARCH(A$206,'12.Partner Involvement'!$G523))=TRUE,(('12.Partner Involvement'!$D523*'12.Partner Involvement'!$E523)/COUNTA(_xlfn.TEXTSPLIT('12.Partner Involvement'!$G523,\";\"))),\"\")","v":""},{"$f":"IF(ISNUMBER(SEARCH(B$206,'12.Partner Involvement'!$G523))=TRUE,(('12.Partner Involvement'!$D523*'12.Partner Involvement'!$E523)/COUNTA(_xlfn.TEXTSPLIT('12.Partner Involvement'!$G523,\";\"))),\"\")","v":""},{"$f":"IF(ISNUMBER(SEARCH(C$206,'12.Partner Involvement'!$G523))=TRUE,(('12.Partner Involvement'!$D523*'12.Partner Involvement'!$E523)/COUNTA(_xlfn.TEXTSPLIT('12.Partner Involvement'!$G523,\";\"))),\"\")","v":""},null,{"$f":"IF(ISNUMBER(SEARCH(E$206,'12.Partner Involvement'!$H523))=TRUE,(('12.Partner Involvement'!$D523*'12.Partner Involvement'!$E523)/COUNTA(_xlfn.TEXTSPLIT('12.Partner Involvement'!$H523,\";\"))),\"\")","v":""},{"$f":"IF(ISNUMBER(SEARCH(F$206,'12.Partner Involvement'!$H523))=TRUE,(('12.Partner Involvement'!$D523*'12.Partner Involvement'!$E523)/COUNTA(_xlfn.TEXTSPLIT('12.Partner Involvement'!$H523,\";\"))),\"\")","v":""},{"$f":"IF(ISNUMBER(SEARCH(G$206,'12.Partner Involvement'!$H523))=TRUE,(('12.Partner Involvement'!$D523*'12.Partner Involvement'!$E523)/COUNTA(_xlfn.TEXTSPLIT('12.Partner Involvement'!$H523,\";\"))),\"\")","v":""},{"$f":"IF(ISNUMBER(SEARCH(H$206,'12.Partner Involvement'!$H523))=TRUE,(('12.Partner Involvement'!$D523*'12.Partner Involvement'!$E523)/COUNTA(_xlfn.TEXTSPLIT('12.Partner Involvement'!$H523,\";\"))),\"\")","v":""}]
[{"$f":"IF(ISNUMBER(SEARCH(A$206,'12.Partner Involvement'!$G524))=TRUE,(('12.Partner Involvement'!$D524*'12.Partner Involvement'!$E524)/COUNTA(_xlfn.TEXTSPLIT('12.Partner Involvement'!$G524,\";\"))),\"\")","v":""},{"$f":"IF(ISNUMBER(SEARCH(B$206,'12.Partner Involvement'!$G524))=TRUE,(('12.Partner Involvement'!$D524*'12.Partner Involvement'!$E524)/COUNTA(_xlfn.TEXTSPLIT('12.Partner Involvement'!$G524,\";\"))),\"\")","v":""},{"$f":"IF(ISNUMBER(SEARCH(C$206,'12.Partner Involvement'!$G524))=TRUE,(('12.Partner Involvement'!$D524*'12.Partner Involvement'!$E524)/COUNTA(_xlfn.TEXTSPLIT('12.Partner Involvement'!$G524,\";\"))),\"\")","v":""},null,{"$f":"IF(ISNUMBER(SEARCH(E$206,'12.Partner Involvement'!$H524))=TRUE,(('12.Partner Involvement'!$D524*'12.Partner Involvement'!$E524)/COUNTA(_xlfn.TEXTSPLIT('12.Partner Involvement'!$H524,\";\"))),\"\")","v":""},{"$f":"IF(ISNUMBER(SEARCH(F$206,'12.Partner Involvement'!$H524))=TRUE,(('12.Partner Involvement'!$D524*'12.Partner Involvement'!$E524)/COUNTA(_xlfn.TEXTSPLIT('12.Partner Involvement'!$H524,\";\"))),\"\")","v":""},{"$f":"IF(ISNUMBER(SEARCH(G$206,'12.Partner Involvement'!$H524))=TRUE,(('12.Partner Involvement'!$D524*'12.Partner Involvement'!$E524)/COUNTA(_xlfn.TEXTSPLIT('12.Partner Involvement'!$H524,\";\"))),\"\")","v":""},{"$f":"IF(ISNUMBER(SEARCH(H$206,'12.Partner Involvement'!$H524))=TRUE,(('12.Partner Involvement'!$D524*'12.Partner Involvement'!$E524)/COUNTA(_xlfn.TEXTSPLIT('12.Partner Involvement'!$H524,\";\"))),\"\")","v":""}]
[{"$f":"IF(ISNUMBER(SEARCH(A$206,'12.Partner Involvement'!$G525))=TRUE,(('12.Partner Involvement'!$D525*'12.Partner Involvement'!$E525)/COUNTA(_xlfn.TEXTSPLIT('12.Partner Involvement'!$G525,\";\"))),\"\")","v":""},{"$f":"IF(ISNUMBER(SEARCH(B$206,'12.Partner Involvement'!$G525))=TRUE,(('12.Partner Involvement'!$D525*'12.Partner Involvement'!$E525)/COUNTA(_xlfn.TEXTSPLIT('12.Partner Involvement'!$G525,\";\"))),\"\")","v":""},{"$f":"IF(ISNUMBER(SEARCH(C$206,'12.Partner Involvement'!$G525))=TRUE,(('12.Partner Involvement'!$D525*'12.Partner Involvement'!$E525)/COUNTA(_xlfn.TEXTSPLIT('12.Partner Involvement'!$G525,\";\"))),\"\")","v":""},null,{"$f":"IF(ISNUMBER(SEARCH(E$206,'12.Partner Involvement'!$H525))=TRUE,(('12.Partner Involvement'!$D525*'12.Partner Involvement'!$E525)/COUNTA(_xlfn.TEXTSPLIT('12.Partner Involvement'!$H525,\";\"))),\"\")","v":""},{"$f":"IF(ISNUMBER(SEARCH(F$206,'12.Partner Involvement'!$H525))=TRUE,(('12.Partner Involvement'!$D525*'12.Partner Involvement'!$E525)/COUNTA(_xlfn.TEXTSPLIT('12.Partner Involvement'!$H525,\";\"))),\"\")","v":""},{"$f":"IF(ISNUMBER(SEARCH(G$206,'12.Partner Involvement'!$H525))=TRUE,(('12.Partner Involvement'!$D525*'12.Partner Involvement'!$E525)/COUNTA(_xlfn.TEXTSPLIT('12.Partner Involvement'!$H525,\";\"))),\"\")","v":""},{"$f":"IF(ISNUMBER(SEARCH(H$206,'12.Partner Involvement'!$H525))=TRUE,(('12.Partner Involvement'!$D525*'12.Partner Involvement'!$E525)/COUNTA(_xlfn.TEXTSPLIT('12.Partner Involvement'!$H525,\";\"))),\"\")","v":""}]
[{"$f":"IF(ISNUMBER(SEARCH(A$206,'12.Partner Involvement'!$G526))=TRUE,(('12.Partner Involvement'!$D526*'12.Partner Involvement'!$E526)/COUNTA(_xlfn.TEXTSPLIT('12.Partner Involvement'!$G526,\";\"))),\"\")","v":""},{"$f":"IF(ISNUMBER(SEARCH(B$206,'12.Partner Involvement'!$G526))=TRUE,(('12.Partner Involvement'!$D526*'12.Partner Involvement'!$E526)/COUNTA(_xlfn.TEXTSPLIT('12.Partner Involvement'!$G526,\";\"))),\"\")","v":""},{"$f":"IF(ISNUMBER(SEARCH(C$206,'12.Partner Involvement'!$G526))=TRUE,(('12.Partner Involvement'!$D526*'12.Partner Involvement'!$E526)/COUNTA(_xlfn.TEXTSPLIT('12.Partner Involvement'!$G526,\";\"))),\"\")","v":""},null,{"$f":"IF(ISNUMBER(SEARCH(E$206,'12.Partner Involvement'!$H526))=TRUE,(('12.Partner Involvement'!$D526*'12.Partner Involvement'!$E526)/COUNTA(_xlfn.TEXTSPLIT('12.Partner Involvement'!$H526,\";\"))),\"\")","v":""},{"$f":"IF(ISNUMBER(SEARCH(F$206,'12.Partner Involvement'!$H526))=TRUE,(('12.Partner Involvement'!$D526*'12.Partner Involvement'!$E526)/COUNTA(_xlfn.TEXTSPLIT('12.Partner Involvement'!$H526,\";\"))),\"\")","v":""},{"$f":"IF(ISNUMBER(SEARCH(G$206,'12.Partner Involvement'!$H526))=TRUE,(('12.Partner Involvement'!$D526*'12.Partner Involvement'!$E526)/COUNTA(_xlfn.TEXTSPLIT('12.Partner Involvement'!$H526,\";\"))),\"\")","v":""},{"$f":"IF(ISNUMBER(SEARCH(H$206,'12.Partner Involvement'!$H526))=TRUE,(('12.Partner Involvement'!$D526*'12.Partner Involvement'!$E526)/COUNTA(_xlfn.TEXTSPLIT('12.Partner Involvement'!$H526,\";\"))),\"\")","v":""}]
[{"$f":"IF(ISNUMBER(SEARCH(A$206,'12.Partner Involvement'!$G527))=TRUE,(('12.Partner Involvement'!$D527*'12.Partner Involvement'!$E527)/COUNTA(_xlfn.TEXTSPLIT('12.Partner Involvement'!$G527,\";\"))),\"\")","v":""},{"$f":"IF(ISNUMBER(SEARCH(B$206,'12.Partner Involvement'!$G527))=TRUE,(('12.Partner Involvement'!$D527*'12.Partner Involvement'!$E527)/COUNTA(_xlfn.TEXTSPLIT('12.Partner Involvement'!$G527,\";\"))),\"\")","v":""},{"$f":"IF(ISNUMBER(SEARCH(C$206,'12.Partner Involvement'!$G527))=TRUE,(('12.Partner Involvement'!$D527*'12.Partner Involvement'!$E527)/COUNTA(_xlfn.TEXTSPLIT('12.Partner Involvement'!$G527,\";\"))),\"\")","v":""},null,{"$f":"IF(ISNUMBER(SEARCH(E$206,'12.Partner Involvement'!$H527))=TRUE,(('12.Partner Involvement'!$D527*'12.Partner Involvement'!$E527)/COUNTA(_xlfn.TEXTSPLIT('12.Partner Involvement'!$H527,\";\"))),\"\")","v":""},{"$f":"IF(ISNUMBER(SEARCH(F$206,'12.Partner Involvement'!$H527))=TRUE,(('12.Partner Involvement'!$D527*'12.Partner Involvement'!$E527)/COUNTA(_xlfn.TEXTSPLIT('12.Partner Involvement'!$H527,\";\"))),\"\")","v":""},{"$f":"IF(ISNUMBER(SEARCH(G$206,'12.Partner Involvement'!$H527))=TRUE,(('12.Partner Involvement'!$D527*'12.Partner Involvement'!$E527)/COUNTA(_xlfn.TEXTSPLIT('12.Partner Involvement'!$H527,\";\"))),\"\")","v":""},{"$f":"IF(ISNUMBER(SEARCH(H$206,'12.Partner Involvement'!$H527))=TRUE,(('12.Partner Involvement'!$D527*'12.Partner Involvement'!$E527)/COUNTA(_xlfn.TEXTSPLIT('12.Partner Involvement'!$H527,\";\"))),\"\")","v":""}]
[{"$f":"IF(ISNUMBER(SEARCH(A$206,'12.Partner Involvement'!$G528))=TRUE,(('12.Partner Involvement'!$D528*'12.Partner Involvement'!$E528)/COUNTA(_xlfn.TEXTSPLIT('12.Partner Involvement'!$G528,\";\"))),\"\")","v":""},{"$f":"IF(ISNUMBER(SEARCH(B$206,'12.Partner Involvement'!$G528))=TRUE,(('12.Partner Involvement'!$D528*'12.Partner Involvement'!$E528)/COUNTA(_xlfn.TEXTSPLIT('12.Partner Involvement'!$G528,\";\"))),\"\")","v":""},{"$f":"IF(ISNUMBER(SEARCH(C$206,'12.Partner Involvement'!$G528))=TRUE,(('12.Partner Involvement'!$D528*'12.Partner Involvement'!$E528)/COUNTA(_xlfn.TEXTSPLIT('12.Partner Involvement'!$G528,\";\"))),\"\")","v":""},null,{"$f":"IF(ISNUMBER(SEARCH(E$206,'12.Partner Involvement'!$H528))=TRUE,(('12.Partner Involvement'!$D528*'12.Partner Involvement'!$E528)/COUNTA(_xlfn.TEXTSPLIT('12.Partner Involvement'!$H528,\";\"))),\"\")","v":""},{"$f":"IF(ISNUMBER(SEARCH(F$206,'12.Partner Involvement'!$H528))=TRUE,(('12.Partner Involvement'!$D528*'12.Partner Involvement'!$E528)/COUNTA(_xlfn.TEXTSPLIT('12.Partner Involvement'!$H528,\";\"))),\"\")","v":""},{"$f":"IF(ISNUMBER(SEARCH(G$206,'12.Partner Involvement'!$H528))=TRUE,(('12.Partner Involvement'!$D528*'12.Partner Involvement'!$E528)/COUNTA(_xlfn.TEXTSPLIT('12.Partner Involvement'!$H528,\";\"))),\"\")","v":""},{"$f":"IF(ISNUMBER(SEARCH(H$206,'12.Partner Involvement'!$H528))=TRUE,(('12.Partner Involvement'!$D528*'12.Partner Involvement'!$E528)/COUNTA(_xlfn.TEXTSPLIT('12.Partner Involvement'!$H528,\";\"))),\"\")","v":""}]
[{"$f":"IF(ISNUMBER(SEARCH(A$206,'12.Partner Involvement'!$G529))=TRUE,(('12.Partner Involvement'!$D529*'12.Partner Involvement'!$E529)/COUNTA(_xlfn.TEXTSPLIT('12.Partner Involvement'!$G529,\";\"))),\"\")","v":""},{"$f":"IF(ISNUMBER(SEARCH(B$206,'12.Partner Involvement'!$G529))=TRUE,(('12.Partner Involvement'!$D529*'12.Partner Involvement'!$E529)/COUNTA(_xlfn.TEXTSPLIT('12.Partner Involvement'!$G529,\";\"))),\"\")","v":""},{"$f":"IF(ISNUMBER(SEARCH(C$206,'12.Partner Involvement'!$G529))=TRUE,(('12.Partner Involvement'!$D529*'12.Partner Involvement'!$E529)/COUNTA(_xlfn.TEXTSPLIT('12.Partner Involvement'!$G529,\";\"))),\"\")","v":""},null,{"$f":"IF(ISNUMBER(SEARCH(E$206,'12.Partner Involvement'!$H529))=TRUE,(('12.Partner Involvement'!$D529*'12.Partner Involvement'!$E529)/COUNTA(_xlfn.TEXTSPLIT('12.Partner Involvement'!$H529,\";\"))),\"\")","v":""},{"$f":"IF(ISNUMBER(SEARCH(F$206,'12.Partner Involvement'!$H529))=TRUE,(('12.Partner Involvement'!$D529*'12.Partner Involvement'!$E529)/COUNTA(_xlfn.TEXTSPLIT('12.Partner Involvement'!$H529,\";\"))),\"\")","v":""},{"$f":"IF(ISNUMBER(SEARCH(G$206,'12.Partner Involvement'!$H529))=TRUE,(('12.Partner Involvement'!$D529*'12.Partner Involvement'!$E529)/COUNTA(_xlfn.TEXTSPLIT('12.Partner Involvement'!$H529,\";\"))),\"\")","v":""},{"$f":"IF(ISNUMBER(SEARCH(H$206,'12.Partner Involvement'!$H529))=TRUE,(('12.Partner Involvement'!$D529*'12.Partner Involvement'!$E529)/COUNTA(_xlfn.TEXTSPLIT('12.Partner Involvement'!$H529,\";\"))),\"\")","v":""}]
[{"$f":"IF(ISNUMBER(SEARCH(A$206,'12.Partner Involvement'!$G530))=TRUE,(('12.Partner Involvement'!$D530*'12.Partner Involvement'!$E530)/COUNTA(_xlfn.TEXTSPLIT('12.Partner Involvement'!$G530,\";\"))),\"\")","v":""},{"$f":"IF(ISNUMBER(SEARCH(B$206,'12.Partner Involvement'!$G530))=TRUE,(('12.Partner Involvement'!$D530*'12.Partner Involvement'!$E530)/COUNTA(_xlfn.TEXTSPLIT('12.Partner Involvement'!$G530,\";\"))),\"\")","v":""},{"$f":"IF(ISNUMBER(SEARCH(C$206,'12.Partner Involvement'!$G530))=TRUE,(('12.Partner Involvement'!$D530*'12.Partner Involvement'!$E530)/COUNTA(_xlfn.TEXTSPLIT('12.Partner Involvement'!$G530,\";\"))),\"\")","v":""},null,{"$f":"IF(ISNUMBER(SEARCH(E$206,'12.Partner Involvement'!$H530))=TRUE,(('12.Partner Involvement'!$D530*'12.Partner Involvement'!$E530)/COUNTA(_xlfn.TEXTSPLIT('12.Partner Involvement'!$H530,\";\"))),\"\")","v":""},{"$f":"IF(ISNUMBER(SEARCH(F$206,'12.Partner Involvement'!$H530))=TRUE,(('12.Partner Involvement'!$D530*'12.Partner Involvement'!$E530)/COUNTA(_xlfn.TEXTSPLIT('12.Partner Involvement'!$H530,\";\"))),\"\")","v":""},{"$f":"IF(ISNUMBER(SEARCH(G$206,'12.Partner Involvement'!$H530))=TRUE,(('12.Partner Involvement'!$D530*'12.Partner Involvement'!$E530)/COUNTA(_xlfn.TEXTSPLIT('12.Partner Involvement'!$H530,\";\"))),\"\")","v":""},{"$f":"IF(ISNUMBER(SEARCH(H$206,'12.Partner Involvement'!$H530))=TRUE,(('12.Partner Involvement'!$D530*'12.Partner Involvement'!$E530)/COUNTA(_xlfn.TEXTSPLIT('12.Partner Involvement'!$H530,\";\"))),\"\")","v":""}]
[{"$f":"IF(ISNUMBER(SEARCH(A$206,'12.Partner Involvement'!$G531))=TRUE,(('12.Partner Involvement'!$D531*'12.Partner Involvement'!$E531)/COUNTA(_xlfn.TEXTSPLIT('12.Partner Involvement'!$G531,\";\"))),\"\")","v":""},{"$f":"IF(ISNUMBER(SEARCH(B$206,'12.Partner Involvement'!$G531))=TRUE,(('12.Partner Involvement'!$D531*'12.Partner Involvement'!$E531)/COUNTA(_xlfn.TEXTSPLIT('12.Partner Involvement'!$G531,\";\"))),\"\")","v":""},{"$f":"IF(ISNUMBER(SEARCH(C$206,'12.Partner Involvement'!$G531))=TRUE,(('12.Partner Involvement'!$D531*'12.Partner Involvement'!$E531)/COUNTA(_xlfn.TEXTSPLIT('12.Partner Involvement'!$G531,\";\"))),\"\")","v":""},null,{"$f":"IF(ISNUMBER(SEARCH(E$206,'12.Partner Involvement'!$H531))=TRUE,(('12.Partner Involvement'!$D531*'12.Partner Involvement'!$E531)/COUNTA(_xlfn.TEXTSPLIT('12.Partner Involvement'!$H531,\";\"))),\"\")","v":""},{"$f":"IF(ISNUMBER(SEARCH(F$206,'12.Partner Involvement'!$H531))=TRUE,(('12.Partner Involvement'!$D531*'12.Partner Involvement'!$E531)/COUNTA(_xlfn.TEXTSPLIT('12.Partner Involvement'!$H531,\";\"))),\"\")","v":""},{"$f":"IF(ISNUMBER(SEARCH(G$206,'12.Partner Involvement'!$H531))=TRUE,(('12.Partner Involvement'!$D531*'12.Partner Involvement'!$E531)/COUNTA(_xlfn.TEXTSPLIT('12.Partner Involvement'!$H531,\";\"))),\"\")","v":""},{"$f":"IF(ISNUMBER(SEARCH(H$206,'12.Partner Involvement'!$H531))=TRUE,(('12.Partner Involvement'!$D531*'12.Partner Involvement'!$E531)/COUNTA(_xlfn.TEXTSPLIT('12.Partner Involvement'!$H531,\";\"))),\"\")","v":""}]
[{"$f":"IF(ISNUMBER(SEARCH(A$206,'12.Partner Involvement'!$G532))=TRUE,(('12.Partner Involvement'!$D532*'12.Partner Involvement'!$E532)/COUNTA(_xlfn.TEXTSPLIT('12.Partner Involvement'!$G532,\";\"))),\"\")","v":""},{"$f":"IF(ISNUMBER(SEARCH(B$206,'12.Partner Involvement'!$G532))=TRUE,(('12.Partner Involvement'!$D532*'12.Partner Involvement'!$E532)/COUNTA(_xlfn.TEXTSPLIT('12.Partner Involvement'!$G532,\";\"))),\"\")","v":""},{"$f":"IF(ISNUMBER(SEARCH(C$206,'12.Partner Involvement'!$G532))=TRUE,(('12.Partner Involvement'!$D532*'12.Partner Involvement'!$E532)/COUNTA(_xlfn.TEXTSPLIT('12.Partner Involvement'!$G532,\";\"))),\"\")","v":""},null,{"$f":"IF(ISNUMBER(SEARCH(E$206,'12.Partner Involvement'!$H532))=TRUE,(('12.Partner Involvement'!$D532*'12.Partner Involvement'!$E532)/COUNTA(_xlfn.TEXTSPLIT('12.Partner Involvement'!$H532,\";\"))),\"\")","v":""},{"$f":"IF(ISNUMBER(SEARCH(F$206,'12.Partner Involvement'!$H532))=TRUE,(('12.Partner Involvement'!$D532*'12.Partner Involvement'!$E532)/COUNTA(_xlfn.TEXTSPLIT('12.Partner Involvement'!$H532,\";\"))),\"\")","v":""},{"$f":"IF(ISNUMBER(SEARCH(G$206,'12.Partner Involvement'!$H532))=TRUE,(('12.Partner Involvement'!$D532*'12.Partner Involvement'!$E532)/COUNTA(_xlfn.TEXTSPLIT('12.Partner Involvement'!$H532,\";\"))),\"\")","v":""},{"$f":"IF(ISNUMBER(SEARCH(H$206,'12.Partner Involvement'!$H532))=TRUE,(('12.Partner Involvement'!$D532*'12.Partner Involvement'!$E532)/COUNTA(_xlfn.TEXTSPLIT('12.Partner Involvement'!$H532,\";\"))),\"\")","v":""}]
[{"$f":"IF(ISNUMBER(SEARCH(A$206,'12.Partner Involvement'!$G533))=TRUE,(('12.Partner Involvement'!$D533*'12.Partner Involvement'!$E533)/COUNTA(_xlfn.TEXTSPLIT('12.Partner Involvement'!$G533,\";\"))),\"\")","v":""},{"$f":"IF(ISNUMBER(SEARCH(B$206,'12.Partner Involvement'!$G533))=TRUE,(('12.Partner Involvement'!$D533*'12.Partner Involvement'!$E533)/COUNTA(_xlfn.TEXTSPLIT('12.Partner Involvement'!$G533,\";\"))),\"\")","v":""},{"$f":"IF(ISNUMBER(SEARCH(C$206,'12.Partner Involvement'!$G533))=TRUE,(('12.Partner Involvement'!$D533*'12.Partner Involvement'!$E533)/COUNTA(_xlfn.TEXTSPLIT('12.Partner Involvement'!$G533,\";\"))),\"\")","v":""},null,{"$f":"IF(ISNUMBER(SEARCH(E$206,'12.Partner Involvement'!$H533))=TRUE,(('12.Partner Involvement'!$D533*'12.Partner Involvement'!$E533)/COUNTA(_xlfn.TEXTSPLIT('12.Partner Involvement'!$H533,\";\"))),\"\")","v":""},{"$f":"IF(ISNUMBER(SEARCH(F$206,'12.Partner Involvement'!$H533))=TRUE,(('12.Partner Involvement'!$D533*'12.Partner Involvement'!$E533)/COUNTA(_xlfn.TEXTSPLIT('12.Partner Involvement'!$H533,\";\"))),\"\")","v":""},{"$f":"IF(ISNUMBER(SEARCH(G$206,'12.Partner Involvement'!$H533))=TRUE,(('12.Partner Involvement'!$D533*'12.Partner Involvement'!$E533)/COUNTA(_xlfn.TEXTSPLIT('12.Partner Involvement'!$H533,\";\"))),\"\")","v":""},{"$f":"IF(ISNUMBER(SEARCH(H$206,'12.Partner Involvement'!$H533))=TRUE,(('12.Partner Involvement'!$D533*'12.Partner Involvement'!$E533)/COUNTA(_xlfn.TEXTSPLIT('12.Partner Involvement'!$H533,\";\"))),\"\")","v":""}]
[{"$f":"IF(ISNUMBER(SEARCH(A$206,'12.Partner Involvement'!$G534))=TRUE,(('12.Partner Involvement'!$D534*'12.Partner Involvement'!$E534)/COUNTA(_xlfn.TEXTSPLIT('12.Partner Involvement'!$G534,\";\"))),\"\")","v":""},{"$f":"IF(ISNUMBER(SEARCH(B$206,'12.Partner Involvement'!$G534))=TRUE,(('12.Partner Involvement'!$D534*'12.Partner Involvement'!$E534)/COUNTA(_xlfn.TEXTSPLIT('12.Partner Involvement'!$G534,\";\"))),\"\")","v":""},{"$f":"IF(ISNUMBER(SEARCH(C$206,'12.Partner Involvement'!$G534))=TRUE,(('12.Partner Involvement'!$D534*'12.Partner Involvement'!$E534)/COUNTA(_xlfn.TEXTSPLIT('12.Partner Involvement'!$G534,\";\"))),\"\")","v":""},null,{"$f":"IF(ISNUMBER(SEARCH(E$206,'12.Partner Involvement'!$H534))=TRUE,(('12.Partner Involvement'!$D534*'12.Partner Involvement'!$E534)/COUNTA(_xlfn.TEXTSPLIT('12.Partner Involvement'!$H534,\";\"))),\"\")","v":""},{"$f":"IF(ISNUMBER(SEARCH(F$206,'12.Partner Involvement'!$H534))=TRUE,(('12.Partner Involvement'!$D534*'12.Partner Involvement'!$E534)/COUNTA(_xlfn.TEXTSPLIT('12.Partner Involvement'!$H534,\";\"))),\"\")","v":""},{"$f":"IF(ISNUMBER(SEARCH(G$206,'12.Partner Involvement'!$H534))=TRUE,(('12.Partner Involvement'!$D534*'12.Partner Involvement'!$E534)/COUNTA(_xlfn.TEXTSPLIT('12.Partner Involvement'!$H534,\";\"))),\"\")","v":""},{"$f":"IF(ISNUMBER(SEARCH(H$206,'12.Partner Involvement'!$H534))=TRUE,(('12.Partner Involvement'!$D534*'12.Partner Involvement'!$E534)/COUNTA(_xlfn.TEXTSPLIT('12.Partner Involvement'!$H534,\";\"))),\"\")","v":""}]
[{"$f":"IF(ISNUMBER(SEARCH(A$206,'12.Partner Involvement'!$G535))=TRUE,(('12.Partner Involvement'!$D535*'12.Partner Involvement'!$E535)/COUNTA(_xlfn.TEXTSPLIT('12.Partner Involvement'!$G535,\";\"))),\"\")","v":""},{"$f":"IF(ISNUMBER(SEARCH(B$206,'12.Partner Involvement'!$G535))=TRUE,(('12.Partner Involvement'!$D535*'12.Partner Involvement'!$E535)/COUNTA(_xlfn.TEXTSPLIT('12.Partner Involvement'!$G535,\";\"))),\"\")","v":""},{"$f":"IF(ISNUMBER(SEARCH(C$206,'12.Partner Involvement'!$G535))=TRUE,(('12.Partner Involvement'!$D535*'12.Partner Involvement'!$E535)/COUNTA(_xlfn.TEXTSPLIT('12.Partner Involvement'!$G535,\";\"))),\"\")","v":""},null,{"$f":"IF(ISNUMBER(SEARCH(E$206,'12.Partner Involvement'!$H535))=TRUE,(('12.Partner Involvement'!$D535*'12.Partner Involvement'!$E535)/COUNTA(_xlfn.TEXTSPLIT('12.Partner Involvement'!$H535,\";\"))),\"\")","v":""},{"$f":"IF(ISNUMBER(SEARCH(F$206,'12.Partner Involvement'!$H535))=TRUE,(('12.Partner Involvement'!$D535*'12.Partner Involvement'!$E535)/COUNTA(_xlfn.TEXTSPLIT('12.Partner Involvement'!$H535,\";\"))),\"\")","v":""},{"$f":"IF(ISNUMBER(SEARCH(G$206,'12.Partner Involvement'!$H535))=TRUE,(('12.Partner Involvement'!$D535*'12.Partner Involvement'!$E535)/COUNTA(_xlfn.TEXTSPLIT('12.Partner Involvement'!$H535,\";\"))),\"\")","v":""},{"$f":"IF(ISNUMBER(SEARCH(H$206,'12.Partner Involvement'!$H535))=TRUE,(('12.Partner Involvement'!$D535*'12.Partner Involvement'!$E535)/COUNTA(_xlfn.TEXTSPLIT('12.Partner Involvement'!$H535,\";\"))),\"\")","v":""}]
[{"$f":"IF(ISNUMBER(SEARCH(A$206,'12.Partner Involvement'!$G536))=TRUE,(('12.Partner Involvement'!$D536*'12.Partner Involvement'!$E536)/COUNTA(_xlfn.TEXTSPLIT('12.Partner Involvement'!$G536,\";\"))),\"\")","v":""},{"$f":"IF(ISNUMBER(SEARCH(B$206,'12.Partner Involvement'!$G536))=TRUE,(('12.Partner Involvement'!$D536*'12.Partner Involvement'!$E536)/COUNTA(_xlfn.TEXTSPLIT('12.Partner Involvement'!$G536,\";\"))),\"\")","v":""},{"$f":"IF(ISNUMBER(SEARCH(C$206,'12.Partner Involvement'!$G536))=TRUE,(('12.Partner Involvement'!$D536*'12.Partner Involvement'!$E536)/COUNTA(_xlfn.TEXTSPLIT('12.Partner Involvement'!$G536,\";\"))),\"\")","v":""},null,{"$f":"IF(ISNUMBER(SEARCH(E$206,'12.Partner Involvement'!$H536))=TRUE,(('12.Partner Involvement'!$D536*'12.Partner Involvement'!$E536)/COUNTA(_xlfn.TEXTSPLIT('12.Partner Involvement'!$H536,\";\"))),\"\")","v":""},{"$f":"IF(ISNUMBER(SEARCH(F$206,'12.Partner Involvement'!$H536))=TRUE,(('12.Partner Involvement'!$D536*'12.Partner Involvement'!$E536)/COUNTA(_xlfn.TEXTSPLIT('12.Partner Involvement'!$H536,\";\"))),\"\")","v":""},{"$f":"IF(ISNUMBER(SEARCH(G$206,'12.Partner Involvement'!$H536))=TRUE,(('12.Partner Involvement'!$D536*'12.Partner Involvement'!$E536)/COUNTA(_xlfn.TEXTSPLIT('12.Partner Involvement'!$H536,\";\"))),\"\")","v":""},{"$f":"IF(ISNUMBER(SEARCH(H$206,'12.Partner Involvement'!$H536))=TRUE,(('12.Partner Involvement'!$D536*'12.Partner Involvement'!$E536)/COUNTA(_xlfn.TEXTSPLIT('12.Partner Involvement'!$H536,\";\"))),\"\")","v":""}]
[{"$f":"IF(ISNUMBER(SEARCH(A$206,'12.Partner Involvement'!$G537))=TRUE,(('12.Partner Involvement'!$D537*'12.Partner Involvement'!$E537)/COUNTA(_xlfn.TEXTSPLIT('12.Partner Involvement'!$G537,\";\"))),\"\")","v":""},{"$f":"IF(ISNUMBER(SEARCH(B$206,'12.Partner Involvement'!$G537))=TRUE,(('12.Partner Involvement'!$D537*'12.Partner Involvement'!$E537)/COUNTA(_xlfn.TEXTSPLIT('12.Partner Involvement'!$G537,\";\"))),\"\")","v":""},{"$f":"IF(ISNUMBER(SEARCH(C$206,'12.Partner Involvement'!$G537))=TRUE,(('12.Partner Involvement'!$D537*'12.Partner Involvement'!$E537)/COUNTA(_xlfn.TEXTSPLIT('12.Partner Involvement'!$G537,\";\"))),\"\")","v":""},null,{"$f":"IF(ISNUMBER(SEARCH(E$206,'12.Partner Involvement'!$H537))=TRUE,(('12.Partner Involvement'!$D537*'12.Partner Involvement'!$E537)/COUNTA(_xlfn.TEXTSPLIT('12.Partner Involvement'!$H537,\";\"))),\"\")","v":""},{"$f":"IF(ISNUMBER(SEARCH(F$206,'12.Partner Involvement'!$H537))=TRUE,(('12.Partner Involvement'!$D537*'12.Partner Involvement'!$E537)/COUNTA(_xlfn.TEXTSPLIT('12.Partner Involvement'!$H537,\";\"))),\"\")","v":""},{"$f":"IF(ISNUMBER(SEARCH(G$206,'12.Partner Involvement'!$H537))=TRUE,(('12.Partner Involvement'!$D537*'12.Partner Involvement'!$E537)/COUNTA(_xlfn.TEXTSPLIT('12.Partner Involvement'!$H537,\";\"))),\"\")","v":""},{"$f":"IF(ISNUMBER(SEARCH(H$206,'12.Partner Involvement'!$H537))=TRUE,(('12.Partner Involvement'!$D537*'12.Partner Involvement'!$E537)/COUNTA(_xlfn.TEXTSPLIT('12.Partner Involvement'!$H537,\";\"))),\"\")","v":""}]
[{"$f":"IF(ISNUMBER(SEARCH(A$206,'12.Partner Involvement'!$G538))=TRUE,(('12.Partner Involvement'!$D538*'12.Partner Involvement'!$E538)/COUNTA(_xlfn.TEXTSPLIT('12.Partner Involvement'!$G538,\";\"))),\"\")","v":""},{"$f":"IF(ISNUMBER(SEARCH(B$206,'12.Partner Involvement'!$G538))=TRUE,(('12.Partner Involvement'!$D538*'12.Partner Involvement'!$E538)/COUNTA(_xlfn.TEXTSPLIT('12.Partner Involvement'!$G538,\";\"))),\"\")","v":""},{"$f":"IF(ISNUMBER(SEARCH(C$206,'12.Partner Involvement'!$G538))=TRUE,(('12.Partner Involvement'!$D538*'12.Partner Involvement'!$E538)/COUNTA(_xlfn.TEXTSPLIT('12.Partner Involvement'!$G538,\";\"))),\"\")","v":""},null,{"$f":"IF(ISNUMBER(SEARCH(E$206,'12.Partner Involvement'!$H538))=TRUE,(('12.Partner Involvement'!$D538*'12.Partner Involvement'!$E538)/COUNTA(_xlfn.TEXTSPLIT('12.Partner Involvement'!$H538,\";\"))),\"\")","v":""},{"$f":"IF(ISNUMBER(SEARCH(F$206,'12.Partner Involvement'!$H538))=TRUE,(('12.Partner Involvement'!$D538*'12.Partner Involvement'!$E538)/COUNTA(_xlfn.TEXTSPLIT('12.Partner Involvement'!$H538,\";\"))),\"\")","v":""},{"$f":"IF(ISNUMBER(SEARCH(G$206,'12.Partner Involvement'!$H538))=TRUE,(('12.Partner Involvement'!$D538*'12.Partner Involvement'!$E538)/COUNTA(_xlfn.TEXTSPLIT('12.Partner Involvement'!$H538,\";\"))),\"\")","v":""},{"$f":"IF(ISNUMBER(SEARCH(H$206,'12.Partner Involvement'!$H538))=TRUE,(('12.Partner Involvement'!$D538*'12.Partner Involvement'!$E538)/COUNTA(_xlfn.TEXTSPLIT('12.Partner Involvement'!$H538,\";\"))),\"\")","v":""}]
[{"$f":"IF(ISNUMBER(SEARCH(A$206,'12.Partner Involvement'!$G539))=TRUE,(('12.Partner Involvement'!$D539*'12.Partner Involvement'!$E539)/COUNTA(_xlfn.TEXTSPLIT('12.Partner Involvement'!$G539,\";\"))),\"\")","v":""},{"$f":"IF(ISNUMBER(SEARCH(B$206,'12.Partner Involvement'!$G539))=TRUE,(('12.Partner Involvement'!$D539*'12.Partner Involvement'!$E539)/COUNTA(_xlfn.TEXTSPLIT('12.Partner Involvement'!$G539,\";\"))),\"\")","v":""},{"$f":"IF(ISNUMBER(SEARCH(C$206,'12.Partner Involvement'!$G539))=TRUE,(('12.Partner Involvement'!$D539*'12.Partner Involvement'!$E539)/COUNTA(_xlfn.TEXTSPLIT('12.Partner Involvement'!$G539,\";\"))),\"\")","v":""},null,{"$f":"IF(ISNUMBER(SEARCH(E$206,'12.Partner Involvement'!$H539))=TRUE,(('12.Partner Involvement'!$D539*'12.Partner Involvement'!$E539)/COUNTA(_xlfn.TEXTSPLIT('12.Partner Involvement'!$H539,\";\"))),\"\")","v":""},{"$f":"IF(ISNUMBER(SEARCH(F$206,'12.Partner Involvement'!$H539))=TRUE,(('12.Partner Involvement'!$D539*'12.Partner Involvement'!$E539)/COUNTA(_xlfn.TEXTSPLIT('12.Partner Involvement'!$H539,\";\"))),\"\")","v":""},{"$f":"IF(ISNUMBER(SEARCH(G$206,'12.Partner Involvement'!$H539))=TRUE,(('12.Partner Involvement'!$D539*'12.Partner Involvement'!$E539)/COUNTA(_xlfn.TEXTSPLIT('12.Partner Involvement'!$H539,\";\"))),\"\")","v":""},{"$f":"IF(ISNUMBER(SEARCH(H$206,'12.Partner Involvement'!$H539))=TRUE,(('12.Partner Involvement'!$D539*'12.Partner Involvement'!$E539)/COUNTA(_xlfn.TEXTSPLIT('12.Partner Involvement'!$H539,\";\"))),\"\")","v":""}]
[{"$f":"IF(ISNUMBER(SEARCH(A$206,'12.Partner Involvement'!$G540))=TRUE,(('12.Partner Involvement'!$D540*'12.Partner Involvement'!$E540)/COUNTA(_xlfn.TEXTSPLIT('12.Partner Involvement'!$G540,\";\"))),\"\")","v":""},{"$f":"IF(ISNUMBER(SEARCH(B$206,'12.Partner Involvement'!$G540))=TRUE,(('12.Partner Involvement'!$D540*'12.Partner Involvement'!$E540)/COUNTA(_xlfn.TEXTSPLIT('12.Partner Involvement'!$G540,\";\"))),\"\")","v":""},{"$f":"IF(ISNUMBER(SEARCH(C$206,'12.Partner Involvement'!$G540))=TRUE,(('12.Partner Involvement'!$D540*'12.Partner Involvement'!$E540)/COUNTA(_xlfn.TEXTSPLIT('12.Partner Involvement'!$G540,\";\"))),\"\")","v":""},null,{"$f":"IF(ISNUMBER(SEARCH(E$206,'12.Partner Involvement'!$H540))=TRUE,(('12.Partner Involvement'!$D540*'12.Partner Involvement'!$E540)/COUNTA(_xlfn.TEXTSPLIT('12.Partner Involvement'!$H540,\";\"))),\"\")","v":""},{"$f":"IF(ISNUMBER(SEARCH(F$206,'12.Partner Involvement'!$H540))=TRUE,(('12.Partner Involvement'!$D540*'12.Partner Involvement'!$E540)/COUNTA(_xlfn.TEXTSPLIT('12.Partner Involvement'!$H540,\";\"))),\"\")","v":""},{"$f":"IF(ISNUMBER(SEARCH(G$206,'12.Partner Involvement'!$H540))=TRUE,(('12.Partner Involvement'!$D540*'12.Partner Involvement'!$E540)/COUNTA(_xlfn.TEXTSPLIT('12.Partner Involvement'!$H540,\";\"))),\"\")","v":""},{"$f":"IF(ISNUMBER(SEARCH(H$206,'12.Partner Involvement'!$H540))=TRUE,(('12.Partner Involvement'!$D540*'12.Partner Involvement'!$E540)/COUNTA(_xlfn.TEXTSPLIT('12.Partner Involvement'!$H540,\";\"))),\"\")","v":""}]
[{"$f":"IF(ISNUMBER(SEARCH(A$206,'12.Partner Involvement'!$G541))=TRUE,(('12.Partner Involvement'!$D541*'12.Partner Involvement'!$E541)/COUNTA(_xlfn.TEXTSPLIT('12.Partner Involvement'!$G541,\";\"))),\"\")","v":""},{"$f":"IF(ISNUMBER(SEARCH(B$206,'12.Partner Involvement'!$G541))=TRUE,(('12.Partner Involvement'!$D541*'12.Partner Involvement'!$E541)/COUNTA(_xlfn.TEXTSPLIT('12.Partner Involvement'!$G541,\";\"))),\"\")","v":""},{"$f":"IF(ISNUMBER(SEARCH(C$206,'12.Partner Involvement'!$G541))=TRUE,(('12.Partner Involvement'!$D541*'12.Partner Involvement'!$E541)/COUNTA(_xlfn.TEXTSPLIT('12.Partner Involvement'!$G541,\";\"))),\"\")","v":""},null,{"$f":"IF(ISNUMBER(SEARCH(E$206,'12.Partner Involvement'!$H541))=TRUE,(('12.Partner Involvement'!$D541*'12.Partner Involvement'!$E541)/COUNTA(_xlfn.TEXTSPLIT('12.Partner Involvement'!$H541,\";\"))),\"\")","v":""},{"$f":"IF(ISNUMBER(SEARCH(F$206,'12.Partner Involvement'!$H541))=TRUE,(('12.Partner Involvement'!$D541*'12.Partner Involvement'!$E541)/COUNTA(_xlfn.TEXTSPLIT('12.Partner Involvement'!$H541,\";\"))),\"\")","v":""},{"$f":"IF(ISNUMBER(SEARCH(G$206,'12.Partner Involvement'!$H541))=TRUE,(('12.Partner Involvement'!$D541*'12.Partner Involvement'!$E541)/COUNTA(_xlfn.TEXTSPLIT('12.Partner Involvement'!$H541,\";\"))),\"\")","v":""},{"$f":"IF(ISNUMBER(SEARCH(H$206,'12.Partner Involvement'!$H541))=TRUE,(('12.Partner Involvement'!$D541*'12.Partner Involvement'!$E541)/COUNTA(_xlfn.TEXTSPLIT('12.Partner Involvement'!$H541,\";\"))),\"\")","v":""}]
[{"$f":"IF(ISNUMBER(SEARCH(A$206,'12.Partner Involvement'!$G542))=TRUE,(('12.Partner Involvement'!$D542*'12.Partner Involvement'!$E542)/COUNTA(_xlfn.TEXTSPLIT('12.Partner Involvement'!$G542,\";\"))),\"\")","v":""},{"$f":"IF(ISNUMBER(SEARCH(B$206,'12.Partner Involvement'!$G542))=TRUE,(('12.Partner Involvement'!$D542*'12.Partner Involvement'!$E542)/COUNTA(_xlfn.TEXTSPLIT('12.Partner Involvement'!$G542,\";\"))),\"\")","v":""},{"$f":"IF(ISNUMBER(SEARCH(C$206,'12.Partner Involvement'!$G542))=TRUE,(('12.Partner Involvement'!$D542*'12.Partner Involvement'!$E542)/COUNTA(_xlfn.TEXTSPLIT('12.Partner Involvement'!$G542,\";\"))),\"\")","v":""},null,{"$f":"IF(ISNUMBER(SEARCH(E$206,'12.Partner Involvement'!$H542))=TRUE,(('12.Partner Involvement'!$D542*'12.Partner Involvement'!$E542)/COUNTA(_xlfn.TEXTSPLIT('12.Partner Involvement'!$H542,\";\"))),\"\")","v":""},{"$f":"IF(ISNUMBER(SEARCH(F$206,'12.Partner Involvement'!$H542))=TRUE,(('12.Partner Involvement'!$D542*'12.Partner Involvement'!$E542)/COUNTA(_xlfn.TEXTSPLIT('12.Partner Involvement'!$H542,\";\"))),\"\")","v":""},{"$f":"IF(ISNUMBER(SEARCH(G$206,'12.Partner Involvement'!$H542))=TRUE,(('12.Partner Involvement'!$D542*'12.Partner Involvement'!$E542)/COUNTA(_xlfn.TEXTSPLIT('12.Partner Involvement'!$H542,\";\"))),\"\")","v":""},{"$f":"IF(ISNUMBER(SEARCH(H$206,'12.Partner Involvement'!$H542))=TRUE,(('12.Partner Involvement'!$D542*'12.Partner Involvement'!$E542)/COUNTA(_xlfn.TEXTSPLIT('12.Partner Involvement'!$H542,\";\"))),\"\")","v":""}]
[{"$f":"IF(ISNUMBER(SEARCH(A$206,'12.Partner Involvement'!$G543))=TRUE,(('12.Partner Involvement'!$D543*'12.Partner Involvement'!$E543)/COUNTA(_xlfn.TEXTSPLIT('12.Partner Involvement'!$G543,\";\"))),\"\")","v":""},{"$f":"IF(ISNUMBER(SEARCH(B$206,'12.Partner Involvement'!$G543))=TRUE,(('12.Partner Involvement'!$D543*'12.Partner Involvement'!$E543)/COUNTA(_xlfn.TEXTSPLIT('12.Partner Involvement'!$G543,\";\"))),\"\")","v":""},{"$f":"IF(ISNUMBER(SEARCH(C$206,'12.Partner Involvement'!$G543))=TRUE,(('12.Partner Involvement'!$D543*'12.Partner Involvement'!$E543)/COUNTA(_xlfn.TEXTSPLIT('12.Partner Involvement'!$G543,\";\"))),\"\")","v":""},null,{"$f":"IF(ISNUMBER(SEARCH(E$206,'12.Partner Involvement'!$H543))=TRUE,(('12.Partner Involvement'!$D543*'12.Partner Involvement'!$E543)/COUNTA(_xlfn.TEXTSPLIT('12.Partner Involvement'!$H543,\";\"))),\"\")","v":""},{"$f":"IF(ISNUMBER(SEARCH(F$206,'12.Partner Involvement'!$H543))=TRUE,(('12.Partner Involvement'!$D543*'12.Partner Involvement'!$E543)/COUNTA(_xlfn.TEXTSPLIT('12.Partner Involvement'!$H543,\";\"))),\"\")","v":""},{"$f":"IF(ISNUMBER(SEARCH(G$206,'12.Partner Involvement'!$H543))=TRUE,(('12.Partner Involvement'!$D543*'12.Partner Involvement'!$E543)/COUNTA(_xlfn.TEXTSPLIT('12.Partner Involvement'!$H543,\";\"))),\"\")","v":""},{"$f":"IF(ISNUMBER(SEARCH(H$206,'12.Partner Involvement'!$H543))=TRUE,(('12.Partner Involvement'!$D543*'12.Partner Involvement'!$E543)/COUNTA(_xlfn.TEXTSPLIT('12.Partner Involvement'!$H543,\";\"))),\"\")","v":""}]
[{"$f":"IF(ISNUMBER(SEARCH(A$206,'12.Partner Involvement'!$G544))=TRUE,(('12.Partner Involvement'!$D544*'12.Partner Involvement'!$E544)/COUNTA(_xlfn.TEXTSPLIT('12.Partner Involvement'!$G544,\";\"))),\"\")","v":""},{"$f":"IF(ISNUMBER(SEARCH(B$206,'12.Partner Involvement'!$G544))=TRUE,(('12.Partner Involvement'!$D544*'12.Partner Involvement'!$E544)/COUNTA(_xlfn.TEXTSPLIT('12.Partner Involvement'!$G544,\";\"))),\"\")","v":""},{"$f":"IF(ISNUMBER(SEARCH(C$206,'12.Partner Involvement'!$G544))=TRUE,(('12.Partner Involvement'!$D544*'12.Partner Involvement'!$E544)/COUNTA(_xlfn.TEXTSPLIT('12.Partner Involvement'!$G544,\";\"))),\"\")","v":""},null,{"$f":"IF(ISNUMBER(SEARCH(E$206,'12.Partner Involvement'!$H544))=TRUE,(('12.Partner Involvement'!$D544*'12.Partner Involvement'!$E544)/COUNTA(_xlfn.TEXTSPLIT('12.Partner Involvement'!$H544,\";\"))),\"\")","v":""},{"$f":"IF(ISNUMBER(SEARCH(F$206,'12.Partner Involvement'!$H544))=TRUE,(('12.Partner Involvement'!$D544*'12.Partner Involvement'!$E544)/COUNTA(_xlfn.TEXTSPLIT('12.Partner Involvement'!$H544,\";\"))),\"\")","v":""},{"$f":"IF(ISNUMBER(SEARCH(G$206,'12.Partner Involvement'!$H544))=TRUE,(('12.Partner Involvement'!$D544*'12.Partner Involvement'!$E544)/COUNTA(_xlfn.TEXTSPLIT('12.Partner Involvement'!$H544,\";\"))),\"\")","v":""},{"$f":"IF(ISNUMBER(SEARCH(H$206,'12.Partner Involvement'!$H544))=TRUE,(('12.Partner Involvement'!$D544*'12.Partner Involvement'!$E544)/COUNTA(_xlfn.TEXTSPLIT('12.Partner Involvement'!$H544,\";\"))),\"\")","v":""}]
[{"$f":"IF(ISNUMBER(SEARCH(A$206,'12.Partner Involvement'!$G545))=TRUE,(('12.Partner Involvement'!$D545*'12.Partner Involvement'!$E545)/COUNTA(_xlfn.TEXTSPLIT('12.Partner Involvement'!$G545,\";\"))),\"\")","v":""},{"$f":"IF(ISNUMBER(SEARCH(B$206,'12.Partner Involvement'!$G545))=TRUE,(('12.Partner Involvement'!$D545*'12.Partner Involvement'!$E545)/COUNTA(_xlfn.TEXTSPLIT('12.Partner Involvement'!$G545,\";\"))),\"\")","v":""},{"$f":"IF(ISNUMBER(SEARCH(C$206,'12.Partner Involvement'!$G545))=TRUE,(('12.Partner Involvement'!$D545*'12.Partner Involvement'!$E545)/COUNTA(_xlfn.TEXTSPLIT('12.Partner Involvement'!$G545,\";\"))),\"\")","v":""},null,{"$f":"IF(ISNUMBER(SEARCH(E$206,'12.Partner Involvement'!$H545))=TRUE,(('12.Partner Involvement'!$D545*'12.Partner Involvement'!$E545)/COUNTA(_xlfn.TEXTSPLIT('12.Partner Involvement'!$H545,\";\"))),\"\")","v":""},{"$f":"IF(ISNUMBER(SEARCH(F$206,'12.Partner Involvement'!$H545))=TRUE,(('12.Partner Involvement'!$D545*'12.Partner Involvement'!$E545)/COUNTA(_xlfn.TEXTSPLIT('12.Partner Involvement'!$H545,\";\"))),\"\")","v":""},{"$f":"IF(ISNUMBER(SEARCH(G$206,'12.Partner Involvement'!$H545))=TRUE,(('12.Partner Involvement'!$D545*'12.Partner Involvement'!$E545)/COUNTA(_xlfn.TEXTSPLIT('12.Partner Involvement'!$H545,\";\"))),\"\")","v":""},{"$f":"IF(ISNUMBER(SEARCH(H$206,'12.Partner Involvement'!$H545))=TRUE,(('12.Partner Involvement'!$D545*'12.Partner Involvement'!$E545)/COUNTA(_xlfn.TEXTSPLIT('12.Partner Involvement'!$H545,\";\"))),\"\")","v":""}]
[{"$f":"IF(ISNUMBER(SEARCH(A$206,'12.Partner Involvement'!$G546))=TRUE,(('12.Partner Involvement'!$D546*'12.Partner Involvement'!$E546)/COUNTA(_xlfn.TEXTSPLIT('12.Partner Involvement'!$G546,\";\"))),\"\")","v":""},{"$f":"IF(ISNUMBER(SEARCH(B$206,'12.Partner Involvement'!$G546))=TRUE,(('12.Partner Involvement'!$D546*'12.Partner Involvement'!$E546)/COUNTA(_xlfn.TEXTSPLIT('12.Partner Involvement'!$G546,\";\"))),\"\")","v":""},{"$f":"IF(ISNUMBER(SEARCH(C$206,'12.Partner Involvement'!$G546))=TRUE,(('12.Partner Involvement'!$D546*'12.Partner Involvement'!$E546)/COUNTA(_xlfn.TEXTSPLIT('12.Partner Involvement'!$G546,\";\"))),\"\")","v":""},null,{"$f":"IF(ISNUMBER(SEARCH(E$206,'12.Partner Involvement'!$H546))=TRUE,(('12.Partner Involvement'!$D546*'12.Partner Involvement'!$E546)/COUNTA(_xlfn.TEXTSPLIT('12.Partner Involvement'!$H546,\";\"))),\"\")","v":""},{"$f":"IF(ISNUMBER(SEARCH(F$206,'12.Partner Involvement'!$H546))=TRUE,(('12.Partner Involvement'!$D546*'12.Partner Involvement'!$E546)/COUNTA(_xlfn.TEXTSPLIT('12.Partner Involvement'!$H546,\";\"))),\"\")","v":""},{"$f":"IF(ISNUMBER(SEARCH(G$206,'12.Partner Involvement'!$H546))=TRUE,(('12.Partner Involvement'!$D546*'12.Partner Involvement'!$E546)/COUNTA(_xlfn.TEXTSPLIT('12.Partner Involvement'!$H546,\";\"))),\"\")","v":""},{"$f":"IF(ISNUMBER(SEARCH(H$206,'12.Partner Involvement'!$H546))=TRUE,(('12.Partner Involvement'!$D546*'12.Partner Involvement'!$E546)/COUNTA(_xlfn.TEXTSPLIT('12.Partner Involvement'!$H546,\";\"))),\"\")","v":""}]
[{"$f":"IF(ISNUMBER(SEARCH(A$206,'12.Partner Involvement'!$G547))=TRUE,(('12.Partner Involvement'!$D547*'12.Partner Involvement'!$E547)/COUNTA(_xlfn.TEXTSPLIT('12.Partner Involvement'!$G547,\";\"))),\"\")","v":""},{"$f":"IF(ISNUMBER(SEARCH(B$206,'12.Partner Involvement'!$G547))=TRUE,(('12.Partner Involvement'!$D547*'12.Partner Involvement'!$E547)/COUNTA(_xlfn.TEXTSPLIT('12.Partner Involvement'!$G547,\";\"))),\"\")","v":""},{"$f":"IF(ISNUMBER(SEARCH(C$206,'12.Partner Involvement'!$G547))=TRUE,(('12.Partner Involvement'!$D547*'12.Partner Involvement'!$E547)/COUNTA(_xlfn.TEXTSPLIT('12.Partner Involvement'!$G547,\";\"))),\"\")","v":""},null,{"$f":"IF(ISNUMBER(SEARCH(E$206,'12.Partner Involvement'!$H547))=TRUE,(('12.Partner Involvement'!$D547*'12.Partner Involvement'!$E547)/COUNTA(_xlfn.TEXTSPLIT('12.Partner Involvement'!$H547,\";\"))),\"\")","v":""},{"$f":"IF(ISNUMBER(SEARCH(F$206,'12.Partner Involvement'!$H547))=TRUE,(('12.Partner Involvement'!$D547*'12.Partner Involvement'!$E547)/COUNTA(_xlfn.TEXTSPLIT('12.Partner Involvement'!$H547,\";\"))),\"\")","v":""},{"$f":"IF(ISNUMBER(SEARCH(G$206,'12.Partner Involvement'!$H547))=TRUE,(('12.Partner Involvement'!$D547*'12.Partner Involvement'!$E547)/COUNTA(_xlfn.TEXTSPLIT('12.Partner Involvement'!$H547,\";\"))),\"\")","v":""},{"$f":"IF(ISNUMBER(SEARCH(H$206,'12.Partner Involvement'!$H547))=TRUE,(('12.Partner Involvement'!$D547*'12.Partner Involvement'!$E547)/COUNTA(_xlfn.TEXTSPLIT('12.Partner Involvement'!$H547,\";\"))),\"\")","v":""}]
[{"$f":"IF(ISNUMBER(SEARCH(A$206,'12.Partner Involvement'!$G548))=TRUE,(('12.Partner Involvement'!$D548*'12.Partner Involvement'!$E548)/COUNTA(_xlfn.TEXTSPLIT('12.Partner Involvement'!$G548,\";\"))),\"\")","v":""},{"$f":"IF(ISNUMBER(SEARCH(B$206,'12.Partner Involvement'!$G548))=TRUE,(('12.Partner Involvement'!$D548*'12.Partner Involvement'!$E548)/COUNTA(_xlfn.TEXTSPLIT('12.Partner Involvement'!$G548,\";\"))),\"\")","v":""},{"$f":"IF(ISNUMBER(SEARCH(C$206,'12.Partner Involvement'!$G548))=TRUE,(('12.Partner Involvement'!$D548*'12.Partner Involvement'!$E548)/COUNTA(_xlfn.TEXTSPLIT('12.Partner Involvement'!$G548,\";\"))),\"\")","v":""},null,{"$f":"IF(ISNUMBER(SEARCH(E$206,'12.Partner Involvement'!$H548))=TRUE,(('12.Partner Involvement'!$D548*'12.Partner Involvement'!$E548)/COUNTA(_xlfn.TEXTSPLIT('12.Partner Involvement'!$H548,\";\"))),\"\")","v":""},{"$f":"IF(ISNUMBER(SEARCH(F$206,'12.Partner Involvement'!$H548))=TRUE,(('12.Partner Involvement'!$D548*'12.Partner Involvement'!$E548)/COUNTA(_xlfn.TEXTSPLIT('12.Partner Involvement'!$H548,\";\"))),\"\")","v":""},{"$f":"IF(ISNUMBER(SEARCH(G$206,'12.Partner Involvement'!$H548))=TRUE,(('12.Partner Involvement'!$D548*'12.Partner Involvement'!$E548)/COUNTA(_xlfn.TEXTSPLIT('12.Partner Involvement'!$H548,\";\"))),\"\")","v":""},{"$f":"IF(ISNUMBER(SEARCH(H$206,'12.Partner Involvement'!$H548))=TRUE,(('12.Partner Involvement'!$D548*'12.Partner Involvement'!$E548)/COUNTA(_xlfn.TEXTSPLIT('12.Partner Involvement'!$H548,\";\"))),\"\")","v":""}]
[{"$f":"IF(ISNUMBER(SEARCH(A$206,'12.Partner Involvement'!$G549))=TRUE,(('12.Partner Involvement'!$D549*'12.Partner Involvement'!$E549)/COUNTA(_xlfn.TEXTSPLIT('12.Partner Involvement'!$G549,\";\"))),\"\")","v":""},{"$f":"IF(ISNUMBER(SEARCH(B$206,'12.Partner Involvement'!$G549))=TRUE,(('12.Partner Involvement'!$D549*'12.Partner Involvement'!$E549)/COUNTA(_xlfn.TEXTSPLIT('12.Partner Involvement'!$G549,\";\"))),\"\")","v":""},{"$f":"IF(ISNUMBER(SEARCH(C$206,'12.Partner Involvement'!$G549))=TRUE,(('12.Partner Involvement'!$D549*'12.Partner Involvement'!$E549)/COUNTA(_xlfn.TEXTSPLIT('12.Partner Involvement'!$G549,\";\"))),\"\")","v":""},null,{"$f":"IF(ISNUMBER(SEARCH(E$206,'12.Partner Involvement'!$H549))=TRUE,(('12.Partner Involvement'!$D549*'12.Partner Involvement'!$E549)/COUNTA(_xlfn.TEXTSPLIT('12.Partner Involvement'!$H549,\";\"))),\"\")","v":""},{"$f":"IF(ISNUMBER(SEARCH(F$206,'12.Partner Involvement'!$H549))=TRUE,(('12.Partner Involvement'!$D549*'12.Partner Involvement'!$E549)/COUNTA(_xlfn.TEXTSPLIT('12.Partner Involvement'!$H549,\";\"))),\"\")","v":""},{"$f":"IF(ISNUMBER(SEARCH(G$206,'12.Partner Involvement'!$H549))=TRUE,(('12.Partner Involvement'!$D549*'12.Partner Involvement'!$E549)/COUNTA(_xlfn.TEXTSPLIT('12.Partner Involvement'!$H549,\";\"))),\"\")","v":""},{"$f":"IF(ISNUMBER(SEARCH(H$206,'12.Partner Involvement'!$H549))=TRUE,(('12.Partner Involvement'!$D549*'12.Partner Involvement'!$E549)/COUNTA(_xlfn.TEXTSPLIT('12.Partner Involvement'!$H549,\";\"))),\"\")","v":""}]
[{"$f":"IF(ISNUMBER(SEARCH(A$206,'12.Partner Involvement'!$G550))=TRUE,(('12.Partner Involvement'!$D550*'12.Partner Involvement'!$E550)/COUNTA(_xlfn.TEXTSPLIT('12.Partner Involvement'!$G550,\";\"))),\"\")","v":""},{"$f":"IF(ISNUMBER(SEARCH(B$206,'12.Partner Involvement'!$G550))=TRUE,(('12.Partner Involvement'!$D550*'12.Partner Involvement'!$E550)/COUNTA(_xlfn.TEXTSPLIT('12.Partner Involvement'!$G550,\";\"))),\"\")","v":""},{"$f":"IF(ISNUMBER(SEARCH(C$206,'12.Partner Involvement'!$G550))=TRUE,(('12.Partner Involvement'!$D550*'12.Partner Involvement'!$E550)/COUNTA(_xlfn.TEXTSPLIT('12.Partner Involvement'!$G550,\";\"))),\"\")","v":""},null,{"$f":"IF(ISNUMBER(SEARCH(E$206,'12.Partner Involvement'!$H550))=TRUE,(('12.Partner Involvement'!$D550*'12.Partner Involvement'!$E550)/COUNTA(_xlfn.TEXTSPLIT('12.Partner Involvement'!$H550,\";\"))),\"\")","v":""},{"$f":"IF(ISNUMBER(SEARCH(F$206,'12.Partner Involvement'!$H550))=TRUE,(('12.Partner Involvement'!$D550*'12.Partner Involvement'!$E550)/COUNTA(_xlfn.TEXTSPLIT('12.Partner Involvement'!$H550,\";\"))),\"\")","v":""},{"$f":"IF(ISNUMBER(SEARCH(G$206,'12.Partner Involvement'!$H550))=TRUE,(('12.Partner Involvement'!$D550*'12.Partner Involvement'!$E550)/COUNTA(_xlfn.TEXTSPLIT('12.Partner Involvement'!$H550,\";\"))),\"\")","v":""},{"$f":"IF(ISNUMBER(SEARCH(H$206,'12.Partner Involvement'!$H550))=TRUE,(('12.Partner Involvement'!$D550*'12.Partner Involvement'!$E550)/COUNTA(_xlfn.TEXTSPLIT('12.Partner Involvement'!$H550,\";\"))),\"\")","v":""}]
[{"$f":"IF(ISNUMBER(SEARCH(A$206,'12.Partner Involvement'!$G551))=TRUE,(('12.Partner Involvement'!$D551*'12.Partner Involvement'!$E551)/COUNTA(_xlfn.TEXTSPLIT('12.Partner Involvement'!$G551,\";\"))),\"\")","v":""},{"$f":"IF(ISNUMBER(SEARCH(B$206,'12.Partner Involvement'!$G551))=TRUE,(('12.Partner Involvement'!$D551*'12.Partner Involvement'!$E551)/COUNTA(_xlfn.TEXTSPLIT('12.Partner Involvement'!$G551,\";\"))),\"\")","v":""},{"$f":"IF(ISNUMBER(SEARCH(C$206,'12.Partner Involvement'!$G551))=TRUE,(('12.Partner Involvement'!$D551*'12.Partner Involvement'!$E551)/COUNTA(_xlfn.TEXTSPLIT('12.Partner Involvement'!$G551,\";\"))),\"\")","v":""},null,{"$f":"IF(ISNUMBER(SEARCH(E$206,'12.Partner Involvement'!$H551))=TRUE,(('12.Partner Involvement'!$D551*'12.Partner Involvement'!$E551)/COUNTA(_xlfn.TEXTSPLIT('12.Partner Involvement'!$H551,\";\"))),\"\")","v":""},{"$f":"IF(ISNUMBER(SEARCH(F$206,'12.Partner Involvement'!$H551))=TRUE,(('12.Partner Involvement'!$D551*'12.Partner Involvement'!$E551)/COUNTA(_xlfn.TEXTSPLIT('12.Partner Involvement'!$H551,\";\"))),\"\")","v":""},{"$f":"IF(ISNUMBER(SEARCH(G$206,'12.Partner Involvement'!$H551))=TRUE,(('12.Partner Involvement'!$D551*'12.Partner Involvement'!$E551)/COUNTA(_xlfn.TEXTSPLIT('12.Partner Involvement'!$H551,\";\"))),\"\")","v":""},{"$f":"IF(ISNUMBER(SEARCH(H$206,'12.Partner Involvement'!$H551))=TRUE,(('12.Partner Involvement'!$D551*'12.Partner Involvement'!$E551)/COUNTA(_xlfn.TEXTSPLIT('12.Partner Involvement'!$H551,\";\"))),\"\")","v":""}]
[{"$f":"IF(ISNUMBER(SEARCH(A$206,'12.Partner Involvement'!$G552))=TRUE,(('12.Partner Involvement'!$D552*'12.Partner Involvement'!$E552)/COUNTA(_xlfn.TEXTSPLIT('12.Partner Involvement'!$G552,\";\"))),\"\")","v":""},{"$f":"IF(ISNUMBER(SEARCH(B$206,'12.Partner Involvement'!$G552))=TRUE,(('12.Partner Involvement'!$D552*'12.Partner Involvement'!$E552)/COUNTA(_xlfn.TEXTSPLIT('12.Partner Involvement'!$G552,\";\"))),\"\")","v":""},{"$f":"IF(ISNUMBER(SEARCH(C$206,'12.Partner Involvement'!$G552))=TRUE,(('12.Partner Involvement'!$D552*'12.Partner Involvement'!$E552)/COUNTA(_xlfn.TEXTSPLIT('12.Partner Involvement'!$G552,\";\"))),\"\")","v":""},null,{"$f":"IF(ISNUMBER(SEARCH(E$206,'12.Partner Involvement'!$H552))=TRUE,(('12.Partner Involvement'!$D552*'12.Partner Involvement'!$E552)/COUNTA(_xlfn.TEXTSPLIT('12.Partner Involvement'!$H552,\";\"))),\"\")","v":""},{"$f":"IF(ISNUMBER(SEARCH(F$206,'12.Partner Involvement'!$H552))=TRUE,(('12.Partner Involvement'!$D552*'12.Partner Involvement'!$E552)/COUNTA(_xlfn.TEXTSPLIT('12.Partner Involvement'!$H552,\";\"))),\"\")","v":""},{"$f":"IF(ISNUMBER(SEARCH(G$206,'12.Partner Involvement'!$H552))=TRUE,(('12.Partner Involvement'!$D552*'12.Partner Involvement'!$E552)/COUNTA(_xlfn.TEXTSPLIT('12.Partner Involvement'!$H552,\";\"))),\"\")","v":""},{"$f":"IF(ISNUMBER(SEARCH(H$206,'12.Partner Involvement'!$H552))=TRUE,(('12.Partner Involvement'!$D552*'12.Partner Involvement'!$E552)/COUNTA(_xlfn.TEXTSPLIT('12.Partner Involvement'!$H552,\";\"))),\"\")","v":""}]
[{"$f":"IF(ISNUMBER(SEARCH(A$206,'12.Partner Involvement'!$G553))=TRUE,(('12.Partner Involvement'!$D553*'12.Partner Involvement'!$E553)/COUNTA(_xlfn.TEXTSPLIT('12.Partner Involvement'!$G553,\";\"))),\"\")","v":""},{"$f":"IF(ISNUMBER(SEARCH(B$206,'12.Partner Involvement'!$G553))=TRUE,(('12.Partner Involvement'!$D553*'12.Partner Involvement'!$E553)/COUNTA(_xlfn.TEXTSPLIT('12.Partner Involvement'!$G553,\";\"))),\"\")","v":""},{"$f":"IF(ISNUMBER(SEARCH(C$206,'12.Partner Involvement'!$G553))=TRUE,(('12.Partner Involvement'!$D553*'12.Partner Involvement'!$E553)/COUNTA(_xlfn.TEXTSPLIT('12.Partner Involvement'!$G553,\";\"))),\"\")","v":""},null,{"$f":"IF(ISNUMBER(SEARCH(E$206,'12.Partner Involvement'!$H553))=TRUE,(('12.Partner Involvement'!$D553*'12.Partner Involvement'!$E553)/COUNTA(_xlfn.TEXTSPLIT('12.Partner Involvement'!$H553,\";\"))),\"\")","v":""},{"$f":"IF(ISNUMBER(SEARCH(F$206,'12.Partner Involvement'!$H553))=TRUE,(('12.Partner Involvement'!$D553*'12.Partner Involvement'!$E553)/COUNTA(_xlfn.TEXTSPLIT('12.Partner Involvement'!$H553,\";\"))),\"\")","v":""},{"$f":"IF(ISNUMBER(SEARCH(G$206,'12.Partner Involvement'!$H553))=TRUE,(('12.Partner Involvement'!$D553*'12.Partner Involvement'!$E553)/COUNTA(_xlfn.TEXTSPLIT('12.Partner Involvement'!$H553,\";\"))),\"\")","v":""},{"$f":"IF(ISNUMBER(SEARCH(H$206,'12.Partner Involvement'!$H553))=TRUE,(('12.Partner Involvement'!$D553*'12.Partner Involvement'!$E553)/COUNTA(_xlfn.TEXTSPLIT('12.Partner Involvement'!$H553,\";\"))),\"\")","v":""}]
[{"$f":"IF(ISNUMBER(SEARCH(A$206,'12.Partner Involvement'!$G554))=TRUE,(('12.Partner Involvement'!$D554*'12.Partner Involvement'!$E554)/COUNTA(_xlfn.TEXTSPLIT('12.Partner Involvement'!$G554,\";\"))),\"\")","v":""},{"$f":"IF(ISNUMBER(SEARCH(B$206,'12.Partner Involvement'!$G554))=TRUE,(('12.Partner Involvement'!$D554*'12.Partner Involvement'!$E554)/COUNTA(_xlfn.TEXTSPLIT('12.Partner Involvement'!$G554,\";\"))),\"\")","v":""},{"$f":"IF(ISNUMBER(SEARCH(C$206,'12.Partner Involvement'!$G554))=TRUE,(('12.Partner Involvement'!$D554*'12.Partner Involvement'!$E554)/COUNTA(_xlfn.TEXTSPLIT('12.Partner Involvement'!$G554,\";\"))),\"\")","v":""},null,{"$f":"IF(ISNUMBER(SEARCH(E$206,'12.Partner Involvement'!$H554))=TRUE,(('12.Partner Involvement'!$D554*'12.Partner Involvement'!$E554)/COUNTA(_xlfn.TEXTSPLIT('12.Partner Involvement'!$H554,\";\"))),\"\")","v":""},{"$f":"IF(ISNUMBER(SEARCH(F$206,'12.Partner Involvement'!$H554))=TRUE,(('12.Partner Involvement'!$D554*'12.Partner Involvement'!$E554)/COUNTA(_xlfn.TEXTSPLIT('12.Partner Involvement'!$H554,\";\"))),\"\")","v":""},{"$f":"IF(ISNUMBER(SEARCH(G$206,'12.Partner Involvement'!$H554))=TRUE,(('12.Partner Involvement'!$D554*'12.Partner Involvement'!$E554)/COUNTA(_xlfn.TEXTSPLIT('12.Partner Involvement'!$H554,\";\"))),\"\")","v":""},{"$f":"IF(ISNUMBER(SEARCH(H$206,'12.Partner Involvement'!$H554))=TRUE,(('12.Partner Involvement'!$D554*'12.Partner Involvement'!$E554)/COUNTA(_xlfn.TEXTSPLIT('12.Partner Involvement'!$H554,\";\"))),\"\")","v":""}]
[{"$f":"IF(ISNUMBER(SEARCH(A$206,'12.Partner Involvement'!$G555))=TRUE,(('12.Partner Involvement'!$D555*'12.Partner Involvement'!$E555)/COUNTA(_xlfn.TEXTSPLIT('12.Partner Involvement'!$G555,\";\"))),\"\")","v":""},{"$f":"IF(ISNUMBER(SEARCH(B$206,'12.Partner Involvement'!$G555))=TRUE,(('12.Partner Involvement'!$D555*'12.Partner Involvement'!$E555)/COUNTA(_xlfn.TEXTSPLIT('12.Partner Involvement'!$G555,\";\"))),\"\")","v":""},{"$f":"IF(ISNUMBER(SEARCH(C$206,'12.Partner Involvement'!$G555))=TRUE,(('12.Partner Involvement'!$D555*'12.Partner Involvement'!$E555)/COUNTA(_xlfn.TEXTSPLIT('12.Partner Involvement'!$G555,\";\"))),\"\")","v":""},null,{"$f":"IF(ISNUMBER(SEARCH(E$206,'12.Partner Involvement'!$H555))=TRUE,(('12.Partner Involvement'!$D555*'12.Partner Involvement'!$E555)/COUNTA(_xlfn.TEXTSPLIT('12.Partner Involvement'!$H555,\";\"))),\"\")","v":""},{"$f":"IF(ISNUMBER(SEARCH(F$206,'12.Partner Involvement'!$H555))=TRUE,(('12.Partner Involvement'!$D555*'12.Partner Involvement'!$E555)/COUNTA(_xlfn.TEXTSPLIT('12.Partner Involvement'!$H555,\";\"))),\"\")","v":""},{"$f":"IF(ISNUMBER(SEARCH(G$206,'12.Partner Involvement'!$H555))=TRUE,(('12.Partner Involvement'!$D555*'12.Partner Involvement'!$E555)/COUNTA(_xlfn.TEXTSPLIT('12.Partner Involvement'!$H555,\";\"))),\"\")","v":""},{"$f":"IF(ISNUMBER(SEARCH(H$206,'12.Partner Involvement'!$H555))=TRUE,(('12.Partner Involvement'!$D555*'12.Partner Involvement'!$E555)/COUNTA(_xlfn.TEXTSPLIT('12.Partner Involvement'!$H555,\";\"))),\"\")","v":""}]
[{"$f":"IF(ISNUMBER(SEARCH(A$206,'12.Partner Involvement'!$G556))=TRUE,(('12.Partner Involvement'!$D556*'12.Partner Involvement'!$E556)/COUNTA(_xlfn.TEXTSPLIT('12.Partner Involvement'!$G556,\";\"))),\"\")","v":""},{"$f":"IF(ISNUMBER(SEARCH(B$206,'12.Partner Involvement'!$G556))=TRUE,(('12.Partner Involvement'!$D556*'12.Partner Involvement'!$E556)/COUNTA(_xlfn.TEXTSPLIT('12.Partner Involvement'!$G556,\";\"))),\"\")","v":""},{"$f":"IF(ISNUMBER(SEARCH(C$206,'12.Partner Involvement'!$G556))=TRUE,(('12.Partner Involvement'!$D556*'12.Partner Involvement'!$E556)/COUNTA(_xlfn.TEXTSPLIT('12.Partner Involvement'!$G556,\";\"))),\"\")","v":""},null,{"$f":"IF(ISNUMBER(SEARCH(E$206,'12.Partner Involvement'!$H556))=TRUE,(('12.Partner Involvement'!$D556*'12.Partner Involvement'!$E556)/COUNTA(_xlfn.TEXTSPLIT('12.Partner Involvement'!$H556,\";\"))),\"\")","v":""},{"$f":"IF(ISNUMBER(SEARCH(F$206,'12.Partner Involvement'!$H556))=TRUE,(('12.Partner Involvement'!$D556*'12.Partner Involvement'!$E556)/COUNTA(_xlfn.TEXTSPLIT('12.Partner Involvement'!$H556,\";\"))),\"\")","v":""},{"$f":"IF(ISNUMBER(SEARCH(G$206,'12.Partner Involvement'!$H556))=TRUE,(('12.Partner Involvement'!$D556*'12.Partner Involvement'!$E556)/COUNTA(_xlfn.TEXTSPLIT('12.Partner Involvement'!$H556,\";\"))),\"\")","v":""},{"$f":"IF(ISNUMBER(SEARCH(H$206,'12.Partner Involvement'!$H556))=TRUE,(('12.Partner Involvement'!$D556*'12.Partner Involvement'!$E556)/COUNTA(_xlfn.TEXTSPLIT('12.Partner Involvement'!$H556,\";\"))),\"\")","v":""}]
[{"$f":"IF(ISNUMBER(SEARCH(A$206,'12.Partner Involvement'!$G557))=TRUE,(('12.Partner Involvement'!$D557*'12.Partner Involvement'!$E557)/COUNTA(_xlfn.TEXTSPLIT('12.Partner Involvement'!$G557,\";\"))),\"\")","v":""},{"$f":"IF(ISNUMBER(SEARCH(B$206,'12.Partner Involvement'!$G557))=TRUE,(('12.Partner Involvement'!$D557*'12.Partner Involvement'!$E557)/COUNTA(_xlfn.TEXTSPLIT('12.Partner Involvement'!$G557,\";\"))),\"\")","v":""},{"$f":"IF(ISNUMBER(SEARCH(C$206,'12.Partner Involvement'!$G557))=TRUE,(('12.Partner Involvement'!$D557*'12.Partner Involvement'!$E557)/COUNTA(_xlfn.TEXTSPLIT('12.Partner Involvement'!$G557,\";\"))),\"\")","v":""},null,{"$f":"IF(ISNUMBER(SEARCH(E$206,'12.Partner Involvement'!$H557))=TRUE,(('12.Partner Involvement'!$D557*'12.Partner Involvement'!$E557)/COUNTA(_xlfn.TEXTSPLIT('12.Partner Involvement'!$H557,\";\"))),\"\")","v":""},{"$f":"IF(ISNUMBER(SEARCH(F$206,'12.Partner Involvement'!$H557))=TRUE,(('12.Partner Involvement'!$D557*'12.Partner Involvement'!$E557)/COUNTA(_xlfn.TEXTSPLIT('12.Partner Involvement'!$H557,\";\"))),\"\")","v":""},{"$f":"IF(ISNUMBER(SEARCH(G$206,'12.Partner Involvement'!$H557))=TRUE,(('12.Partner Involvement'!$D557*'12.Partner Involvement'!$E557)/COUNTA(_xlfn.TEXTSPLIT('12.Partner Involvement'!$H557,\";\"))),\"\")","v":""},{"$f":"IF(ISNUMBER(SEARCH(H$206,'12.Partner Involvement'!$H557))=TRUE,(('12.Partner Involvement'!$D557*'12.Partner Involvement'!$E557)/COUNTA(_xlfn.TEXTSPLIT('12.Partner Involvement'!$H557,\";\"))),\"\")","v":""}]
[{"$f":"IF(ISNUMBER(SEARCH(A$206,'12.Partner Involvement'!$G558))=TRUE,(('12.Partner Involvement'!$D558*'12.Partner Involvement'!$E558)/COUNTA(_xlfn.TEXTSPLIT('12.Partner Involvement'!$G558,\";\"))),\"\")","v":""},{"$f":"IF(ISNUMBER(SEARCH(B$206,'12.Partner Involvement'!$G558))=TRUE,(('12.Partner Involvement'!$D558*'12.Partner Involvement'!$E558)/COUNTA(_xlfn.TEXTSPLIT('12.Partner Involvement'!$G558,\";\"))),\"\")","v":""},{"$f":"IF(ISNUMBER(SEARCH(C$206,'12.Partner Involvement'!$G558))=TRUE,(('12.Partner Involvement'!$D558*'12.Partner Involvement'!$E558)/COUNTA(_xlfn.TEXTSPLIT('12.Partner Involvement'!$G558,\";\"))),\"\")","v":""},null,{"$f":"IF(ISNUMBER(SEARCH(E$206,'12.Partner Involvement'!$H558))=TRUE,(('12.Partner Involvement'!$D558*'12.Partner Involvement'!$E558)/COUNTA(_xlfn.TEXTSPLIT('12.Partner Involvement'!$H558,\";\"))),\"\")","v":""},{"$f":"IF(ISNUMBER(SEARCH(F$206,'12.Partner Involvement'!$H558))=TRUE,(('12.Partner Involvement'!$D558*'12.Partner Involvement'!$E558)/COUNTA(_xlfn.TEXTSPLIT('12.Partner Involvement'!$H558,\";\"))),\"\")","v":""},{"$f":"IF(ISNUMBER(SEARCH(G$206,'12.Partner Involvement'!$H558))=TRUE,(('12.Partner Involvement'!$D558*'12.Partner Involvement'!$E558)/COUNTA(_xlfn.TEXTSPLIT('12.Partner Involvement'!$H558,\";\"))),\"\")","v":""},{"$f":"IF(ISNUMBER(SEARCH(H$206,'12.Partner Involvement'!$H558))=TRUE,(('12.Partner Involvement'!$D558*'12.Partner Involvement'!$E558)/COUNTA(_xlfn.TEXTSPLIT('12.Partner Involvement'!$H558,\";\"))),\"\")","v":""}]
[{"$f":"IF(ISNUMBER(SEARCH(A$206,'12.Partner Involvement'!$G559))=TRUE,(('12.Partner Involvement'!$D559*'12.Partner Involvement'!$E559)/COUNTA(_xlfn.TEXTSPLIT('12.Partner Involvement'!$G559,\";\"))),\"\")","v":""},{"$f":"IF(ISNUMBER(SEARCH(B$206,'12.Partner Involvement'!$G559))=TRUE,(('12.Partner Involvement'!$D559*'12.Partner Involvement'!$E559)/COUNTA(_xlfn.TEXTSPLIT('12.Partner Involvement'!$G559,\";\"))),\"\")","v":""},{"$f":"IF(ISNUMBER(SEARCH(C$206,'12.Partner Involvement'!$G559))=TRUE,(('12.Partner Involvement'!$D559*'12.Partner Involvement'!$E559)/COUNTA(_xlfn.TEXTSPLIT('12.Partner Involvement'!$G559,\";\"))),\"\")","v":""},null,{"$f":"IF(ISNUMBER(SEARCH(E$206,'12.Partner Involvement'!$H559))=TRUE,(('12.Partner Involvement'!$D559*'12.Partner Involvement'!$E559)/COUNTA(_xlfn.TEXTSPLIT('12.Partner Involvement'!$H559,\";\"))),\"\")","v":""},{"$f":"IF(ISNUMBER(SEARCH(F$206,'12.Partner Involvement'!$H559))=TRUE,(('12.Partner Involvement'!$D559*'12.Partner Involvement'!$E559)/COUNTA(_xlfn.TEXTSPLIT('12.Partner Involvement'!$H559,\";\"))),\"\")","v":""},{"$f":"IF(ISNUMBER(SEARCH(G$206,'12.Partner Involvement'!$H559))=TRUE,(('12.Partner Involvement'!$D559*'12.Partner Involvement'!$E559)/COUNTA(_xlfn.TEXTSPLIT('12.Partner Involvement'!$H559,\";\"))),\"\")","v":""},{"$f":"IF(ISNUMBER(SEARCH(H$206,'12.Partner Involvement'!$H559))=TRUE,(('12.Partner Involvement'!$D559*'12.Partner Involvement'!$E559)/COUNTA(_xlfn.TEXTSPLIT('12.Partner Involvement'!$H559,\";\"))),\"\")","v":""}]
[{"$f":"IF(ISNUMBER(SEARCH(A$206,'12.Partner Involvement'!$G560))=TRUE,(('12.Partner Involvement'!$D560*'12.Partner Involvement'!$E560)/COUNTA(_xlfn.TEXTSPLIT('12.Partner Involvement'!$G560,\";\"))),\"\")","v":""},{"$f":"IF(ISNUMBER(SEARCH(B$206,'12.Partner Involvement'!$G560))=TRUE,(('12.Partner Involvement'!$D560*'12.Partner Involvement'!$E560)/COUNTA(_xlfn.TEXTSPLIT('12.Partner Involvement'!$G560,\";\"))),\"\")","v":""},{"$f":"IF(ISNUMBER(SEARCH(C$206,'12.Partner Involvement'!$G560))=TRUE,(('12.Partner Involvement'!$D560*'12.Partner Involvement'!$E560)/COUNTA(_xlfn.TEXTSPLIT('12.Partner Involvement'!$G560,\";\"))),\"\")","v":""},null,{"$f":"IF(ISNUMBER(SEARCH(E$206,'12.Partner Involvement'!$H560))=TRUE,(('12.Partner Involvement'!$D560*'12.Partner Involvement'!$E560)/COUNTA(_xlfn.TEXTSPLIT('12.Partner Involvement'!$H560,\";\"))),\"\")","v":""},{"$f":"IF(ISNUMBER(SEARCH(F$206,'12.Partner Involvement'!$H560))=TRUE,(('12.Partner Involvement'!$D560*'12.Partner Involvement'!$E560)/COUNTA(_xlfn.TEXTSPLIT('12.Partner Involvement'!$H560,\";\"))),\"\")","v":""},{"$f":"IF(ISNUMBER(SEARCH(G$206,'12.Partner Involvement'!$H560))=TRUE,(('12.Partner Involvement'!$D560*'12.Partner Involvement'!$E560)/COUNTA(_xlfn.TEXTSPLIT('12.Partner Involvement'!$H560,\";\"))),\"\")","v":""},{"$f":"IF(ISNUMBER(SEARCH(H$206,'12.Partner Involvement'!$H560))=TRUE,(('12.Partner Involvement'!$D560*'12.Partner Involvement'!$E560)/COUNTA(_xlfn.TEXTSPLIT('12.Partner Involvement'!$H560,\";\"))),\"\")","v":""}]
[{"$f":"IF(ISNUMBER(SEARCH(A$206,'12.Partner Involvement'!$G561))=TRUE,(('12.Partner Involvement'!$D561*'12.Partner Involvement'!$E561)/COUNTA(_xlfn.TEXTSPLIT('12.Partner Involvement'!$G561,\";\"))),\"\")","v":""},{"$f":"IF(ISNUMBER(SEARCH(B$206,'12.Partner Involvement'!$G561))=TRUE,(('12.Partner Involvement'!$D561*'12.Partner Involvement'!$E561)/COUNTA(_xlfn.TEXTSPLIT('12.Partner Involvement'!$G561,\";\"))),\"\")","v":""},{"$f":"IF(ISNUMBER(SEARCH(C$206,'12.Partner Involvement'!$G561))=TRUE,(('12.Partner Involvement'!$D561*'12.Partner Involvement'!$E561)/COUNTA(_xlfn.TEXTSPLIT('12.Partner Involvement'!$G561,\";\"))),\"\")","v":""},null,{"$f":"IF(ISNUMBER(SEARCH(E$206,'12.Partner Involvement'!$H561))=TRUE,(('12.Partner Involvement'!$D561*'12.Partner Involvement'!$E561)/COUNTA(_xlfn.TEXTSPLIT('12.Partner Involvement'!$H561,\";\"))),\"\")","v":""},{"$f":"IF(ISNUMBER(SEARCH(F$206,'12.Partner Involvement'!$H561))=TRUE,(('12.Partner Involvement'!$D561*'12.Partner Involvement'!$E561)/COUNTA(_xlfn.TEXTSPLIT('12.Partner Involvement'!$H561,\";\"))),\"\")","v":""},{"$f":"IF(ISNUMBER(SEARCH(G$206,'12.Partner Involvement'!$H561))=TRUE,(('12.Partner Involvement'!$D561*'12.Partner Involvement'!$E561)/COUNTA(_xlfn.TEXTSPLIT('12.Partner Involvement'!$H561,\";\"))),\"\")","v":""},{"$f":"IF(ISNUMBER(SEARCH(H$206,'12.Partner Involvement'!$H561))=TRUE,(('12.Partner Involvement'!$D561*'12.Partner Involvement'!$E561)/COUNTA(_xlfn.TEXTSPLIT('12.Partner Involvement'!$H561,\";\"))),\"\")","v":""}]
[{"$f":"IF(ISNUMBER(SEARCH(A$206,'12.Partner Involvement'!$G562))=TRUE,(('12.Partner Involvement'!$D562*'12.Partner Involvement'!$E562)/COUNTA(_xlfn.TEXTSPLIT('12.Partner Involvement'!$G562,\";\"))),\"\")","v":""},{"$f":"IF(ISNUMBER(SEARCH(B$206,'12.Partner Involvement'!$G562))=TRUE,(('12.Partner Involvement'!$D562*'12.Partner Involvement'!$E562)/COUNTA(_xlfn.TEXTSPLIT('12.Partner Involvement'!$G562,\";\"))),\"\")","v":""},{"$f":"IF(ISNUMBER(SEARCH(C$206,'12.Partner Involvement'!$G562))=TRUE,(('12.Partner Involvement'!$D562*'12.Partner Involvement'!$E562)/COUNTA(_xlfn.TEXTSPLIT('12.Partner Involvement'!$G562,\";\"))),\"\")","v":""},null,{"$f":"IF(ISNUMBER(SEARCH(E$206,'12.Partner Involvement'!$H562))=TRUE,(('12.Partner Involvement'!$D562*'12.Partner Involvement'!$E562)/COUNTA(_xlfn.TEXTSPLIT('12.Partner Involvement'!$H562,\";\"))),\"\")","v":""},{"$f":"IF(ISNUMBER(SEARCH(F$206,'12.Partner Involvement'!$H562))=TRUE,(('12.Partner Involvement'!$D562*'12.Partner Involvement'!$E562)/COUNTA(_xlfn.TEXTSPLIT('12.Partner Involvement'!$H562,\";\"))),\"\")","v":""},{"$f":"IF(ISNUMBER(SEARCH(G$206,'12.Partner Involvement'!$H562))=TRUE,(('12.Partner Involvement'!$D562*'12.Partner Involvement'!$E562)/COUNTA(_xlfn.TEXTSPLIT('12.Partner Involvement'!$H562,\";\"))),\"\")","v":""},{"$f":"IF(ISNUMBER(SEARCH(H$206,'12.Partner Involvement'!$H562))=TRUE,(('12.Partner Involvement'!$D562*'12.Partner Involvement'!$E562)/COUNTA(_xlfn.TEXTSPLIT('12.Partner Involvement'!$H562,\";\"))),\"\")","v":""}]
[{"$f":"IF(ISNUMBER(SEARCH(A$206,'12.Partner Involvement'!$G563))=TRUE,(('12.Partner Involvement'!$D563*'12.Partner Involvement'!$E563)/COUNTA(_xlfn.TEXTSPLIT('12.Partner Involvement'!$G563,\";\"))),\"\")","v":""},{"$f":"IF(ISNUMBER(SEARCH(B$206,'12.Partner Involvement'!$G563))=TRUE,(('12.Partner Involvement'!$D563*'12.Partner Involvement'!$E563)/COUNTA(_xlfn.TEXTSPLIT('12.Partner Involvement'!$G563,\";\"))),\"\")","v":""},{"$f":"IF(ISNUMBER(SEARCH(C$206,'12.Partner Involvement'!$G563))=TRUE,(('12.Partner Involvement'!$D563*'12.Partner Involvement'!$E563)/COUNTA(_xlfn.TEXTSPLIT('12.Partner Involvement'!$G563,\";\"))),\"\")","v":""},null,{"$f":"IF(ISNUMBER(SEARCH(E$206,'12.Partner Involvement'!$H563))=TRUE,(('12.Partner Involvement'!$D563*'12.Partner Involvement'!$E563)/COUNTA(_xlfn.TEXTSPLIT('12.Partner Involvement'!$H563,\";\"))),\"\")","v":""},{"$f":"IF(ISNUMBER(SEARCH(F$206,'12.Partner Involvement'!$H563))=TRUE,(('12.Partner Involvement'!$D563*'12.Partner Involvement'!$E563)/COUNTA(_xlfn.TEXTSPLIT('12.Partner Involvement'!$H563,\";\"))),\"\")","v":""},{"$f":"IF(ISNUMBER(SEARCH(G$206,'12.Partner Involvement'!$H563))=TRUE,(('12.Partner Involvement'!$D563*'12.Partner Involvement'!$E563)/COUNTA(_xlfn.TEXTSPLIT('12.Partner Involvement'!$H563,\";\"))),\"\")","v":""},{"$f":"IF(ISNUMBER(SEARCH(H$206,'12.Partner Involvement'!$H563))=TRUE,(('12.Partner Involvement'!$D563*'12.Partner Involvement'!$E563)/COUNTA(_xlfn.TEXTSPLIT('12.Partner Involvement'!$H563,\";\"))),\"\")","v":""}]
[{"$f":"IF(ISNUMBER(SEARCH(A$206,'12.Partner Involvement'!$G564))=TRUE,(('12.Partner Involvement'!$D564*'12.Partner Involvement'!$E564)/COUNTA(_xlfn.TEXTSPLIT('12.Partner Involvement'!$G564,\";\"))),\"\")","v":""},{"$f":"IF(ISNUMBER(SEARCH(B$206,'12.Partner Involvement'!$G564))=TRUE,(('12.Partner Involvement'!$D564*'12.Partner Involvement'!$E564)/COUNTA(_xlfn.TEXTSPLIT('12.Partner Involvement'!$G564,\";\"))),\"\")","v":""},{"$f":"IF(ISNUMBER(SEARCH(C$206,'12.Partner Involvement'!$G564))=TRUE,(('12.Partner Involvement'!$D564*'12.Partner Involvement'!$E564)/COUNTA(_xlfn.TEXTSPLIT('12.Partner Involvement'!$G564,\";\"))),\"\")","v":""},null,{"$f":"IF(ISNUMBER(SEARCH(E$206,'12.Partner Involvement'!$H564))=TRUE,(('12.Partner Involvement'!$D564*'12.Partner Involvement'!$E564)/COUNTA(_xlfn.TEXTSPLIT('12.Partner Involvement'!$H564,\";\"))),\"\")","v":""},{"$f":"IF(ISNUMBER(SEARCH(F$206,'12.Partner Involvement'!$H564))=TRUE,(('12.Partner Involvement'!$D564*'12.Partner Involvement'!$E564)/COUNTA(_xlfn.TEXTSPLIT('12.Partner Involvement'!$H564,\";\"))),\"\")","v":""},{"$f":"IF(ISNUMBER(SEARCH(G$206,'12.Partner Involvement'!$H564))=TRUE,(('12.Partner Involvement'!$D564*'12.Partner Involvement'!$E564)/COUNTA(_xlfn.TEXTSPLIT('12.Partner Involvement'!$H564,\";\"))),\"\")","v":""},{"$f":"IF(ISNUMBER(SEARCH(H$206,'12.Partner Involvement'!$H564))=TRUE,(('12.Partner Involvement'!$D564*'12.Partner Involvement'!$E564)/COUNTA(_xlfn.TEXTSPLIT('12.Partner Involvement'!$H564,\";\"))),\"\")","v":""}]
[{"$f":"IF(ISNUMBER(SEARCH(A$206,'12.Partner Involvement'!$G565))=TRUE,(('12.Partner Involvement'!$D565*'12.Partner Involvement'!$E565)/COUNTA(_xlfn.TEXTSPLIT('12.Partner Involvement'!$G565,\";\"))),\"\")","v":""},{"$f":"IF(ISNUMBER(SEARCH(B$206,'12.Partner Involvement'!$G565))=TRUE,(('12.Partner Involvement'!$D565*'12.Partner Involvement'!$E565)/COUNTA(_xlfn.TEXTSPLIT('12.Partner Involvement'!$G565,\";\"))),\"\")","v":""},{"$f":"IF(ISNUMBER(SEARCH(C$206,'12.Partner Involvement'!$G565))=TRUE,(('12.Partner Involvement'!$D565*'12.Partner Involvement'!$E565)/COUNTA(_xlfn.TEXTSPLIT('12.Partner Involvement'!$G565,\";\"))),\"\")","v":""},null,{"$f":"IF(ISNUMBER(SEARCH(E$206,'12.Partner Involvement'!$H565))=TRUE,(('12.Partner Involvement'!$D565*'12.Partner Involvement'!$E565)/COUNTA(_xlfn.TEXTSPLIT('12.Partner Involvement'!$H565,\";\"))),\"\")","v":""},{"$f":"IF(ISNUMBER(SEARCH(F$206,'12.Partner Involvement'!$H565))=TRUE,(('12.Partner Involvement'!$D565*'12.Partner Involvement'!$E565)/COUNTA(_xlfn.TEXTSPLIT('12.Partner Involvement'!$H565,\";\"))),\"\")","v":""},{"$f":"IF(ISNUMBER(SEARCH(G$206,'12.Partner Involvement'!$H565))=TRUE,(('12.Partner Involvement'!$D565*'12.Partner Involvement'!$E565)/COUNTA(_xlfn.TEXTSPLIT('12.Partner Involvement'!$H565,\";\"))),\"\")","v":""},{"$f":"IF(ISNUMBER(SEARCH(H$206,'12.Partner Involvement'!$H565))=TRUE,(('12.Partner Involvement'!$D565*'12.Partner Involvement'!$E565)/COUNTA(_xlfn.TEXTSPLIT('12.Partner Involvement'!$H565,\";\"))),\"\")","v":""}]
[{"$f":"IF(ISNUMBER(SEARCH(A$206,'12.Partner Involvement'!$G566))=TRUE,(('12.Partner Involvement'!$D566*'12.Partner Involvement'!$E566)/COUNTA(_xlfn.TEXTSPLIT('12.Partner Involvement'!$G566,\";\"))),\"\")","v":""},{"$f":"IF(ISNUMBER(SEARCH(B$206,'12.Partner Involvement'!$G566))=TRUE,(('12.Partner Involvement'!$D566*'12.Partner Involvement'!$E566)/COUNTA(_xlfn.TEXTSPLIT('12.Partner Involvement'!$G566,\";\"))),\"\")","v":""},{"$f":"IF(ISNUMBER(SEARCH(C$206,'12.Partner Involvement'!$G566))=TRUE,(('12.Partner Involvement'!$D566*'12.Partner Involvement'!$E566)/COUNTA(_xlfn.TEXTSPLIT('12.Partner Involvement'!$G566,\";\"))),\"\")","v":""},null,{"$f":"IF(ISNUMBER(SEARCH(E$206,'12.Partner Involvement'!$H566))=TRUE,(('12.Partner Involvement'!$D566*'12.Partner Involvement'!$E566)/COUNTA(_xlfn.TEXTSPLIT('12.Partner Involvement'!$H566,\";\"))),\"\")","v":""},{"$f":"IF(ISNUMBER(SEARCH(F$206,'12.Partner Involvement'!$H566))=TRUE,(('12.Partner Involvement'!$D566*'12.Partner Involvement'!$E566)/COUNTA(_xlfn.TEXTSPLIT('12.Partner Involvement'!$H566,\";\"))),\"\")","v":""},{"$f":"IF(ISNUMBER(SEARCH(G$206,'12.Partner Involvement'!$H566))=TRUE,(('12.Partner Involvement'!$D566*'12.Partner Involvement'!$E566)/COUNTA(_xlfn.TEXTSPLIT('12.Partner Involvement'!$H566,\";\"))),\"\")","v":""},{"$f":"IF(ISNUMBER(SEARCH(H$206,'12.Partner Involvement'!$H566))=TRUE,(('12.Partner Involvement'!$D566*'12.Partner Involvement'!$E566)/COUNTA(_xlfn.TEXTSPLIT('12.Partner Involvement'!$H566,\";\"))),\"\")","v":""}]
[{"$f":"IF(ISNUMBER(SEARCH(A$206,'12.Partner Involvement'!$G567))=TRUE,(('12.Partner Involvement'!$D567*'12.Partner Involvement'!$E567)/COUNTA(_xlfn.TEXTSPLIT('12.Partner Involvement'!$G567,\";\"))),\"\")","v":""},{"$f":"IF(ISNUMBER(SEARCH(B$206,'12.Partner Involvement'!$G567))=TRUE,(('12.Partner Involvement'!$D567*'12.Partner Involvement'!$E567)/COUNTA(_xlfn.TEXTSPLIT('12.Partner Involvement'!$G567,\";\"))),\"\")","v":""},{"$f":"IF(ISNUMBER(SEARCH(C$206,'12.Partner Involvement'!$G567))=TRUE,(('12.Partner Involvement'!$D567*'12.Partner Involvement'!$E567)/COUNTA(_xlfn.TEXTSPLIT('12.Partner Involvement'!$G567,\";\"))),\"\")","v":""},null,{"$f":"IF(ISNUMBER(SEARCH(E$206,'12.Partner Involvement'!$H567))=TRUE,(('12.Partner Involvement'!$D567*'12.Partner Involvement'!$E567)/COUNTA(_xlfn.TEXTSPLIT('12.Partner Involvement'!$H567,\";\"))),\"\")","v":""},{"$f":"IF(ISNUMBER(SEARCH(F$206,'12.Partner Involvement'!$H567))=TRUE,(('12.Partner Involvement'!$D567*'12.Partner Involvement'!$E567)/COUNTA(_xlfn.TEXTSPLIT('12.Partner Involvement'!$H567,\";\"))),\"\")","v":""},{"$f":"IF(ISNUMBER(SEARCH(G$206,'12.Partner Involvement'!$H567))=TRUE,(('12.Partner Involvement'!$D567*'12.Partner Involvement'!$E567)/COUNTA(_xlfn.TEXTSPLIT('12.Partner Involvement'!$H567,\";\"))),\"\")","v":""},{"$f":"IF(ISNUMBER(SEARCH(H$206,'12.Partner Involvement'!$H567))=TRUE,(('12.Partner Involvement'!$D567*'12.Partner Involvement'!$E567)/COUNTA(_xlfn.TEXTSPLIT('12.Partner Involvement'!$H567,\";\"))),\"\")","v":""}]
[{"$f":"IF(ISNUMBER(SEARCH(A$206,'12.Partner Involvement'!$G568))=TRUE,(('12.Partner Involvement'!$D568*'12.Partner Involvement'!$E568)/COUNTA(_xlfn.TEXTSPLIT('12.Partner Involvement'!$G568,\";\"))),\"\")","v":""},{"$f":"IF(ISNUMBER(SEARCH(B$206,'12.Partner Involvement'!$G568))=TRUE,(('12.Partner Involvement'!$D568*'12.Partner Involvement'!$E568)/COUNTA(_xlfn.TEXTSPLIT('12.Partner Involvement'!$G568,\";\"))),\"\")","v":""},{"$f":"IF(ISNUMBER(SEARCH(C$206,'12.Partner Involvement'!$G568))=TRUE,(('12.Partner Involvement'!$D568*'12.Partner Involvement'!$E568)/COUNTA(_xlfn.TEXTSPLIT('12.Partner Involvement'!$G568,\";\"))),\"\")","v":""},null,{"$f":"IF(ISNUMBER(SEARCH(E$206,'12.Partner Involvement'!$H568))=TRUE,(('12.Partner Involvement'!$D568*'12.Partner Involvement'!$E568)/COUNTA(_xlfn.TEXTSPLIT('12.Partner Involvement'!$H568,\";\"))),\"\")","v":""},{"$f":"IF(ISNUMBER(SEARCH(F$206,'12.Partner Involvement'!$H568))=TRUE,(('12.Partner Involvement'!$D568*'12.Partner Involvement'!$E568)/COUNTA(_xlfn.TEXTSPLIT('12.Partner Involvement'!$H568,\";\"))),\"\")","v":""},{"$f":"IF(ISNUMBER(SEARCH(G$206,'12.Partner Involvement'!$H568))=TRUE,(('12.Partner Involvement'!$D568*'12.Partner Involvement'!$E568)/COUNTA(_xlfn.TEXTSPLIT('12.Partner Involvement'!$H568,\";\"))),\"\")","v":""},{"$f":"IF(ISNUMBER(SEARCH(H$206,'12.Partner Involvement'!$H568))=TRUE,(('12.Partner Involvement'!$D568*'12.Partner Involvement'!$E568)/COUNTA(_xlfn.TEXTSPLIT('12.Partner Involvement'!$H568,\";\"))),\"\")","v":""}]
[{"$f":"IF(ISNUMBER(SEARCH(A$206,'12.Partner Involvement'!$G569))=TRUE,(('12.Partner Involvement'!$D569*'12.Partner Involvement'!$E569)/COUNTA(_xlfn.TEXTSPLIT('12.Partner Involvement'!$G569,\";\"))),\"\")","v":""},{"$f":"IF(ISNUMBER(SEARCH(B$206,'12.Partner Involvement'!$G569))=TRUE,(('12.Partner Involvement'!$D569*'12.Partner Involvement'!$E569)/COUNTA(_xlfn.TEXTSPLIT('12.Partner Involvement'!$G569,\";\"))),\"\")","v":""},{"$f":"IF(ISNUMBER(SEARCH(C$206,'12.Partner Involvement'!$G569))=TRUE,(('12.Partner Involvement'!$D569*'12.Partner Involvement'!$E569)/COUNTA(_xlfn.TEXTSPLIT('12.Partner Involvement'!$G569,\";\"))),\"\")","v":""},null,{"$f":"IF(ISNUMBER(SEARCH(E$206,'12.Partner Involvement'!$H569))=TRUE,(('12.Partner Involvement'!$D569*'12.Partner Involvement'!$E569)/COUNTA(_xlfn.TEXTSPLIT('12.Partner Involvement'!$H569,\";\"))),\"\")","v":""},{"$f":"IF(ISNUMBER(SEARCH(F$206,'12.Partner Involvement'!$H569))=TRUE,(('12.Partner Involvement'!$D569*'12.Partner Involvement'!$E569)/COUNTA(_xlfn.TEXTSPLIT('12.Partner Involvement'!$H569,\";\"))),\"\")","v":""},{"$f":"IF(ISNUMBER(SEARCH(G$206,'12.Partner Involvement'!$H569))=TRUE,(('12.Partner Involvement'!$D569*'12.Partner Involvement'!$E569)/COUNTA(_xlfn.TEXTSPLIT('12.Partner Involvement'!$H569,\";\"))),\"\")","v":""},{"$f":"IF(ISNUMBER(SEARCH(H$206,'12.Partner Involvement'!$H569))=TRUE,(('12.Partner Involvement'!$D569*'12.Partner Involvement'!$E569)/COUNTA(_xlfn.TEXTSPLIT('12.Partner Involvement'!$H569,\";\"))),\"\")","v":""}]
[{"$f":"IF(ISNUMBER(SEARCH(A$206,'12.Partner Involvement'!$G570))=TRUE,(('12.Partner Involvement'!$D570*'12.Partner Involvement'!$E570)/COUNTA(_xlfn.TEXTSPLIT('12.Partner Involvement'!$G570,\";\"))),\"\")","v":""},{"$f":"IF(ISNUMBER(SEARCH(B$206,'12.Partner Involvement'!$G570))=TRUE,(('12.Partner Involvement'!$D570*'12.Partner Involvement'!$E570)/COUNTA(_xlfn.TEXTSPLIT('12.Partner Involvement'!$G570,\";\"))),\"\")","v":""},{"$f":"IF(ISNUMBER(SEARCH(C$206,'12.Partner Involvement'!$G570))=TRUE,(('12.Partner Involvement'!$D570*'12.Partner Involvement'!$E570)/COUNTA(_xlfn.TEXTSPLIT('12.Partner Involvement'!$G570,\";\"))),\"\")","v":""},null,{"$f":"IF(ISNUMBER(SEARCH(E$206,'12.Partner Involvement'!$H570))=TRUE,(('12.Partner Involvement'!$D570*'12.Partner Involvement'!$E570)/COUNTA(_xlfn.TEXTSPLIT('12.Partner Involvement'!$H570,\";\"))),\"\")","v":""},{"$f":"IF(ISNUMBER(SEARCH(F$206,'12.Partner Involvement'!$H570))=TRUE,(('12.Partner Involvement'!$D570*'12.Partner Involvement'!$E570)/COUNTA(_xlfn.TEXTSPLIT('12.Partner Involvement'!$H570,\";\"))),\"\")","v":""},{"$f":"IF(ISNUMBER(SEARCH(G$206,'12.Partner Involvement'!$H570))=TRUE,(('12.Partner Involvement'!$D570*'12.Partner Involvement'!$E570)/COUNTA(_xlfn.TEXTSPLIT('12.Partner Involvement'!$H570,\";\"))),\"\")","v":""},{"$f":"IF(ISNUMBER(SEARCH(H$206,'12.Partner Involvement'!$H570))=TRUE,(('12.Partner Involvement'!$D570*'12.Partner Involvement'!$E570)/COUNTA(_xlfn.TEXTSPLIT('12.Partner Involvement'!$H570,\";\"))),\"\")","v":""}]
[{"$f":"IF(ISNUMBER(SEARCH(A$206,'12.Partner Involvement'!$G571))=TRUE,(('12.Partner Involvement'!$D571*'12.Partner Involvement'!$E571)/COUNTA(_xlfn.TEXTSPLIT('12.Partner Involvement'!$G571,\";\"))),\"\")","v":""},{"$f":"IF(ISNUMBER(SEARCH(B$206,'12.Partner Involvement'!$G571))=TRUE,(('12.Partner Involvement'!$D571*'12.Partner Involvement'!$E571)/COUNTA(_xlfn.TEXTSPLIT('12.Partner Involvement'!$G571,\";\"))),\"\")","v":""},{"$f":"IF(ISNUMBER(SEARCH(C$206,'12.Partner Involvement'!$G571))=TRUE,(('12.Partner Involvement'!$D571*'12.Partner Involvement'!$E571)/COUNTA(_xlfn.TEXTSPLIT('12.Partner Involvement'!$G571,\";\"))),\"\")","v":""},null,{"$f":"IF(ISNUMBER(SEARCH(E$206,'12.Partner Involvement'!$H571))=TRUE,(('12.Partner Involvement'!$D571*'12.Partner Involvement'!$E571)/COUNTA(_xlfn.TEXTSPLIT('12.Partner Involvement'!$H571,\";\"))),\"\")","v":""},{"$f":"IF(ISNUMBER(SEARCH(F$206,'12.Partner Involvement'!$H571))=TRUE,(('12.Partner Involvement'!$D571*'12.Partner Involvement'!$E571)/COUNTA(_xlfn.TEXTSPLIT('12.Partner Involvement'!$H571,\";\"))),\"\")","v":""},{"$f":"IF(ISNUMBER(SEARCH(G$206,'12.Partner Involvement'!$H571))=TRUE,(('12.Partner Involvement'!$D571*'12.Partner Involvement'!$E571)/COUNTA(_xlfn.TEXTSPLIT('12.Partner Involvement'!$H571,\";\"))),\"\")","v":""},{"$f":"IF(ISNUMBER(SEARCH(H$206,'12.Partner Involvement'!$H571))=TRUE,(('12.Partner Involvement'!$D571*'12.Partner Involvement'!$E571)/COUNTA(_xlfn.TEXTSPLIT('12.Partner Involvement'!$H571,\";\"))),\"\")","v":""}]
[{"$f":"IF(ISNUMBER(SEARCH(A$206,'12.Partner Involvement'!$G572))=TRUE,(('12.Partner Involvement'!$D572*'12.Partner Involvement'!$E572)/COUNTA(_xlfn.TEXTSPLIT('12.Partner Involvement'!$G572,\";\"))),\"\")","v":""},{"$f":"IF(ISNUMBER(SEARCH(B$206,'12.Partner Involvement'!$G572))=TRUE,(('12.Partner Involvement'!$D572*'12.Partner Involvement'!$E572)/COUNTA(_xlfn.TEXTSPLIT('12.Partner Involvement'!$G572,\";\"))),\"\")","v":""},{"$f":"IF(ISNUMBER(SEARCH(C$206,'12.Partner Involvement'!$G572))=TRUE,(('12.Partner Involvement'!$D572*'12.Partner Involvement'!$E572)/COUNTA(_xlfn.TEXTSPLIT('12.Partner Involvement'!$G572,\";\"))),\"\")","v":""},null,{"$f":"IF(ISNUMBER(SEARCH(E$206,'12.Partner Involvement'!$H572))=TRUE,(('12.Partner Involvement'!$D572*'12.Partner Involvement'!$E572)/COUNTA(_xlfn.TEXTSPLIT('12.Partner Involvement'!$H572,\";\"))),\"\")","v":""},{"$f":"IF(ISNUMBER(SEARCH(F$206,'12.Partner Involvement'!$H572))=TRUE,(('12.Partner Involvement'!$D572*'12.Partner Involvement'!$E572)/COUNTA(_xlfn.TEXTSPLIT('12.Partner Involvement'!$H572,\";\"))),\"\")","v":""},{"$f":"IF(ISNUMBER(SEARCH(G$206,'12.Partner Involvement'!$H572))=TRUE,(('12.Partner Involvement'!$D572*'12.Partner Involvement'!$E572)/COUNTA(_xlfn.TEXTSPLIT('12.Partner Involvement'!$H572,\";\"))),\"\")","v":""},{"$f":"IF(ISNUMBER(SEARCH(H$206,'12.Partner Involvement'!$H572))=TRUE,(('12.Partner Involvement'!$D572*'12.Partner Involvement'!$E572)/COUNTA(_xlfn.TEXTSPLIT('12.Partner Involvement'!$H572,\";\"))),\"\")","v":""}]
[{"$f":"IF(ISNUMBER(SEARCH(A$206,'12.Partner Involvement'!$G573))=TRUE,(('12.Partner Involvement'!$D573*'12.Partner Involvement'!$E573)/COUNTA(_xlfn.TEXTSPLIT('12.Partner Involvement'!$G573,\";\"))),\"\")","v":""},{"$f":"IF(ISNUMBER(SEARCH(B$206,'12.Partner Involvement'!$G573))=TRUE,(('12.Partner Involvement'!$D573*'12.Partner Involvement'!$E573)/COUNTA(_xlfn.TEXTSPLIT('12.Partner Involvement'!$G573,\";\"))),\"\")","v":""},{"$f":"IF(ISNUMBER(SEARCH(C$206,'12.Partner Involvement'!$G573))=TRUE,(('12.Partner Involvement'!$D573*'12.Partner Involvement'!$E573)/COUNTA(_xlfn.TEXTSPLIT('12.Partner Involvement'!$G573,\";\"))),\"\")","v":""},null,{"$f":"IF(ISNUMBER(SEARCH(E$206,'12.Partner Involvement'!$H573))=TRUE,(('12.Partner Involvement'!$D573*'12.Partner Involvement'!$E573)/COUNTA(_xlfn.TEXTSPLIT('12.Partner Involvement'!$H573,\";\"))),\"\")","v":""},{"$f":"IF(ISNUMBER(SEARCH(F$206,'12.Partner Involvement'!$H573))=TRUE,(('12.Partner Involvement'!$D573*'12.Partner Involvement'!$E573)/COUNTA(_xlfn.TEXTSPLIT('12.Partner Involvement'!$H573,\";\"))),\"\")","v":""},{"$f":"IF(ISNUMBER(SEARCH(G$206,'12.Partner Involvement'!$H573))=TRUE,(('12.Partner Involvement'!$D573*'12.Partner Involvement'!$E573)/COUNTA(_xlfn.TEXTSPLIT('12.Partner Involvement'!$H573,\";\"))),\"\")","v":""},{"$f":"IF(ISNUMBER(SEARCH(H$206,'12.Partner Involvement'!$H573))=TRUE,(('12.Partner Involvement'!$D573*'12.Partner Involvement'!$E573)/COUNTA(_xlfn.TEXTSPLIT('12.Partner Involvement'!$H573,\";\"))),\"\")","v":""}]
[{"$f":"IF(ISNUMBER(SEARCH(A$206,'12.Partner Involvement'!$G574))=TRUE,(('12.Partner Involvement'!$D574*'12.Partner Involvement'!$E574)/COUNTA(_xlfn.TEXTSPLIT('12.Partner Involvement'!$G574,\";\"))),\"\")","v":""},{"$f":"IF(ISNUMBER(SEARCH(B$206,'12.Partner Involvement'!$G574))=TRUE,(('12.Partner Involvement'!$D574*'12.Partner Involvement'!$E574)/COUNTA(_xlfn.TEXTSPLIT('12.Partner Involvement'!$G574,\";\"))),\"\")","v":""},{"$f":"IF(ISNUMBER(SEARCH(C$206,'12.Partner Involvement'!$G574))=TRUE,(('12.Partner Involvement'!$D574*'12.Partner Involvement'!$E574)/COUNTA(_xlfn.TEXTSPLIT('12.Partner Involvement'!$G574,\";\"))),\"\")","v":""},null,{"$f":"IF(ISNUMBER(SEARCH(E$206,'12.Partner Involvement'!$H574))=TRUE,(('12.Partner Involvement'!$D574*'12.Partner Involvement'!$E574)/COUNTA(_xlfn.TEXTSPLIT('12.Partner Involvement'!$H574,\";\"))),\"\")","v":""},{"$f":"IF(ISNUMBER(SEARCH(F$206,'12.Partner Involvement'!$H574))=TRUE,(('12.Partner Involvement'!$D574*'12.Partner Involvement'!$E574)/COUNTA(_xlfn.TEXTSPLIT('12.Partner Involvement'!$H574,\";\"))),\"\")","v":""},{"$f":"IF(ISNUMBER(SEARCH(G$206,'12.Partner Involvement'!$H574))=TRUE,(('12.Partner Involvement'!$D574*'12.Partner Involvement'!$E574)/COUNTA(_xlfn.TEXTSPLIT('12.Partner Involvement'!$H574,\";\"))),\"\")","v":""},{"$f":"IF(ISNUMBER(SEARCH(H$206,'12.Partner Involvement'!$H574))=TRUE,(('12.Partner Involvement'!$D574*'12.Partner Involvement'!$E574)/COUNTA(_xlfn.TEXTSPLIT('12.Partner Involvement'!$H574,\";\"))),\"\")","v":""}]
[{"$f":"IF(ISNUMBER(SEARCH(A$206,'12.Partner Involvement'!$G575))=TRUE,(('12.Partner Involvement'!$D575*'12.Partner Involvement'!$E575)/COUNTA(_xlfn.TEXTSPLIT('12.Partner Involvement'!$G575,\";\"))),\"\")","v":""},{"$f":"IF(ISNUMBER(SEARCH(B$206,'12.Partner Involvement'!$G575))=TRUE,(('12.Partner Involvement'!$D575*'12.Partner Involvement'!$E575)/COUNTA(_xlfn.TEXTSPLIT('12.Partner Involvement'!$G575,\";\"))),\"\")","v":""},{"$f":"IF(ISNUMBER(SEARCH(C$206,'12.Partner Involvement'!$G575))=TRUE,(('12.Partner Involvement'!$D575*'12.Partner Involvement'!$E575)/COUNTA(_xlfn.TEXTSPLIT('12.Partner Involvement'!$G575,\";\"))),\"\")","v":""},null,{"$f":"IF(ISNUMBER(SEARCH(E$206,'12.Partner Involvement'!$H575))=TRUE,(('12.Partner Involvement'!$D575*'12.Partner Involvement'!$E575)/COUNTA(_xlfn.TEXTSPLIT('12.Partner Involvement'!$H575,\";\"))),\"\")","v":""},{"$f":"IF(ISNUMBER(SEARCH(F$206,'12.Partner Involvement'!$H575))=TRUE,(('12.Partner Involvement'!$D575*'12.Partner Involvement'!$E575)/COUNTA(_xlfn.TEXTSPLIT('12.Partner Involvement'!$H575,\";\"))),\"\")","v":""},{"$f":"IF(ISNUMBER(SEARCH(G$206,'12.Partner Involvement'!$H575))=TRUE,(('12.Partner Involvement'!$D575*'12.Partner Involvement'!$E575)/COUNTA(_xlfn.TEXTSPLIT('12.Partner Involvement'!$H575,\";\"))),\"\")","v":""},{"$f":"IF(ISNUMBER(SEARCH(H$206,'12.Partner Involvement'!$H575))=TRUE,(('12.Partner Involvement'!$D575*'12.Partner Involvement'!$E575)/COUNTA(_xlfn.TEXTSPLIT('12.Partner Involvement'!$H575,\";\"))),\"\")","v":""}]
[{"$f":"IF(ISNUMBER(SEARCH(A$206,'12.Partner Involvement'!$G576))=TRUE,(('12.Partner Involvement'!$D576*'12.Partner Involvement'!$E576)/COUNTA(_xlfn.TEXTSPLIT('12.Partner Involvement'!$G576,\";\"))),\"\")","v":""},{"$f":"IF(ISNUMBER(SEARCH(B$206,'12.Partner Involvement'!$G576))=TRUE,(('12.Partner Involvement'!$D576*'12.Partner Involvement'!$E576)/COUNTA(_xlfn.TEXTSPLIT('12.Partner Involvement'!$G576,\";\"))),\"\")","v":""},{"$f":"IF(ISNUMBER(SEARCH(C$206,'12.Partner Involvement'!$G576))=TRUE,(('12.Partner Involvement'!$D576*'12.Partner Involvement'!$E576)/COUNTA(_xlfn.TEXTSPLIT('12.Partner Involvement'!$G576,\";\"))),\"\")","v":""},null,{"$f":"IF(ISNUMBER(SEARCH(E$206,'12.Partner Involvement'!$H576))=TRUE,(('12.Partner Involvement'!$D576*'12.Partner Involvement'!$E576)/COUNTA(_xlfn.TEXTSPLIT('12.Partner Involvement'!$H576,\";\"))),\"\")","v":""},{"$f":"IF(ISNUMBER(SEARCH(F$206,'12.Partner Involvement'!$H576))=TRUE,(('12.Partner Involvement'!$D576*'12.Partner Involvement'!$E576)/COUNTA(_xlfn.TEXTSPLIT('12.Partner Involvement'!$H576,\";\"))),\"\")","v":""},{"$f":"IF(ISNUMBER(SEARCH(G$206,'12.Partner Involvement'!$H576))=TRUE,(('12.Partner Involvement'!$D576*'12.Partner Involvement'!$E576)/COUNTA(_xlfn.TEXTSPLIT('12.Partner Involvement'!$H576,\";\"))),\"\")","v":""},{"$f":"IF(ISNUMBER(SEARCH(H$206,'12.Partner Involvement'!$H576))=TRUE,(('12.Partner Involvement'!$D576*'12.Partner Involvement'!$E576)/COUNTA(_xlfn.TEXTSPLIT('12.Partner Involvement'!$H576,\";\"))),\"\")","v":""}]
[{"$f":"IF(ISNUMBER(SEARCH(A$206,'12.Partner Involvement'!$G577))=TRUE,(('12.Partner Involvement'!$D577*'12.Partner Involvement'!$E577)/COUNTA(_xlfn.TEXTSPLIT('12.Partner Involvement'!$G577,\";\"))),\"\")","v":""},{"$f":"IF(ISNUMBER(SEARCH(B$206,'12.Partner Involvement'!$G577))=TRUE,(('12.Partner Involvement'!$D577*'12.Partner Involvement'!$E577)/COUNTA(_xlfn.TEXTSPLIT('12.Partner Involvement'!$G577,\";\"))),\"\")","v":""},{"$f":"IF(ISNUMBER(SEARCH(C$206,'12.Partner Involvement'!$G577))=TRUE,(('12.Partner Involvement'!$D577*'12.Partner Involvement'!$E577)/COUNTA(_xlfn.TEXTSPLIT('12.Partner Involvement'!$G577,\";\"))),\"\")","v":""},null,{"$f":"IF(ISNUMBER(SEARCH(E$206,'12.Partner Involvement'!$H577))=TRUE,(('12.Partner Involvement'!$D577*'12.Partner Involvement'!$E577)/COUNTA(_xlfn.TEXTSPLIT('12.Partner Involvement'!$H577,\";\"))),\"\")","v":""},{"$f":"IF(ISNUMBER(SEARCH(F$206,'12.Partner Involvement'!$H577))=TRUE,(('12.Partner Involvement'!$D577*'12.Partner Involvement'!$E577)/COUNTA(_xlfn.TEXTSPLIT('12.Partner Involvement'!$H577,\";\"))),\"\")","v":""},{"$f":"IF(ISNUMBER(SEARCH(G$206,'12.Partner Involvement'!$H577))=TRUE,(('12.Partner Involvement'!$D577*'12.Partner Involvement'!$E577)/COUNTA(_xlfn.TEXTSPLIT('12.Partner Involvement'!$H577,\";\"))),\"\")","v":""},{"$f":"IF(ISNUMBER(SEARCH(H$206,'12.Partner Involvement'!$H577))=TRUE,(('12.Partner Involvement'!$D577*'12.Partner Involvement'!$E577)/COUNTA(_xlfn.TEXTSPLIT('12.Partner Involvement'!$H577,\";\"))),\"\")","v":""}]
[{"$f":"IF(ISNUMBER(SEARCH(A$206,'12.Partner Involvement'!$G578))=TRUE,(('12.Partner Involvement'!$D578*'12.Partner Involvement'!$E578)/COUNTA(_xlfn.TEXTSPLIT('12.Partner Involvement'!$G578,\";\"))),\"\")","v":""},{"$f":"IF(ISNUMBER(SEARCH(B$206,'12.Partner Involvement'!$G578))=TRUE,(('12.Partner Involvement'!$D578*'12.Partner Involvement'!$E578)/COUNTA(_xlfn.TEXTSPLIT('12.Partner Involvement'!$G578,\";\"))),\"\")","v":""},{"$f":"IF(ISNUMBER(SEARCH(C$206,'12.Partner Involvement'!$G578))=TRUE,(('12.Partner Involvement'!$D578*'12.Partner Involvement'!$E578)/COUNTA(_xlfn.TEXTSPLIT('12.Partner Involvement'!$G578,\";\"))),\"\")","v":""},null,{"$f":"IF(ISNUMBER(SEARCH(E$206,'12.Partner Involvement'!$H578))=TRUE,(('12.Partner Involvement'!$D578*'12.Partner Involvement'!$E578)/COUNTA(_xlfn.TEXTSPLIT('12.Partner Involvement'!$H578,\";\"))),\"\")","v":""},{"$f":"IF(ISNUMBER(SEARCH(F$206,'12.Partner Involvement'!$H578))=TRUE,(('12.Partner Involvement'!$D578*'12.Partner Involvement'!$E578)/COUNTA(_xlfn.TEXTSPLIT('12.Partner Involvement'!$H578,\";\"))),\"\")","v":""},{"$f":"IF(ISNUMBER(SEARCH(G$206,'12.Partner Involvement'!$H578))=TRUE,(('12.Partner Involvement'!$D578*'12.Partner Involvement'!$E578)/COUNTA(_xlfn.TEXTSPLIT('12.Partner Involvement'!$H578,\";\"))),\"\")","v":""},{"$f":"IF(ISNUMBER(SEARCH(H$206,'12.Partner Involvement'!$H578))=TRUE,(('12.Partner Involvement'!$D578*'12.Partner Involvement'!$E578)/COUNTA(_xlfn.TEXTSPLIT('12.Partner Involvement'!$H578,\";\"))),\"\")","v":""}]
[{"$f":"IF(ISNUMBER(SEARCH(A$206,'12.Partner Involvement'!$G579))=TRUE,(('12.Partner Involvement'!$D579*'12.Partner Involvement'!$E579)/COUNTA(_xlfn.TEXTSPLIT('12.Partner Involvement'!$G579,\";\"))),\"\")","v":""},{"$f":"IF(ISNUMBER(SEARCH(B$206,'12.Partner Involvement'!$G579))=TRUE,(('12.Partner Involvement'!$D579*'12.Partner Involvement'!$E579)/COUNTA(_xlfn.TEXTSPLIT('12.Partner Involvement'!$G579,\";\"))),\"\")","v":""},{"$f":"IF(ISNUMBER(SEARCH(C$206,'12.Partner Involvement'!$G579))=TRUE,(('12.Partner Involvement'!$D579*'12.Partner Involvement'!$E579)/COUNTA(_xlfn.TEXTSPLIT('12.Partner Involvement'!$G579,\";\"))),\"\")","v":""},null,{"$f":"IF(ISNUMBER(SEARCH(E$206,'12.Partner Involvement'!$H579))=TRUE,(('12.Partner Involvement'!$D579*'12.Partner Involvement'!$E579)/COUNTA(_xlfn.TEXTSPLIT('12.Partner Involvement'!$H579,\";\"))),\"\")","v":""},{"$f":"IF(ISNUMBER(SEARCH(F$206,'12.Partner Involvement'!$H579))=TRUE,(('12.Partner Involvement'!$D579*'12.Partner Involvement'!$E579)/COUNTA(_xlfn.TEXTSPLIT('12.Partner Involvement'!$H579,\";\"))),\"\")","v":""},{"$f":"IF(ISNUMBER(SEARCH(G$206,'12.Partner Involvement'!$H579))=TRUE,(('12.Partner Involvement'!$D579*'12.Partner Involvement'!$E579)/COUNTA(_xlfn.TEXTSPLIT('12.Partner Involvement'!$H579,\";\"))),\"\")","v":""},{"$f":"IF(ISNUMBER(SEARCH(H$206,'12.Partner Involvement'!$H579))=TRUE,(('12.Partner Involvement'!$D579*'12.Partner Involvement'!$E579)/COUNTA(_xlfn.TEXTSPLIT('12.Partner Involvement'!$H579,\";\"))),\"\")","v":""}]
[{"$f":"IF(ISNUMBER(SEARCH(A$206,'12.Partner Involvement'!$G580))=TRUE,(('12.Partner Involvement'!$D580*'12.Partner Involvement'!$E580)/COUNTA(_xlfn.TEXTSPLIT('12.Partner Involvement'!$G580,\";\"))),\"\")","v":""},{"$f":"IF(ISNUMBER(SEARCH(B$206,'12.Partner Involvement'!$G580))=TRUE,(('12.Partner Involvement'!$D580*'12.Partner Involvement'!$E580)/COUNTA(_xlfn.TEXTSPLIT('12.Partner Involvement'!$G580,\";\"))),\"\")","v":""},{"$f":"IF(ISNUMBER(SEARCH(C$206,'12.Partner Involvement'!$G580))=TRUE,(('12.Partner Involvement'!$D580*'12.Partner Involvement'!$E580)/COUNTA(_xlfn.TEXTSPLIT('12.Partner Involvement'!$G580,\";\"))),\"\")","v":""},null,{"$f":"IF(ISNUMBER(SEARCH(E$206,'12.Partner Involvement'!$H580))=TRUE,(('12.Partner Involvement'!$D580*'12.Partner Involvement'!$E580)/COUNTA(_xlfn.TEXTSPLIT('12.Partner Involvement'!$H580,\";\"))),\"\")","v":""},{"$f":"IF(ISNUMBER(SEARCH(F$206,'12.Partner Involvement'!$H580))=TRUE,(('12.Partner Involvement'!$D580*'12.Partner Involvement'!$E580)/COUNTA(_xlfn.TEXTSPLIT('12.Partner Involvement'!$H580,\";\"))),\"\")","v":""},{"$f":"IF(ISNUMBER(SEARCH(G$206,'12.Partner Involvement'!$H580))=TRUE,(('12.Partner Involvement'!$D580*'12.Partner Involvement'!$E580)/COUNTA(_xlfn.TEXTSPLIT('12.Partner Involvement'!$H580,\";\"))),\"\")","v":""},{"$f":"IF(ISNUMBER(SEARCH(H$206,'12.Partner Involvement'!$H580))=TRUE,(('12.Partner Involvement'!$D580*'12.Partner Involvement'!$E580)/COUNTA(_xlfn.TEXTSPLIT('12.Partner Involvement'!$H580,\";\"))),\"\")","v":""}]
[{"$f":"IF(ISNUMBER(SEARCH(A$206,'12.Partner Involvement'!$G581))=TRUE,(('12.Partner Involvement'!$D581*'12.Partner Involvement'!$E581)/COUNTA(_xlfn.TEXTSPLIT('12.Partner Involvement'!$G581,\";\"))),\"\")","v":""},{"$f":"IF(ISNUMBER(SEARCH(B$206,'12.Partner Involvement'!$G581))=TRUE,(('12.Partner Involvement'!$D581*'12.Partner Involvement'!$E581)/COUNTA(_xlfn.TEXTSPLIT('12.Partner Involvement'!$G581,\";\"))),\"\")","v":""},{"$f":"IF(ISNUMBER(SEARCH(C$206,'12.Partner Involvement'!$G581))=TRUE,(('12.Partner Involvement'!$D581*'12.Partner Involvement'!$E581)/COUNTA(_xlfn.TEXTSPLIT('12.Partner Involvement'!$G581,\";\"))),\"\")","v":""},null,{"$f":"IF(ISNUMBER(SEARCH(E$206,'12.Partner Involvement'!$H581))=TRUE,(('12.Partner Involvement'!$D581*'12.Partner Involvement'!$E581)/COUNTA(_xlfn.TEXTSPLIT('12.Partner Involvement'!$H581,\";\"))),\"\")","v":""},{"$f":"IF(ISNUMBER(SEARCH(F$206,'12.Partner Involvement'!$H581))=TRUE,(('12.Partner Involvement'!$D581*'12.Partner Involvement'!$E581)/COUNTA(_xlfn.TEXTSPLIT('12.Partner Involvement'!$H581,\";\"))),\"\")","v":""},{"$f":"IF(ISNUMBER(SEARCH(G$206,'12.Partner Involvement'!$H581))=TRUE,(('12.Partner Involvement'!$D581*'12.Partner Involvement'!$E581)/COUNTA(_xlfn.TEXTSPLIT('12.Partner Involvement'!$H581,\";\"))),\"\")","v":""},{"$f":"IF(ISNUMBER(SEARCH(H$206,'12.Partner Involvement'!$H581))=TRUE,(('12.Partner Involvement'!$D581*'12.Partner Involvement'!$E581)/COUNTA(_xlfn.TEXTSPLIT('12.Partner Involvement'!$H581,\";\"))),\"\")","v":""}]
[{"$f":"IF(ISNUMBER(SEARCH(A$206,'12.Partner Involvement'!$G582))=TRUE,(('12.Partner Involvement'!$D582*'12.Partner Involvement'!$E582)/COUNTA(_xlfn.TEXTSPLIT('12.Partner Involvement'!$G582,\";\"))),\"\")","v":""},{"$f":"IF(ISNUMBER(SEARCH(B$206,'12.Partner Involvement'!$G582))=TRUE,(('12.Partner Involvement'!$D582*'12.Partner Involvement'!$E582)/COUNTA(_xlfn.TEXTSPLIT('12.Partner Involvement'!$G582,\";\"))),\"\")","v":""},{"$f":"IF(ISNUMBER(SEARCH(C$206,'12.Partner Involvement'!$G582))=TRUE,(('12.Partner Involvement'!$D582*'12.Partner Involvement'!$E582)/COUNTA(_xlfn.TEXTSPLIT('12.Partner Involvement'!$G582,\";\"))),\"\")","v":""},null,{"$f":"IF(ISNUMBER(SEARCH(E$206,'12.Partner Involvement'!$H582))=TRUE,(('12.Partner Involvement'!$D582*'12.Partner Involvement'!$E582)/COUNTA(_xlfn.TEXTSPLIT('12.Partner Involvement'!$H582,\";\"))),\"\")","v":""},{"$f":"IF(ISNUMBER(SEARCH(F$206,'12.Partner Involvement'!$H582))=TRUE,(('12.Partner Involvement'!$D582*'12.Partner Involvement'!$E582)/COUNTA(_xlfn.TEXTSPLIT('12.Partner Involvement'!$H582,\";\"))),\"\")","v":""},{"$f":"IF(ISNUMBER(SEARCH(G$206,'12.Partner Involvement'!$H582))=TRUE,(('12.Partner Involvement'!$D582*'12.Partner Involvement'!$E582)/COUNTA(_xlfn.TEXTSPLIT('12.Partner Involvement'!$H582,\";\"))),\"\")","v":""},{"$f":"IF(ISNUMBER(SEARCH(H$206,'12.Partner Involvement'!$H582))=TRUE,(('12.Partner Involvement'!$D582*'12.Partner Involvement'!$E582)/COUNTA(_xlfn.TEXTSPLIT('12.Partner Involvement'!$H582,\";\"))),\"\")","v":""}]
[{"$f":"IF(ISNUMBER(SEARCH(A$206,'12.Partner Involvement'!$G583))=TRUE,(('12.Partner Involvement'!$D583*'12.Partner Involvement'!$E583)/COUNTA(_xlfn.TEXTSPLIT('12.Partner Involvement'!$G583,\";\"))),\"\")","v":""},{"$f":"IF(ISNUMBER(SEARCH(B$206,'12.Partner Involvement'!$G583))=TRUE,(('12.Partner Involvement'!$D583*'12.Partner Involvement'!$E583)/COUNTA(_xlfn.TEXTSPLIT('12.Partner Involvement'!$G583,\";\"))),\"\")","v":""},{"$f":"IF(ISNUMBER(SEARCH(C$206,'12.Partner Involvement'!$G583))=TRUE,(('12.Partner Involvement'!$D583*'12.Partner Involvement'!$E583)/COUNTA(_xlfn.TEXTSPLIT('12.Partner Involvement'!$G583,\";\"))),\"\")","v":""},null,{"$f":"IF(ISNUMBER(SEARCH(E$206,'12.Partner Involvement'!$H583))=TRUE,(('12.Partner Involvement'!$D583*'12.Partner Involvement'!$E583)/COUNTA(_xlfn.TEXTSPLIT('12.Partner Involvement'!$H583,\";\"))),\"\")","v":""},{"$f":"IF(ISNUMBER(SEARCH(F$206,'12.Partner Involvement'!$H583))=TRUE,(('12.Partner Involvement'!$D583*'12.Partner Involvement'!$E583)/COUNTA(_xlfn.TEXTSPLIT('12.Partner Involvement'!$H583,\";\"))),\"\")","v":""},{"$f":"IF(ISNUMBER(SEARCH(G$206,'12.Partner Involvement'!$H583))=TRUE,(('12.Partner Involvement'!$D583*'12.Partner Involvement'!$E583)/COUNTA(_xlfn.TEXTSPLIT('12.Partner Involvement'!$H583,\";\"))),\"\")","v":""},{"$f":"IF(ISNUMBER(SEARCH(H$206,'12.Partner Involvement'!$H583))=TRUE,(('12.Partner Involvement'!$D583*'12.Partner Involvement'!$E583)/COUNTA(_xlfn.TEXTSPLIT('12.Partner Involvement'!$H583,\";\"))),\"\")","v":""}]
[{"$f":"IF(ISNUMBER(SEARCH(A$206,'12.Partner Involvement'!$G584))=TRUE,(('12.Partner Involvement'!$D584*'12.Partner Involvement'!$E584)/COUNTA(_xlfn.TEXTSPLIT('12.Partner Involvement'!$G584,\";\"))),\"\")","v":""},{"$f":"IF(ISNUMBER(SEARCH(B$206,'12.Partner Involvement'!$G584))=TRUE,(('12.Partner Involvement'!$D584*'12.Partner Involvement'!$E584)/COUNTA(_xlfn.TEXTSPLIT('12.Partner Involvement'!$G584,\";\"))),\"\")","v":""},{"$f":"IF(ISNUMBER(SEARCH(C$206,'12.Partner Involvement'!$G584))=TRUE,(('12.Partner Involvement'!$D584*'12.Partner Involvement'!$E584)/COUNTA(_xlfn.TEXTSPLIT('12.Partner Involvement'!$G584,\";\"))),\"\")","v":""},null,{"$f":"IF(ISNUMBER(SEARCH(E$206,'12.Partner Involvement'!$H584))=TRUE,(('12.Partner Involvement'!$D584*'12.Partner Involvement'!$E584)/COUNTA(_xlfn.TEXTSPLIT('12.Partner Involvement'!$H584,\";\"))),\"\")","v":""},{"$f":"IF(ISNUMBER(SEARCH(F$206,'12.Partner Involvement'!$H584))=TRUE,(('12.Partner Involvement'!$D584*'12.Partner Involvement'!$E584)/COUNTA(_xlfn.TEXTSPLIT('12.Partner Involvement'!$H584,\";\"))),\"\")","v":""},{"$f":"IF(ISNUMBER(SEARCH(G$206,'12.Partner Involvement'!$H584))=TRUE,(('12.Partner Involvement'!$D584*'12.Partner Involvement'!$E584)/COUNTA(_xlfn.TEXTSPLIT('12.Partner Involvement'!$H584,\";\"))),\"\")","v":""},{"$f":"IF(ISNUMBER(SEARCH(H$206,'12.Partner Involvement'!$H584))=TRUE,(('12.Partner Involvement'!$D584*'12.Partner Involvement'!$E584)/COUNTA(_xlfn.TEXTSPLIT('12.Partner Involvement'!$H584,\";\"))),\"\")","v":""}]
[{"$f":"IF(ISNUMBER(SEARCH(A$206,'12.Partner Involvement'!$G585))=TRUE,(('12.Partner Involvement'!$D585*'12.Partner Involvement'!$E585)/COUNTA(_xlfn.TEXTSPLIT('12.Partner Involvement'!$G585,\";\"))),\"\")","v":""},{"$f":"IF(ISNUMBER(SEARCH(B$206,'12.Partner Involvement'!$G585))=TRUE,(('12.Partner Involvement'!$D585*'12.Partner Involvement'!$E585)/COUNTA(_xlfn.TEXTSPLIT('12.Partner Involvement'!$G585,\";\"))),\"\")","v":""},{"$f":"IF(ISNUMBER(SEARCH(C$206,'12.Partner Involvement'!$G585))=TRUE,(('12.Partner Involvement'!$D585*'12.Partner Involvement'!$E585)/COUNTA(_xlfn.TEXTSPLIT('12.Partner Involvement'!$G585,\";\"))),\"\")","v":""},null,{"$f":"IF(ISNUMBER(SEARCH(E$206,'12.Partner Involvement'!$H585))=TRUE,(('12.Partner Involvement'!$D585*'12.Partner Involvement'!$E585)/COUNTA(_xlfn.TEXTSPLIT('12.Partner Involvement'!$H585,\";\"))),\"\")","v":""},{"$f":"IF(ISNUMBER(SEARCH(F$206,'12.Partner Involvement'!$H585))=TRUE,(('12.Partner Involvement'!$D585*'12.Partner Involvement'!$E585)/COUNTA(_xlfn.TEXTSPLIT('12.Partner Involvement'!$H585,\";\"))),\"\")","v":""},{"$f":"IF(ISNUMBER(SEARCH(G$206,'12.Partner Involvement'!$H585))=TRUE,(('12.Partner Involvement'!$D585*'12.Partner Involvement'!$E585)/COUNTA(_xlfn.TEXTSPLIT('12.Partner Involvement'!$H585,\";\"))),\"\")","v":""},{"$f":"IF(ISNUMBER(SEARCH(H$206,'12.Partner Involvement'!$H585))=TRUE,(('12.Partner Involvement'!$D585*'12.Partner Involvement'!$E585)/COUNTA(_xlfn.TEXTSPLIT('12.Partner Involvement'!$H585,\";\"))),\"\")","v":""}]
[{"$f":"IF(ISNUMBER(SEARCH(A$206,'12.Partner Involvement'!$G586))=TRUE,(('12.Partner Involvement'!$D586*'12.Partner Involvement'!$E586)/COUNTA(_xlfn.TEXTSPLIT('12.Partner Involvement'!$G586,\";\"))),\"\")","v":""},{"$f":"IF(ISNUMBER(SEARCH(B$206,'12.Partner Involvement'!$G586))=TRUE,(('12.Partner Involvement'!$D586*'12.Partner Involvement'!$E586)/COUNTA(_xlfn.TEXTSPLIT('12.Partner Involvement'!$G586,\";\"))),\"\")","v":""},{"$f":"IF(ISNUMBER(SEARCH(C$206,'12.Partner Involvement'!$G586))=TRUE,(('12.Partner Involvement'!$D586*'12.Partner Involvement'!$E586)/COUNTA(_xlfn.TEXTSPLIT('12.Partner Involvement'!$G586,\";\"))),\"\")","v":""},null,{"$f":"IF(ISNUMBER(SEARCH(E$206,'12.Partner Involvement'!$H586))=TRUE,(('12.Partner Involvement'!$D586*'12.Partner Involvement'!$E586)/COUNTA(_xlfn.TEXTSPLIT('12.Partner Involvement'!$H586,\";\"))),\"\")","v":""},{"$f":"IF(ISNUMBER(SEARCH(F$206,'12.Partner Involvement'!$H586))=TRUE,(('12.Partner Involvement'!$D586*'12.Partner Involvement'!$E586)/COUNTA(_xlfn.TEXTSPLIT('12.Partner Involvement'!$H586,\";\"))),\"\")","v":""},{"$f":"IF(ISNUMBER(SEARCH(G$206,'12.Partner Involvement'!$H586))=TRUE,(('12.Partner Involvement'!$D586*'12.Partner Involvement'!$E586)/COUNTA(_xlfn.TEXTSPLIT('12.Partner Involvement'!$H586,\";\"))),\"\")","v":""},{"$f":"IF(ISNUMBER(SEARCH(H$206,'12.Partner Involvement'!$H586))=TRUE,(('12.Partner Involvement'!$D586*'12.Partner Involvement'!$E586)/COUNTA(_xlfn.TEXTSPLIT('12.Partner Involvement'!$H586,\";\"))),\"\")","v":""}]
[{"$f":"IF(ISNUMBER(SEARCH(A$206,'12.Partner Involvement'!$G587))=TRUE,(('12.Partner Involvement'!$D587*'12.Partner Involvement'!$E587)/COUNTA(_xlfn.TEXTSPLIT('12.Partner Involvement'!$G587,\";\"))),\"\")","v":""},{"$f":"IF(ISNUMBER(SEARCH(B$206,'12.Partner Involvement'!$G587))=TRUE,(('12.Partner Involvement'!$D587*'12.Partner Involvement'!$E587)/COUNTA(_xlfn.TEXTSPLIT('12.Partner Involvement'!$G587,\";\"))),\"\")","v":""},{"$f":"IF(ISNUMBER(SEARCH(C$206,'12.Partner Involvement'!$G587))=TRUE,(('12.Partner Involvement'!$D587*'12.Partner Involvement'!$E587)/COUNTA(_xlfn.TEXTSPLIT('12.Partner Involvement'!$G587,\";\"))),\"\")","v":""},null,{"$f":"IF(ISNUMBER(SEARCH(E$206,'12.Partner Involvement'!$H587))=TRUE,(('12.Partner Involvement'!$D587*'12.Partner Involvement'!$E587)/COUNTA(_xlfn.TEXTSPLIT('12.Partner Involvement'!$H587,\";\"))),\"\")","v":""},{"$f":"IF(ISNUMBER(SEARCH(F$206,'12.Partner Involvement'!$H587))=TRUE,(('12.Partner Involvement'!$D587*'12.Partner Involvement'!$E587)/COUNTA(_xlfn.TEXTSPLIT('12.Partner Involvement'!$H587,\";\"))),\"\")","v":""},{"$f":"IF(ISNUMBER(SEARCH(G$206,'12.Partner Involvement'!$H587))=TRUE,(('12.Partner Involvement'!$D587*'12.Partner Involvement'!$E587)/COUNTA(_xlfn.TEXTSPLIT('12.Partner Involvement'!$H587,\";\"))),\"\")","v":""},{"$f":"IF(ISNUMBER(SEARCH(H$206,'12.Partner Involvement'!$H587))=TRUE,(('12.Partner Involvement'!$D587*'12.Partner Involvement'!$E587)/COUNTA(_xlfn.TEXTSPLIT('12.Partner Involvement'!$H587,\";\"))),\"\")","v":""}]
[{"$f":"IF(ISNUMBER(SEARCH(A$206,'12.Partner Involvement'!$G588))=TRUE,(('12.Partner Involvement'!$D588*'12.Partner Involvement'!$E588)/COUNTA(_xlfn.TEXTSPLIT('12.Partner Involvement'!$G588,\";\"))),\"\")","v":""},{"$f":"IF(ISNUMBER(SEARCH(B$206,'12.Partner Involvement'!$G588))=TRUE,(('12.Partner Involvement'!$D588*'12.Partner Involvement'!$E588)/COUNTA(_xlfn.TEXTSPLIT('12.Partner Involvement'!$G588,\";\"))),\"\")","v":""},{"$f":"IF(ISNUMBER(SEARCH(C$206,'12.Partner Involvement'!$G588))=TRUE,(('12.Partner Involvement'!$D588*'12.Partner Involvement'!$E588)/COUNTA(_xlfn.TEXTSPLIT('12.Partner Involvement'!$G588,\";\"))),\"\")","v":""},null,{"$f":"IF(ISNUMBER(SEARCH(E$206,'12.Partner Involvement'!$H588))=TRUE,(('12.Partner Involvement'!$D588*'12.Partner Involvement'!$E588)/COUNTA(_xlfn.TEXTSPLIT('12.Partner Involvement'!$H588,\";\"))),\"\")","v":""},{"$f":"IF(ISNUMBER(SEARCH(F$206,'12.Partner Involvement'!$H588))=TRUE,(('12.Partner Involvement'!$D588*'12.Partner Involvement'!$E588)/COUNTA(_xlfn.TEXTSPLIT('12.Partner Involvement'!$H588,\";\"))),\"\")","v":""},{"$f":"IF(ISNUMBER(SEARCH(G$206,'12.Partner Involvement'!$H588))=TRUE,(('12.Partner Involvement'!$D588*'12.Partner Involvement'!$E588)/COUNTA(_xlfn.TEXTSPLIT('12.Partner Involvement'!$H588,\";\"))),\"\")","v":""},{"$f":"IF(ISNUMBER(SEARCH(H$206,'12.Partner Involvement'!$H588))=TRUE,(('12.Partner Involvement'!$D588*'12.Partner Involvement'!$E588)/COUNTA(_xlfn.TEXTSPLIT('12.Partner Involvement'!$H588,\";\"))),\"\")","v":""}]
[{"$f":"IF(ISNUMBER(SEARCH(A$206,'12.Partner Involvement'!$G589))=TRUE,(('12.Partner Involvement'!$D589*'12.Partner Involvement'!$E589)/COUNTA(_xlfn.TEXTSPLIT('12.Partner Involvement'!$G589,\";\"))),\"\")","v":""},{"$f":"IF(ISNUMBER(SEARCH(B$206,'12.Partner Involvement'!$G589))=TRUE,(('12.Partner Involvement'!$D589*'12.Partner Involvement'!$E589)/COUNTA(_xlfn.TEXTSPLIT('12.Partner Involvement'!$G589,\";\"))),\"\")","v":""},{"$f":"IF(ISNUMBER(SEARCH(C$206,'12.Partner Involvement'!$G589))=TRUE,(('12.Partner Involvement'!$D589*'12.Partner Involvement'!$E589)/COUNTA(_xlfn.TEXTSPLIT('12.Partner Involvement'!$G589,\";\"))),\"\")","v":""},null,{"$f":"IF(ISNUMBER(SEARCH(E$206,'12.Partner Involvement'!$H589))=TRUE,(('12.Partner Involvement'!$D589*'12.Partner Involvement'!$E589)/COUNTA(_xlfn.TEXTSPLIT('12.Partner Involvement'!$H589,\";\"))),\"\")","v":""},{"$f":"IF(ISNUMBER(SEARCH(F$206,'12.Partner Involvement'!$H589))=TRUE,(('12.Partner Involvement'!$D589*'12.Partner Involvement'!$E589)/COUNTA(_xlfn.TEXTSPLIT('12.Partner Involvement'!$H589,\";\"))),\"\")","v":""},{"$f":"IF(ISNUMBER(SEARCH(G$206,'12.Partner Involvement'!$H589))=TRUE,(('12.Partner Involvement'!$D589*'12.Partner Involvement'!$E589)/COUNTA(_xlfn.TEXTSPLIT('12.Partner Involvement'!$H589,\";\"))),\"\")","v":""},{"$f":"IF(ISNUMBER(SEARCH(H$206,'12.Partner Involvement'!$H589))=TRUE,(('12.Partner Involvement'!$D589*'12.Partner Involvement'!$E589)/COUNTA(_xlfn.TEXTSPLIT('12.Partner Involvement'!$H589,\";\"))),\"\")","v":""}]
[{"$f":"IF(ISNUMBER(SEARCH(A$206,'12.Partner Involvement'!$G590))=TRUE,(('12.Partner Involvement'!$D590*'12.Partner Involvement'!$E590)/COUNTA(_xlfn.TEXTSPLIT('12.Partner Involvement'!$G590,\";\"))),\"\")","v":""},{"$f":"IF(ISNUMBER(SEARCH(B$206,'12.Partner Involvement'!$G590))=TRUE,(('12.Partner Involvement'!$D590*'12.Partner Involvement'!$E590)/COUNTA(_xlfn.TEXTSPLIT('12.Partner Involvement'!$G590,\";\"))),\"\")","v":""},{"$f":"IF(ISNUMBER(SEARCH(C$206,'12.Partner Involvement'!$G590))=TRUE,(('12.Partner Involvement'!$D590*'12.Partner Involvement'!$E590)/COUNTA(_xlfn.TEXTSPLIT('12.Partner Involvement'!$G590,\";\"))),\"\")","v":""},null,{"$f":"IF(ISNUMBER(SEARCH(E$206,'12.Partner Involvement'!$H590))=TRUE,(('12.Partner Involvement'!$D590*'12.Partner Involvement'!$E590)/COUNTA(_xlfn.TEXTSPLIT('12.Partner Involvement'!$H590,\";\"))),\"\")","v":""},{"$f":"IF(ISNUMBER(SEARCH(F$206,'12.Partner Involvement'!$H590))=TRUE,(('12.Partner Involvement'!$D590*'12.Partner Involvement'!$E590)/COUNTA(_xlfn.TEXTSPLIT('12.Partner Involvement'!$H590,\";\"))),\"\")","v":""},{"$f":"IF(ISNUMBER(SEARCH(G$206,'12.Partner Involvement'!$H590))=TRUE,(('12.Partner Involvement'!$D590*'12.Partner Involvement'!$E590)/COUNTA(_xlfn.TEXTSPLIT('12.Partner Involvement'!$H590,\";\"))),\"\")","v":""},{"$f":"IF(ISNUMBER(SEARCH(H$206,'12.Partner Involvement'!$H590))=TRUE,(('12.Partner Involvement'!$D590*'12.Partner Involvement'!$E590)/COUNTA(_xlfn.TEXTSPLIT('12.Partner Involvement'!$H590,\";\"))),\"\")","v":""}]
[{"$f":"IF(ISNUMBER(SEARCH(A$206,'12.Partner Involvement'!$G591))=TRUE,(('12.Partner Involvement'!$D591*'12.Partner Involvement'!$E591)/COUNTA(_xlfn.TEXTSPLIT('12.Partner Involvement'!$G591,\";\"))),\"\")","v":""},{"$f":"IF(ISNUMBER(SEARCH(B$206,'12.Partner Involvement'!$G591))=TRUE,(('12.Partner Involvement'!$D591*'12.Partner Involvement'!$E591)/COUNTA(_xlfn.TEXTSPLIT('12.Partner Involvement'!$G591,\";\"))),\"\")","v":""},{"$f":"IF(ISNUMBER(SEARCH(C$206,'12.Partner Involvement'!$G591))=TRUE,(('12.Partner Involvement'!$D591*'12.Partner Involvement'!$E591)/COUNTA(_xlfn.TEXTSPLIT('12.Partner Involvement'!$G591,\";\"))),\"\")","v":""},null,{"$f":"IF(ISNUMBER(SEARCH(E$206,'12.Partner Involvement'!$H591))=TRUE,(('12.Partner Involvement'!$D591*'12.Partner Involvement'!$E591)/COUNTA(_xlfn.TEXTSPLIT('12.Partner Involvement'!$H591,\";\"))),\"\")","v":""},{"$f":"IF(ISNUMBER(SEARCH(F$206,'12.Partner Involvement'!$H591))=TRUE,(('12.Partner Involvement'!$D591*'12.Partner Involvement'!$E591)/COUNTA(_xlfn.TEXTSPLIT('12.Partner Involvement'!$H591,\";\"))),\"\")","v":""},{"$f":"IF(ISNUMBER(SEARCH(G$206,'12.Partner Involvement'!$H591))=TRUE,(('12.Partner Involvement'!$D591*'12.Partner Involvement'!$E591)/COUNTA(_xlfn.TEXTSPLIT('12.Partner Involvement'!$H591,\";\"))),\"\")","v":""},{"$f":"IF(ISNUMBER(SEARCH(H$206,'12.Partner Involvement'!$H591))=TRUE,(('12.Partner Involvement'!$D591*'12.Partner Involvement'!$E591)/COUNTA(_xlfn.TEXTSPLIT('12.Partner Involvement'!$H591,\";\"))),\"\")","v":""}]
[{"$f":"IF(ISNUMBER(SEARCH(A$206,'12.Partner Involvement'!$G592))=TRUE,(('12.Partner Involvement'!$D592*'12.Partner Involvement'!$E592)/COUNTA(_xlfn.TEXTSPLIT('12.Partner Involvement'!$G592,\";\"))),\"\")","v":""},{"$f":"IF(ISNUMBER(SEARCH(B$206,'12.Partner Involvement'!$G592))=TRUE,(('12.Partner Involvement'!$D592*'12.Partner Involvement'!$E592)/COUNTA(_xlfn.TEXTSPLIT('12.Partner Involvement'!$G592,\";\"))),\"\")","v":""},{"$f":"IF(ISNUMBER(SEARCH(C$206,'12.Partner Involvement'!$G592))=TRUE,(('12.Partner Involvement'!$D592*'12.Partner Involvement'!$E592)/COUNTA(_xlfn.TEXTSPLIT('12.Partner Involvement'!$G592,\";\"))),\"\")","v":""},null,{"$f":"IF(ISNUMBER(SEARCH(E$206,'12.Partner Involvement'!$H592))=TRUE,(('12.Partner Involvement'!$D592*'12.Partner Involvement'!$E592)/COUNTA(_xlfn.TEXTSPLIT('12.Partner Involvement'!$H592,\";\"))),\"\")","v":""},{"$f":"IF(ISNUMBER(SEARCH(F$206,'12.Partner Involvement'!$H592))=TRUE,(('12.Partner Involvement'!$D592*'12.Partner Involvement'!$E592)/COUNTA(_xlfn.TEXTSPLIT('12.Partner Involvement'!$H592,\";\"))),\"\")","v":""},{"$f":"IF(ISNUMBER(SEARCH(G$206,'12.Partner Involvement'!$H592))=TRUE,(('12.Partner Involvement'!$D592*'12.Partner Involvement'!$E592)/COUNTA(_xlfn.TEXTSPLIT('12.Partner Involvement'!$H592,\";\"))),\"\")","v":""},{"$f":"IF(ISNUMBER(SEARCH(H$206,'12.Partner Involvement'!$H592))=TRUE,(('12.Partner Involvement'!$D592*'12.Partner Involvement'!$E592)/COUNTA(_xlfn.TEXTSPLIT('12.Partner Involvement'!$H592,\";\"))),\"\")","v":""}]
[{"$f":"IF(ISNUMBER(SEARCH(A$206,'12.Partner Involvement'!$G593))=TRUE,(('12.Partner Involvement'!$D593*'12.Partner Involvement'!$E593)/COUNTA(_xlfn.TEXTSPLIT('12.Partner Involvement'!$G593,\";\"))),\"\")","v":""},{"$f":"IF(ISNUMBER(SEARCH(B$206,'12.Partner Involvement'!$G593))=TRUE,(('12.Partner Involvement'!$D593*'12.Partner Involvement'!$E593)/COUNTA(_xlfn.TEXTSPLIT('12.Partner Involvement'!$G593,\";\"))),\"\")","v":""},{"$f":"IF(ISNUMBER(SEARCH(C$206,'12.Partner Involvement'!$G593))=TRUE,(('12.Partner Involvement'!$D593*'12.Partner Involvement'!$E593)/COUNTA(_xlfn.TEXTSPLIT('12.Partner Involvement'!$G593,\";\"))),\"\")","v":""},null,{"$f":"IF(ISNUMBER(SEARCH(E$206,'12.Partner Involvement'!$H593))=TRUE,(('12.Partner Involvement'!$D593*'12.Partner Involvement'!$E593)/COUNTA(_xlfn.TEXTSPLIT('12.Partner Involvement'!$H593,\";\"))),\"\")","v":""},{"$f":"IF(ISNUMBER(SEARCH(F$206,'12.Partner Involvement'!$H593))=TRUE,(('12.Partner Involvement'!$D593*'12.Partner Involvement'!$E593)/COUNTA(_xlfn.TEXTSPLIT('12.Partner Involvement'!$H593,\";\"))),\"\")","v":""},{"$f":"IF(ISNUMBER(SEARCH(G$206,'12.Partner Involvement'!$H593))=TRUE,(('12.Partner Involvement'!$D593*'12.Partner Involvement'!$E593)/COUNTA(_xlfn.TEXTSPLIT('12.Partner Involvement'!$H593,\";\"))),\"\")","v":""},{"$f":"IF(ISNUMBER(SEARCH(H$206,'12.Partner Involvement'!$H593))=TRUE,(('12.Partner Involvement'!$D593*'12.Partner Involvement'!$E593)/COUNTA(_xlfn.TEXTSPLIT('12.Partner Involvement'!$H593,\";\"))),\"\")","v":""}]
[{"$f":"IF(ISNUMBER(SEARCH(A$206,'12.Partner Involvement'!$G594))=TRUE,(('12.Partner Involvement'!$D594*'12.Partner Involvement'!$E594)/COUNTA(_xlfn.TEXTSPLIT('12.Partner Involvement'!$G594,\";\"))),\"\")","v":""},{"$f":"IF(ISNUMBER(SEARCH(B$206,'12.Partner Involvement'!$G594))=TRUE,(('12.Partner Involvement'!$D594*'12.Partner Involvement'!$E594)/COUNTA(_xlfn.TEXTSPLIT('12.Partner Involvement'!$G594,\";\"))),\"\")","v":""},{"$f":"IF(ISNUMBER(SEARCH(C$206,'12.Partner Involvement'!$G594))=TRUE,(('12.Partner Involvement'!$D594*'12.Partner Involvement'!$E594)/COUNTA(_xlfn.TEXTSPLIT('12.Partner Involvement'!$G594,\";\"))),\"\")","v":""},null,{"$f":"IF(ISNUMBER(SEARCH(E$206,'12.Partner Involvement'!$H594))=TRUE,(('12.Partner Involvement'!$D594*'12.Partner Involvement'!$E594)/COUNTA(_xlfn.TEXTSPLIT('12.Partner Involvement'!$H594,\";\"))),\"\")","v":""},{"$f":"IF(ISNUMBER(SEARCH(F$206,'12.Partner Involvement'!$H594))=TRUE,(('12.Partner Involvement'!$D594*'12.Partner Involvement'!$E594)/COUNTA(_xlfn.TEXTSPLIT('12.Partner Involvement'!$H594,\";\"))),\"\")","v":""},{"$f":"IF(ISNUMBER(SEARCH(G$206,'12.Partner Involvement'!$H594))=TRUE,(('12.Partner Involvement'!$D594*'12.Partner Involvement'!$E594)/COUNTA(_xlfn.TEXTSPLIT('12.Partner Involvement'!$H594,\";\"))),\"\")","v":""},{"$f":"IF(ISNUMBER(SEARCH(H$206,'12.Partner Involvement'!$H594))=TRUE,(('12.Partner Involvement'!$D594*'12.Partner Involvement'!$E594)/COUNTA(_xlfn.TEXTSPLIT('12.Partner Involvement'!$H594,\";\"))),\"\")","v":""}]
[{"$f":"IF(ISNUMBER(SEARCH(A$206,'12.Partner Involvement'!$G595))=TRUE,(('12.Partner Involvement'!$D595*'12.Partner Involvement'!$E595)/COUNTA(_xlfn.TEXTSPLIT('12.Partner Involvement'!$G595,\";\"))),\"\")","v":""},{"$f":"IF(ISNUMBER(SEARCH(B$206,'12.Partner Involvement'!$G595))=TRUE,(('12.Partner Involvement'!$D595*'12.Partner Involvement'!$E595)/COUNTA(_xlfn.TEXTSPLIT('12.Partner Involvement'!$G595,\";\"))),\"\")","v":""},{"$f":"IF(ISNUMBER(SEARCH(C$206,'12.Partner Involvement'!$G595))=TRUE,(('12.Partner Involvement'!$D595*'12.Partner Involvement'!$E595)/COUNTA(_xlfn.TEXTSPLIT('12.Partner Involvement'!$G595,\";\"))),\"\")","v":""},null,{"$f":"IF(ISNUMBER(SEARCH(E$206,'12.Partner Involvement'!$H595))=TRUE,(('12.Partner Involvement'!$D595*'12.Partner Involvement'!$E595)/COUNTA(_xlfn.TEXTSPLIT('12.Partner Involvement'!$H595,\";\"))),\"\")","v":""},{"$f":"IF(ISNUMBER(SEARCH(F$206,'12.Partner Involvement'!$H595))=TRUE,(('12.Partner Involvement'!$D595*'12.Partner Involvement'!$E595)/COUNTA(_xlfn.TEXTSPLIT('12.Partner Involvement'!$H595,\";\"))),\"\")","v":""},{"$f":"IF(ISNUMBER(SEARCH(G$206,'12.Partner Involvement'!$H595))=TRUE,(('12.Partner Involvement'!$D595*'12.Partner Involvement'!$E595)/COUNTA(_xlfn.TEXTSPLIT('12.Partner Involvement'!$H595,\";\"))),\"\")","v":""},{"$f":"IF(ISNUMBER(SEARCH(H$206,'12.Partner Involvement'!$H595))=TRUE,(('12.Partner Involvement'!$D595*'12.Partner Involvement'!$E595)/COUNTA(_xlfn.TEXTSPLIT('12.Partner Involvement'!$H595,\";\"))),\"\")","v":""}]
[{"$f":"IF(ISNUMBER(SEARCH(A$206,'12.Partner Involvement'!$G596))=TRUE,(('12.Partner Involvement'!$D596*'12.Partner Involvement'!$E596)/COUNTA(_xlfn.TEXTSPLIT('12.Partner Involvement'!$G596,\";\"))),\"\")","v":""},{"$f":"IF(ISNUMBER(SEARCH(B$206,'12.Partner Involvement'!$G596))=TRUE,(('12.Partner Involvement'!$D596*'12.Partner Involvement'!$E596)/COUNTA(_xlfn.TEXTSPLIT('12.Partner Involvement'!$G596,\";\"))),\"\")","v":""},{"$f":"IF(ISNUMBER(SEARCH(C$206,'12.Partner Involvement'!$G596))=TRUE,(('12.Partner Involvement'!$D596*'12.Partner Involvement'!$E596)/COUNTA(_xlfn.TEXTSPLIT('12.Partner Involvement'!$G596,\";\"))),\"\")","v":""},null,{"$f":"IF(ISNUMBER(SEARCH(E$206,'12.Partner Involvement'!$H596))=TRUE,(('12.Partner Involvement'!$D596*'12.Partner Involvement'!$E596)/COUNTA(_xlfn.TEXTSPLIT('12.Partner Involvement'!$H596,\";\"))),\"\")","v":""},{"$f":"IF(ISNUMBER(SEARCH(F$206,'12.Partner Involvement'!$H596))=TRUE,(('12.Partner Involvement'!$D596*'12.Partner Involvement'!$E596)/COUNTA(_xlfn.TEXTSPLIT('12.Partner Involvement'!$H596,\";\"))),\"\")","v":""},{"$f":"IF(ISNUMBER(SEARCH(G$206,'12.Partner Involvement'!$H596))=TRUE,(('12.Partner Involvement'!$D596*'12.Partner Involvement'!$E596)/COUNTA(_xlfn.TEXTSPLIT('12.Partner Involvement'!$H596,\";\"))),\"\")","v":""},{"$f":"IF(ISNUMBER(SEARCH(H$206,'12.Partner Involvement'!$H596))=TRUE,(('12.Partner Involvement'!$D596*'12.Partner Involvement'!$E596)/COUNTA(_xlfn.TEXTSPLIT('12.Partner Involvement'!$H596,\";\"))),\"\")","v":""}]
[{"$f":"IF(ISNUMBER(SEARCH(A$206,'12.Partner Involvement'!$G597))=TRUE,(('12.Partner Involvement'!$D597*'12.Partner Involvement'!$E597)/COUNTA(_xlfn.TEXTSPLIT('12.Partner Involvement'!$G597,\";\"))),\"\")","v":""},{"$f":"IF(ISNUMBER(SEARCH(B$206,'12.Partner Involvement'!$G597))=TRUE,(('12.Partner Involvement'!$D597*'12.Partner Involvement'!$E597)/COUNTA(_xlfn.TEXTSPLIT('12.Partner Involvement'!$G597,\";\"))),\"\")","v":""},{"$f":"IF(ISNUMBER(SEARCH(C$206,'12.Partner Involvement'!$G597))=TRUE,(('12.Partner Involvement'!$D597*'12.Partner Involvement'!$E597)/COUNTA(_xlfn.TEXTSPLIT('12.Partner Involvement'!$G597,\";\"))),\"\")","v":""},null,{"$f":"IF(ISNUMBER(SEARCH(E$206,'12.Partner Involvement'!$H597))=TRUE,(('12.Partner Involvement'!$D597*'12.Partner Involvement'!$E597)/COUNTA(_xlfn.TEXTSPLIT('12.Partner Involvement'!$H597,\";\"))),\"\")","v":""},{"$f":"IF(ISNUMBER(SEARCH(F$206,'12.Partner Involvement'!$H597))=TRUE,(('12.Partner Involvement'!$D597*'12.Partner Involvement'!$E597)/COUNTA(_xlfn.TEXTSPLIT('12.Partner Involvement'!$H597,\";\"))),\"\")","v":""},{"$f":"IF(ISNUMBER(SEARCH(G$206,'12.Partner Involvement'!$H597))=TRUE,(('12.Partner Involvement'!$D597*'12.Partner Involvement'!$E597)/COUNTA(_xlfn.TEXTSPLIT('12.Partner Involvement'!$H597,\";\"))),\"\")","v":""},{"$f":"IF(ISNUMBER(SEARCH(H$206,'12.Partner Involvement'!$H597))=TRUE,(('12.Partner Involvement'!$D597*'12.Partner Involvement'!$E597)/COUNTA(_xlfn.TEXTSPLIT('12.Partner Involvement'!$H597,\";\"))),\"\")","v":""}]
[{"$f":"IF(ISNUMBER(SEARCH(A$206,'12.Partner Involvement'!$G598))=TRUE,(('12.Partner Involvement'!$D598*'12.Partner Involvement'!$E598)/COUNTA(_xlfn.TEXTSPLIT('12.Partner Involvement'!$G598,\";\"))),\"\")","v":""},{"$f":"IF(ISNUMBER(SEARCH(B$206,'12.Partner Involvement'!$G598))=TRUE,(('12.Partner Involvement'!$D598*'12.Partner Involvement'!$E598)/COUNTA(_xlfn.TEXTSPLIT('12.Partner Involvement'!$G598,\";\"))),\"\")","v":""},{"$f":"IF(ISNUMBER(SEARCH(C$206,'12.Partner Involvement'!$G598))=TRUE,(('12.Partner Involvement'!$D598*'12.Partner Involvement'!$E598)/COUNTA(_xlfn.TEXTSPLIT('12.Partner Involvement'!$G598,\";\"))),\"\")","v":""},null,{"$f":"IF(ISNUMBER(SEARCH(E$206,'12.Partner Involvement'!$H598))=TRUE,(('12.Partner Involvement'!$D598*'12.Partner Involvement'!$E598)/COUNTA(_xlfn.TEXTSPLIT('12.Partner Involvement'!$H598,\";\"))),\"\")","v":""},{"$f":"IF(ISNUMBER(SEARCH(F$206,'12.Partner Involvement'!$H598))=TRUE,(('12.Partner Involvement'!$D598*'12.Partner Involvement'!$E598)/COUNTA(_xlfn.TEXTSPLIT('12.Partner Involvement'!$H598,\";\"))),\"\")","v":""},{"$f":"IF(ISNUMBER(SEARCH(G$206,'12.Partner Involvement'!$H598))=TRUE,(('12.Partner Involvement'!$D598*'12.Partner Involvement'!$E598)/COUNTA(_xlfn.TEXTSPLIT('12.Partner Involvement'!$H598,\";\"))),\"\")","v":""},{"$f":"IF(ISNUMBER(SEARCH(H$206,'12.Partner Involvement'!$H598))=TRUE,(('12.Partner Involvement'!$D598*'12.Partner Involvement'!$E598)/COUNTA(_xlfn.TEXTSPLIT('12.Partner Involvement'!$H598,\";\"))),\"\")","v":""}]
[{"$f":"IF(ISNUMBER(SEARCH(A$206,'12.Partner Involvement'!$G599))=TRUE,(('12.Partner Involvement'!$D599*'12.Partner Involvement'!$E599)/COUNTA(_xlfn.TEXTSPLIT('12.Partner Involvement'!$G599,\";\"))),\"\")","v":""},{"$f":"IF(ISNUMBER(SEARCH(B$206,'12.Partner Involvement'!$G599))=TRUE,(('12.Partner Involvement'!$D599*'12.Partner Involvement'!$E599)/COUNTA(_xlfn.TEXTSPLIT('12.Partner Involvement'!$G599,\";\"))),\"\")","v":""},{"$f":"IF(ISNUMBER(SEARCH(C$206,'12.Partner Involvement'!$G599))=TRUE,(('12.Partner Involvement'!$D599*'12.Partner Involvement'!$E599)/COUNTA(_xlfn.TEXTSPLIT('12.Partner Involvement'!$G599,\";\"))),\"\")","v":""},null,{"$f":"IF(ISNUMBER(SEARCH(E$206,'12.Partner Involvement'!$H599))=TRUE,(('12.Partner Involvement'!$D599*'12.Partner Involvement'!$E599)/COUNTA(_xlfn.TEXTSPLIT('12.Partner Involvement'!$H599,\";\"))),\"\")","v":""},{"$f":"IF(ISNUMBER(SEARCH(F$206,'12.Partner Involvement'!$H599))=TRUE,(('12.Partner Involvement'!$D599*'12.Partner Involvement'!$E599)/COUNTA(_xlfn.TEXTSPLIT('12.Partner Involvement'!$H599,\";\"))),\"\")","v":""},{"$f":"IF(ISNUMBER(SEARCH(G$206,'12.Partner Involvement'!$H599))=TRUE,(('12.Partner Involvement'!$D599*'12.Partner Involvement'!$E599)/COUNTA(_xlfn.TEXTSPLIT('12.Partner Involvement'!$H599,\";\"))),\"\")","v":""},{"$f":"IF(ISNUMBER(SEARCH(H$206,'12.Partner Involvement'!$H599))=TRUE,(('12.Partner Involvement'!$D599*'12.Partner Involvement'!$E599)/COUNTA(_xlfn.TEXTSPLIT('12.Partner Involvement'!$H599,\";\"))),\"\")","v":""}]
[{"$f":"IF(ISNUMBER(SEARCH(A$206,'12.Partner Involvement'!$G600))=TRUE,(('12.Partner Involvement'!$D600*'12.Partner Involvement'!$E600)/COUNTA(_xlfn.TEXTSPLIT('12.Partner Involvement'!$G600,\";\"))),\"\")","v":""},{"$f":"IF(ISNUMBER(SEARCH(B$206,'12.Partner Involvement'!$G600))=TRUE,(('12.Partner Involvement'!$D600*'12.Partner Involvement'!$E600)/COUNTA(_xlfn.TEXTSPLIT('12.Partner Involvement'!$G600,\";\"))),\"\")","v":""},{"$f":"IF(ISNUMBER(SEARCH(C$206,'12.Partner Involvement'!$G600))=TRUE,(('12.Partner Involvement'!$D600*'12.Partner Involvement'!$E600)/COUNTA(_xlfn.TEXTSPLIT('12.Partner Involvement'!$G600,\";\"))),\"\")","v":""},null,{"$f":"IF(ISNUMBER(SEARCH(E$206,'12.Partner Involvement'!$H600))=TRUE,(('12.Partner Involvement'!$D600*'12.Partner Involvement'!$E600)/COUNTA(_xlfn.TEXTSPLIT('12.Partner Involvement'!$H600,\";\"))),\"\")","v":""},{"$f":"IF(ISNUMBER(SEARCH(F$206,'12.Partner Involvement'!$H600))=TRUE,(('12.Partner Involvement'!$D600*'12.Partner Involvement'!$E600)/COUNTA(_xlfn.TEXTSPLIT('12.Partner Involvement'!$H600,\";\"))),\"\")","v":""},{"$f":"IF(ISNUMBER(SEARCH(G$206,'12.Partner Involvement'!$H600))=TRUE,(('12.Partner Involvement'!$D600*'12.Partner Involvement'!$E600)/COUNTA(_xlfn.TEXTSPLIT('12.Partner Involvement'!$H600,\";\"))),\"\")","v":""},{"$f":"IF(ISNUMBER(SEARCH(H$206,'12.Partner Involvement'!$H600))=TRUE,(('12.Partner Involvement'!$D600*'12.Partner Involvement'!$E600)/COUNTA(_xlfn.TEXTSPLIT('12.Partner Involvement'!$H600,\";\"))),\"\")","v":""}]
[{"$f":"IF(ISNUMBER(SEARCH(A$206,'12.Partner Involvement'!$G601))=TRUE,(('12.Partner Involvement'!$D601*'12.Partner Involvement'!$E601)/COUNTA(_xlfn.TEXTSPLIT('12.Partner Involvement'!$G601,\";\"))),\"\")","v":""},{"$f":"IF(ISNUMBER(SEARCH(B$206,'12.Partner Involvement'!$G601))=TRUE,(('12.Partner Involvement'!$D601*'12.Partner Involvement'!$E601)/COUNTA(_xlfn.TEXTSPLIT('12.Partner Involvement'!$G601,\";\"))),\"\")","v":""},{"$f":"IF(ISNUMBER(SEARCH(C$206,'12.Partner Involvement'!$G601))=TRUE,(('12.Partner Involvement'!$D601*'12.Partner Involvement'!$E601)/COUNTA(_xlfn.TEXTSPLIT('12.Partner Involvement'!$G601,\";\"))),\"\")","v":""},null,{"$f":"IF(ISNUMBER(SEARCH(E$206,'12.Partner Involvement'!$H601))=TRUE,(('12.Partner Involvement'!$D601*'12.Partner Involvement'!$E601)/COUNTA(_xlfn.TEXTSPLIT('12.Partner Involvement'!$H601,\";\"))),\"\")","v":""},{"$f":"IF(ISNUMBER(SEARCH(F$206,'12.Partner Involvement'!$H601))=TRUE,(('12.Partner Involvement'!$D601*'12.Partner Involvement'!$E601)/COUNTA(_xlfn.TEXTSPLIT('12.Partner Involvement'!$H601,\";\"))),\"\")","v":""},{"$f":"IF(ISNUMBER(SEARCH(G$206,'12.Partner Involvement'!$H601))=TRUE,(('12.Partner Involvement'!$D601*'12.Partner Involvement'!$E601)/COUNTA(_xlfn.TEXTSPLIT('12.Partner Involvement'!$H601,\";\"))),\"\")","v":""},{"$f":"IF(ISNUMBER(SEARCH(H$206,'12.Partner Involvement'!$H601))=TRUE,(('12.Partner Involvement'!$D601*'12.Partner Involvement'!$E601)/COUNTA(_xlfn.TEXTSPLIT('12.Partner Involvement'!$H601,\";\"))),\"\")","v":""}]
[{"$f":"IF(ISNUMBER(SEARCH(A$206,'12.Partner Involvement'!$G602))=TRUE,(('12.Partner Involvement'!$D602*'12.Partner Involvement'!$E602)/COUNTA(_xlfn.TEXTSPLIT('12.Partner Involvement'!$G602,\";\"))),\"\")","v":""},{"$f":"IF(ISNUMBER(SEARCH(B$206,'12.Partner Involvement'!$G602))=TRUE,(('12.Partner Involvement'!$D602*'12.Partner Involvement'!$E602)/COUNTA(_xlfn.TEXTSPLIT('12.Partner Involvement'!$G602,\";\"))),\"\")","v":""},{"$f":"IF(ISNUMBER(SEARCH(C$206,'12.Partner Involvement'!$G602))=TRUE,(('12.Partner Involvement'!$D602*'12.Partner Involvement'!$E602)/COUNTA(_xlfn.TEXTSPLIT('12.Partner Involvement'!$G602,\";\"))),\"\")","v":""},null,{"$f":"IF(ISNUMBER(SEARCH(E$206,'12.Partner Involvement'!$H602))=TRUE,(('12.Partner Involvement'!$D602*'12.Partner Involvement'!$E602)/COUNTA(_xlfn.TEXTSPLIT('12.Partner Involvement'!$H602,\";\"))),\"\")","v":""},{"$f":"IF(ISNUMBER(SEARCH(F$206,'12.Partner Involvement'!$H602))=TRUE,(('12.Partner Involvement'!$D602*'12.Partner Involvement'!$E602)/COUNTA(_xlfn.TEXTSPLIT('12.Partner Involvement'!$H602,\";\"))),\"\")","v":""},{"$f":"IF(ISNUMBER(SEARCH(G$206,'12.Partner Involvement'!$H602))=TRUE,(('12.Partner Involvement'!$D602*'12.Partner Involvement'!$E602)/COUNTA(_xlfn.TEXTSPLIT('12.Partner Involvement'!$H602,\";\"))),\"\")","v":""},{"$f":"IF(ISNUMBER(SEARCH(H$206,'12.Partner Involvement'!$H602))=TRUE,(('12.Partner Involvement'!$D602*'12.Partner Involvement'!$E602)/COUNTA(_xlfn.TEXTSPLIT('12.Partner Involvement'!$H602,\";\"))),\"\")","v":""}]
[{"$f":"IF(ISNUMBER(SEARCH(A$206,'12.Partner Involvement'!$G603))=TRUE,(('12.Partner Involvement'!$D603*'12.Partner Involvement'!$E603)/COUNTA(_xlfn.TEXTSPLIT('12.Partner Involvement'!$G603,\";\"))),\"\")","v":""},{"$f":"IF(ISNUMBER(SEARCH(B$206,'12.Partner Involvement'!$G603))=TRUE,(('12.Partner Involvement'!$D603*'12.Partner Involvement'!$E603)/COUNTA(_xlfn.TEXTSPLIT('12.Partner Involvement'!$G603,\";\"))),\"\")","v":""},{"$f":"IF(ISNUMBER(SEARCH(C$206,'12.Partner Involvement'!$G603))=TRUE,(('12.Partner Involvement'!$D603*'12.Partner Involvement'!$E603)/COUNTA(_xlfn.TEXTSPLIT('12.Partner Involvement'!$G603,\";\"))),\"\")","v":""},null,{"$f":"IF(ISNUMBER(SEARCH(E$206,'12.Partner Involvement'!$H603))=TRUE,(('12.Partner Involvement'!$D603*'12.Partner Involvement'!$E603)/COUNTA(_xlfn.TEXTSPLIT('12.Partner Involvement'!$H603,\";\"))),\"\")","v":""},{"$f":"IF(ISNUMBER(SEARCH(F$206,'12.Partner Involvement'!$H603))=TRUE,(('12.Partner Involvement'!$D603*'12.Partner Involvement'!$E603)/COUNTA(_xlfn.TEXTSPLIT('12.Partner Involvement'!$H603,\";\"))),\"\")","v":""},{"$f":"IF(ISNUMBER(SEARCH(G$206,'12.Partner Involvement'!$H603))=TRUE,(('12.Partner Involvement'!$D603*'12.Partner Involvement'!$E603)/COUNTA(_xlfn.TEXTSPLIT('12.Partner Involvement'!$H603,\";\"))),\"\")","v":""},{"$f":"IF(ISNUMBER(SEARCH(H$206,'12.Partner Involvement'!$H603))=TRUE,(('12.Partner Involvement'!$D603*'12.Partner Involvement'!$E603)/COUNTA(_xlfn.TEXTSPLIT('12.Partner Involvement'!$H603,\";\"))),\"\")","v":""}]
[{"$f":"IF(ISNUMBER(SEARCH(A$206,'12.Partner Involvement'!$G604))=TRUE,(('12.Partner Involvement'!$D604*'12.Partner Involvement'!$E604)/COUNTA(_xlfn.TEXTSPLIT('12.Partner Involvement'!$G604,\";\"))),\"\")","v":""},{"$f":"IF(ISNUMBER(SEARCH(B$206,'12.Partner Involvement'!$G604))=TRUE,(('12.Partner Involvement'!$D604*'12.Partner Involvement'!$E604)/COUNTA(_xlfn.TEXTSPLIT('12.Partner Involvement'!$G604,\";\"))),\"\")","v":""},{"$f":"IF(ISNUMBER(SEARCH(C$206,'12.Partner Involvement'!$G604))=TRUE,(('12.Partner Involvement'!$D604*'12.Partner Involvement'!$E604)/COUNTA(_xlfn.TEXTSPLIT('12.Partner Involvement'!$G604,\";\"))),\"\")","v":""},null,{"$f":"IF(ISNUMBER(SEARCH(E$206,'12.Partner Involvement'!$H604))=TRUE,(('12.Partner Involvement'!$D604*'12.Partner Involvement'!$E604)/COUNTA(_xlfn.TEXTSPLIT('12.Partner Involvement'!$H604,\";\"))),\"\")","v":""},{"$f":"IF(ISNUMBER(SEARCH(F$206,'12.Partner Involvement'!$H604))=TRUE,(('12.Partner Involvement'!$D604*'12.Partner Involvement'!$E604)/COUNTA(_xlfn.TEXTSPLIT('12.Partner Involvement'!$H604,\";\"))),\"\")","v":""},{"$f":"IF(ISNUMBER(SEARCH(G$206,'12.Partner Involvement'!$H604))=TRUE,(('12.Partner Involvement'!$D604*'12.Partner Involvement'!$E604)/COUNTA(_xlfn.TEXTSPLIT('12.Partner Involvement'!$H604,\";\"))),\"\")","v":""},{"$f":"IF(ISNUMBER(SEARCH(H$206,'12.Partner Involvement'!$H604))=TRUE,(('12.Partner Involvement'!$D604*'12.Partner Involvement'!$E604)/COUNTA(_xlfn.TEXTSPLIT('12.Partner Involvement'!$H604,\";\"))),\"\")","v":""}]
[{"$f":"IF(ISNUMBER(SEARCH(A$206,'12.Partner Involvement'!$G605))=TRUE,(('12.Partner Involvement'!$D605*'12.Partner Involvement'!$E605)/COUNTA(_xlfn.TEXTSPLIT('12.Partner Involvement'!$G605,\";\"))),\"\")","v":""},{"$f":"IF(ISNUMBER(SEARCH(B$206,'12.Partner Involvement'!$G605))=TRUE,(('12.Partner Involvement'!$D605*'12.Partner Involvement'!$E605)/COUNTA(_xlfn.TEXTSPLIT('12.Partner Involvement'!$G605,\";\"))),\"\")","v":""},{"$f":"IF(ISNUMBER(SEARCH(C$206,'12.Partner Involvement'!$G605))=TRUE,(('12.Partner Involvement'!$D605*'12.Partner Involvement'!$E605)/COUNTA(_xlfn.TEXTSPLIT('12.Partner Involvement'!$G605,\";\"))),\"\")","v":""},null,{"$f":"IF(ISNUMBER(SEARCH(E$206,'12.Partner Involvement'!$H605))=TRUE,(('12.Partner Involvement'!$D605*'12.Partner Involvement'!$E605)/COUNTA(_xlfn.TEXTSPLIT('12.Partner Involvement'!$H605,\";\"))),\"\")","v":""},{"$f":"IF(ISNUMBER(SEARCH(F$206,'12.Partner Involvement'!$H605))=TRUE,(('12.Partner Involvement'!$D605*'12.Partner Involvement'!$E605)/COUNTA(_xlfn.TEXTSPLIT('12.Partner Involvement'!$H605,\";\"))),\"\")","v":""},{"$f":"IF(ISNUMBER(SEARCH(G$206,'12.Partner Involvement'!$H605))=TRUE,(('12.Partner Involvement'!$D605*'12.Partner Involvement'!$E605)/COUNTA(_xlfn.TEXTSPLIT('12.Partner Involvement'!$H605,\";\"))),\"\")","v":""},{"$f":"IF(ISNUMBER(SEARCH(H$206,'12.Partner Involvement'!$H605))=TRUE,(('12.Partner Involvement'!$D605*'12.Partner Involvement'!$E605)/COUNTA(_xlfn.TEXTSPLIT('12.Partner Involvement'!$H605,\";\"))),\"\")","v":""}]
[{"$f":"IF(ISNUMBER(SEARCH(A$206,'12.Partner Involvement'!$G606))=TRUE,(('12.Partner Involvement'!$D606*'12.Partner Involvement'!$E606)/COUNTA(_xlfn.TEXTSPLIT('12.Partner Involvement'!$G606,\";\"))),\"\")","v":""},{"$f":"IF(ISNUMBER(SEARCH(B$206,'12.Partner Involvement'!$G606))=TRUE,(('12.Partner Involvement'!$D606*'12.Partner Involvement'!$E606)/COUNTA(_xlfn.TEXTSPLIT('12.Partner Involvement'!$G606,\";\"))),\"\")","v":""},{"$f":"IF(ISNUMBER(SEARCH(C$206,'12.Partner Involvement'!$G606))=TRUE,(('12.Partner Involvement'!$D606*'12.Partner Involvement'!$E606)/COUNTA(_xlfn.TEXTSPLIT('12.Partner Involvement'!$G606,\";\"))),\"\")","v":""},null,{"$f":"IF(ISNUMBER(SEARCH(E$206,'12.Partner Involvement'!$H606))=TRUE,(('12.Partner Involvement'!$D606*'12.Partner Involvement'!$E606)/COUNTA(_xlfn.TEXTSPLIT('12.Partner Involvement'!$H606,\";\"))),\"\")","v":""},{"$f":"IF(ISNUMBER(SEARCH(F$206,'12.Partner Involvement'!$H606))=TRUE,(('12.Partner Involvement'!$D606*'12.Partner Involvement'!$E606)/COUNTA(_xlfn.TEXTSPLIT('12.Partner Involvement'!$H606,\";\"))),\"\")","v":""},{"$f":"IF(ISNUMBER(SEARCH(G$206,'12.Partner Involvement'!$H606))=TRUE,(('12.Partner Involvement'!$D606*'12.Partner Involvement'!$E606)/COUNTA(_xlfn.TEXTSPLIT('12.Partner Involvement'!$H606,\";\"))),\"\")","v":""},{"$f":"IF(ISNUMBER(SEARCH(H$206,'12.Partner Involvement'!$H606))=TRUE,(('12.Partner Involvement'!$D606*'12.Partner Involvement'!$E606)/COUNTA(_xlfn.TEXTSPLIT('12.Partner Involvement'!$H606,\";\"))),\"\")","v":""}]
[{"$f":"IF(ISNUMBER(SEARCH(A$206,'12.Partner Involvement'!$G607))=TRUE,(('12.Partner Involvement'!$D607*'12.Partner Involvement'!$E607)/COUNTA(_xlfn.TEXTSPLIT('12.Partner Involvement'!$G607,\";\"))),\"\")","v":""},{"$f":"IF(ISNUMBER(SEARCH(B$206,'12.Partner Involvement'!$G607))=TRUE,(('12.Partner Involvement'!$D607*'12.Partner Involvement'!$E607)/COUNTA(_xlfn.TEXTSPLIT('12.Partner Involvement'!$G607,\";\"))),\"\")","v":""},{"$f":"IF(ISNUMBER(SEARCH(C$206,'12.Partner Involvement'!$G607))=TRUE,(('12.Partner Involvement'!$D607*'12.Partner Involvement'!$E607)/COUNTA(_xlfn.TEXTSPLIT('12.Partner Involvement'!$G607,\";\"))),\"\")","v":""},null,{"$f":"IF(ISNUMBER(SEARCH(E$206,'12.Partner Involvement'!$H607))=TRUE,(('12.Partner Involvement'!$D607*'12.Partner Involvement'!$E607)/COUNTA(_xlfn.TEXTSPLIT('12.Partner Involvement'!$H607,\";\"))),\"\")","v":""},{"$f":"IF(ISNUMBER(SEARCH(F$206,'12.Partner Involvement'!$H607))=TRUE,(('12.Partner Involvement'!$D607*'12.Partner Involvement'!$E607)/COUNTA(_xlfn.TEXTSPLIT('12.Partner Involvement'!$H607,\";\"))),\"\")","v":""},{"$f":"IF(ISNUMBER(SEARCH(G$206,'12.Partner Involvement'!$H607))=TRUE,(('12.Partner Involvement'!$D607*'12.Partner Involvement'!$E607)/COUNTA(_xlfn.TEXTSPLIT('12.Partner Involvement'!$H607,\";\"))),\"\")","v":""},{"$f":"IF(ISNUMBER(SEARCH(H$206,'12.Partner Involvement'!$H607))=TRUE,(('12.Partner Involvement'!$D607*'12.Partner Involvement'!$E607)/COUNTA(_xlfn.TEXTSPLIT('12.Partner Involvement'!$H607,\";\"))),\"\")","v":""}]
[{"$f":"IF(ISNUMBER(SEARCH(A$206,'12.Partner Involvement'!$G608))=TRUE,(('12.Partner Involvement'!$D608*'12.Partner Involvement'!$E608)/COUNTA(_xlfn.TEXTSPLIT('12.Partner Involvement'!$G608,\";\"))),\"\")","v":""},{"$f":"IF(ISNUMBER(SEARCH(B$206,'12.Partner Involvement'!$G608))=TRUE,(('12.Partner Involvement'!$D608*'12.Partner Involvement'!$E608)/COUNTA(_xlfn.TEXTSPLIT('12.Partner Involvement'!$G608,\";\"))),\"\")","v":""},{"$f":"IF(ISNUMBER(SEARCH(C$206,'12.Partner Involvement'!$G608))=TRUE,(('12.Partner Involvement'!$D608*'12.Partner Involvement'!$E608)/COUNTA(_xlfn.TEXTSPLIT('12.Partner Involvement'!$G608,\";\"))),\"\")","v":""},null,{"$f":"IF(ISNUMBER(SEARCH(E$206,'12.Partner Involvement'!$H608))=TRUE,(('12.Partner Involvement'!$D608*'12.Partner Involvement'!$E608)/COUNTA(_xlfn.TEXTSPLIT('12.Partner Involvement'!$H608,\";\"))),\"\")","v":""},{"$f":"IF(ISNUMBER(SEARCH(F$206,'12.Partner Involvement'!$H608))=TRUE,(('12.Partner Involvement'!$D608*'12.Partner Involvement'!$E608)/COUNTA(_xlfn.TEXTSPLIT('12.Partner Involvement'!$H608,\";\"))),\"\")","v":""},{"$f":"IF(ISNUMBER(SEARCH(G$206,'12.Partner Involvement'!$H608))=TRUE,(('12.Partner Involvement'!$D608*'12.Partner Involvement'!$E608)/COUNTA(_xlfn.TEXTSPLIT('12.Partner Involvement'!$H608,\";\"))),\"\")","v":""},{"$f":"IF(ISNUMBER(SEARCH(H$206,'12.Partner Involvement'!$H608))=TRUE,(('12.Partner Involvement'!$D608*'12.Partner Involvement'!$E608)/COUNTA(_xlfn.TEXTSPLIT('12.Partner Involvement'!$H608,\";\"))),\"\")","v":""}]
[{"$f":"IF(ISNUMBER(SEARCH(A$206,'12.Partner Involvement'!$G609))=TRUE,(('12.Partner Involvement'!$D609*'12.Partner Involvement'!$E609)/COUNTA(_xlfn.TEXTSPLIT('12.Partner Involvement'!$G609,\";\"))),\"\")","v":""},{"$f":"IF(ISNUMBER(SEARCH(B$206,'12.Partner Involvement'!$G609))=TRUE,(('12.Partner Involvement'!$D609*'12.Partner Involvement'!$E609)/COUNTA(_xlfn.TEXTSPLIT('12.Partner Involvement'!$G609,\";\"))),\"\")","v":""},{"$f":"IF(ISNUMBER(SEARCH(C$206,'12.Partner Involvement'!$G609))=TRUE,(('12.Partner Involvement'!$D609*'12.Partner Involvement'!$E609)/COUNTA(_xlfn.TEXTSPLIT('12.Partner Involvement'!$G609,\";\"))),\"\")","v":""},null,{"$f":"IF(ISNUMBER(SEARCH(E$206,'12.Partner Involvement'!$H609))=TRUE,(('12.Partner Involvement'!$D609*'12.Partner Involvement'!$E609)/COUNTA(_xlfn.TEXTSPLIT('12.Partner Involvement'!$H609,\";\"))),\"\")","v":""},{"$f":"IF(ISNUMBER(SEARCH(F$206,'12.Partner Involvement'!$H609))=TRUE,(('12.Partner Involvement'!$D609*'12.Partner Involvement'!$E609)/COUNTA(_xlfn.TEXTSPLIT('12.Partner Involvement'!$H609,\";\"))),\"\")","v":""},{"$f":"IF(ISNUMBER(SEARCH(G$206,'12.Partner Involvement'!$H609))=TRUE,(('12.Partner Involvement'!$D609*'12.Partner Involvement'!$E609)/COUNTA(_xlfn.TEXTSPLIT('12.Partner Involvement'!$H609,\";\"))),\"\")","v":""},{"$f":"IF(ISNUMBER(SEARCH(H$206,'12.Partner Involvement'!$H609))=TRUE,(('12.Partner Involvement'!$D609*'12.Partner Involvement'!$E609)/COUNTA(_xlfn.TEXTSPLIT('12.Partner Involvement'!$H609,\";\"))),\"\")","v":""}]
[{"$f":"IF(ISNUMBER(SEARCH(A$206,'12.Partner Involvement'!$G610))=TRUE,(('12.Partner Involvement'!$D610*'12.Partner Involvement'!$E610)/COUNTA(_xlfn.TEXTSPLIT('12.Partner Involvement'!$G610,\";\"))),\"\")","v":""},{"$f":"IF(ISNUMBER(SEARCH(B$206,'12.Partner Involvement'!$G610))=TRUE,(('12.Partner Involvement'!$D610*'12.Partner Involvement'!$E610)/COUNTA(_xlfn.TEXTSPLIT('12.Partner Involvement'!$G610,\";\"))),\"\")","v":""},{"$f":"IF(ISNUMBER(SEARCH(C$206,'12.Partner Involvement'!$G610))=TRUE,(('12.Partner Involvement'!$D610*'12.Partner Involvement'!$E610)/COUNTA(_xlfn.TEXTSPLIT('12.Partner Involvement'!$G610,\";\"))),\"\")","v":""},null,{"$f":"IF(ISNUMBER(SEARCH(E$206,'12.Partner Involvement'!$H610))=TRUE,(('12.Partner Involvement'!$D610*'12.Partner Involvement'!$E610)/COUNTA(_xlfn.TEXTSPLIT('12.Partner Involvement'!$H610,\";\"))),\"\")","v":""},{"$f":"IF(ISNUMBER(SEARCH(F$206,'12.Partner Involvement'!$H610))=TRUE,(('12.Partner Involvement'!$D610*'12.Partner Involvement'!$E610)/COUNTA(_xlfn.TEXTSPLIT('12.Partner Involvement'!$H610,\";\"))),\"\")","v":""},{"$f":"IF(ISNUMBER(SEARCH(G$206,'12.Partner Involvement'!$H610))=TRUE,(('12.Partner Involvement'!$D610*'12.Partner Involvement'!$E610)/COUNTA(_xlfn.TEXTSPLIT('12.Partner Involvement'!$H610,\";\"))),\"\")","v":""},{"$f":"IF(ISNUMBER(SEARCH(H$206,'12.Partner Involvement'!$H610))=TRUE,(('12.Partner Involvement'!$D610*'12.Partner Involvement'!$E610)/COUNTA(_xlfn.TEXTSPLIT('12.Partner Involvement'!$H610,\";\"))),\"\")","v":""}]
[{"$f":"IF(ISNUMBER(SEARCH(A$206,'12.Partner Involvement'!$G611))=TRUE,(('12.Partner Involvement'!$D611*'12.Partner Involvement'!$E611)/COUNTA(_xlfn.TEXTSPLIT('12.Partner Involvement'!$G611,\";\"))),\"\")","v":""},{"$f":"IF(ISNUMBER(SEARCH(B$206,'12.Partner Involvement'!$G611))=TRUE,(('12.Partner Involvement'!$D611*'12.Partner Involvement'!$E611)/COUNTA(_xlfn.TEXTSPLIT('12.Partner Involvement'!$G611,\";\"))),\"\")","v":""},{"$f":"IF(ISNUMBER(SEARCH(C$206,'12.Partner Involvement'!$G611))=TRUE,(('12.Partner Involvement'!$D611*'12.Partner Involvement'!$E611)/COUNTA(_xlfn.TEXTSPLIT('12.Partner Involvement'!$G611,\";\"))),\"\")","v":""},null,{"$f":"IF(ISNUMBER(SEARCH(E$206,'12.Partner Involvement'!$H611))=TRUE,(('12.Partner Involvement'!$D611*'12.Partner Involvement'!$E611)/COUNTA(_xlfn.TEXTSPLIT('12.Partner Involvement'!$H611,\";\"))),\"\")","v":""},{"$f":"IF(ISNUMBER(SEARCH(F$206,'12.Partner Involvement'!$H611))=TRUE,(('12.Partner Involvement'!$D611*'12.Partner Involvement'!$E611)/COUNTA(_xlfn.TEXTSPLIT('12.Partner Involvement'!$H611,\";\"))),\"\")","v":""},{"$f":"IF(ISNUMBER(SEARCH(G$206,'12.Partner Involvement'!$H611))=TRUE,(('12.Partner Involvement'!$D611*'12.Partner Involvement'!$E611)/COUNTA(_xlfn.TEXTSPLIT('12.Partner Involvement'!$H611,\";\"))),\"\")","v":""},{"$f":"IF(ISNUMBER(SEARCH(H$206,'12.Partner Involvement'!$H611))=TRUE,(('12.Partner Involvement'!$D611*'12.Partner Involvement'!$E611)/COUNTA(_xlfn.TEXTSPLIT('12.Partner Involvement'!$H611,\";\"))),\"\")","v":""}]
[{"$f":"IF(ISNUMBER(SEARCH(A$206,'12.Partner Involvement'!$G612))=TRUE,(('12.Partner Involvement'!$D612*'12.Partner Involvement'!$E612)/COUNTA(_xlfn.TEXTSPLIT('12.Partner Involvement'!$G612,\";\"))),\"\")","v":""},{"$f":"IF(ISNUMBER(SEARCH(B$206,'12.Partner Involvement'!$G612))=TRUE,(('12.Partner Involvement'!$D612*'12.Partner Involvement'!$E612)/COUNTA(_xlfn.TEXTSPLIT('12.Partner Involvement'!$G612,\";\"))),\"\")","v":""},{"$f":"IF(ISNUMBER(SEARCH(C$206,'12.Partner Involvement'!$G612))=TRUE,(('12.Partner Involvement'!$D612*'12.Partner Involvement'!$E612)/COUNTA(_xlfn.TEXTSPLIT('12.Partner Involvement'!$G612,\";\"))),\"\")","v":""},null,{"$f":"IF(ISNUMBER(SEARCH(E$206,'12.Partner Involvement'!$H612))=TRUE,(('12.Partner Involvement'!$D612*'12.Partner Involvement'!$E612)/COUNTA(_xlfn.TEXTSPLIT('12.Partner Involvement'!$H612,\";\"))),\"\")","v":""},{"$f":"IF(ISNUMBER(SEARCH(F$206,'12.Partner Involvement'!$H612))=TRUE,(('12.Partner Involvement'!$D612*'12.Partner Involvement'!$E612)/COUNTA(_xlfn.TEXTSPLIT('12.Partner Involvement'!$H612,\";\"))),\"\")","v":""},{"$f":"IF(ISNUMBER(SEARCH(G$206,'12.Partner Involvement'!$H612))=TRUE,(('12.Partner Involvement'!$D612*'12.Partner Involvement'!$E612)/COUNTA(_xlfn.TEXTSPLIT('12.Partner Involvement'!$H612,\";\"))),\"\")","v":""},{"$f":"IF(ISNUMBER(SEARCH(H$206,'12.Partner Involvement'!$H612))=TRUE,(('12.Partner Involvement'!$D612*'12.Partner Involvement'!$E612)/COUNTA(_xlfn.TEXTSPLIT('12.Partner Involvement'!$H612,\";\"))),\"\")","v":""}]
[{"$f":"IF(ISNUMBER(SEARCH(A$206,'12.Partner Involvement'!$G613))=TRUE,(('12.Partner Involvement'!$D613*'12.Partner Involvement'!$E613)/COUNTA(_xlfn.TEXTSPLIT('12.Partner Involvement'!$G613,\";\"))),\"\")","v":""},{"$f":"IF(ISNUMBER(SEARCH(B$206,'12.Partner Involvement'!$G613))=TRUE,(('12.Partner Involvement'!$D613*'12.Partner Involvement'!$E613)/COUNTA(_xlfn.TEXTSPLIT('12.Partner Involvement'!$G613,\";\"))),\"\")","v":""},{"$f":"IF(ISNUMBER(SEARCH(C$206,'12.Partner Involvement'!$G613))=TRUE,(('12.Partner Involvement'!$D613*'12.Partner Involvement'!$E613)/COUNTA(_xlfn.TEXTSPLIT('12.Partner Involvement'!$G613,\";\"))),\"\")","v":""},null,{"$f":"IF(ISNUMBER(SEARCH(E$206,'12.Partner Involvement'!$H613))=TRUE,(('12.Partner Involvement'!$D613*'12.Partner Involvement'!$E613)/COUNTA(_xlfn.TEXTSPLIT('12.Partner Involvement'!$H613,\";\"))),\"\")","v":""},{"$f":"IF(ISNUMBER(SEARCH(F$206,'12.Partner Involvement'!$H613))=TRUE,(('12.Partner Involvement'!$D613*'12.Partner Involvement'!$E613)/COUNTA(_xlfn.TEXTSPLIT('12.Partner Involvement'!$H613,\";\"))),\"\")","v":""},{"$f":"IF(ISNUMBER(SEARCH(G$206,'12.Partner Involvement'!$H613))=TRUE,(('12.Partner Involvement'!$D613*'12.Partner Involvement'!$E613)/COUNTA(_xlfn.TEXTSPLIT('12.Partner Involvement'!$H613,\";\"))),\"\")","v":""},{"$f":"IF(ISNUMBER(SEARCH(H$206,'12.Partner Involvement'!$H613))=TRUE,(('12.Partner Involvement'!$D613*'12.Partner Involvement'!$E613)/COUNTA(_xlfn.TEXTSPLIT('12.Partner Involvement'!$H613,\";\"))),\"\")","v":""}]
[{"$f":"IF(ISNUMBER(SEARCH(A$206,'12.Partner Involvement'!$G614))=TRUE,(('12.Partner Involvement'!$D614*'12.Partner Involvement'!$E614)/COUNTA(_xlfn.TEXTSPLIT('12.Partner Involvement'!$G614,\";\"))),\"\")","v":""},{"$f":"IF(ISNUMBER(SEARCH(B$206,'12.Partner Involvement'!$G614))=TRUE,(('12.Partner Involvement'!$D614*'12.Partner Involvement'!$E614)/COUNTA(_xlfn.TEXTSPLIT('12.Partner Involvement'!$G614,\";\"))),\"\")","v":""},{"$f":"IF(ISNUMBER(SEARCH(C$206,'12.Partner Involvement'!$G614))=TRUE,(('12.Partner Involvement'!$D614*'12.Partner Involvement'!$E614)/COUNTA(_xlfn.TEXTSPLIT('12.Partner Involvement'!$G614,\";\"))),\"\")","v":""},null,{"$f":"IF(ISNUMBER(SEARCH(E$206,'12.Partner Involvement'!$H614))=TRUE,(('12.Partner Involvement'!$D614*'12.Partner Involvement'!$E614)/COUNTA(_xlfn.TEXTSPLIT('12.Partner Involvement'!$H614,\";\"))),\"\")","v":""},{"$f":"IF(ISNUMBER(SEARCH(F$206,'12.Partner Involvement'!$H614))=TRUE,(('12.Partner Involvement'!$D614*'12.Partner Involvement'!$E614)/COUNTA(_xlfn.TEXTSPLIT('12.Partner Involvement'!$H614,\";\"))),\"\")","v":""},{"$f":"IF(ISNUMBER(SEARCH(G$206,'12.Partner Involvement'!$H614))=TRUE,(('12.Partner Involvement'!$D614*'12.Partner Involvement'!$E614)/COUNTA(_xlfn.TEXTSPLIT('12.Partner Involvement'!$H614,\";\"))),\"\")","v":""},{"$f":"IF(ISNUMBER(SEARCH(H$206,'12.Partner Involvement'!$H614))=TRUE,(('12.Partner Involvement'!$D614*'12.Partner Involvement'!$E614)/COUNTA(_xlfn.TEXTSPLIT('12.Partner Involvement'!$H614,\";\"))),\"\")","v":""}]
[{"$f":"IF(ISNUMBER(SEARCH(A$206,'12.Partner Involvement'!$G615))=TRUE,(('12.Partner Involvement'!$D615*'12.Partner Involvement'!$E615)/COUNTA(_xlfn.TEXTSPLIT('12.Partner Involvement'!$G615,\";\"))),\"\")","v":""},{"$f":"IF(ISNUMBER(SEARCH(B$206,'12.Partner Involvement'!$G615))=TRUE,(('12.Partner Involvement'!$D615*'12.Partner Involvement'!$E615)/COUNTA(_xlfn.TEXTSPLIT('12.Partner Involvement'!$G615,\";\"))),\"\")","v":""},{"$f":"IF(ISNUMBER(SEARCH(C$206,'12.Partner Involvement'!$G615))=TRUE,(('12.Partner Involvement'!$D615*'12.Partner Involvement'!$E615)/COUNTA(_xlfn.TEXTSPLIT('12.Partner Involvement'!$G615,\";\"))),\"\")","v":""},null,{"$f":"IF(ISNUMBER(SEARCH(E$206,'12.Partner Involvement'!$H615))=TRUE,(('12.Partner Involvement'!$D615*'12.Partner Involvement'!$E615)/COUNTA(_xlfn.TEXTSPLIT('12.Partner Involvement'!$H615,\";\"))),\"\")","v":""},{"$f":"IF(ISNUMBER(SEARCH(F$206,'12.Partner Involvement'!$H615))=TRUE,(('12.Partner Involvement'!$D615*'12.Partner Involvement'!$E615)/COUNTA(_xlfn.TEXTSPLIT('12.Partner Involvement'!$H615,\";\"))),\"\")","v":""},{"$f":"IF(ISNUMBER(SEARCH(G$206,'12.Partner Involvement'!$H615))=TRUE,(('12.Partner Involvement'!$D615*'12.Partner Involvement'!$E615)/COUNTA(_xlfn.TEXTSPLIT('12.Partner Involvement'!$H615,\";\"))),\"\")","v":""},{"$f":"IF(ISNUMBER(SEARCH(H$206,'12.Partner Involvement'!$H615))=TRUE,(('12.Partner Involvement'!$D615*'12.Partner Involvement'!$E615)/COUNTA(_xlfn.TEXTSPLIT('12.Partner Involvement'!$H615,\";\"))),\"\")","v":""}]
[{"$f":"IF(ISNUMBER(SEARCH(A$206,'12.Partner Involvement'!$G616))=TRUE,(('12.Partner Involvement'!$D616*'12.Partner Involvement'!$E616)/COUNTA(_xlfn.TEXTSPLIT('12.Partner Involvement'!$G616,\";\"))),\"\")","v":""},{"$f":"IF(ISNUMBER(SEARCH(B$206,'12.Partner Involvement'!$G616))=TRUE,(('12.Partner Involvement'!$D616*'12.Partner Involvement'!$E616)/COUNTA(_xlfn.TEXTSPLIT('12.Partner Involvement'!$G616,\";\"))),\"\")","v":""},{"$f":"IF(ISNUMBER(SEARCH(C$206,'12.Partner Involvement'!$G616))=TRUE,(('12.Partner Involvement'!$D616*'12.Partner Involvement'!$E616)/COUNTA(_xlfn.TEXTSPLIT('12.Partner Involvement'!$G616,\";\"))),\"\")","v":""},null,{"$f":"IF(ISNUMBER(SEARCH(E$206,'12.Partner Involvement'!$H616))=TRUE,(('12.Partner Involvement'!$D616*'12.Partner Involvement'!$E616)/COUNTA(_xlfn.TEXTSPLIT('12.Partner Involvement'!$H616,\";\"))),\"\")","v":""},{"$f":"IF(ISNUMBER(SEARCH(F$206,'12.Partner Involvement'!$H616))=TRUE,(('12.Partner Involvement'!$D616*'12.Partner Involvement'!$E616)/COUNTA(_xlfn.TEXTSPLIT('12.Partner Involvement'!$H616,\";\"))),\"\")","v":""},{"$f":"IF(ISNUMBER(SEARCH(G$206,'12.Partner Involvement'!$H616))=TRUE,(('12.Partner Involvement'!$D616*'12.Partner Involvement'!$E616)/COUNTA(_xlfn.TEXTSPLIT('12.Partner Involvement'!$H616,\";\"))),\"\")","v":""},{"$f":"IF(ISNUMBER(SEARCH(H$206,'12.Partner Involvement'!$H616))=TRUE,(('12.Partner Involvement'!$D616*'12.Partner Involvement'!$E616)/COUNTA(_xlfn.TEXTSPLIT('12.Partner Involvement'!$H616,\";\"))),\"\")","v":""}]
[{"$f":"IF(ISNUMBER(SEARCH(A$206,'12.Partner Involvement'!$G617))=TRUE,(('12.Partner Involvement'!$D617*'12.Partner Involvement'!$E617)/COUNTA(_xlfn.TEXTSPLIT('12.Partner Involvement'!$G617,\";\"))),\"\")","v":""},{"$f":"IF(ISNUMBER(SEARCH(B$206,'12.Partner Involvement'!$G617))=TRUE,(('12.Partner Involvement'!$D617*'12.Partner Involvement'!$E617)/COUNTA(_xlfn.TEXTSPLIT('12.Partner Involvement'!$G617,\";\"))),\"\")","v":""},{"$f":"IF(ISNUMBER(SEARCH(C$206,'12.Partner Involvement'!$G617))=TRUE,(('12.Partner Involvement'!$D617*'12.Partner Involvement'!$E617)/COUNTA(_xlfn.TEXTSPLIT('12.Partner Involvement'!$G617,\";\"))),\"\")","v":""},null,{"$f":"IF(ISNUMBER(SEARCH(E$206,'12.Partner Involvement'!$H617))=TRUE,(('12.Partner Involvement'!$D617*'12.Partner Involvement'!$E617)/COUNTA(_xlfn.TEXTSPLIT('12.Partner Involvement'!$H617,\";\"))),\"\")","v":""},{"$f":"IF(ISNUMBER(SEARCH(F$206,'12.Partner Involvement'!$H617))=TRUE,(('12.Partner Involvement'!$D617*'12.Partner Involvement'!$E617)/COUNTA(_xlfn.TEXTSPLIT('12.Partner Involvement'!$H617,\";\"))),\"\")","v":""},{"$f":"IF(ISNUMBER(SEARCH(G$206,'12.Partner Involvement'!$H617))=TRUE,(('12.Partner Involvement'!$D617*'12.Partner Involvement'!$E617)/COUNTA(_xlfn.TEXTSPLIT('12.Partner Involvement'!$H617,\";\"))),\"\")","v":""},{"$f":"IF(ISNUMBER(SEARCH(H$206,'12.Partner Involvement'!$H617))=TRUE,(('12.Partner Involvement'!$D617*'12.Partner Involvement'!$E617)/COUNTA(_xlfn.TEXTSPLIT('12.Partner Involvement'!$H617,\";\"))),\"\")","v":""}]
[{"$f":"IF(ISNUMBER(SEARCH(A$206,'12.Partner Involvement'!$G618))=TRUE,(('12.Partner Involvement'!$D618*'12.Partner Involvement'!$E618)/COUNTA(_xlfn.TEXTSPLIT('12.Partner Involvement'!$G618,\";\"))),\"\")","v":""},{"$f":"IF(ISNUMBER(SEARCH(B$206,'12.Partner Involvement'!$G618))=TRUE,(('12.Partner Involvement'!$D618*'12.Partner Involvement'!$E618)/COUNTA(_xlfn.TEXTSPLIT('12.Partner Involvement'!$G618,\";\"))),\"\")","v":""},{"$f":"IF(ISNUMBER(SEARCH(C$206,'12.Partner Involvement'!$G618))=TRUE,(('12.Partner Involvement'!$D618*'12.Partner Involvement'!$E618)/COUNTA(_xlfn.TEXTSPLIT('12.Partner Involvement'!$G618,\";\"))),\"\")","v":""},null,{"$f":"IF(ISNUMBER(SEARCH(E$206,'12.Partner Involvement'!$H618))=TRUE,(('12.Partner Involvement'!$D618*'12.Partner Involvement'!$E618)/COUNTA(_xlfn.TEXTSPLIT('12.Partner Involvement'!$H618,\";\"))),\"\")","v":""},{"$f":"IF(ISNUMBER(SEARCH(F$206,'12.Partner Involvement'!$H618))=TRUE,(('12.Partner Involvement'!$D618*'12.Partner Involvement'!$E618)/COUNTA(_xlfn.TEXTSPLIT('12.Partner Involvement'!$H618,\";\"))),\"\")","v":""},{"$f":"IF(ISNUMBER(SEARCH(G$206,'12.Partner Involvement'!$H618))=TRUE,(('12.Partner Involvement'!$D618*'12.Partner Involvement'!$E618)/COUNTA(_xlfn.TEXTSPLIT('12.Partner Involvement'!$H618,\";\"))),\"\")","v":""},{"$f":"IF(ISNUMBER(SEARCH(H$206,'12.Partner Involvement'!$H618))=TRUE,(('12.Partner Involvement'!$D618*'12.Partner Involvement'!$E618)/COUNTA(_xlfn.TEXTSPLIT('12.Partner Involvement'!$H618,\";\"))),\"\")","v":""}]
[{"$f":"IF(ISNUMBER(SEARCH(A$206,'12.Partner Involvement'!$G619))=TRUE,(('12.Partner Involvement'!$D619*'12.Partner Involvement'!$E619)/COUNTA(_xlfn.TEXTSPLIT('12.Partner Involvement'!$G619,\";\"))),\"\")","v":""},{"$f":"IF(ISNUMBER(SEARCH(B$206,'12.Partner Involvement'!$G619))=TRUE,(('12.Partner Involvement'!$D619*'12.Partner Involvement'!$E619)/COUNTA(_xlfn.TEXTSPLIT('12.Partner Involvement'!$G619,\";\"))),\"\")","v":""},{"$f":"IF(ISNUMBER(SEARCH(C$206,'12.Partner Involvement'!$G619))=TRUE,(('12.Partner Involvement'!$D619*'12.Partner Involvement'!$E619)/COUNTA(_xlfn.TEXTSPLIT('12.Partner Involvement'!$G619,\";\"))),\"\")","v":""},null,{"$f":"IF(ISNUMBER(SEARCH(E$206,'12.Partner Involvement'!$H619))=TRUE,(('12.Partner Involvement'!$D619*'12.Partner Involvement'!$E619)/COUNTA(_xlfn.TEXTSPLIT('12.Partner Involvement'!$H619,\";\"))),\"\")","v":""},{"$f":"IF(ISNUMBER(SEARCH(F$206,'12.Partner Involvement'!$H619))=TRUE,(('12.Partner Involvement'!$D619*'12.Partner Involvement'!$E619)/COUNTA(_xlfn.TEXTSPLIT('12.Partner Involvement'!$H619,\";\"))),\"\")","v":""},{"$f":"IF(ISNUMBER(SEARCH(G$206,'12.Partner Involvement'!$H619))=TRUE,(('12.Partner Involvement'!$D619*'12.Partner Involvement'!$E619)/COUNTA(_xlfn.TEXTSPLIT('12.Partner Involvement'!$H619,\";\"))),\"\")","v":""},{"$f":"IF(ISNUMBER(SEARCH(H$206,'12.Partner Involvement'!$H619))=TRUE,(('12.Partner Involvement'!$D619*'12.Partner Involvement'!$E619)/COUNTA(_xlfn.TEXTSPLIT('12.Partner Involvement'!$H619,\";\"))),\"\")","v":""}]
[{"$f":"IF(ISNUMBER(SEARCH(A$206,'12.Partner Involvement'!$G620))=TRUE,(('12.Partner Involvement'!$D620*'12.Partner Involvement'!$E620)/COUNTA(_xlfn.TEXTSPLIT('12.Partner Involvement'!$G620,\";\"))),\"\")","v":""},{"$f":"IF(ISNUMBER(SEARCH(B$206,'12.Partner Involvement'!$G620))=TRUE,(('12.Partner Involvement'!$D620*'12.Partner Involvement'!$E620)/COUNTA(_xlfn.TEXTSPLIT('12.Partner Involvement'!$G620,\";\"))),\"\")","v":""},{"$f":"IF(ISNUMBER(SEARCH(C$206,'12.Partner Involvement'!$G620))=TRUE,(('12.Partner Involvement'!$D620*'12.Partner Involvement'!$E620)/COUNTA(_xlfn.TEXTSPLIT('12.Partner Involvement'!$G620,\";\"))),\"\")","v":""},null,{"$f":"IF(ISNUMBER(SEARCH(E$206,'12.Partner Involvement'!$H620))=TRUE,(('12.Partner Involvement'!$D620*'12.Partner Involvement'!$E620)/COUNTA(_xlfn.TEXTSPLIT('12.Partner Involvement'!$H620,\";\"))),\"\")","v":""},{"$f":"IF(ISNUMBER(SEARCH(F$206,'12.Partner Involvement'!$H620))=TRUE,(('12.Partner Involvement'!$D620*'12.Partner Involvement'!$E620)/COUNTA(_xlfn.TEXTSPLIT('12.Partner Involvement'!$H620,\";\"))),\"\")","v":""},{"$f":"IF(ISNUMBER(SEARCH(G$206,'12.Partner Involvement'!$H620))=TRUE,(('12.Partner Involvement'!$D620*'12.Partner Involvement'!$E620)/COUNTA(_xlfn.TEXTSPLIT('12.Partner Involvement'!$H620,\";\"))),\"\")","v":""},{"$f":"IF(ISNUMBER(SEARCH(H$206,'12.Partner Involvement'!$H620))=TRUE,(('12.Partner Involvement'!$D620*'12.Partner Involvement'!$E620)/COUNTA(_xlfn.TEXTSPLIT('12.Partner Involvement'!$H620,\";\"))),\"\")","v":""}]
[{"$f":"IF(ISNUMBER(SEARCH(A$206,'12.Partner Involvement'!$G621))=TRUE,(('12.Partner Involvement'!$D621*'12.Partner Involvement'!$E621)/COUNTA(_xlfn.TEXTSPLIT('12.Partner Involvement'!$G621,\";\"))),\"\")","v":""},{"$f":"IF(ISNUMBER(SEARCH(B$206,'12.Partner Involvement'!$G621))=TRUE,(('12.Partner Involvement'!$D621*'12.Partner Involvement'!$E621)/COUNTA(_xlfn.TEXTSPLIT('12.Partner Involvement'!$G621,\";\"))),\"\")","v":""},{"$f":"IF(ISNUMBER(SEARCH(C$206,'12.Partner Involvement'!$G621))=TRUE,(('12.Partner Involvement'!$D621*'12.Partner Involvement'!$E621)/COUNTA(_xlfn.TEXTSPLIT('12.Partner Involvement'!$G621,\";\"))),\"\")","v":""},null,{"$f":"IF(ISNUMBER(SEARCH(E$206,'12.Partner Involvement'!$H621))=TRUE,(('12.Partner Involvement'!$D621*'12.Partner Involvement'!$E621)/COUNTA(_xlfn.TEXTSPLIT('12.Partner Involvement'!$H621,\";\"))),\"\")","v":""},{"$f":"IF(ISNUMBER(SEARCH(F$206,'12.Partner Involvement'!$H621))=TRUE,(('12.Partner Involvement'!$D621*'12.Partner Involvement'!$E621)/COUNTA(_xlfn.TEXTSPLIT('12.Partner Involvement'!$H621,\";\"))),\"\")","v":""},{"$f":"IF(ISNUMBER(SEARCH(G$206,'12.Partner Involvement'!$H621))=TRUE,(('12.Partner Involvement'!$D621*'12.Partner Involvement'!$E621)/COUNTA(_xlfn.TEXTSPLIT('12.Partner Involvement'!$H621,\";\"))),\"\")","v":""},{"$f":"IF(ISNUMBER(SEARCH(H$206,'12.Partner Involvement'!$H621))=TRUE,(('12.Partner Involvement'!$D621*'12.Partner Involvement'!$E621)/COUNTA(_xlfn.TEXTSPLIT('12.Partner Involvement'!$H621,\";\"))),\"\")","v":""}]
[{"$f":"IF(ISNUMBER(SEARCH(A$206,'12.Partner Involvement'!$G622))=TRUE,(('12.Partner Involvement'!$D622*'12.Partner Involvement'!$E622)/COUNTA(_xlfn.TEXTSPLIT('12.Partner Involvement'!$G622,\";\"))),\"\")","v":""},{"$f":"IF(ISNUMBER(SEARCH(B$206,'12.Partner Involvement'!$G622))=TRUE,(('12.Partner Involvement'!$D622*'12.Partner Involvement'!$E622)/COUNTA(_xlfn.TEXTSPLIT('12.Partner Involvement'!$G622,\";\"))),\"\")","v":""},{"$f":"IF(ISNUMBER(SEARCH(C$206,'12.Partner Involvement'!$G622))=TRUE,(('12.Partner Involvement'!$D622*'12.Partner Involvement'!$E622)/COUNTA(_xlfn.TEXTSPLIT('12.Partner Involvement'!$G622,\";\"))),\"\")","v":""},null,{"$f":"IF(ISNUMBER(SEARCH(E$206,'12.Partner Involvement'!$H622))=TRUE,(('12.Partner Involvement'!$D622*'12.Partner Involvement'!$E622)/COUNTA(_xlfn.TEXTSPLIT('12.Partner Involvement'!$H622,\";\"))),\"\")","v":""},{"$f":"IF(ISNUMBER(SEARCH(F$206,'12.Partner Involvement'!$H622))=TRUE,(('12.Partner Involvement'!$D622*'12.Partner Involvement'!$E622)/COUNTA(_xlfn.TEXTSPLIT('12.Partner Involvement'!$H622,\";\"))),\"\")","v":""},{"$f":"IF(ISNUMBER(SEARCH(G$206,'12.Partner Involvement'!$H622))=TRUE,(('12.Partner Involvement'!$D622*'12.Partner Involvement'!$E622)/COUNTA(_xlfn.TEXTSPLIT('12.Partner Involvement'!$H622,\";\"))),\"\")","v":""},{"$f":"IF(ISNUMBER(SEARCH(H$206,'12.Partner Involvement'!$H622))=TRUE,(('12.Partner Involvement'!$D622*'12.Partner Involvement'!$E622)/COUNTA(_xlfn.TEXTSPLIT('12.Partner Involvement'!$H622,\";\"))),\"\")","v":""}]
[{"$f":"IF(ISNUMBER(SEARCH(A$206,'12.Partner Involvement'!$G623))=TRUE,(('12.Partner Involvement'!$D623*'12.Partner Involvement'!$E623)/COUNTA(_xlfn.TEXTSPLIT('12.Partner Involvement'!$G623,\";\"))),\"\")","v":""},{"$f":"IF(ISNUMBER(SEARCH(B$206,'12.Partner Involvement'!$G623))=TRUE,(('12.Partner Involvement'!$D623*'12.Partner Involvement'!$E623)/COUNTA(_xlfn.TEXTSPLIT('12.Partner Involvement'!$G623,\";\"))),\"\")","v":""},{"$f":"IF(ISNUMBER(SEARCH(C$206,'12.Partner Involvement'!$G623))=TRUE,(('12.Partner Involvement'!$D623*'12.Partner Involvement'!$E623)/COUNTA(_xlfn.TEXTSPLIT('12.Partner Involvement'!$G623,\";\"))),\"\")","v":""},null,{"$f":"IF(ISNUMBER(SEARCH(E$206,'12.Partner Involvement'!$H623))=TRUE,(('12.Partner Involvement'!$D623*'12.Partner Involvement'!$E623)/COUNTA(_xlfn.TEXTSPLIT('12.Partner Involvement'!$H623,\";\"))),\"\")","v":""},{"$f":"IF(ISNUMBER(SEARCH(F$206,'12.Partner Involvement'!$H623))=TRUE,(('12.Partner Involvement'!$D623*'12.Partner Involvement'!$E623)/COUNTA(_xlfn.TEXTSPLIT('12.Partner Involvement'!$H623,\";\"))),\"\")","v":""},{"$f":"IF(ISNUMBER(SEARCH(G$206,'12.Partner Involvement'!$H623))=TRUE,(('12.Partner Involvement'!$D623*'12.Partner Involvement'!$E623)/COUNTA(_xlfn.TEXTSPLIT('12.Partner Involvement'!$H623,\";\"))),\"\")","v":""},{"$f":"IF(ISNUMBER(SEARCH(H$206,'12.Partner Involvement'!$H623))=TRUE,(('12.Partner Involvement'!$D623*'12.Partner Involvement'!$E623)/COUNTA(_xlfn.TEXTSPLIT('12.Partner Involvement'!$H623,\";\"))),\"\")","v":""}]
[{"$f":"IF(ISNUMBER(SEARCH(A$206,'12.Partner Involvement'!$G624))=TRUE,(('12.Partner Involvement'!$D624*'12.Partner Involvement'!$E624)/COUNTA(_xlfn.TEXTSPLIT('12.Partner Involvement'!$G624,\";\"))),\"\")","v":""},{"$f":"IF(ISNUMBER(SEARCH(B$206,'12.Partner Involvement'!$G624))=TRUE,(('12.Partner Involvement'!$D624*'12.Partner Involvement'!$E624)/COUNTA(_xlfn.TEXTSPLIT('12.Partner Involvement'!$G624,\";\"))),\"\")","v":""},{"$f":"IF(ISNUMBER(SEARCH(C$206,'12.Partner Involvement'!$G624))=TRUE,(('12.Partner Involvement'!$D624*'12.Partner Involvement'!$E624)/COUNTA(_xlfn.TEXTSPLIT('12.Partner Involvement'!$G624,\";\"))),\"\")","v":""},null,{"$f":"IF(ISNUMBER(SEARCH(E$206,'12.Partner Involvement'!$H624))=TRUE,(('12.Partner Involvement'!$D624*'12.Partner Involvement'!$E624)/COUNTA(_xlfn.TEXTSPLIT('12.Partner Involvement'!$H624,\";\"))),\"\")","v":""},{"$f":"IF(ISNUMBER(SEARCH(F$206,'12.Partner Involvement'!$H624))=TRUE,(('12.Partner Involvement'!$D624*'12.Partner Involvement'!$E624)/COUNTA(_xlfn.TEXTSPLIT('12.Partner Involvement'!$H624,\";\"))),\"\")","v":""},{"$f":"IF(ISNUMBER(SEARCH(G$206,'12.Partner Involvement'!$H624))=TRUE,(('12.Partner Involvement'!$D624*'12.Partner Involvement'!$E624)/COUNTA(_xlfn.TEXTSPLIT('12.Partner Involvement'!$H624,\";\"))),\"\")","v":""},{"$f":"IF(ISNUMBER(SEARCH(H$206,'12.Partner Involvement'!$H624))=TRUE,(('12.Partner Involvement'!$D624*'12.Partner Involvement'!$E624)/COUNTA(_xlfn.TEXTSPLIT('12.Partner Involvement'!$H624,\";\"))),\"\")","v":""}]
[{"$f":"IF(ISNUMBER(SEARCH(A$206,'12.Partner Involvement'!$G625))=TRUE,(('12.Partner Involvement'!$D625*'12.Partner Involvement'!$E625)/COUNTA(_xlfn.TEXTSPLIT('12.Partner Involvement'!$G625,\";\"))),\"\")","v":""},{"$f":"IF(ISNUMBER(SEARCH(B$206,'12.Partner Involvement'!$G625))=TRUE,(('12.Partner Involvement'!$D625*'12.Partner Involvement'!$E625)/COUNTA(_xlfn.TEXTSPLIT('12.Partner Involvement'!$G625,\";\"))),\"\")","v":""},{"$f":"IF(ISNUMBER(SEARCH(C$206,'12.Partner Involvement'!$G625))=TRUE,(('12.Partner Involvement'!$D625*'12.Partner Involvement'!$E625)/COUNTA(_xlfn.TEXTSPLIT('12.Partner Involvement'!$G625,\";\"))),\"\")","v":""},null,{"$f":"IF(ISNUMBER(SEARCH(E$206,'12.Partner Involvement'!$H625))=TRUE,(('12.Partner Involvement'!$D625*'12.Partner Involvement'!$E625)/COUNTA(_xlfn.TEXTSPLIT('12.Partner Involvement'!$H625,\";\"))),\"\")","v":""},{"$f":"IF(ISNUMBER(SEARCH(F$206,'12.Partner Involvement'!$H625))=TRUE,(('12.Partner Involvement'!$D625*'12.Partner Involvement'!$E625)/COUNTA(_xlfn.TEXTSPLIT('12.Partner Involvement'!$H625,\";\"))),\"\")","v":""},{"$f":"IF(ISNUMBER(SEARCH(G$206,'12.Partner Involvement'!$H625))=TRUE,(('12.Partner Involvement'!$D625*'12.Partner Involvement'!$E625)/COUNTA(_xlfn.TEXTSPLIT('12.Partner Involvement'!$H625,\";\"))),\"\")","v":""},{"$f":"IF(ISNUMBER(SEARCH(H$206,'12.Partner Involvement'!$H625))=TRUE,(('12.Partner Involvement'!$D625*'12.Partner Involvement'!$E625)/COUNTA(_xlfn.TEXTSPLIT('12.Partner Involvement'!$H625,\";\"))),\"\")","v":""}]
[{"$f":"IF(ISNUMBER(SEARCH(A$206,'12.Partner Involvement'!$G626))=TRUE,(('12.Partner Involvement'!$D626*'12.Partner Involvement'!$E626)/COUNTA(_xlfn.TEXTSPLIT('12.Partner Involvement'!$G626,\";\"))),\"\")","v":""},{"$f":"IF(ISNUMBER(SEARCH(B$206,'12.Partner Involvement'!$G626))=TRUE,(('12.Partner Involvement'!$D626*'12.Partner Involvement'!$E626)/COUNTA(_xlfn.TEXTSPLIT('12.Partner Involvement'!$G626,\";\"))),\"\")","v":""},{"$f":"IF(ISNUMBER(SEARCH(C$206,'12.Partner Involvement'!$G626))=TRUE,(('12.Partner Involvement'!$D626*'12.Partner Involvement'!$E626)/COUNTA(_xlfn.TEXTSPLIT('12.Partner Involvement'!$G626,\";\"))),\"\")","v":""},null,{"$f":"IF(ISNUMBER(SEARCH(E$206,'12.Partner Involvement'!$H626))=TRUE,(('12.Partner Involvement'!$D626*'12.Partner Involvement'!$E626)/COUNTA(_xlfn.TEXTSPLIT('12.Partner Involvement'!$H626,\";\"))),\"\")","v":""},{"$f":"IF(ISNUMBER(SEARCH(F$206,'12.Partner Involvement'!$H626))=TRUE,(('12.Partner Involvement'!$D626*'12.Partner Involvement'!$E626)/COUNTA(_xlfn.TEXTSPLIT('12.Partner Involvement'!$H626,\";\"))),\"\")","v":""},{"$f":"IF(ISNUMBER(SEARCH(G$206,'12.Partner Involvement'!$H626))=TRUE,(('12.Partner Involvement'!$D626*'12.Partner Involvement'!$E626)/COUNTA(_xlfn.TEXTSPLIT('12.Partner Involvement'!$H626,\";\"))),\"\")","v":""},{"$f":"IF(ISNUMBER(SEARCH(H$206,'12.Partner Involvement'!$H626))=TRUE,(('12.Partner Involvement'!$D626*'12.Partner Involvement'!$E626)/COUNTA(_xlfn.TEXTSPLIT('12.Partner Involvement'!$H626,\";\"))),\"\")","v":""}]
[{"$f":"IF(ISNUMBER(SEARCH(A$206,'12.Partner Involvement'!$G627))=TRUE,(('12.Partner Involvement'!$D627*'12.Partner Involvement'!$E627)/COUNTA(_xlfn.TEXTSPLIT('12.Partner Involvement'!$G627,\";\"))),\"\")","v":""},{"$f":"IF(ISNUMBER(SEARCH(B$206,'12.Partner Involvement'!$G627))=TRUE,(('12.Partner Involvement'!$D627*'12.Partner Involvement'!$E627)/COUNTA(_xlfn.TEXTSPLIT('12.Partner Involvement'!$G627,\";\"))),\"\")","v":""},{"$f":"IF(ISNUMBER(SEARCH(C$206,'12.Partner Involvement'!$G627))=TRUE,(('12.Partner Involvement'!$D627*'12.Partner Involvement'!$E627)/COUNTA(_xlfn.TEXTSPLIT('12.Partner Involvement'!$G627,\";\"))),\"\")","v":""},null,{"$f":"IF(ISNUMBER(SEARCH(E$206,'12.Partner Involvement'!$H627))=TRUE,(('12.Partner Involvement'!$D627*'12.Partner Involvement'!$E627)/COUNTA(_xlfn.TEXTSPLIT('12.Partner Involvement'!$H627,\";\"))),\"\")","v":""},{"$f":"IF(ISNUMBER(SEARCH(F$206,'12.Partner Involvement'!$H627))=TRUE,(('12.Partner Involvement'!$D627*'12.Partner Involvement'!$E627)/COUNTA(_xlfn.TEXTSPLIT('12.Partner Involvement'!$H627,\";\"))),\"\")","v":""},{"$f":"IF(ISNUMBER(SEARCH(G$206,'12.Partner Involvement'!$H627))=TRUE,(('12.Partner Involvement'!$D627*'12.Partner Involvement'!$E627)/COUNTA(_xlfn.TEXTSPLIT('12.Partner Involvement'!$H627,\";\"))),\"\")","v":""},{"$f":"IF(ISNUMBER(SEARCH(H$206,'12.Partner Involvement'!$H627))=TRUE,(('12.Partner Involvement'!$D627*'12.Partner Involvement'!$E627)/COUNTA(_xlfn.TEXTSPLIT('12.Partner Involvement'!$H627,\";\"))),\"\")","v":""}]
[{"$f":"IF(ISNUMBER(SEARCH(A$206,'12.Partner Involvement'!$G628))=TRUE,(('12.Partner Involvement'!$D628*'12.Partner Involvement'!$E628)/COUNTA(_xlfn.TEXTSPLIT('12.Partner Involvement'!$G628,\";\"))),\"\")","v":""},{"$f":"IF(ISNUMBER(SEARCH(B$206,'12.Partner Involvement'!$G628))=TRUE,(('12.Partner Involvement'!$D628*'12.Partner Involvement'!$E628)/COUNTA(_xlfn.TEXTSPLIT('12.Partner Involvement'!$G628,\";\"))),\"\")","v":""},{"$f":"IF(ISNUMBER(SEARCH(C$206,'12.Partner Involvement'!$G628))=TRUE,(('12.Partner Involvement'!$D628*'12.Partner Involvement'!$E628)/COUNTA(_xlfn.TEXTSPLIT('12.Partner Involvement'!$G628,\";\"))),\"\")","v":""},null,{"$f":"IF(ISNUMBER(SEARCH(E$206,'12.Partner Involvement'!$H628))=TRUE,(('12.Partner Involvement'!$D628*'12.Partner Involvement'!$E628)/COUNTA(_xlfn.TEXTSPLIT('12.Partner Involvement'!$H628,\";\"))),\"\")","v":""},{"$f":"IF(ISNUMBER(SEARCH(F$206,'12.Partner Involvement'!$H628))=TRUE,(('12.Partner Involvement'!$D628*'12.Partner Involvement'!$E628)/COUNTA(_xlfn.TEXTSPLIT('12.Partner Involvement'!$H628,\";\"))),\"\")","v":""},{"$f":"IF(ISNUMBER(SEARCH(G$206,'12.Partner Involvement'!$H628))=TRUE,(('12.Partner Involvement'!$D628*'12.Partner Involvement'!$E628)/COUNTA(_xlfn.TEXTSPLIT('12.Partner Involvement'!$H628,\";\"))),\"\")","v":""},{"$f":"IF(ISNUMBER(SEARCH(H$206,'12.Partner Involvement'!$H628))=TRUE,(('12.Partner Involvement'!$D628*'12.Partner Involvement'!$E628)/COUNTA(_xlfn.TEXTSPLIT('12.Partner Involvement'!$H628,\";\"))),\"\")","v":""}]
[{"$f":"IF(ISNUMBER(SEARCH(A$206,'12.Partner Involvement'!$G629))=TRUE,(('12.Partner Involvement'!$D629*'12.Partner Involvement'!$E629)/COUNTA(_xlfn.TEXTSPLIT('12.Partner Involvement'!$G629,\";\"))),\"\")","v":""},{"$f":"IF(ISNUMBER(SEARCH(B$206,'12.Partner Involvement'!$G629))=TRUE,(('12.Partner Involvement'!$D629*'12.Partner Involvement'!$E629)/COUNTA(_xlfn.TEXTSPLIT('12.Partner Involvement'!$G629,\";\"))),\"\")","v":""},{"$f":"IF(ISNUMBER(SEARCH(C$206,'12.Partner Involvement'!$G629))=TRUE,(('12.Partner Involvement'!$D629*'12.Partner Involvement'!$E629)/COUNTA(_xlfn.TEXTSPLIT('12.Partner Involvement'!$G629,\";\"))),\"\")","v":""},null,{"$f":"IF(ISNUMBER(SEARCH(E$206,'12.Partner Involvement'!$H629))=TRUE,(('12.Partner Involvement'!$D629*'12.Partner Involvement'!$E629)/COUNTA(_xlfn.TEXTSPLIT('12.Partner Involvement'!$H629,\";\"))),\"\")","v":""},{"$f":"IF(ISNUMBER(SEARCH(F$206,'12.Partner Involvement'!$H629))=TRUE,(('12.Partner Involvement'!$D629*'12.Partner Involvement'!$E629)/COUNTA(_xlfn.TEXTSPLIT('12.Partner Involvement'!$H629,\";\"))),\"\")","v":""},{"$f":"IF(ISNUMBER(SEARCH(G$206,'12.Partner Involvement'!$H629))=TRUE,(('12.Partner Involvement'!$D629*'12.Partner Involvement'!$E629)/COUNTA(_xlfn.TEXTSPLIT('12.Partner Involvement'!$H629,\";\"))),\"\")","v":""},{"$f":"IF(ISNUMBER(SEARCH(H$206,'12.Partner Involvement'!$H629))=TRUE,(('12.Partner Involvement'!$D629*'12.Partner Involvement'!$E629)/COUNTA(_xlfn.TEXTSPLIT('12.Partner Involvement'!$H629,\";\"))),\"\")","v":""}]
[{"$f":"IF(ISNUMBER(SEARCH(A$206,'12.Partner Involvement'!$G630))=TRUE,(('12.Partner Involvement'!$D630*'12.Partner Involvement'!$E630)/COUNTA(_xlfn.TEXTSPLIT('12.Partner Involvement'!$G630,\";\"))),\"\")","v":""},{"$f":"IF(ISNUMBER(SEARCH(B$206,'12.Partner Involvement'!$G630))=TRUE,(('12.Partner Involvement'!$D630*'12.Partner Involvement'!$E630)/COUNTA(_xlfn.TEXTSPLIT('12.Partner Involvement'!$G630,\";\"))),\"\")","v":""},{"$f":"IF(ISNUMBER(SEARCH(C$206,'12.Partner Involvement'!$G630))=TRUE,(('12.Partner Involvement'!$D630*'12.Partner Involvement'!$E630)/COUNTA(_xlfn.TEXTSPLIT('12.Partner Involvement'!$G630,\";\"))),\"\")","v":""},null,{"$f":"IF(ISNUMBER(SEARCH(E$206,'12.Partner Involvement'!$H630))=TRUE,(('12.Partner Involvement'!$D630*'12.Partner Involvement'!$E630)/COUNTA(_xlfn.TEXTSPLIT('12.Partner Involvement'!$H630,\";\"))),\"\")","v":""},{"$f":"IF(ISNUMBER(SEARCH(F$206,'12.Partner Involvement'!$H630))=TRUE,(('12.Partner Involvement'!$D630*'12.Partner Involvement'!$E630)/COUNTA(_xlfn.TEXTSPLIT('12.Partner Involvement'!$H630,\";\"))),\"\")","v":""},{"$f":"IF(ISNUMBER(SEARCH(G$206,'12.Partner Involvement'!$H630))=TRUE,(('12.Partner Involvement'!$D630*'12.Partner Involvement'!$E630)/COUNTA(_xlfn.TEXTSPLIT('12.Partner Involvement'!$H630,\";\"))),\"\")","v":""},{"$f":"IF(ISNUMBER(SEARCH(H$206,'12.Partner Involvement'!$H630))=TRUE,(('12.Partner Involvement'!$D630*'12.Partner Involvement'!$E630)/COUNTA(_xlfn.TEXTSPLIT('12.Partner Involvement'!$H630,\";\"))),\"\")","v":""}]
[{"$f":"IF(ISNUMBER(SEARCH(A$206,'12.Partner Involvement'!$G631))=TRUE,(('12.Partner Involvement'!$D631*'12.Partner Involvement'!$E631)/COUNTA(_xlfn.TEXTSPLIT('12.Partner Involvement'!$G631,\";\"))),\"\")","v":""},{"$f":"IF(ISNUMBER(SEARCH(B$206,'12.Partner Involvement'!$G631))=TRUE,(('12.Partner Involvement'!$D631*'12.Partner Involvement'!$E631)/COUNTA(_xlfn.TEXTSPLIT('12.Partner Involvement'!$G631,\";\"))),\"\")","v":""},{"$f":"IF(ISNUMBER(SEARCH(C$206,'12.Partner Involvement'!$G631))=TRUE,(('12.Partner Involvement'!$D631*'12.Partner Involvement'!$E631)/COUNTA(_xlfn.TEXTSPLIT('12.Partner Involvement'!$G631,\";\"))),\"\")","v":""},null,{"$f":"IF(ISNUMBER(SEARCH(E$206,'12.Partner Involvement'!$H631))=TRUE,(('12.Partner Involvement'!$D631*'12.Partner Involvement'!$E631)/COUNTA(_xlfn.TEXTSPLIT('12.Partner Involvement'!$H631,\";\"))),\"\")","v":""},{"$f":"IF(ISNUMBER(SEARCH(F$206,'12.Partner Involvement'!$H631))=TRUE,(('12.Partner Involvement'!$D631*'12.Partner Involvement'!$E631)/COUNTA(_xlfn.TEXTSPLIT('12.Partner Involvement'!$H631,\";\"))),\"\")","v":""},{"$f":"IF(ISNUMBER(SEARCH(G$206,'12.Partner Involvement'!$H631))=TRUE,(('12.Partner Involvement'!$D631*'12.Partner Involvement'!$E631)/COUNTA(_xlfn.TEXTSPLIT('12.Partner Involvement'!$H631,\";\"))),\"\")","v":""},{"$f":"IF(ISNUMBER(SEARCH(H$206,'12.Partner Involvement'!$H631))=TRUE,(('12.Partner Involvement'!$D631*'12.Partner Involvement'!$E631)/COUNTA(_xlfn.TEXTSPLIT('12.Partner Involvement'!$H631,\";\"))),\"\")","v":""}]
[{"$f":"IF(ISNUMBER(SEARCH(A$206,'12.Partner Involvement'!$G632))=TRUE,(('12.Partner Involvement'!$D632*'12.Partner Involvement'!$E632)/COUNTA(_xlfn.TEXTSPLIT('12.Partner Involvement'!$G632,\";\"))),\"\")","v":""},{"$f":"IF(ISNUMBER(SEARCH(B$206,'12.Partner Involvement'!$G632))=TRUE,(('12.Partner Involvement'!$D632*'12.Partner Involvement'!$E632)/COUNTA(_xlfn.TEXTSPLIT('12.Partner Involvement'!$G632,\";\"))),\"\")","v":""},{"$f":"IF(ISNUMBER(SEARCH(C$206,'12.Partner Involvement'!$G632))=TRUE,(('12.Partner Involvement'!$D632*'12.Partner Involvement'!$E632)/COUNTA(_xlfn.TEXTSPLIT('12.Partner Involvement'!$G632,\";\"))),\"\")","v":""},null,{"$f":"IF(ISNUMBER(SEARCH(E$206,'12.Partner Involvement'!$H632))=TRUE,(('12.Partner Involvement'!$D632*'12.Partner Involvement'!$E632)/COUNTA(_xlfn.TEXTSPLIT('12.Partner Involvement'!$H632,\";\"))),\"\")","v":""},{"$f":"IF(ISNUMBER(SEARCH(F$206,'12.Partner Involvement'!$H632))=TRUE,(('12.Partner Involvement'!$D632*'12.Partner Involvement'!$E632)/COUNTA(_xlfn.TEXTSPLIT('12.Partner Involvement'!$H632,\";\"))),\"\")","v":""},{"$f":"IF(ISNUMBER(SEARCH(G$206,'12.Partner Involvement'!$H632))=TRUE,(('12.Partner Involvement'!$D632*'12.Partner Involvement'!$E632)/COUNTA(_xlfn.TEXTSPLIT('12.Partner Involvement'!$H632,\";\"))),\"\")","v":""},{"$f":"IF(ISNUMBER(SEARCH(H$206,'12.Partner Involvement'!$H632))=TRUE,(('12.Partner Involvement'!$D632*'12.Partner Involvement'!$E632)/COUNTA(_xlfn.TEXTSPLIT('12.Partner Involvement'!$H632,\";\"))),\"\")","v":""}]
[{"$f":"IF(ISNUMBER(SEARCH(A$206,'12.Partner Involvement'!$G633))=TRUE,(('12.Partner Involvement'!$D633*'12.Partner Involvement'!$E633)/COUNTA(_xlfn.TEXTSPLIT('12.Partner Involvement'!$G633,\";\"))),\"\")","v":""},{"$f":"IF(ISNUMBER(SEARCH(B$206,'12.Partner Involvement'!$G633))=TRUE,(('12.Partner Involvement'!$D633*'12.Partner Involvement'!$E633)/COUNTA(_xlfn.TEXTSPLIT('12.Partner Involvement'!$G633,\";\"))),\"\")","v":""},{"$f":"IF(ISNUMBER(SEARCH(C$206,'12.Partner Involvement'!$G633))=TRUE,(('12.Partner Involvement'!$D633*'12.Partner Involvement'!$E633)/COUNTA(_xlfn.TEXTSPLIT('12.Partner Involvement'!$G633,\";\"))),\"\")","v":""},null,{"$f":"IF(ISNUMBER(SEARCH(E$206,'12.Partner Involvement'!$H633))=TRUE,(('12.Partner Involvement'!$D633*'12.Partner Involvement'!$E633)/COUNTA(_xlfn.TEXTSPLIT('12.Partner Involvement'!$H633,\";\"))),\"\")","v":""},{"$f":"IF(ISNUMBER(SEARCH(F$206,'12.Partner Involvement'!$H633))=TRUE,(('12.Partner Involvement'!$D633*'12.Partner Involvement'!$E633)/COUNTA(_xlfn.TEXTSPLIT('12.Partner Involvement'!$H633,\";\"))),\"\")","v":""},{"$f":"IF(ISNUMBER(SEARCH(G$206,'12.Partner Involvement'!$H633))=TRUE,(('12.Partner Involvement'!$D633*'12.Partner Involvement'!$E633)/COUNTA(_xlfn.TEXTSPLIT('12.Partner Involvement'!$H633,\";\"))),\"\")","v":""},{"$f":"IF(ISNUMBER(SEARCH(H$206,'12.Partner Involvement'!$H633))=TRUE,(('12.Partner Involvement'!$D633*'12.Partner Involvement'!$E633)/COUNTA(_xlfn.TEXTSPLIT('12.Partner Involvement'!$H633,\";\"))),\"\")","v":""}]
[{"$f":"IF(ISNUMBER(SEARCH(A$206,'12.Partner Involvement'!$G634))=TRUE,(('12.Partner Involvement'!$D634*'12.Partner Involvement'!$E634)/COUNTA(_xlfn.TEXTSPLIT('12.Partner Involvement'!$G634,\";\"))),\"\")","v":""},{"$f":"IF(ISNUMBER(SEARCH(B$206,'12.Partner Involvement'!$G634))=TRUE,(('12.Partner Involvement'!$D634*'12.Partner Involvement'!$E634)/COUNTA(_xlfn.TEXTSPLIT('12.Partner Involvement'!$G634,\";\"))),\"\")","v":""},{"$f":"IF(ISNUMBER(SEARCH(C$206,'12.Partner Involvement'!$G634))=TRUE,(('12.Partner Involvement'!$D634*'12.Partner Involvement'!$E634)/COUNTA(_xlfn.TEXTSPLIT('12.Partner Involvement'!$G634,\";\"))),\"\")","v":""},null,{"$f":"IF(ISNUMBER(SEARCH(E$206,'12.Partner Involvement'!$H634))=TRUE,(('12.Partner Involvement'!$D634*'12.Partner Involvement'!$E634)/COUNTA(_xlfn.TEXTSPLIT('12.Partner Involvement'!$H634,\";\"))),\"\")","v":""},{"$f":"IF(ISNUMBER(SEARCH(F$206,'12.Partner Involvement'!$H634))=TRUE,(('12.Partner Involvement'!$D634*'12.Partner Involvement'!$E634)/COUNTA(_xlfn.TEXTSPLIT('12.Partner Involvement'!$H634,\";\"))),\"\")","v":""},{"$f":"IF(ISNUMBER(SEARCH(G$206,'12.Partner Involvement'!$H634))=TRUE,(('12.Partner Involvement'!$D634*'12.Partner Involvement'!$E634)/COUNTA(_xlfn.TEXTSPLIT('12.Partner Involvement'!$H634,\";\"))),\"\")","v":""},{"$f":"IF(ISNUMBER(SEARCH(H$206,'12.Partner Involvement'!$H634))=TRUE,(('12.Partner Involvement'!$D634*'12.Partner Involvement'!$E634)/COUNTA(_xlfn.TEXTSPLIT('12.Partner Involvement'!$H634,\";\"))),\"\")","v":""}]
[{"$f":"IF(ISNUMBER(SEARCH(A$206,'12.Partner Involvement'!$G635))=TRUE,(('12.Partner Involvement'!$D635*'12.Partner Involvement'!$E635)/COUNTA(_xlfn.TEXTSPLIT('12.Partner Involvement'!$G635,\";\"))),\"\")","v":""},{"$f":"IF(ISNUMBER(SEARCH(B$206,'12.Partner Involvement'!$G635))=TRUE,(('12.Partner Involvement'!$D635*'12.Partner Involvement'!$E635)/COUNTA(_xlfn.TEXTSPLIT('12.Partner Involvement'!$G635,\";\"))),\"\")","v":""},{"$f":"IF(ISNUMBER(SEARCH(C$206,'12.Partner Involvement'!$G635))=TRUE,(('12.Partner Involvement'!$D635*'12.Partner Involvement'!$E635)/COUNTA(_xlfn.TEXTSPLIT('12.Partner Involvement'!$G635,\";\"))),\"\")","v":""},null,{"$f":"IF(ISNUMBER(SEARCH(E$206,'12.Partner Involvement'!$H635))=TRUE,(('12.Partner Involvement'!$D635*'12.Partner Involvement'!$E635)/COUNTA(_xlfn.TEXTSPLIT('12.Partner Involvement'!$H635,\";\"))),\"\")","v":""},{"$f":"IF(ISNUMBER(SEARCH(F$206,'12.Partner Involvement'!$H635))=TRUE,(('12.Partner Involvement'!$D635*'12.Partner Involvement'!$E635)/COUNTA(_xlfn.TEXTSPLIT('12.Partner Involvement'!$H635,\";\"))),\"\")","v":""},{"$f":"IF(ISNUMBER(SEARCH(G$206,'12.Partner Involvement'!$H635))=TRUE,(('12.Partner Involvement'!$D635*'12.Partner Involvement'!$E635)/COUNTA(_xlfn.TEXTSPLIT('12.Partner Involvement'!$H635,\";\"))),\"\")","v":""},{"$f":"IF(ISNUMBER(SEARCH(H$206,'12.Partner Involvement'!$H635))=TRUE,(('12.Partner Involvement'!$D635*'12.Partner Involvement'!$E635)/COUNTA(_xlfn.TEXTSPLIT('12.Partner Involvement'!$H635,\";\"))),\"\")","v":""}]
[{"$f":"IF(ISNUMBER(SEARCH(A$206,'12.Partner Involvement'!$G636))=TRUE,(('12.Partner Involvement'!$D636*'12.Partner Involvement'!$E636)/COUNTA(_xlfn.TEXTSPLIT('12.Partner Involvement'!$G636,\";\"))),\"\")","v":""},{"$f":"IF(ISNUMBER(SEARCH(B$206,'12.Partner Involvement'!$G636))=TRUE,(('12.Partner Involvement'!$D636*'12.Partner Involvement'!$E636)/COUNTA(_xlfn.TEXTSPLIT('12.Partner Involvement'!$G636,\";\"))),\"\")","v":""},{"$f":"IF(ISNUMBER(SEARCH(C$206,'12.Partner Involvement'!$G636))=TRUE,(('12.Partner Involvement'!$D636*'12.Partner Involvement'!$E636)/COUNTA(_xlfn.TEXTSPLIT('12.Partner Involvement'!$G636,\";\"))),\"\")","v":""},null,{"$f":"IF(ISNUMBER(SEARCH(E$206,'12.Partner Involvement'!$H636))=TRUE,(('12.Partner Involvement'!$D636*'12.Partner Involvement'!$E636)/COUNTA(_xlfn.TEXTSPLIT('12.Partner Involvement'!$H636,\";\"))),\"\")","v":""},{"$f":"IF(ISNUMBER(SEARCH(F$206,'12.Partner Involvement'!$H636))=TRUE,(('12.Partner Involvement'!$D636*'12.Partner Involvement'!$E636)/COUNTA(_xlfn.TEXTSPLIT('12.Partner Involvement'!$H636,\";\"))),\"\")","v":""},{"$f":"IF(ISNUMBER(SEARCH(G$206,'12.Partner Involvement'!$H636))=TRUE,(('12.Partner Involvement'!$D636*'12.Partner Involvement'!$E636)/COUNTA(_xlfn.TEXTSPLIT('12.Partner Involvement'!$H636,\";\"))),\"\")","v":""},{"$f":"IF(ISNUMBER(SEARCH(H$206,'12.Partner Involvement'!$H636))=TRUE,(('12.Partner Involvement'!$D636*'12.Partner Involvement'!$E636)/COUNTA(_xlfn.TEXTSPLIT('12.Partner Involvement'!$H636,\";\"))),\"\")","v":""}]
[{"$f":"IF(ISNUMBER(SEARCH(A$206,'12.Partner Involvement'!$G637))=TRUE,(('12.Partner Involvement'!$D637*'12.Partner Involvement'!$E637)/COUNTA(_xlfn.TEXTSPLIT('12.Partner Involvement'!$G637,\";\"))),\"\")","v":""},{"$f":"IF(ISNUMBER(SEARCH(B$206,'12.Partner Involvement'!$G637))=TRUE,(('12.Partner Involvement'!$D637*'12.Partner Involvement'!$E637)/COUNTA(_xlfn.TEXTSPLIT('12.Partner Involvement'!$G637,\";\"))),\"\")","v":""},{"$f":"IF(ISNUMBER(SEARCH(C$206,'12.Partner Involvement'!$G637))=TRUE,(('12.Partner Involvement'!$D637*'12.Partner Involvement'!$E637)/COUNTA(_xlfn.TEXTSPLIT('12.Partner Involvement'!$G637,\";\"))),\"\")","v":""},null,{"$f":"IF(ISNUMBER(SEARCH(E$206,'12.Partner Involvement'!$H637))=TRUE,(('12.Partner Involvement'!$D637*'12.Partner Involvement'!$E637)/COUNTA(_xlfn.TEXTSPLIT('12.Partner Involvement'!$H637,\";\"))),\"\")","v":""},{"$f":"IF(ISNUMBER(SEARCH(F$206,'12.Partner Involvement'!$H637))=TRUE,(('12.Partner Involvement'!$D637*'12.Partner Involvement'!$E637)/COUNTA(_xlfn.TEXTSPLIT('12.Partner Involvement'!$H637,\";\"))),\"\")","v":""},{"$f":"IF(ISNUMBER(SEARCH(G$206,'12.Partner Involvement'!$H637))=TRUE,(('12.Partner Involvement'!$D637*'12.Partner Involvement'!$E637)/COUNTA(_xlfn.TEXTSPLIT('12.Partner Involvement'!$H637,\";\"))),\"\")","v":""},{"$f":"IF(ISNUMBER(SEARCH(H$206,'12.Partner Involvement'!$H637))=TRUE,(('12.Partner Involvement'!$D637*'12.Partner Involvement'!$E637)/COUNTA(_xlfn.TEXTSPLIT('12.Partner Involvement'!$H637,\";\"))),\"\")","v":""}]
[{"$f":"IF(ISNUMBER(SEARCH(A$206,'12.Partner Involvement'!$G638))=TRUE,(('12.Partner Involvement'!$D638*'12.Partner Involvement'!$E638)/COUNTA(_xlfn.TEXTSPLIT('12.Partner Involvement'!$G638,\";\"))),\"\")","v":""},{"$f":"IF(ISNUMBER(SEARCH(B$206,'12.Partner Involvement'!$G638))=TRUE,(('12.Partner Involvement'!$D638*'12.Partner Involvement'!$E638)/COUNTA(_xlfn.TEXTSPLIT('12.Partner Involvement'!$G638,\";\"))),\"\")","v":""},{"$f":"IF(ISNUMBER(SEARCH(C$206,'12.Partner Involvement'!$G638))=TRUE,(('12.Partner Involvement'!$D638*'12.Partner Involvement'!$E638)/COUNTA(_xlfn.TEXTSPLIT('12.Partner Involvement'!$G638,\";\"))),\"\")","v":""},null,{"$f":"IF(ISNUMBER(SEARCH(E$206,'12.Partner Involvement'!$H638))=TRUE,(('12.Partner Involvement'!$D638*'12.Partner Involvement'!$E638)/COUNTA(_xlfn.TEXTSPLIT('12.Partner Involvement'!$H638,\";\"))),\"\")","v":""},{"$f":"IF(ISNUMBER(SEARCH(F$206,'12.Partner Involvement'!$H638))=TRUE,(('12.Partner Involvement'!$D638*'12.Partner Involvement'!$E638)/COUNTA(_xlfn.TEXTSPLIT('12.Partner Involvement'!$H638,\";\"))),\"\")","v":""},{"$f":"IF(ISNUMBER(SEARCH(G$206,'12.Partner Involvement'!$H638))=TRUE,(('12.Partner Involvement'!$D638*'12.Partner Involvement'!$E638)/COUNTA(_xlfn.TEXTSPLIT('12.Partner Involvement'!$H638,\";\"))),\"\")","v":""},{"$f":"IF(ISNUMBER(SEARCH(H$206,'12.Partner Involvement'!$H638))=TRUE,(('12.Partner Involvement'!$D638*'12.Partner Involvement'!$E638)/COUNTA(_xlfn.TEXTSPLIT('12.Partner Involvement'!$H638,\";\"))),\"\")","v":""}]
[{"$f":"IF(ISNUMBER(SEARCH(A$206,'12.Partner Involvement'!$G639))=TRUE,(('12.Partner Involvement'!$D639*'12.Partner Involvement'!$E639)/COUNTA(_xlfn.TEXTSPLIT('12.Partner Involvement'!$G639,\";\"))),\"\")","v":""},{"$f":"IF(ISNUMBER(SEARCH(B$206,'12.Partner Involvement'!$G639))=TRUE,(('12.Partner Involvement'!$D639*'12.Partner Involvement'!$E639)/COUNTA(_xlfn.TEXTSPLIT('12.Partner Involvement'!$G639,\";\"))),\"\")","v":""},{"$f":"IF(ISNUMBER(SEARCH(C$206,'12.Partner Involvement'!$G639))=TRUE,(('12.Partner Involvement'!$D639*'12.Partner Involvement'!$E639)/COUNTA(_xlfn.TEXTSPLIT('12.Partner Involvement'!$G639,\";\"))),\"\")","v":""},null,{"$f":"IF(ISNUMBER(SEARCH(E$206,'12.Partner Involvement'!$H639))=TRUE,(('12.Partner Involvement'!$D639*'12.Partner Involvement'!$E639)/COUNTA(_xlfn.TEXTSPLIT('12.Partner Involvement'!$H639,\";\"))),\"\")","v":""},{"$f":"IF(ISNUMBER(SEARCH(F$206,'12.Partner Involvement'!$H639))=TRUE,(('12.Partner Involvement'!$D639*'12.Partner Involvement'!$E639)/COUNTA(_xlfn.TEXTSPLIT('12.Partner Involvement'!$H639,\";\"))),\"\")","v":""},{"$f":"IF(ISNUMBER(SEARCH(G$206,'12.Partner Involvement'!$H639))=TRUE,(('12.Partner Involvement'!$D639*'12.Partner Involvement'!$E639)/COUNTA(_xlfn.TEXTSPLIT('12.Partner Involvement'!$H639,\";\"))),\"\")","v":""},{"$f":"IF(ISNUMBER(SEARCH(H$206,'12.Partner Involvement'!$H639))=TRUE,(('12.Partner Involvement'!$D639*'12.Partner Involvement'!$E639)/COUNTA(_xlfn.TEXTSPLIT('12.Partner Involvement'!$H639,\";\"))),\"\")","v":""}]
[{"$f":"IF(ISNUMBER(SEARCH(A$206,'12.Partner Involvement'!$G640))=TRUE,(('12.Partner Involvement'!$D640*'12.Partner Involvement'!$E640)/COUNTA(_xlfn.TEXTSPLIT('12.Partner Involvement'!$G640,\";\"))),\"\")","v":""},{"$f":"IF(ISNUMBER(SEARCH(B$206,'12.Partner Involvement'!$G640))=TRUE,(('12.Partner Involvement'!$D640*'12.Partner Involvement'!$E640)/COUNTA(_xlfn.TEXTSPLIT('12.Partner Involvement'!$G640,\";\"))),\"\")","v":""},{"$f":"IF(ISNUMBER(SEARCH(C$206,'12.Partner Involvement'!$G640))=TRUE,(('12.Partner Involvement'!$D640*'12.Partner Involvement'!$E640)/COUNTA(_xlfn.TEXTSPLIT('12.Partner Involvement'!$G640,\";\"))),\"\")","v":""},null,{"$f":"IF(ISNUMBER(SEARCH(E$206,'12.Partner Involvement'!$H640))=TRUE,(('12.Partner Involvement'!$D640*'12.Partner Involvement'!$E640)/COUNTA(_xlfn.TEXTSPLIT('12.Partner Involvement'!$H640,\";\"))),\"\")","v":""},{"$f":"IF(ISNUMBER(SEARCH(F$206,'12.Partner Involvement'!$H640))=TRUE,(('12.Partner Involvement'!$D640*'12.Partner Involvement'!$E640)/COUNTA(_xlfn.TEXTSPLIT('12.Partner Involvement'!$H640,\";\"))),\"\")","v":""},{"$f":"IF(ISNUMBER(SEARCH(G$206,'12.Partner Involvement'!$H640))=TRUE,(('12.Partner Involvement'!$D640*'12.Partner Involvement'!$E640)/COUNTA(_xlfn.TEXTSPLIT('12.Partner Involvement'!$H640,\";\"))),\"\")","v":""},{"$f":"IF(ISNUMBER(SEARCH(H$206,'12.Partner Involvement'!$H640))=TRUE,(('12.Partner Involvement'!$D640*'12.Partner Involvement'!$E640)/COUNTA(_xlfn.TEXTSPLIT('12.Partner Involvement'!$H640,\";\"))),\"\")","v":""}]
[{"$f":"IF(ISNUMBER(SEARCH(A$206,'12.Partner Involvement'!$G641))=TRUE,(('12.Partner Involvement'!$D641*'12.Partner Involvement'!$E641)/COUNTA(_xlfn.TEXTSPLIT('12.Partner Involvement'!$G641,\";\"))),\"\")","v":""},{"$f":"IF(ISNUMBER(SEARCH(B$206,'12.Partner Involvement'!$G641))=TRUE,(('12.Partner Involvement'!$D641*'12.Partner Involvement'!$E641)/COUNTA(_xlfn.TEXTSPLIT('12.Partner Involvement'!$G641,\";\"))),\"\")","v":""},{"$f":"IF(ISNUMBER(SEARCH(C$206,'12.Partner Involvement'!$G641))=TRUE,(('12.Partner Involvement'!$D641*'12.Partner Involvement'!$E641)/COUNTA(_xlfn.TEXTSPLIT('12.Partner Involvement'!$G641,\";\"))),\"\")","v":""},null,{"$f":"IF(ISNUMBER(SEARCH(E$206,'12.Partner Involvement'!$H641))=TRUE,(('12.Partner Involvement'!$D641*'12.Partner Involvement'!$E641)/COUNTA(_xlfn.TEXTSPLIT('12.Partner Involvement'!$H641,\";\"))),\"\")","v":""},{"$f":"IF(ISNUMBER(SEARCH(F$206,'12.Partner Involvement'!$H641))=TRUE,(('12.Partner Involvement'!$D641*'12.Partner Involvement'!$E641)/COUNTA(_xlfn.TEXTSPLIT('12.Partner Involvement'!$H641,\";\"))),\"\")","v":""},{"$f":"IF(ISNUMBER(SEARCH(G$206,'12.Partner Involvement'!$H641))=TRUE,(('12.Partner Involvement'!$D641*'12.Partner Involvement'!$E641)/COUNTA(_xlfn.TEXTSPLIT('12.Partner Involvement'!$H641,\";\"))),\"\")","v":""},{"$f":"IF(ISNUMBER(SEARCH(H$206,'12.Partner Involvement'!$H641))=TRUE,(('12.Partner Involvement'!$D641*'12.Partner Involvement'!$E641)/COUNTA(_xlfn.TEXTSPLIT('12.Partner Involvement'!$H641,\";\"))),\"\")","v":""}]
[{"$f":"IF(ISNUMBER(SEARCH(A$206,'12.Partner Involvement'!$G642))=TRUE,(('12.Partner Involvement'!$D642*'12.Partner Involvement'!$E642)/COUNTA(_xlfn.TEXTSPLIT('12.Partner Involvement'!$G642,\";\"))),\"\")","v":""},{"$f":"IF(ISNUMBER(SEARCH(B$206,'12.Partner Involvement'!$G642))=TRUE,(('12.Partner Involvement'!$D642*'12.Partner Involvement'!$E642)/COUNTA(_xlfn.TEXTSPLIT('12.Partner Involvement'!$G642,\";\"))),\"\")","v":""},{"$f":"IF(ISNUMBER(SEARCH(C$206,'12.Partner Involvement'!$G642))=TRUE,(('12.Partner Involvement'!$D642*'12.Partner Involvement'!$E642)/COUNTA(_xlfn.TEXTSPLIT('12.Partner Involvement'!$G642,\";\"))),\"\")","v":""},null,{"$f":"IF(ISNUMBER(SEARCH(E$206,'12.Partner Involvement'!$H642))=TRUE,(('12.Partner Involvement'!$D642*'12.Partner Involvement'!$E642)/COUNTA(_xlfn.TEXTSPLIT('12.Partner Involvement'!$H642,\";\"))),\"\")","v":""},{"$f":"IF(ISNUMBER(SEARCH(F$206,'12.Partner Involvement'!$H642))=TRUE,(('12.Partner Involvement'!$D642*'12.Partner Involvement'!$E642)/COUNTA(_xlfn.TEXTSPLIT('12.Partner Involvement'!$H642,\";\"))),\"\")","v":""},{"$f":"IF(ISNUMBER(SEARCH(G$206,'12.Partner Involvement'!$H642))=TRUE,(('12.Partner Involvement'!$D642*'12.Partner Involvement'!$E642)/COUNTA(_xlfn.TEXTSPLIT('12.Partner Involvement'!$H642,\";\"))),\"\")","v":""},{"$f":"IF(ISNUMBER(SEARCH(H$206,'12.Partner Involvement'!$H642))=TRUE,(('12.Partner Involvement'!$D642*'12.Partner Involvement'!$E642)/COUNTA(_xlfn.TEXTSPLIT('12.Partner Involvement'!$H642,\";\"))),\"\")","v":""}]
[{"$f":"IF(ISNUMBER(SEARCH(A$206,'12.Partner Involvement'!$G643))=TRUE,(('12.Partner Involvement'!$D643*'12.Partner Involvement'!$E643)/COUNTA(_xlfn.TEXTSPLIT('12.Partner Involvement'!$G643,\";\"))),\"\")","v":""},{"$f":"IF(ISNUMBER(SEARCH(B$206,'12.Partner Involvement'!$G643))=TRUE,(('12.Partner Involvement'!$D643*'12.Partner Involvement'!$E643)/COUNTA(_xlfn.TEXTSPLIT('12.Partner Involvement'!$G643,\";\"))),\"\")","v":""},{"$f":"IF(ISNUMBER(SEARCH(C$206,'12.Partner Involvement'!$G643))=TRUE,(('12.Partner Involvement'!$D643*'12.Partner Involvement'!$E643)/COUNTA(_xlfn.TEXTSPLIT('12.Partner Involvement'!$G643,\";\"))),\"\")","v":""},null,{"$f":"IF(ISNUMBER(SEARCH(E$206,'12.Partner Involvement'!$H643))=TRUE,(('12.Partner Involvement'!$D643*'12.Partner Involvement'!$E643)/COUNTA(_xlfn.TEXTSPLIT('12.Partner Involvement'!$H643,\";\"))),\"\")","v":""},{"$f":"IF(ISNUMBER(SEARCH(F$206,'12.Partner Involvement'!$H643))=TRUE,(('12.Partner Involvement'!$D643*'12.Partner Involvement'!$E643)/COUNTA(_xlfn.TEXTSPLIT('12.Partner Involvement'!$H643,\";\"))),\"\")","v":""},{"$f":"IF(ISNUMBER(SEARCH(G$206,'12.Partner Involvement'!$H643))=TRUE,(('12.Partner Involvement'!$D643*'12.Partner Involvement'!$E643)/COUNTA(_xlfn.TEXTSPLIT('12.Partner Involvement'!$H643,\";\"))),\"\")","v":""},{"$f":"IF(ISNUMBER(SEARCH(H$206,'12.Partner Involvement'!$H643))=TRUE,(('12.Partner Involvement'!$D643*'12.Partner Involvement'!$E643)/COUNTA(_xlfn.TEXTSPLIT('12.Partner Involvement'!$H643,\";\"))),\"\")","v":""}]
[{"$f":"IF(ISNUMBER(SEARCH(A$206,'12.Partner Involvement'!$G644))=TRUE,(('12.Partner Involvement'!$D644*'12.Partner Involvement'!$E644)/COUNTA(_xlfn.TEXTSPLIT('12.Partner Involvement'!$G644,\";\"))),\"\")","v":""},{"$f":"IF(ISNUMBER(SEARCH(B$206,'12.Partner Involvement'!$G644))=TRUE,(('12.Partner Involvement'!$D644*'12.Partner Involvement'!$E644)/COUNTA(_xlfn.TEXTSPLIT('12.Partner Involvement'!$G644,\";\"))),\"\")","v":""},{"$f":"IF(ISNUMBER(SEARCH(C$206,'12.Partner Involvement'!$G644))=TRUE,(('12.Partner Involvement'!$D644*'12.Partner Involvement'!$E644)/COUNTA(_xlfn.TEXTSPLIT('12.Partner Involvement'!$G644,\";\"))),\"\")","v":""},null,{"$f":"IF(ISNUMBER(SEARCH(E$206,'12.Partner Involvement'!$H644))=TRUE,(('12.Partner Involvement'!$D644*'12.Partner Involvement'!$E644)/COUNTA(_xlfn.TEXTSPLIT('12.Partner Involvement'!$H644,\";\"))),\"\")","v":""},{"$f":"IF(ISNUMBER(SEARCH(F$206,'12.Partner Involvement'!$H644))=TRUE,(('12.Partner Involvement'!$D644*'12.Partner Involvement'!$E644)/COUNTA(_xlfn.TEXTSPLIT('12.Partner Involvement'!$H644,\";\"))),\"\")","v":""},{"$f":"IF(ISNUMBER(SEARCH(G$206,'12.Partner Involvement'!$H644))=TRUE,(('12.Partner Involvement'!$D644*'12.Partner Involvement'!$E644)/COUNTA(_xlfn.TEXTSPLIT('12.Partner Involvement'!$H644,\";\"))),\"\")","v":""},{"$f":"IF(ISNUMBER(SEARCH(H$206,'12.Partner Involvement'!$H644))=TRUE,(('12.Partner Involvement'!$D644*'12.Partner Involvement'!$E644)/COUNTA(_xlfn.TEXTSPLIT('12.Partner Involvement'!$H644,\";\"))),\"\")","v":""}]
[{"$f":"IF(ISNUMBER(SEARCH(A$206,'12.Partner Involvement'!$G645))=TRUE,(('12.Partner Involvement'!$D645*'12.Partner Involvement'!$E645)/COUNTA(_xlfn.TEXTSPLIT('12.Partner Involvement'!$G645,\";\"))),\"\")","v":""},{"$f":"IF(ISNUMBER(SEARCH(B$206,'12.Partner Involvement'!$G645))=TRUE,(('12.Partner Involvement'!$D645*'12.Partner Involvement'!$E645)/COUNTA(_xlfn.TEXTSPLIT('12.Partner Involvement'!$G645,\";\"))),\"\")","v":""},{"$f":"IF(ISNUMBER(SEARCH(C$206,'12.Partner Involvement'!$G645))=TRUE,(('12.Partner Involvement'!$D645*'12.Partner Involvement'!$E645)/COUNTA(_xlfn.TEXTSPLIT('12.Partner Involvement'!$G645,\";\"))),\"\")","v":""},null,{"$f":"IF(ISNUMBER(SEARCH(E$206,'12.Partner Involvement'!$H645))=TRUE,(('12.Partner Involvement'!$D645*'12.Partner Involvement'!$E645)/COUNTA(_xlfn.TEXTSPLIT('12.Partner Involvement'!$H645,\";\"))),\"\")","v":""},{"$f":"IF(ISNUMBER(SEARCH(F$206,'12.Partner Involvement'!$H645))=TRUE,(('12.Partner Involvement'!$D645*'12.Partner Involvement'!$E645)/COUNTA(_xlfn.TEXTSPLIT('12.Partner Involvement'!$H645,\";\"))),\"\")","v":""},{"$f":"IF(ISNUMBER(SEARCH(G$206,'12.Partner Involvement'!$H645))=TRUE,(('12.Partner Involvement'!$D645*'12.Partner Involvement'!$E645)/COUNTA(_xlfn.TEXTSPLIT('12.Partner Involvement'!$H645,\";\"))),\"\")","v":""},{"$f":"IF(ISNUMBER(SEARCH(H$206,'12.Partner Involvement'!$H645))=TRUE,(('12.Partner Involvement'!$D645*'12.Partner Involvement'!$E645)/COUNTA(_xlfn.TEXTSPLIT('12.Partner Involvement'!$H645,\";\"))),\"\")","v":""}]
[{"$f":"IF(ISNUMBER(SEARCH(A$206,'12.Partner Involvement'!$G646))=TRUE,(('12.Partner Involvement'!$D646*'12.Partner Involvement'!$E646)/COUNTA(_xlfn.TEXTSPLIT('12.Partner Involvement'!$G646,\";\"))),\"\")","v":""},{"$f":"IF(ISNUMBER(SEARCH(B$206,'12.Partner Involvement'!$G646))=TRUE,(('12.Partner Involvement'!$D646*'12.Partner Involvement'!$E646)/COUNTA(_xlfn.TEXTSPLIT('12.Partner Involvement'!$G646,\";\"))),\"\")","v":""},{"$f":"IF(ISNUMBER(SEARCH(C$206,'12.Partner Involvement'!$G646))=TRUE,(('12.Partner Involvement'!$D646*'12.Partner Involvement'!$E646)/COUNTA(_xlfn.TEXTSPLIT('12.Partner Involvement'!$G646,\";\"))),\"\")","v":""},null,{"$f":"IF(ISNUMBER(SEARCH(E$206,'12.Partner Involvement'!$H646))=TRUE,(('12.Partner Involvement'!$D646*'12.Partner Involvement'!$E646)/COUNTA(_xlfn.TEXTSPLIT('12.Partner Involvement'!$H646,\";\"))),\"\")","v":""},{"$f":"IF(ISNUMBER(SEARCH(F$206,'12.Partner Involvement'!$H646))=TRUE,(('12.Partner Involvement'!$D646*'12.Partner Involvement'!$E646)/COUNTA(_xlfn.TEXTSPLIT('12.Partner Involvement'!$H646,\";\"))),\"\")","v":""},{"$f":"IF(ISNUMBER(SEARCH(G$206,'12.Partner Involvement'!$H646))=TRUE,(('12.Partner Involvement'!$D646*'12.Partner Involvement'!$E646)/COUNTA(_xlfn.TEXTSPLIT('12.Partner Involvement'!$H646,\";\"))),\"\")","v":""},{"$f":"IF(ISNUMBER(SEARCH(H$206,'12.Partner Involvement'!$H646))=TRUE,(('12.Partner Involvement'!$D646*'12.Partner Involvement'!$E646)/COUNTA(_xlfn.TEXTSPLIT('12.Partner Involvement'!$H646,\";\"))),\"\")","v":""}]
[{"$f":"IF(ISNUMBER(SEARCH(A$206,'12.Partner Involvement'!$G647))=TRUE,(('12.Partner Involvement'!$D647*'12.Partner Involvement'!$E647)/COUNTA(_xlfn.TEXTSPLIT('12.Partner Involvement'!$G647,\";\"))),\"\")","v":""},{"$f":"IF(ISNUMBER(SEARCH(B$206,'12.Partner Involvement'!$G647))=TRUE,(('12.Partner Involvement'!$D647*'12.Partner Involvement'!$E647)/COUNTA(_xlfn.TEXTSPLIT('12.Partner Involvement'!$G647,\";\"))),\"\")","v":""},{"$f":"IF(ISNUMBER(SEARCH(C$206,'12.Partner Involvement'!$G647))=TRUE,(('12.Partner Involvement'!$D647*'12.Partner Involvement'!$E647)/COUNTA(_xlfn.TEXTSPLIT('12.Partner Involvement'!$G647,\";\"))),\"\")","v":""},null,{"$f":"IF(ISNUMBER(SEARCH(E$206,'12.Partner Involvement'!$H647))=TRUE,(('12.Partner Involvement'!$D647*'12.Partner Involvement'!$E647)/COUNTA(_xlfn.TEXTSPLIT('12.Partner Involvement'!$H647,\";\"))),\"\")","v":""},{"$f":"IF(ISNUMBER(SEARCH(F$206,'12.Partner Involvement'!$H647))=TRUE,(('12.Partner Involvement'!$D647*'12.Partner Involvement'!$E647)/COUNTA(_xlfn.TEXTSPLIT('12.Partner Involvement'!$H647,\";\"))),\"\")","v":""},{"$f":"IF(ISNUMBER(SEARCH(G$206,'12.Partner Involvement'!$H647))=TRUE,(('12.Partner Involvement'!$D647*'12.Partner Involvement'!$E647)/COUNTA(_xlfn.TEXTSPLIT('12.Partner Involvement'!$H647,\";\"))),\"\")","v":""},{"$f":"IF(ISNUMBER(SEARCH(H$206,'12.Partner Involvement'!$H647))=TRUE,(('12.Partner Involvement'!$D647*'12.Partner Involvement'!$E647)/COUNTA(_xlfn.TEXTSPLIT('12.Partner Involvement'!$H647,\";\"))),\"\")","v":""}]
[{"$f":"IF(ISNUMBER(SEARCH(A$206,'12.Partner Involvement'!$G648))=TRUE,(('12.Partner Involvement'!$D648*'12.Partner Involvement'!$E648)/COUNTA(_xlfn.TEXTSPLIT('12.Partner Involvement'!$G648,\";\"))),\"\")","v":""},{"$f":"IF(ISNUMBER(SEARCH(B$206,'12.Partner Involvement'!$G648))=TRUE,(('12.Partner Involvement'!$D648*'12.Partner Involvement'!$E648)/COUNTA(_xlfn.TEXTSPLIT('12.Partner Involvement'!$G648,\";\"))),\"\")","v":""},{"$f":"IF(ISNUMBER(SEARCH(C$206,'12.Partner Involvement'!$G648))=TRUE,(('12.Partner Involvement'!$D648*'12.Partner Involvement'!$E648)/COUNTA(_xlfn.TEXTSPLIT('12.Partner Involvement'!$G648,\";\"))),\"\")","v":""},null,{"$f":"IF(ISNUMBER(SEARCH(E$206,'12.Partner Involvement'!$H648))=TRUE,(('12.Partner Involvement'!$D648*'12.Partner Involvement'!$E648)/COUNTA(_xlfn.TEXTSPLIT('12.Partner Involvement'!$H648,\";\"))),\"\")","v":""},{"$f":"IF(ISNUMBER(SEARCH(F$206,'12.Partner Involvement'!$H648))=TRUE,(('12.Partner Involvement'!$D648*'12.Partner Involvement'!$E648)/COUNTA(_xlfn.TEXTSPLIT('12.Partner Involvement'!$H648,\";\"))),\"\")","v":""},{"$f":"IF(ISNUMBER(SEARCH(G$206,'12.Partner Involvement'!$H648))=TRUE,(('12.Partner Involvement'!$D648*'12.Partner Involvement'!$E648)/COUNTA(_xlfn.TEXTSPLIT('12.Partner Involvement'!$H648,\";\"))),\"\")","v":""},{"$f":"IF(ISNUMBER(SEARCH(H$206,'12.Partner Involvement'!$H648))=TRUE,(('12.Partner Involvement'!$D648*'12.Partner Involvement'!$E648)/COUNTA(_xlfn.TEXTSPLIT('12.Partner Involvement'!$H648,\";\"))),\"\")","v":""}]
[{"$f":"IF(ISNUMBER(SEARCH(A$206,'12.Partner Involvement'!$G649))=TRUE,(('12.Partner Involvement'!$D649*'12.Partner Involvement'!$E649)/COUNTA(_xlfn.TEXTSPLIT('12.Partner Involvement'!$G649,\";\"))),\"\")","v":""},{"$f":"IF(ISNUMBER(SEARCH(B$206,'12.Partner Involvement'!$G649))=TRUE,(('12.Partner Involvement'!$D649*'12.Partner Involvement'!$E649)/COUNTA(_xlfn.TEXTSPLIT('12.Partner Involvement'!$G649,\";\"))),\"\")","v":""},{"$f":"IF(ISNUMBER(SEARCH(C$206,'12.Partner Involvement'!$G649))=TRUE,(('12.Partner Involvement'!$D649*'12.Partner Involvement'!$E649)/COUNTA(_xlfn.TEXTSPLIT('12.Partner Involvement'!$G649,\";\"))),\"\")","v":""},null,{"$f":"IF(ISNUMBER(SEARCH(E$206,'12.Partner Involvement'!$H649))=TRUE,(('12.Partner Involvement'!$D649*'12.Partner Involvement'!$E649)/COUNTA(_xlfn.TEXTSPLIT('12.Partner Involvement'!$H649,\";\"))),\"\")","v":""},{"$f":"IF(ISNUMBER(SEARCH(F$206,'12.Partner Involvement'!$H649))=TRUE,(('12.Partner Involvement'!$D649*'12.Partner Involvement'!$E649)/COUNTA(_xlfn.TEXTSPLIT('12.Partner Involvement'!$H649,\";\"))),\"\")","v":""},{"$f":"IF(ISNUMBER(SEARCH(G$206,'12.Partner Involvement'!$H649))=TRUE,(('12.Partner Involvement'!$D649*'12.Partner Involvement'!$E649)/COUNTA(_xlfn.TEXTSPLIT('12.Partner Involvement'!$H649,\";\"))),\"\")","v":""},{"$f":"IF(ISNUMBER(SEARCH(H$206,'12.Partner Involvement'!$H649))=TRUE,(('12.Partner Involvement'!$D649*'12.Partner Involvement'!$E649)/COUNTA(_xlfn.TEXTSPLIT('12.Partner Involvement'!$H649,\";\"))),\"\")","v":""}]
[{"$f":"IF(ISNUMBER(SEARCH(A$206,'12.Partner Involvement'!$G650))=TRUE,(('12.Partner Involvement'!$D650*'12.Partner Involvement'!$E650)/COUNTA(_xlfn.TEXTSPLIT('12.Partner Involvement'!$G650,\";\"))),\"\")","v":""},{"$f":"IF(ISNUMBER(SEARCH(B$206,'12.Partner Involvement'!$G650))=TRUE,(('12.Partner Involvement'!$D650*'12.Partner Involvement'!$E650)/COUNTA(_xlfn.TEXTSPLIT('12.Partner Involvement'!$G650,\";\"))),\"\")","v":""},{"$f":"IF(ISNUMBER(SEARCH(C$206,'12.Partner Involvement'!$G650))=TRUE,(('12.Partner Involvement'!$D650*'12.Partner Involvement'!$E650)/COUNTA(_xlfn.TEXTSPLIT('12.Partner Involvement'!$G650,\";\"))),\"\")","v":""},null,{"$f":"IF(ISNUMBER(SEARCH(E$206,'12.Partner Involvement'!$H650))=TRUE,(('12.Partner Involvement'!$D650*'12.Partner Involvement'!$E650)/COUNTA(_xlfn.TEXTSPLIT('12.Partner Involvement'!$H650,\";\"))),\"\")","v":""},{"$f":"IF(ISNUMBER(SEARCH(F$206,'12.Partner Involvement'!$H650))=TRUE,(('12.Partner Involvement'!$D650*'12.Partner Involvement'!$E650)/COUNTA(_xlfn.TEXTSPLIT('12.Partner Involvement'!$H650,\";\"))),\"\")","v":""},{"$f":"IF(ISNUMBER(SEARCH(G$206,'12.Partner Involvement'!$H650))=TRUE,(('12.Partner Involvement'!$D650*'12.Partner Involvement'!$E650)/COUNTA(_xlfn.TEXTSPLIT('12.Partner Involvement'!$H650,\";\"))),\"\")","v":""},{"$f":"IF(ISNUMBER(SEARCH(H$206,'12.Partner Involvement'!$H650))=TRUE,(('12.Partner Involvement'!$D650*'12.Partner Involvement'!$E650)/COUNTA(_xlfn.TEXTSPLIT('12.Partner Involvement'!$H650,\";\"))),\"\")","v":""}]
[{"$f":"IF(ISNUMBER(SEARCH(A$206,'12.Partner Involvement'!$G651))=TRUE,(('12.Partner Involvement'!$D651*'12.Partner Involvement'!$E651)/COUNTA(_xlfn.TEXTSPLIT('12.Partner Involvement'!$G651,\";\"))),\"\")","v":""},{"$f":"IF(ISNUMBER(SEARCH(B$206,'12.Partner Involvement'!$G651))=TRUE,(('12.Partner Involvement'!$D651*'12.Partner Involvement'!$E651)/COUNTA(_xlfn.TEXTSPLIT('12.Partner Involvement'!$G651,\";\"))),\"\")","v":""},{"$f":"IF(ISNUMBER(SEARCH(C$206,'12.Partner Involvement'!$G651))=TRUE,(('12.Partner Involvement'!$D651*'12.Partner Involvement'!$E651)/COUNTA(_xlfn.TEXTSPLIT('12.Partner Involvement'!$G651,\";\"))),\"\")","v":""},null,{"$f":"IF(ISNUMBER(SEARCH(E$206,'12.Partner Involvement'!$H651))=TRUE,(('12.Partner Involvement'!$D651*'12.Partner Involvement'!$E651)/COUNTA(_xlfn.TEXTSPLIT('12.Partner Involvement'!$H651,\";\"))),\"\")","v":""},{"$f":"IF(ISNUMBER(SEARCH(F$206,'12.Partner Involvement'!$H651))=TRUE,(('12.Partner Involvement'!$D651*'12.Partner Involvement'!$E651)/COUNTA(_xlfn.TEXTSPLIT('12.Partner Involvement'!$H651,\";\"))),\"\")","v":""},{"$f":"IF(ISNUMBER(SEARCH(G$206,'12.Partner Involvement'!$H651))=TRUE,(('12.Partner Involvement'!$D651*'12.Partner Involvement'!$E651)/COUNTA(_xlfn.TEXTSPLIT('12.Partner Involvement'!$H651,\";\"))),\"\")","v":""},{"$f":"IF(ISNUMBER(SEARCH(H$206,'12.Partner Involvement'!$H651))=TRUE,(('12.Partner Involvement'!$D651*'12.Partner Involvement'!$E651)/COUNTA(_xlfn.TEXTSPLIT('12.Partner Involvement'!$H651,\";\"))),\"\")","v":""}]
[{"$f":"IF(ISNUMBER(SEARCH(A$206,'12.Partner Involvement'!$G652))=TRUE,(('12.Partner Involvement'!$D652*'12.Partner Involvement'!$E652)/COUNTA(_xlfn.TEXTSPLIT('12.Partner Involvement'!$G652,\";\"))),\"\")","v":""},{"$f":"IF(ISNUMBER(SEARCH(B$206,'12.Partner Involvement'!$G652))=TRUE,(('12.Partner Involvement'!$D652*'12.Partner Involvement'!$E652)/COUNTA(_xlfn.TEXTSPLIT('12.Partner Involvement'!$G652,\";\"))),\"\")","v":""},{"$f":"IF(ISNUMBER(SEARCH(C$206,'12.Partner Involvement'!$G652))=TRUE,(('12.Partner Involvement'!$D652*'12.Partner Involvement'!$E652)/COUNTA(_xlfn.TEXTSPLIT('12.Partner Involvement'!$G652,\";\"))),\"\")","v":""},null,{"$f":"IF(ISNUMBER(SEARCH(E$206,'12.Partner Involvement'!$H652))=TRUE,(('12.Partner Involvement'!$D652*'12.Partner Involvement'!$E652)/COUNTA(_xlfn.TEXTSPLIT('12.Partner Involvement'!$H652,\";\"))),\"\")","v":""},{"$f":"IF(ISNUMBER(SEARCH(F$206,'12.Partner Involvement'!$H652))=TRUE,(('12.Partner Involvement'!$D652*'12.Partner Involvement'!$E652)/COUNTA(_xlfn.TEXTSPLIT('12.Partner Involvement'!$H652,\";\"))),\"\")","v":""},{"$f":"IF(ISNUMBER(SEARCH(G$206,'12.Partner Involvement'!$H652))=TRUE,(('12.Partner Involvement'!$D652*'12.Partner Involvement'!$E652)/COUNTA(_xlfn.TEXTSPLIT('12.Partner Involvement'!$H652,\";\"))),\"\")","v":""},{"$f":"IF(ISNUMBER(SEARCH(H$206,'12.Partner Involvement'!$H652))=TRUE,(('12.Partner Involvement'!$D652*'12.Partner Involvement'!$E652)/COUNTA(_xlfn.TEXTSPLIT('12.Partner Involvement'!$H652,\";\"))),\"\")","v":""}]
[{"$f":"IF(ISNUMBER(SEARCH(A$206,'12.Partner Involvement'!$G653))=TRUE,(('12.Partner Involvement'!$D653*'12.Partner Involvement'!$E653)/COUNTA(_xlfn.TEXTSPLIT('12.Partner Involvement'!$G653,\";\"))),\"\")","v":""},{"$f":"IF(ISNUMBER(SEARCH(B$206,'12.Partner Involvement'!$G653))=TRUE,(('12.Partner Involvement'!$D653*'12.Partner Involvement'!$E653)/COUNTA(_xlfn.TEXTSPLIT('12.Partner Involvement'!$G653,\";\"))),\"\")","v":""},{"$f":"IF(ISNUMBER(SEARCH(C$206,'12.Partner Involvement'!$G653))=TRUE,(('12.Partner Involvement'!$D653*'12.Partner Involvement'!$E653)/COUNTA(_xlfn.TEXTSPLIT('12.Partner Involvement'!$G653,\";\"))),\"\")","v":""},null,{"$f":"IF(ISNUMBER(SEARCH(E$206,'12.Partner Involvement'!$H653))=TRUE,(('12.Partner Involvement'!$D653*'12.Partner Involvement'!$E653)/COUNTA(_xlfn.TEXTSPLIT('12.Partner Involvement'!$H653,\";\"))),\"\")","v":""},{"$f":"IF(ISNUMBER(SEARCH(F$206,'12.Partner Involvement'!$H653))=TRUE,(('12.Partner Involvement'!$D653*'12.Partner Involvement'!$E653)/COUNTA(_xlfn.TEXTSPLIT('12.Partner Involvement'!$H653,\";\"))),\"\")","v":""},{"$f":"IF(ISNUMBER(SEARCH(G$206,'12.Partner Involvement'!$H653))=TRUE,(('12.Partner Involvement'!$D653*'12.Partner Involvement'!$E653)/COUNTA(_xlfn.TEXTSPLIT('12.Partner Involvement'!$H653,\";\"))),\"\")","v":""},{"$f":"IF(ISNUMBER(SEARCH(H$206,'12.Partner Involvement'!$H653))=TRUE,(('12.Partner Involvement'!$D653*'12.Partner Involvement'!$E653)/COUNTA(_xlfn.TEXTSPLIT('12.Partner Involvement'!$H653,\";\"))),\"\")","v":""}]
[{"$f":"IF(ISNUMBER(SEARCH(A$206,'12.Partner Involvement'!$G654))=TRUE,(('12.Partner Involvement'!$D654*'12.Partner Involvement'!$E654)/COUNTA(_xlfn.TEXTSPLIT('12.Partner Involvement'!$G654,\";\"))),\"\")","v":""},{"$f":"IF(ISNUMBER(SEARCH(B$206,'12.Partner Involvement'!$G654))=TRUE,(('12.Partner Involvement'!$D654*'12.Partner Involvement'!$E654)/COUNTA(_xlfn.TEXTSPLIT('12.Partner Involvement'!$G654,\";\"))),\"\")","v":""},{"$f":"IF(ISNUMBER(SEARCH(C$206,'12.Partner Involvement'!$G654))=TRUE,(('12.Partner Involvement'!$D654*'12.Partner Involvement'!$E654)/COUNTA(_xlfn.TEXTSPLIT('12.Partner Involvement'!$G654,\";\"))),\"\")","v":""},null,{"$f":"IF(ISNUMBER(SEARCH(E$206,'12.Partner Involvement'!$H654))=TRUE,(('12.Partner Involvement'!$D654*'12.Partner Involvement'!$E654)/COUNTA(_xlfn.TEXTSPLIT('12.Partner Involvement'!$H654,\";\"))),\"\")","v":""},{"$f":"IF(ISNUMBER(SEARCH(F$206,'12.Partner Involvement'!$H654))=TRUE,(('12.Partner Involvement'!$D654*'12.Partner Involvement'!$E654)/COUNTA(_xlfn.TEXTSPLIT('12.Partner Involvement'!$H654,\";\"))),\"\")","v":""},{"$f":"IF(ISNUMBER(SEARCH(G$206,'12.Partner Involvement'!$H654))=TRUE,(('12.Partner Involvement'!$D654*'12.Partner Involvement'!$E654)/COUNTA(_xlfn.TEXTSPLIT('12.Partner Involvement'!$H654,\";\"))),\"\")","v":""},{"$f":"IF(ISNUMBER(SEARCH(H$206,'12.Partner Involvement'!$H654))=TRUE,(('12.Partner Involvement'!$D654*'12.Partner Involvement'!$E654)/COUNTA(_xlfn.TEXTSPLIT('12.Partner Involvement'!$H654,\";\"))),\"\")","v":""}]
[{"$f":"IF(ISNUMBER(SEARCH(A$206,'12.Partner Involvement'!$G655))=TRUE,(('12.Partner Involvement'!$D655*'12.Partner Involvement'!$E655)/COUNTA(_xlfn.TEXTSPLIT('12.Partner Involvement'!$G655,\";\"))),\"\")","v":""},{"$f":"IF(ISNUMBER(SEARCH(B$206,'12.Partner Involvement'!$G655))=TRUE,(('12.Partner Involvement'!$D655*'12.Partner Involvement'!$E655)/COUNTA(_xlfn.TEXTSPLIT('12.Partner Involvement'!$G655,\";\"))),\"\")","v":""},{"$f":"IF(ISNUMBER(SEARCH(C$206,'12.Partner Involvement'!$G655))=TRUE,(('12.Partner Involvement'!$D655*'12.Partner Involvement'!$E655)/COUNTA(_xlfn.TEXTSPLIT('12.Partner Involvement'!$G655,\";\"))),\"\")","v":""},null,{"$f":"IF(ISNUMBER(SEARCH(E$206,'12.Partner Involvement'!$H655))=TRUE,(('12.Partner Involvement'!$D655*'12.Partner Involvement'!$E655)/COUNTA(_xlfn.TEXTSPLIT('12.Partner Involvement'!$H655,\";\"))),\"\")","v":""},{"$f":"IF(ISNUMBER(SEARCH(F$206,'12.Partner Involvement'!$H655))=TRUE,(('12.Partner Involvement'!$D655*'12.Partner Involvement'!$E655)/COUNTA(_xlfn.TEXTSPLIT('12.Partner Involvement'!$H655,\";\"))),\"\")","v":""},{"$f":"IF(ISNUMBER(SEARCH(G$206,'12.Partner Involvement'!$H655))=TRUE,(('12.Partner Involvement'!$D655*'12.Partner Involvement'!$E655)/COUNTA(_xlfn.TEXTSPLIT('12.Partner Involvement'!$H655,\";\"))),\"\")","v":""},{"$f":"IF(ISNUMBER(SEARCH(H$206,'12.Partner Involvement'!$H655))=TRUE,(('12.Partner Involvement'!$D655*'12.Partner Involvement'!$E655)/COUNTA(_xlfn.TEXTSPLIT('12.Partner Involvement'!$H655,\";\"))),\"\")","v":""}]
[{"$f":"IF(ISNUMBER(SEARCH(A$206,'12.Partner Involvement'!$G656))=TRUE,(('12.Partner Involvement'!$D656*'12.Partner Involvement'!$E656)/COUNTA(_xlfn.TEXTSPLIT('12.Partner Involvement'!$G656,\";\"))),\"\")","v":""},{"$f":"IF(ISNUMBER(SEARCH(B$206,'12.Partner Involvement'!$G656))=TRUE,(('12.Partner Involvement'!$D656*'12.Partner Involvement'!$E656)/COUNTA(_xlfn.TEXTSPLIT('12.Partner Involvement'!$G656,\";\"))),\"\")","v":""},{"$f":"IF(ISNUMBER(SEARCH(C$206,'12.Partner Involvement'!$G656))=TRUE,(('12.Partner Involvement'!$D656*'12.Partner Involvement'!$E656)/COUNTA(_xlfn.TEXTSPLIT('12.Partner Involvement'!$G656,\";\"))),\"\")","v":""},null,{"$f":"IF(ISNUMBER(SEARCH(E$206,'12.Partner Involvement'!$H656))=TRUE,(('12.Partner Involvement'!$D656*'12.Partner Involvement'!$E656)/COUNTA(_xlfn.TEXTSPLIT('12.Partner Involvement'!$H656,\";\"))),\"\")","v":""},{"$f":"IF(ISNUMBER(SEARCH(F$206,'12.Partner Involvement'!$H656))=TRUE,(('12.Partner Involvement'!$D656*'12.Partner Involvement'!$E656)/COUNTA(_xlfn.TEXTSPLIT('12.Partner Involvement'!$H656,\";\"))),\"\")","v":""},{"$f":"IF(ISNUMBER(SEARCH(G$206,'12.Partner Involvement'!$H656))=TRUE,(('12.Partner Involvement'!$D656*'12.Partner Involvement'!$E656)/COUNTA(_xlfn.TEXTSPLIT('12.Partner Involvement'!$H656,\";\"))),\"\")","v":""},{"$f":"IF(ISNUMBER(SEARCH(H$206,'12.Partner Involvement'!$H656))=TRUE,(('12.Partner Involvement'!$D656*'12.Partner Involvement'!$E656)/COUNTA(_xlfn.TEXTSPLIT('12.Partner Involvement'!$H656,\";\"))),\"\")","v":""}]
[{"$f":"IF(ISNUMBER(SEARCH(A$206,'12.Partner Involvement'!$G657))=TRUE,(('12.Partner Involvement'!$D657*'12.Partner Involvement'!$E657)/COUNTA(_xlfn.TEXTSPLIT('12.Partner Involvement'!$G657,\";\"))),\"\")","v":""},{"$f":"IF(ISNUMBER(SEARCH(B$206,'12.Partner Involvement'!$G657))=TRUE,(('12.Partner Involvement'!$D657*'12.Partner Involvement'!$E657)/COUNTA(_xlfn.TEXTSPLIT('12.Partner Involvement'!$G657,\";\"))),\"\")","v":""},{"$f":"IF(ISNUMBER(SEARCH(C$206,'12.Partner Involvement'!$G657))=TRUE,(('12.Partner Involvement'!$D657*'12.Partner Involvement'!$E657)/COUNTA(_xlfn.TEXTSPLIT('12.Partner Involvement'!$G657,\";\"))),\"\")","v":""},null,{"$f":"IF(ISNUMBER(SEARCH(E$206,'12.Partner Involvement'!$H657))=TRUE,(('12.Partner Involvement'!$D657*'12.Partner Involvement'!$E657)/COUNTA(_xlfn.TEXTSPLIT('12.Partner Involvement'!$H657,\";\"))),\"\")","v":""},{"$f":"IF(ISNUMBER(SEARCH(F$206,'12.Partner Involvement'!$H657))=TRUE,(('12.Partner Involvement'!$D657*'12.Partner Involvement'!$E657)/COUNTA(_xlfn.TEXTSPLIT('12.Partner Involvement'!$H657,\";\"))),\"\")","v":""},{"$f":"IF(ISNUMBER(SEARCH(G$206,'12.Partner Involvement'!$H657))=TRUE,(('12.Partner Involvement'!$D657*'12.Partner Involvement'!$E657)/COUNTA(_xlfn.TEXTSPLIT('12.Partner Involvement'!$H657,\";\"))),\"\")","v":""},{"$f":"IF(ISNUMBER(SEARCH(H$206,'12.Partner Involvement'!$H657))=TRUE,(('12.Partner Involvement'!$D657*'12.Partner Involvement'!$E657)/COUNTA(_xlfn.TEXTSPLIT('12.Partner Involvement'!$H657,\";\"))),\"\")","v":""}]
[{"$f":"IF(ISNUMBER(SEARCH(A$206,'12.Partner Involvement'!$G658))=TRUE,(('12.Partner Involvement'!$D658*'12.Partner Involvement'!$E658)/COUNTA(_xlfn.TEXTSPLIT('12.Partner Involvement'!$G658,\";\"))),\"\")","v":""},{"$f":"IF(ISNUMBER(SEARCH(B$206,'12.Partner Involvement'!$G658))=TRUE,(('12.Partner Involvement'!$D658*'12.Partner Involvement'!$E658)/COUNTA(_xlfn.TEXTSPLIT('12.Partner Involvement'!$G658,\";\"))),\"\")","v":""},{"$f":"IF(ISNUMBER(SEARCH(C$206,'12.Partner Involvement'!$G658))=TRUE,(('12.Partner Involvement'!$D658*'12.Partner Involvement'!$E658)/COUNTA(_xlfn.TEXTSPLIT('12.Partner Involvement'!$G658,\";\"))),\"\")","v":""},null,{"$f":"IF(ISNUMBER(SEARCH(E$206,'12.Partner Involvement'!$H658))=TRUE,(('12.Partner Involvement'!$D658*'12.Partner Involvement'!$E658)/COUNTA(_xlfn.TEXTSPLIT('12.Partner Involvement'!$H658,\";\"))),\"\")","v":""},{"$f":"IF(ISNUMBER(SEARCH(F$206,'12.Partner Involvement'!$H658))=TRUE,(('12.Partner Involvement'!$D658*'12.Partner Involvement'!$E658)/COUNTA(_xlfn.TEXTSPLIT('12.Partner Involvement'!$H658,\";\"))),\"\")","v":""},{"$f":"IF(ISNUMBER(SEARCH(G$206,'12.Partner Involvement'!$H658))=TRUE,(('12.Partner Involvement'!$D658*'12.Partner Involvement'!$E658)/COUNTA(_xlfn.TEXTSPLIT('12.Partner Involvement'!$H658,\";\"))),\"\")","v":""},{"$f":"IF(ISNUMBER(SEARCH(H$206,'12.Partner Involvement'!$H658))=TRUE,(('12.Partner Involvement'!$D658*'12.Partner Involvement'!$E658)/COUNTA(_xlfn.TEXTSPLIT('12.Partner Involvement'!$H658,\";\"))),\"\")","v":""}]
[{"$f":"IF(ISNUMBER(SEARCH(A$206,'12.Partner Involvement'!$G659))=TRUE,(('12.Partner Involvement'!$D659*'12.Partner Involvement'!$E659)/COUNTA(_xlfn.TEXTSPLIT('12.Partner Involvement'!$G659,\";\"))),\"\")","v":""},{"$f":"IF(ISNUMBER(SEARCH(B$206,'12.Partner Involvement'!$G659))=TRUE,(('12.Partner Involvement'!$D659*'12.Partner Involvement'!$E659)/COUNTA(_xlfn.TEXTSPLIT('12.Partner Involvement'!$G659,\";\"))),\"\")","v":""},{"$f":"IF(ISNUMBER(SEARCH(C$206,'12.Partner Involvement'!$G659))=TRUE,(('12.Partner Involvement'!$D659*'12.Partner Involvement'!$E659)/COUNTA(_xlfn.TEXTSPLIT('12.Partner Involvement'!$G659,\";\"))),\"\")","v":""},null,{"$f":"IF(ISNUMBER(SEARCH(E$206,'12.Partner Involvement'!$H659))=TRUE,(('12.Partner Involvement'!$D659*'12.Partner Involvement'!$E659)/COUNTA(_xlfn.TEXTSPLIT('12.Partner Involvement'!$H659,\";\"))),\"\")","v":""},{"$f":"IF(ISNUMBER(SEARCH(F$206,'12.Partner Involvement'!$H659))=TRUE,(('12.Partner Involvement'!$D659*'12.Partner Involvement'!$E659)/COUNTA(_xlfn.TEXTSPLIT('12.Partner Involvement'!$H659,\";\"))),\"\")","v":""},{"$f":"IF(ISNUMBER(SEARCH(G$206,'12.Partner Involvement'!$H659))=TRUE,(('12.Partner Involvement'!$D659*'12.Partner Involvement'!$E659)/COUNTA(_xlfn.TEXTSPLIT('12.Partner Involvement'!$H659,\";\"))),\"\")","v":""},{"$f":"IF(ISNUMBER(SEARCH(H$206,'12.Partner Involvement'!$H659))=TRUE,(('12.Partner Involvement'!$D659*'12.Partner Involvement'!$E659)/COUNTA(_xlfn.TEXTSPLIT('12.Partner Involvement'!$H659,\";\"))),\"\")","v":""}]
[{"$f":"IF(ISNUMBER(SEARCH(A$206,'12.Partner Involvement'!$G660))=TRUE,(('12.Partner Involvement'!$D660*'12.Partner Involvement'!$E660)/COUNTA(_xlfn.TEXTSPLIT('12.Partner Involvement'!$G660,\";\"))),\"\")","v":""},{"$f":"IF(ISNUMBER(SEARCH(B$206,'12.Partner Involvement'!$G660))=TRUE,(('12.Partner Involvement'!$D660*'12.Partner Involvement'!$E660)/COUNTA(_xlfn.TEXTSPLIT('12.Partner Involvement'!$G660,\";\"))),\"\")","v":""},{"$f":"IF(ISNUMBER(SEARCH(C$206,'12.Partner Involvement'!$G660))=TRUE,(('12.Partner Involvement'!$D660*'12.Partner Involvement'!$E660)/COUNTA(_xlfn.TEXTSPLIT('12.Partner Involvement'!$G660,\";\"))),\"\")","v":""},null,{"$f":"IF(ISNUMBER(SEARCH(E$206,'12.Partner Involvement'!$H660))=TRUE,(('12.Partner Involvement'!$D660*'12.Partner Involvement'!$E660)/COUNTA(_xlfn.TEXTSPLIT('12.Partner Involvement'!$H660,\";\"))),\"\")","v":""},{"$f":"IF(ISNUMBER(SEARCH(F$206,'12.Partner Involvement'!$H660))=TRUE,(('12.Partner Involvement'!$D660*'12.Partner Involvement'!$E660)/COUNTA(_xlfn.TEXTSPLIT('12.Partner Involvement'!$H660,\";\"))),\"\")","v":""},{"$f":"IF(ISNUMBER(SEARCH(G$206,'12.Partner Involvement'!$H660))=TRUE,(('12.Partner Involvement'!$D660*'12.Partner Involvement'!$E660)/COUNTA(_xlfn.TEXTSPLIT('12.Partner Involvement'!$H660,\";\"))),\"\")","v":""},{"$f":"IF(ISNUMBER(SEARCH(H$206,'12.Partner Involvement'!$H660))=TRUE,(('12.Partner Involvement'!$D660*'12.Partner Involvement'!$E660)/COUNTA(_xlfn.TEXTSPLIT('12.Partner Involvement'!$H660,\";\"))),\"\")","v":""}]
[{"$f":"IF(ISNUMBER(SEARCH(A$206,'12.Partner Involvement'!$G661))=TRUE,(('12.Partner Involvement'!$D661*'12.Partner Involvement'!$E661)/COUNTA(_xlfn.TEXTSPLIT('12.Partner Involvement'!$G661,\";\"))),\"\")","v":""},{"$f":"IF(ISNUMBER(SEARCH(B$206,'12.Partner Involvement'!$G661))=TRUE,(('12.Partner Involvement'!$D661*'12.Partner Involvement'!$E661)/COUNTA(_xlfn.TEXTSPLIT('12.Partner Involvement'!$G661,\";\"))),\"\")","v":""},{"$f":"IF(ISNUMBER(SEARCH(C$206,'12.Partner Involvement'!$G661))=TRUE,(('12.Partner Involvement'!$D661*'12.Partner Involvement'!$E661)/COUNTA(_xlfn.TEXTSPLIT('12.Partner Involvement'!$G661,\";\"))),\"\")","v":""},null,{"$f":"IF(ISNUMBER(SEARCH(E$206,'12.Partner Involvement'!$H661))=TRUE,(('12.Partner Involvement'!$D661*'12.Partner Involvement'!$E661)/COUNTA(_xlfn.TEXTSPLIT('12.Partner Involvement'!$H661,\";\"))),\"\")","v":""},{"$f":"IF(ISNUMBER(SEARCH(F$206,'12.Partner Involvement'!$H661))=TRUE,(('12.Partner Involvement'!$D661*'12.Partner Involvement'!$E661)/COUNTA(_xlfn.TEXTSPLIT('12.Partner Involvement'!$H661,\";\"))),\"\")","v":""},{"$f":"IF(ISNUMBER(SEARCH(G$206,'12.Partner Involvement'!$H661))=TRUE,(('12.Partner Involvement'!$D661*'12.Partner Involvement'!$E661)/COUNTA(_xlfn.TEXTSPLIT('12.Partner Involvement'!$H661,\";\"))),\"\")","v":""},{"$f":"IF(ISNUMBER(SEARCH(H$206,'12.Partner Involvement'!$H661))=TRUE,(('12.Partner Involvement'!$D661*'12.Partner Involvement'!$E661)/COUNTA(_xlfn.TEXTSPLIT('12.Partner Involvement'!$H661,\";\"))),\"\")","v":""}]
[{"$f":"IF(ISNUMBER(SEARCH(A$206,'12.Partner Involvement'!$G662))=TRUE,(('12.Partner Involvement'!$D662*'12.Partner Involvement'!$E662)/COUNTA(_xlfn.TEXTSPLIT('12.Partner Involvement'!$G662,\";\"))),\"\")","v":""},{"$f":"IF(ISNUMBER(SEARCH(B$206,'12.Partner Involvement'!$G662))=TRUE,(('12.Partner Involvement'!$D662*'12.Partner Involvement'!$E662)/COUNTA(_xlfn.TEXTSPLIT('12.Partner Involvement'!$G662,\";\"))),\"\")","v":""},{"$f":"IF(ISNUMBER(SEARCH(C$206,'12.Partner Involvement'!$G662))=TRUE,(('12.Partner Involvement'!$D662*'12.Partner Involvement'!$E662)/COUNTA(_xlfn.TEXTSPLIT('12.Partner Involvement'!$G662,\";\"))),\"\")","v":""},null,{"$f":"IF(ISNUMBER(SEARCH(E$206,'12.Partner Involvement'!$H662))=TRUE,(('12.Partner Involvement'!$D662*'12.Partner Involvement'!$E662)/COUNTA(_xlfn.TEXTSPLIT('12.Partner Involvement'!$H662,\";\"))),\"\")","v":""},{"$f":"IF(ISNUMBER(SEARCH(F$206,'12.Partner Involvement'!$H662))=TRUE,(('12.Partner Involvement'!$D662*'12.Partner Involvement'!$E662)/COUNTA(_xlfn.TEXTSPLIT('12.Partner Involvement'!$H662,\";\"))),\"\")","v":""},{"$f":"IF(ISNUMBER(SEARCH(G$206,'12.Partner Involvement'!$H662))=TRUE,(('12.Partner Involvement'!$D662*'12.Partner Involvement'!$E662)/COUNTA(_xlfn.TEXTSPLIT('12.Partner Involvement'!$H662,\";\"))),\"\")","v":""},{"$f":"IF(ISNUMBER(SEARCH(H$206,'12.Partner Involvement'!$H662))=TRUE,(('12.Partner Involvement'!$D662*'12.Partner Involvement'!$E662)/COUNTA(_xlfn.TEXTSPLIT('12.Partner Involvement'!$H662,\";\"))),\"\")","v":""}]
[{"$f":"IF(ISNUMBER(SEARCH(A$206,'12.Partner Involvement'!$G663))=TRUE,(('12.Partner Involvement'!$D663*'12.Partner Involvement'!$E663)/COUNTA(_xlfn.TEXTSPLIT('12.Partner Involvement'!$G663,\";\"))),\"\")","v":""},{"$f":"IF(ISNUMBER(SEARCH(B$206,'12.Partner Involvement'!$G663))=TRUE,(('12.Partner Involvement'!$D663*'12.Partner Involvement'!$E663)/COUNTA(_xlfn.TEXTSPLIT('12.Partner Involvement'!$G663,\";\"))),\"\")","v":""},{"$f":"IF(ISNUMBER(SEARCH(C$206,'12.Partner Involvement'!$G663))=TRUE,(('12.Partner Involvement'!$D663*'12.Partner Involvement'!$E663)/COUNTA(_xlfn.TEXTSPLIT('12.Partner Involvement'!$G663,\";\"))),\"\")","v":""},null,{"$f":"IF(ISNUMBER(SEARCH(E$206,'12.Partner Involvement'!$H663))=TRUE,(('12.Partner Involvement'!$D663*'12.Partner Involvement'!$E663)/COUNTA(_xlfn.TEXTSPLIT('12.Partner Involvement'!$H663,\";\"))),\"\")","v":""},{"$f":"IF(ISNUMBER(SEARCH(F$206,'12.Partner Involvement'!$H663))=TRUE,(('12.Partner Involvement'!$D663*'12.Partner Involvement'!$E663)/COUNTA(_xlfn.TEXTSPLIT('12.Partner Involvement'!$H663,\";\"))),\"\")","v":""},{"$f":"IF(ISNUMBER(SEARCH(G$206,'12.Partner Involvement'!$H663))=TRUE,(('12.Partner Involvement'!$D663*'12.Partner Involvement'!$E663)/COUNTA(_xlfn.TEXTSPLIT('12.Partner Involvement'!$H663,\";\"))),\"\")","v":""},{"$f":"IF(ISNUMBER(SEARCH(H$206,'12.Partner Involvement'!$H663))=TRUE,(('12.Partner Involvement'!$D663*'12.Partner Involvement'!$E663)/COUNTA(_xlfn.TEXTSPLIT('12.Partner Involvement'!$H663,\";\"))),\"\")","v":""}]
[{"$f":"IF(ISNUMBER(SEARCH(A$206,'12.Partner Involvement'!$G664))=TRUE,(('12.Partner Involvement'!$D664*'12.Partner Involvement'!$E664)/COUNTA(_xlfn.TEXTSPLIT('12.Partner Involvement'!$G664,\";\"))),\"\")","v":""},{"$f":"IF(ISNUMBER(SEARCH(B$206,'12.Partner Involvement'!$G664))=TRUE,(('12.Partner Involvement'!$D664*'12.Partner Involvement'!$E664)/COUNTA(_xlfn.TEXTSPLIT('12.Partner Involvement'!$G664,\";\"))),\"\")","v":""},{"$f":"IF(ISNUMBER(SEARCH(C$206,'12.Partner Involvement'!$G664))=TRUE,(('12.Partner Involvement'!$D664*'12.Partner Involvement'!$E664)/COUNTA(_xlfn.TEXTSPLIT('12.Partner Involvement'!$G664,\";\"))),\"\")","v":""},null,{"$f":"IF(ISNUMBER(SEARCH(E$206,'12.Partner Involvement'!$H664))=TRUE,(('12.Partner Involvement'!$D664*'12.Partner Involvement'!$E664)/COUNTA(_xlfn.TEXTSPLIT('12.Partner Involvement'!$H664,\";\"))),\"\")","v":""},{"$f":"IF(ISNUMBER(SEARCH(F$206,'12.Partner Involvement'!$H664))=TRUE,(('12.Partner Involvement'!$D664*'12.Partner Involvement'!$E664)/COUNTA(_xlfn.TEXTSPLIT('12.Partner Involvement'!$H664,\";\"))),\"\")","v":""},{"$f":"IF(ISNUMBER(SEARCH(G$206,'12.Partner Involvement'!$H664))=TRUE,(('12.Partner Involvement'!$D664*'12.Partner Involvement'!$E664)/COUNTA(_xlfn.TEXTSPLIT('12.Partner Involvement'!$H664,\";\"))),\"\")","v":""},{"$f":"IF(ISNUMBER(SEARCH(H$206,'12.Partner Involvement'!$H664))=TRUE,(('12.Partner Involvement'!$D664*'12.Partner Involvement'!$E664)/COUNTA(_xlfn.TEXTSPLIT('12.Partner Involvement'!$H664,\";\"))),\"\")","v":""}]
[{"$f":"IF(ISNUMBER(SEARCH(A$206,'12.Partner Involvement'!$G665))=TRUE,(('12.Partner Involvement'!$D665*'12.Partner Involvement'!$E665)/COUNTA(_xlfn.TEXTSPLIT('12.Partner Involvement'!$G665,\";\"))),\"\")","v":""},{"$f":"IF(ISNUMBER(SEARCH(B$206,'12.Partner Involvement'!$G665))=TRUE,(('12.Partner Involvement'!$D665*'12.Partner Involvement'!$E665)/COUNTA(_xlfn.TEXTSPLIT('12.Partner Involvement'!$G665,\";\"))),\"\")","v":""},{"$f":"IF(ISNUMBER(SEARCH(C$206,'12.Partner Involvement'!$G665))=TRUE,(('12.Partner Involvement'!$D665*'12.Partner Involvement'!$E665)/COUNTA(_xlfn.TEXTSPLIT('12.Partner Involvement'!$G665,\";\"))),\"\")","v":""},null,{"$f":"IF(ISNUMBER(SEARCH(E$206,'12.Partner Involvement'!$H665))=TRUE,(('12.Partner Involvement'!$D665*'12.Partner Involvement'!$E665)/COUNTA(_xlfn.TEXTSPLIT('12.Partner Involvement'!$H665,\";\"))),\"\")","v":""},{"$f":"IF(ISNUMBER(SEARCH(F$206,'12.Partner Involvement'!$H665))=TRUE,(('12.Partner Involvement'!$D665*'12.Partner Involvement'!$E665)/COUNTA(_xlfn.TEXTSPLIT('12.Partner Involvement'!$H665,\";\"))),\"\")","v":""},{"$f":"IF(ISNUMBER(SEARCH(G$206,'12.Partner Involvement'!$H665))=TRUE,(('12.Partner Involvement'!$D665*'12.Partner Involvement'!$E665)/COUNTA(_xlfn.TEXTSPLIT('12.Partner Involvement'!$H665,\";\"))),\"\")","v":""},{"$f":"IF(ISNUMBER(SEARCH(H$206,'12.Partner Involvement'!$H665))=TRUE,(('12.Partner Involvement'!$D665*'12.Partner Involvement'!$E665)/COUNTA(_xlfn.TEXTSPLIT('12.Partner Involvement'!$H665,\";\"))),\"\")","v":""}]
[{"$f":"IF(ISNUMBER(SEARCH(A$206,'12.Partner Involvement'!$G666))=TRUE,(('12.Partner Involvement'!$D666*'12.Partner Involvement'!$E666)/COUNTA(_xlfn.TEXTSPLIT('12.Partner Involvement'!$G666,\";\"))),\"\")","v":""},{"$f":"IF(ISNUMBER(SEARCH(B$206,'12.Partner Involvement'!$G666))=TRUE,(('12.Partner Involvement'!$D666*'12.Partner Involvement'!$E666)/COUNTA(_xlfn.TEXTSPLIT('12.Partner Involvement'!$G666,\";\"))),\"\")","v":""},{"$f":"IF(ISNUMBER(SEARCH(C$206,'12.Partner Involvement'!$G666))=TRUE,(('12.Partner Involvement'!$D666*'12.Partner Involvement'!$E666)/COUNTA(_xlfn.TEXTSPLIT('12.Partner Involvement'!$G666,\";\"))),\"\")","v":""},null,{"$f":"IF(ISNUMBER(SEARCH(E$206,'12.Partner Involvement'!$H666))=TRUE,(('12.Partner Involvement'!$D666*'12.Partner Involvement'!$E666)/COUNTA(_xlfn.TEXTSPLIT('12.Partner Involvement'!$H666,\";\"))),\"\")","v":""},{"$f":"IF(ISNUMBER(SEARCH(F$206,'12.Partner Involvement'!$H666))=TRUE,(('12.Partner Involvement'!$D666*'12.Partner Involvement'!$E666)/COUNTA(_xlfn.TEXTSPLIT('12.Partner Involvement'!$H666,\";\"))),\"\")","v":""},{"$f":"IF(ISNUMBER(SEARCH(G$206,'12.Partner Involvement'!$H666))=TRUE,(('12.Partner Involvement'!$D666*'12.Partner Involvement'!$E666)/COUNTA(_xlfn.TEXTSPLIT('12.Partner Involvement'!$H666,\";\"))),\"\")","v":""},{"$f":"IF(ISNUMBER(SEARCH(H$206,'12.Partner Involvement'!$H666))=TRUE,(('12.Partner Involvement'!$D666*'12.Partner Involvement'!$E666)/COUNTA(_xlfn.TEXTSPLIT('12.Partner Involvement'!$H666,\";\"))),\"\")","v":""}]
[{"$f":"IF(ISNUMBER(SEARCH(A$206,'12.Partner Involvement'!$G667))=TRUE,(('12.Partner Involvement'!$D667*'12.Partner Involvement'!$E667)/COUNTA(_xlfn.TEXTSPLIT('12.Partner Involvement'!$G667,\";\"))),\"\")","v":""},{"$f":"IF(ISNUMBER(SEARCH(B$206,'12.Partner Involvement'!$G667))=TRUE,(('12.Partner Involvement'!$D667*'12.Partner Involvement'!$E667)/COUNTA(_xlfn.TEXTSPLIT('12.Partner Involvement'!$G667,\";\"))),\"\")","v":""},{"$f":"IF(ISNUMBER(SEARCH(C$206,'12.Partner Involvement'!$G667))=TRUE,(('12.Partner Involvement'!$D667*'12.Partner Involvement'!$E667)/COUNTA(_xlfn.TEXTSPLIT('12.Partner Involvement'!$G667,\";\"))),\"\")","v":""},null,{"$f":"IF(ISNUMBER(SEARCH(E$206,'12.Partner Involvement'!$H667))=TRUE,(('12.Partner Involvement'!$D667*'12.Partner Involvement'!$E667)/COUNTA(_xlfn.TEXTSPLIT('12.Partner Involvement'!$H667,\";\"))),\"\")","v":""},{"$f":"IF(ISNUMBER(SEARCH(F$206,'12.Partner Involvement'!$H667))=TRUE,(('12.Partner Involvement'!$D667*'12.Partner Involvement'!$E667)/COUNTA(_xlfn.TEXTSPLIT('12.Partner Involvement'!$H667,\";\"))),\"\")","v":""},{"$f":"IF(ISNUMBER(SEARCH(G$206,'12.Partner Involvement'!$H667))=TRUE,(('12.Partner Involvement'!$D667*'12.Partner Involvement'!$E667)/COUNTA(_xlfn.TEXTSPLIT('12.Partner Involvement'!$H667,\";\"))),\"\")","v":""},{"$f":"IF(ISNUMBER(SEARCH(H$206,'12.Partner Involvement'!$H667))=TRUE,(('12.Partner Involvement'!$D667*'12.Partner Involvement'!$E667)/COUNTA(_xlfn.TEXTSPLIT('12.Partner Involvement'!$H667,\";\"))),\"\")","v":""}]
[{"$f":"IF(ISNUMBER(SEARCH(A$206,'12.Partner Involvement'!$G668))=TRUE,(('12.Partner Involvement'!$D668*'12.Partner Involvement'!$E668)/COUNTA(_xlfn.TEXTSPLIT('12.Partner Involvement'!$G668,\";\"))),\"\")","v":""},{"$f":"IF(ISNUMBER(SEARCH(B$206,'12.Partner Involvement'!$G668))=TRUE,(('12.Partner Involvement'!$D668*'12.Partner Involvement'!$E668)/COUNTA(_xlfn.TEXTSPLIT('12.Partner Involvement'!$G668,\";\"))),\"\")","v":""},{"$f":"IF(ISNUMBER(SEARCH(C$206,'12.Partner Involvement'!$G668))=TRUE,(('12.Partner Involvement'!$D668*'12.Partner Involvement'!$E668)/COUNTA(_xlfn.TEXTSPLIT('12.Partner Involvement'!$G668,\";\"))),\"\")","v":""},null,{"$f":"IF(ISNUMBER(SEARCH(E$206,'12.Partner Involvement'!$H668))=TRUE,(('12.Partner Involvement'!$D668*'12.Partner Involvement'!$E668)/COUNTA(_xlfn.TEXTSPLIT('12.Partner Involvement'!$H668,\";\"))),\"\")","v":""},{"$f":"IF(ISNUMBER(SEARCH(F$206,'12.Partner Involvement'!$H668))=TRUE,(('12.Partner Involvement'!$D668*'12.Partner Involvement'!$E668)/COUNTA(_xlfn.TEXTSPLIT('12.Partner Involvement'!$H668,\";\"))),\"\")","v":""},{"$f":"IF(ISNUMBER(SEARCH(G$206,'12.Partner Involvement'!$H668))=TRUE,(('12.Partner Involvement'!$D668*'12.Partner Involvement'!$E668)/COUNTA(_xlfn.TEXTSPLIT('12.Partner Involvement'!$H668,\";\"))),\"\")","v":""},{"$f":"IF(ISNUMBER(SEARCH(H$206,'12.Partner Involvement'!$H668))=TRUE,(('12.Partner Involvement'!$D668*'12.Partner Involvement'!$E668)/COUNTA(_xlfn.TEXTSPLIT('12.Partner Involvement'!$H668,\";\"))),\"\")","v":""}]
[{"$f":"IF(ISNUMBER(SEARCH(A$206,'12.Partner Involvement'!$G669))=TRUE,(('12.Partner Involvement'!$D669*'12.Partner Involvement'!$E669)/COUNTA(_xlfn.TEXTSPLIT('12.Partner Involvement'!$G669,\";\"))),\"\")","v":""},{"$f":"IF(ISNUMBER(SEARCH(B$206,'12.Partner Involvement'!$G669))=TRUE,(('12.Partner Involvement'!$D669*'12.Partner Involvement'!$E669)/COUNTA(_xlfn.TEXTSPLIT('12.Partner Involvement'!$G669,\";\"))),\"\")","v":""},{"$f":"IF(ISNUMBER(SEARCH(C$206,'12.Partner Involvement'!$G669))=TRUE,(('12.Partner Involvement'!$D669*'12.Partner Involvement'!$E669)/COUNTA(_xlfn.TEXTSPLIT('12.Partner Involvement'!$G669,\";\"))),\"\")","v":""},null,{"$f":"IF(ISNUMBER(SEARCH(E$206,'12.Partner Involvement'!$H669))=TRUE,(('12.Partner Involvement'!$D669*'12.Partner Involvement'!$E669)/COUNTA(_xlfn.TEXTSPLIT('12.Partner Involvement'!$H669,\";\"))),\"\")","v":""},{"$f":"IF(ISNUMBER(SEARCH(F$206,'12.Partner Involvement'!$H669))=TRUE,(('12.Partner Involvement'!$D669*'12.Partner Involvement'!$E669)/COUNTA(_xlfn.TEXTSPLIT('12.Partner Involvement'!$H669,\";\"))),\"\")","v":""},{"$f":"IF(ISNUMBER(SEARCH(G$206,'12.Partner Involvement'!$H669))=TRUE,(('12.Partner Involvement'!$D669*'12.Partner Involvement'!$E669)/COUNTA(_xlfn.TEXTSPLIT('12.Partner Involvement'!$H669,\";\"))),\"\")","v":""},{"$f":"IF(ISNUMBER(SEARCH(H$206,'12.Partner Involvement'!$H669))=TRUE,(('12.Partner Involvement'!$D669*'12.Partner Involvement'!$E669)/COUNTA(_xlfn.TEXTSPLIT('12.Partner Involvement'!$H669,\";\"))),\"\")","v":""}]
[{"$f":"IF(ISNUMBER(SEARCH(A$206,'12.Partner Involvement'!$G670))=TRUE,(('12.Partner Involvement'!$D670*'12.Partner Involvement'!$E670)/COUNTA(_xlfn.TEXTSPLIT('12.Partner Involvement'!$G670,\";\"))),\"\")","v":""},{"$f":"IF(ISNUMBER(SEARCH(B$206,'12.Partner Involvement'!$G670))=TRUE,(('12.Partner Involvement'!$D670*'12.Partner Involvement'!$E670)/COUNTA(_xlfn.TEXTSPLIT('12.Partner Involvement'!$G670,\";\"))),\"\")","v":""},{"$f":"IF(ISNUMBER(SEARCH(C$206,'12.Partner Involvement'!$G670))=TRUE,(('12.Partner Involvement'!$D670*'12.Partner Involvement'!$E670)/COUNTA(_xlfn.TEXTSPLIT('12.Partner Involvement'!$G670,\";\"))),\"\")","v":""},null,{"$f":"IF(ISNUMBER(SEARCH(E$206,'12.Partner Involvement'!$H670))=TRUE,(('12.Partner Involvement'!$D670*'12.Partner Involvement'!$E670)/COUNTA(_xlfn.TEXTSPLIT('12.Partner Involvement'!$H670,\";\"))),\"\")","v":""},{"$f":"IF(ISNUMBER(SEARCH(F$206,'12.Partner Involvement'!$H670))=TRUE,(('12.Partner Involvement'!$D670*'12.Partner Involvement'!$E670)/COUNTA(_xlfn.TEXTSPLIT('12.Partner Involvement'!$H670,\";\"))),\"\")","v":""},{"$f":"IF(ISNUMBER(SEARCH(G$206,'12.Partner Involvement'!$H670))=TRUE,(('12.Partner Involvement'!$D670*'12.Partner Involvement'!$E670)/COUNTA(_xlfn.TEXTSPLIT('12.Partner Involvement'!$H670,\";\"))),\"\")","v":""},{"$f":"IF(ISNUMBER(SEARCH(H$206,'12.Partner Involvement'!$H670))=TRUE,(('12.Partner Involvement'!$D670*'12.Partner Involvement'!$E670)/COUNTA(_xlfn.TEXTSPLIT('12.Partner Involvement'!$H670,\";\"))),\"\")","v":""}]
[{"$f":"IF(ISNUMBER(SEARCH(A$206,'12.Partner Involvement'!$G671))=TRUE,(('12.Partner Involvement'!$D671*'12.Partner Involvement'!$E671)/COUNTA(_xlfn.TEXTSPLIT('12.Partner Involvement'!$G671,\";\"))),\"\")","v":""},{"$f":"IF(ISNUMBER(SEARCH(B$206,'12.Partner Involvement'!$G671))=TRUE,(('12.Partner Involvement'!$D671*'12.Partner Involvement'!$E671)/COUNTA(_xlfn.TEXTSPLIT('12.Partner Involvement'!$G671,\";\"))),\"\")","v":""},{"$f":"IF(ISNUMBER(SEARCH(C$206,'12.Partner Involvement'!$G671))=TRUE,(('12.Partner Involvement'!$D671*'12.Partner Involvement'!$E671)/COUNTA(_xlfn.TEXTSPLIT('12.Partner Involvement'!$G671,\";\"))),\"\")","v":""},null,{"$f":"IF(ISNUMBER(SEARCH(E$206,'12.Partner Involvement'!$H671))=TRUE,(('12.Partner Involvement'!$D671*'12.Partner Involvement'!$E671)/COUNTA(_xlfn.TEXTSPLIT('12.Partner Involvement'!$H671,\";\"))),\"\")","v":""},{"$f":"IF(ISNUMBER(SEARCH(F$206,'12.Partner Involvement'!$H671))=TRUE,(('12.Partner Involvement'!$D671*'12.Partner Involvement'!$E671)/COUNTA(_xlfn.TEXTSPLIT('12.Partner Involvement'!$H671,\";\"))),\"\")","v":""},{"$f":"IF(ISNUMBER(SEARCH(G$206,'12.Partner Involvement'!$H671))=TRUE,(('12.Partner Involvement'!$D671*'12.Partner Involvement'!$E671)/COUNTA(_xlfn.TEXTSPLIT('12.Partner Involvement'!$H671,\";\"))),\"\")","v":""},{"$f":"IF(ISNUMBER(SEARCH(H$206,'12.Partner Involvement'!$H671))=TRUE,(('12.Partner Involvement'!$D671*'12.Partner Involvement'!$E671)/COUNTA(_xlfn.TEXTSPLIT('12.Partner Involvement'!$H671,\";\"))),\"\")","v":""}]
[{"$f":"IF(ISNUMBER(SEARCH(A$206,'12.Partner Involvement'!$G672))=TRUE,(('12.Partner Involvement'!$D672*'12.Partner Involvement'!$E672)/COUNTA(_xlfn.TEXTSPLIT('12.Partner Involvement'!$G672,\";\"))),\"\")","v":""},{"$f":"IF(ISNUMBER(SEARCH(B$206,'12.Partner Involvement'!$G672))=TRUE,(('12.Partner Involvement'!$D672*'12.Partner Involvement'!$E672)/COUNTA(_xlfn.TEXTSPLIT('12.Partner Involvement'!$G672,\";\"))),\"\")","v":""},{"$f":"IF(ISNUMBER(SEARCH(C$206,'12.Partner Involvement'!$G672))=TRUE,(('12.Partner Involvement'!$D672*'12.Partner Involvement'!$E672)/COUNTA(_xlfn.TEXTSPLIT('12.Partner Involvement'!$G672,\";\"))),\"\")","v":""},null,{"$f":"IF(ISNUMBER(SEARCH(E$206,'12.Partner Involvement'!$H672))=TRUE,(('12.Partner Involvement'!$D672*'12.Partner Involvement'!$E672)/COUNTA(_xlfn.TEXTSPLIT('12.Partner Involvement'!$H672,\";\"))),\"\")","v":""},{"$f":"IF(ISNUMBER(SEARCH(F$206,'12.Partner Involvement'!$H672))=TRUE,(('12.Partner Involvement'!$D672*'12.Partner Involvement'!$E672)/COUNTA(_xlfn.TEXTSPLIT('12.Partner Involvement'!$H672,\";\"))),\"\")","v":""},{"$f":"IF(ISNUMBER(SEARCH(G$206,'12.Partner Involvement'!$H672))=TRUE,(('12.Partner Involvement'!$D672*'12.Partner Involvement'!$E672)/COUNTA(_xlfn.TEXTSPLIT('12.Partner Involvement'!$H672,\";\"))),\"\")","v":""},{"$f":"IF(ISNUMBER(SEARCH(H$206,'12.Partner Involvement'!$H672))=TRUE,(('12.Partner Involvement'!$D672*'12.Partner Involvement'!$E672)/COUNTA(_xlfn.TEXTSPLIT('12.Partner Involvement'!$H672,\";\"))),\"\")","v":""}]
[{"$f":"IF(ISNUMBER(SEARCH(A$206,'12.Partner Involvement'!$G673))=TRUE,(('12.Partner Involvement'!$D673*'12.Partner Involvement'!$E673)/COUNTA(_xlfn.TEXTSPLIT('12.Partner Involvement'!$G673,\";\"))),\"\")","v":""},{"$f":"IF(ISNUMBER(SEARCH(B$206,'12.Partner Involvement'!$G673))=TRUE,(('12.Partner Involvement'!$D673*'12.Partner Involvement'!$E673)/COUNTA(_xlfn.TEXTSPLIT('12.Partner Involvement'!$G673,\";\"))),\"\")","v":""},{"$f":"IF(ISNUMBER(SEARCH(C$206,'12.Partner Involvement'!$G673))=TRUE,(('12.Partner Involvement'!$D673*'12.Partner Involvement'!$E673)/COUNTA(_xlfn.TEXTSPLIT('12.Partner Involvement'!$G673,\";\"))),\"\")","v":""},null,{"$f":"IF(ISNUMBER(SEARCH(E$206,'12.Partner Involvement'!$H673))=TRUE,(('12.Partner Involvement'!$D673*'12.Partner Involvement'!$E673)/COUNTA(_xlfn.TEXTSPLIT('12.Partner Involvement'!$H673,\";\"))),\"\")","v":""},{"$f":"IF(ISNUMBER(SEARCH(F$206,'12.Partner Involvement'!$H673))=TRUE,(('12.Partner Involvement'!$D673*'12.Partner Involvement'!$E673)/COUNTA(_xlfn.TEXTSPLIT('12.Partner Involvement'!$H673,\";\"))),\"\")","v":""},{"$f":"IF(ISNUMBER(SEARCH(G$206,'12.Partner Involvement'!$H673))=TRUE,(('12.Partner Involvement'!$D673*'12.Partner Involvement'!$E673)/COUNTA(_xlfn.TEXTSPLIT('12.Partner Involvement'!$H673,\";\"))),\"\")","v":""},{"$f":"IF(ISNUMBER(SEARCH(H$206,'12.Partner Involvement'!$H673))=TRUE,(('12.Partner Involvement'!$D673*'12.Partner Involvement'!$E673)/COUNTA(_xlfn.TEXTSPLIT('12.Partner Involvement'!$H673,\";\"))),\"\")","v":""}]
[{"$f":"IF(ISNUMBER(SEARCH(A$206,'12.Partner Involvement'!$G674))=TRUE,(('12.Partner Involvement'!$D674*'12.Partner Involvement'!$E674)/COUNTA(_xlfn.TEXTSPLIT('12.Partner Involvement'!$G674,\";\"))),\"\")","v":""},{"$f":"IF(ISNUMBER(SEARCH(B$206,'12.Partner Involvement'!$G674))=TRUE,(('12.Partner Involvement'!$D674*'12.Partner Involvement'!$E674)/COUNTA(_xlfn.TEXTSPLIT('12.Partner Involvement'!$G674,\";\"))),\"\")","v":""},{"$f":"IF(ISNUMBER(SEARCH(C$206,'12.Partner Involvement'!$G674))=TRUE,(('12.Partner Involvement'!$D674*'12.Partner Involvement'!$E674)/COUNTA(_xlfn.TEXTSPLIT('12.Partner Involvement'!$G674,\";\"))),\"\")","v":""},null,{"$f":"IF(ISNUMBER(SEARCH(E$206,'12.Partner Involvement'!$H674))=TRUE,(('12.Partner Involvement'!$D674*'12.Partner Involvement'!$E674)/COUNTA(_xlfn.TEXTSPLIT('12.Partner Involvement'!$H674,\";\"))),\"\")","v":""},{"$f":"IF(ISNUMBER(SEARCH(F$206,'12.Partner Involvement'!$H674))=TRUE,(('12.Partner Involvement'!$D674*'12.Partner Involvement'!$E674)/COUNTA(_xlfn.TEXTSPLIT('12.Partner Involvement'!$H674,\";\"))),\"\")","v":""},{"$f":"IF(ISNUMBER(SEARCH(G$206,'12.Partner Involvement'!$H674))=TRUE,(('12.Partner Involvement'!$D674*'12.Partner Involvement'!$E674)/COUNTA(_xlfn.TEXTSPLIT('12.Partner Involvement'!$H674,\";\"))),\"\")","v":""},{"$f":"IF(ISNUMBER(SEARCH(H$206,'12.Partner Involvement'!$H674))=TRUE,(('12.Partner Involvement'!$D674*'12.Partner Involvement'!$E674)/COUNTA(_xlfn.TEXTSPLIT('12.Partner Involvement'!$H674,\";\"))),\"\")","v":""}]
[{"$f":"IF(ISNUMBER(SEARCH(A$206,'12.Partner Involvement'!$G675))=TRUE,(('12.Partner Involvement'!$D675*'12.Partner Involvement'!$E675)/COUNTA(_xlfn.TEXTSPLIT('12.Partner Involvement'!$G675,\";\"))),\"\")","v":""},{"$f":"IF(ISNUMBER(SEARCH(B$206,'12.Partner Involvement'!$G675))=TRUE,(('12.Partner Involvement'!$D675*'12.Partner Involvement'!$E675)/COUNTA(_xlfn.TEXTSPLIT('12.Partner Involvement'!$G675,\";\"))),\"\")","v":""},{"$f":"IF(ISNUMBER(SEARCH(C$206,'12.Partner Involvement'!$G675))=TRUE,(('12.Partner Involvement'!$D675*'12.Partner Involvement'!$E675)/COUNTA(_xlfn.TEXTSPLIT('12.Partner Involvement'!$G675,\";\"))),\"\")","v":""},null,{"$f":"IF(ISNUMBER(SEARCH(E$206,'12.Partner Involvement'!$H675))=TRUE,(('12.Partner Involvement'!$D675*'12.Partner Involvement'!$E675)/COUNTA(_xlfn.TEXTSPLIT('12.Partner Involvement'!$H675,\";\"))),\"\")","v":""},{"$f":"IF(ISNUMBER(SEARCH(F$206,'12.Partner Involvement'!$H675))=TRUE,(('12.Partner Involvement'!$D675*'12.Partner Involvement'!$E675)/COUNTA(_xlfn.TEXTSPLIT('12.Partner Involvement'!$H675,\";\"))),\"\")","v":""},{"$f":"IF(ISNUMBER(SEARCH(G$206,'12.Partner Involvement'!$H675))=TRUE,(('12.Partner Involvement'!$D675*'12.Partner Involvement'!$E675)/COUNTA(_xlfn.TEXTSPLIT('12.Partner Involvement'!$H675,\";\"))),\"\")","v":""},{"$f":"IF(ISNUMBER(SEARCH(H$206,'12.Partner Involvement'!$H675))=TRUE,(('12.Partner Involvement'!$D675*'12.Partner Involvement'!$E675)/COUNTA(_xlfn.TEXTSPLIT('12.Partner Involvement'!$H675,\";\"))),\"\")","v":""}]
[{"$f":"IF(ISNUMBER(SEARCH(A$206,'12.Partner Involvement'!$G676))=TRUE,(('12.Partner Involvement'!$D676*'12.Partner Involvement'!$E676)/COUNTA(_xlfn.TEXTSPLIT('12.Partner Involvement'!$G676,\";\"))),\"\")","v":""},{"$f":"IF(ISNUMBER(SEARCH(B$206,'12.Partner Involvement'!$G676))=TRUE,(('12.Partner Involvement'!$D676*'12.Partner Involvement'!$E676)/COUNTA(_xlfn.TEXTSPLIT('12.Partner Involvement'!$G676,\";\"))),\"\")","v":""},{"$f":"IF(ISNUMBER(SEARCH(C$206,'12.Partner Involvement'!$G676))=TRUE,(('12.Partner Involvement'!$D676*'12.Partner Involvement'!$E676)/COUNTA(_xlfn.TEXTSPLIT('12.Partner Involvement'!$G676,\";\"))),\"\")","v":""},null,{"$f":"IF(ISNUMBER(SEARCH(E$206,'12.Partner Involvement'!$H676))=TRUE,(('12.Partner Involvement'!$D676*'12.Partner Involvement'!$E676)/COUNTA(_xlfn.TEXTSPLIT('12.Partner Involvement'!$H676,\";\"))),\"\")","v":""},{"$f":"IF(ISNUMBER(SEARCH(F$206,'12.Partner Involvement'!$H676))=TRUE,(('12.Partner Involvement'!$D676*'12.Partner Involvement'!$E676)/COUNTA(_xlfn.TEXTSPLIT('12.Partner Involvement'!$H676,\";\"))),\"\")","v":""},{"$f":"IF(ISNUMBER(SEARCH(G$206,'12.Partner Involvement'!$H676))=TRUE,(('12.Partner Involvement'!$D676*'12.Partner Involvement'!$E676)/COUNTA(_xlfn.TEXTSPLIT('12.Partner Involvement'!$H676,\";\"))),\"\")","v":""},{"$f":"IF(ISNUMBER(SEARCH(H$206,'12.Partner Involvement'!$H676))=TRUE,(('12.Partner Involvement'!$D676*'12.Partner Involvement'!$E676)/COUNTA(_xlfn.TEXTSPLIT('12.Partner Involvement'!$H676,\";\"))),\"\")","v":""}]
[{"$f":"IF(ISNUMBER(SEARCH(A$206,'12.Partner Involvement'!$G677))=TRUE,(('12.Partner Involvement'!$D677*'12.Partner Involvement'!$E677)/COUNTA(_xlfn.TEXTSPLIT('12.Partner Involvement'!$G677,\";\"))),\"\")","v":""},{"$f":"IF(ISNUMBER(SEARCH(B$206,'12.Partner Involvement'!$G677))=TRUE,(('12.Partner Involvement'!$D677*'12.Partner Involvement'!$E677)/COUNTA(_xlfn.TEXTSPLIT('12.Partner Involvement'!$G677,\";\"))),\"\")","v":""},{"$f":"IF(ISNUMBER(SEARCH(C$206,'12.Partner Involvement'!$G677))=TRUE,(('12.Partner Involvement'!$D677*'12.Partner Involvement'!$E677)/COUNTA(_xlfn.TEXTSPLIT('12.Partner Involvement'!$G677,\";\"))),\"\")","v":""},null,{"$f":"IF(ISNUMBER(SEARCH(E$206,'12.Partner Involvement'!$H677))=TRUE,(('12.Partner Involvement'!$D677*'12.Partner Involvement'!$E677)/COUNTA(_xlfn.TEXTSPLIT('12.Partner Involvement'!$H677,\";\"))),\"\")","v":""},{"$f":"IF(ISNUMBER(SEARCH(F$206,'12.Partner Involvement'!$H677))=TRUE,(('12.Partner Involvement'!$D677*'12.Partner Involvement'!$E677)/COUNTA(_xlfn.TEXTSPLIT('12.Partner Involvement'!$H677,\";\"))),\"\")","v":""},{"$f":"IF(ISNUMBER(SEARCH(G$206,'12.Partner Involvement'!$H677))=TRUE,(('12.Partner Involvement'!$D677*'12.Partner Involvement'!$E677)/COUNTA(_xlfn.TEXTSPLIT('12.Partner Involvement'!$H677,\";\"))),\"\")","v":""},{"$f":"IF(ISNUMBER(SEARCH(H$206,'12.Partner Involvement'!$H677))=TRUE,(('12.Partner Involvement'!$D677*'12.Partner Involvement'!$E677)/COUNTA(_xlfn.TEXTSPLIT('12.Partner Involvement'!$H677,\";\"))),\"\")","v":""}]
[{"$f":"IF(ISNUMBER(SEARCH(A$206,'12.Partner Involvement'!$G678))=TRUE,(('12.Partner Involvement'!$D678*'12.Partner Involvement'!$E678)/COUNTA(_xlfn.TEXTSPLIT('12.Partner Involvement'!$G678,\";\"))),\"\")","v":""},{"$f":"IF(ISNUMBER(SEARCH(B$206,'12.Partner Involvement'!$G678))=TRUE,(('12.Partner Involvement'!$D678*'12.Partner Involvement'!$E678)/COUNTA(_xlfn.TEXTSPLIT('12.Partner Involvement'!$G678,\";\"))),\"\")","v":""},{"$f":"IF(ISNUMBER(SEARCH(C$206,'12.Partner Involvement'!$G678))=TRUE,(('12.Partner Involvement'!$D678*'12.Partner Involvement'!$E678)/COUNTA(_xlfn.TEXTSPLIT('12.Partner Involvement'!$G678,\";\"))),\"\")","v":""},null,{"$f":"IF(ISNUMBER(SEARCH(E$206,'12.Partner Involvement'!$H678))=TRUE,(('12.Partner Involvement'!$D678*'12.Partner Involvement'!$E678)/COUNTA(_xlfn.TEXTSPLIT('12.Partner Involvement'!$H678,\";\"))),\"\")","v":""},{"$f":"IF(ISNUMBER(SEARCH(F$206,'12.Partner Involvement'!$H678))=TRUE,(('12.Partner Involvement'!$D678*'12.Partner Involvement'!$E678)/COUNTA(_xlfn.TEXTSPLIT('12.Partner Involvement'!$H678,\";\"))),\"\")","v":""},{"$f":"IF(ISNUMBER(SEARCH(G$206,'12.Partner Involvement'!$H678))=TRUE,(('12.Partner Involvement'!$D678*'12.Partner Involvement'!$E678)/COUNTA(_xlfn.TEXTSPLIT('12.Partner Involvement'!$H678,\";\"))),\"\")","v":""},{"$f":"IF(ISNUMBER(SEARCH(H$206,'12.Partner Involvement'!$H678))=TRUE,(('12.Partner Involvement'!$D678*'12.Partner Involvement'!$E678)/COUNTA(_xlfn.TEXTSPLIT('12.Partner Involvement'!$H678,\";\"))),\"\")","v":""}]
[{"$f":"IF(ISNUMBER(SEARCH(A$206,'12.Partner Involvement'!$G679))=TRUE,(('12.Partner Involvement'!$D679*'12.Partner Involvement'!$E679)/COUNTA(_xlfn.TEXTSPLIT('12.Partner Involvement'!$G679,\";\"))),\"\")","v":""},{"$f":"IF(ISNUMBER(SEARCH(B$206,'12.Partner Involvement'!$G679))=TRUE,(('12.Partner Involvement'!$D679*'12.Partner Involvement'!$E679)/COUNTA(_xlfn.TEXTSPLIT('12.Partner Involvement'!$G679,\";\"))),\"\")","v":""},{"$f":"IF(ISNUMBER(SEARCH(C$206,'12.Partner Involvement'!$G679))=TRUE,(('12.Partner Involvement'!$D679*'12.Partner Involvement'!$E679)/COUNTA(_xlfn.TEXTSPLIT('12.Partner Involvement'!$G679,\";\"))),\"\")","v":""},null,{"$f":"IF(ISNUMBER(SEARCH(E$206,'12.Partner Involvement'!$H679))=TRUE,(('12.Partner Involvement'!$D679*'12.Partner Involvement'!$E679)/COUNTA(_xlfn.TEXTSPLIT('12.Partner Involvement'!$H679,\";\"))),\"\")","v":""},{"$f":"IF(ISNUMBER(SEARCH(F$206,'12.Partner Involvement'!$H679))=TRUE,(('12.Partner Involvement'!$D679*'12.Partner Involvement'!$E679)/COUNTA(_xlfn.TEXTSPLIT('12.Partner Involvement'!$H679,\";\"))),\"\")","v":""},{"$f":"IF(ISNUMBER(SEARCH(G$206,'12.Partner Involvement'!$H679))=TRUE,(('12.Partner Involvement'!$D679*'12.Partner Involvement'!$E679)/COUNTA(_xlfn.TEXTSPLIT('12.Partner Involvement'!$H679,\";\"))),\"\")","v":""},{"$f":"IF(ISNUMBER(SEARCH(H$206,'12.Partner Involvement'!$H679))=TRUE,(('12.Partner Involvement'!$D679*'12.Partner Involvement'!$E679)/COUNTA(_xlfn.TEXTSPLIT('12.Partner Involvement'!$H679,\";\"))),\"\")","v":""}]
[{"$f":"IF(ISNUMBER(SEARCH(A$206,'12.Partner Involvement'!$G680))=TRUE,(('12.Partner Involvement'!$D680*'12.Partner Involvement'!$E680)/COUNTA(_xlfn.TEXTSPLIT('12.Partner Involvement'!$G680,\";\"))),\"\")","v":""},{"$f":"IF(ISNUMBER(SEARCH(B$206,'12.Partner Involvement'!$G680))=TRUE,(('12.Partner Involvement'!$D680*'12.Partner Involvement'!$E680)/COUNTA(_xlfn.TEXTSPLIT('12.Partner Involvement'!$G680,\";\"))),\"\")","v":""},{"$f":"IF(ISNUMBER(SEARCH(C$206,'12.Partner Involvement'!$G680))=TRUE,(('12.Partner Involvement'!$D680*'12.Partner Involvement'!$E680)/COUNTA(_xlfn.TEXTSPLIT('12.Partner Involvement'!$G680,\";\"))),\"\")","v":""},null,{"$f":"IF(ISNUMBER(SEARCH(E$206,'12.Partner Involvement'!$H680))=TRUE,(('12.Partner Involvement'!$D680*'12.Partner Involvement'!$E680)/COUNTA(_xlfn.TEXTSPLIT('12.Partner Involvement'!$H680,\";\"))),\"\")","v":""},{"$f":"IF(ISNUMBER(SEARCH(F$206,'12.Partner Involvement'!$H680))=TRUE,(('12.Partner Involvement'!$D680*'12.Partner Involvement'!$E680)/COUNTA(_xlfn.TEXTSPLIT('12.Partner Involvement'!$H680,\";\"))),\"\")","v":""},{"$f":"IF(ISNUMBER(SEARCH(G$206,'12.Partner Involvement'!$H680))=TRUE,(('12.Partner Involvement'!$D680*'12.Partner Involvement'!$E680)/COUNTA(_xlfn.TEXTSPLIT('12.Partner Involvement'!$H680,\";\"))),\"\")","v":""},{"$f":"IF(ISNUMBER(SEARCH(H$206,'12.Partner Involvement'!$H680))=TRUE,(('12.Partner Involvement'!$D680*'12.Partner Involvement'!$E680)/COUNTA(_xlfn.TEXTSPLIT('12.Partner Involvement'!$H680,\";\"))),\"\")","v":""}]
[{"$f":"IF(ISNUMBER(SEARCH(A$206,'12.Partner Involvement'!$G681))=TRUE,(('12.Partner Involvement'!$D681*'12.Partner Involvement'!$E681)/COUNTA(_xlfn.TEXTSPLIT('12.Partner Involvement'!$G681,\";\"))),\"\")","v":""},{"$f":"IF(ISNUMBER(SEARCH(B$206,'12.Partner Involvement'!$G681))=TRUE,(('12.Partner Involvement'!$D681*'12.Partner Involvement'!$E681)/COUNTA(_xlfn.TEXTSPLIT('12.Partner Involvement'!$G681,\";\"))),\"\")","v":""},{"$f":"IF(ISNUMBER(SEARCH(C$206,'12.Partner Involvement'!$G681))=TRUE,(('12.Partner Involvement'!$D681*'12.Partner Involvement'!$E681)/COUNTA(_xlfn.TEXTSPLIT('12.Partner Involvement'!$G681,\";\"))),\"\")","v":""},null,{"$f":"IF(ISNUMBER(SEARCH(E$206,'12.Partner Involvement'!$H681))=TRUE,(('12.Partner Involvement'!$D681*'12.Partner Involvement'!$E681)/COUNTA(_xlfn.TEXTSPLIT('12.Partner Involvement'!$H681,\";\"))),\"\")","v":""},{"$f":"IF(ISNUMBER(SEARCH(F$206,'12.Partner Involvement'!$H681))=TRUE,(('12.Partner Involvement'!$D681*'12.Partner Involvement'!$E681)/COUNTA(_xlfn.TEXTSPLIT('12.Partner Involvement'!$H681,\";\"))),\"\")","v":""},{"$f":"IF(ISNUMBER(SEARCH(G$206,'12.Partner Involvement'!$H681))=TRUE,(('12.Partner Involvement'!$D681*'12.Partner Involvement'!$E681)/COUNTA(_xlfn.TEXTSPLIT('12.Partner Involvement'!$H681,\";\"))),\"\")","v":""},{"$f":"IF(ISNUMBER(SEARCH(H$206,'12.Partner Involvement'!$H681))=TRUE,(('12.Partner Involvement'!$D681*'12.Partner Involvement'!$E681)/COUNTA(_xlfn.TEXTSPLIT('12.Partner Involvement'!$H681,\";\"))),\"\")","v":""}]
[{"$f":"IF(ISNUMBER(SEARCH(A$206,'12.Partner Involvement'!$G682))=TRUE,(('12.Partner Involvement'!$D682*'12.Partner Involvement'!$E682)/COUNTA(_xlfn.TEXTSPLIT('12.Partner Involvement'!$G682,\";\"))),\"\")","v":""},{"$f":"IF(ISNUMBER(SEARCH(B$206,'12.Partner Involvement'!$G682))=TRUE,(('12.Partner Involvement'!$D682*'12.Partner Involvement'!$E682)/COUNTA(_xlfn.TEXTSPLIT('12.Partner Involvement'!$G682,\";\"))),\"\")","v":""},{"$f":"IF(ISNUMBER(SEARCH(C$206,'12.Partner Involvement'!$G682))=TRUE,(('12.Partner Involvement'!$D682*'12.Partner Involvement'!$E682)/COUNTA(_xlfn.TEXTSPLIT('12.Partner Involvement'!$G682,\";\"))),\"\")","v":""},null,{"$f":"IF(ISNUMBER(SEARCH(E$206,'12.Partner Involvement'!$H682))=TRUE,(('12.Partner Involvement'!$D682*'12.Partner Involvement'!$E682)/COUNTA(_xlfn.TEXTSPLIT('12.Partner Involvement'!$H682,\";\"))),\"\")","v":""},{"$f":"IF(ISNUMBER(SEARCH(F$206,'12.Partner Involvement'!$H682))=TRUE,(('12.Partner Involvement'!$D682*'12.Partner Involvement'!$E682)/COUNTA(_xlfn.TEXTSPLIT('12.Partner Involvement'!$H682,\";\"))),\"\")","v":""},{"$f":"IF(ISNUMBER(SEARCH(G$206,'12.Partner Involvement'!$H682))=TRUE,(('12.Partner Involvement'!$D682*'12.Partner Involvement'!$E682)/COUNTA(_xlfn.TEXTSPLIT('12.Partner Involvement'!$H682,\";\"))),\"\")","v":""},{"$f":"IF(ISNUMBER(SEARCH(H$206,'12.Partner Involvement'!$H682))=TRUE,(('12.Partner Involvement'!$D682*'12.Partner Involvement'!$E682)/COUNTA(_xlfn.TEXTSPLIT('12.Partner Involvement'!$H682,\";\"))),\"\")","v":""}]
[{"$f":"IF(ISNUMBER(SEARCH(A$206,'12.Partner Involvement'!$G683))=TRUE,(('12.Partner Involvement'!$D683*'12.Partner Involvement'!$E683)/COUNTA(_xlfn.TEXTSPLIT('12.Partner Involvement'!$G683,\";\"))),\"\")","v":""},{"$f":"IF(ISNUMBER(SEARCH(B$206,'12.Partner Involvement'!$G683))=TRUE,(('12.Partner Involvement'!$D683*'12.Partner Involvement'!$E683)/COUNTA(_xlfn.TEXTSPLIT('12.Partner Involvement'!$G683,\";\"))),\"\")","v":""},{"$f":"IF(ISNUMBER(SEARCH(C$206,'12.Partner Involvement'!$G683))=TRUE,(('12.Partner Involvement'!$D683*'12.Partner Involvement'!$E683)/COUNTA(_xlfn.TEXTSPLIT('12.Partner Involvement'!$G683,\";\"))),\"\")","v":""},null,{"$f":"IF(ISNUMBER(SEARCH(E$206,'12.Partner Involvement'!$H683))=TRUE,(('12.Partner Involvement'!$D683*'12.Partner Involvement'!$E683)/COUNTA(_xlfn.TEXTSPLIT('12.Partner Involvement'!$H683,\";\"))),\"\")","v":""},{"$f":"IF(ISNUMBER(SEARCH(F$206,'12.Partner Involvement'!$H683))=TRUE,(('12.Partner Involvement'!$D683*'12.Partner Involvement'!$E683)/COUNTA(_xlfn.TEXTSPLIT('12.Partner Involvement'!$H683,\";\"))),\"\")","v":""},{"$f":"IF(ISNUMBER(SEARCH(G$206,'12.Partner Involvement'!$H683))=TRUE,(('12.Partner Involvement'!$D683*'12.Partner Involvement'!$E683)/COUNTA(_xlfn.TEXTSPLIT('12.Partner Involvement'!$H683,\";\"))),\"\")","v":""},{"$f":"IF(ISNUMBER(SEARCH(H$206,'12.Partner Involvement'!$H683))=TRUE,(('12.Partner Involvement'!$D683*'12.Partner Involvement'!$E683)/COUNTA(_xlfn.TEXTSPLIT('12.Partner Involvement'!$H683,\";\"))),\"\")","v":""}]
[{"$f":"IF(ISNUMBER(SEARCH(A$206,'12.Partner Involvement'!$G684))=TRUE,(('12.Partner Involvement'!$D684*'12.Partner Involvement'!$E684)/COUNTA(_xlfn.TEXTSPLIT('12.Partner Involvement'!$G684,\";\"))),\"\")","v":""},{"$f":"IF(ISNUMBER(SEARCH(B$206,'12.Partner Involvement'!$G684))=TRUE,(('12.Partner Involvement'!$D684*'12.Partner Involvement'!$E684)/COUNTA(_xlfn.TEXTSPLIT('12.Partner Involvement'!$G684,\";\"))),\"\")","v":""},{"$f":"IF(ISNUMBER(SEARCH(C$206,'12.Partner Involvement'!$G684))=TRUE,(('12.Partner Involvement'!$D684*'12.Partner Involvement'!$E684)/COUNTA(_xlfn.TEXTSPLIT('12.Partner Involvement'!$G684,\";\"))),\"\")","v":""},null,{"$f":"IF(ISNUMBER(SEARCH(E$206,'12.Partner Involvement'!$H684))=TRUE,(('12.Partner Involvement'!$D684*'12.Partner Involvement'!$E684)/COUNTA(_xlfn.TEXTSPLIT('12.Partner Involvement'!$H684,\";\"))),\"\")","v":""},{"$f":"IF(ISNUMBER(SEARCH(F$206,'12.Partner Involvement'!$H684))=TRUE,(('12.Partner Involvement'!$D684*'12.Partner Involvement'!$E684)/COUNTA(_xlfn.TEXTSPLIT('12.Partner Involvement'!$H684,\";\"))),\"\")","v":""},{"$f":"IF(ISNUMBER(SEARCH(G$206,'12.Partner Involvement'!$H684))=TRUE,(('12.Partner Involvement'!$D684*'12.Partner Involvement'!$E684)/COUNTA(_xlfn.TEXTSPLIT('12.Partner Involvement'!$H684,\";\"))),\"\")","v":""},{"$f":"IF(ISNUMBER(SEARCH(H$206,'12.Partner Involvement'!$H684))=TRUE,(('12.Partner Involvement'!$D684*'12.Partner Involvement'!$E684)/COUNTA(_xlfn.TEXTSPLIT('12.Partner Involvement'!$H684,\";\"))),\"\")","v":""}]
[{"$f":"IF(ISNUMBER(SEARCH(A$206,'12.Partner Involvement'!$G685))=TRUE,(('12.Partner Involvement'!$D685*'12.Partner Involvement'!$E685)/COUNTA(_xlfn.TEXTSPLIT('12.Partner Involvement'!$G685,\";\"))),\"\")","v":""},{"$f":"IF(ISNUMBER(SEARCH(B$206,'12.Partner Involvement'!$G685))=TRUE,(('12.Partner Involvement'!$D685*'12.Partner Involvement'!$E685)/COUNTA(_xlfn.TEXTSPLIT('12.Partner Involvement'!$G685,\";\"))),\"\")","v":""},{"$f":"IF(ISNUMBER(SEARCH(C$206,'12.Partner Involvement'!$G685))=TRUE,(('12.Partner Involvement'!$D685*'12.Partner Involvement'!$E685)/COUNTA(_xlfn.TEXTSPLIT('12.Partner Involvement'!$G685,\";\"))),\"\")","v":""},null,{"$f":"IF(ISNUMBER(SEARCH(E$206,'12.Partner Involvement'!$H685))=TRUE,(('12.Partner Involvement'!$D685*'12.Partner Involvement'!$E685)/COUNTA(_xlfn.TEXTSPLIT('12.Partner Involvement'!$H685,\";\"))),\"\")","v":""},{"$f":"IF(ISNUMBER(SEARCH(F$206,'12.Partner Involvement'!$H685))=TRUE,(('12.Partner Involvement'!$D685*'12.Partner Involvement'!$E685)/COUNTA(_xlfn.TEXTSPLIT('12.Partner Involvement'!$H685,\";\"))),\"\")","v":""},{"$f":"IF(ISNUMBER(SEARCH(G$206,'12.Partner Involvement'!$H685))=TRUE,(('12.Partner Involvement'!$D685*'12.Partner Involvement'!$E685)/COUNTA(_xlfn.TEXTSPLIT('12.Partner Involvement'!$H685,\";\"))),\"\")","v":""},{"$f":"IF(ISNUMBER(SEARCH(H$206,'12.Partner Involvement'!$H685))=TRUE,(('12.Partner Involvement'!$D685*'12.Partner Involvement'!$E685)/COUNTA(_xlfn.TEXTSPLIT('12.Partner Involvement'!$H685,\";\"))),\"\")","v":""}]
[{"$f":"IF(ISNUMBER(SEARCH(A$206,'12.Partner Involvement'!$G686))=TRUE,(('12.Partner Involvement'!$D686*'12.Partner Involvement'!$E686)/COUNTA(_xlfn.TEXTSPLIT('12.Partner Involvement'!$G686,\";\"))),\"\")","v":""},{"$f":"IF(ISNUMBER(SEARCH(B$206,'12.Partner Involvement'!$G686))=TRUE,(('12.Partner Involvement'!$D686*'12.Partner Involvement'!$E686)/COUNTA(_xlfn.TEXTSPLIT('12.Partner Involvement'!$G686,\";\"))),\"\")","v":""},{"$f":"IF(ISNUMBER(SEARCH(C$206,'12.Partner Involvement'!$G686))=TRUE,(('12.Partner Involvement'!$D686*'12.Partner Involvement'!$E686)/COUNTA(_xlfn.TEXTSPLIT('12.Partner Involvement'!$G686,\";\"))),\"\")","v":""},null,{"$f":"IF(ISNUMBER(SEARCH(E$206,'12.Partner Involvement'!$H686))=TRUE,(('12.Partner Involvement'!$D686*'12.Partner Involvement'!$E686)/COUNTA(_xlfn.TEXTSPLIT('12.Partner Involvement'!$H686,\";\"))),\"\")","v":""},{"$f":"IF(ISNUMBER(SEARCH(F$206,'12.Partner Involvement'!$H686))=TRUE,(('12.Partner Involvement'!$D686*'12.Partner Involvement'!$E686)/COUNTA(_xlfn.TEXTSPLIT('12.Partner Involvement'!$H686,\";\"))),\"\")","v":""},{"$f":"IF(ISNUMBER(SEARCH(G$206,'12.Partner Involvement'!$H686))=TRUE,(('12.Partner Involvement'!$D686*'12.Partner Involvement'!$E686)/COUNTA(_xlfn.TEXTSPLIT('12.Partner Involvement'!$H686,\";\"))),\"\")","v":""},{"$f":"IF(ISNUMBER(SEARCH(H$206,'12.Partner Involvement'!$H686))=TRUE,(('12.Partner Involvement'!$D686*'12.Partner Involvement'!$E686)/COUNTA(_xlfn.TEXTSPLIT('12.Partner Involvement'!$H686,\";\"))),\"\")","v":""}]
[{"$f":"IF(ISNUMBER(SEARCH(A$206,'12.Partner Involvement'!$G687))=TRUE,(('12.Partner Involvement'!$D687*'12.Partner Involvement'!$E687)/COUNTA(_xlfn.TEXTSPLIT('12.Partner Involvement'!$G687,\";\"))),\"\")","v":""},{"$f":"IF(ISNUMBER(SEARCH(B$206,'12.Partner Involvement'!$G687))=TRUE,(('12.Partner Involvement'!$D687*'12.Partner Involvement'!$E687)/COUNTA(_xlfn.TEXTSPLIT('12.Partner Involvement'!$G687,\";\"))),\"\")","v":""},{"$f":"IF(ISNUMBER(SEARCH(C$206,'12.Partner Involvement'!$G687))=TRUE,(('12.Partner Involvement'!$D687*'12.Partner Involvement'!$E687)/COUNTA(_xlfn.TEXTSPLIT('12.Partner Involvement'!$G687,\";\"))),\"\")","v":""},null,{"$f":"IF(ISNUMBER(SEARCH(E$206,'12.Partner Involvement'!$H687))=TRUE,(('12.Partner Involvement'!$D687*'12.Partner Involvement'!$E687)/COUNTA(_xlfn.TEXTSPLIT('12.Partner Involvement'!$H687,\";\"))),\"\")","v":""},{"$f":"IF(ISNUMBER(SEARCH(F$206,'12.Partner Involvement'!$H687))=TRUE,(('12.Partner Involvement'!$D687*'12.Partner Involvement'!$E687)/COUNTA(_xlfn.TEXTSPLIT('12.Partner Involvement'!$H687,\";\"))),\"\")","v":""},{"$f":"IF(ISNUMBER(SEARCH(G$206,'12.Partner Involvement'!$H687))=TRUE,(('12.Partner Involvement'!$D687*'12.Partner Involvement'!$E687)/COUNTA(_xlfn.TEXTSPLIT('12.Partner Involvement'!$H687,\";\"))),\"\")","v":""},{"$f":"IF(ISNUMBER(SEARCH(H$206,'12.Partner Involvement'!$H687))=TRUE,(('12.Partner Involvement'!$D687*'12.Partner Involvement'!$E687)/COUNTA(_xlfn.TEXTSPLIT('12.Partner Involvement'!$H687,\";\"))),\"\")","v":""}]
[{"$f":"IF(ISNUMBER(SEARCH(A$206,'12.Partner Involvement'!$G688))=TRUE,(('12.Partner Involvement'!$D688*'12.Partner Involvement'!$E688)/COUNTA(_xlfn.TEXTSPLIT('12.Partner Involvement'!$G688,\";\"))),\"\")","v":""},{"$f":"IF(ISNUMBER(SEARCH(B$206,'12.Partner Involvement'!$G688))=TRUE,(('12.Partner Involvement'!$D688*'12.Partner Involvement'!$E688)/COUNTA(_xlfn.TEXTSPLIT('12.Partner Involvement'!$G688,\";\"))),\"\")","v":""},{"$f":"IF(ISNUMBER(SEARCH(C$206,'12.Partner Involvement'!$G688))=TRUE,(('12.Partner Involvement'!$D688*'12.Partner Involvement'!$E688)/COUNTA(_xlfn.TEXTSPLIT('12.Partner Involvement'!$G688,\";\"))),\"\")","v":""},null,{"$f":"IF(ISNUMBER(SEARCH(E$206,'12.Partner Involvement'!$H688))=TRUE,(('12.Partner Involvement'!$D688*'12.Partner Involvement'!$E688)/COUNTA(_xlfn.TEXTSPLIT('12.Partner Involvement'!$H688,\";\"))),\"\")","v":""},{"$f":"IF(ISNUMBER(SEARCH(F$206,'12.Partner Involvement'!$H688))=TRUE,(('12.Partner Involvement'!$D688*'12.Partner Involvement'!$E688)/COUNTA(_xlfn.TEXTSPLIT('12.Partner Involvement'!$H688,\";\"))),\"\")","v":""},{"$f":"IF(ISNUMBER(SEARCH(G$206,'12.Partner Involvement'!$H688))=TRUE,(('12.Partner Involvement'!$D688*'12.Partner Involvement'!$E688)/COUNTA(_xlfn.TEXTSPLIT('12.Partner Involvement'!$H688,\";\"))),\"\")","v":""},{"$f":"IF(ISNUMBER(SEARCH(H$206,'12.Partner Involvement'!$H688))=TRUE,(('12.Partner Involvement'!$D688*'12.Partner Involvement'!$E688)/COUNTA(_xlfn.TEXTSPLIT('12.Partner Involvement'!$H688,\";\"))),\"\")","v":""}]
[{"$f":"IF(ISNUMBER(SEARCH(A$206,'12.Partner Involvement'!$G689))=TRUE,(('12.Partner Involvement'!$D689*'12.Partner Involvement'!$E689)/COUNTA(_xlfn.TEXTSPLIT('12.Partner Involvement'!$G689,\";\"))),\"\")","v":""},{"$f":"IF(ISNUMBER(SEARCH(B$206,'12.Partner Involvement'!$G689))=TRUE,(('12.Partner Involvement'!$D689*'12.Partner Involvement'!$E689)/COUNTA(_xlfn.TEXTSPLIT('12.Partner Involvement'!$G689,\";\"))),\"\")","v":""},{"$f":"IF(ISNUMBER(SEARCH(C$206,'12.Partner Involvement'!$G689))=TRUE,(('12.Partner Involvement'!$D689*'12.Partner Involvement'!$E689)/COUNTA(_xlfn.TEXTSPLIT('12.Partner Involvement'!$G689,\";\"))),\"\")","v":""},null,{"$f":"IF(ISNUMBER(SEARCH(E$206,'12.Partner Involvement'!$H689))=TRUE,(('12.Partner Involvement'!$D689*'12.Partner Involvement'!$E689)/COUNTA(_xlfn.TEXTSPLIT('12.Partner Involvement'!$H689,\";\"))),\"\")","v":""},{"$f":"IF(ISNUMBER(SEARCH(F$206,'12.Partner Involvement'!$H689))=TRUE,(('12.Partner Involvement'!$D689*'12.Partner Involvement'!$E689)/COUNTA(_xlfn.TEXTSPLIT('12.Partner Involvement'!$H689,\";\"))),\"\")","v":""},{"$f":"IF(ISNUMBER(SEARCH(G$206,'12.Partner Involvement'!$H689))=TRUE,(('12.Partner Involvement'!$D689*'12.Partner Involvement'!$E689)/COUNTA(_xlfn.TEXTSPLIT('12.Partner Involvement'!$H689,\";\"))),\"\")","v":""},{"$f":"IF(ISNUMBER(SEARCH(H$206,'12.Partner Involvement'!$H689))=TRUE,(('12.Partner Involvement'!$D689*'12.Partner Involvement'!$E689)/COUNTA(_xlfn.TEXTSPLIT('12.Partner Involvement'!$H689,\";\"))),\"\")","v":""}]
[{"$f":"IF(ISNUMBER(SEARCH(A$206,'12.Partner Involvement'!$G690))=TRUE,(('12.Partner Involvement'!$D690*'12.Partner Involvement'!$E690)/COUNTA(_xlfn.TEXTSPLIT('12.Partner Involvement'!$G690,\";\"))),\"\")","v":""},{"$f":"IF(ISNUMBER(SEARCH(B$206,'12.Partner Involvement'!$G690))=TRUE,(('12.Partner Involvement'!$D690*'12.Partner Involvement'!$E690)/COUNTA(_xlfn.TEXTSPLIT('12.Partner Involvement'!$G690,\";\"))),\"\")","v":""},{"$f":"IF(ISNUMBER(SEARCH(C$206,'12.Partner Involvement'!$G690))=TRUE,(('12.Partner Involvement'!$D690*'12.Partner Involvement'!$E690)/COUNTA(_xlfn.TEXTSPLIT('12.Partner Involvement'!$G690,\";\"))),\"\")","v":""},null,{"$f":"IF(ISNUMBER(SEARCH(E$206,'12.Partner Involvement'!$H690))=TRUE,(('12.Partner Involvement'!$D690*'12.Partner Involvement'!$E690)/COUNTA(_xlfn.TEXTSPLIT('12.Partner Involvement'!$H690,\";\"))),\"\")","v":""},{"$f":"IF(ISNUMBER(SEARCH(F$206,'12.Partner Involvement'!$H690))=TRUE,(('12.Partner Involvement'!$D690*'12.Partner Involvement'!$E690)/COUNTA(_xlfn.TEXTSPLIT('12.Partner Involvement'!$H690,\";\"))),\"\")","v":""},{"$f":"IF(ISNUMBER(SEARCH(G$206,'12.Partner Involvement'!$H690))=TRUE,(('12.Partner Involvement'!$D690*'12.Partner Involvement'!$E690)/COUNTA(_xlfn.TEXTSPLIT('12.Partner Involvement'!$H690,\";\"))),\"\")","v":""},{"$f":"IF(ISNUMBER(SEARCH(H$206,'12.Partner Involvement'!$H690))=TRUE,(('12.Partner Involvement'!$D690*'12.Partner Involvement'!$E690)/COUNTA(_xlfn.TEXTSPLIT('12.Partner Involvement'!$H690,\";\"))),\"\")","v":""}]
[{"$f":"IF(ISNUMBER(SEARCH(A$206,'12.Partner Involvement'!$G691))=TRUE,(('12.Partner Involvement'!$D691*'12.Partner Involvement'!$E691)/COUNTA(_xlfn.TEXTSPLIT('12.Partner Involvement'!$G691,\";\"))),\"\")","v":""},{"$f":"IF(ISNUMBER(SEARCH(B$206,'12.Partner Involvement'!$G691))=TRUE,(('12.Partner Involvement'!$D691*'12.Partner Involvement'!$E691)/COUNTA(_xlfn.TEXTSPLIT('12.Partner Involvement'!$G691,\";\"))),\"\")","v":""},{"$f":"IF(ISNUMBER(SEARCH(C$206,'12.Partner Involvement'!$G691))=TRUE,(('12.Partner Involvement'!$D691*'12.Partner Involvement'!$E691)/COUNTA(_xlfn.TEXTSPLIT('12.Partner Involvement'!$G691,\";\"))),\"\")","v":""},null,{"$f":"IF(ISNUMBER(SEARCH(E$206,'12.Partner Involvement'!$H691))=TRUE,(('12.Partner Involvement'!$D691*'12.Partner Involvement'!$E691)/COUNTA(_xlfn.TEXTSPLIT('12.Partner Involvement'!$H691,\";\"))),\"\")","v":""},{"$f":"IF(ISNUMBER(SEARCH(F$206,'12.Partner Involvement'!$H691))=TRUE,(('12.Partner Involvement'!$D691*'12.Partner Involvement'!$E691)/COUNTA(_xlfn.TEXTSPLIT('12.Partner Involvement'!$H691,\";\"))),\"\")","v":""},{"$f":"IF(ISNUMBER(SEARCH(G$206,'12.Partner Involvement'!$H691))=TRUE,(('12.Partner Involvement'!$D691*'12.Partner Involvement'!$E691)/COUNTA(_xlfn.TEXTSPLIT('12.Partner Involvement'!$H691,\";\"))),\"\")","v":""},{"$f":"IF(ISNUMBER(SEARCH(H$206,'12.Partner Involvement'!$H691))=TRUE,(('12.Partner Involvement'!$D691*'12.Partner Involvement'!$E691)/COUNTA(_xlfn.TEXTSPLIT('12.Partner Involvement'!$H691,\";\"))),\"\")","v":""}]
[{"$f":"IF(ISNUMBER(SEARCH(A$206,'12.Partner Involvement'!$G692))=TRUE,(('12.Partner Involvement'!$D692*'12.Partner Involvement'!$E692)/COUNTA(_xlfn.TEXTSPLIT('12.Partner Involvement'!$G692,\";\"))),\"\")","v":""},{"$f":"IF(ISNUMBER(SEARCH(B$206,'12.Partner Involvement'!$G692))=TRUE,(('12.Partner Involvement'!$D692*'12.Partner Involvement'!$E692)/COUNTA(_xlfn.TEXTSPLIT('12.Partner Involvement'!$G692,\";\"))),\"\")","v":""},{"$f":"IF(ISNUMBER(SEARCH(C$206,'12.Partner Involvement'!$G692))=TRUE,(('12.Partner Involvement'!$D692*'12.Partner Involvement'!$E692)/COUNTA(_xlfn.TEXTSPLIT('12.Partner Involvement'!$G692,\";\"))),\"\")","v":""},null,{"$f":"IF(ISNUMBER(SEARCH(E$206,'12.Partner Involvement'!$H692))=TRUE,(('12.Partner Involvement'!$D692*'12.Partner Involvement'!$E692)/COUNTA(_xlfn.TEXTSPLIT('12.Partner Involvement'!$H692,\";\"))),\"\")","v":""},{"$f":"IF(ISNUMBER(SEARCH(F$206,'12.Partner Involvement'!$H692))=TRUE,(('12.Partner Involvement'!$D692*'12.Partner Involvement'!$E692)/COUNTA(_xlfn.TEXTSPLIT('12.Partner Involvement'!$H692,\";\"))),\"\")","v":""},{"$f":"IF(ISNUMBER(SEARCH(G$206,'12.Partner Involvement'!$H692))=TRUE,(('12.Partner Involvement'!$D692*'12.Partner Involvement'!$E692)/COUNTA(_xlfn.TEXTSPLIT('12.Partner Involvement'!$H692,\";\"))),\"\")","v":""},{"$f":"IF(ISNUMBER(SEARCH(H$206,'12.Partner Involvement'!$H692))=TRUE,(('12.Partner Involvement'!$D692*'12.Partner Involvement'!$E692)/COUNTA(_xlfn.TEXTSPLIT('12.Partner Involvement'!$H692,\";\"))),\"\")","v":""}]
[{"$f":"IF(ISNUMBER(SEARCH(A$206,'12.Partner Involvement'!$G693))=TRUE,(('12.Partner Involvement'!$D693*'12.Partner Involvement'!$E693)/COUNTA(_xlfn.TEXTSPLIT('12.Partner Involvement'!$G693,\";\"))),\"\")","v":""},{"$f":"IF(ISNUMBER(SEARCH(B$206,'12.Partner Involvement'!$G693))=TRUE,(('12.Partner Involvement'!$D693*'12.Partner Involvement'!$E693)/COUNTA(_xlfn.TEXTSPLIT('12.Partner Involvement'!$G693,\";\"))),\"\")","v":""},{"$f":"IF(ISNUMBER(SEARCH(C$206,'12.Partner Involvement'!$G693))=TRUE,(('12.Partner Involvement'!$D693*'12.Partner Involvement'!$E693)/COUNTA(_xlfn.TEXTSPLIT('12.Partner Involvement'!$G693,\";\"))),\"\")","v":""},null,{"$f":"IF(ISNUMBER(SEARCH(E$206,'12.Partner Involvement'!$H693))=TRUE,(('12.Partner Involvement'!$D693*'12.Partner Involvement'!$E693)/COUNTA(_xlfn.TEXTSPLIT('12.Partner Involvement'!$H693,\";\"))),\"\")","v":""},{"$f":"IF(ISNUMBER(SEARCH(F$206,'12.Partner Involvement'!$H693))=TRUE,(('12.Partner Involvement'!$D693*'12.Partner Involvement'!$E693)/COUNTA(_xlfn.TEXTSPLIT('12.Partner Involvement'!$H693,\";\"))),\"\")","v":""},{"$f":"IF(ISNUMBER(SEARCH(G$206,'12.Partner Involvement'!$H693))=TRUE,(('12.Partner Involvement'!$D693*'12.Partner Involvement'!$E693)/COUNTA(_xlfn.TEXTSPLIT('12.Partner Involvement'!$H693,\";\"))),\"\")","v":""},{"$f":"IF(ISNUMBER(SEARCH(H$206,'12.Partner Involvement'!$H693))=TRUE,(('12.Partner Involvement'!$D693*'12.Partner Involvement'!$E693)/COUNTA(_xlfn.TEXTSPLIT('12.Partner Involvement'!$H693,\";\"))),\"\")","v":""}]
[{"$f":"IF(ISNUMBER(SEARCH(A$206,'12.Partner Involvement'!$G694))=TRUE,(('12.Partner Involvement'!$D694*'12.Partner Involvement'!$E694)/COUNTA(_xlfn.TEXTSPLIT('12.Partner Involvement'!$G694,\";\"))),\"\")","v":""},{"$f":"IF(ISNUMBER(SEARCH(B$206,'12.Partner Involvement'!$G694))=TRUE,(('12.Partner Involvement'!$D694*'12.Partner Involvement'!$E694)/COUNTA(_xlfn.TEXTSPLIT('12.Partner Involvement'!$G694,\";\"))),\"\")","v":""},{"$f":"IF(ISNUMBER(SEARCH(C$206,'12.Partner Involvement'!$G694))=TRUE,(('12.Partner Involvement'!$D694*'12.Partner Involvement'!$E694)/COUNTA(_xlfn.TEXTSPLIT('12.Partner Involvement'!$G694,\";\"))),\"\")","v":""},null,{"$f":"IF(ISNUMBER(SEARCH(E$206,'12.Partner Involvement'!$H694))=TRUE,(('12.Partner Involvement'!$D694*'12.Partner Involvement'!$E694)/COUNTA(_xlfn.TEXTSPLIT('12.Partner Involvement'!$H694,\";\"))),\"\")","v":""},{"$f":"IF(ISNUMBER(SEARCH(F$206,'12.Partner Involvement'!$H694))=TRUE,(('12.Partner Involvement'!$D694*'12.Partner Involvement'!$E694)/COUNTA(_xlfn.TEXTSPLIT('12.Partner Involvement'!$H694,\";\"))),\"\")","v":""},{"$f":"IF(ISNUMBER(SEARCH(G$206,'12.Partner Involvement'!$H694))=TRUE,(('12.Partner Involvement'!$D694*'12.Partner Involvement'!$E694)/COUNTA(_xlfn.TEXTSPLIT('12.Partner Involvement'!$H694,\";\"))),\"\")","v":""},{"$f":"IF(ISNUMBER(SEARCH(H$206,'12.Partner Involvement'!$H694))=TRUE,(('12.Partner Involvement'!$D694*'12.Partner Involvement'!$E694)/COUNTA(_xlfn.TEXTSPLIT('12.Partner Involvement'!$H694,\";\"))),\"\")","v":""}]
[{"$f":"IF(ISNUMBER(SEARCH(A$206,'12.Partner Involvement'!$G695))=TRUE,(('12.Partner Involvement'!$D695*'12.Partner Involvement'!$E695)/COUNTA(_xlfn.TEXTSPLIT('12.Partner Involvement'!$G695,\";\"))),\"\")","v":""},{"$f":"IF(ISNUMBER(SEARCH(B$206,'12.Partner Involvement'!$G695))=TRUE,(('12.Partner Involvement'!$D695*'12.Partner Involvement'!$E695)/COUNTA(_xlfn.TEXTSPLIT('12.Partner Involvement'!$G695,\";\"))),\"\")","v":""},{"$f":"IF(ISNUMBER(SEARCH(C$206,'12.Partner Involvement'!$G695))=TRUE,(('12.Partner Involvement'!$D695*'12.Partner Involvement'!$E695)/COUNTA(_xlfn.TEXTSPLIT('12.Partner Involvement'!$G695,\";\"))),\"\")","v":""},null,{"$f":"IF(ISNUMBER(SEARCH(E$206,'12.Partner Involvement'!$H695))=TRUE,(('12.Partner Involvement'!$D695*'12.Partner Involvement'!$E695)/COUNTA(_xlfn.TEXTSPLIT('12.Partner Involvement'!$H695,\";\"))),\"\")","v":""},{"$f":"IF(ISNUMBER(SEARCH(F$206,'12.Partner Involvement'!$H695))=TRUE,(('12.Partner Involvement'!$D695*'12.Partner Involvement'!$E695)/COUNTA(_xlfn.TEXTSPLIT('12.Partner Involvement'!$H695,\";\"))),\"\")","v":""},{"$f":"IF(ISNUMBER(SEARCH(G$206,'12.Partner Involvement'!$H695))=TRUE,(('12.Partner Involvement'!$D695*'12.Partner Involvement'!$E695)/COUNTA(_xlfn.TEXTSPLIT('12.Partner Involvement'!$H695,\";\"))),\"\")","v":""},{"$f":"IF(ISNUMBER(SEARCH(H$206,'12.Partner Involvement'!$H695))=TRUE,(('12.Partner Involvement'!$D695*'12.Partner Involvement'!$E695)/COUNTA(_xlfn.TEXTSPLIT('12.Partner Involvement'!$H695,\";\"))),\"\")","v":""}]
[{"$f":"IF(ISNUMBER(SEARCH(A$206,'12.Partner Involvement'!$G696))=TRUE,(('12.Partner Involvement'!$D696*'12.Partner Involvement'!$E696)/COUNTA(_xlfn.TEXTSPLIT('12.Partner Involvement'!$G696,\";\"))),\"\")","v":""},{"$f":"IF(ISNUMBER(SEARCH(B$206,'12.Partner Involvement'!$G696))=TRUE,(('12.Partner Involvement'!$D696*'12.Partner Involvement'!$E696)/COUNTA(_xlfn.TEXTSPLIT('12.Partner Involvement'!$G696,\";\"))),\"\")","v":""},{"$f":"IF(ISNUMBER(SEARCH(C$206,'12.Partner Involvement'!$G696))=TRUE,(('12.Partner Involvement'!$D696*'12.Partner Involvement'!$E696)/COUNTA(_xlfn.TEXTSPLIT('12.Partner Involvement'!$G696,\";\"))),\"\")","v":""},null,{"$f":"IF(ISNUMBER(SEARCH(E$206,'12.Partner Involvement'!$H696))=TRUE,(('12.Partner Involvement'!$D696*'12.Partner Involvement'!$E696)/COUNTA(_xlfn.TEXTSPLIT('12.Partner Involvement'!$H696,\";\"))),\"\")","v":""},{"$f":"IF(ISNUMBER(SEARCH(F$206,'12.Partner Involvement'!$H696))=TRUE,(('12.Partner Involvement'!$D696*'12.Partner Involvement'!$E696)/COUNTA(_xlfn.TEXTSPLIT('12.Partner Involvement'!$H696,\";\"))),\"\")","v":""},{"$f":"IF(ISNUMBER(SEARCH(G$206,'12.Partner Involvement'!$H696))=TRUE,(('12.Partner Involvement'!$D696*'12.Partner Involvement'!$E696)/COUNTA(_xlfn.TEXTSPLIT('12.Partner Involvement'!$H696,\";\"))),\"\")","v":""},{"$f":"IF(ISNUMBER(SEARCH(H$206,'12.Partner Involvement'!$H696))=TRUE,(('12.Partner Involvement'!$D696*'12.Partner Involvement'!$E696)/COUNTA(_xlfn.TEXTSPLIT('12.Partner Involvement'!$H696,\";\"))),\"\")","v":""}]
[{"$f":"IF(ISNUMBER(SEARCH(A$206,'12.Partner Involvement'!$G697))=TRUE,(('12.Partner Involvement'!$D697*'12.Partner Involvement'!$E697)/COUNTA(_xlfn.TEXTSPLIT('12.Partner Involvement'!$G697,\";\"))),\"\")","v":""},{"$f":"IF(ISNUMBER(SEARCH(B$206,'12.Partner Involvement'!$G697))=TRUE,(('12.Partner Involvement'!$D697*'12.Partner Involvement'!$E697)/COUNTA(_xlfn.TEXTSPLIT('12.Partner Involvement'!$G697,\";\"))),\"\")","v":""},{"$f":"IF(ISNUMBER(SEARCH(C$206,'12.Partner Involvement'!$G697))=TRUE,(('12.Partner Involvement'!$D697*'12.Partner Involvement'!$E697)/COUNTA(_xlfn.TEXTSPLIT('12.Partner Involvement'!$G697,\";\"))),\"\")","v":""},null,{"$f":"IF(ISNUMBER(SEARCH(E$206,'12.Partner Involvement'!$H697))=TRUE,(('12.Partner Involvement'!$D697*'12.Partner Involvement'!$E697)/COUNTA(_xlfn.TEXTSPLIT('12.Partner Involvement'!$H697,\";\"))),\"\")","v":""},{"$f":"IF(ISNUMBER(SEARCH(F$206,'12.Partner Involvement'!$H697))=TRUE,(('12.Partner Involvement'!$D697*'12.Partner Involvement'!$E697)/COUNTA(_xlfn.TEXTSPLIT('12.Partner Involvement'!$H697,\";\"))),\"\")","v":""},{"$f":"IF(ISNUMBER(SEARCH(G$206,'12.Partner Involvement'!$H697))=TRUE,(('12.Partner Involvement'!$D697*'12.Partner Involvement'!$E697)/COUNTA(_xlfn.TEXTSPLIT('12.Partner Involvement'!$H697,\";\"))),\"\")","v":""},{"$f":"IF(ISNUMBER(SEARCH(H$206,'12.Partner Involvement'!$H697))=TRUE,(('12.Partner Involvement'!$D697*'12.Partner Involvement'!$E697)/COUNTA(_xlfn.TEXTSPLIT('12.Partner Involvement'!$H697,\";\"))),\"\")","v":""}]
[{"$f":"IF(ISNUMBER(SEARCH(A$206,'12.Partner Involvement'!$G698))=TRUE,(('12.Partner Involvement'!$D698*'12.Partner Involvement'!$E698)/COUNTA(_xlfn.TEXTSPLIT('12.Partner Involvement'!$G698,\";\"))),\"\")","v":""},{"$f":"IF(ISNUMBER(SEARCH(B$206,'12.Partner Involvement'!$G698))=TRUE,(('12.Partner Involvement'!$D698*'12.Partner Involvement'!$E698)/COUNTA(_xlfn.TEXTSPLIT('12.Partner Involvement'!$G698,\";\"))),\"\")","v":""},{"$f":"IF(ISNUMBER(SEARCH(C$206,'12.Partner Involvement'!$G698))=TRUE,(('12.Partner Involvement'!$D698*'12.Partner Involvement'!$E698)/COUNTA(_xlfn.TEXTSPLIT('12.Partner Involvement'!$G698,\";\"))),\"\")","v":""},null,{"$f":"IF(ISNUMBER(SEARCH(E$206,'12.Partner Involvement'!$H698))=TRUE,(('12.Partner Involvement'!$D698*'12.Partner Involvement'!$E698)/COUNTA(_xlfn.TEXTSPLIT('12.Partner Involvement'!$H698,\";\"))),\"\")","v":""},{"$f":"IF(ISNUMBER(SEARCH(F$206,'12.Partner Involvement'!$H698))=TRUE,(('12.Partner Involvement'!$D698*'12.Partner Involvement'!$E698)/COUNTA(_xlfn.TEXTSPLIT('12.Partner Involvement'!$H698,\";\"))),\"\")","v":""},{"$f":"IF(ISNUMBER(SEARCH(G$206,'12.Partner Involvement'!$H698))=TRUE,(('12.Partner Involvement'!$D698*'12.Partner Involvement'!$E698)/COUNTA(_xlfn.TEXTSPLIT('12.Partner Involvement'!$H698,\";\"))),\"\")","v":""},{"$f":"IF(ISNUMBER(SEARCH(H$206,'12.Partner Involvement'!$H698))=TRUE,(('12.Partner Involvement'!$D698*'12.Partner Involvement'!$E698)/COUNTA(_xlfn.TEXTSPLIT('12.Partner Involvement'!$H698,\";\"))),\"\")","v":""}]
[{"$f":"IF(ISNUMBER(SEARCH(A$206,'12.Partner Involvement'!$G699))=TRUE,(('12.Partner Involvement'!$D699*'12.Partner Involvement'!$E699)/COUNTA(_xlfn.TEXTSPLIT('12.Partner Involvement'!$G699,\";\"))),\"\")","v":""},{"$f":"IF(ISNUMBER(SEARCH(B$206,'12.Partner Involvement'!$G699))=TRUE,(('12.Partner Involvement'!$D699*'12.Partner Involvement'!$E699)/COUNTA(_xlfn.TEXTSPLIT('12.Partner Involvement'!$G699,\";\"))),\"\")","v":""},{"$f":"IF(ISNUMBER(SEARCH(C$206,'12.Partner Involvement'!$G699))=TRUE,(('12.Partner Involvement'!$D699*'12.Partner Involvement'!$E699)/COUNTA(_xlfn.TEXTSPLIT('12.Partner Involvement'!$G699,\";\"))),\"\")","v":""},null,{"$f":"IF(ISNUMBER(SEARCH(E$206,'12.Partner Involvement'!$H699))=TRUE,(('12.Partner Involvement'!$D699*'12.Partner Involvement'!$E699)/COUNTA(_xlfn.TEXTSPLIT('12.Partner Involvement'!$H699,\";\"))),\"\")","v":""},{"$f":"IF(ISNUMBER(SEARCH(F$206,'12.Partner Involvement'!$H699))=TRUE,(('12.Partner Involvement'!$D699*'12.Partner Involvement'!$E699)/COUNTA(_xlfn.TEXTSPLIT('12.Partner Involvement'!$H699,\";\"))),\"\")","v":""},{"$f":"IF(ISNUMBER(SEARCH(G$206,'12.Partner Involvement'!$H699))=TRUE,(('12.Partner Involvement'!$D699*'12.Partner Involvement'!$E699)/COUNTA(_xlfn.TEXTSPLIT('12.Partner Involvement'!$H699,\";\"))),\"\")","v":""},{"$f":"IF(ISNUMBER(SEARCH(H$206,'12.Partner Involvement'!$H699))=TRUE,(('12.Partner Involvement'!$D699*'12.Partner Involvement'!$E699)/COUNTA(_xlfn.TEXTSPLIT('12.Partner Involvement'!$H699,\";\"))),\"\")","v":""}]
[{"$f":"IF(ISNUMBER(SEARCH(A$206,'12.Partner Involvement'!$G700))=TRUE,(('12.Partner Involvement'!$D700*'12.Partner Involvement'!$E700)/COUNTA(_xlfn.TEXTSPLIT('12.Partner Involvement'!$G700,\";\"))),\"\")","v":""},{"$f":"IF(ISNUMBER(SEARCH(B$206,'12.Partner Involvement'!$G700))=TRUE,(('12.Partner Involvement'!$D700*'12.Partner Involvement'!$E700)/COUNTA(_xlfn.TEXTSPLIT('12.Partner Involvement'!$G700,\";\"))),\"\")","v":""},{"$f":"IF(ISNUMBER(SEARCH(C$206,'12.Partner Involvement'!$G700))=TRUE,(('12.Partner Involvement'!$D700*'12.Partner Involvement'!$E700)/COUNTA(_xlfn.TEXTSPLIT('12.Partner Involvement'!$G700,\";\"))),\"\")","v":""},null,{"$f":"IF(ISNUMBER(SEARCH(E$206,'12.Partner Involvement'!$H700))=TRUE,(('12.Partner Involvement'!$D700*'12.Partner Involvement'!$E700)/COUNTA(_xlfn.TEXTSPLIT('12.Partner Involvement'!$H700,\";\"))),\"\")","v":""},{"$f":"IF(ISNUMBER(SEARCH(F$206,'12.Partner Involvement'!$H700))=TRUE,(('12.Partner Involvement'!$D700*'12.Partner Involvement'!$E700)/COUNTA(_xlfn.TEXTSPLIT('12.Partner Involvement'!$H700,\";\"))),\"\")","v":""},{"$f":"IF(ISNUMBER(SEARCH(G$206,'12.Partner Involvement'!$H700))=TRUE,(('12.Partner Involvement'!$D700*'12.Partner Involvement'!$E700)/COUNTA(_xlfn.TEXTSPLIT('12.Partner Involvement'!$H700,\";\"))),\"\")","v":""},{"$f":"IF(ISNUMBER(SEARCH(H$206,'12.Partner Involvement'!$H700))=TRUE,(('12.Partner Involvement'!$D700*'12.Partner Involvement'!$E700)/COUNTA(_xlfn.TEXTSPLIT('12.Partner Involvement'!$H700,\";\"))),\"\")","v":""}]
[{"$f":"IF(ISNUMBER(SEARCH(A$206,'12.Partner Involvement'!$G701))=TRUE,(('12.Partner Involvement'!$D701*'12.Partner Involvement'!$E701)/COUNTA(_xlfn.TEXTSPLIT('12.Partner Involvement'!$G701,\";\"))),\"\")","v":""},{"$f":"IF(ISNUMBER(SEARCH(B$206,'12.Partner Involvement'!$G701))=TRUE,(('12.Partner Involvement'!$D701*'12.Partner Involvement'!$E701)/COUNTA(_xlfn.TEXTSPLIT('12.Partner Involvement'!$G701,\";\"))),\"\")","v":""},{"$f":"IF(ISNUMBER(SEARCH(C$206,'12.Partner Involvement'!$G701))=TRUE,(('12.Partner Involvement'!$D701*'12.Partner Involvement'!$E701)/COUNTA(_xlfn.TEXTSPLIT('12.Partner Involvement'!$G701,\";\"))),\"\")","v":""},null,{"$f":"IF(ISNUMBER(SEARCH(E$206,'12.Partner Involvement'!$H701))=TRUE,(('12.Partner Involvement'!$D701*'12.Partner Involvement'!$E701)/COUNTA(_xlfn.TEXTSPLIT('12.Partner Involvement'!$H701,\";\"))),\"\")","v":""},{"$f":"IF(ISNUMBER(SEARCH(F$206,'12.Partner Involvement'!$H701))=TRUE,(('12.Partner Involvement'!$D701*'12.Partner Involvement'!$E701)/COUNTA(_xlfn.TEXTSPLIT('12.Partner Involvement'!$H701,\";\"))),\"\")","v":""},{"$f":"IF(ISNUMBER(SEARCH(G$206,'12.Partner Involvement'!$H701))=TRUE,(('12.Partner Involvement'!$D701*'12.Partner Involvement'!$E701)/COUNTA(_xlfn.TEXTSPLIT('12.Partner Involvement'!$H701,\";\"))),\"\")","v":""},{"$f":"IF(ISNUMBER(SEARCH(H$206,'12.Partner Involvement'!$H701))=TRUE,(('12.Partner Involvement'!$D701*'12.Partner Involvement'!$E701)/COUNTA(_xlfn.TEXTSPLIT('12.Partner Involvement'!$H701,\";\"))),\"\")","v":""}]
[{"$f":"IF(ISNUMBER(SEARCH(A$206,'12.Partner Involvement'!$G702))=TRUE,(('12.Partner Involvement'!$D702*'12.Partner Involvement'!$E702)/COUNTA(_xlfn.TEXTSPLIT('12.Partner Involvement'!$G702,\";\"))),\"\")","v":""},{"$f":"IF(ISNUMBER(SEARCH(B$206,'12.Partner Involvement'!$G702))=TRUE,(('12.Partner Involvement'!$D702*'12.Partner Involvement'!$E702)/COUNTA(_xlfn.TEXTSPLIT('12.Partner Involvement'!$G702,\";\"))),\"\")","v":""},{"$f":"IF(ISNUMBER(SEARCH(C$206,'12.Partner Involvement'!$G702))=TRUE,(('12.Partner Involvement'!$D702*'12.Partner Involvement'!$E702)/COUNTA(_xlfn.TEXTSPLIT('12.Partner Involvement'!$G702,\";\"))),\"\")","v":""},null,{"$f":"IF(ISNUMBER(SEARCH(E$206,'12.Partner Involvement'!$H702))=TRUE,(('12.Partner Involvement'!$D702*'12.Partner Involvement'!$E702)/COUNTA(_xlfn.TEXTSPLIT('12.Partner Involvement'!$H702,\";\"))),\"\")","v":""},{"$f":"IF(ISNUMBER(SEARCH(F$206,'12.Partner Involvement'!$H702))=TRUE,(('12.Partner Involvement'!$D702*'12.Partner Involvement'!$E702)/COUNTA(_xlfn.TEXTSPLIT('12.Partner Involvement'!$H702,\";\"))),\"\")","v":""},{"$f":"IF(ISNUMBER(SEARCH(G$206,'12.Partner Involvement'!$H702))=TRUE,(('12.Partner Involvement'!$D702*'12.Partner Involvement'!$E702)/COUNTA(_xlfn.TEXTSPLIT('12.Partner Involvement'!$H702,\";\"))),\"\")","v":""},{"$f":"IF(ISNUMBER(SEARCH(H$206,'12.Partner Involvement'!$H702))=TRUE,(('12.Partner Involvement'!$D702*'12.Partner Involvement'!$E702)/COUNTA(_xlfn.TEXTSPLIT('12.Partner Involvement'!$H702,\";\"))),\"\")","v":""}]
[{"$f":"IF(ISNUMBER(SEARCH(A$206,'12.Partner Involvement'!$G703))=TRUE,(('12.Partner Involvement'!$D703*'12.Partner Involvement'!$E703)/COUNTA(_xlfn.TEXTSPLIT('12.Partner Involvement'!$G703,\";\"))),\"\")","v":""},{"$f":"IF(ISNUMBER(SEARCH(B$206,'12.Partner Involvement'!$G703))=TRUE,(('12.Partner Involvement'!$D703*'12.Partner Involvement'!$E703)/COUNTA(_xlfn.TEXTSPLIT('12.Partner Involvement'!$G703,\";\"))),\"\")","v":""},{"$f":"IF(ISNUMBER(SEARCH(C$206,'12.Partner Involvement'!$G703))=TRUE,(('12.Partner Involvement'!$D703*'12.Partner Involvement'!$E703)/COUNTA(_xlfn.TEXTSPLIT('12.Partner Involvement'!$G703,\";\"))),\"\")","v":""},null,{"$f":"IF(ISNUMBER(SEARCH(E$206,'12.Partner Involvement'!$H703))=TRUE,(('12.Partner Involvement'!$D703*'12.Partner Involvement'!$E703)/COUNTA(_xlfn.TEXTSPLIT('12.Partner Involvement'!$H703,\";\"))),\"\")","v":""},{"$f":"IF(ISNUMBER(SEARCH(F$206,'12.Partner Involvement'!$H703))=TRUE,(('12.Partner Involvement'!$D703*'12.Partner Involvement'!$E703)/COUNTA(_xlfn.TEXTSPLIT('12.Partner Involvement'!$H703,\";\"))),\"\")","v":""},{"$f":"IF(ISNUMBER(SEARCH(G$206,'12.Partner Involvement'!$H703))=TRUE,(('12.Partner Involvement'!$D703*'12.Partner Involvement'!$E703)/COUNTA(_xlfn.TEXTSPLIT('12.Partner Involvement'!$H703,\";\"))),\"\")","v":""},{"$f":"IF(ISNUMBER(SEARCH(H$206,'12.Partner Involvement'!$H703))=TRUE,(('12.Partner Involvement'!$D703*'12.Partner Involvement'!$E703)/COUNTA(_xlfn.TEXTSPLIT('12.Partner Involvement'!$H703,\";\"))),\"\")","v":""}]
[{"$f":"IF(ISNUMBER(SEARCH(A$206,'12.Partner Involvement'!$G704))=TRUE,(('12.Partner Involvement'!$D704*'12.Partner Involvement'!$E704)/COUNTA(_xlfn.TEXTSPLIT('12.Partner Involvement'!$G704,\";\"))),\"\")","v":""},{"$f":"IF(ISNUMBER(SEARCH(B$206,'12.Partner Involvement'!$G704))=TRUE,(('12.Partner Involvement'!$D704*'12.Partner Involvement'!$E704)/COUNTA(_xlfn.TEXTSPLIT('12.Partner Involvement'!$G704,\";\"))),\"\")","v":""},{"$f":"IF(ISNUMBER(SEARCH(C$206,'12.Partner Involvement'!$G704))=TRUE,(('12.Partner Involvement'!$D704*'12.Partner Involvement'!$E704)/COUNTA(_xlfn.TEXTSPLIT('12.Partner Involvement'!$G704,\";\"))),\"\")","v":""},null,{"$f":"IF(ISNUMBER(SEARCH(E$206,'12.Partner Involvement'!$H704))=TRUE,(('12.Partner Involvement'!$D704*'12.Partner Involvement'!$E704)/COUNTA(_xlfn.TEXTSPLIT('12.Partner Involvement'!$H704,\";\"))),\"\")","v":""},{"$f":"IF(ISNUMBER(SEARCH(F$206,'12.Partner Involvement'!$H704))=TRUE,(('12.Partner Involvement'!$D704*'12.Partner Involvement'!$E704)/COUNTA(_xlfn.TEXTSPLIT('12.Partner Involvement'!$H704,\";\"))),\"\")","v":""},{"$f":"IF(ISNUMBER(SEARCH(G$206,'12.Partner Involvement'!$H704))=TRUE,(('12.Partner Involvement'!$D704*'12.Partner Involvement'!$E704)/COUNTA(_xlfn.TEXTSPLIT('12.Partner Involvement'!$H704,\";\"))),\"\")","v":""},{"$f":"IF(ISNUMBER(SEARCH(H$206,'12.Partner Involvement'!$H704))=TRUE,(('12.Partner Involvement'!$D704*'12.Partner Involvement'!$E704)/COUNTA(_xlfn.TEXTSPLIT('12.Partner Involvement'!$H704,\";\"))),\"\")","v":""}]
[{"$f":"IF(ISNUMBER(SEARCH(A$206,'12.Partner Involvement'!$G705))=TRUE,(('12.Partner Involvement'!$D705*'12.Partner Involvement'!$E705)/COUNTA(_xlfn.TEXTSPLIT('12.Partner Involvement'!$G705,\";\"))),\"\")","v":""},{"$f":"IF(ISNUMBER(SEARCH(B$206,'12.Partner Involvement'!$G705))=TRUE,(('12.Partner Involvement'!$D705*'12.Partner Involvement'!$E705)/COUNTA(_xlfn.TEXTSPLIT('12.Partner Involvement'!$G705,\";\"))),\"\")","v":""},{"$f":"IF(ISNUMBER(SEARCH(C$206,'12.Partner Involvement'!$G705))=TRUE,(('12.Partner Involvement'!$D705*'12.Partner Involvement'!$E705)/COUNTA(_xlfn.TEXTSPLIT('12.Partner Involvement'!$G705,\";\"))),\"\")","v":""},null,{"$f":"IF(ISNUMBER(SEARCH(E$206,'12.Partner Involvement'!$H705))=TRUE,(('12.Partner Involvement'!$D705*'12.Partner Involvement'!$E705)/COUNTA(_xlfn.TEXTSPLIT('12.Partner Involvement'!$H705,\";\"))),\"\")","v":""},{"$f":"IF(ISNUMBER(SEARCH(F$206,'12.Partner Involvement'!$H705))=TRUE,(('12.Partner Involvement'!$D705*'12.Partner Involvement'!$E705)/COUNTA(_xlfn.TEXTSPLIT('12.Partner Involvement'!$H705,\";\"))),\"\")","v":""},{"$f":"IF(ISNUMBER(SEARCH(G$206,'12.Partner Involvement'!$H705))=TRUE,(('12.Partner Involvement'!$D705*'12.Partner Involvement'!$E705)/COUNTA(_xlfn.TEXTSPLIT('12.Partner Involvement'!$H705,\";\"))),\"\")","v":""},{"$f":"IF(ISNUMBER(SEARCH(H$206,'12.Partner Involvement'!$H705))=TRUE,(('12.Partner Involvement'!$D705*'12.Partner Involvement'!$E705)/COUNTA(_xlfn.TEXTSPLIT('12.Partner Involvement'!$H705,\";\"))),\"\")","v":""}]
[{"$f":"IF(ISNUMBER(SEARCH(A$206,'12.Partner Involvement'!$G706))=TRUE,(('12.Partner Involvement'!$D706*'12.Partner Involvement'!$E706)/COUNTA(_xlfn.TEXTSPLIT('12.Partner Involvement'!$G706,\";\"))),\"\")","v":""},{"$f":"IF(ISNUMBER(SEARCH(B$206,'12.Partner Involvement'!$G706))=TRUE,(('12.Partner Involvement'!$D706*'12.Partner Involvement'!$E706)/COUNTA(_xlfn.TEXTSPLIT('12.Partner Involvement'!$G706,\";\"))),\"\")","v":""},{"$f":"IF(ISNUMBER(SEARCH(C$206,'12.Partner Involvement'!$G706))=TRUE,(('12.Partner Involvement'!$D706*'12.Partner Involvement'!$E706)/COUNTA(_xlfn.TEXTSPLIT('12.Partner Involvement'!$G706,\";\"))),\"\")","v":""},null,{"$f":"IF(ISNUMBER(SEARCH(E$206,'12.Partner Involvement'!$H706))=TRUE,(('12.Partner Involvement'!$D706*'12.Partner Involvement'!$E706)/COUNTA(_xlfn.TEXTSPLIT('12.Partner Involvement'!$H706,\";\"))),\"\")","v":""},{"$f":"IF(ISNUMBER(SEARCH(F$206,'12.Partner Involvement'!$H706))=TRUE,(('12.Partner Involvement'!$D706*'12.Partner Involvement'!$E706)/COUNTA(_xlfn.TEXTSPLIT('12.Partner Involvement'!$H706,\";\"))),\"\")","v":""},{"$f":"IF(ISNUMBER(SEARCH(G$206,'12.Partner Involvement'!$H706))=TRUE,(('12.Partner Involvement'!$D706*'12.Partner Involvement'!$E706)/COUNTA(_xlfn.TEXTSPLIT('12.Partner Involvement'!$H706,\";\"))),\"\")","v":""},{"$f":"IF(ISNUMBER(SEARCH(H$206,'12.Partner Involvement'!$H706))=TRUE,(('12.Partner Involvement'!$D706*'12.Partner Involvement'!$E706)/COUNTA(_xlfn.TEXTSPLIT('12.Partner Involvement'!$H706,\";\"))),\"\")","v":""}]
[{"$f":"IF(ISNUMBER(SEARCH(A$206,'12.Partner Involvement'!$G707))=TRUE,(('12.Partner Involvement'!$D707*'12.Partner Involvement'!$E707)/COUNTA(_xlfn.TEXTSPLIT('12.Partner Involvement'!$G707,\";\"))),\"\")","v":""},{"$f":"IF(ISNUMBER(SEARCH(B$206,'12.Partner Involvement'!$G707))=TRUE,(('12.Partner Involvement'!$D707*'12.Partner Involvement'!$E707)/COUNTA(_xlfn.TEXTSPLIT('12.Partner Involvement'!$G707,\";\"))),\"\")","v":""},{"$f":"IF(ISNUMBER(SEARCH(C$206,'12.Partner Involvement'!$G707))=TRUE,(('12.Partner Involvement'!$D707*'12.Partner Involvement'!$E707)/COUNTA(_xlfn.TEXTSPLIT('12.Partner Involvement'!$G707,\";\"))),\"\")","v":""},null,{"$f":"IF(ISNUMBER(SEARCH(E$206,'12.Partner Involvement'!$H707))=TRUE,(('12.Partner Involvement'!$D707*'12.Partner Involvement'!$E707)/COUNTA(_xlfn.TEXTSPLIT('12.Partner Involvement'!$H707,\";\"))),\"\")","v":""},{"$f":"IF(ISNUMBER(SEARCH(F$206,'12.Partner Involvement'!$H707))=TRUE,(('12.Partner Involvement'!$D707*'12.Partner Involvement'!$E707)/COUNTA(_xlfn.TEXTSPLIT('12.Partner Involvement'!$H707,\";\"))),\"\")","v":""},{"$f":"IF(ISNUMBER(SEARCH(G$206,'12.Partner Involvement'!$H707))=TRUE,(('12.Partner Involvement'!$D707*'12.Partner Involvement'!$E707)/COUNTA(_xlfn.TEXTSPLIT('12.Partner Involvement'!$H707,\";\"))),\"\")","v":""},{"$f":"IF(ISNUMBER(SEARCH(H$206,'12.Partner Involvement'!$H707))=TRUE,(('12.Partner Involvement'!$D707*'12.Partner Involvement'!$E707)/COUNTA(_xlfn.TEXTSPLIT('12.Partner Involvement'!$H707,\";\"))),\"\")","v":""}]
[{"$f":"IF(ISNUMBER(SEARCH(A$206,'12.Partner Involvement'!$G708))=TRUE,(('12.Partner Involvement'!$D708*'12.Partner Involvement'!$E708)/COUNTA(_xlfn.TEXTSPLIT('12.Partner Involvement'!$G708,\";\"))),\"\")","v":""},{"$f":"IF(ISNUMBER(SEARCH(B$206,'12.Partner Involvement'!$G708))=TRUE,(('12.Partner Involvement'!$D708*'12.Partner Involvement'!$E708)/COUNTA(_xlfn.TEXTSPLIT('12.Partner Involvement'!$G708,\";\"))),\"\")","v":""},{"$f":"IF(ISNUMBER(SEARCH(C$206,'12.Partner Involvement'!$G708))=TRUE,(('12.Partner Involvement'!$D708*'12.Partner Involvement'!$E708)/COUNTA(_xlfn.TEXTSPLIT('12.Partner Involvement'!$G708,\";\"))),\"\")","v":""},null,{"$f":"IF(ISNUMBER(SEARCH(E$206,'12.Partner Involvement'!$H708))=TRUE,(('12.Partner Involvement'!$D708*'12.Partner Involvement'!$E708)/COUNTA(_xlfn.TEXTSPLIT('12.Partner Involvement'!$H708,\";\"))),\"\")","v":""},{"$f":"IF(ISNUMBER(SEARCH(F$206,'12.Partner Involvement'!$H708))=TRUE,(('12.Partner Involvement'!$D708*'12.Partner Involvement'!$E708)/COUNTA(_xlfn.TEXTSPLIT('12.Partner Involvement'!$H708,\";\"))),\"\")","v":""},{"$f":"IF(ISNUMBER(SEARCH(G$206,'12.Partner Involvement'!$H708))=TRUE,(('12.Partner Involvement'!$D708*'12.Partner Involvement'!$E708)/COUNTA(_xlfn.TEXTSPLIT('12.Partner Involvement'!$H708,\";\"))),\"\")","v":""},{"$f":"IF(ISNUMBER(SEARCH(H$206,'12.Partner Involvement'!$H708))=TRUE,(('12.Partner Involvement'!$D708*'12.Partner Involvement'!$E708)/COUNTA(_xlfn.TEXTSPLIT('12.Partner Involvement'!$H708,\";\"))),\"\")","v":""}]
[{"$f":"IF(ISNUMBER(SEARCH(A$206,'12.Partner Involvement'!$G709))=TRUE,(('12.Partner Involvement'!$D709*'12.Partner Involvement'!$E709)/COUNTA(_xlfn.TEXTSPLIT('12.Partner Involvement'!$G709,\";\"))),\"\")","v":""},{"$f":"IF(ISNUMBER(SEARCH(B$206,'12.Partner Involvement'!$G709))=TRUE,(('12.Partner Involvement'!$D709*'12.Partner Involvement'!$E709)/COUNTA(_xlfn.TEXTSPLIT('12.Partner Involvement'!$G709,\";\"))),\"\")","v":""},{"$f":"IF(ISNUMBER(SEARCH(C$206,'12.Partner Involvement'!$G709))=TRUE,(('12.Partner Involvement'!$D709*'12.Partner Involvement'!$E709)/COUNTA(_xlfn.TEXTSPLIT('12.Partner Involvement'!$G709,\";\"))),\"\")","v":""},null,{"$f":"IF(ISNUMBER(SEARCH(E$206,'12.Partner Involvement'!$H709))=TRUE,(('12.Partner Involvement'!$D709*'12.Partner Involvement'!$E709)/COUNTA(_xlfn.TEXTSPLIT('12.Partner Involvement'!$H709,\";\"))),\"\")","v":""},{"$f":"IF(ISNUMBER(SEARCH(F$206,'12.Partner Involvement'!$H709))=TRUE,(('12.Partner Involvement'!$D709*'12.Partner Involvement'!$E709)/COUNTA(_xlfn.TEXTSPLIT('12.Partner Involvement'!$H709,\";\"))),\"\")","v":""},{"$f":"IF(ISNUMBER(SEARCH(G$206,'12.Partner Involvement'!$H709))=TRUE,(('12.Partner Involvement'!$D709*'12.Partner Involvement'!$E709)/COUNTA(_xlfn.TEXTSPLIT('12.Partner Involvement'!$H709,\";\"))),\"\")","v":""},{"$f":"IF(ISNUMBER(SEARCH(H$206,'12.Partner Involvement'!$H709))=TRUE,(('12.Partner Involvement'!$D709*'12.Partner Involvement'!$E709)/COUNTA(_xlfn.TEXTSPLIT('12.Partner Involvement'!$H709,\";\"))),\"\")","v":""}]
[{"$f":"IF(ISNUMBER(SEARCH(A$206,'12.Partner Involvement'!$G710))=TRUE,(('12.Partner Involvement'!$D710*'12.Partner Involvement'!$E710)/COUNTA(_xlfn.TEXTSPLIT('12.Partner Involvement'!$G710,\";\"))),\"\")","v":""},{"$f":"IF(ISNUMBER(SEARCH(B$206,'12.Partner Involvement'!$G710))=TRUE,(('12.Partner Involvement'!$D710*'12.Partner Involvement'!$E710)/COUNTA(_xlfn.TEXTSPLIT('12.Partner Involvement'!$G710,\";\"))),\"\")","v":""},{"$f":"IF(ISNUMBER(SEARCH(C$206,'12.Partner Involvement'!$G710))=TRUE,(('12.Partner Involvement'!$D710*'12.Partner Involvement'!$E710)/COUNTA(_xlfn.TEXTSPLIT('12.Partner Involvement'!$G710,\";\"))),\"\")","v":""},null,{"$f":"IF(ISNUMBER(SEARCH(E$206,'12.Partner Involvement'!$H710))=TRUE,(('12.Partner Involvement'!$D710*'12.Partner Involvement'!$E710)/COUNTA(_xlfn.TEXTSPLIT('12.Partner Involvement'!$H710,\";\"))),\"\")","v":""},{"$f":"IF(ISNUMBER(SEARCH(F$206,'12.Partner Involvement'!$H710))=TRUE,(('12.Partner Involvement'!$D710*'12.Partner Involvement'!$E710)/COUNTA(_xlfn.TEXTSPLIT('12.Partner Involvement'!$H710,\";\"))),\"\")","v":""},{"$f":"IF(ISNUMBER(SEARCH(G$206,'12.Partner Involvement'!$H710))=TRUE,(('12.Partner Involvement'!$D710*'12.Partner Involvement'!$E710)/COUNTA(_xlfn.TEXTSPLIT('12.Partner Involvement'!$H710,\";\"))),\"\")","v":""},{"$f":"IF(ISNUMBER(SEARCH(H$206,'12.Partner Involvement'!$H710))=TRUE,(('12.Partner Involvement'!$D710*'12.Partner Involvement'!$E710)/COUNTA(_xlfn.TEXTSPLIT('12.Partner Involvement'!$H710,\";\"))),\"\")","v":""}]
[{"$f":"IF(ISNUMBER(SEARCH(A$206,'12.Partner Involvement'!$G711))=TRUE,(('12.Partner Involvement'!$D711*'12.Partner Involvement'!$E711)/COUNTA(_xlfn.TEXTSPLIT('12.Partner Involvement'!$G711,\";\"))),\"\")","v":""},{"$f":"IF(ISNUMBER(SEARCH(B$206,'12.Partner Involvement'!$G711))=TRUE,(('12.Partner Involvement'!$D711*'12.Partner Involvement'!$E711)/COUNTA(_xlfn.TEXTSPLIT('12.Partner Involvement'!$G711,\";\"))),\"\")","v":""},{"$f":"IF(ISNUMBER(SEARCH(C$206,'12.Partner Involvement'!$G711))=TRUE,(('12.Partner Involvement'!$D711*'12.Partner Involvement'!$E711)/COUNTA(_xlfn.TEXTSPLIT('12.Partner Involvement'!$G711,\";\"))),\"\")","v":""},null,{"$f":"IF(ISNUMBER(SEARCH(E$206,'12.Partner Involvement'!$H711))=TRUE,(('12.Partner Involvement'!$D711*'12.Partner Involvement'!$E711)/COUNTA(_xlfn.TEXTSPLIT('12.Partner Involvement'!$H711,\";\"))),\"\")","v":""},{"$f":"IF(ISNUMBER(SEARCH(F$206,'12.Partner Involvement'!$H711))=TRUE,(('12.Partner Involvement'!$D711*'12.Partner Involvement'!$E711)/COUNTA(_xlfn.TEXTSPLIT('12.Partner Involvement'!$H711,\";\"))),\"\")","v":""},{"$f":"IF(ISNUMBER(SEARCH(G$206,'12.Partner Involvement'!$H711))=TRUE,(('12.Partner Involvement'!$D711*'12.Partner Involvement'!$E711)/COUNTA(_xlfn.TEXTSPLIT('12.Partner Involvement'!$H711,\";\"))),\"\")","v":""},{"$f":"IF(ISNUMBER(SEARCH(H$206,'12.Partner Involvement'!$H711))=TRUE,(('12.Partner Involvement'!$D711*'12.Partner Involvement'!$E711)/COUNTA(_xlfn.TEXTSPLIT('12.Partner Involvement'!$H711,\";\"))),\"\")","v":""}]
[{"$f":"IF(ISNUMBER(SEARCH(A$206,'12.Partner Involvement'!$G712))=TRUE,(('12.Partner Involvement'!$D712*'12.Partner Involvement'!$E712)/COUNTA(_xlfn.TEXTSPLIT('12.Partner Involvement'!$G712,\";\"))),\"\")","v":""},{"$f":"IF(ISNUMBER(SEARCH(B$206,'12.Partner Involvement'!$G712))=TRUE,(('12.Partner Involvement'!$D712*'12.Partner Involvement'!$E712)/COUNTA(_xlfn.TEXTSPLIT('12.Partner Involvement'!$G712,\";\"))),\"\")","v":""},{"$f":"IF(ISNUMBER(SEARCH(C$206,'12.Partner Involvement'!$G712))=TRUE,(('12.Partner Involvement'!$D712*'12.Partner Involvement'!$E712)/COUNTA(_xlfn.TEXTSPLIT('12.Partner Involvement'!$G712,\";\"))),\"\")","v":""},null,{"$f":"IF(ISNUMBER(SEARCH(E$206,'12.Partner Involvement'!$H712))=TRUE,(('12.Partner Involvement'!$D712*'12.Partner Involvement'!$E712)/COUNTA(_xlfn.TEXTSPLIT('12.Partner Involvement'!$H712,\";\"))),\"\")","v":""},{"$f":"IF(ISNUMBER(SEARCH(F$206,'12.Partner Involvement'!$H712))=TRUE,(('12.Partner Involvement'!$D712*'12.Partner Involvement'!$E712)/COUNTA(_xlfn.TEXTSPLIT('12.Partner Involvement'!$H712,\";\"))),\"\")","v":""},{"$f":"IF(ISNUMBER(SEARCH(G$206,'12.Partner Involvement'!$H712))=TRUE,(('12.Partner Involvement'!$D712*'12.Partner Involvement'!$E712)/COUNTA(_xlfn.TEXTSPLIT('12.Partner Involvement'!$H712,\";\"))),\"\")","v":""},{"$f":"IF(ISNUMBER(SEARCH(H$206,'12.Partner Involvement'!$H712))=TRUE,(('12.Partner Involvement'!$D712*'12.Partner Involvement'!$E712)/COUNTA(_xlfn.TEXTSPLIT('12.Partner Involvement'!$H712,\";\"))),\"\")","v":""}]
[{"$f":"IF(ISNUMBER(SEARCH(A$206,'12.Partner Involvement'!$G713))=TRUE,(('12.Partner Involvement'!$D713*'12.Partner Involvement'!$E713)/COUNTA(_xlfn.TEXTSPLIT('12.Partner Involvement'!$G713,\";\"))),\"\")","v":""},{"$f":"IF(ISNUMBER(SEARCH(B$206,'12.Partner Involvement'!$G713))=TRUE,(('12.Partner Involvement'!$D713*'12.Partner Involvement'!$E713)/COUNTA(_xlfn.TEXTSPLIT('12.Partner Involvement'!$G713,\";\"))),\"\")","v":""},{"$f":"IF(ISNUMBER(SEARCH(C$206,'12.Partner Involvement'!$G713))=TRUE,(('12.Partner Involvement'!$D713*'12.Partner Involvement'!$E713)/COUNTA(_xlfn.TEXTSPLIT('12.Partner Involvement'!$G713,\";\"))),\"\")","v":""},null,{"$f":"IF(ISNUMBER(SEARCH(E$206,'12.Partner Involvement'!$H713))=TRUE,(('12.Partner Involvement'!$D713*'12.Partner Involvement'!$E713)/COUNTA(_xlfn.TEXTSPLIT('12.Partner Involvement'!$H713,\";\"))),\"\")","v":""},{"$f":"IF(ISNUMBER(SEARCH(F$206,'12.Partner Involvement'!$H713))=TRUE,(('12.Partner Involvement'!$D713*'12.Partner Involvement'!$E713)/COUNTA(_xlfn.TEXTSPLIT('12.Partner Involvement'!$H713,\";\"))),\"\")","v":""},{"$f":"IF(ISNUMBER(SEARCH(G$206,'12.Partner Involvement'!$H713))=TRUE,(('12.Partner Involvement'!$D713*'12.Partner Involvement'!$E713)/COUNTA(_xlfn.TEXTSPLIT('12.Partner Involvement'!$H713,\";\"))),\"\")","v":""},{"$f":"IF(ISNUMBER(SEARCH(H$206,'12.Partner Involvement'!$H713))=TRUE,(('12.Partner Involvement'!$D713*'12.Partner Involvement'!$E713)/COUNTA(_xlfn.TEXTSPLIT('12.Partner Involvement'!$H713,\";\"))),\"\")","v":""}]
[{"$f":"IF(ISNUMBER(SEARCH(A$206,'12.Partner Involvement'!$G714))=TRUE,(('12.Partner Involvement'!$D714*'12.Partner Involvement'!$E714)/COUNTA(_xlfn.TEXTSPLIT('12.Partner Involvement'!$G714,\";\"))),\"\")","v":""},{"$f":"IF(ISNUMBER(SEARCH(B$206,'12.Partner Involvement'!$G714))=TRUE,(('12.Partner Involvement'!$D714*'12.Partner Involvement'!$E714)/COUNTA(_xlfn.TEXTSPLIT('12.Partner Involvement'!$G714,\";\"))),\"\")","v":""},{"$f":"IF(ISNUMBER(SEARCH(C$206,'12.Partner Involvement'!$G714))=TRUE,(('12.Partner Involvement'!$D714*'12.Partner Involvement'!$E714)/COUNTA(_xlfn.TEXTSPLIT('12.Partner Involvement'!$G714,\";\"))),\"\")","v":""},null,{"$f":"IF(ISNUMBER(SEARCH(E$206,'12.Partner Involvement'!$H714))=TRUE,(('12.Partner Involvement'!$D714*'12.Partner Involvement'!$E714)/COUNTA(_xlfn.TEXTSPLIT('12.Partner Involvement'!$H714,\";\"))),\"\")","v":""},{"$f":"IF(ISNUMBER(SEARCH(F$206,'12.Partner Involvement'!$H714))=TRUE,(('12.Partner Involvement'!$D714*'12.Partner Involvement'!$E714)/COUNTA(_xlfn.TEXTSPLIT('12.Partner Involvement'!$H714,\";\"))),\"\")","v":""},{"$f":"IF(ISNUMBER(SEARCH(G$206,'12.Partner Involvement'!$H714))=TRUE,(('12.Partner Involvement'!$D714*'12.Partner Involvement'!$E714)/COUNTA(_xlfn.TEXTSPLIT('12.Partner Involvement'!$H714,\";\"))),\"\")","v":""},{"$f":"IF(ISNUMBER(SEARCH(H$206,'12.Partner Involvement'!$H714))=TRUE,(('12.Partner Involvement'!$D714*'12.Partner Involvement'!$E714)/COUNTA(_xlfn.TEXTSPLIT('12.Partner Involvement'!$H714,\";\"))),\"\")","v":""}]
[{"$f":"IF(ISNUMBER(SEARCH(A$206,'12.Partner Involvement'!$G715))=TRUE,(('12.Partner Involvement'!$D715*'12.Partner Involvement'!$E715)/COUNTA(_xlfn.TEXTSPLIT('12.Partner Involvement'!$G715,\";\"))),\"\")","v":""},{"$f":"IF(ISNUMBER(SEARCH(B$206,'12.Partner Involvement'!$G715))=TRUE,(('12.Partner Involvement'!$D715*'12.Partner Involvement'!$E715)/COUNTA(_xlfn.TEXTSPLIT('12.Partner Involvement'!$G715,\";\"))),\"\")","v":""},{"$f":"IF(ISNUMBER(SEARCH(C$206,'12.Partner Involvement'!$G715))=TRUE,(('12.Partner Involvement'!$D715*'12.Partner Involvement'!$E715)/COUNTA(_xlfn.TEXTSPLIT('12.Partner Involvement'!$G715,\";\"))),\"\")","v":""},null,{"$f":"IF(ISNUMBER(SEARCH(E$206,'12.Partner Involvement'!$H715))=TRUE,(('12.Partner Involvement'!$D715*'12.Partner Involvement'!$E715)/COUNTA(_xlfn.TEXTSPLIT('12.Partner Involvement'!$H715,\";\"))),\"\")","v":""},{"$f":"IF(ISNUMBER(SEARCH(F$206,'12.Partner Involvement'!$H715))=TRUE,(('12.Partner Involvement'!$D715*'12.Partner Involvement'!$E715)/COUNTA(_xlfn.TEXTSPLIT('12.Partner Involvement'!$H715,\";\"))),\"\")","v":""},{"$f":"IF(ISNUMBER(SEARCH(G$206,'12.Partner Involvement'!$H715))=TRUE,(('12.Partner Involvement'!$D715*'12.Partner Involvement'!$E715)/COUNTA(_xlfn.TEXTSPLIT('12.Partner Involvement'!$H715,\";\"))),\"\")","v":""},{"$f":"IF(ISNUMBER(SEARCH(H$206,'12.Partner Involvement'!$H715))=TRUE,(('12.Partner Involvement'!$D715*'12.Partner Involvement'!$E715)/COUNTA(_xlfn.TEXTSPLIT('12.Partner Involvement'!$H715,\";\"))),\"\")","v":""}]
[{"$f":"IF(ISNUMBER(SEARCH(A$206,'12.Partner Involvement'!$G716))=TRUE,(('12.Partner Involvement'!$D716*'12.Partner Involvement'!$E716)/COUNTA(_xlfn.TEXTSPLIT('12.Partner Involvement'!$G716,\";\"))),\"\")","v":""},{"$f":"IF(ISNUMBER(SEARCH(B$206,'12.Partner Involvement'!$G716))=TRUE,(('12.Partner Involvement'!$D716*'12.Partner Involvement'!$E716)/COUNTA(_xlfn.TEXTSPLIT('12.Partner Involvement'!$G716,\";\"))),\"\")","v":""},{"$f":"IF(ISNUMBER(SEARCH(C$206,'12.Partner Involvement'!$G716))=TRUE,(('12.Partner Involvement'!$D716*'12.Partner Involvement'!$E716)/COUNTA(_xlfn.TEXTSPLIT('12.Partner Involvement'!$G716,\";\"))),\"\")","v":""},null,{"$f":"IF(ISNUMBER(SEARCH(E$206,'12.Partner Involvement'!$H716))=TRUE,(('12.Partner Involvement'!$D716*'12.Partner Involvement'!$E716)/COUNTA(_xlfn.TEXTSPLIT('12.Partner Involvement'!$H716,\";\"))),\"\")","v":""},{"$f":"IF(ISNUMBER(SEARCH(F$206,'12.Partner Involvement'!$H716))=TRUE,(('12.Partner Involvement'!$D716*'12.Partner Involvement'!$E716)/COUNTA(_xlfn.TEXTSPLIT('12.Partner Involvement'!$H716,\";\"))),\"\")","v":""},{"$f":"IF(ISNUMBER(SEARCH(G$206,'12.Partner Involvement'!$H716))=TRUE,(('12.Partner Involvement'!$D716*'12.Partner Involvement'!$E716)/COUNTA(_xlfn.TEXTSPLIT('12.Partner Involvement'!$H716,\";\"))),\"\")","v":""},{"$f":"IF(ISNUMBER(SEARCH(H$206,'12.Partner Involvement'!$H716))=TRUE,(('12.Partner Involvement'!$D716*'12.Partner Involvement'!$E716)/COUNTA(_xlfn.TEXTSPLIT('12.Partner Involvement'!$H716,\";\"))),\"\")","v":""}]
[{"$f":"IF(ISNUMBER(SEARCH(A$206,'12.Partner Involvement'!$G717))=TRUE,(('12.Partner Involvement'!$D717*'12.Partner Involvement'!$E717)/COUNTA(_xlfn.TEXTSPLIT('12.Partner Involvement'!$G717,\";\"))),\"\")","v":""},{"$f":"IF(ISNUMBER(SEARCH(B$206,'12.Partner Involvement'!$G717))=TRUE,(('12.Partner Involvement'!$D717*'12.Partner Involvement'!$E717)/COUNTA(_xlfn.TEXTSPLIT('12.Partner Involvement'!$G717,\";\"))),\"\")","v":""},{"$f":"IF(ISNUMBER(SEARCH(C$206,'12.Partner Involvement'!$G717))=TRUE,(('12.Partner Involvement'!$D717*'12.Partner Involvement'!$E717)/COUNTA(_xlfn.TEXTSPLIT('12.Partner Involvement'!$G717,\";\"))),\"\")","v":""},null,{"$f":"IF(ISNUMBER(SEARCH(E$206,'12.Partner Involvement'!$H717))=TRUE,(('12.Partner Involvement'!$D717*'12.Partner Involvement'!$E717)/COUNTA(_xlfn.TEXTSPLIT('12.Partner Involvement'!$H717,\";\"))),\"\")","v":""},{"$f":"IF(ISNUMBER(SEARCH(F$206,'12.Partner Involvement'!$H717))=TRUE,(('12.Partner Involvement'!$D717*'12.Partner Involvement'!$E717)/COUNTA(_xlfn.TEXTSPLIT('12.Partner Involvement'!$H717,\";\"))),\"\")","v":""},{"$f":"IF(ISNUMBER(SEARCH(G$206,'12.Partner Involvement'!$H717))=TRUE,(('12.Partner Involvement'!$D717*'12.Partner Involvement'!$E717)/COUNTA(_xlfn.TEXTSPLIT('12.Partner Involvement'!$H717,\";\"))),\"\")","v":""},{"$f":"IF(ISNUMBER(SEARCH(H$206,'12.Partner Involvement'!$H717))=TRUE,(('12.Partner Involvement'!$D717*'12.Partner Involvement'!$E717)/COUNTA(_xlfn.TEXTSPLIT('12.Partner Involvement'!$H717,\";\"))),\"\")","v":""}]
[{"$f":"IF(ISNUMBER(SEARCH(A$206,'12.Partner Involvement'!$G718))=TRUE,(('12.Partner Involvement'!$D718*'12.Partner Involvement'!$E718)/COUNTA(_xlfn.TEXTSPLIT('12.Partner Involvement'!$G718,\";\"))),\"\")","v":""},{"$f":"IF(ISNUMBER(SEARCH(B$206,'12.Partner Involvement'!$G718))=TRUE,(('12.Partner Involvement'!$D718*'12.Partner Involvement'!$E718)/COUNTA(_xlfn.TEXTSPLIT('12.Partner Involvement'!$G718,\";\"))),\"\")","v":""},{"$f":"IF(ISNUMBER(SEARCH(C$206,'12.Partner Involvement'!$G718))=TRUE,(('12.Partner Involvement'!$D718*'12.Partner Involvement'!$E718)/COUNTA(_xlfn.TEXTSPLIT('12.Partner Involvement'!$G718,\";\"))),\"\")","v":""},null,{"$f":"IF(ISNUMBER(SEARCH(E$206,'12.Partner Involvement'!$H718))=TRUE,(('12.Partner Involvement'!$D718*'12.Partner Involvement'!$E718)/COUNTA(_xlfn.TEXTSPLIT('12.Partner Involvement'!$H718,\";\"))),\"\")","v":""},{"$f":"IF(ISNUMBER(SEARCH(F$206,'12.Partner Involvement'!$H718))=TRUE,(('12.Partner Involvement'!$D718*'12.Partner Involvement'!$E718)/COUNTA(_xlfn.TEXTSPLIT('12.Partner Involvement'!$H718,\";\"))),\"\")","v":""},{"$f":"IF(ISNUMBER(SEARCH(G$206,'12.Partner Involvement'!$H718))=TRUE,(('12.Partner Involvement'!$D718*'12.Partner Involvement'!$E718)/COUNTA(_xlfn.TEXTSPLIT('12.Partner Involvement'!$H718,\";\"))),\"\")","v":""},{"$f":"IF(ISNUMBER(SEARCH(H$206,'12.Partner Involvement'!$H718))=TRUE,(('12.Partner Involvement'!$D718*'12.Partner Involvement'!$E718)/COUNTA(_xlfn.TEXTSPLIT('12.Partner Involvement'!$H718,\";\"))),\"\")","v":""}]
[{"$f":"IF(ISNUMBER(SEARCH(A$206,'12.Partner Involvement'!$G719))=TRUE,(('12.Partner Involvement'!$D719*'12.Partner Involvement'!$E719)/COUNTA(_xlfn.TEXTSPLIT('12.Partner Involvement'!$G719,\";\"))),\"\")","v":""},{"$f":"IF(ISNUMBER(SEARCH(B$206,'12.Partner Involvement'!$G719))=TRUE,(('12.Partner Involvement'!$D719*'12.Partner Involvement'!$E719)/COUNTA(_xlfn.TEXTSPLIT('12.Partner Involvement'!$G719,\";\"))),\"\")","v":""},{"$f":"IF(ISNUMBER(SEARCH(C$206,'12.Partner Involvement'!$G719))=TRUE,(('12.Partner Involvement'!$D719*'12.Partner Involvement'!$E719)/COUNTA(_xlfn.TEXTSPLIT('12.Partner Involvement'!$G719,\";\"))),\"\")","v":""},null,{"$f":"IF(ISNUMBER(SEARCH(E$206,'12.Partner Involvement'!$H719))=TRUE,(('12.Partner Involvement'!$D719*'12.Partner Involvement'!$E719)/COUNTA(_xlfn.TEXTSPLIT('12.Partner Involvement'!$H719,\";\"))),\"\")","v":""},{"$f":"IF(ISNUMBER(SEARCH(F$206,'12.Partner Involvement'!$H719))=TRUE,(('12.Partner Involvement'!$D719*'12.Partner Involvement'!$E719)/COUNTA(_xlfn.TEXTSPLIT('12.Partner Involvement'!$H719,\";\"))),\"\")","v":""},{"$f":"IF(ISNUMBER(SEARCH(G$206,'12.Partner Involvement'!$H719))=TRUE,(('12.Partner Involvement'!$D719*'12.Partner Involvement'!$E719)/COUNTA(_xlfn.TEXTSPLIT('12.Partner Involvement'!$H719,\";\"))),\"\")","v":""},{"$f":"IF(ISNUMBER(SEARCH(H$206,'12.Partner Involvement'!$H719))=TRUE,(('12.Partner Involvement'!$D719*'12.Partner Involvement'!$E719)/COUNTA(_xlfn.TEXTSPLIT('12.Partner Involvement'!$H719,\";\"))),\"\")","v":""}]
[{"$f":"IF(ISNUMBER(SEARCH(A$206,'12.Partner Involvement'!$G720))=TRUE,(('12.Partner Involvement'!$D720*'12.Partner Involvement'!$E720)/COUNTA(_xlfn.TEXTSPLIT('12.Partner Involvement'!$G720,\";\"))),\"\")","v":""},{"$f":"IF(ISNUMBER(SEARCH(B$206,'12.Partner Involvement'!$G720))=TRUE,(('12.Partner Involvement'!$D720*'12.Partner Involvement'!$E720)/COUNTA(_xlfn.TEXTSPLIT('12.Partner Involvement'!$G720,\";\"))),\"\")","v":""},{"$f":"IF(ISNUMBER(SEARCH(C$206,'12.Partner Involvement'!$G720))=TRUE,(('12.Partner Involvement'!$D720*'12.Partner Involvement'!$E720)/COUNTA(_xlfn.TEXTSPLIT('12.Partner Involvement'!$G720,\";\"))),\"\")","v":""},null,{"$f":"IF(ISNUMBER(SEARCH(E$206,'12.Partner Involvement'!$H720))=TRUE,(('12.Partner Involvement'!$D720*'12.Partner Involvement'!$E720)/COUNTA(_xlfn.TEXTSPLIT('12.Partner Involvement'!$H720,\";\"))),\"\")","v":""},{"$f":"IF(ISNUMBER(SEARCH(F$206,'12.Partner Involvement'!$H720))=TRUE,(('12.Partner Involvement'!$D720*'12.Partner Involvement'!$E720)/COUNTA(_xlfn.TEXTSPLIT('12.Partner Involvement'!$H720,\";\"))),\"\")","v":""},{"$f":"IF(ISNUMBER(SEARCH(G$206,'12.Partner Involvement'!$H720))=TRUE,(('12.Partner Involvement'!$D720*'12.Partner Involvement'!$E720)/COUNTA(_xlfn.TEXTSPLIT('12.Partner Involvement'!$H720,\";\"))),\"\")","v":""},{"$f":"IF(ISNUMBER(SEARCH(H$206,'12.Partner Involvement'!$H720))=TRUE,(('12.Partner Involvement'!$D720*'12.Partner Involvement'!$E720)/COUNTA(_xlfn.TEXTSPLIT('12.Partner Involvement'!$H720,\";\"))),\"\")","v":""}]
[{"$f":"IF(ISNUMBER(SEARCH(A$206,'12.Partner Involvement'!$G721))=TRUE,(('12.Partner Involvement'!$D721*'12.Partner Involvement'!$E721)/COUNTA(_xlfn.TEXTSPLIT('12.Partner Involvement'!$G721,\";\"))),\"\")","v":""},{"$f":"IF(ISNUMBER(SEARCH(B$206,'12.Partner Involvement'!$G721))=TRUE,(('12.Partner Involvement'!$D721*'12.Partner Involvement'!$E721)/COUNTA(_xlfn.TEXTSPLIT('12.Partner Involvement'!$G721,\";\"))),\"\")","v":""},{"$f":"IF(ISNUMBER(SEARCH(C$206,'12.Partner Involvement'!$G721))=TRUE,(('12.Partner Involvement'!$D721*'12.Partner Involvement'!$E721)/COUNTA(_xlfn.TEXTSPLIT('12.Partner Involvement'!$G721,\";\"))),\"\")","v":""},null,{"$f":"IF(ISNUMBER(SEARCH(E$206,'12.Partner Involvement'!$H721))=TRUE,(('12.Partner Involvement'!$D721*'12.Partner Involvement'!$E721)/COUNTA(_xlfn.TEXTSPLIT('12.Partner Involvement'!$H721,\";\"))),\"\")","v":""},{"$f":"IF(ISNUMBER(SEARCH(F$206,'12.Partner Involvement'!$H721))=TRUE,(('12.Partner Involvement'!$D721*'12.Partner Involvement'!$E721)/COUNTA(_xlfn.TEXTSPLIT('12.Partner Involvement'!$H721,\";\"))),\"\")","v":""},{"$f":"IF(ISNUMBER(SEARCH(G$206,'12.Partner Involvement'!$H721))=TRUE,(('12.Partner Involvement'!$D721*'12.Partner Involvement'!$E721)/COUNTA(_xlfn.TEXTSPLIT('12.Partner Involvement'!$H721,\";\"))),\"\")","v":""},{"$f":"IF(ISNUMBER(SEARCH(H$206,'12.Partner Involvement'!$H721))=TRUE,(('12.Partner Involvement'!$D721*'12.Partner Involvement'!$E721)/COUNTA(_xlfn.TEXTSPLIT('12.Partner Involvement'!$H721,\";\"))),\"\")","v":""}]
[{"$f":"IF(ISNUMBER(SEARCH(A$206,'12.Partner Involvement'!$G722))=TRUE,(('12.Partner Involvement'!$D722*'12.Partner Involvement'!$E722)/COUNTA(_xlfn.TEXTSPLIT('12.Partner Involvement'!$G722,\";\"))),\"\")","v":""},{"$f":"IF(ISNUMBER(SEARCH(B$206,'12.Partner Involvement'!$G722))=TRUE,(('12.Partner Involvement'!$D722*'12.Partner Involvement'!$E722)/COUNTA(_xlfn.TEXTSPLIT('12.Partner Involvement'!$G722,\";\"))),\"\")","v":""},{"$f":"IF(ISNUMBER(SEARCH(C$206,'12.Partner Involvement'!$G722))=TRUE,(('12.Partner Involvement'!$D722*'12.Partner Involvement'!$E722)/COUNTA(_xlfn.TEXTSPLIT('12.Partner Involvement'!$G722,\";\"))),\"\")","v":""},null,{"$f":"IF(ISNUMBER(SEARCH(E$206,'12.Partner Involvement'!$H722))=TRUE,(('12.Partner Involvement'!$D722*'12.Partner Involvement'!$E722)/COUNTA(_xlfn.TEXTSPLIT('12.Partner Involvement'!$H722,\";\"))),\"\")","v":""},{"$f":"IF(ISNUMBER(SEARCH(F$206,'12.Partner Involvement'!$H722))=TRUE,(('12.Partner Involvement'!$D722*'12.Partner Involvement'!$E722)/COUNTA(_xlfn.TEXTSPLIT('12.Partner Involvement'!$H722,\";\"))),\"\")","v":""},{"$f":"IF(ISNUMBER(SEARCH(G$206,'12.Partner Involvement'!$H722))=TRUE,(('12.Partner Involvement'!$D722*'12.Partner Involvement'!$E722)/COUNTA(_xlfn.TEXTSPLIT('12.Partner Involvement'!$H722,\";\"))),\"\")","v":""},{"$f":"IF(ISNUMBER(SEARCH(H$206,'12.Partner Involvement'!$H722))=TRUE,(('12.Partner Involvement'!$D722*'12.Partner Involvement'!$E722)/COUNTA(_xlfn.TEXTSPLIT('12.Partner Involvement'!$H722,\";\"))),\"\")","v":""}]
[{"$f":"IF(ISNUMBER(SEARCH(A$206,'12.Partner Involvement'!$G723))=TRUE,(('12.Partner Involvement'!$D723*'12.Partner Involvement'!$E723)/COUNTA(_xlfn.TEXTSPLIT('12.Partner Involvement'!$G723,\";\"))),\"\")","v":""},{"$f":"IF(ISNUMBER(SEARCH(B$206,'12.Partner Involvement'!$G723))=TRUE,(('12.Partner Involvement'!$D723*'12.Partner Involvement'!$E723)/COUNTA(_xlfn.TEXTSPLIT('12.Partner Involvement'!$G723,\";\"))),\"\")","v":""},{"$f":"IF(ISNUMBER(SEARCH(C$206,'12.Partner Involvement'!$G723))=TRUE,(('12.Partner Involvement'!$D723*'12.Partner Involvement'!$E723)/COUNTA(_xlfn.TEXTSPLIT('12.Partner Involvement'!$G723,\";\"))),\"\")","v":""},null,{"$f":"IF(ISNUMBER(SEARCH(E$206,'12.Partner Involvement'!$H723))=TRUE,(('12.Partner Involvement'!$D723*'12.Partner Involvement'!$E723)/COUNTA(_xlfn.TEXTSPLIT('12.Partner Involvement'!$H723,\";\"))),\"\")","v":""},{"$f":"IF(ISNUMBER(SEARCH(F$206,'12.Partner Involvement'!$H723))=TRUE,(('12.Partner Involvement'!$D723*'12.Partner Involvement'!$E723)/COUNTA(_xlfn.TEXTSPLIT('12.Partner Involvement'!$H723,\";\"))),\"\")","v":""},{"$f":"IF(ISNUMBER(SEARCH(G$206,'12.Partner Involvement'!$H723))=TRUE,(('12.Partner Involvement'!$D723*'12.Partner Involvement'!$E723)/COUNTA(_xlfn.TEXTSPLIT('12.Partner Involvement'!$H723,\";\"))),\"\")","v":""},{"$f":"IF(ISNUMBER(SEARCH(H$206,'12.Partner Involvement'!$H723))=TRUE,(('12.Partner Involvement'!$D723*'12.Partner Involvement'!$E723)/COUNTA(_xlfn.TEXTSPLIT('12.Partner Involvement'!$H723,\";\"))),\"\")","v":""}]
[{"$f":"IF(ISNUMBER(SEARCH(A$206,'12.Partner Involvement'!$G724))=TRUE,(('12.Partner Involvement'!$D724*'12.Partner Involvement'!$E724)/COUNTA(_xlfn.TEXTSPLIT('12.Partner Involvement'!$G724,\";\"))),\"\")","v":""},{"$f":"IF(ISNUMBER(SEARCH(B$206,'12.Partner Involvement'!$G724))=TRUE,(('12.Partner Involvement'!$D724*'12.Partner Involvement'!$E724)/COUNTA(_xlfn.TEXTSPLIT('12.Partner Involvement'!$G724,\";\"))),\"\")","v":""},{"$f":"IF(ISNUMBER(SEARCH(C$206,'12.Partner Involvement'!$G724))=TRUE,(('12.Partner Involvement'!$D724*'12.Partner Involvement'!$E724)/COUNTA(_xlfn.TEXTSPLIT('12.Partner Involvement'!$G724,\";\"))),\"\")","v":""},null,{"$f":"IF(ISNUMBER(SEARCH(E$206,'12.Partner Involvement'!$H724))=TRUE,(('12.Partner Involvement'!$D724*'12.Partner Involvement'!$E724)/COUNTA(_xlfn.TEXTSPLIT('12.Partner Involvement'!$H724,\";\"))),\"\")","v":""},{"$f":"IF(ISNUMBER(SEARCH(F$206,'12.Partner Involvement'!$H724))=TRUE,(('12.Partner Involvement'!$D724*'12.Partner Involvement'!$E724)/COUNTA(_xlfn.TEXTSPLIT('12.Partner Involvement'!$H724,\";\"))),\"\")","v":""},{"$f":"IF(ISNUMBER(SEARCH(G$206,'12.Partner Involvement'!$H724))=TRUE,(('12.Partner Involvement'!$D724*'12.Partner Involvement'!$E724)/COUNTA(_xlfn.TEXTSPLIT('12.Partner Involvement'!$H724,\";\"))),\"\")","v":""},{"$f":"IF(ISNUMBER(SEARCH(H$206,'12.Partner Involvement'!$H724))=TRUE,(('12.Partner Involvement'!$D724*'12.Partner Involvement'!$E724)/COUNTA(_xlfn.TEXTSPLIT('12.Partner Involvement'!$H724,\";\"))),\"\")","v":""}]
[{"$f":"IF(ISNUMBER(SEARCH(A$206,'12.Partner Involvement'!$G725))=TRUE,(('12.Partner Involvement'!$D725*'12.Partner Involvement'!$E725)/COUNTA(_xlfn.TEXTSPLIT('12.Partner Involvement'!$G725,\";\"))),\"\")","v":""},{"$f":"IF(ISNUMBER(SEARCH(B$206,'12.Partner Involvement'!$G725))=TRUE,(('12.Partner Involvement'!$D725*'12.Partner Involvement'!$E725)/COUNTA(_xlfn.TEXTSPLIT('12.Partner Involvement'!$G725,\";\"))),\"\")","v":""},{"$f":"IF(ISNUMBER(SEARCH(C$206,'12.Partner Involvement'!$G725))=TRUE,(('12.Partner Involvement'!$D725*'12.Partner Involvement'!$E725)/COUNTA(_xlfn.TEXTSPLIT('12.Partner Involvement'!$G725,\";\"))),\"\")","v":""},null,{"$f":"IF(ISNUMBER(SEARCH(E$206,'12.Partner Involvement'!$H725))=TRUE,(('12.Partner Involvement'!$D725*'12.Partner Involvement'!$E725)/COUNTA(_xlfn.TEXTSPLIT('12.Partner Involvement'!$H725,\";\"))),\"\")","v":""},{"$f":"IF(ISNUMBER(SEARCH(F$206,'12.Partner Involvement'!$H725))=TRUE,(('12.Partner Involvement'!$D725*'12.Partner Involvement'!$E725)/COUNTA(_xlfn.TEXTSPLIT('12.Partner Involvement'!$H725,\";\"))),\"\")","v":""},{"$f":"IF(ISNUMBER(SEARCH(G$206,'12.Partner Involvement'!$H725))=TRUE,(('12.Partner Involvement'!$D725*'12.Partner Involvement'!$E725)/COUNTA(_xlfn.TEXTSPLIT('12.Partner Involvement'!$H725,\";\"))),\"\")","v":""},{"$f":"IF(ISNUMBER(SEARCH(H$206,'12.Partner Involvement'!$H725))=TRUE,(('12.Partner Involvement'!$D725*'12.Partner Involvement'!$E725)/COUNTA(_xlfn.TEXTSPLIT('12.Partner Involvement'!$H725,\";\"))),\"\")","v":""}]
[{"$f":"IF(ISNUMBER(SEARCH(A$206,'12.Partner Involvement'!$G726))=TRUE,(('12.Partner Involvement'!$D726*'12.Partner Involvement'!$E726)/COUNTA(_xlfn.TEXTSPLIT('12.Partner Involvement'!$G726,\";\"))),\"\")","v":""},{"$f":"IF(ISNUMBER(SEARCH(B$206,'12.Partner Involvement'!$G726))=TRUE,(('12.Partner Involvement'!$D726*'12.Partner Involvement'!$E726)/COUNTA(_xlfn.TEXTSPLIT('12.Partner Involvement'!$G726,\";\"))),\"\")","v":""},{"$f":"IF(ISNUMBER(SEARCH(C$206,'12.Partner Involvement'!$G726))=TRUE,(('12.Partner Involvement'!$D726*'12.Partner Involvement'!$E726)/COUNTA(_xlfn.TEXTSPLIT('12.Partner Involvement'!$G726,\";\"))),\"\")","v":""},null,{"$f":"IF(ISNUMBER(SEARCH(E$206,'12.Partner Involvement'!$H726))=TRUE,(('12.Partner Involvement'!$D726*'12.Partner Involvement'!$E726)/COUNTA(_xlfn.TEXTSPLIT('12.Partner Involvement'!$H726,\";\"))),\"\")","v":""},{"$f":"IF(ISNUMBER(SEARCH(F$206,'12.Partner Involvement'!$H726))=TRUE,(('12.Partner Involvement'!$D726*'12.Partner Involvement'!$E726)/COUNTA(_xlfn.TEXTSPLIT('12.Partner Involvement'!$H726,\";\"))),\"\")","v":""},{"$f":"IF(ISNUMBER(SEARCH(G$206,'12.Partner Involvement'!$H726))=TRUE,(('12.Partner Involvement'!$D726*'12.Partner Involvement'!$E726)/COUNTA(_xlfn.TEXTSPLIT('12.Partner Involvement'!$H726,\";\"))),\"\")","v":""},{"$f":"IF(ISNUMBER(SEARCH(H$206,'12.Partner Involvement'!$H726))=TRUE,(('12.Partner Involvement'!$D726*'12.Partner Involvement'!$E726)/COUNTA(_xlfn.TEXTSPLIT('12.Partner Involvement'!$H726,\";\"))),\"\")","v":""}]
[{"$f":"IF(ISNUMBER(SEARCH(A$206,'12.Partner Involvement'!$G727))=TRUE,(('12.Partner Involvement'!$D727*'12.Partner Involvement'!$E727)/COUNTA(_xlfn.TEXTSPLIT('12.Partner Involvement'!$G727,\";\"))),\"\")","v":""},{"$f":"IF(ISNUMBER(SEARCH(B$206,'12.Partner Involvement'!$G727))=TRUE,(('12.Partner Involvement'!$D727*'12.Partner Involvement'!$E727)/COUNTA(_xlfn.TEXTSPLIT('12.Partner Involvement'!$G727,\";\"))),\"\")","v":""},{"$f":"IF(ISNUMBER(SEARCH(C$206,'12.Partner Involvement'!$G727))=TRUE,(('12.Partner Involvement'!$D727*'12.Partner Involvement'!$E727)/COUNTA(_xlfn.TEXTSPLIT('12.Partner Involvement'!$G727,\";\"))),\"\")","v":""},null,{"$f":"IF(ISNUMBER(SEARCH(E$206,'12.Partner Involvement'!$H727))=TRUE,(('12.Partner Involvement'!$D727*'12.Partner Involvement'!$E727)/COUNTA(_xlfn.TEXTSPLIT('12.Partner Involvement'!$H727,\";\"))),\"\")","v":""},{"$f":"IF(ISNUMBER(SEARCH(F$206,'12.Partner Involvement'!$H727))=TRUE,(('12.Partner Involvement'!$D727*'12.Partner Involvement'!$E727)/COUNTA(_xlfn.TEXTSPLIT('12.Partner Involvement'!$H727,\";\"))),\"\")","v":""},{"$f":"IF(ISNUMBER(SEARCH(G$206,'12.Partner Involvement'!$H727))=TRUE,(('12.Partner Involvement'!$D727*'12.Partner Involvement'!$E727)/COUNTA(_xlfn.TEXTSPLIT('12.Partner Involvement'!$H727,\";\"))),\"\")","v":""},{"$f":"IF(ISNUMBER(SEARCH(H$206,'12.Partner Involvement'!$H727))=TRUE,(('12.Partner Involvement'!$D727*'12.Partner Involvement'!$E727)/COUNTA(_xlfn.TEXTSPLIT('12.Partner Involvement'!$H727,\";\"))),\"\")","v":""}]
[{"$f":"IF(ISNUMBER(SEARCH(A$206,'12.Partner Involvement'!$G728))=TRUE,(('12.Partner Involvement'!$D728*'12.Partner Involvement'!$E728)/COUNTA(_xlfn.TEXTSPLIT('12.Partner Involvement'!$G728,\";\"))),\"\")","v":""},{"$f":"IF(ISNUMBER(SEARCH(B$206,'12.Partner Involvement'!$G728))=TRUE,(('12.Partner Involvement'!$D728*'12.Partner Involvement'!$E728)/COUNTA(_xlfn.TEXTSPLIT('12.Partner Involvement'!$G728,\";\"))),\"\")","v":""},{"$f":"IF(ISNUMBER(SEARCH(C$206,'12.Partner Involvement'!$G728))=TRUE,(('12.Partner Involvement'!$D728*'12.Partner Involvement'!$E728)/COUNTA(_xlfn.TEXTSPLIT('12.Partner Involvement'!$G728,\";\"))),\"\")","v":""},null,{"$f":"IF(ISNUMBER(SEARCH(E$206,'12.Partner Involvement'!$H728))=TRUE,(('12.Partner Involvement'!$D728*'12.Partner Involvement'!$E728)/COUNTA(_xlfn.TEXTSPLIT('12.Partner Involvement'!$H728,\";\"))),\"\")","v":""},{"$f":"IF(ISNUMBER(SEARCH(F$206,'12.Partner Involvement'!$H728))=TRUE,(('12.Partner Involvement'!$D728*'12.Partner Involvement'!$E728)/COUNTA(_xlfn.TEXTSPLIT('12.Partner Involvement'!$H728,\";\"))),\"\")","v":""},{"$f":"IF(ISNUMBER(SEARCH(G$206,'12.Partner Involvement'!$H728))=TRUE,(('12.Partner Involvement'!$D728*'12.Partner Involvement'!$E728)/COUNTA(_xlfn.TEXTSPLIT('12.Partner Involvement'!$H728,\";\"))),\"\")","v":""},{"$f":"IF(ISNUMBER(SEARCH(H$206,'12.Partner Involvement'!$H728))=TRUE,(('12.Partner Involvement'!$D728*'12.Partner Involvement'!$E728)/COUNTA(_xlfn.TEXTSPLIT('12.Partner Involvement'!$H728,\";\"))),\"\")","v":""}]
[{"$f":"IF(ISNUMBER(SEARCH(A$206,'12.Partner Involvement'!$G729))=TRUE,(('12.Partner Involvement'!$D729*'12.Partner Involvement'!$E729)/COUNTA(_xlfn.TEXTSPLIT('12.Partner Involvement'!$G729,\";\"))),\"\")","v":""},{"$f":"IF(ISNUMBER(SEARCH(B$206,'12.Partner Involvement'!$G729))=TRUE,(('12.Partner Involvement'!$D729*'12.Partner Involvement'!$E729)/COUNTA(_xlfn.TEXTSPLIT('12.Partner Involvement'!$G729,\";\"))),\"\")","v":""},{"$f":"IF(ISNUMBER(SEARCH(C$206,'12.Partner Involvement'!$G729))=TRUE,(('12.Partner Involvement'!$D729*'12.Partner Involvement'!$E729)/COUNTA(_xlfn.TEXTSPLIT('12.Partner Involvement'!$G729,\";\"))),\"\")","v":""},null,{"$f":"IF(ISNUMBER(SEARCH(E$206,'12.Partner Involvement'!$H729))=TRUE,(('12.Partner Involvement'!$D729*'12.Partner Involvement'!$E729)/COUNTA(_xlfn.TEXTSPLIT('12.Partner Involvement'!$H729,\";\"))),\"\")","v":""},{"$f":"IF(ISNUMBER(SEARCH(F$206,'12.Partner Involvement'!$H729))=TRUE,(('12.Partner Involvement'!$D729*'12.Partner Involvement'!$E729)/COUNTA(_xlfn.TEXTSPLIT('12.Partner Involvement'!$H729,\";\"))),\"\")","v":""},{"$f":"IF(ISNUMBER(SEARCH(G$206,'12.Partner Involvement'!$H729))=TRUE,(('12.Partner Involvement'!$D729*'12.Partner Involvement'!$E729)/COUNTA(_xlfn.TEXTSPLIT('12.Partner Involvement'!$H729,\";\"))),\"\")","v":""},{"$f":"IF(ISNUMBER(SEARCH(H$206,'12.Partner Involvement'!$H729))=TRUE,(('12.Partner Involvement'!$D729*'12.Partner Involvement'!$E729)/COUNTA(_xlfn.TEXTSPLIT('12.Partner Involvement'!$H729,\";\"))),\"\")","v":""}]
[{"$f":"IF(ISNUMBER(SEARCH(A$206,'12.Partner Involvement'!$G730))=TRUE,(('12.Partner Involvement'!$D730*'12.Partner Involvement'!$E730)/COUNTA(_xlfn.TEXTSPLIT('12.Partner Involvement'!$G730,\";\"))),\"\")","v":""},{"$f":"IF(ISNUMBER(SEARCH(B$206,'12.Partner Involvement'!$G730))=TRUE,(('12.Partner Involvement'!$D730*'12.Partner Involvement'!$E730)/COUNTA(_xlfn.TEXTSPLIT('12.Partner Involvement'!$G730,\";\"))),\"\")","v":""},{"$f":"IF(ISNUMBER(SEARCH(C$206,'12.Partner Involvement'!$G730))=TRUE,(('12.Partner Involvement'!$D730*'12.Partner Involvement'!$E730)/COUNTA(_xlfn.TEXTSPLIT('12.Partner Involvement'!$G730,\";\"))),\"\")","v":""},null,{"$f":"IF(ISNUMBER(SEARCH(E$206,'12.Partner Involvement'!$H730))=TRUE,(('12.Partner Involvement'!$D730*'12.Partner Involvement'!$E730)/COUNTA(_xlfn.TEXTSPLIT('12.Partner Involvement'!$H730,\";\"))),\"\")","v":""},{"$f":"IF(ISNUMBER(SEARCH(F$206,'12.Partner Involvement'!$H730))=TRUE,(('12.Partner Involvement'!$D730*'12.Partner Involvement'!$E730)/COUNTA(_xlfn.TEXTSPLIT('12.Partner Involvement'!$H730,\";\"))),\"\")","v":""},{"$f":"IF(ISNUMBER(SEARCH(G$206,'12.Partner Involvement'!$H730))=TRUE,(('12.Partner Involvement'!$D730*'12.Partner Involvement'!$E730)/COUNTA(_xlfn.TEXTSPLIT('12.Partner Involvement'!$H730,\";\"))),\"\")","v":""},{"$f":"IF(ISNUMBER(SEARCH(H$206,'12.Partner Involvement'!$H730))=TRUE,(('12.Partner Involvement'!$D730*'12.Partner Involvement'!$E730)/COUNTA(_xlfn.TEXTSPLIT('12.Partner Involvement'!$H730,\";\"))),\"\")","v":""}]
[{"$f":"IF(ISNUMBER(SEARCH(A$206,'12.Partner Involvement'!$G731))=TRUE,(('12.Partner Involvement'!$D731*'12.Partner Involvement'!$E731)/COUNTA(_xlfn.TEXTSPLIT('12.Partner Involvement'!$G731,\";\"))),\"\")","v":""},{"$f":"IF(ISNUMBER(SEARCH(B$206,'12.Partner Involvement'!$G731))=TRUE,(('12.Partner Involvement'!$D731*'12.Partner Involvement'!$E731)/COUNTA(_xlfn.TEXTSPLIT('12.Partner Involvement'!$G731,\";\"))),\"\")","v":""},{"$f":"IF(ISNUMBER(SEARCH(C$206,'12.Partner Involvement'!$G731))=TRUE,(('12.Partner Involvement'!$D731*'12.Partner Involvement'!$E731)/COUNTA(_xlfn.TEXTSPLIT('12.Partner Involvement'!$G731,\";\"))),\"\")","v":""},null,{"$f":"IF(ISNUMBER(SEARCH(E$206,'12.Partner Involvement'!$H731))=TRUE,(('12.Partner Involvement'!$D731*'12.Partner Involvement'!$E731)/COUNTA(_xlfn.TEXTSPLIT('12.Partner Involvement'!$H731,\";\"))),\"\")","v":""},{"$f":"IF(ISNUMBER(SEARCH(F$206,'12.Partner Involvement'!$H731))=TRUE,(('12.Partner Involvement'!$D731*'12.Partner Involvement'!$E731)/COUNTA(_xlfn.TEXTSPLIT('12.Partner Involvement'!$H731,\";\"))),\"\")","v":""},{"$f":"IF(ISNUMBER(SEARCH(G$206,'12.Partner Involvement'!$H731))=TRUE,(('12.Partner Involvement'!$D731*'12.Partner Involvement'!$E731)/COUNTA(_xlfn.TEXTSPLIT('12.Partner Involvement'!$H731,\";\"))),\"\")","v":""},{"$f":"IF(ISNUMBER(SEARCH(H$206,'12.Partner Involvement'!$H731))=TRUE,(('12.Partner Involvement'!$D731*'12.Partner Involvement'!$E731)/COUNTA(_xlfn.TEXTSPLIT('12.Partner Involvement'!$H731,\";\"))),\"\")","v":""}]
[{"$f":"IF(ISNUMBER(SEARCH(A$206,'12.Partner Involvement'!$G732))=TRUE,(('12.Partner Involvement'!$D732*'12.Partner Involvement'!$E732)/COUNTA(_xlfn.TEXTSPLIT('12.Partner Involvement'!$G732,\";\"))),\"\")","v":""},{"$f":"IF(ISNUMBER(SEARCH(B$206,'12.Partner Involvement'!$G732))=TRUE,(('12.Partner Involvement'!$D732*'12.Partner Involvement'!$E732)/COUNTA(_xlfn.TEXTSPLIT('12.Partner Involvement'!$G732,\";\"))),\"\")","v":""},{"$f":"IF(ISNUMBER(SEARCH(C$206,'12.Partner Involvement'!$G732))=TRUE,(('12.Partner Involvement'!$D732*'12.Partner Involvement'!$E732)/COUNTA(_xlfn.TEXTSPLIT('12.Partner Involvement'!$G732,\";\"))),\"\")","v":""},null,{"$f":"IF(ISNUMBER(SEARCH(E$206,'12.Partner Involvement'!$H732))=TRUE,(('12.Partner Involvement'!$D732*'12.Partner Involvement'!$E732)/COUNTA(_xlfn.TEXTSPLIT('12.Partner Involvement'!$H732,\";\"))),\"\")","v":""},{"$f":"IF(ISNUMBER(SEARCH(F$206,'12.Partner Involvement'!$H732))=TRUE,(('12.Partner Involvement'!$D732*'12.Partner Involvement'!$E732)/COUNTA(_xlfn.TEXTSPLIT('12.Partner Involvement'!$H732,\";\"))),\"\")","v":""},{"$f":"IF(ISNUMBER(SEARCH(G$206,'12.Partner Involvement'!$H732))=TRUE,(('12.Partner Involvement'!$D732*'12.Partner Involvement'!$E732)/COUNTA(_xlfn.TEXTSPLIT('12.Partner Involvement'!$H732,\";\"))),\"\")","v":""},{"$f":"IF(ISNUMBER(SEARCH(H$206,'12.Partner Involvement'!$H732))=TRUE,(('12.Partner Involvement'!$D732*'12.Partner Involvement'!$E732)/COUNTA(_xlfn.TEXTSPLIT('12.Partner Involvement'!$H732,\";\"))),\"\")","v":""}]
[{"$f":"IF(ISNUMBER(SEARCH(A$206,'12.Partner Involvement'!$G733))=TRUE,(('12.Partner Involvement'!$D733*'12.Partner Involvement'!$E733)/COUNTA(_xlfn.TEXTSPLIT('12.Partner Involvement'!$G733,\";\"))),\"\")","v":""},{"$f":"IF(ISNUMBER(SEARCH(B$206,'12.Partner Involvement'!$G733))=TRUE,(('12.Partner Involvement'!$D733*'12.Partner Involvement'!$E733)/COUNTA(_xlfn.TEXTSPLIT('12.Partner Involvement'!$G733,\";\"))),\"\")","v":""},{"$f":"IF(ISNUMBER(SEARCH(C$206,'12.Partner Involvement'!$G733))=TRUE,(('12.Partner Involvement'!$D733*'12.Partner Involvement'!$E733)/COUNTA(_xlfn.TEXTSPLIT('12.Partner Involvement'!$G733,\";\"))),\"\")","v":""},null,{"$f":"IF(ISNUMBER(SEARCH(E$206,'12.Partner Involvement'!$H733))=TRUE,(('12.Partner Involvement'!$D733*'12.Partner Involvement'!$E733)/COUNTA(_xlfn.TEXTSPLIT('12.Partner Involvement'!$H733,\";\"))),\"\")","v":""},{"$f":"IF(ISNUMBER(SEARCH(F$206,'12.Partner Involvement'!$H733))=TRUE,(('12.Partner Involvement'!$D733*'12.Partner Involvement'!$E733)/COUNTA(_xlfn.TEXTSPLIT('12.Partner Involvement'!$H733,\";\"))),\"\")","v":""},{"$f":"IF(ISNUMBER(SEARCH(G$206,'12.Partner Involvement'!$H733))=TRUE,(('12.Partner Involvement'!$D733*'12.Partner Involvement'!$E733)/COUNTA(_xlfn.TEXTSPLIT('12.Partner Involvement'!$H733,\";\"))),\"\")","v":""},{"$f":"IF(ISNUMBER(SEARCH(H$206,'12.Partner Involvement'!$H733))=TRUE,(('12.Partner Involvement'!$D733*'12.Partner Involvement'!$E733)/COUNTA(_xlfn.TEXTSPLIT('12.Partner Involvement'!$H733,\";\"))),\"\")","v":""}]
[{"$f":"IF(ISNUMBER(SEARCH(A$206,'12.Partner Involvement'!$G734))=TRUE,(('12.Partner Involvement'!$D734*'12.Partner Involvement'!$E734)/COUNTA(_xlfn.TEXTSPLIT('12.Partner Involvement'!$G734,\";\"))),\"\")","v":""},{"$f":"IF(ISNUMBER(SEARCH(B$206,'12.Partner Involvement'!$G734))=TRUE,(('12.Partner Involvement'!$D734*'12.Partner Involvement'!$E734)/COUNTA(_xlfn.TEXTSPLIT('12.Partner Involvement'!$G734,\";\"))),\"\")","v":""},{"$f":"IF(ISNUMBER(SEARCH(C$206,'12.Partner Involvement'!$G734))=TRUE,(('12.Partner Involvement'!$D734*'12.Partner Involvement'!$E734)/COUNTA(_xlfn.TEXTSPLIT('12.Partner Involvement'!$G734,\";\"))),\"\")","v":""},null,{"$f":"IF(ISNUMBER(SEARCH(E$206,'12.Partner Involvement'!$H734))=TRUE,(('12.Partner Involvement'!$D734*'12.Partner Involvement'!$E734)/COUNTA(_xlfn.TEXTSPLIT('12.Partner Involvement'!$H734,\";\"))),\"\")","v":""},{"$f":"IF(ISNUMBER(SEARCH(F$206,'12.Partner Involvement'!$H734))=TRUE,(('12.Partner Involvement'!$D734*'12.Partner Involvement'!$E734)/COUNTA(_xlfn.TEXTSPLIT('12.Partner Involvement'!$H734,\";\"))),\"\")","v":""},{"$f":"IF(ISNUMBER(SEARCH(G$206,'12.Partner Involvement'!$H734))=TRUE,(('12.Partner Involvement'!$D734*'12.Partner Involvement'!$E734)/COUNTA(_xlfn.TEXTSPLIT('12.Partner Involvement'!$H734,\";\"))),\"\")","v":""},{"$f":"IF(ISNUMBER(SEARCH(H$206,'12.Partner Involvement'!$H734))=TRUE,(('12.Partner Involvement'!$D734*'12.Partner Involvement'!$E734)/COUNTA(_xlfn.TEXTSPLIT('12.Partner Involvement'!$H734,\";\"))),\"\")","v":""}]
[{"$f":"IF(ISNUMBER(SEARCH(A$206,'12.Partner Involvement'!$G735))=TRUE,(('12.Partner Involvement'!$D735*'12.Partner Involvement'!$E735)/COUNTA(_xlfn.TEXTSPLIT('12.Partner Involvement'!$G735,\";\"))),\"\")","v":""},{"$f":"IF(ISNUMBER(SEARCH(B$206,'12.Partner Involvement'!$G735))=TRUE,(('12.Partner Involvement'!$D735*'12.Partner Involvement'!$E735)/COUNTA(_xlfn.TEXTSPLIT('12.Partner Involvement'!$G735,\";\"))),\"\")","v":""},{"$f":"IF(ISNUMBER(SEARCH(C$206,'12.Partner Involvement'!$G735))=TRUE,(('12.Partner Involvement'!$D735*'12.Partner Involvement'!$E735)/COUNTA(_xlfn.TEXTSPLIT('12.Partner Involvement'!$G735,\";\"))),\"\")","v":""},null,{"$f":"IF(ISNUMBER(SEARCH(E$206,'12.Partner Involvement'!$H735))=TRUE,(('12.Partner Involvement'!$D735*'12.Partner Involvement'!$E735)/COUNTA(_xlfn.TEXTSPLIT('12.Partner Involvement'!$H735,\";\"))),\"\")","v":""},{"$f":"IF(ISNUMBER(SEARCH(F$206,'12.Partner Involvement'!$H735))=TRUE,(('12.Partner Involvement'!$D735*'12.Partner Involvement'!$E735)/COUNTA(_xlfn.TEXTSPLIT('12.Partner Involvement'!$H735,\";\"))),\"\")","v":""},{"$f":"IF(ISNUMBER(SEARCH(G$206,'12.Partner Involvement'!$H735))=TRUE,(('12.Partner Involvement'!$D735*'12.Partner Involvement'!$E735)/COUNTA(_xlfn.TEXTSPLIT('12.Partner Involvement'!$H735,\";\"))),\"\")","v":""},{"$f":"IF(ISNUMBER(SEARCH(H$206,'12.Partner Involvement'!$H735))=TRUE,(('12.Partner Involvement'!$D735*'12.Partner Involvement'!$E735)/COUNTA(_xlfn.TEXTSPLIT('12.Partner Involvement'!$H735,\";\"))),\"\")","v":""}]
[{"$f":"IF(ISNUMBER(SEARCH(A$206,'12.Partner Involvement'!$G736))=TRUE,(('12.Partner Involvement'!$D736*'12.Partner Involvement'!$E736)/COUNTA(_xlfn.TEXTSPLIT('12.Partner Involvement'!$G736,\";\"))),\"\")","v":""},{"$f":"IF(ISNUMBER(SEARCH(B$206,'12.Partner Involvement'!$G736))=TRUE,(('12.Partner Involvement'!$D736*'12.Partner Involvement'!$E736)/COUNTA(_xlfn.TEXTSPLIT('12.Partner Involvement'!$G736,\";\"))),\"\")","v":""},{"$f":"IF(ISNUMBER(SEARCH(C$206,'12.Partner Involvement'!$G736))=TRUE,(('12.Partner Involvement'!$D736*'12.Partner Involvement'!$E736)/COUNTA(_xlfn.TEXTSPLIT('12.Partner Involvement'!$G736,\";\"))),\"\")","v":""},null,{"$f":"IF(ISNUMBER(SEARCH(E$206,'12.Partner Involvement'!$H736))=TRUE,(('12.Partner Involvement'!$D736*'12.Partner Involvement'!$E736)/COUNTA(_xlfn.TEXTSPLIT('12.Partner Involvement'!$H736,\";\"))),\"\")","v":""},{"$f":"IF(ISNUMBER(SEARCH(F$206,'12.Partner Involvement'!$H736))=TRUE,(('12.Partner Involvement'!$D736*'12.Partner Involvement'!$E736)/COUNTA(_xlfn.TEXTSPLIT('12.Partner Involvement'!$H736,\";\"))),\"\")","v":""},{"$f":"IF(ISNUMBER(SEARCH(G$206,'12.Partner Involvement'!$H736))=TRUE,(('12.Partner Involvement'!$D736*'12.Partner Involvement'!$E736)/COUNTA(_xlfn.TEXTSPLIT('12.Partner Involvement'!$H736,\";\"))),\"\")","v":""},{"$f":"IF(ISNUMBER(SEARCH(H$206,'12.Partner Involvement'!$H736))=TRUE,(('12.Partner Involvement'!$D736*'12.Partner Involvement'!$E736)/COUNTA(_xlfn.TEXTSPLIT('12.Partner Involvement'!$H736,\";\"))),\"\")","v":""}]
[{"$f":"IF(ISNUMBER(SEARCH(A$206,'12.Partner Involvement'!$G737))=TRUE,(('12.Partner Involvement'!$D737*'12.Partner Involvement'!$E737)/COUNTA(_xlfn.TEXTSPLIT('12.Partner Involvement'!$G737,\";\"))),\"\")","v":""},{"$f":"IF(ISNUMBER(SEARCH(B$206,'12.Partner Involvement'!$G737))=TRUE,(('12.Partner Involvement'!$D737*'12.Partner Involvement'!$E737)/COUNTA(_xlfn.TEXTSPLIT('12.Partner Involvement'!$G737,\";\"))),\"\")","v":""},{"$f":"IF(ISNUMBER(SEARCH(C$206,'12.Partner Involvement'!$G737))=TRUE,(('12.Partner Involvement'!$D737*'12.Partner Involvement'!$E737)/COUNTA(_xlfn.TEXTSPLIT('12.Partner Involvement'!$G737,\";\"))),\"\")","v":""},null,{"$f":"IF(ISNUMBER(SEARCH(E$206,'12.Partner Involvement'!$H737))=TRUE,(('12.Partner Involvement'!$D737*'12.Partner Involvement'!$E737)/COUNTA(_xlfn.TEXTSPLIT('12.Partner Involvement'!$H737,\";\"))),\"\")","v":""},{"$f":"IF(ISNUMBER(SEARCH(F$206,'12.Partner Involvement'!$H737))=TRUE,(('12.Partner Involvement'!$D737*'12.Partner Involvement'!$E737)/COUNTA(_xlfn.TEXTSPLIT('12.Partner Involvement'!$H737,\";\"))),\"\")","v":""},{"$f":"IF(ISNUMBER(SEARCH(G$206,'12.Partner Involvement'!$H737))=TRUE,(('12.Partner Involvement'!$D737*'12.Partner Involvement'!$E737)/COUNTA(_xlfn.TEXTSPLIT('12.Partner Involvement'!$H737,\";\"))),\"\")","v":""},{"$f":"IF(ISNUMBER(SEARCH(H$206,'12.Partner Involvement'!$H737))=TRUE,(('12.Partner Involvement'!$D737*'12.Partner Involvement'!$E737)/COUNTA(_xlfn.TEXTSPLIT('12.Partner Involvement'!$H737,\";\"))),\"\")","v":""}]
[{"$f":"IF(ISNUMBER(SEARCH(A$206,'12.Partner Involvement'!$G738))=TRUE,(('12.Partner Involvement'!$D738*'12.Partner Involvement'!$E738)/COUNTA(_xlfn.TEXTSPLIT('12.Partner Involvement'!$G738,\";\"))),\"\")","v":""},{"$f":"IF(ISNUMBER(SEARCH(B$206,'12.Partner Involvement'!$G738))=TRUE,(('12.Partner Involvement'!$D738*'12.Partner Involvement'!$E738)/COUNTA(_xlfn.TEXTSPLIT('12.Partner Involvement'!$G738,\";\"))),\"\")","v":""},{"$f":"IF(ISNUMBER(SEARCH(C$206,'12.Partner Involvement'!$G738))=TRUE,(('12.Partner Involvement'!$D738*'12.Partner Involvement'!$E738)/COUNTA(_xlfn.TEXTSPLIT('12.Partner Involvement'!$G738,\";\"))),\"\")","v":""},null,{"$f":"IF(ISNUMBER(SEARCH(E$206,'12.Partner Involvement'!$H738))=TRUE,(('12.Partner Involvement'!$D738*'12.Partner Involvement'!$E738)/COUNTA(_xlfn.TEXTSPLIT('12.Partner Involvement'!$H738,\";\"))),\"\")","v":""},{"$f":"IF(ISNUMBER(SEARCH(F$206,'12.Partner Involvement'!$H738))=TRUE,(('12.Partner Involvement'!$D738*'12.Partner Involvement'!$E738)/COUNTA(_xlfn.TEXTSPLIT('12.Partner Involvement'!$H738,\";\"))),\"\")","v":""},{"$f":"IF(ISNUMBER(SEARCH(G$206,'12.Partner Involvement'!$H738))=TRUE,(('12.Partner Involvement'!$D738*'12.Partner Involvement'!$E738)/COUNTA(_xlfn.TEXTSPLIT('12.Partner Involvement'!$H738,\";\"))),\"\")","v":""},{"$f":"IF(ISNUMBER(SEARCH(H$206,'12.Partner Involvement'!$H738))=TRUE,(('12.Partner Involvement'!$D738*'12.Partner Involvement'!$E738)/COUNTA(_xlfn.TEXTSPLIT('12.Partner Involvement'!$H738,\";\"))),\"\")","v":""}]
[{"$f":"IF(ISNUMBER(SEARCH(A$206,'12.Partner Involvement'!$G739))=TRUE,(('12.Partner Involvement'!$D739*'12.Partner Involvement'!$E739)/COUNTA(_xlfn.TEXTSPLIT('12.Partner Involvement'!$G739,\";\"))),\"\")","v":""},{"$f":"IF(ISNUMBER(SEARCH(B$206,'12.Partner Involvement'!$G739))=TRUE,(('12.Partner Involvement'!$D739*'12.Partner Involvement'!$E739)/COUNTA(_xlfn.TEXTSPLIT('12.Partner Involvement'!$G739,\";\"))),\"\")","v":""},{"$f":"IF(ISNUMBER(SEARCH(C$206,'12.Partner Involvement'!$G739))=TRUE,(('12.Partner Involvement'!$D739*'12.Partner Involvement'!$E739)/COUNTA(_xlfn.TEXTSPLIT('12.Partner Involvement'!$G739,\";\"))),\"\")","v":""},null,{"$f":"IF(ISNUMBER(SEARCH(E$206,'12.Partner Involvement'!$H739))=TRUE,(('12.Partner Involvement'!$D739*'12.Partner Involvement'!$E739)/COUNTA(_xlfn.TEXTSPLIT('12.Partner Involvement'!$H739,\";\"))),\"\")","v":""},{"$f":"IF(ISNUMBER(SEARCH(F$206,'12.Partner Involvement'!$H739))=TRUE,(('12.Partner Involvement'!$D739*'12.Partner Involvement'!$E739)/COUNTA(_xlfn.TEXTSPLIT('12.Partner Involvement'!$H739,\";\"))),\"\")","v":""},{"$f":"IF(ISNUMBER(SEARCH(G$206,'12.Partner Involvement'!$H739))=TRUE,(('12.Partner Involvement'!$D739*'12.Partner Involvement'!$E739)/COUNTA(_xlfn.TEXTSPLIT('12.Partner Involvement'!$H739,\";\"))),\"\")","v":""},{"$f":"IF(ISNUMBER(SEARCH(H$206,'12.Partner Involvement'!$H739))=TRUE,(('12.Partner Involvement'!$D739*'12.Partner Involvement'!$E739)/COUNTA(_xlfn.TEXTSPLIT('12.Partner Involvement'!$H739,\";\"))),\"\")","v":""}]
[{"$f":"IF(ISNUMBER(SEARCH(A$206,'12.Partner Involvement'!$G740))=TRUE,(('12.Partner Involvement'!$D740*'12.Partner Involvement'!$E740)/COUNTA(_xlfn.TEXTSPLIT('12.Partner Involvement'!$G740,\";\"))),\"\")","v":""},{"$f":"IF(ISNUMBER(SEARCH(B$206,'12.Partner Involvement'!$G740))=TRUE,(('12.Partner Involvement'!$D740*'12.Partner Involvement'!$E740)/COUNTA(_xlfn.TEXTSPLIT('12.Partner Involvement'!$G740,\";\"))),\"\")","v":""},{"$f":"IF(ISNUMBER(SEARCH(C$206,'12.Partner Involvement'!$G740))=TRUE,(('12.Partner Involvement'!$D740*'12.Partner Involvement'!$E740)/COUNTA(_xlfn.TEXTSPLIT('12.Partner Involvement'!$G740,\";\"))),\"\")","v":""},null,{"$f":"IF(ISNUMBER(SEARCH(E$206,'12.Partner Involvement'!$H740))=TRUE,(('12.Partner Involvement'!$D740*'12.Partner Involvement'!$E740)/COUNTA(_xlfn.TEXTSPLIT('12.Partner Involvement'!$H740,\";\"))),\"\")","v":""},{"$f":"IF(ISNUMBER(SEARCH(F$206,'12.Partner Involvement'!$H740))=TRUE,(('12.Partner Involvement'!$D740*'12.Partner Involvement'!$E740)/COUNTA(_xlfn.TEXTSPLIT('12.Partner Involvement'!$H740,\";\"))),\"\")","v":""},{"$f":"IF(ISNUMBER(SEARCH(G$206,'12.Partner Involvement'!$H740))=TRUE,(('12.Partner Involvement'!$D740*'12.Partner Involvement'!$E740)/COUNTA(_xlfn.TEXTSPLIT('12.Partner Involvement'!$H740,\";\"))),\"\")","v":""},{"$f":"IF(ISNUMBER(SEARCH(H$206,'12.Partner Involvement'!$H740))=TRUE,(('12.Partner Involvement'!$D740*'12.Partner Involvement'!$E740)/COUNTA(_xlfn.TEXTSPLIT('12.Partner Involvement'!$H740,\";\"))),\"\")","v":""}]
[{"$f":"IF(ISNUMBER(SEARCH(A$206,'12.Partner Involvement'!$G741))=TRUE,(('12.Partner Involvement'!$D741*'12.Partner Involvement'!$E741)/COUNTA(_xlfn.TEXTSPLIT('12.Partner Involvement'!$G741,\";\"))),\"\")","v":""},{"$f":"IF(ISNUMBER(SEARCH(B$206,'12.Partner Involvement'!$G741))=TRUE,(('12.Partner Involvement'!$D741*'12.Partner Involvement'!$E741)/COUNTA(_xlfn.TEXTSPLIT('12.Partner Involvement'!$G741,\";\"))),\"\")","v":""},{"$f":"IF(ISNUMBER(SEARCH(C$206,'12.Partner Involvement'!$G741))=TRUE,(('12.Partner Involvement'!$D741*'12.Partner Involvement'!$E741)/COUNTA(_xlfn.TEXTSPLIT('12.Partner Involvement'!$G741,\";\"))),\"\")","v":""},null,{"$f":"IF(ISNUMBER(SEARCH(E$206,'12.Partner Involvement'!$H741))=TRUE,(('12.Partner Involvement'!$D741*'12.Partner Involvement'!$E741)/COUNTA(_xlfn.TEXTSPLIT('12.Partner Involvement'!$H741,\";\"))),\"\")","v":""},{"$f":"IF(ISNUMBER(SEARCH(F$206,'12.Partner Involvement'!$H741))=TRUE,(('12.Partner Involvement'!$D741*'12.Partner Involvement'!$E741)/COUNTA(_xlfn.TEXTSPLIT('12.Partner Involvement'!$H741,\";\"))),\"\")","v":""},{"$f":"IF(ISNUMBER(SEARCH(G$206,'12.Partner Involvement'!$H741))=TRUE,(('12.Partner Involvement'!$D741*'12.Partner Involvement'!$E741)/COUNTA(_xlfn.TEXTSPLIT('12.Partner Involvement'!$H741,\";\"))),\"\")","v":""},{"$f":"IF(ISNUMBER(SEARCH(H$206,'12.Partner Involvement'!$H741))=TRUE,(('12.Partner Involvement'!$D741*'12.Partner Involvement'!$E741)/COUNTA(_xlfn.TEXTSPLIT('12.Partner Involvement'!$H741,\";\"))),\"\")","v":""}]
[{"$f":"IF(ISNUMBER(SEARCH(A$206,'12.Partner Involvement'!$G742))=TRUE,(('12.Partner Involvement'!$D742*'12.Partner Involvement'!$E742)/COUNTA(_xlfn.TEXTSPLIT('12.Partner Involvement'!$G742,\";\"))),\"\")","v":""},{"$f":"IF(ISNUMBER(SEARCH(B$206,'12.Partner Involvement'!$G742))=TRUE,(('12.Partner Involvement'!$D742*'12.Partner Involvement'!$E742)/COUNTA(_xlfn.TEXTSPLIT('12.Partner Involvement'!$G742,\";\"))),\"\")","v":""},{"$f":"IF(ISNUMBER(SEARCH(C$206,'12.Partner Involvement'!$G742))=TRUE,(('12.Partner Involvement'!$D742*'12.Partner Involvement'!$E742)/COUNTA(_xlfn.TEXTSPLIT('12.Partner Involvement'!$G742,\";\"))),\"\")","v":""},null,{"$f":"IF(ISNUMBER(SEARCH(E$206,'12.Partner Involvement'!$H742))=TRUE,(('12.Partner Involvement'!$D742*'12.Partner Involvement'!$E742)/COUNTA(_xlfn.TEXTSPLIT('12.Partner Involvement'!$H742,\";\"))),\"\")","v":""},{"$f":"IF(ISNUMBER(SEARCH(F$206,'12.Partner Involvement'!$H742))=TRUE,(('12.Partner Involvement'!$D742*'12.Partner Involvement'!$E742)/COUNTA(_xlfn.TEXTSPLIT('12.Partner Involvement'!$H742,\";\"))),\"\")","v":""},{"$f":"IF(ISNUMBER(SEARCH(G$206,'12.Partner Involvement'!$H742))=TRUE,(('12.Partner Involvement'!$D742*'12.Partner Involvement'!$E742)/COUNTA(_xlfn.TEXTSPLIT('12.Partner Involvement'!$H742,\";\"))),\"\")","v":""},{"$f":"IF(ISNUMBER(SEARCH(H$206,'12.Partner Involvement'!$H742))=TRUE,(('12.Partner Involvement'!$D742*'12.Partner Involvement'!$E742)/COUNTA(_xlfn.TEXTSPLIT('12.Partner Involvement'!$H742,\";\"))),\"\")","v":""}]
[{"$f":"IF(ISNUMBER(SEARCH(A$206,'12.Partner Involvement'!$G743))=TRUE,(('12.Partner Involvement'!$D743*'12.Partner Involvement'!$E743)/COUNTA(_xlfn.TEXTSPLIT('12.Partner Involvement'!$G743,\";\"))),\"\")","v":""},{"$f":"IF(ISNUMBER(SEARCH(B$206,'12.Partner Involvement'!$G743))=TRUE,(('12.Partner Involvement'!$D743*'12.Partner Involvement'!$E743)/COUNTA(_xlfn.TEXTSPLIT('12.Partner Involvement'!$G743,\";\"))),\"\")","v":""},{"$f":"IF(ISNUMBER(SEARCH(C$206,'12.Partner Involvement'!$G743))=TRUE,(('12.Partner Involvement'!$D743*'12.Partner Involvement'!$E743)/COUNTA(_xlfn.TEXTSPLIT('12.Partner Involvement'!$G743,\";\"))),\"\")","v":""},null,{"$f":"IF(ISNUMBER(SEARCH(E$206,'12.Partner Involvement'!$H743))=TRUE,(('12.Partner Involvement'!$D743*'12.Partner Involvement'!$E743)/COUNTA(_xlfn.TEXTSPLIT('12.Partner Involvement'!$H743,\";\"))),\"\")","v":""},{"$f":"IF(ISNUMBER(SEARCH(F$206,'12.Partner Involvement'!$H743))=TRUE,(('12.Partner Involvement'!$D743*'12.Partner Involvement'!$E743)/COUNTA(_xlfn.TEXTSPLIT('12.Partner Involvement'!$H743,\";\"))),\"\")","v":""},{"$f":"IF(ISNUMBER(SEARCH(G$206,'12.Partner Involvement'!$H743))=TRUE,(('12.Partner Involvement'!$D743*'12.Partner Involvement'!$E743)/COUNTA(_xlfn.TEXTSPLIT('12.Partner Involvement'!$H743,\";\"))),\"\")","v":""},{"$f":"IF(ISNUMBER(SEARCH(H$206,'12.Partner Involvement'!$H743))=TRUE,(('12.Partner Involvement'!$D743*'12.Partner Involvement'!$E743)/COUNTA(_xlfn.TEXTSPLIT('12.Partner Involvement'!$H743,\";\"))),\"\")","v":""}]
[{"$f":"IF(ISNUMBER(SEARCH(A$206,'12.Partner Involvement'!$G744))=TRUE,(('12.Partner Involvement'!$D744*'12.Partner Involvement'!$E744)/COUNTA(_xlfn.TEXTSPLIT('12.Partner Involvement'!$G744,\";\"))),\"\")","v":""},{"$f":"IF(ISNUMBER(SEARCH(B$206,'12.Partner Involvement'!$G744))=TRUE,(('12.Partner Involvement'!$D744*'12.Partner Involvement'!$E744)/COUNTA(_xlfn.TEXTSPLIT('12.Partner Involvement'!$G744,\";\"))),\"\")","v":""},{"$f":"IF(ISNUMBER(SEARCH(C$206,'12.Partner Involvement'!$G744))=TRUE,(('12.Partner Involvement'!$D744*'12.Partner Involvement'!$E744)/COUNTA(_xlfn.TEXTSPLIT('12.Partner Involvement'!$G744,\";\"))),\"\")","v":""},null,{"$f":"IF(ISNUMBER(SEARCH(E$206,'12.Partner Involvement'!$H744))=TRUE,(('12.Partner Involvement'!$D744*'12.Partner Involvement'!$E744)/COUNTA(_xlfn.TEXTSPLIT('12.Partner Involvement'!$H744,\";\"))),\"\")","v":""},{"$f":"IF(ISNUMBER(SEARCH(F$206,'12.Partner Involvement'!$H744))=TRUE,(('12.Partner Involvement'!$D744*'12.Partner Involvement'!$E744)/COUNTA(_xlfn.TEXTSPLIT('12.Partner Involvement'!$H744,\";\"))),\"\")","v":""},{"$f":"IF(ISNUMBER(SEARCH(G$206,'12.Partner Involvement'!$H744))=TRUE,(('12.Partner Involvement'!$D744*'12.Partner Involvement'!$E744)/COUNTA(_xlfn.TEXTSPLIT('12.Partner Involvement'!$H744,\";\"))),\"\")","v":""},{"$f":"IF(ISNUMBER(SEARCH(H$206,'12.Partner Involvement'!$H744))=TRUE,(('12.Partner Involvement'!$D744*'12.Partner Involvement'!$E744)/COUNTA(_xlfn.TEXTSPLIT('12.Partner Involvement'!$H744,\";\"))),\"\")","v":""}]
[{"$f":"IF(ISNUMBER(SEARCH(A$206,'12.Partner Involvement'!$G745))=TRUE,(('12.Partner Involvement'!$D745*'12.Partner Involvement'!$E745)/COUNTA(_xlfn.TEXTSPLIT('12.Partner Involvement'!$G745,\";\"))),\"\")","v":""},{"$f":"IF(ISNUMBER(SEARCH(B$206,'12.Partner Involvement'!$G745))=TRUE,(('12.Partner Involvement'!$D745*'12.Partner Involvement'!$E745)/COUNTA(_xlfn.TEXTSPLIT('12.Partner Involvement'!$G745,\";\"))),\"\")","v":""},{"$f":"IF(ISNUMBER(SEARCH(C$206,'12.Partner Involvement'!$G745))=TRUE,(('12.Partner Involvement'!$D745*'12.Partner Involvement'!$E745)/COUNTA(_xlfn.TEXTSPLIT('12.Partner Involvement'!$G745,\";\"))),\"\")","v":""},null,{"$f":"IF(ISNUMBER(SEARCH(E$206,'12.Partner Involvement'!$H745))=TRUE,(('12.Partner Involvement'!$D745*'12.Partner Involvement'!$E745)/COUNTA(_xlfn.TEXTSPLIT('12.Partner Involvement'!$H745,\";\"))),\"\")","v":""},{"$f":"IF(ISNUMBER(SEARCH(F$206,'12.Partner Involvement'!$H745))=TRUE,(('12.Partner Involvement'!$D745*'12.Partner Involvement'!$E745)/COUNTA(_xlfn.TEXTSPLIT('12.Partner Involvement'!$H745,\";\"))),\"\")","v":""},{"$f":"IF(ISNUMBER(SEARCH(G$206,'12.Partner Involvement'!$H745))=TRUE,(('12.Partner Involvement'!$D745*'12.Partner Involvement'!$E745)/COUNTA(_xlfn.TEXTSPLIT('12.Partner Involvement'!$H745,\";\"))),\"\")","v":""},{"$f":"IF(ISNUMBER(SEARCH(H$206,'12.Partner Involvement'!$H745))=TRUE,(('12.Partner Involvement'!$D745*'12.Partner Involvement'!$E745)/COUNTA(_xlfn.TEXTSPLIT('12.Partner Involvement'!$H745,\";\"))),\"\")","v":""}]
[{"$f":"IF(ISNUMBER(SEARCH(A$206,'12.Partner Involvement'!$G746))=TRUE,(('12.Partner Involvement'!$D746*'12.Partner Involvement'!$E746)/COUNTA(_xlfn.TEXTSPLIT('12.Partner Involvement'!$G746,\";\"))),\"\")","v":""},{"$f":"IF(ISNUMBER(SEARCH(B$206,'12.Partner Involvement'!$G746))=TRUE,(('12.Partner Involvement'!$D746*'12.Partner Involvement'!$E746)/COUNTA(_xlfn.TEXTSPLIT('12.Partner Involvement'!$G746,\";\"))),\"\")","v":""},{"$f":"IF(ISNUMBER(SEARCH(C$206,'12.Partner Involvement'!$G746))=TRUE,(('12.Partner Involvement'!$D746*'12.Partner Involvement'!$E746)/COUNTA(_xlfn.TEXTSPLIT('12.Partner Involvement'!$G746,\";\"))),\"\")","v":""},null,{"$f":"IF(ISNUMBER(SEARCH(E$206,'12.Partner Involvement'!$H746))=TRUE,(('12.Partner Involvement'!$D746*'12.Partner Involvement'!$E746)/COUNTA(_xlfn.TEXTSPLIT('12.Partner Involvement'!$H746,\";\"))),\"\")","v":""},{"$f":"IF(ISNUMBER(SEARCH(F$206,'12.Partner Involvement'!$H746))=TRUE,(('12.Partner Involvement'!$D746*'12.Partner Involvement'!$E746)/COUNTA(_xlfn.TEXTSPLIT('12.Partner Involvement'!$H746,\";\"))),\"\")","v":""},{"$f":"IF(ISNUMBER(SEARCH(G$206,'12.Partner Involvement'!$H746))=TRUE,(('12.Partner Involvement'!$D746*'12.Partner Involvement'!$E746)/COUNTA(_xlfn.TEXTSPLIT('12.Partner Involvement'!$H746,\";\"))),\"\")","v":""},{"$f":"IF(ISNUMBER(SEARCH(H$206,'12.Partner Involvement'!$H746))=TRUE,(('12.Partner Involvement'!$D746*'12.Partner Involvement'!$E746)/COUNTA(_xlfn.TEXTSPLIT('12.Partner Involvement'!$H746,\";\"))),\"\")","v":""}]
[{"$f":"IF(ISNUMBER(SEARCH(A$206,'12.Partner Involvement'!$G747))=TRUE,(('12.Partner Involvement'!$D747*'12.Partner Involvement'!$E747)/COUNTA(_xlfn.TEXTSPLIT('12.Partner Involvement'!$G747,\";\"))),\"\")","v":""},{"$f":"IF(ISNUMBER(SEARCH(B$206,'12.Partner Involvement'!$G747))=TRUE,(('12.Partner Involvement'!$D747*'12.Partner Involvement'!$E747)/COUNTA(_xlfn.TEXTSPLIT('12.Partner Involvement'!$G747,\";\"))),\"\")","v":""},{"$f":"IF(ISNUMBER(SEARCH(C$206,'12.Partner Involvement'!$G747))=TRUE,(('12.Partner Involvement'!$D747*'12.Partner Involvement'!$E747)/COUNTA(_xlfn.TEXTSPLIT('12.Partner Involvement'!$G747,\";\"))),\"\")","v":""},null,{"$f":"IF(ISNUMBER(SEARCH(E$206,'12.Partner Involvement'!$H747))=TRUE,(('12.Partner Involvement'!$D747*'12.Partner Involvement'!$E747)/COUNTA(_xlfn.TEXTSPLIT('12.Partner Involvement'!$H747,\";\"))),\"\")","v":""},{"$f":"IF(ISNUMBER(SEARCH(F$206,'12.Partner Involvement'!$H747))=TRUE,(('12.Partner Involvement'!$D747*'12.Partner Involvement'!$E747)/COUNTA(_xlfn.TEXTSPLIT('12.Partner Involvement'!$H747,\";\"))),\"\")","v":""},{"$f":"IF(ISNUMBER(SEARCH(G$206,'12.Partner Involvement'!$H747))=TRUE,(('12.Partner Involvement'!$D747*'12.Partner Involvement'!$E747)/COUNTA(_xlfn.TEXTSPLIT('12.Partner Involvement'!$H747,\";\"))),\"\")","v":""},{"$f":"IF(ISNUMBER(SEARCH(H$206,'12.Partner Involvement'!$H747))=TRUE,(('12.Partner Involvement'!$D747*'12.Partner Involvement'!$E747)/COUNTA(_xlfn.TEXTSPLIT('12.Partner Involvement'!$H747,\";\"))),\"\")","v":""}]
[{"$f":"IF(ISNUMBER(SEARCH(A$206,'12.Partner Involvement'!$G748))=TRUE,(('12.Partner Involvement'!$D748*'12.Partner Involvement'!$E748)/COUNTA(_xlfn.TEXTSPLIT('12.Partner Involvement'!$G748,\";\"))),\"\")","v":""},{"$f":"IF(ISNUMBER(SEARCH(B$206,'12.Partner Involvement'!$G748))=TRUE,(('12.Partner Involvement'!$D748*'12.Partner Involvement'!$E748)/COUNTA(_xlfn.TEXTSPLIT('12.Partner Involvement'!$G748,\";\"))),\"\")","v":""},{"$f":"IF(ISNUMBER(SEARCH(C$206,'12.Partner Involvement'!$G748))=TRUE,(('12.Partner Involvement'!$D748*'12.Partner Involvement'!$E748)/COUNTA(_xlfn.TEXTSPLIT('12.Partner Involvement'!$G748,\";\"))),\"\")","v":""},null,{"$f":"IF(ISNUMBER(SEARCH(E$206,'12.Partner Involvement'!$H748))=TRUE,(('12.Partner Involvement'!$D748*'12.Partner Involvement'!$E748)/COUNTA(_xlfn.TEXTSPLIT('12.Partner Involvement'!$H748,\";\"))),\"\")","v":""},{"$f":"IF(ISNUMBER(SEARCH(F$206,'12.Partner Involvement'!$H748))=TRUE,(('12.Partner Involvement'!$D748*'12.Partner Involvement'!$E748)/COUNTA(_xlfn.TEXTSPLIT('12.Partner Involvement'!$H748,\";\"))),\"\")","v":""},{"$f":"IF(ISNUMBER(SEARCH(G$206,'12.Partner Involvement'!$H748))=TRUE,(('12.Partner Involvement'!$D748*'12.Partner Involvement'!$E748)/COUNTA(_xlfn.TEXTSPLIT('12.Partner Involvement'!$H748,\";\"))),\"\")","v":""},{"$f":"IF(ISNUMBER(SEARCH(H$206,'12.Partner Involvement'!$H748))=TRUE,(('12.Partner Involvement'!$D748*'12.Partner Involvement'!$E748)/COUNTA(_xlfn.TEXTSPLIT('12.Partner Involvement'!$H748,\";\"))),\"\")","v":""}]
[{"$f":"IF(ISNUMBER(SEARCH(A$206,'12.Partner Involvement'!$G749))=TRUE,(('12.Partner Involvement'!$D749*'12.Partner Involvement'!$E749)/COUNTA(_xlfn.TEXTSPLIT('12.Partner Involvement'!$G749,\";\"))),\"\")","v":""},{"$f":"IF(ISNUMBER(SEARCH(B$206,'12.Partner Involvement'!$G749))=TRUE,(('12.Partner Involvement'!$D749*'12.Partner Involvement'!$E749)/COUNTA(_xlfn.TEXTSPLIT('12.Partner Involvement'!$G749,\";\"))),\"\")","v":""},{"$f":"IF(ISNUMBER(SEARCH(C$206,'12.Partner Involvement'!$G749))=TRUE,(('12.Partner Involvement'!$D749*'12.Partner Involvement'!$E749)/COUNTA(_xlfn.TEXTSPLIT('12.Partner Involvement'!$G749,\";\"))),\"\")","v":""},null,{"$f":"IF(ISNUMBER(SEARCH(E$206,'12.Partner Involvement'!$H749))=TRUE,(('12.Partner Involvement'!$D749*'12.Partner Involvement'!$E749)/COUNTA(_xlfn.TEXTSPLIT('12.Partner Involvement'!$H749,\";\"))),\"\")","v":""},{"$f":"IF(ISNUMBER(SEARCH(F$206,'12.Partner Involvement'!$H749))=TRUE,(('12.Partner Involvement'!$D749*'12.Partner Involvement'!$E749)/COUNTA(_xlfn.TEXTSPLIT('12.Partner Involvement'!$H749,\";\"))),\"\")","v":""},{"$f":"IF(ISNUMBER(SEARCH(G$206,'12.Partner Involvement'!$H749))=TRUE,(('12.Partner Involvement'!$D749*'12.Partner Involvement'!$E749)/COUNTA(_xlfn.TEXTSPLIT('12.Partner Involvement'!$H749,\";\"))),\"\")","v":""},{"$f":"IF(ISNUMBER(SEARCH(H$206,'12.Partner Involvement'!$H749))=TRUE,(('12.Partner Involvement'!$D749*'12.Partner Involvement'!$E749)/COUNTA(_xlfn.TEXTSPLIT('12.Partner Involvement'!$H749,\";\"))),\"\")","v":""}]
[{"$f":"IF(ISNUMBER(SEARCH(A$206,'12.Partner Involvement'!$G750))=TRUE,(('12.Partner Involvement'!$D750*'12.Partner Involvement'!$E750)/COUNTA(_xlfn.TEXTSPLIT('12.Partner Involvement'!$G750,\";\"))),\"\")","v":""},{"$f":"IF(ISNUMBER(SEARCH(B$206,'12.Partner Involvement'!$G750))=TRUE,(('12.Partner Involvement'!$D750*'12.Partner Involvement'!$E750)/COUNTA(_xlfn.TEXTSPLIT('12.Partner Involvement'!$G750,\";\"))),\"\")","v":""},{"$f":"IF(ISNUMBER(SEARCH(C$206,'12.Partner Involvement'!$G750))=TRUE,(('12.Partner Involvement'!$D750*'12.Partner Involvement'!$E750)/COUNTA(_xlfn.TEXTSPLIT('12.Partner Involvement'!$G750,\";\"))),\"\")","v":""},null,{"$f":"IF(ISNUMBER(SEARCH(E$206,'12.Partner Involvement'!$H750))=TRUE,(('12.Partner Involvement'!$D750*'12.Partner Involvement'!$E750)/COUNTA(_xlfn.TEXTSPLIT('12.Partner Involvement'!$H750,\";\"))),\"\")","v":""},{"$f":"IF(ISNUMBER(SEARCH(F$206,'12.Partner Involvement'!$H750))=TRUE,(('12.Partner Involvement'!$D750*'12.Partner Involvement'!$E750)/COUNTA(_xlfn.TEXTSPLIT('12.Partner Involvement'!$H750,\";\"))),\"\")","v":""},{"$f":"IF(ISNUMBER(SEARCH(G$206,'12.Partner Involvement'!$H750))=TRUE,(('12.Partner Involvement'!$D750*'12.Partner Involvement'!$E750)/COUNTA(_xlfn.TEXTSPLIT('12.Partner Involvement'!$H750,\";\"))),\"\")","v":""},{"$f":"IF(ISNUMBER(SEARCH(H$206,'12.Partner Involvement'!$H750))=TRUE,(('12.Partner Involvement'!$D750*'12.Partner Involvement'!$E750)/COUNTA(_xlfn.TEXTSPLIT('12.Partner Involvement'!$H750,\";\"))),\"\")","v":""}]
[{"$f":"IF(ISNUMBER(SEARCH(A$206,'12.Partner Involvement'!$G751))=TRUE,(('12.Partner Involvement'!$D751*'12.Partner Involvement'!$E751)/COUNTA(_xlfn.TEXTSPLIT('12.Partner Involvement'!$G751,\";\"))),\"\")","v":""},{"$f":"IF(ISNUMBER(SEARCH(B$206,'12.Partner Involvement'!$G751))=TRUE,(('12.Partner Involvement'!$D751*'12.Partner Involvement'!$E751)/COUNTA(_xlfn.TEXTSPLIT('12.Partner Involvement'!$G751,\";\"))),\"\")","v":""},{"$f":"IF(ISNUMBER(SEARCH(C$206,'12.Partner Involvement'!$G751))=TRUE,(('12.Partner Involvement'!$D751*'12.Partner Involvement'!$E751)/COUNTA(_xlfn.TEXTSPLIT('12.Partner Involvement'!$G751,\";\"))),\"\")","v":""},null,{"$f":"IF(ISNUMBER(SEARCH(E$206,'12.Partner Involvement'!$H751))=TRUE,(('12.Partner Involvement'!$D751*'12.Partner Involvement'!$E751)/COUNTA(_xlfn.TEXTSPLIT('12.Partner Involvement'!$H751,\";\"))),\"\")","v":""},{"$f":"IF(ISNUMBER(SEARCH(F$206,'12.Partner Involvement'!$H751))=TRUE,(('12.Partner Involvement'!$D751*'12.Partner Involvement'!$E751)/COUNTA(_xlfn.TEXTSPLIT('12.Partner Involvement'!$H751,\";\"))),\"\")","v":""},{"$f":"IF(ISNUMBER(SEARCH(G$206,'12.Partner Involvement'!$H751))=TRUE,(('12.Partner Involvement'!$D751*'12.Partner Involvement'!$E751)/COUNTA(_xlfn.TEXTSPLIT('12.Partner Involvement'!$H751,\";\"))),\"\")","v":""},{"$f":"IF(ISNUMBER(SEARCH(H$206,'12.Partner Involvement'!$H751))=TRUE,(('12.Partner Involvement'!$D751*'12.Partner Involvement'!$E751)/COUNTA(_xlfn.TEXTSPLIT('12.Partner Involvement'!$H751,\";\"))),\"\")","v":""}]
[{"$f":"IF(ISNUMBER(SEARCH(A$206,'12.Partner Involvement'!$G752))=TRUE,(('12.Partner Involvement'!$D752*'12.Partner Involvement'!$E752)/COUNTA(_xlfn.TEXTSPLIT('12.Partner Involvement'!$G752,\";\"))),\"\")","v":""},{"$f":"IF(ISNUMBER(SEARCH(B$206,'12.Partner Involvement'!$G752))=TRUE,(('12.Partner Involvement'!$D752*'12.Partner Involvement'!$E752)/COUNTA(_xlfn.TEXTSPLIT('12.Partner Involvement'!$G752,\";\"))),\"\")","v":""},{"$f":"IF(ISNUMBER(SEARCH(C$206,'12.Partner Involvement'!$G752))=TRUE,(('12.Partner Involvement'!$D752*'12.Partner Involvement'!$E752)/COUNTA(_xlfn.TEXTSPLIT('12.Partner Involvement'!$G752,\";\"))),\"\")","v":""},null,{"$f":"IF(ISNUMBER(SEARCH(E$206,'12.Partner Involvement'!$H752))=TRUE,(('12.Partner Involvement'!$D752*'12.Partner Involvement'!$E752)/COUNTA(_xlfn.TEXTSPLIT('12.Partner Involvement'!$H752,\";\"))),\"\")","v":""},{"$f":"IF(ISNUMBER(SEARCH(F$206,'12.Partner Involvement'!$H752))=TRUE,(('12.Partner Involvement'!$D752*'12.Partner Involvement'!$E752)/COUNTA(_xlfn.TEXTSPLIT('12.Partner Involvement'!$H752,\";\"))),\"\")","v":""},{"$f":"IF(ISNUMBER(SEARCH(G$206,'12.Partner Involvement'!$H752))=TRUE,(('12.Partner Involvement'!$D752*'12.Partner Involvement'!$E752)/COUNTA(_xlfn.TEXTSPLIT('12.Partner Involvement'!$H752,\";\"))),\"\")","v":""},{"$f":"IF(ISNUMBER(SEARCH(H$206,'12.Partner Involvement'!$H752))=TRUE,(('12.Partner Involvement'!$D752*'12.Partner Involvement'!$E752)/COUNTA(_xlfn.TEXTSPLIT('12.Partner Involvement'!$H752,\";\"))),\"\")","v":""}]
[{"$f":"IF(ISNUMBER(SEARCH(A$206,'12.Partner Involvement'!$G753))=TRUE,(('12.Partner Involvement'!$D753*'12.Partner Involvement'!$E753)/COUNTA(_xlfn.TEXTSPLIT('12.Partner Involvement'!$G753,\";\"))),\"\")","v":""},{"$f":"IF(ISNUMBER(SEARCH(B$206,'12.Partner Involvement'!$G753))=TRUE,(('12.Partner Involvement'!$D753*'12.Partner Involvement'!$E753)/COUNTA(_xlfn.TEXTSPLIT('12.Partner Involvement'!$G753,\";\"))),\"\")","v":""},{"$f":"IF(ISNUMBER(SEARCH(C$206,'12.Partner Involvement'!$G753))=TRUE,(('12.Partner Involvement'!$D753*'12.Partner Involvement'!$E753)/COUNTA(_xlfn.TEXTSPLIT('12.Partner Involvement'!$G753,\";\"))),\"\")","v":""},null,{"$f":"IF(ISNUMBER(SEARCH(E$206,'12.Partner Involvement'!$H753))=TRUE,(('12.Partner Involvement'!$D753*'12.Partner Involvement'!$E753)/COUNTA(_xlfn.TEXTSPLIT('12.Partner Involvement'!$H753,\";\"))),\"\")","v":""},{"$f":"IF(ISNUMBER(SEARCH(F$206,'12.Partner Involvement'!$H753))=TRUE,(('12.Partner Involvement'!$D753*'12.Partner Involvement'!$E753)/COUNTA(_xlfn.TEXTSPLIT('12.Partner Involvement'!$H753,\";\"))),\"\")","v":""},{"$f":"IF(ISNUMBER(SEARCH(G$206,'12.Partner Involvement'!$H753))=TRUE,(('12.Partner Involvement'!$D753*'12.Partner Involvement'!$E753)/COUNTA(_xlfn.TEXTSPLIT('12.Partner Involvement'!$H753,\";\"))),\"\")","v":""},{"$f":"IF(ISNUMBER(SEARCH(H$206,'12.Partner Involvement'!$H753))=TRUE,(('12.Partner Involvement'!$D753*'12.Partner Involvement'!$E753)/COUNTA(_xlfn.TEXTSPLIT('12.Partner Involvement'!$H753,\";\"))),\"\")","v":""}]
[{"$f":"IF(ISNUMBER(SEARCH(A$206,'12.Partner Involvement'!$G754))=TRUE,(('12.Partner Involvement'!$D754*'12.Partner Involvement'!$E754)/COUNTA(_xlfn.TEXTSPLIT('12.Partner Involvement'!$G754,\";\"))),\"\")","v":""},{"$f":"IF(ISNUMBER(SEARCH(B$206,'12.Partner Involvement'!$G754))=TRUE,(('12.Partner Involvement'!$D754*'12.Partner Involvement'!$E754)/COUNTA(_xlfn.TEXTSPLIT('12.Partner Involvement'!$G754,\";\"))),\"\")","v":""},{"$f":"IF(ISNUMBER(SEARCH(C$206,'12.Partner Involvement'!$G754))=TRUE,(('12.Partner Involvement'!$D754*'12.Partner Involvement'!$E754)/COUNTA(_xlfn.TEXTSPLIT('12.Partner Involvement'!$G754,\";\"))),\"\")","v":""},null,{"$f":"IF(ISNUMBER(SEARCH(E$206,'12.Partner Involvement'!$H754))=TRUE,(('12.Partner Involvement'!$D754*'12.Partner Involvement'!$E754)/COUNTA(_xlfn.TEXTSPLIT('12.Partner Involvement'!$H754,\";\"))),\"\")","v":""},{"$f":"IF(ISNUMBER(SEARCH(F$206,'12.Partner Involvement'!$H754))=TRUE,(('12.Partner Involvement'!$D754*'12.Partner Involvement'!$E754)/COUNTA(_xlfn.TEXTSPLIT('12.Partner Involvement'!$H754,\";\"))),\"\")","v":""},{"$f":"IF(ISNUMBER(SEARCH(G$206,'12.Partner Involvement'!$H754))=TRUE,(('12.Partner Involvement'!$D754*'12.Partner Involvement'!$E754)/COUNTA(_xlfn.TEXTSPLIT('12.Partner Involvement'!$H754,\";\"))),\"\")","v":""},{"$f":"IF(ISNUMBER(SEARCH(H$206,'12.Partner Involvement'!$H754))=TRUE,(('12.Partner Involvement'!$D754*'12.Partner Involvement'!$E754)/COUNTA(_xlfn.TEXTSPLIT('12.Partner Involvement'!$H754,\";\"))),\"\")","v":""}]
[{"$f":"IF(ISNUMBER(SEARCH(A$206,'12.Partner Involvement'!$G755))=TRUE,(('12.Partner Involvement'!$D755*'12.Partner Involvement'!$E755)/COUNTA(_xlfn.TEXTSPLIT('12.Partner Involvement'!$G755,\";\"))),\"\")","v":""},{"$f":"IF(ISNUMBER(SEARCH(B$206,'12.Partner Involvement'!$G755))=TRUE,(('12.Partner Involvement'!$D755*'12.Partner Involvement'!$E755)/COUNTA(_xlfn.TEXTSPLIT('12.Partner Involvement'!$G755,\";\"))),\"\")","v":""},{"$f":"IF(ISNUMBER(SEARCH(C$206,'12.Partner Involvement'!$G755))=TRUE,(('12.Partner Involvement'!$D755*'12.Partner Involvement'!$E755)/COUNTA(_xlfn.TEXTSPLIT('12.Partner Involvement'!$G755,\";\"))),\"\")","v":""},null,{"$f":"IF(ISNUMBER(SEARCH(E$206,'12.Partner Involvement'!$H755))=TRUE,(('12.Partner Involvement'!$D755*'12.Partner Involvement'!$E755)/COUNTA(_xlfn.TEXTSPLIT('12.Partner Involvement'!$H755,\";\"))),\"\")","v":""},{"$f":"IF(ISNUMBER(SEARCH(F$206,'12.Partner Involvement'!$H755))=TRUE,(('12.Partner Involvement'!$D755*'12.Partner Involvement'!$E755)/COUNTA(_xlfn.TEXTSPLIT('12.Partner Involvement'!$H755,\";\"))),\"\")","v":""},{"$f":"IF(ISNUMBER(SEARCH(G$206,'12.Partner Involvement'!$H755))=TRUE,(('12.Partner Involvement'!$D755*'12.Partner Involvement'!$E755)/COUNTA(_xlfn.TEXTSPLIT('12.Partner Involvement'!$H755,\";\"))),\"\")","v":""},{"$f":"IF(ISNUMBER(SEARCH(H$206,'12.Partner Involvement'!$H755))=TRUE,(('12.Partner Involvement'!$D755*'12.Partner Involvement'!$E755)/COUNTA(_xlfn.TEXTSPLIT('12.Partner Involvement'!$H755,\";\"))),\"\")","v":""}]
[{"$f":"IF(ISNUMBER(SEARCH(A$206,'12.Partner Involvement'!$G756))=TRUE,(('12.Partner Involvement'!$D756*'12.Partner Involvement'!$E756)/COUNTA(_xlfn.TEXTSPLIT('12.Partner Involvement'!$G756,\";\"))),\"\")","v":""},{"$f":"IF(ISNUMBER(SEARCH(B$206,'12.Partner Involvement'!$G756))=TRUE,(('12.Partner Involvement'!$D756*'12.Partner Involvement'!$E756)/COUNTA(_xlfn.TEXTSPLIT('12.Partner Involvement'!$G756,\";\"))),\"\")","v":""},{"$f":"IF(ISNUMBER(SEARCH(C$206,'12.Partner Involvement'!$G756))=TRUE,(('12.Partner Involvement'!$D756*'12.Partner Involvement'!$E756)/COUNTA(_xlfn.TEXTSPLIT('12.Partner Involvement'!$G756,\";\"))),\"\")","v":""},null,{"$f":"IF(ISNUMBER(SEARCH(E$206,'12.Partner Involvement'!$H756))=TRUE,(('12.Partner Involvement'!$D756*'12.Partner Involvement'!$E756)/COUNTA(_xlfn.TEXTSPLIT('12.Partner Involvement'!$H756,\";\"))),\"\")","v":""},{"$f":"IF(ISNUMBER(SEARCH(F$206,'12.Partner Involvement'!$H756))=TRUE,(('12.Partner Involvement'!$D756*'12.Partner Involvement'!$E756)/COUNTA(_xlfn.TEXTSPLIT('12.Partner Involvement'!$H756,\";\"))),\"\")","v":""},{"$f":"IF(ISNUMBER(SEARCH(G$206,'12.Partner Involvement'!$H756))=TRUE,(('12.Partner Involvement'!$D756*'12.Partner Involvement'!$E756)/COUNTA(_xlfn.TEXTSPLIT('12.Partner Involvement'!$H756,\";\"))),\"\")","v":""},{"$f":"IF(ISNUMBER(SEARCH(H$206,'12.Partner Involvement'!$H756))=TRUE,(('12.Partner Involvement'!$D756*'12.Partner Involvement'!$E756)/COUNTA(_xlfn.TEXTSPLIT('12.Partner Involvement'!$H756,\";\"))),\"\")","v":""}]
[{"$f":"IF(ISNUMBER(SEARCH(A$206,'12.Partner Involvement'!$G757))=TRUE,(('12.Partner Involvement'!$D757*'12.Partner Involvement'!$E757)/COUNTA(_xlfn.TEXTSPLIT('12.Partner Involvement'!$G757,\";\"))),\"\")","v":""},{"$f":"IF(ISNUMBER(SEARCH(B$206,'12.Partner Involvement'!$G757))=TRUE,(('12.Partner Involvement'!$D757*'12.Partner Involvement'!$E757)/COUNTA(_xlfn.TEXTSPLIT('12.Partner Involvement'!$G757,\";\"))),\"\")","v":""},{"$f":"IF(ISNUMBER(SEARCH(C$206,'12.Partner Involvement'!$G757))=TRUE,(('12.Partner Involvement'!$D757*'12.Partner Involvement'!$E757)/COUNTA(_xlfn.TEXTSPLIT('12.Partner Involvement'!$G757,\";\"))),\"\")","v":""},null,{"$f":"IF(ISNUMBER(SEARCH(E$206,'12.Partner Involvement'!$H757))=TRUE,(('12.Partner Involvement'!$D757*'12.Partner Involvement'!$E757)/COUNTA(_xlfn.TEXTSPLIT('12.Partner Involvement'!$H757,\";\"))),\"\")","v":""},{"$f":"IF(ISNUMBER(SEARCH(F$206,'12.Partner Involvement'!$H757))=TRUE,(('12.Partner Involvement'!$D757*'12.Partner Involvement'!$E757)/COUNTA(_xlfn.TEXTSPLIT('12.Partner Involvement'!$H757,\";\"))),\"\")","v":""},{"$f":"IF(ISNUMBER(SEARCH(G$206,'12.Partner Involvement'!$H757))=TRUE,(('12.Partner Involvement'!$D757*'12.Partner Involvement'!$E757)/COUNTA(_xlfn.TEXTSPLIT('12.Partner Involvement'!$H757,\";\"))),\"\")","v":""},{"$f":"IF(ISNUMBER(SEARCH(H$206,'12.Partner Involvement'!$H757))=TRUE,(('12.Partner Involvement'!$D757*'12.Partner Involvement'!$E757)/COUNTA(_xlfn.TEXTSPLIT('12.Partner Involvement'!$H757,\";\"))),\"\")","v":""}]
[{"$f":"IF(ISNUMBER(SEARCH(A$206,'12.Partner Involvement'!$G758))=TRUE,(('12.Partner Involvement'!$D758*'12.Partner Involvement'!$E758)/COUNTA(_xlfn.TEXTSPLIT('12.Partner Involvement'!$G758,\";\"))),\"\")","v":""},{"$f":"IF(ISNUMBER(SEARCH(B$206,'12.Partner Involvement'!$G758))=TRUE,(('12.Partner Involvement'!$D758*'12.Partner Involvement'!$E758)/COUNTA(_xlfn.TEXTSPLIT('12.Partner Involvement'!$G758,\";\"))),\"\")","v":""},{"$f":"IF(ISNUMBER(SEARCH(C$206,'12.Partner Involvement'!$G758))=TRUE,(('12.Partner Involvement'!$D758*'12.Partner Involvement'!$E758)/COUNTA(_xlfn.TEXTSPLIT('12.Partner Involvement'!$G758,\";\"))),\"\")","v":""},null,{"$f":"IF(ISNUMBER(SEARCH(E$206,'12.Partner Involvement'!$H758))=TRUE,(('12.Partner Involvement'!$D758*'12.Partner Involvement'!$E758)/COUNTA(_xlfn.TEXTSPLIT('12.Partner Involvement'!$H758,\";\"))),\"\")","v":""},{"$f":"IF(ISNUMBER(SEARCH(F$206,'12.Partner Involvement'!$H758))=TRUE,(('12.Partner Involvement'!$D758*'12.Partner Involvement'!$E758)/COUNTA(_xlfn.TEXTSPLIT('12.Partner Involvement'!$H758,\";\"))),\"\")","v":""},{"$f":"IF(ISNUMBER(SEARCH(G$206,'12.Partner Involvement'!$H758))=TRUE,(('12.Partner Involvement'!$D758*'12.Partner Involvement'!$E758)/COUNTA(_xlfn.TEXTSPLIT('12.Partner Involvement'!$H758,\";\"))),\"\")","v":""},{"$f":"IF(ISNUMBER(SEARCH(H$206,'12.Partner Involvement'!$H758))=TRUE,(('12.Partner Involvement'!$D758*'12.Partner Involvement'!$E758)/COUNTA(_xlfn.TEXTSPLIT('12.Partner Involvement'!$H758,\";\"))),\"\")","v":""}]
[{"$f":"IF(ISNUMBER(SEARCH(A$206,'12.Partner Involvement'!$G759))=TRUE,(('12.Partner Involvement'!$D759*'12.Partner Involvement'!$E759)/COUNTA(_xlfn.TEXTSPLIT('12.Partner Involvement'!$G759,\";\"))),\"\")","v":""},{"$f":"IF(ISNUMBER(SEARCH(B$206,'12.Partner Involvement'!$G759))=TRUE,(('12.Partner Involvement'!$D759*'12.Partner Involvement'!$E759)/COUNTA(_xlfn.TEXTSPLIT('12.Partner Involvement'!$G759,\";\"))),\"\")","v":""},{"$f":"IF(ISNUMBER(SEARCH(C$206,'12.Partner Involvement'!$G759))=TRUE,(('12.Partner Involvement'!$D759*'12.Partner Involvement'!$E759)/COUNTA(_xlfn.TEXTSPLIT('12.Partner Involvement'!$G759,\";\"))),\"\")","v":""},null,{"$f":"IF(ISNUMBER(SEARCH(E$206,'12.Partner Involvement'!$H759))=TRUE,(('12.Partner Involvement'!$D759*'12.Partner Involvement'!$E759)/COUNTA(_xlfn.TEXTSPLIT('12.Partner Involvement'!$H759,\";\"))),\"\")","v":""},{"$f":"IF(ISNUMBER(SEARCH(F$206,'12.Partner Involvement'!$H759))=TRUE,(('12.Partner Involvement'!$D759*'12.Partner Involvement'!$E759)/COUNTA(_xlfn.TEXTSPLIT('12.Partner Involvement'!$H759,\";\"))),\"\")","v":""},{"$f":"IF(ISNUMBER(SEARCH(G$206,'12.Partner Involvement'!$H759))=TRUE,(('12.Partner Involvement'!$D759*'12.Partner Involvement'!$E759)/COUNTA(_xlfn.TEXTSPLIT('12.Partner Involvement'!$H759,\";\"))),\"\")","v":""},{"$f":"IF(ISNUMBER(SEARCH(H$206,'12.Partner Involvement'!$H759))=TRUE,(('12.Partner Involvement'!$D759*'12.Partner Involvement'!$E759)/COUNTA(_xlfn.TEXTSPLIT('12.Partner Involvement'!$H759,\";\"))),\"\")","v":""}]
[{"$f":"IF(ISNUMBER(SEARCH(A$206,'12.Partner Involvement'!$G760))=TRUE,(('12.Partner Involvement'!$D760*'12.Partner Involvement'!$E760)/COUNTA(_xlfn.TEXTSPLIT('12.Partner Involvement'!$G760,\";\"))),\"\")","v":""},{"$f":"IF(ISNUMBER(SEARCH(B$206,'12.Partner Involvement'!$G760))=TRUE,(('12.Partner Involvement'!$D760*'12.Partner Involvement'!$E760)/COUNTA(_xlfn.TEXTSPLIT('12.Partner Involvement'!$G760,\";\"))),\"\")","v":""},{"$f":"IF(ISNUMBER(SEARCH(C$206,'12.Partner Involvement'!$G760))=TRUE,(('12.Partner Involvement'!$D760*'12.Partner Involvement'!$E760)/COUNTA(_xlfn.TEXTSPLIT('12.Partner Involvement'!$G760,\";\"))),\"\")","v":""},null,{"$f":"IF(ISNUMBER(SEARCH(E$206,'12.Partner Involvement'!$H760))=TRUE,(('12.Partner Involvement'!$D760*'12.Partner Involvement'!$E760)/COUNTA(_xlfn.TEXTSPLIT('12.Partner Involvement'!$H760,\";\"))),\"\")","v":""},{"$f":"IF(ISNUMBER(SEARCH(F$206,'12.Partner Involvement'!$H760))=TRUE,(('12.Partner Involvement'!$D760*'12.Partner Involvement'!$E760)/COUNTA(_xlfn.TEXTSPLIT('12.Partner Involvement'!$H760,\";\"))),\"\")","v":""},{"$f":"IF(ISNUMBER(SEARCH(G$206,'12.Partner Involvement'!$H760))=TRUE,(('12.Partner Involvement'!$D760*'12.Partner Involvement'!$E760)/COUNTA(_xlfn.TEXTSPLIT('12.Partner Involvement'!$H760,\";\"))),\"\")","v":""},{"$f":"IF(ISNUMBER(SEARCH(H$206,'12.Partner Involvement'!$H760))=TRUE,(('12.Partner Involvement'!$D760*'12.Partner Involvement'!$E760)/COUNTA(_xlfn.TEXTSPLIT('12.Partner Involvement'!$H760,\";\"))),\"\")","v":""}]
[{"$f":"IF(ISNUMBER(SEARCH(A$206,'12.Partner Involvement'!$G761))=TRUE,(('12.Partner Involvement'!$D761*'12.Partner Involvement'!$E761)/COUNTA(_xlfn.TEXTSPLIT('12.Partner Involvement'!$G761,\";\"))),\"\")","v":""},{"$f":"IF(ISNUMBER(SEARCH(B$206,'12.Partner Involvement'!$G761))=TRUE,(('12.Partner Involvement'!$D761*'12.Partner Involvement'!$E761)/COUNTA(_xlfn.TEXTSPLIT('12.Partner Involvement'!$G761,\";\"))),\"\")","v":""},{"$f":"IF(ISNUMBER(SEARCH(C$206,'12.Partner Involvement'!$G761))=TRUE,(('12.Partner Involvement'!$D761*'12.Partner Involvement'!$E761)/COUNTA(_xlfn.TEXTSPLIT('12.Partner Involvement'!$G761,\";\"))),\"\")","v":""},null,{"$f":"IF(ISNUMBER(SEARCH(E$206,'12.Partner Involvement'!$H761))=TRUE,(('12.Partner Involvement'!$D761*'12.Partner Involvement'!$E761)/COUNTA(_xlfn.TEXTSPLIT('12.Partner Involvement'!$H761,\";\"))),\"\")","v":""},{"$f":"IF(ISNUMBER(SEARCH(F$206,'12.Partner Involvement'!$H761))=TRUE,(('12.Partner Involvement'!$D761*'12.Partner Involvement'!$E761)/COUNTA(_xlfn.TEXTSPLIT('12.Partner Involvement'!$H761,\";\"))),\"\")","v":""},{"$f":"IF(ISNUMBER(SEARCH(G$206,'12.Partner Involvement'!$H761))=TRUE,(('12.Partner Involvement'!$D761*'12.Partner Involvement'!$E761)/COUNTA(_xlfn.TEXTSPLIT('12.Partner Involvement'!$H761,\";\"))),\"\")","v":""},{"$f":"IF(ISNUMBER(SEARCH(H$206,'12.Partner Involvement'!$H761))=TRUE,(('12.Partner Involvement'!$D761*'12.Partner Involvement'!$E761)/COUNTA(_xlfn.TEXTSPLIT('12.Partner Involvement'!$H761,\";\"))),\"\")","v":""}]
[{"$f":"IF(ISNUMBER(SEARCH(A$206,'12.Partner Involvement'!$G762))=TRUE,(('12.Partner Involvement'!$D762*'12.Partner Involvement'!$E762)/COUNTA(_xlfn.TEXTSPLIT('12.Partner Involvement'!$G762,\";\"))),\"\")","v":""},{"$f":"IF(ISNUMBER(SEARCH(B$206,'12.Partner Involvement'!$G762))=TRUE,(('12.Partner Involvement'!$D762*'12.Partner Involvement'!$E762)/COUNTA(_xlfn.TEXTSPLIT('12.Partner Involvement'!$G762,\";\"))),\"\")","v":""},{"$f":"IF(ISNUMBER(SEARCH(C$206,'12.Partner Involvement'!$G762))=TRUE,(('12.Partner Involvement'!$D762*'12.Partner Involvement'!$E762)/COUNTA(_xlfn.TEXTSPLIT('12.Partner Involvement'!$G762,\";\"))),\"\")","v":""},null,{"$f":"IF(ISNUMBER(SEARCH(E$206,'12.Partner Involvement'!$H762))=TRUE,(('12.Partner Involvement'!$D762*'12.Partner Involvement'!$E762)/COUNTA(_xlfn.TEXTSPLIT('12.Partner Involvement'!$H762,\";\"))),\"\")","v":""},{"$f":"IF(ISNUMBER(SEARCH(F$206,'12.Partner Involvement'!$H762))=TRUE,(('12.Partner Involvement'!$D762*'12.Partner Involvement'!$E762)/COUNTA(_xlfn.TEXTSPLIT('12.Partner Involvement'!$H762,\";\"))),\"\")","v":""},{"$f":"IF(ISNUMBER(SEARCH(G$206,'12.Partner Involvement'!$H762))=TRUE,(('12.Partner Involvement'!$D762*'12.Partner Involvement'!$E762)/COUNTA(_xlfn.TEXTSPLIT('12.Partner Involvement'!$H762,\";\"))),\"\")","v":""},{"$f":"IF(ISNUMBER(SEARCH(H$206,'12.Partner Involvement'!$H762))=TRUE,(('12.Partner Involvement'!$D762*'12.Partner Involvement'!$E762)/COUNTA(_xlfn.TEXTSPLIT('12.Partner Involvement'!$H762,\";\"))),\"\")","v":""}]
[{"$f":"IF(ISNUMBER(SEARCH(A$206,'12.Partner Involvement'!$G763))=TRUE,(('12.Partner Involvement'!$D763*'12.Partner Involvement'!$E763)/COUNTA(_xlfn.TEXTSPLIT('12.Partner Involvement'!$G763,\";\"))),\"\")","v":""},{"$f":"IF(ISNUMBER(SEARCH(B$206,'12.Partner Involvement'!$G763))=TRUE,(('12.Partner Involvement'!$D763*'12.Partner Involvement'!$E763)/COUNTA(_xlfn.TEXTSPLIT('12.Partner Involvement'!$G763,\";\"))),\"\")","v":""},{"$f":"IF(ISNUMBER(SEARCH(C$206,'12.Partner Involvement'!$G763))=TRUE,(('12.Partner Involvement'!$D763*'12.Partner Involvement'!$E763)/COUNTA(_xlfn.TEXTSPLIT('12.Partner Involvement'!$G763,\";\"))),\"\")","v":""},null,{"$f":"IF(ISNUMBER(SEARCH(E$206,'12.Partner Involvement'!$H763))=TRUE,(('12.Partner Involvement'!$D763*'12.Partner Involvement'!$E763)/COUNTA(_xlfn.TEXTSPLIT('12.Partner Involvement'!$H763,\";\"))),\"\")","v":""},{"$f":"IF(ISNUMBER(SEARCH(F$206,'12.Partner Involvement'!$H763))=TRUE,(('12.Partner Involvement'!$D763*'12.Partner Involvement'!$E763)/COUNTA(_xlfn.TEXTSPLIT('12.Partner Involvement'!$H763,\";\"))),\"\")","v":""},{"$f":"IF(ISNUMBER(SEARCH(G$206,'12.Partner Involvement'!$H763))=TRUE,(('12.Partner Involvement'!$D763*'12.Partner Involvement'!$E763)/COUNTA(_xlfn.TEXTSPLIT('12.Partner Involvement'!$H763,\";\"))),\"\")","v":""},{"$f":"IF(ISNUMBER(SEARCH(H$206,'12.Partner Involvement'!$H763))=TRUE,(('12.Partner Involvement'!$D763*'12.Partner Involvement'!$E763)/COUNTA(_xlfn.TEXTSPLIT('12.Partner Involvement'!$H763,\";\"))),\"\")","v":""}]
[{"$f":"IF(ISNUMBER(SEARCH(A$206,'12.Partner Involvement'!$G764))=TRUE,(('12.Partner Involvement'!$D764*'12.Partner Involvement'!$E764)/COUNTA(_xlfn.TEXTSPLIT('12.Partner Involvement'!$G764,\";\"))),\"\")","v":""},{"$f":"IF(ISNUMBER(SEARCH(B$206,'12.Partner Involvement'!$G764))=TRUE,(('12.Partner Involvement'!$D764*'12.Partner Involvement'!$E764)/COUNTA(_xlfn.TEXTSPLIT('12.Partner Involvement'!$G764,\";\"))),\"\")","v":""},{"$f":"IF(ISNUMBER(SEARCH(C$206,'12.Partner Involvement'!$G764))=TRUE,(('12.Partner Involvement'!$D764*'12.Partner Involvement'!$E764)/COUNTA(_xlfn.TEXTSPLIT('12.Partner Involvement'!$G764,\";\"))),\"\")","v":""},null,{"$f":"IF(ISNUMBER(SEARCH(E$206,'12.Partner Involvement'!$H764))=TRUE,(('12.Partner Involvement'!$D764*'12.Partner Involvement'!$E764)/COUNTA(_xlfn.TEXTSPLIT('12.Partner Involvement'!$H764,\";\"))),\"\")","v":""},{"$f":"IF(ISNUMBER(SEARCH(F$206,'12.Partner Involvement'!$H764))=TRUE,(('12.Partner Involvement'!$D764*'12.Partner Involvement'!$E764)/COUNTA(_xlfn.TEXTSPLIT('12.Partner Involvement'!$H764,\";\"))),\"\")","v":""},{"$f":"IF(ISNUMBER(SEARCH(G$206,'12.Partner Involvement'!$H764))=TRUE,(('12.Partner Involvement'!$D764*'12.Partner Involvement'!$E764)/COUNTA(_xlfn.TEXTSPLIT('12.Partner Involvement'!$H764,\";\"))),\"\")","v":""},{"$f":"IF(ISNUMBER(SEARCH(H$206,'12.Partner Involvement'!$H764))=TRUE,(('12.Partner Involvement'!$D764*'12.Partner Involvement'!$E764)/COUNTA(_xlfn.TEXTSPLIT('12.Partner Involvement'!$H764,\";\"))),\"\")","v":""}]
[{"$f":"IF(ISNUMBER(SEARCH(A$206,'12.Partner Involvement'!$G765))=TRUE,(('12.Partner Involvement'!$D765*'12.Partner Involvement'!$E765)/COUNTA(_xlfn.TEXTSPLIT('12.Partner Involvement'!$G765,\";\"))),\"\")","v":""},{"$f":"IF(ISNUMBER(SEARCH(B$206,'12.Partner Involvement'!$G765))=TRUE,(('12.Partner Involvement'!$D765*'12.Partner Involvement'!$E765)/COUNTA(_xlfn.TEXTSPLIT('12.Partner Involvement'!$G765,\";\"))),\"\")","v":""},{"$f":"IF(ISNUMBER(SEARCH(C$206,'12.Partner Involvement'!$G765))=TRUE,(('12.Partner Involvement'!$D765*'12.Partner Involvement'!$E765)/COUNTA(_xlfn.TEXTSPLIT('12.Partner Involvement'!$G765,\";\"))),\"\")","v":""},null,{"$f":"IF(ISNUMBER(SEARCH(E$206,'12.Partner Involvement'!$H765))=TRUE,(('12.Partner Involvement'!$D765*'12.Partner Involvement'!$E765)/COUNTA(_xlfn.TEXTSPLIT('12.Partner Involvement'!$H765,\";\"))),\"\")","v":""},{"$f":"IF(ISNUMBER(SEARCH(F$206,'12.Partner Involvement'!$H765))=TRUE,(('12.Partner Involvement'!$D765*'12.Partner Involvement'!$E765)/COUNTA(_xlfn.TEXTSPLIT('12.Partner Involvement'!$H765,\";\"))),\"\")","v":""},{"$f":"IF(ISNUMBER(SEARCH(G$206,'12.Partner Involvement'!$H765))=TRUE,(('12.Partner Involvement'!$D765*'12.Partner Involvement'!$E765)/COUNTA(_xlfn.TEXTSPLIT('12.Partner Involvement'!$H765,\";\"))),\"\")","v":""},{"$f":"IF(ISNUMBER(SEARCH(H$206,'12.Partner Involvement'!$H765))=TRUE,(('12.Partner Involvement'!$D765*'12.Partner Involvement'!$E765)/COUNTA(_xlfn.TEXTSPLIT('12.Partner Involvement'!$H765,\";\"))),\"\")","v":""}]
[{"$f":"IF(ISNUMBER(SEARCH(A$206,'12.Partner Involvement'!$G766))=TRUE,(('12.Partner Involvement'!$D766*'12.Partner Involvement'!$E766)/COUNTA(_xlfn.TEXTSPLIT('12.Partner Involvement'!$G766,\";\"))),\"\")","v":""},{"$f":"IF(ISNUMBER(SEARCH(B$206,'12.Partner Involvement'!$G766))=TRUE,(('12.Partner Involvement'!$D766*'12.Partner Involvement'!$E766)/COUNTA(_xlfn.TEXTSPLIT('12.Partner Involvement'!$G766,\";\"))),\"\")","v":""},{"$f":"IF(ISNUMBER(SEARCH(C$206,'12.Partner Involvement'!$G766))=TRUE,(('12.Partner Involvement'!$D766*'12.Partner Involvement'!$E766)/COUNTA(_xlfn.TEXTSPLIT('12.Partner Involvement'!$G766,\";\"))),\"\")","v":""},null,{"$f":"IF(ISNUMBER(SEARCH(E$206,'12.Partner Involvement'!$H766))=TRUE,(('12.Partner Involvement'!$D766*'12.Partner Involvement'!$E766)/COUNTA(_xlfn.TEXTSPLIT('12.Partner Involvement'!$H766,\";\"))),\"\")","v":""},{"$f":"IF(ISNUMBER(SEARCH(F$206,'12.Partner Involvement'!$H766))=TRUE,(('12.Partner Involvement'!$D766*'12.Partner Involvement'!$E766)/COUNTA(_xlfn.TEXTSPLIT('12.Partner Involvement'!$H766,\";\"))),\"\")","v":""},{"$f":"IF(ISNUMBER(SEARCH(G$206,'12.Partner Involvement'!$H766))=TRUE,(('12.Partner Involvement'!$D766*'12.Partner Involvement'!$E766)/COUNTA(_xlfn.TEXTSPLIT('12.Partner Involvement'!$H766,\";\"))),\"\")","v":""},{"$f":"IF(ISNUMBER(SEARCH(H$206,'12.Partner Involvement'!$H766))=TRUE,(('12.Partner Involvement'!$D766*'12.Partner Involvement'!$E766)/COUNTA(_xlfn.TEXTSPLIT('12.Partner Involvement'!$H766,\";\"))),\"\")","v":""}]
[{"$f":"IF(ISNUMBER(SEARCH(A$206,'12.Partner Involvement'!$G767))=TRUE,(('12.Partner Involvement'!$D767*'12.Partner Involvement'!$E767)/COUNTA(_xlfn.TEXTSPLIT('12.Partner Involvement'!$G767,\";\"))),\"\")","v":""},{"$f":"IF(ISNUMBER(SEARCH(B$206,'12.Partner Involvement'!$G767))=TRUE,(('12.Partner Involvement'!$D767*'12.Partner Involvement'!$E767)/COUNTA(_xlfn.TEXTSPLIT('12.Partner Involvement'!$G767,\";\"))),\"\")","v":""},{"$f":"IF(ISNUMBER(SEARCH(C$206,'12.Partner Involvement'!$G767))=TRUE,(('12.Partner Involvement'!$D767*'12.Partner Involvement'!$E767)/COUNTA(_xlfn.TEXTSPLIT('12.Partner Involvement'!$G767,\";\"))),\"\")","v":""},null,{"$f":"IF(ISNUMBER(SEARCH(E$206,'12.Partner Involvement'!$H767))=TRUE,(('12.Partner Involvement'!$D767*'12.Partner Involvement'!$E767)/COUNTA(_xlfn.TEXTSPLIT('12.Partner Involvement'!$H767,\";\"))),\"\")","v":""},{"$f":"IF(ISNUMBER(SEARCH(F$206,'12.Partner Involvement'!$H767))=TRUE,(('12.Partner Involvement'!$D767*'12.Partner Involvement'!$E767)/COUNTA(_xlfn.TEXTSPLIT('12.Partner Involvement'!$H767,\";\"))),\"\")","v":""},{"$f":"IF(ISNUMBER(SEARCH(G$206,'12.Partner Involvement'!$H767))=TRUE,(('12.Partner Involvement'!$D767*'12.Partner Involvement'!$E767)/COUNTA(_xlfn.TEXTSPLIT('12.Partner Involvement'!$H767,\";\"))),\"\")","v":""},{"$f":"IF(ISNUMBER(SEARCH(H$206,'12.Partner Involvement'!$H767))=TRUE,(('12.Partner Involvement'!$D767*'12.Partner Involvement'!$E767)/COUNTA(_xlfn.TEXTSPLIT('12.Partner Involvement'!$H767,\";\"))),\"\")","v":""}]
[{"$f":"IF(ISNUMBER(SEARCH(A$206,'12.Partner Involvement'!$G768))=TRUE,(('12.Partner Involvement'!$D768*'12.Partner Involvement'!$E768)/COUNTA(_xlfn.TEXTSPLIT('12.Partner Involvement'!$G768,\";\"))),\"\")","v":""},{"$f":"IF(ISNUMBER(SEARCH(B$206,'12.Partner Involvement'!$G768))=TRUE,(('12.Partner Involvement'!$D768*'12.Partner Involvement'!$E768)/COUNTA(_xlfn.TEXTSPLIT('12.Partner Involvement'!$G768,\";\"))),\"\")","v":""},{"$f":"IF(ISNUMBER(SEARCH(C$206,'12.Partner Involvement'!$G768))=TRUE,(('12.Partner Involvement'!$D768*'12.Partner Involvement'!$E768)/COUNTA(_xlfn.TEXTSPLIT('12.Partner Involvement'!$G768,\";\"))),\"\")","v":""},null,{"$f":"IF(ISNUMBER(SEARCH(E$206,'12.Partner Involvement'!$H768))=TRUE,(('12.Partner Involvement'!$D768*'12.Partner Involvement'!$E768)/COUNTA(_xlfn.TEXTSPLIT('12.Partner Involvement'!$H768,\";\"))),\"\")","v":""},{"$f":"IF(ISNUMBER(SEARCH(F$206,'12.Partner Involvement'!$H768))=TRUE,(('12.Partner Involvement'!$D768*'12.Partner Involvement'!$E768)/COUNTA(_xlfn.TEXTSPLIT('12.Partner Involvement'!$H768,\";\"))),\"\")","v":""},{"$f":"IF(ISNUMBER(SEARCH(G$206,'12.Partner Involvement'!$H768))=TRUE,(('12.Partner Involvement'!$D768*'12.Partner Involvement'!$E768)/COUNTA(_xlfn.TEXTSPLIT('12.Partner Involvement'!$H768,\";\"))),\"\")","v":""},{"$f":"IF(ISNUMBER(SEARCH(H$206,'12.Partner Involvement'!$H768))=TRUE,(('12.Partner Involvement'!$D768*'12.Partner Involvement'!$E768)/COUNTA(_xlfn.TEXTSPLIT('12.Partner Involvement'!$H768,\";\"))),\"\")","v":""}]
[{"$f":"IF(ISNUMBER(SEARCH(A$206,'12.Partner Involvement'!$G769))=TRUE,(('12.Partner Involvement'!$D769*'12.Partner Involvement'!$E769)/COUNTA(_xlfn.TEXTSPLIT('12.Partner Involvement'!$G769,\";\"))),\"\")","v":""},{"$f":"IF(ISNUMBER(SEARCH(B$206,'12.Partner Involvement'!$G769))=TRUE,(('12.Partner Involvement'!$D769*'12.Partner Involvement'!$E769)/COUNTA(_xlfn.TEXTSPLIT('12.Partner Involvement'!$G769,\";\"))),\"\")","v":""},{"$f":"IF(ISNUMBER(SEARCH(C$206,'12.Partner Involvement'!$G769))=TRUE,(('12.Partner Involvement'!$D769*'12.Partner Involvement'!$E769)/COUNTA(_xlfn.TEXTSPLIT('12.Partner Involvement'!$G769,\";\"))),\"\")","v":""},null,{"$f":"IF(ISNUMBER(SEARCH(E$206,'12.Partner Involvement'!$H769))=TRUE,(('12.Partner Involvement'!$D769*'12.Partner Involvement'!$E769)/COUNTA(_xlfn.TEXTSPLIT('12.Partner Involvement'!$H769,\";\"))),\"\")","v":""},{"$f":"IF(ISNUMBER(SEARCH(F$206,'12.Partner Involvement'!$H769))=TRUE,(('12.Partner Involvement'!$D769*'12.Partner Involvement'!$E769)/COUNTA(_xlfn.TEXTSPLIT('12.Partner Involvement'!$H769,\";\"))),\"\")","v":""},{"$f":"IF(ISNUMBER(SEARCH(G$206,'12.Partner Involvement'!$H769))=TRUE,(('12.Partner Involvement'!$D769*'12.Partner Involvement'!$E769)/COUNTA(_xlfn.TEXTSPLIT('12.Partner Involvement'!$H769,\";\"))),\"\")","v":""},{"$f":"IF(ISNUMBER(SEARCH(H$206,'12.Partner Involvement'!$H769))=TRUE,(('12.Partner Involvement'!$D769*'12.Partner Involvement'!$E769)/COUNTA(_xlfn.TEXTSPLIT('12.Partner Involvement'!$H769,\";\"))),\"\")","v":""}]
[{"$f":"IF(ISNUMBER(SEARCH(A$206,'12.Partner Involvement'!$G770))=TRUE,(('12.Partner Involvement'!$D770*'12.Partner Involvement'!$E770)/COUNTA(_xlfn.TEXTSPLIT('12.Partner Involvement'!$G770,\";\"))),\"\")","v":""},{"$f":"IF(ISNUMBER(SEARCH(B$206,'12.Partner Involvement'!$G770))=TRUE,(('12.Partner Involvement'!$D770*'12.Partner Involvement'!$E770)/COUNTA(_xlfn.TEXTSPLIT('12.Partner Involvement'!$G770,\";\"))),\"\")","v":""},{"$f":"IF(ISNUMBER(SEARCH(C$206,'12.Partner Involvement'!$G770))=TRUE,(('12.Partner Involvement'!$D770*'12.Partner Involvement'!$E770)/COUNTA(_xlfn.TEXTSPLIT('12.Partner Involvement'!$G770,\";\"))),\"\")","v":""},null,{"$f":"IF(ISNUMBER(SEARCH(E$206,'12.Partner Involvement'!$H770))=TRUE,(('12.Partner Involvement'!$D770*'12.Partner Involvement'!$E770)/COUNTA(_xlfn.TEXTSPLIT('12.Partner Involvement'!$H770,\";\"))),\"\")","v":""},{"$f":"IF(ISNUMBER(SEARCH(F$206,'12.Partner Involvement'!$H770))=TRUE,(('12.Partner Involvement'!$D770*'12.Partner Involvement'!$E770)/COUNTA(_xlfn.TEXTSPLIT('12.Partner Involvement'!$H770,\";\"))),\"\")","v":""},{"$f":"IF(ISNUMBER(SEARCH(G$206,'12.Partner Involvement'!$H770))=TRUE,(('12.Partner Involvement'!$D770*'12.Partner Involvement'!$E770)/COUNTA(_xlfn.TEXTSPLIT('12.Partner Involvement'!$H770,\";\"))),\"\")","v":""},{"$f":"IF(ISNUMBER(SEARCH(H$206,'12.Partner Involvement'!$H770))=TRUE,(('12.Partner Involvement'!$D770*'12.Partner Involvement'!$E770)/COUNTA(_xlfn.TEXTSPLIT('12.Partner Involvement'!$H770,\";\"))),\"\")","v":""}]
[{"$f":"IF(ISNUMBER(SEARCH(A$206,'12.Partner Involvement'!$G771))=TRUE,(('12.Partner Involvement'!$D771*'12.Partner Involvement'!$E771)/COUNTA(_xlfn.TEXTSPLIT('12.Partner Involvement'!$G771,\";\"))),\"\")","v":""},{"$f":"IF(ISNUMBER(SEARCH(B$206,'12.Partner Involvement'!$G771))=TRUE,(('12.Partner Involvement'!$D771*'12.Partner Involvement'!$E771)/COUNTA(_xlfn.TEXTSPLIT('12.Partner Involvement'!$G771,\";\"))),\"\")","v":""},{"$f":"IF(ISNUMBER(SEARCH(C$206,'12.Partner Involvement'!$G771))=TRUE,(('12.Partner Involvement'!$D771*'12.Partner Involvement'!$E771)/COUNTA(_xlfn.TEXTSPLIT('12.Partner Involvement'!$G771,\";\"))),\"\")","v":""},null,{"$f":"IF(ISNUMBER(SEARCH(E$206,'12.Partner Involvement'!$H771))=TRUE,(('12.Partner Involvement'!$D771*'12.Partner Involvement'!$E771)/COUNTA(_xlfn.TEXTSPLIT('12.Partner Involvement'!$H771,\";\"))),\"\")","v":""},{"$f":"IF(ISNUMBER(SEARCH(F$206,'12.Partner Involvement'!$H771))=TRUE,(('12.Partner Involvement'!$D771*'12.Partner Involvement'!$E771)/COUNTA(_xlfn.TEXTSPLIT('12.Partner Involvement'!$H771,\";\"))),\"\")","v":""},{"$f":"IF(ISNUMBER(SEARCH(G$206,'12.Partner Involvement'!$H771))=TRUE,(('12.Partner Involvement'!$D771*'12.Partner Involvement'!$E771)/COUNTA(_xlfn.TEXTSPLIT('12.Partner Involvement'!$H771,\";\"))),\"\")","v":""},{"$f":"IF(ISNUMBER(SEARCH(H$206,'12.Partner Involvement'!$H771))=TRUE,(('12.Partner Involvement'!$D771*'12.Partner Involvement'!$E771)/COUNTA(_xlfn.TEXTSPLIT('12.Partner Involvement'!$H771,\";\"))),\"\")","v":""}]
[{"$f":"IF(ISNUMBER(SEARCH(A$206,'12.Partner Involvement'!$G772))=TRUE,(('12.Partner Involvement'!$D772*'12.Partner Involvement'!$E772)/COUNTA(_xlfn.TEXTSPLIT('12.Partner Involvement'!$G772,\";\"))),\"\")","v":""},{"$f":"IF(ISNUMBER(SEARCH(B$206,'12.Partner Involvement'!$G772))=TRUE,(('12.Partner Involvement'!$D772*'12.Partner Involvement'!$E772)/COUNTA(_xlfn.TEXTSPLIT('12.Partner Involvement'!$G772,\";\"))),\"\")","v":""},{"$f":"IF(ISNUMBER(SEARCH(C$206,'12.Partner Involvement'!$G772))=TRUE,(('12.Partner Involvement'!$D772*'12.Partner Involvement'!$E772)/COUNTA(_xlfn.TEXTSPLIT('12.Partner Involvement'!$G772,\";\"))),\"\")","v":""},null,{"$f":"IF(ISNUMBER(SEARCH(E$206,'12.Partner Involvement'!$H772))=TRUE,(('12.Partner Involvement'!$D772*'12.Partner Involvement'!$E772)/COUNTA(_xlfn.TEXTSPLIT('12.Partner Involvement'!$H772,\";\"))),\"\")","v":""},{"$f":"IF(ISNUMBER(SEARCH(F$206,'12.Partner Involvement'!$H772))=TRUE,(('12.Partner Involvement'!$D772*'12.Partner Involvement'!$E772)/COUNTA(_xlfn.TEXTSPLIT('12.Partner Involvement'!$H772,\";\"))),\"\")","v":""},{"$f":"IF(ISNUMBER(SEARCH(G$206,'12.Partner Involvement'!$H772))=TRUE,(('12.Partner Involvement'!$D772*'12.Partner Involvement'!$E772)/COUNTA(_xlfn.TEXTSPLIT('12.Partner Involvement'!$H772,\";\"))),\"\")","v":""},{"$f":"IF(ISNUMBER(SEARCH(H$206,'12.Partner Involvement'!$H772))=TRUE,(('12.Partner Involvement'!$D772*'12.Partner Involvement'!$E772)/COUNTA(_xlfn.TEXTSPLIT('12.Partner Involvement'!$H772,\";\"))),\"\")","v":""}]
[{"$f":"IF(ISNUMBER(SEARCH(A$206,'12.Partner Involvement'!$G773))=TRUE,(('12.Partner Involvement'!$D773*'12.Partner Involvement'!$E773)/COUNTA(_xlfn.TEXTSPLIT('12.Partner Involvement'!$G773,\";\"))),\"\")","v":""},{"$f":"IF(ISNUMBER(SEARCH(B$206,'12.Partner Involvement'!$G773))=TRUE,(('12.Partner Involvement'!$D773*'12.Partner Involvement'!$E773)/COUNTA(_xlfn.TEXTSPLIT('12.Partner Involvement'!$G773,\";\"))),\"\")","v":""},{"$f":"IF(ISNUMBER(SEARCH(C$206,'12.Partner Involvement'!$G773))=TRUE,(('12.Partner Involvement'!$D773*'12.Partner Involvement'!$E773)/COUNTA(_xlfn.TEXTSPLIT('12.Partner Involvement'!$G773,\";\"))),\"\")","v":""},null,{"$f":"IF(ISNUMBER(SEARCH(E$206,'12.Partner Involvement'!$H773))=TRUE,(('12.Partner Involvement'!$D773*'12.Partner Involvement'!$E773)/COUNTA(_xlfn.TEXTSPLIT('12.Partner Involvement'!$H773,\";\"))),\"\")","v":""},{"$f":"IF(ISNUMBER(SEARCH(F$206,'12.Partner Involvement'!$H773))=TRUE,(('12.Partner Involvement'!$D773*'12.Partner Involvement'!$E773)/COUNTA(_xlfn.TEXTSPLIT('12.Partner Involvement'!$H773,\";\"))),\"\")","v":""},{"$f":"IF(ISNUMBER(SEARCH(G$206,'12.Partner Involvement'!$H773))=TRUE,(('12.Partner Involvement'!$D773*'12.Partner Involvement'!$E773)/COUNTA(_xlfn.TEXTSPLIT('12.Partner Involvement'!$H773,\";\"))),\"\")","v":""},{"$f":"IF(ISNUMBER(SEARCH(H$206,'12.Partner Involvement'!$H773))=TRUE,(('12.Partner Involvement'!$D773*'12.Partner Involvement'!$E773)/COUNTA(_xlfn.TEXTSPLIT('12.Partner Involvement'!$H773,\";\"))),\"\")","v":""}]
[{"$f":"IF(ISNUMBER(SEARCH(A$206,'12.Partner Involvement'!$G774))=TRUE,(('12.Partner Involvement'!$D774*'12.Partner Involvement'!$E774)/COUNTA(_xlfn.TEXTSPLIT('12.Partner Involvement'!$G774,\";\"))),\"\")","v":""},{"$f":"IF(ISNUMBER(SEARCH(B$206,'12.Partner Involvement'!$G774))=TRUE,(('12.Partner Involvement'!$D774*'12.Partner Involvement'!$E774)/COUNTA(_xlfn.TEXTSPLIT('12.Partner Involvement'!$G774,\";\"))),\"\")","v":""},{"$f":"IF(ISNUMBER(SEARCH(C$206,'12.Partner Involvement'!$G774))=TRUE,(('12.Partner Involvement'!$D774*'12.Partner Involvement'!$E774)/COUNTA(_xlfn.TEXTSPLIT('12.Partner Involvement'!$G774,\";\"))),\"\")","v":""},null,{"$f":"IF(ISNUMBER(SEARCH(E$206,'12.Partner Involvement'!$H774))=TRUE,(('12.Partner Involvement'!$D774*'12.Partner Involvement'!$E774)/COUNTA(_xlfn.TEXTSPLIT('12.Partner Involvement'!$H774,\";\"))),\"\")","v":""},{"$f":"IF(ISNUMBER(SEARCH(F$206,'12.Partner Involvement'!$H774))=TRUE,(('12.Partner Involvement'!$D774*'12.Partner Involvement'!$E774)/COUNTA(_xlfn.TEXTSPLIT('12.Partner Involvement'!$H774,\";\"))),\"\")","v":""},{"$f":"IF(ISNUMBER(SEARCH(G$206,'12.Partner Involvement'!$H774))=TRUE,(('12.Partner Involvement'!$D774*'12.Partner Involvement'!$E774)/COUNTA(_xlfn.TEXTSPLIT('12.Partner Involvement'!$H774,\";\"))),\"\")","v":""},{"$f":"IF(ISNUMBER(SEARCH(H$206,'12.Partner Involvement'!$H774))=TRUE,(('12.Partner Involvement'!$D774*'12.Partner Involvement'!$E774)/COUNTA(_xlfn.TEXTSPLIT('12.Partner Involvement'!$H774,\";\"))),\"\")","v":""}]
[{"$f":"IF(ISNUMBER(SEARCH(A$206,'12.Partner Involvement'!$G775))=TRUE,(('12.Partner Involvement'!$D775*'12.Partner Involvement'!$E775)/COUNTA(_xlfn.TEXTSPLIT('12.Partner Involvement'!$G775,\";\"))),\"\")","v":""},{"$f":"IF(ISNUMBER(SEARCH(B$206,'12.Partner Involvement'!$G775))=TRUE,(('12.Partner Involvement'!$D775*'12.Partner Involvement'!$E775)/COUNTA(_xlfn.TEXTSPLIT('12.Partner Involvement'!$G775,\";\"))),\"\")","v":""},{"$f":"IF(ISNUMBER(SEARCH(C$206,'12.Partner Involvement'!$G775))=TRUE,(('12.Partner Involvement'!$D775*'12.Partner Involvement'!$E775)/COUNTA(_xlfn.TEXTSPLIT('12.Partner Involvement'!$G775,\";\"))),\"\")","v":""},null,{"$f":"IF(ISNUMBER(SEARCH(E$206,'12.Partner Involvement'!$H775))=TRUE,(('12.Partner Involvement'!$D775*'12.Partner Involvement'!$E775)/COUNTA(_xlfn.TEXTSPLIT('12.Partner Involvement'!$H775,\";\"))),\"\")","v":""},{"$f":"IF(ISNUMBER(SEARCH(F$206,'12.Partner Involvement'!$H775))=TRUE,(('12.Partner Involvement'!$D775*'12.Partner Involvement'!$E775)/COUNTA(_xlfn.TEXTSPLIT('12.Partner Involvement'!$H775,\";\"))),\"\")","v":""},{"$f":"IF(ISNUMBER(SEARCH(G$206,'12.Partner Involvement'!$H775))=TRUE,(('12.Partner Involvement'!$D775*'12.Partner Involvement'!$E775)/COUNTA(_xlfn.TEXTSPLIT('12.Partner Involvement'!$H775,\";\"))),\"\")","v":""},{"$f":"IF(ISNUMBER(SEARCH(H$206,'12.Partner Involvement'!$H775))=TRUE,(('12.Partner Involvement'!$D775*'12.Partner Involvement'!$E775)/COUNTA(_xlfn.TEXTSPLIT('12.Partner Involvement'!$H775,\";\"))),\"\")","v":""}]
[{"$f":"IF(ISNUMBER(SEARCH(A$206,'12.Partner Involvement'!$G776))=TRUE,(('12.Partner Involvement'!$D776*'12.Partner Involvement'!$E776)/COUNTA(_xlfn.TEXTSPLIT('12.Partner Involvement'!$G776,\";\"))),\"\")","v":""},{"$f":"IF(ISNUMBER(SEARCH(B$206,'12.Partner Involvement'!$G776))=TRUE,(('12.Partner Involvement'!$D776*'12.Partner Involvement'!$E776)/COUNTA(_xlfn.TEXTSPLIT('12.Partner Involvement'!$G776,\";\"))),\"\")","v":""},{"$f":"IF(ISNUMBER(SEARCH(C$206,'12.Partner Involvement'!$G776))=TRUE,(('12.Partner Involvement'!$D776*'12.Partner Involvement'!$E776)/COUNTA(_xlfn.TEXTSPLIT('12.Partner Involvement'!$G776,\";\"))),\"\")","v":""},null,{"$f":"IF(ISNUMBER(SEARCH(E$206,'12.Partner Involvement'!$H776))=TRUE,(('12.Partner Involvement'!$D776*'12.Partner Involvement'!$E776)/COUNTA(_xlfn.TEXTSPLIT('12.Partner Involvement'!$H776,\";\"))),\"\")","v":""},{"$f":"IF(ISNUMBER(SEARCH(F$206,'12.Partner Involvement'!$H776))=TRUE,(('12.Partner Involvement'!$D776*'12.Partner Involvement'!$E776)/COUNTA(_xlfn.TEXTSPLIT('12.Partner Involvement'!$H776,\";\"))),\"\")","v":""},{"$f":"IF(ISNUMBER(SEARCH(G$206,'12.Partner Involvement'!$H776))=TRUE,(('12.Partner Involvement'!$D776*'12.Partner Involvement'!$E776)/COUNTA(_xlfn.TEXTSPLIT('12.Partner Involvement'!$H776,\";\"))),\"\")","v":""},{"$f":"IF(ISNUMBER(SEARCH(H$206,'12.Partner Involvement'!$H776))=TRUE,(('12.Partner Involvement'!$D776*'12.Partner Involvement'!$E776)/COUNTA(_xlfn.TEXTSPLIT('12.Partner Involvement'!$H776,\";\"))),\"\")","v":""}]
[{"$f":"IF(ISNUMBER(SEARCH(A$206,'12.Partner Involvement'!$G777))=TRUE,(('12.Partner Involvement'!$D777*'12.Partner Involvement'!$E777)/COUNTA(_xlfn.TEXTSPLIT('12.Partner Involvement'!$G777,\";\"))),\"\")","v":""},{"$f":"IF(ISNUMBER(SEARCH(B$206,'12.Partner Involvement'!$G777))=TRUE,(('12.Partner Involvement'!$D777*'12.Partner Involvement'!$E777)/COUNTA(_xlfn.TEXTSPLIT('12.Partner Involvement'!$G777,\";\"))),\"\")","v":""},{"$f":"IF(ISNUMBER(SEARCH(C$206,'12.Partner Involvement'!$G777))=TRUE,(('12.Partner Involvement'!$D777*'12.Partner Involvement'!$E777)/COUNTA(_xlfn.TEXTSPLIT('12.Partner Involvement'!$G777,\";\"))),\"\")","v":""},null,{"$f":"IF(ISNUMBER(SEARCH(E$206,'12.Partner Involvement'!$H777))=TRUE,(('12.Partner Involvement'!$D777*'12.Partner Involvement'!$E777)/COUNTA(_xlfn.TEXTSPLIT('12.Partner Involvement'!$H777,\";\"))),\"\")","v":""},{"$f":"IF(ISNUMBER(SEARCH(F$206,'12.Partner Involvement'!$H777))=TRUE,(('12.Partner Involvement'!$D777*'12.Partner Involvement'!$E777)/COUNTA(_xlfn.TEXTSPLIT('12.Partner Involvement'!$H777,\";\"))),\"\")","v":""},{"$f":"IF(ISNUMBER(SEARCH(G$206,'12.Partner Involvement'!$H777))=TRUE,(('12.Partner Involvement'!$D777*'12.Partner Involvement'!$E777)/COUNTA(_xlfn.TEXTSPLIT('12.Partner Involvement'!$H777,\";\"))),\"\")","v":""},{"$f":"IF(ISNUMBER(SEARCH(H$206,'12.Partner Involvement'!$H777))=TRUE,(('12.Partner Involvement'!$D777*'12.Partner Involvement'!$E777)/COUNTA(_xlfn.TEXTSPLIT('12.Partner Involvement'!$H777,\";\"))),\"\")","v":""}]
[{"$f":"IF(ISNUMBER(SEARCH(A$206,'12.Partner Involvement'!$G778))=TRUE,(('12.Partner Involvement'!$D778*'12.Partner Involvement'!$E778)/COUNTA(_xlfn.TEXTSPLIT('12.Partner Involvement'!$G778,\";\"))),\"\")","v":""},{"$f":"IF(ISNUMBER(SEARCH(B$206,'12.Partner Involvement'!$G778))=TRUE,(('12.Partner Involvement'!$D778*'12.Partner Involvement'!$E778)/COUNTA(_xlfn.TEXTSPLIT('12.Partner Involvement'!$G778,\";\"))),\"\")","v":""},{"$f":"IF(ISNUMBER(SEARCH(C$206,'12.Partner Involvement'!$G778))=TRUE,(('12.Partner Involvement'!$D778*'12.Partner Involvement'!$E778)/COUNTA(_xlfn.TEXTSPLIT('12.Partner Involvement'!$G778,\";\"))),\"\")","v":""},null,{"$f":"IF(ISNUMBER(SEARCH(E$206,'12.Partner Involvement'!$H778))=TRUE,(('12.Partner Involvement'!$D778*'12.Partner Involvement'!$E778)/COUNTA(_xlfn.TEXTSPLIT('12.Partner Involvement'!$H778,\";\"))),\"\")","v":""},{"$f":"IF(ISNUMBER(SEARCH(F$206,'12.Partner Involvement'!$H778))=TRUE,(('12.Partner Involvement'!$D778*'12.Partner Involvement'!$E778)/COUNTA(_xlfn.TEXTSPLIT('12.Partner Involvement'!$H778,\";\"))),\"\")","v":""},{"$f":"IF(ISNUMBER(SEARCH(G$206,'12.Partner Involvement'!$H778))=TRUE,(('12.Partner Involvement'!$D778*'12.Partner Involvement'!$E778)/COUNTA(_xlfn.TEXTSPLIT('12.Partner Involvement'!$H778,\";\"))),\"\")","v":""},{"$f":"IF(ISNUMBER(SEARCH(H$206,'12.Partner Involvement'!$H778))=TRUE,(('12.Partner Involvement'!$D778*'12.Partner Involvement'!$E778)/COUNTA(_xlfn.TEXTSPLIT('12.Partner Involvement'!$H778,\";\"))),\"\")","v":""}]
[{"$f":"IF(ISNUMBER(SEARCH(A$206,'12.Partner Involvement'!$G779))=TRUE,(('12.Partner Involvement'!$D779*'12.Partner Involvement'!$E779)/COUNTA(_xlfn.TEXTSPLIT('12.Partner Involvement'!$G779,\";\"))),\"\")","v":""},{"$f":"IF(ISNUMBER(SEARCH(B$206,'12.Partner Involvement'!$G779))=TRUE,(('12.Partner Involvement'!$D779*'12.Partner Involvement'!$E779)/COUNTA(_xlfn.TEXTSPLIT('12.Partner Involvement'!$G779,\";\"))),\"\")","v":""},{"$f":"IF(ISNUMBER(SEARCH(C$206,'12.Partner Involvement'!$G779))=TRUE,(('12.Partner Involvement'!$D779*'12.Partner Involvement'!$E779)/COUNTA(_xlfn.TEXTSPLIT('12.Partner Involvement'!$G779,\";\"))),\"\")","v":""},null,{"$f":"IF(ISNUMBER(SEARCH(E$206,'12.Partner Involvement'!$H779))=TRUE,(('12.Partner Involvement'!$D779*'12.Partner Involvement'!$E779)/COUNTA(_xlfn.TEXTSPLIT('12.Partner Involvement'!$H779,\";\"))),\"\")","v":""},{"$f":"IF(ISNUMBER(SEARCH(F$206,'12.Partner Involvement'!$H779))=TRUE,(('12.Partner Involvement'!$D779*'12.Partner Involvement'!$E779)/COUNTA(_xlfn.TEXTSPLIT('12.Partner Involvement'!$H779,\";\"))),\"\")","v":""},{"$f":"IF(ISNUMBER(SEARCH(G$206,'12.Partner Involvement'!$H779))=TRUE,(('12.Partner Involvement'!$D779*'12.Partner Involvement'!$E779)/COUNTA(_xlfn.TEXTSPLIT('12.Partner Involvement'!$H779,\";\"))),\"\")","v":""},{"$f":"IF(ISNUMBER(SEARCH(H$206,'12.Partner Involvement'!$H779))=TRUE,(('12.Partner Involvement'!$D779*'12.Partner Involvement'!$E779)/COUNTA(_xlfn.TEXTSPLIT('12.Partner Involvement'!$H779,\";\"))),\"\")","v":""}]
[{"$f":"IF(ISNUMBER(SEARCH(A$206,'12.Partner Involvement'!$G780))=TRUE,(('12.Partner Involvement'!$D780*'12.Partner Involvement'!$E780)/COUNTA(_xlfn.TEXTSPLIT('12.Partner Involvement'!$G780,\";\"))),\"\")","v":""},{"$f":"IF(ISNUMBER(SEARCH(B$206,'12.Partner Involvement'!$G780))=TRUE,(('12.Partner Involvement'!$D780*'12.Partner Involvement'!$E780)/COUNTA(_xlfn.TEXTSPLIT('12.Partner Involvement'!$G780,\";\"))),\"\")","v":""},{"$f":"IF(ISNUMBER(SEARCH(C$206,'12.Partner Involvement'!$G780))=TRUE,(('12.Partner Involvement'!$D780*'12.Partner Involvement'!$E780)/COUNTA(_xlfn.TEXTSPLIT('12.Partner Involvement'!$G780,\";\"))),\"\")","v":""},null,{"$f":"IF(ISNUMBER(SEARCH(E$206,'12.Partner Involvement'!$H780))=TRUE,(('12.Partner Involvement'!$D780*'12.Partner Involvement'!$E780)/COUNTA(_xlfn.TEXTSPLIT('12.Partner Involvement'!$H780,\";\"))),\"\")","v":""},{"$f":"IF(ISNUMBER(SEARCH(F$206,'12.Partner Involvement'!$H780))=TRUE,(('12.Partner Involvement'!$D780*'12.Partner Involvement'!$E780)/COUNTA(_xlfn.TEXTSPLIT('12.Partner Involvement'!$H780,\";\"))),\"\")","v":""},{"$f":"IF(ISNUMBER(SEARCH(G$206,'12.Partner Involvement'!$H780))=TRUE,(('12.Partner Involvement'!$D780*'12.Partner Involvement'!$E780)/COUNTA(_xlfn.TEXTSPLIT('12.Partner Involvement'!$H780,\";\"))),\"\")","v":""},{"$f":"IF(ISNUMBER(SEARCH(H$206,'12.Partner Involvement'!$H780))=TRUE,(('12.Partner Involvement'!$D780*'12.Partner Involvement'!$E780)/COUNTA(_xlfn.TEXTSPLIT('12.Partner Involvement'!$H780,\";\"))),\"\")","v":""}]
[{"$f":"IF(ISNUMBER(SEARCH(A$206,'12.Partner Involvement'!$G781))=TRUE,(('12.Partner Involvement'!$D781*'12.Partner Involvement'!$E781)/COUNTA(_xlfn.TEXTSPLIT('12.Partner Involvement'!$G781,\";\"))),\"\")","v":""},{"$f":"IF(ISNUMBER(SEARCH(B$206,'12.Partner Involvement'!$G781))=TRUE,(('12.Partner Involvement'!$D781*'12.Partner Involvement'!$E781)/COUNTA(_xlfn.TEXTSPLIT('12.Partner Involvement'!$G781,\";\"))),\"\")","v":""},{"$f":"IF(ISNUMBER(SEARCH(C$206,'12.Partner Involvement'!$G781))=TRUE,(('12.Partner Involvement'!$D781*'12.Partner Involvement'!$E781)/COUNTA(_xlfn.TEXTSPLIT('12.Partner Involvement'!$G781,\";\"))),\"\")","v":""},null,{"$f":"IF(ISNUMBER(SEARCH(E$206,'12.Partner Involvement'!$H781))=TRUE,(('12.Partner Involvement'!$D781*'12.Partner Involvement'!$E781)/COUNTA(_xlfn.TEXTSPLIT('12.Partner Involvement'!$H781,\";\"))),\"\")","v":""},{"$f":"IF(ISNUMBER(SEARCH(F$206,'12.Partner Involvement'!$H781))=TRUE,(('12.Partner Involvement'!$D781*'12.Partner Involvement'!$E781)/COUNTA(_xlfn.TEXTSPLIT('12.Partner Involvement'!$H781,\";\"))),\"\")","v":""},{"$f":"IF(ISNUMBER(SEARCH(G$206,'12.Partner Involvement'!$H781))=TRUE,(('12.Partner Involvement'!$D781*'12.Partner Involvement'!$E781)/COUNTA(_xlfn.TEXTSPLIT('12.Partner Involvement'!$H781,\";\"))),\"\")","v":""},{"$f":"IF(ISNUMBER(SEARCH(H$206,'12.Partner Involvement'!$H781))=TRUE,(('12.Partner Involvement'!$D781*'12.Partner Involvement'!$E781)/COUNTA(_xlfn.TEXTSPLIT('12.Partner Involvement'!$H781,\";\"))),\"\")","v":""}]
[{"$f":"IF(ISNUMBER(SEARCH(A$206,'12.Partner Involvement'!$G782))=TRUE,(('12.Partner Involvement'!$D782*'12.Partner Involvement'!$E782)/COUNTA(_xlfn.TEXTSPLIT('12.Partner Involvement'!$G782,\";\"))),\"\")","v":""},{"$f":"IF(ISNUMBER(SEARCH(B$206,'12.Partner Involvement'!$G782))=TRUE,(('12.Partner Involvement'!$D782*'12.Partner Involvement'!$E782)/COUNTA(_xlfn.TEXTSPLIT('12.Partner Involvement'!$G782,\";\"))),\"\")","v":""},{"$f":"IF(ISNUMBER(SEARCH(C$206,'12.Partner Involvement'!$G782))=TRUE,(('12.Partner Involvement'!$D782*'12.Partner Involvement'!$E782)/COUNTA(_xlfn.TEXTSPLIT('12.Partner Involvement'!$G782,\";\"))),\"\")","v":""},null,{"$f":"IF(ISNUMBER(SEARCH(E$206,'12.Partner Involvement'!$H782))=TRUE,(('12.Partner Involvement'!$D782*'12.Partner Involvement'!$E782)/COUNTA(_xlfn.TEXTSPLIT('12.Partner Involvement'!$H782,\";\"))),\"\")","v":""},{"$f":"IF(ISNUMBER(SEARCH(F$206,'12.Partner Involvement'!$H782))=TRUE,(('12.Partner Involvement'!$D782*'12.Partner Involvement'!$E782)/COUNTA(_xlfn.TEXTSPLIT('12.Partner Involvement'!$H782,\";\"))),\"\")","v":""},{"$f":"IF(ISNUMBER(SEARCH(G$206,'12.Partner Involvement'!$H782))=TRUE,(('12.Partner Involvement'!$D782*'12.Partner Involvement'!$E782)/COUNTA(_xlfn.TEXTSPLIT('12.Partner Involvement'!$H782,\";\"))),\"\")","v":""},{"$f":"IF(ISNUMBER(SEARCH(H$206,'12.Partner Involvement'!$H782))=TRUE,(('12.Partner Involvement'!$D782*'12.Partner Involvement'!$E782)/COUNTA(_xlfn.TEXTSPLIT('12.Partner Involvement'!$H782,\";\"))),\"\")","v":""}]
[{"$f":"IF(ISNUMBER(SEARCH(A$206,'12.Partner Involvement'!$G783))=TRUE,(('12.Partner Involvement'!$D783*'12.Partner Involvement'!$E783)/COUNTA(_xlfn.TEXTSPLIT('12.Partner Involvement'!$G783,\";\"))),\"\")","v":""},{"$f":"IF(ISNUMBER(SEARCH(B$206,'12.Partner Involvement'!$G783))=TRUE,(('12.Partner Involvement'!$D783*'12.Partner Involvement'!$E783)/COUNTA(_xlfn.TEXTSPLIT('12.Partner Involvement'!$G783,\";\"))),\"\")","v":""},{"$f":"IF(ISNUMBER(SEARCH(C$206,'12.Partner Involvement'!$G783))=TRUE,(('12.Partner Involvement'!$D783*'12.Partner Involvement'!$E783)/COUNTA(_xlfn.TEXTSPLIT('12.Partner Involvement'!$G783,\";\"))),\"\")","v":""},null,{"$f":"IF(ISNUMBER(SEARCH(E$206,'12.Partner Involvement'!$H783))=TRUE,(('12.Partner Involvement'!$D783*'12.Partner Involvement'!$E783)/COUNTA(_xlfn.TEXTSPLIT('12.Partner Involvement'!$H783,\";\"))),\"\")","v":""},{"$f":"IF(ISNUMBER(SEARCH(F$206,'12.Partner Involvement'!$H783))=TRUE,(('12.Partner Involvement'!$D783*'12.Partner Involvement'!$E783)/COUNTA(_xlfn.TEXTSPLIT('12.Partner Involvement'!$H783,\";\"))),\"\")","v":""},{"$f":"IF(ISNUMBER(SEARCH(G$206,'12.Partner Involvement'!$H783))=TRUE,(('12.Partner Involvement'!$D783*'12.Partner Involvement'!$E783)/COUNTA(_xlfn.TEXTSPLIT('12.Partner Involvement'!$H783,\";\"))),\"\")","v":""},{"$f":"IF(ISNUMBER(SEARCH(H$206,'12.Partner Involvement'!$H783))=TRUE,(('12.Partner Involvement'!$D783*'12.Partner Involvement'!$E783)/COUNTA(_xlfn.TEXTSPLIT('12.Partner Involvement'!$H783,\";\"))),\"\")","v":""}]
[{"$f":"IF(ISNUMBER(SEARCH(A$206,'12.Partner Involvement'!$G784))=TRUE,(('12.Partner Involvement'!$D784*'12.Partner Involvement'!$E784)/COUNTA(_xlfn.TEXTSPLIT('12.Partner Involvement'!$G784,\";\"))),\"\")","v":""},{"$f":"IF(ISNUMBER(SEARCH(B$206,'12.Partner Involvement'!$G784))=TRUE,(('12.Partner Involvement'!$D784*'12.Partner Involvement'!$E784)/COUNTA(_xlfn.TEXTSPLIT('12.Partner Involvement'!$G784,\";\"))),\"\")","v":""},{"$f":"IF(ISNUMBER(SEARCH(C$206,'12.Partner Involvement'!$G784))=TRUE,(('12.Partner Involvement'!$D784*'12.Partner Involvement'!$E784)/COUNTA(_xlfn.TEXTSPLIT('12.Partner Involvement'!$G784,\";\"))),\"\")","v":""},null,{"$f":"IF(ISNUMBER(SEARCH(E$206,'12.Partner Involvement'!$H784))=TRUE,(('12.Partner Involvement'!$D784*'12.Partner Involvement'!$E784)/COUNTA(_xlfn.TEXTSPLIT('12.Partner Involvement'!$H784,\";\"))),\"\")","v":""},{"$f":"IF(ISNUMBER(SEARCH(F$206,'12.Partner Involvement'!$H784))=TRUE,(('12.Partner Involvement'!$D784*'12.Partner Involvement'!$E784)/COUNTA(_xlfn.TEXTSPLIT('12.Partner Involvement'!$H784,\";\"))),\"\")","v":""},{"$f":"IF(ISNUMBER(SEARCH(G$206,'12.Partner Involvement'!$H784))=TRUE,(('12.Partner Involvement'!$D784*'12.Partner Involvement'!$E784)/COUNTA(_xlfn.TEXTSPLIT('12.Partner Involvement'!$H784,\";\"))),\"\")","v":""},{"$f":"IF(ISNUMBER(SEARCH(H$206,'12.Partner Involvement'!$H784))=TRUE,(('12.Partner Involvement'!$D784*'12.Partner Involvement'!$E784)/COUNTA(_xlfn.TEXTSPLIT('12.Partner Involvement'!$H784,\";\"))),\"\")","v":""}]
[{"$f":"IF(ISNUMBER(SEARCH(A$206,'12.Partner Involvement'!$G785))=TRUE,(('12.Partner Involvement'!$D785*'12.Partner Involvement'!$E785)/COUNTA(_xlfn.TEXTSPLIT('12.Partner Involvement'!$G785,\";\"))),\"\")","v":""},{"$f":"IF(ISNUMBER(SEARCH(B$206,'12.Partner Involvement'!$G785))=TRUE,(('12.Partner Involvement'!$D785*'12.Partner Involvement'!$E785)/COUNTA(_xlfn.TEXTSPLIT('12.Partner Involvement'!$G785,\";\"))),\"\")","v":""},{"$f":"IF(ISNUMBER(SEARCH(C$206,'12.Partner Involvement'!$G785))=TRUE,(('12.Partner Involvement'!$D785*'12.Partner Involvement'!$E785)/COUNTA(_xlfn.TEXTSPLIT('12.Partner Involvement'!$G785,\";\"))),\"\")","v":""},null,{"$f":"IF(ISNUMBER(SEARCH(E$206,'12.Partner Involvement'!$H785))=TRUE,(('12.Partner Involvement'!$D785*'12.Partner Involvement'!$E785)/COUNTA(_xlfn.TEXTSPLIT('12.Partner Involvement'!$H785,\";\"))),\"\")","v":""},{"$f":"IF(ISNUMBER(SEARCH(F$206,'12.Partner Involvement'!$H785))=TRUE,(('12.Partner Involvement'!$D785*'12.Partner Involvement'!$E785)/COUNTA(_xlfn.TEXTSPLIT('12.Partner Involvement'!$H785,\";\"))),\"\")","v":""},{"$f":"IF(ISNUMBER(SEARCH(G$206,'12.Partner Involvement'!$H785))=TRUE,(('12.Partner Involvement'!$D785*'12.Partner Involvement'!$E785)/COUNTA(_xlfn.TEXTSPLIT('12.Partner Involvement'!$H785,\";\"))),\"\")","v":""},{"$f":"IF(ISNUMBER(SEARCH(H$206,'12.Partner Involvement'!$H785))=TRUE,(('12.Partner Involvement'!$D785*'12.Partner Involvement'!$E785)/COUNTA(_xlfn.TEXTSPLIT('12.Partner Involvement'!$H785,\";\"))),\"\")","v":""}]
[{"$f":"IF(ISNUMBER(SEARCH(A$206,'12.Partner Involvement'!$G786))=TRUE,(('12.Partner Involvement'!$D786*'12.Partner Involvement'!$E786)/COUNTA(_xlfn.TEXTSPLIT('12.Partner Involvement'!$G786,\";\"))),\"\")","v":""},{"$f":"IF(ISNUMBER(SEARCH(B$206,'12.Partner Involvement'!$G786))=TRUE,(('12.Partner Involvement'!$D786*'12.Partner Involvement'!$E786)/COUNTA(_xlfn.TEXTSPLIT('12.Partner Involvement'!$G786,\";\"))),\"\")","v":""},{"$f":"IF(ISNUMBER(SEARCH(C$206,'12.Partner Involvement'!$G786))=TRUE,(('12.Partner Involvement'!$D786*'12.Partner Involvement'!$E786)/COUNTA(_xlfn.TEXTSPLIT('12.Partner Involvement'!$G786,\";\"))),\"\")","v":""},null,{"$f":"IF(ISNUMBER(SEARCH(E$206,'12.Partner Involvement'!$H786))=TRUE,(('12.Partner Involvement'!$D786*'12.Partner Involvement'!$E786)/COUNTA(_xlfn.TEXTSPLIT('12.Partner Involvement'!$H786,\";\"))),\"\")","v":""},{"$f":"IF(ISNUMBER(SEARCH(F$206,'12.Partner Involvement'!$H786))=TRUE,(('12.Partner Involvement'!$D786*'12.Partner Involvement'!$E786)/COUNTA(_xlfn.TEXTSPLIT('12.Partner Involvement'!$H786,\";\"))),\"\")","v":""},{"$f":"IF(ISNUMBER(SEARCH(G$206,'12.Partner Involvement'!$H786))=TRUE,(('12.Partner Involvement'!$D786*'12.Partner Involvement'!$E786)/COUNTA(_xlfn.TEXTSPLIT('12.Partner Involvement'!$H786,\";\"))),\"\")","v":""},{"$f":"IF(ISNUMBER(SEARCH(H$206,'12.Partner Involvement'!$H786))=TRUE,(('12.Partner Involvement'!$D786*'12.Partner Involvement'!$E786)/COUNTA(_xlfn.TEXTSPLIT('12.Partner Involvement'!$H786,\";\"))),\"\")","v":""}]
[{"$f":"IF(ISNUMBER(SEARCH(A$206,'12.Partner Involvement'!$G787))=TRUE,(('12.Partner Involvement'!$D787*'12.Partner Involvement'!$E787)/COUNTA(_xlfn.TEXTSPLIT('12.Partner Involvement'!$G787,\";\"))),\"\")","v":""},{"$f":"IF(ISNUMBER(SEARCH(B$206,'12.Partner Involvement'!$G787))=TRUE,(('12.Partner Involvement'!$D787*'12.Partner Involvement'!$E787)/COUNTA(_xlfn.TEXTSPLIT('12.Partner Involvement'!$G787,\";\"))),\"\")","v":""},{"$f":"IF(ISNUMBER(SEARCH(C$206,'12.Partner Involvement'!$G787))=TRUE,(('12.Partner Involvement'!$D787*'12.Partner Involvement'!$E787)/COUNTA(_xlfn.TEXTSPLIT('12.Partner Involvement'!$G787,\";\"))),\"\")","v":""},null,{"$f":"IF(ISNUMBER(SEARCH(E$206,'12.Partner Involvement'!$H787))=TRUE,(('12.Partner Involvement'!$D787*'12.Partner Involvement'!$E787)/COUNTA(_xlfn.TEXTSPLIT('12.Partner Involvement'!$H787,\";\"))),\"\")","v":""},{"$f":"IF(ISNUMBER(SEARCH(F$206,'12.Partner Involvement'!$H787))=TRUE,(('12.Partner Involvement'!$D787*'12.Partner Involvement'!$E787)/COUNTA(_xlfn.TEXTSPLIT('12.Partner Involvement'!$H787,\";\"))),\"\")","v":""},{"$f":"IF(ISNUMBER(SEARCH(G$206,'12.Partner Involvement'!$H787))=TRUE,(('12.Partner Involvement'!$D787*'12.Partner Involvement'!$E787)/COUNTA(_xlfn.TEXTSPLIT('12.Partner Involvement'!$H787,\";\"))),\"\")","v":""},{"$f":"IF(ISNUMBER(SEARCH(H$206,'12.Partner Involvement'!$H787))=TRUE,(('12.Partner Involvement'!$D787*'12.Partner Involvement'!$E787)/COUNTA(_xlfn.TEXTSPLIT('12.Partner Involvement'!$H787,\";\"))),\"\")","v":""}]
[{"$f":"IF(ISNUMBER(SEARCH(A$206,'12.Partner Involvement'!$G788))=TRUE,(('12.Partner Involvement'!$D788*'12.Partner Involvement'!$E788)/COUNTA(_xlfn.TEXTSPLIT('12.Partner Involvement'!$G788,\";\"))),\"\")","v":""},{"$f":"IF(ISNUMBER(SEARCH(B$206,'12.Partner Involvement'!$G788))=TRUE,(('12.Partner Involvement'!$D788*'12.Partner Involvement'!$E788)/COUNTA(_xlfn.TEXTSPLIT('12.Partner Involvement'!$G788,\";\"))),\"\")","v":""},{"$f":"IF(ISNUMBER(SEARCH(C$206,'12.Partner Involvement'!$G788))=TRUE,(('12.Partner Involvement'!$D788*'12.Partner Involvement'!$E788)/COUNTA(_xlfn.TEXTSPLIT('12.Partner Involvement'!$G788,\";\"))),\"\")","v":""},null,{"$f":"IF(ISNUMBER(SEARCH(E$206,'12.Partner Involvement'!$H788))=TRUE,(('12.Partner Involvement'!$D788*'12.Partner Involvement'!$E788)/COUNTA(_xlfn.TEXTSPLIT('12.Partner Involvement'!$H788,\";\"))),\"\")","v":""},{"$f":"IF(ISNUMBER(SEARCH(F$206,'12.Partner Involvement'!$H788))=TRUE,(('12.Partner Involvement'!$D788*'12.Partner Involvement'!$E788)/COUNTA(_xlfn.TEXTSPLIT('12.Partner Involvement'!$H788,\";\"))),\"\")","v":""},{"$f":"IF(ISNUMBER(SEARCH(G$206,'12.Partner Involvement'!$H788))=TRUE,(('12.Partner Involvement'!$D788*'12.Partner Involvement'!$E788)/COUNTA(_xlfn.TEXTSPLIT('12.Partner Involvement'!$H788,\";\"))),\"\")","v":""},{"$f":"IF(ISNUMBER(SEARCH(H$206,'12.Partner Involvement'!$H788))=TRUE,(('12.Partner Involvement'!$D788*'12.Partner Involvement'!$E788)/COUNTA(_xlfn.TEXTSPLIT('12.Partner Involvement'!$H788,\";\"))),\"\")","v":""}]
[{"$f":"IF(ISNUMBER(SEARCH(A$206,'12.Partner Involvement'!$G789))=TRUE,(('12.Partner Involvement'!$D789*'12.Partner Involvement'!$E789)/COUNTA(_xlfn.TEXTSPLIT('12.Partner Involvement'!$G789,\";\"))),\"\")","v":""},{"$f":"IF(ISNUMBER(SEARCH(B$206,'12.Partner Involvement'!$G789))=TRUE,(('12.Partner Involvement'!$D789*'12.Partner Involvement'!$E789)/COUNTA(_xlfn.TEXTSPLIT('12.Partner Involvement'!$G789,\";\"))),\"\")","v":""},{"$f":"IF(ISNUMBER(SEARCH(C$206,'12.Partner Involvement'!$G789))=TRUE,(('12.Partner Involvement'!$D789*'12.Partner Involvement'!$E789)/COUNTA(_xlfn.TEXTSPLIT('12.Partner Involvement'!$G789,\";\"))),\"\")","v":""},null,{"$f":"IF(ISNUMBER(SEARCH(E$206,'12.Partner Involvement'!$H789))=TRUE,(('12.Partner Involvement'!$D789*'12.Partner Involvement'!$E789)/COUNTA(_xlfn.TEXTSPLIT('12.Partner Involvement'!$H789,\";\"))),\"\")","v":""},{"$f":"IF(ISNUMBER(SEARCH(F$206,'12.Partner Involvement'!$H789))=TRUE,(('12.Partner Involvement'!$D789*'12.Partner Involvement'!$E789)/COUNTA(_xlfn.TEXTSPLIT('12.Partner Involvement'!$H789,\";\"))),\"\")","v":""},{"$f":"IF(ISNUMBER(SEARCH(G$206,'12.Partner Involvement'!$H789))=TRUE,(('12.Partner Involvement'!$D789*'12.Partner Involvement'!$E789)/COUNTA(_xlfn.TEXTSPLIT('12.Partner Involvement'!$H789,\";\"))),\"\")","v":""},{"$f":"IF(ISNUMBER(SEARCH(H$206,'12.Partner Involvement'!$H789))=TRUE,(('12.Partner Involvement'!$D789*'12.Partner Involvement'!$E789)/COUNTA(_xlfn.TEXTSPLIT('12.Partner Involvement'!$H789,\";\"))),\"\")","v":""}]
[{"$f":"IF(ISNUMBER(SEARCH(A$206,'12.Partner Involvement'!$G790))=TRUE,(('12.Partner Involvement'!$D790*'12.Partner Involvement'!$E790)/COUNTA(_xlfn.TEXTSPLIT('12.Partner Involvement'!$G790,\";\"))),\"\")","v":""},{"$f":"IF(ISNUMBER(SEARCH(B$206,'12.Partner Involvement'!$G790))=TRUE,(('12.Partner Involvement'!$D790*'12.Partner Involvement'!$E790)/COUNTA(_xlfn.TEXTSPLIT('12.Partner Involvement'!$G790,\";\"))),\"\")","v":""},{"$f":"IF(ISNUMBER(SEARCH(C$206,'12.Partner Involvement'!$G790))=TRUE,(('12.Partner Involvement'!$D790*'12.Partner Involvement'!$E790)/COUNTA(_xlfn.TEXTSPLIT('12.Partner Involvement'!$G790,\";\"))),\"\")","v":""},null,{"$f":"IF(ISNUMBER(SEARCH(E$206,'12.Partner Involvement'!$H790))=TRUE,(('12.Partner Involvement'!$D790*'12.Partner Involvement'!$E790)/COUNTA(_xlfn.TEXTSPLIT('12.Partner Involvement'!$H790,\";\"))),\"\")","v":""},{"$f":"IF(ISNUMBER(SEARCH(F$206,'12.Partner Involvement'!$H790))=TRUE,(('12.Partner Involvement'!$D790*'12.Partner Involvement'!$E790)/COUNTA(_xlfn.TEXTSPLIT('12.Partner Involvement'!$H790,\";\"))),\"\")","v":""},{"$f":"IF(ISNUMBER(SEARCH(G$206,'12.Partner Involvement'!$H790))=TRUE,(('12.Partner Involvement'!$D790*'12.Partner Involvement'!$E790)/COUNTA(_xlfn.TEXTSPLIT('12.Partner Involvement'!$H790,\";\"))),\"\")","v":""},{"$f":"IF(ISNUMBER(SEARCH(H$206,'12.Partner Involvement'!$H790))=TRUE,(('12.Partner Involvement'!$D790*'12.Partner Involvement'!$E790)/COUNTA(_xlfn.TEXTSPLIT('12.Partner Involvement'!$H790,\";\"))),\"\")","v":""}]
[{"$f":"IF(ISNUMBER(SEARCH(A$206,'12.Partner Involvement'!$G791))=TRUE,(('12.Partner Involvement'!$D791*'12.Partner Involvement'!$E791)/COUNTA(_xlfn.TEXTSPLIT('12.Partner Involvement'!$G791,\";\"))),\"\")","v":""},{"$f":"IF(ISNUMBER(SEARCH(B$206,'12.Partner Involvement'!$G791))=TRUE,(('12.Partner Involvement'!$D791*'12.Partner Involvement'!$E791)/COUNTA(_xlfn.TEXTSPLIT('12.Partner Involvement'!$G791,\";\"))),\"\")","v":""},{"$f":"IF(ISNUMBER(SEARCH(C$206,'12.Partner Involvement'!$G791))=TRUE,(('12.Partner Involvement'!$D791*'12.Partner Involvement'!$E791)/COUNTA(_xlfn.TEXTSPLIT('12.Partner Involvement'!$G791,\";\"))),\"\")","v":""},null,{"$f":"IF(ISNUMBER(SEARCH(E$206,'12.Partner Involvement'!$H791))=TRUE,(('12.Partner Involvement'!$D791*'12.Partner Involvement'!$E791)/COUNTA(_xlfn.TEXTSPLIT('12.Partner Involvement'!$H791,\";\"))),\"\")","v":""},{"$f":"IF(ISNUMBER(SEARCH(F$206,'12.Partner Involvement'!$H791))=TRUE,(('12.Partner Involvement'!$D791*'12.Partner Involvement'!$E791)/COUNTA(_xlfn.TEXTSPLIT('12.Partner Involvement'!$H791,\";\"))),\"\")","v":""},{"$f":"IF(ISNUMBER(SEARCH(G$206,'12.Partner Involvement'!$H791))=TRUE,(('12.Partner Involvement'!$D791*'12.Partner Involvement'!$E791)/COUNTA(_xlfn.TEXTSPLIT('12.Partner Involvement'!$H791,\";\"))),\"\")","v":""},{"$f":"IF(ISNUMBER(SEARCH(H$206,'12.Partner Involvement'!$H791))=TRUE,(('12.Partner Involvement'!$D791*'12.Partner Involvement'!$E791)/COUNTA(_xlfn.TEXTSPLIT('12.Partner Involvement'!$H791,\";\"))),\"\")","v":""}]
[{"$f":"IF(ISNUMBER(SEARCH(A$206,'12.Partner Involvement'!$G792))=TRUE,(('12.Partner Involvement'!$D792*'12.Partner Involvement'!$E792)/COUNTA(_xlfn.TEXTSPLIT('12.Partner Involvement'!$G792,\";\"))),\"\")","v":""},{"$f":"IF(ISNUMBER(SEARCH(B$206,'12.Partner Involvement'!$G792))=TRUE,(('12.Partner Involvement'!$D792*'12.Partner Involvement'!$E792)/COUNTA(_xlfn.TEXTSPLIT('12.Partner Involvement'!$G792,\";\"))),\"\")","v":""},{"$f":"IF(ISNUMBER(SEARCH(C$206,'12.Partner Involvement'!$G792))=TRUE,(('12.Partner Involvement'!$D792*'12.Partner Involvement'!$E792)/COUNTA(_xlfn.TEXTSPLIT('12.Partner Involvement'!$G792,\";\"))),\"\")","v":""},null,{"$f":"IF(ISNUMBER(SEARCH(E$206,'12.Partner Involvement'!$H792))=TRUE,(('12.Partner Involvement'!$D792*'12.Partner Involvement'!$E792)/COUNTA(_xlfn.TEXTSPLIT('12.Partner Involvement'!$H792,\";\"))),\"\")","v":""},{"$f":"IF(ISNUMBER(SEARCH(F$206,'12.Partner Involvement'!$H792))=TRUE,(('12.Partner Involvement'!$D792*'12.Partner Involvement'!$E792)/COUNTA(_xlfn.TEXTSPLIT('12.Partner Involvement'!$H792,\";\"))),\"\")","v":""},{"$f":"IF(ISNUMBER(SEARCH(G$206,'12.Partner Involvement'!$H792))=TRUE,(('12.Partner Involvement'!$D792*'12.Partner Involvement'!$E792)/COUNTA(_xlfn.TEXTSPLIT('12.Partner Involvement'!$H792,\";\"))),\"\")","v":""},{"$f":"IF(ISNUMBER(SEARCH(H$206,'12.Partner Involvement'!$H792))=TRUE,(('12.Partner Involvement'!$D792*'12.Partner Involvement'!$E792)/COUNTA(_xlfn.TEXTSPLIT('12.Partner Involvement'!$H792,\";\"))),\"\")","v":""}]
[{"$f":"IF(ISNUMBER(SEARCH(A$206,'12.Partner Involvement'!$G793))=TRUE,(('12.Partner Involvement'!$D793*'12.Partner Involvement'!$E793)/COUNTA(_xlfn.TEXTSPLIT('12.Partner Involvement'!$G793,\";\"))),\"\")","v":""},{"$f":"IF(ISNUMBER(SEARCH(B$206,'12.Partner Involvement'!$G793))=TRUE,(('12.Partner Involvement'!$D793*'12.Partner Involvement'!$E793)/COUNTA(_xlfn.TEXTSPLIT('12.Partner Involvement'!$G793,\";\"))),\"\")","v":""},{"$f":"IF(ISNUMBER(SEARCH(C$206,'12.Partner Involvement'!$G793))=TRUE,(('12.Partner Involvement'!$D793*'12.Partner Involvement'!$E793)/COUNTA(_xlfn.TEXTSPLIT('12.Partner Involvement'!$G793,\";\"))),\"\")","v":""},null,{"$f":"IF(ISNUMBER(SEARCH(E$206,'12.Partner Involvement'!$H793))=TRUE,(('12.Partner Involvement'!$D793*'12.Partner Involvement'!$E793)/COUNTA(_xlfn.TEXTSPLIT('12.Partner Involvement'!$H793,\";\"))),\"\")","v":""},{"$f":"IF(ISNUMBER(SEARCH(F$206,'12.Partner Involvement'!$H793))=TRUE,(('12.Partner Involvement'!$D793*'12.Partner Involvement'!$E793)/COUNTA(_xlfn.TEXTSPLIT('12.Partner Involvement'!$H793,\";\"))),\"\")","v":""},{"$f":"IF(ISNUMBER(SEARCH(G$206,'12.Partner Involvement'!$H793))=TRUE,(('12.Partner Involvement'!$D793*'12.Partner Involvement'!$E793)/COUNTA(_xlfn.TEXTSPLIT('12.Partner Involvement'!$H793,\";\"))),\"\")","v":""},{"$f":"IF(ISNUMBER(SEARCH(H$206,'12.Partner Involvement'!$H793))=TRUE,(('12.Partner Involvement'!$D793*'12.Partner Involvement'!$E793)/COUNTA(_xlfn.TEXTSPLIT('12.Partner Involvement'!$H793,\";\"))),\"\")","v":""}]
[{"$f":"IF(ISNUMBER(SEARCH(A$206,'12.Partner Involvement'!$G794))=TRUE,(('12.Partner Involvement'!$D794*'12.Partner Involvement'!$E794)/COUNTA(_xlfn.TEXTSPLIT('12.Partner Involvement'!$G794,\";\"))),\"\")","v":""},{"$f":"IF(ISNUMBER(SEARCH(B$206,'12.Partner Involvement'!$G794))=TRUE,(('12.Partner Involvement'!$D794*'12.Partner Involvement'!$E794)/COUNTA(_xlfn.TEXTSPLIT('12.Partner Involvement'!$G794,\";\"))),\"\")","v":""},{"$f":"IF(ISNUMBER(SEARCH(C$206,'12.Partner Involvement'!$G794))=TRUE,(('12.Partner Involvement'!$D794*'12.Partner Involvement'!$E794)/COUNTA(_xlfn.TEXTSPLIT('12.Partner Involvement'!$G794,\";\"))),\"\")","v":""},null,{"$f":"IF(ISNUMBER(SEARCH(E$206,'12.Partner Involvement'!$H794))=TRUE,(('12.Partner Involvement'!$D794*'12.Partner Involvement'!$E794)/COUNTA(_xlfn.TEXTSPLIT('12.Partner Involvement'!$H794,\";\"))),\"\")","v":""},{"$f":"IF(ISNUMBER(SEARCH(F$206,'12.Partner Involvement'!$H794))=TRUE,(('12.Partner Involvement'!$D794*'12.Partner Involvement'!$E794)/COUNTA(_xlfn.TEXTSPLIT('12.Partner Involvement'!$H794,\";\"))),\"\")","v":""},{"$f":"IF(ISNUMBER(SEARCH(G$206,'12.Partner Involvement'!$H794))=TRUE,(('12.Partner Involvement'!$D794*'12.Partner Involvement'!$E794)/COUNTA(_xlfn.TEXTSPLIT('12.Partner Involvement'!$H794,\";\"))),\"\")","v":""},{"$f":"IF(ISNUMBER(SEARCH(H$206,'12.Partner Involvement'!$H794))=TRUE,(('12.Partner Involvement'!$D794*'12.Partner Involvement'!$E794)/COUNTA(_xlfn.TEXTSPLIT('12.Partner Involvement'!$H794,\";\"))),\"\")","v":""}]
[{"$f":"IF(ISNUMBER(SEARCH(A$206,'12.Partner Involvement'!$G795))=TRUE,(('12.Partner Involvement'!$D795*'12.Partner Involvement'!$E795)/COUNTA(_xlfn.TEXTSPLIT('12.Partner Involvement'!$G795,\";\"))),\"\")","v":""},{"$f":"IF(ISNUMBER(SEARCH(B$206,'12.Partner Involvement'!$G795))=TRUE,(('12.Partner Involvement'!$D795*'12.Partner Involvement'!$E795)/COUNTA(_xlfn.TEXTSPLIT('12.Partner Involvement'!$G795,\";\"))),\"\")","v":""},{"$f":"IF(ISNUMBER(SEARCH(C$206,'12.Partner Involvement'!$G795))=TRUE,(('12.Partner Involvement'!$D795*'12.Partner Involvement'!$E795)/COUNTA(_xlfn.TEXTSPLIT('12.Partner Involvement'!$G795,\";\"))),\"\")","v":""},null,{"$f":"IF(ISNUMBER(SEARCH(E$206,'12.Partner Involvement'!$H795))=TRUE,(('12.Partner Involvement'!$D795*'12.Partner Involvement'!$E795)/COUNTA(_xlfn.TEXTSPLIT('12.Partner Involvement'!$H795,\";\"))),\"\")","v":""},{"$f":"IF(ISNUMBER(SEARCH(F$206,'12.Partner Involvement'!$H795))=TRUE,(('12.Partner Involvement'!$D795*'12.Partner Involvement'!$E795)/COUNTA(_xlfn.TEXTSPLIT('12.Partner Involvement'!$H795,\";\"))),\"\")","v":""},{"$f":"IF(ISNUMBER(SEARCH(G$206,'12.Partner Involvement'!$H795))=TRUE,(('12.Partner Involvement'!$D795*'12.Partner Involvement'!$E795)/COUNTA(_xlfn.TEXTSPLIT('12.Partner Involvement'!$H795,\";\"))),\"\")","v":""},{"$f":"IF(ISNUMBER(SEARCH(H$206,'12.Partner Involvement'!$H795))=TRUE,(('12.Partner Involvement'!$D795*'12.Partner Involvement'!$E795)/COUNTA(_xlfn.TEXTSPLIT('12.Partner Involvement'!$H795,\";\"))),\"\")","v":""}]
[{"$f":"IF(ISNUMBER(SEARCH(A$206,'12.Partner Involvement'!$G796))=TRUE,(('12.Partner Involvement'!$D796*'12.Partner Involvement'!$E796)/COUNTA(_xlfn.TEXTSPLIT('12.Partner Involvement'!$G796,\";\"))),\"\")","v":""},{"$f":"IF(ISNUMBER(SEARCH(B$206,'12.Partner Involvement'!$G796))=TRUE,(('12.Partner Involvement'!$D796*'12.Partner Involvement'!$E796)/COUNTA(_xlfn.TEXTSPLIT('12.Partner Involvement'!$G796,\";\"))),\"\")","v":""},{"$f":"IF(ISNUMBER(SEARCH(C$206,'12.Partner Involvement'!$G796))=TRUE,(('12.Partner Involvement'!$D796*'12.Partner Involvement'!$E796)/COUNTA(_xlfn.TEXTSPLIT('12.Partner Involvement'!$G796,\";\"))),\"\")","v":""},null,{"$f":"IF(ISNUMBER(SEARCH(E$206,'12.Partner Involvement'!$H796))=TRUE,(('12.Partner Involvement'!$D796*'12.Partner Involvement'!$E796)/COUNTA(_xlfn.TEXTSPLIT('12.Partner Involvement'!$H796,\";\"))),\"\")","v":""},{"$f":"IF(ISNUMBER(SEARCH(F$206,'12.Partner Involvement'!$H796))=TRUE,(('12.Partner Involvement'!$D796*'12.Partner Involvement'!$E796)/COUNTA(_xlfn.TEXTSPLIT('12.Partner Involvement'!$H796,\";\"))),\"\")","v":""},{"$f":"IF(ISNUMBER(SEARCH(G$206,'12.Partner Involvement'!$H796))=TRUE,(('12.Partner Involvement'!$D796*'12.Partner Involvement'!$E796)/COUNTA(_xlfn.TEXTSPLIT('12.Partner Involvement'!$H796,\";\"))),\"\")","v":""},{"$f":"IF(ISNUMBER(SEARCH(H$206,'12.Partner Involvement'!$H796))=TRUE,(('12.Partner Involvement'!$D796*'12.Partner Involvement'!$E796)/COUNTA(_xlfn.TEXTSPLIT('12.Partner Involvement'!$H796,\";\"))),\"\")","v":""}]
[{"$f":"IF(ISNUMBER(SEARCH(A$206,'12.Partner Involvement'!$G797))=TRUE,(('12.Partner Involvement'!$D797*'12.Partner Involvement'!$E797)/COUNTA(_xlfn.TEXTSPLIT('12.Partner Involvement'!$G797,\";\"))),\"\")","v":""},{"$f":"IF(ISNUMBER(SEARCH(B$206,'12.Partner Involvement'!$G797))=TRUE,(('12.Partner Involvement'!$D797*'12.Partner Involvement'!$E797)/COUNTA(_xlfn.TEXTSPLIT('12.Partner Involvement'!$G797,\";\"))),\"\")","v":""},{"$f":"IF(ISNUMBER(SEARCH(C$206,'12.Partner Involvement'!$G797))=TRUE,(('12.Partner Involvement'!$D797*'12.Partner Involvement'!$E797)/COUNTA(_xlfn.TEXTSPLIT('12.Partner Involvement'!$G797,\";\"))),\"\")","v":""},null,{"$f":"IF(ISNUMBER(SEARCH(E$206,'12.Partner Involvement'!$H797))=TRUE,(('12.Partner Involvement'!$D797*'12.Partner Involvement'!$E797)/COUNTA(_xlfn.TEXTSPLIT('12.Partner Involvement'!$H797,\";\"))),\"\")","v":""},{"$f":"IF(ISNUMBER(SEARCH(F$206,'12.Partner Involvement'!$H797))=TRUE,(('12.Partner Involvement'!$D797*'12.Partner Involvement'!$E797)/COUNTA(_xlfn.TEXTSPLIT('12.Partner Involvement'!$H797,\";\"))),\"\")","v":""},{"$f":"IF(ISNUMBER(SEARCH(G$206,'12.Partner Involvement'!$H797))=TRUE,(('12.Partner Involvement'!$D797*'12.Partner Involvement'!$E797)/COUNTA(_xlfn.TEXTSPLIT('12.Partner Involvement'!$H797,\";\"))),\"\")","v":""},{"$f":"IF(ISNUMBER(SEARCH(H$206,'12.Partner Involvement'!$H797))=TRUE,(('12.Partner Involvement'!$D797*'12.Partner Involvement'!$E797)/COUNTA(_xlfn.TEXTSPLIT('12.Partner Involvement'!$H797,\";\"))),\"\")","v":""}]
[{"$f":"IF(ISNUMBER(SEARCH(A$206,'12.Partner Involvement'!$G798))=TRUE,(('12.Partner Involvement'!$D798*'12.Partner Involvement'!$E798)/COUNTA(_xlfn.TEXTSPLIT('12.Partner Involvement'!$G798,\";\"))),\"\")","v":""},{"$f":"IF(ISNUMBER(SEARCH(B$206,'12.Partner Involvement'!$G798))=TRUE,(('12.Partner Involvement'!$D798*'12.Partner Involvement'!$E798)/COUNTA(_xlfn.TEXTSPLIT('12.Partner Involvement'!$G798,\";\"))),\"\")","v":""},{"$f":"IF(ISNUMBER(SEARCH(C$206,'12.Partner Involvement'!$G798))=TRUE,(('12.Partner Involvement'!$D798*'12.Partner Involvement'!$E798)/COUNTA(_xlfn.TEXTSPLIT('12.Partner Involvement'!$G798,\";\"))),\"\")","v":""},null,{"$f":"IF(ISNUMBER(SEARCH(E$206,'12.Partner Involvement'!$H798))=TRUE,(('12.Partner Involvement'!$D798*'12.Partner Involvement'!$E798)/COUNTA(_xlfn.TEXTSPLIT('12.Partner Involvement'!$H798,\";\"))),\"\")","v":""},{"$f":"IF(ISNUMBER(SEARCH(F$206,'12.Partner Involvement'!$H798))=TRUE,(('12.Partner Involvement'!$D798*'12.Partner Involvement'!$E798)/COUNTA(_xlfn.TEXTSPLIT('12.Partner Involvement'!$H798,\";\"))),\"\")","v":""},{"$f":"IF(ISNUMBER(SEARCH(G$206,'12.Partner Involvement'!$H798))=TRUE,(('12.Partner Involvement'!$D798*'12.Partner Involvement'!$E798)/COUNTA(_xlfn.TEXTSPLIT('12.Partner Involvement'!$H798,\";\"))),\"\")","v":""},{"$f":"IF(ISNUMBER(SEARCH(H$206,'12.Partner Involvement'!$H798))=TRUE,(('12.Partner Involvement'!$D798*'12.Partner Involvement'!$E798)/COUNTA(_xlfn.TEXTSPLIT('12.Partner Involvement'!$H798,\";\"))),\"\")","v":""}]
[{"$f":"IF(ISNUMBER(SEARCH(A$206,'12.Partner Involvement'!$G799))=TRUE,(('12.Partner Involvement'!$D799*'12.Partner Involvement'!$E799)/COUNTA(_xlfn.TEXTSPLIT('12.Partner Involvement'!$G799,\";\"))),\"\")","v":""},{"$f":"IF(ISNUMBER(SEARCH(B$206,'12.Partner Involvement'!$G799))=TRUE,(('12.Partner Involvement'!$D799*'12.Partner Involvement'!$E799)/COUNTA(_xlfn.TEXTSPLIT('12.Partner Involvement'!$G799,\";\"))),\"\")","v":""},{"$f":"IF(ISNUMBER(SEARCH(C$206,'12.Partner Involvement'!$G799))=TRUE,(('12.Partner Involvement'!$D799*'12.Partner Involvement'!$E799)/COUNTA(_xlfn.TEXTSPLIT('12.Partner Involvement'!$G799,\";\"))),\"\")","v":""},null,{"$f":"IF(ISNUMBER(SEARCH(E$206,'12.Partner Involvement'!$H799))=TRUE,(('12.Partner Involvement'!$D799*'12.Partner Involvement'!$E799)/COUNTA(_xlfn.TEXTSPLIT('12.Partner Involvement'!$H799,\";\"))),\"\")","v":""},{"$f":"IF(ISNUMBER(SEARCH(F$206,'12.Partner Involvement'!$H799))=TRUE,(('12.Partner Involvement'!$D799*'12.Partner Involvement'!$E799)/COUNTA(_xlfn.TEXTSPLIT('12.Partner Involvement'!$H799,\";\"))),\"\")","v":""},{"$f":"IF(ISNUMBER(SEARCH(G$206,'12.Partner Involvement'!$H799))=TRUE,(('12.Partner Involvement'!$D799*'12.Partner Involvement'!$E799)/COUNTA(_xlfn.TEXTSPLIT('12.Partner Involvement'!$H799,\";\"))),\"\")","v":""},{"$f":"IF(ISNUMBER(SEARCH(H$206,'12.Partner Involvement'!$H799))=TRUE,(('12.Partner Involvement'!$D799*'12.Partner Involvement'!$E799)/COUNTA(_xlfn.TEXTSPLIT('12.Partner Involvement'!$H799,\";\"))),\"\")","v":""}]
[{"$f":"IF(ISNUMBER(SEARCH(A$206,'12.Partner Involvement'!$G800))=TRUE,(('12.Partner Involvement'!$D800*'12.Partner Involvement'!$E800)/COUNTA(_xlfn.TEXTSPLIT('12.Partner Involvement'!$G800,\";\"))),\"\")","v":""},{"$f":"IF(ISNUMBER(SEARCH(B$206,'12.Partner Involvement'!$G800))=TRUE,(('12.Partner Involvement'!$D800*'12.Partner Involvement'!$E800)/COUNTA(_xlfn.TEXTSPLIT('12.Partner Involvement'!$G800,\";\"))),\"\")","v":""},{"$f":"IF(ISNUMBER(SEARCH(C$206,'12.Partner Involvement'!$G800))=TRUE,(('12.Partner Involvement'!$D800*'12.Partner Involvement'!$E800)/COUNTA(_xlfn.TEXTSPLIT('12.Partner Involvement'!$G800,\";\"))),\"\")","v":""},null,{"$f":"IF(ISNUMBER(SEARCH(E$206,'12.Partner Involvement'!$H800))=TRUE,(('12.Partner Involvement'!$D800*'12.Partner Involvement'!$E800)/COUNTA(_xlfn.TEXTSPLIT('12.Partner Involvement'!$H800,\";\"))),\"\")","v":""},{"$f":"IF(ISNUMBER(SEARCH(F$206,'12.Partner Involvement'!$H800))=TRUE,(('12.Partner Involvement'!$D800*'12.Partner Involvement'!$E800)/COUNTA(_xlfn.TEXTSPLIT('12.Partner Involvement'!$H800,\";\"))),\"\")","v":""},{"$f":"IF(ISNUMBER(SEARCH(G$206,'12.Partner Involvement'!$H800))=TRUE,(('12.Partner Involvement'!$D800*'12.Partner Involvement'!$E800)/COUNTA(_xlfn.TEXTSPLIT('12.Partner Involvement'!$H800,\";\"))),\"\")","v":""},{"$f":"IF(ISNUMBER(SEARCH(H$206,'12.Partner Involvement'!$H800))=TRUE,(('12.Partner Involvement'!$D800*'12.Partner Involvement'!$E800)/COUNTA(_xlfn.TEXTSPLIT('12.Partner Involvement'!$H800,\";\"))),\"\")","v":""}]
[{"$f":"IF(ISNUMBER(SEARCH(A$206,'12.Partner Involvement'!$G801))=TRUE,(('12.Partner Involvement'!$D801*'12.Partner Involvement'!$E801)/COUNTA(_xlfn.TEXTSPLIT('12.Partner Involvement'!$G801,\";\"))),\"\")","v":""},{"$f":"IF(ISNUMBER(SEARCH(B$206,'12.Partner Involvement'!$G801))=TRUE,(('12.Partner Involvement'!$D801*'12.Partner Involvement'!$E801)/COUNTA(_xlfn.TEXTSPLIT('12.Partner Involvement'!$G801,\";\"))),\"\")","v":""},{"$f":"IF(ISNUMBER(SEARCH(C$206,'12.Partner Involvement'!$G801))=TRUE,(('12.Partner Involvement'!$D801*'12.Partner Involvement'!$E801)/COUNTA(_xlfn.TEXTSPLIT('12.Partner Involvement'!$G801,\";\"))),\"\")","v":""},null,{"$f":"IF(ISNUMBER(SEARCH(E$206,'12.Partner Involvement'!$H801))=TRUE,(('12.Partner Involvement'!$D801*'12.Partner Involvement'!$E801)/COUNTA(_xlfn.TEXTSPLIT('12.Partner Involvement'!$H801,\";\"))),\"\")","v":""},{"$f":"IF(ISNUMBER(SEARCH(F$206,'12.Partner Involvement'!$H801))=TRUE,(('12.Partner Involvement'!$D801*'12.Partner Involvement'!$E801)/COUNTA(_xlfn.TEXTSPLIT('12.Partner Involvement'!$H801,\";\"))),\"\")","v":""},{"$f":"IF(ISNUMBER(SEARCH(G$206,'12.Partner Involvement'!$H801))=TRUE,(('12.Partner Involvement'!$D801*'12.Partner Involvement'!$E801)/COUNTA(_xlfn.TEXTSPLIT('12.Partner Involvement'!$H801,\";\"))),\"\")","v":""},{"$f":"IF(ISNUMBER(SEARCH(H$206,'12.Partner Involvement'!$H801))=TRUE,(('12.Partner Involvement'!$D801*'12.Partner Involvement'!$E801)/COUNTA(_xlfn.TEXTSPLIT('12.Partner Involvement'!$H801,\";\"))),\"\")","v":""}]
[{"$f":"IF(ISNUMBER(SEARCH(A$206,'12.Partner Involvement'!$G802))=TRUE,(('12.Partner Involvement'!$D802*'12.Partner Involvement'!$E802)/COUNTA(_xlfn.TEXTSPLIT('12.Partner Involvement'!$G802,\";\"))),\"\")","v":""},{"$f":"IF(ISNUMBER(SEARCH(B$206,'12.Partner Involvement'!$G802))=TRUE,(('12.Partner Involvement'!$D802*'12.Partner Involvement'!$E802)/COUNTA(_xlfn.TEXTSPLIT('12.Partner Involvement'!$G802,\";\"))),\"\")","v":""},{"$f":"IF(ISNUMBER(SEARCH(C$206,'12.Partner Involvement'!$G802))=TRUE,(('12.Partner Involvement'!$D802*'12.Partner Involvement'!$E802)/COUNTA(_xlfn.TEXTSPLIT('12.Partner Involvement'!$G802,\";\"))),\"\")","v":""},null,{"$f":"IF(ISNUMBER(SEARCH(E$206,'12.Partner Involvement'!$H802))=TRUE,(('12.Partner Involvement'!$D802*'12.Partner Involvement'!$E802)/COUNTA(_xlfn.TEXTSPLIT('12.Partner Involvement'!$H802,\";\"))),\"\")","v":""},{"$f":"IF(ISNUMBER(SEARCH(F$206,'12.Partner Involvement'!$H802))=TRUE,(('12.Partner Involvement'!$D802*'12.Partner Involvement'!$E802)/COUNTA(_xlfn.TEXTSPLIT('12.Partner Involvement'!$H802,\";\"))),\"\")","v":""},{"$f":"IF(ISNUMBER(SEARCH(G$206,'12.Partner Involvement'!$H802))=TRUE,(('12.Partner Involvement'!$D802*'12.Partner Involvement'!$E802)/COUNTA(_xlfn.TEXTSPLIT('12.Partner Involvement'!$H802,\";\"))),\"\")","v":""},{"$f":"IF(ISNUMBER(SEARCH(H$206,'12.Partner Involvement'!$H802))=TRUE,(('12.Partner Involvement'!$D802*'12.Partner Involvement'!$E802)/COUNTA(_xlfn.TEXTSPLIT('12.Partner Involvement'!$H802,\";\"))),\"\")","v":""}]
[{"$f":"IF(ISNUMBER(SEARCH(A$206,'12.Partner Involvement'!$G803))=TRUE,(('12.Partner Involvement'!$D803*'12.Partner Involvement'!$E803)/COUNTA(_xlfn.TEXTSPLIT('12.Partner Involvement'!$G803,\";\"))),\"\")","v":""},{"$f":"IF(ISNUMBER(SEARCH(B$206,'12.Partner Involvement'!$G803))=TRUE,(('12.Partner Involvement'!$D803*'12.Partner Involvement'!$E803)/COUNTA(_xlfn.TEXTSPLIT('12.Partner Involvement'!$G803,\";\"))),\"\")","v":""},{"$f":"IF(ISNUMBER(SEARCH(C$206,'12.Partner Involvement'!$G803))=TRUE,(('12.Partner Involvement'!$D803*'12.Partner Involvement'!$E803)/COUNTA(_xlfn.TEXTSPLIT('12.Partner Involvement'!$G803,\";\"))),\"\")","v":""},null,{"$f":"IF(ISNUMBER(SEARCH(E$206,'12.Partner Involvement'!$H803))=TRUE,(('12.Partner Involvement'!$D803*'12.Partner Involvement'!$E803)/COUNTA(_xlfn.TEXTSPLIT('12.Partner Involvement'!$H803,\";\"))),\"\")","v":""},{"$f":"IF(ISNUMBER(SEARCH(F$206,'12.Partner Involvement'!$H803))=TRUE,(('12.Partner Involvement'!$D803*'12.Partner Involvement'!$E803)/COUNTA(_xlfn.TEXTSPLIT('12.Partner Involvement'!$H803,\";\"))),\"\")","v":""},{"$f":"IF(ISNUMBER(SEARCH(G$206,'12.Partner Involvement'!$H803))=TRUE,(('12.Partner Involvement'!$D803*'12.Partner Involvement'!$E803)/COUNTA(_xlfn.TEXTSPLIT('12.Partner Involvement'!$H803,\";\"))),\"\")","v":""},{"$f":"IF(ISNUMBER(SEARCH(H$206,'12.Partner Involvement'!$H803))=TRUE,(('12.Partner Involvement'!$D803*'12.Partner Involvement'!$E803)/COUNTA(_xlfn.TEXTSPLIT('12.Partner Involvement'!$H803,\";\"))),\"\")","v":""}]
[{"$f":"IF(ISNUMBER(SEARCH(A$206,'12.Partner Involvement'!$G804))=TRUE,(('12.Partner Involvement'!$D804*'12.Partner Involvement'!$E804)/COUNTA(_xlfn.TEXTSPLIT('12.Partner Involvement'!$G804,\";\"))),\"\")","v":""},{"$f":"IF(ISNUMBER(SEARCH(B$206,'12.Partner Involvement'!$G804))=TRUE,(('12.Partner Involvement'!$D804*'12.Partner Involvement'!$E804)/COUNTA(_xlfn.TEXTSPLIT('12.Partner Involvement'!$G804,\";\"))),\"\")","v":""},{"$f":"IF(ISNUMBER(SEARCH(C$206,'12.Partner Involvement'!$G804))=TRUE,(('12.Partner Involvement'!$D804*'12.Partner Involvement'!$E804)/COUNTA(_xlfn.TEXTSPLIT('12.Partner Involvement'!$G804,\";\"))),\"\")","v":""},null,{"$f":"IF(ISNUMBER(SEARCH(E$206,'12.Partner Involvement'!$H804))=TRUE,(('12.Partner Involvement'!$D804*'12.Partner Involvement'!$E804)/COUNTA(_xlfn.TEXTSPLIT('12.Partner Involvement'!$H804,\";\"))),\"\")","v":""},{"$f":"IF(ISNUMBER(SEARCH(F$206,'12.Partner Involvement'!$H804))=TRUE,(('12.Partner Involvement'!$D804*'12.Partner Involvement'!$E804)/COUNTA(_xlfn.TEXTSPLIT('12.Partner Involvement'!$H804,\";\"))),\"\")","v":""},{"$f":"IF(ISNUMBER(SEARCH(G$206,'12.Partner Involvement'!$H804))=TRUE,(('12.Partner Involvement'!$D804*'12.Partner Involvement'!$E804)/COUNTA(_xlfn.TEXTSPLIT('12.Partner Involvement'!$H804,\";\"))),\"\")","v":""},{"$f":"IF(ISNUMBER(SEARCH(H$206,'12.Partner Involvement'!$H804))=TRUE,(('12.Partner Involvement'!$D804*'12.Partner Involvement'!$E804)/COUNTA(_xlfn.TEXTSPLIT('12.Partner Involvement'!$H804,\";\"))),\"\")","v":""}]
[{"$f":"IF(ISNUMBER(SEARCH(A$206,'12.Partner Involvement'!$G805))=TRUE,(('12.Partner Involvement'!$D805*'12.Partner Involvement'!$E805)/COUNTA(_xlfn.TEXTSPLIT('12.Partner Involvement'!$G805,\";\"))),\"\")","v":""},{"$f":"IF(ISNUMBER(SEARCH(B$206,'12.Partner Involvement'!$G805))=TRUE,(('12.Partner Involvement'!$D805*'12.Partner Involvement'!$E805)/COUNTA(_xlfn.TEXTSPLIT('12.Partner Involvement'!$G805,\";\"))),\"\")","v":""},{"$f":"IF(ISNUMBER(SEARCH(C$206,'12.Partner Involvement'!$G805))=TRUE,(('12.Partner Involvement'!$D805*'12.Partner Involvement'!$E805)/COUNTA(_xlfn.TEXTSPLIT('12.Partner Involvement'!$G805,\";\"))),\"\")","v":""},null,{"$f":"IF(ISNUMBER(SEARCH(E$206,'12.Partner Involvement'!$H805))=TRUE,(('12.Partner Involvement'!$D805*'12.Partner Involvement'!$E805)/COUNTA(_xlfn.TEXTSPLIT('12.Partner Involvement'!$H805,\";\"))),\"\")","v":""},{"$f":"IF(ISNUMBER(SEARCH(F$206,'12.Partner Involvement'!$H805))=TRUE,(('12.Partner Involvement'!$D805*'12.Partner Involvement'!$E805)/COUNTA(_xlfn.TEXTSPLIT('12.Partner Involvement'!$H805,\";\"))),\"\")","v":""},{"$f":"IF(ISNUMBER(SEARCH(G$206,'12.Partner Involvement'!$H805))=TRUE,(('12.Partner Involvement'!$D805*'12.Partner Involvement'!$E805)/COUNTA(_xlfn.TEXTSPLIT('12.Partner Involvement'!$H805,\";\"))),\"\")","v":""},{"$f":"IF(ISNUMBER(SEARCH(H$206,'12.Partner Involvement'!$H805))=TRUE,(('12.Partner Involvement'!$D805*'12.Partner Involvement'!$E805)/COUNTA(_xlfn.TEXTSPLIT('12.Partner Involvement'!$H805,\";\"))),\"\")","v":""}]
[{"$f":"IF(ISNUMBER(SEARCH(A$206,'12.Partner Involvement'!$G806))=TRUE,(('12.Partner Involvement'!$D806*'12.Partner Involvement'!$E806)/COUNTA(_xlfn.TEXTSPLIT('12.Partner Involvement'!$G806,\";\"))),\"\")","v":""},{"$f":"IF(ISNUMBER(SEARCH(B$206,'12.Partner Involvement'!$G806))=TRUE,(('12.Partner Involvement'!$D806*'12.Partner Involvement'!$E806)/COUNTA(_xlfn.TEXTSPLIT('12.Partner Involvement'!$G806,\";\"))),\"\")","v":""},{"$f":"IF(ISNUMBER(SEARCH(C$206,'12.Partner Involvement'!$G806))=TRUE,(('12.Partner Involvement'!$D806*'12.Partner Involvement'!$E806)/COUNTA(_xlfn.TEXTSPLIT('12.Partner Involvement'!$G806,\";\"))),\"\")","v":""},null,{"$f":"IF(ISNUMBER(SEARCH(E$206,'12.Partner Involvement'!$H806))=TRUE,(('12.Partner Involvement'!$D806*'12.Partner Involvement'!$E806)/COUNTA(_xlfn.TEXTSPLIT('12.Partner Involvement'!$H806,\";\"))),\"\")","v":""},{"$f":"IF(ISNUMBER(SEARCH(F$206,'12.Partner Involvement'!$H806))=TRUE,(('12.Partner Involvement'!$D806*'12.Partner Involvement'!$E806)/COUNTA(_xlfn.TEXTSPLIT('12.Partner Involvement'!$H806,\";\"))),\"\")","v":""},{"$f":"IF(ISNUMBER(SEARCH(G$206,'12.Partner Involvement'!$H806))=TRUE,(('12.Partner Involvement'!$D806*'12.Partner Involvement'!$E806)/COUNTA(_xlfn.TEXTSPLIT('12.Partner Involvement'!$H806,\";\"))),\"\")","v":""},{"$f":"IF(ISNUMBER(SEARCH(H$206,'12.Partner Involvement'!$H806))=TRUE,(('12.Partner Involvement'!$D806*'12.Partner Involvement'!$E806)/COUNTA(_xlfn.TEXTSPLIT('12.Partner Involvement'!$H806,\";\"))),\"\")","v":""}]
[{"$f":"IF(ISNUMBER(SEARCH(A$206,'12.Partner Involvement'!$G807))=TRUE,(('12.Partner Involvement'!$D807*'12.Partner Involvement'!$E807)/COUNTA(_xlfn.TEXTSPLIT('12.Partner Involvement'!$G807,\";\"))),\"\")","v":""},{"$f":"IF(ISNUMBER(SEARCH(B$206,'12.Partner Involvement'!$G807))=TRUE,(('12.Partner Involvement'!$D807*'12.Partner Involvement'!$E807)/COUNTA(_xlfn.TEXTSPLIT('12.Partner Involvement'!$G807,\";\"))),\"\")","v":""},{"$f":"IF(ISNUMBER(SEARCH(C$206,'12.Partner Involvement'!$G807))=TRUE,(('12.Partner Involvement'!$D807*'12.Partner Involvement'!$E807)/COUNTA(_xlfn.TEXTSPLIT('12.Partner Involvement'!$G807,\";\"))),\"\")","v":""},null,{"$f":"IF(ISNUMBER(SEARCH(E$206,'12.Partner Involvement'!$H807))=TRUE,(('12.Partner Involvement'!$D807*'12.Partner Involvement'!$E807)/COUNTA(_xlfn.TEXTSPLIT('12.Partner Involvement'!$H807,\";\"))),\"\")","v":""},{"$f":"IF(ISNUMBER(SEARCH(F$206,'12.Partner Involvement'!$H807))=TRUE,(('12.Partner Involvement'!$D807*'12.Partner Involvement'!$E807)/COUNTA(_xlfn.TEXTSPLIT('12.Partner Involvement'!$H807,\";\"))),\"\")","v":""},{"$f":"IF(ISNUMBER(SEARCH(G$206,'12.Partner Involvement'!$H807))=TRUE,(('12.Partner Involvement'!$D807*'12.Partner Involvement'!$E807)/COUNTA(_xlfn.TEXTSPLIT('12.Partner Involvement'!$H807,\";\"))),\"\")","v":""},{"$f":"IF(ISNUMBER(SEARCH(H$206,'12.Partner Involvement'!$H807))=TRUE,(('12.Partner Involvement'!$D807*'12.Partner Involvement'!$E807)/COUNTA(_xlfn.TEXTSPLIT('12.Partner Involvement'!$H807,\";\"))),\"\")","v":""}]
[{"$f":"IF(ISNUMBER(SEARCH(A$206,'12.Partner Involvement'!$G808))=TRUE,(('12.Partner Involvement'!$D808*'12.Partner Involvement'!$E808)/COUNTA(_xlfn.TEXTSPLIT('12.Partner Involvement'!$G808,\";\"))),\"\")","v":""},{"$f":"IF(ISNUMBER(SEARCH(B$206,'12.Partner Involvement'!$G808))=TRUE,(('12.Partner Involvement'!$D808*'12.Partner Involvement'!$E808)/COUNTA(_xlfn.TEXTSPLIT('12.Partner Involvement'!$G808,\";\"))),\"\")","v":""},{"$f":"IF(ISNUMBER(SEARCH(C$206,'12.Partner Involvement'!$G808))=TRUE,(('12.Partner Involvement'!$D808*'12.Partner Involvement'!$E808)/COUNTA(_xlfn.TEXTSPLIT('12.Partner Involvement'!$G808,\";\"))),\"\")","v":""},null,{"$f":"IF(ISNUMBER(SEARCH(E$206,'12.Partner Involvement'!$H808))=TRUE,(('12.Partner Involvement'!$D808*'12.Partner Involvement'!$E808)/COUNTA(_xlfn.TEXTSPLIT('12.Partner Involvement'!$H808,\";\"))),\"\")","v":""},{"$f":"IF(ISNUMBER(SEARCH(F$206,'12.Partner Involvement'!$H808))=TRUE,(('12.Partner Involvement'!$D808*'12.Partner Involvement'!$E808)/COUNTA(_xlfn.TEXTSPLIT('12.Partner Involvement'!$H808,\";\"))),\"\")","v":""},{"$f":"IF(ISNUMBER(SEARCH(G$206,'12.Partner Involvement'!$H808))=TRUE,(('12.Partner Involvement'!$D808*'12.Partner Involvement'!$E808)/COUNTA(_xlfn.TEXTSPLIT('12.Partner Involvement'!$H808,\";\"))),\"\")","v":""},{"$f":"IF(ISNUMBER(SEARCH(H$206,'12.Partner Involvement'!$H808))=TRUE,(('12.Partner Involvement'!$D808*'12.Partner Involvement'!$E808)/COUNTA(_xlfn.TEXTSPLIT('12.Partner Involvement'!$H808,\";\"))),\"\")","v":""}]
[{"$f":"IF(ISNUMBER(SEARCH(A$206,'12.Partner Involvement'!$G809))=TRUE,(('12.Partner Involvement'!$D809*'12.Partner Involvement'!$E809)/COUNTA(_xlfn.TEXTSPLIT('12.Partner Involvement'!$G809,\";\"))),\"\")","v":""},{"$f":"IF(ISNUMBER(SEARCH(B$206,'12.Partner Involvement'!$G809))=TRUE,(('12.Partner Involvement'!$D809*'12.Partner Involvement'!$E809)/COUNTA(_xlfn.TEXTSPLIT('12.Partner Involvement'!$G809,\";\"))),\"\")","v":""},{"$f":"IF(ISNUMBER(SEARCH(C$206,'12.Partner Involvement'!$G809))=TRUE,(('12.Partner Involvement'!$D809*'12.Partner Involvement'!$E809)/COUNTA(_xlfn.TEXTSPLIT('12.Partner Involvement'!$G809,\";\"))),\"\")","v":""},null,{"$f":"IF(ISNUMBER(SEARCH(E$206,'12.Partner Involvement'!$H809))=TRUE,(('12.Partner Involvement'!$D809*'12.Partner Involvement'!$E809)/COUNTA(_xlfn.TEXTSPLIT('12.Partner Involvement'!$H809,\";\"))),\"\")","v":""},{"$f":"IF(ISNUMBER(SEARCH(F$206,'12.Partner Involvement'!$H809))=TRUE,(('12.Partner Involvement'!$D809*'12.Partner Involvement'!$E809)/COUNTA(_xlfn.TEXTSPLIT('12.Partner Involvement'!$H809,\";\"))),\"\")","v":""},{"$f":"IF(ISNUMBER(SEARCH(G$206,'12.Partner Involvement'!$H809))=TRUE,(('12.Partner Involvement'!$D809*'12.Partner Involvement'!$E809)/COUNTA(_xlfn.TEXTSPLIT('12.Partner Involvement'!$H809,\";\"))),\"\")","v":""},{"$f":"IF(ISNUMBER(SEARCH(H$206,'12.Partner Involvement'!$H809))=TRUE,(('12.Partner Involvement'!$D809*'12.Partner Involvement'!$E809)/COUNTA(_xlfn.TEXTSPLIT('12.Partner Involvement'!$H809,\";\"))),\"\")","v":""}]
[{"$f":"IF(ISNUMBER(SEARCH(A$206,'12.Partner Involvement'!$G810))=TRUE,(('12.Partner Involvement'!$D810*'12.Partner Involvement'!$E810)/COUNTA(_xlfn.TEXTSPLIT('12.Partner Involvement'!$G810,\";\"))),\"\")","v":""},{"$f":"IF(ISNUMBER(SEARCH(B$206,'12.Partner Involvement'!$G810))=TRUE,(('12.Partner Involvement'!$D810*'12.Partner Involvement'!$E810)/COUNTA(_xlfn.TEXTSPLIT('12.Partner Involvement'!$G810,\";\"))),\"\")","v":""},{"$f":"IF(ISNUMBER(SEARCH(C$206,'12.Partner Involvement'!$G810))=TRUE,(('12.Partner Involvement'!$D810*'12.Partner Involvement'!$E810)/COUNTA(_xlfn.TEXTSPLIT('12.Partner Involvement'!$G810,\";\"))),\"\")","v":""},null,{"$f":"IF(ISNUMBER(SEARCH(E$206,'12.Partner Involvement'!$H810))=TRUE,(('12.Partner Involvement'!$D810*'12.Partner Involvement'!$E810)/COUNTA(_xlfn.TEXTSPLIT('12.Partner Involvement'!$H810,\";\"))),\"\")","v":""},{"$f":"IF(ISNUMBER(SEARCH(F$206,'12.Partner Involvement'!$H810))=TRUE,(('12.Partner Involvement'!$D810*'12.Partner Involvement'!$E810)/COUNTA(_xlfn.TEXTSPLIT('12.Partner Involvement'!$H810,\";\"))),\"\")","v":""},{"$f":"IF(ISNUMBER(SEARCH(G$206,'12.Partner Involvement'!$H810))=TRUE,(('12.Partner Involvement'!$D810*'12.Partner Involvement'!$E810)/COUNTA(_xlfn.TEXTSPLIT('12.Partner Involvement'!$H810,\";\"))),\"\")","v":""},{"$f":"IF(ISNUMBER(SEARCH(H$206,'12.Partner Involvement'!$H810))=TRUE,(('12.Partner Involvement'!$D810*'12.Partner Involvement'!$E810)/COUNTA(_xlfn.TEXTSPLIT('12.Partner Involvement'!$H810,\";\"))),\"\")","v":""}]
[{"$f":"IF(ISNUMBER(SEARCH(A$206,'12.Partner Involvement'!$G811))=TRUE,(('12.Partner Involvement'!$D811*'12.Partner Involvement'!$E811)/COUNTA(_xlfn.TEXTSPLIT('12.Partner Involvement'!$G811,\";\"))),\"\")","v":""},{"$f":"IF(ISNUMBER(SEARCH(B$206,'12.Partner Involvement'!$G811))=TRUE,(('12.Partner Involvement'!$D811*'12.Partner Involvement'!$E811)/COUNTA(_xlfn.TEXTSPLIT('12.Partner Involvement'!$G811,\";\"))),\"\")","v":""},{"$f":"IF(ISNUMBER(SEARCH(C$206,'12.Partner Involvement'!$G811))=TRUE,(('12.Partner Involvement'!$D811*'12.Partner Involvement'!$E811)/COUNTA(_xlfn.TEXTSPLIT('12.Partner Involvement'!$G811,\";\"))),\"\")","v":""},null,{"$f":"IF(ISNUMBER(SEARCH(E$206,'12.Partner Involvement'!$H811))=TRUE,(('12.Partner Involvement'!$D811*'12.Partner Involvement'!$E811)/COUNTA(_xlfn.TEXTSPLIT('12.Partner Involvement'!$H811,\";\"))),\"\")","v":""},{"$f":"IF(ISNUMBER(SEARCH(F$206,'12.Partner Involvement'!$H811))=TRUE,(('12.Partner Involvement'!$D811*'12.Partner Involvement'!$E811)/COUNTA(_xlfn.TEXTSPLIT('12.Partner Involvement'!$H811,\";\"))),\"\")","v":""},{"$f":"IF(ISNUMBER(SEARCH(G$206,'12.Partner Involvement'!$H811))=TRUE,(('12.Partner Involvement'!$D811*'12.Partner Involvement'!$E811)/COUNTA(_xlfn.TEXTSPLIT('12.Partner Involvement'!$H811,\";\"))),\"\")","v":""},{"$f":"IF(ISNUMBER(SEARCH(H$206,'12.Partner Involvement'!$H811))=TRUE,(('12.Partner Involvement'!$D811*'12.Partner Involvement'!$E811)/COUNTA(_xlfn.TEXTSPLIT('12.Partner Involvement'!$H811,\";\"))),\"\")","v":""}]
[{"$f":"IF(ISNUMBER(SEARCH(A$206,'12.Partner Involvement'!$G812))=TRUE,(('12.Partner Involvement'!$D812*'12.Partner Involvement'!$E812)/COUNTA(_xlfn.TEXTSPLIT('12.Partner Involvement'!$G812,\";\"))),\"\")","v":""},{"$f":"IF(ISNUMBER(SEARCH(B$206,'12.Partner Involvement'!$G812))=TRUE,(('12.Partner Involvement'!$D812*'12.Partner Involvement'!$E812)/COUNTA(_xlfn.TEXTSPLIT('12.Partner Involvement'!$G812,\";\"))),\"\")","v":""},{"$f":"IF(ISNUMBER(SEARCH(C$206,'12.Partner Involvement'!$G812))=TRUE,(('12.Partner Involvement'!$D812*'12.Partner Involvement'!$E812)/COUNTA(_xlfn.TEXTSPLIT('12.Partner Involvement'!$G812,\";\"))),\"\")","v":""},null,{"$f":"IF(ISNUMBER(SEARCH(E$206,'12.Partner Involvement'!$H812))=TRUE,(('12.Partner Involvement'!$D812*'12.Partner Involvement'!$E812)/COUNTA(_xlfn.TEXTSPLIT('12.Partner Involvement'!$H812,\";\"))),\"\")","v":""},{"$f":"IF(ISNUMBER(SEARCH(F$206,'12.Partner Involvement'!$H812))=TRUE,(('12.Partner Involvement'!$D812*'12.Partner Involvement'!$E812)/COUNTA(_xlfn.TEXTSPLIT('12.Partner Involvement'!$H812,\";\"))),\"\")","v":""},{"$f":"IF(ISNUMBER(SEARCH(G$206,'12.Partner Involvement'!$H812))=TRUE,(('12.Partner Involvement'!$D812*'12.Partner Involvement'!$E812)/COUNTA(_xlfn.TEXTSPLIT('12.Partner Involvement'!$H812,\";\"))),\"\")","v":""},{"$f":"IF(ISNUMBER(SEARCH(H$206,'12.Partner Involvement'!$H812))=TRUE,(('12.Partner Involvement'!$D812*'12.Partner Involvement'!$E812)/COUNTA(_xlfn.TEXTSPLIT('12.Partner Involvement'!$H812,\";\"))),\"\")","v":""}]
[{"$f":"IF(ISNUMBER(SEARCH(A$206,'12.Partner Involvement'!$G813))=TRUE,(('12.Partner Involvement'!$D813*'12.Partner Involvement'!$E813)/COUNTA(_xlfn.TEXTSPLIT('12.Partner Involvement'!$G813,\";\"))),\"\")","v":""},{"$f":"IF(ISNUMBER(SEARCH(B$206,'12.Partner Involvement'!$G813))=TRUE,(('12.Partner Involvement'!$D813*'12.Partner Involvement'!$E813)/COUNTA(_xlfn.TEXTSPLIT('12.Partner Involvement'!$G813,\";\"))),\"\")","v":""},{"$f":"IF(ISNUMBER(SEARCH(C$206,'12.Partner Involvement'!$G813))=TRUE,(('12.Partner Involvement'!$D813*'12.Partner Involvement'!$E813)/COUNTA(_xlfn.TEXTSPLIT('12.Partner Involvement'!$G813,\";\"))),\"\")","v":""},null,{"$f":"IF(ISNUMBER(SEARCH(E$206,'12.Partner Involvement'!$H813))=TRUE,(('12.Partner Involvement'!$D813*'12.Partner Involvement'!$E813)/COUNTA(_xlfn.TEXTSPLIT('12.Partner Involvement'!$H813,\";\"))),\"\")","v":""},{"$f":"IF(ISNUMBER(SEARCH(F$206,'12.Partner Involvement'!$H813))=TRUE,(('12.Partner Involvement'!$D813*'12.Partner Involvement'!$E813)/COUNTA(_xlfn.TEXTSPLIT('12.Partner Involvement'!$H813,\";\"))),\"\")","v":""},{"$f":"IF(ISNUMBER(SEARCH(G$206,'12.Partner Involvement'!$H813))=TRUE,(('12.Partner Involvement'!$D813*'12.Partner Involvement'!$E813)/COUNTA(_xlfn.TEXTSPLIT('12.Partner Involvement'!$H813,\";\"))),\"\")","v":""},{"$f":"IF(ISNUMBER(SEARCH(H$206,'12.Partner Involvement'!$H813))=TRUE,(('12.Partner Involvement'!$D813*'12.Partner Involvement'!$E813)/COUNTA(_xlfn.TEXTSPLIT('12.Partner Involvement'!$H813,\";\"))),\"\")","v":""}]
[{"$f":"IF(ISNUMBER(SEARCH(A$206,'12.Partner Involvement'!$G814))=TRUE,(('12.Partner Involvement'!$D814*'12.Partner Involvement'!$E814)/COUNTA(_xlfn.TEXTSPLIT('12.Partner Involvement'!$G814,\";\"))),\"\")","v":""},{"$f":"IF(ISNUMBER(SEARCH(B$206,'12.Partner Involvement'!$G814))=TRUE,(('12.Partner Involvement'!$D814*'12.Partner Involvement'!$E814)/COUNTA(_xlfn.TEXTSPLIT('12.Partner Involvement'!$G814,\";\"))),\"\")","v":""},{"$f":"IF(ISNUMBER(SEARCH(C$206,'12.Partner Involvement'!$G814))=TRUE,(('12.Partner Involvement'!$D814*'12.Partner Involvement'!$E814)/COUNTA(_xlfn.TEXTSPLIT('12.Partner Involvement'!$G814,\";\"))),\"\")","v":""},null,{"$f":"IF(ISNUMBER(SEARCH(E$206,'12.Partner Involvement'!$H814))=TRUE,(('12.Partner Involvement'!$D814*'12.Partner Involvement'!$E814)/COUNTA(_xlfn.TEXTSPLIT('12.Partner Involvement'!$H814,\";\"))),\"\")","v":""},{"$f":"IF(ISNUMBER(SEARCH(F$206,'12.Partner Involvement'!$H814))=TRUE,(('12.Partner Involvement'!$D814*'12.Partner Involvement'!$E814)/COUNTA(_xlfn.TEXTSPLIT('12.Partner Involvement'!$H814,\";\"))),\"\")","v":""},{"$f":"IF(ISNUMBER(SEARCH(G$206,'12.Partner Involvement'!$H814))=TRUE,(('12.Partner Involvement'!$D814*'12.Partner Involvement'!$E814)/COUNTA(_xlfn.TEXTSPLIT('12.Partner Involvement'!$H814,\";\"))),\"\")","v":""},{"$f":"IF(ISNUMBER(SEARCH(H$206,'12.Partner Involvement'!$H814))=TRUE,(('12.Partner Involvement'!$D814*'12.Partner Involvement'!$E814)/COUNTA(_xlfn.TEXTSPLIT('12.Partner Involvement'!$H814,\";\"))),\"\")","v":""}]
[{"$f":"IF(ISNUMBER(SEARCH(A$206,'12.Partner Involvement'!$G815))=TRUE,(('12.Partner Involvement'!$D815*'12.Partner Involvement'!$E815)/COUNTA(_xlfn.TEXTSPLIT('12.Partner Involvement'!$G815,\";\"))),\"\")","v":""},{"$f":"IF(ISNUMBER(SEARCH(B$206,'12.Partner Involvement'!$G815))=TRUE,(('12.Partner Involvement'!$D815*'12.Partner Involvement'!$E815)/COUNTA(_xlfn.TEXTSPLIT('12.Partner Involvement'!$G815,\";\"))),\"\")","v":""},{"$f":"IF(ISNUMBER(SEARCH(C$206,'12.Partner Involvement'!$G815))=TRUE,(('12.Partner Involvement'!$D815*'12.Partner Involvement'!$E815)/COUNTA(_xlfn.TEXTSPLIT('12.Partner Involvement'!$G815,\";\"))),\"\")","v":""},null,{"$f":"IF(ISNUMBER(SEARCH(E$206,'12.Partner Involvement'!$H815))=TRUE,(('12.Partner Involvement'!$D815*'12.Partner Involvement'!$E815)/COUNTA(_xlfn.TEXTSPLIT('12.Partner Involvement'!$H815,\";\"))),\"\")","v":""},{"$f":"IF(ISNUMBER(SEARCH(F$206,'12.Partner Involvement'!$H815))=TRUE,(('12.Partner Involvement'!$D815*'12.Partner Involvement'!$E815)/COUNTA(_xlfn.TEXTSPLIT('12.Partner Involvement'!$H815,\";\"))),\"\")","v":""},{"$f":"IF(ISNUMBER(SEARCH(G$206,'12.Partner Involvement'!$H815))=TRUE,(('12.Partner Involvement'!$D815*'12.Partner Involvement'!$E815)/COUNTA(_xlfn.TEXTSPLIT('12.Partner Involvement'!$H815,\";\"))),\"\")","v":""},{"$f":"IF(ISNUMBER(SEARCH(H$206,'12.Partner Involvement'!$H815))=TRUE,(('12.Partner Involvement'!$D815*'12.Partner Involvement'!$E815)/COUNTA(_xlfn.TEXTSPLIT('12.Partner Involvement'!$H815,\";\"))),\"\")","v":""}]
[{"$f":"IF(ISNUMBER(SEARCH(A$206,'12.Partner Involvement'!$G816))=TRUE,(('12.Partner Involvement'!$D816*'12.Partner Involvement'!$E816)/COUNTA(_xlfn.TEXTSPLIT('12.Partner Involvement'!$G816,\";\"))),\"\")","v":""},{"$f":"IF(ISNUMBER(SEARCH(B$206,'12.Partner Involvement'!$G816))=TRUE,(('12.Partner Involvement'!$D816*'12.Partner Involvement'!$E816)/COUNTA(_xlfn.TEXTSPLIT('12.Partner Involvement'!$G816,\";\"))),\"\")","v":""},{"$f":"IF(ISNUMBER(SEARCH(C$206,'12.Partner Involvement'!$G816))=TRUE,(('12.Partner Involvement'!$D816*'12.Partner Involvement'!$E816)/COUNTA(_xlfn.TEXTSPLIT('12.Partner Involvement'!$G816,\";\"))),\"\")","v":""},null,{"$f":"IF(ISNUMBER(SEARCH(E$206,'12.Partner Involvement'!$H816))=TRUE,(('12.Partner Involvement'!$D816*'12.Partner Involvement'!$E816)/COUNTA(_xlfn.TEXTSPLIT('12.Partner Involvement'!$H816,\";\"))),\"\")","v":""},{"$f":"IF(ISNUMBER(SEARCH(F$206,'12.Partner Involvement'!$H816))=TRUE,(('12.Partner Involvement'!$D816*'12.Partner Involvement'!$E816)/COUNTA(_xlfn.TEXTSPLIT('12.Partner Involvement'!$H816,\";\"))),\"\")","v":""},{"$f":"IF(ISNUMBER(SEARCH(G$206,'12.Partner Involvement'!$H816))=TRUE,(('12.Partner Involvement'!$D816*'12.Partner Involvement'!$E816)/COUNTA(_xlfn.TEXTSPLIT('12.Partner Involvement'!$H816,\";\"))),\"\")","v":""},{"$f":"IF(ISNUMBER(SEARCH(H$206,'12.Partner Involvement'!$H816))=TRUE,(('12.Partner Involvement'!$D816*'12.Partner Involvement'!$E816)/COUNTA(_xlfn.TEXTSPLIT('12.Partner Involvement'!$H816,\";\"))),\"\")","v":""}]
[{"$f":"IF(ISNUMBER(SEARCH(A$206,'12.Partner Involvement'!$G817))=TRUE,(('12.Partner Involvement'!$D817*'12.Partner Involvement'!$E817)/COUNTA(_xlfn.TEXTSPLIT('12.Partner Involvement'!$G817,\";\"))),\"\")","v":""},{"$f":"IF(ISNUMBER(SEARCH(B$206,'12.Partner Involvement'!$G817))=TRUE,(('12.Partner Involvement'!$D817*'12.Partner Involvement'!$E817)/COUNTA(_xlfn.TEXTSPLIT('12.Partner Involvement'!$G817,\";\"))),\"\")","v":""},{"$f":"IF(ISNUMBER(SEARCH(C$206,'12.Partner Involvement'!$G817))=TRUE,(('12.Partner Involvement'!$D817*'12.Partner Involvement'!$E817)/COUNTA(_xlfn.TEXTSPLIT('12.Partner Involvement'!$G817,\";\"))),\"\")","v":""},null,{"$f":"IF(ISNUMBER(SEARCH(E$206,'12.Partner Involvement'!$H817))=TRUE,(('12.Partner Involvement'!$D817*'12.Partner Involvement'!$E817)/COUNTA(_xlfn.TEXTSPLIT('12.Partner Involvement'!$H817,\";\"))),\"\")","v":""},{"$f":"IF(ISNUMBER(SEARCH(F$206,'12.Partner Involvement'!$H817))=TRUE,(('12.Partner Involvement'!$D817*'12.Partner Involvement'!$E817)/COUNTA(_xlfn.TEXTSPLIT('12.Partner Involvement'!$H817,\";\"))),\"\")","v":""},{"$f":"IF(ISNUMBER(SEARCH(G$206,'12.Partner Involvement'!$H817))=TRUE,(('12.Partner Involvement'!$D817*'12.Partner Involvement'!$E817)/COUNTA(_xlfn.TEXTSPLIT('12.Partner Involvement'!$H817,\";\"))),\"\")","v":""},{"$f":"IF(ISNUMBER(SEARCH(H$206,'12.Partner Involvement'!$H817))=TRUE,(('12.Partner Involvement'!$D817*'12.Partner Involvement'!$E817)/COUNTA(_xlfn.TEXTSPLIT('12.Partner Involvement'!$H817,\";\"))),\"\")","v":""}]
[{"$f":"IF(ISNUMBER(SEARCH(A$206,'12.Partner Involvement'!$G818))=TRUE,(('12.Partner Involvement'!$D818*'12.Partner Involvement'!$E818)/COUNTA(_xlfn.TEXTSPLIT('12.Partner Involvement'!$G818,\";\"))),\"\")","v":""},{"$f":"IF(ISNUMBER(SEARCH(B$206,'12.Partner Involvement'!$G818))=TRUE,(('12.Partner Involvement'!$D818*'12.Partner Involvement'!$E818)/COUNTA(_xlfn.TEXTSPLIT('12.Partner Involvement'!$G818,\";\"))),\"\")","v":""},{"$f":"IF(ISNUMBER(SEARCH(C$206,'12.Partner Involvement'!$G818))=TRUE,(('12.Partner Involvement'!$D818*'12.Partner Involvement'!$E818)/COUNTA(_xlfn.TEXTSPLIT('12.Partner Involvement'!$G818,\";\"))),\"\")","v":""},null,{"$f":"IF(ISNUMBER(SEARCH(E$206,'12.Partner Involvement'!$H818))=TRUE,(('12.Partner Involvement'!$D818*'12.Partner Involvement'!$E818)/COUNTA(_xlfn.TEXTSPLIT('12.Partner Involvement'!$H818,\";\"))),\"\")","v":""},{"$f":"IF(ISNUMBER(SEARCH(F$206,'12.Partner Involvement'!$H818))=TRUE,(('12.Partner Involvement'!$D818*'12.Partner Involvement'!$E818)/COUNTA(_xlfn.TEXTSPLIT('12.Partner Involvement'!$H818,\";\"))),\"\")","v":""},{"$f":"IF(ISNUMBER(SEARCH(G$206,'12.Partner Involvement'!$H818))=TRUE,(('12.Partner Involvement'!$D818*'12.Partner Involvement'!$E818)/COUNTA(_xlfn.TEXTSPLIT('12.Partner Involvement'!$H818,\";\"))),\"\")","v":""},{"$f":"IF(ISNUMBER(SEARCH(H$206,'12.Partner Involvement'!$H818))=TRUE,(('12.Partner Involvement'!$D818*'12.Partner Involvement'!$E818)/COUNTA(_xlfn.TEXTSPLIT('12.Partner Involvement'!$H818,\";\"))),\"\")","v":""}]
[{"$f":"IF(ISNUMBER(SEARCH(A$206,'12.Partner Involvement'!$G819))=TRUE,(('12.Partner Involvement'!$D819*'12.Partner Involvement'!$E819)/COUNTA(_xlfn.TEXTSPLIT('12.Partner Involvement'!$G819,\";\"))),\"\")","v":""},{"$f":"IF(ISNUMBER(SEARCH(B$206,'12.Partner Involvement'!$G819))=TRUE,(('12.Partner Involvement'!$D819*'12.Partner Involvement'!$E819)/COUNTA(_xlfn.TEXTSPLIT('12.Partner Involvement'!$G819,\";\"))),\"\")","v":""},{"$f":"IF(ISNUMBER(SEARCH(C$206,'12.Partner Involvement'!$G819))=TRUE,(('12.Partner Involvement'!$D819*'12.Partner Involvement'!$E819)/COUNTA(_xlfn.TEXTSPLIT('12.Partner Involvement'!$G819,\";\"))),\"\")","v":""},null,{"$f":"IF(ISNUMBER(SEARCH(E$206,'12.Partner Involvement'!$H819))=TRUE,(('12.Partner Involvement'!$D819*'12.Partner Involvement'!$E819)/COUNTA(_xlfn.TEXTSPLIT('12.Partner Involvement'!$H819,\";\"))),\"\")","v":""},{"$f":"IF(ISNUMBER(SEARCH(F$206,'12.Partner Involvement'!$H819))=TRUE,(('12.Partner Involvement'!$D819*'12.Partner Involvement'!$E819)/COUNTA(_xlfn.TEXTSPLIT('12.Partner Involvement'!$H819,\";\"))),\"\")","v":""},{"$f":"IF(ISNUMBER(SEARCH(G$206,'12.Partner Involvement'!$H819))=TRUE,(('12.Partner Involvement'!$D819*'12.Partner Involvement'!$E819)/COUNTA(_xlfn.TEXTSPLIT('12.Partner Involvement'!$H819,\";\"))),\"\")","v":""},{"$f":"IF(ISNUMBER(SEARCH(H$206,'12.Partner Involvement'!$H819))=TRUE,(('12.Partner Involvement'!$D819*'12.Partner Involvement'!$E819)/COUNTA(_xlfn.TEXTSPLIT('12.Partner Involvement'!$H819,\";\"))),\"\")","v":""}]
[{"$f":"IF(ISNUMBER(SEARCH(A$206,'12.Partner Involvement'!$G820))=TRUE,(('12.Partner Involvement'!$D820*'12.Partner Involvement'!$E820)/COUNTA(_xlfn.TEXTSPLIT('12.Partner Involvement'!$G820,\";\"))),\"\")","v":""},{"$f":"IF(ISNUMBER(SEARCH(B$206,'12.Partner Involvement'!$G820))=TRUE,(('12.Partner Involvement'!$D820*'12.Partner Involvement'!$E820)/COUNTA(_xlfn.TEXTSPLIT('12.Partner Involvement'!$G820,\";\"))),\"\")","v":""},{"$f":"IF(ISNUMBER(SEARCH(C$206,'12.Partner Involvement'!$G820))=TRUE,(('12.Partner Involvement'!$D820*'12.Partner Involvement'!$E820)/COUNTA(_xlfn.TEXTSPLIT('12.Partner Involvement'!$G820,\";\"))),\"\")","v":""},null,{"$f":"IF(ISNUMBER(SEARCH(E$206,'12.Partner Involvement'!$H820))=TRUE,(('12.Partner Involvement'!$D820*'12.Partner Involvement'!$E820)/COUNTA(_xlfn.TEXTSPLIT('12.Partner Involvement'!$H820,\";\"))),\"\")","v":""},{"$f":"IF(ISNUMBER(SEARCH(F$206,'12.Partner Involvement'!$H820))=TRUE,(('12.Partner Involvement'!$D820*'12.Partner Involvement'!$E820)/COUNTA(_xlfn.TEXTSPLIT('12.Partner Involvement'!$H820,\";\"))),\"\")","v":""},{"$f":"IF(ISNUMBER(SEARCH(G$206,'12.Partner Involvement'!$H820))=TRUE,(('12.Partner Involvement'!$D820*'12.Partner Involvement'!$E820)/COUNTA(_xlfn.TEXTSPLIT('12.Partner Involvement'!$H820,\";\"))),\"\")","v":""},{"$f":"IF(ISNUMBER(SEARCH(H$206,'12.Partner Involvement'!$H820))=TRUE,(('12.Partner Involvement'!$D820*'12.Partner Involvement'!$E820)/COUNTA(_xlfn.TEXTSPLIT('12.Partner Involvement'!$H820,\";\"))),\"\")","v":""}]
[{"$f":"IF(ISNUMBER(SEARCH(A$206,'12.Partner Involvement'!$G821))=TRUE,(('12.Partner Involvement'!$D821*'12.Partner Involvement'!$E821)/COUNTA(_xlfn.TEXTSPLIT('12.Partner Involvement'!$G821,\";\"))),\"\")","v":""},{"$f":"IF(ISNUMBER(SEARCH(B$206,'12.Partner Involvement'!$G821))=TRUE,(('12.Partner Involvement'!$D821*'12.Partner Involvement'!$E821)/COUNTA(_xlfn.TEXTSPLIT('12.Partner Involvement'!$G821,\";\"))),\"\")","v":""},{"$f":"IF(ISNUMBER(SEARCH(C$206,'12.Partner Involvement'!$G821))=TRUE,(('12.Partner Involvement'!$D821*'12.Partner Involvement'!$E821)/COUNTA(_xlfn.TEXTSPLIT('12.Partner Involvement'!$G821,\";\"))),\"\")","v":""},null,{"$f":"IF(ISNUMBER(SEARCH(E$206,'12.Partner Involvement'!$H821))=TRUE,(('12.Partner Involvement'!$D821*'12.Partner Involvement'!$E821)/COUNTA(_xlfn.TEXTSPLIT('12.Partner Involvement'!$H821,\";\"))),\"\")","v":""},{"$f":"IF(ISNUMBER(SEARCH(F$206,'12.Partner Involvement'!$H821))=TRUE,(('12.Partner Involvement'!$D821*'12.Partner Involvement'!$E821)/COUNTA(_xlfn.TEXTSPLIT('12.Partner Involvement'!$H821,\";\"))),\"\")","v":""},{"$f":"IF(ISNUMBER(SEARCH(G$206,'12.Partner Involvement'!$H821))=TRUE,(('12.Partner Involvement'!$D821*'12.Partner Involvement'!$E821)/COUNTA(_xlfn.TEXTSPLIT('12.Partner Involvement'!$H821,\";\"))),\"\")","v":""},{"$f":"IF(ISNUMBER(SEARCH(H$206,'12.Partner Involvement'!$H821))=TRUE,(('12.Partner Involvement'!$D821*'12.Partner Involvement'!$E821)/COUNTA(_xlfn.TEXTSPLIT('12.Partner Involvement'!$H821,\";\"))),\"\")","v":""}]
[{"$f":"IF(ISNUMBER(SEARCH(A$206,'12.Partner Involvement'!$G822))=TRUE,(('12.Partner Involvement'!$D822*'12.Partner Involvement'!$E822)/COUNTA(_xlfn.TEXTSPLIT('12.Partner Involvement'!$G822,\";\"))),\"\")","v":""},{"$f":"IF(ISNUMBER(SEARCH(B$206,'12.Partner Involvement'!$G822))=TRUE,(('12.Partner Involvement'!$D822*'12.Partner Involvement'!$E822)/COUNTA(_xlfn.TEXTSPLIT('12.Partner Involvement'!$G822,\";\"))),\"\")","v":""},{"$f":"IF(ISNUMBER(SEARCH(C$206,'12.Partner Involvement'!$G822))=TRUE,(('12.Partner Involvement'!$D822*'12.Partner Involvement'!$E822)/COUNTA(_xlfn.TEXTSPLIT('12.Partner Involvement'!$G822,\";\"))),\"\")","v":""},null,{"$f":"IF(ISNUMBER(SEARCH(E$206,'12.Partner Involvement'!$H822))=TRUE,(('12.Partner Involvement'!$D822*'12.Partner Involvement'!$E822)/COUNTA(_xlfn.TEXTSPLIT('12.Partner Involvement'!$H822,\";\"))),\"\")","v":""},{"$f":"IF(ISNUMBER(SEARCH(F$206,'12.Partner Involvement'!$H822))=TRUE,(('12.Partner Involvement'!$D822*'12.Partner Involvement'!$E822)/COUNTA(_xlfn.TEXTSPLIT('12.Partner Involvement'!$H822,\";\"))),\"\")","v":""},{"$f":"IF(ISNUMBER(SEARCH(G$206,'12.Partner Involvement'!$H822))=TRUE,(('12.Partner Involvement'!$D822*'12.Partner Involvement'!$E822)/COUNTA(_xlfn.TEXTSPLIT('12.Partner Involvement'!$H822,\";\"))),\"\")","v":""},{"$f":"IF(ISNUMBER(SEARCH(H$206,'12.Partner Involvement'!$H822))=TRUE,(('12.Partner Involvement'!$D822*'12.Partner Involvement'!$E822)/COUNTA(_xlfn.TEXTSPLIT('12.Partner Involvement'!$H822,\";\"))),\"\")","v":""}]
[{"$f":"IF(ISNUMBER(SEARCH(A$206,'12.Partner Involvement'!$G823))=TRUE,(('12.Partner Involvement'!$D823*'12.Partner Involvement'!$E823)/COUNTA(_xlfn.TEXTSPLIT('12.Partner Involvement'!$G823,\";\"))),\"\")","v":""},{"$f":"IF(ISNUMBER(SEARCH(B$206,'12.Partner Involvement'!$G823))=TRUE,(('12.Partner Involvement'!$D823*'12.Partner Involvement'!$E823)/COUNTA(_xlfn.TEXTSPLIT('12.Partner Involvement'!$G823,\";\"))),\"\")","v":""},{"$f":"IF(ISNUMBER(SEARCH(C$206,'12.Partner Involvement'!$G823))=TRUE,(('12.Partner Involvement'!$D823*'12.Partner Involvement'!$E823)/COUNTA(_xlfn.TEXTSPLIT('12.Partner Involvement'!$G823,\";\"))),\"\")","v":""},null,{"$f":"IF(ISNUMBER(SEARCH(E$206,'12.Partner Involvement'!$H823))=TRUE,(('12.Partner Involvement'!$D823*'12.Partner Involvement'!$E823)/COUNTA(_xlfn.TEXTSPLIT('12.Partner Involvement'!$H823,\";\"))),\"\")","v":""},{"$f":"IF(ISNUMBER(SEARCH(F$206,'12.Partner Involvement'!$H823))=TRUE,(('12.Partner Involvement'!$D823*'12.Partner Involvement'!$E823)/COUNTA(_xlfn.TEXTSPLIT('12.Partner Involvement'!$H823,\";\"))),\"\")","v":""},{"$f":"IF(ISNUMBER(SEARCH(G$206,'12.Partner Involvement'!$H823))=TRUE,(('12.Partner Involvement'!$D823*'12.Partner Involvement'!$E823)/COUNTA(_xlfn.TEXTSPLIT('12.Partner Involvement'!$H823,\";\"))),\"\")","v":""},{"$f":"IF(ISNUMBER(SEARCH(H$206,'12.Partner Involvement'!$H823))=TRUE,(('12.Partner Involvement'!$D823*'12.Partner Involvement'!$E823)/COUNTA(_xlfn.TEXTSPLIT('12.Partner Involvement'!$H823,\";\"))),\"\")","v":""}]
[{"$f":"IF(ISNUMBER(SEARCH(A$206,'12.Partner Involvement'!$G824))=TRUE,(('12.Partner Involvement'!$D824*'12.Partner Involvement'!$E824)/COUNTA(_xlfn.TEXTSPLIT('12.Partner Involvement'!$G824,\";\"))),\"\")","v":""},{"$f":"IF(ISNUMBER(SEARCH(B$206,'12.Partner Involvement'!$G824))=TRUE,(('12.Partner Involvement'!$D824*'12.Partner Involvement'!$E824)/COUNTA(_xlfn.TEXTSPLIT('12.Partner Involvement'!$G824,\";\"))),\"\")","v":""},{"$f":"IF(ISNUMBER(SEARCH(C$206,'12.Partner Involvement'!$G824))=TRUE,(('12.Partner Involvement'!$D824*'12.Partner Involvement'!$E824)/COUNTA(_xlfn.TEXTSPLIT('12.Partner Involvement'!$G824,\";\"))),\"\")","v":""},null,{"$f":"IF(ISNUMBER(SEARCH(E$206,'12.Partner Involvement'!$H824))=TRUE,(('12.Partner Involvement'!$D824*'12.Partner Involvement'!$E824)/COUNTA(_xlfn.TEXTSPLIT('12.Partner Involvement'!$H824,\";\"))),\"\")","v":""},{"$f":"IF(ISNUMBER(SEARCH(F$206,'12.Partner Involvement'!$H824))=TRUE,(('12.Partner Involvement'!$D824*'12.Partner Involvement'!$E824)/COUNTA(_xlfn.TEXTSPLIT('12.Partner Involvement'!$H824,\";\"))),\"\")","v":""},{"$f":"IF(ISNUMBER(SEARCH(G$206,'12.Partner Involvement'!$H824))=TRUE,(('12.Partner Involvement'!$D824*'12.Partner Involvement'!$E824)/COUNTA(_xlfn.TEXTSPLIT('12.Partner Involvement'!$H824,\";\"))),\"\")","v":""},{"$f":"IF(ISNUMBER(SEARCH(H$206,'12.Partner Involvement'!$H824))=TRUE,(('12.Partner Involvement'!$D824*'12.Partner Involvement'!$E824)/COUNTA(_xlfn.TEXTSPLIT('12.Partner Involvement'!$H824,\";\"))),\"\")","v":""}]
[{"$f":"IF(ISNUMBER(SEARCH(A$206,'12.Partner Involvement'!$G825))=TRUE,(('12.Partner Involvement'!$D825*'12.Partner Involvement'!$E825)/COUNTA(_xlfn.TEXTSPLIT('12.Partner Involvement'!$G825,\";\"))),\"\")","v":""},{"$f":"IF(ISNUMBER(SEARCH(B$206,'12.Partner Involvement'!$G825))=TRUE,(('12.Partner Involvement'!$D825*'12.Partner Involvement'!$E825)/COUNTA(_xlfn.TEXTSPLIT('12.Partner Involvement'!$G825,\";\"))),\"\")","v":""},{"$f":"IF(ISNUMBER(SEARCH(C$206,'12.Partner Involvement'!$G825))=TRUE,(('12.Partner Involvement'!$D825*'12.Partner Involvement'!$E825)/COUNTA(_xlfn.TEXTSPLIT('12.Partner Involvement'!$G825,\";\"))),\"\")","v":""},null,{"$f":"IF(ISNUMBER(SEARCH(E$206,'12.Partner Involvement'!$H825))=TRUE,(('12.Partner Involvement'!$D825*'12.Partner Involvement'!$E825)/COUNTA(_xlfn.TEXTSPLIT('12.Partner Involvement'!$H825,\";\"))),\"\")","v":""},{"$f":"IF(ISNUMBER(SEARCH(F$206,'12.Partner Involvement'!$H825))=TRUE,(('12.Partner Involvement'!$D825*'12.Partner Involvement'!$E825)/COUNTA(_xlfn.TEXTSPLIT('12.Partner Involvement'!$H825,\";\"))),\"\")","v":""},{"$f":"IF(ISNUMBER(SEARCH(G$206,'12.Partner Involvement'!$H825))=TRUE,(('12.Partner Involvement'!$D825*'12.Partner Involvement'!$E825)/COUNTA(_xlfn.TEXTSPLIT('12.Partner Involvement'!$H825,\";\"))),\"\")","v":""},{"$f":"IF(ISNUMBER(SEARCH(H$206,'12.Partner Involvement'!$H825))=TRUE,(('12.Partner Involvement'!$D825*'12.Partner Involvement'!$E825)/COUNTA(_xlfn.TEXTSPLIT('12.Partner Involvement'!$H825,\";\"))),\"\")","v":""}]
[{"$f":"IF(ISNUMBER(SEARCH(A$206,'12.Partner Involvement'!$G826))=TRUE,(('12.Partner Involvement'!$D826*'12.Partner Involvement'!$E826)/COUNTA(_xlfn.TEXTSPLIT('12.Partner Involvement'!$G826,\";\"))),\"\")","v":""},{"$f":"IF(ISNUMBER(SEARCH(B$206,'12.Partner Involvement'!$G826))=TRUE,(('12.Partner Involvement'!$D826*'12.Partner Involvement'!$E826)/COUNTA(_xlfn.TEXTSPLIT('12.Partner Involvement'!$G826,\";\"))),\"\")","v":""},{"$f":"IF(ISNUMBER(SEARCH(C$206,'12.Partner Involvement'!$G826))=TRUE,(('12.Partner Involvement'!$D826*'12.Partner Involvement'!$E826)/COUNTA(_xlfn.TEXTSPLIT('12.Partner Involvement'!$G826,\";\"))),\"\")","v":""},null,{"$f":"IF(ISNUMBER(SEARCH(E$206,'12.Partner Involvement'!$H826))=TRUE,(('12.Partner Involvement'!$D826*'12.Partner Involvement'!$E826)/COUNTA(_xlfn.TEXTSPLIT('12.Partner Involvement'!$H826,\";\"))),\"\")","v":""},{"$f":"IF(ISNUMBER(SEARCH(F$206,'12.Partner Involvement'!$H826))=TRUE,(('12.Partner Involvement'!$D826*'12.Partner Involvement'!$E826)/COUNTA(_xlfn.TEXTSPLIT('12.Partner Involvement'!$H826,\";\"))),\"\")","v":""},{"$f":"IF(ISNUMBER(SEARCH(G$206,'12.Partner Involvement'!$H826))=TRUE,(('12.Partner Involvement'!$D826*'12.Partner Involvement'!$E826)/COUNTA(_xlfn.TEXTSPLIT('12.Partner Involvement'!$H826,\";\"))),\"\")","v":""},{"$f":"IF(ISNUMBER(SEARCH(H$206,'12.Partner Involvement'!$H826))=TRUE,(('12.Partner Involvement'!$D826*'12.Partner Involvement'!$E826)/COUNTA(_xlfn.TEXTSPLIT('12.Partner Involvement'!$H826,\";\"))),\"\")","v":""}]
[{"$f":"IF(ISNUMBER(SEARCH(A$206,'12.Partner Involvement'!$G827))=TRUE,(('12.Partner Involvement'!$D827*'12.Partner Involvement'!$E827)/COUNTA(_xlfn.TEXTSPLIT('12.Partner Involvement'!$G827,\";\"))),\"\")","v":""},{"$f":"IF(ISNUMBER(SEARCH(B$206,'12.Partner Involvement'!$G827))=TRUE,(('12.Partner Involvement'!$D827*'12.Partner Involvement'!$E827)/COUNTA(_xlfn.TEXTSPLIT('12.Partner Involvement'!$G827,\";\"))),\"\")","v":""},{"$f":"IF(ISNUMBER(SEARCH(C$206,'12.Partner Involvement'!$G827))=TRUE,(('12.Partner Involvement'!$D827*'12.Partner Involvement'!$E827)/COUNTA(_xlfn.TEXTSPLIT('12.Partner Involvement'!$G827,\";\"))),\"\")","v":""},null,{"$f":"IF(ISNUMBER(SEARCH(E$206,'12.Partner Involvement'!$H827))=TRUE,(('12.Partner Involvement'!$D827*'12.Partner Involvement'!$E827)/COUNTA(_xlfn.TEXTSPLIT('12.Partner Involvement'!$H827,\";\"))),\"\")","v":""},{"$f":"IF(ISNUMBER(SEARCH(F$206,'12.Partner Involvement'!$H827))=TRUE,(('12.Partner Involvement'!$D827*'12.Partner Involvement'!$E827)/COUNTA(_xlfn.TEXTSPLIT('12.Partner Involvement'!$H827,\";\"))),\"\")","v":""},{"$f":"IF(ISNUMBER(SEARCH(G$206,'12.Partner Involvement'!$H827))=TRUE,(('12.Partner Involvement'!$D827*'12.Partner Involvement'!$E827)/COUNTA(_xlfn.TEXTSPLIT('12.Partner Involvement'!$H827,\";\"))),\"\")","v":""},{"$f":"IF(ISNUMBER(SEARCH(H$206,'12.Partner Involvement'!$H827))=TRUE,(('12.Partner Involvement'!$D827*'12.Partner Involvement'!$E827)/COUNTA(_xlfn.TEXTSPLIT('12.Partner Involvement'!$H827,\";\"))),\"\")","v":""}]
[{"$f":"IF(ISNUMBER(SEARCH(A$206,'12.Partner Involvement'!$G828))=TRUE,(('12.Partner Involvement'!$D828*'12.Partner Involvement'!$E828)/COUNTA(_xlfn.TEXTSPLIT('12.Partner Involvement'!$G828,\";\"))),\"\")","v":""},{"$f":"IF(ISNUMBER(SEARCH(B$206,'12.Partner Involvement'!$G828))=TRUE,(('12.Partner Involvement'!$D828*'12.Partner Involvement'!$E828)/COUNTA(_xlfn.TEXTSPLIT('12.Partner Involvement'!$G828,\";\"))),\"\")","v":""},{"$f":"IF(ISNUMBER(SEARCH(C$206,'12.Partner Involvement'!$G828))=TRUE,(('12.Partner Involvement'!$D828*'12.Partner Involvement'!$E828)/COUNTA(_xlfn.TEXTSPLIT('12.Partner Involvement'!$G828,\";\"))),\"\")","v":""},null,{"$f":"IF(ISNUMBER(SEARCH(E$206,'12.Partner Involvement'!$H828))=TRUE,(('12.Partner Involvement'!$D828*'12.Partner Involvement'!$E828)/COUNTA(_xlfn.TEXTSPLIT('12.Partner Involvement'!$H828,\";\"))),\"\")","v":""},{"$f":"IF(ISNUMBER(SEARCH(F$206,'12.Partner Involvement'!$H828))=TRUE,(('12.Partner Involvement'!$D828*'12.Partner Involvement'!$E828)/COUNTA(_xlfn.TEXTSPLIT('12.Partner Involvement'!$H828,\";\"))),\"\")","v":""},{"$f":"IF(ISNUMBER(SEARCH(G$206,'12.Partner Involvement'!$H828))=TRUE,(('12.Partner Involvement'!$D828*'12.Partner Involvement'!$E828)/COUNTA(_xlfn.TEXTSPLIT('12.Partner Involvement'!$H828,\";\"))),\"\")","v":""},{"$f":"IF(ISNUMBER(SEARCH(H$206,'12.Partner Involvement'!$H828))=TRUE,(('12.Partner Involvement'!$D828*'12.Partner Involvement'!$E828)/COUNTA(_xlfn.TEXTSPLIT('12.Partner Involvement'!$H828,\";\"))),\"\")","v":""}]
[{"$f":"IF(ISNUMBER(SEARCH(A$206,'12.Partner Involvement'!$G829))=TRUE,(('12.Partner Involvement'!$D829*'12.Partner Involvement'!$E829)/COUNTA(_xlfn.TEXTSPLIT('12.Partner Involvement'!$G829,\";\"))),\"\")","v":""},{"$f":"IF(ISNUMBER(SEARCH(B$206,'12.Partner Involvement'!$G829))=TRUE,(('12.Partner Involvement'!$D829*'12.Partner Involvement'!$E829)/COUNTA(_xlfn.TEXTSPLIT('12.Partner Involvement'!$G829,\";\"))),\"\")","v":""},{"$f":"IF(ISNUMBER(SEARCH(C$206,'12.Partner Involvement'!$G829))=TRUE,(('12.Partner Involvement'!$D829*'12.Partner Involvement'!$E829)/COUNTA(_xlfn.TEXTSPLIT('12.Partner Involvement'!$G829,\";\"))),\"\")","v":""},null,{"$f":"IF(ISNUMBER(SEARCH(E$206,'12.Partner Involvement'!$H829))=TRUE,(('12.Partner Involvement'!$D829*'12.Partner Involvement'!$E829)/COUNTA(_xlfn.TEXTSPLIT('12.Partner Involvement'!$H829,\";\"))),\"\")","v":""},{"$f":"IF(ISNUMBER(SEARCH(F$206,'12.Partner Involvement'!$H829))=TRUE,(('12.Partner Involvement'!$D829*'12.Partner Involvement'!$E829)/COUNTA(_xlfn.TEXTSPLIT('12.Partner Involvement'!$H829,\";\"))),\"\")","v":""},{"$f":"IF(ISNUMBER(SEARCH(G$206,'12.Partner Involvement'!$H829))=TRUE,(('12.Partner Involvement'!$D829*'12.Partner Involvement'!$E829)/COUNTA(_xlfn.TEXTSPLIT('12.Partner Involvement'!$H829,\";\"))),\"\")","v":""},{"$f":"IF(ISNUMBER(SEARCH(H$206,'12.Partner Involvement'!$H829))=TRUE,(('12.Partner Involvement'!$D829*'12.Partner Involvement'!$E829)/COUNTA(_xlfn.TEXTSPLIT('12.Partner Involvement'!$H829,\";\"))),\"\")","v":""}]
[{"$f":"IF(ISNUMBER(SEARCH(A$206,'12.Partner Involvement'!$G830))=TRUE,(('12.Partner Involvement'!$D830*'12.Partner Involvement'!$E830)/COUNTA(_xlfn.TEXTSPLIT('12.Partner Involvement'!$G830,\";\"))),\"\")","v":""},{"$f":"IF(ISNUMBER(SEARCH(B$206,'12.Partner Involvement'!$G830))=TRUE,(('12.Partner Involvement'!$D830*'12.Partner Involvement'!$E830)/COUNTA(_xlfn.TEXTSPLIT('12.Partner Involvement'!$G830,\";\"))),\"\")","v":""},{"$f":"IF(ISNUMBER(SEARCH(C$206,'12.Partner Involvement'!$G830))=TRUE,(('12.Partner Involvement'!$D830*'12.Partner Involvement'!$E830)/COUNTA(_xlfn.TEXTSPLIT('12.Partner Involvement'!$G830,\";\"))),\"\")","v":""},null,{"$f":"IF(ISNUMBER(SEARCH(E$206,'12.Partner Involvement'!$H830))=TRUE,(('12.Partner Involvement'!$D830*'12.Partner Involvement'!$E830)/COUNTA(_xlfn.TEXTSPLIT('12.Partner Involvement'!$H830,\";\"))),\"\")","v":""},{"$f":"IF(ISNUMBER(SEARCH(F$206,'12.Partner Involvement'!$H830))=TRUE,(('12.Partner Involvement'!$D830*'12.Partner Involvement'!$E830)/COUNTA(_xlfn.TEXTSPLIT('12.Partner Involvement'!$H830,\";\"))),\"\")","v":""},{"$f":"IF(ISNUMBER(SEARCH(G$206,'12.Partner Involvement'!$H830))=TRUE,(('12.Partner Involvement'!$D830*'12.Partner Involvement'!$E830)/COUNTA(_xlfn.TEXTSPLIT('12.Partner Involvement'!$H830,\";\"))),\"\")","v":""},{"$f":"IF(ISNUMBER(SEARCH(H$206,'12.Partner Involvement'!$H830))=TRUE,(('12.Partner Involvement'!$D830*'12.Partner Involvement'!$E830)/COUNTA(_xlfn.TEXTSPLIT('12.Partner Involvement'!$H830,\";\"))),\"\")","v":""}]
[{"$f":"IF(ISNUMBER(SEARCH(A$206,'12.Partner Involvement'!$G831))=TRUE,(('12.Partner Involvement'!$D831*'12.Partner Involvement'!$E831)/COUNTA(_xlfn.TEXTSPLIT('12.Partner Involvement'!$G831,\";\"))),\"\")","v":""},{"$f":"IF(ISNUMBER(SEARCH(B$206,'12.Partner Involvement'!$G831))=TRUE,(('12.Partner Involvement'!$D831*'12.Partner Involvement'!$E831)/COUNTA(_xlfn.TEXTSPLIT('12.Partner Involvement'!$G831,\";\"))),\"\")","v":""},{"$f":"IF(ISNUMBER(SEARCH(C$206,'12.Partner Involvement'!$G831))=TRUE,(('12.Partner Involvement'!$D831*'12.Partner Involvement'!$E831)/COUNTA(_xlfn.TEXTSPLIT('12.Partner Involvement'!$G831,\";\"))),\"\")","v":""},null,{"$f":"IF(ISNUMBER(SEARCH(E$206,'12.Partner Involvement'!$H831))=TRUE,(('12.Partner Involvement'!$D831*'12.Partner Involvement'!$E831)/COUNTA(_xlfn.TEXTSPLIT('12.Partner Involvement'!$H831,\";\"))),\"\")","v":""},{"$f":"IF(ISNUMBER(SEARCH(F$206,'12.Partner Involvement'!$H831))=TRUE,(('12.Partner Involvement'!$D831*'12.Partner Involvement'!$E831)/COUNTA(_xlfn.TEXTSPLIT('12.Partner Involvement'!$H831,\";\"))),\"\")","v":""},{"$f":"IF(ISNUMBER(SEARCH(G$206,'12.Partner Involvement'!$H831))=TRUE,(('12.Partner Involvement'!$D831*'12.Partner Involvement'!$E831)/COUNTA(_xlfn.TEXTSPLIT('12.Partner Involvement'!$H831,\";\"))),\"\")","v":""},{"$f":"IF(ISNUMBER(SEARCH(H$206,'12.Partner Involvement'!$H831))=TRUE,(('12.Partner Involvement'!$D831*'12.Partner Involvement'!$E831)/COUNTA(_xlfn.TEXTSPLIT('12.Partner Involvement'!$H831,\";\"))),\"\")","v":""}]
[{"$f":"IF(ISNUMBER(SEARCH(A$206,'12.Partner Involvement'!$G832))=TRUE,(('12.Partner Involvement'!$D832*'12.Partner Involvement'!$E832)/COUNTA(_xlfn.TEXTSPLIT('12.Partner Involvement'!$G832,\";\"))),\"\")","v":""},{"$f":"IF(ISNUMBER(SEARCH(B$206,'12.Partner Involvement'!$G832))=TRUE,(('12.Partner Involvement'!$D832*'12.Partner Involvement'!$E832)/COUNTA(_xlfn.TEXTSPLIT('12.Partner Involvement'!$G832,\";\"))),\"\")","v":""},{"$f":"IF(ISNUMBER(SEARCH(C$206,'12.Partner Involvement'!$G832))=TRUE,(('12.Partner Involvement'!$D832*'12.Partner Involvement'!$E832)/COUNTA(_xlfn.TEXTSPLIT('12.Partner Involvement'!$G832,\";\"))),\"\")","v":""},null,{"$f":"IF(ISNUMBER(SEARCH(E$206,'12.Partner Involvement'!$H832))=TRUE,(('12.Partner Involvement'!$D832*'12.Partner Involvement'!$E832)/COUNTA(_xlfn.TEXTSPLIT('12.Partner Involvement'!$H832,\";\"))),\"\")","v":""},{"$f":"IF(ISNUMBER(SEARCH(F$206,'12.Partner Involvement'!$H832))=TRUE,(('12.Partner Involvement'!$D832*'12.Partner Involvement'!$E832)/COUNTA(_xlfn.TEXTSPLIT('12.Partner Involvement'!$H832,\";\"))),\"\")","v":""},{"$f":"IF(ISNUMBER(SEARCH(G$206,'12.Partner Involvement'!$H832))=TRUE,(('12.Partner Involvement'!$D832*'12.Partner Involvement'!$E832)/COUNTA(_xlfn.TEXTSPLIT('12.Partner Involvement'!$H832,\";\"))),\"\")","v":""},{"$f":"IF(ISNUMBER(SEARCH(H$206,'12.Partner Involvement'!$H832))=TRUE,(('12.Partner Involvement'!$D832*'12.Partner Involvement'!$E832)/COUNTA(_xlfn.TEXTSPLIT('12.Partner Involvement'!$H832,\";\"))),\"\")","v":""}]
[{"$f":"IF(ISNUMBER(SEARCH(A$206,'12.Partner Involvement'!$G833))=TRUE,(('12.Partner Involvement'!$D833*'12.Partner Involvement'!$E833)/COUNTA(_xlfn.TEXTSPLIT('12.Partner Involvement'!$G833,\";\"))),\"\")","v":""},{"$f":"IF(ISNUMBER(SEARCH(B$206,'12.Partner Involvement'!$G833))=TRUE,(('12.Partner Involvement'!$D833*'12.Partner Involvement'!$E833)/COUNTA(_xlfn.TEXTSPLIT('12.Partner Involvement'!$G833,\";\"))),\"\")","v":""},{"$f":"IF(ISNUMBER(SEARCH(C$206,'12.Partner Involvement'!$G833))=TRUE,(('12.Partner Involvement'!$D833*'12.Partner Involvement'!$E833)/COUNTA(_xlfn.TEXTSPLIT('12.Partner Involvement'!$G833,\";\"))),\"\")","v":""},null,{"$f":"IF(ISNUMBER(SEARCH(E$206,'12.Partner Involvement'!$H833))=TRUE,(('12.Partner Involvement'!$D833*'12.Partner Involvement'!$E833)/COUNTA(_xlfn.TEXTSPLIT('12.Partner Involvement'!$H833,\";\"))),\"\")","v":""},{"$f":"IF(ISNUMBER(SEARCH(F$206,'12.Partner Involvement'!$H833))=TRUE,(('12.Partner Involvement'!$D833*'12.Partner Involvement'!$E833)/COUNTA(_xlfn.TEXTSPLIT('12.Partner Involvement'!$H833,\";\"))),\"\")","v":""},{"$f":"IF(ISNUMBER(SEARCH(G$206,'12.Partner Involvement'!$H833))=TRUE,(('12.Partner Involvement'!$D833*'12.Partner Involvement'!$E833)/COUNTA(_xlfn.TEXTSPLIT('12.Partner Involvement'!$H833,\";\"))),\"\")","v":""},{"$f":"IF(ISNUMBER(SEARCH(H$206,'12.Partner Involvement'!$H833))=TRUE,(('12.Partner Involvement'!$D833*'12.Partner Involvement'!$E833)/COUNTA(_xlfn.TEXTSPLIT('12.Partner Involvement'!$H833,\";\"))),\"\")","v":""}]
[{"$f":"IF(ISNUMBER(SEARCH(A$206,'12.Partner Involvement'!$G834))=TRUE,(('12.Partner Involvement'!$D834*'12.Partner Involvement'!$E834)/COUNTA(_xlfn.TEXTSPLIT('12.Partner Involvement'!$G834,\";\"))),\"\")","v":""},{"$f":"IF(ISNUMBER(SEARCH(B$206,'12.Partner Involvement'!$G834))=TRUE,(('12.Partner Involvement'!$D834*'12.Partner Involvement'!$E834)/COUNTA(_xlfn.TEXTSPLIT('12.Partner Involvement'!$G834,\";\"))),\"\")","v":""},{"$f":"IF(ISNUMBER(SEARCH(C$206,'12.Partner Involvement'!$G834))=TRUE,(('12.Partner Involvement'!$D834*'12.Partner Involvement'!$E834)/COUNTA(_xlfn.TEXTSPLIT('12.Partner Involvement'!$G834,\";\"))),\"\")","v":""},null,{"$f":"IF(ISNUMBER(SEARCH(E$206,'12.Partner Involvement'!$H834))=TRUE,(('12.Partner Involvement'!$D834*'12.Partner Involvement'!$E834)/COUNTA(_xlfn.TEXTSPLIT('12.Partner Involvement'!$H834,\";\"))),\"\")","v":""},{"$f":"IF(ISNUMBER(SEARCH(F$206,'12.Partner Involvement'!$H834))=TRUE,(('12.Partner Involvement'!$D834*'12.Partner Involvement'!$E834)/COUNTA(_xlfn.TEXTSPLIT('12.Partner Involvement'!$H834,\";\"))),\"\")","v":""},{"$f":"IF(ISNUMBER(SEARCH(G$206,'12.Partner Involvement'!$H834))=TRUE,(('12.Partner Involvement'!$D834*'12.Partner Involvement'!$E834)/COUNTA(_xlfn.TEXTSPLIT('12.Partner Involvement'!$H834,\";\"))),\"\")","v":""},{"$f":"IF(ISNUMBER(SEARCH(H$206,'12.Partner Involvement'!$H834))=TRUE,(('12.Partner Involvement'!$D834*'12.Partner Involvement'!$E834)/COUNTA(_xlfn.TEXTSPLIT('12.Partner Involvement'!$H834,\";\"))),\"\")","v":""}]
[{"$f":"IF(ISNUMBER(SEARCH(A$206,'12.Partner Involvement'!$G835))=TRUE,(('12.Partner Involvement'!$D835*'12.Partner Involvement'!$E835)/COUNTA(_xlfn.TEXTSPLIT('12.Partner Involvement'!$G835,\";\"))),\"\")","v":""},{"$f":"IF(ISNUMBER(SEARCH(B$206,'12.Partner Involvement'!$G835))=TRUE,(('12.Partner Involvement'!$D835*'12.Partner Involvement'!$E835)/COUNTA(_xlfn.TEXTSPLIT('12.Partner Involvement'!$G835,\";\"))),\"\")","v":""},{"$f":"IF(ISNUMBER(SEARCH(C$206,'12.Partner Involvement'!$G835))=TRUE,(('12.Partner Involvement'!$D835*'12.Partner Involvement'!$E835)/COUNTA(_xlfn.TEXTSPLIT('12.Partner Involvement'!$G835,\";\"))),\"\")","v":""},null,{"$f":"IF(ISNUMBER(SEARCH(E$206,'12.Partner Involvement'!$H835))=TRUE,(('12.Partner Involvement'!$D835*'12.Partner Involvement'!$E835)/COUNTA(_xlfn.TEXTSPLIT('12.Partner Involvement'!$H835,\";\"))),\"\")","v":""},{"$f":"IF(ISNUMBER(SEARCH(F$206,'12.Partner Involvement'!$H835))=TRUE,(('12.Partner Involvement'!$D835*'12.Partner Involvement'!$E835)/COUNTA(_xlfn.TEXTSPLIT('12.Partner Involvement'!$H835,\";\"))),\"\")","v":""},{"$f":"IF(ISNUMBER(SEARCH(G$206,'12.Partner Involvement'!$H835))=TRUE,(('12.Partner Involvement'!$D835*'12.Partner Involvement'!$E835)/COUNTA(_xlfn.TEXTSPLIT('12.Partner Involvement'!$H835,\";\"))),\"\")","v":""},{"$f":"IF(ISNUMBER(SEARCH(H$206,'12.Partner Involvement'!$H835))=TRUE,(('12.Partner Involvement'!$D835*'12.Partner Involvement'!$E835)/COUNTA(_xlfn.TEXTSPLIT('12.Partner Involvement'!$H835,\";\"))),\"\")","v":""}]
[{"$f":"IF(ISNUMBER(SEARCH(A$206,'12.Partner Involvement'!$G836))=TRUE,(('12.Partner Involvement'!$D836*'12.Partner Involvement'!$E836)/COUNTA(_xlfn.TEXTSPLIT('12.Partner Involvement'!$G836,\";\"))),\"\")","v":""},{"$f":"IF(ISNUMBER(SEARCH(B$206,'12.Partner Involvement'!$G836))=TRUE,(('12.Partner Involvement'!$D836*'12.Partner Involvement'!$E836)/COUNTA(_xlfn.TEXTSPLIT('12.Partner Involvement'!$G836,\";\"))),\"\")","v":""},{"$f":"IF(ISNUMBER(SEARCH(C$206,'12.Partner Involvement'!$G836))=TRUE,(('12.Partner Involvement'!$D836*'12.Partner Involvement'!$E836)/COUNTA(_xlfn.TEXTSPLIT('12.Partner Involvement'!$G836,\";\"))),\"\")","v":""},null,{"$f":"IF(ISNUMBER(SEARCH(E$206,'12.Partner Involvement'!$H836))=TRUE,(('12.Partner Involvement'!$D836*'12.Partner Involvement'!$E836)/COUNTA(_xlfn.TEXTSPLIT('12.Partner Involvement'!$H836,\";\"))),\"\")","v":""},{"$f":"IF(ISNUMBER(SEARCH(F$206,'12.Partner Involvement'!$H836))=TRUE,(('12.Partner Involvement'!$D836*'12.Partner Involvement'!$E836)/COUNTA(_xlfn.TEXTSPLIT('12.Partner Involvement'!$H836,\";\"))),\"\")","v":""},{"$f":"IF(ISNUMBER(SEARCH(G$206,'12.Partner Involvement'!$H836))=TRUE,(('12.Partner Involvement'!$D836*'12.Partner Involvement'!$E836)/COUNTA(_xlfn.TEXTSPLIT('12.Partner Involvement'!$H836,\";\"))),\"\")","v":""},{"$f":"IF(ISNUMBER(SEARCH(H$206,'12.Partner Involvement'!$H836))=TRUE,(('12.Partner Involvement'!$D836*'12.Partner Involvement'!$E836)/COUNTA(_xlfn.TEXTSPLIT('12.Partner Involvement'!$H836,\";\"))),\"\")","v":""}]
[{"$f":"IF(ISNUMBER(SEARCH(A$206,'12.Partner Involvement'!$G837))=TRUE,(('12.Partner Involvement'!$D837*'12.Partner Involvement'!$E837)/COUNTA(_xlfn.TEXTSPLIT('12.Partner Involvement'!$G837,\";\"))),\"\")","v":""},{"$f":"IF(ISNUMBER(SEARCH(B$206,'12.Partner Involvement'!$G837))=TRUE,(('12.Partner Involvement'!$D837*'12.Partner Involvement'!$E837)/COUNTA(_xlfn.TEXTSPLIT('12.Partner Involvement'!$G837,\";\"))),\"\")","v":""},{"$f":"IF(ISNUMBER(SEARCH(C$206,'12.Partner Involvement'!$G837))=TRUE,(('12.Partner Involvement'!$D837*'12.Partner Involvement'!$E837)/COUNTA(_xlfn.TEXTSPLIT('12.Partner Involvement'!$G837,\";\"))),\"\")","v":""},null,{"$f":"IF(ISNUMBER(SEARCH(E$206,'12.Partner Involvement'!$H837))=TRUE,(('12.Partner Involvement'!$D837*'12.Partner Involvement'!$E837)/COUNTA(_xlfn.TEXTSPLIT('12.Partner Involvement'!$H837,\";\"))),\"\")","v":""},{"$f":"IF(ISNUMBER(SEARCH(F$206,'12.Partner Involvement'!$H837))=TRUE,(('12.Partner Involvement'!$D837*'12.Partner Involvement'!$E837)/COUNTA(_xlfn.TEXTSPLIT('12.Partner Involvement'!$H837,\";\"))),\"\")","v":""},{"$f":"IF(ISNUMBER(SEARCH(G$206,'12.Partner Involvement'!$H837))=TRUE,(('12.Partner Involvement'!$D837*'12.Partner Involvement'!$E837)/COUNTA(_xlfn.TEXTSPLIT('12.Partner Involvement'!$H837,\";\"))),\"\")","v":""},{"$f":"IF(ISNUMBER(SEARCH(H$206,'12.Partner Involvement'!$H837))=TRUE,(('12.Partner Involvement'!$D837*'12.Partner Involvement'!$E837)/COUNTA(_xlfn.TEXTSPLIT('12.Partner Involvement'!$H837,\";\"))),\"\")","v":""}]
[{"$f":"IF(ISNUMBER(SEARCH(A$206,'12.Partner Involvement'!$G838))=TRUE,(('12.Partner Involvement'!$D838*'12.Partner Involvement'!$E838)/COUNTA(_xlfn.TEXTSPLIT('12.Partner Involvement'!$G838,\";\"))),\"\")","v":""},{"$f":"IF(ISNUMBER(SEARCH(B$206,'12.Partner Involvement'!$G838))=TRUE,(('12.Partner Involvement'!$D838*'12.Partner Involvement'!$E838)/COUNTA(_xlfn.TEXTSPLIT('12.Partner Involvement'!$G838,\";\"))),\"\")","v":""},{"$f":"IF(ISNUMBER(SEARCH(C$206,'12.Partner Involvement'!$G838))=TRUE,(('12.Partner Involvement'!$D838*'12.Partner Involvement'!$E838)/COUNTA(_xlfn.TEXTSPLIT('12.Partner Involvement'!$G838,\";\"))),\"\")","v":""},null,{"$f":"IF(ISNUMBER(SEARCH(E$206,'12.Partner Involvement'!$H838))=TRUE,(('12.Partner Involvement'!$D838*'12.Partner Involvement'!$E838)/COUNTA(_xlfn.TEXTSPLIT('12.Partner Involvement'!$H838,\";\"))),\"\")","v":""},{"$f":"IF(ISNUMBER(SEARCH(F$206,'12.Partner Involvement'!$H838))=TRUE,(('12.Partner Involvement'!$D838*'12.Partner Involvement'!$E838)/COUNTA(_xlfn.TEXTSPLIT('12.Partner Involvement'!$H838,\";\"))),\"\")","v":""},{"$f":"IF(ISNUMBER(SEARCH(G$206,'12.Partner Involvement'!$H838))=TRUE,(('12.Partner Involvement'!$D838*'12.Partner Involvement'!$E838)/COUNTA(_xlfn.TEXTSPLIT('12.Partner Involvement'!$H838,\";\"))),\"\")","v":""},{"$f":"IF(ISNUMBER(SEARCH(H$206,'12.Partner Involvement'!$H838))=TRUE,(('12.Partner Involvement'!$D838*'12.Partner Involvement'!$E838)/COUNTA(_xlfn.TEXTSPLIT('12.Partner Involvement'!$H838,\";\"))),\"\")","v":""}]
[{"$f":"IF(ISNUMBER(SEARCH(A$206,'12.Partner Involvement'!$G839))=TRUE,(('12.Partner Involvement'!$D839*'12.Partner Involvement'!$E839)/COUNTA(_xlfn.TEXTSPLIT('12.Partner Involvement'!$G839,\";\"))),\"\")","v":""},{"$f":"IF(ISNUMBER(SEARCH(B$206,'12.Partner Involvement'!$G839))=TRUE,(('12.Partner Involvement'!$D839*'12.Partner Involvement'!$E839)/COUNTA(_xlfn.TEXTSPLIT('12.Partner Involvement'!$G839,\";\"))),\"\")","v":""},{"$f":"IF(ISNUMBER(SEARCH(C$206,'12.Partner Involvement'!$G839))=TRUE,(('12.Partner Involvement'!$D839*'12.Partner Involvement'!$E839)/COUNTA(_xlfn.TEXTSPLIT('12.Partner Involvement'!$G839,\";\"))),\"\")","v":""},null,{"$f":"IF(ISNUMBER(SEARCH(E$206,'12.Partner Involvement'!$H839))=TRUE,(('12.Partner Involvement'!$D839*'12.Partner Involvement'!$E839)/COUNTA(_xlfn.TEXTSPLIT('12.Partner Involvement'!$H839,\";\"))),\"\")","v":""},{"$f":"IF(ISNUMBER(SEARCH(F$206,'12.Partner Involvement'!$H839))=TRUE,(('12.Partner Involvement'!$D839*'12.Partner Involvement'!$E839)/COUNTA(_xlfn.TEXTSPLIT('12.Partner Involvement'!$H839,\";\"))),\"\")","v":""},{"$f":"IF(ISNUMBER(SEARCH(G$206,'12.Partner Involvement'!$H839))=TRUE,(('12.Partner Involvement'!$D839*'12.Partner Involvement'!$E839)/COUNTA(_xlfn.TEXTSPLIT('12.Partner Involvement'!$H839,\";\"))),\"\")","v":""},{"$f":"IF(ISNUMBER(SEARCH(H$206,'12.Partner Involvement'!$H839))=TRUE,(('12.Partner Involvement'!$D839*'12.Partner Involvement'!$E839)/COUNTA(_xlfn.TEXTSPLIT('12.Partner Involvement'!$H839,\";\"))),\"\")","v":""}]
[{"$f":"IF(ISNUMBER(SEARCH(A$206,'12.Partner Involvement'!$G840))=TRUE,(('12.Partner Involvement'!$D840*'12.Partner Involvement'!$E840)/COUNTA(_xlfn.TEXTSPLIT('12.Partner Involvement'!$G840,\";\"))),\"\")","v":""},{"$f":"IF(ISNUMBER(SEARCH(B$206,'12.Partner Involvement'!$G840))=TRUE,(('12.Partner Involvement'!$D840*'12.Partner Involvement'!$E840)/COUNTA(_xlfn.TEXTSPLIT('12.Partner Involvement'!$G840,\";\"))),\"\")","v":""},{"$f":"IF(ISNUMBER(SEARCH(C$206,'12.Partner Involvement'!$G840))=TRUE,(('12.Partner Involvement'!$D840*'12.Partner Involvement'!$E840)/COUNTA(_xlfn.TEXTSPLIT('12.Partner Involvement'!$G840,\";\"))),\"\")","v":""},null,{"$f":"IF(ISNUMBER(SEARCH(E$206,'12.Partner Involvement'!$H840))=TRUE,(('12.Partner Involvement'!$D840*'12.Partner Involvement'!$E840)/COUNTA(_xlfn.TEXTSPLIT('12.Partner Involvement'!$H840,\";\"))),\"\")","v":""},{"$f":"IF(ISNUMBER(SEARCH(F$206,'12.Partner Involvement'!$H840))=TRUE,(('12.Partner Involvement'!$D840*'12.Partner Involvement'!$E840)/COUNTA(_xlfn.TEXTSPLIT('12.Partner Involvement'!$H840,\";\"))),\"\")","v":""},{"$f":"IF(ISNUMBER(SEARCH(G$206,'12.Partner Involvement'!$H840))=TRUE,(('12.Partner Involvement'!$D840*'12.Partner Involvement'!$E840)/COUNTA(_xlfn.TEXTSPLIT('12.Partner Involvement'!$H840,\";\"))),\"\")","v":""},{"$f":"IF(ISNUMBER(SEARCH(H$206,'12.Partner Involvement'!$H840))=TRUE,(('12.Partner Involvement'!$D840*'12.Partner Involvement'!$E840)/COUNTA(_xlfn.TEXTSPLIT('12.Partner Involvement'!$H840,\";\"))),\"\")","v":""}]
[{"$f":"IF(ISNUMBER(SEARCH(A$206,'12.Partner Involvement'!$G841))=TRUE,(('12.Partner Involvement'!$D841*'12.Partner Involvement'!$E841)/COUNTA(_xlfn.TEXTSPLIT('12.Partner Involvement'!$G841,\";\"))),\"\")","v":""},{"$f":"IF(ISNUMBER(SEARCH(B$206,'12.Partner Involvement'!$G841))=TRUE,(('12.Partner Involvement'!$D841*'12.Partner Involvement'!$E841)/COUNTA(_xlfn.TEXTSPLIT('12.Partner Involvement'!$G841,\";\"))),\"\")","v":""},{"$f":"IF(ISNUMBER(SEARCH(C$206,'12.Partner Involvement'!$G841))=TRUE,(('12.Partner Involvement'!$D841*'12.Partner Involvement'!$E841)/COUNTA(_xlfn.TEXTSPLIT('12.Partner Involvement'!$G841,\";\"))),\"\")","v":""},null,{"$f":"IF(ISNUMBER(SEARCH(E$206,'12.Partner Involvement'!$H841))=TRUE,(('12.Partner Involvement'!$D841*'12.Partner Involvement'!$E841)/COUNTA(_xlfn.TEXTSPLIT('12.Partner Involvement'!$H841,\";\"))),\"\")","v":""},{"$f":"IF(ISNUMBER(SEARCH(F$206,'12.Partner Involvement'!$H841))=TRUE,(('12.Partner Involvement'!$D841*'12.Partner Involvement'!$E841)/COUNTA(_xlfn.TEXTSPLIT('12.Partner Involvement'!$H841,\";\"))),\"\")","v":""},{"$f":"IF(ISNUMBER(SEARCH(G$206,'12.Partner Involvement'!$H841))=TRUE,(('12.Partner Involvement'!$D841*'12.Partner Involvement'!$E841)/COUNTA(_xlfn.TEXTSPLIT('12.Partner Involvement'!$H841,\";\"))),\"\")","v":""},{"$f":"IF(ISNUMBER(SEARCH(H$206,'12.Partner Involvement'!$H841))=TRUE,(('12.Partner Involvement'!$D841*'12.Partner Involvement'!$E841)/COUNTA(_xlfn.TEXTSPLIT('12.Partner Involvement'!$H841,\";\"))),\"\")","v":""}]
[{"$f":"IF(ISNUMBER(SEARCH(A$206,'12.Partner Involvement'!$G842))=TRUE,(('12.Partner Involvement'!$D842*'12.Partner Involvement'!$E842)/COUNTA(_xlfn.TEXTSPLIT('12.Partner Involvement'!$G842,\";\"))),\"\")","v":""},{"$f":"IF(ISNUMBER(SEARCH(B$206,'12.Partner Involvement'!$G842))=TRUE,(('12.Partner Involvement'!$D842*'12.Partner Involvement'!$E842)/COUNTA(_xlfn.TEXTSPLIT('12.Partner Involvement'!$G842,\";\"))),\"\")","v":""},{"$f":"IF(ISNUMBER(SEARCH(C$206,'12.Partner Involvement'!$G842))=TRUE,(('12.Partner Involvement'!$D842*'12.Partner Involvement'!$E842)/COUNTA(_xlfn.TEXTSPLIT('12.Partner Involvement'!$G842,\";\"))),\"\")","v":""},null,{"$f":"IF(ISNUMBER(SEARCH(E$206,'12.Partner Involvement'!$H842))=TRUE,(('12.Partner Involvement'!$D842*'12.Partner Involvement'!$E842)/COUNTA(_xlfn.TEXTSPLIT('12.Partner Involvement'!$H842,\";\"))),\"\")","v":""},{"$f":"IF(ISNUMBER(SEARCH(F$206,'12.Partner Involvement'!$H842))=TRUE,(('12.Partner Involvement'!$D842*'12.Partner Involvement'!$E842)/COUNTA(_xlfn.TEXTSPLIT('12.Partner Involvement'!$H842,\";\"))),\"\")","v":""},{"$f":"IF(ISNUMBER(SEARCH(G$206,'12.Partner Involvement'!$H842))=TRUE,(('12.Partner Involvement'!$D842*'12.Partner Involvement'!$E842)/COUNTA(_xlfn.TEXTSPLIT('12.Partner Involvement'!$H842,\";\"))),\"\")","v":""},{"$f":"IF(ISNUMBER(SEARCH(H$206,'12.Partner Involvement'!$H842))=TRUE,(('12.Partner Involvement'!$D842*'12.Partner Involvement'!$E842)/COUNTA(_xlfn.TEXTSPLIT('12.Partner Involvement'!$H842,\";\"))),\"\")","v":""}]
[{"$f":"IF(ISNUMBER(SEARCH(A$206,'12.Partner Involvement'!$G843))=TRUE,(('12.Partner Involvement'!$D843*'12.Partner Involvement'!$E843)/COUNTA(_xlfn.TEXTSPLIT('12.Partner Involvement'!$G843,\";\"))),\"\")","v":""},{"$f":"IF(ISNUMBER(SEARCH(B$206,'12.Partner Involvement'!$G843))=TRUE,(('12.Partner Involvement'!$D843*'12.Partner Involvement'!$E843)/COUNTA(_xlfn.TEXTSPLIT('12.Partner Involvement'!$G843,\";\"))),\"\")","v":""},{"$f":"IF(ISNUMBER(SEARCH(C$206,'12.Partner Involvement'!$G843))=TRUE,(('12.Partner Involvement'!$D843*'12.Partner Involvement'!$E843)/COUNTA(_xlfn.TEXTSPLIT('12.Partner Involvement'!$G843,\";\"))),\"\")","v":""},null,{"$f":"IF(ISNUMBER(SEARCH(E$206,'12.Partner Involvement'!$H843))=TRUE,(('12.Partner Involvement'!$D843*'12.Partner Involvement'!$E843)/COUNTA(_xlfn.TEXTSPLIT('12.Partner Involvement'!$H843,\";\"))),\"\")","v":""},{"$f":"IF(ISNUMBER(SEARCH(F$206,'12.Partner Involvement'!$H843))=TRUE,(('12.Partner Involvement'!$D843*'12.Partner Involvement'!$E843)/COUNTA(_xlfn.TEXTSPLIT('12.Partner Involvement'!$H843,\";\"))),\"\")","v":""},{"$f":"IF(ISNUMBER(SEARCH(G$206,'12.Partner Involvement'!$H843))=TRUE,(('12.Partner Involvement'!$D843*'12.Partner Involvement'!$E843)/COUNTA(_xlfn.TEXTSPLIT('12.Partner Involvement'!$H843,\";\"))),\"\")","v":""},{"$f":"IF(ISNUMBER(SEARCH(H$206,'12.Partner Involvement'!$H843))=TRUE,(('12.Partner Involvement'!$D843*'12.Partner Involvement'!$E843)/COUNTA(_xlfn.TEXTSPLIT('12.Partner Involvement'!$H843,\";\"))),\"\")","v":""}]
[{"$f":"IF(ISNUMBER(SEARCH(A$206,'12.Partner Involvement'!$G844))=TRUE,(('12.Partner Involvement'!$D844*'12.Partner Involvement'!$E844)/COUNTA(_xlfn.TEXTSPLIT('12.Partner Involvement'!$G844,\";\"))),\"\")","v":""},{"$f":"IF(ISNUMBER(SEARCH(B$206,'12.Partner Involvement'!$G844))=TRUE,(('12.Partner Involvement'!$D844*'12.Partner Involvement'!$E844)/COUNTA(_xlfn.TEXTSPLIT('12.Partner Involvement'!$G844,\";\"))),\"\")","v":""},{"$f":"IF(ISNUMBER(SEARCH(C$206,'12.Partner Involvement'!$G844))=TRUE,(('12.Partner Involvement'!$D844*'12.Partner Involvement'!$E844)/COUNTA(_xlfn.TEXTSPLIT('12.Partner Involvement'!$G844,\";\"))),\"\")","v":""},null,{"$f":"IF(ISNUMBER(SEARCH(E$206,'12.Partner Involvement'!$H844))=TRUE,(('12.Partner Involvement'!$D844*'12.Partner Involvement'!$E844)/COUNTA(_xlfn.TEXTSPLIT('12.Partner Involvement'!$H844,\";\"))),\"\")","v":""},{"$f":"IF(ISNUMBER(SEARCH(F$206,'12.Partner Involvement'!$H844))=TRUE,(('12.Partner Involvement'!$D844*'12.Partner Involvement'!$E844)/COUNTA(_xlfn.TEXTSPLIT('12.Partner Involvement'!$H844,\";\"))),\"\")","v":""},{"$f":"IF(ISNUMBER(SEARCH(G$206,'12.Partner Involvement'!$H844))=TRUE,(('12.Partner Involvement'!$D844*'12.Partner Involvement'!$E844)/COUNTA(_xlfn.TEXTSPLIT('12.Partner Involvement'!$H844,\";\"))),\"\")","v":""},{"$f":"IF(ISNUMBER(SEARCH(H$206,'12.Partner Involvement'!$H844))=TRUE,(('12.Partner Involvement'!$D844*'12.Partner Involvement'!$E844)/COUNTA(_xlfn.TEXTSPLIT('12.Partner Involvement'!$H844,\";\"))),\"\")","v":""}]
[{"$f":"IF(ISNUMBER(SEARCH(A$206,'12.Partner Involvement'!$G845))=TRUE,(('12.Partner Involvement'!$D845*'12.Partner Involvement'!$E845)/COUNTA(_xlfn.TEXTSPLIT('12.Partner Involvement'!$G845,\";\"))),\"\")","v":""},{"$f":"IF(ISNUMBER(SEARCH(B$206,'12.Partner Involvement'!$G845))=TRUE,(('12.Partner Involvement'!$D845*'12.Partner Involvement'!$E845)/COUNTA(_xlfn.TEXTSPLIT('12.Partner Involvement'!$G845,\";\"))),\"\")","v":""},{"$f":"IF(ISNUMBER(SEARCH(C$206,'12.Partner Involvement'!$G845))=TRUE,(('12.Partner Involvement'!$D845*'12.Partner Involvement'!$E845)/COUNTA(_xlfn.TEXTSPLIT('12.Partner Involvement'!$G845,\";\"))),\"\")","v":""},null,{"$f":"IF(ISNUMBER(SEARCH(E$206,'12.Partner Involvement'!$H845))=TRUE,(('12.Partner Involvement'!$D845*'12.Partner Involvement'!$E845)/COUNTA(_xlfn.TEXTSPLIT('12.Partner Involvement'!$H845,\";\"))),\"\")","v":""},{"$f":"IF(ISNUMBER(SEARCH(F$206,'12.Partner Involvement'!$H845))=TRUE,(('12.Partner Involvement'!$D845*'12.Partner Involvement'!$E845)/COUNTA(_xlfn.TEXTSPLIT('12.Partner Involvement'!$H845,\";\"))),\"\")","v":""},{"$f":"IF(ISNUMBER(SEARCH(G$206,'12.Partner Involvement'!$H845))=TRUE,(('12.Partner Involvement'!$D845*'12.Partner Involvement'!$E845)/COUNTA(_xlfn.TEXTSPLIT('12.Partner Involvement'!$H845,\";\"))),\"\")","v":""},{"$f":"IF(ISNUMBER(SEARCH(H$206,'12.Partner Involvement'!$H845))=TRUE,(('12.Partner Involvement'!$D845*'12.Partner Involvement'!$E845)/COUNTA(_xlfn.TEXTSPLIT('12.Partner Involvement'!$H845,\";\"))),\"\")","v":""}]
[{"$f":"IF(ISNUMBER(SEARCH(A$206,'12.Partner Involvement'!$G846))=TRUE,(('12.Partner Involvement'!$D846*'12.Partner Involvement'!$E846)/COUNTA(_xlfn.TEXTSPLIT('12.Partner Involvement'!$G846,\";\"))),\"\")","v":""},{"$f":"IF(ISNUMBER(SEARCH(B$206,'12.Partner Involvement'!$G846))=TRUE,(('12.Partner Involvement'!$D846*'12.Partner Involvement'!$E846)/COUNTA(_xlfn.TEXTSPLIT('12.Partner Involvement'!$G846,\";\"))),\"\")","v":""},{"$f":"IF(ISNUMBER(SEARCH(C$206,'12.Partner Involvement'!$G846))=TRUE,(('12.Partner Involvement'!$D846*'12.Partner Involvement'!$E846)/COUNTA(_xlfn.TEXTSPLIT('12.Partner Involvement'!$G846,\";\"))),\"\")","v":""},null,{"$f":"IF(ISNUMBER(SEARCH(E$206,'12.Partner Involvement'!$H846))=TRUE,(('12.Partner Involvement'!$D846*'12.Partner Involvement'!$E846)/COUNTA(_xlfn.TEXTSPLIT('12.Partner Involvement'!$H846,\";\"))),\"\")","v":""},{"$f":"IF(ISNUMBER(SEARCH(F$206,'12.Partner Involvement'!$H846))=TRUE,(('12.Partner Involvement'!$D846*'12.Partner Involvement'!$E846)/COUNTA(_xlfn.TEXTSPLIT('12.Partner Involvement'!$H846,\";\"))),\"\")","v":""},{"$f":"IF(ISNUMBER(SEARCH(G$206,'12.Partner Involvement'!$H846))=TRUE,(('12.Partner Involvement'!$D846*'12.Partner Involvement'!$E846)/COUNTA(_xlfn.TEXTSPLIT('12.Partner Involvement'!$H846,\";\"))),\"\")","v":""},{"$f":"IF(ISNUMBER(SEARCH(H$206,'12.Partner Involvement'!$H846))=TRUE,(('12.Partner Involvement'!$D846*'12.Partner Involvement'!$E846)/COUNTA(_xlfn.TEXTSPLIT('12.Partner Involvement'!$H846,\";\"))),\"\")","v":""}]
[{"$f":"IF(ISNUMBER(SEARCH(A$206,'12.Partner Involvement'!$G847))=TRUE,(('12.Partner Involvement'!$D847*'12.Partner Involvement'!$E847)/COUNTA(_xlfn.TEXTSPLIT('12.Partner Involvement'!$G847,\";\"))),\"\")","v":""},{"$f":"IF(ISNUMBER(SEARCH(B$206,'12.Partner Involvement'!$G847))=TRUE,(('12.Partner Involvement'!$D847*'12.Partner Involvement'!$E847)/COUNTA(_xlfn.TEXTSPLIT('12.Partner Involvement'!$G847,\";\"))),\"\")","v":""},{"$f":"IF(ISNUMBER(SEARCH(C$206,'12.Partner Involvement'!$G847))=TRUE,(('12.Partner Involvement'!$D847*'12.Partner Involvement'!$E847)/COUNTA(_xlfn.TEXTSPLIT('12.Partner Involvement'!$G847,\";\"))),\"\")","v":""},null,{"$f":"IF(ISNUMBER(SEARCH(E$206,'12.Partner Involvement'!$H847))=TRUE,(('12.Partner Involvement'!$D847*'12.Partner Involvement'!$E847)/COUNTA(_xlfn.TEXTSPLIT('12.Partner Involvement'!$H847,\";\"))),\"\")","v":""},{"$f":"IF(ISNUMBER(SEARCH(F$206,'12.Partner Involvement'!$H847))=TRUE,(('12.Partner Involvement'!$D847*'12.Partner Involvement'!$E847)/COUNTA(_xlfn.TEXTSPLIT('12.Partner Involvement'!$H847,\";\"))),\"\")","v":""},{"$f":"IF(ISNUMBER(SEARCH(G$206,'12.Partner Involvement'!$H847))=TRUE,(('12.Partner Involvement'!$D847*'12.Partner Involvement'!$E847)/COUNTA(_xlfn.TEXTSPLIT('12.Partner Involvement'!$H847,\";\"))),\"\")","v":""},{"$f":"IF(ISNUMBER(SEARCH(H$206,'12.Partner Involvement'!$H847))=TRUE,(('12.Partner Involvement'!$D847*'12.Partner Involvement'!$E847)/COUNTA(_xlfn.TEXTSPLIT('12.Partner Involvement'!$H847,\";\"))),\"\")","v":""}]
[{"$f":"IF(ISNUMBER(SEARCH(A$206,'12.Partner Involvement'!$G848))=TRUE,(('12.Partner Involvement'!$D848*'12.Partner Involvement'!$E848)/COUNTA(_xlfn.TEXTSPLIT('12.Partner Involvement'!$G848,\";\"))),\"\")","v":""},{"$f":"IF(ISNUMBER(SEARCH(B$206,'12.Partner Involvement'!$G848))=TRUE,(('12.Partner Involvement'!$D848*'12.Partner Involvement'!$E848)/COUNTA(_xlfn.TEXTSPLIT('12.Partner Involvement'!$G848,\";\"))),\"\")","v":""},{"$f":"IF(ISNUMBER(SEARCH(C$206,'12.Partner Involvement'!$G848))=TRUE,(('12.Partner Involvement'!$D848*'12.Partner Involvement'!$E848)/COUNTA(_xlfn.TEXTSPLIT('12.Partner Involvement'!$G848,\";\"))),\"\")","v":""},null,{"$f":"IF(ISNUMBER(SEARCH(E$206,'12.Partner Involvement'!$H848))=TRUE,(('12.Partner Involvement'!$D848*'12.Partner Involvement'!$E848)/COUNTA(_xlfn.TEXTSPLIT('12.Partner Involvement'!$H848,\";\"))),\"\")","v":""},{"$f":"IF(ISNUMBER(SEARCH(F$206,'12.Partner Involvement'!$H848))=TRUE,(('12.Partner Involvement'!$D848*'12.Partner Involvement'!$E848)/COUNTA(_xlfn.TEXTSPLIT('12.Partner Involvement'!$H848,\";\"))),\"\")","v":""},{"$f":"IF(ISNUMBER(SEARCH(G$206,'12.Partner Involvement'!$H848))=TRUE,(('12.Partner Involvement'!$D848*'12.Partner Involvement'!$E848)/COUNTA(_xlfn.TEXTSPLIT('12.Partner Involvement'!$H848,\";\"))),\"\")","v":""},{"$f":"IF(ISNUMBER(SEARCH(H$206,'12.Partner Involvement'!$H848))=TRUE,(('12.Partner Involvement'!$D848*'12.Partner Involvement'!$E848)/COUNTA(_xlfn.TEXTSPLIT('12.Partner Involvement'!$H848,\";\"))),\"\")","v":""}]
[{"$f":"IF(ISNUMBER(SEARCH(A$206,'12.Partner Involvement'!$G849))=TRUE,(('12.Partner Involvement'!$D849*'12.Partner Involvement'!$E849)/COUNTA(_xlfn.TEXTSPLIT('12.Partner Involvement'!$G849,\";\"))),\"\")","v":""},{"$f":"IF(ISNUMBER(SEARCH(B$206,'12.Partner Involvement'!$G849))=TRUE,(('12.Partner Involvement'!$D849*'12.Partner Involvement'!$E849)/COUNTA(_xlfn.TEXTSPLIT('12.Partner Involvement'!$G849,\";\"))),\"\")","v":""},{"$f":"IF(ISNUMBER(SEARCH(C$206,'12.Partner Involvement'!$G849))=TRUE,(('12.Partner Involvement'!$D849*'12.Partner Involvement'!$E849)/COUNTA(_xlfn.TEXTSPLIT('12.Partner Involvement'!$G849,\";\"))),\"\")","v":""},null,{"$f":"IF(ISNUMBER(SEARCH(E$206,'12.Partner Involvement'!$H849))=TRUE,(('12.Partner Involvement'!$D849*'12.Partner Involvement'!$E849)/COUNTA(_xlfn.TEXTSPLIT('12.Partner Involvement'!$H849,\";\"))),\"\")","v":""},{"$f":"IF(ISNUMBER(SEARCH(F$206,'12.Partner Involvement'!$H849))=TRUE,(('12.Partner Involvement'!$D849*'12.Partner Involvement'!$E849)/COUNTA(_xlfn.TEXTSPLIT('12.Partner Involvement'!$H849,\";\"))),\"\")","v":""},{"$f":"IF(ISNUMBER(SEARCH(G$206,'12.Partner Involvement'!$H849))=TRUE,(('12.Partner Involvement'!$D849*'12.Partner Involvement'!$E849)/COUNTA(_xlfn.TEXTSPLIT('12.Partner Involvement'!$H849,\";\"))),\"\")","v":""},{"$f":"IF(ISNUMBER(SEARCH(H$206,'12.Partner Involvement'!$H849))=TRUE,(('12.Partner Involvement'!$D849*'12.Partner Involvement'!$E849)/COUNTA(_xlfn.TEXTSPLIT('12.Partner Involvement'!$H849,\";\"))),\"\")","v":""}]
[{"$f":"IF(ISNUMBER(SEARCH(A$206,'12.Partner Involvement'!$G850))=TRUE,(('12.Partner Involvement'!$D850*'12.Partner Involvement'!$E850)/COUNTA(_xlfn.TEXTSPLIT('12.Partner Involvement'!$G850,\";\"))),\"\")","v":""},{"$f":"IF(ISNUMBER(SEARCH(B$206,'12.Partner Involvement'!$G850))=TRUE,(('12.Partner Involvement'!$D850*'12.Partner Involvement'!$E850)/COUNTA(_xlfn.TEXTSPLIT('12.Partner Involvement'!$G850,\";\"))),\"\")","v":""},{"$f":"IF(ISNUMBER(SEARCH(C$206,'12.Partner Involvement'!$G850))=TRUE,(('12.Partner Involvement'!$D850*'12.Partner Involvement'!$E850)/COUNTA(_xlfn.TEXTSPLIT('12.Partner Involvement'!$G850,\";\"))),\"\")","v":""},null,{"$f":"IF(ISNUMBER(SEARCH(E$206,'12.Partner Involvement'!$H850))=TRUE,(('12.Partner Involvement'!$D850*'12.Partner Involvement'!$E850)/COUNTA(_xlfn.TEXTSPLIT('12.Partner Involvement'!$H850,\";\"))),\"\")","v":""},{"$f":"IF(ISNUMBER(SEARCH(F$206,'12.Partner Involvement'!$H850))=TRUE,(('12.Partner Involvement'!$D850*'12.Partner Involvement'!$E850)/COUNTA(_xlfn.TEXTSPLIT('12.Partner Involvement'!$H850,\";\"))),\"\")","v":""},{"$f":"IF(ISNUMBER(SEARCH(G$206,'12.Partner Involvement'!$H850))=TRUE,(('12.Partner Involvement'!$D850*'12.Partner Involvement'!$E850)/COUNTA(_xlfn.TEXTSPLIT('12.Partner Involvement'!$H850,\";\"))),\"\")","v":""},{"$f":"IF(ISNUMBER(SEARCH(H$206,'12.Partner Involvement'!$H850))=TRUE,(('12.Partner Involvement'!$D850*'12.Partner Involvement'!$E850)/COUNTA(_xlfn.TEXTSPLIT('12.Partner Involvement'!$H850,\";\"))),\"\")","v":""}]
[{"$f":"IF(ISNUMBER(SEARCH(A$206,'12.Partner Involvement'!$G851))=TRUE,(('12.Partner Involvement'!$D851*'12.Partner Involvement'!$E851)/COUNTA(_xlfn.TEXTSPLIT('12.Partner Involvement'!$G851,\";\"))),\"\")","v":""},{"$f":"IF(ISNUMBER(SEARCH(B$206,'12.Partner Involvement'!$G851))=TRUE,(('12.Partner Involvement'!$D851*'12.Partner Involvement'!$E851)/COUNTA(_xlfn.TEXTSPLIT('12.Partner Involvement'!$G851,\";\"))),\"\")","v":""},{"$f":"IF(ISNUMBER(SEARCH(C$206,'12.Partner Involvement'!$G851))=TRUE,(('12.Partner Involvement'!$D851*'12.Partner Involvement'!$E851)/COUNTA(_xlfn.TEXTSPLIT('12.Partner Involvement'!$G851,\";\"))),\"\")","v":""},null,{"$f":"IF(ISNUMBER(SEARCH(E$206,'12.Partner Involvement'!$H851))=TRUE,(('12.Partner Involvement'!$D851*'12.Partner Involvement'!$E851)/COUNTA(_xlfn.TEXTSPLIT('12.Partner Involvement'!$H851,\";\"))),\"\")","v":""},{"$f":"IF(ISNUMBER(SEARCH(F$206,'12.Partner Involvement'!$H851))=TRUE,(('12.Partner Involvement'!$D851*'12.Partner Involvement'!$E851)/COUNTA(_xlfn.TEXTSPLIT('12.Partner Involvement'!$H851,\";\"))),\"\")","v":""},{"$f":"IF(ISNUMBER(SEARCH(G$206,'12.Partner Involvement'!$H851))=TRUE,(('12.Partner Involvement'!$D851*'12.Partner Involvement'!$E851)/COUNTA(_xlfn.TEXTSPLIT('12.Partner Involvement'!$H851,\";\"))),\"\")","v":""},{"$f":"IF(ISNUMBER(SEARCH(H$206,'12.Partner Involvement'!$H851))=TRUE,(('12.Partner Involvement'!$D851*'12.Partner Involvement'!$E851)/COUNTA(_xlfn.TEXTSPLIT('12.Partner Involvement'!$H851,\";\"))),\"\")","v":""}]
[{"$f":"IF(ISNUMBER(SEARCH(A$206,'12.Partner Involvement'!$G852))=TRUE,(('12.Partner Involvement'!$D852*'12.Partner Involvement'!$E852)/COUNTA(_xlfn.TEXTSPLIT('12.Partner Involvement'!$G852,\";\"))),\"\")","v":""},{"$f":"IF(ISNUMBER(SEARCH(B$206,'12.Partner Involvement'!$G852))=TRUE,(('12.Partner Involvement'!$D852*'12.Partner Involvement'!$E852)/COUNTA(_xlfn.TEXTSPLIT('12.Partner Involvement'!$G852,\";\"))),\"\")","v":""},{"$f":"IF(ISNUMBER(SEARCH(C$206,'12.Partner Involvement'!$G852))=TRUE,(('12.Partner Involvement'!$D852*'12.Partner Involvement'!$E852)/COUNTA(_xlfn.TEXTSPLIT('12.Partner Involvement'!$G852,\";\"))),\"\")","v":""},null,{"$f":"IF(ISNUMBER(SEARCH(E$206,'12.Partner Involvement'!$H852))=TRUE,(('12.Partner Involvement'!$D852*'12.Partner Involvement'!$E852)/COUNTA(_xlfn.TEXTSPLIT('12.Partner Involvement'!$H852,\";\"))),\"\")","v":""},{"$f":"IF(ISNUMBER(SEARCH(F$206,'12.Partner Involvement'!$H852))=TRUE,(('12.Partner Involvement'!$D852*'12.Partner Involvement'!$E852)/COUNTA(_xlfn.TEXTSPLIT('12.Partner Involvement'!$H852,\";\"))),\"\")","v":""},{"$f":"IF(ISNUMBER(SEARCH(G$206,'12.Partner Involvement'!$H852))=TRUE,(('12.Partner Involvement'!$D852*'12.Partner Involvement'!$E852)/COUNTA(_xlfn.TEXTSPLIT('12.Partner Involvement'!$H852,\";\"))),\"\")","v":""},{"$f":"IF(ISNUMBER(SEARCH(H$206,'12.Partner Involvement'!$H852))=TRUE,(('12.Partner Involvement'!$D852*'12.Partner Involvement'!$E852)/COUNTA(_xlfn.TEXTSPLIT('12.Partner Involvement'!$H852,\";\"))),\"\")","v":""}]
[{"$f":"IF(ISNUMBER(SEARCH(A$206,'12.Partner Involvement'!$G853))=TRUE,(('12.Partner Involvement'!$D853*'12.Partner Involvement'!$E853)/COUNTA(_xlfn.TEXTSPLIT('12.Partner Involvement'!$G853,\";\"))),\"\")","v":""},{"$f":"IF(ISNUMBER(SEARCH(B$206,'12.Partner Involvement'!$G853))=TRUE,(('12.Partner Involvement'!$D853*'12.Partner Involvement'!$E853)/COUNTA(_xlfn.TEXTSPLIT('12.Partner Involvement'!$G853,\";\"))),\"\")","v":""},{"$f":"IF(ISNUMBER(SEARCH(C$206,'12.Partner Involvement'!$G853))=TRUE,(('12.Partner Involvement'!$D853*'12.Partner Involvement'!$E853)/COUNTA(_xlfn.TEXTSPLIT('12.Partner Involvement'!$G853,\";\"))),\"\")","v":""},null,{"$f":"IF(ISNUMBER(SEARCH(E$206,'12.Partner Involvement'!$H853))=TRUE,(('12.Partner Involvement'!$D853*'12.Partner Involvement'!$E853)/COUNTA(_xlfn.TEXTSPLIT('12.Partner Involvement'!$H853,\";\"))),\"\")","v":""},{"$f":"IF(ISNUMBER(SEARCH(F$206,'12.Partner Involvement'!$H853))=TRUE,(('12.Partner Involvement'!$D853*'12.Partner Involvement'!$E853)/COUNTA(_xlfn.TEXTSPLIT('12.Partner Involvement'!$H853,\";\"))),\"\")","v":""},{"$f":"IF(ISNUMBER(SEARCH(G$206,'12.Partner Involvement'!$H853))=TRUE,(('12.Partner Involvement'!$D853*'12.Partner Involvement'!$E853)/COUNTA(_xlfn.TEXTSPLIT('12.Partner Involvement'!$H853,\";\"))),\"\")","v":""},{"$f":"IF(ISNUMBER(SEARCH(H$206,'12.Partner Involvement'!$H853))=TRUE,(('12.Partner Involvement'!$D853*'12.Partner Involvement'!$E853)/COUNTA(_xlfn.TEXTSPLIT('12.Partner Involvement'!$H853,\";\"))),\"\")","v":""}]
[{"$f":"IF(ISNUMBER(SEARCH(A$206,'12.Partner Involvement'!$G854))=TRUE,(('12.Partner Involvement'!$D854*'12.Partner Involvement'!$E854)/COUNTA(_xlfn.TEXTSPLIT('12.Partner Involvement'!$G854,\";\"))),\"\")","v":""},{"$f":"IF(ISNUMBER(SEARCH(B$206,'12.Partner Involvement'!$G854))=TRUE,(('12.Partner Involvement'!$D854*'12.Partner Involvement'!$E854)/COUNTA(_xlfn.TEXTSPLIT('12.Partner Involvement'!$G854,\";\"))),\"\")","v":""},{"$f":"IF(ISNUMBER(SEARCH(C$206,'12.Partner Involvement'!$G854))=TRUE,(('12.Partner Involvement'!$D854*'12.Partner Involvement'!$E854)/COUNTA(_xlfn.TEXTSPLIT('12.Partner Involvement'!$G854,\";\"))),\"\")","v":""},null,{"$f":"IF(ISNUMBER(SEARCH(E$206,'12.Partner Involvement'!$H854))=TRUE,(('12.Partner Involvement'!$D854*'12.Partner Involvement'!$E854)/COUNTA(_xlfn.TEXTSPLIT('12.Partner Involvement'!$H854,\";\"))),\"\")","v":""},{"$f":"IF(ISNUMBER(SEARCH(F$206,'12.Partner Involvement'!$H854))=TRUE,(('12.Partner Involvement'!$D854*'12.Partner Involvement'!$E854)/COUNTA(_xlfn.TEXTSPLIT('12.Partner Involvement'!$H854,\";\"))),\"\")","v":""},{"$f":"IF(ISNUMBER(SEARCH(G$206,'12.Partner Involvement'!$H854))=TRUE,(('12.Partner Involvement'!$D854*'12.Partner Involvement'!$E854)/COUNTA(_xlfn.TEXTSPLIT('12.Partner Involvement'!$H854,\";\"))),\"\")","v":""},{"$f":"IF(ISNUMBER(SEARCH(H$206,'12.Partner Involvement'!$H854))=TRUE,(('12.Partner Involvement'!$D854*'12.Partner Involvement'!$E854)/COUNTA(_xlfn.TEXTSPLIT('12.Partner Involvement'!$H854,\";\"))),\"\")","v":""}]
[{"$f":"IF(ISNUMBER(SEARCH(A$206,'12.Partner Involvement'!$G855))=TRUE,(('12.Partner Involvement'!$D855*'12.Partner Involvement'!$E855)/COUNTA(_xlfn.TEXTSPLIT('12.Partner Involvement'!$G855,\";\"))),\"\")","v":""},{"$f":"IF(ISNUMBER(SEARCH(B$206,'12.Partner Involvement'!$G855))=TRUE,(('12.Partner Involvement'!$D855*'12.Partner Involvement'!$E855)/COUNTA(_xlfn.TEXTSPLIT('12.Partner Involvement'!$G855,\";\"))),\"\")","v":""},{"$f":"IF(ISNUMBER(SEARCH(C$206,'12.Partner Involvement'!$G855))=TRUE,(('12.Partner Involvement'!$D855*'12.Partner Involvement'!$E855)/COUNTA(_xlfn.TEXTSPLIT('12.Partner Involvement'!$G855,\";\"))),\"\")","v":""},null,{"$f":"IF(ISNUMBER(SEARCH(E$206,'12.Partner Involvement'!$H855))=TRUE,(('12.Partner Involvement'!$D855*'12.Partner Involvement'!$E855)/COUNTA(_xlfn.TEXTSPLIT('12.Partner Involvement'!$H855,\";\"))),\"\")","v":""},{"$f":"IF(ISNUMBER(SEARCH(F$206,'12.Partner Involvement'!$H855))=TRUE,(('12.Partner Involvement'!$D855*'12.Partner Involvement'!$E855)/COUNTA(_xlfn.TEXTSPLIT('12.Partner Involvement'!$H855,\";\"))),\"\")","v":""},{"$f":"IF(ISNUMBER(SEARCH(G$206,'12.Partner Involvement'!$H855))=TRUE,(('12.Partner Involvement'!$D855*'12.Partner Involvement'!$E855)/COUNTA(_xlfn.TEXTSPLIT('12.Partner Involvement'!$H855,\";\"))),\"\")","v":""},{"$f":"IF(ISNUMBER(SEARCH(H$206,'12.Partner Involvement'!$H855))=TRUE,(('12.Partner Involvement'!$D855*'12.Partner Involvement'!$E855)/COUNTA(_xlfn.TEXTSPLIT('12.Partner Involvement'!$H855,\";\"))),\"\")","v":""}]
[{"$f":"IF(ISNUMBER(SEARCH(A$206,'12.Partner Involvement'!$G856))=TRUE,(('12.Partner Involvement'!$D856*'12.Partner Involvement'!$E856)/COUNTA(_xlfn.TEXTSPLIT('12.Partner Involvement'!$G856,\";\"))),\"\")","v":""},{"$f":"IF(ISNUMBER(SEARCH(B$206,'12.Partner Involvement'!$G856))=TRUE,(('12.Partner Involvement'!$D856*'12.Partner Involvement'!$E856)/COUNTA(_xlfn.TEXTSPLIT('12.Partner Involvement'!$G856,\";\"))),\"\")","v":""},{"$f":"IF(ISNUMBER(SEARCH(C$206,'12.Partner Involvement'!$G856))=TRUE,(('12.Partner Involvement'!$D856*'12.Partner Involvement'!$E856)/COUNTA(_xlfn.TEXTSPLIT('12.Partner Involvement'!$G856,\";\"))),\"\")","v":""},null,{"$f":"IF(ISNUMBER(SEARCH(E$206,'12.Partner Involvement'!$H856))=TRUE,(('12.Partner Involvement'!$D856*'12.Partner Involvement'!$E856)/COUNTA(_xlfn.TEXTSPLIT('12.Partner Involvement'!$H856,\";\"))),\"\")","v":""},{"$f":"IF(ISNUMBER(SEARCH(F$206,'12.Partner Involvement'!$H856))=TRUE,(('12.Partner Involvement'!$D856*'12.Partner Involvement'!$E856)/COUNTA(_xlfn.TEXTSPLIT('12.Partner Involvement'!$H856,\";\"))),\"\")","v":""},{"$f":"IF(ISNUMBER(SEARCH(G$206,'12.Partner Involvement'!$H856))=TRUE,(('12.Partner Involvement'!$D856*'12.Partner Involvement'!$E856)/COUNTA(_xlfn.TEXTSPLIT('12.Partner Involvement'!$H856,\";\"))),\"\")","v":""},{"$f":"IF(ISNUMBER(SEARCH(H$206,'12.Partner Involvement'!$H856))=TRUE,(('12.Partner Involvement'!$D856*'12.Partner Involvement'!$E856)/COUNTA(_xlfn.TEXTSPLIT('12.Partner Involvement'!$H856,\";\"))),\"\")","v":""}]
[{"$f":"IF(ISNUMBER(SEARCH(A$206,'12.Partner Involvement'!$G857))=TRUE,(('12.Partner Involvement'!$D857*'12.Partner Involvement'!$E857)/COUNTA(_xlfn.TEXTSPLIT('12.Partner Involvement'!$G857,\";\"))),\"\")","v":""},{"$f":"IF(ISNUMBER(SEARCH(B$206,'12.Partner Involvement'!$G857))=TRUE,(('12.Partner Involvement'!$D857*'12.Partner Involvement'!$E857)/COUNTA(_xlfn.TEXTSPLIT('12.Partner Involvement'!$G857,\";\"))),\"\")","v":""},{"$f":"IF(ISNUMBER(SEARCH(C$206,'12.Partner Involvement'!$G857))=TRUE,(('12.Partner Involvement'!$D857*'12.Partner Involvement'!$E857)/COUNTA(_xlfn.TEXTSPLIT('12.Partner Involvement'!$G857,\";\"))),\"\")","v":""},null,{"$f":"IF(ISNUMBER(SEARCH(E$206,'12.Partner Involvement'!$H857))=TRUE,(('12.Partner Involvement'!$D857*'12.Partner Involvement'!$E857)/COUNTA(_xlfn.TEXTSPLIT('12.Partner Involvement'!$H857,\";\"))),\"\")","v":""},{"$f":"IF(ISNUMBER(SEARCH(F$206,'12.Partner Involvement'!$H857))=TRUE,(('12.Partner Involvement'!$D857*'12.Partner Involvement'!$E857)/COUNTA(_xlfn.TEXTSPLIT('12.Partner Involvement'!$H857,\";\"))),\"\")","v":""},{"$f":"IF(ISNUMBER(SEARCH(G$206,'12.Partner Involvement'!$H857))=TRUE,(('12.Partner Involvement'!$D857*'12.Partner Involvement'!$E857)/COUNTA(_xlfn.TEXTSPLIT('12.Partner Involvement'!$H857,\";\"))),\"\")","v":""},{"$f":"IF(ISNUMBER(SEARCH(H$206,'12.Partner Involvement'!$H857))=TRUE,(('12.Partner Involvement'!$D857*'12.Partner Involvement'!$E857)/COUNTA(_xlfn.TEXTSPLIT('12.Partner Involvement'!$H857,\";\"))),\"\")","v":""}]
[{"$f":"IF(ISNUMBER(SEARCH(A$206,'12.Partner Involvement'!$G858))=TRUE,(('12.Partner Involvement'!$D858*'12.Partner Involvement'!$E858)/COUNTA(_xlfn.TEXTSPLIT('12.Partner Involvement'!$G858,\";\"))),\"\")","v":""},{"$f":"IF(ISNUMBER(SEARCH(B$206,'12.Partner Involvement'!$G858))=TRUE,(('12.Partner Involvement'!$D858*'12.Partner Involvement'!$E858)/COUNTA(_xlfn.TEXTSPLIT('12.Partner Involvement'!$G858,\";\"))),\"\")","v":""},{"$f":"IF(ISNUMBER(SEARCH(C$206,'12.Partner Involvement'!$G858))=TRUE,(('12.Partner Involvement'!$D858*'12.Partner Involvement'!$E858)/COUNTA(_xlfn.TEXTSPLIT('12.Partner Involvement'!$G858,\";\"))),\"\")","v":""},null,{"$f":"IF(ISNUMBER(SEARCH(E$206,'12.Partner Involvement'!$H858))=TRUE,(('12.Partner Involvement'!$D858*'12.Partner Involvement'!$E858)/COUNTA(_xlfn.TEXTSPLIT('12.Partner Involvement'!$H858,\";\"))),\"\")","v":""},{"$f":"IF(ISNUMBER(SEARCH(F$206,'12.Partner Involvement'!$H858))=TRUE,(('12.Partner Involvement'!$D858*'12.Partner Involvement'!$E858)/COUNTA(_xlfn.TEXTSPLIT('12.Partner Involvement'!$H858,\";\"))),\"\")","v":""},{"$f":"IF(ISNUMBER(SEARCH(G$206,'12.Partner Involvement'!$H858))=TRUE,(('12.Partner Involvement'!$D858*'12.Partner Involvement'!$E858)/COUNTA(_xlfn.TEXTSPLIT('12.Partner Involvement'!$H858,\";\"))),\"\")","v":""},{"$f":"IF(ISNUMBER(SEARCH(H$206,'12.Partner Involvement'!$H858))=TRUE,(('12.Partner Involvement'!$D858*'12.Partner Involvement'!$E858)/COUNTA(_xlfn.TEXTSPLIT('12.Partner Involvement'!$H858,\";\"))),\"\")","v":""}]
[{"$f":"IF(ISNUMBER(SEARCH(A$206,'12.Partner Involvement'!$G859))=TRUE,(('12.Partner Involvement'!$D859*'12.Partner Involvement'!$E859)/COUNTA(_xlfn.TEXTSPLIT('12.Partner Involvement'!$G859,\";\"))),\"\")","v":""},{"$f":"IF(ISNUMBER(SEARCH(B$206,'12.Partner Involvement'!$G859))=TRUE,(('12.Partner Involvement'!$D859*'12.Partner Involvement'!$E859)/COUNTA(_xlfn.TEXTSPLIT('12.Partner Involvement'!$G859,\";\"))),\"\")","v":""},{"$f":"IF(ISNUMBER(SEARCH(C$206,'12.Partner Involvement'!$G859))=TRUE,(('12.Partner Involvement'!$D859*'12.Partner Involvement'!$E859)/COUNTA(_xlfn.TEXTSPLIT('12.Partner Involvement'!$G859,\";\"))),\"\")","v":""},null,{"$f":"IF(ISNUMBER(SEARCH(E$206,'12.Partner Involvement'!$H859))=TRUE,(('12.Partner Involvement'!$D859*'12.Partner Involvement'!$E859)/COUNTA(_xlfn.TEXTSPLIT('12.Partner Involvement'!$H859,\";\"))),\"\")","v":""},{"$f":"IF(ISNUMBER(SEARCH(F$206,'12.Partner Involvement'!$H859))=TRUE,(('12.Partner Involvement'!$D859*'12.Partner Involvement'!$E859)/COUNTA(_xlfn.TEXTSPLIT('12.Partner Involvement'!$H859,\";\"))),\"\")","v":""},{"$f":"IF(ISNUMBER(SEARCH(G$206,'12.Partner Involvement'!$H859))=TRUE,(('12.Partner Involvement'!$D859*'12.Partner Involvement'!$E859)/COUNTA(_xlfn.TEXTSPLIT('12.Partner Involvement'!$H859,\";\"))),\"\")","v":""},{"$f":"IF(ISNUMBER(SEARCH(H$206,'12.Partner Involvement'!$H859))=TRUE,(('12.Partner Involvement'!$D859*'12.Partner Involvement'!$E859)/COUNTA(_xlfn.TEXTSPLIT('12.Partner Involvement'!$H859,\";\"))),\"\")","v":""}]
[{"$f":"IF(ISNUMBER(SEARCH(A$206,'12.Partner Involvement'!$G860))=TRUE,(('12.Partner Involvement'!$D860*'12.Partner Involvement'!$E860)/COUNTA(_xlfn.TEXTSPLIT('12.Partner Involvement'!$G860,\";\"))),\"\")","v":""},{"$f":"IF(ISNUMBER(SEARCH(B$206,'12.Partner Involvement'!$G860))=TRUE,(('12.Partner Involvement'!$D860*'12.Partner Involvement'!$E860)/COUNTA(_xlfn.TEXTSPLIT('12.Partner Involvement'!$G860,\";\"))),\"\")","v":""},{"$f":"IF(ISNUMBER(SEARCH(C$206,'12.Partner Involvement'!$G860))=TRUE,(('12.Partner Involvement'!$D860*'12.Partner Involvement'!$E860)/COUNTA(_xlfn.TEXTSPLIT('12.Partner Involvement'!$G860,\";\"))),\"\")","v":""},null,{"$f":"IF(ISNUMBER(SEARCH(E$206,'12.Partner Involvement'!$H860))=TRUE,(('12.Partner Involvement'!$D860*'12.Partner Involvement'!$E860)/COUNTA(_xlfn.TEXTSPLIT('12.Partner Involvement'!$H860,\";\"))),\"\")","v":""},{"$f":"IF(ISNUMBER(SEARCH(F$206,'12.Partner Involvement'!$H860))=TRUE,(('12.Partner Involvement'!$D860*'12.Partner Involvement'!$E860)/COUNTA(_xlfn.TEXTSPLIT('12.Partner Involvement'!$H860,\";\"))),\"\")","v":""},{"$f":"IF(ISNUMBER(SEARCH(G$206,'12.Partner Involvement'!$H860))=TRUE,(('12.Partner Involvement'!$D860*'12.Partner Involvement'!$E860)/COUNTA(_xlfn.TEXTSPLIT('12.Partner Involvement'!$H860,\";\"))),\"\")","v":""},{"$f":"IF(ISNUMBER(SEARCH(H$206,'12.Partner Involvement'!$H860))=TRUE,(('12.Partner Involvement'!$D860*'12.Partner Involvement'!$E860)/COUNTA(_xlfn.TEXTSPLIT('12.Partner Involvement'!$H860,\";\"))),\"\")","v":""}]
[{"$f":"IF(ISNUMBER(SEARCH(A$206,'12.Partner Involvement'!$G861))=TRUE,(('12.Partner Involvement'!$D861*'12.Partner Involvement'!$E861)/COUNTA(_xlfn.TEXTSPLIT('12.Partner Involvement'!$G861,\";\"))),\"\")","v":""},{"$f":"IF(ISNUMBER(SEARCH(B$206,'12.Partner Involvement'!$G861))=TRUE,(('12.Partner Involvement'!$D861*'12.Partner Involvement'!$E861)/COUNTA(_xlfn.TEXTSPLIT('12.Partner Involvement'!$G861,\";\"))),\"\")","v":""},{"$f":"IF(ISNUMBER(SEARCH(C$206,'12.Partner Involvement'!$G861))=TRUE,(('12.Partner Involvement'!$D861*'12.Partner Involvement'!$E861)/COUNTA(_xlfn.TEXTSPLIT('12.Partner Involvement'!$G861,\";\"))),\"\")","v":""},null,{"$f":"IF(ISNUMBER(SEARCH(E$206,'12.Partner Involvement'!$H861))=TRUE,(('12.Partner Involvement'!$D861*'12.Partner Involvement'!$E861)/COUNTA(_xlfn.TEXTSPLIT('12.Partner Involvement'!$H861,\";\"))),\"\")","v":""},{"$f":"IF(ISNUMBER(SEARCH(F$206,'12.Partner Involvement'!$H861))=TRUE,(('12.Partner Involvement'!$D861*'12.Partner Involvement'!$E861)/COUNTA(_xlfn.TEXTSPLIT('12.Partner Involvement'!$H861,\";\"))),\"\")","v":""},{"$f":"IF(ISNUMBER(SEARCH(G$206,'12.Partner Involvement'!$H861))=TRUE,(('12.Partner Involvement'!$D861*'12.Partner Involvement'!$E861)/COUNTA(_xlfn.TEXTSPLIT('12.Partner Involvement'!$H861,\";\"))),\"\")","v":""},{"$f":"IF(ISNUMBER(SEARCH(H$206,'12.Partner Involvement'!$H861))=TRUE,(('12.Partner Involvement'!$D861*'12.Partner Involvement'!$E861)/COUNTA(_xlfn.TEXTSPLIT('12.Partner Involvement'!$H861,\";\"))),\"\")","v":""}]
[{"$f":"IF(ISNUMBER(SEARCH(A$206,'12.Partner Involvement'!$G862))=TRUE,(('12.Partner Involvement'!$D862*'12.Partner Involvement'!$E862)/COUNTA(_xlfn.TEXTSPLIT('12.Partner Involvement'!$G862,\";\"))),\"\")","v":""},{"$f":"IF(ISNUMBER(SEARCH(B$206,'12.Partner Involvement'!$G862))=TRUE,(('12.Partner Involvement'!$D862*'12.Partner Involvement'!$E862)/COUNTA(_xlfn.TEXTSPLIT('12.Partner Involvement'!$G862,\";\"))),\"\")","v":""},{"$f":"IF(ISNUMBER(SEARCH(C$206,'12.Partner Involvement'!$G862))=TRUE,(('12.Partner Involvement'!$D862*'12.Partner Involvement'!$E862)/COUNTA(_xlfn.TEXTSPLIT('12.Partner Involvement'!$G862,\";\"))),\"\")","v":""},null,{"$f":"IF(ISNUMBER(SEARCH(E$206,'12.Partner Involvement'!$H862))=TRUE,(('12.Partner Involvement'!$D862*'12.Partner Involvement'!$E862)/COUNTA(_xlfn.TEXTSPLIT('12.Partner Involvement'!$H862,\";\"))),\"\")","v":""},{"$f":"IF(ISNUMBER(SEARCH(F$206,'12.Partner Involvement'!$H862))=TRUE,(('12.Partner Involvement'!$D862*'12.Partner Involvement'!$E862)/COUNTA(_xlfn.TEXTSPLIT('12.Partner Involvement'!$H862,\";\"))),\"\")","v":""},{"$f":"IF(ISNUMBER(SEARCH(G$206,'12.Partner Involvement'!$H862))=TRUE,(('12.Partner Involvement'!$D862*'12.Partner Involvement'!$E862)/COUNTA(_xlfn.TEXTSPLIT('12.Partner Involvement'!$H862,\";\"))),\"\")","v":""},{"$f":"IF(ISNUMBER(SEARCH(H$206,'12.Partner Involvement'!$H862))=TRUE,(('12.Partner Involvement'!$D862*'12.Partner Involvement'!$E862)/COUNTA(_xlfn.TEXTSPLIT('12.Partner Involvement'!$H862,\";\"))),\"\")","v":""}]
[{"$f":"IF(ISNUMBER(SEARCH(A$206,'12.Partner Involvement'!$G863))=TRUE,(('12.Partner Involvement'!$D863*'12.Partner Involvement'!$E863)/COUNTA(_xlfn.TEXTSPLIT('12.Partner Involvement'!$G863,\";\"))),\"\")","v":""},{"$f":"IF(ISNUMBER(SEARCH(B$206,'12.Partner Involvement'!$G863))=TRUE,(('12.Partner Involvement'!$D863*'12.Partner Involvement'!$E863)/COUNTA(_xlfn.TEXTSPLIT('12.Partner Involvement'!$G863,\";\"))),\"\")","v":""},{"$f":"IF(ISNUMBER(SEARCH(C$206,'12.Partner Involvement'!$G863))=TRUE,(('12.Partner Involvement'!$D863*'12.Partner Involvement'!$E863)/COUNTA(_xlfn.TEXTSPLIT('12.Partner Involvement'!$G863,\";\"))),\"\")","v":""},null,{"$f":"IF(ISNUMBER(SEARCH(E$206,'12.Partner Involvement'!$H863))=TRUE,(('12.Partner Involvement'!$D863*'12.Partner Involvement'!$E863)/COUNTA(_xlfn.TEXTSPLIT('12.Partner Involvement'!$H863,\";\"))),\"\")","v":""},{"$f":"IF(ISNUMBER(SEARCH(F$206,'12.Partner Involvement'!$H863))=TRUE,(('12.Partner Involvement'!$D863*'12.Partner Involvement'!$E863)/COUNTA(_xlfn.TEXTSPLIT('12.Partner Involvement'!$H863,\";\"))),\"\")","v":""},{"$f":"IF(ISNUMBER(SEARCH(G$206,'12.Partner Involvement'!$H863))=TRUE,(('12.Partner Involvement'!$D863*'12.Partner Involvement'!$E863)/COUNTA(_xlfn.TEXTSPLIT('12.Partner Involvement'!$H863,\";\"))),\"\")","v":""},{"$f":"IF(ISNUMBER(SEARCH(H$206,'12.Partner Involvement'!$H863))=TRUE,(('12.Partner Involvement'!$D863*'12.Partner Involvement'!$E863)/COUNTA(_xlfn.TEXTSPLIT('12.Partner Involvement'!$H863,\";\"))),\"\")","v":""}]
[{"$f":"IF(ISNUMBER(SEARCH(A$206,'12.Partner Involvement'!$G864))=TRUE,(('12.Partner Involvement'!$D864*'12.Partner Involvement'!$E864)/COUNTA(_xlfn.TEXTSPLIT('12.Partner Involvement'!$G864,\";\"))),\"\")","v":""},{"$f":"IF(ISNUMBER(SEARCH(B$206,'12.Partner Involvement'!$G864))=TRUE,(('12.Partner Involvement'!$D864*'12.Partner Involvement'!$E864)/COUNTA(_xlfn.TEXTSPLIT('12.Partner Involvement'!$G864,\";\"))),\"\")","v":""},{"$f":"IF(ISNUMBER(SEARCH(C$206,'12.Partner Involvement'!$G864))=TRUE,(('12.Partner Involvement'!$D864*'12.Partner Involvement'!$E864)/COUNTA(_xlfn.TEXTSPLIT('12.Partner Involvement'!$G864,\";\"))),\"\")","v":""},null,{"$f":"IF(ISNUMBER(SEARCH(E$206,'12.Partner Involvement'!$H864))=TRUE,(('12.Partner Involvement'!$D864*'12.Partner Involvement'!$E864)/COUNTA(_xlfn.TEXTSPLIT('12.Partner Involvement'!$H864,\";\"))),\"\")","v":""},{"$f":"IF(ISNUMBER(SEARCH(F$206,'12.Partner Involvement'!$H864))=TRUE,(('12.Partner Involvement'!$D864*'12.Partner Involvement'!$E864)/COUNTA(_xlfn.TEXTSPLIT('12.Partner Involvement'!$H864,\";\"))),\"\")","v":""},{"$f":"IF(ISNUMBER(SEARCH(G$206,'12.Partner Involvement'!$H864))=TRUE,(('12.Partner Involvement'!$D864*'12.Partner Involvement'!$E864)/COUNTA(_xlfn.TEXTSPLIT('12.Partner Involvement'!$H864,\";\"))),\"\")","v":""},{"$f":"IF(ISNUMBER(SEARCH(H$206,'12.Partner Involvement'!$H864))=TRUE,(('12.Partner Involvement'!$D864*'12.Partner Involvement'!$E864)/COUNTA(_xlfn.TEXTSPLIT('12.Partner Involvement'!$H864,\";\"))),\"\")","v":""}]
[{"$f":"IF(ISNUMBER(SEARCH(A$206,'12.Partner Involvement'!$G865))=TRUE,(('12.Partner Involvement'!$D865*'12.Partner Involvement'!$E865)/COUNTA(_xlfn.TEXTSPLIT('12.Partner Involvement'!$G865,\";\"))),\"\")","v":""},{"$f":"IF(ISNUMBER(SEARCH(B$206,'12.Partner Involvement'!$G865))=TRUE,(('12.Partner Involvement'!$D865*'12.Partner Involvement'!$E865)/COUNTA(_xlfn.TEXTSPLIT('12.Partner Involvement'!$G865,\";\"))),\"\")","v":""},{"$f":"IF(ISNUMBER(SEARCH(C$206,'12.Partner Involvement'!$G865))=TRUE,(('12.Partner Involvement'!$D865*'12.Partner Involvement'!$E865)/COUNTA(_xlfn.TEXTSPLIT('12.Partner Involvement'!$G865,\";\"))),\"\")","v":""},null,{"$f":"IF(ISNUMBER(SEARCH(E$206,'12.Partner Involvement'!$H865))=TRUE,(('12.Partner Involvement'!$D865*'12.Partner Involvement'!$E865)/COUNTA(_xlfn.TEXTSPLIT('12.Partner Involvement'!$H865,\";\"))),\"\")","v":""},{"$f":"IF(ISNUMBER(SEARCH(F$206,'12.Partner Involvement'!$H865))=TRUE,(('12.Partner Involvement'!$D865*'12.Partner Involvement'!$E865)/COUNTA(_xlfn.TEXTSPLIT('12.Partner Involvement'!$H865,\";\"))),\"\")","v":""},{"$f":"IF(ISNUMBER(SEARCH(G$206,'12.Partner Involvement'!$H865))=TRUE,(('12.Partner Involvement'!$D865*'12.Partner Involvement'!$E865)/COUNTA(_xlfn.TEXTSPLIT('12.Partner Involvement'!$H865,\";\"))),\"\")","v":""},{"$f":"IF(ISNUMBER(SEARCH(H$206,'12.Partner Involvement'!$H865))=TRUE,(('12.Partner Involvement'!$D865*'12.Partner Involvement'!$E865)/COUNTA(_xlfn.TEXTSPLIT('12.Partner Involvement'!$H865,\";\"))),\"\")","v":""}]
[{"$f":"IF(ISNUMBER(SEARCH(A$206,'12.Partner Involvement'!$G866))=TRUE,(('12.Partner Involvement'!$D866*'12.Partner Involvement'!$E866)/COUNTA(_xlfn.TEXTSPLIT('12.Partner Involvement'!$G866,\";\"))),\"\")","v":""},{"$f":"IF(ISNUMBER(SEARCH(B$206,'12.Partner Involvement'!$G866))=TRUE,(('12.Partner Involvement'!$D866*'12.Partner Involvement'!$E866)/COUNTA(_xlfn.TEXTSPLIT('12.Partner Involvement'!$G866,\";\"))),\"\")","v":""},{"$f":"IF(ISNUMBER(SEARCH(C$206,'12.Partner Involvement'!$G866))=TRUE,(('12.Partner Involvement'!$D866*'12.Partner Involvement'!$E866)/COUNTA(_xlfn.TEXTSPLIT('12.Partner Involvement'!$G866,\";\"))),\"\")","v":""},null,{"$f":"IF(ISNUMBER(SEARCH(E$206,'12.Partner Involvement'!$H866))=TRUE,(('12.Partner Involvement'!$D866*'12.Partner Involvement'!$E866)/COUNTA(_xlfn.TEXTSPLIT('12.Partner Involvement'!$H866,\";\"))),\"\")","v":""},{"$f":"IF(ISNUMBER(SEARCH(F$206,'12.Partner Involvement'!$H866))=TRUE,(('12.Partner Involvement'!$D866*'12.Partner Involvement'!$E866)/COUNTA(_xlfn.TEXTSPLIT('12.Partner Involvement'!$H866,\";\"))),\"\")","v":""},{"$f":"IF(ISNUMBER(SEARCH(G$206,'12.Partner Involvement'!$H866))=TRUE,(('12.Partner Involvement'!$D866*'12.Partner Involvement'!$E866)/COUNTA(_xlfn.TEXTSPLIT('12.Partner Involvement'!$H866,\";\"))),\"\")","v":""},{"$f":"IF(ISNUMBER(SEARCH(H$206,'12.Partner Involvement'!$H866))=TRUE,(('12.Partner Involvement'!$D866*'12.Partner Involvement'!$E866)/COUNTA(_xlfn.TEXTSPLIT('12.Partner Involvement'!$H866,\";\"))),\"\")","v":""}]
[{"$f":"IF(ISNUMBER(SEARCH(A$206,'12.Partner Involvement'!$G867))=TRUE,(('12.Partner Involvement'!$D867*'12.Partner Involvement'!$E867)/COUNTA(_xlfn.TEXTSPLIT('12.Partner Involvement'!$G867,\";\"))),\"\")","v":""},{"$f":"IF(ISNUMBER(SEARCH(B$206,'12.Partner Involvement'!$G867))=TRUE,(('12.Partner Involvement'!$D867*'12.Partner Involvement'!$E867)/COUNTA(_xlfn.TEXTSPLIT('12.Partner Involvement'!$G867,\";\"))),\"\")","v":""},{"$f":"IF(ISNUMBER(SEARCH(C$206,'12.Partner Involvement'!$G867))=TRUE,(('12.Partner Involvement'!$D867*'12.Partner Involvement'!$E867)/COUNTA(_xlfn.TEXTSPLIT('12.Partner Involvement'!$G867,\";\"))),\"\")","v":""},null,{"$f":"IF(ISNUMBER(SEARCH(E$206,'12.Partner Involvement'!$H867))=TRUE,(('12.Partner Involvement'!$D867*'12.Partner Involvement'!$E867)/COUNTA(_xlfn.TEXTSPLIT('12.Partner Involvement'!$H867,\";\"))),\"\")","v":""},{"$f":"IF(ISNUMBER(SEARCH(F$206,'12.Partner Involvement'!$H867))=TRUE,(('12.Partner Involvement'!$D867*'12.Partner Involvement'!$E867)/COUNTA(_xlfn.TEXTSPLIT('12.Partner Involvement'!$H867,\";\"))),\"\")","v":""},{"$f":"IF(ISNUMBER(SEARCH(G$206,'12.Partner Involvement'!$H867))=TRUE,(('12.Partner Involvement'!$D867*'12.Partner Involvement'!$E867)/COUNTA(_xlfn.TEXTSPLIT('12.Partner Involvement'!$H867,\";\"))),\"\")","v":""},{"$f":"IF(ISNUMBER(SEARCH(H$206,'12.Partner Involvement'!$H867))=TRUE,(('12.Partner Involvement'!$D867*'12.Partner Involvement'!$E867)/COUNTA(_xlfn.TEXTSPLIT('12.Partner Involvement'!$H867,\";\"))),\"\")","v":""}]
[{"$f":"IF(ISNUMBER(SEARCH(A$206,'12.Partner Involvement'!$G868))=TRUE,(('12.Partner Involvement'!$D868*'12.Partner Involvement'!$E868)/COUNTA(_xlfn.TEXTSPLIT('12.Partner Involvement'!$G868,\";\"))),\"\")","v":""},{"$f":"IF(ISNUMBER(SEARCH(B$206,'12.Partner Involvement'!$G868))=TRUE,(('12.Partner Involvement'!$D868*'12.Partner Involvement'!$E868)/COUNTA(_xlfn.TEXTSPLIT('12.Partner Involvement'!$G868,\";\"))),\"\")","v":""},{"$f":"IF(ISNUMBER(SEARCH(C$206,'12.Partner Involvement'!$G868))=TRUE,(('12.Partner Involvement'!$D868*'12.Partner Involvement'!$E868)/COUNTA(_xlfn.TEXTSPLIT('12.Partner Involvement'!$G868,\";\"))),\"\")","v":""},null,{"$f":"IF(ISNUMBER(SEARCH(E$206,'12.Partner Involvement'!$H868))=TRUE,(('12.Partner Involvement'!$D868*'12.Partner Involvement'!$E868)/COUNTA(_xlfn.TEXTSPLIT('12.Partner Involvement'!$H868,\";\"))),\"\")","v":""},{"$f":"IF(ISNUMBER(SEARCH(F$206,'12.Partner Involvement'!$H868))=TRUE,(('12.Partner Involvement'!$D868*'12.Partner Involvement'!$E868)/COUNTA(_xlfn.TEXTSPLIT('12.Partner Involvement'!$H868,\";\"))),\"\")","v":""},{"$f":"IF(ISNUMBER(SEARCH(G$206,'12.Partner Involvement'!$H868))=TRUE,(('12.Partner Involvement'!$D868*'12.Partner Involvement'!$E868)/COUNTA(_xlfn.TEXTSPLIT('12.Partner Involvement'!$H868,\";\"))),\"\")","v":""},{"$f":"IF(ISNUMBER(SEARCH(H$206,'12.Partner Involvement'!$H868))=TRUE,(('12.Partner Involvement'!$D868*'12.Partner Involvement'!$E868)/COUNTA(_xlfn.TEXTSPLIT('12.Partner Involvement'!$H868,\";\"))),\"\")","v":""}]
[{"$f":"IF(ISNUMBER(SEARCH(A$206,'12.Partner Involvement'!$G869))=TRUE,(('12.Partner Involvement'!$D869*'12.Partner Involvement'!$E869)/COUNTA(_xlfn.TEXTSPLIT('12.Partner Involvement'!$G869,\";\"))),\"\")","v":""},{"$f":"IF(ISNUMBER(SEARCH(B$206,'12.Partner Involvement'!$G869))=TRUE,(('12.Partner Involvement'!$D869*'12.Partner Involvement'!$E869)/COUNTA(_xlfn.TEXTSPLIT('12.Partner Involvement'!$G869,\";\"))),\"\")","v":""},{"$f":"IF(ISNUMBER(SEARCH(C$206,'12.Partner Involvement'!$G869))=TRUE,(('12.Partner Involvement'!$D869*'12.Partner Involvement'!$E869)/COUNTA(_xlfn.TEXTSPLIT('12.Partner Involvement'!$G869,\";\"))),\"\")","v":""},null,{"$f":"IF(ISNUMBER(SEARCH(E$206,'12.Partner Involvement'!$H869))=TRUE,(('12.Partner Involvement'!$D869*'12.Partner Involvement'!$E869)/COUNTA(_xlfn.TEXTSPLIT('12.Partner Involvement'!$H869,\";\"))),\"\")","v":""},{"$f":"IF(ISNUMBER(SEARCH(F$206,'12.Partner Involvement'!$H869))=TRUE,(('12.Partner Involvement'!$D869*'12.Partner Involvement'!$E869)/COUNTA(_xlfn.TEXTSPLIT('12.Partner Involvement'!$H869,\";\"))),\"\")","v":""},{"$f":"IF(ISNUMBER(SEARCH(G$206,'12.Partner Involvement'!$H869))=TRUE,(('12.Partner Involvement'!$D869*'12.Partner Involvement'!$E869)/COUNTA(_xlfn.TEXTSPLIT('12.Partner Involvement'!$H869,\";\"))),\"\")","v":""},{"$f":"IF(ISNUMBER(SEARCH(H$206,'12.Partner Involvement'!$H869))=TRUE,(('12.Partner Involvement'!$D869*'12.Partner Involvement'!$E869)/COUNTA(_xlfn.TEXTSPLIT('12.Partner Involvement'!$H869,\";\"))),\"\")","v":""}]
[{"$f":"IF(ISNUMBER(SEARCH(A$206,'12.Partner Involvement'!$G870))=TRUE,(('12.Partner Involvement'!$D870*'12.Partner Involvement'!$E870)/COUNTA(_xlfn.TEXTSPLIT('12.Partner Involvement'!$G870,\";\"))),\"\")","v":""},{"$f":"IF(ISNUMBER(SEARCH(B$206,'12.Partner Involvement'!$G870))=TRUE,(('12.Partner Involvement'!$D870*'12.Partner Involvement'!$E870)/COUNTA(_xlfn.TEXTSPLIT('12.Partner Involvement'!$G870,\";\"))),\"\")","v":""},{"$f":"IF(ISNUMBER(SEARCH(C$206,'12.Partner Involvement'!$G870))=TRUE,(('12.Partner Involvement'!$D870*'12.Partner Involvement'!$E870)/COUNTA(_xlfn.TEXTSPLIT('12.Partner Involvement'!$G870,\";\"))),\"\")","v":""},null,{"$f":"IF(ISNUMBER(SEARCH(E$206,'12.Partner Involvement'!$H870))=TRUE,(('12.Partner Involvement'!$D870*'12.Partner Involvement'!$E870)/COUNTA(_xlfn.TEXTSPLIT('12.Partner Involvement'!$H870,\";\"))),\"\")","v":""},{"$f":"IF(ISNUMBER(SEARCH(F$206,'12.Partner Involvement'!$H870))=TRUE,(('12.Partner Involvement'!$D870*'12.Partner Involvement'!$E870)/COUNTA(_xlfn.TEXTSPLIT('12.Partner Involvement'!$H870,\";\"))),\"\")","v":""},{"$f":"IF(ISNUMBER(SEARCH(G$206,'12.Partner Involvement'!$H870))=TRUE,(('12.Partner Involvement'!$D870*'12.Partner Involvement'!$E870)/COUNTA(_xlfn.TEXTSPLIT('12.Partner Involvement'!$H870,\";\"))),\"\")","v":""},{"$f":"IF(ISNUMBER(SEARCH(H$206,'12.Partner Involvement'!$H870))=TRUE,(('12.Partner Involvement'!$D870*'12.Partner Involvement'!$E870)/COUNTA(_xlfn.TEXTSPLIT('12.Partner Involvement'!$H870,\";\"))),\"\")","v":""}]
[{"$f":"IF(ISNUMBER(SEARCH(A$206,'12.Partner Involvement'!$G871))=TRUE,(('12.Partner Involvement'!$D871*'12.Partner Involvement'!$E871)/COUNTA(_xlfn.TEXTSPLIT('12.Partner Involvement'!$G871,\";\"))),\"\")","v":""},{"$f":"IF(ISNUMBER(SEARCH(B$206,'12.Partner Involvement'!$G871))=TRUE,(('12.Partner Involvement'!$D871*'12.Partner Involvement'!$E871)/COUNTA(_xlfn.TEXTSPLIT('12.Partner Involvement'!$G871,\";\"))),\"\")","v":""},{"$f":"IF(ISNUMBER(SEARCH(C$206,'12.Partner Involvement'!$G871))=TRUE,(('12.Partner Involvement'!$D871*'12.Partner Involvement'!$E871)/COUNTA(_xlfn.TEXTSPLIT('12.Partner Involvement'!$G871,\";\"))),\"\")","v":""},null,{"$f":"IF(ISNUMBER(SEARCH(E$206,'12.Partner Involvement'!$H871))=TRUE,(('12.Partner Involvement'!$D871*'12.Partner Involvement'!$E871)/COUNTA(_xlfn.TEXTSPLIT('12.Partner Involvement'!$H871,\";\"))),\"\")","v":""},{"$f":"IF(ISNUMBER(SEARCH(F$206,'12.Partner Involvement'!$H871))=TRUE,(('12.Partner Involvement'!$D871*'12.Partner Involvement'!$E871)/COUNTA(_xlfn.TEXTSPLIT('12.Partner Involvement'!$H871,\";\"))),\"\")","v":""},{"$f":"IF(ISNUMBER(SEARCH(G$206,'12.Partner Involvement'!$H871))=TRUE,(('12.Partner Involvement'!$D871*'12.Partner Involvement'!$E871)/COUNTA(_xlfn.TEXTSPLIT('12.Partner Involvement'!$H871,\";\"))),\"\")","v":""},{"$f":"IF(ISNUMBER(SEARCH(H$206,'12.Partner Involvement'!$H871))=TRUE,(('12.Partner Involvement'!$D871*'12.Partner Involvement'!$E871)/COUNTA(_xlfn.TEXTSPLIT('12.Partner Involvement'!$H871,\";\"))),\"\")","v":""}]
[{"$f":"IF(ISNUMBER(SEARCH(A$206,'12.Partner Involvement'!$G872))=TRUE,(('12.Partner Involvement'!$D872*'12.Partner Involvement'!$E872)/COUNTA(_xlfn.TEXTSPLIT('12.Partner Involvement'!$G872,\";\"))),\"\")","v":""},{"$f":"IF(ISNUMBER(SEARCH(B$206,'12.Partner Involvement'!$G872))=TRUE,(('12.Partner Involvement'!$D872*'12.Partner Involvement'!$E872)/COUNTA(_xlfn.TEXTSPLIT('12.Partner Involvement'!$G872,\";\"))),\"\")","v":""},{"$f":"IF(ISNUMBER(SEARCH(C$206,'12.Partner Involvement'!$G872))=TRUE,(('12.Partner Involvement'!$D872*'12.Partner Involvement'!$E872)/COUNTA(_xlfn.TEXTSPLIT('12.Partner Involvement'!$G872,\";\"))),\"\")","v":""},null,{"$f":"IF(ISNUMBER(SEARCH(E$206,'12.Partner Involvement'!$H872))=TRUE,(('12.Partner Involvement'!$D872*'12.Partner Involvement'!$E872)/COUNTA(_xlfn.TEXTSPLIT('12.Partner Involvement'!$H872,\";\"))),\"\")","v":""},{"$f":"IF(ISNUMBER(SEARCH(F$206,'12.Partner Involvement'!$H872))=TRUE,(('12.Partner Involvement'!$D872*'12.Partner Involvement'!$E872)/COUNTA(_xlfn.TEXTSPLIT('12.Partner Involvement'!$H872,\";\"))),\"\")","v":""},{"$f":"IF(ISNUMBER(SEARCH(G$206,'12.Partner Involvement'!$H872))=TRUE,(('12.Partner Involvement'!$D872*'12.Partner Involvement'!$E872)/COUNTA(_xlfn.TEXTSPLIT('12.Partner Involvement'!$H872,\";\"))),\"\")","v":""},{"$f":"IF(ISNUMBER(SEARCH(H$206,'12.Partner Involvement'!$H872))=TRUE,(('12.Partner Involvement'!$D872*'12.Partner Involvement'!$E872)/COUNTA(_xlfn.TEXTSPLIT('12.Partner Involvement'!$H872,\";\"))),\"\")","v":""}]
[{"$f":"IF(ISNUMBER(SEARCH(A$206,'12.Partner Involvement'!$G873))=TRUE,(('12.Partner Involvement'!$D873*'12.Partner Involvement'!$E873)/COUNTA(_xlfn.TEXTSPLIT('12.Partner Involvement'!$G873,\";\"))),\"\")","v":""},{"$f":"IF(ISNUMBER(SEARCH(B$206,'12.Partner Involvement'!$G873))=TRUE,(('12.Partner Involvement'!$D873*'12.Partner Involvement'!$E873)/COUNTA(_xlfn.TEXTSPLIT('12.Partner Involvement'!$G873,\";\"))),\"\")","v":""},{"$f":"IF(ISNUMBER(SEARCH(C$206,'12.Partner Involvement'!$G873))=TRUE,(('12.Partner Involvement'!$D873*'12.Partner Involvement'!$E873)/COUNTA(_xlfn.TEXTSPLIT('12.Partner Involvement'!$G873,\";\"))),\"\")","v":""},null,{"$f":"IF(ISNUMBER(SEARCH(E$206,'12.Partner Involvement'!$H873))=TRUE,(('12.Partner Involvement'!$D873*'12.Partner Involvement'!$E873)/COUNTA(_xlfn.TEXTSPLIT('12.Partner Involvement'!$H873,\";\"))),\"\")","v":""},{"$f":"IF(ISNUMBER(SEARCH(F$206,'12.Partner Involvement'!$H873))=TRUE,(('12.Partner Involvement'!$D873*'12.Partner Involvement'!$E873)/COUNTA(_xlfn.TEXTSPLIT('12.Partner Involvement'!$H873,\";\"))),\"\")","v":""},{"$f":"IF(ISNUMBER(SEARCH(G$206,'12.Partner Involvement'!$H873))=TRUE,(('12.Partner Involvement'!$D873*'12.Partner Involvement'!$E873)/COUNTA(_xlfn.TEXTSPLIT('12.Partner Involvement'!$H873,\";\"))),\"\")","v":""},{"$f":"IF(ISNUMBER(SEARCH(H$206,'12.Partner Involvement'!$H873))=TRUE,(('12.Partner Involvement'!$D873*'12.Partner Involvement'!$E873)/COUNTA(_xlfn.TEXTSPLIT('12.Partner Involvement'!$H873,\";\"))),\"\")","v":""}]
[{"$f":"IF(ISNUMBER(SEARCH(A$206,'12.Partner Involvement'!$G874))=TRUE,(('12.Partner Involvement'!$D874*'12.Partner Involvement'!$E874)/COUNTA(_xlfn.TEXTSPLIT('12.Partner Involvement'!$G874,\";\"))),\"\")","v":""},{"$f":"IF(ISNUMBER(SEARCH(B$206,'12.Partner Involvement'!$G874))=TRUE,(('12.Partner Involvement'!$D874*'12.Partner Involvement'!$E874)/COUNTA(_xlfn.TEXTSPLIT('12.Partner Involvement'!$G874,\";\"))),\"\")","v":""},{"$f":"IF(ISNUMBER(SEARCH(C$206,'12.Partner Involvement'!$G874))=TRUE,(('12.Partner Involvement'!$D874*'12.Partner Involvement'!$E874)/COUNTA(_xlfn.TEXTSPLIT('12.Partner Involvement'!$G874,\";\"))),\"\")","v":""},null,{"$f":"IF(ISNUMBER(SEARCH(E$206,'12.Partner Involvement'!$H874))=TRUE,(('12.Partner Involvement'!$D874*'12.Partner Involvement'!$E874)/COUNTA(_xlfn.TEXTSPLIT('12.Partner Involvement'!$H874,\";\"))),\"\")","v":""},{"$f":"IF(ISNUMBER(SEARCH(F$206,'12.Partner Involvement'!$H874))=TRUE,(('12.Partner Involvement'!$D874*'12.Partner Involvement'!$E874)/COUNTA(_xlfn.TEXTSPLIT('12.Partner Involvement'!$H874,\";\"))),\"\")","v":""},{"$f":"IF(ISNUMBER(SEARCH(G$206,'12.Partner Involvement'!$H874))=TRUE,(('12.Partner Involvement'!$D874*'12.Partner Involvement'!$E874)/COUNTA(_xlfn.TEXTSPLIT('12.Partner Involvement'!$H874,\";\"))),\"\")","v":""},{"$f":"IF(ISNUMBER(SEARCH(H$206,'12.Partner Involvement'!$H874))=TRUE,(('12.Partner Involvement'!$D874*'12.Partner Involvement'!$E874)/COUNTA(_xlfn.TEXTSPLIT('12.Partner Involvement'!$H874,\";\"))),\"\")","v":""}]
[{"$f":"IF(ISNUMBER(SEARCH(A$206,'12.Partner Involvement'!$G875))=TRUE,(('12.Partner Involvement'!$D875*'12.Partner Involvement'!$E875)/COUNTA(_xlfn.TEXTSPLIT('12.Partner Involvement'!$G875,\";\"))),\"\")","v":""},{"$f":"IF(ISNUMBER(SEARCH(B$206,'12.Partner Involvement'!$G875))=TRUE,(('12.Partner Involvement'!$D875*'12.Partner Involvement'!$E875)/COUNTA(_xlfn.TEXTSPLIT('12.Partner Involvement'!$G875,\";\"))),\"\")","v":""},{"$f":"IF(ISNUMBER(SEARCH(C$206,'12.Partner Involvement'!$G875))=TRUE,(('12.Partner Involvement'!$D875*'12.Partner Involvement'!$E875)/COUNTA(_xlfn.TEXTSPLIT('12.Partner Involvement'!$G875,\";\"))),\"\")","v":""},null,{"$f":"IF(ISNUMBER(SEARCH(E$206,'12.Partner Involvement'!$H875))=TRUE,(('12.Partner Involvement'!$D875*'12.Partner Involvement'!$E875)/COUNTA(_xlfn.TEXTSPLIT('12.Partner Involvement'!$H875,\";\"))),\"\")","v":""},{"$f":"IF(ISNUMBER(SEARCH(F$206,'12.Partner Involvement'!$H875))=TRUE,(('12.Partner Involvement'!$D875*'12.Partner Involvement'!$E875)/COUNTA(_xlfn.TEXTSPLIT('12.Partner Involvement'!$H875,\";\"))),\"\")","v":""},{"$f":"IF(ISNUMBER(SEARCH(G$206,'12.Partner Involvement'!$H875))=TRUE,(('12.Partner Involvement'!$D875*'12.Partner Involvement'!$E875)/COUNTA(_xlfn.TEXTSPLIT('12.Partner Involvement'!$H875,\";\"))),\"\")","v":""},{"$f":"IF(ISNUMBER(SEARCH(H$206,'12.Partner Involvement'!$H875))=TRUE,(('12.Partner Involvement'!$D875*'12.Partner Involvement'!$E875)/COUNTA(_xlfn.TEXTSPLIT('12.Partner Involvement'!$H875,\";\"))),\"\")","v":""}]
[{"$f":"IF(ISNUMBER(SEARCH(A$206,'12.Partner Involvement'!$G876))=TRUE,(('12.Partner Involvement'!$D876*'12.Partner Involvement'!$E876)/COUNTA(_xlfn.TEXTSPLIT('12.Partner Involvement'!$G876,\";\"))),\"\")","v":""},{"$f":"IF(ISNUMBER(SEARCH(B$206,'12.Partner Involvement'!$G876))=TRUE,(('12.Partner Involvement'!$D876*'12.Partner Involvement'!$E876)/COUNTA(_xlfn.TEXTSPLIT('12.Partner Involvement'!$G876,\";\"))),\"\")","v":""},{"$f":"IF(ISNUMBER(SEARCH(C$206,'12.Partner Involvement'!$G876))=TRUE,(('12.Partner Involvement'!$D876*'12.Partner Involvement'!$E876)/COUNTA(_xlfn.TEXTSPLIT('12.Partner Involvement'!$G876,\";\"))),\"\")","v":""},null,{"$f":"IF(ISNUMBER(SEARCH(E$206,'12.Partner Involvement'!$H876))=TRUE,(('12.Partner Involvement'!$D876*'12.Partner Involvement'!$E876)/COUNTA(_xlfn.TEXTSPLIT('12.Partner Involvement'!$H876,\";\"))),\"\")","v":""},{"$f":"IF(ISNUMBER(SEARCH(F$206,'12.Partner Involvement'!$H876))=TRUE,(('12.Partner Involvement'!$D876*'12.Partner Involvement'!$E876)/COUNTA(_xlfn.TEXTSPLIT('12.Partner Involvement'!$H876,\";\"))),\"\")","v":""},{"$f":"IF(ISNUMBER(SEARCH(G$206,'12.Partner Involvement'!$H876))=TRUE,(('12.Partner Involvement'!$D876*'12.Partner Involvement'!$E876)/COUNTA(_xlfn.TEXTSPLIT('12.Partner Involvement'!$H876,\";\"))),\"\")","v":""},{"$f":"IF(ISNUMBER(SEARCH(H$206,'12.Partner Involvement'!$H876))=TRUE,(('12.Partner Involvement'!$D876*'12.Partner Involvement'!$E876)/COUNTA(_xlfn.TEXTSPLIT('12.Partner Involvement'!$H876,\";\"))),\"\")","v":""}]
[{"$f":"IF(ISNUMBER(SEARCH(A$206,'12.Partner Involvement'!$G877))=TRUE,(('12.Partner Involvement'!$D877*'12.Partner Involvement'!$E877)/COUNTA(_xlfn.TEXTSPLIT('12.Partner Involvement'!$G877,\";\"))),\"\")","v":""},{"$f":"IF(ISNUMBER(SEARCH(B$206,'12.Partner Involvement'!$G877))=TRUE,(('12.Partner Involvement'!$D877*'12.Partner Involvement'!$E877)/COUNTA(_xlfn.TEXTSPLIT('12.Partner Involvement'!$G877,\";\"))),\"\")","v":""},{"$f":"IF(ISNUMBER(SEARCH(C$206,'12.Partner Involvement'!$G877))=TRUE,(('12.Partner Involvement'!$D877*'12.Partner Involvement'!$E877)/COUNTA(_xlfn.TEXTSPLIT('12.Partner Involvement'!$G877,\";\"))),\"\")","v":""},null,{"$f":"IF(ISNUMBER(SEARCH(E$206,'12.Partner Involvement'!$H877))=TRUE,(('12.Partner Involvement'!$D877*'12.Partner Involvement'!$E877)/COUNTA(_xlfn.TEXTSPLIT('12.Partner Involvement'!$H877,\";\"))),\"\")","v":""},{"$f":"IF(ISNUMBER(SEARCH(F$206,'12.Partner Involvement'!$H877))=TRUE,(('12.Partner Involvement'!$D877*'12.Partner Involvement'!$E877)/COUNTA(_xlfn.TEXTSPLIT('12.Partner Involvement'!$H877,\";\"))),\"\")","v":""},{"$f":"IF(ISNUMBER(SEARCH(G$206,'12.Partner Involvement'!$H877))=TRUE,(('12.Partner Involvement'!$D877*'12.Partner Involvement'!$E877)/COUNTA(_xlfn.TEXTSPLIT('12.Partner Involvement'!$H877,\";\"))),\"\")","v":""},{"$f":"IF(ISNUMBER(SEARCH(H$206,'12.Partner Involvement'!$H877))=TRUE,(('12.Partner Involvement'!$D877*'12.Partner Involvement'!$E877)/COUNTA(_xlfn.TEXTSPLIT('12.Partner Involvement'!$H877,\";\"))),\"\")","v":""}]
[{"$f":"IF(ISNUMBER(SEARCH(A$206,'12.Partner Involvement'!$G878))=TRUE,(('12.Partner Involvement'!$D878*'12.Partner Involvement'!$E878)/COUNTA(_xlfn.TEXTSPLIT('12.Partner Involvement'!$G878,\";\"))),\"\")","v":""},{"$f":"IF(ISNUMBER(SEARCH(B$206,'12.Partner Involvement'!$G878))=TRUE,(('12.Partner Involvement'!$D878*'12.Partner Involvement'!$E878)/COUNTA(_xlfn.TEXTSPLIT('12.Partner Involvement'!$G878,\";\"))),\"\")","v":""},{"$f":"IF(ISNUMBER(SEARCH(C$206,'12.Partner Involvement'!$G878))=TRUE,(('12.Partner Involvement'!$D878*'12.Partner Involvement'!$E878)/COUNTA(_xlfn.TEXTSPLIT('12.Partner Involvement'!$G878,\";\"))),\"\")","v":""},null,{"$f":"IF(ISNUMBER(SEARCH(E$206,'12.Partner Involvement'!$H878))=TRUE,(('12.Partner Involvement'!$D878*'12.Partner Involvement'!$E878)/COUNTA(_xlfn.TEXTSPLIT('12.Partner Involvement'!$H878,\";\"))),\"\")","v":""},{"$f":"IF(ISNUMBER(SEARCH(F$206,'12.Partner Involvement'!$H878))=TRUE,(('12.Partner Involvement'!$D878*'12.Partner Involvement'!$E878)/COUNTA(_xlfn.TEXTSPLIT('12.Partner Involvement'!$H878,\";\"))),\"\")","v":""},{"$f":"IF(ISNUMBER(SEARCH(G$206,'12.Partner Involvement'!$H878))=TRUE,(('12.Partner Involvement'!$D878*'12.Partner Involvement'!$E878)/COUNTA(_xlfn.TEXTSPLIT('12.Partner Involvement'!$H878,\";\"))),\"\")","v":""},{"$f":"IF(ISNUMBER(SEARCH(H$206,'12.Partner Involvement'!$H878))=TRUE,(('12.Partner Involvement'!$D878*'12.Partner Involvement'!$E878)/COUNTA(_xlfn.TEXTSPLIT('12.Partner Involvement'!$H878,\";\"))),\"\")","v":""}]
[{"$f":"IF(ISNUMBER(SEARCH(A$206,'12.Partner Involvement'!$G879))=TRUE,(('12.Partner Involvement'!$D879*'12.Partner Involvement'!$E879)/COUNTA(_xlfn.TEXTSPLIT('12.Partner Involvement'!$G879,\";\"))),\"\")","v":""},{"$f":"IF(ISNUMBER(SEARCH(B$206,'12.Partner Involvement'!$G879))=TRUE,(('12.Partner Involvement'!$D879*'12.Partner Involvement'!$E879)/COUNTA(_xlfn.TEXTSPLIT('12.Partner Involvement'!$G879,\";\"))),\"\")","v":""},{"$f":"IF(ISNUMBER(SEARCH(C$206,'12.Partner Involvement'!$G879))=TRUE,(('12.Partner Involvement'!$D879*'12.Partner Involvement'!$E879)/COUNTA(_xlfn.TEXTSPLIT('12.Partner Involvement'!$G879,\";\"))),\"\")","v":""},null,{"$f":"IF(ISNUMBER(SEARCH(E$206,'12.Partner Involvement'!$H879))=TRUE,(('12.Partner Involvement'!$D879*'12.Partner Involvement'!$E879)/COUNTA(_xlfn.TEXTSPLIT('12.Partner Involvement'!$H879,\";\"))),\"\")","v":""},{"$f":"IF(ISNUMBER(SEARCH(F$206,'12.Partner Involvement'!$H879))=TRUE,(('12.Partner Involvement'!$D879*'12.Partner Involvement'!$E879)/COUNTA(_xlfn.TEXTSPLIT('12.Partner Involvement'!$H879,\";\"))),\"\")","v":""},{"$f":"IF(ISNUMBER(SEARCH(G$206,'12.Partner Involvement'!$H879))=TRUE,(('12.Partner Involvement'!$D879*'12.Partner Involvement'!$E879)/COUNTA(_xlfn.TEXTSPLIT('12.Partner Involvement'!$H879,\";\"))),\"\")","v":""},{"$f":"IF(ISNUMBER(SEARCH(H$206,'12.Partner Involvement'!$H879))=TRUE,(('12.Partner Involvement'!$D879*'12.Partner Involvement'!$E879)/COUNTA(_xlfn.TEXTSPLIT('12.Partner Involvement'!$H879,\";\"))),\"\")","v":""}]
[{"$f":"IF(ISNUMBER(SEARCH(A$206,'12.Partner Involvement'!$G880))=TRUE,(('12.Partner Involvement'!$D880*'12.Partner Involvement'!$E880)/COUNTA(_xlfn.TEXTSPLIT('12.Partner Involvement'!$G880,\";\"))),\"\")","v":""},{"$f":"IF(ISNUMBER(SEARCH(B$206,'12.Partner Involvement'!$G880))=TRUE,(('12.Partner Involvement'!$D880*'12.Partner Involvement'!$E880)/COUNTA(_xlfn.TEXTSPLIT('12.Partner Involvement'!$G880,\";\"))),\"\")","v":""},{"$f":"IF(ISNUMBER(SEARCH(C$206,'12.Partner Involvement'!$G880))=TRUE,(('12.Partner Involvement'!$D880*'12.Partner Involvement'!$E880)/COUNTA(_xlfn.TEXTSPLIT('12.Partner Involvement'!$G880,\";\"))),\"\")","v":""},null,{"$f":"IF(ISNUMBER(SEARCH(E$206,'12.Partner Involvement'!$H880))=TRUE,(('12.Partner Involvement'!$D880*'12.Partner Involvement'!$E880)/COUNTA(_xlfn.TEXTSPLIT('12.Partner Involvement'!$H880,\";\"))),\"\")","v":""},{"$f":"IF(ISNUMBER(SEARCH(F$206,'12.Partner Involvement'!$H880))=TRUE,(('12.Partner Involvement'!$D880*'12.Partner Involvement'!$E880)/COUNTA(_xlfn.TEXTSPLIT('12.Partner Involvement'!$H880,\";\"))),\"\")","v":""},{"$f":"IF(ISNUMBER(SEARCH(G$206,'12.Partner Involvement'!$H880))=TRUE,(('12.Partner Involvement'!$D880*'12.Partner Involvement'!$E880)/COUNTA(_xlfn.TEXTSPLIT('12.Partner Involvement'!$H880,\";\"))),\"\")","v":""},{"$f":"IF(ISNUMBER(SEARCH(H$206,'12.Partner Involvement'!$H880))=TRUE,(('12.Partner Involvement'!$D880*'12.Partner Involvement'!$E880)/COUNTA(_xlfn.TEXTSPLIT('12.Partner Involvement'!$H880,\";\"))),\"\")","v":""}]
[{"$f":"IF(ISNUMBER(SEARCH(A$206,'12.Partner Involvement'!$G881))=TRUE,(('12.Partner Involvement'!$D881*'12.Partner Involvement'!$E881)/COUNTA(_xlfn.TEXTSPLIT('12.Partner Involvement'!$G881,\";\"))),\"\")","v":""},{"$f":"IF(ISNUMBER(SEARCH(B$206,'12.Partner Involvement'!$G881))=TRUE,(('12.Partner Involvement'!$D881*'12.Partner Involvement'!$E881)/COUNTA(_xlfn.TEXTSPLIT('12.Partner Involvement'!$G881,\";\"))),\"\")","v":""},{"$f":"IF(ISNUMBER(SEARCH(C$206,'12.Partner Involvement'!$G881))=TRUE,(('12.Partner Involvement'!$D881*'12.Partner Involvement'!$E881)/COUNTA(_xlfn.TEXTSPLIT('12.Partner Involvement'!$G881,\";\"))),\"\")","v":""},null,{"$f":"IF(ISNUMBER(SEARCH(E$206,'12.Partner Involvement'!$H881))=TRUE,(('12.Partner Involvement'!$D881*'12.Partner Involvement'!$E881)/COUNTA(_xlfn.TEXTSPLIT('12.Partner Involvement'!$H881,\";\"))),\"\")","v":""},{"$f":"IF(ISNUMBER(SEARCH(F$206,'12.Partner Involvement'!$H881))=TRUE,(('12.Partner Involvement'!$D881*'12.Partner Involvement'!$E881)/COUNTA(_xlfn.TEXTSPLIT('12.Partner Involvement'!$H881,\";\"))),\"\")","v":""},{"$f":"IF(ISNUMBER(SEARCH(G$206,'12.Partner Involvement'!$H881))=TRUE,(('12.Partner Involvement'!$D881*'12.Partner Involvement'!$E881)/COUNTA(_xlfn.TEXTSPLIT('12.Partner Involvement'!$H881,\";\"))),\"\")","v":""},{"$f":"IF(ISNUMBER(SEARCH(H$206,'12.Partner Involvement'!$H881))=TRUE,(('12.Partner Involvement'!$D881*'12.Partner Involvement'!$E881)/COUNTA(_xlfn.TEXTSPLIT('12.Partner Involvement'!$H881,\";\"))),\"\")","v":""}]
[{"$f":"IF(ISNUMBER(SEARCH(A$206,'12.Partner Involvement'!$G882))=TRUE,(('12.Partner Involvement'!$D882*'12.Partner Involvement'!$E882)/COUNTA(_xlfn.TEXTSPLIT('12.Partner Involvement'!$G882,\";\"))),\"\")","v":""},{"$f":"IF(ISNUMBER(SEARCH(B$206,'12.Partner Involvement'!$G882))=TRUE,(('12.Partner Involvement'!$D882*'12.Partner Involvement'!$E882)/COUNTA(_xlfn.TEXTSPLIT('12.Partner Involvement'!$G882,\";\"))),\"\")","v":""},{"$f":"IF(ISNUMBER(SEARCH(C$206,'12.Partner Involvement'!$G882))=TRUE,(('12.Partner Involvement'!$D882*'12.Partner Involvement'!$E882)/COUNTA(_xlfn.TEXTSPLIT('12.Partner Involvement'!$G882,\";\"))),\"\")","v":""},null,{"$f":"IF(ISNUMBER(SEARCH(E$206,'12.Partner Involvement'!$H882))=TRUE,(('12.Partner Involvement'!$D882*'12.Partner Involvement'!$E882)/COUNTA(_xlfn.TEXTSPLIT('12.Partner Involvement'!$H882,\";\"))),\"\")","v":""},{"$f":"IF(ISNUMBER(SEARCH(F$206,'12.Partner Involvement'!$H882))=TRUE,(('12.Partner Involvement'!$D882*'12.Partner Involvement'!$E882)/COUNTA(_xlfn.TEXTSPLIT('12.Partner Involvement'!$H882,\";\"))),\"\")","v":""},{"$f":"IF(ISNUMBER(SEARCH(G$206,'12.Partner Involvement'!$H882))=TRUE,(('12.Partner Involvement'!$D882*'12.Partner Involvement'!$E882)/COUNTA(_xlfn.TEXTSPLIT('12.Partner Involvement'!$H882,\";\"))),\"\")","v":""},{"$f":"IF(ISNUMBER(SEARCH(H$206,'12.Partner Involvement'!$H882))=TRUE,(('12.Partner Involvement'!$D882*'12.Partner Involvement'!$E882)/COUNTA(_xlfn.TEXTSPLIT('12.Partner Involvement'!$H882,\";\"))),\"\")","v":""}]
[{"$f":"IF(ISNUMBER(SEARCH(A$206,'12.Partner Involvement'!$G883))=TRUE,(('12.Partner Involvement'!$D883*'12.Partner Involvement'!$E883)/COUNTA(_xlfn.TEXTSPLIT('12.Partner Involvement'!$G883,\";\"))),\"\")","v":""},{"$f":"IF(ISNUMBER(SEARCH(B$206,'12.Partner Involvement'!$G883))=TRUE,(('12.Partner Involvement'!$D883*'12.Partner Involvement'!$E883)/COUNTA(_xlfn.TEXTSPLIT('12.Partner Involvement'!$G883,\";\"))),\"\")","v":""},{"$f":"IF(ISNUMBER(SEARCH(C$206,'12.Partner Involvement'!$G883))=TRUE,(('12.Partner Involvement'!$D883*'12.Partner Involvement'!$E883)/COUNTA(_xlfn.TEXTSPLIT('12.Partner Involvement'!$G883,\";\"))),\"\")","v":""},null,{"$f":"IF(ISNUMBER(SEARCH(E$206,'12.Partner Involvement'!$H883))=TRUE,(('12.Partner Involvement'!$D883*'12.Partner Involvement'!$E883)/COUNTA(_xlfn.TEXTSPLIT('12.Partner Involvement'!$H883,\";\"))),\"\")","v":""},{"$f":"IF(ISNUMBER(SEARCH(F$206,'12.Partner Involvement'!$H883))=TRUE,(('12.Partner Involvement'!$D883*'12.Partner Involvement'!$E883)/COUNTA(_xlfn.TEXTSPLIT('12.Partner Involvement'!$H883,\";\"))),\"\")","v":""},{"$f":"IF(ISNUMBER(SEARCH(G$206,'12.Partner Involvement'!$H883))=TRUE,(('12.Partner Involvement'!$D883*'12.Partner Involvement'!$E883)/COUNTA(_xlfn.TEXTSPLIT('12.Partner Involvement'!$H883,\";\"))),\"\")","v":""},{"$f":"IF(ISNUMBER(SEARCH(H$206,'12.Partner Involvement'!$H883))=TRUE,(('12.Partner Involvement'!$D883*'12.Partner Involvement'!$E883)/COUNTA(_xlfn.TEXTSPLIT('12.Partner Involvement'!$H883,\";\"))),\"\")","v":""}]
[{"$f":"IF(ISNUMBER(SEARCH(A$206,'12.Partner Involvement'!$G884))=TRUE,(('12.Partner Involvement'!$D884*'12.Partner Involvement'!$E884)/COUNTA(_xlfn.TEXTSPLIT('12.Partner Involvement'!$G884,\";\"))),\"\")","v":""},{"$f":"IF(ISNUMBER(SEARCH(B$206,'12.Partner Involvement'!$G884))=TRUE,(('12.Partner Involvement'!$D884*'12.Partner Involvement'!$E884)/COUNTA(_xlfn.TEXTSPLIT('12.Partner Involvement'!$G884,\";\"))),\"\")","v":""},{"$f":"IF(ISNUMBER(SEARCH(C$206,'12.Partner Involvement'!$G884))=TRUE,(('12.Partner Involvement'!$D884*'12.Partner Involvement'!$E884)/COUNTA(_xlfn.TEXTSPLIT('12.Partner Involvement'!$G884,\";\"))),\"\")","v":""},null,{"$f":"IF(ISNUMBER(SEARCH(E$206,'12.Partner Involvement'!$H884))=TRUE,(('12.Partner Involvement'!$D884*'12.Partner Involvement'!$E884)/COUNTA(_xlfn.TEXTSPLIT('12.Partner Involvement'!$H884,\";\"))),\"\")","v":""},{"$f":"IF(ISNUMBER(SEARCH(F$206,'12.Partner Involvement'!$H884))=TRUE,(('12.Partner Involvement'!$D884*'12.Partner Involvement'!$E884)/COUNTA(_xlfn.TEXTSPLIT('12.Partner Involvement'!$H884,\";\"))),\"\")","v":""},{"$f":"IF(ISNUMBER(SEARCH(G$206,'12.Partner Involvement'!$H884))=TRUE,(('12.Partner Involvement'!$D884*'12.Partner Involvement'!$E884)/COUNTA(_xlfn.TEXTSPLIT('12.Partner Involvement'!$H884,\";\"))),\"\")","v":""},{"$f":"IF(ISNUMBER(SEARCH(H$206,'12.Partner Involvement'!$H884))=TRUE,(('12.Partner Involvement'!$D884*'12.Partner Involvement'!$E884)/COUNTA(_xlfn.TEXTSPLIT('12.Partner Involvement'!$H884,\";\"))),\"\")","v":""}]
[{"$f":"IF(ISNUMBER(SEARCH(A$206,'12.Partner Involvement'!$G885))=TRUE,(('12.Partner Involvement'!$D885*'12.Partner Involvement'!$E885)/COUNTA(_xlfn.TEXTSPLIT('12.Partner Involvement'!$G885,\";\"))),\"\")","v":""},{"$f":"IF(ISNUMBER(SEARCH(B$206,'12.Partner Involvement'!$G885))=TRUE,(('12.Partner Involvement'!$D885*'12.Partner Involvement'!$E885)/COUNTA(_xlfn.TEXTSPLIT('12.Partner Involvement'!$G885,\";\"))),\"\")","v":""},{"$f":"IF(ISNUMBER(SEARCH(C$206,'12.Partner Involvement'!$G885))=TRUE,(('12.Partner Involvement'!$D885*'12.Partner Involvement'!$E885)/COUNTA(_xlfn.TEXTSPLIT('12.Partner Involvement'!$G885,\";\"))),\"\")","v":""},null,{"$f":"IF(ISNUMBER(SEARCH(E$206,'12.Partner Involvement'!$H885))=TRUE,(('12.Partner Involvement'!$D885*'12.Partner Involvement'!$E885)/COUNTA(_xlfn.TEXTSPLIT('12.Partner Involvement'!$H885,\";\"))),\"\")","v":""},{"$f":"IF(ISNUMBER(SEARCH(F$206,'12.Partner Involvement'!$H885))=TRUE,(('12.Partner Involvement'!$D885*'12.Partner Involvement'!$E885)/COUNTA(_xlfn.TEXTSPLIT('12.Partner Involvement'!$H885,\";\"))),\"\")","v":""},{"$f":"IF(ISNUMBER(SEARCH(G$206,'12.Partner Involvement'!$H885))=TRUE,(('12.Partner Involvement'!$D885*'12.Partner Involvement'!$E885)/COUNTA(_xlfn.TEXTSPLIT('12.Partner Involvement'!$H885,\";\"))),\"\")","v":""},{"$f":"IF(ISNUMBER(SEARCH(H$206,'12.Partner Involvement'!$H885))=TRUE,(('12.Partner Involvement'!$D885*'12.Partner Involvement'!$E885)/COUNTA(_xlfn.TEXTSPLIT('12.Partner Involvement'!$H885,\";\"))),\"\")","v":""}]
[{"$f":"IF(ISNUMBER(SEARCH(A$206,'12.Partner Involvement'!$G886))=TRUE,(('12.Partner Involvement'!$D886*'12.Partner Involvement'!$E886)/COUNTA(_xlfn.TEXTSPLIT('12.Partner Involvement'!$G886,\";\"))),\"\")","v":""},{"$f":"IF(ISNUMBER(SEARCH(B$206,'12.Partner Involvement'!$G886))=TRUE,(('12.Partner Involvement'!$D886*'12.Partner Involvement'!$E886)/COUNTA(_xlfn.TEXTSPLIT('12.Partner Involvement'!$G886,\";\"))),\"\")","v":""},{"$f":"IF(ISNUMBER(SEARCH(C$206,'12.Partner Involvement'!$G886))=TRUE,(('12.Partner Involvement'!$D886*'12.Partner Involvement'!$E886)/COUNTA(_xlfn.TEXTSPLIT('12.Partner Involvement'!$G886,\";\"))),\"\")","v":""},null,{"$f":"IF(ISNUMBER(SEARCH(E$206,'12.Partner Involvement'!$H886))=TRUE,(('12.Partner Involvement'!$D886*'12.Partner Involvement'!$E886)/COUNTA(_xlfn.TEXTSPLIT('12.Partner Involvement'!$H886,\";\"))),\"\")","v":""},{"$f":"IF(ISNUMBER(SEARCH(F$206,'12.Partner Involvement'!$H886))=TRUE,(('12.Partner Involvement'!$D886*'12.Partner Involvement'!$E886)/COUNTA(_xlfn.TEXTSPLIT('12.Partner Involvement'!$H886,\";\"))),\"\")","v":""},{"$f":"IF(ISNUMBER(SEARCH(G$206,'12.Partner Involvement'!$H886))=TRUE,(('12.Partner Involvement'!$D886*'12.Partner Involvement'!$E886)/COUNTA(_xlfn.TEXTSPLIT('12.Partner Involvement'!$H886,\";\"))),\"\")","v":""},{"$f":"IF(ISNUMBER(SEARCH(H$206,'12.Partner Involvement'!$H886))=TRUE,(('12.Partner Involvement'!$D886*'12.Partner Involvement'!$E886)/COUNTA(_xlfn.TEXTSPLIT('12.Partner Involvement'!$H886,\";\"))),\"\")","v":""}]
[{"$f":"IF(ISNUMBER(SEARCH(A$206,'12.Partner Involvement'!$G887))=TRUE,(('12.Partner Involvement'!$D887*'12.Partner Involvement'!$E887)/COUNTA(_xlfn.TEXTSPLIT('12.Partner Involvement'!$G887,\";\"))),\"\")","v":""},{"$f":"IF(ISNUMBER(SEARCH(B$206,'12.Partner Involvement'!$G887))=TRUE,(('12.Partner Involvement'!$D887*'12.Partner Involvement'!$E887)/COUNTA(_xlfn.TEXTSPLIT('12.Partner Involvement'!$G887,\";\"))),\"\")","v":""},{"$f":"IF(ISNUMBER(SEARCH(C$206,'12.Partner Involvement'!$G887))=TRUE,(('12.Partner Involvement'!$D887*'12.Partner Involvement'!$E887)/COUNTA(_xlfn.TEXTSPLIT('12.Partner Involvement'!$G887,\";\"))),\"\")","v":""},null,{"$f":"IF(ISNUMBER(SEARCH(E$206,'12.Partner Involvement'!$H887))=TRUE,(('12.Partner Involvement'!$D887*'12.Partner Involvement'!$E887)/COUNTA(_xlfn.TEXTSPLIT('12.Partner Involvement'!$H887,\";\"))),\"\")","v":""},{"$f":"IF(ISNUMBER(SEARCH(F$206,'12.Partner Involvement'!$H887))=TRUE,(('12.Partner Involvement'!$D887*'12.Partner Involvement'!$E887)/COUNTA(_xlfn.TEXTSPLIT('12.Partner Involvement'!$H887,\";\"))),\"\")","v":""},{"$f":"IF(ISNUMBER(SEARCH(G$206,'12.Partner Involvement'!$H887))=TRUE,(('12.Partner Involvement'!$D887*'12.Partner Involvement'!$E887)/COUNTA(_xlfn.TEXTSPLIT('12.Partner Involvement'!$H887,\";\"))),\"\")","v":""},{"$f":"IF(ISNUMBER(SEARCH(H$206,'12.Partner Involvement'!$H887))=TRUE,(('12.Partner Involvement'!$D887*'12.Partner Involvement'!$E887)/COUNTA(_xlfn.TEXTSPLIT('12.Partner Involvement'!$H887,\";\"))),\"\")","v":""}]
[{"$f":"IF(ISNUMBER(SEARCH(A$206,'12.Partner Involvement'!$G888))=TRUE,(('12.Partner Involvement'!$D888*'12.Partner Involvement'!$E888)/COUNTA(_xlfn.TEXTSPLIT('12.Partner Involvement'!$G888,\";\"))),\"\")","v":""},{"$f":"IF(ISNUMBER(SEARCH(B$206,'12.Partner Involvement'!$G888))=TRUE,(('12.Partner Involvement'!$D888*'12.Partner Involvement'!$E888)/COUNTA(_xlfn.TEXTSPLIT('12.Partner Involvement'!$G888,\";\"))),\"\")","v":""},{"$f":"IF(ISNUMBER(SEARCH(C$206,'12.Partner Involvement'!$G888))=TRUE,(('12.Partner Involvement'!$D888*'12.Partner Involvement'!$E888)/COUNTA(_xlfn.TEXTSPLIT('12.Partner Involvement'!$G888,\";\"))),\"\")","v":""},null,{"$f":"IF(ISNUMBER(SEARCH(E$206,'12.Partner Involvement'!$H888))=TRUE,(('12.Partner Involvement'!$D888*'12.Partner Involvement'!$E888)/COUNTA(_xlfn.TEXTSPLIT('12.Partner Involvement'!$H888,\";\"))),\"\")","v":""},{"$f":"IF(ISNUMBER(SEARCH(F$206,'12.Partner Involvement'!$H888))=TRUE,(('12.Partner Involvement'!$D888*'12.Partner Involvement'!$E888)/COUNTA(_xlfn.TEXTSPLIT('12.Partner Involvement'!$H888,\";\"))),\"\")","v":""},{"$f":"IF(ISNUMBER(SEARCH(G$206,'12.Partner Involvement'!$H888))=TRUE,(('12.Partner Involvement'!$D888*'12.Partner Involvement'!$E888)/COUNTA(_xlfn.TEXTSPLIT('12.Partner Involvement'!$H888,\";\"))),\"\")","v":""},{"$f":"IF(ISNUMBER(SEARCH(H$206,'12.Partner Involvement'!$H888))=TRUE,(('12.Partner Involvement'!$D888*'12.Partner Involvement'!$E888)/COUNTA(_xlfn.TEXTSPLIT('12.Partner Involvement'!$H888,\";\"))),\"\")","v":""}]
[{"$f":"IF(ISNUMBER(SEARCH(A$206,'12.Partner Involvement'!$G889))=TRUE,(('12.Partner Involvement'!$D889*'12.Partner Involvement'!$E889)/COUNTA(_xlfn.TEXTSPLIT('12.Partner Involvement'!$G889,\";\"))),\"\")","v":""},{"$f":"IF(ISNUMBER(SEARCH(B$206,'12.Partner Involvement'!$G889))=TRUE,(('12.Partner Involvement'!$D889*'12.Partner Involvement'!$E889)/COUNTA(_xlfn.TEXTSPLIT('12.Partner Involvement'!$G889,\";\"))),\"\")","v":""},{"$f":"IF(ISNUMBER(SEARCH(C$206,'12.Partner Involvement'!$G889))=TRUE,(('12.Partner Involvement'!$D889*'12.Partner Involvement'!$E889)/COUNTA(_xlfn.TEXTSPLIT('12.Partner Involvement'!$G889,\";\"))),\"\")","v":""},null,{"$f":"IF(ISNUMBER(SEARCH(E$206,'12.Partner Involvement'!$H889))=TRUE,(('12.Partner Involvement'!$D889*'12.Partner Involvement'!$E889)/COUNTA(_xlfn.TEXTSPLIT('12.Partner Involvement'!$H889,\";\"))),\"\")","v":""},{"$f":"IF(ISNUMBER(SEARCH(F$206,'12.Partner Involvement'!$H889))=TRUE,(('12.Partner Involvement'!$D889*'12.Partner Involvement'!$E889)/COUNTA(_xlfn.TEXTSPLIT('12.Partner Involvement'!$H889,\";\"))),\"\")","v":""},{"$f":"IF(ISNUMBER(SEARCH(G$206,'12.Partner Involvement'!$H889))=TRUE,(('12.Partner Involvement'!$D889*'12.Partner Involvement'!$E889)/COUNTA(_xlfn.TEXTSPLIT('12.Partner Involvement'!$H889,\";\"))),\"\")","v":""},{"$f":"IF(ISNUMBER(SEARCH(H$206,'12.Partner Involvement'!$H889))=TRUE,(('12.Partner Involvement'!$D889*'12.Partner Involvement'!$E889)/COUNTA(_xlfn.TEXTSPLIT('12.Partner Involvement'!$H889,\";\"))),\"\")","v":""}]
[{"$f":"IF(ISNUMBER(SEARCH(A$206,'12.Partner Involvement'!$G890))=TRUE,(('12.Partner Involvement'!$D890*'12.Partner Involvement'!$E890)/COUNTA(_xlfn.TEXTSPLIT('12.Partner Involvement'!$G890,\";\"))),\"\")","v":""},{"$f":"IF(ISNUMBER(SEARCH(B$206,'12.Partner Involvement'!$G890))=TRUE,(('12.Partner Involvement'!$D890*'12.Partner Involvement'!$E890)/COUNTA(_xlfn.TEXTSPLIT('12.Partner Involvement'!$G890,\";\"))),\"\")","v":""},{"$f":"IF(ISNUMBER(SEARCH(C$206,'12.Partner Involvement'!$G890))=TRUE,(('12.Partner Involvement'!$D890*'12.Partner Involvement'!$E890)/COUNTA(_xlfn.TEXTSPLIT('12.Partner Involvement'!$G890,\";\"))),\"\")","v":""},null,{"$f":"IF(ISNUMBER(SEARCH(E$206,'12.Partner Involvement'!$H890))=TRUE,(('12.Partner Involvement'!$D890*'12.Partner Involvement'!$E890)/COUNTA(_xlfn.TEXTSPLIT('12.Partner Involvement'!$H890,\";\"))),\"\")","v":""},{"$f":"IF(ISNUMBER(SEARCH(F$206,'12.Partner Involvement'!$H890))=TRUE,(('12.Partner Involvement'!$D890*'12.Partner Involvement'!$E890)/COUNTA(_xlfn.TEXTSPLIT('12.Partner Involvement'!$H890,\";\"))),\"\")","v":""},{"$f":"IF(ISNUMBER(SEARCH(G$206,'12.Partner Involvement'!$H890))=TRUE,(('12.Partner Involvement'!$D890*'12.Partner Involvement'!$E890)/COUNTA(_xlfn.TEXTSPLIT('12.Partner Involvement'!$H890,\";\"))),\"\")","v":""},{"$f":"IF(ISNUMBER(SEARCH(H$206,'12.Partner Involvement'!$H890))=TRUE,(('12.Partner Involvement'!$D890*'12.Partner Involvement'!$E890)/COUNTA(_xlfn.TEXTSPLIT('12.Partner Involvement'!$H890,\";\"))),\"\")","v":""}]
[{"$f":"IF(ISNUMBER(SEARCH(A$206,'12.Partner Involvement'!$G891))=TRUE,(('12.Partner Involvement'!$D891*'12.Partner Involvement'!$E891)/COUNTA(_xlfn.TEXTSPLIT('12.Partner Involvement'!$G891,\";\"))),\"\")","v":""},{"$f":"IF(ISNUMBER(SEARCH(B$206,'12.Partner Involvement'!$G891))=TRUE,(('12.Partner Involvement'!$D891*'12.Partner Involvement'!$E891)/COUNTA(_xlfn.TEXTSPLIT('12.Partner Involvement'!$G891,\";\"))),\"\")","v":""},{"$f":"IF(ISNUMBER(SEARCH(C$206,'12.Partner Involvement'!$G891))=TRUE,(('12.Partner Involvement'!$D891*'12.Partner Involvement'!$E891)/COUNTA(_xlfn.TEXTSPLIT('12.Partner Involvement'!$G891,\";\"))),\"\")","v":""},null,{"$f":"IF(ISNUMBER(SEARCH(E$206,'12.Partner Involvement'!$H891))=TRUE,(('12.Partner Involvement'!$D891*'12.Partner Involvement'!$E891)/COUNTA(_xlfn.TEXTSPLIT('12.Partner Involvement'!$H891,\";\"))),\"\")","v":""},{"$f":"IF(ISNUMBER(SEARCH(F$206,'12.Partner Involvement'!$H891))=TRUE,(('12.Partner Involvement'!$D891*'12.Partner Involvement'!$E891)/COUNTA(_xlfn.TEXTSPLIT('12.Partner Involvement'!$H891,\";\"))),\"\")","v":""},{"$f":"IF(ISNUMBER(SEARCH(G$206,'12.Partner Involvement'!$H891))=TRUE,(('12.Partner Involvement'!$D891*'12.Partner Involvement'!$E891)/COUNTA(_xlfn.TEXTSPLIT('12.Partner Involvement'!$H891,\";\"))),\"\")","v":""},{"$f":"IF(ISNUMBER(SEARCH(H$206,'12.Partner Involvement'!$H891))=TRUE,(('12.Partner Involvement'!$D891*'12.Partner Involvement'!$E891)/COUNTA(_xlfn.TEXTSPLIT('12.Partner Involvement'!$H891,\";\"))),\"\")","v":""}]
[{"$f":"IF(ISNUMBER(SEARCH(A$206,'12.Partner Involvement'!$G892))=TRUE,(('12.Partner Involvement'!$D892*'12.Partner Involvement'!$E892)/COUNTA(_xlfn.TEXTSPLIT('12.Partner Involvement'!$G892,\";\"))),\"\")","v":""},{"$f":"IF(ISNUMBER(SEARCH(B$206,'12.Partner Involvement'!$G892))=TRUE,(('12.Partner Involvement'!$D892*'12.Partner Involvement'!$E892)/COUNTA(_xlfn.TEXTSPLIT('12.Partner Involvement'!$G892,\";\"))),\"\")","v":""},{"$f":"IF(ISNUMBER(SEARCH(C$206,'12.Partner Involvement'!$G892))=TRUE,(('12.Partner Involvement'!$D892*'12.Partner Involvement'!$E892)/COUNTA(_xlfn.TEXTSPLIT('12.Partner Involvement'!$G892,\";\"))),\"\")","v":""},null,{"$f":"IF(ISNUMBER(SEARCH(E$206,'12.Partner Involvement'!$H892))=TRUE,(('12.Partner Involvement'!$D892*'12.Partner Involvement'!$E892)/COUNTA(_xlfn.TEXTSPLIT('12.Partner Involvement'!$H892,\";\"))),\"\")","v":""},{"$f":"IF(ISNUMBER(SEARCH(F$206,'12.Partner Involvement'!$H892))=TRUE,(('12.Partner Involvement'!$D892*'12.Partner Involvement'!$E892)/COUNTA(_xlfn.TEXTSPLIT('12.Partner Involvement'!$H892,\";\"))),\"\")","v":""},{"$f":"IF(ISNUMBER(SEARCH(G$206,'12.Partner Involvement'!$H892))=TRUE,(('12.Partner Involvement'!$D892*'12.Partner Involvement'!$E892)/COUNTA(_xlfn.TEXTSPLIT('12.Partner Involvement'!$H892,\";\"))),\"\")","v":""},{"$f":"IF(ISNUMBER(SEARCH(H$206,'12.Partner Involvement'!$H892))=TRUE,(('12.Partner Involvement'!$D892*'12.Partner Involvement'!$E892)/COUNTA(_xlfn.TEXTSPLIT('12.Partner Involvement'!$H892,\";\"))),\"\")","v":""}]
[{"$f":"IF(ISNUMBER(SEARCH(A$206,'12.Partner Involvement'!$G893))=TRUE,(('12.Partner Involvement'!$D893*'12.Partner Involvement'!$E893)/COUNTA(_xlfn.TEXTSPLIT('12.Partner Involvement'!$G893,\";\"))),\"\")","v":""},{"$f":"IF(ISNUMBER(SEARCH(B$206,'12.Partner Involvement'!$G893))=TRUE,(('12.Partner Involvement'!$D893*'12.Partner Involvement'!$E893)/COUNTA(_xlfn.TEXTSPLIT('12.Partner Involvement'!$G893,\";\"))),\"\")","v":""},{"$f":"IF(ISNUMBER(SEARCH(C$206,'12.Partner Involvement'!$G893))=TRUE,(('12.Partner Involvement'!$D893*'12.Partner Involvement'!$E893)/COUNTA(_xlfn.TEXTSPLIT('12.Partner Involvement'!$G893,\";\"))),\"\")","v":""},null,{"$f":"IF(ISNUMBER(SEARCH(E$206,'12.Partner Involvement'!$H893))=TRUE,(('12.Partner Involvement'!$D893*'12.Partner Involvement'!$E893)/COUNTA(_xlfn.TEXTSPLIT('12.Partner Involvement'!$H893,\";\"))),\"\")","v":""},{"$f":"IF(ISNUMBER(SEARCH(F$206,'12.Partner Involvement'!$H893))=TRUE,(('12.Partner Involvement'!$D893*'12.Partner Involvement'!$E893)/COUNTA(_xlfn.TEXTSPLIT('12.Partner Involvement'!$H893,\";\"))),\"\")","v":""},{"$f":"IF(ISNUMBER(SEARCH(G$206,'12.Partner Involvement'!$H893))=TRUE,(('12.Partner Involvement'!$D893*'12.Partner Involvement'!$E893)/COUNTA(_xlfn.TEXTSPLIT('12.Partner Involvement'!$H893,\";\"))),\"\")","v":""},{"$f":"IF(ISNUMBER(SEARCH(H$206,'12.Partner Involvement'!$H893))=TRUE,(('12.Partner Involvement'!$D893*'12.Partner Involvement'!$E893)/COUNTA(_xlfn.TEXTSPLIT('12.Partner Involvement'!$H893,\";\"))),\"\")","v":""}]
[{"$f":"IF(ISNUMBER(SEARCH(A$206,'12.Partner Involvement'!$G894))=TRUE,(('12.Partner Involvement'!$D894*'12.Partner Involvement'!$E894)/COUNTA(_xlfn.TEXTSPLIT('12.Partner Involvement'!$G894,\";\"))),\"\")","v":""},{"$f":"IF(ISNUMBER(SEARCH(B$206,'12.Partner Involvement'!$G894))=TRUE,(('12.Partner Involvement'!$D894*'12.Partner Involvement'!$E894)/COUNTA(_xlfn.TEXTSPLIT('12.Partner Involvement'!$G894,\";\"))),\"\")","v":""},{"$f":"IF(ISNUMBER(SEARCH(C$206,'12.Partner Involvement'!$G894))=TRUE,(('12.Partner Involvement'!$D894*'12.Partner Involvement'!$E894)/COUNTA(_xlfn.TEXTSPLIT('12.Partner Involvement'!$G894,\";\"))),\"\")","v":""},null,{"$f":"IF(ISNUMBER(SEARCH(E$206,'12.Partner Involvement'!$H894))=TRUE,(('12.Partner Involvement'!$D894*'12.Partner Involvement'!$E894)/COUNTA(_xlfn.TEXTSPLIT('12.Partner Involvement'!$H894,\";\"))),\"\")","v":""},{"$f":"IF(ISNUMBER(SEARCH(F$206,'12.Partner Involvement'!$H894))=TRUE,(('12.Partner Involvement'!$D894*'12.Partner Involvement'!$E894)/COUNTA(_xlfn.TEXTSPLIT('12.Partner Involvement'!$H894,\";\"))),\"\")","v":""},{"$f":"IF(ISNUMBER(SEARCH(G$206,'12.Partner Involvement'!$H894))=TRUE,(('12.Partner Involvement'!$D894*'12.Partner Involvement'!$E894)/COUNTA(_xlfn.TEXTSPLIT('12.Partner Involvement'!$H894,\";\"))),\"\")","v":""},{"$f":"IF(ISNUMBER(SEARCH(H$206,'12.Partner Involvement'!$H894))=TRUE,(('12.Partner Involvement'!$D894*'12.Partner Involvement'!$E894)/COUNTA(_xlfn.TEXTSPLIT('12.Partner Involvement'!$H894,\";\"))),\"\")","v":""}]
[{"$f":"IF(ISNUMBER(SEARCH(A$206,'12.Partner Involvement'!$G895))=TRUE,(('12.Partner Involvement'!$D895*'12.Partner Involvement'!$E895)/COUNTA(_xlfn.TEXTSPLIT('12.Partner Involvement'!$G895,\";\"))),\"\")","v":""},{"$f":"IF(ISNUMBER(SEARCH(B$206,'12.Partner Involvement'!$G895))=TRUE,(('12.Partner Involvement'!$D895*'12.Partner Involvement'!$E895)/COUNTA(_xlfn.TEXTSPLIT('12.Partner Involvement'!$G895,\";\"))),\"\")","v":""},{"$f":"IF(ISNUMBER(SEARCH(C$206,'12.Partner Involvement'!$G895))=TRUE,(('12.Partner Involvement'!$D895*'12.Partner Involvement'!$E895)/COUNTA(_xlfn.TEXTSPLIT('12.Partner Involvement'!$G895,\";\"))),\"\")","v":""},null,{"$f":"IF(ISNUMBER(SEARCH(E$206,'12.Partner Involvement'!$H895))=TRUE,(('12.Partner Involvement'!$D895*'12.Partner Involvement'!$E895)/COUNTA(_xlfn.TEXTSPLIT('12.Partner Involvement'!$H895,\";\"))),\"\")","v":""},{"$f":"IF(ISNUMBER(SEARCH(F$206,'12.Partner Involvement'!$H895))=TRUE,(('12.Partner Involvement'!$D895*'12.Partner Involvement'!$E895)/COUNTA(_xlfn.TEXTSPLIT('12.Partner Involvement'!$H895,\";\"))),\"\")","v":""},{"$f":"IF(ISNUMBER(SEARCH(G$206,'12.Partner Involvement'!$H895))=TRUE,(('12.Partner Involvement'!$D895*'12.Partner Involvement'!$E895)/COUNTA(_xlfn.TEXTSPLIT('12.Partner Involvement'!$H895,\";\"))),\"\")","v":""},{"$f":"IF(ISNUMBER(SEARCH(H$206,'12.Partner Involvement'!$H895))=TRUE,(('12.Partner Involvement'!$D895*'12.Partner Involvement'!$E895)/COUNTA(_xlfn.TEXTSPLIT('12.Partner Involvement'!$H895,\";\"))),\"\")","v":""}]
[{"$f":"IF(ISNUMBER(SEARCH(A$206,'12.Partner Involvement'!$G896))=TRUE,(('12.Partner Involvement'!$D896*'12.Partner Involvement'!$E896)/COUNTA(_xlfn.TEXTSPLIT('12.Partner Involvement'!$G896,\";\"))),\"\")","v":""},{"$f":"IF(ISNUMBER(SEARCH(B$206,'12.Partner Involvement'!$G896))=TRUE,(('12.Partner Involvement'!$D896*'12.Partner Involvement'!$E896)/COUNTA(_xlfn.TEXTSPLIT('12.Partner Involvement'!$G896,\";\"))),\"\")","v":""},{"$f":"IF(ISNUMBER(SEARCH(C$206,'12.Partner Involvement'!$G896))=TRUE,(('12.Partner Involvement'!$D896*'12.Partner Involvement'!$E896)/COUNTA(_xlfn.TEXTSPLIT('12.Partner Involvement'!$G896,\";\"))),\"\")","v":""},null,{"$f":"IF(ISNUMBER(SEARCH(E$206,'12.Partner Involvement'!$H896))=TRUE,(('12.Partner Involvement'!$D896*'12.Partner Involvement'!$E896)/COUNTA(_xlfn.TEXTSPLIT('12.Partner Involvement'!$H896,\";\"))),\"\")","v":""},{"$f":"IF(ISNUMBER(SEARCH(F$206,'12.Partner Involvement'!$H896))=TRUE,(('12.Partner Involvement'!$D896*'12.Partner Involvement'!$E896)/COUNTA(_xlfn.TEXTSPLIT('12.Partner Involvement'!$H896,\";\"))),\"\")","v":""},{"$f":"IF(ISNUMBER(SEARCH(G$206,'12.Partner Involvement'!$H896))=TRUE,(('12.Partner Involvement'!$D896*'12.Partner Involvement'!$E896)/COUNTA(_xlfn.TEXTSPLIT('12.Partner Involvement'!$H896,\";\"))),\"\")","v":""},{"$f":"IF(ISNUMBER(SEARCH(H$206,'12.Partner Involvement'!$H896))=TRUE,(('12.Partner Involvement'!$D896*'12.Partner Involvement'!$E896)/COUNTA(_xlfn.TEXTSPLIT('12.Partner Involvement'!$H896,\";\"))),\"\")","v":""}]
[{"$f":"IF(ISNUMBER(SEARCH(A$206,'12.Partner Involvement'!$G897))=TRUE,(('12.Partner Involvement'!$D897*'12.Partner Involvement'!$E897)/COUNTA(_xlfn.TEXTSPLIT('12.Partner Involvement'!$G897,\";\"))),\"\")","v":""},{"$f":"IF(ISNUMBER(SEARCH(B$206,'12.Partner Involvement'!$G897))=TRUE,(('12.Partner Involvement'!$D897*'12.Partner Involvement'!$E897)/COUNTA(_xlfn.TEXTSPLIT('12.Partner Involvement'!$G897,\";\"))),\"\")","v":""},{"$f":"IF(ISNUMBER(SEARCH(C$206,'12.Partner Involvement'!$G897))=TRUE,(('12.Partner Involvement'!$D897*'12.Partner Involvement'!$E897)/COUNTA(_xlfn.TEXTSPLIT('12.Partner Involvement'!$G897,\";\"))),\"\")","v":""},null,{"$f":"IF(ISNUMBER(SEARCH(E$206,'12.Partner Involvement'!$H897))=TRUE,(('12.Partner Involvement'!$D897*'12.Partner Involvement'!$E897)/COUNTA(_xlfn.TEXTSPLIT('12.Partner Involvement'!$H897,\";\"))),\"\")","v":""},{"$f":"IF(ISNUMBER(SEARCH(F$206,'12.Partner Involvement'!$H897))=TRUE,(('12.Partner Involvement'!$D897*'12.Partner Involvement'!$E897)/COUNTA(_xlfn.TEXTSPLIT('12.Partner Involvement'!$H897,\";\"))),\"\")","v":""},{"$f":"IF(ISNUMBER(SEARCH(G$206,'12.Partner Involvement'!$H897))=TRUE,(('12.Partner Involvement'!$D897*'12.Partner Involvement'!$E897)/COUNTA(_xlfn.TEXTSPLIT('12.Partner Involvement'!$H897,\";\"))),\"\")","v":""},{"$f":"IF(ISNUMBER(SEARCH(H$206,'12.Partner Involvement'!$H897))=TRUE,(('12.Partner Involvement'!$D897*'12.Partner Involvement'!$E897)/COUNTA(_xlfn.TEXTSPLIT('12.Partner Involvement'!$H897,\";\"))),\"\")","v":""}]
[{"$f":"IF(ISNUMBER(SEARCH(A$206,'12.Partner Involvement'!$G898))=TRUE,(('12.Partner Involvement'!$D898*'12.Partner Involvement'!$E898)/COUNTA(_xlfn.TEXTSPLIT('12.Partner Involvement'!$G898,\";\"))),\"\")","v":""},{"$f":"IF(ISNUMBER(SEARCH(B$206,'12.Partner Involvement'!$G898))=TRUE,(('12.Partner Involvement'!$D898*'12.Partner Involvement'!$E898)/COUNTA(_xlfn.TEXTSPLIT('12.Partner Involvement'!$G898,\";\"))),\"\")","v":""},{"$f":"IF(ISNUMBER(SEARCH(C$206,'12.Partner Involvement'!$G898))=TRUE,(('12.Partner Involvement'!$D898*'12.Partner Involvement'!$E898)/COUNTA(_xlfn.TEXTSPLIT('12.Partner Involvement'!$G898,\";\"))),\"\")","v":""},null,{"$f":"IF(ISNUMBER(SEARCH(E$206,'12.Partner Involvement'!$H898))=TRUE,(('12.Partner Involvement'!$D898*'12.Partner Involvement'!$E898)/COUNTA(_xlfn.TEXTSPLIT('12.Partner Involvement'!$H898,\";\"))),\"\")","v":""},{"$f":"IF(ISNUMBER(SEARCH(F$206,'12.Partner Involvement'!$H898))=TRUE,(('12.Partner Involvement'!$D898*'12.Partner Involvement'!$E898)/COUNTA(_xlfn.TEXTSPLIT('12.Partner Involvement'!$H898,\";\"))),\"\")","v":""},{"$f":"IF(ISNUMBER(SEARCH(G$206,'12.Partner Involvement'!$H898))=TRUE,(('12.Partner Involvement'!$D898*'12.Partner Involvement'!$E898)/COUNTA(_xlfn.TEXTSPLIT('12.Partner Involvement'!$H898,\";\"))),\"\")","v":""},{"$f":"IF(ISNUMBER(SEARCH(H$206,'12.Partner Involvement'!$H898))=TRUE,(('12.Partner Involvement'!$D898*'12.Partner Involvement'!$E898)/COUNTA(_xlfn.TEXTSPLIT('12.Partner Involvement'!$H898,\";\"))),\"\")","v":""}]
[{"$f":"IF(ISNUMBER(SEARCH(A$206,'12.Partner Involvement'!$G899))=TRUE,(('12.Partner Involvement'!$D899*'12.Partner Involvement'!$E899)/COUNTA(_xlfn.TEXTSPLIT('12.Partner Involvement'!$G899,\";\"))),\"\")","v":""},{"$f":"IF(ISNUMBER(SEARCH(B$206,'12.Partner Involvement'!$G899))=TRUE,(('12.Partner Involvement'!$D899*'12.Partner Involvement'!$E899)/COUNTA(_xlfn.TEXTSPLIT('12.Partner Involvement'!$G899,\";\"))),\"\")","v":""},{"$f":"IF(ISNUMBER(SEARCH(C$206,'12.Partner Involvement'!$G899))=TRUE,(('12.Partner Involvement'!$D899*'12.Partner Involvement'!$E899)/COUNTA(_xlfn.TEXTSPLIT('12.Partner Involvement'!$G899,\";\"))),\"\")","v":""},null,{"$f":"IF(ISNUMBER(SEARCH(E$206,'12.Partner Involvement'!$H899))=TRUE,(('12.Partner Involvement'!$D899*'12.Partner Involvement'!$E899)/COUNTA(_xlfn.TEXTSPLIT('12.Partner Involvement'!$H899,\";\"))),\"\")","v":""},{"$f":"IF(ISNUMBER(SEARCH(F$206,'12.Partner Involvement'!$H899))=TRUE,(('12.Partner Involvement'!$D899*'12.Partner Involvement'!$E899)/COUNTA(_xlfn.TEXTSPLIT('12.Partner Involvement'!$H899,\";\"))),\"\")","v":""},{"$f":"IF(ISNUMBER(SEARCH(G$206,'12.Partner Involvement'!$H899))=TRUE,(('12.Partner Involvement'!$D899*'12.Partner Involvement'!$E899)/COUNTA(_xlfn.TEXTSPLIT('12.Partner Involvement'!$H899,\";\"))),\"\")","v":""},{"$f":"IF(ISNUMBER(SEARCH(H$206,'12.Partner Involvement'!$H899))=TRUE,(('12.Partner Involvement'!$D899*'12.Partner Involvement'!$E899)/COUNTA(_xlfn.TEXTSPLIT('12.Partner Involvement'!$H899,\";\"))),\"\")","v":""}]
[{"$f":"IF(ISNUMBER(SEARCH(A$206,'12.Partner Involvement'!$G900))=TRUE,(('12.Partner Involvement'!$D900*'12.Partner Involvement'!$E900)/COUNTA(_xlfn.TEXTSPLIT('12.Partner Involvement'!$G900,\";\"))),\"\")","v":""},{"$f":"IF(ISNUMBER(SEARCH(B$206,'12.Partner Involvement'!$G900))=TRUE,(('12.Partner Involvement'!$D900*'12.Partner Involvement'!$E900)/COUNTA(_xlfn.TEXTSPLIT('12.Partner Involvement'!$G900,\";\"))),\"\")","v":""},{"$f":"IF(ISNUMBER(SEARCH(C$206,'12.Partner Involvement'!$G900))=TRUE,(('12.Partner Involvement'!$D900*'12.Partner Involvement'!$E900)/COUNTA(_xlfn.TEXTSPLIT('12.Partner Involvement'!$G900,\";\"))),\"\")","v":""},null,{"$f":"IF(ISNUMBER(SEARCH(E$206,'12.Partner Involvement'!$H900))=TRUE,(('12.Partner Involvement'!$D900*'12.Partner Involvement'!$E900)/COUNTA(_xlfn.TEXTSPLIT('12.Partner Involvement'!$H900,\";\"))),\"\")","v":""},{"$f":"IF(ISNUMBER(SEARCH(F$206,'12.Partner Involvement'!$H900))=TRUE,(('12.Partner Involvement'!$D900*'12.Partner Involvement'!$E900)/COUNTA(_xlfn.TEXTSPLIT('12.Partner Involvement'!$H900,\";\"))),\"\")","v":""},{"$f":"IF(ISNUMBER(SEARCH(G$206,'12.Partner Involvement'!$H900))=TRUE,(('12.Partner Involvement'!$D900*'12.Partner Involvement'!$E900)/COUNTA(_xlfn.TEXTSPLIT('12.Partner Involvement'!$H900,\";\"))),\"\")","v":""},{"$f":"IF(ISNUMBER(SEARCH(H$206,'12.Partner Involvement'!$H900))=TRUE,(('12.Partner Involvement'!$D900*'12.Partner Involvement'!$E900)/COUNTA(_xlfn.TEXTSPLIT('12.Partner Involvement'!$H900,\";\"))),\"\")","v":""}]
[{"$f":"IF(ISNUMBER(SEARCH(A$206,'12.Partner Involvement'!$G901))=TRUE,(('12.Partner Involvement'!$D901*'12.Partner Involvement'!$E901)/COUNTA(_xlfn.TEXTSPLIT('12.Partner Involvement'!$G901,\";\"))),\"\")","v":""},{"$f":"IF(ISNUMBER(SEARCH(B$206,'12.Partner Involvement'!$G901))=TRUE,(('12.Partner Involvement'!$D901*'12.Partner Involvement'!$E901)/COUNTA(_xlfn.TEXTSPLIT('12.Partner Involvement'!$G901,\";\"))),\"\")","v":""},{"$f":"IF(ISNUMBER(SEARCH(C$206,'12.Partner Involvement'!$G901))=TRUE,(('12.Partner Involvement'!$D901*'12.Partner Involvement'!$E901)/COUNTA(_xlfn.TEXTSPLIT('12.Partner Involvement'!$G901,\";\"))),\"\")","v":""},null,{"$f":"IF(ISNUMBER(SEARCH(E$206,'12.Partner Involvement'!$H901))=TRUE,(('12.Partner Involvement'!$D901*'12.Partner Involvement'!$E901)/COUNTA(_xlfn.TEXTSPLIT('12.Partner Involvement'!$H901,\";\"))),\"\")","v":""},{"$f":"IF(ISNUMBER(SEARCH(F$206,'12.Partner Involvement'!$H901))=TRUE,(('12.Partner Involvement'!$D901*'12.Partner Involvement'!$E901)/COUNTA(_xlfn.TEXTSPLIT('12.Partner Involvement'!$H901,\";\"))),\"\")","v":""},{"$f":"IF(ISNUMBER(SEARCH(G$206,'12.Partner Involvement'!$H901))=TRUE,(('12.Partner Involvement'!$D901*'12.Partner Involvement'!$E901)/COUNTA(_xlfn.TEXTSPLIT('12.Partner Involvement'!$H901,\";\"))),\"\")","v":""},{"$f":"IF(ISNUMBER(SEARCH(H$206,'12.Partner Involvement'!$H901))=TRUE,(('12.Partner Involvement'!$D901*'12.Partner Involvement'!$E901)/COUNTA(_xlfn.TEXTSPLIT('12.Partner Involvement'!$H901,\";\"))),\"\")","v":""}]
[{"$f":"IF(ISNUMBER(SEARCH(A$206,'12.Partner Involvement'!$G902))=TRUE,(('12.Partner Involvement'!$D902*'12.Partner Involvement'!$E902)/COUNTA(_xlfn.TEXTSPLIT('12.Partner Involvement'!$G902,\";\"))),\"\")","v":""},{"$f":"IF(ISNUMBER(SEARCH(B$206,'12.Partner Involvement'!$G902))=TRUE,(('12.Partner Involvement'!$D902*'12.Partner Involvement'!$E902)/COUNTA(_xlfn.TEXTSPLIT('12.Partner Involvement'!$G902,\";\"))),\"\")","v":""},{"$f":"IF(ISNUMBER(SEARCH(C$206,'12.Partner Involvement'!$G902))=TRUE,(('12.Partner Involvement'!$D902*'12.Partner Involvement'!$E902)/COUNTA(_xlfn.TEXTSPLIT('12.Partner Involvement'!$G902,\";\"))),\"\")","v":""},null,{"$f":"IF(ISNUMBER(SEARCH(E$206,'12.Partner Involvement'!$H902))=TRUE,(('12.Partner Involvement'!$D902*'12.Partner Involvement'!$E902)/COUNTA(_xlfn.TEXTSPLIT('12.Partner Involvement'!$H902,\";\"))),\"\")","v":""},{"$f":"IF(ISNUMBER(SEARCH(F$206,'12.Partner Involvement'!$H902))=TRUE,(('12.Partner Involvement'!$D902*'12.Partner Involvement'!$E902)/COUNTA(_xlfn.TEXTSPLIT('12.Partner Involvement'!$H902,\";\"))),\"\")","v":""},{"$f":"IF(ISNUMBER(SEARCH(G$206,'12.Partner Involvement'!$H902))=TRUE,(('12.Partner Involvement'!$D902*'12.Partner Involvement'!$E902)/COUNTA(_xlfn.TEXTSPLIT('12.Partner Involvement'!$H902,\";\"))),\"\")","v":""},{"$f":"IF(ISNUMBER(SEARCH(H$206,'12.Partner Involvement'!$H902))=TRUE,(('12.Partner Involvement'!$D902*'12.Partner Involvement'!$E902)/COUNTA(_xlfn.TEXTSPLIT('12.Partner Involvement'!$H902,\";\"))),\"\")","v":""}]
[{"$f":"IF(ISNUMBER(SEARCH(A$206,'12.Partner Involvement'!$G903))=TRUE,(('12.Partner Involvement'!$D903*'12.Partner Involvement'!$E903)/COUNTA(_xlfn.TEXTSPLIT('12.Partner Involvement'!$G903,\";\"))),\"\")","v":""},{"$f":"IF(ISNUMBER(SEARCH(B$206,'12.Partner Involvement'!$G903))=TRUE,(('12.Partner Involvement'!$D903*'12.Partner Involvement'!$E903)/COUNTA(_xlfn.TEXTSPLIT('12.Partner Involvement'!$G903,\";\"))),\"\")","v":""},{"$f":"IF(ISNUMBER(SEARCH(C$206,'12.Partner Involvement'!$G903))=TRUE,(('12.Partner Involvement'!$D903*'12.Partner Involvement'!$E903)/COUNTA(_xlfn.TEXTSPLIT('12.Partner Involvement'!$G903,\";\"))),\"\")","v":""},null,{"$f":"IF(ISNUMBER(SEARCH(E$206,'12.Partner Involvement'!$H903))=TRUE,(('12.Partner Involvement'!$D903*'12.Partner Involvement'!$E903)/COUNTA(_xlfn.TEXTSPLIT('12.Partner Involvement'!$H903,\";\"))),\"\")","v":""},{"$f":"IF(ISNUMBER(SEARCH(F$206,'12.Partner Involvement'!$H903))=TRUE,(('12.Partner Involvement'!$D903*'12.Partner Involvement'!$E903)/COUNTA(_xlfn.TEXTSPLIT('12.Partner Involvement'!$H903,\";\"))),\"\")","v":""},{"$f":"IF(ISNUMBER(SEARCH(G$206,'12.Partner Involvement'!$H903))=TRUE,(('12.Partner Involvement'!$D903*'12.Partner Involvement'!$E903)/COUNTA(_xlfn.TEXTSPLIT('12.Partner Involvement'!$H903,\";\"))),\"\")","v":""},{"$f":"IF(ISNUMBER(SEARCH(H$206,'12.Partner Involvement'!$H903))=TRUE,(('12.Partner Involvement'!$D903*'12.Partner Involvement'!$E903)/COUNTA(_xlfn.TEXTSPLIT('12.Partner Involvement'!$H903,\";\"))),\"\")","v":""}]
[{"$f":"IF(ISNUMBER(SEARCH(A$206,'12.Partner Involvement'!$G904))=TRUE,(('12.Partner Involvement'!$D904*'12.Partner Involvement'!$E904)/COUNTA(_xlfn.TEXTSPLIT('12.Partner Involvement'!$G904,\";\"))),\"\")","v":""},{"$f":"IF(ISNUMBER(SEARCH(B$206,'12.Partner Involvement'!$G904))=TRUE,(('12.Partner Involvement'!$D904*'12.Partner Involvement'!$E904)/COUNTA(_xlfn.TEXTSPLIT('12.Partner Involvement'!$G904,\";\"))),\"\")","v":""},{"$f":"IF(ISNUMBER(SEARCH(C$206,'12.Partner Involvement'!$G904))=TRUE,(('12.Partner Involvement'!$D904*'12.Partner Involvement'!$E904)/COUNTA(_xlfn.TEXTSPLIT('12.Partner Involvement'!$G904,\";\"))),\"\")","v":""},null,{"$f":"IF(ISNUMBER(SEARCH(E$206,'12.Partner Involvement'!$H904))=TRUE,(('12.Partner Involvement'!$D904*'12.Partner Involvement'!$E904)/COUNTA(_xlfn.TEXTSPLIT('12.Partner Involvement'!$H904,\";\"))),\"\")","v":""},{"$f":"IF(ISNUMBER(SEARCH(F$206,'12.Partner Involvement'!$H904))=TRUE,(('12.Partner Involvement'!$D904*'12.Partner Involvement'!$E904)/COUNTA(_xlfn.TEXTSPLIT('12.Partner Involvement'!$H904,\";\"))),\"\")","v":""},{"$f":"IF(ISNUMBER(SEARCH(G$206,'12.Partner Involvement'!$H904))=TRUE,(('12.Partner Involvement'!$D904*'12.Partner Involvement'!$E904)/COUNTA(_xlfn.TEXTSPLIT('12.Partner Involvement'!$H904,\";\"))),\"\")","v":""},{"$f":"IF(ISNUMBER(SEARCH(H$206,'12.Partner Involvement'!$H904))=TRUE,(('12.Partner Involvement'!$D904*'12.Partner Involvement'!$E904)/COUNTA(_xlfn.TEXTSPLIT('12.Partner Involvement'!$H904,\";\"))),\"\")","v":""}]
[{"$f":"IF(ISNUMBER(SEARCH(A$206,'12.Partner Involvement'!$G905))=TRUE,(('12.Partner Involvement'!$D905*'12.Partner Involvement'!$E905)/COUNTA(_xlfn.TEXTSPLIT('12.Partner Involvement'!$G905,\";\"))),\"\")","v":""},{"$f":"IF(ISNUMBER(SEARCH(B$206,'12.Partner Involvement'!$G905))=TRUE,(('12.Partner Involvement'!$D905*'12.Partner Involvement'!$E905)/COUNTA(_xlfn.TEXTSPLIT('12.Partner Involvement'!$G905,\";\"))),\"\")","v":""},{"$f":"IF(ISNUMBER(SEARCH(C$206,'12.Partner Involvement'!$G905))=TRUE,(('12.Partner Involvement'!$D905*'12.Partner Involvement'!$E905)/COUNTA(_xlfn.TEXTSPLIT('12.Partner Involvement'!$G905,\";\"))),\"\")","v":""},null,{"$f":"IF(ISNUMBER(SEARCH(E$206,'12.Partner Involvement'!$H905))=TRUE,(('12.Partner Involvement'!$D905*'12.Partner Involvement'!$E905)/COUNTA(_xlfn.TEXTSPLIT('12.Partner Involvement'!$H905,\";\"))),\"\")","v":""},{"$f":"IF(ISNUMBER(SEARCH(F$206,'12.Partner Involvement'!$H905))=TRUE,(('12.Partner Involvement'!$D905*'12.Partner Involvement'!$E905)/COUNTA(_xlfn.TEXTSPLIT('12.Partner Involvement'!$H905,\";\"))),\"\")","v":""},{"$f":"IF(ISNUMBER(SEARCH(G$206,'12.Partner Involvement'!$H905))=TRUE,(('12.Partner Involvement'!$D905*'12.Partner Involvement'!$E905)/COUNTA(_xlfn.TEXTSPLIT('12.Partner Involvement'!$H905,\";\"))),\"\")","v":""},{"$f":"IF(ISNUMBER(SEARCH(H$206,'12.Partner Involvement'!$H905))=TRUE,(('12.Partner Involvement'!$D905*'12.Partner Involvement'!$E905)/COUNTA(_xlfn.TEXTSPLIT('12.Partner Involvement'!$H905,\";\"))),\"\")","v":""}]
[{"$f":"IF(ISNUMBER(SEARCH(A$206,'12.Partner Involvement'!$G906))=TRUE,(('12.Partner Involvement'!$D906*'12.Partner Involvement'!$E906)/COUNTA(_xlfn.TEXTSPLIT('12.Partner Involvement'!$G906,\";\"))),\"\")","v":""},{"$f":"IF(ISNUMBER(SEARCH(B$206,'12.Partner Involvement'!$G906))=TRUE,(('12.Partner Involvement'!$D906*'12.Partner Involvement'!$E906)/COUNTA(_xlfn.TEXTSPLIT('12.Partner Involvement'!$G906,\";\"))),\"\")","v":""},{"$f":"IF(ISNUMBER(SEARCH(C$206,'12.Partner Involvement'!$G906))=TRUE,(('12.Partner Involvement'!$D906*'12.Partner Involvement'!$E906)/COUNTA(_xlfn.TEXTSPLIT('12.Partner Involvement'!$G906,\";\"))),\"\")","v":""},null,{"$f":"IF(ISNUMBER(SEARCH(E$206,'12.Partner Involvement'!$H906))=TRUE,(('12.Partner Involvement'!$D906*'12.Partner Involvement'!$E906)/COUNTA(_xlfn.TEXTSPLIT('12.Partner Involvement'!$H906,\";\"))),\"\")","v":""},{"$f":"IF(ISNUMBER(SEARCH(F$206,'12.Partner Involvement'!$H906))=TRUE,(('12.Partner Involvement'!$D906*'12.Partner Involvement'!$E906)/COUNTA(_xlfn.TEXTSPLIT('12.Partner Involvement'!$H906,\";\"))),\"\")","v":""},{"$f":"IF(ISNUMBER(SEARCH(G$206,'12.Partner Involvement'!$H906))=TRUE,(('12.Partner Involvement'!$D906*'12.Partner Involvement'!$E906)/COUNTA(_xlfn.TEXTSPLIT('12.Partner Involvement'!$H906,\";\"))),\"\")","v":""},{"$f":"IF(ISNUMBER(SEARCH(H$206,'12.Partner Involvement'!$H906))=TRUE,(('12.Partner Involvement'!$D906*'12.Partner Involvement'!$E906)/COUNTA(_xlfn.TEXTSPLIT('12.Partner Involvement'!$H906,\";\"))),\"\")","v":""}]
[{"$f":"IF(ISNUMBER(SEARCH(A$206,'12.Partner Involvement'!$G907))=TRUE,(('12.Partner Involvement'!$D907*'12.Partner Involvement'!$E907)/COUNTA(_xlfn.TEXTSPLIT('12.Partner Involvement'!$G907,\";\"))),\"\")","v":""},{"$f":"IF(ISNUMBER(SEARCH(B$206,'12.Partner Involvement'!$G907))=TRUE,(('12.Partner Involvement'!$D907*'12.Partner Involvement'!$E907)/COUNTA(_xlfn.TEXTSPLIT('12.Partner Involvement'!$G907,\";\"))),\"\")","v":""},{"$f":"IF(ISNUMBER(SEARCH(C$206,'12.Partner Involvement'!$G907))=TRUE,(('12.Partner Involvement'!$D907*'12.Partner Involvement'!$E907)/COUNTA(_xlfn.TEXTSPLIT('12.Partner Involvement'!$G907,\";\"))),\"\")","v":""},null,{"$f":"IF(ISNUMBER(SEARCH(E$206,'12.Partner Involvement'!$H907))=TRUE,(('12.Partner Involvement'!$D907*'12.Partner Involvement'!$E907)/COUNTA(_xlfn.TEXTSPLIT('12.Partner Involvement'!$H907,\";\"))),\"\")","v":""},{"$f":"IF(ISNUMBER(SEARCH(F$206,'12.Partner Involvement'!$H907))=TRUE,(('12.Partner Involvement'!$D907*'12.Partner Involvement'!$E907)/COUNTA(_xlfn.TEXTSPLIT('12.Partner Involvement'!$H907,\";\"))),\"\")","v":""},{"$f":"IF(ISNUMBER(SEARCH(G$206,'12.Partner Involvement'!$H907))=TRUE,(('12.Partner Involvement'!$D907*'12.Partner Involvement'!$E907)/COUNTA(_xlfn.TEXTSPLIT('12.Partner Involvement'!$H907,\";\"))),\"\")","v":""},{"$f":"IF(ISNUMBER(SEARCH(H$206,'12.Partner Involvement'!$H907))=TRUE,(('12.Partner Involvement'!$D907*'12.Partner Involvement'!$E907)/COUNTA(_xlfn.TEXTSPLIT('12.Partner Involvement'!$H907,\";\"))),\"\")","v":""}]
[{"$f":"IF(ISNUMBER(SEARCH(A$206,'12.Partner Involvement'!$G908))=TRUE,(('12.Partner Involvement'!$D908*'12.Partner Involvement'!$E908)/COUNTA(_xlfn.TEXTSPLIT('12.Partner Involvement'!$G908,\";\"))),\"\")","v":""},{"$f":"IF(ISNUMBER(SEARCH(B$206,'12.Partner Involvement'!$G908))=TRUE,(('12.Partner Involvement'!$D908*'12.Partner Involvement'!$E908)/COUNTA(_xlfn.TEXTSPLIT('12.Partner Involvement'!$G908,\";\"))),\"\")","v":""},{"$f":"IF(ISNUMBER(SEARCH(C$206,'12.Partner Involvement'!$G908))=TRUE,(('12.Partner Involvement'!$D908*'12.Partner Involvement'!$E908)/COUNTA(_xlfn.TEXTSPLIT('12.Partner Involvement'!$G908,\";\"))),\"\")","v":""},null,{"$f":"IF(ISNUMBER(SEARCH(E$206,'12.Partner Involvement'!$H908))=TRUE,(('12.Partner Involvement'!$D908*'12.Partner Involvement'!$E908)/COUNTA(_xlfn.TEXTSPLIT('12.Partner Involvement'!$H908,\";\"))),\"\")","v":""},{"$f":"IF(ISNUMBER(SEARCH(F$206,'12.Partner Involvement'!$H908))=TRUE,(('12.Partner Involvement'!$D908*'12.Partner Involvement'!$E908)/COUNTA(_xlfn.TEXTSPLIT('12.Partner Involvement'!$H908,\";\"))),\"\")","v":""},{"$f":"IF(ISNUMBER(SEARCH(G$206,'12.Partner Involvement'!$H908))=TRUE,(('12.Partner Involvement'!$D908*'12.Partner Involvement'!$E908)/COUNTA(_xlfn.TEXTSPLIT('12.Partner Involvement'!$H908,\";\"))),\"\")","v":""},{"$f":"IF(ISNUMBER(SEARCH(H$206,'12.Partner Involvement'!$H908))=TRUE,(('12.Partner Involvement'!$D908*'12.Partner Involvement'!$E908)/COUNTA(_xlfn.TEXTSPLIT('12.Partner Involvement'!$H908,\";\"))),\"\")","v":""}]
[{"$f":"IF(ISNUMBER(SEARCH(A$206,'12.Partner Involvement'!$G909))=TRUE,(('12.Partner Involvement'!$D909*'12.Partner Involvement'!$E909)/COUNTA(_xlfn.TEXTSPLIT('12.Partner Involvement'!$G909,\";\"))),\"\")","v":""},{"$f":"IF(ISNUMBER(SEARCH(B$206,'12.Partner Involvement'!$G909))=TRUE,(('12.Partner Involvement'!$D909*'12.Partner Involvement'!$E909)/COUNTA(_xlfn.TEXTSPLIT('12.Partner Involvement'!$G909,\";\"))),\"\")","v":""},{"$f":"IF(ISNUMBER(SEARCH(C$206,'12.Partner Involvement'!$G909))=TRUE,(('12.Partner Involvement'!$D909*'12.Partner Involvement'!$E909)/COUNTA(_xlfn.TEXTSPLIT('12.Partner Involvement'!$G909,\";\"))),\"\")","v":""},null,{"$f":"IF(ISNUMBER(SEARCH(E$206,'12.Partner Involvement'!$H909))=TRUE,(('12.Partner Involvement'!$D909*'12.Partner Involvement'!$E909)/COUNTA(_xlfn.TEXTSPLIT('12.Partner Involvement'!$H909,\";\"))),\"\")","v":""},{"$f":"IF(ISNUMBER(SEARCH(F$206,'12.Partner Involvement'!$H909))=TRUE,(('12.Partner Involvement'!$D909*'12.Partner Involvement'!$E909)/COUNTA(_xlfn.TEXTSPLIT('12.Partner Involvement'!$H909,\";\"))),\"\")","v":""},{"$f":"IF(ISNUMBER(SEARCH(G$206,'12.Partner Involvement'!$H909))=TRUE,(('12.Partner Involvement'!$D909*'12.Partner Involvement'!$E909)/COUNTA(_xlfn.TEXTSPLIT('12.Partner Involvement'!$H909,\";\"))),\"\")","v":""},{"$f":"IF(ISNUMBER(SEARCH(H$206,'12.Partner Involvement'!$H909))=TRUE,(('12.Partner Involvement'!$D909*'12.Partner Involvement'!$E909)/COUNTA(_xlfn.TEXTSPLIT('12.Partner Involvement'!$H909,\";\"))),\"\")","v":""}]
[{"$f":"IF(ISNUMBER(SEARCH(A$206,'12.Partner Involvement'!$G910))=TRUE,(('12.Partner Involvement'!$D910*'12.Partner Involvement'!$E910)/COUNTA(_xlfn.TEXTSPLIT('12.Partner Involvement'!$G910,\";\"))),\"\")","v":""},{"$f":"IF(ISNUMBER(SEARCH(B$206,'12.Partner Involvement'!$G910))=TRUE,(('12.Partner Involvement'!$D910*'12.Partner Involvement'!$E910)/COUNTA(_xlfn.TEXTSPLIT('12.Partner Involvement'!$G910,\";\"))),\"\")","v":""},{"$f":"IF(ISNUMBER(SEARCH(C$206,'12.Partner Involvement'!$G910))=TRUE,(('12.Partner Involvement'!$D910*'12.Partner Involvement'!$E910)/COUNTA(_xlfn.TEXTSPLIT('12.Partner Involvement'!$G910,\";\"))),\"\")","v":""},null,{"$f":"IF(ISNUMBER(SEARCH(E$206,'12.Partner Involvement'!$H910))=TRUE,(('12.Partner Involvement'!$D910*'12.Partner Involvement'!$E910)/COUNTA(_xlfn.TEXTSPLIT('12.Partner Involvement'!$H910,\";\"))),\"\")","v":""},{"$f":"IF(ISNUMBER(SEARCH(F$206,'12.Partner Involvement'!$H910))=TRUE,(('12.Partner Involvement'!$D910*'12.Partner Involvement'!$E910)/COUNTA(_xlfn.TEXTSPLIT('12.Partner Involvement'!$H910,\";\"))),\"\")","v":""},{"$f":"IF(ISNUMBER(SEARCH(G$206,'12.Partner Involvement'!$H910))=TRUE,(('12.Partner Involvement'!$D910*'12.Partner Involvement'!$E910)/COUNTA(_xlfn.TEXTSPLIT('12.Partner Involvement'!$H910,\";\"))),\"\")","v":""},{"$f":"IF(ISNUMBER(SEARCH(H$206,'12.Partner Involvement'!$H910))=TRUE,(('12.Partner Involvement'!$D910*'12.Partner Involvement'!$E910)/COUNTA(_xlfn.TEXTSPLIT('12.Partner Involvement'!$H910,\";\"))),\"\")","v":""}]
[{"$f":"IF(ISNUMBER(SEARCH(A$206,'12.Partner Involvement'!$G911))=TRUE,(('12.Partner Involvement'!$D911*'12.Partner Involvement'!$E911)/COUNTA(_xlfn.TEXTSPLIT('12.Partner Involvement'!$G911,\";\"))),\"\")","v":""},{"$f":"IF(ISNUMBER(SEARCH(B$206,'12.Partner Involvement'!$G911))=TRUE,(('12.Partner Involvement'!$D911*'12.Partner Involvement'!$E911)/COUNTA(_xlfn.TEXTSPLIT('12.Partner Involvement'!$G911,\";\"))),\"\")","v":""},{"$f":"IF(ISNUMBER(SEARCH(C$206,'12.Partner Involvement'!$G911))=TRUE,(('12.Partner Involvement'!$D911*'12.Partner Involvement'!$E911)/COUNTA(_xlfn.TEXTSPLIT('12.Partner Involvement'!$G911,\";\"))),\"\")","v":""},null,{"$f":"IF(ISNUMBER(SEARCH(E$206,'12.Partner Involvement'!$H911))=TRUE,(('12.Partner Involvement'!$D911*'12.Partner Involvement'!$E911)/COUNTA(_xlfn.TEXTSPLIT('12.Partner Involvement'!$H911,\";\"))),\"\")","v":""},{"$f":"IF(ISNUMBER(SEARCH(F$206,'12.Partner Involvement'!$H911))=TRUE,(('12.Partner Involvement'!$D911*'12.Partner Involvement'!$E911)/COUNTA(_xlfn.TEXTSPLIT('12.Partner Involvement'!$H911,\";\"))),\"\")","v":""},{"$f":"IF(ISNUMBER(SEARCH(G$206,'12.Partner Involvement'!$H911))=TRUE,(('12.Partner Involvement'!$D911*'12.Partner Involvement'!$E911)/COUNTA(_xlfn.TEXTSPLIT('12.Partner Involvement'!$H911,\";\"))),\"\")","v":""},{"$f":"IF(ISNUMBER(SEARCH(H$206,'12.Partner Involvement'!$H911))=TRUE,(('12.Partner Involvement'!$D911*'12.Partner Involvement'!$E911)/COUNTA(_xlfn.TEXTSPLIT('12.Partner Involvement'!$H911,\";\"))),\"\")","v":""}]
[{"$f":"IF(ISNUMBER(SEARCH(A$206,'12.Partner Involvement'!$G912))=TRUE,(('12.Partner Involvement'!$D912*'12.Partner Involvement'!$E912)/COUNTA(_xlfn.TEXTSPLIT('12.Partner Involvement'!$G912,\";\"))),\"\")","v":""},{"$f":"IF(ISNUMBER(SEARCH(B$206,'12.Partner Involvement'!$G912))=TRUE,(('12.Partner Involvement'!$D912*'12.Partner Involvement'!$E912)/COUNTA(_xlfn.TEXTSPLIT('12.Partner Involvement'!$G912,\";\"))),\"\")","v":""},{"$f":"IF(ISNUMBER(SEARCH(C$206,'12.Partner Involvement'!$G912))=TRUE,(('12.Partner Involvement'!$D912*'12.Partner Involvement'!$E912)/COUNTA(_xlfn.TEXTSPLIT('12.Partner Involvement'!$G912,\";\"))),\"\")","v":""},null,{"$f":"IF(ISNUMBER(SEARCH(E$206,'12.Partner Involvement'!$H912))=TRUE,(('12.Partner Involvement'!$D912*'12.Partner Involvement'!$E912)/COUNTA(_xlfn.TEXTSPLIT('12.Partner Involvement'!$H912,\";\"))),\"\")","v":""},{"$f":"IF(ISNUMBER(SEARCH(F$206,'12.Partner Involvement'!$H912))=TRUE,(('12.Partner Involvement'!$D912*'12.Partner Involvement'!$E912)/COUNTA(_xlfn.TEXTSPLIT('12.Partner Involvement'!$H912,\";\"))),\"\")","v":""},{"$f":"IF(ISNUMBER(SEARCH(G$206,'12.Partner Involvement'!$H912))=TRUE,(('12.Partner Involvement'!$D912*'12.Partner Involvement'!$E912)/COUNTA(_xlfn.TEXTSPLIT('12.Partner Involvement'!$H912,\";\"))),\"\")","v":""},{"$f":"IF(ISNUMBER(SEARCH(H$206,'12.Partner Involvement'!$H912))=TRUE,(('12.Partner Involvement'!$D912*'12.Partner Involvement'!$E912)/COUNTA(_xlfn.TEXTSPLIT('12.Partner Involvement'!$H912,\";\"))),\"\")","v":""}]
[{"$f":"IF(ISNUMBER(SEARCH(A$206,'12.Partner Involvement'!$G913))=TRUE,(('12.Partner Involvement'!$D913*'12.Partner Involvement'!$E913)/COUNTA(_xlfn.TEXTSPLIT('12.Partner Involvement'!$G913,\";\"))),\"\")","v":""},{"$f":"IF(ISNUMBER(SEARCH(B$206,'12.Partner Involvement'!$G913))=TRUE,(('12.Partner Involvement'!$D913*'12.Partner Involvement'!$E913)/COUNTA(_xlfn.TEXTSPLIT('12.Partner Involvement'!$G913,\";\"))),\"\")","v":""},{"$f":"IF(ISNUMBER(SEARCH(C$206,'12.Partner Involvement'!$G913))=TRUE,(('12.Partner Involvement'!$D913*'12.Partner Involvement'!$E913)/COUNTA(_xlfn.TEXTSPLIT('12.Partner Involvement'!$G913,\";\"))),\"\")","v":""},null,{"$f":"IF(ISNUMBER(SEARCH(E$206,'12.Partner Involvement'!$H913))=TRUE,(('12.Partner Involvement'!$D913*'12.Partner Involvement'!$E913)/COUNTA(_xlfn.TEXTSPLIT('12.Partner Involvement'!$H913,\";\"))),\"\")","v":""},{"$f":"IF(ISNUMBER(SEARCH(F$206,'12.Partner Involvement'!$H913))=TRUE,(('12.Partner Involvement'!$D913*'12.Partner Involvement'!$E913)/COUNTA(_xlfn.TEXTSPLIT('12.Partner Involvement'!$H913,\";\"))),\"\")","v":""},{"$f":"IF(ISNUMBER(SEARCH(G$206,'12.Partner Involvement'!$H913))=TRUE,(('12.Partner Involvement'!$D913*'12.Partner Involvement'!$E913)/COUNTA(_xlfn.TEXTSPLIT('12.Partner Involvement'!$H913,\";\"))),\"\")","v":""},{"$f":"IF(ISNUMBER(SEARCH(H$206,'12.Partner Involvement'!$H913))=TRUE,(('12.Partner Involvement'!$D913*'12.Partner Involvement'!$E913)/COUNTA(_xlfn.TEXTSPLIT('12.Partner Involvement'!$H913,\";\"))),\"\")","v":""}]
[{"$f":"IF(ISNUMBER(SEARCH(A$206,'12.Partner Involvement'!$G914))=TRUE,(('12.Partner Involvement'!$D914*'12.Partner Involvement'!$E914)/COUNTA(_xlfn.TEXTSPLIT('12.Partner Involvement'!$G914,\";\"))),\"\")","v":""},{"$f":"IF(ISNUMBER(SEARCH(B$206,'12.Partner Involvement'!$G914))=TRUE,(('12.Partner Involvement'!$D914*'12.Partner Involvement'!$E914)/COUNTA(_xlfn.TEXTSPLIT('12.Partner Involvement'!$G914,\";\"))),\"\")","v":""},{"$f":"IF(ISNUMBER(SEARCH(C$206,'12.Partner Involvement'!$G914))=TRUE,(('12.Partner Involvement'!$D914*'12.Partner Involvement'!$E914)/COUNTA(_xlfn.TEXTSPLIT('12.Partner Involvement'!$G914,\";\"))),\"\")","v":""},null,{"$f":"IF(ISNUMBER(SEARCH(E$206,'12.Partner Involvement'!$H914))=TRUE,(('12.Partner Involvement'!$D914*'12.Partner Involvement'!$E914)/COUNTA(_xlfn.TEXTSPLIT('12.Partner Involvement'!$H914,\";\"))),\"\")","v":""},{"$f":"IF(ISNUMBER(SEARCH(F$206,'12.Partner Involvement'!$H914))=TRUE,(('12.Partner Involvement'!$D914*'12.Partner Involvement'!$E914)/COUNTA(_xlfn.TEXTSPLIT('12.Partner Involvement'!$H914,\";\"))),\"\")","v":""},{"$f":"IF(ISNUMBER(SEARCH(G$206,'12.Partner Involvement'!$H914))=TRUE,(('12.Partner Involvement'!$D914*'12.Partner Involvement'!$E914)/COUNTA(_xlfn.TEXTSPLIT('12.Partner Involvement'!$H914,\";\"))),\"\")","v":""},{"$f":"IF(ISNUMBER(SEARCH(H$206,'12.Partner Involvement'!$H914))=TRUE,(('12.Partner Involvement'!$D914*'12.Partner Involvement'!$E914)/COUNTA(_xlfn.TEXTSPLIT('12.Partner Involvement'!$H914,\";\"))),\"\")","v":""}]
[{"$f":"IF(ISNUMBER(SEARCH(A$206,'12.Partner Involvement'!$G915))=TRUE,(('12.Partner Involvement'!$D915*'12.Partner Involvement'!$E915)/COUNTA(_xlfn.TEXTSPLIT('12.Partner Involvement'!$G915,\";\"))),\"\")","v":""},{"$f":"IF(ISNUMBER(SEARCH(B$206,'12.Partner Involvement'!$G915))=TRUE,(('12.Partner Involvement'!$D915*'12.Partner Involvement'!$E915)/COUNTA(_xlfn.TEXTSPLIT('12.Partner Involvement'!$G915,\";\"))),\"\")","v":""},{"$f":"IF(ISNUMBER(SEARCH(C$206,'12.Partner Involvement'!$G915))=TRUE,(('12.Partner Involvement'!$D915*'12.Partner Involvement'!$E915)/COUNTA(_xlfn.TEXTSPLIT('12.Partner Involvement'!$G915,\";\"))),\"\")","v":""},null,{"$f":"IF(ISNUMBER(SEARCH(E$206,'12.Partner Involvement'!$H915))=TRUE,(('12.Partner Involvement'!$D915*'12.Partner Involvement'!$E915)/COUNTA(_xlfn.TEXTSPLIT('12.Partner Involvement'!$H915,\";\"))),\"\")","v":""},{"$f":"IF(ISNUMBER(SEARCH(F$206,'12.Partner Involvement'!$H915))=TRUE,(('12.Partner Involvement'!$D915*'12.Partner Involvement'!$E915)/COUNTA(_xlfn.TEXTSPLIT('12.Partner Involvement'!$H915,\";\"))),\"\")","v":""},{"$f":"IF(ISNUMBER(SEARCH(G$206,'12.Partner Involvement'!$H915))=TRUE,(('12.Partner Involvement'!$D915*'12.Partner Involvement'!$E915)/COUNTA(_xlfn.TEXTSPLIT('12.Partner Involvement'!$H915,\";\"))),\"\")","v":""},{"$f":"IF(ISNUMBER(SEARCH(H$206,'12.Partner Involvement'!$H915))=TRUE,(('12.Partner Involvement'!$D915*'12.Partner Involvement'!$E915)/COUNTA(_xlfn.TEXTSPLIT('12.Partner Involvement'!$H915,\";\"))),\"\")","v":""}]
[{"$f":"IF(ISNUMBER(SEARCH(A$206,'12.Partner Involvement'!$G916))=TRUE,(('12.Partner Involvement'!$D916*'12.Partner Involvement'!$E916)/COUNTA(_xlfn.TEXTSPLIT('12.Partner Involvement'!$G916,\";\"))),\"\")","v":""},{"$f":"IF(ISNUMBER(SEARCH(B$206,'12.Partner Involvement'!$G916))=TRUE,(('12.Partner Involvement'!$D916*'12.Partner Involvement'!$E916)/COUNTA(_xlfn.TEXTSPLIT('12.Partner Involvement'!$G916,\";\"))),\"\")","v":""},{"$f":"IF(ISNUMBER(SEARCH(C$206,'12.Partner Involvement'!$G916))=TRUE,(('12.Partner Involvement'!$D916*'12.Partner Involvement'!$E916)/COUNTA(_xlfn.TEXTSPLIT('12.Partner Involvement'!$G916,\";\"))),\"\")","v":""},null,{"$f":"IF(ISNUMBER(SEARCH(E$206,'12.Partner Involvement'!$H916))=TRUE,(('12.Partner Involvement'!$D916*'12.Partner Involvement'!$E916)/COUNTA(_xlfn.TEXTSPLIT('12.Partner Involvement'!$H916,\";\"))),\"\")","v":""},{"$f":"IF(ISNUMBER(SEARCH(F$206,'12.Partner Involvement'!$H916))=TRUE,(('12.Partner Involvement'!$D916*'12.Partner Involvement'!$E916)/COUNTA(_xlfn.TEXTSPLIT('12.Partner Involvement'!$H916,\";\"))),\"\")","v":""},{"$f":"IF(ISNUMBER(SEARCH(G$206,'12.Partner Involvement'!$H916))=TRUE,(('12.Partner Involvement'!$D916*'12.Partner Involvement'!$E916)/COUNTA(_xlfn.TEXTSPLIT('12.Partner Involvement'!$H916,\";\"))),\"\")","v":""},{"$f":"IF(ISNUMBER(SEARCH(H$206,'12.Partner Involvement'!$H916))=TRUE,(('12.Partner Involvement'!$D916*'12.Partner Involvement'!$E916)/COUNTA(_xlfn.TEXTSPLIT('12.Partner Involvement'!$H916,\";\"))),\"\")","v":""}]
[{"$f":"IF(ISNUMBER(SEARCH(A$206,'12.Partner Involvement'!$G917))=TRUE,(('12.Partner Involvement'!$D917*'12.Partner Involvement'!$E917)/COUNTA(_xlfn.TEXTSPLIT('12.Partner Involvement'!$G917,\";\"))),\"\")","v":""},{"$f":"IF(ISNUMBER(SEARCH(B$206,'12.Partner Involvement'!$G917))=TRUE,(('12.Partner Involvement'!$D917*'12.Partner Involvement'!$E917)/COUNTA(_xlfn.TEXTSPLIT('12.Partner Involvement'!$G917,\";\"))),\"\")","v":""},{"$f":"IF(ISNUMBER(SEARCH(C$206,'12.Partner Involvement'!$G917))=TRUE,(('12.Partner Involvement'!$D917*'12.Partner Involvement'!$E917)/COUNTA(_xlfn.TEXTSPLIT('12.Partner Involvement'!$G917,\";\"))),\"\")","v":""},null,{"$f":"IF(ISNUMBER(SEARCH(E$206,'12.Partner Involvement'!$H917))=TRUE,(('12.Partner Involvement'!$D917*'12.Partner Involvement'!$E917)/COUNTA(_xlfn.TEXTSPLIT('12.Partner Involvement'!$H917,\";\"))),\"\")","v":""},{"$f":"IF(ISNUMBER(SEARCH(F$206,'12.Partner Involvement'!$H917))=TRUE,(('12.Partner Involvement'!$D917*'12.Partner Involvement'!$E917)/COUNTA(_xlfn.TEXTSPLIT('12.Partner Involvement'!$H917,\";\"))),\"\")","v":""},{"$f":"IF(ISNUMBER(SEARCH(G$206,'12.Partner Involvement'!$H917))=TRUE,(('12.Partner Involvement'!$D917*'12.Partner Involvement'!$E917)/COUNTA(_xlfn.TEXTSPLIT('12.Partner Involvement'!$H917,\";\"))),\"\")","v":""},{"$f":"IF(ISNUMBER(SEARCH(H$206,'12.Partner Involvement'!$H917))=TRUE,(('12.Partner Involvement'!$D917*'12.Partner Involvement'!$E917)/COUNTA(_xlfn.TEXTSPLIT('12.Partner Involvement'!$H917,\";\"))),\"\")","v":""}]
[{"$f":"IF(ISNUMBER(SEARCH(A$206,'12.Partner Involvement'!$G918))=TRUE,(('12.Partner Involvement'!$D918*'12.Partner Involvement'!$E918)/COUNTA(_xlfn.TEXTSPLIT('12.Partner Involvement'!$G918,\";\"))),\"\")","v":""},{"$f":"IF(ISNUMBER(SEARCH(B$206,'12.Partner Involvement'!$G918))=TRUE,(('12.Partner Involvement'!$D918*'12.Partner Involvement'!$E918)/COUNTA(_xlfn.TEXTSPLIT('12.Partner Involvement'!$G918,\";\"))),\"\")","v":""},{"$f":"IF(ISNUMBER(SEARCH(C$206,'12.Partner Involvement'!$G918))=TRUE,(('12.Partner Involvement'!$D918*'12.Partner Involvement'!$E918)/COUNTA(_xlfn.TEXTSPLIT('12.Partner Involvement'!$G918,\";\"))),\"\")","v":""},null,{"$f":"IF(ISNUMBER(SEARCH(E$206,'12.Partner Involvement'!$H918))=TRUE,(('12.Partner Involvement'!$D918*'12.Partner Involvement'!$E918)/COUNTA(_xlfn.TEXTSPLIT('12.Partner Involvement'!$H918,\";\"))),\"\")","v":""},{"$f":"IF(ISNUMBER(SEARCH(F$206,'12.Partner Involvement'!$H918))=TRUE,(('12.Partner Involvement'!$D918*'12.Partner Involvement'!$E918)/COUNTA(_xlfn.TEXTSPLIT('12.Partner Involvement'!$H918,\";\"))),\"\")","v":""},{"$f":"IF(ISNUMBER(SEARCH(G$206,'12.Partner Involvement'!$H918))=TRUE,(('12.Partner Involvement'!$D918*'12.Partner Involvement'!$E918)/COUNTA(_xlfn.TEXTSPLIT('12.Partner Involvement'!$H918,\";\"))),\"\")","v":""},{"$f":"IF(ISNUMBER(SEARCH(H$206,'12.Partner Involvement'!$H918))=TRUE,(('12.Partner Involvement'!$D918*'12.Partner Involvement'!$E918)/COUNTA(_xlfn.TEXTSPLIT('12.Partner Involvement'!$H918,\";\"))),\"\")","v":""}]
[{"$f":"IF(ISNUMBER(SEARCH(A$206,'12.Partner Involvement'!$G919))=TRUE,(('12.Partner Involvement'!$D919*'12.Partner Involvement'!$E919)/COUNTA(_xlfn.TEXTSPLIT('12.Partner Involvement'!$G919,\";\"))),\"\")","v":""},{"$f":"IF(ISNUMBER(SEARCH(B$206,'12.Partner Involvement'!$G919))=TRUE,(('12.Partner Involvement'!$D919*'12.Partner Involvement'!$E919)/COUNTA(_xlfn.TEXTSPLIT('12.Partner Involvement'!$G919,\";\"))),\"\")","v":""},{"$f":"IF(ISNUMBER(SEARCH(C$206,'12.Partner Involvement'!$G919))=TRUE,(('12.Partner Involvement'!$D919*'12.Partner Involvement'!$E919)/COUNTA(_xlfn.TEXTSPLIT('12.Partner Involvement'!$G919,\";\"))),\"\")","v":""},null,{"$f":"IF(ISNUMBER(SEARCH(E$206,'12.Partner Involvement'!$H919))=TRUE,(('12.Partner Involvement'!$D919*'12.Partner Involvement'!$E919)/COUNTA(_xlfn.TEXTSPLIT('12.Partner Involvement'!$H919,\";\"))),\"\")","v":""},{"$f":"IF(ISNUMBER(SEARCH(F$206,'12.Partner Involvement'!$H919))=TRUE,(('12.Partner Involvement'!$D919*'12.Partner Involvement'!$E919)/COUNTA(_xlfn.TEXTSPLIT('12.Partner Involvement'!$H919,\";\"))),\"\")","v":""},{"$f":"IF(ISNUMBER(SEARCH(G$206,'12.Partner Involvement'!$H919))=TRUE,(('12.Partner Involvement'!$D919*'12.Partner Involvement'!$E919)/COUNTA(_xlfn.TEXTSPLIT('12.Partner Involvement'!$H919,\";\"))),\"\")","v":""},{"$f":"IF(ISNUMBER(SEARCH(H$206,'12.Partner Involvement'!$H919))=TRUE,(('12.Partner Involvement'!$D919*'12.Partner Involvement'!$E919)/COUNTA(_xlfn.TEXTSPLIT('12.Partner Involvement'!$H919,\";\"))),\"\")","v":""}]
[{"$f":"IF(ISNUMBER(SEARCH(A$206,'12.Partner Involvement'!$G920))=TRUE,(('12.Partner Involvement'!$D920*'12.Partner Involvement'!$E920)/COUNTA(_xlfn.TEXTSPLIT('12.Partner Involvement'!$G920,\";\"))),\"\")","v":""},{"$f":"IF(ISNUMBER(SEARCH(B$206,'12.Partner Involvement'!$G920))=TRUE,(('12.Partner Involvement'!$D920*'12.Partner Involvement'!$E920)/COUNTA(_xlfn.TEXTSPLIT('12.Partner Involvement'!$G920,\";\"))),\"\")","v":""},{"$f":"IF(ISNUMBER(SEARCH(C$206,'12.Partner Involvement'!$G920))=TRUE,(('12.Partner Involvement'!$D920*'12.Partner Involvement'!$E920)/COUNTA(_xlfn.TEXTSPLIT('12.Partner Involvement'!$G920,\";\"))),\"\")","v":""},null,{"$f":"IF(ISNUMBER(SEARCH(E$206,'12.Partner Involvement'!$H920))=TRUE,(('12.Partner Involvement'!$D920*'12.Partner Involvement'!$E920)/COUNTA(_xlfn.TEXTSPLIT('12.Partner Involvement'!$H920,\";\"))),\"\")","v":""},{"$f":"IF(ISNUMBER(SEARCH(F$206,'12.Partner Involvement'!$H920))=TRUE,(('12.Partner Involvement'!$D920*'12.Partner Involvement'!$E920)/COUNTA(_xlfn.TEXTSPLIT('12.Partner Involvement'!$H920,\";\"))),\"\")","v":""},{"$f":"IF(ISNUMBER(SEARCH(G$206,'12.Partner Involvement'!$H920))=TRUE,(('12.Partner Involvement'!$D920*'12.Partner Involvement'!$E920)/COUNTA(_xlfn.TEXTSPLIT('12.Partner Involvement'!$H920,\";\"))),\"\")","v":""},{"$f":"IF(ISNUMBER(SEARCH(H$206,'12.Partner Involvement'!$H920))=TRUE,(('12.Partner Involvement'!$D920*'12.Partner Involvement'!$E920)/COUNTA(_xlfn.TEXTSPLIT('12.Partner Involvement'!$H920,\";\"))),\"\")","v":""}]
[{"$f":"IF(ISNUMBER(SEARCH(A$206,'12.Partner Involvement'!$G921))=TRUE,(('12.Partner Involvement'!$D921*'12.Partner Involvement'!$E921)/COUNTA(_xlfn.TEXTSPLIT('12.Partner Involvement'!$G921,\";\"))),\"\")","v":""},{"$f":"IF(ISNUMBER(SEARCH(B$206,'12.Partner Involvement'!$G921))=TRUE,(('12.Partner Involvement'!$D921*'12.Partner Involvement'!$E921)/COUNTA(_xlfn.TEXTSPLIT('12.Partner Involvement'!$G921,\";\"))),\"\")","v":""},{"$f":"IF(ISNUMBER(SEARCH(C$206,'12.Partner Involvement'!$G921))=TRUE,(('12.Partner Involvement'!$D921*'12.Partner Involvement'!$E921)/COUNTA(_xlfn.TEXTSPLIT('12.Partner Involvement'!$G921,\";\"))),\"\")","v":""},null,{"$f":"IF(ISNUMBER(SEARCH(E$206,'12.Partner Involvement'!$H921))=TRUE,(('12.Partner Involvement'!$D921*'12.Partner Involvement'!$E921)/COUNTA(_xlfn.TEXTSPLIT('12.Partner Involvement'!$H921,\";\"))),\"\")","v":""},{"$f":"IF(ISNUMBER(SEARCH(F$206,'12.Partner Involvement'!$H921))=TRUE,(('12.Partner Involvement'!$D921*'12.Partner Involvement'!$E921)/COUNTA(_xlfn.TEXTSPLIT('12.Partner Involvement'!$H921,\";\"))),\"\")","v":""},{"$f":"IF(ISNUMBER(SEARCH(G$206,'12.Partner Involvement'!$H921))=TRUE,(('12.Partner Involvement'!$D921*'12.Partner Involvement'!$E921)/COUNTA(_xlfn.TEXTSPLIT('12.Partner Involvement'!$H921,\";\"))),\"\")","v":""},{"$f":"IF(ISNUMBER(SEARCH(H$206,'12.Partner Involvement'!$H921))=TRUE,(('12.Partner Involvement'!$D921*'12.Partner Involvement'!$E921)/COUNTA(_xlfn.TEXTSPLIT('12.Partner Involvement'!$H921,\";\"))),\"\")","v":""}]
[{"$f":"IF(ISNUMBER(SEARCH(A$206,'12.Partner Involvement'!$G922))=TRUE,(('12.Partner Involvement'!$D922*'12.Partner Involvement'!$E922)/COUNTA(_xlfn.TEXTSPLIT('12.Partner Involvement'!$G922,\";\"))),\"\")","v":""},{"$f":"IF(ISNUMBER(SEARCH(B$206,'12.Partner Involvement'!$G922))=TRUE,(('12.Partner Involvement'!$D922*'12.Partner Involvement'!$E922)/COUNTA(_xlfn.TEXTSPLIT('12.Partner Involvement'!$G922,\";\"))),\"\")","v":""},{"$f":"IF(ISNUMBER(SEARCH(C$206,'12.Partner Involvement'!$G922))=TRUE,(('12.Partner Involvement'!$D922*'12.Partner Involvement'!$E922)/COUNTA(_xlfn.TEXTSPLIT('12.Partner Involvement'!$G922,\";\"))),\"\")","v":""},null,{"$f":"IF(ISNUMBER(SEARCH(E$206,'12.Partner Involvement'!$H922))=TRUE,(('12.Partner Involvement'!$D922*'12.Partner Involvement'!$E922)/COUNTA(_xlfn.TEXTSPLIT('12.Partner Involvement'!$H922,\";\"))),\"\")","v":""},{"$f":"IF(ISNUMBER(SEARCH(F$206,'12.Partner Involvement'!$H922))=TRUE,(('12.Partner Involvement'!$D922*'12.Partner Involvement'!$E922)/COUNTA(_xlfn.TEXTSPLIT('12.Partner Involvement'!$H922,\";\"))),\"\")","v":""},{"$f":"IF(ISNUMBER(SEARCH(G$206,'12.Partner Involvement'!$H922))=TRUE,(('12.Partner Involvement'!$D922*'12.Partner Involvement'!$E922)/COUNTA(_xlfn.TEXTSPLIT('12.Partner Involvement'!$H922,\";\"))),\"\")","v":""},{"$f":"IF(ISNUMBER(SEARCH(H$206,'12.Partner Involvement'!$H922))=TRUE,(('12.Partner Involvement'!$D922*'12.Partner Involvement'!$E922)/COUNTA(_xlfn.TEXTSPLIT('12.Partner Involvement'!$H922,\";\"))),\"\")","v":""}]
[{"$f":"IF(ISNUMBER(SEARCH(A$206,'12.Partner Involvement'!$G923))=TRUE,(('12.Partner Involvement'!$D923*'12.Partner Involvement'!$E923)/COUNTA(_xlfn.TEXTSPLIT('12.Partner Involvement'!$G923,\";\"))),\"\")","v":""},{"$f":"IF(ISNUMBER(SEARCH(B$206,'12.Partner Involvement'!$G923))=TRUE,(('12.Partner Involvement'!$D923*'12.Partner Involvement'!$E923)/COUNTA(_xlfn.TEXTSPLIT('12.Partner Involvement'!$G923,\";\"))),\"\")","v":""},{"$f":"IF(ISNUMBER(SEARCH(C$206,'12.Partner Involvement'!$G923))=TRUE,(('12.Partner Involvement'!$D923*'12.Partner Involvement'!$E923)/COUNTA(_xlfn.TEXTSPLIT('12.Partner Involvement'!$G923,\";\"))),\"\")","v":""},null,{"$f":"IF(ISNUMBER(SEARCH(E$206,'12.Partner Involvement'!$H923))=TRUE,(('12.Partner Involvement'!$D923*'12.Partner Involvement'!$E923)/COUNTA(_xlfn.TEXTSPLIT('12.Partner Involvement'!$H923,\";\"))),\"\")","v":""},{"$f":"IF(ISNUMBER(SEARCH(F$206,'12.Partner Involvement'!$H923))=TRUE,(('12.Partner Involvement'!$D923*'12.Partner Involvement'!$E923)/COUNTA(_xlfn.TEXTSPLIT('12.Partner Involvement'!$H923,\";\"))),\"\")","v":""},{"$f":"IF(ISNUMBER(SEARCH(G$206,'12.Partner Involvement'!$H923))=TRUE,(('12.Partner Involvement'!$D923*'12.Partner Involvement'!$E923)/COUNTA(_xlfn.TEXTSPLIT('12.Partner Involvement'!$H923,\";\"))),\"\")","v":""},{"$f":"IF(ISNUMBER(SEARCH(H$206,'12.Partner Involvement'!$H923))=TRUE,(('12.Partner Involvement'!$D923*'12.Partner Involvement'!$E923)/COUNTA(_xlfn.TEXTSPLIT('12.Partner Involvement'!$H923,\";\"))),\"\")","v":""}]
[{"$f":"IF(ISNUMBER(SEARCH(A$206,'12.Partner Involvement'!$G924))=TRUE,(('12.Partner Involvement'!$D924*'12.Partner Involvement'!$E924)/COUNTA(_xlfn.TEXTSPLIT('12.Partner Involvement'!$G924,\";\"))),\"\")","v":""},{"$f":"IF(ISNUMBER(SEARCH(B$206,'12.Partner Involvement'!$G924))=TRUE,(('12.Partner Involvement'!$D924*'12.Partner Involvement'!$E924)/COUNTA(_xlfn.TEXTSPLIT('12.Partner Involvement'!$G924,\";\"))),\"\")","v":""},{"$f":"IF(ISNUMBER(SEARCH(C$206,'12.Partner Involvement'!$G924))=TRUE,(('12.Partner Involvement'!$D924*'12.Partner Involvement'!$E924)/COUNTA(_xlfn.TEXTSPLIT('12.Partner Involvement'!$G924,\";\"))),\"\")","v":""},null,{"$f":"IF(ISNUMBER(SEARCH(E$206,'12.Partner Involvement'!$H924))=TRUE,(('12.Partner Involvement'!$D924*'12.Partner Involvement'!$E924)/COUNTA(_xlfn.TEXTSPLIT('12.Partner Involvement'!$H924,\";\"))),\"\")","v":""},{"$f":"IF(ISNUMBER(SEARCH(F$206,'12.Partner Involvement'!$H924))=TRUE,(('12.Partner Involvement'!$D924*'12.Partner Involvement'!$E924)/COUNTA(_xlfn.TEXTSPLIT('12.Partner Involvement'!$H924,\";\"))),\"\")","v":""},{"$f":"IF(ISNUMBER(SEARCH(G$206,'12.Partner Involvement'!$H924))=TRUE,(('12.Partner Involvement'!$D924*'12.Partner Involvement'!$E924)/COUNTA(_xlfn.TEXTSPLIT('12.Partner Involvement'!$H924,\";\"))),\"\")","v":""},{"$f":"IF(ISNUMBER(SEARCH(H$206,'12.Partner Involvement'!$H924))=TRUE,(('12.Partner Involvement'!$D924*'12.Partner Involvement'!$E924)/COUNTA(_xlfn.TEXTSPLIT('12.Partner Involvement'!$H924,\";\"))),\"\")","v":""}]
[{"$f":"IF(ISNUMBER(SEARCH(A$206,'12.Partner Involvement'!$G925))=TRUE,(('12.Partner Involvement'!$D925*'12.Partner Involvement'!$E925)/COUNTA(_xlfn.TEXTSPLIT('12.Partner Involvement'!$G925,\";\"))),\"\")","v":""},{"$f":"IF(ISNUMBER(SEARCH(B$206,'12.Partner Involvement'!$G925))=TRUE,(('12.Partner Involvement'!$D925*'12.Partner Involvement'!$E925)/COUNTA(_xlfn.TEXTSPLIT('12.Partner Involvement'!$G925,\";\"))),\"\")","v":""},{"$f":"IF(ISNUMBER(SEARCH(C$206,'12.Partner Involvement'!$G925))=TRUE,(('12.Partner Involvement'!$D925*'12.Partner Involvement'!$E925)/COUNTA(_xlfn.TEXTSPLIT('12.Partner Involvement'!$G925,\";\"))),\"\")","v":""},null,{"$f":"IF(ISNUMBER(SEARCH(E$206,'12.Partner Involvement'!$H925))=TRUE,(('12.Partner Involvement'!$D925*'12.Partner Involvement'!$E925)/COUNTA(_xlfn.TEXTSPLIT('12.Partner Involvement'!$H925,\";\"))),\"\")","v":""},{"$f":"IF(ISNUMBER(SEARCH(F$206,'12.Partner Involvement'!$H925))=TRUE,(('12.Partner Involvement'!$D925*'12.Partner Involvement'!$E925)/COUNTA(_xlfn.TEXTSPLIT('12.Partner Involvement'!$H925,\";\"))),\"\")","v":""},{"$f":"IF(ISNUMBER(SEARCH(G$206,'12.Partner Involvement'!$H925))=TRUE,(('12.Partner Involvement'!$D925*'12.Partner Involvement'!$E925)/COUNTA(_xlfn.TEXTSPLIT('12.Partner Involvement'!$H925,\";\"))),\"\")","v":""},{"$f":"IF(ISNUMBER(SEARCH(H$206,'12.Partner Involvement'!$H925))=TRUE,(('12.Partner Involvement'!$D925*'12.Partner Involvement'!$E925)/COUNTA(_xlfn.TEXTSPLIT('12.Partner Involvement'!$H925,\";\"))),\"\")","v":""}]
[{"$f":"IF(ISNUMBER(SEARCH(A$206,'12.Partner Involvement'!$G926))=TRUE,(('12.Partner Involvement'!$D926*'12.Partner Involvement'!$E926)/COUNTA(_xlfn.TEXTSPLIT('12.Partner Involvement'!$G926,\";\"))),\"\")","v":""},{"$f":"IF(ISNUMBER(SEARCH(B$206,'12.Partner Involvement'!$G926))=TRUE,(('12.Partner Involvement'!$D926*'12.Partner Involvement'!$E926)/COUNTA(_xlfn.TEXTSPLIT('12.Partner Involvement'!$G926,\";\"))),\"\")","v":""},{"$f":"IF(ISNUMBER(SEARCH(C$206,'12.Partner Involvement'!$G926))=TRUE,(('12.Partner Involvement'!$D926*'12.Partner Involvement'!$E926)/COUNTA(_xlfn.TEXTSPLIT('12.Partner Involvement'!$G926,\";\"))),\"\")","v":""},null,{"$f":"IF(ISNUMBER(SEARCH(E$206,'12.Partner Involvement'!$H926))=TRUE,(('12.Partner Involvement'!$D926*'12.Partner Involvement'!$E926)/COUNTA(_xlfn.TEXTSPLIT('12.Partner Involvement'!$H926,\";\"))),\"\")","v":""},{"$f":"IF(ISNUMBER(SEARCH(F$206,'12.Partner Involvement'!$H926))=TRUE,(('12.Partner Involvement'!$D926*'12.Partner Involvement'!$E926)/COUNTA(_xlfn.TEXTSPLIT('12.Partner Involvement'!$H926,\";\"))),\"\")","v":""},{"$f":"IF(ISNUMBER(SEARCH(G$206,'12.Partner Involvement'!$H926))=TRUE,(('12.Partner Involvement'!$D926*'12.Partner Involvement'!$E926)/COUNTA(_xlfn.TEXTSPLIT('12.Partner Involvement'!$H926,\";\"))),\"\")","v":""},{"$f":"IF(ISNUMBER(SEARCH(H$206,'12.Partner Involvement'!$H926))=TRUE,(('12.Partner Involvement'!$D926*'12.Partner Involvement'!$E926)/COUNTA(_xlfn.TEXTSPLIT('12.Partner Involvement'!$H926,\";\"))),\"\")","v":""}]
[{"$f":"IF(ISNUMBER(SEARCH(A$206,'12.Partner Involvement'!$G927))=TRUE,(('12.Partner Involvement'!$D927*'12.Partner Involvement'!$E927)/COUNTA(_xlfn.TEXTSPLIT('12.Partner Involvement'!$G927,\";\"))),\"\")","v":""},{"$f":"IF(ISNUMBER(SEARCH(B$206,'12.Partner Involvement'!$G927))=TRUE,(('12.Partner Involvement'!$D927*'12.Partner Involvement'!$E927)/COUNTA(_xlfn.TEXTSPLIT('12.Partner Involvement'!$G927,\";\"))),\"\")","v":""},{"$f":"IF(ISNUMBER(SEARCH(C$206,'12.Partner Involvement'!$G927))=TRUE,(('12.Partner Involvement'!$D927*'12.Partner Involvement'!$E927)/COUNTA(_xlfn.TEXTSPLIT('12.Partner Involvement'!$G927,\";\"))),\"\")","v":""},null,{"$f":"IF(ISNUMBER(SEARCH(E$206,'12.Partner Involvement'!$H927))=TRUE,(('12.Partner Involvement'!$D927*'12.Partner Involvement'!$E927)/COUNTA(_xlfn.TEXTSPLIT('12.Partner Involvement'!$H927,\";\"))),\"\")","v":""},{"$f":"IF(ISNUMBER(SEARCH(F$206,'12.Partner Involvement'!$H927))=TRUE,(('12.Partner Involvement'!$D927*'12.Partner Involvement'!$E927)/COUNTA(_xlfn.TEXTSPLIT('12.Partner Involvement'!$H927,\";\"))),\"\")","v":""},{"$f":"IF(ISNUMBER(SEARCH(G$206,'12.Partner Involvement'!$H927))=TRUE,(('12.Partner Involvement'!$D927*'12.Partner Involvement'!$E927)/COUNTA(_xlfn.TEXTSPLIT('12.Partner Involvement'!$H927,\";\"))),\"\")","v":""},{"$f":"IF(ISNUMBER(SEARCH(H$206,'12.Partner Involvement'!$H927))=TRUE,(('12.Partner Involvement'!$D927*'12.Partner Involvement'!$E927)/COUNTA(_xlfn.TEXTSPLIT('12.Partner Involvement'!$H927,\";\"))),\"\")","v":""}]
[{"$f":"IF(ISNUMBER(SEARCH(A$206,'12.Partner Involvement'!$G928))=TRUE,(('12.Partner Involvement'!$D928*'12.Partner Involvement'!$E928)/COUNTA(_xlfn.TEXTSPLIT('12.Partner Involvement'!$G928,\";\"))),\"\")","v":""},{"$f":"IF(ISNUMBER(SEARCH(B$206,'12.Partner Involvement'!$G928))=TRUE,(('12.Partner Involvement'!$D928*'12.Partner Involvement'!$E928)/COUNTA(_xlfn.TEXTSPLIT('12.Partner Involvement'!$G928,\";\"))),\"\")","v":""},{"$f":"IF(ISNUMBER(SEARCH(C$206,'12.Partner Involvement'!$G928))=TRUE,(('12.Partner Involvement'!$D928*'12.Partner Involvement'!$E928)/COUNTA(_xlfn.TEXTSPLIT('12.Partner Involvement'!$G928,\";\"))),\"\")","v":""},null,{"$f":"IF(ISNUMBER(SEARCH(E$206,'12.Partner Involvement'!$H928))=TRUE,(('12.Partner Involvement'!$D928*'12.Partner Involvement'!$E928)/COUNTA(_xlfn.TEXTSPLIT('12.Partner Involvement'!$H928,\";\"))),\"\")","v":""},{"$f":"IF(ISNUMBER(SEARCH(F$206,'12.Partner Involvement'!$H928))=TRUE,(('12.Partner Involvement'!$D928*'12.Partner Involvement'!$E928)/COUNTA(_xlfn.TEXTSPLIT('12.Partner Involvement'!$H928,\";\"))),\"\")","v":""},{"$f":"IF(ISNUMBER(SEARCH(G$206,'12.Partner Involvement'!$H928))=TRUE,(('12.Partner Involvement'!$D928*'12.Partner Involvement'!$E928)/COUNTA(_xlfn.TEXTSPLIT('12.Partner Involvement'!$H928,\";\"))),\"\")","v":""},{"$f":"IF(ISNUMBER(SEARCH(H$206,'12.Partner Involvement'!$H928))=TRUE,(('12.Partner Involvement'!$D928*'12.Partner Involvement'!$E928)/COUNTA(_xlfn.TEXTSPLIT('12.Partner Involvement'!$H928,\";\"))),\"\")","v":""}]
[{"$f":"IF(ISNUMBER(SEARCH(A$206,'12.Partner Involvement'!$G929))=TRUE,(('12.Partner Involvement'!$D929*'12.Partner Involvement'!$E929)/COUNTA(_xlfn.TEXTSPLIT('12.Partner Involvement'!$G929,\";\"))),\"\")","v":""},{"$f":"IF(ISNUMBER(SEARCH(B$206,'12.Partner Involvement'!$G929))=TRUE,(('12.Partner Involvement'!$D929*'12.Partner Involvement'!$E929)/COUNTA(_xlfn.TEXTSPLIT('12.Partner Involvement'!$G929,\";\"))),\"\")","v":""},{"$f":"IF(ISNUMBER(SEARCH(C$206,'12.Partner Involvement'!$G929))=TRUE,(('12.Partner Involvement'!$D929*'12.Partner Involvement'!$E929)/COUNTA(_xlfn.TEXTSPLIT('12.Partner Involvement'!$G929,\";\"))),\"\")","v":""},null,{"$f":"IF(ISNUMBER(SEARCH(E$206,'12.Partner Involvement'!$H929))=TRUE,(('12.Partner Involvement'!$D929*'12.Partner Involvement'!$E929)/COUNTA(_xlfn.TEXTSPLIT('12.Partner Involvement'!$H929,\";\"))),\"\")","v":""},{"$f":"IF(ISNUMBER(SEARCH(F$206,'12.Partner Involvement'!$H929))=TRUE,(('12.Partner Involvement'!$D929*'12.Partner Involvement'!$E929)/COUNTA(_xlfn.TEXTSPLIT('12.Partner Involvement'!$H929,\";\"))),\"\")","v":""},{"$f":"IF(ISNUMBER(SEARCH(G$206,'12.Partner Involvement'!$H929))=TRUE,(('12.Partner Involvement'!$D929*'12.Partner Involvement'!$E929)/COUNTA(_xlfn.TEXTSPLIT('12.Partner Involvement'!$H929,\";\"))),\"\")","v":""},{"$f":"IF(ISNUMBER(SEARCH(H$206,'12.Partner Involvement'!$H929))=TRUE,(('12.Partner Involvement'!$D929*'12.Partner Involvement'!$E929)/COUNTA(_xlfn.TEXTSPLIT('12.Partner Involvement'!$H929,\";\"))),\"\")","v":""}]
[{"$f":"IF(ISNUMBER(SEARCH(A$206,'12.Partner Involvement'!$G930))=TRUE,(('12.Partner Involvement'!$D930*'12.Partner Involvement'!$E930)/COUNTA(_xlfn.TEXTSPLIT('12.Partner Involvement'!$G930,\";\"))),\"\")","v":""},{"$f":"IF(ISNUMBER(SEARCH(B$206,'12.Partner Involvement'!$G930))=TRUE,(('12.Partner Involvement'!$D930*'12.Partner Involvement'!$E930)/COUNTA(_xlfn.TEXTSPLIT('12.Partner Involvement'!$G930,\";\"))),\"\")","v":""},{"$f":"IF(ISNUMBER(SEARCH(C$206,'12.Partner Involvement'!$G930))=TRUE,(('12.Partner Involvement'!$D930*'12.Partner Involvement'!$E930)/COUNTA(_xlfn.TEXTSPLIT('12.Partner Involvement'!$G930,\";\"))),\"\")","v":""},null,{"$f":"IF(ISNUMBER(SEARCH(E$206,'12.Partner Involvement'!$H930))=TRUE,(('12.Partner Involvement'!$D930*'12.Partner Involvement'!$E930)/COUNTA(_xlfn.TEXTSPLIT('12.Partner Involvement'!$H930,\";\"))),\"\")","v":""},{"$f":"IF(ISNUMBER(SEARCH(F$206,'12.Partner Involvement'!$H930))=TRUE,(('12.Partner Involvement'!$D930*'12.Partner Involvement'!$E930)/COUNTA(_xlfn.TEXTSPLIT('12.Partner Involvement'!$H930,\";\"))),\"\")","v":""},{"$f":"IF(ISNUMBER(SEARCH(G$206,'12.Partner Involvement'!$H930))=TRUE,(('12.Partner Involvement'!$D930*'12.Partner Involvement'!$E930)/COUNTA(_xlfn.TEXTSPLIT('12.Partner Involvement'!$H930,\";\"))),\"\")","v":""},{"$f":"IF(ISNUMBER(SEARCH(H$206,'12.Partner Involvement'!$H930))=TRUE,(('12.Partner Involvement'!$D930*'12.Partner Involvement'!$E930)/COUNTA(_xlfn.TEXTSPLIT('12.Partner Involvement'!$H930,\";\"))),\"\")","v":""}]
[{"$f":"IF(ISNUMBER(SEARCH(A$206,'12.Partner Involvement'!$G931))=TRUE,(('12.Partner Involvement'!$D931*'12.Partner Involvement'!$E931)/COUNTA(_xlfn.TEXTSPLIT('12.Partner Involvement'!$G931,\";\"))),\"\")","v":""},{"$f":"IF(ISNUMBER(SEARCH(B$206,'12.Partner Involvement'!$G931))=TRUE,(('12.Partner Involvement'!$D931*'12.Partner Involvement'!$E931)/COUNTA(_xlfn.TEXTSPLIT('12.Partner Involvement'!$G931,\";\"))),\"\")","v":""},{"$f":"IF(ISNUMBER(SEARCH(C$206,'12.Partner Involvement'!$G931))=TRUE,(('12.Partner Involvement'!$D931*'12.Partner Involvement'!$E931)/COUNTA(_xlfn.TEXTSPLIT('12.Partner Involvement'!$G931,\";\"))),\"\")","v":""},null,{"$f":"IF(ISNUMBER(SEARCH(E$206,'12.Partner Involvement'!$H931))=TRUE,(('12.Partner Involvement'!$D931*'12.Partner Involvement'!$E931)/COUNTA(_xlfn.TEXTSPLIT('12.Partner Involvement'!$H931,\";\"))),\"\")","v":""},{"$f":"IF(ISNUMBER(SEARCH(F$206,'12.Partner Involvement'!$H931))=TRUE,(('12.Partner Involvement'!$D931*'12.Partner Involvement'!$E931)/COUNTA(_xlfn.TEXTSPLIT('12.Partner Involvement'!$H931,\";\"))),\"\")","v":""},{"$f":"IF(ISNUMBER(SEARCH(G$206,'12.Partner Involvement'!$H931))=TRUE,(('12.Partner Involvement'!$D931*'12.Partner Involvement'!$E931)/COUNTA(_xlfn.TEXTSPLIT('12.Partner Involvement'!$H931,\";\"))),\"\")","v":""},{"$f":"IF(ISNUMBER(SEARCH(H$206,'12.Partner Involvement'!$H931))=TRUE,(('12.Partner Involvement'!$D931*'12.Partner Involvement'!$E931)/COUNTA(_xlfn.TEXTSPLIT('12.Partner Involvement'!$H931,\";\"))),\"\")","v":""}]
[{"$f":"IF(ISNUMBER(SEARCH(A$206,'12.Partner Involvement'!$G932))=TRUE,(('12.Partner Involvement'!$D932*'12.Partner Involvement'!$E932)/COUNTA(_xlfn.TEXTSPLIT('12.Partner Involvement'!$G932,\";\"))),\"\")","v":""},{"$f":"IF(ISNUMBER(SEARCH(B$206,'12.Partner Involvement'!$G932))=TRUE,(('12.Partner Involvement'!$D932*'12.Partner Involvement'!$E932)/COUNTA(_xlfn.TEXTSPLIT('12.Partner Involvement'!$G932,\";\"))),\"\")","v":""},{"$f":"IF(ISNUMBER(SEARCH(C$206,'12.Partner Involvement'!$G932))=TRUE,(('12.Partner Involvement'!$D932*'12.Partner Involvement'!$E932)/COUNTA(_xlfn.TEXTSPLIT('12.Partner Involvement'!$G932,\";\"))),\"\")","v":""},null,{"$f":"IF(ISNUMBER(SEARCH(E$206,'12.Partner Involvement'!$H932))=TRUE,(('12.Partner Involvement'!$D932*'12.Partner Involvement'!$E932)/COUNTA(_xlfn.TEXTSPLIT('12.Partner Involvement'!$H932,\";\"))),\"\")","v":""},{"$f":"IF(ISNUMBER(SEARCH(F$206,'12.Partner Involvement'!$H932))=TRUE,(('12.Partner Involvement'!$D932*'12.Partner Involvement'!$E932)/COUNTA(_xlfn.TEXTSPLIT('12.Partner Involvement'!$H932,\";\"))),\"\")","v":""},{"$f":"IF(ISNUMBER(SEARCH(G$206,'12.Partner Involvement'!$H932))=TRUE,(('12.Partner Involvement'!$D932*'12.Partner Involvement'!$E932)/COUNTA(_xlfn.TEXTSPLIT('12.Partner Involvement'!$H932,\";\"))),\"\")","v":""},{"$f":"IF(ISNUMBER(SEARCH(H$206,'12.Partner Involvement'!$H932))=TRUE,(('12.Partner Involvement'!$D932*'12.Partner Involvement'!$E932)/COUNTA(_xlfn.TEXTSPLIT('12.Partner Involvement'!$H932,\";\"))),\"\")","v":""}]
[{"$f":"IF(ISNUMBER(SEARCH(A$206,'12.Partner Involvement'!$G933))=TRUE,(('12.Partner Involvement'!$D933*'12.Partner Involvement'!$E933)/COUNTA(_xlfn.TEXTSPLIT('12.Partner Involvement'!$G933,\";\"))),\"\")","v":""},{"$f":"IF(ISNUMBER(SEARCH(B$206,'12.Partner Involvement'!$G933))=TRUE,(('12.Partner Involvement'!$D933*'12.Partner Involvement'!$E933)/COUNTA(_xlfn.TEXTSPLIT('12.Partner Involvement'!$G933,\";\"))),\"\")","v":""},{"$f":"IF(ISNUMBER(SEARCH(C$206,'12.Partner Involvement'!$G933))=TRUE,(('12.Partner Involvement'!$D933*'12.Partner Involvement'!$E933)/COUNTA(_xlfn.TEXTSPLIT('12.Partner Involvement'!$G933,\";\"))),\"\")","v":""},null,{"$f":"IF(ISNUMBER(SEARCH(E$206,'12.Partner Involvement'!$H933))=TRUE,(('12.Partner Involvement'!$D933*'12.Partner Involvement'!$E933)/COUNTA(_xlfn.TEXTSPLIT('12.Partner Involvement'!$H933,\";\"))),\"\")","v":""},{"$f":"IF(ISNUMBER(SEARCH(F$206,'12.Partner Involvement'!$H933))=TRUE,(('12.Partner Involvement'!$D933*'12.Partner Involvement'!$E933)/COUNTA(_xlfn.TEXTSPLIT('12.Partner Involvement'!$H933,\";\"))),\"\")","v":""},{"$f":"IF(ISNUMBER(SEARCH(G$206,'12.Partner Involvement'!$H933))=TRUE,(('12.Partner Involvement'!$D933*'12.Partner Involvement'!$E933)/COUNTA(_xlfn.TEXTSPLIT('12.Partner Involvement'!$H933,\";\"))),\"\")","v":""},{"$f":"IF(ISNUMBER(SEARCH(H$206,'12.Partner Involvement'!$H933))=TRUE,(('12.Partner Involvement'!$D933*'12.Partner Involvement'!$E933)/COUNTA(_xlfn.TEXTSPLIT('12.Partner Involvement'!$H933,\";\"))),\"\")","v":""}]
[{"$f":"IF(ISNUMBER(SEARCH(A$206,'12.Partner Involvement'!$G934))=TRUE,(('12.Partner Involvement'!$D934*'12.Partner Involvement'!$E934)/COUNTA(_xlfn.TEXTSPLIT('12.Partner Involvement'!$G934,\";\"))),\"\")","v":""},{"$f":"IF(ISNUMBER(SEARCH(B$206,'12.Partner Involvement'!$G934))=TRUE,(('12.Partner Involvement'!$D934*'12.Partner Involvement'!$E934)/COUNTA(_xlfn.TEXTSPLIT('12.Partner Involvement'!$G934,\";\"))),\"\")","v":""},{"$f":"IF(ISNUMBER(SEARCH(C$206,'12.Partner Involvement'!$G934))=TRUE,(('12.Partner Involvement'!$D934*'12.Partner Involvement'!$E934)/COUNTA(_xlfn.TEXTSPLIT('12.Partner Involvement'!$G934,\";\"))),\"\")","v":""},null,{"$f":"IF(ISNUMBER(SEARCH(E$206,'12.Partner Involvement'!$H934))=TRUE,(('12.Partner Involvement'!$D934*'12.Partner Involvement'!$E934)/COUNTA(_xlfn.TEXTSPLIT('12.Partner Involvement'!$H934,\";\"))),\"\")","v":""},{"$f":"IF(ISNUMBER(SEARCH(F$206,'12.Partner Involvement'!$H934))=TRUE,(('12.Partner Involvement'!$D934*'12.Partner Involvement'!$E934)/COUNTA(_xlfn.TEXTSPLIT('12.Partner Involvement'!$H934,\";\"))),\"\")","v":""},{"$f":"IF(ISNUMBER(SEARCH(G$206,'12.Partner Involvement'!$H934))=TRUE,(('12.Partner Involvement'!$D934*'12.Partner Involvement'!$E934)/COUNTA(_xlfn.TEXTSPLIT('12.Partner Involvement'!$H934,\";\"))),\"\")","v":""},{"$f":"IF(ISNUMBER(SEARCH(H$206,'12.Partner Involvement'!$H934))=TRUE,(('12.Partner Involvement'!$D934*'12.Partner Involvement'!$E934)/COUNTA(_xlfn.TEXTSPLIT('12.Partner Involvement'!$H934,\";\"))),\"\")","v":""}]
[{"$f":"IF(ISNUMBER(SEARCH(A$206,'12.Partner Involvement'!$G935))=TRUE,(('12.Partner Involvement'!$D935*'12.Partner Involvement'!$E935)/COUNTA(_xlfn.TEXTSPLIT('12.Partner Involvement'!$G935,\";\"))),\"\")","v":""},{"$f":"IF(ISNUMBER(SEARCH(B$206,'12.Partner Involvement'!$G935))=TRUE,(('12.Partner Involvement'!$D935*'12.Partner Involvement'!$E935)/COUNTA(_xlfn.TEXTSPLIT('12.Partner Involvement'!$G935,\";\"))),\"\")","v":""},{"$f":"IF(ISNUMBER(SEARCH(C$206,'12.Partner Involvement'!$G935))=TRUE,(('12.Partner Involvement'!$D935*'12.Partner Involvement'!$E935)/COUNTA(_xlfn.TEXTSPLIT('12.Partner Involvement'!$G935,\";\"))),\"\")","v":""},null,{"$f":"IF(ISNUMBER(SEARCH(E$206,'12.Partner Involvement'!$H935))=TRUE,(('12.Partner Involvement'!$D935*'12.Partner Involvement'!$E935)/COUNTA(_xlfn.TEXTSPLIT('12.Partner Involvement'!$H935,\";\"))),\"\")","v":""},{"$f":"IF(ISNUMBER(SEARCH(F$206,'12.Partner Involvement'!$H935))=TRUE,(('12.Partner Involvement'!$D935*'12.Partner Involvement'!$E935)/COUNTA(_xlfn.TEXTSPLIT('12.Partner Involvement'!$H935,\";\"))),\"\")","v":""},{"$f":"IF(ISNUMBER(SEARCH(G$206,'12.Partner Involvement'!$H935))=TRUE,(('12.Partner Involvement'!$D935*'12.Partner Involvement'!$E935)/COUNTA(_xlfn.TEXTSPLIT('12.Partner Involvement'!$H935,\";\"))),\"\")","v":""},{"$f":"IF(ISNUMBER(SEARCH(H$206,'12.Partner Involvement'!$H935))=TRUE,(('12.Partner Involvement'!$D935*'12.Partner Involvement'!$E935)/COUNTA(_xlfn.TEXTSPLIT('12.Partner Involvement'!$H935,\";\"))),\"\")","v":""}]
[{"$f":"IF(ISNUMBER(SEARCH(A$206,'12.Partner Involvement'!$G936))=TRUE,(('12.Partner Involvement'!$D936*'12.Partner Involvement'!$E936)/COUNTA(_xlfn.TEXTSPLIT('12.Partner Involvement'!$G936,\";\"))),\"\")","v":""},{"$f":"IF(ISNUMBER(SEARCH(B$206,'12.Partner Involvement'!$G936))=TRUE,(('12.Partner Involvement'!$D936*'12.Partner Involvement'!$E936)/COUNTA(_xlfn.TEXTSPLIT('12.Partner Involvement'!$G936,\";\"))),\"\")","v":""},{"$f":"IF(ISNUMBER(SEARCH(C$206,'12.Partner Involvement'!$G936))=TRUE,(('12.Partner Involvement'!$D936*'12.Partner Involvement'!$E936)/COUNTA(_xlfn.TEXTSPLIT('12.Partner Involvement'!$G936,\";\"))),\"\")","v":""},null,{"$f":"IF(ISNUMBER(SEARCH(E$206,'12.Partner Involvement'!$H936))=TRUE,(('12.Partner Involvement'!$D936*'12.Partner Involvement'!$E936)/COUNTA(_xlfn.TEXTSPLIT('12.Partner Involvement'!$H936,\";\"))),\"\")","v":""},{"$f":"IF(ISNUMBER(SEARCH(F$206,'12.Partner Involvement'!$H936))=TRUE,(('12.Partner Involvement'!$D936*'12.Partner Involvement'!$E936)/COUNTA(_xlfn.TEXTSPLIT('12.Partner Involvement'!$H936,\";\"))),\"\")","v":""},{"$f":"IF(ISNUMBER(SEARCH(G$206,'12.Partner Involvement'!$H936))=TRUE,(('12.Partner Involvement'!$D936*'12.Partner Involvement'!$E936)/COUNTA(_xlfn.TEXTSPLIT('12.Partner Involvement'!$H936,\";\"))),\"\")","v":""},{"$f":"IF(ISNUMBER(SEARCH(H$206,'12.Partner Involvement'!$H936))=TRUE,(('12.Partner Involvement'!$D936*'12.Partner Involvement'!$E936)/COUNTA(_xlfn.TEXTSPLIT('12.Partner Involvement'!$H936,\";\"))),\"\")","v":""}]
[{"$f":"IF(ISNUMBER(SEARCH(A$206,'12.Partner Involvement'!$G937))=TRUE,(('12.Partner Involvement'!$D937*'12.Partner Involvement'!$E937)/COUNTA(_xlfn.TEXTSPLIT('12.Partner Involvement'!$G937,\";\"))),\"\")","v":""},{"$f":"IF(ISNUMBER(SEARCH(B$206,'12.Partner Involvement'!$G937))=TRUE,(('12.Partner Involvement'!$D937*'12.Partner Involvement'!$E937)/COUNTA(_xlfn.TEXTSPLIT('12.Partner Involvement'!$G937,\";\"))),\"\")","v":""},{"$f":"IF(ISNUMBER(SEARCH(C$206,'12.Partner Involvement'!$G937))=TRUE,(('12.Partner Involvement'!$D937*'12.Partner Involvement'!$E937)/COUNTA(_xlfn.TEXTSPLIT('12.Partner Involvement'!$G937,\";\"))),\"\")","v":""},null,{"$f":"IF(ISNUMBER(SEARCH(E$206,'12.Partner Involvement'!$H937))=TRUE,(('12.Partner Involvement'!$D937*'12.Partner Involvement'!$E937)/COUNTA(_xlfn.TEXTSPLIT('12.Partner Involvement'!$H937,\";\"))),\"\")","v":""},{"$f":"IF(ISNUMBER(SEARCH(F$206,'12.Partner Involvement'!$H937))=TRUE,(('12.Partner Involvement'!$D937*'12.Partner Involvement'!$E937)/COUNTA(_xlfn.TEXTSPLIT('12.Partner Involvement'!$H937,\";\"))),\"\")","v":""},{"$f":"IF(ISNUMBER(SEARCH(G$206,'12.Partner Involvement'!$H937))=TRUE,(('12.Partner Involvement'!$D937*'12.Partner Involvement'!$E937)/COUNTA(_xlfn.TEXTSPLIT('12.Partner Involvement'!$H937,\";\"))),\"\")","v":""},{"$f":"IF(ISNUMBER(SEARCH(H$206,'12.Partner Involvement'!$H937))=TRUE,(('12.Partner Involvement'!$D937*'12.Partner Involvement'!$E937)/COUNTA(_xlfn.TEXTSPLIT('12.Partner Involvement'!$H937,\";\"))),\"\")","v":""}]
[{"$f":"IF(ISNUMBER(SEARCH(A$206,'12.Partner Involvement'!$G938))=TRUE,(('12.Partner Involvement'!$D938*'12.Partner Involvement'!$E938)/COUNTA(_xlfn.TEXTSPLIT('12.Partner Involvement'!$G938,\";\"))),\"\")","v":""},{"$f":"IF(ISNUMBER(SEARCH(B$206,'12.Partner Involvement'!$G938))=TRUE,(('12.Partner Involvement'!$D938*'12.Partner Involvement'!$E938)/COUNTA(_xlfn.TEXTSPLIT('12.Partner Involvement'!$G938,\";\"))),\"\")","v":""},{"$f":"IF(ISNUMBER(SEARCH(C$206,'12.Partner Involvement'!$G938))=TRUE,(('12.Partner Involvement'!$D938*'12.Partner Involvement'!$E938)/COUNTA(_xlfn.TEXTSPLIT('12.Partner Involvement'!$G938,\";\"))),\"\")","v":""},null,{"$f":"IF(ISNUMBER(SEARCH(E$206,'12.Partner Involvement'!$H938))=TRUE,(('12.Partner Involvement'!$D938*'12.Partner Involvement'!$E938)/COUNTA(_xlfn.TEXTSPLIT('12.Partner Involvement'!$H938,\";\"))),\"\")","v":""},{"$f":"IF(ISNUMBER(SEARCH(F$206,'12.Partner Involvement'!$H938))=TRUE,(('12.Partner Involvement'!$D938*'12.Partner Involvement'!$E938)/COUNTA(_xlfn.TEXTSPLIT('12.Partner Involvement'!$H938,\";\"))),\"\")","v":""},{"$f":"IF(ISNUMBER(SEARCH(G$206,'12.Partner Involvement'!$H938))=TRUE,(('12.Partner Involvement'!$D938*'12.Partner Involvement'!$E938)/COUNTA(_xlfn.TEXTSPLIT('12.Partner Involvement'!$H938,\";\"))),\"\")","v":""},{"$f":"IF(ISNUMBER(SEARCH(H$206,'12.Partner Involvement'!$H938))=TRUE,(('12.Partner Involvement'!$D938*'12.Partner Involvement'!$E938)/COUNTA(_xlfn.TEXTSPLIT('12.Partner Involvement'!$H938,\";\"))),\"\")","v":""}]
[{"$f":"IF(ISNUMBER(SEARCH(A$206,'12.Partner Involvement'!$G939))=TRUE,(('12.Partner Involvement'!$D939*'12.Partner Involvement'!$E939)/COUNTA(_xlfn.TEXTSPLIT('12.Partner Involvement'!$G939,\";\"))),\"\")","v":""},{"$f":"IF(ISNUMBER(SEARCH(B$206,'12.Partner Involvement'!$G939))=TRUE,(('12.Partner Involvement'!$D939*'12.Partner Involvement'!$E939)/COUNTA(_xlfn.TEXTSPLIT('12.Partner Involvement'!$G939,\";\"))),\"\")","v":""},{"$f":"IF(ISNUMBER(SEARCH(C$206,'12.Partner Involvement'!$G939))=TRUE,(('12.Partner Involvement'!$D939*'12.Partner Involvement'!$E939)/COUNTA(_xlfn.TEXTSPLIT('12.Partner Involvement'!$G939,\";\"))),\"\")","v":""},null,{"$f":"IF(ISNUMBER(SEARCH(E$206,'12.Partner Involvement'!$H939))=TRUE,(('12.Partner Involvement'!$D939*'12.Partner Involvement'!$E939)/COUNTA(_xlfn.TEXTSPLIT('12.Partner Involvement'!$H939,\";\"))),\"\")","v":""},{"$f":"IF(ISNUMBER(SEARCH(F$206,'12.Partner Involvement'!$H939))=TRUE,(('12.Partner Involvement'!$D939*'12.Partner Involvement'!$E939)/COUNTA(_xlfn.TEXTSPLIT('12.Partner Involvement'!$H939,\";\"))),\"\")","v":""},{"$f":"IF(ISNUMBER(SEARCH(G$206,'12.Partner Involvement'!$H939))=TRUE,(('12.Partner Involvement'!$D939*'12.Partner Involvement'!$E939)/COUNTA(_xlfn.TEXTSPLIT('12.Partner Involvement'!$H939,\";\"))),\"\")","v":""},{"$f":"IF(ISNUMBER(SEARCH(H$206,'12.Partner Involvement'!$H939))=TRUE,(('12.Partner Involvement'!$D939*'12.Partner Involvement'!$E939)/COUNTA(_xlfn.TEXTSPLIT('12.Partner Involvement'!$H939,\";\"))),\"\")","v":""}]
[{"$f":"IF(ISNUMBER(SEARCH(A$206,'12.Partner Involvement'!$G940))=TRUE,(('12.Partner Involvement'!$D940*'12.Partner Involvement'!$E940)/COUNTA(_xlfn.TEXTSPLIT('12.Partner Involvement'!$G940,\";\"))),\"\")","v":""},{"$f":"IF(ISNUMBER(SEARCH(B$206,'12.Partner Involvement'!$G940))=TRUE,(('12.Partner Involvement'!$D940*'12.Partner Involvement'!$E940)/COUNTA(_xlfn.TEXTSPLIT('12.Partner Involvement'!$G940,\";\"))),\"\")","v":""},{"$f":"IF(ISNUMBER(SEARCH(C$206,'12.Partner Involvement'!$G940))=TRUE,(('12.Partner Involvement'!$D940*'12.Partner Involvement'!$E940)/COUNTA(_xlfn.TEXTSPLIT('12.Partner Involvement'!$G940,\";\"))),\"\")","v":""},null,{"$f":"IF(ISNUMBER(SEARCH(E$206,'12.Partner Involvement'!$H940))=TRUE,(('12.Partner Involvement'!$D940*'12.Partner Involvement'!$E940)/COUNTA(_xlfn.TEXTSPLIT('12.Partner Involvement'!$H940,\";\"))),\"\")","v":""},{"$f":"IF(ISNUMBER(SEARCH(F$206,'12.Partner Involvement'!$H940))=TRUE,(('12.Partner Involvement'!$D940*'12.Partner Involvement'!$E940)/COUNTA(_xlfn.TEXTSPLIT('12.Partner Involvement'!$H940,\";\"))),\"\")","v":""},{"$f":"IF(ISNUMBER(SEARCH(G$206,'12.Partner Involvement'!$H940))=TRUE,(('12.Partner Involvement'!$D940*'12.Partner Involvement'!$E940)/COUNTA(_xlfn.TEXTSPLIT('12.Partner Involvement'!$H940,\";\"))),\"\")","v":""},{"$f":"IF(ISNUMBER(SEARCH(H$206,'12.Partner Involvement'!$H940))=TRUE,(('12.Partner Involvement'!$D940*'12.Partner Involvement'!$E940)/COUNTA(_xlfn.TEXTSPLIT('12.Partner Involvement'!$H940,\";\"))),\"\")","v":""}]
[{"$f":"IF(ISNUMBER(SEARCH(A$206,'12.Partner Involvement'!$G941))=TRUE,(('12.Partner Involvement'!$D941*'12.Partner Involvement'!$E941)/COUNTA(_xlfn.TEXTSPLIT('12.Partner Involvement'!$G941,\";\"))),\"\")","v":""},{"$f":"IF(ISNUMBER(SEARCH(B$206,'12.Partner Involvement'!$G941))=TRUE,(('12.Partner Involvement'!$D941*'12.Partner Involvement'!$E941)/COUNTA(_xlfn.TEXTSPLIT('12.Partner Involvement'!$G941,\";\"))),\"\")","v":""},{"$f":"IF(ISNUMBER(SEARCH(C$206,'12.Partner Involvement'!$G941))=TRUE,(('12.Partner Involvement'!$D941*'12.Partner Involvement'!$E941)/COUNTA(_xlfn.TEXTSPLIT('12.Partner Involvement'!$G941,\";\"))),\"\")","v":""},null,{"$f":"IF(ISNUMBER(SEARCH(E$206,'12.Partner Involvement'!$H941))=TRUE,(('12.Partner Involvement'!$D941*'12.Partner Involvement'!$E941)/COUNTA(_xlfn.TEXTSPLIT('12.Partner Involvement'!$H941,\";\"))),\"\")","v":""},{"$f":"IF(ISNUMBER(SEARCH(F$206,'12.Partner Involvement'!$H941))=TRUE,(('12.Partner Involvement'!$D941*'12.Partner Involvement'!$E941)/COUNTA(_xlfn.TEXTSPLIT('12.Partner Involvement'!$H941,\";\"))),\"\")","v":""},{"$f":"IF(ISNUMBER(SEARCH(G$206,'12.Partner Involvement'!$H941))=TRUE,(('12.Partner Involvement'!$D941*'12.Partner Involvement'!$E941)/COUNTA(_xlfn.TEXTSPLIT('12.Partner Involvement'!$H941,\";\"))),\"\")","v":""},{"$f":"IF(ISNUMBER(SEARCH(H$206,'12.Partner Involvement'!$H941))=TRUE,(('12.Partner Involvement'!$D941*'12.Partner Involvement'!$E941)/COUNTA(_xlfn.TEXTSPLIT('12.Partner Involvement'!$H941,\";\"))),\"\")","v":""}]
[{"$f":"IF(ISNUMBER(SEARCH(A$206,'12.Partner Involvement'!$G942))=TRUE,(('12.Partner Involvement'!$D942*'12.Partner Involvement'!$E942)/COUNTA(_xlfn.TEXTSPLIT('12.Partner Involvement'!$G942,\";\"))),\"\")","v":""},{"$f":"IF(ISNUMBER(SEARCH(B$206,'12.Partner Involvement'!$G942))=TRUE,(('12.Partner Involvement'!$D942*'12.Partner Involvement'!$E942)/COUNTA(_xlfn.TEXTSPLIT('12.Partner Involvement'!$G942,\";\"))),\"\")","v":""},{"$f":"IF(ISNUMBER(SEARCH(C$206,'12.Partner Involvement'!$G942))=TRUE,(('12.Partner Involvement'!$D942*'12.Partner Involvement'!$E942)/COUNTA(_xlfn.TEXTSPLIT('12.Partner Involvement'!$G942,\";\"))),\"\")","v":""},null,{"$f":"IF(ISNUMBER(SEARCH(E$206,'12.Partner Involvement'!$H942))=TRUE,(('12.Partner Involvement'!$D942*'12.Partner Involvement'!$E942)/COUNTA(_xlfn.TEXTSPLIT('12.Partner Involvement'!$H942,\";\"))),\"\")","v":""},{"$f":"IF(ISNUMBER(SEARCH(F$206,'12.Partner Involvement'!$H942))=TRUE,(('12.Partner Involvement'!$D942*'12.Partner Involvement'!$E942)/COUNTA(_xlfn.TEXTSPLIT('12.Partner Involvement'!$H942,\";\"))),\"\")","v":""},{"$f":"IF(ISNUMBER(SEARCH(G$206,'12.Partner Involvement'!$H942))=TRUE,(('12.Partner Involvement'!$D942*'12.Partner Involvement'!$E942)/COUNTA(_xlfn.TEXTSPLIT('12.Partner Involvement'!$H942,\";\"))),\"\")","v":""},{"$f":"IF(ISNUMBER(SEARCH(H$206,'12.Partner Involvement'!$H942))=TRUE,(('12.Partner Involvement'!$D942*'12.Partner Involvement'!$E942)/COUNTA(_xlfn.TEXTSPLIT('12.Partner Involvement'!$H942,\";\"))),\"\")","v":""}]
[{"$f":"IF(ISNUMBER(SEARCH(A$206,'12.Partner Involvement'!$G943))=TRUE,(('12.Partner Involvement'!$D943*'12.Partner Involvement'!$E943)/COUNTA(_xlfn.TEXTSPLIT('12.Partner Involvement'!$G943,\";\"))),\"\")","v":""},{"$f":"IF(ISNUMBER(SEARCH(B$206,'12.Partner Involvement'!$G943))=TRUE,(('12.Partner Involvement'!$D943*'12.Partner Involvement'!$E943)/COUNTA(_xlfn.TEXTSPLIT('12.Partner Involvement'!$G943,\";\"))),\"\")","v":""},{"$f":"IF(ISNUMBER(SEARCH(C$206,'12.Partner Involvement'!$G943))=TRUE,(('12.Partner Involvement'!$D943*'12.Partner Involvement'!$E943)/COUNTA(_xlfn.TEXTSPLIT('12.Partner Involvement'!$G943,\";\"))),\"\")","v":""},null,{"$f":"IF(ISNUMBER(SEARCH(E$206,'12.Partner Involvement'!$H943))=TRUE,(('12.Partner Involvement'!$D943*'12.Partner Involvement'!$E943)/COUNTA(_xlfn.TEXTSPLIT('12.Partner Involvement'!$H943,\";\"))),\"\")","v":""},{"$f":"IF(ISNUMBER(SEARCH(F$206,'12.Partner Involvement'!$H943))=TRUE,(('12.Partner Involvement'!$D943*'12.Partner Involvement'!$E943)/COUNTA(_xlfn.TEXTSPLIT('12.Partner Involvement'!$H943,\";\"))),\"\")","v":""},{"$f":"IF(ISNUMBER(SEARCH(G$206,'12.Partner Involvement'!$H943))=TRUE,(('12.Partner Involvement'!$D943*'12.Partner Involvement'!$E943)/COUNTA(_xlfn.TEXTSPLIT('12.Partner Involvement'!$H943,\";\"))),\"\")","v":""},{"$f":"IF(ISNUMBER(SEARCH(H$206,'12.Partner Involvement'!$H943))=TRUE,(('12.Partner Involvement'!$D943*'12.Partner Involvement'!$E943)/COUNTA(_xlfn.TEXTSPLIT('12.Partner Involvement'!$H943,\";\"))),\"\")","v":""}]
[{"$f":"IF(ISNUMBER(SEARCH(A$206,'12.Partner Involvement'!$G944))=TRUE,(('12.Partner Involvement'!$D944*'12.Partner Involvement'!$E944)/COUNTA(_xlfn.TEXTSPLIT('12.Partner Involvement'!$G944,\";\"))),\"\")","v":""},{"$f":"IF(ISNUMBER(SEARCH(B$206,'12.Partner Involvement'!$G944))=TRUE,(('12.Partner Involvement'!$D944*'12.Partner Involvement'!$E944)/COUNTA(_xlfn.TEXTSPLIT('12.Partner Involvement'!$G944,\";\"))),\"\")","v":""},{"$f":"IF(ISNUMBER(SEARCH(C$206,'12.Partner Involvement'!$G944))=TRUE,(('12.Partner Involvement'!$D944*'12.Partner Involvement'!$E944)/COUNTA(_xlfn.TEXTSPLIT('12.Partner Involvement'!$G944,\";\"))),\"\")","v":""},null,{"$f":"IF(ISNUMBER(SEARCH(E$206,'12.Partner Involvement'!$H944))=TRUE,(('12.Partner Involvement'!$D944*'12.Partner Involvement'!$E944)/COUNTA(_xlfn.TEXTSPLIT('12.Partner Involvement'!$H944,\";\"))),\"\")","v":""},{"$f":"IF(ISNUMBER(SEARCH(F$206,'12.Partner Involvement'!$H944))=TRUE,(('12.Partner Involvement'!$D944*'12.Partner Involvement'!$E944)/COUNTA(_xlfn.TEXTSPLIT('12.Partner Involvement'!$H944,\";\"))),\"\")","v":""},{"$f":"IF(ISNUMBER(SEARCH(G$206,'12.Partner Involvement'!$H944))=TRUE,(('12.Partner Involvement'!$D944*'12.Partner Involvement'!$E944)/COUNTA(_xlfn.TEXTSPLIT('12.Partner Involvement'!$H944,\";\"))),\"\")","v":""},{"$f":"IF(ISNUMBER(SEARCH(H$206,'12.Partner Involvement'!$H944))=TRUE,(('12.Partner Involvement'!$D944*'12.Partner Involvement'!$E944)/COUNTA(_xlfn.TEXTSPLIT('12.Partner Involvement'!$H944,\";\"))),\"\")","v":""}]
[{"$f":"IF(ISNUMBER(SEARCH(A$206,'12.Partner Involvement'!$G945))=TRUE,(('12.Partner Involvement'!$D945*'12.Partner Involvement'!$E945)/COUNTA(_xlfn.TEXTSPLIT('12.Partner Involvement'!$G945,\";\"))),\"\")","v":""},{"$f":"IF(ISNUMBER(SEARCH(B$206,'12.Partner Involvement'!$G945))=TRUE,(('12.Partner Involvement'!$D945*'12.Partner Involvement'!$E945)/COUNTA(_xlfn.TEXTSPLIT('12.Partner Involvement'!$G945,\";\"))),\"\")","v":""},{"$f":"IF(ISNUMBER(SEARCH(C$206,'12.Partner Involvement'!$G945))=TRUE,(('12.Partner Involvement'!$D945*'12.Partner Involvement'!$E945)/COUNTA(_xlfn.TEXTSPLIT('12.Partner Involvement'!$G945,\";\"))),\"\")","v":""},null,{"$f":"IF(ISNUMBER(SEARCH(E$206,'12.Partner Involvement'!$H945))=TRUE,(('12.Partner Involvement'!$D945*'12.Partner Involvement'!$E945)/COUNTA(_xlfn.TEXTSPLIT('12.Partner Involvement'!$H945,\";\"))),\"\")","v":""},{"$f":"IF(ISNUMBER(SEARCH(F$206,'12.Partner Involvement'!$H945))=TRUE,(('12.Partner Involvement'!$D945*'12.Partner Involvement'!$E945)/COUNTA(_xlfn.TEXTSPLIT('12.Partner Involvement'!$H945,\";\"))),\"\")","v":""},{"$f":"IF(ISNUMBER(SEARCH(G$206,'12.Partner Involvement'!$H945))=TRUE,(('12.Partner Involvement'!$D945*'12.Partner Involvement'!$E945)/COUNTA(_xlfn.TEXTSPLIT('12.Partner Involvement'!$H945,\";\"))),\"\")","v":""},{"$f":"IF(ISNUMBER(SEARCH(H$206,'12.Partner Involvement'!$H945))=TRUE,(('12.Partner Involvement'!$D945*'12.Partner Involvement'!$E945)/COUNTA(_xlfn.TEXTSPLIT('12.Partner Involvement'!$H945,\";\"))),\"\")","v":""}]
[{"$f":"IF(ISNUMBER(SEARCH(A$206,'12.Partner Involvement'!$G946))=TRUE,(('12.Partner Involvement'!$D946*'12.Partner Involvement'!$E946)/COUNTA(_xlfn.TEXTSPLIT('12.Partner Involvement'!$G946,\";\"))),\"\")","v":""},{"$f":"IF(ISNUMBER(SEARCH(B$206,'12.Partner Involvement'!$G946))=TRUE,(('12.Partner Involvement'!$D946*'12.Partner Involvement'!$E946)/COUNTA(_xlfn.TEXTSPLIT('12.Partner Involvement'!$G946,\";\"))),\"\")","v":""},{"$f":"IF(ISNUMBER(SEARCH(C$206,'12.Partner Involvement'!$G946))=TRUE,(('12.Partner Involvement'!$D946*'12.Partner Involvement'!$E946)/COUNTA(_xlfn.TEXTSPLIT('12.Partner Involvement'!$G946,\";\"))),\"\")","v":""},null,{"$f":"IF(ISNUMBER(SEARCH(E$206,'12.Partner Involvement'!$H946))=TRUE,(('12.Partner Involvement'!$D946*'12.Partner Involvement'!$E946)/COUNTA(_xlfn.TEXTSPLIT('12.Partner Involvement'!$H946,\";\"))),\"\")","v":""},{"$f":"IF(ISNUMBER(SEARCH(F$206,'12.Partner Involvement'!$H946))=TRUE,(('12.Partner Involvement'!$D946*'12.Partner Involvement'!$E946)/COUNTA(_xlfn.TEXTSPLIT('12.Partner Involvement'!$H946,\";\"))),\"\")","v":""},{"$f":"IF(ISNUMBER(SEARCH(G$206,'12.Partner Involvement'!$H946))=TRUE,(('12.Partner Involvement'!$D946*'12.Partner Involvement'!$E946)/COUNTA(_xlfn.TEXTSPLIT('12.Partner Involvement'!$H946,\";\"))),\"\")","v":""},{"$f":"IF(ISNUMBER(SEARCH(H$206,'12.Partner Involvement'!$H946))=TRUE,(('12.Partner Involvement'!$D946*'12.Partner Involvement'!$E946)/COUNTA(_xlfn.TEXTSPLIT('12.Partner Involvement'!$H946,\";\"))),\"\")","v":""}]
[{"$f":"IF(ISNUMBER(SEARCH(A$206,'12.Partner Involvement'!$G947))=TRUE,(('12.Partner Involvement'!$D947*'12.Partner Involvement'!$E947)/COUNTA(_xlfn.TEXTSPLIT('12.Partner Involvement'!$G947,\";\"))),\"\")","v":""},{"$f":"IF(ISNUMBER(SEARCH(B$206,'12.Partner Involvement'!$G947))=TRUE,(('12.Partner Involvement'!$D947*'12.Partner Involvement'!$E947)/COUNTA(_xlfn.TEXTSPLIT('12.Partner Involvement'!$G947,\";\"))),\"\")","v":""},{"$f":"IF(ISNUMBER(SEARCH(C$206,'12.Partner Involvement'!$G947))=TRUE,(('12.Partner Involvement'!$D947*'12.Partner Involvement'!$E947)/COUNTA(_xlfn.TEXTSPLIT('12.Partner Involvement'!$G947,\";\"))),\"\")","v":""},null,{"$f":"IF(ISNUMBER(SEARCH(E$206,'12.Partner Involvement'!$H947))=TRUE,(('12.Partner Involvement'!$D947*'12.Partner Involvement'!$E947)/COUNTA(_xlfn.TEXTSPLIT('12.Partner Involvement'!$H947,\";\"))),\"\")","v":""},{"$f":"IF(ISNUMBER(SEARCH(F$206,'12.Partner Involvement'!$H947))=TRUE,(('12.Partner Involvement'!$D947*'12.Partner Involvement'!$E947)/COUNTA(_xlfn.TEXTSPLIT('12.Partner Involvement'!$H947,\";\"))),\"\")","v":""},{"$f":"IF(ISNUMBER(SEARCH(G$206,'12.Partner Involvement'!$H947))=TRUE,(('12.Partner Involvement'!$D947*'12.Partner Involvement'!$E947)/COUNTA(_xlfn.TEXTSPLIT('12.Partner Involvement'!$H947,\";\"))),\"\")","v":""},{"$f":"IF(ISNUMBER(SEARCH(H$206,'12.Partner Involvement'!$H947))=TRUE,(('12.Partner Involvement'!$D947*'12.Partner Involvement'!$E947)/COUNTA(_xlfn.TEXTSPLIT('12.Partner Involvement'!$H947,\";\"))),\"\")","v":""}]
[{"$f":"IF(ISNUMBER(SEARCH(A$206,'12.Partner Involvement'!$G948))=TRUE,(('12.Partner Involvement'!$D948*'12.Partner Involvement'!$E948)/COUNTA(_xlfn.TEXTSPLIT('12.Partner Involvement'!$G948,\";\"))),\"\")","v":""},{"$f":"IF(ISNUMBER(SEARCH(B$206,'12.Partner Involvement'!$G948))=TRUE,(('12.Partner Involvement'!$D948*'12.Partner Involvement'!$E948)/COUNTA(_xlfn.TEXTSPLIT('12.Partner Involvement'!$G948,\";\"))),\"\")","v":""},{"$f":"IF(ISNUMBER(SEARCH(C$206,'12.Partner Involvement'!$G948))=TRUE,(('12.Partner Involvement'!$D948*'12.Partner Involvement'!$E948)/COUNTA(_xlfn.TEXTSPLIT('12.Partner Involvement'!$G948,\";\"))),\"\")","v":""},null,{"$f":"IF(ISNUMBER(SEARCH(E$206,'12.Partner Involvement'!$H948))=TRUE,(('12.Partner Involvement'!$D948*'12.Partner Involvement'!$E948)/COUNTA(_xlfn.TEXTSPLIT('12.Partner Involvement'!$H948,\";\"))),\"\")","v":""},{"$f":"IF(ISNUMBER(SEARCH(F$206,'12.Partner Involvement'!$H948))=TRUE,(('12.Partner Involvement'!$D948*'12.Partner Involvement'!$E948)/COUNTA(_xlfn.TEXTSPLIT('12.Partner Involvement'!$H948,\";\"))),\"\")","v":""},{"$f":"IF(ISNUMBER(SEARCH(G$206,'12.Partner Involvement'!$H948))=TRUE,(('12.Partner Involvement'!$D948*'12.Partner Involvement'!$E948)/COUNTA(_xlfn.TEXTSPLIT('12.Partner Involvement'!$H948,\";\"))),\"\")","v":""},{"$f":"IF(ISNUMBER(SEARCH(H$206,'12.Partner Involvement'!$H948))=TRUE,(('12.Partner Involvement'!$D948*'12.Partner Involvement'!$E948)/COUNTA(_xlfn.TEXTSPLIT('12.Partner Involvement'!$H948,\";\"))),\"\")","v":""}]
[{"$f":"IF(ISNUMBER(SEARCH(A$206,'12.Partner Involvement'!$G949))=TRUE,(('12.Partner Involvement'!$D949*'12.Partner Involvement'!$E949)/COUNTA(_xlfn.TEXTSPLIT('12.Partner Involvement'!$G949,\";\"))),\"\")","v":""},{"$f":"IF(ISNUMBER(SEARCH(B$206,'12.Partner Involvement'!$G949))=TRUE,(('12.Partner Involvement'!$D949*'12.Partner Involvement'!$E949)/COUNTA(_xlfn.TEXTSPLIT('12.Partner Involvement'!$G949,\";\"))),\"\")","v":""},{"$f":"IF(ISNUMBER(SEARCH(C$206,'12.Partner Involvement'!$G949))=TRUE,(('12.Partner Involvement'!$D949*'12.Partner Involvement'!$E949)/COUNTA(_xlfn.TEXTSPLIT('12.Partner Involvement'!$G949,\";\"))),\"\")","v":""},null,{"$f":"IF(ISNUMBER(SEARCH(E$206,'12.Partner Involvement'!$H949))=TRUE,(('12.Partner Involvement'!$D949*'12.Partner Involvement'!$E949)/COUNTA(_xlfn.TEXTSPLIT('12.Partner Involvement'!$H949,\";\"))),\"\")","v":""},{"$f":"IF(ISNUMBER(SEARCH(F$206,'12.Partner Involvement'!$H949))=TRUE,(('12.Partner Involvement'!$D949*'12.Partner Involvement'!$E949)/COUNTA(_xlfn.TEXTSPLIT('12.Partner Involvement'!$H949,\";\"))),\"\")","v":""},{"$f":"IF(ISNUMBER(SEARCH(G$206,'12.Partner Involvement'!$H949))=TRUE,(('12.Partner Involvement'!$D949*'12.Partner Involvement'!$E949)/COUNTA(_xlfn.TEXTSPLIT('12.Partner Involvement'!$H949,\";\"))),\"\")","v":""},{"$f":"IF(ISNUMBER(SEARCH(H$206,'12.Partner Involvement'!$H949))=TRUE,(('12.Partner Involvement'!$D949*'12.Partner Involvement'!$E949)/COUNTA(_xlfn.TEXTSPLIT('12.Partner Involvement'!$H949,\";\"))),\"\")","v":""}]
[{"$f":"IF(ISNUMBER(SEARCH(A$206,'12.Partner Involvement'!$G950))=TRUE,(('12.Partner Involvement'!$D950*'12.Partner Involvement'!$E950)/COUNTA(_xlfn.TEXTSPLIT('12.Partner Involvement'!$G950,\";\"))),\"\")","v":""},{"$f":"IF(ISNUMBER(SEARCH(B$206,'12.Partner Involvement'!$G950))=TRUE,(('12.Partner Involvement'!$D950*'12.Partner Involvement'!$E950)/COUNTA(_xlfn.TEXTSPLIT('12.Partner Involvement'!$G950,\";\"))),\"\")","v":""},{"$f":"IF(ISNUMBER(SEARCH(C$206,'12.Partner Involvement'!$G950))=TRUE,(('12.Partner Involvement'!$D950*'12.Partner Involvement'!$E950)/COUNTA(_xlfn.TEXTSPLIT('12.Partner Involvement'!$G950,\";\"))),\"\")","v":""},null,{"$f":"IF(ISNUMBER(SEARCH(E$206,'12.Partner Involvement'!$H950))=TRUE,(('12.Partner Involvement'!$D950*'12.Partner Involvement'!$E950)/COUNTA(_xlfn.TEXTSPLIT('12.Partner Involvement'!$H950,\";\"))),\"\")","v":""},{"$f":"IF(ISNUMBER(SEARCH(F$206,'12.Partner Involvement'!$H950))=TRUE,(('12.Partner Involvement'!$D950*'12.Partner Involvement'!$E950)/COUNTA(_xlfn.TEXTSPLIT('12.Partner Involvement'!$H950,\";\"))),\"\")","v":""},{"$f":"IF(ISNUMBER(SEARCH(G$206,'12.Partner Involvement'!$H950))=TRUE,(('12.Partner Involvement'!$D950*'12.Partner Involvement'!$E950)/COUNTA(_xlfn.TEXTSPLIT('12.Partner Involvement'!$H950,\";\"))),\"\")","v":""},{"$f":"IF(ISNUMBER(SEARCH(H$206,'12.Partner Involvement'!$H950))=TRUE,(('12.Partner Involvement'!$D950*'12.Partner Involvement'!$E950)/COUNTA(_xlfn.TEXTSPLIT('12.Partner Involvement'!$H950,\";\"))),\"\")","v":""}]
[{"$f":"IF(ISNUMBER(SEARCH(A$206,'12.Partner Involvement'!$G951))=TRUE,(('12.Partner Involvement'!$D951*'12.Partner Involvement'!$E951)/COUNTA(_xlfn.TEXTSPLIT('12.Partner Involvement'!$G951,\";\"))),\"\")","v":""},{"$f":"IF(ISNUMBER(SEARCH(B$206,'12.Partner Involvement'!$G951))=TRUE,(('12.Partner Involvement'!$D951*'12.Partner Involvement'!$E951)/COUNTA(_xlfn.TEXTSPLIT('12.Partner Involvement'!$G951,\";\"))),\"\")","v":""},{"$f":"IF(ISNUMBER(SEARCH(C$206,'12.Partner Involvement'!$G951))=TRUE,(('12.Partner Involvement'!$D951*'12.Partner Involvement'!$E951)/COUNTA(_xlfn.TEXTSPLIT('12.Partner Involvement'!$G951,\";\"))),\"\")","v":""},null,{"$f":"IF(ISNUMBER(SEARCH(E$206,'12.Partner Involvement'!$H951))=TRUE,(('12.Partner Involvement'!$D951*'12.Partner Involvement'!$E951)/COUNTA(_xlfn.TEXTSPLIT('12.Partner Involvement'!$H951,\";\"))),\"\")","v":""},{"$f":"IF(ISNUMBER(SEARCH(F$206,'12.Partner Involvement'!$H951))=TRUE,(('12.Partner Involvement'!$D951*'12.Partner Involvement'!$E951)/COUNTA(_xlfn.TEXTSPLIT('12.Partner Involvement'!$H951,\";\"))),\"\")","v":""},{"$f":"IF(ISNUMBER(SEARCH(G$206,'12.Partner Involvement'!$H951))=TRUE,(('12.Partner Involvement'!$D951*'12.Partner Involvement'!$E951)/COUNTA(_xlfn.TEXTSPLIT('12.Partner Involvement'!$H951,\";\"))),\"\")","v":""},{"$f":"IF(ISNUMBER(SEARCH(H$206,'12.Partner Involvement'!$H951))=TRUE,(('12.Partner Involvement'!$D951*'12.Partner Involvement'!$E951)/COUNTA(_xlfn.TEXTSPLIT('12.Partner Involvement'!$H951,\";\"))),\"\")","v":""}]
[{"$f":"IF(ISNUMBER(SEARCH(A$206,'12.Partner Involvement'!$G952))=TRUE,(('12.Partner Involvement'!$D952*'12.Partner Involvement'!$E952)/COUNTA(_xlfn.TEXTSPLIT('12.Partner Involvement'!$G952,\";\"))),\"\")","v":""},{"$f":"IF(ISNUMBER(SEARCH(B$206,'12.Partner Involvement'!$G952))=TRUE,(('12.Partner Involvement'!$D952*'12.Partner Involvement'!$E952)/COUNTA(_xlfn.TEXTSPLIT('12.Partner Involvement'!$G952,\";\"))),\"\")","v":""},{"$f":"IF(ISNUMBER(SEARCH(C$206,'12.Partner Involvement'!$G952))=TRUE,(('12.Partner Involvement'!$D952*'12.Partner Involvement'!$E952)/COUNTA(_xlfn.TEXTSPLIT('12.Partner Involvement'!$G952,\";\"))),\"\")","v":""},null,{"$f":"IF(ISNUMBER(SEARCH(E$206,'12.Partner Involvement'!$H952))=TRUE,(('12.Partner Involvement'!$D952*'12.Partner Involvement'!$E952)/COUNTA(_xlfn.TEXTSPLIT('12.Partner Involvement'!$H952,\";\"))),\"\")","v":""},{"$f":"IF(ISNUMBER(SEARCH(F$206,'12.Partner Involvement'!$H952))=TRUE,(('12.Partner Involvement'!$D952*'12.Partner Involvement'!$E952)/COUNTA(_xlfn.TEXTSPLIT('12.Partner Involvement'!$H952,\";\"))),\"\")","v":""},{"$f":"IF(ISNUMBER(SEARCH(G$206,'12.Partner Involvement'!$H952))=TRUE,(('12.Partner Involvement'!$D952*'12.Partner Involvement'!$E952)/COUNTA(_xlfn.TEXTSPLIT('12.Partner Involvement'!$H952,\";\"))),\"\")","v":""},{"$f":"IF(ISNUMBER(SEARCH(H$206,'12.Partner Involvement'!$H952))=TRUE,(('12.Partner Involvement'!$D952*'12.Partner Involvement'!$E952)/COUNTA(_xlfn.TEXTSPLIT('12.Partner Involvement'!$H952,\";\"))),\"\")","v":""}]
[{"$f":"IF(ISNUMBER(SEARCH(A$206,'12.Partner Involvement'!$G953))=TRUE,(('12.Partner Involvement'!$D953*'12.Partner Involvement'!$E953)/COUNTA(_xlfn.TEXTSPLIT('12.Partner Involvement'!$G953,\";\"))),\"\")","v":""},{"$f":"IF(ISNUMBER(SEARCH(B$206,'12.Partner Involvement'!$G953))=TRUE,(('12.Partner Involvement'!$D953*'12.Partner Involvement'!$E953)/COUNTA(_xlfn.TEXTSPLIT('12.Partner Involvement'!$G953,\";\"))),\"\")","v":""},{"$f":"IF(ISNUMBER(SEARCH(C$206,'12.Partner Involvement'!$G953))=TRUE,(('12.Partner Involvement'!$D953*'12.Partner Involvement'!$E953)/COUNTA(_xlfn.TEXTSPLIT('12.Partner Involvement'!$G953,\";\"))),\"\")","v":""},null,{"$f":"IF(ISNUMBER(SEARCH(E$206,'12.Partner Involvement'!$H953))=TRUE,(('12.Partner Involvement'!$D953*'12.Partner Involvement'!$E953)/COUNTA(_xlfn.TEXTSPLIT('12.Partner Involvement'!$H953,\";\"))),\"\")","v":""},{"$f":"IF(ISNUMBER(SEARCH(F$206,'12.Partner Involvement'!$H953))=TRUE,(('12.Partner Involvement'!$D953*'12.Partner Involvement'!$E953)/COUNTA(_xlfn.TEXTSPLIT('12.Partner Involvement'!$H953,\";\"))),\"\")","v":""},{"$f":"IF(ISNUMBER(SEARCH(G$206,'12.Partner Involvement'!$H953))=TRUE,(('12.Partner Involvement'!$D953*'12.Partner Involvement'!$E953)/COUNTA(_xlfn.TEXTSPLIT('12.Partner Involvement'!$H953,\";\"))),\"\")","v":""},{"$f":"IF(ISNUMBER(SEARCH(H$206,'12.Partner Involvement'!$H953))=TRUE,(('12.Partner Involvement'!$D953*'12.Partner Involvement'!$E953)/COUNTA(_xlfn.TEXTSPLIT('12.Partner Involvement'!$H953,\";\"))),\"\")","v":""}]
[{"$f":"IF(ISNUMBER(SEARCH(A$206,'12.Partner Involvement'!$G954))=TRUE,(('12.Partner Involvement'!$D954*'12.Partner Involvement'!$E954)/COUNTA(_xlfn.TEXTSPLIT('12.Partner Involvement'!$G954,\";\"))),\"\")","v":""},{"$f":"IF(ISNUMBER(SEARCH(B$206,'12.Partner Involvement'!$G954))=TRUE,(('12.Partner Involvement'!$D954*'12.Partner Involvement'!$E954)/COUNTA(_xlfn.TEXTSPLIT('12.Partner Involvement'!$G954,\";\"))),\"\")","v":""},{"$f":"IF(ISNUMBER(SEARCH(C$206,'12.Partner Involvement'!$G954))=TRUE,(('12.Partner Involvement'!$D954*'12.Partner Involvement'!$E954)/COUNTA(_xlfn.TEXTSPLIT('12.Partner Involvement'!$G954,\";\"))),\"\")","v":""},null,{"$f":"IF(ISNUMBER(SEARCH(E$206,'12.Partner Involvement'!$H954))=TRUE,(('12.Partner Involvement'!$D954*'12.Partner Involvement'!$E954)/COUNTA(_xlfn.TEXTSPLIT('12.Partner Involvement'!$H954,\";\"))),\"\")","v":""},{"$f":"IF(ISNUMBER(SEARCH(F$206,'12.Partner Involvement'!$H954))=TRUE,(('12.Partner Involvement'!$D954*'12.Partner Involvement'!$E954)/COUNTA(_xlfn.TEXTSPLIT('12.Partner Involvement'!$H954,\";\"))),\"\")","v":""},{"$f":"IF(ISNUMBER(SEARCH(G$206,'12.Partner Involvement'!$H954))=TRUE,(('12.Partner Involvement'!$D954*'12.Partner Involvement'!$E954)/COUNTA(_xlfn.TEXTSPLIT('12.Partner Involvement'!$H954,\";\"))),\"\")","v":""},{"$f":"IF(ISNUMBER(SEARCH(H$206,'12.Partner Involvement'!$H954))=TRUE,(('12.Partner Involvement'!$D954*'12.Partner Involvement'!$E954)/COUNTA(_xlfn.TEXTSPLIT('12.Partner Involvement'!$H954,\";\"))),\"\")","v":""}]
[{"$f":"IF(ISNUMBER(SEARCH(A$206,'12.Partner Involvement'!$G955))=TRUE,(('12.Partner Involvement'!$D955*'12.Partner Involvement'!$E955)/COUNTA(_xlfn.TEXTSPLIT('12.Partner Involvement'!$G955,\";\"))),\"\")","v":""},{"$f":"IF(ISNUMBER(SEARCH(B$206,'12.Partner Involvement'!$G955))=TRUE,(('12.Partner Involvement'!$D955*'12.Partner Involvement'!$E955)/COUNTA(_xlfn.TEXTSPLIT('12.Partner Involvement'!$G955,\";\"))),\"\")","v":""},{"$f":"IF(ISNUMBER(SEARCH(C$206,'12.Partner Involvement'!$G955))=TRUE,(('12.Partner Involvement'!$D955*'12.Partner Involvement'!$E955)/COUNTA(_xlfn.TEXTSPLIT('12.Partner Involvement'!$G955,\";\"))),\"\")","v":""},null,{"$f":"IF(ISNUMBER(SEARCH(E$206,'12.Partner Involvement'!$H955))=TRUE,(('12.Partner Involvement'!$D955*'12.Partner Involvement'!$E955)/COUNTA(_xlfn.TEXTSPLIT('12.Partner Involvement'!$H955,\";\"))),\"\")","v":""},{"$f":"IF(ISNUMBER(SEARCH(F$206,'12.Partner Involvement'!$H955))=TRUE,(('12.Partner Involvement'!$D955*'12.Partner Involvement'!$E955)/COUNTA(_xlfn.TEXTSPLIT('12.Partner Involvement'!$H955,\";\"))),\"\")","v":""},{"$f":"IF(ISNUMBER(SEARCH(G$206,'12.Partner Involvement'!$H955))=TRUE,(('12.Partner Involvement'!$D955*'12.Partner Involvement'!$E955)/COUNTA(_xlfn.TEXTSPLIT('12.Partner Involvement'!$H955,\";\"))),\"\")","v":""},{"$f":"IF(ISNUMBER(SEARCH(H$206,'12.Partner Involvement'!$H955))=TRUE,(('12.Partner Involvement'!$D955*'12.Partner Involvement'!$E955)/COUNTA(_xlfn.TEXTSPLIT('12.Partner Involvement'!$H955,\";\"))),\"\")","v":""}]
[{"$f":"IF(ISNUMBER(SEARCH(A$206,'12.Partner Involvement'!$G956))=TRUE,(('12.Partner Involvement'!$D956*'12.Partner Involvement'!$E956)/COUNTA(_xlfn.TEXTSPLIT('12.Partner Involvement'!$G956,\";\"))),\"\")","v":""},{"$f":"IF(ISNUMBER(SEARCH(B$206,'12.Partner Involvement'!$G956))=TRUE,(('12.Partner Involvement'!$D956*'12.Partner Involvement'!$E956)/COUNTA(_xlfn.TEXTSPLIT('12.Partner Involvement'!$G956,\";\"))),\"\")","v":""},{"$f":"IF(ISNUMBER(SEARCH(C$206,'12.Partner Involvement'!$G956))=TRUE,(('12.Partner Involvement'!$D956*'12.Partner Involvement'!$E956)/COUNTA(_xlfn.TEXTSPLIT('12.Partner Involvement'!$G956,\";\"))),\"\")","v":""},null,{"$f":"IF(ISNUMBER(SEARCH(E$206,'12.Partner Involvement'!$H956))=TRUE,(('12.Partner Involvement'!$D956*'12.Partner Involvement'!$E956)/COUNTA(_xlfn.TEXTSPLIT('12.Partner Involvement'!$H956,\";\"))),\"\")","v":""},{"$f":"IF(ISNUMBER(SEARCH(F$206,'12.Partner Involvement'!$H956))=TRUE,(('12.Partner Involvement'!$D956*'12.Partner Involvement'!$E956)/COUNTA(_xlfn.TEXTSPLIT('12.Partner Involvement'!$H956,\";\"))),\"\")","v":""},{"$f":"IF(ISNUMBER(SEARCH(G$206,'12.Partner Involvement'!$H956))=TRUE,(('12.Partner Involvement'!$D956*'12.Partner Involvement'!$E956)/COUNTA(_xlfn.TEXTSPLIT('12.Partner Involvement'!$H956,\";\"))),\"\")","v":""},{"$f":"IF(ISNUMBER(SEARCH(H$206,'12.Partner Involvement'!$H956))=TRUE,(('12.Partner Involvement'!$D956*'12.Partner Involvement'!$E956)/COUNTA(_xlfn.TEXTSPLIT('12.Partner Involvement'!$H956,\";\"))),\"\")","v":""}]
[{"$f":"IF(ISNUMBER(SEARCH(A$206,'12.Partner Involvement'!$G957))=TRUE,(('12.Partner Involvement'!$D957*'12.Partner Involvement'!$E957)/COUNTA(_xlfn.TEXTSPLIT('12.Partner Involvement'!$G957,\";\"))),\"\")","v":""},{"$f":"IF(ISNUMBER(SEARCH(B$206,'12.Partner Involvement'!$G957))=TRUE,(('12.Partner Involvement'!$D957*'12.Partner Involvement'!$E957)/COUNTA(_xlfn.TEXTSPLIT('12.Partner Involvement'!$G957,\";\"))),\"\")","v":""},{"$f":"IF(ISNUMBER(SEARCH(C$206,'12.Partner Involvement'!$G957))=TRUE,(('12.Partner Involvement'!$D957*'12.Partner Involvement'!$E957)/COUNTA(_xlfn.TEXTSPLIT('12.Partner Involvement'!$G957,\";\"))),\"\")","v":""},null,{"$f":"IF(ISNUMBER(SEARCH(E$206,'12.Partner Involvement'!$H957))=TRUE,(('12.Partner Involvement'!$D957*'12.Partner Involvement'!$E957)/COUNTA(_xlfn.TEXTSPLIT('12.Partner Involvement'!$H957,\";\"))),\"\")","v":""},{"$f":"IF(ISNUMBER(SEARCH(F$206,'12.Partner Involvement'!$H957))=TRUE,(('12.Partner Involvement'!$D957*'12.Partner Involvement'!$E957)/COUNTA(_xlfn.TEXTSPLIT('12.Partner Involvement'!$H957,\";\"))),\"\")","v":""},{"$f":"IF(ISNUMBER(SEARCH(G$206,'12.Partner Involvement'!$H957))=TRUE,(('12.Partner Involvement'!$D957*'12.Partner Involvement'!$E957)/COUNTA(_xlfn.TEXTSPLIT('12.Partner Involvement'!$H957,\";\"))),\"\")","v":""},{"$f":"IF(ISNUMBER(SEARCH(H$206,'12.Partner Involvement'!$H957))=TRUE,(('12.Partner Involvement'!$D957*'12.Partner Involvement'!$E957)/COUNTA(_xlfn.TEXTSPLIT('12.Partner Involvement'!$H957,\";\"))),\"\")","v":""}]
[{"$f":"IF(ISNUMBER(SEARCH(A$206,'12.Partner Involvement'!$G958))=TRUE,(('12.Partner Involvement'!$D958*'12.Partner Involvement'!$E958)/COUNTA(_xlfn.TEXTSPLIT('12.Partner Involvement'!$G958,\";\"))),\"\")","v":""},{"$f":"IF(ISNUMBER(SEARCH(B$206,'12.Partner Involvement'!$G958))=TRUE,(('12.Partner Involvement'!$D958*'12.Partner Involvement'!$E958)/COUNTA(_xlfn.TEXTSPLIT('12.Partner Involvement'!$G958,\";\"))),\"\")","v":""},{"$f":"IF(ISNUMBER(SEARCH(C$206,'12.Partner Involvement'!$G958))=TRUE,(('12.Partner Involvement'!$D958*'12.Partner Involvement'!$E958)/COUNTA(_xlfn.TEXTSPLIT('12.Partner Involvement'!$G958,\";\"))),\"\")","v":""},null,{"$f":"IF(ISNUMBER(SEARCH(E$206,'12.Partner Involvement'!$H958))=TRUE,(('12.Partner Involvement'!$D958*'12.Partner Involvement'!$E958)/COUNTA(_xlfn.TEXTSPLIT('12.Partner Involvement'!$H958,\";\"))),\"\")","v":""},{"$f":"IF(ISNUMBER(SEARCH(F$206,'12.Partner Involvement'!$H958))=TRUE,(('12.Partner Involvement'!$D958*'12.Partner Involvement'!$E958)/COUNTA(_xlfn.TEXTSPLIT('12.Partner Involvement'!$H958,\";\"))),\"\")","v":""},{"$f":"IF(ISNUMBER(SEARCH(G$206,'12.Partner Involvement'!$H958))=TRUE,(('12.Partner Involvement'!$D958*'12.Partner Involvement'!$E958)/COUNTA(_xlfn.TEXTSPLIT('12.Partner Involvement'!$H958,\";\"))),\"\")","v":""},{"$f":"IF(ISNUMBER(SEARCH(H$206,'12.Partner Involvement'!$H958))=TRUE,(('12.Partner Involvement'!$D958*'12.Partner Involvement'!$E958)/COUNTA(_xlfn.TEXTSPLIT('12.Partner Involvement'!$H958,\";\"))),\"\")","v":""}]
[{"$f":"IF(ISNUMBER(SEARCH(A$206,'12.Partner Involvement'!$G959))=TRUE,(('12.Partner Involvement'!$D959*'12.Partner Involvement'!$E959)/COUNTA(_xlfn.TEXTSPLIT('12.Partner Involvement'!$G959,\";\"))),\"\")","v":""},{"$f":"IF(ISNUMBER(SEARCH(B$206,'12.Partner Involvement'!$G959))=TRUE,(('12.Partner Involvement'!$D959*'12.Partner Involvement'!$E959)/COUNTA(_xlfn.TEXTSPLIT('12.Partner Involvement'!$G959,\";\"))),\"\")","v":""},{"$f":"IF(ISNUMBER(SEARCH(C$206,'12.Partner Involvement'!$G959))=TRUE,(('12.Partner Involvement'!$D959*'12.Partner Involvement'!$E959)/COUNTA(_xlfn.TEXTSPLIT('12.Partner Involvement'!$G959,\";\"))),\"\")","v":""},null,{"$f":"IF(ISNUMBER(SEARCH(E$206,'12.Partner Involvement'!$H959))=TRUE,(('12.Partner Involvement'!$D959*'12.Partner Involvement'!$E959)/COUNTA(_xlfn.TEXTSPLIT('12.Partner Involvement'!$H959,\";\"))),\"\")","v":""},{"$f":"IF(ISNUMBER(SEARCH(F$206,'12.Partner Involvement'!$H959))=TRUE,(('12.Partner Involvement'!$D959*'12.Partner Involvement'!$E959)/COUNTA(_xlfn.TEXTSPLIT('12.Partner Involvement'!$H959,\";\"))),\"\")","v":""},{"$f":"IF(ISNUMBER(SEARCH(G$206,'12.Partner Involvement'!$H959))=TRUE,(('12.Partner Involvement'!$D959*'12.Partner Involvement'!$E959)/COUNTA(_xlfn.TEXTSPLIT('12.Partner Involvement'!$H959,\";\"))),\"\")","v":""},{"$f":"IF(ISNUMBER(SEARCH(H$206,'12.Partner Involvement'!$H959))=TRUE,(('12.Partner Involvement'!$D959*'12.Partner Involvement'!$E959)/COUNTA(_xlfn.TEXTSPLIT('12.Partner Involvement'!$H959,\";\"))),\"\")","v":""}]
[{"$f":"IF(ISNUMBER(SEARCH(A$206,'12.Partner Involvement'!$G960))=TRUE,(('12.Partner Involvement'!$D960*'12.Partner Involvement'!$E960)/COUNTA(_xlfn.TEXTSPLIT('12.Partner Involvement'!$G960,\";\"))),\"\")","v":""},{"$f":"IF(ISNUMBER(SEARCH(B$206,'12.Partner Involvement'!$G960))=TRUE,(('12.Partner Involvement'!$D960*'12.Partner Involvement'!$E960)/COUNTA(_xlfn.TEXTSPLIT('12.Partner Involvement'!$G960,\";\"))),\"\")","v":""},{"$f":"IF(ISNUMBER(SEARCH(C$206,'12.Partner Involvement'!$G960))=TRUE,(('12.Partner Involvement'!$D960*'12.Partner Involvement'!$E960)/COUNTA(_xlfn.TEXTSPLIT('12.Partner Involvement'!$G960,\";\"))),\"\")","v":""},null,{"$f":"IF(ISNUMBER(SEARCH(E$206,'12.Partner Involvement'!$H960))=TRUE,(('12.Partner Involvement'!$D960*'12.Partner Involvement'!$E960)/COUNTA(_xlfn.TEXTSPLIT('12.Partner Involvement'!$H960,\";\"))),\"\")","v":""},{"$f":"IF(ISNUMBER(SEARCH(F$206,'12.Partner Involvement'!$H960))=TRUE,(('12.Partner Involvement'!$D960*'12.Partner Involvement'!$E960)/COUNTA(_xlfn.TEXTSPLIT('12.Partner Involvement'!$H960,\";\"))),\"\")","v":""},{"$f":"IF(ISNUMBER(SEARCH(G$206,'12.Partner Involvement'!$H960))=TRUE,(('12.Partner Involvement'!$D960*'12.Partner Involvement'!$E960)/COUNTA(_xlfn.TEXTSPLIT('12.Partner Involvement'!$H960,\";\"))),\"\")","v":""},{"$f":"IF(ISNUMBER(SEARCH(H$206,'12.Partner Involvement'!$H960))=TRUE,(('12.Partner Involvement'!$D960*'12.Partner Involvement'!$E960)/COUNTA(_xlfn.TEXTSPLIT('12.Partner Involvement'!$H960,\";\"))),\"\")","v":""}]
[{"$f":"IF(ISNUMBER(SEARCH(A$206,'12.Partner Involvement'!$G961))=TRUE,(('12.Partner Involvement'!$D961*'12.Partner Involvement'!$E961)/COUNTA(_xlfn.TEXTSPLIT('12.Partner Involvement'!$G961,\";\"))),\"\")","v":""},{"$f":"IF(ISNUMBER(SEARCH(B$206,'12.Partner Involvement'!$G961))=TRUE,(('12.Partner Involvement'!$D961*'12.Partner Involvement'!$E961)/COUNTA(_xlfn.TEXTSPLIT('12.Partner Involvement'!$G961,\";\"))),\"\")","v":""},{"$f":"IF(ISNUMBER(SEARCH(C$206,'12.Partner Involvement'!$G961))=TRUE,(('12.Partner Involvement'!$D961*'12.Partner Involvement'!$E961)/COUNTA(_xlfn.TEXTSPLIT('12.Partner Involvement'!$G961,\";\"))),\"\")","v":""},null,{"$f":"IF(ISNUMBER(SEARCH(E$206,'12.Partner Involvement'!$H961))=TRUE,(('12.Partner Involvement'!$D961*'12.Partner Involvement'!$E961)/COUNTA(_xlfn.TEXTSPLIT('12.Partner Involvement'!$H961,\";\"))),\"\")","v":""},{"$f":"IF(ISNUMBER(SEARCH(F$206,'12.Partner Involvement'!$H961))=TRUE,(('12.Partner Involvement'!$D961*'12.Partner Involvement'!$E961)/COUNTA(_xlfn.TEXTSPLIT('12.Partner Involvement'!$H961,\";\"))),\"\")","v":""},{"$f":"IF(ISNUMBER(SEARCH(G$206,'12.Partner Involvement'!$H961))=TRUE,(('12.Partner Involvement'!$D961*'12.Partner Involvement'!$E961)/COUNTA(_xlfn.TEXTSPLIT('12.Partner Involvement'!$H961,\";\"))),\"\")","v":""},{"$f":"IF(ISNUMBER(SEARCH(H$206,'12.Partner Involvement'!$H961))=TRUE,(('12.Partner Involvement'!$D961*'12.Partner Involvement'!$E961)/COUNTA(_xlfn.TEXTSPLIT('12.Partner Involvement'!$H961,\";\"))),\"\")","v":""}]
[{"$f":"IF(ISNUMBER(SEARCH(A$206,'12.Partner Involvement'!$G962))=TRUE,(('12.Partner Involvement'!$D962*'12.Partner Involvement'!$E962)/COUNTA(_xlfn.TEXTSPLIT('12.Partner Involvement'!$G962,\";\"))),\"\")","v":""},{"$f":"IF(ISNUMBER(SEARCH(B$206,'12.Partner Involvement'!$G962))=TRUE,(('12.Partner Involvement'!$D962*'12.Partner Involvement'!$E962)/COUNTA(_xlfn.TEXTSPLIT('12.Partner Involvement'!$G962,\";\"))),\"\")","v":""},{"$f":"IF(ISNUMBER(SEARCH(C$206,'12.Partner Involvement'!$G962))=TRUE,(('12.Partner Involvement'!$D962*'12.Partner Involvement'!$E962)/COUNTA(_xlfn.TEXTSPLIT('12.Partner Involvement'!$G962,\";\"))),\"\")","v":""},null,{"$f":"IF(ISNUMBER(SEARCH(E$206,'12.Partner Involvement'!$H962))=TRUE,(('12.Partner Involvement'!$D962*'12.Partner Involvement'!$E962)/COUNTA(_xlfn.TEXTSPLIT('12.Partner Involvement'!$H962,\";\"))),\"\")","v":""},{"$f":"IF(ISNUMBER(SEARCH(F$206,'12.Partner Involvement'!$H962))=TRUE,(('12.Partner Involvement'!$D962*'12.Partner Involvement'!$E962)/COUNTA(_xlfn.TEXTSPLIT('12.Partner Involvement'!$H962,\";\"))),\"\")","v":""},{"$f":"IF(ISNUMBER(SEARCH(G$206,'12.Partner Involvement'!$H962))=TRUE,(('12.Partner Involvement'!$D962*'12.Partner Involvement'!$E962)/COUNTA(_xlfn.TEXTSPLIT('12.Partner Involvement'!$H962,\";\"))),\"\")","v":""},{"$f":"IF(ISNUMBER(SEARCH(H$206,'12.Partner Involvement'!$H962))=TRUE,(('12.Partner Involvement'!$D962*'12.Partner Involvement'!$E962)/COUNTA(_xlfn.TEXTSPLIT('12.Partner Involvement'!$H962,\";\"))),\"\")","v":""}]
[{"$f":"IF(ISNUMBER(SEARCH(A$206,'12.Partner Involvement'!$G963))=TRUE,(('12.Partner Involvement'!$D963*'12.Partner Involvement'!$E963)/COUNTA(_xlfn.TEXTSPLIT('12.Partner Involvement'!$G963,\";\"))),\"\")","v":""},{"$f":"IF(ISNUMBER(SEARCH(B$206,'12.Partner Involvement'!$G963))=TRUE,(('12.Partner Involvement'!$D963*'12.Partner Involvement'!$E963)/COUNTA(_xlfn.TEXTSPLIT('12.Partner Involvement'!$G963,\";\"))),\"\")","v":""},{"$f":"IF(ISNUMBER(SEARCH(C$206,'12.Partner Involvement'!$G963))=TRUE,(('12.Partner Involvement'!$D963*'12.Partner Involvement'!$E963)/COUNTA(_xlfn.TEXTSPLIT('12.Partner Involvement'!$G963,\";\"))),\"\")","v":""},null,{"$f":"IF(ISNUMBER(SEARCH(E$206,'12.Partner Involvement'!$H963))=TRUE,(('12.Partner Involvement'!$D963*'12.Partner Involvement'!$E963)/COUNTA(_xlfn.TEXTSPLIT('12.Partner Involvement'!$H963,\";\"))),\"\")","v":""},{"$f":"IF(ISNUMBER(SEARCH(F$206,'12.Partner Involvement'!$H963))=TRUE,(('12.Partner Involvement'!$D963*'12.Partner Involvement'!$E963)/COUNTA(_xlfn.TEXTSPLIT('12.Partner Involvement'!$H963,\";\"))),\"\")","v":""},{"$f":"IF(ISNUMBER(SEARCH(G$206,'12.Partner Involvement'!$H963))=TRUE,(('12.Partner Involvement'!$D963*'12.Partner Involvement'!$E963)/COUNTA(_xlfn.TEXTSPLIT('12.Partner Involvement'!$H963,\";\"))),\"\")","v":""},{"$f":"IF(ISNUMBER(SEARCH(H$206,'12.Partner Involvement'!$H963))=TRUE,(('12.Partner Involvement'!$D963*'12.Partner Involvement'!$E963)/COUNTA(_xlfn.TEXTSPLIT('12.Partner Involvement'!$H963,\";\"))),\"\")","v":""}]
[{"$f":"IF(ISNUMBER(SEARCH(A$206,'12.Partner Involvement'!$G964))=TRUE,(('12.Partner Involvement'!$D964*'12.Partner Involvement'!$E964)/COUNTA(_xlfn.TEXTSPLIT('12.Partner Involvement'!$G964,\";\"))),\"\")","v":""},{"$f":"IF(ISNUMBER(SEARCH(B$206,'12.Partner Involvement'!$G964))=TRUE,(('12.Partner Involvement'!$D964*'12.Partner Involvement'!$E964)/COUNTA(_xlfn.TEXTSPLIT('12.Partner Involvement'!$G964,\";\"))),\"\")","v":""},{"$f":"IF(ISNUMBER(SEARCH(C$206,'12.Partner Involvement'!$G964))=TRUE,(('12.Partner Involvement'!$D964*'12.Partner Involvement'!$E964)/COUNTA(_xlfn.TEXTSPLIT('12.Partner Involvement'!$G964,\";\"))),\"\")","v":""},null,{"$f":"IF(ISNUMBER(SEARCH(E$206,'12.Partner Involvement'!$H964))=TRUE,(('12.Partner Involvement'!$D964*'12.Partner Involvement'!$E964)/COUNTA(_xlfn.TEXTSPLIT('12.Partner Involvement'!$H964,\";\"))),\"\")","v":""},{"$f":"IF(ISNUMBER(SEARCH(F$206,'12.Partner Involvement'!$H964))=TRUE,(('12.Partner Involvement'!$D964*'12.Partner Involvement'!$E964)/COUNTA(_xlfn.TEXTSPLIT('12.Partner Involvement'!$H964,\";\"))),\"\")","v":""},{"$f":"IF(ISNUMBER(SEARCH(G$206,'12.Partner Involvement'!$H964))=TRUE,(('12.Partner Involvement'!$D964*'12.Partner Involvement'!$E964)/COUNTA(_xlfn.TEXTSPLIT('12.Partner Involvement'!$H964,\";\"))),\"\")","v":""},{"$f":"IF(ISNUMBER(SEARCH(H$206,'12.Partner Involvement'!$H964))=TRUE,(('12.Partner Involvement'!$D964*'12.Partner Involvement'!$E964)/COUNTA(_xlfn.TEXTSPLIT('12.Partner Involvement'!$H964,\";\"))),\"\")","v":""}]
[{"$f":"IF(ISNUMBER(SEARCH(A$206,'12.Partner Involvement'!$G965))=TRUE,(('12.Partner Involvement'!$D965*'12.Partner Involvement'!$E965)/COUNTA(_xlfn.TEXTSPLIT('12.Partner Involvement'!$G965,\";\"))),\"\")","v":""},{"$f":"IF(ISNUMBER(SEARCH(B$206,'12.Partner Involvement'!$G965))=TRUE,(('12.Partner Involvement'!$D965*'12.Partner Involvement'!$E965)/COUNTA(_xlfn.TEXTSPLIT('12.Partner Involvement'!$G965,\";\"))),\"\")","v":""},{"$f":"IF(ISNUMBER(SEARCH(C$206,'12.Partner Involvement'!$G965))=TRUE,(('12.Partner Involvement'!$D965*'12.Partner Involvement'!$E965)/COUNTA(_xlfn.TEXTSPLIT('12.Partner Involvement'!$G965,\";\"))),\"\")","v":""},null,{"$f":"IF(ISNUMBER(SEARCH(E$206,'12.Partner Involvement'!$H965))=TRUE,(('12.Partner Involvement'!$D965*'12.Partner Involvement'!$E965)/COUNTA(_xlfn.TEXTSPLIT('12.Partner Involvement'!$H965,\";\"))),\"\")","v":""},{"$f":"IF(ISNUMBER(SEARCH(F$206,'12.Partner Involvement'!$H965))=TRUE,(('12.Partner Involvement'!$D965*'12.Partner Involvement'!$E965)/COUNTA(_xlfn.TEXTSPLIT('12.Partner Involvement'!$H965,\";\"))),\"\")","v":""},{"$f":"IF(ISNUMBER(SEARCH(G$206,'12.Partner Involvement'!$H965))=TRUE,(('12.Partner Involvement'!$D965*'12.Partner Involvement'!$E965)/COUNTA(_xlfn.TEXTSPLIT('12.Partner Involvement'!$H965,\";\"))),\"\")","v":""},{"$f":"IF(ISNUMBER(SEARCH(H$206,'12.Partner Involvement'!$H965))=TRUE,(('12.Partner Involvement'!$D965*'12.Partner Involvement'!$E965)/COUNTA(_xlfn.TEXTSPLIT('12.Partner Involvement'!$H965,\";\"))),\"\")","v":""}]
[{"$f":"IF(ISNUMBER(SEARCH(A$206,'12.Partner Involvement'!$G966))=TRUE,(('12.Partner Involvement'!$D966*'12.Partner Involvement'!$E966)/COUNTA(_xlfn.TEXTSPLIT('12.Partner Involvement'!$G966,\";\"))),\"\")","v":""},{"$f":"IF(ISNUMBER(SEARCH(B$206,'12.Partner Involvement'!$G966))=TRUE,(('12.Partner Involvement'!$D966*'12.Partner Involvement'!$E966)/COUNTA(_xlfn.TEXTSPLIT('12.Partner Involvement'!$G966,\";\"))),\"\")","v":""},{"$f":"IF(ISNUMBER(SEARCH(C$206,'12.Partner Involvement'!$G966))=TRUE,(('12.Partner Involvement'!$D966*'12.Partner Involvement'!$E966)/COUNTA(_xlfn.TEXTSPLIT('12.Partner Involvement'!$G966,\";\"))),\"\")","v":""},null,{"$f":"IF(ISNUMBER(SEARCH(E$206,'12.Partner Involvement'!$H966))=TRUE,(('12.Partner Involvement'!$D966*'12.Partner Involvement'!$E966)/COUNTA(_xlfn.TEXTSPLIT('12.Partner Involvement'!$H966,\";\"))),\"\")","v":""},{"$f":"IF(ISNUMBER(SEARCH(F$206,'12.Partner Involvement'!$H966))=TRUE,(('12.Partner Involvement'!$D966*'12.Partner Involvement'!$E966)/COUNTA(_xlfn.TEXTSPLIT('12.Partner Involvement'!$H966,\";\"))),\"\")","v":""},{"$f":"IF(ISNUMBER(SEARCH(G$206,'12.Partner Involvement'!$H966))=TRUE,(('12.Partner Involvement'!$D966*'12.Partner Involvement'!$E966)/COUNTA(_xlfn.TEXTSPLIT('12.Partner Involvement'!$H966,\";\"))),\"\")","v":""},{"$f":"IF(ISNUMBER(SEARCH(H$206,'12.Partner Involvement'!$H966))=TRUE,(('12.Partner Involvement'!$D966*'12.Partner Involvement'!$E966)/COUNTA(_xlfn.TEXTSPLIT('12.Partner Involvement'!$H966,\";\"))),\"\")","v":""}]
[{"$f":"IF(ISNUMBER(SEARCH(A$206,'12.Partner Involvement'!$G967))=TRUE,(('12.Partner Involvement'!$D967*'12.Partner Involvement'!$E967)/COUNTA(_xlfn.TEXTSPLIT('12.Partner Involvement'!$G967,\";\"))),\"\")","v":""},{"$f":"IF(ISNUMBER(SEARCH(B$206,'12.Partner Involvement'!$G967))=TRUE,(('12.Partner Involvement'!$D967*'12.Partner Involvement'!$E967)/COUNTA(_xlfn.TEXTSPLIT('12.Partner Involvement'!$G967,\";\"))),\"\")","v":""},{"$f":"IF(ISNUMBER(SEARCH(C$206,'12.Partner Involvement'!$G967))=TRUE,(('12.Partner Involvement'!$D967*'12.Partner Involvement'!$E967)/COUNTA(_xlfn.TEXTSPLIT('12.Partner Involvement'!$G967,\";\"))),\"\")","v":""},null,{"$f":"IF(ISNUMBER(SEARCH(E$206,'12.Partner Involvement'!$H967))=TRUE,(('12.Partner Involvement'!$D967*'12.Partner Involvement'!$E967)/COUNTA(_xlfn.TEXTSPLIT('12.Partner Involvement'!$H967,\";\"))),\"\")","v":""},{"$f":"IF(ISNUMBER(SEARCH(F$206,'12.Partner Involvement'!$H967))=TRUE,(('12.Partner Involvement'!$D967*'12.Partner Involvement'!$E967)/COUNTA(_xlfn.TEXTSPLIT('12.Partner Involvement'!$H967,\";\"))),\"\")","v":""},{"$f":"IF(ISNUMBER(SEARCH(G$206,'12.Partner Involvement'!$H967))=TRUE,(('12.Partner Involvement'!$D967*'12.Partner Involvement'!$E967)/COUNTA(_xlfn.TEXTSPLIT('12.Partner Involvement'!$H967,\";\"))),\"\")","v":""},{"$f":"IF(ISNUMBER(SEARCH(H$206,'12.Partner Involvement'!$H967))=TRUE,(('12.Partner Involvement'!$D967*'12.Partner Involvement'!$E967)/COUNTA(_xlfn.TEXTSPLIT('12.Partner Involvement'!$H967,\";\"))),\"\")","v":""}]
[{"$f":"IF(ISNUMBER(SEARCH(A$206,'12.Partner Involvement'!$G968))=TRUE,(('12.Partner Involvement'!$D968*'12.Partner Involvement'!$E968)/COUNTA(_xlfn.TEXTSPLIT('12.Partner Involvement'!$G968,\";\"))),\"\")","v":""},{"$f":"IF(ISNUMBER(SEARCH(B$206,'12.Partner Involvement'!$G968))=TRUE,(('12.Partner Involvement'!$D968*'12.Partner Involvement'!$E968)/COUNTA(_xlfn.TEXTSPLIT('12.Partner Involvement'!$G968,\";\"))),\"\")","v":""},{"$f":"IF(ISNUMBER(SEARCH(C$206,'12.Partner Involvement'!$G968))=TRUE,(('12.Partner Involvement'!$D968*'12.Partner Involvement'!$E968)/COUNTA(_xlfn.TEXTSPLIT('12.Partner Involvement'!$G968,\";\"))),\"\")","v":""},null,{"$f":"IF(ISNUMBER(SEARCH(E$206,'12.Partner Involvement'!$H968))=TRUE,(('12.Partner Involvement'!$D968*'12.Partner Involvement'!$E968)/COUNTA(_xlfn.TEXTSPLIT('12.Partner Involvement'!$H968,\";\"))),\"\")","v":""},{"$f":"IF(ISNUMBER(SEARCH(F$206,'12.Partner Involvement'!$H968))=TRUE,(('12.Partner Involvement'!$D968*'12.Partner Involvement'!$E968)/COUNTA(_xlfn.TEXTSPLIT('12.Partner Involvement'!$H968,\";\"))),\"\")","v":""},{"$f":"IF(ISNUMBER(SEARCH(G$206,'12.Partner Involvement'!$H968))=TRUE,(('12.Partner Involvement'!$D968*'12.Partner Involvement'!$E968)/COUNTA(_xlfn.TEXTSPLIT('12.Partner Involvement'!$H968,\";\"))),\"\")","v":""},{"$f":"IF(ISNUMBER(SEARCH(H$206,'12.Partner Involvement'!$H968))=TRUE,(('12.Partner Involvement'!$D968*'12.Partner Involvement'!$E968)/COUNTA(_xlfn.TEXTSPLIT('12.Partner Involvement'!$H968,\";\"))),\"\")","v":""}]
[{"$f":"IF(ISNUMBER(SEARCH(A$206,'12.Partner Involvement'!$G969))=TRUE,(('12.Partner Involvement'!$D969*'12.Partner Involvement'!$E969)/COUNTA(_xlfn.TEXTSPLIT('12.Partner Involvement'!$G969,\";\"))),\"\")","v":""},{"$f":"IF(ISNUMBER(SEARCH(B$206,'12.Partner Involvement'!$G969))=TRUE,(('12.Partner Involvement'!$D969*'12.Partner Involvement'!$E969)/COUNTA(_xlfn.TEXTSPLIT('12.Partner Involvement'!$G969,\";\"))),\"\")","v":""},{"$f":"IF(ISNUMBER(SEARCH(C$206,'12.Partner Involvement'!$G969))=TRUE,(('12.Partner Involvement'!$D969*'12.Partner Involvement'!$E969)/COUNTA(_xlfn.TEXTSPLIT('12.Partner Involvement'!$G969,\";\"))),\"\")","v":""},null,{"$f":"IF(ISNUMBER(SEARCH(E$206,'12.Partner Involvement'!$H969))=TRUE,(('12.Partner Involvement'!$D969*'12.Partner Involvement'!$E969)/COUNTA(_xlfn.TEXTSPLIT('12.Partner Involvement'!$H969,\";\"))),\"\")","v":""},{"$f":"IF(ISNUMBER(SEARCH(F$206,'12.Partner Involvement'!$H969))=TRUE,(('12.Partner Involvement'!$D969*'12.Partner Involvement'!$E969)/COUNTA(_xlfn.TEXTSPLIT('12.Partner Involvement'!$H969,\";\"))),\"\")","v":""},{"$f":"IF(ISNUMBER(SEARCH(G$206,'12.Partner Involvement'!$H969))=TRUE,(('12.Partner Involvement'!$D969*'12.Partner Involvement'!$E969)/COUNTA(_xlfn.TEXTSPLIT('12.Partner Involvement'!$H969,\";\"))),\"\")","v":""},{"$f":"IF(ISNUMBER(SEARCH(H$206,'12.Partner Involvement'!$H969))=TRUE,(('12.Partner Involvement'!$D969*'12.Partner Involvement'!$E969)/COUNTA(_xlfn.TEXTSPLIT('12.Partner Involvement'!$H969,\";\"))),\"\")","v":""}]
[{"$f":"IF(ISNUMBER(SEARCH(A$206,'12.Partner Involvement'!$G970))=TRUE,(('12.Partner Involvement'!$D970*'12.Partner Involvement'!$E970)/COUNTA(_xlfn.TEXTSPLIT('12.Partner Involvement'!$G970,\";\"))),\"\")","v":""},{"$f":"IF(ISNUMBER(SEARCH(B$206,'12.Partner Involvement'!$G970))=TRUE,(('12.Partner Involvement'!$D970*'12.Partner Involvement'!$E970)/COUNTA(_xlfn.TEXTSPLIT('12.Partner Involvement'!$G970,\";\"))),\"\")","v":""},{"$f":"IF(ISNUMBER(SEARCH(C$206,'12.Partner Involvement'!$G970))=TRUE,(('12.Partner Involvement'!$D970*'12.Partner Involvement'!$E970)/COUNTA(_xlfn.TEXTSPLIT('12.Partner Involvement'!$G970,\";\"))),\"\")","v":""},null,{"$f":"IF(ISNUMBER(SEARCH(E$206,'12.Partner Involvement'!$H970))=TRUE,(('12.Partner Involvement'!$D970*'12.Partner Involvement'!$E970)/COUNTA(_xlfn.TEXTSPLIT('12.Partner Involvement'!$H970,\";\"))),\"\")","v":""},{"$f":"IF(ISNUMBER(SEARCH(F$206,'12.Partner Involvement'!$H970))=TRUE,(('12.Partner Involvement'!$D970*'12.Partner Involvement'!$E970)/COUNTA(_xlfn.TEXTSPLIT('12.Partner Involvement'!$H970,\";\"))),\"\")","v":""},{"$f":"IF(ISNUMBER(SEARCH(G$206,'12.Partner Involvement'!$H970))=TRUE,(('12.Partner Involvement'!$D970*'12.Partner Involvement'!$E970)/COUNTA(_xlfn.TEXTSPLIT('12.Partner Involvement'!$H970,\";\"))),\"\")","v":""},{"$f":"IF(ISNUMBER(SEARCH(H$206,'12.Partner Involvement'!$H970))=TRUE,(('12.Partner Involvement'!$D970*'12.Partner Involvement'!$E970)/COUNTA(_xlfn.TEXTSPLIT('12.Partner Involvement'!$H970,\";\"))),\"\")","v":""}]
[{"$f":"IF(ISNUMBER(SEARCH(A$206,'12.Partner Involvement'!$G971))=TRUE,(('12.Partner Involvement'!$D971*'12.Partner Involvement'!$E971)/COUNTA(_xlfn.TEXTSPLIT('12.Partner Involvement'!$G971,\";\"))),\"\")","v":""},{"$f":"IF(ISNUMBER(SEARCH(B$206,'12.Partner Involvement'!$G971))=TRUE,(('12.Partner Involvement'!$D971*'12.Partner Involvement'!$E971)/COUNTA(_xlfn.TEXTSPLIT('12.Partner Involvement'!$G971,\";\"))),\"\")","v":""},{"$f":"IF(ISNUMBER(SEARCH(C$206,'12.Partner Involvement'!$G971))=TRUE,(('12.Partner Involvement'!$D971*'12.Partner Involvement'!$E971)/COUNTA(_xlfn.TEXTSPLIT('12.Partner Involvement'!$G971,\";\"))),\"\")","v":""},null,{"$f":"IF(ISNUMBER(SEARCH(E$206,'12.Partner Involvement'!$H971))=TRUE,(('12.Partner Involvement'!$D971*'12.Partner Involvement'!$E971)/COUNTA(_xlfn.TEXTSPLIT('12.Partner Involvement'!$H971,\";\"))),\"\")","v":""},{"$f":"IF(ISNUMBER(SEARCH(F$206,'12.Partner Involvement'!$H971))=TRUE,(('12.Partner Involvement'!$D971*'12.Partner Involvement'!$E971)/COUNTA(_xlfn.TEXTSPLIT('12.Partner Involvement'!$H971,\";\"))),\"\")","v":""},{"$f":"IF(ISNUMBER(SEARCH(G$206,'12.Partner Involvement'!$H971))=TRUE,(('12.Partner Involvement'!$D971*'12.Partner Involvement'!$E971)/COUNTA(_xlfn.TEXTSPLIT('12.Partner Involvement'!$H971,\";\"))),\"\")","v":""},{"$f":"IF(ISNUMBER(SEARCH(H$206,'12.Partner Involvement'!$H971))=TRUE,(('12.Partner Involvement'!$D971*'12.Partner Involvement'!$E971)/COUNTA(_xlfn.TEXTSPLIT('12.Partner Involvement'!$H971,\";\"))),\"\")","v":""}]
[{"$f":"IF(ISNUMBER(SEARCH(A$206,'12.Partner Involvement'!$G972))=TRUE,(('12.Partner Involvement'!$D972*'12.Partner Involvement'!$E972)/COUNTA(_xlfn.TEXTSPLIT('12.Partner Involvement'!$G972,\";\"))),\"\")","v":""},{"$f":"IF(ISNUMBER(SEARCH(B$206,'12.Partner Involvement'!$G972))=TRUE,(('12.Partner Involvement'!$D972*'12.Partner Involvement'!$E972)/COUNTA(_xlfn.TEXTSPLIT('12.Partner Involvement'!$G972,\";\"))),\"\")","v":""},{"$f":"IF(ISNUMBER(SEARCH(C$206,'12.Partner Involvement'!$G972))=TRUE,(('12.Partner Involvement'!$D972*'12.Partner Involvement'!$E972)/COUNTA(_xlfn.TEXTSPLIT('12.Partner Involvement'!$G972,\";\"))),\"\")","v":""},null,{"$f":"IF(ISNUMBER(SEARCH(E$206,'12.Partner Involvement'!$H972))=TRUE,(('12.Partner Involvement'!$D972*'12.Partner Involvement'!$E972)/COUNTA(_xlfn.TEXTSPLIT('12.Partner Involvement'!$H972,\";\"))),\"\")","v":""},{"$f":"IF(ISNUMBER(SEARCH(F$206,'12.Partner Involvement'!$H972))=TRUE,(('12.Partner Involvement'!$D972*'12.Partner Involvement'!$E972)/COUNTA(_xlfn.TEXTSPLIT('12.Partner Involvement'!$H972,\";\"))),\"\")","v":""},{"$f":"IF(ISNUMBER(SEARCH(G$206,'12.Partner Involvement'!$H972))=TRUE,(('12.Partner Involvement'!$D972*'12.Partner Involvement'!$E972)/COUNTA(_xlfn.TEXTSPLIT('12.Partner Involvement'!$H972,\";\"))),\"\")","v":""},{"$f":"IF(ISNUMBER(SEARCH(H$206,'12.Partner Involvement'!$H972))=TRUE,(('12.Partner Involvement'!$D972*'12.Partner Involvement'!$E972)/COUNTA(_xlfn.TEXTSPLIT('12.Partner Involvement'!$H972,\";\"))),\"\")","v":""}]
[{"$f":"IF(ISNUMBER(SEARCH(A$206,'12.Partner Involvement'!$G973))=TRUE,(('12.Partner Involvement'!$D973*'12.Partner Involvement'!$E973)/COUNTA(_xlfn.TEXTSPLIT('12.Partner Involvement'!$G973,\";\"))),\"\")","v":""},{"$f":"IF(ISNUMBER(SEARCH(B$206,'12.Partner Involvement'!$G973))=TRUE,(('12.Partner Involvement'!$D973*'12.Partner Involvement'!$E973)/COUNTA(_xlfn.TEXTSPLIT('12.Partner Involvement'!$G973,\";\"))),\"\")","v":""},{"$f":"IF(ISNUMBER(SEARCH(C$206,'12.Partner Involvement'!$G973))=TRUE,(('12.Partner Involvement'!$D973*'12.Partner Involvement'!$E973)/COUNTA(_xlfn.TEXTSPLIT('12.Partner Involvement'!$G973,\";\"))),\"\")","v":""},null,{"$f":"IF(ISNUMBER(SEARCH(E$206,'12.Partner Involvement'!$H973))=TRUE,(('12.Partner Involvement'!$D973*'12.Partner Involvement'!$E973)/COUNTA(_xlfn.TEXTSPLIT('12.Partner Involvement'!$H973,\";\"))),\"\")","v":""},{"$f":"IF(ISNUMBER(SEARCH(F$206,'12.Partner Involvement'!$H973))=TRUE,(('12.Partner Involvement'!$D973*'12.Partner Involvement'!$E973)/COUNTA(_xlfn.TEXTSPLIT('12.Partner Involvement'!$H973,\";\"))),\"\")","v":""},{"$f":"IF(ISNUMBER(SEARCH(G$206,'12.Partner Involvement'!$H973))=TRUE,(('12.Partner Involvement'!$D973*'12.Partner Involvement'!$E973)/COUNTA(_xlfn.TEXTSPLIT('12.Partner Involvement'!$H973,\";\"))),\"\")","v":""},{"$f":"IF(ISNUMBER(SEARCH(H$206,'12.Partner Involvement'!$H973))=TRUE,(('12.Partner Involvement'!$D973*'12.Partner Involvement'!$E973)/COUNTA(_xlfn.TEXTSPLIT('12.Partner Involvement'!$H973,\";\"))),\"\")","v":""}]
[{"$f":"IF(ISNUMBER(SEARCH(A$206,'12.Partner Involvement'!$G974))=TRUE,(('12.Partner Involvement'!$D974*'12.Partner Involvement'!$E974)/COUNTA(_xlfn.TEXTSPLIT('12.Partner Involvement'!$G974,\";\"))),\"\")","v":""},{"$f":"IF(ISNUMBER(SEARCH(B$206,'12.Partner Involvement'!$G974))=TRUE,(('12.Partner Involvement'!$D974*'12.Partner Involvement'!$E974)/COUNTA(_xlfn.TEXTSPLIT('12.Partner Involvement'!$G974,\";\"))),\"\")","v":""},{"$f":"IF(ISNUMBER(SEARCH(C$206,'12.Partner Involvement'!$G974))=TRUE,(('12.Partner Involvement'!$D974*'12.Partner Involvement'!$E974)/COUNTA(_xlfn.TEXTSPLIT('12.Partner Involvement'!$G974,\";\"))),\"\")","v":""},null,{"$f":"IF(ISNUMBER(SEARCH(E$206,'12.Partner Involvement'!$H974))=TRUE,(('12.Partner Involvement'!$D974*'12.Partner Involvement'!$E974)/COUNTA(_xlfn.TEXTSPLIT('12.Partner Involvement'!$H974,\";\"))),\"\")","v":""},{"$f":"IF(ISNUMBER(SEARCH(F$206,'12.Partner Involvement'!$H974))=TRUE,(('12.Partner Involvement'!$D974*'12.Partner Involvement'!$E974)/COUNTA(_xlfn.TEXTSPLIT('12.Partner Involvement'!$H974,\";\"))),\"\")","v":""},{"$f":"IF(ISNUMBER(SEARCH(G$206,'12.Partner Involvement'!$H974))=TRUE,(('12.Partner Involvement'!$D974*'12.Partner Involvement'!$E974)/COUNTA(_xlfn.TEXTSPLIT('12.Partner Involvement'!$H974,\";\"))),\"\")","v":""},{"$f":"IF(ISNUMBER(SEARCH(H$206,'12.Partner Involvement'!$H974))=TRUE,(('12.Partner Involvement'!$D974*'12.Partner Involvement'!$E974)/COUNTA(_xlfn.TEXTSPLIT('12.Partner Involvement'!$H974,\";\"))),\"\")","v":""}]
[{"$f":"IF(ISNUMBER(SEARCH(A$206,'12.Partner Involvement'!$G975))=TRUE,(('12.Partner Involvement'!$D975*'12.Partner Involvement'!$E975)/COUNTA(_xlfn.TEXTSPLIT('12.Partner Involvement'!$G975,\";\"))),\"\")","v":""},{"$f":"IF(ISNUMBER(SEARCH(B$206,'12.Partner Involvement'!$G975))=TRUE,(('12.Partner Involvement'!$D975*'12.Partner Involvement'!$E975)/COUNTA(_xlfn.TEXTSPLIT('12.Partner Involvement'!$G975,\";\"))),\"\")","v":""},{"$f":"IF(ISNUMBER(SEARCH(C$206,'12.Partner Involvement'!$G975))=TRUE,(('12.Partner Involvement'!$D975*'12.Partner Involvement'!$E975)/COUNTA(_xlfn.TEXTSPLIT('12.Partner Involvement'!$G975,\";\"))),\"\")","v":""},null,{"$f":"IF(ISNUMBER(SEARCH(E$206,'12.Partner Involvement'!$H975))=TRUE,(('12.Partner Involvement'!$D975*'12.Partner Involvement'!$E975)/COUNTA(_xlfn.TEXTSPLIT('12.Partner Involvement'!$H975,\";\"))),\"\")","v":""},{"$f":"IF(ISNUMBER(SEARCH(F$206,'12.Partner Involvement'!$H975))=TRUE,(('12.Partner Involvement'!$D975*'12.Partner Involvement'!$E975)/COUNTA(_xlfn.TEXTSPLIT('12.Partner Involvement'!$H975,\";\"))),\"\")","v":""},{"$f":"IF(ISNUMBER(SEARCH(G$206,'12.Partner Involvement'!$H975))=TRUE,(('12.Partner Involvement'!$D975*'12.Partner Involvement'!$E975)/COUNTA(_xlfn.TEXTSPLIT('12.Partner Involvement'!$H975,\";\"))),\"\")","v":""},{"$f":"IF(ISNUMBER(SEARCH(H$206,'12.Partner Involvement'!$H975))=TRUE,(('12.Partner Involvement'!$D975*'12.Partner Involvement'!$E975)/COUNTA(_xlfn.TEXTSPLIT('12.Partner Involvement'!$H975,\";\"))),\"\")","v":""}]
[{"$f":"IF(ISNUMBER(SEARCH(A$206,'12.Partner Involvement'!$G976))=TRUE,(('12.Partner Involvement'!$D976*'12.Partner Involvement'!$E976)/COUNTA(_xlfn.TEXTSPLIT('12.Partner Involvement'!$G976,\";\"))),\"\")","v":""},{"$f":"IF(ISNUMBER(SEARCH(B$206,'12.Partner Involvement'!$G976))=TRUE,(('12.Partner Involvement'!$D976*'12.Partner Involvement'!$E976)/COUNTA(_xlfn.TEXTSPLIT('12.Partner Involvement'!$G976,\";\"))),\"\")","v":""},{"$f":"IF(ISNUMBER(SEARCH(C$206,'12.Partner Involvement'!$G976))=TRUE,(('12.Partner Involvement'!$D976*'12.Partner Involvement'!$E976)/COUNTA(_xlfn.TEXTSPLIT('12.Partner Involvement'!$G976,\";\"))),\"\")","v":""},null,{"$f":"IF(ISNUMBER(SEARCH(E$206,'12.Partner Involvement'!$H976))=TRUE,(('12.Partner Involvement'!$D976*'12.Partner Involvement'!$E976)/COUNTA(_xlfn.TEXTSPLIT('12.Partner Involvement'!$H976,\";\"))),\"\")","v":""},{"$f":"IF(ISNUMBER(SEARCH(F$206,'12.Partner Involvement'!$H976))=TRUE,(('12.Partner Involvement'!$D976*'12.Partner Involvement'!$E976)/COUNTA(_xlfn.TEXTSPLIT('12.Partner Involvement'!$H976,\";\"))),\"\")","v":""},{"$f":"IF(ISNUMBER(SEARCH(G$206,'12.Partner Involvement'!$H976))=TRUE,(('12.Partner Involvement'!$D976*'12.Partner Involvement'!$E976)/COUNTA(_xlfn.TEXTSPLIT('12.Partner Involvement'!$H976,\";\"))),\"\")","v":""},{"$f":"IF(ISNUMBER(SEARCH(H$206,'12.Partner Involvement'!$H976))=TRUE,(('12.Partner Involvement'!$D976*'12.Partner Involvement'!$E976)/COUNTA(_xlfn.TEXTSPLIT('12.Partner Involvement'!$H976,\";\"))),\"\")","v":""}]
[{"$f":"IF(ISNUMBER(SEARCH(A$206,'12.Partner Involvement'!$G977))=TRUE,(('12.Partner Involvement'!$D977*'12.Partner Involvement'!$E977)/COUNTA(_xlfn.TEXTSPLIT('12.Partner Involvement'!$G977,\";\"))),\"\")","v":""},{"$f":"IF(ISNUMBER(SEARCH(B$206,'12.Partner Involvement'!$G977))=TRUE,(('12.Partner Involvement'!$D977*'12.Partner Involvement'!$E977)/COUNTA(_xlfn.TEXTSPLIT('12.Partner Involvement'!$G977,\";\"))),\"\")","v":""},{"$f":"IF(ISNUMBER(SEARCH(C$206,'12.Partner Involvement'!$G977))=TRUE,(('12.Partner Involvement'!$D977*'12.Partner Involvement'!$E977)/COUNTA(_xlfn.TEXTSPLIT('12.Partner Involvement'!$G977,\";\"))),\"\")","v":""},null,{"$f":"IF(ISNUMBER(SEARCH(E$206,'12.Partner Involvement'!$H977))=TRUE,(('12.Partner Involvement'!$D977*'12.Partner Involvement'!$E977)/COUNTA(_xlfn.TEXTSPLIT('12.Partner Involvement'!$H977,\";\"))),\"\")","v":""},{"$f":"IF(ISNUMBER(SEARCH(F$206,'12.Partner Involvement'!$H977))=TRUE,(('12.Partner Involvement'!$D977*'12.Partner Involvement'!$E977)/COUNTA(_xlfn.TEXTSPLIT('12.Partner Involvement'!$H977,\";\"))),\"\")","v":""},{"$f":"IF(ISNUMBER(SEARCH(G$206,'12.Partner Involvement'!$H977))=TRUE,(('12.Partner Involvement'!$D977*'12.Partner Involvement'!$E977)/COUNTA(_xlfn.TEXTSPLIT('12.Partner Involvement'!$H977,\";\"))),\"\")","v":""},{"$f":"IF(ISNUMBER(SEARCH(H$206,'12.Partner Involvement'!$H977))=TRUE,(('12.Partner Involvement'!$D977*'12.Partner Involvement'!$E977)/COUNTA(_xlfn.TEXTSPLIT('12.Partner Involvement'!$H977,\";\"))),\"\")","v":""}]
[{"$f":"IF(ISNUMBER(SEARCH(A$206,'12.Partner Involvement'!$G978))=TRUE,(('12.Partner Involvement'!$D978*'12.Partner Involvement'!$E978)/COUNTA(_xlfn.TEXTSPLIT('12.Partner Involvement'!$G978,\";\"))),\"\")","v":""},{"$f":"IF(ISNUMBER(SEARCH(B$206,'12.Partner Involvement'!$G978))=TRUE,(('12.Partner Involvement'!$D978*'12.Partner Involvement'!$E978)/COUNTA(_xlfn.TEXTSPLIT('12.Partner Involvement'!$G978,\";\"))),\"\")","v":""},{"$f":"IF(ISNUMBER(SEARCH(C$206,'12.Partner Involvement'!$G978))=TRUE,(('12.Partner Involvement'!$D978*'12.Partner Involvement'!$E978)/COUNTA(_xlfn.TEXTSPLIT('12.Partner Involvement'!$G978,\";\"))),\"\")","v":""},null,{"$f":"IF(ISNUMBER(SEARCH(E$206,'12.Partner Involvement'!$H978))=TRUE,(('12.Partner Involvement'!$D978*'12.Partner Involvement'!$E978)/COUNTA(_xlfn.TEXTSPLIT('12.Partner Involvement'!$H978,\";\"))),\"\")","v":""},{"$f":"IF(ISNUMBER(SEARCH(F$206,'12.Partner Involvement'!$H978))=TRUE,(('12.Partner Involvement'!$D978*'12.Partner Involvement'!$E978)/COUNTA(_xlfn.TEXTSPLIT('12.Partner Involvement'!$H978,\";\"))),\"\")","v":""},{"$f":"IF(ISNUMBER(SEARCH(G$206,'12.Partner Involvement'!$H978))=TRUE,(('12.Partner Involvement'!$D978*'12.Partner Involvement'!$E978)/COUNTA(_xlfn.TEXTSPLIT('12.Partner Involvement'!$H978,\";\"))),\"\")","v":""},{"$f":"IF(ISNUMBER(SEARCH(H$206,'12.Partner Involvement'!$H978))=TRUE,(('12.Partner Involvement'!$D978*'12.Partner Involvement'!$E978)/COUNTA(_xlfn.TEXTSPLIT('12.Partner Involvement'!$H978,\";\"))),\"\")","v":""}]
[{"$f":"IF(ISNUMBER(SEARCH(A$206,'12.Partner Involvement'!$G979))=TRUE,(('12.Partner Involvement'!$D979*'12.Partner Involvement'!$E979)/COUNTA(_xlfn.TEXTSPLIT('12.Partner Involvement'!$G979,\";\"))),\"\")","v":""},{"$f":"IF(ISNUMBER(SEARCH(B$206,'12.Partner Involvement'!$G979))=TRUE,(('12.Partner Involvement'!$D979*'12.Partner Involvement'!$E979)/COUNTA(_xlfn.TEXTSPLIT('12.Partner Involvement'!$G979,\";\"))),\"\")","v":""},{"$f":"IF(ISNUMBER(SEARCH(C$206,'12.Partner Involvement'!$G979))=TRUE,(('12.Partner Involvement'!$D979*'12.Partner Involvement'!$E979)/COUNTA(_xlfn.TEXTSPLIT('12.Partner Involvement'!$G979,\";\"))),\"\")","v":""},null,{"$f":"IF(ISNUMBER(SEARCH(E$206,'12.Partner Involvement'!$H979))=TRUE,(('12.Partner Involvement'!$D979*'12.Partner Involvement'!$E979)/COUNTA(_xlfn.TEXTSPLIT('12.Partner Involvement'!$H979,\";\"))),\"\")","v":""},{"$f":"IF(ISNUMBER(SEARCH(F$206,'12.Partner Involvement'!$H979))=TRUE,(('12.Partner Involvement'!$D979*'12.Partner Involvement'!$E979)/COUNTA(_xlfn.TEXTSPLIT('12.Partner Involvement'!$H979,\";\"))),\"\")","v":""},{"$f":"IF(ISNUMBER(SEARCH(G$206,'12.Partner Involvement'!$H979))=TRUE,(('12.Partner Involvement'!$D979*'12.Partner Involvement'!$E979)/COUNTA(_xlfn.TEXTSPLIT('12.Partner Involvement'!$H979,\";\"))),\"\")","v":""},{"$f":"IF(ISNUMBER(SEARCH(H$206,'12.Partner Involvement'!$H979))=TRUE,(('12.Partner Involvement'!$D979*'12.Partner Involvement'!$E979)/COUNTA(_xlfn.TEXTSPLIT('12.Partner Involvement'!$H979,\";\"))),\"\")","v":""}]
[{"$f":"IF(ISNUMBER(SEARCH(A$206,'12.Partner Involvement'!$G980))=TRUE,(('12.Partner Involvement'!$D980*'12.Partner Involvement'!$E980)/COUNTA(_xlfn.TEXTSPLIT('12.Partner Involvement'!$G980,\";\"))),\"\")","v":""},{"$f":"IF(ISNUMBER(SEARCH(B$206,'12.Partner Involvement'!$G980))=TRUE,(('12.Partner Involvement'!$D980*'12.Partner Involvement'!$E980)/COUNTA(_xlfn.TEXTSPLIT('12.Partner Involvement'!$G980,\";\"))),\"\")","v":""},{"$f":"IF(ISNUMBER(SEARCH(C$206,'12.Partner Involvement'!$G980))=TRUE,(('12.Partner Involvement'!$D980*'12.Partner Involvement'!$E980)/COUNTA(_xlfn.TEXTSPLIT('12.Partner Involvement'!$G980,\";\"))),\"\")","v":""},null,{"$f":"IF(ISNUMBER(SEARCH(E$206,'12.Partner Involvement'!$H980))=TRUE,(('12.Partner Involvement'!$D980*'12.Partner Involvement'!$E980)/COUNTA(_xlfn.TEXTSPLIT('12.Partner Involvement'!$H980,\";\"))),\"\")","v":""},{"$f":"IF(ISNUMBER(SEARCH(F$206,'12.Partner Involvement'!$H980))=TRUE,(('12.Partner Involvement'!$D980*'12.Partner Involvement'!$E980)/COUNTA(_xlfn.TEXTSPLIT('12.Partner Involvement'!$H980,\";\"))),\"\")","v":""},{"$f":"IF(ISNUMBER(SEARCH(G$206,'12.Partner Involvement'!$H980))=TRUE,(('12.Partner Involvement'!$D980*'12.Partner Involvement'!$E980)/COUNTA(_xlfn.TEXTSPLIT('12.Partner Involvement'!$H980,\";\"))),\"\")","v":""},{"$f":"IF(ISNUMBER(SEARCH(H$206,'12.Partner Involvement'!$H980))=TRUE,(('12.Partner Involvement'!$D980*'12.Partner Involvement'!$E980)/COUNTA(_xlfn.TEXTSPLIT('12.Partner Involvement'!$H980,\";\"))),\"\")","v":""}]
[{"$f":"IF(ISNUMBER(SEARCH(A$206,'12.Partner Involvement'!$G981))=TRUE,(('12.Partner Involvement'!$D981*'12.Partner Involvement'!$E981)/COUNTA(_xlfn.TEXTSPLIT('12.Partner Involvement'!$G981,\";\"))),\"\")","v":""},{"$f":"IF(ISNUMBER(SEARCH(B$206,'12.Partner Involvement'!$G981))=TRUE,(('12.Partner Involvement'!$D981*'12.Partner Involvement'!$E981)/COUNTA(_xlfn.TEXTSPLIT('12.Partner Involvement'!$G981,\";\"))),\"\")","v":""},{"$f":"IF(ISNUMBER(SEARCH(C$206,'12.Partner Involvement'!$G981))=TRUE,(('12.Partner Involvement'!$D981*'12.Partner Involvement'!$E981)/COUNTA(_xlfn.TEXTSPLIT('12.Partner Involvement'!$G981,\";\"))),\"\")","v":""},null,{"$f":"IF(ISNUMBER(SEARCH(E$206,'12.Partner Involvement'!$H981))=TRUE,(('12.Partner Involvement'!$D981*'12.Partner Involvement'!$E981)/COUNTA(_xlfn.TEXTSPLIT('12.Partner Involvement'!$H981,\";\"))),\"\")","v":""},{"$f":"IF(ISNUMBER(SEARCH(F$206,'12.Partner Involvement'!$H981))=TRUE,(('12.Partner Involvement'!$D981*'12.Partner Involvement'!$E981)/COUNTA(_xlfn.TEXTSPLIT('12.Partner Involvement'!$H981,\";\"))),\"\")","v":""},{"$f":"IF(ISNUMBER(SEARCH(G$206,'12.Partner Involvement'!$H981))=TRUE,(('12.Partner Involvement'!$D981*'12.Partner Involvement'!$E981)/COUNTA(_xlfn.TEXTSPLIT('12.Partner Involvement'!$H981,\";\"))),\"\")","v":""},{"$f":"IF(ISNUMBER(SEARCH(H$206,'12.Partner Involvement'!$H981))=TRUE,(('12.Partner Involvement'!$D981*'12.Partner Involvement'!$E981)/COUNTA(_xlfn.TEXTSPLIT('12.Partner Involvement'!$H981,\";\"))),\"\")","v":""}]
[{"$f":"IF(ISNUMBER(SEARCH(A$206,'12.Partner Involvement'!$G982))=TRUE,(('12.Partner Involvement'!$D982*'12.Partner Involvement'!$E982)/COUNTA(_xlfn.TEXTSPLIT('12.Partner Involvement'!$G982,\";\"))),\"\")","v":""},{"$f":"IF(ISNUMBER(SEARCH(B$206,'12.Partner Involvement'!$G982))=TRUE,(('12.Partner Involvement'!$D982*'12.Partner Involvement'!$E982)/COUNTA(_xlfn.TEXTSPLIT('12.Partner Involvement'!$G982,\";\"))),\"\")","v":""},{"$f":"IF(ISNUMBER(SEARCH(C$206,'12.Partner Involvement'!$G982))=TRUE,(('12.Partner Involvement'!$D982*'12.Partner Involvement'!$E982)/COUNTA(_xlfn.TEXTSPLIT('12.Partner Involvement'!$G982,\";\"))),\"\")","v":""},null,{"$f":"IF(ISNUMBER(SEARCH(E$206,'12.Partner Involvement'!$H982))=TRUE,(('12.Partner Involvement'!$D982*'12.Partner Involvement'!$E982)/COUNTA(_xlfn.TEXTSPLIT('12.Partner Involvement'!$H982,\";\"))),\"\")","v":""},{"$f":"IF(ISNUMBER(SEARCH(F$206,'12.Partner Involvement'!$H982))=TRUE,(('12.Partner Involvement'!$D982*'12.Partner Involvement'!$E982)/COUNTA(_xlfn.TEXTSPLIT('12.Partner Involvement'!$H982,\";\"))),\"\")","v":""},{"$f":"IF(ISNUMBER(SEARCH(G$206,'12.Partner Involvement'!$H982))=TRUE,(('12.Partner Involvement'!$D982*'12.Partner Involvement'!$E982)/COUNTA(_xlfn.TEXTSPLIT('12.Partner Involvement'!$H982,\";\"))),\"\")","v":""},{"$f":"IF(ISNUMBER(SEARCH(H$206,'12.Partner Involvement'!$H982))=TRUE,(('12.Partner Involvement'!$D982*'12.Partner Involvement'!$E982)/COUNTA(_xlfn.TEXTSPLIT('12.Partner Involvement'!$H982,\";\"))),\"\")","v":""}]
[{"$f":"IF(ISNUMBER(SEARCH(A$206,'12.Partner Involvement'!$G983))=TRUE,(('12.Partner Involvement'!$D983*'12.Partner Involvement'!$E983)/COUNTA(_xlfn.TEXTSPLIT('12.Partner Involvement'!$G983,\";\"))),\"\")","v":""},{"$f":"IF(ISNUMBER(SEARCH(B$206,'12.Partner Involvement'!$G983))=TRUE,(('12.Partner Involvement'!$D983*'12.Partner Involvement'!$E983)/COUNTA(_xlfn.TEXTSPLIT('12.Partner Involvement'!$G983,\";\"))),\"\")","v":""},{"$f":"IF(ISNUMBER(SEARCH(C$206,'12.Partner Involvement'!$G983))=TRUE,(('12.Partner Involvement'!$D983*'12.Partner Involvement'!$E983)/COUNTA(_xlfn.TEXTSPLIT('12.Partner Involvement'!$G983,\";\"))),\"\")","v":""},null,{"$f":"IF(ISNUMBER(SEARCH(E$206,'12.Partner Involvement'!$H983))=TRUE,(('12.Partner Involvement'!$D983*'12.Partner Involvement'!$E983)/COUNTA(_xlfn.TEXTSPLIT('12.Partner Involvement'!$H983,\";\"))),\"\")","v":""},{"$f":"IF(ISNUMBER(SEARCH(F$206,'12.Partner Involvement'!$H983))=TRUE,(('12.Partner Involvement'!$D983*'12.Partner Involvement'!$E983)/COUNTA(_xlfn.TEXTSPLIT('12.Partner Involvement'!$H983,\";\"))),\"\")","v":""},{"$f":"IF(ISNUMBER(SEARCH(G$206,'12.Partner Involvement'!$H983))=TRUE,(('12.Partner Involvement'!$D983*'12.Partner Involvement'!$E983)/COUNTA(_xlfn.TEXTSPLIT('12.Partner Involvement'!$H983,\";\"))),\"\")","v":""},{"$f":"IF(ISNUMBER(SEARCH(H$206,'12.Partner Involvement'!$H983))=TRUE,(('12.Partner Involvement'!$D983*'12.Partner Involvement'!$E983)/COUNTA(_xlfn.TEXTSPLIT('12.Partner Involvement'!$H983,\";\"))),\"\")","v":""}]
[{"$f":"IF(ISNUMBER(SEARCH(A$206,'12.Partner Involvement'!$G984))=TRUE,(('12.Partner Involvement'!$D984*'12.Partner Involvement'!$E984)/COUNTA(_xlfn.TEXTSPLIT('12.Partner Involvement'!$G984,\";\"))),\"\")","v":""},{"$f":"IF(ISNUMBER(SEARCH(B$206,'12.Partner Involvement'!$G984))=TRUE,(('12.Partner Involvement'!$D984*'12.Partner Involvement'!$E984)/COUNTA(_xlfn.TEXTSPLIT('12.Partner Involvement'!$G984,\";\"))),\"\")","v":""},{"$f":"IF(ISNUMBER(SEARCH(C$206,'12.Partner Involvement'!$G984))=TRUE,(('12.Partner Involvement'!$D984*'12.Partner Involvement'!$E984)/COUNTA(_xlfn.TEXTSPLIT('12.Partner Involvement'!$G984,\";\"))),\"\")","v":""},null,{"$f":"IF(ISNUMBER(SEARCH(E$206,'12.Partner Involvement'!$H984))=TRUE,(('12.Partner Involvement'!$D984*'12.Partner Involvement'!$E984)/COUNTA(_xlfn.TEXTSPLIT('12.Partner Involvement'!$H984,\";\"))),\"\")","v":""},{"$f":"IF(ISNUMBER(SEARCH(F$206,'12.Partner Involvement'!$H984))=TRUE,(('12.Partner Involvement'!$D984*'12.Partner Involvement'!$E984)/COUNTA(_xlfn.TEXTSPLIT('12.Partner Involvement'!$H984,\";\"))),\"\")","v":""},{"$f":"IF(ISNUMBER(SEARCH(G$206,'12.Partner Involvement'!$H984))=TRUE,(('12.Partner Involvement'!$D984*'12.Partner Involvement'!$E984)/COUNTA(_xlfn.TEXTSPLIT('12.Partner Involvement'!$H984,\";\"))),\"\")","v":""},{"$f":"IF(ISNUMBER(SEARCH(H$206,'12.Partner Involvement'!$H984))=TRUE,(('12.Partner Involvement'!$D984*'12.Partner Involvement'!$E984)/COUNTA(_xlfn.TEXTSPLIT('12.Partner Involvement'!$H984,\";\"))),\"\")","v":""}]
[{"$f":"IF(ISNUMBER(SEARCH(A$206,'12.Partner Involvement'!$G985))=TRUE,(('12.Partner Involvement'!$D985*'12.Partner Involvement'!$E985)/COUNTA(_xlfn.TEXTSPLIT('12.Partner Involvement'!$G985,\";\"))),\"\")","v":""},{"$f":"IF(ISNUMBER(SEARCH(B$206,'12.Partner Involvement'!$G985))=TRUE,(('12.Partner Involvement'!$D985*'12.Partner Involvement'!$E985)/COUNTA(_xlfn.TEXTSPLIT('12.Partner Involvement'!$G985,\";\"))),\"\")","v":""},{"$f":"IF(ISNUMBER(SEARCH(C$206,'12.Partner Involvement'!$G985))=TRUE,(('12.Partner Involvement'!$D985*'12.Partner Involvement'!$E985)/COUNTA(_xlfn.TEXTSPLIT('12.Partner Involvement'!$G985,\";\"))),\"\")","v":""},null,{"$f":"IF(ISNUMBER(SEARCH(E$206,'12.Partner Involvement'!$H985))=TRUE,(('12.Partner Involvement'!$D985*'12.Partner Involvement'!$E985)/COUNTA(_xlfn.TEXTSPLIT('12.Partner Involvement'!$H985,\";\"))),\"\")","v":""},{"$f":"IF(ISNUMBER(SEARCH(F$206,'12.Partner Involvement'!$H985))=TRUE,(('12.Partner Involvement'!$D985*'12.Partner Involvement'!$E985)/COUNTA(_xlfn.TEXTSPLIT('12.Partner Involvement'!$H985,\";\"))),\"\")","v":""},{"$f":"IF(ISNUMBER(SEARCH(G$206,'12.Partner Involvement'!$H985))=TRUE,(('12.Partner Involvement'!$D985*'12.Partner Involvement'!$E985)/COUNTA(_xlfn.TEXTSPLIT('12.Partner Involvement'!$H985,\";\"))),\"\")","v":""},{"$f":"IF(ISNUMBER(SEARCH(H$206,'12.Partner Involvement'!$H985))=TRUE,(('12.Partner Involvement'!$D985*'12.Partner Involvement'!$E985)/COUNTA(_xlfn.TEXTSPLIT('12.Partner Involvement'!$H985,\";\"))),\"\")","v":""}]
[{"$f":"IF(ISNUMBER(SEARCH(A$206,'12.Partner Involvement'!$G986))=TRUE,(('12.Partner Involvement'!$D986*'12.Partner Involvement'!$E986)/COUNTA(_xlfn.TEXTSPLIT('12.Partner Involvement'!$G986,\";\"))),\"\")","v":""},{"$f":"IF(ISNUMBER(SEARCH(B$206,'12.Partner Involvement'!$G986))=TRUE,(('12.Partner Involvement'!$D986*'12.Partner Involvement'!$E986)/COUNTA(_xlfn.TEXTSPLIT('12.Partner Involvement'!$G986,\";\"))),\"\")","v":""},{"$f":"IF(ISNUMBER(SEARCH(C$206,'12.Partner Involvement'!$G986))=TRUE,(('12.Partner Involvement'!$D986*'12.Partner Involvement'!$E986)/COUNTA(_xlfn.TEXTSPLIT('12.Partner Involvement'!$G986,\";\"))),\"\")","v":""},null,{"$f":"IF(ISNUMBER(SEARCH(E$206,'12.Partner Involvement'!$H986))=TRUE,(('12.Partner Involvement'!$D986*'12.Partner Involvement'!$E986)/COUNTA(_xlfn.TEXTSPLIT('12.Partner Involvement'!$H986,\";\"))),\"\")","v":""},{"$f":"IF(ISNUMBER(SEARCH(F$206,'12.Partner Involvement'!$H986))=TRUE,(('12.Partner Involvement'!$D986*'12.Partner Involvement'!$E986)/COUNTA(_xlfn.TEXTSPLIT('12.Partner Involvement'!$H986,\";\"))),\"\")","v":""},{"$f":"IF(ISNUMBER(SEARCH(G$206,'12.Partner Involvement'!$H986))=TRUE,(('12.Partner Involvement'!$D986*'12.Partner Involvement'!$E986)/COUNTA(_xlfn.TEXTSPLIT('12.Partner Involvement'!$H986,\";\"))),\"\")","v":""},{"$f":"IF(ISNUMBER(SEARCH(H$206,'12.Partner Involvement'!$H986))=TRUE,(('12.Partner Involvement'!$D986*'12.Partner Involvement'!$E986)/COUNTA(_xlfn.TEXTSPLIT('12.Partner Involvement'!$H986,\";\"))),\"\")","v":""}]
[{"$f":"IF(ISNUMBER(SEARCH(A$206,'12.Partner Involvement'!$G987))=TRUE,(('12.Partner Involvement'!$D987*'12.Partner Involvement'!$E987)/COUNTA(_xlfn.TEXTSPLIT('12.Partner Involvement'!$G987,\";\"))),\"\")","v":""},{"$f":"IF(ISNUMBER(SEARCH(B$206,'12.Partner Involvement'!$G987))=TRUE,(('12.Partner Involvement'!$D987*'12.Partner Involvement'!$E987)/COUNTA(_xlfn.TEXTSPLIT('12.Partner Involvement'!$G987,\";\"))),\"\")","v":""},{"$f":"IF(ISNUMBER(SEARCH(C$206,'12.Partner Involvement'!$G987))=TRUE,(('12.Partner Involvement'!$D987*'12.Partner Involvement'!$E987)/COUNTA(_xlfn.TEXTSPLIT('12.Partner Involvement'!$G987,\";\"))),\"\")","v":""},null,{"$f":"IF(ISNUMBER(SEARCH(E$206,'12.Partner Involvement'!$H987))=TRUE,(('12.Partner Involvement'!$D987*'12.Partner Involvement'!$E987)/COUNTA(_xlfn.TEXTSPLIT('12.Partner Involvement'!$H987,\";\"))),\"\")","v":""},{"$f":"IF(ISNUMBER(SEARCH(F$206,'12.Partner Involvement'!$H987))=TRUE,(('12.Partner Involvement'!$D987*'12.Partner Involvement'!$E987)/COUNTA(_xlfn.TEXTSPLIT('12.Partner Involvement'!$H987,\";\"))),\"\")","v":""},{"$f":"IF(ISNUMBER(SEARCH(G$206,'12.Partner Involvement'!$H987))=TRUE,(('12.Partner Involvement'!$D987*'12.Partner Involvement'!$E987)/COUNTA(_xlfn.TEXTSPLIT('12.Partner Involvement'!$H987,\";\"))),\"\")","v":""},{"$f":"IF(ISNUMBER(SEARCH(H$206,'12.Partner Involvement'!$H987))=TRUE,(('12.Partner Involvement'!$D987*'12.Partner Involvement'!$E987)/COUNTA(_xlfn.TEXTSPLIT('12.Partner Involvement'!$H987,\";\"))),\"\")","v":""}]
[{"$f":"IF(ISNUMBER(SEARCH(A$206,'12.Partner Involvement'!$G988))=TRUE,(('12.Partner Involvement'!$D988*'12.Partner Involvement'!$E988)/COUNTA(_xlfn.TEXTSPLIT('12.Partner Involvement'!$G988,\";\"))),\"\")","v":""},{"$f":"IF(ISNUMBER(SEARCH(B$206,'12.Partner Involvement'!$G988))=TRUE,(('12.Partner Involvement'!$D988*'12.Partner Involvement'!$E988)/COUNTA(_xlfn.TEXTSPLIT('12.Partner Involvement'!$G988,\";\"))),\"\")","v":""},{"$f":"IF(ISNUMBER(SEARCH(C$206,'12.Partner Involvement'!$G988))=TRUE,(('12.Partner Involvement'!$D988*'12.Partner Involvement'!$E988)/COUNTA(_xlfn.TEXTSPLIT('12.Partner Involvement'!$G988,\";\"))),\"\")","v":""},null,{"$f":"IF(ISNUMBER(SEARCH(E$206,'12.Partner Involvement'!$H988))=TRUE,(('12.Partner Involvement'!$D988*'12.Partner Involvement'!$E988)/COUNTA(_xlfn.TEXTSPLIT('12.Partner Involvement'!$H988,\";\"))),\"\")","v":""},{"$f":"IF(ISNUMBER(SEARCH(F$206,'12.Partner Involvement'!$H988))=TRUE,(('12.Partner Involvement'!$D988*'12.Partner Involvement'!$E988)/COUNTA(_xlfn.TEXTSPLIT('12.Partner Involvement'!$H988,\";\"))),\"\")","v":""},{"$f":"IF(ISNUMBER(SEARCH(G$206,'12.Partner Involvement'!$H988))=TRUE,(('12.Partner Involvement'!$D988*'12.Partner Involvement'!$E988)/COUNTA(_xlfn.TEXTSPLIT('12.Partner Involvement'!$H988,\";\"))),\"\")","v":""},{"$f":"IF(ISNUMBER(SEARCH(H$206,'12.Partner Involvement'!$H988))=TRUE,(('12.Partner Involvement'!$D988*'12.Partner Involvement'!$E988)/COUNTA(_xlfn.TEXTSPLIT('12.Partner Involvement'!$H988,\";\"))),\"\")","v":""}]
[{"$f":"IF(ISNUMBER(SEARCH(A$206,'12.Partner Involvement'!$G989))=TRUE,(('12.Partner Involvement'!$D989*'12.Partner Involvement'!$E989)/COUNTA(_xlfn.TEXTSPLIT('12.Partner Involvement'!$G989,\";\"))),\"\")","v":""},{"$f":"IF(ISNUMBER(SEARCH(B$206,'12.Partner Involvement'!$G989))=TRUE,(('12.Partner Involvement'!$D989*'12.Partner Involvement'!$E989)/COUNTA(_xlfn.TEXTSPLIT('12.Partner Involvement'!$G989,\";\"))),\"\")","v":""},{"$f":"IF(ISNUMBER(SEARCH(C$206,'12.Partner Involvement'!$G989))=TRUE,(('12.Partner Involvement'!$D989*'12.Partner Involvement'!$E989)/COUNTA(_xlfn.TEXTSPLIT('12.Partner Involvement'!$G989,\";\"))),\"\")","v":""},null,{"$f":"IF(ISNUMBER(SEARCH(E$206,'12.Partner Involvement'!$H989))=TRUE,(('12.Partner Involvement'!$D989*'12.Partner Involvement'!$E989)/COUNTA(_xlfn.TEXTSPLIT('12.Partner Involvement'!$H989,\";\"))),\"\")","v":""},{"$f":"IF(ISNUMBER(SEARCH(F$206,'12.Partner Involvement'!$H989))=TRUE,(('12.Partner Involvement'!$D989*'12.Partner Involvement'!$E989)/COUNTA(_xlfn.TEXTSPLIT('12.Partner Involvement'!$H989,\";\"))),\"\")","v":""},{"$f":"IF(ISNUMBER(SEARCH(G$206,'12.Partner Involvement'!$H989))=TRUE,(('12.Partner Involvement'!$D989*'12.Partner Involvement'!$E989)/COUNTA(_xlfn.TEXTSPLIT('12.Partner Involvement'!$H989,\";\"))),\"\")","v":""},{"$f":"IF(ISNUMBER(SEARCH(H$206,'12.Partner Involvement'!$H989))=TRUE,(('12.Partner Involvement'!$D989*'12.Partner Involvement'!$E989)/COUNTA(_xlfn.TEXTSPLIT('12.Partner Involvement'!$H989,\";\"))),\"\")","v":""}]
[{"$f":"IF(ISNUMBER(SEARCH(A$206,'12.Partner Involvement'!$G990))=TRUE,(('12.Partner Involvement'!$D990*'12.Partner Involvement'!$E990)/COUNTA(_xlfn.TEXTSPLIT('12.Partner Involvement'!$G990,\";\"))),\"\")","v":""},{"$f":"IF(ISNUMBER(SEARCH(B$206,'12.Partner Involvement'!$G990))=TRUE,(('12.Partner Involvement'!$D990*'12.Partner Involvement'!$E990)/COUNTA(_xlfn.TEXTSPLIT('12.Partner Involvement'!$G990,\";\"))),\"\")","v":""},{"$f":"IF(ISNUMBER(SEARCH(C$206,'12.Partner Involvement'!$G990))=TRUE,(('12.Partner Involvement'!$D990*'12.Partner Involvement'!$E990)/COUNTA(_xlfn.TEXTSPLIT('12.Partner Involvement'!$G990,\";\"))),\"\")","v":""},null,{"$f":"IF(ISNUMBER(SEARCH(E$206,'12.Partner Involvement'!$H990))=TRUE,(('12.Partner Involvement'!$D990*'12.Partner Involvement'!$E990)/COUNTA(_xlfn.TEXTSPLIT('12.Partner Involvement'!$H990,\";\"))),\"\")","v":""},{"$f":"IF(ISNUMBER(SEARCH(F$206,'12.Partner Involvement'!$H990))=TRUE,(('12.Partner Involvement'!$D990*'12.Partner Involvement'!$E990)/COUNTA(_xlfn.TEXTSPLIT('12.Partner Involvement'!$H990,\";\"))),\"\")","v":""},{"$f":"IF(ISNUMBER(SEARCH(G$206,'12.Partner Involvement'!$H990))=TRUE,(('12.Partner Involvement'!$D990*'12.Partner Involvement'!$E990)/COUNTA(_xlfn.TEXTSPLIT('12.Partner Involvement'!$H990,\";\"))),\"\")","v":""},{"$f":"IF(ISNUMBER(SEARCH(H$206,'12.Partner Involvement'!$H990))=TRUE,(('12.Partner Involvement'!$D990*'12.Partner Involvement'!$E990)/COUNTA(_xlfn.TEXTSPLIT('12.Partner Involvement'!$H990,\";\"))),\"\")","v":""}]
[{"$f":"IF(ISNUMBER(SEARCH(A$206,'12.Partner Involvement'!$G991))=TRUE,(('12.Partner Involvement'!$D991*'12.Partner Involvement'!$E991)/COUNTA(_xlfn.TEXTSPLIT('12.Partner Involvement'!$G991,\";\"))),\"\")","v":""},{"$f":"IF(ISNUMBER(SEARCH(B$206,'12.Partner Involvement'!$G991))=TRUE,(('12.Partner Involvement'!$D991*'12.Partner Involvement'!$E991)/COUNTA(_xlfn.TEXTSPLIT('12.Partner Involvement'!$G991,\";\"))),\"\")","v":""},{"$f":"IF(ISNUMBER(SEARCH(C$206,'12.Partner Involvement'!$G991))=TRUE,(('12.Partner Involvement'!$D991*'12.Partner Involvement'!$E991)/COUNTA(_xlfn.TEXTSPLIT('12.Partner Involvement'!$G991,\";\"))),\"\")","v":""},null,{"$f":"IF(ISNUMBER(SEARCH(E$206,'12.Partner Involvement'!$H991))=TRUE,(('12.Partner Involvement'!$D991*'12.Partner Involvement'!$E991)/COUNTA(_xlfn.TEXTSPLIT('12.Partner Involvement'!$H991,\";\"))),\"\")","v":""},{"$f":"IF(ISNUMBER(SEARCH(F$206,'12.Partner Involvement'!$H991))=TRUE,(('12.Partner Involvement'!$D991*'12.Partner Involvement'!$E991)/COUNTA(_xlfn.TEXTSPLIT('12.Partner Involvement'!$H991,\";\"))),\"\")","v":""},{"$f":"IF(ISNUMBER(SEARCH(G$206,'12.Partner Involvement'!$H991))=TRUE,(('12.Partner Involvement'!$D991*'12.Partner Involvement'!$E991)/COUNTA(_xlfn.TEXTSPLIT('12.Partner Involvement'!$H991,\";\"))),\"\")","v":""},{"$f":"IF(ISNUMBER(SEARCH(H$206,'12.Partner Involvement'!$H991))=TRUE,(('12.Partner Involvement'!$D991*'12.Partner Involvement'!$E991)/COUNTA(_xlfn.TEXTSPLIT('12.Partner Involvement'!$H991,\";\"))),\"\")","v":""}]
[{"$f":"IF(ISNUMBER(SEARCH(A$206,'12.Partner Involvement'!$G992))=TRUE,(('12.Partner Involvement'!$D992*'12.Partner Involvement'!$E992)/COUNTA(_xlfn.TEXTSPLIT('12.Partner Involvement'!$G992,\";\"))),\"\")","v":""},{"$f":"IF(ISNUMBER(SEARCH(B$206,'12.Partner Involvement'!$G992))=TRUE,(('12.Partner Involvement'!$D992*'12.Partner Involvement'!$E992)/COUNTA(_xlfn.TEXTSPLIT('12.Partner Involvement'!$G992,\";\"))),\"\")","v":""},{"$f":"IF(ISNUMBER(SEARCH(C$206,'12.Partner Involvement'!$G992))=TRUE,(('12.Partner Involvement'!$D992*'12.Partner Involvement'!$E992)/COUNTA(_xlfn.TEXTSPLIT('12.Partner Involvement'!$G992,\";\"))),\"\")","v":""},null,{"$f":"IF(ISNUMBER(SEARCH(E$206,'12.Partner Involvement'!$H992))=TRUE,(('12.Partner Involvement'!$D992*'12.Partner Involvement'!$E992)/COUNTA(_xlfn.TEXTSPLIT('12.Partner Involvement'!$H992,\";\"))),\"\")","v":""},{"$f":"IF(ISNUMBER(SEARCH(F$206,'12.Partner Involvement'!$H992))=TRUE,(('12.Partner Involvement'!$D992*'12.Partner Involvement'!$E992)/COUNTA(_xlfn.TEXTSPLIT('12.Partner Involvement'!$H992,\";\"))),\"\")","v":""},{"$f":"IF(ISNUMBER(SEARCH(G$206,'12.Partner Involvement'!$H992))=TRUE,(('12.Partner Involvement'!$D992*'12.Partner Involvement'!$E992)/COUNTA(_xlfn.TEXTSPLIT('12.Partner Involvement'!$H992,\";\"))),\"\")","v":""},{"$f":"IF(ISNUMBER(SEARCH(H$206,'12.Partner Involvement'!$H992))=TRUE,(('12.Partner Involvement'!$D992*'12.Partner Involvement'!$E992)/COUNTA(_xlfn.TEXTSPLIT('12.Partner Involvement'!$H992,\";\"))),\"\")","v":""}]
[{"$f":"IF(ISNUMBER(SEARCH(A$206,'12.Partner Involvement'!$G993))=TRUE,(('12.Partner Involvement'!$D993*'12.Partner Involvement'!$E993)/COUNTA(_xlfn.TEXTSPLIT('12.Partner Involvement'!$G993,\";\"))),\"\")","v":""},{"$f":"IF(ISNUMBER(SEARCH(B$206,'12.Partner Involvement'!$G993))=TRUE,(('12.Partner Involvement'!$D993*'12.Partner Involvement'!$E993)/COUNTA(_xlfn.TEXTSPLIT('12.Partner Involvement'!$G993,\";\"))),\"\")","v":""},{"$f":"IF(ISNUMBER(SEARCH(C$206,'12.Partner Involvement'!$G993))=TRUE,(('12.Partner Involvement'!$D993*'12.Partner Involvement'!$E993)/COUNTA(_xlfn.TEXTSPLIT('12.Partner Involvement'!$G993,\";\"))),\"\")","v":""},null,{"$f":"IF(ISNUMBER(SEARCH(E$206,'12.Partner Involvement'!$H993))=TRUE,(('12.Partner Involvement'!$D993*'12.Partner Involvement'!$E993)/COUNTA(_xlfn.TEXTSPLIT('12.Partner Involvement'!$H993,\";\"))),\"\")","v":""},{"$f":"IF(ISNUMBER(SEARCH(F$206,'12.Partner Involvement'!$H993))=TRUE,(('12.Partner Involvement'!$D993*'12.Partner Involvement'!$E993)/COUNTA(_xlfn.TEXTSPLIT('12.Partner Involvement'!$H993,\";\"))),\"\")","v":""},{"$f":"IF(ISNUMBER(SEARCH(G$206,'12.Partner Involvement'!$H993))=TRUE,(('12.Partner Involvement'!$D993*'12.Partner Involvement'!$E993)/COUNTA(_xlfn.TEXTSPLIT('12.Partner Involvement'!$H993,\";\"))),\"\")","v":""},{"$f":"IF(ISNUMBER(SEARCH(H$206,'12.Partner Involvement'!$H993))=TRUE,(('12.Partner Involvement'!$D993*'12.Partner Involvement'!$E993)/COUNTA(_xlfn.TEXTSPLIT('12.Partner Involvement'!$H993,\";\"))),\"\")","v":""}]
[{"$f":"IF(ISNUMBER(SEARCH(A$206,'12.Partner Involvement'!$G994))=TRUE,(('12.Partner Involvement'!$D994*'12.Partner Involvement'!$E994)/COUNTA(_xlfn.TEXTSPLIT('12.Partner Involvement'!$G994,\";\"))),\"\")","v":""},{"$f":"IF(ISNUMBER(SEARCH(B$206,'12.Partner Involvement'!$G994))=TRUE,(('12.Partner Involvement'!$D994*'12.Partner Involvement'!$E994)/COUNTA(_xlfn.TEXTSPLIT('12.Partner Involvement'!$G994,\";\"))),\"\")","v":""},{"$f":"IF(ISNUMBER(SEARCH(C$206,'12.Partner Involvement'!$G994))=TRUE,(('12.Partner Involvement'!$D994*'12.Partner Involvement'!$E994)/COUNTA(_xlfn.TEXTSPLIT('12.Partner Involvement'!$G994,\";\"))),\"\")","v":""},null,{"$f":"IF(ISNUMBER(SEARCH(E$206,'12.Partner Involvement'!$H994))=TRUE,(('12.Partner Involvement'!$D994*'12.Partner Involvement'!$E994)/COUNTA(_xlfn.TEXTSPLIT('12.Partner Involvement'!$H994,\";\"))),\"\")","v":""},{"$f":"IF(ISNUMBER(SEARCH(F$206,'12.Partner Involvement'!$H994))=TRUE,(('12.Partner Involvement'!$D994*'12.Partner Involvement'!$E994)/COUNTA(_xlfn.TEXTSPLIT('12.Partner Involvement'!$H994,\";\"))),\"\")","v":""},{"$f":"IF(ISNUMBER(SEARCH(G$206,'12.Partner Involvement'!$H994))=TRUE,(('12.Partner Involvement'!$D994*'12.Partner Involvement'!$E994)/COUNTA(_xlfn.TEXTSPLIT('12.Partner Involvement'!$H994,\";\"))),\"\")","v":""},{"$f":"IF(ISNUMBER(SEARCH(H$206,'12.Partner Involvement'!$H994))=TRUE,(('12.Partner Involvement'!$D994*'12.Partner Involvement'!$E994)/COUNTA(_xlfn.TEXTSPLIT('12.Partner Involvement'!$H994,\";\"))),\"\")","v":""}]
[{"$f":"IF(ISNUMBER(SEARCH(A$206,'12.Partner Involvement'!$G995))=TRUE,(('12.Partner Involvement'!$D995*'12.Partner Involvement'!$E995)/COUNTA(_xlfn.TEXTSPLIT('12.Partner Involvement'!$G995,\";\"))),\"\")","v":""},{"$f":"IF(ISNUMBER(SEARCH(B$206,'12.Partner Involvement'!$G995))=TRUE,(('12.Partner Involvement'!$D995*'12.Partner Involvement'!$E995)/COUNTA(_xlfn.TEXTSPLIT('12.Partner Involvement'!$G995,\";\"))),\"\")","v":""},{"$f":"IF(ISNUMBER(SEARCH(C$206,'12.Partner Involvement'!$G995))=TRUE,(('12.Partner Involvement'!$D995*'12.Partner Involvement'!$E995)/COUNTA(_xlfn.TEXTSPLIT('12.Partner Involvement'!$G995,\";\"))),\"\")","v":""},null,{"$f":"IF(ISNUMBER(SEARCH(E$206,'12.Partner Involvement'!$H995))=TRUE,(('12.Partner Involvement'!$D995*'12.Partner Involvement'!$E995)/COUNTA(_xlfn.TEXTSPLIT('12.Partner Involvement'!$H995,\";\"))),\"\")","v":""},{"$f":"IF(ISNUMBER(SEARCH(F$206,'12.Partner Involvement'!$H995))=TRUE,(('12.Partner Involvement'!$D995*'12.Partner Involvement'!$E995)/COUNTA(_xlfn.TEXTSPLIT('12.Partner Involvement'!$H995,\";\"))),\"\")","v":""},{"$f":"IF(ISNUMBER(SEARCH(G$206,'12.Partner Involvement'!$H995))=TRUE,(('12.Partner Involvement'!$D995*'12.Partner Involvement'!$E995)/COUNTA(_xlfn.TEXTSPLIT('12.Partner Involvement'!$H995,\";\"))),\"\")","v":""},{"$f":"IF(ISNUMBER(SEARCH(H$206,'12.Partner Involvement'!$H995))=TRUE,(('12.Partner Involvement'!$D995*'12.Partner Involvement'!$E995)/COUNTA(_xlfn.TEXTSPLIT('12.Partner Involvement'!$H995,\";\"))),\"\")","v":""}]
[{"$f":"IF(ISNUMBER(SEARCH(A$206,'12.Partner Involvement'!$G996))=TRUE,(('12.Partner Involvement'!$D996*'12.Partner Involvement'!$E996)/COUNTA(_xlfn.TEXTSPLIT('12.Partner Involvement'!$G996,\";\"))),\"\")","v":""},{"$f":"IF(ISNUMBER(SEARCH(B$206,'12.Partner Involvement'!$G996))=TRUE,(('12.Partner Involvement'!$D996*'12.Partner Involvement'!$E996)/COUNTA(_xlfn.TEXTSPLIT('12.Partner Involvement'!$G996,\";\"))),\"\")","v":""},{"$f":"IF(ISNUMBER(SEARCH(C$206,'12.Partner Involvement'!$G996))=TRUE,(('12.Partner Involvement'!$D996*'12.Partner Involvement'!$E996)/COUNTA(_xlfn.TEXTSPLIT('12.Partner Involvement'!$G996,\";\"))),\"\")","v":""},null,{"$f":"IF(ISNUMBER(SEARCH(E$206,'12.Partner Involvement'!$H996))=TRUE,(('12.Partner Involvement'!$D996*'12.Partner Involvement'!$E996)/COUNTA(_xlfn.TEXTSPLIT('12.Partner Involvement'!$H996,\";\"))),\"\")","v":""},{"$f":"IF(ISNUMBER(SEARCH(F$206,'12.Partner Involvement'!$H996))=TRUE,(('12.Partner Involvement'!$D996*'12.Partner Involvement'!$E996)/COUNTA(_xlfn.TEXTSPLIT('12.Partner Involvement'!$H996,\";\"))),\"\")","v":""},{"$f":"IF(ISNUMBER(SEARCH(G$206,'12.Partner Involvement'!$H996))=TRUE,(('12.Partner Involvement'!$D996*'12.Partner Involvement'!$E996)/COUNTA(_xlfn.TEXTSPLIT('12.Partner Involvement'!$H996,\";\"))),\"\")","v":""},{"$f":"IF(ISNUMBER(SEARCH(H$206,'12.Partner Involvement'!$H996))=TRUE,(('12.Partner Involvement'!$D996*'12.Partner Involvement'!$E996)/COUNTA(_xlfn.TEXTSPLIT('12.Partner Involvement'!$H996,\";\"))),\"\")","v":""}]
[{"$f":"IF(ISNUMBER(SEARCH(A$206,'12.Partner Involvement'!$G997))=TRUE,(('12.Partner Involvement'!$D997*'12.Partner Involvement'!$E997)/COUNTA(_xlfn.TEXTSPLIT('12.Partner Involvement'!$G997,\";\"))),\"\")","v":""},{"$f":"IF(ISNUMBER(SEARCH(B$206,'12.Partner Involvement'!$G997))=TRUE,(('12.Partner Involvement'!$D997*'12.Partner Involvement'!$E997)/COUNTA(_xlfn.TEXTSPLIT('12.Partner Involvement'!$G997,\";\"))),\"\")","v":""},{"$f":"IF(ISNUMBER(SEARCH(C$206,'12.Partner Involvement'!$G997))=TRUE,(('12.Partner Involvement'!$D997*'12.Partner Involvement'!$E997)/COUNTA(_xlfn.TEXTSPLIT('12.Partner Involvement'!$G997,\";\"))),\"\")","v":""},null,{"$f":"IF(ISNUMBER(SEARCH(E$206,'12.Partner Involvement'!$H997))=TRUE,(('12.Partner Involvement'!$D997*'12.Partner Involvement'!$E997)/COUNTA(_xlfn.TEXTSPLIT('12.Partner Involvement'!$H997,\";\"))),\"\")","v":""},{"$f":"IF(ISNUMBER(SEARCH(F$206,'12.Partner Involvement'!$H997))=TRUE,(('12.Partner Involvement'!$D997*'12.Partner Involvement'!$E997)/COUNTA(_xlfn.TEXTSPLIT('12.Partner Involvement'!$H997,\";\"))),\"\")","v":""},{"$f":"IF(ISNUMBER(SEARCH(G$206,'12.Partner Involvement'!$H997))=TRUE,(('12.Partner Involvement'!$D997*'12.Partner Involvement'!$E997)/COUNTA(_xlfn.TEXTSPLIT('12.Partner Involvement'!$H997,\";\"))),\"\")","v":""},{"$f":"IF(ISNUMBER(SEARCH(H$206,'12.Partner Involvement'!$H997))=TRUE,(('12.Partner Involvement'!$D997*'12.Partner Involvement'!$E997)/COUNTA(_xlfn.TEXTSPLIT('12.Partner Involvement'!$H997,\";\"))),\"\")","v":""}]
[{"$f":"IF(ISNUMBER(SEARCH(A$206,'12.Partner Involvement'!$G998))=TRUE,(('12.Partner Involvement'!$D998*'12.Partner Involvement'!$E998)/COUNTA(_xlfn.TEXTSPLIT('12.Partner Involvement'!$G998,\";\"))),\"\")","v":""},{"$f":"IF(ISNUMBER(SEARCH(B$206,'12.Partner Involvement'!$G998))=TRUE,(('12.Partner Involvement'!$D998*'12.Partner Involvement'!$E998)/COUNTA(_xlfn.TEXTSPLIT('12.Partner Involvement'!$G998,\";\"))),\"\")","v":""},{"$f":"IF(ISNUMBER(SEARCH(C$206,'12.Partner Involvement'!$G998))=TRUE,(('12.Partner Involvement'!$D998*'12.Partner Involvement'!$E998)/COUNTA(_xlfn.TEXTSPLIT('12.Partner Involvement'!$G998,\";\"))),\"\")","v":""},null,{"$f":"IF(ISNUMBER(SEARCH(E$206,'12.Partner Involvement'!$H998))=TRUE,(('12.Partner Involvement'!$D998*'12.Partner Involvement'!$E998)/COUNTA(_xlfn.TEXTSPLIT('12.Partner Involvement'!$H998,\";\"))),\"\")","v":""},{"$f":"IF(ISNUMBER(SEARCH(F$206,'12.Partner Involvement'!$H998))=TRUE,(('12.Partner Involvement'!$D998*'12.Partner Involvement'!$E998)/COUNTA(_xlfn.TEXTSPLIT('12.Partner Involvement'!$H998,\";\"))),\"\")","v":""},{"$f":"IF(ISNUMBER(SEARCH(G$206,'12.Partner Involvement'!$H998))=TRUE,(('12.Partner Involvement'!$D998*'12.Partner Involvement'!$E998)/COUNTA(_xlfn.TEXTSPLIT('12.Partner Involvement'!$H998,\";\"))),\"\")","v":""},{"$f":"IF(ISNUMBER(SEARCH(H$206,'12.Partner Involvement'!$H998))=TRUE,(('12.Partner Involvement'!$D998*'12.Partner Involvement'!$E998)/COUNTA(_xlfn.TEXTSPLIT('12.Partner Involvement'!$H998,\";\"))),\"\")","v":""}]
[{"$f":"IF(ISNUMBER(SEARCH(A$206,'12.Partner Involvement'!$G999))=TRUE,(('12.Partner Involvement'!$D999*'12.Partner Involvement'!$E999)/COUNTA(_xlfn.TEXTSPLIT('12.Partner Involvement'!$G999,\";\"))),\"\")","v":""},{"$f":"IF(ISNUMBER(SEARCH(B$206,'12.Partner Involvement'!$G999))=TRUE,(('12.Partner Involvement'!$D999*'12.Partner Involvement'!$E999)/COUNTA(_xlfn.TEXTSPLIT('12.Partner Involvement'!$G999,\";\"))),\"\")","v":""},{"$f":"IF(ISNUMBER(SEARCH(C$206,'12.Partner Involvement'!$G999))=TRUE,(('12.Partner Involvement'!$D999*'12.Partner Involvement'!$E999)/COUNTA(_xlfn.TEXTSPLIT('12.Partner Involvement'!$G999,\";\"))),\"\")","v":""},null,{"$f":"IF(ISNUMBER(SEARCH(E$206,'12.Partner Involvement'!$H999))=TRUE,(('12.Partner Involvement'!$D999*'12.Partner Involvement'!$E999)/COUNTA(_xlfn.TEXTSPLIT('12.Partner Involvement'!$H999,\";\"))),\"\")","v":""},{"$f":"IF(ISNUMBER(SEARCH(F$206,'12.Partner Involvement'!$H999))=TRUE,(('12.Partner Involvement'!$D999*'12.Partner Involvement'!$E999)/COUNTA(_xlfn.TEXTSPLIT('12.Partner Involvement'!$H999,\";\"))),\"\")","v":""},{"$f":"IF(ISNUMBER(SEARCH(G$206,'12.Partner Involvement'!$H999))=TRUE,(('12.Partner Involvement'!$D999*'12.Partner Involvement'!$E999)/COUNTA(_xlfn.TEXTSPLIT('12.Partner Involvement'!$H999,\";\"))),\"\")","v":""},{"$f":"IF(ISNUMBER(SEARCH(H$206,'12.Partner Involvement'!$H999))=TRUE,(('12.Partner Involvement'!$D999*'12.Partner Involvement'!$E999)/COUNTA(_xlfn.TEXTSPLIT('12.Partner Involvement'!$H999,\";\"))),\"\")","v":""}]
[{"$f":"IF(ISNUMBER(SEARCH(A$206,'12.Partner Involvement'!$G1000))=TRUE,(('12.Partner Involvement'!$D1000*'12.Partner Involvement'!$E1000)/COUNTA(_xlfn.TEXTSPLIT('12.Partner Involvement'!$G1000,\";\"))),\"\")","v":""},{"$f":"IF(ISNUMBER(SEARCH(B$206,'12.Partner Involvement'!$G1000))=TRUE,(('12.Partner Involvement'!$D1000*'12.Partner Involvement'!$E1000)/COUNTA(_xlfn.TEXTSPLIT('12.Partner Involvement'!$G1000,\";\"))),\"\")","v":""},{"$f":"IF(ISNUMBER(SEARCH(C$206,'12.Partner Involvement'!$G1000))=TRUE,(('12.Partner Involvement'!$D1000*'12.Partner Involvement'!$E1000)/COUNTA(_xlfn.TEXTSPLIT('12.Partner Involvement'!$G1000,\";\"))),\"\")","v":""},null,{"$f":"IF(ISNUMBER(SEARCH(E$206,'12.Partner Involvement'!$H1000))=TRUE,(('12.Partner Involvement'!$D1000*'12.Partner Involvement'!$E1000)/COUNTA(_xlfn.TEXTSPLIT('12.Partner Involvement'!$H1000,\";\"))),\"\")","v":""},{"$f":"IF(ISNUMBER(SEARCH(F$206,'12.Partner Involvement'!$H1000))=TRUE,(('12.Partner Involvement'!$D1000*'12.Partner Involvement'!$E1000)/COUNTA(_xlfn.TEXTSPLIT('12.Partner Involvement'!$H1000,\";\"))),\"\")","v":""},{"$f":"IF(ISNUMBER(SEARCH(G$206,'12.Partner Involvement'!$H1000))=TRUE,(('12.Partner Involvement'!$D1000*'12.Partner Involvement'!$E1000)/COUNTA(_xlfn.TEXTSPLIT('12.Partner Involvement'!$H1000,\";\"))),\"\")","v":""},{"$f":"IF(ISNUMBER(SEARCH(H$206,'12.Partner Involvement'!$H1000))=TRUE,(('12.Partner Involvement'!$D1000*'12.Partner Involvement'!$E1000)/COUNTA(_xlfn.TEXTSPLIT('12.Partner Involvement'!$H1000,\";\"))),\"\")","v":""}]

{"sheet":"BLS Wage Rates","index":20,"n_rows":65,"n_cols":29,"rows_kept":65,"merged":[[0,0,0,2],[0,3,0,25]]}
["Bureau of Labor Statistics Metropolitan and Nonmetropolitan Area Occupational Employment and Wage Estimates\n",null,null,"Mean Hourly Wage "]
["https://www.bls.gov/oes/current/oes_13820.htm   ",null,null,"Anchorage","Sacramento","Denver","Atlanta","Springfield","Topeka","Lexington","Baltimore","Boston","Minneapolis","Jackson","Missoula","Lincoln","Santa Fe","Albany","Raleigh","Columbus","Portland","Providence","Columbia","Nashville","Richmond","Olympia",null,null,"Changed Occupation Code because none of the states have information for the initial code"]
["Labor Category","Occupation Code","Occupation Title","Alaska","California","Colorado","Georgia","Illinois","Kansas","Kentucky","Maryland","Massachusetts","Minnesota","Mississippi","Montana","Nebraska","New Mexico","New York","North Carolina","Ohio","Oregon","Rhode Island","South Carolina","Tennessee","Virginia","Washington",null,null,"Nupur's guess for occupation code (adjusted for instances where information was not available for any states)"]
["Administrative Assistant","43-9199","Office and Administrative Support Workers, All Other",{"v":21.77,"d":"$21.77"},{"v":19.92,"d":"$19.92"},{"v":21.75,"d":"$21.75"},{"v":21.84,"d":"$21.84"},{"v":19.66,"d":"$19.66"},{"v":21.93,"d":"$21.93"},{"v":19.18,"d":"$19.18"},{"v":21.8,"d":"$21.80"},{"v":23.35,"d":"$23.35"},{"v":18.64,"d":"$18.64"},{"v":22.7,"d":"$22.70"},{"v":19.52,"d":"$19.52"},{"v":15.76,"d":"$15.76"},{"v":20.98,"d":"$20.98"},{"v":22.43,"d":"$22.43"},{"v":21.96,"d":"$21.96"},{"v":17.18,"d":"$17.18"},{"v":22.65,"d":"$22.65"},{"v":25.82,"d":"$25.82"},{"v":23.75,"d":"$23.75"},{"v":21.13,"d":"$21.13"},{"v":21.3,"d":"$21.30"},{"v":20.75,"d":"$20.75"},null,null,"New position added based on Year 1 state responses"]
["AmeriCorps Volunteer","21-1099","Community and Social Service Specialists, All Other",{"v":22.45,"d":"$22.45"},{"v":27.51,"d":"$27.51"},{"v":27.24,"d":"$27.24"},{"v":23.84,"d":"$23.84"},{"v":16.3,"d":"$16.30"},{"v":19.65,"d":"$19.65"},{"v":26.53,"d":"$26.53"},{"v":22.55,"d":"$22.55"},{"v":27.06,"d":"$27.06"},{"v":25.99,"d":"$25.99"},{"v":18.38,"d":"$18.38"},{"v":21.12,"d":"$21.12"},{"v":22.31,"d":"$22.31"},{"v":25.66,"d":"$25.66"},{"v":34.43,"d":"$34.43"},{"v":25.48,"d":"$25.48"},{"v":28.54,"d":"$28.54"},{"v":25.51,"d":"$25.51"},{"v":27.76,"d":"$27.76"},{"v":20.07,"d":"$20.07"},{"v":21.5,"d":"$21.50"},{"v":31.41,"d":"$31.41"},{"v":34.28,"d":"$34.28"},null,null,"Adjusted to reflect estimates from a different metropolitan area within the state (or if unavailable, estimates from a different state)"]
["Assistant Director","11-1021","General and Operations Managers",{"v":54.98,"d":"$54.98"},{"v":67.53,"d":"$67.53"},{"v":75.18,"d":"$75.18"},{"v":59.75,"d":"$59.75"},{"v":52.04,"d":"$52.04"},{"v":42.45,"d":"$42.45"},{"v":45.5,"d":"$45.50"},{"v":55.22,"d":"$55.22"},{"v":74.45,"d":"$74.45"},{"v":56.37,"d":"$56.37"},{"v":43.86,"d":"$43.86"},{"v":47.83,"d":"$47.83"},{"v":47.07,"d":"$47.07"},{"v":54.49,"d":"$54.49"},{"v":61.03,"d":"$61.03"},{"v":64.48,"d":"$64.48"},{"v":57.91,"d":"$57.91"},{"v":56.83,"d":"$56.83"},{"v":65.29,"d":"$65.29"},{"v":48.46,"d":"$48.46"},{"v":67.2,"d":"$67.20"},{"v":59.05,"d":"$59.05"},{"v":55.35,"d":"$55.35"},null,null,"Other Adjustments/Changes"]
["Community Health Educator","21-1091","Health Educators",{"v":33.75,"d":"$33.75"},{"v":35.88,"d":"$35.88"},{"v":28.49,"d":"$28.49"},{"v":47.64,"d":"$47.64"},{"v":30.54,"d":"$30.54"},{"v":27.29,"d":"$27.29"},{"v":27.83,"d":"$27.83"},{"v":27.88,"d":"$27.88"},{"v":35.04,"d":"$35.04"},{"v":31.17,"d":"$31.17"},{"v":23.81,"d":"$23.81"},{"v":32.71,"d":"$32.71"},{"v":26.37,"d":"$26.37"},{"v":23.68,"d":"$23.68"},{"v":31.85,"d":"$31.85"},{"v":31.53,"d":"$31.53"},{"v":28.24,"d":"$28.24"},{"v":37.47,"d":"$37.47"},{"v":35.92,"d":"$35.92"},{"v":25.18,"d":"$25.18"},{"v":32.68,"d":"$32.68"},{"v":29.01,"d":"$29.01"},{"v":31.34,"d":"$31.34"}]
["Community Health Worker","21-1094","Community Health Workers",{"v":29.2,"d":"$29.20"},{"v":30.51,"d":"$30.51"},{"v":25.67,"d":"$25.67"},{"v":24.48,"d":"$24.48"},{"v":24.79,"d":"$24.79"},{"v":22.26,"d":"$22.26"},{"v":20.39,"d":"$20.39"},{"v":22.4,"d":"$22.40"},{"v":25.39,"d":"$25.39"},{"v":23.81,"d":"$23.81"},{"v":19.15,"d":"$19.15"},{"v":22.38,"d":"$22.38"},{"v":23.25,"d":"$23.25"},{"v":31.48,"d":"$31.48"},{"v":29.62,"d":"$29.62"},{"v":25.32,"d":"$25.32"},{"v":20.78,"d":"$20.78"},{"v":27.93,"d":"$27.93"},{"v":28.53,"d":"$28.53"},{"v":22.62,"d":"$22.62"},{"v":24.56,"d":"$24.56"},{"v":27.13,"d":"$27.13"},{"v":22.67,"d":"$22.67"}]
["Community Outreach Worker","21-1094","Community Health Workers",{"v":29.2,"d":"$29.20"},{"v":30.51,"d":"$30.51"},{"v":25.67,"d":"$25.67"},{"v":24.48,"d":"$24.48"},{"v":24.79,"d":"$24.79"},{"v":22.26,"d":"$22.26"},{"v":20.39,"d":"$20.39"},{"v":22.4,"d":"$22.40"},{"v":25.39,"d":"$25.39"},{"v":23.81,"d":"$23.81"},{"v":19.15,"d":"$19.15"},{"v":22.38,"d":"$22.38"},{"v":23.25,"d":"$23.25"},{"v":31.48,"d":"$31.48"},{"v":29.62,"d":"$29.62"},{"v":25.32,"d":"$25.32"},{"v":20.78,"d":"$20.78"},{"v":27.93,"d":"$27.93"},{"v":28.53,"d":"$28.53"},{"v":22.62,"d":"$22.62"},{"v":24.56,"d":"$24.56"},{"v":27.13,"d":"$27.13"},{"v":22.67,"d":"$22.67"}]
["Community Outreach Coordinator","21-1094","Community Health Workers",{"v":29.2,"d":"$29.20"},{"v":30.51,"d":"$30.51"},{"v":25.67,"d":"$25.67"},{"v":24.48,"d":"$24.48"},{"v":24.79,"d":"$24.79"},{"v":22.26,"d":"$22.26"},{"v":20.39,"d":"$20.39"},{"v":22.4,"d":"$22.40"},{"v":25.39,"d":"$25.39"},{"v":23.81,"d":"$23.81"},{"v":19.15,"d":"$19.15"},{"v":22.38,"d":"$22.38"},{"v":23.25,"d":"$23.25"},{"v":31.48,"d":"$31.48"},{"v":29.62,"d":"$29.62"},{"v":25.32,"d":"$25.32"},{"v":20.78,"d":"$20.78"},{"v":27.93,"d":"$27.93"},{"v":28.53,"d":"$28.53"},{"v":22.62,"d":"$22.62"},{"v":24.56,"d":"$24.56"},{"v":27.13,"d":"$27.13"},{"v":22.67,"d":"$22.67"}]
["Community Health Liaison","21-1094","Community Health Workers",{"v":29.2,"d":"$29.20"},{"v":30.51,"d":"$30.51"},{"v":25.67,"d":"$25.67"},{"v":24.48,"d":"$24.48"},{"v":24.79,"d":"$24.79"},{"v":22.26,"d":"$22.26"},{"v":20.39,"d":"$20.39"},{"v":22.4,"d":"$22.40"},{"v":25.39,"d":"$25.39"},{"v":23.81,"d":"$23.81"},{"v":19.15,"d":"$19.15"},{"v":22.38,"d":"$22.38"},{"v":23.25,"d":"$23.25"},{"v":31.48,"d":"$31.48"},{"v":29.62,"d":"$29.62"},{"v":25.32,"d":"$25.32"},{"v":20.78,"d":"$20.78"},{"v":27.93,"d":"$27.93"},{"v":28.53,"d":"$28.53"},{"v":22.62,"d":"$22.62"},{"v":24.56,"d":"$24.56"},{"v":27.13,"d":"$27.13"},{"v":22.67,"d":"$22.67"}]
["County Attorney ","23-1011","Lawyers",{"v":58.26,"d":"$58.26"},{"v":79.67,"d":"$79.67"},{"v":84.07,"d":"$84.07"},{"v":84.73,"d":"$84.73"},{"v":61.68,"d":"$61.68"},{"v":46.94,"d":"$46.94"},{"v":51.22,"d":"$51.22"},{"v":77.46,"d":"$77.46"},{"v":97.55,"d":"$97.55"},{"v":83.25,"d":"$83.25"},{"v":46.29,"d":"$46.29"},{"v":46.02,"d":"$46.02"},{"v":56.01,"d":"$56.01"},{"v":53.91,"d":"$53.91"},{"v":65.73,"d":"$65.73"},{"v":67.47,"d":"$67.47"},{"v":65.26,"d":"$65.26"},{"v":73.57,"d":"$73.57"},{"v":74.38,"d":"$74.38"},{"v":53.72,"d":"$53.72"},{"v":73.05,"d":"$73.05"},{"v":80.05,"d":"$80.05"},{"v":59.17,"d":"$59.17"}]
["Clerk","43-9061","Office Clerks, General",{"v":22.26,"d":"$22.26"},{"v":21.97,"d":"$21.97"},{"v":24.74,"d":"$24.74"},{"v":19.42,"d":"$19.42"},{"v":20.11,"d":"$20.11"},{"v":15.36,"d":"$15.36"},{"v":17.56,"d":"$17.56"},{"v":19.28,"d":"$19.28"},{"v":23.38,"d":"$23.38"},{"v":22.34,"d":"$22.34"},{"v":16.21,"d":"$16.21"},{"v":19.71,"d":"$19.71"},{"v":16.75,"d":"$16.75"},{"v":17.09,"d":"$17.09"},{"v":20.47,"d":"$20.47"},{"v":19.56,"d":"$19.56"},{"v":20.13,"d":"$20.13"},{"v":21.4,"d":"$21.40"},{"v":21.07,"d":"$21.07"},{"v":16.3,"d":"$16.30"},{"v":17.7,"d":"$17.70"},{"v":18.79,"d":"$18.79"},{"v":21.58,"d":"$21.58"}]
["Communications Specialist","27-3099","Media and Communication Workers, All Other",{"v":31.41,"d":"$31.41"},{"v":35.53,"d":"$35.53"},{"v":33.55,"d":"$33.55"},{"v":32.25,"d":"$32.25"},{"v":37.05,"d":"$37.05"},{"v":32.03,"d":"$32.03"},{"v":21.23,"d":"$21.23"},{"v":26.32,"d":"$26.32"},{"v":33.08,"d":"$33.08"},{"v":28.11,"d":"$28.11"},{"v":20.43,"d":"$20.43"},{"v":31.41,"d":"$31.41"},{"v":18.71,"d":"$18.71"},{"v":26.52,"d":"$26.52"},{"v":28.99,"d":"$28.99"},{"v":28.05,"d":"$28.05"},{"v":21.23,"d":"$21.23"},{"v":26.24,"d":"$26.24"},{"v":33.08,"d":"$33.08"},{"v":19.9,"d":"$19.90"},{"v":22.04,"d":"$22.04"},{"v":25.34,"d":"$25.34"},{"v":31.41,"d":"$31.41"}]
["Data Analyst","15-2051","Data Scientists",{"v":51.15,"d":"$51.15"},{"v":50.7,"d":"$50.70"},{"v":55.26,"d":"$55.26"},{"v":53.21,"d":"$53.21"},{"v":44.31,"d":"$44.31"},{"v":40.56,"d":"$40.56"},{"v":42.89,"d":"$42.89"},{"v":57.3,"d":"$57.30"},{"v":58.28,"d":"$58.28"},{"v":54.27,"d":"$54.27"},{"v":41.15,"d":"$41.15"},{"v":63.52,"d":"$63.52"},{"v":40.23,"d":"$40.23"},{"v":41.96,"d":"$41.96"},{"v":48.44,"d":"$48.44"},{"v":56.73,"d":"$56.73"},{"v":45.1,"d":"$45.10"},{"v":56.5,"d":"$56.50"},{"v":55.95,"d":"$55.95"},{"v":41.1,"d":"$41.10"},{"v":54.73,"d":"$54.73"},{"v":61.01,"d":"$61.01"},{"v":70.81,"d":"$70.81"}]
["Data Specialist","15-2051","Data Scientists",{"v":51.15,"d":"$51.15"},{"v":50.7,"d":"$50.70"},{"v":55.26,"d":"$55.26"},{"v":53.21,"d":"$53.21"},{"v":44.31,"d":"$44.31"},{"v":40.56,"d":"$40.56"},{"v":42.89,"d":"$42.89"},{"v":57.3,"d":"$57.30"},{"v":58.28,"d":"$58.28"},{"v":54.27,"d":"$54.27"},{"v":41.15,"d":"$41.15"},{"v":63.52,"d":"$63.52"},{"v":40.23,"d":"$40.23"},{"v":41.96,"d":"$41.96"},{"v":48.44,"d":"$48.44"},{"v":56.73,"d":"$56.73"},{"v":45.1,"d":"$45.10"},{"v":56.5,"d":"$56.50"},{"v":55.95,"d":"$55.95"},{"v":41.1,"d":"$41.10"},{"v":54.73,"d":"$54.73"},{"v":61.01,"d":"$61.01"},{"v":70.81,"d":"$70.81"}]
["Data Manager","11-1021","General and Operations Managers",{"v":54.98,"d":"$54.98"},{"v":67.53,"d":"$67.53"},{"v":75.18,"d":"$75.18"},{"v":59.75,"d":"$59.75"},{"v":52.04,"d":"$52.04"},{"v":42.45,"d":"$42.45"},{"v":45.5,"d":"$45.50"},{"v":55.22,"d":"$55.22"},{"v":74.45,"d":"$74.45"},{"v":56.37,"d":"$56.37"},{"v":43.86,"d":"$43.86"},{"v":47.83,"d":"$47.83"},{"v":47.07,"d":"$47.07"},{"v":54.49,"d":"$54.49"},{"v":61.03,"d":"$61.03"},{"v":64.48,"d":"$64.48"},{"v":57.91,"d":"$57.91"},{"v":56.83,"d":"$56.83"},{"v":65.29,"d":"$65.29"},{"v":48.46,"d":"$48.46"},{"v":67.2,"d":"$67.20"},{"v":59.05,"d":"$59.05"},{"v":55.35,"d":"$55.35"}]
["Director/Deputy Director","11-1021","General and Operations Managers",{"v":54.98,"d":"$54.98"},{"v":67.53,"d":"$67.53"},{"v":75.18,"d":"$75.18"},{"v":59.75,"d":"$59.75"},{"v":52.04,"d":"$52.04"},{"v":42.45,"d":"$42.45"},{"v":45.5,"d":"$45.50"},{"v":55.22,"d":"$55.22"},{"v":74.45,"d":"$74.45"},{"v":56.37,"d":"$56.37"},{"v":43.86,"d":"$43.86"},{"v":47.83,"d":"$47.83"},{"v":47.07,"d":"$47.07"},{"v":54.49,"d":"$54.49"},{"v":61.03,"d":"$61.03"},{"v":64.48,"d":"$64.48"},{"v":57.91,"d":"$57.91"},{"v":56.83,"d":"$56.83"},{"v":65.29,"d":"$65.29"},{"v":48.46,"d":"$48.46"},{"v":67.2,"d":"$67.20"},{"v":59.05,"d":"$59.05"},{"v":55.35,"d":"$55.35"}]
["Economist","19-3011","Economists",{"v":44.81,"d":"$44.81"},{"v":46.25,"d":"$46.25"},{"v":49.28,"d":"$49.28"},{"v":38.75,"d":"$38.75"},{"v":59.89,"d":"$59.89"},{"v":53.45,"d":"$53.45"},{"v":52.58,"d":"$52.58"},{"v":56.06,"d":"$56.06"},{"v":62.85,"d":"$62.85"},{"v":52.54,"d":"$52.54"},{"v":63.72,"d":"$63.72"},{"v":53.31,"d":"$53.31"},{"v":53.45,"d":"$53.45"},{"v":39.83,"d":"$39.83"},{"v":41.52,"d":"$41.52"},{"v":42.3,"d":"$42.30"},{"v":55.51,"d":"$55.51"},{"v":64.83,"d":"$64.83"},{"v":62.85,"d":"$62.85"},{"v":38.75,"d":"$38.75"},{"v":39.23,"d":"$39.23"},{"v":60.96,"d":"$60.96"},{"v":44.14,"d":"$44.14"}]
["Epidemiologist","19-1041","Epidemiologists",{"v":38.62,"d":"$38.62"},{"v":51.34,"d":"$51.34"},{"v":34.48,"d":"$34.48"},{"v":31.06,"d":"$31.06"},{"v":32.62,"d":"$32.62"},{"v":28.74,"d":"$28.74"},{"v":28.47,"d":"$28.47"},{"v":43.46,"d":"$43.46"},{"v":51.7,"d":"$51.70"},{"v":41.22,"d":"$41.22"},{"v":23.77,"d":"$23.77"},{"v":58.33,"d":"$58.33"},{"v":32.27,"d":"$32.27"},{"v":38.8,"d":"$38.80"},{"v":66.32,"d":"$66.32"},{"v":35.09,"d":"$35.09"},{"v":37.61,"d":"$37.61"},{"v":39.47,"d":"$39.47"},{"v":44.33,"d":"$44.33"},{"v":35.09,"d":"$35.09"},{"v":42.97,"d":"$42.97"},{"v":35.42,"d":"$35.42"},{"v":58.33,"d":"$58.33"}]
["Evaluation Coordinator","21-1099","Community and Social Service Specialists, All Other",{"v":22.45,"d":"$22.45"},{"v":27.51,"d":"$27.51"},{"v":27.24,"d":"$27.24"},{"v":23.84,"d":"$23.84"},{"v":16.3,"d":"$16.30"},{"v":19.65,"d":"$19.65"},{"v":26.53,"d":"$26.53"},{"v":22.55,"d":"$22.55"},{"v":27.06,"d":"$27.06"},{"v":25.99,"d":"$25.99"},{"v":18.38,"d":"$18.38"},{"v":21.12,"d":"$21.12"},{"v":22.31,"d":"$22.31"},{"v":25.66,"d":"$25.66"},{"v":34.43,"d":"$34.43"},{"v":25.48,"d":"$25.48"},{"v":28.54,"d":"$28.54"},{"v":25.51,"d":"$25.51"},{"v":27.76,"d":"$27.76"},{"v":20.07,"d":"$20.07"},{"v":21.5,"d":"$21.50"},{"v":31.41,"d":"$31.41"},{"v":34.28,"d":"$34.28"}]
["Evaluator","21-1099","Community and Social Service Specialists, All Other",{"v":22.45,"d":"$22.45"},{"v":27.51,"d":"$27.51"},{"v":27.24,"d":"$27.24"},{"v":23.84,"d":"$23.84"},{"v":16.3,"d":"$16.30"},{"v":19.65,"d":"$19.65"},{"v":26.53,"d":"$26.53"},{"v":22.55,"d":"$22.55"},{"v":27.06,"d":"$27.06"},{"v":25.99,"d":"$25.99"},{"v":18.38,"d":"$18.38"},{"v":21.12,"d":"$21.12"},{"v":22.31,"d":"$22.31"},{"v":25.66,"d":"$25.66"},{"v":34.43,"d":"$34.43"},{"v":25.48,"d":"$25.48"},{"v":28.54,"d":"$28.54"},{"v":25.51,"d":"$25.51"},{"v":27.76,"d":"$27.76"},{"v":20.07,"d":"$20.07"},{"v":21.5,"d":"$21.50"},{"v":31.41,"d":"$31.41"},{"v":34.28,"d":"$34.28"}]
["Executive Director, CEO","11-1011","Chief Executives",{"v":92.88,"d":"$92.88"},{"v":87.63,"d":"$87.63"},{"v":150.55,"d":"$150.55"},{"v":116.85,"d":"$116.85"},{"v":148.26,"d":"$148.26"},{"v":71.4,"d":"$71.40"},{"v":110.54,"d":"$110.54"},{"v":129.69,"d":"$129.69"},{"v":124.65,"d":"$124.65"},{"v":113.89,"d":"$113.89"},{"v":86.64,"d":"$86.64"},{"v":133.53,"d":"$133.53"},{"v":120.52,"d":"$120.52"},{"v":74.44,"d":"$74.44"},{"v":94.17,"d":"$94.17"},{"v":152.79,"d":"$152.79"},{"v":118.27,"d":"$118.27"},{"v":168.03,"d":"$168.03"},{"v":117.56,"d":"$117.56"},{"v":112.47,"d":"$112.47"},{"v":109.53,"d":"$109.53"},{"v":131.58,"d":"$131.58"},{"v":104.72,"d":"$104.72"}]
["Finance Supervisor/Manager",413395,"Financial Managers",{"v":72.72,"d":"$72.72"},{"v":79.36,"d":"$79.36"},{"v":94.94,"d":"$94.94"},{"v":83.96,"d":"$83.96"},{"v":64.09,"d":"$64.09"},{"v":68.08,"d":"$68.08"},{"v":65.06,"d":"$65.06"},{"v":76.62,"d":"$76.62"},{"v":88.25,"d":"$88.25"},{"v":76.74,"d":"$76.74"},{"v":53.73,"d":"$53.73"},{"v":59.61,"d":"$59.61"},{"v":61.87,"d":"$61.87"},{"v":53.16,"d":"$53.16"},{"v":76.19,"d":"$76.19"},{"v":74.45,"d":"$74.45"},{"v":71.54,"d":"$71.54"},{"v":75.43,"d":"$75.43"},{"v":81.58,"d":"$81.58"},{"v":59.98,"d":"$59.98"},{"v":72.46,"d":"$72.46"},{"v":80.46,"d":"$80.46"},{"v":64.31,"d":"$64.31"}]
["Financial Services Consultant","13-0000","Business and Financial Operations Occupations",{"v":40.95,"d":"$40.95"},{"v":40.28,"d":"$40.28"},{"v":43.62,"d":"$43.62"},{"v":41.97,"d":"$41.97"},{"v":37.49,"d":"$37.49"},{"v":32.77,"d":"$32.77"},{"v":35.55,"d":"$35.55"},{"v":43.81,"d":"$43.81"},{"v":47.65,"d":"$47.65"},{"v":43.09,"d":"$43.09"},{"v":32.31,"d":"$32.31"},{"v":32.98,"d":"$32.98"},{"v":33.67,"d":"$33.67"},{"v":31.47,"d":"$31.47"},{"v":40.79,"d":"$40.79"},{"v":40.06,"d":"$40.06"},{"v":38.97,"d":"$38.97"},{"v":41.05,"d":"$41.05"},{"v":41.87,"d":"$41.87"},{"v":33.7,"d":"$33.70"},{"v":34.89,"d":"$34.89"},{"v":39.71,"d":"$39.71"},{"v":36.92,"d":"$36.92"}]
["Fiscal/Financial Analyst","13-2051","Financial and Investment Analysts",{"v":60.49,"d":"$60.49"},{"v":49.41,"d":"$49.41"},{"v":54,"d":"$54.00"},{"v":45.85,"d":"$45.85"},{"v":41.13,"d":"$41.13"},{"v":34.7,"d":"$34.70"},{"v":44.52,"d":"$44.52"},{"v":52.59,"d":"$52.59"},{"v":54.71,"d":"$54.71"},{"v":47.4,"d":"$47.40"},{"v":41.23,"d":"$41.23"},{"v":37.21,"d":"$37.21"},{"v":39.53,"d":"$39.53"},{"v":42.6,"d":"$42.60"},{"v":43.08,"d":"$43.08"},{"v":46.8,"d":"$46.80"},{"v":45.55,"d":"$45.55"},{"v":49.47,"d":"$49.47"},{"v":44.74,"d":"$44.74"},{"v":36.31,"d":"$36.31"},{"v":45,"d":"$45.00"},{"v":49.01,"d":"$49.01"},{"v":31.61,"d":"$31.61"}]
["Fiscal/Financial Specialist","13-2099","Financial Specialists, All Other",{"v":40.3,"d":"$40.30"},{"v":40.81,"d":"$40.81"},{"v":47.45,"d":"$47.45"},{"v":40.57,"d":"$40.57"},{"v":41.77,"d":"$41.77"},{"v":31.78,"d":"$31.78"},{"v":34.8,"d":"$34.80"},{"v":43.14,"d":"$43.14"},{"v":49.83,"d":"$49.83"},{"v":40.91,"d":"$40.91"},{"v":30.18,"d":"$30.18"},{"v":34.16,"d":"$34.16"},{"v":35.06,"d":"$35.06"},{"v":25.94,"d":"$25.94"},{"v":43.45,"d":"$43.45"},{"v":33.8,"d":"$33.80"},{"v":42.3,"d":"$42.30"},{"v":44.27,"d":"$44.27"},{"v":41.86,"d":"$41.86"},{"v":28.85,"d":"$28.85"},{"v":35.28,"d":"$35.28"},{"v":34.52,"d":"$34.52"},{"v":41.21,"d":"$41.21"}]
["Fellow","21-1093","Social and Human Service Assistants",{"v":21.81,"d":"$21.81"},{"v":23.45,"d":"$23.45"},{"v":21.77,"d":"$21.77"},{"v":17.31,"d":"$17.31"},{"v":22.95,"d":"$22.95"},{"v":18.04,"d":"$18.04"},{"v":18.26,"d":"$18.26"},{"v":19.02,"d":"$19.02"},{"v":19.71,"d":"$19.71"},{"v":20.89,"d":"$20.89"},{"v":15.46,"d":"$15.46"},{"v":15.33,"d":"$15.33"},{"v":15.83,"d":"$15.83"},{"v":21.02,"d":"$21.02"},{"v":20.25,"d":"$20.25"},{"v":15.54,"d":"$15.54"},{"v":19.38,"d":"$19.38"},{"v":21.74,"d":"$21.74"},{"v":19.65,"d":"$19.65"},{"v":18.17,"d":"$18.17"},{"v":17.59,"d":"$17.59"},{"v":20.24,"d":"$20.24"},{"v":20.12,"d":"$20.12"}]
["Grants Manager",413395,"Financial Managers",{"v":72.72,"d":"$72.72"},{"v":79.36,"d":"$79.36"},{"v":94.94,"d":"$94.94"},{"v":83.96,"d":"$83.96"},{"v":64.09,"d":"$64.09"},{"v":68.08,"d":"$68.08"},{"v":65.06,"d":"$65.06"},{"v":76.62,"d":"$76.62"},{"v":88.25,"d":"$88.25"},{"v":76.74,"d":"$76.74"},{"v":53.73,"d":"$53.73"},{"v":59.61,"d":"$59.61"},{"v":61.87,"d":"$61.87"},{"v":53.16,"d":"$53.16"},{"v":76.19,"d":"$76.19"},{"v":74.45,"d":"$74.45"},{"v":71.54,"d":"$71.54"},{"v":75.43,"d":"$75.43"},{"v":81.58,"d":"$81.58"},{"v":59.98,"d":"$59.98"},{"v":72.46,"d":"$72.46"},{"v":80.46,"d":"$80.46"},{"v":64.31,"d":"$64.31"}]
["Health Educator","21-1091","Health Educators",{"v":33.75,"d":"$33.75"},{"v":35.88,"d":"$35.88"},{"v":28.49,"d":"$28.49"},{"v":47.64,"d":"$47.64"},{"v":30.54,"d":"$30.54"},{"v":27.29,"d":"$27.29"},{"v":27.83,"d":"$27.83"},{"v":27.88,"d":"$27.88"},{"v":35.04,"d":"$35.04"},{"v":31.17,"d":"$31.17"},{"v":23.81,"d":"$23.81"},{"v":32.71,"d":"$32.71"},{"v":26.37,"d":"$26.37"},{"v":23.68,"d":"$23.68"},{"v":31.85,"d":"$31.85"},{"v":31.53,"d":"$31.53"},{"v":28.24,"d":"$28.24"},{"v":37.47,"d":"$37.47"},{"v":35.92,"d":"$35.92"},{"v":25.18,"d":"$25.18"},{"v":32.68,"d":"$32.68"},{"v":29.01,"d":"$29.01"},{"v":31.34,"d":"$31.34"}]
["Health Policy Analyst","15-2031","Operations Research Analysts",{"v":41.26,"d":"$41.26"},{"v":44.8,"d":"$44.80"},{"v":46.25,"d":"$46.25"},{"v":40.4,"d":"$40.40"},{"v":52.54,"d":"$52.54"},{"v":27.17,"d":"$27.17"},{"v":28.44,"d":"$28.44"},{"v":45.69,"d":"$45.69"},{"v":42.76,"d":"$42.76"},{"v":47.15,"d":"$47.15"},{"v":37.62,"d":"$37.62"},{"v":35.14,"d":"$35.14"},{"v":40.86,"d":"$40.86"},{"v":46.67,"d":"$46.67"},{"v":41.48,"d":"$41.48"},{"v":43.47,"d":"$43.47"},{"v":47.16,"d":"$47.16"},{"v":46.12,"d":"$46.12"},{"v":38.77,"d":"$38.77"},{"v":36.36,"d":"$36.36"},{"v":31.25,"d":"$31.25"},{"v":51.54,"d":"$51.54"},{"v":35.86,"d":"$35.86"}]
["Health Program Administrator","11-1021","General and Operations Managers",{"v":54.98,"d":"$54.98"},{"v":67.53,"d":"$67.53"},{"v":75.18,"d":"$75.18"},{"v":59.75,"d":"$59.75"},{"v":52.04,"d":"$52.04"},{"v":42.45,"d":"$42.45"},{"v":45.5,"d":"$45.50"},{"v":55.22,"d":"$55.22"},{"v":74.45,"d":"$74.45"},{"v":56.37,"d":"$56.37"},{"v":43.86,"d":"$43.86"},{"v":47.83,"d":"$47.83"},{"v":47.07,"d":"$47.07"},{"v":54.49,"d":"$54.49"},{"v":61.03,"d":"$61.03"},{"v":64.48,"d":"$64.48"},{"v":57.91,"d":"$57.91"},{"v":56.83,"d":"$56.83"},{"v":65.29,"d":"$65.29"},{"v":48.46,"d":"$48.46"},{"v":67.2,"d":"$67.20"},{"v":59.05,"d":"$59.05"},{"v":55.35,"d":"$55.35"}]
["Health Program Coordinator","21-1099","Community and Social Service Specialists, All Other",{"v":22.45,"d":"$22.45"},{"v":27.51,"d":"$27.51"},{"v":27.24,"d":"$27.24"},{"v":23.84,"d":"$23.84"},{"v":16.3,"d":"$16.30"},{"v":19.65,"d":"$19.65"},{"v":26.53,"d":"$26.53"},{"v":22.55,"d":"$22.55"},{"v":27.06,"d":"$27.06"},{"v":25.99,"d":"$25.99"},{"v":18.38,"d":"$18.38"},{"v":21.12,"d":"$21.12"},{"v":22.31,"d":"$22.31"},{"v":25.66,"d":"$25.66"},{"v":34.43,"d":"$34.43"},{"v":25.48,"d":"$25.48"},{"v":28.54,"d":"$28.54"},{"v":25.51,"d":"$25.51"},{"v":27.76,"d":"$27.76"},{"v":20.07,"d":"$20.07"},{"v":21.5,"d":"$21.50"},{"v":31.41,"d":"$31.41"},{"v":34.28,"d":"$34.28"}]
["Implementation Specialist","21-1099","Community and Social Service Specialists, All Other",{"v":22.45,"d":"$22.45"},{"v":27.51,"d":"$27.51"},{"v":27.24,"d":"$27.24"},{"v":23.84,"d":"$23.84"},{"v":16.3,"d":"$16.30"},{"v":19.65,"d":"$19.65"},{"v":26.53,"d":"$26.53"},{"v":22.55,"d":"$22.55"},{"v":27.06,"d":"$27.06"},{"v":25.99,"d":"$25.99"},{"v":18.38,"d":"$18.38"},{"v":21.12,"d":"$21.12"},{"v":22.31,"d":"$22.31"},{"v":25.66,"d":"$25.66"},{"v":34.43,"d":"$34.43"},{"v":25.48,"d":"$25.48"},{"v":28.54,"d":"$28.54"},{"v":25.51,"d":"$25.51"},{"v":27.76,"d":"$27.76"},{"v":20.07,"d":"$20.07"},{"v":21.5,"d":"$21.50"},{"v":31.41,"d":"$31.41"},{"v":34.28,"d":"$34.28"}]
["Injury Prevention Specialist","21-1099","Community and Social Service Specialists, All Other",{"v":22.45,"d":"$22.45"},{"v":27.51,"d":"$27.51"},{"v":27.24,"d":"$27.24"},{"v":23.84,"d":"$23.84"},{"v":16.3,"d":"$16.30"},{"v":19.65,"d":"$19.65"},{"v":26.53,"d":"$26.53"},{"v":22.55,"d":"$22.55"},{"v":27.06,"d":"$27.06"},{"v":25.99,"d":"$25.99"},{"v":18.38,"d":"$18.38"},{"v":21.12,"d":"$21.12"},{"v":22.31,"d":"$22.31"},{"v":25.66,"d":"$25.66"},{"v":34.43,"d":"$34.43"},{"v":25.48,"d":"$25.48"},{"v":28.54,"d":"$28.54"},{"v":25.51,"d":"$25.51"},{"v":27.76,"d":"$27.76"},{"v":20.07,"d":"$20.07"},{"v":21.5,"d":"$21.50"},{"v":31.41,"d":"$31.41"},{"v":34.28,"d":"$34.28"}]
["Management Analyst","13-1111","Management Analysts",{"v":50.71,"d":"$50.71"},{"v":39.24,"d":"$39.24"},{"v":50.74,"d":"$50.74"},{"v":54.44,"d":"$54.44"},{"v":44.49,"d":"$44.49"},{"v":31.35,"d":"$31.35"},{"v":47.23,"d":"$47.23"},{"v":53.42,"d":"$53.42"},{"v":59.87,"d":"$59.87"},{"v":51.5,"d":"$51.50"},{"v":39.36,"d":"$39.36"},{"v":41.83,"d":"$41.83"},{"v":35.11,"d":"$35.11"},{"v":28.07,"d":"$28.07"},{"v":43.58,"d":"$43.58"},{"v":47.46,"d":"$47.46"},{"v":45.4,"d":"$45.40"},{"v":47.75,"d":"$47.75"},{"v":50.95,"d":"$50.95"},{"v":41.69,"d":"$41.69"},{"v":45.31,"d":"$45.31"},{"v":45.26,"d":"$45.26"},{"v":38.81,"d":"$38.81"}]
["Medical Doctor ","29-1229","Physicians, All Other",{"v":112.03,"d":"$112.03"},{"v":145.43,"d":"$145.43"},{"v":156.83,"d":"$156.83"},{"v":123.8,"d":"$123.80"},{"v":146.21,"d":"$146.21"},{"v":104.46,"d":"$104.46"},{"v":146.74,"d":"$146.74"},{"v":120.21,"d":"$120.21"},{"v":106.88,"d":"$106.88"},{"v":145.35,"d":"$145.35"},{"v":139,"d":"$139.00"},{"v":129.21,"d":"$129.21"},{"v":131.4,"d":"$131.40"},{"v":99.51,"d":"$99.51"},{"v":138.18,"d":"$138.18"},{"v":140.14,"d":"$140.14"},{"v":102.84,"d":"$102.84"},{"v":111.11,"d":"$111.11"},{"v":100.09,"d":"$100.09"},{"v":142.61,"d":"$142.61"},{"v":131.73,"d":"$131.73"},{"v":79.68,"d":"$79.68"},{"v":109.22,"d":"$109.22"}]
["Office Manager","11-1021","General and Operations Managers",{"v":54.98,"d":"$54.98"},{"v":67.53,"d":"$67.53"},{"v":75.18,"d":"$75.18"},{"v":59.75,"d":"$59.75"},{"v":52.04,"d":"$52.04"},{"v":42.45,"d":"$42.45"},{"v":45.5,"d":"$45.50"},{"v":55.22,"d":"$55.22"},{"v":74.45,"d":"$74.45"},{"v":56.37,"d":"$56.37"},{"v":43.86,"d":"$43.86"},{"v":47.83,"d":"$47.83"},{"v":47.07,"d":"$47.07"},{"v":54.49,"d":"$54.49"},{"v":61.03,"d":"$61.03"},{"v":64.48,"d":"$64.48"},{"v":57.91,"d":"$57.91"},{"v":56.83,"d":"$56.83"},{"v":65.29,"d":"$65.29"},{"v":48.46,"d":"$48.46"},{"v":67.2,"d":"$67.20"},{"v":59.05,"d":"$59.05"},{"v":55.35,"d":"$55.35"}]
["Operations & Policy Analyst","15-2031","Operations Research Analysts",{"v":41.26,"d":"$41.26"},{"v":44.8,"d":"$44.80"},{"v":46.25,"d":"$46.25"},{"v":40.4,"d":"$40.40"},{"v":52.54,"d":"$52.54"},{"v":27.17,"d":"$27.17"},{"v":28.44,"d":"$28.44"},{"v":45.69,"d":"$45.69"},{"v":42.76,"d":"$42.76"},{"v":47.15,"d":"$47.15"},{"v":37.62,"d":"$37.62"},{"v":35.14,"d":"$35.14"},{"v":40.86,"d":"$40.86"},{"v":46.67,"d":"$46.67"},{"v":41.48,"d":"$41.48"},{"v":43.47,"d":"$43.47"},{"v":47.16,"d":"$47.16"},{"v":46.12,"d":"$46.12"},{"v":38.77,"d":"$38.77"},{"v":36.36,"d":"$36.36"},{"v":31.25,"d":"$31.25"},{"v":51.54,"d":"$51.54"},{"v":35.86,"d":"$35.86"}]
["Police Assistant Chief","33-1012","First-Line Supervisors of Police and Detectives",{"v":67.04,"d":"$67.04"},{"v":69.44,"d":"$69.44"},{"v":56.74,"d":"$56.74"},{"v":37.47,"d":"$37.47"},{"v":56.89,"d":"$56.89"},{"v":39.63,"d":"$39.63"},{"v":34.68,"d":"$34.68"},{"v":51.44,"d":"$51.44"},{"v":53.56,"d":"$53.56"},{"v":52.94,"d":"$52.94"},{"v":28.48,"d":"$28.48"},{"v":55.64,"d":"$55.64"},{"v":46.32,"d":"$46.32"},{"v":44.86,"d":"$44.86"},{"v":52.37,"d":"$52.37"},{"v":38.07,"d":"$38.07"},{"v":49.08,"d":"$49.08"},{"v":57.43,"d":"$57.43"},{"v":44.5,"d":"$44.50"},{"v":35.89,"d":"$35.89"},{"v":37.97,"d":"$37.97"},{"v":45.88,"d":"$45.88"},{"v":59.03,"d":"$59.03"}]
["Police Commander","33-1012","First-Line Supervisors of Police and Detectives",{"v":67.04,"d":"$67.04"},{"v":69.44,"d":"$69.44"},{"v":56.74,"d":"$56.74"},{"v":37.47,"d":"$37.47"},{"v":56.89,"d":"$56.89"},{"v":39.63,"d":"$39.63"},{"v":34.68,"d":"$34.68"},{"v":51.44,"d":"$51.44"},{"v":53.56,"d":"$53.56"},{"v":52.94,"d":"$52.94"},{"v":28.48,"d":"$28.48"},{"v":55.64,"d":"$55.64"},{"v":46.32,"d":"$46.32"},{"v":44.86,"d":"$44.86"},{"v":52.37,"d":"$52.37"},{"v":38.07,"d":"$38.07"},{"v":49.08,"d":"$49.08"},{"v":57.43,"d":"$57.43"},{"v":44.5,"d":"$44.50"},{"v":35.89,"d":"$35.89"},{"v":37.97,"d":"$37.97"},{"v":45.88,"d":"$45.88"},{"v":59.03,"d":"$59.03"}]
["Police Officer","33-3051","Police and Sheriff's Patrol Officers",{"v":47.16,"d":"$47.16"},{"v":48.52,"d":"$48.52"},{"v":41.85,"d":"$41.85"},{"v":26.02,"d":"$26.02"},{"v":34.84,"d":"$34.84"},{"v":25.45,"d":"$25.45"},{"v":24.95,"d":"$24.95"},{"v":34.65,"d":"$34.65"},{"v":36.32,"d":"$36.32"},{"v":39.69,"d":"$39.69"},{"v":18.13,"d":"$18.13"},{"v":34.95,"d":"$34.95"},{"v":33.34,"d":"$33.34"},{"v":28.92,"d":"$28.92"},{"v":33.75,"d":"$33.75"},{"v":26.56,"d":"$26.56"},{"v":37.43,"d":"$37.43"},{"v":40.5,"d":"$40.50"},{"v":34.35,"d":"$34.35"},{"v":24.96,"d":"$24.96"},{"v":26.07,"d":"$26.07"},{"v":29.03,"d":"$29.03"},{"v":42.74,"d":"$42.74"}]
["School Resource Officer","33-3051","Police and Sheriff's Patrol Officers",{"v":47.16,"d":"$47.16"},{"v":48.52,"d":"$48.52"},{"v":41.85,"d":"$41.85"},{"v":26.02,"d":"$26.02"},{"v":34.84,"d":"$34.84"},{"v":25.45,"d":"$25.45"},{"v":24.95,"d":"$24.95"},{"v":34.65,"d":"$34.65"},{"v":36.32,"d":"$36.32"},{"v":39.69,"d":"$39.69"},{"v":18.13,"d":"$18.13"},{"v":34.95,"d":"$34.95"},{"v":33.34,"d":"$33.34"},{"v":28.92,"d":"$28.92"},{"v":33.75,"d":"$33.75"},{"v":26.56,"d":"$26.56"},{"v":37.43,"d":"$37.43"},{"v":40.5,"d":"$40.50"},{"v":34.35,"d":"$34.35"},{"v":24.96,"d":"$24.96"},{"v":26.07,"d":"$26.07"},{"v":29.03,"d":"$29.03"},{"v":42.74,"d":"$42.74"}]
["Prevention Manager","21-1099","Community and Social Service Specialists, All Other",{"v":22.45,"d":"$22.45"},{"v":27.51,"d":"$27.51"},{"v":27.24,"d":"$27.24"},{"v":23.84,"d":"$23.84"},{"v":16.3,"d":"$16.30"},{"v":19.65,"d":"$19.65"},{"v":26.53,"d":"$26.53"},{"v":22.55,"d":"$22.55"},{"v":27.06,"d":"$27.06"},{"v":25.99,"d":"$25.99"},{"v":18.38,"d":"$18.38"},{"v":21.12,"d":"$21.12"},{"v":22.31,"d":"$22.31"},{"v":25.66,"d":"$25.66"},{"v":34.43,"d":"$34.43"},{"v":25.48,"d":"$25.48"},{"v":28.54,"d":"$28.54"},{"v":25.51,"d":"$25.51"},{"v":27.76,"d":"$27.76"},{"v":20.07,"d":"$20.07"},{"v":21.5,"d":"$21.50"},{"v":31.41,"d":"$31.41"},{"v":34.28,"d":"$34.28"}]
["Principal Investigator","19-3099","Social Scientists and Related Workers, All Other",{"v":44.17,"d":"$44.17"},{"v":40.78,"d":"$40.78"},{"v":43.96,"d":"$43.96"},{"v":43.27,"d":"$43.27"},{"v":36.82,"d":"$36.82"},{"v":35.75,"d":"$35.75"},{"v":33.96,"d":"$33.96"},{"v":52.73,"d":"$52.73"},{"v":45.2,"d":"$45.20"},{"v":40.08,"d":"$40.08"},{"v":40.16,"d":"$40.16"},{"v":37.65,"d":"$37.65"},{"v":40.49,"d":"$40.49"},{"v":41.18,"d":"$41.18"},{"v":42.33,"d":"$42.33"},{"v":34.1,"d":"$34.10"},{"v":38.24,"d":"$38.24"},{"v":54.19,"d":"$54.19"},{"v":31.25,"d":"$31.25"},{"v":34.1,"d":"$34.10"},{"v":40.3,"d":"$40.30"},{"v":44.84,"d":"$44.84"},{"v":50.04,"d":"$50.04"}]
["Program Administrator","11-1021","General and Operations Managers",{"v":54.98,"d":"$54.98"},{"v":67.53,"d":"$67.53"},{"v":75.18,"d":"$75.18"},{"v":59.75,"d":"$59.75"},{"v":52.04,"d":"$52.04"},{"v":42.45,"d":"$42.45"},{"v":45.5,"d":"$45.50"},{"v":55.22,"d":"$55.22"},{"v":74.45,"d":"$74.45"},{"v":56.37,"d":"$56.37"},{"v":43.86,"d":"$43.86"},{"v":47.83,"d":"$47.83"},{"v":47.07,"d":"$47.07"},{"v":54.49,"d":"$54.49"},{"v":61.03,"d":"$61.03"},{"v":64.48,"d":"$64.48"},{"v":57.91,"d":"$57.91"},{"v":56.83,"d":"$56.83"},{"v":65.29,"d":"$65.29"},{"v":48.46,"d":"$48.46"},{"v":67.2,"d":"$67.20"},{"v":59.05,"d":"$59.05"},{"v":55.35,"d":"$55.35"}]
["Program Aide","21-1093","Social and Human Service Assistants",{"v":21.81,"d":"$21.81"},{"v":23.45,"d":"$23.45"},{"v":21.77,"d":"$21.77"},{"v":17.31,"d":"$17.31"},{"v":22.95,"d":"$22.95"},{"v":18.04,"d":"$18.04"},{"v":18.26,"d":"$18.26"},{"v":19.02,"d":"$19.02"},{"v":19.71,"d":"$19.71"},{"v":20.89,"d":"$20.89"},{"v":15.46,"d":"$15.46"},{"v":15.33,"d":"$15.33"},{"v":15.83,"d":"$15.83"},{"v":21.02,"d":"$21.02"},{"v":20.25,"d":"$20.25"},{"v":15.54,"d":"$15.54"},{"v":19.38,"d":"$19.38"},{"v":21.74,"d":"$21.74"},{"v":19.65,"d":"$19.65"},{"v":18.17,"d":"$18.17"},{"v":17.59,"d":"$17.59"},{"v":20.24,"d":"$20.24"},{"v":20.12,"d":"$20.12"}]
["Program Analyst","15-2031","Operations Research Analysts",{"v":41.26,"d":"$41.26"},{"v":44.8,"d":"$44.80"},{"v":46.25,"d":"$46.25"},{"v":40.4,"d":"$40.40"},{"v":52.54,"d":"$52.54"},{"v":27.17,"d":"$27.17"},{"v":28.44,"d":"$28.44"},{"v":45.69,"d":"$45.69"},{"v":42.76,"d":"$42.76"},{"v":47.15,"d":"$47.15"},{"v":37.62,"d":"$37.62"},{"v":35.14,"d":"$35.14"},{"v":40.86,"d":"$40.86"},{"v":46.67,"d":"$46.67"},{"v":41.48,"d":"$41.48"},{"v":43.47,"d":"$43.47"},{"v":47.16,"d":"$47.16"},{"v":46.12,"d":"$46.12"},{"v":38.77,"d":"$38.77"},{"v":36.36,"d":"$36.36"},{"v":31.25,"d":"$31.25"},{"v":51.54,"d":"$51.54"},{"v":35.86,"d":"$35.86"}]
["Program Assistant","21-1093","Social and Human Service Assistants",{"v":21.81,"d":"$21.81"},{"v":23.45,"d":"$23.45"},{"v":21.77,"d":"$21.77"},{"v":17.31,"d":"$17.31"},{"v":22.95,"d":"$22.95"},{"v":18.04,"d":"$18.04"},{"v":18.26,"d":"$18.26"},{"v":19.02,"d":"$19.02"},{"v":19.71,"d":"$19.71"},{"v":20.89,"d":"$20.89"},{"v":15.46,"d":"$15.46"},{"v":15.33,"d":"$15.33"},{"v":15.83,"d":"$15.83"},{"v":21.02,"d":"$21.02"},{"v":20.25,"d":"$20.25"},{"v":15.54,"d":"$15.54"},{"v":19.38,"d":"$19.38"},{"v":21.74,"d":"$21.74"},{"v":19.65,"d":"$19.65"},{"v":18.17,"d":"$18.17"},{"v":17.59,"d":"$17.59"},{"v":20.24,"d":"$20.24"},{"v":20.12,"d":"$20.12"}]
["Program Director","11-1021","General and Operations Managers",{"v":54.98,"d":"$54.98"},{"v":67.53,"d":"$67.53"},{"v":75.18,"d":"$75.18"},{"v":59.75,"d":"$59.75"},{"v":52.04,"d":"$52.04"},{"v":42.45,"d":"$42.45"},{"v":45.5,"d":"$45.50"},{"v":55.22,"d":"$55.22"},{"v":74.45,"d":"$74.45"},{"v":56.37,"d":"$56.37"},{"v":43.86,"d":"$43.86"},{"v":47.83,"d":"$47.83"},{"v":47.07,"d":"$47.07"},{"v":54.49,"d":"$54.49"},{"v":61.03,"d":"$61.03"},{"v":64.48,"d":"$64.48"},{"v":57.91,"d":"$57.91"},{"v":56.83,"d":"$56.83"},{"v":65.29,"d":"$65.29"},{"v":48.46,"d":"$48.46"},{"v":67.2,"d":"$67.20"},{"v":59.05,"d":"$59.05"},{"v":55.35,"d":"$55.35"}]
["Project Director","11-1021","General and Operations Managers",{"v":54.98,"d":"$54.98"},{"v":67.53,"d":"$67.53"},{"v":75.18,"d":"$75.18"},{"v":59.75,"d":"$59.75"},{"v":52.04,"d":"$52.04"},{"v":42.45,"d":"$42.45"},{"v":45.5,"d":"$45.50"},{"v":55.22,"d":"$55.22"},{"v":74.45,"d":"$74.45"},{"v":56.37,"d":"$56.37"},{"v":43.86,"d":"$43.86"},{"v":47.83,"d":"$47.83"},{"v":47.07,"d":"$47.07"},{"v":54.49,"d":"$54.49"},{"v":61.03,"d":"$61.03"},{"v":64.48,"d":"$64.48"},{"v":57.91,"d":"$57.91"},{"v":56.83,"d":"$56.83"},{"v":65.29,"d":"$65.29"},{"v":48.46,"d":"$48.46"},{"v":67.2,"d":"$67.20"},{"v":59.05,"d":"$59.05"},{"v":55.35,"d":"$55.35"}]
["Program Manager","11-1021","General and Operations Managers",{"v":54.98,"d":"$54.98"},{"v":67.53,"d":"$67.53"},{"v":75.18,"d":"$75.18"},{"v":59.75,"d":"$59.75"},{"v":52.04,"d":"$52.04"},{"v":42.45,"d":"$42.45"},{"v":45.5,"d":"$45.50"},{"v":55.22,"d":"$55.22"},{"v":74.45,"d":"$74.45"},{"v":56.37,"d":"$56.37"},{"v":43.86,"d":"$43.86"},{"v":47.83,"d":"$47.83"},{"v":47.07,"d":"$47.07"},{"v":54.49,"d":"$54.49"},{"v":61.03,"d":"$61.03"},{"v":64.48,"d":"$64.48"},{"v":57.91,"d":"$57.91"},{"v":56.83,"d":"$56.83"},{"v":65.29,"d":"$65.29"},{"v":48.46,"d":"$48.46"},{"v":67.2,"d":"$67.20"},{"v":59.05,"d":"$59.05"},{"v":55.35,"d":"$55.35"}]
["Project Manager","11-1021","General and Operations Managers",{"v":54.98,"d":"$54.98"},{"v":67.53,"d":"$67.53"},{"v":75.18,"d":"$75.18"},{"v":59.75,"d":"$59.75"},{"v":52.04,"d":"$52.04"},{"v":42.45,"d":"$42.45"},{"v":45.5,"d":"$45.50"},{"v":55.22,"d":"$55.22"},{"v":74.45,"d":"$74.45"},{"v":56.37,"d":"$56.37"},{"v":43.86,"d":"$43.86"},{"v":47.83,"d":"$47.83"},{"v":47.07,"d":"$47.07"},{"v":54.49,"d":"$54.49"},{"v":61.03,"d":"$61.03"},{"v":64.48,"d":"$64.48"},{"v":57.91,"d":"$57.91"},{"v":56.83,"d":"$56.83"},{"v":65.29,"d":"$65.29"},{"v":48.46,"d":"$48.46"},{"v":67.2,"d":"$67.20"},{"v":59.05,"d":"$59.05"},{"v":55.35,"d":"$55.35"}]
["Program Site Liaison","21-1099","Community and Social Service Specialists, All Other",{"v":22.45,"d":"$22.45"},{"v":27.51,"d":"$27.51"},{"v":27.24,"d":"$27.24"},{"v":23.84,"d":"$23.84"},{"v":16.3,"d":"$16.30"},{"v":19.65,"d":"$19.65"},{"v":26.53,"d":"$26.53"},{"v":22.55,"d":"$22.55"},{"v":27.06,"d":"$27.06"},{"v":25.99,"d":"$25.99"},{"v":18.38,"d":"$18.38"},{"v":21.12,"d":"$21.12"},{"v":22.31,"d":"$22.31"},{"v":25.66,"d":"$25.66"},{"v":34.43,"d":"$34.43"},{"v":25.48,"d":"$25.48"},{"v":28.54,"d":"$28.54"},{"v":25.51,"d":"$25.51"},{"v":27.76,"d":"$27.76"},{"v":20.07,"d":"$20.07"},{"v":21.5,"d":"$21.50"},{"v":31.41,"d":"$31.41"},{"v":34.28,"d":"$34.28"}]
["Project Coordinator","21-1099","Community and Social Service Specialists, All Other",{"v":22.45,"d":"$22.45"},{"v":27.51,"d":"$27.51"},{"v":27.24,"d":"$27.24"},{"v":23.84,"d":"$23.84"},{"v":16.3,"d":"$16.30"},{"v":19.65,"d":"$19.65"},{"v":26.53,"d":"$26.53"},{"v":22.55,"d":"$22.55"},{"v":27.06,"d":"$27.06"},{"v":25.99,"d":"$25.99"},{"v":18.38,"d":"$18.38"},{"v":21.12,"d":"$21.12"},{"v":22.31,"d":"$22.31"},{"v":25.66,"d":"$25.66"},{"v":34.43,"d":"$34.43"},{"v":25.48,"d":"$25.48"},{"v":28.54,"d":"$28.54"},{"v":25.51,"d":"$25.51"},{"v":27.76,"d":"$27.76"},{"v":20.07,"d":"$20.07"},{"v":21.5,"d":"$21.50"},{"v":31.41,"d":"$31.41"},{"v":34.28,"d":"$34.28"}]
["Program Specialist","21-1099","Community and Social Service Specialists, All Other",{"v":22.45,"d":"$22.45"},{"v":27.51,"d":"$27.51"},{"v":27.24,"d":"$27.24"},{"v":23.84,"d":"$23.84"},{"v":16.3,"d":"$16.30"},{"v":19.65,"d":"$19.65"},{"v":26.53,"d":"$26.53"},{"v":22.55,"d":"$22.55"},{"v":27.06,"d":"$27.06"},{"v":25.99,"d":"$25.99"},{"v":18.38,"d":"$18.38"},{"v":21.12,"d":"$21.12"},{"v":22.31,"d":"$22.31"},{"v":25.66,"d":"$25.66"},{"v":34.43,"d":"$34.43"},{"v":25.48,"d":"$25.48"},{"v":28.54,"d":"$28.54"},{"v":25.51,"d":"$25.51"},{"v":27.76,"d":"$27.76"},{"v":20.07,"d":"$20.07"},{"v":21.5,"d":"$21.50"},{"v":31.41,"d":"$31.41"},{"v":34.28,"d":"$34.28"}]
["Public Health Specialist","21-1099","Community and Social Service Specialists, All Other",{"v":22.45,"d":"$22.45"},{"v":27.51,"d":"$27.51"},{"v":27.24,"d":"$27.24"},{"v":23.84,"d":"$23.84"},{"v":16.3,"d":"$16.30"},{"v":19.65,"d":"$19.65"},{"v":26.53,"d":"$26.53"},{"v":22.55,"d":"$22.55"},{"v":27.06,"d":"$27.06"},{"v":25.99,"d":"$25.99"},{"v":18.38,"d":"$18.38"},{"v":21.12,"d":"$21.12"},{"v":22.31,"d":"$22.31"},{"v":25.66,"d":"$25.66"},{"v":34.43,"d":"$34.43"},{"v":25.48,"d":"$25.48"},{"v":28.54,"d":"$28.54"},{"v":25.51,"d":"$25.51"},{"v":27.76,"d":"$27.76"},{"v":20.07,"d":"$20.07"},{"v":21.5,"d":"$21.50"},{"v":31.41,"d":"$31.41"},{"v":34.28,"d":"$34.28"}]
["Scientist","19-3099","Social Scientists and Related Workers, All Other",{"v":44.17,"d":"$44.17"},{"v":40.78,"d":"$40.78"},{"v":43.96,"d":"$43.96"},{"v":43.27,"d":"$43.27"},{"v":36.82,"d":"$36.82"},{"v":35.75,"d":"$35.75"},{"v":33.96,"d":"$33.96"},{"v":52.73,"d":"$52.73"},{"v":45.2,"d":"$45.20"},{"v":40.08,"d":"$40.08"},{"v":40.16,"d":"$40.16"},{"v":37.65,"d":"$37.65"},{"v":40.49,"d":"$40.49"},{"v":41.18,"d":"$41.18"},{"v":42.33,"d":"$42.33"},{"v":34.1,"d":"$34.10"},{"v":38.24,"d":"$38.24"},{"v":54.19,"d":"$54.19"},{"v":31.25,"d":"$31.25"},{"v":34.1,"d":"$34.10"},{"v":40.3,"d":"$40.30"},{"v":44.84,"d":"$44.84"},{"v":50.04,"d":"$50.04"}]
["Student Intern","21-1093","Social and Human Service Assistants",{"v":21.81,"d":"$21.81"},{"v":23.45,"d":"$23.45"},{"v":21.77,"d":"$21.77"},{"v":17.31,"d":"$17.31"},{"v":22.95,"d":"$22.95"},{"v":18.04,"d":"$18.04"},{"v":18.26,"d":"$18.26"},{"v":19.02,"d":"$19.02"},{"v":19.71,"d":"$19.71"},{"v":20.89,"d":"$20.89"},{"v":15.46,"d":"$15.46"},{"v":15.33,"d":"$15.33"},{"v":15.83,"d":"$15.83"},{"v":21.02,"d":"$21.02"},{"v":20.25,"d":"$20.25"},{"v":15.54,"d":"$15.54"},{"v":19.38,"d":"$19.38"},{"v":21.74,"d":"$21.74"},{"v":19.65,"d":"$19.65"},{"v":18.17,"d":"$18.17"},{"v":17.59,"d":"$17.59"},{"v":20.24,"d":"$20.24"},{"v":20.12,"d":"$20.12"}]
["Teacher","25-9099","Educational Instruction and Library Workers, All Other",{"v":23,"d":"$23.00"},{"v":23.95,"d":"$23.95"},{"v":30.5,"d":"$30.50"},{"v":19.39,"d":"$19.39"},{"v":21.82,"d":"$21.82"},{"v":23.36,"d":"$23.36"},{"v":37.85,"d":"$37.85"},{"v":25.76,"d":"$25.76"},{"v":32.59,"d":"$32.59"},{"v":27.7,"d":"$27.70"},{"v":23.77,"d":"$23.77"},{"v":24.87,"d":"$24.87"},{"v":18.75,"d":"$18.75"},{"v":25.12,"d":"$25.12"},{"v":32.73,"d":"$32.73"},{"v":28.35,"d":"$28.35"},{"v":27.11,"d":"$27.11"},{"v":21.37,"d":"$21.37"},{"v":24.24,"d":"$24.24"},{"v":20.42,"d":"$20.42"},{"v":21.64,"d":"$21.64"},{"v":23.69,"d":"$23.69"},{"v":27.38,"d":"$27.38"}]
["Trainer","25-9099","Educational Instruction and Library Workers, All Other",{"v":23,"d":"$23.00"},{"v":23.95,"d":"$23.95"},{"v":30.5,"d":"$30.50"},{"v":19.39,"d":"$19.39"},{"v":21.82,"d":"$21.82"},{"v":23.36,"d":"$23.36"},{"v":37.85,"d":"$37.85"},{"v":25.76,"d":"$25.76"},{"v":32.59,"d":"$32.59"},{"v":27.7,"d":"$27.70"},{"v":23.77,"d":"$23.77"},{"v":24.87,"d":"$24.87"},{"v":18.75,"d":"$18.75"},{"v":25.12,"d":"$25.12"},{"v":32.73,"d":"$32.73"},{"v":28.35,"d":"$28.35"},{"v":27.11,"d":"$27.11"},{"v":21.37,"d":"$21.37"},{"v":24.24,"d":"$24.24"},{"v":20.42,"d":"$20.42"},{"v":21.64,"d":"$21.64"},{"v":23.69,"d":"$23.69"},{"v":27.38,"d":"$27.38"}]
["Safety Trainer","25-9099","Educational Instruction and Library Workers, All Other",{"v":23,"d":"$23.00"},{"v":23.95,"d":"$23.95"},{"v":30.5,"d":"$30.50"},{"v":19.39,"d":"$19.39"},{"v":21.82,"d":"$21.82"},{"v":23.36,"d":"$23.36"},{"v":37.85,"d":"$37.85"},{"v":25.76,"d":"$25.76"},{"v":32.59,"d":"$32.59"},{"v":27.7,"d":"$27.70"},{"v":23.77,"d":"$23.77"},{"v":24.87,"d":"$24.87"},{"v":18.75,"d":"$18.75"},{"v":25.12,"d":"$25.12"},{"v":32.73,"d":"$32.73"},{"v":28.35,"d":"$28.35"},{"v":27.11,"d":"$27.11"},{"v":21.37,"d":"$21.37"},{"v":24.24,"d":"$24.24"},{"v":20.42,"d":"$20.42"},{"v":21.64,"d":"$21.64"},{"v":23.69,"d":"$23.69"},{"v":27.38,"d":"$27.38"}]
["Violence Prevention Advocate","19-3099","Social Scientists and Related Workers, All Other",{"v":44.17,"d":"$44.17"},{"v":40.78,"d":"$40.78"},{"v":43.96,"d":"$43.96"},{"v":43.27,"d":"$43.27"},{"v":36.82,"d":"$36.82"},{"v":35.75,"d":"$35.75"},{"v":33.96,"d":"$33.96"},{"v":52.73,"d":"$52.73"},{"v":45.2,"d":"$45.20"},{"v":40.08,"d":"$40.08"},{"v":40.16,"d":"$40.16"},{"v":37.65,"d":"$37.65"},{"v":40.49,"d":"$40.49"},{"v":41.18,"d":"$41.18"},{"v":42.33,"d":"$42.33"},{"v":34.1,"d":"$34.10"},{"v":38.24,"d":"$38.24"},{"v":54.19,"d":"$54.19"},{"v":31.25,"d":"$31.25"},{"v":34.1,"d":"$34.10"},{"v":40.3,"d":"$40.30"},{"v":44.84,"d":"$44.84"},{"v":50.04,"d":"$50.04"}]
["Violence Prevention Specialist","19-3099","Social Scientists and Related Workers, All Other",{"v":44.17,"d":"$44.17"},{"v":40.78,"d":"$40.78"},{"v":43.96,"d":"$43.96"},{"v":43.27,"d":"$43.27"},{"v":36.82,"d":"$36.82"},{"v":35.75,"d":"$35.75"},{"v":33.96,"d":"$33.96"},{"v":52.73,"d":"$52.73"},{"v":45.2,"d":"$45.20"},{"v":40.08,"d":"$40.08"},{"v":40.16,"d":"$40.16"},{"v":37.65,"d":"$37.65"},{"v":40.49,"d":"$40.49"},{"v":41.18,"d":"$41.18"},{"v":42.33,"d":"$42.33"},{"v":34.1,"d":"$34.10"},{"v":38.24,"d":"$38.24"},{"v":54.19,"d":"$54.19"},{"v":31.25,"d":"$31.25"},{"v":34.1,"d":"$34.10"},{"v":40.3,"d":"$40.30"},{"v":44.84,"d":"$44.84"},{"v":50.04,"d":"$50.04"}]
["Youth Coordinator","25-9031","Instructional Coordinators",{"v":33.34,"d":"$33.34"},{"v":47.06,"d":"$47.06"},{"v":37.32,"d":"$37.32"},{"v":37.39,"d":"$37.39"},{"v":33.85,"d":"$33.85"},{"v":33.97,"d":"$33.97"},{"v":28.12,"d":"$28.12"},{"v":39.85,"d":"$39.85"},{"v":39.23,"d":"$39.23"},{"v":36.39,"d":"$36.39"},{"v":30.12,"d":"$30.12"},{"v":26.33,"d":"$26.33"},{"v":34.8,"d":"$34.80"},{"v":27.52,"d":"$27.52"},{"v":37.61,"d":"$37.61"},{"v":30.76,"d":"$30.76"},{"v":35.71,"d":"$35.71"},{"v":40.48,"d":"$40.48"},{"v":31.93,"d":"$31.93"},{"v":30.34,"d":"$30.34"},{"v":30.92,"d":"$30.92"},{"v":33.38,"d":"$33.38"},{"v":35.76,"d":"$35.76"}]