Workbook

Sheet WIC + Rule ICR
A1: APPENDIX O: WIC Burden Table
A2: Regulatory Section | B2: Information Collected | C2: Estimated Number of Respondents | D2: Annual Responses per Respondent | E2: Total Annual Responses | F2: Previous Submission: Total Annual Responses | G2: Number of Burden Hours per Request | H2: Estimated Total Annual Burden Hours | I2: Previous Submission: Total Annual Burden Hours | J2: Difference Due to Program Changes | K2: Difference Due to Adjustments | L2: Total Difference | M2: Explanation of Differences
A3: REPORTING BURDEN ESTIMATES
A4: Affected Public: State and Local Agencies (including Indian Tribal Organizations and U.S. Territories)
A5: 246.4 | B5: State Plan | C5: ='Final Rule ICR Only'!C5 -> 88 | D5: ='Final Rule ICR Only'!D5 -> 1 | E5: =D5*C5 -> 88 | F5: 89 | G5: ='Final Rule ICR Only'!F5 -> 170.62 | H5: =E5*G5 -> 15014.56 | I5: 15185.18 | J5: ='Final Rule ICR Only'!I5 -> 0 | K5: ='Final Rule ICR Only'!J5 -> -170.62 | L5: ='Final Rule ICR Only'!K5 -> -170.62 | M5: ='Final Rule ICR Only'!L5 -> Program adjustment: Decrease in the number of State agencies. Re-estimate of burden from the proposed rule to the final rule results in no program changes.
A6: 246.4(a)(30) | B6: Implementation of Alternate Operating Procedures | C6: 15 | D6: 1 | E6: =C6*D6 -> 15 | F6: =E6 -> 15 | G6: 80 | H6: =E6*G6 -> 1200 | I6: 1200 | J6: =H6-I6 -> 0 | K6: 0 | L6: 0
A7: 246.5(b) | B7: Local Agency (LA) applications | C7: =1810*0.5*0.7 -> 633.5 | D7: 1 | E7: =C7*D7 -> 633.5 | F7: =E7 -> 633.5 | G7: 2 | H7: =E7*G7 -> 1267 | I7: 1267 | J7: =H7-I7 -> 0 | K7: =H7-I7 -> 0 | L7: =H7-I7 -> 0
A8: 246.5(c)(2) | B8: SA notification re not funding LA | C8: 4 | D8: 1 | E8: =C8*D8 -> 4 | F8: =E8 -> 4 | G8: 0.167 | H8: =E8*G8 -> 0.668 | I8: 0.668 | J8: =H8-I8 -> 0 | K8: =H8-I8 -> 0 | L8: =H8-I8 -> 0
A9: 246.5(e)(3)(ii) | B9: SA notification of LA disqualification | C9: 4 | D9: =(1810/89)*0.02 -> 0.40674157 | E9: =C9*D9 -> 1.6269663 | F9: =E9 -> 1.6269663 | G9: 0.5 | H9: =E9*G9 -> 0.81348315 | I9: 0.81348315 | J9: =H9-I9 -> 0 | K9: =H9-I9 -> 0 | L9: =H9-I9 -> 0
A10: 246.6 | B10: LA Agreements | C10: =1810*0.5*0.7 -> 633.5 | D10: 1 | E10: =C10*D10 -> 633.5 | F10: =E10 -> 633.5 | G10: 1.5 | H10: =E10*G10 -> 950.25 | I10: 950.25 | J10: =H10-I10 -> 0 | K10: =H10-I10 -> 0 | L10: =H10-I10 -> 0
A11: 246.7(d) | B11: Provision of income eligibility determinations | C11: 89 | D11: =(1810/89) -> 20.337079 | E11: =C11*D11 -> 1810 | F11: =E11 -> 1810 | G11: 0.25 | H11: =E11*G11 -> 452.5 | I11: 452.5 | J11: =H11-I11 -> 0 | K11: =H11-I11 -> 0 | L11: =H11-I11 -> 0
A12: 246.7(f)(2)(iii)(A) | B12: LA requests for notice extension | C12: =(1810/6)*0.7 -> 211.16667 | D12: 1 | E12: =C12*D12 -> 211.16667 | F12: =E12 -> 211.16667 | G12: 0.25 | H12: =E12*G12 -> 52.791667 | I12: 52.791667 | J12: =H12-I12 -> 0 | K12: =H12-I12 -> 0 | L12: =H12-I12 -> 0
A13: 246.7(b),(i),(n) | B13: Cert. data for women | C13: 1267 | D13: 761.94807 | E13: =C13*D13 -> 965388.2 | F13: =E13 -> 965388.2 | G13: 0.4676 | H13: =E13*G13 -> 451415.52 | I13: 451415.52 | J13: =H13-I13 -> 0 | K13: 0 | L13: 0
A14: 246.7(i) | B14: Cert. data for children | C14: 1267 | D14: 1878.5028 | E14: =C14*D14 -> 2380063 | F14: =E14 -> 2380063 | G14: 0.4676 | H14: =E14*G14 -> 1112917.5 | I14: 1112917.5 | J14: =H14-I14 -> 0 | K14: 0 | L14: 0
A15: 246.7(i) | B15: Certification data for infants | C15: 1267 | D15: 809.25083 | E15: =C15*D15 -> 1025320.8 | F15: =E15 -> 1025320.8 | G15: 0.4676 | H15: =E15*G15 -> 479440.01 | I15: 479440.01 | J15: =H15-I15 -> 0 | K15: 0 | L15: 0
A16: 246.7(i) | B16: Explaining food package updates | C16: =1810*0.7 -> 1267 | D16: =(6243960*0.7)/1267 -> 3449.7017 | E16: =C16*D16 -> 4370772 | F16: =E16 -> 4370772 | G16: 0.0835 | H16: =E16*G16 -> 364959.46 | I16: 364959.46 | J16: =H16-I16 -> 0 | K16: 0 | L16: =H16-I16 -> 0
A17: 246.7(j)(9) | B17: SA notification re funding shortfall | C17: 4 | D17: 1 | E17: =C17*D17 -> 4 | F17: =E17 -> 4 | G17: 0.0835 | H17: =E17*G17 -> 0.334 | I17: 0.334 | J17: =H17-I17 -> 0 | K17: =H17-I17 -> 0 | L17: =H17-I17 -> 0
A18: 246.7(k) | B18: Verification of Certification cards | C18: =1810*0.7 -> 1267 | D18: =((0.03*6243960*0.7)/1267) -> 103.49105 | E18: =C18*D18 -> 131123.16 | F18: =E18 -> 131123.16 | G18: 0.0835 | H18: =E18*G18 -> 10948.784 | I18: 10948.784 | J18: =H18-I18 -> 0 | K18: =H18-I18 -> 0 | L18: =H18-I18 -> 0
A19: 246.8 | B19: Provision of Non-English Materials | C19: 79 | D19: 1 | E19: =C19*D19 -> 79 | F19: =E19 -> 79 | G19: 3 | H19: =E19*G19 -> 237 | I19: 237 | J19: =H19-I19 -> 0 | K19: =H19-I19 -> 0 | L19: =H19-I19 -> 0
A20: 246.9(c) | B20: Informing WIC participants of the details of the appeal process and their individual rights. | C20: 89 | D20: =(6243960*0.02)/89 -> 1403.1371 | E20: =C20*D20 -> 124879.2 | F20: =E20 -> 124879.2 | G20: 0.0835 | H20: =E20*G20 -> 10427.413 | I20: 10427.413 | J20: =H20-I20 -> 0 | K20: =H20-I20 -> 0 | L20: =H20-I20 -> 0
A21: 246.9(h) | B21: Fair hearing procedures for participants | C21: 89 | D21: =(6243960*0.02*0.02)/89 -> 28.062742 | E21: =C21*D21 -> 2497.584 | F21: =E21 -> 2497.584 | G21: 3 | H21: =E21*G21 -> 7492.752 | I21: 7492.752 | J21: =H21-I21 -> 0 | K21: =H21-I21 -> 0 | L21: =H21-I21 -> 0
A22: 246.10(b)(1) | B22: Identification of acceptable foods | C22: 89 | D22: 1 | E22: =C22*D22 -> 89 | F22: =E22 -> 89 | G22: 43 | H22: =E22*G22 -> 3827 | I22: 3827 | J22: =H22-I22 -> 0 | K22: 0 | L22: 0
A23: 246.10(b(2) | B23: Submit APL as food list | C23: 54 | D23: 4 | E23: =C23*D23 -> 216 | F23: =E23 -> 216 | G23: 0.0083 | H23: =E23*G23 -> 1.7928 | I23: 1.7928 | J23: =H23-I23 -> 0 | K23: =H23-I23 -> 0 | L23: =H23-I23 -> 0
A24: 246.10(b)(2)(i); 246.10(e) | B24: Revised food list & food packages training/implementation | C24: 89 | D24: 1 | E24: =C24*D24 -> 89 | F24: 89 | G24: 8 | H24: =E24*G24 -> 712 | I24: 712 | J24: =H24-I24 -> 0 | K24: 0 | L24: =H24-I24 -> 0
A25: 246.10(b)(2)(i) | B25: LA training on revised food list | C25: =1810*0.7 -> 1267 | D25: 1 | E25: =C25*D25 -> 1267 | F25: =E25 -> 1267 | G25: 1 | H25: =E25*G25 -> 1267 | I25: 1267 | J25: =H25-I25 -> 0 | K25: 0 | L25: =H25-I25 -> 0
A26: 246.10(d)(1) | B26: Medical documentation, 1% of infants | C26: =1810*0.7 -> 1267 | D26: =(1464744*0.7*0.01)/1267 -> 8.0925083 | E26: =C26*D26 -> 10253.208 | F26: =E26 -> 10253.208 | G26: 0.0334 | H26: =E26*G26 -> 342.45715 | I26: 342.45715 | J26: =H26-I26 -> 0 | K26: =H26-I26 -> 0 | L26: =H26-I26 -> 0
A27: 246.10(i) | B27: Plans for Substitutions | C27: =(1/5) -> 0.2 | D27: 1 | E27: =C27*D27 -> 0.2 | F27: =E27 -> 0.2 | G27: 2 | H27: =E27*G27 -> 0.4 | I27: 0.4 | J27: =H27-I27 -> 0 | K27: =H27-I27 -> 0 | L27: =H27-I27 -> 0
A28: 246.11(d)(1), 246.7(b) | B28: LA nutrition education provision | C28: =1810*0.7 -> 1267 | D28: =((6243960*0.7)/1267) -> 3449.7017 | E28: =C28*D28 -> 4370772 | F28: =E28 -> 4370772 | G28: 0.25 | H28: =E28*G28 -> 1092693 | I28: 1092693 | J28: =H28-I28 -> 0 | K28: =H28-I28 -> 0 | L28: =H28-I28 -> 0
A29: 246.11(d)(2) | B29: LA nutrition education plan | C29: =0.7*1810 -> 1267 | D29: 1 | E29: =C29*D29 -> 1267 | F29: =E29 -> 1267 | G29: 40 | H29: =E29*G29 -> 50680 | I29: 50680 | J29: =H29-I29 -> 0 | K29: =H29-I29 -> 0 | L29: =H29-I29 -> 0
A30: 246.12 | B30: Implementation of food delivery system changes | C30: ='Final Rule ICR Only'!C6 -> 44 | D30: ='Final Rule ICR Only'!D6 -> 1 | E30: ='Final Rule ICR Only'!E6 -> 44 | F30: 0 | G30: ='Final Rule ICR Only'!F6 -> 5 | H30: ='Final Rule ICR Only'!G6 -> 220 | I30: ='Final Rule ICR Only'!H6 -> 0 | J30: ='Final Rule ICR Only'!I6 -> 220 | K30: ='Final Rule ICR Only'!J6 -> 0 | L30: ='Final Rule ICR Only'!K6 -> 220 | M30: ='Final Rule ICR Only'!L6 -> Program change: Implementation burden for trainings, status reports, and other State agency start up costs related to the final rule.
A31: 246.12(f)(3) | B31: Vendor identification | C31: 89 | D31: 1 | E31: =C31*D31 -> 89 | F31: =E31 -> 89 | G31: 3 | H31: =E31*G31 -> 267 | I31: 267 | J31: =H31-I31 -> 0 | K31: =H31-I31 -> 0 | L31: =H31-I31 -> 0
A32: 246.12(f)(4) | B32: Split tender transactions | C32: 89 | D32: 1 | E32: =C32*D32 -> 89 | F32: =E32 -> 89 | G32: 3 | H32: =E32*G32 -> 267 | I32: 267 | J32: =H32-I32 -> 0 | K32: =H32-I32 -> 0 | L32: =H32-I32 -> 0
A33: 246.12(g)(4)(i) | B33: Vendor food sales data | C33: ='Final Rule ICR Only'!C7 -> 88 | D33: ='Final Rule ICR Only'!D7 -> 9.2015909 | E33: ='Final Rule ICR Only'!E7 -> 809.74 | F33: 840 | G33: ='Final Rule ICR Only'!F7 -> 4 | H33: ='Final Rule ICR Only'!G7 -> 3238.96 | I33: ='Final Rule ICR Only'!H7 -> 3360 | J33: ='Final Rule ICR Only'!I7 -> 8.8 | K33: ='Final Rule ICR Only'!J7 -> -129.84 | L33: ='Final Rule ICR Only'!K7 -> -121.04 | M33: ='Final Rule ICR Only'!L7 -> Program change: Addition of internet vendors due to final rule. Program adjustments: Decrease in the number of A50 vendors and State agencies.
A34: 246.12(g)(4)(ii)(B) | B34: Vendor shelf prices | C34: ='Final Rule ICR Only'!C8 -> 0 | D34: ='Final Rule ICR Only'!D8 -> 0 | E34: ='Final Rule ICR Only'!E8 -> 0 | F34: 74534 | G34: ='Final Rule ICR Only'!F8 -> 0 | H34: ='Final Rule ICR Only'!G8 -> 0 | I34: ='Final Rule ICR Only'!H8 -> 149068 | J34: ='Final Rule ICR Only'!I8 -> -149068 | K34: ='Final Rule ICR Only'!J8 -> 0 | L34: ='Final Rule ICR Only'!K8 -> -149068 | M34: ='Final Rule ICR Only'!L8 -> Program change: Final rule permanently removes this requirement.
A35: 246.12(g)(4)(ii)(B) | B35: Vendor shelf prices exemption | C35: ='Final Rule ICR Only'!C9 -> 0 | D35: ='Final Rule ICR Only'!D9 -> 0 | E35: ='Final Rule ICR Only'!E9 -> 0 | F35: 5 | G35: ='Final Rule ICR Only'!F9 -> 0 | H35: ='Final Rule ICR Only'!G9 -> 0 | I35: ='Final Rule ICR Only'!H9 -> 40 | J35: ='Final Rule ICR Only'!I9 -> -40 | K35: ='Final Rule ICR Only'!J9 -> 0 | L35: ='Final Rule ICR Only'!K9 -> -40 | M35: ='Final Rule ICR Only'!L9 -> Program change: Final rule permanently removes this requirement.
A36: 246.12(g)(4)(iii) | B36: Price Increases | C36: 89 | D36: 1 | E36: =C36*D36 -> 89 | F36: =E36 -> 89 | G36: 3 | H36: =E36*G36 -> 267 | I36: 267 | J36: =H36-I36 -> 0 | K36: =H36-I36 -> 0 | L36: =H36-I36 -> 0
A37: 246.12(g)(5) | B37: Vendor initial preauthorization visits (onsite) | C37: ='Final Rule ICR Only'!C10 -> 88 | D37: ='Final Rule ICR Only'!D10 -> 17 | E37: =C37*D37 -> 1496 | F37: 1513 | G37: ='Final Rule ICR Only'!F10 -> 1.17 | H37: =E37*G37 -> 1750.32 | I37: ='Final Rule ICR Only'!H10 -> 1513 | J37: ='Final Rule ICR Only'!I10 -> 0 | K37: ='Final Rule ICR Only'!J10 -> 237.32 | L37: ='Final Rule ICR Only'!K10 -> 237.32 | M37: ='Final Rule ICR Only'!L10 -> Program adjustments: Adjustment of burden hours estimated for this activity based on public comment, decrease in the number of State agencies.
A38: 246.12(g)(5) | B38: Vendor initial preauthorization visits (virtual) | C38: ='Final Rule ICR Only'!C11 -> 44 | D38: ='Final Rule ICR Only'!D11 -> 2.5 | E38: ='Final Rule ICR Only'!E11 -> 110 | F38: 0 | G38: ='Final Rule ICR Only'!F11 -> 0.668 | H38: ='Final Rule ICR Only'!G11 -> 73.48 | I38: ='Final Rule ICR Only'!H11 -> 0 | J38: ='Final Rule ICR Only'!I11 -> 73.48 | K38: ='Final Rule ICR Only'!J11 -> 0 | L38: ='Final Rule ICR Only'!K11 -> 73.48 | M38: ='Final Rule ICR Only'!L11 -> Program change: Addition of internet vendors due to final rule.
A39: 246.12(g)(8) | B39: Application periods | C39: 89 | D39: 1 | E39: =C39*D39 -> 89 | F39: =E39 -> 89 | G39: 3 | H39: =E39*G39 -> 267 | I39: 267 | J39: =H39-I39 -> 0 | K39: =H39-I39 -> 0 | L39: =H39-I39 -> 0
A40: 246.12(h) | B40: Review vendor applications & agreements | C40: ='Final Rule ICR Only'!C12 -> 88 | D40: ='Final Rule ICR Only'!D12 -> 151.82625 | E40: ='Final Rule ICR Only'!E12 -> 13360.71 | F40: 12298.11 | G40: ='Final Rule ICR Only'!F12 -> 2 | H40: ='Final Rule ICR Only'!G12 -> 26721.42 | I40: ='Final Rule ICR Only'!H12 -> 8215.14 | J40: ='Final Rule ICR Only'!I12 -> 72.6 | K40: ='Final Rule ICR Only'!J12 -> 18433.68 | L40: ='Final Rule ICR Only'!K12 -> 18506.28 | M40: ='Final Rule ICR Only'!L12 -> Program change: Addition of internet vendors due to final rule. Program adjustments: Adjustment of burden hours estimated for this activity based on public comment, increase in number of vendors.
...

Sheet Final Rule ICR Only
A1: APPENDIX F: WIC Burden Table | N1: Number of respondents per category
A2: Regulatory Section | B2: Information Collected | C2: Estimated Number of Respondents | D2: Annual Responses per Respondent | E2: Total Annual Responses | F2: Number of Burden Hours per Request | G2: Estimated Total Burden Hours | H2: Previous Submission: Total Hours per Person | I2: Difference Due to Program Changes | J2: Difference Due to Adjustments | K2: Total Difference | L2: Explanation of Difference
A3: REPORTING BURDEN ESTIMATES
A4: Affected Public: State and Local Agencies (including Indian Tribal Organizations and U.S. Territories)
A5: 246.4 | B5: State Plan | C5: 88 | D5: 1 | E5: =C5*D5 -> 88 | F5: 170.62 | G5: =E5*F5 -> 15014.56 | H5: 15185.18 | I5: 0 | J5: =G5-H5 -> -170.62 | K5: =SUM(I5:J5) -> -170.62 | L5: Program adjustment: Decrease in the number of State agencies. Re-estimate of burden from the proposed rule to the final rule results in no program changes.
A6: 246.12 | B6: Implementation of food delivery system changes | C6: 44 | D6: 1 | E6: =C6*D6 -> 44 | F6: 5 | G6: =E6*F6 -> 220 | H6: 0 | I6: =G6-H6 -> 220 | J6: 0 | K6: =G6-H6 -> 220 | L6: Program change: Implementation burden for trainings, status reports, and other State agency start up costs related to the final rule.
A7: 246.12(g)(4)(i) | B7: Vendor food sales data | C7: 88 | D7: =(0.02*40487)/88 -> 9.2015909 | E7: =C7*D7 -> 809.74 | F7: 4 | G7: =E7*F7 -> 3238.96 | H7: 3360 | I7: =(110*0.02)*4 -> 8.8 | J7: =G7-H7-I7 -> -129.84 | K7: =SUM(I7:J7) -> -121.04 | L7: Program change: Addition of internet vendors due to final rule. Program adjustments: Decrease in the number of A50 vendors and State agencies.
A8: 246.12(g)(4)(ii)(B) | B8: Vendor shelf prices | C8: 0 | D8: 0 | E8: =C8*D8 -> 0 | F8: 0 | G8: =E8*F8 -> 0 | H8: 149068 | I8: =G8-H8 -> -149068 | J8: 0 | K8: =G8-H8 -> -149068 | L8: Program change: Final rule permanently removes this requirement.
A9: 246.12(g)(4)(ii)(B) | B9: Vendor shelf prices exemption | C9: 0 | D9: 0 | E9: =C9*D9 -> 0 | F9: 0 | G9: =E9*F9 -> 0 | H9: 40 | I9: =G9-H9 -> -40 | J9: 0 | K9: =G9-H9 -> -40 | L9: Program change: Final rule permanently removes this requirement.
A10: 246.12(g)(5) | B10: Vendor initial preauthorization visits (onsite) | C10: 88 | D10: 17 | E10: =C10*D10 -> 1496 | F10: 1.17 | G10: =F10*E10 -> 1750.32 | H10: 1513 | I10: 0 | J10: =G10-H10 -> 237.32 | K10: =G10-H10 -> 237.32 | L10: Program adjustments: Adjustment of burden hours estimated for this activity based on public comment, decrease in the number of State agencies.
A11: 246.12(g)(5) | B11: Vendor initial preauthorization visits (virtual) | C11: 44 | D11: =110/44 -> 2.5 | E11: =C11*D11 -> 110 | F11: 0.668 | G11: =E11*F11 -> 73.48 | H11: 0 | I11: =G11-H11 -> 73.48 | J11: 0 | K11: =G11-H11 -> 73.48 | L11: Program change: Addition of internet vendors due to final rule.
A12: 246.12(h) | B12: Review vendor applications & agreements | C12: 88 | D12: =(0.33*40487)/88 -> 151.82625 | E12: =C12*D12 -> 13360.71 | F12: 2 | G12: =E12*F12 -> 26721.42 | H12: 8215.14 | I12: =110*0.33*2 -> 72.6 | J12: =G12-H12-I12 -> 18433.68 | K12: =SUM(I12:J12) -> 18506.28 | L12: Program change: Addition of internet vendors due to final rule. Program adjustments: Adjustment of burden hours estimated for this activity based on public comment, increase in number of vendors.
A13: 246.12(i)(1) | B13: Vendor training | C13: 88 | D13: =(40487/88) -> 460.07955 | E13: =C13*D13 -> 40487 | F13: 2 | G13: =E13*F13 -> 80974 | H13: 74534 | I13: =110*2 -> 220 | J13: =G13-H13-I13 -> 6220 | K13: =SUM(I13:J13) -> 6440 | L13: Program change: Addition of internet vendors due to final rule. Program adjustment: Increase in number of brick-and-mortar vendors.
A14: 246.12(j)(2) | B14: Routine vendor monitoring (onsite) | C14: 88 | D14: =(0.05*40377)/88 -> 22.941477 | E14: =C14*D14 -> 2018.85 | F14: 1.67 | G14: =E14*F14 -> 3371.4795 | H14: 2485.71 | I14: 0 | J14: =G14-H14 -> 885.7695 | K14: =G14-H14 -> 885.7695 | L14: Program adjustments: Adjustment of burden hours estimated for this activity based on public comment, increase in number of vendors.
A15: 246.12(j)(2) | B15: Routine vendor monitoring (virtual) | C15: 44 | D15: =(110/44)*0.05 -> 0.125 | E15: =C15*D15 -> 5.5 | F15: 1.17 | G15: =E15*F15 -> 6.435 | H15: 0 | I15: =G15-H15 -> 6.435 | J15: 0 | K15: =G15-H15 -> 6.435 | L15: Program change: Addition of internet vendors due to final rule.
A16: 246.12(j)(4) | B16: Vendor compliance investigations (onsite) | C16: 88 | D16: =(40377*0.05)/88 -> 22.941477 | E16: =C16*D16 -> 2018.85 | F16: 5 | G16: =E16*F16 -> 10094.25 | H16: 4349.06 | I16: 0 | J16: =G16-H16 -> 5745.19 | K16: =G16-H16 -> 5745.19 | L16: Program adjustments: Adjustment of burden hours estimated for this activity based on public comment, increase in number of vendors.
A17: 246.12(j)(4) | B17: Vendor compliance investigations (virtual) | C17: 44 | D17: =(110/44)*0.05 -> 0.125 | E17: =D17*C17 -> 5.5 | F17: 4.5 | G17: =E17*F17 -> 24.75 | H17: 0 | I17: =G17-H17 -> 24.75 | J17: 0 | K17: =G17-H17 -> 24.75 | L17: Program change: Addition of internet vendors due to final rule.
A18: 246.12(bb)(1) | B18: System updates to allow online shopping, including return of benefits | C18: 44 | D18: 1 | E18: =D18*C18 -> 44 | F18: 50 | G18: =E18*F18 -> 2200 | H18: 0 | I18: =G18-H18 -> 2200 | J18: 0 | K18: =G18-H18 -> 2200 | L18: Program change: Implementation burden related to updating EBT and MIS systems due to the final rule.
A19: 246.12(bb)(2) | B19: Transaction authentication policy development | C19: 88 | D19: 1 | E19: =C19*D19 -> 88 | F19: 50 | G19: =E19*F19 -> 4400 | H19: 0 | I19: =G19-H19 -> 4400 | J19: 0 | K19: =G19-H19 -> 4400 | L19: Program change: Implementation burden related to developing new authentication policies due to final rule.
A20: 246.14(d) | B20: ADP proposals | C20: 20 | D20: 1 | E20: =C20*D20 -> 20 | F20: 160 | G20: =E20*F20 -> 3200 | H20: 3200 | I20: =G20-H20 -> 0 | J20: 0 | K20: =G20-H20 -> 0 | L20: Re-estimate of burden from the proposed rule to the final rule results in no change in burden hours.
A21: Subtotal Reporting: State and Local Agencies | C21: =C5 -> 88 | D21: =E21/C21 -> 688.59261 | E21: =SUM(E5:E20) -> 60596.15 | F21: =G21/E21 -> 2.4966876 | G21: =SUM(G5:G20) -> 151289.65 | H21: =SUM(H5:H20) -> 261950.09 | I21: =SUM(I5:I20) -> -141881.93 | J21: =SUM(J5:J20) -> 31221.5 | K21: =SUM(K5:K20) -> -110660.44
A22: Affected Public: Individuals and Households: Applicants for Program Benefits
A23: 246.12(r)(4) & (r)(5) | B23: Offline EBT State agencies: Food instrument and cash-value voucher pick up (non-certification clinic visits) | C23: =(3352333.5/88)*8 -> 304757.59 | D23: =((3*0.625)+(2*0.375)) -> 2.625 | E23: =C23*D23 -> 799988.68 | F23: 0.5 | G23: =E23*F23 -> 399994.34 | H23: 894499.89 | I23: =C23*(D23-3)*F23 -> -57142.048 | J23: =G23-H23-I23 -> -437363.5 | K23: =SUM(J23,I23) -> -494505.55 | L23: Program change: Decrease in the frequency of responses due to the final rule. Program adjustments: Decrease in the number of offline EBT State agencies and increase in the number of participants.
A24: 246.12(r)(4) & (r)(5) | B24: Online EBT State agencies: Food instrument and cash-value voucher pick up (non-certification clinic visits) | C24: =(3352333.5/88)*80 -> 3047575.9 | D24: 0 | E24: =C24*D24 -> 0 | F24: 0 | G24: =E24*F24 -> 0 | H24: 1262823.4 | I24: =G24-H24 -> -1262823.4 | J24: 0 | K24: =G24-H24 -> -1262823.4 | L24: Program change: Final rule removes this requirement.
A25: Subtotal Reporting: Applicants | C25: =C23+C24 -> 3352333.5 | D25: =E25/C25 -> 0.23863636 | E25: =SUM(E23:E24) -> 799988.68 | F25: =G25/E25 -> 0.5 | G25: =SUM(G23:G24) -> 399994.34 | H25: =SUM(H23:H24) -> 2157323.3 | I25: =SUM(I23:I24) -> -1319965.4 | J25: =SUM(J23:J24) -> -437363.5 | K25: =SUM(K23:K24) -> -1757328.9
A26: Affected Public: Business: Retail Vendors (WIC-Authorized Food Stores) and Nonprofit Businesses
A27: 246.12(g)(4)(i) | B27: Vendor food sales data for A50s | C27: =((0.02)*40487) -> 809.74 | D27: 1 | E27: =C27*D27 -> 809.74 | F27: 2 | G27: =E27*F27 -> 1619.48 | H27: 1680 | I27: =((0.02)*110)*2 -> 4.4 | J27: =G27-H27-I27 -> -64.92 | K27: =SUM(I27:J27) -> -60.52 | L27: Program change: Addition of internet vendors due to final rule. Program adjustment: Decrease in number of A50 vendors.
A28: 246.12(g)(4)(ii)(B) | B28: Vendor shelf prices | C28: 0 | D28: 0 | E28: =C28*D28 -> 0 | F28: 0 | G28: =E28*F28 -> 0 | H28: 132318.79 | I28: =G28-H28 -> -132318.79 | J28: 0 | K28: =SUM(I28:J28) -> -132318.79 | L28: Program change: Final rule permanently removes this requirement.
A29: 246.12(g)(5) | B29: Vendor initial preauthorization visits | C29: =(88*17)+110 -> 1606 | D29: 1 | E29: =C29*D29 -> 1606 | F29: 0.668 | G29: =E29*F29 -> 1072.808 | H29: 1010.684 | I29: =110*F29 -> 73.48 | J29: =G29-H29-I29 -> -11.356 | K29: =SUM(I29:J29) -> 62.124 | L29: Program change: Addition of internet vendors due to final rule. Program adjustment: Decrease in number of State agencies.
A30: 246.12(h) | B30: Vendor applications & agreements | C30: =40487*0.33 -> 13360.71 | D30: 1 | E30: =C30*D30 -> 13360.71 | F30: 1 | G30: =E30*F30 -> 13360.71 | H30: 12298.11 | I30: =110*(0.33) -> 36.3 | J30: =G30-H30-I30 -> 1026.3 | K30: =SUM(I30:J30) -> 1062.6 | L30: Program change: Addition of internet vendors due to final rule. Program adjustment: Increase in number of brick-and-mortar vendors.
A31: 246.12(h)(3)(xiii) | B31: Vendor training of staff | C31: 40487 | D31: 1 | E31: =C31*D31 -> 40487 | F31: 1 | G31: =E31*F31 -> 40487 | H31: 37267 | I31: 110 | J31: =G31-H31-I31 -> 3110 | K31: =SUM(I31:J31) -> 3220 | L31: Program change: Addition of internet vendors due to final rule. Program adjustment: Increase in number of brick-and-mortar vendors.
A32: 246.12(h)(8)(i) | B32: Vendor incentive items | C32: =(4/9)*(0.02*40487) -> 359.88444 | D32: 1 | E32: =C32*D32 -> 359.88444 | F32: 1 | G32: =E32*F32 -> 359.88444 | H32: 340 | I32: =(4/9)*(0.02*110) -> 0.97777778 | J32: =G32-H32-I32 -> 18.906667 | K32: =SUM(I32:J32) -> 19.884444 | L32: Program change: Addition of internet vendors due to final rule. Program adjustments: Decrease in number of A50 vendors, increase in number of brick-and-mortar vendors.
A33: 246.12(i) | B33: Vendor training | C33: 40487 | D33: 1 | E33: =C33*D33 -> 40487 | F33: 2 | G33: =E33*F33 -> 80974 | H33: 74534 | I33: =110*2 -> 220 | J33: =G33-H33-I33 -> 6220 | K33: =SUM(I33:J33) -> 6440 | L33: Program change: Addition of internet vendors due to final rule. Program adjustment: Increase in number of brick-and-mortar vendors.
A34: 246.12(bb)(1) | B34: System updates to allow online shopping, including return of benefits | C34: 110 | D34: 1 | E34: =C34*D34 -> 110 | F34: 50 | G34: =E34*F34 -> 5500 | H34: 0 | I34: =G34-H34 -> 5500 | J34: 0 | K34: =G34-H34 -> 5500 | L34: Program change: Implementation burden related to updating vendor systems due to the final rule.
A35: Subtotal Reporting: Businesses | C35: =C33 -> 40487 | D35: =+E35/C35 -> 2.4012729 | E35: =SUM(E27:E34) -> 97220.334 | F35: =+G35/E35 -> 1.4747314 | G35: =SUM(G27:G34) -> 143373.88 | H35: =SUM(H27:H34) -> 259448.58 | I35: =SUM(I27:I34) -> -126373.63 | J35: =SUM(J27:J34) -> 10298.931 | K35: =SUM(K27:K34) -> -116074.7
A36: GRAND SUBTOTAL: REPORTING | C36: =SUM(C21,C25,C35) -> 3392908.5 | D36: =E36/C36 -> 0.2822962 | E36: =SUM(E21,E25,E35) -> 957805.16 | F36: =+G36/E36 -> 0.72526011 | G36: =SUM(G21+G25+G35) -> 694657.88 | H36: =SUM(H35+H25+H21) -> 2678721.9 | I36: =SUM(I21,I25,I35) -> -1588221 | J36: =J35+J25+J21 -> -395843.07 | K36: =K35+K25+K21 -> -1984064.1
A37: RECORDKEEPING BURDEN ESTIMATES
A38: Affected Public: State and Local Agencies (including Indian Tribal Organizations and U.S. Territories)
A39: 246.12(h)(1)(i) | B39: Vendor applications & agreements | C39: 88 | D39: =((40487*0.33)/88) -> 151.82625 | E39: =C39*D39 -> 13360.71 | F39: 1 | G39: =E39*F39 -> 13360.71 | H39: 12298.11 | I39: =110*(0.33) -> 36.3 | J39: =G39-H39-I39 -> 1026.3 | K39: =SUM(I39:J39) -> 1062.6 | L39: Program change: Addition of internet vendors due to final rule. Program adjustments: Increase in number of vendors, decrease in number of State agencies.
A40: 246.12(h)(8)(i) | B40: Vendor incentive items | C40: =4 -> 4 | D40: =(40487*0.02)/9 -> 89.971111 | E40: =C40*D40 -> 359.88444 | F40: 1 | G40: =E40*F40 -> 359.88444 | H40: 389.2 | I40: =110*0.02*(4/9) -> 0.97777778 | J40: =G40-H40-I40 -> -30.293333 | K40: =SUM(I40:J40) -> -29.315556 | L40: Program change: Addition of internet vendors due to final rule. Program adjustment: More accurate reporting of number of A50 vendors.
...

Sheet Cost Estimates
A1: Annualized costs to respondents (A12.B)
A2: Respondent Type | B2: Estimated Total Burden Hours | C2: Mean Wage | D2: Base Annual | E2: Fringe (33%) | F2: Total Annual Cost
A3: State and local agency staff | B3: =SUM('Final Rule ICR Only'!G21,'Final Rule ICR Only'!G44) -> 171204.76 | C3: 36.71 | D3: =C3*B3 -> 6284926.7 | E3: =D3*0.33 -> 2074025.8 | F3: =E3+D3 -> 8358952.6
A4: Vendor staff | B4: =SUM('Final Rule ICR Only'!G35,'Final Rule ICR Only'!G47) -> 150135.21 | C4: 18.52 | D4: =C4*B4 -> 2780504.1 | E4: =D4*0.33 -> 917566.36 | F4: =E4+D4 -> 3698070.5
A5: Applicants | B5: =SUM('Final Rule ICR Only'!G25) -> 399994.34 | C5: 7.25 | D5: =C5*B5 -> 2899959 | E5: =D5*0.33 -> 956986.45 | F5: =E5+D5 -> 3856945.4
A6: Totals | B6: =SUM(B3:B5) -> 721334.31 | F6: =SUM(F3:F5) -> 15913968
A8: 2026 Pay Rates
A9: GS-11, Step 6 | B9: 35.66 | D9: Cost per FTE | E9: 89599.47
A10: GS-12, Step 6 | B10: 42.74 | D10: Fringe per FTE | E10: 29567.82
A11: GS-13, Step 6 | B11: 50.83 | D11: Total per FTE | E11: 119167.29
A12: Average | B12: 43.08
A13: Source:
A14: https://www.opm.gov/policy-data-oversight/pay-leave/salaries-wages/2026/general-schedule/
A17: Costs to the Federal government (A14)
A19: Hours | B19: =40*52 -> 2080
A20: Hourly Wage | B20: =B12 -> 43.08
A21: Base | B21: =B19*B20 -> 89606.4
A22: Fringe (33%) | B22: =B21*0.33 -> 29570.112
A23: Total for 1 | B23: =SUM(B21:B22) -> 119176.51
A24: Num. FNS staff | B24: 19
A25: Total for all | B25: =B23*B24 -> 2264353.7
A26: Mailing and telehpone | B26: 2000
A27: Total Cost | B27: =B25+B26 -> 2266353.7

Sheet Currently Approved WIC ICR
A1: APPENDIX F: WIC Burden Table
A2: Regulatory Section | B2: Information Collected | C2: Estimated Number of Respondents | D2: Annual Responses per Respondent | E2: Total Annual Responses | F2: Number of Burden Hours per Request | G2: Estimated Total Burden Hours | H2: Previous Submission: Total Hours per Person | I2: Difference Due to Program Changes | J2: Difference Due to Adjustments | K2: Total Difference | L2: Explanation of Differences/Comments
A3: REPORTING BURDEN ESTIMATES
A4: Affected Public: State and Local Agencies (including Indian Tribal Organizations and U.S. Territories)
A5: 246.4 | B5: State Plan | C5: 89 | D5: 1 | E5: =C5*D5 -> 89 | F5: 170.62 | G5: =E5*F5 -> 15185.18 | H5: 15185.18 | I5: 0 | J5: =G5-H5 -> 0 | K5: =G5-H5 -> 0 | L5: N/A
A6: 246.4(a)(30) | B6: Implementation of Alternate Operating Procedures | C6: 15 | D6: 1 | E6: =C6*D6 -> 15 | F6: 80 | G6: =E6*F6 -> 1200 | H6: 1200 | I6: 0 | J6: =G6-H6 -> 0 | K6: =G6-H6 -> 0 | L6: N/A
A7: 246.5(b) | B7: Local Agency (LA) applications | C7: =1810*0.5*0.7 -> 633.5 | D7: 1 | E7: =C7*D7 -> 633.5 | F7: 2 | G7: =E7*F7 -> 1267 | H7: 1267 | I7: =G7-H7 -> 0 | J7: 0 | K7: =G7-H7 -> 0 | L7: N/A
A8: 246.5(c)(2) | B8: SA notification re not funding LA | C8: 4 | D8: 1 | E8: =C8*D8 -> 4 | F8: 0.167 | G8: =E8*F8 -> 0.668 | H8: 0.668 | I8: =G8-H8 -> 0 | J8: 0 | K8: =G8-H8 -> 0 | L8: N/A
A9: 246.5(e)(3)(ii) | B9: SA notification of LA disqualification | C9: 4 | D9: =(1810/89)*0.02 -> 0.40674157 | E9: =C9*D9 -> 1.6269663 | F9: 0.5 | G9: =E9*F9 -> 0.81348315 | H9: 0.81348315 | I9: =G9-H9 -> 0 | J9: 0 | K9: =G9-H9 -> 0 | L9: N/A
A10: 246.6 | B10: LA Agreements | C10: =1810*0.5*0.7 -> 633.5 | D10: 1 | E10: =C10*D10 -> 633.5 | F10: 1.5 | G10: =E10*F10 -> 950.25 | H10: 950.25 | I10: =G10-H10 -> 0 | J10: 0 | K10: =G10-H10 -> 0 | L10: N/A
A11: 246.7(d) | B11: Provision of income eligibility determinations | C11: 89 | D11: =(1810/89) -> 20.337079 | E11: =C11*D11 -> 1810 | F11: 0.25 | G11: =E11*F11 -> 452.5 | H11: 452.5 | I11: =G11-H11 -> 0 | J11: 0 | K11: =G11-H11 -> 0 | L11: N/A
A12: 246.7(f)(2)(iii)(A) | B12: LA requests for notice extension | C12: =(1810/6)*0.7 -> 211.16667 | D12: 1 | E12: =C12*D12 -> 211.16667 | F12: 0.25 | G12: =E12*F12 -> 52.791667 | H12: 52.791667 | I12: =G12-H12 -> 0 | J12: 0 | K12: =G12-H12 -> 0 | L12: N/A
A13: 246.7(b),(i),(n) | B13: Cert. data for women | C13: =1810*0.7 -> 1267 | D13: =(1379126*0.7)/1267 -> 761.94807 | E13: =C13*D13 -> 965388.2 | F13: 0.4676 | G13: =E13*F13 -> 451415.52 | H13: 403049.57 | I13: =G13-H13 -> 48365.949 | J13: 0 | K13: =G13-H13 -> 48365.949 | L13: Increase in number of burden hours due to program change due to final rule.
A14: 246.7(i) | B14: Cert. data for children | C14: =1810*0.7 -> 1267 | D14: =(3400090*0.7)/1267 -> 1878.5028 | E14: =C14*D14 -> 2380063 | F14: 0.4676 | G14: =E14*F14 -> 1112917.5 | H14: 993676.3 | I14: =G14-H14 -> 119241.16 | J14: 0 | K14: =G14-H14 -> 119241.16 | L14: Increase in number of burden hours due to program change due to final rule.
A15: 246.7(i) | B15: Certification data for infants | C15: =1810*0.7 -> 1267 | D15: =1*(1464744*0.7/1267) -> 809.25083 | E15: =C15*D15 -> 1025320.8 | F15: 0.4676 | G15: =E15*F15 -> 479440.01 | H15: 428071.43 | I15: =G15-H15 -> 51368.572 | J15: 0 | K15: =G15-H15 -> 51368.572 | L15: Increase in number of burden hours due to program change due to final rule.
A16: 246.7(i) | B16: Explaining food package updates | C16: =1810*0.7 -> 1267 | D16: =(6243960*0.7)/1267 -> 3449.7017 | E16: =C16*D16 -> 4370772 | F16: 0.0835 | G16: =E16*F16 -> 364959.46 | H16: 0 | I16: =G16-H16 -> 364959.46 | J16: 0 | K16: =G16-H16 -> 364959.46 | L16: One-time burden to explain program changes in the final rule to participants.
A17: 246.7(j)(9) | B17: SA notification re funding shortfall | C17: 4 | D17: 1 | E17: =C17*D17 -> 4 | F17: 0.0835 | G17: =E17*F17 -> 0.334 | H17: 0.334 | I17: =G17-H17 -> 0 | J17: =G17-H17 -> 0 | K17: =G17-H17 -> 0 | L17: N/A
A18: 246.7(k) | B18: Verification of Certification cards | C18: =1810*0.7 -> 1267 | D18: =((0.03*6243960*0.7)/1267) -> 103.49105 | E18: =C18*D18 -> 131123.16 | F18: 0.0835 | G18: =E18*F18 -> 10948.784 | H18: 10948.784 | I18: =G18-H18 -> 0 | J18: 0 | K18: =G18-H18 -> 0 | L18: N/A
A19: 246.8 | B19: Provision of Non-English Materials | C19: 79 | D19: 1 | E19: =C19*D19 -> 79 | F19: 3 | G19: =E19*F19 -> 237 | H19: 237 | I19: =G19-H19 -> 0 | J19: 0 | K19: =G19-H19 -> 0 | L19: N/A
A20: 246.9 (c) | B20: Informing WIC participants of the details of the appeal process and their individual rights. | C20: 89 | D20: =(6243960*0.02)/89 -> 1403.1371 | E20: =C20*D20 -> 124879.2 | F20: 0.0835 | G20: =E20*F20 -> 10427.413 | H20: 10427.413 | I20: =G20-H20 -> 0 | J20: 0 | K20: =G20-H20 -> 0 | L20: N/A
A21: 246.9 (h) | B21: Fair hearing procedures for participants | C21: 89 | D21: =(6243960*0.02*0.02)/89 -> 28.062742 | E21: =C21*D21 -> 2497.584 | F21: 3 | G21: =E21*F21 -> 7492.752 | H21: 7492.752 | I21: =G21-H21 -> 0 | J21: 0 | K21: =G21-H21 -> 0 | L21: N/A
A22: 246.10(b)(1) | B22: Identification of acceptable foods | C22: 89 | D22: 1 | E22: =C22*D22 -> 89 | F22: 43 | G22: =E22*F22 -> 3827 | H22: 3560 | I22: =G22-H22 -> 267 | J22: 0 | K22: =G22-H22 -> 267 | L22: Increase in burden hours due to program change due to final rule.
A23: 246.10(b)(2) | B23: Submit APL as food list | C23: 54 | D23: 4 | E23: =C23*D23 -> 216 | F23: 0.0083 | G23: =E23*F23 -> 1.7928 | H23: 1.7928 | I23: =G23-H23 -> 0 | J23: =G23-H23 -> 0 | K23: =G23-H23 -> 0 | L23: N/A
A24: 246.10(b)(2)(i); 246.10(e) | B24: Revised food list & food packages training/implementation | C24: 89 | D24: 1 | E24: =C24*D24 -> 89 | F24: 8 | G24: =E24*F24 -> 712 | H24: 0 | I24: =G24-H24 -> 712 | J24: 0 | K24: =G24-H24 -> 712 | L24: State agency burden for implementation and training activities related to the revised food lists and food packages in the final rule.
A25: 246.10(b)(2)(i) | B25: LA training on revised food list | C25: =1810*0.7 -> 1267 | D25: 1 | E25: =C25*D25 -> 1267 | F25: 1 | G25: =E25*F25 -> 1267 | H25: 0 | I25: =G25-H25 -> 1267 | J25: 0 | K25: =G25-H25 -> 1267 | L25: One-time burden for SLT local agencies to attend training on revised food list.
A26: 246.10(d)(1) | B26: Medical documentation, 1% of infants | C26: =1810*0.7 -> 1267 | D26: =(1464744*0.7*0.01)/1267 -> 8.0925083 | E26: =C26*D26 -> 10253.208 | F26: 0.0334 | G26: =E26*F26 -> 342.45715 | H26: 342.45715 | I26: =G26-H26 -> 0 | J26: 0 | K26: =G26-H26 -> 0 | L26: N/A
A27: 246.10(i) | B27: Plans for Substitutions | C27: =(1/5) -> 0.2 | D27: 1 | E27: =C27*D27 -> 0.2 | F27: 2 | G27: =E27*F27 -> 0.4 | H27: 0.4 | I27: =G27-H27 -> 0 | J27: 0 | K27: =G27-H27 -> 0 | L27: N/A
A28: 246.11(d)(1), 246.7(b) | B28: LA nutrition education provision | C28: =1810*0.7 -> 1267 | D28: =((6243960*0.7)/1267) -> 3449.7017 | E28: =C28*D28 -> 4370772 | F28: 0.25 | G28: =E28*F28 -> 1092693 | H28: 1092693 | I28: =G28-H28 -> 0 | J28: 0 | K28: =G28-H28 -> 0 | L28: N/A
A29: 246.11(d)(2) | B29: LA nutrition education plan | C29: =0.7*1810 -> 1267 | D29: 1 | E29: =C29*D29 -> 1267 | F29: 40 | G29: =E29*F29 -> 50680 | H29: 50680 | I29: =G29-H29 -> 0 | J29: 0 | K29: =G29-H29 -> 0 | L29: N/A
A30: 246.12(f)(3) | B30: Vendor identification | C30: 89 | D30: 1 | E30: =C30*D30 -> 89 | F30: 3 | G30: =E30*F30 -> 267 | H30: 267 | I30: =G30-H30 -> 0 | J30: 0 | K30: =G30-H30 -> 0 | L30: N/A
A31: 246.12(f)(4) | B31: Split tender transactions | C31: 89 | D31: 1 | E31: =C31*D31 -> 89 | F31: 3 | G31: =E31*F31 -> 267 | H31: 267 | I31: =G31-H31 -> 0 | J31: 0 | K31: =G31-H31 -> 0 | L31: N/A
A32: 246.12(g)(4)(i) | B32: Vendor food sales data | C32: 89 | D32: =(840)/89 -> 9.4382022 | E32: =C32*D32 -> 840 | F32: 4 | G32: =E32*F32 -> 3360 | H32: 3360 | I32: 0 | J32: =G32-H32 -> 0 | K32: =G32-H32 -> 0 | L32: N/A
A33: 246.12(g)(4)(ii)(B) | B33: Vendor shelf prices | C33: 79 | D33: =2*((37417-150)/79) -> 943.46835 | E33: =C33*D33 -> 74534 | F33: 2 | G33: =E33*F33 -> 149068 | H33: 149668 | I33: =G33-H33 -> -600 | J33: 0 | K33: =G33-H33 -> -600 | L33: Decrease in number of retail vendors due to program change due to final rule.
A34: 246.12(g)(4)(ii)(B) | B34: Vendor shelf prices exemption | C34: 5 | D34: 1 | E34: =C34*D34 -> 5 | F34: 8 | G34: =E34*F34 -> 40 | H34: 40 | I34: =G34-H34 -> 0 | J34: =G34-H34 -> 0 | K34: =G34-H34 -> 0 | L34: N/A
A35: 246.12(g)(4)(iii) | B35: Price Increases | C35: 89 | D35: 1 | E35: =C35*D35 -> 89 | F35: 3 | G35: =E35*F35 -> 267 | H35: 267 | I35: =G35-H35 -> 0 | J35: 0 | K35: =G35-H35 -> 0 | L35: N/A
A36: 246.12(g)(5) | B36: Vendor initial preauthorization visits | C36: 89 | D36: 17 | E36: =C36*D36 -> 1513 | F36: 1 | G36: =E36*F36 -> 1513 | H36: 1513 | I36: =G36-H36 -> 0 | J36: 0 | K36: =G36-H36 -> 0 | L36: N/A
A37: 246.12(g)(8) | B37: Application periods | C37: 89 | D37: 1 | E37: =C37*D37 -> 89 | F37: 3 | G37: =E37*F37 -> 267 | H37: 267 | I37: =G37-H37 -> 0 | J37: 0 | K37: =G37-H37 -> 0 | L37: N/A
A38: 246.12(h) | B38: Review Vendor applications/agreements | C38: 89 | D38: =(0.33*(37417-150))/89 -> 138.18101 | E38: =C38*D38 -> 12298.11 | F38: 0.668 | G38: =E38*F38 -> 8215.1375 | H38: 8248.2035 | I38: =G38-H38 -> -33.066 | J38: 0 | K38: =G38-H38 -> -33.066 | L38: Decrease in number of retail vendors due to program change due to final rule.
A39: 246.12(i)(1) | B39: Vendor training development | C39: 89 | D39: 1 | E39: =C39*D39 -> 89 | F39: 8 | G39: =E39*F39 -> 712 | H39: 712 | I39: =G39-H39 -> 0 | J39: =G39-H39 -> 0 | K39: =G39-H39 -> 0 | L39: N/A
A40: 246.12(i)(1) | B40: Vendor training | C40: 89 | D40: =((37417-150)/89) -> 418.73034 | E40: =C40*D40 -> 37267 | F40: 2 | G40: =E40*F40 -> 74534 | H40: 74834 | I40: =G40-H40 -> -300 | J40: 0 | K40: =G40-H40 -> -300 | L40: Decrease in number of retail vendors due to program change due to final rule.
...

Sheet WIC + Proposed Rule ICR
A1: APPENDIX F: WIC Burden Table OMB #0584-0043
A2: Regulatory Section | B2: Information Collected | C2: Estimated Number of Respondents | D2: Annual Responses per Respondent | E2: Total Annual Responses | F2: Number of Burden Hours per Request | G2: Estimated Total Burden Hours | H2: Previous Submission: Total Hours Requested*** | I2: Difference Due to Program Changes | J2: Difference Due to Adjustments | K2: Total Difference | L2: Explanation of Differences
A3: REPORTING BURDEN ESTIMATES
A4: Affected Public: State and Local Agencies (including Indian Tribal Organizations and U.S. Territories)
A5: 246.4 | B5: State Plan | C5: 89 | D5: 1 | E5: =C5*D5 -> 89 | F5: 134.62 | G5: =E5*F5 -> 11981.18 | H5: 11981.18 | I5: =G5-H5 -> 0 | J5: =G5-H5 -> 0 | K5: =SUM(I5:J5) -> 0
A6: 246.5(b) | B6: Local Agency (LA) applications | C6: 904 | D6: 1 | E6: =C6*D6 -> 904 | F6: 2 | G6: =E6*F6 -> 1808 | H6: 1808 | I6: =G6-H6 -> 0 | J6: =G6-H6 -> 0 | K6: =SUM(I6:J6) -> 0
A7: 246.6 | B7: LA Agreements | C7: 904 | D7: 1 | E7: =C7*D7 -> 904 | F7: 1.5 | G7: =E7*F7 -> 1356 | H7: 1356 | I7: =G7-H7 -> 0 | J7: =G7-H7 -> 0 | K7: =SUM(I7:J7) -> 0
A8: 246.7(f)(2)(iii)(A) | B8: LA requests for notice extension | C8: 301.3 | D8: 1 | E8: =C8*D8 -> 301.3 | F8: 0.25 | G8: =ROUND(E8*F8, 2) -> 75.33 | H8: 75.33 | I8: =G8-H8 -> 0 | J8: =G8-H8 -> 0 | K8: =SUM(I8:J8) -> 0
A9: 246.7(i) | B9: Cert. data for women | C9: =1808*0.7 -> 1265.6 | D9: =(2*1633864)/1808 -> 1807.3717 | E9: =C9*D9 -> 2287409.6 | F9: =ROUND(13/60, 4) -> 0.2167 | G9: =E9*F9 -> 495681.66 | H9: 545711 | I9: =C9*D9*(F9-(10/60)) -> 114446.73 | J9: =C9*D9*(10/60)-H9 -> -164476.07 | K9: =SUM(I9:J9) -> -50029.34 | L9: Increase in number of burden hours per request due to program change due to proposed rule. Decrease due to program adjustment from excluding estimate of non-profit businesses from SLT.
A10: 246.7(i) | B10: Cert. data for children | C10: =1808*0.7 -> 1265.6 | D10: =(1.5*3523863)/1808 -> 2923.5589 | E10: =C10*D10 -> 3700056.1 | F10: =ROUND(13/60, 4) -> 0.2167 | G10: =E10*F10 -> 801802.17 | H10: 882728 | I10: =C10*D10*(F10-(10/60)) -> 185126.14 | J10: =C10*D10*(10/60)-H10 -> -266051.98 | K10: =SUM(I10:J10) -> -80925.832 | L10: Increase in number of burden hours per request due to program change due to proposed rule. Decrease due to program adjustment from excluding estimate of non-profit businesses from SLT.
A11: 246.7(i) | B11: Certification data for infants | C11: =1808*0.7 -> 1265.6 | D11: =1*(1712401/1808) -> 947.12445 | E11: =C11*D11 -> 1198680.7 | F11: =ROUND(13/60, 4) -> 0.2167 | G11: =E11*F11 -> 259754.11 | H11: 285970.97 | I11: =C11*D11*(F11-(10/60)) -> 59973.991 | J11: =C11*D11*(10/60)-H11 -> -86190.853 | K11: =SUM(I11:J11) -> -26216.862 | L11: Increase in number of burden hours per request due to program change due to proposed rule. Decrease due to program adjustment from excluding estimate of non-profit businesses from SLT.
A12: 246.7(i) | B12: Explaining food package updates | C12: =1808*0.7 -> 1265.6 | D12: =6870128/1808 -> 3799.8496 | E12: =C12*D12 -> 4809089.6 | F12: =ROUND(5/60, 4) -> 0.0833 | G12: =E12*F12 -> 400597.16 | H12: 0 | I12: =G12-H12 -> 400597.16 | J12: 0 | K12: =SUM(I12:J12) -> 400597.16 | L12: One-time burden to explain program changes in the proposed rule to participants.
A13: 246.7(j)(9) | B13: SA notification re funding shortfall | C13: 4 | D13: 1 | E13: =C13*D13 -> 4 | F13: 0.0835 | G13: =ROUND(E13*F13, 2) -> 0.33 | H13: 0.33 | I13: =G13-H13 -> 0 | J13: =G13-H13 -> 0 | K13: =SUM(I13:J13) -> 0
A14: 246.7(k) | B14: Verification of Certification cards | C14: 1808 | D14: =((0.03*6870128)/1808) -> 113.99549 | E14: =C14*D14 -> 206103.84 | F14: 0.0835 | G14: 17210 | H14: 17210 | I14: =G14-H14 -> 0 | J14: =G14-H14 -> 0 | K14: =SUM(I14:J14) -> 0
A15: 246.10(b)(1) | B15: Identification of acceptable foods | C15: 89 | D15: 1 | E15: =C15*D15 -> 89 | F15: 43 | G15: =E15*F15 -> 3827 | H15: 3560 | I15: =G15-H15 -> 267 | J15: 0 | K15: =SUM(I15:J15) -> 267 | L15: Increase in burden hours due to program change due to proposed rule.
A16: 246.10(b)(2) | B16: Submit APL as food list | C16: 54 | D16: 4 | E16: =C16*D16 -> 216 | F16: 0.0083 | G16: =ROUND(E16*F16, 2) -> 1.79 | H16: 1.79 | I16: =G16-H16 -> 0 | J16: =G16-H16 -> 0 | K16: =SUM(I16:J16) -> 0
A17: 246.10(b)(2)(i) | B17: Develop and provide LAs training on revised food list | C17: 89 | D17: 1 | E17: =C17*D17 -> 89 | F17: 5 | G17: =E17*F17 -> 445 | H17: 0 | I17: =G17-H17 -> 445 | J17: 0 | K17: =SUM(I17:J17) -> 445 | L17: One-time burden for State agencies to attend training (1 hour), and develop (3 hours) and provide training (1 hour) to local agencies, on revised food list.
A18: 246.10(b)(2)(i) | B18: LA training on revised food list | C18: =1808*0.7 -> 1265.6 | D18: 1 | E18: =C18*D18 -> 1265.6 | F18: 1 | G18: =E18*F18 -> 1265.6 | H18: 0 | I18: =G18-H18 -> 1265.6 | J18: 0 | K18: =SUM(I18:J18) -> 1265.6 | L18: One-time burden for SLT local agencies to attend training on revised food list.
A19: 246.10(d)(1) | B19: Medical documentation, 1% of infants | C19: 1808 | D19: =(1712401*0.01)/1808 -> 9.4712445 | E19: =C19*D19 -> 17124.01 | F19: 0.0334 | G19: 572 | H19: 572 | I19: =G19-H19 -> 0 | J19: =G19-H19 -> 0 | K19: =SUM(I19:J19) -> 0
A20: 246.11(d)(2) | B20: LA nutrition education plan | C20: 1808 | D20: 1 | E20: =C20*D20 -> 1808 | F20: 40 | G20: =E20*F20 -> 72320 | H20: 72320 | I20: =G20-H20 -> 0 | J20: =G20-H20 -> 0 | K20: =SUM(I20:J20) -> 0
A21: 246.12(g)(4)(i) | B21: Vendor food sales data | C21: 89 | D21: =(3691)/89 -> 41.47191 | E21: =C21*D21 -> 3691 | F21: 4 | G21: =E21*F21 -> 14764 | H21: 14764 | I21: =G21-H21 -> 0 | J21: =G21-H21 -> 0 | K21: =SUM(I21:J21) -> 0
A22: 246.12(g)(4)(ii)(B) | B22: Vendor shelf prices | C22: 79 | D22: =2*(41164/79) -> 1042.1266 | E22: =C22*D22 -> 82328 | F22: 2 | G22: =E22*F22 -> 164656 | H22: 164656 | I22: =G22-H22 -> 0 | J22: =G22-H22 -> 0 | K22: =SUM(I22:J22) -> 0
A23: 246.12(g)(4)(ii)(B) | B23: Vendor shelf prices exemption | C23: 5 | D23: 1 | E23: =C23*D23 -> 5 | F23: 8 | G23: =E23*F23 -> 40 | H23: 40 | I23: =G23-H23 -> 0 | J23: =G23-H23 -> 0 | K23: =SUM(I23:J23) -> 0
A24: 246.12(h)(1)(i) | B24: Vendor applications & agreements | C24: 89 | D24: =((41164-150)*0.33)/89 -> 152.07438 | E24: =C24*D24 -> 13534.62 | F24: 0.75 | G24: =E24*F24 -> 10150.965 | H24: =(41164*0.33)*0.75 -> 10188.09 | I24: =G24-H24 -> -37.125 | J24: 0 | K24: =SUM(I24:J24) -> -37.125 | L24: Decrease in number of retail vendors due to program change due to proposed rule.
A25: 246.12(i)(1) | B25: Vendor training development | C25: 89 | D25: 1 | E25: =C25*D25 -> 89 | F25: 8 | G25: =E25*F25 -> 712 | H25: 712 | I25: =G25-H25 -> 0 | J25: =G25-H25 -> 0 | K25: =SUM(I25:J25) -> 0
A26: 246.12(i)(1) | B26: Vendor training | C26: 89 | D26: =(41164/89) -> 462.51685 | E26: =C26*D26 -> 41164 | F26: 2 | G26: =E26*F26 -> 82328 | H26: 82328 | I26: =G26-H26 -> 0 | J26: =G26-H26 -> 0 | K26: =SUM(I26:J26) -> 0
A27: 246.12(j)(4) | B27: Vendor compliance investigations | C27: 89 | D27: =(41164*0.05)/89 -> 23.125843 | E27: =C27*D27 -> 2058.2 | F27: 2 | G27: =E27*F27 -> 4116.4 | H27: 4116.4 | I27: =G27-H27 -> 0 | J27: =G27-H27 -> 0 | K27: =SUM(I27:J27) -> 0
A28: 246.12(o) | B28: Complaints | C28: 89 | D28: =10000/89 -> 112.35955 | E28: =C28*D28 -> 10000 | F28: 1 | G28: =E28*F28 -> 10000 | H28: =G28 -> 10000 | I28: =G28-H28 -> 0 | J28: =G28-H28 -> 0 | K28: =SUM(I28:J28) -> 0
A29: 246.12(q) | B29: Disposition of food instruments | C29: 89 | D29: 1 | E29: =C29*D29 -> 89 | F29: 40 | G29: =E29*F29 -> 3560 | H29: 3560 | I29: =G29-H29 -> 0 | J29: =G29-H29 -> 0 | K29: =SUM(I29:J29) -> 0
A30: 246.14(d) | B30: ADP proposals | C30: 20 | D30: 1 | E30: =C30*D30 -> 20 | F30: 160 | G30: =E30*F30 -> 3200 | H30: 3200 | I30: =G30-H30 -> 0 | J30: =G30-H30 -> 0 | K30: =SUM(I30:J30) -> 0
A31: 246.16(d) | B31: Distribution of funds to LAs | C31: 89 | D31: =(1808*4)/89 -> 81.258427 | E31: =C31*D31 -> 7232 | F31: 2 | G31: =E31*F31 -> 14464 | H31: 14464 | I31: =G31-H31 -> 0 | J31: =G31-H31 -> 0 | K31: =SUM(I31:J31) -> 0
A32: 246.17(c)(1) | B32: Termination of SAs & LAs | C32: 89 | D32: =(10/89) -> 0.11235955 | E32: =C32*D32 -> 10 | F32: 8 | G32: =E32*F32 -> 80 | H32: =G32 -> 80 | I32: =G32-H32 -> 0 | J32: =G32-H32 -> 0 | K32: =SUM(I32:J32) -> 0
A33: 246.19(a)(2) | B33: SA corrective action plans to FNS | C33: =89*0.33 -> 29.37 | D33: 1 | E33: =C33*D33 -> 29.37 | F33: 30 | G33: =E33*F33 -> 881.1 | H33: 881.1 | I33: =G33-H33 -> 0 | J33: =G33-H33 -> 0 | K33: =SUM(I33:J33) -> 0
A34: 246.19(b)(5) | B34: Targeted LA reviews | C34: 89 | D34: =(1808/89)*0.5*0.25 -> 2.5393258 | E34: =C34*D34 -> 226 | F34: 2 | G34: =E34*F34 -> 452 | H34: 452 | I34: =G34-H34 -> 0 | J34: =G34-H34 -> 0 | K34: =SUM(I34:J34) -> 0
A35: 246.20(a)(2) | B35: SA response to OIG audits | C35: 1 | D35: 1 | E35: =C35*D35 -> 1 | F35: 40 | G35: =E35*F35 -> 40 | H35: 40 | I35: =G35-H35 -> 0 | J35: =G35-H35 -> 0 | K35: =SUM(I35:J35) -> 0
A36: Subtotal Reporting: State and Local Agencies | C36: =C5+1808 -> 1897 | D36: =E36/C36 -> 6528.5245 | E36: =SUM(E5:E35) -> 12384611 | F36: =G36/E36 -> 0.19202394 | G36: =SUM(G5:G35) -> 2378141.8 | H36: =SUM(H5:H35) -> 2132776.2 | I36: =SUM(I5:I35) -> 762084.5 | J36: =SUM(J5:J35) -> -516718.9 | K36: =SUM(K5:K35) -> 245365.6
A37: Affected Public: Individuals and Households: Applicants for Program Benefits
A38: 246.7(i) | B38: Cert. data for women | C38: 1633864 | D38: 2 | E38: =C38*D38 -> 3267728 | F38: =ROUND(13/60, 4) -> 0.2167 | G38: =E38*F38 -> 708116.66 | H38: 545710.58 | I38: =G38-H38 -> 162406.08 | J38: 0 | K38: =SUM(I38:J38) -> 162406.08 | L38: Increase in burden hours due to program change due to proposed rule.
A39: 246.7(i) | B39: Cert. data for children | C39: 3523863 | D39: 1.5 | E39: =C39*D39 -> 5285794.5 | F39: =ROUND(13/60, 4) -> 0.2167 | G39: =E39*F39 -> 1145431.7 | H39: 882727.68 | I39: =G39-H39 -> 262703.99 | J39: 0 | K39: =SUM(I39:J39) -> 262703.99 | L39: Increase in burden hours due to program change due to proposed rule.
A40: 246.7(i) | B40: Certification data for infants | C40: 1712401 | D40: 1 | E40: =C40*D40 -> 1712401 | F40: =ROUND(13/60, 4) -> 0.2167 | G40: =E40*F40 -> 371077.3 | H40: 285970.97 | I40: =G40-H40 -> 85106.327 | J40: 0 | K40: =SUM(I40:J40) -> 85106.327 | L40: Increase in burden hours due to program change due to proposed rule.
...

Sheet 2023 - LA
A1: APPENDIX I: WIC Burden Table | M1: Number of respondents per category
A2: Regulatory Section | B2: Information Collected | C2: Estimated Number of Respondents | D2: Annual Responses per Respondent | E2: Total Annual Responses | F2: Number of Burden Hours per Request | G2: Estimated Total Burden Hours | H2: Previous Sumbission: Total Hours per Person | I2: Difference Due to Program Changes | J2: Difference Due to Adjustments | K2: Explanation of Differences/Comments | M2: State Agencies | N2: Local Agencies | O2: Participants- Total | P2: Participants- Women | Q2: Participants- Infants | R2: Participants- Children | S2: Vendors | T2: Farmers/Markets
A3: REPORTING BURDEN ESTIMATES | M3: 89 | N3: 1810 | O3: 6243960 | P3: 1379126 | Q3: 1464744 | R3: 3400090 | S3: 37417 | T3: 3289
A4: Affected Public: State and Local Agencies (including Indian Tribal Organizations and U.S. Territories) | M4: No Change | N4: Increase | O4: decrease | P4: decrease | Q4: decrease | R4: decrease | S4: decrease | T4: N/A
A5: 246.4 | B5: State Plan | C5: 89 | D5: 1 | E5: =C5*D5 -> 89 | F5: 134.62 | G5: =E5*F5 -> 11981.18 | H5: ='2020'!G5 -> 11981.18 | I5: =G5-H5 -> 0 | J5: =G5-H5 -> 0 | K5: N/A
A6: 246.5(b) | B6: Local Agency (LA) applications | C6: =1810*0.5 -> 905 | D6: 1 | E6: =C6*D6 -> 905 | F6: 2 | G6: =E6*F6 -> 1810 | H6: ='2020'!G6 -> 1808 | I6: 0 | J6: =G6-H6 -> 2 | K6: Increase in number of local agencies.
A7: 246.5(c)(2) | B7: SA notification re not funding LA | C7: 4 | D7: 1 | E7: =C7*D7 -> 4 | F7: 0.167 | G7: =E7*F7 -> 0.668 | H7: 0 | I7: =G7-H7 -> 0.668 | J7: 0 | K7: Increase due to not being reported in previous submission
A8: 246.5(d)(2) | B8: SA Public Notice for new LA | C8: =(89*0.33) -> 29.37 | D8: 1 | E8: =C8*D8 -> 29.37 | F8: 0.5 | G8: =E8*F8 -> 14.685 | H8: 0 | I8: =G8-H8 -> 14.685 | J8: 0 | K8: Increase due to not being reported in previous submission
A9: 246.5(e)(3)(ii) | B9: SA notification of LA disqualification | C9: 4 | D9: =(1810/89)*0.02 -> 0.40674157 | E9: =C9*D9 -> 1.6269663 | F9: 0.5 | G9: =E9*F9 -> 0.81348315 | H9: 0 | I9: =G9-H9 -> 0.81348315 | J9: 0 | K9: Increase due to not being reported in previous submission
A10: 246.6 | B10: LA Agreements | C10: =1810*0.5 -> 905 | D10: 1 | E10: =C10*D10 -> 905 | F10: 1.5 | G10: =E10*F10 -> 1357.5 | H10: ='2020'!G7 -> 1356 | I10: 0 | J10: =G10-H10 -> 1.5 | K10: Increase in number of local agencies.
A11: 246.7(d) | B11: Provision of income eligibility determinations | C11: 89 | D11: =(1810/89) -> 20.337079 | E11: =C11*D11 -> 1810 | F11: 0.25 | G11: =E11*F11 -> 452.5 | H11: 0 | I11: =G11-H11 -> 452.5 | J11: 0 | K11: Increase due to not being reported in previous submission
A12: 246.7(f)(2)(iii)(A) | B12: LA requests for notice extension | C12: =1810/6 -> 301.66667 | D12: 1 | E12: =C12*D12 -> 301.66667 | F12: 0.25 | G12: =E12*F12 -> 75.416667 | H12: ='2020'!G8 -> 75.325 | I12: 0 | J12: =G12-H12 -> 0.091666667 | K12: Increase in number of local agencies.
A13: 246.7(i) | B13: Cert. data for women and children | E13: =C13*D13 -> 0 | G13: =E13*F13 -> 0 | H13: ='2020'!G9 -> 1428439 | I13: =G13-H13 -> -1428439 | J13: =G13-H13 -> -1428439 | K13: N/A
A14: 246.7(b),(i),(n) | B14: Cert. data for women | C14: =1810*0.7 -> 1267 | D14: =(1379126*0.7)/1267 -> 761.94807 | E14: =C14*D14 -> 965388.2 | F14: 0.4175 | G14: =E14*F14 -> 403049.57 | H14: ='2020'!G10 -> 545711 | I14: 0 | J14: =G14-H14 -> -142661.43 | K14: Decrease in number of women certifications.
A15: 246.7(i) | B15: Cert. data for children | C15: =1810*0.7 -> 1267 | D15: =(3400090*0.7)/1267 -> 1878.5028 | E15: =C15*D15 -> 2380063 | F15: 0.4175 | G15: =E15*F15 -> 993676.3 | H15: ='2020'!G11 -> 882728 | I15: 0 | J15: =G15-H15 -> 110948.3 | K15: Decrease in the number of children certifications but overall increase due to an increase in number of buden hours per request.
A16: 246.7(i) | B16: Certification data for infants | C16: =1810*0.7 -> 1267 | D16: =1*(1464744*0.7/1267) -> 809.25083 | E16: =C16*D16 -> 1025320.8 | F16: 0.4175 | G16: =E16*F16 -> 428071.43 | H16: ='2020'!G12 -> 285970.97 | I16: 0 | J16: =G16-H16 -> 142100.47 | K16: Decrease in the number of infant certifications but overall increase due to an increase in number of buden hours per request.
A17: 246.7(j)(9) | B17: SA notification re funding shortfall | C17: 4 | D17: 1 | E17: =C17*D17 -> 4 | F17: 0.0835 | G17: =E17*F17 -> 0.334 | H17: ='2020'!G13 -> 0.334 | I17: =G17-H17 -> 0 | J17: =G17-H17 -> 0 | K17: N/A
A18: 246.7(k) | B18: Verification of Certification cards | C18: =1810*0.7 -> 1267 | D18: =((0.03*6243960*0.7)/1267) -> 103.49105 | E18: =C18*D18 -> 131123.16 | F18: 0.0835 | G18: =E18*F18 -> 10948.784 | H18: ='2020'!G14 -> 17210 | I18: 0 | J18: =G18-H18 -> -6261.2161 | K18: Decrease in number of total certifications.
A19: 246.8 | B19: Provision of Non-English Materials | C19: 79 | D19: 1 | E19: =C19*D19 -> 79 | F19: 3 | G19: =E19*F19 -> 237 | H19: 0 | I19: =G19-H19 -> 237 | J19: 0 | K19: Increase due to not being reported in previous submission
A20: 246.9 (c) | B20: Informing WIC participants of the details of the appeal process and their individual rights. | C20: 89 | D20: =(6243959*0.02)/89 -> 1403.1369 | E20: =C20*D20 -> 124879.18 | F20: 0.0835 | G20: =E20*F20 -> 10427.412 | H20: 0 | I20: =G20-H20 -> 10427.412 | J20: 0 | K20: Increase due to not being reported in previous submission
A21: 246.9 (h) | B21: Fair hearing procedures for participants | C21: 89 | D21: =(6243959*0.02*0.02)/89 -> 28.062737 | E21: =C21*D21 -> 2497.5836 | F21: 3 | G21: =E21*F21 -> 7492.7508 | H21: 0 | I21: =G21-H21 -> 7492.7508 | J21: 0 | K21: Increase due to not being reported in previous submission
A22: 246.10(b)(1) | B22: Identification of acceptable foods | C22: 89 | D22: 1 | E22: =C22*D22 -> 89 | F22: 40 | G22: =E22*F22 -> 3560 | H22: ='2020'!G15 -> 3560 | I22: =G22-H22 -> 0 | J22: =G22-H22 -> 0 | K22: N/A
A23: 246.10(b(2) | B23: Submit APL as food list | C23: 54 | D23: 4 | E23: =C23*D23 -> 216 | F23: 0.0083 | G23: =E23*F23 -> 1.7928 | H23: ='2020'!G16 -> 1.7928 | I23: =G23-H23 -> 0 | J23: =G23-H23 -> 0 | K23: N/A
A24: 246.10(d)(1) | B24: Medical documentation, 1% of infants | C24: =1810*0.7 -> 1267 | D24: =(1464744*0.7*0.01)/1267 -> 8.0925083 | E24: =C24*D24 -> 10253.208 | F24: 0.0334 | G24: =E24*F24 -> 342.45715 | H24: ='2020'!G17 -> 572 | I24: 0 | J24: =G24-H24 -> -229.54285 | K24: Decrease in number of infant certifications. (1% of infants)
A25: 246.10(i) | B25: Plans for Substitutions | C25: =(1/5) -> 0.2 | D25: 1 | E25: =C25*D25 -> 0.2 | F25: 2 | G25: =E25*F25 -> 0.4 | I25: =G25-H25 -> 0.4 | J25: =G25-H25 -> 0.4 | K25: Increase due to not being reported in previous submission
A26: 246.11(d)(1), 246.7(b) | B26: LA nutrition education provision | C26: =1810*0.7 -> 1267 | D26: =((6243960*0.7)/1267) -> 3449.7017 | E26: =C26*D26 -> 4370772 | F26: 0.25 | G26: =E26*F26 -> 1092693 | H26: 0 | I26: =G26-H26 -> 1092693 | J26: 0 | K26: Increase due to not being reported in previous submission
A27: 246.11(d)(2) | B27: LA nutrition education plan | C27: =0.7*1810 -> 1267 | D27: 1 | E27: =C27*D27 -> 1267 | F27: 40 | G27: =E27*F27 -> 50680 | H27: ='2020'!G18 -> 72320 | I27: 0 | J27: =G27-H27 -> -21640 | K27: Decrease due to nonprofit local agencies being reported as businesses
A28: 246.12(f)(3) | B28: Vendor identification | C28: 89 | D28: 1 | E28: =C28*D28 -> 89 | F28: 3 | G28: =E28*F28 -> 267 | H28: 0 | I28: =G28-H28 -> 267 | J28: 0 | K28: Increase due to not being reported in previous submission
A29: 246.12(f)(4) | B29: Split tender transactions | C29: 89 | D29: 1 | E29: =C29*D29 -> 89 | F29: 3 | G29: =E29*F29 -> 267 | H29: 0 | I29: =G29-H29 -> 267 | J29: 0 | K29: Increase due to not being reported in previous submission
A30: 246.12(g)(4)(i) | B30: Vendor food sales data | C30: 89 | D30: =(840)/89 -> 9.4382022 | E30: =C30*D30 -> 840 | F30: 4 | G30: =E30*F30 -> 3360 | H30: ='2020'!G19 -> 14764 | I30: =G30-H30 -> -11404 | J30: =G30-H30 -> -11404 | K30: Decrease in the number of above-50-percent vendors.
A31: 246.12(g)(4)(ii)(B) | B31: Vendor shelf prices | C31: 79 | D31: =2*(37417/79) -> 947.26582 | E31: =C31*D31 -> 74834 | F31: 2 | G31: =E31*F31 -> 149668 | H31: ='2020'!G20 -> 164656 | I31: 0 | J31: =G31-H31 -> -14988 | K31: Decrease in the number of vendors.
A32: 246.12(g)(4)(ii)(B) | B32: Vendor shelf prices exemption | C32: 5 | D32: 1 | E32: =C32*D32 -> 5 | F32: 8 | G32: =E32*F32 -> 40 | H32: ='2020'!G21 -> 40 | I32: =G32-H32 -> 0 | J32: =G32-H32 -> 0 | K32: N/A
A33: 246.12(g)(4)(iii) | B33: Price Increases | C33: 89 | D33: 1 | E33: =C33*D33 -> 89 | F33: 3 | G33: =E33*F33 -> 267 | H33: 0 | I33: =G33-H33 -> 267 | J33: 0 | K33: Increase due to not being reported in previous submission
A34: 246.12(g)(5) | B34: Vendor initial preauthorization visits | C34: 89 | D34: 17 | E34: =C34*D34 -> 1513 | F34: 1 | G34: =E34*F34 -> 1513 | H34: 0 | I34: =G34-H34 -> 1513 | J34: 0 | K34: Increase due to not being reported in previous submission
A35: 246.12(g)(8) | B35: Application periods | C35: 89 | D35: 1 | E35: =C35*D35 -> 89 | F35: 3 | G35: =E35*F35 -> 267 | H35: 0 | I35: =G35-H35 -> 267 | J35: 0 | K35: Increase due to not being reported in previous submission
A36: 246.12(h) | B36: Review Vendor applicaitons/agreements | C36: 89 | D36: =(0.33*37417)/89 -> 138.73719 | E36: =C36*D36 -> 12347.61 | F36: 0.678 | G36: =E36*F36 -> 8371.6796 | H36: 0 | I36: =G36-H36 -> 8371.6796 | J36: 0 | K36: Increase due to not being reported in previous submission
A37: 246.12(i)(1) | B37: Vendor training development | C37: 89 | D37: 1 | E37: =C37*D37 -> 89 | F37: 8 | G37: =E37*F37 -> 712 | H37: ='2020'!G22 -> 712 | I37: =G37-H37 -> 0 | J37: =G37-H37 -> 0 | K37: N/A
A38: 246.12(i)(1) | B38: Vendor training | C38: 89 | D38: =(S3/89) -> 420.41573 | E38: =C38*D38 -> 37417 | F38: 2 | G38: =E38*F38 -> 74834 | H38: ='2020'!G23 -> 82328 | I38: 0 | J38: =G38-H38 -> -7494 | K38: Decrease in the number of vendors.
A39: 246.12(j)(2),(6) | B39: Routine vendor monitoring | C39: 89 | D39: =(0.05*37417)/89 -> 21.020787 | E39: =C39*D39 -> 1870.85 | F39: 1.334 | G39: =E39*F39 -> 2495.7139 | H39: 0 | I39: =G39-H39 -> 2495.7139 | J39: 0 | K39: Increase due to not being reported in previous submission
A40: 246.12(j)(4),(6) | B40: Vendor compliance investigations | C40: 89 | D40: =(37417*0.05)/89 -> 21.020787 | E40: =C40*D40 -> 1870.85 | F40: 2.334 | G40: =E40*F40 -> 4366.5639 | H40: ='2020'!G24 -> 4116.4 | I40: 0 | J40: =G40-H40 -> 250.1639 | K40: Decrease in the number of vendors.
...

Sheet 2023
A1: APPENDIX I: WIC Burden Table | M1: Number of respondents per category
A2: Regulatory Section | B2: Information Collected | C2: Estimated Number of Respondents | D2: Annual Responses per Respondent | E2: Total Annual Responses | F2: Number of Burden Hours per Request | G2: Estimated Total Burden Hours | H2: Previous Sumbission: Total Hours per Person | I2: Difference Due to Program Changes | J2: Difference Due to Adjustments | K2: Explanation of Differences/Comments | M2: State Agencies | N2: Local Agencies | O2: Participants- Total | P2: Participants- Women | Q2: Participants- Infants | R2: Participants- Children | S2: Vendors | T2: Farmers/Markets
A3: REPORTING BURDEN ESTIMATES | M3: 89 | N3: 1810 | O3: 6243959 | P3: 1379126 | Q3: 1464744 | R3: 3400090 | S3: 37417 | T3: 3289
A4: Affected Public: State and Local Agencies (including Indian Tribal Organizations and U.S. Territories) | M4: No Change | N4: Increase | O4: decrease | P4: decrease | Q4: decrease | R4: decrease | S4: decrease | T4: N/A
A5: 246.4 | B5: State Plan | C5: 89 | D5: 1 | E5: =C5*D5 -> 89 | F5: 134.62 | G5: =E5*F5 -> 11981.18 | H5: ='2020'!G5 -> 11981.18 | I5: =G5-H5 -> 0 | J5: =G5-H5 -> 0 | K5: N/A
A6: 246.5(b) | B6: Local Agency (LA) applications | C6: =1810*0.5 -> 905 | D6: 1 | E6: =C6*D6 -> 905 | F6: 2 | G6: =E6*F6 -> 1810 | H6: ='2020'!G6 -> 1808 | I6: 0 | J6: =G6-H6 -> 2 | K6: Increase in number of local agencies.
A7: 246.5(c)(2) | B7: SA notification re not funding LA | C7: 4 | D7: 1 | E7: =C7*D7 -> 4 | F7: 0.167 | G7: =E7*F7 -> 0.668 | H7: 0 | I7: =G7-H7 -> 0.668 | J7: 0 | K7: Increase due to not being reported in previous submission
A8: 246.5(d)(2) | B8: SA Public Notice for new LA | C8: =(89*0.33) -> 29.37 | D8: 1 | E8: =C8*D8 -> 29.37 | F8: 0.5 | G8: =E8*F8 -> 14.685 | H8: 0 | I8: =G8-H8 -> 14.685 | J8: 0 | K8: Increase due to not being reported in previous submission
A9: 246.5(e)(3)(ii) | B9: SA notification of LA disqualification | C9: 4 | D9: =(1810/89)*0.02 -> 0.40674157 | E9: =C9*D9 -> 1.6269663 | F9: 0.5 | G9: =E9*F9 -> 0.81348315 | I9: =G9-H9 -> 0.81348315 | J9: 0 | K9: Increase due to not being reported in previous submission
A10: 246.6 | B10: LA Agreements | C10: =1810*0.5 -> 905 | D10: 1 | E10: =C10*D10 -> 905 | F10: 1.5 | G10: =E10*F10 -> 1357.5 | H10: ='2020'!G7 -> 1356 | I10: 0 | J10: =G10-H10 -> 1.5 | K10: Increase in number of local agencies.
A11: 246.7(d) | B11: Provision of income eligibility determinations | C11: 89 | D11: =(1810/89) -> 20.337079 | E11: =C11*D11 -> 1810 | F11: 0.25 | G11: =E11*F11 -> 452.5 | H11: 0 | I11: =G11-H11 -> 452.5 | J11: 0 | K11: Increase due to not being reported in previous submission
A12: 246.7(f)(2)(iii)(A) | B12: LA requests for notice extension | C12: =1810/6 -> 301.66667 | D12: 1 | E12: =C12*D12 -> 301.66667 | F12: 0.25 | G12: =E12*F12 -> 75.416667 | H12: ='2020'!G8 -> 75.325 | I12: 0 | J12: =G12-H12 -> 0.091666667 | K12: Increase in number of local agencies.
