{"text_format":"3","workbook":"xlsx","n_sheets":18,"sheets":["General Infomation","List of samples","Density","TC-AK","TC-IDMS","ExportTC","TG","ExportTG","HDL-DCM","HDL-LDL 2mL","ExportHDL","HDL-LDL","Density Export","Export","ExportLDL","Export for Old Template","Sheet2","CalPopUp"],"not_rendered":{"images":1,"macros":1,"defined_names":29},"read":"whole","date_system":"1900"}

{"sheet":"General Infomation","index":0,"n_rows":15,"n_cols":13,"rows_kept":15,"merged":[[1,1,1,2],[3,1,3,2],[4,1,4,2],[5,1,5,2],[14,1,14,4]]}
[{"$nulls":12},"Unit of measure"]
[null,"CRMLN Network Survey General Information",null,null,"Form Approved\nOMB No. 0920-1389\nExp. Date 03/31/2026"]
[]
[null,"Please fill applicable white cells "]
[null,"Please click \"enable content\" button"]
[null,"Please submit data to cdclsp@cdc.gov"]
[]
[null,"Lab ID"]
[null,"Pool Series","0723",{"$nulls":9},"mg/dL"]
[null,"Submission Date (please use calendar)",{"$nulls":10},"mmol/L"]
[null,"Unit of Measure (please use drop down)","mg/dL"]
[null,"Comment"]
[]
[]
[null,"CDC estimates the average public reporting burden for this collection of information as two hours per response per response, including the time for reviewing instructions, searching existing data/information sources, gathering and maintaining the data/information needed, and completing and reviewing the collection of information. An agency may not conduct or sponsor, and a person is not required to respond to a collection of information unless it displays a currently valid OMB Control Number. Send comments regarding this burden estimate or any other aspect of this collection of information, including suggestions for reducing this burden to CDC/ATSDR Information Collection Review Office, 1600 Clifton Road NE, MS H21-8, Atlanta, Georgia 30333; ATTN: PRA (0920-1389)."]

{"sheet":"List of samples","index":1,"n_rows":47,"n_cols":67,"rows_kept":47,"merged":[[1,1,1,12],[1,15,1,26],[1,29,1,40],[1,43,1,54],[1,57,1,68],[7,1,8,1],[7,2,8,2],[7,3,8,3],[7,6,8,12],[7,15,8,15],[7,16,8,16],[7,17,8,17],[7,20,8,26],[7,29,8,29],[7,30,8,30],[7,31,8,31],[7,34,8,40],[7,43,8,43],[7,44,8,44],[7,45,8,45],[7,48,8,52],[7,57,8,57],[7,58,8,58],[7,59,8,59],[7,62,8,66]]}
[]
[null,"CRMLN Survey: List of Samples",{"$nulls":13},"CRMLN Survey: List of Samples",{"$nulls":13},"CRMLN Survey: List of Samples",{"$nulls":13},"CRMLN Survey: List of Samples",{"$nulls":13},"CRMLN Survey: List of Samples"]
[]
[null,"Lab ID",{"$f":"'General Infomation'!$C$8","v":0},{"$nulls":12},"Lab ID",{"$f":"'General Infomation'!$C$8","v":0},{"$nulls":12},"Lab ID",{"$f":"'General Infomation'!$C$8","v":0},{"$nulls":12},"Lab ID",{"$f":"'General Infomation'!$C$8","v":0},{"$nulls":12},"Lab ID",{"$f":"'General Infomation'!$C$8","v":0}]
[null,"Survey ",{"$f":"'General Infomation'!$C$9","v":"0723"},{"$nulls":12},"Survey ",{"$f":"'General Infomation'!$C$9","v":"0723"},{"$nulls":12},"Survey ",{"$f":"'General Infomation'!$C$9","v":"0723"},{"$nulls":12},"Survey ",{"$f":"'General Infomation'!$C$9","v":"0723"},{"$nulls":12},"Survey ",{"$f":"'General Infomation'!$C$9","v":"0723"}]
[null,"Analyte(s)","TC TG HDL-DCM",{"$nulls":12},"Analyte(s)","TC-IDMS TG HDL-DCM",{"$nulls":12},"Analyte(s)","HDL UC ",{"$nulls":12},"Analyte(s)","HDL/LDL ",{"$nulls":12},"Analyte(s)","HDL/LDL "]
[]
[null,"Location #","Analyte","Sample Type*",{"$f":"CONCATENATE('General Infomation'!C8,\" \", 'General Infomation'!C9)","v":" 0723"},null,{"$f":"CONCATENATE(E9,\" Box Orientation\")","v":"TC TG HDL-DCM Box Orientation"},{"$nulls":8},"Location #","Analyte","Sample Type*",{"$f":"E8","v":" 0723"},null,{"$f":"CONCATENATE(S9,\" Box Orientation\")","v":"TC-IDMS TG HDL-DCM Box Orientation"},{"$nulls":8},"Location #","Analyte","Sample Type*",{"$f":"E8","v":" 0723"},null,{"$f":"CONCATENATE(AG9,\" Box Orientation\")","v":"HDL UC  Box Orientation"},{"$nulls":8},"Location #","Analyte","Sample Type*",{"$f":"E8","v":" 0723"},null,{"$f":"CONCATENATE(AU9,\" Box Orientation\")","v":"HDL/LDL  Box Orientation"},{"$nulls":8},"Location #","Analyte","Sample Type*",{"$f":"AU8","v":" 0723"},null,{"$f":"CONCATENATE(BI9,\" Box Orientation\")","v":"HDL/LDL  Box Orientation"}]
[{"$nulls":4},{"$f":"C6","v":"TC TG HDL-DCM"},{"$nulls":13},{"$f":"Q6","v":"TC-IDMS TG HDL-DCM"},{"$nulls":13},{"$f":"AE6","v":"HDL UC "},{"$nulls":13},{"$f":"AS6","v":"HDL/LDL "},{"$nulls":13},{"$f":"BG6","v":"HDL/LDL "}]
[null,1,"TC","CS01",null,null,1,2,3,4,5,6,{"$nulls":3},1,"TC-IDMS","CS01","TC-IDMS",null,1,2,3,4,5,6,{"$nulls":3},1,"HDL UC","CS01",null,null,1,2,3,4,5,6,{"$nulls":3},1,{"$f":"$AU$9","v":"HDL/LDL "},"CS01","HDL/LDL Box 1",null,1,2,3,4,5,{"$nulls":4},1,{"$f":"$AU$9","v":"HDL/LDL "},"CS01","HDL/LDL 1",null,1,2,3,4,5]
[null,2,"TC","CS02",null,null,7,8,9,10,11,12,{"$nulls":3},2,"TC-IDMS","CS02","TC-IDMS",null,7,8,9,10,11,12,{"$nulls":3},2,"HDL UC","CS01",null,null,7,8,9,10,11,12,{"$nulls":3},2,{"$f":"$AS$10","v":"HDL/LDL "},"CS01","HDL/LDL Box 1",null,6,7,8,9,10,{"$nulls":4},2,{"$f":"$AS$10","v":"HDL/LDL "},"CS01","HDL/LDL 2",null,6,7,8,9,10]
[null,3,"TC","CS03",null,null,13,14,15,16,17,18,{"$nulls":3},3,"TC-IDMS","CS03","TC-IDMS",null,13,14,15,16,17,18,{"$nulls":3},3,"HDL UC","CS01",null,null,13,14,15,16,17,18,{"$nulls":3},3,"HDL/LDL ","CS01","HDL/LDL Box 1",null,11,12,13,14,15,{"$nulls":4},3,"HDL/LDL ","CS01","HDL/LDL 3",null,11,12,13,14,15]
[null,4,"TC","CS04",null,null,19,20,21,22,23,24,{"$nulls":3},4,"TC-IDMS","CS04","TC-IDMS",null,19,20,21,22,23,24,{"$nulls":3},4,"HDL UC","CS01",null,null,19,20,21,22,23,24,{"$nulls":3},4,"HDL/LDL ","CS01","HDL/LDL Box 1",null,16,17,18,19,20,{"$nulls":4},4,"HDL/LDL ","CS01","HDL/LDL 4",null,16,17,18]
[null,5,"TC","NS01",null,null,25,26,27,28,29,30,{"$nulls":3},5,"TC-IDMS","NS01","TC-IDMS",null,25,26,27,28,29,30,{"$nulls":3},5,"HDL UC","CS01",null,null,25,26,27,28,29,30,{"$nulls":3},5,"HDL/LDL ","CS02","HDL/LDL Box 1",{"$nulls":10},5,"HDL/LDL ","CS02","HDL/LDL 5"]
[null,6,"TC","NS02",null,null,31,32,33,34,35,36,{"$nulls":3},6,"TC-IDMS","NS02","TC-IDMS",null,31,32,33,34,35,36,{"$nulls":3},6,"HDL UC","CS01",null,null,31,32,33,34,35,36,{"$nulls":3},6,"HDL/LDL ","CS02","HDL/LDL Box 1",{"$nulls":10},6,"HDL/LDL ","CS02","HDL/LDL 6"]
[null,7,"TC","CS01",{"$nulls":11},7,"TC-IDMS","CS01","TC-IDMS",{"$nulls":10},7,"HDL UC","CS01",{"$nulls":11},7,"HDL/LDL ","CS02","HDL/LDL Box 1",{"$nulls":10},7,"HDL/LDL ","CS02","HDL/LDL 7"]
[null,8,"TC","CS02",{"$nulls":11},8,"TC-IDMS","CS02","TC-IDMS",{"$nulls":10},8,"HDL UC","CS01",{"$nulls":11},8,"HDL/LDL ","CS02","HDL/LDL Box 1",{"$nulls":10},8,"HDL/LDL ","CS02","HDL/LDL 8"]
[null,9,"TC","CS03",{"$nulls":11},9,"TC-IDMS","CS03","TC-IDMS",{"$nulls":10},9,"HDL UC","CS01",{"$nulls":11},9,"HDL/LDL ","CS03","HDL/LDL Box 1",{"$nulls":10},9,"HDL/LDL ","CS03","HDL/LDL 9"]
[null,10,"TC","CS04",{"$nulls":11},10,"TC-IDMS","CS04","TC-IDMS",{"$nulls":10},10,"HDL UC","CS01",{"$nulls":11},10,"HDL/LDL ","CS03","HDL/LDL Box 1",{"$nulls":10},10,"HDL/LDL ","CS03","HDL/LDL 10"]
[null,11,"TC","NS01",{"$nulls":11},11,"TC-IDMS","NS01","TC-IDMS",{"$nulls":10},11,"HDL UC","CS01",{"$nulls":11},11,"HDL/LDL ","CS03","HDL/LDL Box 1",{"$nulls":10},11,"HDL/LDL ","CS03","HDL/LDL 11"]
[null,12,"TC","NS02",{"$nulls":11},12,"TC-IDMS","NS02","TC-IDMS",{"$nulls":10},12,"HDL UC","CS01",{"$nulls":11},12,"HDL/LDL ","CS03","HDL/LDL Box 1",{"$nulls":10},12,"HDL/LDL ","CS03","HDL/LDL 12"]
[null,13,"TG","CS01",{"$nulls":11},13,"TG","CS01","TG Box 2",{"$nulls":10},13,"HDL UC","NS01",{"$nulls":11},13,"HDL/LDL ","NS01","HDL/LDL Box 1",{"$nulls":10},13,"HDL/LDL ","NS01","HDL/LDL 13"]
[null,14,"TG","CS02",{"$nulls":11},14,"TG","CS02","TG Box 2",{"$nulls":10},14,"HDL UC","NS01",{"$nulls":11},14,"HDL/LDL ","NS01","HDL/LDL Box 1",{"$nulls":10},14,"HDL/LDL ","NS01","HDL/LDL 14"]
[null,15,"TG","CS03",{"$nulls":11},15,"TG","CS03","TG Box 2",{"$nulls":10},15,"HDL UC","NS01",{"$nulls":11},15,"HDL/LDL ","NS02","HDL/LDL Box 1",{"$nulls":10},15,"HDL/LDL ","NS01","HDL/LDL 15"]
[null,16,"TG","CS04",{"$nulls":11},16,"TG","CS04","TG Box 2",{"$nulls":10},16,"HDL UC","NS01",{"$nulls":11},16,"HDL/LDL ","NS02","HDL/LDL Box 1",{"$nulls":10},16,"HDL/LDL ","NS01","HDL/LDL 16"]
[null,17,"TG","NS01",{"$nulls":11},17,"TG","NS01","TG Box 2",{"$nulls":10},17,"HDL UC","NS01",{"$nulls":11},17,{"$nulls":13},17,"HDL/LDL ","NS02","HDL/LDL 17"]
[null,18,"TG","NS02",{"$nulls":11},18,"TG","NS02","TG Box 2",{"$nulls":10},18,"HDL UC","NS01",{"$nulls":11},18,{"$nulls":13},18,"HDL/LDL ","NS02","HDL/LDL 18"]
[null,19,"TG","CS01",{"$nulls":11},19,"TG","CS01","TG Box 2",{"$nulls":10},19,"HDL UC","NS01",{"$nulls":11},19]
[null,20,"TG","CS02",{"$nulls":11},20,"TG","CS02","TG Box 2",{"$nulls":10},20,"HDL UC","NS01",{"$nulls":11},20,{"$nulls":13},"*CS: certification Sample, NS: Network Sample"]
[null,21,"TG","CS03",{"$nulls":11},21,"TG","CS03","TG Box 2",{"$nulls":10},21,"HDL UC","NS01"]
[null,22,"TG","CS04",{"$nulls":11},22,"TG","CS04","TG Box 2",{"$nulls":10},22,"HDL UC","NS01",{"$nulls":11},"*CS: certification Sample, NS: Network Sample"]
[null,23,"TG","NS01",{"$nulls":11},23,"TG","NS01","TG Box 2",{"$nulls":10},23,"HDL UC","NS01"]
[null,24,"TG","NS02",{"$nulls":11},24,"TG","NS02","TG Box 2",{"$nulls":10},24,"HDL UC","NS01"]
[null,25,"HDL-DCM","CS01",{"$nulls":11},25,"HDL-DCM","CS01","HDLC Box 2",{"$nulls":10},25,"HDL UC","NS02"]
[null,26,"HDL-DCM","CS02",{"$nulls":11},26,"HDL-DCM","CS02","HDLC Box 2",{"$nulls":10},26,"HDL UC","NS02"]
[null,27,"HDL-DCM","CS03",{"$nulls":11},27,"HDL-DCM","CS03","HDLC Box 2",{"$nulls":10},27,"HDL UC","NS02"]
[null,28,"HDL-DCM","CS04",{"$nulls":11},28,"HDL-DCM","CS04","HDLC Box 2",{"$nulls":10},28,"HDL UC","NS02"]
[null,29,"HDL-DCM","NS01",{"$nulls":11},29,"HDL-DCM","NS01","HDLC Box 2",{"$nulls":10},29,"HDL UC","NS02"]
[null,30,"HDL-DCM","NS02",{"$nulls":11},30,"HDL-DCM","NS02","HDLC Box 2",{"$nulls":10},30,"HDL UC","NS02"]
[null,31,"HDL-DCM","CS01",{"$nulls":11},31,"HDL-DCM","CS01","HDLC Box 2",{"$nulls":10},31,"HDL UC","NS02"]
[null,32,"HDL-DCM","CS02",{"$nulls":11},32,"HDL-DCM","CS02","HDLC Box 2",{"$nulls":10},32,"HDL UC","NS02"]
[null,33,"HDL-DCM","CS03",{"$nulls":11},33,"HDL-DCM","CS03","HDLC Box 2",{"$nulls":10},33,"HDL UC","NS02"]
[null,34,"HDL-DCM","CS04",{"$nulls":11},34,"HDL-DCM","CS04","HDLC Box 2",{"$nulls":10},34,"HDL UC","NS02"]
[null,35,"HDL-DCM","NS01",{"$nulls":11},35,"HDL-DCM","NS01","HDLC Box 2",{"$nulls":10},35,"HDL UC","NS02"]
[null,36,"HDL-DCM","NS02",{"$nulls":11},36,"HDL-DCM","NS02","HDLC Box 2",{"$nulls":10},36,"HDL UC","NS02"]
[]
[null,"*CS: certification Sample, NS: Network Sample",{"$nulls":13},"*CS: certification Sample, NS: Network Sample",{"$nulls":13},"*CS: certification Sample, NS: Network Sample"]

{"sheet":"Density","index":2,"n_rows":47,"n_cols":57,"rows_kept":47,"merged":[[0,9,1,10],[1,1,1,6],[2,9,3,10],[4,9,5,10],[7,1,8,1],[7,2,8,2],[7,3,8,3],[7,8,8,10],[7,13,8,13],[7,14,8,14],[7,15,8,15],[7,25,8,25],[7,26,8,26],[7,27,8,27],[7,37,8,37],[7,38,8,38],[7,39,8,39],[7,51,8,51],[7,52,8,52],[7,53,8,53]]}
[]
[null,"Serum Density"]
[]
[null,"Lab ID",{"$f":"'General Infomation'!$C$8","v":0},{"$nulls":10},"Lab ID",{"$f":"'General Infomation'!$C$8","v":0},{"$nulls":10},"Lab ID",{"$f":"'General Infomation'!$C$8","v":0},{"$nulls":10},"Lab ID",{"$f":"'General Infomation'!$C$8","v":0},{"$nulls":12},"Lab ID",{"$f":"'General Infomation'!$C$8","v":0}]
[null,"Survey ",{"$f":"'General Infomation'!$C$9","v":"0723"},{"$nulls":10},"Survey ",{"$f":"'General Infomation'!$C$9","v":"0723"},{"$nulls":10},"Survey ",{"$f":"'General Infomation'!$C$9","v":"0723"},{"$nulls":10},"Survey ",{"$f":"'General Infomation'!$C$9","v":"0723"},{"$nulls":12},"Survey ",{"$f":"'General Infomation'!$C$9","v":"0723"}]
[null,"Analyte(s)","TC TG",{"$nulls":10},"Analyte(s)","TC-IDMS TG",{"$nulls":10},"Analyte(s)","HDL UC ",{"$nulls":10},"Analyte(s)","HDL/LDL ",{"$nulls":12},"Analyte(s)","HDL/LDL "]
[]
[null,{"$f":"'List of samples'!B8","v":"Location #"},{"$f":"'List of samples'!C8","v":"Analyte"},{"$f":"'List of samples'!D8","v":"Sample Type*"},{"$f":"'List of samples'!E8","v":" 0723"},{"$nulls":8},"Location #","Analyte","Sample Type*",{"$nulls":9},"Location #","Analyte","Sample Type*",{"$nulls":9},"Location #","Analyte","Sample Type*",{"$nulls":11},"Location #","Analyte","Sample Type*"]
[{"$nulls":4},{"$f":"'List of samples'!E9","v":"TC TG HDL-DCM"},"Density,  g/mL","Mesured or standard",{"$nulls":9},{"$f":"O6","v":"TC-IDMS TG"},"Density,  g/mL","Mesured or standard",{"$nulls":9},{"$f":"AA6","v":"HDL UC "},"Density,  g/mL","Mesured or standard",{"$nulls":9},{"$f":"AM6","v":"HDL/LDL "},"Density,  g/mL","Mesured or standard",{"$nulls":11},{"$f":"BA6","v":"HDL/LDL "},"Density,  g/mL","Mesured or standard"]
[null,{"$f":"'List of samples'!B10","v":1},{"$f":"'List of samples'!C10","v":"TC"},{"$f":"'List of samples'!D10","v":"CS01"},{"$f":"'List of samples'!E10","v":0},{"$nulls":8},1,"TC-IDMS","CS01",{"$f":"'List of samples'!S10","v":"TC-IDMS"},{"$nulls":8},1,"HDL UC","CS01",{"$f":"'List of samples'!AG10","v":0},{"$nulls":8},1,{"$f":"$AO$9","v":"HDL/LDL "},"CS01",{"$f":"'List of samples'!AU10","v":"HDL/LDL Box 1"},{"$nulls":10},1,{"$f":"$AO$9","v":"HDL/LDL "},"CS01",{"$f":"'List of samples'!BI10","v":"HDL/LDL 1"}]
[null,{"$f":"'List of samples'!B11","v":2},{"$f":"'List of samples'!C11","v":"TC"},{"$f":"'List of samples'!D11","v":"CS02"},{"$f":"'List of samples'!E11","v":0},{"$nulls":8},2,"TC-IDMS","CS02",{"$f":"'List of samples'!S11","v":"TC-IDMS"},{"$nulls":8},2,"HDL UC","CS01",{"$f":"'List of samples'!AG11","v":0},{"$nulls":8},2,{"$f":"$AM$10","v":"HDL/LDL "},"CS01",{"$f":"'List of samples'!AU11","v":"HDL/LDL Box 1"},{"$nulls":10},2,{"$f":"$AM$10","v":"HDL/LDL "},"CS01",{"$f":"'List of samples'!BI11","v":"HDL/LDL 2"}]
[null,{"$f":"'List of samples'!B12","v":3},{"$f":"'List of samples'!C12","v":"TC"},{"$f":"'List of samples'!D12","v":"CS03"},{"$f":"'List of samples'!E12","v":0},{"$nulls":8},3,"TC-IDMS","CS03",{"$f":"'List of samples'!S12","v":"TC-IDMS"},{"$nulls":8},3,"HDL UC","CS01",{"$f":"'List of samples'!AG12","v":0},{"$nulls":8},3,"HDL/LDL ","CS01",{"$f":"'List of samples'!AU12","v":"HDL/LDL Box 1"},{"$nulls":10},3,"HDL/LDL ","CS01",{"$f":"'List of samples'!BI12","v":"HDL/LDL 3"}]
[null,{"$f":"'List of samples'!B13","v":4},{"$f":"'List of samples'!C13","v":"TC"},{"$f":"'List of samples'!D13","v":"CS04"},{"$f":"'List of samples'!E13","v":0},{"$nulls":8},4,"TC-IDMS","CS04",{"$f":"'List of samples'!S13","v":"TC-IDMS"},{"$nulls":8},4,"HDL UC","CS01",{"$f":"'List of samples'!AG13","v":0},{"$nulls":8},4,"HDL/LDL ","CS01",{"$f":"'List of samples'!AU13","v":"HDL/LDL Box 1"},{"$nulls":10},4,"HDL/LDL ","CS01",{"$f":"'List of samples'!BI13","v":"HDL/LDL 4"}]
[null,{"$f":"'List of samples'!B14","v":5},{"$f":"'List of samples'!C14","v":"TC"},{"$f":"'List of samples'!D14","v":"NS01"},{"$f":"'List of samples'!E14","v":0},{"$nulls":8},5,"TC-IDMS","NS01",{"$f":"'List of samples'!S14","v":"TC-IDMS"},{"$nulls":8},5,"HDL UC","CS01",{"$f":"'List of samples'!AG14","v":0},{"$nulls":8},5,"HDL/LDL ","CS02",{"$f":"'List of samples'!AU14","v":"HDL/LDL Box 1"},{"$nulls":10},5,"HDL/LDL ","CS02",{"$f":"'List of samples'!BI14","v":"HDL/LDL 5"}]
[null,{"$f":"'List of samples'!B15","v":6},{"$f":"'List of samples'!C15","v":"TC"},{"$f":"'List of samples'!D15","v":"NS02"},{"$f":"'List of samples'!E15","v":0},{"$nulls":8},6,"TC-IDMS","NS02",{"$f":"'List of samples'!S15","v":"TC-IDMS"},{"$nulls":8},6,"HDL UC","CS01",{"$f":"'List of samples'!AG15","v":0},{"$nulls":8},6,"HDL/LDL ","CS02",{"$f":"'List of samples'!AU15","v":"HDL/LDL Box 1"},{"$nulls":10},6,"HDL/LDL ","CS02",{"$f":"'List of samples'!BI15","v":"HDL/LDL 6"}]
[null,{"$f":"'List of samples'!B16","v":7},{"$f":"'List of samples'!C16","v":"TC"},{"$f":"'List of samples'!D16","v":"CS01"},{"$f":"'List of samples'!E16","v":0},{"$nulls":8},7,"TC-IDMS","CS01",{"$f":"'List of samples'!S16","v":"TC-IDMS"},{"$nulls":8},7,"HDL UC","CS01",{"$f":"'List of samples'!AG16","v":0},{"$nulls":8},7,"HDL/LDL ","CS02",{"$f":"'List of samples'!AU16","v":"HDL/LDL Box 1"},{"$nulls":10},7,"HDL/LDL ","CS02",{"$f":"'List of samples'!BI16","v":"HDL/LDL 7"}]
[null,{"$f":"'List of samples'!B17","v":8},{"$f":"'List of samples'!C17","v":"TC"},{"$f":"'List of samples'!D17","v":"CS02"},{"$f":"'List of samples'!E17","v":0},{"$nulls":8},8,"TC-IDMS","CS02",{"$f":"'List of samples'!S17","v":"TC-IDMS"},{"$nulls":8},8,"HDL UC","CS01",{"$f":"'List of samples'!AG17","v":0},{"$nulls":8},8,"HDL/LDL ","CS02",{"$f":"'List of samples'!AU17","v":"HDL/LDL Box 1"},{"$nulls":10},8,"HDL/LDL ","CS02",{"$f":"'List of samples'!BI17","v":"HDL/LDL 8"}]
[null,{"$f":"'List of samples'!B18","v":9},{"$f":"'List of samples'!C18","v":"TC"},{"$f":"'List of samples'!D18","v":"CS03"},{"$f":"'List of samples'!E18","v":0},{"$nulls":8},9,"TC-IDMS","CS03",{"$f":"'List of samples'!S18","v":"TC-IDMS"},{"$nulls":8},9,"HDL UC","CS01",{"$f":"'List of samples'!AG18","v":0},{"$nulls":8},9,"HDL/LDL ","CS03",{"$f":"'List of samples'!AU18","v":"HDL/LDL Box 1"},{"$nulls":10},9,"HDL/LDL ","CS03",{"$f":"'List of samples'!BI18","v":"HDL/LDL 9"}]
[null,{"$f":"'List of samples'!B19","v":10},{"$f":"'List of samples'!C19","v":"TC"},{"$f":"'List of samples'!D19","v":"CS04"},{"$f":"'List of samples'!E19","v":0},{"$nulls":8},10,"TC-IDMS","CS04",{"$f":"'List of samples'!S19","v":"TC-IDMS"},{"$nulls":8},10,"HDL UC","CS01",{"$f":"'List of samples'!AG19","v":0},{"$nulls":8},10,"HDL/LDL ","CS03",{"$f":"'List of samples'!AU19","v":"HDL/LDL Box 1"},{"$nulls":10},10,"HDL/LDL ","CS03",{"$f":"'List of samples'!BI19","v":"HDL/LDL 10"}]
[null,{"$f":"'List of samples'!B20","v":11},{"$f":"'List of samples'!C20","v":"TC"},{"$f":"'List of samples'!D20","v":"NS01"},{"$f":"'List of samples'!E20","v":0},{"$nulls":4},"Measured",{"$nulls":3},11,"TC-IDMS","NS01",{"$f":"'List of samples'!S20","v":"TC-IDMS"},{"$nulls":8},11,"HDL UC","CS01",{"$f":"'List of samples'!AG20","v":0},{"$nulls":8},11,"HDL/LDL ","CS03",{"$f":"'List of samples'!AU20","v":"HDL/LDL Box 1"},{"$nulls":10},11,"HDL/LDL ","CS03",{"$f":"'List of samples'!BI20","v":"HDL/LDL 11"}]
[null,{"$f":"'List of samples'!B21","v":12},{"$f":"'List of samples'!C21","v":"TC"},{"$f":"'List of samples'!D21","v":"NS02"},{"$f":"'List of samples'!E21","v":0},{"$nulls":4},"Standard",{"$nulls":3},12,"TC-IDMS","NS02",{"$f":"'List of samples'!S21","v":"TC-IDMS"},{"$nulls":8},12,"HDL UC","CS01",{"$f":"'List of samples'!AG21","v":0},{"$nulls":8},12,"HDL/LDL ","CS03",{"$f":"'List of samples'!AU21","v":"HDL/LDL Box 1"},{"$nulls":10},12,"HDL/LDL ","CS03",{"$f":"'List of samples'!BI21","v":"HDL/LDL 12"}]
[null,{"$f":"'List of samples'!B22","v":13},{"$f":"'List of samples'!C22","v":"TG"},{"$f":"'List of samples'!D22","v":"CS01"},{"$f":"'List of samples'!E22","v":0},{"$nulls":8},13,"TG","CS01",{"$f":"'List of samples'!S22","v":"TG Box 2"},{"$nulls":8},13,"HDL UC","NS01",{"$f":"'List of samples'!AG22","v":0},{"$nulls":8},13,"HDL/LDL ","NS01",{"$f":"'List of samples'!AU22","v":"HDL/LDL Box 1"},{"$nulls":10},13,"HDL/LDL ","NS01",{"$f":"'List of samples'!BI22","v":"HDL/LDL 13"}]
[null,{"$f":"'List of samples'!B23","v":14},{"$f":"'List of samples'!C23","v":"TG"},{"$f":"'List of samples'!D23","v":"CS02"},{"$f":"'List of samples'!E23","v":0},{"$nulls":8},14,"TG","CS02",{"$f":"'List of samples'!S23","v":"TG Box 2"},{"$nulls":8},14,"HDL UC","NS01",{"$f":"'List of samples'!AG23","v":0},{"$nulls":8},14,"HDL/LDL ","NS01",{"$f":"'List of samples'!AU23","v":"HDL/LDL Box 1"},{"$nulls":10},14,"HDL/LDL ","NS01",{"$f":"'List of samples'!BI23","v":"HDL/LDL 14"}]
[null,{"$f":"'List of samples'!B24","v":15},{"$f":"'List of samples'!C24","v":"TG"},{"$f":"'List of samples'!D24","v":"CS03"},{"$f":"'List of samples'!E24","v":0},{"$nulls":8},15,"TG","CS03",{"$f":"'List of samples'!S24","v":"TG Box 2"},{"$nulls":8},15,"HDL UC","NS01",{"$f":"'List of samples'!AG24","v":0},{"$nulls":8},15,"HDL/LDL ","NS02",{"$f":"'List of samples'!AU24","v":"HDL/LDL Box 1"},{"$nulls":10},15,"HDL/LDL ","NS01",{"$f":"'List of samples'!BI24","v":"HDL/LDL 15"}]
[null,{"$f":"'List of samples'!B25","v":16},{"$f":"'List of samples'!C25","v":"TG"},{"$f":"'List of samples'!D25","v":"CS04"},{"$f":"'List of samples'!E25","v":0},{"$nulls":8},16,"TG","CS04",{"$f":"'List of samples'!S25","v":"TG Box 2"},{"$nulls":8},16,"HDL UC","NS01",{"$f":"'List of samples'!AG25","v":0},{"$nulls":8},16,"HDL/LDL ","NS02",{"$f":"'List of samples'!AU25","v":"HDL/LDL Box 1"},{"$nulls":10},16,"HDL/LDL ","NS01",{"$f":"'List of samples'!BI25","v":"HDL/LDL 16"}]
[null,{"$f":"'List of samples'!B26","v":17},{"$f":"'List of samples'!C26","v":"TG"},{"$f":"'List of samples'!D26","v":"NS01"},{"$f":"'List of samples'!E26","v":0},{"$nulls":8},17,"TG","NS01",{"$f":"'List of samples'!S26","v":"TG Box 2"},{"$nulls":8},17,"HDL UC","NS01",{"$f":"'List of samples'!AG26","v":0},{"$nulls":8},17,{"$nulls":13},17,"HDL/LDL ","NS02",{"$f":"'List of samples'!BI26","v":"HDL/LDL 17"}]
[null,{"$f":"'List of samples'!B27","v":18},{"$f":"'List of samples'!C27","v":"TG"},{"$f":"'List of samples'!D27","v":"NS02"},{"$f":"'List of samples'!E27","v":0},{"$nulls":8},18,"TG","NS02",{"$f":"'List of samples'!S27","v":"TG Box 2"},{"$nulls":8},18,"HDL UC","NS01",{"$f":"'List of samples'!AG27","v":0},{"$nulls":8},18,{"$nulls":13},18,"HDL/LDL ","NS02",{"$f":"'List of samples'!BI27","v":"HDL/LDL 18"}]
[null,{"$f":"'List of samples'!B28","v":19},{"$f":"'List of samples'!C28","v":"TG"},{"$f":"'List of samples'!D28","v":"CS01"},{"$f":"'List of samples'!E28","v":0},{"$nulls":8},19,"TG","CS01",{"$f":"'List of samples'!S28","v":"TG Box 2"},{"$nulls":8},19,"HDL UC","NS01",{"$f":"'List of samples'!AG28","v":0},{"$nulls":8},19]
[null,{"$f":"'List of samples'!B29","v":20},{"$f":"'List of samples'!C29","v":"TG"},{"$f":"'List of samples'!D29","v":"CS02"},{"$f":"'List of samples'!E29","v":0},{"$nulls":8},20,"TG","CS02",{"$f":"'List of samples'!S29","v":"TG Box 2"},{"$nulls":8},20,"HDL UC","NS01",{"$f":"'List of samples'!AG29","v":0},{"$nulls":8},20,{"$nulls":13},"*CS: certification Sample, NS: Network Sample"]
[null,{"$f":"'List of samples'!B30","v":21},{"$f":"'List of samples'!C30","v":"TG"},{"$f":"'List of samples'!D30","v":"CS03"},{"$f":"'List of samples'!E30","v":0},{"$nulls":8},21,"TG","CS03",{"$f":"'List of samples'!S30","v":"TG Box 2"},{"$nulls":8},21,"HDL UC","NS01",{"$f":"'List of samples'!AG30","v":0}]
[null,{"$f":"'List of samples'!B31","v":22},{"$f":"'List of samples'!C31","v":"TG"},{"$f":"'List of samples'!D31","v":"CS04"},{"$f":"'List of samples'!E31","v":0},{"$nulls":8},22,"TG","CS04",{"$f":"'List of samples'!S31","v":"TG Box 2"},{"$nulls":8},22,"HDL UC","NS01",{"$f":"'List of samples'!AG31","v":0},{"$nulls":8},"*CS: certification Sample, NS: Network Sample"]
[null,{"$f":"'List of samples'!B32","v":23},{"$f":"'List of samples'!C32","v":"TG"},{"$f":"'List of samples'!D32","v":"NS01"},{"$f":"'List of samples'!E32","v":0},{"$nulls":8},23,"TG","NS01",{"$f":"'List of samples'!S32","v":"TG Box 2"},{"$nulls":8},23,"HDL UC","NS01",{"$f":"'List of samples'!AG32","v":0}]
[null,{"$f":"'List of samples'!B33","v":24},{"$f":"'List of samples'!C33","v":"TG"},{"$f":"'List of samples'!D33","v":"NS02"},{"$f":"'List of samples'!E33","v":0},{"$nulls":8},24,"TG","NS02",{"$f":"'List of samples'!S33","v":"TG Box 2"},{"$nulls":8},24,"HDL UC","NS01",{"$f":"'List of samples'!AG33","v":0}]
[null,{"$f":"'List of samples'!B34","v":25},{"$nulls":11},25,{"$nulls":11},25,"HDL UC","NS02",{"$f":"'List of samples'!AG34","v":0}]
[null,{"$f":"'List of samples'!B35","v":26},{"$nulls":11},26,{"$nulls":11},26,"HDL UC","NS02",{"$f":"'List of samples'!AG35","v":0}]
[null,{"$f":"'List of samples'!B36","v":27},{"$nulls":11},27,{"$nulls":11},27,"HDL UC","NS02",{"$f":"'List of samples'!AG36","v":0}]
[null,{"$f":"'List of samples'!B37","v":28},{"$nulls":11},28,{"$nulls":11},28,"HDL UC","NS02",{"$f":"'List of samples'!AG37","v":0}]
[null,{"$f":"'List of samples'!B38","v":29},{"$nulls":11},29,{"$nulls":11},29,"HDL UC","NS02",{"$f":"'List of samples'!AG38","v":0}]
[null,{"$f":"'List of samples'!B39","v":30},{"$nulls":11},30,{"$nulls":11},30,"HDL UC","NS02",{"$f":"'List of samples'!AG39","v":0}]
[null,{"$f":"'List of samples'!B40","v":31},{"$nulls":11},31,{"$nulls":11},31,"HDL UC","NS02",{"$f":"'List of samples'!AG40","v":0}]
[null,{"$f":"'List of samples'!B41","v":32},{"$nulls":11},32,{"$nulls":11},32,"HDL UC","NS02",{"$f":"'List of samples'!AG41","v":0}]
[null,{"$f":"'List of samples'!B42","v":33},{"$nulls":11},33,{"$nulls":11},33,"HDL UC","NS02",{"$f":"'List of samples'!AG42","v":0}]
[null,{"$f":"'List of samples'!B43","v":34},{"$nulls":11},34,{"$nulls":11},34,"HDL UC","NS02",{"$f":"'List of samples'!AG43","v":0}]
[null,{"$f":"'List of samples'!B44","v":35},{"$nulls":11},35,{"$nulls":11},35,"HDL UC","NS02",{"$f":"'List of samples'!AG44","v":0}]
[null,{"$f":"'List of samples'!B45","v":36},{"$nulls":11},36,{"$nulls":11},36,"HDL UC","NS02",{"$f":"'List of samples'!AG45","v":0}]
[]
[null,"*CS: certification Sample, NS: Network Sample",{"$nulls":11},"*CS: certification Sample, NS: Network Sample",{"$nulls":11},"*CS: certification Sample, NS: Network Sample"]

{"sheet":"TC-AK","index":3,"n_rows":34,"n_cols":6,"rows_kept":34,"merged":[[1,1,1,5],[3,4,6,5],[9,1,9,2],[13,1,16,1],[17,1,18,1],[21,1,21,2],[25,1,28,1],[29,1,30,1],[34,1,34,5]]}
["AK"]
[null,"CRMLN Network Survey Total Cholesterol Abell-Kendal Data Submission"]
[]
[null,"Analyte","TC-AK",null,"Please fill applicable white cells "]
[null,"Lab ID",{"$f":"'General Infomation'!C8","v":0}]
[null,"Pool Series",{"$f":"'General Infomation'!C9","v":"0723"}]
[null,"Unit of Measure",{"$f":"'General Infomation'!C11","v":"mg/dL"}]
[]
[]
[null,"Day 1"]
[null,"Run date","mm/dd/yyyy"]
[]
[null,"Sample Type","Sample #","Sample ID",{"$f":"\"Rep 1 (\"& C7 &\")\"","v":"Rep 1 (mg/dL)"},{"$f":"\"Rep 2 (\"& C7 &\")\"","v":"Rep 2 (mg/dL)"}]
[null,"Certification Samples","CS01",{"$f":"'List of samples'!E10","v":0}]
[null,null,"CS02",{"$f":"'List of samples'!E11","v":0}]
[null,null,"CS03",{"$f":"'List of samples'!E12","v":0}]
[null,null,"CS04",{"$f":"'List of samples'!E13","v":0}]
[null,"Network Samples","NS01",{"$f":"'List of samples'!E14","v":0}]
[null,null,"NS02",{"$f":"'List of samples'!E15","v":0}]
[]
[]
[null,"Day 2"]
[null,"Run date","mm/dd/yyyy"]
[]
[null,"Sample Type","Sample #","Sample ID",{"$f":"E13","v":"Rep 1 (mg/dL)"},{"$f":"F13","v":"Rep 2 (mg/dL)"}]
[null,"Certification Samples","CS01",{"$f":"'List of samples'!E16","v":0}]
[null,null,"CS02",{"$f":"'List of samples'!E17","v":0}]
[null,null,"CS03",{"$f":"'List of samples'!E18","v":0}]
[null,null,"CS04",{"$f":"'List of samples'!E19","v":0}]
[null,"Network Samples","NS01",{"$f":"'List of samples'!E20","v":0}]
[null,null,"NS02",{"$f":"'List of samples'!E21","v":0}]
[]
[]
[null,"Comment"]

{"sheet":"TC-IDMS","index":4,"n_rows":34,"n_cols":6,"rows_kept":34,"merged":[[1,1,1,5],[3,4,6,5],[9,1,9,2],[13,1,16,1],[17,1,18,1],[21,1,21,2],[25,1,28,1],[29,1,30,1],[34,1,34,5]]}
["IDMS"]
[null,"CRMLN Network Survey Total Cholesterol IDMS Data Submission"]
[]
[null,"Analyte","TC-IDMS",null,"Please fill applicable white cells "]
[null,"Lab ID",{"$f":"'General Infomation'!C8","v":0}]
[null,"Pool Series",{"$f":"'General Infomation'!C9","v":"0723"}]
[null,"Unit of Measure",{"$f":"'General Infomation'!C11","v":"mg/dL"}]
[]
[]
[null,"Day 1"]
[null,"Run date","mm/dd/yyyy"]
[]
[null,"Sample Type","Sample #","Sample ID",{"$f":"\"Rep 1 (\"& C7 &\")\"","v":"Rep 1 (mg/dL)"},{"$f":"\"Rep 2 (\"& C7 &\")\"","v":"Rep 2 (mg/dL)"}]
[null,"Certification Samples","CS01",{"$f":"'List of samples'!S10","v":"TC-IDMS"}]
[null,null,"CS02",{"$f":"'List of samples'!S11","v":"TC-IDMS"}]
[null,null,"CS03",{"$f":"'List of samples'!S12","v":"TC-IDMS"}]
[null,null,"CS04",{"$f":"'List of samples'!S13","v":"TC-IDMS"}]
[null,"Network Samples","NS01",{"$f":"'List of samples'!S14","v":"TC-IDMS"}]
[null,null,"NS02",{"$f":"'List of samples'!S15","v":"TC-IDMS"}]
[]
[]
[null,"Day 2"]
[null,"Run date","mm/dd/yyyy"]
[]
[null,"Sample Type","Sample #","Sample ID",{"$f":"E13","v":"Rep 1 (mg/dL)"},{"$f":"F13","v":"Rep 2 (mg/dL)"}]
[null,"Certification Samples","CS01",{"$f":"'List of samples'!S16","v":"TC-IDMS"}]
[null,null,"CS02",{"$f":"'List of samples'!S17","v":"TC-IDMS"}]
[null,null,"CS03",{"$f":"'List of samples'!S18","v":"TC-IDMS"}]
[null,null,"CS04",{"$f":"'List of samples'!S19","v":"TC-IDMS"}]
[null,"Network Samples","NS01",{"$f":"'List of samples'!S20","v":"TC-IDMS"}]
[null,null,"NS02",{"$f":"'List of samples'!S21","v":"TC-IDMS"}]
[]
[]
[null,"Comment"]

{"sheet":"ExportTC","index":5,"n_rows":13,"n_cols":19,"rows_kept":13}
["method","pool_series","lab_id","run_id","day_1_sample_id","day_2_sample_id","survey_pool_id","target_value","target_value_sd","uncertainty","run_1_value_1","run_1_value_2","run_2_value_1","run_2_value_2","units","month","year","year_month","notes"]
[{"$f":"'TC-AK'!$A$1","v":"AK"},{"$f":"'TC-IDMS'!$C$6","v":"0723"},{"$f":"'TC-AK'!$C$5","v":0},{"$f":"'TC-AK'!C14","v":"CS01"},{"$f":"'TC-AK'!D14","v":0},{"$f":"'TC-AK'!D26","v":0},{"$nulls":4},{"$f":"'TC-AK'!E14","v":{"v":0,"d":"0.00"}},{"$f":"'TC-AK'!F14","v":{"v":0,"d":"0.00"}},{"$f":"'TC-AK'!E26","v":{"v":0,"d":"0.00"}},{"$f":"'TC-AK'!F26","v":{"v":0,"d":"0.00"}},{"$f":"'TC-AK'!$C$7","v":"mg/dL"},{"$nulls":3},{"$f":"'TC-AK'!$B$35","v":0}]
[{"$f":"'TC-AK'!$A$1","v":"AK"},{"$f":"'TC-IDMS'!$C$6","v":"0723"},{"$f":"'TC-AK'!$C$5","v":0},{"$f":"'TC-AK'!C15","v":"CS02"},{"$f":"'TC-AK'!D15","v":0},{"$f":"'TC-AK'!D27","v":0},{"$nulls":4},{"$f":"'TC-AK'!E15","v":{"v":0,"d":"0.00"}},{"$f":"'TC-AK'!F15","v":{"v":0,"d":"0.00"}},{"$f":"'TC-AK'!E27","v":{"v":0,"d":"0.00"}},{"$f":"'TC-AK'!F27","v":{"v":0,"d":"0.00"}},{"$f":"'TC-AK'!$C$7","v":"mg/dL"},{"$nulls":3},{"$f":"'TC-AK'!$B$35","v":0}]
[{"$f":"'TC-AK'!$A$1","v":"AK"},{"$f":"'TC-IDMS'!$C$6","v":"0723"},{"$f":"'TC-AK'!$C$5","v":0},{"$f":"'TC-AK'!C16","v":"CS03"},{"$f":"'TC-AK'!D16","v":0},{"$f":"'TC-AK'!D28","v":0},{"$nulls":4},{"$f":"'TC-AK'!E16","v":{"v":0,"d":"0.00"}},{"$f":"'TC-AK'!F16","v":{"v":0,"d":"0.00"}},{"$f":"'TC-AK'!E28","v":{"v":0,"d":"0.00"}},{"$f":"'TC-AK'!F28","v":{"v":0,"d":"0.00"}},{"$f":"'TC-AK'!$C$7","v":"mg/dL"},{"$nulls":3},{"$f":"'TC-AK'!$B$35","v":0}]
[{"$f":"'TC-AK'!$A$1","v":"AK"},{"$f":"'TC-IDMS'!$C$6","v":"0723"},{"$f":"'TC-AK'!$C$5","v":0},{"$f":"'TC-AK'!C17","v":"CS04"},{"$f":"'TC-AK'!D17","v":0},{"$f":"'TC-AK'!D29","v":0},{"$nulls":4},{"$f":"'TC-AK'!E17","v":{"v":0,"d":"0.00"}},{"$f":"'TC-AK'!F17","v":{"v":0,"d":"0.00"}},{"$f":"'TC-AK'!E29","v":{"v":0,"d":"0.00"}},{"$f":"'TC-AK'!F29","v":{"v":0,"d":"0.00"}},{"$f":"'TC-AK'!$C$7","v":"mg/dL"},{"$nulls":3},{"$f":"'TC-AK'!$B$35","v":0}]
[{"$f":"'TC-AK'!$A$1","v":"AK"},{"$f":"'TC-IDMS'!$C$6","v":"0723"},{"$f":"'TC-AK'!$C$5","v":0},{"$f":"'TC-AK'!C18","v":"NS01"},{"$f":"'TC-AK'!D18","v":0},{"$f":"'TC-AK'!D30","v":0},{"$nulls":4},{"$f":"'TC-AK'!E18","v":{"v":0,"d":"0.00"}},{"$f":"'TC-AK'!F18","v":{"v":0,"d":"0.00"}},{"$f":"'TC-AK'!E30","v":{"v":0,"d":"0.00"}},{"$f":"'TC-AK'!F30","v":{"v":0,"d":"0.00"}},{"$f":"'TC-AK'!$C$7","v":"mg/dL"},{"$nulls":3},{"$f":"'TC-AK'!$B$35","v":0}]
[{"$f":"'TC-AK'!$A$1","v":"AK"},{"$f":"'TC-IDMS'!$C$6","v":"0723"},{"$f":"'TC-AK'!$C$5","v":0},{"$f":"'TC-AK'!C19","v":"NS02"},{"$f":"'TC-AK'!D19","v":0},{"$f":"'TC-AK'!D31","v":0},{"$nulls":4},{"$f":"'TC-AK'!E19","v":{"v":0,"d":"0.00"}},{"$f":"'TC-AK'!F19","v":{"v":0,"d":"0.00"}},{"$f":"'TC-AK'!E31","v":{"v":0,"d":"0.00"}},{"$f":"'TC-AK'!F31","v":{"v":0,"d":"0.00"}},{"$f":"'TC-AK'!$C$7","v":"mg/dL"},{"$nulls":3},{"$f":"'TC-AK'!$B$35","v":0}]
[{"$f":"'TC-IDMS'!$A$1","v":"IDMS"},{"$f":"'TC-IDMS'!$C$6","v":"0723"},{"$f":"'TC-IDMS'!$C$5","v":0},{"$f":"'TC-IDMS'!C14","v":"CS01"},{"$f":"'TC-IDMS'!D14","v":"TC-IDMS"},{"$f":"'TC-IDMS'!D26","v":"TC-IDMS"},{"$nulls":4},{"$f":"'TC-IDMS'!E14","v":{"v":0,"d":"0.00"}},{"$f":"'TC-IDMS'!F14","v":{"v":0,"d":"0.00"}},{"$f":"'TC-IDMS'!E26","v":{"v":0,"d":"0.00"}},{"$f":"'TC-IDMS'!F26","v":{"v":0,"d":"0.00"}},{"$f":"'TC-IDMS'!$C$7","v":"mg/dL"},{"$nulls":3},{"$f":"'TC-IDMS'!$B$35","v":0}]
[{"$f":"'TC-IDMS'!$A$1","v":"IDMS"},{"$f":"'TC-IDMS'!$C$6","v":"0723"},{"$f":"'TC-IDMS'!$C$5","v":0},{"$f":"'TC-IDMS'!C15","v":"CS02"},{"$f":"'TC-IDMS'!D15","v":"TC-IDMS"},{"$f":"'TC-IDMS'!D27","v":"TC-IDMS"},{"$nulls":4},{"$f":"'TC-IDMS'!E15","v":{"v":0,"d":"0.00"}},{"$f":"'TC-IDMS'!F15","v":{"v":0,"d":"0.00"}},{"$f":"'TC-IDMS'!E27","v":{"v":0,"d":"0.00"}},{"$f":"'TC-IDMS'!F27","v":{"v":0,"d":"0.00"}},{"$f":"'TC-IDMS'!$C$7","v":"mg/dL"},{"$nulls":3},{"$f":"'TC-IDMS'!$B$35","v":0}]
[{"$f":"'TC-IDMS'!$A$1","v":"IDMS"},{"$f":"'TC-IDMS'!$C$6","v":"0723"},{"$f":"'TC-IDMS'!$C$5","v":0},{"$f":"'TC-IDMS'!C16","v":"CS03"},{"$f":"'TC-IDMS'!D16","v":"TC-IDMS"},{"$f":"'TC-IDMS'!D28","v":"TC-IDMS"},{"$nulls":4},{"$f":"'TC-IDMS'!E16","v":{"v":0,"d":"0.00"}},{"$f":"'TC-IDMS'!F16","v":{"v":0,"d":"0.00"}},{"$f":"'TC-IDMS'!E28","v":{"v":0,"d":"0.00"}},{"$f":"'TC-IDMS'!F28","v":{"v":0,"d":"0.00"}},{"$f":"'TC-IDMS'!$C$7","v":"mg/dL"},{"$nulls":3},{"$f":"'TC-IDMS'!$B$35","v":0}]
[{"$f":"'TC-IDMS'!$A$1","v":"IDMS"},{"$f":"'TC-IDMS'!$C$6","v":"0723"},{"$f":"'TC-IDMS'!$C$5","v":0},{"$f":"'TC-IDMS'!C17","v":"CS04"},{"$f":"'TC-IDMS'!D17","v":"TC-IDMS"},{"$f":"'TC-IDMS'!D29","v":"TC-IDMS"},{"$nulls":4},{"$f":"'TC-IDMS'!E17","v":{"v":0,"d":"0.00"}},{"$f":"'TC-IDMS'!F17","v":{"v":0,"d":"0.00"}},{"$f":"'TC-IDMS'!E29","v":{"v":0,"d":"0.00"}},{"$f":"'TC-IDMS'!F29","v":{"v":0,"d":"0.00"}},{"$f":"'TC-IDMS'!$C$7","v":"mg/dL"},{"$nulls":3},{"$f":"'TC-IDMS'!$B$35","v":0}]
[{"$f":"'TC-IDMS'!$A$1","v":"IDMS"},{"$f":"'TC-IDMS'!$C$6","v":"0723"},{"$f":"'TC-IDMS'!$C$5","v":0},{"$f":"'TC-IDMS'!C18","v":"NS01"},{"$f":"'TC-IDMS'!D18","v":"TC-IDMS"},{"$f":"'TC-IDMS'!D30","v":"TC-IDMS"},{"$nulls":4},{"$f":"'TC-IDMS'!E18","v":{"v":0,"d":"0.00"}},{"$f":"'TC-IDMS'!F18","v":{"v":0,"d":"0.00"}},{"$f":"'TC-IDMS'!E30","v":{"v":0,"d":"0.00"}},{"$f":"'TC-IDMS'!F30","v":{"v":0,"d":"0.00"}},{"$f":"'TC-IDMS'!$C$7","v":"mg/dL"},{"$nulls":3},{"$f":"'TC-IDMS'!$B$35","v":0}]
[{"$f":"'TC-IDMS'!$A$1","v":"IDMS"},{"$f":"'TC-IDMS'!$C$6","v":"0723"},{"$f":"'TC-IDMS'!$C$5","v":0},{"$f":"'TC-IDMS'!C19","v":"NS02"},{"$f":"'TC-IDMS'!D19","v":"TC-IDMS"},{"$f":"'TC-IDMS'!D31","v":"TC-IDMS"},{"$nulls":4},{"$f":"'TC-IDMS'!E19","v":{"v":0,"d":"0.00"}},{"$f":"'TC-IDMS'!F19","v":{"v":0,"d":"0.00"}},{"$f":"'TC-IDMS'!E31","v":{"v":0,"d":"0.00"}},{"$f":"'TC-IDMS'!F31","v":{"v":0,"d":"0.00"}},{"$f":"'TC-IDMS'!$C$7","v":"mg/dL"},{"$nulls":3},{"$f":"'TC-IDMS'!$B$35","v":0}]

{"sheet":"TG","index":6,"n_rows":34,"n_cols":10,"rows_kept":34,"merged":[[1,1,1,9],[3,4,5,9],[9,1,9,2],[13,1,16,1],[17,1,18,1],[21,1,21,2],[25,1,28,1],[29,1,30,1],[34,1,34,9]]}
[]
[null,"CRMLN Network Survey Total Glycerol Data Submission"]
[]
[null,"Analyte","TG",null,"Please fill applicable white cells "]
[null,"Lab ID",{"$f":"'General Infomation'!C8","v":0}]
[null,"Pool Series",{"$f":"'General Infomation'!C9","v":"0723"}]
[null,"Unit of Measure",{"$f":"'General Infomation'!C11","v":"mg/dL"}]
[]
[]
[null,"Day 1"]
[null,"Run date","mm/dd/yyyy",null,"TG: Total Glycerides",null,"FG: Free Glycerol",null,"NG: Net Glycerides"]
[]
[null,"Sample Type","Sample #","Sample ID",{"$f":"\"TG Rep 1 (\"& $C$7 &\")\"","v":"TG Rep 1 (mg/dL)"},{"$f":"\"TG Rep 2 (\"& $C$7 &\")\"","v":"TG Rep 2 (mg/dL)"},{"$f":"\"FG Rep 2 (\"& $C$7 &\")\"","v":"FG Rep 2 (mg/dL)"},{"$f":"\"FG Rep 2 (\"& $C$7 &\")\"","v":"FG Rep 2 (mg/dL)"},{"$f":"\"NG Rep 2 (\"& $C$7 &\")\"","v":"NG Rep 2 (mg/dL)"},{"$f":"\"NG Rep 2 (\"& $C$7 &\")\"","v":"NG Rep 2 (mg/dL)"}]
[null,"Certification Samples","CS01",{"$f":"'List of samples'!E22","v":0}]
[null,null,"CS02",{"$f":"'List of samples'!E23","v":0}]
[null,null,"CS03",{"$f":"'List of samples'!E24","v":0}]
[null,null,"CS04",{"$f":"'List of samples'!E25","v":0}]
[null,"Network Samples","NS01",{"$f":"'List of samples'!E26","v":0}]
[null,null,"NS02",{"$f":"'List of samples'!E27","v":0}]
[]
[]
[null,"Day 2"]
[null,"Run date","mm/dd/yyyy",null,"TG: Total Glycerides",null,"FG: Free Glycerol",null,"NG: Net Glycerides"]
[]
[null,"Sample Type","Sample #","Sample ID",{"$f":"E13","v":"TG Rep 1 (mg/dL)"},"TG Rep 2 (mg/dL)","FG Rep 2 (mg/dL)","FG Rep 2 (mg/dL)","NG Rep 2 (mg/dL)","NG Rep 2 (mg/dL)"]
[null,"Certification Samples","CS01",{"$f":"'List of samples'!E28","v":0}]
[null,null,"CS02",{"$f":"'List of samples'!E29","v":0}]
[null,null,"CS03",{"$f":"'List of samples'!E30","v":0}]
[null,null,"CS04",{"$f":"'List of samples'!E31","v":0}]
[null,"Network Samples","NS01",{"$f":"'List of samples'!E32","v":0}]
[null,null,"NS02",{"$f":"'List of samples'!E33","v":0}]
[]
[]
[null,"Comment"]

{"sheet":"ExportTG","index":7,"n_rows":7,"n_cols":26,"rows_kept":7}
["pool_series","lab_id","run_id","day_1_sample_id","day_2_sample_id","survey_pool_id","target_value","target_value_sd","uncertainty","tg_value_1","tg_value_2","tg_value_1.1","tg_value_2.1","fg_value_1","fg_value_2","fg_value_1.1","fg_value_2.1","net_value_1","net_value_2","net_value_1.1","net_value_2.1","units","month","year","year_month","notes"]
[{"$f":"TG!$C$6","v":"0723"},{"$f":"TG!$C$5","v":0},{"$f":"TG!C14","v":"CS01"},{"$f":"TG!D14","v":0},{"$f":"TG!D26","v":0},{"$nulls":4},{"$f":"TG!E14","v":{"v":0,"d":"0.00"}},{"$f":"TG!F14","v":{"v":0,"d":"0.00"}},{"$f":"TG!E26","v":{"v":0,"d":"0.00"}},{"$f":"TG!F26","v":{"v":0,"d":"0.00"}},{"$f":"TG!G14","v":{"v":0,"d":"0.00"}},{"$f":"TG!H14","v":{"v":0,"d":"0.00"}},{"$f":"TG!G26","v":{"v":0,"d":"0.00"}},{"$f":"TG!H26","v":{"v":0,"d":"0.00"}},{"$f":"TG!I14","v":{"v":0,"d":"0.00"}},{"$f":"TG!J14","v":{"v":0,"d":"0.00"}},{"$f":"TG!I26","v":{"v":0,"d":"0.00"}},{"$f":"TG!J26","v":{"v":0,"d":"0.00"}},{"$f":"TG!$C$7","v":"mg/dL"},{"$nulls":3},{"$f":"TG!$B$35","v":0}]
[{"$f":"TG!$C$6","v":"0723"},{"$f":"TG!$C$5","v":0},{"$f":"TG!C15","v":"CS02"},{"$f":"TG!D15","v":0},{"$f":"TG!D27","v":0},{"$nulls":4},{"$f":"TG!E15","v":{"v":0,"d":"0.00"}},{"$f":"TG!F15","v":{"v":0,"d":"0.00"}},{"$f":"TG!E27","v":{"v":0,"d":"0.00"}},{"$f":"TG!F27","v":{"v":0,"d":"0.00"}},{"$f":"TG!G15","v":{"v":0,"d":"0.00"}},{"$f":"TG!H15","v":{"v":0,"d":"0.00"}},{"$f":"TG!G27","v":{"v":0,"d":"0.00"}},{"$f":"TG!H27","v":{"v":0,"d":"0.00"}},{"$f":"TG!I15","v":{"v":0,"d":"0.00"}},{"$f":"TG!J15","v":{"v":0,"d":"0.00"}},{"$f":"TG!I27","v":{"v":0,"d":"0.00"}},{"$f":"TG!J27","v":{"v":0,"d":"0.00"}},{"$f":"TG!$C$7","v":"mg/dL"},{"$nulls":3},{"$f":"TG!$B$35","v":0}]
[{"$f":"TG!$C$6","v":"0723"},{"$f":"TG!$C$5","v":0},{"$f":"TG!C16","v":"CS03"},{"$f":"TG!D16","v":0},{"$f":"TG!D28","v":0},{"$nulls":4},{"$f":"TG!E16","v":{"v":0,"d":"0.00"}},{"$f":"TG!F16","v":{"v":0,"d":"0.00"}},{"$f":"TG!E28","v":{"v":0,"d":"0.00"}},{"$f":"TG!F28","v":{"v":0,"d":"0.00"}},{"$f":"TG!G16","v":{"v":0,"d":"0.00"}},{"$f":"TG!H16","v":{"v":0,"d":"0.00"}},{"$f":"TG!G28","v":{"v":0,"d":"0.00"}},{"$f":"TG!H28","v":{"v":0,"d":"0.00"}},{"$f":"TG!I16","v":{"v":0,"d":"0.00"}},{"$f":"TG!J16","v":{"v":0,"d":"0.00"}},{"$f":"TG!I28","v":{"v":0,"d":"0.00"}},{"$f":"TG!J28","v":{"v":0,"d":"0.00"}},{"$f":"TG!$C$7","v":"mg/dL"},{"$nulls":3},{"$f":"TG!$B$35","v":0}]
[{"$f":"TG!$C$6","v":"0723"},{"$f":"TG!$C$5","v":0},{"$f":"TG!C17","v":"CS04"},{"$f":"TG!D17","v":0},{"$f":"TG!D29","v":0},{"$nulls":4},{"$f":"TG!E17","v":{"v":0,"d":"0.00"}},{"$f":"TG!F17","v":{"v":0,"d":"0.00"}},{"$f":"TG!E29","v":{"v":0,"d":"0.00"}},{"$f":"TG!F29","v":{"v":0,"d":"0.00"}},{"$f":"TG!G17","v":{"v":0,"d":"0.00"}},{"$f":"TG!H17","v":{"v":0,"d":"0.00"}},{"$f":"TG!G29","v":{"v":0,"d":"0.00"}},{"$f":"TG!H29","v":{"v":0,"d":"0.00"}},{"$f":"TG!I17","v":{"v":0,"d":"0.00"}},{"$f":"TG!J17","v":{"v":0,"d":"0.00"}},{"$f":"TG!I29","v":{"v":0,"d":"0.00"}},{"$f":"TG!J29","v":{"v":0,"d":"0.00"}},{"$f":"TG!$C$7","v":"mg/dL"},{"$nulls":3},{"$f":"TG!$B$35","v":0}]
[{"$f":"TG!$C$6","v":"0723"},{"$f":"TG!$C$5","v":0},{"$f":"TG!C18","v":"NS01"},{"$f":"TG!D18","v":0},{"$f":"TG!D30","v":0},{"$nulls":4},{"$f":"TG!E18","v":{"v":0,"d":"0.00"}},{"$f":"TG!F18","v":{"v":0,"d":"0.00"}},{"$f":"TG!E30","v":{"v":0,"d":"0.00"}},{"$f":"TG!F30","v":{"v":0,"d":"0.00"}},{"$f":"TG!G18","v":{"v":0,"d":"0.00"}},{"$f":"TG!H18","v":{"v":0,"d":"0.00"}},{"$f":"TG!G30","v":{"v":0,"d":"0.00"}},{"$f":"TG!H30","v":{"v":0,"d":"0.00"}},{"$f":"TG!I18","v":{"v":0,"d":"0.00"}},{"$f":"TG!J18","v":{"v":0,"d":"0.00"}},{"$f":"TG!I30","v":{"v":0,"d":"0.00"}},{"$f":"TG!J30","v":{"v":0,"d":"0.00"}},{"$f":"TG!$C$7","v":"mg/dL"},{"$nulls":3},{"$f":"TG!$B$35","v":0}]
[{"$f":"TG!$C$6","v":"0723"},{"$f":"TG!$C$5","v":0},{"$f":"TG!C19","v":"NS02"},{"$f":"TG!D19","v":0},{"$f":"TG!D31","v":0},{"$nulls":4},{"$f":"TG!E19","v":{"v":0,"d":"0.00"}},{"$f":"TG!F19","v":{"v":0,"d":"0.00"}},{"$f":"TG!E31","v":{"v":0,"d":"0.00"}},{"$f":"TG!F31","v":{"v":0,"d":"0.00"}},{"$f":"TG!G19","v":{"v":0,"d":"0.00"}},{"$f":"TG!H19","v":{"v":0,"d":"0.00"}},{"$f":"TG!G31","v":{"v":0,"d":"0.00"}},{"$f":"TG!H31","v":{"v":0,"d":"0.00"}},{"$f":"TG!I19","v":{"v":0,"d":"0.00"}},{"$f":"TG!J19","v":{"v":0,"d":"0.00"}},{"$f":"TG!I31","v":{"v":0,"d":"0.00"}},{"$f":"TG!J31","v":{"v":0,"d":"0.00"}},{"$f":"TG!$C$7","v":"mg/dL"},{"$nulls":3},{"$f":"TG!$B$35","v":0}]

{"sheet":"HDL-DCM","index":8,"n_rows":32,"n_cols":6,"rows_kept":32,"merged":[[1,1,1,5],[3,4,6,5],[9,1,9,2],[13,1,18,1],[20,1,20,2],[24,1,29,1],[32,1,32,5]]}
["DCM"]
[null,"CRMLN Network Survey HDL-DCM Data Submission"]
[]
[null,"Analyte","HDL-DCM",null,"Please fill applicable white cells "]
[null,"Lab ID",{"$f":"'General Infomation'!C8","v":0}]
[null,"Pool Series",{"$f":"'General Infomation'!C9","v":"0723"}]
[null,"Unit of Measure",{"$f":"'General Infomation'!C11","v":"mg/dL"}]
[]
[]
[null,"Day 1"]
[null,"Run date","mm/dd/yyyy"]
[]
[null,"Sample Type","Sample #","Sample ID",{"$f":"\"Rep 1 (\"& C7 &\")\"","v":"Rep 1 (mg/dL)"},{"$f":"\"Rep 2 (\"& C7 &\")\"","v":"Rep 2 (mg/dL)"}]
[null,"Certification Samples","CS01",{"$f":"'List of samples'!E34","v":0}]
[null,null,"CS02",{"$f":"'List of samples'!E35","v":0}]
[null,null,"CS03",{"$f":"'List of samples'!E36","v":0}]
[null,null,"CS04",{"$f":"'List of samples'!E37","v":0}]
[null,null,"NS01",{"$f":"'List of samples'!E38","v":0}]
[null,null,"NS02",{"$f":"'List of samples'!E39","v":0}]
[]
[null,"Day 2"]
[null,"Run date","mm/dd/yyyy"]
[]
[null,"Sample Type","Sample #","Sample ID",{"$f":"E13","v":"Rep 1 (mg/dL)"},{"$f":"F13","v":"Rep 2 (mg/dL)"}]
[null,"Certification Samples","CS01",{"$f":"'List of samples'!E40","v":0}]
[null,null,"CS02",{"$f":"'List of samples'!E41","v":0}]
[null,null,"CS03",{"$f":"'List of samples'!E42","v":0}]
[null,null,"CS04",{"$f":"'List of samples'!E43","v":0}]
[null,null,"NS01",{"$f":"'List of samples'!E44","v":0}]
[null,null,"NS02",{"$f":"'List of samples'!E45","v":0}]
[]
[null,"Comment"]

{"sheet":"HDL-LDL 2mL","index":9,"n_rows":33,"n_cols":13,"rows_kept":33,"hidden":true,"merged":[[1,1,1,12],[3,4,6,12],[9,1,9,2],[12,4,12,6],[13,1,14,1],[15,1,18,1],[20,1,20,2],[23,4,23,6],[24,1,25,1],[26,1,29,1],[33,1,33,8]]}
[]
[null,"CRMLN Network Survey HDL/LDL Data Submission (2 mL vials)"]
[]
[null,"Analyte","HDL/LDL",null,"Please fill applicable white cells \nPlease use drop down for Sample IDs"]
[null,"Lab ID",{"$f":"'General Infomation'!C8","v":0}]
[null,"Pool Series",{"$f":"'General Infomation'!C9","v":"0723"}]
[null,"Unit of Measure",{"$f":"'General Infomation'!C11","v":"mg/dL"}]
[]
[]
[null,"Day 1"]
[null,"Run date","mm/dd/yyyy"]
[]
[null,"Sample Type","Sample #","Prep","Sample ID (Please use drop down for Sample IDs)",null,null,{"$f":"\"BF Rep 1 (\"& $C$7 &\")\"","v":"BF Rep 1 (mg/dL)"},{"$f":"\"BF Rep 2 (\"& $C$7 &\")\"","v":"BF Rep 2 (mg/dL)"},{"$f":"\"HDL Rep 1 (\"& $C$7 &\")\"","v":"HDL Rep 1 (mg/dL)"},{"$f":"\"HDL Rep 2 (\"& $C$7 &\")\"","v":"HDL Rep 2 (mg/dL)"},{"$f":"\"LDL Rep 1 (\"& $C$7 &\")\"","v":"LDL Rep 1 (mg/dL)"},{"$f":"\"LDL Rep 2 (\"& $C$7 &\")\"","v":"LDL Rep 2 (mg/dL)"}]
[null,"Certification Samples","CS01",1]
[null,null,"CS01",2]
[null,"Network Samples","NS01",1]
[null,null,"NS01",2]
[null,null,"NS02",1]
[null,null,"NS02",2]
[]
[null,"Day 2"]
[null,"Run date","mm/dd/yyyy"]
[]
[null,"Sample Type","Sample #","Prep","Sample ID (Please use drop down for Sample IDs)",null,null,{"$f":"\"BF Rep 1 (\"& $C$7 &\")\"","v":"BF Rep 1 (mg/dL)"},{"$f":"\"BF Rep 2 (\"& $C$7 &\")\"","v":"BF Rep 2 (mg/dL)"},{"$f":"\"HDL Rep 1 (\"& $C$7 &\")\"","v":"HDL Rep 1 (mg/dL)"},{"$f":"\"HDL Rep 2 (\"& $C$7 &\")\"","v":"HDL Rep 2 (mg/dL)"},{"$f":"\"LDL Rep 1 (\"& $C$7 &\")\"","v":"LDL Rep 1 (mg/dL)"},{"$f":"\"LDL Rep 2 (\"& $C$7 &\")\"","v":"LDL Rep 2 (mg/dL)"}]
[null,"Certification Samples","CS01",1]
[null,null,"CS01",2]
[null,"Network Samples","NS01",1]
[null,null,"NS01",2]
[null,null,"NS02",1]
[null,null,"NS02",2]
[]
[]
[null,"Comment"]

{"sheet":"ExportHDL","index":10,"n_rows":10,"n_cols":22,"rows_kept":10}
["method","pool_series","lab_id","run_id","day_1_sample_id","day_2_sample_id","survey_pool_id","target_value","target_value_sd","uncertainty","run_1_value_1","run_1_value_2","run_2_value_1","run_2_value_2","run_3_value_1","run_3_value_2","run_4_value_1","run_4_value_2","units","month","year","year_month"]
[{"$f":"'HDL-DCM'!$A$1","v":"DCM"},{"$f":"'HDL-DCM'!$C$6","v":"0723"},{"$f":"'HDL-DCM'!$C$5","v":0},{"$f":"'HDL-DCM'!C14","v":"CS01"},{"$f":"'HDL-DCM'!D14","v":0},{"$f":"'HDL-DCM'!D25","v":0},{"$nulls":4},{"$f":"'HDL-DCM'!E14","v":{"v":0,"d":"0.00"}},{"$f":"'HDL-DCM'!F14","v":{"v":0,"d":"0.00"}},{"$f":"'HDL-DCM'!E25","v":{"v":0,"d":"0.00"}},{"$f":"'HDL-DCM'!F25","v":{"v":0,"d":"0.00"}},{"$nulls":4},{"$f":"'HDL-DCM'!$C$7","v":"mg/dL"}]
[{"$f":"'HDL-DCM'!$A$1","v":"DCM"},{"$f":"'HDL-DCM'!$C$6","v":"0723"},{"$f":"'HDL-DCM'!$C$5","v":0},{"$f":"'HDL-DCM'!C15","v":"CS02"},{"$f":"'HDL-DCM'!D15","v":0},{"$f":"'HDL-DCM'!D26","v":0},{"$nulls":4},{"$f":"'HDL-DCM'!E15","v":{"v":0,"d":"0.00"}},{"$f":"'HDL-DCM'!F15","v":{"v":0,"d":"0.00"}},{"$f":"'HDL-DCM'!E26","v":{"v":0,"d":"0.00"}},{"$f":"'HDL-DCM'!F26","v":{"v":0,"d":"0.00"}},{"$nulls":4},{"$f":"'HDL-DCM'!$C$7","v":"mg/dL"}]
[{"$f":"'HDL-DCM'!$A$1","v":"DCM"},{"$f":"'HDL-DCM'!$C$6","v":"0723"},{"$f":"'HDL-DCM'!$C$5","v":0},{"$f":"'HDL-DCM'!C16","v":"CS03"},{"$f":"'HDL-DCM'!D16","v":0},{"$f":"'HDL-DCM'!D27","v":0},{"$nulls":4},{"$f":"'HDL-DCM'!E16","v":{"v":0,"d":"0.00"}},{"$f":"'HDL-DCM'!F16","v":{"v":0,"d":"0.00"}},{"$f":"'HDL-DCM'!E27","v":{"v":0,"d":"0.00"}},{"$f":"'HDL-DCM'!F27","v":{"v":0,"d":"0.00"}},{"$nulls":4},{"$f":"'HDL-DCM'!$C$7","v":"mg/dL"}]
[{"$f":"'HDL-DCM'!$A$1","v":"DCM"},{"$f":"'HDL-DCM'!$C$6","v":"0723"},{"$f":"'HDL-DCM'!$C$5","v":0},{"$f":"'HDL-DCM'!C17","v":"CS04"},{"$f":"'HDL-DCM'!D17","v":0},{"$f":"'HDL-DCM'!D28","v":0},{"$nulls":4},{"$f":"'HDL-DCM'!E17","v":{"v":0,"d":"0.00"}},{"$f":"'HDL-DCM'!F17","v":{"v":0,"d":"0.00"}},{"$f":"'HDL-DCM'!E28","v":{"v":0,"d":"0.00"}},{"$f":"'HDL-DCM'!F28","v":{"v":0,"d":"0.00"}},{"$nulls":4},{"$f":"'HDL-DCM'!$C$7","v":"mg/dL"}]
[{"$f":"'HDL-DCM'!$A$1","v":"DCM"},{"$f":"'HDL-DCM'!$C$6","v":"0723"},{"$f":"'HDL-DCM'!$C$5","v":0},{"$f":"'HDL-DCM'!C18","v":"NS01"},{"$f":"'HDL-DCM'!D18","v":0},{"$f":"'HDL-DCM'!D29","v":0},{"$nulls":4},{"$f":"'HDL-DCM'!E18","v":{"v":0,"d":"0.00"}},{"$f":"'HDL-DCM'!F18","v":{"v":0,"d":"0.00"}},{"$f":"'HDL-DCM'!E29","v":{"v":0,"d":"0.00"}},{"$f":"'HDL-DCM'!F29","v":{"v":0,"d":"0.00"}},{"$nulls":4},{"$f":"'HDL-DCM'!$C$7","v":"mg/dL"}]
[{"$f":"'HDL-DCM'!$A$1","v":"DCM"},{"$f":"'HDL-DCM'!$C$6","v":"0723"},{"$f":"'HDL-DCM'!$C$5","v":0},{"$f":"'HDL-DCM'!C19","v":"NS02"},{"$f":"'HDL-DCM'!D19","v":0},{"$f":"'HDL-DCM'!D30","v":0},{"$nulls":4},{"$f":"'HDL-DCM'!E19","v":{"v":0,"d":"0.00"}},{"$f":"'HDL-DCM'!F19","v":{"v":0,"d":"0.00"}},{"$f":"'HDL-DCM'!E30","v":{"v":0,"d":"0.00"}},{"$f":"'HDL-DCM'!F30","v":{"v":0,"d":"0.00"}},{"$nulls":4},{"$f":"'HDL-DCM'!$C$7","v":"mg/dL"}]
[{"$f":"'HDL-LDL'!$A$1","v":"UC"},{"$f":"'HDL-LDL'!$C$6","v":"0723"},{"$f":"'HDL-LDL'!$C$5","v":0},{"$f":"'HDL-LDL'!$C$14","v":"CS01"},{"$f":"'HDL-LDL'!$E$14","v":0},{"$f":"'HDL-LDL'!$E$30","v":0},{"$nulls":4},{"$f":"'HDL-LDL'!J14","v":{"v":0,"d":"0.00"}},{"$f":"'HDL-LDL'!K14","v":{"v":0,"d":"0.00"}},{"$f":"'HDL-LDL'!J15","v":{"v":0,"d":"0.00"}},{"$f":"'HDL-LDL'!K15","v":{"v":0,"d":"0.00"}},{"$f":"'HDL-LDL'!J30","v":{"v":0,"d":"0.00"}},{"$f":"'HDL-LDL'!K30","v":{"v":0,"d":"0.00"}},{"$f":"'HDL-LDL'!J31","v":{"v":0,"d":"0.00"}},{"$f":"'HDL-LDL'!K31","v":{"v":0,"d":"0.00"}},{"$f":"'HDL-LDL'!$C$7","v":"mg/dL"}]
[{"$f":"'HDL-LDL'!$A$1","v":"UC"},{"$f":"'HDL-LDL'!$C$6","v":"0723"},{"$f":"'HDL-LDL'!$C$5","v":0},{"$f":"'HDL-LDL'!$C$16","v":"CS02"},{"$f":"'HDL-LDL'!$E$16","v":0},{"$f":"'HDL-LDL'!$E$32","v":0},{"$nulls":4},{"$f":"'HDL-LDL'!J16","v":{"v":0,"d":"0.00"}},{"$f":"'HDL-LDL'!K16","v":{"v":0,"d":"0.00"}},{"$f":"'HDL-LDL'!J17","v":{"v":0,"d":"0.00"}},{"$f":"'HDL-LDL'!K17","v":{"v":0,"d":"0.00"}},{"$f":"'HDL-LDL'!J32","v":{"v":0,"d":"0.00"}},{"$f":"'HDL-LDL'!K32","v":{"v":0,"d":"0.00"}},{"$f":"'HDL-LDL'!J33","v":{"v":0,"d":"0.00"}},{"$f":"'HDL-LDL'!K33","v":{"v":0,"d":"0.00"}},{"$f":"'HDL-LDL'!$C$7","v":"mg/dL"}]
[{"$f":"'HDL-LDL'!$A$1","v":"UC"},{"$f":"'HDL-LDL'!$C$6","v":"0723"},{"$f":"'HDL-LDL'!$C$5","v":0},{"$f":"'HDL-LDL'!$C$18","v":"CS03"},{"$f":"'HDL-LDL'!$E$18","v":0},{"$f":"'HDL-LDL'!$E$34","v":0},{"$nulls":4},{"$f":"'HDL-LDL'!J18","v":{"v":0,"d":"0.00"}},{"$f":"'HDL-LDL'!K18","v":{"v":0,"d":"0.00"}},{"$f":"'HDL-LDL'!J19","v":{"v":0,"d":"0.00"}},{"$f":"'HDL-LDL'!K19","v":{"v":0,"d":"0.00"}},{"$f":"'HDL-LDL'!J34","v":{"v":0,"d":"0.00"}},{"$f":"'HDL-LDL'!K34","v":{"v":0,"d":"0.00"}},{"$f":"'HDL-LDL'!J35","v":{"v":0,"d":"0.00"}},{"$f":"'HDL-LDL'!K35","v":{"v":0,"d":"0.00"}},{"$f":"'HDL-LDL'!$C$7","v":"mg/dL"}]

{"sheet":"HDL-LDL","index":11,"n_rows":42,"n_cols":13,"rows_kept":42,"merged":[[1,1,1,12],[3,4,6,12],[9,1,9,2],[12,4,12,6],[13,1,18,1],[19,1,22,1],[25,1,25,2],[28,4,28,6],[29,1,34,1],[35,1,38,1],[42,1,42,12]]}
["UC"]
[null,"CRMLN Network Survey HDL/LDL Data Submission (5 mL vials)"]
[]
[null,"Analyte","HDL/LDL",null,"Please fill applicable white cells\nPlease use drop down for Sample IDs"]
[null,"Lab ID",{"$f":"'General Infomation'!C8","v":0}]
[null,"Pool Series",{"$f":"'General Infomation'!C9","v":"0723"}]
[null,"Unit of Measure",{"$f":"'General Infomation'!C11","v":"mg/dL"}]
[]
[]
[null,"Day 1"]
[null,"Run date","mm/dd/yyyy"]
[]
[null,"Sample Type","Vial #","Prep","Sample ID (Please use drop down for Sample IDs)",null,null,{"$f":"\"BF Rep 1 (\"& $C$7 &\")\"","v":"BF Rep 1 (mg/dL)"},{"$f":"\"BF Rep 2 (\"& $C$7 &\")\"","v":"BF Rep 2 (mg/dL)"},{"$f":"\"HDL Rep 1 (\"& $C$7 &\")\"","v":"HDL Rep 1 (mg/dL)"},{"$f":"\"HDL Rep 2 (\"& $C$7 &\")\"","v":"HDL Rep 2 (mg/dL)"},{"$f":"\"LDL Rep 1 (\"& $C$7 &\")\"","v":"LDL Rep 1 (mg/dL)"},{"$f":"\"LDL Rep 2 (\"& $C$7 &\")\"","v":"LDL Rep 2 (mg/dL)"}]
["BF-C","Certification Samples","CS01",1]
[null,null,"CS01",2]
["HDL-C",null,"CS02",1]
[null,null,"CS02",2]
["LDL-C",null,"CS03",1]
[null,null,"CS03",2]
[null,"Network Samples","NS01",1]
[null,null,"NS01",2]
[null,null,"NS02",1]
[null,null,"NS02",2]
[]
[]
[null,"Day 2"]
[null,"Run date","mm/dd/yyyy"]
[]
[null,"Sample Type","Vial #","Prep","Sample ID (Please use drop down for Sample IDs)",null,null,{"$f":"H13","v":"BF Rep 1 (mg/dL)"},"BF Rep 2 (mg/dL)","HDL Rep 1 (mg/dL)","HDL Rep 2 (mg/dL)","LDL Rep 1 (mg/dL)","LDL Rep 2 (mg/dL)"]
[null,"Certification Samples","CS01",1]
[null,null,"CS01",2]
[null,null,"CS02",1]
[null,null,"CS02",2]
[null,null,"CS03",1]
[null,null,"CS03",2]
[null,"Network Samples","NS01",1]
[null,null,"NS01",2]
[null,null,"NS02",1]
[null,null,"NS02",2]
[]
[]
[null,"Comment"]

{"sheet":"Density Export","index":12,"n_rows":0,"n_cols":0,"rows_kept":0,"hidden":true}

{"sheet":"Export","index":13,"n_rows":104,"n_cols":16,"rows_kept":104,"hidden":true}
["SubmissionKey","SampleID","RunDate","Day","Rep","Value","Unit","Pool Series","Year","Survey#","Analyte","LabID","ShipMonth","ShipYear","Quarter","Comments"]
[{"$f":"'General Infomation'!$C$8&'General Infomation'!$C$9","v":"0723"},{"$f":"'TC-AK'!$D$14","v":0},{"$f":"'TC-AK'!$C$11","v":"mm/dd/yyyy"},1,1,{"$f":"'TC-AK'!$E$14","v":0},{"$f":"'TC-AK'!$C$7","v":"mg/dL"},{"$f":"'TC-AK'!$C$6","v":"0723"},{"$f":"YEAR(C2)","v":{"$error":"#VALUE!"}},null,{"$f":"'TC-AK'!$C$4","v":"TC-AK"},{"$f":"'TC-AK'!$C$5","v":0},{"$nulls":3},{"$f":"'TC-AK'!$B$35","v":0}]
[{"$f":"'General Infomation'!$C$8&'General Infomation'!$C$9","v":"0723"},{"$f":"'TC-AK'!$D$14","v":0},{"$f":"'TC-AK'!$C$11","v":"mm/dd/yyyy"},1,2,{"$f":"'TC-AK'!$F$14","v":0},{"$f":"'TC-AK'!$C$7","v":"mg/dL"},{"$f":"'TC-AK'!$C$6","v":"0723"},{"$f":"YEAR(C3)","v":{"$error":"#VALUE!"}},null,{"$f":"'TC-AK'!$C$4","v":"TC-AK"},{"$f":"'TC-AK'!$C$5","v":0},{"$nulls":3},{"$f":"'TC-AK'!$B$35","v":0}]
[{"$f":"'General Infomation'!$C$8&'General Infomation'!$C$9","v":"0723"},{"$f":"'TC-AK'!$D$26","v":0},{"$f":"'TC-AK'!$C$23","v":"mm/dd/yyyy"},2,1,{"$f":"'TC-AK'!$E$26","v":0},{"$f":"'TC-AK'!$C$7","v":"mg/dL"},{"$f":"'TC-AK'!$C$6","v":"0723"},{"$error":"#VALUE!"},null,{"$f":"'TC-AK'!$C$4","v":"TC-AK"},{"$f":"'TC-AK'!$C$5","v":0},{"$nulls":3},{"$f":"'TC-AK'!$B$35","v":0}]
[{"$f":"'General Infomation'!$C$8&'General Infomation'!$C$9","v":"0723"},{"$f":"'TC-AK'!$D$26","v":0},{"$f":"'TC-AK'!$C$23","v":"mm/dd/yyyy"},2,2,{"$f":"'TC-AK'!$F$26","v":0},{"$f":"'TC-AK'!$C$7","v":"mg/dL"},{"$f":"'TC-AK'!$C$6","v":"0723"},{"$error":"#VALUE!"},null,{"$f":"'TC-AK'!$C$4","v":"TC-AK"},{"$f":"'TC-AK'!$C$5","v":0},{"$nulls":3},{"$f":"'TC-AK'!$B$35","v":0}]
[{"$f":"'General Infomation'!$C$8&'General Infomation'!$C$9","v":"0723"},{"$f":"'TC-AK'!$D$15","v":0},{"$f":"'TC-AK'!$C$11","v":"mm/dd/yyyy"},1,1,{"$f":"'TC-AK'!$E$15","v":0},{"$f":"'TC-AK'!$C$7","v":"mg/dL"},{"$f":"'TC-AK'!$C$6","v":"0723"},{"$error":"#VALUE!"},null,{"$f":"'TC-AK'!$C$4","v":"TC-AK"},{"$f":"'TC-AK'!$C$5","v":0},{"$nulls":3},{"$f":"'TC-AK'!$B$35","v":0}]
[{"$f":"'General Infomation'!$C$8&'General Infomation'!$C$9","v":"0723"},{"$f":"'TC-AK'!$D$15","v":0},{"$f":"'TC-AK'!$C$11","v":"mm/dd/yyyy"},1,2,{"$f":"'TC-AK'!$F$15","v":0},{"$f":"'TC-AK'!$C$7","v":"mg/dL"},{"$f":"'TC-AK'!$C$6","v":"0723"},{"$error":"#VALUE!"},null,{"$f":"'TC-AK'!$C$4","v":"TC-AK"},{"$f":"'TC-AK'!$C$5","v":0},{"$nulls":3},{"$f":"'TC-AK'!$B$35","v":0}]
[{"$f":"'General Infomation'!$C$8&'General Infomation'!$C$9","v":"0723"},{"$f":"'TC-AK'!$D$27","v":0},{"$f":"'TC-AK'!$C$23","v":"mm/dd/yyyy"},2,1,{"$f":"'TC-AK'!$E$27","v":0},{"$f":"'TC-AK'!$C$7","v":"mg/dL"},{"$f":"'TC-AK'!$C$6","v":"0723"},{"$error":"#VALUE!"},null,{"$f":"'TC-AK'!$C$4","v":"TC-AK"},{"$f":"'TC-AK'!$C$5","v":0},{"$nulls":3},{"$f":"'TC-AK'!$B$35","v":0}]
[{"$f":"'General Infomation'!$C$8&'General Infomation'!$C$9","v":"0723"},{"$f":"'TC-AK'!$D$27","v":0},{"$f":"'TC-AK'!$C$23","v":"mm/dd/yyyy"},2,2,{"$f":"'TC-AK'!$F$27","v":0},{"$f":"'TC-AK'!$C$7","v":"mg/dL"},{"$f":"'TC-AK'!$C$6","v":"0723"},{"$error":"#VALUE!"},null,{"$f":"'TC-AK'!$C$4","v":"TC-AK"},{"$f":"'TC-AK'!$C$5","v":0},{"$nulls":3},{"$f":"'TC-AK'!$B$35","v":0}]
[{"$f":"'General Infomation'!$C$8&'General Infomation'!$C$9","v":"0723"},{"$f":"'TC-AK'!$D$16","v":0},{"$f":"'TC-AK'!$C$11","v":"mm/dd/yyyy"},1,1,null,{"$f":"'TC-AK'!$C$7","v":"mg/dL"},{"$f":"'TC-AK'!$C$6","v":"0723"},{"$error":"#VALUE!"},null,{"$f":"'TC-AK'!$C$4","v":"TC-AK"},{"$f":"'TC-AK'!$C$5","v":0},{"$nulls":3},{"$f":"'TC-AK'!$B$35","v":0}]
[{"$f":"'General Infomation'!$C$8&'General Infomation'!$C$9","v":"0723"},{"$f":"'TC-AK'!$D$16","v":0},{"$f":"'TC-AK'!$C$11","v":"mm/dd/yyyy"},1,2,null,{"$f":"'TC-AK'!$C$7","v":"mg/dL"},{"$f":"'TC-AK'!$C$6","v":"0723"},{"$error":"#VALUE!"},null,{"$f":"'TC-AK'!$C$4","v":"TC-AK"},{"$f":"'TC-AK'!$C$5","v":0},{"$nulls":3},{"$f":"'TC-AK'!$B$35","v":0}]
[{"$f":"'General Infomation'!$C$8&'General Infomation'!$C$9","v":"0723"},{"$f":"'TC-AK'!$D$28","v":0},{"$f":"'TC-AK'!$C$23","v":"mm/dd/yyyy"},2,1,null,{"$f":"'TC-AK'!$C$7","v":"mg/dL"},{"$f":"'TC-AK'!$C$6","v":"0723"},{"$error":"#VALUE!"},null,{"$f":"'TC-AK'!$C$4","v":"TC-AK"},{"$f":"'TC-AK'!$C$5","v":0},{"$nulls":3},{"$f":"'TC-AK'!$B$35","v":0}]
[{"$f":"'General Infomation'!$C$8&'General Infomation'!$C$9","v":"0723"},{"$f":"'TC-AK'!$D$28","v":0},{"$f":"'TC-AK'!$C$23","v":"mm/dd/yyyy"},2,2,null,{"$f":"'TC-AK'!$C$7","v":"mg/dL"},{"$f":"'TC-AK'!$C$6","v":"0723"},{"$error":"#VALUE!"},null,{"$f":"'TC-AK'!$C$4","v":"TC-AK"},{"$f":"'TC-AK'!$C$5","v":0},{"$nulls":3},{"$f":"'TC-AK'!$B$35","v":0}]
[{"$f":"'General Infomation'!$C$8&'General Infomation'!$C$9","v":"0723"},{"$f":"'TC-AK'!$D$17","v":0},{"$f":"'TC-AK'!$C$11","v":"mm/dd/yyyy"},1,1,null,{"$f":"'TC-AK'!$C$7","v":"mg/dL"},{"$f":"'TC-AK'!$C$6","v":"0723"},{"$error":"#VALUE!"},null,{"$f":"'TC-AK'!$C$4","v":"TC-AK"},{"$f":"'TC-AK'!$C$5","v":0},{"$nulls":3},{"$f":"'TC-AK'!$B$35","v":0}]
[{"$f":"'General Infomation'!$C$8&'General Infomation'!$C$9","v":"0723"},{"$f":"'TC-AK'!$D$17","v":0},{"$f":"'TC-AK'!$C$11","v":"mm/dd/yyyy"},1,2,null,{"$f":"'TC-AK'!$C$7","v":"mg/dL"},{"$f":"'TC-AK'!$C$6","v":"0723"},{"$error":"#VALUE!"},null,{"$f":"'TC-AK'!$C$4","v":"TC-AK"},{"$f":"'TC-AK'!$C$5","v":0},{"$nulls":3},{"$f":"'TC-AK'!$B$35","v":0}]
[{"$f":"'General Infomation'!$C$8&'General Infomation'!$C$9","v":"0723"},{"$f":"'TC-AK'!$D$29","v":0},{"$f":"'TC-AK'!$C$23","v":"mm/dd/yyyy"},2,1,null,{"$f":"'TC-AK'!$C$7","v":"mg/dL"},{"$f":"'TC-AK'!$C$6","v":"0723"},{"$error":"#VALUE!"},null,{"$f":"'TC-AK'!$C$4","v":"TC-AK"},{"$f":"'TC-AK'!$C$5","v":0},{"$nulls":3},{"$f":"'TC-AK'!$B$35","v":0}]
[{"$f":"'General Infomation'!$C$8&'General Infomation'!$C$9","v":"0723"},{"$f":"'TC-AK'!$D$29","v":0},{"$f":"'TC-AK'!$C$23","v":"mm/dd/yyyy"},2,2,null,{"$f":"'TC-AK'!$C$7","v":"mg/dL"},{"$f":"'TC-AK'!$C$6","v":"0723"},{"$error":"#VALUE!"},null,{"$f":"'TC-AK'!$C$4","v":"TC-AK"},{"$f":"'TC-AK'!$C$5","v":0},{"$nulls":3},{"$f":"'TC-AK'!$B$35","v":0}]
[{"$f":"'General Infomation'!$C$8&'General Infomation'!$C$9","v":"0723"},{"$f":"'TC-AK'!$D$18","v":0},{"$f":"'TC-AK'!$C$11","v":"mm/dd/yyyy"},1,1,null,{"$f":"'TC-AK'!$C$7","v":"mg/dL"},{"$f":"'TC-AK'!$C$6","v":"0723"},{"$error":"#VALUE!"},null,{"$f":"'TC-AK'!$C$4","v":"TC-AK"},{"$f":"'TC-AK'!$C$5","v":0},{"$nulls":3},{"$f":"'TC-AK'!$B$35","v":0}]
[{"$f":"'General Infomation'!$C$8&'General Infomation'!$C$9","v":"0723"},{"$f":"'TC-AK'!$D$18","v":0},{"$f":"'TC-AK'!$C$11","v":"mm/dd/yyyy"},1,2,null,{"$f":"'TC-AK'!$C$7","v":"mg/dL"},{"$f":"'TC-AK'!$C$6","v":"0723"},{"$error":"#VALUE!"},null,{"$f":"'TC-AK'!$C$4","v":"TC-AK"},{"$f":"'TC-AK'!$C$5","v":0},{"$nulls":3},{"$f":"'TC-AK'!$B$35","v":0}]
[{"$f":"'General Infomation'!$C$8&'General Infomation'!$C$9","v":"0723"},{"$f":"'TC-AK'!$D$30","v":0},{"$f":"'TC-AK'!$C$23","v":"mm/dd/yyyy"},2,1,null,{"$f":"'TC-AK'!$C$7","v":"mg/dL"},{"$f":"'TC-AK'!$C$6","v":"0723"},{"$error":"#VALUE!"},null,{"$f":"'TC-AK'!$C$4","v":"TC-AK"},{"$f":"'TC-AK'!$C$5","v":0},{"$nulls":3},{"$f":"'TC-AK'!$B$35","v":0}]
[{"$f":"'General Infomation'!$C$8&'General Infomation'!$C$9","v":"0723"},{"$f":"'TC-AK'!$D$30","v":0},{"$f":"'TC-AK'!$C$23","v":"mm/dd/yyyy"},2,2,null,{"$f":"'TC-AK'!$C$7","v":"mg/dL"},{"$f":"'TC-AK'!$C$6","v":"0723"},{"$error":"#VALUE!"},null,{"$f":"'TC-AK'!$C$4","v":"TC-AK"},{"$f":"'TC-AK'!$C$5","v":0},{"$nulls":3},{"$f":"'TC-AK'!$B$35","v":0}]
[{"$f":"'General Infomation'!$C$8&'General Infomation'!$C$9","v":"0723"},{"$f":"'TC-AK'!$D$19","v":0},{"$f":"'TC-AK'!$C$11","v":"mm/dd/yyyy"},1,1,null,{"$f":"'TC-AK'!$C$7","v":"mg/dL"},{"$f":"'TC-AK'!$C$6","v":"0723"},{"$error":"#VALUE!"},null,{"$f":"'TC-AK'!$C$4","v":"TC-AK"},{"$f":"'TC-AK'!$C$5","v":0},{"$nulls":3},{"$f":"'TC-AK'!$B$35","v":0}]
[{"$f":"'General Infomation'!$C$8&'General Infomation'!$C$9","v":"0723"},{"$f":"'TC-AK'!$D$19","v":0},{"$f":"'TC-AK'!$C$11","v":"mm/dd/yyyy"},1,2,null,{"$f":"'TC-AK'!$C$7","v":"mg/dL"},{"$f":"'TC-AK'!$C$6","v":"0723"},{"$error":"#VALUE!"},null,{"$f":"'TC-AK'!$C$4","v":"TC-AK"},{"$f":"'TC-AK'!$C$5","v":0},{"$nulls":3},{"$f":"'TC-AK'!$B$35","v":0}]
[{"$f":"'General Infomation'!$C$8&'General Infomation'!$C$9","v":"0723"},{"$f":"'TC-AK'!$D$31","v":0},{"$f":"'TC-AK'!$C$23","v":"mm/dd/yyyy"},2,1,null,{"$f":"'TC-AK'!$C$7","v":"mg/dL"},{"$f":"'TC-AK'!$C$6","v":"0723"},{"$error":"#VALUE!"},null,{"$f":"'TC-AK'!$C$4","v":"TC-AK"},{"$f":"'TC-AK'!$C$5","v":0},{"$nulls":3},{"$f":"'TC-AK'!$B$35","v":0}]
[{"$f":"'General Infomation'!$C$8&'General Infomation'!$C$9","v":"0723"},{"$f":"'TC-AK'!$D$31","v":0},{"$f":"'TC-AK'!$C$23","v":"mm/dd/yyyy"},2,2,null,{"$f":"'TC-AK'!$C$7","v":"mg/dL"},{"$f":"'TC-AK'!$C$6","v":"0723"},{"$error":"#VALUE!"},null,{"$f":"'TC-AK'!$C$4","v":"TC-AK"},{"$f":"'TC-AK'!$C$5","v":0},{"$nulls":3},{"$f":"'TC-AK'!$B$35","v":0}]
[{"$nulls":8},1900]
[{"$nulls":8},1900]
[{"$nulls":8},1900]
[{"$nulls":8},1900]
[{"$nulls":8},1900]
[{"$nulls":8},1900]
[{"$nulls":8},1900]
[{"$nulls":8},1900]
[{"$nulls":8},1900]
[{"$nulls":8},1900]
[{"$nulls":8},1900]
[{"$nulls":8},1900]
[{"$nulls":8},1900]
[{"$nulls":8},1900]
[{"$nulls":8},1900]
[{"$nulls":8},1900]
[{"$nulls":8},1900]
[{"$nulls":8},1900]
[{"$nulls":8},1900]
[{"$nulls":8},1900]
[{"$nulls":8},1900]
[{"$nulls":8},1900]
[{"$nulls":8},1900]
[{"$nulls":8},1900]
[{"$nulls":8},1900]
[{"$nulls":8},1900]
[{"$nulls":8},1900]
[{"$nulls":8},1900]
[{"$nulls":8},1900]
[{"$nulls":8},1900]
[{"$nulls":8},1900]
[{"$nulls":8},1900]
[{"$nulls":8},1900]
[{"$nulls":8},1900]
[{"$nulls":8},1900]
[{"$nulls":8},1900]
[{"$nulls":8},1900]
[{"$nulls":8},1900]
[{"$nulls":8},1900]
[{"$nulls":8},1900]
[{"$nulls":8},1900]
[{"$nulls":8},{"$f":"YEAR(C67)","v":1900}]
[{"$nulls":8},1900]
[{"$nulls":8},1900]
[{"$nulls":8},1900]
[{"$nulls":8},1900]
[{"$nulls":8},1900]
[{"$nulls":8},1900]
[{"$nulls":8},1900]
[{"$nulls":8},1900]
[{"$nulls":8},1900]
[{"$nulls":8},1900]
[{"$nulls":8},1900]
[{"$nulls":8},1900]
[{"$nulls":8},1900]
[{"$nulls":8},1900]
[{"$nulls":8},1900]
[{"$nulls":8},1900]
[{"$nulls":8},1900]
[{"$nulls":8},1900]
[{"$nulls":8},1900]
[{"$nulls":8},1900]
[{"$nulls":8},1900]
[{"$nulls":8},1900]
[{"$nulls":8},1900]
[{"$nulls":8},1900]
[{"$nulls":8},1900]
[{"$nulls":8},1900]
[{"$nulls":8},1900]
[{"$nulls":8},1900]
[{"$nulls":8},1900]
[{"$nulls":8},1900]
[{"$nulls":8},1900]
[{"$nulls":8},1900]
[{"$nulls":8},1900]
[{"$nulls":8},1900]
[{"$nulls":8},1900]
[{"$nulls":8},1900]
[{"$nulls":8},1900]

{"sheet":"ExportLDL","index":14,"n_rows":10,"n_cols":42,"rows_kept":10}
["type","pool_series","lab_id","run_id","day_1_sample_id","day_2_sample_id","survey_pool_id","target_value","target_value_sd","uncertainty","run_1_spin_1_rep_1","run_1_spin_1_rep_2","run_1_spin_2_rep_1","run_1_spin_2_rep_2","run_2_spin_1_rep_1","run_2_spin_1_rep_2","run_2_spin_2_rep_1","run_2_spin_2_rep_2","run_3_spin_1_rep_1","run_3_spin_1_rep_2","run_3_spin_2_rep_1","run_3_spin_2_rep_2","run_3b_spin_1_rep_1","run_3b_spin_1_rep_2","run_3b_spin_2_rep_1","run_3b_spin_2_rep_2","run_4_spin_1_rep_1","run_4_spin_1_rep_2","run_4_spin_2_rep_1","run_4_spin_2_rep_2","run_5_spin_1_rep_1","run_5_spin_1_rep_2","run_5_spin_2_rep_1","run_5_spin_2_rep_2","run_6_spin_1_rep_1","run_6_spin_1_rep_2","run_6_spin_2_rep_1","run_6_spin_2_rep_2","units","month","year","year_month"]
[{"$f":"'HDL-LDL'!$A$14","v":"BF-C"},{"$f":"'HDL-LDL'!$C$6","v":"0723"},{"$f":"'HDL-LDL'!$C$5","v":0},{"$f":"'HDL-LDL'!$C$14","v":"CS01"},{"$f":"'HDL-LDL'!$E$14","v":0},{"$f":"'HDL-LDL'!$E$30","v":0},{"$nulls":4},{"$f":"'HDL-LDL'!H14","v":{"v":0,"d":"0.00"}},{"$f":"'HDL-LDL'!I14","v":{"v":0,"d":"0.00"}},{"$f":"'HDL-LDL'!H15","v":{"v":0,"d":"0.00"}},{"$f":"'HDL-LDL'!I15","v":{"v":0,"d":"0.00"}},{"$f":"'HDL-LDL'!H30","v":{"v":0,"d":"0.00"}},{"$f":"'HDL-LDL'!I30","v":{"v":0,"d":"0.00"}},{"$f":"'HDL-LDL'!H31","v":{"v":0,"d":"0.00"}},{"$f":"'HDL-LDL'!I31","v":{"v":0,"d":"0.00"}},{"$nulls":20},{"$f":"'HDL-LDL'!$C$7","v":"mg/dL"}]
[{"$f":"'HDL-LDL'!$A$14","v":"BF-C"},{"$f":"'HDL-LDL'!$C$6","v":"0723"},{"$f":"'HDL-LDL'!$C$5","v":0},{"$f":"'HDL-LDL'!$C$16","v":"CS02"},{"$f":"'HDL-LDL'!$E$16","v":0},{"$f":"'HDL-LDL'!$E$32","v":0},{"$nulls":4},{"$f":"'HDL-LDL'!H16","v":{"v":0,"d":"0.00"}},{"$f":"'HDL-LDL'!I16","v":{"v":0,"d":"0.00"}},{"$f":"'HDL-LDL'!H17","v":{"v":0,"d":"0.00"}},{"$f":"'HDL-LDL'!I17","v":{"v":0,"d":"0.00"}},{"$f":"'HDL-LDL'!H32","v":{"v":0,"d":"0.00"}},{"$f":"'HDL-LDL'!I32","v":{"v":0,"d":"0.00"}},{"$f":"'HDL-LDL'!H33","v":{"v":0,"d":"0.00"}},{"$f":"'HDL-LDL'!I33","v":{"v":0,"d":"0.00"}},{"$nulls":20},{"$f":"'HDL-LDL'!$C$7","v":"mg/dL"}]
[{"$f":"'HDL-LDL'!$A$14","v":"BF-C"},{"$f":"'HDL-LDL'!$C$6","v":"0723"},{"$f":"'HDL-LDL'!$C$5","v":0},{"$f":"'HDL-LDL'!$C$18","v":"CS03"},{"$f":"'HDL-LDL'!$E$18","v":0},{"$f":"'HDL-LDL'!$E$34","v":0},{"$nulls":4},{"$f":"'HDL-LDL'!H18","v":{"v":0,"d":"0.00"}},{"$f":"'HDL-LDL'!I18","v":{"v":0,"d":"0.00"}},{"$f":"'HDL-LDL'!H19","v":{"v":0,"d":"0.00"}},{"$f":"'HDL-LDL'!I19","v":{"v":0,"d":"0.00"}},{"$f":"'HDL-LDL'!H34","v":{"v":0,"d":"0.00"}},{"$f":"'HDL-LDL'!I34","v":{"v":0,"d":"0.00"}},{"$f":"'HDL-LDL'!H35","v":{"v":0,"d":"0.00"}},{"$f":"'HDL-LDL'!I35","v":{"v":0,"d":"0.00"}},{"$nulls":20},{"$f":"'HDL-LDL'!$C$7","v":"mg/dL"}]
[{"$f":"'HDL-LDL'!$A$16","v":"HDL-C"},{"$f":"'HDL-LDL'!$C$6","v":"0723"},{"$f":"'HDL-LDL'!$C$5","v":0},{"$f":"'HDL-LDL'!$C$14","v":"CS01"},{"$f":"'HDL-LDL'!$E$14","v":0},{"$f":"'HDL-LDL'!$E$30","v":0},{"$nulls":4},{"$f":"ExportHDL!K8","v":{"v":0,"d":"0.00"}},{"$f":"ExportHDL!L8","v":{"v":0,"d":"0.00"}},{"$f":"ExportHDL!M8","v":{"v":0,"d":"0.00"}},{"$f":"ExportHDL!N8","v":{"v":0,"d":"0.00"}},{"$f":"ExportHDL!O8","v":{"v":0,"d":"0.00"}},{"$f":"ExportHDL!P8","v":{"v":0,"d":"0.00"}},{"$f":"ExportHDL!Q8","v":{"v":0,"d":"0.00"}},{"$f":"ExportHDL!R8","v":{"v":0,"d":"0.00"}},{"$nulls":20},{"$f":"'HDL-LDL'!$C$7","v":"mg/dL"}]
[{"$f":"'HDL-LDL'!$A$16","v":"HDL-C"},{"$f":"'HDL-LDL'!$C$6","v":"0723"},{"$f":"'HDL-LDL'!$C$5","v":0},{"$f":"'HDL-LDL'!$C$16","v":"CS02"},{"$f":"'HDL-LDL'!$E$16","v":0},{"$f":"'HDL-LDL'!$E$32","v":0},{"$nulls":4},{"$f":"ExportHDL!K9","v":{"v":0,"d":"0.00"}},{"$f":"ExportHDL!L9","v":{"v":0,"d":"0.00"}},{"$f":"ExportHDL!M9","v":{"v":0,"d":"0.00"}},{"$f":"ExportHDL!N9","v":{"v":0,"d":"0.00"}},{"$f":"ExportHDL!O9","v":{"v":0,"d":"0.00"}},{"$f":"ExportHDL!P9","v":{"v":0,"d":"0.00"}},{"$f":"ExportHDL!Q9","v":{"v":0,"d":"0.00"}},{"$f":"ExportHDL!R9","v":{"v":0,"d":"0.00"}},{"$nulls":20},{"$f":"'HDL-LDL'!$C$7","v":"mg/dL"}]
[{"$f":"'HDL-LDL'!$A$16","v":"HDL-C"},{"$f":"'HDL-LDL'!$C$6","v":"0723"},{"$f":"'HDL-LDL'!$C$5","v":0},{"$f":"'HDL-LDL'!$C$18","v":"CS03"},{"$f":"'HDL-LDL'!$E$18","v":0},{"$f":"'HDL-LDL'!$E$34","v":0},{"$nulls":4},{"$f":"ExportHDL!K10","v":{"v":0,"d":"0.00"}},{"$f":"ExportHDL!L10","v":{"v":0,"d":"0.00"}},{"$f":"ExportHDL!M10","v":{"v":0,"d":"0.00"}},{"$f":"ExportHDL!N10","v":{"v":0,"d":"0.00"}},{"$f":"ExportHDL!O10","v":{"v":0,"d":"0.00"}},{"$f":"ExportHDL!P10","v":{"v":0,"d":"0.00"}},{"$f":"ExportHDL!Q10","v":{"v":0,"d":"0.00"}},{"$f":"ExportHDL!R10","v":{"v":0,"d":"0.00"}},{"$nulls":20},{"$f":"'HDL-LDL'!$C$7","v":"mg/dL"}]
[{"$f":"'HDL-LDL'!$A$18","v":"LDL-C"},{"$f":"'HDL-LDL'!$C$6","v":"0723"},{"$f":"'HDL-LDL'!$C$5","v":0},{"$f":"'HDL-LDL'!$C$14","v":"CS01"},{"$f":"'HDL-LDL'!$E$14","v":0},{"$f":"'HDL-LDL'!$E$30","v":0},{"$nulls":4},{"$f":"'HDL-LDL'!L14","v":{"v":0,"d":"0.00"}},{"$f":"'HDL-LDL'!M14","v":{"v":0,"d":"0.00"}},{"$f":"'HDL-LDL'!L15","v":{"v":0,"d":"0.00"}},{"$f":"'HDL-LDL'!M15","v":{"v":0,"d":"0.00"}},{"$f":"'HDL-LDL'!L30","v":{"v":0,"d":"0.00"}},{"$f":"'HDL-LDL'!M30","v":{"v":0,"d":"0.00"}},{"$f":"'HDL-LDL'!L31","v":{"v":0,"d":"0.00"}},{"$f":"'HDL-LDL'!M31","v":{"v":0,"d":"0.00"}},{"$nulls":20},{"$f":"'HDL-LDL'!$C$7","v":"mg/dL"}]
[{"$f":"'HDL-LDL'!$A$18","v":"LDL-C"},{"$f":"'HDL-LDL'!$C$6","v":"0723"},{"$f":"'HDL-LDL'!$C$5","v":0},{"$f":"'HDL-LDL'!$C$16","v":"CS02"},{"$f":"'HDL-LDL'!$E$16","v":0},{"$f":"'HDL-LDL'!$E$32","v":0},{"$nulls":4},{"$f":"'HDL-LDL'!L16","v":{"v":0,"d":"0.00"}},{"$f":"'HDL-LDL'!M16","v":{"v":0,"d":"0.00"}},{"$f":"'HDL-LDL'!L17","v":{"v":0,"d":"0.00"}},{"$f":"'HDL-LDL'!M17","v":{"v":0,"d":"0.00"}},{"$f":"'HDL-LDL'!L32","v":{"v":0,"d":"0.00"}},{"$f":"'HDL-LDL'!M32","v":{"v":0,"d":"0.00"}},{"$f":"'HDL-LDL'!L33","v":{"v":0,"d":"0.00"}},{"$f":"'HDL-LDL'!M33","v":{"v":0,"d":"0.00"}},{"$nulls":20},{"$f":"'HDL-LDL'!$C$7","v":"mg/dL"}]
[{"$f":"'HDL-LDL'!$A$18","v":"LDL-C"},{"$f":"'HDL-LDL'!$C$6","v":"0723"},{"$f":"'HDL-LDL'!$C$5","v":0},{"$f":"'HDL-LDL'!$C$18","v":"CS03"},{"$f":"'HDL-LDL'!$E$18","v":0},{"$f":"'HDL-LDL'!$E$34","v":0},{"$nulls":4},{"$f":"'HDL-LDL'!L18","v":{"v":0,"d":"0.00"}},{"$f":"'HDL-LDL'!M18","v":{"v":0,"d":"0.00"}},{"$f":"'HDL-LDL'!L19","v":{"v":0,"d":"0.00"}},{"$f":"'HDL-LDL'!M19","v":{"v":0,"d":"0.00"}},{"$f":"'HDL-LDL'!L34","v":{"v":0,"d":"0.00"}},{"$f":"'HDL-LDL'!M34","v":{"v":0,"d":"0.00"}},{"$f":"'HDL-LDL'!L35","v":{"v":0,"d":"0.00"}},{"$f":"'HDL-LDL'!M35","v":{"v":0,"d":"0.00"}},{"$nulls":20},{"$f":"'HDL-LDL'!$C$7","v":"mg/dL"}]

{"sheet":"Export for Old Template","index":15,"n_rows":1,"n_cols":8,"rows_kept":1,"hidden":true}
["Analyte","LabID","PS","SampleID","Run1","Run2","Date ","UnitOfMeasure"]

{"sheet":"Sheet2","index":16,"n_rows":0,"n_cols":0,"rows_kept":0,"hidden":true}

{"sheet":"CalPopUp","index":17,"n_rows":20,"n_cols":8,"rows_kept":20,"hidden":true}
[{"$f":"TODAY()","v":"2026-01-23"},{"$f":"IF(WEEKDAY(DATE(CalYear,MATCH($A$4,CalMonths,0),1))=1,DATE(CalYear,MATCH($A$4,CalMonths,0),1),\"\")","v":""},{"$f":"IF(B1<>\"\",B1+1,IF(WEEKDAY(DATE(CalYear,MATCH($A$4,CalMonths,0),1))=2,DATE(CalYear,MATCH($A$4,CalMonths,0),1),\"\"))","v":""},{"$f":"IF(C1<>\"\",C1+1,IF(WEEKDAY(DATE(CalYear,MATCH($A$4,CalMonths,0),1))=3,DATE(CalYear,MATCH($A$4,CalMonths,0),1),\"\"))","v":""},{"$f":"IF(D1<>\"\",D1+1,IF(WEEKDAY(DATE(CalYear,MATCH($A$4,CalMonths,0),1))=4,DATE(CalYear,MATCH($A$4,CalMonths,0),1),\"\"))","v":"2023-03-01"},{"$f":"IF(E1<>\"\",E1+1,IF(WEEKDAY(DATE(CalYear,MATCH($A$4,CalMonths,0),1))=5,DATE(CalYear,MATCH($A$4,CalMonths,0),1),\"\"))","v":"2023-03-02"},{"$f":"IF(F1<>\"\",F1+1,IF(WEEKDAY(DATE(CalYear,MATCH($A$4,CalMonths,0),1))=6,DATE(CalYear,MATCH($A$4,CalMonths,0),1),\"\"))","v":"2023-03-03"},{"$f":"IF(G1<>\"\",G1+1,IF(WEEKDAY(DATE(CalYear,MATCH($A$4,CalMonths,0),1))=7,DATE(CalYear,MATCH($A$4,CalMonths,0),1),\"\"))","v":"2023-03-04"}]
[2023,{"$f":"H1+1","v":"2023-03-05"},{"$f":"B2+1","v":"2023-03-06"},"2023-03-07","2023-03-08","2023-03-09","2023-03-10","2023-03-11"]
[3,{"$f":"H2+1","v":"2023-03-12"},{"$f":"B3+1","v":"2023-03-13"},"2023-03-14","2023-03-15","2023-03-16","2023-03-17","2023-03-18"]
[{"$f":"INDEX(CalMonths,A3,)","v":"March"},{"$f":"H3+1","v":"2023-03-19"},"2023-03-20","2023-03-21","2023-03-22","2023-03-23","2023-03-24","2023-03-25"]
[{"$f":"A4&\" \"&CalYear","v":"March 2023"},{"$f":"IF(OR(H4=\"\",MONTH(H4+1)<>$A$3),\"\",H4+1)","v":"2023-03-26"},{"$f":"IFERROR(IF(MONTH(B5+1)<>$A$3,\"\",B5+1),\"\")","v":"2023-03-27"},"2023-03-28","2023-03-29","2023-03-30","2023-03-31",""]
[{"$f":"SUM(B6:H6)","v":0},{"$f":"IFERROR(IF(OR(H5=\"\",MONTH(H5+1)<>$A$3),\"\",H5+1),\"\")","v":""},{"$f":"IFERROR(F(MONTH(I5+1)<>$A$3,\"\",I5+1),\"\")","v":""},{"$f":"IFERROR(F(MONTH(J5+1)<>$A$3,\"\",J5+1),\"\")","v":""},{"$f":"IFERROR(F(MONTH(K5+1)<>$A$3,\"\",K5+1),\"\")","v":""},{"$f":"IFERROR(F(MONTH(L5+1)<>$A$3,\"\",L5+1),\"\")","v":""},{"$f":"IFERROR(F(MONTH(M5+1)<>$A$3,\"\",M5+1),\"\")","v":""},{"$f":"IFERROR(F(MONTH(N5+1)<>$A$3,\"\",N5+1),\"\")","v":""}]
[null,1,2,3,4,5,6,7]
["January",8,9,10,11,12,13,14]
["February",15,16,17,18,19,20,21]
["March",22,23,24,25,26,27,28]
["April",29,30,31,32,33,34,35]
["May",36,37,38,39,40,41,42]
["June"]
["July"]
["August"]
["September"]
["October"]
["November"]
["December"]
[{"$f":"IFERROR(INDIRECT(ADDRESS(SUMPRODUCT((B1:H6=A1)*ROW(B1:H6))+6,SUMPRODUCT((B1:H6=A1)*COLUMN(B1:H6)),1,1)),\"\")","v":""}]