Workbook

Sheet Base Tables
A2: ICR Agency Job Classification Title | B2: 2026 Annual GS Salary (Step 1) | C2: Work Hours Per Year Factor | D2: Benefits Factor | E2: Calculated Hourly Rate
A3: Management (GS-14) | B3: 143913 | C3: ÷ 2,080 | D3: × 1.6 | E3: =(B3/2080)*1.6 -> 110.70231
A4: Technical (GS-12) | B4: 102415 | C4: ÷ 2,080 | D4: × 1.6 | E4: =(B4/2080)*1.6 -> 78.780769
A5: Administrative (GS-9) | B5: 70623 | C5: ÷ 2,080 | D5: × 1.6 | E5: =(B5/2080)*1.6 -> 54.325385
A7: BLS Report State and Local Government Workers Jobs Classification Title | B7: ICR Respondent Job Classification Titles | C7: Corresponding Labor Compensation (hourly rate) from BLS Report
A8: Management, professional, and related | B8: Management | C8: 78.62
A9: Professional and related | B9: Technical | C9: 76.3
A10: Office and administrative support | B10: Administrative | C10: 46.76
A13: Calculations in this workbook are based on these tables. Do not delete. | B13: State: | C13: Mgmt: | D13: =C8 -> 78.62
C14: Tech: | D14: =C9 -> 76.3
C15: Admin: | D15: =C10 -> 46.76
B16: EPA: | C16: Mgmt: | D16: =E3 -> 110.70231
C17: Tech: | D17: =E4 -> 78.780769
C18: Admin: | D18: =E5 -> 54.325385

Sheet Table 1
A1: Table 1. UNDS No-Discharge Zone by State Prohibition, Respondent (State Agency) Burden Hours and Costs (40 CFR 1700.9)
A2: Information Collection Activity | B2: Hours and Costs Per Respondent | G2: Total Hours per Year
B3: Mgmt. | C3: Technical | D3: Admin. | E3: Capital/Startup Cost ($) | F3: O&M Cost ($)* | G3: Number Respon./Year | H3: Total Hours/Year | I3: Total Cost/Year ($)
A4: Request Preparation
A5: Read regulations; review guidance document; plan strategy | B5: 3 | C5: 20 | G5: 0.33 | H5: =(SUM(B5:D5))*G5 -> 7.59 | I5: =((B5*'Base Tables'!$D$13)+(C5*'Base Tables'!$D$14)+(D5*'Base Tables'!$D$15)+E5+F5)*G5 -> 581.4138
A6: Clarify questions with EPA | C6: 3 | F6: 50 | G6: 0.33 | H6: =(SUM(B6:D6))*G6 -> 0.99 | I6: =((B6*'Base Tables'!$D$13)+(C6*'Base Tables'!$D$14)+(D6*'Base Tables'!$D$15)+E6+F6)*G6 -> 92.037
A7: Gather Information
A8: Identification of discharge | C8: 0.25 | G8: 0.33 | H8: =(SUM(B8:D8))*G8 -> 0.0825 | I8: =((B8*'Base Tables'!$D$13)+(C8*'Base Tables'!$D$14)+(D8*'Base Tables'!$D$15)+E8+F8)*G8 -> 6.29475
A9: Definition of waters in NDZ | C9: 4 | G9: 0.33 | H9: =(SUM(B9:D9))*G9 -> 1.32 | I9: =((B9*'Base Tables'!$D$13)+(C9*'Base Tables'!$D$14)+(D9*'Base Tables'!$D$15)+E9+F9)*G9 -> 100.716
A10: Determination of necessity for greater environmental protection | C10: 5 | G10: 0.33 | H10: =(SUM(B10:D10))*G10 -> 1.65 | I10: =((B10*'Base Tables'!$D$13)+(C10*'Base Tables'!$D$14)+(D10*'Base Tables'!$D$15)+E10+F10)*G10 -> 125.895
A11: Description of discharge removal facilities | B11: 1.25 | C11: 9 | G11: 0.33 | H11: =(SUM(B11:D11))*G11 -> 3.3825 | I11: =((B11*'Base Tables'!$D$13)+(C11*'Base Tables'!$D$14)+(D11*'Base Tables'!$D$15)+E11+F11)*G11 -> 259.04175
A12: Information on regulation of this discharge from non-Armed Forces vessels | C12: 2.75 | G12: 0.33 | H12: =(SUM(B12:D12))*G12 -> 0.9075 | I12: =((B12*'Base Tables'!$D$13)+(C12*'Base Tables'!$D$14)+(D12*'Base Tables'!$D$15)+E12+F12)*G12 -> 69.24225
A13: Create information (analyze data and compile/write Request Letter) | B13: 8 | C13: 59 | D13: 10 | F13: 40 | G13: 0.33 | H13: =(SUM(B13:D13))*G13 -> 25.41 | I13: =((B13*'Base Tables'!$D$13)+(C13*'Base Tables'!$D$14)+(D13*'Base Tables'!$D$15)+E13+F13)*G13 -> 1860.6258
A14: Review information | B14: 8 | C14: 32 | D14: 8 | G14: 0.33 | H14: =(SUM(B14:D14))*G14 -> 15.84 | I14: =((B14*'Base Tables'!$D$13)+(C14*'Base Tables'!$D$14)+(D14*'Base Tables'!$D$15)+E14+F14)*G14 -> 1136.7312
A15: Complete paperwork (e.g., Request Letter) | B15: 3 | D15: 3 | F15: 10 | G15: 0.33 | H15: =(SUM(B15:D15))*G15 -> 1.98 | I15: =((B15*'Base Tables'!$D$13)+(C15*'Base Tables'!$D$14)+(D15*'Base Tables'!$D$15)+E15+F15)*G15 -> 127.4262
A16: Copy, store, file, and maintain information | D16: 3 | F16: 50 | G16: 0.33 | H16: =(SUM(B16:D16))*G16 -> 0.99 | I16: =((B16*'Base Tables'!$D$13)+(C16*'Base Tables'!$D$14)+(D16*'Base Tables'!$D$15)+E16+F16)*G16 -> 62.7924
A17: Subtotal (hours and costs) | B17: =SUM(B4:B16) -> 23.25 | C17: =SUM(C4:C16) -> 135 | D17: =SUM(D4:D16) -> 24 | E17: =SUM(E4:E16) -> 0 | F17: =SUM(F4:F16) -> 150 | G17: =1/3 -> 0.33333333 | H17: =SUM(H4:H16) -> 60.1425 | I17: =SUM(I4:I16) -> 4422.2162

Sheet Table 2
A1: Table 2. UNDS No-Discharge Zone by EPA Prohibition, Respondent (State Agency) Burden Hours and Costs (40 CFR 1700.10)
A2: Information Collection Activity | B2: Hours and Costs Per Respondent | G2: Total Hours per Year
B3: Mgmt. | C3: Technical | D3: Admin. | E3: Capital/Startup Cost ($) | F3: O&M Cost ($)* | G3: Number Respon./Year | H3: Total Hours/Year | I3: Total Cost/Year ($)
A4: Request Preparation
A5: Read regulations; review guidance document; plan strategy | B5: 3 | C5: 20 | G5: 0.33 | H5: =(SUM(B5:D5))*G5 -> 7.59 | I5: =((B5*'Base Tables'!$D$13)+(C5*'Base Tables'!$D$14)+(D5*'Base Tables'!$D$15)+E5+F5)*G5 -> 581.4138
A6: Clarify questions with EPA | C6: 3 | F6: 50 | G6: 0.33 | H6: =(SUM(B6:D6))*G6 -> 0.99 | I6: =((B6*'Base Tables'!$D$13)+(C6*'Base Tables'!$D$14)+(D6*'Base Tables'!$D$15)+E6+F6)*G6 -> 92.037
A7: Gather Information
A8: Identification of discharge | C8: 0.25 | G8: 0.33 | H8: =(SUM(B8:D8))*G8 -> 0.0825 | I8: =((B8*'Base Tables'!$D$13)+(C8*'Base Tables'!$D$14)+(D8*'Base Tables'!$D$15)+E8+F8)*G8 -> 6.29475
A9: Definition of waters in NDZ | C9: 4 | G9: 0.33 | H9: =(SUM(B9:D9))*G9 -> 1.32 | I9: =((B9*'Base Tables'!$D$13)+(C9*'Base Tables'!$D$14)+(D9*'Base Tables'!$D$15)+E9+F9)*G9 -> 100.716
A10: Technical analysis showing why protection requires prohibition of the discharge | C10: 9 | G10: 0.33 | H10: =(SUM(B10:D10))*G10 -> 2.97 | I10: =((B10*'Base Tables'!$D$13)+(C10*'Base Tables'!$D$14)+(D10*'Base Tables'!$D$15)+E10+F10)*G10 -> 226.611
A11: Description of discharge removal facilities | B11: 1.25 | C11: 9 | G11: 0.33 | H11: =(SUM(B11:D11))*G11 -> 3.3825 | I11: =((B11*'Base Tables'!$D$13)+(C11*'Base Tables'!$D$14)+(D11*'Base Tables'!$D$15)+E11+F11)*G11 -> 259.04175
A12: Information on regulation of this discharge from non-Armed Forces vessels | C12: 2.75 | G12: 0.33 | H12: =(SUM(B12:D12))*G12 -> 0.9075 | I12: =((B12*'Base Tables'!$D$13)+(C12*'Base Tables'!$D$14)+(D12*'Base Tables'!$D$15)+E12+F12)*G12 -> 69.24225
A13: Create information (analyze data and compile/write Request Letter) | B13: 8 | C13: 70 | D13: 10 | F13: 40 | G13: 0.33 | H13: =(SUM(B13:D13))*G13 -> 29.04 | I13: =((B13*'Base Tables'!$D$13)+(C13*'Base Tables'!$D$14)+(D13*'Base Tables'!$D$15)+E13+F13)*G13 -> 2137.5948
A14: Review information | B14: 8 | C14: 32 | D14: 8 | G14: 0.33 | H14: =(SUM(B14:D14))*G14 -> 15.84 | I14: =((B14*'Base Tables'!$D$13)+(C14*'Base Tables'!$D$14)+(D14*'Base Tables'!$D$15)+E14+F14)*G14 -> 1136.7312
A15: Complete paperwork (e.g., Request Letter) | B15: 3 | D15: 3 | F15: 10 | G15: 0.33 | H15: =(SUM(B15:D15))*G15 -> 1.98 | I15: =((B15*'Base Tables'!$D$13)+(C15*'Base Tables'!$D$14)+(D15*'Base Tables'!$D$15)+E15+F15)*G15 -> 127.4262
A16: Copy, store, file, and maintain information | D16: 3 | F16: 50 | G16: 0.33 | H16: =(SUM(B16:D16))*G16 -> 0.99 | I16: =((B16*'Base Tables'!$D$13)+(C16*'Base Tables'!$D$14)+(D16*'Base Tables'!$D$15)+E16+F16)*G16 -> 62.7924
A17: Subtotal (hours and costs) | B17: =SUM(B4:B16) -> 23.25 | C17: =SUM(C4:C16) -> 150 | D17: =SUM(D4:D16) -> 24 | E17: =SUM(E4:E16) -> 0 | F17: =SUM(F4:F16) -> 150 | G17: =1/3 -> 0.33333333 | H17: =SUM(H4:H16) -> 65.0925 | I17: =SUM(I4:I16) -> 4799.9012

Sheet Table 3
A1: Table 3. UNDS Petition for Review, Respondent (State Agency) Burden Hours and Costs (40 CFR 1700.12)
A2: Information Collection Activity | B2: Hours and Costs Per Respondent | G2: Total Hours per Year
B3: Mgmt. | C3: Technical | D3: Admin. | E3: Capital/Startup Cost ($) | F3: O&M Cost ($)* | G3: Number Respon./Year | H3: Total Hours/Year | I3: Total Cost/Year ($)
A4: Request Preparation
A5: Read regulations; review guidance document; plan strategy | B5: 1 | C5: 4 | G5: 0.33 | H5: =(SUM(B5:D5))*G5 -> 1.65 | I5: =((B5*'Base Tables'!$D$13)+(C5*'Base Tables'!$D$14)+(D5*'Base Tables'!$D$15)+E5+F5)*G5 -> 126.6606
A6: Clarify questions with EPA | C6: 1 | F6: 50 | G6: 0.33 | H6: =(SUM(B6:D6))*G6 -> 0.33 | I6: =((B6*'Base Tables'!$D$13)+(C6*'Base Tables'!$D$14)+(D6*'Base Tables'!$D$15)+E6+F6)*G6 -> 41.679
A7: Gather Information
A8: Identification of discharge | C8: 0.25 | G8: 0.33 | H8: =(SUM(B8:D8))*G8 -> 0.0825 | I8: =((B8*'Base Tables'!$D$13)+(C8*'Base Tables'!$D$14)+(D8*'Base Tables'!$D$15)+E8+F8)*G8 -> 6.29475
A9: Scientific and technical information on which petition is based | B9: 1 | C9: 8 | D9: 1 | G9: 0.33 | H9: =(SUM(B9:D9))*G9 -> 3.3 | I9: =((B9*'Base Tables'!$D$13)+(C9*'Base Tables'!$D$14)+(D9*'Base Tables'!$D$15)+E9+F9)*G9 -> 242.8074
A10: Explanation on how information relates to statutory factors | B10: 0.5 | C10: 2 | G10: 0.33 | H10: =(SUM(B10:D10))*G10 -> 0.825 | I10: =((B10*'Base Tables'!$D$13)+(C10*'Base Tables'!$D$14)+(D10*'Base Tables'!$D$15)+E10+F10)*G10 -> 63.3303
A11: Create information (analyze data and interpret data) | B11: 1 | C11: 16 | D11: 2 | F11: 40 | G11: 0.33 | H11: =(SUM(B11:D11))*G11 -> 6.27 | I11: =((B11*'Base Tables'!$D$13)+(C11*'Base Tables'!$D$14)+(D11*'Base Tables'!$D$15)+E11+F11)*G11 -> 472.8702
A12: Review petition information for accuracy and make determination | B12: 2 | C12: 4 | D12: 4 | F12: 10 | G12: 0.33 | H12: =(SUM(B12:D12))*G12 -> 3.3 | I12: =((B12*'Base Tables'!$D$13)+(C12*'Base Tables'!$D$14)+(D12*'Base Tables'!$D$15)+E12+F12)*G12 -> 217.6284
A13: Complete paperwork (e.g., Petition) | B13: 2 | D13: 2 | G13: 0.33 | H13: =(SUM(B13:D13))*G13 -> 1.32 | I13: =((B13*'Base Tables'!$D$13)+(C13*'Base Tables'!$D$14)+(D13*'Base Tables'!$D$15)+E13+F13)*G13 -> 82.7508
A14: Disclose information (i.e., Federal Register notices) | G14: 0.33 | H14: =(SUM(B14:D14))*G14 -> 0 | I14: =((B14*'Base Tables'!$D$13)+(C14*'Base Tables'!$D$14)+(D14*'Base Tables'!$D$15)+E14+F14)*G14 -> 0
A15: Copy, store, file, and maintain information | D15: 2 | F15: 50 | G15: 0.33 | H15: =(SUM(B15:D15))*G15 -> 0.66 | I15: =((B15*'Base Tables'!$D$13)+(C15*'Base Tables'!$D$14)+(D15*'Base Tables'!$D$15)+E15+F15)*G15 -> 47.3616
A16: Subtotal (hours and costs) | B16: =SUM(B4:B15) -> 7.5 | C16: =SUM(C4:C15) -> 35.25 | D16: =SUM(D4:D15) -> 11 | E16: =SUM(E4:E15) -> 0 | F16: =SUM(F4:F15) -> 150 | G16: =1/3 -> 0.33333333 | H16: =SUM(H4:H15) -> 17.7375 | I16: =SUM(I4:I15) -> 1301.3831

Sheet Table 4
A1: Table 4. UNDS No-Discharge Zone by State Prohibition, Agency (EPA) Burden Hours and Costs (40 CFR 1700.9)
A2: Information Collection Activity | B2: Hours and Costs Per Respondent | G2: Total Hours per Year
B3: Mgmt. (GS-14) | C3: Technical (GS-12) | D3: Admin. (GS-9) | E3: Capital/Startup Cost ($) | F3: O&M Cost ($)* | G3: Number Respon./Year | H3: Total Hours/Year | I3: Total Cost/Year ($)
A4: Request Preparation
A5: Read regulations; review guidance document; plan strategy | H5: =(SUM(B5:D5))*G5 -> 0 | I5: =((B5*'Base Tables'!$D$16)+(C5*'Base Tables'!$D$17)+(D5*'Base Tables'!$D$18)+E5+F5)*G5 -> 0
A6: Clarify questions with EPA | C6: 2 | G6: 0.33 | H6: =(SUM(B6:D6))*G6 -> 0.66 | I6: =((B6*'Base Tables'!$D$16)+(C6*'Base Tables'!$D$17)+(D6*'Base Tables'!$D$18)+E6+F6)*G6 -> 51.995308
A7: Gather Information
A8: Identification of discharge | H8: =(SUM(B8:D8))*G8 -> 0 | I8: =((B8*'Base Tables'!$D$16)+(C8*'Base Tables'!$D$17)+(D8*'Base Tables'!$D$18)+E8+F8)*G8 -> 0
A9: Definition of waters in NDZ | H9: =(SUM(B9:D9))*G9 -> 0 | I9: =((B9*'Base Tables'!$D$16)+(C9*'Base Tables'!$D$17)+(D9*'Base Tables'!$D$18)+E9+F9)*G9 -> 0
A10: Determination of necessity for greater environmental protection | H10: =(SUM(B10:D10))*G10 -> 0 | I10: =((B10*'Base Tables'!$D$16)+(C10*'Base Tables'!$D$17)+(D10*'Base Tables'!$D$18)+E10+F10)*G10 -> 0
A11: Description of discharge removal facilities | H11: =(SUM(B11:D11))*G11 -> 0 | I11: =((B11*'Base Tables'!$D$16)+(C11*'Base Tables'!$D$17)+(D11*'Base Tables'!$D$18)+E11+F11)*G11 -> 0
A12: Information on regulation of this discharge from non-Armed Forces vessels | H12: =(SUM(B12:D12))*G12 -> 0 | I12: =((B12*'Base Tables'!$D$16)+(C12*'Base Tables'!$D$17)+(D12*'Base Tables'!$D$18)+E12+F12)*G12 -> 0
A13: Create information (analyze data and compile/write Request Letter) | H13: =(SUM(B13:D13))*G13 -> 0 | I13: =((B13*'Base Tables'!$D$16)+(C13*'Base Tables'!$D$17)+(D13*'Base Tables'!$D$18)+E13+F13)*G13 -> 0
A14: Review information and make determination | B14: 4 | C14: 16 | G14: 0.33 | H14: 6.6 | I14: =((B14*'Base Tables'!$D$16)+(C14*'Base Tables'!$D$17)+(D14*'Base Tables'!$D$18)+E14+F14)*G14 -> 562.08951
A15: Complete paperwork (e.g., Replyt Letter) | B15: 1.5 | D15: 1.5 | F15: 10 | G15: 0.33 | H15: =(SUM(B15:D15))*G15 -> 0.99 | I15: =((B15*'Base Tables'!$D$16)+(C15*'Base Tables'!$D$17)+(D15*'Base Tables'!$D$18)+E15+F15)*G15 -> 84.988708
A16: Copy, store, file, and maintain information | D16: 1.5 | F16: 50 | G16: 0.33 | H16: =(SUM(B16:D16))*G16 -> 0.495 | I16: =((B16*'Base Tables'!$D$16)+(C16*'Base Tables'!$D$17)+(D16*'Base Tables'!$D$18)+E16+F16)*G16 -> 43.391065
A17: Subtotal (hours and costs) | B17: =SUM(B4:B16) -> 5.5 | C17: =SUM(C4:C16) -> 18 | D17: =SUM(D4:D16) -> 3 | E17: =SUM(E4:E16) -> 0 | F17: =SUM(F4:F16) -> 60 | G17: =1/3 -> 0.33333333 | H17: =SUM(H4:H16) -> 8.745 | I17: =SUM(I4:I16) -> 742.46459

Sheet Table 5
A1: Table 5. UNDS No-Discharge Zone by EPA Prohibition, Agency (EPA) Burden Hours and Costs (40 CFR 1700.10)
A2: Information Collection Activity | B2: Hours and Costs Per Respondent | G2: Total Hours per Year
B3: Mgmt. (GS-14) | C3: Technical (GS-12) | D3: Admin. (GS-9) | E3: Capital/Startup Cost ($) | F3: O&M Cost ($)* | G3: Number Respon./Year | H3: Total Hours/Year | I3: Total Cost/Year ($)
A4: Request Preparation
A5: Read regulations; review guidance document; plan strategy | H5: =(SUM(B5:D5))*G5 -> 0 | I5: =((B5*'Base Tables'!$D$16)+(C5*'Base Tables'!$D$17)+(D5*'Base Tables'!$D$18)+E5+F5)*G5 -> 0
A6: Clarify questions with EPA | C6: 2 | G6: 0.33 | H6: =(SUM(B6:D6))*G6 -> 0.66 | I6: =((B6*'Base Tables'!$D$16)+(C6*'Base Tables'!$D$17)+(D6*'Base Tables'!$D$18)+E6+F6)*G6 -> 51.995308
A7: Gather Information
A8: Identification of discharge | H8: =(SUM(B8:D8))*G8 -> 0 | I8: =((B8*'Base Tables'!$D$16)+(C8*'Base Tables'!$D$17)+(D8*'Base Tables'!$D$18)+E8+F8)*G8 -> 0
A9: Definition of waters in NDZ | H9: =(SUM(B9:D9))*G9 -> 0 | I9: =((B9*'Base Tables'!$D$16)+(C9*'Base Tables'!$D$17)+(D9*'Base Tables'!$D$18)+E9+F9)*G9 -> 0
A10: Technical analysis showing why protection requires prohibition of the discharge | H10: =(SUM(B10:D10))*G10 -> 0 | I10: =((B10*'Base Tables'!$D$16)+(C10*'Base Tables'!$D$17)+(D10*'Base Tables'!$D$18)+E10+F10)*G10 -> 0
A11: Description of discharge removal facilities | H11: =(SUM(B11:D11))*G11 -> 0 | I11: =((B11*'Base Tables'!$D$16)+(C11*'Base Tables'!$D$17)+(D11*'Base Tables'!$D$18)+E11+F11)*G11 -> 0
A12: Information on regulation of this discharge from non-Armed Forces vessels | H12: =(SUM(B12:D12))*G12 -> 0 | I12: =((B12*'Base Tables'!$D$16)+(C12*'Base Tables'!$D$17)+(D12*'Base Tables'!$D$18)+E12+F12)*G12 -> 0
A13: Create information (analyze and interpret data) | H13: =(SUM(B13:D13))*G13 -> 0 | I13: =((B13*'Base Tables'!$D$16)+(C13*'Base Tables'!$D$17)+(D13*'Base Tables'!$D$18)+E13+F13)*G13 -> 0
A14: Review information and make determination | B14: 4 | C14: 16 | G14: 0.33 | H14: =(SUM(B14:D14))*G14 -> 6.6 | I14: =((B14*'Base Tables'!$D$16)+(C14*'Base Tables'!$D$17)+(D14*'Base Tables'!$D$18)+E14+F14)*G14 -> 562.08951
A15: Complete paperwork (e.g., Reply Letter) | B15: 1.5 | D15: 1.5 | F15: 10 | G15: 0.33 | H15: =(SUM(B15:D15))*G15 -> 0.99 | I15: =((B15*'Base Tables'!$D$16)+(C15*'Base Tables'!$D$17)+(D15*'Base Tables'!$D$18)+E15+F15)*G15 -> 84.988708
A16: Disclose information (i.e., Federal Register notices) | B16: 1 | C16: 4 | D16: 2 | G16: 0.33 | H16: =(SUM(B16:D16))*G16 -> 2.31 | I16: =((B16*'Base Tables'!$D$16)+(C16*'Base Tables'!$D$17)+(D16*'Base Tables'!$D$18)+E16+F16)*G16 -> 176.37713
A17: Copy, store, file, and maintain information | D17: 1.5 | F17: 50 | G17: 0.33 | H17: =(SUM(B17:D17))*G17 -> 0.495 | I17: =((B17*'Base Tables'!$D$16)+(C17*'Base Tables'!$D$17)+(D17*'Base Tables'!$D$18)+E17+F17)*G17 -> 43.391065
A18: Subtotal (hours and costs) | B18: =SUM(B4:B17) -> 6.5 | C18: =SUM(C4:C17) -> 22 | D18: =SUM(D4:D17) -> 5 | E18: =SUM(E4:E17) -> 0 | F18: =SUM(F4:F17) -> 60 | G18: =1/3 -> 0.33333333 | H18: =SUM(H4:H17) -> 11.055 | I18: =SUM(I4:I17) -> 918.84172

Sheet Table 6
A1: Table 6. UNDS Petition for Review, Agency (EPA) Burden Hours and Costs (40 CFR 1700.12)
A2: Information Collection Activity | B2: Hours and Costs Per Respondent | G2: Total Hours per Year
B3: Mgmt. (GS-14) | C3: Technical (GS-12) | D3: Admin. (GS-9) | E3: Capital/Startup Cost ($) | F3: O&M Cost ($)* | G3: Number Respon./Year | H3: Total Hours/Year | I3: Total Cost/Year ($)
A4: Request Preparation
A5: Read regulations; review guidance document; plan strategy | H5: =(SUM(B5:D5))*G5 -> 0 | I5: =((B5*'Base Tables'!$D$16)+(C5*'Base Tables'!$D$17)+(D5*'Base Tables'!$D$18)+E5+F5)*G5 -> 0
A6: Clarify questions with EPA | C6: 2 | G6: 0.33 | H6: =(SUM(B6:D6))*G6 -> 0.66 | I6: =((B6*'Base Tables'!$D$16)+(C6*'Base Tables'!$D$17)+(D6*'Base Tables'!$D$18)+E6+F6)*G6 -> 51.995308
A7: Gather Information
A8: Identification of discharge or standard | H8: =(SUM(B8:D8))*G8 -> 0 | I8: =((B8*'Base Tables'!$D$16)+(C8*'Base Tables'!$D$17)+(D8*'Base Tables'!$D$18)+E8+F8)*G8 -> 0
A9: Scientific and technical information on which petition is based | H9: =(SUM(B9:D9))*G9 -> 0 | I9: =((B9*'Base Tables'!$D$16)+(C9*'Base Tables'!$D$17)+(D9*'Base Tables'!$D$18)+E9+F9)*G9 -> 0
A10: Explanation on how information relates to statutory factors | H10: =(SUM(B10:D10))*G10 -> 0 | I10: =((B10*'Base Tables'!$D$16)+(C10*'Base Tables'!$D$17)+(D10*'Base Tables'!$D$18)+E10+F10)*G10 -> 0
A11: Create information (analyze and interpret data) | H11: =(SUM(B11:D11))*G11 -> 0 | I11: =((B11*'Base Tables'!$D$16)+(C11*'Base Tables'!$D$17)+(D11*'Base Tables'!$D$18)+E11+F11)*G11 -> 0
A12: Review information and make determination | B12: 4 | C12: 16 | G12: 0.33 | H12: =(SUM(B12:D12))*G12 -> 6.6 | I12: =((B12*'Base Tables'!$D$16)+(C12*'Base Tables'!$D$17)+(D12*'Base Tables'!$D$18)+E12+F12)*G12 -> 562.08951
A13: Complete paperwork (e.g., Reply Letter) | B13: 1.5 | D13: 1.5 | F13: 10 | G13: 0.33 | H13: =(SUM(B13:D13))*G13 -> 0.99 | I13: =((B13*'Base Tables'!$D$16)+(C13*'Base Tables'!$D$17)+(D13*'Base Tables'!$D$18)+E13+F13)*G13 -> 84.988708
A14: Disclose information (i.e., Federal Register notices) | B14: 1 | C14: 4 | D14: 2 | G14: 0.33 | H14: =(SUM(B14:D14))*G14 -> 2.31 | I14: =((B14*'Base Tables'!$D$16)+(C14*'Base Tables'!$D$17)+(D14*'Base Tables'!$D$18)+E14+F14)*G14 -> 176.37713
A15: Copy, store, file, and maintain information | D15: 1.5 | F15: 50 | G15: 0.33 | H15: =(SUM(B15:D15))*G15 -> 0.495 | I15: =((B15*'Base Tables'!$D$16)+(C15*'Base Tables'!$D$17)+(D15*'Base Tables'!$D$18)+E15+F15)*G15 -> 43.391065
A16: Subtotal (hours and costs) | B16: =SUM(B4:B15) -> 6.5 | C16: =SUM(C4:C15) -> 22 | D16: =SUM(D4:D15) -> 5 | E16: =SUM(E4:E15) -> 0 | F16: =SUM(F4:F15) -> 60 | G16: =1/3 -> 0.33333333 | H16: =SUM(H4:H15) -> 11.055 | I16: =SUM(I4:I15) -> 918.84172

Sheet Table 7
A1: Table 7. Total Estimated Respondent (State Agency) Burden and Cost Summary for Establishing NDZs for UNDS (CWA Section 312(n))
B2: Number of Respon. Per Year | C2: Number of Activities Per Year | D2: Total Number of Hours Per Year | E2: Total Labor Cost Per Year ($) | F2: Total Annual Capital Costs ($) | G2: Total Annual O&M Costs ($) | H2: Total Cost Per Year ($)
A3: No-discharge Zone by State Prohibition [40 CFR § 1700.9; Table 1] | B3: ='Table 1'!G17 -> 0.33333333 | C3: =B3 -> 0.33333333 | D3: ='Table 1'!H17 -> 60.1425 | E3: =H3-G3-F3 -> 4372.2162 | F3: ='Table 1'!E17 -> 0 | G3: ='Table 1'!F17*'Table 1'!G17 -> 50 | H3: ='Table 1'!I17 -> 4422.2162
A4: No-discharge Zone by EPA Prohibition [40 CFR § 1700.10; Table 2] | B4: ='Table 2'!G17 -> 0.33333333 | C4: =B4 -> 0.33333333 | D4: ='Table 2'!H17 -> 65.0925 | E4: =H4-G4-F4 -> 4749.9012 | F4: ='Table 2'!E17 -> 0 | G4: ='Table 2'!F17*'Table 2'!G17 -> 50 | H4: ='Table 2'!I17 -> 4799.9012
A5: Petition for Review [40 CFR § 1700.12; Table 3 | B5: ='Table 3'!G16 -> 0.33333333 | C5: =B5 -> 0.33333333 | D5: ='Table 3'!H16 -> 17.7375 | E5: =H5-G5-F5 -> 1251.3831 | F5: ='Table 3'!E16 -> 0 | G5: ='Table 3'!F16*'Table 3'!G16 -> 50 | H5: ='Table 3'!I16 -> 1301.3831
A6: TOTAL | B6: =SUM(B3:B5) -> 1 | C6: =SUM(C3:C5) -> 1 | D6: =SUM(D3:D5) -> 142.9725 | E6: =SUM(E3:E5) -> 10373.5 | F6: =SUM(F3:F5) -> 0 | G6: =SUM(G3:G5) -> 150 | H6: =SUM(H3:H5) -> 10523.5

Sheet Table 8
A1: Table 8. Total Estimated Agency Burden and Cost Summary for Establishing UNDS NDZs (CWA Section 312(n))
B2: Number of Respon. Per Year | C2: Number of Activities Per Year | D2: Total Number of Hours Per Year | E2: Total Labor Cost Per Year ($) | F2: Total Annual Capital Costs ($) | G2: Total Annual O&M Costs ($) | H2: Total Cost Per Year ($)
A3: No-discharge Zone by State Prohibition [40 CFR § 1700.9; Table 4] | B3: ='Table 4'!G17 -> 0.33333333 | C3: =B3 -> 0.33333333 | D3: ='Table 4'!H17 -> 8.745 | E3: =H3-G3-F3 -> 722.46459 | F3: ='Table 4'!E17 -> 0 | G3: ='Table 4'!F17*'Table 4'!G17 -> 20 | H3: ='Table 4'!I17 -> 742.46459
A4: No-discharge Zone by EPA Prohibition [40 CFR § 1700.10; Table 5] | B4: ='Table 5'!G18 -> 0.33333333 | C4: =B4 -> 0.33333333 | D4: ='Table 5'!H18 -> 11.055 | E4: =H4-G4-F4 -> 898.84172 | F4: ='Table 5'!E18 -> 0 | G4: ='Table 5'!F18*'Table 5'!G18 -> 20 | H4: ='Table 5'!I18 -> 918.84172
A5: Petition for Review [40 CFR § 1700.12; Table 6 | B5: ='Table 6'!G16 -> 0.33333333 | C5: =B5 -> 0.33333333 | D5: ='Table 6'!H16 -> 11.055 | E5: =H5-G5-F5 -> 898.84172 | F5: ='Table 6'!E16 -> 0 | G5: ='Table 6'!F16*'Table 6'!G16 -> 20 | H5: ='Table 6'!I16 -> 918.84172
A6: TOTAL | B6: =SUM(B3:B5) -> 1 | C6: =SUM(C3:C5) -> 1 | D6: =SUM(D3:D5) -> 30.855 | E6: =SUM(E3:E5) -> 2520.148 | F6: =SUM(F3:F5) -> 0 | G6: =SUM(G3:G5) -> 60 | H6: =SUM(H3:H5) -> 2580.148

Sheet Not Numbered
A1: Estimated Respondent (State Agency) Burden and Cost Summary for Establishing NDZs for Vessel Sewage under CWA 312(f) (from table 15)
B2: Number of Respondents Per Year | C2: Number of Activities Per Year | D2: Total Hours Per Year | E2: Total Labor Cost Per Year ($) | F2: Total Annual O&M Costs ($) | G2: Total Cost Per Year ($)
A3: TOTAL | B3: ='Table 15'!B6 -> 1.6666667 | C3: ='Table 15'!C6 -> 1.6666667 | D3: ='Table 15'!D6 -> 315.325 | E3: ='Table 15'!E6 -> 23050.027 | F3: ='Table 15'!G6 -> 250 | G3: ='Table 15'!H6 -> 23300.027
A5: Estimated Agency (EPA) Burden and Cost Summary for Establishing NDZs for Vessel Sewage under CWA 312(f) (from table 16)
B6: Number of Respondents Per Year | C6: Number of Activities Per Year | D6: Total Hours Per Year | E6: Total Labor Cost Per Year ($) | F6: Total Annual O&M Costs ($) | G6: Total Cost Per Year ($)
A7: TOTAL | B7: ='Table 16'!B6 -> 1.6666667 | C7: ='Table 16'!C6 -> 1.6666667 | D7: ='Table 16'!D6 -> 99.695 | E7: ='Table 16'!E6 -> 8173.8879 | F7: ='Table 16'!G6 -> 100 | G7: ='Table 16'!H6 -> 8273.8879

Sheet Table 9
A1: Table 9. Sewage No-Discharge Zone Applications under 40 CFR 140.4(a), Respondent (State Agency) Burden Hours and Costs (CWA Section 312(f)(3))
A2: Information Collection Activity | B2: Hours and Costs Per Respondent | G2: Total Hours per Year
B3: Mgmt. | C3: Technical | D3: Admin. | E3: Capital/Startup Cost ($) | F3: O&M Cost ($)* | G3: Number Respon./Year | H3: Total Hours/Year | I3: Total Cost/Year ($)
A4: 1. Request Preparation
A5: a. Read regulations; review guidance document; plan strategy | C5: 4 | G5: 1 | H5: =(SUM(B5:D5))*G5 -> 4 | I5: =((B5*'Base Tables'!$D$13)+(C5*'Base Tables'!$D$14)+(D5*'Base Tables'!$D$15)+E5+F5)*G5 -> 305.2
A6: b. Clarify questions with EPA | C6: 1 | F6: 50 | G6: 1 | H6: =(SUM(B6:D6))*G6 -> 1 | I6: =((B6*'Base Tables'!$D$13)+(C6*'Base Tables'!$D$14)+(D6*'Base Tables'!$D$15)+E6+F6)*G6 -> 126.3
A7: 2. Gather Information
A8: a. Certification of necessity for greater environmental protection | C8: 16 | G8: 1 | H8: =(SUM(B8:D8))*G8 -> 16 | I8: =((B8*'Base Tables'!$D$13)+(C8*'Base Tables'!$D$14)+(D8*'Base Tables'!$D$15)+E8+F8)*G8 -> 1220.8
A9: b. Pumpout facility map | C9: 12 | G9: 1 | H9: =(SUM(B9:D9))*G9 -> 12 | I9: =((B9*'Base Tables'!$D$13)+(C9*'Base Tables'!$D$14)+(D9*'Base Tables'!$D$15)+E9+F9)*G9 -> 915.6
A10: c. Description of pumpout facilities | C10: 4 | G10: 1 | H10: =(SUM(B10:D10))*G10 -> 4 | I10: =((B10*'Base Tables'!$D$13)+(C10*'Base Tables'!$D$14)+(D10*'Base Tables'!$D$15)+E10+F10)*G10 -> 305.2
A11: d. Schedule of operating hours of pumpout facilities | C11: 1.5 | G11: 1 | H11: =(SUM(B11:D11))*G11 -> 1.5 | I11: =((B11*'Base Tables'!$D$13)+(C11*'Base Tables'!$D$14)+(D11*'Base Tables'!$D$15)+E11+F11)*G11 -> 114.45
A12: e. Draft requirements and water depth adjacent to pumpout facilities | C12: 1.5 | G12: 1 | H12: =(SUM(B12:D12))*G12 -> 1.5 | I12: =((B12*'Base Tables'!$D$13)+(C12*'Base Tables'!$D$14)+(D12*'Base Tables'!$D$15)+E12+F12)*G12 -> 114.45
A13: f. Waste disposal methods for pumpout facilities | C13: 1.5 | G13: 1 | H13: =(SUM(B13:D13))*G13 -> 1.5 | I13: =((B13*'Base Tables'!$D$13)+(C13*'Base Tables'!$D$14)+(D13*'Base Tables'!$D$15)+E13+F13)*G13 -> 114.45
A14: g. Vessel population and vessel usage | C14: 20 | G14: 1 | H14: =(SUM(B14:D14))*G14 -> 20 | I14: =((B14*'Base Tables'!$D$13)+(C14*'Base Tables'!$D$14)+(D14*'Base Tables'!$D$15)+E14+F14)*G14 -> 1526
A15: 3. Create information (analyze data and compile/write application) | C15: 80 | D15: 10 | F15: 40 | G15: 1 | H15: =(SUM(B15:D15))*G15 -> 90 | I15: =((B15*'Base Tables'!$D$13)+(C15*'Base Tables'!$D$14)+(D15*'Base Tables'!$D$15)+E15+F15)*G15 -> 6611.6
A16: 4. Review and edit information for accuracy | B16: 8 | C16: 40 | D16: 8 | G16: 1 | H16: =(SUM(B16:D16))*G16 -> 56 | I16: =((B16*'Base Tables'!$D$13)+(C16*'Base Tables'!$D$14)+(D16*'Base Tables'!$D$15)+E16+F16)*G16 -> 4055.04
A17: 5. Complete paperwork (e.g., submittal letter) | B17: 1 | C17: 3 | D17: 3 | F17: 10 | G17: 1 | H17: =(SUM(B17:D17))*G17 -> 7 | I17: =((B17*'Base Tables'!$D$13)+(C17*'Base Tables'!$D$14)+(D17*'Base Tables'!$D$15)+E17+F17)*G17 -> 457.8
A18: 6. Disclose information (i.e., Federal Register notices) | G18: 1 | H18: =(SUM(B18:D18))*G18 -> 0 | I18: =((B18*'Base Tables'!$D$13)+(C18*'Base Tables'!$D$14)+(D18*'Base Tables'!$D$15)+E18+F18)*G18 -> 0
A19: 7. Copy, store, file, and maintain information | C19: 1 | F19: 50 | G19: 1 | H19: =(SUM(B19:D19))*G19 -> 1 | I19: =((B19*'Base Tables'!$D$13)+(C19*'Base Tables'!$D$14)+(D19*'Base Tables'!$D$15)+E19+F19)*G19 -> 126.3
A20: Subtotal (hours and costs) | B20: =SUM(B4:B19) -> 9 | C20: =SUM(C4:C19) -> 185.5 | D20: =SUM(D4:D19) -> 21 | E20: =SUM(E4:E19) -> 0 | F20: =SUM(F4:F19) -> 150 | G20: 1 | H20: =SUM(H4:H19) -> 215.5 | I20: =SUM(I4:I19) -> 15993.19

Sheet Table 10
A1: Table 11. Sewage No-Discharge Zone Applications under 40 CFR 140.4(b), Respondent (State Agency) Burden Hours and Costs (CWA Section 312(f)(4)(A))
A2: Information Collection Activity | B2: Hours and Costs Per Respondent | G2: Total Hours per Year
B3: Mgmt. | C3: Technical | D3: Admin. | E3: Capital/Startup Cost ($) | F3: O&M Cost ($)* | G3: Number Respon./Year | H3: Total Hours/Year | I3: Total Cost/Year ($)
A4: 1. Request Preparation
A5: a. Read regulations; review guidance document; plan strategy | B5: 1 | C5: 5.5 | G5: 0.33 | H5: =(SUM(B5:D5))*G5 -> 2.145 | I5: =((B5*'Base Tables'!$D$13)+(C5*'Base Tables'!$D$14)+(D5*'Base Tables'!$D$15)+E5+F5)*G5 -> 164.4291
A6: b. Clarify questions with EPA | C6: 10 | F6: 50 | G6: 0.33 | H6: =(SUM(B6:D6))*G6 -> 3.3 | I6: =((B6*'Base Tables'!$D$13)+(C6*'Base Tables'!$D$14)+(D6*'Base Tables'!$D$15)+E6+F6)*G6 -> 268.29
A7: 2. Gather Information
A8: a. Specification of the waters or portions thereof for which a complete prohibition is desired | B8: 1 | C8: 2 | G8: 0.33 | H8: =(SUM(B8:D8))*G8 -> 0.99 | I8: =((B8*'Base Tables'!$D$13)+(C8*'Base Tables'!$D$14)+(D8*'Base Tables'!$D$15)+E8+F8)*G8 -> 76.3026
A9: b. Identification of water recreational areas | B9: 1 | C9: 2 | G9: 0.33 | H9: =(SUM(B9:D9))*G9 -> 0.99 | I9: =((B9*'Base Tables'!$D$13)+(C9*'Base Tables'!$D$14)+(D9*'Base Tables'!$D$15)+E9+F9)*G9 -> 76.3026
A10: c. Identification of aquatic sanctuaries | B10: 1 | C10: 2 | G10: 0.33 | H10: =(SUM(B10:D10))*G10 -> 0.99 | I10: =((B10*'Base Tables'!$D$13)+(C10*'Base Tables'!$D$14)+(D10*'Base Tables'!$D$15)+E10+F10)*G10 -> 76.3026
A11: d. Identification of identifiable fish-spawning and nursery areas | B11: 1 | C11: 2 | G11: 0.33 | H11: =(SUM(B11:D11))*G11 -> 0.99 | I11: =((B11*'Base Tables'!$D$13)+(C11*'Base Tables'!$D$14)+(D11*'Base Tables'!$D$15)+E11+F11)*G11 -> 76.3026
A12: e. Identification of areas of intensive boating activities | B12: 1 | C12: 2 | G12: 0.33 | H12: =(SUM(B12:D12))*G12 -> 0.99 | I12: =((B12*'Base Tables'!$D$13)+(C12*'Base Tables'!$D$14)+(D12*'Base Tables'!$D$15)+E12+F12)*G12 -> 76.3026
A13: f. A map of the waters to be designated as an NDZ | B13: 1 | C13: 2 | G13: 0.33 | H13: =(SUM(B13:D13))*G13 -> 0.99 | I13: =((B13*'Base Tables'!$D$13)+(C13*'Base Tables'!$D$14)+(D13*'Base Tables'!$D$15)+E13+F13)*G13 -> 76.3026
A14: 3. Create information (analyze data and compile/write application) | B14: 2 | C14: 45 | D14: 10 | F14: 40 | G14: 0.33 | H14: =(SUM(B14:D14))*G14 -> 18.81 | I14: =((B14*'Base Tables'!$D$13)+(C14*'Base Tables'!$D$14)+(D14*'Base Tables'!$D$15)+E14+F14)*G14 -> 1352.4522
A15: 4. Review and edit information for accuracy | B15: 10 | C15: 40 | D15: 8 | G15: 0.33 | H15: =(SUM(B15:D15))*G15 -> 19.14 | I15: =((B15*'Base Tables'!$D$13)+(C15*'Base Tables'!$D$14)+(D15*'Base Tables'!$D$15)+E15+F15)*G15 -> 1390.0524
A16: 5. Complete paperwork (e.g., submittal letter) | B16: 1 | C16: 3 | D16: 3 | F16: 10 | G16: 0.33 | H16: =(SUM(B16:D16))*G16 -> 2.31 | I16: =((B16*'Base Tables'!$D$13)+(C16*'Base Tables'!$D$14)+(D16*'Base Tables'!$D$15)+E16+F16)*G16 -> 151.074
A17: 6. Disclose information (i.e., Federal Register notices) | G17: 0.33 | H17: =(SUM(B17:D17))*G17 -> 0 | I17: =((B17*'Base Tables'!$D$13)+(C17*'Base Tables'!$D$14)+(D17*'Base Tables'!$D$15)+E17+F17)*G17 -> 0
A18: 7. Copy, store, file, and maintain information | D18: 1.5 | F18: 50 | G18: 0.33 | H18: =(SUM(B18:D18))*G18 -> 0.495 | I18: =((B18*'Base Tables'!$D$13)+(C18*'Base Tables'!$D$14)+(D18*'Base Tables'!$D$15)+E18+F18)*G18 -> 39.6462
A19: Subtotal (hours and costs) | B19: =SUM(B4:B18) -> 20 | C19: =SUM(C4:C18) -> 115.5 | D19: =SUM(D4:D18) -> 22.5 | E19: =SUM(E4:E18) -> 0 | F19: =SUM(F4:F18) -> 150 | G19: =1/3 -> 0.33333333 | H19: =SUM(H4:H18) -> 52.14 | I19: =SUM(I4:I18) -> 3823.7595

Sheet Table 11
A1: Table 13. Sewage No-Discharge Zone Applications under 40 CFR 140.4(c), Respondent (State Agency) Burden Hours and Costs (CWA Section 312(f)(4)(B))
A2: Information Collection Activity | B2: Hours and Costs Per Respondent | G2: Total Hours per Year
B3: Mgmt. | C3: Technical | D3: Admin. | E3: Capital/Startup Cost ($) | F3: O&M Cost ($)* | G3: Number Respon./Year | H3: Total Hours/Year | I3: Total Cost/Year ($)
A4: 1. Request Preparation
A5: a. Read regulations; review guidance document; plan strategy | B5: 2 | C5: 16 | G5: 0.33 | H5: =(SUM(B5:D5))*G5 -> 5.94 | I5: =((B5*'Base Tables'!$D$13)+(C5*'Base Tables'!$D$14)+(D5*'Base Tables'!$D$15)+E5+F5)*G5 -> 454.7532
A6: b. Clarify questions with EPA | C6: 3 | F6: 50 | G6: 0.33 | H6: =(SUM(B6:D6))*G6 -> 0.99 | I6: =((B6*'Base Tables'!$D$13)+(C6*'Base Tables'!$D$14)+(D6*'Base Tables'!$D$15)+E6+F6)*G6 -> 92.037
A7: 2. Gather Information
A8: a. Specification of the waters or portions thereof for which a complete prohibition is desired | B8: 1 | C8: 6 | G8: 0.33 | H8: =(SUM(B8:D8))*G8 -> 2.31 | I8: =((B8*'Base Tables'!$D$13)+(C8*'Base Tables'!$D$14)+(D8*'Base Tables'!$D$15)+E8+F8)*G8 -> 177.0186
A9: b. Specification and description of the location of the drinking water supply intake(s) and the community served by the intakes | B9: 1 | C9: 3 | G9: 0.33 | H9: =(SUM(B9:D9))*G9 -> 1.32 | I9: =((B9*'Base Tables'!$D$13)+(C9*'Base Tables'!$D$14)+(D9*'Base Tables'!$D$15)+E9+F9)*G9 -> 101.4816
A10: c. A map of the waters to be designated as a drinking water intake zone | B10: 1 | C10: 3 | G10: 0.33 | H10: =(SUM(B10:D10))*G10 -> 1.32 | I10: =((B10*'Base Tables'!$D$13)+(C10*'Base Tables'!$D$14)+(D10*'Base Tables'!$D$15)+E10+F10)*G10 -> 101.4816
A11: d. A statement justifying the size of the requested drinking water intake zone | B11: 1 | C11: 2 | G11: 0.33 | H11: =(SUM(B11:D11))*G11 -> 0.99 | I11: =((B11*'Base Tables'!$D$13)+(C11*'Base Tables'!$D$14)+(D11*'Base Tables'!$D$15)+E11+F11)*G11 -> 76.3026
A12: 3. Create information (analyze data and compile/write application) | B12: 2 | C12: 35 | D12: 10 | F12: 40 | G12: 0.33 | H12: =(SUM(B12:D12))*G12 -> 15.51 | I12: =((B12*'Base Tables'!$D$13)+(C12*'Base Tables'!$D$14)+(D12*'Base Tables'!$D$15)+E12+F12)*G12 -> 1100.6622
A13: 4. Review and edit information for accuracy | B13: 10 | C13: 32 | D13: 8 | F13: 10 | G13: 0.33 | H13: =(SUM(B13:D13))*G13 -> 16.5 | I13: =((B13*'Base Tables'!$D$13)+(C13*'Base Tables'!$D$14)+(D13*'Base Tables'!$D$15)+E13+F13)*G13 -> 1191.9204
A14: 5. Complete paperwork (e.g., submittal letter) | B14: 1 | C14: 3 | D14: 3 | G14: 0.33 | H14: =(SUM(B14:D14))*G14 -> 2.31 | I14: =((B14*'Base Tables'!$D$13)+(C14*'Base Tables'!$D$14)+(D14*'Base Tables'!$D$15)+E14+F14)*G14 -> 147.774
A15: 6. Disclose information (i.e., Federal Register notices) | G15: 0.33 | H15: =(SUM(B15:D15))*G15 -> 0 | I15: =((B15*'Base Tables'!$D$13)+(C15*'Base Tables'!$D$14)+(D15*'Base Tables'!$D$15)+E15+F15)*G15 -> 0
A16: 7. Copy, store, file, and maintain information | D16: 1.5 | F16: 50 | G16: 0.33 | H16: =(SUM(B16:D16))*G16 -> 0.495 | I16: =((B16*'Base Tables'!$D$13)+(C16*'Base Tables'!$D$14)+(D16*'Base Tables'!$D$15)+E16+F16)*G16 -> 39.6462
A17: Subtotal (hours and costs) | B17: =SUM(B4:B16) -> 19 | C17: =SUM(C4:C16) -> 103 | D17: =SUM(D4:D16) -> 22.5 | E17: =SUM(E4:E16) -> 0 | F17: =SUM(F4:F16) -> 150 | G17: =1/3 -> 0.33333333 | H17: =SUM(H4:H16) -> 47.685 | I17: =SUM(I4:I16) -> 3483.0774

Sheet Table 12
A1: Table 10. Sewage No-Discharge Zone Application Review under 40 CFR 140.4(a), Agency (EPA) Burden Hours and Cost (CWA Section 312(f)(3))
A2: Information Collection Activity | B2: Hours and Costs Per Respondent | G2: Total Hours per Year
B3: Mgmt. (GS-14) | C3: Technical (GS-12) | D3: Admin. (GS-9) | E3: Capital/Startup Cost ($) | F3: O&M Cost ($)* | G3: Number Respon./Year | H3: Total Hours/Year | I3: Total Cost/Year ($)
A4: 1. Request Preparation
A5: a. Read regulations; review guidance document; plan strategy | G5: 1 | H5: =(SUM(B5:D5))*G5 -> 0 | I5: =((B5*'Base Tables'!$D$16)+(C5*'Base Tables'!$D$17)+(D5*'Base Tables'!$D$18)+E5+F5)*G5 -> 0
A6: b. Clarify questions with EPA | C6: 2 | G6: 1 | H6: =(SUM(B6:D6))*G6 -> 2 | I6: =((B6*'Base Tables'!$D$16)+(C6*'Base Tables'!$D$17)+(D6*'Base Tables'!$D$18)+E6+F6)*G6 -> 157.56154
A7: 2. Gather Information
A8: a. Certification of necessity for greater environmental protection | G8: 1 | H8: =(SUM(B8:D8))*G8 -> 0 | I8: =((B8*'Base Tables'!$D$16)+(C8*'Base Tables'!$D$17)+(D8*'Base Tables'!$D$18)+E8+F8)*G8 -> 0
A9: b. Pumpout facility map | G9: 1 | H9: =(SUM(B9:D9))*G9 -> 0 | I9: =((B9*'Base Tables'!$D$16)+(C9*'Base Tables'!$D$17)+(D9*'Base Tables'!$D$18)+E9+F9)*G9 -> 0
A10: c. Description of pumpout facilities | G10: 1 | H10: =(SUM(B10:D10))*G10 -> 0 | I10: =((B10*'Base Tables'!$D$16)+(C10*'Base Tables'!$D$17)+(D10*'Base Tables'!$D$18)+E10+F10)*G10 -> 0
A11: d. Schedule of operating hours of pumpout facilities | G11: 1 | H11: =(SUM(B11:D11))*G11 -> 0 | I11: =((B11*'Base Tables'!$D$16)+(C11*'Base Tables'!$D$17)+(D11*'Base Tables'!$D$18)+E11+F11)*G11 -> 0
A12: e. Draft requirements and water depth adjacent to pumpout facilities | G12: 1 | H12: =(SUM(B12:D12))*G12 -> 0 | I12: =((B12*'Base Tables'!$D$16)+(C12*'Base Tables'!$D$17)+(D12*'Base Tables'!$D$18)+E12+F12)*G12 -> 0
A13: f. Waste disposal methods for pumpout facilities | G13: 1 | H13: =(SUM(B13:D13))*G13 -> 0 | I13: =((B13*'Base Tables'!$D$16)+(C13*'Base Tables'!$D$17)+(D13*'Base Tables'!$D$18)+E13+F13)*G13 -> 0
A14: g. Vessel population and vessel usage | G14: 1 | H14: =(SUM(B14:D14))*G14 -> 0 | I14: =((B14*'Base Tables'!$D$16)+(C14*'Base Tables'!$D$17)+(D14*'Base Tables'!$D$18)+E14+F14)*G14 -> 0
A15: 3. Create information (analyze data and compile/write application) | G15: 1 | H15: =(SUM(B15:D15))*G15 -> 0 | I15: =((B15*'Base Tables'!$D$16)+(C15*'Base Tables'!$D$17)+(D15*'Base Tables'!$D$18)+E15+F15)*G15 -> 0
A16: 4. Review and edit information for accuracy | B16: 8 | C16: 48 | G16: 1 | H16: =(SUM(B16:D16))*G16 -> 56 | I16: =((B16*'Base Tables'!$D$16)+(C16*'Base Tables'!$D$17)+(D16*'Base Tables'!$D$18)+E16+F16)*G16 -> 4667.0954
A17: 5. Complete paperwork (e.g., submittal letter) | B17: 1.5 | D17: 1.5 | F17: 10 | G17: 1 | H17: =(SUM(B17:D17))*G17 -> 3 | I17: =((B17*'Base Tables'!$D$16)+(C17*'Base Tables'!$D$17)+(D17*'Base Tables'!$D$18)+E17+F17)*G17 -> 257.54154
A18: 6. Disclose information (i.e., Federal Register notices) | B18: 1 | C18: 4 | D18: 2 | G18: 1 | H18: =(SUM(B18:D18))*G18 -> 7 | I18: =((B18*'Base Tables'!$D$16)+(C18*'Base Tables'!$D$17)+(D18*'Base Tables'!$D$18)+E18+F18)*G18 -> 534.47615
A19: 7. Copy, store, file, and maintain information | D19: 1.5 | F19: 50 | G19: 1 | H19: =(SUM(B19:D19))*G19 -> 1.5 | I19: =((B19*'Base Tables'!$D$16)+(C19*'Base Tables'!$D$17)+(D19*'Base Tables'!$D$18)+E19+F19)*G19 -> 131.48808
A20: Subtotal (hours and costs) | B20: =SUM(B4:B19) -> 10.5 | C20: =SUM(C4:C19) -> 54 | D20: =SUM(D4:D19) -> 5 | E20: =SUM(E4:E19) -> 0 | F20: =SUM(F4:F19) -> 60 | G20: =3/3 -> 1 | H20: =SUM(H4:H19) -> 69.5 | I20: =SUM(I4:I19) -> 5748.1627

Sheet Table 13
A1: Table 12. Sewage No-Discharge Zone Application Review under 40 CFR 140.4(b), Agency (EPA) Burden Hours and Cost (CWA Section 312(f)(4)(A))
A2: Information Collection Activity | B2: Hours and Costs Per Respondent | G2: Total Hours per Year
B3: Mgmt. (GS-14) | C3: Technical (GS-12) | D3: Admin. (GS-9) | E3: Capital/Startup Cost ($) | F3: O&M Cost ($)* | G3: Number Respon./Year | H3: Total Hours/Year | I3: Total Cost/Year ($)
A4: 1. Request Preparation
A5: a. Read regulations; review guidance document; plan strategy | B5: 1 | C5: 2 | G5: 0.33 | H5: =(SUM(B5:D5))*G5 -> 0.99 | I5: =((B5*'Base Tables'!$D$16)+(C5*'Base Tables'!$D$17)+(D5*'Base Tables'!$D$18)+E5+F5)*G5 -> 88.527069
A6: b. Clarify questions with EPA | C6: 6 | G6: 0.33 | H6: =(SUM(B6:D6))*G6 -> 1.98 | I6: =((B6*'Base Tables'!$D$16)+(C6*'Base Tables'!$D$17)+(D6*'Base Tables'!$D$18)+E6+F6)*G6 -> 155.98592
A7: 2. Gather Information
A8: a. Specification of the waters or portions thereof for which a complete prohibition is desired | B8: 1 | C8: 3 | G8: 0.33 | H8: =(SUM(B8:D8))*G8 -> 1.32 | I8: =((B8*'Base Tables'!$D$16)+(C8*'Base Tables'!$D$17)+(D8*'Base Tables'!$D$18)+E8+F8)*G8 -> 114.52472
A9: b. Identification of water recreational areas | B9: 1 | C9: 2 | G9: 0.33 | H9: =(SUM(B9:D9))*G9 -> 0.99 | I9: =((B9*'Base Tables'!$D$16)+(C9*'Base Tables'!$D$17)+(D9*'Base Tables'!$D$18)+E9+F9)*G9 -> 88.527069
A10: c. Identification of aquatic sanctuaries | B10: 1 | C10: 3 | G10: 0.33 | H10: =(SUM(B10:D10))*G10 -> 1.32 | I10: =((B10*'Base Tables'!$D$16)+(C10*'Base Tables'!$D$17)+(D10*'Base Tables'!$D$18)+E10+F10)*G10 -> 114.52472
A11: d. Identification of identifiable fish-spawning and nursery areas | B11: 1 | C11: 2 | G11: 0.33 | H11: =(SUM(B11:D11))*G11 -> 0.99 | I11: =((B11*'Base Tables'!$D$16)+(C11*'Base Tables'!$D$17)+(D11*'Base Tables'!$D$18)+E11+F11)*G11 -> 88.527069
A12: e. Identification of areas of intensive boating activities | B12: 1 | C12: 2 | G12: 0.33 | H12: =(SUM(B12:D12))*G12 -> 0.99 | I12: =((B12*'Base Tables'!$D$16)+(C12*'Base Tables'!$D$17)+(D12*'Base Tables'!$D$18)+E12+F12)*G12 -> 88.527069
A13: f. A map of the waters to be designated as an NDZ | B13: 1 | C13: 2 | G13: 0.33 | H13: =(SUM(B13:D13))*G13 -> 0.99 | I13: =((B13*'Base Tables'!$D$16)+(C13*'Base Tables'!$D$17)+(D13*'Base Tables'!$D$18)+E13+F13)*G13 -> 88.527069
A14: 3. Create information (analyze data and compile/write application) | G14: 0.33 | H14: =(SUM(B14:D14))*G14 -> 0 | I14: =((B14*'Base Tables'!$D$16)+(C14*'Base Tables'!$D$17)+(D14*'Base Tables'!$D$18)+E14+F14)*G14 -> 0
A15: 4. Review and edit information for accuracy | B15: 1 | C15: 4 | D15: 2 | G15: 0.33 | H15: =(SUM(B15:D15))*G15 -> 2.31 | I15: =((B15*'Base Tables'!$D$16)+(C15*'Base Tables'!$D$17)+(D15*'Base Tables'!$D$18)+E15+F15)*G15 -> 176.37713
A16: 5. Complete paperwork (e.g., submittal letter) | C16: 1 | F16: 10 | G16: 0.33 | H16: =(SUM(B16:D16))*G16 -> 0.33 | I16: =((B16*'Base Tables'!$D$16)+(C16*'Base Tables'!$D$17)+(D16*'Base Tables'!$D$18)+E16+F16)*G16 -> 29.297654
A17: 6. Disclose information (i.e., Federal Register notices) | B17: 1 | C17: 4 | D17: 2 | G17: 0.33 | H17: =(SUM(B17:D17))*G17 -> 2.31 | I17: =((B17*'Base Tables'!$D$16)+(C17*'Base Tables'!$D$17)+(D17*'Base Tables'!$D$18)+E17+F17)*G17 -> 176.37713
A18: 7. Copy, store, file, and maintain information | D18: 1.5 | F18: 50 | G18: 0.33 | H18: =(SUM(B18:D18))*G18 -> 0.495 | I18: =((B18*'Base Tables'!$D$16)+(C18*'Base Tables'!$D$17)+(D18*'Base Tables'!$D$18)+E18+F18)*G18 -> 43.391065
A19: Subtotal (hours and costs) | B19: =SUM(B4:B18) -> 9 | C19: =SUM(C4:C18) -> 31 | D19: =SUM(D4:D18) -> 5.5 | E19: =SUM(E4:E18) -> 0 | F19: =SUM(F4:F18) -> 60 | G19: =1/3 -> 0.33333333 | H19: =SUM(H4:H18) -> 15.015 | I19: =SUM(I4:I18) -> 1253.1137

Sheet Table 14
A1: Table 14. Sewage No-Discharge Zone Application Review under 40 CFR 140.4(c), Agency (EPA) Burden Hours and Cost (CWA Section 312(f)(4)(B))
A2: Information Collection Activity | B2: Hours and Costs Per Respondent | G2: Total Hours per Year
B3: Mgmt. (GS-14) | C3: Technical (GS-12) | D3: Admin. (GS-9) | E3: Capital/Startup Cost ($) | F3: O&M Cost ($)* | G3: Number Respon./Year | H3: Total Hours/Year | I3: Total Cost/Year ($)
A4: 1. Request Preparation
A5: a. Read regulations; review guidance document; plan strategy | B5: 1 | C5: 2 | G5: 0.33 | H5: =(SUM(B5:D5))*G5 -> 0.99 | I5: =((B5*'Base Tables'!$D$16)+(C5*'Base Tables'!$D$17)+(D5*'Base Tables'!$D$18)+E5+F5)*G5 -> 88.527069
A6: b. Clarify questions with EPA | G6: 0.33 | H6: =(SUM(B6:D6))*G6 -> 0 | I6: =((B6*'Base Tables'!$D$16)+(C6*'Base Tables'!$D$17)+(D6*'Base Tables'!$D$18)+E6+F6)*G6 -> 0
A7: 2. Gather Information
A8: a. Specification of the waters or portions thereof for which a complete prohibition is desired | B8: 1 | C8: 3 | G8: 0.33 | H8: =(SUM(B8:D8))*G8 -> 1.32 | I8: =((B8*'Base Tables'!$D$16)+(C8*'Base Tables'!$D$17)+(D8*'Base Tables'!$D$18)+E8+F8)*G8 -> 114.52472
A9: b. Specification and description of the location of the drinking water supply intake(s) and the community served by the intakes | B9: 1 | C9: 2 | G9: 0.33 | H9: =(SUM(B9:D9))*G9 -> 0.99 | I9: =((B9*'Base Tables'!$D$16)+(C9*'Base Tables'!$D$17)+(D9*'Base Tables'!$D$18)+E9+F9)*G9 -> 88.527069
A10: c. A map of the waters to be designated as a drinking water intake zone | B10: 1 | C10: 3 | G10: 0.33 | H10: =(SUM(B10:D10))*G10 -> 1.32 | I10: =((B10*'Base Tables'!$D$16)+(C10*'Base Tables'!$D$17)+(D10*'Base Tables'!$D$18)+E10+F10)*G10 -> 114.52472
A11: d. A statement justifying the size of the requested drinking water intake zone | B11: 1 | C11: 2 | G11: 0.33 | H11: =(SUM(B11:D11))*G11 -> 0.99 | I11: =((B11*'Base Tables'!$D$16)+(C11*'Base Tables'!$D$17)+(D11*'Base Tables'!$D$18)+E11+F11)*G11 -> 88.527069
A12: 3. Create information (analyze data and compile/write application) | G12: 0.33 | H12: =(SUM(B12:D12))*G12 -> 0 | I12: =((B12*'Base Tables'!$D$16)+(C12*'Base Tables'!$D$17)+(D12*'Base Tables'!$D$18)+E12+F12)*G12 -> 0
A13: 4. Review and edit information for accuracy | B13: 1 | C13: 3 | G13: 0.33 | H13: =(SUM(B13:D13))*G13 -> 1.32 | I13: =((B13*'Base Tables'!$D$16)+(C13*'Base Tables'!$D$17)+(D13*'Base Tables'!$D$18)+E13+F13)*G13 -> 114.52472
A14: 5. Complete paperwork (e.g., submittal letter) | B14: 1 | C14: 3 | F14: 10 | G14: 0.33 | H14: =(SUM(B14:D14))*G14 -> 1.32 | I14: =((B14*'Base Tables'!$D$16)+(C14*'Base Tables'!$D$17)+(D14*'Base Tables'!$D$18)+E14+F14)*G14 -> 117.82472
A15: 6. Disclose information (i.e., Federal Register notices) | B15: 3 | C15: 12 | D15: 6 | G15: 0.33 | H15: =(SUM(B15:D15))*G15 -> 6.93 | I15: =((B15*'Base Tables'!$D$16)+(C15*'Base Tables'!$D$17)+(D15*'Base Tables'!$D$18)+E15+F15)*G15 -> 529.13139
A16: 7. Copy, store, file, and maintain information | F16: 50 | G16: 0.33 | H16: =(SUM(B16:D16))*G16 -> 0 | I16: =((B16*'Base Tables'!$D$16)+(C16*'Base Tables'!$D$17)+(D16*'Base Tables'!$D$18)+E16+F16)*G16 -> 16.5
A17: Subtotal (hours and costs) | B17: =SUM(B4:B16) -> 10 | C17: =SUM(C4:C16) -> 30 | D17: =SUM(D4:D16) -> 6 | E17: =SUM(E4:E16) -> 0 | F17: =SUM(F4:F16) -> 60 | G17: =1/3 -> 0.33333333 | H17: =SUM(H4:H16) -> 15.18 | I17: =SUM(I4:I16) -> 1272.6115

Sheet Table 15
A1: Table 15. Total Estimated Respondent (State Agency) Burden and Cost Summary for Establishing NDZs for Vessel Sewage (CWA Section 312(f))
B2: Number of Respon. Per Year | C2: Number of Activities Per Year | D2: Total Number of Hours Per Year | E2: Total Labor Cost Per Year ($) | F2: Total Annual Capital Costs ($) | G2: Total Annual O&M Costs ($) | H2: Total Cost Per Year ($)
A3: No-discharge Zone under 40 CFR 140.4(a); Table 9 | B3: ='Table 9'!G20 -> 1 | C3: =B3 -> 1 | D3: ='Table 9'!H20 -> 215.5 | E3: =H3-G3-F3 -> 15843.19 | F3: ='Table 9'!E20 -> 0 | G3: ='Table 9'!F20*'Table 9'!G20 -> 150 | H3: ='Table 9'!I20 -> 15993.19
A4: No-discharge Zone under 40 CFR 140.4(b); Table 10 | B4: ='Table 10'!G19 -> 0.33333333 | C4: =B4 -> 0.33333333 | D4: ='Table 10'!H19 -> 52.14 | E4: =H4-G4-F4 -> 3773.7595 | F4: ='Table 10'!E19 -> 0 | G4: ='Table 10'!F19*'Table 10'!G19 -> 50 | H4: ='Table 10'!I19 -> 3823.7595
A5: No-discharge Zone under 40 CFR 140.4(c); Table 11 | B5: ='Table 11'!G17 -> 0.33333333 | C5: =B5 -> 0.33333333 | D5: ='Table 11'!H17 -> 47.685 | E5: =H5-G5-F5 -> 3433.0774 | F5: ='Table 11'!E17 -> 0 | G5: ='Table 11'!F17*'Table 11'!G17 -> 50 | H5: ='Table 11'!I17 -> 3483.0774
A6: TOTAL | B6: =SUM(B3:B5) -> 1.6666667 | C6: =SUM(C3:C5) -> 1.6666667 | D6: =SUM(D3:D5) -> 315.325 | E6: =SUM(E3:E5) -> 23050.027 | F6: =SUM(F3:F5) -> 0 | G6: =SUM(G3:G5) -> 250 | H6: =SUM(H3:H5) -> 23300.027

Sheet Table 16
A1: Table 16. Total Estimated Agency (EPA) Burden and Cost Summary for Establishing NDZs for Vessel Sewage (CWA Section 312(f))
B2: Number of Respon. Per Year | C2: Number of Activities Per Year | D2: Total Number of Hours Per Year | E2: Total Labor Cost Per Year ($) | F2: Total Annual Capital Costs ($) | G2: Total Annual O&M Costs ($) | H2: Total Cost Per Year ($)
A3: No-discharge Zone under 40 CFR 140.4(a); Table 12 | B3: ='Table 12'!G20 -> 1 | C3: =B3 -> 1 | D3: ='Table 12'!H20 -> 69.5 | E3: =H3-G3-F3 -> 5688.1627 | F3: ='Table 12'!E20 -> 0 | G3: ='Table 12'!F20*B3 -> 60 | H3: ='Table 12'!I20 -> 5748.1627
A4: No-discharge Zone under 40 CFR 140.4(b); Table 13 | B4: ='Table 13'!G19 -> 0.33333333 | C4: =B4 -> 0.33333333 | D4: ='Table 13'!H19 -> 15.015 | E4: =H4-G4-F4 -> 1233.1137 | F4: ='Table 13'!E19 -> 0 | G4: ='Table 13'!F19*B4 -> 20 | H4: ='Table 13'!I19 -> 1253.1137
A5: No-discharge Zone under 40 CFR 140.4(c); Table 14 | B5: ='Table 14'!G17 -> 0.33333333 | C5: =B5 -> 0.33333333 | D5: ='Table 14'!H17 -> 15.18 | E5: =H5-G5-F5 -> 1252.6115 | F5: ='Table 14'!E17 -> 0 | G5: ='Table 14'!F17*B5 -> 20 | H5: ='Table 14'!I17 -> 1272.6115
A6: TOTAL | B6: =SUM(B3:B5) -> 1.6666667 | C6: =SUM(C3:C5) -> 1.6666667 | D6: =SUM(D3:D5) -> 99.695 | E6: =SUM(E3:E5) -> 8173.8879 | F6: =SUM(F3:F5) -> 0 | G6: =SUM(G3:G5) -> 100 | H6: =SUM(H3:H5) -> 8273.8879

Sheet Table 17
A1: Table 17. Total CWA Section 312 Estimated Respondent (State Agency) Burden and Cost Summary
B2: Number of Respondents Per Year | C2: Number of Activities Per Year | D2: Total Number of Hours Per Year | E2: Total Annual O&M Costs ($) | F2: Total Labor Cost Per Year ($) | G2: Total Cost Per Year ($)
A3: Armed Forces Vessels; Table 7 | B3: ='Table 7'!B6 -> 1 | C3: ='Table 7'!C6 -> 1 | D3: ='Table 7'!D6 -> 142.9725 | E3: ='Table 7'!G6 -> 150 | F3: ='Table 7'!E6 -> 10373.5 | G3: ='Table 7'!H6 -> 10523.5
A4: Vessel Sewage; Table 15 | B4: ='Table 15'!B6 -> 1.6666667 | C4: ='Table 15'!C6 -> 1.6666667 | D4: ='Table 15'!D6 -> 315.325 | E4: ='Table 15'!G6 -> 250 | F4: ='Table 15'!E6 -> 23050.027 | G4: ='Table 15'!H6 -> 23300.027
A5: Total | B5: =SUM(B3:B4) -> 2.6666667 | C5: =SUM(C3:C4) -> 2.6666667 | D5: =SUM(D3:D4) -> 458.2975 | E5: =SUM(E3:E4) -> 400 | F5: =SUM(F3:F4) -> 33423.527 | G5: =SUM(G3:G4) -> 33823.527

Sheet Table 18
A1: Table 18. Total CWA Section 312 Estimated Agency (EPA) Burden and Cost Summary
B2: Number of Respondents Per Year | C2: Number of Activities Per Year | D2: Total Number of Hours Per Year | E2: Total Annual O&M Costs ($) | F2: Total Labor Cost Per Year ($) | G2: Total Cost Per Year ($)
A3: Vessel Sewage; Table 16 | B3: ='Table 16'!B6 -> 1.6666667 | C3: ='Table 16'!C6 -> 1.6666667 | D3: ='Table 16'!D6 -> 99.695 | E3: ='Table 16'!G6 -> 100 | F3: ='Table 16'!E6 -> 8173.8879 | G3: ='Table 16'!H6 -> 8273.8879
A4: Armed Forces Vessels; Table 8 | B4: ='Table 8'!B6 -> 1 | C4: ='Table 8'!C6 -> 1 | D4: ='Table 8'!D6 -> 30.855 | E4: ='Table 8'!G6 -> 60 | F4: ='Table 8'!E6 -> 2520.148 | G4: ='Table 8'!H6 -> 2580.148
A5: Total | B5: =SUM(B3:B4) -> 2.6666667 | C5: =SUM(C3:C4) -> 2.6666667 | D5: =SUM(D3:D4) -> 130.55 | E5: =SUM(E3:E4) -> 160 | F5: =SUM(F3:F4) -> 10694.036 | G5: =SUM(G3:G4) -> 10854.036
