Workbook

Sheet Summary
B2: Summary
B3: Type of Respondent | C3: Total Responses per Year | D3: Total Hours per Year | E3: Total Cost per Year (Labor and Non-Labor)
B4: I-Biogas Producers | C4: ='I-Biogas Producers'!I22 -> 25723 | D4: ='I-Biogas Producers'!J22 -> 44203.3 | E4: ='I-Biogas Producers'!K22 -> 7134724.3
B5: II-RNG Producers | C5: ='II-RNG Producers'!I22 -> 38590 | D5: ='II-RNG Producers'!J22 -> 78736.72 | E5: ='II-RNG Producers'!K22 -> 12741553
B6: III-RNG Importers | C6: ='III-RNG Importers'!I21 -> 23244 | D6: ='III-RNG Importers'!J21 -> 13689.8 | E6: ='III-RNG Importers'!K21 -> 2017445
B7: IV-SFW | C7: ='IV-SFW'!I10 -> 1101 | D7: ='IV-SFW'!J10 -> 4331 | E7: ='IV-SFW'!K10 -> 510485
B8: V-Biogas Closed Distribution System RIN Generators | C8: ='V-RIN Generators'!I21 -> 3083 | D8: ='V-RIN Generators'!J21 -> 3709 | E8: ='V-RIN Generators'!K21 -> 470810
B9: VI-QAP Providers | C9: ='VI-QAP '!I14 -> 81 | D9: ='VI-QAP '!J14 -> 1057 | E9: ='VI-QAP '!K14 -> 187795 | F9: NOTE: QAP Providers perform third party services, are separate from other Third Parties because of they incur R&R burden directly.
B10: VII-RNG RIN separators | C10: ='VII -RNG RIN separators'!I17 -> 11569 | D10: ='VII -RNG RIN separators'!J17 -> 5705.4 | E10: ='VII -RNG RIN separators'!K17 -> 1238251
B11: VIII-Third Parties | C11: ='VIII - Third Parties'!I7 -> 2 | D11: ='VIII - Third Parties'!J7 -> 0 | E11: ='VIII - Third Parties'!K7 -> 0 | F11: NOTE: The 0 values are correct - hours and $ are billed to their clients in these estimates and are Purchased Services to them.
B12: IX-Producers of Renewable Fuel from Biogas used as biointermediate or RNG used as feedstock | C12: ='IX-Producers of RF Biogas'!I18 -> 846 | D12: ='IX-Producers of RF Biogas'!J18 -> 1246 | E12: ='IX-Producers of RF Biogas'!K18 -> 226780
B13: GRAND TOTAL | C13: =SUM(C4:C12) -> 104239 | D13: =SUM(D4:D12) -> 152678.22 | E13: =SUM(E4:E12) -> 24527843
B20: TOTAL NUMBER of Respondents:
B21: ='I-Biogas Producers'!G22+'II-RNG Producers'!G22+'III-RNG Importers'!G21+'IV-SFW'!G10+'V-RIN Generators'!G21+'VI-QAP '!G14+'VII -RNG RIN separators'!G17+'VIII - Third Parties'!G7+'IX-Producers of RF Biogas'!G18 -> 11057
B22: Non-Labor Costs* Only:
B23: ='I-Biogas Producers'!M22+'II-RNG Producers'!M22+'III-RNG Importers'!M21+'IV-SFW'!M10+'V-RIN Generators'!M21+'VI-QAP '!M14+'VII -RNG RIN separators'!M17+'VIII - Third Parties'!M7+'IX-Producers of RF Biogas'!M18+25000 -> 10724875
B24: ='I-Biogas Producers'!M22+'II-RNG Producers'!M22+'III-RNG Importers'!M21+'IV-SFW'!M10+'V-RIN Generators'!M21+'VI-QAP '!M16+'VII -RNG RIN separators'!M17+'VIII - Third Parties'!M9+'IX-Producers of RF Biogas'!M18 -> 10699875
B26: *Non-Labor Costs include capital, O&M, and purchased services.
B27: These costs are reflected in the "OMB Inventory."
B28: Of the total, $5,659,472 is purchased services and $25,000 is capital, O&M.

Sheet I-Biogas Producers
A1: Annual Respondent Burden and Cost by Type of Party
A2: Table I - Biogas Producers - assumes 176 domestic and 20 foreign respondents, for a total of 196: General Requirements in 40 CFR 80.105
A3: Information Collection Activity | C3: Hours and Cost | G3: Total Hours and Cost | L3: Forms & Notes
A4: Citation | B4: Activity | C4: Standard Industry Mix Hours/ Response | D4: Clerical Only Hours/ Response | E4: Purchased Services Hours/ Response | F4: Total Cost/ Response (dollars) | G4: Number of Respondents | H4: Number of Responses per party/year | I4: Total Number of Responses per Year | J4: Total Hours/ Year | K4: Total Cost/Year (Labor and Non-Labor) | M4: Non-Labor Only Portion of Column K (ALL PURCHASED SERVICES)
A5: 40 CFR Part 80
A6: §80.105, 80.135, 80. 1450, and 40 CFR part 1090 subpart I | B6: Reporting: Registration by Biogas Producers; set up initial system accounts with EPA | C6: 1 | D6: 0 | E6: 0 | F6: =(C6*'Labor Costs'!$F$9)+(D6*('Labor Costs'!$D$7))+(E6*'Labor Costs'!$F$10) -> 115 | G6: 10 | H6: 1 | I6: =G6*H6 -> 10 | J6: =(C6+D6+E6)*I6 -> 10 | K6: =F6*I6 -> 1150 | L6: OTAQREG; assumes 3 hours, divided by 3, to annualize for ICR. | M6: 0
A7: §80.105, 80.135, 80.1450, and 40 CFR part 1090, subpart I | B7: Reporting: Registration by Biogas Producers; submit company and facility program registration information under 80.135 and 1090.805 and perform necessary association with third parties (auditor) following forms & procedures | C7: 1 | D7: 0 | E7: 0 | F7: =(C7*'Labor Costs'!$F$9)+(D7*('Labor Costs'!$D$7))+(E7*'Labor Costs'!$F$10) -> 115 | G7: 10 | H7: 1 | I7: =G7*H7 -> 10 | J7: =(C7+D7+E7)*I7 -> 10 | K7: =F7*I7 -> 1150 | L7: OTAQREG; asumes 3 hours, divided by 3, to annualize for ICR. | M7: 0
A8: §80.105, 80.135, 80.1450, and 40 CFR part 1090, subpart I | B8: Reporting: Registration by Biogas Producers; providing all detail information in 80.135 | C8: 12 | D8: 0 | E8: 0 | F8: =(C8*'Labor Costs'!$F$9)+(D8*('Labor Costs'!$D$7))+(E8*'Labor Costs'!$F$10) -> 1380 | G8: 10 | H8: 1 | I8: =G8*H8 -> 10 | J8: =(C8+D8+E8)*I8 -> 120 | K8: =F8*I8 -> 13800 | L8: OTAQREG; assumes 36 hours, divided by 3, to annualize for ICR. | M8: 0
A9: §80.105, 80.135, 80.1450, and 40 CFR part 1090, supbart I | B9: Reporting: Registration by Biogas Producers; Third Party Engineering Review | C9: 0 | D9: 0 | E9: 16 | F9: =(C9*'Labor Costs'!$F$9)+(D9*('Labor Costs'!$D$7))+(E9*'Labor Costs'!$F$10) -> 4600 | G9: 10 | H9: 1 | I9: =G9*H9 -> 10 | J9: =(C9+D9+E9)*I9 -> 160 | K9: =F9*I9 -> 46000 | L9: OTAQREG; assumes 48 hours, divided by 3, to annualize for ICR. All purchased services. | M9: 46000
A10: §80.105, 80.135, 80.1450, 40 CFR part 1090 subpart I | B10: Reporting: Update registration as needed to reflect changes in information, etc. | C10: 0.5 | D10: 0 | E10: 0 | F10: =(C10*'Labor Costs'!$F$9)+(D10*('Labor Costs'!$D$7))+(E10*'Labor Costs'!$F$10) -> 57.5 | G10: 20 | H10: 1 | I10: 1 | J10: =(C10+D10+E10)*I10 -> 0.5 | K10: =F10*I10 -> 57.5 | L10: OTAQREG; assumes 10% of respondents do this each year of this ICR. | M10: 0
A11: §80.105, 80.140, 80.1451, 80.1452 | B11: Reporting: monthly batch reports that include detailed information about each batch of biogas, such as production date, volume, designation, etc. | C11: 0.5 | D11: 0 | E11: 0 | F11: =(C11*'Labor Costs'!$F$9)+(D11*('Labor Costs'!$D$7))+(E11*'Labor Costs'!$F$10) -> 57.5 | G11: 329 | H11: 12 | I11: =G11*H11 -> 3948 | J11: =(C11+D11+E11)*I11 -> 1974 | K11: =F11*I11 -> 227010 | L11: monthly RFS4100 | M11: 0
A12: §80.105, 80.140, 80.1451, 80.1452 | B12: Reporting: monthly batch reports that include detailed information about each batch of biogas, such as production date, volume, designation, etc.; all items listed in 80.140(b); RIN retirement for process heat | C12: 1 | D12: 0 | E12: 0 | F12: =(C12*'Labor Costs'!$F$9)+(D12*('Labor Costs'!$D$7))+(E12*'Labor Costs'!$F$10) -> 115 | G12: 329 | H12: 4 | I12: =G12*H12 -> 1316 | J12: =(C12+D12+E12)*I12 -> 1316 | K12: =F12*I12 -> 151340 | L12: quarterly RFS0107, RFS1700, RFS4000, RFS5400, as applicable | M12: 0
A13: §80.105, 80.145, 80.1454 | B13: Recordkeeping: Internal systems updates (e.g. to program PTDs and batch number generation) | C13: 8 | D13: 0 | E13: 0 | F13: =(C13*'Labor Costs'!$F$9)+(D13*('Labor Costs'!$D$7))+(E13*'Labor Costs'!$F$10) -> 920 | G13: 329 | H13: 1 | I13: =G13*H13 -> 329 | J13: =(C13+D13+E13)*I13 -> 2632 | K13: =F13*I13 -> 302680 | L13: One time burden; 24 hours divided by 3 years to annualize | M13: 0
A14: § 80.105, 80.145, 80.1454 | B14: Recordkeeping: Assign batch numbers to volumes | C14: 1 | D14: 0 | E14: 0 | F14: =(C14*'Labor Costs'!$F$9)+(D14*('Labor Costs'!$D$7))+(E14*'Labor Costs'!$F$10) -> 115 | G14: 329 | H14: 12 | I14: =G14*H14 -> 3948 | J14: =(C14+D14+E14)*I14 -> 3948 | K14: =F14*I14 -> 454020 | L14: Assumes one batch per month and a somewhat automated process. | M14: 0
A15: §80.105, 80.145, 80.1454 | B15: Recordkeeping: keep copies of registration, reporting, and other compliance records, PTDs under 80.155(a) and keep records specific to biogas production under 80.155(b), including contracts, affidavits, etc. | C15: 4 | D15: 0.1 | E15: 0 | F15: =(C15*'Labor Costs'!$F$9)+(D15*('Labor Costs'!$D$7))+(E15*'Labor Costs'!$F$10) -> 466.6 | G15: 329 | H15: 12 | I15: =G15*H15 -> 3948 | J15: =(C15+D15+E15)*I15 -> 16186.8 | K15: =F15*I15 -> 1842136.8 | L15: Assumes monthly and a customary business practice (CBP) process. Assumes a minimal amount of clerical oversight daily to ensure proper filing/retention throughout the compliance period. | M15: 0
A16: §80.105, 80.150 and §80.1453 or 40 CFR part 1090, subpart L, as applicable | B16: Recordkeeping: PTD requirements | C16: 1 | D16: 0 | E16: 0 | F16: =(C16*'Labor Costs'!$F$9)+(D16*('Labor Costs'!$D$7))+(E16*'Labor Costs'!$F$10) -> 115 | G16: 329 | H16: 12 | I16: =G16*H16 -> 3948 | J16: =(C16+D16+E16)*I16 -> 3948 | K16: =F16*I16 -> 454020 | L16: Assumes monthly frequency and a somewhat automated process; PTDs are CBP. | M16: 0
A17: §80.105, 80.155, and see 80.1426(f)(3)(vi) | B17: Recordkeeping: perform/retain records of sampling, testing and measurement. | C17: 0 | D17: 0 | E17: 1 | F17: =(C17*'Labor Costs'!$F$9)+(D17*('Labor Costs'!$D$7))+(E17*'Labor Costs'!$F$10) -> 287.5 | G17: 329 | H17: 12 | I17: =G17*H17 -> 3948 | J17: =(C17+D17+E17)*I17 -> 3948 | K17: =F17*I17 -> 1135050 | L17: Estimate assumes a monthly frequency. Assumes all purchased services. | M17: 1135050
A18: §80.105, 80.160 | B18: Reporting: additional requirements for Foreign Entities; letter from RCO, bond posting, English language translations, etc. requirements specific to foreign entities. | C18: 4 | D18: 0 | E18: 0 | F18: =(C18*'Labor Costs'!$F$9)+(D18*('Labor Costs'!$D$7))+(E18*'Labor Costs'!$F$10) -> 460 | G18: 20 | H18: 1 | I18: =G18*H18 -> 20 | J18: =(C18+D18+E18)*I18 -> 80 | K18: =F18*I18 -> 9200 | L18: CBP | M18: 0
A19: §80.105, 80.165 and 80.1464; 1090.1800 | B19: Reporting: Attest Engagements (annual) | C19: 0 | D19: 0 | E19: 24 | F19: =(C19*'Labor Costs'!$F$9)+(D19*('Labor Costs'!$D$7))+(E19*'Labor Costs'!$F$10) -> 6900 | G19: 329 | H19: 1 | I19: =G19*H19 -> 329 | J19: =(C19+D19+E19)*I19 -> 7896 | K19: =F19*I19 -> 2270100 | L19: Within system. Follow directions at https://www.epa.gov/fuels-registration-reporting-and-compliance-help/how-submit-attest-engagements | M19: 2270100
A20: §80.105, 80.170, 80.1469 et seq. | B20: Recordkeeping: related to participation in QAP | C20: 0.5 | D20: 0 | E20: 0 | F20: =(C20*'Labor Costs'!$F$9)+(D20*('Labor Costs'!$D$7))+(E20*'Labor Costs'!$F$10) -> 57.5 | G20: 329 | H20: 12 | I20: =G20*H20 -> 3948 | J20: =(C20+D20+E20)*I20 -> 1974 | K20: =F20*I20 -> 227010 | L20: We estimate all parties will participate in QAP. QAP reports are submitted by QAP providers and are shown on Tab VI-QAP of this Appendix. | M20: 0
A22: GRAND TOTAL | G22: =SUM(G6:G21) -> 3041 | I22: =SUM(I6:I21) -> 25723 | J22: =SUM(J6:J21) -> 44203.3 | K22: =SUM(K6:K21) -> 7134724.3 | M22: =SUM(M6:M21) -> 3451150
F24: Reporting | I24: =I19+I18+I12+I11+I10+I9+I7+I8+I6 -> 5654 | J24: =J19+J18+J12+J11+J10+J9+J7+J8+J6 -> 11566.5 | K24: =K19+K18+K12+K11+K10+K9+K7+K8+K6 -> 2719807.5 | M24: =M19+M18+M12+M11+M10+M9+M7+M8+M6 -> 2316100 | N24: =M24/I$22 -> 90.040042
F25: Recordkeeping | I25: =I20+I17+I16+I15+I14+I13 -> 20069 | J25: =J20+J17+J16+J15+J14+J13 -> 32636.8 | K25: =K20+K17+K16+K15+K14+K13 -> 4414916.8 | M25: =M20+M17+M16+M15+M14+M13 -> 1135050 | N25: =M25/I$22 -> 44.12588
L26: =I22/G22 -> 8.4587307
A27: Helpful Registration Links - new registrants and updates:
A28: How to Register a New Company in OTAQREG https://www.epa.gov/fuels-registration-reporting-and-compliance-help/how-register-new-company-facility-or-user-part-80
A29: How to Update Existing Companies Facilities and Users https://www.epa.gov/fuels-registration-reporting-and-compliance-help/how-update-existing-companies-facilities-and-users
A31: Links to User Guides:
A32: Engineering Review Submission Guide https://www.epa.gov/fuels-registration-reporting-and-compliance-help/user-guide-engineering-review-web-forms-otaqreg
A33: OTAQ DC FUEL User Guides https://www.epa.gov/fuels-registration-reporting-and-compliance-help/user-guides-otaqdcfuel-central-data-exchange-cdx
A34: RFS EMTS User Guide: https://www.epa.gov/fuels-registration-reporting-and-compliance-help/users-guide-epa-moderated-transaction-system-emts
A35: Attest Engagement Instructions: https://www.epa.gov/fuels-registration-reporting-and-compliance-help/how-submit-attest-engagements
A37: LIST OF NEW OR UPDATED RFS FORMS & INSTRUCTIONS ON TAB I - BIOGAS PRODUCERS: RFS0107, RFS1700, RFS4000, RFS4100, RFS5400

Sheet II-RNG Producers
A1: Annual Respondent Burden and Cost by Type of Party
A2: Table II - RNG Producers - assumes 100 currently registered domestic entities, plus 75 new across period covered by ICR; assumes 20 foreign, total of 195 parties. General requirements in 40 CFR 80.110.
A3: Information Collection Activity | C3: Hours and Cost | G3: Total Hours and Cost | L3: Forms & Notes
A4: Citation | B4: Activity | C4: Standard Industry Mix Hours/ Response | D4: Clerical Only Hours/ Response | E4: Purchased Services Hours/ Response | F4: Total Cost/ Response (dollars) | G4: Number of Respondents | H4: Number of Responses per party/year | I4: Total Number of Responses per Year | J4: Total Hours/ Year | K4: Total Cost/Year | M4: Non-Labor Only Portion of Column K (All Purchased Services ) | N4: Capital and O&M Costs
A5: 40 CFR part 80
A6: §80.110, 80.135, 80. 1450, 40 CFR part 1090, subpart I | B6: Reporting: Registration; set up initial system accounts with EPA | C6: 1 | D6: 0 | E6: 0 | F6: =(C6*'Labor Costs'!$F$9)+(D6*('Labor Costs'!$D$7))+(E6*'Labor Costs'!$F$10) -> 115 | G6: 10 | H6: 1 | I6: =G6*H6 -> 10 | J6: =(C6+D6+E6)*I6 -> 10 | K6: =F6*I6 -> 1150 | L6: New registrants; OTAQREG; assumes 3 hours, divided by 3, to annualize for ICR. 75 domestic plus 20 foreign | M6: 0
A7: §80.110, 80.135, 80.1450, 40 CFR part 1090, subpart I | B7: Reporting: submit company and facility program registration information under 80.135 and 1090.805 and perform necessary association with third parties (auditor) following forms & procedures | C7: 1 | D7: 0 | E7: 0 | F7: =(C7*'Labor Costs'!$F$9)+(D7*('Labor Costs'!$D$7))+(E7*'Labor Costs'!$F$10) -> 115 | G7: 10 | H7: 1 | I7: =G7*H7 -> 10 | J7: =(C7+D7+E7)*I7 -> 10 | K7: =F7*I7 -> 1150 | L7: New registrants; OTAQREG; asumes 3 hours, divided by 3, to annualize for ICR. 75 domestic plus 20 foreign | M7: 0
A8: §80.110, 80.135, 80.1450, 40 CFR part 1090, subpart I | B8: Reporting: Registration; including the specific registration items applicable to these parties under 80.135 | C8: 12 | D8: 0 | E8: 0 | F8: =(C8*'Labor Costs'!$F$9)+(D8*('Labor Costs'!$D$7))+(E8*'Labor Costs'!$F$10) -> 1380 | G8: 10 | H8: 1 | I8: =G8*H8 -> 10 | J8: 90 | K8: =F8*I8 -> 13800 | L8: New registrants; OTAQREG; assumes 36 hours, divided by 3, to annualize for ICR. 75 domestic plus 20 foreign | M8: 0
A9: §80.110, 80.135, 80.1450, subpart I | B9: Reporting: Update registration as needed to reflect changes in information and changes needed due to new regulation. | C9: 12 | D9: 0 | E9: 0 | F9: =(C9*'Labor Costs'!$F$9)+(D9*('Labor Costs'!$D$7))+(E9*'Labor Costs'!$F$10) -> 1380 | G9: 482 | H9: 1 | I9: =G9*H9 -> 482 | J9: =(C9+D9+E9)*I9 -> 5784 | K9: =F9*I9 -> 665160 | L9: OTAQREG; assumes 176 existing registrants will need to update registration. | M9: 0
A10: §80.110, 80.140, 80.1451 | B10: RNG RIN-less producer report | C10: 0.33 | D10: 0 | E10: 0 | F10: =(C10*'Labor Costs'!$F$9)+(D10*('Labor Costs'!$D$7))+(E10*'Labor Costs'!$F$10) -> 37.95 | G10: 482 | H10: 12 | I10: =G10*H10 -> 5784 | J10: =(C10+D10+E10)*I10 -> 1908.72 | K10: =F10*I10 -> 219502.8 | L10: monthly RFS4900 | M10: 0
A11: §80.110, 80.140, 80.1451, 80.1452 | B11: Reporting: EMTS (RIN generation/transactional reporting) | C11: 0.5 | D11: 0 | E11: 0 | F11: =(C11*'Labor Costs'!$F$9)+(D11*('Labor Costs'!$D$7))+(E11*'Labor Costs'!$F$10) -> 57.5 | G11: 482 | H11: 12 | I11: =G11*H11 -> 5784 | J11: =(C11+D11+E11)*I11 -> 2892 | K11: =F11*I11 -> 332580 | L11: Assumes one EMTS report per month | M11: 0
A12: §80.110, 80.140, 80.1451, 80.1452 | B12: Reporting: periodic submission of reports, as applicable: reporting parties who own RINs, RNG producer supplemental reporting, RNG RIN retirement reporting | C12: 1 | D12: 0 | E12: 0 | F12: =(C12*'Labor Costs'!$F$9)+(D12*('Labor Costs'!$D$7))+(E12*'Labor Costs'!$F$10) -> 115 | G12: 482 | H12: 4 | I12: =G12*H12 -> 1928 | J12: =(C12+D12+E12)*I12 -> 1928 | K12: =F12*I12 -> 221720 | L12: quarterly RFS0107 and quarterly RFS4800, quarterly 5400 | M12: 0
A13: §80.110, 80.145, 80.1454 | B13: Recordkeeping: Internal systems updates | C13: 8 | D13: 0 | E13: 0 | F13: =(C13*'Labor Costs'!$F$9)+(D13*('Labor Costs'!$D$7))+(E13*'Labor Costs'!$F$10) -> 920 | G13: 482 | H13: 1 | I13: =G13*H13 -> 482 | J13: =(C13+D13+E13)*I13 -> 3856 | K13: =F13*I13 -> 443440 | L13: One time burden; 24 hours divided by 3 years to annualize | M13: 0
A14: §80.110, 80.145, 80.1454 | B14: Recordkeeping: keep copies of registration, reporting, and other compliance records, PTDs under 80.155(a) and keep records specific to generation and assignment of RINs under 80.155(d), including contracts, affidavits, etc. | C14: 4 | D14: 0 | E14: 0 | F14: =(C14*'Labor Costs'!$F$9)+(D14*('Labor Costs'!$D$7))+(E14*'Labor Costs'!$F$10) -> 460 | G14: 482 | H14: 12 | I14: =G14*H14 -> 5784 | J14: =(C14+D14+E14)*I14 -> 23136 | K14: =F14*I14 -> 2660640 | L14: Assumes weekly and a customary business practice (CBP) process. Since information to be retained is somewhat detailed related to RIN generation and assignment, assumes appropriate amount of time for weekly oversight. | M14: 0
A15: §80.110, 80.155, and see 80.1426 | B15: Recordkeeping: install meters and then perform/retain records of sampling, testing and measurement. 80.110(f) contains specific RNG producer sampling, testing, measurement in paragraphs (i)-(iii) | C15: 1 | D15: 0 | E15: 12 | F15: =(C15*'Labor Costs'!$F$9)+(D15*('Labor Costs'!$D$7))+(E15*'Labor Costs'!$F$10) -> 3565 | G15: 482 | H15: 1 | I15: =G15*H15 -> 482 | J15: =(C15+D15+E15)*I15 -> 6266 | K15: =(F15*I15)+N15 -> 1743330 | L15: Estimate assumes a monthly frequency to keep records, for R&R, considers continuous monitoring in developing estimate. | M15: 1718330 | N15: 25000
A16: §80.110, 80.150 and §80.1453 or 40 CFR part 1090, subpart L, as applicable | B16: Recordkeeping: PTD requirements, including custodial PTDs | C16: 1.5 | D16: 0 | E16: 0 | F16: =(C16*'Labor Costs'!$F$9)+(D16*('Labor Costs'!$D$7))+(E16*'Labor Costs'!$F$10) -> 172.5 | G16: 482 | H16: 12 | I16: =G16*H16 -> 5784 | J16: =(C16+D16+E16)*I16 -> 8676 | K16: =F16*I16 -> 997740 | L16: Assumes monthly frequency and a somewhat automated process; PTDs are CBP. | M16: 0
A17: § 80.110, 80.145, 80.1454 | B17: Recordkeeping: Assign batch numbers | C17: 1 | D17: 0 | E17: 0 | F17: =(C17*'Labor Costs'!$F$9)+(D17*('Labor Costs'!$D$7))+(E17*'Labor Costs'!$F$10) -> 115 | G17: 482 | H17: 12 | I17: =G17*H17 -> 5784 | J17: =(C17+D17+E17)*I17 -> 5784 | K17: =F17*I17 -> 665160 | L17: Assumes monthly and a somewhat automated process. | M17: 0
A18: §80.110, 80.160 | B18: Reporting: additional requirements for foreign RNG producers | C18: 4 | D18: 0 | E18: 0 | F18: =(C18*'Labor Costs'!$F$9)+(D18*('Labor Costs'!$D$7))+(E18*'Labor Costs'!$F$10) -> 460 | G18: 20 | H18: 1 | I18: =G18*H18 -> 20 | J18: =(C18+D18+E18)*I18 -> 80 | K18: =F18*I18 -> 9200 | L18: CBP | M18: 0
A19: §80.165 and 80.1464 | B19: Reporting: Attest Engagements (annual) | C19: 0 | D19: 0 | E19: 32 | F19: =(C19*'Labor Costs'!$F$9)+(D19*('Labor Costs'!$D$7))+(E19*'Labor Costs'!$F$10) -> 9200 | G19: 482 | H19: 1 | I19: =G19*H19 -> 482 | J19: =(C19+D19+E19)*I19 -> 15424 | K19: =F19*I19 -> 4434400 | L19: Within system. Follow directions at https://www.epa.gov/fuels-registration-reporting-and-compliance-help/how-submit-attest-engagements | M19: 4434400
A20: §80.170, 80.1469 et seq. | B20: Recordkeeping: related to participation in QAP | C20: 0.5 | D20: 0 | E20: 0 | F20: =(C20*'Labor Costs'!$F$9)+(D20*('Labor Costs'!$D$7))+(E20*'Labor Costs'!$F$10) -> 57.5 | G20: 482 | H20: 12 | I20: =G20*H20 -> 5784 | J20: =(C20+D20+E20)*I20 -> 2892 | K20: =F20*I20 -> 332580 | L20: We estimate all parties will participate in QAP. QAP reports are submitted by QAP providers and are shown on Tab VI-QAP of this Appendix. | M20: 0
A22: GRAND TOTAL | G22: =SUM(G6:G21) -> 5352 | I22: =SUM(I8:I21) -> 38590 | J22: =SUM(J6:J21) -> 78736.72 | K22: =SUM(K6:K21) -> 12741553 | M22: =SUM(M6:M21,N15) -> 6177730
F24: Reporting | I24: =I19+I18+I12+I11+I10+I9+I7+I8+I6 -> 14510 | J24: =J19+J18+J12+J11+J10+J9+J7+J8+J6 -> 28126.72 | K24: =K19+K18+K12+K11+K10+K9+K7+K8+K6 -> 5898662.8 | M24: =M19+M18+M12+M11+M10+M9+M7+M8+M6 -> 4434400 | N24: =M24/I$22 -> 114.9106
F25: Recordkeeping | I25: =I20+I17+I16+I15+I14+I13 -> 24100 | J25: =J20+J17+J16+J15+J14+J13 -> 50610 | K25: =K20+K17+K16+K15+K14+K13 -> 6842890 | M25: =M20+M17+M16+M15+M14+M13+N15 -> 1743330 | N25: =M25/I$22 -> 45.175693
L26: =I22/G22 -> 7.2103886
A29: Notes to Table: Many of these respondents are already registered/performing recordkeeping and reporting under 2060-0725, 2060-0731, 2060-0740
A31: Helpful Registration Links - new registrants and updates:
A32: How to Register a New Company in OTAQREG https://www.epa.gov/fuels-registration-reporting-and-compliance-help/how-register-new-company-facility-or-user-part-80
A33: How to Update Existing Companies Facilities and Users https://www.epa.gov/fuels-registration-reporting-and-compliance-help/how-update-existing-companies-facilities-and-users
A35: Links to User Guides:
A36: Engineering Review Submission Guide https://www.epa.gov/fuels-registration-reporting-and-compliance-help/user-guide-engineering-review-web-forms-otaqreg
A37: OTAQ DC FUEL User Guides https://www.epa.gov/fuels-registration-reporting-and-compliance-help/user-guides-otaqdcfuel-central-data-exchange-cdx
A38: RFS EMTS User Guide: https://www.epa.gov/fuels-registration-reporting-and-compliance-help/users-guide-epa-moderated-transaction-system-emts
A39: Attest Engagement Instructions: https://www.epa.gov/fuels-registration-reporting-and-compliance-help/how-submit-attest-engagements
A41: LIST OF NEW OR UPDATED RFS FORMS & INSTRUCTIONS ON TAB II -RNG PRODUCERS: RFS0107, RFS4800, RFS4900, RFS5400

Sheet III-RNG Importers
A1: Annual Respondent Burden and Cost by Type of Party
A2: Table III - RNG Importers - assumes two respondents; one existing, one new; General requirements in 40 CFR 80.110.
A3: Information Collection Activity | C3: Hours and Cost | G3: Total Hours and Cost | L3: Forms & Notes
A4: Citation | B4: Activity | C4: Standard Industry Mix Hours/ Response | D4: Clerical Only Hours/ Response | E4: Purchased Services Hours/ Response | F4: Total Cost/ Response (dollars) | G4: Number of Respondents | H4: Number of Responses per party/year | I4: Total Number of Responses per Year | J4: Total Hours/ Year | K4: Total Cost/Year | M4: Non-Labor Only Portion of Column K (All Purchased Services )
A5: 40 CFR part 80
A7: §80.110, 80.135, 80. 1450, 40 CFR part 1090, subpart I | B7: Reporting: Registration; set up initial system accounts with EPA | C7: 1 | D7: 0 | E7: 0 | F7: =(C7*'Labor Costs'!$F$9)+(D7*('Labor Costs'!$D$7))+(E7*'Labor Costs'!$F$10) -> 115 | G7: 10 | H7: 1 | I7: =G7*H7 -> 10 | J7: =(C7+D7+E7)*I7 -> 10 | K7: =F7*I7 -> 1150 | L7: New registrants; OTAQREG; assumes 3 hours, divided by 3, to annualize for ICR. | M7: 0
A8: §80.110, 80.135, 80.1450, 40 CFR part 1090, subpart I | B8: Reporting: submit company and facility program registration information under 80.135 and 1090.805 and perform necessary association with third parties (auditor) following forms & procedures | C8: 1 | D8: 0 | E8: 0 | F8: =(C8*'Labor Costs'!$F$9)+(D8*('Labor Costs'!$D$7))+(E8*'Labor Costs'!$F$10) -> 115 | G8: 10 | H8: 1 | I8: =G8*H8 -> 10 | J8: =(C8+D8+E8)*I8 -> 10 | K8: =F8*I8 -> 1150 | L8: New registrants; OTAQREG; asumes 3 hours, divided by 3, to annualize for ICR. | M8: 0
A9: §80.110, 80.135, 80.1450, 40 CFR part 1090, subpart I | B9: Reporting: Registration; including the specific registration items applicable to these parties under 80.135 | C9: 12 | D9: 0 | E9: 0 | F9: =(C9*'Labor Costs'!$F$9)+(D9*('Labor Costs'!$D$7))+(E9*'Labor Costs'!$F$10) -> 1380 | G9: 10 | H9: 1 | I9: =G9*H9 -> 10 | J9: 90 | K9: =F9*I9 -> 13800 | L9: New registrants; OTAQREG; assumes 36 hours, divided by 3, to annualize for ICR. | M9: 0
A10: §80.110, 80.135, 80.1450, subpart I | B10: Reporting: Update registration as needed to reflect changes in information and changes needed due to new regulation. | C10: 12 | D10: 0 | E10: 0 | F10: =(C10*'Labor Costs'!$F$9)+(D10*('Labor Costs'!$D$7))+(E10*'Labor Costs'!$F$10) -> 1380 | G10: 10 | H10: 1 | I10: =G10*H10 -> 10 | J10: =(C10+D10+E10)*I10 -> 120 | K10: =F10*I10 -> 13800 | L10: Existing registrants; OTAQREG | M10: 0
A11: §80.80.110, 80.140, 80.1452 | B11: Reporting: EMTS (RIN generation/transactional reporting) | C11: 1 | D11: 0 | E11: 0 | F11: 253 | G11: 263 | H11: 12 | I11: =G11*H11 -> 3156 | J11: =(C11+D11+E11)*I11 -> 3156 | K11: =F11*I11 -> 798468 | L11: Assumes one EMTS report per month; EMTS | M11: 0
A12: §80.80.110, 80.140, 80.1452 | B12: Reporting: RNG importer who generates RINs for foreign producer | C12: 0.5 | D12: 0 | E12: 0 | F12: =(C12*'Labor Costs'!$F$9)+(D12*('Labor Costs'!$D$7))+(E12*'Labor Costs'!$F$10) -> 57.5 | G12: 2 | H12: 4 | I12: =G12*H12 -> 8 | J12: =(C12+D12+E12)*I12 -> 4 | K12: =F12*I12 -> 460 | L12: quarterly RFS0107
A13: §80.110, 80.145, 80.1454 | B13: Recordkeeping: Internal systems updates | C13: 8 | D13: 0 | E13: 0 | F13: =(C13*'Labor Costs'!$F$9)+(D13*('Labor Costs'!$D$7))+(E13*'Labor Costs'!$F$10) -> 920 | G13: 2 | H13: 1 | I13: =G13*H13 -> 2 | J13: =(C13+D13+E13)*I13 -> 16 | K13: =F13*I13 -> 1840 | L13: One time burden; 24 hours divided by 3 years to annualize | M13: 0
A14: §80.110, 80.145, 80.1454 | B14: Recordkeeping: keep copies of registration, reporting, and other compliance records, PTDs under 80.155(a) and keep records specific to generation and assignment of RINs under 80.155(d), including contracts, affidavits, etc. | C14: 1 | D14: 0 | E14: 0 | F14: 115 | G14: 263 | H14: 12 | I14: =G14*H14 -> 3156 | J14: =(C14+D14+E14)*I14 -> 3156 | K14: =F14*I14 -> 362940 | L14: Assumes monthly and a customary business practice (CBP) process. Since information to be retained is somewhat detailed related to RIN generation and assignment, assumes appropriate amount of time for weekly oversight. | M14: 0
A15: §80.110, 80.150 and §80.1453 or 40 CFR part 1090, subpart L, as applicable | B15: Recordkeeping: PTD requirements | C15: 0.05 | D15: 0 | E15: 0 | F15: =(C15*'Labor Costs'!$F$9)+(D15*('Labor Costs'!$D$7))+(E15*'Labor Costs'!$F$10) -> 5.75 | G15: 263 | H15: 52 | I15: =G15*H15 -> 13676 | J15: =(C15+D15+E15)*I15 -> 683.8 | K15: =F15*I15 -> 78637 | L15: Assumes weekly frequency and a somewhat automated process; PTDs are CBP. | M15: 0
A16: § 80.110, 80.145, 80.1454 | B16: Recordkeeping: Assign batch numbers | C16: 2 | D16: 0 | E16: 0 | F16: 230 | G16: 263 | H16: 12 | I16: =G16*H16 -> 3156 | J16: =(C16+D16+E16)*I16 -> 6312 | K16: =F16*I16 -> 725880 | L16: Assumes one batch per month and a somewhat automated process. | M16: 0
A17: §80.110, 80.160 | B17: Recordkeeping: independent third party determination; third party gives report to the regulated party who keeps it ; see detail in 80.160(h) | C17: 4 | D17: 0 | E17: 0 | F17: =(C17*'Labor Costs'!$F$9)+(D17*('Labor Costs'!$D$7))+(E17*'Labor Costs'!$F$10) -> 460 | G17: 2 | H17: 12 | I17: =G17*H17 -> 24 | J17: =(C17+D17+E17)*I17 -> 96 | K17: =F17*I17 -> 11040 | L17: Assumes one instance per month. | M17: 11040
A18: §80.110, 80.165 and 80.1464 | B18: Reporting: Attest Engagements (annual) | C18: 0 | D18: 0 | E18: 12 | F18: =(C18*'Labor Costs'!$F$9)+(D18*('Labor Costs'!$D$7))+(E18*'Labor Costs'!$F$10) -> 3450 | G18: 2 | H18: 1 | I18: =G18*H18 -> 2 | J18: =(C18+D18+E18)*I18 -> 24 | K18: =F18*I18 -> 6900 | L18: Within system. Follow directions at https://www.epa.gov/fuels-registration-reporting-and-compliance-help/how-submit-attest-engagements | M18: 6900
A19: §80.170, 80.1469 et seq. | B19: Recordkeeping: related to participation in QAP | C19: 0.5 | D19: 0 | E19: 0 | F19: =(C19*'Labor Costs'!$F$9)+(D19*('Labor Costs'!$D$7))+(E19*'Labor Costs'!$F$10) -> 57.5 | G19: 2 | H19: 12 | I19: =G19*H19 -> 24 | J19: =(C19+D19+E19)*I19 -> 12 | K19: =F19*I19 -> 1380 | L19: We estimate all parties will participate in QAP. QAP reports are submitted by QAP providers and are shown on Tab VI-QAP of this Appendix. | M19: 0
A21: GRAND TOTAL | G21: =SUM(G7:G20) -> 1102 | I21: =SUM(I7:I19) -> 23244 | J21: =SUM(J7:J19) -> 13689.8 | K21: =SUM(K7:K19) -> 2017445 | M21: =SUM(M7:M20) -> 17940
I22: Responses | J22: HRS | K22: Total Costs | M22: Non-Labor Costs | N22: Non-Labor $/response
F23: Reporting | I23: =I18+I11+I10+I9+I8+I6+I7+I5+I12 -> 3206 | J23: =J18+J11+J10+J9+J8+J6+J7+J5+J12 -> 3414 | K23: =K18+K11+K10+K9+K8+K6+K7+K5+K12 -> 835728 | M23: =M18+M11+M10+M9+M8+M6+M7+M5+M12 -> 6900 | N23: =M23/I$21 -> 0.2968508
F24: Recordkeeping | I24: =I19+I16+I15+I14+I13+I17 -> 20038 | J24: =J19+J16+J15+J14+J13+J17 -> 10275.8 | K24: =K19+K16+K15+K14+K13+K17 -> 1181717 | M24: =M19+M16+M15+M14+M13+M17 -> 11040 | N24: =M24/I$21 -> 0.47496128
K25: responses per respondent | L25: =I21/G21 -> 21.092559
A30: Helpful Registration Links - new registrants and updates:
A31: How to Register a New Company in OTAQREG https://www.epa.gov/fuels-registration-reporting-and-compliance-help/how-register-new-company-facility-or-user-part-80
A32: How to Update Existing Companies Facilities and Users https://www.epa.gov/fuels-registration-reporting-and-compliance-help/how-update-existing-companies-facilities-and-users
A34: Links to User Guides:
A36: OTAQ DC FUEL User Guides https://www.epa.gov/fuels-registration-reporting-and-compliance-help/user-guides-otaqdcfuel-central-data-exchange-cdx
A37: RFS EMTS User Guide: https://www.epa.gov/fuels-registration-reporting-and-compliance-help/users-guide-epa-moderated-transaction-system-emts
A38: Attest Engagement Instructions: https://www.epa.gov/fuels-registration-reporting-and-compliance-help/how-submit-attest-engagements
A40: LIST OF NEW OR UPDATED FORMS & INSTRUCTIONS ON TAB III - BIOGAS IMPORTERS: RFS0107

Sheet IV-SFW
A1: Annual Respondent Burden and Cost by Type of Party
A2: Table IV - Parties who Use Alternative Recorkdeeping for SFW: RF Producer or Biointermediate Producer who producers fuel from Separated yard waste, Separated food waste (SFW), or biogenic waste/fats/greases who uses feedstock aggregator; Alternative Recordkeeping provisions of 80.1479; assumes 35 RF Producers, 5 Biointermediate Producers, and 40 Feedstock Aggregators.
A3: Information Collection Activity | C3: Hours and Cost | G3: Total Hours and Cost | L3: Forms & Notes
A4: Citation | B4: Activity | C4: Standard Industry Mix Hours/ Response | D4: Clerical Only Hours/ Response | E4: Purchased Services Hours/ Response | F4: Total Cost/ Response (dollars) | G4: Number of Respondents | H4: Number of Responses per party/year | I4: Total Number of Responses per Year | J4: Total Hours/ Year | K4: Total Cost/Year | M4: Non-Labor Only Portion of Column K (Capital, O&M and Purchased Services)
A5: 80.1454, 80.1479, 1090.805 | B5: Reporting: Registration of Feedstock Aggregator | C5: 4 | D5: 0 | E5: 0 | F5: =(C5*'Labor Costs'!$F$9)+(D5*('Labor Costs'!$D$7))+(E5*'Labor Costs'!$F$10) -> 460 | G5: 5 | H5: 1 | I5: =G5*H5 -> 5 | J5: =(C5+D5+E5)*I5 -> 20 | K5: =F5*I5 -> 2300 | L5: OTAQREG | M5: 0
A6: 80.1471(f), 80.1479 | B6: Recordkeeping: RF Producer or Bioint Producer QAP; reports submitted by QAP provider, see Tab VI; recorkdeeping only | C6: 0 | D6: 0 | E6: 2 | F6: =(C6*'Labor Costs'!$F$9)+(D6*('Labor Costs'!$D$7))+(E6*'Labor Costs'!$F$10) -> 575 | G6: 35 | H6: 1 | I6: =G6*H6 -> 35 | J6: =(C6+D6+E6)*I6 -> 70 | K6: =F6*I6 -> 20125 | L6: We estimate RF producers, since biointermediate producers already required to participate in QAP. QAP reports are submitted by QAP providers and are shown on Tab VI-QAP of this Appendix. | M6: 20125
A7: 80.1454, 80.1479 | B7: Recordkeeping: feedstock aggregator to keep records for collection | C7: 4 | D7: 0 | E7: 0 | F7: =(C7*'Labor Costs'!$F$9)+(D7*('Labor Costs'!$D$7))+(E7*'Labor Costs'!$F$10) -> 460 | G7: 40 | H7: 1 | I7: =G7*H7 -> 40 | J7: =(C7+D7+E7)*I7 -> 160 | K7: =F7*I7 -> 18400 | L7: CBP | M7: 0
A8: 80.1453, 80.1479 | B8: Recordkeeping: PTD use | C8: 4 | D8: 0 | E8: 0 | F8: =(C8*'Labor Costs'!$F$9)+(D8*('Labor Costs'!$D$7))+(E8*'Labor Costs'!$F$10) -> 460 | G8: 85 | H8: 12 | I8: =G8*H8 -> 1020 | J8: =(C8+D8+E8)*I8 -> 4080 | K8: =F8*I8 -> 469200 | L8: CBP; assumes one PTD per month | M8: 0
A9: 80.1453(f), 80.1479 | B9: Recordkeeping: PTD requirements; initial programming by feedstock aggregator | C9: 4 | D9: 0 | E9: 0 | F9: =(C9*'Labor Costs'!$F$9)+(D9*('Labor Costs'!$D$7))+(E9*'Labor Costs'!$F$10) -> 460 | G9: 40 | H9: 1 | I9: 1 | J9: =H9*I9 -> 1 | K9: =(D9+E9+F9)*J9 -> 460 | L9: CBP; assumes 12 hour one-time burden divided by 3 years to annualize | M9: 0
A10: GRAND TOTAL | G10: =SUM(G5:G9) -> 205 | I10: =SUM(I5:I9) -> 1101 | J10: =SUM(J5:J9) -> 4331 | K10: =SUM(K5:K9) -> 510485 | M10: =SUM(M3:M9) -> 20125
I11: Responses | J11: HRS | K11: Total Costs | M11: Non-Labor Costs | N11: Non-Labor $/response
F12: Reporting | I12: =I5 -> 5 | J12: =J5 -> 20 | K12: =K5 -> 2300 | M12: =M5 -> 0 | N12: =M12/I$10 -> 0
F13: Recordkeeping | I13: =I6+I7+I8+I9 -> 1096 | J13: =J6+J7+J8+J9 -> 4311 | K13: =K6+K7+K8+K9 -> 508185 | M13: =M6+M7+M8+M9 -> 20125 | N13: =M13/I$10 -> 18.278837
K14: responses per respondent | L14: =I10/G10 -> 5.3707317
A15: Note to Table: These parties are already registered and conducting recordkeeping under 2060-0725, 2060-0731, 2060-0740; table address alternative recordkeeping only for them.
A16: Helpful Registration Links - new registrants and updates:
A17: How to Register a New Company in OTAQREG https://www.epa.gov/fuels-registration-reporting-and-compliance-help/how-register-new-company-facility-or-user-part-80
A18: How to Update Existing Companies Facilities and Users https://www.epa.gov/fuels-registration-reporting-and-compliance-help/how-update-existing-companies-facilities-and-users
A20: LIST OF NEW OR UPDATED FORMS & INSTRUCTIONS ON TAB IV - SFW: none
A21: (However, note that RFS0107 and RFS1700 forms that may already applicable to these parties under 2060-0725, 2060-0740 have minor edits with no additional burden.)

Sheet V-RIN Generators
A1: Annual Respondent Burden and Cost by Type of Party
A2: Table 4 - BCDS RIN Generators* - assumes 30 existing plus 5 new; 35 total
A3: Information Collection Activity | C3: Hours and Cost | G3: Total Hours and Cost | L3: Forms & Notes
A4: Citation | B4: Activity | C4: Standard Industry Mix Hours/ Response | D4: Clerical Only Hours/ Response | E4: Purchased Services Hours/ Response | F4: Total Cost/ Response (dollars) | G4: Number of Respondents | H4: Number of Responses per party/year | I4: Total Number of Responses per Year | J4: Total Hours/ Year | K4: Total Cost/Year | M4: Non-Labor Only Portion of Column K (Capital, O&M and Purchased Services)
A5: 40 CFR Part 80
A7: §80.110, 80.135, 80. 1450, 40 CFR part 1090, subpart I | B7: Reporting: Registration; set up initial system accounts with EPA | C7: 1 | D7: 0 | E7: 0 | F7: =(C7*'Labor Costs'!$F$9)+(D7*('Labor Costs'!$D$7))+(E7*'Labor Costs'!$F$10) -> 115 | G7: 5 | H7: 1 | I7: =G7*H7 -> 5 | J7: =(C7+D7+E7)*I7 -> 5 | K7: =F7*I7 -> 575 | L7: New registrants; OTAQREG; assumes 3 hours, divided by 3, to annualize for ICR. | M7: 0
A8: §80.110, 80.135, 80. 1450, 40 CFR part 1090, subpart I | B8: Reporting: Registration; updates registration as needed; for changes in information, address, etc. | C8: 1 | D8: 0 | E8: 0 | F8: =(C8*'Labor Costs'!$F$9)+(D8*('Labor Costs'!$D$7))+(E8*'Labor Costs'!$F$10) -> 115 | G8: 4 | H8: 1 | I8: =G8*H8 -> 4 | J8: 9 | K8: =F8*I8 -> 460 | L8: Assumes 10% of total parties | M8: 0
A9: §80.110, 80.135, 80.1450, 40 CFR part 1090, subpart I | B9: Reporting: submit company and facility program registration information under 80.145(e)(1) and 1090.805 and perform necessary association with third parties (auditor) following forms & procedures | C9: 1 | D9: 0 | E9: 0 | F9: =(C9*'Labor Costs'!$F$9)+(D9*('Labor Costs'!$D$7))+(E9*'Labor Costs'!$F$10) -> 115 | G9: 4 | H9: 1 | I9: =G9*H9 -> 4 | J9: =(C9+D9+E9)*I9 -> 4 | K9: =F9*I9 -> 460 | L9: New registrants; OTAQREG; asumes 3 hours, divided by 3, to annualize for ICR. | M9: 0
A10: §80.110, 80.140, 80.1451 | B10: Reporting: quarterly reports - biogas closed system under 80.140 | C10: 0.5 | D10: 0 | E10: 0 | F10: =(C10*'Labor Costs'!$F$9)+(D10*('Labor Costs'!$D$7))+(E10*'Labor Costs'!$F$10) -> 57.5 | G10: 35 | H10: 12 | I10: =G10*H10 -> 420 | J10: =(C10+D10+E10)*I10 -> 210 | K10: =F10*I10 -> 24150 | L10: monthly RFS5000 | M10: 0
A11: §80.110, 80.140, 80.1451 | B11: Reporting: quarterly reports - biogas closed system under 80.140 - dispensing report | C11: 0.5 | D11: 0 | E11: 0 | F11: =(C11*'Labor Costs'!$F$9)+(D11*('Labor Costs'!$D$7))+(E11*'Labor Costs'!$F$10) -> 57.5 | G11: 35 | H11: 12 | I11: =G11*H11 -> 420 | J11: =(C11+D11+E11)*I11 -> 210 | K11: =F11*I11 -> 24150 | L11: monthly RFS5100 | M11: 0
A12: §80.110, 80.140, 80.1451, 80.1452 | B12: Reporting: EMTS (RIN generation/transactional reporting) | C12: 1 | D12: 0 | E12: 0 | F12: =(C12*'Labor Costs'!$F$9)+(D12*('Labor Costs'!$D$7))+(E12*'Labor Costs'!$F$10) -> 115 | G12: 35 | H12: 12 | I12: =G12*H12 -> 420 | J12: =(C12+D12+E12)*I12 -> 420 | K12: =F12*I12 -> 48300 | L12: Assumes one EMTS report per week; EMTS; quarterly RFS0107; higher monthly frequency used to calculate. | M12: 0
A13: §80.110, 80.145, 80.1454 | B13: Recordkeeping: Internal systems updates | C13: 8 | D13: 0 | E13: 0 | F13: =(C13*'Labor Costs'!$F$9)+(D13*('Labor Costs'!$D$7))+(E13*'Labor Costs'!$F$10) -> 920 | G13: 35 | H13: 1 | I13: =G13*H13 -> 35 | J13: =(C13+D13+E13)*I13 -> 280 | K13: =F13*I13 -> 32200 | L13: One time burden; 24 hours divided by 3 years to annualize | M13: 0
A14: §80.110, 80.145, 80.1454 | B14: Recordkeeping: keep copies of registration, reporting, and other compliance records, PTDs under 80.155(a) and keep records specific to generation and assignment of RINs under 80.155(d), including contracts, affidavits, etc. | C14: 4 | D14: 0 | E14: 0 | F14: =(C14*'Labor Costs'!$F$9)+(D14*('Labor Costs'!$D$7))+(E14*'Labor Costs'!$F$10) -> 460 | G14: 35 | H14: 12 | I14: =G14*H14 -> 420 | J14: =(C14+D14+E14)*I14 -> 1680 | K14: =F14*I14 -> 193200 | L14: Assumes weekly and a customary business practice (CBP) process. Since information to be retained is somewhat detailed related to RIN generation and assignment, assumes appropriate amount of time for weekly oversight. | M14: 0
A15: §80.110, 80.150 and §80.1453 or 40 CFR part 1090, subpart L, as applicable | B15: Recordkeeping: PTD requirements | C15: 0.05 | D15: 0 | E15: 0 | F15: =(C15*'Labor Costs'!$F$9)+(D15*('Labor Costs'!$D$7))+(E15*'Labor Costs'!$F$10) -> 5.75 | G15: 35 | H15: 12 | I15: =G15*H15 -> 420 | J15: =(C15+D15+E15)*I15 -> 21 | K15: =F15*I15 -> 2415 | L15: Assumes monthly frequency and a somewhat automated process; PTDs are CBP. | M15: 0
A16: § 80.110, 80.145, 80.1454 | B16: Recordkeeping: Assign batch numbers | C16: 0.5 | D16: 0 | E16: 0 | F16: =(C16*'Labor Costs'!$F$9)+(D16*('Labor Costs'!$D$7))+(E16*'Labor Costs'!$F$10) -> 57.5 | G16: 35 | H16: 12 | I16: =G16*H16 -> 420 | J16: =(C16+D16+E16)*I16 -> 210 | K16: =F16*I16 -> 24150 | L16: Assumes one batch per month and a somewhat automated process. | M16: 0
A18: §80.110, 80.165, and 80.1464 | B18: Reporting: Attest Engagements (annual) | C18: 0 | D18: 0 | E18: 12 | F18: =(C18*'Labor Costs'!$F$9)+(D18*('Labor Costs'!$D$7))+(E18*'Labor Costs'!$F$10) -> 3450 | G18: 35 | H18: 1 | I18: =G18*H18 -> 35 | J18: =(C18+D18+E18)*I18 -> 420 | K18: =F18*I18 -> 120750 | L18: Within system. Follow directions at https://www.epa.gov/fuels-registration-reporting-and-compliance-help/how-submit-attest-engagements | M18: 120750
A19: §80.110, 80.170, 80.1469 et seq. | B19: Recordkeeping: related to participation in QAP | C19: 0.5 | D19: 0 | E19: 0 | F19: =(C19*'Labor Costs'!$F$9)+(D19*('Labor Costs'!$D$7))+(E19*'Labor Costs'!$F$10) -> 57.5 | G19: 40 | H19: 12 | I19: =G19*H19 -> 480 | J19: =(C19+D19+E19)*I19 -> 240 | K19: 0 | L19: We estimate all parties will participate in QAP. QAP reports are submitted by QAP providers and are shown on Tab VI-QAP of this Appendix. | M19: 0
A21: GRAND TOTAL | G21: =SUM(G7:G20) -> 333 | I21: =SUM(I7:I19) -> 3083 | J21: =SUM(J7:J19) -> 3709 | K21: =SUM(K7:K19) -> 470810 | M21: =SUM(M7:M20) -> 120750
I22: Responses | J22: HRS | K22: Total Costs | M22: Non-Labor Costs | N22: Non-Labor $/response
F23: Reporting | I23: =I18+I11+I10+I9+I8+I6+I7+I5+I12 -> 1308 | J23: =J18+J11+J10+J9+J8+J6+J7+J5+J12 -> 1278 | K23: =K18+K11+K10+K9+K8+K6+K7+K5+K12 -> 218845 | M23: =M18+M11+M10+M9+M8+M6+M7+M5+M12 -> 120750 | N23: =M23/I$21 -> 39.166396
F24: Recordkeeping | I24: =I19+I16+I15+I14+I13+I17 -> 1775 | J24: =J19+J16+J15+J14+J13+J17 -> 2431 | K24: =K19+K16+K15+K14+K13+K17 -> 251965 | M24: =M19+M16+M15+M14+M13+M17 -> 0 | N24: =M24/I$21 -> 0
K25: responses per respondent | L25: =I21/G21 -> 9.2582583
A26: Note to Table: Assumes most of these parties are already registered and performing recordkeeping/reporting under 2060-0725, 2060-0731, 2060-0740; new burden associated with final rule.
A29: LIST OF NEW OR UPDATED RFS FORMS & INSTRUCTIONS ON TAB V - BCDS RIN GENERATORS: RFS0107, RFS5000, RFS5100

Sheet VI-QAP 
A1: Annual Respondent Burden and Cost by Type of Party
A2: Table 5 - QAP Providers* Based upon four registered QAP providers. There is not a change in burden for services already provided under 2060-0725, but the forms are modified and there may be additional clients for QAP providers.
A3: Information Collection Activity | C3: Hours and Cost | G3: Total Hours and Cost | L3: Forms & Notes
A4: Citation | B4: Activity | C4: Standard Industry Mix Hours/ Response | D4: Clerical Only Hours/ Response | E4: Purchased Services Hours/ Response | F4: Total Cost/ Response (dollars) | G4: Number of Respondents | H4: Number of Responses per party/year | I4: Total Number of Responses per Year | J4: Total Hours/ Year | K4: Total Cost/Year | M4: Non-Labor Only Portion of Column K (Capital, O&M and Purchased Services)
A5: 40 CFR Part 80
A6: §80.135 | B6: Registration: initial or update to registration steps | C6: 1 | D6: 0 | E6: 0 | F6: =(C6*'Labor Costs'!$F$9)+(D6*('Labor Costs'!$D$7))+(E6*'Labor Costs'!$F$10) -> 115 | G6: 1 | H6: 1 | I6: =G6*H6 -> 1 | J6: =(C6+D6+E6)*I6 -> 1 | K6: =F6*I6 -> 115 | L6: OTAQREG; assumes 3 hours divided by 3 to annualize burden | M6: 0
A7: §80.170, 80.1451 | B7: Reporting: Batch Verification (4x/year) | C7: 10 | D7: 0 | E7: 0 | F7: =(C7*'Labor Costs'!$F$9)+(D7*('Labor Costs'!$D$7))+(E7*'Labor Costs'!$F$10) -> 1150 | G7: 4 | H7: 4 | I7: =G7*H7 -> 16 | J7: =(C7+D7+E7)*I7 -> 160 | K7: =F7*I7 -> 18400 | L7: quarterly RFS2000 | M7: 0
A8: §80.170, 80.1451 | B8: Reporting: Agreggate RIN Verification (4x/year) | C8: 5 | D8: 0 | E8: 0 | F8: =(C8*'Labor Costs'!$F$9)+(D8*('Labor Costs'!$D$7))+(E8*'Labor Costs'!$F$10) -> 575 | G8: 4 | H8: 4 | I8: =G8*H8 -> 16 | J8: =(C8+D8+E8)*I8 -> 80 | K8: =F8*I8 -> 9200 | L8: quarterly RFS2100 | M8: 0
A9: § 80.170, 80.1451(g) | B9: Reporting: On-Site Audit Report (4x/year) | C9: 10 | D9: 0 | E9: 0 | F9: =(C9*'Labor Costs'!$F$9)+(D9*('Labor Costs'!$D$7))+(E9*'Labor Costs'!$F$10) -> 1150 | G9: 4 | H9: 4 | I9: =G9*H9 -> 16 | J9: =(C9+D9+E9)*I9 -> 160 | K9: =F9*I9 -> 18400 | L9: quarterly RFS2200 | M9: 0
A10: §80.170, 80.1451(g) | B10: Reporting: Mass Balance | C10: 15 | D10: 0 | E10: 24 | F10: =(C10*'Labor Costs'!$F$9)+(D10*('Labor Costs'!$D$7))+(E10*'Labor Costs'!$F$10) -> 8625 | G10: 4 | H10: 4 | I10: =G10*H10 -> 16 | J10: =(C10+D10+E10)*I10 -> 624 | K10: =F10*I10 -> 138000 | L10: quarterly RFS2400 | M10: 0
A11: §80.170, 80.185, 80.1474 | B11: Reporting: Potentially Invalid RINs (4x/year) | C11: 2 | D11: 0 | E11: 0 | F11: =(C11*'Labor Costs'!$F$9)+(D11*('Labor Costs'!$D$7))+(E11*'Labor Costs'!$F$10) -> 230 | G11: 4 | H11: 4 | I11: =G11*H11 -> 16 | J11: =(C11+D11+E11)*I11 -> 32 | K11: =F11*I11 -> 3680 | L11: quarterly RFS2300 | M11: 0
A14: GRAND TOTAL | G14: =SUM(G6:G13) -> 21 | I14: =SUM(I6:I13) -> 81 | J14: =SUM(J6:J13) -> 1057 | K14: =SUM(K6:K13) -> 187795 | M14: =SUM(M6:M13) -> 0
I15: Responses | J15: HRS | K15: Total Costs | M15: Non-Labor Costs | N15: Non-Labor $/response
F16: Reporting | I16: =I11+I10+I9+I8+I7+I6 -> 81 | J16: =J11+J10+J9+J8+J7+J6 -> 1057 | K16: =K11+K10+K9+K8+K7+K6 -> 187795 | M16: =M11+M10+M9+M8+M7+M6 -> 0 | N16: =M16/I$14 -> 0
F17: Recordkeeping
K18: responses per respondent | L18: =I14/G14 -> 3.8571429
A21: Notes to the Table:
A23: Assumes no new registrants as a result of this proposed rule, but assumes additional reporting burden, as a result of new regulations.
A24: QAP providers already perform recordkeeping and reporting under 2060-0725, 2060-0731, 2060-0740; table represents new activities based on final rule.
A26: Helpful Registration Links - new registrants and updates:
A27: How to Register a New Company in OTAQREG https://www.epa.gov/fuels-registration-reporting-and-compliance-help/how-register-new-company-facility-or-user-part-80
A28: How to Update Existing Companies Facilities and Users https://www.epa.gov/fuels-registration-reporting-and-compliance-help/how-update-existing-companies-facilities-and-users
A30: Links to User Guides:
A32: OTAQ DC FUEL User Guides https://www.epa.gov/fuels-registration-reporting-and-compliance-help/user-guides-otaqdcfuel-central-data-exchange-cdx
A36: LIST OF NEW OR UPDATED FORMS & INSTRUCTIONS ON TAB VI - QAP PROVIDERS: RFS2000, RFS2100, RFS2200, RFS2300, RFS2400

Sheet VII -RNG RIN separators
A1: Annual Respondent Burden and Cost by Type of Party
A2: Table 6 - RNG RIN Separators - estimate 200 new registrants; general requirements in 40 CFR 80.115.
A3: Information Collection Activity | C3: Hours and Cost | G3: Total Hours and Cost | L3: Forms & Notes
A4: Citation | B4: Activity | C4: Standard Industry Mix Hours/ Response | D4: Clerical Only Hours/ Response | E4: Purchased Services Hours/ Response | F4: Total Cost/ Response (dollars) | G4: Number of Respondents | H4: Number of Responses per party/year | I4: Total Number of Responses per Year | J4: Total Hours/ Year | K4: Total Cost/Year | M4: Non-Labor Only Portion of Column K (Capital, O&M and Purchased Services)
A5: §80.115, 80.135, 80. 1450, subpart I | B5: Reporting: Registration; set up initial system accounts with EPA | C5: 1 | D5: 0 | E5: 0 | F5: =(C5*'Labor Costs'!$F$9)+(D5*('Labor Costs'!$D$7))+(E5*'Labor Costs'!$F$10) -> 115 | G5: 5 | H5: 1 | I5: =G5*H5 -> 5 | J5: =(C5+D5+E5)*I5 -> 5 | K5: =F5*I5 -> 575 | L5: New registrants; OTAQREG; assumes 3 hours, divided by 3, to annualize for ICR. | M5: 0
A6: §80.115, 80.135, 80.1450, subpart I | B6: Reporting: submit company and facility program registration information and perform necessary association with third parties (auditor) following forms & procedures | C6: 1 | D6: 0 | E6: 0 | F6: =(C6*'Labor Costs'!$F$9)+(D6*('Labor Costs'!$D$7))+(E6*'Labor Costs'!$F$10) -> 115 | G6: 5 | H6: 1 | I6: =G6*H6 -> 5 | J6: =(C6+D6+E6)*I6 -> 5 | K6: =F6*I6 -> 575 | L6: New registrants; OTAQREG; asumes 3 hours, divided by 3, to annualize for ICR. | M6: 0
A7: §80.115, 80.135, 80.1450, subpart I | B7: Reporting: Registration; including the specific registration items applicable to these parties under 80.135(e) | C7: 2 | D7: 0 | E7: 0 | F7: =(C7*'Labor Costs'!$F$9)+(D7*('Labor Costs'!$D$7))+(E7*'Labor Costs'!$F$10) -> 230 | G7: 5 | H7: 1 | I7: =G7*H7 -> 5 | J7: 90 | K7: =F7*I7 -> 1150 | L7: New registrants; OTAQREG; assumes 6 hours, divided by 3, to annualize for ICR. | M7: 0
A8: 80.140, 80.1451, 80.1452 | B8: Reporting of RIN separations in EMTS | C8: 1 | D8: 0 | E8: 0 | F8: =(C8*'Labor Costs'!$F$9)+(D8*('Labor Costs'!$D$7))+(E8*'Labor Costs'!$F$10) -> 115 | G8: 109 | H8: 12 | I8: =G8*H8 -> 1308 | J8: 90 | K8: =F8*I8 -> 150420 | L8: EMTS | M8: 0
A9: §80.140, 80.1451, 1452 | B9: Reporting: quarterly reporting by separators under 80.140, as applicable | C9: 1 | D9: 0 | E9: 0 | F9: =(C9*'Labor Costs'!$F$9)+(D9*('Labor Costs'!$D$7))+(E9*'Labor Costs'!$F$10) -> 115 | G9: 109 | H9: 4 | I9: =G9*H9 -> 436 | J9: =(C9+D9+E9)*I9 -> 436 | K9: =F9*I9 -> 50140 | L9: quarterly RFS0107 | M9: 0
A10: §80.140, 80.1451, 1452 | B10: Reporting: monthly reporting by separators under 80.140 | C10: 0.5 | D10: 0 | E10: 0 | F10: =(C10*'Labor Costs'!$F$9)+(D10*('Labor Costs'!$D$7))+(E10*'Labor Costs'!$F$10) -> 57.5 | G10: 109 | H10: 12 | I10: =G10*H10 -> 1308 | J10: =(C10+D10+E10)*I10 -> 654 | K10: =F10*I10 -> 75210 | L10: monthly RFS5200 | M10: 0
A11: §80.140, 80.1451, 1452 | B11: Reporting: monthly reporting by separators under 80.140 | C11: 0.5 | D11: 0 | E11: 0 | F11: =(C11*'Labor Costs'!$F$9)+(D11*('Labor Costs'!$D$7))+(E11*'Labor Costs'!$F$10) -> 57.5 | G11: 109 | H11: 12 | I11: =G11*H11 -> 1308 | J11: =(C11+D11+E11)*I11 -> 654 | K11: =F11*I11 -> 75210 | L11: monthly RFS5300 | M11: 0
A12: §80.115, 80.145, 80.1454 | B12: Recordkeeping: Internal systems updates | C12: 8 | D12: 0 | E12: 0 | F12: =(C12*'Labor Costs'!$F$9)+(D12*('Labor Costs'!$D$7))+(E12*'Labor Costs'!$F$10) -> 920 | G12: 109 | H12: 1 | I12: =G12*H12 -> 109 | J12: =(C12+D12+E12)*I12 -> 872 | K12: =F12*I12 -> 100280 | L12: One time burden; 24 hours divided by 3 years to annualize | M12: 0
A13: §80.115, 80.155, | B13: Recordkeeping: perform/retain records of sampling, testing and measurement related to continous measurement of natural gas withdrawn from national gas commercial pipeline system. | C13: 0 | D13: 0 | E13: 1 | F13: =(C13*'Labor Costs'!$F$9)+(D13*('Labor Costs'!$D$7))+(E13*'Labor Costs'!$F$10) -> 287.5 | G13: 109 | H13: 12 | I13: =G13*H13 -> 1308 | J13: =(C13+D13+E13)*I13 -> 1308 | K13: =F13*I13 -> 376050 | L13: Estimate assumes a monthly frequency to keep records, for R&R, considers continuous monitoring in developing estimate. Assumes all purchased services. | M13: 376050
A14: §80.115, 80.150 and §80.1453 or 40 CFR part 1090, subpart L, as applicable | B14: Recordkeeping: PTD requirements | C14: 0.05 | D14: 0 | E14: 0 | F14: =(C14*'Labor Costs'!$F$9)+(D14*('Labor Costs'!$D$7))+(E14*'Labor Costs'!$F$10) -> 5.75 | G14: 109 | H14: 52 | I14: =G14*H14 -> 5668 | J14: =(C14+D14+E14)*I14 -> 283.4 | K14: =F14*I14 -> 32591 | L14: Assumes weekly frequency and a somewhat automated process; PTDs are CBP. | M14: 0
A15: §80.115, 80.165 and 80.1464 | B15: Reporting: Attest Engagements (annual) | C15: 0 | D15: 0 | E15: 12 | F15: =(C15*'Labor Costs'!$F$9)+(D15*('Labor Costs'!$D$7))+(E15*'Labor Costs'!$F$10) -> 3450 | G15: 109 | H15: 1 | I15: =G15*H15 -> 109 | J15: =(C15+D15+E15)*I15 -> 1308 | K15: =F15*I15 -> 376050 | L15: Within system. Follow directions at https://www.epa.gov/fuels-registration-reporting-and-compliance-help/how-submit-attest-engagements | M15: 376050
A17: GRAND TOTAL | G17: =SUM(G4:G16) -> 887 | I17: =SUM(I4:I16) -> 11569 | J17: =SUM(J4:J16) -> 5705.4 | K17: =SUM(K4:K16) -> 1238251 | M17: =SUM(M4:M16) -> 752100
I18: Responses | J18: HRS | K18: Total Costs | M18: Non-Labor Costs | N18: Non-Labor $/response
F19: Reporting | I19: =I15+I11+I10+I9+I8+I7+I5+I6 -> 4484 | J19: =J15+J11+J10+J9+J8+J7+J5+J6 -> 3242 | K19: =K15+K11+K10+K9+K8+K7+K5+K6 -> 729330 | M19: =M15+M11+M10+M9+M8+M7+M5+M6 -> 376050 | N19: =M19/I$17 -> 32.50497
F20: Recordkeeping | I20: =I14+I13+I12 -> 7085 | J20: =J14+J13+J12 -> 2463.4 | K20: =K14+K13+K12 -> 508921 | M20: =M14+M13+M12 -> 376050 | N20: =M20/I$17 -> 32.50497
K21: responses per respondent | L21: =I17/G17 -> 13.042841
A25: Helpful Registration Links - new registrants and updates:
A26: How to Register a New Company in OTAQREG https://www.epa.gov/fuels-registration-reporting-and-compliance-help/how-register-new-company-facility-or-user-part-80
A27: How to Update Existing Companies Facilities and Users https://www.epa.gov/fuels-registration-reporting-and-compliance-help/how-update-existing-companies-facilities-and-users
A29: Links to User Guides:
A31: OTAQ DC FUEL User Guides https://www.epa.gov/fuels-registration-reporting-and-compliance-help/user-guides-otaqdcfuel-central-data-exchange-cdx
A32: RFS EMTS User Guide: https://www.epa.gov/fuels-registration-reporting-and-compliance-help/users-guide-epa-moderated-transaction-system-emts
A33: Attest Engagement Instructions: https://www.epa.gov/fuels-registration-reporting-and-compliance-help/how-submit-attest-engagements
A35: LIST OF NEW OR UPDATED FORMS & INSTRUCTIONS ON TAB VII - RNG RIN SEPARATORS: RFS0107, RFS5200, RFS5300

Sheet VIII - Third Parties
A1: Annual Respondent Burden and Cost by Type of Party
A2: Table 7 - Third Party Auditors, 3PEngineers* who register and associate with respondents for whom they submit reports. Assumes 5 new of each. Reports appear on individual respondents' tabs.
A3: Information Collection Activity | C3: Hours and Cost | G3: Total Hours and Cost | L3: Forms & Notes
A4: Citation | B4: Activity | C4: Standard Industry Mix Hours/ Response | D4: Clerical Only Hours/ Response | E4: Purchased Services Hours/ Response | F4: Total Cost/ Response (dollars) | G4: Number of Respondents | H4: Number of Responses per party/year | I4: Total Number of Responses per Year | J4: Total Hours/ Year | K4: Total Cost/Year | M4: Non-Labor Only Portion of Column K (Capital, O&M and Purchased Services)
A5: 80.1450 & 1090 subpart I | B5: Registration by attest auditor or engineer for RFS program only | C5: 0 | D5: 0 | E5: 0 | F5: =(C5*'Labor Costs'!$F$9)+(D5*('Labor Costs'!$D$7))+(E5*'Labor Costs'!$F$10) -> 0 | G5: 1 | H5: 1 | I5: =G5*H5 -> 1 | J5: =(C5+D5+E5)*I5 -> 0 | K5: =F5*I5 -> 0 | L5: OTAQ REG USER GUIDE | M5: 0
A6: 80.1450 & 40 CFR part 1090 subpart I | B6: Association "handshake" within registration with client | C6: 0 | D6: 0 | E6: 0 | F6: =(C6*'Labor Costs'!$F$9)+(D6*('Labor Costs'!$D$7))+(E6*'Labor Costs'!$F$10) -> 0 | G6: 1 | H6: 1 | I6: =G6*H6 -> 1 | J6: =(C6+D6+E6)*I6 -> 0 | K6: =F6*I6 -> 0 | L6: OTAQ REG USER GUIDE | M6: 0
A7: GRAND TOTAL | G7: =SUM(G5:G6) -> 2 | I7: =SUM(I5:I6) -> 2 | J7: =SUM(J5:J5) -> 0 | K7: =SUM(K5:K6) -> 0 | M7: =SUM(M5:M6) -> 0
I8: Responses | J8: HRS | K8: Total Costs | M8: Non-Labor Costs | N8: Non-Labor $/response
F9: Reporting | I9: =I5+I6 -> 2 | J9: =J5+J6 -> 0 | K9: =K5+K6 -> 0 | M9: =M5+M6 -> 0 | N9: =M9/I$7 -> 0
F10: Recordkeeping
K11: responses per respondent | L11: =I7/G7 -> 1
A12: Notes to the Table:
A13: The cost, hours, and submissions associated with third party registrants and attest engagements fully passed on to regulated parties as purchased services.
A14: This table exists to get an accurate respondent count, because these auditors do register with EPA .
A15: Many of these parties would already be registered and performing recordkeeping and reporting under 2060-0725, 2060-0731, 2060-0740.
A17: Helpful Registration Links - new registrants and updates:
A18: How to Register a New Company in OTAQREG https://www.epa.gov/fuels-registration-reporting-and-compliance-help/how-register-new-company-facility-or-user-part-80
A19: How to Update Existing Companies Facilities and Users https://www.epa.gov/fuels-registration-reporting-and-compliance-help/how-update-existing-companies-facilities-and-users
A21: Links to User Guides:
A23: OTAQ DC FUEL User Guides https://www.epa.gov/fuels-registration-reporting-and-compliance-help/user-guides-otaqdcfuel-central-data-exchange-cdx
A24: RFS EMTS User Guide: https://www.epa.gov/fuels-registration-reporting-and-compliance-help/users-guide-epa-moderated-transaction-system-emts
A25: Attest Engagement Instructions: https://www.epa.gov/fuels-registration-reporting-and-compliance-help/how-submit-attest-engagements
A27: LIST OF NEW OR UPDATED FORMS & INSTRUCTIONS ON TAB VIII - Third Parties: none, forms appear on tabs w/ respondents for whom services are performed.

Sheet IX-Producers of RF Biogas
A1: Annual Respondent Burden and Cost by Type of Party
A2: Table IX - Producers of RF from Biogas used as Biointermediate or RNG used as a feedstock - see 80.120; assumes 10 new respondents registering new pathways under 2060-0725.
A3: Information Collection Activity | C3: Hours and Cost | G3: Total Hours and Cost | L3: Forms & Notes
A4: Citation | B4: Activity | C4: Standard Industry Mix Hours/ Response | D4: Clerical Only Hours/ Response | E4: Purchased Services Hours/ Response | F4: Total Cost/ Response (dollars) | G4: Number of Respondents | H4: Number of Responses per party/year | I4: Total Number of Responses per Year | J4: Total Hours/ Year | K4: Total Cost/Year | M4: Non-Labor Only Portion of Column K (Capital, O&M and Purchased Services)
A5: 80.120, 80.135, 80.1450, 40 CFR part 1090, subpart I | B5: Reporting: Registration; set up initial system accounts with EPA | C5: 1 | D5: 0 | E5: 0 | F5: =(C5*'Labor Costs'!$F$9)+(D5*('Labor Costs'!$D$7))+(E5*'Labor Costs'!$F$10) -> 115 | G5: 2 | H5: 1 | I5: =G5*H5 -> 2 | J5: =(C5+D5+E5)*I5 -> 2 | K5: =F5*I5 -> 230 | L5: New registrants; OTAQREG; assumes 3 hours, divided by 3, to annualize for ICR. 75 domestic plus 20 foreign | M5: 0
A6: 80.120, 80.135, 80.1450, 40 CFR part 1090, subpart I | B6: Reporting: submit company and facility program registration information under 80.135 and 1090.805 and perform necessary association with third parties (auditor) following forms & procedures | C6: 1 | D6: 0 | E6: 0 | F6: =(C6*'Labor Costs'!$F$9)+(D6*('Labor Costs'!$D$7))+(E6*'Labor Costs'!$F$10) -> 115 | G6: 2 | H6: 1 | I6: =G6*H6 -> 2 | J6: =(C6+D6+E6)*I6 -> 2 | K6: =F6*I6 -> 230 | L6: New registrants; OTAQREG; asumes 3 hours, divided by 3, to annualize for ICR. 75 domestic plus 20 foreign | M6: 0
A7: 80.120, 80.135, 80.1450, 40 CFR part 1090, subpart I | B7: Reporting: Registration; including the specific registration items applicable to these parties under 80.135(g), including biogas producer and RF producer connection documentation | C7: 12 | D7: 0 | E7: 0 | F7: =(C7*'Labor Costs'!$F$9)+(D7*('Labor Costs'!$D$7))+(E7*'Labor Costs'!$F$10) -> 1380 | G7: 2 | H7: 1 | I7: =G7*H7 -> 2 | J7: 90 | K7: =F7*I7 -> 2760 | L7: New registrants; OTAQREG; assumes 36 hours, divided by 3, to annualize for ICR. | M7: 0
A8: 80.120, 80.135, 80.1450, 40 CFR part 1090, subpart I | B8: Reporting: Update registration as needed to reflect changes in information and changes needed due to new regulation. | C8: 12 | D8: 0 | E8: 0 | F8: =(C8*'Labor Costs'!$F$9)+(D8*('Labor Costs'!$D$7))+(E8*'Labor Costs'!$F$10) -> 1380 | G8: 12 | H8: 1 | I8: =G8*H8 -> 12 | J8: =(C8+D8+E8)*I8 -> 144 | K8: =F8*I8 -> 16560 | L8: OTAQREG | M8: 0
A9: 80.120, 80.140, 80.1451, 80.1452 | B9: Reporting: RIN retirements in EMTS. | C9: 1 | D9: 0 | E9: 0 | F9: =(C9*'Labor Costs'!$F$9)+(D9*('Labor Costs'!$D$7))+(E9*'Labor Costs'!$F$10) -> 115 | G9: 12 | H9: 12 | I9: =G9*H9 -> 144 | J9: =(C9+D9+E9)*I9 -> 144 | K9: =F9*I9 -> 16560 | L9: EMTS | M9: 0
A10: 80.120, 80.140, 80.1451, 80.1452 | B10: Reporting: RIN activity report, as applicable | C10: 0.5 | D10: 0 | E10: 0 | F10: =(C10*'Labor Costs'!$F$9)+(D10*('Labor Costs'!$D$7))+(E10*'Labor Costs'!$F$10) -> 57.5 | G10: 12 | H10: 4 | I10: =G10*H10 -> 48 | J10: =(C10+D10+E10)*I10 -> 24 | K10: =F10*I10 -> 2760 | L10: quarterly RFS0107 | M10: 0
A11: 80.120, 80.140, 80.1451 | B11: Reporting: quarterly reporting of retirement of RINs for RNG used as a feedstock or process heat | C11: 0.5 | D11: 0 | E11: 0 | F11: =(C11*'Labor Costs'!$F$9)+(D11*('Labor Costs'!$D$7))+(E11*'Labor Costs'!$F$10) -> 57.5 | G11: 12 | H11: 4 | I11: =G11*H11 -> 48 | J11: =(C11+D11+E11)*I11 -> 24 | K11: =F11*I11 -> 2760 | L11: quarterly RFS5400 | M11: 0
