Workbook

Sheet Summary
A1: ICR Summary Information
A2: Hours per Response | B2: ='Table 1'!K43 -> 20.7
A3: Number of Respondents | B3: =Respondents!F9 -> 1
A4: Total Estimated Burden Hours | B4: ='Table 1'!F42 -> 41.4
A5: Total Estimated Costs | B5: ='Table 1'!I44 -> 6220
A6: Annualized Capital O&M | B6: ='Capital O&M'!G7 -> 550
A7: Total Annual Responses | B7: =Responses!E10 -> 2
A8: Form Number | B8: Not Applicable

Sheet Table 1
A1: Table 1: Annual Respondent Burden and Cost – NESHAP for Semiconductor Manufacturing (40 CFR Part 63, Subpart BBBBB) (Renewal)
F3: 141.75 | G3: 172.41 | H3: 71.36
A4: Burden item | B4: (A) | C4: (B) | D4: (C) | E4: (D) | F4: (E) | G4: (F) | H4: (G) | I4: (H)
B5: Person hours per occurrence | C5: No. of occurrences per respondent per year | D5: Person hours per respondent per year | E5: Respondents per year a | F5: Technical person- hours per year | G5: Management person hours per year | H5: Clerical person hours per year | I5: Total Cost
D6: (C=AxB) | F6: (E=CxD) | G6: (Ex0.05) | H6: (Ex0.1) | I6: Per year b
A7: 1. Applications | B7: N/A
A8: 2. Survey and Studies | B8: N/A
A9: 3. Reporting requirements
A10: A. Familiarization with rule requirement | B10: 4 | C10: 1 | D10: =B10*C10 -> 4 | E10: 1 | F10: =D10*E10 -> 4 | G10: =F10*0.05 -> 0.2 | H10: =F10*0.1 -> 0.4 | I10: =F10*F$3+G10*G$3+H10*H$3 -> 630.026
A11: B. Process/review information d | B11: 4 | C11: 2 | D11: =B11*C11 -> 8 | E11: 1 | F11: =D11*E11 -> 8 | G11: =F11*0.05 -> 0.4 | H11: =F11*0.1 -> 0.8 | I11: =F11*F$3+G11*G$3+H11*H$3 -> 1260.052
A12: C. Write Report
A13: Initial notification c | B13: 2 | C13: 1 | D13: =B13*C13 -> 2 | E13: 0 | F13: =D13*E13 -> 0 | G13: =F13*0.05 -> 0 | H13: =F13*0.1 -> 0 | I13: =F13*F$3+G13*G$3+H13*H$3 -> 0
A14: Notification of performance evaluation c | B14: 2 | C14: 1 | D14: =B14*C14 -> 2 | E14: 0 | F14: =D14*E14 -> 0 | G14: =F14*0.05 -> 0 | H14: =F14*0.1 -> 0 | I14: =F14*F$3+G14*G$3+H14*H$3 -> 0
A15: Notification of compliance status c | B15: 2 | C15: 1 | D15: =B15*C15 -> 2 | E15: 0 | F15: =D15*E15 -> 0 | G15: =F15*0.05 -> 0 | H15: =F15*0.1 -> 0 | I15: =F15*F$3+G15*G$3+H15*H$3 -> 0
A16: Performance evaluation reports c | B16: 2 | C16: 1 | D16: =B16*C16 -> 2 | E16: 0 | F16: =D16*E16 -> 0 | G16: =F16*0.05 -> 0 | H16: =F16*0.1 -> 0 | I16: =F16*F$3+G16*G$3+H16*H$3 -> 0
A17: Develop a startup, shutdown, malfunction (SSM) report e | B17: 1 | C17: 4 | D17: =B17*C17 -> 4 | E17: 0 | F17: =D17*E17 -> 0 | G17: =F17*0.05 -> 0 | H17: =F17*0.1 -> 0 | I17: =F17*F$3+G17*G$3+H17*H$3 -> 0
A18: Develop a semiannual summary report f | B18: 4 | C18: 2 | D18: =B18*C18 -> 8 | E18: 1 | F18: =D18*E18 -> 8 | G18: =F18*0.05 -> 0.4 | H18: =F18*0.1 -> 0.8 | I18: =F18*F$3+G18*G$3+H18*H$3 -> 1260.052
A19: Subtotal for Reporting Requirements | F19: =SUM(F7:H18) -> 23 | I19: =SUM(I7:I18) -> 3150.13
A20: 4. Recordkeeping requirements
A21: A. Familiarization with rule requirement | B21: See 3A
A22: B. Plan activities | B22: 8 | C22: 1 | D22: =B22*C22 -> 8 | E22: 1 | F22: =D22*E22 -> 8 | G22: =F22*0.05 -> 0.4 | H22: =F22*0.1 -> 0.8 | I22: =F22*F$3+G22*G$3+H22*H$3 -> 1260.052
A23: C. Implement activities
A24: Control devices
A25: Design analysis | B25: 15 | C25: 1 | D25: =B25*C25 -> 15 | E25: 0 | F25: =D25*E25 -> 0 | G25: =F25*0.05 -> 0 | H25: =F25*0.1 -> 0 | I25: =F25*F$3+G25*G$3+H25*H$3 -> 0
A26: Performance evaluation | B26: 40 | C26: 1 | D26: =B26*C26 -> 40 | E26: 0 | F26: =D26*E26 -> 0 | G26: =F26*0.05 -> 0 | H26: =F26*0.1 -> 0 | I26: =F26*F$3+G26*G$3+H26*H$3 -> 0
A27: Equipment inspection | B27: 1 | C27: 52 | D27: =B27*C27 -> 52 | E27: 0 | F27: =D27*E27 -> 0 | G27: =F27*0.05 -> 0 | H27: =F27*0.1 -> 0 | I27: =F27*F$3+G27*G$3+H27*H$3 -> 0
A28: Monitoring activities | B28: 1 | C28: 52 | D28: =B28*C28 -> 52 | E28: 0 | F28: =D28*E28 -> 0 | G28: =F28*0.05 -> 0 | H28: =F28*0.1 -> 0 | I28: =F28*F$3+G28*G$3+H28*H$3 -> 0
A29: Maintenance | B29: 2 | C29: 52 | D29: =B29*C29 -> 104 | E29: 0 | F29: =D29*E29 -> 0 | G29: =F29*0.05 -> 0 | H29: =F29*0.1 -> 0 | I29: =F29*F$3+G29*G$3+H29*H$3 -> 0
A30: D. Develop record system
A31: Develop SSM plan | B31: 8 | C31: 1 | D31: =B31*C31 -> 8 | E31: 0 | F31: =D31*E31 -> 0 | G31: =F31*0.05 -> 0 | H31: =F31*0.1 -> 0 | I31: =F31*F$3+G31*G$3+H31*H$3 -> 0
A32: Control equipment/maintenance plan | B32: 12 | C32: 1 | D32: =B32*C32 -> 12 | E32: 0 | F32: =D32*E32 -> 0 | G32: =F32*0.05 -> 0 | H32: =F32*0.1 -> 0 | I32: =F32*F$3+G32*G$3+H32*H$3 -> 0
A33: E. Time to enter information
A34: Control equipment testing | B34: 1 | C34: 1 | D34: =B34*C34 -> 1 | E34: 0 | F34: =D34*E34 -> 0 | G34: =F34*0.05 -> 0 | H34: =F34*0.1 -> 0 | I34: =F34*F$3+G34*G$3+H34*H$3 -> 0
A35: Control equipment inspection | B35: 0.5 | C35: 52 | D35: =B35*C35 -> 26 | E35: 0 | F35: =D35*E35 -> 0 | G35: =F35*0.05 -> 0 | H35: =F35*0.1 -> 0 | I35: =F35*F$3+G35*G$3+H35*H$3 -> 0
A36: Control equipment monitoring | B36: 0.5 | C36: 52 | D36: =B36*C36 -> 26 | E36: 0 | F36: =D36*E36 -> 0 | G36: =F36*0.05 -> 0 | H36: =F36*0.1 -> 0 | I36: =F36*F$3+G36*G$3+H36*H$3 -> 0
A37: F. Time to train personnel
A38: Control equipment inspection and Monitoring | B38: 40 | C38: 1 | D38: =B38*C38 -> 40 | E38: 0 | F38: =D38*E38 -> 0 | G38: =F38*0.05 -> 0 | H38: =F38*0.1 -> 0 | I38: =F38*F$3+G38*G$3+H38*H$3 -> 0
A39: G. Store, file and maintain records g | B39: 2 | C39: 2 | D39: =B39*C39 -> 4 | E39: 1 | F39: =D39*E39 -> 4 | G39: =F39*0.05 -> 0.2 | H39: =F39*0.1 -> 0.4 | I39: =F39*F$3+G39*G$3+H39*H$3 -> 630.026
A40: H. Retrieve records/reports h | B40: 2 | C40: 2 | D40: =B40*C40 -> 4 | E40: 1 | F40: =D40*E40 -> 4 | G40: =F40*0.05 -> 0.2 | H40: =F40*0.1 -> 0.4 | I40: =F40*F$3+G40*G$3+H40*H$3 -> 630.026
A41: Subtotal for Recordkeeping Requirements | F41: =SUM(F20:H40) -> 18.4 | I41: =SUM(I20:I40) -> 2520.104
...

Sheet Table 2
A1: Table 2: Average Annual EPA Burden and Cost – NESHAP for Semiconductor Manufacturing (40 CFR Part 63, Subpart BBBBB) (Renewal)
F3: 57.07 | G3: 76.91 | H3: 30.88
A4: Activity | B4: (A) | C4: (B) | D4: (C) | E4: (D) | F4: (E) | G4: (F) | H4: (G) | I4: (H)
B5: EPA person- hours per occurrence | C5: No. of occurrences per plant per year | D5: EPA person- hours per plant per year | E5: Plants per year a | F5: Technical person- hours per year | G5: Management person-hours per year | H5: Clerical person-hours per year | I5: Cost, $ b
D6: (C=AxB) | F6: (E=CxD) | G6: (Ex0.05) | H6: (Ex0.1)
A7: Review initial notification reports | B7: 8 | C7: 1 | D7: =B7*C7 -> 8 | E7: 0 | F7: =D7*E7 -> 0 | G7: =F7*0.05 -> 0 | H7: =F7*0.1 -> 0 | I7: =F7*F$3+G7*G$3+H7*H$3 -> 0
A8: Review notification of compliance status | B8: 10 | C8: 1 | D8: =B8*C8 -> 10 | E8: 0 | F8: =D8*E8 -> 0 | G8: =F8*0.05 -> 0 | H8: =F8*0.1 -> 0 | I8: =F8*F$3+G8*G$3+H8*H$3 -> 0
A9: Review semiannual summary reports c | B9: 15 | C9: 2 | D9: =B9*C9 -> 30 | E9: 1 | F9: =D9*E9 -> 30 | G9: =F9*0.05 -> 1.5 | H9: =F9*0.1 -> 3 | I9: =F9*F$3+G9*G$3+H9*H$3 -> 1920.105
A10: Review notification of performance test d | B10: 4 | C10: 1 | D10: =B10*C10 -> 4 | E10: 0 | F10: =D10*E10 -> 0 | G10: =F10*0.05 -> 0 | H10: =F10*0.1 -> 0 | I10: =F10*F$3+G10*G$3+H10*H$3 -> 0
A11: Attend initial performance tests | B11: 120 | C11: 1 | D11: =B11*C11 -> 120 | E11: 0 | F11: =D11*E11 -> 0 | G11: =F11*0.05 -> 0 | H11: =F11*0.1 -> 0 | I11: =F11*F$3+G11*G$3+H11*H$3 -> 0
A12: Review test results e | B12: 10 | C12: 1 | D12: =B12*C12 -> 10 | E12: 0 | F12: =D12*E12 -> 0 | G12: =F12*0.05 -> 0 | H12: =F12*0.1 -> 0 | I12: =F12*F$3+G12*G$3+H12*H$3 -> 0
A13: TOTAL ANNUAL BURDEN AND COST (rounded) f | F13: =SUM(F7:H12) -> 34.5 | I13: =SUM(I7:I12) -> 1920.105
A17: Assumptions:
A18: a We have assumed that there is approximately one existing major source currently subject to this rule. There will be no additional new source that will become subject to the rule over the three-year period of this ICR.
A19: b This cost is based on the average hourly labor rate as follows: Managerial $76.91 (GS-13, Step 5, $48.07 + 60%); Technical $57.07 (GS-12, Step 1, $35.67 + 60%); and Clerical $30.88 (GS-6, Step 3, $19.30+ 60%). This ICR assumes that Managerial hours are 5 percent of Technical hours, and Clerical hours are 10 percent of Technical hours. These rates are from the Office of Personnel Management (OPM), 2024 General Schedule, which excludes locality, rates of pay. The rates have been increased by 60 percent to account for the benefit packages available to government employees.
A20: c We have assumed that the respondents will take 15 hours two times a year to review the semiannual summary reports.
A21: d We have assumed that it will take each respondent 4 hours one time a year to review notification of performance tests.
A22: e We have assumed that it will take each respondent 10 hours one time a year to review test results.
A23: f Totals have been rounded to 3 significant values. Figures may not add exactly due to rounding.

Sheet Capital O&M
A2: Capital/Startup vs. Operation and Maintenance (O&M) Costs
A4: (A) | B4: (B) | C4: (C) | D4: (D) | E4: (E) | F4: (F) | G4: (G)
A5: Continuous Monitoring Device | B5: Capital/Startup Cost for One Respondent | C5: Number of New Respondents | D5: Total Capital/Startup Cost, (B X C) | E5: Annual O&M Costs for One Respondent | F5: Number of Respondents with O&M | G5: Total O&M, (E X F)
A6: N/A | B6: N/A | C6: N/A | D6: N/A | E6: 550 | F6: 1 | G6: 550
F7: Total | G7: 550

Sheet Responses
A1: Total Annual Responses
A2: (A) | B2: (B) | C2: (C) | D2: (D) | E2: (E)
A3: Information Collection Activity | B3: Number of Respondents | C3: Number of Responses | D3: Number of Existing Respondents That Keep Records But Do Not Submit Reports | E3: Total Annual Responses E=(BxC)+D
A4: Initial notification | B4: 0 | C4: 1 | D4: 0 | E4: =B4*C4+D4 -> 0
A5: Notification of performance evaluation | B5: 0 | C5: 1 | D5: 0 | E5: =B5*C5+D5 -> 0
A6: Notification of compliance status | B6: 0 | C6: 1 | D6: 0 | E6: =B6*C6+D6 -> 0
A7: Performance evaluation reports | B7: 0 | C7: 1 | D7: 0 | E7: =B7*C7+D7 -> 0
A8: Startup, shutdown, malfunction report | B8: 0 | C8: 4 | D8: 0 | E8: =B8*C8+D8 -> 0
A9: Semiannual summary report | B9: 1 | C9: 2 | D9: 0 | E9: =B9*C9+D9 -> 2
D10: Total | E10: =SUM(E4:E9) -> 2

Sheet Respondents
A2: Number of Respondents
B3: Respondents That Submit Reports | D3: Respondents That Do Not Submit Any Reports
A4: Year | B4: (A) | C4: (B) | D4: (C) | E4: (D) | F4: (E)
B5: Number of New Respondents a | C5: Number of Existing Respondents | D5: Number of Existing Respondents that keep records but do not submit reports | E5: Number of Existing Respondents That Are Also New Respondents | F5: Number of Respondents (E=A+B+C-D)
A6: 1 | B6: 0 | C6: 1 | D6: 0 | E6: 0 | F6: =B6+C6+D6-E6 -> 1
A7: 2 | B7: 0 | C7: 1 | D7: 0 | E7: 0 | F7: =B7+C7+D7-E7 -> 1
A8: 3 | B8: 0 | C8: 1 | D8: 0 | E8: 0 | F8: =B8+C8+D8-E8 -> 1
A9: Average | B9: =AVERAGE(B6:B8) -> 0 | C9: =AVERAGE(C6:C8) -> 1 | D9: =AVERAGE(D6:D8) -> 0 | E9: =AVERAGE(E6:E8) -> 0 | F9: =AVERAGE(F6:F8) -> 1
A10: a New respondents include sources with constructed, reconstructed and modified affected facilities.
