Workbook
Name _Hlk126761397: 'A. General Information'!$A$25

Sheet Crosswalk Excel to Instructions
A1: Note: This crosswalk index has One-to-One, One-to-Many, or Many-to-One relationships
A3: Excel Tab | B3: Section of Instructions | C3: Pages
A4: A. General Information | B4: IV. Required Information, A General Information | C4: 12 - 15
A5: B. Overview Information | B5: IV. Required Information, B Overview Information | C5: 15 - 16
A6: C1-C2. Company-Wide Information | B6: IV. Required Information, C1 Overall Financial Information | C6: 16 - 18
B7: IV. Required Information, C2 Service-Specific Financial Information | C7: 18 - 25
A8: C3. Safety & Security Measures | B8: IV. Required Information, C3 Other Company-Wide Information - Safety and Security Measures | C8: 25 - 26
A9: D1. Facility Audio IPCS Costs | B9: IV. Required Information, D1 Facility-Specific Financial Information, a., b., c. | C9: 27 - 32
A10: D1. Facility Video IPCS Costs | B10: IV. Required Information, D1 Facility-Specific Financial Information, a., b., c. | C10: 27 - 32
A11: D1. Facility Demand and Revenue | B11: IV. Required Information, D1 Facility-Specific Financial Information, d. Facility-Specific Demand and Revenue Data | C11: 32 - 34
A15: FCC Notice
A17: * There is no tab D2a tab because the Word instructions under the D2a heading relate to the general information reported at the top of the D1. Facility Audio IPCS and D1. Facility Video IPCS tabs.

Sheet Color Coding & Checks
A1: Workbook Structure | B1: Do not directly input data into this tab.
A2: Most of the tabs in this workbook are data input tabs (12). These tabs have a few summation calculations which are highlighted (color coded yellow, green).
A3: Summations from 2 input tabs ('Commission and Revenue Sharing' and 'Company-Wide Information') flow into the 'B. Overview Information' tab.
A4: Summations from all tabs flow into this 'Color Coding & Checks' tab.
A6: Cell Color Coding | B6: Interpretation
A8: Gray | B8: Informational - Field names, row names, fillers. Do not enter data.
A9: No color | B9: Numeric value - Enter only positive numbers or zero, with exceptions at the *.
A10: No color | B10: Dropdown - Make a selection from a dropdown list, e.g., tax section of Company-Wide selections allows choice of "C" or "PTE".
A11: No color | B11: N/A populated by FCC - Not Available for data entry means leave as is, do not enter data.
A12: Yellow | B12: Formula - Do not change, delete or overwrite any FCC formulas with values, including those not highlighted. Note: Only a few examples are color coded in this workbook - not all instances.
A13: Green | B13: Formulas that check for consistency - This tab checks the formula values in one tab against the corresponding formula values on another tab.**
A15: * If the Company’s account balance for an asset, contra asset, liability, contra liability, revenue, contra revenue, expense, or contra expense account is the opposite of its expected debit or credit balance, report that balance as a negative number on the Excel template. For example, the expected account balance for accumulated deferred income taxes is a credit balance, representing a tax debt that will need to be paid in the future. If this is the case, report a positive number for accumulated deferred income taxes. If, instead, the account balance for the accumulated deferred income taxes is a debit balance, representing an over-payment or advance payment of income taxes, report that balance as a negative number.
A17: ** e.g., Sum of values for facilities = Company-wide value. See examples below.
A20: Formula Checks | B20: The following checks will improve inter-tab consistency.
B21: If the difference (or percent difference) in formula values from 2 tabs is low, then there is inter-tab consistency (closeness).
B22: The provider should perform all similar checks. See examples below.
B23: Review and revise the reported data to eliminate any inconsistencies among the tabs or explain any inconsistences in the Word template.
A25: EXAMPLES:
A26: Concept / Tabs | B26: Cells | C26: Values | D26: Calculations | E26: Notes
A28: Audio IPCS Costs
A29: B. Overview Information | B29: B13 | C29: ='B. Overview Information'!B13 -> 0 | D29: L1 = L2 | E29: Overview tab references Company-wide tab
A30: C1-C2. Company-Wide Information | B30: C96 | C30: ='C1-C2. Company-Wide Information'!C96 -> 0 | D30: L2
A31: D1. Facility Audio IPCS Costs | B31: G106* | C31: ='D1. Facility Audio IPCS Costs'!G106 -> 0 | D31: L3 | E31: *Use the cell in the last column which depends on number of facilities reported. Instead of Cell G106, use e.g., Cell XYZ106. The actual column TBD.
A32: Difference C1-C2, D1 | C32: =C31-C30 -> 0 | D32: L4 = L3 - L2 | E32: This difference may be slightly higher, because the tabs use different tax rates (e.g., weighted avg. v. state specific).
A33: Percent Difference | C33: =C31/C30-1 -> #DIV/0! | D33: L5 = L3 / L2 - 1
A35: Video IPCS Costs
A36: B. Overview Information | B36: B14 | C36: ='B. Overview Information'!B14 -> 0 | D36: L1 = L2 | E36: Overview tab references Company-wide tab
A37: C1-C2. Company-Wide Information | B37: D96 | C37: ='C1-C2. Company-Wide Information'!D96 -> 0 | D37: L2
A38: D1. Facility Video IPCS Costs | B38: G106* | C38: ='D1. Facility Video IPCS Costs'!G106 -> 0 | D38: L3 | E38: *Use the cell in the last column which depends on number of facilities reported. Instead of Cell G106, use e.g., Cell XYZ106. The actual column TBD.
A39: Difference C1-C2, D1 | C39: =C38-C37 -> 0 | D39: L4 = L3 - L2 | E39: This difference may be slightly higher, because the tabs use different tax rates (e.g., weighted avg. v. state specific).
A40: Percent Difference | C40: =C38/C37-1 -> #DIV/0! | D40: L5 = L3 / L2 - 1
A42: Safety and Security Costs
A43: B. Overview Information | B43: B15 | C43: ='B. Overview Information'!B15 -> 0 | D43: L1 = L2 | E43: Overview tab references Company-wide tab
A44: C1-C2. Company-Wide Information | B44: E96 | C44: ='C1-C2. Company-Wide Information'!E96 -> 0 | D44: L2
A45: C3. Safety & Security Measures | B45: L28 | C45: ='C3. Safety & Security Measures'!L28 -> 0 | D45: L3
A46: Difference C1-C2, C3 | C46: =C45-C44 -> 0 | D46: L4 = L3 - L2
A47: Percent Difference | C47: =C45/C44-1 -> #DIV/0! | D47: L5 = L3 / L2 - 1
A49: Total Revenue (minus Other)
A50: B. Overview Information | B50: Sum(B16:B17) | C50: =SUM('B. Overview Information'!B17:B18) -> 0 | D50: L1 = L2 | E50: Overview tab references Company-wide tab
A51: C1-C2. Company-Wide Information | B51: B4 - F4 | C51: ='C1-C2. Company-Wide Information'!B4-'C1-C2. Company-Wide Information'!G4 -> 0 | D51: L2 | E51: Company-Wide minus Other Products and Services
...

Sheet A. General Information
A1: Appendix B
A2: Incarcerated People's Communications Services 2026 Mandatory Data Collection Excel Template
A3: WC Docket Nos. 23-62, 12-375
A4: FCC Form 2303(a)
A5: OMB Control No. 3060-1314 / Not approved by OMB
A6: Estimated Time Per Response: 160 Hours
A8: A. General Company Information
A9: (1) Company Name
A10: (2) Accounting Entity
A11: (3) Contact Person Information
A12: Name
A13: Title
... A28: (10d) List each non-IPCS-related product or service, if any, that each type of asset supported.

Sheet B. Overview Information
A1: B. Overview Information for 2025
A2: (1) Company Name
A3: (2a) Number of Facilities
A4: (2b) Number of Prisons
A5: (2c) Number of Jails with ADP of 1,000 and above
A6: (2d) Number of Jails with ADP between or equal to 350 - 999
A7: (2e) Number of Jails with ADP between or equal to 100 - 349
A8: (2f) Number of Jails with ADP between or equal to 50 - 99
A9: (2g) Number of Jails with ADP between or equal to 0 - 49
A10: (2h) Number of Contracts
A11: (2i) Number of Prison Contracts
A12: (2j) Number of Jail Contracts
A13: (3a) Annual Total Expenses for Audio IPCS | B13: ='C1-C2. Company-Wide Information'!C96 -> 0
A14: (3b) Annual Total Expenses for Video IPCS | B14: ='C1-C2. Company-Wide Information'!D96 -> 0
A15: (3c) Annual Total Expenses for Safety and Security Measures | B15: ='C1-C2. Company-Wide Information'!E96 -> 0
A16: (3d) Annual Total Expenses for IPCS-related Payment Processing Services | B16: ='C1-C2. Company-Wide Information'!F96 -> 0
A17: (4a) Billed Revenues from Audio IPCS | B17: ='C1-C2. Company-Wide Information'!C4 -> 0
A18: (4b) Billed Revenues from Video IPCS | B18: ='C1-C2. Company-Wide Information'!D4 -> 0
A19: (4c) Billed Revenues from Safety and Security Measures | B19: ='C1-C2. Company-Wide Information'!E4 -> 0
A20: (5a) Total IPCS- and Non-IPCS-Related Site Commissions | B20: ='C1-C2. Company-Wide Information'!B57 + 'C1-C2. Company-Wide Information'!B85 -> 0
A21: (5)(a)(i) Total IPCS-Related Monetary Site Commissions
A22: (5)(a)(ii) Total IPCS-Related In-Kind Site Commissions
A23: (6a) Total Monetary Payments to Facilities Excluding Site Commissions
A24: (6b) Total In-Kind Payments to Facilities Excluding Site Commissions

Sheet C1-C2. Company-Wide Information
A1: Company-Wide and Service Specific Financial Information for 2025
B2: Company Wide | C2: Services
C3: Audio IPCS | D3: Video IPCS | E3: Safety and Security Measures | F3: IPCS-related Payment Processing Services | G3: Other Products and Services
A4: Total Billed Revenues | F4: N/A
A5: Investments and Expenses
A6: Capital Assets:
A7: Tangible Assets
A8: Gross Investment | F8: N/A
A9: Accumulated Depreciation | F9: N/A
A10: Net Investment [row 8 - row 9] | B10: =B8-B9 -> 0 | C10: =C8-C9 -> 0 | D10: =D8-D9 -> 0 | E10: =E8-E9 -> 0 | F10: N/A | G10: =G8-G9 -> 0
A11: Capitalized Research and Development
A12: Gross Investment | F12: N/A
A13: Accumulated Amortization | F13: N/A
A14: Net Investment [row 12 - row 13] | B14: =B12-B13 -> 0 | C14: =C12-C13 -> 0 | D14: =D12-D13 -> 0 | E14: =E12-E13 -> 0 | F14: N/A | G14: =G12-G13 -> 0
A15: Purchased Software
A16: Gross Investment | F16: N/A
A17: Accumulated Amortization | F17: N/A
A18: Net Investment [row 16 - row 17] | B18: =B16-B17 -> 0 | C18: =C16-C17 -> 0 | D18: =D16-D17 -> 0 | E18: =E16-E17 -> 0 | F18: N/A | G18: =G16-G17 -> 0
A19: Internally Developed Software
A20: Gross Investment | F20: N/A
A21: Accumulated Amortization | F21: N/A
A22: Net Investment [row 20 - row 21] | B22: =B20-B21 -> 0 | C22: =C20-C21 -> 0 | D22: =D20-D21 -> 0 | E22: =E20-E21 -> 0 | F22: N/A | G22: =G20-G21 -> 0
A23: Trademarks
A24: Gross Investment | F24: N/A
A25: Accumulated Amortization | F25: N/A
A26: Net Investment [row 24 - row 25] | B26: =B24-B25 -> 0 | C26: =C24-C25 -> 0 | D26: =D24-D25 -> 0 | E26: =E24-E25 -> 0 | F26: N/A | G26: =G24-G25 -> 0
A27: Capitalized Site Commissions
A28: Gross Investment | C28: N/A | D28: N/A | E28: N/A | F28: N/A | G28: N/A
A29: Accumulated Amortization | C29: N/A | D29: N/A | E29: N/A | F29: N/A | G29: N/A
A30: Net Investment [row 28 - row 29] | B30: =B28-B29 -> 0 | C30: N/A | D30: N/A | E30: N/A | F30: N/A | G30: N/A
A31: Capitalized Payments to Facilities Excluding Site Commissions
A32: Gross Investment | C32: N/A | D32: N/A | E32: N/A | F32: N/A | G32: N/A
A33: Accumulated Amortization | C33: N/A | D33: N/A | E33: N/A | F33: N/A | G33: N/A
A34: Net Investment [row 32 - row 33] | B34: =B32-B33 -> 0 | C34: N/A | D34: N/A | E34: N/A | F34: N/A | G34: N/A
A35: Other Identifiable Intangible Assets
A36: Gross Investment | F36: N/A
A37: Accumulated Amortization | F37: N/A
A38: Net Investment [row 36 - row 37] | B38: =B36-B37 -> 0 | C38: =C36-C37 -> 0 | D38: =D36-D37 -> 0 | E38: =E36-E37 -> 0 | F38: N/A | G38: =G36-G37 -> 0
A39: Goodwill
A40: Gross Investment | F40: N/A
...

Sheet C3. Safety & Security Measures
A1: a. Company-Wide and b. Service-Specific Costs of Provider's Safety and Security Measures for 2025
A4: 1. Annual Total Expenses of Providing Safety and Security Measures [C1. Company-Wide Information, E96] | B4: ='C1-C2. Company-Wide Information'!E96 -> 0
A6: Safety and Security Measure | B6: Safety and Security Measure Categories (one or more of 1, 2, 3, 4, 5, 6, 7) | C6: Percentage of Annual Total Expenses of Providing Safety and Security Measures (%) | D6: Safety and Security Measure Expenses ($) | E6: Percentage of Safety and Security Measure Expenses Attributable to Audio IPCS (%) | F6: Percentage of Safety and Security Measure Expenses Attributable to Video IPCS (%) | G6: Percentage of Safety and Security Measure Expenses Attributable to Other Products and Services (%) | H6: Total of the Percentages Attributed to Services (%) | I6: Safety and Security Measure Expenses Attributable to Audio IPCS ($) | J6: Safety and Security Measure Expenses Attributable to Video IPCS ($) | K6: Safety and Security Measure Expenses Attributable to Other Products and Services ($) | L6: Total of Safety and Security Measure Expenses Attributed to Services ($)
A7: Input | B7: Input | C7: Input | D7: C*B4 | E7: Input | F7: Input | G7: Input | H7: E + F + G | I7: D*E | J7: D*F | K7: D*G | L7: I + J + K
D8: =C8*$B$4 -> 0 | H8: =SUM(E8:G8) -> 0 | I8: =$D8*E8 -> 0 | J8: =$D8*F8 -> 0 | K8: =$D8*G8 -> 0 | L8: =SUM(I8:K8) -> 0
D9: =C9*$B$4 -> 0 | H9: =SUM(E9:G9) -> 0 | I9: =$D9*E9 -> 0 | J9: =$D9*F9 -> 0 | K9: =$D9*G9 -> 0 | L9: =SUM(I9:K9) -> 0
D10: =C10*$B$4 -> 0 | H10: =SUM(E10:G10) -> 0 | I10: =$D10*E10 -> 0 | J10: =$D10*F10 -> 0 | K10: =$D10*G10 -> 0 | L10: =SUM(I10:K10) -> 0
D11: =C11*$B$4 -> 0 | H11: =SUM(E11:G11) -> 0 | I11: =$D11*E11 -> 0 | J11: =$D11*F11 -> 0 | K11: =$D11*G11 -> 0 | L11: =SUM(I11:K11) -> 0
D12: =C12*$B$4 -> 0 | H12: =SUM(E12:G12) -> 0 | I12: =$D12*E12 -> 0 | J12: =$D12*F12 -> 0 | K12: =$D12*G12 -> 0 | L12: =SUM(I12:K12) -> 0
D13: =C13*$B$4 -> 0 | H13: =SUM(E13:G13) -> 0 | I13: =$D13*E13 -> 0 | J13: =$D13*F13 -> 0 | K13: =$D13*G13 -> 0 | L13: =SUM(I13:K13) -> 0
D14: =C14*$B$4 -> 0 | H14: =SUM(E14:G14) -> 0 | I14: =$D14*E14 -> 0 | J14: =$D14*F14 -> 0 | K14: =$D14*G14 -> 0 | L14: =SUM(I14:K14) -> 0
D15: =C15*$B$4 -> 0 | H15: =SUM(E15:G15) -> 0 | I15: =$D15*E15 -> 0 | J15: =$D15*F15 -> 0 | K15: =$D15*G15 -> 0 | L15: =SUM(I15:K15) -> 0
D16: =C16*$B$4 -> 0 | H16: =SUM(E16:G16) -> 0 | I16: =$D16*E16 -> 0 | J16: =$D16*F16 -> 0 | K16: =$D16*G16 -> 0 | L16: =SUM(I16:K16) -> 0
D17: =C17*$B$4 -> 0 | H17: =SUM(E17:G17) -> 0 | I17: =$D17*E17 -> 0 | J17: =$D17*F17 -> 0 | K17: =$D17*G17 -> 0 | L17: =SUM(I17:K17) -> 0
D18: =C18*$B$4 -> 0 | H18: =SUM(E18:G18) -> 0 | I18: =$D18*E18 -> 0 | J18: =$D18*F18 -> 0 | K18: =$D18*G18 -> 0 | L18: =SUM(I18:K18) -> 0
D19: =C19*$B$4 -> 0 | H19: =SUM(E19:G19) -> 0 | I19: =$D19*E19 -> 0 | J19: =$D19*F19 -> 0 | K19: =$D19*G19 -> 0 | L19: =SUM(I19:K19) -> 0
... D27: =C27*$B$4 -> 0 | H27: =SUM(E27:G27) -> 0 | I27: =$D27*E27 -> 0 | J27: =$D27*F27 -> 0 | K27: =$D27*G27 -> 0 | L27: =SUM(I27:K27) -> 0
A28: Total [sum of rows 8-27] | C28: =SUM(C8:C27) -> 0 | D28: =SUM(D8:D27) -> 0 | I28: =SUM(I8:I27) -> 0 | J28: =SUM(J8:J27) -> 0 | K28: =SUM(K8:K27) -> 0 | L28: =SUM(L8:L27) -> 0

Sheet D1. Facility Audio IPCS Costs
A1: D1. Facility-Specific Audio IPCS Costs For 2025
A2: a. General Information
A3: (1) Unique Contract Identifier
A4: (2) Unique Facility Identifier | G4: Total | H4: =COUNTIF(B4:F4, "<>0") -> 5 | I4: Count
A5: (3) Contractor Name
A6: (4) Subcontractor Name
A7: (5) Counterparty to Contract
A8: (6)(a) Facility Street Number and Street Name
A9: (6)(b) Facility Building Identifier (if any)
A10: (6)(c) Facility City
A11: (6)(d) Facility State
A12: (6)(e) Facility Zip Code
A13: (7) Facility Type (Jail (J) or Prison (P))
A14: (8) Maximum Audio Communication Duration
A15: b. Cost Allocation Results
A16: 1. Capital Assets:
... A19: (b) Accumulated Depreciation
A20: (d) Net Investment [row 18 - row 19] | B20: =B18-B19 -> 0 | C20: =C18-C19 -> 0 | D20: =D18-D19 -> 0 | E20: =E18-E19 -> 0 | F20: =F18-F19 -> 0
A21: (ii) Capitalized Research and Development
A22: (a) Gross Investment
A23: (c) Accumulated Amortization
A24: (d) Net Investment [row 22 - row 23] | B24: =B22-B23 -> 0 | C24: =C22-C23 -> 0 | D24: =D22-D23 -> 0 | E24: =E22-E23 -> 0 | F24: =F22-F23 -> 0
A25: (iii) Purchased Software
A26: (a) Gross Investment
A27: (c) Accumulated Amortization
A28: (d) Net Investment [row 26 - row 27] | B28: =B26-B27 -> 0 | C28: =C26-C27 -> 0 | D28: =D26-D27 -> 0 | E28: =E26-E27 -> 0 | F28: =F26-F27 -> 0
A29: (iv) Internally Developed Software
A30: (a) Gross Investment
A31: (c) Accumulated Amortization
A32: (d) Net Investment [row 30 - row 31] | B32: =B30-B31 -> 0 | C32: =C30-C31 -> 0 | D32: =D30-D31 -> 0 | E32: =E30-E31 -> 0 | F32: =F30-F31 -> 0
A33: (v) Trademarks
A34: (a) Gross Investment
A35: (c) Accumulated Amortization
A36: (d) Net Investment [row 34 - row 35] | B36: =B34-B35 -> 0 | C36: =C34-C35 -> 0 | D36: =D34-D35 -> 0 | E36: =E34-E35 -> 0 | F36: =F34-F35 -> 0
A37: Capitalized Site Commissions
A38: Gross Investment | B38: N/A | C38: N/A | D38: N/A | E38: N/A | F38: N/A
A39: Accumulated Amortization | B39: N/A | C39: N/A | D39: N/A | E39: N/A | F39: N/A
A40: Net Investment | B40: N/A | C40: N/A | D40: N/A | E40: N/A | F40: N/A
A41: Capitalized Payments to Facilities Excluding Site Commissions
A42: Gross Investment | B42: N/A | C42: N/A | D42: N/A | E42: N/A | F42: N/A
...

Sheet D1. Facility Video IPCS Costs
A1: D1. Facility-Specific Video IPCS Costs For 2025
A2: a. General Information
A3: (1) Unique Contract Identifier
A4: (2) Unique Facility Identifier | G4: Total | H4: =COUNTIF(B4:F4, "<>0") -> 5 | I4: Count
A5: (3) Contractor Name
A6: (4) Subcontractor Name
A7: (5) Counterparty to Contract
A8: (6)(a) Facility Street Number and Street Name
A9: (6)(b) Facility Building Identifier (if any)
A10: (6)(c) Facility City
A11: (6)(d) Facility State
A12: (6)(e) Facility Zip Code
A13: (7) Facility Type (Jail (J) or Prison (P))
A14: (8) Maximum Video Communication Duration
A15: b. Cost Allocation Results
A16: 1. Capital Assets:
... A19: (b) Accumulated Depreciation
A20: (d) Net Investment [row 18 - row 19] | B20: =B18-B19 -> 0 | C20: =C18-C19 -> 0 | D20: =D18-D19 -> 0 | E20: =E18-E19 -> 0 | F20: =F18-F19 -> 0
A21: (ii) Capitalized Research and Development
A22: (a) Gross Investment
A23: (c) Accumulated Amortization
A24: (d) Net Investment [row 21 - row 23] | B24: =B22-B23 -> 0 | C24: =C22-C23 -> 0 | D24: =D22-D23 -> 0 | E24: =E22-E23 -> 0 | F24: =F22-F23 -> 0
A25: (iii) Purchased Software
A26: (a) Gross Investment
A27: (c) Accumulated Amortization
A28: (d) Net Investment [row 26 - row 27] | B28: =B26-B27 -> 0 | C28: =C26-C27 -> 0 | D28: =D26-D27 -> 0 | E28: =E26-E27 -> 0 | F28: =F26-F27 -> 0
A29: (iv) Internally Developed Software
A30: (a) Gross Investment
A31: (c) Accumulated Amortization
A32: (d) Net Investment [row 30 - row 31] | B32: =B30-B31 -> 0 | C32: =C30-C31 -> 0 | D32: =D30-D31 -> 0 | E32: =E30-E31 -> 0 | F32: =F30-F31 -> 0
A33: (v) Trademarks
A34: (a) Gross Investment
A35: (c) Accumulated Amortization
A36: (d) Net Investment [row 34 - row 35] | B36: =B34-B35 -> 0 | C36: =C34-C35 -> 0 | D36: =D34-D35 -> 0 | E36: =E34-E35 -> 0 | F36: =F34-F35 -> 0
A37: Capitalized Site Commissions
A38: Gross Investment | B38: N/A | C38: N/A | D38: N/A | E38: N/A | F38: N/A
A39: Accumulated Amortization | B39: N/A | C39: N/A | D39: N/A | E39: N/A | F39: N/A
A40: Net Investment | B40: N/A | C40: N/A | D40: N/A | E40: N/A | F40: N/A
A41: Capitalized Payments to Facilities Excluding Site Commissions
A42: Gross Investment | B42: N/A | C42: N/A | D42: N/A | E42: N/A | F42: N/A
...

Sheet D1. Facility Demand and Revenue
A1: D1. Facility-Specific Demand and Revenue Data for 2025 Enter Unique Contract Identifier for Facility in this row
A2: d. Facility-specific Demand and Revenue Data Enter Unique Facility Identifier in this row | G2: Total 2025 | H2: =COUNTIF(B2:F2, "<>0") -> 5 | I2: Count
A3: (1) Annual Demand for IPCS
A4: (a) Total Billed Communications for Audio IPCS
A5: (b) Total Unbilled Communications for Audio IPCS
A6: (c) Total Billed and Unbilled Communications for Audio IPCS
A7: (d) Total Billed Minutes for Audio IPCS
A8: (e) Total Unbilled Minutes for Audio IPCS
A9: (f) Total Billed and Unbilled Minutes for Audio IPCS
A10: (g) Total Billed Communications for Video IPCS
A11: (h) Total Unbilled Communications for Video IPCS
A12: (i) Total Billed and Unbilled Communications for Video IPCS
A13: (j) Total Billed Minutes for Video IPCS
A14: (k) Total Unbilled Minutes for Video IPCS
... A24: (3) Annual Revenues from IPCS
A25: (a) Total Billed Revenues from Audio IPCS | G25: =SUM(B25:F25) -> 0
A26: (b) Total Billed Revenues from Video IPCS | G26: =SUM(B26:F26) -> 0

Sheet FCC Notice
A1: FCC NOTICE REQUIRED BY THE PAPERWORK REDUCTION ACT
A3: We have estimated that each IPCS provider’s response to Form 2303(a) (consisting of Word and Excel Templates) will take 160 hours on average. Our estimate includes the time to read the instructions, look through existing records, gather and maintain the required data, and complete and review the form. It also includes the time it will take each provider to: (a) submit audited financial statements or reports, or similar documentation, for 2025, to the extent they have been produced in the ordinary course of business; (b) respond to any Commission requirement that the provider clarify or supplement its response to the data collection; and (c) keep all records necessary to implement this collection and make such records available to the Commission upon request. If you have any comments on this estimate, or on how we can improve the collection and reduce the burden it causes you, please write the Federal Communications Commission, AMD-PPM, Washington, DC 20554, Paperwork Reduction Project (3060-1314). We will also accept your comments via the Internet if you send them to pra@fcc.gov. Please DO NOT SEND COMPLETED APPLICATIONS TO THIS ADDRESS. Remember—you are not required to respond to a collection of information sponsored by the Federal government, and the government may not conduct or sponsor this collection, unless it displays a currently valid OMB control number or if we fail to provide you with this notice. This collection has been assigned an OMB Control Number of 3060-1314.
A5: THE FOREGOING NOTICE IS REQUIRED BY THE PAPERWORK REDUCTION ACT OF 1995, P.L. 104-13, OCTOBER 1, 1995, 44 U.S.C. 3507.
